{"text_format":"1","workbook":"xlsx","n_sheets":24,"sheets":["Title Page","Index","INPUT","OUTPUT","Critical Design Assumptions","O&M Assumptions","Indirect Assumptions","Bioreactor Constraints","Chemicals","Biomass Control","Post-Treatment","Pumps Pipe Structure","Instrumentation and Control","Residuals Management","O&M","HVAC","Indirect","Standard Inputs","AutoSize","Cost Equations","Cost Coefficients","Cost Data","Engineering Data","Lookup Tables"],"not_rendered":{"charts":0,"images":0,"macros":1,"external_links":0,"defined_names":1830,"comments":15,"pivot_tables":0},"unopened":[],"bounds":{"document_bytes":16777216,"sheet_cells":100000,"rows_first":2000,"rows_last":500,"rows_between":2000,"halvings":0,"cell_chars":16384,"cell_head_chars":4096},"cells_cut":0,"cells_raw":0,"read":"whole","date_system":"1900"}

{"sheet":"Title Page","index":0,"n_rows":15,"n_cols":1,"rows_kept":15,"cut":false,"hidden":false,"merged":[]}
["U.S. EPA Office of Ground Water and Drinking Water"]
["Work Breakdown Structure (WBS) Model for Biological Drinking Water Treatment"]
["Release Date: June 30, 2019"]
["· The primary purpose of this model is to assist EPA in estimating national compliance costs."]
["· As such, the costs are intended to be representative of typical facilities."]
["· The default settings, however, do not account for all of the site-specific factors that could affect the cost of any given individual facility or project."]
["· Still, other uses of the model might be reasonable if sufficient care is taken by the user to account for site- or project-specific factors."]
["· The model results are point estimates shown to the nearest $1, but this precision is not meant to imply that the results are accurate to $1."]
["· Instead, users should review all documentation, modify inputs/assumptions as appropriate to their specific purpose, and form their own informed opinions about the accuracy and suitability of the results."]
["· Use of this model requires Excel 2007 or later."]
["· The model should be opened as Read-only, so that any changes you make are saved under a new file name."]
["· To function properly, macros (\"active content\") must be enabled. If a security warning appears, click \"options\" and \"enable this content.\""]
["· For further information see the following document distributed with this file:"]
["USEPA. 2019. Work Breakdown Structure-Based Cost Model for Biological Drinking Water Treatment. Office of Water."]
["· To begin using the model, go to the INPUT sheet."]

{"sheet":"Index","index":1,"n_rows":404,"n_cols":2,"rows_kept":404,"cut":false,"hidden":false,"merged":[]}
["INDEX"]
["This page provides an index to all user-adjustable inputs and assumptions.  Click on a variable name to go directly to the adjustable cells."]
[]
["User-adjustable Input or Assumption","Variable Name and Link"]
["Access space per pump for custom designed systems","space_pumps_cust"]
["Access space per pump for pre-engineered packages","space_pumps_pre"]
["Acetic Acid density","CH3NOOH_dens"]
["Acetic Acid solution strength","CH3NOOH_strength"]
["Add a redundant bioreactor per x parallel lines (Fixed bed designs only)","redund_freq"]
["Add ferric chloride to holding tank?","coag_res"]
["Add polymer to holding tank?","polymer_res"]
["Additional blower head above water level","add_blow_head"]
["Additional building after…","add_2nd_building"]
["Additional freeboard","sec_cont_freeboard"]
["Additional sampling ports","add_ports"]
["Additional turbididy meters","add_turb"]
["Administrative LOE as a percent of average technical labor ","Clerical_percent"]
["Aeration Rate","rate_aeration"]
["Aeration Tank Residence Time","hrt_aeration"]
["Air conditioning EER","EER"]
["Air scour time","air_scour_time"]
["Air scour volume","air_scour_vol"]
["Always include NEPA compliance costs?","include_NEPA"]
["Ammonium Chloride density","NH4CL_dens"]
["Ammonium chloride dose","NH4Cl_dose_I"]
["Annual contactor materials cost as a percent of capital","Materials_pct"]
["Annual cooling degree days","cool_DD"]
["Annual heating degree days","heat_DD"]
["Anthracite density","anthracite_density"]
["Apply POTW discharge base charge (i.e., $/month)","POTW_base_fee"]
["Apply POTW discharge TSS charge (i.e., $/lb of TSS over limit below)","POTW_TSS_fee"]
["Apply POTW discharge volume charge (i.e., $/1000 gallons)","POTW_volume_fee"]
["Average annual pan evaporation rate","pan_evap"]
["Average annual precipitation","precip"]
["Average Flow (including bypass)","average_flow_I"]
["Backwash pump head","back_pump_head"]
["Backwash pumping","no_backwash_I"]
["Backwash storage","no_back_tank_I"]
["Basin excavation depth above which deeper boreholes are needed","deep_bore_need"]
["Basin freeboard above filter media at full expansion","basin_freeboard"]
["Basin freeboard above filter media at full expansion","filt_freeboard"]
["Bed Depth for Filtration < 0.1 MGD","bed_depth_filt_small"]
["Bed Depth for Filtration > 10 MGD","bed_depth_filt_large"]
["Bed Depth for Filtration 0.1 MGD-10 MGD","bed_depth_filt"]
["Bed expansion during backwash","bed_expansion"]
["Bed expansion during backwash","filt_bed_expansion"]
["Bedding depth below pipe","bedding_depth"]
["Bedding depth surrounding the pipe","bedding_pct"]
["Biomass generation","biomass_I"]
["Biomass Seperator Air Scour Volume for fluidized beds","biomass_air_scour"]
["Bioreactor backwash time","backwash_time"]
["Bioreactor Fixed Bed Gravity Contact Basins Bed depth","basin_op_depth"]
["Bioreactor Fixed Bed Gravity Contact Basins length","basin_length"]
["Bioreactor Fixed Bed Gravity Contact Basins width","basin_width"]
["Bioreactor Pressure Vessels Bed depth","bed_depth"]
["Bioreactor Pressure Vessels Diameter","comm_diam"]
["Bioreactor Pressure Vessels geometry","tank_geom_I"]
["Bioreactor Pressure Vessels Height (straight)","comm_height_length"]
["Bioreactor water backwash rate","h2oflush_backwash_rate"]
["Blower efficiency","blower_effcy"]
["Booster Pump efficiency","booster_pump_efficiency"]
["Borehole depth (pressure systems)","bore_depth_p"]
["Borehole depth for deep basins","bore_depth_max"]
["Borehole depth for shallow basins","bore_depth_min"]
["Borehole needed every x square feet","hole_per_sf"]
["Boreholes per job","hole_per_job"]
["Builder's risk insurance percentage","br_ins_pct"]
["Characteristics of holding tank or evaporation pond solids","solids_haz_I"]
["Chemical resistant coating coverage","sec_cont_coating_cvg"]
["Chemical tank mixer horsepower","cmix_hp_per"]
["City Index","city_index"]
["Clean holding tanks/basins when solids accumulation =x% of capacity","htank_clean_pct"]
["Clearance space beneath the ceiling","ceiling_clearance"]
["Climate for estimating evaporation pond greenhouse gas emissions","GHG_pond_climate"]
["Coagulant bulk density","coag_density_filt"]
["Coagulant dosage prior to post-treatment filtration","coag_dose_filt"]
["Coagulant mix tank mixer horsepower","mix_hp_per"]
["Coagulant mix time prior to filtration","coag_mix_time"]
["Coefficient of passive pressure","Coeff_Kp"]
["Component level","component_level_I"]
["Computer workstations per x operators","workstation_ratio"]
["Concrete pad thickness","pad_thick"]
["Concrete pad thickness for small systems","pad_thick_small"]
["Concrete thickness for storage basins","conc_thick"]
["Cooling table for buildings 500 square feet or greater","cooling_table"]
["Cooling table for buildings less than 500 ft2","cooling_table_shed"]
["Cooling ventilation/infiltration load","cool_viload"]
["Cost estimating method","curve"]
["Cost for parts & maintenance for pumps and blowers","booster_pump_maintenance"]
["Days of chemical storage for all other chemicals","chem_storage"]
["Days of chemical storage for H2O2","H2O2_days"]
["Days of coagulant storage","cstore_days"]
["Days of winter (i.e., days of storage during periods with no net evaporation)","winter_days"]
["Default number of residuals basins","hbasins_default"]
["Default number of thickener basins","thick_basins_default"]
["Design Flow (including bypass)","design_flow_I"]
["Design safety factor for standby power","std_safety_factor"]
["Diluted concentration to be fed","H2O2_dilute_conc"]
["Discharge option for spent backwash","res_s2_opt_I"]
["Disposal method for non-hazardous secondary solids","solids_method"]
["Distance to discharge or recycle point","add_res_pipe_length"]
["Drive controllers per backwash pump and air scour blower","S_back_pump"]
["Drive controllers per booster pump","S_booster_pump"]
["Drive controllers per chemical  metering pump","S_cm_pump"]
["Drive controllers per eductor","S_eductor"]
["Drive controllers per feeder","S_feeder"]
["Drive controllers per mixer","S_mixer"]
["Drive controllers per recycle pump","S_recycle_pump"]
["Drive controllers per residuals pump","S_res_pump"]
["EBCT for Filtration","ebct_filt"]
["Electric resistance heating efficiency","resist_eff"]
["Electrical percentage","elect_pct"]
["Electron donor dose","e_donor_dose_I"]
["Electron donor type","e_donor_type_I"]
["Engineering percentage for large systems","eng_pct_large"]
["Engineering percentage for medium systems","eng_pct_medium"]
["Engineering percentage for small systems","eng_pct_small"]
["Ethanol density","ethanol_dens"]
["Ethernet modules","plc_ethernet "]
["Evaporation pond dike cross-sectional area","dike_xsection"]
["Evaporation pond freeboard","ep_freeboard"]
["Evaporation pond safety factor","ep_safety_factor"]
["Evaporation pond solids density","ep_solids_density"]
["Evaporation pond solids removal frequency","dredging_freq"]
["Evaporation ratio","evap_ratio"]
["Ferric chloride bulk density","coag_density"]
["Ferric chloride dosage for residuals","coag_dose"]
["Ferric chloride sludge production factor","coag_spf"]
["Filter backwash time","filter_backwash_time"]
["Filter loading rate maximum","load_max_filt"]
["Filter loading rate minimum","load_min_filt"]
["Filter water backwash rate","filter_h2oflush_backwash_rate"]
["Financing percentage","finance_pct"]
["Financing percentage for small systems","finance_pct_small"]
["Fire Buffer for Buildings","fire_buffer"]
["Flow meters for backwash line","tot_fm_back"]
["Flow meters for influent and effluent line","tot_fm_in"]
["Flow meters for process line per vessel","fm_proc"]
["Flow meters for residuals line","tot_fm_res"]
["Fraction of media anthracite","anthracite_fraction"]
["Fraction of media GAC","GAC_fraction"]
["Fraction of media garnet/ilmenite","garnet_fraction"]
["Fraction of media sand","sand_fraction"]
["Free board above media at full expansion (fixed bed designs)","free_board"]
["Freeboard above fully expanded media (Design < 1MGD)","freeboard_fluidized_small"]
["Freeboard above fully expanded media (Design > 1MGD)","freeboard_fluidized"]
["Frost depth","frost"]
["GAC bulk density","GAC_density"]
["Garnet density","garnet_density"]
["Head loss sensors per vessel","head_tank"]
["Heat pump cooling mode EER","hp_EER"]
["Heat pump heating coefficient of performance","COP"]
["Heating oil heat content","diesel_heat_content"]
["Heating table for buildings 500 square feet or greater","heating_table"]
["Heating table for buildings less than 500 ft2","heating_table_shed"]
["Heating ventilation/infiltration load","heat_viload"]
["High/Low alarm for backwash tank","alarm_back"]
["High/Low alarms for chemical tank","alarm_chem"]
["High/Low alarms per holding tank","alarm_res"]
["Holding basin depth to volume ratio","holding_ratio"]
["Holding basin freeboard","holding_freeboard"]
["Holding tank for spent backwash","res_s1_opt_I"]
["Holding tank/basin capacity safety factor","res_cap_factor"]
["Holding tank/basin mixer horsepower (if coagulant is used)","hmix_hp_per"]
["Holding tank/basin solids density","ht_solids_density"]
["Holding tank/basin solids transfer method","res_transfer_method"]
["Holding tank/basin suspended solids removal efficiency with coagulant","coag_TSSrem"]
["Holding tank/basin suspended solids removal efficiency without coagulant","htank_TSSrem"]
["Hours per media changeout","uloe_throwaway"]
["Hydrogen Peroxide Dose","H2O2_dose"]
["I/O port table","port_table"]
["Include a separate day tank if daily volume is x or greater","day_tank_needed"]
["Include air scour","air_scour_I"]
["Include architectural fee for small systems?","include_arch_small"]
["Include architectural fee?","include_arch"]
["Include buildings?","include_buildings_I"]
["Include concrete pad in total capital cost?","include_pad"]
["Include construction management cost for pre-engineered packages?","include_cm_pre"]
["Include construction management cost?","include_cm"]
["Include contingency costs for high cost systems?","include_conting_high"]
["Include contingency costs for low cost systems?","include_conting_low"]
["Include contingency costs for medium cost systems?","include_conting_medium"]
["Include cooling in standby power","need_cool"]
["Include geotechnical costs for high cost systems?","include_geo_high"]
["Include geotechnical costs for low cost systems?","include_geo_low"]
["Include geotechnical costs for medium cost systems?","include_geo_medium"]
["Include heating in standby power","need_heat"]
["Include HVAC?","include_HVAC_I"]
["Include land?","include_land_I"]
["Include mixers for chemical tanks","include_cmix"]
["Include performance bond cost?","include_bond"]
["Include permit costs?","include_permits"]
["Include pilot study costs?","include_pilot"]
["Include polishing filter","include_post_I"]
["Include secondary containment","include_sec_cont"]
["Include sitework costs?","include_sitework"]
["Include standby power costs for small systems?","include_standby_small"]
["Include standby power costs?","include_standby"]
["Include yard piping costs?","include_yardpipe"]
["Incude coagulant addition before filtration","include_coag_filt_I"]
["Influent dissolved oxygen concentration","O2_in"]
["Influent nitrate-nitrogen concentration","NO3_in"]
["Influent perchlorate concentration","ClO4_in"]
["Installation, Transportatation, and O&P percentage","inst_pct"]
["Instrumentation and control percentage","i_c_pct"]
["Interval between bioreactor backwashes","back_interval_I"]
["Interval between filter backwashes","filter_back_interval_I"]
["Labor hours per week for contact basins","Weekly_labor"]
["Legal percentage","legal_pct"]
["Level switch/ alarm to PLC","level_switch"]
["Level switch/ alarm to PLC for small systems","level_switch_small"]
["Level switch/alarms per bioreactoror","level_switch_g"]
["Level switch/alarms per bioreactoror for small systems","level_switch_small_g"]
["Lighting power per sf, high-quality buildings","lighting_power_high"]
["Lighting power per sf, low-quality buildings and sheds","lighting_power_low"]
["Lighting power per sf, mid-quality buildings","lighting_power_mid"]
["Linear feet bored per day","hole_per_day"]
["Loading rate maximum","load_max"]
["Loading rate minimum","load_min"]
["Maintenance LOE assumptions for chemical supply systems","uloe_chem_maint"]
["Maintenance LOE assumptions for instruments (includes calibration)","uloe_inst_maint"]
["Maintenance LOE assumptions for pumps","uloe_pump_maint"]
["Maintenance LOE assumptions for valves","uloe_valve_maint"]
["Mangerial LOE as a percent of average technical labor ","Manager_percent"]
["Maximum access space per vessel or tank for custom designed systems","max_space_vessels_cust"]
["Maximum access space per vessel or tank for pre-engineered systems","max_space_vessels_pre"]
["Maximum basin length","max_length_g"]
["Maximum basin width","max_width"]
["Maximum bed depth (gravity)","max_depth"]
["Maximum bed depth for autosize","max_bed_depth"]
["Maximum curb thickness","sec_cont_max_thick"]
["Maximum depth (thickening basin)","max_thick_depth"]
["Maximum evaporation pond cell area","max_ep_cell_area"]
["Maximum hazardous waste shipment size","max_haz_ship"]
["Maximum vessel diameter","max_diam_override"]
["Maximum vessel height (circular vessels)","max_height"]
["Maximum vessel length (longitudinal vessels)","max_length"]
["Media attrition during biomass removal air scour","fluid_media_loss_rate"]
["Media attrition during bioreactor backwash","media_loss_rate"]
["Media attrition during post-treatment filter backwash","filter_media_loss_rate"]
["Media Expansion when fluidized","bed_expansion_fluidized"]
["Mid-efficiency oil furnace efficiency","diesel_eff"]
["Miles to hazardous solid waste disposal site","haz_miles"]
["Miles to non-hazardous solid waste disposal site","non_haz_miles"]
["Minimum average flow as percentage of design","min_avg_flow"]
["Minimum basin length","min_length_g"]
["Minimum basin width","min_width"]
["Minimum bed depth (gravity)","min_depth"]
["Minimum bed depth for autosize","min_bed_depth"]
["Minimum chemical feed pump size","min_chem_flow"]
["Minimum chemical tank mixer horsepower","min_cmix_hp"]
["Minimum chemical tank mixer horsepower","min_hmix_hp"]
["Minimum coagulant tank mixer horsepower","min_mix_hp"]
["Minimum number of boreholes","min_holes"]
["Minimum number of pond cells","min_ep_cells"]
["Minimum residuals pipe diameter","min_res_pipe_size"]
["Minimum settling time when coagulant is used","res_coag_settle_time"]
["Minimum standby power generator size","min_standby"]
["Minimum trench depth to top of pipe","min_trench_depth"]
["Minutes per 100 sf per day","uloe_fp"]
["Minutes per backwash for automated systems","uloe_autoback"]
["Minutes per instrument per day","uloe_inst"]
["Minutes per pump per day","uloe_pump"]
["Minutes per valve per week","uloe_valve"]
["Miscellaneous allowance percentage","misc_pct"]
["Mobilization percentage for large systems","mob_pct_large"]
["Mobilization percentage for medium systems","mob_pct_medium"]
["Mobilization percentage for pre-engineered packages","mob_pct_pre"]
["Mobilization percentage for small systems","mob_pct_small"]
["Natural gas condensing furnace efficiency","gas_eff"]
["Natural gas non-condensing furnace efficiency","gas_non_eff"]
["Non fire Buffer for buildings","non_fire_buffer"]
["Number of booster pumps","lines_pump_I"]
["Number of check valves on backwash line if no backwash pumps","back_chv_no_back"]
["Number of check valves on backwash line per backwash pump","back_chv_pump"]
["Number of check valves on bypass line","tot_bp_chv"]
["Number of check valves on chemcial line per chemical pump","chem_chv_pump"]
["Number of check valves on influent line","tot_in_chv"]
["Number of check valves on nutrient feed line","tot_nutrient_chv"]
["Number of check valves on polymer line per metering pump","polymer_chv_pump"]
["Number of check valves on residuals line if no pumping","res_chv_no_pump"]
["Number of check valves on residuals line per residuals pump","res_chv_pump"]
["Number of CPUs","plc_cpu"]
["Number of electrical enclosures","elec_encl"]
["Number of manual valves on influent and effluent line","tot_man_valves"]
["Number of manual valves on process line per vessel","proc_man_vessel"]
["Number of mechanical ventilation days per year 2nd building (large system)","fan_days_build2_large"]
["Number of mechanical ventilation days per year 2nd building (medium system)","fan_days_build2_medium"]
["Number of mechanical ventilation days per year 2nd building (small system)","fan_days_build2_small"]
["Number of mechanical ventilation days per year first building (large system)","fan_days_build1_large"]
["Number of mechanical ventilation days per year first building (medium system)","fan_days_build1_medium"]
["Number of mechanical ventilation days per year first building (small system)","fan_days_build1_small"]
["Number of redundant bioreactor basins for large systems","NRD_basins_large"]
["Number of redundant bioreactor basins for medium systems","NRD_basins_medium"]
["Number of redundant bioreactor vessels for small systems with multiple vessels","NRD_small"]
["Number of redundant bioreactorvessels for small systems with only one vessel","NRD_small_1"]
["Number of redundant chemical metering pumps","NRD_cm_pump"]
["Number of redundant polishing filters for large systems","filt_NRD_basins_large"]
["Number of redundant polishing filters for medium systems","filt_NRD_basins_medium"]
["Number of redundant polishing filters for small systems with multiple vessels","filt_NRD_small"]
["Number of redundant polishing filters for small systems with only one vessel","filt_NRD_small_1"]
["Number of redundant units to be added","NRD_I"]
["Number of shifts","shifts_day"]
["Number of stair risers for storage basins","risers"]
["Number of static mixers for H2O2 addition","n_mixers"]
["Nutrient requirements","nutrient_option_I"]
["Office space per employee","space_office"]
["Office space per employee","space_office_small"]
["Online Dissolved Oxygen Analyzer","DO_analyzer"]
["Online Nitrate Analyzers (nitrate treatment only)","N_analyzer"]
["Online Perchlorate/Nitrate Analyzers (perchlorate treatment)","ClO4_analyzer"]
["Operator interfaces ","plc_interface"]
["ORP sensor","ORP_sensor"]
["Overexcavation for evaporation pond","ep_overexcavate"]
["Overexcavation for storage basins","overexcavate"]
["Percent grade of H2O2","H2O2_grade"]
["Percent of Total Flow that is Bypassed","bp_pct"]
["Percent solids removal in belt press","belt_press_removal"]
["Percent solids removal in thickener","thick_removal"]
["pH meters","pH_controls"]
["Phosphoric Acid density","H3PO4_dens"]
["Phosphoric acid dose","H3PO4_dose_I"]
["Phosphoric Acid solution strength","H3PO4_strength"]
["Pipe length from water source to the boundary of the 10 foot buffer","yard_in"]
["Pipe length the boundary of the 10 foot buffer to distribution network","yard_out"]
["Polishing Filter Gravity Contact Basin length","filt_basin_length"]
["Polishing Filter Gravity Contact Basin width","filt_basin_width"]
["Polishing Filter Gravity Contact Basins bed depth","filt_basin_op_depth"]
["Polishing Filter Pressure Vessel geometry","filt_tank_geom_I"]
["Polishing Filter Pressure Vessel height/length","filt_comm_height_length"]
["Polishing Filter Pressure Vessels Bed depth","filt_bed_depth"]
["Polishing Filter Pressure Vessels Diameter","filt_comm_diam"]
["Polishing filter type","filter_type_I"]
["Polymer dose","polymer_dose"]
["Polymer sludge production factor","polymer_spf"]
["Polymer solution density","polymer_density"]
["Post-treatment oxidation option","include_post_h2o2_I"]
["POTW rate structure","POTW_rate_type"]
["POTW TSS discharge limit (over which fee would be imposed)","POTW_TSS_limit"]
["Pressure drop across the fan","Fan_pressure_drop"]
["Printers per x computer workstations","printer_ratio"]
["Pump head for booster pumps","booster_pump_head"]
["Ratio of  length to diameter for horizontal vessels","length_diam_ratio"]
["Recording operating paramenters for automated systems","uloe_inst_auto"]
["Recycle % for fluidized beds","recycle_fluid"]
["Recycle Pump efficiency","recycle_pump_efficiency"]
["Recycle pump head","recycle_pump_head"]
["Reduction factor","Reduction"]
["Redundant backwash pumps","NRD_back_pumps"]
["Redundant blowers","NRD_blowers"]
["Redundant booster pumps","NRD_pumps"]
["Redundant recycle pumps","NRD_recycle_pumps"]
["Redundant residuals pumps","NRD_res_pump"]
["Residual solids storage height (for drying pad)","solids_storage_height"]
["Residuals pump head","res_pump_psi"]
["R-value for ceilings","R_ceiling"]
["R-value for walls","R_wall"]
["Safety factor for pumps","pump_safety_factor"]
["Sales tax percentage","tax_pct"]
["Sampling ports for blended effluent","ports_bp"]
["Sampling ports per vessel","ports_tank"]
["Soil density","soil_dens"]
["Solids treatment/storage","sed_sludge_method_I"]
["Specific gravity of H2O2 at the indicated grade","H2O2_sg"]
["Standard oil furnace efficiency","diesel_non_eff"]
["System automation","manual_I"]
["Target Bed Depth (Designs < 1MGD)","target_bed_depth_under"]
["Target Bed Depth (Designs > 1 MGD)","target_bed_depth_over"]
["Target Bed Depth (Gravity Designs < 1MGD)","target_bed_depth_under_g"]
["Target Bed Depth (Gravity Designs > 1 MGD)","target_bed_depth_over_g"]
["Target Fluidized Bed Depth (Designs < 1MGD)","target_bed_depth_under_fluid"]
["Target Fluidized Bed Depth (Designs > 1 MGD)","target_bed_depth_over_fluid"]
["Technology complexity factor","complexity"]
["Technology footprint above which boreholes are needed","bore_need"]
["Temperature meters","temp_meters"]
["Temperature meters for small systems","temp_meters_small"]
["Test pit depth","pit_depth"]
["Test pit length","pit_length"]
["Test pit width","pit_width"]
["Theoretical total empty bed contact time (EBCT)","ebct_I"]
["Thickening basin depth to volume target ratio","thickening_ratio"]
["Thickening basin freeboard","thickening_freeboard"]
["Thickening Time","thick_time"]
["Time to transfer holding tank/basin solids","transfer_time"]
["Top and bottom dished vessel sections height and access space ","Top_bottom_Vessel_space"]
["Trench inside angle","trench_angle"]
["TSS in system influent","influent_TSS"]
["TSS in treated water","effluent_TSS"]
["Turbidity meters per vessel","turb_tank"]
["Turbitity meters per filter","turb_tank_filt"]
["Turbitity meters per gravity bioreactoror","turb_tank_g"]
["Underdrain space for horizontal vessels","horiz_underdrain"]
["UPSs ","ups"]
["Valve table","valve_table"]
["Ventilation air change rate for chemical storage","Air_changes_chem_storage"]
["Ventilation air change rate for contactor","Air_changes_contactor"]
["Ventilation air change rate for offices","Air_changes_office"]
["Ventilation air change rate for pump room","Air_changes_pump"]
["Vessel thickness of wall","Vessel_thickness"]
["Volume required as a percentage of the largest tank","sec_cont_pct_of_largest"]
["Volume required as a percentage of total storage","sec_cont_pct_of_total"]
["Volume Tolerance, horizontal vessels","vol_tol_horiz"]
["Volume Tolerance, vertical vessels <1 mgd","vol_tol_vert_small"]
["Volume Tolerance, vertical vessels >1 mgd","vol_tol_vert_med"]

{"sheet":"INPUT","index":2,"n_rows":143,"n_cols":10,"rows_kept":143,"cut":false,"hidden":false,"merged":[[47,8,50,8],[93,4,93,7],[86,8,86,13],[17,6,19,7],[17,8,19,8],[74,4,74,7],[37,8,42,8],[121,8,121,13],[119,8,119,13],[117,8,117,12],[87,8,87,13],[118,8,118,13]]}
["BIOTREATMENT SYSTEM DESIGN AND COST INPUT"]
[null,null,null,null,"STEP 1"]
[null,null,null,null,"Select Target Contaminant",null,null,{"$f":"IF(contam<>3,\"\",\"For other contaminants, the buttons shown in Step 3 will enter flows only, and clear all other inputs. Advanced users can change this behavior by entering inputs on the Standard Inputs sheet\")","v":""}]
[]
[null,null,null,null,"STEP 2"]
[null,null,null,null,"Select Bioreactor Design Type"]
[]
[null,null,null,null,"STEP 3",null,null,{"$f":"IF(OR('Standard Inputs'!BA9,'Standard Inputs'!BA17,'Standard Inputs'!BA25,'Standard Inputs'!BA33,'Standard Inputs'!BA41,'Standard Inputs'!BA49,'Standard Inputs'!BA57,'Standard Inputs'!BA65,'Standard Inputs'!BA73),\"<- Using this design\",IF(OR('Standard Inputs'!BB9,'Standard Inputs'!BB17,'Standard Inputs'!BB25,'Standard Inputs'!BB33,'Standard Inputs'!BB41,'Standard Inputs'!BB49,'Standard Inputs'!BB57,'Standard Inputs'!BB65,'Standard Inputs'!BB73),\"<- You modified this design\",\"\"))","v":"<- Using this design"},"The standard design buttons are for EPA's use in estimating national costs, but other users might find them useful as a starting point. See documentation for more information"]
[null,null,null,null,"Select one of the eight standard designs at right OR select \"CLEAR FOR MANUAL ENTRY\"",null,null,{"$f":"IF(OR('Standard Inputs'!BA10,'Standard Inputs'!BA18,'Standard Inputs'!BA26,'Standard Inputs'!BA34,'Standard Inputs'!BA42,'Standard Inputs'!BA50,'Standard Inputs'!BA58,'Standard Inputs'!BA66,'Standard Inputs'!BA74),\"<- Using this design\",IF(OR('Standard Inputs'!BB10,'Standard Inputs'!BB18,'Standard Inputs'!BB26,'Standard Inputs'!BB34,'Standard Inputs'!BB42,'Standard Inputs'!BB50,'Standard Inputs'!BB58,'Standard Inputs'!BB66,'Standard Inputs'!BB74),\"<- You modified this design\",\"\"))","v":""}]
[null,null,null,null,null,null,null,{"$f":"IF(OR('Standard Inputs'!BA11,'Standard Inputs'!BA19,'Standard Inputs'!BA27,'Standard Inputs'!BA35,'Standard Inputs'!BA43,'Standard Inputs'!BA51,'Standard Inputs'!BA59,'Standard Inputs'!BA67,'Standard Inputs'!BA75),\"<- Using this design\",IF(OR('Standard Inputs'!BB11,'Standard Inputs'!BB19,'Standard Inputs'!BB27,'Standard Inputs'!BB35,'Standard Inputs'!BB43,'Standard Inputs'!BB51,'Standard Inputs'!BB59,'Standard Inputs'!BB67,'Standard Inputs'!BB75),\"<- You modified this design\",\"\"))","v":""}]
[null,null,null,null,null,null,null,{"$f":"IF(OR('Standard Inputs'!BA12,'Standard Inputs'!BA20,'Standard Inputs'!BA28,'Standard Inputs'!BA36,'Standard Inputs'!BA44,'Standard Inputs'!BA52,'Standard Inputs'!BA60,'Standard Inputs'!BA68,'Standard Inputs'!BA76),\"<- Using this design\",IF(OR('Standard Inputs'!BB12,'Standard Inputs'!BB20,'Standard Inputs'!BB28,'Standard Inputs'!BB36,'Standard Inputs'!BB44,'Standard Inputs'!BB52,'Standard Inputs'!BB60,'Standard Inputs'!BB68,'Standard Inputs'!BB76),\"<- You modified this design\",\"\"))","v":""}]
[null,null,null,null,null,null,null,{"$f":"IF(OR('Standard Inputs'!BA13,'Standard Inputs'!BA21,'Standard Inputs'!BA29,'Standard Inputs'!BA37,'Standard Inputs'!BA45,'Standard Inputs'!BA53,'Standard Inputs'!BA61,'Standard Inputs'!BA69,'Standard Inputs'!BA77),\"<- Using this design\",IF(OR('Standard Inputs'!BB13,'Standard Inputs'!BB21,'Standard Inputs'!BB29,'Standard Inputs'!BB37,'Standard Inputs'!BB45,'Standard Inputs'!BB53,'Standard Inputs'!BB61,'Standard Inputs'!BB69,'Standard Inputs'!BB77),\"<- You modified this design\",\"\"))","v":""}]
[null,null,null,null,null,null,null,{"$f":"IF(OR('Standard Inputs'!BA14,'Standard Inputs'!BA22,'Standard Inputs'!BA30,'Standard Inputs'!BA38,'Standard Inputs'!BA46,'Standard Inputs'!BA54,'Standard Inputs'!BA62,'Standard Inputs'!BA70,'Standard Inputs'!BA78),\"<- Using this design\",IF(OR('Standard Inputs'!BB14,'Standard Inputs'!BB22,'Standard Inputs'!BB30,'Standard Inputs'!BB38,'Standard Inputs'!BB46,'Standard Inputs'!BB54,'Standard Inputs'!BB62,'Standard Inputs'!BB70,'Standard Inputs'!BB78),\"<- You modified this design\",\"\"))","v":""}]
[null,null,null,null,null,null,null,{"$f":"IF(OR('Standard Inputs'!BA15,'Standard Inputs'!BA23,'Standard Inputs'!BA31,'Standard Inputs'!BA39,'Standard Inputs'!BA47,'Standard Inputs'!BA55,'Standard Inputs'!BA63,'Standard Inputs'!BA71,'Standard Inputs'!BA79),\"<- Using this design\",IF(OR('Standard Inputs'!BB15,'Standard Inputs'!BB23,'Standard Inputs'!BB31,'Standard Inputs'!BB39,'Standard Inputs'!BB47,'Standard Inputs'!BB55,'Standard Inputs'!BB63,'Standard Inputs'!BB71,'Standard Inputs'!BB79),\"<- You modified this design\",\"\"))","v":""}]
[null,null,null,null,null,null,null,{"$f":"IF(OR('Standard Inputs'!BA16,'Standard Inputs'!BA24,'Standard Inputs'!BA32,'Standard Inputs'!BA40,'Standard Inputs'!BA48,'Standard Inputs'!BA56,'Standard Inputs'!BA64,'Standard Inputs'!BA72,'Standard Inputs'!BA80),\"<- Using this design\",IF(OR('Standard Inputs'!BB16,'Standard Inputs'!BB24,'Standard Inputs'!BB32,'Standard Inputs'!BB40,'Standard Inputs'!BB48,'Standard Inputs'!BB56,'Standard Inputs'!BB64,'Standard Inputs'!BB72,'Standard Inputs'!BB80),\"<- You modified this design\",\"\"))","v":""}]
[null,null,null,null,null,null,null,{"$f":"IF(COUNTIF(H8:H15,\"\")=8,\"Using a manual design\",\"\")","v":""},{"$f":"IF(COUNTIF(H8:H15,\"\")=8,\"Fill in all gold cells below, then consider using AutoSize button\",\"\")","v":""}]
[]
[null,null,null,null,null,null,{"$f":"IF(input_complete,IF('Standard Inputs'!BA83,\"Input Complete -- Results Ready\",\"Input Complete--Press 'Generate Results'\"),\"Input Incomplete--Check for Error Messages Below\")","v":"Input Complete -- Results Ready"},null,{"$f":"IF(C19,\"\",\"Fill in all gold cells below. If errors persist, consider using AutoSize button.\")","v":""}]
[null,null,{"$f":"AND(C35:C142)","v":true},null,"(Optional for standard designs)"]
[null,null,null,null,"Enter or change values in the gold and blue cells below, under \"Manual Inputs\""]
[]
[null,null,null,null,"STEP 4:",null,null,null,"Results summary (see OUTPUT sheet for details)"]
[null,null,null,null,{"$f":"IF(G18=\"input complete -- results ready\",\"Results are ready (no need to click button)\",\"Click here to generate results -->\")","v":"Results are ready (no need to click button)"},null,null,null,{"$f":"\"Direct Capital Cost: \" & IF(input_status<>\"input complete -- results ready\",input_status,IF(Missing_Cost,\"Missing cost!\",IF(cost_buildup_error,\"Cost buildup error!\",IF(ISERROR(direct_cost),\"Calculation error!\",TEXT(direct_cost,\"$0,0\")))))","v":"Direct Capital Cost: $361,297"}]
[null,null,null,null,null,null,null,null,{"$f":"\"Total Capital Cost: \" & IF(input_status<>\"input complete -- results ready\",input_status,IF(Missing_Cost,\"Missing cost!\",IF(cost_buildup_error,\"Cost buildup error!\",IF(ISERROR(system_cost),\"Calculation error!\",TEXT(system_cost,\"$0,0\")))))","v":"Total Capital Cost: $662,727"}]
[null,null,null,null,null,null,null,null,{"$f":"\"Annualized Capital Cost: \"&IF(input_status<>\"Input Complete -- Results Ready\",input_status,IF(Missing_Cost,\"Missing Price!\",IF(cost_buildup_error,\"Cost buildup error!\",IF(ISERROR(Annualized_Capital_Cost),\"Calculation error!\",TEXT(Annualized_Capital_Cost,\"$0,0\")&\" per year\"&\" (over \"&useful_life&\" years at \"&Discount_rate*100&\"%)\"))))","v":"Annualized Capital Cost: $63,007 per year (over 19.7 years at 7%)"}]
[null,null,null,null,null,null,null,null,{"$f":"\"Annual O&M Cost: \"&IF(input_status<>\"input complete -- results ready\",input_status,IF(ISERROR(om_cost),\"Calculation error!\",TEXT(om_cost,\"$0,0\")&\" per year\"))","v":"Annual O&M Cost: $30,246 per year"}]
[null,null,null,null,"MANUAL INPUTS",null,null,null,{"$f":"\"Total Annualized Cost: \"&IF(input_status<>\"input complete -- results ready\",input_status,IF(Missing_Cost,\"Missing Price!\",IF(cost_buildup_error,\"Cost buildup error!\",IF(ISERROR(Annualized_Cost),\"Calculation error!\",TEXT(Annualized_Cost,\"$0,0\")&\" per year\"))))","v":"Total Annualized Cost: $93,253 per year"}]
[null,null,null,null,"Cells in gold are required; cells in blue are optional",null,null,null,{"$f":"IF(input_status=\"Input Incomplete -- check for error messages below\",\"\",IF(Missing_Cost,\"A price is not available for at least one required component. See Use? column on OUTPUT sheet.\",IF(cost_buildup_error,\"There is an Excel error in the price for at least one component. Please see the Use? column on OUTPUT sheet.\",\"\")))","v":""}]
[null,"Used?","Valid input?","Invalid reason?",null,null,null,"Select units"]
[null,null,null,null,"Design Flow (including bypass)","design_flow_I",0.03,"MGD"]
[null,null,null,null,"Average Flow (including bypass)","average_flow_I",7.0000000000000001E-3,"MGD"]
[]
[null,null,null,null,"Treatment system design flow",null,{"$f":"IF(ISERROR(design_flow),\"\",IF(df_units=\"gpm\",design_flow_rate, design_flow))","v":0.03},{"$f":"df_units","v":"MGD"}]
[null,null,null,null,"Bypass design flow",null,{"$f":"IF(ISERROR(design_flow),\"\",IF(df_units=\"gpm\",bp_flow_rate, bp_flow_rate*60*24/10^6))","v":0},{"$f":"df_units","v":"MGD"},{"$f":"\"Current bypass percentage is \"&TEXT(bp_pct,\"0%\")&\".  Go to Critical Design Assumptions to change this value.\"","v":"Current bypass percentage is 0%.  Go to Critical Design Assumptions to change this value."}]
[null,null,{"$f":"IF(OR(df_units=\"\",af_units=\"\"),FALSE,IF(OR(average_flow>design_flow,average_flow<design_flow*min_avg_flow),FALSE,IF(OR(design_flow_I=0,average_flow_I=0),FALSE,TRUE)))","v":true},{"$f":"IF(OR(df_units=\"\",af_units=\"\"),\"Choose units for design and average flow\",IF(average_flow>design_flow,\"The average flow should not be greater than the design flow\",IF(average_flow<design_flow*min_avg_flow,\"The average flow must be at least \" & min_avg_flow & \" times design flow\",IF(OR(design_flow_I=0,average_flow_I=0),\"Input incomplete\",\"OK\"))))","v":"OK"},null,null,null,{"$f":"IF(C35,\"System size inputs OK\",D35)","v":"System size inputs OK"},"Adjust bypass percentage"]
[]
[null,null,{"$f":"IF(e_donor_type_I=\"\",FALSE,TRUE)","v":true},null,"Electron donor type","e_donor_type_I","acetic acid","<-- pick one"]
[null,null,{"$f":"IF(e_donor_dose_I=\"\",FALSE,TRUE)","v":true},null,"Electron donor dose","e_donor_dose_I",10,"mg/L","Guidance: Electron donor dose and biomass accumilation is dependent on raw water conditions, and should be determined based upon pilot study.  Perchlorate treatment occurs after the removal of dissolved oxygen and nitrate. Doses typically increase as raw water temperature decreases, temperatures below 10 degrees Celsius are not considered suitable for biotreatment. Excess dose may result in formation of sulfides."]
[null,null,{"$f":"IF(biomass_I=\"\",FALSE,TRUE)","v":true},null,"Biomass generation","biomass_I",8,"mg/L"]
[null,{"$f":"OR(contam=1, contam=3)","v":true},null,null,"Influent perchlorate concentration","ClO4_in",null,"mg/L"]
[null,null,null,null,"Influent dissolved oxygen concentration","O2_in",null,"mg/L"]
[null,null,null,null,"Influent nitrate-nitrogen concentration","NO3_in",null,"mg/L as nitrogen"]
[null,null,null,null,"For information:"]
[null,null,null,null,{"$f":"IF(dose_calc,\"Theoretical calculated electron donor dose\",\"Enter influent chemical concentrations to see sample electron donor dose calculation\")","v":"Enter influent chemical concentrations to see sample electron donor dose calculation"},null,{"$f":"IF(dose_calc,IF(e_donor_type=1,acetic_dose_sample,ethanol_dose_sample),\"\")","v":""},{"$f":"IF(dose_calc, \"mg/l\",\"\")","v":""},"For comparison purposes only. Calculated based on site-specific equations developed in Harding 2001 and US DoD 2009."]
[null,null,null,null,{"$f":"IF(dose_calc,\"Theoretical calculated biomass generation rate\",\"Enter influent chemical concentrations to see sample biomass generation calculation\")","v":"Enter influent chemical concentrations to see sample biomass generation calculation"},null,{"$f":"IF(dose_calc,biomass_sample,\"\")","v":""},{"$f":"IF(dose_calc, \"mg/l\",\"\")","v":""}]
[null,null,{"$f":"IF(NOT(AND(C37:C39)),FALSE,TRUE)","v":true},{"$f":"IF(NOT(C46),\"Electron Donor Inputs Incomplete\",\"OK\")","v":"OK"},null,null,null,{"$f":"IF(C46,\"Electron Donor inputs OK\",D46)","v":"Electron Donor inputs OK"}]
[]
[null,null,{"$f":"IF(nutrient_option_I=\"\",FALSE,TRUE)","v":true},null,"Nutrient requirements","nutrient_option_I","additional phosphorous required","<-- pick one","Guidance: Perchlorate & nitrate reducing bacteria require nutrients to thrive. Source waters typically have sufficient nitrogen but insufficient phosphorus.  Source water sampling and pilot studies should be used to determine if additional nutrients are necessary."]
[null,{"$f":"OR(nutrient_option=2,nutrient_option=4)","v":false},{"$f":"IF(B49,NOT(NH4Cl_dose_I=\"\"),TRUE)","v":true},null,"Ammonium chloride dose","NH4Cl_dose_I",null,"mg/L"]
[null,{"$f":"OR(nutrient_option=3,nutrient_option=4)","v":true},{"$f":"IF(B50,NOT(H3PO4_dose_I=\"\"),TRUE)","v":true},null,"Phosphoric acid dose","H3PO4_dose_I",1,"mg/L as phosphorus"]
[null,null,{"$f":"IF(NOT(AND(C48:C50)),FALSE,TRUE)","v":true},{"$f":"IF(NOT(C51),\"Nutrient Options Incomplete, Check dosing\",\"OK\")","v":"OK"},null,null,null,{"$f":"IF(C51,\"Nutrient inputs OK\",D51)","v":"Nutrient inputs OK"}]
[]
[null,null,{"$f":"IF(ebct_I=\"\",FALSE,TRUE)","v":true},{"$f":"IF(ebct_I=\"\",\"EBCT Inputs Incomplete\",\"OK\")","v":"OK"},{"$f":"IF(design_type=3,\"Hydraulic residence time (HRT)\",\"Theoretical total empty bed contact time (EBCT)\")","v":"Theoretical total empty bed contact time (EBCT)"},"ebct_I",12,"minutes",{"$f":"IF(contam=1,\"Guidance: Typically in the range of 10-12 minutes for perchlorate treatment\",IF(contam=2,\"Guidance: Typically in the range of 7-10 minutes for nitrate treatment\",\"\"))","v":"Guidance: Typically in the range of 10-12 minutes for perchlorate treatment"}]
[null,null,null,null,null,null,null,{"$f":"IF(C53,IF(design_type=3,\"HRT inputs OK\",\"EBCT inputs OK\"),D53)","v":"EBCT inputs OK"}]
[]
[null,{"$f":"IF(OR(design_type=1,design_type=3),TRUE,FALSE)","v":true},null,null,"Bioreactor Pressure Vessels"]
[null,null,null,null,"The next four inputs may be entered manually, or calculated with AutoSize button. All other gold inputs must be complete before AutoSizing."]
[null,null,null,null,{"$f":"IF(design_type=1,\"Bed depth\",\"Static bed depth\")","v":"Bed depth"},"bed_depth",3.5,"feet","Guidance: between 2 and 7 ft "]
[null,{"$f":"IF(design_type=3, FALSE,TRUE)","v":true},null,null,"Vessel geometry","tank_geom_I","upright","<-- pick one"]
[null,null,null,null,{"$f":"IF(tank_geom=1,\"Height (straight)\",IF(tank_geom=2,\"Length (straight)\",\"\"))","v":"Height (straight)"},"comm_height_length",6.5,{"$f":"IF(tank_geom<>\"\",\"feet\",\"\")","v":"feet"}]
[null,null,null,null,"Diameter","comm_diam",2.5,{"$f":"IF(tank_geom<>\"\",\"feet\",\"\")","v":"feet"},"Guidance: between 2 and 12 ft "]
[null,null,null,null,"For information:  "]
[null,null,null,null,"Number of operating vessels",null,{"$f":"IF(NOT(B56),\"\",IF(ISERROR(op_num_tanks),\"\",op_num_tanks))","v":2},"vessels"]
[null,null,null,null,"Total vessels (incl. redundancy, below)",null,{"$f":"IF(NOT(B56),\"\",IF(ISERROR(final_num_tanks),\"\",final_num_tanks))","v":2},"vessels"]
[null,null,null,null,"Loading rate",null,{"$f":"IF(NOT(B56),\"\",IF(ISERROR(comm_load_rate),\"\",comm_load_rate))","v":2.1220659078919377},"gpm/ft2"]
[null,null,{"$f":"IF(NOT(B56),TRUE,IF(OR(bed_depth=\"\",tank_geom_I=\"\",comm_height_length=\"\",comm_diam=\"\"),FALSE,IF(bed_depth>2*comm_diam,FALSE,IF(bed_depth<min_bed_depth,FALSE,TRUE))))","v":true},{"$f":"IF(NOT(B56),\"OK\",IF(OR(bed_depth=\"\",comm_height_length=\"\",comm_diam=\"\",tank_geom_I=\"\"),\"Input incomplete\",IF(bed_depth>2*comm_diam,\"Warning: bed depth should be less than twice the vessel diameter\",IF(bed_depth<min_bed_depth,\"Warning: bed depth too shallow\",\"OK\"))))","v":"OK"},null,null,null,{"$f":"IF(NOT(B56),\"\",IF(C66,\"Bed Depth OK\",D66))","v":"Bed Depth OK"},"Adjust bed depth constraints"]
[null,null,{"$f":"IF(NOT(B56),TRUE,IF(H66=\"Input incomplete\",FALSE,IF(tank_geom=1,IF(IF(AND(comm_diam>=min_diam,comm_diam<=max_diam_std_size),(OR(comm_height_length>=max_comm_height,comm_height_length>max_height)),comm_height_length>max_height),FALSE,IF(IF(AND(comm_diam>=min_diam,comm_diam<=max_diam_std_size),(AND(comm_height_length>=min_comm_height,comm_height_length>=height)),comm_height_length>=height),TRUE,FALSE)),IF(tank_geom=2,IF(comm_height_length>max_length,FALSE,TRUE),FALSE))))","v":true},{"$f":"IF(NOT(B56),\"OK\",IF(H66=\"Input incomplete\",\"\",IF(tank_geom=1,IF(IF(AND(comm_diam>=min_diam,comm_diam<=max_diam_std_size),(OR(comm_height_length>=max_comm_height,comm_height_length>max_height)),comm_height_length>max_height),\"Warning: vessel too high\",IF(IF(AND(comm_diam>=min_diam,comm_diam<=max_diam_std_size),(AND(comm_height_length>=min_comm_height,comm_height_length>=height)),comm_height_length>=height),\"OK\",\"Warning: vessel not high enough\")),IF(tank_geom=2,IF(comm_height_length>max_length,\"Warning: vessel too long\",\"OK\"),\"Invalid tank geometry input\"))))","v":"OK"},null,null,null,{"$f":"IF(NOT(B56),\"\",IF(C67,\"Height OK\",D67))","v":"Height OK"},"Adjust vessel size constraints"]
[null,null,{"$f":"IF(NOT(B56),TRUE,IF(H66=\"Input Incomplete\",FALSE,IF(tank_geom=1,IF(comm_diam>max_diam,FALSE,IF(comm_diam<diameter,FALSE,TRUE)),IF(tank_geom=2,IF(comm_diam>max_diam,FALSE,IF(comm_diam>max_height,FALSE,IF(comm_SA<SA,FALSE,IF(comm_diam<height,FALSE,TRUE)))),FALSE))))","v":true},{"$f":"IF(NOT(B56),\"OK\",IF(H66=\"Input incomplete\",\"\",IF(tank_geom=1,IF(comm_diam>max_diam,\"Warning: vessel diameter too great\",IF(comm_diam<diameter,\"Warning: vessel diameter too small\",\"OK\")),IF(tank_geom=2,IF(comm_diam>max_diam,\"Warning: vessel diameter too great\",IF(comm_diam>max_height,\"Warning: vessel diameter too great\",IF(comm_SA<SA,\"Warning: vessel surface area too small\",IF(comm_diam<height,\"Warning: vessel diameter too small\",\"OK\")))),\"\"))))","v":"OK"},null,null,null,{"$f":"IF(NOT(B56),\"\",IF(C68,\"Diameter OK\",D68))","v":"Diameter OK"}]
[null,null,{"$f":"IF(NOT(B56),TRUE,IF(H66=\"Input incomplete\",FALSE,IF(input_vol_vess<media_volume_expanded,FALSE,TRUE)))","v":true},{"$f":"IF(NOT(B56),\"OK\",IF(H66=\"Input incomplete\",\"\",IF(input_vol_vess<media_volume_expanded,\"Warning: vessel too small for this bed depth\",\"OK\")))","v":"OK"},null,null,null,{"$f":"IF(NOT(B56),\"\",IF(C69,\"Volume OK\",D69))","v":"Volume OK"}]
[null,null,{"$f":"IF(NOT(B56),TRUE,IF(H66=\"Input incomplete\",FALSE,IF(input_vol_vess<media_volume_expanded,CHOOSE(tank_geom,FALSE,FALSE),TRUE)))","v":true},{"$f":"IF(NOT(B56),\"OK\",IF(H66=\"Input incomplete\",\"\",IF(input_vol_vess<media_volume_expanded,CHOOSE(tank_geom,\"Hint: reduce bed depth or increase diameter or height\",\"Hint: reduce bed depth or increase diameter\"),\"OK\")))","v":"OK"},null,null,null,{"$f":"IF(NOT(B56),\"\",IF(C70,\"\",D70))","v":""}]
[null,null,{"$f":"IF(NOT(B56),TRUE,IF(H66=\"Input incomplete\",FALSE,IF(ISERROR(final_num_tanks),FALSE,IF(tank_geom=1,IF(comm_load_rate>load_max,FALSE,IF(comm_load_rate<load_min,FALSE,TRUE)),IF(comm_load_rate>load_max,FALSE,IF(comm_load_rate<load_min,FALSE,TRUE))))))","v":true},{"$f":"IF(NOT(B56),\"OK\",IF(H66=\"Input incomplete\",\"\",IF(ISERROR(final_num_tanks),\"\",IF(tank_geom=1,IF(comm_load_rate>load_max,\"Warning: design exceeds maximum loading\",IF(comm_load_rate<load_min,\"Warning: design below minimum loading\",\"OK\")),IF(comm_load_rate>load_max,\"Warning: design exceeds maximum loading\",IF(comm_load_rate<load_min,\"Warning: design below minimum loading\",\"OK\"))))))","v":"OK"},null,null,null,{"$f":"IF(NOT(B56),\"\",IF(C71,\"Contact Time OK\",D71))","v":"Contact Time OK"},"Adjust loading constraints"]
[null,null,null,null,null,null,null,{"$f":"IF(OR(NOT(B56),ISERROR(final_num_tanks)),\"\",IF(tank_geom=1,IF(comm_load_rate>load_max,\"Hint: increase vessel diameter or decrease bed depth\",IF(comm_load_rate<load_min,\"Hint: reduce vessel diameter or increase bed depth\",\"\")),IF(comm_load_rate>load_max,\"Hint: increase vessel length and diameter or decrease bed depth\",IF(comm_load_rate<load_min,\"Hint: reduce vessel length and diameter or increase bed depth\",\"\"))))","v":""}]
[]
[null,{"$f":"IF(design_type=2,TRUE,FALSE)","v":false},null,null,"Bioreactor Fixed Bed Gravity Contact Basins"]
[null,null,null,null,"The next three inputs may be entered manually, or calculated with AutoSize button. All other gold inputs must be complete before AutoSizing."]
[null,null,{"$f":"IF(NOT(B74),TRUE,NOT(basin_width=\"\"))","v":true},null,"Basin width","basin_width",null,"feet","Guidance: contactors typically are square or with maximum length 1.5x width"]
[null,null,{"$f":"IF(NOT(B74),TRUE,NOT(basin_length=\"\"))","v":true},null,"Basin length","basin_length",null,"feet"]
[null,null,{"$f":"IF(NOT(B74),TRUE,NOT(basin_op_depth=\"\"))","v":true},null,"Bed depth","basin_op_depth",null,"feet","Guidance: Typical gravity bed depths are 3-10 feet"]
[null,null,null,null,"For information:  "]
[null,null,null,null,"Total biorewactors (incl. redundancy, below)",null,{"$f":"IF(OR(NOT(B74),ISERROR(total_num_basins)),\"\",total_num_basins)","v":""},"contactors"]
[null,null,null,null,"Loading rate",null,{"$f":"IF(OR(NOT(B74),ISERROR(surface_loading_rate_g)),\"\",surface_loading_rate_g)","v":""},"gpm/ft2"]
[null,null,{"$f":"IF(NOT(B74),TRUE,IF(NOT(AND(C76,C77,C78)),FALSE,IF(basin_op_depth>max_depth,FALSE,IF(basin_op_depth<min_depth,FALSE,TRUE))))","v":true},{"$f":"IF(NOT(B74),\"OK\",IF(NOT(AND(C76,C77,C78)),\"Input incomplete\",IF(basin_op_depth>max_depth,\"Warning: basin too deep\",IF(basin_op_depth<min_depth,\"Warning: basin too shallow\",\"OK\"))))","v":"OK"},null,null,null,{"$f":"IF(NOT(B74),\"\",IF(C82,\"Bed Depth OK\",D82))","v":""},"Adjust bed depth constraints"]
[null,null,{"$f":"IF(NOT(B74),TRUE,IF(basin_width>max_width,FALSE,IF(basin_width<min_width,FALSE,TRUE)))","v":true},{"$f":"IF(NOT(B74),\"OK\",IF(NOT(AND(C76,C77,C78)),\"\",IF(basin_width>max_width,\"Warning: basin too wide\",IF(basin_width<min_width,\"Warning: basin too narrow\",\"OK\"))))","v":"OK"},null,null,null,{"$f":"IF(NOT(B74),\"\",IF(C83,\"Width OK\",D83))","v":""},"Adjust width constraints"]
[null,null,{"$f":"IF(NOT(B74),TRUE,IF(basin_length>max_length_g,FALSE,IF(basin_length<min_length_g,FALSE,TRUE)))","v":true},{"$f":"IF(NOT(B74),\"OK\",IF(ISERROR(total_num_basins),\"\",IF(H82=\"input incomplete\",\"\",IF(basin_length>max_length_g,\"Warning: basin too long\",IF(OR(basin_length<min_length_g,basin_length<(min_basin_vol/op_num_basins/basin_op_depth/basin_width)),\"Warning: basin too short\",\"OK\")))))","v":"OK"},null,null,null,{"$f":"IF(NOT(B74),\"\",IF(C84,\"Length OK\",D84))","v":""},"Adjust length constraints"]
[null,null,{"$f":"IF(NOT(B74),TRUE,IF(ISERROR(total_num_basins),\"\",IF(D82=\"input incomplete\",FALSE,IF(surface_loading_rate_g>load_max,FALSE,IF(surface_loading_rate_g<load_min,FALSE,TRUE)))))","v":true},{"$f":"IF(NOT(B74),\"OK\",IF(ISERROR(total_num_basins),\"\",IF(D82=\"input incomplete\",\"\",IF(surface_loading_rate_g>load_max,\"Warning: design exceeds maximum loading\",IF(surface_loading_rate_g<load_min,\"Warning: design below minimum loading\",\"OK\")))))","v":"OK"},null,null,null,{"$f":"IF(NOT(B74),\"\",IF(ISERROR(total_num_basins),\"\",IF(C85,\"Loading OK\",D85)))","v":""},"Adjust loading constraints"]
[]
[null,null,{"$f":"IF(include_post_h2o2_I=\"\",FALSE,TRUE)","v":true},null,"Post-treatment oxidation option","include_post_h2o2_I","aeration","<-- pick one"]
[null,null,{"$f":"IF(include_post_I=\"\",FALSE,TRUE)","v":true},null,"Include polishing filter","include_post_I","yes","<-- pick one"]
[null,{"$f":"IF(include_post=1,TRUE,FALSE)","v":true},{"$f":"IF(B89,NOT(filter_type_I=\"\"),TRUE)","v":true},null,"Polishing filter type","filter_type_I","gravity basin","<-- pick one"]
[null,null,{"$f":"IF(B89,NOT(include_coag_filt_I=\"\"),TRUE)","v":true},null,"Incude coagulant addition before filtration","include_coag_filt_I","yes","<-- pick one"]
[null,null,{"$f":"AND(C87:C90)","v":true},{"$f":"IF(NOT(C91),\"Post-treatment Inputs Incomplete\",\"OK\")","v":"OK"},null,null,null,{"$f":"IF(C91,\"Post-treatment inputs OK\",D91)","v":"Post-treatment inputs OK"}]
[]
[null,{"$f":"IF(filter_type=1,TRUE,FALSE)","v":true},null,null,"Polishing Filter Gravity Contact Basins"]
[null,null,null,null,"The next three inputs may be entered manually, or calculated with AutoSize button. All other gold inputs must be complete before AutoSizing."]
[null,null,{"$f":"IF(NOT(B93),TRUE,NOT(filt_basin_width=\"\"))","v":true},null,"Basin width","filt_basin_width",3,"feet","Guidance: basins typically are square or with maximum length 1.5x width"]
[null,null,{"$f":"IF(NOT(B93),TRUE,NOT(filt_basin_length=\"\"))","v":true},null,"Basin length","filt_basin_length",3,"feet"]
[null,null,{"$f":"IF(NOT(B93),TRUE,NOT(filt_basin_op_depth=\"\"))","v":true},null,"Bed depth","filt_basin_op_depth",3.1,"feet","Guidance: Typical gravity bed depths are 3-10 feet"]
[null,null,null,null,"For information:  "]
[null,null,null,null,"Total basins (incl. redundancy, below)",null,{"$f":"IF(OR(NOT(B93),ISERROR(total_num_filt_basins)),\"\",total_num_filt_basins)","v":2},"basins"]
[null,null,{"$f":"IF(NOT(B93),TRUE,IF(NOT(AND(C95,C96,C97)),FALSE,IF(filt_basin_op_depth>max_depth,FALSE,IF(filt_basin_op_depth<min_depth,FALSE,TRUE))))","v":true},{"$f":"IF(NOT(B93),\"OK\",IF(NOT(AND(C95,C96,C97)),\"Input incomplete\",IF(filt_basin_op_depth>max_depth,\"Warning: basin too deep\",IF(filt_basin_op_depth<min_depth,\"Warning: basin too shallow\",\"OK\"))))","v":"OK"},null,null,null,{"$f":"IF(NOT(B93),\"\",IF(C100,\"Bed Depth OK\",D100))","v":"Bed Depth OK"},"Adjust bed depth constraints"]
[null,null,{"$f":"IF(NOT(B93),TRUE,IF(filt_basin_width>max_width,FALSE,IF(filt_basin_width<min_width,FALSE,TRUE)))","v":true},{"$f":"IF(NOT(B93),\"OK\",IF(NOT(AND(C95,C96,C97)),\"\",IF(filt_basin_width>max_width,\"Warning: basin too wide\",IF(filt_basin_width<min_width,\"Warning: basin too narrow\",\"OK\"))))","v":"OK"},null,null,null,{"$f":"IF(NOT(B93),\"\",IF(C101,\"Width OK\",D101))","v":"Width OK"},"Adjust width constraints"]
[null,null,{"$f":"IF(NOT(B93),TRUE,IF(filt_basin_length>max_length_g,FALSE,IF(filt_basin_length<min_length_g,FALSE,TRUE)))","v":true},{"$f":"IF(NOT(B93),\"OK\",IF(ISERROR(total_num_filt_basins),\"\",IF(H100=\"input incomplete\",\"\",IF(filt_basin_length>max_length_g,\"Warning: basin too long\",IF(OR(filt_basin_length<min_length_g,filt_basin_length<(min_filt_vol/op_num_filters/filt_basin_op_depth/filt_basin_width)),\"Warning: basin too short\",\"OK\")))))","v":"OK"},null,null,null,{"$f":"IF(NOT(B93),\"\",IF(C102,\"Length OK\",D102))","v":"Length OK"},"Adjust length constraints"]
[]
[null,{"$f":"IF(filter_type=2,TRUE,FALSE)","v":false},null,null,"Polishing Filter Pressure Vessels"]
[null,null,null,null,"The next four inputs may be entered manually, or calculated with AutoSize button. All other gold inputs must be complete before AutoSizing."]
[null,null,null,null,"Bed depth","filt_bed_depth",null,"feet","Guidance: between 2 and 5 ft "]
[null,null,null,null,"Vessel geometry","filt_tank_geom_I",null,"<-- pick one"]
[null,null,null,null,{"$f":"IF(tank_geom_filt=1,\"Height (straight)\",IF(tank_geom_filt=2,\"Length (straight)\",\"\"))","v":""},"filt_comm_height_length",null,{"$f":"IF(tank_geom<>\"\",\"feet\",\"\")","v":"feet"}]
[null,null,null,null,"Diameter","filt_comm_diam",null,{"$f":"IF(tank_geom<>\"\",\"feet\",\"\")","v":"feet"}]
[null,null,null,null,"For information:  "]
[null,null,null,null,"Number of operating vessels",null,{"$f":"IF(NOT(B104),\"\",IF(ISERROR(op_num_tanks_filt),\"\",op_num_tanks_filt))","v":""},"vessels"]
[null,null,null,null,"Total vessels (incl. redundancy, below)",null,{"$f":"IF(NOT(B104),\"\",IF(ISERROR(final_num_tanks_filt),\"\",final_num_tanks_filt))","v":""},"vessels"]
[null,null,null,null,"Loading rate",null,{"$f":"IF(NOT(B104),\"\",IF(ISERROR(comm_load_rate_filt),\"\",comm_load_rate_filt))","v":""},"gpm/ft2"]
[null,null,{"$f":"IF(NOT(B104),TRUE,IF(OR(filt_bed_depth=\"\",filt_tank_geom_I=\"\",filt_comm_height_length=\"\",filt_comm_diam=\"\"),FALSE,IF(filt_bed_depth>2*filt_comm_diam,FALSE,IF(filt_bed_depth<min_bed_depth,FALSE,TRUE))))","v":true},{"$f":"IF(NOT(B104),\"OK\",IF(OR(filt_bed_depth=\"\",filt_comm_height_length=\"\",filt_comm_diam=\"\",filt_tank_geom_I=\"\"),\"Input incomplete\",IF(filt_bed_depth>2*filt_comm_diam,\"Warning: bed depth should be less than twice the vessel diameter\",IF(filt_bed_depth<min_bed_depth,\"Warning: bed depth too shallow\",\"OK\"))))","v":"OK"},null,null,null,{"$f":"IF(NOT(B104),\"\",IF(C114,\"Bed Depth OK\",D114))","v":""},"Adjust bed depth constraints"]
[null,null,{"$f":"IF(NOT(B104),TRUE,IF(H114=\"Input incomplete\",FALSE,IF(tank_geom_filt=1,IF(IF(AND(filt_comm_diam>=min_diam,filt_comm_diam<=max_diam_std_size),(OR(filt_comm_height_length>=max_comm_height_filt,filt_comm_height_length>max_height)),filt_comm_height_length>max_height),FALSE,IF(IF(AND(filt_comm_diam>=min_diam,filt_comm_diam<=max_diam_std_size),(AND(filt_comm_height_length>=min_comm_height_filt,filt_comm_height_length>=height_filt)),filt_comm_height_length>=height_filt),TRUE,FALSE)),IF(tank_geom_filt=2,IF(filt_comm_height_length>max_length,FALSE,TRUE),FALSE))))","v":true},{"$f":"IF(NOT(B104),\"OK\",IF(H114=\"Input incomplete\",\"\",IF(tank_geom_filt=1,IF(IF(AND(filt_comm_diam>=min_diam,filt_comm_diam<=max_diam_std_size),(OR(filt_comm_height_length>=max_comm_height_filt,filt_comm_height_length>max_height)),filt_comm_height_length>max_height),\"Warning: vessel too high\",IF(IF(AND(filt_comm_diam>=min_diam,filt_comm_diam<=max_diam_std_size),(AND(filt_comm_height_length>=min_comm_height_filt,filt_comm_height_length>=height_filt)),filt_comm_height_length>=height_filt),\"OK\",\"Warning: vessel not high enough\")),IF(tank_geom_filt=2,IF(filt_comm_height_length>max_length,\"Warning: vessel too long\",\"OK\"),\"Invalid tank geometry input\"))))","v":"OK"},null,null,null,{"$f":"IF(NOT(B104),\"\",IF(C115,\"Height OK\",D115))","v":""},"Adjust vessel size constraints"]
[null,null,{"$f":"IF(NOT(B104),TRUE,IF(H114=\"Input Incomplete\",FALSE,IF(tank_geom_filt=1,IF(filt_comm_diam>max_diam,FALSE,IF(filt_comm_diam<diameter_filt,FALSE,TRUE)),IF(tank_geom_filt=2,IF(filt_comm_diam>max_diam,FALSE,IF(filt_comm_diam>max_height,FALSE,IF(comm_SA_filt<SA_filt,FALSE,IF(filt_comm_diam<height_filt,FALSE,TRUE)))),FALSE))))","v":true},{"$f":"IF(NOT(B104),\"OK\",IF(H114=\"Input incomplete\",\"\",IF(tank_geom_filt=1,IF(filt_comm_diam>max_diam,\"Warning: vessel diameter too great\",IF(filt_comm_diam<diameter_filt,\"Warning: vessel diameter too small\",\"OK\")),IF(tank_geom_filt=2,IF(filt_comm_diam>max_diam,\"Warning: vessel diameter too great\",IF(filt_comm_diam>max_height,\"Warning: vessel diameter too great\",IF(comm_SA_filt<SA_filt,\"Warning: vessel surface area too small\",IF(filt_comm_diam<height_filt,\"Warning: vessel diameter too small\",\"OK\")))),\"\"))))","v":"OK"},null,null,null,{"$f":"IF(NOT(B104),\"\",IF(C116,\"Diameter OK\",D116))","v":""}]
[]
[null,{"$f":"IF(design_type=3,FALSE,TRUE)","v":true},{"$f":"IF(B118,NOT(back_interval_I=\"\"),TRUE)","v":true},null,"Interval between bioreactor backwashes","back_interval_I",24,"hours","For biomass buildup, backwash bioreactor about every 24-36 hours"]
[null,{"$f":"IF(include_post=1,TRUE,FALSE)","v":true},{"$f":"IF(B119,NOT(filter_back_interval_I=\"\"),TRUE)","v":true},null,"Interval between filter backwashes","filter_back_interval_I",36,"hours","Typically 36-48 hours"]
[null,{"$f":"IF(AND(design_type=3,include_post=0),FALSE,TRUE)","v":true},{"$f":"NOT(res_s2_opt_I=\"\")","v":true},null,"Include air scour","air_scour_I","yes","<-- pick one"]
[null,{"$f":"IF(AND(design_type=3,include_post=0),FALSE,TRUE)","v":true},{"$f":"NOT(res_s2_opt_I=\"\")","v":true},null,"Discharge option for spent backwash","res_s2_opt_I","recycle","<-- pick one"]
[null,{"$f":"OR(res_s2_opt=1,res_s2_opt=2)","v":false},{"$f":"IF(B122,NOT(res_s1_opt_I=\"\"),TRUE)","v":true},null,"Holding tank for spent backwash","res_s1_opt_I","holding tank",{"$f":"IF(res_s2_opt=3,\"always included\",IF(res_s2_opt=4,\"not required\",\"<-- pick one\"))","v":"always included"},{"$f":"IF(res_s1_opt_I=\"Holding tank\",\"Model selects between holding tank or basin based upon priority lookups on the Output sheet\",\"\")","v":"Model selects between holding tank or basin based upon priority lookups on the Output sheet"}]
[null,{"$f":"IF(OR(res_s2_opt=3),TRUE,IF(res_s1_opt=1,TRUE,FALSE))","v":true},{"$f":"IF(B123,NOT(sed_sludge_method_I=\"\"),TRUE)","v":true},null,"Solids treatment/storage","sed_sludge_method_I","none",{"$f":"IF(res_s1_opt=2,\"not required\",\"<-- pick one\")","v":"<-- pick one"},null,{"$f":"IF(sed_sludge_method_I=\"\",\"Please pick a valid input.\",\"\")","v":""}]
[null,{"$f":"IF(OR(res_s2_opt=3,res_s2_opt=4),TRUE,IF(res_s1_opt=1,TRUE,FALSE))","v":true},{"$f":"IF(B124,NOT(solids_haz_I=\"\"),TRUE)","v":true},null,{"$f":"IF(res_s2_opt=4,\"Characteristics of evaporation pond solids\",\"Characteristics of holding tank solids\")","v":"Characteristics of holding tank solids"},"solids_haz_I","non-hazardous",{"$f":"IF(NOT(B124),\"not required\",\"<-- pick one\")","v":"<-- pick one"}]
[null,null,{"$f":"IF(NOT(AND(C118:C124)),FALSE,TRUE)","v":true},{"$f":"IF(NOT(C125),\"Residual Inputs Incomplete\",\"OK\")","v":"OK"},null,null,null,{"$f":"IF(AND(design_type=3,include_post=0),\"\",IF(C125,\"Residual inputs OK\",D125))","v":"Residual inputs OK"},"Additional residuals assumtions loacted on the cirtical deisgn assumptions page"]
[]
[null,null,null,null,"Number of booster pumps","lines_pump_I",null,"pumps","Enter 0 to exclude booster pumps (i.e., use existing pumps). Leave blank to accept model defaults (no pumps for systems <1 MGD, otherwise sized per average and design flows)"]
[null,null,null,null,"For information: # of booster pumps",null,{"$f":"IF(ISERROR(booster_pumps),\"\",booster_pumps)","v":0},"pumps"]
[null,null,null,null,"Number of redundant units to be added","NRD_I",null,"units","Leave blank to accept model defaults (0 for systems <1 MGD, calculated otherwise)"]
[null,null,null,null,"For information: Redundant bioreactors",null,{"$f":"IF(design_type=1,IF(ISERROR(NRD),\"\",NRD),IF(ISERROR(NRD_g),\"\",NRD_g))","v":0},"units"]
[null,null,null,null,"Backwash pumping","no_backwash_I",null,"<-- pick or leave blank","Leave blank to accept model defaults (systems <1 MGD backwash using existing supply or treated water pumps, other systems add new backwash pumps)"]
[null,null,null,null,"Backwash storage","no_back_tank_I",null,"<-- pick or leave blank","Leave blank to accept model defaults (only systems between 1 and 10 MGD require separate backwash tanks)"]
[null,null,null,null,"For information: # of backwash pumps",null,{"$f":"IF(ISERROR(backwash_pumps),\"\",backwash_pumps)","v":0},"units"]
[null,null,null,null,"# of backwash tanks",null,{"$f":"IF(ISERROR(back_tanks),\"\",back_tanks)","v":0},"units"]
[null,null,null,null,"Component level","component_level_I",null,"<-- pick or leave blank","Leave blank to use low cost components"]
[null,null,null,null,"System automation","manual_I","fully automated","<-- pick or leave blank","Leave blank to allow model to pick based on component level"]
[null,null,null,null,"Include buildings?","include_buildings_I",null,"<-- pick or leave blank","Leave blank to include buildings"]
[null,null,null,null,"Include HVAC?","include_HVAC_I",null,"<-- pick or leave blank","Leave blank to allow model to pick based on component level and building type"]
[null,null,null,null,"Include land?","include_land_I",null,"<-- pick or leave blank","Leave blank to include land"]
[null,null,null,null,"For information: Component level",null,{"$f":"IF(component_level=2,\"high cost\",IF(component_level=1,\"mid cost\",\"low cost\"))","v":"low cost"}]
[null,null,null,null,"Automation",null,{"$f":"IF(manual=1,\"manual\",IF(manual=2,\"semi-automated\",IF(manual=3,\"fully automated\")))","v":"fully automated"}]
[null,null,{"$f":"IF(ISERROR(pump_rating),FALSE,IF(pump_rating>max_pump_size,FALSE,TRUE))","v":true},{"$f":"IF(ISERROR(pump_rating),\"Input incomplete\",IF(pump_rating>max_pump_size,\"Warning: insufficent number of pumps.\",\"OK\"))","v":"OK"},null,null,null,{"$f":"IF(C142,\"Optional Inputs OK\",D142)","v":"Optional Inputs OK"}]
[null,null,null,null,null,null,null,{"$f":"IF(OR(H142=\"input incomplete\",H142=\"Optional Inputs OK\"),\"\",IF(pump_rating>max_pump_size,\"Hint: increase number of pumps or leave that input blank\",\"\"))","v":""}]

{"sheet":"OUTPUT","index":3,"n_rows":623,"n_cols":26,"rows_kept":623,"cut":false,"hidden":false,"merged":[[577,8,577,11],[526,2,526,3],[526,4,526,5],[6,3,6,4],[7,3,7,4],[530,8,530,11],[28,8,30,8],[28,9,30,9],[28,10,30,10],[28,11,30,11],[28,12,30,12],[28,0,30,0],[28,1,30,1],[28,2,30,3],[28,4,30,5],[28,6,30,7],[28,22,29,23],[29,13,29,15],[29,16,29,18],[29,19,29,21],[28,13,28,21]]}
["OUTPUT SUMMARY"]
[null,"Parameter","Value","Units"]
[null,"Technology","BIO"]
[null,"System Size Category",{"$f":"IF(ss_cat2=1,\"small\",\"large\")","v":"small"}]
[null,"Target Contaminant",{"$f":"IF(contam=1,\"perchlorate\",IF(contam=2,\"nitrate\",\"other\"))","v":"perchlorate"}]
[null,"Design Type",{"$f":"IF(design_type=1,\"pressure\",\"gravity\")","v":"pressure"}]
[null,"Design Flow",{"$f":"design_flow","v":0.03},"MGD (excludes bypass flow)"]
[null,"Average Flow",{"$f":"average_flow","v":7.0000000000000001E-3},"MGD (excludes bypass flow)"]
[null,"Bed type",{"$f":"IF(design_type=3,\"fluidized\",\"fixed\")","v":"fixed"}]
[null,"# of bioreactors",{"$f":"IF(design_type=2,total_num_basins,final_num_tanks)","v":2},"(including redundancy)"]
[null,"Loading rate",{"$f":"IF(design_type=2,surface_loading_rate_g,comm_load_rate)","v":2.1220659078919377},"gpm/ft2"]
[null,{"$f":"IF(design_type=3,\"HRT\",\"EBCT\")","v":"EBCT"},{"$f":"EBCT","v":12},"minutes"]
[null,"Bed depth",{"$f":"IF(design_type=2,basin_op_depth,bed_depth)","v":3.5},"feet"]
[null,"Vessel geometry",{"$f":"IF(design_type=1,tank_geom_I,\"basins\")","v":"upright"}]
[null,{"$f":"IF(design_type=2,\"Basin width\",IF(tank_geom=1,\"Height (straight)\",IF(tank_geom=2,\"Length (straight)\",\"\")))","v":"Height (straight)"},{"$f":"IF(design_type=2,basin_width,comm_height_length)","v":6.5},"feet"]
[null,{"$f":"IF(design_type=2,\"Basin length\",\"Diameter\")","v":"Diameter"},{"$f":"IF(design_type=2,basin_length,comm_diam)","v":2.5},"feet"]
[null,{"$f":"\"Resulting Costs (in year \"&TEXT(current_year_cl,0)&\" dollars)\"","v":"Resulting Costs (in year 2017 dollars)"}]
[null,"Direct Capital Cost",{"$f":"IF(input_status<>\"input complete -- results ready\",\"Action required\",IF(Missing_Cost,\"Missing cost!\",IF(cost_buildup_error,\"Error in buildup!\",direct_cost)))","v":361297.14513880759},"Details",{"$f":"IF(input_status<>\"input complete -- results ready\",IF(input_complete,\"Press Generate Results\",\"Check INPUT sheet for errors\"),IF(Missing_Cost,\"A price is not available for at least one required component. See Use? column below.\",IF(cost_buildup_error,\"There is an Excel error in the price for at least one component. See Use? column below.\",\"\")))","v":""}]
[null,"Add-on Cost",{"$f":"IF(input_status<>\"input complete -- results ready\",\"Action required\",addon_cost)","v":134301.8062541486},"Details"]
[null,"Indirect Capital Cost",{"$f":"IF(input_status<>\"input complete -- results ready\",\"Action required\",indirect_cost)","v":167127.9987866935},"Details"]
[null,"Total Capital Cost",{"$f":"IF(input_status<>\"input complete -- results ready\",\"Action required\",IF(Missing_Cost,\"Missing cost!\",IF(cost_buildup_error,\"Error in buildup!\",system_cost)))","v":662726.95017964975},"Details"]
[null,{"$f":"\"Annualized Capital Cost \"&IF(OR(input_status<>\"input complete -- results ready\",Missing_Cost,cost_buildup_error),\"\",\"(per year over \"&useful_life&\" years at \"&Discount_rate*100&\"%)\")","v":"Annualized Capital Cost (per year over 19.7 years at 7%)"},{"$f":"IF(input_status<>\"input complete -- results ready\",\"Action required\",Annualized_Capital_Cost)","v":63006.944480114922},"Details"]
[null,"Annual O&M Cost (per year)",{"$f":"IF(input_status<>\"input complete -- results ready\",\"Action required\",om_cost)","v":30245.660088765955},"Details"]
[null,{"$f":"\"Total Annualized Cost (per year)\"","v":"Total Annualized Cost (per year)"},{"$f":"IF(input_status<>\"input complete -- results ready\",\"Action required\",IF(Missing_Cost,\"Missing cost!\",IF(cost_buildup_error,\"Error in buildup!\",Annualized_Cost)))","v":93252.604568880881},"Details"]
[null,"Per 1,000 gallons average flow",{"$f":"IF(input_status<>\"input complete -- results ready\",\"Action required\",IF(Missing_Cost,\"Missing cost!\",IF(cost_buildup_error,\"Error in buildup!\",C594)))","v":36.498083979992515}]
[null,"Per household per year",{"$f":"IF(input_status<>\"input complete -- results ready\",\"Action required\",IF(Missing_Cost,\"Missing cost!\",IF(cost_buildup_error,\"Error in buildup!\",C595)))","v":3779.6207829842342}]
[]
["Direct Capital Cost Details (items in italics, without a 1 in the \"Use?\" column, represent alternate costs and are excluded from total)"]
["WBS #","Item","Design Quanitity",null,"Design Size",null,"Size used in estimate",null,"Unit Cost","Total Cost","Useful Life","Use?","Full Line Item Name","Priority selection",null,null,null,null,null,null,null,null,"Useful Life"]
[null,null,null,null,null,null,null,null,null,null,null,null,null,"Small (<1 mgd)",null,null,"Medium (1-10 mgd)",null,null,"Large (>10 mgd)"]
[null,null,null,null,null,null,null,null,null,null,null,null,null,"Low","Mid","High","Low","Mid","High","Low","Mid","High","Count?","Depreciation"]
["1","Bioreactors"]
[1.1000000000000001,"Pressure Vessels"]
["1.1.1","Stainless Steel",{"$f":"final_num_tanks","v":2},"units",{"$f":"comm_vol_gal","v":238.66286690239963},"gal",{"$f":"IF(curve=1,comm_vol_gal,VLOOKUP(comm_vol_gal,ss_pv_cost_cl,2))","v":238.66286690239963},"gal",{"$f":"IF(C34=0,\"NA\",IF(curve=1,ss_pv_eq,VLOOKUP(comm_vol_gal,ss_pv_cost_cl,3)))","v":18735.19617355202},{"$f":"IF(C34=0,\"--\",IF(I34=\"contact vendor\",\"--\",C34*I34))","v":37470.39234710404},{"$f":"IF(C34=0,\"NA\",VLOOKUP(comm_vol_gal,ss_pv_cost_cl,IF(ss_cat=\"large\",4,5)))","v":30},0,{"$f":"$B$32&\" - \"&$B$33&\" - \"&B34","v":"Bioreactors - Pressure Vessels - Stainless Steel"},4,4,1,4,4,1,4,4,1,{"$f":"IF(ISERROR(K34*L34),0,IF(K34<1,0,L34))","v":0},{"$f":"IF(W34,J34/K34,0)","v":0}]
["1.1.1","Carbon Steel - Stainless Internals",{"$f":"final_num_tanks","v":2},"units",{"$f":"comm_vol_gal","v":238.66286690239963},"gal",{"$f":"IF(curve=1,comm_vol_gal,VLOOKUP(comm_vol_gal,cs_pv_cost_cl,2))","v":238.66286690239963},"gal",{"$f":"IF(C35=0,\"NA\",IF(curve=1,cs_pv_eq,VLOOKUP(comm_vol_gal,cs_pv_cost_cl,3)))","v":16748.973006351611},{"$f":"IF(C35=0,\"--\",IF(I35=\"contact vendor\",\"--\",C35*I35))","v":33497.946012703222},{"$f":"IF(C35=0,\"NA\",VLOOKUP(comm_vol_gal,cs_pv_cost_cl,IF(ss_cat=\"large\",4,5)))","v":30},0,{"$f":"$B$32&\" - \"&$B$33&\" - \"&B35","v":"Bioreactors - Pressure Vessels - Carbon Steel - Stainless Internals"},3,3,2,3,3,2,3,3,2,{"$f":"IF(ISERROR(K35*L35),0,IF(K35<1,0,L35))","v":0},{"$f":"IF(W35,J35/K35,0)","v":0}]
["1.1.1","Carbon Steel - Plastic Internals",{"$f":"final_num_tanks","v":2},"units",{"$f":"comm_vol_gal","v":238.66286690239963},"gal",{"$f":"IF(curve=1,comm_vol_gal,VLOOKUP(comm_vol_gal,csp_pv_cost_cl,2))","v":238.66286690239963},"gal",{"$f":"IF(C36=0,\"NA\",IF(curve=1,csp_pv_eq,VLOOKUP(comm_vol_gal,csp_pv_cost_cl,3)))","v":11132.595287819937},{"$f":"IF(C36=0,\"--\",IF(I36=\"contact vendor\",\"--\",C36*I36))","v":22265.190575639874},{"$f":"IF(C36=0,\"NA\",VLOOKUP(comm_vol_gal,csp_pv_cost_cl,IF(ss_cat=\"large\",4,5)))","v":30},0,{"$f":"$B$32&\" - \"&$B$33&\" - \"&B36","v":"Bioreactors - Pressure Vessels - Carbon Steel - Plastic Internals"},2,1,3,2,1,3,2,1,3,0,0]
["1.1.1","Fiberglass",{"$f":"final_num_tanks","v":2},"units",{"$f":"comm_vol_gal","v":238.66286690239963},"gal",{"$f":"IF(curve=1,comm_vol_gal,VLOOKUP(comm_vol_gal,fg_pv_cost_cl,2))","v":238.66286690239963},"gal",{"$f":"IF(C37=0,\"NA\",IF(curve=1,fg_pv_eq,VLOOKUP(comm_vol_gal,fg_pv_cost_cl,3)))","v":5270.1926374727364},{"$f":"IF(C37=0,\"--\",IF(I37=\"contact vendor\",\"--\",C37*I37))","v":10540.385274945473},{"$f":"IF(C37=0,\"NA\",VLOOKUP(comm_vol_gal,fg_pv_cost_cl,IF(ss_cat=\"large\",4,5)))","v":20},1,{"$f":"$B$32&\" - \"&$B$33&\" - \"&B37","v":"Bioreactors - Pressure Vessels - Fiberglass"},1,2,4,1,2,4,1,2,4,1,527.01926374727361]
[1.2,"Gravity Basins",null,null,null,null,null,null,null,null,null,null,null,null,null,null,null,null,null,null,null,null,0,0]
["1.2.1","Concrete",{"$f":"total_num_basins","v":0},"units",{"$f":"basin_vol","v":"-"},"gal",{"$f":"basin_vol","v":"-"},"gal",{"$f":"IF(C39=0,\"NA\",basin_conc_vol/total_num_basins*VLOOKUP(0,conc_basin_cost_cl,3))","v":"NA"},{"$f":"IF(C39=0,\"--\",IF(I39=\"contact vendor\",\"--\",C39*I39))","v":"--"},{"$f":"IF(C39=0,\"NA\",VLOOKUP(0,conc_basin_cost_cl,IF(ss_cat=\"large\",4,5)))","v":"NA"},null,{"$f":"$B$32&\" - \"&$B$38&\" - \"&B39","v":"Bioreactors - Gravity Basins - Concrete"},1,1,1,1,1,1,1,1,1,0,0]
["1.2.2","Internals (Underdrain/Backwash System)",{"$f":"total_num_basins","v":0},"units",{"$f":"basin_area","v":"-"},"sf",{"$f":"basin_area","v":"-"},"sf",{"$f":"IF(C40=0,\"NA\",IF(cont_int_eq=\"contact vendor\",\"contact vendor\",J40/total_num_basins))","v":"NA"},{"$f":"IF(C40=0,\"--\",IF(cont_int_eq=\"contact vendor\",\"--\",cont_int_eq))","v":"--"},{"$f":"IF(C40=0,\"NA\",VLOOKUP(0,cont_top_cost_cl,IF(ss_cat=\"large\",4,5)))","v":"NA"},null,"Bioreactors - Gravity Basins - Internals (Underdrain/Backwash System)",1,1,1,1,1,1,1,1,1,0,0]
["1.2.3","Aluminum Railing",{"$f":"IF(OR(design_type=1,design_type=3),0,railing)","v":0},"lf","NA",null,"NA",null,{"$f":"IF(C41=0,\"NA\",VLOOKUP(B41,metal_cost_cl,3))","v":"NA"},{"$f":"IF(C41=0,\"--\",IF(I41=\"contact vendor\",\"--\",C41*I41))","v":"--"},{"$f":"IF(C41=0,\"NA\",VLOOKUP(B41,metal_cost_cl,IF(ss_cat=\"large\",4,5)))","v":"NA"},null,"Bioreactors - Gravity Basins - Aluminum Railing",1,1,1,1,1,1,1,1,1,0,0]
["1.2.4","Aluminum Stairs",{"$f":"IF(OR(design_type=1,design_type=3),0,risers)","v":0},"risers","NA",null,"NA",null,{"$f":"IF(C42=0,\"NA\",VLOOKUP(B42,metal_cost_cl,3))","v":"NA"},"--",{"$f":"IF(C42=0,\"NA\",VLOOKUP(B42,metal_cost_cl,IF(ss_cat=\"large\",4,5)))","v":"NA"},null,"Bioreactors - Gravity Basins - Aluminum Stairs",1,1,1,1,1,1,1,1,1,0,0]
["1.2.5","Excavation",{"$f":"IF(OR(design_type=1,design_type=3),0,excavation_vol)","v":0},"cy","NA",null,"NA",null,{"$f":"IF(C43=0,\"NA\",VLOOKUP(0,excavate_cost_cl,3))","v":"NA"},"--",{"$f":"IF(C43=0,\"NA\",VLOOKUP(0,conc_basin_cost_cl,IF(ss_cat=\"large\",4,5)))","v":"NA"},null,"Bioreactors - Gravity Basins - Excavation",1,1,1,1,1,1,1,1,1,0,0]
["1.2.6","Backfill and Compaction",{"$f":"IF(OR(design_type=1,design_type=3),0,backfill_vol)","v":0},"cy","NA",null,"NA",null,{"$f":"IF(C44=0,\"NA\",VLOOKUP(0,backfill_cost_cl,3))","v":"NA"},"--",{"$f":"IF(C44=0,\"NA\",VLOOKUP(0,conc_basin_cost_cl,IF(ss_cat=\"large\",4,5)))","v":"NA"},null,"Bioreactors - Gravity Basins - Backfill and Compaction",1,1,1,1,1,1,1,1,1,0,0]
[1.3,"Media",null,null,null,null,null,null,null,null,null,null,null,null,null,null,null,null,null,null,null,null,0,0]
["1.3.1","GAC",{"$f":"total_resin","v":1030.835089459151},"lbs","NA",null,"NA",null,{"$f":"IF(curve=1,gac_eq,VLOOKUP(C46,gac_cost_cl,3))","v":1.9218907672309404},{"$f":"IF(I46=\"contact vendor\",\"--\",C46*I46)","v":1981.1524409692229},{"$f":"VLOOKUP(B46,media_cost_cl,IF(ss_cat=\"large\",4,5))","v":"N/A"},1,{"$f":"$B$32&\" - \"&$B$45&\" - \"&B46","v":"Bioreactors - Media - GAC"},1,1,1,1,1,1,1,1,1,0,0]
["2","Post-Treatment Filters",null,null,null,null,null,null,null,null,null,null,null,null,null,null,null,null,null,null,null,null,0,0]
[2.1,"Filter Basins",null,null,null,null,null,null,null,null,null,null,null,null,null,null,null,null,null,null,null,null,0,0]
["2.1.1","Concrete",{"$f":"total_num_filt_basins","v":2},"units",{"$f":"filt_volume","v":447.67800000000005},"gal",{"$f":"filt_volume","v":447.67800000000005},"gal",{"$f":"IF(C49=0,\"NA\",filt_basin_conc_vol/total_num_filt_basins*VLOOKUP(0,conc_basin_cost_cl,3))","v":2500.2607790575275},{"$f":"IF(C49=0,\"--\",IF(I49=\"contact vendor\",\"--\",C49*I49))","v":5000.5215581150551},{"$f":"IF(C49=0,\"NA\",VLOOKUP(0,conc_basin_cost_cl,IF(ss_cat=\"large\",4,5)))","v":37},1,{"$f":"$B$47&\" - \"&$B$48&\" - \"&B49","v":"Post-Treatment Filters - Filter Basins - Concrete"},1,1,1,1,1,1,1,1,1,1,135.14923130040688]
["2.1.2","Internals (Underdrain/Backwash System)",{"$f":"total_num_filt_basins","v":2},"units",{"$f":"filt_basin_area","v":9},"sf",{"$f":"filt_basin_area","v":9},"sf",{"$f":"IF(C50=0,\"NA\",IF(filt_int_eq=\"contact vendor\",\"contact vendor\",J50/total_num_filt_basins))","v":50483.410200019614},{"$f":"IF(C50=0,\"--\",IF(filt_int_eq=\"contact vendor\",\"--\",filt_int_eq))","v":100966.82040003923},{"$f":"IF(C50=0,\"NA\",VLOOKUP(0,cont_top_cost_cl,IF(ss_cat=\"large\",4,5)))","v":37},1,"Post-Treatment Filters - Filter Basins - Internals (Underdrain/Backwash System)",1,1,1,1,1,1,1,1,1,1,2728.8329837848441]
["2.1.3","Aluminum Railing",{"$f":"IF(filter_type=1,filt_railing,0)","v":24},"lf","NA",null,"NA",null,{"$f":"IF(C51=0,\"NA\",VLOOKUP(B51,metal_cost_cl,3))","v":37.394495653084739},{"$f":"IF(C51=0,\"--\",IF(I51=\"contact vendor\",\"--\",C51*I51))","v":897.4678956740338},{"$f":"IF(C51=0,\"NA\",VLOOKUP(B51,metal_cost_cl,IF(ss_cat=\"large\",4,5)))","v":35},1,"Post-Treatment Filters - Filter Basins - Aluminum Railing",1,1,1,1,1,1,1,1,1,1,25.641939876400965]
["2.1.4","Aluminum Stairs",{"$f":"IF(filter_type=1,risers,0)","v":15},"risers","NA",null,"NA",null,{"$f":"IF(C52=0,\"NA\",VLOOKUP(B52,metal_cost_cl,3))","v":562.32324290352983},8434.8486435529467,{"$f":"IF(C52=0,\"NA\",VLOOKUP(B52,metal_cost_cl,IF(ss_cat=\"large\",4,5)))","v":35},1,"Post-Treatment Filters - Filter Basins - Aluminum Stairs",1,1,1,1,1,1,1,1,1,1,240.99567553008418]
["2.1.5","Excavation",{"$f":"IF(filter_type=1,filt_excavation_vol,0)","v":118.34458333333333},"cy","NA",null,"NA",null,{"$f":"IF(C53=0,\"NA\",VLOOKUP(0,excavate_cost_cl,3))","v":31.07454575596817},3677.5041697626548,{"$f":"IF(C53=0,\"NA\",VLOOKUP(0,conc_basin_cost_cl,IF(ss_cat=\"large\",4,5)))","v":37},1,"Post-Treatment Filters - Filter Basins - Excavation",1,1,1,1,1,1,1,1,1,1,99.392004588179859]
["2.1.6","Backfill and Compaction",{"$f":"IF(filter_type=1,filt_backfill_vol,0)","v":105.59458333333333},"cy","NA",null,"NA",null,{"$f":"IF(C54=0,\"NA\",VLOOKUP(0,backfill_cost_cl,3))","v":14.406259946949602},1521.2230164898319,{"$f":"IF(C54=0,\"NA\",VLOOKUP(0,conc_basin_cost_cl,IF(ss_cat=\"large\",4,5)))","v":37},1,"Post-Treatment Filters - Filter Basins - Backfill and Compaction",1,1,1,1,1,1,1,1,1,1,41.11413558080627]
[2.2000000000000002,"Pressure Vessels",null,null,null,null,null,null,null,null,null,null,null,null,null,null,null,null,null,null,null,null,0,0]
["2.2.1","Stainless Steel",{"$f":"final_num_tanks_filt","v":0},"units",{"$f":"comm_vol_gal_filt","v":"-"},"gal",{"$f":"IF(curve=1,comm_vol_gal_filt,VLOOKUP(comm_vol_gal_filt,ss_pv_cost_cl,2))","v":"-"},"gal",{"$f":"IF(C56=0,\"NA\",IF(curve=1,ss_pv_eq_filt,VLOOKUP(comm_vol_gal_filt,ss_pv_cost_cl,3)))","v":"NA"},{"$f":"IF(C56=0,\"--\",IF(I56=\"contact vendor\",\"--\",C56*I56))","v":"--"},{"$f":"IF(C56=0,\"NA\",VLOOKUP(comm_vol_gal_filt,ss_pv_cost_cl,IF(ss_cat=\"large\",4,5)))","v":"NA"},null,{"$f":"$B$47&\" - \"&$B$55&\" - \"&B56","v":"Post-Treatment Filters - Pressure Vessels - Stainless Steel"},4,4,1,4,4,1,4,4,1,0,0]
["2.2.1","Carbon Steel - Stainless Internals",{"$f":"final_num_tanks_filt","v":0},"units",{"$f":"comm_vol_gal_filt","v":"-"},"gal",{"$f":"IF(curve=1,comm_vol_gal_filt,VLOOKUP(comm_vol_gal_filt,ss_pv_cost_cl,2))","v":"-"},"gal",{"$f":"IF(C57=0,\"NA\",IF(curve=1,cs_pv_eq_filt,VLOOKUP(comm_vol_gal_filt,cs_pv_cost_cl,3)))","v":"NA"},{"$f":"IF(C57=0,\"--\",IF(I57=\"contact vendor\",\"--\",C57*I57))","v":"--"},{"$f":"IF(C57=0,\"NA\",VLOOKUP(comm_vol_gal_filt,cs_pv_cost_cl,IF(ss_cat=\"large\",4,5)))","v":"NA"},null,{"$f":"$B$47&\" - \"&$B$55&\" - \"&B57","v":"Post-Treatment Filters - Pressure Vessels - Carbon Steel - Stainless Internals"},3,3,2,3,3,2,3,3,2,0,0]
["2.2.1","Carbon Steel - Plastic Internals",{"$f":"final_num_tanks_filt","v":0},"units",{"$f":"comm_vol_gal_filt","v":"-"},"gal",{"$f":"IF(curve=1,comm_vol_gal_filt,VLOOKUP(comm_vol_gal_filt,ss_pv_cost_cl,2))","v":"-"},"gal",{"$f":"IF(C58=0,\"NA\",IF(curve=1,csp_pv_eq_filt,VLOOKUP(comm_vol_gal_filt,csp_pv_cost_cl,3)))","v":"NA"},{"$f":"IF(C58=0,\"--\",IF(I58=\"contact vendor\",\"--\",C58*I58))","v":"--"},{"$f":"IF(C58=0,\"NA\",VLOOKUP(comm_vol_gal_filt,csp_pv_cost_cl,IF(ss_cat=\"large\",4,5)))","v":"NA"},null,{"$f":"$B$47&\" - \"&$B$55&\" - \"&B58","v":"Post-Treatment Filters - Pressure Vessels - Carbon Steel - Plastic Internals"},2,1,3,2,1,3,2,1,3,0,0]
["2.2.1","Fiberglass",{"$f":"final_num_tanks_filt","v":0},"units",{"$f":"comm_vol_gal_filt","v":"-"},"gal",{"$f":"IF(curve=1,comm_vol_gal_filt,VLOOKUP(comm_vol_gal_filt,ss_pv_cost_cl,2))","v":"-"},"gal",{"$f":"IF(C59=0,\"NA\",IF(curve=1,fg_pv_eq_filt,VLOOKUP(comm_vol_gal_filt,fg_pv_cost_cl,3)))","v":"NA"},{"$f":"IF(C59=0,\"--\",IF(I59=\"contact vendor\",\"--\",C59*I59))","v":"--"},{"$f":"IF(C59=0,\"NA\",VLOOKUP(comm_vol_gal_filt,fg_pv_cost_cl,IF(ss_cat=\"large\",4,5)))","v":"NA"},null,{"$f":"$B$47&\" - \"&$B$55&\" - \"&B59","v":"Post-Treatment Filters - Pressure Vessels - Fiberglass"},1,2,4,1,2,4,1,2,4,0,0]
[2.2999999999999998,"Media",null,null,null,null,null,null,null,null,null,null,null,null,null,null,null,null,null,null,null,null,0,0]
["2.3.1","Anthracite",{"$f":"anthracite","v":1866.0873440285204},"lbs","NA",null,"NA",null,{"$f":"IF(anthracite=0,\"NA\",VLOOKUP(B61,media_cost_cl,3,FALSE))","v":0.50929908932075085},{"$f":"IF(anthracite=0,\"--\",IF(I61=\"contact vendor\",\"--\",C61*I61))","v":950.39658490670411},{"$f":"IF(I61=\"NA\",\"N/A\",IF(anthracite=0,\"N/A\",VLOOKUP(B61,media_cost_cl,IF(ss_cat=\"large\",4,5))))","v":8.5},1,{"$f":"$B$47&\" - \"&$B$60&\" - \"&B61","v":"Post-Treatment Filters - Media - Anthracite"},1,1,1,1,1,1,1,1,1,1,111.81136293020049]
["2.3.2","Sand",{"$f":"sand_vol","v":18.382352941176467},"cf","NA",null,"NA",null,{"$f":"IF(sand_vol=0,\"NA\",VLOOKUP(B62,media_cost_cl,3,FALSE))","v":23.556098116864867},{"$f":"IF(sand_vol=0,\"--\",IF(I62=\"contact vendor\",\"--\",C62*I62))","v":433.01650950119233},{"$f":"IF(I62=\"NA\",\"N/A\",IF(sand_vol=0,\"N/A\",VLOOKUP(B62,media_cost_cl,IF(ss_cat=\"large\",4,5))))","v":20},1,{"$f":"$B$47&\" - \"&$B$60&\" - \"&B62","v":"Post-Treatment Filters - Media - Sand"},1,1,1,1,1,1,1,1,1,1,21.650825475059616]
["2.3.3","Garnet/illmenite",{"$f":"garnet","v":0},"lbs","NA",null,"NA",null,{"$f":"IF(garnet=0,\"NA\",VLOOKUP(B63,media_cost_cl,3,FALSE))","v":"NA"},{"$f":"IF(garnet=0,\"--\",IF(I63=\"contact vendor\",\"--\",C63*I63))","v":"--"},{"$f":"IF(I63=\"NA\",\"N/A\",IF(garnet=0,\"N/A\",VLOOKUP(B63,media_cost_cl,IF(ss_cat=\"large\",4,5))))","v":"N/A"},null,{"$f":"$B$47&\" - \"&$B$60&\" - \"&B63","v":"Post-Treatment Filters - Media - Garnet/illmenite"},1,1,1,1,1,1,1,1,1,0,0]
["2.3.4","GAC",{"$f":"filt_GAC","v":0},"lbs","NA",null,"NA",null,{"$f":"IF(filt_GAC=0,\"NA\",IF(curve=1,filt_gac_eq,VLOOKUP(C64,gac_cost_cl,3)))","v":"NA"},{"$f":"IF(filt_GAC=0,\"--\",IF(I64=\"contact vendor\",\"--\",C64*I64))","v":"--"},{"$f":"IF(I64=\"NA\",\"N/A\",IF(filt_GAC=0,\"N/A\",VLOOKUP(filt_GAC/GAC_density,gac_cost_cl,IF(ss_cat=\"large\",4,5))))","v":"N/A"},null,{"$f":"$B$47&\" - \"&$B$60&\" - \"&B64","v":"Post-Treatment Filters - Media - GAC"},1,1,1,1,1,1,1,1,1,0,0]
["3","Tanks",null,null,null,null,null,null,null,null,null,null,null,null,null,null,null,null,null,null,null,null,0,0]
[3.1,"Backwash Tanks",null,null,null,null,null,null,null,null,null,null,null,null,null,null,null,null,null,null,null,null,0,0]
["3.1.1","Steel",{"$f":"back_tanks","v":0},"units",{"$f":"IF(C67=0,\"NA\",back_tank_vol)","v":"NA"},{"$f":"IF(C67=0,\"\",\"gal\")","v":""},{"$f":"IF(C67=0,\"NA\",IF(curve=1,back_tank_vol,VLOOKUP(back_tank_vol,st_bwt_cost_cl,2)))","v":"NA"},{"$f":"IF(C67=0,\"\",\"gal\")","v":""},{"$f":"IF(C67=0,\"NA\",IF(curve=1,st_bwt_eq,VLOOKUP(back_tank_vol,st_bwt_cost_cl,3)))","v":"NA"},{"$f":"IF(OR(C67=0,I67=\"contact vendor\"),\"--\",C67*I67)","v":"--"},{"$f":"IF(C67=0,\"NA\",VLOOKUP(back_tank_vol,st_bwt_cost_cl,IF(ss_cat=\"large\",4,5)))","v":"NA"},null,{"$f":"$B$65&\" - \"&$B$66&\" - \"&B67","v":"Tanks - Backwash Tanks - Steel"},3,3,1,3,3,1,3,3,1,0,0]
["3.1.1","Fiberglass",{"$f":"back_tanks","v":0},"units",{"$f":"IF(C68=0,\"NA\",back_tank_vol)","v":"NA"},{"$f":"IF(C68=0,\"\",\"gal\")","v":""},{"$f":"IF(C68=0,\"NA\",IF(curve=1,back_tank_vol,VLOOKUP(back_tank_vol,fg_bwt_cost_cl,2)))","v":"NA"},{"$f":"IF(C68=0,\"\",\"gal\")","v":""},{"$f":"IF(C68=0,\"NA\",IF(curve=1,fg_bwt_eq,VLOOKUP(back_tank_vol,fg_bwt_cost_cl,3)))","v":"NA"},{"$f":"IF(OR(C68=0,I68=\"contact vendor\"),\"--\",C68*I68)","v":"--"},{"$f":"IF(C68=0,\"NA\",VLOOKUP(back_tank_vol,fg_bwt_cost_cl,IF(ss_cat=\"large\",4,5)))","v":"NA"},null,{"$f":"$B$65&\" - \"&$B$66&\" - \"&B68","v":"Tanks - Backwash Tanks - Fiberglass"},2,1,2,2,1,2,2,1,2,0,0]
["3.1.1","Plastic",{"$f":"back_tanks","v":0},"units",{"$f":"IF(C69=0,\"NA\",back_tank_vol)","v":"NA"},{"$f":"IF(C69=0,\"\",\"gal\")","v":""},{"$f":"IF(C69=0,\"NA\",IF(curve=1,back_tank_vol,VLOOKUP(back_tank_vol,hdpe_bwt_cost_cl,2)))","v":"NA"},{"$f":"IF(C69=0,\"\",\"gal\")","v":""},{"$f":"IF(C69=0,\"NA\",IF(curve=1,hdpe_bwt_eq,VLOOKUP(back_tank_vol,hdpe_bwt_cost_cl,3)))","v":"NA"},{"$f":"IF(OR(C69=0,I69=\"contact vendor\"),\"--\",C69*I69)","v":"--"},{"$f":"IF(C69=0,\"NA\",VLOOKUP(back_tank_vol,hdpe_bwt_cost_cl,IF(ss_cat=\"large\",4,5)))","v":"NA"},null,{"$f":"$B$65&\" - \"&$B$66&\" - \"&B69","v":"Tanks - Backwash Tanks - Plastic"},1,2,3,1,2,3,1,2,3,0,0]
[3.2,"Electron Donor Storage Tanks",null,null,null,null,null,null,null,null,null,null,null,null,null,null,null,null,null,null,null,null,0,0]
["3.2.1","Plastic/XLPE",{"$f":"e_donor_tanks","v":1},"units",{"$f":"IF(C71=0,\"NA\",e_donor_tank_vol)","v":11},{"$f":"IF(C71=0,\"\",\"gal\")","v":"gal"},{"$f":"IF(C71=0,\"NA\",IF(curve=1,e_donor_tank_vol,VLOOKUP(e_donor_tank_vol,pl_cst_cost_cl,2)))","v":11},{"$f":"IF(C71=0,\"\",\"gal\")","v":"gal"},{"$f":"IF(C71=0,\"NA\",IF(curve=1,pl_e_donor_st_eq,VLOOKUP(e_donor_tank_vol,pl_cst_cost_cl,3)))","v":807.95083836499998},{"$f":"IF(OR(C71=0,I71=\"contact vendor\"),\"--\",C71*I71)","v":807.95083836499998},{"$f":"IF(C71=0,\"NA\",VLOOKUP(e_donor_tank_vol,pl_cst_cost_cl,IF(ss_cat=\"large\",4,5)))","v":7},1,{"$f":"$B$65&\" - \"&$B$70&\" - \"&B71","v":"Tanks - Electron Donor Storage Tanks - Plastic/XLPE"},1,2,3,1,2,3,1,2,3,1,115.42154833785715]
["3.2.1","Fiberglass",{"$f":"e_donor_tanks","v":1},"units",{"$f":"IF(C72=0,\"NA\",e_donor_tank_vol)","v":11},{"$f":"IF(C72=0,\"\",\"gal\")","v":"gal"},{"$f":"IF(C72=0,\"NA\",IF(curve=1,e_donor_tank_vol,VLOOKUP(e_donor_tank_vol,fg_cst_cost_cl,2)))","v":11},{"$f":"IF(C72=0,\"\",\"gal\")","v":"gal"},{"$f":"IF(C72=0,\"NA\",IF(curve=1,fg_e_donor_st_eq,VLOOKUP(e_donor_tank_vol,fg_cst_cost_cl,3)))","v":4696.8910206319997},{"$f":"IF(OR(C72=0,I72=\"contact vendor\"),\"--\",C72*I72)","v":4696.8910206319997},{"$f":"IF(C72=0,\"NA\",VLOOKUP(e_donor_tank_vol,fg_cst_cost_cl,IF(ss_cat=\"large\",4,5)))","v":7},0,{"$f":"$B$65&\" - \"&$B$70&\" - \"&B72","v":"Tanks - Electron Donor Storage Tanks - Fiberglass"},2,1,2,2,1,2,2,1,2,0,0]
["3.2.1","Stainless Steel",{"$f":"e_donor_tanks","v":1},"units",{"$f":"IF(C73=0,\"NA\",e_donor_tank_vol)","v":11},{"$f":"IF(C73=0,\"\",\"gal\")","v":"gal"},{"$f":"IF(C73=0,\"NA\",IF(curve=1,e_donor_tank_vol,VLOOKUP(e_donor_tank_vol,ss_cst_cost_cl,2)))","v":11},{"$f":"IF(C73=0,\"\",\"gal\")","v":"gal"},{"$f":"IF(C73=0,\"NA\",IF(curve=1,ss_e_donor_st_eq,VLOOKUP(e_donor_tank_vol,ss_cst_cost_cl,3)))","v":4432.608820939},{"$f":"IF(OR(C73=0,I73=\"contact vendor\"),\"--\",C73*I73)","v":4432.608820939},{"$f":"IF(C73=0,\"NA\",VLOOKUP(e_donor_tank_vol,ss_cst_cost_cl,IF(ss_cat=\"large\",4,5)))","v":30},0,{"$f":"$B$65&\" - \"&$B$70&\" - \"&B73","v":"Tanks - Electron Donor Storage Tanks - Stainless Steel"},3,3,1,3,3,1,3,3,1,0,0]
["3.2.2","Secondary Containment - Concrete Curbing",{"$f":"IF(OR(include_sec_cont=0,e_donor_tanks=0),0,e_donor_st_curb_concrete)","v":1},"cy","NA",null,"NA",null,{"$f":"IF(C74=0,\"NA\",VLOOKUP(0,conc_basin_cost_cl,3))","v":601.26511720822305},{"$f":"IF(C74=0,\"--\",IF(I74=\"contact vendor\",\"--\",C74*I74))","v":601.26511720822305},{"$f":"IF(C74=0,\"NA\",VLOOKUP(0,conc_basin_cost_cl,IF(ss_cat=\"large\",4,5)))","v":37},1,{"$f":"$B$65&\" - \"&$B$70&\" - \"&B74","v":"Tanks - Electron Donor Storage Tanks - Secondary Containment - Concrete Curbing"},1,1,1,1,1,1,1,1,1,{"$f":"IF(ISERROR(K74*L74),0,IF(K74<1,0,L74))","v":1},{"$f":"IF(W74,J74/K74,0)","v":16.250408573195216}]
["3.2.3","Secondary Containment - Chemical Resistant Coating",{"$f":"IF(OR(include_sec_cont=0,e_donor_tanks=0),0,e_donor_st_coating_gal)","v":1},"gal","NA",null,"NA",null,{"$f":"IF(C75=0,\"NA\",VLOOKUP(0,conc_coating_cost_cl,3))","v":257.02531540504651},{"$f":"IF(C75=0,\"--\",IF(I75=\"contact vendor\",\"--\",C75*I75))","v":257.02531540504651},{"$f":"IF(C75=0,\"NA\",VLOOKUP(0,conc_coating_cost_cl,IF(ss_cat=\"large\",4,5)))","v":10},1,{"$f":"$B$65&\" - \"&$B$70&\" - \"&B75","v":"Tanks - Electron Donor Storage Tanks - Secondary Containment - Chemical Resistant Coating"},1,1,1,1,1,1,1,1,1,{"$f":"IF(ISERROR(K75*L75),0,IF(K75<1,0,L75))","v":1},{"$f":"IF(W75,J75/K75,0)","v":25.702531540504651}]
[3.3,"Ammonium Chloride Storage Tanks",null,null,null,null,null,null,null,null,null,null,null,null,null,null,null,null,null,null,null,null,0,0]
["3.3.1","Plastic/XLPE",{"$f":"NH4Cl_tanks","v":0},"units",{"$f":"IF(C77=0,\"NA\",NH4Cl_tank_vol)","v":"NA"},{"$f":"IF(C77=0,\"\",\"gal\")","v":""},{"$f":"IF(C77=0,\"NA\",IF(curve=1,NH4Cl_tank_vol,VLOOKUP(NH4Cl_tank_vol,pl_cst_cost_cl,2)))","v":"NA"},{"$f":"IF(C77=0,\"\",\"gal\")","v":""},{"$f":"IF(C77=0,\"NA\",IF(curve=1,pl_NH4Cl_st_eq,VLOOKUP(NH4Cl_tank_vol,pl_cst_cost_cl,3)))","v":"NA"},{"$f":"IF(OR(C77=0,I77=\"contact vendor\"),\"--\",C77*I77)","v":"--"},{"$f":"IF(C77=0,\"NA\",VLOOKUP(NH4Cl_tank_vol,pl_cst_cost_cl,IF(ss_cat=\"large\",4,5)))","v":"NA"},null,{"$f":"$B$65&\" - \"&$B$76&\" - \"&B77","v":"Tanks - Ammonium Chloride Storage Tanks - Plastic/XLPE"},1,2,3,1,2,3,1,2,3,0,0]
["3.3.1","Fiberglass",{"$f":"NH4Cl_tanks","v":0},"units",{"$f":"IF(C78=0,\"NA\",NH4Cl_tank_vol)","v":"NA"},{"$f":"IF(C78=0,\"\",\"gal\")","v":""},{"$f":"IF(C78=0,\"NA\",IF(curve=1,NH4Cl_tank_vol,VLOOKUP(NH4Cl_tank_vol,fg_cst_cost_cl,2)))","v":"NA"},{"$f":"IF(C78=0,\"\",\"gal\")","v":""},{"$f":"IF(C78=0,\"NA\",IF(curve=1,fg_NH4Cl_st_eq,VLOOKUP(NH4Cl_tank_vol,fg_cst_cost_cl,3)))","v":"NA"},{"$f":"IF(OR(C78=0,I78=\"contact vendor\"),\"--\",C78*I78)","v":"--"},{"$f":"IF(C78=0,\"NA\",VLOOKUP(NH4Cl_tank_vol,fg_cst_cost_cl,IF(ss_cat=\"large\",4,5)))","v":"NA"},null,{"$f":"$B$65&\" - \"&$B$76&\" - \"&B78","v":"Tanks - Ammonium Chloride Storage Tanks - Fiberglass"},2,1,2,2,1,2,2,1,2,0,0]
["3.3.1","Stainless Steel",{"$f":"NH4Cl_tanks","v":0},"units",{"$f":"IF(C79=0,\"NA\",NH4Cl_tank_vol)","v":"NA"},{"$f":"IF(C79=0,\"\",\"gal\")","v":""},{"$f":"IF(C79=0,\"NA\",IF(curve=1,NH4Cl_tank_vol,VLOOKUP(NH4Cl_tank_vol,ss_cst_cost_cl,2)))","v":"NA"},{"$f":"IF(C79=0,\"\",\"gal\")","v":""},{"$f":"IF(C79=0,\"NA\",IF(curve=1,ss_NH4Cl_st_eq,VLOOKUP(NH4Cl_tank_vol,ss_cst_cost_cl,3)))","v":"NA"},{"$f":"IF(OR(C79=0,I79=\"contact vendor\"),\"--\",C79*I79)","v":"--"},{"$f":"IF(C79=0,\"NA\",VLOOKUP(NH4Cl_tank_vol,ss_cst_cost_cl,IF(ss_cat=\"large\",4,5)))","v":"NA"},null,{"$f":"$B$65&\" - \"&$B$76&\" - \"&B79","v":"Tanks - Ammonium Chloride Storage Tanks - Stainless Steel"},3,3,1,3,3,1,3,3,1,0,0]
["3.3.2","Secondary Containment - Concrete Curbing",{"$f":"IF(OR(include_sec_cont=0,NH4Cl_tanks=0),0,NH4Cl_st_curb_concrete)","v":0},"cy","NA",null,"NA",null,{"$f":"IF(C80=0,\"NA\",VLOOKUP(0,conc_basin_cost_cl,3))","v":"NA"},{"$f":"IF(C80=0,\"--\",IF(I80=\"contact vendor\",\"--\",C80*I80))","v":"--"},{"$f":"IF(C80=0,\"NA\",VLOOKUP(0,conc_basin_cost_cl,IF(ss_cat=\"large\",4,5)))","v":"NA"},null,{"$f":"$B$65&\" - \"&$B$76&\" - \"&B80","v":"Tanks - Ammonium Chloride Storage Tanks - Secondary Containment - Concrete Curbing"},1,1,1,1,1,1,1,1,1,0,0]
["3.3.3","Secondary Containment - Chemical Resistant Coating",{"$f":"IF(OR(include_sec_cont=0,NH4Cl_tanks=0),0,NH4Cl_st_coating_gal)","v":0},"gal","NA",null,"NA",null,{"$f":"IF(C81=0,\"NA\",VLOOKUP(0,conc_coating_cost_cl,3))","v":"NA"},{"$f":"IF(C81=0,\"--\",IF(I81=\"contact vendor\",\"--\",C81*I81))","v":"--"},{"$f":"IF(C81=0,\"NA\",VLOOKUP(0,conc_coating_cost_cl,IF(ss_cat=\"large\",4,5)))","v":"NA"},null,{"$f":"$B$65&\" - \"&$B$76&\" - \"&B81","v":"Tanks - Ammonium Chloride Storage Tanks - Secondary Containment - Chemical Resistant Coating"},1,1,1,1,1,1,1,1,1,0,0]
["3.4","Phosphoric Acid Storage Tanks",null,null,null,null,null,null,null,null,null,null,null,null,null,null,null,null,null,null,null,null,0,0]
["3.4.1","Plastic/XLPE",{"$f":"H3PO4_tanks","v":1},"units",{"$f":"IF(C83=0,\"NA\",H3PO4_tank_vol)","v":1},{"$f":"IF(C83=0,\"\",\"gal\")","v":"gal"},{"$f":"IF(C83=0,\"NA\",IF(curve=1,H3PO4_tank_vol,VLOOKUP(H3PO4_tank_vol,pl_cst_cost_cl,2)))","v":1},{"$f":"IF(C83=0,\"\",\"gal\")","v":"gal"},{"$f":"IF(C83=0,\"NA\",IF(curve=1,pl_H3PO4_st_eq,VLOOKUP(H3PO4_tank_vol,pl_cst_cost_cl,3)))","v":792.22119179499998},{"$f":"IF(OR(C83=0,I83=\"contact vendor\"),\"--\",C83*I83)","v":792.22119179499998},{"$f":"IF(C83=0,\"NA\",VLOOKUP(H3PO4_tank_vol,pl_cst_cost_cl,IF(ss_cat=\"large\",4,5)))","v":7},1,{"$f":"$B$65&\" - \"&$B$82&\" - \"&B83","v":"Tanks - Phosphoric Acid Storage Tanks - Plastic/XLPE"},1,2,2,1,2,2,1,2,2,1,113.17445597071428]
["3.4.1","Fiberglass",{"$f":"H3PO4_tanks","v":1},"units",{"$f":"IF(C84=0,\"NA\",H3PO4_tank_vol)","v":1},{"$f":"IF(C84=0,\"\",\"gal\")","v":"gal"},{"$f":"IF(C84=0,\"NA\",IF(curve=1,H3PO4_tank_vol,VLOOKUP(H3PO4_tank_vol,fg_cst_cost_cl,2)))","v":1},{"$f":"IF(C84=0,\"\",\"gal\")","v":"gal"},{"$f":"IF(C84=0,\"NA\",IF(curve=1,fg_H3PO4_st_eq,VLOOKUP(H3PO4_day_vol,fg_cst_cost_cl,3)))","v":4679.1485799319998},{"$f":"IF(OR(C84=0,I84=\"contact vendor\"),\"--\",C84*I84)","v":4679.1485799319998},{"$f":"IF(C84=0,\"NA\",VLOOKUP(H3PO4_tank_vol,fg_cst_cost_cl,IF(ss_cat=\"large\",4,5)))","v":7},0,{"$f":"$B$65&\" - \"&$B$82&\" - \"&B84","v":"Tanks - Phosphoric Acid Storage Tanks - Fiberglass"},2,1,1,2,1,1,2,1,1,0,0]
["3.4.2","Secondary Containment - Concrete Curbing",{"$f":"IF(OR(include_sec_cont=0,H3PO4_tanks=0),0,H3PO4_st_curb_concrete)","v":1},"cy","NA",null,"NA",null,{"$f":"IF(C85=0,\"NA\",VLOOKUP(0,conc_basin_cost_cl,3))","v":601.26511720822305},{"$f":"IF(C85=0,\"--\",IF(I85=\"contact vendor\",\"--\",C85*I85))","v":601.26511720822305},{"$f":"IF(C85=0,\"NA\",VLOOKUP(0,conc_basin_cost_cl,IF(ss_cat=\"large\",4,5)))","v":37},1,{"$f":"$B$65&\" - \"&$B$76&\" - \"&B85","v":"Tanks - Ammonium Chloride Storage Tanks - Secondary Containment - Concrete Curbing"},1,1,1,1,1,1,1,1,1,{"$f":"IF(ISERROR(K85*L85),0,IF(K85<1,0,L85))","v":1},{"$f":"IF(W85,J85/K85,0)","v":16.250408573195216}]
["3.4.3","Secondary Containment - Chemical Resistant Coating",{"$f":"IF(OR(include_sec_cont=0,H3PO4_tanks=0),0,H3PO4_st_coating_gal)","v":1},"gal","NA",null,"NA",null,{"$f":"IF(C86=0,\"NA\",VLOOKUP(0,conc_coating_cost_cl,3))","v":257.02531540504651},{"$f":"IF(C86=0,\"--\",IF(I86=\"contact vendor\",\"--\",C86*I86))","v":257.02531540504651},{"$f":"IF(C86=0,\"NA\",VLOOKUP(0,conc_coating_cost_cl,IF(ss_cat=\"large\",4,5)))","v":10},1,{"$f":"$B$65&\" - \"&$B$76&\" - \"&B86","v":"Tanks - Ammonium Chloride Storage Tanks - Secondary Containment - Chemical Resistant Coating"},1,1,1,1,1,1,1,1,1,{"$f":"IF(ISERROR(K86*L86),0,IF(K86<1,0,L86))","v":1},{"$f":"IF(W86,J86/K86,0)","v":25.702531540504651}]
[3.5,"Electron Donor Day Tanks",null,null,null,null,null,null,null,null,null,null,null,null,null,null,null,null,null,null,null,null,0,0]
["3.5.1","Plastic/XLPE",{"$f":"e_donor_day_tanks","v":1},"units",{"$f":"IF(C88=0,\"NA\",e_donor_day_tank_vol)","v":7},{"$f":"IF(C88=0,\"\",\"gal\")","v":"gal"},{"$f":"IF(C88=0,\"NA\",IF(curve=1,e_donor_day_tank_vol,VLOOKUP(e_donor_day_tank_vol,pl_cst_cost_cl,2)))","v":7},{"$f":"IF(C88=0,\"\",\"gal\")","v":"gal"},{"$f":"IF(C88=0,\"NA\",IF(curve=1,pl_e_donor_day_eq,VLOOKUP(e_donor_day_tank_vol,pl_cst_cost_cl,3)))","v":801.65827968100007},{"$f":"IF(OR(C88=0,I88=\"contact vendor\"),\"--\",C88*I88)","v":801.65827968100007},{"$f":"IF(C88=0,\"NA\",VLOOKUP(e_donor_day_tank_vol,pl_cst_cost_cl,IF(ss_cat=\"large\",4,5)))","v":7},1,{"$f":"$B$65&\" - \"&$B$87&\" - \"&B88","v":"Tanks - Electron Donor Day Tanks - Plastic/XLPE"},1,2,3,1,2,3,1,2,3,1,114.52261138300001]
["3.5.1","Fiberglass",{"$f":"e_donor_day_tanks","v":1},"units",{"$f":"IF(C89=0,\"NA\",e_donor_day_tank_vol)","v":7},{"$f":"IF(C89=0,\"\",\"gal\")","v":"gal"},{"$f":"IF(C89=0,\"NA\",IF(curve=1,e_donor_day_tank_vol,VLOOKUP(e_donor_day_tank_vol,fg_cst_cost_cl,2)))","v":7},{"$f":"IF(C89=0,\"\",\"gal\")","v":"gal"},{"$f":"IF(C89=0,\"NA\",IF(curve=1,fg_e_donor_day_eq,VLOOKUP(e_donor_day_tank_vol,fg_cst_cost_cl,3)))","v":4689.7946090959995},{"$f":"IF(OR(C89=0,I89=\"contact vendor\"),\"--\",C89*I89)","v":4689.7946090959995},{"$f":"IF(C89=0,\"NA\",VLOOKUP(e_donor_day_tank_vol,fg_cst_cost_cl,IF(ss_cat=\"large\",4,5)))","v":7},0,{"$f":"$B$65&\" - \"&$B$87&\" - \"&B89","v":"Tanks - Electron Donor Day Tanks - Fiberglass"},2,1,2,2,1,2,2,1,2,0,0]
["3.5.1","Stainless Steel",{"$f":"e_donor_day_tanks","v":1},"units",{"$f":"IF(C90=0,\"NA\",e_donor_day_tank_vol)","v":7},{"$f":"IF(C90=0,\"\",\"gal\")","v":"gal"},{"$f":"IF(C90=0,\"NA\",IF(curve=1,e_donor_day_tank_vol,VLOOKUP(e_donor_day_tank_vol,ss_cst_cost_cl,2)))","v":7},{"$f":"IF(C90=0,\"\",\"gal\")","v":"gal"},{"$f":"IF(C90=0,\"NA\",IF(curve=1,ss_e_donor_day_eq,VLOOKUP(e_donor_day_tank_vol,ss_cst_cost_cl,3)))","v":4421.7443718670002},{"$f":"IF(OR(C90=0,I90=\"contact vendor\"),\"--\",C90*I90)","v":4421.7443718670002},{"$f":"IF(C90=0,\"NA\",VLOOKUP(e_donor_day_tank_vol,ss_cst_cost_cl,IF(ss_cat=\"large\",4,5)))","v":30},0,{"$f":"$B$65&\" - \"&$B$87&\" - \"&B90","v":"Tanks - Electron Donor Day Tanks - Stainless Steel"},3,3,1,3,3,1,3,3,1,0,0]
["3.5.2","Secondary Containment - Concrete Curbing",{"$f":"IF(OR(include_sec_cont=0,e_donor_day_tanks=0),0,e_donor_dt_curb_concrete)","v":1},"cy","NA",null,"NA",null,{"$f":"IF(C91=0,\"NA\",VLOOKUP(0,conc_basin_cost_cl,3))","v":601.26511720822305},{"$f":"IF(C91=0,\"--\",IF(I91=\"contact vendor\",\"--\",C91*I91))","v":601.26511720822305},{"$f":"IF(C91=0,\"NA\",VLOOKUP(0,conc_basin_cost_cl,IF(ss_cat=\"large\",4,5)))","v":37},1,{"$f":"$B$65&\" - \"&$B$87&\" - \"&B91","v":"Tanks - Electron Donor Day Tanks - Secondary Containment - Concrete Curbing"},1,1,1,1,1,1,1,1,1,{"$f":"IF(ISERROR(K91*L91),0,IF(K91<1,0,L91))","v":1},{"$f":"IF(W91,J91/K91,0)","v":16.250408573195216}]
["3.5.3","Secondary Containment - Chemical Resistant Coating",{"$f":"IF(OR(include_sec_cont=0,e_donor_day_tanks=0),0,e_donor_dt_coating_gal)","v":1},"gal","NA",null,"NA",null,{"$f":"IF(C92=0,\"NA\",VLOOKUP(0,conc_coating_cost_cl,3))","v":257.02531540504651},{"$f":"IF(C92=0,\"--\",IF(I92=\"contact vendor\",\"--\",C92*I92))","v":257.02531540504651},{"$f":"IF(C92=0,\"NA\",VLOOKUP(0,conc_coating_cost_cl,IF(ss_cat=\"large\",4,5)))","v":10},1,{"$f":"$B$65&\" - \"&$B$87&\" - \"&B92","v":"Tanks - Electron Donor Day Tanks - Secondary Containment - Chemical Resistant Coating"},1,1,1,1,1,1,1,1,1,{"$f":"IF(ISERROR(K92*L92),0,IF(K92<1,0,L92))","v":1},{"$f":"IF(W92,J92/K92,0)","v":25.702531540504651}]
[3.6,"Ammonium Chloride Day Tanks",null,null,null,null,null,null,null,null,null,null,null,null,null,null,null,null,null,null,null,null,0,0]
["3.6.1","Plastic/XLPE",{"$f":"NH4Cl_day_tanks","v":0},"units",{"$f":"IF(C94=0,\"NA\",NH4Cl_day_tank_vol)","v":"NA"},{"$f":"IF(C94=0,\"\",\"gal\")","v":""},{"$f":"IF(C94=0,\"NA\",IF(curve=1,NH4Cl_day_tank_vol,VLOOKUP(NH4Cl_day_tank_vol,pl_cst_cost_cl,2)))","v":"NA"},{"$f":"IF(C94=0,\"\",\"gal\")","v":""},{"$f":"IF(C94=0,\"NA\",IF(curve=1,pl_NH4Cl_day_eq,VLOOKUP(NH4Cl_day_tank_vol,pl_cst_cost_cl,3)))","v":"NA"},{"$f":"IF(OR(C94=0,I94=\"contact vendor\"),\"--\",C94*I94)","v":"--"},{"$f":"IF(C94=0,\"NA\",VLOOKUP(NH4Cl_day_tank_vol,pl_cst_cost_cl,IF(ss_cat=\"large\",4,5)))","v":"NA"},null,{"$f":"$B$65&\" - \"&$B$93&\" - \"&B94","v":"Tanks - Ammonium Chloride Day Tanks - Plastic/XLPE"},1,2,3,1,2,3,1,2,3,0,0]
["3.6.1","Fiberglass",{"$f":"NH4Cl_day_tanks","v":0},"units",{"$f":"IF(C95=0,\"NA\",NH4Cl_day_tank_vol)","v":"NA"},{"$f":"IF(C95=0,\"\",\"gal\")","v":""},{"$f":"IF(C95=0,\"NA\",IF(curve=1,NH4Cl_day_tank_vol,VLOOKUP(NH4Cl_day_tank_vol,fg_cst_cost_cl,2)))","v":"NA"},{"$f":"IF(C95=0,\"\",\"gal\")","v":""},{"$f":"IF(C95=0,\"NA\",IF(curve=1,fg_NH4Cl_day_eq,VLOOKUP(NH4Cl_day_tank_vol,fg_cst_cost_cl,3)))","v":"NA"},{"$f":"IF(OR(C95=0,I95=\"contact vendor\"),\"--\",C95*I95)","v":"--"},{"$f":"IF(C95=0,\"NA\",VLOOKUP(NH4Cl_day_tank_vol,fg_cst_cost_cl,IF(ss_cat=\"large\",4,5)))","v":"NA"},null,{"$f":"$B$65&\" - \"&$B$93&\" - \"&B95","v":"Tanks - Ammonium Chloride Day Tanks - Fiberglass"},2,1,2,2,1,2,2,1,2,0,0]
["3.6.1","Stainless Steel",{"$f":"NH4Cl_day_tanks","v":0},"units",{"$f":"IF(C96=0,\"NA\",NH4Cl_day_tank_vol)","v":"NA"},{"$f":"IF(C96=0,\"\",\"gal\")","v":""},{"$f":"IF(C96=0,\"NA\",IF(curve=1,NH4Cl_day_tank_vol,VLOOKUP(NH4Cl_day_tank_vol,ss_cst_cost_cl,2)))","v":"NA"},{"$f":"IF(C96=0,\"\",\"gal\")","v":""},{"$f":"IF(C96=0,\"NA\",IF(curve=1,ss_NH4Cl_day_eq,VLOOKUP(NH4Cl_day_tank_vol,ss_cst_cost_cl,3)))","v":"NA"},{"$f":"IF(OR(C96=0,I96=\"contact vendor\"),\"--\",C96*I96)","v":"--"},{"$f":"IF(C96=0,\"NA\",VLOOKUP(NH4Cl_day_tank_vol,ss_cst_cost_cl,IF(ss_cat=\"large\",4,5)))","v":"NA"},null,{"$f":"$B$65&\" - \"&$B$93&\" - \"&B96","v":"Tanks - Ammonium Chloride Day Tanks - Stainless Steel"},3,3,1,3,3,1,3,3,1,0,0]
["3.6.2","Secondary Containment - Concrete Curbing",{"$f":"IF(OR(include_sec_cont=0,NH4Cl_day_tanks=0),0,NH4Cl_dt_curb_concrete)","v":0},"cy","NA",null,"NA",null,{"$f":"IF(C97=0,\"NA\",VLOOKUP(0,conc_basin_cost_cl,3))","v":"NA"},{"$f":"IF(C97=0,\"--\",IF(I97=\"contact vendor\",\"--\",C97*I97))","v":"--"},{"$f":"IF(C97=0,\"NA\",VLOOKUP(0,conc_basin_cost_cl,IF(ss_cat=\"large\",4,5)))","v":"NA"},null,{"$f":"$B$65&\" - \"&$B$93&\" - \"&B97","v":"Tanks - Ammonium Chloride Day Tanks - Secondary Containment - Concrete Curbing"},1,1,1,1,1,1,1,1,1,{"$f":"IF(ISERROR(K97*L97),0,IF(K97<1,0,L97))","v":0},{"$f":"IF(W97,J97/K97,0)","v":0}]
["3.6.3","Secondary Containment - Chemical Resistant Coating",{"$f":"IF(OR(include_sec_cont=0,NH4Cl_day_tanks=0),0,NH4Cl_dt_coating_gal)","v":0},"gal","NA",null,"NA",null,{"$f":"IF(C98=0,\"NA\",VLOOKUP(0,conc_coating_cost_cl,3))","v":"NA"},{"$f":"IF(C98=0,\"--\",IF(I98=\"contact vendor\",\"--\",C98*I98))","v":"--"},{"$f":"IF(C98=0,\"NA\",VLOOKUP(0,conc_coating_cost_cl,IF(ss_cat=\"large\",4,5)))","v":"NA"},null,{"$f":"$B$65&\" - \"&$B$93&\" - \"&B98","v":"Tanks - Ammonium Chloride Day Tanks - Secondary Containment - Chemical Resistant Coating"},1,1,1,1,1,1,1,1,1,{"$f":"IF(ISERROR(K98*L98),0,IF(K98<1,0,L98))","v":0},{"$f":"IF(W98,J98/K98,0)","v":0}]
[3.7,"Phosphoric Acid Day Tanks",null,null,null,null,null,null,null,null,null,null,null,null,null,null,null,null,null,null,null,null,0,0]
["3.7.1","Plastic/XLPE",{"$f":"H3PO4_day_tanks","v":0},"units",{"$f":"IF(C100=0,\"NA\",H3PO4_day_tank_vol)","v":"NA"},{"$f":"IF(C100=0,\"\",\"gal\")","v":""},{"$f":"IF(C100=0,\"NA\",IF(curve=1,H3PO4_day_tank_vol,VLOOKUP(H3PO4_day_tank_vol,pl_cst_cost_cl,2)))","v":"NA"},{"$f":"IF(C100=0,\"\",\"gal\")","v":""},{"$f":"IF(C100=0,\"NA\",IF(curve=1,pl_H3PO4_day_eq,VLOOKUP(H3PO4_day_tank_vol,pl_cst_cost_cl,3)))","v":"NA"},{"$f":"IF(OR(C100=0,I100=\"contact vendor\"),\"--\",C100*I100)","v":"--"},{"$f":"IF(C100=0,\"NA\",VLOOKUP(H3PO4_day_tank_vol,pl_cst_cost_cl,IF(ss_cat=\"large\",4,5)))","v":"NA"},null,{"$f":"$B$65&\" - \"&$B$99&\" - \"&B100","v":"Tanks - Phosphoric Acid Day Tanks - Plastic/XLPE"},1,2,2,1,2,2,1,2,2,0,0]
["3.7.1","Fiberglass",{"$f":"H3PO4_day_tanks","v":0},"units",{"$f":"IF(C101=0,\"NA\",H3PO4_day_tank_vol)","v":"NA"},{"$f":"IF(C101=0,\"\",\"gal\")","v":""},{"$f":"IF(C101=0,\"NA\",IF(curve=1,H3PO4_tank_vol,VLOOKUP(H3PO4_tank_vol,fg_cst_cost_cl,2)))","v":"NA"},{"$f":"IF(C101=0,\"\",\"gal\")","v":""},{"$f":"IF(C101=0,\"NA\",IF(curve=1,fg_H3PO4_day_eq,VLOOKUP(H3PO4_day_tank_vol,fg_cst_cost_cl,3)))","v":"NA"},{"$f":"IF(OR(C101=0,I101=\"contact vendor\"),\"--\",C101*I101)","v":"--"},{"$f":"IF(C101=0,\"NA\",VLOOKUP(H3PO4_day_tank_vol,fg_cst_cost_cl,IF(ss_cat=\"large\",4,5)))","v":"NA"},null,{"$f":"$B$65&\" - \"&$B$99&\" - \"&B101","v":"Tanks - Phosphoric Acid Day Tanks - Fiberglass"},2,1,1,2,1,1,2,1,1,0,0]
["3.7.2","Secondary Containment - Concrete Curbing",{"$f":"IF(OR(include_sec_cont=0,H3PO4_day_tanks=0),0,H3PO4_dt_curb_concrete)","v":0},"cy","NA",null,"NA",null,{"$f":"IF(C102=0,\"NA\",VLOOKUP(0,conc_basin_cost_cl,3))","v":"NA"},{"$f":"IF(C102=0,\"--\",IF(I102=\"contact vendor\",\"--\",C102*I102))","v":"--"},{"$f":"IF(C102=0,\"NA\",VLOOKUP(0,conc_basin_cost_cl,IF(ss_cat=\"large\",4,5)))","v":"NA"},null,{"$f":"$B$65&\" - \"&$B$99&\" - \"&B102","v":"Tanks - Phosphoric Acid Day Tanks - Secondary Containment - Concrete Curbing"},1,1,1,1,1,1,1,1,1,{"$f":"IF(ISERROR(K102*L102),0,IF(K102<1,0,L102))","v":0},{"$f":"IF(W102,J102/K102,0)","v":0}]
["3.7.3","Secondary Containment - Chemical Resistant Coating",{"$f":"IF(OR(include_sec_cont=0,H3PO4_day_tanks=0),0,H3PO4_dt_coating_gal)","v":0},"gal","NA",null,"NA",null,{"$f":"IF(C103=0,\"NA\",VLOOKUP(0,conc_coating_cost_cl,3))","v":"NA"},{"$f":"IF(C103=0,\"--\",IF(I103=\"contact vendor\",\"--\",C103*I103))","v":"--"},{"$f":"IF(C103=0,\"NA\",VLOOKUP(0,conc_coating_cost_cl,IF(ss_cat=\"large\",4,5)))","v":"NA"},null,{"$f":"$B$65&\" - \"&$B$99&\" - \"&B103","v":"Tanks - Phosphoric Acid Day Tanks - Secondary Containment - Chemical Resistant Coating"},1,1,1,1,1,1,1,1,1,{"$f":"IF(ISERROR(K103*L103),0,IF(K103<1,0,L103))","v":0},{"$f":"IF(W103,J103/K103,0)","v":0}]
[3.8,"Residuals Holding Tanks/Basins",null,null,null,null,null,null,null,null,null,null,null,null,null,null,null,null,null,null,null,null,0,0]
["3.8.1","Concrete Basins (includes Excavation, Backfill, and Compaction)",{"$f":"hbasins","v":1},"units",{"$f":"IF(hbasins=0,\"NA\",hbasin_vol)","v":4241},{"$f":"IF(C105=0,\"\",\"gal\")","v":"gal"},{"$f":"IF(hbasins=0,\"NA\",hbasin_vol)","v":4241},{"$f":"IF(C105=0,\"\",\"gal\")","v":"gal"},{"$f":"IF(hbasins=0,\"NA\",J105/hbasins)","v":19914.966427870866},{"$f":"IF(hbasins=0,\"--\",hconc_vol*VLOOKUP(0,conc_basin_cost_cl,3)+hexcavation_vol*VLOOKUP(0,excavate_cost_cl,3)+hbackfill_vol*VLOOKUP(0,backfill_cost_cl,3)+hrailing*VLOOKUP(\"aluminum railing\",metal_cost_cl,3))","v":19914.966427870866},{"$f":"IF(hbasins=0,\"NA\",VLOOKUP(0,conc_basin_cost_cl,IF(ss_cat=\"large\",4,5)))","v":37},0,{"$f":"$B$65&\" - \"&$B$104&\" - \"&B105","v":"Tanks - Residuals Holding Tanks/Basins - Concrete Basins (includes Excavation, Backfill, and Compaction)"},3,3,2,3,3,2,3,3,2,0,0]
["3.8.1","Steel Tanks",{"$f":"htanks","v":1},"units",{"$f":"IF(C106=0,\"NA\",htank_vol)","v":1990},{"$f":"IF(C106=0,\"\",\"gal\")","v":"gal"},{"$f":"IF(htanks=0,\"NA\",IF(curve=1,htank_vol,VLOOKUP(htank_vol,st_bwt_cost_cl,2)))","v":1990},{"$f":"IF(C106=0,\"\",\"gal\")","v":"gal"},{"$f":"IF(htanks=0,0,IF(curve=1,st_ht_eq,VLOOKUP(htank_vol,st_bwt_cost_cl,3)))","v":17910.383847525602},{"$f":"IF(I106=\"contact vendor\",\"--\",C106*I106)","v":17910.383847525602},{"$f":"IF(htanks=0,\"NA\",VLOOKUP(htank_vol,st_bwt_cost_cl,IF(ss_cat=\"large\",4,5)))","v":30},0,{"$f":"$B$65&\" - \"&$B$104&\" - \"&B106","v":"Tanks - Residuals Holding Tanks/Basins - Steel Tanks"},4,4,1,4,4,1,4,4,1,0,0]
["3.8.1","Fiberglass Tanks",{"$f":"htanks","v":1},"units",{"$f":"IF(C107=0,\"NA\",htank_vol)","v":1990},{"$f":"IF(C107=0,\"\",\"gal\")","v":"gal"},{"$f":"IF(htanks=0,\"NA\",IF(curve=1,htank_vol,VLOOKUP(htank_vol,fg_bwt_cost_cl,2)))","v":1990},{"$f":"IF(C107=0,\"\",\"gal\")","v":"gal"},{"$f":"IF(htanks=0,0,IF(curve=1,fg_ht_eq,VLOOKUP(htank_vol,fg_bwt_cost_cl,3)))","v":8574.6865607780001},{"$f":"IF(I107=\"contact vendor\",\"--\",C107*I107)","v":8574.6865607780001},{"$f":"IF(htanks=0,\"NA\",VLOOKUP(htank_vol,fg_bwt_cost_cl,IF(ss_cat=\"large\",4,5)))","v":20},0,{"$f":"$B$65&\" - \"&$B$104&\" - \"&B107","v":"Tanks - Residuals Holding Tanks/Basins - Fiberglass Tanks"},2,1,3,2,1,3,2,1,3,0,0]
["3.8.1","Plastic/XLPE Tanks",{"$f":"htanks","v":1},"units",{"$f":"IF(C108=0,\"NA\",htank_vol)","v":1990},{"$f":"IF(C108=0,\"\",\"gal\")","v":"gal"},{"$f":"IF(htanks=0,\"NA\",IF(curve=1,htank_vol,VLOOKUP(htank_vol,hdpe_bwt_cost_cl,2)))","v":1990},{"$f":"IF(C108=0,\"\",\"gal\")","v":"gal"},{"$f":"IF(htanks=0,0,IF(curve=1,hdpe_ht_eq,VLOOKUP(htank_vol,hdpe_bwt_cost_cl,3)))","v":3251.2871384809996},{"$f":"IF(I108=\"contact vendor\",\"--\",C108*I108)","v":3251.2871384809996},{"$f":"IF(htanks=0,\"NA\",VLOOKUP(htank_vol,hdpe_bwt_cost_cl,IF(ss_cat=\"large\",4,5)))","v":20},1,{"$f":"$B$65&\" - \"&$B$104&\" - \"&B108","v":"Tanks - Residuals Holding Tanks/Basins - Plastic/XLPE Tanks"},1,2,4,1,2,4,1,2,4,1,162.56435692404997]
[3.9,"Hydrogen Peroxide Storage Tanks",null,null,null,null,null,null,null,null,null,null,null,null,null,null,null,null,null,null,null,null,0,0]
["3.9.1","Plastic/XLPE",{"$f":"H2O2_tanks","v":0},"units",{"$f":"IF(C110=0,\"NA\",H2O2_tank_vol)","v":"NA"},{"$f":"IF(C110=0,\"\",\"gal\")","v":""},{"$f":"IF(C110=0,\"NA\",IF(curve=1,H2O2_tank_vol,VLOOKUP(H2O2_tank_vol,pl_cst_cost_cl,2)))","v":"NA"},{"$f":"IF(C110=0,\"\",\"gal\")","v":""},{"$f":"IF(C110=0,\"NA\",IF(curve=1,pl_H2O2_st_eq,VLOOKUP(H2O2_tank_vol,pl_cst_cost_cl,3)))","v":"NA"},{"$f":"IF(OR(C110=0,I110=\"contact vendor\"),\"--\",C110*I110)","v":"--"},{"$f":"IF(C110=0,\"NA\",VLOOKUP(H2O2_tank_vol,pl_cst_cost_cl,IF(ss_cat=\"large\",4,5)))","v":"NA"},null,{"$f":"$B$65&\" - \"&$B$109&\" - \"&B110","v":"Tanks - Hydrogen Peroxide Storage Tanks - Plastic/XLPE"},1,2,2,1,2,2,2,2,2,0,0]
["3.9.1","Stainless Steel",{"$f":"H2O2_tanks","v":0},"units",{"$f":"IF(C111=0,\"NA\",H2O2_tank_vol)","v":"NA"},{"$f":"IF(C111=0,\"\",\"gal\")","v":""},{"$f":"IF(C111=0,\"NA\",IF(curve=1,H2O2_tank_vol,VLOOKUP(H2O2_tank_vol,ss_cst_cost_cl,2)))","v":"NA"},{"$f":"IF(C111=0,\"\",\"gal\")","v":""},{"$f":"IF(C111=0,\"NA\",IF(curve=1,ss_H2O2_st_eq,VLOOKUP(H2O2_tank_vol,ss_cst_cost_cl,3)))","v":"NA"},{"$f":"IF(OR(C111=0,I111=\"contact vendor\"),\"--\",C111*I111)","v":"--"},{"$f":"IF(C111=0,\"NA\",VLOOKUP(H2O2_tank_vol,ss_cst_cost_cl,IF(ss_cat=\"large\",4,5)))","v":"NA"},null,{"$f":"$B$65&\" - \"&$B$109&\" - \"&B111","v":"Tanks - Hydrogen Peroxide Storage Tanks - Stainless Steel"},2,1,1,2,1,1,1,1,1,{"$f":"IF(ISERROR(K111*L111),0,IF(K111<1,0,L111))","v":0},{"$f":"IF(W111,J111/K111,0)","v":0}]
["3.9.2","Secondary Containment - Concrete Curbing",{"$f":"IF(OR(include_sec_cont=0,H2O2_tanks=0),0,H2O2_st_curb_concrete)","v":0},"cy","NA",null,"NA",null,{"$f":"IF(C112=0,\"NA\",VLOOKUP(0,conc_basin_cost_cl,3))","v":"NA"},{"$f":"IF(C112=0,\"--\",IF(I112=\"contact vendor\",\"--\",C112*I112))","v":"--"},{"$f":"IF(C112=0,\"NA\",VLOOKUP(0,conc_basin_cost_cl,IF(ss_cat=\"large\",4,5)))","v":"NA"},null,{"$f":"$B$65&\" - \"&$B$109&\" - \"&B112","v":"Tanks - Hydrogen Peroxide Storage Tanks - Secondary Containment - Concrete Curbing"},1,1,1,1,1,1,1,1,1,0,0]
["3.9.3","Secondary Containment - Chemical Resistant Coating",{"$f":"IF(OR(include_sec_cont=0,H2O2_tanks=0),0,H2O2_st_coating_gal)","v":0},"gal","NA",null,"NA",null,{"$f":"IF(C113=0,\"NA\",VLOOKUP(0,conc_coating_cost_cl,3))","v":"NA"},{"$f":"IF(C113=0,\"--\",IF(I113=\"contact vendor\",\"--\",C113*I113))","v":"--"},{"$f":"IF(C113=0,\"NA\",VLOOKUP(0,conc_coating_cost_cl,IF(ss_cat=\"large\",4,5)))","v":"NA"},null,{"$f":"$B$65&\" - \"&$B$109&\" - \"&B113","v":"Tanks - Hydrogen Peroxide Storage Tanks - Secondary Containment - Chemical Resistant Coating"},1,1,1,1,1,1,1,1,1,0,0]
["3.10","Hydrogen Peroxide Day Tanks",null,null,null,null,null,null,null,null,null,null,null,null,null,null,null,null,null,null,null,null,0,0]
["3.10.1","Plastic/XLPE",{"$f":"H2O2_day_tanks","v":0},"units",{"$f":"IF(C115=0,\"NA\",H2O2_day_tank_vol)","v":"NA"},{"$f":"IF(C115=0,\"\",\"gal\")","v":""},{"$f":"IF(C115=0,\"NA\",IF(curve=1,H2O2_day_tank_vol,VLOOKUP(H2O2_day_tank_vol,pl_cst_cost_cl,2)))","v":"NA"},{"$f":"IF(C115=0,\"\",\"gal\")","v":""},{"$f":"IF(C115=0,\"NA\",IF(curve=1,pl_H2O2_day_eq,VLOOKUP(H2O2_day_tank_vol,pl_cst_cost_cl,3)))","v":"NA"},{"$f":"IF(OR(C115=0,I115=\"contact vendor\"),\"--\",C115*I115)","v":"--"},{"$f":"IF(C115=0,\"NA\",VLOOKUP(H2O2_day_tank_vol,pl_cst_cost_cl,IF(ss_cat=\"large\",4,5)))","v":"NA"},null,{"$f":"$B$65&\" - \"&$B$114&\" - \"&B115","v":"Tanks - Hydrogen Peroxide Day Tanks - Plastic/XLPE"},1,2,2,1,2,2,2,2,2,0,0]
["3.10.1","Stainless Steel",{"$f":"H2O2_day_tanks","v":0},"units",{"$f":"IF(C116=0,\"NA\",H2O2_day_tank_vol)","v":"NA"},{"$f":"IF(C116=0,\"\",\"gal\")","v":""},{"$f":"IF(C116=0,\"NA\",IF(curve=1,H2O2_day_tank_vol,VLOOKUP(H2O2_day_tank_vol,ss_cst_cost_cl,2)))","v":"NA"},{"$f":"IF(C116=0,\"\",\"gal\")","v":""},{"$f":"IF(C116=0,\"NA\",IF(curve=1,ss_H2O2_day_eq,VLOOKUP(H2O2_day_tank_vol,ss_cst_cost_cl,3)))","v":"NA"},{"$f":"IF(OR(C116=0,I116=\"contact vendor\"),\"--\",C116*I116)","v":"--"},{"$f":"IF(C116=0,\"NA\",VLOOKUP(H2O2_day_tank_vol,ss_cst_cost_cl,IF(ss_cat=\"large\",4,5)))","v":"NA"},null,{"$f":"$B$65&\" - \"&$B$114&\" - \"&B116","v":"Tanks - Hydrogen Peroxide Day Tanks - Stainless Steel"},2,1,1,2,1,1,1,1,1,0,0]
["3.10.2","Secondary Containment - Concrete Curbing",{"$f":"IF(OR(include_sec_cont=0,H2O2_day_tanks=0),0,H2O2_dt_curb_concrete)","v":0},"cy","NA",null,"NA",null,{"$f":"IF(C117=0,\"NA\",VLOOKUP(0,conc_basin_cost_cl,3))","v":"NA"},{"$f":"IF(C117=0,\"--\",IF(I117=\"contact vendor\",\"--\",C117*I117))","v":"--"},{"$f":"IF(C117=0,\"NA\",VLOOKUP(0,conc_basin_cost_cl,IF(ss_cat=\"large\",4,5)))","v":"NA"},null,{"$f":"$B$65&\" - \"&$B$114&\" - \"&B117","v":"Tanks - Hydrogen Peroxide Day Tanks - Secondary Containment - Concrete Curbing"},1,1,1,1,1,1,1,1,1,0,0]
["3.10.3","Secondary Containment - Chemical Resistant Coating",{"$f":"IF(OR(include_sec_cont=0,H2O2_day_tanks=0),0,H2O2_dt_coating_gal)","v":0},"gal","NA",null,"NA",null,{"$f":"IF(C118=0,\"NA\",VLOOKUP(0,conc_coating_cost_cl,3))","v":"NA"},{"$f":"IF(C118=0,\"--\",IF(I118=\"contact vendor\",\"--\",C118*I118))","v":"--"},{"$f":"IF(C118=0,\"NA\",VLOOKUP(0,conc_coating_cost_cl,IF(ss_cat=\"large\",4,5)))","v":"NA"},null,{"$f":"$B$65&\" - \"&$B$114&\" - \"&B118","v":"Tanks - Hydrogen Peroxide Day Tanks - Secondary Containment - Chemical Resistant Coating"},1,1,1,1,1,1,1,1,1,0,0]
[3.11,"Aeration Tanks",null,null,null,null,null,null,null,null,null,null,null,null,null,null,null,null,null,null,null,null,0,0]
["3.11.1","Steel",{"$f":"aeration_tanks","v":1},"units",{"$f":"IF(C120=0,\"NA\",aeration_tank_vol)","v":22.281639928698748},{"$f":"IF(C120=0,\"\",\"gal\")","v":"gal"},{"$f":"IF(C120=0,\"NA\",IF(curve=1,aeration_tank_vol,VLOOKUP(aeration_tank_vol,st_bwt_cost_cl,2)))","v":22.281639928698748},{"$f":"IF(C120=0,\"\",\"gal\")","v":"gal"},{"$f":"IF(C120=0,\"NA\",IF(curve=1,st_aeration_eq,VLOOKUP(aeration_tank_vol,st_bwt_cost_cl,3)))","v":1720.1610485954122},{"$f":"IF(OR(C120=0,I120=\"contact vendor\"),\"--\",C120*I120)","v":1720.1610485954122},{"$f":"IF(C120=0,\"NA\",VLOOKUP(aeration_tank_vol,st_bwt_cost_cl,IF(ss_cat=\"large\",4,5)))","v":30},0,{"$f":"$B$65&\" - \"&$B$119&\" - \"&B120","v":"Tanks - Aeration Tanks - Steel"},3,3,1,3,3,1,3,3,1,0,0]
["3.11.1","Fiberglass",{"$f":"aeration_tanks","v":1},"units",{"$f":"IF(C121=0,\"NA\",aeration_tank_vol)","v":22.281639928698748},{"$f":"IF(C121=0,\"\",\"gal\")","v":"gal"},{"$f":"IF(C121=0,\"NA\",IF(curve=1,aeration_tank_vol,VLOOKUP(aeration_tank_vol,fg_bwt_cost_cl,2)))","v":22.281639928698748},{"$f":"IF(C121=0,\"\",\"gal\")","v":"gal"},{"$f":"IF(C121=0,\"NA\",IF(curve=1,fg_aeration_eq,VLOOKUP(aeration_tank_vol,fg_bwt_cost_cl,3)))","v":5427.7566344619727},{"$f":"IF(OR(C121=0,I121=\"contact vendor\"),\"--\",C121*I121)","v":5427.7566344619727},{"$f":"IF(C121=0,\"NA\",VLOOKUP(aeration_tank_vol,fg_bwt_cost_cl,IF(ss_cat=\"large\",4,5)))","v":20},0,{"$f":"$B$65&\" - \"&$B$119&\" - \"&B121","v":"Tanks - Aeration Tanks - Fiberglass"},2,1,2,2,1,2,2,1,2,0,0]
["3.11.1","Plastic/XLPE",{"$f":"aeration_tanks","v":1},"units",{"$f":"IF(C122=0,\"NA\",aeration_tank_vol)","v":22.281639928698748},{"$f":"IF(C122=0,\"\",\"gal\")","v":"gal"},{"$f":"IF(C122=0,\"NA\",IF(curve=1,aeration_tank_vol,VLOOKUP(aeration_tank_vol,hdpe_bwt_cost_cl,2)))","v":22.281639928698748},{"$f":"IF(C122=0,\"\",\"gal\")","v":"gal"},{"$f":"IF(C122=0,\"NA\",IF(curve=1,hdpe_aeration_eq,VLOOKUP(aeration_tank_vol,hdpe_bwt_cost_cl,3)))","v":1233.7910034061399},{"$f":"IF(OR(C122=0,I122=\"contact vendor\"),\"--\",C122*I122)","v":1233.7910034061399},{"$f":"IF(C122=0,\"NA\",VLOOKUP(aeration_tank_vol,hdpe_bwt_cost_cl,IF(ss_cat=\"large\",4,5)))","v":20},1,{"$f":"$B$65&\" - \"&$B$119&\" - \"&B122","v":"Tanks - Aeration Tanks - Plastic/XLPE"},1,2,3,1,2,3,1,2,3,1,61.689550170306994]
["3.11.2","Diffusers",{"$f":"total_diffusers","v":1},"units",{"$f":"diffuser_size","v":1.3541666666666665},"cfm",{"$f":"IF(curve=1,diffuser_size,VLOOKUP(diffuser_size,diffuser_cost_cl,2))","v":1.3541666666666665},"cfm",{"$f":"IF(C123=0,\"NA\",IF(curve=1,diffuser_eq,VLOOKUP(diffuser_size,diffuser_cost_cl,3)))","v":44.95210611534327},{"$f":"IF(OR(C123=0,I123=\"contact vendor\"),\"--\",C123*I123)","v":44.95210611534327},{"$f":"IF(C123=0,\"NA\",VLOOKUP(diffuser_size,diffuser_cost_cl,IF(ss_cat=\"large\",4,5)))","v":10},1,{"$f":"$B$65&\" - \"&$B$119&\" - \"&B123","v":"Tanks - Aeration Tanks - Diffusers"},1,1,1,1,1,1,1,1,1,1,4.4952106115343273]
[3.12,"Polymer Storage Tanks",null,null,null,null,null,null,null,null,null,null,null,null,null,null,null,null,null,null,null,null,0,0]
["3.12.1","Plastic/XLPE",{"$f":"polymer_tanks","v":1},"units",{"$f":"IF(C125=0,\"NA\",polymer_tank_vol)","v":14.2311675},{"$f":"IF(C125=0,\"\",\"gal\")","v":"gal"},{"$f":"IF(C125=0,\"NA\",IF(curve=1,polymer_tank_vol,VLOOKUP(polymer_tank_vol,pl_cst_cost_cl,2)))","v":14.2311675},{"$f":"IF(C125=0,\"\",\"gal\")","v":"gal"},{"$f":"IF(C125=0,\"NA\",IF(curve=1,pl_polymer_st_eq,VLOOKUP(polymer_tank_vol,pl_cst_cost_cl,3)))","v":813.03459767988909},{"$f":"IF(OR(C125=0,I125=\"contact vendor\"),\"--\",C125*I125)","v":813.03459767988909},{"$f":"IF(C125=0,\"NA\",VLOOKUP(polymer_tank_vol,pl_cst_cost_cl,IF(ss_cat=\"large\",4,5)))","v":7},1,{"$f":"$B$65&\" - \"&$B$124&\" - \"&B125","v":"Tanks - Polymer Storage Tanks - Plastic/XLPE"},1,2,3,1,2,3,1,2,3,1,116.14779966855558]
["3.12.1","Fiberglass",{"$f":"polymer_tanks","v":1},"units",{"$f":"IF(C126=0,\"NA\",polymer_tank_vol)","v":14.2311675},{"$f":"IF(C126=0,\"\",\"gal\")","v":"gal"},{"$f":"IF(C126=0,\"NA\",IF(curve=1,polymer_tank_vol,VLOOKUP(polymer_tank_vol,fg_cst_cost_cl,2)))","v":14.2311675},{"$f":"IF(C126=0,\"\",\"gal\")","v":"gal"},{"$f":"IF(C126=0,\"NA\",IF(curve=1,fg_polymer_st_eq,VLOOKUP(polymer_tank_vol,fg_cst_cost_cl,3)))","v":4702.622894407953},{"$f":"IF(OR(C126=0,I126=\"contact vendor\"),\"--\",C126*I126)","v":4702.622894407953},{"$f":"IF(C126=0,\"NA\",VLOOKUP(polymer_tank_vol,fg_cst_cost_cl,IF(ss_cat=\"large\",4,5)))","v":7},0,{"$f":"$B$65&\" - \"&$B$124&\" - \"&B126","v":"Tanks - Polymer Storage Tanks - Fiberglass"},2,1,2,2,1,2,2,1,2,0,0]
["3.12.1","Stainless Steel",{"$f":"polymer_tanks","v":1},"units",{"$f":"IF(C127=0,\"NA\",polymer_tank_vol)","v":14.2311675},{"$f":"IF(C127=0,\"\",\"gal\")","v":"gal"},{"$f":"IF(C127=0,\"NA\",IF(curve=1,polymer_tank_vol,VLOOKUP(polymer_tank_vol,ss_cst_cost_cl,2)))","v":14.2311675},{"$f":"IF(C127=0,\"\",\"gal\")","v":"gal"},{"$f":"IF(C127=0,\"NA\",IF(curve=1,ss_polymer_st_eq,VLOOKUP(polymer_tank_vol,ss_cst_cost_cl,3)))","v":4441.3848546676099},{"$f":"IF(OR(C127=0,I127=\"contact vendor\"),\"--\",C127*I127)","v":4441.3848546676099},{"$f":"IF(C127=0,\"NA\",VLOOKUP(polymer_tank_vol,ss_cst_cost_cl,IF(ss_cat=\"large\",4,5)))","v":30},0,{"$f":"$B$65&\" - \"&$B$124&\" - \"&B127","v":"Tanks - Polymer Storage Tanks - Stainless Steel"},3,3,1,3,3,1,3,3,1,0,0]
[3.13,"Coagulant Mix Tank",null,null,null,null,null,null,null,null,null,null,null,null,null,null,null,null,null,null,null,null,0,0]
["3.13.1","Steel Tanks",{"$f":"coag_mix_tank","v":1},"units",{"$f":"IF(C129=0,\"NA\",coag_mix_tank_size)","v":20.833333333333332},{"$f":"IF(C129=0,\"\",\"gal\")","v":"gal"},{"$f":"IF(htanks=0,\"NA\",IF(curve=1,coag_mix_tank_size,VLOOKUP(coag_mix_tank_size,st_bwt_cost_cl,2)))","v":20.833333333333332},{"$f":"IF(C129=0,\"\",\"gal\")","v":"gal"},{"$f":"IF(C129=0,0,IF(curve=1,st_coag_eq,VLOOKUP(coag_mix_tank_size,st_bwt_cost_cl,3)))","v":1660.9069197961201},{"$f":"IF(I129=\"contact vendor\",\"--\",C129*I129)","v":1660.9069197961201},{"$f":"IF(C129=0,\"NA\",VLOOKUP(coag_mix_tank_size,st_bwt_cost_cl,IF(ss_cat=\"large\",4,5)))","v":30},0,{"$f":"$B$65&\" - \"&$B$128&\" - \"&B129","v":"Tanks - Coagulant Mix Tank - Steel Tanks"},3,3,1,3,3,1,3,3,1,0,0]
["3.13.1","Fiberglass Tanks",{"$f":"coag_mix_tank","v":1},"units",{"$f":"IF(C130=0,\"NA\",coag_mix_tank_size)","v":20.833333333333332},{"$f":"IF(C130=0,\"\",\"gal\")","v":"gal"},{"$f":"IF(htanks=0,\"NA\",IF(curve=1,coag_mix_tank_size,VLOOKUP(coag_mix_tank_size,fg_bwt_cost_cl,2)))","v":20.833333333333332},{"$f":"IF(C130=0,\"\",\"gal\")","v":"gal"},{"$f":"IF(C130=0,0,IF(curve=1,fg_coag_eq,VLOOKUP(coag_mix_tank_size,fg_bwt_cost_cl,3)))","v":5425.4145527928613},{"$f":"IF(I130=\"contact vendor\",\"--\",C130*I130)","v":5425.4145527928613},{"$f":"IF(C130=0,\"NA\",VLOOKUP(coag_mix_tank_size,fg_bwt_cost_cl,IF(ss_cat=\"large\",4,5)))","v":20},0,{"$f":"$B$65&\" - \"&$B$128&\" - \"&B130","v":"Tanks - Coagulant Mix Tank - Fiberglass Tanks"},2,1,2,2,1,2,2,1,2,0,0]
["3.13.1","Plastic/XLPE Tanks",{"$f":"coag_mix_tank","v":1},"units",{"$f":"IF(C131=0,\"NA\",coag_mix_tank_size)","v":20.833333333333332},{"$f":"IF(C131=0,\"\",\"gal\")","v":"gal"},{"$f":"IF(htanks=0,\"NA\",IF(curve=1,coag_mix_tank_size,VLOOKUP(coag_mix_tank_size,hdpe_bwt_cost_cl,2)))","v":20.833333333333332},{"$f":"IF(C131=0,\"\",\"gal\")","v":"gal"},{"$f":"IF(C131=0,0,IF(curve=1,hdpe_coag_eq,VLOOKUP(coag_mix_tank_size,hdpe_bwt_cost_cl,3)))","v":1232.2855645382224},{"$f":"IF(I131=\"contact vendor\",\"--\",C131*I131)","v":1232.2855645382224},{"$f":"IF(C131=0,\"NA\",VLOOKUP(coag_mix_tank_size,hdpe_bwt_cost_cl,IF(ss_cat=\"large\",4,5)))","v":20},1,{"$f":"$B$65&\" - \"&$B$128&\" - \"&B131","v":"Tanks - Coagulant Mix Tank - Plastic/XLPE Tanks"},1,2,3,1,2,3,1,2,3,1,61.614278226911118]
["4","Piping",null,null,null,null,null,null,null,null,null,null,null,null,null,null,null,null,null,null,null,null,0,0]
[4.0999999999999996,"Backwash Piping",null,null,null,null,null,null,null,null,null,null,null,null,null,null,null,null,null,null,null,null,0,0]
["4.1.1","CPVC",{"$f":"back_pipe_length","v":50},"lf",{"$f":"back_pipe_diam","v":4},"in. diam",{"$f":"IF(curve=1,back_pipe_diam,VLOOKUP(back_pipe_diam,cpvc_pipe_cost_cl,2))","v":4},"in. diam",{"$f":"IF(curve=1,cpvc_pipe_eq_back,VLOOKUP(back_pipe_diam,cpvc_pipe_cost_cl,3))","v":23.548696342},{"$f":"IF(I134=\"contact vendor\",\"--\",C134*I134)","v":1177.4348170999999},{"$f":"VLOOKUP(back_pipe_diam,cpvc_pipe_cost_cl,IF(ss_cat=\"large\",4,5))","v":17},0,{"$f":"$B$132&\" - \"&$B$133&\" - \"&B134","v":"Piping - Backwash Piping - CPVC"},2,1,3,2,1,3,2,1,3,0,0]
["4.1.1","PVC",{"$f":"back_pipe_length","v":50},"lf",{"$f":"back_pipe_diam","v":4},"in. diam",{"$f":"IF(curve=1,back_pipe_diam,VLOOKUP(back_pipe_diam,pvc_pipe_cost_cl,2))","v":4},"in. diam",{"$f":"IF(curve=1,pvc_pipe_eq_back,VLOOKUP(back_pipe_diam,pvc_pipe_cost_cl,3))","v":5.0980922770000001},{"$f":"IF(I135=\"contact vendor\",\"--\",C135*I135)","v":254.90461385},{"$f":"VLOOKUP(back_pipe_diam,pvc_pipe_cost_cl,IF(ss_cat=\"large\",4,5))","v":17},1,{"$f":"$B$132&\" - \"&$B$133&\" - \"&B135","v":"Piping - Backwash Piping - PVC"},1,2,4,1,2,4,1,2,4,1,14.994389050000001]
["4.1.1","Stainless Steel",{"$f":"back_pipe_length","v":50},"lf",{"$f":"back_pipe_diam","v":4},"in. diam",{"$f":"IF(curve=1,back_pipe_diam,VLOOKUP(back_pipe_diam,ss_pipe_cost_cl,2))","v":4},"in. diam",{"$f":"IF(curve=1,ss_pipe_eq_back,VLOOKUP(back_pipe_diam,ss_pipe_cost_cl,3))","v":116.097974425},{"$f":"IF(I136=\"contact vendor\",\"--\",C136*I136)","v":5804.8987212500006},{"$f":"VLOOKUP(back_pipe_diam,ss_pipe_cost_cl,IF(ss_cat=\"large\",4,5))","v":40},0,{"$f":"$B$132&\" - \"&$B$133&\" - \"&B136","v":"Piping - Backwash Piping - Stainless Steel"},4,4,1,4,4,1,4,4,1,0,0]
["4.1.1","Steel",{"$f":"back_pipe_length","v":50},"lf",{"$f":"back_pipe_diam","v":4},"in. diam",{"$f":"IF(curve=1,back_pipe_diam,VLOOKUP(back_pipe_diam,st_pipe_cost_cl,2))","v":4},"in. diam",{"$f":"IF(curve=1,st_pipe_eq_back,VLOOKUP(back_pipe_diam,st_pipe_cost_cl,3))","v":69.724224939999999},{"$f":"IF(I137=\"contact vendor\",\"--\",C137*I137)","v":3486.2112470000002},{"$f":"VLOOKUP(back_pipe_diam,st_pipe_cost_cl,IF(ss_cat=\"large\",4,5))","v":33},0,{"$f":"$B$132&\" - \"&$B$133&\" - \"&B137","v":"Piping - Backwash Piping - Steel"},3,3,2,3,3,2,3,3,2,0,0]
[4.2,"Electron Donor Piping",null,null,null,null,null,null,null,null,null,null,null,null,null,null,null,null,null,null,null,null,0,0]
["4.2.1","CPVC",{"$f":"e_donor_pipe_length","v":20},"lf",{"$f":"IF(C139=0,\"NA\",e_donor_pipe_diam)","v":0.5},{"$f":"IF(C139=0,\"\",\"in diam\")","v":"in diam"},{"$f":"IF(C139=0,\"NA\",IF(curve=1,e_donor_pipe_diam,VLOOKUP(e_donor_pipe_diam,cpvc_pipe_cost_cl,2)))","v":0.5},"in. diam",{"$f":"IF(C139=0,\"NA\",IF(curve=1,cpvc_pipe_eq_e_donor,VLOOKUP(e_donor_pipe_diam,cpvc_pipe_cost_cl,3)))","v":2.7082137822500001},{"$f":"IF(OR(C139=0,I139=\"contact vendor\"),\"--\",C139*I139)","v":54.164275645000004},{"$f":"IF(C139=0,\"NA\",VLOOKUP(e_donor_pipe_diam,cpvc_pipe_cost_cl,IF(ss_cat=\"large\",4,5)))","v":17},0,{"$f":"$B$132&\" - \"&$B$138&\" - \"&B139","v":"Piping - Electron Donor Piping - CPVC"},2,1,3,2,1,3,2,1,3,0,0]
["4.2.1","PVC",{"$f":"e_donor_pipe_length","v":20},"lf",{"$f":"IF(C140=0,\"NA\",e_donor_pipe_diam)","v":0.5},{"$f":"IF(C140=0,\"\",\"in diam\")","v":"in diam"},{"$f":"IF(C140=0,\"NA\",IF(curve=1,e_donor_pipe_diam,VLOOKUP(e_donor_pipe_diam,pvc_pipe_cost_cl,2)))","v":0.5},"in. diam",{"$f":"IF(C140=0,\"NA\",IF(curve=1,pvc_pipe_eq_e_donor,VLOOKUP(e_donor_pipe_diam,pvc_pipe_cost_cl,3)))","v":2.5366744757500004},{"$f":"IF(OR(C140=0,I140=\"contact vendor\"),\"--\",C140*I140)","v":50.733489515000009},{"$f":"IF(C140=0,\"NA\",VLOOKUP(e_donor_pipe_diam,pvc_pipe_cost_cl,IF(ss_cat=\"large\",4,5)))","v":17},1,{"$f":"$B$132&\" - \"&$B$138&\" - \"&B140","v":"Piping - Electron Donor Piping - PVC"},1,2,4,1,2,4,1,2,4,1,2.9843229126470594]
["4.2.1","Stainless Steel",{"$f":"e_donor_pipe_length","v":20},"lf",{"$f":"IF(C141=0,\"NA\",e_donor_pipe_diam)","v":0.5},{"$f":"IF(C141=0,\"\",\"in diam\")","v":"in diam"},{"$f":"IF(C141=0,\"NA\",IF(curve=1,e_donor_pipe_diam,VLOOKUP(e_donor_pipe_diam,ss_pipe_cost_cl,2)))","v":0.5},"in. diam",{"$f":"IF(C141=0,\"NA\",IF(curve=1,ss_pipe_eq_e_donor,VLOOKUP(e_donor_pipe_diam,ss_pipe_cost_cl,3)))","v":15.239403338124998},{"$f":"IF(OR(C141=0,I141=\"contact vendor\"),\"--\",C141*I141)","v":304.78806676249997},{"$f":"IF(C141=0,\"NA\",VLOOKUP(e_donor_pipe_diam,ss_pipe_cost_cl,IF(ss_cat=\"large\",4,5)))","v":40},0,{"$f":"$B$132&\" - \"&$B$138&\" - \"&B141","v":"Piping - Electron Donor Piping - Stainless Steel"},4,4,1,4,4,1,4,4,1,0,0]
["4.2.1","Steel",{"$f":"e_donor_pipe_length","v":20},"lf",{"$f":"IF(C142=0,\"NA\",e_donor_pipe_diam)","v":0.5},{"$f":"IF(C142=0,\"\",\"in diam\")","v":"in diam"},{"$f":"IF(C142=0,\"NA\",IF(curve=1,e_donor_pipe_diam,VLOOKUP(e_donor_pipe_diam,st_pipe_cost_cl,2)))","v":0.5},"in. diam",{"$f":"IF(C142=0,\"NA\",IF(curve=1,st_pipe_eq_e_donor,VLOOKUP(e_donor_pipe_diam,st_pipe_cost_cl,3)))","v":"contact vendor"},{"$f":"IF(OR(C142=0,I142=\"contact vendor\"),\"--\",C142*I142)","v":"--"},{"$f":"IF(C142=0,\"NA\",VLOOKUP(e_donor_pipe_diam,st_pipe_cost_cl,IF(ss_cat=\"large\",4,5)))","v":33},0,{"$f":"$B$132&\" - \"&$B$138&\" - \"&B142","v":"Piping - Electron Donor Piping - Steel"},3,3,2,3,3,2,3,3,2,0,0]
[4.3,"Ammonium Chloride Piping",null,null,null,null,null,null,null,null,null,null,null,null,null,null,null,null,null,null,null,null,0,0]
["4.3.1","CPVC",{"$f":"NH4Cl_pipe_length","v":0},"lf",{"$f":"IF(C144=0,\"NA\",NH4Cl_pipe_diam)","v":"NA"},{"$f":"IF(C144=0,\"\",\"in diam\")","v":""},{"$f":"IF(C144=0,\"NA\",IF(curve=1,NH4Cl_pipe_diam,VLOOKUP(NH4Cl_pipe_diam,cpvc_pipe_cost_cl,2)))","v":"NA"},{"$f":"IF(C144=0,\"\",\"in diam\")","v":""},{"$f":"IF(C144=0,\"NA\",IF(curve=1,cpvc_pipe_eq_NH4Cl,VLOOKUP(NH4Cl_pipe_diam,cpvc_pipe_cost_cl,3)))","v":"NA"},{"$f":"IF(OR(C144=0,I144=\"contact vendor\"),\"--\",C144*I144)","v":"--"},{"$f":"IF(C144=0,\"NA\",VLOOKUP(NH4Cl_pipe_diam,cpvc_pipe_cost_cl,IF(ss_cat=\"large\",4,5)))","v":"NA"},null,{"$f":"$B$132&\" - \"&$B$143&\" - \"&B144","v":"Piping - Ammonium Chloride Piping - CPVC"},2,1,3,2,1,3,2,1,3,0,0]
["4.3.1","PVC",{"$f":"NH4Cl_pipe_length","v":0},"lf",{"$f":"IF(C145=0,\"NA\",NH4Cl_pipe_diam)","v":"NA"},{"$f":"IF(C145=0,\"\",\"in diam\")","v":""},{"$f":"IF(C145=0,\"NA\",IF(curve=1,NH4Cl_pipe_diam,VLOOKUP(NH4Cl_pipe_diam,pvc_pipe_cost_cl,2)))","v":"NA"},{"$f":"IF(C145=0,\"\",\"in diam\")","v":""},{"$f":"IF(C145=0,\"NA\",IF(curve=1,pvc_pipe_eq_NH4Cl,VLOOKUP(NH4Cl_pipe_diam,pvc_pipe_cost_cl,3)))","v":"NA"},{"$f":"IF(OR(C145=0,I145=\"contact vendor\"),\"--\",C145*I145)","v":"--"},{"$f":"IF(C145=0,\"NA\",VLOOKUP(NH4Cl_pipe_diam,pvc_pipe_cost_cl,IF(ss_cat=\"large\",4,5)))","v":"NA"},null,{"$f":"$B$132&\" - \"&$B$143&\" - \"&B145","v":"Piping - Ammonium Chloride Piping - PVC"},1,2,4,1,2,4,1,2,4,0,0]
["4.3.1","Stainless Steel",{"$f":"NH4Cl_pipe_length","v":0},"lf",{"$f":"IF(C146=0,\"NA\",NH4Cl_pipe_diam)","v":"NA"},{"$f":"IF(C146=0,\"\",\"in diam\")","v":""},{"$f":"IF(C146=0,\"NA\",IF(curve=1,NH4Cl_pipe_diam,VLOOKUP(NH4Cl_pipe_diam,ss_pipe_cost_cl,2)))","v":"NA"},"",{"$f":"IF(C146=0,\"NA\",IF(curve=1,ss_pipe_eq_NH4Cl,VLOOKUP(NH4Cl_pipe_diam,ss_pipe_cost_cl,3)))","v":"NA"},{"$f":"IF(OR(C146=0,I146=\"contact vendor\"),\"--\",C146*I146)","v":"--"},{"$f":"IF(C146=0,\"NA\",VLOOKUP(NH4Cl_pipe_diam,ss_pipe_cost_cl,IF(ss_cat=\"large\",4,5)))","v":"NA"},null,{"$f":"$B$132&\" - \"&$B$143&\" - \"&B146","v":"Piping - Ammonium Chloride Piping - Stainless Steel"},4,4,1,4,4,1,4,4,1,0,0]
["4.3.1","Steel",{"$f":"NH4Cl_pipe_length","v":0},"lf",{"$f":"IF(C147=0,\"NA\",NH4Cl_pipe_diam)","v":"NA"},{"$f":"IF(C147=0,\"\",\"in diam\")","v":""},{"$f":"IF(C147=0,\"NA\",IF(curve=1,NH4Cl_pipe_diam,VLOOKUP(NH4Cl_pipe_diam,st_pipe_cost_cl,2)))","v":"NA"},"",{"$f":"IF(C147=0,\"NA\",IF(curve=1,st_pipe_eq_NH4Cl,VLOOKUP(NH4Cl_pipe_diam,st_pipe_cost_cl,3)))","v":"NA"},{"$f":"IF(OR(C147=0,I147=\"contact vendor\"),\"--\",C147*I147)","v":"--"},{"$f":"IF(C147=0,\"NA\",VLOOKUP(NH4Cl_pipe_diam,st_pipe_cost_cl,IF(ss_cat=\"large\",4,5)))","v":"NA"},null,{"$f":"$B$132&\" - \"&$B$143&\" - \"&B147","v":"Piping - Ammonium Chloride Piping - Steel"},3,3,2,3,3,2,3,3,2,0,0]
[4.4000000000000004,"Phosphoric Acid Piping",null,null,null,null,null,null,null,null,null,null,null,null,null,null,null,null,null,null,null,null,0,0]
["4.4.1","CPVC",{"$f":"H3PO4_pipe_length","v":20},"lf",{"$f":"IF(C149=0,\"NA\",H3PO4_pipe_diam)","v":0.5},{"$f":"IF(C149=0,\"\",\"in diam\")","v":"in diam"},{"$f":"IF(C149=0,\"NA\",IF(curve=1,H3PO4_pipe_diam,VLOOKUP(H3PO4_pipe_diam,cpvc_pipe_cost_cl,2)))","v":0.5},"in diam",{"$f":"IF(C149=0,\"NA\",IF(curve=1,cpvc_pipe_eq_H3PO4,VLOOKUP(H3PO4_pipe_diam,cpvc_pipe_cost_cl,3)))","v":2.7082137822500001},{"$f":"IF(OR(C149=0,I149=\"contact vendor\"),\"--\",C149*I149)","v":54.164275645000004},{"$f":"IF(C149=0,\"NA\",VLOOKUP(H3PO4_pipe_diam,cpvc_pipe_cost_cl,IF(ss_cat=\"large\",4,5)))","v":17},0,{"$f":"$B$132&\" - \"&$B$148&\" - \"&B149","v":"Piping - Phosphoric Acid Piping - CPVC"},2,1,3,2,1,3,2,1,3,0,0]
["4.4.1","PVC",{"$f":"H3PO4_pipe_length","v":20},"lf",{"$f":"IF(C150=0,\"NA\",H3PO4_pipe_diam)","v":0.5},{"$f":"IF(C150=0,\"\",\"in diam\")","v":"in diam"},{"$f":"IF(C150=0,\"NA\",IF(curve=1,H3PO4_pipe_diam,VLOOKUP(H3PO4_pipe_diam,pvc_pipe_cost_cl,2)))","v":0.5},"in diam",{"$f":"IF(C150=0,\"NA\",IF(curve=1,pvc_pipe_eq_H3PO4,VLOOKUP(H3PO4_pipe_diam,pvc_pipe_cost_cl,3)))","v":2.5366744757500004},{"$f":"IF(OR(C150=0,I150=\"contact vendor\"),\"--\",C150*I150)","v":50.733489515000009},{"$f":"IF(C150=0,\"NA\",VLOOKUP(H3PO4_pipe_diam,pvc_pipe_cost_cl,IF(ss_cat=\"large\",4,5)))","v":17},1,{"$f":"$B$132&\" - \"&$B$148&\" - \"&B150","v":"Piping - Phosphoric Acid Piping - PVC"},1,2,4,1,2,4,1,2,4,1,2.9843229126470594]
["4.4.1","Stainless Steel",{"$f":"H3PO4_pipe_length","v":20},"lf",{"$f":"IF(C151=0,\"NA\",H3PO4_pipe_diam)","v":0.5},{"$f":"IF(C151=0,\"\",\"in diam\")","v":"in diam"},{"$f":"IF(C151=0,\"NA\",IF(curve=1,H3PO4_pipe_diam,VLOOKUP(H3PO4_pipe_diam,ss_pipe_cost_cl,2)))","v":0.5},"in diam",{"$f":"IF(C151=0,\"NA\",IF(curve=1,ss_pipe_eq_H3PO4,VLOOKUP(H3PO4_pipe_diam,ss_pipe_cost_cl,3)))","v":15.239403338124998},{"$f":"IF(OR(C151=0,I151=\"contact vendor\"),\"--\",C151*I151)","v":304.78806676249997},{"$f":"IF(C151=0,\"NA\",VLOOKUP(H3PO4_pipe_diam,ss_pipe_cost_cl,IF(ss_cat=\"large\",4,5)))","v":40},0,{"$f":"$B$132&\" - \"&$B$148&\" - \"&B151","v":"Piping - Phosphoric Acid Piping - Stainless Steel"},4,4,1,4,4,1,4,4,1,0,0]
["4.4.1","Steel",{"$f":"H3PO4_pipe_length","v":20},"lf",{"$f":"IF(C152=0,\"NA\",H3PO4_pipe_diam)","v":0.5},{"$f":"IF(C152=0,\"\",\"in diam\")","v":"in diam"},{"$f":"IF(C152=0,\"NA\",IF(curve=1,H3PO4_pipe_diam,VLOOKUP(H3PO4_pipe_diam,st_pipe_cost_cl,2)))","v":0.5},"in diam",{"$f":"IF(C152=0,\"NA\",IF(curve=1,st_pipe_eq_H3PO4,VLOOKUP(H3PO4_pipe_diam,st_pipe_cost_cl,3)))","v":"contact vendor"},{"$f":"IF(OR(C152=0,I152=\"contact vendor\"),\"--\",C152*I152)","v":"--"},{"$f":"IF(C152=0,\"NA\",VLOOKUP(H3PO4_pipe_diam,st_pipe_cost_cl,IF(ss_cat=\"large\",4,5)))","v":33},0,{"$f":"$B$132&\" - \"&$B$148&\" - \"&B152","v":"Piping - Phosphoric Acid Piping - Steel"},3,3,2,3,3,2,3,3,2,0,0]
["4.5","Process Piping",null,null,null,null,null,null,null,null,null,null,null,null,null,null,null,null,null,null,null,null,0,0]
["4.5.1","Ductile Iron",{"$f":"proc_pipe_length","v":40},"lf",{"$f":"proc_pipe_diam","v":1.5},"in. diam",{"$f":"IF(curve=1,proc_pipe_diam,VLOOKUP(proc_pipe_diam,di_pipe_cost_cl,2))","v":1.5},"in. diam",{"$f":"IF(curve=1,di_pipe_eq_proc,VLOOKUP(proc_pipe_diam,di_pipe_cost_cl,3))","v":"contact vendor"},{"$f":"IF(I154=\"contact vendor\",\"--\",C154*I154)","v":"--"},{"$f":"VLOOKUP(proc_pipe_diam,di_pipe_cost_cl,IF(ss_cat=\"large\",4,5))","v":35},0,{"$f":"$B$132&\" - \"&$B$153&\" \"&\" - \"&B154","v":"Piping - Process Piping  - Ductile Iron"},3,3,3,3,3,3,3,3,3,0,0]
["4.5.1","CPVC",{"$f":"proc_pipe_length","v":40},"lf",{"$f":"proc_pipe_diam","v":1.5},"in. diam",{"$f":"IF(curve=1,proc_pipe_diam,VLOOKUP(proc_pipe_diam,cpvc_pipe_cost_cl,2))","v":1.5},"in. diam",{"$f":"IF(curve=1,cpvc_pipe_eq_proc,VLOOKUP(proc_pipe_diam,cpvc_pipe_cost_cl,3))","v":7.0944223557499999},{"$f":"IF(I155=\"contact vendor\",\"--\",C155*I155)","v":283.77689422999998},{"$f":"VLOOKUP(proc_pipe_diam,cpvc_pipe_cost_cl,IF(ss_cat=\"large\",4,5))","v":17},0,{"$f":"$B$132&\" - \"&$B$153&\" \"&\" - \"&B155","v":"Piping - Process Piping  - CPVC"},2,1,4,2,1,4,2,1,4,0,0]
["4.5.1","PVC",{"$f":"proc_pipe_length","v":40},"lf",{"$f":"proc_pipe_diam","v":1.5},"in. diam",{"$f":"IF(curve=1,proc_pipe_diam,VLOOKUP(proc_pipe_diam,pvc_pipe_cost_cl,2))","v":1.5},"in. diam",{"$f":"IF(curve=1,pvc_pipe_eq_proc,VLOOKUP(proc_pipe_diam,pvc_pipe_cost_cl,3))","v":2.9926161257500001},{"$f":"IF(I156=\"contact vendor\",\"--\",C156*I156)","v":119.70464503000001},{"$f":"VLOOKUP(proc_pipe_diam,pvc_pipe_cost_cl,IF(ss_cat=\"large\",4,5))","v":17},1,{"$f":"$B$132&\" - \"&$B$153&\" \"&\" - \"&B156","v":"Piping - Process Piping  - PVC"},1,2,5,1,2,5,1,2,5,1,7.0414497076470592]
["4.5.1","Stainless Steel",{"$f":"proc_pipe_length","v":40},"lf",{"$f":"proc_pipe_diam","v":1.5},"in. diam",{"$f":"IF(curve=1,proc_pipe_diam,VLOOKUP(proc_pipe_diam,ss_pipe_cost_cl,2))","v":1.5},"in. diam",{"$f":"IF(curve=1,ss_pipe_eq_proc,VLOOKUP(proc_pipe_diam,ss_pipe_cost_cl,3))","v":48.761889224374997},{"$f":"IF(I157=\"contact vendor\",\"--\",C157*I157)","v":1950.475568975},{"$f":"VLOOKUP(proc_pipe_diam,ss_pipe_cost_cl,IF(ss_cat=\"large\",4,5))","v":40},0,{"$f":"$B$132&\" - \"&$B$153&\" \"&\" - \"&B157","v":"Piping - Process Piping  - Stainless Steel"},5,5,1,5,5,1,5,5,1,0,0]
["4.5.1","Steel",{"$f":"proc_pipe_length","v":40},"lf",{"$f":"proc_pipe_diam","v":1.5},"in. diam",{"$f":"IF(curve=1,proc_pipe_diam,VLOOKUP(proc_pipe_diam,st_pipe_cost_cl,2))","v":1.5},"in. diam",{"$f":"IF(curve=1,st_pipe_eq_proc,VLOOKUP(proc_pipe_diam,st_pipe_cost_cl,3))","v":25.18777165625},{"$f":"IF(I158=\"contact vendor\",\"--\",C158*I158)","v":1007.5108662499999},{"$f":"VLOOKUP(proc_pipe_diam,st_pipe_cost_cl,IF(ss_cat=\"large\",4,5))","v":33},0,{"$f":"$B$132&\" - \"&$B$153&\" \"&\" - \"&B158","v":"Piping - Process Piping  - Steel"},4,4,2,4,4,2,4,4,2,0,0]
[4.5999999999999996,"Bypass Piping",null,null,null,null,null,null,null,null,null,null,null,null,null,null,null,null,null,null,null,null,0,0]
["4.6.1","CPVC",{"$f":"bp_pipe_length","v":0},"lf",{"$f":"IF(bp_pct>0,bp_pipe_diam,\"NA\")","v":"NA"},{"$f":"IF(bp_pct=0,\" \",\"in. diam\")","v":" "},{"$f":"IF(bp_pct=0,\"NA\",IF(curve=1,bp_pipe_diam,VLOOKUP(bp_pipe_diam,cpvc_pipe_cost_cl,2)))","v":"NA"},{"$f":"IF(bp_pct=0,\" \",\"in. diam\")","v":" "},{"$f":"IF(bp_pct=0,\"NA\",IF(curve=1,cpvc_pipe_eq_bp,VLOOKUP(bp_pipe_diam,cpvc_pipe_cost_cl,3)))","v":"NA"},{"$f":"IF(bp_pct=0,0,IF(I160=\"contact vendor\",\"--\",C160*I160))","v":0},{"$f":"IF(bp_pct=0,\"NA\",VLOOKUP(bp_pipe_diam,cpvc_pipe_cost_cl,IF(ss_cat=\"large\",4,5)))","v":"NA"},null,{"$f":"$B$132&\" - \"&$B$159&\" \"&\" - \"&B160","v":"Piping - Bypass Piping  - CPVC"},2,1,3,2,1,3,2,1,3,0,0]
["4.6.1","PVC",{"$f":"bp_pipe_length","v":0},"lf",{"$f":"IF(bp_pct>0,bp_pipe_diam,\"NA\")","v":"NA"},{"$f":"IF(bp_pct=0,\" \",\"in. diam\")","v":" "},{"$f":"IF(bp_pct=0,\"NA\",IF(curve=1,bp_pipe_diam,VLOOKUP(bp_pipe_diam,pvc_pipe_cost_cl,2)))","v":"NA"},{"$f":"IF(bp_pct=0,\" \",\"in. diam\")","v":" "},{"$f":"IF(bp_pct=0,\"NA\",IF(curve=1,pvc_pipe_eq_bp,VLOOKUP(bp_pipe_diam,pvc_pipe_cost_cl,3)))","v":"NA"},{"$f":"IF(bp_pct=0,0,IF(I161=\"contact vendor\",\"--\",C161*I161))","v":0},{"$f":"IF(bp_pct=0,\"NA\",VLOOKUP(bp_pipe_diam,pvc_pipe_cost_cl,IF(ss_cat=\"large\",4,5)))","v":"NA"},null,{"$f":"$B$132&\" - \"&$B$159&\" \"&\" - \"&B161","v":"Piping - Bypass Piping  - PVC"},1,2,4,1,2,4,1,2,4,0,0]
["4.6.1","Stainless Steel",{"$f":"bp_pipe_length","v":0},"lf",{"$f":"IF(bp_pct>0,bp_pipe_diam,\"NA\")","v":"NA"},{"$f":"IF(bp_pct=0,\" \",\"in. diam\")","v":" "},{"$f":"IF(bp_pct=0,\"NA\",IF(curve=1,bp_pipe_diam,VLOOKUP(bp_pipe_diam,ss_pipe_cost_cl,2)))","v":"NA"},{"$f":"IF(bp_pct=0,\" \",\"in. diam\")","v":" "},{"$f":"IF(bp_pct=0,\"NA\",IF(curve=1,ss_pipe_eq_bp,VLOOKUP(bp_pipe_diam,ss_pipe_cost_cl,3)))","v":"NA"},{"$f":"IF(bp_pct=0,0,IF(I162=\"contact vendor\",\"--\",C162*I162))","v":0},{"$f":"IF(bp_pct=0,\"NA\",VLOOKUP(bp_pipe_diam,ss_pipe_cost_cl,IF(ss_cat=\"large\",4,5)))","v":"NA"},null,{"$f":"$B$132&\" - \"&$B$159&\" \"&\" - \"&B162","v":"Piping - Bypass Piping  - Stainless Steel"},4,4,1,4,4,1,4,4,1,0,0]
["4.6.1","Steel",{"$f":"bp_pipe_length","v":0},"lf",{"$f":"IF(bp_pct>0,bp_pipe_diam,\"NA\")","v":"NA"},{"$f":"IF(bp_pct=0,\" \",\"in. diam\")","v":" "},{"$f":"IF(bp_pct=0,\"NA\",IF(curve=1,bp_pipe_diam,VLOOKUP(bp_pipe_diam,st_pipe_cost_cl,2)))","v":"NA"},{"$f":"IF(bp_pct=0,\" \",\"in. diam\")","v":" "},{"$f":"IF(bp_pct=0,\"NA\",IF(curve=1,st_pipe_eq_bp,VLOOKUP(bp_pipe_diam,st_pipe_cost_cl,3)))","v":"NA"},{"$f":"IF(bp_pct=0,0,IF(I163=\"contact vendor\",\"--\",C163*I163))","v":0},{"$f":"IF(bp_pct=0,\"NA\",VLOOKUP(bp_pipe_diam,st_pipe_cost_cl,IF(ss_cat=\"large\",4,5)))","v":"NA"},null,{"$f":"$B$132&\" - \"&$B$159&\" \"&\" - \"&B163","v":"Piping - Bypass Piping  - Steel"},3,3,2,3,3,2,3,3,2,0,0]
[4.7,"Inlet and Outlet Piping",null,null,null,null,null,null,null,null,null,null,null,null,null,null,null,null,null,null,null,null,0,0]
["4.7.1","Ductile Iron",{"$f":"in_out_pipe_length","v":40},"lf",{"$f":"in_out_pipe_diam","v":1.5},"in. diam",{"$f":"IF(curve=1,in_out_pipe_diam,VLOOKUP(in_out_pipe_diam,di_pipe_cost_cl,2))","v":1.5},"in. diam",{"$f":"IF(curve=1,di_pipe_eq_in_out,VLOOKUP(in_out_pipe_diam,di_pipe_cost_cl,3))","v":"contact vendor"},{"$f":"IF(I165=\"contact vendor\",\"--\",C165*I165)","v":"--"},{"$f":"VLOOKUP(in_out_pipe_diam,di_pipe_cost_cl,IF(ss_cat=\"large\",4,5))","v":35},0,{"$f":"$B$132&\" - \"&$B$164&\" \"&\" - \"&B165","v":"Piping - Inlet and Outlet Piping  - Ductile Iron"},3,3,3,3,3,3,3,3,3,0,0]
["4.7.1","CPVC",{"$f":"in_out_pipe_length","v":40},"lf",{"$f":"in_out_pipe_diam","v":1.5},"in. diam",{"$f":"IF(curve=1,in_out_pipe_diam,VLOOKUP(in_out_pipe_diam,cpvc_pipe_cost_cl,2))","v":1.5},"in. diam",{"$f":"IF(curve=1,cpvc_pipe_eq_in_out,VLOOKUP(in_out_pipe_diam,cpvc_pipe_cost_cl,3))","v":7.0944223557499999},{"$f":"IF(I166=\"contact vendor\",\"--\",C166*I166)","v":283.77689422999998},{"$f":"VLOOKUP(in_out_pipe_diam,cpvc_pipe_cost_cl,IF(ss_cat=\"large\",4,5))","v":17},0,{"$f":"$B$132&\" - \"&$B$164&\" \"&\" - \"&B166","v":"Piping - Inlet and Outlet Piping  - CPVC"},2,1,4,2,1,4,2,1,4,0,0]
["4.7.1","PVC",{"$f":"in_out_pipe_length","v":40},"lf",{"$f":"in_out_pipe_diam","v":1.5},"in. diam",{"$f":"IF(curve=1,in_out_pipe_diam,VLOOKUP(in_out_pipe_diam,pvc_pipe_cost_cl,2))","v":1.5},"in. diam",{"$f":"IF(curve=1,pvc_pipe_eq_in_out,VLOOKUP(in_out_pipe_diam,pvc_pipe_cost_cl,3))","v":2.9926161257500001},{"$f":"IF(I167=\"contact vendor\",\"--\",C167*I167)","v":119.70464503000001},{"$f":"VLOOKUP(in_out_pipe_diam,pvc_pipe_cost_cl,IF(ss_cat=\"large\",4,5))","v":17},1,{"$f":"$B$132&\" - \"&$B$164&\" \"&\" - \"&B167","v":"Piping - Inlet and Outlet Piping  - PVC"},1,2,5,1,2,5,1,2,5,1,7.0414497076470592]
["4.7.1","Stainless Steel",{"$f":"in_out_pipe_length","v":40},"lf",{"$f":"in_out_pipe_diam","v":1.5},"in. diam",{"$f":"IF(curve=1,in_out_pipe_diam,VLOOKUP(in_out_pipe_diam,ss_pipe_cost_cl,2))","v":1.5},"in. diam",{"$f":"IF(curve=1,ss_pipe_eq_in_out,VLOOKUP(in_out_pipe_diam,ss_pipe_cost_cl,3))","v":48.761889224374997},{"$f":"IF(I168=\"contact vendor\",\"--\",C168*I168)","v":1950.475568975},{"$f":"VLOOKUP(in_out_pipe_diam,ss_pipe_cost_cl,IF(ss_cat=\"large\",4,5))","v":40},0,{"$f":"$B$132&\" - \"&$B$164&\" \"&\" - \"&B168","v":"Piping - Inlet and Outlet Piping  - Stainless Steel"},5,5,1,5,5,1,5,5,1,0,0]
["4.7.1","Steel",{"$f":"in_out_pipe_length","v":40},"lf",{"$f":"in_out_pipe_diam","v":1.5},"in. diam",{"$f":"IF(curve=1,in_out_pipe_diam,VLOOKUP(in_out_pipe_diam,st_pipe_cost_cl,2))","v":1.5},"in. diam",{"$f":"IF(curve=1,st_pipe_eq_in_out,VLOOKUP(in_out_pipe_diam,st_pipe_cost_cl,3))","v":25.18777165625},{"$f":"IF(I169=\"contact vendor\",\"--\",C169*I169)","v":1007.5108662499999},{"$f":"VLOOKUP(in_out_pipe_diam,st_pipe_cost_cl,IF(ss_cat=\"large\",4,5))","v":33},0,{"$f":"$B$132&\" - \"&$B$164&\" \"&\" - \"&B169","v":"Piping - Inlet and Outlet Piping  - Steel"},4,4,2,4,4,2,4,4,2,0,0]
[4.8,"Residuals Piping",null,null,null,null,null,null,null,null,null,null,null,null,null,null,null,null,null,null,null,null,0,0]
["4.8.1","CPVC",{"$f":"res_pipe_length","v":60},"lf",{"$f":"res_pipe_diam","v":1},"in. diam",{"$f":"IF(curve=1,res_pipe_diam,VLOOKUP(res_pipe_diam,cpvc_pipe_cost_cl,2))","v":1},"in. diam",{"$f":"IF(curve=1,cpvc_pipe_eq_res,VLOOKUP(res_pipe_diam,cpvc_pipe_cost_cl,3))","v":4.7522640880000004},{"$f":"IF(I171=\"contact vendor\",\"--\",C171*I171)","v":285.13584528000001},{"$f":"VLOOKUP(res_pipe_diam,cpvc_pipe_cost_cl,IF(ss_cat=\"large\",4,5))","v":17},0,{"$f":"$B$132&\" - \"&$B$170&\" \"&\" - \"&B171","v":"Piping - Residuals Piping  - CPVC"},2,1,3,2,1,3,2,1,3,0,0]
["4.8.1","PVC",{"$f":"res_pipe_length","v":60},"lf",{"$f":"res_pipe_diam","v":1},"in. diam",{"$f":"IF(curve=1,res_pipe_diam,VLOOKUP(res_pipe_diam,pvc_pipe_cost_cl,2))","v":1},"in. diam",{"$f":"IF(curve=1,pvc_pipe_eq_res,VLOOKUP(res_pipe_diam,pvc_pipe_cost_cl,3))","v":2.7370561000000002},{"$f":"IF(I172=\"contact vendor\",\"--\",C172*I172)","v":164.223366},{"$f":"VLOOKUP(res_pipe_diam,pvc_pipe_cost_cl,IF(ss_cat=\"large\",4,5))","v":17},1,{"$f":"$B$132&\" - \"&$B$170&\" \"&\" - \"&B172","v":"Piping - Residuals Piping  - PVC"},1,2,4,1,2,4,1,2,4,1,9.6601979999999994]
["4.8.1","Stainless Steel",{"$f":"res_pipe_length","v":60},"lf",{"$f":"res_pipe_diam","v":1},"in. diam",{"$f":"IF(curve=1,res_pipe_diam,VLOOKUP(res_pipe_diam,ss_pipe_cost_cl,2))","v":1},"in. diam",{"$f":"IF(curve=1,ss_pipe_eq_res,VLOOKUP(res_pipe_diam,ss_pipe_cost_cl,3))","v":32.505702297999996},{"$f":"IF(I173=\"contact vendor\",\"--\",C173*I173)","v":1950.3421378799997},{"$f":"VLOOKUP(res_pipe_diam,ss_pipe_cost_cl,IF(ss_cat=\"large\",4,5))","v":40},0,"Piping - Residuals Piping  - Stainless Steel",4,4,1,4,4,1,4,4,1,0,0]
["4.8.1","Steel",{"$f":"res_pipe_length","v":60},"lf",{"$f":"res_pipe_diam","v":1},"in. diam",{"$f":"IF(curve=1,res_pipe_diam,VLOOKUP(res_pipe_diam,st_pipe_cost_cl,2))","v":1},"in. diam",{"$f":"IF(curve=1,st_pipe_eq_res,VLOOKUP(res_pipe_diam,st_pipe_cost_cl,3))","v":15.386782015000001},{"$f":"IF(I174=\"contact vendor\",\"--\",C174*I174)","v":923.20692090000011},{"$f":"VLOOKUP(res_pipe_diam,st_pipe_cost_cl,IF(ss_cat=\"large\",4,5))","v":33},0,"Piping - Residuals Piping  - Steel",3,3,2,3,3,2,3,3,2,0,0]
["4.8.2","Excavation",{"$f":"res_trench_vol","v":0},"cy","NA",null,"NA",null,{"$f":"IF(C175=0,\"NA\",VLOOKUP(0,excavate_cost_cl,3))","v":"NA"},{"$f":"IF(OR(I175=\"contact vendor\",C175=0),\"--\",C175*I175)","v":"--"},{"$f":"IF(C175=0,\"NA\",SUMPRODUCT(L171:L174,K171:K174))","v":"NA"},null,"Piping - Residuals Piping  - Excavation",1,1,1,1,1,1,1,1,1,0,0]
["4.8.3","Bedding",{"$f":"res_pipe_bedding_vol","v":0},"cy","NA",null,"NA",null,{"$f":"IF(C176=0,\"NA\",VLOOKUP(0,bedding_cost_cl,3))","v":"NA"},{"$f":"IF(OR(I176=\"contact vendor\",C176=0),\"--\",C176*I176)","v":"--"},{"$f":"IF(C176=0,\"NA\",SUMPRODUCT(L171:L174,K171:K174))","v":"NA"},null,"Piping - Residuals Piping  - Bedding",1,1,1,1,1,1,1,1,1,0,0]
["4.8.4","Backfill and Compaction ",{"$f":"res_trench_vol","v":0},"cy","NA",null,"NA",null,{"$f":"IF(C177=0,\"NA\",VLOOKUP(0,backfill_cost_cl,3))","v":"NA"},{"$f":"IF(OR(I177=\"contact vendor\",C177=0),\"--\",C177*I177)","v":"--"},{"$f":"IF(C177=0,\"NA\",SUMPRODUCT(L171:L174,K171:K174))","v":"NA"},null,"Piping - Residuals Piping  - Backfill and Compaction ",1,1,1,1,1,1,1,1,1,0,0]
["4.8.5","Thrust Blocks",{"$f":"res_block_vol","v":0},"cy","NA",null,"NA",null,{"$f":"IF(C178=0,\"NA\",VLOOKUP(0,conc_basin_cost_cl,3))","v":"NA"},{"$f":"IF(OR(I178=\"contact vendor\",C178=0),\"--\",C178*I178)","v":"--"},{"$f":"IF(C178=0,\"NA\",SUMPRODUCT(L171:L174,K171:K174))","v":"NA"},null,"Piping - Residuals Piping  - Thrust Blocks",1,1,1,1,1,1,1,1,1,0,0]
[4.9000000000000004,"Fluidized Bed Recycle Piping",null,null,null,null,null,null,null,null,null,null,null,null,null,null,null,null,null,null,null,null,{"$f":"IF(ISERROR(K179*L179),0,IF(K179<1,0,L179))","v":0},{"$f":"IF(W179,J179/K179,0)","v":0}]
["4.9.1","CPVC",{"$f":"recycle_pipe_length","v":0},"lf",{"$f":"IF(C180>0,recycle_pipe_diam,\"NA\")","v":"NA"},{"$f":"IF(C180=0,\" \",\"in. diam\")","v":" "},{"$f":"IF(C180=0,\"NA\",IF(curve=1,recycle_pipe_diam,VLOOKUP(recycle_pipe_diam,cpvc_pipe_cost_cl,2)))","v":"NA"},{"$f":"IF(C180=0,\" \",\"in. diam\")","v":" "},{"$f":"IF(C180=0,\"NA\",IF(curve=1,cpvc_pipe_eq_rec,VLOOKUP(recycle_pipe_diam,cpvc_pipe_cost_cl,3)))","v":"NA"},{"$f":"IF(C180=0,0,IF(I180=\"contact vendor\",\"--\",C180*I180))","v":0},{"$f":"IF(C180=0,\"NA\",VLOOKUP(recycle_pipe_diam,cpvc_pipe_cost_cl,IF(ss_cat=\"large\",4,5)))","v":"NA"},null,{"$f":"$B$132&\" - \"&$B$179&\" \"&\" - \"&B180","v":"Piping - Fluidized Bed Recycle Piping  - CPVC"},2,1,3,2,1,3,2,1,3,0,0]
["4.9.1","PVC",{"$f":"recycle_pipe_length","v":0},"lf",{"$f":"IF(C181>0,recycle_pipe_diam,\"NA\")","v":"NA"},{"$f":"IF(C181=0,\" \",\"in. diam\")","v":" "},{"$f":"IF(C181=0,\"NA\",IF(curve=1,recycle_pipe_diam,VLOOKUP(recycle_pipe_diam,pvc_pipe_cost_cl,2)))","v":"NA"},{"$f":"IF(C181=0,\" \",\"in. diam\")","v":" "},{"$f":"IF(C181=0,\"NA\",IF(curve=1,pvc_pipe_eq_rec,VLOOKUP(recycle_pipe_diam,pvc_pipe_cost_cl,3)))","v":"NA"},{"$f":"IF(C181=0,0,IF(I181=\"contact vendor\",\"--\",C181*I181))","v":0},{"$f":"IF(C181=0,\"NA\",VLOOKUP(recycle_pipe_diam,pvc_pipe_cost_cl,IF(ss_cat=\"large\",4,5)))","v":"NA"},null,{"$f":"$B$132&\" - \"&$B$179&\" \"&\" - \"&B181","v":"Piping - Fluidized Bed Recycle Piping  - PVC"},1,2,4,1,2,4,1,2,4,0,0]
["4.9.1","Stainless Steel",{"$f":"recycle_pipe_length","v":0},"lf",{"$f":"IF(C182>0,recycle_pipe_diam,\"NA\")","v":"NA"},{"$f":"IF(C182=0,\" \",\"in. diam\")","v":" "},{"$f":"IF(C182=0,\"NA\",IF(curve=1,recycle_pipe_diam,VLOOKUP(recycle_pipe_diam,ss_pipe_cost_cl,2)))","v":"NA"},{"$f":"IF(C182=0,\" \",\"in. diam\")","v":" "},{"$f":"IF(C182=0,\"NA\",IF(curve=1,ss_pipe_eq_rec,VLOOKUP(recycle_pipe_diam,ss_pipe_cost_cl,3)))","v":"NA"},{"$f":"IF(C182=0,0,IF(I182=\"contact vendor\",\"--\",C182*I182))","v":0},{"$f":"IF(C182=0,\"NA\",VLOOKUP(recycle_pipe_diam,ss_pipe_cost_cl,IF(ss_cat=\"large\",4,5)))","v":"NA"},null,{"$f":"$B$132&\" - \"&$B$179&\" \"&\" - \"&B182","v":"Piping - Fluidized Bed Recycle Piping  - Stainless Steel"},4,4,1,4,4,1,4,4,1,0,0]
["4.9.1","Steel",{"$f":"recycle_pipe_length","v":0},"lf",{"$f":"IF(C183>0,recycle_pipe_diam,\"NA\")","v":"NA"},{"$f":"IF(C183=0,\" \",\"in. diam\")","v":" "},{"$f":"IF(C183=0,\"NA\",IF(curve=1,recycle_pipe_diam,VLOOKUP(recycle_pipe_diam,st_pipe_cost_cl,2)))","v":"NA"},{"$f":"IF(C183=0,\" \",\"in. diam\")","v":" "},{"$f":"IF(C183=0,\"NA\",IF(curve=1,st_pipe_eq_rec,VLOOKUP(recycle_pipe_diam,st_pipe_cost_cl,3)))","v":"NA"},{"$f":"IF(C183=0,0,IF(I183=\"contact vendor\",\"--\",C183*I183))","v":0},{"$f":"IF(C183=0,\"NA\",VLOOKUP(recycle_pipe_diam,st_pipe_cost_cl,IF(ss_cat=\"large\",4,5)))","v":"NA"},null,{"$f":"$B$132&\" - \"&$B$179&\" \"&\" - \"&B183","v":"Piping - Fluidized Bed Recycle Piping  - Steel"},3,3,2,3,3,2,3,3,2,0,0]
[4.0999999999999996,"Dilute Hydrogen Peroxide Piping",null,null,null,null,null,null,null,null,null,null,null,null,null,null,null,null,null,null,null,null,0,0]
["4.10.1","CPVC",{"$f":"H202_pipe_length","v":0},"lf",{"$f":"IF(C185=0,\"NA\",H202_pipe_diam)","v":"NA"},{"$f":"IF(C185=0,\"\",\"in diam\")","v":""},{"$f":"IF(C185=0,\"NA\",IF(curve=1,H202_pipe_diam,VLOOKUP(H202_pipe_diam,cpvc_pipe_cost_cl,2)))","v":"NA"},{"$f":"IF(C185=0,\"\",\"in diam\")","v":""},{"$f":"IF(C185=0,\"NA\",IF(curve=1,cpvc_pipe_eq_H2O2,VLOOKUP(H202_pipe_diam,cpvc_pipe_cost_cl,3)))","v":"NA"},{"$f":"IF(OR(C185=0,I185=\"contact vendor\"),\"--\",C185*I185)","v":"--"},{"$f":"IF(C185=0,\"NA\",VLOOKUP(H202_pipe_diam,cpvc_pipe_cost_cl,IF(ss_cat=\"large\",4,5)))","v":"NA"},null,{"$f":"$B$132&\" - \"&$B$184&\" - \"&B185","v":"Piping - Dilute Hydrogen Peroxide Piping - CPVC"},2,1,3,2,1,3,2,1,3,0,0]
["4.10.1","PVC",{"$f":"H202_pipe_length","v":0},"lf",{"$f":"IF(C186=0,\"NA\",H202_pipe_diam)","v":"NA"},{"$f":"IF(C186=0,\"\",\"in diam\")","v":""},{"$f":"IF(C186=0,\"NA\",IF(curve=1,H202_pipe_diam,VLOOKUP(H202_pipe_diam,pvc_pipe_cost_cl,2)))","v":"NA"},{"$f":"IF(C186=0,\"\",\"in diam\")","v":""},{"$f":"IF(C186=0,\"NA\",IF(curve=1,pvc_pipe_eq_H2O2,VLOOKUP(H202_pipe_diam,pvc_pipe_cost_cl,3)))","v":"NA"},{"$f":"IF(OR(C186=0,I186=\"contact vendor\"),\"--\",C186*I186)","v":"--"},{"$f":"IF(C186=0,\"NA\",VLOOKUP(H202_pipe_diam,pvc_pipe_cost_cl,IF(ss_cat=\"large\",4,5)))","v":"NA"},null,{"$f":"$B$132&\" - \"&$B$184&\" - \"&B186","v":"Piping - Dilute Hydrogen Peroxide Piping - PVC"},1,2,4,1,2,4,1,2,4,0,0]
["4.10.1","Stainless Steel",{"$f":"H202_pipe_length","v":0},"lf",{"$f":"IF(C187=0,\"NA\",H202_pipe_diam)","v":"NA"},{"$f":"IF(C187=0,\"\",\"in diam\")","v":""},{"$f":"IF(C187=0,\"NA\",IF(curve=1,H202_pipe_diam,VLOOKUP(H202_pipe_diam,ss_pipe_cost_cl,2)))","v":"NA"},{"$f":"IF(C187=0,\"\",\"in diam\")","v":""},{"$f":"IF(C187=0,\"NA\",IF(curve=1,ss_pipe_eq_H2O2,VLOOKUP(H202_pipe_diam,ss_pipe_cost_cl,3)))","v":"NA"},{"$f":"IF(OR(C187=0,I187=\"contact vendor\"),\"--\",C187*I187)","v":"--"},{"$f":"IF(C187=0,\"NA\",VLOOKUP(H202_pipe_diam,ss_pipe_cost_cl,IF(ss_cat=\"large\",4,5)))","v":"NA"},null,{"$f":"$B$132&\" - \"&$B$184&\" - \"&B187","v":"Piping - Dilute Hydrogen Peroxide Piping - Stainless Steel"},4,4,1,4,4,1,4,4,1,0,0]
["4.10.1","Steel",{"$f":"H202_pipe_length","v":0},"lf",{"$f":"IF(C188=0,\"NA\",H202_pipe_diam)","v":"NA"},{"$f":"IF(C188=0,\"\",\"in diam\")","v":""},{"$f":"IF(C188=0,\"NA\",IF(curve=1,H202_pipe_diam,VLOOKUP(H202_pipe_diam,st_pipe_cost_cl,2)))","v":"NA"},{"$f":"IF(C188=0,\"\",\"in diam\")","v":""},{"$f":"IF(C188=0,\"NA\",IF(curve=1,st_pipe_eq_H2O2,VLOOKUP(H202_pipe_diam,st_pipe_cost_cl,3)))","v":"NA"},{"$f":"IF(OR(C188=0,I188=\"contact vendor\"),\"--\",C188*I188)","v":"--"},{"$f":"IF(C188=0,\"NA\",VLOOKUP(H202_pipe_diam,st_pipe_cost_cl,IF(ss_cat=\"large\",4,5)))","v":"NA"},null,{"$f":"$B$132&\" - \"&$B$184&\" - \"&B188","v":"Piping - Dilute Hydrogen Peroxide Piping - Steel"},3,3,2,3,3,2,3,3,2,0,0]
[4.1100000000000003,"Polymer Addition Piping",null,null,null,null,null,null,null,null,null,null,null,null,null,null,null,null,null,null,null,null,0,0]
["4.11.1","CPVC",{"$f":"polymer_pipe_length","v":20},"lf",{"$f":"IF(C190=0,\"NA\",polymer_pipe_diam)","v":0.5},{"$f":"IF(C190=0,\"\",\"in diam\")","v":"in diam"},{"$f":"IF(C190=0,\"NA\",IF(curve=1,polymer_pipe_diam,VLOOKUP(polymer_pipe_diam,cpvc_pipe_cost_cl,2)))","v":0.5},{"$f":"IF(C190=0,\"\",\"in diam\")","v":"in diam"},{"$f":"IF(C190=0,\"NA\",IF(curve=1,cpvc_pipe_eq_polymer,VLOOKUP(polymer_pipe_diam,cpvc_pipe_cost_cl,3)))","v":2.7082137822500001},{"$f":"IF(OR(C190=0,I190=\"contact vendor\"),\"--\",C190*I190)","v":54.164275645000004},{"$f":"IF(C190=0,\"NA\",VLOOKUP(polymer_pipe_diam,cpvc_pipe_cost_cl,IF(ss_cat=\"large\",4,5)))","v":17},0,{"$f":"$B$132&\" - \"&$B$189&\" - \"&B190","v":"Piping - Polymer Addition Piping - CPVC"},2,1,3,2,1,3,2,1,3,0,0]
["4.11.1","PVC",{"$f":"polymer_pipe_length","v":20},"lf",{"$f":"IF(C191=0,\"NA\",polymer_pipe_diam)","v":0.5},{"$f":"IF(C191=0,\"\",\"in diam\")","v":"in diam"},{"$f":"IF(C191=0,\"NA\",IF(curve=1,polymer_pipe_diam,VLOOKUP(polymer_pipe_diam,pvc_pipe_cost_cl,2)))","v":0.5},{"$f":"IF(C191=0,\"\",\"in diam\")","v":"in diam"},{"$f":"IF(C191=0,\"NA\",IF(curve=1,pvc_pipe_eq_polymer,VLOOKUP(polymer_pipe_diam,pvc_pipe_cost_cl,3)))","v":2.5366744757500004},{"$f":"IF(OR(C191=0,I191=\"contact vendor\"),\"--\",C191*I191)","v":50.733489515000009},{"$f":"IF(C191=0,\"NA\",VLOOKUP(polymer_pipe_diam,pvc_pipe_cost_cl,IF(ss_cat=\"large\",4,5)))","v":17},1,{"$f":"$B$132&\" - \"&$B$189&\" - \"&B191","v":"Piping - Polymer Addition Piping - PVC"},1,2,4,1,2,4,1,2,4,1,2.9843229126470594]
["4.11.1","Stainless Steel",{"$f":"polymer_pipe_length","v":20},"lf",{"$f":"IF(C192=0,\"NA\",polymer_pipe_diam)","v":0.5},{"$f":"IF(C192=0,\"\",\"in diam\")","v":"in diam"},{"$f":"IF(C192=0,\"NA\",IF(curve=1,polymer_pipe_diam,VLOOKUP(polymer_pipe_diam,ss_pipe_cost_cl,2)))","v":0.5},{"$f":"IF(C192=0,\"\",\"in diam\")","v":"in diam"},{"$f":"IF(C192=0,\"NA\",IF(curve=1,ss_pipe_eq_polymer,VLOOKUP(polymer_pipe_diam,ss_pipe_cost_cl,3)))","v":15.239403338124998},{"$f":"IF(OR(C192=0,I192=\"contact vendor\"),\"--\",C192*I192)","v":304.78806676249997},{"$f":"IF(C192=0,\"NA\",VLOOKUP(polymer_pipe_diam,ss_pipe_cost_cl,IF(ss_cat=\"large\",4,5)))","v":40},0,{"$f":"$B$132&\" - \"&$B$189&\" - \"&B192","v":"Piping - Polymer Addition Piping - Stainless Steel"},4,4,1,4,4,1,4,4,1,0,0]
["4.11.1","Steel",{"$f":"polymer_pipe_length","v":20},"lf",{"$f":"IF(C193=0,\"NA\",polymer_pipe_diam)","v":0.5},{"$f":"IF(C193=0,\"\",\"in diam\")","v":"in diam"},{"$f":"IF(C193=0,\"NA\",IF(curve=1,polymer_pipe_diam,VLOOKUP(polymer_pipe_diam,st_pipe_cost_cl,2)))","v":0.5},{"$f":"IF(C193=0,\"\",\"in diam\")","v":"in diam"},{"$f":"IF(C193=0,\"NA\",IF(curve=1,st_pipe_eq_polymer,VLOOKUP(polymer_pipe_diam,st_pipe_cost_cl,3)))","v":"contact vendor"},{"$f":"IF(OR(C193=0,I193=\"contact vendor\"),\"--\",C193*I193)","v":"--"},{"$f":"IF(C193=0,\"NA\",VLOOKUP(polymer_pipe_diam,st_pipe_cost_cl,IF(ss_cat=\"large\",4,5)))","v":33},0,{"$f":"$B$132&\" - \"&$B$189&\" - \"&B193","v":"Piping - Polymer Addition Piping - Steel"},3,3,2,3,3,2,3,3,2,0,0]
["5","Valves and Fittings",null,null,null,null,null,null,null,null,null,null,null,null,null,null,null,null,null,null,null,null,0,0]
[5.0999999999999996,"Motor/Air Operated (on/off)",null,null,null,null,null,null,null,null,null,null,null,null,null,null,null,null,null,null,null,null,0,0]
["5.1.1","Process - Polypropylene/PVC",{"$f":"tot_proc_MOVs","v":10},"units",{"$f":"tank_valve_size","v":1.5},"in. diam",{"$f":"IF(curve=1,tank_valve_size,VLOOKUP(tank_valve_size,pp_mov_cost_cl,2))","v":1.5},"in. diam",{"$f":"IF(curve=1,pp_mov_eq_tank,VLOOKUP(tank_valve_size,pp_mov_cost_cl,3))","v":613.12081747683965},{"$f":"IF(I196=\"contact vendor\",\"--\",C196*I196)","v":6131.2081747683969},{"$f":"VLOOKUP(tank_valve_size,pp_mov_cost_cl,IF(ss_cat=\"large\",4,5))","v":20},1,{"$f":"$B$194&\" - \"&$B$195&\" - \"&B196","v":"Valves and Fittings - Motor/Air Operated (on/off) - Process - Polypropylene/PVC"},1,2,3,1,2,3,1,2,3,1,306.56040873841982]
["5.1.1","Process - Stainless Steel",{"$f":"tot_proc_MOVs","v":10},"units",{"$f":"tank_valve_size","v":1.5},"in. diam",{"$f":"IF(curve=1,tank_valve_size,VLOOKUP(tank_valve_size,ss_mov_cost_cl,2))","v":1.5},"in. diam",{"$f":"IF(curve=1,ss_mov_eq_tank,VLOOKUP(tank_valve_size,ss_mov_cost_cl,3))","v":963.24317081749996},9632.4317081749996,{"$f":"VLOOKUP(tank_valve_size,ss_mov_cost_cl,IF(ss_cat=\"large\",4,5))","v":20},0,{"$f":"$B$194&\" - \"&$B$195&\" - \"&B197","v":"Valves and Fittings - Motor/Air Operated (on/off) - Process - Stainless Steel"},3,3,1,3,3,1,3,3,1,0,0]
["5.1.1","Process - Cast Iron",{"$f":"tot_proc_MOVs","v":10},"units",{"$f":"tank_valve_size","v":1.5},"in. diam",{"$f":"IF(curve=1,tank_valve_size,VLOOKUP(tank_valve_size,ci_mov_cost_cl,2))","v":1.5},"in. diam",{"$f":"IF(curve=1,ss_mov_eq_tank,VLOOKUP(tank_valve_size,ci_mov_cost_cl,3))","v":963.24317081749996},9632.4317081749996,{"$f":"VLOOKUP(tank_valve_size,ci_mov_cost_cl,IF(ss_cat=\"large\",4,5))","v":20},0,"Valves and Fittings - Motor/Air Operated (on/off) - Process - Cast Iron",2,1,2,2,1,2,2,1,2,0,0]
["5.1.2","Backwash - Polypropylene/PVC",{"$f":"tot_back_MOVs","v":9},"units",{"$f":"back_valve_size","v":4},"in. diam",{"$f":"IF(curve=1,back_valve_size,VLOOKUP(back_valve_size,pp_mov_cost_cl,2))","v":4},"in. diam",{"$f":"IF(curve=1,pp_mov_eq_back,VLOOKUP(back_valve_size,pp_mov_cost_cl,3))","v":1043.4281388529059},9390.8532496761527,{"$f":"VLOOKUP(back_valve_size,pp_mov_cost_cl,IF(ss_cat=\"large\",4,5))","v":20},1,"Valves and Fittings - Motor/Air Operated (on/off) - Backwash - Polypropylene/PVC",1,2,3,1,2,3,1,2,3,1,469.54266248380765]
["5.1.2","Backwash - Stainless Steel",{"$f":"tot_back_MOVs","v":9},"units",{"$f":"back_valve_size","v":4},"in. diam",{"$f":"IF(curve=1,back_valve_size,VLOOKUP(back_valve_size,ss_mov_cost_cl,2))","v":4},"in. diam",{"$f":"IF(curve=1,ss_mov_eq_back,VLOOKUP(back_valve_size,ss_mov_cost_cl,3))","v":3003.4548020699995},27031.093218629994,{"$f":"VLOOKUP(back_valve_size,ss_mov_cost_cl,IF(ss_cat=\"large\",4,5))","v":20},0,"Valves and Fittings - Motor/Air Operated (on/off) - Backwash - Stainless Steel",3,3,1,3,3,1,3,3,1,0,0]
["5.1.2","Backwash - Cast Iron",{"$f":"tot_back_MOVs","v":9},"units",{"$f":"back_valve_size","v":4},"in. diam",{"$f":"IF(curve=1,back_valve_size,VLOOKUP(back_valve_size,ci_mov_cost_cl,2))","v":4},"in. diam",{"$f":"IF(curve=1,ci_mov_eq_back,VLOOKUP(back_valve_size,ci_mov_cost_cl,3))","v":1770.315857351},15932.842716159001,{"$f":"VLOOKUP(back_valve_size,ci_mov_cost_cl,IF(ss_cat=\"large\",4,5))","v":20},0,"Valves and Fittings - Motor/Air Operated (on/off) - Backwash - Cast Iron",2,1,2,2,1,2,2,1,2,0,0]
["5.1.3","Electron Donor - Polypropylene/PVC",{"$f":"tot_e_donor_MOVs","v":7},"units",{"$f":"e_donor_valve_size","v":0.5},"in. diam",{"$f":"IF(curve=1,e_donor_valve_size,VLOOKUP(e_donor_valve_size,pp_mov_cost_cl,2))","v":0.5},"in. diam",{"$f":"IF(curve=1,pp_mov_eq_e_donor,VLOOKUP(e_donor_valve_size,pp_mov_cost_cl,3))","v":495.65497445216556},3469.5848211651592,{"$f":"VLOOKUP(e_donor_valve_size,pp_mov_cost_cl,IF(ss_cat=\"large\",4,5))","v":20},1,"Valves and Fittings - Motor/Air Operated (on/off) - Electron Donor - Polypropylene/PVC",1,2,2,1,2,2,1,2,2,1,173.47924105825797]
["5.1.3","Electron Donor - Stainless Steel",{"$f":"tot_e_donor_MOVs","v":7},"units",{"$f":"e_donor_valve_size","v":0.5},"in. diam",{"$f":"IF(curve=1,e_donor_valve_size,VLOOKUP(e_donor_valve_size,ss_mov_cost_cl,2))","v":0.5},"in. diam",{"$f":"IF(curve=1,ss_mov_eq_e_donor,VLOOKUP(e_donor_valve_size,ss_mov_cost_cl,3))","v":416.33905854650004},2914.3734098255004,{"$f":"VLOOKUP(e_donor_valve_size,ss_mov_cost_cl,IF(ss_cat=\"large\",4,5))","v":20},0,"Valves and Fittings - Motor/Air Operated (on/off) - Electron Donor - Stainless Steel",2,1,1,2,1,1,2,1,1,0,0]
["5.1.4","Ammonium Chloride - Polypropylene/PVC",{"$f":"tot_NH4Cl_MOVs","v":0},"units",{"$f":"NH4Cl_valve_size","v":0},"in. diam",{"$f":"IF(curve=1,NH4Cl_valve_size,VLOOKUP(NH4Cl_valve_size,pp_mov_cost_cl,2))","v":0},"in. diam",{"$f":"IF(C204=0,\"NA\",IF(curve=1,pp_mov_eq_NH4Cl,VLOOKUP(NH4Cl_valve_size,pp_mov_cost_cl,3)))","v":"NA"},{"$f":"IF(OR(C204=0,I204=\"contact vendor\"),\"--\",C204*I204)","v":"--"},{"$f":"VLOOKUP(NH4Cl_valve_size,pp_mov_cost_cl,IF(ss_cat=\"large\",4,5))","v":20},null,{"$f":"$B$194&\" - \"&$B$195&\" - \"&B204","v":"Valves and Fittings - Motor/Air Operated (on/off) - Ammonium Chloride - Polypropylene/PVC"},1,2,2,1,2,2,1,2,2,0,0]
["5.1.4","Ammonium Chloride - Stainless Steel",{"$f":"tot_NH4Cl_MOVs","v":0},"units",{"$f":"NH4Cl_valve_size","v":0},"in. diam",{"$f":"IF(curve=1,NH4Cl_valve_size,VLOOKUP(NH4Cl_valve_size,ss_mov_cost_cl,2))","v":0},"in. diam",{"$f":"IF(C205=0,\"NA\",IF(curve=1,ss_mov_eq_NH4Cl,VLOOKUP(NH4Cl_valve_size,ss_mov_cost_cl,3)))","v":"NA"},{"$f":"IF(OR(C205=0,I205=\"contact vendor\"),\"--\",C205*I205)","v":"--"},{"$f":"VLOOKUP(NH4Cl_valve_size,ss_mov_cost_cl,IF(ss_cat=\"large\",4,5))","v":20},null,{"$f":"$B$194&\" - \"&$B$195&\" - \"&B205","v":"Valves and Fittings - Motor/Air Operated (on/off) - Ammonium Chloride - Stainless Steel"},2,1,1,2,1,1,2,1,1,0,0]
["5.1.5","Phosphoric Acid - Polypropylene/PVC",{"$f":"tot_H3PO4_MOVs","v":6},"units",{"$f":"H3PO4_valve_size","v":0.5},"in. diam",{"$f":"IF(curve=1,H3PO4_valve_size,VLOOKUP(H3PO4_valve_size,pp_mov_cost_cl,2))","v":0.5},"in. diam",{"$f":"IF(C206=0,\"NA\",IF(curve=1,pp_mov_eq_H3PO4,VLOOKUP(H3PO4_valve_size,pp_mov_cost_cl,3)))","v":495.65497445216556},{"$f":"IF(OR(C206=0,I206=\"contact vendor\"),\"--\",C206*I206)","v":2973.9298467129934},{"$f":"VLOOKUP(H3PO4_valve_size,pp_mov_cost_cl,IF(ss_cat=\"large\",4,5))","v":20},1,{"$f":"$B$194&\" - \"&$B$195&\" - \"&B206","v":"Valves and Fittings - Motor/Air Operated (on/off) - Phosphoric Acid - Polypropylene/PVC"},1,2,2,1,2,2,1,2,2,1,148.69649233564968]
["5.1.5","Phosphoric Acid - Stainless Steel",{"$f":"tot_H3PO4_MOVs","v":6},"units",{"$f":"H3PO4_valve_size","v":0.5},"in. diam",{"$f":"IF(curve=1,H3PO4_valve_size,VLOOKUP(H3PO4_valve_size,ss_mov_cost_cl,2))","v":0.5},"in. diam",{"$f":"IF(C207=0,\"NA\",IF(curve=1,ss_mov_eq_H3PO4,VLOOKUP(H3PO4_valve_size,ss_mov_cost_cl,3)))","v":416.33905854650004},{"$f":"IF(OR(C207=0,I207=\"contact vendor\"),\"--\",C207*I207)","v":2498.0343512790005},{"$f":"VLOOKUP(H3PO4_valve_size,ss_mov_cost_cl,IF(ss_cat=\"large\",4,5))","v":20},0,{"$f":"$B$194&\" - \"&$B$195&\" - \"&B207","v":"Valves and Fittings - Motor/Air Operated (on/off) - Phosphoric Acid - Stainless Steel"},2,1,1,2,1,1,2,1,1,0,0]
["5.1.6","Bypass - Polypropylene/PVC",{"$f":"IF(bp_pct>0,tot_bp_MOVs,0)","v":0},"units",{"$f":"IF(bp_pct=0,\"NA\",bypass_valve_size)","v":"NA"},{"$f":"IF(bp_pct=0,\" \",\"in. diam\")","v":" "},{"$f":"IF(bp_pct=0,\"NA\",(IF(curve=1,bypass_valve_size,VLOOKUP(bypass_valve_size,pp_mov_cost_cl,2))))","v":"NA"},{"$f":"IF(bp_pct=0,\" \",\"in. diam\")","v":" "},{"$f":"IF(bp_pct=0,\"NA\",(IF(curve=1,pp_mov_eq_bp,VLOOKUP(bypass_valve_size,pp_mov_cost_cl,3))))","v":"NA"},{"$f":"IF(bp_pct=0,0,IF(I208=\"contact vendor\",\"--\",C208*I208))","v":0},{"$f":"IF(bp_pct=0,\"NA\",VLOOKUP(bypass_valve_size,pp_mov_cost_cl,IF(ss_cat=\"large\",4,5)))","v":"NA"},null,"Valves and Fittings - Motor/Air Operated (on/off) - Bypass - Polypropylene/PVC",1,2,3,1,2,3,1,2,3,0,0]
["5.1.6","Bypass - Stainless Steel",{"$f":"IF(bp_pct>0,tot_bp_MOVs,0)","v":0},"units",{"$f":"IF(bp_pct=0,\"NA\",bypass_valve_size)","v":"NA"},{"$f":"IF(bp_pct=0,\" \",\"in. diam\")","v":" "},{"$f":"IF(bp_pct=0,\"NA\",(IF(curve=1,bypass_valve_size,VLOOKUP(bypass_valve_size,ss_mov_cost_cl,2))))","v":"NA"},{"$f":"IF(bp_pct=0,\" \",\"in. diam\")","v":" "},{"$f":"IF(bp_pct=0,\"NA\",(IF(curve=1,ss_mov_eq_bp,VLOOKUP(bypass_valve_size,ss_mov_cost_cl,3))))","v":"NA"},{"$f":"IF(bp_pct=0,0,IF(I209=\"contact vendor\",\"--\",C209*I209))","v":0},{"$f":"IF(bp_pct=0,\"NA\",VLOOKUP(bypass_valve_size,ss_mov_cost_cl,IF(ss_cat=\"large\",4,5)))","v":"NA"},null,"Valves and Fittings - Motor/Air Operated (on/off) - Bypass - Stainless Steel",3,3,1,3,3,1,3,3,1,0,0]
["5.1.6","Bypass - Cast Iron",{"$f":"IF(bp_pct>0,tot_bp_MOVs,0)","v":0},"units",{"$f":"IF(bp_pct=0,\"NA\",bypass_valve_size)","v":"NA"},{"$f":"IF(bp_pct=0,\" \",\"in. diam\")","v":" "},{"$f":"IF(bp_pct=0,\"NA\",(IF(curve=1,bypass_valve_size,VLOOKUP(bypass_valve_size,ci_mov_cost_cl,2))))","v":"NA"},{"$f":"IF(bp_pct=0,\" \",\"in. diam\")","v":" "},{"$f":"IF(bp_pct=0,\"NA\",(IF(curve=1,ci_mov_eq_bp,VLOOKUP(bypass_valve_size,ci_mov_cost_cl,3))))","v":"NA"},{"$f":"IF(bp_pct=0,0,IF(I210=\"contact vendor\",\"--\",C210*I210))","v":0},{"$f":"IF(bp_pct=0,\"NA\",VLOOKUP(bypass_valve_size,ci_mov_cost_cl,IF(ss_cat=\"large\",4,5)))","v":"NA"},null,"Valves and Fittings - Motor/Air Operated (on/off) - Bypass - Cast Iron",2,1,2,2,1,2,2,1,2,0,0]
["5.1.7","Residuals - Polypropylene/PVC",{"$f":"total_res_MOVs","v":3},"units",{"$f":"IF(C211=0,\"NA\",res_valve_size)","v":1},{"$f":"IF(C211=0,\"\",\"in. diam\")","v":"in. diam"},{"$f":"IF(C211=0,\"NA\",IF(curve=1,res_valve_size,VLOOKUP(res_valve_size,pp_mov_cost_cl,2)))","v":1},{"$f":"IF(C211=0,\"\",\"in. diam\")","v":"in. diam"},{"$f":"IF(C211=0,0,IF(curve=1,pp_mov_eq_res,VLOOKUP(res_valve_size,pp_mov_cost_cl,3)))","v":551.26797759580938},{"$f":"IF(I211=\"contact vendor\",\"--\",C211*I211)","v":1653.803932787428},{"$f":"IF(C211=0,\"NA\",VLOOKUP(res_valve_size,pp_mov_cost_cl,IF(ss_cat=\"large\",4,5)))","v":20},1,{"$f":"$B$194 & \" - \" & $B$195&\" \"&\" - \"&B211","v":"Valves and Fittings - Motor/Air Operated (on/off)  - Residuals - Polypropylene/PVC"},1,2,3,1,2,3,1,2,3,1,82.690196639371408]
["5.1.7","Residuals - Stainless Steel",{"$f":"total_res_MOVs","v":3},"units",{"$f":"IF(C212=0,\"NA\",res_valve_size)","v":1},"in. diam",{"$f":"IF(C212=0,\"NA\",IF(curve=1,res_valve_size,VLOOKUP(res_valve_size,ss_mov_cost_cl,2)))","v":1},"in. diam",{"$f":"IF(C212=0,0,IF(curve=1,ss_mov_eq_res,VLOOKUP(res_valve_size,ss_mov_cost_cl,3)))","v":670.56393323700001},2011.6917997109999,{"$f":"IF(C212=0,\"NA\",VLOOKUP(res_valve_size,ss_mov_cost_cl,IF(ss_cat=\"large\",4,5)))","v":20},0,"Valves and Fittings - Motor/Air Operated (on/off)  - Residuals - Stainless Steel",3,3,1,3,3,1,3,3,1,0,0]
["5.1.7","Residuals - Cast Iron",{"$f":"total_res_MOVs","v":3},"units",{"$f":"IF(C213=0,\"NA\",res_valve_size)","v":1},"in. diam",{"$f":"IF(C213=0,\"NA\",IF(curve=1,res_valve_size,VLOOKUP(res_valve_size,ci_mov_cost_cl,2)))","v":1},"in. diam",{"$f":"IF(C213=0,0,IF(curve=1,ci_mov_eq_res,VLOOKUP(res_valve_size,ci_mov_cost_cl,3)))","v":1127.774092526},3383.322277578,{"$f":"IF(C213=0,\"NA\",VLOOKUP(res_valve_size,ci_mov_cost_cl,IF(ss_cat=\"large\",4,5)))","v":20},0,"Valves and Fittings - Motor/Air Operated (on/off)  - Residuals - Cast Iron",2,1,2,2,1,2,2,1,2,0,0]
["5.1.8","Air Scour- Polypropylene/PVC",{"$f":"tot_air_MOVs","v":2},"units",{"$f":"IF(C214=0,\"NA\",air_valve_size)","v":1.5},"in. diam",{"$f":"IF(C214=0,\"NA\",IF(curve=1,air_valve_size,VLOOKUP(air_valve_size,pp_mov_cost_cl,2)))","v":1.5},"in. diam",{"$f":"IF(C214=0,0,IF(curve=1,pp_mov_eq_air,VLOOKUP(air_valve_size,pp_mov_cost_cl,3)))","v":613.12081747683965},1226.2416349536793,{"$f":"IF(C214=0,\"NA\",VLOOKUP(air_valve_size,pp_mov_cost_cl,IF(ss_cat=\"large\",4,5)))","v":20},1,"Valves and Fittings - Motor/Air Operated (on/off)  - Air Scour- Polypropylene/PVC",1,2,3,1,2,3,1,2,3,1,61.312081747683962]
["5.1.8","Air Scour- Stainless Steel",{"$f":"tot_air_MOVs","v":2},"units",{"$f":"IF(C215=0,\"NA\",air_valve_size)","v":1.5},"in. diam",{"$f":"IF(C215=0,\"NA\",IF(curve=1,air_valve_size,VLOOKUP(air_valve_size,ss_mov_cost_cl,2)))","v":1.5},"in. diam",{"$f":"IF(C215=0,0,IF(curve=1,ss_mov_eq_air,VLOOKUP(air_valve_size,ss_mov_cost_cl,3)))","v":963.24317081749996},1926.4863416349999,{"$f":"IF(C215=0,\"NA\",VLOOKUP(air_valve_size,ss_mov_cost_cl,IF(ss_cat=\"large\",4,5)))","v":20},0,"Valves and Fittings - Motor/Air Operated (on/off)  - Air Scour- Stainless Steel",3,3,1,3,3,1,3,3,1,0,0]
["5.1.8","Air Scour- Cast Iron",{"$f":"tot_air_MOVs","v":2},"units",{"$f":"IF(C216=0,\"NA\",air_valve_size)","v":1.5},"in. diam",{"$f":"IF(C216=0,\"NA\",IF(curve=1,air_valve_size,VLOOKUP(air_valve_size,ci_mov_cost_cl,2)))","v":1.5},"in. diam",{"$f":"IF(C216=0,0,IF(curve=1,ci_mov_eq_air,VLOOKUP(air_valve_size,ci_mov_cost_cl,3)))","v":1199.336346974125},2398.6726939482501,{"$f":"IF(C216=0,\"NA\",VLOOKUP(air_valve_size,ci_mov_cost_cl,IF(ss_cat=\"large\",4,5)))","v":20},0,"Valves and Fittings - Motor/Air Operated (on/off)  - Air Scour- Cast Iron",2,1,2,2,1,2,2,1,2,0,0]
["5.1.9","Fluidized Bed Recycle - Polypropylene/PVC",{"$f":"tot_rec_MOVs","v":0},"units",{"$f":"rec_valve_size","v":0},"in. diam",{"$f":"IF(curve=1,rec_valve_size,VLOOKUP(rec_valve_size,pp_mov_cost_cl,2))","v":0},"in. diam",{"$f":"IF(C217=0,\"NA\",IF(curve=1,pp_mov_eq_rec,VLOOKUP(rec_valve_size,pp_mov_cost_cl,3)))","v":"NA"},{"$f":"IF(OR(C217=0,I217=\"contact vendor\"),\"--\",C217*I217)","v":"--"},{"$f":"VLOOKUP(rec_valve_size,pp_mov_cost_cl,IF(ss_cat=\"large\",4,5))","v":20},null,{"$f":"$B$194&\" - \"&$B$195&\" - \"&B217","v":"Valves and Fittings - Motor/Air Operated (on/off) - Fluidized Bed Recycle - Polypropylene/PVC"},1,2,2,1,2,2,1,2,2,0,0]
["5.1.9","Fluidized Bed Recycle - Stainless Steel",{"$f":"tot_rec_MOVs","v":0},"units",{"$f":"rec_valve_size","v":0},"in. diam",{"$f":"IF(curve=1,rec_valve_size,VLOOKUP(rec_valve_size,ss_mov_cost_cl,2))","v":0},"in. diam",{"$f":"IF(C218=0,\"NA\",IF(curve=1,ss_mov_eq_rec,VLOOKUP(rec_valve_size,ss_mov_cost_cl,3)))","v":"NA"},{"$f":"IF(OR(C218=0,I218=\"contact vendor\"),\"--\",C218*I218)","v":"--"},{"$f":"VLOOKUP(rec_valve_size,ss_mov_cost_cl,IF(ss_cat=\"large\",4,5))","v":20},null,{"$f":"$B$194&\" - \"&$B$195&\" - \"&B218","v":"Valves and Fittings - Motor/Air Operated (on/off) - Fluidized Bed Recycle - Stainless Steel"},2,1,1,2,1,1,2,1,1,0,0]
["5.1.10","Hydrogen Peroxide - Polypropylene/PVC",{"$f":"tot_H2O2_MOVs","v":0},"units",{"$f":"H2O2_valve_size","v":0},"in. diam",{"$f":"IF(curve=1,H2O2_valve_size,VLOOKUP(H2O2_valve_size,pp_mov_cost_cl,2))","v":0},"in. diam",{"$f":"IF(C219=0,\"NA\",IF(curve=1,pp_mov_eq_H2O2,VLOOKUP(H2O2_valve_size,pp_mov_cost_cl,3)))","v":"NA"},{"$f":"IF(OR(C219=0,I219=\"contact vendor\"),\"--\",C219*I219)","v":"--"},{"$f":"VLOOKUP(H2O2_valve_size,pp_mov_cost_cl,IF(ss_cat=\"large\",4,5))","v":20},null,{"$f":"$B$194&\" - \"&$B$195&\" - \"&B219","v":"Valves and Fittings - Motor/Air Operated (on/off) - Hydrogen Peroxide - Polypropylene/PVC"},1,2,2,1,2,2,1,2,2,0,0]
["5.1.10","Hydrogen Peroxide - Stainless Steel",{"$f":"tot_H2O2_MOVs","v":0},"units",{"$f":"H2O2_valve_size","v":0},"in. diam",{"$f":"IF(curve=1,H2O2_valve_size,VLOOKUP(H2O2_valve_size,ss_mov_cost_cl,2))","v":0},"in. diam",{"$f":"IF(C220=0,\"NA\",IF(curve=1,ss_mov_eq_H2O2,VLOOKUP(H2O2_valve_size,ss_mov_cost_cl,3)))","v":"NA"},{"$f":"IF(OR(C220=0,I220=\"contact vendor\"),\"--\",C220*I220)","v":"--"},{"$f":"VLOOKUP(H2O2_valve_size,ss_mov_cost_cl,IF(ss_cat=\"large\",4,5))","v":20},null,{"$f":"$B$194&\" - \"&$B$195&\" - \"&B220","v":"Valves and Fittings - Motor/Air Operated (on/off) - Hydrogen Peroxide - Stainless Steel"},2,1,1,2,1,1,2,1,1,0,0]
["5.1.11","Air Biomass Removal- Polypropylene/PVC",{"$f":"tot_bio_air_MOVs","v":0},"units",{"$f":"IF(C221=0,\"NA\",bio_air_valve_size)","v":"NA"},{"$f":"IF(C221=0,\"\",\"in. diam\")","v":""},{"$f":"IF(C221=0,\"NA\",IF(curve=1,bio_air_valve_size,VLOOKUP(bio_air_valve_size,pp_mov_cost_cl,2)))","v":"NA"},{"$f":"IF(C221=0,\"\",\"in. diam\")","v":""},{"$f":"IF(C221=0,0,IF(curve=1,pp_mov_eq_bio_air,VLOOKUP(bio_air_valve_size,pp_mov_cost_cl,3)))","v":0},{"$f":"IF(I221=\"contact vendor\",\"--\",C221*I221)","v":0},{"$f":"IF(C221=0,\"NA\",VLOOKUP(bio_air_valve_size,pp_mov_cost_cl,IF(ss_cat=\"large\",4,5)))","v":"NA"},null,{"$f":"$B$194 & \" - \" & $B$195&\" \"&\" - \"&B221","v":"Valves and Fittings - Motor/Air Operated (on/off)  - Air Biomass Removal- Polypropylene/PVC"},1,2,3,1,2,3,1,2,3,0,0]
["5.1.11","Air  Biomass Removal- Stainless Steel",{"$f":"tot_bio_air_MOVs","v":0},"units",{"$f":"IF(C222=0,\"NA\",bio_air_valve_size)","v":"NA"},"",{"$f":"IF(C222=0,\"NA\",IF(curve=1,bio_air_valve_size,VLOOKUP(bio_air_valve_size,ss_mov_cost_cl,2)))","v":"NA"},"",{"$f":"IF(C222=0,0,IF(curve=1,ss_mov_eq_bio_air,VLOOKUP(bio_air_valve_size,ss_mov_cost_cl,3)))","v":0},0,{"$f":"IF(C222=0,\"NA\",VLOOKUP(bio_air_valve_size,ss_mov_cost_cl,IF(ss_cat=\"large\",4,5)))","v":"NA"},null,"Valves and Fittings - Motor/Air Operated (on/off)  - Air  Biomass Removal- Stainless Steel",3,3,1,3,3,1,3,3,1,0,0]
["5.1.11","Air  Biomass Removal- Cast Iron",{"$f":"tot_bio_air_MOVs","v":0},"units",{"$f":"IF(C223=0,\"NA\",bio_air_valve_size)","v":"NA"},"",{"$f":"IF(C223=0,\"NA\",IF(curve=1,bio_air_valve_size,VLOOKUP(bio_air_valve_size,ci_mov_cost_cl,2)))","v":"NA"},"",{"$f":"IF(C223=0,0,IF(curve=1,ci_mov_eq_bio_air,VLOOKUP(bio_air_valve_size,ci_mov_cost_cl,3)))","v":0},0,{"$f":"IF(C223=0,\"NA\",VLOOKUP(bio_air_valve_size,ci_mov_cost_cl,IF(ss_cat=\"large\",4,5)))","v":"NA"},null,"Valves and Fittings - Motor/Air Operated (on/off)  - Air  Biomass Removal- Cast Iron",2,1,2,2,1,2,2,1,2,0,0]
["5.1.12","Aeration- Polypropylene/PVC",{"$f":"tot_aeration_MOVs","v":3},"units",{"$f":"IF(C224=0,\"NA\",air_valve_size)","v":1.5},"in. diam",{"$f":"IF(C224=0,\"NA\",IF(curve=1,aeration_valve_size,VLOOKUP(aeration_valve_size,pp_mov_cost_cl,2)))","v":0.75},"in. diam",{"$f":"IF(C224=0,0,IF(curve=1,pp_mov_eq_aeration,VLOOKUP(aeration_valve_size,pp_mov_cost_cl,3)))","v":522.722407546824},1568.1672226404721,{"$f":"IF(C224=0,\"NA\",VLOOKUP(aeration_valve_size,pp_mov_cost_cl,IF(ss_cat=\"large\",4,5)))","v":20},1,"Valves and Fittings - Motor/Air Operated (on/off)  - Aeration- Polypropylene/PVC",1,2,3,1,2,3,1,2,3,1,78.4083611320236]
["5.1.12","Aeration- Stainless Steel",{"$f":"tot_aeration_MOVs","v":3},"units",{"$f":"IF(C225=0,\"NA\",air_valve_size)","v":1.5},"in. diam",{"$f":"IF(C225=0,\"NA\",IF(curve=1,aeration_valve_size,VLOOKUP(aeration_valve_size,ss_mov_cost_cl,2)))","v":0.75},"in. diam",{"$f":"IF(C225=0,0,IF(curve=1,ss_mov_eq_aeration,VLOOKUP(aeration_valve_size,ss_mov_cost_cl,3)))","v":538.64470053050002},1615.9341015915002,{"$f":"IF(C225=0,\"NA\",VLOOKUP(aeration_valve_size,ss_mov_cost_cl,IF(ss_cat=\"large\",4,5)))","v":20},0,"Valves and Fittings - Motor/Air Operated (on/off)  - Aeration- Stainless Steel",3,3,1,3,3,1,3,3,1,0,0]
["5.1.12","Aeration- Cast Iron",{"$f":"tot_aeration_MOVs","v":3},"units",{"$f":"IF(C226=0,\"NA\",air_valve_size)","v":1.5},"in. diam",{"$f":"IF(C226=0,\"NA\",IF(curve=1,aeration_valve_size,VLOOKUP(aeration_valve_size,ci_mov_cost_cl,2)))","v":0.75},"in. diam",{"$f":"IF(C226=0,0,IF(curve=1,ci_mov_eq_aeration,VLOOKUP(aeration_valve_size,ci_mov_cost_cl,3)))","v":"contact vendor"},"--",{"$f":"IF(C226=0,\"NA\",VLOOKUP(aeration_valve_size,ci_mov_cost_cl,IF(ss_cat=\"large\",4,5)))","v":20},0,"Valves and Fittings - Motor/Air Operated (on/off)  - Aeration- Cast Iron",2,1,2,2,1,2,2,1,2,0,0]
["5.1.13","Polymer- Polypropylene/PVC",{"$f":"tot_polymer_MOVs","v":5},"units",{"$f":"IF(C227=0,\"NA\",polymer_valve_size)","v":0.5},{"$f":"IF(C227=0,\"\",\"in. diam\")","v":"in. diam"},{"$f":"IF(C227=0,\"NA\",IF(curve=1,polymer_valve_size,VLOOKUP(polymer_valve_size,pp_mov_cost_cl,2)))","v":0.5},{"$f":"IF(C227=0,\"\",\"in. diam\")","v":"in. diam"},{"$f":"IF(C227=0,0,IF(curve=1,pp_mov_eq_polymer,VLOOKUP(polymer_valve_size,pp_mov_cost_cl,3)))","v":495.65497445216556},{"$f":"IF(I227=\"contact vendor\",\"--\",C227*I227)","v":2478.2748722608276},{"$f":"IF(C227=0,\"NA\",VLOOKUP(polymer_valve_size,pp_mov_cost_cl,IF(ss_cat=\"large\",4,5)))","v":20},1,{"$f":"$B$194 & \" - \" & $B$195&\" \"&\" - \"&B227","v":"Valves and Fittings - Motor/Air Operated (on/off)  - Polymer- Polypropylene/PVC"},1,2,3,1,2,3,1,2,3,1,123.91374361304138]
["5.1.13","Polymer- Stainless Steel",{"$f":"tot_polymer_MOVs","v":5},"units",{"$f":"IF(C228=0,\"NA\",polymer_valve_size)","v":0.5},{"$f":"IF(C228=0,\"\",\"in. diam\")","v":"in. diam"},{"$f":"IF(C228=0,\"NA\",IF(curve=1,polymer_valve_size,VLOOKUP(polymer_valve_size,ss_mov_cost_cl,2)))","v":0.5},{"$f":"IF(C228=0,\"\",\"in. diam\")","v":"in. diam"},{"$f":"IF(C228=0,0,IF(curve=1,ss_mov_eq_polymer,VLOOKUP(polymer_valve_size,ss_mov_cost_cl,3)))","v":416.33905854650004},{"$f":"IF(I228=\"contact vendor\",\"--\",C228*I228)","v":2081.6952927325001},{"$f":"IF(C228=0,\"NA\",VLOOKUP(polymer_valve_size,ss_mov_cost_cl,IF(ss_cat=\"large\",4,5)))","v":20},0,{"$f":"$B$194 & \" - \" & $B$195&\" \"&\" - \"&B228","v":"Valves and Fittings - Motor/Air Operated (on/off)  - Polymer- Stainless Steel"},3,3,1,3,3,1,3,3,1,0,0]
["5.1.13","Polymer- Cast Iron",{"$f":"tot_polymer_MOVs","v":5},"units",{"$f":"IF(C229=0,\"NA\",polymer_valve_size)","v":0.5},{"$f":"IF(C229=0,\"\",\"in. diam\")","v":"in. diam"},{"$f":"IF(C229=0,\"NA\",IF(curve=1,polymer_valve_size,VLOOKUP(polymer_valve_size,ci_mov_cost_cl,2)))","v":0.5},{"$f":"IF(C229=0,\"\",\"in. diam\")","v":"in. diam"},{"$f":"IF(C229=0,0,IF(curve=1,ci_mov_eq_polymer,VLOOKUP(polymer_valve_size,ci_mov_cost_cl,3)))","v":"contact vendor"},{"$f":"IF(I229=\"contact vendor\",\"--\",C229*I229)","v":"--"},{"$f":"IF(C229=0,\"NA\",VLOOKUP(polymer_valve_size,ci_mov_cost_cl,IF(ss_cat=\"large\",4,5)))","v":20},0,{"$f":"$B$194 & \" - \" & $B$195&\" \"&\" - \"&B229","v":"Valves and Fittings - Motor/Air Operated (on/off)  - Polymer- Cast Iron"},2,1,2,2,1,2,2,1,2,0,0]
[5.2,"Manual",null,null,null,null,null,null,null,null,null,null,null,null,null,null,null,null,null,null,null,null,0,0]
["5.2.1","Inlet and outlet - Polypropylene/PVC",{"$f":"tot_man_valves","v":2},"units",{"$f":"in_valve_size","v":1.5},"in. diam",{"$f":"IF(curve=1,in_valve_size,VLOOKUP(in_valve_size,pp_man_cost_cl,2))","v":1.5},"in. diam",{"$f":"IF(curve=1,pp_man_eq,VLOOKUP(in_valve_size,pp_man_cost_cl,3))","v":240.94885330037496},{"$f":"IF(I231=\"contact vendor\",\"--\",C231*I231)","v":481.89770660074993},{"$f":"VLOOKUP(in_valve_size,pp_man_cost_cl,IF(ss_cat=\"large\",4,5))","v":20},1,{"$f":"$B$194&\" - \"&$B$230&\" - \"&B231","v":"Valves and Fittings - Manual - Inlet and outlet - Polypropylene/PVC"},1,2,3,1,2,3,1,2,3,1,24.094885330037496]
["5.2.1","Inlet and outlet - Stainless Steel",{"$f":"tot_man_valves","v":2},"units",{"$f":"in_valve_size","v":1.5},"in. diam",{"$f":"IF(curve=1,in_valve_size,VLOOKUP(in_valve_size,ss_man_cost_cl,2))","v":1.5},"in. diam",{"$f":"IF(curve=1,ss_man_eq,VLOOKUP(in_valve_size,ss_man_cost_cl,3))","v":441.95623800290133},883.91247600580266,{"$f":"VLOOKUP(in_valve_size,ss_man_cost_cl,IF(ss_cat=\"large\",4,5))","v":20},0,"Valves and Fittings - Manual - Inlet and outlet - Stainless Steel",3,3,1,3,3,1,3,3,1,0,0]
["5.2.1","Inlet and outlet - Cast Iron",{"$f":"tot_man_valves","v":2},"units",{"$f":"in_valve_size","v":1.5},"in. diam",{"$f":"IF(curve=1,in_valve_size,VLOOKUP(in_valve_size,ci_bfv_cost_cl,2))","v":1.5},"in. diam",{"$f":"IF(curve=1,ci_bfv_eq,VLOOKUP(in_valve_size,ci_bfv_cost_cl,3))","v":243.51576556212501},487.03153112425002,{"$f":"VLOOKUP(in_valve_size,ci_bfv_cost_cl,IF(ss_cat=\"large\",4,5))","v":20},0,"Valves and Fittings - Manual - Inlet and outlet - Cast Iron",2,1,2,2,1,2,2,1,2,0,0]
["5.2.2","Process - Polypropylene/PVC",{"$f":"tot_proc_man","v":2},"units",{"$f":"tank_valve_size","v":1.5},"in. diam",{"$f":"IF(curve=1,tank_valve_size,VLOOKUP(tank_valve_size,pp_man_cost_cl,2))","v":1.5},"in. diam",{"$f":"IF(curve=1,pp_man_eq_proc,VLOOKUP(tank_valve_size,pp_man_cost_cl,3))","v":240.94885330037496},481.89770660074993,{"$f":"VLOOKUP(tank_valve_size,pp_man_cost_cl,IF(ss_cat=\"large\",4,5))","v":20},1,"Valves and Fittings - Manual - Process - Polypropylene/PVC",1,2,3,1,2,3,1,2,3,1,24.094885330037496]
["5.2.2","Process - Stainless Steel",{"$f":"tot_proc_man","v":2},"units",{"$f":"tank_valve_size","v":1.5},"in. diam",{"$f":"IF(curve=1,tank_valve_size,VLOOKUP(tank_valve_size,ss_man_cost_cl,2))","v":1.5},"in. diam",{"$f":"IF(curve=1,ss_man_eq_proc,VLOOKUP(tank_valve_size,ss_man_cost_cl,3))","v":441.95623800290133},883.91247600580266,{"$f":"VLOOKUP(tank_valve_size,ss_man_cost_cl,IF(ss_cat=\"large\",4,5))","v":20},0,"Valves and Fittings - Manual - Process - Stainless Steel",3,3,1,3,3,1,3,3,1,0,0]
["5.2.2","Process - Cast Iron",{"$f":"tot_proc_man","v":2},"units",{"$f":"tank_valve_size","v":1.5},"in. diam",{"$f":"IF(curve=1,tank_valve_size,VLOOKUP(tank_valve_size,ci_bfv_cost_cl,2))","v":1.5},"in. diam",{"$f":"IF(curve=1,ci_bfv_eq_proc,VLOOKUP(tank_valve_size,ci_bfv_cost_cl,3))","v":243.51576556212501},487.03153112425002,{"$f":"VLOOKUP(tank_valve_size,ci_bfv_cost_cl,IF(ss_cat=\"large\",4,5))","v":20},0,"Valves and Fittings - Manual - Process - Cast Iron",2,1,2,2,1,2,2,1,2,0,0]
["5.2.3","Backwash - Polypropylene/PVC",{"$f":"tot_back_man","v":0},"units",{"$f":"back_valve_size","v":4},"in. diam",{"$f":"IF(curve=1,back_valve_size,VLOOKUP(back_valve_size,pp_man_cost_cl,2))","v":4},"in. diam",{"$f":"IF(curve=1,pp_man_eq_back,VLOOKUP(back_valve_size,pp_man_cost_cl,3))","v":452.46420162599998},0,{"$f":"VLOOKUP(back_valve_size,pp_man_cost_cl,IF(ss_cat=\"large\",4,5))","v":20},null,"Valves and Fittings - Manual - Backwash - Polypropylene/PVC",1,2,3,1,2,3,1,2,3,0,0]
["5.2.3","Backwash - Stainless Steel",{"$f":"tot_back_man","v":0},"units",{"$f":"back_valve_size","v":4},"in. diam",{"$f":"IF(curve=1,back_valve_size,VLOOKUP(back_valve_size,ss_man_cost_cl,2))","v":4},"in. diam",{"$f":"IF(curve=1,ss_man_eq_back,VLOOKUP(back_valve_size,ss_man_cost_cl,3))","v":2305.8936316941122},0,{"$f":"VLOOKUP(back_valve_size,ss_man_cost_cl,IF(ss_cat=\"large\",4,5))","v":20},null,"Valves and Fittings - Manual - Backwash - Stainless Steel",3,3,1,3,3,1,3,3,1,0,0]
["5.2.3","Backwash - Cast Iron",{"$f":"tot_back_man","v":0},"units",{"$f":"back_valve_size","v":4},"in. diam",{"$f":"IF(curve=1,back_valve_size,VLOOKUP(back_valve_size,ci_bfv_cost_cl,2))","v":4},"in. diam",{"$f":"IF(curve=1,ci_man_eq_back,VLOOKUP(back_valve_size,ci_bfv_cost_cl,3))","v":704.45543251899994},{"$f":"IF(I239=\"contact vendor\",\"--\",C239*I239)","v":0},{"$f":"VLOOKUP(back_valve_size,ci_bfv_cost_cl,IF(ss_cat=\"large\",4,5))","v":20},null,"Valves and Fittings - Manual - Backwash - Cast Iron",2,1,2,2,1,2,2,1,2,0,0]
["5.2.4","Electron Donor - Polypropylene/PVC",{"$f":"tot_e_donor_man","v":0},"units",{"$f":"e_donor_valve_size","v":0.5},"in. diam",{"$f":"IF(curve=1,e_donor_valve_size,VLOOKUP(e_donor_valve_size,pp_man_cost_cl,2))","v":0.5},"in. diam",{"$f":"IF(curve=1,pp_man_eq_e_donor,VLOOKUP(e_donor_valve_size,pp_man_cost_cl,3))","v":110.45816531612499},{"$f":"IF(I240=\"contact vendor\",\"--\",C240*I240)","v":0},{"$f":"VLOOKUP(e_donor_valve_size,pp_man_cost_cl,IF(ss_cat=\"large\",4,5))","v":20},null,"Valves and Fittings - Manual - Electron Donor - Polypropylene/PVC",1,2,2,1,2,2,1,2,2,0,0]
["5.2.4","Electron Donor - Stainless Steel",{"$f":"tot_e_donor_man","v":0},"units",{"$f":"e_donor_valve_size","v":0.5},"in. diam",{"$f":"IF(curve=1,e_donor_valve_size,VLOOKUP(e_donor_valve_size,ss_man_cost_cl,2))","v":0.5},"in. diam",{"$f":"IF(curve=1,ss_man_eq_e_donor,VLOOKUP(e_donor_valve_size,ss_man_cost_cl,3))","v":"contact vendor"},{"$f":"IF(I241=\"contact vendor\",\"--\",C241*I241)","v":"--"},{"$f":"VLOOKUP(e_donor_valve_size,ss_man_cost_cl,IF(ss_cat=\"large\",4,5))","v":20},null,"Valves and Fittings - Manual - Electron Donor - Stainless Steel",2,1,1,2,1,1,2,1,1,0,0]
["5.2.5","Ammonium Chloride - Polypropylene/PVC",{"$f":"tot_NH4Cl_man","v":0},"units",{"$f":"NH4Cl_valve_size","v":0},"in. diam",{"$f":"IF(curve=1,NH4Cl_valve_size,VLOOKUP(NH4Cl_valve_size,pp_man_cost_cl,2))","v":0},"in. diam",{"$f":"IF(C242=0,\"NA\",IF(curve=1,pp_man_eq_NH4Cl,VLOOKUP(NH4Cl_valve_size,pp_man_cost_cl,3)))","v":"NA"},{"$f":"IF(OR(C242=0,I242=\"contact vendor\"),\"--\",C242*I242)","v":"--"},{"$f":"VLOOKUP(NH4Cl_valve_size,pp_man_cost_cl,IF(ss_cat=\"large\",4,5))","v":20},null,"Valves and Fittings - Manual - Ammonium Chloride - Polypropylene/PVC",1,2,2,1,2,2,1,2,2,0,0]
["5.2.5","Ammonium Chloride - Stainless Steel",{"$f":"tot_NH4Cl_man","v":0},"units",{"$f":"NH4Cl_valve_size","v":0},"in. diam",{"$f":"IF(curve=1,NH4Cl_valve_size,VLOOKUP(NH4Cl_valve_size,ss_man_cost_cl,2))","v":0},"in. diam",{"$f":"IF(C243=0,\"NA\",IF(curve=1,ss_man_eq_NH4Cl,VLOOKUP(NH4Cl_valve_size,ss_man_cost_cl,3)))","v":"NA"},{"$f":"IF(OR(C243=0,I243=\"contact vendor\"),\"--\",C243*I243)","v":"--"},{"$f":"VLOOKUP(NH4Cl_valve_size,ss_man_cost_cl,IF(ss_cat=\"large\",4,5))","v":20},null,"Valves and Fittings - Manual - Ammonium Chloride - Stainless Steel",2,1,1,2,1,1,2,1,1,{"$f":"IF(ISERROR(K243*L243),0,IF(K243<1,0,L243))","v":0},{"$f":"IF(W243,J243/K243,0)","v":0}]
["5.2.6","Phosphoric Acid - Polypropylene/PVC",{"$f":"tot_H3PO4_man","v":0},"units",{"$f":"H3PO4_valve_size","v":0.5},"in. diam",{"$f":"IF(curve=1,H3PO4_valve_size,VLOOKUP(H3PO4_valve_size,pp_man_cost_cl,2))","v":0.5},"in. diam",{"$f":"IF(C244=0,\"NA\",IF(curve=1,pp_man_eq_H3PO4,VLOOKUP(H3PO4_valve_size,pp_man_cost_cl,3)))","v":"NA"},{"$f":"IF(OR(C244=0,I244=\"contact vendor\"),\"--\",C244*I244)","v":"--"},{"$f":"VLOOKUP(H3PO4_valve_size,pp_man_cost_cl,IF(ss_cat=\"large\",4,5))","v":20},null,"Valves and Fittings - Manual - Phosphoric Acid - Polypropylene/PVC",1,2,2,1,2,2,1,2,2,0,0]
["5.2.6","Phosphoric Acid - Stainless Steel",{"$f":"tot_H3PO4_man","v":0},"units",{"$f":"H3PO4_valve_size","v":0.5},"in. diam",{"$f":"IF(curve=1,H3PO4_valve_size,VLOOKUP(H3PO4_valve_size,ss_man_cost_cl,2))","v":0.5},"in. diam",{"$f":"IF(C245=0,\"NA\",IF(curve=1,ss_man_eq_H3PO4,VLOOKUP(H3PO4_valve_size,ss_man_cost_cl,3)))","v":"NA"},{"$f":"IF(OR(C245=0,I245=\"contact vendor\"),\"--\",C245*I245)","v":"--"},{"$f":"VLOOKUP(H3PO4_valve_size,ss_man_cost_cl,IF(ss_cat=\"large\",4,5))","v":20},null,"Valves and Fittings - Manual - Phosphoric Acid - Stainless Steel",2,1,1,2,1,1,2,1,1,0,0]
["5.2.7","Bypass - Polypropylene/PVC",{"$f":"IF(bp_pct>0,tot_bp_man,0)","v":0},"units",{"$f":"IF(bp_pct=0,\"NA\",bypass_valve_size)","v":"NA"},{"$f":"IF(bp_pct=0,\" \",\"in. diam\")","v":" "},{"$f":"IF(bp_pct=0,\"NA\",(IF(curve=1,bypass_valve_size,VLOOKUP(bypass_valve_size,pp_man_cost_cl,2))))","v":"NA"},{"$f":"IF(bp_pct=0,\" \",\"in. diam\")","v":" "},{"$f":"IF(bp_pct=0,\"NA\",(IF(curve=1,pp_man_eq_bp,VLOOKUP(bypass_valve_size,pp_man_cost_cl,3))))","v":"NA"},{"$f":"IF(bp_pct=0,0,IF(I246=\"contact vendor\",\"--\",C246*I246))","v":0},{"$f":"IF(bp_pct=0,\"NA\",VLOOKUP(bypass_valve_size,pp_man_cost_cl,IF(ss_cat=\"large\",4,5)))","v":"NA"},null,{"$f":"$B$194&\" - \"&$B$230&\" - \"&B246","v":"Valves and Fittings - Manual - Bypass - Polypropylene/PVC"},1,2,3,1,2,3,1,2,3,0,0]
["5.2.7","Bypass - Stainless Steel",{"$f":"IF(bp_pct>0,tot_bp_man,0)","v":0},"units",{"$f":"IF(bp_pct=0,\"NA\",bypass_valve_size)","v":"NA"},{"$f":"IF(bp_pct=0,\" \",\"in. diam\")","v":" "},{"$f":"IF(bp_pct=0,\"NA\",(IF(curve=1,bypass_valve_size,VLOOKUP(bypass_valve_size,ss_man_cost_cl,2))))","v":"NA"},{"$f":"IF(bp_pct=0,\" \",\"in. diam\")","v":" "},{"$f":"IF(bp_pct=0,\"NA\",(IF(curve=1,ss_man_eq_bp,VLOOKUP(bypass_valve_size,ss_man_cost_cl,3))))","v":"NA"},{"$f":"IF(bp_pct=0,0,IF(I247=\"contact vendor\",\"--\",C247*I247))","v":0},{"$f":"IF(bp_pct=0,\"NA\",VLOOKUP(bypass_valve_size,ss_man_cost_cl,IF(ss_cat=\"large\",4,5)))","v":"NA"},null,"Valves and Fittings - Manual - Bypass - Stainless Steel",3,3,1,3,3,1,3,3,1,0,0]
["5.2.7","Bypass - Cast Iron",{"$f":"IF(bp_pct>0,tot_bp_man,0)","v":0},"units",{"$f":"IF(bp_pct=0,\"NA\",bypass_valve_size)","v":"NA"},{"$f":"IF(bp_pct=0,\" \",\"in. diam\")","v":" "},{"$f":"IF(bp_pct=0,\"NA\",(IF(curve=1,bypass_valve_size,VLOOKUP(bypass_valve_size,ci_bfv_cost_cl,2))))","v":"NA"},{"$f":"IF(bp_pct=0,\" \",\"in. diam\")","v":" "},{"$f":"IF(bp_pct=0,\"NA\",(IF(curve=1,ci_man_eq_bp,VLOOKUP(bypass_valve_size,ci_bfv_cost_cl,3))))","v":"NA"},{"$f":"IF(bp_pct=0,0,IF(I248=\"contact vendor\",\"--\",C248*I248))","v":0},{"$f":"IF(bp_pct=0,\"NA\",VLOOKUP(bypass_valve_size,ci_bfv_cost_cl,IF(ss_cat=\"large\",4,5)))","v":"NA"},null,"Valves and Fittings - Manual - Bypass - Cast Iron",2,1,2,2,1,2,2,1,2,0,0]
["5.2.8","Residuals - Polypropylene/PVC",{"$f":"total_res_man","v":0},"units",{"$f":"IF(C249=0,\"NA\",res_valve_size)","v":"NA"},{"$f":"IF(C249=0,\"\",\"in. diam\")","v":""},{"$f":"IF(C249=0,\"NA\",IF(curve=1,res_valve_size,VLOOKUP(res_valve_size,pp_man_cost_cl,2)))","v":"NA"},{"$f":"IF(C249=0,\"\",\"in. diam\")","v":""},{"$f":"IF(C249=0,0,IF(curve=1,pp_man_eq_res,VLOOKUP(res_valve_size,pp_man_cost_cl,3)))","v":0},{"$f":"IF(I249=\"contact vendor\",\"--\",C249*I249)","v":0},{"$f":"IF(C249=0,\"NA\",VLOOKUP(res_valve_size,pp_man_cost_cl,IF(ss_cat=\"large\",4,5)))","v":"NA"},null,"Valves and Fittings - Manual - Residuals - Polypropylene/PVC",1,2,3,1,2,3,1,2,3,0,0]
["5.2.8","Residuals - Stainless Steel",{"$f":"total_res_man","v":0},"units",{"$f":"IF(C250=0,\"NA\",res_valve_size)","v":"NA"},"",{"$f":"IF(C250=0,\"NA\",IF(curve=1,res_valve_size,VLOOKUP(res_valve_size,ss_man_cost_cl,2)))","v":"NA"},"",{"$f":"IF(C250=0,0,IF(curve=1,ss_man_eq_res,VLOOKUP(res_valve_size,ss_man_cost_cl,3)))","v":0},0,{"$f":"IF(C250=0,\"NA\",VLOOKUP(res_valve_size,ss_man_cost_cl,IF(ss_cat=\"large\",4,5)))","v":"NA"},null,"Valves and Fittings - Manual - Residuals - Stainless Steel",3,3,1,3,3,1,3,3,1,0,0]
["5.2.8","Residuals - Cast Iron",{"$f":"total_res_man","v":0},"units",{"$f":"IF(C251=0,\"NA\",res_valve_size)","v":"NA"},"",{"$f":"IF(C251=0,\"NA\",IF(curve=1,res_valve_size,VLOOKUP(res_valve_size,ci_bfv_cost_cl,2)))","v":"NA"},"",{"$f":"IF(C251=0,0,IF(curve=1,ci_man_eq_res,VLOOKUP(res_valve_size,ci_bfv_cost_cl,3)))","v":0},0,{"$f":"IF(C251=0,\"NA\",VLOOKUP(res_valve_size,ci_bfv_cost_cl,IF(ss_cat=\"large\",4,5)))","v":"NA"},null,"Valves and Fittings - Manual - Residuals - Cast Iron",2,1,2,2,1,2,2,1,2,0,0]
["5.2.9","Air Scour- Polypropylene/PVC",{"$f":"tot_air_man","v":0},"units",{"$f":"IF(C252=0,\"NA\",air_valve_size)","v":"NA"},"",{"$f":"IF(C252=0,\"NA\",IF(curve=1,air_valve_size,VLOOKUP(air_valve_size,pp_man_cost_cl,2)))","v":"NA"},"",{"$f":"IF(C252=0,0,IF(curve=1,pp_man_eq_air,VLOOKUP(air_valve_size,pp_man_cost_cl,3)))","v":0},0,{"$f":"IF(C252=0,\"NA\",VLOOKUP(air_valve_size,pp_man_cost_cl,IF(ss_cat=\"large\",4,5)))","v":"NA"},null,"Valves and Fittings - Manual - Air Scour- Polypropylene/PVC",1,2,3,1,2,3,1,2,3,0,0]
["5.2.9","Air Scour- Stainless Steel",{"$f":"tot_air_man","v":0},"units",{"$f":"IF(C253=0,\"NA\",air_valve_size)","v":"NA"},"",{"$f":"IF(C253=0,\"NA\",IF(curve=1,air_valve_size,VLOOKUP(air_valve_size,ss_man_cost_cl,2)))","v":"NA"},"",{"$f":"IF(C253=0,0,IF(curve=1,ss_man_eq_air,VLOOKUP(air_valve_size,ss_man_cost_cl,3)))","v":0},0,{"$f":"IF(C253=0,\"NA\",VLOOKUP(air_valve_size,ss_man_cost_cl,IF(ss_cat=\"large\",4,5)))","v":"NA"},null,"Valves and Fittings - Manual - Air Scour- Stainless Steel",3,3,1,3,3,1,3,3,1,0,0]
["5.2.9","Air Scour- Cast Iron",{"$f":"tot_air_man","v":0},"units",{"$f":"IF(C254=0,\"NA\",air_valve_size)","v":"NA"},"",{"$f":"IF(C254=0,\"NA\",IF(curve=1,air_valve_size,VLOOKUP(air_valve_size,ci_bfv_cost_cl,2)))","v":"NA"},"",{"$f":"IF(C254=0,0,IF(curve=1,ci_man_eq_air,VLOOKUP(air_valve_size,ci_bfv_cost_cl,3)))","v":0},0,{"$f":"IF(C254=0,\"NA\",VLOOKUP(air_valve_size,ci_bfv_cost_cl,IF(ss_cat=\"large\",4,5)))","v":"NA"},null,"Valves and Fittings - Manual - Air Scour- Cast Iron",2,1,2,2,1,2,2,1,2,0,0]
["5.2.10","Fluidized Bed Recycle - Polypropylene/PVC",{"$f":"tot_rec_man","v":0},"units",{"$f":"rec_valve_size","v":0},"in. diam",{"$f":"IF(curve=1,rec_valve_size,VLOOKUP(rec_valve_size,pp_man_cost_cl,2))","v":0},"in. diam",{"$f":"IF(C255=0,\"NA\",IF(curve=1,pp_man_eq_rec,VLOOKUP(rec_valve_size,pp_man_cost_cl,3)))","v":"NA"},{"$f":"IF(OR(C255=0,I255=\"contact vendor\"),\"--\",C255*I255)","v":"--"},{"$f":"VLOOKUP(rec_valve_size,pp_man_cost_cl,IF(ss_cat=\"large\",4,5))","v":20},null,"Valves and Fittings - Manual - Fluidized Bed Recycle - Polypropylene/PVC",1,2,2,1,2,2,1,2,2,0,0]
["5.2.10","Fluidized Bed Recyle - Stainless Steel",{"$f":"tot_rec_man","v":0},"units",{"$f":"rec_valve_size","v":0},"in. diam",{"$f":"IF(curve=1,rec_valve_size,VLOOKUP(rec_valve_size,ss_man_cost_cl,2))","v":0},"in. diam",{"$f":"IF(C256=0,\"NA\",IF(curve=1,ss_man_eq_rec,VLOOKUP(rec_valve_size,ss_man_cost_cl,3)))","v":"NA"},{"$f":"IF(OR(C256=0,I256=\"contact vendor\"),\"--\",C256*I256)","v":"--"},{"$f":"VLOOKUP(rec_valve_size,ss_man_cost_cl,IF(ss_cat=\"large\",4,5))","v":20},null,"Valves and Fittings - Manual - Fluidized Bed Recyle - Stainless Steel",2,1,1,2,1,1,2,1,1,0,0]
["5.2.11","Hydrogen Peroxide - Polypropylene/PVC",{"$f":"tot_H2O2_man","v":0},"units",{"$f":"H2O2_valve_size","v":0},"in. diam",{"$f":"IF(curve=1,H2O2_valve_size,VLOOKUP(H2O2_valve_size,pp_man_cost_cl,2))","v":0},"in. diam",{"$f":"IF(C257=0,\"NA\",IF(curve=1,pp_man_eq_H2O2,VLOOKUP(H2O2_valve_size,pp_man_cost_cl,3)))","v":"NA"},{"$f":"IF(OR(C257=0,I257=\"contact vendor\"),\"--\",C257*I257)","v":"--"},{"$f":"VLOOKUP(H2O2_valve_size,pp_man_cost_cl,IF(ss_cat=\"large\",4,5))","v":20},null,"Valves and Fittings - Manual - Hydrogen Peroxide - Polypropylene/PVC",1,2,2,1,2,2,1,2,2,0,0]
["5.2.11","Hydrogen Peroxide - Stainless Steel",{"$f":"tot_H2O2_man","v":0},"units",{"$f":"H2O2_valve_size","v":0},"in. diam",{"$f":"IF(curve=1,H2O2_valve_size,VLOOKUP(H2O2_valve_size,ss_man_cost_cl,2))","v":0},"in. diam",{"$f":"IF(C258=0,\"NA\",IF(curve=1,ss_man_eq_H2O2,VLOOKUP(H2O2_valve_size,ss_man_cost_cl,3)))","v":"NA"},{"$f":"IF(OR(C258=0,I258=\"contact vendor\"),\"--\",C258*I258)","v":"--"},{"$f":"VLOOKUP(H2O2_valve_size,ss_man_cost_cl,IF(ss_cat=\"large\",4,5))","v":20},null,"Valves and Fittings - Manual - Hydrogen Peroxide - Stainless Steel",2,1,1,2,1,1,2,1,1,0,0]
["5.2.12","Air Biomass Removal- Polypropylene/PVC",{"$f":"tot_bio_air_man","v":0},"units",{"$f":"IF(C259=0,\"NA\",air_valve_size)","v":"NA"},{"$f":"IF(C259=0,\"\",\"in. diam\")","v":""},{"$f":"IF(C259=0,\"NA\",IF(curve=1,bio_air_valve_size,VLOOKUP(bio_air_valve_size,pp_man_cost_cl,2)))","v":"NA"},{"$f":"IF(C259=0,\"\",\"in. diam\")","v":""},{"$f":"IF(C259=0,0,IF(curve=1,pp_man_eq_bio_air,VLOOKUP(bio_air_valve_size,pp_man_cost_cl,3)))","v":0},{"$f":"IF(I259=\"contact vendor\",\"--\",C259*I259)","v":0},{"$f":"IF(C259=0,\"NA\",VLOOKUP(bio_air_valve_size,pp_man_cost_cl,IF(ss_cat=\"large\",4,5)))","v":"NA"},null,{"$f":"$B$194&\" - \"&$B$230&\" - \"&B259","v":"Valves and Fittings - Manual - Air Biomass Removal- Polypropylene/PVC"},1,2,3,1,2,3,1,2,3,0,0]
["5.2.12","Air  Biomass Removal- Stainless Steel",{"$f":"tot_bio_air_man","v":0},"units",{"$f":"IF(C260=0,\"NA\",air_valve_size)","v":"NA"},"",{"$f":"IF(C260=0,\"NA\",IF(curve=1,bio_air_valve_size,VLOOKUP(bio_air_valve_size,ss_man_cost_cl,2)))","v":"NA"},"",{"$f":"IF(C260=0,0,IF(curve=1,ss_man_eq_bio_air,VLOOKUP(bio_air_valve_size,ss_man_cost_cl,3)))","v":0},0,{"$f":"IF(C260=0,\"NA\",VLOOKUP(bio_air_valve_size,ss_man_cost_cl,IF(ss_cat=\"large\",4,5)))","v":"NA"},null,"Valves and Fittings - Manual - Air  Biomass Removal- Stainless Steel",3,3,1,3,3,1,3,3,1,0,0]
["5.2.12","Air  Biomass Removal- Cast Iron",{"$f":"tot_bio_air_man","v":0},"units",{"$f":"IF(C261=0,\"NA\",air_valve_size)","v":"NA"},"",{"$f":"IF(C261=0,\"NA\",IF(curve=1,bio_air_valve_size,VLOOKUP(bio_air_valve_size,ci_bfv_cost_cl,2)))","v":"NA"},"",{"$f":"IF(C261=0,0,IF(curve=1,ci_man_eq_bio_air,VLOOKUP(bio_air_valve_size,ci_bfv_cost_cl,3)))","v":0},0,{"$f":"IF(C261=0,\"NA\",VLOOKUP(bio_air_valve_size,ci_bfv_cost_cl,IF(ss_cat=\"large\",4,5)))","v":"NA"},null,"Valves and Fittings - Manual - Air  Biomass Removal- Cast Iron",2,1,2,2,1,2,2,1,2,0,0]
["5.2.13","Aeration- Polypropylene/PVC",{"$f":"tot_aeration_man","v":0},"units",{"$f":"IF(C262=0,\"NA\",aeration_valve_size)","v":"NA"},"",{"$f":"IF(C262=0,\"NA\",IF(curve=1,aeration_valve_size,VLOOKUP(aeration_valve_size,pp_man_cost_cl,2)))","v":"NA"},"",{"$f":"IF(C262=0,0,IF(curve=1,pp_man_eq_aeration,VLOOKUP(aeration_valve_size,pp_man_cost_cl,3)))","v":0},0,{"$f":"IF(C262=0,\"NA\",VLOOKUP(aeration_valve_size,pp_man_cost_cl,IF(ss_cat=\"large\",4,5)))","v":"NA"},null,"Valves and Fittings - Manual - Aeration- Polypropylene/PVC",1,2,3,1,2,3,1,2,3,0,0]
["5.2.13","Aeration- Stainless Steel",{"$f":"tot_aeration_man","v":0},"units",{"$f":"IF(C263=0,\"NA\",aeration_valve_size)","v":"NA"},"",{"$f":"IF(C263=0,\"NA\",IF(curve=1,aeration_valve_size,VLOOKUP(aeration_valve_size,ss_man_cost_cl,2)))","v":"NA"},"",{"$f":"IF(C263=0,0,IF(curve=1,ss_man_eq_aeration,VLOOKUP(aeration_valve_size,ss_man_cost_cl,3)))","v":0},0,{"$f":"IF(C263=0,\"NA\",VLOOKUP(aeration_valve_size,ss_man_cost_cl,IF(ss_cat=\"large\",4,5)))","v":"NA"},null,"Valves and Fittings - Manual - Aeration- Stainless Steel",3,3,1,3,3,1,3,3,1,0,0]
["5.2.13","Aeration- Cast Iron",{"$f":"tot_aeration_man","v":0},"units",{"$f":"IF(C264=0,\"NA\",aeration_valve_size)","v":"NA"},"",{"$f":"IF(C264=0,\"NA\",IF(curve=1,aeration_valve_size,VLOOKUP(aeration_valve_size,ci_bfv_cost_cl,2)))","v":"NA"},"",{"$f":"IF(C264=0,0,IF(curve=1,ci_man_eq_aeration,VLOOKUP(aeration_valve_size,ci_bfv_cost_cl,3)))","v":0},0,{"$f":"IF(C264=0,\"NA\",VLOOKUP(aeration_valve_size,ci_bfv_cost_cl,IF(ss_cat=\"large\",4,5)))","v":"NA"},null,"Valves and Fittings - Manual - Aeration- Cast Iron",2,1,2,2,1,2,2,1,2,0,0]
["5.2.14","Polymer- Polypropylene/PVC",{"$f":"tot_polymer_man","v":0},"units",{"$f":"IF(C265=0,\"NA\",polymer_valve_size)","v":"NA"},{"$f":"IF(C265=0,\"\",\"in. diam\")","v":""},{"$f":"IF(C265=0,\"NA\",IF(curve=1,polymer_valve_size,VLOOKUP(polymer_valve_size,pp_man_cost_cl,2)))","v":"NA"},{"$f":"IF(C265=0,\"\",\"in. diam\")","v":""},{"$f":"IF(C265=0,0,IF(curve=1,pp_man_eq_polymer,VLOOKUP(polymer_valve_size,pp_man_cost_cl,3)))","v":0},{"$f":"IF(I265=\"contact vendor\",\"--\",C265*I265)","v":0},{"$f":"IF(C265=0,\"NA\",VLOOKUP(polymer_valve_size,pp_man_cost_cl,IF(ss_cat=\"large\",4,5)))","v":"NA"},null,{"$f":"$B$194&\" - \"&$B$230&\" - \"&B265","v":"Valves and Fittings - Manual - Polymer- Polypropylene/PVC"},1,2,3,1,2,3,1,2,3,0,0]
["5.2.14","Polymer- Stainless Steel",{"$f":"tot_polymer_man","v":0},"units",{"$f":"IF(C266=0,\"NA\",polymer_valve_size)","v":"NA"},{"$f":"IF(C266=0,\"\",\"in. diam\")","v":""},{"$f":"IF(C266=0,\"NA\",IF(curve=1,polymer_valve_size,VLOOKUP(polymer_valve_size,ss_man_cost_cl,2)))","v":"NA"},{"$f":"IF(C266=0,\"\",\"in. diam\")","v":""},{"$f":"IF(C266=0,0,IF(curve=1,ss_man_eq_polymer,VLOOKUP(polymer_valve_size,ss_man_cost_cl,3)))","v":0},{"$f":"IF(I266=\"contact vendor\",\"--\",C266*I266)","v":0},{"$f":"IF(C266=0,\"NA\",VLOOKUP(polymer_valve_size,ss_man_cost_cl,IF(ss_cat=\"large\",4,5)))","v":"NA"},null,{"$f":"$B$194&\" - \"&$B$230&\" - \"&B266","v":"Valves and Fittings - Manual - Polymer- Stainless Steel"},3,3,1,3,3,1,3,3,1,0,0]
["5.2.14","Polymer- Cast Iron",{"$f":"tot_polymer_man","v":0},"units",{"$f":"IF(C267=0,\"NA\",polymer_valve_size)","v":"NA"},{"$f":"IF(C267=0,\"\",\"in. diam\")","v":""},{"$f":"IF(C267=0,\"NA\",IF(curve=1,polymer_valve_size,VLOOKUP(polymer_valve_size,ci_bfv_cost_cl,2)))","v":"NA"},{"$f":"IF(C267=0,\"\",\"in. diam\")","v":""},{"$f":"IF(C267=0,0,IF(curve=1,ci_man_eq_polymer,VLOOKUP(polymer_valve_size,ci_bfv_cost_cl,3)))","v":0},{"$f":"IF(I267=\"contact vendor\",\"--\",C267*I267)","v":0},{"$f":"IF(C267=0,\"NA\",VLOOKUP(polymer_valve_size,ci_bfv_cost_cl,IF(ss_cat=\"large\",4,5)))","v":"NA"},null,{"$f":"$B$194&\" - \"&$B$230&\" - \"&B267","v":"Valves and Fittings - Manual - Polymer- Cast Iron"},2,1,2,2,1,2,2,1,2,0,0]
[5.3,"Check Valves",null,null,null,null,null,null,null,null,null,null,null,null,null,null,null,null,null,null,null,null,0,0]
["5.3.1","Backwash - Polypropylene/PVC",{"$f":"tot_back_chv","v":1},"units",{"$f":"IF(C269=0,\"NA\",back_valve_size)","v":4},{"$f":"IF(C269=0,\"\",\"in. diam\")","v":"in. diam"},{"$f":"IF(C269=0,\"NA\",(IF(curve=1,back_valve_size,VLOOKUP(back_valve_size,pp_chv_cost_cl,2))))","v":4},{"$f":"IF(C269=0,\"\",\"in. diam\")","v":"in. diam"},{"$f":"IF(C269=0,\"NA\",(IF(curve=1,pp_chv_eq,VLOOKUP(back_valve_size,pp_chv_cost_cl,3))))","v":679.8872684349999},{"$f":"IF(C269=0,\"--\",(IF(I269=\"contact vendor\",\"--\",C269*I269)))","v":679.8872684349999},{"$f":"IF(C269=0,\"NA\",(VLOOKUP(back_valve_size,pp_chv_cost_cl,IF(ss_cat=\"large\",4,5))))","v":20},1,{"$f":"$B$194&\" - \"&$B$268&\" - \"&B269","v":"Valves and Fittings - Check Valves - Backwash - Polypropylene/PVC"},1,2,3,1,2,3,1,2,3,1,33.994363421749995]
["5.3.1","Backwash - Stainless Steel",{"$f":"tot_back_chv","v":1},"units",{"$f":"IF(C270=0,\"NA\",back_valve_size)","v":4},"in. diam",{"$f":"IF(C270=0,\"NA\",(IF(curve=1,back_valve_size,VLOOKUP(back_valve_size,ss_chv_cost_cl,2))))","v":4},"in. diam",{"$f":"IF(C270=0,\"NA\",(IF(curve=1,ss_chv_eq,VLOOKUP(back_valve_size,ss_chv_cost_cl,3))))","v":1824.3179101380001},{"$f":"IF(C270=0,\"--\",(IF(I270=\"contact vendor\",\"--\",C270*I270)))","v":1824.3179101380001},{"$f":"IF(C270=0,\"NA\",(VLOOKUP(back_valve_size,ss_chv_cost_cl,IF(ss_cat=\"large\",4,5))))","v":20},0,{"$f":"$B$194&\" - \"&$B$268&\" - \"&B270","v":"Valves and Fittings - Check Valves - Backwash - Stainless Steel"},3,3,1,3,3,1,3,3,1,0,0]
["5.3.1","Backwash - Cast Iron",{"$f":"tot_back_chv","v":1},"units",{"$f":"IF(C271=0,\"NA\",back_valve_size)","v":4},"in. diam",{"$f":"IF(C271=0,\"NA\",(IF(curve=1,back_valve_size,VLOOKUP(back_valve_size,ci_chv_cost_cl,2))))","v":4},"in. diam",{"$f":"IF(C271=0,\"NA\",(IF(curve=1,ci_chv_eq,VLOOKUP(back_valve_size,ci_chv_cost_cl,3))))","v":1081.9633616900001},{"$f":"IF(C271=0,\"--\",(IF(I271=\"contact vendor\",\"--\",C271*I271)))","v":1081.9633616900001},{"$f":"IF(C271=0,\"NA\",(VLOOKUP(back_valve_size,ci_chv_cost_cl,IF(ss_cat=\"large\",4,5))))","v":20},0,{"$f":"$B$194&\" - \"&$B$268&\" - \"&B271","v":"Valves and Fittings - Check Valves - Backwash - Cast Iron"},2,1,2,2,1,2,2,1,2,0,0]
["5.3.2","Residuals - Polypropylene/PVC",{"$f":"tot_res_chv","v":2},"units",{"$f":"IF(C272=0,\"NA\",res_valve_size)","v":1},"in. diam",{"$f":"IF(C272=0,\"NA\",IF(curve=1,res_valve_size,VLOOKUP(res_valve_size,pp_chv_cost_cl,2)))","v":1},"in. diam",{"$f":"IF(C272=0,0,IF(curve=1,pp_chv_eq_res,VLOOKUP(res_valve_size,pp_chv_cost_cl,3)))","v":113.417575339},{"$f":"IF(I272=0,0,IF(I272=\"contact vendor\",\"--\",C272*I272))","v":226.83515067799999},{"$f":"IF(C272=0,\"NA\",VLOOKUP(res_valve_size,pp_chv_cost_cl,IF(ss_cat=\"large\",4,5)))","v":20},1,{"$f":"$B$194 & \" - \" & $B$268&\" \"&\" - \"&B272","v":"Valves and Fittings - Check Valves  - Residuals - Polypropylene/PVC"},1,2,3,1,2,3,1,2,3,1,11.341757533899999]
["5.3.2","Residuals - Stainless Steel",{"$f":"tot_res_chv","v":2},"units",{"$f":"IF(C273=0,\"NA\",res_valve_size)","v":1},"in. diam",{"$f":"IF(C273=0,\"NA\",IF(curve=1,res_valve_size,VLOOKUP(res_valve_size,ss_chv_cost_cl,2)))","v":1},"in. diam",{"$f":"IF(C273=0,0,IF(curve=1,ss_chv_eq_res,VLOOKUP(res_valve_size,ss_chv_cost_cl,3)))","v":434.17795943700003},{"$f":"IF(I273=0,0,IF(I273=\"contact vendor\",\"--\",C273*I273))","v":868.35591887400005},{"$f":"IF(C273=0,\"NA\",VLOOKUP(res_valve_size,ss_chv_cost_cl,IF(ss_cat=\"large\",4,5)))","v":20},0,{"$f":"$B$194 & \" - \" & $B$268&\" \"&\" - \"&B273","v":"Valves and Fittings - Check Valves  - Residuals - Stainless Steel"},3,3,1,3,3,1,3,3,1,0,0]
["5.3.2","Residuals - Cast Iron",{"$f":"tot_res_chv","v":2},"units",{"$f":"IF(C274=0,\"NA\",res_valve_size)","v":1},"in. diam",{"$f":"IF(C274=0,\"NA\",IF(curve=1,res_valve_size,VLOOKUP(res_valve_size,ci_chv_cost_cl,2)))","v":1},"in. diam",{"$f":"IF(C274=0,0,IF(curve=1,ci_chv_eq_res,VLOOKUP(res_valve_size,ci_chv_cost_cl,3)))","v":"contact vendor"},{"$f":"IF(I274=0,0,IF(I274=\"contact vendor\",\"--\",C274*I274))","v":"--"},{"$f":"IF(C274=0,\"NA\",VLOOKUP(res_valve_size,ci_chv_cost_cl,IF(ss_cat=\"large\",4,5)))","v":20},0,{"$f":"$B$194 & \" - \" & $B$268&\" \"&\" - \"&B274","v":"Valves and Fittings - Check Valves  - Residuals - Cast Iron"},2,1,2,2,1,2,2,1,2,0,0]
["5.3.3","Inlet and outlet - Polypropylene/PVC",{"$f":"tot_in_chv","v":1},"units",{"$f":"in_valve_size","v":1.5},"in. diam",{"$f":"IF(curve=1,in_valve_size,VLOOKUP(in_valve_size,pp_chv_cost_cl,2))","v":1.5},"in. diam",{"$f":"IF(curve=1,pp_chv_eq_in,VLOOKUP(in_valve_size,pp_chv_cost_cl,3))","v":170.93509061624999},{"$f":"IF(I275=\"contact vendor\",\"--\",C275*I275)","v":170.93509061624999},{"$f":"VLOOKUP(in_valve_size,pp_chv_cost_cl,IF(ss_cat=\"large\",4,5))","v":20},1,{"$f":"$B$194&\" - \"&$B$268&\" - \"&B275","v":"Valves and Fittings - Check Valves - Inlet and outlet - Polypropylene/PVC"},1,2,3,1,2,3,1,2,3,1,8.5467545308124997]
["5.3.3","Inlet and outlet - Stainless Steel",{"$f":"tot_in_chv","v":1},"units",{"$f":"in_valve_size","v":1.5},"in. diam",{"$f":"IF(curve=1,in_valve_size,VLOOKUP(in_valve_size,ss_chv_cost_cl,2))","v":1.5},"in. diam",{"$f":"IF(curve=1,ss_chv_eq_in,VLOOKUP(in_valve_size,ss_chv_cost_cl,3))","v":626.30430673299998},{"$f":"IF(I276=\"contact vendor\",\"--\",C276*I276)","v":626.30430673299998},{"$f":"VLOOKUP(in_valve_size,ss_chv_cost_cl,IF(ss_cat=\"large\",4,5))","v":20},0,"Valves and Fittings - Check Valves - Inlet and outlet - Stainless Steel",3,3,1,3,3,1,3,3,1,0,0]
["5.3.3","Inlet and outlet - Cast Iron",{"$f":"tot_in_chv","v":1},"units",{"$f":"in_valve_size","v":1.5},"in. diam",{"$f":"IF(curve=1,in_valve_size,VLOOKUP(in_valve_size,ci_chv_cost_cl,2))","v":1.5},"in. diam",{"$f":"IF(curve=1,ci_chv_eq_in,VLOOKUP(in_valve_size,ci_chv_cost_cl,3))","v":"contact vendor"},{"$f":"IF(I277=\"contact vendor\",\"--\",C277*I277)","v":"--"},{"$f":"VLOOKUP(in_valve_size,ci_chv_cost_cl,IF(ss_cat=\"large\",4,5))","v":20},0,"Valves and Fittings - Check Valves - Inlet and outlet - Cast Iron",2,1,2,2,1,2,2,1,2,0,0]
["5.3.4","Bypass - Polypropylene/PVC",{"$f":"IF(bp_pct>0,tot_bp_chv,0)","v":0},"units",{"$f":"IF(bp_pct=0,\"NA\",bypass_valve_size)","v":"NA"},{"$f":"IF(bp_pct=0,\" \",\"in. diam\")","v":" "},{"$f":"IF(bp_pct=0,\"NA\",(IF(curve=1,bypass_valve_size,VLOOKUP(bypass_valve_size,pp_chv_cost_cl,2))))","v":"NA"},{"$f":"IF(bp_pct=0,\" \",\"in. diam\")","v":" "},{"$f":"IF(bp_pct=0,\"NA\",(IF(curve=1,pp_chv_eq_bp,VLOOKUP(bypass_valve_size,pp_chv_cost_cl,3))))","v":"NA"},{"$f":"IF(bp_pct=0,0,IF(I278=\"contact vendor\",\"--\",C278*I278))","v":0},{"$f":"IF(bp_pct=0,\"NA\",VLOOKUP(bypass_valve_size,pp_chv_cost_cl,IF(ss_cat=\"large\",4,5)))","v":"NA"},null,"Valves and Fittings - Check Valves - Bypass - Polypropylene/PVC",1,2,3,1,2,3,1,2,3,0,0]
["5.3.4","Bypass - Stainless Steel",{"$f":"IF(bp_pct>0,tot_bp_chv,0)","v":0},"units",{"$f":"IF(bp_pct=0,\"NA\",bypass_valve_size)","v":"NA"},{"$f":"IF(bp_pct=0,\" \",\"in. diam\")","v":" "},{"$f":"IF(bp_pct=0,\"NA\",(IF(curve=1,bypass_valve_size,VLOOKUP(bypass_valve_size,ss_chv_cost_cl,2))))","v":"NA"},{"$f":"IF(bp_pct=0,\" \",\"in. diam\")","v":" "},{"$f":"IF(bp_pct=0,\"NA\",(IF(curve=1,ss_chv_eq_bp,VLOOKUP(bypass_valve_size,ss_chv_cost_cl,3))))","v":"NA"},{"$f":"IF(bp_pct=0,0,IF(I279=\"contact vendor\",\"--\",C279*I279))","v":0},{"$f":"IF(bp_pct=0,\"NA\",VLOOKUP(bypass_valve_size,ss_chv_cost_cl,IF(ss_cat=\"large\",4,5)))","v":"NA"},null,"Valves and Fittings - Check Valves - Bypass - Stainless Steel",3,3,1,3,3,1,3,3,1,0,0]
["5.3.4","Bypass - Cast Iron",{"$f":"IF(bp_pct>0,tot_bp_chv,0)","v":0},"units",{"$f":"IF(bp_pct=0,\"NA\",bypass_valve_size)","v":"NA"},{"$f":"IF(bp_pct=0,\" \",\"in. diam\")","v":" "},{"$f":"IF(bp_pct=0,\"NA\",(IF(curve=1,bypass_valve_size,VLOOKUP(bypass_valve_size,ci_chv_cost_cl,2))))","v":"NA"},{"$f":"IF(bp_pct=0,\" \",\"in. diam\")","v":" "},{"$f":"IF(bp_pct=0,\"NA\",(IF(curve=1,ci_chv_eq_bp,VLOOKUP(bypass_valve_size,ci_chv_cost_cl,3))))","v":"NA"},{"$f":"IF(bp_pct=0,0,IF(I280=\"contact vendor\",\"--\",C280*I280))","v":0},{"$f":"IF(bp_pct=0,\"NA\",VLOOKUP(bypass_valve_size,ci_chv_cost_cl,IF(ss_cat=\"large\",4,5)))","v":"NA"},null,"Valves and Fittings - Check Valves - Bypass - Cast Iron",2,1,2,2,1,2,2,1,2,0,0]
["5.3.5","Electron Donor - Polypropylene/PVC",{"$f":"tot_e_donor_chv","v":4},"units",{"$f":"e_donor_valve_size","v":0.5},"in. diam",{"$f":"IF(curve=1,e_donor_valve_size,VLOOKUP(e_donor_valve_size,pp_chv_cost_cl,2))","v":0.5},"in. diam",{"$f":"IF(curve=1,pp_chv_eq_e_donor,VLOOKUP(e_donor_valve_size,pp_chv_cost_cl,3))","v":70.657700157250005},{"$f":"IF(I281=\"contact vendor\",\"--\",C281*I281)","v":282.63080062900002},{"$f":"VLOOKUP(e_donor_valve_size,pp_chv_cost_cl,IF(ss_cat=\"large\",4,5))","v":20},1,{"$f":"$B$194&\" - \"&$B$268&\" - \"&B281","v":"Valves and Fittings - Check Valves - Electron Donor - Polypropylene/PVC"},1,2,2,1,2,2,1,2,2,1,14.131540031450001]
["5.3.5","Electron Donor - Stainless Steel",{"$f":"tot_e_donor_chv","v":4},"units",{"$f":"e_donor_valve_size","v":0.5},"in. diam",{"$f":"IF(curve=1,e_donor_valve_size,VLOOKUP(e_donor_valve_size,ss_chv_cost_cl,2))","v":0.5},"in. diam",{"$f":"IF(curve=1,ss_chv_eq_e_donor,VLOOKUP(e_donor_valve_size,ss_chv_cost_cl,3))","v":257.877069936},{"$f":"IF(I282=\"contact vendor\",\"--\",C282*I282)","v":1031.508279744},{"$f":"VLOOKUP(e_donor_valve_size,ss_chv_cost_cl,IF(ss_cat=\"large\",4,5))","v":20},0,"Valves and Fittings - Check Valves - Electron Donor - Stainless Steel",2,1,1,2,1,1,2,1,1,0,0]
["5.3.6","Ammonium Chloride - Polypropylene/PVC",{"$f":"tot_NH4Cl_chv","v":0},"units",{"$f":"NH4Cl_valve_size","v":0},"in. diam",{"$f":"IF(curve=1,NH4Cl_valve_size,VLOOKUP(NH4Cl_valve_size,pp_chv_cost_cl,2))","v":0},"in. diam",{"$f":"IF(C283=0,\"NA\",IF(curve=1,pp_chv_eq_NH4Cl,VLOOKUP(NH4Cl_valve_size,pp_chv_cost_cl,3)))","v":"NA"},{"$f":"IF(OR(C283=0,I283=\"contact vendor\"),\"--\",C283*I283)","v":"--"},{"$f":"VLOOKUP(NH4Cl_valve_size,pp_chv_cost_cl,IF(ss_cat=\"large\",4,5))","v":20},null,"Valves and Fittings - Check Valves - Ammonium Chloride - Polypropylene/PVC",1,2,2,1,2,2,1,2,2,0,0]
["5.3.6","Ammonium Chloride - Stainless Steel",{"$f":"tot_NH4Cl_chv","v":0},"units",{"$f":"NH4Cl_valve_size","v":0},"in. diam",{"$f":"IF(curve=1,NH4Cl_valve_size,VLOOKUP(NH4Cl_valve_size,ss_chv_cost_cl,2))","v":0},"in. diam",{"$f":"IF(C284=0,\"NA\",IF(curve=1,ss_chv_eq_NH4Cl,VLOOKUP(NH4Cl_valve_size,ss_chv_cost_cl,3)))","v":"NA"},"--",{"$f":"VLOOKUP(NH4Cl_valve_size,ss_chv_cost_cl,IF(ss_cat=\"large\",4,5))","v":20},null,"Valves and Fittings - Check Valves - Ammonium Chloride - Stainless Steel",2,1,1,2,1,1,2,1,1,0,0]
["5.3.7","Phosphoric Acid - Polypropylene/PVC",{"$f":"tot_H3PO4_chv","v":6},"units",{"$f":"H3PO4_valve_size","v":0.5},"in. diam",{"$f":"IF(curve=1,H3PO4_valve_size,VLOOKUP(H3PO4_valve_size,pp_chv_cost_cl,2))","v":0.5},"in. diam",{"$f":"IF(C285=0,\"NA\",IF(curve=1,pp_chv_eq_H3PO4,VLOOKUP(H3PO4_valve_size,pp_chv_cost_cl,3)))","v":70.657700157250005},423.9462009435,{"$f":"VLOOKUP(H3PO4_valve_size,pp_chv_cost_cl,IF(ss_cat=\"large\",4,5))","v":20},1,"Valves and Fittings - Check Valves - Phosphoric Acid - Polypropylene/PVC",1,2,2,1,2,2,1,2,2,1,21.197310047175002]
["5.3.7","Phosphoric Acid - Stainless Steel",{"$f":"tot_H3PO4_chv","v":6},"units",{"$f":"H3PO4_valve_size","v":0.5},"in. diam",{"$f":"IF(curve=1,H3PO4_valve_size,VLOOKUP(H3PO4_valve_size,ss_chv_cost_cl,2))","v":0.5},"in. diam",{"$f":"IF(C286=0,\"NA\",IF(curve=1,ss_chv_eq_H3PO4,VLOOKUP(H3PO4_valve_size,ss_chv_cost_cl,3)))","v":257.877069936},1547.262419616,{"$f":"VLOOKUP(H3PO4_valve_size,ss_chv_cost_cl,IF(ss_cat=\"large\",4,5))","v":20},0,"Valves and Fittings - Check Valves - Phosphoric Acid - Stainless Steel",2,1,1,2,1,1,2,1,1,0,0]
["5.3.7","Hydrogen Peroxide - Polypropylene/PVC",{"$f":"tot_H2O2_chv","v":0},"units",{"$f":"H2O2_valve_size","v":0},"in. diam",{"$f":"IF(curve=1,H2O2_valve_size,VLOOKUP(H3PO4_valve_size,pp_chv_cost_cl,2))","v":0},"in. diam",{"$f":"IF(C287=0,\"NA\",IF(curve=1,pp_chv_eq_H2O2,VLOOKUP(H3PO4_valve_size,pp_chv_cost_cl,3)))","v":"NA"},"--",{"$f":"VLOOKUP(H2O2_valve_size,pp_chv_cost_cl,IF(ss_cat=\"large\",4,5))","v":20},0,{"$f":"$B$194&\" - \"&$B$268&\" - \"&B287","v":"Valves and Fittings - Check Valves - Hydrogen Peroxide - Polypropylene/PVC"},1,2,2,1,2,2,1,2,2,0,0]
["5.3.7","Hydrogen Peroxide - Stainless Steel",{"$f":"tot_H2O2_chv","v":0},"units",{"$f":"H2O2_valve_size","v":0},"in. diam",{"$f":"IF(curve=1,H2O2_valve_size,VLOOKUP(H3PO4_valve_size,ss_chv_cost_cl,2))","v":0},"in. diam",{"$f":"IF(C288=0,\"NA\",IF(curve=1,ss_chv_eq_H2O2,VLOOKUP(H3PO4_valve_size,ss_chv_cost_cl,3)))","v":"NA"},"--",{"$f":"VLOOKUP(H3PO4_valve_size,ss_chv_cost_cl,IF(ss_cat=\"large\",4,5))","v":20},0,{"$f":"$B$194&\" - \"&$B$268&\" - \"&B288","v":"Valves and Fittings - Check Valves - Hydrogen Peroxide - Stainless Steel"},2,1,1,2,1,1,2,1,1,0,0]
["5.3.8","Polymer - Polypropylene/PVC",{"$f":"tot_polymer_chv","v":2},"units",{"$f":"IF(C289=0,\"NA\",polymer_valve_size)","v":0.5},{"$f":"IF(C289=0,\"\",\"in. diam\")","v":"in. diam"},{"$f":"IF(C289=0,\"NA\",IF(curve=1,polymer_valve_size,VLOOKUP(polymer_valve_size,pp_chv_cost_cl,2)))","v":0.5},{"$f":"IF(C289=0,\"\",\"in. diam\")","v":"in. diam"},{"$f":"IF(C289=0,\"NA\",IF(curve=1,pp_chv_eq_polymer,VLOOKUP(polymer_valve_size,pp_chv_cost_cl,3)))","v":70.657700157250005},141.31540031450001,{"$f":"IF(C289=0,\"NA\",VLOOKUP(polymer_valve_size,pp_chv_cost_cl,IF(ss_cat=\"large\",4,5)))","v":20},1,{"$f":"$B$194&\" - \"&$B$268&\" - \"&B289","v":"Valves and Fittings - Check Valves - Polymer - Polypropylene/PVC"},1,2,3,1,2,3,1,2,3,1,7.0657700157250005]
["5.3.8","Polymer - Stainless Steel",{"$f":"tot_polymer_chv","v":2},"units",{"$f":"IF(C290=0,\"NA\",polymer_valve_size)","v":0.5},{"$f":"IF(C290=0,\"\",\"in. diam\")","v":"in. diam"},{"$f":"IF(C290=0,\"NA\",IF(curve=1,polymer_valve_size,VLOOKUP(polymer_valve_size,ss_chv_cost_cl,2)))","v":0.5},{"$f":"IF(C290=0,\"\",\"in. diam\")","v":"in. diam"},{"$f":"IF(C290=0,\"NA\",IF(curve=1,ss_chv_eq_polymer,VLOOKUP(polymer_valve_size,ss_chv_cost_cl,3)))","v":257.877069936},515.754139872,{"$f":"IF(C290=0,\"NA\",VLOOKUP(polymer_valve_size,ss_chv_cost_cl,IF(ss_cat=\"large\",4,5)))","v":20},0,{"$f":"$B$194&\" - \"&$B$268&\" - \"&B290","v":"Valves and Fittings - Check Valves - Polymer - Stainless Steel"},3,3,1,3,3,1,3,3,1,0,0]
["5.3.8","Polymer - Cast Iron",{"$f":"tot_polymer_chv","v":2},"units",{"$f":"IF(C291=0,\"NA\",polymer_valve_size)","v":0.5},{"$f":"IF(C291=0,\"\",\"in. diam\")","v":"in. diam"},{"$f":"IF(C291=0,\"NA\",IF(curve=1,polymer_valve_size,VLOOKUP(polymer_valve_size,ci_chv_cost_cl,2)))","v":0.5},{"$f":"IF(C291=0,\"\",\"in. diam\")","v":"in. diam"},{"$f":"IF(C291=0,\"NA\",IF(curve=1,ci_chv_eq_polymer,VLOOKUP(polymer_valve_size,ci_chv_cost_cl,3)))","v":"contact vendor"},"--",{"$f":"IF(C291=0,\"NA\",VLOOKUP(polymer_valve_size,ci_chv_cost_cl,IF(ss_cat=\"large\",4,5)))","v":20},0,{"$f":"$B$194&\" - \"&$B$268&\" - \"&B291","v":"Valves and Fittings - Check Valves - Polymer - Cast Iron"},2,1,2,2,1,2,2,1,2,0,0]
["6","Pumps and Blowers",null,null,null,null,null,null,null,null,null,null,null,null,null,null,null,null,null,null,null,null,0,0]
[6.1,"Booster Pump",{"$f":"total_booster_pumps","v":0},"units",{"$f":"IF(C293=0,\"NA\",pump_rating)","v":"NA"},{"$f":"IF(C293=0,\"\",\"gpm\")","v":""},{"$f":"IF(C293=0,\"NA\",IF(curve=1,pump_rating,VLOOKUP(pump_rating,pump_cost_cl,2)))","v":"NA"},{"$f":"IF(C293=0,\"\",\"gpm\")","v":""},{"$f":"IF(C293=0,\"NA\",IF(curve=1,pump_eq,VLOOKUP(pump_rating,pump_cost_cl,3)))","v":"NA"},{"$f":"IF(C293=0,0,IF(I293=\"contact vendor\",\"--\",C293*I293))","v":0},{"$f":"IF(C293=0,\"NA\",VLOOKUP(pump_rating,pump_cost_cl,IF(ss_cat=\"large\",4,5)))","v":"NA"},null,{"$f":"$B$292&\" - \"&B293","v":"Pumps and Blowers - Booster Pump"},1,1,1,1,1,1,1,1,1,0,0]
[6.2,"Recycle Pump",{"$f":"recycle_pumps","v":0},"units",{"$f":"IF(C294=0,\"NA\",recycle_pump_rating)","v":"NA"},{"$f":"IF(C294=0,\"\",\"gpm\")","v":""},{"$f":"IF(C294=0,\"NA\",IF(curve=1,recycle_pump_rating,VLOOKUP(recycle_pump_rating,pump_cost_cl,2)))","v":"NA"},{"$f":"IF(C294=0,\"\",\"gpm\")","v":""},{"$f":"IF(C294=0,\"NA\",IF(curve=1,recycle_pump_eq,VLOOKUP(recycle_pump_rating,pump_cost_cl,3)))","v":"NA"},{"$f":"IF(C294=0,0,IF(I294=\"contact vendor\",\"--\",C294*I294))","v":0},{"$f":"IF(C294=0,\"NA\",VLOOKUP(recycle_pump_rating,pump_cost_cl,IF(ss_cat=\"large\",4,5)))","v":"NA"},null,{"$f":"$B$292&\" - \"&B294","v":"Pumps and Blowers - Recycle Pump"},1,1,1,1,1,1,1,1,1,0,0]
[6.3,"Backwash Pump",{"$f":"backwash_pumps","v":0},"units",{"$f":"IF(C295=0,\"NA\",back_pump_rating)","v":"NA"},{"$f":"IF(C295=0,\"\",\"gpm\")","v":""},{"$f":"IF(C295=0,\"NA\",IF(curve=1,back_pump_rating,VLOOKUP(back_pump_rating,back_pump_cost_cl,2)))","v":"NA"},{"$f":"IF(C295=0,\"\",\"gpm\")","v":""},{"$f":"IF(C295=0,\"NA\",IF(curve=1,pump_eq_back,VLOOKUP(back_pump_rating,back_pump_cost_cl,3)))","v":"NA"},{"$f":"IF(C295=0,\"--\",(IF(I295=\"contact vendor\",\"--\",C295*I295)))","v":"--"},{"$f":"IF(C295=0,\"NA\",VLOOKUP(back_pump_rating,back_pump_cost_cl,IF(ss_cat=\"large\",4,5)))","v":"NA"},null,{"$f":"$B$292&\" - \"&B295","v":"Pumps and Blowers - Backwash Pump"},1,1,1,1,1,1,1,1,1,0,0]
[6.4,"Residuals Pump",{"$f":"res_pumps","v":2},"units",{"$f":"IF(res_pumps=0,\"NA\",res_pump_rating)","v":1.2673611111111112},{"$f":"IF(C296=0,\"\",\"gpm\")","v":"gpm"},{"$f":"IF(res_pumps=0,\"NA\",IF(curve=1,res_pump_rating,VLOOKUP(res_pump_rating,pump_cost_cl,2)))","v":1.2673611111111112},{"$f":"IF(C296=0,\"\",\"gpm\")","v":"gpm"},{"$f":"IF(res_pumps=0,0,IF(curve=1,res_pump_eq,VLOOKUP(res_pump_rating,pump_cost_cl,3)))","v":6817.4014501099509},{"$f":"IF(I296=\"contact vendor\",\"--\",C296*I296)","v":13634.802900219902},{"$f":"IF(res_pumps=0,\"NA\",VLOOKUP(res_pump_rating,pump_cost_cl,IF(ss_cat=\"large\",4,5)))","v":17},1,{"$f":"$B$292&\" - \"&B296","v":"Pumps and Blowers - Residuals Pump"},1,1,1,1,1,1,1,1,1,1,802.04722942470016]
[6.5,"Electron Donor Metering",null,null,null,null,null,null,null,null,null,null,null,null,null,null,null,null,null,null,null,null,0,0]
["6.5.1","PVC - Motor Driven",{"$f":"cm_pumps_e_donor","v":2},"units",{"$f":"cm_pump_rating_e_donor","v":0.13},"gph",{"$f":"IF(curve=1,cm_pump_rating_e_donor,VLOOKUP(cm_pump_rating_e_donor,pvc_mmpump_cost_cl,2))","v":0.13},"gph",{"$f":"IF(curve=1,pvc_e_donor_mmpump_eq,VLOOKUP(cm_pump_rating_e_donor,pvc_mmpump_cost_cl,3))","v":1594.2924204007243},{"$f":"IF(I298=\"contact vendor\",\"--\",C298*I298)","v":3188.5848408014485},{"$f":"IF(cm_pumps_e_donor=0,\"NA\",VLOOKUP(cm_pump_rating_e_donor,pvc_mmpump_cost_cl,IF(ss_cat=\"large\",4,5)))","v":17},0,{"$f":"$B$292&\" - \"&$B$297&\" - \"&B298","v":"Pumps and Blowers - Electron Donor Metering - PVC - Motor Driven"},3,3,2,4,4,1,4,4,1,0,0]
["6.5.1","Stainless Steel - Motor Driven",{"$f":"cm_pumps_e_donor","v":2},"units",{"$f":"cm_pump_rating_e_donor","v":0.13},"gph",{"$f":"IF(curve=1,cm_pump_rating_e_donor,VLOOKUP(cm_pump_rating_e_donor,ss_mmpump_cost_cl,2))","v":0.13},"gph",{"$f":"IF(curve=1,ss_e_donor_mmpump_eq,VLOOKUP(cm_pump_rating_e_donor,ss_mmpump_cost_cl,3))","v":4471.3656963212616},{"$f":"IF(I299=\"contact vendor\",\"--\",C299*I299)","v":8942.7313926425231},{"$f":"IF(cm_pumps_e_donor=0,\"NA\",VLOOKUP(cm_pump_rating_e_donor,ss_mmpump_cost_cl,IF(ss_cat=\"large\",4,5)))","v":17},0,{"$f":"$B$292&\" - \"&$B$297&\" - \"&B299","v":"Pumps and Blowers - Electron Donor Metering - Stainless Steel - Motor Driven"},4,4,1,3,3,2,3,3,2,0,0]
["6.5.1","PVC - Electric",{"$f":"cm_pumps_e_donor","v":2},"units",{"$f":"cm_pump_rating_e_donor","v":0.13},"gph",{"$f":"IF(curve=1,cm_pump_rating_e_donor,VLOOKUP(cm_pump_rating_e_donor,pvc_empump_cost_cl,2))","v":0.13},"gph",{"$f":"IF(curve=1,pvc_e_donor_empump_eq,VLOOKUP(cm_pump_rating_e_donor,pvc_empump_cost_cl,3))","v":467.74905785406344},{"$f":"IF(I300=\"contact vendor\",\"--\",C300*I300)","v":935.49811570812687},{"$f":"IF(cm_pumps_e_donor=0,\"NA\",VLOOKUP(cm_pump_rating_e_donor,pvc_empump_cost_cl,IF(ss_cat=\"large\",4,5)))","v":15},1,{"$f":"$B$292&\" - \"&$B$297&\" - \"&B300","v":"Pumps and Blowers - Electron Donor Metering - PVC - Electric"},1,2,4,1,2,4,1,2,4,1,62.366541047208457]
["6.5.1","Stainless Steel - Electric",{"$f":"cm_pumps_e_donor","v":2},"units",{"$f":"cm_pump_rating_e_donor","v":0.13},"gph",{"$f":"IF(curve=1,cm_pump_rating_e_donor,VLOOKUP(cm_pump_rating_e_donor,ss_empump_cost_cl,2))","v":0.13},"gph",{"$f":"IF(curve=1,ss_e_donor_empump_eq,VLOOKUP(cm_pump_rating_e_donor,ss_empump_cost_cl,3))","v":1076.4332962193243},{"$f":"IF(I301=\"contact vendor\",\"--\",C301*I301)","v":2152.8665924386487},{"$f":"IF(cm_pumps_e_donor=0,\"NA\",VLOOKUP(cm_pump_rating_e_donor,ss_empump_cost_cl,IF(ss_cat=\"large\",4,5)))","v":15},0,{"$f":"$B$292&\" - \"&$B$297&\" - \"&B301","v":"Pumps and Blowers - Electron Donor Metering - Stainless Steel - Electric"},2,1,3,2,1,3,2,1,3,0,0]
[6.6,"Ammonium Chloride Metering",null,null,null,null,null,null,null,null,null,null,null,null,null,null,null,null,null,null,null,null,0,0]
["6.6.1","PVC - Motor Driven",{"$f":"cm_pumps_NH4Cl","v":0},"units",{"$f":"IF(C303=0,\"NA\",cm_pump_rating_NH4Cl)","v":"NA"},{"$f":"IF(C303=0,\"\",\"gph\")","v":""},{"$f":"IF(C303=0,\"NA\",IF(curve=1,cm_pump_rating_NH4Cl,VLOOKUP(cm_pump_rating_NH4Cl,pvc_mmpump_cost_cl,2)))","v":"NA"},{"$f":"IF(C303=0,\"\",\"gph\")","v":""},{"$f":"IF(C303=0,\"NA\",IF(curve=1,pvc_NH4Cl_mmpump_eq,VLOOKUP(cm_pump_rating_NH4Cl,pvc_mmpump_cost_cl,3)))","v":"NA"},{"$f":"IF(C303=0,\"--\",(IF(I303=\"contact vendor\",\"--\",C303*I303)))","v":"--"},{"$f":"IF(cm_pumps_NH4Cl=0,\"NA\",VLOOKUP(cm_pump_rating_NH4Cl,pvc_mmpump_cost_cl,IF(ss_cat=\"large\",4,5)))","v":"NA"},null,{"$f":"$B$292&\" - \"&$B$302&\" - \"&B303","v":"Pumps and Blowers - Ammonium Chloride Metering - PVC - Motor Driven"},3,3,2,4,4,1,4,4,1,0,0]
["6.6.1","Stainless Steel - Motor Driven",{"$f":"cm_pumps_NH4Cl","v":0},"units",{"$f":"IF(C304=0,\"NA\",IF(C304=0,\"NA\",cm_pump_rating_NH4Cl))","v":"NA"},{"$f":"IF(C304=0,\"\",\"gph\")","v":""},{"$f":"IF(C304=0,\"NA\",IF(curve=1,cm_pump_rating_NH4Cl,VLOOKUP(cm_pump_rating_NH4Cl,ss_mmpump_cost_cl,2)))","v":"NA"},{"$f":"IF(C304=0,\"\",\"gph\")","v":""},{"$f":"IF(C304=0,\"NA\",IF(curve=1,ss_NH4Cl_mmpump_eq,VLOOKUP(cm_pump_rating_NH4Cl,ss_mmpump_cost_cl,3)))","v":"NA"},{"$f":"IF(C304=0,\"--\",(IF(I304=\"contact vendor\",\"--\",C304*I304)))","v":"--"},{"$f":"IF(cm_pumps_NH4Cl=0,\"NA\",VLOOKUP(cm_pump_rating_NH4Cl,ss_mmpump_cost_cl,IF(ss_cat=\"large\",4,5)))","v":"NA"},null,{"$f":"$B$292&\" - \"&$B$302&\" - \"&B304","v":"Pumps and Blowers - Ammonium Chloride Metering - Stainless Steel - Motor Driven"},4,4,1,3,3,2,3,3,2,0,0]
["6.6.1","PVC - Electric",{"$f":"cm_pumps_NH4Cl","v":0},"units",{"$f":"IF(C305=0,\"NA\",IF(C305=0,\"NA\",cm_pump_rating_NH4Cl))","v":"NA"},{"$f":"IF(C305=0,\"\",\"gph\")","v":""},{"$f":"IF(C305=0,\"NA\",IF(curve=1,cm_pump_rating_NH4Cl,VLOOKUP(cm_pump_rating_NH4Cl,pvc_empump_cost_cl,2)))","v":"NA"},{"$f":"IF(C305=0,\"\",\"gph\")","v":""},{"$f":"IF(C305=0,\"NA\",IF(curve=1,pvc_NH4Cl_empump_eq,VLOOKUP(cm_pump_rating_NH4Cl,pvc_empump_cost_cl,3)))","v":"NA"},{"$f":"IF(C305=0,\"--\",(IF(I305=\"contact vendor\",\"--\",C305*I305)))","v":"--"},{"$f":"IF(cm_pumps_NH4Cl=0,\"NA\",VLOOKUP(cm_pump_rating_NH4Cl,pvc_empump_cost_cl,IF(ss_cat=\"large\",4,5)))","v":"NA"},null,{"$f":"$B$292&\" - \"&$B$302&\" - \"&B305","v":"Pumps and Blowers - Ammonium Chloride Metering - PVC - Electric"},1,2,4,1,2,4,1,2,4,0,0]
["6.6.1","Stainless Steel - Electric",{"$f":"cm_pumps_NH4Cl","v":0},"units",{"$f":"IF(C306=0,\"NA\",IF(C306=0,\"NA\",cm_pump_rating_NH4Cl))","v":"NA"},{"$f":"IF(C306=0,\"\",\"gph\")","v":""},{"$f":"IF(C306=0,\"NA\",IF(curve=1,cm_pump_rating_NH4Cl,VLOOKUP(cm_pump_rating_NH4Cl,ss_empump_cost_cl,2)))","v":"NA"},{"$f":"IF(C306=0,\"\",\"gph\")","v":""},{"$f":"IF(C306=0,\"NA\",IF(curve=1,ss_NH4Cl_empump_eq,VLOOKUP(cm_pump_rating_NH4Cl,ss_empump_cost_cl,3)))","v":"NA"},{"$f":"IF(C306=0,\"--\",(IF(I306=\"contact vendor\",\"--\",C306*I306)))","v":"--"},{"$f":"IF(cm_pumps_NH4Cl=0,\"NA\",VLOOKUP(cm_pump_rating_NH4Cl,ss_empump_cost_cl,IF(ss_cat=\"large\",4,5)))","v":"NA"},null,{"$f":"$B$292&\" - \"&$B$302&\" - \"&B306","v":"Pumps and Blowers - Ammonium Chloride Metering - Stainless Steel - Electric"},2,1,3,2,1,3,2,1,3,0,0]
[6.7,"Phosphoric Acid Metering",null,null,null,null,null,null,null,null,null,null,null,null,null,null,null,null,null,null,null,null,{"$f":"IF(ISERROR(K307*L307),0,IF(K307<1,0,L307))","v":0},{"$f":"IF(W307,J307/K307,0)","v":0}]
["6.7.1","PVC - Motor Driven",{"$f":"cm_pumps_H3PO4","v":2},"units",{"$f":"IF(C308=0,\"NA\",IF(C308=0,\"NA\",cm_pump_rating_H3PO4))","v":0.13},{"$f":"IF(C308=0,\"\",\"gph\")","v":"gph"},{"$f":"IF(C308=0,\"NA\",IF(curve=1,cm_pump_rating_H3PO4,VLOOKUP(cm_pump_rating_H3PO4,pvc_mmpump_cost_cl,2)))","v":0.13},{"$f":"IF(C308=0,\"\",\"gph\")","v":"gph"},{"$f":"IF(C308=0,\"NA\",IF(curve=1,pvc_H3PO4_mmpump_eq,VLOOKUP(cm_pump_rating_H3PO4,pvc_mmpump_cost_cl,3)))","v":1594.2924204007243},{"$f":"IF(C308=0,\"--\",(IF(I308=\"contact vendor\",\"--\",C308*I308)))","v":3188.5848408014485},{"$f":"IF(cm_pumps_H3PO4=0,\"NA\",VLOOKUP(cm_pump_rating_H3PO4,pvc_mmpump_cost_cl,IF(ss_cat=\"large\",4,5)))","v":17},0,{"$f":"$B$292&\" - \"&$B$307&\" - \"&B308","v":"Pumps and Blowers - Phosphoric Acid Metering - PVC - Motor Driven"},2,2,1,2,2,1,2,2,1,0,0]
["6.7.1","PVC - Electric",{"$f":"cm_pumps_H3PO4","v":2},"units",{"$f":"IF(C309=0,\"NA\",IF(C309=0,\"NA\",cm_pump_rating_H3PO4))","v":0.13},{"$f":"IF(C309=0,\"\",\"gph\")","v":"gph"},{"$f":"IF(C309=0,\"NA\",IF(curve=1,cm_pump_rating_H3PO4,VLOOKUP(cm_pump_rating_H3PO4,pvc_empump_cost_cl,2)))","v":0.13},{"$f":"IF(C309=0,\"\",\"gph\")","v":"gph"},{"$f":"IF(C309=0,\"NA\",IF(curve=1,pvc_H3PO4_empump_eq,VLOOKUP(cm_pump_rating_H3PO4,pvc_empump_cost_cl,3)))","v":467.74905785406344},{"$f":"IF(C309=0,\"--\",(IF(I309=\"contact vendor\",\"--\",C309*I309)))","v":935.49811570812687},{"$f":"IF(cm_pumps_H3PO4=0,\"NA\",VLOOKUP(cm_pump_rating_H3PO4,pvc_empump_cost_cl,IF(ss_cat=\"large\",4,5)))","v":15},1,{"$f":"$B$292&\" - \"&$B$307&\" - \"&B309","v":"Pumps and Blowers - Phosphoric Acid Metering - PVC - Electric"},1,1,2,1,1,2,1,1,2,1,62.366541047208457]
["6.8","Blowers",null,null,null,null,null,null,null,null,null,null,null,null,null,null,null,null,null,null,null,null,0,0]
["6.8.1","Air Scour - Positive Displacement",{"$f":"IF(air_scour_I=\"yes\",num_blowers,0)","v":1},"units",{"$f":"IF(C311=0,\"NA\",design_air_flow)","v":55.634954084936211},{"$f":"IF(C311=0,\"\",\"cfm\")","v":"cfm"},{"$f":"IF(C311=0,\"NA\",IF(curve=1,design_air_flow,VLOOKUP(design_air_flow,pd_blow_cost_cl,2)))","v":55.634954084936211},{"$f":"IF(C311=0,\"\",\"cfm\")","v":"cfm"},{"$f":"IF(C311=0,\"NA\",IF(curve=1,pd_blow_eq,VLOOKUP(design_air_flow,pd_blow_cost_cl,3)))","v":11156.883967484366},{"$f":"IF(C311=0,\"NA\",IF(I311=\"contact vendor\",\"--\",C311*I311))","v":11156.883967484366},{"$f":"IF(C311=0,\"NA\",VLOOKUP(design_air_flow,pd_blow_cost_cl,IF(ss_cat=\"large\",4,5)))","v":20},1,{"$f":"$B$292&\" - \"&$B$310&\" - \"&B311","v":"Pumps and Blowers - Blowers - Air Scour - Positive Displacement"},1,1,1,1,1,1,1,1,1,1,557.84419837421831]
["6.8.2","Biomass Removal - Positive Displacement",{"$f":"IF(design_type=3,num_bio_blowers,0)","v":0},"units",{"$f":"IF(C312=0,\"NA\",design_air_flow_bio)","v":"NA"},{"$f":"IF(C312=0,\"\",\"cfm\")","v":""},{"$f":"IF(C312=0,\"NA\",IF(curve=1,design_air_flow_bio,VLOOKUP(design_air_flow_bio,pd_blow_cost_cl,2)))","v":"NA"},{"$f":"IF(C312=0,\"\",\"cfm\")","v":""},{"$f":"IF(C312=0,\"NA\",IF(curve=1,pd_bio_blow_eq,VLOOKUP(design_air_flow_bio,pd_blow_cost_cl,3)))","v":"NA"},{"$f":"IF(C312=0,\"NA\",IF(I312=\"contact vendor\",\"--\",C312*I312))","v":"NA"},{"$f":"IF(C312=0,\"NA\",VLOOKUP(design_air_flow_bio,pd_blow_cost_cl,IF(ss_cat=\"large\",4,5)))","v":"NA"},null,{"$f":"$B$292&\" - \"&$B$310&\" - \"&B312","v":"Pumps and Blowers - Blowers - Biomass Removal - Positive Displacement"},1,1,1,1,1,1,1,1,1,0,0]
["6.8.3","Aeration - Positive Displacement",{"$f":"num_aeration_blowers","v":2},"units",{"$f":"IF(C313=0,\"NA\",design_air_flow_aeration)","v":1.3541666666666665},{"$f":"IF(C313=0,\"\",\"cfm\")","v":"cfm"},{"$f":"IF(C313=0,\"NA\",IF(curve=1,design_air_flow_aeration,VLOOKUP(design_air_flow_aeration,pd_blow_cost_cl,2)))","v":1.3541666666666665},{"$f":"IF(C313=0,\"\",\"cfm\")","v":"cfm"},{"$f":"IF(C313=0,\"NA\",IF(curve=1,pd_aeration_blow_eq,VLOOKUP(design_air_flow_aeration,pd_blow_cost_cl,3)))","v":9575.6045179204393},{"$f":"IF(C313=0,\"NA\",IF(I313=\"contact vendor\",\"--\",C313*I313))","v":19151.209035840879},{"$f":"IF(C313=0,\"NA\",VLOOKUP(design_air_flow_aeration,pd_blow_cost_cl,IF(ss_cat=\"large\",4,5)))","v":20},1,{"$f":"$B$292&\" - \"&$B$310&\" - \"&B313","v":"Pumps and Blowers - Blowers - Aeration - Positive Displacement"},1,1,1,1,1,1,1,1,1,1,957.56045179204398]
[6.9,"Hydrogen Peroxide Metering",null,null,null,null,null,null,null,null,null,null,null,null,null,null,null,null,null,null,null,null,0,0]
["6.9.1","PVC - Motor Driven",{"$f":"cm_pumps_H2O2","v":0},"units",{"$f":"IF(C315=0,\"NA\",IF(C315=0,\"NA\",cm_pump_rating_H2O2))","v":"NA"},{"$f":"IF(C315=0,\"\",\"gph\")","v":""},{"$f":"IF(C315=0,\"NA\",IF(curve=1,cm_pump_rating_H2O2,VLOOKUP(cm_pump_rating_H2O2,pvc_mmpump_cost_cl,2)))","v":"NA"},{"$f":"IF(C315=0,\"\",\"gph\")","v":""},{"$f":"IF(C315=0,\"NA\",IF(curve=1,pvc_H2O2_mmpump_eq,VLOOKUP(cm_pump_rating_H2O2,pvc_mmpump_cost_cl,3)))","v":"NA"},{"$f":"IF(C315=0,\"--\",(IF(I315=\"contact vendor\",\"--\",C315*I315)))","v":"--"},{"$f":"IF(cm_pumps_H2O2=0,\"NA\",VLOOKUP(cm_pump_rating_H2O2,pvc_mmpump_cost_cl,IF(ss_cat=\"large\",4,5)))","v":"NA"},null,{"$f":"$B$292&\" - \"&$B$314&\" - \"&B315","v":"Pumps and Blowers - Hydrogen Peroxide Metering - PVC - Motor Driven"},3,3,2,4,4,1,4,4,1,0,0]
["6.9.1","Stainless Steel - Motor Driven",{"$f":"cm_pumps_H2O2","v":0},"units",{"$f":"IF(C316=0,\"NA\",IF(C316=0,\"NA\",cm_pump_rating_H2O2))","v":"NA"},{"$f":"IF(C316=0,\"\",\"gph\")","v":""},{"$f":"IF(C316=0,\"NA\",IF(curve=1,cm_pump_rating_H2O2,VLOOKUP(cm_pump_rating_H2O2,ss_mmpump_cost_cl,2)))","v":"NA"},{"$f":"IF(C316=0,\"\",\"gph\")","v":""},{"$f":"IF(C316=0,\"NA\",IF(curve=1,ss_H2O2_mmpump_eq,VLOOKUP(cm_pump_rating_H2O2,ss_mmpump_cost_cl,3)))","v":"NA"},{"$f":"IF(C316=0,\"--\",(IF(I316=\"contact vendor\",\"--\",C316*I316)))","v":"--"},{"$f":"IF(cm_pumps_H2O2=0,\"NA\",VLOOKUP(cm_pump_rating_H2O2,ss_mmpump_cost_cl,IF(ss_cat=\"large\",4,5)))","v":"NA"},null,{"$f":"$B$292&\" - \"&$B$314&\" - \"&B316","v":"Pumps and Blowers - Hydrogen Peroxide Metering - Stainless Steel - Motor Driven"},4,4,1,3,3,2,3,3,2,0,0]
["6.9.1","PVC - Electric",{"$f":"cm_pumps_H2O2","v":0},"units",{"$f":"IF(C317=0,\"NA\",IF(C317=0,\"NA\",cm_pump_rating_H2O2))","v":"NA"},{"$f":"IF(C317=0,\"\",\"gph\")","v":""},{"$f":"IF(C317=0,\"NA\",IF(curve=1,cm_pump_rating_H2O2,VLOOKUP(cm_pump_rating_H2O2,pvc_empump_cost_cl,2)))","v":"NA"},{"$f":"IF(C317=0,\"\",\"gph\")","v":""},{"$f":"IF(C317=0,\"NA\",IF(curve=1,pvc_H2O2_empump_eq,VLOOKUP(cm_pump_rating_H2O2,pvc_empump_cost_cl,3)))","v":"NA"},{"$f":"IF(C317=0,\"--\",(IF(I317=\"contact vendor\",\"--\",C317*I317)))","v":"--"},{"$f":"IF(cm_pumps_H2O2=0,\"NA\",VLOOKUP(cm_pump_rating_H2O2,pvc_empump_cost_cl,IF(ss_cat=\"large\",4,5)))","v":"NA"},null,{"$f":"$B$292&\" - \"&$B$314&\" - \"&B317","v":"Pumps and Blowers - Hydrogen Peroxide Metering - PVC - Electric"},1,2,4,1,2,4,1,2,4,0,0]
["6.9.1","Stainless Steel - Electric",{"$f":"cm_pumps_H2O2","v":0},"units",{"$f":"IF(C318=0,\"NA\",IF(C318=0,\"NA\",cm_pump_rating_H2O2))","v":"NA"},{"$f":"IF(C318=0,\"\",\"gph\")","v":""},{"$f":"IF(C318=0,\"NA\",IF(curve=1,cm_pump_rating_H2O2,VLOOKUP(cm_pump_rating_H2O2,ss_empump_cost_cl,2)))","v":"NA"},{"$f":"IF(C318=0,\"\",\"gph\")","v":""},{"$f":"IF(C318=0,\"NA\",IF(curve=1,ss_H2O2_empump_eq,VLOOKUP(cm_pump_rating_H2O2,ss_empump_cost_cl,3)))","v":"NA"},{"$f":"IF(C318=0,\"--\",(IF(I318=\"contact vendor\",\"--\",C318*I318)))","v":"--"},{"$f":"IF(cm_pumps_H2O2=0,\"NA\",VLOOKUP(cm_pump_rating_H2O2,ss_empump_cost_cl,IF(ss_cat=\"large\",4,5)))","v":"NA"},null,{"$f":"$B$292&\" - \"&$B$314&\" - \"&B318","v":"Pumps and Blowers - Hydrogen Peroxide Metering - Stainless Steel - Electric"},2,1,3,2,1,3,2,1,3,0,0]
["6.10","Polymer Metering",null,null,null,null,null,null,null,null,null,null,null,null,null,null,null,null,null,null,null,null,0,0]
["6.10.1","PVC - Motor Driven",{"$f":"cm_pumps_polymer","v":2},"units",{"$f":"IF(C320=0,\"NA\",IF(C320=0,\"NA\",cm_pump_rating_polymer))","v":6.9275986607142856},{"$f":"IF(C320=0,\"\",\"gph\")","v":"gph"},{"$f":"IF(C320=0,\"NA\",IF(curve=1,cm_pump_rating_polymer,VLOOKUP(cm_pump_rating_polymer,pvc_mmpump_cost_cl,2)))","v":6.9275986607142856},{"$f":"IF(C320=0,\"\",\"gph\")","v":"gph"},{"$f":"IF(C320=0,\"NA\",IF(curve=1,pvc_polymer_mmpump_eq,VLOOKUP(cm_pump_rating_polymer,pvc_mmpump_cost_cl,3)))","v":2913.3578630532797},{"$f":"IF(C320=0,\"--\",(IF(I320=\"contact vendor\",\"--\",C320*I320)))","v":5826.7157261065595},{"$f":"IF(C320=0,\"NA\",VLOOKUP(cm_pump_rating_polymer,pvc_mmpump_cost_cl,IF(ss_cat=\"large\",4,5)))","v":17},0,{"$f":"$B$292&\" - \"&$B$319&\" - \"&B320","v":"Pumps and Blowers - Polymer Metering - PVC - Motor Driven"},3,3,2,4,4,1,4,4,1,0,0]
["6.10.1","Stainless Steel - Motor Driven",{"$f":"cm_pumps_polymer","v":2},"units",{"$f":"IF(C321=0,\"NA\",IF(C321=0,\"NA\",cm_pump_rating_polymer))","v":6.9275986607142856},{"$f":"IF(C321=0,\"\",\"gph\")","v":"gph"},{"$f":"IF(C321=0,\"NA\",IF(curve=1,cm_pump_rating_polymer,VLOOKUP(cm_pump_rating_polymer,ss_mmpump_cost_cl,2)))","v":6.9275986607142856},{"$f":"IF(C321=0,\"\",\"gph\")","v":"gph"},{"$f":"IF(C321=0,\"NA\",IF(curve=1,ss_polymer_mmpump_eq,VLOOKUP(cm_pump_rating_polymer,ss_mmpump_cost_cl,3)))","v":4520.8438912087113},{"$f":"IF(C321=0,\"--\",(IF(I321=\"contact vendor\",\"--\",C321*I321)))","v":9041.6877824174226},{"$f":"IF(C321=0,\"NA\",VLOOKUP(cm_pump_rating_polymer,ss_mmpump_cost_cl,IF(ss_cat=\"large\",4,5)))","v":17},0,{"$f":"$B$292&\" - \"&$B$319&\" - \"&B321","v":"Pumps and Blowers - Polymer Metering - Stainless Steel - Motor Driven"},4,4,1,3,3,2,3,3,2,0,0]
["6.10.1","PVC - Electric",{"$f":"cm_pumps_polymer","v":2},"units",{"$f":"IF(C322=0,\"NA\",IF(C322=0,\"NA\",cm_pump_rating_polymer))","v":6.9275986607142856},{"$f":"IF(C322=0,\"\",\"gph\")","v":"gph"},{"$f":"IF(C322=0,\"NA\",IF(curve=1,cm_pump_rating_polymer,VLOOKUP(cm_pump_rating_polymer,pvc_empump_cost_cl,2)))","v":6.9275986607142856},{"$f":"IF(C322=0,\"\",\"gph\")","v":"gph"},{"$f":"IF(C322=0,\"NA\",IF(curve=1,pvc_polymer_empump_eq,VLOOKUP(cm_pump_rating_polymer,pvc_empump_cost_cl,3)))","v":1524.9026825439485},{"$f":"IF(C322=0,\"--\",(IF(I322=\"contact vendor\",\"--\",C322*I322)))","v":3049.8053650878969},{"$f":"IF(C322=0,\"NA\",VLOOKUP(cm_pump_rating_polymer,pvc_empump_cost_cl,IF(ss_cat=\"large\",4,5)))","v":15},1,{"$f":"$B$292&\" - \"&$B$319&\" - \"&B322","v":"Pumps and Blowers - Polymer Metering - PVC - Electric"},1,2,4,1,2,4,1,2,4,1,203.32035767252646]
["6.10.1","Stainless Steel - Electric",{"$f":"cm_pumps_polymer","v":2},"units",{"$f":"IF(C323=0,\"NA\",IF(C323=0,\"NA\",cm_pump_rating_polymer))","v":6.9275986607142856},{"$f":"IF(C323=0,\"\",\"gph\")","v":"gph"},{"$f":"IF(C323=0,\"NA\",IF(curve=1,cm_pump_rating_polymer,VLOOKUP(cm_pump_rating_polymer,ss_empump_cost_cl,2)))","v":6.9275986607142856},{"$f":"IF(C323=0,\"\",\"gph\")","v":"gph"},{"$f":"IF(C323=0,\"NA\",IF(curve=1,ss_polymer_empump_eq,VLOOKUP(cm_pump_rating_polymer,ss_empump_cost_cl,3)))","v":2537.3154388330404},{"$f":"IF(C323=0,\"--\",(IF(I323=\"contact vendor\",\"--\",C323*I323)))","v":5074.6308776660808},{"$f":"IF(C323=0,\"NA\",VLOOKUP(cm_pump_rating_polymer,ss_empump_cost_cl,IF(ss_cat=\"large\",4,5)))","v":15},0,{"$f":"$B$292&\" - \"&$B$319&\" - \"&B323","v":"Pumps and Blowers - Polymer Metering - Stainless Steel - Electric"},2,1,3,2,1,3,2,1,3,0,0]
["7","Mixers",null,null,null,null,null,null,null,null,null,null,null,null,null,null,null,null,null,null,null,null,0,0]
[7.1,"Mixers for Electron Donor Storage Tanks",null,null,null,null,null,null,null,null,null,null,null,null,null,null,null,null,null,null,null,null,0,0]
["7.1.1","Portable",{"$f":"e_donor_cmixers","v":0},"units",{"$f":"IF(C326=0,\"NA\",e_donor_cmix_size)","v":"NA"},{"$f":"IF(C326=0,\"\",\"hp\")","v":""},{"$f":"IF(C326=0,\"NA\",VLOOKUP(e_donor_cmix_size,port_mix_cost_cl,2))","v":"NA"},{"$f":"IF(C326=0,\"\",\"hp\")","v":""},{"$f":"IF(C326=0,\"NA\",VLOOKUP(e_donor_cmix_size,port_mix_cost_cl,3))","v":"NA"},{"$f":"IF(C326=0,\"--\",IF(I326=\"contact vendor\",\"--\",C326*I326))","v":"--"},{"$f":"IF(C326=0,\"NA\",VLOOKUP(e_donor_cmix_size,port_mix_cost_cl,IF(ss_cat=\"large\",4,5)))","v":"NA"},null,{"$f":"$B$324&\" - \"&$B$325&\" - \"&B326","v":"Mixers - Mixers for Electron Donor Storage Tanks - Portable"},3,3,3,3,3,3,3,3,3,0,0]
["7.1.1","Mounted",{"$f":"e_donor_cmixers","v":0},"units",{"$f":"IF(C327=0,\"NA\",e_donor_cmix_size)","v":"NA"},{"$f":"IF(C327=0,\"\",\"hp\")","v":""},{"$f":"IF(C327=0,\"NA\",IF(curve=1,e_donor_cmix_size,VLOOKUP(e_donor_cmix_size,mount_mix_cost_cl,2)))","v":"NA"},{"$f":"IF(C327=0,\"\",\"hp\")","v":""},{"$f":"IF(C327=0,\"NA\",IF(curve=1,cmount_mix_eq_e_donor,VLOOKUP(e_donor_cmix_size,mount_mix_cost_cl,3)))","v":"NA"},{"$f":"IF(C327=0,\"--\",IF(I327=\"contact vendor\",\"--\",C327*I327))","v":"--"},{"$f":"IF(C327=0,\"NA\",VLOOKUP(e_donor_cmix_size,mount_mix_cost_cl,IF(ss_cat=\"large\",4,5)))","v":"NA"},null,{"$f":"$B$324&\" - \"&$B$325&\" - \"&B327","v":"Mixers - Mixers for Electron Donor Storage Tanks - Mounted"},1,1,1,1,1,1,1,1,1,0,0]
["7.1.1","Impeller",{"$f":"e_donor_cmixers","v":0},"units",{"$f":"IF(C328=0,\"NA\",e_donor_cmix_size)","v":"NA"},{"$f":"IF(C328=0,\"\",\"hp\")","v":""},{"$f":"IF(C328=0,\"NA\",IF(curve=1,e_donor_cmix_size,VLOOKUP(e_donor_cmix_size,imp_mix_cost_cl,2)))","v":"NA"},{"$f":"IF(C328=0,\"\",\"hp\")","v":""},{"$f":"IF(C328=0,\"NA\",IF(curve=1,cimp_mix_eq_e_donor,VLOOKUP(e_donor_cmix_size,imp_mix_cost_cl,3)))","v":"NA"},{"$f":"IF(C328=0,\"--\",IF(I328=\"contact vendor\",\"--\",C328*I328))","v":"--"},{"$f":"IF(C328=0,\"NA\",VLOOKUP(e_donor_cmix_size,imp_mix_cost_cl,IF(ss_cat=\"large\",4,5)))","v":"NA"},null,{"$f":"$B$324&\" - \"&$B$325&\" - \"&B328","v":"Mixers - Mixers for Electron Donor Storage Tanks - Impeller"},2,2,2,2,2,2,2,2,2,0,0]
[7.2,"Mixers for Electron Donor Day Tanks",null,null,null,null,null,null,null,null,null,null,null,null,null,null,null,null,null,null,null,null,0,0]
["7.2.1","Portable",{"$f":"e_donor_dmixers","v":0},"units",{"$f":"IF(C330=0,\"NA\",e_donor_dmix_size)","v":"NA"},{"$f":"IF(C330=0,\"\",\"hp\")","v":""},{"$f":"IF(C330=0,\"NA\",VLOOKUP(e_donor_dmix_size,port_mix_cost_cl,2))","v":"NA"},{"$f":"IF(C330=0,\"\",\"hp\")","v":""},{"$f":"IF(C330=0,\"NA\",VLOOKUP(e_donor_dmix_size,port_mix_cost_cl,3))","v":"NA"},{"$f":"IF(C330=0,\"--\",IF(I330=\"contact vendor\",\"--\",C330*I330))","v":"--"},{"$f":"IF(C330=0,\"NA\",VLOOKUP(e_donor_dmix_size,port_mix_cost_cl,IF(ss_cat=\"large\",4,5)))","v":"NA"},null,{"$f":"$B$324&\" - \"&$B$329&\" - \"&B330","v":"Mixers - Mixers for Electron Donor Day Tanks - Portable"},3,3,3,3,3,3,3,3,3,0,0]
["7.2.1","Mounted",{"$f":"e_donor_dmixers","v":0},"units",{"$f":"IF(C331=0,\"NA\",e_donor_dmix_size)","v":"NA"},{"$f":"IF(C331=0,\"\",\"hp\")","v":""},{"$f":"IF(C331=0,\"NA\",IF(curve=1,e_donor_dmix_size,VLOOKUP(e_donor_dmix_size,mount_mix_cost_cl,2)))","v":"NA"},{"$f":"IF(C331=0,\"\",\"hp\")","v":""},{"$f":"IF(C331=0,\"NA\",IF(curve=1,dmount_mix_eq_e_donor,VLOOKUP(e_donor_dmix_size,mount_mix_cost_cl,3)))","v":"NA"},{"$f":"IF(C331=0,\"--\",IF(I331=\"contact vendor\",\"--\",C331*I331))","v":"--"},{"$f":"IF(C331=0,\"NA\",VLOOKUP(e_donor_dmix_size,mount_mix_cost_cl,IF(ss_cat=\"large\",4,5)))","v":"NA"},null,{"$f":"$B$324&\" - \"&$B$329&\" - \"&B331","v":"Mixers - Mixers for Electron Donor Day Tanks - Mounted"},1,1,1,1,1,1,1,1,1,0,0]
["7.2.1","Impeller",{"$f":"e_donor_dmixers","v":0},"units",{"$f":"IF(C332=0,\"NA\",e_donor_dmix_size)","v":"NA"},{"$f":"IF(C332=0,\"\",\"hp\")","v":""},{"$f":"IF(C332=0,\"NA\",IF(curve=1,e_donor_dmix_size,VLOOKUP(e_donor_dmix_size,imp_mix_cost_cl,2)))","v":"NA"},{"$f":"IF(C332=0,\"\",\"hp\")","v":""},{"$f":"IF(C332=0,\"NA\",IF(curve=1,dimp_mix_eq_e_donor,VLOOKUP(e_donor_dmix_size,imp_mix_cost_cl,3)))","v":"NA"},{"$f":"IF(C332=0,\"--\",IF(I332=\"contact vendor\",\"--\",C332*I332))","v":"--"},{"$f":"IF(C332=0,\"NA\",VLOOKUP(e_donor_dmix_size,imp_mix_cost_cl,IF(ss_cat=\"large\",4,5)))","v":"NA"},null,{"$f":"$B$324&\" - \"&$B$329&\" - \"&B332","v":"Mixers - Mixers for Electron Donor Day Tanks - Impeller"},2,2,2,2,2,2,2,2,2,0,0]
[7.3,"Mixers for Ammonium Chloride Storage Tanks",null,null,null,null,null,null,null,null,null,null,null,null,null,null,null,null,null,null,null,null,0,0]
["7.3.1","Portable",{"$f":"NH4Cl_cmixers","v":0},"units",{"$f":"IF(C334=0,\"NA\",NH4Cl_cmix_size)","v":"NA"},{"$f":"IF(C334=0,\"\",\"hp\")","v":""},{"$f":"IF(C334=0,\"NA\",VLOOKUP(NH4Cl_cmix_size,port_mix_cost_cl,2))","v":"NA"},{"$f":"IF(C334=0,\"\",\"hp\")","v":""},{"$f":"IF(C334=0,\"NA\",VLOOKUP(NH4Cl_cmix_size,port_mix_cost_cl,3))","v":"NA"},{"$f":"IF(C334=0,\"--\",IF(I334=\"contact vendor\",\"--\",C334*I334))","v":"--"},{"$f":"IF(C334=0,\"NA\",VLOOKUP(NH4Cl_cmix_size,port_mix_cost_cl,IF(ss_cat=\"large\",4,5)))","v":"NA"},null,{"$f":"$B$324&\" - \"&$B$333&\" - \"&B334","v":"Mixers - Mixers for Ammonium Chloride Storage Tanks - Portable"},3,3,3,3,3,3,3,3,3,0,0]
["7.3.1","Mounted",{"$f":"NH4Cl_cmixers","v":0},"units",{"$f":"IF(C335=0,\"NA\",NH4Cl_cmix_size)","v":"NA"},{"$f":"IF(C335=0,\"\",\"hp\")","v":""},{"$f":"IF(C335=0,\"NA\",IF(curve=1,NH4Cl_cmix_size,VLOOKUP(NH4Cl_cmix_size,mount_mix_cost_cl,2)))","v":"NA"},{"$f":"IF(C335=0,\"\",\"hp\")","v":""},{"$f":"IF(C335=0,\"NA\",IF(curve=1,cmount_mix_eq_NH4Cl,VLOOKUP(NH4Cl_cmix_size,mount_mix_cost_cl,3)))","v":"NA"},{"$f":"IF(C335=0,\"--\",IF(I335=\"contact vendor\",\"--\",C335*I335))","v":"--"},{"$f":"IF(C335=0,\"NA\",VLOOKUP(NH4Cl_cmix_size,mount_mix_cost_cl,IF(ss_cat=\"large\",4,5)))","v":"NA"},null,{"$f":"$B$324&\" - \"&$B$333&\" - \"&B335","v":"Mixers - Mixers for Ammonium Chloride Storage Tanks - Mounted"},1,1,1,1,1,1,1,1,1,0,0]
["7.3.1","Impeller",{"$f":"NH4Cl_cmixers","v":0},"units",{"$f":"IF(C336=0,\"NA\",NH4Cl_cmix_size)","v":"NA"},{"$f":"IF(C336=0,\"\",\"hp\")","v":""},{"$f":"IF(C336=0,\"NA\",IF(curve=1,NH4Cl_cmix_size,VLOOKUP(NH4Cl_cmix_size,imp_mix_cost_cl,2)))","v":"NA"},{"$f":"IF(C336=0,\"\",\"hp\")","v":""},{"$f":"IF(C336=0,\"NA\",IF(curve=1,cimp_mix_eq_NH4Cl,VLOOKUP(NH4Cl_cmix_size,imp_mix_cost_cl,3)))","v":"NA"},{"$f":"IF(C336=0,\"--\",IF(I336=\"contact vendor\",\"--\",C336*I336))","v":"--"},{"$f":"IF(C336=0,\"NA\",VLOOKUP(NH4Cl_cmix_size,imp_mix_cost_cl,IF(ss_cat=\"large\",4,5)))","v":"NA"},null,{"$f":"$B$324&\" - \"&$B$333&\" - \"&B336","v":"Mixers - Mixers for Ammonium Chloride Storage Tanks - Impeller"},2,2,2,2,2,2,2,2,2,0,0]
[7.4,"Mixers for Ammonium Chloride Day Tanks",null,null,null,null,null,null,null,null,null,null,null,null,null,null,null,null,null,null,null,null,0,0]
["7.4.1","Portable",{"$f":"NH4Cl_dmixers","v":0},"units",{"$f":"IF(C338=0,\"NA\",NH4Cl_dmix_size)","v":"NA"},{"$f":"IF(C338=0,\"\",\"hp\")","v":""},{"$f":"IF(C338=0,\"NA\",VLOOKUP(NH4Cl_dmix_size,port_mix_cost_cl,2))","v":"NA"},{"$f":"IF(C338=0,\"\",\"hp\")","v":""},{"$f":"IF(C338=0,\"NA\",VLOOKUP(NH4Cl_dmix_size,port_mix_cost_cl,3))","v":"NA"},{"$f":"IF(C338=0,\"--\",IF(I338=\"contact vendor\",\"--\",C338*I338))","v":"--"},{"$f":"IF(C338=0,\"NA\",VLOOKUP(NH4Cl_dmix_size,port_mix_cost_cl,IF(ss_cat=\"large\",4,5)))","v":"NA"},null,{"$f":"$B$324&\" - \"&$B$337&\" - \"&B338","v":"Mixers - Mixers for Ammonium Chloride Day Tanks - Portable"},3,3,3,3,3,3,3,3,3,0,0]
["7.4.1","Mounted",{"$f":"NH4Cl_dmixers","v":0},"units",{"$f":"IF(C339=0,\"NA\",NH4Cl_dmix_size)","v":"NA"},{"$f":"IF(C339=0,\"\",\"hp\")","v":""},{"$f":"IF(C339=0,\"NA\",IF(curve=1,NH4Cl_dmix_size,VLOOKUP(NH4Cl_dmix_size,mount_mix_cost_cl,2)))","v":"NA"},{"$f":"IF(C339=0,\"\",\"hp\")","v":""},{"$f":"IF(C339=0,\"NA\",IF(curve=1,dmount_mix_eq_NH4Cl,VLOOKUP(NH4Cl_dmix_size,mount_mix_cost_cl,3)))","v":"NA"},{"$f":"IF(C339=0,\"--\",IF(I339=\"contact vendor\",\"--\",C339*I339))","v":"--"},{"$f":"IF(C339=0,\"NA\",VLOOKUP(NH4Cl_dmix_size,mount_mix_cost_cl,IF(ss_cat=\"large\",4,5)))","v":"NA"},null,{"$f":"$B$324&\" - \"&$B$337&\" - \"&B339","v":"Mixers - Mixers for Ammonium Chloride Day Tanks - Mounted"},1,1,1,1,1,1,1,1,1,0,0]
["7.4.1","Impeller",{"$f":"NH4Cl_dmixers","v":0},"units",{"$f":"IF(C340=0,\"NA\",NH4Cl_dmix_size)","v":"NA"},{"$f":"IF(C340=0,\"\",\"hp\")","v":""},{"$f":"IF(C340=0,\"NA\",IF(curve=1,NH4Cl_dmix_size,VLOOKUP(NH4Cl_dmix_size,imp_mix_cost_cl,2)))","v":"NA"},{"$f":"IF(C340=0,\"\",\"hp\")","v":""},{"$f":"IF(C340=0,\"NA\",IF(curve=1,dimp_mix_eq_NH4Cl,VLOOKUP(NH4Cl_dmix_size,imp_mix_cost_cl,3)))","v":"NA"},{"$f":"IF(C340=0,\"--\",IF(I340=\"contact vendor\",\"--\",C340*I340))","v":"--"},{"$f":"IF(C340=0,\"NA\",VLOOKUP(NH4Cl_dmix_size,imp_mix_cost_cl,IF(ss_cat=\"large\",4,5)))","v":"NA"},null,{"$f":"$B$324&\" - \"&$B$337&\" - \"&B340","v":"Mixers - Mixers for Ammonium Chloride Day Tanks - Impeller"},2,2,2,2,2,2,2,2,2,0,0]
[7.5,"Mixers for Phosphoric Acid Storage Tanks",null,null,null,null,null,null,null,null,null,null,null,null,null,null,null,null,null,null,null,null,0,0]
["7.5.1","Portable",{"$f":"H3PO4_cmixers","v":0},"units",{"$f":"IF(C342=0,\"NA\",H3PO4_cmix_size)","v":"NA"},{"$f":"IF(C342=0,\"\",\"hp\")","v":""},{"$f":"IF(C342=0,\"NA\",VLOOKUP(H3PO4_cmix_size,port_mix_cost_cl,2))","v":"NA"},{"$f":"IF(C342=0,\"\",\"hp\")","v":""},{"$f":"IF(C342=0,\"NA\",VLOOKUP(H3PO4_cmix_size,port_mix_cost_cl,3))","v":"NA"},{"$f":"IF(C342=0,\"--\",IF(I342=\"contact vendor\",\"--\",C342*I342))","v":"--"},{"$f":"IF(C342=0,\"NA\",VLOOKUP(H3PO4_cmix_size,port_mix_cost_cl,IF(ss_cat=\"large\",4,5)))","v":"NA"},null,{"$f":"$B$324&\" - \"&$B$341&\" - \"&B342","v":"Mixers - Mixers for Phosphoric Acid Storage Tanks - Portable"},3,3,3,3,3,3,3,3,3,0,0]
["7.5.1","Mounted",{"$f":"H3PO4_cmixers","v":0},"units",{"$f":"IF(C343=0,\"NA\",H3PO4_cmix_size)","v":"NA"},{"$f":"IF(C343=0,\"\",\"hp\")","v":""},{"$f":"IF(C343=0,\"NA\",IF(curve=1,H3PO4_cmix_size,VLOOKUP(H3PO4_cmix_size,mount_mix_cost_cl,2)))","v":"NA"},{"$f":"IF(C343=0,\"\",\"hp\")","v":""},{"$f":"IF(C343=0,\"NA\",IF(curve=1,cmount_mix_eq_H3PO4,VLOOKUP(H3PO4_cmix_size,mount_mix_cost_cl,3)))","v":"NA"},{"$f":"IF(C343=0,\"--\",IF(I343=\"contact vendor\",\"--\",C343*I343))","v":"--"},{"$f":"IF(C343=0,\"NA\",VLOOKUP(H3PO4_cmix_size,mount_mix_cost_cl,IF(ss_cat=\"large\",4,5)))","v":"NA"},null,{"$f":"$B$324&\" - \"&$B$341&\" - \"&B343","v":"Mixers - Mixers for Phosphoric Acid Storage Tanks - Mounted"},1,1,1,1,1,1,1,1,1,0,0]
["7.5.1","Impeller",{"$f":"H3PO4_cmixers","v":0},"units",{"$f":"IF(C344=0,\"NA\",H3PO4_cmix_size)","v":"NA"},{"$f":"IF(C344=0,\"\",\"hp\")","v":""},{"$f":"IF(C344=0,\"NA\",IF(curve=1,H3PO4_cmix_size,VLOOKUP(H3PO4_cmix_size,imp_mix_cost_cl,2)))","v":"NA"},{"$f":"IF(C344=0,\"\",\"hp\")","v":""},{"$f":"IF(C344=0,\"NA\",IF(curve=1,cimp_mix_eq_H3PO4,VLOOKUP(H3PO4_cmix_size,imp_mix_cost_cl,3)))","v":"NA"},{"$f":"IF(C344=0,\"--\",IF(I344=\"contact vendor\",\"--\",C344*I344))","v":"--"},{"$f":"IF(C344=0,\"NA\",VLOOKUP(H3PO4_cmix_size,imp_mix_cost_cl,IF(ss_cat=\"large\",4,5)))","v":"NA"},null,{"$f":"$B$324&\" - \"&$B$341&\" - \"&B344","v":"Mixers - Mixers for Phosphoric Acid Storage Tanks - Impeller"},2,2,2,2,2,2,2,2,2,0,0]
[7.6,"Mixers for Phosphoric Acid Day Tanks",null,null,null,null,null,null,null,null,null,null,null,null,null,null,null,null,null,null,null,null,0,0]
["7.6.1","Portable",{"$f":"H3PO4_dmixers","v":0},"units",{"$f":"IF(C346=0,\"NA\",H3PO4_dmix_size)","v":"NA"},{"$f":"IF(C346=0,\"\",\"hp\")","v":""},{"$f":"IF(C346=0,\"NA\",VLOOKUP(H3PO4_dmix_size,port_mix_cost_cl,2))","v":"NA"},{"$f":"IF(C346=0,\"\",\"hp\")","v":""},{"$f":"IF(C346=0,\"NA\",VLOOKUP(H3PO4_dmix_size,port_mix_cost_cl,3))","v":"NA"},{"$f":"IF(C346=0,\"--\",IF(I346=\"contact vendor\",\"--\",C346*I346))","v":"--"},{"$f":"IF(C346=0,\"NA\",VLOOKUP(H3PO4_dmix_size,port_mix_cost_cl,IF(ss_cat=\"large\",4,5)))","v":"NA"},null,{"$f":"$B$324&\" - \"&$B$345&\" - \"&B346","v":"Mixers - Mixers for Phosphoric Acid Day Tanks - Portable"},3,3,3,3,3,3,3,3,3,0,0]
["7.6.1","Mounted",{"$f":"H3PO4_dmixers","v":0},"units",{"$f":"IF(C347=0,\"NA\",H3PO4_dmix_size)","v":"NA"},{"$f":"IF(C347=0,\"\",\"hp\")","v":""},{"$f":"IF(C347=0,\"NA\",IF(curve=1,H3PO4_dmix_size,VLOOKUP(H3PO4_dmix_size,mount_mix_cost_cl,2)))","v":"NA"},{"$f":"IF(C347=0,\"\",\"hp\")","v":""},{"$f":"IF(C347=0,\"NA\",IF(curve=1,dmount_mix_eq_H3PO4,VLOOKUP(H3PO4_dmix_size,mount_mix_cost_cl,3)))","v":"NA"},{"$f":"IF(C347=0,\"--\",IF(I347=\"contact vendor\",\"--\",C347*I347))","v":"--"},{"$f":"IF(C347=0,\"NA\",VLOOKUP(H3PO4_dmix_size,mount_mix_cost_cl,IF(ss_cat=\"large\",4,5)))","v":"NA"},null,{"$f":"$B$324&\" - \"&$B$345&\" - \"&B347","v":"Mixers - Mixers for Phosphoric Acid Day Tanks - Mounted"},1,1,1,1,1,1,1,1,1,0,0]
["7.6.1","Impeller",{"$f":"H3PO4_dmixers","v":0},"units",{"$f":"IF(C348=0,\"NA\",H3PO4_dmix_size)","v":"NA"},{"$f":"IF(C348=0,\"\",\"hp\")","v":""},{"$f":"IF(C348=0,\"NA\",IF(curve=1,H3PO4_dmix_size,VLOOKUP(H3PO4_dmix_size,imp_mix_cost_cl,2)))","v":"NA"},{"$f":"IF(C348=0,\"\",\"hp\")","v":""},{"$f":"IF(C348=0,\"NA\",IF(curve=1,dimp_mix_eq_H3PO4,VLOOKUP(H3PO4_dmix_size,imp_mix_cost_cl,3)))","v":"NA"},{"$f":"IF(C348=0,\"--\",IF(I348=\"contact vendor\",\"--\",C348*I348))","v":"--"},{"$f":"IF(C348=0,\"NA\",VLOOKUP(H3PO4_dmix_size,imp_mix_cost_cl,IF(ss_cat=\"large\",4,5)))","v":"NA"},null,{"$f":"$B$324&\" - \"&$B$345&\" - \"&B348","v":"Mixers - Mixers for Phosphoric Acid Day Tanks - Impeller"},2,2,2,2,2,2,2,2,2,0,0]
[7.7,"Residuals Mixers",null,null,null,null,null,null,null,null,null,null,null,null,null,null,null,null,null,null,null,null,0,0]
["7.7.1","Portable",{"$f":"hmixers","v":0},"units",{"$f":"IF(C350=0,\"NA\",hmix_size)","v":"NA"},{"$f":"IF(C350=0,\"\",\"hp\")","v":""},{"$f":"IF(C350=0,\"NA\",VLOOKUP(hmix_size,port_mix_cost_cl,2))","v":"NA"},{"$f":"IF(C350=0,\"\",\"hp\")","v":""},{"$f":"IF(C350=0,\"NA\",VLOOKUP(hmix_size,port_mix_cost_cl,3))","v":"NA"},{"$f":"IF(C350=0,\"--\",IF(I350=\"contact vendor\",\"--\",C350*I350))","v":"--"},{"$f":"IF(C350=0,\"NA\",VLOOKUP(hmix_size,port_mix_cost_cl,IF(ss_cat=\"large\",4,5)))","v":"NA"},null,{"$f":"$B$324&\" - \"&$B$349&\" - \"&B350","v":"Mixers - Residuals Mixers - Portable"},3,3,3,3,3,3,3,3,3,0,0]
["7.7.1","Mounted",{"$f":"hmixers","v":0},"units",{"$f":"IF(C351=0,\"NA\",hmix_size)","v":"NA"},{"$f":"IF(C351=0,\"\",\"hp\")","v":""},{"$f":"IF(C351=0,\"NA\",IF(curve=1,hmix_size,VLOOKUP(hmix_size,mount_mix_cost_cl,2)))","v":"NA"},{"$f":"IF(C351=0,\"\",\"hp\")","v":""},{"$f":"IF(C351=0,\"NA\",IF(curve=1,hmount_mix_eq,VLOOKUP(hmix_size,mount_mix_cost_cl,3)))","v":"NA"},{"$f":"IF(C351=0,\"--\",IF(I351=\"contact vendor\",\"--\",C351*I351))","v":"--"},{"$f":"IF(C351=0,\"NA\",VLOOKUP(hmix_size,mount_mix_cost_cl,IF(ss_cat=\"large\",4,5)))","v":"NA"},null,{"$f":"$B$324&\" - \"&$B$349&\" - \"&B351","v":"Mixers - Residuals Mixers - Mounted"},1,1,1,1,1,1,1,1,1,0,0]
["7.7.1","Impeller",{"$f":"hmixers","v":0},"units",{"$f":"IF(C352=0,\"NA\",hmix_size)","v":"NA"},{"$f":"IF(C352=0,\"\",\"hp\")","v":""},{"$f":"IF(C352=0,\"NA\",IF(curve=1,hmix_size,VLOOKUP(hmix_size,imp_mix_cost_cl,2)))","v":"NA"},{"$f":"IF(C352=0,\"\",\"hp\")","v":""},{"$f":"IF(C352=0,\"NA\",IF(curve=1,himp_mix_eq,VLOOKUP(hmix_size,imp_mix_cost_cl,3)))","v":"NA"},{"$f":"IF(C352=0,\"--\",IF(I352=\"contact vendor\",\"--\",C352*I352))","v":"--"},{"$f":"IF(C352=0,\"NA\",VLOOKUP(E352,imp_mix_cost_cl,IF(ss_cat=\"large\",4,5)))","v":"NA"},null,{"$f":"$B$324&\" - \"&$B$349&\" - \"&B352","v":"Mixers - Residuals Mixers - Impeller"},2,2,2,2,2,2,2,2,2,0,0]
[7.8,"Mixers for Hydrogen Peroxide Storage Tanks",null,null,null,null,null,null,null,null,null,null,null,null,null,null,null,null,null,null,null,null,0,0]
["7.8.1","Portable",{"$f":"H2O2_cmixers","v":0},"units",{"$f":"IF(C354=0,\"NA\",H2O2_cmix_size)","v":"NA"},{"$f":"IF(C354=0,\"\",\"hp\")","v":""},{"$f":"IF(C354=0,\"NA\",VLOOKUP(H2O2_cmix_size,port_mix_cost_cl,2))","v":"NA"},{"$f":"IF(C354=0,\"\",\"hp\")","v":""},{"$f":"IF(C354=0,\"NA\",VLOOKUP(H2O2_cmix_size,port_mix_cost_cl,3))","v":"NA"},{"$f":"IF(C354=0,\"--\",IF(I354=\"contact vendor\",\"--\",C354*I354))","v":"--"},{"$f":"IF(C354=0,\"NA\",VLOOKUP(H2O2_cmix_size,port_mix_cost_cl,IF(ss_cat=\"large\",4,5)))","v":"NA"},null,{"$f":"$B$324&\" - \"&$B$353&\" - \"&B354","v":"Mixers - Mixers for Hydrogen Peroxide Storage Tanks - Portable"},3,3,3,3,3,3,3,3,3,0,0]
["7.8.1","Mounted",{"$f":"H2O2_cmixers","v":0},"units",{"$f":"IF(C355=0,\"NA\",H2O2_cmix_size)","v":"NA"},{"$f":"IF(C355=0,\"\",\"hp\")","v":""},{"$f":"IF(C355=0,\"NA\",IF(curve=1,H2O2_cmix_size,VLOOKUP(H2O2_cmix_size,mount_mix_cost_cl,2)))","v":"NA"},{"$f":"IF(C355=0,\"\",\"hp\")","v":""},{"$f":"IF(C355=0,\"NA\",IF(curve=1,cmount_mix_eq_H2O2,VLOOKUP(H2O2_cmix_size,mount_mix_cost_cl,3)))","v":"NA"},{"$f":"IF(C355=0,\"--\",IF(I355=\"contact vendor\",\"--\",C355*I355))","v":"--"},{"$f":"IF(C355=0,\"NA\",VLOOKUP(H2O2_cmix_size,mount_mix_cost_cl,IF(ss_cat=\"large\",4,5)))","v":"NA"},null,{"$f":"$B$324&\" - \"&$B$353&\" - \"&B355","v":"Mixers - Mixers for Hydrogen Peroxide Storage Tanks - Mounted"},1,1,1,1,1,1,1,1,1,0,0]
["7.8.1","Impeller",{"$f":"H2O2_cmixers","v":0},"units",{"$f":"IF(C356=0,\"NA\",H2O2_cmix_size)","v":"NA"},{"$f":"IF(C356=0,\"\",\"hp\")","v":""},{"$f":"IF(C356=0,\"NA\",IF(curve=1,H2O2_cmix_size,VLOOKUP(H2O2_cmix_size,imp_mix_cost_cl,2)))","v":"NA"},{"$f":"IF(C356=0,\"\",\"hp\")","v":""},{"$f":"IF(C356=0,\"NA\",IF(curve=1,cimp_mix_eq_H2O2,VLOOKUP(H2O2_cmix_size,imp_mix_cost_cl,3)))","v":"NA"},{"$f":"IF(C356=0,\"--\",IF(I356=\"contact vendor\",\"--\",C356*I356))","v":"--"},{"$f":"IF(C356=0,\"NA\",VLOOKUP(H2O2_cmix_size,imp_mix_cost_cl,IF(ss_cat=\"large\",4,5)))","v":"NA"},null,{"$f":"$B$324&\" - \"&$B$353&\" - \"&B356","v":"Mixers - Mixers for Hydrogen Peroxide Storage Tanks - Impeller"},2,2,2,2,2,2,2,2,2,0,0]
[7.9,"Mixers for Hydrogen Peroxide Day Tanks",null,null,null,null,null,null,null,null,null,null,null,null,null,null,null,null,null,null,null,null,0,0]
["7.9.1","Portable",{"$f":"H2O2_dmixers","v":0},"units",{"$f":"IF(C358=0,\"NA\",H2O2_dmix_size)","v":"NA"},{"$f":"IF(C358=0,\"\",\"hp\")","v":""},{"$f":"IF(C358=0,\"NA\",VLOOKUP(H2O2_dmix_size,port_mix_cost_cl,2))","v":"NA"},{"$f":"IF(C358=0,\"\",\"hp\")","v":""},{"$f":"IF(C358=0,\"NA\",VLOOKUP(H2O2_dmix_size,port_mix_cost_cl,3))","v":"NA"},{"$f":"IF(C358=0,\"--\",IF(I358=\"contact vendor\",\"--\",C358*I358))","v":"--"},{"$f":"IF(C358=0,\"NA\",VLOOKUP(H2O2_dmix_size,port_mix_cost_cl,IF(ss_cat=\"large\",4,5)))","v":"NA"},null,{"$f":"$B$324&\" - \"&$B$357&\" - \"&B358","v":"Mixers - Mixers for Hydrogen Peroxide Day Tanks - Portable"},3,3,3,3,3,3,3,3,3,0,0]
["7.9.1","Mounted",{"$f":"H2O2_dmixers","v":0},"units",{"$f":"IF(C359=0,\"NA\",H2O2_dmix_size)","v":"NA"},{"$f":"IF(C359=0,\"\",\"hp\")","v":""},{"$f":"IF(C359=0,\"NA\",IF(curve=1,H2O2_dmix_size,VLOOKUP(H2O2_dmix_size,mount_mix_cost_cl,2)))","v":"NA"},{"$f":"IF(C359=0,\"\",\"hp\")","v":""},{"$f":"IF(C359=0,\"NA\",IF(curve=1,dmount_mix_eq_H2O2,VLOOKUP(H2O2_dmix_size,mount_mix_cost_cl,3)))","v":"NA"},{"$f":"IF(C359=0,\"--\",IF(I359=\"contact vendor\",\"--\",C359*I359))","v":"--"},{"$f":"IF(C359=0,\"NA\",VLOOKUP(H2O2_dmix_size,mount_mix_cost_cl,IF(ss_cat=\"large\",4,5)))","v":"NA"},null,{"$f":"$B$324&\" - \"&$B$357&\" - \"&B359","v":"Mixers - Mixers for Hydrogen Peroxide Day Tanks - Mounted"},1,1,1,1,1,1,1,1,1,0,0]
["7.9.1","Impeller",{"$f":"H2O2_dmixers","v":0},"units",{"$f":"IF(C360=0,\"NA\",H2O2_dmix_size)","v":"NA"},{"$f":"IF(C360=0,\"\",\"hp\")","v":""},{"$f":"IF(C360=0,\"NA\",IF(curve=1,H2O2_dmix_size,VLOOKUP(H2O2_dmix_size,imp_mix_cost_cl,2)))","v":"NA"},{"$f":"IF(C360=0,\"\",\"hp\")","v":""},{"$f":"IF(C360=0,\"NA\",IF(curve=1,dimp_mix_eq_H2O2,VLOOKUP(H2O2_dmix_size,imp_mix_cost_cl,3)))","v":"NA"},{"$f":"IF(C360=0,\"--\",IF(I360=\"contact vendor\",\"--\",C360*I360))","v":"--"},{"$f":"IF(C360=0,\"NA\",VLOOKUP(H2O2_dmix_size,imp_mix_cost_cl,IF(ss_cat=\"large\",4,5)))","v":"NA"},null,{"$f":"$B$324&\" - \"&$B$357&\" - \"&B360","v":"Mixers - Mixers for Hydrogen Peroxide Day Tanks - Impeller"},2,2,2,2,2,2,2,2,2,0,0]
["7.10","Static Mixer for Hydrogen Peroxide"]
["7.10.1","Plastic",{"$f":"H2O2_mixers","v":0},"units",{"$f":"IF(C362=0,\"NA\",mixer_size)","v":"NA"},{"$f":"IF(C362=0,\"\",\"in.diam\")","v":""},{"$f":"IF(C362=0,\"NA\",IF(curve=1,mixer_size,VLOOKUP(mixer_size,pl_in_mix_cost_cl,2)))","v":"NA"},{"$f":"IF(C362=0,\"\",\"in.diam\")","v":""},{"$f":"IF(C362=0,\"NA\",IF(curve=1,pl_in_mix_eq,VLOOKUP(mixer_size,pl_in_mix_cost_cl,3)))","v":"NA"},{"$f":"IF(C362=0,\"--\",IF(I362=\"contact vendor\",\"--\",C362*I362))","v":"--"},{"$f":"IF(C362=0,\"NA\",VLOOKUP(mixer_size,pl_in_mix_cost_cl,IF(ss_cat=\"large\",4,5)))","v":"NA"},null,{"$f":"$B$324&\"  - \"&$B$361&\"  - \"&B362","v":"Mixers  - Static Mixer for Hydrogen Peroxide  - Plastic"},1,2,2,1,2,2,1,2,2,0,0]
["7.10.1","Stainless Steel",{"$f":"H2O2_mixers","v":0},"units",{"$f":"IF(C363=0,\"NA\",mixer_size)","v":"NA"},{"$f":"IF(C363=0,\"\",\"in.diam\")","v":""},{"$f":"IF(C363=0,\"NA\",IF(curve=1,mixer_size,VLOOKUP(mixer_size,in_mix_cost_cl,2)))","v":"NA"},{"$f":"IF(C363=0,\"\",\"in.diam\")","v":""},{"$f":"IF(C363=0,\"NA\",IF(curve=1,in_mix_eq,VLOOKUP(mixer_size,in_mix_cost_cl,3)))","v":"NA"},{"$f":"IF(C363=0,\"--\",IF(I363=\"contact vendor\",\"--\",C363*I363))","v":"--"},{"$f":"IF(C363=0,\"NA\",VLOOKUP(mixer_size,in_mix_cost_cl,IF(ss_cat=\"large\",4,5)))","v":"NA"},null,{"$f":"$B$324&\"  - \"&$B$361&\"  - \"&B363","v":"Mixers  - Static Mixer for Hydrogen Peroxide  - Stainless Steel"},2,1,1,2,1,1,2,1,1,{"$f":"IF(ISERROR(K363*L363),0,IF(K363<1,0,L363))","v":0},{"$f":"IF(W363,J363/K363,0)","v":0}]
[7.11,"Mixers for Polymer Storage Tanks",null,null,null,null,null,null,null,null,null,null,null,null,null,null,null,null,null,null,null,null,0,0]
["7.11.1","Portable",{"$f":"polymer_cmixers","v":0},"units",{"$f":"IF(C365=0,\"NA\",polymer_cmix_size)","v":"NA"},{"$f":"IF(C365=0,\"\",\"hp\")","v":""},{"$f":"IF(C365=0,\"NA\",VLOOKUP(polymer_cmix_size,port_mix_cost_cl,2))","v":"NA"},{"$f":"IF(C365=0,\"\",\"hp\")","v":""},{"$f":"IF(C365=0,\"NA\",VLOOKUP(polymer_cmix_size,port_mix_cost_cl,3))","v":"NA"},{"$f":"IF(C365=0,\"--\",IF(I365=\"contact vendor\",\"--\",C365*I365))","v":"--"},{"$f":"IF(C365=0,\"NA\",VLOOKUP(polymer_cmix_size,port_mix_cost_cl,IF(ss_cat=\"large\",4,5)))","v":"NA"},null,{"$f":"$B$324&\" - \"&$B$364&\" - \"&B365","v":"Mixers - Mixers for Polymer Storage Tanks - Portable"},3,3,3,3,3,3,3,3,3,0,0]
["7.11.1","Mounted",{"$f":"polymer_cmixers","v":0},"units",{"$f":"IF(C366=0,\"NA\",polymer_cmix_size)","v":"NA"},{"$f":"IF(C366=0,\"\",\"hp\")","v":""},{"$f":"IF(C366=0,\"NA\",IF(curve=1,polymer_cmix_size,VLOOKUP(polymer_cmix_size,mount_mix_cost_cl,2)))","v":"NA"},{"$f":"IF(C366=0,\"\",\"hp\")","v":""},{"$f":"IF(C366=0,\"NA\",IF(curve=1,cmount_mix_eq_polymer,VLOOKUP(polymer_cmix_size,mount_mix_cost_cl,3)))","v":"NA"},{"$f":"IF(C366=0,\"--\",IF(I366=\"contact vendor\",\"--\",C366*I366))","v":"--"},{"$f":"IF(C366=0,\"NA\",VLOOKUP(polymer_cmix_size,mount_mix_cost_cl,IF(ss_cat=\"large\",4,5)))","v":"NA"},null,{"$f":"$B$324&\" - \"&$B$364&\" - \"&B366","v":"Mixers - Mixers for Polymer Storage Tanks - Mounted"},1,1,1,1,1,1,1,1,1,0,0]
["7.11.1","Impeller",{"$f":"polymer_cmixers","v":0},"units",{"$f":"IF(C367=0,\"NA\",polymer_cmix_size)","v":"NA"},{"$f":"IF(C367=0,\"\",\"hp\")","v":""},{"$f":"IF(C367=0,\"NA\",IF(curve=1,polymer_cmix_size,VLOOKUP(polymer_cmix_size,imp_mix_cost_cl,2)))","v":"NA"},{"$f":"IF(C367=0,\"\",\"hp\")","v":""},{"$f":"IF(C367=0,\"NA\",IF(curve=1,cimp_mix_eq_polymer,VLOOKUP(polymer_cmix_size,imp_mix_cost_cl,3)))","v":"NA"},{"$f":"IF(C367=0,\"--\",IF(I367=\"contact vendor\",\"--\",C367*I367))","v":"--"},{"$f":"IF(C367=0,\"NA\",VLOOKUP(polymer_cmix_size,imp_mix_cost_cl,IF(ss_cat=\"large\",4,5)))","v":"NA"},null,{"$f":"$B$324&\" - \"&$B$364&\" - \"&B367","v":"Mixers - Mixers for Polymer Storage Tanks - Impeller"},2,2,2,2,2,2,2,2,2,0,0]
[7.12,"Coagulant Mix Tank Mixers",null,null,null,null,null,null,null,null,null,null,null,null,null,null,null,null,null,null,null,null,0,0]
["7.12.1","Portable",{"$f":"mixers","v":1},"units",{"$f":"IF(C369=0,\"NA\",mix_size)","v":0.33333333333333331},{"$f":"IF(C369=0,\"\",\"hp\")","v":"hp"},{"$f":"IF(C369=0,\"NA\",VLOOKUP(mix_size,port_mix_cost_cl,2))","v":1},{"$f":"IF(C369=0,\"\",\"hp\")","v":"hp"},{"$f":"IF(C369=0,\"NA\",VLOOKUP(mix_size,port_mix_cost_cl,3))","v":2096.6750305733167},{"$f":"IF(C369=0,\"--\",IF(I369=\"contact vendor\",\"--\",C369*I369))","v":2096.6750305733167},{"$f":"IF(C369=0,\"NA\",VLOOKUP(mix_size,port_mix_cost_cl,IF(ss_cat=\"large\",4,5)))","v":20},0,{"$f":"$B$324&\" - \"&$B$368&\" - \"&B369","v":"Mixers - Coagulant Mix Tank Mixers - Portable"},3,3,3,3,3,3,3,3,3,0,0]
["7.12.1","Mounted",{"$f":"mixers","v":1},"units",{"$f":"IF(C370=0,\"NA\",mix_size)","v":0.33333333333333331},{"$f":"IF(C370=0,\"\",\"hp\")","v":"hp"},{"$f":"IF(C370=0,\"NA\",IF(curve=1,mix_size,VLOOKUP(mix_size,mount_mix_cost_cl,2)))","v":0.33333333333333331},{"$f":"IF(C370=0,\"\",\"hp\")","v":"hp"},{"$f":"IF(C370=0,\"NA\",IF(curve=1,coag_mount_mix_eq,VLOOKUP(mix_size,mount_mix_cost_cl,3)))","v":2045.2094415407778},{"$f":"IF(C370=0,\"--\",IF(I370=\"contact vendor\",\"--\",C370*I370))","v":2045.2094415407778},{"$f":"IF(C370=0,\"NA\",VLOOKUP(mix_size,mount_mix_cost_cl,IF(ss_cat=\"large\",4,5)))","v":22},1,{"$f":"$B$324&\" - \"&$B$368&\" - \"&B370","v":"Mixers - Coagulant Mix Tank Mixers - Mounted"},1,1,1,1,1,1,1,1,1,1,92.964065524580803]
["7.12.1","Impeller",{"$f":"mixers","v":1},"units",{"$f":"IF(C371=0,\"NA\",mix_size)","v":0.33333333333333331},{"$f":"IF(C371=0,\"\",\"hp\")","v":"hp"},{"$f":"IF(C371=0,\"NA\",IF(curve=1,mix_size,VLOOKUP(mix_size,imp_mix_cost_cl,2)))","v":0.33333333333333331},{"$f":"IF(C371=0,\"\",\"hp\")","v":"hp"},{"$f":"IF(C371=0,\"NA\",IF(curve=1,coag_imp_mix_eq,VLOOKUP(mix_size,imp_mix_cost_cl,3)))","v":2203.3127885299905},{"$f":"IF(C371=0,\"--\",IF(I371=\"contact vendor\",\"--\",C371*I371))","v":2203.3127885299905},{"$f":"IF(C371=0,\"NA\",VLOOKUP(mix_size,imp_mix_cost_cl,IF(ss_cat=\"large\",4,5)))","v":20},0,{"$f":"$B$324&\" - \"&$B$368&\" - \"&B371","v":"Mixers - Coagulant Mix Tank Mixers - Impeller"},2,2,2,2,2,2,2,2,2,0,0]
[8,"Solids Transfer",null,null,null,null,null,null,null,null,null,null,null,null,null,null,null,null,null,null,null,null,0,0]
[8.1,{"$f":"CHOOSE(res_transfer_method,\"Slurry Pump System for Holding Tanks\",\"Eductors for Holding Tanks\",\"Manual holding tank solids transfer, no equipment needed\")","v":"Eductors for Holding Tanks"},{"$f":"IF(res_holding=\"none\",0,CHOOSE(res_transfer_method,res_slurry_pumps,res_eductors,0))","v":1},"units",{"$f":"IF(C373=0,\"NA\",CHOOSE(res_transfer_method,res_transfer_rate,res_eductor_size,\"NA\"))","v":1.5},{"$f":"IF(C373=0,\"\",CHOOSE(res_transfer_method,\"lbs/hr\",\"in. diam\",\"\"))","v":"in. diam"},{"$f":"IF(C373=0,\"NA\",CHOOSE(res_transfer_method,IF(curve=1,res_transfer_rate,VLOOKUP(res_transfer_rate,gac_slurry_cost_cl,2)),IF(curve=1,res_eductor_size,VLOOKUP(res_eductor_size,seductor_cost_cl,2)),\"NA\"))","v":1.5},{"$f":"IF(C373=0,\"\",CHOOSE(res_transfer_method,\"lbs/hr\",\"in. diam\",\"\"))","v":"in. diam"},{"$f":"IF(C373=0,\"NA\",CHOOSE(res_transfer_method,IF(curve=1,res_slurry_eq,VLOOKUP(res_transfer_rate,gac_slurry_cost_cl,3)),IF(curve=1,res_seductor_eq,VLOOKUP(res_eductor_size,seductor_cost_cl,3)),\"NA\"))","v":1689.7027173774995},{"$f":"IF(C373=0,0,CHOOSE(res_transfer_method,IF(I373=\"contact vendor\",\"--\",C373*I373),IF(I373=\"contact vendor\",\"--\",C373*I373),0))","v":1689.7027173774995},{"$f":"IF(C373=0,\"NA\",VLOOKUP(E373,CHOOSE(res_transfer_method,gac_slurry_cost_cl,seductor_cost_cl),IF(ss_cat=\"large\",4,5)))","v":40},1,{"$f":"$B$372&\" - \"&B373","v":"Solids Transfer - Eductors for Holding Tanks"},1,1,1,1,1,1,1,1,1,{"$f":"IF(ISERROR(K373*L373),0,IF(K373<1,0,L373))","v":1},{"$f":"IF(W373,J373/K373,0)","v":42.242567934437488}]
[8.1999999999999993,"Dry Feeders for Filter Coagulant Addition",null,null,null,null,null,null,null,null,null,null,null,null,null,null,null,null,null,null,null,null,0,0]
["8.2.1","Volumetric Feeder",{"$f":"vol_feed_filt","v":1},"units",{"$f":"IF(C375=0,\"NA\",vol_feed_rate_filt)","v":4.0406976744186046E-5},{"$f":"IF(C375=0,\"\",\"cfm\")","v":"cfm"},{"$f":"IF(C375=0,\"NA\",VLOOKUP(vol_feed_rate_filt,vol_feed_cost_cl,2))","v":5.0000000000000001E-4},{"$f":"IF(C375=0,\"\",\"cfm\")","v":"cfm"},{"$f":"IF(C375=0,\"NA\",IF(curve=1,vol_feed_eq_filt, VLOOKUP(vol_feed_rate_filt,vol_feed_cost_cl,3)))","v":15176.868908688688},{"$f":"IF(OR(I375=\"contact vendor\",C375=0),\"--\",C375*I375)","v":15176.868908688688},{"$f":"IF(C375=0,\"NA\",VLOOKUP(vol_feed_rate_filt,vol_feed_cost_cl,IF(ss_cat=\"large\",4,5)))","v":20},1,{"$f":"$B$372 & \" - \" &  B374 & \" - \"& B375","v":"Solids Transfer - Dry Feeders for Filter Coagulant Addition - Volumetric Feeder"},1,1,1,1,1,1,1,1,1,1,758.84344543443444]
["8.2.1","Gravimetric Feeder",{"$f":"grav_feed_filt","v":1},"units",{"$f":"IF(C376=0,\"NA\",grav_feed_rate_filt)","v":1.7375000000000001E-3},{"$f":"IF(C376=0,\"\",\"lbs/min\")","v":"lbs/min"},{"$f":"IF(C376=0,\"NA\",VLOOKUP(grav_feed_rate,grav_feed_cost_cl,2))","v":0.02},{"$f":"IF(C376=0,\"\",\"lbs/min\")","v":"lbs/min"},{"$f":"IF(C376=0,\"NA\",VLOOKUP(grav_feed_rate,grav_feed_cost_cl,3))","v":33883.451182143777},{"$f":"IF(OR(I376=\"contact vendor\",C376=0),\"--\",C376*I376)","v":33883.451182143777},{"$f":"IF(C376=0,\"NA\",VLOOKUP(grav_feed_rate,grav_feed_cost_cl,IF(ss_cat=\"large\",4,5)))","v":20},0,{"$f":"$B$372 & \" - \" &  B374 & \" - \"& B376","v":"Solids Transfer - Dry Feeders for Filter Coagulant Addition - Gravimetric Feeder"},2,2,2,2,2,2,2,2,2,0,0]
[8.3000000000000007,"Dry Feeders for Residuals Coagulant Addition",null,null,null,null,null,null,null,null,null,null,null,null,null,null,null,null,null,null,null,null,0,0]
["8.3.1","Volumetric Feeder",{"$f":"IF(coag_res=1,IF(res_holding=\"tanks\",htanks,IF(res_holding=\"basins\",hbasins,0)),0)","v":0},"units",{"$f":"IF(C378=0,\"NA\",vol_feed_rate)","v":"NA"},{"$f":"IF(C378=0,\"\",\"cfm\")","v":""},{"$f":"IF(C378=0,\"NA\",VLOOKUP(vol_feed_rate,vol_feed_cost_cl,2))","v":"NA"},{"$f":"IF(C378=0,\"\",\"cfm\")","v":""},{"$f":"IF(C378=0,\"NA\",IF(curve=1,vol_feed_eq, VLOOKUP(vol_feed_rate,vol_feed_cost_cl,3)))","v":"NA"},{"$f":"IF(OR(I378=\"contact vendor\",C378=0),\"--\",C378*I378)","v":"--"},{"$f":"IF(C378=0,\"NA\",VLOOKUP(vol_feed_rate,vol_feed_cost_cl,IF(ss_cat=\"large\",4,5)))","v":"NA"},null,{"$f":"$B$372 & \" - \" &  B377 & \" - \"& B378","v":"Solids Transfer - Dry Feeders for Residuals Coagulant Addition - Volumetric Feeder"},1,1,1,1,1,1,1,1,1,0,0]
["8.3.1","Gravimetric Feeder",{"$f":"IF(coag_res=1,IF(res_holding=\"tanks\",htanks,IF(res_holding=\"basins\",hbasins,0)),0)","v":0},"units",{"$f":"IF(C379=0,\"NA\",grav_feed_rate)","v":"NA"},{"$f":"IF(C379=0,\"\",\"lbs/min\")","v":""},{"$f":"IF(C379=0,\"NA\",VLOOKUP(grav_feed_rate,grav_feed_cost_cl,2))","v":"NA"},{"$f":"IF(C379=0,\"\",\"lbs/min\")","v":""},{"$f":"IF(C379=0,\"NA\",VLOOKUP(grav_feed_rate,grav_feed_cost_cl,3))","v":"NA"},{"$f":"IF(OR(I379=\"contact vendor\",C379=0),\"--\",C379*I379)","v":"--"},{"$f":"IF(C379=0,\"NA\",VLOOKUP(grav_feed_rate,grav_feed_cost_cl,IF(ss_cat=\"large\",4,5)))","v":"NA"},null,{"$f":"$B$372 & \" - \" &  B377 & \" - \"& B379","v":"Solids Transfer - Dry Feeders for Residuals Coagulant Addition - Gravimetric Feeder"},2,2,2,2,2,2,2,2,2,0,0]
[9,"Instrumentation",null,null,null,null,null,null,null,null,null,null,null,null,null,null,null,null,null,null,null,null,0,0]
[9.1,"Flow Meters - Inlet and Outlet",null,null,null,null,null,null,null,null,null,null,null,null,null,null,null,null,null,null,null,null,0,0]
["9.1.1","Orifice Plate",{"$f":"tot_fm_in","v":1},"units",{"$f":"in_meter_size","v":1.5},"in. diam",{"$f":"IF(curve=1,in_meter_size,VLOOKUP(in_meter_size,op_fm_cost_cl,2))","v":1.5},"in. diam",{"$f":"IF(curve=1,op_fm_eq_in,VLOOKUP(in_meter_size,op_fm_cost_cl,3))","v":3103.7809209028751},{"$f":"IF(I382=\"contact vendor\",\"--\",C382*I382)","v":3103.7809209028751},{"$f":"VLOOKUP(in_meter_size,op_fm_cost_cl,IF(ss_cat=\"large\",4,5))","v":14},0,{"$f":"$B$380&\" - \"&$B$381&\" - \"&B382","v":"Instrumentation - Flow Meters - Inlet and Outlet - Orifice Plate"},3,4,4,3,4,4,3,3,4,0,0]
["9.1.1","Propeller",{"$f":"tot_fm_in","v":1},"units",{"$f":"in_meter_size","v":1.5},"in. diam",{"$f":"IF(curve=1,in_meter_size,VLOOKUP(in_meter_size,prop_fm_cost_cl,2))","v":1.5},"in. diam",{"$f":"IF(curve=1,prop_fm_eq_in,VLOOKUP(in_meter_size,prop_fm_cost_cl,3))","v":2238.76102168325},{"$f":"IF(I383=\"contact vendor\",\"--\",C383*I383)","v":2238.76102168325},{"$f":"VLOOKUP(in_meter_size,prop_fm_cost_cl,IF(ss_cat=\"large\",4,5))","v":14},1,{"$f":"$B$380&\" - \"&$B$381&\" - \"&B383","v":"Instrumentation - Flow Meters - Inlet and Outlet - Propeller"},1,2,3,1,2,3,4,4,2,1,159.91150154880356]
["9.1.1","Venturi",{"$f":"tot_fm_in","v":1},"units",{"$f":"in_meter_size","v":1.5},"in. diam",{"$f":"IF(curve=1,in_meter_size,VLOOKUP(in_meter_size,ven_fm_cost_cl,2))","v":1.5},"in. diam",{"$f":"IF(curve=1,ven_fm_eq_in,VLOOKUP(in_meter_size,ven_fm_cost_cl,3))","v":4301.7135487650003},{"$f":"IF(I384=\"contact vendor\",\"--\",C384*I384)","v":4301.7135487650003},{"$f":"VLOOKUP(in_meter_size,ven_fm_cost_cl,IF(ss_cat=\"large\",4,5))","v":14},0,{"$f":"$B$380&\" - \"&$B$381&\" - \"&B384","v":"Instrumentation - Flow Meters - Inlet and Outlet - Venturi"},2,1,2,2,1,2,1,2,3,0,0]
["9.1.1","Magnetic",{"$f":"tot_fm_in","v":1},"units",{"$f":"in_meter_size","v":1.5},"in. diam",{"$f":"IF(curve=1,in_meter_size,VLOOKUP(in_meter_size,mag_fm_cost_cl,2))","v":1.5},"in. diam",{"$f":"IF(curve=1,mag_fm_eq_in,VLOOKUP(in_meter_size,mag_fm_cost_cl,3))","v":4034.9568023265001},{"$f":"IF(I385=\"contact vendor\",\"--\",C385*I385)","v":4034.9568023265001},{"$f":"VLOOKUP(in_meter_size,mag_fm_cost_cl,IF(ss_cat=\"large\",4,5))","v":14},0,{"$f":"$B$380&\" - \"&$B$381&\" - \"&B385","v":"Instrumentation - Flow Meters - Inlet and Outlet - Magnetic"},4,3,1,4,3,1,2,1,1,0,0]
[9.1999999999999993,"Flow Meters - Process",null,null,null,null,null,null,null,null,null,null,null,null,null,null,null,null,null,null,null,null,0,0]
["9.2.1","Orifice Plate",{"$f":"tot_fm_proc","v":0},"units",{"$f":"proc_meter_size","v":1.5},"in. diam",{"$f":"IF(curve=1,proc_meter_size,VLOOKUP(proc_meter_size,op_fm_cost_cl,2))","v":1.5},"in. diam",{"$f":"IF(curve=1,op_fm_eq_proc,VLOOKUP(proc_meter_size,op_fm_cost_cl,3))","v":3103.7809209028751},{"$f":"IF(I387=\"contact vendor\",\"--\",C387*I387)","v":0},{"$f":"VLOOKUP(proc_meter_size,op_fm_cost_cl,IF(ss_cat=\"large\",4,5))","v":14},null,{"$f":"$B$380&\" - \"&$B$386&\" - \"&B387","v":"Instrumentation - Flow Meters - Process - Orifice Plate"},3,4,4,3,4,4,3,3,4,0,0]
["9.2.1","Propeller",{"$f":"tot_fm_proc","v":0},"units",{"$f":"proc_meter_size","v":1.5},"in. diam",{"$f":"IF(curve=1,proc_meter_size,VLOOKUP(proc_meter_size,prop_fm_cost_cl,2))","v":1.5},"in. diam",{"$f":"IF(curve=1,prop_fm_eq_proc,VLOOKUP(proc_meter_size,prop_fm_cost_cl,3))","v":2238.76102168325},{"$f":"IF(I388=\"contact vendor\",\"--\",C388*I388)","v":0},{"$f":"VLOOKUP(proc_meter_size,prop_fm_cost_cl,IF(ss_cat=\"large\",4,5))","v":14},null,{"$f":"$B$380&\" - \"&$B$386&\" - \"&B388","v":"Instrumentation - Flow Meters - Process - Propeller"},1,2,3,1,2,3,4,4,2,0,0]
["9.2.1","Venturi",{"$f":"tot_fm_proc","v":0},"units",{"$f":"proc_meter_size","v":1.5},"in. diam",{"$f":"IF(curve=1,proc_meter_size,VLOOKUP(proc_meter_size,ven_fm_cost_cl,2))","v":1.5},"in. diam",{"$f":"IF(curve=1,ven_fm_eq_proc,VLOOKUP(proc_meter_size,ven_fm_cost_cl,3))","v":4301.7135487650003},{"$f":"IF(I389=\"contact vendor\",\"--\",C389*I389)","v":0},{"$f":"VLOOKUP(proc_meter_size,ven_fm_cost_cl,IF(ss_cat=\"large\",4,5))","v":14},null,{"$f":"$B$380&\" - \"&$B$386&\" - \"&B389","v":"Instrumentation - Flow Meters - Process - Venturi"},2,1,2,2,1,2,1,2,3,0,0]
["9.2.1","Magnetic",{"$f":"tot_fm_proc","v":0},"units",{"$f":"proc_meter_size","v":1.5},"in. diam",{"$f":"IF(curve=1,proc_meter_size,VLOOKUP(proc_meter_size,mag_fm_cost_cl,2))","v":1.5},"in. diam",{"$f":"IF(curve=1,mag_fm_eq_proc,VLOOKUP(proc_meter_size,mag_fm_cost_cl,3))","v":4034.9568023265001},{"$f":"IF(I390=\"contact vendor\",\"--\",C390*I390)","v":0},{"$f":"VLOOKUP(proc_meter_size,mag_fm_cost_cl,IF(ss_cat=\"large\",4,5))","v":14},null,{"$f":"$B$380&\" - \"&$B$386&\" - \"&B390","v":"Instrumentation - Flow Meters - Process - Magnetic"},4,3,1,4,3,1,2,1,1,0,0]
[9.3000000000000007,"Flow Meters - Backwash",null,null,null,null,null,null,null,null,null,null,null,null,null,null,null,null,null,null,null,null,0,0]
["9.3.1","Orifice Plate",{"$f":"tot_fm_back","v":1},"units",{"$f":"back_meter_size","v":4},"in. diam",{"$f":"IF(curve=1,back_meter_size,VLOOKUP(back_meter_size,op_fm_cost_cl,2))","v":4},"in. diam",{"$f":"IF(curve=1,op_fm_eq_back,VLOOKUP(back_meter_size,op_fm_cost_cl,3))","v":3977.9851215060003},{"$f":"IF(I392=\"contact vendor\",\"--\",C392*I392)","v":3977.9851215060003},{"$f":"VLOOKUP(back_meter_size,op_fm_cost_cl,IF(ss_cat=\"large\",4,5))","v":14},0,{"$f":"$B$380&\" - \"&$B$391&\" - \"&B392","v":"Instrumentation - Flow Meters - Backwash - Orifice Plate"},3,4,4,3,4,4,3,3,4,0,0]
["9.3.1","Propeller",{"$f":"tot_fm_back","v":1},"units",{"$f":"back_meter_size","v":4},"in. diam",{"$f":"IF(curve=1,back_meter_size,VLOOKUP(back_meter_size,prop_fm_cost_cl,2))","v":4},"in. diam",{"$f":"IF(curve=1,prop_fm_eq_back,VLOOKUP(back_meter_size,prop_fm_cost_cl,3))","v":3644.5330966820002},{"$f":"IF(I393=\"contact vendor\",\"--\",C393*I393)","v":3644.5330966820002},{"$f":"VLOOKUP(back_meter_size,prop_fm_cost_cl,IF(ss_cat=\"large\",4,5))","v":14},1,{"$f":"$B$380&\" - \"&$B$391&\" - \"&B393","v":"Instrumentation - Flow Meters - Backwash - Propeller"},1,2,3,1,2,3,4,4,2,1,260.32379262014285]
["9.3.1","Venturi",{"$f":"tot_fm_back","v":1},"units",{"$f":"back_meter_size","v":4},"in. diam",{"$f":"IF(curve=1,back_meter_size,VLOOKUP(back_meter_size,ven_fm_cost_cl,2))","v":4},"in. diam",{"$f":"IF(curve=1,ven_fm_eq_back,VLOOKUP(back_meter_size,ven_fm_cost_cl,3))","v":9686.3106108899992},{"$f":"IF(I394=\"contact vendor\",\"--\",C394*I394)","v":9686.3106108899992},{"$f":"VLOOKUP(back_meter_size,ven_fm_cost_cl,IF(ss_cat=\"large\",4,5))","v":14},0,{"$f":"$B$380&\" - \"&$B$391&\" - \"&B394","v":"Instrumentation - Flow Meters - Backwash - Venturi"},2,1,2,2,1,2,1,2,3,0,0]
["9.3.1","Magnetic",{"$f":"tot_fm_back","v":1},"units",{"$f":"back_meter_size","v":4},"in. diam",{"$f":"IF(curve=1,back_meter_size,VLOOKUP(back_meter_size,mag_fm_cost_cl,2))","v":4},"in. diam",{"$f":"IF(curve=1,mag_fm_eq_back,VLOOKUP(back_meter_size,mag_fm_cost_cl,3))","v":5301.2538759190002},{"$f":"IF(I395=\"contact vendor\",\"--\",C395*I395)","v":5301.2538759190002},{"$f":"VLOOKUP(back_meter_size,mag_fm_cost_cl,IF(ss_cat=\"large\",4,5))","v":14},0,{"$f":"$B$380&\" - \"&$B$391&\" - \"&B395","v":"Instrumentation - Flow Meters - Backwash - Magnetic"},4,3,1,4,3,1,2,1,1,0,0]
[9.4,"Flow Meters - Residuals",null,null,null,null,null,null,null,null,null,null,null,null,null,null,null,null,null,null,null,null,0,0]
["9.4.1","Orifice Plate",{"$f":"tot_fm_res","v":1},"units",{"$f":"res_meter_size","v":1},"in. diam",{"$f":"IF(curve=1,res_meter_size,VLOOKUP(res_meter_size,op_fm_cost_cl,2))","v":1},"in. diam",{"$f":"IF(curve=1,op_fm_eq_res,VLOOKUP(res_meter_size,op_fm_cost_cl,3))","v":2923.1429589270001},{"$f":"IF(I397=\"contact vendor\",\"--\",C397*I397)","v":2923.1429589270001},{"$f":"VLOOKUP(res_meter_size,op_fm_cost_cl,IF(ss_cat=\"large\",4,5))","v":14},0,{"$f":"$B$380&\" - \"&$B$396&\" - \"&B397","v":"Instrumentation - Flow Meters - Residuals - Orifice Plate"},3,4,4,3,4,4,3,3,4,0,0]
["9.4.1","Propeller",{"$f":"tot_fm_res","v":1},"units",{"$f":"res_meter_size","v":1},"in. diam",{"$f":"IF(curve=1,res_meter_size,VLOOKUP(res_meter_size,prop_fm_cost_cl,2))","v":1},"in. diam",{"$f":"IF(curve=1,prop_fm_eq_res,VLOOKUP(res_meter_size,prop_fm_cost_cl,3))","v":1786.0999188350002},{"$f":"IF(I398=\"contact vendor\",\"--\",C398*I398)","v":1786.0999188350002},{"$f":"VLOOKUP(res_meter_size,prop_fm_cost_cl,IF(ss_cat=\"large\",4,5))","v":14},1,{"$f":"$B$380&\" - \"&$B$396&\" - \"&B398","v":"Instrumentation - Flow Meters - Residuals - Propeller"},1,2,3,1,2,3,4,4,2,1,127.57856563107144]
["9.4.1","Venturi",{"$f":"tot_fm_res","v":1},"units",{"$f":"res_meter_size","v":1},"in. diam",{"$f":"IF(curve=1,res_meter_size,VLOOKUP(res_meter_size,ven_fm_cost_cl,2))","v":1},"in. diam",{"$f":"IF(curve=1,ven_fm_eq_res,VLOOKUP(res_meter_size,ven_fm_cost_cl,3))","v":2912.0296722540002},{"$f":"IF(I399=\"contact vendor\",\"--\",C399*I399)","v":2912.0296722540002},{"$f":"VLOOKUP(res_meter_size,ven_fm_cost_cl,IF(ss_cat=\"large\",4,5))","v":14},0,{"$f":"$B$380&\" - \"&$B$396&\" - \"&B399","v":"Instrumentation - Flow Meters - Residuals - Venturi"},2,1,2,2,1,2,1,2,3,0,0]
["9.4.1","Magnetic",{"$f":"tot_fm_res","v":1},"units",{"$f":"res_meter_size","v":1},"in. diam",{"$f":"IF(curve=1,res_meter_size,VLOOKUP(res_meter_size,mag_fm_cost_cl,2))","v":1},"in. diam",{"$f":"IF(curve=1,mag_fm_eq_res,VLOOKUP(res_meter_size,mag_fm_cost_cl,3))","v":3868.0605359200003},{"$f":"IF(I400=\"contact vendor\",\"--\",C400*I400)","v":3868.0605359200003},{"$f":"VLOOKUP(res_meter_size,mag_fm_cost_cl,IF(ss_cat=\"large\",4,5))","v":14},0,{"$f":"$B$380&\" - \"&$B$396&\" - \"&B400","v":"Instrumentation - Flow Meters - Residuals - Magnetic"},4,3,1,4,3,1,2,1,1,0,0]
[9.5,"Level Switch/Alarm (for vessels)",{"$f":"tot_level_switch","v":0},"units","NA",null,"NA",null,{"$f":"IF(C401=0,\"NA\",VLOOKUP(0,alarm_cost_cl,3))","v":"NA"},{"$f":"IF(OR(I401=\"contact vendor\",I401=\"NA\"),\"--\",C401*I401)","v":"--"},{"$f":"IF(C401=0,\"NA\",VLOOKUP(0,alarm_cost_cl,IF(ss_cat=\"large\",4,5)))","v":"NA"},null,{"$f":"$B$380&\" - \"&B401","v":"Instrumentation - Level Switch/Alarm (for vessels)"},1,1,1,1,1,1,1,1,1,0,0]
[9.6,"High/Low Alarm (for backwash tanks)",{"$f":"tot_back_alarm","v":0},"units","NA",null,"NA",null,{"$f":"IF(C402=0,\"NA\",VLOOKUP(0,alarm_cost_cl,3))","v":"NA"},{"$f":"IF(OR(I402=\"contact vendor\",I402=\"NA\"),\"--\",C402*I402)","v":"--"},{"$f":"IF(C402=0,\"NA\",VLOOKUP(0,alarm_cost_cl,IF(ss_cat=\"large\",4,5)))","v":"NA"},null,{"$f":"$B$380&\" - \"&B402","v":"Instrumentation - High/Low Alarm (for backwash tanks)"},1,1,1,1,1,1,1,1,1,0,0]
[9.6999999999999993,"High/Low Alarm (for holding tanks)",{"$f":"tot_res_alarm","v":1},"units","NA",null,"NA",null,{"$f":"IF(C403=0,\"NA\",VLOOKUP(0,alarm_cost_cl,3))","v":592.57106898296445},{"$f":"IF(OR(I403=\"contact vendor\",I403=\"NA\"),\"--\",C403*I403)","v":592.57106898296445},{"$f":"IF(C403=0,\"NA\",VLOOKUP(0,alarm_cost_cl,IF(ss_cat=\"large\",4,5)))","v":14},1,{"$f":"$B$380&\" - \"&B403","v":"Instrumentation - High/Low Alarm (for holding tanks)"},1,1,1,1,1,1,1,1,1,1,42.326504927354605]
[9.8000000000000007,"Temperature meters",{"$f":"tot_temp_meters","v":4},"units","NA",null,"NA",null,{"$f":"VLOOKUP(0,temp_meter_cost_cl,3)","v":593.29510833944676},{"$f":"IF(I404=\"contact vendor\",\"--\",C404*I404)","v":2373.180433357787},{"$f":"VLOOKUP(0,temp_meter_cost_cl,IF(ss_cat=\"large\",4,5))","v":14},1,{"$f":"$B$380&\" - \"&B404","v":"Instrumentation - Temperature meters"},1,1,1,1,1,1,1,1,1,1,169.5128880969848]
[9.9,"Head loss sensors",{"$f":"tot_head_sens","v":2},"units","NA",null,"NA",null,{"$f":"VLOOKUP(0,headloss_cost_cl,3)","v":2121.0930305173688},{"$f":"IF(I405=\"contact vendor\",\"--\",C405*I405)","v":4242.1860610347376},{"$f":"VLOOKUP(0,headloss_cost_cl,IF(ss_cat=\"large\",4,5))","v":14},1,{"$f":"$B$380&\" - \"&B405","v":"Instrumentation - Head loss sensors"},1,1,1,1,1,1,1,1,1,1,303.01329007390984]
["9.10","Sampling Ports",null,null,null,null,null,null,null,null,null,null,null,null,null,null,null,null,null,null,null,null,0,0]
["9.10.1","Stainless Steel",{"$f":"ports","v":7},"units","NA",null,"NA",null,50,{"$f":"IF(I407=\"contact vendor\",\"--\",C407*I407)","v":350},{"$f":"IF(ss_cat=\"large\",35,30)","v":30},1,{"$f":"$B$380&\" - \"&$B$406&\" - \"&B407","v":"Instrumentation - Sampling Ports - Stainless Steel"},1,2,2,1,2,2,1,2,2,1,11.666666666666666]
["9.10.1","Carbon Steel",{"$f":"ports","v":7},"units","NA",null,"NA",null,50,350,{"$f":"IF(ss_cat=\"large\",25,22)","v":22},0,{"$f":"$B$380&\" - \"&$B$406&\" - \"&B408","v":"Instrumentation - Sampling Ports - Carbon Steel"},2,1,1,2,1,1,2,1,1,0,0]
[9.11,"Electrical Enclosure",{"$f":"elec_encl","v":0},"units","NA",null,"NA",null,{"$f":"VLOOKUP(0,elec_encl_cost_cl,3)","v":1201.1687264911338},0,{"$f":"VLOOKUP(0,elec_encl_cost_cl,IF(ss_cat=\"large\",4,5))","v":17},null,{"$f":"$B$380&\" - \"&B409","v":"Instrumentation - Electrical Enclosure"},1,1,1,1,1,1,1,1,1,0,0]
[9.1199999999999992,"ORP sensor",{"$f":"ORP_sensor","v":2},"units","NA",null,"NA",null,{"$f":"VLOOKUP(0,pH_meter_cost_cl,3)","v":2632.3973326835253},5264.7946653670506,{"$f":"VLOOKUP(0,pH_meter_cost_cl,IF(ss_cat=\"large\",4,5))","v":14},1,"Instrumentation - ORP sensor",1,1,1,1,1,1,1,1,1,1,376.05676181193218]
[9.1300000000000008,"pH Meters",{"$f":"pH_controls","v":0},"units","NA",null,"NA",null,{"$f":"VLOOKUP(0,pH_meter_cost_cl,3)","v":2632.3973326835253},0,{"$f":"VLOOKUP(0,pH_meter_cost_cl,IF(ss_cat=\"large\",4,5))","v":14},null,"Instrumentation - pH Meters",1,1,1,1,1,1,1,1,1,0,0]
[9.14,"Turbidity meters",{"$f":"tot_turb_meters","v":4},"units","NA",null,"NA",null,{"$f":"VLOOKUP(0,turbidimeter_cost_cl,3)","v":5223.1635202481766},20892.654080992706,{"$f":"VLOOKUP(0,turbidimeter_cost_cl,IF(ss_cat=\"large\",4,5))","v":14},1,"Instrumentation - Turbidity meters",1,1,1,1,1,1,1,1,1,1,1492.3324343566219]
[9.15,"Perchlorate/Nitrate Analyzer",{"$f":"tot_ClO4_analyzer","v":1},"units","NA",null,"NA",null,{"$f":"VLOOKUP(0,clo4analyzer_cost_cl,3)","v":24574.060480423086},24574.060480423086,{"$f":"VLOOKUP(0,clo4analyzer_cost_cl,IF(ss_cat=\"large\",4,5))","v":14},1,"Instrumentation - Perchlorate/Nitrate Analyzer",1,1,1,1,1,1,1,1,1,1,1755.2900343159347]
[9.16,"Nitrate Analyzer",{"$f":"tot_N_analyzer","v":0},"units","NA",null,"NA",null,{"$f":"VLOOKUP(0,nitrateanalyzer_cost_cl,3)","v":16356.175166544646},{"$f":"IF(I414=\"contact vendor\",\"--\",C414*I414)","v":0},{"$f":"VLOOKUP(0,nitrateanalyzer_cost_cl,IF(ss_cat=\"large\",4,5))","v":14},null,"Instrumentation - Nitrate Analyzer",1,1,1,1,1,1,1,1,1,0,0]
[9.17,"Dissolved Oxygen Analyzer",{"$f":"tot_DO_analyzer","v":1},"units","NA",null,"NA",null,{"$f":"VLOOKUP(0,doanalyzer_cost_cl,3)","v":2941.2374045056931},2941.2374045056931,{"$f":"VLOOKUP(0,doanalyzer_cost_cl,IF(ss_cat=\"large\",4,5))","v":14},1,"Instrumentation - Dissolved Oxygen Analyzer",1,1,1,1,1,1,1,1,1,1,210.08838603612094]
[10,"System Controls ",null,null,null,null,null,null,null,null,null,null,null,null,null,null,null,null,null,null,null,null,0,0]
[10.1,"PLC Unit(s)",null,null,null,null,null,null,null,null,null,null,null,null,null,null,null,null,null,null,null,null,0,0]
["10.1.1","PLC racks/power supplies",{"$f":"IF(manual=1,0,plc_rack)","v":2},"units","NA",null,"NA",null,{"$f":"IF(manual=1,\"NA\",VLOOKUP(0,plc_rack_cost_cl,3))","v":340.15912297436552},{"$f":"IF(I418=\"contact vendor\",\"--\",IF(manual=1,0,C418*I418))","v":680.31824594873103},{"$f":"IF(manual=1,\"NA\",VLOOKUP(0,plc_rack_cost_cl,IF(ss_cat=\"large\",4,5)))","v":8},1,{"$f":"$B$416&\" - \"&$B$417&\" - \"&B418","v":"System Controls  - PLC Unit(s) - PLC racks/power supplies"},1,1,1,1,1,1,1,1,1,1,85.039780743591379]
["10.1.2","CPUs",{"$f":"IF(manual=1,0,plc_cpu)","v":2},"units","NA",null,"NA",null,{"$f":"IF(manual=1,\"NA\",VLOOKUP(0,plc_cpu_cost_cl,3))","v":628.20399656420727},{"$f":"IF(I419=\"contact vendor\",\"--\",IF(manual=1,0,C419*I419))","v":1256.4079931284145},{"$f":"IF(manual=1,\"NA\",VLOOKUP(0,plc_cpu_cost_cl,IF(ss_cat=\"large\",4,5)))","v":8},1,{"$f":"$B$416&\" - \"&$B$417&\" - \"&B419","v":"System Controls  - PLC Unit(s) - CPUs"},1,1,1,1,1,1,1,1,1,1,157.05099914105182]
["10.1.3","I/O discrete input modules",{"$f":"IF(manual=1,0,plc_discrete_input)","v":2},"units","NA",null,"NA",null,{"$f":"IF(manual=1,\"NA\",VLOOKUP(0,plc_discrete_input_cost_cl,3))","v":306.87179411739436},613.74358823478872,{"$f":"IF(manual=1,\"NA\",VLOOKUP(0,plc_discrete_input_cost_cl,IF(ss_cat=\"large\",4,5)))","v":8},1,"System Controls  - PLC Unit(s) - I/O discrete input modules",1,1,1,1,1,1,1,1,1,1,76.71794852934859]
["10.1.4","I/O discrete output modules",{"$f":"IF(manual=1,0,plc_discrete_output)","v":1},"units","NA",null,"NA",null,{"$f":"IF(manual=1,\"NA\",VLOOKUP(0,plc_discrete_output_cost_cl,3))","v":374.94265970264058},{"$f":"IF(I421=\"contact vendor\",\"--\",IF(manual=1,0,C421*I421))","v":374.94265970264058},{"$f":"IF(manual=1,\"NA\",VLOOKUP(0,plc_discrete_output_cost_cl,IF(ss_cat=\"large\",4,5)))","v":8},1,"System Controls  - PLC Unit(s) - I/O discrete output modules",1,1,1,1,1,1,1,1,1,1,46.867832462830073]
["10.1.5","I/O combination analog modules",{"$f":"IF(manual=1,0,plc_combination_analog)","v":9},"units","NA",null,"NA",null,{"$f":"IF(manual=1,\"NA\",VLOOKUP(0,plc_combination_analog_cost_cl,3))","v":652.67796318607805},{"$f":"IF(I422=\"contact vendor\",\"--\",IF(manual=1,0,C422*I422))","v":5874.1016686747025},{"$f":"IF(manual=1,\"NA\",VLOOKUP(0,plc_combination_analog_cost_cl,IF(ss_cat=\"large\",4,5)))","v":8},1,"System Controls  - PLC Unit(s) - I/O combination analog modules",1,1,1,1,1,1,1,1,1,1,734.26270858433782]
["10.1.6","Ethernet modules",{"$f":"IF(manual=1,0,plc_ethernet)","v":2},"units","NA",null,"NA",null,{"$f":"IF(manual=1,\"NA\",VLOOKUP(0,plc_ethernet_cost_cl,3))","v":865.22261904631989},{"$f":"IF(I423=\"contact vendor\",\"--\",IF(manual=1,0,C423*I423))","v":1730.4452380926398},{"$f":"IF(manual=1,\"NA\",VLOOKUP(0,plc_ethernet_cost_cl,IF(ss_cat=\"large\",4,5)))","v":8},1,"System Controls  - PLC Unit(s) - Ethernet modules",1,1,1,1,1,1,1,1,1,1,216.30565476157997]
["10.1.7","Base expansion modules",{"$f":"IF(manual=1,0,plc_base_expansion)","v":1},"units","NA",null,"NA",null,{"$f":"IF(manual=1,\"NA\",VLOOKUP(0,plc_base_expansion_cost_cl,3))","v":118.37181499391322},118.37181499391322,{"$f":"IF(manual=1,\"NA\",VLOOKUP(0,plc_base_expansion_cost_cl,IF(ss_cat=\"large\",4,5)))","v":8},1,"System Controls  - PLC Unit(s) - Base expansion modules",1,1,1,1,1,1,1,1,1,1,14.796476874239152]
["10.1.8","Base expansion controller modules",{"$f":"IF(manual=1,0,plc_base_expansion_controller)","v":1},"units","NA",null,"NA",null,{"$f":"IF(manual=1,\"NA\",VLOOKUP(0,plc_base_expansion_controller_cost_cl,3))","v":85.678421835734241},85.678421835734241,{"$f":"IF(manual=1,\"NA\",VLOOKUP(0,plc_base_expansion_controller_cost_cl,IF(ss_cat=\"large\",4,5)))","v":8},1,"System Controls  - PLC Unit(s) - Base expansion controller modules",1,1,1,1,1,1,1,1,1,1,10.70980272946678]
["10.1.9","UPSs",{"$f":"IF(manual=1,0,ups)","v":1},"units","NA",null,"NA",null,{"$f":"IF(manual=1,\"NA\",VLOOKUP(0,ups_cost_cl,3))","v":563.15461702991672},{"$f":"IF(I426=\"contact vendor\",\"--\",IF(manual=1,0,C426*I426))","v":563.15461702991672},{"$f":"IF(manual=1,\"NA\",VLOOKUP(0,ups_cost_cl,IF(ss_cat=\"large\",4,5)))","v":8},1,"System Controls  - PLC Unit(s) - UPSs",1,1,1,1,1,1,1,1,1,1,70.39432712873959]
[10.199999999999999,"Operator Equipment",null,null,null,null,null,null,null,null,null,null,null,null,null,null,null,null,null,null,null,null,0,0]
["10.2.1","Drive controllers",{"$f":"IF(manual=1,0,tot_switches)","v":11},"units","NA",null,"NA",null,{"$f":"IF(manual=1,\"NA\",VLOOKUP(0,switch_cost_cl,3))","v":1072.4341728020522},{"$f":"IF(I428=\"contact vendor\",\"--\",IF(manual=1,0,C428*I428))","v":11796.775900822575},{"$f":"IF(manual=1,\"NA\",VLOOKUP(0,switch_cost_cl,IF(ss_cat=\"large\",4,5)))","v":14},1,{"$f":"$B$416&\" - \"&$B$427&\" - \"&B428","v":"System Controls  - Operator Equipment - Drive controllers"},1,1,1,1,1,1,1,1,1,1,842.62685005875539]
["10.2.2","Operator interface units",{"$f":"IF(manual=1,0,plc_interface)","v":2},"units","NA",null,"NA",null,{"$f":"IF(manual=1,\"NA\",VLOOKUP(ss_cat,plc_op_interface_cost_cl,3,FALSE))","v":1955.7290443086633},{"$f":"IF(I429=\"contact vendor\",\"--\",IF(manual=1,0,C429*I429))","v":3911.4580886173267},{"$f":"IF(manual=1,\"NA\",VLOOKUP(ss_cat,plc_op_interface_cost_cl,IF(ss_cat=\"large\",4,5),FALSE))","v":8},1,{"$f":"$B$416&\" - \"&$B$427&\" - \"&B429","v":"System Controls  - Operator Equipment - Operator interface units"},1,1,1,1,1,1,1,1,1,1,488.93226107716583]
["10.2.3","PC Workstations",{"$f":"IF(OR(manual=1,ss_cat=\"small\"),0,workstations)","v":0},"units","NA",null,"NA",null,{"$f":"IF(manual=1,\"NA\",VLOOKUP(0,pc_workstation_cost_cl,3))","v":1006.4840370291496},{"$f":"IF(I430=\"contact vendor\",\"--\",IF(manual=1,0,C430*I430))","v":0},{"$f":"IF(manual=1,\"NA\",VLOOKUP(0,pc_workstation_cost_cl,IF(ss_cat=\"large\",4,5)))","v":8},null,{"$f":"$B$416&\" - \"&$B$427&\" - \"&B430","v":"System Controls  - Operator Equipment - PC Workstations"},1,1,1,1,1,1,1,1,1,0,0]
["10.2.4","Printers - laser jet",{"$f":"IF(OR(manual=1,ss_cat=\"small\"),0,printers)","v":0},"units","NA",null,"NA",null,{"$f":"IF(manual=1,\"NA\",VLOOKUP(0,laser_printer_cost_cl,3))","v":627.16285861019526},{"$f":"IF(I431=\"contact vendor\",\"--\",IF(manual=1,0,C431*I431))","v":0},{"$f":"IF(manual=1,\"NA\",VLOOKUP(0,laser_printer_cost_cl,IF(ss_cat=\"large\",4,5)))","v":8},null,{"$f":"$B$416&\" - \"&$B$427&\" - \"&B431","v":"System Controls  - Operator Equipment - Printers - laser jet"},1,1,1,1,1,1,1,1,1,0,0]
["10.2.5","Printers - dot matrix",{"$f":"IF(OR(manual=1,ss_cat=\"small\"),0,printers)","v":0},"units","NA",null,"NA",null,{"$f":"IF(manual=1,\"NA\",VLOOKUP(0,dotmatrix_printer_cost_cl,3))","v":641.91281559323488},{"$f":"IF(I432=\"contact vendor\",\"--\",IF(manual=1,0,C432*I432))","v":0},{"$f":"IF(manual=1,\"NA\",VLOOKUP(0,dotmatrix_printer_cost_cl,IF(ss_cat=\"large\",4,5)))","v":8},null,{"$f":"$B$416&\" - \"&$B$427&\" - \"&B432","v":"System Controls  - Operator Equipment - Printers - dot matrix"},1,1,1,1,1,1,1,1,1,0,0]
[10.3,"Controls Software",null,null,null,null,null,null,null,null,null,null,null,null,null,null,null,null,null,null,null,null,0,0]
["10.3.1","Operator interface software",{"$f":"IF(OR(manual=1,ss_cat=\"small\"),0,plc_interface)","v":0},"units","NA",null,"NA",null,{"$f":"IF(manual=1,\"NA\",VLOOKUP(0,op_interface_software_cost_cl,3))","v":183.22815160365667},{"$f":"IF(I434=\"contact vendor\",\"--\",IF(manual=1,0,C434*I434))","v":0},{"$f":"IF(manual=1,\"NA\",VLOOKUP(0,op_interface_software_cost_cl,IF(ss_cat=\"large\",4,5)))","v":8},null,{"$f":"$B$416&\" - \"&$B$433&\" - \"&B434","v":"System Controls  - Controls Software - Operator interface software"},1,1,1,1,1,1,1,1,1,0,0]
["10.3.2","PLC programming software",{"$f":"IF(OR(manual=1,ss_cat=\"small\"),0,workstations)","v":0},"units","NA",null,"NA",null,{"$f":"IF(manual=1,\"NA\",VLOOKUP(0,plc_software_cost_cl,3))","v":473.69298983008503},{"$f":"IF(I435=\"contact vendor\",\"--\",IF(manual=1,0,C435*I435))","v":0},{"$f":"IF(manual=1,\"NA\",VLOOKUP(0,plc_software_cost_cl,IF(ss_cat=\"large\",4,5)))","v":8},null,{"$f":"$B$416&\" - \"&$B$433&\" - \"&B435","v":"System Controls  - Controls Software - PLC programming software"},1,1,1,1,1,1,1,1,1,0,0]
["10.3.3","PLC data collection software",{"$f":"IF(OR(manual=1,ss_cat=\"small\"),0,workstations)","v":0},"units","NA",null,"NA",null,{"$f":"IF(manual=1,\"NA\",VLOOKUP(0,plc_data_software_cost_cl,3))","v":690.22366161995012},{"$f":"IF(I436=\"contact vendor\",\"--\",IF(manual=1,0,C436*I436))","v":0},{"$f":"IF(manual=1,\"NA\",VLOOKUP(0,plc_data_software_cost_cl,IF(ss_cat=\"large\",4,5)))","v":8},null,{"$f":"$B$416&\" - \"&$B$433&\" - \"&B436","v":"System Controls  - Controls Software - PLC data collection software"},1,1,1,1,1,1,1,1,1,0,0]
["10.3.4","Plant intelligence software",{"$f":"IF(OR(manual=1,ss_cat=\"small\"),0,workstations)","v":0},"units","NA",null,"NA",null,{"$f":"IF(OR(manual=1,ss_cat=\"small\"),\"NA\",VLOOKUP(0,plant_intel_software_cost_cl,3))","v":"NA"},{"$f":"IF(I437=\"contact vendor\",\"--\",IF(OR(manual=1,ss_cat=\"small\"),0,C437*I437))","v":0},{"$f":"IF(OR(manual=1,ss_cat=\"small\"),\"NA\",VLOOKUP(0,plant_intel_software_cost_cl,IF(ss_cat=\"large\",4,5)))","v":"NA"},null,{"$f":"$B$416&\" - \"&$B$433&\" - \"&B437","v":"System Controls  - Controls Software - Plant intelligence software"},1,1,1,1,1,1,1,1,1,{"$f":"IF(ISERROR(K437*L437),0,IF(K437<1,0,L437))","v":0},{"$f":"IF(W437,J437/K437,0)","v":0}]
[11,"Building Structures and HVAC",null,null,null,null,null,null,null,null,null,null,null,null,null,null,null,null,null,null,null,null,0,0]
[11.1,"Building 1",null,null,null,null,null,null,null,null,null,null,null,null,null,null,null,null,null,null,null,null,0,0]
["11.1.1","Small Low Cost Shed",{"$f":"IF(AND(build1_fp>0,build1_fp<500),1,0)","v":1},"units",{"$f":"build1_fp","v":330},"sf",{"$f":"build1_fp","v":330},"sf",{"$f":"IF(C440=0,\"NA\",VLOOKUP(build1_fp,bldg_shed_cost_cl,3))","v":46.002457179826116},{"$f":"IF(OR(I440=\"NA\",I440=\"contact vendor\"),\"--\",G440*I440)","v":15180.810869342618},{"$f":"IF($C440=0,\"N/A\",VLOOKUP(build1_fp,bldg_shed_cost_cl,IF(ss_cat=\"large\",4,5)))","v":20},1,{"$f":"B438&\" - \"&B439&\" - \"&B440","v":"Building Structures and HVAC - Building 1 - Small Low Cost Shed"},{"$f":"IF(include_buildings=1,2,0)","v":2},2,2,2,2,2,2,2,2,1,759.04054346713087,{"$f":"IF(W440,K440,0)","v":20}]
["11.1.1","Low Quality",{"$f":"IF(build1_fp>=500,1,0)","v":0},"units",{"$f":"build1_fp","v":330},"sf",{"$f":"build1_fp","v":330},"sf",{"$f":"IF(C441=0,\"NA\",IF(curve=1,bldg_lo_eq_1,VLOOKUP(build1_fp, bldg_lo_cost_cl,3)))","v":"NA"},{"$f":"IF(OR(I441=\"NA\",I441=\"contact vendor\"),\"--\",G441*I441)","v":"--"},{"$f":"IF($C441=0,\"N/A\",VLOOKUP(build1_fp,bldg_lo_cost_cl,IF(ss_cat=\"large\",4,5)))","v":"N/A"},0,{"$f":"B438&\" - \"&B439&\" - \"&B441","v":"Building Structures and HVAC - Building 1 - Low Quality"},{"$f":"include_buildings","v":1},null,null,{"$f":"include_buildings","v":1},null,null,{"$f":"include_buildings","v":1},null,null,0,0,{"$f":"IF(W441,K441,0)","v":0}]
["11.1.1","Medium Quality",{"$f":"IF(build1_fp>=500,1,0)","v":0},"units",{"$f":"build1_fp","v":330},"sf",{"$f":"build1_fp","v":330},"sf",{"$f":"IF(C442=0,\"NA\",IF(curve=1,bldg_mid_eq_1,VLOOKUP(build1_fp, bldg_mid_cost_cl,3)))","v":"NA"},{"$f":"IF(OR(I442=\"NA\",I442=\"contact vendor\"),\"--\",G442*I442)","v":"--"},{"$f":"IF($C442=0,\"N/A\",VLOOKUP(build1_fp,bldg_mid_cost_cl,IF(ss_cat=\"large\",4,5)))","v":"N/A"},0,{"$f":"B438&\" - \"&B439&\" - \"&B442","v":"Building Structures and HVAC - Building 1 - Medium Quality"},null,{"$f":"include_buildings","v":1},null,null,{"$f":"include_buildings","v":1},null,null,{"$f":"include_buildings","v":1},null,0,0,{"$f":"IF(W442,K442,0)","v":0}]
["11.1.1","High Quality",{"$f":"IF(build1_fp>=500,1,0)","v":0},"units",{"$f":"build1_fp","v":330},"sf",{"$f":"build1_fp","v":330},"sf",{"$f":"IF(C443=0,\"NA\",IF(curve=1,bldg_hi_eq_1,VLOOKUP(build1_fp, bldg_hi_cost_cl,3)))","v":"NA"},{"$f":"IF(OR(I443=\"NA\",I443=\"contact vendor\"),\"--\",G443*I443)","v":"--"},{"$f":"IF($C443=0,\"N/A\",VLOOKUP(build1_fp,bldg_hi_cost_cl,IF(ss_cat=\"large\",4,5)))","v":"N/A"},0,{"$f":"B438&\" - \"&B439&\" - \"&B443","v":"Building Structures and HVAC - Building 1 - High Quality"},null,null,{"$f":"include_buildings","v":1},null,null,{"$f":"include_buildings","v":1},null,null,{"$f":"include_buildings","v":1},0,0,{"$f":"IF(W443,K443,0)","v":0}]
["11.1.2",{"$f":"\"Heating System\"&IF(build1_heat=\"heat pump\",\" (included with cooling system)\",\"\")","v":"Heating System"},null,null,null,null,null,null,null,null,null,null,null,null,null,null,null,null,null,null,null,null,0,0]
["11.1.2.1","Electric resistance",{"$f":"IF(build1_heat=\"heat pump\",\"NA\",IF(build1_need_heat,build1_zones,\"NA\"))","v":"NA"},{"$f":"IF(C445=\"NA\",\"\",\"zones\")","v":""},{"$f":"IF(C445=\"NA\",\"NA\",build1_heat_mbh)","v":"NA"},{"$f":"IF(C445=\"NA\",\"\",\"MBH\")","v":""},{"$f":"IF(C445=\"NA\",\"NA\",IF(curve=1,build1_heat_mbh,VLOOKUP(build1_heat_mbh,hvac_elec_cost_cl,2)))","v":"NA"},{"$f":"IF(C445=\"NA\",\"\",\"MBH\")","v":""},{"$f":"IF(C445=\"NA\",\"NA\",IF(curve=1,hvac_elec_eq_1,VLOOKUP(build1_heat_mbh,hvac_elec_cost_cl,3)))","v":"NA"},{"$f":"IF(OR(I445=\"NA\",I445=\"contact vendor\"),\"--\",C445*I445)","v":"--"},{"$f":"IF(C445=\"NA\",\"NA\",VLOOKUP(build1_heat_mbh,hvac_elec_cost_cl,IF(ss_cat=\"large\",4,5)))","v":"NA"},null,{"$f":"B438&\" - \"&B439&\" - \"&B444&\" - \"&B445","v":"Building Structures and HVAC - Building 1 - Heating System - Electric resistance"},{"$f":"IF(include_HVAC=0,0,IF(build1_heat=$B445,1,\"\"))","v":""},"","","","","","","","",0,0]
["11.1.2.1","Natural gas non-condensing furnace",{"$f":"IF(build1_heat=\"heat pump\",\"NA\",IF(build1_need_heat,build1_zones,\"NA\"))","v":"NA"},{"$f":"IF(C446=\"NA\",\"\",\"zones\")","v":""},{"$f":"IF(C446=\"NA\",\"NA\",build1_heat_mbh)","v":"NA"},{"$f":"IF(C446=\"NA\",\"\",\"MBH\")","v":""},{"$f":"IF(C446=\"NA\",\"NA\",IF(curve=1,build1_heat_mbh,VLOOKUP(build1_heat_mbh,hvac_gas_non_cost_cl,2)))","v":"NA"},{"$f":"IF(C446=\"NA\",\"\",\"MBH\")","v":""},{"$f":"IF(C446=\"NA\",\"NA\",IF(curve=1,hvac_gas_non_eq_1,VLOOKUP(build1_heat_mbh,hvac_gas_non_cost_cl,3)))","v":"NA"},{"$f":"IF(OR(I446=\"NA\",I446=\"contact vendor\"),\"--\",C446*I446)","v":"--"},{"$f":"IF(C446=\"NA\",\"NA\",VLOOKUP(build1_heat_mbh,hvac_gas_non_cost_cl,IF(ss_cat=\"large\",4,5)))","v":"NA"},null,{"$f":"B438&\" - \"&B439&\" - \"&B444&\" - \"&B446","v":"Building Structures and HVAC - Building 1 - Heating System - Natural gas non-condensing furnace"},"","","","","","","","","",0,0]
["11.1.2.1","Natural gas condensing furnace",{"$f":"IF(build1_heat=\"heat pump\",\"NA\",IF(build1_need_heat,build1_zones,\"NA\"))","v":"NA"},{"$f":"IF(C447=\"NA\",\"\",\"zones\")","v":""},{"$f":"IF(C447=\"NA\",\"NA\",build1_heat_mbh)","v":"NA"},{"$f":"IF(C447=\"NA\",\"\",\"MBH\")","v":""},{"$f":"IF(C447=\"NA\",\"NA\",IF(curve=1,build1_heat_mbh,VLOOKUP(build1_heat_mbh,hvac_gas_cost_cl,2)))","v":"NA"},{"$f":"IF(C447=\"NA\",\"\",\"MBH\")","v":""},{"$f":"IF(C447=\"NA\",\"NA\",IF(curve=1,hvac_gas_eq_1,VLOOKUP(build1_heat_mbh,hvac_gas_cost_cl,3)))","v":"NA"},{"$f":"IF(OR(I447=\"NA\",I447=\"contact vendor\"),\"--\",C447*I447)","v":"--"},{"$f":"IF(C447=\"NA\",\"NA\",VLOOKUP(build1_heat_mbh,hvac_gas_cost_cl,IF(ss_cat=\"large\",4,5)))","v":"NA"},null,{"$f":"B438&\" - \"&B439&\" - \"&B444&\" - \"&B447","v":"Building Structures and HVAC - Building 1 - Heating System - Natural gas condensing furnace"},"","","","","","","","","",0,0]
["11.1.2.1","Standard efficiency oil furnace",{"$f":"IF(build1_heat=\"heat pump\",\"NA\",IF(build1_need_heat,build1_zones,\"NA\"))","v":"NA"},{"$f":"IF(C448=\"NA\",\"\",\"zones\")","v":""},{"$f":"IF(C448=\"NA\",\"NA\",build1_heat_mbh)","v":"NA"},{"$f":"IF(C448=\"NA\",\"\",\"MBH\")","v":""},{"$f":"IF(C448=\"NA\",\"NA\",IF(curve=1,build1_heat_mbh,VLOOKUP(E448,hvac_oil_std_cost_cl,2)))","v":"NA"},{"$f":"IF(C448=\"NA\",\"\",\"MBH\")","v":""},{"$f":"IF(C448=\"NA\",\"NA\",IF(curve=1,hvac_oil_std_eq_1,VLOOKUP(build1_heat_mbh,hvac_oil_std_cost_cl,3)))","v":"NA"},{"$f":"IF(OR(I448=\"NA\",I448=\"contact vendor\"),\"--\",C448*I448)","v":"--"},{"$f":"IF(C448=\"NA\",\"NA\",VLOOKUP(build1_heat_mbh,hvac_oil_std_cost_cl,IF(ss_cat=\"large\",4,5)))","v":"NA"},null,{"$f":"B438&\" - \"&B439&\" - \"&B444&\" - \"&B448","v":"Building Structures and HVAC - Building 1 - Heating System - Standard efficiency oil furnace"},"","","","","","","","","",0,0]
["11.1.2.1","Mid-efficiency oil furnace",{"$f":"IF(build1_heat=\"heat pump\",\"NA\",IF(build1_need_heat,build1_zones,\"NA\"))","v":"NA"},{"$f":"IF(C449=\"NA\",\"\",\"zones\")","v":""},{"$f":"IF(C449=\"NA\",\"NA\",build1_heat_mbh)","v":"NA"},{"$f":"IF(C449=\"NA\",\"\",\"MBH\")","v":""},{"$f":"IF(C449=\"NA\",\"NA\",IF(curve=1,build1_heat_mbh,VLOOKUP(build1_heat_mbh,hvac_oil_mid_cost_cl,2)))","v":"NA"},{"$f":"IF(C449=\"NA\",\"\",\"MBH\")","v":""},{"$f":"IF(C449=\"NA\",\"NA\",IF(curve=1,hvac_oil_mid_eq_1,VLOOKUP(build1_heat_mbh,hvac_oil_mid_cost_cl,3)))","v":"NA"},{"$f":"IF(OR(I449=\"NA\",I449=\"contact vendor\"),\"--\",C449*I449)","v":"--"},{"$f":"IF(C449=\"NA\",\"NA\",VLOOKUP(build1_heat_mbh,hvac_oil_mid_cost_cl,IF(ss_cat=\"large\",4,5)))","v":"NA"},null,{"$f":"B438&\" - \"&B439&\" - \"&B444&\" - \"&B449","v":"Building Structures and HVAC - Building 1 - Heating System - Mid-efficiency oil furnace"},"","","","","","","","","",0,0]
["11.1.3",{"$f":"IF(build1_heat=\"heat pump\",\"Heating and \",\"\")&\"Cooling System\"","v":"Cooling System"},null,null,null,null,null,null,null,null,null,null,null,null,null,null,null,null,null,null,null,null,0,0]
["11.1.3.1","Air conditioner",{"$f":"IF(build1_need_cool,build1_zones,\"NA\")","v":"NA"},{"$f":"IF(C451=\"NA\",\"\",\"zones\")","v":""},{"$f":"IF(C451=\"NA\",\"NA\",build1_cooling_tons)","v":"NA"},{"$f":"IF(C451=\"NA\",\"\",\"tons\")","v":""},{"$f":"IF(C451=\"NA\",\"NA\",IF(curve=1,build1_cooling_tons,VLOOKUP(build1_cooling_tons,hvac_ac_cost_cl,2)))","v":"NA"},{"$f":"IF(C451=\"NA\",\"\",\"tons\")","v":""},{"$f":"IF(C451=\"NA\",\"NA\",IF(curve=1,hvac_ac_eq_1,VLOOKUP(build1_cooling_tons,hvac_ac_cost_cl,3)))","v":"NA"},{"$f":"IF(OR(I451=\"NA\",I451=\"contact vendor\"),\"--\",C451*I451)","v":"--"},{"$f":"IF(C451=\"NA\",\"NA\",VLOOKUP(build1_cooling_tons,hvac_ac_cost_cl,IF(ss_cat=\"large\",4,5)))","v":"NA"},null,{"$f":"B438&\" - \"&B439&\" - \"&B450&\" - \"&B451","v":"Building Structures and HVAC - Building 1 - Cooling System - Air conditioner"},{"$f":"IF(include_HVAC=0,0,IF(build1_cool=$B451,1,\"\"))","v":""},"","","","","","","","",0,0]
["11.1.3.1","Heat pump",{"$f":"IF(AND(hp_ok_1,build1_need_cool),build1_zones,\"NA\")","v":"NA"},{"$f":"IF(C452=\"NA\",\"\",\"zones\")","v":""},{"$f":"IF(C452=\"NA\",\"NA\",build1_cooling_tons)","v":"NA"},{"$f":"IF(C452=\"NA\",\"\",\"tons\")","v":""},{"$f":"IF(C452=\"NA\",\"NA\",IF(curve=1,build1_cooling_tons,VLOOKUP(build1_cooling_tons,hvac_hp_cost_cl,2)))","v":"NA"},{"$f":"IF(C452=\"NA\",\"\",\"tons\")","v":""},{"$f":"IF(C452=\"NA\",\"NA\",IF(curve=1,hvac_hp_eq_1,VLOOKUP(build1_cooling_tons,hvac_hp_cost_cl,3)))","v":"NA"},{"$f":"IF(OR(I452=\"NA\",I452=\"contact vendor\"),\"--\",C452*I452)","v":"--"},{"$f":"IF(C452=\"NA\",\"NA\",VLOOKUP(build1_cooling_tons,hvac_hp_cost_cl,IF(ss_cat=\"large\",4,5)))","v":"NA"},null,{"$f":"B438&\" - \"&B439&\" - \"&B450&\" - \"&B452","v":"Building Structures and HVAC - Building 1 - Cooling System - Heat pump"},"","","","","","","","","",0,0]
[11.2,"Building 2",null,null,null,null,null,null,null,null,null,null,null,null,null,null,null,null,null,null,null,null,0,0]
["11.2.1","Small Low Cost Shed",{"$f":"IF(AND(build2_fp>0,build2_fp<500),1,0)","v":0},"units",{"$f":"build2_fp","v":0},"sf",{"$f":"build2_fp","v":0},"sf",{"$f":"IF(C454=0,\"NA\",VLOOKUP(build2_fp,bldg_shed_cost_cl,3))","v":"NA"},{"$f":"IF(OR(I454=\"NA\",I454=\"contact vendor\"),\"--\",G454*I454)","v":"--"},{"$f":"IF($C454=0,\"N/A\",VLOOKUP(build2_fp,bldg_shed_cost_cl,IF(ss_cat=\"large\",4,5)))","v":"N/A"},null,{"$f":"B438&\" - \"&B453&\" - \"&B454","v":"Building Structures and HVAC - Building 2 - Small Low Cost Shed"},{"$f":"IF(include_buildings=1,2,0)","v":2},2,2,2,2,2,2,2,2,0,0,{"$f":"IF(W454,K454,0)","v":0}]
["11.2.1","Low Quality",{"$f":"IF(build2_fp>=500,1,0)","v":0},"units",{"$f":"build2_fp","v":0},"sf",{"$f":"build2_fp","v":0},"sf",{"$f":"IF(C455=0,\"NA\",IF(curve=1,bldg_lo_eq_2,VLOOKUP(build2_fp, bldg_lo_cost_cl,3)))","v":"NA"},{"$f":"IF(OR(I455=\"NA\",I455=\"contact vendor\"),\"--\",G455*I455)","v":"--"},{"$f":"IF($C455=0,\"N/A\",VLOOKUP(build2_fp,bldg_lo_cost_cl,IF(ss_cat=\"large\",4,5)))","v":"N/A"},null,{"$f":"B438&\" - \"&B453&\" - \"&B455","v":"Building Structures and HVAC - Building 2 - Low Quality"},{"$f":"include_buildings","v":1},null,null,{"$f":"include_buildings","v":1},null,null,{"$f":"include_buildings","v":1},null,null,0,0,{"$f":"IF(W455,K455,0)","v":0}]
["11.2.1","Medium Quality",{"$f":"IF(build2_fp>=500,1,0)","v":0},"units",{"$f":"build2_fp","v":0},"sf",{"$f":"build2_fp","v":0},"sf",{"$f":"IF(C456=0,\"NA\",IF(curve=1,bldg_mid_eq_2,VLOOKUP(build2_fp, bldg_mid_cost_cl,3)))","v":"NA"},{"$f":"IF(OR(I456=\"NA\",I456=\"contact vendor\"),\"--\",G456*I456)","v":"--"},{"$f":"IF($C456=0,\"N/A\",VLOOKUP(build2_fp,bldg_mid_cost_cl,IF(ss_cat=\"large\",4,5)))","v":"N/A"},null,{"$f":"B438&\" - \"&B453&\" - \"&B456","v":"Building Structures and HVAC - Building 2 - Medium Quality"},null,{"$f":"include_buildings","v":1},null,null,{"$f":"include_buildings","v":1},null,null,{"$f":"include_buildings","v":1},null,0,0,{"$f":"IF(W456,K456,0)","v":0}]
["11.2.1","High Quality",{"$f":"IF(build2_fp>=500,1,0)","v":0},"units",{"$f":"build2_fp","v":0},"sf",{"$f":"build2_fp","v":0},"sf",{"$f":"IF(C457=0,\"NA\",IF(curve=1,bldg_hi_eq_2,VLOOKUP(build2_fp, bldg_hi_cost_cl,3)))","v":"NA"},{"$f":"IF(OR(I457=\"NA\",I457=\"contact vendor\"),\"--\",G457*I457)","v":"--"},{"$f":"IF($C457=0,\"N/A\",VLOOKUP(build2_fp,bldg_hi_cost_cl,IF(ss_cat=\"large\",4,5)))","v":"N/A"},null,{"$f":"B438&\" - \"&B453&\" - \"&B457","v":"Building Structures and HVAC - Building 2 - High Quality"},null,null,{"$f":"include_buildings","v":1},null,null,{"$f":"include_buildings","v":1},null,null,{"$f":"include_buildings","v":1},0,0,{"$f":"IF(W457,K457,0)","v":0}]
["11.2.2",{"$f":"\"Heating System\"&IF(build2_heat=\"heat pump\",\" (included with cooling system)\",\"\")","v":"Heating System"},null,null,null,null,null,null,null,null,null,null,null,null,null,null,null,null,null,null,null,null,0,0]
["11.2.2.1","Electric resistance",{"$f":"IF(build2_heat=\"heat pump\",\"NA\",IF(build2_need_heat,build2_zones,\"NA\"))","v":"NA"},{"$f":"IF(C459=\"NA\",\"\",\"zones\")","v":""},{"$f":"IF(C459=\"NA\",\"NA\",build2_heat_mbh)","v":"NA"},{"$f":"IF(C459=\"NA\",\"\",\"MBH\")","v":""},{"$f":"IF(C459=\"NA\",\"NA\",IF(curve=1,build2_heat_mbh,VLOOKUP(build2_heat_mbh,hvac_elec_cost_cl,2)))","v":"NA"},{"$f":"IF(C459=\"NA\",\"\",\"MBH\")","v":""},{"$f":"IF(C459=\"NA\",\"NA\",IF(curve=1,hvac_elec_eq_2,VLOOKUP(build2_heat_mbh,hvac_elec_cost_cl,3)))","v":"NA"},{"$f":"IF(OR(I459=\"NA\",I459=\"contact vendor\"),\"--\",C459*I459)","v":"--"},{"$f":"IF(C459=\"NA\",\"NA\",VLOOKUP(build2_heat_mbh,hvac_elec_cost_cl,IF(ss_cat=\"large\",4,5)))","v":"NA"},null,{"$f":"B438&\" - \"&B453&\" - \"&B458&\" - \"&B459","v":"Building Structures and HVAC - Building 2 - Heating System - Electric resistance"},{"$f":"IF(include_HVAC=0,0,IF(build2_heat=$B459,1,\"\"))","v":""},"","","","","","","","",0,0]
["11.2.2.1","Natural gas non-condensing furnace",{"$f":"IF(build2_heat=\"heat pump\",\"NA\",IF(build2_need_heat,build2_zones,\"NA\"))","v":"NA"},{"$f":"IF(C460=\"NA\",\"\",\"zones\")","v":""},{"$f":"IF(C460=\"NA\",\"NA\",build2_heat_mbh)","v":"NA"},{"$f":"IF(C460=\"NA\",\"\",\"MBH\")","v":""},{"$f":"IF(C460=\"NA\",\"NA\",IF(curve=1,build2_heat_mbh,VLOOKUP(build2_heat_mbh,hvac_gas_non_cost_cl,2)))","v":"NA"},{"$f":"IF(C460=\"NA\",\"\",\"MBH\")","v":""},{"$f":"IF(C460=\"NA\",\"NA\",IF(curve=1,hvac_gas_non_eq_2,VLOOKUP(build2_heat_mbh,hvac_gas_non_cost_cl,3)))","v":"NA"},{"$f":"IF(OR(I460=\"NA\",I460=\"contact vendor\"),\"--\",C460*I460)","v":"--"},{"$f":"IF(C460=\"NA\",\"NA\",VLOOKUP(build2_heat_mbh,hvac_gas_non_cost_cl,IF(ss_cat=\"large\",4,5)))","v":"NA"},null,{"$f":"B438&\" - \"&B453&\" - \"&B458&\" - \"&B460","v":"Building Structures and HVAC - Building 2 - Heating System - Natural gas non-condensing furnace"},"","","","","","","","","",0,0]
["11.2.2.1","Natural gas condensing furnace",{"$f":"IF(build2_heat=\"heat pump\",\"NA\",IF(build2_need_heat,build2_zones,\"NA\"))","v":"NA"},{"$f":"IF(C461=\"NA\",\"\",\"zones\")","v":""},{"$f":"IF(C461=\"NA\",\"NA\",build2_heat_mbh)","v":"NA"},{"$f":"IF(C461=\"NA\",\"\",\"MBH\")","v":""},{"$f":"IF(C461=\"NA\",\"NA\",IF(curve=1,build2_heat_mbh,VLOOKUP(build2_heat_mbh,hvac_gas_cost_cl,2)))","v":"NA"},{"$f":"IF(C461=\"NA\",\"\",\"MBH\")","v":""},{"$f":"IF(C461=\"NA\",\"NA\",IF(curve=1,hvac_gas_eq_2,VLOOKUP(build2_heat_mbh,hvac_gas_cost_cl,3)))","v":"NA"},{"$f":"IF(OR(I461=\"NA\",I461=\"contact vendor\"),\"--\",C461*I461)","v":"--"},{"$f":"IF(C461=\"NA\",\"NA\",VLOOKUP(build2_heat_mbh,hvac_gas_cost_cl,IF(ss_cat=\"large\",4,5)))","v":"NA"},null,{"$f":"B438&\" - \"&B453&\" - \"&B458&\" - \"&B461","v":"Building Structures and HVAC - Building 2 - Heating System - Natural gas condensing furnace"},"","","","","","","","","",0,0]
["11.2.2.1","Standard efficiency oil furnace",{"$f":"IF(build2_heat=\"heat pump\",\"NA\",IF(build2_need_heat,build2_zones,\"NA\"))","v":"NA"},{"$f":"IF(C462=\"NA\",\"\",\"zones\")","v":""},{"$f":"IF(C462=\"NA\",\"NA\",build2_heat_mbh)","v":"NA"},{"$f":"IF(C462=\"NA\",\"\",\"MBH\")","v":""},{"$f":"IF(C462=\"NA\",\"NA\",IF(curve=1,build2_heat_mbh,VLOOKUP(E462,hvac_oil_std_cost_cl,2)))","v":"NA"},{"$f":"IF(C462=\"NA\",\"\",\"MBH\")","v":""},{"$f":"IF(C462=\"NA\",\"NA\",IF(curve=1,hvac_oil_std_eq_2,VLOOKUP(build2_heat_mbh,hvac_oil_std_cost_cl,3)))","v":"NA"},{"$f":"IF(OR(I462=\"NA\",I462=\"contact vendor\"),\"--\",C462*I462)","v":"--"},{"$f":"IF(C462=\"NA\",\"NA\",VLOOKUP(build2_heat_mbh,hvac_oil_std_cost_cl,IF(ss_cat=\"large\",4,5)))","v":"NA"},null,{"$f":"B438&\" - \"&B453&\" - \"&B458&\" - \"&B462","v":"Building Structures and HVAC - Building 2 - Heating System - Standard efficiency oil furnace"},"","","","","","","","","",0,0]
["11.2.2.1","Mid-efficiency oil furnace",{"$f":"IF(build2_heat=\"heat pump\",\"NA\",IF(build2_need_heat,build2_zones,\"NA\"))","v":"NA"},{"$f":"IF(C463=\"NA\",\"\",\"zones\")","v":""},{"$f":"IF(C463=\"NA\",\"NA\",build2_heat_mbh)","v":"NA"},{"$f":"IF(C463=\"NA\",\"\",\"MBH\")","v":""},{"$f":"IF(C463=\"NA\",\"NA\",IF(curve=1,build2_heat_mbh,VLOOKUP(build2_heat_mbh,hvac_oil_mid_cost_cl,2)))","v":"NA"},{"$f":"IF(C463=\"NA\",\"\",\"MBH\")","v":""},{"$f":"IF(C463=\"NA\",\"NA\",IF(curve=1,hvac_oil_mid_eq_2,VLOOKUP(build2_heat_mbh,hvac_oil_mid_cost_cl,3)))","v":"NA"},{"$f":"IF(OR(I463=\"NA\",I463=\"contact vendor\"),\"--\",C463*I463)","v":"--"},{"$f":"IF(C463=\"NA\",\"NA\",VLOOKUP(build2_heat_mbh,hvac_oil_mid_cost_cl,IF(ss_cat=\"large\",4,5)))","v":"NA"},null,{"$f":"B438&\" - \"&B453&\" - \"&B458&\" - \"&B463","v":"Building Structures and HVAC - Building 2 - Heating System - Mid-efficiency oil furnace"},"","","","","","","","","",0,0]
["11.2.3",{"$f":"IF(build2_heat=\"heat pump\",\"Heating and \",\"\")&\"Cooling System\"","v":"Cooling System"},null,null,null,null,null,null,null,null,null,null,null,null,null,null,null,null,null,null,null,null,0,0]
["11.2.3.1","Air conditioner",{"$f":"IF(build2_need_cool,build2_zones,\"NA\")","v":"NA"},{"$f":"IF(C465=\"NA\",\"\",\"zones\")","v":""},{"$f":"IF(C465=\"NA\",\"NA\",build2_cooling_tons)","v":"NA"},{"$f":"IF(C465=\"NA\",\"\",\"tons\")","v":""},{"$f":"IF(C465=\"NA\",\"NA\",IF(curve=1,build2_cooling_tons,VLOOKUP(build2_cooling_tons,hvac_ac_cost_cl,2)))","v":"NA"},{"$f":"IF(C465=\"NA\",\"\",\"tons\")","v":""},{"$f":"IF(C465=\"NA\",\"NA\",IF(curve=1,hvac_ac_eq_2,VLOOKUP(build2_cooling_tons,hvac_ac_cost_cl,3)))","v":"NA"},{"$f":"IF(OR(I465=\"NA\",I465=\"contact vendor\"),\"--\",C465*I465)","v":"--"},{"$f":"IF(C465=\"NA\",\"NA\",VLOOKUP(build2_cooling_tons,hvac_ac_cost_cl,IF(ss_cat=\"large\",4,5)))","v":"NA"},null,{"$f":"B438&\" - \"&B453&\" - \"&B464&\" - \"&B465","v":"Building Structures and HVAC - Building 2 - Cooling System - Air conditioner"},{"$f":"IF(include_HVAC=0,0,IF(build2_cool=$B465,1,\"\"))","v":""},"","","","","","","","",0,0]
["11.2.3.1","Heat pump",{"$f":"IF(AND(hp_ok_2,build2_need_cool),build2_zones,\"NA\")","v":"NA"},{"$f":"IF(C466=\"NA\",\"\",\"zones\")","v":""},{"$f":"IF(C466=\"NA\",\"NA\",build2_cooling_tons)","v":"NA"},{"$f":"IF(C466=\"NA\",\"\",\"tons\")","v":""},{"$f":"IF(C466=\"NA\",\"NA\",IF(curve=1,build2_cooling_tons,VLOOKUP(build2_cooling_tons,hvac_hp_cost_cl,2)))","v":"NA"},{"$f":"IF(C466=\"NA\",\"\",\"tons\")","v":""},{"$f":"IF(C466=\"NA\",\"NA\",IF(curve=1,hvac_hp_eq_2,VLOOKUP(build2_cooling_tons,hvac_hp_cost_cl,3)))","v":"NA"},{"$f":"IF(OR(I466=\"NA\",I466=\"contact vendor\"),\"--\",C466*I466)","v":"--"},{"$f":"IF(C466=\"NA\",\"NA\",VLOOKUP(build2_cooling_tons,hvac_hp_cost_cl,IF(ss_cat=\"large\",4,5)))","v":"NA"},null,{"$f":"B438&\" - \"&B453&\" - \"&B464&\" - \"&B466","v":"Building Structures and HVAC - Building 2 - Cooling System - Heat pump"},"","","","","","","","","",0,0]
[11.3,"Concrete Pad",1,"units",{"$f":"concrete","v":5},"cy",{"$f":"concrete","v":5},"cy",{"$f":"VLOOKUP(0,conc_pad_cost_cl,3)","v":647.97398379459571},{"$f":"IF(I467=\"contact vendor\",\"--\",E467*I467)","v":3239.8699189729787},{"$f":"VLOOKUP(0,conc_pad_cost_cl,IF(ss_cat=\"large\",4,5))","v":37},1,{"$f":"B438&\" - \"&B467","v":"Building Structures and HVAC - Concrete Pad"},{"$f":"include_pad","v":1},1,1,1,1,1,1,1,1,1,87.564051864134555]
[12,"Solids Treatment/Storage",null,null,null,null,null,null,null,null,null,null,null,null,null,null,null,null,null,null,null,null,0,0]
[12.1,"Solids Thickening",null,null,null,null,null,null,null,null,null,null,null,null,null,null,null,null,null,null,null,null,0,0]
["12.1.1","Concrete Basins (includes Excavation, Backfill, and Compaction)",{"$f":"thick_basins","v":0},"units",{"$f":"IF(thick_basins=0,\"NA\",thick_basin_vol)","v":"NA"},{"$f":"IF(C470=0,\"\",\"gal\")","v":""},{"$f":"IF(thick_basins=0,\"NA\",thick_basin_vol)","v":"NA"},{"$f":"IF(C470=0,\"\",\"gal\")","v":""},{"$f":"IF(thick_basins=0,\"NA\",J470/thick_basins)","v":"NA"},{"$f":"IF(thick_basins=0,\"--\",thick_conc_vol*VLOOKUP(0,conc_basin_cost_cl,3)+thick_excavation_vol*VLOOKUP(0,excavate_cost_cl,3)+thick_backfill_vol*VLOOKUP(0,backfill_cost_cl,3)+thick_railing*VLOOKUP(\"aluminum railing\",metal_cost_cl,3))","v":"--"},{"$f":"IF(thick_basins=0,\"NA\",VLOOKUP(0,conc_basin_cost_cl,IF(ss_cat=\"large\",4,5)))","v":"NA"},null,{"$f":"$B$468&\" - \"&$B$469&\" - \"&B470","v":"Solids Treatment/Storage - Solids Thickening - Concrete Basins (includes Excavation, Backfill, and Compaction)"},1,1,2,1,1,2,1,1,2,0,0]
["12.1.1","Steel Tanks",{"$f":"thick_tanks","v":0},"units",{"$f":"IF(C471=0,\"NA\",thick_tank_volume)","v":"NA"},{"$f":"IF(C471=0,\"\",\"gal\")","v":""},{"$f":"IF(thick_tanks=0,\"NA\",IF(curve=1,thick_tank_volume,VLOOKUP(thick_tank_volume,st_bwt_cost_cl,2)))","v":"NA"},{"$f":"IF(C471=0,\"\",\"gal\")","v":""},{"$f":"IF(thick_tanks=0,\"NA\",IF(curve=1,st_tt_eq,VLOOKUP(thick_tank_volume,st_bwt_cost_cl,3)))","v":"NA"},{"$f":"IF(OR(I471=\"NA\",I471=\"contact vendor\"),\"--\",C471*I471)","v":"--"},{"$f":"IF(thick_tanks=0,\"NA\",VLOOKUP(thick_tank_volume,st_bwt_cost_cl,IF(ss_cat=\"large\",4,5)))","v":"NA"},null,{"$f":"$B$468&\" - \"&$B$469&\" - \"&B471","v":"Solids Treatment/Storage - Solids Thickening - Steel Tanks"},2,2,1,2,2,1,2,2,1,0,0]
["12.1.2","Internals",{"$f":"num_thick_internals","v":0},"units",{"$f":"IF(C472=0,\"NA\",thick_mech_diam)","v":"NA"},{"$f":"IF(C472=0,\"\",\"ft diam\")","v":""},{"$f":"IF(C472=0,\"NA\",thick_mech_diam)","v":"NA"},{"$f":"IF(C472=0,\"\",\"ft diam\")","v":""},{"$f":"IF(C472=0,\"NA\",thick_mech_diam*VLOOKUP(0,thick_internal_cost_cl,3))","v":"NA"},{"$f":"IF(OR(I472=\"NA\",I472=\"contact vendor\"),\"--\",C472*I472)","v":"--"},{"$f":"IF(C472=0,\"NA\",VLOOKUP(0,thick_internal_cost_cl,IF(ss_cat=\"large\",4,5)))","v":"NA"},null,{"$f":"$B$468&\" - \"&$B$469&\" - \"&B472","v":"Solids Treatment/Storage - Solids Thickening - Internals"},1,1,1,1,1,1,1,1,1,0,0]
["12.2","Solids Mechanical Dewatering",null,null,null,null,null,null,null,null,null,null,null,null,null,null,null,null,null,null,null,null,0,0,{"$f":"IF(X473,J473/K473,0)","v":0},{"$f":"IF(X473,K473,0)","v":0}]
["12.2.1","Belt Press",{"$f":"num_belt_press","v":0},"units",{"$f":"IF(C474>0,belt_press_size,\"NA\")","v":"NA"},{"$f":"IF(C474=0,\"\",\"m belt width\")","v":""},{"$f":"IF(C474=0,\"NA\",IF(curve=1,belt_press_size,VLOOKUP(belt_press_size,belt_press_cost_cl,2)))","v":"NA"},{"$f":"IF(C474=0,\"\",\"m belt width\")","v":""},{"$f":"IF(C474=0,\"NA\",IF(curve=1,belt_press_eq,VLOOKUP(belt_press_size,belt_press_cost_cl,3)))","v":"NA"},{"$f":"IF(C474=0,\"--\",IF(OR(I474=\"contact vendor\",I474=\"NA\"),\"--\",C474*I474))","v":"--"},{"$f":"IF(C474=0,\"NA\",VLOOKUP(belt_press_size,belt_press_cost_cl,IF(ss_cat=\"large\",4,5)))","v":"NA"},null,{"$f":"$B$468&\" - \"&$B$473&\" - \"&B474","v":"Solids Treatment/Storage - Solids Mechanical Dewatering - Belt Press"},1,1,1,1,1,1,1,1,1,0,0,{"$f":"IF(X474,J474/K474,0)","v":0},{"$f":"IF(X474,K474,0)","v":0}]
[13,"Evaporation Pond",null,null,null,null,null,null,null,null,null,null,null,null,null,null,null,null,null,null,null,null,0,0]
[13.1,"Excavation",{"$f":"ep_cells","v":0},"cells",{"$f":"IF(C476=0,\"NA\",ep_excavation_vol/ep_cells)","v":"NA"},{"$f":"IF(C476=0,\"\",\"cy\")","v":""},{"$f":"IF(C476=0,\"NA\",ep_excavation_vol/ep_cells)","v":"NA"},{"$f":"IF(E476=0,\"\",\"cy\")","v":"cy"},{"$f":"IF(C476=0,\"NA\",VLOOKUP(0,excavate_cost_cl,3)*ep_excavation_vol/ep_cells)","v":"NA"},{"$f":"IF(C476=0,\"--\",IF(I476=\"contact vendor\",\"--\",C476*I476))","v":"--"},{"$f":"IF(C476=0,\"NA\",VLOOKUP(0,ep_liner_cost_cl,IF(ss_cat=\"large\",4,5)))","v":"NA"},null,{"$f":"$B$475&\" - \"&B476","v":"Evaporation Pond - Excavation"},1,1,1,1,1,1,1,1,1,0,0]
[13.2,"Backfill",{"$f":"ep_cells","v":0},"cells",{"$f":"IF(C477=0,\"NA\",ep_backfill_vol/ep_cells)","v":"NA"},{"$f":"IF(C477=0,\"\",\"cy\")","v":""},{"$f":"IF(C477=0,\"NA\",ep_backfill_vol/ep_cells)","v":"NA"},{"$f":"IF(E477=0,\"\",\"cy\")","v":"cy"},{"$f":"IF(C477=0,\"NA\",VLOOKUP(0,backfill_cost_cl,3)*ep_excavation_vol/ep_cells)","v":"NA"},{"$f":"IF(C477=0,\"--\",IF(I477=\"contact vendor\",\"--\",C477*I477))","v":"--"},{"$f":"IF(C477=0,\"NA\",VLOOKUP(0,ep_liner_cost_cl,IF(ss_cat=\"large\",4,5)))","v":"NA"},null,{"$f":"$B$475&\" - \"&B477","v":"Evaporation Pond - Backfill"},1,1,1,1,1,1,1,1,1,0,0]
[13.3,"Liner",{"$f":"ep_cells","v":0},"cells",{"$f":"IF(C478=0,\"NA\",liner_area/ep_cells)","v":"NA"},{"$f":"IF(C478=0,\"\",\"sf\")","v":""},{"$f":"IF(C478=0,\"NA\",liner_area/ep_cells)","v":"NA"},{"$f":"IF(E478=0,\"\",\"sf\")","v":"sf"},{"$f":"IF(C478=0,\"NA\",VLOOKUP(0,ep_liner_cost_cl,3)*liner_area/ep_cells)","v":"NA"},{"$f":"IF(C478=0,\"--\",IF(I478=\"contact vendor\",\"--\",C478*I478))","v":"--"},{"$f":"IF(C478=0,\"NA\",VLOOKUP(0,ep_liner_cost_cl,IF(ss_cat=\"large\",4,5)))","v":"NA"},null,{"$f":"$B$475&\" - \"&B478","v":"Evaporation Pond - Liner"},1,1,1,1,1,1,1,1,1,0,0]
[13.4,"Dike Construction",{"$f":"ep_cells","v":0},"cells",{"$f":"IF(C479=0,\"NA\",dike_volume/ep_cells)","v":"NA"},{"$f":"IF(C479=0,\"\",\"cy\")","v":""},{"$f":"IF(C479=0,\"NA\",dike_volume/ep_cells)","v":"NA"},{"$f":"IF(E479=0,\"\",\"cy\")","v":"cy"},{"$f":"IF(C479=0,\"NA\",ep_dike_construct_cl*dike_volume/ep_cells)","v":"NA"},{"$f":"IF(C479=0,\"--\",IF(I479=\"contact vendor\",\"--\",C479*I479))","v":"--"},{"$f":"IF(C479=0,\"NA\",VLOOKUP(0,ep_liner_cost_cl,IF(ss_cat=\"large\",4,5)))","v":"NA"},null,{"$f":"$B$475&\" - \"&B479","v":"Evaporation Pond - Dike Construction"},1,1,1,1,1,1,1,1,1,0,0]
[14,"Solids drying pad",null,null,null,null,null,null,null,null,null,null,null,null,null,null,null,null,null,null,null,null,0,0]
[14.1,"Solids drying pad",{"$f":"IF(solids_pad_area=0,0,1)","v":1},"units",{"$f":"solids_pad_concrete","v":1},"cy",{"$f":"solids_pad_concrete","v":1},"cy",{"$f":"VLOOKUP(0,conc_pad_cost_cl,3)","v":647.97398379459571},{"$f":"IF(I481=\"contact vendor\",\"--\",E481*I481)","v":647.97398379459571},{"$f":"IF(C481=0,\"NA\",VLOOKUP(0,conc_pad_cost_cl,IF(ss_cat=\"large\",4,5)))","v":37},1,{"$f":"B481","v":"Solids drying pad"},1,1,1,1,1,1,1,1,1,1,17.512810372826912]
[null,null,null,null,null,null,null,null,null,null,null,null,null,null,null,null,null,null,null,null,null,null,"direct_for_UL","total_direct_depreciation","build_UL"]
["Total of direct line items above:",null,null,null,null,null,null,null,null,null,null,null,null,null,null,null,null,null,null,null,null,null,{"$f":"SUMPRODUCT(W32:W481,J32:J481)","v":359315.99269783846},{"$f":"SUM(X32:X481)","v":18499.335235771767},{"$f":"MAX(Y454:Y457,Y440:Y443)","v":20}]
[null,"Direct cost category","Total","Guidance"]
[null,"Process costs",{"$f":"SUMPRODUCT(J34:J437,L34:L437)+SUMPRODUCT(J470:J481,L470:L481)","v":342876.46435049199},"Excludes alternate cost line items in italics, without a 1 in the \"Use?\" column. Includes installation, transportation, and O&P"]
[null,"Building costs",{"$f":"SUMPRODUCT(J440:J467,L440:L467)","v":18420.680788315596},"See input sheet to exclude buildings/HVAC; indirect assumptions sheet to exclude concrete pad"]
[null,"Total direct capital cost",{"$f":"process_cost+building_cost","v":361297.14513880759},"Total of process and building costs"]
[]
["Add-on Cost Details (See indirect assumptions sheet to exclude individual add-on items)"]
[null,"Add-on Line Item","Total","Guidance"]
[null,"Permits",{"$f":"include_permits*permit_cost","v":265.25}]
[null,"Pilot Study",{"$f":"include_pilot*VLOOKUP(tech_name,CHOOSE(ss_cat2,pilot_cost_small_cl,pilot_cost_medium_cl,pilot_cost_large_cl),2,FALSE)","v":132668.5186518738}]
[null,"Land Cost",{"$f":"include_land*land_required*land_cost","v":1368.0376022748032},{"$f":"\"For \"&TEXT(land_required,\"#0.00\")&\" acres\"","v":"For 0.06 acres"}]
[null,"Total add-on costs",{"$f":"SUM(C491:C493)","v":134301.8062541486},"Total of permits, piloting, and land"]
[]
["Indirect Capital Cost Details (See indirect assumptions sheet to exclude individual indirect items)"]
[null,"Indirect Line Item","Total","Percent","Guidance"]
[null,"Mobilization and Demobilization",{"$f":"(direct_cost+C500+C501+C502+C503+C504+C505+C506+C509)*D498","v":0},{"$f":"IF(AND(design_type=1,ss_cat2=1),mob_pct_pre,CHOOSE(ss_cat2,mob_pct_small,mob_pct_medium,mob_pct_large))","v":0},"Excluded for pre-engineered packages"]
[null,"Architectural Fees for Treatment Building",{"$f":"IF(ss_cat2=1,include_arch_small,include_arch)*building_cost*D499","v":0},{"$f":"VLOOKUP(building_cost,architectural_table_cl,3)","v":0.09},"Excluded by default for small systems"]
[null,"Installation, Transportation, and O&P",{"$f":"direct_cost*D500","v":0},{"$f":"inst_pct","v":0}]
[null,"Site Work",{"$f":"include_sitework*sitework_cost","v":4485.3846153846152},null,"Calculated based on system requirements."]
[null,"Yard Piping",{"$f":"include_yardpipe*yard_cost","v":1461.5300043813425},null,"Calculated based on system requirements."]
[null,"Geotechnical",{"$f":"IF(OR(ep_cells<>0,L49=1,L39=1,L105=1,L470=1),1,IF(component_level=\"\",include_geo_low,IF(component_level=1,include_geo_medium,include_geo_high)))*geotech_cost","v":3630.4838169058339},null,"Calculated based on system requirements."]
[null,"Standby Power",{"$f":"IF(ss_cat2=1,include_standby_small,include_standby)*std_power_cost","v":0},null,"Calculated based on system requirements.  Excluded by default for small systems."]
[null,"Electrical (including yard wiring)",{"$f":"process_cost*D505","v":34287.646435049202},{"$f":"elect_pct","v":0.1},"Percentage is applied only to process cost. Building direct costs include electrical components."]
[null,"Instrumentation and Control",{"$f":"direct_cost*D506","v":0},{"$f":"i_c_pct","v":0}]
[null,"Contingency",{"$f":"IF(component_level=\"\",include_conting_low,IF(component_level=1,include_conting_medium,include_conting_high))*(direct_cost+addon_cost+SUM(C498:C506,C508:C513))*D507","v":0},{"$f":"IF(component_level=\"\",include_conting_low,IF(component_level=1,include_conting_medium,include_conting_high))*VLOOKUP(direct_cost,contingency_table_cl,3)*complexity","v":0},"Included for high cost systems only."]
[null,"Process Engineering",72259.429027761522,{"$f":"CHOOSE(ss_cat2,eng_pct_small,eng_pct_medium,eng_pct_large)","v":0.2}]
[null,"Miscellaneous Allowance",36129.714513880761,{"$f":"misc_pct","v":0.1}]
[null,"Legal, Fiscal, and Administrative",7225.9429027761516,{"$f":"legal_pct","v":0.02}]
[null,"Sales Tax",0,{"$f":"tax_pct","v":0}]
[null,"Financing during Construction",0,{"$f":"IF(ss_cat2=1,finance_pct_small,finance_pct)","v":0}]
[null,"Construction Management and GC Overhead",{"$f":"cm_cost","v":7647.8674705540598}]
[null,"Total indirect capital cost",{"$f":"indirect_cost_mult*direct_cost+indirect_cost_add","v":167127.9987866935},null,"Total of indirect line items"]
[]
["TOTAL CAPITAL COST DETAILS"]
[null,"Assumption","Value","Guidance"]
[null,"City Index",1,"User adjustable.  Can be used to adjust estimated costs to be more reflective of a specific geographical location"]
[]
[null,"Capital Cost Category","Total"]
[null,"Total Direct Capital Cost (from above)",{"$f":"direct_cost","v":361297.14513880759}]
[null,"Total Add-on Cost (from above)",{"$f":"addon_cost","v":134301.8062541486}]
[null,"Total Indirect Cost (from above)",{"$f":"indirect_cost","v":167127.9987866935}]
[null,"Grand total capital cost (incorporating city index)",{"$f":"(direct_cost*(1+SUM(cul_indir_mult_table))+SUM(cul_indir_add_table))*C518","v":662726.95017964975}]
[]
["Annual Operating and Maintenance Cost Details (items in italics, without a 1 in the \"Use?\" column, represent alternate costs and are excluded from total)"]
[null,"Item","Quantity",null,"Unit Cost",null,"Total Cost","Use?","Guidance"]
[null,"Labor"]
[null,"Manager",{"$f":"Manager_LOE","v":43.413055555555559},"hrs/yr",{"$f":"VLOOKUP(design_flow,labor_table_cl,5)","v":45.239626883520685},"/hr",{"$f":"E529*C529","v":1963.9904352068884},{"$f":"IF(C529=0,0,1)","v":1}]
[null,"Administrative",{"$f":"Clerical_LOE","v":43.413055555555559},"hrs/yr",{"$f":"VLOOKUP(design_flow,labor_table_cl,4)","v":31.9148911743602},"/hr",{"$f":"E530*C530","v":1385.5229436020093},{"$f":"IF(C530=0,0,1)","v":1}]
[null,"Operator",{"$f":"General_Oper_Labor","v":309.9083333333333},"hrs/yr",{"$f":"VLOOKUP(design_flow,labor_table_cl,6)","v":30.477646496053573},"/hr",{"$f":"E531*C531","v":9445.2766295144684},{"$f":"IF(C531=0,0,1)","v":1},"Includes labor for regular operations, maintenance, residuals management, etc."]
[null,"Materials"]
[null,"Materials for booster pumps","calculated as a percentage of capital",null,null,null,{"$f":"pump_mtl","v":0},{"$f":"IF(G533=0,0,1)","v":0}]
[null,"Materials for backwash pumps","calculated as a percentage of capital",null,null,null,{"$f":"back_pump_mtl","v":0},0]
[null,"Materials for recycle pumps","calculated as a percentage of capital",null,null,null,{"$f":"recycle_pump_mtl","v":0},0]
[null,"Materials for residuals pumps","calculated as a percentage of capital",null,null,null,{"$f":"res_pump_mtl","v":136.34802900219901},1]
[null,"Materials for backwash air scour blowers","calculated as a percentage of capital",null,null,null,{"$f":"blower_mtl","v":111.56883967484366},1]
[null,"Materials for aeration blowers","calculated as a percentage of capital",null,null,null,{"$f":"aeration_blower_mtl","v":191.51209035840878},1]
[null,"Materials forbioreactor basins","calculated as a percentage of capital",null,null,null,{"$f":"filter_materials","v":0},0]
[null,"Materials for filter basins","calculated as a percentage of capital",null,null,null,{"$f":"post_filter_materials","v":1139.7664110902888},1]
[null,"Building and HVAC maintenance (materials and labor)",{"$f":"total_fp","v":330},"sf",{"$f":"G541/C541","v":5.7866132725374513},"/sf/yr",{"$f":"bldg_maint_cost","v":1909.5823799373588},{"$f":"IF(G541=0,0,1)","v":1}]
[null,"Chemicals"]
[null,{"$f":"\"Acetic Acid\"&acetic_purchase","v":"Acetic Acid"},{"$f":"acetic_use","v":1065.4349999999999},"lbs/yr",{"$f":"VLOOKUP(B543,chem_cost_cl,3,FALSE)","v":9.7816703626244561E-2},"/lb",{"$f":"E543*C543","v":104.21733962802787},{"$f":"IF(e_donor_type=1,1,0)","v":1}]
[null,{"$f":"\"Ethanol\"&ethanol_purchase","v":"Ethanol"},{"$f":"ethanol_use","v":0},"gal/yr",3.1734425961702204,"/gal",0,{"$f":"IF(e_donor_type=2,1,0)","v":0}]
[null,{"$f":"\"Ammonium Chloride\"&NH4Cl_purchase","v":"Ammonium Chloride"},{"$f":"NH4Cl_use","v":0},"lbs/yr",1.0567607726597328,"/lb",0,{"$f":"IF(OR(nutrient_option=2,nutrient_option=4),1,0)","v":0}]
[null,{"$f":"\"Phosphoric Acid\"&H3PO4_purchase","v":"Phosphoric Acid - Small Qty"},{"$f":"H3PO4_use","v":90.121677137542875},"lbs/yr",0.54920572437430792,"/lb",49.495340974151738,{"$f":"IF(OR(nutrient_option=3,nutrient_option=4),1,0)","v":1}]
[null,{"$f":"\"Ferric Chloride\"&coag_purchase","v":"Ferric Chloride - Small Qty"},{"$f":"total_coag","v":213.08700000000005},"lbs/yr",0.99611420422571673,"/lb",212.25898743584534,{"$f":"IF(C547=0,0,1)","v":1}]
[null,{"$f":"\"Polymers\"&polymer_purchase","v":"Polymers - Small Qty"},{"$f":"polymer_yr","v":222.2193},"lbs/yr",1.5734980240573635,"/lb",{"$f":"E548*C548","v":349.66162945741047},{"$f":"IF(C548=0,0,1)","v":1}]
[null,{"$f":"\"Hydrogen Peroxide\"&H2O2_purchase","v":"Hydrogen Peroxide"},{"$f":"H2O2_use","v":0},"lbs/yr",0.26724659284459285,"/lb",0,{"$f":"IF(C549=0,0,1)","v":0}]
[null,"Media"]
[null,"GAC annual attrition replacement - Bioreactor",{"$f":"media_loss","v":103.08350894591511},"lbs/yr",{"$f":"IF(curve=1,replace_GAC_eq,VLOOKUP(C551,gac_cost_cl,3))","v":1.927844149123094},"/lb",{"$f":"E551*C551","v":198.72893959246056},{"$f":"IF(C551=0,0,1)","v":1}]
[null,"Sand annual attrition replacement- Filter",{"$f":"filter_sand_loss","v":0.91911764705882337},"cuft/yr",{"$f":"VLOOKUP(\"sand\",media_cost_cl,3)","v":23.556098116864867},"/cuft",{"$f":"E552*C552","v":21.650825475059616},{"$f":"IF(C552=0,0,1)","v":1}]
[null,"Anthracite annual attrition replacement- Filter",{"$f":"filter_anthracite_loss","v":93.304367201426032},"lbs/yr",{"$f":"VLOOKUP(\"anthracite\",media_cost_cl,3)","v":0.50929908932075085},"/lb",{"$f":"E553*C553","v":47.519829245335217},{"$f":"IF(C553=0,0,1)","v":1}]
[null,"Garnet annual attrition replacement- Filter",{"$f":"filter_garnet_loss","v":0},"lbs/yr",{"$f":"VLOOKUP(\"garnet\",media_cost_cl,3)","v":128.01094336600406},"/lb",{"$f":"E554*C554","v":0},{"$f":"IF(C554=0,0,1)","v":0}]
[null,"GAC annual attrition replacement- Filter",{"$f":"filter_media_loss","v":0},"lbs/yr",{"$f":"IF(filter_media_loss=0,\"NA\",IF(curve=1,replace_filter_GAC_eq,VLOOKUP(C555,gac_cost_cl,3)))","v":"NA"},"/lb",{"$f":"IF(C555=0,0,E555*C555)","v":0},{"$f":"IF(C555=0,0,1)","v":0}]
[null,"Perchlorate Analysis"]
[null,"Consumables for online perchlorate analysis","NA",null,{"$f":"clo4_analysis_cost_cl","v":10117.034156363503},"/yr",{"$f":"E557","v":10117.034156363503},{"$f":"IF(C557=0,0,1)","v":1}]
[null,"Energy"]
[null,"Energy for booster pumps",{"$f":"pump_energy","v":0},"Mwh/yr",{"$f":"energy_cost_cl","v":0.12121832061068702},"/kwh",{"$f":"E559*C559*1000","v":0},{"$f":"IF(C559=0,0,1)","v":0}]
[null,"Energy for recycle pumps",{"$f":"recycle_pump_energy","v":0},"Mwh/yr",{"$f":"energy_cost_cl","v":0.12121832061068702},"/kwh",{"$f":"E560*C560*1000","v":0},0]
[null,"Energy for backwash pumps",{"$f":"back_pump_energy","v":0.2934696608525047},"Mwh/yr",{"$f":"energy_cost_cl","v":0.12121832061068702},"/kwh",{"$f":"IF(C561=0,\"--\",E561*C561*1000)","v":35.573899438728496},1]
[null,"Energy for residuals pumps",{"$f":"res_pump_energy","v":8.8129027283034428E-3},"Mwh/yr",{"$f":"IF(C562=0,\"NA\",energy_cost_cl)","v":0.12121832061068702},{"$f":"IF(C562=0,\"\",\"/kwh\")","v":"/kwh"},{"$f":"IF(C562=0,\"--\",E562*C562*1000)","v":1.068285268430285},1]
[null,"Energy for blowers",{"$f":"blower_energy+bio_blower_energy+scour_blower_energy","v":4.6433738777745849E-2},"Mwh/yr",{"$f":"energy_cost_cl","v":0.12121832061068702},"/kwh",{"$f":"E563*C563*1000","v":5.6286198343136862},1]
[null,"Energy for lighting",{"$f":"lighting","v":0.14326308333333329},"Mwh/yr",{"$f":"energy_cost_cl","v":0.12121832061068702},"/kwh",{"$f":"E564*C564*1000","v":17.366110367175569},1]
[null,"Energy for ventilation",{"$f":"ventilation","v":0.23315890909090903},"Mwh/yr",{"$f":"energy_cost_cl","v":0.12121832061068702},"/kwh",{"$f":"E565*C565*1000","v":28.26313139541984},1]
[null,"Energy for cooling"]
[null,"Air conditioning",{"$f":"cooling","v":0},"Mwh/yr",{"$f":"energy_cost_cl","v":0.12121832061068702},"/kwh",{"$f":"E567*C567*1000","v":0},{"$f":"IF(G567=0,0,1)","v":0}]
[null,"Heat pump (cooling mode)",{"$f":"cooling_hp","v":0},"Mwh/yr",{"$f":"energy_cost_cl","v":0.12121832061068702},"/kwh",{"$f":"E568*C568*1000","v":0},{"$f":"IF(G568=0,0,1)","v":0}]
[null,"Energy for heating"]
[null,"Electric resistance",{"$f":"heating","v":0},"Mwh/yr",{"$f":"energy_cost_cl","v":0.12121832061068702},"/kwh",{"$f":"E570*C570*1000","v":0},{"$f":"IF(G570=0,0,1)","v":0}]
[null,"Heat pump",{"$f":"heating_hp","v":0},"Mwh/yr",{"$f":"energy_cost_cl","v":0.12121832061068702},"/kwh",{"$f":"E571*C571*1000","v":0},0]
[null,"Natural gas non-condensing furnace",{"$f":"heating_gas_non","v":0},"therms/yr",{"$f":"gas_cost_cl","v":0.79405665355998734},"/therm",{"$f":"E572*C572","v":0},0]
[null,"Natural gas condensing furnace",{"$f":"heating_gas","v":0},"therms/yr",{"$f":"gas_cost_cl","v":0.79405665355998734},"/therm",{"$f":"E573*C573","v":0},0]
[null,"Standard efficiency oil furnace",{"$f":"heating_diesel_non","v":0},"gal/yr",{"$f":"diesel_cost_cl","v":2.3528514873883046},"/gal",{"$f":"E574*C574","v":0},0]
[null,"Mid-efficiency oil furnace",{"$f":"heating_diesel","v":0},"gal/yr",{"$f":"diesel_cost_cl","v":2.3528514873883046},"/gal",{"$f":"E575*C575","v":0},0]
[null,"Residuals Discharge/Disposal"]
[null,"POTW discharge fees",{"$f":"IF(res_s2_opt=2,res_flow_annual,0)","v":0},"gal/yr",{"$f":"IF(res_s2_opt=2,G577/C577,\"NA\")","v":"NA"},{"$f":"IF(res_s2_opt=2,\"/gal\",\"\")","v":""},{"$f":"IF(res_s2_opt=2,POTW_fee,\"--\")","v":"--"},{"$f":"IF(res_s2_opt=2,1,0)","v":0}]
[null,{"$f":"IF(res_s2_opt=4,\"Evaporation pond solids disposal\",IF(res_holding=\"tanks\",\"Holding tank solids disposal\",IF(res_holding=\"basins\",\"Holding basins solids disposal\",\"\")))","v":"Holding basins solids disposal"},{"$f":"IF(B578=\"\",\"\",res_solids*sol_disp_freq)","v":0.32062600071088365},{"$f":"IF(B578=\"\",\"\",\"ton/yr\")","v":"ton/yr"},{"$f":"IF(B578=\"\",\"\",IF(C578>0,G578/C578,0))","v":74.91523842510081},{"$f":"IF(B578=\"\",\"\",\"/ton\")","v":"/ton"},{"$f":"IF(B578=\"\",\"\",sol_disposal_fee)","v":24.019773288542392},{"$f":"IF(B578=\"\",\"\",IF(C578=0,0,1))","v":1},{"$f":"IF(AND(res_solids<>0,solids_haz=1,solids_method=2),\"Land application assumed to be zero cost, but labor cost for handling is still included in operator hours\",\"\")","v":""}]
[null,"Miscellaneous Allowance",{"$f":"misc_pct","v":0.1},null,null,null,{"$f":"SUMPRODUCT(G529:G578,H529:H578)*C579","v":2749.6054626150872},{"$f":"IF(C579=0,0,1)","v":1}]
[null,"Total Annual O&M Cost",null,null,null,null,{"$f":"SUMPRODUCT(G529:G579,H529:H579)","v":30245.660088765955}]
[]
["ANNUALIZED COSTS"]
[null,"Assumption","Value","Guidance"]
[null,"Discount rate",7.0000000000000007E-2,"User adjustable"]
[null,"Calculate households based on:","ground water","User adjustable"]
[null,"Household size (people per household)",2.6,"User adjustable"]
[]
[null,"Calculation","Value","Units"]
[null,"Useful Life (Reciprocal Weighted Average)",{"$f":"ROUND((direct_for_UL+IF(build_UL=0,0,addon_cost+indirect_cost))/(total_direct_depreciation+IF(build_UL=0,0,(addon_cost+indirect_cost)/build_UL)),1)","v":19.7},"years"]
[null,"Number of households served",{"$f":"IF(source_select=\"ground water\",(average_flow*1000/0.08558)^(1/1.0584),(average_flow*1000/0.14004)^(1/0.99703))/hh_size","v":24.672476399934606},"households"]
[null,"Annualized Capital Cost",{"$f":"-PMT(Discount_rate,useful_life,system_cost)","v":63006.944480114922},"/year"]
[null,"Annual O&M Cost",{"$f":"om_cost","v":30245.660088765955},"/year"]
[null,"Total Annualized Cost",{"$f":"Annualized_Capital_Cost+om_cost","v":93252.604568880881},"/year"]
[null,"Annualized cost per 1,000 gallons average flow",{"$f":"Annualized_Cost/(average_flow*365*1000)","v":36.498083979992515},"/kgal"]
[null,"Annualized cost per household",{"$f":"Annualized_Cost/households","v":3779.6207829842342},"/household/year"]
[]
[]
["Internal use"]
[null,"Mobilization and Demobilization",{"$f":"C498","v":0}]
[null,"Architectural Fees for Treatment Building",{"$f":"C499","v":0}]
[null,"Installation, Transportation, and O&P",{"$f":"D500","v":0}]
[null,"Site Work",{"$f":"C501","v":4485.3846153846152}]
[null,"Yard Piping",{"$f":"C502","v":1461.5300043813425}]
[null,"Geotechnical",{"$f":"C503","v":3630.4838169058339}]
[null,"Standby Power",{"$f":"C504","v":0}]
[null,"Electrical (including yard wiring)",{"$f":"C505","v":34287.646435049202}]
[null,"Instrumentation and Control",{"$f":"D506","v":0}]
[null,"Contingency",{"$f":"C507","v":0}]
[null,"Process Engineering",{"$f":"C508","v":72259.429027761522}]
[null,"Miscellaneous Allowance",{"$f":"D509","v":0.1}]
[null,"Legal, Fiscal, and Administrative",{"$f":"D510","v":0.02}]
[null,"Sales Tax",{"$f":"D511","v":0}]
[null,"Financing during Construction",{"$f":"D512","v":0}]
[null,"Construction Management and GC Overhead",{"$f":"C513","v":7647.8674705540598}]
[null,"Indirect cost multiplier",{"$f":"SUM(cul_indir_mult_table)","v":0.12000000000000001}]
[null,"Indirect costs added",{"$f":"SUM(cul_indir_add_table)-addon_cost","v":123772.34137003659}]
[]
[]
[null,"Subtotal indirect and add-on cost",{"$f":"C514+addon_cost","v":301429.8050408421}]
[]
[null,"Valid inputs:",{"$f":"INPUT!C19","v":true}]
[null,"Missing Cost?:",{"$f":"IF(COUNTIF(use_column,\"x\")>0,TRUE,FALSE)","v":false}]
[null,"Buildup error?",{"$f":"IF(COUNTIF(use_column,\"ec\")+COUNTIF(use_column,\"ep\")>0,TRUE,FALSE)","v":false}]

{"sheet":"Critical Design Assumptions","index":4,"n_rows":335,"n_cols":7,"rows_kept":335,"cut":false,"hidden":false,"merged":[]}
["Default Critical Design Assumptions"]
["Users may change any of the cells in the Value column; cells in gold are most important and may vary based on contaminant treated and site-specific conditions"]
[]
["Assumption","Range Name","Value","Units","Guidance"]
["Cost estimating method","curve",1,"<-- enter 1 to use cost equations, leave blank to use lookup tables for component costs","Keeping this assumption with a value of 1 is strongly recommended; the cost equations method is more appropriate for national cost estimating and will be more accurate for nearly all user-specified designs"]
[]
["Treatment Flow"]
["Percent of Total Flow that is Bypassed","bp_pct",0,null,"Typically, bypass flow ranges between 0% and 50% of inflow. Enter zero to remove bypass piping and components. 0% is default consistent with the type of cost curves that EPA will need for its national cost simulation model."]
["Minimum average flow as percentage of design","min_avg_flow",0.1,null,"The minimum ratio of average flow to design flow. If the ratio falls below this value, it will trigger a warning on the INPUT sheet. If this value is zero, no minimum is enforced."]
[]
["Bioreactor Design (both system types)"]
["Number of redundant bioreactorvessels for small systems with only one vessel","NRD_small_1",1,"units","If a design includes only one operating vessel, there should be at least one additional vessel"]
["Number of redundant bioreactor vessels for small systems with multiple vessels","NRD_small",0,"units","Small systems can operate at reduced capacity while one vessel is down for backwash, if there are multiple vessels"]
["Add a redundant bioreactor per x parallel lines (Fixed bed designs only)","redund_freq",8,"number of parallel lines/redundant unit"]
["Loading rate minimum","load_min",1,"gpm/square ft","Harding ESE, 2001"]
["Loading rate maximum","load_max",10,"gpm/square ft","Harding ESE, 2001"]
["GAC bulk density","GAC_density",30,"lbs/cubic ft","Bulk density, not particle density.  GAC density range of 22-30 lb/cubic ft; lignite GAC approximately 22 and bituminous GAC approximately 28 lb/cubic ft (Randal J. Braker, General Manager, Duck River Utility Commission)"]
[]
["Pressure Vessel Design"]
["Maximum vessel height (circular vessels)","max_height",24,"feet"]
["Maximum vessel diameter","max_diam_override",14,"feet","Maximum vessel diameter will be chosen from a table of conventional sizes for commercial vessels, unless entered here.  Systems have used vessels up to 14' diam and height in practice (AWWA Inorganic Contaminants Workshop 2006)"]
["Maximum vessel length (longitudinal vessels)","max_length",53,"feet","Limitation on transportation is 53 feet in length"]
["Free board above media at full expansion (fixed bed designs)","free_board",1,"feet"]
["Underdrain space for horizontal vessels","horiz_underdrain",1.5,"feet","1.5 feet is a conservative value for a 10' tank. Bob Dvorin, 5/16/05."]
["Vessel thickness of wall","Vessel_thickness",0,"feet","Set to zero because vendor designs and quotes are usually expressed in inside diameter.  Increase if user desires to input outside diameter."]
["Ratio of  length to diameter for horizontal vessels","length_diam_ratio",2.5,null,"Used only for autosize procedure"]
["Minimum bed depth for autosize","min_bed_depth",2,"feet"]
["Maximum bed depth for autosize","max_bed_depth",12,"feet"]
["Target Bed Depth (Designs < 1MGD)","target_bed_depth_under",4,"feet","Used only for autosize procedure"]
["Target Bed Depth (Designs > 1 MGD)","target_bed_depth_over",5,"feet","Used only for autosize procedure"]
["Target Fluidized Bed Depth (Designs < 1MGD)","target_bed_depth_under_fluid",5,"feet","Used only for autosize procedure"]
["Target Fluidized Bed Depth (Designs > 1 MGD)","target_bed_depth_over_fluid",10,"feet","Used only for autosize procedure"]
["Biomass Seperator Air Scour Volume for fluidized beds","biomass_air_scour",0.3,"CFH/gpm"," 15 CFH air for 50 gpm water treated (U.S. DoD, 2009)"]
["Volume Tolerance, vertical vessels <1 mgd","vol_tol_vert_small",0.5,null,"Used to check size compatibility of specified volume with required volume"]
["Volume Tolerance, vertical vessels >1 mgd","vol_tol_vert_med",0.4]
["Volume Tolerance, horizontal vessels","vol_tol_horiz",0.4]
["Recycle % for fluidized beds","recycle_fluid",0.5,null,"Guidance: Typical recycle rates are 30-80%"]
["Bed expansion during backwash","bed_expansion",0.5]
["Media Expansion when fluidized","bed_expansion_fluidized",0.7]
["Freeboard above fully expanded media (Design < 1MGD)","freeboard_fluidized_small",4,"ft","Guidance: 3 to 5 ft"]
["Freeboard above fully expanded media (Design > 1MGD)","freeboard_fluidized",7,"ft","Guidance: 6 to 8 ft"]
[]
["Gravity Basin Design"]
["Number of redundant bioreactor basins for medium systems","NRD_basins_medium",1,"units"]
["Number of redundant bioreactor basins for large systems","NRD_basins_large",2,"units"]
["Basin freeboard above filter media at full expansion","basin_freeboard",2,"ft"]
["Maximum bed depth (gravity)","max_depth",10,"ft","Guidance: Typical gravity bed depths are 3-10 feet"]
["Minimum bed depth (gravity)","min_depth",3,"ft","Guidance: Typical gravity bed depths are 3-10 feet"]
["Maximum basin width","max_width",30,"ft"]
["Minimum basin width","min_width",3,"ft"]
["Maximum basin length","max_length_g",30,"ft"]
["Minimum basin length","min_length_g",3,"ft"]
["Target Bed Depth (Gravity Designs < 1MGD)","target_bed_depth_under_g",5,"feet","Used only for autosize procedure"]
["Target Bed Depth (Gravity Designs > 1 MGD)","target_bed_depth_over_g",5,"feet","Used only for autosize procedure"]
["Number of stair risers for storage basins","risers",15,"risers","This assumption used only if concrete basins are used."]
["Concrete thickness for storage basins","conc_thick",1,"ft","This assumption used only if concrete basins are used."]
["Overexcavation for storage basins","overexcavate",4,"ft","2 feet each side in each dimension.  This assumption used only if concrete basins are used."]
[]
["Post-Treatment Design"]
["Aeration Tank Residence Time","hrt_aeration",8,"min","US DoD 2009"]
["Aeration Rate","rate_aeration",6.5,"scfm/100gpm","US DoD 2009"]
["Hydrogen Peroxide Dose","H2O2_dose",6,"mg/L","4-8 mg/L (US DoD, 2008)"]
["Percent grade of H2O2","H2O2_grade",0.5]
["Specific gravity of H2O2 at the indicated grade","H2O2_sg",1.19,null,"FMC Corporation, MSDS for 40-60% H2O2, http://www.h2o2.com/intro/FMC_MSDS_40_to_60.pdf"]
["Diluted concentration to be fed","H2O2_dilute_conc",0.05,null,"Hydrogen peroxide is added to water as a dilute solution (MWH, Water Treatment: Principles and Design, second edition, page 552 and Table 8-4)."]
["Number of static mixers for H2O2 addition","n_mixers",1,"units"]
["EBCT for Filtration","ebct_filt",10,"min"," (US DoD, 2008)"]
["Bed Depth for Filtration < 0.1 MGD","bed_depth_filt_small",5,"ft"]
["Bed Depth for Filtration 0.1 MGD-10 MGD","bed_depth_filt",7,"ft"," (US DoD, 2008)"]
["Bed Depth for Filtration > 10 MGD","bed_depth_filt_large",9,"ft"]
["Filter loading rate minimum","load_min_filt",1,"gpm/square ft","used in autosize routine"]
["Filter loading rate maximum","load_max_filt",10,"gpm/square ft","used in autosize routine"]
["Number of redundant polishing filters for small systems with only one vessel","filt_NRD_small_1",1,"units","If a design includes only one operatingfilter, there should be at least one additional vessel"]
["Number of redundant polishing filters for small systems with multiple vessels","filt_NRD_small",0,"units","Small systems can operate at reduced capacity while one filter is down for backwash, if there are multiple filters"]
["Number of redundant polishing filters for medium systems","filt_NRD_basins_medium",1,"units"]
["Number of redundant polishing filters for large systems","filt_NRD_basins_large",2,"units"]
["Bed expansion during backwash","filt_bed_expansion",0.5]
["Basin freeboard above filter media at full expansion","filt_freeboard",2,"ft"]
["Fraction of media anthracite","anthracite_fraction",0.67,null,{"$f":"IF(SUM(C79:C82)<>1,\"WARNING: Total of fractions for each media type must sum to 1\",\"Media fractions OK\")","v":"Media fractions OK"}]
["Fraction of media sand","sand_fraction",0.33,null,{"$f":"IF(AND(COUNTIF(C79:C82,\".0\")=0,COUNTIF(C79:C82,\".0\")>3),\"Number of different media used should be between 1 and 3.\",\"Number of media used is OK.\")","v":"Number of media used is OK."}]
["Fraction of media garnet/ilmenite","garnet_fraction",0,null,{"$f":"IF(COUNTIF(C79:C82,\".0\")=1,\"Single\",IF(COUNTIF(C79:C82,\".0\")=2,\"Dual\",IF(COUNTIF(C79:C82,\".0\")=3,\"Triple\",\"Error with \")))","v":"Dual"}]
["Fraction of media GAC","GAC_fraction",0]
["Anthracite density","anthracite_density",50,"lb/cubic ft"]
["Garnet density","garnet_density",140,"lb/cubic ft","Clack Corporation information bulletin\n"]
["Coagulant dosage prior to post-treatment filtration","coag_dose_filt",10,"mg/L","Coagulant is presumed to be ferric chloride"]
["Coagulant bulk density","coag_density_filt",43,"lb/ft3","For chemical storage area calculations"]
["Coagulant mix time prior to filtration","coag_mix_time",60,"seconds","American Water Works Association and American Society of Civil Engineers. Water Treatment Plant Design. Third Edition. New York: McGraw Hill, 1998. Pp 92. Detention times of 10-60 s; see also Viessman and Hammer, 1993, and others"]
["Coagulant mix tank mixer horsepower","mix_hp_per",0.25,"hp per 1,000 gallons"]
["Minimum coagulant tank mixer horsepower","min_mix_hp",{"$f":"1/3","v":0.33333333333333331},"hp"]
[]
["Pumping"]
["Safety factor for pumps","pump_safety_factor",0.25]
["Redundant booster pumps","NRD_pumps",0,"pumps","Multiple pump approach eliminates need for redundant pumps."]
["Redundant backwash pumps","NRD_back_pumps",1,"pump"]
["Redundant recycle pumps","NRD_recycle_pumps",1,"pump"]
["Number of redundant chemical metering pumps","NRD_cm_pump",1,"pumps"]
["Minimum chemical feed pump size","min_chem_flow",0.13,"gph","Metering pumps will be designed to meet this minimum"]
[]
["Electron Donor/Nutrient Properties"]
["Acetic Acid density","CH3NOOH_dens",8.42,"lbs/gal","Specific gravity of 1.049 for 100% acetic acid translates to 1.009 for 20% acetic acid"]
["Acetic Acid solution strength","CH3NOOH_strength",0.2,"as acetic acid"]
["Ethanol density","ethanol_dens",6.58,"lbs/gal","0.789 g/cm3 "]
["Ammonium Chloride density","NH4CL_dens",12.7,"lbs/gal","1.5274 g/cm3"]
["Phosphoric Acid density","H3PO4_dens",13.17,"lbs/gal","Based on specific gravity of 1.579 for 75% phosphoric acid at 20 degrees centigrade"]
["Phosphoric Acid solution strength","H3PO4_strength",{"$f":"75%*(30.9738/98.2134)","v":0.23652933306453094},"as P","Ratio of molar mass of P and H3PO4 (30.9738/98.2134) converts percent as H3PO4 to percent as P"]
[]
["Backwash"]
["Bioreactor water backwash rate","h2oflush_backwash_rate",8,"gpm/square ft","Guidance: Typical bioreactor backwash rates are between 6-10 gpm/square ft"]
["Bioreactor backwash time","backwash_time",10,"minutes"]
["Filter water backwash rate","filter_h2oflush_backwash_rate",15,"gpm/square ft"]
["Filter backwash time","filter_backwash_time",7,"minutes"]
["Media attrition during bioreactor backwash","media_loss_rate",0.1,"per year","Normal media attrition rate is in the range of 3-10 % per year, usually balanced by adding media to the bioreactor"]
["Media attrition during post-treatment filter backwash","filter_media_loss_rate",0.1,"per year","Normal media attrition rate is in the range of 3-10 % per year, usually balanced by adding media to the filter"]
["Media attrition during biomass removal air scour","fluid_media_loss_rate",0.05,"per year"]
["Air scour volume","air_scour_vol",4,"CFM/square ft"]
["Air scour time","air_scour_time",5,"minutes"]
["Redundant blowers","NRD_blowers",1,"units"]
[]
["Chemical Storage"]
["Days of chemical storage for H2O2","H2O2_days",7,"days","Reduce chemical storage time for H2O2 since it is unstable."]
["Days of chemical storage for all other chemicals","chem_storage",30,"days","US DoD, 2009"]
["Include a separate day tank if daily volume is x or greater","day_tank_needed",5,"gal"]
["Include mixers for chemical tanks","include_cmix",0,"<--- enter 1 for yes, 0 for no"]
["Chemical tank mixer horsepower","cmix_hp_per",0.25,"hp per 1000 gal"]
["Minimum chemical tank mixer horsepower","min_cmix_hp",{"$f":"1/3","v":0.33333333333333331},"hp"]
[]
["Secondary Containment Requirements"]
["Include secondary containment","include_sec_cont",1,"<--- enter 1 for yes, 0 for no"]
["Volume required as a percentage of the largest tank","sec_cont_pct_of_largest",1.1000000000000001]
["Volume required as a percentage of total storage","sec_cont_pct_of_total",0.1]
["Additional freeboard","sec_cont_freeboard",6,"inches","Additional freeboard is typically required to contain precipitation when storage is outside; we also include freeboard indoors to ensure a minimum reasonable curb height"]
["Maximum curb thickness","sec_cont_max_thick",1,"foot","Calculations assume thickness equal to height, up to this maximum"]
["Chemical resistant coating coverage","sec_cont_coating_cvg",125,"square feet/gallon"]
[]
["Valves and Instrumentation"]
["See the Valve Table at the bottom of this page for additional assumptions relating to valves"]
["Number of manual valves on influent and effluent line","tot_man_valves",2,"valves","For emergency shut off"]
["Number of manual valves on process line per vessel","proc_man_vessel",1,"valve/vessel","For filter to waste"]
[]
["Number of check valves on backwash line if no backwash pumps","back_chv_no_back",1,"valves"]
["Number of check valves on backwash line per backwash pump","back_chv_pump",1,"valves/pump"]
["Number of check valves on chemcial line per chemical pump","chem_chv_pump",2,"valves/pump"]
["Number of check valves on influent line","tot_in_chv",1,"valves"]
["Number of check valves on nutrient feed line","tot_nutrient_chv",1,"valves","Prevents biomass gorwth in nutirent line"]
["Number of check valves on polymer line per metering pump","polymer_chv_pump",1,"valves/pump","Applies only with polymer addition to residuals"]
["Number of check valves on bypass line","tot_bp_chv",1,"valves"]
[]
["Flow meters for influent and effluent line","tot_fm_in",1,"units","Flow meter assemblies include pressure gauges"]
["Flow meters for process line per vessel","fm_proc",0,"units/vessel"]
["Flow meters for backwash line","tot_fm_back",1,"units","At backwash discharge outlet"]
["Level switch/ alarm to PLC","level_switch",0,"units/vessel"]
["Level switch/ alarm to PLC for small systems","level_switch_small",0,"units/vessel"]
["Level switch/alarms per bioreactoror","level_switch_g",1,"units/basin"]
["Level switch/alarms per bioreactoror for small systems","level_switch_small_g",0,"units/basin"]
["High/Low alarm for backwash tank","alarm_back",1,"units/vessel"]
["High/Low alarms for chemical tank","alarm_chem",1,"units/vessel"]
["ORP sensor","ORP_sensor",2,"units","One at inlet, one at output."]
["pH meters","pH_controls",0,"units"]
["Temperature meters","temp_meters",2,"units","One for influent line, one for effluent line"]
["Temperature meters for small systems","temp_meters_small",2,"units","One for influent line, one for effluent line"]
["Turbidity meters per vessel","turb_tank",1,"units/vessel","One for effluent line"]
["Turbitity meters per gravity bioreactoror","turb_tank_g",1,"units/basin"]
["Turbitity meters per filter","turb_tank_filt",1,"units/basin","One for effluent line"]
["Additional turbididy meters","add_turb",0,"units"]
["Head loss sensors per vessel","head_tank",1,"units/vessel"]
["Online Perchlorate/Nitrate Analyzers (perchlorate treatment)","ClO4_analyzer",1,"units"]
["Online Nitrate Analyzers (nitrate treatment only)","N_analyzer",1,"units"]
["Online Dissolved Oxygen Analyzer","DO_analyzer",1,"units"]
["Sampling ports per vessel","ports_tank",1,"units/vessel"]
["Sampling ports for blended effluent","ports_bp",1,"units"]
["Additional sampling ports","add_ports",3,"units","One for influent line, one for effluent line, one on residual side of backwash line"]
["Number of electrical enclosures","elec_encl",0,"units","Required only for technologies with significant electric-powered equipment outside a building"]
[]
["System Controls"]
["See the I/O Port Table at the bottom of this page for additional assumptions relating to system controls"]
["Controllers are used only under full automation"]
["To change the degree of automation, change the number of controllers to zero for the appropriate items."]
["Drive controllers per booster pump","S_booster_pump",1]
["Drive controllers per backwash pump and air scour blower","S_back_pump",1]
["Drive controllers per recycle pump","S_recycle_pump",1]
["Drive controllers per eductor","S_eductor",0]
["Drive controllers per residuals pump","S_res_pump",1]
["Drive controllers per feeder","S_feeder",1]
["Drive controllers per mixer","S_mixer",1]
["Drive controllers per chemical  metering pump","S_cm_pump",1]
[]
["Number of CPUs","plc_cpu",2,"unit","One CPU is needed to run the local and expansion bases and modules (max 8192 I/O); using two to provide redundancy"]
["Ethernet modules","plc_ethernet ",2,"unit","One ethernet module is needed; using two to provide redundancy"]
["Operator interfaces ","plc_interface",2,"unit","Two to provide redundancy in the event of SCADA node failure"]
["UPSs ","ups",1,"unit","UPS protects the PLC system from undesired outages and surges that can adversely affect the performance of the PLC unit"]
["Computer workstations per x operators","workstation_ratio",1,"operator/workstation","Minimum will always be one, but larger systems will have multiple workstations to control the system"]
["Number of shifts","shifts_day",3,"shifts/day","Used to determine number of workstations"]
["Printers per x computer workstations","printer_ratio",4,"workstations/printer","Minimum will always be one, but larger systems will have multiple printers"]
[]
["Structure/Floorplan"]
["Maximum access space per vessel or tank for custom designed systems","max_space_vessels_cust",6,"feet","This is the MAXIMUM; space between vessels and tanks defaults to vessel or tank diameter, up to this maximum.  Maximum provides space for sandblasting and painting for large vessels (5-8 feet per Richard E. Hubel, Peter Keenan, American Water Works Service Company)."]
["Maximum access space per vessel or tank for pre-engineered systems","max_space_vessels_pre",1,"feet","Pre-engineered packages are skid-mounted with minimal access space"]
["Access space per pump for custom designed systems","space_pumps_cust",4,"feet","Provide a minimum of 3 ft (1 m) of clear space around each item of equipment (American Water Works Association and American Society of Civil Engineers. Water Treatment Plant Design. Third Edition. New York: McGraw Hill, 1998. Pp. 695)."]
["Access space per pump for pre-engineered packages","space_pumps_pre",0,"feet","Pumps on skid for pre-engineered packages, no additional access space"]
["Non fire Buffer for buildings","non_fire_buffer",10,"feet"]
["Fire Buffer for Buildings","fire_buffer",40,"feet"]
["Top and bottom dished vessel sections height and access space ","Top_bottom_Vessel_space",6,"feet","This is used to determine the building height for purposes of heating and cooling cost.  "]
["Office space per employee","space_office",100,"square ft"]
["Office space per employee","space_office_small",0,"square ft","Small systems do not require office space"]
["Concrete pad thickness","pad_thick",{"$f":"6/12","v":0.5},"feet"]
["Concrete pad thickness for small systems","pad_thick_small",{"$f":"4/12","v":0.33333333333333331},"feet"]
["Clearance space beneath the ceiling","ceiling_clearance",3,"feet","Minimum space between the tops of storage tanks and the ceiling"]
["Additional building after…","add_2nd_building",10000,"sf"]
[]
["Residuals Discharge"]
["Add ferric chloride to holding tank?","coag_res",0,"<-- 1 for yes, 0 for no","For additional TSS removal, if desired"]
["Ferric chloride dosage for residuals","coag_dose",10,"mg/L","Coagulant is presumed to be ferric chloride"]
["Ferric chloride bulk density","coag_density",43,"lb/ft3","For chemical storage area calculations"]
["Ferric chloride sludge production factor","coag_spf",0.99,"lbs accumulated per pound added"]
["Days of coagulant storage","cstore_days",30,"days"]
["Minimum settling time when coagulant is used","res_coag_settle_time",90,"minutes","When coagulant is used, holding tanks will be sized so that residuals are present for at least this long. Based on 90-120 minute settling time in sedimentation basins (Water Treatment Plant Design, 4th ed.)"]
["Add polymer to holding tank?","polymer_res",1,"<-- 1 for yes, 0 for no","For additional TSS removal, if desired"]
["Polymer dose","polymer_dose",100,"mg/L"]
["Polymer solution density","polymer_density",9.6,"lb/gal"]
["Polymer sludge production factor","polymer_spf",1,"lbs accumulated per pound added"]
["Residual solids storage height (for drying pad)","solids_storage_height",2,"ft"]
["Holding tank/basin solids density","ht_solids_density",25,"lb/ft3"]
["Holding tank/basin suspended solids removal efficiency without coagulant","htank_TSSrem",0.25]
["Holding tank/basin suspended solids removal efficiency with coagulant","coag_TSSrem",0.5]
["Clean holding tanks/basins when solids accumulation =x% of capacity","htank_clean_pct",0.1]
["Holding tank/basin capacity safety factor","res_cap_factor",2,null,"Holding tanks are designed with a capacity of one generation event, multiplied by this safety factor. This multiplier accounts for less than perfect staggering of generation events and provides for solids accumulation (i.e., it provides excess capacity)."]
["Time to transfer holding tank/basin solids","transfer_time",4,"hrs","Target for systems using mechanical transfer.  For systems with manual transfer, calcuated based on solids volume."]
["Default number of residuals basins","hbasins_default",1,null,"This assumption applies if concrete basins are used.  If tanks are used, number calculated on design sheet."]
["Holding basin depth to volume ratio","holding_ratio",{"$f":"3/5","v":0.6},null,"This assumption used only if concrete basins are used."]
["Holding basin freeboard","holding_freeboard",3,"feet","This assumption used only if concrete basins are used."]
["Holding tank/basin mixer horsepower (if coagulant is used)","hmix_hp_per",0.25,"hp per 1,000 gallons"]
["Minimum chemical tank mixer horsepower","min_hmix_hp",{"$f":"1/3","v":0.33333333333333331},"hp"]
["Holding tank/basin solids transfer method","res_transfer_method",2,"<-- 1 for slurry pumps, 2 for eductors, 3 for manual trabsfer"]
["Redundant residuals pumps","NRD_res_pump",1,"units","Applies only if pumping is included"]
["Minimum residuals pipe diameter","min_res_pipe_size",1,"in. diam."]
["Distance to discharge or recycle point","add_res_pipe_length",40,"ft"]
["Number of check valves on residuals line per residuals pump","res_chv_pump",1,"valves/pump"]
["Number of check valves on residuals line if no pumping","res_chv_no_pump",1,"valves"]
["Flow meters for residuals line","tot_fm_res",1,"units"]
["High/Low alarms per holding tank","alarm_res",1,"units/tank"]
["TSS in system influent","influent_TSS",2,"ppm","This is INFLUENT TSS.  Backwash TSS is calculated and will be higher, as TSS removed are concentrated."]
["TSS in treated water","effluent_TSS",0.5,"ppm"]
["POTW rate structure","POTW_rate_type",1,"<-- for national average rate, 2 for a specific rate structure"]
["Apply POTW discharge base charge (i.e., $/month)","POTW_base_fee",1,"<-- 1 for yes, 2 for no"]
["Apply POTW discharge volume charge (i.e., $/1000 gallons)","POTW_volume_fee",1,"<-- 1 for yes, 2 for no"]
["Apply POTW discharge TSS charge (i.e., $/lb of TSS over limit below)","POTW_TSS_fee",1,"<-- 1 for yes, 2 for no"]
["POTW TSS discharge limit (over which fee would be imposed)","POTW_TSS_limit",250,"ppm","Most common limit for cities with a limit."]
["Disposal method for non-hazardous secondary solids","solids_method",1,"<-- 1 for landfill, 2 for land application","Ignored if solids are hazardous or radioactive"]
["Maximum hazardous waste shipment size","max_haz_ship",18,"tons"]
["Miles to non-hazardous solid waste disposal site","non_haz_miles",10,"miles"]
["Miles to hazardous solid waste disposal site","haz_miles",200,"miles"]
["Default number of thickener basins","thick_basins_default",1,null,"This assumption applies if concrete basins are used.  If tanks are used, number calculated on design sheet."]
["Thickening basin depth to volume target ratio","thickening_ratio",{"$f":"3/5","v":0.6},null,"This assumption used only if concrete basins are used."]
["Thickening basin freeboard","thickening_freeboard",3,"feet","This assumption used only if concrete basins are used."]
["Thickening Time","thick_time",12,"hours","Usually between 8 and 24 hours"]
["Maximum depth (thickening basin)","max_thick_depth",12,"ft","Based on range of depths. Eimco normal depth is 10 to 12 feet based on a detention time of 6 hours. 12 feet refers to sidewater depth not total tank depth"]
["Percent solids removal in thickener","thick_removal",0.9,"% inflow solids"]
["Percent solids removal in belt press","belt_press_removal",0.9,"% of thickened solids"]
[]
["Evaporation Pond"]
["Average annual pan evaporation rate","pan_evap",180,"cm/year","Reflects an arid climate.  If evaporation ponds are used, climate assumptions on O&M assumptions page should also be changed to reflect an arid climate."]
["Evaporation ratio","evap_ratio",0.7,null,"A safety factor to account for conversion of pan to lake evaporation rate and effect of salinity"]
["Average annual precipitation","precip",70,"cm/year","Reflects an arid climate.  If evaporation ponds are used, climate assumptions on O&M assumptions page should also be changed to reflect an arid climate."]
["Days of winter (i.e., days of storage during periods with no net evaporation)","winter_days",180,"days","Accounts for wet periods in which residuals are stored without evaporation"]
["Evaporation pond safety factor","ep_safety_factor",1.1000000000000001,null,"Accounts for years of below average evaporation"]
["Maximum evaporation pond cell area","max_ep_cell_area",5,"acres"]
["Minimum number of pond cells","min_ep_cells",2,"cells","A minimum of 2 two cells is essential to ensure availability of storage space during cleaning, maintainance or emergency conditions. \"Dewatering Municipal Wastewater Sludge,EPA design Manual, Dewatering Municipal Wastewater Sludges.EPA/625/1-87/014, September 1987\"."]
["Evaporation pond freeboard","ep_freeboard",0.5,"feet","Additional freeboard provided by dike"]
["Overexcavation for evaporation pond","ep_overexcavate",4,"ft","2 feet each side in each dimension"]
["Evaporation pond solids removal frequency","dredging_freq",1,"per year","Range from 1 to 3 yrs.  Depending on the final solid concentration required and local climate.  \"Dewatering Municipal Wastewater Sludge,EPA design Manual, Dewatering Municipal Wastewater Sludges.EPA/625/1-87/014, September 1987\"."]
["Evaporation pond solids density","ep_solids_density",25,"lb/ft3"]
["Evaporation pond dike cross-sectional area","dike_xsection",35.630000000000003,"square ft","13' top and 1:2 side slope, 2'6\" height"]
[]
["Valve Table"]
["Under assumptions below, valves are motorized for fully automated systems, manual for semi-automated and manual systems"]
["To change the degree of automation, the user may replace the numbers in each of the blue columns."]
["Number of control valves of x type on y line per z","Lookup name","Manual","Semi-auto","Fully Auto","Units","Guidance"]
["Motor/air operated control valves on process line per vessel","proc_MOV_vessel_par",0,0,2,"valves/vessel"]
["Number of motor/air operated control valves on process line per booster pump","proc_MOV_pump",0,0,2,"valves/pump"]
["Number of motor/air operated control valves on recycle line","tot_rec_MOVs",0,0,1,"valves"]
["Number of motor/air operated control valves on recycle line per recycle pump","rec_MOV_pump",0,0,1,"valves/pump"]
["Number of motor/air operated control valves on backwash line per vessel","back_MOV_vessel",0,0,2,"valves/vessel"]
["Number of motor/air operated control valves on backwash line per backwash pump","back_MOV_pump",0,0,1,"valves/pump"]
["Number of motor/air operated control valves on backwash line per backwash tank","back_MOV_tank",0,0,1,"valves/tank"]
["Number of motor/air operated control valves on backwash line if no backwash pumps","back_MOV_no_back",0,0,1,"valves"]
["Number of motor/air operated control valves on chemical line per vessel","chem_MOV_vessel",0,0,1,"valves"]
["Number of motor/air operated control valves on chemical line per chemical pump","chem_MOV_pump",0,0,2,"valves/pump"]
["Motor/air operated control valves on residuals line per residuals pump","res_MOV_pump",0,0,1,"valves/pump"]
["Motor/air operated control valves on residuals line per holding or neutralization tank","res_MOV_tank",0,0,1,"valves/tank"]
["Number of motor/air operated control valves on residuals line per cell","res_MOV_ep",0,0,1,"valves/cell"]
["Motor/air operated control valves for per blower","air_MOV_blower",0,0,1,"valves"]
["Additional motor/air operated control valves for air blower line","air_MOV",0,0,1,"valves"]
["Number of motor/air operated control valves on chemical post-treatment line","chem_MOV_post",0,0,1,"valves"]
["Number of motor/air operated control valves per day tank","chem_mov_day",0,0,1,"valves/tank"]
["Number of motor/air operated control valves on bypass line","tot_bp_MOVs",0,0,1,"valves"]
["Number of manual valves on process line per vessel","proc_man_vessel_par",2,2,0,"valves/vessel"]
["Number of manual control valves on process line per booster pump","proc_man_pump",2,2,0,"valves/pump"]
["Number of manual control valves on backwash line per vessel","back_man_vessel",2,2,0,"valves/vessel"]
["Number of manual control valves on backwash line per backwash pump","back_man_pump",1,1,0,"valves/pump"]
["Number of manual control valves on backwash line per backwash tank","back_man_tank",1,1,0,"valves/tank"]
["Number of manual control valves on backwash line if no backwash pumps","back_man_no_back",1,1,0,"valves/tank"]
["Number of manual control valves on chemical line per vessel","chem_man_vessel",1,1,0,"valves"]
["Number of manual control valves on chemical line per chemical pump","chem_man_pump",2,2,0,"valves/pump"]
["Manual control valves for recycle line","tot_man_rec",1,1,0,"valves"]
["Number of motor/air operated control valves on recycle line per recycle pump","rec_man_pump",1,1,0,"valves/pump"]
["Manual on residuals line per residuals pump","res_man_pump",1,1,0,"valves/pump"]
["Manual on residuals line per holding or neutralization tank","res_man_tank",1,1,0,"valves/tank"]
["Number of motor/air operated control valves on residuals line per cell","res_man_ep",1,1,0,"valves/cell"]
["Number of manual control valves on chemical line per chemical pump","chem_man_pump",2,2,0,"valves/eductor"]
["Manual control valves per blower","air_man_blower",1,1,0,"valves"]
["Additional manual control valves for air blower line","air_man",1,1,0,"valves"]
["Number of manual control valves on chemical post-treatment line","chem_man_post",1,1,0,"valves"]
["Number of manual valves per day tank","chem_man_day",1,1,0,"valves/tank"]
["Number of manual control valves on bypass line","tot_bp_man",1,1,0,"valves/tank or saturator"]
[]
["I/O Port Table"]
["Full automation includes all inputs and outputs, semi-automated uses inputs only, manual control uses neither"]
["To change the degree of automation, the user may replace the numbers in each of the blue columns."]
["I/O Ports needed per….","Lookup name","Discrete Inputs","Discrete Outputs","Analog Inputs","Analog Outputs","Guidance"]
["Alarm (including level switch/alarms, high/low alarms, low alarms)","alarm",1,1,0,0]
["Magnetic flow meter","flow_mag",0,0,1,0]
["Orifice plate flow meter","flow_op",0,0,2,1,"Additional analog input because flow meters include pressure gauges"]
["Propeller flow meter","flow_prop",0,0,1,0]
["Venturi flow meter","flow_ven",0,0,2,1,"Additional analog input because flow meters include pressure gauges"]
["Head loss sensor","head",1,0,0,0]
["ORP sensor","ORP",0,0,1,0]
["pH meter","ph",0,0,1,0]
["Sampling port","port",1,0,0,0]
["Drive controller","switch",3,1,0,0]
["Temperature meter","temp",0,0,1,0]
["Turbidity meter","turb",0,0,1,0]
["Perchlorate/nitrate analyzer","clo4",0,0,1,0]
["Nitrate analyzer","nitrate",0,0,1,0]
["DO analyzer","do",0,0,1,0]
["Motor/air operated valve","valve",0,0,1,1]

{"sheet":"O&M Assumptions","index":5,"n_rows":69,"n_cols":5,"rows_kept":69,"cut":false,"hidden":false,"merged":[]}
["Default O&M Assumptions"]
["Users may change any of the cells in the Value column"]
[]
["Assumption","Range Name","Value","Units","Guidance"]
["Pumping"]
["Pump head for booster pumps","booster_pump_head",25,"psi","Von Huben, Harry. Operator's Companion, 4th Edition. USABluebook, 2000.  Pp. 17  25 psi creates a head of 60 feet"]
["Recycle pump head","recycle_pump_head",25,"psi"]
["Backwash pump head","back_pump_head",25,"psi"]
["Residuals pump head","res_pump_psi",25,"psi"]
["Booster Pump efficiency","booster_pump_efficiency",0.75]
["Recycle Pump efficiency","recycle_pump_efficiency",0.75]
["Cost for parts & maintenance for pumps and blowers","booster_pump_maintenance",0.01,"of installed cost","For calculating cost of actual maintenance materials; not to be confused with depreciation.  Initial proposed estimate of 5% seems high  (Richard E. Hubel, Peter Keenan, American Water Works Service Company, Inc)"]
["Additional blower head above water level","add_blow_head",10,"inches"]
["Blower efficiency","blower_effcy",0.7]
[]
["Labor and Materials"]
["Mangerial LOE as a percent of average technical labor ","Manager_percent",0.1,"fraction"]
["Administrative LOE as a percent of average technical labor ","Clerical_percent",0.1,"fraction"]
["Labor hours per week for contact basins","Weekly_labor",1,"hr/week/basin","Gravity systems only"]
["Annual contactor materials cost as a percent of capital","Materials_pct",0.01,null,"Gravity systems only"]
[]
["Operating LOE assumptions"]
["Minutes per instrument per day","uloe_inst",5,"min/day","For manual systems only"]
["Recording operating paramenters for automated systems","uloe_inst_auto",5,"min/day","For semiautomated and automated systems"]
["Minutes per pump per day","uloe_pump",5,"min/day","For manual and semiautomated systems"]
["Minutes per valve per week","uloe_valve",5,"min/week","For manual and semiautomated systems"]
["Minutes per backwash for automated systems","uloe_autoback",1,"min/event","Manual and semiautomated systems use actual backwash time"]
["Minutes per 100 sf per day","uloe_fp",1,"min/100 sf/day"]
["Hours per media changeout","uloe_throwaway",{"$f":"8/(20*27)","v":1.4814814814814815E-2},"hours/cubic foot","For systems using manual media transfer.  Based on 20 cubic yards per day, applied separately to removal and replacement."]
[]
["Maintenance LOE assumptions"]
["For instruments (includes calibration)","uloe_inst_maint",10,"min/month"]
["For pumps","uloe_pump_maint",30.25,"hours/year","Based on vendor recommended maintenance activities; applied to large, frequently operated pumps only"]
["For valves","uloe_valve_maint",5,"min/year","Applied to main process valves only"]
["For chemical supply systems","uloe_chem_maint",120,"min/month"]
[]
["Energy"]
["Lighting power per sf, low-quality buildings and sheds","lighting_power_low",1,"W/sf","1, 2, and 4 W/sf are the assumptions used for building capital costs."]
["Lighting power per sf, mid-quality buildings","lighting_power_mid",2,"W/sf"]
["Lighting power per sf, high-quality buildings","lighting_power_high",4,"W/sf"]
[]
["Ventilation air change rate for contactor","Air_changes_contactor",3,"air changes/hr"]
["Ventilation air change rate for pump room","Air_changes_pump",20,"air changes/hr","Could be lower (annual average 3 changes/hr) in a northern climate"]
["Ventilation air change rate for chemical storage","Air_changes_chem_storage",2,"air changes/hr"]
["Ventilation air change rate for offices","Air_changes_office",2,"air changes/hr"]
["Pressure drop across the fan","Fan_pressure_drop",0.25,"lbs/ft2"]
["Number of mechanical ventilation days per year first building (small system)","fan_days_build1_small",90,"days/year","Number of days per year where natural ventilation is applicable cannot be greater than 365 days"]
["Number of mechanical ventilation days per year 2nd building (small system)","fan_days_build2_small",90,"days/year","For small systems (<1 MGD)"]
["Number of mechanical ventilation days per year first building (medium system)","fan_days_build1_medium",120,"days/year","For medium systems (1 - 10 MGD)"]
["Number of mechanical ventilation days per year 2nd building (medium system)","fan_days_build2_medium",120,"days/year"]
["Number of mechanical ventilation days per year first building (large system)","fan_days_build1_large",185,"days/year","For large systems (> 10 MGD)"]
["Number of mechanical ventilation days per year 2nd building (large system)","fan_days_build2_large",185,"days/year"]
[]
["R-value for walls","R_wall",13,"hr-sf-degF/BTU","Assumes standard building materials.  If higher R-value materials are desired, user may also need to adjust the cost of building materials in cl.xls"]
["R-value for ceilings","R_ceiling",38,"hr-sf-degF/BTU","Assumes standard building materials.  If higher R-value materials are desired, user may also need to adjust the cost of building materials in cl.xls"]
["Annual heating degree days","heat_DD",4923,"degree days","Heating and cooling assumptions should be consistent with one another.  Assumed values are for a climate that results in a total energy usage for heating and cooling equal to the national median."]
["Annual cooling degree days","cool_DD",1697,"degree days","Heating and cooling assumptions should be consistent with one another.  Assumed values are for a climate that results in a total energy usage for heating and cooling equal to the national median."]
["Heating ventilation/infiltration load","heat_viload",168679,"BTU/cfm","Heating and cooling assumptions should be consistent with one another.  Assumed values are for a climate that results in a total energy usage for heating and cooling equal to the national median."]
["Cooling ventilation/infiltration load","cool_viload",51771,"BTU/cfm","Heating and cooling assumptions should be consistent with one another.  Assumed values are for a climate that results in a total energy usage for heating and cooling equal to the national median."]
["Electric resistance heating efficiency","resist_eff",0.98,null,"See Appendix E"]
["Heat pump heating coefficient of performance","COP",3.2,null,"See Appendix E"]
["Natural gas non-condensing furnace efficiency","gas_non_eff",0.8,null,"See Appendix E"]
["Natural gas condensing furnace efficiency","gas_eff",0.95,null,"See Appendix E"]
["Standard oil furnace efficiency","diesel_non_eff",0.78,null,"See Appendix E"]
["Mid-efficiency oil furnace efficiency","diesel_eff",0.85,null,"See Appendix E"]
["Air conditioning EER","EER",11,"Whr/BTU","See Appendix E"]
["Heat pump cooling mode EER","hp_EER",10.1,"Whr/BTU","See Appendix E"]
[]
["Heating oil heat content","diesel_heat_content",139000,"BTU/gal","U.S. DOE, Energy Information Administration."]

{"sheet":"Indirect Assumptions","index":6,"n_rows":127,"n_cols":5,"rows_kept":127,"cut":false,"hidden":false,"merged":[[105,0,106,0],[105,1,106,1],[105,2,105,4],[117,0,118,0],[117,1,118,1],[117,2,117,4]]}
["Default Assumptions for Indirect and Add-On Costs"]
["Users may change any of the cells in the Value column"]
[]
["Assumption","Range Name","Value","Units","Guidance"]
["Permits"]
["Include permit costs?","include_permits",1,"<--- enter 1 for yes, 0 for no"]
["Always include NEPA compliance costs?","include_NEPA",0,"<--- enter 1 for yes, 2 for no","Default of 0 means NEPA compliance is included in the high component cost estimate only.  Selecting 1 means NEPA compliance will be included in all estimates.  Selecting 0 means NEPA compliance will never be included"]
[]
["Pilot Study"]
["Include pilot study costs?","include_pilot",1,"<--- enter 1 for yes, 0 for no"]
[]
["Mobilization and Demobilization"]
["Mobilization percentage for pre-engineered packages","mob_pct_pre",0,"of direct capital cost","Excluded by default for pre-engineered packages"]
["Mobilization percentage for small systems","mob_pct_small",0.05,"of direct capital cost","Typically 2-5% of the estimated construction cost.  Enter 0% to exclude."]
["Mobilization percentage for medium systems","mob_pct_medium",0.04,"of direct capital cost"]
["Mobilization percentage for large systems","mob_pct_large",0.02,"of direct capital cost"]
[]
["Architectural Fees for Treatment Building"]
["Include architectural fee?","include_arch",1,"<--- enter 1 for yes, 0 for no","Must be added to building cost. Change for special considerations. Includes structural, mechanical, and electrical engineering for building only."]
["Include architectural fee for small systems?","include_arch_small",0,"<--- enter 1 for yes, 0 for no"]
[]
["Installation, Transportatation, and O&P"]
["Installation, Transportatation, and O&P percentage","inst_pct",0,"of direct capital cost","Included in line item unit costs.  Add a percentage for special considerations such as a remote site or high cost location."]
[]
["Sitework"]
["Include sitework costs?","include_sitework",1,"<--- enter 1 for yes, 0 for no"]
[]
["Yard Piping"]
["Include yard piping costs?","include_yardpipe",1,"<--- enter 1 for yes, 0 for no"]
["Frost depth","frost",38,"inches","Should be consistent with (reflect same climate as) heating and cooling assumptions on O&M assumptions page.  Assumptions are for St. Louis, Missouri."]
["Minimum trench depth to top of pipe","min_trench_depth",36,"inches","US Army Corps of Engineers recommended minimum cover for distribution pipes of 2.5 ft in grassed areas, 3 ft if buried under pavement or roadways but not less than frost penetration depth (USACOE 1984)"]
["Soil density","soil_dens",97,"lb/cubic ft.","Based on soil density of loamy sand (1.55 gm/cc)"]
["Coefficient of passive pressure","Coeff_Kp",3]
["Reduction factor","Reduction",0.46700000000000003]
["Bedding depth below pipe","bedding_depth",6,"inches"]
["Bedding depth surrounding the pipe","bedding_pct",0.25,"of pipe diameter"]
["Trench inside angle","trench_angle",{"$f":"RADIANS(45)","v":0.78539816339744828},"radians"]
["Pipe length from water source to the boundary of the 10 foot buffer","yard_in",0,"feet","Use if technology is first step in treatment process"]
["Pipe length the boundary of the 10 foot buffer to distribution network","yard_out",0,"feet","Use if technology is last step in treatment process"]
[]
["Geotechnical & Sitework"]
["Include geotechnical costs for low cost systems?","include_geo_low",0,"<--- enter 1 for yes, 0 for no","Note: geotechnical is always included with the evaporation pond option, regardless of the numbers entered here"]
["Include geotechnical costs for medium cost systems?","include_geo_medium",0,"<--- enter 1 for yes, 0 for no"]
["Include geotechnical costs for high cost systems?","include_geo_high",1,"<--- enter 1 for yes, 0 for no"]
["Test pit length","pit_length",4,"feet"]
["Test pit width","pit_width",4,"feet"]
["Test pit depth","pit_depth",7,"feet"]
["Borehole depth (pressure systems)","bore_depth_p",10,"feet"]
["Borehole depth for shallow basins","bore_depth_min",25,"feet"]
["Borehole depth for deep basins","bore_depth_max",50,"feet"]
["Basin excavation depth above which deeper boreholes are needed","deep_bore_need",20,"feet","Large gravity systems with deep basins require deeper investigation"]
["Technology footprint above which boreholes are needed","bore_need",2000,"square feet","Small system geotechnical investigation can be completed with test pits, larger systems require boreholes"]
["Minimum number of boreholes","min_holes",4]
["Borehole needed every x square feet","hole_per_sf",1000,"square feet"]
["Boreholes per job","hole_per_job",24,"boreholes/job"]
["Linear feet bored per day","hole_per_day",55.5,"l.f./day","RS Means Costworks 2001"]
[]
["Standby Power"]
["Include standby power costs?","include_standby",1,"<--- enter 1 for yes, 0 for no"]
["Include standby power costs for small systems?","include_standby_small",0,"<--- enter 1 for yes, 0 for no"]
["Design safety factor for standby power","std_safety_factor",0,null,"Default 0%.  Apply a percentage to increase standby power requirements."]
["Include heating in standby power","need_heat",0,"<--- enter 1 for yes, 0 for no","If a system uses gas or diesel heat, heating will not be included, regardless of this assumption."]
["Include cooling in standby power","need_cool",0,"<--- enter 1 for yes, 0 for no","If both heating and cooling are included, standby power requirements will be based on the maximum of the two."]
["Minimum standby power generator size","min_standby",10,"kW","Minimum size for full standby generators"]
[]
["Electrical (including yard wiring)"]
["Electrical percentage","elect_pct",0.1,"of direct cost"]
[]
["Instrumentation and Control"]
["Instrumentation and control percentage","i_c_pct",0,"of direct cost","Included as a direct cost line item."]
[]
["Contingency"]
["Include contingency costs for low cost systems?","include_conting_low",0,"<--- enter 1 for yes, 0 for no"]
["Include contingency costs for medium cost systems?","include_conting_medium",0,"<--- enter 1 for yes, 0 for no"]
["Include contingency costs for high cost systems?","include_conting_high",1,"<--- enter 1 for yes, 0 for no"]
["Technology complexity factor","complexity",1.5,null,"Technology-specific factor.  See Appendices for details.  Low complexity = 0.5; Average complexity = 1.0; High complexity = 1.5; Very high complexity = 2.0."]
[]
["Process Engineering"]
["Engineering percentage for small systems","eng_pct_small",0.2,"of direct capital cost","Enter 0% to exclude."]
["Engineering percentage for medium systems","eng_pct_medium",0.12,"of direct capital cost"]
["Engineering percentage for large systems","eng_pct_large",0.08,"of direct capital cost"]
[]
["Miscellaneous Allowance"]
["Miscellaneous allowance percentage","misc_pct",0.1,"of direct capital cost","Enter 0% to exclude. "]
[]
["Legal, Fiscal, and Administrative"]
["Legal percentage","legal_pct",0.02,"of direct capital cost","Enter 0% to exclude.  Highly site-specific.  Can range from 2-5% of equipment, installation, construction, electrical, and standby power.  To estimate, add 5% to total estimated construction cost."]
[]
["Sales Tax"]
["Sales tax percentage","tax_pct",0,"of direct capital cost","May be exempt if constructed with public funds.  May be as high as 7.25% of equipment and construction, with national average 4.75%."]
[]
["Financing during Construction"]
["Financing percentage","finance_pct",0.05,"of direct capital cost","Enter 0% to exclude.  Typically assumed to be one year's interest on capital cost."]
["Financing percentage for small systems","finance_pct_small",0,"of direct capital cost","Small system construction assumed to take less than one year"]
[]
["Construction Management and General Contractor Overhead"]
["Builder's risk insurance percentage","br_ins_pct",3.3999999999999998E-3,null,"Enter 0% to exclude. 0.34% is national average rate. RSMeans Building Construction Cost Data 2009, reference section R01100-070"]
["Include performance bond cost?","include_bond",1,"<--- enter 1 for yes, 0 for no"]
["Include construction management cost?","include_cm",1,"<--- enter 1 for yes, 0 for no"]
["Include construction management cost for pre-engineered packages?","include_cm_pre",0,"<--- enter 1 for yes, 0 for no"]
[]
["Concrete Pad"]
["Include concrete pad in total capital cost?","include_pad",1,"<--- enter 1 for yes, 0 for no"]
[]
["Heating Table (1=include heating in buildings and O&M, 0 = do not include heating)"]
["Component Level","Range Name","System Size"]
[null,null,"Small (<1 mgd)","Medium (1-10 mgd)","Large (>10 mgd)"]
["Buildings 500 square feet or greater"]
["low cost","heating_table",0,1,1]
["mid cost",null,1,1,1]
["high cost",null,1,1,1]
["Buildings less than 500 ft2 (other than those used for chlorine storage)"]
["low cost","heating_table_shed",0,0,1]
["mid cost",null,0,0,1]
["high cost",null,1,1,1]
[]
["Cooling Table (1=include cooling in buildings and O&M, 0 = do not include cooling)"]
["Component Level","Range Name","System Size"]
[null,null,"Small (<1 mgd)","Medium (1-10 mgd)","Large (>10 mgd)"]
["Buildings 500 square feet or greater"]
["low cost","cooling_table",0,0,1]
["mid cost",null,0,1,1]
["high cost",null,1,1,1]
["Buildings less than 500 ft2 (other than those used for chlorine storage)"]
["low cost","cooling_table_shed",0,0,0]
["mid cost",null,0,0,0]
["high cost",null,0,0,0]

{"sheet":"Bioreactor Constraints","index":7,"n_rows":86,"n_cols":5,"rows_kept":86,"cut":false,"hidden":false,"merged":[]}
["Bioreactor Constraint Calculations"]
["This sheet performs calculations to confirm that the vessel design on the Input page meets engineering constraints"]
[]
["Calculation","Range Name","Value","Units","Guidance"]
["From Inputs"]
["Design Flow","design_flow",{"$f":"IF(df_units=\"gpm\",(1-bp_pct)*design_flow_I*24*60/1000000,(1-bp_pct)*design_flow_I)","v":0.03},"MGD","From Inputs"]
["Average Flow","average_flow",{"$f":"(1-bp_pct)*IF(af_units=\"gpm\",average_flow_I*24*60/1000000,IF(af_units=\"fraction of design flow\",average_flow_I*design_flow,average_flow_I))","v":7.0000000000000001E-3},"MGD","From Inputs"]
["Design Flow Rate","design_flow_rate",{"$f":"design_flow*1000000/(24*60)","v":20.833333333333332},"gpm","Design flow expressed in gpm"]
["Average Flow Rate","average_flow_rate",{"$f":"average_flow*1000000/(24*60)","v":4.8611111111111107},"gpm","Average flow expressed in gpm"]
["Bypass Flow Rate (design)","bp_flow_rate",{"$f":"bp_pct/(1-bp_pct)*design_flow_rate","v":0},"gpm"]
["Target Contaminant","contam",1,"<-- 1 for perchlorate, 2 for nitrate, 3 for other"]
["Design type chosen","design_type",1,"<-- 1 for Fixed Bed Pressure Vessel, 2 for Fixed Bed Gravity Basin, 3 for Fluidized Bed"]
["Empty bed contact time or Hydraulic Residence Time","EBCT",{"$f":"ebct_I","v":12},"minutes"]
[]
[]
["PRESSURE VESSELS"]
["Vessel geometry","tank_geom",{"$f":"IF(tank_geom_I=\"horizontal\",2,1)","v":1},"<-- 1 for upright cylindrical, 2 for horizontally-laid cylinder "]
[]
["From Central Cost Database"]
["Maximum Standard Vessel Diameter","max_diam_std_size",{"$f":"max_vessel_diam_cl","v":14},"feet"]
["Minimum Vessel Diameter","min_diam",{"$f":"IF(design_type=2,\"-\",min_vessel_diam_cl)","v":1.5},"feet"]
["Maximum Vessel Diameter","max_diam",{"$f":"IF(design_type=2,\"-\",IF(max_diam_override>0,max_diam_override,max_diam_std_size))","v":14},"feet"]
[]
["Vessel Constraints"]
["EBCT per vessel","EBCT_tank",{"$f":"EBCT","v":12},"minute"]
["Vessel surface area","max_sa",{"$f":"IF(design_type=2,\"-\",IF(tank_geom=1,PI()*(comm_diam-2*Vessel_thickness)*(comm_diam-2*Vessel_thickness)/4,IF(tank_geom=2,(comm_diam-2*Vessel_thickness)*comm_height_length,0)))","v":4.908738521234052},"square feet"]
["Height available above media bed (for horizontal vessels)","distance_above",{"$f":"IF(design_type=2,\"-\",IF(tank_geom=2,comm_diam-bed_depth-horiz_underdrain,\"NA\"))","v":"NA"},"feet"]
["Void space above media bed (for horizontal vessels)","void_above",{"$f":"IF(design_type=2,\"-\",IF(tank_geom=2,comm_height_length*(comm_diam*comm_diam/2*ASIN(SQRT(distance_above/comm_diam))-(comm_diam/2-distance_above)*SQRT((comm_diam-distance_above)*distance_above)),\"NA\"))","v":"NA"},"cubic feet"]
["Maximum flow per vessel","flow_per_vessel",{"$f":"IF(design_type=2,\"-\",IF(tank_geom=1,(max_sa*IF(design_type=3,bed_depth*(1+bed_expansion_fluidized),bed_depth)*7.48)/EBCT_tank,media_volume*7.48/EBCT_tank))","v":10.709231207158957},"gpm"]
["Number of parallel treatment trains","num_treat_lines",{"$f":"IF(design_type=2,\"-\",IF(design_type=1,ROUNDUP(design_flow_rate/flow_per_vessel,0),ROUNDUP(design_flow_rate*(1+recycle_fluid)/flow_per_vessel,0)))","v":2},"lines"]
["Number of vessels excluding redundancy","op_num_tanks",{"$f":"IF(design_type=2,\"-\",IF(design_type=1,ROUNDUP(design_flow_rate/flow_per_vessel,0),ROUNDUP(design_flow_rate*(1+recycle_fluid)/flow_per_vessel,0)))","v":2},"units"]
["Number of redundant bioreactors","NRD",{"$f":"IF(design_type=2,\"-\",IF(NRD_I<>\"\",NRD_I,IF(AND(design_flow>=1,design_type=1),ROUNDUP(num_treat_lines/redund_freq,0),IF(op_num_tanks=1,NRD_small_1,NRD_small))))","v":0}]
["Total number of vessels including redundancy","final_num_tanks",{"$f":"IF(design_type=2,0,op_num_tanks+NRD)","v":2},"units"]
[]
["Vessel requirements based on bed depth and contact time"]
["Minimum volume of contact area needed","contact_material",{"$f":"IF(design_type=2,\"-\",IF(design_type=1,design_flow_rate*EBCT/(7.481),design_flow_rate*(1+recycle_fluid)*EBCT/(7.481)))","v":33.417992247025801},"cubic feet"]
["Minimum volume of contact area per vessel","contact_mat_per_vessel",{"$f":"IF(design_type=2,\"-\",contact_material/op_num_tanks)","v":16.7089961235129},"cubic feet"]
["Minimum volume of vessel","vol_vessel",{"$f":"IF(design_type=2,\"-\",IF(design_type=1,contact_mat_per_vessel*(1+bed_expansion),contact_mat_per_vessel))","v":25.063494185269349},"cubic feet"]
["Minimum surface area of contact material","SA",{"$f":"IF(design_type=2,\"-\",contact_mat_per_vessel/(IF(design_type=3,bed_depth*(1+bed_expansion_fluidized),bed_depth)))","v":4.7739988924322576},"square feet"]
[]
["Quantities based on user-specified vessel dimensions"]
["Final surface area of contact material","comm_SA",{"$f":"IF(design_type=2,\"-\",IF(tank_geom=1,(comm_diam-(2*Vessel_thickness))^2*PI()/4,IF(tank_geom=2,(comm_diam-(2*Vessel_thickness))*comm_height_length)))","v":4.908738521234052},"square feet"]
["Final surface loading rate","comm_load_rate",{"$f":"IF(design_type=2,\"-\",IF(design_type=1,(design_flow_rate/num_treat_lines)/comm_SA,(design_flow_rate*(1+recycle_fluid)/num_treat_lines)/comm_SA))","v":2.1220659078919377},"gpm/square ft"]
["Volume","comm_vol",{"$f":"IF(design_type=2,\"-\",PI()*comm_diam^2/4*comm_height_length)","v":31.906800388021338},"cubic feet"]
[null,"comm_vol_gal",{"$f":"IF(design_type=2,\"-\",comm_vol*7.48)","v":238.66286690239963},"gal"]
[]
["Checks on user-specified dimensions"]
["Design dimensions for vertical vessels:"]
["    Required height of vessel","height",{"$f":"IF(design_type=2,\"-\",IF(design_type=1,bed_depth*(1+bed_expansion)+free_board,IF(design_type=3,bed_depth*(1+bed_expansion_fluidized)+IF(design_flow<1,freeboard_fluidized_small,freeboard_fluidized),\"-\")))","v":6.25},"feet"]
["    Required vessel diameter (circular vessels)","diameter",{"$f":"IF(design_type=2,\"-\",(SA*4/PI())^0.5+(2*Vessel_thickness))","v":2.4654500961014438},"feet"]
["    Minimum commercial height given diameter","min_comm_height",{"$f":"IF(design_type=2,\"-\",VLOOKUP(comm_diam,vessel_size_table_cl,2))","v":4},"feet"]
["    Maximum commercial height given diameter","max_comm_height",{"$f":"IF(design_type=2,\"-\",VLOOKUP(comm_diam,vessel_size_table_cl,3))","v":9},"feet"]
[]
["Void space required for horizontal vessels:"]
["For freeboard","freeboard_horiz_void",{"$f":"IF(design_type=2,\"-\",comm_height_length*(comm_diam*comm_diam/2*ASIN(SQRT(free_board/comm_diam))-(comm_diam/2-free_board)*SQRT((comm_diam-free_board)*free_board)))","v":11.918148394972539},"cubic feet","Volume of a horizontal slice taken out of a cylinder"]
["For underdrain","underdrain_horiz_void",{"$f":"IF(design_type=2,\"-\",comm_height_length*(comm_diam*comm_diam/2*ASIN(SQRT(horiz_underdrain/comm_diam))-(comm_diam/2-horiz_underdrain)*SQRT((comm_diam-horiz_underdrain)*horiz_underdrain)))","v":19.988651993048798},"cubic feet"]
["Total","horiz_void",{"$f":"IF(design_type=2,\"-\",freeboard_horiz_void+underdrain_horiz_void)","v":31.906800388021338},"cubic feet"]
[]
["Volume available for media and expansion:"]
["Vertical vessel","vert_vol_available",{"$f":"IF(design_type=2,\"-\",(comm_height_length-free_board)*PI()*comm_diam^2/4)","v":26.998061866787282},"cubic feet"]
["Horizontal vessel","horiz_vol_available",{"$f":"IF(design_type=2,\"-\",comm_vol-horiz_void)","v":0},"cubic feet"]
["For selected vessel geometry","input_vol_vess",{"$f":"IF(design_type=2,\"-\",CHOOSE(tank_geom,vert_vol_available,horiz_vol_available))","v":26.998061866787282},"cubic feet","To be compared to vol_vessel, to determine whether vessel is oversized."]
[]
["Tolerance for oversized vessels","vol_tol",{"$f":"IF(design_type=2,\"-\",CHOOSE(tank_geom,IF(ss_cat2=1,vol_tol_vert_small,vol_tol_vert_med),vol_tol_horiz))","v":0.5},null,"Tolerance added to vol_vessel in checking for oversized vessels."]
[]
["GRAVITY CONTACT BASINS"]
["Minimum volume required","min_basin_vol",{"$f":"IF(OR(design_type=1,design_type=3),\"-\",design_flow_rate*EBCT/7.48)","v":"-"},"cubic ft"]
["Number of basins (no redundancy)","op_num_basins",{"$f":"IF(OR(design_type=1,design_type=3),\"-\",ROUNDUP(min_basin_vol/(basin_width*basin_length*basin_op_depth),0))","v":"-"}]
["Basin depth including freeboard","basin_depth",{"$f":"IF(OR(design_type=1,design_type=3),\"-\",basin_op_depth*(1+bed_expansion)+basin_freeboard)","v":"-"},"ft"]
["Total basin volume","basin_vol",{"$f":"IF(OR(design_type=1,design_type=3),\"-\",basin_width*basin_length*basin_depth*7.48)","v":"-"},"gal"]
["Number of reduntant basins","NRD_g",{"$f":"IF(OR(design_type=1,design_type=3),\"-\",IF(NRD_I<>\"\",NRD_I,IF(op_num_basins=1,NRD_small_1,CHOOSE(ss_cat2,NRD_small,NRD_basins_medium,NRD_basins_large))))","v":"-"},"units"]
["Basin loading rate","surface_loading_rate_g",{"$f":"IF(OR(design_type=1,design_type=3),\"-\",design_flow_rate/(op_num_basins*(basin_width*basin_length)))","v":"-"},"gpm/square ft"]
["Total number of basins (incl. redundancy)","total_num_basins",{"$f":"IF(OR(design_type=1,design_type=3),0,op_num_basins+NRD_g)","v":0},"units"]
["Concrete volume","basin_conc_vol",{"$f":"IF(OR(design_type=1,design_type=3),\"-\",(2*(basin_width*total_num_basins+conc_thick*(total_num_basins+1))*basin_depth*conc_thick+(total_num_basins+1)*basin_length*basin_depth*conc_thick+(basin_length+2*conc_thick)*(basin_width*total_num_basins+conc_thick*(total_num_basins+1))*conc_thick)/27)","v":"-"},"cubic yd","incorporates common wall design"]
["Excavation volume","excavation_vol",{"$f":"IF(OR(design_type=1,design_type=3),\"-\",((total_num_basins*basin_width+(total_num_basins+1)*conc_thick+overexcavate)*(basin_length+2*conc_thick+overexcavate)*(basin_depth+conc_thick+overexcavate)+0.5*(3*(basin_depth+conc_thick+overexcavate)*(basin_depth+conc_thick+overexcavate)*(basin_length+2*conc_thick+overexcavate)))/27)","v":"-"},"cubic yd","incorporates common wall design, includes ramping for moving earth out of excavated area, assumes flush with grade (conservative)"]
["Backfill volume","backfill_vol",{"$f":"IF(OR(design_type=1,design_type=3),\"-\",excavation_vol-(total_num_basins*basin_width+(total_num_basins+1)*conc_thick)*(basin_length+2*conc_thick)*(basin_depth+conc_thick)/27)","v":"-"},"cubic yd"]
["Railing length","railing",{"$f":"IF(OR(design_type=1,design_type=3),\"-\",2*(total_num_basins*basin_width+2*conc_thick/2+(total_num_basins-1)*conc_thick)+2*(basin_length+2*conc_thick/2))","v":"-"},"lf","incorporates common wall design, single railing (concrete thickness is not sufficient to provide walkway)"]
["Surface area each contactor","basin_area",{"$f":"IF(OR(design_type=1,design_type=3),\"-\",basin_width*basin_length)","v":"-"},"square ft","for internals costing"]
[]
[]
["MEDIA QUANITITIES"]
["GAC media volume per bioreactor","media_volume",{"$f":"IF(OR(design_type=1,design_type=3),IF(tank_geom=1,comm_SA*bed_depth,IF(tank_geom=2,comm_vol-underdrain_horiz_void-void_above)),basin_width*basin_length*basin_op_depth)","v":17.180584824319183},"cubic feet"]
["GAC media volume per bioreactor in gallons","resin_volume_gal",{"$f":"resin_volume*7.48","v":128.51077448590749},"gallons"]
["GAC media mass per bioreactor","resin_per_vessel",{"$f":"media_volume*GAC_density","v":515.41754472957552},"lbs"]
["Total GAC media","total_resin",{"$f":"resin_per_vessel*IF(OR(design_type=1,design_type=3),final_num_tanks,total_num_basins)","v":1030.835089459151},"lbs"]
["Media volume when expanded","media_volume_expanded",{"$f":"media_volume*(1+bed_expansion)","v":25.770877236478775},"cubic feet","Accounts for bed expansion"]

{"sheet":"Chemicals","index":8,"n_rows":155,"n_cols":5,"rows_kept":155,"cut":false,"hidden":false,"merged":[]}
["Chemical Use Calculations"]
[]
["Calculation","Range Name","Value","Units","Guidance"]
["ELECTRON DONOR"]
["Electron Donor Type (from Input)","e_donor_type",{"$f":"IF(e_donor_type_I=\"acetic acid\",1,IF(e_donor_type_I=\"ethanol\",2,\"\"))","v":1},"<-- 1 for Acetic Acid, 2 for Ethanol"]
["Electron Donor Dose (from Input)","e_donor_dose",{"$f":"e_donor_dose_I","v":10},"mg/l"]
["Electron donor needed per day as 100% donor (design flow)","e_donor_day_100pct",{"$f":"e_donor_dose*design_flow*8.34","v":2.5019999999999998},"lbs/day"]
["Electron donor solution needed per day","e_donor_day",{"$f":"IF(e_donor_type=1,e_donor_day_100pct/CH3NOOH_strength,e_donor_day_100pct)","v":12.509999999999998},"lbs/day"]
["Electron donor volume per day","e_donor_day_vol",{"$f":"e_donor_day/IF(e_donor_type=1,CH3NOOH_dens,IF(e_donor_type=2,ethanol_dens,\"\"))","v":1.4857482185273156},"gal/day"]
["Electron donor storage","e_donor_store",{"$f":"e_donor_day_vol*(average_flow/design_flow)*chem_storage","v":10.400237529691211},"gal"]
["Acetic acid storage","acetic_store",{"$f":"IF(e_donor_type=1,e_donor_day*chem_storage,0)","v":375.29999999999995},"lbs"]
["Ethanol storage","ethanol_store",{"$f":"IF(e_donor_type=2,e_donor_store,0)","v":0},"gal"]
["Maximum chemical storage tank size","max_chem_tank_size",{"$f":"MAX(VLOOKUP(10^6,pl_cst_cost_cl,1)-1,VLOOKUP(10^6,fg_cst_cost_cl,1)-1,VLOOKUP(10^6,ss_cst_cost_cl,1)-1)","v":30000},"gallons","The largest size for which costs are available (including plastic, fiberglass, and stainless)"]
[]
["Number of electron donor storage tanks","e_donor_tanks",{"$f":"ROUNDUP(e_donor_store/max_chem_tank_size,0)","v":1},"units"]
["Electron donor storage tank size","e_donor_tank_vol",{"$f":"ROUNDUP(e_donor_store/e_donor_tanks,0)","v":11},"gal"]
["Electron donor day tank storage volume required (based on design flow)","e_donor_day_tank_vol_needed",{"$f":"e_donor_day_vol*design_flow/average_flow","v":6.3674923651170667},"gallons"]
["Electron donor number of day tanks","e_donor_day_tanks",{"$f":"IF(e_donor_day_tank_vol_needed<day_tank_needed,0,ROUNDUP(e_donor_day_tank_vol_needed/max_chem_tank_size,0))","v":1},"units"]
["Electron donor volume of day tanks","e_donor_day_tank_vol",{"$f":"IF(e_donor_day_tanks=0,0,ROUNDUP(e_donor_day_tank_vol_needed/e_donor_day_tanks,0))","v":7},"gallons"]
["Maximum chemical tank mixer horsepower","cmix_hp_max",{"$f":"MAX(VLOOKUP(10^6,port_mix_cost_cl,1)-0.1,VLOOKUP(10^6,mount_mix_cost_cl,1)-0.1,VLOOKUP(10^6,imp_mix_cost_cl,1)-0.1)","v":20},"hp"]
["Mixers per storage tank","e_donor_cmix_per_tank",{"$f":"IF(AND(include_cmix=1,e_donor_tanks<>0),ROUNDUP(e_donor_tank_vol/1000*cmix_hp_per/cmix_hp_max,0),0)","v":0},"units"]
["Number of storage tank mixers","e_donor_cmixers",{"$f":"e_donor_tanks*e_donor_cmix_per_tank","v":0},"units"]
["Mixer size for storage tanks","e_donor_cmix_size",{"$f":"IF(e_donor_cmixers<>0,MAX(min_cmix_hp,e_donor_tank_vol/1000*cmix_hp_per/e_donor_cmix_per_tank),0)","v":0},"hp"]
["Mixers per day tank","e_donor_dmix_per_tank",{"$f":"IF(AND(include_cmix=1,e_donor_day_tanks<>0),ROUNDUP(e_donor_day_tank_vol/1000*cmix_hp_per/cmix_hp_max,0),0)","v":0},"units"]
["Number of day tank mixers","e_donor_dmixers",{"$f":"e_donor_day_tanks*e_donor_dmix_per_tank","v":0},"units"]
["Mixer size for day tanks","e_donor_dmix_size",{"$f":"IF(e_donor_dmixers<>0,MAX(min_cmix_hp,e_donor_day_tank_vol/1000*cmix_hp_per/e_donor_dmix_per_tank),0)","v":0},"hp"]
[]
["Sample Electron Donor Dose Calculations"]
["All influent concnetrations listed","dose_calc",{"$f":"IF(OR(ClO4_in=\"\",O2_in=\"\",NO3_in=\"\"), FALSE,TRUE)","v":false}]
["Calculated acetic acid dose","acetic_dose_sample",{"$f":"IF(dose_calc,((2.248*O2_in)+(0.515*NO3_in)+(1.447*ClO4_in)),\"NA\")","v":"NA"},"mg/l","Caa = 2.248 O2 + 0.515 NO3-N + 1.447 ClO4- (Batista peer review comments)"]
["Calculated ethanol dose","ethanol_dose_sample",{"$f":"IF(dose_calc,(0.903*O2_in+2.229*NO3_in+0.581*ClO4_in),\"NA\")","v":"NA"},"mg/l","Ce = 0.903 O2 + 2.229 NO3-N + 0.581 ClO4-  (Harding ESE, 2001)"]
[]
["NUTRIENTS"]
["Additional Nutrients?","nutrient_option",{"$f":"IF(nutrient_option_I=\"no additional nutrients required\",1,IF(nutrient_option_I=\"additional nitrogen required\",2,IF(nutrient_option_I=\"additional phosphorous required\",3,IF(nutrient_option_I=\"both nitrogen and phosphorous required\",4,\"\"))))","v":3},"<-- 1 for no additional nutrients required, 2 for additional nitrogen required, 3 for additional phosphorous required, 4 for both nitrogen and phosphorous required"]
[]
["Nitorgen Source"]
["Ammonium Chloride Dose (from Input)","NH4Cl_dose",{"$f":"IF(OR(nutrient_option=2,nutrient_option=4),NH4Cl_dose_I,0)","v":0},"mg/l"]
["Ammonium Chloride needed per day (design flow)","NH4Cl_day",{"$f":"IF(OR(nutrient_option=2,nutrient_option=4),NH4Cl_dose*design_flow*8.34,0)","v":0},"lbs/day"]
["Ammonium Chloride volume per day","NH4Cl_vol",{"$f":"IF(OR(nutrient_option=2,nutrient_option=4),NH4Cl_day/NH4CL_dens,0)","v":0},"gal/day"]
["Ammonium Chloride storage","NH4Cl_store",{"$f":"IF(OR(nutrient_option=2,nutrient_option=4),NH4Cl_vol*(average_flow/design_flow)*chem_storage,0)","v":0},"gal"]
["Ammonium Chloride storage in pounds","NH4Cl_store_lbs",{"$f":"IF(OR(nutrient_option=2,nutrient_option=4),NH4Cl_day*(average_flow/design_flow)*chem_storage,0)","v":0},"lbs"]
["Number of Ammonium Chloride storage tanks","NH4Cl_tanks",{"$f":"IF(OR(nutrient_option=2,nutrient_option=4),ROUNDUP(NH4Cl_store/max_chem_tank_size,0),0)","v":0},"units"]
["Ammonium Chloride storage tank size","NH4Cl_tank_vol",{"$f":"IF(OR(nutrient_option=2,nutrient_option=4),ROUNDUP(NH4Cl_store/NH4Cl_tanks,0),0)","v":0},"gal"]
["Ammonium Chloride day tank storage volume required (based on design flow)","NH4Cl_day_tank_vol_needed",{"$f":"NH4Cl_vol","v":0},"gallons"]
["Ammonium Chloride number of day tanks","NH4Cl_day_tanks",{"$f":"IF(NH4Cl_day_tank_vol_needed<day_tank_needed,0,ROUNDUP(NH4Cl_day_tank_vol_needed/max_chem_tank_size,0))","v":0},"units"]
["Ammonium Chloride volume of day tanks","NH4Cl_day_tank_vol",{"$f":"IF(NH4Cl_day_tanks=0,0,ROUNDUP(NH4Cl_day_tank_vol_needed/NH4Cl_day_tanks,0))","v":0},"gallons"]
["Mixers per storage tank","NH4Cl_cmix_per_tank",{"$f":"IF(AND(include_cmix=1,NH4Cl_tanks<>0),ROUNDUP(NH4Cl_tank_vol/1000*cmix_hp_per/cmix_hp_max,0),0)","v":0},"units"]
["Number of storage tank mixers","NH4Cl_cmixers",{"$f":"NH4Cl_tanks*NH4Cl_cmix_per_tank","v":0},"units"]
["Mixer size for storage tanks","NH4Cl_cmix_size",{"$f":"IF(NH4Cl_cmixers<>0,MAX(min_cmix_hp,NH4Cl_tank_vol/1000*cmix_hp_per/NH4Cl_cmix_per_tank),0)","v":0},"hp"]
["Mixers per day tank","NH4Cl_dmix_per_tank",{"$f":"IF(AND(include_cmix=1,NH4Cl_day_tanks<>0),ROUNDUP(NH4Cl_day_tank_vol/1000*cmix_hp_per/cmix_hp_max,0),0)","v":0},"units"]
["Number of day tank mixers","NH4Cl_dmixers",{"$f":"NH4Cl_day_tanks*NH4Cl_dmix_per_tank","v":0},"units"]
["Mixer size for day tanks","NH4Cl_dmix_size",{"$f":"IF(NH4Cl_dmixers<>0,MAX(min_cmix_hp,NH4Cl_day_tank_vol/1000*cmix_hp_per/NH4Cl_dmix_per_tank),0)","v":0},"hp"]
[]
["Phosphorous Source"]
["Pounds of phosphorus needed per day (design flow)","lb_P_day",{"$f":"IF(OR(nutrient_option=3,nutrient_option=4),H3PO4_dose_I*3.7854*0.000002204*(design_flow*1000000))","v":0.250290648},"lbs/day","3.7854 converts liters to gallons; 0.000002204 converts milligrams to pounds; 1000000 converts MGD to gallons per day; "]
["Phosphoric Acid needed per day (design flow)","H3PO4_day",{"$f":"IF(OR(nutrient_option=3,nutrient_option=4),H3PO4_vol*H3PO4_dens,0)","v":1.058180162084652},"lbs/day"]
["Phosphoric Acid volume per day","H3PO4_vol",{"$f":"IF(OR(nutrient_option=3,nutrient_option=4),lb_P_day/H3PO4_strength/H3PO4_dens,0)","v":8.0347772367855133E-2},"gal/day"]
["Phosphoric Acid storage","H3PO4_store",{"$f":"IF(OR(nutrient_option=3,nutrient_option=4),H3PO4_vol*(average_flow/design_flow)*chem_storage,0)","v":0.56243440657498589},"gal"]
["Phosphoric Acid storage in pounds","H3PO4_store_lbs",{"$f":"IF(OR(nutrient_option=3,nutrient_option=4),H3PO4_store*H3PO4_dens,0)","v":7.4072611345925639},"lbs"]
["Maximum chemical storage tank size for phosphoric acid","max_chem_tank_size_noSS",{"$f":"MAX(VLOOKUP(10^6,pl_cst_cost_cl,1)-1,VLOOKUP(10^6,fg_cst_cost_cl,1)-1)","v":30000},"gallons","The largest size for which costs are available (not including stainless, which is not compatible with phosphoric acid)"]
["Number of Phosphoric Acid storage tanks","H3PO4_tanks",{"$f":"IF(OR(nutrient_option=3,nutrient_option=4),ROUNDUP(H3PO4_store/max_chem_tank_size_noSS,0),0)","v":1},"units"]
["Phosphoric Acid storage tank size","H3PO4_tank_vol",{"$f":"IF(OR(nutrient_option=3,nutrient_option=4),ROUNDUP(H3PO4_store/H3PO4_tanks,0),0)","v":1},"gal"]
["Phosphoric Acid day tank storage volume required (based on design flow)","H3PO4_day_tank_vol_needed",{"$f":"H3PO4_vol","v":8.0347772367855133E-2},"gallons"]
["Phosphoric Acid number of day tanks","H3PO4_day_tanks",{"$f":"IF(H3PO4_day_tank_vol_needed<day_tank_needed,0,ROUNDUP(H3PO4_day_tank_vol_needed/max_chem_tank_size_noSS,0))","v":0},"units"]
["Phosphoric Acid volume of day tanks","H3PO4_day_tank_vol",{"$f":"IF(H3PO4_day_tanks=0,0,ROUNDUP(H3PO4_day_tank_vol_needed/H3PO4_day_tanks,0))","v":0},"gallons"]
["Mixers per storage tank","H3PO4_cmix_per_tank",{"$f":"IF(AND(include_cmix=1,H3PO4_tanks<>0),ROUNDUP(H3PO4_tank_vol/1000*cmix_hp_per/cmix_hp_max,0),0)","v":0},"units"]
["Number of storage tank mixers","H3PO4_cmixers",{"$f":"H3PO4_tanks*H3PO4_cmix_per_tank","v":0},"units"]
["Mixer size for storage tanks","H3PO4_cmix_size",{"$f":"IF(H3PO4_cmixers<>0,MAX(min_cmix_hp,H3PO4_tank_vol/1000*cmix_hp_per/H3PO4_cmix_per_tank),0)","v":0},"hp"]
["Mixers per day tank","H3PO4_dmix_per_tank",{"$f":"IF(AND(include_cmix=1,H3PO4_day_tanks<>0),ROUNDUP(H3PO4_day_tank_vol/1000*cmix_hp_per/cmix_hp_max,0),0)","v":0},"units"]
["Number of day tank mixers","H3PO4_dmixers",{"$f":"H3PO4_day_tanks*H3PO4_dmix_per_tank","v":0},"units"]
["Mixer size for day tanks","H3PO4_dmix_size",{"$f":"IF(H3PO4_dmixers<>0,MAX(min_cmix_hp,H3PO4_day_tank_vol/1000*cmix_hp_per/H3PO4_dmix_per_tank),0)","v":0},"hp"]
[]
["Acetic Acid Purchasing"]
["Quantity required for large quantity purchase",null,{"$f":"VLOOKUP(\"Acetic Acid - Large Qty\",chem_break_table_cl,2,FALSE)","v":{"$error":"#N/A"}},"lbs","#N/A indicates that price data do not depend on volume purchased."]
["Quantity required for mid quantity purchase",null,{"$f":"VLOOKUP(\"Acetic Acid - Mid Qty\",chem_break_table_cl,2,FALSE)","v":{"$error":"#N/A"}},"lbs","#N/A indicates that price data do not depend on volume purchased."]
["Quantity required for small quantity purchase",null,{"$f":"VLOOKUP(\"Acetic Acid - Small Qty\",chem_break_table_cl,2,FALSE)","v":{"$error":"#N/A"}},"lbs","#N/A indicates that price data do not depend on volume purchased."]
["Purchase Type","acetic_purchase",{"$f":"IF(AND(ISNA(C74),ISNA(C75),ISNA(C76)),\"\",IF(acetic_store>=C74,\" - Large Qty\",IF(acetic_store>=C75,\" - Mid Qty\",\" - Small Qty\")))","v":""},null,"Returns descriptive term based on volume of each purchase for use in determining pricing. Blank indicates that price data do not depend on volume purchased."]
[]
["Ethanol Purchasing"]
["Quantity required for large quantity purchase",null,{"$f":"VLOOKUP(\"Ethanol - Large Qty\",chem_break_table_cl,2,FALSE)","v":{"$error":"#N/A"}},"gal","#N/A indicates that price data do not depend on volume purchased."]
["Quantity required for mid quantity purchase",null,{"$f":"VLOOKUP(\"Ethanol - Mid Qty\",chem_break_table_cl,2,FALSE)","v":{"$error":"#N/A"}},"gal","#N/A indicates that price data do not depend on volume purchased."]
["Quantity required for small quantity purchase",null,{"$f":"VLOOKUP(\"Ethanol - Small Qty\",chem_break_table_cl,2,FALSE)","v":{"$error":"#N/A"}},"gal","#N/A indicates that price data do not depend on volume purchased."]
["Purchase Type","ethanol_purchase",{"$f":"IF(AND(ISNA(C80),ISNA(C81),ISNA(C82)),\"\",IF(ethanol_store>=C80,\" - Large Qty\",IF(ethanol_store>=C81,\" - Mid Qty\",\" - Small Qty\")))","v":""},null,"Returns descriptive term based on volume of each purchase for use in determining pricing. Blank indicates that price data do not depend on volume purchased."]
[]
["Ammonium Chloride Purchasing"]
["Quantity required for large quantity purchase",null,{"$f":"VLOOKUP(\"Ammonium Chloride - Large Qty\",chem_break_table_cl,2,FALSE)","v":{"$error":"#N/A"}},"lbs","#N/A indicates that price data do not depend on volume purchased."]
["Quantity required for mid quantity purchase",null,{"$f":"VLOOKUP(\"Ammonium Chloride - Mid Qty\",chem_break_table_cl,2,FALSE)","v":{"$error":"#N/A"}},"lbs","#N/A indicates that price data do not depend on volume purchased."]
["Quantity required for small quantity purchase",null,{"$f":"VLOOKUP(\"Ammonium Chloride - Small Qty\",chem_break_table_cl,2,FALSE)","v":{"$error":"#N/A"}},"lbs","#N/A indicates that price data do not depend on volume purchased."]
["Purchase Type","NH4Cl_purchase",{"$f":"IF(AND(ISNA(C86),ISNA(C87),ISNA(C88)),\"\",IF(NH4Cl_store_lbs>=C86,\" - Large Qty\",IF(NH4Cl_store_lbs>=C87,\" - Mid Qty\",\" - Small Qty\")))","v":""},null,"Returns descriptive term based on volume of each purchase for use in determining pricing. Blank indicates that price data do not depend on volume purchased."]
[]
["Phosphoric Acid Purchasing"]
["Quantity required for large quantity purchase",null,{"$f":"VLOOKUP(\"Phosphoric Acid - Large Qty\",chem_break_table_cl,2,FALSE)","v":44000},"lbs","#N/A indicates that price data do not depend on volume purchased."]
["Quantity required for mid quantity purchase",null,{"$f":"VLOOKUP(\"Phosphoric Acid - Mid Qty\",chem_break_table_cl,2,FALSE)","v":44000},"lbs","#N/A indicates that price data do not depend on volume purchased."]
["Quantity required for small quantity purchase",null,{"$f":"VLOOKUP(\"Phosphoric Acid - Small Qty\",chem_break_table_cl,2,FALSE)","v":0},"lbs","#N/A indicates that price data do not depend on volume purchased."]
["Purchase Type","H3PO4_purchase",{"$f":"IF(AND(ISNA(C92),ISNA(C93),ISNA(C94)),\"\",IF(H3PO4_store_lbs>=C92,\" - Large Qty\",IF(H3PO4_store_lbs>=C93,\" - Mid Qty\",\" - Small Qty\")))","v":" - Small Qty"},null,"Returns descriptive term based on volume of each purchase for use in determining pricing. Blank indicates that price data do not depend on volume purchased."]
[]
["Secondary Containment for Electron Donor Storage Tanks"]
["Minimum volume required","e_donor_st_cont_volume",{"$f":"MAX(e_donor_tanks*e_donor_tank_vol*sec_cont_pct_of_total,e_donor_tank_vol*sec_cont_pct_of_largest)/7.48","v":1.6176470588235294},"cubic feet","7.48 converts gallons to cubic feet"]
["Footprint available","e_donor_st_cont_fp",{"$f":"IF(e_donor_tanks=0,0,e_donor_fp-e_donor_tanks*PI()*(e_donor_st_diam/2)^2)","v":8.2146018366025508},"square feet","Total footprint minus displacement by tanks themselves"]
["Curb height required","e_donor_st_curb_height",{"$f":"IF(e_donor_tanks=0,0,e_donor_st_cont_volume/e_donor_st_cont_fp+sec_cont_freeboard/12)","v":0.69692336780288389},"feet"]
["Curb thickness","e_donor_st_curb_thick",{"$f":"IF(e_donor_tanks=0,0,MIN(sec_cont_max_thick,e_donor_st_curb_height))","v":0.69692336780288389},"feet"]
["Curb length (long side)","e_donor_st_curb_len_long",{"$f":"IF(e_donor_tanks=0,0,e_donor_tanks*e_donor_st_diam+2*space_e_donor_st+(e_donor_tanks-1)*space_e_donor_st+2*e_donor_st_curb_thick)","v":4.3938467356057682},"feet"]
["Curb length (short side)","e_donor_st_curb_len_short",{"$f":"IF(e_donor_tanks=0,0,e_donor_st_diam+2*space_e_donor_st)","v":3},"feet"]
["Curb concrete volume","e_donor_st_curb_concrete",{"$f":"IF(e_donor_tanks=0,0,ROUNDUP((e_donor_st_curb_len_long*2+e_donor_st_curb_len_short*2)*e_donor_st_curb_height*e_donor_st_curb_thick/27,0))","v":1},"cubic yards","27 converts cubic feet to cubic yards"]
["Chemical resistant coating required","e_donor_st_coating_gal",{"$f":"IF(e_donor_tanks=0,0,ROUNDUP((e_donor_fp+2*(e_donor_st_curb_len_long-2*e_donor_st_curb_thick)*e_donor_st_curb_height+2*e_donor_st_curb_len_short*e_donor_st_curb_height)/sec_cont_coating_cvg,0))","v":1},"gallons","Covers total footprint plus inside surface and top of curbs"]
[]
["Secondary Containment for Electron Donor Day Tanks"]
["Minimum volume required","e_donor_dt_cont_volume",{"$f":"MAX(e_donor_day_tanks*e_donor_day_tank_vol*sec_cont_pct_of_total,e_donor_day_tank_vol*sec_cont_pct_of_largest)/7.48","v":1.0294117647058825},"cubic feet","7.48 converts gallons to cubic feet"]
["Footprint available","e_donor_dt_cont_fp",{"$f":"IF(e_donor_day_tanks=0,0,e_donor_day_fp-e_donor_day_tanks*PI()*(e_donor_dt_diam/2)^2)","v":8.2146018366025508},"square feet","Total footprint minus displacement by tanks themselves"]
["Curb height required","e_donor_dt_curb_height",{"$f":"IF(e_donor_day_tanks=0,0,e_donor_dt_cont_volume/e_donor_dt_cont_fp+sec_cont_freeboard/12)","v":0.62531487042001699},"feet"]
["Curb thickness","e_donor_dt_curb_thick",{"$f":"IF(e_donor_day_tanks=0,0,MIN(sec_cont_max_thick,e_donor_dt_curb_height))","v":0.62531487042001699},"feet"]
["Curb length (long side)","e_donor_dt_curb_len_long",{"$f":"IF(e_donor_day_tanks=0,0,e_donor_day_tanks*e_donor_dt_diam+2*space_e_donor_dt+(e_donor_day_tanks-1)*space_e_donor_dt+2*e_donor_dt_curb_thick)","v":4.2506297408400338},"feet"]
["Curb length (short side)","e_donor_dt_curb_len_short",{"$f":"IF(e_donor_day_tanks=0,0,e_donor_dt_diam+2*space_e_donor_dt)","v":3},"feet"]
["Curb concrete volume","e_donor_dt_curb_concrete",{"$f":"IF(e_donor_day_tanks=0,0,ROUNDUP((e_donor_dt_curb_len_long*2+e_donor_dt_curb_len_short*2)*e_donor_dt_curb_height*e_donor_dt_curb_thick/27,0))","v":1},"cubic yards","27 converts cubic feet to cubic yards"]
["Chemical resistant coating required","e_donor_dt_coating_gal",{"$f":"IF(e_donor_day_tanks=0,0,ROUNDUP((e_donor_day_fp+2*(e_donor_dt_curb_len_long-2*e_donor_dt_curb_thick)*e_donor_dt_curb_height+2*e_donor_dt_curb_len_short*e_donor_dt_curb_height)/sec_cont_coating_cvg,0))","v":1},"gallons","Covers total footprint plus inside surface and top of curbs"]
[]
["Secondary Containment for Ammonium Chloride Storage Tanks"]
["Minimum volume required","NH4Cl_st_cont_volume",{"$f":"MAX(NH4Cl_tanks*NH4Cl_tank_vol*sec_cont_pct_of_total,NH4Cl_tank_vol*sec_cont_pct_of_largest)/7.48","v":0},"cubic feet","7.48 converts gallons to cubic feet"]
["Footprint available","NH4Cl_st_cont_fp",{"$f":"IF(NH4Cl_tanks=0,0,NH4Cl_donor_fp-NH4Cl_tanks*PI()*(NH4Cl_st_diam/2)^2)","v":0},"square feet","Total footprint minus displacement by tanks themselves"]
["Curb height required","NH4Cl_st_curb_height",{"$f":"IF(NH4Cl_tanks=0,0,NH4Cl_st_cont_volume/NH4Cl_st_cont_fp+sec_cont_freeboard/12)","v":0},"feet"]
["Curb thickness","NH4Cl_st_curb_thick",{"$f":"IF(NH4Cl_tanks=0,0,MIN(sec_cont_max_thick,NH4Cl_st_curb_height))","v":0},"feet"]
["Curb length (long side)","NH4Cl_st_curb_len_long",{"$f":"IF(NH4Cl_tanks=0,0,NH4Cl_tanks*NH4Cl_st_diam+2*space_NH4Cl_st+(NH4Cl_tanks-1)*space_NH4Cl_st+2*NH4Cl_st_curb_thick)","v":0},"feet"]
["Curb length (short side)","NH4Cl_st_curb_len_short",{"$f":"IF(NH4Cl_tanks=0,0,NH4Cl_st_diam+2*space_NH4Cl_st)","v":0},"feet"]
["Curb concrete volume","NH4Cl_st_curb_concrete",{"$f":"IF(NH4Cl_tanks=0,0,ROUNDUP((NH4Cl_st_curb_len_long*2+NH4Cl_st_curb_len_short*2)*NH4Cl_st_curb_height*NH4Cl_st_curb_thick/27,0))","v":0},"cubic yards","27 converts cubic feet to cubic yards"]
["Chemical resistant coating required","NH4Cl_st_coating_gal",{"$f":"IF(NH4Cl_tanks=0,0,ROUNDUP((NH4Cl_donor_fp+2*(NH4Cl_st_curb_len_long-2*NH4Cl_st_curb_thick)*NH4Cl_st_curb_height+2*NH4Cl_st_curb_len_short*NH4Cl_st_curb_height)/sec_cont_coating_cvg,0))","v":0},"gallons","Covers total footprint plus inside surface and top of curbs"]
[]
["Secondary Containment for Ammonium Chloride Day Tanks"]
["Minimum volume required","NH4Cl_dt_cont_volume",{"$f":"MAX(NH4Cl_day_tanks*NH4Cl_day_tank_vol*sec_cont_pct_of_total,NH4Cl_day_tank_vol*sec_cont_pct_of_largest)/7.48","v":0},"cubic feet","7.48 converts gallons to cubic feet"]
["Footprint available","NH4Cl_dt_cont_fp",{"$f":"IF(NH4Cl_day_tanks=0,0,NH4Cl_donor_day_fp-NH4Cl_day_tanks*PI()*(NH4Cl_dt_diam/2)^2)","v":0},"square feet","Total footprint minus displacement by tanks themselves"]
["Curb height required","NH4Cl_dt_curb_height",{"$f":"IF(NH4Cl_day_tanks=0,0,NH4Cl_dt_cont_volume/NH4Cl_dt_cont_fp+sec_cont_freeboard/12)","v":0},"feet"]
["Curb thickness","NH4Cl_dt_curb_thick",{"$f":"IF(NH4Cl_day_tanks=0,0,MIN(sec_cont_max_thick,NH4Cl_dt_curb_height))","v":0},"feet"]
["Curb length (long side)","NH4Cl_dt_curb_len_long",{"$f":"IF(NH4Cl_day_tanks=0,0,NH4Cl_day_tanks*NH4Cl_dt_diam+2*space_NH4Cl_dt+(NH4Cl_day_tanks-1)*space_NH4Cl_dt+2*NH4Cl_dt_curb_thick)","v":0},"feet"]
["Curb length (short side)","NH4Cl_dt_curb_len_short",{"$f":"IF(NH4Cl_day_tanks=0,0,NH4Cl_dt_diam+2*space_NH4Cl_dt)","v":0},"feet"]
["Curb concrete volume","NH4Cl_dt_curb_concrete",{"$f":"IF(NH4Cl_day_tanks=0,0,ROUNDUP((NH4Cl_dt_curb_len_long*2+NH4Cl_dt_curb_len_short*2)*NH4Cl_dt_curb_height*NH4Cl_dt_curb_thick/27,0))","v":0},"cubic yards","27 converts cubic feet to cubic yards"]
["Chemical resistant coating required","NH4Cl_dt_coating_gal",{"$f":"IF(NH4Cl_day_tanks=0,0,ROUNDUP((NH4Cl_donor_day_fp+2*(NH4Cl_dt_curb_len_long-2*NH4Cl_dt_curb_thick)*NH4Cl_dt_curb_height+2*NH4Cl_dt_curb_len_short*NH4Cl_dt_curb_height)/sec_cont_coating_cvg,0))","v":0},"gallons","Covers total footprint plus inside surface and top of curbs"]
[]
["Secondary Containment for Phosphoric Acid Storage Tanks"]
["Minimum volume required","H3PO4_st_cont_volume",{"$f":"MAX(H3PO4_tanks*H3PO4_tank_vol*sec_cont_pct_of_total,H3PO4_tank_vol*sec_cont_pct_of_largest)/7.48","v":0.14705882352941177},"cubic feet","7.48 converts gallons to cubic feet"]
["Footprint available","H3PO4_st_cont_fp",{"$f":"IF(H3PO4_tanks=0,0,H3PO4_donor_fp-H3PO4_tanks*PI()*(H3PO4_st_diam/2)^2)","v":2.8036504591506377},"square feet","Total footprint minus displacement by tanks themselves"]
["Curb height required","H3PO4_st_curb_height",{"$f":"IF(H3PO4_tanks=0,0,H3PO4_st_cont_volume/H3PO4_st_cont_fp+sec_cont_freeboard/12)","v":0.55245262405997753},"feet"]
["Curb thickness","H3PO4_st_curb_thick",{"$f":"IF(H3PO4_tanks=0,0,MIN(sec_cont_max_thick,H3PO4_st_curb_height))","v":0.55245262405997753},"feet"]
["Curb length (long side)","H3PO4_st_curb_len_long",{"$f":"IF(H3PO4_tanks=0,0,H3PO4_tanks*H3PO4_st_diam+2*space_H3PO4_st+(H3PO4_tanks-1)*space_H3PO4_st+2*H3PO4_st_curb_thick)","v":2.6049052481199553},"feet"]
["Curb length (short side)","H3PO4_st_curb_len_short",{"$f":"IF(H3PO4_tanks=0,0,H3PO4_st_diam+2*space_H3PO4_st)","v":1.5},"feet"]
["Curb concrete volume","H3PO4_st_curb_concrete",{"$f":"IF(H3PO4_tanks=0,0,ROUNDUP((H3PO4_st_curb_len_long*2+H3PO4_st_curb_len_short*2)*H3PO4_st_curb_height*H3PO4_st_curb_thick/27,0))","v":1},"cubic yards","27 converts cubic feet to cubic yards"]
["Chemical resistant coating required","H3PO4_st_coating_gal",{"$f":"IF(H3PO4_tanks=0,0,ROUNDUP((H3PO4_donor_fp+2*(H3PO4_st_curb_len_long-2*H3PO4_st_curb_thick)*H3PO4_st_curb_height+2*H3PO4_st_curb_len_short*H3PO4_st_curb_height)/sec_cont_coating_cvg,0))","v":1},"gallons","Covers total footprint plus inside surface and top of curbs"]
[]
["Secondary Containment for Phosphoric Acid Day Tanks"]
["Minimum volume required","H3PO4_dt_cont_volume",{"$f":"MAX(H3PO4_day_tanks*H3PO4_day_tank_vol*sec_cont_pct_of_total,H3PO4_day_tank_vol*sec_cont_pct_of_largest)/7.48","v":0},"cubic feet","7.48 converts gallons to cubic feet"]
["Footprint available","H3PO4_dt_cont_fp",{"$f":"IF(H3PO4_day_tanks=0,0,H3PO4_donor_day_fp-H3PO4_day_tanks*PI()*(H3PO4_dt_diam/2)^2)","v":0},"square feet","Total footprint minus displacement by tanks themselves"]
["Curb height required","H3PO4_dt_curb_height",{"$f":"IF(H3PO4_day_tanks=0,0,H3PO4_dt_cont_volume/H3PO4_dt_cont_fp+sec_cont_freeboard/12)","v":0},"feet"]
["Curb thickness","H3PO4_dt_curb_thick",{"$f":"IF(H3PO4_day_tanks=0,0,MIN(sec_cont_max_thick,H3PO4_dt_curb_height))","v":0},"feet"]
["Curb length (long side)","H3PO4_dt_curb_len_long",{"$f":"IF(H3PO4_day_tanks=0,0,H3PO4_day_tanks*H3PO4_dt_diam+2*space_H3PO4_dt+(H3PO4_day_tanks-1)*space_H3PO4_dt+2*H3PO4_dt_curb_thick)","v":0},"feet"]
["Curb length (short side)","H3PO4_dt_curb_len_short",{"$f":"IF(H3PO4_day_tanks=0,0,H3PO4_dt_diam+2*space_H3PO4_dt)","v":0},"feet"]
["Curb concrete volume","H3PO4_dt_curb_concrete",{"$f":"IF(H3PO4_day_tanks=0,0,ROUNDUP((H3PO4_dt_curb_len_long*2+H3PO4_dt_curb_len_short*2)*H3PO4_dt_curb_height*H3PO4_dt_curb_thick/27,0))","v":0},"cubic yards","27 converts cubic feet to cubic yards"]
["Chemical resistant coating required","H3PO4_dt_coating_gal",{"$f":"IF(H3PO4_day_tanks=0,0,ROUNDUP((H3PO4_donor_day_fp+2*(H3PO4_dt_curb_len_long-2*H3PO4_dt_curb_thick)*H3PO4_dt_curb_height+2*H3PO4_dt_curb_len_short*H3PO4_dt_curb_height)/sec_cont_coating_cvg,0))","v":0},"gallons","Covers total footprint plus inside surface and top of curbs"]

{"sheet":"Biomass Control","index":9,"n_rows":47,"n_cols":5,"rows_kept":47,"cut":false,"hidden":false,"merged":[]}
["Biomass Control Calculations"]
[]
["Calculation","Range Name","Value","Units","Guidance"]
["Calculated biomass generation","biomass_sample",{"$f":"IF(dose_calc,((1.016*O2_in)+(0.155*NO3_in)+(0.659*ClO4_in)),\"NA\")","v":"NA"},"mg/l","Cbio = 1.016 O2 + 0.155 NO3-N + 0.659 ClO4- (Batista)"]
[]
["BIOREACTOR BACKWASH"]
["Interval between backwashes (from inputs)","back_interval",{"$f":"IF(design_type=3,0,back_interval_I)","v":24},"hours","from inputs"]
["Water flush rate (gpm)","water_flush",{"$f":"ROUND(h2oflush_backwash_rate*IF(design_type=2,basin_width*basin_length,0)+IF(design_type=1,comm_SA,0),0)","v":5},"gpm","for backwahing fixed bed bioreactors"]
["Total water flush","waterflush_vol",{"$f":"water_flush*backwash_time","v":50},"gallons"]
[]
["FILTER BACKWASH"]
["Interval between filter backwashes (from inputs)","filter_back_interval",{"$f":"IF(include_post=0,0,filter_back_interval_I)","v":36},"hours","from inputs"]
["Water flush rate (gpm)","filter_water_flush",{"$f":"IF(include_post=0,0,ROUND(filter_h2oflush_backwash_rate*IF(filter_type=1,filt_basin_area,comm_SA_filt),0))","v":135},"gpm","for backwahing  filters"]
["Total water flush","filter_waterflush_vol",{"$f":"IF(include_post=0,0,filter_water_flush*filter_backwash_time)","v":945},"gallons"]
[]
["No backwash pumps","no_backwash",{"$f":"IF(no_backwash_I=\"existing pumps\",1,IF(no_backwash_I=\"new pumps\",\"\",IF(ss_cat2=1,1,\"\")))","v":1},"<-- 1 = backwash using existing supply or treated water pumps, blank = include backwash pumps in costs"]
["No backwash tanks","no_back_tank",{"$f":"IF(no_back_tank_I=\"existing storage\",1,IF(no_back_tank_I=\"new storage\",\"\",IF(ss_cat2=2,\"\",1)))","v":1},"<-- 1 = backwash from existing storage or supply, blank = include backwash tanks in costs"]
["Maximum backwash tank size","max_back_tank_size",{"$f":"MAX(VLOOKUP(10^6,st_bwt_cost_cl,1)-1,VLOOKUP(10^6,fg_bwt_cost_cl,1)-1,VLOOKUP(10^6,hdpe_bwt_cost_cl,1)-1)","v":282094},"gallons","The largest size for which costs are available."]
["Backwash tanks","back_tanks",{"$f":"IF(no_back_tank=1,0,ROUNDUP((water_flush+filter_water_flush)/max_back_tank_size,0))","v":0},"units"]
["Backwash tank volume","back_tank_vol",{"$f":"IF(back_tanks=0,0,(waterflush_vol+filter_waterflush_vol)/back_tanks)","v":0},"gallons"]
[]
["AIR SCOUR"]
["Total Backwash Air Scour Volume","tot_air_scour",{"$f":"IF(air_scour_I=\"yes\",(IF(design_type=1,comm_SA,basin_length*basin_width)+IF(filter_type=1,filt_basin_area,IF(filter_type=2,comm_SA_filt,0)))*air_scour_vol,\"NA\")","v":55.634954084936211},"CFM"]
["Total Air Used for Biomass Seperation","tot_air_biomass",{"$f":"IF(design_type=3,biomass_air_scour*design_flow_rate/60,0)","v":0},"CFM","for fluidized bed designs"]
[]
[]
[]
[]
[]
[]
[]
[]
[]
[]
[]
[]
[]
[]
[]
[]
[]
[]
[]
[]
[]
[]
[" h "]

{"sheet":"Post-Treatment","index":10,"n_rows":154,"n_cols":5,"rows_kept":154,"cut":false,"hidden":false,"merged":[]}
["Post-Treatment Calculations"]
[]
["Calculation","Range Name","Value","Units","Guidance"]
["Re-oxygenation approach","include_post_h2o2",{"$f":"IF(include_post_h2o2_I=\"hydrogen peroxide\",1,0)","v":0},"<-- 1 for use H2O2, 0 to use Aeration"]
["Include polishing filter","include_post",{"$f":"IF(include_post_I=\"no\",0,1)","v":1},"<-- 1 for Yes, 0 for No"]
["Polishing filter design type","filter_type",{"$f":"IF(include_post=0,0,IF(filter_type_I=\"gravity basin\",1,2))","v":1},"<-- 1 for gravity basin, 2 for pressure vessel, 0 for no polishing filter"]
["Include coagulant addition before fitration","include_coag_filt",{"$f":"IF(include_post=0,0,IF(include_coag_filt_I=\"yes\",1,0))","v":1},"<-- 1 for Yes, 0 for No"]
[]
["Aeration"]
["Total aeration tank volume required","aeration_tank_vol_required",{"$f":"IF(include_post_h2o2=1,0,design_flow_rate*hrt_aeration/7.48)","v":22.281639928698748},"gallons"]
["Maximum aeration tank size","max_aeration_tank_size",{"$f":"IF(include_post_h2o2=1,0,MAX(VLOOKUP(10^6,st_bwt_cost_cl,1)-1,VLOOKUP(10^6,fg_bwt_cost_cl,1)-1,VLOOKUP(10^6,hdpe_bwt_cost_cl,1)-1))","v":282094},"gallons","The largest size for which costs are available. "]
["Aeration tanks","aeration_tanks",{"$f":"IF(include_post_h2o2=1,0,ROUNDUP(aeration_tank_vol_required/max_aeration_tank_size,0))","v":1},"units"]
["Aeration tank volume","aeration_tank_vol",{"$f":"IF(include_post_h2o2=1,0,aeration_tank_vol_required/aeration_tanks)","v":22.281639928698748},"gallons"]
["Aeration tank water height","aeration_water_height",{"$f":"aeration_tank_vol/7.48/(4*PI()*(aer_tank_diam/2)^2)","v":0.42141807900726708},"ft"]
["Design Air Flow","air_flow_tot",{"$f":"IF(include_post_h2o2=1,0,design_flow_rate*rate_aeration/100)","v":1.3541666666666665},"scfm"]
["Maximum diffuser size","max_diffuser_size",{"$f":"IF(include_post_h2o2=1,0,MAX(VLOOKUP(10^6,diffuser_cost_cl,1)-1))","v":43.1},"scfm","The largest size for which costs are available."]
["Total diffusers","total_diffusers",{"$f":"IF(include_post_h2o2=1,0,ROUNDUP(air_flow_tot/max_diffuser_size,0))","v":1},"units"]
["Diffuser size","diffuser_size",{"$f":"IF(include_post_h2o2=1,0,air_flow_tot/total_diffusers)","v":1.3541666666666665},"scfm"]
[]
["Hydrogen Peroxide Addition"]
["H2O2 needed per day","H2O2_day",{"$f":"IF(include_post_h2o2=0,0,H2O2_dose*design_flow*8.34)","v":0},"lbs/day","for 100% H2O2"]
["Solution needed per day","solution_day",{"$f":"IF(include_post_h2o2=0,0,H2O2_day/H2O2_grade*(8.34*H2O2_sg))","v":0},"gal/day","based on H2O2 at specified grade"]
["H2O2 storage in gallons","H2O2_store_gal",{"$f":"IF(include_post_h2o2=0,0,solution_day*(average_flow/design_flow)*H2O2_days)","v":0},"gal"]
["H2O2 storage in lbs","H2O2_store_lbs",{"$f":"IF(include_post_h2o2=0,0,H2O2_day*(average_flow/design_flow)*H2O2_days)","v":0},"lbs"]
["Maximum chemical tank size for H2O2 and KMnO4","max_chem_tank_size_H2O2",{"$f":"MAX(VLOOKUP(10^6,pl_cst_cost_cl,1)-1,VLOOKUP(10^6,ss_cst_cost_cl,1)-1)","v":30000},"gal","The largest size for which costs are available (not including fiberglass, which is not compatible with H2O2)"]
["Number of chemical storage tanks","H2O2_tanks",{"$f":"IF(include_post_h2o2=0,0,ROUNDUP(H2O2_store_gal/max_chem_tank_size_H2O2,0))","v":0},"units"]
["Chemical storage tank size","H2O2_tank_vol",{"$f":"IF(include_post_h2o2=0,0,ROUNDUP(H2O2_store_gal/H2O2_tanks,0))","v":0},"gal"]
["Number of static mixers for H202 addition","H2O2_mixers",{"$f":"IF(include_post_h2o2=0,0,n_mixers)","v":0}]
["Day tank storage volume required (based on design flow)","H2O2_day_tank_vol_needed",{"$f":"solution_day","v":0},"gallons"]
["Number of day tanks","H2O2_day_tanks",{"$f":"IF(H2O2_day_tank_vol_needed<day_tank_needed,0,ROUNDUP(H2O2_day_tank_vol_needed/max_chem_tank_size_H2O2,0))","v":0},"units"]
["Volume of day tanks","H2O2_day_tank_vol",{"$f":"IF(H2O2_day_tanks=0,0,ROUNDUP(H2O2_day_tank_vol_needed/H2O2_day_tanks,0))","v":0},"gallons"]
["Mixers per storage tank","H2O2_cmix_per_tank",{"$f":"IF(AND(include_cmix=1,H2O2_tanks<>0),ROUNDUP(H2O2_tank_vol/1000*cmix_hp_per/cmix_hp_max,0),0)","v":0},"units"]
["Number of storage tank mixers","H2O2_cmixers",{"$f":"H2O2_tanks*H2O2_cmix_per_tank","v":0},"units"]
["Mixer size for storage tanks","H2O2_cmix_size",{"$f":"IF(H2O2_cmixers<>0,MAX(min_cmix_hp,H2O2_tank_vol/1000*cmix_hp_per/H2O2_cmix_per_tank),0)","v":0},"hp"]
["Mixers per day tank","H2O2_dmix_per_tank",{"$f":"IF(AND(include_cmix=1,H2O2_day_tanks<>0),ROUNDUP(H2O2_day_tank_vol/1000*cmix_hp_per/cmix_hp_max,0),0)","v":0},"units"]
["Number of day tank mixers","H2O2_dmixers",{"$f":"H2O2_day_tanks*H2O2_dmix_per_tank","v":0},"units"]
["Mixer size for day tanks","H2O2_dmix_size",{"$f":"IF(H2O2_dmixers<>0,MAX(min_cmix_hp,H2O2_day_tank_vol/1000*cmix_hp_per/H2O2_dmix_per_tank),0)","v":0},"hp"]
["Maximum static mixer size available","mixer_size_max",{"$f":"MAX(VLOOKUP(10^6,in_mix_cost_cl,1)-0.1,VLOOKUP(10^6,pl_in_mix_cost_cl,1)-0.1)","v":42},"in","The largest size for which costs are available"]
["Static mixer size for H2O2 addition","mixer_size",{"$f":"IF(include_post_h2o2=0,0,MIN(mixer_size_max,H202_pipe_diam))","v":0},"in"]
["Solution feed rate at design flow","solution_rate",{"$f":"IF(include_post_h2o2=0,0,solution_day/24)","v":0},"gph","for injection into diluted stream"]
["Flow rate for diluted H2O2 at design flow","diluted_rate",{"$f":"IF(include_post_h2o2=0,0,solution_day*H2O2_grade/H2O2_dilute_conc/24/60)","v":0},"gpm","for H2O2 diluted to specified concentration before injection"]
[]
["Hydrogen Peroxide Purchasing"]
["Quantity required for large quantity purchase",null,{"$f":"VLOOKUP(\"Hydrogen Peroxide - Large Qty\",chem_break_table_cl,2,FALSE)","v":{"$error":"#N/A"}},"lbs","#N/A indicates that price data do not depend on volume purchased."]
["Quantity required for mid quantity purchase",null,{"$f":"VLOOKUP(\"Hydrogen Peroxide - Mid Qty\",chem_break_table_cl,2,FALSE)","v":{"$error":"#N/A"}},"lbs","#N/A indicates that price data do not depend on volume purchased."]
["Quantity required for small quantity purchase",null,{"$f":"VLOOKUP(\"Hydrogen Peroxide - Small Qty\",chem_break_table_cl,2,FALSE)","v":{"$error":"#N/A"}},"lbs","#N/A indicates that price data do not depend on volume purchased."]
["Purchase Type","H2O2_purchase",{"$f":"IF(AND(ISNA(C44),ISNA(C45),ISNA(C46)),\"\",IF(H2O2_store_lbs>=C44,\" - Large Qty\",IF(H2O2_store_lbs>=C45,\" - Mid Qty\",\" - Small Qty\")))","v":""},null,"Returns descriptive term based on volume of each purchase for use in determining pricing. Blank indicates that price data do not depend on volume purchased."]
[]
["Secondary Containment for Hydrogen Peroxide Storage Tanks"]
["Minimum volume required","H2O2_st_cont_volume",{"$f":"MAX(H2O2_tanks*H2O2_tank_vol*sec_cont_pct_of_total,H2O2_tank_vol*sec_cont_pct_of_largest)/7.48","v":0},"cubic feet","7.48 converts gallons to cubic feet"]
["Footprint available","H2O2_st_cont_fp",{"$f":"IF(H2O2_tanks=0,0,H2O2_donor_fp-H2O2_tanks*PI()*(H2O2_st_diam/2)^2)","v":0},"square feet","Total footprint minus displacement by tanks themselves"]
["Curb height required","H2O2_st_curb_height",{"$f":"IF(H2O2_tanks=0,0,H2O2_st_cont_volume/H2O2_st_cont_fp+sec_cont_freeboard/12)","v":0},"feet"]
["Curb thickness","H2O2_st_curb_thick",{"$f":"IF(H2O2_tanks=0,0,MIN(sec_cont_max_thick,H2O2_st_curb_height))","v":0},"feet"]
["Curb length (long side)","H2O2_st_curb_len_long",{"$f":"IF(H2O2_tanks=0,0,H2O2_tanks*H2O2_st_diam+2*space_H2O2_st+(H2O2_tanks-1)*space_H2O2_st+2*H2O2_st_curb_thick)","v":0},"feet"]
["Curb length (short side)","H2O2_st_curb_len_short",{"$f":"IF(H2O2_tanks=0,0,H2O2_st_diam+2*space_H2O2_st)","v":0},"feet"]
["Curb concrete volume","H2O2_st_curb_concrete",{"$f":"IF(H2O2_tanks=0,0,ROUNDUP((H2O2_st_curb_len_long*2+H2O2_st_curb_len_short*2)*H2O2_st_curb_height*H2O2_st_curb_thick/27,0))","v":0},"cubic yards","27 converts cubic feet to cubic yards"]
["Chemical resistant coating required","H2O2_st_coating_gal",{"$f":"IF(H2O2_tanks=0,0,ROUNDUP((H2O2_donor_fp+2*(H2O2_st_curb_len_long-2*H2O2_st_curb_thick)*H2O2_st_curb_height+2*H2O2_st_curb_len_short*H2O2_st_curb_height)/sec_cont_coating_cvg,0))","v":0},"gallons","Covers total footprint plus inside surface and top of curbs"]
[]
["Secondary Containment for Hydrogen Peroxide Day Tanks"]
["Minimum volume required","H2O2_dt_cont_volume",{"$f":"MAX(H2O2_day_tanks*H2O2_day_tank_vol*sec_cont_pct_of_total,H2O2_day_tank_vol*sec_cont_pct_of_largest)/7.48","v":0},"cubic feet","7.48 converts gallons to cubic feet"]
["Footprint available","H2O2_dt_cont_fp",{"$f":"IF(H2O2_day_tanks=0,0,H2O2_donor_day_fp-H2O2_day_tanks*PI()*(H2O2_dt_diam/2)^2)","v":0},"square feet","Total footprint minus displacement by tanks themselves"]
["Curb height required","H2O2_dt_curb_height",{"$f":"IF(H2O2_day_tanks=0,0,H2O2_dt_cont_volume/H2O2_dt_cont_fp+sec_cont_freeboard/12)","v":0},"feet"]
["Curb thickness","H2O2_dt_curb_thick",{"$f":"IF(H2O2_day_tanks=0,0,MIN(sec_cont_max_thick,H2O2_dt_curb_height))","v":0},"feet"]
["Curb length (long side)","H2O2_dt_curb_len_long",{"$f":"IF(H2O2_day_tanks=0,0,H2O2_day_tanks*H2O2_dt_diam+2*space_H2O2_dt+(H2O2_day_tanks-1)*space_H2O2_dt+2*H2O2_dt_curb_thick)","v":0},"feet"]
["Curb length (short side)","H2O2_dt_curb_len_short",{"$f":"IF(H2O2_day_tanks=0,0,H2O2_dt_diam+2*space_H2O2_dt)","v":0},"feet"]
["Curb concrete volume","H2O2_dt_curb_concrete",{"$f":"IF(H2O2_day_tanks=0,0,ROUNDUP((H2O2_dt_curb_len_long*2+H2O2_dt_curb_len_short*2)*H2O2_dt_curb_height*H2O2_dt_curb_thick/27,0))","v":0},"cubic yards","27 converts cubic feet to cubic yards"]
["Chemical resistant coating required","H2O2_dt_coating_gal",{"$f":"IF(H2O2_day_tanks=0,0,ROUNDUP((H2O2_donor_day_fp+2*(H2O2_dt_curb_len_long-2*H2O2_dt_curb_thick)*H2O2_dt_curb_height+2*H2O2_dt_curb_len_short*H2O2_dt_curb_height)/sec_cont_coating_cvg,0))","v":0},"gallons","Covers total footprint plus inside surface and top of curbs"]
[]
["FILTER PRESSURE VESSELS"]
["Vessel geometry","tank_geom_filt",{"$f":"IF(filter_type=2,IF(filt_tank_geom_I=\"horizontal\",2,1),\"-\")","v":"-"},"<-- 1 for upright cylindrical, 2 for horizontally-laid cylinder "]
[]
["EBCT per vessel","EBCT_tank_filt",{"$f":"IF(filter_type=2,ebct_filt,\"-\")","v":"-"},"minute"]
["Vessel surface area","max_sa_filt",{"$f":"IF(filter_type=2,IF(tank_geom_filt=1,PI()*(filt_comm_diam-2*Vessel_thickness)*(filt_comm_diam-2*Vessel_thickness)/4,IF(tank_geom_filt=2,(filt_comm_diam-2*Vessel_thickness)*filt_comm_height_length,0)),\"-\")","v":"-"},"square feet"]
["Media volume per filter","media_volume_filt",{"$f":"IF(filter_type=2,IF(tank_geom_filt=1,comm_SA_filt*filt_bed_depth,IF(tank_geom_filt=2,comm_vol_filt-underdrain_horiz_void_filt-void_above_filt)),\"-\")","v":"-"},"cubic feet"]
["Height available above media bed (for horizontal vessels)","distance_above_filt",{"$f":"IF(filter_type=2,IF(tank_geom_filt=2,filt_comm_diam-filt_bed_depth-horiz_underdrain,\"NA\"),\"-\")","v":"-"},"feet"]
["Void space above media bed (for horizontal vessels)","void_above_filt",{"$f":"IF(filter_type=2,IF(tank_geom_filt=2,filt_comm_height_length*(filt_comm_diam*filt_comm_diam/2*ASIN(SQRT(distance_above_filt/filt_comm_diam))-(filt_comm_diam/2-distance_above_filt)*SQRT((filt_comm_diam-distance_above_filt)*distance_above_filt)),\"NA\"),\"-\")","v":"-"},"cubic feet"]
["Maximum flow per vessel","flow_per_vessel_filt",{"$f":"IF(filter_type=2,IF(tank_geom_filt=1,(max_sa_filt*filt_bed_depth*7.48)/EBCT_tank_filt,media_volume_filt*7.48/EBCT_tank_filt),\"-\")","v":"-"},"gpm"]
["Number of parallel treatment trains","num_treat_lines_filt",{"$f":"IF(filter_type=2,ROUNDUP(design_flow_rate/flow_per_vessel_filt,0),\"-\")","v":"-"},"lines"]
["Number of vessels excluding redundancy","op_num_tanks_filt",{"$f":"IF(filter_type=2,ROUNDUP(design_flow_rate/flow_per_vessel_filt,0),\"-\")","v":"-"},"units"]
["Number of redundant bioreactors","NRD_filt_p",{"$f":"IF(filter_type=2,IF(op_num_tanks_filt=1,filt_NRD_small_1,CHOOSE(ss_cat2,filt_NRD_small,filt_NRD_basins_medium,filt_NRD_basins_large)),\"-\")","v":"-"}]
["Total number of vessels including redundancy","final_num_tanks_filt",{"$f":"IF(filter_type=2,(op_num_tanks_filt+NRD_filt_p),0)","v":0},"units"]
[]
["Vessel requirements based on bed depth and contact time"]
["Minimum volume of contact area needed","contact_material_filt",{"$f":"IF(filter_type=2,design_flow_rate*EBCT_tank_filt/(7.481),\"-\")","v":"-"},"cubic feet"]
["Minimum volume of contact area per vessel","contact_mat_per_vessel_filt",{"$f":"IF(filter_type=2,contact_material_filt/op_num_tanks_filt,\"-\")","v":"-"},"cubic feet"]
["Minimum volume of vessel","vol_vessel_filt",{"$f":"IF(filter_type=2,contact_mat_per_vessel_filt*(1+filt_bed_expansion),\"-\")","v":"-"},"cubic feet"]
["Minimum surface area of contact material","SA_filt",{"$f":"IF(filter_type=2,contact_mat_per_vessel_filt/filt_bed_depth,\"-\")","v":"-"},"square feet"]
[]
["Quantities based on user-specified vessel dimensions"]
["Final surface area of contact material","comm_SA_filt",{"$f":"IF(filter_type=2,IF(tank_geom_filt=1,(filt_comm_diam-(2*Vessel_thickness))^2*PI()/4,IF(tank_geom_filt=2,(filt_comm_diam-(2*Vessel_thickness))*filt_comm_height_length)),\"-\")","v":"-"},"square feet"]
["Final surface loading rate","comm_load_rate_filt",{"$f":"IF(filter_type=2,design_flow_rate/num_treat_lines_filt/comm_SA_filt,\"-\")","v":"-"},"gpm/square ft"]
["Volume","comm_vol_filt",{"$f":"IF(filter_type=2,PI()*filt_comm_diam^2/4*filt_comm_height_length,\"-\")","v":"-"},"cubic feet"]
[null,"comm_vol_gal_filt",{"$f":"IF(filter_type=2,comm_vol_filt*7.48,\"-\")","v":"-"},"gal"]
[]
["Checks on user-specified dimensions"]
["Design dimensions for vertical vessels:"]
["    Required height of vessel","height_filt",{"$f":"IF(filter_type=2,filt_bed_depth*(1+filt_bed_expansion)+free_board,\"-\")","v":"-"},"feet"]
["    Required vessel diameter (circular vessels)","diameter_filt",{"$f":"IF(filter_type=2,(SA_filt*4/PI())^0.5+(2*Vessel_thickness),\"-\")","v":"-"},"feet"]
["    Minimum commercial height given diameter","min_comm_height_filt",{"$f":"IF(filter_type=2,VLOOKUP(filt_comm_diam,vessel_size_table_cl,2),\"-\")","v":"-"},"feet"]
["    Maximum commercial height given diameter","max_comm_height_filt",{"$f":"IF(filter_type=2,VLOOKUP(filt_comm_diam,vessel_size_table_cl,3),\"-\")","v":"-"},"feet"]
[]
["Void space required for horizontal vessels:"]
["For freeboard","freeboard_horiz_void_filt",{"$f":"IF(filter_type=2,filt_comm_height_length*(filt_comm_diam*filt_comm_diam/2*ASIN(SQRT(free_board/filt_comm_diam))-(filt_comm_diam/2-free_board)*SQRT((filt_comm_diam-free_board)*free_board)),\"-\")","v":"-"},"cubic feet","Volume of a horizontal slice taken out of a cylinder"]
["For underdrain","underdrain_horiz_void_filt",{"$f":"IF(filter_type=2,filt_comm_height_length*(filt_comm_diam*filt_comm_diam/2*ASIN(SQRT(horiz_underdrain/filt_comm_diam))-(filt_comm_diam/2-horiz_underdrain)*SQRT((filt_comm_diam-horiz_underdrain)*horiz_underdrain)),\"-\")","v":"-"},"cubic feet"]
["Total","horiz_void_filt",{"$f":"IF(filter_type=2,freeboard_horiz_void_filt+underdrain_horiz_void_filt,\"-\")","v":"-"},"cubic feet"]
[]
["Volume available for media and expansion:"]
["Vertical vessel","vert_vol_available_filt",{"$f":"IF(filter_type=2,(filt_comm_height_length-free_board)*PI()*filt_comm_diam^2/4,\"-\")","v":"-"},"cubic feet"]
["Horizontal vessel","horiz_vol_available_filt",{"$f":"IF(filter_type=2,comm_vol_filt-horiz_void_filt,\"-\")","v":"-"},"cubic feet"]
["For selected vessel geometry","input_vol_vess_filt",{"$f":"IF(filter_type=2,CHOOSE(tank_geom_filt,vert_vol_available_filt,horiz_vol_available_filt),\"-\")","v":"-"},"cubic feet","To be compared to vol_vessel, to determine whether vessel is oversized."]
[]
["Tolerance for oversized vessels","vol_tol_filt",{"$f":"IF(filter_type=2,CHOOSE(tank_geom_filt,IF(ss_cat2=1,vol_tol_vert_small,vol_tol_vert_med),vol_tol_horiz),\"-\")","v":"-"},null,"Tolerance added to vol_vessel in checking for oversized vessels."]
[]
["FILTER GRAVITY CONTACT BASINS"]
["Total filter volume required","min_filt_vol",{"$f":"IF(filter_type=1,design_flow_rate*ebct_filt/7.48,0)","v":27.852049910873436},"cubic ft"]
["Filter Volume per Basin","filt_bed_volume",{"$f":"IF(filter_type=1,min_filt_vol/op_num_filters,0)","v":27.852049910873436},"cubic ft"]
["Number of filters (no redundancy)","op_num_filters",{"$f":"IF(filter_type=1,ROUNDUP(min_filt_vol/(filt_basin_width*filt_basin_length*filt_basin_op_depth),0),\"-\")","v":1}]
["Basin depth including freeboard","filt_basin_depth",{"$f":"IF(filter_type=1,filt_basin_op_depth*(1+filt_bed_expansion)+filt_freeboard,0)","v":6.65},"ft"]
["Filter Volume per Basin","filt_volume",{"$f":"IF(filter_type=1,filt_basin_width*filt_basin_length*filt_basin_depth*7.48,\"-\")","v":447.67800000000005},"gal"]
["Number of reduntant basins","NRD_filt",{"$f":"IF(filter_type=1,IF(op_num_filters=1,filt_NRD_small_1,CHOOSE(ss_cat2,filt_NRD_small,filt_NRD_basins_medium,filt_NRD_basins_large)),0)","v":1},"units"]
["Total number of basins (incl. redundancy)","total_num_filt_basins",{"$f":"IF(filter_type=1,op_num_filters+NRD_filt,0)","v":2},"units"]
["Concrete volume","filt_basin_conc_vol",{"$f":"IF(filter_type=1,(2*(filt_basin_width*total_num_filt_basins+conc_thick*(total_num_filt_basins+1))*filt_basin_depth*conc_thick+(total_num_filt_basins+1)*filt_basin_length*filt_basin_depth*conc_thick+(filt_basin_length+2*conc_thick)*(filt_basin_width*total_num_filt_basins+conc_thick*(total_num_filt_basins+1))*conc_thick)/27,\"-\")","v":8.3166666666666664},"cubic yd","incorporates common wall design"]
["Excavation volume","filt_excavation_vol",{"$f":"IF(filter_type=1,((total_num_filt_basins*filt_basin_width+(total_num_filt_basins+1)*conc_thick+overexcavate)*(filt_basin_length+2*conc_thick+overexcavate)*(filt_basin_depth+conc_thick+overexcavate)+0.5*(3*(filt_basin_depth+conc_thick+overexcavate)*(filt_basin_depth+conc_thick+overexcavate)*(filt_basin_length+2*conc_thick+overexcavate)))/27,\"-\")","v":118.34458333333333},"cubic yd","incorporates common wall design, includes ramping for moving earth out of excavated area, assumes flush with grade (conservative)"]
["Backfill volume","filt_backfill_vol",{"$f":"IF(filter_type=1,filt_excavation_vol-(total_num_filt_basins*filt_basin_width+(total_num_filt_basins+1)*conc_thick)*(filt_basin_length+2*conc_thick)*(filt_basin_depth+conc_thick)/27,\"-\")","v":105.59458333333333},"cubic yd"]
["Railing length","filt_railing",{"$f":"IF(filter_type=1,2*(total_num_filt_basins*filt_basin_width+2*conc_thick/2+(total_num_filt_basins-1)*conc_thick)+2*(filt_basin_length+2*conc_thick/2),\"-\")","v":24},"lf","incorporates common wall design, single railing (concrete thickness is not sufficient to provide walkway)"]
["Surface area each contactor","filt_basin_area",{"$f":"IF(filter_type=1,filt_basin_width*filt_basin_length,\"-\")","v":9},"square ft"]
[]
["Filter Media Quantities"]
["Sand quantity each filter","sand_each",{"$f":"IF(filter_type=1,filt_bed_volume*(sand_fraction),IF(filter_type=2,media_volume_filt,0))","v":9.1911764705882337},"cubic ft"]
["Anthracite quantity each filter","anthracite_each",{"$f":"IF(filter_type=1,filt_bed_volume*anthracite_fraction*anthracite_density,IF(filter_type=2,media_volume_filt*anthracite_fraction*anthracite_density,0))","v":933.04367201426021},"lbs"]
["Garnet quantity each filter","garnet_each",{"$f":"IF(filter_type=1,filt_bed_volume*garnet_fraction*garnet_density,IF(filter_type=2,media_volume_filt*garnet_fraction*garnet_density,0))","v":0},"lbs"]
["GAC quantity each filter","filt_GAC_each",{"$f":"IF(filter_type=1,filt_bed_volume*GAC_fraction*GAC_density,IF(filter_type=2,media_volume_filt*GAC_fraction*GAC_density,0))","v":0},"lbs"]
["Sand filter media","sand_vol",{"$f":"sand_each*IF(filter_type=1,total_num_filt_basins,IF(filter_type=2,final_num_tanks_filt,0))","v":18.382352941176467},"cubic ft"]
["Anthracite filter media","anthracite",{"$f":"anthracite_each*IF(filter_type=1,total_num_filt_basins,IF(filter_type=2,final_num_tanks_filt,0))","v":1866.0873440285204},"lbs"]
["Garnet filter media","garnet",{"$f":"garnet_each*IF(filter_type=1,total_num_filt_basins,IF(filter_type=2,final_num_tanks_filt,0))","v":0},"lbs"]
["GAC filter media","filt_GAC",{"$f":"filt_GAC_each*IF(filter_type=1,total_num_filt_basins,IF(filter_type=2,final_num_tanks_filt,0))","v":0},"lbs"]
[]
["Coagulant Addition"]
["Coagulant per day (average flow)","coag_day",{"$f":"IF(include_coag_filt=1,coag_dose_filt*8.34*average_flow,0)","v":0.5838000000000001},"lb/day"]
["Coagulant per day (design flow)","coag_day_design_flow",{"$f":"IF(include_coag_filt=1,coag_dose_filt*8.34*design_flow,0)","v":2.5020000000000002},"lb/day"]
["Annual coagulant use","coag_yr_filt",{"$f":"coag_day*365/2000","v":0.10654350000000003},"tons/year"]
["Maximum gravimetric feeder size","max_grav_size",{"$f":"VLOOKUP(10^6,grav_feed_cost_cl,1)-0.1","v":107.4},"lb/min","The largest size for which costs are available"]
["Number of gravimetric feeders","grav_feed_filt",{"$f":"ROUNDUP(coag_day_design_flow/(24*60)/max_grav_size,0)","v":1},"units"]
["Gravimetric dry feeder rating","grav_feed_rate_filt",{"$f":"IF(include_coag_filt=1,coag_day_design_flow/(24*60)/grav_feed_filt,0)","v":1.7375000000000001E-3},"lbs/min"]
["Maximum volumetric feeder size","max_vol_size",{"$f":"VLOOKUP(10^6,vol_feed_cost_cl,1)-0.001","v":2.5089999999999999},"cfm ","The largest size for which costs are available"]
["Number of volumetric feeders","vol_feed_filt",{"$f":"ROUNDUP(coag_day_design_flow/(24*60)/coag_density_filt/max_vol_size,0)","v":1},"units"]
["Volumetric dry feeder rating","vol_feed_rate_filt",{"$f":"IF(include_coag_filt=1,coag_day_design_flow/(24*60)/coag_density_filt/vol_feed_filt,0)","v":4.0406976744186046E-5},"cfm"]
["Maximum mixing tank size","max_coag_mix_tank",{"$f":"MAX(VLOOKUP(10^6,st_bwt_cost_cl,1)-1,VLOOKUP(10^6,fg_bwt_cost_cl,1)-1,VLOOKUP(10^6,hdpe_bwt_cost_cl,1)-1)","v":282094},"gal","The largest size for which costs are available"]
["Number of coglant mixing tanks","coag_mix_tank",{"$f":"IF(include_coag_filt=1,ROUNDUP(design_flow_rate*coag_mix_time/60/max_coag_mix_tank,0),0)","v":1},"units"]
["Coagulant mix tank size","coag_mix_tank_size",{"$f":"IF(include_coag_filt=1,design_flow_rate*coag_mix_time/60/coag_mix_tank,0)","v":20.833333333333332},"gal"]
["Max coagulant mix tank mixer horsepower","mix_hp_max",{"$f":"VLOOKUP(10^6,imp_mix_cost_cl,1)-0.1","v":20},"hp","The largest impeller mixer size available"]
["Mixers per coagulant mix tank","mix_per_tank",{"$f":"IF(include_coag_filt=1,ROUNDUP(coag_mix_tank_size/1000*mix_hp_per/mix_hp_max,0),0)","v":1},"units"]
["Number of mixers","mixers",{"$f":"IF(include_coag_filt=1,coag_mix_tank*mix_per_tank,0)","v":1},"units"]
["Mixer size for holding tanks (if coagulant is used)","mix_size",{"$f":"IF(include_coag_filt=1,MAX(min_mix_hp,coag_mix_tank_size/1000*mix_hp_per/mix_per_tank),0)","v":0.33333333333333331},"hp"]

{"sheet":"Pumps Pipe Structure","index":11,"n_rows":158,"n_cols":5,"rows_kept":158,"cut":false,"hidden":false,"merged":[]}
["Pumps, Piping, and Structure Calculations"]
[]
["Calculation","Range Name","Value","Units","Guidance"]
["Pump and Blower Design"]
["Booster pump rating","pump_rating",{"$f":"IF(lines_pump_I=\"\",IF(ss_cat2=1,0,MIN(MAX(average_flow_rate+bp_flow_rate*average_flow_rate/design_flow_rate,(design_flow_rate+bp_flow_rate)/2)*(1+pump_safety_factor),max_pump_size)),IF(lines_pump_I=0,0,(design_flow_rate+bp_flow_rate)*(1+pump_safety_factor)/lines_pump_I))","v":0},"gpm","Includes safety factor"]
["Maximum pump size","max_pump_size",{"$f":"VLOOKUP(10^6,pump_cost_cl,1)-1","v":10000},"gpm","The largest pump size for which costs are available.  Applies to booster pumps and backwash pumps.  For booster pumps, will override bioreactors per pump input, if this input results in pumps that are too large."]
["Maximum chemical metering pump size","max_cm_pump_size",{"$f":"MAX(VLOOKUP(10^6,ss_empump_cost_cl,1)-0.01,VLOOKUP(10^6,ss_mmpump_cost_cl,1)-0.01,VLOOKUP(10^6,pvc_empump_cost_cl,1)-0.01,VLOOKUP(10^6,pvc_mmpump_cost_cl,1)-0.01)","v":360},"gph","The largest size for which costs are available."]
["Maximum chemical metering pump size excluding stainless steel","max_cm_pump_size_noSS",{"$f":"MAX(VLOOKUP(10^6,pvc_empump_cost_cl,1)-0.01,VLOOKUP(10^6,pvc_mmpump_cost_cl,1)-0.01)","v":108},"gph","The largest size for which costs are available excluding stainless, which is not compatible with phosphoric acid"]
[]
["Number of booster pumps","booster_pumps",{"$f":"IF(pump_rating=0,0,ROUNDUP((design_flow_rate+bp_flow_rate)*(1+pump_safety_factor)/pump_rating,0))","v":0},"units","Operating pumps"]
["Total booster pumps","total_booster_pumps",{"$f":"IF(booster_pumps=0,0,booster_pumps+NRD_pumps)","v":0},"units","Includes  redundancy"]
[]
["Number of recycle pumps","recycle_pumps",{"$f":"IF(design_type=3,ROUNDUP(design_flow_rate*recycle_fluid*(1+pump_safety_factor)/max_pump_size+NRD_recycle_pumps,0),0)","v":0},"pumps","Includes redundancy"]
["Recycle pump rating","recycle_pump_rating",{"$f":"IF(recycle_pumps=0,0,design_flow_rate*recycle_fluid*(1+pump_safety_factor)/(recycle_pumps-NRD_recycle_pumps))","v":0},"gpm","Includes safety factor"]
[]
["Number of backwash pumps","backwash_pumps",{"$f":"IF(AND(include_post=0,design_type=3),0,IF(no_backwash=1,0,ROUNDUP(IF(water_flush>filter_water_flush,water_flush,filter_water_flush)*(1+pump_safety_factor)/max_pump_size,0)+NRD_back_pumps))","v":0},"pumps","Includes redundancy"]
["Backwash pump rating","back_pump_rating",{"$f":"IF(backwash_pumps=0,0,IF(water_flush>filter_water_flush,water_flush,filter_water_flush)*(1+pump_safety_factor)/(backwash_pumps-NRD_back_pumps))","v":0},"gpm","Includes safety factor"]
[]
["Electron Donor Pump"]
["Number of chemical metering pumps","cm_pumps_e_donor",{"$f":"ROUNDUP(e_donor_day_vol/24*(1+pump_safety_factor)/max_cm_pump_size,0)+NRD_cm_pump","v":2},"units"]
["Chemical metering pump rating","cm_pump_rating_e_donor",{"$f":"MAX(min_chem_flow,e_donor_day_vol/24*(1+pump_safety_factor)/(cm_pumps_e_donor-NRD_cm_pump))","v":0.13},"gph"]
[]
["Ammonium Chloride Pump"]
["Number of chemical metering pumps","cm_pumps_NH4Cl",{"$f":"IF(OR(nutrient_option=2,nutrient_option=4),ROUNDUP(NH4Cl_vol/24*(1+pump_safety_factor)/max_cm_pump_size,0)+NRD_cm_pump,0)","v":0},"units"]
["Chemical metering pump rating","cm_pump_rating_NH4Cl",{"$f":"IF(cm_pumps_NH4Cl=0,0,MAX(min_chem_flow,NH4Cl_vol/24*(1+pump_safety_factor)/(cm_pumps_NH4Cl-NRD_cm_pump)))","v":0},"gph"]
[]
["Phosphoric Acid Pump"]
["Number of chemical metering pumps","cm_pumps_H3PO4",{"$f":"IF(OR(nutrient_option=3,nutrient_option=4),ROUNDUP(H3PO4_vol/24*(1+pump_safety_factor)/max_cm_pump_size_noSS,0)+NRD_cm_pump,0)","v":2},"units"]
["Chemical metering pump rating","cm_pump_rating_H3PO4",{"$f":"IF(cm_pumps_H3PO4=0,0,MAX(min_chem_flow,H3PO4_vol/24*(1+pump_safety_factor)/(cm_pumps_H3PO4-NRD_cm_pump)))","v":0.13},"gph"]
[]
["Blower for Air Scour"]
["Maximum blower size","max_blower_size",{"$f":"VLOOKUP(10^6,pd_blow_cost_cl,1)-1","v":5000},"CFM","The largest size for which costs are available."]
["Number of blowers","num_blowers",{"$f":"IF(AND(design_type=3,include_post=0),0,IF(air_scour_I=\"yes\",ROUNDUP(tot_air_scour/max_blower_size,0),0))","v":1},"units"]
["Design air flow","design_air_flow",{"$f":"IF(num_blowers=0,0,tot_air_scour/(num_blowers))","v":55.634954084936211},"cfm"]
[]
["Blowers of Biomass Removal"]
["Number of blowers","num_bio_blowers",{"$f":"IF(design_type=3,ROUNDUP(tot_air_biomass/max_blower_size,0),0)","v":0},"units","Fluidized Bed Designs Only"]
["Design air flow","design_air_flow_bio",{"$f":"IF(num_bio_blowers=0,0,tot_air_biomass/(num_bio_blowers))","v":0},"cfm"]
[]
["Blowers of Aeration"]
["Number of blowers","num_aeration_blowers",{"$f":"IF(include_post_h2o2=0,ROUNDUP(air_flow_tot/max_blower_size,0)+NRD_blowers,0)","v":2},"units"]
["Design air flow","design_air_flow_aeration",{"$f":"IF(num_aeration_blowers=0,0,air_flow_tot/(num_aeration_blowers-NRD_blowers))","v":1.3541666666666665},"cfm"]
[]
["Hydrogen Peroxide Pump"]
["Number of chemical metering pumps","cm_pumps_H2O2",{"$f":"IF(include_post_h2o2=0,0,ROUNDUP(solution_rate*(1+pump_safety_factor)/max_cm_pump_size,0)+NRD_cm_pump)","v":0},"units"]
["Chemical metering pump rating","cm_pump_rating_H2O2",{"$f":"IF(include_post_h2o2=0,0,MAX(min_chem_flow,solution_rate*(1+pump_safety_factor)/(cm_pumps_H2O2-NRD_cm_pump)))","v":0},"gph"]
[]
["Piping Design"]
["Inlet and outlet pipe length","in_out_pipe_length",{"$f":"2*facil_length","v":40},"linear feet"]
["Process piping length","proc_pipe_length",{"$f":"2*facil_length","v":40},"linear feet"]
["Recycle piping length","recycle_pipe_length",{"$f":"IF(design_type=3,facil_length,0)","v":0},"linear feet"]
["Backwash piping length","back_pipe_length",{"$f":"2.5*facil_length","v":50},"linear feet"]
["Electron donor piping length","e_donor_pipe_length",{"$f":"facil_length","v":20},"linear feet"]
["Ammonium chloride piping length","NH4Cl_pipe_length",{"$f":"IF(OR(nutrient_option=2,nutrient_option=4),facil_length,0)","v":0},"linear feet"]
["Phosphoric acid piping length","H3PO4_pipe_length",{"$f":"IF(OR(nutrient_option=3,nutrient_option=4),facil_length,0)","v":20},"linear feet"]
["Polymer addition pipe length","polymer_pipe_length",{"$f":"IF(AND(htanks<>0,polymer_res=1),facil_length,0)","v":20},"linear feet"]
["Bypass piping length","bp_pipe_length",{"$f":"IF(bp_pct>0,back_pipe_length,0)","v":0},"linear feet"]
["Inlet and outlet pipe flow","in_out_pipe_flow",{"$f":"design_flow_rate+bp_flow_rate","v":20.833333333333332},"gpm"]
["Inlet piping diameter","in_out_pipe_diam",{"$f":"VLOOKUP(in_out_pipe_flow,pipe_size_table_cl,2)","v":1.5},"inches"]
["Process pipe flow","proc_pipe_flow",{"$f":"IF(OR(design_type=1,design_type=3),flow_per_vessel,design_flow_rate/op_num_basins)","v":10.709231207158957},"gpm"]
["Process pipe diameter","proc_pipe_diam",{"$f":"VLOOKUP(proc_pipe_flow,pipe_size_table_cl,2)","v":1.5},"inches"]
["Recycle pipe flow","recycle_pipe_flow",{"$f":"IF(design_type=3,design_flow_rate*recycle_fluid,0)","v":0},"gpm"]
["Recycle pipe diameter","recycle_pipe_diam",{"$f":"IF(design_type=3,VLOOKUP(recycle_pipe_flow,pipe_size_table_cl,2),0)","v":0},"inches"]
["Electron donor pipe flow","e_donor_pipe_flow",{"$f":"e_donor_day_vol/1440","v":1.0317695961995247E-3},"gpm"]
["Electron donor pipe diameter","e_donor_pipe_diam",{"$f":"VLOOKUP(e_donor_pipe_flow,pipe_size_table_cl,2)","v":0.5},"inches"]
["Ammonium chloride pipe flow","NH4Cl_pipe_flow",{"$f":"NH4Cl_vol/1440","v":0},"gpm"]
["Ammonium chloride pipe diameter","NH4Cl_pipe_diam",{"$f":"IF(OR(nutrient_option=2,nutrient_option=4),VLOOKUP(NH4Cl_pipe_flow,pipe_size_table_cl,2),0)","v":0},"inches"]
["Phosphoric acid pipe flow","H3PO4_pipe_flow",{"$f":"H3PO4_vol/1440","v":5.5797064144343843E-5},"gpm"]
["Phosphoric acid pipe diameter","H3PO4_pipe_diam",{"$f":"IF(OR(nutrient_option=3,nutrient_option=4),VLOOKUP(H3PO4_pipe_flow,pipe_size_table_cl,2),0)","v":0.5},"inches"]
["Aeration tank pipe flow","aer_tank_pipe_flow",{"$f":"design_flow_rate/aeration_tanks","v":20.833333333333332},"gpm"]
["Aeration tank pipe diameter","aer_tank_pipe_diam",{"$f":"VLOOKUP(aer_tank_pipe_flow,pipe_size_table_cl,2)","v":1.5},"inches"]
["Backwash pipe flow","back_pipe_flow",{"$f":"IF(water_flush>filter_water_flush,water_flush,filter_water_flush)","v":135},"gpm"]
["Backwash pipe diameter","back_pipe_diam",{"$f":"VLOOKUP(back_pipe_flow,pipe_size_table_cl,2)","v":4},"inches"]
["Bypass pipe flow","bp_pipe_flow",{"$f":"bp_flow_rate","v":0},"gpm"]
["Bypass pipe diameter","bp_pipe_diam",{"$f":"IF(bp_pct>0,VLOOKUP(bp_pipe_flow,pipe_size_table_cl,2),0)","v":0},"inches"]
["Dilute hydrogen peroxide piping length","H202_pipe_length",{"$f":"IF(include_post_h2o2=0,0,facil_length)","v":0},"linear feet"]
["Dilute hydrogen peroxide pipe flow","H202_pipe_flow",{"$f":"IF(include_post_h2o2=0,0,diluted_rate)","v":0},"gpm"]
["Dilute hydrogen peroxide pipe diameter","H202_pipe_diam",{"$f":"IF(include_post_h2o2=0,0,VLOOKUP(H202_pipe_flow,pipe_size_table_cl,2))","v":0},"inches"]
["Polymer pipe flow","polymer_pipe_flow",{"$f":"polymer_rate/60","v":9.2367982142857144E-2},"gpm"]
["Polymer pipe diameter","polymer_pipe_diam",{"$f":"IF(polymer_day=0,0,VLOOKUP(polymer_pipe_flow,pipe_size_table_cl,2))","v":0.5},"inches"]
[]
["Building Structure"]
["Aeration tank diameter","aer_tank_diam",{"$f":"ROUNDUP(2*(MAX((2*aeration_tank_vol/7.48/PI())^(1/3),(4*aeration_tank_vol/7.48/PI()/(Building_height-ceiling_clearance))^(1/2))),0)/2","v":1.5},"feet"]
["Backwash tank diameter","bt_diam",{"$f":"ROUNDUP(2*(MAX((2*back_tank_vol/7.48/PI())^(1/3),(4*back_tank_vol/7.48/PI()/(Building_height-ceiling_clearance))^(1/2))),0)/2","v":0},"feet"]
["Electron donor storage tank diameter","e_donor_st_diam",{"$f":"ROUNDUP(2*(MAX((2*e_donor_tank_vol/7.48/PI())^(1/3),(4*e_donor_tank_vol/7.48/PI()/(Building_height-ceiling_clearance))^(1/2))),0)/2","v":1},"feet"]
["Ammonium chloride storage tank diameter","NH4Cl_st_diam",{"$f":"ROUNDUP(2*(MAX((2*NH4Cl_tank_vol/7.48/PI())^(1/3),(4*NH4Cl_tank_vol/7.48/PI()/(Building_height-ceiling_clearance))^(1/2))),0)/2","v":0},"feet"]
["Phosphoric acid storage tank diameter","H3PO4_st_diam",{"$f":"ROUNDUP(2*(MAX((2*H3PO4_tank_vol/7.48/PI())^(1/3),(4*H3PO4_tank_vol/7.48/PI()/(Building_height-ceiling_clearance))^(1/2))),0)/2","v":0.5},"feet"]
["Hydrogen peroxide storage tank diameter","H2O2_st_diam",{"$f":"ROUNDUP((MAX((2*H2O2_tank_vol/7.48/PI())^(1/3),(4*H2O2_tank_vol/7.48/PI()/(Building_height-ceiling_clearance))^(1/2))),0)","v":0},"feet"]
["Electron donor day tank diameter","e_donor_dt_diam",{"$f":"ROUNDUP((2*(e_donor_day_tank_vol/7.48)/PI())^(1/3),0)","v":1},"feet"]
["Ammonium chloride day tank diameter","NH4Cl_dt_diam",{"$f":"ROUNDUP((2*(NH4Cl_day_tank_vol/7.48)/PI())^(1/3),0)","v":0},"feet"]
["Phosphoric acid day tank diameter","H3PO4_dt_diam",{"$f":"ROUNDUP((2*(H3PO4_day_tank_vol/7.48)/PI())^(1/3),0)","v":0},"feet"]
["Hydrogen peroxide day tank diameter","H2O2_dt_diam",{"$f":"ROUNDUP((2*(H2O2_day_tank_vol/7.48)/PI())^(1/3),0)","v":0},"feet"]
["Residuals holding tank diameter","ht_diam",{"$f":"ROUNDUP(2*(MAX((2*htank_vol/7.48/PI())^(1/3),(4*htank_vol/7.48/PI()/(Building_height-ceiling_clearance))^(1/2))),0)/2","v":6},"feet"]
["Thickening tank diameter","thick_diam",{"$f":"IF(sed_sludge_method=0,0,IF(component_level=2,ROUNDUP(2*(MAX((2*thick_tank_volume/7.48/PI())^(1/3),(4*thick_tank_volume/7.48/PI()/(Building_height-ceiling_clearance))^(1/2))),0)/2,thick_basin_diam))","v":0},"feet"]
["Polymer storage tank diameter","polymer_st_diam",{"$f":"ROUNDUP(2*(MAX((2*polymer_tank_vol/7.48/PI())^(1/3),(4*polymer_tank_vol/7.48/PI()/(Building_height-ceiling_clearance))^(1/2))),0)/2","v":1.5},"feet"]
["Coagulant mix tank diameter","coag_mix_diam",{"$f":"ROUNDUP(2*(MAX((2*coag_mix_tank_size/7.48/PI())^(1/3),(4*coag_mix_tank_size/7.48/PI()/(Building_height-ceiling_clearance))^(1/2))),0)/2","v":1.5},"feet"]
["Maximum access space per vessel or tank","max_space_vessels",{"$f":"IF(AND(OR(design_type=1,design_type=3),ss_cat2=1),max_space_vessels_pre,max_space_vessels_cust)","v":1},"feet"]
["Access space per vessel","space_vessels",{"$f":"IF(tank_geom=2,max_space_vessels,IF(comm_diam>max_space_vessels,max_space_vessels,comm_diam))","v":1},"feet"]
["Access space per backwash tank","space_aer",{"$f":"IF(aer_tank_diam>max_space_vessels,max_space_vessels,aer_tank_diam)","v":1},"feet"]
["Access space per backwash tank","space_bt",{"$f":"IF(bt_diam>max_space_vessels,max_space_vessels,bt_diam)","v":0},"feet"]
["Access space per electron donor storage tank","space_e_donor_st",{"$f":"IF(e_donor_st_diam>max_space_vessels,max_space_vessels,e_donor_st_diam)","v":1},"feet"]
["Access space per ammonium chloride storage tank","space_NH4Cl_st",{"$f":"IF(NH4Cl_st_diam>max_space_vessels,max_space_vessels,NH4Cl_st_diam)","v":0},"feet"]
["Access space per phosphoric acid storage tank","space_H3PO4_st",{"$f":"IF(H3PO4_st_diam>max_space_vessels,max_space_vessels,H3PO4_st_diam)","v":0.5},"feet"]
["Access space per hydrogen peroxide storage tank","space_H2O2_st",{"$f":"IF(H2O2_st_diam>max_space_vessels,max_space_vessels,H2O2_st_diam)","v":0},"feet"]
["Access space per electron donor day tank","space_e_donor_dt",{"$f":"IF(e_donor_dt_diam>max_space_vessels,max_space_vessels,e_donor_dt_diam)","v":1},"feet"]
["Access space per ammonium chloride day tank","space_NH4Cl_dt",{"$f":"IF(NH4Cl_dt_diam>max_space_vessels,max_space_vessels,NH4Cl_dt_diam)","v":0},"feet"]
["Access space per phosphoric acid day tank","space_H3PO4_dt",{"$f":"IF(H3PO4_dt_diam>max_space_vessels,max_space_vessels,H3PO4_dt_diam)","v":0},"feet"]
["Access space per hydrogen peroxide day tank","space_H2O2_dt",{"$f":"IF(H2O2_dt_diam>max_space_vessels,max_space_vessels,H2O2_dt_diam)","v":0},"feet"]
["Access space per residuals holding tank","space_ht",{"$f":"IF(ht_diam>max_space_vessels,max_space_vessels,ht_diam)","v":1},"feet"]
["Access space per thickening tank","space_thick",{"$f":"IF(thick_diam>max_space_vessels,max_space_vessels,thick_diam)","v":0},"feet"]
["Access space per polymer holding tank","space_polymer_st",{"$f":"IF(polymer_st_diam>max_space_vessels,max_space_vessels,polymer_st_diam)","v":1},"feet"]
["Access space per coagulant mix tank","space_coag_mix",{"$f":"IF(coag_mix_diam>max_space_vessels,max_space_vessels,coag_mix_diam)","v":1},"feet"]
["Access space per pump","space_pumps",{"$f":"IF(AND(design_type=1,ss_cat2=1),space_pumps_pre,space_pumps_cust)","v":0},"feet"]
["Footprint for gravity basins","basin_fp",{"$f":"IF(design_type=2,total_num_basins*basin_area*2,0)","v":0},"square feet","Two times basin area for walkways and equipment"]
["Footprint for vessels (large system assumptions)",null,{"$f":"IF(design_type=2,0,IF(tank_geom=1,ROUNDUP(((comm_diam+2*space_vessels)^2+(final_num_tanks-1)*(comm_diam+2*space_vessels)*(comm_diam+space_vessels)),0),IF(tank_geom=2,ROUNDUP((comm_diam+2*space_vessels)*(comm_height_length+2*space_vessels)+(final_num_tanks-1)*(comm_height_length+2*space_vessels)*(comm_diam+space_vessels),0))))","v":36},"square feet"]
["Footprint for vessels (skid mounted small system)",null,{"$f":"IF(design_type=2,0,IF(tank_geom=1,ROUNDUP(((comm_diam+2*space_vessels)^2+(final_num_tanks-1)*(comm_diam+2*space_vessels)*(comm_diam+space_vessels/2)),0),IF(tank_geom=2,ROUNDUP((comm_diam+2*space_vessels)*(comm_height_length+2*space_vessels)+(final_num_tanks-1)*(comm_height_length+2*space_vessels)*(comm_diam+space_vessels/2),0))))","v":34},"square feet","Space between skid mounted vessels is reduced, outside access space remains the same"]
["Footprints for vessels","vessel_fp",{"$f":"IF(ss_cat2=1,C116,C115)","v":34},"square feet"]
["Footprint for aeration tank","aer_tank_fp",{"$f":"IF(aeration_tanks=0,0,ROUNDUP((aer_tank_diam+2*space_aer)^2+(aeration_tanks-1)*(aer_tank_diam+2*space_aer)*(aer_tank_diam+space_aer),0))","v":13},"square feet"]
["Footprint for backwash tank","back_tank_fp",{"$f":"IF(back_tanks=0,0,ROUNDUP((bt_diam+2*space_bt)^2+(back_tanks-1)*(bt_diam+2*space_bt)*(bt_diam+space_bt),0))","v":0},"square feet"]
["Footprint for coagulant mix tank","coag_mix_fp",{"$f":"IF(coag_mix_tank=0,0,ROUNDUP((coag_mix_diam+2*space_coag_mix)^2+(coag_mix_tank-1)*(coag_mix_diam+2*space_coag_mix)*(coag_mix_diam+space_coag_mix),0))","v":13},"square feet"]
["Booster pump footprint",null,{"$f":"IF(total_booster_pumps=0,0,ROUNDUP((VLOOKUP(pump_rating,pump_dim_table_cl,3)+space_pumps)*(VLOOKUP(pump_rating,pump_dim_table_cl,4)+2*space_pumps)+(total_booster_pumps-1)*(VLOOKUP(pump_rating,pump_dim_table_cl,3)+space_pumps)*(VLOOKUP(pump_rating,pump_dim_table_cl,4)+space_pumps),0))","v":0},"square feet"]
["Recycle Pump Footprint",null,{"$f":"IF(design_type=3,ROUNDUP((VLOOKUP(recycle_pump_rating,pump_dim_table_cl,3)+space_pumps)*(VLOOKUP(recycle_pump_rating,pump_dim_table_cl,4)+2*space_pumps)+(recycle_pumps-1)*(VLOOKUP(recycle_pump_rating,pump_dim_table_cl,3)+space_pumps)*(VLOOKUP(recycle_pump_rating,pump_dim_table_cl,4)+space_pumps),0),0)","v":0},"square feet"]
["Backwash pump footprint",null,{"$f":"IF(backwash_pumps=0,0,ROUNDUP((VLOOKUP(back_pump_rating,pump_dim_table_cl,3)+space_pumps)*(VLOOKUP(back_pump_rating,pump_dim_table_cl,4)+2*space_pumps)+(backwash_pumps-1)*(VLOOKUP(back_pump_rating,pump_dim_table_cl,3)+space_pumps)*(VLOOKUP(back_pump_rating,pump_dim_table_cl,4)+space_pumps),0))","v":0},"square feet"]
["Residuals pump footprint",null,{"$f":"IF(res_pumps=0,0,ROUNDUP((VLOOKUP(res_pump_rating,pump_dim_table_cl,3)+space_pumps)*(VLOOKUP(res_pump_rating,pump_dim_table_cl,4)+2*space_pumps)+(res_pumps-1)*(VLOOKUP(res_pump_rating,pump_dim_table_cl,3)+space_pumps)*(VLOOKUP(res_pump_rating,pump_dim_table_cl,4)+space_pumps),0))","v":13},"square feet"]
["Blower footprint for aeration",null,{"$f":"IF(num_aeration_blowers=0,0,ROUNDUP((VLOOKUP(design_air_flow_aeration,blow_dim_table_cl,7)+2*space_pumps)*(VLOOKUP(design_air_flow_aeration,blow_dim_table_cl,8)+2*space_pumps)+(num_aeration_blowers-1)*(VLOOKUP(design_air_flow_aeration,blow_dim_table_cl,7)+2*space_pumps)*(VLOOKUP(design_air_flow_aeration,blow_dim_table_cl,8)+space_pumps),0))","v":14},"square feet"]
["Blower footprint for backwash",null,{"$f":"IF(num_blowers=0,0,ROUNDUP((VLOOKUP(design_air_flow,blow_dim_table_cl,7)+2*space_pumps)*(VLOOKUP(design_air_flow,blow_dim_table_cl,8)+2*space_pumps)+(num_blowers-1)*(VLOOKUP(design_air_flow,blow_dim_table_cl,7)+2*space_pumps)*(VLOOKUP(design_air_flow,blow_dim_table_cl,8)+space_pumps),0))","v":7},"square feet"]
["Blower footprint for biomass seperation",null,{"$f":"IF(num_bio_blowers=0,0,ROUNDUP((VLOOKUP(design_air_flow_bio,blow_dim_table_cl,7)+2*space_pumps)*(VLOOKUP(design_air_flow_bio,blow_dim_table_cl,8)+2*space_pumps)+(num_bio_blowers-1)*(VLOOKUP(design_air_flow_bio,blow_dim_table_cl,7)+2*space_pumps)*(VLOOKUP(design_air_flow_bio,blow_dim_table_cl,8)+space_pumps),0))","v":0},"square feet"]
["Footprint for pumps","pump_fp",{"$f":"C123+C121+C124+C122","v":13},"square feet"]
["Residuals holding tank footprint","htank_fp",{"$f":"IF(res_holding<>\"tanks\",0,ROUNDUP((ht_diam+2*space_ht)^2+(htanks-1)*(ht_diam+2*space_ht)*(ht_diam+space_ht),0))","v":0},"square feet"]
["Residuals holding basin footprint","hbasin_fp",{"$f":"IF(res_holding<>\"basins\",0,ROUNDUP(hbasins*hbasin_length*hbasin_width*2,0))","v":162},"square feet"]
["Polymer storage tank footprint","polymer_fp",{"$f":"ROUNDUP((polymer_st_diam+2*space_polymer_st)^2+(polymer_tanks-1)*(polymer_st_diam+2*space_polymer_st)*(polymer_st_diam+space_polymer_st),0)","v":13},"square feet"]
["Footprint for Blowers","blower_fp",{"$f":"C126+C127+C125","v":21},"square feet"]
["Electron donor storage tank footprint","e_donor_fp",{"$f":"IF(e_donor_tanks=0,0,ROUNDUP((e_donor_st_diam+2*space_e_donor_st)^2+(e_donor_tanks-1)*(e_donor_st_diam+2*space_e_donor_st)*(e_donor_st_diam+space_e_donor_st),0))","v":9},"square feet"]
["Ammonium chloride storage tank footprint","NH4Cl_donor_fp",{"$f":"IF(NH4Cl_tanks=0,0,ROUNDUP((NH4Cl_st_diam+2*space_NH4Cl_st)^2+(NH4Cl_tanks-1)*(NH4Cl_st_diam+2*space_NH4Cl_st)*(NH4Cl_st_diam+space_NH4Cl_st),0))","v":0},"square feet"]
["Phosphoric acid storage tank footprint","H3PO4_donor_fp",{"$f":"IF(H3PO4_tanks=0,0,ROUNDUP((H3PO4_st_diam+2*space_H3PO4_st)^2+(H3PO4_tanks-1)*(H3PO4_st_diam+2*space_H3PO4_st)*(H3PO4_st_diam+space_H3PO4_st),0))","v":3},"square feet"]
["Hydrogen peroxide storage tank footprint","H2O2_donor_fp",{"$f":"IF(H2O2_tanks=0,0,ROUNDUP((H2O2_st_diam+2*space_H2O2_st)^2+(H2O2_tanks-1)*(H2O2_st_diam+2*space_H2O2_st)*(H2O2_st_diam+space_H2O2_st),0))","v":0},"square feet"]
["Electron donor day tank footprint","e_donor_day_fp",{"$f":"IF(e_donor_tanks=0,0,ROUNDUP((e_donor_st_diam+2*space_e_donor_st)^2+(e_donor_tanks-1)*(e_donor_st_diam+2*space_e_donor_st)*(e_donor_st_diam+space_e_donor_st),0))","v":9},"square feet"]
["Ammonium chloride day tank footprint","NH4Cl_donor_day_fp",{"$f":"IF(NH4Cl_tanks=0,0,ROUNDUP((NH4Cl_st_diam+2*space_NH4Cl_st)^2+(NH4Cl_tanks-1)*(NH4Cl_st_diam+2*space_NH4Cl_st)*(NH4Cl_st_diam+space_NH4Cl_st),0))","v":0},"square feet"]
["Phosphoric acid day tank footprint","H3PO4_donor_day_fp",{"$f":"IF(H3PO4_tanks=0,0,ROUNDUP((H3PO4_st_diam+2*space_H3PO4_st)^2+(H3PO4_tanks-1)*(H3PO4_st_diam+2*space_H3PO4_st)*(H3PO4_st_diam+space_H3PO4_st),0))","v":3},"square feet"]
["Hydrogen peroxide day tank footprint","H2O2_donor_day_fp",{"$f":"IF(H2O2_tanks=0,0,ROUNDUP((H2O2_st_diam+2*space_H2O2_st)^2+(H2O2_tanks-1)*(H2O2_st_diam+2*space_H2O2_st)*(H2O2_st_diam+space_H2O2_st),0))","v":0},"square feet"]
["Footprint for polishing filter basins","filter_fp",{"$f":"IF(filter_type=1,total_num_filt_basins*filt_basin_area*2,0)","v":36},"square feet","Two times basin area for walkways and equipment"]
["Footprint for solids thickeners","thick_fp",{"$f":"IF(sed_sludge_method=0,0,IF(OUTPUT!L470=1,2*thick_basins*thick_basin_diam^2,ROUNDUP((thick_diam+2*space_thick)^2+(thick_tanks-1)*(thick_diam+2*space_thick)*(thick_diam+space_thick),0)))","v":0},"square feet"]
["Footprint for belt press","belt_press_fp",{"$f":"IF(num_belt_press>0,num_belt_press*(VLOOKUP(belt_press_size,belt_press_dimension,2,FALSE)/12*VLOOKUP(belt_press_size,belt_press_dimension,3,FALSE)/12),0)","v":0},"square feet"]
["Footprint for vessels (large system assumptions)",null,{"$f":"IF(filter_type=2,IF(tank_geom_filt=1,ROUNDUP(((filt_comm_diam+2*space_vessels)^2+(final_num_tanks_filt-1)*(filt_comm_diam+2*space_vessels)*(filt_comm_diam+space_vessels)),0),IF(tank_geom_filt=2,ROUNDUP((filt_comm_diam+2*space_vessels)*(filt_comm_height_length+2*space_vessels)+(final_num_tanks_filt-1)*(filt_comm_height_length+2*space_vessels)*(filt_comm_diam+space_vessels),0))),0)","v":0},"square feet"]
["Footprint for vessels (skid mounted small system)",null,{"$f":"IF(filter_type=2,IF(tank_geom_filt=1,ROUNDUP(((filt_comm_diam+2*space_vessels)^2+(final_num_tanks_filt-1)*(filt_comm_diam+2*space_vessels)*(filt_comm_diam+space_vessels/2)),0),IF(tank_geom_filt=2,ROUNDUP((filt_comm_diam+2*space_vessels)*(filt_comm_height_length+2*space_vessels)+(final_num_tanks_filt-1)*(filt_comm_height_length+2*space_vessels)*(filt_comm_diam+space_vessels/2),0))),0)","v":0},"square feet","Space between skid mounted vessels is reduced, outside access space remains the same"]
["Footprints for vessels","filter_vessel_fp",{"$f":"IF(filter_type=2,IF(ss_cat2=1,C145,C144),0)","v":0},"square feet"]
[]
["Office space","office_fp",{"$f":"VLOOKUP(design_flow,labor_table_cl,3)*IF(ss_cat2=1,space_office_small,space_office)","v":0},"square feet"]
["Exact building footprint required","fp_required",{"$f":"pump_fp+basin_fp+vessel_fp+back_tank_fp+office_fp+htank_fp+hbasin_fp+blower_fp+e_donor_fp+NH4Cl_donor_fp+H3PO4_donor_fp+H2O2_donor_fp+filter_fp+e_donor_day_fp+NH4Cl_donor_day_fp+H3PO4_donor_day_fp+H2O2_donor_day_fp+aer_tank_fp+polymer_fp+filter_vessel_fp+coag_mix_fp+thick_fp+belt_press_fp","v":329},"square feet"]
["Footprint of building 1","build1_fp",{"$f":"ROUNDUP(IF(fp_required<add_2nd_building,fp_required,basin_fp+vessel_fp+filter_fp+filter_vessel_fp+aer_tank_fp),-1)","v":330},"square feet","If total footprint is large, building 1 contains vessels, aeration, and filters only.  If total footprint is small, building 1 contains all equipment."]
["Footprint of building 2","build2_fp",{"$f":"ROUNDUP(IF(fp_required<add_2nd_building,0,pump_fp+back_tank_fp+office_fp+htank_fp+hbasin_fp+e_donor_fp+NH4Cl_donor_fp+H3PO4_donor_fp+H2O2_donor_fp+blower_fp+e_donor_day_fp+NH4Cl_donor_day_fp+H3PO4_donor_day_fp+H2O2_donor_day_fp+polymer_fp+coag_mix_fp+thick_fp+belt_press_fp),-1)","v":0},"square feet","If total footprint is large, a second building is used for pumps, blowers, backwash, and chemical storage"]
["Total footprint","total_fp",{"$f":"build1_fp+build2_fp","v":330},"square feet"]
["Concrete Class A for vessel and pumps padding","concrete",{"$f":"ROUNDUP((fp_required-office_fp)*IF(ss_cat2=1,pad_thick_small,pad_thick)/27,0)","v":5},"cubic yards"]
["Facility dimension assumed square","facil_length",{"$f":"ROUNDUP(total_fp^0.5,-1)","v":20},"feet"]
["Additional footprint for evaporation pond","ep_fp",{"$f":"IF(ep_cells=0,0,ROUNDUP((ep_cell_side+2*non_fire_buffer)^2+(ep_cells-1)*(ep_cell_side+2*non_fire_buffer)*(ep_cell_side+non_fire_buffer),0))","v":0},"square feet"]
["Land acquisition required","land_required",{"$f":"ROUNDUP(((build1_fp)^0.5+(2*non_fire_buffer))*((build1_fp)^0.5+(non_fire_buffer+fire_buffer))+IF(build2_fp=0,0,((build2_fp)^0.5+(2*non_fire_buffer))*((build2_fp)^0.5+(non_fire_buffer+fire_buffer)))+ep_fp+solids_pad_area,-2)/43560","v":6.1983471074380167E-2},"acres"]
[]
["Land acquisition cost","land_cost",{"$f":"VLOOKUP(design_flow,land_cost_cl,3)","v":22071.006650033491},"/acre"]

{"sheet":"Instrumentation and Control","index":12,"n_rows":95,"n_cols":5,"rows_kept":95,"cut":false,"hidden":false,"merged":[]}
["Instrumentation and Control Calculations"]
[]
["Calculation","Range Name","Value","Units","Guidance"]
["From Inputs"]
["Component level","component_level",{"$f":"IF(component_level_I=\"high cost\",2,IF(component_level_I=\"mid cost\",1,\"\"))","v":""},"blank = low cost, 1 = mid cost, 2 = high cost"]
["Manual system controls","manual",{"$f":"IF(manual_I=\"manual\",1,IF(manual_I=\"semi-automated\",2,IF(manual_I=\"fully automated\",3,IF(component_level=\"\",1,IF(component_level=2,3,CHOOSE(ss_cat2,1,3,3))))))","v":3},"1 = fully manual system, 2 = semi-automated system, 3 = fully automated system.","Based on system size and component level (see cell comment), unless user overrides on input sheet"]
[]
["Control Valves and Instrumentation"]
["Size of valves for inlet and outlet lines","in_valve_size",{"$f":"in_out_pipe_diam","v":1.5},"inches"]
["Size of valves for contactor pipe line","tank_valve_size",{"$f":"proc_pipe_diam","v":1.5},"inches"]
["Size of valves for recycle pipe line","rec_valve_size",{"$f":"recycle_pipe_diam","v":0},"inches"]
["Size of valves for electron donor line","e_donor_valve_size",{"$f":"e_donor_pipe_diam","v":0.5},"inches"]
["Size of valves for ammonium chloride line","NH4Cl_valve_size",{"$f":"NH4Cl_pipe_diam","v":0},"inches"]
["Size of valves for phosphoric acid line","H3PO4_valve_size",{"$f":"H3PO4_pipe_diam","v":0.5},"inches"]
["Size of valves for aeration air line","aer_tank_valve_size",{"$f":"IF(include_post_h2o2=1,0,aer_tank_pipe_diam)","v":1.5},"inches"]
["Size of valves for backwash pipe line","back_valve_size",{"$f":"back_pipe_diam","v":4},"inches"]
["Size of valves for bypass pipe line","bypass_valve_size",{"$f":"bp_pipe_diam","v":0},"inches"]
["Size of valves for air scour line","air_valve_size",{"$f":"IF(air_scour_I=\"yes\",tank_valve_size,0)","v":1.5},"inches",{"$f":"IF(air_scour_I=\"yes\",\"assume equal to contactor valve size\",\"\")","v":"assume equal to contactor valve size"}]
["Size of valves for biomass removal air line","bio_air_valve_size",{"$f":"IF(design_type=3,tank_valve_size/2,0)","v":0},"inches","assume equal to half of contactor valve size"]
["Size of valves for aeration air line","aeration_valve_size",{"$f":"C15/2","v":0.75},"inches",{"$f":"IF(air_scour_I=\"yes\",\"assume equal to half of aeration tank valve size\",\"\")","v":"assume equal to half of aeration tank valve size"}]
["Size of valves for hydrogen peroxide line","H2O2_valve_size",{"$f":"H202_pipe_diam","v":0},"inches"]
["Size of valves for polymer line","polymer_valve_size",{"$f":"polymer_pipe_diam","v":0.5},"inches"]
[]
["Number of MOVs on process line per vessel ","proc_MOV_vessel",{"$f":"VLOOKUP(\"proc_mov_vessel_par\",valve_table,manual+1,FALSE)","v":2},"valves/vessel"]
["Number of MOVs for process line","tot_proc_MOVs",{"$f":"(IF(OR(design_type=1,design_type=3),final_num_tanks,total_num_basins)+IF(filter_type=1,total_num_filt_basins,final_num_tanks_filt)+coag_mix_tank)*proc_MOV_vessel+total_booster_pumps*VLOOKUP(\"proc_MOV_pump\",valve_table,manual+1,FALSE)","v":10},"valves"]
["Number of MOVs for recycle line","tot_rec_MOVs",{"$f":"IF(design_type=3,VLOOKUP(\"tot_rec_movs\",valve_table,manual+1,FALSE)+recycle_pumps*VLOOKUP(\"rec_MOV_pump\",valve_table,manual+1,FALSE),0)","v":0},"valves"]
["Number of MOVs for electron donor line","tot_e_donor_MOVs",{"$f":"IF(OR(design_type=1,design_type=3),final_num_tanks,total_num_basins)*VLOOKUP(\"chem_MOV_vessel\",valve_table,manual+1,FALSE)+(cm_pumps_e_donor)*VLOOKUP(\"chem_MOV_pump\",valve_table,manual+1,FALSE)+VLOOKUP(\"chem_MOV_day\",valve_table,manual+1,FALSE)*e_donor_day_tanks","v":7},"valves"]
["Number of MOVs for ammonium chloride line","tot_NH4Cl_MOVs",{"$f":"IF(OR(nutrient_option=2,nutrient_option=4),IF(OR(design_type=1,design_type=3),final_num_tanks,total_num_basins)*VLOOKUP(\"chem_MOV_vessel\",valve_table,manual+1,FALSE)+(cm_pumps_NH4Cl)*VLOOKUP(\"chem_MOV_pump\",valve_table,manual+1,FALSE)+VLOOKUP(\"chem_MOV_day\",valve_table,manual+1,FALSE)*NH4Cl_day_tanks,0)","v":0},"valves"]
["Number of MOVs for phosphoric acid line","tot_H3PO4_MOVs",{"$f":"IF(OR(nutrient_option=3,nutrient_option=4),IF(OR(design_type=1,design_type=3),final_num_tanks,total_num_basins)*VLOOKUP(\"chem_MOV_vessel\",valve_table,manual+1,FALSE)+(cm_pumps_H3PO4)*VLOOKUP(\"chem_MOV_pump\",valve_table,manual+1,FALSE)+VLOOKUP(\"chem_MOV_day\",valve_table,manual+1,FALSE)*H3PO4_day_tanks,0)","v":6},"valves"]
["Number of MOVs for backwash line","tot_back_MOVs",{"$f":"((IF(design_type=1,final_num_tanks,0)+total_num_basins+IF(filter_type=1,total_num_filt_basins,final_num_tanks_filt)))*VLOOKUP(\"back_MOV_vessel\",valve_table,manual+1,FALSE)+backwash_pumps*VLOOKUP(\"back_MOV_pump\",valve_table,manual+1,FALSE)+back_tanks*VLOOKUP(\"back_MOV_tank\",valve_table,manual+1,FALSE)+IF(no_backwash=1,VLOOKUP(\"back_MOV_no_back\",valve_table,manual+1,FALSE),0)","v":9},"valves"]
["Number of MOVs for bypass line","tot_bp_MOVs",{"$f":"IF(bp_pct=0,0,VLOOKUP(\"tot_bp_movs\",valve_table,manual+1,FALSE))","v":0},"valves"]
["Number of MOVs for air scour","tot_air_MOVs",{"$f":"IF(air_scour_I=\"yes\",num_blowers*VLOOKUP(\"air_mov_blower\",valve_table,manual+1,FALSE)+VLOOKUP(\"air_mov\",valve_table,manual+1,FALSE),0)","v":2},"valves"]
["Number of MOVs for biomass removal air line","tot_bio_air_MOVs",{"$f":"IF(design_type=3,num_bio_blowers*VLOOKUP(\"air_mov_blower\",valve_table,manual+1,FALSE)+VLOOKUP(\"air_mov\",valve_table,manual+1,FALSE),0)","v":0},"valves"]
["Number of MOVs for aeration air line","tot_aeration_MOVs",{"$f":"IF(include_post_h2o2=1,0,num_aeration_blowers*VLOOKUP(\"air_mov_blower\",valve_table,manual+1,FALSE)+VLOOKUP(\"air_mov\",valve_table,manual+1,FALSE))","v":3},"valves"]
["Number of MOVs for hydrogen peroxide line","tot_H2O2_MOVs",{"$f":"IF(include_post_h2o2=0,0,VLOOKUP(\"chem_MOV_post\",valve_table,manual+1,FALSE)+(cm_pumps_H2O2)*VLOOKUP(\"chem_MOV_pump\",valve_table,manual+1,FALSE)+VLOOKUP(\"chem_MOV_day\",valve_table,manual+1,FALSE)*H2O2_day_tanks)","v":0},"valves"]
["Number of MOVs for polymer addition line","tot_polymer_MOVs",{"$f":"IF(polymer_day=0,0,VLOOKUP(\"chem_MOV_post\",valve_table,manual+1,FALSE)+(cm_pumps_polymer)*VLOOKUP(\"chem_MOV_pump\",valve_table,manual+1,FALSE))","v":5},"valves"]
["Total number of MOVs","tot_MOVs",{"$f":"SUM(C25:C36)+total_res_MOVs","v":45},"valves"]
[]
["Number of manual valves on process line per vessel ","proc_man_vessel_cont",{"$f":"VLOOKUP(\"proc_man_vessel_par\",valve_table,manual+1,FALSE)","v":0},"valves/vessel"]
["Number of manual valves for process line","tot_proc_man",{"$f":"IF(OR(design_type=1,design_type=3),(proc_man_vessel_cont+proc_man_vessel)*final_num_tanks,proc_man_vessel_cont*total_num_basins)+proc_man_vessel_cont*(IF(filter_type=1,total_num_filt_basins,final_num_tanks_filt)+coag_mix_tank)+total_booster_pumps*VLOOKUP(\"proc_man_pump\",valve_table,manual+1,FALSE)","v":2},"valves"]
["Number of manual valves for electron donor line","tot_e_donor_man",{"$f":"IF(OR(design_type=1,design_type=3),final_num_tanks,total_num_basins)*VLOOKUP(\"chem_man_vessel\",valve_table,manual+1,FALSE)+(cm_pumps_e_donor)*VLOOKUP(\"chem_man_pump\",valve_table,manual+1,FALSE)+VLOOKUP(\"chem_man_day\",valve_table,manual+1,FALSE)*e_donor_day_tanks","v":0},"valves"]
["Number of manual valves for ammonium chloride line","tot_NH4Cl_man",{"$f":"IF(OR(nutrient_option=2,nutrient_option=4),IF(OR(design_type=1,design_type=3),final_num_tanks,total_num_basins)*VLOOKUP(\"chem_man_vessel\",valve_table,manual+1,FALSE)+(cm_pumps_NH4Cl)*VLOOKUP(\"chem_man_pump\",valve_table,manual+1,FALSE)+VLOOKUP(\"chem_man_day\",valve_table,manual+1,FALSE)*NH4Cl_day_tanks,0)","v":0},"valves"]
["Number of manual valves for phosphoric acid line","tot_H3PO4_man",{"$f":"IF(OR(nutrient_option=3,nutrient_option=4),IF(OR(design_type=1,design_type=3),final_num_tanks,total_num_basins)*VLOOKUP(\"chem_man_vessel\",valve_table,manual+1,FALSE)+(cm_pumps_H3PO4)*VLOOKUP(\"chem_man_pump\",valve_table,manual+1,FALSE)+VLOOKUP(\"chem_man_day\",valve_table,manual+1,FALSE)*H3PO4_day_tanks,0)","v":0},"valves"]
["Number of manual valves for backwash line","tot_back_man",{"$f":"(IF(OR(design_type=1,design_type=3),final_num_tanks,0)+total_num_basins+IF(filter_type=1,total_num_filt_basins,final_num_tanks_filt))*VLOOKUP(\"back_man_vessel\",valve_table,manual+1,FALSE)+backwash_pumps*VLOOKUP(\"back_man_pump\",valve_table,manual+1,FALSE)+back_tanks*VLOOKUP(\"back_man_tank\",valve_table,manual+1,FALSE)+IF(no_backwash=1,VLOOKUP(\"back_man_no_back\",valve_table,manual+1,FALSE),0)","v":0},"valves"]
["Number of manual valves for recycle line","tot_rec_man",{"$f":"IF(design_type=3,VLOOKUP(\"tot_man_rec\",valve_table,manual+1,FALSE)+recycle_pumps*VLOOKUP(\"rec_man_pump\",valve_table,manual+1,FALSE),0)","v":0},"valves"]
["Number of manual valves for bypass line","tot_bp_man",{"$f":"IF(bp_pct=0,0,VLOOKUP(\"tot_bp_man\",valve_table,manual+1,FALSE))","v":0},"valves"]
["Number of manual valves for air scour","tot_air_man",{"$f":"IF(air_scour_I=\"yes\",num_blowers*VLOOKUP(\"air_man_blower\",valve_table,manual+1,FALSE)+VLOOKUP(\"air_man\",valve_table,manual+1,FALSE),0)","v":0},"valves"]
["Number of manual valves for biomass removal air line","tot_bio_air_man",{"$f":"IF(design_type=3,num_bio_blowers*VLOOKUP(\"air_man_blower\",valve_table,manual+1,FALSE)+VLOOKUP(\"air_man\",valve_table,manual+1,FALSE),0)","v":0},"valves"]
["Number of manual valves for aeration air line","tot_aeration_man",{"$f":"IF(include_post_h2o2=1,0,num_aeration_blowers*VLOOKUP(\"air_man_blower\",valve_table,manual+1,FALSE)+VLOOKUP(\"air_man\",valve_table,manual+1,FALSE))","v":0},"valves"]
["Number of manual valves for hydrogen peroxide line","tot_H2O2_man",{"$f":"IF(include_post_h2o2=0,0,VLOOKUP(\"chem_man_post\",valve_table,manual+1,FALSE)+(cm_pumps_H2O2)*VLOOKUP(\"chem_man_pump\",valve_table,manual+1,FALSE)+VLOOKUP(\"chem_man_day\",valve_table,manual+1,FALSE)*H2O2_day_tanks)","v":0},"valves"]
["Number of manual valves for hydrogen peroxide line","tot_polymer_man",{"$f":"IF(polymer_day=0,0,VLOOKUP(\"chem_man_post\",valve_table,manual+1,FALSE)+(cm_pumps_polymer)*VLOOKUP(\"chem_man_pump\",valve_table,manual+1,FALSE))","v":0},"valves"]
[]
["Number of check valves for electron donor line","tot_e_donor_chv",{"$f":"chem_chv_pump*cm_pumps_e_donor","v":4},"valves"]
["Number of check valves for ammonium chloride line","tot_NH4Cl_chv",{"$f":"(chem_chv_pump+tot_nutrient_chv)*cm_pumps_NH4Cl","v":0},"valves"]
["Number of check valves phosphoric acid line","tot_H3PO4_chv",{"$f":"(chem_chv_pump+tot_nutrient_chv)*cm_pumps_H3PO4","v":6},"valves"]
["Number of check valves backwash line","tot_back_chv",{"$f":"back_chv_pump*backwash_pumps+IF(no_backwash=1,back_chv_no_back,0)","v":1},"valves"]
["Number of check valves hydrogen peroxide line","tot_H2O2_chv",{"$f":"IF(include_post_h2o2=0,0,chem_chv_pump*cm_pumps_H2O2)","v":0},"valves"]
["Number of check valves polymer line","tot_polymer_chv",{"$f":"polymer_chv_pump*cm_pumps_polymer","v":2},"valves"]
["Size of flow meters for influent line","in_meter_size",{"$f":"in_out_pipe_diam","v":1.5},"inches"]
["Size of flow meters for process line","proc_meter_size",{"$f":"proc_pipe_diam","v":1.5},"inches"]
["Size of flow meters for backwash line","back_meter_size",{"$f":"back_pipe_diam","v":4},"inches"]
["Number of flow meters for process line","tot_fm_proc",{"$f":"fm_proc*IF(OR(design_type=1,design_type=3),final_num_tanks,total_num_basins)","v":0},"units"]
[]
["Total level switch/alarms","tot_level_switch",{"$f":"IF(OR(design_type=1,design_type=3),final_num_tanks*IF(ss_cat2=1,level_switch_small,level_switch),total_num_basins*IF(ss_cat2=1,level_switch_small_g,level_switch_g))","v":0},"units"]
["Total high/low alarms for backwash","tot_back_alarm",{"$f":"back_tanks*alarm_back","v":0},"units"]
["Total high/low alarms for chemical tanks","tot_chem_alarm",{"$f":"(H3PO4_tanks+NH4Cl_tanks+e_donor_tanks+H2O2_tanks+H3PO4_day_tanks+NH4Cl_day_tanks+e_donor_day_tanks+H2O2_day_tanks)*alarm_chem","v":3},"units"]
["Total turbidity meters","tot_turb_meters",{"$f":"IF(OR(design_type=1,design_type=3),turb_tank*final_num_tanks,turb_tank_g*total_num_basins)+(turb_tank_filt*IF(filter_type=1,total_num_filt_basins,final_num_tanks_filt))+add_turb","v":4},"units"]
["Total temperature meters","tot_temp_meters",{"$f":"IF(ss_cat2=1,temp_meters_small,temp_meters)*IF(OR(design_type=1,design_type=3),final_num_tanks,total_num_basins)","v":4},"units"]
["Total head loss sensors","tot_head_sens",{"$f":"head_tank*IF(OR(design_type=1,design_type=3),final_num_tanks,total_num_basins)","v":2},"units"]
["Total perchlorate/nitrate analyzers","tot_ClO4_analyzer",{"$f":"IF(contam=1,ClO4_analyzer,0)","v":1},"units"]
["Total nitrate analyzers","tot_N_analyzer",{"$f":"IF(contam=1,0,N_analyzer)","v":0},"units"]
["Total dissolved oxygen analyzer","tot_DO_analyzer",{"$f":"DO_analyzer","v":1},"units"]
["Sampling ports","ports",{"$f":"ports_tank*(IF(OR(design_type=1,design_type=3),final_num_tanks,total_num_basins)+IF(filter_type=1,total_num_filt_basins,final_num_tanks_filt))+add_ports+IF(bp_pct>0,ports_bp,0)","v":7},"units"]
["Total drive controllers","tot_switches",{"$f":"IF(manual=2,0,S_booster_pump*total_booster_pumps+S_recycle_pump*recycle_pumps+S_back_pump*(backwash_pumps+num_blowers+num_bio_blowers)+S_cm_pump*(cm_pumps_e_donor+cm_pumps_NH4Cl+cm_pumps_H3PO4+cm_pumps_H2O2)+S_res_pump*(res_pumps+cm_pumps_polymer)+S_eductor*res_eductors+S_mixer*(mixers+hmixers+H3PO4_cmixers+NH4Cl_cmixers+e_donor_cmixers+H2O2_cmixers+H3PO4_dmixers+NH4Cl_dmixers+e_donor_dmixers+H2O2_dmixers+hmixers)+IF(coag_res=1,S_feeder*IF(res_holding=\"tanks\",htanks,IF(res_holding=\"basins\",hbasins,0)),0)+IF(include_coag_filt=1,S_feeder*coag_mix_tank,0))","v":11},"units"]
[]
["System Controls"]
["Flow meter lookup code - inlet/outlet","fm_lkp_io",{"$f":"IF(OUTPUT!L382=1,\"flow_op\",IF(OUTPUT!L383=1,\"flow_prop\",IF(OUTPUT!L384=1,\"flow_ven\",\"flow_mag\")))","v":"flow_prop"},null,"These codes are used to look up SCADA requirements, which depend on the type of flow meter selected."]
["Flow meter lookup code - process","fm_lkp_proc",{"$f":"IF(OUTPUT!L387=1,\"flow_op\",IF(OUTPUT!L388=1,\"flow_prop\",IF(OUTPUT!L389=1,\"flow_ven\",\"flow_mag\")))","v":"flow_mag"}]
["Flow meter lookup code - backwash","fm_lkp_back",{"$f":"IF(OUTPUT!L392=1,\"flow_op\",IF(OUTPUT!L393=1,\"flow_prop\",IF(OUTPUT!L394=1,\"flow_ven\",\"flow_mag\")))","v":"flow_prop"}]
["Flow meter lookup code - residuals","fm_lkp_res",{"$f":"IF(OUTPUT!L397=1,\"flow_op\",IF(OUTPUT!L398=1,\"flow_prop\",IF(OUTPUT!L399=1,\"flow_ven\",\"flow_mag\")))","v":"flow_prop"}]
["Total discrete inputs","discrete_inputs",{"$f":"VLOOKUP(fm_lkp_io,port_table,2,FALSE)*tot_fm_in+VLOOKUP(fm_lkp_proc,port_table,2,FALSE)*tot_fm_proc+VLOOKUP(fm_lkp_back,port_table,2,FALSE)*tot_fm_back+VLOOKUP(fm_lkp_res,port_table,2,FALSE)*tot_fm_res+VLOOKUP(\"alarm\",port_table,2,FALSE)*(tot_level_switch+tot_back_alarm+tot_chem_alarm+tot_res_alarm)+VLOOKUP(\"orp\",port_table,2,FALSE)*ORP_sensor+VLOOKUP(\"ph\",port_table,2,FALSE)*pH_controls+VLOOKUP(\"temp\",port_table,2,FALSE)*tot_temp_meters+VLOOKUP(\"turb\",port_table,2,FALSE)*tot_turb_meters+VLOOKUP(\"head\",port_table,2,FALSE)*tot_head_sens+VLOOKUP(\"port\",port_table,2,FALSE)*ports+VLOOKUP(\"switch\",port_table,2,FALSE)*tot_switches+VLOOKUP(\"valve\",port_table,2,FALSE)*tot_MOVs+VLOOKUP(\"clo4\",port_table,2,FALSE)*tot_ClO4_analyzer+VLOOKUP(\"nitrate\",port_table,2,FALSE)*tot_N_analyzer+VLOOKUP(\"do\",port_table,2,FALSE)*tot_DO_analyzer","v":46},"units"]
["Total discrete outputs","discrete_outputs",{"$f":"IF(manual=2,0,VLOOKUP(fm_lkp_io,port_table,3,FALSE)*tot_fm_in+VLOOKUP(fm_lkp_proc,port_table,3,FALSE)*tot_fm_proc+VLOOKUP(fm_lkp_back,port_table,3,FALSE)*tot_fm_back+VLOOKUP(fm_lkp_res,port_table,3,FALSE)*tot_fm_res+VLOOKUP(\"alarm\",port_table,3,FALSE)*(tot_level_switch+tot_back_alarm+tot_chem_alarm+tot_res_alarm)+VLOOKUP(\"orp\",port_table,3,FALSE)*ORP_sensor+VLOOKUP(\"ph\",port_table,3,FALSE)*pH_controls+VLOOKUP(\"temp\",port_table,3,FALSE)*tot_temp_meters+VLOOKUP(\"turb\",port_table,3,FALSE)*tot_turb_meters+VLOOKUP(\"head\",port_table,3,FALSE)*tot_head_sens+VLOOKUP(\"port\",port_table,3,FALSE)*ports+VLOOKUP(\"switch\",port_table,3,FALSE)*tot_switches+VLOOKUP(\"valve\",port_table,3,FALSE)*tot_MOVs+VLOOKUP(\"clo4\",port_table,3,FALSE)*tot_ClO4_analyzer+VLOOKUP(\"nitrate\",port_table,3,FALSE)*tot_N_analyzer+VLOOKUP(\"do\",port_table,3,FALSE)*tot_DO_analyzer)","v":15},"units"]
["Total analog inputs","analog_inputs",{"$f":"VLOOKUP(fm_lkp_io,port_table,4,FALSE)*tot_fm_in+VLOOKUP(fm_lkp_proc,port_table,4,FALSE)*tot_fm_proc+VLOOKUP(fm_lkp_back,port_table,4,FALSE)*tot_fm_back+VLOOKUP(fm_lkp_res,port_table,4,FALSE)*tot_fm_res+VLOOKUP(\"alarm\",port_table,4,FALSE)*(tot_level_switch+tot_back_alarm+tot_chem_alarm+tot_res_alarm)+VLOOKUP(\"orp\",port_table,4,FALSE)*ORP_sensor+VLOOKUP(\"ph\",port_table,4,FALSE)*pH_controls+VLOOKUP(\"temp\",port_table,4,FALSE)*tot_temp_meters+VLOOKUP(\"turb\",port_table,4,FALSE)*tot_turb_meters+VLOOKUP(\"head\",port_table,4,FALSE)*tot_head_sens+VLOOKUP(\"port\",port_table,4,FALSE)*ports+VLOOKUP(\"switch\",port_table,4,FALSE)*tot_switches+VLOOKUP(\"valve\",port_table,4,FALSE)*tot_MOVs+VLOOKUP(\"clo4\",port_table,4,FALSE)*tot_ClO4_analyzer+VLOOKUP(\"nitrate\",port_table,4,FALSE)*tot_N_analyzer+VLOOKUP(\"do\",port_table,4,FALSE)*tot_DO_analyzer","v":60},"units"]
["Total analog outputs","analog_outputs",{"$f":"IF(manual=2,0,VLOOKUP(fm_lkp_io,port_table,5,FALSE)*tot_fm_in+VLOOKUP(fm_lkp_proc,port_table,5,FALSE)*tot_fm_proc+VLOOKUP(fm_lkp_back,port_table,5,FALSE)*tot_fm_back+VLOOKUP(fm_lkp_res,port_table,5,FALSE)*tot_fm_res+VLOOKUP(\"alarm\",port_table,5,FALSE)*(tot_level_switch+tot_back_alarm+tot_chem_alarm+tot_res_alarm)+VLOOKUP(\"orp\",port_table,5,FALSE)*ORP_sensor+VLOOKUP(\"ph\",port_table,5,FALSE)*pH_controls+VLOOKUP(\"temp\",port_table,5,FALSE)*tot_temp_meters+VLOOKUP(\"turb\",port_table,5,FALSE)*tot_turb_meters+VLOOKUP(\"head\",port_table,5,FALSE)*tot_head_sens+VLOOKUP(\"port\",port_table,5,FALSE)*ports+VLOOKUP(\"switch\",port_table,5,FALSE)*tot_switches+VLOOKUP(\"valve\",port_table,5,FALSE)*tot_MOVs+VLOOKUP(\"clo4\",port_table,5,FALSE)*tot_ClO4_analyzer+VLOOKUP(\"nitrate\",port_table,5,FALSE)*tot_N_analyzer+VLOOKUP(\"do\",port_table,5,FALSE)*tot_DO_analyzer)","v":45},"units"]
["Total I/O ports","total_ioports",{"$f":"discrete_inputs+discrete_outputs+analog_inputs+analog_outputs","v":166},"units"]
["I/O Discrete Output Modules","plc_discrete_output",{"$f":"ROUNDUP(discrete_outputs/32,0)","v":1},"units"]
["I/O Discrete Input Modules","plc_discrete_input",{"$f":"ROUNDUP(discrete_inputs/32,0)","v":2},"units"]
["I/O Combination Analog Modules","plc_combination_analog",{"$f":"ROUNDUP((analog_inputs + analog_outputs)/12,0)","v":9},"units"]
["Total number of PLC slots used","plc_slots",{"$f":"plc_cpu + plc_ethernet + plc_discrete_input + plc_discrete_output +  plc_combination_analog","v":16},"units"]
["Expansions required","plc_expansions",{"$f":"IF(plc_slots<=9,0,ROUNDUP((plc_slots-9)/8,0))","v":1},"units"]
["PLC Rack/Power Supplies","plc_rack",{"$f":"1+plc_expansions","v":2},"units"]
["Base Expansion Modules","plc_base_expansion",{"$f":"plc_expansions","v":1},"units"]
["Base Expansion Controller Modules","plc_base_expansion_controller",{"$f":"plc_expansions","v":1},"units"]
["Number of computer workstations","workstations",{"$f":"ROUNDUP(Operator_LOE/2080/shifts_day/workstation_ratio,0)","v":1},"units"]
["Number of printers","printers",{"$f":"ROUNDUP(workstations/printer_ratio,0)","v":1},"units"]

{"sheet":"Residuals Management","index":13,"n_rows":204,"n_cols":5,"rows_kept":204,"cut":false,"hidden":false,"merged":[]}
["Residuals Management Calculations"]
[]
["Calculation","Range Name","Value","Units","Guidance"]
["From Inputs"]
["Discharge option for spent backwash","res_s2_opt",{"$f":"IF(res_s2_opt_I=\"surface water\",1,IF(res_s2_opt_I=\"POTW\",2,IF(res_s2_opt_I=\"recycle\",3,4)))","v":3},"<-- 1 for surface water, 2 for POTW, 3 for recycle,4 for evaporation pond"]
["Holding tank for spent backwash","res_s1_opt",{"$f":"IF(res_s2_opt=4,2,IF(OR(res_s1_opt_I=\"holding tank\",res_s2_opt=3),1,2))","v":1},"<-- 1 for holding tank, 2 for no holding tank"]
["Solids treatment/storage","sed_sludge_method",{"$f":"IF(OR(res_s1_opt=2,sed_sludge_method_I=\"none\"),0,IF(sed_sludge_method_I=\"thickener w/ mechanical dewatering\",1,2))","v":0},"<-- 0 for none, 1 for thickener w/ mechanical dewatering, 2 for thickener w/ non-mechanical dewatering"]
["Characteristics of holding tank solids","solids_haz",{"$f":"IF(solids_haz_I=\"non-hazardous\",1,2)","v":1},"<-- 1 for non-hazardous, 2 for hazardous"]
[]
["Spent Bioreactor Backwash"]
["Single event volume","res_vol",{"$f":"waterflush_vol","v":50},"gal","Backwashing one vessel"]
["Time between events","res_stagger_time",{"$f":"IF(design_type=3,0,back_interval*60/IF(design_type=1,op_num_tanks,op_num_basins))","v":720},"minutes"]
["Actual residuals discharge/recycle flow rate","res_flow_actual",{"$f":"IF(design_type=3,0,IF(OR(res_s1_opt=1,res_s2_opt=3),res_vol/res_stagger_time,res_vol/backwash_time))","v":6.9444444444444448E-2},"gpm","Accounts for flow equalization if holding tanks used"]
["Design residuals discharge/recycle flow rate","res_flow",{"$f":"IF(design_type=3,0,IF(OR(res_s1_opt=1,res_s2_opt=3),res_cap_factor*res_vol/res_stagger_time,res_flow_actual))","v":0.1388888888888889},"gpm","Accounts for less than perfect staggering if holding tanks are used"]
["Annual residuals dischage/recycle","res_flow_annual",{"$f":"IF(design_type=3,0,res_vol*IF(design_type=1,op_num_tanks,op_num_basins)*(365*24/back_interval))","v":36500},"gal"]
[]
["Spent Filter Backwash"]
["Single event volume","filter_res_vol",{"$f":"filter_waterflush_vol","v":945},"gal","Backwashing one filter"]
["Time between events","filter_res_stagger_time",{"$f":"IF(include_post=0,0,filter_back_interval*60/IF(filter_type=1,op_num_filters,op_num_tanks_filt))","v":2160},"minutes"]
["Actual residuals discharge flow rate","filter_res_flow_actual",{"$f":"IF(include_post=0,0,IF(OR(res_s1_opt=1,res_s2_opt=3),filter_res_vol/filter_res_stagger_time,filter_res_vol/filter_backwash_time))","v":0.4375},"gpm","Accounts for flow equalization if holding tanks used"]
["Design residuals discharge flow rate","filter_res_flow",{"$f":"IF(include_post=0,0,IF(OR(res_s1_opt=1,res_s2_opt=3),res_cap_factor*filter_res_vol/filter_res_stagger_time,filter_res_flow_actual))","v":0.875},"gpm","Accounts for less than perfect staggering if holding tanks are used"]
["Annual residuals dischage","filter_res_flow_annual",{"$f":"IF(include_post=0,0,filter_res_vol*IF(filter_type=1,op_num_filters,op_num_tanks_filt)*(365*24/filter_back_interval))","v":229950},"gal"]
[]
["Evaporation Pond or Holding Tank Solids"]
["TSS in residuals (influent TSS removal contribution)",null,{"$f":"IF(design_type=3,0,(influent_TSS-effluent_TSS+biomass_I)*average_flow*1000000*(back_interval/24)/(res_vol*IF(design_type=1,op_num_tanks,op_num_basins)))","v":665},"ppm"]
["TSS in residuals (influent TSS removal contribution for fluidized beds)",null,{"$f":"IF(AND(include_post=1,design_type=3),(influent_TSS-effluent_TSS+biomass_I)*average_flow*1000000*(filter_back_interval/24)/(filter_res_vol*IF(filter_type=1,op_num_filters,op_num_tanks_filt)),0)","v":0},"ppm"]
["TSS in residuals (media attrition contribution)",null,{"$f":"IF(AND(res_flow_annual=0,filter_res_flow_annual=0),0,(media_loss+filter_media_loss+filter_sand_loss+filter_anthracite_loss+filter_garnet_loss)*453590/((res_flow_annual+filter_res_flow_annual)*3.78))","v":88.858387236456878},"ppm"]
["TSS in residuals","TSS_residuals",{"$f":"SUM(C25:C27)","v":753.85838723645691},"ppm"]
["Evaporation pond TSS accumulation","ep_solids",{"$f":"IF(res_s2_opt=4,TSS_residuals*res_flow_annual*3.785/1000/453.59/dredging_freq,0)","v":0},"lbs"]
["Holding tank annual TSS accumulation",null,{"$f":"IF(res_holding=\"none\",0,TSS_residuals*IF(coag_res=1,coag_TSSrem,htank_TSSrem)*(res_flow_annual+filter_res_flow_annual)*3.785/1000/453.59)","v":419.03270142176729},"lbs/year"]
["Holding tank annual coagulant accumulation",null,{"$f":"IF(res_holding<>\"none\",IF(coag_res=1,coag_dose*coag_spf*8.34*(res_flow_annual+filter_res_flow_annual)/10^6,0)+IF(polymer_res=1,polymer_dose*polymer_spf*8.34*(res_flow_annual+filter_res_flow_annual)/10^6,0),0)","v":222.2193},"lbs/year"]
["Holding tank annual solids accumulation","ht_solids",{"$f":"C30+C31","v":641.25200142176732},"lbs/year"]
["Residual solids disposal frequency","sol_disp_freq",{"$f":"IF(res_s2_opt=4,dredging_freq,IF(res_holding=\"none\",0,ROUNDUP((ht_solids/ht_solids_density*7.48)/(IF(res_holding=\"tanks\",htanks*htank_vol,hbasins*hbasin_vol)*htank_clean_pct),0)))","v":1},"times per year"]
["Residual solids quantity (total per event)","res_solids",{"$f":"IF(res_s2_opt=4,ep_solids,IF(res_holding=\"none\",0,ht_solids/sol_disp_freq))/2000","v":0.32062600071088365},"tons"]
[]
["Capital Items"]
["Holding tanks (for flow equalization)"]
["Maximum holding tank size","max_htank_size",{"$f":"MAX(VLOOKUP(10^6,st_bwt_cost_cl,1)-1,VLOOKUP(10^6,fg_bwt_cost_cl,1)-1,VLOOKUP(10^6,hdpe_bwt_cost_cl,1)-1)","v":282094},"gal","The largest size for which costs are available."]
["Number of holding tanks","htanks",{"$f":"IF(coag_res=1,0,IF(OR(res_s1_opt=1,res_s2_opt=3),ROUNDUP(res_cap_factor*(res_vol+filter_res_vol)/max_htank_size,0)))","v":1},"units"]
["Holding tank volume","htank_vol",{"$f":"IF(htanks=0,0,res_cap_factor*(res_vol+filter_res_vol)/htanks)","v":1990},"gal"]
[]
["Holding basins (for flow equalization)"]
["Holding basin redundancy factor","hbasin_redun",{"$f":"IF(AND(filter_type=0,design_type=3),0,(IF(OR(coag_res=1,polymer_res=1),ROUNDUP(res_coag_settle_time/IF(filter_type=0,res_stagger_time,IF(design_type=3,filter_res_stagger_time,MIN(res_stagger_time,filter_res_stagger_time))),0),1)))","v":1},"units","To account for minumum coagulation time, when concrete basins are used, rather than tanks"]
["Number of holding basins","hbasins",{"$f":"IF(OR(res_s1_opt=1,res_s2_opt=3),hbasins_default*hbasin_redun,0)","v":1},"units","If concrete basins are used, rather than tanks"]
["Total residuals storage volume in cubic feet","total_hvol_ft",{"$f":"IF(hbasins=0,0,res_cap_factor*(res_vol+filter_res_vol)*hbasin_redun/7.48)","v":266.04278074866306},"cubic feet","If concrete basins are used, rather than tanks"]
["Residuals storage volume per basin in cubic feet","hvol_ft",{"$f":"IF(hbasins=0,0,total_hvol_ft/hbasins)","v":266.04278074866306},"cubic feet","If concrete basins are used, rather than tanks"]
["Holding basin operating depth","hbasin_op_depth",{"$f":"IF(hbasins=0,0,ROUNDUP(hvol_ft^(1/3)*holding_ratio,0))","v":4},"ft","If concrete basins are used, rather than tanks"]
["Holding basin width","hbasin_width",{"$f":"IF(hbasins=0,0,ROUNDUP((hvol_ft/hbasin_op_depth)^0.5,0))","v":9},"ft","If concrete basins are used, rather than tanks"]
["Holding basin length","hbasin_length",{"$f":"hbasin_width","v":9},"ft","If concrete basins are used, rather than tanks"]
["Holding basin depth including freeboard","hbasin_depth",{"$f":"IF(hbasins=0,0,hbasin_op_depth+holding_freeboard)","v":7},"ft","If concrete basins are used, rather than tanks"]
["Holding basin volume","hbasin_vol",{"$f":"ROUND(hbasin_width*hbasin_length*hbasin_depth*7.48,0)","v":4241},"gal","If concrete basins are used, rather than tanks"]
["Concrete volume","hconc_vol",{"$f":"(2*(hbasin_width*hbasins+conc_thick*(hbasins+1))*hbasin_depth*conc_thick+(hbasins+1)*hbasin_length*hbasin_depth*conc_thick+(hbasin_length+2*conc_thick)*(hbasin_width*hbasins+conc_thick*(hbasins+1))*conc_thick)/27","v":14.851851851851851},"cubic yards","If concrete basins are used, rather than tanks"]
["Excavation volume","hexcavation_vol",{"$f":"IF(hbasins=0,0,((hbasins*hbasin_width+(hbasins+1)*conc_thick+overexcavate)*(hbasin_length+2*conc_thick+overexcavate)*(hbasin_depth+conc_thick+overexcavate)+0.5*(3*(hbasin_depth+conc_thick+overexcavate)*(hbasin_depth+conc_thick+overexcavate)*(hbasin_length+2*conc_thick+overexcavate)))/27)","v":220},"cubic yards","If concrete basins are used, rather than tanks"]
["Backfill volume","hbackfill_vol",{"$f":"IF(hbasins=0,0,hexcavation_vol-(hbasins*hbasin_width+(hbasins+1)*conc_thick)*(hbasin_length+2*conc_thick)*(hbasin_depth+conc_thick)/27)","v":184.14814814814815},"cubic yards","If concrete basins are used, rather than tanks"]
["Railing length","hrailing",{"$f":"IF(hbasins=0,0,2*(hbasins*hbasin_width+2*conc_thick/2+(hbasins-1)*conc_thick)+2*(hbasin_length+2*conc_thick/2))","v":40},"lf","If concrete basins are used, rather than tanks"]
[]
["Residuals holding type selected","res_holding",{"$f":"IF(AND(hbasins<>0,OR(coag_res=1,polymer_res=1)),\"basins\",IF(OUTPUT!L105=1,\"basins\",IF(OR(OUTPUT!L106=1,OUTPUT!L107=1,OUTPUT!L108=1),\"tanks\",\"none\")))","v":"basins"},null,"Basins when coagulant is added; otherwise based on priority lookups on the output sheet"]
[]
["Coagulant Addition"]
["Gravimetric dry feeder rating","grav_feed_rate",{"$f":"IF(AND(res_holding<>\"none\",coag_res=1),coag_dose*8.34*(res_vol+filter_res_vol)/10^6/IF(filter_type=0,res_stagger_time,MIN(res_stagger_time,filter_res_stagger_time))/IF(res_holding=\"tanks\",htanks,hbasins),0)","v":0},"lbs/min"]
["Volumetric dry feeder rating","vol_feed_rate",{"$f":"grav_feed_rate/coag_density","v":0},"cfm"]
["Max holding tank mixer horsepower","hmix_hp_max",{"$f":"VLOOKUP(10^6,imp_mix_cost_cl,1)-0.1","v":20},"hp","The largest impeller mixer size available"]
["Mixers per tank","hmix_per_tank",{"$f":"IF(AND(res_holding<>\"none\",coag_res=1),ROUNDUP(IF(res_holding=\"tanks\",htank_vol,hbasin_vol)/1000*hmix_hp_per/hmix_hp_max,0),0)","v":0},"units"]
["Number of mixers","hmixers",{"$f":"IF(AND(res_holding<>\"none\",coag_res=1),IF(res_holding=\"tanks\",htanks,hbasins)*hmix_per_tank,0)","v":0},"units"]
["Mixer size for holding tanks (if coagulant is used)","hmix_size",{"$f":"IF(AND(res_holding<>\"none\",coag_res=1),MAX(min_hmix_hp,IF(res_holding=\"tanks\",htank_vol,hbasin_vol)/1000*hmix_hp_per/hmix_per_tank),0)","v":0},"hp"]
["Ferric chloride in storage","coag_store",{"$f":"IF(AND(res_holding<>\"none\",coag_res=1),coag_dose*8.34*(res_flow_annual+filter_res_flow_annual)/10^6/365*cstore_days,0)","v":0},"lbs "]
[]
["Pumps"]
["Number of pumps","res_pumps",{"$f":"IF(res_holding<>\"none\",ROUNDUP((res_flow+filter_res_flow)*(1+pump_safety_factor)/max_pump_size,0)+NRD_res_pump,0)","v":2},"units"]
["Pump design rating","res_pump_rating",{"$f":"IF(res_holding<>\"none\",(res_flow+filter_res_flow)*(1+pump_safety_factor)/(res_pumps-NRD_res_pump),0)","v":1.2673611111111112},"gpm"]
[]
["Polymer Addition"]
["Polymer needed per event","polymer_day",{"$f":"IF(AND(res_holding<>\"none\",polymer_res=1),polymer_dose*8.34*(res_vol+filter_res_vol)/10^6/polymer_density*7.48,0)","v":0.64657587500000002},"gal"]
["Polymer storage in gallons","polymer_storage",{"$f":"IF(AND(res_holding<>\"none\",polymer_res=1),polymer_dose*8.34*(res_flow_annual+filter_res_flow_annual)/10^6/polymer_density/365*cstore_days*7.48,0)","v":14.2311675},"gal"]
["Polymer storage in pounds","polymer_storage_lbs",{"$f":"IF(AND(res_holding<>\"none\",polymer_res=1),polymer_dose*8.34*(res_flow_annual+filter_res_flow_annual)/10^6/365*cstore_days*7.48,0)","v":136.61920800000001},"lbs"]
["Number of chemical storage tanks","polymer_tanks",{"$f":"ROUNDUP(polymer_storage/max_chem_tank_size,0)","v":1},"units"]
["Chemical storage tank size","polymer_tank_vol",{"$f":"IF(polymer_tanks>0,polymer_storage/polymer_tanks,0)","v":14.2311675},"gal"]
["Mixers per storage tank","polymer_cmix_per_tank",{"$f":"IF(AND(include_cmix=1,polymer_tanks<>0),ROUNDUP(polymer_tank_vol/1000*cmix_hp_per/cmix_hp_max,0),0)","v":0},"units"]
["Number of storage tank mixers","polymer_cmixers",{"$f":"polymer_tanks*polymer_cmix_per_tank","v":0},"units"]
["Mixer size for storage tanks","polymer_cmix_size",{"$f":"IF(polymer_cmixers<>0,MAX(min_cmix_hp,polymer_tank_vol/1000*cmix_hp_per/polymer_cmix_per_tank),0)","v":0},"hp"]
["Solution feed rate","polymer_rate",{"$f":"polymer_day/IF(filter_type=0,backwash_time,MIN(backwash_time,filter_backwash_time))*60","v":5.5420789285714287},"gph"]
["Number of chemical metering pumps","cm_pumps_polymer",{"$f":"IF(polymer_day=0,0,ROUNDUP(polymer_rate*(1+pump_safety_factor)/max_cm_pump_size,0)+NRD_cm_pump)","v":2},"units"]
["Chemical metering pump rating","cm_pump_rating_polymer",{"$f":"IF(polymer_day=0,0,MAX(min_chem_flow,polymer_rate*(1+pump_safety_factor)/(cm_pumps_polymer-NRD_cm_pump)))","v":6.9275986607142856},"gph"]
[]
["Solids transfer for holding tanks"]
["Transfer rate required","res_transfer_rate",{"$f":"res_solids*2000/transfer_time","v":160.31300035544183},"lbs/hr"]
["Transfer rate in gallons","res_transfer_rate_gal",{"$f":"res_transfer_rate/(ht_solids_density/7.48*60)","v":0.79942749510580335},"gpm"]
["Number of slurry pump systems","res_slurry_pumps",{"$f":"IF(res_transfer_method=1,1,0)","v":0},"units"]
["Maximum eductor size","max_eductor_size",{"$f":"VLOOKUP(10^6,eductor_size_table_cl,1)","v":53.5},"gpm","The largest size for which costs are available."]
["Number of eductors","res_eductors",{"$f":"IF(res_transfer_method<>2,0,ROUNDUP(res_transfer_rate_gal/max_eductor_size,0))","v":1},"units"]
["Effective transfer rate","res_eff_transfer_rate",{"$f":"IF(res_eductors=0,0,res_transfer_rate_gal/res_eductors)","v":0.79942749510580335},"gpm"]
["Eductor size","res_eductor_size",{"$f":"IF(res_transfer_method=2,VLOOKUP(res_eff_transfer_rate,eductor_size_table_cl,2),\"NA\")","v":1.5},"inches"]
[]
["Thickening"]
["Maximum thickening tank size","max_thick_tank_size",{"$f":"VLOOKUP(10^6,st_bwt_cost_cl,1)-1","v":282094},"gal","The largest size for which costs are available."]
["Required total thickening volume ","tot_req_thick_vol",{"$f":"IF(sed_sludge_method=0,0,res_transfer_rate_gal*thick_time*60)","v":0},"gal"]
["Number of thickening tanks","thick_tanks",{"$f":"IF(sed_sludge_method=0,0,ROUNDUP(tot_req_thick_vol/max_thick_tank_size,0))","v":0},"units"]
["Thickening tank volume","thick_tank_volume",{"$f":"IF(sed_sludge_method=0,0,tot_req_thick_vol/thick_tanks)","v":0},"gal"]
[]
["Number of thickening basins (concrete)","thick_basins",{"$f":"IF(sed_sludge_method<>0,thick_basins_default,0)","v":0},"units"]
["Basin volume in cubic feet","thick_vol_ft",{"$f":"IF(sed_sludge_method<>0,res_transfer_rate_gal*thick_time*60/7.48,0)","v":0},"cubic feet"]
["Thickener basin operating height","thick_basin_height",{"$f":"IF(sed_sludge_method=0,0,MIN(ROUNDUP((thick_vol_ft/thick_basins)^(1/3)*thickening_ratio,0),max_thick_depth))","v":0},"ft"]
["Thickener surface area","thick_sa",{"$f":"IF(thick_basins=0,0,thick_vol_ft/thick_basin_height)","v":0},"square feet"]
["Thickener diameter","thick_basin_diam",{"$f":"IF(thick_basins=0,0,ROUNDUP((thick_sa/PI())^(1/2)*2,0))","v":0},"feet"]
["Thickener basin depth including freeboard","thick_basin_depth",{"$f":"IF(thick_basins=0,0,thick_basin_height+thickening_freeboard)","v":0},"ft"]
["Thickener circumference","thick_circ",{"$f":"IF(thick_basins=0,0,PI()*thick_basin_diam)","v":0},"ft"]
["Thickener basin volume","thick_basin_vol",{"$f":"IF(thick_basins=0,0,ROUND(PI()*(thick_basin_diam/2)^2*thick_basin_depth*7.48,0))","v":0},"gal"]
["Thickener concrete volume","thick_conc_vol",{"$f":"thick_basins*thick_circ*thick_basin_depth*conc_thick/27","v":0},"cubic yards"]
["Excavation volume","thick_excavation_vol",{"$f":"thick_basins*(((thick_basin_diam+conc_thick+overexcavate)/2)^2)*PI()*(thick_basin_depth+overexcavate)/27","v":0},"cubic yards"]
["Backfill volume","thick_backfill_vol",{"$f":"thick_basins*(thick_excavation_vol-(((thick_basin_diam+conc_thick)/2)^2)*PI()*(thick_basin_depth)/27)","v":0},"cubic yards"]
["Railing length","thick_railing",{"$f":"thick_basins*PI()*(thick_basin_diam+conc_thick/2)","v":0},"lf"]
[]
["Thickener rate of solids","thick_solids",{"$f":"IF(sed_sludge_method=0,0,res_transfer_rate*thick_removal)","v":0},"lbs/hr"]
["Residual thickened solids quantity (total per event)","res_solids_thick",{"$f":"IF(sed_sludge_method=0,0,res_solids*thick_removal)","v":0},"tons"]
["Thickener tank/basin internals","num_thick_internals",{"$f":"IF(sed_sludge_method=0,0,IF(OUTPUT!L470=1,thick_basins,thick_tanks))","v":0},"units"]
["Thickener tank/basin mechanism diameter","thick_mech_diam",{"$f":"IF(sed_sludge_method=0,0,IF(OUTPUT!L471=1,thick_basin_diam,thick_diam))","v":0},"ft diam"]
[]
["Belt Press"]
["Number of Belt Presses","num_belt_press",{"$f":"IF(sed_sludge_method<>1,0,ROUNDUP(thick_solids/(VLOOKUP(10^6,throughput_table,1)-1),0))","v":0},"units"]
["Belt Press Size ","belt_press_size",{"$f":"IF(sed_sludge_method<>1,0,VLOOKUP(thick_solids/num_belt_press,throughput_table,3,TRUE))","v":0},"meters belt width"]
["Residual cake solids quantity (total per event)","res_cake_solids",{"$f":"IF(sed_sludge_method<>1,0,res_solids_thick*belt_press_removal)","v":0},"tons"]
[]
["Solids drying pad"]
["Area required","solids_pad_area",{"$f":"IF(res_s2_opt=4,0,ROUNDUP(IF(sed_sludge_method=1,res_cake_solids,IF(sed_sludge_method=2,res_solids_thick,res_solids))*2000/ht_solids_density/solids_storage_height,-1))","v":20},"square ft"]
["Concrete","solids_pad_concrete",{"$f":"ROUNDUP(solids_pad_area*IF(ss_cat2=1,pad_thick_small,pad_thick)/27,0)","v":1},"cubic yds"]
[]
["Piping"]
["Pipe length","res_pipe_length",{"$f":"facil_length+add_res_pipe_length","v":60},"ft"]
["Pipe diameter","res_pipe_diam",{"$f":"MAX(min_res_pipe_size,VLOOKUP(res_flow,pipe_size_table_cl,2))","v":1},"inches"]
["Buried pipe length","buried_res_pipe_length",{"$f":"IF(res_s2_opt=3,0,add_res_pipe_length)","v":0},"ft"]
["Trench depth to top of pipe","res_trn_depth",{"$f":"MAX(frost,min_trench_depth)","v":38},"in. diam"]
["Thrust force","res_thrust_force",{"$f":"VLOOKUP(res_pipe_diam,thrust_block_table_cl,2)*2.2","v":764.79838682438469},"inches"]
["Bearing Area (L x H)","res_bearing_area",{"$f":"1.5*res_thrust_force/(soil_dens*(res_trn_depth/12+res_pipe_diam/12)*Coeff_Kp*Reduction)","v":2.5974368149556186},"lbs"]
["L",null,{"$f":"res_bearing_area/C135","v":2.2792265420337747},"square ft"]
["H",null,{"$f":"(res_bearing_area/2)^0.5","v":1.1396132710168871},"ft"]
["F",null,{"$f":"MAX(0.5,res_pipe_diam/12)","v":0.5},"ft"]
["T",null,{"$f":"C134/2","v":1.1396132710168874},"ft"]
["Thrust block volume","res_block_vol",{"$f":"IF(OR(buried_res_pipe_length=0,res_pipe_diam=0),0,(C137+(C130/12)/2)*(C134+C136)/2*C135/27)","v":0},"cy"]
["Trench cross-section area","res_trench_area",{"$f":"IF(res_pipe_diam=0,0,(res_pipe_diam/12+2)*(bedding_depth/12+res_pipe_diam/12+res_trn_depth/12)+(bedding_depth/12+res_pipe_diam/12+res_trn_depth/12)^2*TAN(trench_angle))","v":21.875},"cy"]
["Trench volume to discharge point",null,{"$f":"res_trench_area*buried_res_pipe_length/27","v":0},"square ft"]
["Trench volume total","res_trench_vol",{"$f":"IF(OR(buried_res_pipe_length=0,res_pipe_diam=0),0,C140+res_block_vol)","v":0},"cy"]
["Bedding cross sectional surface area",null,{"$f":"IF(res_pipe_diam=0,0,(res_pipe_diam/12+2)*(bedding_depth/12+res_pipe_diam/12*bedding_pct)+(bedding_depth/12+res_pipe_diam/12*bedding_pct)^2*TAN(trench_angle)-((res_pipe_diam/12/2)^2*ACOS((res_pipe_diam/12/2-bedding_pct*res_pipe_diam/12)/(res_pipe_diam/12/2))-(res_pipe_diam/12/2-res_pipe_diam/12*bedding_pct)*((2*res_pipe_diam/12/2*res_pipe_diam/12*bedding_pct-(res_pipe_diam/12*bedding_pct)^2)^0.5)))","v":1.3552705124144024},"square ft"]
["Bedding volume","res_pipe_bedding_vol",{"$f":"C142*buried_res_pipe_length/2/27","v":0},"cy"]
[]
["Valves and instrumentation"]
["Residuals valve size","res_valve_size",{"$f":"res_pipe_diam","v":1},"inches"]
["Number of MOVs for residuals line","total_res_MOVs",{"$f":"VLOOKUP(\"res_MOV_pump\",valve_table,manual+1,FALSE)*res_pumps+VLOOKUP(\"res_MOV_tank\",valve_table,manual+1,FALSE)*IF(res_holding=\"tanks\",htanks,IF(res_holding=\"basins\",hbasins,0))+VLOOKUP(\"res_MOV_ep\",valve_table,manual+1,FALSE)*ep_cells","v":3},"valves"]
["Number of manual valves for residuals line","total_res_man",{"$f":"VLOOKUP(\"res_man_pump\",valve_table,manual+1,FALSE)*res_pumps+VLOOKUP(\"res_man_tank\",valve_table,manual+1,FALSE)*IF(res_holding=\"tanks\",htanks,IF(res_holding=\"basins\",hbasins,0))+VLOOKUP(\"res_man_ep\",valve_table,manual+1,FALSE)*ep_cells","v":0},"valves"]
["Number of check valves for residuals line","tot_res_chv",{"$f":"res_chv_pump*res_pumps+IF(res_pumps=0,res_chv_no_pump,0)","v":2},"valves"]
["Total high/low alarms","tot_res_alarm",{"$f":"IF(res_holding=\"tanks\",htanks,IF(res_holding=\"basins\",hbasins,0))*alarm_res","v":1},"units"]
["Residuals flow meter size","res_meter_size",{"$f":"res_pipe_diam","v":1},"inches"]
[]
["Evaporation Ponds"]
["Total open surface area required","ep_total_sa",{"$f":"IF(res_s2_opt=4,(res_flow_annual/7.48)*ep_safety_factor/((pan_evap*evap_ratio-precip)*0.0328),0)","v":0},"square feet"]
["Required depth for solids accumulation","ep_solids_depth",{"$f":"IF(res_s2_opt=4,ep_solids/ep_solids_density/ep_total_sa,0)","v":0},"feet"]
["Required depth for liquid accumulation","ep_water_depth",{"$f":"IF(res_s2_opt=4,(res_flow_annual/7.48)*winter_days/365/ep_total_sa,0)","v":0},"feet"]
["Total excavated depth","ep_depth",{"$f":"IF(res_s2_opt=4,ep_solids_depth+ep_water_depth+ep_freeboard,0)","v":0},"feet","Additional freeboard provided above grade by dike"]
["Number of cells","ep_cells",{"$f":"IF(res_s2_opt=4,IF(ROUNDUP(ep_total_sa/(max_ep_cell_area*43560),0)<min_ep_cells,min_ep_cells,ROUNDUP(ep_total_sa/(max_ep_cell_area*43560),0)),0)","v":0},"cells"]
["Cell side length","ep_cell_side",{"$f":"IF(res_s2_opt=4,SQRT(ep_total_sa/ep_cells),0)","v":0},"feet"]
["Total excavation volume","ep_excavation_vol",{"$f":"IF(res_s2_opt=4,ROUNDUP(((ep_cell_side+ep_overexcavate)^2*(ep_depth+ep_overexcavate)+0.5*(3*(ep_depth+ep_overexcavate)*(ep_cell_side+ep_overexcavate)*(ep_depth+ep_overexcavate)))*ep_cells/27,0),0)","v":0},"cubic yards"]
["Total backfill volume","ep_backfill_vol",{"$f":"IF(res_s2_opt=4,ROUNDUP(ep_excavation_vol-(ep_cell_side^2*ep_depth*ep_cells)/27,0),0)","v":0},"cubic yards"]
["Dike volume","dike_volume",{"$f":"IF(res_s2_opt=4,ep_cells*ep_cell_side*4*dike_xsection/27,0)","v":0},"cubic yards"]
["Liner area","liner_area",{"$f":"(ep_cell_side^2+ep_cell_side*(ep_depth+2)*4)*ep_cells","v":0},"square feet","Assumes liner extends 2 feet up dike side slope"]
[]
["O&M Items"]
["Pumps"]
["Pump operating horsepower",null,{"$f":"IF(res_pumps=0,0,res_flow_actual*res_pump_psi/(res_pumps-NRD_res_pump)/booster_pump_efficiency/14.7*33.9*8.34/550/60)","v":1.3491204562633132E-3},"hp"]
["Energy per pump",null,{"$f":"C167*0.7457/1000*24*365","v":8.8129027283034428E-3},"MWh/yr"]
["Energy for all active pumps","res_pump_energy",{"$f":"C168*(res_pumps-NRD_res_pump)","v":8.8129027283034428E-3},"MWh/yr"]
["Residuals pump material cost","res_pump_mtl",{"$f":"OUTPUT!J296*booster_pump_maintenance","v":136.34802900219901},"/yr"]
[]
["Coagulant and Polymer Use"]
["Annual coagulant use","coag_yr",{"$f":"IF(AND(res_holding<>\"none\",coag_res=1),coag_dose*8.34*(res_flow_annual+filter_res_flow_annual)/10^6,0)","v":0},"lbs"]
["Annual polymer use","polymer_yr",{"$f":"IF(AND(res_holding<>\"none\",polymer_res=1),polymer_dose*8.34*(res_flow_annual+filter_res_flow_annual)/10^6,0)","v":222.2193},"lbs"]
[]
["Ferric Chloride Purchasing"]
["Quantity required for large quantity purchase",null,{"$f":"VLOOKUP(\"Ferric Chloride - Large Qty\",chem_break_table_cl,2,FALSE)","v":29625},"lbs","#N/A indicates that price data do not depend on volume purchased."]
["Quantity required for mid quantity purchase",null,{"$f":"VLOOKUP(\"Ferric Chloride - Mid Qty\",chem_break_table_cl,2,FALSE)","v":2607},"lbs","#N/A indicates that price data do not depend on volume purchased."]
["Quantity required for small quantity purchase",null,{"$f":"VLOOKUP(\"Ferric Chloride - Small Qty\",chem_break_table_cl,2,FALSE)","v":0},"lbs","#N/A indicates that price data do not depend on volume purchased."]
["Purchase Type","coag_purchase",{"$f":"IF(AND(ISNA(C177),ISNA(C178),ISNA(C179)),\"\",IF(coag_store>=C177,\" - Large Qty\",IF(coag_store>=C178,\" - Mid Qty\",\" - Small Qty\")))","v":" - Small Qty"},null,"Returns descriptive term based on volume of each purchase for use in determining pricing. Blank indicates that price data do not depend on volume purchased."]
[]
["Polymers Purchasing"]
["Quantity required for large quantity purchase",null,{"$f":"VLOOKUP(\"Polymers - Large Qty\",chem_break_table_cl,2,FALSE)","v":450},"lbs","#N/A indicates that price data do not depend on volume purchased."]
["Quantity required for mid quantity purchase",null,{"$f":"VLOOKUP(\"Polymers - Mid Qty\",chem_break_table_cl,2,FALSE)","v":450},"lbs","#N/A indicates that price data do not depend on volume purchased."]
["Quantity required for small quantity purchase",null,{"$f":"VLOOKUP(\"Polymers - Small Qty\",chem_break_table_cl,2,FALSE)","v":0},"lbs","#N/A indicates that price data do not depend on volume purchased."]
["Purchase Type","polymer_purchase",{"$f":"IF(AND(ISNA(C183),ISNA(C184),ISNA(C185)),\"\",IF(polymer_storage_lbs>=C183,\" - Large Qty\",IF(polymer_storage_lbs>=C184,\" - Mid Qty\",\" - Small Qty\")))","v":" - Small Qty"},null,"Returns descriptive term based on volume of each purchase for use in determining pricing. Blank indicates that price data do not depend on volume purchased."]
[]
["POTW Discharge Fees"]
["TSS in discharged residuals","TSS_residuals_dis",{"$f":"IF(res_holding<>\"none\",TSS_residuals*(1-IF(coag_res=1,coag_TSSrem,htank_TSSrem)),TSS_residuals)","v":565.39379042734265},"ppm"]
["Total TSS in excess of POTW limit (if applicable)","ex_TSS_total",{"$f":"IF((TSS_residuals_dis-POTW_TSS_limit)*res_flow_annual*3.785/1000/453.59>0,(TSS_residuals_dis-POTW_TSS_limit)*res_flow_annual*3.785/1000/453.59,0)","v":96.061290222477282},"lbs/year"]
["Annual POTW base fee",null,{"$f":"IF(POTW_rate_type=1,POTW_base_cost_avg_cl,IF(POTW_base_fee=1,POTW_base_cost_typ_cl,0))*12","v":187.93106961883865},"$/year"]
["Annual POTW volume fee",null,{"$f":"IF(POTW_rate_type=1,POTW_vol_cost_avg_cl,IF(POTW_volume_fee=1,POTW_vol_cost_typ_cl,0))*res_flow_annual/1000","v":161.28379844563375},"$/year"]
["Annual POTW TSS fee",null,{"$f":"IF(POTW_rate_type=1,POTW_TSS_cost_avg_cl,IF(POTW_TSS_fee=1,POTW_TSS_cost_typ_cl,0))*ex_TSS_total","v":23.120008640740181},"$/year"]
["Total annual POTW discharge fee","POTW_fee",{"$f":"SUM(C191:C193)","v":372.33487670521259},"$/year"]
[]
["Holding Tank Solids Disposal Fees"]
["Total solids per disposal event","res_solids_event",{"$f":"IF(AND(solids_haz=1,solids_method=2),0,IF(sed_sludge_method=1,res_cake_solids,IF(sed_sludge_method=2,res_solids_thick,res_solids)))","v":0.32062600071088365},"tons"]
["Disposal",null,{"$f":"IF(solids_haz=2,res_solids_event*sol_disp_freq*haz_disposal_cost_cl,res_solids_event*sol_disp_freq*nonhaz_disposal_cost_cl)","v":22.333650237938627},"$/year"]
["Shipments per year","sol_disposal_shipments",{"$f":"IF(solids_haz=2,IF(res_solids_event>max_haz_ship,ROUNDUP(res_solids_event/max_haz_ship,0)*sol_disp_freq,sol_disp_freq),sol_disp_freq)","v":1}]
["Transportation unit cost",null,{"$f":"CHOOSE(solids_haz,nonhaz_transportation_cost_cl,haz_transportation_cost_cl)","v":0.52588469022017403},"$/ton-mile"]
["Transportation minimum charge per shipment",null,{"$f":"CHOOSE(solids_haz,0,haz_trans_min_cost_cl)","v":0},"$/shipment"]
["Transportation mileage","sol_disposal_miles",{"$f":"CHOOSE(solids_haz,non_haz_miles,haz_miles)","v":10},"miles"]
["Transportation",null,{"$f":"MAX(C199*C201,res_solids_event*C199*C202*C200)","v":1.6861230506037634},"$/year"]
["Total annual solids diposal fee","sol_disposal_fee",{"$f":"C203+C198","v":24.019773288542392},"$/year"]

{"sheet":"O&M","index":14,"n_rows":108,"n_cols":5,"rows_kept":108,"cut":false,"hidden":false,"merged":[]}
["Operation and Maintenance Calculations"]
[]
["Calculation","Range Name","Value","Units","Guidance"]
["Maintenance Materials"]
["Booster pump material cost","pump_mtl",{"$f":"OUTPUT!J293*booster_pump_maintenance","v":0},"/yr"]
["Booster pump material cost","recycle_pump_mtl",{"$f":"IF(ISNUMBER(OUTPUT!J294),OUTPUT!J294*booster_pump_maintenance,0)","v":0},"/yr"]
["Backwash pump material cost","back_pump_mtl",{"$f":"IF(OR(back_interval<=24*7,filter_back_interval<=24*7),IF(ISNUMBER(OUTPUT!J295),OUTPUT!J295*booster_pump_maintenance,0),0)","v":0},"/yr","Explicitly included when backwash frequency is high"]
["Blower material cost","blower_mtl",{"$f":"IF(AND(design_type=3,include_post=0),0,IF(back_interval<=24*7,IF(air_scour_I=\"yes\",Materials_pct*OUTPUT!J311,0),0))+IF(design_type=3,Materials_pct*OUTPUT!J312,0)","v":111.56883967484366},"/yr","Explicitly included when backwash frequency is high and air scour is used"]
["Aeration blower material cost","aeration_blower_mtl",{"$f":"IF(ISNUMBER(OUTPUT!J313),OUTPUT!J313*booster_pump_maintenance,0)","v":191.51209035840878},"/yr"]
["Bioreactor basin maintenance materials","filter_materials",{"$f":"Materials_pct*SUMPRODUCT(OUTPUT!J39:J42,OUTPUT!L39:L42)","v":0},"/yr","Gravity bioreactors only"]
["Filter basin maintenance materials","post_filter_materials",{"$f":"Materials_pct*SUMPRODUCT(OUTPUT!J50:J53,OUTPUT!L50:L53)","v":1139.7664110902888},"/yr","Gravity filters only"]
[]
["Chemicals and Media"]
["Annual acetic acid use","acetic_use",{"$f":"IF(e_donor_type=1,e_donor_day*365*average_flow/design_flow,0)","v":1065.4349999999999},"lb/yr"]
["Annual ethanol use","ethanol_use",{"$f":"IF(e_donor_type=2,e_donor_day_vol*365*average_flow/design_flow,0)","v":0},"gal/yr"]
["Annual ammonium chloride use","NH4Cl_use",{"$f":"NH4Cl_day*365*average_flow/design_flow","v":0},"lb/yr"]
["Annual phopshoric acid use","H3PO4_use",{"$f":"H3PO4_day*365*average_flow/design_flow","v":90.121677137542875},"lb/yr"]
["Annual hydrogen peroxide use","H2O2_use",{"$f":"H2O2_day*365*average_flow/design_flow","v":0},"lbs/yr"]
["Bioreactor GAC Media attrition replacement","media_loss",{"$f":"IF(design_type=3,0,(media_loss_rate*resin_per_vessel*IF(design_type=1,op_num_tanks,op_num_basins)))+IF(design_type=3,op_num_tanks*resin_per_vessel*fluid_media_loss_rate,0)","v":103.08350894591511},"lbs/yr"]
["Filter sand attrition replacement","filter_sand_loss",{"$f":"(IF(filter_type=1,op_num_filters,IF(filter_type=2,op_num_tanks_filt,0))*sand_each*filter_media_loss_rate)","v":0.91911764705882337},"cuft/yr"]
["Filter anthracite attrition replacement","filter_anthracite_loss",{"$f":"(IF(filter_type=1,op_num_filters,IF(filter_type=2,op_num_tanks_filt,0))*anthracite_each*filter_media_loss_rate)","v":93.304367201426032},"lbs/yr"]
["Filter garnet attrition replacement","filter_garnet_loss",{"$f":"(IF(filter_type=1,op_num_filters,IF(filter_type=2,op_num_tanks_filt,0))*garnet_each*filter_media_loss_rate)","v":0},"lbs/yr"]
["Filter GAC Media attrition replacement","filter_media_loss",{"$f":"(IF(filter_type=1,op_num_filters,IF(filter_type=2,op_num_tanks_filt,0))*filt_GAC_each*filter_media_loss_rate)","v":0},"lbs/yr"]
["Total coagulant (ferric chlroide)","total_coag",{"$f":"coag_yr+(coag_yr_filt*2000)","v":213.08700000000005},"lbs/yr"]
[]
["General Labor"]
["Number of process instruments for operation","tot_inst",{"$f":"tot_fm_in+tot_fm_proc+tot_level_switch+tot_turb_meters+tot_head_sens+tot_temp_meters+ORP_sensor+pH_controls+tot_ClO4_analyzer+tot_N_analyzer+tot_DO_analyzer","v":15},null,"Instruments requiring daily observation"]
["Total number of instruments for maintenance","tot_inst_maint",{"$f":"tot_fm_in+tot_fm_proc+tot_level_switch+tot_turb_meters+tot_head_sens+tot_temp_meters+ORP_sensor+pH_controls+tot_fm_back+tot_fm_res+tot_ClO4_analyzer+tot_N_analyzer+tot_DO_analyzer","v":17},null,"All instruments for preventative maintenance"]
["Number of pumps for operation","tot_pumps",{"$f":"booster_pumps+IF(cm_pumps_e_donor>0,cm_pumps_e_donor-NRD_cm_pump,0)+IF(cm_pumps_NH4Cl>0,cm_pumps_NH4Cl-NRD_cm_pump,0)+IF(cm_pumps_H3PO4>0,cm_pumps_H3PO4-NRD_cm_pump,0)+IF(cm_pumps_H2O2>0,cm_pumps_H2O2-NRD_cm_pump,0)+num_bio_blowers+num_aeration_blowers+recycle_pumps","v":4},null,"Pumps requiring daily observation/adjustment"]
["Total number of pumps for maintenance","tot_pumps_maint",{"$f":"booster_pumps+recycle_pumps+res_pumps+IF(OR(back_interval<=24*7,filter_back_interval<=24*7),backwash_pumps+IF(air_scour_I=\"yes\",num_blowers,0),0)+num_bio_blowers+num_aeration_blowers","v":5},null,"Large, frequently operated pumps require preventative maintenance"]
["Number of process valves","tot_valves",{"$f":"tot_proc_MOVs+tot_e_donor_MOVs+tot_NH4Cl_MOVs+tot_H3PO4_MOVs+tot_H2O2_MOVs+tot_proc_man+tot_e_donor_man+tot_NH4Cl_man+tot_H3PO4_man+tot_H2O2_man+tot_bp_MOVs+tot_bp_man","v":26},null,"Main process valves require frequent operation and preventative maintenance; includes valves on the chemical feed line, to account for optimizing electron donor/nutrient feed"]
["Number of chemical supplies","tot_chem",{"$f":"H3PO4_tanks+e_donor_tanks+NH4Cl_tanks+H2O2_tanks+polymer_tanks","v":3}]
["Bioreactor backwashes per year","backwash_yr",{"$f":"IF(design_type=3,0,IF(design_type=1,op_num_tanks,IF(design_type=2,op_num_basins,0))*(365*24/back_interval))","v":730}]
["Filter Backwashes per year","filter_backwash_yr",{"$f":"IF(include_post=0,0,IF(filter_type=1,op_num_filters,op_num_tanks_filt)*(365*24/filter_back_interval))","v":243.33333333333334}]
[]
["Record system operating parameters (includes routine sampling)",null,{"$f":"IF(manual=1,tot_inst*uloe_inst*365/60,uloe_inst_auto*365/60)","v":30.416666666666668},"hr/yr"]
["Preventative maintenance and calibration of instruments",null,{"$f":"tot_inst_maint*uloe_inst_maint*12/60","v":34}]
["Verify/adjust pump operating parameters",null,{"$f":"IF(OR(manual=1,manual=2),tot_pumps*uloe_pump*365/60,0)","v":0},"hr/yr","Includes optimizing electron donor/nutrient feed feed"]
["Preventative maintenance of pumps",null,{"$f":"tot_pumps_maint*uloe_pump_maint","v":151.25}]
["Verify/adjust valve positions",null,{"$f":"IF(OR(manual=1,manual=2),tot_valves*uloe_valve*52/60,0)","v":0},"hr/yr","Includes optimizing electron donor/nutrient feed feed"]
["Preventative maintenance and inspection of valves",null,{"$f":"tot_valves*uloe_valve_maint/60","v":2.1666666666666665}]
["Visual inspection of facility",null,{"$f":"total_fp/100*uloe_fp*365/60","v":20.074999999999999},"hr/yr"]
["Maintain/inspect chemical supply ",null,{"$f":"tot_chem*uloe_chem_maint*12/60","v":72},"hr/yr"]
["General Operator Labor","General_Oper_Labor",{"$f":"SUM(C36:C43)","v":309.9083333333333},"hr/yr"]
[]
["Technology-specific Labor"]
["Basin mainenance labor (gravity systems)","filter_labor",{"$f":"Weekly_labor*52*(total_num_basins+total_num_filt_basins)","v":104},"hr/yr"]
["Managing backwashes",null,{"$f":"IF(OR(manual=1,manual=2),(backwash_yr*backwash_time+filter_backwash_yr*filter_backwash_time)*2/60,(backwash_yr+filter_backwash_yr)*uloe_autoback/60)","v":16.222222222222221},"hr/yr"]
["Managing residual solids",null,{"$f":"IF(OR(res_s2_opt=4,res_transfer_method=3),res_solids*2000/ht_solids_density*sol_disp_freq*uloe_throwaway,sol_disp_freq*transfer_time)*(IF(sed_sludge_method=1,2,IF(sed_sludge_method=2,3,1)))","v":4},"hr/yr","Multiple transfers required when solids treatment (thickening) is included"]
[]
["Annual Operator LOE","Operator_LOE",{"$f":"General_Oper_Labor+filter_labor+SUM(C48:C49)","v":434.13055555555553},"hr/yr"]
["Annual Manager LOE","Manager_LOE",{"$f":"Operator_LOE*Manager_percent","v":43.413055555555559},"hr/yr","Based on general operator labor and percentages in critical design assumptions"]
["Annual Administrative LOE","Clerical_LOE",{"$f":"Operator_LOE*Clerical_percent","v":43.413055555555559},"hr/yr","Based on general operator labor and percentages in critical design assumptions"]
[]
["Building and HVAC Maintenance"]
["Cost excluding heating and cooling",null,{"$f":"IF(include_buildings=0,0,building_matl_rate_cl*total_fp)","v":1909.5823799373588},"/yr","Labor and materials; includes routine in-house maintenance and major repairs"]
["Cost to maintain heating system, building 1",null,{"$f":"build1_need_heat*heating_matl_rate_cl*build1_fp","v":0},"/yr"]
["Cost to maintain cooling system, building 1",null,{"$f":"build1_need_cool*cooling_matl_rate_cl*build1_fp","v":0},"/yr"]
["Cost to maintain heating system, building 2",null,{"$f":"build2_need_heat*heating_matl_rate_cl*build2_fp","v":0},"/yr"]
["Cost to maintain cooling system, building 2",null,{"$f":"build2_need_cool*cooling_matl_rate_cl*build2_fp","v":0},"/yr"]
["Total annual building and HVAC maintenance","bldg_maint_cost",{"$f":"SUM(C56:C60)","v":1909.5823799373588},null,"Includes labor and materials"]
[]
["Energy"]
["Pumps"]
["Booster pump operating horsepower","pump_hp",{"$f":"IF(booster_pumps=0,0,(average_flow_rate/IF(bp_pct>0,bp_pct,1))*booster_pump_head/booster_pumps/booster_pump_efficiency/14.7*33.9*8.34/550/60)","v":0},"hp"]
["Energy per booster pump",null,{"$f":"C65*0.7457/1000*24*365","v":0},"MWh/yr"]
["Energy for all active booster pumps","pump_energy",{"$f":"C66*booster_pumps","v":0},"MWh/yr"]
[]
["Recycle pump operating horsepower","recycle_pump_hp",{"$f":"IF(recycle_pumps=0,0,average_flow_rate*recycle_fluid*recycle_pump_head/recycle_pumps/recycle_pump_efficiency/14.7*33.9*8.34/550/60)","v":0},"hp"]
["Energy per recycle pump",null,{"$f":"C69*0.7457/1000*24*365","v":0},"MWh/yr"]
["Energy for all active recycle pumps","recycle_pump_energy",{"$f":"C70*recycle_pumps","v":0},"MWh/yr"]
[]
["Backwash pump operating horsepower (all pumps)","back_pump_hp",{"$f":"MAX(water_flush,filter_water_flush)*back_pump_head/booster_pump_efficiency/14.7*33.9*8.34/550/60","v":2.6226901669758811},"hp"]
["Backwash pumping time","back_pump_op_hours",{"$f":"(backwash_yr*backwash_time+filter_backwash_yr*filter_backwash_time)/60","v":150.05555555555557},"hours/yr"]
["Energy for all backwash pumps","back_pump_energy",{"$f":"C73*0.7457/1000*back_pump_op_hours","v":0.2934696608525047},"MWh/yr"]
[]
["Biomass removal blower operating pressure (fluidized design)","bio_blower_head",{"$f":"IF(design_type=3,(bed_depth+add_blow_head/12)/2.307,0)","v":0},"psi"]
["Total biomass removal blower operating horsepower","bio_blower_hp",{"$f":"IF(design_type=3,(average_flow_rate*biomass_air_scour/60/num_bio_blowers)*bio_blower_head/(229*blower_effcy),0)","v":0},"HP"]
["Energy per biomass removal blower",null,{"$f":"bio_blower_hp*0.7457/1000*24*365","v":0},"MWh/yr"]
["Energy for all biomass removal blowers","bio_blower_energy",{"$f":"C79*num_bio_blowers","v":0},"MWh/yr"]
[]
["Aeration blower operating pressure","blower_head",{"$f":"IF(include_post_h2o2=0,(aeration_water_height+add_blow_head/12)/2.307,0)","v":0.54388877864785456},"psi"]
["Total aeration blower operating horsepower","blower_hp",{"$f":"IF(include_post_h2o2=0,(average_flow_rate*rate_aeration/100/(num_aeration_blowers-NRD_blowers))*blower_head/(229*blower_effcy),0)","v":1.0720757706244102E-3},"HP"]
["Energy per aeration blower",null,{"$f":"blower_hp*0.7457/1000*24*365","v":7.0031548628744942E-3},"MWh/yr"]
["Energy for all aeration blowers","blower_energy",{"$f":"C84*num_blowers","v":7.0031548628744942E-3},"MWh/yr"]
[]
["Air scour blower operating pressure (backwash)","scour_blower_head",{"$f":"IF(air_scour_I=\"yes\",(MAX(IF(design_type=2,basin_op_depth,bed_depth),IF(filter_type=0,0,CHOOSE(filter_type,filt_basin_op_depth,filt_bed_depth,0)))+add_blow_head/12)/2.307,0)","v":1.8783412801618262},"psi"]
["Total air scour blower operating horsepower","scour_blower_hp",{"$f":"IF(air_scour_I=\"yes\",tot_air_scour*scour_blower_head/(229*blower_effcy),0)","v":0.65191160871892395},"HP"]
["Air scour operating time","scour_blower_op_hours",{"$f":"air_scour_time*(filter_backwash_yr+backwash_yr)/60","v":81.111111111111114},"hours/yr"]
["Energy for all air scour blowers","scour_blower_energy",{"$f":"scour_blower_hp*0.7457/1000*scour_blower_op_hours","v":3.9430583914871357E-2},"MWh/yr"]
[]
["Building Lighting"]
["Lighting power per sf, building 1","lighting_energy_1",{"$f":"IF(OR(build1_fp<500,component_level=\"\"),lighting_power_low,CHOOSE(component_level,lighting_power_mid,lighting_power_high))*24*365/1000","v":8.76},"kWh/sf/yr"]
["Lighting power per sf, building 2","lighting_energy_2",{"$f":"IF(OR(build2_fp<500,component_level=\"\"),lighting_power_low,CHOOSE(component_level,lighting_power_mid,lighting_power_high))*24*365/1000","v":8.76},"kWh/sf/yr"]
["Lighting","lighting",{"$f":"IF(include_buildings=0,0,MIN(1,Operator_LOE/(24*365))*(build1_fp*lighting_energy_1+build2_fp*lighting_energy_2)/1000)","v":0.14326308333333329},"MWh/yr"]
[]
["HVAC"]
["Heating energy usage for:"]
["Electric resistance","heating",{"$f":"IF(build1_heat=A99,VLOOKUP(A99,build1_heat_options, 7,FALSE),0)+IF(build2_heat=A99,VLOOKUP(A99,build2_heat_options, 7,FALSE),0)","v":0},"MWh/yr"]
["Natural gas non-condensing furnace","heating_gas_non",0,"therms/yr"]
["Natural gas condensing furnace","heating_gas",0,"therms/yr"]
["Standard efficiency oil furnace","heating_diesel_non",0,"gal/yr"]
["Mid-efficiency oil furnace","heating_diesel",0,"gal/yr"]
["Heat pump","heating_hp",0,"MWh/yr"]
[]
["Cooling energy usage for:"]
["Air conditioner","cooling",{"$f":"IF(build1_cool=A107,VLOOKUP(A107,build1_cool_options, 7,FALSE),0)+IF(build2_cool=A107,VLOOKUP(A107,build2_cool_options, 7,FALSE),0)","v":0},"MWh/yr"]
["Heat pump","cooling_hp",{"$f":"IF(build1_cool=A108,VLOOKUP(A108,build1_cool_options, 7,FALSE),0)+IF(build2_cool=A108,VLOOKUP(A108,build2_cool_options, 7,FALSE),0)","v":0},"MWh/yr"]

{"sheet":"HVAC","index":15,"n_rows":141,"n_cols":12,"rows_kept":141,"cut":false,"hidden":false,"merged":[[86,1,86,4],[95,1,95,4]]}
["Building Heating, Ventilating, and Air Conditioning Calculations"]
[]
["Calculation","Range Name","Value","Units","Guidance"]
["General information",null,null,null,"ss_cat2 is used to select ventilation requirements and building type"]
["System size","ss_cat2",{"$f":"IF(design_flow<1,1,IF(design_flow<10,2,3))","v":1},"1 indicates small system, 2 indicates medium, 3 indicates large"]
["Building height","Building_height",{"$f":"IF(tank_geom=1,comm_height_length,comm_diam)+Top_bottom_Vessel_space","v":12.5},"ft"]
["Buiding 1 length and width","build1_side",{"$f":"build1_fp^0.5","v":18.165902124584949},"ft"]
["Building 2 length and width","build2_side",{"$f":"build2_fp^0.5","v":0},"ft"]
["Include HVAC?","include_HVAC",{"$f":"IF(include_HVAC_I=\"no\",0,IF(include_HVAC_I=\"yes\",1,2))","v":2}," 0 = always exclude, 1 = always include, 2 = use model default"]
[]
["Ventilation"]
["Building 1 weighted average air changes","air_changes_build1",{"$f":"IF(build2_fp=0,(Air_changes_contactor*(basin_fp+vessel_fp+back_tank_fp+htank_fp+hbasin_fp+filter_fp+filter_vessel_fp+aer_tank_fp+coag_mix_fp+thick_fp+belt_press_fp)+Air_changes_pump*(pump_fp+blower_fp)+Air_changes_chem_storage*(H3PO4_donor_fp+NH4Cl_donor_fp+e_donor_fp+H2O2_donor_fp+e_donor_day_fp+NH4Cl_donor_day_fp+H3PO4_donor_day_fp+H2O2_donor_day_fp+polymer_fp)+Air_changes_office*office_fp)/build1_fp,Air_changes_contactor)","v":4.6303030303030299},"air changes/hr"]
["Building 2 weighted average air changes","air_changes_build2",{"$f":"IF(build2_fp=0,0,(Air_changes_contactor*(back_tank_fp+htank_fp+hbasin_fp+coag_mix_fp+thick_fp+belt_press_fp)+Air_changes_pump*(pump_fp+blower_fp)+Air_changes_chem_storage*(H3PO4_donor_fp+NH4Cl_donor_fp+e_donor_fp+H2O2_donor_fp+e_donor_day_fp+NH4Cl_donor_day_fp+H3PO4_donor_day_fp+H2O2_donor_day_fp+polymer_fp)+Air_changes_office*office_fp)/build2_fp)","v":0},"air changes/hr"]
["Building 1 ventilation",null,{"$f":"CHOOSE(ss_cat2,fan_days_build1_small,fan_days_build1_medium,fan_days_build1_large)*24*0.746*Fan_pressure_drop*build1_fp*Building_height*air_changes_build1/33000","v":233.15890909090902},"kWh/yr"]
["Building 2 ventilation",null,{"$f":"CHOOSE(ss_cat2,fan_days_build2_small,fan_days_build2_medium,fan_days_build2_large)*24*0.746*Fan_pressure_drop*build2_fp*Building_height*air_changes_build2/33000","v":0},"kWh/yr"]
["Total ventilation","ventilation",{"$f":"IF(include_HVAC=0,0,SUM(C14:C15)/1000)","v":0.23315890909090903},"MWh/yr"]
[]
["Building 1 air exchange rate","build1_cfm",{"$f":"build1_fp*Building_height*air_changes_build1/60","v":318.33333333333331},"cfm"]
["Building 2 air exchange rate","build2_cfm",{"$f":"build2_fp*Building_height*air_changes_build2/60","v":0},"cfm"]
[]
["Heating and Cooling"]
["Include heating for building 1","build1_need_heat",{"$f":"IF(include_HVAC=0,0,IF(include_HVAC=1,1,VLOOKUP(IF(component_level_I=\"\",\"low cost\",component_level_I),IF(build1_fp<500,heating_table_shed,heating_table),ss_cat2+2,FALSE)))","v":0},"1 for yes, 0 for no","Based on system size, building floorplan, and inputs"]
["Include cooling for building 1","build1_need_cool",{"$f":"IF(include_HVAC=0,0,IF(include_HVAC=1,1,VLOOKUP(IF(component_level_I=\"\",\"low cost\",component_level_I),IF(build1_fp<500,cooling_table_shed,cooling_table),ss_cat2+2,FALSE)))","v":0},"1 for yes, 0 for no"]
["Include heating for building 2","build2_need_heat",{"$f":"IF(build2_fp=0,0,IF(include_HVAC=0,0,IF(include_HVAC=1,1,VLOOKUP(IF(component_level_I=\"\",\"low cost\",component_level_I),IF(build2_fp<500,heating_table_shed,heating_table),ss_cat2+2,FALSE))))","v":0},"1 for yes, 0 for no"]
["Include cooling for building 2","build2_need_cool",{"$f":"IF(build2_fp=0,0,IF(include_HVAC=0,0,IF(include_HVAC=1,1,VLOOKUP(IF(component_level_I=\"\",\"low cost\",component_level_I),IF(build2_fp<500,cooling_table_shed,cooling_table),ss_cat2+2,FALSE))))","v":0},"1 for yes, 0 for no"]
[]
["Heating Requirements"]
["Building 1 side conductance heat loss",null,{"$f":"4*build1_side*Building_height*heat_DD*24/R_wall","v":8255144.8762460034},"BTU/yr"]
["Buiding 1 ceiling conductance heat loss",null,{"$f":"build1_fp*heat_DD*24/R_ceiling","v":1026056.8421052631},"BTU/yr"]
["Building 1 air exchange heat loss",null,{"$f":"build1_cfm*heat_viload","v":53696148.333333328},"BTU/yr"]
["Building 1 total annual heat loss","build1_heat_loss_yr",{"$f":"SUM(C28:C30)","v":62977350.051684596},"BTU/yr"]
["Building 1 heating requirement in thousand BTU/hr","build1_heat_mbh",{"$f":"build1_heat_loss_yr/365.25/24/1000","v":7.1842744754374399},"MBH","thousands of BTU per hour"]
["Building 1 number of heating zones","build1_heat_zones",{"$f":"ROUNDUP(build1_heat_mbh/max_heat_cl,0)","v":1}]
[]
["Building 2 side conductance heat loss",null,{"$f":"4*build2_side*Building_height*heat_DD*24/R_wall","v":0},"BTU/yr"]
["Buiding 2 ceiling conductance heat loss",null,{"$f":"build2_fp*heat_DD*24/R_ceiling","v":0},"BTU/yr"]
["Building 2 air exchange heat loss",null,{"$f":"build2_cfm*heat_viload","v":0},"BTU/yr"]
["Building 2 total annual heat loss","build2_heat_loss_yr",{"$f":"SUM(C35:C37)","v":0},"BTU/yr"]
["Building 2 heating requirement in thousand BTU/hr","build2_heat_mbh",{"$f":"build2_heat_loss_yr/365.25/24/1000","v":0},"MBH"]
["Building 2 number of heating zones","build2_heat_zones",{"$f":"ROUNDUP(build2_heat_mbh/max_heat_cl,0)","v":0}]
[]
["Cooling Requirements"]
["Power lost: booster pumps","eloss_pumps",{"$f":"booster_pumps*pump_hp*(1-booster_pump_efficiency)*0.7457","v":0},"kW"]
["Waste heat: booster pumps","waste_heat_pumps",{"$f":"eloss_pumps*3415","v":0},"BTU/hr"]
["Power lost: recycle pumps","eloss_recycle_pumps",{"$f":"recycle_pumps*recycle_pump_hp*(1-recycle_pump_efficiency)*0.7457","v":0},"kW"]
["Waste heat: recycle pumps","waste_heat_recycle_pumps",{"$f":"eloss_recycle_pumps*3415","v":0},"BTU/hr"]
["Power lost: backwash pumps","eloss_bw_pumps",{"$f":"back_pump_hp*(1-booster_pump_efficiency)*0.7457","v":0.48893501437847864},"kW"]
["Waste heat: backwash pumps","waste_heat_bw_pumps",{"$f":"eloss_bw_pumps*3415","v":1669.7130741025046},"BTU/hr"]
["Power lost: biomass removal and aeration blowers","eloss_blowers",{"$f":"(blower_hp+bio_blower_hp)*(1-blower_effcy)*0.7457","v":2.3983407064638687E-4},"kW"]
["Waste heat: biomass removal and aeration blowers","waste_heat_blowers",{"$f":"eloss_blowers*3415","v":0.81903335125741117},"BTU/hr"]
["Power lost: air scour blowers","eloss_scour_blowers",{"$f":"scour_blower_hp*(1-blower_effcy)*0.7457","v":0.14583914598651052},"kW"]
["Waste heat: air scour blowers","waste_heat_scour_blowers",{"$f":"eloss_scour_blowers*3415","v":498.04068354393343},"BTU/hr"]
[]
["Building 1 side conductance cooling loss",null,{"$f":"4*build1_side*Building_height*cool_DD*24/R_wall","v":2845618.6989619066},"BTU/yr"]
["Buiding 1 ceiling conductance cooling loss",null,{"$f":"build1_fp*cool_DD*24/R_ceiling","v":353690.5263157895},"BTU/yr"]
["Building 1 air exchange cooling loss",null,{"$f":"build1_cfm*cool_viload","v":16480434.999999998},"BTU/yr"]
["Building 1 total annual cooling loss","build1_cooling_loss_yr",{"$f":"SUM(C54:C56)","v":19679744.225277696},"BTU/yr"]
["Building 1 cooling loss per hour","build1_cooling_loss_hr",{"$f":"build1_cooling_loss_yr/365.25/24","v":2245.0084674056234},"BTU/hr"]
[]
["Building 1 total cooling requirement","build1_cooling_req",{"$f":"build1_cooling_loss_hr+IF(fp_required<add_2nd_building,waste_heat_pumps+waste_heat_recycle_pumps+waste_heat_bw_pumps+waste_heat_blowers+waste_heat_scour_blowers,0)","v":4413.5812584033192},"BTU/hr"]
["Building 1 annual cooling requirement","build1_cooling_yr",{"$f":"build1_cooling_loss_hr*365.25*24+IF(fp_required<add_2nd_building,(waste_heat_pumps+waste_heat_recycle_pumps+waste_heat_blowers)*365.25*24+waste_heat_bw_pumps*back_pump_op_hours+waste_heat_scour_blowers*scour_blower_op_hours)","v":19977870.227808427},"BTU/yr"]
["Building 1 total cooling requirement in tons","build1_cooling_tons",{"$f":"build1_cooling_req/12000","v":0.36779843820027658},"tons","1 ton cooling = 12,000 BTU/hr"]
["Building 1 number of cooling zones","build1_cool_zones",{"$f":"ROUNDUP(build1_cooling_tons/max_cool_cl,0)","v":1}]
[]
["Building 2 side conductance cooling loss",null,{"$f":"4*build2_side*Building_height*cool_DD*24/R_wall","v":0},"BTU/yr"]
["Buiding 2 ceiling conductance cooling loss",null,{"$f":"build2_fp*cool_DD*24/R_ceiling","v":0},"BTU/yr"]
["Building 2 air exchange cooling loss",null,{"$f":"build2_cfm*cool_viload","v":0},"BTU/yr"]
["Building 2 total annual cooling loss","build2_cooling_loss_yr",{"$f":"SUM(C65:C67)","v":0},"BTU/yr"]
["Building 2 cooling loss per hour","build2_cooling_loss_hr",{"$f":"build2_cooling_loss_yr/365.25/24","v":0},"BTU/hr"]
[]
["Building 2 total cooling requirement","build2_cooling_req",{"$f":"build2_cooling_loss_hr+IF(fp_required<add_2nd_building,0,waste_heat_pumps+waste_heat_recycle_pumps+waste_heat_bw_pumps+waste_heat_blowers+waste_heat_scour_blowers)","v":0},"BTU/hr"]
["Building 2 annual cooling requirement","build2_cooling_yr",{"$f":"build2_cooling_loss_hr*365.25*24+IF(fp_required<add_2nd_building,0,(waste_heat_pumps+waste_heat_recycle_pumps+waste_heat_blowers)*365.25*24+waste_heat_bw_pumps*back_pump_op_hours+waste_heat_scour_blowers*scour_blower_op_hours)","v":0},"BTU/yr"]
["Building 2 total cooling requirement in tons","build2_cooling_tons",{"$f":"build2_cooling_req/12000","v":0},"tons","1 ton cooling = 12,000 BTU/hr"]
["Building 2 number of cooling zones","build2_cool_zones",{"$f":"ROUNDUP(build2_cooling_tons/max_cool_cl,0)","v":0}]
[]
["Heating Options"]
[]
["Building 1 number of HVAC zones","build1_zones",{"$f":"MAX(build1_heat_zones, build1_cool_zones)","v":1}]
["Building 2 number of HVAC zones","build2_zones",{"$f":"MAX(build2_heat_zones, build2_cool_zones)","v":0}]
[]
["Heat pump OK for building 1?","hp_ok_1",{"$f":"AND(build1_heat_mbh<=hp_max_heat_cl,build1_cooling_tons<=hp_max_cool_cl)","v":true},null,"For heat pumps, we check both heating and cooling capacities."]
["Heat pump OK for building 2?","hp_ok_2",{"$f":"AND(build2_heat_mbh<=hp_max_heat_cl,build2_cooling_tons<=hp_max_cool_cl)","v":true}]
[]
["Building 1","build1_heat_options"]
["Option","Size needed per zone (MBH)","Size selected (MBH)","Direct Cost Per Zone","Useful Life (yrs)","Annualized Capital Cost, All Zones","Energy/Yr",null,"Energy Unit Cost",null,"Annual Energy Cost","Total Annual Cost"]
["Electric resistance",{"$f":"build1_heat_mbh/build1_zones","v":7.1842744754374399},{"$f":"IF(curve=1,B86,VLOOKUP(B86,hvac_elec_cost_cl,2))","v":7.1842744754374399},{"$f":"IF(curve=1,hvac_elec_eq_1,VLOOKUP(B86,hvac_elec_cost_cl,3))","v":6430.0857558387834},{"$f":"VLOOKUP(B86,hvac_elec_cost_cl,IF(ss_cat=\"large\",4,5))","v":20},{"$f":"IF(D86=\"contact vendor\",\"n/a\",-PMT(Discount_rate,E86,D86)*build1_zones)","v":606.95460727365651},{"$f":"build1_heat_loss_yr/3412000/resist_eff","v":18.834291352155837},"MWh/yr",{"$f":"energy_cost_cl","v":0.12121832061068702},"/kwh",{"$f":"I86*G86*1000","v":2283.0611676007165},{"$f":"IF(OR(F86=\"n/a\",K86=\"n/a\"),\"n/a\",F86+K86)","v":2890.0157748743732}]
["Heat pump","capital costs are in the cooling table",null,null,null,"n/a",{"$f":"IF(hp_ok_1,build1_heat_loss_yr/3412000/COP,\"n/a\")","v":5.7680017265977241},"MWh/yr",{"$f":"energy_cost_cl","v":0.12121832061068702},"/kwh",{"$f":"IF(G87=\"n/a\",\"n/a\",I87*G87*1000)","v":699.18748257771927},"n/a"]
["Natural gas non-condensing furnace",{"$f":"build1_heat_mbh/build1_zones","v":7.1842744754374399},{"$f":"IF(curve=1,B88,VLOOKUP(B88,hvac_gas_non_cost_cl,2))","v":7.1842744754374399},{"$f":"IF(curve=1,hvac_gas_non_eq_1,VLOOKUP(B88,hvac_gas_non_cost_cl,3))","v":3776.9769752066782},{"$f":"VLOOKUP(B88,hvac_gas_non_cost_cl,IF(ss_cat=\"large\",4,5))","v":20},{"$f":"IF(D88=\"contact vendor\",\"n/a\",-PMT(Discount_rate,E88,D88)*build1_zones)","v":356.51990715467048},{"$f":"build1_heat_loss_yr/100000/gas_non_eff","v":787.21687564605736},"therms/yr",{"$f":"gas_cost_cl","v":0.79405665355998734},"/therm",{"$f":"I88*G88","v":625.09479790145701},981.61470505612749]
["Natural gas condensing furnace",{"$f":"build1_heat_mbh/build1_zones","v":7.1842744754374399},{"$f":"IF(curve=1,B89,VLOOKUP(B89,hvac_gas_cost_cl,2))","v":7.1842744754374399},{"$f":"IF(curve=1,hvac_gas_eq_1,VLOOKUP(B89,hvac_gas_cost_cl,3))","v":3776.9769752066782},{"$f":"VLOOKUP(B89,hvac_gas_cost_cl,IF(ss_cat=\"large\",4,5))","v":20},{"$f":"IF(D89=\"contact vendor\",\"n/a\",-PMT(Discount_rate,E89,D89)*build1_zones)","v":356.51990715467048},{"$f":"build1_heat_loss_yr/100000/gas_eff","v":662.91947422825888},"therms/yr",{"$f":"gas_cost_cl","v":0.79405665355998734},"/therm",{"$f":"I89*G89","v":526.39561928543753},882.91552644010801]
["Standard efficiency oil furnace",{"$f":"build1_heat_mbh/build1_zones","v":7.1842744754374399},{"$f":"IF(curve=1,B90,VLOOKUP(B90,hvac_oil_std_cost_cl,2))","v":7.1842744754374399},{"$f":"IF(curve=1,hvac_oil_std_eq_1,VLOOKUP(B90,hvac_oil_std_cost_cl,3))","v":4331.7386777942602},{"$f":"VLOOKUP(B90,hvac_oil_std_cost_cl,IF(ss_cat=\"large\",4,5))","v":20},{"$f":"IF(D90=\"contact vendor\",\"n/a\",-PMT(Discount_rate,E90,D90)*build1_zones)","v":408.88548735222219},{"$f":"build1_heat_loss_yr/diesel_heat_content/diesel_non_eff","v":580.86469333780292},"gal/yr",{"$f":"diesel_cost_cl","v":2.3528514873883046},"/gal",{"$f":"I90*G90","v":1366.688357691201},1775.5738450434233]
["Mid-efficiency oil furnace",{"$f":"build1_heat_mbh/build1_zones","v":7.1842744754374399},{"$f":"IF(curve=1,B91,VLOOKUP(B91,hvac_oil_mid_cost_cl,2))","v":7.1842744754374399},{"$f":"IF(curve=1,hvac_oil_mid_eq_1,VLOOKUP(B91,hvac_oil_mid_cost_cl,3))","v":4331.7386777942602},{"$f":"VLOOKUP(B91,hvac_oil_mid_cost_cl,IF(ss_cat=\"large\",4,5))","v":20},{"$f":"IF(D91=\"contact vendor\",\"n/a\",-PMT(Discount_rate,E91,D91)*build1_zones)","v":408.88548735222219},{"$f":"build1_heat_loss_yr/diesel_heat_content/diesel_eff","v":533.02877741586622},"gal/yr",{"$f":"diesel_cost_cl","v":2.3528514873883046},"/gal",{"$f":"I91*G91","v":1254.1375517636905},1663.0230391159125]
[]
["Building 2","build2_heat_options"]
["Option","Size needed per zone (MBH)","Size selected (MBH)","Direct Cost Per Zone","Useful Life (yrs)","Annualized Capital Cost, All Zones","Energy/Yr",null,"Energy Unit Cost",null,"Annual Energy Cost","Total Annual Cost"]
["Electric resistance",{"$f":"build2_heat_mbh/build2_zones","v":{"$error":"#DIV/0!"}},{"$f":"IF(curve=1,B95,VLOOKUP(B95,hvac_elec_cost_cl,2))","v":{"$error":"#DIV/0!"}},{"$f":"IF(curve=1,hvac_elec_eq_2,VLOOKUP(B95,hvac_elec_cost_cl,3))","v":{"$error":"#DIV/0!"}},{"$f":"VLOOKUP(B95,hvac_elec_cost_cl,IF(ss_cat=\"large\",4,5))","v":{"$error":"#DIV/0!"}},{"$f":"IF(D95=\"contact vendor\",\"n/a\",-PMT(Discount_rate,E95,D95)*build2_zones)","v":{"$error":"#DIV/0!"}},{"$f":"build2_heat_loss_yr/3412000/resist_eff","v":0},"MWh/yr",{"$f":"energy_cost_cl","v":0.12121832061068702},"/kwh",{"$f":"I95*G95*1000","v":0},{"$f":"IF(F95=\"n/a\",\"n/a\",F95+K95)","v":{"$error":"#DIV/0!"}}]
["Heat pump","capital costs are in the cooling table",null,null,null,"n/a",{"$f":"IF(hp_ok_2,build2_heat_loss_yr/3412000/COP,\"n/a\")","v":0},"MWh/yr",{"$f":"energy_cost_cl","v":0.12121832061068702},"/kwh",{"$f":"IF(G96=\"n/a\",\"n/a\",I96*G96*1000)","v":0},{"$f":"IF(OR(F96=\"n/a\",K96=\"n/a\"),\"n/a\",F96+K96)","v":"n/a"}]
["Natural gas non-condensing furnace",{"$f":"build2_heat_mbh/build2_zones","v":{"$error":"#DIV/0!"}},{"$f":"IF(curve=1,B97,VLOOKUP(B97,hvac_gas_non_cost_cl,2))","v":{"$error":"#DIV/0!"}},{"$f":"IF(curve=1,hvac_gas_non_eq_2,VLOOKUP(B97,hvac_gas_non_cost_cl,3))","v":{"$error":"#DIV/0!"}},{"$f":"VLOOKUP(B97,hvac_gas_non_cost_cl,IF(ss_cat=\"large\",4,5))","v":{"$error":"#DIV/0!"}},{"$f":"IF(D97=\"contact vendor\",\"n/a\",-PMT(Discount_rate,E97,D97)*build2_zones)","v":{"$error":"#DIV/0!"}},{"$f":"build2_heat_loss_yr/100000/gas_non_eff","v":0},"therms/yr",{"$f":"gas_cost_cl","v":0.79405665355998734},"/therm",{"$f":"I97*G97","v":0},{"$f":"IF(F97=\"n/a\",\"n/a\",F97+K97)","v":{"$error":"#DIV/0!"}}]
["Natural gas condensing furnace",{"$f":"build2_heat_mbh/build2_zones","v":{"$error":"#DIV/0!"}},{"$f":"IF(curve=1,B98,VLOOKUP(B98,hvac_gas_cost_cl,2))","v":{"$error":"#DIV/0!"}},{"$f":"IF(curve=1,hvac_gas_eq_2,VLOOKUP(B98,hvac_gas_cost_cl,3))","v":{"$error":"#DIV/0!"}},{"$f":"VLOOKUP(B98,hvac_gas_cost_cl,IF(ss_cat=\"large\",4,5))","v":{"$error":"#DIV/0!"}},{"$f":"IF(D98=\"contact vendor\",\"n/a\",-PMT(Discount_rate,E98,D98)*build2_zones)","v":{"$error":"#DIV/0!"}},{"$f":"build2_heat_loss_yr/100000/gas_eff","v":0},"therms/yr",{"$f":"gas_cost_cl","v":0.79405665355998734},"/therm",{"$f":"I98*G98","v":0},{"$f":"IF(F98=\"n/a\",\"n/a\",F98+K98)","v":{"$error":"#DIV/0!"}}]
["Standard efficiency oil furnace",{"$f":"build2_heat_mbh/build2_zones","v":{"$error":"#DIV/0!"}},{"$f":"IF(curve=1,B99,VLOOKUP(B99,hvac_oil_std_cost_cl,2))","v":{"$error":"#DIV/0!"}},{"$f":"IF(curve=1,hvac_oil_std_eq_2,VLOOKUP(B99,hvac_oil_std_cost_cl,3))","v":{"$error":"#DIV/0!"}},{"$f":"VLOOKUP(B99,hvac_oil_std_cost_cl,IF(ss_cat=\"large\",4,5))","v":{"$error":"#DIV/0!"}},{"$f":"IF(D99=\"contact vendor\",\"n/a\",-PMT(Discount_rate,E99,D99)*build2_zones)","v":{"$error":"#DIV/0!"}},{"$f":"build2_heat_loss_yr/diesel_heat_content/diesel_non_eff","v":0},"gal/yr",{"$f":"diesel_cost_cl","v":2.3528514873883046},"/gal",{"$f":"I99*G99","v":0},{"$f":"IF(F99=\"n/a\",\"n/a\",F99+K99)","v":{"$error":"#DIV/0!"}}]
["Mid-efficiency oil furnace",{"$f":"build2_heat_mbh/build2_zones","v":{"$error":"#DIV/0!"}},{"$f":"IF(curve=1,B100,VLOOKUP(B100,hvac_oil_mid_cost_cl,2))","v":{"$error":"#DIV/0!"}},{"$f":"IF(curve=1,hvac_oil_mid_eq_2,VLOOKUP(B100,hvac_oil_mid_cost_cl,3))","v":{"$error":"#DIV/0!"}},{"$f":"VLOOKUP(B100,hvac_oil_mid_cost_cl,IF(ss_cat=\"large\",4,5))","v":{"$error":"#DIV/0!"}},{"$f":"IF(D100=\"contact vendor\",\"n/a\",-PMT(Discount_rate,E100,D100)*build2_zones)","v":{"$error":"#DIV/0!"}},{"$f":"build2_heat_loss_yr/diesel_heat_content/diesel_eff","v":0},"gal/yr",{"$f":"diesel_cost_cl","v":2.3528514873883046},"/gal",{"$f":"I100*G100","v":0},{"$f":"IF(F100=\"n/a\",\"n/a\",F100+K100)","v":{"$error":"#DIV/0!"}}]
[]
["Cooling Options"]
["Building 1","build1_cool_options"]
["Option","Size needed per zone (tons)","Size selected (tons)","Direct Cost Per Zone","Useful Life (yrs)","Annualized Capital Cost, All Zones","Energy/Yr",null,"Energy Unit Cost",null,"Annual Energy Cost","Total Annual Cost"]
["Air conditioner",{"$f":"build1_cooling_tons/build1_zones","v":0.36779843820027658},{"$f":"IF(curve=1,B105,VLOOKUP(B105,hvac_ac_cost_cl,2))","v":0.36779843820027658},{"$f":"IF(curve=1,hvac_ac_eq_1,VLOOKUP(B105,hvac_ac_cost_cl,3))","v":816.47317062775164},{"$f":"VLOOKUP(B105,hvac_ac_cost_cl,IF(ss_cat=\"large\",4,5))","v":20},{"$f":"IF(D105=\"contact vendor\",\"n/a\",-PMT(Discount_rate,E105,D105)*build1_zones)","v":77.069291366425901},{"$f":"build1_cooling_yr/EER/10^6","v":1.816170020709857},"MWh/yr",{"$f":"energy_cost_cl","v":0.12121832061068702},"/kwh",{"$f":"I105*G105*1000","v":220.15307985392553},{"$f":"IF(F105=\"n/a\",\"n/a\",F105+K105)","v":297.22237122035142}]
["Heat pump",{"$f":"build1_cooling_tons/build1_zones","v":0.36779843820027658},{"$f":"IF(hp_ok_1,IF(curve=1,B106,VLOOKUP(B106,hvac_hp_cost_cl,2)),\"n/a\")","v":0.36779843820027658},{"$f":"IF(C106=\"n/a\",\"n/a\",IF(curve=1,hvac_hp_eq_1,VLOOKUP(B106,hvac_hp_cost_cl,3)))","v":3473.0500564325407},{"$f":"IF(C106=\"n/a\",\"n/a\",VLOOKUP(B106,hvac_hp_cost_cl,IF(ss_cat=\"large\",4,5)))","v":20},{"$f":"IF(OR(D106=\"contact vendor\",D106=\"n/a\"),\"n/a\",-PMT(Discount_rate,E106,D106)*build1_zones)","v":327.83135607944683},{"$f":"IF(C106=\"n/a\",\"n/a\",build1_cooling_yr/hp_EER/10^6)","v":1.9780069532483593},"MWh/yr",{"$f":"energy_cost_cl","v":0.12121832061068702},"/kwh",{"$f":"IF(C106=\"n/a\",\"n/a\",I106*G106*1000)","v":239.77068102902783},{"$f":"IF(F106=\"n/a\",\"n/a\",F106+K106)","v":567.60203710847463}]
[]
["Building 2","build2_cool_options"]
["Option","Size needed per zone (tons)","Size selected (tons)","Direct Cost Per Zone","Useful Life (yrs)","Annualized Capital Cost, All Zones","Energy/Yr",null,"Energy Unit Cost",null,"Annual Energy Cost","Total Annual Cost"]
["Air conditioner",{"$f":"build2_cooling_tons/build2_zones","v":{"$error":"#DIV/0!"}},{"$f":"IF(curve=1,B110,VLOOKUP(B110,hvac_ac_cost_cl,2))","v":{"$error":"#DIV/0!"}},{"$f":"IF(curve=1,hvac_ac_eq_2,VLOOKUP(B110,hvac_ac_cost_cl,3))","v":{"$error":"#DIV/0!"}},{"$f":"VLOOKUP(B110,hvac_ac_cost_cl,IF(ss_cat=\"large\",4,5))","v":{"$error":"#DIV/0!"}},{"$f":"IF(D110=\"contact vendor\",\"n/a\",-PMT(Discount_rate,E110,D110)*build2_zones)","v":{"$error":"#DIV/0!"}},{"$f":"build2_cooling_yr/EER/10^6","v":0},"MWh/yr",{"$f":"energy_cost_cl","v":0.12121832061068702},"/kwh",{"$f":"I110*G110*1000","v":0},{"$f":"IF(F110=\"n/a\",\"n/a\",F110+K110)","v":{"$error":"#DIV/0!"}}]
["Heat pump",{"$f":"build2_cooling_tons/build2_zones","v":{"$error":"#DIV/0!"}},{"$f":"IF(hp_ok_2,IF(curve=1,B111,VLOOKUP(B111,hvac_hp_cost_cl,2)),\"n/a\")","v":{"$error":"#DIV/0!"}},{"$f":"IF(C111=\"n/a\",\"n/a\",IF(curve=1,hvac_hp_eq_2,VLOOKUP(B111,hvac_hp_cost_cl,3)))","v":{"$error":"#DIV/0!"}},{"$f":"IF(C111=\"n/a\",\"n/a\",VLOOKUP(B111,hvac_hp_cost_cl,IF(ss_cat=\"large\",4,5)))","v":{"$error":"#DIV/0!"}},{"$f":"IF(OR(D111=\"contact vendor\",D111=\"n/a\"),\"n/a\",-PMT(Discount_rate,E111,D111)*build2_zones)","v":{"$error":"#DIV/0!"}},{"$f":"IF(C111=\"n/a\",\"n/a\",build2_cooling_yr/hp_EER/10^6)","v":{"$error":"#DIV/0!"}},"MWh/yr",{"$f":"energy_cost_cl","v":0.12121832061068702},"/kwh",{"$f":"IF(C111=\"n/a\",\"n/a\",I111*G111*1000)","v":{"$error":"#DIV/0!"}},{"$f":"IF(F111=\"n/a\",\"n/a\",F111+K111)","v":{"$error":"#DIV/0!"}}]
[]
[]
["Heating and Cooling Selection",null,null,null,"We will select the option with the lowest annual cost for each building."]
[]
["Building 1 Selection"]
["Heating option","Annual cost","Cooling option","Annual cost","Total annual cost"]
["Electric resistance",{"$f":"IF(build1_need_heat,VLOOKUP(A118,build1_heat_options,12,FALSE),0)","v":0},"Air conditioner",{"$f":"IF(build1_need_cool,VLOOKUP(C118,build1_cool_options,12,FALSE),0)","v":0},{"$f":"IF(OR(B118=\"n/a\",D118=\"n/a\"),\"n/a\",ROUND(B118+D118,0))","v":0}]
["Natural gas non-condensing furnace",{"$f":"IF(build1_need_heat,VLOOKUP(A119,build1_heat_options,12,FALSE),0)","v":0},"Air conditioner",{"$f":"IF(build1_need_cool,VLOOKUP(C119,build1_cool_options,12,FALSE),0)","v":0},0]
["Natural gas condensing furnace",{"$f":"IF(build1_need_heat,VLOOKUP(A120,build1_heat_options,12,FALSE),0)","v":0},"Air conditioner",{"$f":"IF(build1_need_cool,VLOOKUP(C120,build1_cool_options,12,FALSE),0)","v":0},0]
["Standard efficiency oil furnace",{"$f":"IF(build1_need_heat,VLOOKUP(A121,build1_heat_options,12,FALSE),0)","v":0},"Air conditioner",{"$f":"IF(build1_need_cool,VLOOKUP(C121,build1_cool_options,12,FALSE),0)","v":0},0]
["Mid-efficiency oil furnace",{"$f":"IF(build1_need_heat,VLOOKUP(A122,build1_heat_options,12,FALSE),0)","v":0},"Air conditioner",{"$f":"IF(build1_need_cool,VLOOKUP(C122,build1_cool_options,12,FALSE),0)","v":0},0]
["Heat pump",{"$f":"IF(AND(build1_need_heat, build1_need_cool),K87,\"n/a\")","v":"n/a"},"Heat pump",{"$f":"IF(AND(build1_need_heat,build1_need_cool),VLOOKUP(C123,build1_cool_options,12,FALSE),0)","v":0},"n/a"]
[]
["Row selected","build1_row",{"$f":"MATCH(MIN(E118:E123),E118:E123,0)","v":1}]
["Building 1 heating selection","build1_heat",{"$f":"IF(build1_need_heat,INDEX(A118:A123,build1_row),\"n/a\")","v":"n/a"}]
["Building 1 cooling selection","build1_cool",{"$f":"IF(build1_need_cool,INDEX(C118:C123,build1_row),\"n/a\")","v":"n/a"}]
[]
[]
["Building 2 Selection"]
["Heating option","Annual cost","Cooling option","Annual cost","Total annual cost"]
["Electric resistance",{"$f":"IF(build2_need_heat,VLOOKUP(A132,build2_heat_options,12,FALSE),0)","v":0},"Air conditioner",{"$f":"IF(build2_need_cool,VLOOKUP(C132,build2_cool_options,12,FALSE),0)","v":0},{"$f":"IF(OR(B132=\"n/a\",D132=\"n/a\"),\"n/a\",ROUND(B132+D132,0))","v":0}]
["Natural gas non-condensing furnace",{"$f":"IF(build2_need_heat,VLOOKUP(A133,build2_heat_options,12,FALSE),0)","v":0},"Air conditioner",{"$f":"IF(build2_need_cool,VLOOKUP(C133,build2_cool_options,12,FALSE),0)","v":0},0]
["Natural gas condensing furnace",{"$f":"IF(build2_need_heat,VLOOKUP(A134,build2_heat_options,12,FALSE),0)","v":0},"Air conditioner",{"$f":"IF(build2_need_cool,VLOOKUP(C134,build2_cool_options,12,FALSE),0)","v":0},0]
["Standard efficiency oil furnace",{"$f":"IF(build2_need_heat,VLOOKUP(A135,build2_heat_options,12,FALSE),0)","v":0},"Air conditioner",{"$f":"IF(build2_need_cool,VLOOKUP(C135,build2_cool_options,12,FALSE),0)","v":0},0]
["Mid-efficiency oil furnace",{"$f":"IF(build2_need_heat,VLOOKUP(A136,build2_heat_options,12,FALSE),0)","v":0},"Air conditioner",{"$f":"IF(build2_need_cool,VLOOKUP(C136,build2_cool_options,12,FALSE),0)","v":0},0]
["Heat pump",{"$f":"IF(AND(build2_need_heat, build2_need_cool),K96,\"n/a\")","v":"n/a"},"Heat pump",{"$f":"IF(AND(build1_need_heat,build2_need_cool),VLOOKUP(C137,build2_cool_options,12,FALSE),0)","v":0},"n/a"]
[]
["Row selected","build2_row",{"$f":"MATCH(MIN(E132:E137),E132:E137,0)","v":1}]
["Building 2 heating selection","build2_heat",{"$f":"IF(build2_need_heat,INDEX(A132:A137,build2_row),\"n/a\")","v":"n/a"}]
["Building 2 cooling selection","build2_cool",{"$f":"IF(build2_need_cool,INDEX(C132:C137,build2_row),\"n/a\")","v":"n/a"}]

{"sheet":"Indirect","index":16,"n_rows":94,"n_cols":5,"rows_kept":94,"cut":false,"hidden":false,"merged":[]}
["Indirect and Add-on Cost Calculations"]
[]
["Calculation","Range Name","Value","Units","Guidance"]
["Buildings and Land"]
["Include buildings?","include_buildings",{"$f":"IF(include_buildings_I=\"no\",0,1)","v":1},"1 = yes, 0 = no"]
["Include land?","include_land",{"$f":"IF(include_land_I=\"no\",0,1)","v":1},"1 = yes, 0 = no"]
[]
["Standby Power"]
["Booster pumps",null,{"$f":"pump_energy*design_flow/average_flow/365/24*1000","v":0},"kW"]
["Recycle pumps",null,{"$f":"recycle_pump_energy*design_flow/average_flow/365/24*1000","v":0},"kW"]
["Blowers",null,{"$f":"(blower_energy+bio_blower_energy)*design_flow/average_flow/365/24*1000","v":3.4262010092340968E-3},"kW"]
["Lighting",null,{"$f":"IF(include_buildings=0,0,(build1_fp*lighting_energy_1+build2_fp*lighting_energy_2)/365/24)","v":0.32999999999999996},"kW"]
["Building 1 ventilation",null,{"$f":"IF(include_HVAC=0,0,0.746*Fan_pressure_drop*build1_fp*Building_height*air_changes_build1/33000)","v":0.10794393939393938},"kW"]
["Building 2 ventilation",null,{"$f":"IF(include_HVAC=0,0,0.746*Fan_pressure_drop*build2_fp*Building_height*air_changes_build2/33000)","v":0},"kW"]
["Total base standby power requirement","std_base",{"$f":"SUM(C9:C14)","v":0.44137014040317341},"kW"]
[]
["Electric heating for Building 1?","build1_elec_heat",{"$f":"IF(build1_need_heat=1,VLOOKUP(build1_heat,build1_heat_options,8,FALSE)=\"MWh/yr\",FALSE)","v":false}]
["Power to heat Building 1","build1_elec_heat_power",{"$f":"IF(build1_elec_heat,VLOOKUP(build1_heat,build1_heat_options,7,FALSE),0)*365.25*24/1000","v":0},"kW"]
["Electric heating for Building 2?","build2_elec_heat",{"$f":"IF(build2_need_heat,(VLOOKUP(build2_heat,build2_heat_options,8,FALSE)=\"MWh/yr\"),FALSE)","v":false}]
["Power to heat Building 2","build2_elec_heat_power",{"$f":"IF(build2_elec_heat,VLOOKUP(build2_heat,build2_heat_options,7,FALSE),0)*365.25*24/1000","v":0},"kW"]
["Standby power for heating","std_heat",{"$f":"IF(include_HVAC=0,0,build1_elec_heat_power+build2_elec_heat_power)","v":0},"kW"]
[]
["Electric cooling for Building 1?","build1_elec_cool",{"$f":"IF(build1_need_cool,(VLOOKUP(build1_cool,build1_cool_options,8,FALSE)=\"MWh/yr\"),FALSE)","v":false}]
["Power to cool Building 1","build1_elec_cool_power",{"$f":"IF(build1_elec_cool,VLOOKUP(build1_cool,build1_cool_options,7,FALSE),0)*365.25*24/1000","v":0},"kW"]
["Electric cooling for Building 2?","build2_elec_cool",{"$f":"IF(build2_need_cool,(VLOOKUP(build2_cool,build2_cool_options,8,FALSE)=\"MWh/yr\"),FALSE)","v":false}]
["Power to cool Building 2","build2_elec_cool_power",{"$f":"IF(build2_elec_cool,VLOOKUP(build2_cool,build2_cool_options,7,FALSE),0)*365.25*24/1000","v":0},"kW"]
["Standby power for cooling","std_cool",{"$f":"IF(include_HVAC=0,0,build1_elec_cool_power+build2_elec_cool_power)","v":0},"kW"]
[]
["Total standby power requirements","std_power",{"$f":"ROUNDUP(2*MAX(min_standby,(IF(AND(need_heat=1,need_cool=1),MAX(std_heat,std_cool),need_heat*std_heat+need_cool*std_cool)+std_base)*(1+std_safety_factor)),0)/2","v":10},"kW"]
["Total standby power cost","std_power_cost",{"$f":"VLOOKUP(std_power,std_gen_cost_cl,3)*std_power","v":5167.759924385633}]
[]
["Geotechnical & Sitework"]
["Total technology footprint","tech_fp",{"$f":"total_fp+solids_pad_area","v":350},"square feet"]
["Maximum basin excavation depth","max_excav_depth",{"$f":"MAX(IF(design_type=1,0,basin_depth),IF(include_post=0,0,filt_basin_depth),IF(res_holding=\"basins\",hbasin_depth,0),IF(OUTPUT!L470=1,thick_basin_depth,0))","v":7},"feet"]
["Borehole depth","bore_depth",{"$f":"IF(design_type=1,bore_depth_p,IF(max_excav_depth>deep_bore_need,bore_depth_max,bore_depth_min))","v":10},"feet"]
["Number of test pits","num_pits",{"$f":"IF(OR(design_type=2,tech_fp>bore_need),0,ROUNDUP(tech_fp/hole_per_sf,0))","v":1}]
["Number of boreholes","num_holes",{"$f":"IF(AND(design_type=1,tech_fp<bore_need),0,IF(ROUNDUP(tech_fp/hole_per_sf,0)<min_holes,min_holes,ROUNDUP(tech_fp/hole_per_sf,0)))","v":0}]
[]
["Costs"]
["Borings, initial field stake out & determination of elevations",null,{"$f":"IF(num_pits>0,1,ROUNDUP(num_holes/hole_per_job,0))*VLOOKUP(0,stake_out_cost_cl,3)","v":1433.9242694040011}]
["Borings, drawings showing boring details",null,{"$f":"ROUNDUP(num_holes/hole_per_job,0)*VLOOKUP(0,bore_draw_cost_cl,3)","v":0}]
["Borings, report and recommendations from P.E.",null,{"$f":"IF(num_pits>0,1,ROUNDUP(num_holes/hole_per_job,0))*VLOOKUP(0,bore_report_cost_cl,3)","v":1090.907091232848}]
["Borings, mobilization and demobilization, minimum",null,{"$f":"IF(num_pits>0,0,1)*VLOOKUP(0,bore_mob_cost_cl,3)","v":0}]
["Borings, drill rig and crew with truck mounted auger",null,{"$f":"ROUNDUP(bore_depth*num_holes/hole_per_day,0)*VLOOKUP(0,bore_rig_cost_cl,3)","v":0}]
["Borings, cased borings in earth, w/samples, 2.5\" dia",null,{"$f":"num_holes*bore_depth*VLOOKUP(0,bore_cost_cl,3)","v":0}]
["Test pits",null,{"$f":"pit_width*pit_length*pit_depth/27*num_pits*VLOOKUP(0,pit_cost_cl,3)","v":1105.6524562689847}]
["Total geotechnical cost","geotech_cost",{"$f":"SUM(C40:C46)","v":3630.4838169058339}]
[]
["Total sitework cost","sitework_cost",{"$f":"tech_fp*sitework_sf_cl","v":4485.3846153846152}]
[]
["Yard Piping"]
["Actual yard piping diameter","yard_pipe_diam",{"$f":"SUMPRODUCT(OUTPUT!G165:G169,OUTPUT!L165:L169)","v":1.5},"in. diam","Based on output sheet selection for inlet and outlet pipe"]
["Trench depth to top of pipe","trench_depth",{"$f":"MAX(frost,min_trench_depth)","v":38},"inches"]
["Thrust force","thrust_force",{"$f":"VLOOKUP(yard_pipe_diam,thrust_block_table_cl,2)*2.2","v":764.79838682438469},"lbs"]
["Bearing Area (L x H)","bearing_area",{"$f":"1.5*thrust_force/(soil_dens*(trench_depth/12+yard_pipe_diam/12)*Coeff_Kp*Reduction)","v":2.5645578679308643},"square ft"]
["L",null,{"$f":"bearing_area/C57","v":2.2647551160913024},"ft"]
["H",null,{"$f":"(bearing_area/2)^0.5","v":1.1323775580456512},"ft"]
["F",null,{"$f":"MAX(0.5,yard_pipe_diam/12)","v":0.5},"ft","Pipe diameter with a minimum of 6 inches"]
["T",null,{"$f":"C56/2","v":1.1323775580456512},"ft"]
["Thrust block volume","block_vol",{"$f":"(C59+(yard_pipe_diam/12)/2)*(C56+C58)/2*C57/27","v":6.9275164969845107E-2},"cy"]
["Trench Cross-section Area","trench_area",{"$f":"(yard_pipe_diam/12+2)*(bedding_depth/12+yard_pipe_diam/12+trench_depth/12)+(bedding_depth/12+yard_pipe_diam/12+trench_depth/12)^2*TAN(trench_angle)","v":22.434027777777775},"square ft"]
["Trench Volume Source Water",null,{"$f":"trench_area*yard_in/27","v":0},"cy"]
["Trench Volume Inlet & Outlet",null,{"$f":"((2*non_fire_buffer)+2*(build1_fp^0.5)/4)*trench_area/27","v":24.164730814489666},"cy"]
["Trench Volume Between Buildings",null,{"$f":"IF(build2_fp=0,0,((2*non_fire_buffer)+2*(build2_fp^0.5)/4)*trench_area/27)","v":0},"cy"]
["Trench Volume to Distribution Network",null,{"$f":"trench_area*yard_out/27","v":0},"cy"]
["Trench Volume total","trench_vol",{"$f":"SUM(C62:C65)+block_vol","v":24.234005979459511},"cy"]
["Equivalent pipe length","yard_pipe_length",{"$f":"yard_in+yard_out+2*((2*non_fire_buffer)+2*(build1_fp^0.5)/4+IF(build2_fp=0,0,((2*non_fire_buffer)+2*(build2_fp^0.5)/4))+2*(trench_depth+yard_pipe_diam)/12)","v":71.332568791251617},"lf"]
["Bedding cross sectional surface area",null,{"$f":"(yard_pipe_diam/12+2)*(bedding_depth/12+yard_pipe_diam/12*bedding_pct)+(bedding_depth/12+yard_pipe_diam/12*bedding_pct)^2*TAN(trench_angle)-((yard_pipe_diam/12/2)^2*ACOS((yard_pipe_diam/12/2-bedding_pct*yard_pipe_diam/12)/(yard_pipe_diam/12/2))-(yard_pipe_diam/12/2-yard_pipe_diam/12*bedding_pct)*((2*yard_pipe_diam/12/2*yard_pipe_diam/12*bedding_pct-(yard_pipe_diam/12*bedding_pct)^2)^0.5))","v":1.4087336529324048},"square ft"]
["Bedding volume","bedding_vol",{"$f":"C68*yard_pipe_length/2/27","v":1.8608998186361472},"cy"]
[]
["Costs"]
["Bedding cost",null,{"$f":"VLOOKUP(0,bedding_cost_cl,3)*bedding_vol","v":104.22415118511324}]
["Excavation cost",null,{"$f":"trench_vol*VLOOKUP(0,excavate_cost_cl,3)","v":753.06072765912074}]
["Backfill cost",null,{"$f":"trench_vol*VLOOKUP(0,backfill_cost_cl,3)","v":349.12138969602472}]
["Thrust block cost",null,{"$f":"block_vol*VLOOKUP(0,conc_basin_cost_cl,3)","v":41.652740185212906}]
["Pipe cost",null,{"$f":"yard_pipe_length*SUMPRODUCT(OUTPUT!I165:I169,OUTPUT!L165:L169)","v":213.47099565587078},null,"Based on output sheet selection for inlet and outlet pipe"]
["Total yard piping cost","yard_cost",{"$f":"SUM(C72:C76)","v":1461.5300043813425}]
[]
["Permits"]
["Building #1 value",null,{"$f":"SUMPRODUCT(OUTPUT!J440:J452,OUTPUT!L440:L452)","v":15180.810869342618},"Determined using Use? Column of output sheet"]
["Building #2 value",null,{"$f":"SUMPRODUCT(OUTPUT!L454:L466,OUTPUT!J454:J466)","v":0},"Determined using Use? Column of output sheet"]
["Building permit cost",null,{"$f":"BPCost_UBC97(C80)+BPCost_UBC97(C81)","v":265.25},"Uses custom function to apply formulae developed in SAIC Permit Report 2004"]
["NPDES permit cost",null,{"$f":"IF(res_s2_opt=1,VLOOKUP(res_flow_annual/365,NPDES_permit_cost_cl,2),0)","v":0},"Included only if direct discharge to surface water is the management option chosen on the input sheet"]
["Storm water permit cost",null,{"$f":"VLOOKUP(land_required,SW_permit_cost_cl,2)","v":0},"Applies to systems requiring 1 acre of land or greater"]
["Risk management plan",null,0,"Not applicable for this technology"]
["NEPA compliance",null,{"$f":"IF(include_NEPA=2,0,IF(OR(component_level=2,include_NEPA=1),VLOOKUP(land_required,NEPA_cost_cl,2),0))","v":0},"Included only for high cost estimates, unless assumption \"include_NEPA\" is changed on CDA sheet"]
["Total permit cost","permit_cost",{"$f":"SUM(C82:C86)","v":265.25}]
[]
["Construction Management and General Contractor Job Overhead"]
["Builder's risk insurance percentage",null,{"$f":"br_ins_pct*direct_cost","v":1228.4102934719458}]
["Performance bond cost",null,{"$f":"include_bond*(VLOOKUP(direct_cost,performance_bond_table_cl,3)+VLOOKUP(direct_cost,performance_bond_table_cl,4)*(direct_cost-VLOOKUP(direct_cost,performance_bond_table_cl,5)))","v":6419.457177082114},null,"Bracket determined from direct capital cost"]
["Construction management percentage",null,{"$f":"VLOOKUP(direct_cost,construction_mgt_table_cl,3)","v":0.06},null,"Looked up from direct capital cost"]
["Construction management fee",null,{"$f":"IF(AND(design_type=1,ss_cat2=1),include_cm_pre,include_cm)*C92*direct_cost","v":0}]
["Total construction management/job overhead cost","cm_cost",{"$f":"SUM(C90:C91,C93)","v":7647.8674705540598}]

{"sheet":"Standard Inputs","index":17,"n_rows":83,"n_cols":54,"rows_kept":83,"cut":false,"hidden":false,"merged":[[6,52,6,53],[5,0,5,2],[5,31,5,34],[5,42,5,50],[5,21,5,23],[5,3,5,6],[5,17,5,20],[5,35,5,41],[5,7,5,12],[5,13,5,15],[5,28,5,30],[5,24,5,27]]}
["Standard Designs"]
["Default inputs represent typical options used to generate national average compliance costs."]
[]
[]
[]
["Design Indices",null,null,"System Size",null,null,null,"Electron Donor Inputs",null,null,null,null,null,"Nutrient Inputs",null,null,"EBCT","Bioreactor Vessel Inputs",null,null,null,"Gravity Bioreactor Design",null,null,"Post-Treatment Options",null,null,null,"Gravity Polishing Filter",null,null,"Pressure Polishing Filter",null,null,null,"Residuals",null,null,null,null,null,null,"Optional"]
["Contaminant Selection","Design Type","Design #","Design flow","Design Flow Units","Average Flow","Average flow units","Electron Donor Type","Electron Donor dose (mg/l)","Biomass Generation","Influent Perchlorate Conc","Influent DO Conc","Influent Nitrate Conc","Nutrient Options","Ammonium chloride dose","Phosphoric acid dose","EBCT","Bed Depth","Vessel Geometry","Height or Length","Diameter","Basin Width","Basin Length","Bed Depth","Post-Treatment Oxidation Option","Include GAC Filtration Post-Treatment Filters","Polishing Filter Type","Incude Coagulant Addition","Basin Width","Basin Length","Bed depth","Static Bed Depth","Vessel geometry","Height (straight)","Diameter","Interval between bioreactor backwashes","Interval between filter backwashes","Include Air Scour","Discharge option for spent backwash","Holding tank for spent backwash","Solids treatment/storage","Characteristics of spent solids","Number of Booster Pumps","Number of Redundant Units","Backwash pumping","Backwash storage","Component level","System Automation","Include buildings?","Include HVAC?","Include land?","Contaminant and design type","Internal Use"]
[null,null,null,"design_flow_I","df_units","average_flow_I","af_units","e_donor_type_I","e_donor_dose_I","biomass_I","ClO4_in","O2_in","NO3_in","nutrient_option_I","NH4Cl_dose_I","H3PO4_dose_I","ebct_I","bed_depth","tank_geom_I","comm_height_length","comm_diam","basin_width","basin_length","basin_op_depth","include_post_h2o2_I","include_post_I","filter_type_I","include_coag_filt_I","filt_basin_width","filt_basin_length","filt_basin_op_depth","filt_bed_depth","filt_tank_geom_I","filt_comm_height_length","filt_comm_diam","back_interval_I","filter_back_interval_I","air_scour_I","res_s2_opt_I","res_s1_opt_I","sed_sludge_method_I","solids_haz_I","lines_pump_I","NRD_I","no_backwash_I","no_back_tank_I","component_level_I","manual_I","include_buildings_I","include_HVAC_I","include_land_I"]
[1,1,1,0.03,"MGD",7.0000000000000001E-3,"MGD","acetic acid",10,8,null,null,null,"additional phosphorous required",null,1,12,3.5,"upright",6.5,2.5,null,null,null,"aeration","yes","gravity basin","yes",3,3,3.1,null,null,null,null,24,36,"yes","recycle","holding tank","none","non-hazardous",null,null,null,null,null,"fully automated",null,null,null,"Perchlorate, fixed bed pressure",{"$f":"AND(A9=inp_usersel,D9:AY9=inp_used)","v":true},{"$f":"AND(D9:G9=inp_used_minimal,A9=inp_usersel)","v":true}]
[1,1,2,0.124,"MGD",3.5000000000000003E-2,"MGD","acetic acid",10,8,null,null,null,"additional phosphorous required",null,1,12,3.6,"upright",6.5,7,null,null,null,"aeration","yes","gravity basin","yes",3.5,3.5,4.7,null,null,null,null,24,36,"yes","recycle","holding tank","none","non-hazardous",null,null,null,null,null,"fully automated",null,null,null,null,{"$f":"AND(A10=inp_usersel,D10:AY10=inp_used)","v":false},{"$f":"AND(D10:G10=inp_used_minimal,A10=inp_usersel)","v":false}]
[1,1,3,0.30499999999999999,"MGD",9.4E-2,"MGD","acetic acid",10,8,null,null,null,"additional phosphorous required",null,1,12,3.9,"upright",7,7.5,null,null,null,"aeration","yes","gravity basin","yes",5.5,5.5,4.7,null,null,null,null,24,36,"yes","recycle","holding tank","none","non-hazardous",null,null,null,null,null,"fully automated",null,null,null,null,{"$f":"AND(A11=inp_usersel,D11:AY11=inp_used)","v":false},{"$f":"AND(D11:G11=inp_used_minimal,A11=inp_usersel)","v":false}]
[1,1,4,0.74,"MGD",0.251,"MGD","acetic acid",10,8,null,null,null,"additional phosphorous required",null,1,12,4,"upright",7,11.5,null,null,null,"aeration","yes","gravity basin","yes",8.5,8.5,4.8,null,null,null,null,24,36,"yes","recycle","holding tank","none","non-hazardous",null,null,null,null,null,"fully automated",null,null,null,null,{"$f":"AND(A12=inp_usersel,D12:AY12=inp_used)","v":false},{"$f":"AND(D12:G12=inp_used_minimal,A12=inp_usersel)","v":false}]
[1,1,5,2.1520000000000001,"MGD",0.81899999999999995,"MGD","acetic acid",10,8,null,null,null,"additional phosphorous required",null,1,12,4.9000000000000004,"upright",8.5,12.5,null,null,null,"aeration","yes","gravity basin","yes",8.5,8.5,7,null,null,null,null,24,36,"yes","recycle","holding tank","none","non-hazardous",null,null,null,null,null,"fully automated",null,null,null,null,{"$f":"AND(A13=inp_usersel,D13:AY13=inp_used)","v":false},{"$f":"AND(D13:G13=inp_used_minimal,A13=inp_usersel)","v":false}]
[1,1,6,7.3650000000000002,"MGD",3.2,"MGD","acetic acid",10,8,null,null,null,"additional phosphorous required",null,1,12,4.9000000000000004,"horizontal",21,11.5,null,null,null,"aeration","yes","gravity basin","yes",12,12,6.8,null,null,null,null,24,36,"yes","recycle","holding tank","none","non-hazardous",null,null,null,null,null,"fully automated",null,null,null,null,{"$f":"AND(A14=inp_usersel,D14:AY14=inp_used)","v":false},{"$f":"AND(D14:G14=inp_used_minimal,A14=inp_usersel)","v":false}]
[1,1,7,22.614000000000001,"MGD",11.066000000000001,"MGD","acetic acid",10,8,null,null,null,"additional phosphorous required",null,1,12,5,"horizontal",26,11.5,null,null,null,"aeration","yes","gravity basin","yes",12.5,12.5,9,null,null,null,null,24,36,"yes","recycle","holding tank","none","non-hazardous",null,null,null,null,null,"fully automated",null,null,null,null,{"$f":"AND(A15=inp_usersel,D15:AY15=inp_used)","v":false},{"$f":"AND(D15:G15=inp_used_minimal,A15=inp_usersel)","v":false}]
[1,1,8,75.072000000000003,"MGD",37.536000000000001,"MGD","acetic acid",10,8,null,null,null,"additional phosphorous required",null,1,12,5,"horizontal",29,11.5,null,null,null,"aeration","yes","gravity basin","yes",21,21,8,null,null,null,null,24,36,"yes","recycle","holding tank","none","non-hazardous",null,null,null,null,null,"fully automated",null,null,null,null,{"$f":"AND(A16=inp_usersel,D16:AY16=inp_used)","v":false},{"$f":"AND(D16:G16=inp_used_minimal,A16=inp_usersel)","v":false}]
[1,2,1,0.03,"MGD",7.0000000000000001E-3,"MGD","acetic acid",10,8,null,null,null,"additional phosphorous required",null,1,12,null,null,null,null,3,3,3.8,"aeration","yes","gravity basin","yes",3,3,3.1,null,null,null,null,24,36,"yes","recycle","holding tank","none","non-hazardous",null,null,null,null,null,"fully automated",null,null,null,"Perchlorate, fixed bed gravity",{"$f":"AND(A17=inp_usersel,D17:AY17=inp_used)","v":false},{"$f":"AND(D17:G17=inp_used_minimal,A17=inp_usersel)","v":true}]
[1,2,2,0.124,"MGD",3.5000000000000003E-2,"MGD","acetic acid",10,8,null,null,null,"additional phosphorous required",null,1,12,null,null,null,null,4,4,4.4000000000000004,"aeration","yes","gravity basin","yes",3.5,3.5,4.7,null,null,null,null,24,36,"yes","recycle","holding tank","none","non-hazardous",null,null,null,null,null,"fully automated",null,null,null,null,{"$f":"AND(A18=inp_usersel,D18:AY18=inp_used)","v":false},{"$f":"AND(D18:G18=inp_used_minimal,A18=inp_usersel)","v":false}]
[1,2,3,0.30499999999999999,"MGD",9.4E-2,"MGD","acetic acid",10,8,null,null,null,"additional phosphorous required",null,1,12,null,null,null,null,6,6,4.8,"aeration","yes","gravity basin","yes",5.5,5.5,4.7,null,null,null,null,24,36,"yes","recycle","holding tank","none","non-hazardous",null,null,null,null,null,"fully automated",null,null,null,null,{"$f":"AND(A19=inp_usersel,D19:AY19=inp_used)","v":false},{"$f":"AND(D19:G19=inp_used_minimal,A19=inp_usersel)","v":false}]
[1,2,4,0.74,"MGD",0.251,"MGD","acetic acid",10,8,null,null,null,"additional phosphorous required",null,1,12,null,null,null,null,9.5,9.5,4.5999999999999996,"aeration","yes","gravity basin","yes",8.5,8.5,4.8,null,null,null,null,24,36,"yes","recycle","holding tank","none","non-hazardous",null,null,null,null,null,"fully automated",null,null,null,null,{"$f":"AND(A20=inp_usersel,D20:AY20=inp_used)","v":false},{"$f":"AND(D20:G20=inp_used_minimal,A20=inp_usersel)","v":false}]
[1,2,5,2.1520000000000001,"MGD",0.81899999999999995,"MGD","acetic acid",10,8,null,null,null,"additional phosphorous required",null,1,12,null,null,null,null,11,11,5,"aeration","yes","gravity basin","yes",8.5,8.5,7,null,null,null,null,24,36,"yes","recycle","holding tank","none","non-hazardous",null,null,null,null,null,"fully automated",null,null,null,null,{"$f":"AND(A21=inp_usersel,D21:AY21=inp_used)","v":false},{"$f":"AND(D21:G21=inp_used_minimal,A21=inp_usersel)","v":false}]
[1,2,6,7.3650000000000002,"MGD",3.2,"MGD","acetic acid",10,8,null,null,null,"additional phosphorous required",null,1,12,null,null,null,null,30,30,9.1999999999999993,"aeration","yes","gravity basin","yes",14,14,7,null,null,null,null,24,36,"yes","recycle","holding tank","none","non-hazardous",null,null,null,null,null,"fully automated",null,null,null,null,{"$f":"AND(A22=inp_usersel,D22:AY22=inp_used)","v":false},{"$f":"AND(D22:G22=inp_used_minimal,A22=inp_usersel)","v":false}]
[1,2,7,22.614000000000001,"MGD",11.066000000000001,"MGD","acetic acid",10,8,null,null,null,"additional phosphorous required",null,1,12,null,null,null,null,30,30,9.4,"aeration","yes","gravity basin","yes",18.5,18.5,8.8000000000000007,null,null,null,null,24,36,"yes","recycle","holding tank","none","non-hazardous",null,null,null,null,null,"fully automated",null,null,null,null,{"$f":"AND(A23=inp_usersel,D23:AY23=inp_used)","v":false},{"$f":"AND(D23:G23=inp_used_minimal,A23=inp_usersel)","v":false}]
[1,2,8,75.072000000000003,"MGD",37.536000000000001,"MGD","acetic acid",10,8,null,null,null,"additional phosphorous required",null,1,12,null,null,null,null,30,30,9.3000000000000007,"aeration","yes","gravity basin","yes",24.5,24.5,9,null,null,null,null,24,36,"yes","recycle","holding tank","none","non-hazardous",null,null,null,null,null,"fully automated",null,null,null,null,{"$f":"AND(A24=inp_usersel,D24:AY24=inp_used)","v":false},{"$f":"AND(D24:G24=inp_used_minimal,A24=inp_usersel)","v":false}]
[1,3,1,0.03,"MGD",7.0000000000000001E-3,"MGD","acetic acid",10,8,null,null,null,"additional phosphorous required",null,1,12,2.8,"upright",9,3,null,null,null,"aeration","yes","gravity basin","yes",3,3,3.1,null,null,null,null,null,36,"yes","recycle","holding tank","none","non-hazardous",null,null,null,null,null,"fully automated",null,null,null,"Perchlorate, fluidized bed",{"$f":"AND(A25=inp_usersel,D25:AY25=inp_used)","v":false},{"$f":"AND(D25:G25=inp_used_minimal,A25=inp_usersel)","v":true}]
[1,3,2,0.124,"MGD",3.5000000000000003E-2,"MGD","acetic acid",10,8,null,null,null,"additional phosphorous required",null,1,12,2.6,"upright",8.5,4.5,null,null,null,"aeration","yes","gravity basin","yes",3.5,3.5,4.7,null,null,null,null,null,36,"yes","recycle","holding tank","none","non-hazardous",null,null,null,null,null,"fully automated",null,null,null,null,{"$f":"AND(A26=inp_usersel,D26:AY26=inp_used)","v":false},{"$f":"AND(D26:G26=inp_used_minimal,A26=inp_usersel)","v":false}]
[1,3,3,0.30499999999999999,"MGD",9.4E-2,"MGD","acetic acid",10,8,null,null,null,"additional phosphorous required",null,1,12,2.9,"upright",9,6,null,null,null,"aeration","yes","gravity basin","yes",5.5,5.5,4.7,null,null,null,null,null,36,"yes","recycle","holding tank","none","non-hazardous",null,null,null,null,null,"fully automated",null,null,null,null,{"$f":"AND(A27=inp_usersel,D27:AY27=inp_used)","v":false},{"$f":"AND(D27:G27=inp_used_minimal,A27=inp_usersel)","v":false}]
[1,3,4,0.74,"MGD",0.251,"MGD","acetic acid",10,8,null,null,null,"additional phosphorous required",null,1,12,2.9,"upright",9,8.5,null,null,null,"aeration","yes","gravity basin","yes",8.5,8.5,4.8,null,null,null,null,null,36,"yes","recycle","holding tank","none","non-hazardous",null,null,null,null,null,"fully automated",null,null,null,null,{"$f":"AND(A28=inp_usersel,D28:AY28=inp_used)","v":false},{"$f":"AND(D28:G28=inp_used_minimal,A28=inp_usersel)","v":false}]
[1,3,5,2.1520000000000001,"MGD",0.81899999999999995,"MGD","acetic acid",10,8,null,null,null,"additional phosphorous required",null,1,12,5.8,"upright",17,12.5,null,null,null,"aeration","yes","gravity basin","yes",8.5,8.5,7,null,null,null,null,null,36,"yes","recycle","holding tank","none","non-hazardous",null,null,null,null,null,"fully automated",null,null,null,null,{"$f":"AND(A29=inp_usersel,D29:AY29=inp_used)","v":false},{"$f":"AND(D29:G29=inp_used_minimal,A29=inp_usersel)","v":false}]
[1,3,6,7.3650000000000002,"MGD",3.2,"MGD","acetic acid",10,8,null,null,null,"additional phosphorous required",null,1,12,5.7,"upright",17,13.5,null,null,null,"aeration","yes","gravity basin","yes",13,13,6.8,null,null,null,null,null,36,"yes","recycle","holding tank","none","non-hazardous",null,null,null,null,null,"fully automated",null,null,null,null,{"$f":"AND(A30=inp_usersel,D30:AY30=inp_used)","v":false},{"$f":"AND(D30:G30=inp_used_minimal,A30=inp_usersel)","v":false}]
[1,3,7,22.614000000000001,"MGD",11.066000000000001,"MGD","acetic acid",10,8,null,null,null,"additional phosphorous required",null,1,12,5.8,"upright",17,13.5,null,null,null,"aeration","yes","gravity basin","yes",13,13,8.9,null,null,null,null,null,36,"yes","recycle","holding tank","none","non-hazardous",null,null,null,null,null,"fully automated",null,null,null,null,{"$f":"AND(A31=inp_usersel,D31:AY31=inp_used)","v":false},{"$f":"AND(D31:G31=inp_used_minimal,A31=inp_usersel)","v":false}]
[1,3,8,75.072000000000003,"MGD",37.536000000000001,"MGD","acetic acid",10,8,null,null,null,"additional phosphorous required",null,1,12,5.8,"upright",17,14,null,null,null,"aeration","yes","gravity basin","yes",24.5,24.5,9,null,null,null,null,null,36,"yes","recycle","holding tank","none","non-hazardous",null,null,null,null,null,"fully automated",null,null,null,null,{"$f":"AND(A32=inp_usersel,D32:AY32=inp_used)","v":false},{"$f":"AND(D32:G32=inp_used_minimal,A32=inp_usersel)","v":false}]
[2,1,1,0.03,"MGD",7.0000000000000001E-3,"MGD","acetic acid",10,8,0,null,null,"additional phosphorous required",null,1,10,2.9,"upright",5.5,2.5,null,null,null,"aeration","yes","gravity basin","yes",3,3,3.1,null,null,null,null,24,36,"yes","recycle","holding tank","none","non-hazardous",null,null,null,null,null,"fully automated",null,null,null,"Nitrate, fixed bed pressure",{"$f":"AND(A33=inp_usersel,D33:AY33=inp_used)","v":false},{"$f":"AND(D33:G33=inp_used_minimal,A33=inp_usersel)","v":false}]
[2,1,2,0.124,"MGD",3.5000000000000003E-2,"MGD","acetic acid",10,8,0,null,null,"additional phosphorous required",null,1,10,3.5,"upright",6.5,6.5,null,null,null,"aeration","yes","gravity basin","yes",3.5,3.5,4.7,null,null,null,null,24,36,"yes","recycle","holding tank","none","non-hazardous",null,null,null,null,null,"fully automated",null,null,null,null,{"$f":"AND(A34=inp_usersel,D34:AY34=inp_used)","v":false},{"$f":"AND(D34:G34=inp_used_minimal,A34=inp_usersel)","v":false}]
[2,1,3,0.30499999999999999,"MGD",9.4E-2,"MGD","acetic acid",10,8,0,null,null,"additional phosphorous required",null,1,10,3.7,"upright",7,7,null,null,null,"aeration","yes","gravity basin","yes",5.5,5.5,4.7,null,null,null,null,24,36,"yes","recycle","holding tank","none","non-hazardous",null,null,null,null,null,"fully automated",null,null,null,null,{"$f":"AND(A35=inp_usersel,D35:AY35=inp_used)","v":false},{"$f":"AND(D35:G35=inp_used_minimal,A35=inp_usersel)","v":false}]
[2,1,4,0.74,"MGD",0.251,"MGD","acetic acid",10,8,0,null,null,"additional phosphorous required",null,1,10,4,"upright",7,10.5,null,null,null,"aeration","yes","gravity basin","yes",8.5,8.5,4.8,null,null,null,null,24,36,"yes","recycle","holding tank","none","non-hazardous",null,null,null,null,null,"fully automated",null,null,null,null,{"$f":"AND(A36=inp_usersel,D36:AY36=inp_used)","v":false},{"$f":"AND(D36:G36=inp_used_minimal,A36=inp_usersel)","v":false}]
[2,1,5,2.1520000000000001,"MGD",0.81899999999999995,"MGD","acetic acid",10,8,0,null,null,"additional phosphorous required",null,1,10,4.7,"upright",8.5,13.5,null,null,null,"aeration","yes","gravity basin","yes",8.5,8.5,7,null,null,null,null,24,36,"yes","recycle","holding tank","none","non-hazardous",null,null,null,null,null,"fully automated",null,null,null,null,{"$f":"AND(A37=inp_usersel,D37:AY37=inp_used)","v":false},{"$f":"AND(D37:G37=inp_used_minimal,A37=inp_usersel)","v":false}]
[2,1,6,7.3650000000000002,"MGD",3.2,"MGD","acetic acid",10,8,0,null,null,"additional phosphorous required",null,1,10,5,"horizontal",20,11.5,null,null,null,"aeration","yes","gravity basin","yes",12,12,6.8,null,null,null,null,24,36,"yes","recycle","holding tank","none","non-hazardous",null,null,null,null,null,"fully automated",null,null,null,null,{"$f":"AND(A38=inp_usersel,D38:AY38=inp_used)","v":false},{"$f":"AND(D38:G38=inp_used_minimal,A38=inp_usersel)","v":false}]
[2,1,7,22.614000000000001,"MGD",11.066000000000001,"MGD","acetic acid",10,8,0,null,null,"additional phosphorous required",null,1,10,4.9000000000000004,"horizontal",27,11.5,null,null,null,"aeration","yes","gravity basin","yes",12.5,12.5,9,null,null,null,null,24,36,"yes","recycle","holding tank","none","non-hazardous",null,null,null,null,null,"fully automated",null,null,null,null,{"$f":"AND(A39=inp_usersel,D39:AY39=inp_used)","v":false},{"$f":"AND(D39:G39=inp_used_minimal,A39=inp_usersel)","v":false}]
[2,1,8,75.072000000000003,"MGD",37.536000000000001,"MGD","acetic acid",10,8,0,null,null,"additional phosphorous required",null,1,10,5,"horizontal",29,11.5,null,null,null,"aeration","yes","gravity basin","yes",21.5,21.5,8.9,null,null,null,null,24,36,"yes","recycle","holding tank","none","non-hazardous",null,null,null,null,null,"fully automated",null,null,null,null,{"$f":"AND(A40=inp_usersel,D40:AY40=inp_used)","v":false},{"$f":"AND(D40:G40=inp_used_minimal,A40=inp_usersel)","v":false}]
[2,2,1,0.03,"MGD",7.0000000000000001E-3,"MGD","acetic acid",10,8,0,null,null,"additional phosphorous required",null,1,10,null,null,null,null,3,3,3.1,"aeration","yes","gravity basin","yes",3,3,3.1,null,null,null,null,24,36,"yes","recycle","holding tank","none","non-hazardous",null,null,null,null,null,"fully automated",null,null,null,"Nitrate, fixed bed gravity",{"$f":"AND(A41=inp_usersel,D41:AY41=inp_used)","v":false},{"$f":"AND(D41:G41=inp_used_minimal,A41=inp_usersel)","v":false}]
[2,2,2,0.124,"MGD",3.5000000000000003E-2,"MGD","acetic acid",10,8,0,null,null,"additional phosphorous required",null,1,10,null,null,null,null,3.5,3.5,4.7,"aeration","yes","gravity basin","yes",3.5,3.5,4.7,null,null,null,null,24,36,"yes","recycle","holding tank","none","non-hazardous",null,null,null,null,null,"fully automated",null,null,null,null,{"$f":"AND(A42=inp_usersel,D42:AY42=inp_used)","v":false},{"$f":"AND(D42:G42=inp_used_minimal,A42=inp_usersel)","v":false}]
[2,2,3,0.30499999999999999,"MGD",9.4E-2,"MGD","acetic acid",10,8,0,null,null,"additional phosphorous required",null,1,10,null,null,null,null,5.5,5.5,4.7,"aeration","yes","gravity basin","yes",5.5,5.5,4.7,null,null,null,null,24,36,"yes","recycle","holding tank","none","non-hazardous",null,null,null,null,null,"fully automated",null,null,null,null,{"$f":"AND(A43=inp_usersel,D43:AY43=inp_used)","v":false},{"$f":"AND(D43:G43=inp_used_minimal,A43=inp_usersel)","v":false}]
[2,2,4,0.74,"MGD",0.251,"MGD","acetic acid",10,8,0,null,null,"additional phosphorous required",null,1,10,null,null,null,null,8.5,8.5,4.8,"aeration","yes","gravity basin","yes",8.5,8.5,4.8,null,null,null,null,24,36,"yes","recycle","holding tank","none","non-hazardous",null,null,null,null,null,"fully automated",null,null,null,null,{"$f":"AND(A44=inp_usersel,D44:AY44=inp_used)","v":false},{"$f":"AND(D44:G44=inp_used_minimal,A44=inp_usersel)","v":false}]
[2,2,5,2.1520000000000001,"MGD",0.81899999999999995,"MGD","acetic acid",10,8,0,null,null,"additional phosphorous required",null,1,10,null,null,null,null,10,10,5,"aeration","yes","gravity basin","yes",8.5,8.5,7,null,null,null,null,24,36,"yes","recycle","holding tank","none","non-hazardous",null,null,null,null,null,"fully automated",null,null,null,null,{"$f":"AND(A45=inp_usersel,D45:AY45=inp_used)","v":false},{"$f":"AND(D45:G45=inp_used_minimal,A45=inp_usersel)","v":false}]
[2,2,6,7.3650000000000002,"MGD",3.2,"MGD","acetic acid",10,8,0,null,null,"additional phosphorous required",null,1,10,null,null,null,null,14,14,5,"aeration","yes","gravity basin","yes",12,12,6.8,null,null,null,null,24,36,"yes","recycle","holding tank","none","non-hazardous",null,null,null,null,null,"fully automated",null,null,null,null,{"$f":"AND(A46=inp_usersel,D46:AY46=inp_used)","v":false},{"$f":"AND(D46:G46=inp_used_minimal,A46=inp_usersel)","v":false}]
[2,2,7,22.614000000000001,"MGD",11.066000000000001,"MGD","acetic acid",10,8,0,null,null,"additional phosphorous required",null,1,10,null,null,null,null,30,30,7.8,"aeration","yes","gravity basin","yes",18.5,18.5,8.8000000000000007,null,null,null,null,24,36,"yes","recycle","holding tank","none","non-hazardous",null,null,null,null,null,"fully automated",null,null,null,null,{"$f":"AND(A47=inp_usersel,D47:AY47=inp_used)","v":false},{"$f":"AND(D47:G47=inp_used_minimal,A47=inp_usersel)","v":false}]
[2,2,8,75.072000000000003,"MGD",37.536000000000001,"MGD","acetic acid",10,8,0,null,null,"additional phosphorous required",null,1,10,null,null,null,null,30,30,9.6999999999999993,"aeration","yes","gravity basin","yes",30,30,9.6999999999999993,null,null,null,null,24,36,"yes","recycle","holding tank","none","non-hazardous",null,null,null,null,null,"fully automated",null,null,null,null,{"$f":"AND(A48=inp_usersel,D48:AY48=inp_used)","v":false},{"$f":"AND(D48:G48=inp_used_minimal,A48=inp_usersel)","v":false}]
[2,3,1,0.03,"MGD",7.0000000000000001E-3,"MGD","acetic acid",10,8,0,null,null,"additional phosphorous required",null,1,10,2.4,"upright",8.5,3,null,null,null,"aeration","yes","gravity basin","yes",3,3,3.1,null,null,null,null,null,36,"yes","recycle","holding tank","none","non-hazardous",null,null,null,null,null,"fully automated",null,null,null,"Nitrate, fluidized bed",{"$f":"AND(A49=inp_usersel,D49:AY49=inp_used)","v":false},{"$f":"AND(D49:G49=inp_used_minimal,A49=inp_usersel)","v":false}]
[2,3,2,0.124,"MGD",3.5000000000000003E-2,"MGD","acetic acid",10,8,0,null,null,"additional phosphorous required",null,1,10,2.7,"upright",9,5.5,null,null,null,"aeration","yes","gravity basin","yes",3.5,3.5,4.7,null,null,null,null,null,36,"yes","recycle","holding tank","none","non-hazardous",null,null,null,null,null,"fully automated",null,null,null,null,{"$f":"AND(A50=inp_usersel,D50:AY50=inp_used)","v":false},{"$f":"AND(D50:G50=inp_used_minimal,A50=inp_usersel)","v":false}]
[2,3,3,0.30499999999999999,"MGD",9.4E-2,"MGD","acetic acid",10,8,0,null,null,"additional phosphorous required",null,1,10,3,"upright",9.5,8.5,null,null,null,"aeration","yes","gravity basin","yes",5.5,5.5,4.7,null,null,null,null,null,36,"yes","recycle","holding tank","none","non-hazardous",null,null,null,null,null,"fully automated",null,null,null,null,{"$f":"AND(A51=inp_usersel,D51:AY51=inp_used)","v":false},{"$f":"AND(D51:G51=inp_used_minimal,A51=inp_usersel)","v":false}]
[2,3,4,0.74,"MGD",0.251,"MGD","acetic acid",10,8,0,null,null,"additional phosphorous required",null,1,10,2.9,"upright",9,9.5,null,null,null,"aeration","yes","gravity basin","yes",8.5,8.5,4.8,null,null,null,null,null,36,"yes","recycle","holding tank","none","non-hazardous",null,null,null,null,null,"fully automated",null,null,null,null,{"$f":"AND(A52=inp_usersel,D52:AY52=inp_used)","v":false},{"$f":"AND(D52:G52=inp_used_minimal,A52=inp_usersel)","v":false}]
[2,3,5,2.1520000000000001,"MGD",0.81899999999999995,"MGD","acetic acid",10,8,0,null,null,"additional phosphorous required",null,1,10,5.7,"upright",17,11.5,null,null,null,"aeration","yes","gravity basin","yes",8.5,8.5,7,null,null,null,null,null,36,"yes","recycle","holding tank","none","non-hazardous",null,null,null,null,null,"fully automated",null,null,null,null,{"$f":"AND(A53=inp_usersel,D53:AY53=inp_used)","v":false},{"$f":"AND(D53:G53=inp_used_minimal,A53=inp_usersel)","v":false}]
[2,3,6,7.3650000000000002,"MGD",3.2,"MGD","acetic acid",10,8,0,null,null,"additional phosphorous required",null,1,10,5.5,"upright",16.5,12.5,null,null,null,"aeration","yes","gravity basin","yes",13,13,6.8,null,null,null,null,null,36,"yes","recycle","holding tank","none","non-hazardous",null,null,null,null,null,"fully automated",null,null,null,null,{"$f":"AND(A54=inp_usersel,D54:AY54=inp_used)","v":false},{"$f":"AND(D54:G54=inp_used_minimal,A54=inp_usersel)","v":false}]
[2,3,7,22.614000000000001,"MGD",11.066000000000001,"MGD","acetic acid",10,8,0,null,null,"additional phosphorous required",null,1,10,5.8,"upright",17,14,null,null,null,"aeration","yes","gravity basin","yes",13,13,8.9,null,null,null,null,null,36,"yes","recycle","holding tank","none","non-hazardous",null,null,null,null,null,"fully automated",null,null,null,null,{"$f":"AND(A55=inp_usersel,D55:AY55=inp_used)","v":false},{"$f":"AND(D55:G55=inp_used_minimal,A55=inp_usersel)","v":false}]
[2,3,8,75.072000000000003,"MGD",37.536000000000001,"MGD","acetic acid",10,8,0,null,null,"additional phosphorous required",null,1,10,5.8,"upright",17,14,null,null,null,"aeration","yes","gravity basin","yes",30,30,9.6999999999999993,null,null,null,null,null,36,"yes","recycle","holding tank","none","non-hazardous",null,null,null,null,null,"fully automated",null,null,null,null,{"$f":"AND(A56=inp_usersel,D56:AY56=inp_used)","v":false},{"$f":"AND(D56:G56=inp_used_minimal,A56=inp_usersel)","v":false}]
[3,1,1,0.03,"MGD",7.0000000000000001E-3,"MGD",null,null,null,null,null,null,null,null,null,null,null,null,null,null,null,null,null,null,null,null,null,null,null,null,null,null,null,null,null,null,null,null,null,null,null,null,null,null,null,null,"fully automated",null,null,null,"Other, fixed bed pressure",{"$f":"AND(A57=inp_usersel,D57:AY57=inp_used)","v":false},{"$f":"AND(D57:G57=inp_used_minimal,A57=inp_usersel)","v":false}]
[3,1,2,0.124,"MGD",3.5000000000000003E-2,"MGD",null,null,null,null,null,null,null,null,null,null,null,null,null,null,null,null,null,null,null,null,null,null,null,null,null,null,null,null,null,null,null,null,null,null,null,null,null,null,null,null,"fully automated",null,null,null,null,{"$f":"AND(A58=inp_usersel,D58:AY58=inp_used)","v":false},{"$f":"AND(D58:G58=inp_used_minimal,A58=inp_usersel)","v":false}]
[3,1,3,0.30499999999999999,"MGD",9.4E-2,"MGD",null,null,null,null,null,null,null,null,null,null,null,null,null,null,null,null,null,null,null,null,null,null,null,null,null,null,null,null,null,null,null,null,null,null,null,null,null,null,null,null,"fully automated",null,null,null,null,{"$f":"AND(A59=inp_usersel,D59:AY59=inp_used)","v":false},{"$f":"AND(D59:G59=inp_used_minimal,A59=inp_usersel)","v":false}]
[3,1,4,0.74,"MGD",0.251,"MGD",null,null,null,null,null,null,null,null,null,null,null,null,null,null,null,null,null,null,null,null,null,null,null,null,null,null,null,null,null,null,null,null,null,null,null,null,null,null,null,null,"fully automated",null,null,null,null,{"$f":"AND(A60=inp_usersel,D60:AY60=inp_used)","v":false},{"$f":"AND(D60:G60=inp_used_minimal,A60=inp_usersel)","v":false}]
[3,1,5,2.1520000000000001,"MGD",0.81899999999999995,"MGD",null,null,null,null,null,null,null,null,null,null,null,null,null,null,null,null,null,null,null,null,null,null,null,null,null,null,null,null,null,null,null,null,null,null,null,null,null,null,null,null,"fully automated",null,null,null,null,{"$f":"AND(A61=inp_usersel,D61:AY61=inp_used)","v":false},{"$f":"AND(D61:G61=inp_used_minimal,A61=inp_usersel)","v":false}]
[3,1,6,7.3650000000000002,"MGD",3.2,"MGD",null,null,null,null,null,null,null,null,null,null,null,null,null,null,null,null,null,null,null,null,null,null,null,null,null,null,null,null,null,null,null,null,null,null,null,null,null,null,null,null,"fully automated",null,null,null,null,{"$f":"AND(A62=inp_usersel,D62:AY62=inp_used)","v":false},{"$f":"AND(D62:G62=inp_used_minimal,A62=inp_usersel)","v":false}]
[3,1,7,22.614000000000001,"MGD",11.066000000000001,"MGD",null,null,null,null,null,null,null,null,null,null,null,null,null,null,null,null,null,null,null,null,null,null,null,null,null,null,null,null,null,null,null,null,null,null,null,null,null,null,null,null,"fully automated",null,null,null,null,{"$f":"AND(A63=inp_usersel,D63:AY63=inp_used)","v":false},{"$f":"AND(D63:G63=inp_used_minimal,A63=inp_usersel)","v":false}]
[3,1,8,75.072000000000003,"MGD",37.536000000000001,"MGD",null,null,null,null,null,null,null,null,null,null,null,null,null,null,null,null,null,null,null,null,null,null,null,null,null,null,null,null,null,null,null,null,null,null,null,null,null,null,null,null,"fully automated",null,null,null,null,{"$f":"AND(A64=inp_usersel,D64:AY64=inp_used)","v":false},{"$f":"AND(D64:G64=inp_used_minimal,A64=inp_usersel)","v":false}]
[3,2,1,0.03,"MGD",7.0000000000000001E-3,"MGD",null,null,null,null,null,null,null,null,null,null,null,null,null,null,null,null,null,null,null,null,null,null,null,null,null,null,null,null,null,null,null,null,null,null,null,null,null,null,null,null,"fully automated",null,null,null,"Other, fixed bed gravity",{"$f":"AND(A65=inp_usersel,D65:AY65=inp_used)","v":false},{"$f":"AND(D65:G65=inp_used_minimal,A65=inp_usersel)","v":false}]
[3,2,2,0.124,"MGD",3.5000000000000003E-2,"MGD",null,null,null,null,null,null,null,null,null,null,null,null,null,null,null,null,null,null,null,null,null,null,null,null,null,null,null,null,null,null,null,null,null,null,null,null,null,null,null,null,"fully automated",null,null,null,null,{"$f":"AND(A66=inp_usersel,D66:AY66=inp_used)","v":false},{"$f":"AND(D66:G66=inp_used_minimal,A66=inp_usersel)","v":false}]
[3,2,3,0.30499999999999999,"MGD",9.4E-2,"MGD",null,null,null,null,null,null,null,null,null,null,null,null,null,null,null,null,null,null,null,null,null,null,null,null,null,null,null,null,null,null,null,null,null,null,null,null,null,null,null,null,"fully automated",null,null,null,null,{"$f":"AND(A67=inp_usersel,D67:AY67=inp_used)","v":false},{"$f":"AND(D67:G67=inp_used_minimal,A67=inp_usersel)","v":false}]
[3,2,4,0.74,"MGD",0.251,"MGD",null,null,null,null,null,null,null,null,null,null,null,null,null,null,null,null,null,null,null,null,null,null,null,null,null,null,null,null,null,null,null,null,null,null,null,null,null,null,null,null,"fully automated",null,null,null,null,{"$f":"AND(A68=inp_usersel,D68:AY68=inp_used)","v":false},{"$f":"AND(D68:G68=inp_used_minimal,A68=inp_usersel)","v":false}]
[3,2,5,2.1520000000000001,"MGD",0.81899999999999995,"MGD",null,null,null,null,null,null,null,null,null,null,null,null,null,null,null,null,null,null,null,null,null,null,null,null,null,null,null,null,null,null,null,null,null,null,null,null,null,null,null,null,"fully automated",null,null,null,null,{"$f":"AND(A69=inp_usersel,D69:AY69=inp_used)","v":false},{"$f":"AND(D69:G69=inp_used_minimal,A69=inp_usersel)","v":false}]
[3,2,6,7.3650000000000002,"MGD",3.2,"MGD",null,null,null,null,null,null,null,null,null,null,null,null,null,null,null,null,null,null,null,null,null,null,null,null,null,null,null,null,null,null,null,null,null,null,null,null,null,null,null,null,"fully automated",null,null,null,null,{"$f":"AND(A70=inp_usersel,D70:AY70=inp_used)","v":false},{"$f":"AND(D70:G70=inp_used_minimal,A70=inp_usersel)","v":false}]
[3,2,7,22.614000000000001,"MGD",11.066000000000001,"MGD",null,null,null,null,null,null,null,null,null,null,null,null,null,null,null,null,null,null,null,null,null,null,null,null,null,null,null,null,null,null,null,null,null,null,null,null,null,null,null,null,"fully automated",null,null,null,null,{"$f":"AND(A71=inp_usersel,D71:AY71=inp_used)","v":false},{"$f":"AND(D71:G71=inp_used_minimal,A71=inp_usersel)","v":false}]
[3,2,8,75.072000000000003,"MGD",37.536000000000001,"MGD",null,null,null,null,null,null,null,null,null,null,null,null,null,null,null,null,null,null,null,null,null,null,null,null,null,null,null,null,null,null,null,null,null,null,null,null,null,null,null,null,"fully automated",null,null,null,null,{"$f":"AND(A72=inp_usersel,D72:AY72=inp_used)","v":false},{"$f":"AND(D72:G72=inp_used_minimal,A72=inp_usersel)","v":false}]
[3,3,1,0.03,"MGD",7.0000000000000001E-3,"MGD",null,null,null,null,null,null,null,null,null,null,null,null,null,null,null,null,null,null,null,null,null,null,null,null,null,null,null,null,null,null,null,null,null,null,null,null,null,null,null,null,"fully automated",null,null,null,"Other, fluidized bed",{"$f":"AND(A73=inp_usersel,D73:AY73=inp_used)","v":false},{"$f":"AND(D73:G73=inp_used_minimal,A73=inp_usersel)","v":false}]
[3,3,2,0.124,"MGD",3.5000000000000003E-2,"MGD",null,null,null,null,null,null,null,null,null,null,null,null,null,null,null,null,null,null,null,null,null,null,null,null,null,null,null,null,null,null,null,null,null,null,null,null,null,null,null,null,"fully automated",null,null,null,null,{"$f":"AND(A74=inp_usersel,D74:AY74=inp_used)","v":false},{"$f":"AND(D74:G74=inp_used_minimal,A74=inp_usersel)","v":false}]
[3,3,3,0.30499999999999999,"MGD",9.4E-2,"MGD",null,null,null,null,null,null,null,null,null,null,null,null,null,null,null,null,null,null,null,null,null,null,null,null,null,null,null,null,null,null,null,null,null,null,null,null,null,null,null,null,"fully automated",null,null,null,null,{"$f":"AND(A75=inp_usersel,D75:AY75=inp_used)","v":false},{"$f":"AND(D75:G75=inp_used_minimal,A75=inp_usersel)","v":false}]
[3,3,4,0.74,"MGD",0.251,"MGD",null,null,null,null,null,null,null,null,null,null,null,null,null,null,null,null,null,null,null,null,null,null,null,null,null,null,null,null,null,null,null,null,null,null,null,null,null,null,null,null,"fully automated",null,null,null,null,{"$f":"AND(A76=inp_usersel,D76:AY76=inp_used)","v":false},{"$f":"AND(D76:G76=inp_used_minimal,A76=inp_usersel)","v":false}]
[3,3,5,2.1520000000000001,"MGD",0.81899999999999995,"MGD",null,null,null,null,null,null,null,null,null,null,null,null,null,null,null,null,null,null,null,null,null,null,null,null,null,null,null,null,null,null,null,null,null,null,null,null,null,null,null,null,"fully automated",null,null,null,null,{"$f":"AND(A77=inp_usersel,D77:AY77=inp_used)","v":false},{"$f":"AND(D77:G77=inp_used_minimal,A77=inp_usersel)","v":false}]
[3,3,6,7.3650000000000002,"MGD",3.2,"MGD",null,null,null,null,null,null,null,null,null,null,null,null,null,null,null,null,null,null,null,null,null,null,null,null,null,null,null,null,null,null,null,null,null,null,null,null,null,null,null,null,"fully automated",null,null,null,null,{"$f":"AND(A78=inp_usersel,D78:AY78=inp_used)","v":false},{"$f":"AND(D78:G78=inp_used_minimal,A78=inp_usersel)","v":false}]
[3,3,7,22.614000000000001,"MGD",11.066000000000001,"MGD",null,null,null,null,null,null,null,null,null,null,null,null,null,null,null,null,null,null,null,null,null,null,null,null,null,null,null,null,null,null,null,null,null,null,null,null,null,null,null,null,"fully automated",null,null,null,null,{"$f":"AND(A79=inp_usersel,D79:AY79=inp_used)","v":false},{"$f":"AND(D79:G79=inp_used_minimal,A79=inp_usersel)","v":false}]
[3,3,8,75.072000000000003,"MGD",37.536000000000001,"MGD",null,null,null,null,null,null,null,null,null,null,null,null,null,null,null,null,null,null,null,null,null,null,null,null,null,null,null,null,null,null,null,null,null,null,null,null,null,null,null,null,"fully automated",null,null,null,null,{"$f":"AND(A80=inp_usersel,D80:AY80=inp_used)","v":false},{"$f":"AND(D80:G80=inp_used_minimal,A80=inp_usersel)","v":false}]
[]
[{"$f":"IF(LEN(contam)=0,\"\",contam)","v":1},{"$f":"IF(LEN(design_type)=0,\"\",design_type)","v":1},null,{"$f":"IF(LEN(design_flow_I)=0,\"\",design_flow_I)","v":0.03},{"$f":"IF(LEN(df_units)=0,\"\",df_units)","v":"MGD"},{"$f":"IF(LEN(average_flow_I)=0,\"\",average_flow_I)","v":7.0000000000000001E-3},{"$f":"IF(LEN(af_units)=0,\"\",af_units)","v":"MGD"},{"$f":"IF(LEN(e_donor_type_I)=0,\"\",e_donor_type_I)","v":"acetic acid"},{"$f":"IF(LEN(e_donor_dose_I)=0,\"\",e_donor_dose_I)","v":10},{"$f":"IF(LEN(biomass_I)=0,\"\",biomass_I)","v":8},{"$f":"IF(LEN(ClO4_in)=0,\"\",ClO4_in)","v":""},{"$f":"IF(LEN(O2_in)=0,\"\",O2_in)","v":""},{"$f":"IF(LEN(NO3_in)=0,\"\",NO3_in)","v":""},{"$f":"IF(LEN(nutrient_option_I)=0,\"\",nutrient_option_I)","v":"additional phosphorous required"},{"$f":"IF(LEN(NH4Cl_dose_I)=0,\"\",NH4Cl_dose_I)","v":""},{"$f":"IF(LEN(H3PO4_dose_I)=0,\"\",H3PO4_dose_I)","v":1},{"$f":"IF(LEN(ebct_I)=0,\"\",ebct_I)","v":12},{"$f":"IF(LEN(bed_depth)=0,\"\",bed_depth)","v":3.5},{"$f":"IF(LEN(tank_geom_I)=0,\"\",tank_geom_I)","v":"upright"},{"$f":"IF(LEN(comm_height_length)=0,\"\",comm_height_length)","v":6.5},{"$f":"IF(LEN(comm_diam)=0,\"\",comm_diam)","v":2.5},{"$f":"IF(LEN(basin_width)=0,\"\",basin_width)","v":""},{"$f":"IF(LEN(basin_length)=0,\"\",basin_length)","v":""},{"$f":"IF(LEN(basin_op_depth)=0,\"\",basin_op_depth)","v":""},{"$f":"IF(LEN(include_post_h2o2_I)=0,\"\",include_post_h2o2_I)","v":"aeration"},{"$f":"IF(LEN(include_post_I)=0,\"\",include_post_I)","v":"yes"},{"$f":"IF(LEN(filter_type_I)=0,\"\",filter_type_I)","v":"gravity basin"},{"$f":"IF(LEN(include_coag_filt_I)=0,\"\",include_coag_filt_I)","v":"yes"},{"$f":"IF(LEN(filt_basin_width)=0,\"\",filt_basin_width)","v":3},{"$f":"IF(LEN(filt_basin_length)=0,\"\",filt_basin_length)","v":3},{"$f":"IF(LEN(filt_basin_op_depth)=0,\"\",filt_basin_op_depth)","v":3.1},{"$f":"IF(LEN(filt_bed_depth)=0,\"\",filt_bed_depth)","v":""},{"$f":"IF(LEN(filt_tank_geom_I)=0,\"\",filt_tank_geom_I)","v":""},{"$f":"IF(LEN(filt_comm_height_length)=0,\"\",filt_comm_height_length)","v":""},{"$f":"IF(LEN(filt_comm_diam)=0,\"\",filt_comm_diam)","v":""},{"$f":"IF(LEN(back_interval_I)=0,\"\",back_interval_I)","v":24},{"$f":"IF(LEN(filter_back_interval_I)=0,\"\",filter_back_interval_I)","v":36},{"$f":"IF(LEN(air_scour_I)=0,\"\",air_scour_I)","v":"yes"},{"$f":"IF(LEN(res_s2_opt_I)=0,\"\",res_s2_opt_I)","v":"recycle"},{"$f":"IF(LEN(res_s1_opt_I)=0,\"\",res_s1_opt_I)","v":"holding tank"},{"$f":"IF(LEN(sed_sludge_method_I)=0,\"\",sed_sludge_method_I)","v":"none"},{"$f":"IF(LEN(solids_haz_I)=0,\"\",solids_haz_I)","v":"non-hazardous"},{"$f":"IF(LEN(lines_pump_I)=0,\"\",lines_pump_I)","v":""},{"$f":"IF(LEN(NRD_I)=0,\"\",NRD_I)","v":""},{"$f":"IF(LEN(no_backwash_I)=0,\"\",no_backwash_I)","v":""},{"$f":"IF(LEN(no_back_tank_I)=0,\"\",no_back_tank_I)","v":""},{"$f":"IF(LEN(component_level_I)=0,\"\",component_level_I)","v":""},{"$f":"IF(LEN(manual_I)=0,\"\",manual_I)","v":"fully automated"},{"$f":"IF(LEN(include_buildings_I)=0,\"\",include_buildings_I)","v":""},{"$f":"IF(LEN(include_HVAC_I)=0,\"\",include_HVAC_I)","v":""},{"$f":"IF(LEN(include_land_I)=0,\"\",include_land_I)","v":""},"<--current inputs"]
[null,null,null,0.03,"MGD",7.0000000000000001E-3,"MGD","acetic acid",10,8,null,null,null,"additional phosphorous required",null,1,12,3.5,"upright",6.5,2.5,null,null,null,"aeration","yes","gravity basin","yes",3,3,3.1,null,null,null,null,24,36,"yes","recycle","holding tank","none","non-hazardous",null,null,null,null,null,"fully automated",null,null,null,"<--inputs used at last \"Generate Results\"",{"$f":"AND(D83:AY83=inp_used)","v":true}]

{"sheet":"AutoSize","index":18,"n_rows":357,"n_cols":6,"rows_kept":357,"cut":false,"hidden":false,"merged":[]}
["Autosize"]
["This sheet is used internally by the Auto Size macro to iteratively select the lowest capital cost design meeting engineering constraints. "]
["This sheet is used only if the Auto Size button is clicked.  Advanced users may adjust the automated sizing procedure following the guidance below."]
["Bold blue cells are copied to the input sheet"]
["Bold gold cells are inputs to the sizing procedure"]
[]
["BIOREACTOR PRESSURE VESSELS"]
[]
["Input Parameters"]
["design flow rate",null,{"$f":"design_flow_rate","v":20.833333333333332},"gpm"]
["EBCT per line",null,{"$f":"EBCT","v":12},"min"]
["EBCT per vessel",null,{"$f":"EBCT_tank","v":12},"min"]
["Total Vessel Media Volume","comp_vol_required_stg1",{"$f":"design_flow_rate*EBCT_tank/7.48","v":33.422459893048128},"ft^3","volume of media in first-stage vessels"]
["Round surface area?","comp_round_sa",0,null,"<--Enter 1 to design for rounding on vessel design sheet, 0 otherwise"]
["minimum surface area","comp_sa_min",{"$f":"design_flow_rate/load_max","v":2.083333333333333},"ft^2","to reach maximum loading rate"]
["maximum surface area","comp_sa_max",{"$f":"design_flow_rate/load_min","v":20.833333333333332},"ft^2","to reach minimum loading rate"]
["required volume","comp_vol_required",{"$f":"design_flow_rate*EBCT/7.481","v":33.417992247025801},"ft^3","volume of media or fluidized bed in vessels"]
[]
["Vertical design search"]
["max media volume, vertical vessel","comp_vert_max_media",{"$f":"(comp_max_vert_diam/2-Vessel_thickness)*(comp_max_vert_diam/2-Vessel_thickness)*PI()*comp_max_vert_bed_depth","v":115.45353001942489},"ft^3","based on guidance and CDAs for max dimensions"]
["max surface area, vertical vessel","comp_vert_max_sa",{"$f":"(max_diam/2-Vessel_thickness)*(max_diam/2-Vessel_thickness)*PI()","v":153.93804002589985},"ft^2","based on max_diam CDA"]
["target bed depth","comp_target_bed_depth_vert",{"$f":"IF(design_type=1,IF(design_flow_I<=1,target_bed_depth_under,target_bed_depth_over),IF(design_type=3,IF(design_flow_I<=1,target_bed_depth_under_fluid,target_bed_depth_over_fluid),0))","v":4},"ft","based on target bed depth CDA"]
["total vessel surface area","comp_sa_required_vert",{"$f":"comp_vol_required_stg1/comp_target_bed_depth_vert","v":8.355614973262032},"ft^2","based upon  media volume and bed depth"]
["min number of lines, vertical vessels:",null,null,null,"below this number of lines, we are constrained to horizontal vessels"]
["based on surface area from max load",null,{"$f":"comp_sa_min/comp_vert_max_sa","v":1.3533583596249604E-2}]
["based on surface area from bed depth",null,{"$f":"comp_sa_required_vert/comp_vert_max_sa","v":5.4279078594583974E-2}]
["based on media volume",null,{"$f":"comp_vol_required_stg1/comp_vert_max_media","v":0.28948841917111456}]
["min number of lines","comp_vert_min_number",{"$f":"MAX(C25:C27)","v":0.28948841917111456},null,"strictest of the above minima"]
[]
["Horizontal design search"]
["max total vessel volume","comp_max_vol",{"$f":"MAX(comp_pv_max_sizes)","v":27101},"gal","max pressure vessel volume in cl.xls"]
["vessel diameter at max volume",null,{"$f":"comp_max_horiz_diam","v":14},"ft"]
["vessel length at max volume","comp_max_vol_length",{"$f":"ROUND(comp_max_vol/7.48/(PI()*comp_max_horiz_diam*comp_max_horiz_diam/4),0)","v":24},"ft","rounded to reflect the length we will actually use on the input sheet"]
["max vessel surface area","comp_max_horiz_sa",{"$f":"IF(comp_round_sa=1,ROUNDUP((comp_max_horiz_diam-2*Vessel_thickness)*comp_max_vol_length,0),(comp_max_horiz_diam-2*Vessel_thickness)*comp_max_vol_length)","v":336},"ft^2","rounded only if the vessel design sheet is rounding"]
["target bed depth","comp_target_bed_depth_horiz",{"$f":"target_bed_depth_over","v":5},"ft","based on target_load CDA"]
["total vessel surface area","comp_sa_required_horiz",{"$f":"comp_vol_required_stg1/comp_target_bed_depth_horiz","v":6.6844919786096257},"ft^2","based upon  media volume and bed depth"]
["Void space required for max-sized horizontal vessels:"]
["For freeboard",null,{"$f":"comp_max_vol_length*(comp_max_horiz_diam*comp_max_horiz_diam/2*ASIN(SQRT(free_board/comp_max_horiz_diam))-(comp_max_horiz_diam/2-free_board)*SQRT((comp_max_horiz_diam-free_board)*free_board))","v":117.13365885878912},"ft^3","volume of a horizontal slice of a cylinder"]
["For underdrain",null,{"$f":"comp_max_vol_length*(comp_max_horiz_diam*comp_max_horiz_diam/2*ASIN(SQRT(horiz_underdrain/comp_max_horiz_diam))-(comp_max_horiz_diam/2-horiz_underdrain)*SQRT((comp_max_horiz_diam-horiz_underdrain)*horiz_underdrain))","v":212.75213463857958},"ft^3"]
["Total","comp_horiz_void_required",{"$f":"SUM(C38:C39)","v":329.8857934973687},"ft^3","total of the two void volumes above"]
["max media volume","comp_horiz_max_media",{"$f":"(comp_max_vol/7.481-comp_horiz_void_required)/(1+bed_expansion)","v":2195.1721586994772},"ft^3","remaining volume in a max-size pressure vessel, minus bed expansion"]
["min number of lines, horizontal vessels:"]
["based on surface area from max load",null,{"$f":"comp_sa_min/comp_max_horiz_sa","v":6.2003968253968242E-3}]
["based on surface area from bed depth",null,{"$f":"comp_sa_required_horiz/comp_max_horiz_sa","v":1.9894321364909602E-2}]
["based on media volume",null,{"$f":"comp_vol_required_stg1/comp_horiz_max_media","v":1.5225439043855749E-2}]
["min number of lines, horizontal vessels","comp_horiz_min_number",{"$f":"MAX(C43:C45)","v":1.9894321364909602E-2},null,"strictest of the above minima"]
[]
[]
["extra number to test for min cost","comp_nlines_extra_search",1,null,"we will search the number of lines until we find a minumum cost, then go this much farther to make sure we aren't in a local minimum"]
["target number of lines","comp_in_nlines",2,null,"the autosize_opt macro varies this number automatically as a search parameter.  Not user adjustable."]
[]
["Inputs"]
["for all vessels"]
["vessel geometry","comp_tank_geom",{"$f":"IF(design_type=2,\"upright\",IF(comp_in_nlines>=comp_vert_min_number,\"upright\",\"horizontal\"))","v":"upright"},null,"we switch to horizontal vessels when the desired number of max-size vertical vessels can't handle the design flow"]
[]
["dimensions for vertical vessels"]
["target diameter","comp_vert_diam",{"$f":"2*(SQRT(comp_sa_required_vert/comp_in_nlines/PI())+Vessel_thickness)","v":2.306371544714604},"ft",{"$f":"IF(C57<comp_min_vert_diam,comp_min_vert_diam,IF(C57>comp_max_vert_diam,comp_max_vert_diam,ROUNDUP(2*C57,0)/2))","v":2.5},"actual diameter"]
["available surface area, one vessel",null,{"$f":"(comp_vert_diam-2*Vessel_thickness)*(comp_vert_diam-2*Vessel_thickness)*PI()/4","v":4.908738521234052},"ft^2"]
["available surface area, all vessels",null,{"$f":"comp_in_nlines*C58","v":9.8174770424681039},"ft^2"]
["bed depth","comp_vert_bed_depth",{"$f":"IF(design_type=3,comp_vol_required/IF(comp_round_sa=1,ROUND(C58,0)*comp_in_nlines,C59)/1.7,comp_vol_required/IF(comp_round_sa=1,ROUND(C58,0)*comp_in_nlines,C59))","v":3.4039287387653063},"ft",{"$f":"IF(comp_min_vert_bed_depth<=comp_max_vert_bed_depth,IF(C60<comp_min_vert_bed_depth, comp_min_vert_bed_depth, IF(C60>comp_max_vert_bed_depth, comp_max_vert_bed_depth, ROUNDUP(C60,1))),-1)","v":3.5},"actual bed depth"]
["target height","comp_vert_height",{"$f":"IF(design_type=1,comp_vert_bed_depth*(1+bed_expansion)+free_board,IF(design_type=3,comp_vert_bed_depth*(1+bed_expansion_fluidized)+IF(design_flow<1,freeboard_fluidized_small,freeboard_fluidized),\"-\"))","v":6.25},"ft",{"$f":"IF(comp_min_vert_height>comp_max_vert_height,-1,IF(C61>comp_max_vert_height,comp_max_vert_height,IF(C61<comp_min_vert_height,comp_min_vert_height,ROUNDUP(2*C61,0)/2)))","v":6.5},"actual height"]
[]
["dimensions for horizontal vessels"]
["assumed void volume per length","comp_horiz_void_area",{"$f":"comp_horiz_void_required/comp_max_vol_length","v":13.745241395723696},"ft^2"]
["target bed depth after expansion","comp_horiz_expanded_bd",{"$f":"comp_target_bed_depth_horiz*(1+bed_expansion)","v":7.5},"ft"]
["target diameter","comp_horiz_diam",{"$f":"(comp_horiz_expanded_bd+SQRT(comp_horiz_expanded_bd*comp_horiz_expanded_bd+PI()*comp_horiz_void_area))/(PI()/2)","v":11.122738652580997},"ft",{"$f":"IF(comp_min_horiz_diam<=comp_max_horiz_diam,IF(C66<comp_min_horiz_diam,comp_min_horiz_diam,IF(C66>comp_max_horiz_diam,comp_max_horiz_diam,ROUNDUP(2*C66,0)/2)),-1)","v":11.5},"actual diameter"]
["old target diameter",null,{"$f":"SQRT(comp_sa_required_horiz/comp_in_nlines/length_diam_ratio)","v":1.1562432251572008},"ft"]
["target length","comp_horiz_length",{"$f":"comp_sa_required_horiz/(comp_horiz_diam-2*Vessel_thickness)/comp_in_nlines","v":0.29063008602650547},"ft",{"$f":"IF(comp_min_horiz_length<=comp_max_horiz_length,IF(C68<comp_min_horiz_length,comp_min_horiz_length,IF(C68>comp_max_horiz_length,comp_max_horiz_length,ROUNDUP(C68,0))),-1)","v":20},"actual length"]
["available surface area, all vessels",null,{"$f":"comp_in_nlines*(comp_horiz_diam-2*Vessel_thickness)*comp_horiz_length","v":460},"ft^2"]
["bed depth","comp_horiz_bed_depth",{"$f":"comp_vol_required/IF(comp_round_sa=1,ROUND(C69,0),C69)","v":7.2647809232664784E-2},"ft",{"$f":"IF(comp_min_horiz_bed_depth<=comp_max_horiz_bed_depth,IF(C70<comp_min_horiz_bed_depth, comp_min_horiz_bed_depth, IF(C70>comp_max_horiz_bed_depth, comp_max_horiz_bed_depth, ROUNDUP(C70,1))),-1)","v":2},"actual bed depth"]
[]
["for all vessels"]
["bed depth for chosen geometry","comp_bed_depth",{"$f":"IF(comp_tank_geom=\"upright\",comp_vert_bed_depth,IF(comp_tank_geom=\"horizontal\",comp_horiz_bed_depth,-1))","v":3.5},"ft"]
[]
["Constraints"]
[" - vessel surface area"]
["min","comp_min_sa_vessel",{"$f":"comp_sa_min/comp_in_nlines","v":1.0416666666666665},"ft^2","based on max load, design flow, and target number of lines"]
["max","comp_max_sa_vessel",{"$f":"comp_sa_max/comp_in_nlines","v":10.416666666666666},"ft^2","based on mIN load, design flow, and target number of lines"]
[]
[" - vertical vessel height"]
["min","comp_min_vert_height",{"$f":"VLOOKUP(comp_vert_diam,vessel_size_table_cl,2)","v":4},"ft","from reasonable-dimensions table"]
["max",null,{"$f":"VLOOKUP(comp_vert_diam,vessel_size_table_cl,3)","v":9},"ft","from reasonable-dimensions table"]
["max",null,{"$f":"max_height","v":24},"ft","from max_height CDA"]
["max","comp_max_vert_height",{"$f":"MIN(C82:C83)","v":9},"ft","strictest of the above two maxima"]
[]
[" - vertical vessel diameter"]
["min",null,{"$f":"2*(SQRT(comp_vol_required/PI()/comp_max_vert_bed_depth/comp_in_nlines)+Vessel_thickness)","v":1.3314952314748498},"ft","min diam to avoid bed depth becoming too deep, given required volume"]
["min",null,{"$f":"2*(SQRT(comp_min_sa_vessel/PI())+Vessel_thickness)","v":1.1516471649044515},"ft","from min surface area"]
["min",null,{"$f":"min_diam","v":1.5},"ft","from reasonable-dimensions table"]
["min","comp_min_vert_diam",{"$f":"ROUNDUP(2*MAX(C87:C89),0)/2","v":1.5},"ft","strictest minimum of the above, rounded"]
["max",null,{"$f":"max_diam","v":14},"ft","max_diam CDA"]
["max",null,{"$f":"2*(SQRT(comp_max_sa_vessel/PI())+Vessel_thickness)","v":3.641828101973597},"ft","from max surface area"]
["max",null,{"$f":"max_diam","v":14},"ft","from reasonable-dimensions table"]
["max","comp_max_vert_diam",{"$f":"MAX(0.5,ROUNDDOWN(2*MIN(C91:C93),0)/2)","v":3.5},"ft","strictest maximum of the above, rounded"]
[]
[" - vertical bed depth"]
["min",null,{"$f":"IF(comp_round_sa=1,comp_vol_required/C59,0)","v":0},"ft","ensures that bed depth is sufficient to pass diameter check on vessel design sheet"]
["min",null,{"$f":"min_bed_depth","v":2},"ft","from guidance on input sheet"]
["min","comp_min_vert_bed_depth",{"$f":"ROUNDUP(MAX(C97:C98),1)","v":2},"ft","strictest minimum of the above, rounded"]
["max",null,{"$f":"(max_height-free_board)/(1+bed_expansion)","v":15.333333333333334},"ft","max bed depth for max_height, given freeboard and bed expansion"]
["max",null,{"$f":"max_bed_depth","v":12},"ft","from guidance on input sheet"]
["max","comp_max_vert_bed_depth",{"$f":"ROUNDDOWN(MIN(C100:C101),1)","v":12},"ft","strictest max of the above, rounded"]
[]
[" -horizontal vessel diameter"]
["min","comp_min_horiz_diam",8,"ft","from guidance provided by Bob Dvorin, 5/16/05"]
["max",null,{"$f":"max_height","v":24},"ft","from max_height CDA"]
["max",null,{"$f":"max_diam","v":14},"ft","from max_diam CDA"]
["max","comp_max_horiz_diam",{"$f":"ROUNDDOWN(MIN(C106:C107),1)","v":14},"ft","strictest maximum of the above"]
[]
[" - horizontal vessel length"]
["min",null,{"$f":"comp_min_sa_vessel/(comp_horiz_diam-2*Vessel_thickness)","v":9.0579710144927522E-2},"ft","from max load and actual diameter"]
["min",null,20,"ft"]
["min","comp_min_horiz_length",{"$f":"ROUNDUP(MAX(C111:C112),0)","v":20},"ft","strictest min of the above, rounded"]
["max",null,{"$f":"max_length","v":53},"ft","max_length CDA"]
["max",null,{"$f":"comp_max_vol/(comp_horiz_diam*comp_horiz_diam*PI()/4)/7.48","v":34.881741255185993},"ft","max volume combined with actual diameter"]
["max","comp_max_horiz_length",{"$f":"ROUNDDOWN(MIN(C114:C115),0)","v":34},"ft","strictest max of the above, rounded"]
[]
[" - horizontal bed depth"]
["min",null,{"$f":"IF(comp_round_sa=1,comp_vol_required/C69,0)","v":0},"ft","ensures that bed depth is sufficient for required volume of medium"]
["min",null,{"$f":"min_bed_depth","v":2},"ft","from media constraint table"]
["min","comp_min_horiz_bed_depth",{"$f":"ROUNDUP(MAX(C119:C120),1)","v":2},"ft","strictest min of the above, rounded"]
["max",null,{"$f":"(MIN(max_height,max_diam)-free_board)/(1+bed_expansion)","v":8.6666666666666661},"ft","max bed depth for max_height or max_diam, given freeboard and bed expansion"]
["max",null,{"$f":"max_bed_depth","v":12},"ft","from media constraint table"]
["max","comp_max_horiz_bed_depth",{"$f":"ROUNDDOWN(MIN(C122:C123),1)","v":8.6},"ft","strictest max of the above, rounded"]
[]
["Results"]
["Success?","comp_out_success",true,null,"set by the autosize algorithm; TRUE if it finds a valid size, FALSE otherwise"]
[]
["BIOREACTOR GRAVITY CONTACTORS"]
[]
["Input Parameters"]
["design flow rate",null,{"$f":"design_flow_rate","v":20.833333333333332},"gpm"]
["EBCT",null,{"$f":"EBCT","v":12},"min"]
["Round surface area?","comp_round_sa_a",0,null,"<--Enter 1 to design for rounding on vessel design sheet, 0 otherwise"]
["required dry volume","comp_vol_required_a",{"$f":"design_flow_rate*EBCT/7.481","v":33.417992247025801},"ft^3","volume of media in all vessels"]
[]
["Design search"]
["max media volume","comp_vert_max_media_a",{"$f":"comp_max_bed_depth_a*comp_max_length_a*comp_max_width_a","v":9000},"ft^3","based on guidance and CDAs for max dimensions"]
["minimum surface area","comp_sa_min_a",{"$f":"design_flow_rate/load_max","v":2.083333333333333},"ft^2","to reach maximum loading rate"]
["maximum surface area","comp_sa_max_a",{"$f":"design_flow_rate/load_min","v":20.833333333333332},"ft^2","to reach minimum loading rate"]
["target bed depth","comp_target_bed_depth_vert_a",{"$f":"IF(design_flow<=1,target_bed_depth_under_g,target_bed_depth_over_g)","v":5},"ft","based on Target Bed Depth CDA"]
["total vessel surface area","comp_sa_required_vert_a",{"$f":"comp_vol_required_a/comp_target_bed_depth_vert_a","v":6.6835984494051601},"ft^2","based upon  media volume and bed depth"]
["min number of lines:",null,null,null,"below this number of lines, we are constrained to horizontal vessels"]
["based on surface area from max load",null,{"$f":"comp_min_sa_a/comp_sa_max_a","v":1.4285714285714284E-2}]
["based on surface area from bed depth",null,{"$f":"comp_sa_required_vert_a/comp_sa_max_a","v":0.32081272557144769}]
["based on media volume",null,{"$f":"comp_vol_required_a/comp_vert_max_media_a","v":3.7131102496695332E-3}]
["min number of lines","comp_vert_min_number_a",{"$f":"MAX(C144:C146)","v":0.32081272557144769},null,"strictest of the above minima"]
[]
[]
["extra number to test for min cost","comp_nlines_extra_search_a",1,null,"we will search the number of lines until we find a minumum cost, then go this much farther to make sure we aren't in a local minimum"]
["target number of lines","comp_in_nlines_a",7,null,"the autosize_opt macro varies this number automatically as a search parameter.  Not user adjustable."]
[]
["Inputs"]
[]
["dimensions for vertical vessels"]
["target side length","comp_length_width_a",{"$f":"SQRT(comp_sa_required_vert_a/comp_in_nlines_a)","v":0.97713856667642152},"ft",{"$f":"IF(C156<comp_min_length_a,comp_min_length_a,IF(C156>comp_max_length_a,comp_max_length_a,ROUNDUP(2*C156,0)/2))","v":3}]
["available surface area, one vessel",null,{"$f":"comp_length_width_a^2","v":9},"ft^2"]
["available surface area, all vessels",null,{"$f":"comp_in_nlines_a*C157","v":63},"ft^2"]
["bed depth","comp_bed_depth_a",{"$f":"comp_vol_required_a/IF(comp_round_sa_a=1,ROUND(C157,0)*comp_in_nlines_a,C158)","v":0.53044432138136188},"ft",{"$f":"IF(comp_min_bed_depth_a<=comp_max_bed_depth_a,IF(C159<comp_min_bed_depth_a, ROUNDUP(comp_min_bed_depth_a,1), IF(C159>comp_max_bed_depth_a, comp_max_bed_depth_a, ROUNDUP(C159,1))),-1)","v":3}]
[]
["Size Constraints"]
[" - bed depth"]
["min",null,{"$f":"min_depth","v":3},"ft","from min_depth CDA"]
["min",null,{"$f":"design_flow_rate*EBCT/(comp_in_nlines_a*max_length_g*max_width)/7.48","v":5.3051523639758924E-3},"ft","assuming max-size contactor and number of contactors above, min depth for sufficient media volume"]
["min","comp_min_bed_depth_a",{"$f":"MAX(C163:C164)","v":3},"ft","strictest minimum of the above, rounded"]
["max","comp_max_bed_depth_a",{"$f":"max_depth","v":10},"ft","from max_depth CDA"]
[]
[" - surface area"]
["min","comp_min_sa_a",{"$f":"design_flow_rate/comp_in_nlines_a/load_max","v":0.29761904761904756},"ft^2","from loading: based on design flow per target line, max loading"]
["max","comp_max_sa_a",{"$f":"design_flow_rate/comp_in_nlines_a/load_min","v":2.9761904761904758},"ft^2","from loading: based on design flow per target line, min loading"]
[]
[" - contactor length"]
["min","comp_min_length_a",{"$f":"min_length_g","v":3},"ft","from min_length CDA"]
["max","comp_max_length_a",{"$f":"max_length_g","v":30},"ft","from max_length CDA"]
[]
[" - contactor width"]
["min","comp_min_width_a",{"$f":"min_width","v":3},"ft","from min_width CDA"]
["max","comp_max_width_a",{"$f":"max_width","v":30},"ft","from max_width CDA"]
[]
["Results"]
["Success?","comp_out_success_a",true,null,"set by the autosize algorithm; TRUE if it finds a valid size, FALSE otherwise"]
[]
["POLISHING FILTER VESSELS"]
[]
["Input Parameters"]
["design flow rate",null,{"$f":"design_flow_rate","v":20.833333333333332},"gpm"]
["EBCT per line",null,{"$f":"ebct_filt","v":10},"min"]
["EBCT per vessel",null,{"$f":"EBCT_tank_filt","v":"-"},"min"]
["Total Vessel Media Volume","comp_vol_required_stg1_filt",{"$f":"design_flow_rate*EBCT_tank_filt/7.48","v":{"$error":"#VALUE!"}},"ft^3","volume of media in first-stage vessels"]
["Round surface area?","comp_round_sa_filt",0,null,"<--Enter 1 to design for rounding on vessel design sheet, 0 otherwise"]
["minimum surface area","comp_sa_min_filt",{"$f":"design_flow_rate/load_max_filt","v":2.083333333333333},"ft^2","to reach maximum loading rate"]
["maximum surface area","comp_sa_max_filt",{"$f":"design_flow_rate/load_min_filt","v":20.833333333333332},"ft^2","to reach minimum loading rate"]
["required volume","comp_vol_required_filt",{"$f":"design_flow_rate*ebct_filt/7.481","v":27.848326872521497},"ft^3","volume of media or fluidized bed in vessels"]
[]
["Vertical design search"]
["max media volume, vertical vessel","comp_vert_max_media_filt",{"$f":"(comp_max_vert_diam_filt/2-Vessel_thickness)*(comp_max_vert_diam_filt/2-Vessel_thickness)*PI()*comp_max_vert_bed_depth_filt","v":115.45353001942489},"ft^3","based on guidance and CDAs for max dimensions"]
["max surface area, vertical vessel","comp_vert_max_sa_filt",{"$f":"(max_diam_std_size/2-Vessel_thickness)*(max_diam_std_size/2-Vessel_thickness)*PI()","v":153.93804002589985},"ft^2","based on max_diam CDA"]
["target bed depth","comp_target_bed_depth_vert_filt",{"$f":"IF(design_flow_I<=1,bed_depth_filt_small,IF(design_flow_I<=10,bed_depth_filt,bed_depth_filt_large))","v":5},"ft","based on target bed depth CDA"]
["total vessel surface area","comp_sa_required_vert_filt",{"$f":"comp_vol_required_stg1_filt/comp_target_bed_depth_vert_filt","v":{"$error":"#VALUE!"}},"ft^2","based upon  media volume and bed depth"]
["min number of lines, vertical vessels:",null,null,null,"below this number of lines, we are constrained to horizontal vessels"]
["based on surface area from max load",null,{"$f":"comp_sa_min_filt/comp_vert_max_sa_filt","v":1.3533583596249604E-2}]
["based on surface area from bed depth",null,{"$f":"comp_sa_required_vert_filt/comp_vert_max_sa_filt","v":{"$error":"#VALUE!"}}]
["based on media volume",null,{"$f":"comp_vol_required_stg1_filt/comp_vert_max_media_filt","v":{"$error":"#VALUE!"}}]
["min number of lines","comp_vert_min_number_filt",{"$f":"MAX(C201:C203)","v":{"$error":"#VALUE!"}},null,"strictest of the above minima"]
[]
["Horizontal design search"]
["max total vessel volume","comp_max_vol_filt",{"$f":"MAX(comp_pv_max_sizes)","v":27101},"gal","max pressure vessel volume in cl.xls"]
["vessel diameter at max volume",null,{"$f":"comp_max_horiz_diam_filt","v":14},"ft"]
["vessel length at max volume","comp_max_vol_length_filt",{"$f":"ROUND(comp_max_vol_filt/7.48/(PI()*comp_max_horiz_diam_filt*comp_max_horiz_diam_filt/4),0)","v":24},"ft","rounded to reflect the length we will actually use on the input sheet"]
["max vessel surface area","comp_max_horiz_sa_filt",{"$f":"IF(comp_round_sa_filt=1,ROUNDUP((comp_max_horiz_diam_filt-2*Vessel_thickness)*comp_max_vol_length_filt,0),(comp_max_horiz_diam_filt-2*Vessel_thickness)*comp_max_vol_length_filt)","v":336},"ft^2","rounded only if the vessel design sheet is rounding"]
["target bed depth","comp_target_bed_depth_horiz_filt",{"$f":"target_bed_depth_over","v":5},"ft","based on target_load CDA"]
["total vessel surface area","comp_sa_required_horiz_filt",{"$f":"comp_vol_required_stg1_filt/comp_target_bed_depth_horiz_filt","v":{"$error":"#VALUE!"}},"ft^2","based upon  media volume and bed depth"]
["Void space required for max-sized horizontal vessels:"]
["For freeboard",null,{"$f":"comp_max_vol_length_filt*(comp_max_horiz_diam_filt*comp_max_horiz_diam_filt/2*ASIN(SQRT(free_board/comp_max_horiz_diam_filt))-(comp_max_horiz_diam_filt/2-free_board)*SQRT((comp_max_horiz_diam_filt-free_board)*free_board))","v":117.13365885878912},"ft^3","volume of a horizontal slice of a cylinder"]
["For underdrain",null,{"$f":"comp_max_vol_length_filt*(comp_max_horiz_diam_filt*comp_max_horiz_diam_filt/2*ASIN(SQRT(horiz_underdrain/comp_max_horiz_diam_filt))-(comp_max_horiz_diam_filt/2-horiz_underdrain)*SQRT((comp_max_horiz_diam_filt-horiz_underdrain)*horiz_underdrain))","v":212.75213463857958},"ft^3"]
["Total","comp_horiz_void_required_filt",{"$f":"SUM(C214:C215)","v":329.8857934973687},"ft^3","total of the two void volumes above"]
["max media volume","comp_horiz_max_media_filt",{"$f":"(comp_max_vol_filt/7.481-comp_horiz_void_required_filt)/(1+filt_bed_expansion)","v":2195.1721586994772},"ft^3","remaining volume in a max-size pressure vessel, minus bed expansion"]
["min number of lines, horizontal vessels:"]
["based on surface area from max load",null,{"$f":"comp_sa_min_filt/comp_max_horiz_sa_filt","v":6.2003968253968242E-3}]
["based on surface area from bed depth",null,{"$f":"comp_sa_required_horiz_filt/comp_max_horiz_sa_filt","v":{"$error":"#VALUE!"}}]
["based on media volume",null,{"$f":"comp_vol_required_stg1_filt/comp_horiz_max_media_filt","v":{"$error":"#VALUE!"}}]
["min number of lines, horizontal vessels","comp_horiz_min_number_filt",{"$f":"MAX(C219:C221)","v":{"$error":"#VALUE!"}},null,"strictest of the above minima"]
[]
[]
["extra number to test for min cost","comp_nlines_extra_search_filt",1,null,"we will search the number of lines until we find a minumum cost, then go this much farther to make sure we aren't in a local minimum"]
["target number of lines","comp_in_nlines_filt",2,null,"the autosize_opt macro varies this number automatically as a search parameter.  Not user adjustable."]
[]
["Inputs"]
["for all vessels"]
["vessel geometry","comp_tank_geom_filt",{"$f":"IF(comp_in_nlines_filt>=comp_vert_min_number_filt,\"upright\",\"horizontal\")","v":{"$error":"#VALUE!"}},null,"we switch to horizontal vessels when the desired number of max-size vertical vessels can't handle the design flow"]
[]
["dimensions for vertical vessels"]
["target diameter","comp_vert_diam_filt",{"$f":"2*(SQRT(comp_sa_required_vert_filt/comp_in_nlines_filt/PI())+Vessel_thickness)","v":{"$error":"#VALUE!"}},"ft",{"$f":"IF(C233<comp_min_vert_diam_filt,comp_min_vert_diam_filt,IF(C233>comp_max_vert_diam_filt,comp_max_vert_diam_filt,ROUNDUP(2*C233,0)/2))","v":{"$error":"#VALUE!"}},"actual diameter"]
["available surface area, one vessel",null,{"$f":"(comp_vert_diam_filt-2*Vessel_thickness)*(comp_vert_diam_filt-2*Vessel_thickness)*PI()/4","v":{"$error":"#VALUE!"}},"ft^2"]
["available surface area, all vessels",null,{"$f":"comp_in_nlines_filt*C234","v":{"$error":"#VALUE!"}},"ft^2"]
["bed depth","comp_vert_bed_depth_filt",{"$f":"comp_vol_required_filt/IF(comp_round_sa_filt=1,ROUND(C234,0)*comp_in_nlines_filt,C235)","v":{"$error":"#VALUE!"}},"ft",{"$f":"IF(comp_min_vert_bed_depth_filt<=comp_max_vert_bed_depth_filt,IF(C236<comp_min_vert_bed_depth_filt, comp_min_vert_bed_depth_filt, IF(C236>comp_max_vert_bed_depth_filt, comp_max_vert_bed_depth_filt, ROUNDUP(C236,1))),-1)","v":{"$error":"#VALUE!"}},"actual bed depth"]
["target height","comp_vert_height_filt",{"$f":"comp_vert_bed_depth_filt*(1+filt_bed_expansion)+free_board","v":{"$error":"#VALUE!"}},"ft",{"$f":"IF(comp_min_vert_height_filt>comp_max_vert_height_filt,-1,IF(C237>comp_max_vert_height_filt,comp_max_vert_height_filt,IF(C237<comp_min_vert_height_filt,comp_min_vert_height_filt,ROUNDUP(2*C237,0)/2)))","v":{"$error":"#VALUE!"}},"actual height"]
[]
["dimensions for horizontal vessels"]
["assumed void volume per length","comp_horiz_void_area_filt",{"$f":"comp_horiz_void_required_filt/comp_max_vol_length_filt","v":13.745241395723696},"ft^2"]
["target bed depth after expansion","comp_horiz_expanded_bd_filt",{"$f":"comp_target_bed_depth_horiz_filt*(1+filt_bed_expansion)","v":7.5},"ft"]
["target diameter","comp_horiz_diam_filt",{"$f":"(comp_horiz_expanded_bd_filt+SQRT(comp_horiz_expanded_bd_filt*comp_horiz_expanded_bd_filt+PI()*comp_horiz_void_area_filt))/(PI()/2)","v":11.122738652580997},"ft",{"$f":"IF(comp_min_horiz_diam_filt<=comp_max_horiz_diam_filt,IF(C242<comp_min_horiz_diam_filt,comp_min_horiz_diam_filt,IF(C242>comp_max_horiz_diam_filt,comp_max_horiz_diam_filt,ROUNDUP(2*C242,0)/2)),-1)","v":11.5},"actual diameter"]
["old target diameter",null,{"$f":"SQRT(comp_sa_required_horiz_filt/comp_in_nlines_filt/length_diam_ratio)","v":{"$error":"#VALUE!"}},"ft"]
["target length","comp_horiz_length_filt",{"$f":"comp_sa_required_horiz_filt/(comp_horiz_diam_filt-2*Vessel_thickness)/comp_in_nlines_filt","v":{"$error":"#VALUE!"}},"ft",{"$f":"IF(comp_min_horiz_length_filt<=comp_max_horiz_length_filt,IF(C244<comp_min_horiz_length_filt,comp_min_horiz_length_filt,IF(C244>comp_max_horiz_length_filt,comp_max_horiz_length_filt,ROUNDUP(C244,0))),-1)","v":{"$error":"#VALUE!"}},"actual length"]
["available surface area, all vessels",null,{"$f":"comp_in_nlines_filt*(comp_horiz_diam_filt-2*Vessel_thickness)*comp_horiz_length_filt","v":{"$error":"#VALUE!"}},"ft^2"]
["bed depth","comp_horiz_bed_depth_filt",{"$f":"comp_vol_required_filt/IF(comp_round_sa_filt=1,ROUND(C245,0),C245)","v":{"$error":"#VALUE!"}},"ft",{"$f":"IF(comp_min_horiz_bed_depth_filt<=comp_max_horiz_bed_depth_filt,IF(C246<comp_min_horiz_bed_depth_filt, comp_min_horiz_bed_depth_filt, IF(C246>comp_max_horiz_bed_depth_filt, comp_max_horiz_bed_depth_filt, ROUNDUP(C246,1))),-1)","v":{"$error":"#VALUE!"}},"actual bed depth"]
[]
["for all vessels"]
["bed depth for chosen geometry","comp_bed_depth_filt",{"$f":"IF(comp_tank_geom_filt=\"upright\",comp_vert_bed_depth_filt,IF(comp_tank_geom_filt=\"horizontal\",comp_horiz_bed_depth_filt,-1))","v":{"$error":"#VALUE!"}},"ft"]
[]
["Constraints"]
[" - vessel surface area"]
["min","comp_min_sa_vessel_filt",{"$f":"comp_sa_min_filt/comp_in_nlines_filt","v":1.0416666666666665},"ft^2","based on max load, design flow, and target number of lines"]
["max","comp_max_sa_vessel_filt",{"$f":"comp_sa_max_filt/comp_in_nlines_filt","v":10.416666666666666},"ft^2","based on mIN load, design flow, and target number of lines"]
[]
[" - vertical vessel height"]
["min","comp_min_vert_height_filt",{"$f":"VLOOKUP(comp_vert_diam_filt,vessel_size_table_cl,2)","v":{"$error":"#VALUE!"}},"ft","from reasonable-dimensions table"]
["max",null,{"$f":"VLOOKUP(comp_vert_diam_filt,vessel_size_table_cl,3)","v":{"$error":"#VALUE!"}},"ft","from reasonable-dimensions table"]
["max",null,{"$f":"max_height","v":24},"ft","from max_height CDA"]
["max","comp_max_vert_height_filt",{"$f":"MIN(C258:C259)","v":{"$error":"#VALUE!"}},"ft","strictest of the above two maxima"]
[]
[" - vertical vessel diameter"]
["min",null,{"$f":"2*(SQRT(comp_vol_required_filt/PI()/comp_max_vert_bed_depth_filt/comp_in_nlines_filt)+Vessel_thickness)","v":1.2154832891488963},"ft","min diam to avoid bed depth becoming too deep, given required volume"]
["min",null,{"$f":"2*(SQRT(comp_min_sa_vessel_filt/PI())+Vessel_thickness)","v":1.1516471649044515},"ft","from min surface area"]
["min",null,{"$f":"min_diam","v":1.5},"ft","from reasonable-dimensions table"]
["min","comp_min_vert_diam_filt",{"$f":"ROUNDUP(2*MAX(C263:C265),0)/2","v":1.5},"ft","strictest minimum of the above, rounded"]
["max",null,{"$f":"max_diam","v":14},"ft","max_diam CDA"]
["max",null,{"$f":"2*(SQRT(comp_max_sa_vessel_filt/PI())+Vessel_thickness)","v":3.641828101973597},"ft","from max surface area"]
["max",null,{"$f":"max_diam","v":14},"ft","from reasonable-dimensions table"]
["max","comp_max_vert_diam_filt",{"$f":"MAX(0.5,ROUNDDOWN(2*MIN(C267:C269),0)/2)","v":3.5},"ft","strictest maximum of the above, rounded"]
[]
[" - vertical bed depth"]
["min",null,{"$f":"IF(comp_round_sa_filt=1,comp_vol_required_filt/C235,0)","v":0},"ft","ensures that bed depth is sufficient to pass diameter check on vessel design sheet"]
["min",null,{"$f":"min_bed_depth","v":2},"ft","from CDA sheet"]
["min","comp_min_vert_bed_depth_filt",{"$f":"ROUNDUP(MAX(C273:C274),1)","v":2},"ft","strictest minimum of the above, rounded"]
["max",null,{"$f":"(max_height-free_board)/(1+filt_bed_expansion)","v":15.333333333333334},"ft","max bed depth for max_height, given freeboard and bed expansion"]
["max",null,{"$f":"max_bed_depth","v":12},"ft","from guidance on input sheet"]
["max","comp_max_vert_bed_depth_filt",{"$f":"ROUNDDOWN(MIN(C276:C277),1)","v":12},"ft","strictest max of the above, rounded"]
[]
[" -horizontal vessel diameter"]
["min","comp_min_horiz_diam_filt",8,"ft","from guidance provided by Bob Dvorin, 5/16/05"]
["max",null,{"$f":"max_height","v":24},"ft","from max_height CDA"]
["max",null,{"$f":"max_diam","v":14},"ft","from max_diam CDA"]
["max","comp_max_horiz_diam_filt",{"$f":"ROUNDDOWN(MIN(C282:C283),1)","v":14},"ft","strictest maximum of the above"]
[]
[" - horizontal vessel length"]
["min",null,{"$f":"comp_min_sa_vessel_filt/(comp_horiz_diam_filt-2*Vessel_thickness)","v":9.3651995178808858E-2},"ft","from max load and actual diameter"]
["min",null,20,"ft"]
["min","comp_min_horiz_length_filt",{"$f":"ROUNDUP(MAX(C287:C288),0)","v":20},"ft","strictest min of the above, rounded"]
["max",null,{"$f":"max_length","v":53},"ft","max_length CDA"]
["max",null,{"$f":"comp_max_vol_filt/(comp_horiz_diam_filt*comp_horiz_diam_filt*PI()/4)/7.48","v":37.288110013024138},"ft","max volume combined with actual diameter"]
["max","comp_max_horiz_length_filt",{"$f":"ROUNDDOWN(MIN(C290:C291),0)","v":37},"ft","strictest max of the above, rounded"]
[]
[" - horizontal bed depth"]
["min",null,{"$f":"IF(comp_round_sa_filt=1,comp_vol_required_filt/C245,0)","v":0},"ft","ensures that bed depth is sufficient for required volume of medium"]
["min",null,{"$f":"min_bed_depth","v":2},"ft","from media constraint table"]
["min","comp_min_horiz_bed_depth_filt",{"$f":"ROUNDUP(MAX(C295:C296),1)","v":2},"ft","strictest min of the above, rounded"]
["max",null,{"$f":"(MIN(max_height,max_diam)-free_board)/(1+filt_bed_expansion)","v":8.6666666666666661},"ft","max bed depth for max_height or max_diam, given freeboard and bed expansion"]
["max",null,{"$f":"max_bed_depth","v":12},"ft","from media constraint table"]
["max","comp_max_horiz_bed_depth_filt",{"$f":"ROUNDDOWN(MIN(C298:C299),1)","v":8.6},"ft","strictest max of the above, rounded"]
[]
["Results"]
["Success?","comp_out_success_filt",true,null,"set by the autosize algorithm; TRUE if it finds a valid size, FALSE otherwise"]
[]
["POLISHING FILTER BASINS"]
[]
["Input Parameters"]
["design flow rate",null,{"$f":"design_flow_rate","v":20.833333333333332},"gpm"]
["EBCT",null,{"$f":"ebct_filt","v":10},"min"]
["Round surface area?","comp_round_sa_a_filt",0,null,"<--Enter 1 to design for rounding on vessel design sheet, 0 otherwise"]
["required dry volume","comp_vol_required_a_filt",{"$f":"design_flow_rate*ebct_filt/7.481","v":27.848326872521497},"ft^3","volume of media in all vessels"]
[]
["Design search"]
["max media volume","comp_vert_max_media_a_filt",{"$f":"comp_max_bed_depth_a_filt*comp_max_length_a_filt*comp_max_width_a_filt","v":9000},"ft^3","based on guidance and CDAs for max dimensions"]
["minimum surface area","comp_sa_min_a_filt",{"$f":"design_flow_rate/load_max_filt","v":2.083333333333333},"ft^2","to reach maximum loading rate"]
["maximum surface area","comp_sa_max_a_filt",{"$f":"design_flow_rate/load_min_filt","v":20.833333333333332},"ft^2","to reach minimum loading rate"]
["target bed depth","comp_target_bed_depth_vert_a_filt",{"$f":"IF(design_flow_I<=1,bed_depth_filt_small,IF(design_flow_I<=10,bed_depth_filt,bed_depth_filt_large))","v":5},"ft","based on Target Bed Depth CDA"]
["total vessel surface area","comp_sa_required_vert_a_filt",{"$f":"comp_vol_required_a_filt/comp_target_bed_depth_vert_a_filt","v":5.5696653745042992},"ft^2","based upon  media volume and bed depth"]
["min number of lines:",null,null,null,"below this number of lines, we are constrained to horizontal vessels"]
["based on surface area from max load",null,{"$f":"comp_min_sa_a_filt/comp_sa_max_a_filt","v":4.9999999999999996E-2}]
["based on surface area from bed depth",null,{"$f":"comp_sa_required_vert_a_filt/comp_sa_max_a_filt","v":0.26734393797620637}]
["based on media volume",null,{"$f":"comp_vol_required_a_filt/comp_vert_max_media_a_filt","v":3.0942585413912776E-3}]
["min number of lines","comp_vert_min_number_a_filt",{"$f":"MAX(C320:C322)","v":0.26734393797620637},null,"strictest of the above minima"]
[]
[]
["extra number to test for min cost","comp_nlines_extra_search_a_filt",2,null,"we will search the number of lines until we find a minumum cost, then go this much farther to make sure we aren't in a local minimum"]
["target number of lines","comp_in_nlines_a_filt",2,null,"the autosize_opt macro varies this number automatically as a search parameter.  Not user adjustable."]
[]
["Inputs"]
[]
["dimensions for vertical vessels"]
["target side length","comp_length_width_a_filt",{"$f":"SQRT(comp_sa_required_vert_a_filt/comp_in_nlines_a_filt)","v":1.6687817973756034},"ft",{"$f":"IF(C332<comp_min_length_a_filt,comp_min_length_a_filt,IF(C332>comp_max_length_a_filt,comp_max_length_a_filt,ROUNDUP(2*C332,0)/2))","v":3}]
["available surface area, one vessel",null,{"$f":"comp_length_width_a_filt^2","v":9},"ft^2"]
["available surface area, all vessels",null,{"$f":"comp_in_nlines_a_filt*C333","v":18},"ft^2"]
["bed depth","comp_bed_depth_a_filt",{"$f":"comp_vol_required_a_filt/IF(comp_round_sa_a_filt=1,ROUND(C333,0)*comp_in_nlines_a_filt,C334)","v":1.5471292706956388},"ft",{"$f":"IF(comp_min_bed_depth_a_filt<=comp_max_bed_depth_a_filt,IF(C335<comp_min_bed_depth_a_filt, ROUNDUP(comp_min_bed_depth_a_filt,1), IF(C335>comp_max_bed_depth_a_filt, comp_max_bed_depth_a_filt, ROUNDUP(C335,1))),-1)","v":3}]
[]
["Size Constraints"]
[" - bed depth"]
["min",null,{"$f":"min_depth","v":3},"ft","from min_depth CDA"]
["min",null,{"$f":"design_flow_rate*EBCT/(comp_in_nlines_a_filt*max_length_g*max_width)/7.48","v":1.8568033273915627E-2},"ft","assuming max-size contactor and number of contactors above, min depth for sufficient media volume"]
["min","comp_min_bed_depth_a_filt",{"$f":"MAX(C339:C340)","v":3},"ft","strictest minimum of the above, rounded"]
["max","comp_max_bed_depth_a_filt",{"$f":"max_depth","v":10},"ft","from max_depth CDA"]
[]
[" - surface area"]
["min","comp_min_sa_a_filt",{"$f":"design_flow_rate/comp_in_nlines_a_filt/load_max_filt","v":1.0416666666666665},"ft^2","from loading: based on design flow per target line, max loading"]
["max","comp_max_sa_a_filt",{"$f":"design_flow_rate/comp_in_nlines_a_filt/load_min_filt","v":10.416666666666666},"ft^2","from loading: based on design flow per target line, min loading"]
[]
[" - contactor length"]
["min","comp_min_length_a_filt",{"$f":"min_length_g","v":3},"ft","from min_length CDA"]
["max","comp_max_length_a_filt",{"$f":"max_length_g","v":30},"ft","from max_length CDA"]
[]
[" - contactor width"]
["min","comp_min_width_a_filt",{"$f":"min_width","v":3},"ft","from min_width CDA"]
["max","comp_max_width_a_filt",{"$f":"max_width","v":30},"ft","from max_width CDA"]
[]
["Results"]
["Success?","comp_out_success_a_filt",true,null,"set by the autosize algorithm; TRUE if it finds a valid size, FALSE otherwise"]

{"sheet":"Cost Equations","index":19,"n_rows":394,"n_cols":17,"rows_kept":394,"cut":false,"hidden":false,"merged":[]}
["Cost Equations"]
["This sheet is used internally to calculate component costs using the cost equations method; see model documentation for more details on the development of cost equations"]
[]
["Component",null,"Result","Variable",null,2,3,4,5,6,7,8,9,10,11,16,17]
["Bioreactors"]
["Pressure Vessels"]
["Stainless Steel","ss_pv_eq",{"$f":"IF(OR(D7>P7,D7<Q7),\"contact vendor\",F7*D7^G7+H7*LN(D7)+I7+J7*EXP(K7*D7)+L7*D7^3+M7*D7^2+N7*D7+O7)","v":18735.19617355202},{"$f":"comm_vol_gal","v":238.66286690239963},"ss_pv_eq",{"$f":"VLOOKUP($E7,eq_table_cl,F$4,FALSE)","v":0},0,0,0,0,0,0,-6.6983999999999994E-5,14.522866852,15272.942541242999,27101,0]
["Carbon Steel - Stainless Internals","cs_pv_eq",{"$f":"IF(OR(D8>P8,D8<Q8),\"contact vendor\",F8*D8^G8+H8*LN(D8)+I8+J8*EXP(K8*D8)+L8*D8^3+M8*D8^2+N8*D8+O8)","v":16748.973006351611},{"$f":"comm_vol_gal","v":238.66286690239963},"cs_pv_eq",0,0,0,0,0,0,0,-5.0831999999999997E-5,9.8575955700000009,14399.226375742999,27101,0]
["Carbon Steel - Plastic Internals","csp_pv_eq",{"$f":"IF(OR(D9>P9,D9<Q9),\"contact vendor\",F9*D9^G9+H9*LN(D9)+I9+J9*EXP(K9*D9)+L9*D9^3+M9*D9^2+N9*D9+O9)","v":11132.595287819937},{"$f":"comm_vol_gal","v":238.66286690239963},"csp_pv_eq",0,0,0,0,0,0,4.0000000000000002E-9,-1.38219E-4,6.1268369070000004,9678.1653989080005,27101,0]
["Fiberglass","fg_pv_eq",{"$f":"IF(OR(D10>P10,D10<Q10),\"contact vendor\",F10*D10^G10+H10*LN(D10)+I10+J10*EXP(K10*D10)+L10*D10^3+M10*D10^2+N10*D10+O10)","v":5270.1926374727364},{"$f":"comm_vol_gal","v":238.66286690239963},"fg_pv_eq",0,0,0,0,0,0,-3.4580000000000002E-6,4.462751E-3,16.993719766000002,1007.233463829,901,0]
["Gravity Basins"]
["Concrete","no equation"]
["Internals (1st cell underdrain)",null,{"$f":"IF(OR(D13>P13,D13<Q13),\"contact vendor\",F13*D13^G13+H13*LN(D13)+I13+J13*EXP(K13*D13)+L13*D13^3+M13*D13^2+N13*D13+O13)","v":"contact vendor"},{"$f":"basin_area","v":"-"},"cont_bot_eq",{"$f":"VLOOKUP($E13,eq_table_cl,F$4,FALSE)","v":0},0,0,0,0,0,-4.4680000000000003E-6,1.1045808000000001E-2,41.346635231,37308.304929990001,1001,0]
["Internals (add cell underdrain)",null,{"$f":"IF(OR(D14>P14,D14<Q14),\"contact vendor\",F14*D14^G14+H14*LN(D14)+I14+J14*EXP(K14*D14)+L14*D14^3+M14*D14^2+N14*D14+O14)","v":"contact vendor"},{"$f":"basin_area","v":"-"},"cont_bot_add_eq",0,0,0,0,0,0,2.0373E-5,-2.5098519E-2,52.989724860000003,1499.3577757529999,1001,0]
["Internals (backwash dist)",null,{"$f":"IF(OR(D15>P15,D15<Q15),\"contact vendor\",F15*D15^G15+H15*LN(D15)+I15+J15*EXP(K15*D15)+L15*D15^3+M15*D15^2+N15*D15+O15)","v":{"$error":"#NUM!"}},{"$f":"basin_length","v":0},"cont_top_eq",0,0,0,0,25653.267501145001,5.9381778000000003E-2,0,0,0,0,31,0]
["Internals (total)","cont_int_eq",{"$f":"IF(total_num_basins=0,0,IF(OR(C13=\"contact vendor\",C14=\"contact vendor\",C15=\"contact vendor\"),\"contact vendor\",C13+(total_num_basins-1)*C14+total_num_basins*C15))","v":0}]
["Aluminum Railing","no equation"]
["Aluminum Stairs","no equation"]
["Excavation","no equation"]
["Backfill and Compaction","no equation"]
["Media"]
["GAC","gac_eq",{"$f":"IF(OR(D22>P22,D22<Q22),\"contact vendor\",F22*D22^G22+H22*LN(D22)+I22+J22*EXP(K22*D22)+L22*D22^3+M22*D22^2+N22*D22+O22)","v":1.9218907672309404},{"$f":"IF(total_resin>P22,P22,total_resin)","v":1030.835089459151},"gac_eq",{"$f":"VLOOKUP($E22,eq_table_cl,F$4,FALSE)","v":0},0,0,0,0,0,0,0,-6.4169999999999997E-6,1.9285056359999999,40000,0]
["Post-Treatment Filters"]
["Filter Basins"]
["Concrete","no equation"]
["Internals (1st cell underdrain)",null,{"$f":"IF(OR(D26>P26,D26<Q26),\"contact vendor\",F26*D26^G26+H26*LN(D26)+I26+J26*EXP(K26*D26)+L26*D26^3+M26*D26^2+N26*D26+O26)","v":37681.316100345},{"$f":"filt_basin_area","v":9},"cont_bot_eq",{"$f":"VLOOKUP($E26,eq_table_cl,F$4,FALSE)","v":0},0,0,0,0,0,-4.4680000000000003E-6,1.1045808000000001E-2,41.346635231,37308.304929990001,1001,0]
["Internals (add cell underdrain)",null,{"$f":"IF(OR(D27>P27,D27<Q27),\"contact vendor\",F27*D27^G27+H27*LN(D27)+I27+J27*EXP(K27*D27)+L27*D27^3+M27*D27^2+N27*D27+O27)","v":1974.2471713709999},{"$f":"filt_basin_area","v":9},"cont_bot_add_eq",0,0,0,0,0,0,2.0373E-5,-2.5098519E-2,52.989724860000003,1499.3577757529999,1001,0]
["Internals (backwash dist)",null,{"$f":"IF(OR(D28>P28,D28<Q28),\"contact vendor\",F28*D28^G28+H28*LN(D28)+I28+J28*EXP(K28*D28)+L28*D28^3+M28*D28^2+N28*D28+O28)","v":30655.62856416162},{"$f":"filt_basin_length","v":3},"cont_top_eq",0,0,0,0,25653.267501145001,5.9381778000000003E-2,0,0,0,0,31,0]
["Internals (total)","filt_int_eq",{"$f":"IF(total_num_filt_basins=0,0,IF(OR(C26=\"contact vendor\",C27=\"contact vendor\",C28=\"contact vendor\"),\"contact vendor\",C26+(total_num_filt_basins-1)*C27+total_num_filt_basins*C28))","v":100966.82040003923}]
["Aluminum Railing","no equation"]
["Aluminum Stairs","no equation"]
["Excavation","no equation"]
["Backfill and Compaction","no equation"]
["Pressure Vessels"]
["Stainless Steel","ss_pv_eq_filt",{"$f":"IF(OR(D35>P35,D35<Q35),\"contact vendor\",F35*D35^G35+H35*LN(D35)+I35+J35*EXP(K35*D35)+L35*D35^3+M35*D35^2+N35*D35+O35)","v":"contact vendor"},{"$f":"comm_vol_gal_filt","v":"-"},"ss_pv_eq",{"$f":"VLOOKUP($E35,eq_table_cl,F$4,FALSE)","v":0},0,0,0,0,0,0,-6.6983999999999994E-5,14.522866852,15272.942541242999,27101,0]
["Carbon Steel - Stainless Internals","cs_pv_eq_filt",{"$f":"IF(OR(D36>P36,D36<Q36),\"contact vendor\",F36*D36^G36+H36*LN(D36)+I36+J36*EXP(K36*D36)+L36*D36^3+M36*D36^2+N36*D36+O36)","v":"contact vendor"},{"$f":"comm_vol_gal_filt","v":"-"},"cs_pv_eq",0,0,0,0,0,0,0,-5.0831999999999997E-5,9.8575955700000009,14399.226375742999,27101,0]
["Carbon Steel - Plastic Internals","csp_pv_eq_filt",{"$f":"IF(OR(D37>P37,D37<Q37),\"contact vendor\",F37*D37^G37+H37*LN(D37)+I37+J37*EXP(K37*D37)+L37*D37^3+M37*D37^2+N37*D37+O37)","v":"contact vendor"},{"$f":"comm_vol_gal_filt","v":"-"},"csp_pv_eq",0,0,0,0,0,0,4.0000000000000002E-9,-1.38219E-4,6.1268369070000004,9678.1653989080005,27101,0]
["Fiberglass","fg_pv_eq_filt",{"$f":"IF(OR(D38>P38,D38<Q38),\"contact vendor\",F38*D38^G38+H38*LN(D38)+I38+J38*EXP(K38*D38)+L38*D38^3+M38*D38^2+N38*D38+O38)","v":"contact vendor"},{"$f":"comm_vol_gal_filt","v":"-"},"fg_pv_eq",0,0,0,0,0,0,-3.4580000000000002E-6,4.462751E-3,16.993719766000002,1007.233463829,901,0]
["Media"]
["GAC","filt_gac_eq",{"$f":"IF(OR(D40>P40,D40<Q40),\"contact vendor\",F40*D40^G40+H40*LN(D40)+I40+J40*EXP(K40*D40)+L40*D40^3+M40*D40^2+N40*D40+O40)","v":{"$error":"#NUM!"}},{"$f":"IF(filt_GAC>P40,P40,filt_GAC)","v":0},"gac_eq",{"$f":"VLOOKUP($E40,eq_table_cl,F$4,FALSE)","v":0},0,0,0,0,0,0,0,-6.4169999999999997E-6,1.9285056359999999,40000,0]
["Tanks"]
["Backwash Tanks"]
["Steel","st_bwt_eq",{"$f":"IF(OR(D43>P43,D43<Q43),\"contact vendor\",F43*D43^G43+H43*LN(D43)+I43+J43*EXP(K43*D43)+L43*D43^3+M43*D43^2+N43*D43+O43)","v":{"$error":"#NUM!"}},{"$f":"back_tank_vol","v":0},"st_bwt_eq",{"$f":"VLOOKUP($E43,eq_table_cl,F$4,FALSE)","v":340.81529969399998},0.52157091300000002,0,0,0,0,0,0,0,0,282095,0]
["Fiberglass","fg_bwt_eq",{"$f":"IF(OR(D44>P44,D44<Q44),\"contact vendor\",F44*D44^G44+H44*LN(D44)+I44+J44*EXP(K44*D44)+L44*D44^3+M44*D44^2+N44*D44+O44)","v":{"$error":"#NUM!"}},{"$f":"back_tank_vol","v":0},"fg_bwt_eq",0,0,0,0,0,0,0,-9.0589999999999992E-6,1.617507891,5391.7204035880004,50001,0]
["Plastic/XLPE","hdpe_bwt_eq",{"$f":"IF(OR(D45>P45,D45<Q45),\"contact vendor\",F45*D45^G45+H45*LN(D45)+I45+J45*EXP(K45*D45)+L45*D45^3+M45*D45^2+N45*D45+O45)","v":{"$error":"#NUM!"}},{"$f":"back_tank_vol","v":0},"hdpe_bwt_eq",0,0,0,0,0,0,0,-7.1860000000000003E-6,1.039757461,1210.6270696910001,15001,0]
["Aeration Tanks"]
["Steel","st_aeration_eq",{"$f":"IF(OR(D47>P47,D47<Q47),\"contact vendor\",F47*D47^G47+H47*LN(D47)+I47+J47*EXP(K47*D47)+L47*D47^3+M47*D47^2+N47*D47+O47)","v":1720.1610485954122},{"$f":"aeration_tank_vol","v":22.281639928698748},"st_bwt_eq",{"$f":"VLOOKUP($E47,eq_table_cl,F$4,FALSE)","v":340.81529969399998},0.52157091300000002,0,0,0,0,0,0,0,0,282095,0]
["Fiberglass","fg_aeration_eq",{"$f":"IF(OR(D48>P48,D48<Q48),\"contact vendor\",F48*D48^G48+H48*LN(D48)+I48+J48*EXP(K48*D48)+L48*D48^3+M48*D48^2+N48*D48+O48)","v":5427.7566344619727},{"$f":"aeration_tank_vol","v":22.281639928698748},"fg_bwt_eq",0,0,0,0,0,0,0,-9.0589999999999992E-6,1.617507891,5391.7204035880004,50001,0]
["Plastic/XLPE","hdpe_aeration_eq",{"$f":"IF(OR(D49>P49,D49<Q49),\"contact vendor\",F49*D49^G49+H49*LN(D49)+I49+J49*EXP(K49*D49)+L49*D49^3+M49*D49^2+N49*D49+O49)","v":1233.7910034061399},{"$f":"aeration_tank_vol","v":22.281639928698748},"hdpe_bwt_eq",0,0,0,0,0,0,0,-7.1860000000000003E-6,1.039757461,1210.6270696910001,15001,0]
["Aerators"]
["Diffusers","diffuser_eq",{"$f":"IF(OR(D51>P51,D51<Q51),\"contact vendor\",F51*D51^G51+H51*LN(D51)+I51+J51*EXP(K51*D51)+L51*D51^3+M51*D51^2+N51*D51+O51)","v":44.95210611534327},{"$f":"diffuser_size","v":1.3541666666666665},"diffuser_eq",{"$f":"VLOOKUP($E51,eq_table_cl,F$4,FALSE)","v":0},0,0,0,44.493952872999998,7.5650400000000003E-3,0,0,0,0,44.1,0]
["Electron Donor Storage Tanks"]
["Plastic/XLPE","pl_e_donor_st_eq",{"$f":"IF(OR(D53>P53,D53<Q53),\"contact vendor\",F53*D53^G53+H53*LN(D53)+I53+J53*EXP(K53*D53)+L53*D53^3+M53*D53^2+N53*D53+O53)","v":807.95083836499998},{"$f":"e_donor_tank_vol","v":11},"pl_cst_eq",{"$f":"VLOOKUP($E53,eq_table_cl,F$4,FALSE)","v":0},0,0,0,0,0,0,2.9169000000000001E-5,1.572614629,790.64854799700004,6601,0]
["Fiberglass","fg_e_donor_st_eq",{"$f":"IF(OR(D54>P54,D54<Q54),\"contact vendor\",F54*D54^G54+H54*LN(D54)+I54+J54*EXP(K54*D54)+L54*D54^3+M54*D54^2+N54*D54+O54)","v":4696.8910206319997},{"$f":"e_donor_tank_vol","v":11},"fg_cst_eq",0,0,0,0,0,0,0,-2.3530999999999999E-5,1.774526442,4677.3740770209997,30001,0]
["Stainless Steel","ss_e_donor_st_eq",{"$f":"IF(OR(D55>P55,D55<Q55),\"contact vendor\",F55*D55^G55+H55*LN(D55)+I55+J55*EXP(K55*D55)+L55*D55^3+M55*D55^2+N55*D55+O55)","v":4432.608820939},{"$f":"e_donor_tank_vol","v":11},"ss_cst_eq",0,0,0,0,0,0,0,-7.7020000000000001E-6,2.7162509039999998,4402.7309929370003,30001,0]
["Ammonium Chloride Storage Tanks"]
["Plastic/XLPE","pl_NH4Cl_st_eq",{"$f":"IF(OR(D57>P57,D57<Q57),\"contact vendor\",F57*D57^G57+H57*LN(D57)+I57+J57*EXP(K57*D57)+L57*D57^3+M57*D57^2+N57*D57+O57)","v":{"$error":"#NUM!"}},{"$f":"NH4Cl_tank_vol","v":0},"pl_cst_eq",{"$f":"VLOOKUP($E57,eq_table_cl,F$4,FALSE)","v":0},0,0,0,0,0,0,2.9169000000000001E-5,1.572614629,790.64854799700004,6601,0]
["Fiberglass","fg_NH4Cl_st_eq",{"$f":"IF(OR(D58>P58,D58<Q58),\"contact vendor\",F58*D58^G58+H58*LN(D58)+I58+J58*EXP(K58*D58)+L58*D58^3+M58*D58^2+N58*D58+O58)","v":{"$error":"#NUM!"}},{"$f":"NH4Cl_tank_vol","v":0},"fg_cst_eq",0,0,0,0,0,0,0,-2.3530999999999999E-5,1.774526442,4677.3740770209997,30001,0]
["Stainless Steel","ss_NH4Cl_st_eq",{"$f":"IF(OR(D59>P59,D59<Q59),\"contact vendor\",F59*D59^G59+H59*LN(D59)+I59+J59*EXP(K59*D59)+L59*D59^3+M59*D59^2+N59*D59+O59)","v":{"$error":"#NUM!"}},{"$f":"NH4Cl_tank_vol","v":0},"ss_cst_eq",0,0,0,0,0,0,0,-7.7020000000000001E-6,2.7162509039999998,4402.7309929370003,30001,0]
["Phosphoric Acid Storage Tanks"]
["Plastic/XLPE","pl_H3PO4_st_eq",{"$f":"IF(OR(D61>P61,D61<Q61),\"contact vendor\",F61*D61^G61+H61*LN(D61)+I61+J61*EXP(K61*D61)+L61*D61^3+M61*D61^2+N61*D61+O61)","v":792.22119179499998},{"$f":"H3PO4_tank_vol","v":1},"pl_cst_eq",{"$f":"VLOOKUP($E61,eq_table_cl,F$4,FALSE)","v":0},0,0,0,0,0,0,2.9169000000000001E-5,1.572614629,790.64854799700004,6601,0]
["Fiberglass","fg_H3PO4_st_eq",{"$f":"IF(OR(D62>P62,D62<Q62),\"contact vendor\",F62*D62^G62+H62*LN(D62)+I62+J62*EXP(K62*D62)+L62*D62^3+M62*D62^2+N62*D62+O62)","v":4679.1485799319998},{"$f":"H3PO4_tank_vol","v":1},"fg_cst_eq",0,0,0,0,0,0,0,-2.3530999999999999E-5,1.774526442,4677.3740770209997,30001,0]
["Hydrogen Peroxide Storage Tanks"]
["Plastic/XLPE","pl_H2O2_st_eq",{"$f":"IF(OR(D64>P64,D64<Q64),\"contact vendor\",F64*D64^G64+H64*LN(D64)+I64+J64*EXP(K64*D64)+L64*D64^3+M64*D64^2+N64*D64+O64)","v":{"$error":"#NUM!"}},{"$f":"H2O2_tank_vol","v":0},"pl_cst_eq",{"$f":"VLOOKUP($E64,eq_table_cl,F$4,FALSE)","v":0},0,0,0,0,0,0,2.9169000000000001E-5,1.572614629,790.64854799700004,6601,0]
["Stainless Steel","ss_H2O2_st_eq",{"$f":"IF(OR(D65>P65,D65<Q65),\"contact vendor\",F65*D65^G65+H65*LN(D65)+I65+J65*EXP(K65*D65)+L65*D65^3+M65*D65^2+N65*D65+O65)","v":{"$error":"#NUM!"}},{"$f":"H2O2_tank_vol","v":0},"ss_cst_eq",0,0,0,0,0,0,0,-7.7020000000000001E-6,2.7162509039999998,4402.7309929370003,30001,0]
["Electron Donor Day Tanks"]
["Plastic/XLPE","pl_e_donor_day_eq",{"$f":"IF(OR(D67>P67,D67<Q67),\"contact vendor\",F67*D67^G67+H67*LN(D67)+I67+J67*EXP(K67*D67)+L67*D67^3+M67*D67^2+N67*D67+O67)","v":801.65827968100007},{"$f":"e_donor_day_tank_vol","v":7},"pl_cst_eq",{"$f":"VLOOKUP($E67,eq_table_cl,F$4,FALSE)","v":0},0,0,0,0,0,0,2.9169000000000001E-5,1.572614629,790.64854799700004,6601,0]
["Fiberglass","fg_e_donor_day_eq",{"$f":"IF(OR(D68>P68,D68<Q68),\"contact vendor\",F68*D68^G68+H68*LN(D68)+I68+J68*EXP(K68*D68)+L68*D68^3+M68*D68^2+N68*D68+O68)","v":4689.7946090959995},{"$f":"e_donor_day_tank_vol","v":7},"fg_cst_eq",0,0,0,0,0,0,0,-2.3530999999999999E-5,1.774526442,4677.3740770209997,30001,0]
["Stainless Steel","ss_e_donor_day_eq",{"$f":"IF(OR(D69>P69,D69<Q69),\"contact vendor\",F69*D69^G69+H69*LN(D69)+I69+J69*EXP(K69*D69)+L69*D69^3+M69*D69^2+N69*D69+O69)","v":4421.7443718670002},{"$f":"e_donor_day_tank_vol","v":7},"ss_cst_eq",0,0,0,0,0,0,0,-7.7020000000000001E-6,2.7162509039999998,4402.7309929370003,30001,0]
["Ammonium Chloride Day Tanks"]
["Plastic/XLPE","pl_NH4Cl_day_eq",{"$f":"IF(OR(D71>P71,D71<Q71),\"contact vendor\",F71*D71^G71+H71*LN(D71)+I71+J71*EXP(K71*D71)+L71*D71^3+M71*D71^2+N71*D71+O71)","v":{"$error":"#NUM!"}},{"$f":"NH4Cl_day_tank_vol","v":0},"pl_cst_eq",{"$f":"VLOOKUP($E71,eq_table_cl,F$4,FALSE)","v":0},0,0,0,0,0,0,2.9169000000000001E-5,1.572614629,790.64854799700004,6601,0]
["Fiberglass","fg_NH4Cl_day_eq",{"$f":"IF(OR(D72>P72,D72<Q72),\"contact vendor\",F72*D72^G72+H72*LN(D72)+I72+J72*EXP(K72*D72)+L72*D72^3+M72*D72^2+N72*D72+O72)","v":{"$error":"#NUM!"}},{"$f":"NH4Cl_day_tank_vol","v":0},"fg_cst_eq",0,0,0,0,0,0,0,-2.3530999999999999E-5,1.774526442,4677.3740770209997,30001,0]
["Stainless Steel","ss_NH4Cl_day_eq",{"$f":"IF(OR(D73>P73,D73<Q73),\"contact vendor\",F73*D73^G73+H73*LN(D73)+I73+J73*EXP(K73*D73)+L73*D73^3+M73*D73^2+N73*D73+O73)","v":{"$error":"#NUM!"}},{"$f":"NH4Cl_day_tank_vol","v":0},"ss_cst_eq",0,0,0,0,0,0,0,-7.7020000000000001E-6,2.7162509039999998,4402.7309929370003,30001,0]
["Phosphoric Acid Day Tanks"]
["Plastic/XLPE","pl_H3PO4_day_eq",{"$f":"IF(OR(D75>P75,D75<Q75),\"contact vendor\",F75*D75^G75+H75*LN(D75)+I75+J75*EXP(K75*D75)+L75*D75^3+M75*D75^2+N75*D75+O75)","v":{"$error":"#NUM!"}},{"$f":"H3PO4_day_tank_vol","v":0},"pl_cst_eq",{"$f":"VLOOKUP($E75,eq_table_cl,F$4,FALSE)","v":0},0,0,0,0,0,0,2.9169000000000001E-5,1.572614629,790.64854799700004,6601,0]
["Fiberglass","fg_H3PO4_day_eq",{"$f":"IF(OR(D76>P76,D76<Q76),\"contact vendor\",F76*D76^G76+H76*LN(D76)+I76+J76*EXP(K76*D76)+L76*D76^3+M76*D76^2+N76*D76+O76)","v":{"$error":"#NUM!"}},{"$f":"H3PO4_day_tank_vol","v":0},"fg_cst_eq",0,0,0,0,0,0,0,-2.3530999999999999E-5,1.774526442,4677.3740770209997,30001,0]
["Hydrogen Peroxide Day Tanks"]
["Plastic/XLPE","pl_H2O2_day_eq",{"$f":"IF(OR(D78>P78,D78<Q78),\"contact vendor\",F78*D78^G78+H78*LN(D78)+I78+J78*EXP(K78*D78)+L78*D78^3+M78*D78^2+N78*D78+O78)","v":{"$error":"#NUM!"}},{"$f":"H2O2_day_tank_vol","v":0},"pl_cst_eq",{"$f":"VLOOKUP($E78,eq_table_cl,F$4,FALSE)","v":0},0,0,0,0,0,0,2.9169000000000001E-5,1.572614629,790.64854799700004,6601,0]
["Stainless Steel","ss_H2O2_day_eq",{"$f":"IF(OR(D79>P79,D79<Q79),\"contact vendor\",F79*D79^G79+H79*LN(D79)+I79+J79*EXP(K79*D79)+L79*D79^3+M79*D79^2+N79*D79+O79)","v":{"$error":"#NUM!"}},{"$f":"H2O2_day_tank_vol","v":0},"ss_cst_eq",0,0,0,0,0,0,0,-7.7020000000000001E-6,2.7162509039999998,4402.7309929370003,30001,0]
["Residuals Holding Tanks"]
["Steel Tanks","st_ht_eq",{"$f":"IF(OR(D81>P81,D81<Q81),\"contact vendor\",F81*D81^G81+H81*LN(D81)+I81+J81*EXP(K81*D81)+L81*D81^3+M81*D81^2+N81*D81+O81)","v":17910.383847525602},{"$f":"htank_vol","v":1990},"st_bwt_eq",{"$f":"VLOOKUP($E81,eq_table_cl,F$4,FALSE)","v":340.81529969399998},0.52157091300000002,0,0,0,0,0,0,0,0,282095,0]
["Fiberglass Tanks","fg_ht_eq",{"$f":"IF(OR(D82>P82,D82<Q82),\"contact vendor\",F82*D82^G82+H82*LN(D82)+I82+J82*EXP(K82*D82)+L82*D82^3+M82*D82^2+N82*D82+O82)","v":8574.6865607780001},{"$f":"htank_vol","v":1990},"fg_bwt_eq",0,0,0,0,0,0,0,-9.0589999999999992E-6,1.617507891,5391.7204035880004,50001,0]
["Plastic Tanks","hdpe_ht_eq",{"$f":"IF(OR(D83>P83,D83<Q83),\"contact vendor\",F83*D83^G83+H83*LN(D83)+I83+J83*EXP(K83*D83)+L83*D83^3+M83*D83^2+N83*D83+O83)","v":3251.2871384809996},{"$f":"htank_vol","v":1990},"hdpe_bwt_eq",0,0,0,0,0,0,0,-7.1860000000000003E-6,1.039757461,1210.6270696910001,15001,0]
["Polymer Storage Tanks"]
["Plastic/XLPE","pl_polymer_st_eq",{"$f":"IF(OR(D85>P85,D85<Q85),\"contact vendor\",F85*D85^G85+H85*LN(D85)+I85+J85*EXP(K85*D85)+L85*D85^3+M85*D85^2+N85*D85+O85)","v":813.03459767988909},{"$f":"polymer_tank_vol","v":14.2311675},"pl_cst_eq",{"$f":"VLOOKUP($E85,eq_table_cl,F$4,FALSE)","v":0},0,0,0,0,0,0,2.9169000000000001E-5,1.572614629,790.64854799700004,6601,0]
["Fiberglass","fg_polymer_st_eq",{"$f":"IF(OR(D86>P86,D86<Q86),\"contact vendor\",F86*D86^G86+H86*LN(D86)+I86+J86*EXP(K86*D86)+L86*D86^3+M86*D86^2+N86*D86+O86)","v":4702.622894407953},{"$f":"polymer_tank_vol","v":14.2311675},"fg_cst_eq",0,0,0,0,0,0,0,-2.3530999999999999E-5,1.774526442,4677.3740770209997,30001,0]
["Stainless Steel","ss_polymer_st_eq",{"$f":"IF(OR(D87>P87,D87<Q87),\"contact vendor\",F87*D87^G87+H87*LN(D87)+I87+J87*EXP(K87*D87)+L87*D87^3+M87*D87^2+N87*D87+O87)","v":4441.3848546676099},{"$f":"polymer_tank_vol","v":14.2311675},"ss_cst_eq",0,0,0,0,0,0,0,-7.7020000000000001E-6,2.7162509039999998,4402.7309929370003,30001,0]
["Coagulant Mix Tanks"]
["Steel Tanks","st_coag_eq",{"$f":"IF(OR(D89>P89,D89<Q89),\"contact vendor\",F89*D89^G89+H89*LN(D89)+I89+J89*EXP(K89*D89)+L89*D89^3+M89*D89^2+N89*D89+O89)","v":1660.9069197961201},{"$f":"coag_mix_tank_size","v":20.833333333333332},"st_bwt_eq",{"$f":"VLOOKUP($E89,eq_table_cl,F$4,FALSE)","v":340.81529969399998},0.52157091300000002,0,0,0,0,0,0,0,0,282095,0]
["Fiberglass Tanks","fg_coag_eq",{"$f":"IF(OR(D90>P90,D90<Q90),\"contact vendor\",F90*D90^G90+H90*LN(D90)+I90+J90*EXP(K90*D90)+L90*D90^3+M90*D90^2+N90*D90+O90)","v":5425.4145527928613},{"$f":"coag_mix_tank_size","v":20.833333333333332},"fg_bwt_eq",0,0,0,0,0,0,0,-9.0589999999999992E-6,1.617507891,5391.7204035880004,50001,0]
["Plastic/XLPE Tanks","hdpe_coag_eq",{"$f":"IF(OR(D91>P91,D91<Q91),\"contact vendor\",F91*D91^G91+H91*LN(D91)+I91+J91*EXP(K91*D91)+L91*D91^3+M91*D91^2+N91*D91+O91)","v":1232.2855645382224},{"$f":"coag_mix_tank_size","v":20.833333333333332},"hdpe_bwt_eq",0,0,0,0,0,0,0,-7.1860000000000003E-6,1.039757461,1210.6270696910001,15001,0]
["Piping"]
["Backwash Piping"]
["CPVC","cpvc_pipe_eq_back",{"$f":"IF(OR(D94>P94,D94<Q94),\"contact vendor\",F94*D94^G94+H94*LN(D94)+I94+J94*EXP(K94*D94)+L94*D94^3+M94*D94^2+N94*D94+O94)","v":23.548696342},{"$f":"back_pipe_diam","v":4},"cpvc_pipe_eq",{"$f":"VLOOKUP($E94,eq_table_cl,F$4,FALSE)","v":0},0,0,0,0,0,1.0356694E-2,0.56514584199999995,3.222257634,0.95450391800000001,18.100000000000001,0]
["PVC","pvc_pipe_eq_back",{"$f":"IF(OR(D95>P95,D95<Q95),\"contact vendor\",F95*D95^G95+H95*LN(D95)+I95+J95*EXP(K95*D95)+L95*D95^3+M95*D95^2+N95*D95+O95)","v":5.0980922770000001},{"$f":"back_pipe_diam","v":4},"pvc_pipe_eq",0,0,0,0,0,0,0,0.110356803,0.235228044,2.3914712530000002,48.1,0]
["Stainless Steel","ss_pipe_eq_back",{"$f":"IF(OR(D96>P96,D96<Q96),\"contact vendor\",F96*D96^G96+H96*LN(D96)+I96+J96*EXP(K96*D96)+L96*D96^3+M96*D96^2+N96*D96+O96)","v":116.097974425},{"$f":"back_pipe_diam","v":4},"ss_pipe_eq",0,0,0,0,0,0,4.5974516999999999E-2,-2.1581476180000001,37.689363942,-3.0714885430000001,48.1,0]
["Steel","st_pipe_eq_back",{"$f":"IF(OR(D97>P97,D97<Q97),\"contact vendor\",F97*D97^G97+H97*LN(D97)+I97+J97*EXP(K97*D97)+L97*D97^3+M97*D97^2+N97*D97+O97)","v":69.724224939999999},{"$f":"back_pipe_diam","v":4},"st_pipe_eq",0,0,0,0,0,0,6.630642E-3,-0.63889849600000004,21.167729973,-5.1486801040000003,48.1,1]
["Electron Donor Piping"]
["CPVC","cpvc_pipe_eq_e_donor",{"$f":"IF(OR(D99>P99,D99<Q99),\"contact vendor\",F99*D99^G99+H99*LN(D99)+I99+J99*EXP(K99*D99)+L99*D99^3+M99*D99^2+N99*D99+O99)","v":2.7082137822500001},{"$f":"e_donor_pipe_diam","v":0.5},"cpvc_pipe_eq",{"$f":"VLOOKUP($E99,eq_table_cl,F$4,FALSE)","v":0},0,0,0,0,0,1.0356694E-2,0.56514584199999995,3.222257634,0.95450391800000001,18.100000000000001,0]
["PVC","pvc_pipe_eq_e_donor",{"$f":"IF(OR(D100>P100,D100<Q100),\"contact vendor\",F100*D100^G100+H100*LN(D100)+I100+J100*EXP(K100*D100)+L100*D100^3+M100*D100^2+N100*D100+O100)","v":2.5366744757500004},{"$f":"e_donor_pipe_diam","v":0.5},"pvc_pipe_eq",0,0,0,0,0,0,0,0.110356803,0.235228044,2.3914712530000002,48.1,0]
["Stainless Steel","ss_pipe_eq_e_donor",{"$f":"IF(OR(D101>P101,D101<Q101),\"contact vendor\",F101*D101^G101+H101*LN(D101)+I101+J101*EXP(K101*D101)+L101*D101^3+M101*D101^2+N101*D101+O101)","v":15.239403338124998},{"$f":"e_donor_pipe_diam","v":0.5},"ss_pipe_eq",0,0,0,0,0,0,4.5974516999999999E-2,-2.1581476180000001,37.689363942,-3.0714885430000001,48.1,0]
["Steel","st_pipe_eq_e_donor",{"$f":"IF(OR(D102>P102,D102<Q102),\"contact vendor\",F102*D102^G102+H102*LN(D102)+I102+J102*EXP(K102*D102)+L102*D102^3+M102*D102^2+N102*D102+O102)","v":"contact vendor"},{"$f":"e_donor_pipe_diam","v":0.5},"st_pipe_eq",0,0,0,0,0,0,6.630642E-3,-0.63889849600000004,21.167729973,-5.1486801040000003,48.1,1]
["Ammonium Chloride Piping"]
["CPVC","cpvc_pipe_eq_NH4Cl",{"$f":"IF(OR(D104>P104,D104<Q104),\"contact vendor\",F104*D104^G104+H104*LN(D104)+I104+J104*EXP(K104*D104)+L104*D104^3+M104*D104^2+N104*D104+O104)","v":{"$error":"#NUM!"}},{"$f":"NH4Cl_pipe_diam","v":0},"cpvc_pipe_eq",{"$f":"VLOOKUP($E104,eq_table_cl,F$4,FALSE)","v":0},0,0,0,0,0,1.0356694E-2,0.56514584199999995,3.222257634,0.95450391800000001,18.100000000000001,0]
["PVC","pvc_pipe_eq_NH4Cl",{"$f":"IF(OR(D105>P105,D105<Q105),\"contact vendor\",F105*D105^G105+H105*LN(D105)+I105+J105*EXP(K105*D105)+L105*D105^3+M105*D105^2+N105*D105+O105)","v":{"$error":"#NUM!"}},{"$f":"NH4Cl_pipe_diam","v":0},"pvc_pipe_eq",0,0,0,0,0,0,0,0.110356803,0.235228044,2.3914712530000002,48.1,0]
["Stainless Steel","ss_pipe_eq_NH4Cl",{"$f":"IF(OR(D106>P106,D106<Q106),\"contact vendor\",F106*D106^G106+H106*LN(D106)+I106+J106*EXP(K106*D106)+L106*D106^3+M106*D106^2+N106*D106+O106)","v":{"$error":"#NUM!"}},{"$f":"NH4Cl_pipe_diam","v":0},"ss_pipe_eq",0,0,0,0,0,0,4.5974516999999999E-2,-2.1581476180000001,37.689363942,-3.0714885430000001,48.1,0]
["Steel","st_pipe_eq_NH4Cl",{"$f":"IF(OR(D107>P107,D107<Q107),\"contact vendor\",F107*D107^G107+H107*LN(D107)+I107+J107*EXP(K107*D107)+L107*D107^3+M107*D107^2+N107*D107+O107)","v":"contact vendor"},{"$f":"NH4Cl_pipe_diam","v":0},"st_pipe_eq",0,0,0,0,0,0,6.630642E-3,-0.63889849600000004,21.167729973,-5.1486801040000003,48.1,1]
["Phosphoric Acid Piping"]
["CPVC","cpvc_pipe_eq_H3PO4",{"$f":"IF(OR(D109>P109,D109<Q109),\"contact vendor\",F109*D109^G109+H109*LN(D109)+I109+J109*EXP(K109*D109)+L109*D109^3+M109*D109^2+N109*D109+O109)","v":2.7082137822500001},{"$f":"H3PO4_pipe_diam","v":0.5},"cpvc_pipe_eq",{"$f":"VLOOKUP($E109,eq_table_cl,F$4,FALSE)","v":0},0,0,0,0,0,1.0356694E-2,0.56514584199999995,3.222257634,0.95450391800000001,18.100000000000001,0]
["PVC","pvc_pipe_eq_H3PO4",{"$f":"IF(OR(D110>P110,D110<Q110),\"contact vendor\",F110*D110^G110+H110*LN(D110)+I110+J110*EXP(K110*D110)+L110*D110^3+M110*D110^2+N110*D110+O110)","v":2.5366744757500004},{"$f":"H3PO4_pipe_diam","v":0.5},"pvc_pipe_eq",0,0,0,0,0,0,0,0.110356803,0.235228044,2.3914712530000002,48.1,0]
["Stainless Steel","ss_pipe_eq_H3PO4",{"$f":"IF(OR(D111>P111,D111<Q111),\"contact vendor\",F111*D111^G111+H111*LN(D111)+I111+J111*EXP(K111*D111)+L111*D111^3+M111*D111^2+N111*D111+O111)","v":15.239403338124998},{"$f":"H3PO4_pipe_diam","v":0.5},"ss_pipe_eq",0,0,0,0,0,0,4.5974516999999999E-2,-2.1581476180000001,37.689363942,-3.0714885430000001,48.1,0]
["Steel","st_pipe_eq_H3PO4",{"$f":"IF(OR(D112>P112,D112<Q112),\"contact vendor\",F112*D112^G112+H112*LN(D112)+I112+J112*EXP(K112*D112)+L112*D112^3+M112*D112^2+N112*D112+O112)","v":"contact vendor"},{"$f":"H3PO4_pipe_diam","v":0.5},"st_pipe_eq",0,0,0,0,0,0,6.630642E-3,-0.63889849600000004,21.167729973,-5.1486801040000003,48.1,1]
["Process Piping"]
["Ductile Iron","di_pipe_eq_proc",{"$f":"IF(OR(D114>P114,D114<Q114),\"contact vendor\",F114*D114^G114+H114*LN(D114)+I114+J114*EXP(K114*D114)+L114*D114^3+M114*D114^2+N114*D114+O114)","v":"contact vendor"},{"$f":"proc_pipe_diam","v":1.5},"di_pipe_eq",{"$f":"VLOOKUP($E114,eq_table_cl,F$4,FALSE)","v":0},0,0,0,0,0,0,0.100985408,4.4966242760000004,12.030020025000001,48.1,4]
["CPVC","cpvc_pipe_eq_proc",{"$f":"IF(OR(D115>P115,D115<Q115),\"contact vendor\",F115*D115^G115+H115*LN(D115)+I115+J115*EXP(K115*D115)+L115*D115^3+M115*D115^2+N115*D115+O115)","v":7.0944223557499999},{"$f":"proc_pipe_diam","v":1.5},"cpvc_pipe_eq",0,0,0,0,0,0,1.0356694E-2,0.56514584199999995,3.222257634,0.95450391800000001,18.100000000000001,0]
["PVC","pvc_pipe_eq_proc",{"$f":"IF(OR(D116>P116,D116<Q116),\"contact vendor\",F116*D116^G116+H116*LN(D116)+I116+J116*EXP(K116*D116)+L116*D116^3+M116*D116^2+N116*D116+O116)","v":2.9926161257500001},{"$f":"proc_pipe_diam","v":1.5},"pvc_pipe_eq",0,0,0,0,0,0,0,0.110356803,0.235228044,2.3914712530000002,48.1,0]
["Stainless Steel","ss_pipe_eq_proc",{"$f":"IF(OR(D117>P117,D117<Q117),\"contact vendor\",F117*D117^G117+H117*LN(D117)+I117+J117*EXP(K117*D117)+L117*D117^3+M117*D117^2+N117*D117+O117)","v":48.761889224374997},{"$f":"proc_pipe_diam","v":1.5},"ss_pipe_eq",0,0,0,0,0,0,4.5974516999999999E-2,-2.1581476180000001,37.689363942,-3.0714885430000001,48.1,0]
["Steel","st_pipe_eq_proc",{"$f":"IF(OR(D118>P118,D118<Q118),\"contact vendor\",F118*D118^G118+H118*LN(D118)+I118+J118*EXP(K118*D118)+L118*D118^3+M118*D118^2+N118*D118+O118)","v":25.18777165625},{"$f":"proc_pipe_diam","v":1.5},"st_pipe_eq",0,0,0,0,0,0,6.630642E-3,-0.63889849600000004,21.167729973,-5.1486801040000003,48.1,1]
["Recycle Piping"]
["CPVC","cpvc_pipe_eq_rec",{"$f":"IF(OR(D120>P120,D120<Q120),\"contact vendor\",F120*D120^G120+H120*LN(D120)+I120+J120*EXP(K120*D120)+L120*D120^3+M120*D120^2+N120*D120+O120)","v":{"$error":"#NUM!"}},{"$f":"recycle_pipe_diam","v":0},"cpvc_pipe_eq",{"$f":"VLOOKUP($E120,eq_table_cl,F$4,FALSE)","v":0},0,0,0,0,0,1.0356694E-2,0.56514584199999995,3.222257634,0.95450391800000001,18.100000000000001,0]
["PVC","pvc_pipe_eq_rec",{"$f":"IF(OR(D121>P121,D121<Q121),\"contact vendor\",F121*D121^G121+H121*LN(D121)+I121+J121*EXP(K121*D121)+L121*D121^3+M121*D121^2+N121*D121+O121)","v":{"$error":"#NUM!"}},{"$f":"recycle_pipe_diam","v":0},"pvc_pipe_eq",0,0,0,0,0,0,0,0.110356803,0.235228044,2.3914712530000002,48.1,0]
["Stainless Steel","ss_pipe_eq_rec",{"$f":"IF(OR(D122>P122,D122<Q122),\"contact vendor\",F122*D122^G122+H122*LN(D122)+I122+J122*EXP(K122*D122)+L122*D122^3+M122*D122^2+N122*D122+O122)","v":{"$error":"#NUM!"}},{"$f":"recycle_pipe_diam","v":0},"ss_pipe_eq",0,0,0,0,0,0,4.5974516999999999E-2,-2.1581476180000001,37.689363942,-3.0714885430000001,48.1,0]
["Steel","st_pipe_eq_rec",{"$f":"IF(OR(D123>P123,D123<Q123),\"contact vendor\",F123*D123^G123+H123*LN(D123)+I123+J123*EXP(K123*D123)+L123*D123^3+M123*D123^2+N123*D123+O123)","v":"contact vendor"},{"$f":"recycle_pipe_diam","v":0},"st_pipe_eq",0,0,0,0,0,0,6.630642E-3,-0.63889849600000004,21.167729973,-5.1486801040000003,48.1,1]
["Bypass Piping"]
["CPVC","cpvc_pipe_eq_bp",{"$f":"IF(OR(D125>P125,D125<Q125),\"contact vendor\",F125*D125^G125+H125*LN(D125)+I125+J125*EXP(K125*D125)+L125*D125^3+M125*D125^2+N125*D125+O125)","v":{"$error":"#NUM!"}},{"$f":"bp_pipe_diam","v":0},"cpvc_pipe_eq",{"$f":"VLOOKUP($E125,eq_table_cl,F$4,FALSE)","v":0},0,0,0,0,0,1.0356694E-2,0.56514584199999995,3.222257634,0.95450391800000001,18.100000000000001,0]
["PVC","pvc_pipe_eq_bp",{"$f":"IF(OR(D126>P126,D126<Q126),\"contact vendor\",F126*D126^G126+H126*LN(D126)+I126+J126*EXP(K126*D126)+L126*D126^3+M126*D126^2+N126*D126+O126)","v":{"$error":"#NUM!"}},{"$f":"bp_pipe_diam","v":0},"pvc_pipe_eq",0,0,0,0,0,0,0,0.110356803,0.235228044,2.3914712530000002,48.1,0]
["Stainless Steel","ss_pipe_eq_bp",{"$f":"IF(OR(D127>P127,D127<Q127),\"contact vendor\",F127*D127^G127+H127*LN(D127)+I127+J127*EXP(K127*D127)+L127*D127^3+M127*D127^2+N127*D127+O127)","v":{"$error":"#NUM!"}},{"$f":"bp_pipe_diam","v":0},"ss_pipe_eq",0,0,0,0,0,0,4.5974516999999999E-2,-2.1581476180000001,37.689363942,-3.0714885430000001,48.1,0]
["Steel","st_pipe_eq_bp",{"$f":"IF(OR(D128>P128,D128<Q128),\"contact vendor\",F128*D128^G128+H128*LN(D128)+I128+J128*EXP(K128*D128)+L128*D128^3+M128*D128^2+N128*D128+O128)","v":"contact vendor"},{"$f":"bp_pipe_diam","v":0},"st_pipe_eq",0,0,0,0,0,0,6.630642E-3,-0.63889849600000004,21.167729973,-5.1486801040000003,48.1,1]
["Inlet and Outlet Piping"]
["Ductile Iron","di_pipe_eq_in_out",{"$f":"IF(OR(D130>P130,D130<Q130),\"contact vendor\",F130*D130^G130+H130*LN(D130)+I130+J130*EXP(K130*D130)+L130*D130^3+M130*D130^2+N130*D130+O130)","v":"contact vendor"},{"$f":"in_out_pipe_diam","v":1.5},"di_pipe_eq",{"$f":"VLOOKUP($E130,eq_table_cl,F$4,FALSE)","v":0},0,0,0,0,0,0,0.100985408,4.4966242760000004,12.030020025000001,48.1,4]
["CPVC","cpvc_pipe_eq_in_out",{"$f":"IF(OR(D131>P131,D131<Q131),\"contact vendor\",F131*D131^G131+H131*LN(D131)+I131+J131*EXP(K131*D131)+L131*D131^3+M131*D131^2+N131*D131+O131)","v":7.0944223557499999},{"$f":"in_out_pipe_diam","v":1.5},"cpvc_pipe_eq",0,0,0,0,0,0,1.0356694E-2,0.56514584199999995,3.222257634,0.95450391800000001,18.100000000000001,0]
["PVC","pvc_pipe_eq_in_out",{"$f":"IF(OR(D132>P132,D132<Q132),\"contact vendor\",F132*D132^G132+H132*LN(D132)+I132+J132*EXP(K132*D132)+L132*D132^3+M132*D132^2+N132*D132+O132)","v":2.9926161257500001},{"$f":"in_out_pipe_diam","v":1.5},"pvc_pipe_eq",0,0,0,0,0,0,0,0.110356803,0.235228044,2.3914712530000002,48.1,0]
["Stainless Steel","ss_pipe_eq_in_out",{"$f":"IF(OR(D133>P133,D133<Q133),\"contact vendor\",F133*D133^G133+H133*LN(D133)+I133+J133*EXP(K133*D133)+L133*D133^3+M133*D133^2+N133*D133+O133)","v":48.761889224374997},{"$f":"in_out_pipe_diam","v":1.5},"ss_pipe_eq",0,0,0,0,0,0,4.5974516999999999E-2,-2.1581476180000001,37.689363942,-3.0714885430000001,48.1,0]
["Steel","st_pipe_eq_in_out",{"$f":"IF(OR(D134>P134,D134<Q134),\"contact vendor\",F134*D134^G134+H134*LN(D134)+I134+J134*EXP(K134*D134)+L134*D134^3+M134*D134^2+N134*D134+O134)","v":25.18777165625},{"$f":"in_out_pipe_diam","v":1.5},"st_pipe_eq",0,0,0,0,0,0,6.630642E-3,-0.63889849600000004,21.167729973,-5.1486801040000003,48.1,1]
["Residuals Piping"]
["CPVC","cpvc_pipe_eq_res",{"$f":"IF(OR(D136>P136,D136<Q136),\"contact vendor\",F136*D136^G136+H136*LN(D136)+I136+J136*EXP(K136*D136)+L136*D136^3+M136*D136^2+N136*D136+O136)","v":4.7522640880000004},{"$f":"res_pipe_diam","v":1},"cpvc_pipe_eq",{"$f":"VLOOKUP($E136,eq_table_cl,F$4,FALSE)","v":0},0,0,0,0,0,1.0356694E-2,0.56514584199999995,3.222257634,0.95450391800000001,18.100000000000001,0]
["PVC","pvc_pipe_eq_res",{"$f":"IF(OR(D137>P137,D137<Q137),\"contact vendor\",F137*D137^G137+H137*LN(D137)+I137+J137*EXP(K137*D137)+L137*D137^3+M137*D137^2+N137*D137+O137)","v":2.7370561000000002},{"$f":"res_pipe_diam","v":1},"pvc_pipe_eq",0,0,0,0,0,0,0,0.110356803,0.235228044,2.3914712530000002,48.1,0]
["Stainless Steel","ss_pipe_eq_res",{"$f":"IF(OR(D138>P138,D138<Q138),\"contact vendor\",F138*D138^G138+H138*LN(D138)+I138+J138*EXP(K138*D138)+L138*D138^3+M138*D138^2+N138*D138+O138)","v":32.505702297999996},{"$f":"res_pipe_diam","v":1},"ss_pipe_eq",0,0,0,0,0,0,4.5974516999999999E-2,-2.1581476180000001,37.689363942,-3.0714885430000001,48.1,0]
["Steel","st_pipe_eq_res",{"$f":"IF(OR(D139>P139,D139<Q139),\"contact vendor\",F139*D139^G139+H139*LN(D139)+I139+J139*EXP(K139*D139)+L139*D139^3+M139*D139^2+N139*D139+O139)","v":15.386782015000001},{"$f":"res_pipe_diam","v":1},"st_pipe_eq",0,0,0,0,0,0,6.630642E-3,-0.63889849600000004,21.167729973,-5.1486801040000003,48.1,1]
["Hydrogen Peroxide Piping"]
["CPVC","cpvc_pipe_eq_H2O2",{"$f":"IF(OR(D141>P141,D141<Q141),\"contact vendor\",F141*D141^G141+H141*LN(D141)+I141+J141*EXP(K141*D141)+L141*D141^3+M141*D141^2+N141*D141+O141)","v":{"$error":"#NUM!"}},{"$f":"H202_pipe_diam","v":0},"cpvc_pipe_eq",{"$f":"VLOOKUP($E141,eq_table_cl,F$4,FALSE)","v":0},0,0,0,0,0,1.0356694E-2,0.56514584199999995,3.222257634,0.95450391800000001,18.100000000000001,0]
["PVC","pvc_pipe_eq_H2O2",{"$f":"IF(OR(D142>P142,D142<Q142),\"contact vendor\",F142*D142^G142+H142*LN(D142)+I142+J142*EXP(K142*D142)+L142*D142^3+M142*D142^2+N142*D142+O142)","v":{"$error":"#NUM!"}},{"$f":"H202_pipe_diam","v":0},"pvc_pipe_eq",0,0,0,0,0,0,0,0.110356803,0.235228044,2.3914712530000002,48.1,0]
["Stainless Steel","ss_pipe_eq_H2O2",{"$f":"IF(OR(D143>P143,D143<Q143),\"contact vendor\",F143*D143^G143+H143*LN(D143)+I143+J143*EXP(K143*D143)+L143*D143^3+M143*D143^2+N143*D143+O143)","v":{"$error":"#NUM!"}},{"$f":"H202_pipe_diam","v":0},"ss_pipe_eq",0,0,0,0,0,0,4.5974516999999999E-2,-2.1581476180000001,37.689363942,-3.0714885430000001,48.1,0]
["Steel","st_pipe_eq_H2O2",{"$f":"IF(OR(D144>P144,D144<Q144),\"contact vendor\",F144*D144^G144+H144*LN(D144)+I144+J144*EXP(K144*D144)+L144*D144^3+M144*D144^2+N144*D144+O144)","v":"contact vendor"},{"$f":"H202_pipe_diam","v":0},"st_pipe_eq",0,0,0,0,0,0,6.630642E-3,-0.63889849600000004,21.167729973,-5.1486801040000003,48.1,1]
["Polymer Piping"]
["CPVC","cpvc_pipe_eq_polymer",{"$f":"IF(OR(D146>P146,D146<Q146),\"contact vendor\",F146*D146^G146+H146*LN(D146)+I146+J146*EXP(K146*D146)+L146*D146^3+M146*D146^2+N146*D146+O146)","v":2.7082137822500001},{"$f":"polymer_pipe_diam","v":0.5},"cpvc_pipe_eq",{"$f":"VLOOKUP($E146,eq_table_cl,F$4,FALSE)","v":0},0,0,0,0,0,1.0356694E-2,0.56514584199999995,3.222257634,0.95450391800000001,18.100000000000001,0]
["PVC","pvc_pipe_eq_polymer",{"$f":"IF(OR(D147>P147,D147<Q147),\"contact vendor\",F147*D147^G147+H147*LN(D147)+I147+J147*EXP(K147*D147)+L147*D147^3+M147*D147^2+N147*D147+O147)","v":2.5366744757500004},{"$f":"polymer_pipe_diam","v":0.5},"pvc_pipe_eq",0,0,0,0,0,0,0,0.110356803,0.235228044,2.3914712530000002,48.1,0]
["Stainless Steel","ss_pipe_eq_polymer",{"$f":"IF(OR(D148>P148,D148<Q148),\"contact vendor\",F148*D148^G148+H148*LN(D148)+I148+J148*EXP(K148*D148)+L148*D148^3+M148*D148^2+N148*D148+O148)","v":15.239403338124998},{"$f":"polymer_pipe_diam","v":0.5},"ss_pipe_eq",0,0,0,0,0,0,4.5974516999999999E-2,-2.1581476180000001,37.689363942,-3.0714885430000001,48.1,0]
["Steel","st_pipe_eq_polymer",{"$f":"IF(OR(D149>P149,D149<Q149),\"contact vendor\",F149*D149^G149+H149*LN(D149)+I149+J149*EXP(K149*D149)+L149*D149^3+M149*D149^2+N149*D149+O149)","v":"contact vendor"},{"$f":"polymer_pipe_diam","v":0.5},"st_pipe_eq",0,0,0,0,0,0,6.630642E-3,-0.63889849600000004,21.167729973,-5.1486801040000003,48.1,1]
["Valves and Fittings"]
["Motor/Air Operated (on/off)"]
["Polypropylene/PVC - Process","pp_mov_eq_tank",{"$f":"IF(OR(D152>P152,D152<Q152),\"contact vendor\",F152*D152^G152+H152*LN(D152)+I152+J152*EXP(K152*D152)+L152*D152^3+M152*D152^2+N152*D152+O152)","v":613.12081747683965},{"$f":"tank_valve_size","v":1.5},{"$f":"IF(D152>12,\"pp_mov_eq_large\",\"pp_mov_eq_small\")","v":"pp_mov_eq_small"},{"$f":"VLOOKUP($E152,eq_table_cl,F$4,FALSE)","v":0},0,0,0,445.65232098299998,0.21268194000000001,0,0,0,0,12,0]
["Stainless Steel - Process","ss_mov_eq_tank",963.24317081749996,{"$f":"tank_valve_size","v":1.5},"ss_mov_eq",0,0,0,0,0,0,0,76.908725779999997,393.08666071099998,200.56854674600001,48.1,0]
["Cast Iron - Process","ci_mov_eq_tank",1199.336346974125,{"$f":"tank_valve_size","v":1.5},"ci_mov_eq",0,0,0,0,0,0,-6.5106489000000003E-2,28.845623929999999,71.319704893999997,1027.6738701910001,48.1,1]
["Polypropylene/PVC - Backwash","pp_mov_eq_back",1043.4281388529059,{"$f":"back_valve_size","v":4},{"$f":"IF(D155>12,\"pp_mov_eq_large\",\"pp_mov_eq_small\")","v":"pp_mov_eq_small"},0,0,0,0,445.65232098299998,0.21268194000000001,0,0,0,0,12,0]
["Stainless Steel - Backwash","ss_mov_eq_back",3003.4548020699995,{"$f":"back_valve_size","v":4},"ss_mov_eq",0,0,0,0,0,0,0,76.908725779999997,393.08666071099998,200.56854674600001,48.1,0]
["Cast Iron - Backwash","ci_mov_eq_back",1770.315857351,{"$f":"back_valve_size","v":4},"ci_mov_eq",0,0,0,0,0,0,-6.5106489000000003E-2,28.845623929999999,71.319704893999997,1027.6738701910001,48.1,1]
["Polypropylene/PVC - Recycle","pp_mov_eq_rec",{"$error":"#NUM!"},{"$f":"rec_valve_size","v":0},{"$f":"IF(D158>12,\"pp_mov_eq_large\",\"pp_mov_eq_small\")","v":"pp_mov_eq_small"},0,0,0,0,445.65232098299998,0.21268194000000001,0,0,0,0,12,0]
["Stainless Steel - Recycle","ss_mov_eq_rec",{"$error":"#NUM!"},{"$f":"rec_valve_size","v":0},"ss_mov_eq",0,0,0,0,0,0,0,76.908725779999997,393.08666071099998,200.56854674600001,48.1,0]
["Polypropylene/PVC - Electron Donor","pp_mov_eq_e_donor",495.65497445216556,{"$f":"e_donor_valve_size","v":0.5},{"$f":"IF(D160>12,\"pp_mov_eq_large\",\"pp_mov_eq_small\")","v":"pp_mov_eq_small"},0,0,0,0,445.65232098299998,0.21268194000000001,0,0,0,0,12,0]
["Stainless Steel - Electron Donor","ss_mov_eq_e_donor",416.33905854650004,{"$f":"e_donor_valve_size","v":0.5},"ss_mov_eq",0,0,0,0,0,0,0,76.908725779999997,393.08666071099998,200.56854674600001,48.1,0]
["Polypropylene/PVC - NH4Cl","pp_mov_eq_NH4Cl",{"$error":"#NUM!"},{"$f":"NH4Cl_valve_size","v":0},{"$f":"IF(D162>12,\"pp_mov_eq_large\",\"pp_mov_eq_small\")","v":"pp_mov_eq_small"},{"$f":"VLOOKUP($E162,eq_table_cl,F$4,FALSE)","v":0},0,0,0,445.65232098299998,0.21268194000000001,0,0,0,0,12,0]
["Stainless Steel - NH4Cl","ss_mov_eq_NH4Cl",{"$error":"#NUM!"},{"$f":"NH4Cl_valve_size","v":0},"ss_mov_eq",0,0,0,0,0,0,0,76.908725779999997,393.08666071099998,200.56854674600001,48.1,0]
["Polypropylene/PVC - H3PO4","pp_mov_eq_H3PO4",495.65497445216556,{"$f":"H3PO4_valve_size","v":0.5},{"$f":"IF(D164>12,\"pp_mov_eq_large\",\"pp_mov_eq_small\")","v":"pp_mov_eq_small"},0,0,0,0,445.65232098299998,0.21268194000000001,0,0,0,0,12,0]
["Stainless Steel - H3PO4","ss_mov_eq_H3PO4",416.33905854650004,{"$f":"H3PO4_valve_size","v":0.5},"ss_mov_eq",0,0,0,0,0,0,0,76.908725779999997,393.08666071099998,200.56854674600001,48.1,0]
["Polypropylene/PVC - Bypass","pp_mov_eq_bp",{"$error":"#NUM!"},{"$f":"bypass_valve_size","v":0},{"$f":"IF(D166>12,\"pp_mov_eq_large\",\"pp_mov_eq_small\")","v":"pp_mov_eq_small"},0,0,0,0,445.65232098299998,0.21268194000000001,0,0,0,0,12,0]
["Stainless Steel - Bypass","ss_mov_eq_bp",{"$error":"#NUM!"},{"$f":"bypass_valve_size","v":0},"ss_mov_eq",0,0,0,0,0,0,0,76.908725779999997,393.08666071099998,200.56854674600001,48.1,0]
["Cast Iron - Bypass","ci_mov_eq_bp","contact vendor",{"$f":"bypass_valve_size","v":0},"ci_mov_eq",0,0,0,0,0,0,-6.5106489000000003E-2,28.845623929999999,71.319704893999997,1027.6738701910001,48.1,1]
["Polypropylene/PVC - residuals","pp_mov_eq_res",551.26797759580938,{"$f":"res_valve_size","v":1},{"$f":"IF(D169>12,\"pp_mov_eq_large\",\"pp_mov_eq_small\")","v":"pp_mov_eq_small"},0,0,0,0,445.65232098299998,0.21268194000000001,0,0,0,0,12,0]
["Stainless Steel - residuals","ss_mov_eq_res",670.56393323700001,{"$f":"res_valve_size","v":1},"ss_mov_eq",0,0,0,0,0,0,0,76.908725779999997,393.08666071099998,200.56854674600001,48.1,0]
["Cast Iron - residuals","ci_mov_eq_res",1127.774092526,{"$f":"res_valve_size","v":1},"ci_mov_eq",0,0,0,0,0,0,-6.5106489000000003E-2,28.845623929999999,71.319704893999997,1027.6738701910001,48.1,1]
["Polypropylene/PVC - Air Scour","pp_mov_eq_air",613.12081747683965,{"$f":"air_valve_size","v":1.5},{"$f":"IF(D172>12,\"pp_mov_eq_large\",\"pp_mov_eq_small\")","v":"pp_mov_eq_small"},{"$f":"VLOOKUP($E172,eq_table_cl,F$4,FALSE)","v":0},0,0,0,445.65232098299998,0.21268194000000001,0,0,0,0,12,0]
["Stainless Steel - Air Scour","ss_mov_eq_air",963.24317081749996,{"$f":"air_valve_size","v":1.5},"ss_mov_eq",0,0,0,0,0,0,0,76.908725779999997,393.08666071099998,200.56854674600001,48.1,0]
["Cast Iron - Air Scour","ci_mov_eq_air",1199.336346974125,{"$f":"air_valve_size","v":1.5},"ci_mov_eq",0,0,0,0,0,0,-6.5106489000000003E-2,28.845623929999999,71.319704893999997,1027.6738701910001,48.1,1]
["Polypropylene/PVC - Air Biomass Removal","pp_mov_eq_bio_air",{"$f":"IF(OR(D175>P175,D175<Q175),\"contact vendor\",F175*D175^G175+H175*LN(D175)+I175+J175*EXP(K175*D175)+L175*D175^3+M175*D175^2+N175*D175+O175)","v":{"$error":"#NUM!"}},{"$f":"bio_air_valve_size","v":0},{"$f":"IF(D175>12,\"pp_mov_eq_large\",\"pp_mov_eq_small\")","v":"pp_mov_eq_small"},0,0,0,0,445.65232098299998,0.21268194000000001,0,0,0,0,12,0]
["Stainless Steel - Air Biomass Removal","ss_mov_eq_bio_air",{"$error":"#NUM!"},{"$f":"bio_air_valve_size","v":0},"ss_mov_eq",0,0,0,0,0,0,0,76.908725779999997,393.08666071099998,200.56854674600001,48.1,0]
["Cast Iron - Air Biomass Removal","ci_mov_eq_bio_air","contact vendor",{"$f":"bio_air_valve_size","v":0},"ci_mov_eq",0,0,0,0,0,0,-6.5106489000000003E-2,28.845623929999999,71.319704893999997,1027.6738701910001,48.1,1]
["Polypropylene/PVC - Aeration","pp_mov_eq_aeration",522.722407546824,{"$f":"aeration_valve_size","v":0.75},{"$f":"IF(D178>12,\"pp_mov_eq_large\",\"pp_mov_eq_small\")","v":"pp_mov_eq_small"},0,0,0,0,445.65232098299998,0.21268194000000001,0,0,0,0,12,0]
["Stainless Steel - Aeration","ss_mov_eq_aeration",538.64470053050002,{"$f":"aeration_valve_size","v":0.75},"ss_mov_eq",0,0,0,0,0,0,0,76.908725779999997,393.08666071099998,200.56854674600001,48.1,0]
["Cast Iron - Aeration","ci_mov_eq_aeration","contact vendor",{"$f":"aeration_valve_size","v":0.75},"ci_mov_eq",0,0,0,0,0,0,-6.5106489000000003E-2,28.845623929999999,71.319704893999997,1027.6738701910001,48.1,1]
["Polypropylene/PVC - H2O2","pp_mov_eq_H2O2",{"$error":"#NUM!"},{"$f":"H2O2_valve_size","v":0},{"$f":"IF(D181>12,\"pp_mov_eq_large\",\"pp_mov_eq_small\")","v":"pp_mov_eq_small"},0,0,0,0,445.65232098299998,0.21268194000000001,0,0,0,0,12,0]
["Stainless Steel - H2O2","ss_mov_eq_H2O2",{"$error":"#NUM!"},{"$f":"H2O2_valve_size","v":0},"ss_mov_eq",0,0,0,0,0,0,0,76.908725779999997,393.08666071099998,200.56854674600001,48.1,0]
["Polypropylene/PVC - Polymer","pp_mov_eq_polymer",{"$f":"IF(OR(D183>P183,D183<Q183),\"contact vendor\",F183*D183^G183+H183*LN(D183)+I183+J183*EXP(K183*D183)+L183*D183^3+M183*D183^2+N183*D183+O183)","v":495.65497445216556},{"$f":"polymer_valve_size","v":0.5},{"$f":"IF(D183>12,\"pp_mov_eq_large\",\"pp_mov_eq_small\")","v":"pp_mov_eq_small"},0,0,0,0,445.65232098299998,0.21268194000000001,0,0,0,0,12,0]
["Stainless Steel - Polymer","ss_mov_eq_polymer",{"$f":"IF(OR(D184>P184,D184<Q184),\"contact vendor\",F184*D184^G184+H184*LN(D184)+I184+J184*EXP(K184*D184)+L184*D184^3+M184*D184^2+N184*D184+O184)","v":416.33905854650004},{"$f":"polymer_valve_size","v":0.5},"ss_mov_eq",0,0,0,0,0,0,0,76.908725779999997,393.08666071099998,200.56854674600001,48.1,0]
["Cast Iron - Polymer","ci_mov_eq_polymer",{"$f":"IF(OR(D185>P185,D185<Q185),\"contact vendor\",F185*D185^G185+H185*LN(D185)+I185+J185*EXP(K185*D185)+L185*D185^3+M185*D185^2+N185*D185+O185)","v":"contact vendor"},{"$f":"polymer_valve_size","v":0.5},"ci_mov_eq",0,0,0,0,0,0,-6.5106489000000003E-2,28.845623929999999,71.319704893999997,1027.6738701910001,48.1,1]
["Manual"]
["Polypropylene/PVC - Inlet and outlet","pp_man_eq",{"$f":"IF(OR(D187>P187,D187<Q187),\"contact vendor\",F187*D187^G187+H187*LN(D187)+I187+J187*EXP(K187*D187)+L187*D187^3+M187*D187^2+N187*D187+O187)","v":240.94885330037496},{"$f":"in_valve_size","v":1.5},{"$f":"IF(D187>12,\"pp_man_eq_large\",\"pp_man_eq_small\")","v":"pp_man_eq_small"},{"$f":"VLOOKUP($E187,eq_table_cl,F$4,FALSE)","v":0},0,0,0,0,0,2.7689868610000001,-29.723792209999999,180.93906510599999,27.073457458,12,0]
["Stainless Steel - Inlet and outlet","ss_man_eq",441.95623800290133,{"$f":"in_valve_size","v":1.5},"ss_man_eq",223.248424414,1.684302033,0,0,0,0,0,0,0,0,12.1,1]
["Cast Iron - Inlet and outlet","ci_bfv_eq",243.51576556212501,{"$f":"in_valve_size","v":1.5},{"$f":"IF(D189>12,\"ci_bfv_eq_large\",\"ci_bfv_eq_small\")","v":"ci_bfv_eq_small"},0,0,0,0,0,0,-0.46051790100000001,13.155724568,123.18694075800001,30.689222062999999,12,1]
["Polypropylene/PVC - Process","pp_man_eq_proc",240.94885330037496,{"$f":"tank_valve_size","v":1.5},{"$f":"IF(D190>12,\"pp_man_eq_large\",\"pp_man_eq_small\")","v":"pp_man_eq_small"},0,0,0,0,0,0,2.7689868610000001,-29.723792209999999,180.93906510599999,27.073457458,12,0]
["Stainless Steel - Process","ss_man_eq_proc",441.95623800290133,{"$f":"tank_valve_size","v":1.5},"ss_man_eq",223.248424414,1.684302033,0,0,0,0,0,0,0,0,12.1,1]
["Cast Iron - Process","ci_bfv_eq_proc",243.51576556212501,{"$f":"tank_valve_size","v":1.5},{"$f":"IF(D192>12,\"ci_bfv_eq_large\",\"ci_bfv_eq_small\")","v":"ci_bfv_eq_small"},0,0,0,0,0,0,-0.46051790100000001,13.155724568,123.18694075800001,30.689222062999999,12,1]
["Polypropylene/PVC - Backwash","pp_man_eq_back",452.46420162599998,{"$f":"back_valve_size","v":4},{"$f":"IF(D193>12,\"pp_man_eq_large\",\"pp_man_eq_small\")","v":"pp_man_eq_small"},0,0,0,0,0,0,2.7689868610000001,-29.723792209999999,180.93906510599999,27.073457458,12,0]
["Stainless Steel - Backwash","ss_man_eq_back",2305.8936316941122,{"$f":"back_valve_size","v":4},"ss_man_eq",223.248424414,1.684302033,0,0,0,0,0,0,0,0,12.1,1]
["Cast Iron - Backwash","ci_man_eq_back",704.45543251899994,{"$f":"back_valve_size","v":4},{"$f":"IF(D195>12,\"ci_bfv_eq_large\",\"ci_bfv_eq_small\")","v":"ci_bfv_eq_small"},0,0,0,0,0,0,-0.46051790100000001,13.155724568,123.18694075800001,30.689222062999999,12,1]
["Polypropylene/PVC - Recycle","pp_man_eq_rec",{"$error":"#NUM!"},{"$f":"rec_valve_size","v":0},{"$f":"IF(D196>12,\"pp_man_eq_large\",\"pp_man_eq_small\")","v":"pp_man_eq_small"},0,0,0,0,0,0,2.7689868610000001,-29.723792209999999,180.93906510599999,27.073457458,12,0]
["Stainless Steel - Recycle","ss_man_eq_rec","contact vendor",{"$f":"rec_valve_size","v":0},"ss_man_eq",{"$f":"VLOOKUP($E197,eq_table_cl,F$4,FALSE)","v":223.248424414},1.684302033,0,0,0,0,0,0,0,0,12.1,1]
["Polypropylene/PVC - Electron Donor","pp_man_eq_e_donor",{"$f":"IF(OR(D198>P198,D198<Q198),\"contact vendor\",F198*D198^G198+H198*LN(D198)+I198+J198*EXP(K198*D198)+L198*D198^3+M198*D198^2+N198*D198+O198)","v":110.45816531612499},{"$f":"e_donor_valve_size","v":0.5},{"$f":"IF(D198>12,\"pp_man_eq_large\",\"pp_man_eq_small\")","v":"pp_man_eq_small"},0,0,0,0,0,0,2.7689868610000001,-29.723792209999999,180.93906510599999,27.073457458,12,0]
["Stainless Steel - Electron Donor","ss_man_eq_e_donor","contact vendor",{"$f":"e_donor_valve_size","v":0.5},"ss_man_eq",223.248424414,1.684302033,0,0,0,0,0,0,0,0,12.1,1]
["Polypropylene/PVC - NH4Cl","pp_man_eq_NH4Cl",{"$error":"#NUM!"},{"$f":"NH4Cl_valve_size","v":0},{"$f":"IF(D200>12,\"pp_man_eq_large\",\"pp_man_eq_small\")","v":"pp_man_eq_small"},0,0,0,0,0,0,2.7689868610000001,-29.723792209999999,180.93906510599999,27.073457458,12,0]
["Stainless Steel - NH4Cl","ss_man_eq_NH4Cl","contact vendor",{"$f":"NH4Cl_valve_size","v":0},"ss_man_eq",223.248424414,1.684302033,0,0,0,0,0,0,0,0,12.1,1]
["Polypropylene/PVC - H3PO4","pp_man_eq_H3PO4",110.45816531612499,{"$f":"H3PO4_valve_size","v":0.5},{"$f":"IF(D202>12,\"pp_man_eq_large\",\"pp_man_eq_small\")","v":"pp_man_eq_small"},0,0,0,0,0,0,2.7689868610000001,-29.723792209999999,180.93906510599999,27.073457458,12,0]
["Stainless Steel - H3PO4","ss_man_eq_H3PO4","contact vendor",{"$f":"H3PO4_valve_size","v":0.5},"ss_man_eq",223.248424414,1.684302033,0,0,0,0,0,0,0,0,12.1,1]
["Polypropylene/PVC - Bypass","pp_man_eq_bp",{"$f":"IF(OR(D204>P204,D204<Q204),\"contact vendor\",F204*D204^G204+H204*LN(D204)+I204+J204*EXP(K204*D204)+L204*D204^3+M204*D204^2+N204*D204+O204)","v":{"$error":"#NUM!"}},{"$f":"bypass_valve_size","v":0},{"$f":"IF(D204>12,\"pp_man_eq_large\",\"pp_man_eq_small\")","v":"pp_man_eq_small"},0,0,0,0,0,0,2.7689868610000001,-29.723792209999999,180.93906510599999,27.073457458,12,0]
["Stainless Steel - Bypass","ss_man_eq_bp","contact vendor",{"$f":"bypass_valve_size","v":0},"ss_man_eq",223.248424414,1.684302033,0,0,0,0,0,0,0,0,12.1,1]
["Cast Iron - Bypass","ci_man_eq_bp","contact vendor",{"$f":"bypass_valve_size","v":0},{"$f":"IF(D206>12,\"ci_bfv_eq_large\",\"ci_bfv_eq_small\")","v":"ci_bfv_eq_small"},0,0,0,0,0,0,-0.46051790100000001,13.155724568,123.18694075800001,30.689222062999999,12,1]
["Polypropylene/PVC - residuals","pp_man_eq_res",181.057717215,{"$f":"res_valve_size","v":1},{"$f":"IF(D207>12,\"pp_man_eq_large\",\"pp_man_eq_small\")","v":"pp_man_eq_small"},{"$f":"VLOOKUP($E207,eq_table_cl,F$4,FALSE)","v":0},0,0,0,0,0,2.7689868610000001,-29.723792209999999,180.93906510599999,27.073457458,12,0]
["Stainless Steel - residuals","ss_man_eq_res",223.248424414,{"$f":"res_valve_size","v":1},"ss_man_eq",223.248424414,1.684302033,0,0,0,0,0,0,0,0,12.1,1]
["Cast Iron - residuals","ci_man_eq_res",166.57136948799999,{"$f":"res_valve_size","v":1},{"$f":"IF(D209>12,\"ci_bfv_eq_large\",\"ci_bfv_eq_small\")","v":"ci_bfv_eq_small"},0,0,0,0,0,0,-0.46051790100000001,13.155724568,123.18694075800001,30.689222062999999,12,1]
["Polypropylene/PVC - Air Scour","pp_man_eq_air",240.94885330037496,{"$f":"air_valve_size","v":1.5},{"$f":"IF(D210>12,\"pp_man_eq_large\",\"pp_man_eq_small\")","v":"pp_man_eq_small"},0,0,0,0,0,0,2.7689868610000001,-29.723792209999999,180.93906510599999,27.073457458,12,0]
["Stainless Steel - Air Scour","ss_man_eq_air",441.95623800290133,{"$f":"air_valve_size","v":1.5},"ss_man_eq",223.248424414,1.684302033,0,0,0,0,0,0,0,0,12.1,1]
["Cast Iron - Air Scour","ci_man_eq_air","contact vendor",{"$f":"bio_air_valve_size","v":0},{"$f":"IF(D212>12,\"ci_bfv_eq_large\",\"ci_bfv_eq_small\")","v":"ci_bfv_eq_small"},0,0,0,0,0,0,-0.46051790100000001,13.155724568,123.18694075800001,30.689222062999999,12,1]
["Polypropylene/PVC - Air Biomass Removal","pp_man_eq_bio_air",{"$f":"IF(OR(D213>P213,D213<Q213),\"contact vendor\",F213*D213^G213+H213*LN(D213)+I213+J213*EXP(K213*D213)+L213*D213^3+M213*D213^2+N213*D213+O213)","v":{"$error":"#NUM!"}},{"$f":"bio_air_valve_size","v":0},{"$f":"IF(D213>12,\"pp_man_eq_large\",\"pp_man_eq_small\")","v":"pp_man_eq_small"},0,0,0,0,0,0,2.7689868610000001,-29.723792209999999,180.93906510599999,27.073457458,12,0]
["Stainless Steel - Air Biomass Removal","ss_man_eq_bio_air","contact vendor",{"$f":"bio_air_valve_size","v":0},"ss_man_eq",223.248424414,1.684302033,0,0,0,0,0,0,0,0,12.1,1]
["Cast Iron - Air Biomass Removal","ci_man_eq_bio_air","contact vendor",{"$f":"aeration_valve_size","v":0.75},{"$f":"IF(D215>12,\"ci_bfv_eq_large\",\"ci_bfv_eq_small\")","v":"ci_bfv_eq_small"},0,0,0,0,0,0,-0.46051790100000001,13.155724568,123.18694075800001,30.689222062999999,12,1]
["Polypropylene/PVC - Aeration","pp_man_eq_aeration",147.22628950135936,{"$f":"aeration_valve_size","v":0.75},{"$f":"IF(D216>12,\"pp_man_eq_large\",\"pp_man_eq_small\")","v":"pp_man_eq_small"},0,0,0,0,0,0,2.7689868610000001,-29.723792209999999,180.93906510599999,27.073457458,12,0]
["Stainless Steel - Aeration","ss_man_eq_aeration","contact vendor",{"$f":"aeration_valve_size","v":0.75},"ss_man_eq",{"$f":"VLOOKUP($E217,eq_table_cl,F$4,FALSE)","v":223.248424414},1.684302033,0,0,0,0,0,0,0,0,12.1,1]
["Cast Iron - Aeration","ci_man_eq_aeration",243.51576556212501,{"$f":"air_valve_size","v":1.5},{"$f":"IF(D218>12,\"ci_bfv_eq_large\",\"ci_bfv_eq_small\")","v":"ci_bfv_eq_small"},0,0,0,0,0,0,-0.46051790100000001,13.155724568,123.18694075800001,30.689222062999999,12,1]
["Polypropylene/PVC - H2O2","pp_man_eq_H2O2",{"$error":"#NUM!"},{"$f":" H2O2_valve_size","v":0},{"$f":"IF(D219>12,\"pp_man_eq_large\",\"pp_man_eq_small\")","v":"pp_man_eq_small"},0,0,0,0,0,0,2.7689868610000001,-29.723792209999999,180.93906510599999,27.073457458,12,0]
["Stainless Steel - H2O2","ss_man_eq_H2O2","contact vendor",{"$f":" H2O2_valve_size","v":0},"ss_man_eq",223.248424414,1.684302033,0,0,0,0,0,0,0,0,12.1,1]
["Polypropylene/PVC - Polymer","pp_man_eq_polymer",{"$f":"IF(OR(D221>P221,D221<Q221),\"contact vendor\",F221*D221^G221+H221*LN(D221)+I221+J221*EXP(K221*D221)+L221*D221^3+M221*D221^2+N221*D221+O221)","v":110.45816531612499},{"$f":" polymer_valve_size","v":0.5},{"$f":"IF(D221>12,\"pp_man_eq_large\",\"pp_man_eq_small\")","v":"pp_man_eq_small"},0,0,0,0,0,0,2.7689868610000001,-29.723792209999999,180.93906510599999,27.073457458,12,0]
["Stainless Steel - Polymer","ss_man_eq_polymer",{"$f":"IF(OR(D222>P222,D222<Q222),\"contact vendor\",F222*D222^G222+H222*LN(D222)+I222+J222*EXP(K222*D222)+L222*D222^3+M222*D222^2+N222*D222+O222)","v":"contact vendor"},{"$f":" polymer_valve_size","v":0.5},"ss_man_eq",223.248424414,1.684302033,0,0,0,0,0,0,0,0,12.1,1]
["Cast Iron - Polymer","ci_man_eq_polymer",{"$f":"IF(OR(D223>P223,D223<Q223),\"contact vendor\",F223*D223^G223+H223*LN(D223)+I223+J223*EXP(K223*D223)+L223*D223^3+M223*D223^2+N223*D223+O223)","v":"contact vendor"},{"$f":"polymer_valve_size","v":0.5},{"$f":"IF(D223>12,\"ci_bfv_eq_large\",\"ci_bfv_eq_small\")","v":"ci_bfv_eq_small"},0,0,0,0,0,0,-0.46051790100000001,13.155724568,123.18694075800001,30.689222062999999,12,1]
["Check Valves"]
["Polypropylene/PVC - Backwash","pp_chv_eq",{"$f":"IF(OR(D225>P225,D225<Q225),\"contact vendor\",F225*D225^G225+H225*LN(D225)+I225+J225*EXP(K225*D225)+L225*D225^3+M225*D225^2+N225*D225+O225)","v":679.8872684349999},{"$f":"back_valve_size","v":4},"pp_chv_eq",{"$f":"VLOOKUP($E225,eq_table_cl,F$4,FALSE)","v":0},0,0,0,0,0,0,29.515280190999999,41.246830076999998,42.655465071000002,12.1,0]
["Stainless Steel - Backwash","ss_chv_eq",1824.3179101380001,{"$f":"back_valve_size","v":4},"ss_chv_eq",0,0,0,0,0,0,0,31.65091559,305.12540561700001,97.401638230000003,48.1,0]
["Cast Iron - Backwash","ci_chv_eq",1081.9633616900001,{"$f":"back_valve_size","v":4},"ci_chv_eq",0,0,0,0,0,0,1.023101824,-6.5814120579999997,411.440485583,-523.97450445000004,24.1,2]
["Polypropylene/PVC - Residuals","pp_chv_eq_res",113.417575339,{"$f":"res_valve_size","v":1},"pp_chv_eq",0,0,0,0,0,0,0,29.515280190999999,41.246830076999998,42.655465071000002,12.1,0]
["Stainless Steel - Residuals","ss_chv_eq_res",434.17795943700003,{"$f":"res_valve_size","v":1},"ss_chv_eq",0,0,0,0,0,0,0,31.65091559,305.12540561700001,97.401638230000003,48.1,0]
["Cast Iron - Residuals","ci_chv_eq_res","contact vendor",{"$f":"res_valve_size","v":1},"ci_chv_eq",0,0,0,0,0,0,1.023101824,-6.5814120579999997,411.440485583,-523.97450445000004,24.1,2]
["Polypropylene/PVC - Inlet and Outlet","pp_chv_eq_in",170.93509061624999,{"$f":"in_valve_size","v":1.5},"pp_chv_eq",0,0,0,0,0,0,0,29.515280190999999,41.246830076999998,42.655465071000002,12.1,0]
["Stainless Steel - Inlet and Outlet","ss_chv_eq_in",626.30430673299998,{"$f":"in_valve_size","v":1.5},"ss_chv_eq",0,0,0,0,0,0,0,31.65091559,305.12540561700001,97.401638230000003,48.1,0]
["Cast Iron - Inlet and Outlet","ci_chv_eq_in","contact vendor",{"$f":"in_valve_size","v":1.5},"ci_chv_eq",0,0,0,0,0,0,1.023101824,-6.5814120579999997,411.440485583,-523.97450445000004,24.1,2]
["Polypropylene/PVC - Bypass","pp_chv_eq_bp",{"$error":"#NUM!"},{"$f":"bypass_valve_size","v":0},"pp_chv_eq",0,0,0,0,0,0,0,29.515280190999999,41.246830076999998,42.655465071000002,12.1,0]
["Stainless Steel - Bypass","ss_chv_eq_bp",{"$error":"#NUM!"},{"$f":"bypass_valve_size","v":0},"ss_chv_eq",{"$f":"VLOOKUP($E235,eq_table_cl,F$4,FALSE)","v":0},0,0,0,0,0,0,31.65091559,305.12540561700001,97.401638230000003,48.1,0]
["Cast Iron - Bypass","ci_chv_eq_bp","contact vendor",{"$f":"bypass_valve_size","v":0},"ci_chv_eq",0,0,0,0,0,0,1.023101824,-6.5814120579999997,411.440485583,-523.97450445000004,24.1,2]
["Polypropylene/PVC - Electron Donor","pp_chv_eq_e_donor",{"$f":"IF(OR(D237>P237,D237<Q237),\"contact vendor\",F237*D237^G237+H237*LN(D237)+I237+J237*EXP(K237*D237)+L237*D237^3+M237*D237^2+N237*D237+O237)","v":70.657700157250005},{"$f":"e_donor_valve_size","v":0.5},"pp_chv_eq",0,0,0,0,0,0,0,29.515280190999999,41.246830076999998,42.655465071000002,12.1,0]
["Stainless Steel - Electron Donor","ss_chv_eq_e_donor",257.877069936,{"$f":"e_donor_valve_size","v":0.5},"ss_chv_eq",0,0,0,0,0,0,0,31.65091559,305.12540561700001,97.401638230000003,48.1,0]
["Polypropylene/PVC - NH4Cl","pp_chv_eq_NH4Cl",{"$error":"#NUM!"},{"$f":"NH4Cl_valve_size","v":0},"pp_chv_eq",0,0,0,0,0,0,0,29.515280190999999,41.246830076999998,42.655465071000002,12.1,0]
["Stainless Steel - NH4Cl","ss_chv_eq_NH4Cl",{"$error":"#NUM!"},{"$f":"NH4Cl_valve_size","v":0},"ss_chv_eq",0,0,0,0,0,0,0,31.65091559,305.12540561700001,97.401638230000003,48.1,0]
["Polypropylene/PVC - H3PO4","pp_chv_eq_H3PO4",70.657700157250005,{"$f":"H3PO4_valve_size","v":0.5},"pp_chv_eq",0,0,0,0,0,0,0,29.515280190999999,41.246830076999998,42.655465071000002,12.1,0]
["Stainless Steel - H3PO4","ss_chv_eq_H3PO4",257.877069936,{"$f":"H3PO4_valve_size","v":0.5},"ss_chv_eq",0,0,0,0,0,0,0,31.65091559,305.12540561700001,97.401638230000003,48.1,0]
["Polypropylene/PVC - H2O2","pp_chv_eq_H2O2",{"$f":"IF(OR(D243>P243,D243<Q243),\"contact vendor\",F243*D243^G243+H243*LN(D243)+I243+J243*EXP(K243*D243)+L243*D243^3+M243*D243^2+N243*D243+O243)","v":{"$error":"#NUM!"}},{"$f":"H2O2_valve_size","v":0},"pp_chv_eq",0,0,0,0,0,0,0,29.515280190999999,41.246830076999998,42.655465071000002,12.1,0]
["Stainless Steel -  H2O2","ss_chv_eq_H2O2",{"$f":"IF(OR(D244>P244,D244<Q244),\"contact vendor\",F244*D244^G244+H244*LN(D244)+I244+J244*EXP(K244*D244)+L244*D244^3+M244*D244^2+N244*D244+O244)","v":{"$error":"#NUM!"}},{"$f":"H2O2_valve_size","v":0},"ss_chv_eq",0,0,0,0,0,0,0,31.65091559,305.12540561700001,97.401638230000003,48.1,0]
["Polypropylene/PVC - Polymer","pp_chv_eq_polymer",{"$f":"IF(OR(D245>P245,D245<Q245),\"contact vendor\",F245*D245^G245+H245*LN(D245)+I245+J245*EXP(K245*D245)+L245*D245^3+M245*D245^2+N245*D245+O245)","v":70.657700157250005},{"$f":" polymer_valve_size","v":0.5},"pp_chv_eq",0,0,0,0,0,0,0,29.515280190999999,41.246830076999998,42.655465071000002,12.1,0]
["Stainless Steel - Polymer","ss_chv_eq_polymer",{"$f":"IF(OR(D246>P246,D246<Q246),\"contact vendor\",F246*D246^G246+H246*LN(D246)+I246+J246*EXP(K246*D246)+L246*D246^3+M246*D246^2+N246*D246+O246)","v":257.877069936},{"$f":" polymer_valve_size","v":0.5},"ss_chv_eq",0,0,0,0,0,0,0,31.65091559,305.12540561700001,97.401638230000003,48.1,0]
["Cast Iron - Polymer","ci_chv_eq_polymer",{"$f":"IF(OR(D247>P247,D247<Q247),\"contact vendor\",F247*D247^G247+H247*LN(D247)+I247+J247*EXP(K247*D247)+L247*D247^3+M247*D247^2+N247*D247+O247)","v":"contact vendor"},{"$f":" polymer_valve_size","v":0.5},"ci_chv_eq",0,0,0,0,0,0,1.023101824,-6.5814120579999997,411.440485583,-523.97450445000004,24.1,2]
["Pumps & Blowers"]
["Booster","pump_eq",{"$f":"IF(OR(D249>P249,D249<Q249),\"contact vendor\",F249*D249^G249+H249*LN(D249)+I249+J249*EXP(K249*D249)+L249*D249^3+M249*D249^2+N249*D249+O249)","v":{"$error":"#NUM!"}},{"$f":"pump_rating","v":0},"pump_eq",{"$f":"VLOOKUP($E249,eq_table_cl,F$4,FALSE)","v":0},0,0,0,0,0,0,-4.77083E-4,12.333908155,6801.7707008589996,10001,0]
["Recycle","recycle_pump_eq",{"$f":"IF(OR(D250>P250,D250<Q250),\"contact vendor\",F250*D250^G250+H250*LN(D250)+I250+J250*EXP(K250*D250)+L250*D250^3+M250*D250^2+N250*D250+O250)","v":{"$error":"#NUM!"}},{"$f":"recycle_pump_rating","v":0},"pump_eq",0,0,0,0,0,0,0,-4.77083E-4,12.333908155,6801.7707008589996,10001,0]
["Backwash","pump_eq_back",{"$f":"IF(OR(D251>P251,D251<Q251),\"contact vendor\",F251*D251^G251+H251*LN(D251)+I251+J251*EXP(K251*D251)+L251*D251^3+M251*D251^2+N251*D251+O251)","v":{"$error":"#NUM!"}},{"$f":"back_pump_rating","v":0},"back_pump_eq",0,0,0,0,0,0,0,-4.77083E-4,12.333908155,6801.7707008589996,10001,0]
["Residuals","res_pump_eq",{"$f":"IF(OR(D252>P252,D252<Q252),\"contact vendor\",F252*D252^G252+H252*LN(D252)+I252+J252*EXP(K252*D252)+L252*D252^3+M252*D252^2+N252*D252+O252)","v":6817.4014501099509},{"$f":"res_pump_rating","v":1.2673611111111112},"pump_eq",0,0,0,0,0,0,0,-4.77083E-4,12.333908155,6801.7707008589996,10001,0]
["Electron Donor"]
["PVC - Motor Driven","pvc_e_donor_mmpump_eq",{"$f":"IF(OR(D254>P254,D254<Q254),\"contact vendor\",F254*D254^G254+H254*LN(D254)+I254+J254*EXP(K254*D254)+L254*D254^3+M254*D254^2+N254*D254+O254)","v":1594.2924204007243},{"$f":"cm_pump_rating_e_donor","v":0.13},"pvc_mmpump_eq",{"$f":"VLOOKUP($E254,eq_table_cl,F$4,FALSE)","v":2172.344597881},0.151638992,0,0,0,0,0,0,0,0,108.01,0]
["Stainless Steel - Motor Driven","ss_e_donor_mmpump_eq",{"$f":"IF(OR(D255>P255,D255<Q255),\"contact vendor\",F255*D255^G255+H255*LN(D255)+I255+J255*EXP(K255*D255)+L255*D255^3+M255*D255^2+N255*D255+O255)","v":4471.3656963212616},{"$f":"cm_pump_rating_e_donor","v":0.13},"ss_mmpump_eq",0,0,0,0,0,0,-5.1428000000000003E-5,2.3675107000000001E-2,7.1142014380000003,4470.4404501380004,360.01,0]
["PVC - Electric","pvc_e_donor_empump_eq",{"$f":"IF(OR(D256>P256,D256<Q256),\"contact vendor\",F256*D256^G256+H256*LN(D256)+I256+J256*EXP(K256*D256)+L256*D256^3+M256*D256^2+N256*D256+O256)","v":467.74905785406344},{"$f":"cm_pump_rating_e_donor","v":0.13},"pvc_empump_eq",857.79971691399999,0.297241692,0,0,0,0,0,0,0,0,71.160000000000011,0]
["Stainless Steel - Electric","ss_e_donor_empump_eq",{"$f":"IF(OR(D257>P257,D257<Q257),\"contact vendor\",F257*D257^G257+H257*LN(D257)+I257+J257*EXP(K257*D257)+L257*D257^3+M257*D257^2+N257*D257+O257)","v":1076.4332962193243},{"$f":"cm_pump_rating_e_donor","v":0.13},"ss_empump_eq",1671.4158388379999,0.21567175299999999,0,0,0,0,0,0,0,0,186.35999999999999,0]
["Ammonium Chloride"]
["PVC - Motor Driven","pvc_NH4Cl_mmpump_eq",{"$f":"IF(OR(D259>P259,D259<Q259),\"contact vendor\",F259*D259^G259+H259*LN(D259)+I259+J259*EXP(K259*D259)+L259*D259^3+M259*D259^2+N259*D259+O259)","v":{"$error":"#NUM!"}},{"$f":"cm_pump_rating_NH4Cl","v":0},"pvc_mmpump_eq",{"$f":"VLOOKUP($E259,eq_table_cl,F$4,FALSE)","v":2172.344597881},0.151638992,0,0,0,0,0,0,0,0,108.01,0]
["Stainless Steel - Motor Driven","ss_NH4Cl_mmpump_eq",{"$f":"IF(OR(D260>P260,D260<Q260),\"contact vendor\",F260*D260^G260+H260*LN(D260)+I260+J260*EXP(K260*D260)+L260*D260^3+M260*D260^2+N260*D260+O260)","v":{"$error":"#NUM!"}},{"$f":"cm_pump_rating_NH4Cl","v":0},"ss_mmpump_eq",0,0,0,0,0,0,-5.1428000000000003E-5,2.3675107000000001E-2,7.1142014380000003,4470.4404501380004,360.01,0]
["PVC - Electric","pvc_NH4Cl_empump_eq",{"$f":"IF(OR(D261>P261,D261<Q261),\"contact vendor\",F261*D261^G261+H261*LN(D261)+I261+J261*EXP(K261*D261)+L261*D261^3+M261*D261^2+N261*D261+O261)","v":{"$error":"#NUM!"}},{"$f":"cm_pump_rating_NH4Cl","v":0},"pvc_empump_eq",857.79971691399999,0.297241692,0,0,0,0,0,0,0,0,71.160000000000011,0]
["Stainless Steel - Electric","ss_NH4Cl_empump_eq",{"$f":"IF(OR(D262>P262,D262<Q262),\"contact vendor\",F262*D262^G262+H262*LN(D262)+I262+J262*EXP(K262*D262)+L262*D262^3+M262*D262^2+N262*D262+O262)","v":{"$error":"#NUM!"}},{"$f":"cm_pump_rating_NH4Cl","v":0},"ss_empump_eq",1671.4158388379999,0.21567175299999999,0,0,0,0,0,0,0,0,186.35999999999999,0]
["Phosphoric Acid"]
["PVC - Motor Driven","pvc_H3PO4_mmpump_eq",{"$f":"IF(OR(D264>P264,D264<Q264),\"contact vendor\",F264*D264^G264+H264*LN(D264)+I264+J264*EXP(K264*D264)+L264*D264^3+M264*D264^2+N264*D264+O264)","v":1594.2924204007243},{"$f":"cm_pump_rating_H3PO4","v":0.13},"pvc_mmpump_eq",{"$f":"VLOOKUP($E264,eq_table_cl,F$4,FALSE)","v":2172.344597881},0.151638992,0,0,0,0,0,0,0,0,108.01,0]
["Stainless Steel - Motor Driven","ss_H3PO4_mmpump_eq",{"$f":"IF(OR(D265>P265,D265<Q265),\"contact vendor\",F265*D265^G265+H265*LN(D265)+I265+J265*EXP(K265*D265)+L265*D265^3+M265*D265^2+N265*D265+O265)","v":4471.3656963212616},{"$f":"cm_pump_rating_H3PO4","v":0.13},"ss_mmpump_eq",0,0,0,0,0,0,-5.1428000000000003E-5,2.3675107000000001E-2,7.1142014380000003,4470.4404501380004,360.01,0]
["PVC - Electric","pvc_H3PO4_empump_eq",{"$f":"IF(OR(D266>P266,D266<Q266),\"contact vendor\",F266*D266^G266+H266*LN(D266)+I266+J266*EXP(K266*D266)+L266*D266^3+M266*D266^2+N266*D266+O266)","v":467.74905785406344},{"$f":"cm_pump_rating_H3PO4","v":0.13},"pvc_empump_eq",857.79971691399999,0.297241692,0,0,0,0,0,0,0,0,71.160000000000011,0]
["Stainless Steel - Electric","ss_H3PO4_empump_eq",{"$f":"IF(OR(D267>P267,D267<Q267),\"contact vendor\",F267*D267^G267+H267*LN(D267)+I267+J267*EXP(K267*D267)+L267*D267^3+M267*D267^2+N267*D267+O267)","v":1076.4332962193243},{"$f":"cm_pump_rating_H3PO4","v":0.13},"ss_empump_eq",1671.4158388379999,0.21567175299999999,0,0,0,0,0,0,0,0,186.35999999999999,0]
["Hydrogen Peroxide"]
["PVC - Motor Driven","pvc_H2O2_mmpump_eq",{"$f":"IF(OR(D269>P269,D269<Q269),\"contact vendor\",F269*D269^G269+H269*LN(D269)+I269+J269*EXP(K269*D269)+L269*D269^3+M269*D269^2+N269*D269+O269)","v":{"$error":"#NUM!"}},{"$f":"cm_pump_rating_H2O2","v":0},"pvc_mmpump_eq",{"$f":"VLOOKUP($E269,eq_table_cl,F$4,FALSE)","v":2172.344597881},0.151638992,0,0,0,0,0,0,0,0,108.01,0]
["Stainless Steel - Motor Driven","ss_H2O2_mmpump_eq",{"$f":"IF(OR(D270>P270,D270<Q270),\"contact vendor\",F270*D270^G270+H270*LN(D270)+I270+J270*EXP(K270*D270)+L270*D270^3+M270*D270^2+N270*D270+O270)","v":{"$error":"#NUM!"}},{"$f":"cm_pump_rating_H2O2","v":0},"ss_mmpump_eq",0,0,0,0,0,0,-5.1428000000000003E-5,2.3675107000000001E-2,7.1142014380000003,4470.4404501380004,360.01,0]
["PVC - Electric","pvc_H2O2_empump_eq",{"$f":"IF(OR(D271>P271,D271<Q271),\"contact vendor\",F271*D271^G271+H271*LN(D271)+I271+J271*EXP(K271*D271)+L271*D271^3+M271*D271^2+N271*D271+O271)","v":{"$error":"#NUM!"}},{"$f":"cm_pump_rating_H2O2","v":0},"pvc_empump_eq",857.79971691399999,0.297241692,0,0,0,0,0,0,0,0,71.160000000000011,0]
["Stainless Steel - Electric","ss_H2O2_empump_eq",{"$f":"IF(OR(D272>P272,D272<Q272),\"contact vendor\",F272*D272^G272+H272*LN(D272)+I272+J272*EXP(K272*D272)+L272*D272^3+M272*D272^2+N272*D272+O272)","v":{"$error":"#NUM!"}},{"$f":"cm_pump_rating_H2O2","v":0},"ss_empump_eq",1671.4158388379999,0.21567175299999999,0,0,0,0,0,0,0,0,186.35999999999999,0]
["Polymer"]
["PVC - Motor Driven","pvc_polymer_mmpump_eq",{"$f":"IF(OR(D274>P274,D274<Q274),\"contact vendor\",F274*D274^G274+H274*LN(D274)+I274+J274*EXP(K274*D274)+L274*D274^3+M274*D274^2+N274*D274+O274)","v":2913.3578630532797},{"$f":"cm_pump_rating_polymer","v":6.9275986607142856},"pvc_mmpump_eq",{"$f":"VLOOKUP($E274,eq_table_cl,F$4,FALSE)","v":2172.344597881},0.151638992,0,0,0,0,0,0,0,0,108.01,0]
["Stainless Steel - Motor Driven","ss_polymer_mmpump_eq",{"$f":"IF(OR(D275>P275,D275<Q275),\"contact vendor\",F275*D275^G275+H275*LN(D275)+I275+J275*EXP(K275*D275)+L275*D275^3+M275*D275^2+N275*D275+O275)","v":4520.8438912087113},{"$f":"cm_pump_rating_polymer","v":6.9275986607142856},"ss_mmpump_eq",0,0,0,0,0,0,-5.1428000000000003E-5,2.3675107000000001E-2,7.1142014380000003,4470.4404501380004,360.01,0]
["PVC - Electric","pvc_polymer_empump_eq",{"$f":"IF(OR(D276>P276,D276<Q276),\"contact vendor\",F276*D276^G276+H276*LN(D276)+I276+J276*EXP(K276*D276)+L276*D276^3+M276*D276^2+N276*D276+O276)","v":1524.9026825439485},{"$f":"cm_pump_rating_polymer","v":6.9275986607142856},"pvc_empump_eq",857.79971691399999,0.297241692,0,0,0,0,0,0,0,0,71.160000000000011,0]
["Stainless Steel - Electric","ss_polymer_empump_eq",{"$f":"IF(OR(D277>P277,D277<Q277),\"contact vendor\",F277*D277^G277+H277*LN(D277)+I277+J277*EXP(K277*D277)+L277*D277^3+M277*D277^2+N277*D277+O277)","v":2537.3154388330404},{"$f":"cm_pump_rating_polymer","v":6.9275986607142856},"ss_empump_eq",1671.4158388379999,0.21567175299999999,0,0,0,0,0,0,0,0,186.35999999999999,0]
["Blowers"]
["Air Scour - Positive Displacement","pd_blow_eq",{"$f":"IF(OR(D279>P279,D279<Q279),\"contact vendor\",F279*D279^G279+H279*LN(D279)+I279+J279*EXP(K279*D279)+L279*D279^3+M279*D279^2+N279*D279+O279)","v":11156.883967484366},{"$f":"design_air_flow","v":55.634954084936211},"pd_blow_eq",{"$f":"VLOOKUP($E279,eq_table_cl,F$4,FALSE)","v":0},0,0,0,0,0,0,-1.8345569999999999E-3,29.236025673,9536.0174306389999,5001,0]
["Biomass Removal - Positive Displacement","pd_bio_blow_eq",{"$f":"IF(OR(D280>P280,D280<Q280),\"contact vendor\",F280*D280^G280+H280*LN(D280)+I280+J280*EXP(K280*D280)+L280*D280^3+M280*D280^2+N280*D280+O280)","v":{"$error":"#NUM!"}},{"$f":"design_air_flow_bio","v":0},"pd_blow_eq",0,0,0,0,0,0,0,-1.8345569999999999E-3,29.236025673,9536.0174306389999,5001,0]
["Aeration","pd_aeration_blow_eq",{"$f":"IF(OR(D281>P281,D281<Q281),\"contact vendor\",F281*D281^G281+H281*LN(D281)+I281+J281*EXP(K281*D281)+L281*D281^3+M281*D281^2+N281*D281+O281)","v":9575.6045179204393},{"$f":"design_air_flow_aeration","v":1.3541666666666665},"pd_blow_eq",0,0,0,0,0,0,0,-1.8345569999999999E-3,29.236025673,9536.0174306389999,5001,0]
["Mixers"]
["Electron Donor Storage Tank Mixer"]
["Portable","no equation"]
["Mounted","cmount_mix_eq_e_donor",{"$f":"IF(OR(D285>P285,D285<Q285),\"contact vendor\",F285*D285^G285+H285*LN(D285)+I285+J285*EXP(K285*D285)+L285*D285^3+M285*D285^2+N285*D285+O285)","v":{"$error":"#NUM!"}},{"$f":"e_donor_cmix_size","v":0},"mount_mix_eq",{"$f":"VLOOKUP($E285,eq_table_cl,F$4,FALSE)","v":0},0,0,0,0,0,0,-107.78403992600001,1233.9520801589999,1645.8680859240001,4.0999999999999996,0]
["Impeller Mixers","cimp_mix_eq_e_donor",{"$f":"IF(OR(D286>P286,D286<Q286),\"contact vendor\",F286*D286^G286+H286*LN(D286)+I286+J286*EXP(K286*D286)+L286*D286^3+M286*D286^2+N286*D286+O286)","v":{"$error":"#NUM!"}},{"$f":"e_donor_cmix_size","v":0},"imp_mix_eq",4383.3876341309997,0.62611698800000004,0,0,0,0,0,0,0,0,110,0]
["Electron Donor Day Tank Mixer"]
["Portable","no equation"]
["Mounted","dmount_mix_eq_e_donor",{"$f":"IF(OR(D289>P289,D289<Q289),\"contact vendor\",F289*D289^G289+H289*LN(D289)+I289+J289*EXP(K289*D289)+L289*D289^3+M289*D289^2+N289*D289+O289)","v":{"$error":"#NUM!"}},{"$f":"e_donor_dmix_size","v":0},"mount_mix_eq",{"$f":"VLOOKUP($E289,eq_table_cl,F$4,FALSE)","v":0},0,0,0,0,0,0,-107.78403992600001,1233.9520801589999,1645.8680859240001,4.0999999999999996,0]
["Impeller Mixers","dimp_mix_eq_e_donor",{"$f":"IF(OR(D290>P290,D290<Q290),\"contact vendor\",F290*D290^G290+H290*LN(D290)+I290+J290*EXP(K290*D290)+L290*D290^3+M290*D290^2+N290*D290+O290)","v":{"$error":"#NUM!"}},{"$f":"e_donor_dmix_size","v":0},"imp_mix_eq",4383.3876341309997,0.62611698800000004,0,0,0,0,0,0,0,0,110,0]
["Ammonium Chloride Storage Tank Mixer"]
["Portable","no equation"]
["Mounted","cmount_mix_eq_NH4Cl",{"$f":"IF(OR(D293>P293,D293<Q293),\"contact vendor\",F293*D293^G293+H293*LN(D293)+I293+J293*EXP(K293*D293)+L293*D293^3+M293*D293^2+N293*D293+O293)","v":{"$error":"#NUM!"}},{"$f":"NH4Cl_cmix_size","v":0},"mount_mix_eq",{"$f":"VLOOKUP($E293,eq_table_cl,F$4,FALSE)","v":0},0,0,0,0,0,0,-107.78403992600001,1233.9520801589999,1645.8680859240001,4.0999999999999996,0]
["Impeller Mixers","cimp_mix_eq_NH4Cl",{"$f":"IF(OR(D294>P294,D294<Q294),\"contact vendor\",F294*D294^G294+H294*LN(D294)+I294+J294*EXP(K294*D294)+L294*D294^3+M294*D294^2+N294*D294+O294)","v":{"$error":"#NUM!"}},{"$f":"NH4Cl_cmix_size","v":0},"imp_mix_eq",4383.3876341309997,0.62611698800000004,0,0,0,0,0,0,0,0,110,0]
["Ammonium Chloride Day Tank Mixer"]
["Portable","no equation"]
["Mounted","dmount_mix_eq_NH4Cl",{"$f":"IF(OR(D297>P297,D297<Q297),\"contact vendor\",F297*D297^G297+H297*LN(D297)+I297+J297*EXP(K297*D297)+L297*D297^3+M297*D297^2+N297*D297+O297)","v":{"$error":"#NUM!"}},{"$f":"NH4Cl_dmix_size","v":0},"mount_mix_eq",{"$f":"VLOOKUP($E297,eq_table_cl,F$4,FALSE)","v":0},0,0,0,0,0,0,-107.78403992600001,1233.9520801589999,1645.8680859240001,4.0999999999999996,0]
["Impeller Mixers","dimp_mix_eq_NH4Cl",{"$f":"IF(OR(D298>P298,D298<Q298),\"contact vendor\",F298*D298^G298+H298*LN(D298)+I298+J298*EXP(K298*D298)+L298*D298^3+M298*D298^2+N298*D298+O298)","v":{"$error":"#NUM!"}},{"$f":"NH4Cl_dmix_size","v":0},"imp_mix_eq",4383.3876341309997,0.62611698800000004,0,0,0,0,0,0,0,0,110,0]
["Phosphoric Acid Storage Tank Mixer"]
["Portable","no equation"]
["Mounted","cmount_mix_eq_H3PO4",{"$f":"IF(OR(D301>P301,D301<Q301),\"contact vendor\",F301*D301^G301+H301*LN(D301)+I301+J301*EXP(K301*D301)+L301*D301^3+M301*D301^2+N301*D301+O301)","v":{"$error":"#NUM!"}},{"$f":"H3PO4_cmix_size","v":0},"mount_mix_eq",{"$f":"VLOOKUP($E301,eq_table_cl,F$4,FALSE)","v":0},0,0,0,0,0,0,-107.78403992600001,1233.9520801589999,1645.8680859240001,4.0999999999999996,0]
["Impeller Mixers","cimp_mix_eq_H3PO4",{"$f":"IF(OR(D302>P302,D302<Q302),\"contact vendor\",F302*D302^G302+H302*LN(D302)+I302+J302*EXP(K302*D302)+L302*D302^3+M302*D302^2+N302*D302+O302)","v":{"$error":"#NUM!"}},{"$f":"H3PO4_cmix_size","v":0},"imp_mix_eq",4383.3876341309997,0.62611698800000004,0,0,0,0,0,0,0,0,110,0]
["Phosphoric Acid Day Tank Mixer"]
["Portable","no equation"]
["Mounted","dmount_mix_eq_H3PO4",{"$f":"IF(OR(D305>P305,D305<Q305),\"contact vendor\",F305*D305^G305+H305*LN(D305)+I305+J305*EXP(K305*D305)+L305*D305^3+M305*D305^2+N305*D305+O305)","v":{"$error":"#NUM!"}},{"$f":"H3PO4_dmix_size","v":0},"mount_mix_eq",{"$f":"VLOOKUP($E305,eq_table_cl,F$4,FALSE)","v":0},0,0,0,0,0,0,-107.78403992600001,1233.9520801589999,1645.8680859240001,4.0999999999999996,0]
["Impeller Mixers","dimp_mix_eq_H3PO4",{"$f":"IF(OR(D306>P306,D306<Q306),\"contact vendor\",F306*D306^G306+H306*LN(D306)+I306+J306*EXP(K306*D306)+L306*D306^3+M306*D306^2+N306*D306+O306)","v":{"$error":"#NUM!"}},{"$f":"H3PO4_dmix_size","v":0},"imp_mix_eq",4383.3876341309997,0.62611698800000004,0,0,0,0,0,0,0,0,110,0]
["Hydrogen Peroxide Storage Tank Mixer"]
["Portable","no equation"]
["Mounted","cmount_mix_eq_H2O2",{"$f":"IF(OR(D309>P309,D309<Q309),\"contact vendor\",F309*D309^G309+H309*LN(D309)+I309+J309*EXP(K309*D309)+L309*D309^3+M309*D309^2+N309*D309+O309)","v":{"$error":"#NUM!"}},{"$f":"H2O2_cmix_size","v":0},"mount_mix_eq",{"$f":"VLOOKUP($E309,eq_table_cl,F$4,FALSE)","v":0},0,0,0,0,0,0,-107.78403992600001,1233.9520801589999,1645.8680859240001,4.0999999999999996,0]
["Impeller Mixers","cimp_mix_eq_H2O2",{"$f":"IF(OR(D310>P310,D310<Q310),\"contact vendor\",F310*D310^G310+H310*LN(D310)+I310+J310*EXP(K310*D310)+L310*D310^3+M310*D310^2+N310*D310+O310)","v":{"$error":"#NUM!"}},{"$f":"H2O2_cmix_size","v":0},"imp_mix_eq",4383.3876341309997,0.62611698800000004,0,0,0,0,0,0,0,0,110,0]
["Hydrogen Peroxide Day Tank Mixer"]
["Portable","no equation"]
["Mounted","dmount_mix_eq_H2O2",{"$f":"IF(OR(D313>P313,D313<Q313),\"contact vendor\",F313*D313^G313+H313*LN(D313)+I313+J313*EXP(K313*D313)+L313*D313^3+M313*D313^2+N313*D313+O313)","v":{"$error":"#NUM!"}},{"$f":"H2O2_dmix_size","v":0},"mount_mix_eq",{"$f":"VLOOKUP($E313,eq_table_cl,F$4,FALSE)","v":0},0,0,0,0,0,0,-107.78403992600001,1233.9520801589999,1645.8680859240001,4.0999999999999996,0]
["Impeller Mixers","dimp_mix_eq_H2O2",{"$f":"IF(OR(D314>P314,D314<Q314),\"contact vendor\",F314*D314^G314+H314*LN(D314)+I314+J314*EXP(K314*D314)+L314*D314^3+M314*D314^2+N314*D314+O314)","v":{"$error":"#NUM!"}},{"$f":"H2O2_dmix_size","v":0},"imp_mix_eq",4383.3876341309997,0.62611698800000004,0,0,0,0,0,0,0,0,110,0]
["Residuals"]
["Portable","no equation"]
["Mounted","hmount_mix_eq",{"$f":"IF(OR(D317>P317,D317<Q317),\"contact vendor\",F317*D317^G317+H317*LN(D317)+I317+J317*EXP(K317*D317)+L317*D317^3+M317*D317^2+N317*D317+O317)","v":{"$error":"#NUM!"}},{"$f":"hmix_size","v":0},"mount_mix_eq",{"$f":"VLOOKUP($E317,eq_table_cl,F$4,FALSE)","v":0},0,0,0,0,0,0,-107.78403992600001,1233.9520801589999,1645.8680859240001,4.0999999999999996,0]
["Impeller Mixers","himp_mix_eq",{"$f":"IF(OR(D318>P318,D318<Q318),\"contact vendor\",F318*D318^G318+H318*LN(D318)+I318+J318*EXP(K318*D318)+L318*D318^3+M318*D318^2+N318*D318+O318)","v":{"$error":"#NUM!"}},{"$f":"hmix_size","v":0},"imp_mix_eq",4383.3876341309997,0.62611698800000004,0,0,0,0,0,0,0,0,110,0]
["Static Mixer for Hydrogen Peroxide"]
["Plastic","pl_in_mix_eq",{"$f":"IF(OR(D320>P320,D320<Q320),\"contact vendor\",F320*D320^G320+H320*LN(D320)+I320+J320*EXP(K320*D320)+L320*D320^3+M320*D320^2+N320*D320+O320)","v":{"$error":"#NUM!"}},{"$f":"mixer_size","v":0},"pl_in_mix_eq",{"$f":"VLOOKUP($E320,eq_table_cl,F$4,FALSE)","v":0},0,0,0,0,0,0,23.910970309,140.724447876,356.26580423399997,6.1,0]
["Stainless Steel","in_mix_eq",{"$f":"IF(OR(D321>P321,D321<Q321),\"contact vendor\",F321*D321^G321+H321*LN(D321)+I321+J321*EXP(K321*D321)+L321*D321^3+M321*D321^2+N321*D321+O321)","v":{"$error":"#NUM!"}},{"$f":"mixer_size","v":0},"in_mix_eq",0,0,0,0,0,0,-0.184034268,24.98905469,439.22069877400003,301.25572637099998,42.1,0]
["Polymer Storage Tank Mixer"]
["Portable","no equation"]
["Mounted","cmount_mix_eq_polymer",{"$f":"IF(OR(D324>P324,D324<Q324),\"contact vendor\",F324*D324^G324+H324*LN(D324)+I324+J324*EXP(K324*D324)+L324*D324^3+M324*D324^2+N324*D324+O324)","v":{"$error":"#NUM!"}},{"$f":"polymer_cmix_size","v":0},"mount_mix_eq",{"$f":"VLOOKUP($E324,eq_table_cl,F$4,FALSE)","v":0},0,0,0,0,0,0,-107.78403992600001,1233.9520801589999,1645.8680859240001,4.0999999999999996,0]
["Impeller Mixers","cimp_mix_eq_polymer",{"$f":"IF(OR(D325>P325,D325<Q325),\"contact vendor\",F325*D325^G325+H325*LN(D325)+I325+J325*EXP(K325*D325)+L325*D325^3+M325*D325^2+N325*D325+O325)","v":{"$error":"#NUM!"}},{"$f":"polymer_cmix_size","v":0},"imp_mix_eq",4383.3876341309997,0.62611698800000004,0,0,0,0,0,0,0,0,110,0]
["Coagulant Mix Tanks"]
["Portable","no equation"]
["Mounted","coag_mount_mix_eq",{"$f":"IF(OR(D328>P328,D328<Q328),\"contact vendor\",F328*D328^G328+H328*LN(D328)+I328+J328*EXP(K328*D328)+L328*D328^3+M328*D328^2+N328*D328+O328)","v":2045.2094415407778},{"$f":"mix_size","v":0.33333333333333331},"mount_mix_eq",{"$f":"VLOOKUP($E328,eq_table_cl,F$4,FALSE)","v":0},0,0,0,0,0,0,-107.78403992600001,1233.9520801589999,1645.8680859240001,4.0999999999999996,0]
["Impeller Mixers","coag_imp_mix_eq",{"$f":"IF(OR(D329>P329,D329<Q329),\"contact vendor\",F329*D329^G329+H329*LN(D329)+I329+J329*EXP(K329*D329)+L329*D329^3+M329*D329^2+N329*D329+O329)","v":2203.3127885299905},{"$f":"mix_size","v":0.33333333333333331},"imp_mix_eq",4383.3876341309997,0.62611698800000004,0,0,0,0,0,0,0,0,110,0]
["Solids transfer"]
["Slurry Pump System for solids","res_slurry_eq",{"$f":"IF(OR(D331>P331,D331<Q331),\"contact vendor\",F331*D331^G331+H331*LN(D331)+I331+J331*EXP(K331*D331)+L331*D331^3+M331*D331^2+N331*D331+O331)","v":7289.7381715842648},{"$f":"res_transfer_rate","v":160.31300035544183},"gac_slurry_eq",{"$f":"VLOOKUP($E331,eq_table_cl,F$4,FALSE)","v":0},0,0,0,0,0,0,2.2932E-5,4.4447339000000002E-2,7282.0233269930004,31242,0]
["Eductors for solids","res_seductor_eq",{"$f":"IF(OR(D332>P332,D332<Q332),\"contact vendor\",F332*D332^G332+H332*LN(D332)+I332+J332*EXP(K332*D332)+L332*D332^3+M332*D332^2+N332*D332+O332)","v":1689.7027173774995},{"$f":"res_eductor_size","v":1.5},"seductor_eq",0,0,0,0,0,0,0,0,2957.7663495749998,-2746.946806985,6.1,1.5]
["Dry Feeders for Filter Coagulant Addition","vol_feed_eq_filt",{"$f":"IF(D333=0,0, IF(OR(D333>P333,D333<Q333),\"contact vendor\",F333*D333^G333+H333*LN(D333)+I333+J333*EXP(K333*D333)+L333*D333^3+M333*D333^2+N333*D333+O333))","v":15176.868908688688},{"$f":"vol_feed_rate_filt","v":4.0406976744186046E-5},"vol_feed_eq",0,0,0,0,0,0,0,0,376.52630596099999,15176.853694399,2.5099999999999998,0]
["Dry Feeders for Residuals Coagulant Addition","vol_feed_eq",{"$f":"IF(D334=0,0, IF(OR(D334>P334,D334<Q334),\"contact vendor\",F334*D334^G334+H334*LN(D334)+I334+J334*EXP(K334*D334)+L334*D334^3+M334*D334^2+N334*D334+O334))","v":0},{"$f":"vol_feed_rate","v":0},"vol_feed_eq",0,0,0,0,0,0,0,0,376.52630596099999,15176.853694399,2.5099999999999998,0]
["Instrumentation and Controls"]
["Flow Meters - Inlet and Outlet"]
["Orifice Plate","op_fm_eq_in",{"$f":"IF(OR(D337>P337,D337<Q337),\"contact vendor\",F337*D337^G337+H337*LN(D337)+I337+J337*EXP(K337*D337)+L337*D337^3+M337*D337^2+N337*D337+O337)","v":3103.7809209028751},{"$f":"in_meter_size","v":1.5},"op_fm_eq",{"$f":"VLOOKUP($E337,eq_table_cl,F$4,FALSE)","v":0},0,0,0,0,0,0.100507337,-4.5180455940000002,372.09362808600002,2555.4668690980002,60.1,0]
["Propeller","prop_fm_eq_in",{"$f":"IF(OR(D338>P338,D338<Q338),\"contact vendor\",F338*D338^G338+H338*LN(D338)+I338+J338*EXP(K338*D338)+L338*D338^3+M338*D338^2+N338*D338+O338)","v":2238.76102168325},{"$f":"in_meter_size","v":1.5},"prop_fm_eq",0,0,0,0,0,0,8.915703422,-172.289864142,1293.6972747970001,655.77680475800003,14.1,0]
["Venturi","ven_fm_eq_in",{"$f":"IF(OR(D339>P339,D339<Q339),\"contact vendor\",F339*D339^G339+H339*LN(D339)+I339+J339*EXP(K339*D339)+L339*D339^3+M339*D339^2+N339*D339+O339)","v":4301.7135487650003},{"$f":"in_meter_size","v":1.5},"ven_fm_eq",0,0,0,0,0,0,8.413593852,-263.19800276199999,3397.39818913,-230.584107966,24.1,0]
["Magnetic","mag_fm_eq_in",{"$f":"IF(OR(D340>P340,D340<Q340),\"contact vendor\",F340*D340^G340+H340*LN(D340)+I340+J340*EXP(K340*D340)+L340*D340^3+M340*D340^2+N340*D340+O340)","v":4034.9568023265001},{"$f":"in_meter_size","v":1.5},"mag_fm_eq",0,0,0,0,0,0,0,57.575432208000002,189.85395229299999,3620.6311514190002,20.100000000000001,0]
["Flow Meters - Process"]
["Orifice Plate","op_fm_eq_proc",{"$f":"IF(OR(D342>P342,D342<Q342),\"contact vendor\",F342*D342^G342+H342*LN(D342)+I342+J342*EXP(K342*D342)+L342*D342^3+M342*D342^2+N342*D342+O342)","v":3103.7809209028751},{"$f":"proc_meter_size","v":1.5},"op_fm_eq",{"$f":"VLOOKUP($E342,eq_table_cl,F$4,FALSE)","v":0},0,0,0,0,0,0.100507337,-4.5180455940000002,372.09362808600002,2555.4668690980002,60.1,0]
["Propeller","prop_fm_eq_proc",{"$f":"IF(OR(D343>P343,D343<Q343),\"contact vendor\",F343*D343^G343+H343*LN(D343)+I343+J343*EXP(K343*D343)+L343*D343^3+M343*D343^2+N343*D343+O343)","v":2238.76102168325},{"$f":"proc_meter_size","v":1.5},"prop_fm_eq",0,0,0,0,0,0,8.915703422,-172.289864142,1293.6972747970001,655.77680475800003,14.1,0]
["Venturi","ven_fm_eq_proc",{"$f":"IF(OR(D344>P344,D344<Q344),\"contact vendor\",F344*D344^G344+H344*LN(D344)+I344+J344*EXP(K344*D344)+L344*D344^3+M344*D344^2+N344*D344+O344)","v":4301.7135487650003},{"$f":"proc_meter_size","v":1.5},"ven_fm_eq",0,0,0,0,0,0,8.413593852,-263.19800276199999,3397.39818913,-230.584107966,24.1,0]
["Magnetic","mag_fm_eq_proc",{"$f":"IF(OR(D345>P345,D345<Q345),\"contact vendor\",F345*D345^G345+H345*LN(D345)+I345+J345*EXP(K345*D345)+L345*D345^3+M345*D345^2+N345*D345+O345)","v":4034.9568023265001},{"$f":"proc_meter_size","v":1.5},"mag_fm_eq",0,0,0,0,0,0,0,57.575432208000002,189.85395229299999,3620.6311514190002,20.100000000000001,0]
["Flow Meters - Backwash"]
["Orifice Plate","op_fm_eq_back",{"$f":"IF(OR(D347>P347,D347<Q347),\"contact vendor\",F347*D347^G347+H347*LN(D347)+I347+J347*EXP(K347*D347)+L347*D347^3+M347*D347^2+N347*D347+O347)","v":3977.9851215060003},{"$f":"back_meter_size","v":4},"op_fm_eq",{"$f":"VLOOKUP($E347,eq_table_cl,F$4,FALSE)","v":0},0,0,0,0,0,0.100507337,-4.5180455940000002,372.09362808600002,2555.4668690980002,60.1,0]
["Propeller","prop_fm_eq_back",{"$f":"IF(OR(D348>P348,D348<Q348),\"contact vendor\",F348*D348^G348+H348*LN(D348)+I348+J348*EXP(K348*D348)+L348*D348^3+M348*D348^2+N348*D348+O348)","v":3644.5330966820002},{"$f":"back_meter_size","v":4},"prop_fm_eq",0,0,0,0,0,0,8.915703422,-172.289864142,1293.6972747970001,655.77680475800003,14.1,0]
["Venturi","ven_fm_eq_back",{"$f":"IF(OR(D349>P349,D349<Q349),\"contact vendor\",F349*D349^G349+H349*LN(D349)+I349+J349*EXP(K349*D349)+L349*D349^3+M349*D349^2+N349*D349+O349)","v":9686.3106108899992},{"$f":"back_meter_size","v":4},"ven_fm_eq",0,0,0,0,0,0,8.413593852,-263.19800276199999,3397.39818913,-230.584107966,24.1,0]
["Magnetic","mag_fm_eq_back",{"$f":"IF(OR(D350>P350,D350<Q350),\"contact vendor\",F350*D350^G350+H350*LN(D350)+I350+J350*EXP(K350*D350)+L350*D350^3+M350*D350^2+N350*D350+O350)","v":5301.2538759190002},{"$f":"back_meter_size","v":4},"mag_fm_eq",0,0,0,0,0,0,0,57.575432208000002,189.85395229299999,3620.6311514190002,20.100000000000001,0]
["Flow Meters - Residuals"]
["Orifice Plate","op_fm_eq_res",{"$f":"IF(OR(D352>P352,D352<Q352),\"contact vendor\",F352*D352^G352+H352*LN(D352)+I352+J352*EXP(K352*D352)+L352*D352^3+M352*D352^2+N352*D352+O352)","v":2923.1429589270001},{"$f":"res_meter_size","v":1},"op_fm_eq",{"$f":"VLOOKUP($E352,eq_table_cl,F$4,FALSE)","v":0},0,0,0,0,0,0.100507337,-4.5180455940000002,372.09362808600002,2555.4668690980002,60.1,0]
["Propeller","prop_fm_eq_res",{"$f":"IF(OR(D353>P353,D353<Q353),\"contact vendor\",F353*D353^G353+H353*LN(D353)+I353+J353*EXP(K353*D353)+L353*D353^3+M353*D353^2+N353*D353+O353)","v":1786.0999188350002},{"$f":"res_meter_size","v":1},"prop_fm_eq",0,0,0,0,0,0,8.915703422,-172.289864142,1293.6972747970001,655.77680475800003,14.1,0]
["Venturi","ven_fm_eq_res",{"$f":"IF(OR(D354>P354,D354<Q354),\"contact vendor\",F354*D354^G354+H354*LN(D354)+I354+J354*EXP(K354*D354)+L354*D354^3+M354*D354^2+N354*D354+O354)","v":2912.0296722540002},{"$f":"res_meter_size","v":1},"ven_fm_eq",0,0,0,0,0,0,8.413593852,-263.19800276199999,3397.39818913,-230.584107966,24.1,0]
["Magnetic","mag_fm_eq_res",{"$f":"IF(OR(D355>P355,D355<Q355),\"contact vendor\",F355*D355^G355+H355*LN(D355)+I355+J355*EXP(K355*D355)+L355*D355^3+M355*D355^2+N355*D355+O355)","v":3868.0605359200003},{"$f":"res_meter_size","v":1},"mag_fm_eq",0,0,0,0,0,0,0,57.575432208000002,189.85395229299999,3620.6311514190002,20.100000000000001,0]
["Solids Treatment/Storage"]
["Solids Thickening"]
["Concrete Basins (includes Excavation, Backfill, and Compaction)","no equation"]
["Steel Tanks","st_tt_eq",{"$f":"IF(OR(D359>P359,D359<Q359),\"contact vendor\",F359*D359^G359+H359*LN(D359)+I359+J359*EXP(K359*D359)+L359*D359^3+M359*D359^2+N359*D359+O359)","v":{"$error":"#NUM!"}},{"$f":"thick_tank_volume","v":0},"st_bwt_eq",{"$f":"VLOOKUP($E359,eq_table_cl,F$4,FALSE)","v":340.81529969399998},0.52157091300000002,0,0,0,0,0,0,0,0,282095,0]
["Internals","no equation"]
["Solids Mechanical Dewatering"]
["Belt Press","belt_press_eq",{"$f":"IF(OR(D362>P362,D362<Q362),\"contact vendor\",F362*D362^G362+H362*LN(D362)+I362+J362*EXP(K362*D362)+L362*D362^3+M362*D362^2+N362*D362+O362)","v":{"$error":"#NUM!"}},{"$f":"belt_press_size","v":0},"belt_press_eq",{"$f":"VLOOKUP($E362,eq_table_cl,F$4,FALSE)","v":0},0,0,0,0,0,0,0,106682.439872388,29956.062349296,3.1,0]
[]
["O&M Media"]
["GAC annual attrition replacement - Bioreactor","replace_GAC_eq",{"$f":"IF(OR(D365>P365,D365<Q365),\"contact vendor\",F365*D365^G365+H365*LN(D365)+I365+J365*EXP(K365*D365)+L365*D365^3+M365*D365^2+N365*D365+O365)","v":1.927844149123094},{"$f":"IF(media_loss>P365,P365,media_loss)","v":103.08350894591511},"gac_eq",{"$f":"VLOOKUP($E365,eq_table_cl,F$4,FALSE)","v":0},0,0,0,0,0,0,0,-6.4169999999999997E-6,1.9285056359999999,40000,0]
["GAC annual attrition replacement - Filter","replace_filter_GAC_eq",{"$f":"IF(OR(D366>P366,D366<Q366),\"contact vendor\",F366*D366^G366+H366*LN(D366)+I366+J366*EXP(K366*D366)+L366*D366^3+M366*D366^2+N366*D366+O366)","v":{"$error":"#NUM!"}},{"$f":"IF(filter_media_loss>P366,P366,filter_media_loss)","v":0},"gac_eq",0,0,0,0,0,0,0,0,-6.4169999999999997E-6,1.9285056359999999,40000,0]
[]
["Building Structures and HVAC",null,{"$f":"IF(LEN($E368)=0,\"\",IF(OR(D368>P368,D368<Q368),\"contact vendor\",F368*D368^G368+H368*LN(D368)+I368+J368*EXP(K368*D368)+L368*D368^3+M368*D368^2+N368*D368+O368))","v":""},null,null,{"$f":"IF(LEN($E368)=0,\"\",VLOOKUP($E368,eq_table_cl,F$8,FALSE))","v":""},"","","","","","","","","","",""]
["Building 1",null,"",null,null,"","","","","","","","","","","",""]
["Low Quality Structure","bldg_lo_eq_1",88.595086245889235,{"$f":"build1_fp","v":330},"bldg_lo_eq",{"$f":"VLOOKUP($E370,eq_table_cl,F$4,FALSE)","v":155.424184946},-9.6925793999999996E-2,0,0,0,0,0,0,0,0,200000.1,0]
["Medium Quality Structure","bldg_mid_eq_1",107.91386719390613,{"$f":"build1_fp","v":330},"bldg_mid_eq",190.764076528,-9.8240209999999994E-2,0,0,0,0,0,0,0,0,200000.1,0]
["High Quality Structure","bldg_hi_eq_1",155.47812733481629,{"$f":"build1_fp","v":330},"bldg_hi_eq",334.86430719700002,-0.13230006499999999,0,0,0,0,0,0,0,0,200000.1,0]
["Heating System",null,"",null,null,{"$f":"IF(LEN($E373)=0,\"\",VLOOKUP($E373,eq_table_cl,F$8,FALSE))","v":""},"","","","","","","","","","",""]
["Electric resistance","hvac_elec_eq_1",6430.0857558387834,{"$f":"build1_heat_mbh/build1_zones","v":7.1842744754374399},"hvac_elec_eq",{"$f":"VLOOKUP($E374,eq_table_cl,F$4,FALSE)","v":1458.1434692969999},0.75248641199999999,0,0,0,0,0,0,0,0,6148.1,0]
["Natural gas non-condensing furnace","hvac_gas_non_eq_1",3776.9769752066782,{"$f":"build1_heat_mbh/build1_zones","v":7.1842744754374399},"hvac_gas_non_eq",813.17633428099998,0.77881003199999999,0,0,0,0,0,0,0,0,5032.1000000000004,0]
["Natural gas condensing furnace","hvac_gas_eq_1",3776.9769752066782,{"$f":"build1_heat_mbh/build1_zones","v":7.1842744754374399},"hvac_gas_eq",813.17633428099998,0.77881003199999999,0,0,0,0,0,0,0,0,5032.1000000000004,0]
["Standard efficiency oil furnace","hvac_oil_std_eq_1",4331.7386777942602,{"$f":"build1_heat_mbh/build1_zones","v":7.1842744754374399},"hvac_oil_std_eq",969.86352683699999,0.75894977500000005,0,0,0,0,0,0,0,0,3350.1,0]
["Mid-efficiency oil furnace","hvac_oil_mid_eq_1",4331.7386777942602,{"$f":"build1_heat_mbh/build1_zones","v":7.1842744754374399},"hvac_oil_mid_eq",969.86352683699999,0.75894977500000005,0,0,0,0,0,0,0,0,3350.1,0]
["Cooling System",null,"",null,null,{"$f":"IF(LEN($E379)=0,\"\",VLOOKUP($E379,eq_table_cl,F$8,FALSE))","v":""},"","","","","","","","","","",""]
["Air conditioning system","hvac_ac_eq_1",{"$f":"IF(LEN($E380)=0,\"\",IF(OR(D380>P380,D380<Q380),\"contact vendor\",F380*D380^G380+H380*LN(D380)+I380+J380*EXP(K380*D380)+L380*D380^3+M380*D380^2+N380*D380+O380))","v":816.47317062775164},{"$f":"build1_cooling_tons/build1_zones","v":0.36779843820027658},"hvac_ac_eq",{"$f":"VLOOKUP($E380,eq_table_cl,F$4,FALSE)","v":2628.2259000700001},1.168812894,0,0,0,0,0,0,0,0,113.33,0]
["Heat pump","hvac_hp_eq_1",3473.0500564325407,{"$f":"build1_cooling_tons/build1_zones","v":0.36779843820027658},{"$f":"IF(D381>12,\"hvac_hp_eq_large\",\"hvac_hp_eq_small\")","v":"hvac_hp_eq_small"},0,0,0,0,3286.0714454029999,0.15046400200000001,0,0,0,0,12,0]
["Building 2",null,{"$f":"IF(LEN($E382)=0,\"\",IF(OR(D382>P382,D382<Q382),\"contact vendor\",F382*D382^G382+H382*LN(D382)+I382+J382*EXP(K382*D382)+L382*D382^3+M382*D382^2+N382*D382+O382))","v":""},null,null,{"$f":"IF(LEN($E382)=0,\"\",VLOOKUP($E382,eq_table_cl,F$8,FALSE))","v":""},"","","","","","","","","","",""]
["Low Quality Structure","bldg_lo_eq_2",{"$f":"IF(LEN($E383)=0,\"\",IF(OR(D383>P383,D383<Q383),\"contact vendor\",F383*D383^G383+H383*LN(D383)+I383+J383*EXP(K383*D383)+L383*D383^3+M383*D383^2+N383*D383+O383))","v":{"$error":"#DIV/0!"}},{"$f":"build2_fp","v":0},"bldg_lo_eq",{"$f":"VLOOKUP($E383,eq_table_cl,F$4,FALSE)","v":155.424184946},-9.6925793999999996E-2,0,0,0,0,0,0,0,0,200000.1,0]
["Medium Quality Structure","bldg_mid_eq_2",{"$f":"IF(LEN($E384)=0,\"\",IF(OR(D384>P384,D384<Q384),\"contact vendor\",F384*D384^G384+H384*LN(D384)+I384+J384*EXP(K384*D384)+L384*D384^3+M384*D384^2+N384*D384+O384))","v":{"$error":"#DIV/0!"}},{"$f":"build2_fp","v":0},"bldg_mid_eq",190.764076528,-9.8240209999999994E-2,0,0,0,0,0,0,0,0,200000.1,0]
["High Quality Structure","bldg_hi_eq_2",{"$f":"IF(LEN($E385)=0,\"\",IF(OR(D385>P385,D385<Q385),\"contact vendor\",F385*D385^G385+H385*LN(D385)+I385+J385*EXP(K385*D385)+L385*D385^3+M385*D385^2+N385*D385+O385))","v":{"$error":"#DIV/0!"}},{"$f":"build2_fp","v":0},"bldg_hi_eq",334.86430719700002,-0.13230006499999999,0,0,0,0,0,0,0,0,200000.1,0]
["Heating System",null,""]
["Electric resistance","hvac_elec_eq_2",{"$error":"#DIV/0!"},{"$f":"build2_heat_mbh/build2_zones","v":{"$error":"#DIV/0!"}},"hvac_elec_eq",{"$f":"VLOOKUP($E387,eq_table_cl,F$4,FALSE)","v":1458.1434692969999},0.75248641199999999,0,0,0,0,0,0,0,0,6148.1,0]
["Natural gas non-condensing furnace","hvac_gas_non_eq_2",{"$error":"#DIV/0!"},{"$f":"build2_heat_mbh/build2_zones","v":{"$error":"#DIV/0!"}},"hvac_gas_non_eq",813.17633428099998,0.77881003199999999,0,0,0,0,0,0,0,0,5032.1000000000004,0]
["Natural gas condensing furnace","hvac_gas_eq_2",{"$error":"#DIV/0!"},{"$f":"build2_heat_mbh/build2_zones","v":{"$error":"#DIV/0!"}},"hvac_gas_eq",813.17633428099998,0.77881003199999999,0,0,0,0,0,0,0,0,5032.1000000000004,0]
["Standard efficiency oil furnace","hvac_oil_std_eq_2",{"$error":"#DIV/0!"},{"$f":"build2_heat_mbh/build2_zones","v":{"$error":"#DIV/0!"}},"hvac_oil_std_eq",969.86352683699999,0.75894977500000005,0,0,0,0,0,0,0,0,3350.1,0]
["Mid-efficiency oil furnace","hvac_oil_mid_eq_2",{"$error":"#DIV/0!"},{"$f":"build2_heat_mbh/build2_zones","v":{"$error":"#DIV/0!"}},"hvac_oil_mid_eq",969.86352683699999,0.75894977500000005,0,0,0,0,0,0,0,0,3350.1,0]
["Cooling System",null,"",null,null,{"$f":"IF(LEN($E392)=0,\"\",VLOOKUP($E392,eq_table_cl,F$8,FALSE))","v":""},"","","","","","","","","","",""]
["Air conditioning system","hvac_ac_eq_2",{"$f":"IF(LEN($E393)=0,\"\",IF(OR(D393>P393,D393<Q393),\"contact vendor\",F393*D393^G393+H393*LN(D393)+I393+J393*EXP(K393*D393)+L393*D393^3+M393*D393^2+N393*D393+O393))","v":{"$error":"#DIV/0!"}},{"$f":"build2_cooling_tons/build2_zones","v":{"$error":"#DIV/0!"}},"hvac_ac_eq",{"$f":"VLOOKUP($E393,eq_table_cl,F$4,FALSE)","v":2628.2259000700001},1.168812894,0,0,0,0,0,0,0,0,113.33,0]
["Heat pump","hvac_hp_eq_2",{"$error":"#DIV/0!"},{"$f":"build2_cooling_tons/build2_zones","v":{"$error":"#DIV/0!"}},{"$f":"IF(D394>12,\"hvac_hp_eq_large\",\"hvac_hp_eq_small\")","v":{"$error":"#DIV/0!"}},{"$error":"#DIV/0!"},{"$error":"#DIV/0!"},{"$error":"#DIV/0!"},{"$error":"#DIV/0!"},{"$error":"#DIV/0!"},{"$error":"#DIV/0!"},{"$error":"#DIV/0!"},{"$error":"#DIV/0!"},{"$error":"#DIV/0!"},{"$error":"#DIV/0!"},{"$error":"#DIV/0!"},{"$error":"#DIV/0!"}]

{"sheet":"Cost Coefficients","index":20,"n_rows":66,"n_cols":17,"rows_kept":66,"cut":false,"hidden":false,"merged":[]}
["Coefficients for Component Cost Equations"]
["This sheet is used internally to calculate component costs using the cost equations method; see model documentation for more details on the development of cost equations"]
[null,"Power: C1*x^C2",null,"Logarithmic: C3*Ln(x) + C4",null,"Exponential: C5*e^(C6*x)",null,"Polynomial: C7*x^3 + C8*x^2 + C9*x + C10",null,null,null,"NOTES"]
["Equation Lookup Name","C1","C2","C3","C4","C5","C6","C7","C8","C9","C10","Pct deviation of fit equation","Modified by","Last modified","Rsq of fit equation","max size used to gen curve","min size for which curve fits are valid"]
["back_pump_eq",0,0,0,0,0,0,0,-4.77083E-4,12.333908155,6801.7707008589996,0.13368713398242682,null," 8/14/2018 11:44:39 AM",0.93196883970002076,10001,0]
["belt_press_eq",0,0,0,0,0,0,0,0,106682.439872388,29956.062349296,2.7441482741770506E-2,null," 8/14/2018 1:26:04 PM",0.99473660794004659,3.1,0]
["bldg_hi_eq",334.86430719700002,-0.13230006499999999,0,0,0,0,0,0,0,0,3.9891100445137453E-2,null," 8/14/2018 1:31:57 PM",0.95292288207253861,200000.1,0]
["bldg_lo_eq",155.424184946,-9.6925793999999996E-2,0,0,0,0,0,0,0,0,2.5518207619233447E-2,null," 8/14/2018 1:31:19 PM",0.96714729333932081,200000.1,0]
["bldg_mid_eq",190.764076528,-9.8240209999999994E-2,0,0,0,0,0,0,0,0,2.7511361690370377E-2,null," 8/14/2018 1:31:38 PM",0.96388247777818759,200000.1,0]
["ci_bfv_eq_large",51.741944672999999,1.5887577429999999,0,0,0,0,0,0,0,0,6.0646037127800111E-2,null," 8/14/2018 11:18:25 AM",0.9890776861102849,48.1,14]
["ci_bfv_eq_small",0,0,0,0,0,0,-0.46051790100000001,13.155724568,123.18694075800001,30.689222062999999,4.4231092552301912E-2,null," 8/14/2018 11:17:48 AM",0.99015972795888274,12,1]
["ci_chv_eq",0,0,0,0,0,0,1.023101824,-6.5814120579999997,411.440485583,-523.97450445000004,0.10410962425320962,null," 8/14/2018 11:23:50 AM",0.99424538642984728,24.1,2]
["ci_mov_eq",0,0,0,0,0,0,-6.5106489000000003E-2,28.845623929999999,71.319704893999997,1027.6738701910001,9.8818965452308227E-2,null," 8/14/2018 11:05:13 AM",0.97022531386890176,48.1,1]
["cont_bot_add_eq",0,0,0,0,0,0,2.0373E-5,-2.5098519E-2,52.989724860000003,1499.3577757529999,3.3285905839289295E-2,null," 8/14/2018 12:50:07 PM",0.99496202597007755,1001,0]
["cont_bot_eq",0,0,0,0,0,0,-4.4680000000000003E-6,1.1045808000000001E-2,41.346635231,37308.304929990001,8.1474118959206521E-3,null," 8/14/2018 12:49:55 PM",0.99893759812170591,1001,0]
["cont_top_eq",0,0,0,0,25653.267501145001,5.9381778000000003E-2,0,0,0,0,4.9521570484974645E-2,null," 8/14/2018 12:50:24 PM",0.9852212470786037,31,0]
["cpvc_pipe_eq",0,0,0,0,0,0,1.0356694E-2,0.56514584199999995,3.222257634,0.95450391800000001,9.9235552633260657E-2,null," 8/14/2018 10:46:23 AM",0.9969433433879562,18.100000000000001,0]
["cs_pv_eq",0,0,0,0,0,0,0,-5.0831999999999997E-5,9.8575955700000009,14399.226375742999,0.1378934813173387,null," 8/14/2018 10:06:26 AM",0.98308106420889463,27101,0]
["csp_pv_eq",0,0,0,0,0,0,4.0000000000000002E-9,-1.38219E-4,6.1268369070000004,9678.1653989080005,7.3954364363476952E-2,null," 8/14/2018 10:07:19 AM",0.99796056225592311,27101,0]
["di_pipe_eq",0,0,0,0,0,0,0,0.100985408,4.4966242760000004,12.030020025000001,5.1809377456166372E-2,null," 8/14/2018 10:45:41 AM",0.99144707089993411,48.1,4]
["diffuser_eq",0,0,0,0,44.493952872999998,7.5650400000000003E-3,0,0,0,0,0.14166619718779416,null," 8/14/2018 1:07:05 PM",0.31363601647664086,44.1,0]
["fg_bwt_eq",0,0,0,0,0,0,0,-9.0589999999999992E-6,1.617507891,5391.7204035880004,0.20336987294085085,null," 8/14/2018 10:14:03 AM",0.89612036654223204,50001,0]
["fg_cst_eq",0,0,0,0,0,0,0,-2.3530999999999999E-5,1.774526442,4677.3740770209997,0.15408010146217457,null," 8/14/2018 10:32:55 AM",0.88652549222902688,30001,0]
["fg_pv_eq",0,0,0,0,0,0,-3.4580000000000002E-6,4.462751E-3,16.993719766000002,1007.233463829,2.2930383357517875E-2,null," 8/14/2018 10:08:20 AM",0.99877256624411559,901,0]
["gac_eq",0,0,0,0,0,0,0,0,-6.4169999999999997E-6,1.9285056359999999,6.5216097270043966E-4,null," 8/14/2018 12:48:28 PM",0.99986840728895254,40000,0]
["gac_slurry_eq",0,0,0,0,0,0,0,2.2932E-5,4.4447339000000002E-2,7282.0233269930004,0,null," 8/14/2018 11:50:18 AM",1.0000000000000013,31242,0]
["hdpe_bwt_eq",0,0,0,0,0,0,0,-7.1860000000000003E-6,1.039757461,1210.6270696910001,0.20798417562603763,null," 8/14/2018 10:26:40 AM",0.89284355659971304,15001,0]
["hvac_ac_eq",2628.2259000700001,1.168812894,0,0,0,0,0,0,0,0,4.4402508043847003E-2,null," 8/14/2018 1:32:18 PM",0.99405924702166393,113.33,0]
["hvac_elec_eq",1458.1434692969999,0.75248641199999999,0,0,0,0,0,0,0,0,0.19936480781415922,null," 8/14/2018 1:32:35 PM",0.97228079248510613,6148.1,0]
["hvac_gas_eq",813.17633428099998,0.77881003199999999,0,0,0,0,0,0,0,0,0.1337070138486971,null," 8/14/2018 1:33:05 PM",0.94231975089747422,5032.1000000000004,0]
["hvac_gas_non_eq",813.17633428099998,0.77881003199999999,0,0,0,0,0,0,0,0,0.1337070138486971,null," 8/14/2018 1:32:50 PM",0.94231975089747422,5032.1000000000004,0]
["hvac_hp_eq_large",2333.7509261290002,0.85605423899999999,0,0,0,0,0,0,0,0,5.6204592203796817E-2,null," 8/14/2018 1:35:22 PM",0.98147216715343732,50.01,12]
["hvac_hp_eq_small",0,0,0,0,3286.0714454029999,0.15046400200000001,0,0,0,0,8.9476801358507829E-2,null," 8/14/2018 1:34:19 PM",0.97324811259994914,12,0]
["hvac_oil_mid_eq",969.86352683699999,0.75894977500000005,0,0,0,0,0,0,0,0,8.4960799755245564E-2,null," 8/14/2018 1:33:34 PM",0.98796386653060342,3350.1,0]
["hvac_oil_std_eq",969.86352683699999,0.75894977500000005,0,0,0,0,0,0,0,0,8.4960799755245564E-2,null," 8/14/2018 1:33:20 PM",0.98796386653060342,3350.1,0]
["imp_mix_eq",4383.3876341309997,0.62611698800000004,0,0,0,0,0,0,0,0,0.13445897351163477,null," 8/14/2018 12:26:16 PM",0.88388946502339472,110,0]
["in_mix_eq",0,0,0,0,0,0,-0.184034268,24.98905469,439.22069877400003,301.25572637099998,7.7446435260003083E-2,null," 8/14/2018 12:20:43 PM",0.98176603778670313,42.1,0]
["mag_fm_eq",0,0,0,0,0,0,0,57.575432208000002,189.85395229299999,3620.6311514190002,9.8588956417284587E-2,null," 8/14/2018 12:34:51 PM",0.98921845528759511,20.100000000000001,0]
["mount_mix_eq",0,0,0,0,0,0,0,-107.78403992600001,1233.9520801589999,1645.8680859240001,7.7132601499578984E-2,null," 8/14/2018 12:22:29 PM",0.91460257963012426,4.0999999999999996,0]
["op_fm_eq",0,0,0,0,0,0,0.100507337,-4.5180455940000002,372.09362808600002,2555.4668690980002,4.8009299780790902E-2,null," 8/14/2018 12:31:50 PM",0.99930959833000055,60.1,0]
["pd_blow_eq",0,0,0,0,0,0,0,-1.8345569999999999E-3,29.236025673,9536.0174306389999,0.20739142150392728,null," 8/14/2018 12:17:40 PM",0.97797241624007247,5001,0]
["pl_cst_eq",0,0,0,0,0,0,0,2.9169000000000001E-5,1.572614629,790.64854799700004,0.28944693249705705,null," 8/14/2018 10:28:57 AM",0.93675073290181121,6601,0]
["pl_in_mix_eq",0,0,0,0,0,0,0,23.910970309,140.724447876,356.26580423399997,0.14200430363358005,null," 8/14/2018 12:21:06 PM",0.92643704832308782,6.1,0]
["pp_chv_eq",0,0,0,0,0,0,0,29.515280190999999,41.246830076999998,42.655465071000002,0.19788005287761823,null," 8/14/2018 11:23:05 AM",0.98218691787661361,12.1,0]
["pp_man_eq_large",0,0,0,0,0,0,22.608525612000001,-1299.766716117,26028.146920531999,-164294.697081208,1.2710414919042026E-2,null," 8/14/2018 11:12:08 AM",0.99884823158729841,24.1,14]
["pp_man_eq_small",0,0,0,0,0,0,2.7689868610000001,-29.723792209999999,180.93906510599999,27.073457458,0.13581016236231788,null," 8/14/2018 11:11:09 AM",0.97203462725342071,12,0]
["pp_mov_eq_large",0,0,0,0,0,0,9.4997273530000008,-564.68970656399995,12682.378826201,-83302.816206217001,1.3307536002403792E-2,null," 8/14/2018 11:02:34 AM",0.99844470826618181,24.1,14]
["pp_mov_eq_small",0,0,0,0,445.65232098299998,0.21268194000000001,0,0,0,0,0.1307774382403781,null," 8/14/2018 10:59:31 AM",0.97483041133410342,12,0]
["prop_fm_eq",0,0,0,0,0,0,8.915703422,-172.289864142,1293.6972747970001,655.77680475800003,0.10543863979455978,null," 8/14/2018 12:34:34 PM",0.91981460985863206,14.1,0]
["pump_eq",0,0,0,0,0,0,0,-4.77083E-4,12.333908155,6801.7707008589996,0.13368713398242682,null," 8/14/2018 11:44:39 AM",0.93196883970002076,10001,0]
["pvc_empump_eq",857.79971691399999,0.297241692,0,0,0,0,0,0,0,0,0.34011731773465026,null," 8/14/2018 11:46:58 AM",0.72414142212749388,71.160000000000011,0]
["pvc_mmpump_eq",2172.344597881,0.151638992,0,0,0,0,0,0,0,0,9.9798215900419374E-2,null," 8/14/2018 11:45:29 AM",0.86072008652499521,108.01,0]
["pvc_pipe_eq",0,0,0,0,0,0,0,0.110356803,0.235228044,2.3914712530000002,0.32313533066570455,null," 8/14/2018 10:49:52 AM",0.9951485251712211,48.1,0]
["seductor_eq",0,0,0,0,0,0,0,0,2957.7663495749998,-2746.946806985,0.10614684233473387,null," 8/14/2018 12:29:18 PM",0.97313610525831418,6.1,1.5]
["ss_chv_eq",0,0,0,0,0,0,0,31.65091559,305.12540561700001,97.401638230000003,0.18377907399043944,null," 8/14/2018 11:21:30 AM",0.99310274961944256,48.1,0]
["ss_cst_eq",0,0,0,0,0,0,0,-7.7020000000000001E-6,2.7162509039999998,4402.7309929370003,4.870703541644069E-2,null," 8/14/2018 10:34:33 AM",0.9974150386562457,30001,0]
["ss_empump_eq",1671.4158388379999,0.21567175299999999,0,0,0,0,0,0,0,0,0.12606292168277333,null," 8/14/2018 11:47:39 AM",0.94251394750649986,186.35999999999999,0]
["ss_man_eq",223.248424414,1.684302033,0,0,0,0,0,0,0,0,0.4318394443116948,null," 8/14/2018 11:09:08 AM",0.90694492088045375,12.1,1]
["ss_mmpump_eq",0,0,0,0,0,0,-5.1428000000000003E-5,2.3675107000000001E-2,7.1142014380000003,4470.4404501380004,0.14107933817401597,null," 8/14/2018 11:46:03 AM",0.55546205527018022,360.01,0]
["ss_mov_eq",0,0,0,0,0,0,0,76.908725779999997,393.08666071099998,200.56854674600001,0.15788457355449312,null," 8/14/2018 11:03:35 AM",0.99604842930537429,48.1,0]
["ss_pipe_eq",0,0,0,0,0,0,4.5974516999999999E-2,-2.1581476180000001,37.689363942,-3.0714885430000001,0.28526425848243608,null," 8/14/2018 10:51:11 AM",0.87771972619519889,48.1,0]
["ss_pv_eq",0,0,0,0,0,0,0,-6.6983999999999994E-5,14.522866852,15272.942541242999,0.13552842426399497,null," 8/14/2018 10:05:17 AM",0.98795554540983654,27101,0]
["st_bwt_eq",340.81529969399998,0.52157091300000002,0,0,0,0,0,0,0,0,0.31259270730646654,null," 8/14/2018 10:17:08 AM",0.62632217510536325,282095,0]
["st_pipe_eq",0,0,0,0,0,0,6.630642E-3,-0.63889849600000004,21.167729973,-5.1486801040000003,0.1378681964794661,null," 8/14/2018 10:54:40 AM",0.94052208829194073,48.1,1]
["ven_fm_eq",0,0,0,0,0,0,8.413593852,-263.19800276199999,3397.39818913,-230.584107966,2.769325562732472E-2,null," 8/14/2018 12:32:03 PM",0.99967845562317881,24.1,0]
["vol_feed_eq",0,0,0,0,0,0,0,0,376.52630596099999,15176.853694399,4.8612574425237548E-5,null," 8/14/2018 12:30:12 PM",0.99999722878165387,2.5099999999999998,0]

{"sheet":"Cost Data","index":21,"n_rows":1656,"n_cols":7,"rows_kept":1656,"cut":false,"hidden":false,"merged":[]}
["Cost Data"]
["This sheet is used internally and contains component cost data extracted from the central cost database"]
["To maintain vendor confidentiality, the central cost database itself is not provided here"]
[]
["bls118","Alarms (High/Low Pressure Alarms, Level Switch/Alarms, Low Alarms)"]
[43,null,null,"Unit Cost","Useful Life (large)","Useful Life (small)"]
["alarm_cost_cl",0,0,592.57106898296445,15,14]
[]
[]
["bls1141","Centrifugal Pumps (Backwash)"]
[30,"Size needed (gpm)","Size selected (gpm)","Avg. Unit Cost","Useful Life (large)","Useful Life (small)"]
["back_pump_cost_cl",0,10,5677.2511607538163,20,17]
[null,11,30,5907.7773247902132,20,17]
[null,31,50,6736.3908144099287,20,17]
[null,51,55,7918.8558741541174,20,17]
[null,56,75,8404.3144159870735,20,17]
[null,76,100,8404.3144159870735,20,17]
[null,101,120,10747.924187245231,20,17]
[null,121,125,9058.9315257220987,20,17]
[null,126,140,10747.924187245231,20,17]
[null,141,200,10052.398939539858,20,17]
[null,201,250,10605.869564837847,20,17]
[null,251,300,11163.348507247631,20,17]
[null,301,500,15106.120511414303,20,17]
[null,501,750,15541.926595522043,20,17]
[null,751,1000,17819.26280561243,20,17]
[null,1001,1500,21313.394051832671,20,17]
[null,1501,2000,31639.579131048209,20,17]
[null,2001,3000,36351.963074920728,20,17]
[null,3001,3500,41402.29357946603,20,17]
[null,3501,4000,43425.006674004457,20,17]
[null,4001,6000,89976.509472825419,20,17]
[null,6001,10000,80591.971358605399,20,17]
[null,10001,"contact vendor","contact vendor",20,17]
[]
[]
["BCI","Backfill and Compaction"]
[3,null,null,"Avg. Unit Cost (per cy)","Useful Life (large)","Useful Life (small)"]
["backfill_cost_cl",0,0,14.406259946949602,"N/A","N/A"]
[]
[]
["CCI","Pipe bedding costs (crushed stone and sand)"]
[2,null,null,"Avg. Unit Cost (per day)","Useful Life (large)","Useful Life (small)"]
["bedding_cost_cl",0,0,56.007394993191568,"N/A","N/A"]
[]
[]
["bls114","Belt Press"]
[29,"Size needed (m)","Size Selected (m)","Avg. Unit Cost ","Useful Life (large)","Useful Life (small)"]
["belt_press_cost_cl",0,1,139292.6532255894,25,20]
[null,1.1000000000000001,1.5,181080.44919326622,25,20]
[null,1.6,2,250726.77580606093,25,20]
[null,2.1,2.5,299479.20443501719,25,20]
[null,2.6,3,348231.63306397351,25,20]
[null,3.1,"contact vendor","contact vendor"]
[]
[]
["bore_rig_cost",0,0,3008.4293495338848,"N/A","N/A"]
[null,"Borings, cased borings in earth, w/samples, 2.5\" dia",null,"Avg. Unit Cost (per lf)","Useful Life (large)","Useful Life (small)"]
["bore_cost_cl",0,0,80.974546978108293,"N/A","N/A"]
[]
[]
["stake_out_cost",0,0,1433.9242694040011,"N/A","N/A"]
[null,"Borings, drawings showing boring details",null,"Avg. Unit Cost (per job)","Useful Life (large)","Useful Life (small)"]
["bore_draw_cost_cl",0,0,477.97475646800041,"N/A","N/A"]
[]
[]
["bore_report_cost",0,0,1090.907091232848,"N/A","N/A"]
[null,"Borings, mobilization and demobilization, minimum",null,"Avg. Unit Cost","Useful Life (large)","Useful Life (small)"]
["bore_mob_cost_cl",0,0,753.51314549073004,"N/A","N/A"]
[]
[]
["bore_draw_cost",0,0,477.97475646800041,"N/A","N/A"]
[null,"Borings, report and recommendations from P.E.",null,"Avg. Unit Cost (per job)","Useful Life (large)","Useful Life (small)"]
["bore_report_cost_cl",0,0,1090.907091232848,"N/A","N/A"]
[]
[]
["bore_mob_cost",0,0,753.51314549073004,"N/A","N/A"]
[null,"Borings, drill rig and crew with truck mounted auger",null,"Avg. Unit Cost (per day)","Useful Life (large)","Useful Life (small)"]
["bore_rig_cost_cl",0,0,3008.4293495338848,"N/A","N/A"]
[]
[]
["bls061","Chemical Costs"]
[11,"Chemical","Units","Avg. Unit Cost","Useful Life (large)","Useful Life (small)"]
["chem_cost_cl","Acetic Acid","lb",9.7816703626244561E-2,"N/A","N/A"]
[null,"Aluminum Sulfate (alum)","ton",425.91524172147228,"N/A","N/A"]
[null,"Ammonium Chloride","lb",1.0567607726597328,"N/A","N/A"]
[null,"Antiscalant - Basic","lb",1.844723327788462,"N/A","N/A"]
[null,"Antiscalant - Premium","lb",2.5828465026670431,"N/A","N/A"]
[null,"Calcium Hydroxide (Lime) - Large Qty","lb",9.1473116418599301E-2,"N/A","N/A"]
[null,"Calcium Hydroxide (Lime) - Mid Qty","lb",0.22149901926848969,"N/A","N/A"]
[null,"Calcium Hydroxide (Lime) - Small Qty","lb",0.78313433735971694,"N/A","N/A"]
[null,"Calcium Hypochlorite - Large Qty","lb",1.2760664589823472,"N/A","N/A"]
[null,"Calcium Hypochlorite - Mid Qty","lb",1.3545201338410064,"N/A","N/A"]
[null,"Calcium Hypochlorite - Small Qty","lb",1.8581124264451367,"N/A","N/A"]
[null,"Calcium Oxide (Quicklime)","ton",140.82976808584289,"N/A","N/A"]
[null,"Citric Acid (food grade)","lb",1.1224261787916434,"N/A","N/A"]
[null,"Ethanol","gal",3.1734425961702204,"N/A","N/A"]
[null,"Ferric Chloride - Large Qty","lb",0.12349386209099067,"N/A","N/A"]
[null,"Ferric Chloride - Mid Qty","lb",0.56529861075129717,"N/A","N/A"]
[null,"Ferric Chloride - Small Qty","lb",0.99611420422571673,"N/A","N/A"]
[null,"Ferric Sulfate - Large Qty","lb",9.7136610130379608E-2,"N/A","N/A"]
[null,"Ferric Sulfate - Mid Qty","lb",0.80539761530041443,"N/A","N/A"]
[null,"Ferric Sulfate - Small Qty","lb",1.2968449922961784,"N/A","N/A"]
[null,"Ferrous Sulfate","lb",0.6246429720941582,"N/A","N/A"]
[null,"Hydrochloric Acid","lb",0.33459428783595818,"N/A","N/A"]
[null,"Hydrogen Peroxide","lb",0.26724659284459285,"N/A","N/A"]
[null,"Liquid Oxygen","ton",1735.7127453205412,"N/A","N/A"]
[null,"Membrane Cleaner - High pH Detergent","gal",31.602800600153142,"N/A","N/A"]
[null,"Membrane Cleaner - Low pH Sulfate Control","gal",27.547369338188009,"N/A","N/A"]
[null,"Phosphoric Acid - Large Qty","lb",0.50096930284382735,"N/A","N/A"]
[null,"Phosphoric Acid - Small Qty","lb",0.54920572437430792,"N/A","N/A"]
[null,"Phosphoric Acid 75% - Large Qty","lb",0.50096930284382735,"N/A","N/A"]
[null,"Phosphoric Acid 75% - Small Qty","lb",0.54920572437430792,"N/A","N/A"]
[null,"Phosphoric Acid 36% - Large Qty","lb",0.35788954635108478,"N/A","N/A"]
[null,"Phosphoric Acid 36% - Small Qty","lb",0.39234936439012547,"N/A","N/A"]
[null,"Polyaluminum Chloride - Large Qty","lb",0.12592942229494669,"N/A","N/A"]
[null,"Polyaluminum Chloride - Mid Qty","lb",0.18911015835055295,"N/A","N/A"]
[null,"Polyaluminum Chloride - Small Qty","lb",0.65861475780890755,"N/A","N/A"]
[null,"Polymers - Large Qty","lb",0.81129966674355547,"N/A","N/A"]
[null,"Polymers - Small Qty","lb",1.5734980240573635,"N/A","N/A"]
[null,"Potassium Permanganate - Large Qty","lb",1.6851274950963424,"N/A","N/A"]
[null,"Potassium Permanganate - Mid Qty","lb",2.1576825366856522,"N/A","N/A"]
[null,"Potassium Permanganate - Small Qty","lb",4.7641817972036042,"N/A","N/A"]
[null,"Sodium Bicarbonate","lb",0.73808606864968795,"N/A","N/A"]
[null,"Sodium Bisulfite","lb",0.1857940167899175,"N/A","N/A"]
[null,"Sodium Carbonate (soda ash)","lb",0.27088058151609556,"N/A","N/A"]
[null,"Sodium Chloride - Large Qty","lb",0.13056074766355141,"N/A","N/A"]
[null,"Sodium Chloride - Small Qty","lb",0.14753769780530898,"N/A","N/A"]
[null,"Sodium Chlorite 25.0% Solution","lb",0.58384033752880993,"N/A","N/A"]
[null,"Sodium Chlorite 7.5% Solution","lb",0.4053348119410578,"N/A","N/A"]
[null,"Sodium Hexametaphosphate","lb",1.9887198457212967,"N/A","N/A"]
[null,"Sodium Hydroxide - Large Qty","lb",0.12541027678918049,"N/A","N/A"]
[null,"Sodium Hydroxide - Mid Qty","lb",0.20600613765892153,"N/A","N/A"]
[null,"Sodium Hydroxide - Small Qty","lb",0.30196922592029452,"N/A","N/A"]
[null,"Sodium Hydroxide 50% - Large Qty","lb",0.12541027678918049,"N/A","N/A"]
[null,"Sodium Hydroxide 50% - Mid Qty","lb",0.20600613765892153,"N/A","N/A"]
[null,"Sodium Hydroxide 50% - Small Qty","lb",0.30196922592029452,"N/A","N/A"]
[null,"Sodium Hydroxide 25% - Large Qty","lb",8.0980101463823354E-2,"N/A","N/A"]
[null,"Sodium Hydroxide 25% - Mid Qty","lb",0.13302257483917029,"N/A","N/A"]
[null,"Sodium Hydroxide 25% - Small Qty","lb",0.19498799604026804,"N/A","N/A"]
[null,"Sodium Hypochlorite - Large Qty","gal",1.5279794302670986,"N/A","N/A"]
[null,"Sodium Hypochlorite - Small Qty","gal",2.0861212330994263,"N/A","N/A"]
[null,"Sodium Phosphate","gal",7.9409068881966087,"N/A","N/A"]
[null,"Sulfuric Acid - Large Qty","lb",0.11072026361268483,"N/A","N/A"]
[null,"Sulfuric Acid - Small Qty","lb",0.30865593040631134,"N/A","N/A"]
[null,"Tetrasodium Polyphosphate - Large Qty","lb",7.2457351937494412,"N/A","N/A"]
[null,"Tetrasodium Polyphosphate - Small Qty","lb",30.240797025951633,"N/A","N/A"]
[null,"Zinc Orthophosphate - Large Qty","gal",4.5989284898788423,"N/A","N/A"]
[null,"Zinc Orthophosphate - Mid Qty","gal",6.5353194735993103,"N/A","N/A"]
[null,"Zinc Orthophosphate - Small Qty","gal",7.8446708471864701,"N/A","N/A"]
[]
[]
["bls1149","Cast Iron Manual Valves"]
[35,"Size needed (in. diam)","Size selected (in. diam)","Avg. Unit Cost","Useful Life (large)","Useful Life (small)"]
["ci_bfv_cost_cl",0,1,166.0085502801667,25,20]
[null,1.1000000000000001,2,331.17089212312271,25,20]
[null,2.1,2.5,403.17289057322023,25,20]
[null,2.6,3,529.46246599720769,25,20]
[null,3.1,4,679.65807865790498,25,20]
[null,4.0999999999999996,6,1174.3475555780219,25,20]
[null,6.1,8,1529.5218754147334,25,20]
[null,8.1,10,2326.9334646040388,25,20]
[null,10.1,12,2528.9332250806997,25,20]
[null,12.1,14,3499.2771843579658,25,20]
[null,14.1,16,4214.5506752969141,25,20]
[null,16.100000000000001,18,4966.6410017568842,25,20]
[null,18.100000000000001,20,6632.296091377596,25,20]
[null,20.100000000000001,24,7747.8988849057714,25,20]
[null,24.1,30,10387.933201383395,25,20]
[null,30.1,48,25748.037412195856,25,20]
[null,48.1,"contact vendor","contact vendor",25,20]
[]
[]
["bls1149","Cast Iron Check Valves"]
[35,"Size needed (in. diam)","Size selected (in. diam)","Avg. Unit Cost","Useful Life (large)","Useful Life (small)"]
["ci_chv_cost_cl",0,2,297.80974848421818,25,20]
[null,2.1,2.5,454.57050982301939,25,20]
[null,2.6,3,593.50959967831341,25,20]
[null,3.1,4,1427.8846153846155,25,20]
[null,4.0999999999999996,6,1930.2884615384617,25,20]
[null,6.1,8,3014.4230769230771,25,20]
[null,8.1,12,4812.5,25,20]
[null,12.1,16,8197.1153846153848,25,20]
[null,16.100000000000001,18,11951.923076923076,25,20]
[null,18.100000000000001,24,19461.538461538461,25,20]
[null,24.1,"contact vendor","contact vendor",25,20]
[]
[]
["bls1149","Cast Iron Motor/Air Operated Valves (on/off)"]
[35,"Size needed (in. diam)","Size selected (in. diam)","Avg. Unit Cost","Useful Life (large)","Useful Life (small)"]
["ci_mov_cost_cl",0,1,1162.4784693789438,25,20]
[null,1.1000000000000001,2,1179.0809967196158,25,20]
[null,2.1,3,1551.1148185981419,25,20]
[null,3.1,4,1854.7917114206177,25,20]
[null,4.0999999999999996,6,2661.3332835297279,25,20]
[null,6.1,8,3196.9164651247756,25,20]
[null,8.1,10,4782.905010429381,25,20]
[null,10.1,12,6086.1268971968566,25,20]
[null,12.1,14,7747.1021472312341,25,20]
[null,14.1,16,8323.5956340773228,25,20]
[null,16.100000000000001,18,9631.3036306079466,25,20]
[null,18.100000000000001,20,14809.688650581335,25,20]
[null,20.100000000000001,24,18982.941698579121,25,20]
[null,24.1,30,36780.293391321859,25,20]
[null,30.1,48,59789.439846856025,25,20]
[null,48.1,"contact vendor","contact vendor",25,20]
[]
[]
["bls118","Online Perchlorate/Nitrate Analyzer"]
[43,null,null,"Unit Cost","Useful Life (large)","Useful Life (small)"]
["clo4analyzer_cost_cl",0,0,24574.060480423086,15,14]
[]
[]
["BCI","Concrete for Basins"]
[3,null,null,"Avg. Unit Cost (per cy)","Useful Life (large)","Useful Life (small)"]
["conc_basin_cost_cl",0,0,601.26511720822305,40,37]
[]
[]
["bls061","Chemical Resistant Coating for Concrete"]
[11,null,null,"Avg. Unit Cost (per gal)","Useful Life (large)","Useful Life (small)"]
["conc_coating_cost_cl",0,0,257.02531540504651,10,10]
[]
[]
["BCI","Concrete Pad"]
[3,null,null,"Avg. Unit Cost (per cy)","Useful Life (large)","Useful Life (small)"]
["conc_pad_cost_cl",0,0,647.97398379459571,40,37]
[]
[]
["bls1074","Backwash Distributors for Concrete GAC Contactors"]
[24,"Size Needed (cell length)","Size Selected (cell length)","Avg. Unit Cost","Useful Life(large)","Useful Life (small)"]
["cont_top_cost_cl",0,8,43147.991597387518,40,37]
[null,9,10,45617.30436952717,40,37]
[null,11,12,48086.617141666822,40,37]
[null,13,14,60303.217172252436,40,37]
[null,15,16,63682.276755180384,40,37]
[null,17,18,81487.321480608371,40,37]
[null,19,20,85906.091704437204,40,37]
[null,21,22,96173.234283333644,40,37]
[null,23,24,99032.438545811121,40,37]
[null,25,26,122425.92796608146,40,37]
[null,27,28,141400.64716252295,40,37]
[null,29,30,146859.12802725271,40,37]
[null,31,"contact vendor","contact vendor",40,37]
[]
[]
["bls072106033","CPVC Piping"]
[15,"Size needed (in. diam)","Size selected (in. diam)","Avg. Unit Cost ($/lf)","Useful Life (large)","Useful Life (small)"]
["cpvc_pipe_cost_cl",0,0.5,2.7129668376829081,22,17]
[null,0.6,0.75,3.9174378195461803,22,17]
[null,0.76,1,4.653337804185762,22,17]
[null,1.1000000000000001,1.5,6.9987300584466148,22,17]
[null,1.6,2,7.9058027959432033,22,17]
[null,2.1,2.5,14.367588287753282,22,17]
[null,2.6,3,18.892896248787522,22,17]
[null,3.1,4,28.580390597813643,22,17]
[null,4.0999999999999996,6,43.372013394722444,22,17]
[null,6.1,8,64.095340161167229,22,17]
[null,8.1,10,90.460468065566772,22,17]
[null,10.1,12,134.22448515538855,22,17]
[null,12.1,14,196.20317692387175,22,17]
[null,14.1,16,250.71242216546051,22,17]
[null,16.100000000000001,18,303.57754308803931,22,17]
[null,18.100000000000001,"contact vendor","contact vendor",22,17]
[]
[]
["bls1072","Carbon Steel Pressure Vessels - Stainless Steel Internals"]
[23,"Size needed (gal)","Size selected (gal)","Avg. Unit Cost","Useful Life (large)","Useful Life (small)"]
["cs_pv_cost_cl",0,180,13858.648185865099,35,30]
[null,181,300,16821.381049558688,35,30]
[null,301,650,19787.604400643886,35,30]
[null,651,750,21845.902943494446,35,30]
[null,751,880,24240.42238415256,35,30]
[null,881,950,26228.825543229508,35,30]
[null,951,1400,35554.17345202584,35,30]
[null,1401,1700,39825.709659724744,35,30]
[null,1701,2000,38484.858352925963,35,30]
[null,2001,2900,47966.620937281281,35,30]
[null,2901,4300,52314.518115312734,35,30]
[null,4301,4700,58669.393092542683,35,30]
[null,4701,6800,59782.347444985331,35,30]
[null,6801,17000,188978.83571466777,35,30]
[null,17001,27100,247627.64903829011,35,30]
[null,27101,"contact vendor","contact vendor",35,30]
[]
[]
["bls1072","Carbon Steel Pressure Vessels - Plastic Internals"]
[23,"Size needed (gal)","Size selected (gal)","Avg. Unit Cost","Useful Life (large)","Useful Life (small)"]
["csp_pv_cost_cl",0,180,11941.965039546278,35,30]
[null,181,300,11979.543232512808,35,30]
[null,301,650,12149.726084141044,35,30]
[null,651,750,13034.264216724367,35,30]
[null,751,880,13900.725956952443,35,30]
[null,881,950,15067.255810277584,35,30]
[null,951,1400,19814.399055811744,35,30]
[null,1401,1700,21160.927033903194,35,30]
[null,1701,2000,25226.667048759489,35,30]
[null,2001,2900,26332.531891194689,35,30]
[null,2901,4300,34286.110576907246,35,30]
[null,4301,4700,34871.895141847432,35,30]
[null,4701,6800,43482.836741266336,35,30]
[null,6801,17000,98767.962692792978,35,30]
[null,17001,27100,160703.36019649555,35,30]
[null,27101,"contact vendor","contact vendor",35,30]
[]
[]
[]
["Current Year","current_year_cl",2017]
[]
[]
["bls10150211","Ductile Iron Piping"]
[19,"Size needed (in. diam)","Size selected (in. diam)","Avg. Unit Cost ($/lf)","Useful Life (large)","Useful Life (small)"]
["di_pipe_cost_cl",0,4,33.764512955067232,40,35]
[null,4.0999999999999996,6,40.125942932108885,40,35]
[null,6.1,8,51.870121351262711,40,35]
[null,8.1,10,67.039685142669725,40,35]
[null,10.1,12,77.805182026894059,40,35]
[null,12.1,14,97.868153492948508,40,35]
[null,14.1,16,114.50573958674975,40,35]
[null,16.100000000000001,18,129.18596261069203,40,35]
[null,18.100000000000001,20,151.69563791407018,40,35]
[null,20.100000000000001,24,187.90685470646113,40,35]
[null,24.1,30,226.13759441585236,40,35]
[null,30.1,36,279.46399605001488,40,35]
[null,36.1,48,484.52392326873428,40,35]
[null,48.1,"contact vendor","contact vendor",40,35]
[]
[]
["bls114","Diffusers"]
[29,"Size Needed (cfm)","Size Selected (cfm)","Avg. Unit Cost","Useful Life (large)","Useful Life (small)"]
["diffuser_cost_cl",0,7,52.151969744247566,10,10]
[null,7.1,10,63.408738902577667,10,10]
[null,10.1,14,41.631185509816973,10,10]
[null,14.1,15,41.631185509816973,10,10]
[null,15.1,17,47.919053818023784,10,10]
[null,17.100000000000001,23,49.098121112421438,10,10]
[null,23.1,34,57.885692399443904,10,10]
[null,34.1,44,68.048856260058329,10,10]
[null,44.1,"contact vendor","contact vendor",45,40]
[]
[]
["bls118","DO Analyzer/Controller"]
[43,null,null,"Unit Cost","Useful Life (large)","Useful Life (small)"]
["doanalyzer_cost_cl",0,0,2941.2374045056931,15,14]
[]
[]
["bls1154","Dot Matrix Printer"]
[38,null,null,"Avg. Unit Cost","Useful Life (large)","Useful Life (small)"]
["dotmatrix_printer_cost_cl",0,0,641.91281559323488,10,8]
[]
[]
["bls118","Electrical Enclosure"]
[43,null,null,"Avg. Unit Cost","Useful Life (large)","Useful Life (small)"]
["elec_encl_cost_cl",0,0,1201.1687264911338,22,17]
[]
[]
[3,null,null,"Avg. Unit Cost (per cy)","Useful Life (large)"]
["ep_dike_construct_cl","Evaporation pond dike construction","ep_dike_construct_cl",8.1865355248195826,"NA"]
[]
[]
["bls07210606","Evaporation pond liner"]
[16,null,null,"Avg. Unit Cost (per sf)","Useful Life (large)","Useful Life (small)"]
["ep_liner_cost_cl",0,0,1.8586831275720166,10,10]
[]
[]
["BCI","Excavation"]
[3,null,null,"Avg. Unit Cost (per cy)","Useful Life (large)","Useful Life (small)"]
["excavate_cost_cl",0,0,31.07454575596817,"N/A","N/A"]
[]
[]
["bls07210606","Fiberglass Backwash Tanks"]
[16,"Size needed (gal)","Size selected (gal)","Avg. Unit Cost","Useful Life (large)","Useful Life (small)"]
["fg_bwt_cost_cl",0,564,5382.5641232018497,25,20]
[null,565,600,6993.7674825168688,25,20]
[null,601,1000,7072.9869337562768,25,20]
[null,1001,1470,6171.2296807067014,25,20]
[null,1471,1500,10002.26032728829,25,20]
[null,1501,2000,11590.459046954549,25,20]
[null,2001,3000,12262.81572826606,25,20]
[null,3001,4000,13901.160796631186,25,20]
[null,4001,4500,9623.7258668615195,25,20]
[null,4501,5000,15510.293236828365,25,20]
[null,5001,6000,17396.275475936804,25,20]
[null,6001,7000,19018.766175031349,25,20]
[null,7001,8000,20640.069975297007,25,20]
[null,8001,9000,22139.115143456893,25,20]
[null,9001,10000,17920.437509988311,25,20]
[null,10001,11000,25202.281831909368,25,20]
[null,11001,11750,16327.136172427296,25,20]
[null,11751,12000,26784.601799858792,25,20]
[null,12001,13000,31612.118241366792,25,20]
[null,13001,14000,33462.107699471038,25,20]
[null,14001,15000,34915.239482596502,25,20]
[null,15001,20000,33451.282214445098,25,20]
[null,20001,20300,24741.237368280155,25,20]
[null,20301,35000,65902.56467140303,25,20]
[null,35001,50000,64281.645049289044,25,20]
[null,50001,"contact vendor","contact vendor",25,20]
[]
[]
["bls07210606","Fiberglass Chemical Storage Tanks"]
[16,"Size Needed (gal)","Size Selected (gal)","Avg. Unit Cost","Useful Life (large)","Useful Life (small)"]
["fg_cst_cost_cl",0,564,5382.5641232018497,10,7]
[null,565,600,5663.3333736660179,10,7]
[null,601,1000,6837.9816506646766,10,7]
[null,1001,1470,6171.2296807067014,10,7]
[null,1471,1500,9009.1631677735368,10,7]
[null,1501,2000,9312.1167097474518,10,7]
[null,2001,3000,10958.851255419495,10,7]
[null,3001,4000,12647.533187626123,10,7]
[null,4001,4500,9623.7258668615195,10,7]
[null,4501,5000,13849.821775209295,10,7]
[null,5001,6000,15479.433867277188,10,7]
[null,6001,7000,15307.333537087936,10,7]
[null,7001,8000,16618.856743012937,10,7]
[null,8001,9000,17852.036573501144,10,7]
[null,9001,10000,23645.425996872909,10,7]
[null,10001,11000,24407.56400937002,10,7]
[null,11001,11750,16327.136172427296,10,7]
[null,11751,12000,26163.987583747585,10,7]
[null,12001,13000,27595.891510769292,10,7]
[null,13001,14000,29032.53295089108,10,7]
[null,14001,15000,31990.305511641182,10,7]
[null,15001,20000,39033.473634182825,10,7]
[null,20001,20300,24741.237368280155,10,7]
[null,20301,30000,37606.727626485503,10,7]
[null,30001,"contact vendor","contact vendor",10,7]
[]
[]
["bls07210606","Fiberglass Pressure Vessels - Plastic Internals"]
[16,"Size needed (gal)","Size selected (gal)","Avg. Unit Cost","Useful Life (large)","Useful Life (small)"]
["fg_pv_cost_cl",0,187,4352.1706334005594,25,20]
[null,188,264,5573.5467443086018,25,20]
[null,265,345,7548.5341075289562,25,20]
[null,346,463,9357.2797422765543,25,20]
[null,464,900,17407.533422888078,25,20]
[null,901,"contact vendor","contact vendor",25,20]
[]
[]
["bls1399","Granular Activated Carbon - Material and Delivery Cost"]
[45,"Quantity Needed (lb)","Quantity Selected (lb)","Avg. Unit Cost ($/lb)","Useful Life(large)","Useful Life (small)"]
["gac_cost_cl",0,1000,1.9230149705714508,"N/A","N/A"]
[null,2000,21000,1.7920946797095176,"N/A","N/A"]
[null,40000,40000,1.6725587619660134,"N/A","N/A"]
[]
[]
["bls1141","Slurry Pumps for Media Transfer"]
[30,"Size Needed (lb/hr)","Size Selected (lb/hr)","Avg. Unit Cost","Useful Life(large)","Useful Life (small)"]
["gac_slurry_cost_cl",0,1165,7364.9280246731105,20,15]
[null,1166,11014,10553.375815329422,20,15]
[null,11015,31241,31051.994682000124,20,15]
[null,31242,"contact vendor","contact vendor",20,15]
[]
[]
["bls114","Gravimetric Dry Feeder"]
[29,"Size Needed (lb/min)","Size Selected (lb/min)","Avg. Unit Cost","Useful Life(large)","Useful Life (small)"]
["grav_feed_cost_cl",0,0.02,33883.451182143777,25,20]
[null,0.4,4.5,33111.720699786878,25,20]
[null,4.51,44,35529.856875414844,25,20]
[null,44.1,107.5,37609.06664252458,25,20]
[null,107.5,"contact vendor","contact vendor",25,20]
[]
[]
["bls07210606","HDPE Backwash Tanks "]
[16,"Size Needed (gal)","Size Selected (gal)","Avg. Unit Cost","Useful Life (large)","Useful Life (small)"]
["hdpe_bwt_cost_cl",0,300,1736.037045599056,25,20]
[null,301,550,1532.1824615355076,25,20]
[null,551,850,2032.7477066246133,25,20]
[null,851,905,3502.1829044968717,25,20]
[null,906,1000,2018.1537781377003,25,20]
[null,1001,1050,3971.4439062170959,25,20]
[null,1051,1200,2246.9454479365645,25,20]
[null,1201,1500,2466.1190433257261,25,20]
[null,1501,2000,2742.293183545768,25,20]
[null,2001,2500,3881.8127772181756,25,20]
[null,2501,3000,4152.1428878075958,25,20]
[null,3001,4200,5762.9590028574503,25,20]
[null,4201,5200,8489.0560914189537,25,20]
[null,5201,6500,9551.3419903256981,25,20]
[null,6501,8000,12478.660096308166,25,20]
[null,8001,10000,7915.2657621618137,25,20]
[null,10001,12000,12751.409724118665,25,20]
[null,12001,15000,17652.735280045181,25,20]
[null,15001,"contact vendor","contact vendor",25,20]
[]
[]
["bls118","Head Loss Sensor"]
[43,null,null,"Unit Cost","Useful Life (large)","Useful Life (small)"]
["headloss_cost_cl",0,0,2121.0930305173688,15,14]
[]
[]
["bls114","Impeller Mixers for Rapid Mix"]
[29,"Size needed (hp)","Size selected (hp)","Avg. Unit Cost","Useful Life (large)","Useful Life (small)"]
["imp_mix_cost_cl",0,1,4670.0920438608591,25,20]
[null,1.1000000000000001,1.5,5185.8438043197912,25,20]
[null,1.6,2,5767.7970300153593,25,20]
[null,2.1,3,9417.155362357953,25,20]
[null,3.1,5,11668.264019463384,25,20]
[null,5.0999999999999996,7.5,19534.188362911675,25,20]
[null,7.6,10,20361.448563695776,25,20]
[null,10.1,20,23577.800706555863,25,20]
[null,20.100000000000001,"contact vendor","contact vendor",25,20]
[]
[]
["bls114","Stainless Steel Inline/Rapid Mixers"]
[29,"Size needed (in. diam)","Size selected (in. diam)","Avg. Unit Cost","Useful Life (large)","Useful Life (small)"]
["in_mix_cost_cl",0,0.5,538.89049603763908,25,22]
[null,0.6,0.75,585.65992763127883,25,22]
[null,0.85,1,819.97428524359862,25,22]
[null,1.1000000000000001,1.5,992.38459468222686,25,22]
[null,1.6,2,1293.5078848186577,25,22]
[null,2.1,2.5,1721.5471626079429,25,22]
[null,2.6,3,1934.2155563221486,25,22]
[null,2.1,4,2696.9803117215324,25,22]
[null,4.0999999999999996,6,3533.0913376290127,25,22]
[null,6.1,8,4561.9380993254845,25,22]
[null,8.1,10,6834.335568039709,25,22]
[null,10.1,12,9465.0901911694418,25,22]
[null,12.1,14,10599.635227606654,25,22]
[null,14.1,16,13803.183123583789,25,22]
[null,16.100000000000001,18,14504.006517372065,25,22]
[null,18.100000000000001,20,17141.863428143264,25,22]
[null,20.100000000000001,24,24182.979762554132,25,22]
[null,24.1,30,33119.542933459743,25,22]
[null,30.1,36,45984.139775220392,25,22]
[null,36.1,42,44205.845059808154,25,22]
[null,42.1,"contact vendor","contact vendor",25,22]
[]
[]
["bls1154","Laser Jet Printer"]
[38,null,null,"Avg. Unit Cost","Useful Life (large)","Useful Life (small)"]
["laser_printer_cost_cl",0,0,627.16285861019526,10,8]
[]
[]
["bls118","Magnetic Flow Meters"]
[43,"Size needed (in. diam)","Size selected (in. diam)","Avg. Unit Cost","Useful Life (large)","Useful Life (small)"]
["mag_fm_cost_cl",0,0.75,5266.5310303449451,15,14]
[null,0.76,1,3737.0701052521649,15,14]
[null,1.1000000000000001,1.5,3831.033761897907,15,14]
[null,1.6,2,4209.2380938966562,15,14]
[null,2.1,2.5,4105.5710709593259,15,14]
[null,2.6,3,4481.3390271288199,15,14]
[null,3.1,4,4713.8023961711842,15,14]
[null,4.0999999999999996,6,7747.4619998290036,15,14]
[null,6.1,8,9978.7261018798472,15,14]
[null,8.1,10,12076.756326839053,15,14]
[null,10.1,12,14357.808465803988,15,14]
[null,12.1,14,17614.41640217376,15,14]
[null,14.1,16,21512.384613409264,15,14]
[null,16.100000000000001,18,25120.373133416404,15,14]
[null,18.100000000000001,20,28272.26294309954,15,14]
[null,20.100000000000001,"contact vendor","contact vendor",15,14]
[]
[]
["bls061","Filter Media Costs"]
[11,"Media","Units","Avg. Unit Cost","Useful Life (large)","Useful Life (small)"]
["media_cost_cl","AAFS-50","ft3",95.682014077275809,"N/A","N/A"]
[null,"Activated Alumina","ft3",114.16964766779888,"N/A","N/A"]
[null,"Anthracite","lb",0.50929908932075085,10,8.5]
[null,"Garnet/illmenite","lb",0.73089094541330546,10,8.5]
[null,"G2 Media","ft3",128.01094336600406,"N/A","N/A"]
[null,"Granular Ferric Hydroxide","ft3",187.22322627700584,"N/A","N/A"]
[null,"Manganese Greensand","lb",0.97363759717510778,"N/A","N/A"]
["bls1399","Sand","ft3",23.556098116864867,20,20]
[45,"SORB 33","ft3",266.26665482334624,"N/A","N/A"]
[]
[]
["CCI","Metalwork"]
[2,null,"Units","Avg. Unit Cost","Useful Life (large)","Useful Life (small)"]
["metal_cost_cl","Aluminum Railing","lf",37.394495653084739,40,35]
[null,"Aluminum Stairs","riser",562.32324290352983,40,35]
[null,"Checkered Plate Platform","sf",49.252487037812919,40,35]
[null,"Grating","sf",46.110505918089444,40,35]
[]
[]
["bls114","Mounted Mixers (for neutralization tanks, etc)"]
[29,"Size needed (hp)","Size selected (hp)","Avg. Unit Cost","Useful Life (large)","Useful Life (small)"]
["mount_mix_cost_cl",0,0.33333333333333331,2152.1911149383404,25,22]
[null,0.34,0.5,2249.5563661604838,25,22]
[null,0.51,0.75,2433.3086300980585,25,22]
[null,0.76,1,2698.9713434764844,25,22]
[null,1.1000000000000001,1.5,2910.8087127200633,25,22]
[null,1.6,2,4196.2218815641208,25,22]
[null,2.1,3,4890.7286981634461,25,22]
[null,3.1,4,4588.240922609597,25,22]
[null,4.0999999999999996,"contact vendor","contact vendor",25,22]
[]
[]
["bls118","Online Nitrate Analyzer"]
[43,null,null,"Unit Cost","Useful Life (large)","Useful Life (small)"]
["nitrateanalyzer_cost_cl",0,0,16356.175166544646,15,14]
[]
[]
["bls118","Orifice Plate Flow Meters"]
[43,"Size needed (in. diam)","Size selected (in. diam)","Avg. Unit Cost","Useful Life (large)","Useful Life (small)"]
["op_fm_cost_cl",0,2,3340.9756510202192,15,14]
[null,2.1,3,3449.0303581646272,15,14]
[null,3.1,6,5093.5074255753598,15,14]
[null,6.1,12,6219.2647459408408,15,14]
[null,12.1,24,10437.005481311237,15,14]
[null,48.1,60,30284.544905206916,15,14]
[null,60.1,"contact vendor","contact vendor",15,14]
[]
[]
["bls117507","Operator Interface Software"]
[42,null,null,"Avg. Unit Cost","Useful Life (large)","Useful Life (small)"]
["op_interface_software_cost_cl",0,0,183.22815160365667,10,8]
[]
[]
["bls11510114","PC Workstation"]
[37,null,null,"Avg. Unit Cost","Useful Life (large)","Useful Life (small)"]
["pc_workstation_cost_cl",0,0,1006.4840370291496,10,8]
[]
[]
["bls11470145","Positive Displacement Blowers"]
[33,"Size needed (cfm)","Size selected (cfm)","Avg. Unit Cost","Useful Life (large)","Useful Life (small)"]
["pd_blow_cost_cl",0,40,10095.377526542283,25,20]
[null,41,50,16710.026190435441,25,20]
[null,51,70,10639.332762119036,25,20]
[null,71,135,17501.194188383586,25,20]
[null,136,250,16193.093266472879,25,20]
[null,251,280,12539.183328188701,25,20]
[null,281,400,25700.710302221414,25,20]
[null,401,500,29532.703104247121,25,20]
[null,501,3000,89780.618825970756,25,20]
[null,3001,5000,105191.22284374147,25,20]
[null,5001,"contact vendor","contact vendor",25,20]
[]
[]
["bls118","pH Meters/Controllers"]
[43,null,null,"Avg. Unit Cost","Useful Life (large)","Useful Life (small)"]
["pH_meter_cost_cl",0,0,2632.3973326835253,15,14]
[]
[]
["bore_cost",0,0,80.974546978108293,"N/A","N/A"]
[null,"Hand Dug Test Pits",null,"Avg. Unit Cost (per cy)","Useful Life (large)","Useful Life (small)"]
["pit_cost_cl",0,0,266.54121713627313,"N/A","N/A"]
[]
[]
["bls07210606","Plastic (XLPE) Chemical Storage Tanks"]
[16,"Size Needed (gal)","Size Selected (gal)","Avg. Unit Cost","Useful Life (large)","Useful Life (small)"]
["pl_cst_cost_cl",0,60,605.71944186780297,10,7]
[null,61,65,486.07891353673773,10,7]
[null,66,100,1588.8009497742278,10,7]
[null,101,125,1464.8625221608795,10,7]
[null,126,130,1384.6122834745943,10,7]
[null,131,150,1550.3078359239598,10,7]
[null,151,200,1611.8284618333778,10,7]
[null,201,205,1943.441724547893,10,7]
[null,206,220,1464.9308784118898,10,7]
[null,221,230,1538.4138482481389,10,7]
[null,231,250,1763.9211203316611,10,7]
[null,251,300,2053.3414871099671,10,7]
[null,301,310,1774.2429142342412,10,7]
[null,311,325,2003.1679988682863,10,7]
[null,326,330,1724.6846322516544,10,7]
[null,331,450,1678.5441628195908,10,7]
[null,451,500,2302.2265970390681,10,7]
[null,501,525,1943.4246354851407,10,7]
[null,526,540,2994.4190838337827,10,7]
[null,541,550,1825.0374092930208,10,7]
[null,551,600,1917.9617277379277,10,7]
[null,601,750,1660.4267767158406,10,7]
[null,751,825,1771.1889580916131,10,7]
[null,826,850,2506.9718255121384,10,7]
[null,851,1000,2109.4915229988255,10,7]
[null,1001,1025,2075.2781412442282,10,7]
[null,1026,1050,3624.4354460159188,10,7]
[null,1051,1200,2995.6809024499721,10,7]
[null,1201,1500,2885.2946879219239,10,7]
[null,1501,1600,2652.3579621612503,10,7]
[null,1601,2000,3312.1423143539578,10,7]
[null,2001,2400,3595.275188494832,10,7]
[null,2401,2500,4071.9612940846769,10,7]
[null,2501,2550,6543.5891984647606,10,7]
[null,2551,3000,4798.102514911915,10,7]
[null,3001,4200,7675.4135819409667,10,7]
[null,4201,5200,10973.123214636913,10,7]
[null,5201,5300,12610.699397846669,10,7]
[null,5301,6500,14059.546798274405,10,7]
[null,6501,6600,14183.340346127778,10,7]
[null,6601,"contact vendor","contact vendor",10,7]
[]
[]
["bls114","Plastic Inline/Rapid Mixers"]
[29,"Size needed (in. diam)","Size selected (in. diam)","Avg. Unit Cost","Useful Life (large)","Useful Life (small)"]
["pl_in_mix_cost_cl",0,0.5,521.74740647742817,25,22]
[null,0.6,0.75,523.05327827716542,25,22]
[null,0.85,1,421.50729422668479,25,22]
[null,1.1000000000000001,1.5,592.24807947878696,25,22]
[null,1.6,2,663.85600863149625,25,22]
[null,2.1,2.5,1098.1353494429004,25,22]
[null,2.6,3,1092.4163088863222,25,22]
[null,2.1,4,1440.7774076280057,25,22]
[null,4.0999999999999996,6,1878.3239070824447,25,22]
[null,6.1,"contact vendor","contact vendor",25,22]
[]
[]
["bls115","Plant Intelligence Software"]
[36,null,null,"Avg. Unit Cost","Useful Life (large)","Useful Life (small)"]
["plant_intel_software_cost_cl",0,0,11480.115842868938,10,8]
[]
[]
["bls115","Expansion Base Controller Module"]
[36,null,null,"Avg. Unit Cost","Useful Life (large)","Useful Life (small)"]
["plc_base_expansion_controller_cost_cl",0,0,85.678421835734241,10,8]
[]
[]
["bls117507","Base Expansion Module"]
[42,null,null,"Avg. Unit Cost","Useful Life (large)","Useful Life (small)"]
["plc_base_expansion_cost_cl",0,0,118.37181499391322,10,8]
[]
[]
["bls117507","I/O Combination Analog Module"]
[42,null,null,"Avg. Unit Cost","Useful Life (large)","Useful Life (small)"]
["plc_combination_analog_cost_cl",0,0,652.67796318607805,10,8]
[]
[]
["bls117507","CPU"]
[42,null,null,"Avg. Unit Cost","Useful Life (large)","Useful Life (small)"]
["plc_cpu_cost_cl",0,0,628.20399656420727,10,8]
[]
[]
["bls117507","PLC Data Collection Software"]
[42,null,null,"Avg. Unit Cost","Useful Life (large)","Useful Life (small)"]
["plc_data_software_cost_cl",0,0,690.22366161995012,10,8]
[]
[]
["bls117507","I/O Discrete Input Module"]
[42,null,null,"Avg. Unit Cost","Useful Life (large)","Useful Life (small)"]
["plc_discrete_input_cost_cl",0,0,306.87179411739436,10,8]
[]
[]
["bls117507","I/O Discrete Output Module"]
[42,null,null,"Avg. Unit Cost","Useful Life (large)","Useful Life (small)"]
["plc_discrete_output_cost_cl",0,0,374.94265970264058,10,8]
[]
[]
["bls117507","Ethernet Module"]
[42,null,null,"Avg. Unit Cost","Useful Life (large)","Useful Life (small)"]
["plc_ethernet_cost_cl",0,0,865.22261904631989,10,8]
[]
[]
["bls115","Operator Interface Unit"]
[36,"System Size",null,"Avg. Unit Cost","Useful Life (large)","Useful Life (small)"]
["plc_op_interface_cost_cl","small","small",1955.7290443086633,10,8]
[null,"large","large",459.89513426134209,10,8]
[]
[]
["bls115","PLC Rack/Power Supply"]
[36,null,null,"Avg. Unit Cost","Useful Life (large)","Useful Life (small)"]
["plc_rack_cost_cl",0,0,340.15912297436552,10,8]
[]
[]
["bls117507","PLC  Programming Software"]
[42,null,null,"Avg. Unit Cost","Useful Life (large)","Useful Life (small)"]
["plc_software_cost_cl",0,0,473.69298983008503,10,8]
[]
[]
["bls114","Portable Mixers"]
[29,"Size needed (hp)","Size selected (hp)","Avg. Unit Cost","Useful Life (large)","Useful Life (small)"]
["port_mix_cost_cl",0,1,2096.6750305733167,25,20]
[null,1.1000000000000001,"contact vendor","contact vendor",25,20]
[]
[]
["bls1149","PVC Check Valves"]
[35,"Size needed (in. diam)","Size selected (in. diam)","Avg. Unit Cost","Useful Life (large)","Useful Life (small)"]
["pp_chv_cost_cl",0,0.5,79.855769230769226,25,20]
[null,0.6,0.75,87.259615384615387,25,20]
[null,0.76,1,104.18269230769231,25,20]
[null,1.1000000000000001,1.5,158.65384615384616,25,20]
[null,1.51,2,208.36538461538461,25,20]
[null,2.1,2.5,847.80375410854936,25,20]
[null,2.6,3,512.98076923076928,25,20]
[null,3.1,4,708.65384615384619,25,20]
[null,4.0999999999999996,6,1461.93404847739,25,20]
[null,6.1,8,2162.9867807076007,25,20]
[null,8.1,10,3222.9673163205507,25,20]
[null,10.1,12,4519.3087751028288,25,20]
[null,12.1,"contact vendor","contact vendor",25,20]
[]
[]
["bls1149","Polypropylene/PVC Manual Valves"]
[35,"Size needed (in. diam)","Size selected (in. diam)","Avg. Unit Cost","Useful Life (large)","Useful Life (small)"]
["pp_man_cost_cl",0,0.5,123.13887138767572,25,20]
[null,0.6,0.75,136.02311869660861,25,20]
[null,0.76,1,153.40629612728506,25,20]
[null,1.1000000000000001,1.5,325.47949510987348,25,20]
[null,1.6,2,329.89360435744584,25,20]
[null,2.1,3,358.37714931881567,25,20]
[null,3.1,4,470.91776878293058,25,20]
[null,4.0999999999999996,6,555.70567145655411,25,20]
[null,6.1,8,1128.5194457109608,25,20]
[null,8.1,10,1892.112903276141,25,20]
[null,10.1,12,2446.3541403619543,25,20]
[null,12.1,14,7398.6601526975719,25,20]
[null,14.1,16,11867.62109822923,25,20]
[null,16.100000000000001,18,15276.892816195012,25,20]
[null,18.100000000000001,20,17020.9386051287,25,20]
[null,20.100000000000001,24,24298.01344826557,25,20]
[null,24.1,"contact vendor","contact vendor",25,20]
[]
[]
["bls1149","Polypropylene/PVC Motor/Air Operated Valves (on/off)"]
[35,"Size needed (in. diam)","Size selected (in. diam)","Avg. Unit Cost","Useful Life (large)","Useful Life (small)"]
["pp_mov_cost_cl",0,1.5,702.22885157223027,25,20]
[null,1.6,2,702.22885157223027,25,20]
[null,2.1,2.5,572.19377909706236,25,20]
[null,2.6,3,877.78864752968707,25,20]
[null,3.1,4,1111.5667392202163,25,20]
[null,4.0999999999999996,6,1564.7845763815203,25,20]
[null,6.1,8,2406.3677797857363,25,20]
[null,8.1,10,4289.6012005962166,25,20]
[null,10.1,12,5234.4271376082852,25,20]
[null,12.1,14,9662.6363587324395,25,20]
[null,14.1,16,13781.864810300089,25,20]
[null,16.100000000000001,18,17833.037649262747,25,20]
[null,18.100000000000001,20,20203.516766600213,25,20]
[null,20.100000000000001,24,27184.884533339362,25,20]
[null,24.1,"contact vendor","contact vendor",25,20]
[]
[]
["bls118","Propeller Flow Meters"]
[43,"Size needed (in. diam)","Size selected (in. diam)","Avg. Unit Cost","Useful Life (large)","Useful Life (small)"]
["prop_fm_cost_cl",0,2,2692.2143919020632,15,14]
[null,2.1,3,3397.2089027065267,15,14]
[null,3.1,4,3162.9667103957627,15,14]
[null,4.0999999999999996,6,4458.2134561275525,15,14]
[null,6.1,8,5057.7014318214297,15,14]
[null,8.1,10,5410.4972361560685,15,14]
[null,10.1,12,5805.3942026027316,15,14]
[null,12.1,14,10960.912532079818,15,14]
[null,14.1,"contact vendor","contact vendor",15,14]
[]
[]
["bls1141","Centrifugal Pumps (Booster)"]
[30,"Size needed (gpm)","Size selected (gpm)","Avg. Unit Cost","Useful Life (large)","Useful Life (small)"]
["pump_cost_cl",0,10,5677.2511607538163,20,17]
[null,11,30,5907.7773247902132,20,17]
[null,31,50,6736.3908144099287,20,17]
[null,51,55,7918.8558741541174,20,17]
[null,56,75,8404.3144159870735,20,17]
[null,76,100,8404.3144159870735,20,17]
[null,101,120,10747.924187245231,20,17]
[null,121,125,9058.9315257220987,20,17]
[null,126,140,10747.924187245231,20,17]
[null,141,200,10052.398939539858,20,17]
[null,201,250,10605.869564837847,20,17]
[null,251,300,11163.348507247631,20,17]
[null,301,500,15106.120511414303,20,17]
[null,501,750,15541.926595522043,20,17]
[null,751,1000,17819.26280561243,20,17]
[null,1001,1500,21313.394051832671,20,17]
[null,1501,2000,31639.579131048209,20,17]
[null,2001,3000,36351.963074920728,20,17]
[null,3001,3500,41402.29357946603,20,17]
[null,3501,4000,43425.006674004457,20,17]
[null,4001,6000,89976.509472825419,20,17]
[null,6001,10000,80591.971358605399,20,17]
[null,10001,"contact vendor","contact vendor",20,17]
[]
[]
["bls1141","PVC Chemical Metering Pumps - Electric"]
[30,"Size needed (gph)","Size selected (gph)","Avg. Unit Cost","Useful Life (large)","Useful Life (small)"]
["pvc_empump_cost_cl",0,0.25,531.22119483019981,20,15]
[null,0.26,0.5,1031.7122521873109,20,15]
[null,0.51,0.85,547.35956024276288,20,15]
[null,0.86,1,531.22119483019981,20,15]
[null,1.01,1.3,2016.2197855428749,20,15]
[null,1.31,1.75,611.91302189301496,20,15]
[null,1.76,2.5,1384.9272765169405,20,15]
[null,2.5099999999999998,3.17,1627.3120763757934,20,15]
[null,3.1799999999999997,3.39,1190.2044491765237,20,15]
[null,3.4,5,1633.6194875245369,20,15]
[null,5.01,5.93,910.472782025431,20,15]
[null,5.9399999999999995,8,1542.6125552355252,20,15]
[null,8.01,10,1816.0233626000306,20,15]
[null,10.01,20,2238.9292282362449,20,15]
[null,20.010000000000002,25,2264.7506128963455,20,15]
[null,25.01,33.880000000000003,2704.5210703886878,20,15]
[null,33.89,71.150000000000006,2759.1376861038216,20,15]
[null,71.160000000000011,"contact vendor","contact vendor",20,15]
[]
[]
["bls1141","PVC Chemical Metering Pumps - Mechanical"]
[30,"Size needed (gph)","Size selected (gph)","Avg. Unit Cost","Useful Life (large)","Useful Life (small)"]
["pvc_mmpump_cost_cl",0,1,2461.1007254158626,20,17]
[null,1.01,2,2461.1007254158626,20,17]
[null,2.0099999999999998,4,2461.1007254158626,20,17]
[null,4.01,5,2461.1007254158626,20,17]
[null,5.01,7,2461.1007254158626,20,17]
[null,7.01,11,3543.7160718419659,20,17]
[null,10.01,14,3543.7160718419659,20,17]
[null,14.01,30,3655.4944260560915,20,17]
[null,30.01,65,3898.3829471941708,20,17]
[null,65.010000000000005,108,4687.4177031478857,20,17]
[null,108.01,"contact vendor","contact vendor",20,17]
[]
[]
["bls072106033","PVC Piping"]
[15,"Size needed (in. diam)","Size selected (in. diam)","Avg. Unit Cost ($/lf)","Useful Life (large)","Useful Life (small)"]
["pvc_pipe_cost_cl",0,0.5,3.0128258684277665,22,17]
[null,0.6,0.75,3.9351530427680776,22,17]
[null,0.76,1,5.8268559963551469,22,17]
[null,1.1000000000000001,1.5,9.0831143135917074,22,17]
[null,1.6,2,1.9292992424242426,22,17]
[null,2.1,2.5,3.015700757575758,22,17]
[null,2.6,3,4.9169034090909092,22,17]
[null,3.1,4,8.2884943181818187,22,17]
[null,4.0999999999999996,6,12.175189393939394,22,17]
[null,6.1,8,17.232575757575759,22,17]
[null,8.1,10,25.755208333333336,22,17]
[null,10.1,12,32.779356060606062,22,17]
[null,12.1,14,23.882102272727273,22,17]
[null,14.1,16,30.437973484848488,22,17]
[null,16.100000000000001,18,38.398674242424249,22,17]
[null,18.100000000000001,20,46.827651515151523,22,17]
[null,20.100000000000001,24,64.153882575757578,22,17]
[null,24.1,30,110.51325757575759,22,17]
[null,30.1,36,156.40435606060606,22,17]
[null,36.1,42,208.85132575757578,22,17]
[null,42.1,48,262.2348484848485,22,17]
[null,48.1,"contact vendor","contact vendor",22,17]
[]
[]
["bls114","Eductors (for bed transfer)"]
[29,"Size Needed (in. diam)","Size Selected (in. diam)","Avg. Unit Cost","Useful Life(large)","Useful Life (small)"]
["seductor_cost_cl",0,1.5,1846.7358896626049,45,40]
[null,1.6,2,2821.978972458744,45,40]
[null,2.1,2.5,4149.531285425358,45,40]
[null,2.6,3,6729.785512923132,45,40]
[null,3.1,4,10692.666736358129,45,40]
[null,4.0999999999999996,6,14782.233575049395,45,40]
[null,6.1,"contact vendor","contact vendor",45,40]
[]
[]
[3,null,null,"Avg. Unit Cost (per sf)","Useful Life (large)"]
["sitework_sf_cl","Sitework unit cost","sitework_sf_cl",12.815384615384616,"N/A"]
[]
[]
["bls1149","Stainless Steel Check Valves"]
[35,"Size needed (in. diam)","Size selected (in. diam)","Avg. Unit Cost","Useful Life (large)","Useful Life (small)"]
["ss_chv_cost_cl",0,0.5,294.59199775933519,25,20]
[null,0.6,0.75,275.48029735890964,25,20]
[null,0.76,1,509.08776123157827,25,20]
[null,1.1000000000000001,1.5,784.79758176028861,25,20]
[null,1.6,2,842.84019306979849,25,20]
[null,2.1,2.5,822.37739511699749,25,20]
[null,2.6,3,2183.4761700412892,25,20]
[null,3.1,4,2979.4198707075684,25,20]
[null,4.0999999999999996,6,3203.9711202113463,25,20]
[null,6.1,8,4908.3737252046567,25,20]
[null,8.1,10,4861.0680549464869,25,20]
[null,10.1,12,7435.4192154304619,25,20]
[null,12.1,14,9908.3857787401084,25,20]
[null,14.1,16,13048.630347474615,25,20]
[null,16.100000000000001,18,15605.757320614572,25,20]
[null,18.100000000000001,20,20584.821496283024,25,20]
[null,20.100000000000001,24,31328.181067057405,25,20]
[null,24.1,30,43091.509363992904,25,20]
[null,30.1,36,51600.088447803006,25,20]
[null,36.1,42,70035.343129391593,25,20]
[null,42.1,48,84216.308269075103,25,20]
[null,48.1,"contact vendor","contact vendor",25,20]
[]
[]
["bls1072","Stainless Steel Chemical Storage Tanks"]
[23,"Size needed (gal)","Size selected (gal)","Avg. Unit Cost","Useful Life (large)","Useful Life (small)"]
["ss_cst_cost_cl",0,1100,7949.7779824916643,35,30]
[null,1101,2400,10194.359395373389,35,30]
[null,2401,3000,11788.978167510269,35,30]
[null,3001,4300,16281.924302517553,35,30]
[null,4301,5100,17506.133126392397,35,30]
[null,5101,6100,20471.825383349282,35,30]
[null,6101,8000,27050.981279310548,35,30]
[null,8001,10000,32803.710819726221,35,30]
[null,10001,30000,77642.371206736992,35,30]
[null,30001,"contact vendor","contact vendor",35,30]
[]
[]
["bls1141","316 Stainless Steel Chemical Metering Pumps - Electric"]
[30,"Size needed (gph)","Size selected (gph)","Avg. Unit Cost","Useful Life (large)","Useful Life (small)"]
["ss_empump_cost_cl",0,0.13,1041.6238982781933,20,15]
[null,0.14000000000000001,0.25,1499.1869036378866,20,15]
[null,0.26,0.5,1276.8002282527682,20,15]
[null,0.51,0.85,1822.2904278352423,20,15]
[null,0.86,1,1240.7578788313774,20,15]
[null,1.01,1.3,2230.3221000162112,20,15]
[null,1.31,1.75,1872.5614360953764,20,15]
[null,1.76,2.5,1906.7411491754006,20,15]
[null,2.5099999999999998,3.17,1820.1386457802341,20,15]
[null,3.1799999999999997,4,2230.3221000162112,20,15]
[null,4.01,5,2454.3764064939614,20,15]
[null,5.01,5.93,2454.3764064939614,20,15]
[null,5.9399999999999995,8,2445.7692782739277,20,15]
[null,8.01,16.940000000000001,3503.3701583105585,20,15]
[null,16.950000000000003,20,3463.4277039144649,20,15]
[null,20.010000000000002,25,3255.646249227716,20,15]
[null,25.01,55,4271.2873791916827,20,15]
[null,55.01,71.150000000000006,4251.1542477838348,20,15]
[null,71.160000000000011,186.35,4726.2942858810748,20,15]
[null,186.35999999999999,"contact vendor","contact vendor",20,15]
[]
[]
["bls1149","Stainless Steel Manual Valves"]
[35,"Size needed (in. diam)","Size selected (in. diam)","Avg. Unit Cost","Useful Life (large)","Useful Life (small)"]
["ss_man_cost_cl",0,1,277.97823676388771,25,20]
[null,1.1000000000000001,1.5,313.35999755720997,25,20]
[null,1.6,2,358.71736233051587,25,20]
[null,2.1,3,2538.9221006530552,25,20]
[null,3.1,4,3794.4098011850811,25,20]
[null,4.0999999999999996,6,5551.354855323485,25,20]
[null,6.1,8,6752.0126300930642,25,20]
[null,8.1,10,8764.2729998057875,25,20]
[null,10.1,12,12557.923454678745,25,20]
[null,12.1,"contact vendor","contact vendor",25,20]
[]
[]
["bls1141","316 Stainless Steel Chemical Metering Pumps - Mechanical"]
[30,"Size needed (gph)","Size selected (gph)","Avg. Unit Cost","Useful Life (large)","Useful Life (small)"]
["ss_mmpump_cost_cl",0,7,4041.8571318776076,20,17]
[null,7.01,14,4656.9259324334571,20,17]
[null,14.01,24,4450.1652566154844,20,17]
[null,24.01,32.299999999999997,5052.102831694523,20,17]
[null,32.31,40.6,5078.7994798621876,20,17]
[null,40.61,55.5,6109.5514889397837,20,17]
[null,55.51,61.8,5196.9218086073897,20,17]
[null,61.81,78.900000000000006,5368.6444288743351,20,17]
[null,78.91,96,4595.6627929271172,20,17]
[null,96.01,104.6,6753.6002061786585,20,17]
[null,104.61,125,5389.665340418589,20,17]
[null,125.01,137.9,7367.8640159863662,20,17]
[null,137.91,150,4768.557415954414,20,17]
[null,150.01,180,4922.2415253120125,20,17]
[null,180.01,192,6984.1699925264511,20,17]
[null,192.01,218.7,8447.3940066781724,20,17]
[null,218.71,250,7080.2225608749504,20,17]
[null,250.01,272.60000000000002,8781.9358527519344,20,17]
[null,272.61,300,7157.0646155537488,20,17]
[null,300.01,360,7310.7487249113456,20,17]
[null,360.01,"contact vendor","contact vendor",20,17]
[]
[]
["bls1149","Stainless Steel Motor/Air Operated Valves (on/off)"]
[35,"Size needed (in. diam)","Size selected (in. diam)","Avg. Unit Cost","Useful Life (large)","Useful Life (small)"]
["ss_mov_cost_cl",0,1,908.90636697142929,25,20]
[null,1.1000000000000001,1.5,921.31867767961535,25,20]
[null,1.6,2,948.00514570221583,25,20]
[null,2.1,3,2481.1712113123772,25,20]
[null,3.1,4,3800.7701575172755,25,20]
[null,4.0999999999999996,6,5899.9391263669186,25,20]
[null,6.1,8,8985.463196894576,25,20]
[null,8.1,14,21494.827213674158,25,20]
[null,14.1,16,24828.454975352688,25,20]
[null,16.100000000000001,20,40774.139121219967,25,20]
[null,20.100000000000001,24,57114.984815850723,25,20]
[null,24.1,30,70475.957982031381,25,20]
[null,30.1,48,194516.18030450642,25,20]
[null,48.1,"contact vendor","contact vendor",25,20]
[]
[]
["bls10170674","Stainless Steel Piping"]
[21,"Size needed (in. diam)","Size selected (in. diam)","Avg. Unit Cost ($/lf)","Useful Life (large)","Useful Life (small)"]
["ss_pipe_cost_cl",0,0.5,19.541095890410958,45,40]
[null,0.6,0.75,25.124266144814086,45,40]
[null,0.76,1,28.381115459882579,45,40]
[null,1.1000000000000001,1.25,33.49902152641878,45,40]
[null,1.26,1.5,42.339041095890401,45,40]
[null,1.6,2,60.48434442270058,45,40]
[null,2.1,2.5,78.629647749510752,45,40]
[null,2.6,3,95.844422700587074,45,40]
[null,3.1,4,115.38551859099803,45,40]
[null,4.0999999999999996,6,207.50782778864968,45,40]
[null,6.1,8,302.42172211350288,45,40]
[null,8.1,10,423.39041095890406,45,40]
[null,10.1,12,539.70645792563596,45,40]
[null,12.1,16,167.93951178548772,45,40]
[null,16.100000000000001,36,1097.6578735821997,45,40]
[null,36.1,48,1676.409131112634,45,40]
[null,48.1,"contact vendor","contact vendor",45,40]
[]
[]
["bls1072","Stainless Steel Pressure Vessels"]
[23,"Size needed (gal)","Size selected (gal)","Avg. Unit Cost","Useful Life (large)","Useful Life (small)"]
["ss_pv_cost_cl",0,180,16585.954758781289,35,30]
[null,181,300,19243.127622665736,35,30]
[null,301,650,22313.478959083448,35,30]
[null,651,750,25444.310115011875,35,30]
[null,751,880,28910.15707592418,35,30]
[null,881,950,29768.183166386476,35,30]
[null,951,1400,47364.193185800556,35,30]
[null,1401,1700,47942.497181107661,35,30]
[null,1701,2000,48478.941235837083,35,30]
[null,2001,2900,69712.763470221951,35,30]
[null,2901,4300,74515.531238453172,35,30]
[null,4301,4700,85176.144656086297,35,30]
[null,4701,6800,82846.764016942616,35,30]
[null,6801,17000,248847.28839886823,35,30]
[null,17001,27100,381164.93173247052,35,30]
[null,27101,"contact vendor","contact vendor"]
[]
[]
["bls1072","Steel Backwash Tanks"]
[23,"Size needed (gal)","Size selected (gal)","Avg. Unit Cost","Useful Life (large)","Useful Life (small)"]
["st_bwt_cost_cl",0,14309,39868.827312175803,35,30]
[null,14310,24000,82656.21510894761,35,30]
[null,24001,43000,95129.273097015233,35,30]
[null,43001,130000,217219.85218862572,35,30]
[null,130001,135182,108734.6403554008,35,30]
[null,135183,256000,322598.93240150256,35,30]
[null,256001,282094,167945.29480370696,35,30]
[null,282095,"contact vendor","contact vendor",35,30]
[]
[]
["bls107411","Steel Piping"]
[25,"Size needed (in. diam)","Size selected (in. diam)","Avg. Unit Cost ($/lf)","Useful Life (large)","Useful Life (small)"]
["st_pipe_cost_cl",0,1,18.831336633663369,35,33]
[null,1.1000000000000001,1.5,23.97623762376238,35,33]
[null,1.6,2,29.970297029702973,35,33]
[null,2.1,2.5,42.457920792079214,35,33]
[null,2.6,3,48.451980198019804,35,33]
[null,3.1,4,59.940594059405946,35,33]
[null,4.0999999999999996,6,103.89702970297031,35,33]
[null,6.1,8,145.85544554455447,35,33]
[null,8.1,10,183.81782178217824,35,33]
[null,10.1,12,222.77920792079212,35,33]
[null,12.1,36,212.72920334095431,35,33]
[null,36.1,48,289.72575255278639,35,33]
[null,48.1,"contact vendor","contact vendor",35,33]
[]
[]
["CCI","Geotechnical costs"]
[2,"Borings, initial field stake out & determination of elevations",null,"Avg. Unit Cost (per day)","Useful Life (large)","Useful Life (small)"]
["stake_out_cost_cl",0,0,1433.9242694040011,"N/A","N/A"]
[]
[]
["bls1173","Standby Generators for Standby Power Calculations"]
[40,"Size needed (kW)","Size selected (kW)","Avg. Unit Cost ($/kW)","Useful Life (large)","Useful Life (small)"]
["std_gen_cost_cl",0,30,516.77599243856332]
[null,31,50,519.27008506616255]
[null,51,125,303.28166351606808]
[null,126,150,318.24621928166351]
[null,151,175,301.28638941398867]
[null,176,200,283.82774102079395]
[null,201,250,240.43052930056712]
[null,251,300,213.64397448015123]
[null,301,350,206.01205103969755]
[null,351,400,218.98133270321361]
[null,401,500,217.43499527410208]
[null,501,750,225.01703686200381]
[null,751,1000,210.70094517958412]
[]
[]
["bls118","Drive Controllers"]
[43,null,null,"Avg. Unit Cost","Useful Life (large)","Useful Life (small)"]
["switch_cost_cl",0,0,1072.4341728020522,15,14]
[]
[]
["bls118","Temperature Meter"]
[43,null,null,"Avg. Unit Cost","Useful Life (large)","Useful Life (small)"]
["temp_meter_cost_cl",0,0,593.29510833944676,15,14]
[]
[]
["bls114","Gravity Thickener Internals"]
[29,null,null,"Avg. Unit Cost (per foot diameter)","Useful Life(large)","Useful Life (small)"]
["thick_internal_cost_cl",0,0,3200.7205497148834,25,20]
[]
[]
["bls118","Turbidimeter"]
[43,null,null,"Avg. Unit Cost","Useful Life (large)","Useful Life (small)"]
["turbidimeter_cost_cl",0,0,5223.1635202481766,15,14]
[]
[]
["bls117507","UPS"]
[42,null,null,"Avg. Unit Cost","Useful Life (large)","Useful Life (small)"]
["ups_cost_cl",0,0,563.15461702991672,10,8]
[]
[]
["bls118","Venturi Flow Meters"]
[43,"Size needed (in. diam)","Size selected (in. diam)","Avg. Unit Cost","Useful Life (large)","Useful Life (small)"]
["ven_fm_cost_cl",0,2,5465.3094164165286,15,14]
[null,2.1,3,8218.0024846268898,15,14]
[null,3.1,6,12117.433322137349,15,14]
[null,6.1,12,17331.263115229482,15,14]
[null,12.1,24,45943.763901792663,15,14]
[null,24.1,"contact vendor","contact vendor",15,14]
[]
[]
["bls114","Volumetric Dry Feeder"]
[29,"Size Needed (cfm)","Size Selected (cfm)","Avg. Unit Cost","Useful Life(large)","Useful Life (small)"]
["vol_feed_cost_cl",0,5.0000000000000001E-4,15177.944752161706,25,20]
[null,5.1000000000000004E-4,5.3E-3,15177.944752161706,25,20]
[null,5.4000000000000003E-3,2.5,16118.171418224822,25,20]
[null,2.5099999999999998,"contact vendor","contact vendor",25,20]
[]
[]
["BCI","High Quality, No Heating or Cooling"]
[3,"Size needed (sf)","Size selected (sf)","Avg. Unit Cost","Useful Life (large)","Useful Life (small)"]
["bldg_hi_cost_cl",0,500,164.32066168808467,40,37]
[null,500.1,1000,138.92127434441062,40,37]
[null,1000.1,2000,123.94424800758561,40,37]
[null,2000.1,3000,116.78034174436795,40,37]
[null,3000.1,4000,110.07521237910991,40,37]
[null,4000.1,5000,104.59747484770055,40,37]
[null,5000.1000000000004,7500,99.401198925910123,40,37]
[null,7500.1,8000,98.60810463326834,40,37]
[null,8000.1,10000,94.44682086185442,40,37]
[null,10000.1,12000,94.43891097214248,40,37]
[null,12000.1,15000,90.346080881452835,40,37]
[null,15000.1,18000,88.874169726348228,40,37]
[null,18000.099999999999,20000,86.552325796374404,40,37]
[null,20000.099999999999,24000,87.940940056356169,40,37]
[null,24000.1,25000,84.656313322033512,40,37]
[null,25000.1,30000,84.001143445139476,40,37]
[null,30000.1,36000,83.786621555099913,40,37]
[null,36000.1,42000,81.417795911777972,40,37]
[null,42000.1,48000,81.027117774032121,40,37]
[null,48000.1,50000,80.056981554700471,40,37]
[null,50000.1,54000,80.229887632699445,40,37]
[null,54000.1,60000,80.091173785927808,40,37]
[null,60000.1,100000,76.639430988004463,40,37]
[null,100000.1,200000,74.006349053593496,40,37]
[null,200000.1,"contact vendor"]
[]
[]
["BCI","Low Quality, No Heating or Cooling"]
[3,"Size needed (sf)","Size selected (sf)","Avg. Unit Cost","Useful Life (large)","Useful Life (small)"]
["bldg_lo_cost_cl",0,500,90.895204266982759,40,37]
[null,500.1,1000,80.17905227893165,40,37]
[null,1000.1,2000,75.104239977760983,40,37]
[null,2000.1,3000,72.769358231718499,40,37]
[null,3000.1,4000,69.31697283119486,40,37]
[null,4000.1,5000,66.194847058636313,40,37]
[null,5000.1000000000004,7500,64.492195301784065,40,37]
[null,7500.1,8000,64.084083199268534,40,37]
[null,8000.1,10000,61.565758614742805,40,37]
[null,10000.1,12000,62.122837621819031,40,37]
[null,12000.1,15000,59.962180691418723,40,37]
[null,15000.1,18000,58.9176202039759,40,37]
[null,18000.099999999999,20000,57.584641809587026,40,37]
[null,20000.099999999999,24000,58.617472761730703,40,37]
[null,24000.1,25000,56.765292437966217,40,37]
[null,25000.1,30000,56.340683783728537,40,37]
[null,30000.1,36000,56.419923260843667,40,37]
[null,36000.1,42000,54.918096825614136,40,37]
[null,42000.1,48000,54.718462124432079,40,37]
[null,48000.1,50000,54.271568663407955,40,37]
[null,50000.1,54000,54.285457492411808,40,37]
[null,54000.1,60000,54.446146131750346,40,37]
[null,60000.1,100000,52.495709810916672,40,37]
[null,100000.1,200000,51.013446998123108,40,37]
[null,200000.1,"contact vendor"]
[]
[]
["BCI","Mid Quality, No Heating or Cooling"]
[3,"Size needed (sf)","Size selected (sf)","Avg. Unit Cost","Useful Life (large)","Useful Life (small)"]
["bldg_mid_cost_cl",0,500,110.86911254054154,40,37]
[null,500.1,1000,98.12779547183915,40,37]
[null,1000.1,2000,91.725483413626321,40,37]
[null,2000.1,3000,88.296937966054386,40,37]
[null,3000.1,4000,84.19971661186635,40,37]
[null,4000.1,5000,80.516200964144105,40,37]
[null,5000.1000000000004,7500,77.852610368077492,40,37]
[null,7500.1,8000,77.393670422405037,40,37]
[null,8000.1,10000,74.577535811427779,40,37]
[null,10000.1,12000,74.921282744137969,40,37]
[null,12000.1,15000,72.351780007854828,40,37]
[null,15000.1,18000,71.13548158022607,40,37]
[null,18000.099999999999,20000,69.67599550027218,40,37]
[null,20000.099999999999,24000,70.754419992349042,40,37]
[null,24000.1,25000,68.61432148343026,40,37]
[null,25000.1,30000,68.161517957939836,40,37]
[null,30000.1,36000,68.221925008171567,40,37]
[null,36000.1,42000,66.514319987158785,40,37]
[null,42000.1,48000,66.298145448410892,40,37]
[null,48000.1,50000,65.7850969381429,40,37]
[null,50000.1,54000,65.819359081900728,40,37]
[null,54000.1,60000,65.942437143994255,40,37]
[null,60000.1,100000,63.703758186296518,40,37]
[null,100000.1,200000,62.020711526202142,40,37]
[null,200000.1,"contact vendor"]
[]
[]
["BCI","Small Low Cost Shed"]
[3,"Size needed (sf)","Size selected (sf)","Avg. Unit Cost","Useful Life (large)","Useful Life (small)"]
["bldg_shed_cost_cl",0,500,46.002457179826116,25,20]
[null,500.1,"contact vendor","contact vendor"]
[]
[]
["bls1148","Air conditioning system"]
[34,"Size needed (tons)","Size selected (tons)","Avg. Unit Cost","Useful Life (large)","Useful Life (small)"]
["hvac_ac_cost_cl",0,3.33,11317.697405784169,25,20]
[null,3.34,6.66,22944.621516644409,25,20]
[null,6.67,16.66,70503.688757343989,25,20]
[null,16.670000000000002,33.33,154613.35253803511,25,20]
[null,33.339999999999996,66.66,340149.3755836772,25,20]
[null,66.67,113.32,705036.88757343998,25,20]
[null,113.33,"contact vendor","contact vendor",25,20]
[]
[]
["bls106","Electric resistance heaters"]
[22,"Size needed (MBH)","Size selected (MBH)","Avg. Unit Cost","Useful Life (large)","Useful Life (small)"]
["hvac_elec_cost_cl",0,41,26463.924267001355,25,20]
[null,41.1,103,55841.308086333127,25,20]
[null,103.1,461,95981.011491973477,25,20]
[null,461.1,820,208008.87262159091,25,20]
[null,820.1,1010,266435.87606061727,25,20]
[null,1010.1,1432,367532.92252648302,25,20]
[null,1432.1,2273,465158.09635915502,25,20]
[null,2273.1,3071,685034.46089057182,25,20]
[null,3071.1,6148,1179696.1909829928,25,20]
[null,6148.1,"contact vendor","contact vendor",25,20]
[]
[]
["bls106","Natural gas condensing furnace"]
[22,"Size needed (MBH)","Size selected (MBH)","Avg. Unit Cost","Useful Life (large)","Useful Life (small)"]
["hvac_gas_cost_cl",0,80,29582.996885815766,25,20]
[null,80.099999999999994,163,39052.618839774048,25,20]
[null,163.1,544,98579.773596827465,25,20]
[null,544.1,1088,171909.2893951693,25,20]
[null,1088.0999999999999,3264,401582.867178655,25,20]
[null,3264.1,5032,768313.93781164405,25,20]
[null,5032.1000000000004,"contact vendor","contact vendor",25,20]
[]
[]
["bls106","Natural gas non-condensing furnace"]
[22,"Size needed (MBH)","Size selected (MBH)","Avg. Unit Cost","Useful Life (large)","Useful Life (small)"]
["hvac_gas_non_cost_cl",0,80,29582.996885815766,25,20]
[null,80.099999999999994,163,39052.618839774048,25,20]
[null,163.1,544,98579.773596827465,25,20]
[null,544.1,1088,171909.2893951693,25,20]
[null,1088.0999999999999,3264,401582.867178655,25,20]
[null,3264.1,5032,768313.93781164405,25,20]
[null,5032.1000000000004,"contact vendor","contact vendor",25,20]
[]
[]
["bls1148","Heat pump"]
[34,"Size needed (MBH)","Size selected (MBH)","Avg. Unit Cost","Useful Life (large)","Useful Life (small)"]
["hvac_hp_cost_cl",0,0.5,3972.9940028402084,25,20]
[null,0.51,0.75,4334.1752758256816,25,20]
[null,0.76,1,3769.8295367858796,25,20]
[null,1.01,1.5,3905.272514155432,25,20]
[null,1.51,2,4176.1584688945368,25,20]
[null,2.0099999999999998,2.5,4492.1920827568265,25,20]
[null,2.5099999999999998,3,4785.6518670575233,25,20]
[null,3.01,3.5,5304.8499469741419,25,20]
[null,3.51,4,5711.1788790827995,25,20]
[null,4.01,5,6298.0984476841932,25,20]
[null,5.01,7.5,12144.720304136545,25,20]
[null,7.51,10,15869.402181799242,25,20]
[null,10.01,12,18781.426195244621,25,20]
[null,12.01,15,25282.689108983144,25,20]
[null,15.01,20,27630.367383388722,25,20]
[null,20.010000000000002,25,37562.852390489243,25,20]
[null,25.01,30,41174.665120343976,25,20]
[null,30.01,40,58150.184950661234,25,20]
[null,40.01,50,65734.991683356173,25,20]
[null,50.01,"contact vendor","contact vendor"]
[]
[]
["bls106","Mid-efficiency oil furnace"]
[22,"Size needed (MBH)","Size selected (MBH)","Avg. Unit Cost","Useful Life (large)","Useful Life (small)"]
["hvac_oil_mid_cost_cl",0,109,38239.756202149161,25,20]
[null,109.1,235,55844.855228314664,25,20]
[null,235.1,940,157088.20036094138,25,20]
[null,940.1,1600,250948.40007660387,25,20]
[null,1600.1,2480,389971.45739603695,25,20]
[null,2480.1,3350,489329.74412433244,25,20]
[null,3350.1,"contact vendor","contact vendor",25,20]
[]
[]
["bls106","Standard efficiency oil furnace"]
[22,"Size needed (MBH)","Size selected (MBH)","Avg. Unit Cost","Useful Life (large)","Useful Life (small)"]
["hvac_oil_std_cost_cl",0,109,38239.756202149161,25,20]
[null,109.1,235,55844.855228314664,25,20]
[null,235.1,940,157088.20036094138,25,20]
[null,940.1,1600,250948.40007660387,25,20]
[null,1600.1,2480,389971.45739603695,25,20]
[null,2480.1,3350,489329.74412433244,25,20]
[null,3350.1,"contact vendor","contact vendor",25,20]
[]
[]
[null,"Building maintenance (labor and materials)","building_matl_rate_cl",5.7866132725374513,"/sf/yr"]
[]
[]
[null,"Consumables for online perchlorate analysis","clo4_analysis_cost_cl",10117.034156363503,"/yr"]
[]
[]
[null,"Cooling system maintenance (labor and materials)","cooling_matl_rate_cl",7.3551926283142985E-2,"/sf/yr"]
[]
[]
[null,"Heating oil cost","diesel_cost_cl",2.3528514873883046,"/gal"]
[]
[]
[null,"Energy cost","energy_cost_cl",0.12121832061068702,"/kwh"]
[]
[]
[null,"Natural gas cost","gas_cost_cl",0.79405665355998734,"/therm"]
[]
[]
[5,"Hazardous waste disposal","haz_disposal_cost_cl",365.22256038668081,"/ton"]
[]
[]
[null,"Hazardous waste minimum charge per shipment","haz_trans_min_cost_cl",3132.433195825839,"/shipment"]
[]
[]
[null,"Hazardous waste transportation","haz_transportation_cost_cl",0.11505034988905954,"/ton-mile"]
[]
[]
[null,"Heating system maintenance (labor and materials)","heating_matl_rate_cl",0.13269710372451446,"/sf/yr"]
[]
[]
["ECI","Labor Costs",null,null,"Inf. Adj. Rates"]
[4,"Design Flow Needed (mgd)","Design Flow (mgd)","Average Water Treatment Plant Operators3","Technical Rate (Loaded)","Managerial Rate (Loaded)","Clerical Rate (Loaded)"]
["labor_table_cl",0,0.03,1,31.9148911743602,45.239626883520685,30.477646496053573]
[null,3.1E-2,0.124,1,31.9148911743602,45.239626883520685,30.477646496053573]
[null,0.1241,0.30499999999999999,1.2,31.9148911743602,45.239626883520685,30.477646496053573]
[null,0.30509999999999998,0.74,1.2,31.9148911743602,45.239626883520685,30.477646496053573]
[null,0.74099999999999999,2.1520000000000001,1.6,34.050609901937335,51.740808419038501,30.477646496053573]
[null,2.1520999999999999,7.3650000000000002,2.8,35.944549150920828,57.637541258072218,39.356326237742159]
[null,7.3651,22.614000000000001,3.8,37.516115761779474,67.25499162879693,39.356326237742159]
[null,22.614100000000001,75.069999999999993,7.8,43.842678784979661,71.848801722076047,39.356326237742159]
[]
[]
[null,"Land Costs"]
["CPI","Land Costs"]
[5,"System Size  greater than (MGD)","Assumed Population","Unit Cost ($/acre)"]
["land_cost_cl",0,"25-100",22071.006650033491]
[null,3.1E-2,"101-500",22047.109132569258]
[null,0.1241,"501-1,000",16524.280174168169]
[null,0.30509999999999998,"1,001-3,300",19717.525281399929]
[null,0.74099999999999999,"3,301-10,000",36189.204491085293]
[null,2.1520999999999999,"10,001-50,000",46531.704610662571]
[null,7.3651,"50,001-100,000",52021.957885134674]
[null,22.614100000000001,"100,001-1,000,000",111427.57541372362]
[]
[]
[null,"NEPA Compliance Costs"]
[null,"Land area (acres)","Permit Cost (inf. adj.)"]
["NEPA_cost_cl",0,1683.538163695446]
[null,1.0009999999999999,6628.9315195508179]
[]
[]
[null,"Non-hazardous waste disposal","nonhaz_disposal_cost_cl",69.656391522899071,"/ton"]
[]
[]
[null,"Non-hazardous waste transportation","nonhaz_transportation_cost_cl",0.52588469022017403,"/ton-mile"]
[]
[]
[null,"Permit Costs"]
["CPI","NPDES Permit Costs"]
[5,"Avg Discharge (gpd)","Permit Cost (inf. adj.)"]
["NPDES_permit_cost_cl",0,2735.7495160050994]
[null,100000.1,3367.0763273908919]
[null,1000000.1,5787.1624377030948]
[]
[]
[null,"Pilot Studies"]
["ECI","Pilot study costs"]
[4,"Small systems"]
[null,"Model ","Total (current yr $)"]
["pilot_cost_small","GAC",15572.823955072055]
[null,"AA",15572.823955072055]
[null,"AAFS-50",15572.823955072055]
[null,"G2",15572.823955072055]
[null,"SORB33",15572.823955072055]
[null,"GFH",15572.823955072055]
[null,"GF",15572.823955072055]
[null,"AX",15572.823955072055]
[null,"CX",15572.823955072055]
[null,"Lime",600.08180869565217]
[null,"RO",1329.9758360248447]
[null,"NF",1329.9758360248447]
[null,"EDR",861.26992795031049]
[null,"PLPM",55766.146054318531]
[null,"SLPM",55766.146054318531]
[null,"confilt",2613.984054423036]
[null,"dirfilt",2613.984054423036]
[null,"UV",0]
[null,"PTA",0]
[null,"MSBA",15855.11024876718]
[null,"Tray Aeration",15855.11024876718]
[null,"Diffuse Aeration",14524.034514344819]
[null,"O3_PX",2232.7060694407633]
[null,"O3_D",27594.090314029738]
[null,"RCF for Cr(VI) Removal",4924.208725406329]
[null,"BIO",132668.5186518738]
[null,"Medium systems"]
["pilot_cost_medium","GAC",69717.429975702486]
[null,"AA",69717.429975702486]
[null,"AAFS-50",69717.429975702486]
[null,"G2",69717.429975702486]
[null,"SORB33",69717.429975702486]
[null,"GFH",69717.429975702486]
[null,"GF",69717.429975702486]
[null,"AX",69717.429975702486]
[null,"CX",69717.429975702486]
[null,"Lime",600.08180869565217]
[null,"RO",64003.819048107347]
[null,"NF",64003.819048107347]
[null,"EDR",65033.728720497835]
[null,"PLPM",99841.718513606014]
[null,"SLPM",99841.718513606014]
[null,"confilt",74488.011817506456]
[null,"dirfilt",74488.011817506456]
[null,"UV",19609.232766838373]
[null,"PTA",0]
[null,"MSBA",36377.315705213186]
[null,"Tray Aeration",36377.315705213186]
[null,"Diffuse Aeration",34140.251865897611]
[null,"O3_PX",3349.0591041611456]
[null,"O3_D",40836.142363691913]
[null,"RCF for Cr(VI) Removal",170289.71903937656]
[null,"BIO",212081.97024098787]
[null,"Large systems"]
["pilot_cost_large_cl","GAC",69717.429975702486]
[null,"AA",69717.429975702486]
[null,"AAFS-50",69717.429975702486]
[null,"G2",69717.429975702486]
[null,"SORB33",69717.429975702486]
[null,"GFH",69717.429975702486]
[null,"GF",69717.429975702486]
[null,"AX",69717.429975702486]
[null,"CX",69717.429975702486]
[null,"Lime",600.08180869565217]
[null,"RO",132874.78909204234]
[null,"NF",132874.78909204234]
[null,"EDR",137077.38620505284]
[null,"PLPM",205079.6531157617]
[null,"SLPM",205079.6531157617]
[null,"confilt",135469.17306912655]
[null,"dirfilt",135469.17306912655]
[null,"UV",38548.26694225258]
[null,"PTA",0]
[null,"MSBA",69861.049767324992]
[null,"Tray Aeration",69861.049767324992]
[null,"Diffuse Aeration",67623.98592800941]
[null,"O3_PX",4465.4121388815265]
[null,"O3_D",40836.142363691913]
[null,"RCF for Cr(VI) Removal",200075.17669549288]
[null,"BIO",347912.58680744353]
[]
[]
[null,"Pilot Studies"]
["ECI","Pilot study costs"]
[4,"Small systems"]
[null,"Model ","Total (current yr $)"]
["pilot_cost_small","GAC",15572.823955072055]
[null,"AA",15572.823955072055]
[null,"AAFS-50",15572.823955072055]
[null,"G2",15572.823955072055]
[null,"SORB33",15572.823955072055]
[null,"GFH",15572.823955072055]
[null,"GF",15572.823955072055]
[null,"AX",15572.823955072055]
[null,"CX",15572.823955072055]
[null,"Lime",600.08180869565217]
[null,"RO",1329.9758360248447]
[null,"NF",1329.9758360248447]
[null,"EDR",861.26992795031049]
[null,"PLPM",55766.146054318531]
[null,"SLPM",55766.146054318531]
[null,"confilt",2613.984054423036]
[null,"dirfilt",2613.984054423036]
[null,"UV",0]
[null,"PTA",0]
[null,"MSBA",15855.11024876718]
[null,"Tray Aeration",15855.11024876718]
[null,"Diffuse Aeration",14524.034514344819]
[null,"O3_PX",2232.7060694407633]
[null,"O3_D",27594.090314029738]
[null,"RCF for Cr(VI) Removal",4924.208725406329]
[null,"BIO",132668.5186518738]
[null,"Medium systems"]
["pilot_cost_medium_cl","GAC",69717.429975702486]
[null,"AA",69717.429975702486]
[null,"AAFS-50",69717.429975702486]
[null,"G2",69717.429975702486]
[null,"SORB33",69717.429975702486]
[null,"GFH",69717.429975702486]
[null,"GF",69717.429975702486]
[null,"AX",69717.429975702486]
[null,"CX",69717.429975702486]
[null,"Lime",600.08180869565217]
[null,"RO",64003.819048107347]
[null,"NF",64003.819048107347]
[null,"EDR",65033.728720497835]
[null,"PLPM",99841.718513606014]
[null,"SLPM",99841.718513606014]
[null,"confilt",74488.011817506456]
[null,"dirfilt",74488.011817506456]
[null,"UV",19609.232766838373]
[null,"PTA",0]
[null,"MSBA",36377.315705213186]
[null,"Tray Aeration",36377.315705213186]
[null,"Diffuse Aeration",34140.251865897611]
[null,"O3_PX",3349.0591041611456]
[null,"O3_D",40836.142363691913]
[null,"RCF for Cr(VI) Removal",170289.71903937656]
[null,"BIO",212081.97024098787]
[]
[]
[null,"Pilot Studies"]
["ECI","Pilot study costs"]
[4,"Small systems"]
[null,"Model ","Total (current yr $)"]
["pilot_cost_small_cl","GAC",15572.823955072055]
[null,"AA",15572.823955072055]
[null,"AAFS-50",15572.823955072055]
[null,"G2",15572.823955072055]
[null,"SORB33",15572.823955072055]
[null,"GFH",15572.823955072055]
[null,"GF",15572.823955072055]
[null,"AX",15572.823955072055]
[null,"CX",15572.823955072055]
[null,"Lime",600.08180869565217]
[null,"RO",1329.9758360248447]
[null,"NF",1329.9758360248447]
[null,"EDR",861.26992795031049]
[null,"PLPM",55766.146054318531]
[null,"SLPM",55766.146054318531]
[null,"confilt",2613.984054423036]
[null,"dirfilt",2613.984054423036]
[null,"UV",0]
[null,"PTA",0]
[null,"MSBA",15855.11024876718]
[null,"Tray Aeration",15855.11024876718]
[null,"Diffuse Aeration",14524.034514344819]
[null,"O3_PX",2232.7060694407633]
[null,"O3_D",27594.090314029738]
[null,"RCF for Cr(VI) Removal",4924.208725406329]
[null,"BIO",132668.5186518738]
[]
[]
[null,"POTW discharge base rate (average)","POTW_base_cost_avg_cl",15.660922468236553,"/month"]
[]
[]
[null,"POTW discharge base rate (typical)","POTW_base_cost_typ_cl",17.618537776766122,"/month"]
[]
[]
[null,"POTW discharge TSS rate (average)","POTW_TSS_cost_avg_cl",0.24067976379657613,"/lb over limit"]
[]
[]
[null,"POTW discharge TSS rate (typical)","POTW_TSS_cost_typ_cl",0.41612856357351946,"/lb over limit"]
[]
[]
[null,"POTW discharge volume rate (average)","POTW_vol_cost_avg_cl",4.418734203989966,"/1,000 gallons"]
[]
[]
[null,"POTW discharge volume rate (typical)","POTW_vol_cost_typ_cl",4.5506367175419058,"/1,000 gallons"]
[]
[]
[null,"Storm Water Permit Costs"]
[null,"Land area (acres)","Permit Cost (inf. adj.)"]
["SW_permit_cost_cl",0,0]
[null,1,2314.8649750812383]
[null,5,2420.0861103122033]

{"sheet":"Engineering Data","index":22,"n_rows":274,"n_cols":8,"rows_kept":274,"cut":false,"hidden":false,"merged":[]}
["Engineering Data"]
["This sheet is used internally and contains engineering reference and indirect cost data extracted from the central cost database"]
[]
["Architectural Fee"]
["Building cost lookup","Corresponds to the range","Architectural fee"]
[0,"<$250,000",0.09]
[250000,"$250,000 to $500,000",0.08]
[500000,"$500,000 to $1,000,000",7.0000000000000007E-2]
[1000000,"$1,000,000 to $5,000,000",6.2E-2]
[5000000,"$5,000,000 to $10,000,000",5.2999999999999999E-2]
[10000000,"$10,000,000 to $50,000,000",4.9000000000000002E-2]
[50000000,">$50,000,000",4.4999999999999998E-2]
[]
[]
["Blower dimensions"]
["Blower rating needed (cfm)","Blower rating selected (cfm)","rated hp","max  pressure psi","Length (in)","Width (in)","Length (ft)","Width (ft)"]
[0,265,7.5,4,48,20,4,1.6666666666666667]
[266,540,15,4,57,28,4.75,2.3333333333333335]
[541,1080,30,4,70,40,5.833333333333333,3.3333333333333335]
[1081,3475,100,4,78,55,6.5,4.583333333333333]
[3476,4000,125,6,88,72,7.333333333333333,6]
[4001,5000,140,5,100,84,8.3333333333333339,7]
[]
[]
["Chemical Price Break Points"]
["Chemical","Quantity Breakpoint","Units"]
["Calcium Hydroxide (Lime) - Large Qty",50000,"lbs","Large Qty price is for bulk truckload of 50,000 lbs"]
["Calcium Hydroxide (Lime) - Mid Qty",500,"lbs","Mid Qty price is for 200x 50 lb bags per year; assume breakpoint occurs at monthly purchase of 10x 50 lb bags (120 per year) (approximate midpoint between mid and small qtys)"]
["Calcium Hydroxide (Lime) - Small Qty",0,"lbs"]
["Calcium Hypochlorite - Large Qty",2000,"lbs","Large Qty price is for 100x 100 lb bags per year; assume breakpoint occurs at monthly purchase of 5x 100 lb bags (60 per year) (approximate midpoint between large and mid qtys)"]
["Calcium Hypochlorite - Mid Qty",500,"lbs","Mid Qty price is for 52x 100 lb bags per year; assume breakpoint occurs at monthly purchase of 2x 100 lb bags (24 per year) (approximate midpoint between mid and small qtys)"]
["Calcium Hypochlorite - Small Qty",0,"lbs"]
["Ferric Chloride - Large Qty",29625,"lbs","Large Qty price is for 30,000 gal annually (2,500 gal/month); assume 11.85 lbs/gal, consistent with 40% solution"]
["Ferric Chloride - Mid Qty",2607,"lbs","Mid Qty price is for 4+ 55 gal drums; assume 11.85 lbs/gal, consistent with 40% solution"]
["Ferric Chloride - Small Qty",0,"lbs"]
["Ferric Sulfate - Large Qty",19380,"lbs","Large Qty price is for bulk truckloads of 4,500 gal; assume 9.69 lbs/gal of solution at 19% FeSO4  and that breakpoint occurs at a bulk truckload of 2,000 gal"]
["Ferric Sulfate - Mid Qty",200,"lbs","Mid Qty price is for 4+ 50 lb containers"]
["Ferric Sulfate - Small Qty",0,"lbs"]
["Phosphoric Acid - Large Qty",44000,"lbs","Large Qty price is for bulk truck deliveries in minimum quantities of 44,000 to 48,000 lbs"]
["Phosphoric Acid - Mid Qty",44000,"lbs","Uses same value as large qty because no intermediate price break exists"]
["Phosphoric Acid - Small Qty",0,"lbs"]
["Phosphoric Acid 75% - Large Qty",44000,"lbs","Large Qty price is for bulk truck deliveries in minimum quantities of 44,000 to 48,000 lbs"]
["Phosphoric Acid 75% - Mid Qty",44000,"lbs","Uses same value as large qty because no intermediate price break exists"]
["Phosphoric Acid 75% - Small Qty",0,"lbs"]
["Phosphoric Acid 36% - Large Qty",44000,"lbs","Large Qty price is for bulk truck deliveries in minimum quantities of 44,000 to 48,000 lbs"]
["Phosphoric Acid 36% - Mid Qty",44000,"lbs","Uses same value as large qty because no intermediate price break exists"]
["Phosphoric Acid 36% - Small Qty",0,"lbs"]
["Polyaluminum Chloride - Large Qty",19800,"lbs","Large Qty price is for 104,000 gal per year (8,667 gal per month); assume 9.9 lbs/gal and that breakpoint occurs at a bulk truckload of 2,000 gal"]
["Polyaluminum Chloride - Mid Qty",5445,"lbs","Mid Qty prices are for 74,250 to 182,000 lbs per year (6,188 to 15,167 lbs per month); assume 9.9 lbs/gal and that breakpoint occurs at monthly purchas of 10x 55 gal drums (120 per year)"]
["Polyaluminum Chloride - Small Qty",0,"lbs"]
["Polymers - Large Qty",450,"lbs","Large Qty price is for puchases in 450 lb drums"]
["Polymers - Mid Qty",450,"lbs","Uses same value as large qty because no intermediate price break exists"]
["Polymers - Small Qty",0,"lbs"]
["Potassium Permanganate - Large Qty",650,"lbs","Mid Qty price is for 12,000 to 15,300 lbs per year (1,000 to 1,275 lbs per month); assume breakpoint occurs at 650 lb shipment (approximate midpoint between large and mid qtys)"]
["Potassium Permanganate - Mid Qty",100,"lbs","Mid Qty price is for 2,420 to 3,700 lbs per year (202 to 308 lbs per month); assume breakpoint occurs at 100 lb shipment (approximate midpoint between mid and small qtys)"]
["Potassium Permanganate - Small Qty",0,"lbs"]
["Sodium Chloride - Large Qty",3500,"lbs","Large Qty price is for 69,600 lbs per year (5,800 lbs per month); assume breakpoint occurs at 3,500 lbs (approximate midpoint between large and small qtys)"]
["Sodium Chloride - Mid Qty",3500,"lbs","Uses same value as large qty because no intermediate price break exists"]
["Sodium Chloride - Small Qty",0,"lbs"]
["Sodium Hydroxide - Large Qty",25228.5,"lbs","Large Qty price is for 80 tons per year as NaOH in bulk truckloads (converts to 317,140 lbs of bulk solution per year = 26,428 lbs of bulk solution per month); assume breakpoint occurs at bulk truckload of 2,000 gal"]
["Sodium Hydroxide - Mid Qty",12751.75,"lbs","Mid Qty price is for less than bulk truckload; assume breakpoint occurs at midpoint between large and small qtys"]
["Sodium Hydroxide - Small Qty",0,"lbs"]
["Sodium Hydroxide 50% - Large Qty",25228.5,"lbs","Large Qty price is for 80 tons per year as NaOH in bulk truckloads (converts to 317,140 lbs of bulk solution per year = 26,428 lbs of bulk solution per month); assume breakpoint occurs at bulk truckload of 2,000 gal"]
["Sodium Hydroxide 50% - Mid Qty",12751.75,"lbs","Mid Qty price is for less than bulk truckload; assume breakpoint occurs at midpoint between large and small qtys"]
["Sodium Hydroxide 50% - Small Qty",0,"lbs"]
["Sodium Hydroxide 25% - Large Qty",21317.039999999997,"lbs","Large Qty price is for 118 tons per year as NaOH in bulk truckloads; assume breakpoint occurs at bulk truckload of 2,000 gal"]
["Sodium Hydroxide 25% - Mid Qty",10796.019999999999,"lbs","Mid Qty price is for less than bulk truckload; assume breakpoint occurs at midpoint between large and small qtys"]
["Sodium Hydroxide 25% - Small Qty",0,"lbs"]
["Sodium Hypochlorite - Large Qty",165,"gal","Large Qty price is for 2,310 to 5,300 gal per year (7x 330 gal containers to 100x 53 gal drums); assume breakpoint occurs at monthly purchase of 3x 55 gal drums (1,980 gal per year) (approximate midpoint between large and small qtys)"]
["Sodium Hypochlorite - Mid Qty",165,"gal","Uses same value as large qty because no intermediate price break exists"]
["Sodium Hypochlorite - Small Qty",0,"gal"]
["Sulfuric Acid - Large Qty",28427.723999999998,"lbs","Large Qty price is for bulk delivery of 2,900 gal (converts to 41,220 lbs of bulk solution); assume breakpoint occurs at bulk truckload of 2,000 gal"]
["Sulfuric Acid - Mid Qty",28427.723999999998,"lbs","Uses same value as large qty because no intermediate price break exists"]
["Sulfuric Acid - Small Qty",0,"lbs"]
["Tetrasodium Polyphosphate - Large Qty",99.18,"lbs","Large Qty price is for 45 kg bulk container"]
["Tetrasodium Polyphosphate - Mid Qty",99.18,"lbs","Uses same value as large qty because no intermediate price break exists"]
["Tetrasodium Polyphosphate - Small Qty",0,"lbs"]
["Zinc Orthophosphate - Large Qty",2000,"gal","Large Qty price is for bulk delivery of 844,000 lbs per year in typical order of 41,000 lbs (3,130 gal assuming bulk density 13.1 lbs/gal consistent with 36% as PO4); assume breakpoint occurs at bulk truckload of 2,000 gal"]
["Zinc Orthophosphate - Mid Qty",300,"gal","Mid Qty price is for 200x 30 gal drums per year (500 gal/month); assume breakpont occurs at 300 gal per month (approximate midpoint between mid and small qtys)"]
["Zinc Orthophosphate - Small Qty",0,"gal"]
[]
[]
["Construction Management Fee"]
["Building cost lookup","Corresponds to the range","Construction management fee"]
[0,"<$100,000",0.1]
[100000,"$100,000 to $250,000",0.09]
[250000,"$250,000 to $1,000,000",0.06]
[1000000,"$1,000,000 to $5,000,000",0.05]
[5000000,"$5,000,000 to $10,000,000",0.04]
[10000000,">$10,000,000",3.2000000000000001E-2]
[]
[]
["Contingency Factors"]
["Project direct cost","Corresponds to the range","Default contingency (prior to application of technology complexity factor)"]
[0,"<$500,000",6.7000000000000004E-2]
[500000,"$500,000 to $3,000,000",5.8000000000000003E-2]
[3000000,"$3,000,000 to $15,000,000",4.9000000000000002E-2]
[15000000,"$15,000,000 to $50,000,000",4.1000000000000002E-2]
[50000000,"$50,000,000 to $100,000,000",3.2000000000000001E-2]
[100000000,">$100,000,000",5.8000000000000003E-2]
[]
[]
["Concrete mass","convert_concrete_cy_to_lbs_cl",3800,"lbs/cy"]
[]
[]
["Cement content in concrete","convert_concrete_to_cement_cl",0.1,"percent weight"]
[]
[]
["Eductor Size Selection"]
["Transfer Rate (GPM)","Diameter (inch)"]
[0,1.5]
[6.95,2]
[13.1,2.5]
[22.2,3]
[33,4]
[39.200000000000003,6]
[53.5,8]
[]
[]
[]
["Maximum cooling capacity for heat pump","hp_max_cool_cl",50,"tons"]
[]
[]
["Maximum heating capacity for heat pump","hp_max_heat_cl",200,"MBH"]
[]
[]
["Maximum cooling capacity","max_cool_cl",113.32,"tons"]
[]
[]
["Maximum heating capacity","max_heat_cl",6148,"MBH"]
[]
[]
["Maximum diameter in table","max_vessel_diam_cl",14,"ft"]
[]
[]
["Minimum diameter in table","min_vessel_diam_cl",1.5,"ft"]
[]
[]
["Performance Bond"]
["Direct cost lookup","Corresponds to the range","Base cost","Plus fraction","Of amount over"]
[0,"<$100,000",0,2.5000000000000001E-2,0]
[100000,"$100,000 to $500,000",2500,1.4999999999999999E-2,100000]
[500000,"$500,000 to $2,500,000",8500,0.01,500000]
[2500000,"$2,500,000 to $5,000,000",28500,7.4999999999999997E-3,2500000]
[5000000,"$5,000,000 to $7,500,000",47250,7.0000000000000001E-3,5000000]
[7500000,">$7,500,000",64750,6.0000000000000001E-3,7500000]
[]
[]
["Pipe Size Selection"]
["Pipe Flow to Pipe Diameter"]
["Flow (GPM)","Diameter (inch)"]
[0,0.5]
[2.1,0.75]
[4.0999999999999996,1]
[7.1,1.5]
[21.1,2]
[41.1,2.5]
[66.099999999999994,3]
[116.1,4]
[238.1,6]
[697.1,8]
[1435.1,10]
[2608.1,12]
[4132.1000000000004,14]
[5299.1,16]
[7528.1,18]
[10265.1,20]
[13643.1,24]
[22174.1,30]
[50561.1,36]
[81777.100000000006,42]
[122025.1,48]
[]
[]
["Pump Dimensions (for centrifugal pumps)"]
["Pump Rating Needed (gpm)","Pump Rating Selected (gpm)","Length (ft)","Width (ft)"]
[0,350,2.5,2.5]
[351,1740,3.75,3.75]
[1741,7000,5,5]
[7001,35000,7.083333333333333,7.083333333333333]
[]
[]
["WBS Tech Name","TDB Link","TDB Technology Category"]
["Adsorb","https://iaspub.epa.gov/tdb/pages/treatment/treatmentOverview.do?treatmentProcessId=1176996650","Adsorptive Media"]
["MSBA","https://iaspub.epa.gov/tdb/pages/treatment/treatmentOverview.do?treatmentProcessId=-346223903","Aeration and Air Stripping"]
["PTA","https://iaspub.epa.gov/tdb/pages/treatment/treatmentOverview.do?treatmentProcessId=-346223903","Aeration and Air Stripping"]
["Diffuse Aeration","https://iaspub.epa.gov/tdb/pages/treatment/treatmentOverview.do?treatmentProcessId=-346223903","Aeration and Air Stripping"]
["Tray Aeration","https://iaspub.epa.gov/tdb/pages/treatment/treatmentOverview.do?treatmentProcessId=-346223903","Aeration and Air Stripping"]
["Spray Aeration","https://iaspub.epa.gov/tdb/pages/treatment/treatmentOverview.do?treatmentProcessId=-346223903","Aeration and Air Stripping"]
["BAF","https://iaspub.epa.gov/tdb/pages/treatment/treatmentOverview.do?treatmentProcessId=1174340674","Biological Filtration"]
["BIO","https://iaspub.epa.gov/tdb/pages/treatment/treatmentOverview.do?treatmentProcessId=10000","Biological Treatment"]
["None","https://iaspub.epa.gov/tdb/pages/treatment/treatmentOverview.do?treatmentProcessId=1181590563","Chemical Treatment"]
["Chloramine (Ammonia Feed)","https://iaspub.epa.gov/tdb/pages/treatment/treatmentOverview.do?treatmentProcessId=-30174904","Chloramine"]
["Chlorine Gas","https://iaspub.epa.gov/tdb/pages/treatment/treatmentOverview.do?treatmentProcessId=-1118142891","Chlorine"]
["Hypochlorite","https://iaspub.epa.gov/tdb/pages/treatment/treatmentOverview.do?treatmentProcessId=-1118142891","Chlorine"]
["Chlorine Dioxide","https://iaspub.epa.gov/tdb/pages/treatment/treatmentOverview.do?treatmentProcessId=-1277754943","Chlorine Dioxide"]
["Confilt","https://iaspub.epa.gov/tdb/pages/treatment/treatmentOverview.do?treatmentProcessId=1934681921","Conventional Treatment"]
["RCF for Cr(VI) Removal","https://iaspub.epa.gov/tdb/pages/treatment/treatmentOverview.do?treatmentProcessId=1934681921","Conventional Treatment"]
["None","https://iaspub.epa.gov/tdb/pages/treatment/treatmentOverview.do?treatmentProcessId=1942020127","Diatomaceous Earth Filtration"]
["Dirfilt","https://iaspub.epa.gov/tdb/pages/treatment/treatmentOverview.do?treatmentProcessId=1667135053","Direct Filtration"]
["GAC Isotherm","https://iaspub.epa.gov/tdb/pages/treatment/treatmentOverview.do?treatmentProcessId=-979193564","GAC Isotherm"]
["GAC","https://iaspub.epa.gov/tdb/pages/treatment/treatmentOverview.do?treatmentProcessId=2074826383","Granular Activated Carbon"]
["None","https://iaspub.epa.gov/tdb/pages/treatment/treatmentOverview.do?treatmentProcessId=-1234021623","Hydrogen Peroxide"]
["AX","https://iaspub.epa.gov/tdb/pages/treatment/treatmentOverview.do?treatmentProcessId=263654386","Ion Exchange"]
["CX","https://iaspub.epa.gov/tdb/pages/treatment/treatmentOverview.do?treatmentProcessId=263654386","Ion Exchange"]
["GF","https://iaspub.epa.gov/tdb/pages/treatment/treatmentOverview.do?treatmentProcessId=263654386","Ion Exchange"]
["MIEX","https://iaspub.epa.gov/tdb/pages/treatment/treatmentOverview.do?treatmentProcessId=263654386","Ion Exchange"]
["WBA Exchange System for Cr","https://iaspub.epa.gov/tdb/pages/treatment/treatmentOverview.do?treatmentProcessId=263654386","Ion Exchange"]
["lpmem","https://iaspub.epa.gov/tdb/pages/treatment/treatmentOverview.do?treatmentProcessId=510273414","Membrane Filtration"]
["RONF","https://iaspub.epa.gov/tdb/pages/treatment/treatmentOverview.do?treatmentProcessId=-2103528007","Membrane Separation"]
["EDR","https://iaspub.epa.gov/tdb/pages/treatment/treatmentOverview.do?treatmentProcessId=-2103528007","Membrane Separation"]
["None","https://iaspub.epa.gov/tdb/pages/treatment/treatmentOverview.do?treatmentProcessId=2088586280","Other Treatment"]
["OZONE","https://iaspub.epa.gov/tdb/pages/treatment/treatmentOverview.do?treatmentProcessId=-1467636837","Ozone"]
["None","https://iaspub.epa.gov/tdb/pages/treatment/treatmentOverview.do?treatmentProcessId=372675748","Ozone + Hydrogen Peroxide"]
["Permanganate","https://iaspub.epa.gov/tdb/pages/treatment/treatmentOverview.do?treatmentProcessId=-1644188630","Permanganate"]
["PAC","https://iaspub.epa.gov/tdb/pages/treatment/treatmentOverview.do?treatmentProcessId=2109700949","Powdered Activated Carbon"]
["Lime Softening","https://iaspub.epa.gov/tdb/pages/treatment/treatmentOverview.do?treatmentProcessId=-2062922688","Precipitative Softening"]
["None","https://iaspub.epa.gov/tdb/pages/treatment/treatmentOverview.do?treatmentProcessId=548212009","Pressure Filtration"]
["None","https://iaspub.epa.gov/tdb/pages/treatment/treatmentOverview.do?treatmentProcessId=-1306063973","Slow Sand Filtration"]
["UV","https://iaspub.epa.gov/tdb/pages/treatment/treatmentOverview.do?treatmentProcessId=-2054608628","Ultraviolet Irradiation"]
["UVH2O2","https://iaspub.epa.gov/tdb/pages/treatment/treatmentOverview.do?treatmentProcessId=-300168699","Ultraviolet Irradiation + Hydrogen Peroxide"]
["None","https://iaspub.epa.gov/tdb/pages/treatment/treatmentOverview.do?treatmentProcessId=-1861125809","Ultraviolet Irradiation + Ozone"]
[]
[]
["Thrust Blocks for Yard Piping"]
["Pipe Diameter (inches)"," Thrust Force","Based on 90 degree angles"]
["Size Needed","kg","Size Selected"]
[0,347.63563037472028,2]
[2.1,681.91181843044774,3]
[3.1,1260.0087440508869,4]
[4.0999999999999996,2835.0196741144964,6]
[6.1,4990.7439767005962,8]
[8.1,7813.4106239126322,10]
[10.1,11192.326806056015,12]
[12.1,15314.284822868764,14]
[14.1,20002.331197216343,16]
[16.100000000000001,25315.450421476933,18]
[18.100000000000001,31130.717767160371,20]
[20.100000000000001,45064.326572600447,24]
[24.1,61050.596681665913,28]
[28.1,70505.385478216151,30]
[30.1,124768.59941751491,40]
[40.1,137828.56340581886,42]
[42.1,180257.30629040179,48]
[]
[]
["Commercial Pressure Vessel Dimensions"]
["Note: Models may specify a maximum height or diameter which is smaller than those tabulated here"]
["Dimensions tabulated based on commercially available tanks from Wendland Manufacturing, Hanson Tanks, Apyron Tech, Pabst Engineering Equipment, and Able Fab, and from case study data."]
["Diameter","Min Height","Max Height"]
["ft","ft","ft"]
[1.5,3,6]
[2,3.5,7.5]
[2.5,4,9]
[3,4,10]
[3.5,4.5,10]
[4,4.5,12]
[4.5,4.5,15]
[5,4.5,15]
[5.5,4.5,15]
[6,4.5,18]
[6.5,5.5,18]
[7,5.5,18]
[7.5,6,18]
[8,6,20]
[8.5,6,20]
[9,6,20]
[9.5,6,20]
[10,6,24]
[10.5,6,24]
[11,6,24]
[11.5,6,24]
[12,6,24]
[14,6,24]

{"sheet":"Lookup Tables","index":23,"n_rows":50,"n_cols":6,"rows_kept":50,"cut":false,"hidden":false,"merged":[]}
["Lookup Tables and Input Validation"]
["This sheet is used internally to perform certain reference calculations and support input sheet data validation"]
[]
["Target Contaminant"]
[1,"Perchlorate"]
[2,"Nitrate"]
[3,"Other"]
["Design Categories"]
[1,"Fixed Bed Pressure Vessel"]
[2,"Fixed Bed Gravity Basin"]
[3,"Fluidized Bed"]
[]
["throughput_table"]
["Belt Press Sizing Lookup Table"]
["Throughput Value (lb/hr)","Throughput Value (lb/hr)","Effective Belt Width (m)","Overall Length (in.)","Overall Width (in.)","Overall Height (in.)"]
[0,2000,1.2,360,97,105]
[2001,2750,1.6,368,119,107]
[2751,3250,2,351,134,107]
[3251,4250,2.5,395,161,114]
[4251,5250,3,452,180,118]
[5251,9999999,"contact vendor"]
[]
["nutrient_valid"]
["no additional nutrients required"]
[{"$f":"IF(contam=2,\"\",\"additional nitrogen required\")","v":"additional nitrogen required"}]
["additional phosphorous required"]
[{"$f":"IF(contam=2,\"\",\"both nitrogen and phosphorous required\")","v":"both nitrogen and phosphorous required"}]
["backwash_pump_valid"]
["existing pumps"]
["new pumps"]
[]
["backwash_storage_valid"]
["existing storage"]
["new storage"]
[]
["comp_level_valid"]
["low cost"]
["mid cost"]
["high cost"]
[]
["system_automation_valid"]
["manual"]
["semi-automated"]
["fully automated"]
[]
["TDB_link"]
[{"$f":"VLOOKUP(tech_name,TDB_link_table_cl,2,FALSE)","v":"https://iaspub.epa.gov/tdb/pages/treatment/treatmentOverview.do?treatmentProcessId=10000"}]
["yes_no_valid"]
["yes"]
["no"]