{"text_format":"1","workbook":"xlsx","n_sheets":4,"sheets":["version notes","Label Inputs","Calculator with sample data","Blank calculator"],"not_rendered":{"charts":0,"images":1,"macros":1,"external_links":0,"defined_names":0,"comments":2,"pivot_tables":0},"unopened":[],"bounds":{"document_bytes":16777216,"sheet_cells":100000,"rows_first":2000,"rows_last":500,"rows_between":2000,"halvings":0,"cell_chars":16384,"cell_head_chars":4096},"cells_cut":0,"cells_raw":0,"read":"whole","date_system":"1900"}

{"sheet":"version notes","index":0,"n_rows":14,"n_cols":4,"rows_kept":14,"cut":false,"hidden":false,"merged":[]}
[]
[]
[null,"Version No.","Release Date","Comments"]
[null,23,null,"Same calculations as version 22. \nExpanded data input range to allow up to 30 charge-depleting cycles. \nUpdated label inputs (fuel prices, ratings scales, etc.) for 2018 model year based on EPA guidance. Some text changes to improve clarity."]
[null,24,null,"Found an error in some of the calculations for multiple test sets. These calculations referenced the transition cycle for the first test set, instead of the current test set. This would only impact the unusual situation where the transition cycle differed across test sets. "]
[null,25,"2017-12-27","Fixed an error where the 5-cycle adjustment (0.7 or derived 5-cycle result) was incompletely propogated throughout the charge-depleting calculations. The impact on label values should be none to very minor, affecting only those vehicles that would have been able to use an adjustment for the transition cycle that differs from 0.7. This does not happen often. \nFixed an error in the calculation of the unadjusted highway electricity Kw-Hr/100 miles, where the calculation was referencing the charge-depleting fraction from the city schedule. This does not affect any label values, only values put on the web in the online spreadsheets. \nRevised the calculation of all-electric range. Previous versions summed the distances of all-electric cycles without attention to whether the first cycle was all-electric. Thus PHEVs with no all-electric range could have appeared to have an all-electric range. You should, of course, continue to override this estimate with the actual range recorded from the test, if available.\nImproved the ability to look at all-electric range and determine whether or not a PHEV is eligible for CAFE dual fuel vehicle calculations. \nCorrected an error in the Average New Vehicle 5-Year Fuel Cost for model year 2018. The correct value is $6,750, per EPA guidance CD-16-18. \nAdded label inputs - fuel prices, ratings scales, etc. - for the 2019 model year. From EPA guidance letter cd-17-18.\nAdded error-checking where CREE will not be calculated without both charge-depleting and charge-sustaining CREE data.\nFixed some cell references in Test Set #2 and #3 cost per mile calculations where formulae inadvertently referred to Test Set #1 test data."]
[null,"26a","2019-05-31","Added some conditional formatting to visualize non-default values entered by users. For example, fuel density and heating value.\nCorrected the equation in cell F84, for Hwy2 Unadj FE - Alternative Fuel. There was a cell referencing error that could possible affect vehilces with multiple highway tests. This does not affect CAFE, GHG, or label values.\nAdded the capability to use Deterioration Factors (DF) for CREE values. Because City and HIghway values are submitted via a table in Verify, at this point a DF must be applied separately to each value, thus adjusting each value with a DF. The user may enter different City and Highway DFs. \nEquations were changed to perform rounding consistent with EV-CIS rounding.\nSuperfluous values were removed.\nDefault method for calculating Zn is now using Amp-hours, per the regulations. This is also designed into the EV-CIS calculations.\nCalculated intermediate values were rearranged to consolidate those values calculated specifically and solely from charge-depleting test data. Those values requiring charge-sustaining or other inputs are grouped separately. Similar metrics are now grouped together. \nIncreased the number of charge-depleting cycles accommodated by the calculator tp 35.\nExplanetory comments have been added to many of the inputs and calculated parameters. "]
[null,"26b","2019-08-15","Changed release date of v26a above from \"TBD\" to May 31, 2019. \nAdded cell borders to charge-sustaining input section. \nAmended formulae for \"CD AC electricity consumption rate (Rcda), adjusted\" to round the kW-hr input to 4 decimal places; was previously rounded to 1 decimal. \nChanged cell F23 (combind CD electricity consumption) to be rounded to 4 decimal places. Was prevoiusly rounded to one decimal. \nCorrect an error in cells D23 and E23. Values need to be multiplied by 100. "]
[null,null,null,"Corrected cell references in cells D15 and E15. "]
[null,null,null,"Changed the rounding of label cit and highway Killowatt-hours per 100 miles to 3 decimal places. Previously was rounded to 4 decimals. "]
[null,"26c","2019-10-10","Added 2020 model year label inputs. See guidance document CD-18-13, 12/17/2018. "]
[null,null,null,"Revised these version notes to reflect the current state of the calculator. "]
[null,null,null,"Removed values from the blank version of the template. "]
[null,"26d","2020-01-08","Added 2021 model year label inputs. See guidance document CD-19-13 (Dec. 16, 2019). "]

{"sheet":"Label Inputs","index":1,"n_rows":104,"n_cols":31,"rows_kept":104,"cut":false,"hidden":false,"merged":[[2,27,2,30],[2,12,2,15],[2,17,2,20],[1,1,1,20],[2,1,2,10],[2,22,2,25]]}
[]
[null,"LABEL INPUTS: FROM EPA GUIDANCE LETTERS APPLICABLE TO THE APPROPRIATE MODEL YEAR"]
[null,"Fuel Prices",null,null,null,null,null,null,null,null,null,null,"Average New Vehicle Fuel Economy",null,null,null,null,"Average New Vehicle 5-Year Fuel Cost",null,null,null,null,"MPG Rating",null,null,null,null,"GHG Rating"]
[null,"Model Year","Regular Unleaded","Mid-Grade Unleaded","Premium Unleaded","Diesel","E85","LPG","CNG","Electricity","Hydrogen",null,"Model Year","MPG",null,null,null,"Model Year","5-Year Cost",null,null,null,"Model Year","Min","Max","Rating",null,"Model Year","Min","Max","Rating"]
[null,2011,3,3.1,3.2,3.1,2.6,null,1.9,0.11,null,null,2011,"NA",null,null,null,2011,"NA",null,null,null,2016,0,13,1,null,2016,659,null,1]
[null,2012,3.7,3.85,3.95,3.95,3.25,null,2.15,0.12,null,null,2012,"NA",null,null,null,2012,"NA",null,null,null,2016,14,15,2,null,2016,574,658,2]
[null,2013,3.55,3.65,3.8,3.8,3.1,null,2,0.12,null,null,2013,23,null,null,null,2013,11600,null,null,null,2016,16,17,3,null,2016,509,573,3]
[null,2014,3.5,3.6,3.75,3.85,3.1,null,2,0.12,null,null,2014,23,null,null,null,2014,11500,null,null,null,2016,18,20,4,null,2016,435,508,4]
[null,2015,3.5,3.65,3.8,3.75,3.1,null,2,0.12,null,null,2015,24,null,null,null,2015,11000,null,null,null,2016,21,24,5,null,2016,364,434,5]
[null,2016,3,3.15,3.3,3.35,2.6,null,1.55,0.13,null,null,2016,25,null,null,null,2016,9000,null,null,null,2016,25,27,6,null,2016,324,363,6]
[null,2017,2.4500000000000002,2.65,2.8,2.75,2.0499999999999998,null,2.1,0.13,null,null,2017,26,null,null,null,2017,7000,null,null,null,2016,28,31,7,null,2016,283,323,7]
[null,2018,2.4,2.6,2.8,2.65,1.95,null,2.1,0.13,null,null,2018,27,null,null,null,2018,6750,null,null,null,2016,32,37,8,null,2016,238,282,8]
[null,2019,2.5499999999999998,2.8,3,2.85,2.15,null,2.1,0.13,null,null,2019,27,null,null,null,2019,7000,null,null,null,2016,38,45,9,null,2016,196,237,9]
[null,2020,2.7,3,3.25,3.15,2.2999999999999998,null,2.1,0.13,null,null,2020,27,null,null,null,2020,7500,null,null,null,2016,46,99999,10,null,2016,0,195,10]
[null,2021,2.7,3,3.25,3,2.25,null,2.15,0.13,null,null,2021,27,null,null,null,2021,7500,null,null,null,2017,0,14,1,null,2017,614,null,1]
[null,2022,null,null,null,null,null,null,null,null,null,null,2022,null,null,null,null,2022,null,null,null,null,2017,15,16,2,null,2017,540,613,2]
[null,2023,null,null,null,null,null,null,null,null,null,null,2023,null,null,null,null,2023,null,null,null,null,2017,17,18,3,null,2017,481,539,3]
[null,2024,null,null,null,null,null,null,null,null,null,null,2024,null,null,null,null,2024,null,null,null,null,2017,19,21,4,null,2017,414,480,4]
[null,2025,null,null,null,null,null,null,null,null,null,null,2025,null,null,null,null,2025,null,null,null,null,2017,22,25,5,null,2017,350,413,5]
[null,null,null,null,null,null,null,null,null,null,null,null,null,null,null,null,null,null,null,null,null,null,2017,26,28,6,null,2017,313,349,6]
[null,null,null,null,null,null,null,null,null,null,null,null,null,null,null,null,null,null,null,null,null,null,2017,29,32,7,null,2017,274,312,7]
[null,null,null,null,null,null,null,null,null,null,null,null,null,null,null,null,null,null,null,null,null,null,2017,33,37,8,null,2017,238,273,8]
[null,null,null,null,null,null,null,null,null,null,null,null,null,null,null,null,null,null,null,null,null,null,2017,38,43,9,null,2017,205,237,9]
[null,null,null,null,null,null,null,null,null,null,null,null,null,null,null,null,null,null,null,null,null,null,2017,44,99999,10,null,2017,0,204,10]
[null,null,null,null,null,null,null,null,null,null,null,null,null,null,null,null,null,null,null,null,null,null,2018,0,14,1,null,2018,614,null,1]
[null,null,null,null,null,null,null,null,null,null,null,null,null,null,null,null,null,null,null,null,null,null,2018,15,16,2,null,2018,540,613,2]
[null,null,null,null,null,null,null,null,null,null,null,null,null,null,null,null,null,null,null,null,null,null,2018,17,19,3,null,2018,457,539,3]
[null,null,null,null,null,null,null,null,null,null,null,null,null,null,null,null,null,null,null,null,null,null,2018,20,22,4,null,2018,396,456,4]
[null,null,null,null,null,null,null,null,null,null,null,null,null,null,null,null,null,null,null,null,null,null,2018,23,26,5,null,2018,336,395,5]
[null,null,null,null,null,null,null,null,null,null,null,null,null,null,null,null,null,null,null,null,null,null,2018,27,29,6,null,2018,302,335,6]
[null,null,null,null,null,null,null,null,null,null,null,null,null,null,null,null,null,null,null,null,null,null,2018,30,32,7,null,2018,274,301,7]
[null,null,null,null,null,null,null,null,null,null,null,null,null,null,null,null,null,null,null,null,null,null,2018,33,37,8,null,2018,238,273,8]
[null,null,null,null,null,null,null,null,null,null,null,null,null,null,null,null,null,null,null,null,null,null,2018,38,43,9,null,2018,205,237,9]
[null,null,null,null,null,null,null,null,null,null,null,null,null,null,null,null,null,null,null,null,null,null,2018,44,99999,10,null,2018,0,204,10]
[null,null,null,null,null,null,null,null,null,null,null,null,null,null,null,null,null,null,null,null,null,null,2019,0,14,1,null,2019,614,null,1]
[null,null,null,null,null,null,null,null,null,null,null,null,null,null,null,null,null,null,null,null,null,null,2019,15,16,2,null,2019,540,613,2]
[null,null,null,null,null,null,null,null,null,null,null,null,null,null,null,null,null,null,null,null,null,null,2019,17,19,3,null,2019,457,539,3]
[null,null,null,null,null,null,null,null,null,null,null,null,null,null,null,null,null,null,null,null,null,null,2019,20,22,4,null,2019,396,456,4]
[null,null,null,null,null,null,null,null,null,null,null,null,null,null,null,null,null,null,null,null,null,null,2019,23,26,5,null,2019,336,395,5]
[null,null,null,null,null,null,null,null,null,null,null,null,null,null,null,null,null,null,null,null,null,null,2019,27,29,6,null,2019,302,335,6]
[null,null,null,null,null,null,null,null,null,null,null,null,null,null,null,null,null,null,null,null,null,null,2019,30,32,7,null,2019,274,301,7]
[null,null,null,null,null,null,null,null,null,null,null,null,null,null,null,null,null,null,null,null,null,null,2019,33,37,8,null,2019,238,273,8]
[null,null,null,null,null,null,null,null,null,null,null,null,null,null,null,null,null,null,null,null,null,null,2019,38,43,9,null,2019,205,237,9]
[null,null,null,null,null,null,null,null,null,null,null,null,null,null,null,null,null,null,null,null,null,null,2019,44,99999,10,null,2019,0,204,10]
[null,null,null,null,null,null,null,null,null,null,null,null,null,null,null,null,null,null,null,null,null,null,2020,0,14,1,null,2020,614,null,1]
[null,null,null,null,null,null,null,null,null,null,null,null,null,null,null,null,null,null,null,null,null,null,2020,15,16,2,null,2020,540,613,2]
[null,null,null,null,null,null,null,null,null,null,null,null,null,null,null,null,null,null,null,null,null,null,2020,17,19,3,null,2020,457,539,3]
[null,null,null,null,null,null,null,null,null,null,null,null,null,null,null,null,null,null,null,null,null,null,2020,20,22,4,null,2020,396,456,4]
[null,null,null,null,null,null,null,null,null,null,null,null,null,null,null,null,null,null,null,null,null,null,2020,23,26,5,null,2020,336,395,5]
[null,null,null,null,null,null,null,null,null,null,null,null,null,null,null,null,null,null,null,null,null,null,2020,27,29,6,null,2020,302,335,6]
[null,null,null,null,null,null,null,null,null,null,null,null,null,null,null,null,null,null,null,null,null,null,2020,30,33,7,null,2020,266,301,7]
[null,null,null,null,null,null,null,null,null,null,null,null,null,null,null,null,null,null,null,null,null,null,2020,34,38,8,null,2020,232,265,8]
[null,null,null,null,null,null,null,null,null,null,null,null,null,null,null,null,null,null,null,null,null,null,2020,39,44,9,null,2020,201,231,9]
[null,null,null,null,null,null,null,null,null,null,null,null,null,null,null,null,null,null,null,null,null,null,2020,45,99999,10,null,2020,0,200,10]
[null,null,null,null,null,null,null,null,null,null,null,null,null,null,null,null,null,null,null,null,null,null,2021,0,14,1,null,2021,614,null,1]
[null,null,null,null,null,null,null,null,null,null,null,null,null,null,null,null,null,null,null,null,null,null,2021,15,16,2,null,2021,540,613,2]
[null,null,null,null,null,null,null,null,null,null,null,null,null,null,null,null,null,null,null,null,null,null,2021,17,19,3,null,2021,457,539,3]
[null,null,null,null,null,null,null,null,null,null,null,null,null,null,null,null,null,null,null,null,null,null,2021,20,22,4,null,2021,396,456,4]
[null,null,null,null,null,null,null,null,null,null,null,null,null,null,null,null,null,null,null,null,null,null,2021,23,26,5,null,2021,336,395,5]
[null,null,null,null,null,null,null,null,null,null,null,null,null,null,null,null,null,null,null,null,null,null,2021,27,30,6,null,2021,292,335,6]
[null,null,null,null,null,null,null,null,null,null,null,null,null,null,null,null,null,null,null,null,null,null,2021,31,35,7,null,2021,251,291,7]
[null,null,null,null,null,null,null,null,null,null,null,null,null,null,null,null,null,null,null,null,null,null,2021,36,42,8,null,2021,210,250,8]
[null,null,null,null,null,null,null,null,null,null,null,null,null,null,null,null,null,null,null,null,null,null,2021,43,52,9,null,2021,170,209,9]
[null,null,null,null,null,null,null,null,null,null,null,null,null,null,null,null,null,null,null,null,null,null,2021,53,99999,10,null,2021,0,169,10]
[null,null,null,null,null,null,null,null,null,null,null,null,null,null,null,null,null,null,null,null,null,null,2022,null,null,1,null,2022,null,null,1]
[null,null,null,null,null,null,null,null,null,null,null,null,null,null,null,null,null,null,null,null,null,null,2022,null,null,2,null,2022,null,null,2]
[null,null,null,null,null,null,null,null,null,null,null,null,null,null,null,null,null,null,null,null,null,null,2022,null,null,3,null,2022,null,null,3]
[null,null,null,null,null,null,null,null,null,null,null,null,null,null,null,null,null,null,null,null,null,null,2022,null,null,4,null,2022,null,null,4]
[null,null,null,null,null,null,null,null,null,null,null,null,null,null,null,null,null,null,null,null,null,null,2022,null,null,5,null,2022,null,null,5]
[null,null,null,null,null,null,null,null,null,null,null,null,null,null,null,null,null,null,null,null,null,null,2022,null,null,6,null,2022,null,null,6]
[null,null,null,null,null,null,null,null,null,null,null,null,null,null,null,null,null,null,null,null,null,null,2022,null,null,7,null,2022,null,null,7]
[null,null,null,null,null,null,null,null,null,null,null,null,null,null,null,null,null,null,null,null,null,null,2022,null,null,8,null,2022,null,null,8]
[null,null,null,null,null,null,null,null,null,null,null,null,null,null,null,null,null,null,null,null,null,null,2022,null,null,9,null,2022,null,null,9]
[null,null,null,null,null,null,null,null,null,null,null,null,null,null,null,null,null,null,null,null,null,null,2022,null,null,10,null,2022,null,null,10]
[null,null,null,null,null,null,null,null,null,null,null,null,null,null,null,null,null,null,null,null,null,null,2023,null,null,1,null,2023,null,null,1]
[null,null,null,null,null,null,null,null,null,null,null,null,null,null,null,null,null,null,null,null,null,null,2023,null,null,2,null,2023,null,null,2]
[null,null,null,null,null,null,null,null,null,null,null,null,null,null,null,null,null,null,null,null,null,null,2023,null,null,3,null,2023,null,null,3]
[null,null,null,null,null,null,null,null,null,null,null,null,null,null,null,null,null,null,null,null,null,null,2023,null,null,4,null,2023,null,null,4]
[null,null,null,null,null,null,null,null,null,null,null,null,null,null,null,null,null,null,null,null,null,null,2023,null,null,5,null,2023,null,null,5]
[null,null,null,null,null,null,null,null,null,null,null,null,null,null,null,null,null,null,null,null,null,null,2023,null,null,6,null,2023,null,null,6]
[null,null,null,null,null,null,null,null,null,null,null,null,null,null,null,null,null,null,null,null,null,null,2023,null,null,7,null,2023,null,null,7]
[null,null,null,null,null,null,null,null,null,null,null,null,null,null,null,null,null,null,null,null,null,null,2023,null,null,8,null,2023,null,null,8]
[null,null,null,null,null,null,null,null,null,null,null,null,null,null,null,null,null,null,null,null,null,null,2023,null,null,9,null,2023,null,null,9]
[null,null,null,null,null,null,null,null,null,null,null,null,null,null,null,null,null,null,null,null,null,null,2023,null,null,10,null,2023,null,null,10]
[null,null,null,null,null,null,null,null,null,null,null,null,null,null,null,null,null,null,null,null,null,null,2024,null,null,1,null,2024,null,null,1]
[null,null,null,null,null,null,null,null,null,null,null,null,null,null,null,null,null,null,null,null,null,null,2024,null,null,2,null,2024,null,null,2]
[null,null,null,null,null,null,null,null,null,null,null,null,null,null,null,null,null,null,null,null,null,null,2024,null,null,3,null,2024,null,null,3]
[null,null,null,null,null,null,null,null,null,null,null,null,null,null,null,null,null,null,null,null,null,null,2024,null,null,4,null,2024,null,null,4]
[null,null,null,null,null,null,null,null,null,null,null,null,null,null,null,null,null,null,null,null,null,null,2024,null,null,5,null,2024,null,null,5]
[null,null,null,null,null,null,null,null,null,null,null,null,null,null,null,null,null,null,null,null,null,null,2024,null,null,6,null,2024,null,null,6]
[null,null,null,null,null,null,null,null,null,null,null,null,null,null,null,null,null,null,null,null,null,null,2024,null,null,7,null,2024,null,null,7]
[null,null,null,null,null,null,null,null,null,null,null,null,null,null,null,null,null,null,null,null,null,null,2024,null,null,8,null,2024,null,null,8]
[null,null,null,null,null,null,null,null,null,null,null,null,null,null,null,null,null,null,null,null,null,null,2024,null,null,9,null,2024,null,null,9]
[null,null,null,null,null,null,null,null,null,null,null,null,null,null,null,null,null,null,null,null,null,null,2024,null,null,10,null,2024,null,null,10]
[null,null,null,null,null,null,null,null,null,null,null,null,null,null,null,null,null,null,null,null,null,null,2025,null,null,1,null,2025,null,null,1]
[null,null,null,null,null,null,null,null,null,null,null,null,null,null,null,null,null,null,null,null,null,null,2025,null,null,2,null,2025,null,null,2]
[null,null,null,null,null,null,null,null,null,null,null,null,null,null,null,null,null,null,null,null,null,null,2025,null,null,3,null,2025,null,null,3]
[null,null,null,null,null,null,null,null,null,null,null,null,null,null,null,null,null,null,null,null,null,null,2025,null,null,4,null,2025,null,null,4]
[null,null,null,null,null,null,null,null,null,null,null,null,null,null,null,null,null,null,null,null,null,null,2025,null,null,5,null,2025,null,null,5]
[null,null,null,null,null,null,null,null,null,null,null,null,null,null,null,null,null,null,null,null,null,null,2025,null,null,6,null,2025,null,null,6]
[null,null,null,null,null,null,null,null,null,null,null,null,null,null,null,null,null,null,null,null,null,null,2025,null,null,7,null,2025,null,null,7]
[null,null,null,null,null,null,null,null,null,null,null,null,null,null,null,null,null,null,null,null,null,null,2025,null,null,8,null,2025,null,null,8]
[null,null,null,null,null,null,null,null,null,null,null,null,null,null,null,null,null,null,null,null,null,null,2025,null,null,9,null,2025,null,null,9]
[null,null,null,null,null,null,null,null,null,null,null,null,null,null,null,null,null,null,null,null,null,null,2025,null,null,10,null,2025,null,null,10]

{"sheet":"Calculator with sample data","index":2,"n_rows":145,"n_cols":100,"rows_kept":145,"cut":false,"hidden":false,"merged":[[4,53,8,53],[4,54,8,54],[4,55,8,55],[4,56,8,56],[4,57,8,57],[4,58,8,58],[4,47,8,47],[4,48,8,48],[4,49,8,49],[4,50,8,50],[4,51,8,51],[4,52,8,52],[4,65,8,65],[4,66,8,66],[4,67,8,67],[4,68,8,68],[4,69,8,69],[4,70,8,70],[4,59,8,59],[4,60,8,60],[4,61,8,61],[4,62,8,62],[4,63,8,63],[4,64,8,64],[4,80,8,80],[4,81,8,81],[4,82,8,82],[4,83,8,83],[4,71,8,71],[4,72,8,72],[4,74,8,74],[4,75,8,75],[4,76,8,76],[4,77,8,77],[4,96,8,96],[4,97,8,97],[4,98,8,98],[4,99,8,99],[5,16,8,16],[5,17,8,17],[5,18,8,18],[5,19,8,19],[5,20,8,20],[5,21,8,21],[4,90,8,90],[4,91,8,91],[4,92,8,92],[4,93,8,93],[4,94,8,94],[4,95,8,95],[4,84,8,84],[4,85,8,85],[4,86,8,86],[4,87,8,87],[4,88,8,88],[4,89,8,89],[4,78,8,78],[4,79,8,79],[5,29,8,29],[5,30,8,30],[52,47,56,47],[52,48,56,48],[52,49,56,49],[52,50,56,50],[53,29,56,29],[53,30,56,30],[5,22,8,22],[5,24,8,24],[5,25,8,25],[5,26,8,26],[5,27,8,27],[5,28,8,28],[52,57,56,57],[52,58,56,58],[52,59,56,59],[52,60,56,60],[52,61,56,61],[52,62,56,62],[52,51,56,51],[52,52,56,52],[52,53,56,53],[52,54,56,54],[52,55,56,55],[52,56,56,56],[52,72,56,72],[52,74,56,74],[52,75,56,75],[52,63,56,63],[52,64,56,64],[52,65,56,65],[52,66,56,66],[52,67,56,67],[52,68,56,68],[52,97,56,97],[52,98,56,98],[52,99,56,99],[52,88,56,88],[52,89,56,89],[52,90,56,90],[52,91,56,91],[52,92,56,92],[52,93,56,93],[53,16,56,16],[53,17,56,17],[53,18,56,18],[53,19,56,19],[53,20,56,20],[53,21,56,21],[52,94,56,94],[52,95,56,95],[52,96,56,96],[52,82,56,82],[52,83,56,83],[52,84,56,84],[52,85,56,85],[52,86,56,86],[52,87,56,87],[52,76,56,76],[52,77,56,77],[52,78,56,78],[52,79,56,79],[52,80,56,80],[52,81,56,81],[52,69,56,69],[52,70,56,70],[52,71,56,71],[100,47,104,47],[100,48,104,48],[100,49,104,49],[100,50,104,50],[100,51,104,51],[100,52,104,52],[53,22,56,22],[53,24,56,24],[53,25,56,25],[53,26,56,26],[53,27,56,27],[53,28,56,28],[100,59,104,59],[100,60,104,60],[100,61,104,61],[100,62,104,62],[100,63,104,63],[100,64,104,64],[100,53,104,53],[100,54,104,54],[100,55,104,55],[100,56,104,56],[100,57,104,57],[100,58,104,58],[100,72,104,72],[100,74,104,74],[100,75,104,75],[100,76,104,76],[100,77,104,77],[100,65,104,65],[100,66,104,66],[100,67,104,67],[100,68,104,68],[100,69,104,69],[100,70,104,70],[130,2,130,5],[219,74,219,81],[101,22,104,22],[101,24,104,24],[101,25,104,25],[101,26,104,26],[101,27,104,27],[101,28,104,28],[100,96,104,96],[101,16,104,16],[101,17,104,17],[101,18,104,18],[101,19,104,19],[101,20,104,20],[101,21,104,21],[100,90,104,90],[100,91,104,91],[100,92,104,92],[100,93,104,93],[100,94,104,94],[100,95,104,95],[100,84,104,84],[100,85,104,85],[100,86,104,86],[248,17,248,19],[220,74,220,80],[220,110,224,110],[220,117,224,117],[221,74,221,80],[222,74,222,80],[246,17,246,19],[101,29,104,29],[101,30,104,30],[102,110,106,110],[102,117,106,117],[100,97,104,97],[100,98,104,98],[100,99,104,99],[100,87,104,87],[100,88,104,88],[100,89,104,89],[100,78,104,78],[100,79,104,79],[100,80,104,80],[100,81,104,81],[100,82,104,82],[100,83,104,83],[100,71,104,71]]}
[null,"ENTER/REPLACE DATA IN GREEN CELLS ONLY!"]
[null,null,null,null,null,null,null,null,null,null,null,null,null,null,null,null,null,null,null,null,null,null,null,null,null,null,null,null,null,null,null,null,null,null," "]
[null,"CALCULATED CAFE, GHG, AND LABEL VALUES",null,null,null,null,null,null,"ENTER BASIC VEHICLE INFORMATION HERE",null,null,null,"Test Set #1",null,null,null,null,null,null,null,null,null,null,null,null,null,null,null,null,null,null,null,null,null,"Results from Test Set #1:",{"$f":"N6","v":"Normal Mode"},null,null,null,null,"INTERMEDIATE CALCULATIONS AND INPUTS",null,"Test Set #1:",{"$f":"N6","v":"Normal Mode"}]
[null,null,"CAFE Values",null,null,null,null,null,"Vehicle Information",null,null,null,null,null,null,null,null,null,null,null,null,null,null,null,null,null,null,null,null,null,null,null,null,null,"CAFE Values",null,null,null,null,null,"Charge-Depleting (CD) Test Results",null,null,null,null,null,null,"DETAILED CALCULATIONS",null,"UDDS",{"$f":"$AR3","v":"Normal Mode"},null,null,null,null,null,null,null,null,null,null,null,null,null,null,null,null,null,null,null,null,null,null,null,"DETAILED CALCULATIONS",null,"HFET",{"$f":"$AR3","v":"Normal Mode"}]
[null,"ü","A. PHEV meets dual fuel criteria:","City","Highway","Combined",null,null,"Model year:",2020,null,null,null,null,null,null,"ENTER CHARGE-DEPLETING UDDS (CITY) DATA HERE",null,null,null,null,null,null,null,"ENTER CHARGE-DEPLETING HFET (HIGHWAY) DATA HERE",null,null,null,null,null,null,null,null,null,"A. PHEV meets dual fuel criteria:","City","Highway","Combined",null,null,null,"DRIVING DISTANCE VALUES","CITY","HIGHWAY",null,null,null,"Cycle No.","Gasoline Consumed","CO2\n[0]","Net Amp-Hours Used Per Cycle [3]","DC Electricity Consumed\n[1]","AC Electricity Consumed\n[1]","Theoretical Cumulative Cycle Distance","Electric Only Fuel Consumption Rate","Total Fuel Consumption Rate (gas + electric)","55/45 City Fleet Utility Factor\n[3]","55/45 City FUF\nx\nCREE","55/45 City FUF\nx\nTotal Consumption","Total Fuel Consumption (gas + electric)","5-Cycle Adjustment","Adjusted Cycle Measured Distance","Adjusted Cycle Theoretical Cumulative Distance","MDIUF\n[3]","MDIUF\nx\nAdjusted CO2","MDIUF\nx\nAdjusted Total Fuel Consumption","43/57 City Fleet Utility Factor\n[3]","43/57 City FUF x\nAdjusted Total Fuel Consumption Rate","43/57 City FUF\nx\nAdjusted CREE","Is Cycle CD or CS based on NEC 1% Tolerance?","NEC Tolerance 1% Fuel Energy Criteria","Is Cycle CD or CS based on battery 2% Tolerance?","NEC Tolerance 2% Usable Battery Energy Criteria",null,"Cycle No.","Gasoline Consumed","CO2\n[0]","Net Amp-Hours Used Per Cycle [3]","DC Electricity Consumed\n[1]","AC Electricity Consumed\n[1]","Theoretical Cumulative Cycle Distance","Electric Only Fuel Consumption Rate","Total Fuel Consumption Rate (gas + electric)","55/45 Highway Fleet Utility Factor\n[3]","55/45 Highway FUF\nx\nCREE","55/45 Highway FUF\nx\nTotal Consumption","Total Fuel Consumption (gas + electric)","5-Cycle Adjustment","Adjusted Cycle Measured Distance","Adjusted Cycle Theoretical Cumulative Distance","MDIUF\n[3]","MDIUF\nx\nAdjusted CO2","MDIUF\nx\nAdjusted Total Fuel Consumption","43/57 Highway Fleet Utility Factor\n[3]","43/57 Highway FUF x\nAdjusted Total Fuel Consumption Rate","43/57 Highway FUF\nx\nAdjusted CREE","Is Cycle CD or CS based on NEC 1% Tolerance?","NEC Tolerance 1% Fuel Energy Criteria","Is Cycle CD or CS based on battery 2% Tolerance?","NEC Tolerance 2% Usable Battery Energy Criteria"]
[null,"→"," 1. Default 50/50 Composite MPGe",{"$f":"IF($N$7+$N$55+$N$103=0,    ((AJ6<>0)+(AJ54<>0)+(AJ102<>0))/(IFERROR(1/AJ6,0)+IFERROR(1/AJ54,0)+IFERROR(1/AJ102,0)),    ($N$7+$N$55+$N$103) / (IFERROR($N$7/AJ6,0)+IFERROR($N$55/AJ54,0)+IFERROR($N$103/AJ102,0))  )","v":66.061599999999999},{"$f":"IF($N$7+$N$55+$N$103=0,    ((AK6<>0)+(AK54<>0)+(AK102<>0))/(IFERROR(1/AK6,0)+IFERROR(1/AK54,0)+IFERROR(1/AK102,0)),    ($N$7+$N$55+$N$103) / (IFERROR($N$7/AK6,0)+IFERROR($N$55/AK54,0)+IFERROR($N$103/AK102,0))  )","v":81.866200000000006},{"$f":"astm(1/(0.55/D6+0.45/E6),4)","v":72.346699999999998},"←",null,"Vehicle category:","PV",null,null,"Test Set name (e.g., Eco, Power):","Normal Mode",null,null,"Cycle No.","Cycle/Phase Measured Distance","Integrated Amp-Hours Electricity Used","Average Cycle Voltage","Fuel Economy","CO2","CREE",null,"Cycle No.","Cycle/Phase Measured Distance","Integrated Amp-Hours Electricity Used","Average Cycle Voltage","Fuel Economy","CO2","CREE",null,null,null," 1. Default 50/50 Composite MPGe [4]",{"$f":"IFERROR(astm(1/(0.5/(  (  $J$18  )   /(AQ11/AQ37))+0.5/N11),4),0)","v":66.061599999999999},{"$f":"IFERROR(astm(1/(0.5/(  (  $J$18  )   /(AR11/AR37))+0.5/O11),4),0)","v":81.866200000000006},{"$f":"IFERROR(astm(1/(0.55/AJ6+0.45/AK6),4),0)","v":72.346699999999998},null,null,null,"CD driving distance (Rcda), unadjusted (miles) [3]",{"$f":"IFERROR(astm(SUMIF(Q11:Q45,\"<=\" & ($AQ34-1),R11:R45) + AQ33*VLOOKUP($AQ34,Q11:R45,2,FALSE),3),0)","v":28.259},{"$f":"IFERROR(astm(SUMIF(Y11:Y45,\"<=\" & ($AR34-1),Z11:Z45) + AR33*VLOOKUP($AR34,Y11:Z45,2,FALSE),3),0)","v":41.012}]
[null,"→"," 2. Optional Utility Factor Composite MPGe",{"$f":"IF($N$7+$N$55+$N$103=0,    ((AJ7<>0)+(AJ55<>0)+(AJ103<>0))/(IFERROR(1/AJ7,0)+IFERROR(1/AJ55,0)+IFERROR(1/AJ103,0)),    ($N$7+$N$55+$N$103) / (IFERROR($N$7/AJ7,0)+IFERROR($N$55/AJ55,0)+IFERROR($N$103/AJ103,0))  )","v":84.237300000000005},{"$f":"IF($N$7+$N$55+$N$103=0,    ((AK7<>0)+(AK55<>0)+(AK103<>0))/(IFERROR(1/AK7,0)+IFERROR(1/AK55,0)+IFERROR(1/AK103,0)),    ($N$7+$N$55+$N$103) / (IFERROR($N$7/AK7,0)+IFERROR($N$55/AK55,0)+IFERROR($N$103/AK103,0))  )","v":74.537300000000002},{"$f":"astm(1/(0.55/D7+0.45/E7),4)","v":79.577200000000005},"←",null,"Manufacturer name:","PHEVs-R-Us",null,null,"Production Volume (projected or actual):",null,null,null,null,null,null,null,null,null,null,null,null,null,null,null,null,null,null,null,null,null," 2. Optional Utility Factor Composite MPGe [4]",{"$f":"IFERROR(astm(1/(  AQ40 /   (  ( $J$18   )   /   (AQ11/AQ37))       +        (1-AQ40)/N11), 4),0)","v":84.237300000000005},{"$f":"IFERROR(astm(1/(  AR40 /   (  ( $J$18   )   /   (AR11/AR37))       +        (1-AR40)/O11), 4),0)","v":74.537300000000002},{"$f":"IFERROR(astm(1/(0.55/AJ7+0.45/AK7),4),0)","v":79.577200000000005},null,null,null,"CD driving distance (Rcda), adjusted (miles) [3]",{"$f":"IFERROR(astm(SUMIF(AV11:AV45,\"<\"&AQ34,BJ11:BJ45)+AQ33*SUMIF(AV11:AV45,\"=\"&AQ34,BJ11:BJ45),3),0)","v":19.780999999999999},{"$f":"IFERROR(astm(SUMIF(BW11:BW45,\"<\"&AR34,CK11:CK45)+AR33*SUMIF(BW11:BW45,\"=\"&AR34,CK11:CK45),3),0)","v":28.716000000000001}]
[null,"þ","B. PHEV does NOT meet dual fuel criteria:","City","Highway","Combined",null,null,"Model name:","PHEV1",null,null,null,null,null,null,null,null,null,null,null,null,null,null,null,null,null,null,null,null,null,null,null,null,"B. PHEV does NOT meet dual fuel criteria:","City","Highway","Combined",null,null,null,"CD all-electric driving distance, unadjusted (miles) [3]",{"$f":"  IF(ISNUMBER(W47), astm(W47,3), 0)","v":31.344999999999999},{"$f":" IF(ISNUMBER(AE47), astm(AE47,3), 0)","v":30.123000000000001}]
[null,"→","  1. Utility Factor Composity MPGe",{"$f":"IF($N$7+$N$55+$N$103=0,    ((AJ9<>0)+(AJ57<>0)+(AJ105<>0))/(IFERROR(1/AJ9,0)+IFERROR(1/AJ57,0)+IFERROR(1/AJ105,0)),    ($N$7+$N$55+$N$103) / (IFERROR($N$7/AJ9,0)+IFERROR($N$55/AJ57,0)+IFERROR($N$103/AJ105,0))  )","v":65.796400000000006},{"$f":"IF($N$7+$N$55+$N$103=0,    ((AK9<>0)+(AK57<>0)+(AK105<>0))/(IFERROR(1/AK9,0)+IFERROR(1/AK57,0)+IFERROR(1/AK105,0)),    ($N$7+$N$55+$N$103) / (IFERROR($N$7/AK9,0)+IFERROR($N$55/AK57,0)+IFERROR($N$103/AK105,0))  )","v":59.488999999999997},{"$f":"astm(1/(0.55/D9+0.45/E9),4)","v":62.8001},"←",null,"Liquid fuel type:","Regular Unleaded",null,null,"ENTER CHARGE-SUSTAINING TEST RESULTS HERE",null,null,null,null,null,null,null,null,null,null,null,null,null,null,null,null,null,null,null,null,null,"  1. Utility Factor Composite MPGe [4]",{"$f":"IFERROR(astm(1/ ( AQ15 + (1-AQ30)/N11),4),0)","v":65.796400000000006},{"$f":"IFERROR(astm(1/ ( AR15 + (1-AR30)/O11),4),0)","v":59.488999999999997},{"$f":"IFERROR(astm(1/(0.55/AJ9+0.45/AK9),4),0)","v":62.8001},null,null,null,"CD All-Electric Range, adjusted (mi) [3]",{"$f":"astm( 0.7*AQ8, 3)","v":21.942},{"$f":"astm( 0.7*AR8, 3)","v":21.085999999999999}]
[null,null,"Based on the all-electric range, is this PHEV a dual fuel vehicle for CAFE?",null,null,{"$f":"IF(    OR($J$6=\"LT\", AND($J$6=\"PV\",D12>=7.5,E12>=10.2) ), \"YES\", \"NO\")","v":"YES"},null,null,"Additional descriptors as needed:",null,null,null,null,"City","Highway",null,"No.","Miles [3]","Amp-hrs [3]","Volts [2]","MPG [1]","g/mi [0]","g/mi [0]",null,"No.","Miles [3]","Amp-hrs [3]","Volts [2]","MPG [1]","g/mi [0]","g/mi [0]",null,null,null,"GHG Values","City","Highway","Combined",null,null,null,"FUEL CONSUMPTION & ECONOMY VALUES","CITY","HIGHWAY",null,null,null,"No.","gal","grams","Amp-hours","W-hours","W-hours","mi","gal/mi equiv","gal/mi equiv","UF","UF","gal/mi equiv","gal-equiv","%","miles","miles","UF","g/mi","gal/mi equiv","UF","gal/mi equiv","g/mi","CD or CS",null,"CD or CS",null,null,"No.","gal","grams","Amp-hours","W-hours","W-hours","mi","gal/mi equiv","gal/mi equiv","UF","UF","gal/mi equiv","gal-equiv","%","miles","miles","UF","g/mi","gal-equiv","UF","gal-equiv","g/mi","CD or CS",null,"CD or CS"]
[null,null,null,"City","Highway","Combined",null,null,"Fuel tank size (U.S. gallons)",10.7,null,null,"Fuel Economy, Unadjusted (MPG):",38.1,46.3,null,1,7.4329999999999998,5.7512452514138683,385.7382838249336,0,0,0,null,1,10.252000000000001,9.6194160624263088,384.48266522891731,0,0,0,null," ",null,"Composite CREE, (g/mi) [1]",{"$f":"IFERROR(IF(OR(SUM(W11:W45)=0,N13=0,ISBLANK(N13), LOOKUP(2,1/(W11:W45<>\"\"),ROW(W11:W45)) < LOOKUP(2,1/(R11:R45<>\"\"),ROW(R11:R45))   ),\"ERROR\",astm(AQ27+(1-AQ30)*N13,1)),0)","v":83.7},{"$f":"IFERROR(IF(OR(SUM(AE11:AE45)=0,O13=0,ISBLANK(O13), LOOKUP(2,1/(AE11:AE45<>\"\"),ROW(AE11:AE45)) < LOOKUP(2,1/(Z11:Z45<>\"\"),ROW(Z11:Z40))   ),\"ERROR\",astm(AR27+(1-AR30)*O13,1)),0)","v":129.5},{"$f":"IFERROR(astm(0.55*AJ11+0.45*AK11,1),0)","v":104.3},null,null,"NEW","CD AC electricity consumption (Rcdc), unadjusted (Watt-hours) [1]",{"$f":"astm(SUMIF(AV11:AV45,\"<=\" & AQ34,BA11:BA45),1)","v":9339.5},{"$f":"astm(SUMIF(BW11:BW45,\"<=\" & AR34,CB11:CB45),1)","v":9529.1},null,null,null,1,{"$f":"IF(ISBLANK(R11),\"\", IF(astm(V11,0)=0, 0,         IFERROR(astm(R11,3)/astm(U11,1),0))  )","v":0},{"$f":"IF(ISBLANK(R11),\"\", IF(astm(V11,0)=0,0,               astm(  astm(V11,0)*astm(R11,3), 0)  ) )","v":0},{"$f":"IF( ISBLANK(S11),\"\",astm(S11,3))","v":5.7510000000000003},{"$f":"IF(ISBLANK(T11),\"\",astm(AY11*astm(T11,2),1))","v":2218.4},{"$f":"IFERROR(astm(  astm(W46,3)*1000*(AZ11/AQ13),1),\"\")","v":2515.4},{"$f":"IF(ISBLANK(R11),\"\",7.45)","v":7.45},{"$f":"IFERROR(BA11/($J$19*astm(R11,3)),\"\")","v":1.0040343989353899E-2},{"$f":"IFERROR(BC11+AW11/astm(R11,3),\"\")","v":1.0040343989353899E-2},{"$f":"astm(IFERROR(astm(cityfuf(BB11)-0,3),\"\"),3)","v":0.24299999999999999},{"$f":"IF(ISBLANK(R11),\"\",  IF(astm(V11,0)=0, 0, IFERROR(BE11*astm(W11,0),\"\")  )  )","v":0},{"$f":"IFERROR(BD11*BE11,\"\")","v":2.4398035894129975E-3},{"$f":"IFERROR(BD11*astm(R11,3),\"\")","v":7.4629876872867526E-2},{"$f":"  IF( $J$5>=2017,    IFERROR(MAX(1/(0.004091*(1/BD11)+1.1601),0.7),\"\"),    IFERROR(MAX(1/(0.003259*(1/BD11)+1.1805),0.7),\"\")  )","v":0.7},{"$f":"  IFERROR(BI11*astm(R11,3),\"\")","v":5.2030999999999992},{"$f":"  IFERROR(BI11*7.45,\"\")","v":5.2149999999999999},{"$f":"IFERROR(astm(mdiuf(BK11)-0,3),\"\")","v":0.155},{"$f":" IF(ISBLANK(R11),\"\",   IF( astm(V11,0)=0, 0,    IFERROR(BL11*astm(V11,0)/(BI11),\"\")  ) )","v":0},{"$f":"IFERROR(BL11*BD11/BI11,\"\")","v":2.2232190262140776E-3},{"$f":"IFERROR(astm(cityfufalt(BK11)-0,3),\"\")","v":0.19800000000000001},{"$f":"IFERROR(BO11*BD11/BI11,\"\")","v":2.8399830141315318E-3},{"$f":" IF(ISBLANK(R11),\"\",   IF( astm(V11,0)=0, 0,    IFERROR(BO11*astm(W11,0)/(BI11),\"\") ) )","v":0},{"$f":"IF(AZ11=\"\",\"\", IF(ABS(BS11)<0.01,\"CS based on 1% fuel energy\", \"CD\"))","v":"CD"},{"$f":"IF(AZ11=\"\",1, MIN(IFERROR((AZ11/1000)/((AW11*$J$22)*$J$21/3600),1),IFERROR((SUMIFS(AZ11:AZ45,AV11:AV45,\"<=\"&$AV11,AV11:AV45,\">=\"&$AV11-1)/1000)/(  $J$22*SUMIFS(AW11:AW45,AV11:AV45,\"<=\"&$AV11,AV11:AV45,\">=\"&$AV11-1)*$J$21/3600),1),IFERROR((SUMIFS(AZ11:AZ45,AV11:AV45,\"<=\"&$AV11,AV11:AV45,\">=\"&$AV11-2)/1000)/(  $J$22*SUMIFS(AW11:AW45,AV11:AV45,\"<=\"&$AV11,AV11:AV45,\">=\"&$AV11-2)*$J$21/3600),1),IFERROR((SUMIFS(AZ11:AZ45,AV11:AV45,\"<=\"&$AV11,AV11:AV45,\">=\"&$AV11-3)/1000)/(  $J$22*SUMIFS(AW11:AW45,AV11:AV45,\"<=\"&$AV11,AV11:AV45,\">=\"&$AV11-3)*$J$21/3600),1)) )","v":1},{"$f":"IF(AZ11=\"\",\"\", IF(ABS(BU11)<0.02,\"CS based on 2% battery energy\",\"CD\"))","v":"CD"},{"$f":"IF(AZ11=\"\",1, MIN($AZ11/SUM($AZ11:$AZ11),SUMIFS(AZ11:AZ45,AV11:AV45,\">=\"&$AV11-1,AV11:AV45,\"<=\"&$AV11)/SUM($AZ11:$AZ11),SUMIFS(AZ11:AZ45,AV11:AV45,\">=\"&$AV11-2,AV11:AV45,\"<=\"&$AV11)/SUM($AZ11:$AZ11),SUMIFS(AZ11:AZ45,AV11:AV45,\">=\"&$AV11-3,AV11:AV45,\"<=\"&$AV11)/SUM($AZ11:$AZ11)) )","v":1},null,1,{"$f":"IF(ISBLANK(Z11),\"\", IF(astm(AD11,0)=0, 0,         IFERROR(astm(Z11,3)/astm(AC11,1),0))  )","v":0},{"$f":"IF(ISBLANK(Z11),\"\", IF(astm(AD11,0)=0,0,               astm(AD11,0)*astm(Z11,3)) )","v":0},{"$f":"IF(ISBLANK(AA11),\"\",astm(AA11,3))","v":9.6189999999999998},{"$f":"IF(ISBLANK(AB11),\"\",astm(BZ11*astm(AB11,2),1))","v":3698.3},{"$f":"IFERROR( astm( astm($AE$46,3)*1000*(CA11/$AR$13),1),\"\")","v":2997},{"$f":"IF(ISBLANK(Z11),\"\",10.3)","v":10.3},{"$f":"IFERROR(CB11/($J$19*astm(Z11,3)),\"\")","v":8.6732889267885846E-3},{"$f":"IFERROR(CD11+BX11/astm(Z11,3),\"\")","v":8.6732889267885846E-3},{"$f":"IFERROR(astm(highwayfuf(CC11)-0,3),\"\")","v":0.123},{"$f":" IF(ISBLANK(Z11),\"\",   IF( astm(AD11,0)=0, 0,       IFERROR(CF11*astm(AE11,0),\"\")  ) )","v":0},{"$f":"IFERROR(CE11*CF11,\"\")","v":1.0668145379949959E-3},{"$f":"IFERROR(CE11*astm(Z11,3),\"\")","v":8.891855807743658E-2},{"$f":"  IF( $J$5>=2017,    IFERROR(MAX(1/(0.003191*(1/CE11)+1.2945),0.7),\"\"),   IFERROR(MAX(1/(0.001376*(1/CE11)+1.3466),0.7),\"\")  )","v":0.7},{"$f":"   IFERROR(CJ11*astm(Z11,3),\"\")","v":7.1764000000000001},{"$f":"     IFERROR(CJ11*10.3,\"\")","v":7.21},{"$f":"IFERROR(astm(mdiuf(CL11)-0,3),\"\")","v":0.20599999999999999},{"$f":" IF(ISBLANK(Z11),\"\",   IF( astm(AD11,0)=0, 0,    IFERROR(CM11*astm(AD11,0)/(CJ11),\"\") ) )","v":0},{"$f":"IFERROR(CM11*CE11/CJ11,\"\")","v":2.5524250270263552E-3},{"$f":"IFERROR(astm(highwayfufalt(CL11)-0,3),\"\")","v":9.7000000000000003E-2},{"$f":"IFERROR(CP11*CE11/CJ11,\"\")","v":1.2018700369978467E-3},{"$f":" IF(ISBLANK(Z11),\"\",   IF( astm(AD11,0)=0, 0,    IFERROR(CP11*astm(AE11,0)/(CJ11),\"\") ) )","v":0},{"$f":"IF($CA11=\"\",\"\", IF(ABS(CT11)<0.01,\"CS based on 1% fuel energy\",\"CD\"))","v":"CD"},{"$f":"IF(CA11=\"\",1, MIN(IFERROR((CA11/1000)/((BX11*$J$22)*$J$21/3600),1),IFERROR((SUMIFS(CA11:CA45,BW11:BW45,\"<=\"&$BW11,BW11:BW45,\">=\"&$BW11-1)/1000)/(  $J$22*SUMIFS(BX11:BX45,BW11:BW45,\"<=\"&$BW11,BW11:BW45,\">=\"&$BW11-1)*$J$21/3600),1),IFERROR((SUMIFS(CA11:CA45,BW11:BW45,\"<=\"&$BW11,BW11:BW45,\">=\"&$BW11-2)/1000)/(  $J$22*SUMIFS(BX11:BX45,BW11:BW45,\"<=\"&$BW11,BW11:BW45,\">=\"&$BW11-2)*$J$21/3600),1),IFERROR((SUMIFS(CA11:CA45,BW11:BW45,\"<=\"&$BW11,BW11:BW45,\">=\"&$BW11-3)/1000)/(  $J$22*SUMIFS(BX11:BX45,BW11:BW45,\"<=\"&$BW11,BW11:BW45,\">=\"&$BW11-3)*$J$21/3600),1)) )","v":1},{"$f":"IF($CA11=\"\",\"\", IF(ABS(CV11)<0.02,\"CS based on 2% battery energy\",\"CD\"))","v":"CD"},{"$f":"IF(CA11=\"\",1, MIN($CA11/SUM($CA11:$CA11),SUMIFS(CA11:CA45,BW11:BW45,\">=\"&$BW11-1,BW11:BW45,\"<=\"&$BW11)/SUM($CA11:$CA11),SUMIFS(CA11:CA45,BW11:BW45,\">=\"&$BW11-2,BW11:BW45,\"<=\"&$BW11)/SUM($CA11:$CA11),SUMIFS(CA11:CA45,BW11:BW45,\">=\"&$BW11-3,BW11:BW45,\"<=\"&$BW11)/SUM($CA11:$CA11)) )","v":1}]
[null,null,"All-Electric Range (miles, unadjusted)",{"$f":"IFERROR( astm( IF($N$7+$N$55+$N$103=0,SUM(IFERROR(AQ8,0),IFERROR(AQ56,0),IFERROR(AQ104,0)) / ((AQ8<>0)+(AQ56<>0)+(AQ104<>0)),($N$7*AQ8+$N$55*AQ56+$N$103*AQ104)/($N$7+$N$55+$N$103)),1),0)","v":31.3},{"$f":"IFERROR(  astm( IF($N$7+$N$55+$N$103=0,SUM(IFERROR(AR8,0),IFERROR(AR56,0),IFERROR(AR104,0)) / ((AR8<>0)+(AR56<>0)+(AR104<>0)),($N$7*AR8+$N$55*AR56+$N$103*AR104)/($N$7+$N$55+$N$103)),1),0)","v":30.1},{"$f":"0.55*D12+0.45*E12","v":30.760000000000005},null,null,"Deterioration Factors for GHG (CREE) Values (optional)","Yes",null,null,"Fuel Economy, Adjusted (MPG):",30.3323,34.4,null,2,7.4269999999999996,12.350760662688861,366.38971437734421,0,0,0,null,2,10.25,16.708853750215546,366.15900890305198,0,0,0,null,null,null,null,null,null,null,null,null,null,"CD AC electricity consumption rate (Rcda), adjusted  (kW-hr/100mi) [3]",{"$f":"IFERROR(astm( astm(W46,3)*100/AQ7,3),0)","v":50.372},{"$f":"IFERROR(astm( astm(AE46,3)*100/AR7,3),0)","v":33.316000000000003},null,null,null,2,0,0,{"$f":"IF(ISBLANK(S12),\"\",(astm(S12,3)-astm(S11,3)))","v":6.6000000000000005},{"$f":"IF(ISBLANK(T12),\"\",astm(AY12*astm(T12,2),1))","v":2418.1999999999998},{"$f":"IFERROR(astm(  astm($W$46,3)*1000*(AZ12/AQ13),1),\"\")","v":2742},{"$f":"IF(ISBLANK(R12),\"\",7.45+BB11)","v":14.9},1.095367106473338E-2,1.095367106473338E-2,{"$f":"IFERROR(astm(cityfuf(BB12),3)-astm(cityfuf(BB11),3),\"\")","v":0.183},0,{"$f":"IFERROR(BD12*BE12,\"\")","v":2.0045218048462083E-3},8.1352914997774806E-2,{"$f":"  IF( $J$5>=2017,    IFERROR(MAX(1/(0.004091*(1/BD12)+1.1601),0.7),\"\"),    IFERROR(MAX(1/(0.003259*(1/BD12)+1.1805),0.7),\"\")  )","v":0.7},5.1988999999999992,{"$f":" IFERROR(BI12*7.45+BK11,\"\")","v":10.43},{"$f":"IFERROR(astm(mdiuf(BK12),3)-astm(mdiuf(BK11),3),\"\")","v":0.12600000000000003},0,1.9716607916520088E-3,{"$f":"IFERROR(astm(cityfufalt(BK12),3)-astm(cityfufalt(BK11),3),\"\")","v":0.15899999999999997},2.4880481418465819E-3,0,"CD",{"$f":"IF(AZ12=\"\",1, MIN(IFERROR((AZ12/1000)/((AW12*$J$22)*$J$21/3600),1),IFERROR((SUMIFS(AZ11:AZ45,AV11:AV45,\"<=\"&$AV12,AV11:AV45,\">=\"&$AV12-1)/1000)/(  $J$22*SUMIFS(AW11:AW45,AV11:AV45,\"<=\"&$AV12,AV11:AV45,\">=\"&$AV12-1)*$J$21/3600),1),IFERROR((SUMIFS(AZ11:AZ45,AV11:AV45,\"<=\"&$AV12,AV11:AV45,\">=\"&$AV12-2)/1000)/(  $J$22*SUMIFS(AW11:AW45,AV11:AV45,\"<=\"&$AV12,AV11:AV45,\">=\"&$AV12-2)*$J$21/3600),1),IFERROR((SUMIFS(AZ11:AZ45,AV11:AV45,\"<=\"&$AV12,AV11:AV45,\">=\"&$AV12-3)/1000)/(  $J$22*SUMIFS(AW11:AW45,AV11:AV45,\"<=\"&$AV12,AV11:AV45,\">=\"&$AV12-3)*$J$21/3600),1)) )","v":1},"CD",{"$f":"IF(AZ12=\"\",1, MIN($AZ12/SUM($AZ11:$AZ12),SUMIFS(AZ11:AZ45,AV11:AV45,\">=\"&$AV12-1,AV11:AV45,\"<=\"&$AV12)/SUM($AZ11:$AZ12),SUMIFS(AZ11:AZ45,AV11:AV45,\">=\"&$AV12-2,AV11:AV45,\"<=\"&$AV12)/SUM($AZ11:$AZ12),SUMIFS(AZ11:AZ45,AV11:AV45,\">=\"&$AV12-3,AV11:AV45,\"<=\"&$AV12)/SUM($AZ11:$AZ12)) )","v":0.52154596040201862},null,2,0,0,{"$f":"IF(ISBLANK(AA12),\"\",(astm(AA12,3)-astm(AA11,3)))","v":7.09},2596.1,2103.8000000000002,{"$f":"IF(ISBLANK(Z12),\"\",10.3+CC11)","v":20.6},6.0895647674767805E-3,6.0895647674767805E-3,{"$f":"IFERROR(astm(highwayfuf(CC12)-highwayfuf(CC11),3),\"\")","v":0.11700000000000001},0,7.1247907779478333E-4,6.2418038866637E-2,0.7,7.1749999999999998,{"$f":"  IFERROR(CJ12*10.3+CL11,\"\")","v":14.42},{"$f":"IFERROR(astm(mdiuf(CL12)-mdiuf(CL11),3),\"\")","v":0.156},0,1.3571030053233968E-3,{"$f":"IFERROR(astm(highwayfufalt(CL12)-highwayfufalt(CL11),3),\"\")","v":9.4E-2},8.1774155448973915E-4,0,{"$f":"IF(CA12=\"\",\"\", IF(ABS(CT12)<0.01,\"CS based on 1% fuel energy\",\"CD\"))","v":"CD"},{"$f":"IF(CA12=\"\",1, MIN(IFERROR((CA12/1000)/((BX12*$J$22)*$J$21/3600),1),IFERROR((SUMIFS(CA11:CA45,BW11:BW45,\"<=\"&$BW12,BW11:BW45,\">=\"&$BW12-1)/1000)/(  $J$22*SUMIFS(BX11:BX45,BW11:BW45,\"<=\"&$BW12,BW11:BW45,\">=\"&$BW12-1)*$J$21/3600),1),IFERROR((SUMIFS(CA11:CA45,BW11:BW45,\"<=\"&$BW12,BW11:BW45,\">=\"&$BW12-2)/1000)/(  $J$22*SUMIFS(BX11:BX45,BW11:BW45,\"<=\"&$BW12,BW11:BW45,\">=\"&$BW12-2)*$J$21/3600),1),IFERROR((SUMIFS(CA11:CA45,BW11:BW45,\"<=\"&$BW12,BW11:BW45,\">=\"&$BW12-3)/1000)/(  $J$22*SUMIFS(BX11:BX45,BW11:BW45,\"<=\"&$BW12,BW11:BW45,\">=\"&$BW12-3)*$J$21/3600),1)) )","v":1},{"$f":"IF($CA12=\"\",\"\", IF(ABS(CV12)<0.02,\"CS based on 2% battery energy\",\"CD\"))","v":"CD"},{"$f":"IF(CA12=\"\",1, MIN($CA12/SUM($CA11:$CA12),SUMIFS(CA11:CA45,BW11:BW45,\">=\"&$BW12-1,BW11:BW45,\"<=\"&$BW12)/SUM($CA11:$CA12),SUMIFS(CA11:CA45,BW11:BW45,\">=\"&$BW12-2,BW11:BW45,\"<=\"&$BW12)/SUM($CA11:$CA12),SUMIFS(CA11:CA45,BW11:BW45,\">=\"&$BW12-3,BW11:BW45,\"<=\"&$BW12)/SUM($CA11:$CA12)) )","v":0.41244598373157093}]
[null,null,null,null,null,null,null,null,"Select the type of DF to apply:","None",null,null,"CREE (g/mi):",250.70486970256411,203.70759247435896,null,3,7.423,17.948647021956212,356.37032949562263,0,0,0,null,3,10.25,23.986999999999998,366.15900890305198,0,0,0,null,null,null,"Label Values (5-Cycle Adjusted)",null,null,null,null,null,null,"CD test total DC energy consumed, unadjusted (Watt-hours) [1]",{"$f":"astm(SUM(AZ11:AZ45),1)","v":8787.5},{"$f":"astm(SUM(CA11:CA45),1)","v":11805.7},null,null,null,3,0,0,5.5980000000000008,1995,{"$f":"IFERROR(astm(  astm($W$46,3)*1000*(AZ13/AQ13),1),\"\")","v":2262.1},22.35,9.0414483919893356E-3,9.0414483919893356E-3,{"$f":"IFERROR(astm(cityfuf(BB13),3)-astm(cityfuf(BB12),3),\"\")","v":0.13699999999999996},0,1.2386784297025385E-3,6.7114671413736837E-2,0.7,5.1960999999999995,{"$f":" IFERROR(BI13*7.45+BK12,\"\")","v":15.645},{"$f":"IFERROR(astm(mdiuf(BK13),3)-astm(mdiuf(BK12),3),\"\")","v":0.10299999999999998},0,1.330384549107002E-3,{"$f":"IFERROR(astm(cityfufalt(BK13),3)-astm(cityfufalt(BK12),3),\"\")","v":0.126},1.6274607105580805E-3,0,"CD",{"$f":"IF(AZ13=\"\",1, MIN(IFERROR((AZ13/1000)/((AW13*$J$22)*$J$21/3600),1),IFERROR((SUMIFS(AZ11:AZ45,AV11:AV45,\"<=\"&$AV13,AV11:AV45,\">=\"&$AV13-1)/1000)/(  $J$22*SUMIFS(AW11:AW45,AV11:AV45,\"<=\"&$AV13,AV11:AV45,\">=\"&$AV13-1)*$J$21/3600),1),IFERROR((SUMIFS(AZ11:AZ45,AV11:AV45,\"<=\"&$AV13,AV11:AV45,\">=\"&$AV13-2)/1000)/(  $J$22*SUMIFS(AW11:AW45,AV11:AV45,\"<=\"&$AV13,AV11:AV45,\">=\"&$AV13-2)*$J$21/3600),1),IFERROR((SUMIFS(AZ11:AZ45,AV11:AV45,\"<=\"&$AV13,AV11:AV45,\">=\"&$AV13-3)/1000)/(  $J$22*SUMIFS(AW11:AW45,AV11:AV45,\"<=\"&$AV13,AV11:AV45,\">=\"&$AV13-3)*$J$21/3600),1)) )","v":1},"CD",{"$f":"IF(AZ13=\"\",1, MIN($AZ13/SUM($AZ11:$AZ13),SUMIFS(AZ11:AZ45,AV11:AV45,\">=\"&$AV13-1,AV11:AV45,\"<=\"&$AV13)/SUM($AZ11:$AZ13),SUMIFS(AZ11:AZ45,AV11:AV45,\">=\"&$AV13-2,AV11:AV45,\"<=\"&$AV13)/SUM($AZ11:$AZ13),SUMIFS(AZ11:AZ45,AV11:AV45,\">=\"&$AV13-3,AV11:AV45,\"<=\"&$AV13)/SUM($AZ11:$AZ13)) )","v":0.30083237830991011},null,3,0,0,7.2779999999999987,2664.9,2159.6,30.900000000000002,6.251080935375442E-3,6.251080935375442E-3,{"$f":"IFERROR(astm(highwayfuf(CC13)-highwayfuf(CC12),3),\"\")","v":0.105},0,6.5636349821442141E-4,6.4073579587598281E-2,0.7,7.1749999999999998,{"$f":"  IFERROR(CJ13*10.3+CL12,\"\")","v":21.63},{"$f":"IFERROR(astm(mdiuf(CL13)-mdiuf(CL12),3),\"\")","v":0.11899999999999999},0,1.0626837590138251E-3,{"$f":"IFERROR(astm(highwayfufalt(CL13)-highwayfufalt(CL12),3),\"\")","v":8.6999999999999994E-2},7.7692005911094775E-4,0,"CD",{"$f":"IF(CA13=\"\",1, MIN(IFERROR((CA13/1000)/((BX13*$J$22)*$J$21/3600),1),IFERROR((SUMIFS(CA11:CA45,BW11:BW45,\"<=\"&$BW13,BW11:BW45,\">=\"&$BW13-1)/1000)/(  $J$22*SUMIFS(BX11:BX45,BW11:BW45,\"<=\"&$BW13,BW11:BW45,\">=\"&$BW13-1)*$J$21/3600),1),IFERROR((SUMIFS(CA11:CA45,BW11:BW45,\"<=\"&$BW13,BW11:BW45,\">=\"&$BW13-2)/1000)/(  $J$22*SUMIFS(BX11:BX45,BW11:BW45,\"<=\"&$BW13,BW11:BW45,\">=\"&$BW13-2)*$J$21/3600),1),IFERROR((SUMIFS(CA11:CA45,BW11:BW45,\"<=\"&$BW13,BW11:BW45,\">=\"&$BW13-3)/1000)/(  $J$22*SUMIFS(BX11:BX45,BW11:BW45,\"<=\"&$BW13,BW11:BW45,\">=\"&$BW13-3)*$J$21/3600),1)) )","v":1},"CD",{"$f":"IF(CA13=\"\",1, MIN($CA13/SUM($CA11:$CA13),SUMIFS(CA11:CA45,BW11:BW45,\">=\"&$BW13-1,BW11:BW45,\"<=\"&$BW13)/SUM($CA11:$CA13),SUMIFS(CA11:CA45,BW11:BW45,\">=\"&$BW13-2,BW11:BW45,\"<=\"&$BW13)/SUM($CA11:$CA13),SUMIFS(CA11:CA45,BW11:BW45,\">=\"&$BW13-3,BW11:BW45,\"<=\"&$BW13)/SUM($CA11:$CA13)) )","v":0.29744511289944531}]
[null,null,"GHG Values","City","Highway","Combined",null,null,"Enter a single DF for City and Highway:",null,null,null,"CO2, Unadjusted (g/mi):",233,192,null,4,7.423,22.452999999999999,356.37032949562263,0,0,0,null,4,10.26,31.978000000000002,350.3429070884996,57.108700100536581,162.98827507517333,161.32,null,null,null,"Charge-Depleting",null,null,"Combined",null,null,"NEW","CD Rcda total fuel consumption (Rcda), unadjusted (gal equiv) [4]",{"$f":"IFERROR(astm(SUMIF(AV11:AV45,\"<=\" & (AQ34-1),BH11:BH45) + AQ33*SUMIF(AV11:AV45,\"=\" & (AQ34-1),BH11:BH45),4),0)","v":0.27710000000000001},{"$f":"IFERROR(astm(SUMIF(BW11:BW45,\"<=\" & (AR34-1),CI11:CI45) + AR33*SUMIF(BW11:BW45,\"=\" & (AR34-1),CI11:CI45),4),0)","v":0.27950000000000003},null,null,null,4,{"$f":"IF(ISBLANK(R14),\"\", IF(astm(V14,0)=0, 0,         IFERROR(astm(R14,3)/astm(U14,1),0))  )","v":0},{"$f":"IF(ISBLANK(R14),\"\", IF(astm(V14,0)=0,0,               astm(  astm(V14,0)*astm(R14,3), 0)  ) )","v":0},{"$f":"IF(ISBLANK(S14),\"\",(astm(S14,3)-astm(S13,3)))","v":4.5039999999999978},{"$f":"IF(ISBLANK(T14),\"\",astm(AY14*astm(T14,2),1))","v":1605.1},{"$f":"IFERROR(astm(  astm($W$46,3)*1000*(AZ14/AQ13),1),\"\")","v":1820},{"$f":"IF(ISBLANK(R14),\"\",7.45+BB13)","v":29.8},{"$f":"IFERROR(BA14/($J$19*astm(R14,3)),\"\")","v":7.2744069994344152E-3},{"$f":"IFERROR(BC14+AW14/astm(R14,3),\"\")","v":7.2744069994344152E-3},{"$f":"IFERROR(astm(cityfuf(BB14),3)-astm(cityfuf(BB13),3),\"\")","v":0.10300000000000009},{"$f":"IF(ISBLANK(R14),\"\",  IF(astm(V14,0)=0, 0, IFERROR(BE14*astm(W14,0),\"\")  )  )","v":0},7.492639209417454E-4,{"$f":"IFERROR(BD14*astm(R14,3),\"\")","v":5.3997923156801665E-2},0.7,{"$f":"  IFERROR(BI14*astm(R14,3),\"\")","v":5.1960999999999995},20.86,{"$f":"IFERROR(astm(mdiuf(BK14),3)-astm(mdiuf(BK13),3),\"\")","v":8.5999999999999965E-2},{"$f":" IF(ISBLANK(R14),\"\",   IF( astm(V14,0)=0, 0,    IFERROR(BL14*astm(V14,0)/(BI14),\"\")  ) )","v":0},8.9371285993051358E-4,{"$f":"IFERROR(astm(cityfufalt(BK14),3)-astm(cityfufalt(BK13),3),\"\")","v":0.10099999999999998},1.0495930099183942E-3,{"$f":" IF(ISBLANK(R14),\"\",   IF( astm(V14,0)=0, 0,    IFERROR(BO14*astm(W14,0)/(BI14),\"\") ) )","v":0},"CD",{"$f":"IF(AZ14=\"\",1, MIN(IFERROR((AZ14/1000)/((AW14*$J$22)*$J$21/3600),1),IFERROR((SUMIFS(AZ11:AZ45,AV11:AV45,\"<=\"&$AV14,AV11:AV45,\">=\"&$AV14-1)/1000)/(  $J$22*SUMIFS(AW11:AW45,AV11:AV45,\"<=\"&$AV14,AV11:AV45,\">=\"&$AV14-1)*$J$21/3600),1),IFERROR((SUMIFS(AZ11:AZ45,AV11:AV45,\"<=\"&$AV14,AV11:AV45,\">=\"&$AV14-2)/1000)/(  $J$22*SUMIFS(AW11:AW45,AV11:AV45,\"<=\"&$AV14,AV11:AV45,\">=\"&$AV14-2)*$J$21/3600),1),IFERROR((SUMIFS(AZ11:AZ45,AV11:AV45,\"<=\"&$AV14,AV11:AV45,\">=\"&$AV14-3)/1000)/(  $J$22*SUMIFS(AW11:AW45,AV11:AV45,\"<=\"&$AV14,AV11:AV45,\">=\"&$AV14-3)*$J$21/3600),1)) )","v":1},"CD",{"$f":"IF(AZ14=\"\",1, MIN($AZ14/SUM($AZ11:$AZ14),SUMIFS(AZ11:AZ45,AV11:AV45,\">=\"&$AV14-1,AV11:AV45,\"<=\"&$AV14)/SUM($AZ11:$AZ14),SUMIFS(AZ11:AZ45,AV11:AV45,\">=\"&$AV14-2,AV11:AV45,\"<=\"&$AV14)/SUM($AZ11:$AZ14),SUMIFS(AZ11:AZ45,AV11:AV45,\">=\"&$AV14-3,AV11:AV45,\"<=\"&$AV14)/SUM($AZ11:$AZ14)) )","v":0.19487173261136131},null,4,0.17968476357267951,1672.3799999999999,7.9910000000000032,2799.6,2268.6999999999998,41.2,6.5604764189231583E-3,2.4073611270061513E-2,{"$f":"IFERROR(astm(highwayfuf(CC14)-highwayfuf(CC13),3),\"\")","v":9.1999999999999998E-2},14.811999999999999,2.2147722368456592E-3,0.24699525163083111,0.70074542125168315,7.1896480220422694,28.847677838892338,{"$f":"IFERROR(astm(mdiuf(CL14)-mdiuf(CL13),3),\"\")","v":9.1999999999999998E-2},21.400068477384977,3.1605946605967059E-3,{"$f":"IFERROR(astm(highwayfufalt(CL14)-highwayfufalt(CL13),3),\"\")","v":0.08},2.7483431831275703E-3,18.380426913091391,"CD",{"$f":"IF(CA14=\"\",1, MIN(IFERROR((CA14/1000)/((BX14*$J$22)*$J$21/3600),1),IFERROR((SUMIFS(CA11:CA45,BW11:BW45,\"<=\"&$BW14,BW11:BW45,\">=\"&$BW14-1)/1000)/(  $J$22*SUMIFS(BX11:BX45,BW11:BW45,\"<=\"&$BW14,BW11:BW45,\">=\"&$BW14-1)*$J$21/3600),1),IFERROR((SUMIFS(CA11:CA45,BW11:BW45,\"<=\"&$BW14,BW11:BW45,\">=\"&$BW14-2)/1000)/(  $J$22*SUMIFS(BX11:BX45,BW11:BW45,\"<=\"&$BW14,BW11:BW45,\">=\"&$BW14-2)*$J$21/3600),1),IFERROR((SUMIFS(CA11:CA45,BW11:BW45,\"<=\"&$BW14,BW11:BW45,\">=\"&$BW14-3)/1000)/(  $J$22*SUMIFS(BX11:BX45,BW11:BW45,\"<=\"&$BW14,BW11:BW45,\">=\"&$BW14-3)*$J$21/3600),1)) )","v":0.46481909569853391},"CD",{"$f":"IF(CA14=\"\",1, MIN($CA14/SUM($CA11:$CA14),SUMIFS(CA11:CA45,BW11:BW45,\">=\"&$BW14-1,BW11:BW45,\"<=\"&$BW14)/SUM($CA11:$CA14),SUMIFS(CA11:CA45,BW11:BW45,\">=\"&$BW14-2,BW11:BW45,\"<=\"&$BW14)/SUM($CA11:$CA14),SUMIFS(CA11:CA45,BW11:BW45,\">=\"&$BW14-3,BW11:BW45,\"<=\"&$BW14)/SUM($CA11:$CA14)) )","v":0.23808349420438987}]
[null,null,"Composite CREE, no DF (g/mi)",{"$f":"IF(OR(AND(J13<>\"None\",COUNT(J14:J16)=3),  AND(J13<>\"None\", ISNUMBER(J14), OR(ISNUMBER(J15),ISNUMBER(J16) ) ) ),\"DF ERROR\",    IF(OR(N13=0,O13=0,SUM(V11:V45)=0,SUM(AD11:AD45)=0),\"ERROR\", IF( OR( AJ11=\"ERROR\",  AJ59=\"ERROR\", AJ107=\"ERROR\"), \"CREE ERROR\",\n astm(IF($N$7+$N$55+$N$103=0,SUM(IFERROR(AJ11,0),IFERROR(AJ59,0),IFERROR(AJ107,0)) / ((AJ11<>0)+(AJ59<>0)+(AJ107<>0)),($N$7*AJ11+$N$55*AJ59+$N$103*AJ107)/($N$7+$N$55+$N$103)),1)\n )  )  )","v":83.7},{"$f":"IF(OR(AND(J13<>\"None\",COUNT(J14:J16)=3),  AND(J13<>\"None\", ISNUMBER(J14), OR(ISNUMBER(J15),ISNUMBER(J16) ) ) ),\"DF ERROR\",    IF(OR(N13=0,O13=0,SUM(W11:W45)=0,SUM(AE11:AE45)=0),\"ERROR\", IF( OR( AK11=\"ERROR\",  AK59=\"ERROR\", AK107=\"ERROR\"), \"CREE ERROR\",\n astm(IF($N$7+$N$55+$N$103=0,SUM(IFERROR(AK11,0),IFERROR(AK59,0),IFERROR(AK107,0)) / ((AK11<>0)+(AK59<>0)+(AK107<>0)),($N$7*AK11+$N$55*AK59+$N$103*AK107)/($N$7+$N$55+$N$103)),1)\n )  )  )","v":129.5},{"$f":"IF(OR(N13=0,O13=0,SUM(W11:W45)=0,SUM(AE11:AE45)=0),\"ERROR\", IFERROR(astm(0.55*D15+0.45*E15,1),\"CREE ERROR\")  )","v":104.3},null,null,"Enter a  City DF :",null,null,null,"CO2, Adjusted (g/mi):",293.10000000000002,258.3,null,5,7.423,23.998999999999999,356.37032949562263,100,89,90,null,5,10.262,32.110999999999997,351.64262860816928,46,197.39463463909041,195.46,null,null,null,"CD range, adjusted (miles) [0]",null,null,{"$f":"IFERROR(astm(0.55*AQ7+0.45*AR7,0),0)","v":24},null,null,null,"CD utilitized total fuel consumption rate (55/45 FUF, Rcdc), unadjusted (gal-equiv/mile) [6]",{"$f":" astm(SUMIF(AV11:AV45,\"<=\" & (AQ34),BG11:BG45)*1000000,0)/1000000","v":6.4320000000000002E-3},{"$f":" astm(SUMIF(BW11:BW45,\"<=\" & (AR34),CH11:CH45)*1000000,0)/1000000","v":4.6499999999999996E-3},null,null,null,5,{"$f":"IF(ISBLANK(R15),\"\", IF(astm(V15,0)=0, 0,         IFERROR(astm(R15,3)/astm(U15,1),0))  )","v":7.4230000000000004E-2},{"$f":"IF(ISBLANK(R15),\"\", IF(astm(V15,0)=0,0,               astm(  astm(V15,0)*astm(R15,3), 0)  ) )","v":661},{"$f":"IF(ISBLANK(S15),\"\",(astm(S15,3)-astm(S14,3)))","v":1.5459999999999994},{"$f":"IF(ISBLANK(T15),\"\",astm(AY15*astm(T15,2),1))","v":550.9},{"$f":"IFERROR(astm(  astm($W$46,3)*1000*(AZ15/AQ13),1),\"\")","v":624.70000000000005},{"$f":"IF(ISBLANK(R15),\"\",7.45+BB14)","v":37.25},{"$f":"IFERROR(BA15/($J$19*astm(R15,3)),\"\")","v":2.4968802486520216E-3},{"$f":"IFERROR(BC15+AW15/astm(R15,3),\"\")","v":1.2496880248652021E-2},{"$f":"IFERROR(astm(cityfuf(BB15),3)-astm(cityfuf(BB14),3),\"\")","v":7.5999999999999956E-2},{"$f":"IF(ISBLANK(R15),\"\",  IF(astm(V15,0)=0, 0, IFERROR(BE15*astm(W15,0),\"\")  )  )","v":6.8399999999999963},9.4976289889755301E-4,{"$f":"IFERROR(BD15*astm(R15,3),\"\")","v":9.2764342085743953E-2},0.7,{"$f":"  IFERROR(BI15*astm(R15,3),\"\")","v":5.1960999999999995},26.074999999999999,{"$f":"IFERROR(astm(mdiuf(BK15),3)-astm(mdiuf(BK14),3),\"\")","v":7.1000000000000063E-2},{"$f":" IF(ISBLANK(R15),\"\",   IF( astm(V15,0)=0, 0,    IFERROR(BL15*astm(V15,0)/(BI15),\"\")  ) )","v":9.0271428571428647},1.2675407109347062E-3,{"$f":"IFERROR(astm(cityfufalt(BK15),3)-astm(cityfufalt(BK14),3),\"\")","v":7.900000000000007E-2},1.4103621994907293E-3,{"$f":" IF(ISBLANK(R15),\"\",   IF( astm(V15,0)=0, 0,    IFERROR(BO15*astm(W15,0)/(BI15),\"\") ) )","v":10.157142857142867},"CD",{"$f":"IF(AZ15=\"\",1, MIN(IFERROR((AZ15/1000)/((AW15*$J$22)*$J$21/3600),1),IFERROR((SUMIFS(AZ11:AZ45,AV11:AV45,\"<=\"&$AV15,AV11:AV45,\">=\"&$AV15-1)/1000)/(  $J$22*SUMIFS(AW11:AW45,AV11:AV45,\"<=\"&$AV15,AV11:AV45,\">=\"&$AV15-1)*$J$21/3600),1),IFERROR((SUMIFS(AZ11:AZ45,AV11:AV45,\"<=\"&$AV15,AV11:AV45,\">=\"&$AV15-2)/1000)/(  $J$22*SUMIFS(AW11:AW45,AV11:AV45,\"<=\"&$AV15,AV11:AV45,\">=\"&$AV15-2)*$J$21/3600),1),IFERROR((SUMIFS(AZ11:AZ45,AV11:AV45,\"<=\"&$AV15,AV11:AV45,\">=\"&$AV15-3)/1000)/(  $J$22*SUMIFS(AW11:AW45,AV11:AV45,\"<=\"&$AV15,AV11:AV45,\">=\"&$AV15-3)*$J$21/3600),1)) )","v":0.22140760847633725},"CD",{"$f":"IF(AZ15=\"\",1, MIN($AZ15/SUM($AZ11:$AZ15),SUMIFS(AZ11:AZ45,AV11:AV45,\">=\"&$AV15-1,AV11:AV45,\"<=\"&$AV15)/SUM($AZ11:$AZ15),SUMIFS(AZ11:AZ45,AV11:AV45,\">=\"&$AV15-2,AV11:AV45,\"<=\"&$AV15)/SUM($AZ11:$AZ15),SUMIFS(AZ11:AZ45,AV11:AV45,\">=\"&$AV15-3,AV11:AV45,\"<=\"&$AV15)/SUM($AZ11:$AZ15)) )","v":6.269060949519778E-2},null,5,0.22308695652173913,2021.614,0.13299999999999557,46.8,37.9,51.5,1.0957535041488725E-4,2.1848705785197497E-2,{"$f":"IFERROR(astm(highwayfuf(CC15)-highwayfuf(CC14),3),\"\")","v":7.9000000000000001E-2},15.404999999999999,1.7260477570306024E-3,0.22421141876769674,0.7,7.1833999999999998,36.057677838892339,{"$f":"IFERROR(astm(mdiuf(CL15)-mdiuf(CL14),3),\"\")","v":7.1999999999999995E-2},20.262857142857143,2.2472954521917427E-3,{"$f":"IFERROR(astm(highwayfufalt(CL15)-highwayfufalt(CL14),3),\"\")","v":7.1999999999999995E-2},2.2472954521917427E-3,20.057142857142857,"CS based on 1% fuel energy",{"$f":"IF(CA15=\"\",1, MIN(IFERROR((CA15/1000)/((BX15*$J$22)*$J$21/3600),1),IFERROR((SUMIFS(CA11:CA45,BW11:BW45,\"<=\"&$BW15,BW11:BW45,\">=\"&$BW15-1)/1000)/(  $J$22*SUMIFS(BX11:BX45,BW11:BW45,\"<=\"&$BW15,BW11:BW45,\">=\"&$BW15-1)*$J$21/3600),1),IFERROR((SUMIFS(CA11:CA45,BW11:BW45,\"<=\"&$BW15,BW11:BW45,\">=\"&$BW15-2)/1000)/(  $J$22*SUMIFS(BX11:BX45,BW11:BW45,\"<=\"&$BW15,BW11:BW45,\">=\"&$BW15-2)*$J$21/3600),1),IFERROR((SUMIFS(CA11:CA45,BW11:BW45,\"<=\"&$BW15,BW11:BW45,\">=\"&$BW15-3)/1000)/(  $J$22*SUMIFS(BX11:BX45,BW11:BW45,\"<=\"&$BW15,BW11:BW45,\">=\"&$BW15-3)*$J$21/3600),1)) )","v":6.2585093236373754E-3},"CS based on 2% battery energy",{"$f":"IF(CA15=\"\",1, MIN($CA15/SUM($CA11:$CA15),SUMIFS(CA11:CA45,BW11:BW45,\">=\"&$BW15-1,BW11:BW45,\"<=\"&$BW15)/SUM($CA11:$CA15),SUMIFS(CA11:CA45,BW11:BW45,\">=\"&$BW15-2,BW11:BW45,\"<=\"&$BW15)/SUM($CA11:$CA15),SUMIFS(CA11:CA45,BW11:BW45,\">=\"&$BW15-3,BW11:BW45,\"<=\"&$BW15)/SUM($CA11:$CA15)) )","v":3.9641867911263205E-3}]
[null,null,"Composite CREE, with DF (g/mi)",{"$f":"IF(AND(ISNUMBER(J16),ISBLANK(J15)),\"DF ERROR\",        IFERROR(astm(IF(J13=\"None\",\"\", IF(J13=\"Additive\",D15+J14+J15,IF(J13=\"Multiplicative\",D15*(J14+J15),\"\"))),1),\"\")  )","v":""},{"$f":"IF(AND(ISNUMBER(J15),ISBLANK(J16)),\"DF ERROR\",   IFERROR(astm(IF(J13=\"None\",\"\",IF(J13=\"Additive\",E15+J14+J16,IF(J13=\"Multiplicative\",E15*(J14+J16),\"\"))),1),\"\") )","v":""},{"$f":"IFERROR(IF(OR(N13=0,O13=0,SUM(W11:W45)=0,SUM(AE11:AE45)=0),\"ERROR\", astm(0.55*D16+0.45*E16,1)  ),\"\")","v":""},null,null,"Enter a Highway DF:",null,null,null,null,null,null,null,6,7.4240000000000004,24.231000000000002,349.62021074582356,37.460777278500146,288.06260605849423,289.06260605849423,null,6,null,null,null,null,null,null,null,null,null,"CD All-Electric Range, adjusted (mi) [0]",null,null,{"$f":"IFERROR(astm(0.55*AQ9+0.45*AR9,0),0)","v":22},null,null,"NEW","CD utilitized total fuel consumption rate (43/57 FUF, Rcdc), adjusted (gal-equiv/mile) [6]",{"$f":" astm( 1000000*SUMIF(AV11:AV45,\"<=\" & (AQ34),BP11:BP45), 0) / 1000000","v":8.005E-3},{"$f":" astm( 1000000*SUMIF(BW11:BW45,\"<=\" & (AR34),CQ11:CQ45), 0) / 1000000","v":5.5449999999999996E-3},null,null,null,6,{"$f":"IF(ISBLANK(R16),\"\", IF(astm(V16,0)=0, 0,         IFERROR(astm(R16,3)/astm(U16,1),0))  )","v":0.19797333333333333},{"$f":"IF(ISBLANK(R16),\"\", IF(astm(V16,0)=0,0,               astm(  astm(V16,0)*astm(R16,3), 0)  ) )","v":2138},{"$f":"IF(ISBLANK(S16),\"\",(astm(S16,3)-astm(S15,3)))","v":0.23200000000000287},{"$f":"IF(ISBLANK(T16),\"\",astm(AY16*astm(T16,2),1))","v":81.099999999999994},{"$f":"IFERROR(astm(  astm($W$46,3)*1000*(AZ16/AQ13),1),\"\")","v":92},{"$f":"IF(ISBLANK(R16),\"\",7.45+BB15)","v":44.7},{"$f":"IFERROR(BA16/($J$19*astm(R16,3)),\"\")","v":3.676677460112845E-4},{"$f":"IFERROR(BC16+AW16/astm(R16,3),\"\")","v":2.7034334412677951E-2},{"$f":"IFERROR(astm(cityfuf(BB16),3)-astm(cityfuf(BB15),3),\"\")","v":5.8000000000000052E-2},{"$f":"IF(ISBLANK(R16),\"\",  IF(astm(V16,0)=0, 0, IFERROR(BE16*astm(W16,0),\"\")  )  )","v":16.762000000000015},1.5679913959353226E-3,{"$f":"IFERROR(BD16*astm(R16,3),\"\")","v":0.20070289867972113},0.76252867857238926,{"$f":"  IFERROR(BI16*astm(R16,3),\"\")","v":5.6610129097214186},31.7558386553643,{"$f":"IFERROR(astm(mdiuf(BK16),3)-astm(mdiuf(BK15),3),\"\")","v":6.2999999999999945E-2},{"$f":" IF(ISBLANK(R16),\"\",   IF( astm(V16,0)=0, 0,    IFERROR(BL16*astm(V16,0)/(BI16),\"\")  ) )","v":23.794514894796205},2.2335724751853026E-3,{"$f":"IFERROR(astm(cityfufalt(BK16),3)-astm(cityfufalt(BK15),3),\"\")","v":6.899999999999995E-2},2.4462936632981889E-3,{"$f":" IF(ISBLANK(R16),\"\",   IF( astm(V16,0)=0, 0,    IFERROR(BO16*astm(W16,0)/(BI16),\"\") ) )","v":26.151147570388623},"CD",{"$f":"IF(AZ16=\"\",1, MIN(IFERROR((AZ16/1000)/((AW16*$J$22)*$J$21/3600),1),IFERROR((SUMIFS(AZ11:AZ45,AV11:AV45,\"<=\"&$AV16,AV11:AV45,\">=\"&$AV16-1)/1000)/(  $J$22*SUMIFS(AW11:AW45,AV11:AV45,\"<=\"&$AV16,AV11:AV45,\">=\"&$AV16-1)*$J$21/3600),1),IFERROR((SUMIFS(AZ11:AZ45,AV11:AV45,\"<=\"&$AV16,AV11:AV45,\">=\"&$AV16-2)/1000)/(  $J$22*SUMIFS(AW11:AW45,AV11:AV45,\"<=\"&$AV16,AV11:AV45,\">=\"&$AV16-2)*$J$21/3600),1),IFERROR((SUMIFS(AZ11:AZ45,AV11:AV45,\"<=\"&$AV16,AV11:AV45,\">=\"&$AV16-3)/1000)/(  $J$22*SUMIFS(AW11:AW45,AV11:AV45,\"<=\"&$AV16,AV11:AV45,\">=\"&$AV16-3)*$J$21/3600),1)) )","v":1.2221186955914563E-2},"CS based on 2% battery energy",{"$f":"IF(AZ16=\"\",1, MIN($AZ16/SUM($AZ11:$AZ16),SUMIFS(AZ11:AZ45,AV11:AV45,\">=\"&$AV16-1,AV11:AV45,\"<=\"&$AV16)/SUM($AZ11:$AZ16),SUMIFS(AZ11:AZ45,AV11:AV45,\">=\"&$AV16-2,AV11:AV45,\"<=\"&$AV16)/SUM($AZ11:$AZ16),SUMIFS(AZ11:AZ45,AV11:AV45,\">=\"&$AV16-3,AV11:AV45,\"<=\"&$AV16)/SUM($AZ11:$AZ16)) )","v":9.1445194898914142E-3},null,6,"","","","","","","","",{"$f":"IFERROR(astm(highwayfuf(CC16)-highwayfuf(CC15),3),\"\")","v":""},"","","","","","",{"$f":"IFERROR(astm(mdiuf(CL16)-mdiuf(CL15),3),\"\")","v":""},"","",{"$f":"IFERROR(astm(highwayfufalt(CL16)-highwayfufalt(CL15),3),\"\")","v":""},"","","",{"$f":"IF(CA16=\"\",1, MIN(IFERROR((CA16/1000)/((BX16*$J$22)*$J$21/3600),1),IFERROR((SUMIFS(CA11:CA45,BW11:BW45,\"<=\"&$BW16,BW11:BW45,\">=\"&$BW16-1)/1000)/(  $J$22*SUMIFS(BX11:BX45,BW11:BW45,\"<=\"&$BW16,BW11:BW45,\">=\"&$BW16-1)*$J$21/3600),1),IFERROR((SUMIFS(CA11:CA45,BW11:BW45,\"<=\"&$BW16,BW11:BW45,\">=\"&$BW16-2)/1000)/(  $J$22*SUMIFS(BX11:BX45,BW11:BW45,\"<=\"&$BW16,BW11:BW45,\">=\"&$BW16-2)*$J$21/3600),1),IFERROR((SUMIFS(CA11:CA45,BW11:BW45,\"<=\"&$BW16,BW11:BW45,\">=\"&$BW16-3)/1000)/(  $J$22*SUMIFS(BX11:BX45,BW11:BW45,\"<=\"&$BW16,BW11:BW45,\">=\"&$BW16-3)*$J$21/3600),1)) )","v":1},"",{"$f":"IF(CA16=\"\",1, MIN($CA16/SUM($CA11:$CA16),SUMIFS(CA11:CA45,BW11:BW45,\">=\"&$BW16-1,BW11:BW45,\"<=\"&$BW16)/SUM($CA11:$CA16),SUMIFS(CA11:CA45,BW11:BW45,\">=\"&$BW16-2,BW11:BW45,\"<=\"&$BW16)/SUM($CA11:$CA16),SUMIFS(CA11:CA45,BW11:BW45,\">=\"&$BW16-3,BW11:BW45,\"<=\"&$BW16)/SUM($CA11:$CA16)) )","v":1}]
[null,null,"Label Values (5-Cycle Adjusted)",null,null,null,null,null,"Inputs & Conversions (most of these should not be changed)",null,null,null,null,null,null,null,7,7.4290000000000003,24,351.44836123504393,38.790945568178614,251.32965080892185,252.32965080892185,null,7,null,null,null,null,null,null,null,null,null,"Total Driving Range (Miles) [0]",null,null,{"$f":"IFERROR(astm(   IFERROR((astm(0.55*AQ38+0.45*AR38,0)+AL15),0) / 10,0) *10,0)","v":370},null,null,"NEW","CD utilitized total fuel consumption rate (MDIUF, Rcdc), adjusted (gal-equiv/mile) [6]",{"$f":" astm(SUMIF(AV11:AV45,\"<=\" & (AQ34),BN11:BN45)*1000000,0) / 1000000","v":6.4190000000000002E-3},{"$f":" astm(SUMIF(BW11:BW45,\"<=\" & (AR34),CO11:CO45)*1000000,0) / 1000000","v":8.1329999999999996E-3},null,null,null,7,0.19146907216494846,1865,{"$f":"IF(ISBLANK(S17),\"\",(astm(S17,3)-astm(S16,3)))","v":-0.23100000000000165},-81.2,{"$f":"IFERROR(astm(  astm($W$46,3)*1000*(AZ17/AQ13),1),\"\")","v":-92.1},52.150000000000006,-3.6781966149448719E-4,2.5405376214794172E-2,{"$f":"IFERROR(astm(cityfuf(BB17),3)-astm(cityfuf(BB16),3),\"\")","v":4.1999999999999926E-2},10.583999999999982,1.0670258010213533E-3,0.1887365398997059,0.75692840692738028,5.623221135063508,37.394955286973286,{"$f":"IFERROR(astm(mdiuf(BK17),3)-astm(mdiuf(BK16),3),\"\")","v":5.2000000000000046E-2},17.243374512765804,1.7453164012327027E-3,{"$f":"IFERROR(astm(cityfufalt(BK17),3)-astm(cityfufalt(BK16),3),\"\")","v":5.2000000000000046E-2},1.7453164012327027E-3,17.312073216003913,"CD",{"$f":"IF(AZ17=\"\",1, MIN(IFERROR((AZ17/1000)/((AW17*$J$22)*$J$21/3600),1),IFERROR((SUMIFS(AZ11:AZ45,AV11:AV45,\"<=\"&$AV17,AV11:AV45,\">=\"&$AV17-1)/1000)/(  $J$22*SUMIFS(AW11:AW45,AV11:AV45,\"<=\"&$AV17,AV11:AV45,\">=\"&$AV17-1)*$J$21/3600),1),IFERROR((SUMIFS(AZ11:AZ45,AV11:AV45,\"<=\"&$AV17,AV11:AV45,\">=\"&$AV17-2)/1000)/(  $J$22*SUMIFS(AW11:AW45,AV11:AV45,\"<=\"&$AV17,AV11:AV45,\">=\"&$AV17-2)*$J$21/3600),1),IFERROR((SUMIFS(AZ11:AZ45,AV11:AV45,\"<=\"&$AV17,AV11:AV45,\">=\"&$AV17-3)/1000)/(  $J$22*SUMIFS(AW11:AW45,AV11:AV45,\"<=\"&$AV17,AV11:AV45,\">=\"&$AV17-3)*$J$21/3600),1)) )","v":-1.2651925490460918E-2},"CS based on 2% battery energy",{"$f":"IF(AZ17=\"\",1, MIN($AZ17/SUM($AZ11:$AZ17),SUMIFS(AZ11:AZ45,AV11:AV45,\">=\"&$AV17-1,AV11:AV45,\"<=\"&$AV17)/SUM($AZ11:$AZ17),SUMIFS(AZ11:AZ45,AV11:AV45,\">=\"&$AV17-2,AV11:AV45,\"<=\"&$AV17)/SUM($AZ11:$AZ17),SUMIFS(AZ11:AZ45,AV11:AV45,\">=\"&$AV17-3,AV11:AV45,\"<=\"&$AV17)/SUM($AZ11:$AZ17)) )","v":-9.2403982930298716E-3},null,7,"","","","","","","","",{"$f":"IFERROR(astm(highwayfuf(CC17)-highwayfuf(CC16),3),\"\")","v":""},"","","","","","",{"$f":"IFERROR(astm(mdiuf(CL17)-mdiuf(CL16),3),\"\")","v":""},"","",{"$f":"IFERROR(astm(highwayfufalt(CL17)-highwayfufalt(CL16),3),\"\")","v":""},"","","",{"$f":"IF(CA17=\"\",1, MIN(IFERROR((CA17/1000)/((BX17*$J$22)*$J$21/3600),1),IFERROR((SUMIFS(CA11:CA45,BW11:BW45,\"<=\"&$BW17,BW11:BW45,\">=\"&$BW17-1)/1000)/(  $J$22*SUMIFS(BX11:BX45,BW11:BW45,\"<=\"&$BW17,BW11:BW45,\">=\"&$BW17-1)*$J$21/3600),1),IFERROR((SUMIFS(CA11:CA45,BW11:BW45,\"<=\"&$BW17,BW11:BW45,\">=\"&$BW17-2)/1000)/(  $J$22*SUMIFS(BX11:BX45,BW11:BW45,\"<=\"&$BW17,BW11:BW45,\">=\"&$BW17-2)*$J$21/3600),1),IFERROR((SUMIFS(CA11:CA45,BW11:BW45,\"<=\"&$BW17,BW11:BW45,\">=\"&$BW17-3)/1000)/(  $J$22*SUMIFS(BX11:BX45,BW11:BW45,\"<=\"&$BW17,BW11:BW45,\">=\"&$BW17-3)*$J$21/3600),1)) )","v":1},"",{"$f":"IF(CA17=\"\",1, MIN($CA17/SUM($CA11:$CA17),SUMIFS(CA11:CA45,BW11:BW45,\">=\"&$BW17-1,BW11:BW45,\"<=\"&$BW17)/SUM($CA11:$CA17),SUMIFS(CA11:CA45,BW11:BW45,\">=\"&$BW17-2,BW11:BW45,\"<=\"&$BW17)/SUM($CA11:$CA17),SUMIFS(CA11:CA45,BW11:BW45,\">=\"&$BW17-3,BW11:BW45,\"<=\"&$BW17)/SUM($CA11:$CA17)) )","v":1}]
[null,null,"Charge-Depleting","City","Highway","Combined",null,null,"DOE Petroleum Equivalence Factor (PEF):",82049,null,null,null,null,null,null,8,null,null,null,null,null,null,null,8,null,null,null,null,null,null,null,null,null,"CD Fuel Economy (MPGe) [0]",null,null,{"$f":" IFERROR(astm(1/(0.55/AQ19+0.45/AR19),0),0)","v":83},null,null,null,"CD gasoline consumption (Rcda), unadjusted (gal) [1]",{"$f":"IFERROR(SUMIF(AV11:AV45,\"<=\" & AQ34-1,AW11:AW45)+AQ33*SUMIF(AV11:AV45,\"=\" & AQ34-1,AW11:AW45),0)","v":0},{"$f":"IFERROR(SUMIF(BW11:BW45,\"<=\" & AR34-1,BX11:BX45)+AR33*SUMIF(BW11:BW45,\"=\" & AR34-1,BX11:BX45),0)","v":0},null,null,null,8,"","","","",{"$f":"IFERROR(astm(  astm($W$46,3)*1000*(AZ18/AQ13),1),\"\")","v":""},"","","",{"$f":"IFERROR(astm(cityfuf(BB18),3)-astm(cityfuf(BB17),3),\"\")","v":""},"","","","","","",{"$f":"IFERROR(astm(mdiuf(BK18),3)-astm(mdiuf(BK17),3),\"\")","v":""},"","",{"$f":"IFERROR(astm(cityfufalt(BK18),3)-astm(cityfufalt(BK17),3),\"\")","v":""},"","","",{"$f":"IF(AZ18=\"\",1, MIN(IFERROR((AZ18/1000)/((AW18*$J$22)*$J$21/3600),1),IFERROR((SUMIFS(AZ11:AZ45,AV11:AV45,\"<=\"&$AV18,AV11:AV45,\">=\"&$AV18-1)/1000)/(  $J$22*SUMIFS(AW11:AW45,AV11:AV45,\"<=\"&$AV18,AV11:AV45,\">=\"&$AV18-1)*$J$21/3600),1),IFERROR((SUMIFS(AZ11:AZ45,AV11:AV45,\"<=\"&$AV18,AV11:AV45,\">=\"&$AV18-2)/1000)/(  $J$22*SUMIFS(AW11:AW45,AV11:AV45,\"<=\"&$AV18,AV11:AV45,\">=\"&$AV18-2)*$J$21/3600),1),IFERROR((SUMIFS(AZ11:AZ45,AV11:AV45,\"<=\"&$AV18,AV11:AV45,\">=\"&$AV18-3)/1000)/(  $J$22*SUMIFS(AW11:AW45,AV11:AV45,\"<=\"&$AV18,AV11:AV45,\">=\"&$AV18-3)*$J$21/3600),1)) )","v":1},"",{"$f":"IF(AZ18=\"\",1, MIN($AZ18/SUM($AZ11:$AZ18),SUMIFS(AZ11:AZ45,AV11:AV45,\">=\"&$AV18-1,AV11:AV45,\"<=\"&$AV18)/SUM($AZ11:$AZ18),SUMIFS(AZ11:AZ45,AV11:AV45,\">=\"&$AV18-2,AV11:AV45,\"<=\"&$AV18)/SUM($AZ11:$AZ18),SUMIFS(AZ11:AZ45,AV11:AV45,\">=\"&$AV18-3,AV11:AV45,\"<=\"&$AV18)/SUM($AZ11:$AZ18)) )","v":1},null,8,"","","","","","","","",{"$f":"IFERROR(astm(highwayfuf(CC18)-highwayfuf(CC17),3),\"\")","v":""},"","","","","","",{"$f":"IFERROR(astm(mdiuf(CL18)-mdiuf(CL17),3),\"\")","v":""},"","",{"$f":"IFERROR(astm(highwayfufalt(CL18)-highwayfufalt(CL17),3),\"\")","v":""},"","","",{"$f":"IF(CA18=\"\",1, MIN(IFERROR((CA18/1000)/((BX18*$J$22)*$J$21/3600),1),IFERROR((SUMIFS(CA11:CA45,BW11:BW45,\"<=\"&$BW18,BW11:BW45,\">=\"&$BW18-1)/1000)/(  $J$22*SUMIFS(BX11:BX45,BW11:BW45,\"<=\"&$BW18,BW11:BW45,\">=\"&$BW18-1)*$J$21/3600),1),IFERROR((SUMIFS(CA11:CA45,BW11:BW45,\"<=\"&$BW18,BW11:BW45,\">=\"&$BW18-2)/1000)/(  $J$22*SUMIFS(BX11:BX45,BW11:BW45,\"<=\"&$BW18,BW11:BW45,\">=\"&$BW18-2)*$J$21/3600),1),IFERROR((SUMIFS(CA11:CA45,BW11:BW45,\"<=\"&$BW18,BW11:BW45,\">=\"&$BW18-3)/1000)/(  $J$22*SUMIFS(BX11:BX45,BW11:BW45,\"<=\"&$BW18,BW11:BW45,\">=\"&$BW18-3)*$J$21/3600),1)) )","v":1},"",{"$f":"IF(CA18=\"\",1, MIN($CA18/SUM($CA11:$CA18),SUMIFS(CA11:CA45,BW11:BW45,\">=\"&$BW18-1,BW11:BW45,\"<=\"&$BW18)/SUM($CA11:$CA18),SUMIFS(CA11:CA45,BW11:BW45,\">=\"&$BW18-2,BW11:BW45,\"<=\"&$BW18)/SUM($CA11:$CA18),SUMIFS(CA11:CA45,BW11:BW45,\">=\"&$BW18-3,BW11:BW45,\"<=\"&$BW18)/SUM($CA11:$CA18)) )","v":1}]
[null,null,"Charge-depleting Range (Miles)",{"$f":"IF($N$7+$N$55+$N$103=0,SUM(IFERROR(AQ7,0),IFERROR(AQ55,0),IFERROR(AQ103,0)) / ((AQ7<>0)+(AQ55<>0)+(AQ103<>0)),($N$7*AQ7+$N$55*AQ55+$N$103*AQ103)/($N$7+$N$55+$N$103))","v":19.780999999999999},{"$f":"IF($N$7+$N$55+$N$103=0,SUM(IFERROR(AR7,0),IFERROR(AR55,0),IFERROR(AR103,0)) / ((AR7<>0)+(AR55<>0)+(AR103<>0)),($N$7*AR7+$N$55*AR55+$N$103*AR103)/($N$7+$N$55+$N$103))","v":28.716000000000001},{"$f":"astm(0.55*D19+0.45*E19,0)","v":24},null,null,"Watt-hours of energy per gallon of gasoline:",33705,null,null,null,null,null,null,9,null,null,null,null,null,null,null,9,null,null,null,null,null,null,null,null,null,"CD Electricity Consumption  (kW-hr/100mi) [0]",null,null,{"$f":"IFERROR(astm(0.55*AQ12+0.45*AR12,0),0)","v":43},null,null,null,"CD fuel economy (Rcda), adjusted (MPGe) [4]",{"$f":"IFERROR(astm( AQ7/ ( SUMIF(AV11:AV45,\"<=\" & (AQ34-1),BH11:BH45) + AQ33*SUMIF(AV11:AV45,\"=\" & (AQ34-1),BH11:BH45) ),4),0)","v":71.379400000000004},{"$f":"IFERROR(astm( AR7/ ( SUMIF(BW11:BW45,\"<=\" & (AR34-1),CI11:CI45) + AR33*SUMIF(BW11:BW45,\"=\" & (AR34-1),CI11:CI45) ),4),0)","v":102.7466},null,null,null,9,"","","","",{"$f":"IFERROR(astm(  astm($W$46,3)*1000*(AZ19/AQ13),1),\"\")","v":""},"","","",{"$f":"IFERROR(astm(cityfuf(BB19),3)-astm(cityfuf(BB18),3),\"\")","v":""},"","","","","","",{"$f":"IFERROR(astm(mdiuf(BK19),3)-astm(mdiuf(BK18),3),\"\")","v":""},"","",{"$f":"IFERROR(astm(cityfufalt(BK19),3)-astm(cityfufalt(BK18),3),\"\")","v":""},"","","",{"$f":"IF(AZ19=\"\",1, MIN(IFERROR((AZ19/1000)/((AW19*$J$22)*$J$21/3600),1),IFERROR((SUMIFS(AZ11:AZ45,AV11:AV45,\"<=\"&$AV19,AV11:AV45,\">=\"&$AV19-1)/1000)/(  $J$22*SUMIFS(AW11:AW45,AV11:AV45,\"<=\"&$AV19,AV11:AV45,\">=\"&$AV19-1)*$J$21/3600),1),IFERROR((SUMIFS(AZ11:AZ45,AV11:AV45,\"<=\"&$AV19,AV11:AV45,\">=\"&$AV19-2)/1000)/(  $J$22*SUMIFS(AW11:AW45,AV11:AV45,\"<=\"&$AV19,AV11:AV45,\">=\"&$AV19-2)*$J$21/3600),1),IFERROR((SUMIFS(AZ11:AZ45,AV11:AV45,\"<=\"&$AV19,AV11:AV45,\">=\"&$AV19-3)/1000)/(  $J$22*SUMIFS(AW11:AW45,AV11:AV45,\"<=\"&$AV19,AV11:AV45,\">=\"&$AV19-3)*$J$21/3600),1)) )","v":1},"",{"$f":"IF(AZ19=\"\",1, MIN($AZ19/SUM($AZ11:$AZ19),SUMIFS(AZ11:AZ45,AV11:AV45,\">=\"&$AV19-1,AV11:AV45,\"<=\"&$AV19)/SUM($AZ11:$AZ19),SUMIFS(AZ11:AZ45,AV11:AV45,\">=\"&$AV19-2,AV11:AV45,\"<=\"&$AV19)/SUM($AZ11:$AZ19),SUMIFS(AZ11:AZ45,AV11:AV45,\">=\"&$AV19-3,AV11:AV45,\"<=\"&$AV19)/SUM($AZ11:$AZ19)) )","v":1},null,9,"","","","","","","","",{"$f":"IFERROR(astm(highwayfuf(CC19)-highwayfuf(CC18),3),\"\")","v":""},"","","","","","",{"$f":"IFERROR(astm(mdiuf(CL19)-mdiuf(CL18),3),\"\")","v":""},"","",{"$f":"IFERROR(astm(highwayfufalt(CL19)-highwayfufalt(CL18),3),\"\")","v":""},"","","",{"$f":"IF(CA19=\"\",1, MIN(IFERROR((CA19/1000)/((BX19*$J$22)*$J$21/3600),1),IFERROR((SUMIFS(CA11:CA45,BW11:BW45,\"<=\"&$BW19,BW11:BW45,\">=\"&$BW19-1)/1000)/(  $J$22*SUMIFS(BX11:BX45,BW11:BW45,\"<=\"&$BW19,BW11:BW45,\">=\"&$BW19-1)*$J$21/3600),1),IFERROR((SUMIFS(CA11:CA45,BW11:BW45,\"<=\"&$BW19,BW11:BW45,\">=\"&$BW19-2)/1000)/(  $J$22*SUMIFS(BX11:BX45,BW11:BW45,\"<=\"&$BW19,BW11:BW45,\">=\"&$BW19-2)*$J$21/3600),1),IFERROR((SUMIFS(CA11:CA45,BW11:BW45,\"<=\"&$BW19,BW11:BW45,\">=\"&$BW19-3)/1000)/(  $J$22*SUMIFS(BX11:BX45,BW11:BW45,\"<=\"&$BW19,BW11:BW45,\">=\"&$BW19-3)*$J$21/3600),1)) )","v":1},"",{"$f":"IF(CA19=\"\",1, MIN($CA19/SUM($CA11:$CA19),SUMIFS(CA11:CA45,BW11:BW45,\">=\"&$BW19-1,BW11:BW45,\"<=\"&$BW19)/SUM($CA11:$CA19),SUMIFS(CA11:CA45,BW11:BW45,\">=\"&$BW19-2,BW11:BW45,\"<=\"&$BW19)/SUM($CA11:$CA19),SUMIFS(CA11:CA45,BW11:BW45,\">=\"&$BW19-3,BW11:BW45,\"<=\"&$BW19)/SUM($CA11:$CA19)) )","v":1}]
[null,null," All-Electric Range (Miles)",{"$f":"IF($N$7+$N$55+$N$103=0,SUM(IFERROR(AQ9,0),IFERROR(AQ57,0),IFERROR(AQ105,0)) / ((AQ9<>0)+(AQ57<>0)+(AQ105<>0)),($N$7*AQ9+$N$55*AQ57+$N$103*AQ105)/($N$7+$N$55+$N$103))","v":21.942},{"$f":"IF($N$7+$N$55+$N$103=0,SUM(IFERROR(AR9,0),IFERROR(AR57,0),IFERROR(AR105,0)) / ((AR9<>0)+(AR57<>0)+(AR105<>0)),($N$7*AR9+$N$55*AR57+$N$103*AR105)/($N$7+$N$55+$N$103))","v":21.085999999999999},{"$f":"astm(0.55*D20+0.45*E20,0)","v":22},null,null,"Grams of CO2 per gallon of gasoline/diesel:",8887,null,null,null,null,null,null,10,null,null,null,null,null,null,null,10,null,null,null,null,null,null,null,null,null,"CD Gasoline Consumption (gal/100mi) [0]",null,null,{"$f":"IFERROR(astm(0.55*AQ20+0.45*AR20,1),0)","v":0},null,null,null,"CD gasoline consumption rate (Rcda), adjusted (gal/100mi) [4]",{"$f":"IFERROR(astm(100*(SUMIF(AV11:AV45,\"<=\" & AQ34-1,AW11:AW45)+AQ33*SUMIF(AV11:AV45,\"=\" & AQ34-1,AW11:AW45))/AQ7,4),0)","v":0},{"$f":"IFERROR(astm(100*(SUMIF(BW11:BW45,\"<=\" & AR34-1,BX11:BX45)+AR33*SUMIF(BW11:BW45,\"=\" & AR34-1,BX11:BX45))/AR7,4),0)","v":0},null,null,null,10,"","","","",{"$f":"IFERROR(astm(  astm($W$46,3)*1000*(AZ20/AQ13),1),\"\")","v":""},"","","",{"$f":"IFERROR(astm(cityfuf(BB20),3)-astm(cityfuf(BB19),3),\"\")","v":""},"","","","","","",{"$f":"IFERROR(astm(mdiuf(BK20),3)-astm(mdiuf(BK19),3),\"\")","v":""},"","",{"$f":"IFERROR(astm(cityfufalt(BK20),3)-astm(cityfufalt(BK19),3),\"\")","v":""},"","","",{"$f":"IF(AZ20=\"\",1, MIN(IFERROR((AZ20/1000)/((AW20*$J$22)*$J$21/3600),1),IFERROR((SUMIFS(AZ11:AZ45,AV11:AV45,\"<=\"&$AV20,AV11:AV45,\">=\"&$AV20-1)/1000)/(  $J$22*SUMIFS(AW11:AW45,AV11:AV45,\"<=\"&$AV20,AV11:AV45,\">=\"&$AV20-1)*$J$21/3600),1),IFERROR((SUMIFS(AZ11:AZ45,AV11:AV45,\"<=\"&$AV20,AV11:AV45,\">=\"&$AV20-2)/1000)/(  $J$22*SUMIFS(AW11:AW45,AV11:AV45,\"<=\"&$AV20,AV11:AV45,\">=\"&$AV20-2)*$J$21/3600),1),IFERROR((SUMIFS(AZ11:AZ45,AV11:AV45,\"<=\"&$AV20,AV11:AV45,\">=\"&$AV20-3)/1000)/(  $J$22*SUMIFS(AW11:AW45,AV11:AV45,\"<=\"&$AV20,AV11:AV45,\">=\"&$AV20-3)*$J$21/3600),1)) )","v":1},"",{"$f":"IF(AZ20=\"\",1, MIN($AZ20/SUM($AZ11:$AZ20),SUMIFS(AZ11:AZ45,AV11:AV45,\">=\"&$AV20-1,AV11:AV45,\"<=\"&$AV20)/SUM($AZ11:$AZ20),SUMIFS(AZ11:AZ45,AV11:AV45,\">=\"&$AV20-2,AV11:AV45,\"<=\"&$AV20)/SUM($AZ11:$AZ20),SUMIFS(AZ11:AZ45,AV11:AV45,\">=\"&$AV20-3,AV11:AV45,\"<=\"&$AV20)/SUM($AZ11:$AZ20)) )","v":1},null,10,"","","","","","","","",{"$f":"IFERROR(astm(highwayfuf(CC20)-highwayfuf(CC19),3),\"\")","v":""},"","","","","","",{"$f":"IFERROR(astm(mdiuf(CL20)-mdiuf(CL19),3),\"\")","v":""},"","",{"$f":"IFERROR(astm(highwayfufalt(CL20)-highwayfufalt(CL19),3),\"\")","v":""},"","","",{"$f":"IF(CA20=\"\",1, MIN(IFERROR((CA20/1000)/((BX20*$J$22)*$J$21/3600),1),IFERROR((SUMIFS(CA11:CA45,BW11:BW45,\"<=\"&$BW20,BW11:BW45,\">=\"&$BW20-1)/1000)/(  $J$22*SUMIFS(BX11:BX45,BW11:BW45,\"<=\"&$BW20,BW11:BW45,\">=\"&$BW20-1)*$J$21/3600),1),IFERROR((SUMIFS(CA11:CA45,BW11:BW45,\"<=\"&$BW20,BW11:BW45,\">=\"&$BW20-2)/1000)/(  $J$22*SUMIFS(BX11:BX45,BW11:BW45,\"<=\"&$BW20,BW11:BW45,\">=\"&$BW20-2)*$J$21/3600),1),IFERROR((SUMIFS(CA11:CA45,BW11:BW45,\"<=\"&$BW20,BW11:BW45,\">=\"&$BW20-3)/1000)/(  $J$22*SUMIFS(BX11:BX45,BW11:BW45,\"<=\"&$BW20,BW11:BW45,\">=\"&$BW20-3)*$J$21/3600),1)) )","v":1},"",{"$f":"IF(CA20=\"\",1, MIN($CA20/SUM($CA11:$CA20),SUMIFS(CA11:CA45,BW11:BW45,\">=\"&$BW20-1,BW11:BW45,\"<=\"&$BW20)/SUM($CA11:$CA20),SUMIFS(CA11:CA45,BW11:BW45,\">=\"&$BW20-2,BW11:BW45,\"<=\"&$BW20)/SUM($CA11:$CA20),SUMIFS(CA11:CA45,BW11:BW45,\">=\"&$BW20-3,BW11:BW45,\"<=\"&$BW20)/SUM($CA11:$CA20)) )","v":1}]
[null,null,"Total Driving Range (Miles)",null,null,{"$f":"astm(   ( IF($N$7+$N$55+$N$103=0,SUM(IFERROR(( IFERROR((astm(0.55*AQ38+0.45*AR38,0)+AL15),0)),0),IFERROR((IFERROR((astm(0.55*AQ86+0.45*AR86,0)+AL63),0)),0),IFERROR(( IFERROR((astm(0.55*AQ134+0.45*AR134,0)+AL111),0)),0)) / ((( IFERROR((astm(0.55*AQ38+0.45*AR38,0)+AL15),0))<>0)+((IFERROR((astm(0.55*AQ86+0.45*AR86,0)+AL63),0))<>0)+(( IFERROR((astm(0.55*AQ134+0.45*AR134,0)+AL111),0))<>0)),($N$7*( IFERROR((astm(0.55*AQ38+0.45*AR38,0)+AL15),0))+$N$55*(IFERROR((astm(0.55*AQ86+0.45*AR86,0)+AL63),0))+$N$103*( IFERROR((astm(0.55*AQ134+0.45*AR134,0)+AL111),0)))/($N$7+$N$55+$N$103)) ) / 10,0 ) * 10","v":370},null,null,"Fuel lower heating value (kJ/kg):",43020,null,null,null,null,null,null,11,null,null,null,null,null,null,null,11,null,null,null,null,null,null,null,null,null,"Charge-Sustaining",null,null,"Combined",null,null,"NEW","CD fuel economy (Rcda), unadjusted (MPGe) [4]",{"$f":"astm(IFERROR(AQ6/ ( SUMIF(AV11:AV45,\"<=\" & (AQ34-1),BH11:BH45) + AQ33*SUMIF(AV11:AV45,\"=\" & (AQ34-1),BH11:BH45) ),0),4)","v":101.9721},{"$f":"astm(IFERROR(AR6/ ( SUMIF(BW11:BW45,\"<=\" & (AR34-1),CI11:CI45) + AR33*SUMIF(BW11:BW45,\"=\" & (AR34-1),CI11:CI45) ),0),4)","v":146.74199999999999},null,null,null,11,"","","","",{"$f":"IFERROR(astm(  astm($W$46,3)*1000*(AZ21/AQ13),1),\"\")","v":""},"","","",{"$f":"IFERROR(astm(cityfuf(BB21),3)-astm(cityfuf(BB20),3),\"\")","v":""},"","","","","","",{"$f":"IFERROR(astm(mdiuf(BK21),3)-astm(mdiuf(BK20),3),\"\")","v":""},"","",{"$f":"IFERROR(astm(cityfufalt(BK21),3)-astm(cityfufalt(BK20),3),\"\")","v":""},"","","",{"$f":"IF(AZ21=\"\",1, MIN(IFERROR((AZ21/1000)/((AW21*$J$22)*$J$21/3600),1),IFERROR((SUMIFS(AZ11:AZ45,AV11:AV45,\"<=\"&$AV21,AV11:AV45,\">=\"&$AV21-1)/1000)/(  $J$22*SUMIFS(AW11:AW45,AV11:AV45,\"<=\"&$AV21,AV11:AV45,\">=\"&$AV21-1)*$J$21/3600),1),IFERROR((SUMIFS(AZ11:AZ45,AV11:AV45,\"<=\"&$AV21,AV11:AV45,\">=\"&$AV21-2)/1000)/(  $J$22*SUMIFS(AW11:AW45,AV11:AV45,\"<=\"&$AV21,AV11:AV45,\">=\"&$AV21-2)*$J$21/3600),1),IFERROR((SUMIFS(AZ11:AZ45,AV11:AV45,\"<=\"&$AV21,AV11:AV45,\">=\"&$AV21-3)/1000)/(  $J$22*SUMIFS(AW11:AW45,AV11:AV45,\"<=\"&$AV21,AV11:AV45,\">=\"&$AV21-3)*$J$21/3600),1)) )","v":1},"",{"$f":"IF(AZ21=\"\",1, MIN($AZ21/SUM($AZ11:$AZ21),SUMIFS(AZ11:AZ45,AV11:AV45,\">=\"&$AV21-1,AV11:AV45,\"<=\"&$AV21)/SUM($AZ11:$AZ21),SUMIFS(AZ11:AZ45,AV11:AV45,\">=\"&$AV21-2,AV11:AV45,\"<=\"&$AV21)/SUM($AZ11:$AZ21),SUMIFS(AZ11:AZ45,AV11:AV45,\">=\"&$AV21-3,AV11:AV45,\"<=\"&$AV21)/SUM($AZ11:$AZ21)) )","v":1},null,11,"","","","","","","","",{"$f":"IFERROR(astm(highwayfuf(CC21)-highwayfuf(CC20),3),\"\")","v":""},"","","","","","",{"$f":"IFERROR(astm(mdiuf(CL21)-mdiuf(CL20),3),\"\")","v":""},"","",{"$f":"IFERROR(astm(highwayfufalt(CL21)-highwayfufalt(CL20),3),\"\")","v":""},"","","",{"$f":"IF(CA21=\"\",1, MIN(IFERROR((CA21/1000)/((BX21*$J$22)*$J$21/3600),1),IFERROR((SUMIFS(CA11:CA45,BW11:BW45,\"<=\"&$BW21,BW11:BW45,\">=\"&$BW21-1)/1000)/(  $J$22*SUMIFS(BX11:BX45,BW11:BW45,\"<=\"&$BW21,BW11:BW45,\">=\"&$BW21-1)*$J$21/3600),1),IFERROR((SUMIFS(CA11:CA45,BW11:BW45,\"<=\"&$BW21,BW11:BW45,\">=\"&$BW21-2)/1000)/(  $J$22*SUMIFS(BX11:BX45,BW11:BW45,\"<=\"&$BW21,BW11:BW45,\">=\"&$BW21-2)*$J$21/3600),1),IFERROR((SUMIFS(CA11:CA45,BW11:BW45,\"<=\"&$BW21,BW11:BW45,\">=\"&$BW21-3)/1000)/(  $J$22*SUMIFS(BX11:BX45,BW11:BW45,\"<=\"&$BW21,BW11:BW45,\">=\"&$BW21-3)*$J$21/3600),1)) )","v":1},"",{"$f":"IF(CA21=\"\",1, MIN($CA21/SUM($CA11:$CA21),SUMIFS(CA11:CA45,BW11:BW45,\">=\"&$BW21-1,BW11:BW45,\"<=\"&$BW21)/SUM($CA11:$CA21),SUMIFS(CA11:CA45,BW11:BW45,\">=\"&$BW21-2,BW11:BW45,\"<=\"&$BW21)/SUM($CA11:$CA21),SUMIFS(CA11:CA45,BW11:BW45,\">=\"&$BW21-3,BW11:BW45,\"<=\"&$BW21)/SUM($CA11:$CA21)) )","v":1}]
[null,null,"CD Fuel Economy (MPGe)",{"$f":"astm(IF($N$7+$N$55+$N$103=0,    ((AQ19<>0)+(AQ67<>0)+(AQ115<>0))/(IFERROR(1/AQ19,0)+IFERROR(1/AQ67,0)+IFERROR(1/AQ115,0)),    ($N$7+$N$55+$N$103) / (IFERROR($N$7/AQ19,0)+IFERROR($N$55/AQ67,0)+IFERROR($N$103/AQ115,0))  ),4)","v":71.379400000000004},{"$f":"astm(IF($N$7+$N$55+$N$103=0,    ((AR19<>0)+(AR67<>0)+(AR115<>0))/(IFERROR(1/AR19,0)+IFERROR(1/AR67,0)+IFERROR(1/AR115,0)),    ($N$7+$N$55+$N$103) / (IFERROR($N$7/AR19,0)+IFERROR($N$55/AR67,0)+IFERROR($N$103/AR115,0))  ),4)","v":102.7466},{"$f":" astm(1/(0.55/D22+0.45/E22),0)","v":83},null,null,"Fuel density (kg/gal):",2.8050000000000002,null,null,null,null,null,null,12,null,null,null,null,null,null,null,12,null,null,null,null,null,null,null,null,null,"CS Fuel Economy (MPG) [0]",{"$f":"IFERROR(astm(N12,4),0)","v":30.3323},{"$f":"IFERROR(astm(O12,4),0)","v":34.4},{"$f":" IFERROR(astm(1/(0.55/AJ22+0.45/AK22),0),0)","v":32},null,null,"NEW","CD AC electricity consumption rate (Rcda), unadjusted  (kW-hr/100mi) [3]",{"$f":"astm(IFERROR((IFERROR( ( SUMIF(AV11:AV45,\"<=\" & (AQ34-1),BA11:BA45) + AQ33*SUMIF(AV11:AV45,\"=\" & (AQ34-1),BA11:BA45) ) / AQ6 *100 / 1000, 0)),0),3)","v":33.052999999999997},{"$f":"astm(IFERROR((IFERROR( ( SUMIF(BW11:BW45,\"<=\" & (AR34-1),CB11:CB45) + AR33*SUMIF(BW11:BW45,\"=\" & (AR34-1),CB11:CB45) ) / AR6 *100 / 1000, 0)),0),3)","v":22.969000000000001},null,null,null,12,"","","","",{"$f":"IFERROR(astm(  astm($W$46,3)*1000*(AZ22/AQ13),1),\"\")","v":""},"","","",{"$f":"IFERROR(astm(cityfuf(BB22),3)-astm(cityfuf(BB21),3),\"\")","v":""},"","","","","","",{"$f":"IFERROR(astm(mdiuf(BK22),3)-astm(mdiuf(BK21),3),\"\")","v":""},"","",{"$f":"IFERROR(astm(cityfufalt(BK22),3)-astm(cityfufalt(BK21),3),\"\")","v":""},"","","",{"$f":"IF(AZ22=\"\",1, MIN(IFERROR((AZ22/1000)/((AW22*$J$22)*$J$21/3600),1),IFERROR((SUMIFS(AZ11:AZ45,AV11:AV45,\"<=\"&$AV22,AV11:AV45,\">=\"&$AV22-1)/1000)/(  $J$22*SUMIFS(AW11:AW45,AV11:AV45,\"<=\"&$AV22,AV11:AV45,\">=\"&$AV22-1)*$J$21/3600),1),IFERROR((SUMIFS(AZ11:AZ45,AV11:AV45,\"<=\"&$AV22,AV11:AV45,\">=\"&$AV22-2)/1000)/(  $J$22*SUMIFS(AW11:AW45,AV11:AV45,\"<=\"&$AV22,AV11:AV45,\">=\"&$AV22-2)*$J$21/3600),1),IFERROR((SUMIFS(AZ11:AZ45,AV11:AV45,\"<=\"&$AV22,AV11:AV45,\">=\"&$AV22-3)/1000)/(  $J$22*SUMIFS(AW11:AW45,AV11:AV45,\"<=\"&$AV22,AV11:AV45,\">=\"&$AV22-3)*$J$21/3600),1)) )","v":1},"",{"$f":"IF(AZ22=\"\",1, MIN($AZ22/SUM($AZ11:$AZ22),SUMIFS(AZ11:AZ45,AV11:AV45,\">=\"&$AV22-1,AV11:AV45,\"<=\"&$AV22)/SUM($AZ11:$AZ22),SUMIFS(AZ11:AZ45,AV11:AV45,\">=\"&$AV22-2,AV11:AV45,\"<=\"&$AV22)/SUM($AZ11:$AZ22),SUMIFS(AZ11:AZ45,AV11:AV45,\">=\"&$AV22-3,AV11:AV45,\"<=\"&$AV22)/SUM($AZ11:$AZ22)) )","v":1},null,12,"","","","","","","","",{"$f":"IFERROR(astm(highwayfuf(CC22)-highwayfuf(CC21),3),\"\")","v":""},"","","","","","",{"$f":"IFERROR(astm(mdiuf(CL22)-mdiuf(CL21),3),\"\")","v":""},"","",{"$f":"IFERROR(astm(highwayfufalt(CL22)-highwayfufalt(CL21),3),\"\")","v":""},"","","",{"$f":"IF(CA22=\"\",1, MIN(IFERROR((CA22/1000)/((BX22*$J$22)*$J$21/3600),1),IFERROR((SUMIFS(CA11:CA45,BW11:BW45,\"<=\"&$BW22,BW11:BW45,\">=\"&$BW22-1)/1000)/(  $J$22*SUMIFS(BX11:BX45,BW11:BW45,\"<=\"&$BW22,BW11:BW45,\">=\"&$BW22-1)*$J$21/3600),1),IFERROR((SUMIFS(CA11:CA45,BW11:BW45,\"<=\"&$BW22,BW11:BW45,\">=\"&$BW22-2)/1000)/(  $J$22*SUMIFS(BX11:BX45,BW11:BW45,\"<=\"&$BW22,BW11:BW45,\">=\"&$BW22-2)*$J$21/3600),1),IFERROR((SUMIFS(CA11:CA45,BW11:BW45,\"<=\"&$BW22,BW11:BW45,\">=\"&$BW22-3)/1000)/(  $J$22*SUMIFS(BX11:BX45,BW11:BW45,\"<=\"&$BW22,BW11:BW45,\">=\"&$BW22-3)*$J$21/3600),1)) )","v":1},"",{"$f":"IF(CA22=\"\",1, MIN($CA22/SUM($CA11:$CA22),SUMIFS(CA11:CA45,BW11:BW45,\">=\"&$BW22-1,BW11:BW45,\"<=\"&$BW22)/SUM($CA11:$CA22),SUMIFS(CA11:CA45,BW11:BW45,\">=\"&$BW22-2,BW11:BW45,\"<=\"&$BW22)/SUM($CA11:$CA22),SUMIFS(CA11:CA45,BW11:BW45,\">=\"&$BW22-3,BW11:BW45,\"<=\"&$BW22)/SUM($CA11:$CA22)) )","v":1}]
[null,null,"CD Electricity Consumption  (kW-hr/100mi)",{"$f":"astm( IF($N$7+$N$55+$N$103=0,SUM(IFERROR(AQ12,0),IFERROR(AQ60,0),IFERROR(AQ108,0)) / ((AQ12<>0)+(AQ60<>0)+(AQ108<>0)),($N$7*AQ12+$N$55*AQ60+$N$103*AQ108)/($N$7+$N$55+$N$103)),4)","v":50.372},{"$f":"astm( IF($N$7+$N$55+$N$103=0,SUM(IFERROR(AR12,0),IFERROR(AR60,0),IFERROR(AR108,0)) / ((AR12<>0)+(AR60<>0)+(AR108<>0)),($N$7*AR12+$N$55*AR60+$N$103*AR108)/($N$7+$N$55+$N$103)),4)","v":33.316000000000003},{"$f":"astm(0.55*D23+0.45*E23,4)","v":42.696800000000003},null,null,null,null,null,null,null,null,null,null,13,null,null,null,null,null,null,null,13,null,null,null,null,null,null,null,null,null,"CS Fuel Consumption (gal/100mi) [1]",{"$f":"IFERROR(astm(100/AJ22,1),0)","v":3.3},{"$f":"IFERROR(astm(100/AK22,1),0)","v":2.9},{"$f":"IFERROR(astm(100/AL22,1),0)","v":3.1},null,null,null,"GHG EMISSIONS VALUES","CITY","HIGHWAY",null,null,null,13,"","","","",{"$f":"IFERROR(astm(  astm($W$46,3)*1000*(AZ23/AQ13),1),\"\")","v":""},"","","",{"$f":"IFERROR(astm(cityfuf(BB23),3)-astm(cityfuf(BB22),3),\"\")","v":""},"","","","","","",{"$f":"IFERROR(astm(mdiuf(BK23),3)-astm(mdiuf(BK22),3),\"\")","v":""},"","",{"$f":"IFERROR(astm(cityfufalt(BK23),3)-astm(cityfufalt(BK22),3),\"\")","v":""},"","","",{"$f":"IF(AZ23=\"\",1, MIN(IFERROR((AZ23/1000)/((AW23*$J$22)*$J$21/3600),1),IFERROR((SUMIFS(AZ11:AZ45,AV11:AV45,\"<=\"&$AV23,AV11:AV45,\">=\"&$AV23-1)/1000)/(  $J$22*SUMIFS(AW11:AW45,AV11:AV45,\"<=\"&$AV23,AV11:AV45,\">=\"&$AV23-1)*$J$21/3600),1),IFERROR((SUMIFS(AZ11:AZ45,AV11:AV45,\"<=\"&$AV23,AV11:AV45,\">=\"&$AV23-2)/1000)/(  $J$22*SUMIFS(AW11:AW45,AV11:AV45,\"<=\"&$AV23,AV11:AV45,\">=\"&$AV23-2)*$J$21/3600),1),IFERROR((SUMIFS(AZ11:AZ45,AV11:AV45,\"<=\"&$AV23,AV11:AV45,\">=\"&$AV23-3)/1000)/(  $J$22*SUMIFS(AW11:AW45,AV11:AV45,\"<=\"&$AV23,AV11:AV45,\">=\"&$AV23-3)*$J$21/3600),1)) )","v":1},"",{"$f":"IF(AZ23=\"\",1, MIN($AZ23/SUM($AZ11:$AZ23),SUMIFS(AZ11:AZ45,AV11:AV45,\">=\"&$AV23-1,AV11:AV45,\"<=\"&$AV23)/SUM($AZ11:$AZ23),SUMIFS(AZ11:AZ45,AV11:AV45,\">=\"&$AV23-2,AV11:AV45,\"<=\"&$AV23)/SUM($AZ11:$AZ23),SUMIFS(AZ11:AZ45,AV11:AV45,\">=\"&$AV23-3,AV11:AV45,\"<=\"&$AV23)/SUM($AZ11:$AZ23)) )","v":1},null,13,"","","","","","","","",{"$f":"IFERROR(astm(highwayfuf(CC23)-highwayfuf(CC22),3),\"\")","v":""},"","","","","","",{"$f":"IFERROR(astm(mdiuf(CL23)-mdiuf(CL22),3),\"\")","v":""},"","",{"$f":"IFERROR(astm(highwayfufalt(CL23)-highwayfufalt(CL22),3),\"\")","v":""},"","","",{"$f":"IF(CA23=\"\",1, MIN(IFERROR((CA23/1000)/((BX23*$J$22)*$J$21/3600),1),IFERROR((SUMIFS(CA11:CA45,BW11:BW45,\"<=\"&$BW23,BW11:BW45,\">=\"&$BW23-1)/1000)/(  $J$22*SUMIFS(BX11:BX45,BW11:BW45,\"<=\"&$BW23,BW11:BW45,\">=\"&$BW23-1)*$J$21/3600),1),IFERROR((SUMIFS(CA11:CA45,BW11:BW45,\"<=\"&$BW23,BW11:BW45,\">=\"&$BW23-2)/1000)/(  $J$22*SUMIFS(BX11:BX45,BW11:BW45,\"<=\"&$BW23,BW11:BW45,\">=\"&$BW23-2)*$J$21/3600),1),IFERROR((SUMIFS(CA11:CA45,BW11:BW45,\"<=\"&$BW23,BW11:BW45,\">=\"&$BW23-3)/1000)/(  $J$22*SUMIFS(BX11:BX45,BW11:BW45,\"<=\"&$BW23,BW11:BW45,\">=\"&$BW23-3)*$J$21/3600),1)) )","v":1},"",{"$f":"IF(CA23=\"\",1, MIN($CA23/SUM($CA11:$CA23),SUMIFS(CA11:CA45,BW11:BW45,\">=\"&$BW23-1,BW11:BW45,\"<=\"&$BW23)/SUM($CA11:$CA23),SUMIFS(CA11:CA45,BW11:BW45,\">=\"&$BW23-2,BW11:BW45,\"<=\"&$BW23)/SUM($CA11:$CA23),SUMIFS(CA11:CA45,BW11:BW45,\">=\"&$BW23-3,BW11:BW45,\"<=\"&$BW23)/SUM($CA11:$CA23)) )","v":1}]
[null,null,"CD Gasoline Consumption (gal/100mi)",{"$f":"IF($N$7+$N$55+$N$103=0,SUM(IFERROR(AQ20,0),IFERROR(AQ68,0),IFERROR(AQ116,0)) / ((AQ7<>0)+(AQ55<>0)+(AQ103<>0)),      ($N$7*AQ20+$N$55*AQ68+$N$103*AQ116)/($N$7+$N$55+$N$103))","v":0},{"$f":"IF($N$7+$N$55+$N$103=0,SUM(IFERROR(AR20,0),IFERROR(AR68,0),IFERROR(AR116,0)) / ((AR7<>0)+(AR55<>0)+(AR103<>0)),      ($N$7*AR20+$N$55*AR68+$N$103*AR116)/($N$7+$N$55+$N$103))","v":0},{"$f":"astm(0.55*D24+0.45*E24,1)","v":0},null,null,"ERROR AND VALIDATION MESSAGES",null,null,null,null,null,null,null,14,null,null,null,null,null,null,null,14,null,null,null,null,null,null,null,null,null,"Composite CD/CS",null,null,"Combined",null,null,null,"CD CO2 emissions rate (Rcda), unadjusted (g/mi) [1]",{"$f":"IFERROR(astm((SUMIF(AV11:AV45,\"<=\" & AQ34-1,AX11:AX45)+AQ33*SUMIF(AV11:AV45,\"=\" & AQ34-1,AX11:AX45))/AQ6,1),0)","v":0},{"$f":"IFERROR(astm((SUMIF(BW11:BW45,\"<=\" & AR34-1,BY11:BY45)+AR33*SUMIF(BW11:BW45,\"=\" & AR34-1,BY11:BY45))/AR6,1),0)","v":0},null,null,null,14,"","","","",{"$f":"IFERROR(astm(  astm($W$46,3)*1000*(AZ24/AQ13),1),\"\")","v":""},"","","",{"$f":"IFERROR(astm(cityfuf(BB24),3)-astm(cityfuf(BB23),3),\"\")","v":""},"","","","","","",{"$f":"IFERROR(astm(mdiuf(BK24),3)-astm(mdiuf(BK23),3),\"\")","v":""},"","",{"$f":"IFERROR(astm(cityfufalt(BK24),3)-astm(cityfufalt(BK23),3),\"\")","v":""},"","","",{"$f":"IF(AZ24=\"\",1, MIN(IFERROR((AZ24/1000)/((AW24*$J$22)*$J$21/3600),1),IFERROR((SUMIFS(AZ11:AZ45,AV11:AV45,\"<=\"&$AV24,AV11:AV45,\">=\"&$AV24-1)/1000)/(  $J$22*SUMIFS(AW11:AW45,AV11:AV45,\"<=\"&$AV24,AV11:AV45,\">=\"&$AV24-1)*$J$21/3600),1),IFERROR((SUMIFS(AZ11:AZ45,AV11:AV45,\"<=\"&$AV24,AV11:AV45,\">=\"&$AV24-2)/1000)/(  $J$22*SUMIFS(AW11:AW45,AV11:AV45,\"<=\"&$AV24,AV11:AV45,\">=\"&$AV24-2)*$J$21/3600),1),IFERROR((SUMIFS(AZ11:AZ45,AV11:AV45,\"<=\"&$AV24,AV11:AV45,\">=\"&$AV24-3)/1000)/(  $J$22*SUMIFS(AW11:AW45,AV11:AV45,\"<=\"&$AV24,AV11:AV45,\">=\"&$AV24-3)*$J$21/3600),1)) )","v":1},"",{"$f":"IF(AZ24=\"\",1, MIN($AZ24/SUM($AZ11:$AZ24),SUMIFS(AZ11:AZ45,AV11:AV45,\">=\"&$AV24-1,AV11:AV45,\"<=\"&$AV24)/SUM($AZ11:$AZ24),SUMIFS(AZ11:AZ45,AV11:AV45,\">=\"&$AV24-2,AV11:AV45,\"<=\"&$AV24)/SUM($AZ11:$AZ24),SUMIFS(AZ11:AZ45,AV11:AV45,\">=\"&$AV24-3,AV11:AV45,\"<=\"&$AV24)/SUM($AZ11:$AZ24)) )","v":1},null,14,"","","","","","","","",{"$f":"IFERROR(astm(highwayfuf(CC24)-highwayfuf(CC23),3),\"\")","v":""},"","","","","","",{"$f":"IFERROR(astm(mdiuf(CL24)-mdiuf(CL23),3),\"\")","v":""},"","",{"$f":"IFERROR(astm(highwayfufalt(CL24)-highwayfufalt(CL23),3),\"\")","v":""},"","","",{"$f":"IF(CA24=\"\",1, MIN(IFERROR((CA24/1000)/((BX24*$J$22)*$J$21/3600),1),IFERROR((SUMIFS(CA11:CA45,BW11:BW45,\"<=\"&$BW24,BW11:BW45,\">=\"&$BW24-1)/1000)/(  $J$22*SUMIFS(BX11:BX45,BW11:BW45,\"<=\"&$BW24,BW11:BW45,\">=\"&$BW24-1)*$J$21/3600),1),IFERROR((SUMIFS(CA11:CA45,BW11:BW45,\"<=\"&$BW24,BW11:BW45,\">=\"&$BW24-2)/1000)/(  $J$22*SUMIFS(BX11:BX45,BW11:BW45,\"<=\"&$BW24,BW11:BW45,\">=\"&$BW24-2)*$J$21/3600),1),IFERROR((SUMIFS(CA11:CA45,BW11:BW45,\"<=\"&$BW24,BW11:BW45,\">=\"&$BW24-3)/1000)/(  $J$22*SUMIFS(BX11:BX45,BW11:BW45,\"<=\"&$BW24,BW11:BW45,\">=\"&$BW24-3)*$J$21/3600),1)) )","v":1},"",{"$f":"IF(CA24=\"\",1, MIN($CA24/SUM($CA11:$CA24),SUMIFS(CA11:CA45,BW11:BW45,\">=\"&$BW24-1,BW11:BW45,\"<=\"&$BW24)/SUM($CA11:$CA24),SUMIFS(CA11:CA45,BW11:BW45,\">=\"&$BW24-2,BW11:BW45,\"<=\"&$BW24)/SUM($CA11:$CA24),SUMIFS(CA11:CA45,BW11:BW45,\">=\"&$BW24-3,BW11:BW45,\"<=\"&$BW24)/SUM($CA11:$CA24)) )","v":1}]
[null,null,"Charge-Sustaining","City","Highway","Combined",null,null,{"$f":"IF(J18=73844,\"You chose a Petroleum Equivalence Factor that is not common. Make sure this is correct.\", \"\")","v":""},null,null,null,null,null,null,null,15,null,null,null,null,null,null,null,15,null,null,null,null,null,null,null,null,null,"Annual Fuel Cost ($/year) [0]",null,null,{"$f":"astm(    IFERROR(15000*astm(0.55*AQ46+0.45*AR46,3),0)/50,0) * 50","v":1050},null,null,"NEW","CD CO2 emissions rate (Rcda), adjusted (g/mi) [1]",{"$f":"IFERROR(astm( IFERROR((SUMIF(AV11:AV45,\"<=\" & AQ34-1,AX11:AX45)+AQ33*SUMIF(AV11:AV45,\"=\" & AQ34-1,AX11:AX45))/AQ7,#VALUE!), 1),0)","v":0},{"$f":"IFERROR(astm( IFERROR((SUMIF(BW11:BW45,\"<=\" & AR34-1,BY11:BY45)+AR33*SUMIF(BW11:BW45,\"=\" & AR34-1,BY11:BY45))/AR7,#VALUE!), 1),0)","v":0},null,null,null,15,"","","","",{"$f":"IFERROR(astm(  astm($W$46,3)*1000*(AZ25/AQ13),1),\"\")","v":""},"","","",{"$f":"IFERROR(astm(cityfuf(BB25),3)-astm(cityfuf(BB24),3),\"\")","v":""},"","","","","","",{"$f":"IFERROR(astm(mdiuf(BK25),3)-astm(mdiuf(BK24),3),\"\")","v":""},"","",{"$f":"IFERROR(astm(cityfufalt(BK25),3)-astm(cityfufalt(BK24),3),\"\")","v":""},"","","",{"$f":"IF(AZ25=\"\",1, MIN(IFERROR((AZ25/1000)/((AW25*$J$22)*$J$21/3600),1),IFERROR((SUMIFS(AZ11:AZ45,AV11:AV45,\"<=\"&$AV25,AV11:AV45,\">=\"&$AV25-1)/1000)/(  $J$22*SUMIFS(AW11:AW45,AV11:AV45,\"<=\"&$AV25,AV11:AV45,\">=\"&$AV25-1)*$J$21/3600),1),IFERROR((SUMIFS(AZ11:AZ45,AV11:AV45,\"<=\"&$AV25,AV11:AV45,\">=\"&$AV25-2)/1000)/(  $J$22*SUMIFS(AW11:AW45,AV11:AV45,\"<=\"&$AV25,AV11:AV45,\">=\"&$AV25-2)*$J$21/3600),1),IFERROR((SUMIFS(AZ11:AZ45,AV11:AV45,\"<=\"&$AV25,AV11:AV45,\">=\"&$AV25-3)/1000)/(  $J$22*SUMIFS(AW11:AW45,AV11:AV45,\"<=\"&$AV25,AV11:AV45,\">=\"&$AV25-3)*$J$21/3600),1)) )","v":1},"",{"$f":"IF(AZ25=\"\",1, MIN($AZ25/SUM($AZ11:$AZ25),SUMIFS(AZ11:AZ45,AV11:AV45,\">=\"&$AV25-1,AV11:AV45,\"<=\"&$AV25)/SUM($AZ11:$AZ25),SUMIFS(AZ11:AZ45,AV11:AV45,\">=\"&$AV25-2,AV11:AV45,\"<=\"&$AV25)/SUM($AZ11:$AZ25),SUMIFS(AZ11:AZ45,AV11:AV45,\">=\"&$AV25-3,AV11:AV45,\"<=\"&$AV25)/SUM($AZ11:$AZ25)) )","v":1},null,15,"","","","","","","","",{"$f":"IFERROR(astm(highwayfuf(CC25)-highwayfuf(CC24),3),\"\")","v":""},"","","","","","",{"$f":"IFERROR(astm(mdiuf(CL25)-mdiuf(CL24),3),\"\")","v":""},"","",{"$f":"IFERROR(astm(highwayfufalt(CL25)-highwayfufalt(CL24),3),\"\")","v":""},"","","",{"$f":"IF(CA25=\"\",1, MIN(IFERROR((CA25/1000)/((BX25*$J$22)*$J$21/3600),1),IFERROR((SUMIFS(CA11:CA45,BW11:BW45,\"<=\"&$BW25,BW11:BW45,\">=\"&$BW25-1)/1000)/(  $J$22*SUMIFS(BX11:BX45,BW11:BW45,\"<=\"&$BW25,BW11:BW45,\">=\"&$BW25-1)*$J$21/3600),1),IFERROR((SUMIFS(CA11:CA45,BW11:BW45,\"<=\"&$BW25,BW11:BW45,\">=\"&$BW25-2)/1000)/(  $J$22*SUMIFS(BX11:BX45,BW11:BW45,\"<=\"&$BW25,BW11:BW45,\">=\"&$BW25-2)*$J$21/3600),1),IFERROR((SUMIFS(CA11:CA45,BW11:BW45,\"<=\"&$BW25,BW11:BW45,\">=\"&$BW25-3)/1000)/(  $J$22*SUMIFS(BX11:BX45,BW11:BW45,\"<=\"&$BW25,BW11:BW45,\">=\"&$BW25-3)*$J$21/3600),1)) )","v":1},"",{"$f":"IF(CA25=\"\",1, MIN($CA25/SUM($CA11:$CA25),SUMIFS(CA11:CA45,BW11:BW45,\">=\"&$BW25-1,BW11:BW45,\"<=\"&$BW25)/SUM($CA11:$CA25),SUMIFS(CA11:CA45,BW11:BW45,\">=\"&$BW25-2,BW11:BW45,\"<=\"&$BW25)/SUM($CA11:$CA25),SUMIFS(CA11:CA45,BW11:BW45,\">=\"&$BW25-3,BW11:BW45,\"<=\"&$BW25)/SUM($CA11:$CA25)) )","v":1}]
[null,null,"CS Fuel Economy (MPG)",{"$f":"IF($N$7+$N$55+$N$103=0,    ((AJ22<>0)+(AJ70<>0)+(AJ118<>0))/(IFERROR(1/AJ22,0)+IFERROR(1/AJ70,0)+IFERROR(1/AJ118,0)),    ($N$7+$N$55+$N$103) / (IFERROR($N$7/AJ22,0)+IFERROR($N$55/AJ70,0)+IFERROR($N$103/AJ118,0))  )","v":30.3323},{"$f":"IF($N$7+$N$55+$N$103=0,    ((AK22<>0)+(AK70<>0)+(AK118<>0))/(IFERROR(1/AK22,0)+IFERROR(1/AK70,0)+IFERROR(1/AK118,0)),    ($N$7+$N$55+$N$103) / (IFERROR($N$7/AK22,0)+IFERROR($N$55/AK70,0)+IFERROR($N$103/AK118,0))  )","v":34.4},{"$f":" astm(1/(0.55/D26+0.45/E26),0)","v":32},null,null,{"$f":"IF(J19<>33705,\"You are using a non-standard value for energy per gallon. This is allowed, but you must explain why.\", \"\")","v":""},null,null,null,null,null,null,null,16,null,null,null,null,null,null,null,16,null,null,null,null,null,null,null,null,null,"5-Year Fuel Savings Value ($/5 years) [0]",null,null,{"$f":"$F$38-5*AL25","v":2250},null,null,"NEW","CD utilitized CO2 (MDIUF, Rcdc), adjusted (g/mi) [1]",{"$f":"astm(SUMIF(AV11:AV45,\"<=\" & (AQ34),BM11:BM45),1)","v":0},{"$f":"astm(SUMIF(BW11:BW45,\"<=\" & (AR34),CN11:CN45),1)","v":21.4},null,null,null,16,"","","","",{"$f":"IFERROR(astm(  astm($W$46,3)*1000*(AZ26/AQ13),1),\"\")","v":""},"","","",{"$f":"IFERROR(astm(cityfuf(BB26),3)-astm(cityfuf(BB25),3),\"\")","v":""},"","","","","","",{"$f":"IFERROR(astm(mdiuf(BK26),3)-astm(mdiuf(BK25),3),\"\")","v":""},"","",{"$f":"IFERROR(astm(cityfufalt(BK26),3)-astm(cityfufalt(BK25),3),\"\")","v":""},"","","",{"$f":"IF(AZ26=\"\",1, MIN(IFERROR((AZ26/1000)/((AW26*$J$22)*$J$21/3600),1),IFERROR((SUMIFS(AZ11:AZ45,AV11:AV45,\"<=\"&$AV26,AV11:AV45,\">=\"&$AV26-1)/1000)/(  $J$22*SUMIFS(AW11:AW45,AV11:AV45,\"<=\"&$AV26,AV11:AV45,\">=\"&$AV26-1)*$J$21/3600),1),IFERROR((SUMIFS(AZ11:AZ45,AV11:AV45,\"<=\"&$AV26,AV11:AV45,\">=\"&$AV26-2)/1000)/(  $J$22*SUMIFS(AW11:AW45,AV11:AV45,\"<=\"&$AV26,AV11:AV45,\">=\"&$AV26-2)*$J$21/3600),1),IFERROR((SUMIFS(AZ11:AZ45,AV11:AV45,\"<=\"&$AV26,AV11:AV45,\">=\"&$AV26-3)/1000)/(  $J$22*SUMIFS(AW11:AW45,AV11:AV45,\"<=\"&$AV26,AV11:AV45,\">=\"&$AV26-3)*$J$21/3600),1)) )","v":1},"",{"$f":"IF(AZ26=\"\",1, MIN($AZ26/SUM($AZ11:$AZ26),SUMIFS(AZ11:AZ45,AV11:AV45,\">=\"&$AV26-1,AV11:AV45,\"<=\"&$AV26)/SUM($AZ11:$AZ26),SUMIFS(AZ11:AZ45,AV11:AV45,\">=\"&$AV26-2,AV11:AV45,\"<=\"&$AV26)/SUM($AZ11:$AZ26),SUMIFS(AZ11:AZ45,AV11:AV45,\">=\"&$AV26-3,AV11:AV45,\"<=\"&$AV26)/SUM($AZ11:$AZ26)) )","v":1},null,16,"","","","","","","","",{"$f":"IFERROR(astm(highwayfuf(CC26)-highwayfuf(CC25),3),\"\")","v":""},"","","","","","",{"$f":"IFERROR(astm(mdiuf(CL26)-mdiuf(CL25),3),\"\")","v":""},"","",{"$f":"IFERROR(astm(highwayfufalt(CL26)-highwayfufalt(CL25),3),\"\")","v":""},"","","",{"$f":"IF(CA26=\"\",1, MIN(IFERROR((CA26/1000)/((BX26*$J$22)*$J$21/3600),1),IFERROR((SUMIFS(CA11:CA45,BW11:BW45,\"<=\"&$BW26,BW11:BW45,\">=\"&$BW26-1)/1000)/(  $J$22*SUMIFS(BX11:BX45,BW11:BW45,\"<=\"&$BW26,BW11:BW45,\">=\"&$BW26-1)*$J$21/3600),1),IFERROR((SUMIFS(CA11:CA45,BW11:BW45,\"<=\"&$BW26,BW11:BW45,\">=\"&$BW26-2)/1000)/(  $J$22*SUMIFS(BX11:BX45,BW11:BW45,\"<=\"&$BW26,BW11:BW45,\">=\"&$BW26-2)*$J$21/3600),1),IFERROR((SUMIFS(CA11:CA45,BW11:BW45,\"<=\"&$BW26,BW11:BW45,\">=\"&$BW26-3)/1000)/(  $J$22*SUMIFS(BX11:BX45,BW11:BW45,\"<=\"&$BW26,BW11:BW45,\">=\"&$BW26-3)*$J$21/3600),1)) )","v":1},"",{"$f":"IF(CA26=\"\",1, MIN($CA26/SUM($CA11:$CA26),SUMIFS(CA11:CA45,BW11:BW45,\">=\"&$BW26-1,BW11:BW45,\"<=\"&$BW26)/SUM($CA11:$CA26),SUMIFS(CA11:CA45,BW11:BW45,\">=\"&$BW26-2,BW11:BW45,\"<=\"&$BW26)/SUM($CA11:$CA26),SUMIFS(CA11:CA45,BW11:BW45,\">=\"&$BW26-3,BW11:BW45,\"<=\"&$BW26)/SUM($CA11:$CA26)) )","v":1}]
[null,null,"CS Fuel Consumption (gal/100mi)",{"$f":"IF($N$7+$N$55+$N$103=0,SUM(IFERROR(AJ23,0),IFERROR(AJ71,0),IFERROR(AJ119,0)) / ((AJ23<>0)+(AJ71<>0)+(AJ119<>0)),      ($N$7*AJ23+$N$55*AJ71+$N$103*AJ119)/($N$7+$N$55+$N$103))","v":3.3},{"$f":"IF($N$7+$N$55+$N$103=0,SUM(IFERROR(AK23,0),IFERROR(AK71,0),IFERROR(AK119,0)) / ((AK23<>0)+(AK71<>0)+(AK119<>0)),      ($N$7*AK23+$N$55*AK71+$N$103*AK119)/($N$7+$N$55+$N$103))","v":2.9},{"$f":"astm(100/F26,1)","v":3.1},null,null,{"$f":"IF(J20=10180,\"You chose a conversion factor for grams of CO2 per gallon for diesel fuel. Make sure this is correct.\",\"\")","v":""},null,null,null,null,null,null,null,17,null,null,null,null,null,null,null,17,null,null,null,null,null,null,null,null,null,"Composite CO2 (g/mi) [0]",null,null,{"$f":"astm(0.55*AQ48+0.45*AR48,0)","v":145},null,null,null,"CD utilitized CREE (55/45 FUF, Rcdc), unadjusted (g/mi) [1]",{"$f":"astm(SUMIF(AV11:AV45,\"<=\" & AQ34,BF11:BF45),1)","v":0},{"$f":"astm(SUMIF(BW11:BW45,\"<=\" & AR34,CG11:CG45),1)","v":14.8},null,null,null,17,"","","","",{"$f":"IFERROR(astm(  astm($W$46,3)*1000*(AZ27/AQ13),1),\"\")","v":""},"","","",{"$f":"IFERROR(astm(cityfuf(BB27),3)-astm(cityfuf(BB26),3),\"\")","v":""},"","","","","","",{"$f":"IFERROR(astm(mdiuf(BK27),3)-astm(mdiuf(BK26),3),\"\")","v":""},"","",{"$f":"IFERROR(astm(cityfufalt(BK27),3)-astm(cityfufalt(BK26),3),\"\")","v":""},"","","",{"$f":"IF(AZ27=\"\",1, MIN(IFERROR((AZ27/1000)/((AW27*$J$22)*$J$21/3600),1),IFERROR((SUMIFS(AZ11:AZ45,AV11:AV45,\"<=\"&$AV27,AV11:AV45,\">=\"&$AV27-1)/1000)/(  $J$22*SUMIFS(AW11:AW45,AV11:AV45,\"<=\"&$AV27,AV11:AV45,\">=\"&$AV27-1)*$J$21/3600),1),IFERROR((SUMIFS(AZ11:AZ45,AV11:AV45,\"<=\"&$AV27,AV11:AV45,\">=\"&$AV27-2)/1000)/(  $J$22*SUMIFS(AW11:AW45,AV11:AV45,\"<=\"&$AV27,AV11:AV45,\">=\"&$AV27-2)*$J$21/3600),1),IFERROR((SUMIFS(AZ11:AZ45,AV11:AV45,\"<=\"&$AV27,AV11:AV45,\">=\"&$AV27-3)/1000)/(  $J$22*SUMIFS(AW11:AW45,AV11:AV45,\"<=\"&$AV27,AV11:AV45,\">=\"&$AV27-3)*$J$21/3600),1)) )","v":1},"",{"$f":"IF(AZ27=\"\",1, MIN($AZ27/SUM($AZ11:$AZ27),SUMIFS(AZ11:AZ45,AV11:AV45,\">=\"&$AV27-1,AV11:AV45,\"<=\"&$AV27)/SUM($AZ11:$AZ27),SUMIFS(AZ11:AZ45,AV11:AV45,\">=\"&$AV27-2,AV11:AV45,\"<=\"&$AV27)/SUM($AZ11:$AZ27),SUMIFS(AZ11:AZ45,AV11:AV45,\">=\"&$AV27-3,AV11:AV45,\"<=\"&$AV27)/SUM($AZ11:$AZ27)) )","v":1},null,17,"","","","","","","","",{"$f":"IFERROR(astm(highwayfuf(CC27)-highwayfuf(CC26),3),\"\")","v":""},"","","","","","",{"$f":"IFERROR(astm(mdiuf(CL27)-mdiuf(CL26),3),\"\")","v":""},"","",{"$f":"IFERROR(astm(highwayfufalt(CL27)-highwayfufalt(CL26),3),\"\")","v":""},"","","",{"$f":"IF(CA27=\"\",1, MIN(IFERROR((CA27/1000)/((BX27*$J$22)*$J$21/3600),1),IFERROR((SUMIFS(CA11:CA45,BW11:BW45,\"<=\"&$BW27,BW11:BW45,\">=\"&$BW27-1)/1000)/(  $J$22*SUMIFS(BX11:BX45,BW11:BW45,\"<=\"&$BW27,BW11:BW45,\">=\"&$BW27-1)*$J$21/3600),1),IFERROR((SUMIFS(CA11:CA45,BW11:BW45,\"<=\"&$BW27,BW11:BW45,\">=\"&$BW27-2)/1000)/(  $J$22*SUMIFS(BX11:BX45,BW11:BW45,\"<=\"&$BW27,BW11:BW45,\">=\"&$BW27-2)*$J$21/3600),1),IFERROR((SUMIFS(CA11:CA45,BW11:BW45,\"<=\"&$BW27,BW11:BW45,\">=\"&$BW27-3)/1000)/(  $J$22*SUMIFS(BX11:BX45,BW11:BW45,\"<=\"&$BW27,BW11:BW45,\">=\"&$BW27-3)*$J$21/3600),1)) )","v":1},"",{"$f":"IF(CA27=\"\",1, MIN($CA27/SUM($CA11:$CA27),SUMIFS(CA11:CA45,BW11:BW45,\">=\"&$BW27-1,BW11:BW45,\"<=\"&$BW27)/SUM($CA11:$CA27),SUMIFS(CA11:CA45,BW11:BW45,\">=\"&$BW27-2,BW11:BW45,\"<=\"&$BW27)/SUM($CA11:$CA27),SUMIFS(CA11:CA45,BW11:BW45,\">=\"&$BW27-3,BW11:BW45,\"<=\"&$BW27)/SUM($CA11:$CA27)) )","v":1}]
[null,null,"Composite CD/CS","City","Highway","Combined",null,null,null,null,null,null,null,null,null,null,18,null,null,null,null,null,null,null,18,null,null,null,null,null,null,null,null,null,"Composite Fuel Economy (MPG) [0]",null,null,{"$f":"IFERROR(astm(1/(0.55/AQ49+0.45/AR49),0),0)","v":45},null,null,"NEW","CD utilitized CREE (43/57 FUF, Rcdc), adjusted (g/mi) [1]",{"$f":"astm(SUMIF(AV11:AV45,\"<=\" & (AQ34),BQ11:BQ45),1)","v":0},{"$f":"astm(SUMIF(BW11:BW45,\"<=\" & (AR34),CR11:CR45),1)","v":18.399999999999999},null,null,null,18,"","","","",{"$f":"IFERROR(astm(  astm($W$46,3)*1000*(AZ28/AQ13),1),\"\")","v":""},"","","",{"$f":"IFERROR(astm(cityfuf(BB28),3)-astm(cityfuf(BB27),3),\"\")","v":""},"","","","","","",{"$f":"IFERROR(astm(mdiuf(BK28),3)-astm(mdiuf(BK27),3),\"\")","v":""},"","",{"$f":"IFERROR(astm(cityfufalt(BK28),3)-astm(cityfufalt(BK27),3),\"\")","v":""},"","","",{"$f":"IF(AZ28=\"\",1, MIN(IFERROR((AZ28/1000)/((AW28*$J$22)*$J$21/3600),1),IFERROR((SUMIFS(AZ11:AZ45,AV11:AV45,\"<=\"&$AV28,AV11:AV45,\">=\"&$AV28-1)/1000)/(  $J$22*SUMIFS(AW11:AW45,AV11:AV45,\"<=\"&$AV28,AV11:AV45,\">=\"&$AV28-1)*$J$21/3600),1),IFERROR((SUMIFS(AZ11:AZ45,AV11:AV45,\"<=\"&$AV28,AV11:AV45,\">=\"&$AV28-2)/1000)/(  $J$22*SUMIFS(AW11:AW45,AV11:AV45,\"<=\"&$AV28,AV11:AV45,\">=\"&$AV28-2)*$J$21/3600),1),IFERROR((SUMIFS(AZ11:AZ45,AV11:AV45,\"<=\"&$AV28,AV11:AV45,\">=\"&$AV28-3)/1000)/(  $J$22*SUMIFS(AW11:AW45,AV11:AV45,\"<=\"&$AV28,AV11:AV45,\">=\"&$AV28-3)*$J$21/3600),1)) )","v":1},"",{"$f":"IF(AZ28=\"\",1, MIN($AZ28/SUM($AZ11:$AZ28),SUMIFS(AZ11:AZ45,AV11:AV45,\">=\"&$AV28-1,AV11:AV45,\"<=\"&$AV28)/SUM($AZ11:$AZ28),SUMIFS(AZ11:AZ45,AV11:AV45,\">=\"&$AV28-2,AV11:AV45,\"<=\"&$AV28)/SUM($AZ11:$AZ28),SUMIFS(AZ11:AZ45,AV11:AV45,\">=\"&$AV28-3,AV11:AV45,\"<=\"&$AV28)/SUM($AZ11:$AZ28)) )","v":1},null,18,"","","","","","","","",{"$f":"IFERROR(astm(highwayfuf(CC28)-highwayfuf(CC27),3),\"\")","v":""},"","","","","","",{"$f":"IFERROR(astm(mdiuf(CL28)-mdiuf(CL27),3),\"\")","v":""},"","",{"$f":"IFERROR(astm(highwayfufalt(CL28)-highwayfufalt(CL27),3),\"\")","v":""},"","","",{"$f":"IF(CA28=\"\",1, MIN(IFERROR((CA28/1000)/((BX28*$J$22)*$J$21/3600),1),IFERROR((SUMIFS(CA11:CA45,BW11:BW45,\"<=\"&$BW28,BW11:BW45,\">=\"&$BW28-1)/1000)/(  $J$22*SUMIFS(BX11:BX45,BW11:BW45,\"<=\"&$BW28,BW11:BW45,\">=\"&$BW28-1)*$J$21/3600),1),IFERROR((SUMIFS(CA11:CA45,BW11:BW45,\"<=\"&$BW28,BW11:BW45,\">=\"&$BW28-2)/1000)/(  $J$22*SUMIFS(BX11:BX45,BW11:BW45,\"<=\"&$BW28,BW11:BW45,\">=\"&$BW28-2)*$J$21/3600),1),IFERROR((SUMIFS(CA11:CA45,BW11:BW45,\"<=\"&$BW28,BW11:BW45,\">=\"&$BW28-3)/1000)/(  $J$22*SUMIFS(BX11:BX45,BW11:BW45,\"<=\"&$BW28,BW11:BW45,\">=\"&$BW28-3)*$J$21/3600),1)) )","v":1},"",{"$f":"IF(CA28=\"\",1, MIN($CA28/SUM($CA11:$CA28),SUMIFS(CA11:CA45,BW11:BW45,\">=\"&$BW28-1,BW11:BW45,\"<=\"&$BW28)/SUM($CA11:$CA28),SUMIFS(CA11:CA45,BW11:BW45,\">=\"&$BW28-2,BW11:BW45,\"<=\"&$BW28)/SUM($CA11:$CA28),SUMIFS(CA11:CA45,BW11:BW45,\">=\"&$BW28-3,BW11:BW45,\"<=\"&$BW28)/SUM($CA11:$CA28)) )","v":1}]
[null,null,"Annual Fuel Cost ($/year)",null,null,{"$f":"astm(   ( IF($N$7+$N$55+$N$103=0,SUM(IFERROR((IFERROR(15000*astm(0.55*AQ46+0.45*AR46,3),0)),0),IFERROR((IFERROR(15000*astm(0.55*AQ94+0.45*AR94,3),0)),0),IFERROR((IFERROR(15000*astm(0.55*AQ142+0.45*AR142,3),0)),0)) / (((IFERROR(15000*astm(0.55*AQ46+0.45*AR46,3),0))<>0)+((IFERROR(15000*astm(0.55*AQ94+0.45*AR94,3),0))<>0)+((IFERROR(15000*astm(0.55*AQ142+0.45*AR142,3),0))<>0)),($N$7*(IFERROR(15000*astm(0.55*AQ46+0.45*AR46,3),0))+$N$55*(IFERROR(15000*astm(0.55*AQ94+0.45*AR94,3),0))+$N$103*(IFERROR(15000*astm(0.55*AQ142+0.45*AR142,3),0)))/($N$7+$N$55+$N$103)) ) / 50,0 ) * 50","v":1050},null,null,null,null,null,null,null,null,null,null,19,null,null,null,null,null,null,null,19,null,null,null,null,null,null,null,null,null,"HOV Lane Values","City","Highway","Combined",null,null,null,"UTILITY FACTORS & OTHER METRICS","CITY","HIGHWAY",null,null,null,19,"","","","",{"$f":"IFERROR(astm(  astm($W$46,3)*1000*(AZ29/AQ13),1),\"\")","v":""},"","","",{"$f":"IFERROR(astm(cityfuf(BB29),3)-astm(cityfuf(BB28),3),\"\")","v":""},"","","","","","",{"$f":"IFERROR(astm(mdiuf(BK29),3)-astm(mdiuf(BK28),3),\"\")","v":""},"","",{"$f":"IFERROR(astm(cityfufalt(BK29),3)-astm(cityfufalt(BK28),3),\"\")","v":""},"","","",{"$f":"IF(AZ29=\"\",1, MIN(IFERROR((AZ29/1000)/((AW29*$J$22)*$J$21/3600),1),IFERROR((SUMIFS(AZ11:AZ45,AV11:AV45,\"<=\"&$AV29,AV11:AV45,\">=\"&$AV29-1)/1000)/(  $J$22*SUMIFS(AW11:AW45,AV11:AV45,\"<=\"&$AV29,AV11:AV45,\">=\"&$AV29-1)*$J$21/3600),1),IFERROR((SUMIFS(AZ11:AZ45,AV11:AV45,\"<=\"&$AV29,AV11:AV45,\">=\"&$AV29-2)/1000)/(  $J$22*SUMIFS(AW11:AW45,AV11:AV45,\"<=\"&$AV29,AV11:AV45,\">=\"&$AV29-2)*$J$21/3600),1),IFERROR((SUMIFS(AZ11:AZ45,AV11:AV45,\"<=\"&$AV29,AV11:AV45,\">=\"&$AV29-3)/1000)/(  $J$22*SUMIFS(AW11:AW45,AV11:AV45,\"<=\"&$AV29,AV11:AV45,\">=\"&$AV29-3)*$J$21/3600),1)) )","v":1},"",{"$f":"IF(AZ29=\"\",1, MIN($AZ29/SUM($AZ11:$AZ29),SUMIFS(AZ11:AZ45,AV11:AV45,\">=\"&$AV29-1,AV11:AV45,\"<=\"&$AV29)/SUM($AZ11:$AZ29),SUMIFS(AZ11:AZ45,AV11:AV45,\">=\"&$AV29-2,AV11:AV45,\"<=\"&$AV29)/SUM($AZ11:$AZ29),SUMIFS(AZ11:AZ45,AV11:AV45,\">=\"&$AV29-3,AV11:AV45,\"<=\"&$AV29)/SUM($AZ11:$AZ29)) )","v":1},null,19,"","","","","","","","",{"$f":"IFERROR(astm(highwayfuf(CC29)-highwayfuf(CC28),3),\"\")","v":""},"","","","","","",{"$f":"IFERROR(astm(mdiuf(CL29)-mdiuf(CL28),3),\"\")","v":""},"","",{"$f":"IFERROR(astm(highwayfufalt(CL29)-highwayfufalt(CL28),3),\"\")","v":""},"","","",{"$f":"IF(CA29=\"\",1, MIN(IFERROR((CA29/1000)/((BX29*$J$22)*$J$21/3600),1),IFERROR((SUMIFS(CA11:CA45,BW11:BW45,\"<=\"&$BW29,BW11:BW45,\">=\"&$BW29-1)/1000)/(  $J$22*SUMIFS(BX11:BX45,BW11:BW45,\"<=\"&$BW29,BW11:BW45,\">=\"&$BW29-1)*$J$21/3600),1),IFERROR((SUMIFS(CA11:CA45,BW11:BW45,\"<=\"&$BW29,BW11:BW45,\">=\"&$BW29-2)/1000)/(  $J$22*SUMIFS(BX11:BX45,BW11:BW45,\"<=\"&$BW29,BW11:BW45,\">=\"&$BW29-2)*$J$21/3600),1),IFERROR((SUMIFS(CA11:CA45,BW11:BW45,\"<=\"&$BW29,BW11:BW45,\">=\"&$BW29-3)/1000)/(  $J$22*SUMIFS(BX11:BX45,BW11:BW45,\"<=\"&$BW29,BW11:BW45,\">=\"&$BW29-3)*$J$21/3600),1)) )","v":1},"",{"$f":"IF(CA29=\"\",1, MIN($CA29/SUM($CA11:$CA29),SUMIFS(CA11:CA45,BW11:BW45,\">=\"&$BW29-1,BW11:BW45,\"<=\"&$BW29)/SUM($CA11:$CA29),SUMIFS(CA11:CA45,BW11:BW45,\">=\"&$BW29-2,BW11:BW45,\"<=\"&$BW29)/SUM($CA11:$CA29),SUMIFS(CA11:CA45,BW11:BW45,\">=\"&$BW29-3,BW11:BW45,\"<=\"&$BW29)/SUM($CA11:$CA29)) )","v":1}]
[null,null,"5-Year Fuel Savings Value ($/5 years)",null,{"$f":"\"You \" & IF(($F$38-5*F29)>=0, \"SAVE:\", \"SPEND:\")","v":"You SAVE:"},{"$f":"ABS($F$38-5*F29)","v":2250},null,null,null,null,null,null,null,null,null,null,20,null,null,null,null,null,null,null,20,null,null,null,null,null,null,null,null,null,"MDIUF based on unadjusted Rcda [3]",{"$f":"IFERROR(astm(mdiuf(AQ6),3),0)","v":0.56699999999999995},{"$f":"IFERROR(astm(mdiuf(AR6),3),0)","v":0.68500000000000005},null,null,null,null,"CD 55/45 Fleet Utility Factor (FUF) for Rcdc [3]",{"$f":"astm(SUMIF(AV11:AV45,\"<=\"&AQ34,BE11:BE45),3)","v":0.66600000000000004},{"$f":"astm(SUMIF(BW11:BW45,\"<=\"&AR34,CF11:CF45),3)","v":0.437},null,null,null,20,"","","","",{"$f":"IFERROR(astm(  astm($W$46,3)*1000*(AZ30/AQ13),1),\"\")","v":""},"","","",{"$f":"IFERROR(astm(cityfuf(BB30),3)-astm(cityfuf(BB29),3),\"\")","v":""},"","","","","","",{"$f":"IFERROR(astm(mdiuf(BK30),3)-astm(mdiuf(BK29),3),\"\")","v":""},"","",{"$f":"IFERROR(astm(cityfufalt(BK30),3)-astm(cityfufalt(BK29),3),\"\")","v":""},"","","",{"$f":"IF(AZ30=\"\",1, MIN(IFERROR((AZ30/1000)/((AW30*$J$22)*$J$21/3600),1),IFERROR((SUMIFS(AZ11:AZ45,AV11:AV45,\"<=\"&$AV30,AV11:AV45,\">=\"&$AV30-1)/1000)/(  $J$22*SUMIFS(AW11:AW45,AV11:AV45,\"<=\"&$AV30,AV11:AV45,\">=\"&$AV30-1)*$J$21/3600),1),IFERROR((SUMIFS(AZ11:AZ45,AV11:AV45,\"<=\"&$AV30,AV11:AV45,\">=\"&$AV30-2)/1000)/(  $J$22*SUMIFS(AW11:AW45,AV11:AV45,\"<=\"&$AV30,AV11:AV45,\">=\"&$AV30-2)*$J$21/3600),1),IFERROR((SUMIFS(AZ11:AZ45,AV11:AV45,\"<=\"&$AV30,AV11:AV45,\">=\"&$AV30-3)/1000)/(  $J$22*SUMIFS(AW11:AW45,AV11:AV45,\"<=\"&$AV30,AV11:AV45,\">=\"&$AV30-3)*$J$21/3600),1)) )","v":1},"",{"$f":"IF(AZ30=\"\",1, MIN($AZ30/SUM($AZ11:$AZ30),SUMIFS(AZ11:AZ45,AV11:AV45,\">=\"&$AV30-1,AV11:AV45,\"<=\"&$AV30)/SUM($AZ11:$AZ30),SUMIFS(AZ11:AZ45,AV11:AV45,\">=\"&$AV30-2,AV11:AV45,\"<=\"&$AV30)/SUM($AZ11:$AZ30),SUMIFS(AZ11:AZ45,AV11:AV45,\">=\"&$AV30-3,AV11:AV45,\"<=\"&$AV30)/SUM($AZ11:$AZ30)) )","v":1},null,20,"","","","","","","","",{"$f":"IFERROR(astm(highwayfuf(CC30)-highwayfuf(CC29),3),\"\")","v":""},"","","","","","",{"$f":"IFERROR(astm(mdiuf(CL30)-mdiuf(CL29),3),\"\")","v":""},"","",{"$f":"IFERROR(astm(highwayfufalt(CL30)-highwayfufalt(CL29),3),\"\")","v":""},"","","",{"$f":"IF(CA30=\"\",1, MIN(IFERROR((CA30/1000)/((BX30*$J$22)*$J$21/3600),1),IFERROR((SUMIFS(CA11:CA45,BW11:BW45,\"<=\"&$BW30,BW11:BW45,\">=\"&$BW30-1)/1000)/(  $J$22*SUMIFS(BX11:BX45,BW11:BW45,\"<=\"&$BW30,BW11:BW45,\">=\"&$BW30-1)*$J$21/3600),1),IFERROR((SUMIFS(CA11:CA45,BW11:BW45,\"<=\"&$BW30,BW11:BW45,\">=\"&$BW30-2)/1000)/(  $J$22*SUMIFS(BX11:BX45,BW11:BW45,\"<=\"&$BW30,BW11:BW45,\">=\"&$BW30-2)*$J$21/3600),1),IFERROR((SUMIFS(CA11:CA45,BW11:BW45,\"<=\"&$BW30,BW11:BW45,\">=\"&$BW30-3)/1000)/(  $J$22*SUMIFS(BX11:BX45,BW11:BW45,\"<=\"&$BW30,BW11:BW45,\">=\"&$BW30-3)*$J$21/3600),1)) )","v":1},"",{"$f":"IF(CA30=\"\",1, MIN($CA30/SUM($CA11:$CA30),SUMIFS(CA11:CA45,BW11:BW45,\">=\"&$BW30-1,BW11:BW45,\"<=\"&$BW30)/SUM($CA11:$CA30),SUMIFS(CA11:CA45,BW11:BW45,\">=\"&$BW30-2,BW11:BW45,\"<=\"&$BW30)/SUM($CA11:$CA30),SUMIFS(CA11:CA45,BW11:BW45,\">=\"&$BW30-3,BW11:BW45,\"<=\"&$BW30)/SUM($CA11:$CA30)) )","v":1}]
[null,null,"Composite CO2 (g/mi)",{"$f":"astm(IF($N$7+$N$55+$N$103=0,SUM(IFERROR(AQ48,0),IFERROR(AQ96,0),IFERROR(AQ144,0)) / ((AQ48<>0)+(AQ96<>0)+(AQ144<>0)),($N$7*AQ48+$N$55*AQ96+$N$103*AQ144)/($N$7+$N$55+$N$103)),1)","v":155.30000000000001},{"$f":"astm(IF($N$7+$N$55+$N$103=0,SUM(IFERROR(AR48,0),IFERROR(AR96,0),IFERROR(AR144,0)) / ((AR48<>0)+(AR96<>0)+(AR144<>0)),($N$7*AR48+$N$55*AR96+$N$103*AR144)/($N$7+$N$55+$N$103)),1)","v":131.69999999999999},{"$f":"astm(0.55*D31+0.45*E31,0)","v":145},null,null,null,null,null,null,null,null,null,null,21,null,null,null,null,null,null,null,21,null,null,null,null,null,null,null,null,null,"Composite CD/CS Fuel Economy (MPGe) [4]",{"$f":"IFERROR(astm(1/(AJ30/(AQ6/     AQ14  )+(1-AJ30)/N11),4),0)","v":59.085299999999997},{"$f":"IFERROR(astm(1/(AK30/(AR6/     AR14  )+(1-AK30)/O11),4),0)","v":87.170400000000001},{"$f":"IFERROR(astm(1/(0.55/AJ31+0.45/AK31),4),0)","v":69.104299999999995},null,null,null,"MDIUF based on Rcda, adjusted [3]",{"$f":"astm(mdiuf(AQ7),3)","v":0.45300000000000001},{"$f":"astm(mdiuf(AR7),3)","v":0.57199999999999995},null,null,null,21,"","","","",{"$f":"IFERROR(astm(  astm($W$46,3)*1000*(AZ31/AQ13),1),\"\")","v":""},"","","",{"$f":"IFERROR(astm(cityfuf(BB31),3)-astm(cityfuf(BB30),3),\"\")","v":""},"","","","","","",{"$f":"IFERROR(astm(mdiuf(BK31),3)-astm(mdiuf(BK30),3),\"\")","v":""},"","",{"$f":"IFERROR(astm(cityfufalt(BK31),3)-astm(cityfufalt(BK30),3),\"\")","v":""},"","","",{"$f":"IF(AZ31=\"\",1, MIN(IFERROR((AZ31/1000)/((AW31*$J$22)*$J$21/3600),1),IFERROR((SUMIFS(AZ11:AZ45,AV11:AV45,\"<=\"&$AV31,AV11:AV45,\">=\"&$AV31-1)/1000)/(  $J$22*SUMIFS(AW11:AW45,AV11:AV45,\"<=\"&$AV31,AV11:AV45,\">=\"&$AV31-1)*$J$21/3600),1),IFERROR((SUMIFS(AZ11:AZ45,AV11:AV45,\"<=\"&$AV31,AV11:AV45,\">=\"&$AV31-2)/1000)/(  $J$22*SUMIFS(AW11:AW45,AV11:AV45,\"<=\"&$AV31,AV11:AV45,\">=\"&$AV31-2)*$J$21/3600),1),IFERROR((SUMIFS(AZ11:AZ45,AV11:AV45,\"<=\"&$AV31,AV11:AV45,\">=\"&$AV31-3)/1000)/(  $J$22*SUMIFS(AW11:AW45,AV11:AV45,\"<=\"&$AV31,AV11:AV45,\">=\"&$AV31-3)*$J$21/3600),1)) )","v":1},"",{"$f":"IF(AZ31=\"\",1, MIN($AZ31/SUM($AZ11:$AZ31),SUMIFS(AZ11:AZ45,AV11:AV45,\">=\"&$AV31-1,AV11:AV45,\"<=\"&$AV31)/SUM($AZ11:$AZ31),SUMIFS(AZ11:AZ45,AV11:AV45,\">=\"&$AV31-2,AV11:AV45,\"<=\"&$AV31)/SUM($AZ11:$AZ31),SUMIFS(AZ11:AZ45,AV11:AV45,\">=\"&$AV31-3,AV11:AV45,\"<=\"&$AV31)/SUM($AZ11:$AZ31)) )","v":1},null,21,"","","","","","","","",{"$f":"IFERROR(astm(highwayfuf(CC31)-highwayfuf(CC30),3),\"\")","v":""},"","","","","","",{"$f":"IFERROR(astm(mdiuf(CL31)-mdiuf(CL30),3),\"\")","v":""},"","",{"$f":"IFERROR(astm(highwayfufalt(CL31)-highwayfufalt(CL30),3),\"\")","v":""},"","","",{"$f":"IF(CA31=\"\",1, MIN(IFERROR((CA31/1000)/((BX31*$J$22)*$J$21/3600),1),IFERROR((SUMIFS(CA11:CA45,BW11:BW45,\"<=\"&$BW31,BW11:BW45,\">=\"&$BW31-1)/1000)/(  $J$22*SUMIFS(BX11:BX45,BW11:BW45,\"<=\"&$BW31,BW11:BW45,\">=\"&$BW31-1)*$J$21/3600),1),IFERROR((SUMIFS(CA11:CA45,BW11:BW45,\"<=\"&$BW31,BW11:BW45,\">=\"&$BW31-2)/1000)/(  $J$22*SUMIFS(BX11:BX45,BW11:BW45,\"<=\"&$BW31,BW11:BW45,\">=\"&$BW31-2)*$J$21/3600),1),IFERROR((SUMIFS(CA11:CA45,BW11:BW45,\"<=\"&$BW31,BW11:BW45,\">=\"&$BW31-3)/1000)/(  $J$22*SUMIFS(BX11:BX45,BW11:BW45,\"<=\"&$BW31,BW11:BW45,\">=\"&$BW31-3)*$J$21/3600),1)) )","v":1},"",{"$f":"IF(CA31=\"\",1, MIN($CA31/SUM($CA11:$CA31),SUMIFS(CA11:CA45,BW11:BW45,\">=\"&$BW31-1,BW11:BW45,\"<=\"&$BW31)/SUM($CA11:$CA31),SUMIFS(CA11:CA45,BW11:BW45,\">=\"&$BW31-2,BW11:BW45,\"<=\"&$BW31)/SUM($CA11:$CA31),SUMIFS(CA11:CA45,BW11:BW45,\">=\"&$BW31-3,BW11:BW45,\"<=\"&$BW31)/SUM($CA11:$CA31)) )","v":1}]
[null,null,"Composite Fuel Economy (MPG)",{"$f":"IF($N$7+$N$55+$N$103=0,    ((AQ49<>0)+(AQ97<>0)+(AQ145<>0))/(IFERROR(1/AQ49,0)+IFERROR(1/AQ97,0)+IFERROR(1/AQ145,0)),    ($N$7+$N$55+$N$103) / (IFERROR($N$7/AQ49,0)+IFERROR($N$55/AQ97,0)+IFERROR($N$103/AQ145,0))  )","v":41.854799999999997},{"$f":"IF($N$7+$N$55+$N$103=0,    ((AR49<>0)+(AR97<>0)+(AR145<>0))/(IFERROR(1/AR49,0)+IFERROR(1/AR97,0)+IFERROR(1/AR145,0)),    ($N$7+$N$55+$N$103) / (IFERROR($N$7/AR49,0)+IFERROR($N$55/AR97,0)+IFERROR($N$103/AR145,0))  )","v":48.671799999999998},{"$f":" astm(1/(0.55/D32+0.45/E32),0)","v":45},null,null,null,null,null,null,null,null,null,null,22,null,null,null,null,null,null,null,22,null,null,null,null,null,null,null,null,null,"Trends Report Values","City","Highway","Combined",null,null,null,"MDIUF based on Rcdc, unadjusted [3]",{"$f":"astm(SUMIF(AV11:AV45,\"<=\" & AQ34,BL11:BL45),3)","v":0.47},{"$f":"astm(SUMIF(BW11:BW45,\"<=\" & AR34,CM11:CM45),3)","v":0.57299999999999995},null,null,null,22,"","","","",{"$f":"IFERROR(astm(  astm($W$46,3)*1000*(AZ32/AQ13),1),\"\")","v":""},"","","",{"$f":"IFERROR(astm(cityfuf(BB32),3)-astm(cityfuf(BB31),3),\"\")","v":""},"","","","","","",{"$f":"IFERROR(astm(mdiuf(BK32),3)-astm(mdiuf(BK31),3),\"\")","v":""},"","",{"$f":"IFERROR(astm(cityfufalt(BK32),3)-astm(cityfufalt(BK31),3),\"\")","v":""},"","","",{"$f":"IF(AZ32=\"\",1, MIN(IFERROR((AZ32/1000)/((AW32*$J$22)*$J$21/3600),1),IFERROR((SUMIFS(AZ11:AZ45,AV11:AV45,\"<=\"&$AV32,AV11:AV45,\">=\"&$AV32-1)/1000)/(  $J$22*SUMIFS(AW11:AW45,AV11:AV45,\"<=\"&$AV32,AV11:AV45,\">=\"&$AV32-1)*$J$21/3600),1),IFERROR((SUMIFS(AZ11:AZ45,AV11:AV45,\"<=\"&$AV32,AV11:AV45,\">=\"&$AV32-2)/1000)/(  $J$22*SUMIFS(AW11:AW45,AV11:AV45,\"<=\"&$AV32,AV11:AV45,\">=\"&$AV32-2)*$J$21/3600),1),IFERROR((SUMIFS(AZ11:AZ45,AV11:AV45,\"<=\"&$AV32,AV11:AV45,\">=\"&$AV32-3)/1000)/(  $J$22*SUMIFS(AW11:AW45,AV11:AV45,\"<=\"&$AV32,AV11:AV45,\">=\"&$AV32-3)*$J$21/3600),1)) )","v":1},"",{"$f":"IF(AZ32=\"\",1, MIN($AZ32/SUM($AZ11:$AZ32),SUMIFS(AZ11:AZ45,AV11:AV45,\">=\"&$AV32-1,AV11:AV45,\"<=\"&$AV32)/SUM($AZ11:$AZ32),SUMIFS(AZ11:AZ45,AV11:AV45,\">=\"&$AV32-2,AV11:AV45,\"<=\"&$AV32)/SUM($AZ11:$AZ32),SUMIFS(AZ11:AZ45,AV11:AV45,\">=\"&$AV32-3,AV11:AV45,\"<=\"&$AV32)/SUM($AZ11:$AZ32)) )","v":1},null,22,"","","","","","","","",{"$f":"IFERROR(astm(highwayfuf(CC32)-highwayfuf(CC31),3),\"\")","v":""},"","","","","","",{"$f":"IFERROR(astm(mdiuf(CL32)-mdiuf(CL31),3),\"\")","v":""},"","",{"$f":"IFERROR(astm(highwayfufalt(CL32)-highwayfufalt(CL31),3),\"\")","v":""},"","","",{"$f":"IF(CA32=\"\",1, MIN(IFERROR((CA32/1000)/((BX32*$J$22)*$J$21/3600),1),IFERROR((SUMIFS(CA11:CA45,BW11:BW45,\"<=\"&$BW32,BW11:BW45,\">=\"&$BW32-1)/1000)/(  $J$22*SUMIFS(BX11:BX45,BW11:BW45,\"<=\"&$BW32,BW11:BW45,\">=\"&$BW32-1)*$J$21/3600),1),IFERROR((SUMIFS(CA11:CA45,BW11:BW45,\"<=\"&$BW32,BW11:BW45,\">=\"&$BW32-2)/1000)/(  $J$22*SUMIFS(BX11:BX45,BW11:BW45,\"<=\"&$BW32,BW11:BW45,\">=\"&$BW32-2)*$J$21/3600),1),IFERROR((SUMIFS(CA11:CA45,BW11:BW45,\"<=\"&$BW32,BW11:BW45,\">=\"&$BW32-3)/1000)/(  $J$22*SUMIFS(BX11:BX45,BW11:BW45,\"<=\"&$BW32,BW11:BW45,\">=\"&$BW32-3)*$J$21/3600),1)) )","v":1},"",{"$f":"IF(CA32=\"\",1, MIN($CA32/SUM($CA11:$CA32),SUMIFS(CA11:CA45,BW11:BW45,\">=\"&$BW32-1,BW11:BW45,\"<=\"&$BW32)/SUM($CA11:$CA32),SUMIFS(CA11:CA45,BW11:BW45,\">=\"&$BW32-2,BW11:BW45,\"<=\"&$BW32)/SUM($CA11:$CA32),SUMIFS(CA11:CA45,BW11:BW45,\">=\"&$BW32-3,BW11:BW45,\"<=\"&$BW32)/SUM($CA11:$CA32)) )","v":1}]
[null,null,"MPG Rating (on scale of 1-10)",null,null,{"$f":"INDEX('Label Inputs'!$W$5:$Z$54, MATCH(1,('Label Inputs'!$W$5:$W$54=$J$5)*('Label Inputs'!$Y$5:$Y$54>=$F$32),0),4)","v":10},null,null,null,null,null,null,null,null,null,null,23,null,null,null,null,null,null,null,23,null,null,null,null,null,null,null,null,null,"Fleet Utility Factor (43/57) [3]",{"$f":"astm(SUMIF(AV11:AV40,\"<=\"&AQ34,BO11:BO40),3)","v":0.58399999999999996},{"$f":"astm(SUMIF(BW11:BW40,\"<=\"&AR34,CP11:CP40),3)","v":0.35799999999999998},{"$f":"0.55*AJ33+0.45*AK33","v":0.48229999999999995},null,null,null,"Fraction of transition cycle that is charge-depleting operation (Zn) [3]",{"$f":" astm( IF((IF( SUMIF(AV11:AV45,\"=\" & ($AQ34),AY11:AY45)/SUMIF(AV11:AV45,\"=\" & ($AQ34-1),AY11:AY45)<0,0, SUMIF(AV11:AV45,\"=\" & ($AQ34),AY11:AY45)/SUMIF(AV11:AV45,\"=\" & ($AQ34-1),AY11:AY45)))<0,0, IF((IF( SUMIF(AV11:AV45,\"=\" & ($AQ34),AY11:AY45)/SUMIF(AV11:AV45,\"=\" & ($AQ34-1),AY11:AY45)<0,0, SUMIF(AV11:AV45,\"=\" & ($AQ34),AY11:AY45)/SUMIF(AV11:AV45,\"=\" & ($AQ34-1),AY11:AY45)))>1,1, (IF( SUMIF(AV11:AV45,\"=\" & ($AQ34),AY11:AY45)/SUMIF(AV11:AV45,\"=\" & ($AQ34-1),AY11:AY45)<0,0, SUMIF(AV11:AV45,\"=\" & ($AQ34),AY11:AY45)/SUMIF(AV11:AV45,\"=\" & ($AQ34-1),AY11:AY45))))), 3)","v":0.80500000000000005},{"$f":" astm( IF((IF( SUMIF(BW11:BW45,\"=\" & ($AR34),BZ11:BZ45)/SUMIF(BW11:BW45,\"=\" & ($AR34-1),BZ11:BZ45)<0,0, SUMIF(BW11:BW45,\"=\" & ($AR34),BZ11:BZ45)/SUMIF(BW11:BW45,\"=\" & ($AR34-1),BZ11:BZ45)))<0,0, IF((IF( SUMIF(BW11:BW45,\"=\" & ($AR34),BZ11:BZ45)/SUMIF(BW11:BW45,\"=\" & ($AR34-1),BZ11:BZ45)<0,0, SUMIF(BW11:BW45,\"=\" & ($AR34),BZ11:BZ45)/SUMIF(BW11:BW45,\"=\" & ($AR34-1),BZ11:BZ45)))>1,1, (IF( SUMIF(BW11:BW45,\"=\" & ($AR34),BZ11:BZ45)/SUMIF(BW11:BW45,\"=\" & ($AR34-1),BZ11:BZ45)<0,0, SUMIF(BW11:BW45,\"=\" & ($AR34),BZ11:BZ45)/SUMIF(BW11:BW45,\"=\" & ($AR34-1),BZ11:BZ45))))), 3)","v":1},null,null,null,23,"","","","",{"$f":"IFERROR(astm(  astm($W$46,3)*1000*(AZ33/AQ13),1),\"\")","v":""},"","","",{"$f":"IFERROR(astm(cityfuf(BB33),3)-astm(cityfuf(BB32),3),\"\")","v":""},"","","","","","",{"$f":"IFERROR(astm(mdiuf(BK33),3)-astm(mdiuf(BK32),3),\"\")","v":""},"","",{"$f":"IFERROR(astm(cityfufalt(BK33),3)-astm(cityfufalt(BK32),3),\"\")","v":""},"","","",{"$f":"IF(AZ33=\"\",1, MIN(IFERROR((AZ33/1000)/((AW33*$J$22)*$J$21/3600),1),IFERROR((SUMIFS(AZ11:AZ45,AV11:AV45,\"<=\"&$AV33,AV11:AV45,\">=\"&$AV33-1)/1000)/(  $J$22*SUMIFS(AW11:AW45,AV11:AV45,\"<=\"&$AV33,AV11:AV45,\">=\"&$AV33-1)*$J$21/3600),1),IFERROR((SUMIFS(AZ11:AZ45,AV11:AV45,\"<=\"&$AV33,AV11:AV45,\">=\"&$AV33-2)/1000)/(  $J$22*SUMIFS(AW11:AW45,AV11:AV45,\"<=\"&$AV33,AV11:AV45,\">=\"&$AV33-2)*$J$21/3600),1),IFERROR((SUMIFS(AZ11:AZ45,AV11:AV45,\"<=\"&$AV33,AV11:AV45,\">=\"&$AV33-3)/1000)/(  $J$22*SUMIFS(AW11:AW45,AV11:AV45,\"<=\"&$AV33,AV11:AV45,\">=\"&$AV33-3)*$J$21/3600),1)) )","v":1},"",{"$f":"IF(AZ33=\"\",1, MIN($AZ33/SUM($AZ11:$AZ33),SUMIFS(AZ11:AZ45,AV11:AV45,\">=\"&$AV33-1,AV11:AV45,\"<=\"&$AV33)/SUM($AZ11:$AZ33),SUMIFS(AZ11:AZ45,AV11:AV45,\">=\"&$AV33-2,AV11:AV45,\"<=\"&$AV33)/SUM($AZ11:$AZ33),SUMIFS(AZ11:AZ45,AV11:AV45,\">=\"&$AV33-3,AV11:AV45,\"<=\"&$AV33)/SUM($AZ11:$AZ33)) )","v":1},null,23,"","","","","","","","",{"$f":"IFERROR(astm(highwayfuf(CC33)-highwayfuf(CC32),3),\"\")","v":""},"","","","","","",{"$f":"IFERROR(astm(mdiuf(CL33)-mdiuf(CL32),3),\"\")","v":""},"","",{"$f":"IFERROR(astm(highwayfufalt(CL33)-highwayfufalt(CL32),3),\"\")","v":""},"","","",{"$f":"IF(CA33=\"\",1, MIN(IFERROR((CA33/1000)/((BX33*$J$22)*$J$21/3600),1),IFERROR((SUMIFS(CA11:CA45,BW11:BW45,\"<=\"&$BW33,BW11:BW45,\">=\"&$BW33-1)/1000)/(  $J$22*SUMIFS(BX11:BX45,BW11:BW45,\"<=\"&$BW33,BW11:BW45,\">=\"&$BW33-1)*$J$21/3600),1),IFERROR((SUMIFS(CA11:CA45,BW11:BW45,\"<=\"&$BW33,BW11:BW45,\">=\"&$BW33-2)/1000)/(  $J$22*SUMIFS(BX11:BX45,BW11:BW45,\"<=\"&$BW33,BW11:BW45,\">=\"&$BW33-2)*$J$21/3600),1),IFERROR((SUMIFS(CA11:CA45,BW11:BW45,\"<=\"&$BW33,BW11:BW45,\">=\"&$BW33-3)/1000)/(  $J$22*SUMIFS(BX11:BX45,BW11:BW45,\"<=\"&$BW33,BW11:BW45,\">=\"&$BW33-3)*$J$21/3600),1)) )","v":1},"",{"$f":"IF(CA33=\"\",1, MIN($CA33/SUM($CA11:$CA33),SUMIFS(CA11:CA45,BW11:BW45,\">=\"&$BW33-1,BW11:BW45,\"<=\"&$BW33)/SUM($CA11:$CA33),SUMIFS(CA11:CA45,BW11:BW45,\">=\"&$BW33-2,BW11:BW45,\"<=\"&$BW33)/SUM($CA11:$CA33),SUMIFS(CA11:CA45,BW11:BW45,\">=\"&$BW33-3,BW11:BW45,\"<=\"&$BW33)/SUM($CA11:$CA33)) )","v":1}]
[null,null,"GHG Rating (on scale of 1-10)",null,null,{"$f":"INDEX('Label Inputs'!$AB$5:$AE$54, MATCH(1,('Label Inputs'!$AB$5:$AB$54=$J$5)*('Label Inputs'!$AC$5:$AC$54<=$F$31),0),4)","v":10},null,null,null,null,null,null,null,null,null,null,24,null,null,null,null,null,null,null,24,null,null,null,null,null,null,null,null,null,"Unadjusted Fuel Economy (MPG) [4]",{"$f":"AJ9","v":65.796400000000006},{"$f":"AK9","v":59.488999999999997},{"$f":"AL9","v":62.8001},null,null,null,"Number of last cycle number with charge-depleting operation (transition cycle) [0]",{"$f":"IF(ISNUMBER(W48), W48,   IF(COUNTIF(BR11:BR45,\"CD\") < COUNT(R11:R45), COUNTIF(BR11:BR45,\"CD\"),     IF(COUNTIF(BT11:BT45,\"CD\") < COUNT(R11:R45), COUNTIF(BT11:BT45,\"CD\"),     \"EOT ERROR\"     )     )    )","v":4},{"$f":"IF(ISNUMBER(AE48), AE48,   IF(COUNTIF(CS11:CS45,\"CD\") < COUNT(Z11:Z45), COUNTIF(CS11:CS45,\"CD\"),     IF(COUNTIF(CU11:CU45,\"CD\") < COUNT(Z11:Z45), COUNTIF(CU11:CU45,\"CD\"),     \"EOT ERROR\"     )     )    )","v":4},null,null,null,24,"","","","",{"$f":"IFERROR(astm(  astm($W$46,3)*1000*(AZ34/AQ13),1),\"\")","v":""},"","","",{"$f":"IFERROR(astm(cityfuf(BB34),3)-astm(cityfuf(BB33),3),\"\")","v":""},"","","","","","",{"$f":"IFERROR(astm(mdiuf(BK34),3)-astm(mdiuf(BK33),3),\"\")","v":""},"","",{"$f":"IFERROR(astm(cityfufalt(BK34),3)-astm(cityfufalt(BK33),3),\"\")","v":""},"","","",{"$f":"IF(AZ34=\"\",1, MIN(IFERROR((AZ34/1000)/((AW34*$J$22)*$J$21/3600),1),IFERROR((SUMIFS(AZ11:AZ45,AV11:AV45,\"<=\"&$AV34,AV11:AV45,\">=\"&$AV34-1)/1000)/(  $J$22*SUMIFS(AW11:AW45,AV11:AV45,\"<=\"&$AV34,AV11:AV45,\">=\"&$AV34-1)*$J$21/3600),1),IFERROR((SUMIFS(AZ11:AZ45,AV11:AV45,\"<=\"&$AV34,AV11:AV45,\">=\"&$AV34-2)/1000)/(  $J$22*SUMIFS(AW11:AW45,AV11:AV45,\"<=\"&$AV34,AV11:AV45,\">=\"&$AV34-2)*$J$21/3600),1),IFERROR((SUMIFS(AZ11:AZ45,AV11:AV45,\"<=\"&$AV34,AV11:AV45,\">=\"&$AV34-3)/1000)/(  $J$22*SUMIFS(AW11:AW45,AV11:AV45,\"<=\"&$AV34,AV11:AV45,\">=\"&$AV34-3)*$J$21/3600),1)) )","v":1},"",{"$f":"IF(AZ34=\"\",1, MIN($AZ34/SUM($AZ11:$AZ34),SUMIFS(AZ11:AZ45,AV11:AV45,\">=\"&$AV34-1,AV11:AV45,\"<=\"&$AV34)/SUM($AZ11:$AZ34),SUMIFS(AZ11:AZ45,AV11:AV45,\">=\"&$AV34-2,AV11:AV45,\"<=\"&$AV34)/SUM($AZ11:$AZ34),SUMIFS(AZ11:AZ45,AV11:AV45,\">=\"&$AV34-3,AV11:AV45,\"<=\"&$AV34)/SUM($AZ11:$AZ34)) )","v":1},null,24,"","","","","","","","",{"$f":"IFERROR(astm(highwayfuf(CC34)-highwayfuf(CC33),3),\"\")","v":""},"","","","","","",{"$f":"IFERROR(astm(mdiuf(CL34)-mdiuf(CL33),3),\"\")","v":""},"","",{"$f":"IFERROR(astm(highwayfufalt(CL34)-highwayfufalt(CL33),3),\"\")","v":""},"","","",{"$f":"IF(CA34=\"\",1, MIN(IFERROR((CA34/1000)/((BX34*$J$22)*$J$21/3600),1),IFERROR((SUMIFS(CA11:CA45,BW11:BW45,\"<=\"&$BW34,BW11:BW45,\">=\"&$BW34-1)/1000)/(  $J$22*SUMIFS(BX11:BX45,BW11:BW45,\"<=\"&$BW34,BW11:BW45,\">=\"&$BW34-1)*$J$21/3600),1),IFERROR((SUMIFS(CA11:CA45,BW11:BW45,\"<=\"&$BW34,BW11:BW45,\">=\"&$BW34-2)/1000)/(  $J$22*SUMIFS(BX11:BX45,BW11:BW45,\"<=\"&$BW34,BW11:BW45,\">=\"&$BW34-2)*$J$21/3600),1),IFERROR((SUMIFS(CA11:CA45,BW11:BW45,\"<=\"&$BW34,BW11:BW45,\">=\"&$BW34-3)/1000)/(  $J$22*SUMIFS(BX11:BX45,BW11:BW45,\"<=\"&$BW34,BW11:BW45,\">=\"&$BW34-3)*$J$21/3600),1)) )","v":1},"",{"$f":"IF(CA34=\"\",1, MIN($CA34/SUM($CA11:$CA34),SUMIFS(CA11:CA45,BW11:BW45,\">=\"&$BW34-1,BW11:BW45,\"<=\"&$BW34)/SUM($CA11:$CA34),SUMIFS(CA11:CA45,BW11:BW45,\">=\"&$BW34-2,BW11:BW45,\"<=\"&$BW34)/SUM($CA11:$CA34),SUMIFS(CA11:CA45,BW11:BW45,\">=\"&$BW34-3,BW11:BW45,\"<=\"&$BW34)/SUM($CA11:$CA34)) )","v":1}]
[null,null,"Label Inputs Based on Model Year and Fuel Type (generally these should not be changed)",null,null,null,null,null,null,null,null,null,null,null,null,null,25,null,null,null,null,null,null,null,25,null,null,null,null,null,null,null,null,null,"Unadjusted GHG (g/mi) [1]",{"$f":"AJ11","v":83.7},{"$f":"AK11","v":129.5},{"$f":"AL11","v":104.3},null,null,"Intermediate Results Requiring Charge-Sustaining (CS) Test Results or Other Inputs",null,null,null,null,null,null,25,"","","","",{"$f":"IFERROR(astm(  astm($W$46,3)*1000*(AZ35/AQ13),1),\"\")","v":""},"","","",{"$f":"IFERROR(astm(cityfuf(BB35),3)-astm(cityfuf(BB34),3),\"\")","v":""},"","","","","","",{"$f":"IFERROR(astm(mdiuf(BK35),3)-astm(mdiuf(BK34),3),\"\")","v":""},"","",{"$f":"IFERROR(astm(cityfufalt(BK35),3)-astm(cityfufalt(BK34),3),\"\")","v":""},"","","",{"$f":"IF(AZ35=\"\",1, MIN(IFERROR((AZ35/1000)/((AW35*$J$22)*$J$21/3600),1),IFERROR((SUMIFS(AZ11:AZ45,AV11:AV45,\"<=\"&$AV35,AV11:AV45,\">=\"&$AV35-1)/1000)/(  $J$22*SUMIFS(AW11:AW45,AV11:AV45,\"<=\"&$AV35,AV11:AV45,\">=\"&$AV35-1)*$J$21/3600),1),IFERROR((SUMIFS(AZ11:AZ45,AV11:AV45,\"<=\"&$AV35,AV11:AV45,\">=\"&$AV35-2)/1000)/(  $J$22*SUMIFS(AW11:AW45,AV11:AV45,\"<=\"&$AV35,AV11:AV45,\">=\"&$AV35-2)*$J$21/3600),1),IFERROR((SUMIFS(AZ11:AZ45,AV11:AV45,\"<=\"&$AV35,AV11:AV45,\">=\"&$AV35-3)/1000)/(  $J$22*SUMIFS(AW11:AW45,AV11:AV45,\"<=\"&$AV35,AV11:AV45,\">=\"&$AV35-3)*$J$21/3600),1)) )","v":1},"",{"$f":"IF(AZ35=\"\",1, MIN($AZ35/SUM($AZ11:$AZ35),SUMIFS(AZ11:AZ45,AV11:AV45,\">=\"&$AV35-1,AV11:AV45,\"<=\"&$AV35)/SUM($AZ11:$AZ35),SUMIFS(AZ11:AZ45,AV11:AV45,\">=\"&$AV35-2,AV11:AV45,\"<=\"&$AV35)/SUM($AZ11:$AZ35),SUMIFS(AZ11:AZ45,AV11:AV45,\">=\"&$AV35-3,AV11:AV45,\"<=\"&$AV35)/SUM($AZ11:$AZ35)) )","v":1},null,25,"","","","","","","","",{"$f":"IFERROR(astm(highwayfuf(CC35)-highwayfuf(CC34),3),\"\")","v":""},"","","","","","",{"$f":"IFERROR(astm(mdiuf(CL35)-mdiuf(CL34),3),\"\")","v":""},"","",{"$f":"IFERROR(astm(highwayfufalt(CL35)-highwayfufalt(CL34),3),\"\")","v":""},"","","",{"$f":"IF(CA35=\"\",1, MIN(IFERROR((CA35/1000)/((BX35*$J$22)*$J$21/3600),1),IFERROR((SUMIFS(CA11:CA45,BW11:BW45,\"<=\"&$BW35,BW11:BW45,\">=\"&$BW35-1)/1000)/(  $J$22*SUMIFS(BX11:BX45,BW11:BW45,\"<=\"&$BW35,BW11:BW45,\">=\"&$BW35-1)*$J$21/3600),1),IFERROR((SUMIFS(CA11:CA45,BW11:BW45,\"<=\"&$BW35,BW11:BW45,\">=\"&$BW35-2)/1000)/(  $J$22*SUMIFS(BX11:BX45,BW11:BW45,\"<=\"&$BW35,BW11:BW45,\">=\"&$BW35-2)*$J$21/3600),1),IFERROR((SUMIFS(CA11:CA45,BW11:BW45,\"<=\"&$BW35,BW11:BW45,\">=\"&$BW35-3)/1000)/(  $J$22*SUMIFS(BX11:BX45,BW11:BW45,\"<=\"&$BW35,BW11:BW45,\">=\"&$BW35-3)*$J$21/3600),1)) )","v":1},"",{"$f":"IF(CA35=\"\",1, MIN($CA35/SUM($CA11:$CA35),SUMIFS(CA11:CA45,BW11:BW45,\">=\"&$BW35-1,BW11:BW45,\"<=\"&$BW35)/SUM($CA11:$CA35),SUMIFS(CA11:CA45,BW11:BW45,\">=\"&$BW35-2,BW11:BW45,\"<=\"&$BW35)/SUM($CA11:$CA35),SUMIFS(CA11:CA45,BW11:BW45,\">=\"&$BW35-3,BW11:BW45,\"<=\"&$BW35)/SUM($CA11:$CA35)) )","v":1}]
[null,null,"Gasoline cost ($/gallon)",null,null,{"$f":"INDEX('Label Inputs'!C5:K14,MATCH(J5,'Label Inputs'!B5:B14,0),MATCH(J9,'Label Inputs'!C4:K4,0))","v":2.7},null,null,null,null,null,null,null,null,null,null,26,null,null,null,null,null,null,null,26,null,null,null,null,null,null,null,null,null,"Adjusted Fuel Economy (MPG) [4]",{"$f":"IFERROR(astm(1/ ( AQ16 + (1-AJ33)/N12),4),0)","v":46.040999999999997},{"$f":"IFERROR(astm(1/ ( AR16 + (1-AK33)/O12),4),0)","v":41.308999999999997},{"$f":"IFERROR(astm(1/(0.55/AJ36+0.45/AK36),4),0)","v":43.783999999999999},null,null,null,"DRIVING DISTANCE VALUES","CITY","HIGHWAY",null,null,null,26,"","","","",{"$f":"IFERROR(astm(  astm($W$46,3)*1000*(AZ36/AQ13),1),\"\")","v":""},"","","",{"$f":"IFERROR(astm(cityfuf(BB36),3)-astm(cityfuf(BB35),3),\"\")","v":""},"","","","","","",{"$f":"IFERROR(astm(mdiuf(BK36),3)-astm(mdiuf(BK35),3),\"\")","v":""},"","",{"$f":"IFERROR(astm(cityfufalt(BK36),3)-astm(cityfufalt(BK35),3),\"\")","v":""},"","","",{"$f":"IF(AZ36=\"\",1, MIN(IFERROR((AZ36/1000)/((AW36*$J$22)*$J$21/3600),1),IFERROR((SUMIFS(AZ11:AZ45,AV11:AV45,\"<=\"&$AV36,AV11:AV45,\">=\"&$AV36-1)/1000)/(  $J$22*SUMIFS(AW11:AW45,AV11:AV45,\"<=\"&$AV36,AV11:AV45,\">=\"&$AV36-1)*$J$21/3600),1),IFERROR((SUMIFS(AZ11:AZ45,AV11:AV45,\"<=\"&$AV36,AV11:AV45,\">=\"&$AV36-2)/1000)/(  $J$22*SUMIFS(AW11:AW45,AV11:AV45,\"<=\"&$AV36,AV11:AV45,\">=\"&$AV36-2)*$J$21/3600),1),IFERROR((SUMIFS(AZ11:AZ45,AV11:AV45,\"<=\"&$AV36,AV11:AV45,\">=\"&$AV36-3)/1000)/(  $J$22*SUMIFS(AW11:AW45,AV11:AV45,\"<=\"&$AV36,AV11:AV45,\">=\"&$AV36-3)*$J$21/3600),1)) )","v":1},"",{"$f":"IF(AZ36=\"\",1, MIN($AZ36/SUM($AZ11:$AZ36),SUMIFS(AZ11:AZ45,AV11:AV45,\">=\"&$AV36-1,AV11:AV45,\"<=\"&$AV36)/SUM($AZ11:$AZ36),SUMIFS(AZ11:AZ45,AV11:AV45,\">=\"&$AV36-2,AV11:AV45,\"<=\"&$AV36)/SUM($AZ11:$AZ36),SUMIFS(AZ11:AZ45,AV11:AV45,\">=\"&$AV36-3,AV11:AV45,\"<=\"&$AV36)/SUM($AZ11:$AZ36)) )","v":1},null,26,"","","","","","","","",{"$f":"IFERROR(astm(highwayfuf(CC36)-highwayfuf(CC35),3),\"\")","v":""},"","","","","","",{"$f":"IFERROR(astm(mdiuf(CL36)-mdiuf(CL35),3),\"\")","v":""},"","",{"$f":"IFERROR(astm(highwayfufalt(CL36)-highwayfufalt(CL35),3),\"\")","v":""},"","","",{"$f":"IF(CA36=\"\",1, MIN(IFERROR((CA36/1000)/((BX36*$J$22)*$J$21/3600),1),IFERROR((SUMIFS(CA11:CA45,BW11:BW45,\"<=\"&$BW36,BW11:BW45,\">=\"&$BW36-1)/1000)/(  $J$22*SUMIFS(BX11:BX45,BW11:BW45,\"<=\"&$BW36,BW11:BW45,\">=\"&$BW36-1)*$J$21/3600),1),IFERROR((SUMIFS(CA11:CA45,BW11:BW45,\"<=\"&$BW36,BW11:BW45,\">=\"&$BW36-2)/1000)/(  $J$22*SUMIFS(BX11:BX45,BW11:BW45,\"<=\"&$BW36,BW11:BW45,\">=\"&$BW36-2)*$J$21/3600),1),IFERROR((SUMIFS(CA11:CA45,BW11:BW45,\"<=\"&$BW36,BW11:BW45,\">=\"&$BW36-3)/1000)/(  $J$22*SUMIFS(BX11:BX45,BW11:BW45,\"<=\"&$BW36,BW11:BW45,\">=\"&$BW36-3)*$J$21/3600),1)) )","v":1},"",{"$f":"IF(CA36=\"\",1, MIN($CA36/SUM($CA11:$CA36),SUMIFS(CA11:CA45,BW11:BW45,\">=\"&$BW36-1,BW11:BW45,\"<=\"&$BW36)/SUM($CA11:$CA36),SUMIFS(CA11:CA45,BW11:BW45,\">=\"&$BW36-2,BW11:BW45,\"<=\"&$BW36)/SUM($CA11:$CA36),SUMIFS(CA11:CA45,BW11:BW45,\">=\"&$BW36-3,BW11:BW45,\"<=\"&$BW36)/SUM($CA11:$CA36)) )","v":1}]
[null,null,"Electricity cost ($/kW-hour)",null,null,{"$f":"INDEX('Label Inputs'!C5:K14,MATCH(J5,'Label Inputs'!B5:B14,0),MATCH(\"Electricity\",'Label Inputs'!C4:K4,0))","v":0.13},null,null,null,null,null,null,null,null,null,null,27,null,null,null,null,null,null,null,27,null,null,null,null,null,null,null,null,null,"Adjusted GHG (g/mi) [1]",{"$f":"IFERROR(astm(  AQ28    +(1-AJ33)*astm(N15,1),1),0)","v":121.9},{"$f":"IFERROR(astm(  AR28    +(1-AK33)*astm(O15,1),1),0)","v":184.2},{"$f":"IFERROR(astm(0.55*AJ37+0.45*AK37,1),0)","v":149.9},null,null,null,"CD Equivalent All-Electric Range (EAER), Unadjusted (mi) [3]",{"$f":"astm(AQ6*((N14-AQ24)/N14),3)","v":28.259},{"$f":"astm(AR6*((O14-AR24)/O14),3)","v":41.012},null,null,null,27,"","","","",{"$f":"IFERROR(astm(  astm($W$46,3)*1000*(AZ37/AQ13),1),\"\")","v":""},"","","",{"$f":"IFERROR(astm(cityfuf(BB37),3)-astm(cityfuf(BB36),3),\"\")","v":""},"","","","","","",{"$f":"IFERROR(astm(mdiuf(BK37),3)-astm(mdiuf(BK36),3),\"\")","v":""},"","",{"$f":"IFERROR(astm(cityfufalt(BK37),3)-astm(cityfufalt(BK36),3),\"\")","v":""},"","","",{"$f":"IF(AZ37=\"\",1, MIN(IFERROR((AZ37/1000)/((AW37*$J$22)*$J$21/3600),1),IFERROR((SUMIFS(AZ11:AZ45,AV11:AV45,\"<=\"&$AV37,AV11:AV45,\">=\"&$AV37-1)/1000)/(  $J$22*SUMIFS(AW11:AW45,AV11:AV45,\"<=\"&$AV37,AV11:AV45,\">=\"&$AV37-1)*$J$21/3600),1),IFERROR((SUMIFS(AZ11:AZ45,AV11:AV45,\"<=\"&$AV37,AV11:AV45,\">=\"&$AV37-2)/1000)/(  $J$22*SUMIFS(AW11:AW45,AV11:AV45,\"<=\"&$AV37,AV11:AV45,\">=\"&$AV37-2)*$J$21/3600),1),IFERROR((SUMIFS(AZ11:AZ45,AV11:AV45,\"<=\"&$AV37,AV11:AV45,\">=\"&$AV37-3)/1000)/(  $J$22*SUMIFS(AW11:AW45,AV11:AV45,\"<=\"&$AV37,AV11:AV45,\">=\"&$AV37-3)*$J$21/3600),1)) )","v":1},"",{"$f":"IF(AZ37=\"\",1, MIN($AZ37/SUM($AZ11:$AZ37),SUMIFS(AZ11:AZ45,AV11:AV45,\">=\"&$AV37-1,AV11:AV45,\"<=\"&$AV37)/SUM($AZ11:$AZ37),SUMIFS(AZ11:AZ45,AV11:AV45,\">=\"&$AV37-2,AV11:AV45,\"<=\"&$AV37)/SUM($AZ11:$AZ37),SUMIFS(AZ11:AZ45,AV11:AV45,\">=\"&$AV37-3,AV11:AV45,\"<=\"&$AV37)/SUM($AZ11:$AZ37)) )","v":1},null,27,"","","","","","","","",{"$f":"IFERROR(astm(highwayfuf(CC37)-highwayfuf(CC36),3),\"\")","v":""},"","","","","","",{"$f":"IFERROR(astm(mdiuf(CL37)-mdiuf(CL36),3),\"\")","v":""},"","",{"$f":"IFERROR(astm(highwayfufalt(CL37)-highwayfufalt(CL36),3),\"\")","v":""},"","","",{"$f":"IF(CA37=\"\",1, MIN(IFERROR((CA37/1000)/((BX37*$J$22)*$J$21/3600),1),IFERROR((SUMIFS(CA11:CA45,BW11:BW45,\"<=\"&$BW37,BW11:BW45,\">=\"&$BW37-1)/1000)/(  $J$22*SUMIFS(BX11:BX45,BW11:BW45,\"<=\"&$BW37,BW11:BW45,\">=\"&$BW37-1)*$J$21/3600),1),IFERROR((SUMIFS(CA11:CA45,BW11:BW45,\"<=\"&$BW37,BW11:BW45,\">=\"&$BW37-2)/1000)/(  $J$22*SUMIFS(BX11:BX45,BW11:BW45,\"<=\"&$BW37,BW11:BW45,\">=\"&$BW37-2)*$J$21/3600),1),IFERROR((SUMIFS(CA11:CA45,BW11:BW45,\"<=\"&$BW37,BW11:BW45,\">=\"&$BW37-3)/1000)/(  $J$22*SUMIFS(BX11:BX45,BW11:BW45,\"<=\"&$BW37,BW11:BW45,\">=\"&$BW37-3)*$J$21/3600),1)) )","v":1},"",{"$f":"IF(CA37=\"\",1, MIN($CA37/SUM($CA11:$CA37),SUMIFS(CA11:CA45,BW11:BW45,\">=\"&$BW37-1,BW11:BW45,\"<=\"&$BW37)/SUM($CA11:$CA37),SUMIFS(CA11:CA45,BW11:BW45,\">=\"&$BW37-2,BW11:BW45,\"<=\"&$BW37)/SUM($CA11:$CA37),SUMIFS(CA11:CA45,BW11:BW45,\">=\"&$BW37-3,BW11:BW45,\"<=\"&$BW37)/SUM($CA11:$CA37)) )","v":1}]
[null,null,"Average vehicle 5-year cost ($)",null,null,{"$f":"VLOOKUP(J5,'Label Inputs'!R4:S14,2,FALSE)","v":7500},null,null,null,null,null,null,null,null,null,null,28,null,null,null,null,null,null,null,28,null,null,null,null,null,null,null,null,null,null,null,null,null,null,null,null,"Charge-sustaining driving range, adjusted (mi) [3]",{"$f":"IFERROR(astm((astm($J$11,1)-AQ18)*astm(N12,4),3),0)","v":324.55599999999998},{"$f":"IFERROR(astm((astm($J$11,1)-AR18)*astm(O12,4),3),0)","v":368.08},null,null,null,28,"","","","",{"$f":"IFERROR(astm(  astm($W$46,3)*1000*(AZ38/AQ13),1),\"\")","v":""},"","","",{"$f":"IFERROR(astm(cityfuf(BB38),3)-astm(cityfuf(BB37),3),\"\")","v":""},"","","","","","",{"$f":"IFERROR(astm(mdiuf(BK38),3)-astm(mdiuf(BK37),3),\"\")","v":""},"","",{"$f":"IFERROR(astm(cityfufalt(BK38),3)-astm(cityfufalt(BK37),3),\"\")","v":""},"","","",{"$f":"IF(AZ38=\"\",1, MIN(IFERROR((AZ38/1000)/((AW38*$J$22)*$J$21/3600),1),IFERROR((SUMIFS(AZ11:AZ45,AV11:AV45,\"<=\"&$AV38,AV11:AV45,\">=\"&$AV38-1)/1000)/(  $J$22*SUMIFS(AW11:AW45,AV11:AV45,\"<=\"&$AV38,AV11:AV45,\">=\"&$AV38-1)*$J$21/3600),1),IFERROR((SUMIFS(AZ11:AZ45,AV11:AV45,\"<=\"&$AV38,AV11:AV45,\">=\"&$AV38-2)/1000)/(  $J$22*SUMIFS(AW11:AW45,AV11:AV45,\"<=\"&$AV38,AV11:AV45,\">=\"&$AV38-2)*$J$21/3600),1),IFERROR((SUMIFS(AZ11:AZ45,AV11:AV45,\"<=\"&$AV38,AV11:AV45,\">=\"&$AV38-3)/1000)/(  $J$22*SUMIFS(AW11:AW45,AV11:AV45,\"<=\"&$AV38,AV11:AV45,\">=\"&$AV38-3)*$J$21/3600),1)) )","v":1},"",{"$f":"IF(AZ38=\"\",1, MIN($AZ38/SUM($AZ11:$AZ38),SUMIFS(AZ11:AZ45,AV11:AV45,\">=\"&$AV38-1,AV11:AV45,\"<=\"&$AV38)/SUM($AZ11:$AZ38),SUMIFS(AZ11:AZ45,AV11:AV45,\">=\"&$AV38-2,AV11:AV45,\"<=\"&$AV38)/SUM($AZ11:$AZ38),SUMIFS(AZ11:AZ45,AV11:AV45,\">=\"&$AV38-3,AV11:AV45,\"<=\"&$AV38)/SUM($AZ11:$AZ38)) )","v":1},null,28,"","","","","","","","",{"$f":"IFERROR(astm(highwayfuf(CC38)-highwayfuf(CC37),3),\"\")","v":""},"","","","","","",{"$f":"IFERROR(astm(mdiuf(CL38)-mdiuf(CL37),3),\"\")","v":""},"","",{"$f":"IFERROR(astm(highwayfufalt(CL38)-highwayfufalt(CL37),3),\"\")","v":""},"","","",{"$f":"IF(CA38=\"\",1, MIN(IFERROR((CA38/1000)/((BX38*$J$22)*$J$21/3600),1),IFERROR((SUMIFS(CA11:CA45,BW11:BW45,\"<=\"&$BW38,BW11:BW45,\">=\"&$BW38-1)/1000)/(  $J$22*SUMIFS(BX11:BX45,BW11:BW45,\"<=\"&$BW38,BW11:BW45,\">=\"&$BW38-1)*$J$21/3600),1),IFERROR((SUMIFS(CA11:CA45,BW11:BW45,\"<=\"&$BW38,BW11:BW45,\">=\"&$BW38-2)/1000)/(  $J$22*SUMIFS(BX11:BX45,BW11:BW45,\"<=\"&$BW38,BW11:BW45,\">=\"&$BW38-2)*$J$21/3600),1),IFERROR((SUMIFS(CA11:CA45,BW11:BW45,\"<=\"&$BW38,BW11:BW45,\">=\"&$BW38-3)/1000)/(  $J$22*SUMIFS(BX11:BX45,BW11:BW45,\"<=\"&$BW38,BW11:BW45,\">=\"&$BW38-3)*$J$21/3600),1)) )","v":1},"",{"$f":"IF(CA38=\"\",1, MIN($CA38/SUM($CA11:$CA38),SUMIFS(CA11:CA45,BW11:BW45,\">=\"&$BW38-1,BW11:BW45,\"<=\"&$BW38)/SUM($CA11:$CA38),SUMIFS(CA11:CA45,BW11:BW45,\">=\"&$BW38-2,BW11:BW45,\"<=\"&$BW38)/SUM($CA11:$CA38),SUMIFS(CA11:CA45,BW11:BW45,\">=\"&$BW38-3,BW11:BW45,\"<=\"&$BW38)/SUM($CA11:$CA38)) )","v":1}]
[null,null,"Average vehicle MPG",null,null,{"$f":"VLOOKUP(J5,'Label Inputs'!M4:N14,2,FALSE)","v":27},null,null,null,null,null,null,null,null,null,null,29,null,null,null,null,null,null,null,29,null,null,null,null,null,null,null,null,null,null,null,null,null,null,null,null,"UTILITY FACTORS & OTHER METRICS","CITY","HIGHWAY",null,null,null,29,"","","","",{"$f":"IFERROR(astm(  astm($W$46,3)*1000*(AZ39/AQ13),1),\"\")","v":""},"","","",{"$f":"IFERROR(astm(cityfuf(BB39),3)-astm(cityfuf(BB38),3),\"\")","v":""},"","","","","","",{"$f":"IFERROR(astm(mdiuf(BK39),3)-astm(mdiuf(BK38),3),\"\")","v":""},"","",{"$f":"IFERROR(astm(cityfufalt(BK39),3)-astm(cityfufalt(BK38),3),\"\")","v":""},"","","",{"$f":"IF(AZ39=\"\",1, MIN(IFERROR((AZ39/1000)/((AW39*$J$22)*$J$21/3600),1),IFERROR((SUMIFS(AZ11:AZ45,AV11:AV45,\"<=\"&$AV39,AV11:AV45,\">=\"&$AV39-1)/1000)/(  $J$22*SUMIFS(AW11:AW45,AV11:AV45,\"<=\"&$AV39,AV11:AV45,\">=\"&$AV39-1)*$J$21/3600),1),IFERROR((SUMIFS(AZ11:AZ45,AV11:AV45,\"<=\"&$AV39,AV11:AV45,\">=\"&$AV39-2)/1000)/(  $J$22*SUMIFS(AW11:AW45,AV11:AV45,\"<=\"&$AV39,AV11:AV45,\">=\"&$AV39-2)*$J$21/3600),1),IFERROR((SUMIFS(AZ11:AZ45,AV11:AV45,\"<=\"&$AV39,AV11:AV45,\">=\"&$AV39-3)/1000)/(  $J$22*SUMIFS(AW11:AW45,AV11:AV45,\"<=\"&$AV39,AV11:AV45,\">=\"&$AV39-3)*$J$21/3600),1)) )","v":1},"",{"$f":"IF(AZ39=\"\",1, MIN($AZ39/SUM($AZ11:$AZ39),SUMIFS(AZ11:AZ45,AV11:AV45,\">=\"&$AV39-1,AV11:AV45,\"<=\"&$AV39)/SUM($AZ11:$AZ39),SUMIFS(AZ11:AZ45,AV11:AV45,\">=\"&$AV39-2,AV11:AV45,\"<=\"&$AV39)/SUM($AZ11:$AZ39),SUMIFS(AZ11:AZ45,AV11:AV45,\">=\"&$AV39-3,AV11:AV45,\"<=\"&$AV39)/SUM($AZ11:$AZ39)) )","v":1},null,29,"","","","","","","","",{"$f":"IFERROR(astm(highwayfuf(CC39)-highwayfuf(CC38),3),\"\")","v":""},"","","","","","",{"$f":"IFERROR(astm(mdiuf(CL39)-mdiuf(CL38),3),\"\")","v":""},"","",{"$f":"IFERROR(astm(highwayfufalt(CL39)-highwayfufalt(CL38),3),\"\")","v":""},"","","",{"$f":"IF(CA39=\"\",1, MIN(IFERROR((CA39/1000)/((BX39*$J$22)*$J$21/3600),1),IFERROR((SUMIFS(CA11:CA45,BW11:BW45,\"<=\"&$BW39,BW11:BW45,\">=\"&$BW39-1)/1000)/(  $J$22*SUMIFS(BX11:BX45,BW11:BW45,\"<=\"&$BW39,BW11:BW45,\">=\"&$BW39-1)*$J$21/3600),1),IFERROR((SUMIFS(CA11:CA45,BW11:BW45,\"<=\"&$BW39,BW11:BW45,\">=\"&$BW39-2)/1000)/(  $J$22*SUMIFS(BX11:BX45,BW11:BW45,\"<=\"&$BW39,BW11:BW45,\">=\"&$BW39-2)*$J$21/3600),1),IFERROR((SUMIFS(CA11:CA45,BW11:BW45,\"<=\"&$BW39,BW11:BW45,\">=\"&$BW39-3)/1000)/(  $J$22*SUMIFS(BX11:BX45,BW11:BW45,\"<=\"&$BW39,BW11:BW45,\">=\"&$BW39-3)*$J$21/3600),1)) )","v":1},"",{"$f":"IF(CA39=\"\",1, MIN($CA39/SUM($CA11:$CA39),SUMIFS(CA11:CA45,BW11:BW45,\">=\"&$BW39-1,BW11:BW45,\"<=\"&$BW39)/SUM($CA11:$CA39),SUMIFS(CA11:CA45,BW11:BW45,\">=\"&$BW39-2,BW11:BW45,\"<=\"&$BW39)/SUM($CA11:$CA39),SUMIFS(CA11:CA45,BW11:BW45,\">=\"&$BW39-3,BW11:BW45,\"<=\"&$BW39)/SUM($CA11:$CA39)) )","v":1}]
[null,null,null,null,null,null,null,null,null,null,null,null,null,null,null,null,30,null,null,null,null,null,null,null,30,null,null,null,null,null,null,null,null,null,null,null,null,null,null,null,null,"CD 55/45 Fleet Utility Factor (FUF) for EAER [3]",{"$f":"astm(cityfuf(AQ37),3)","v":0.64700000000000002},{"$f":"astm(highwayfuf(AR37),3)","v":0.436},null,null,null,30,"","","","",{"$f":"IFERROR(astm(  astm($W$46,3)*1000*(AZ40/AQ13),1),\"\")","v":""},"","","",{"$f":"IFERROR(astm(cityfuf(BB40),3)-astm(cityfuf(BB39),3),\"\")","v":""},"","","","","","",{"$f":"IFERROR(astm(mdiuf(BK40),3)-astm(mdiuf(BK39),3),\"\")","v":""},"","",{"$f":"IFERROR(astm(cityfufalt(BK40),3)-astm(cityfufalt(BK39),3),\"\")","v":""},"","","",{"$f":"IF(AZ40=\"\",1, MIN(IFERROR((AZ40/1000)/((AW40*$J$22)*$J$21/3600),1),IFERROR((SUMIFS(AZ11:AZ45,AV11:AV45,\"<=\"&$AV40,AV11:AV45,\">=\"&$AV40-1)/1000)/(  $J$22*SUMIFS(AW11:AW45,AV11:AV45,\"<=\"&$AV40,AV11:AV45,\">=\"&$AV40-1)*$J$21/3600),1),IFERROR((SUMIFS(AZ11:AZ45,AV11:AV45,\"<=\"&$AV40,AV11:AV45,\">=\"&$AV40-2)/1000)/(  $J$22*SUMIFS(AW11:AW45,AV11:AV45,\"<=\"&$AV40,AV11:AV45,\">=\"&$AV40-2)*$J$21/3600),1),IFERROR((SUMIFS(AZ11:AZ45,AV11:AV45,\"<=\"&$AV40,AV11:AV45,\">=\"&$AV40-3)/1000)/(  $J$22*SUMIFS(AW11:AW45,AV11:AV45,\"<=\"&$AV40,AV11:AV45,\">=\"&$AV40-3)*$J$21/3600),1)) )","v":1},"",{"$f":"IF(AZ40=\"\",1, MIN($AZ40/SUM($AZ11:$AZ40),SUMIFS(AZ11:AZ45,AV11:AV45,\">=\"&$AV40-1,AV11:AV45,\"<=\"&$AV40)/SUM($AZ11:$AZ40),SUMIFS(AZ11:AZ45,AV11:AV45,\">=\"&$AV40-2,AV11:AV45,\"<=\"&$AV40)/SUM($AZ11:$AZ40),SUMIFS(AZ11:AZ45,AV11:AV45,\">=\"&$AV40-3,AV11:AV45,\"<=\"&$AV40)/SUM($AZ11:$AZ40)) )","v":1},null,30,"","","","","","","","",{"$f":"IFERROR(astm(highwayfuf(CC40)-highwayfuf(CC39),3),\"\")","v":""},"","","","","","",{"$f":"IFERROR(astm(mdiuf(CL40)-mdiuf(CL39),3),\"\")","v":""},"","",{"$f":"IFERROR(astm(highwayfufalt(CL40)-highwayfufalt(CL39),3),\"\")","v":""},"","","",{"$f":"IF(CA40=\"\",1, MIN(IFERROR((CA40/1000)/((BX40*$J$22)*$J$21/3600),1),IFERROR((SUMIFS(CA11:CA45,BW11:BW45,\"<=\"&$BW40,BW11:BW45,\">=\"&$BW40-1)/1000)/(  $J$22*SUMIFS(BX11:BX45,BW11:BW45,\"<=\"&$BW40,BW11:BW45,\">=\"&$BW40-1)*$J$21/3600),1),IFERROR((SUMIFS(CA11:CA45,BW11:BW45,\"<=\"&$BW40,BW11:BW45,\">=\"&$BW40-2)/1000)/(  $J$22*SUMIFS(BX11:BX45,BW11:BW45,\"<=\"&$BW40,BW11:BW45,\">=\"&$BW40-2)*$J$21/3600),1),IFERROR((SUMIFS(CA11:CA45,BW11:BW45,\"<=\"&$BW40,BW11:BW45,\">=\"&$BW40-3)/1000)/(  $J$22*SUMIFS(BX11:BX45,BW11:BW45,\"<=\"&$BW40,BW11:BW45,\">=\"&$BW40-3)*$J$21/3600),1)) )","v":1},"",{"$f":"IF(CA40=\"\",1, MIN($CA40/SUM($CA11:$CA40),SUMIFS(CA11:CA45,BW11:BW45,\">=\"&$BW40-1,BW11:BW45,\"<=\"&$BW40)/SUM($CA11:$CA40),SUMIFS(CA11:CA45,BW11:BW45,\">=\"&$BW40-2,BW11:BW45,\"<=\"&$BW40)/SUM($CA11:$CA40),SUMIFS(CA11:CA45,BW11:BW45,\">=\"&$BW40-3,BW11:BW45,\"<=\"&$BW40)/SUM($CA11:$CA40)) )","v":1}]
[null,"THE FOLLOWING VALUES ARE USED FOR OTHER EPA PUBLICATIONS OR PROGRAMS",null,null,null,null,null,null,null,null,null,null,null,null,null,null,31,null,null,null,null,null,null,null,31,null,null,null,null,null,null,null,null,null,null,null,null,null,null,null,null,"FUEL COSTS: PROCESS FOR DERIVING A COMPOSITE CD/CS COST PER MILE","CITY","HIGHWAY",null,null,null,31,"","","","",{"$f":"IFERROR(astm(  astm($W$46,3)*1000*(AZ41/AQ13),1),\"\")","v":""},"","","",{"$f":"IFERROR(astm(cityfuf(BB41),3)-astm(cityfuf(BB40),3),\"\")","v":""},"","","","","","",{"$f":"IFERROR(astm(mdiuf(BK41),3)-astm(mdiuf(BK40),3),\"\")","v":""},"","",{"$f":"IFERROR(astm(cityfufalt(BK41),3)-astm(cityfufalt(BK40),3),\"\")","v":""},"","","",{"$f":"IF(AZ41=\"\",1, MIN(IFERROR((AZ41/1000)/((AW41*$J$22)*$J$21/3600),1),IFERROR((SUMIFS(AZ11:AZ45,AV11:AV45,\"<=\"&$AV41,AV11:AV45,\">=\"&$AV41-1)/1000)/(  $J$22*SUMIFS(AW11:AW45,AV11:AV45,\"<=\"&$AV41,AV11:AV45,\">=\"&$AV41-1)*$J$21/3600),1),IFERROR((SUMIFS(AZ11:AZ45,AV11:AV45,\"<=\"&$AV41,AV11:AV45,\">=\"&$AV41-2)/1000)/(  $J$22*SUMIFS(AW11:AW45,AV11:AV45,\"<=\"&$AV41,AV11:AV45,\">=\"&$AV41-2)*$J$21/3600),1),IFERROR((SUMIFS(AZ11:AZ45,AV11:AV45,\"<=\"&$AV41,AV11:AV45,\">=\"&$AV41-3)/1000)/(  $J$22*SUMIFS(AW11:AW45,AV11:AV45,\"<=\"&$AV41,AV11:AV45,\">=\"&$AV41-3)*$J$21/3600),1)) )","v":1},"",{"$f":"IF(AZ41=\"\",1, MIN($AZ41/SUM($AZ11:$AZ41),SUMIFS(AZ11:AZ45,AV11:AV45,\">=\"&$AV41-1,AV11:AV45,\"<=\"&$AV41)/SUM($AZ11:$AZ41),SUMIFS(AZ11:AZ45,AV11:AV45,\">=\"&$AV41-2,AV11:AV45,\"<=\"&$AV41)/SUM($AZ11:$AZ41),SUMIFS(AZ11:AZ45,AV11:AV45,\">=\"&$AV41-3,AV11:AV45,\"<=\"&$AV41)/SUM($AZ11:$AZ41)) )","v":1},null,31,"","","","","","","","",{"$f":"IFERROR(astm(highwayfuf(CC41)-highwayfuf(CC40),3),\"\")","v":""},"","","","","","",{"$f":"IFERROR(astm(mdiuf(CL41)-mdiuf(CL40),3),\"\")","v":""},"","",{"$f":"IFERROR(astm(highwayfufalt(CL41)-highwayfufalt(CL40),3),\"\")","v":""},"","","",{"$f":"IF(CA41=\"\",1, MIN(IFERROR((CA41/1000)/((BX41*$J$22)*$J$21/3600),1),IFERROR((SUMIFS(CA11:CA45,BW11:BW45,\"<=\"&$BW41,BW11:BW45,\">=\"&$BW41-1)/1000)/(  $J$22*SUMIFS(BX11:BX45,BW11:BW45,\"<=\"&$BW41,BW11:BW45,\">=\"&$BW41-1)*$J$21/3600),1),IFERROR((SUMIFS(CA11:CA45,BW11:BW45,\"<=\"&$BW41,BW11:BW45,\">=\"&$BW41-2)/1000)/(  $J$22*SUMIFS(BX11:BX45,BW11:BW45,\"<=\"&$BW41,BW11:BW45,\">=\"&$BW41-2)*$J$21/3600),1),IFERROR((SUMIFS(CA11:CA45,BW11:BW45,\"<=\"&$BW41,BW11:BW45,\">=\"&$BW41-3)/1000)/(  $J$22*SUMIFS(BX11:BX45,BW11:BW45,\"<=\"&$BW41,BW11:BW45,\">=\"&$BW41-3)*$J$21/3600),1)) )","v":1},"",{"$f":"IF(CA41=\"\",1, MIN($CA41/SUM($CA11:$CA41),SUMIFS(CA11:CA45,BW11:BW45,\">=\"&$BW41-1,BW11:BW45,\"<=\"&$BW41)/SUM($CA11:$CA41),SUMIFS(CA11:CA45,BW11:BW45,\">=\"&$BW41-2,BW11:BW45,\"<=\"&$BW41)/SUM($CA11:$CA41),SUMIFS(CA11:CA45,BW11:BW45,\">=\"&$BW41-3,BW11:BW45,\"<=\"&$BW41)/SUM($CA11:$CA41)) )","v":1}]
[null,null,"Trends Report Values","City","Highway",null,null,null,null,null,null,null,null,null,null,null,32,null,null,null,null,null,null,null,32,null,null,null,null,null,null,null,null,null,null,null,null,null,null,null,null,"CD cost per mile - electricity ($/mi) [3]",{"$f":"astm($F$37*$AQ$12/100,3)","v":6.5000000000000002E-2},{"$f":"astm($F$37*$AR$12/100,3)","v":4.2999999999999997E-2},null,null,null,32,"","","","",{"$f":"IFERROR(astm(  astm($W$46,3)*1000*(AZ42/AQ13),1),\"\")","v":""},"","","",{"$f":"IFERROR(astm(cityfuf(BB42),3)-astm(cityfuf(BB41),3),\"\")","v":""},"","","","","","",{"$f":"IFERROR(astm(mdiuf(BK42),3)-astm(mdiuf(BK41),3),\"\")","v":""},"","",{"$f":"IFERROR(astm(cityfufalt(BK42),3)-astm(cityfufalt(BK41),3),\"\")","v":""},"","","",{"$f":"IF(AZ42=\"\",1, MIN(IFERROR((AZ42/1000)/((AW42*$J$22)*$J$21/3600),1),IFERROR((SUMIFS(AZ11:AZ45,AV11:AV45,\"<=\"&$AV42,AV11:AV45,\">=\"&$AV42-1)/1000)/(  $J$22*SUMIFS(AW11:AW45,AV11:AV45,\"<=\"&$AV42,AV11:AV45,\">=\"&$AV42-1)*$J$21/3600),1),IFERROR((SUMIFS(AZ11:AZ45,AV11:AV45,\"<=\"&$AV42,AV11:AV45,\">=\"&$AV42-2)/1000)/(  $J$22*SUMIFS(AW11:AW45,AV11:AV45,\"<=\"&$AV42,AV11:AV45,\">=\"&$AV42-2)*$J$21/3600),1),IFERROR((SUMIFS(AZ11:AZ45,AV11:AV45,\"<=\"&$AV42,AV11:AV45,\">=\"&$AV42-3)/1000)/(  $J$22*SUMIFS(AW11:AW45,AV11:AV45,\"<=\"&$AV42,AV11:AV45,\">=\"&$AV42-3)*$J$21/3600),1)) )","v":1},"",{"$f":"IF(AZ42=\"\",1, MIN($AZ42/SUM($AZ11:$AZ42),SUMIFS(AZ11:AZ45,AV11:AV45,\">=\"&$AV42-1,AV11:AV45,\"<=\"&$AV42)/SUM($AZ11:$AZ42),SUMIFS(AZ11:AZ45,AV11:AV45,\">=\"&$AV42-2,AV11:AV45,\"<=\"&$AV42)/SUM($AZ11:$AZ42),SUMIFS(AZ11:AZ45,AV11:AV45,\">=\"&$AV42-3,AV11:AV45,\"<=\"&$AV42)/SUM($AZ11:$AZ42)) )","v":1},null,32,"","","","","","","","",{"$f":"IFERROR(astm(highwayfuf(CC42)-highwayfuf(CC41),3),\"\")","v":""},"","","","","","",{"$f":"IFERROR(astm(mdiuf(CL42)-mdiuf(CL41),3),\"\")","v":""},"","",{"$f":"IFERROR(astm(highwayfufalt(CL42)-highwayfufalt(CL41),3),\"\")","v":""},"","","",{"$f":"IF(CA42=\"\",1, MIN(IFERROR((CA42/1000)/((BX42*$J$22)*$J$21/3600),1),IFERROR((SUMIFS(CA11:CA45,BW11:BW45,\"<=\"&$BW42,BW11:BW45,\">=\"&$BW42-1)/1000)/(  $J$22*SUMIFS(BX11:BX45,BW11:BW45,\"<=\"&$BW42,BW11:BW45,\">=\"&$BW42-1)*$J$21/3600),1),IFERROR((SUMIFS(CA11:CA45,BW11:BW45,\"<=\"&$BW42,BW11:BW45,\">=\"&$BW42-2)/1000)/(  $J$22*SUMIFS(BX11:BX45,BW11:BW45,\"<=\"&$BW42,BW11:BW45,\">=\"&$BW42-2)*$J$21/3600),1),IFERROR((SUMIFS(CA11:CA45,BW11:BW45,\"<=\"&$BW42,BW11:BW45,\">=\"&$BW42-3)/1000)/(  $J$22*SUMIFS(BX11:BX45,BW11:BW45,\"<=\"&$BW42,BW11:BW45,\">=\"&$BW42-3)*$J$21/3600),1)) )","v":1},"",{"$f":"IF(CA42=\"\",1, MIN($CA42/SUM($CA11:$CA42),SUMIFS(CA11:CA45,BW11:BW45,\">=\"&$BW42-1,BW11:BW45,\"<=\"&$BW42)/SUM($CA11:$CA42),SUMIFS(CA11:CA45,BW11:BW45,\">=\"&$BW42-2,BW11:BW45,\"<=\"&$BW42)/SUM($CA11:$CA42),SUMIFS(CA11:CA45,BW11:BW45,\">=\"&$BW42-3,BW11:BW45,\"<=\"&$BW42)/SUM($CA11:$CA42)) )","v":1}]
[null,null,"Fleet Utility Factor (43/57)",{"$f":"astm(IF($N$7+$N$55+$N$103=0,SUM(IFERROR(AJ33,0),IFERROR(AJ81,0),IFERROR(AJ129,0)) / ((AJ33<>0)+(AJ81<>0)+(AJ129<>0)),($N$7*AJ33+$N$55*AJ81+$N$103*AJ129)/($N$7+$N$55+$N$103)),4)","v":0.58399999999999996},{"$f":"astm(IF($N$7+$N$55+$N$103=0,SUM(IFERROR(AK33,0),IFERROR(AK81,0),IFERROR(AK129,0)) / ((AK33<>0)+(AK81<>0)+(AK129<>0)),($N$7*AK33+$N$55*AK81+$N$103*AK129)/($N$7+$N$55+$N$103)),4)","v":0.35799999999999998},null,null,null,null,null,null,null,null,null,null,null,33,null,null,null,null,null,null,null,33,null,null,null,null,null,null,null,null,null,null,null,null,null,null,null,null,"CD cost per mile - gasoline ($/mi) [3]",{"$f":"astm($F$36*((SUMIF(AV11:AV45,\"<=\" & (AQ34-1),AW11:AW45) + AQ33*SUMIF(AV11:AV45,\"=\" & (AQ34-1),AW11:AW45))/AQ7),3)","v":0},{"$f":"astm($F$36*((SUMIF(BW11:BW45,\"<=\" & (AR34-1),BX11:BX45) + AR33*SUMIF(BW11:BW45,\"=\" & (AR34-1),BX11:BX45))/AR7),3)","v":0},null,null,null,33,"","","","",{"$f":"IFERROR(astm(  astm($W$46,3)*1000*(AZ43/AQ13),1),\"\")","v":""},"","","",{"$f":"IFERROR(astm(cityfuf(BB43),3)-astm(cityfuf(BB42),3),\"\")","v":""},"","","","","","",{"$f":"IFERROR(astm(mdiuf(BK43),3)-astm(mdiuf(BK42),3),\"\")","v":""},"","",{"$f":"IFERROR(astm(cityfufalt(BK43),3)-astm(cityfufalt(BK42),3),\"\")","v":""},"","","",{"$f":"IF(AZ43=\"\",1, MIN(IFERROR((AZ43/1000)/((AW43*$J$22)*$J$21/3600),1),IFERROR((SUMIFS(AZ11:AZ45,AV11:AV45,\"<=\"&$AV43,AV11:AV45,\">=\"&$AV43-1)/1000)/(  $J$22*SUMIFS(AW11:AW45,AV11:AV45,\"<=\"&$AV43,AV11:AV45,\">=\"&$AV43-1)*$J$21/3600),1),IFERROR((SUMIFS(AZ11:AZ45,AV11:AV45,\"<=\"&$AV43,AV11:AV45,\">=\"&$AV43-2)/1000)/(  $J$22*SUMIFS(AW11:AW45,AV11:AV45,\"<=\"&$AV43,AV11:AV45,\">=\"&$AV43-2)*$J$21/3600),1),IFERROR((SUMIFS(AZ11:AZ45,AV11:AV45,\"<=\"&$AV43,AV11:AV45,\">=\"&$AV43-3)/1000)/(  $J$22*SUMIFS(AW11:AW45,AV11:AV45,\"<=\"&$AV43,AV11:AV45,\">=\"&$AV43-3)*$J$21/3600),1)) )","v":1},"",{"$f":"IF(AZ43=\"\",1, MIN($AZ43/SUM($AZ11:$AZ43),SUMIFS(AZ11:AZ45,AV11:AV45,\">=\"&$AV43-1,AV11:AV45,\"<=\"&$AV43)/SUM($AZ11:$AZ43),SUMIFS(AZ11:AZ45,AV11:AV45,\">=\"&$AV43-2,AV11:AV45,\"<=\"&$AV43)/SUM($AZ11:$AZ43),SUMIFS(AZ11:AZ45,AV11:AV45,\">=\"&$AV43-3,AV11:AV45,\"<=\"&$AV43)/SUM($AZ11:$AZ43)) )","v":1},null,33,"","","","","","","","",{"$f":"IFERROR(astm(highwayfuf(CC43)-highwayfuf(CC42),3),\"\")","v":""},"","","","","","",{"$f":"IFERROR(astm(mdiuf(CL43)-mdiuf(CL42),3),\"\")","v":""},"","",{"$f":"IFERROR(astm(highwayfufalt(CL43)-highwayfufalt(CL42),3),\"\")","v":""},"","","",{"$f":"IF(CA43=\"\",1, MIN(IFERROR((CA43/1000)/((BX43*$J$22)*$J$21/3600),1),IFERROR((SUMIFS(CA11:CA45,BW11:BW45,\"<=\"&$BW43,BW11:BW45,\">=\"&$BW43-1)/1000)/(  $J$22*SUMIFS(BX11:BX45,BW11:BW45,\"<=\"&$BW43,BW11:BW45,\">=\"&$BW43-1)*$J$21/3600),1),IFERROR((SUMIFS(CA11:CA45,BW11:BW45,\"<=\"&$BW43,BW11:BW45,\">=\"&$BW43-2)/1000)/(  $J$22*SUMIFS(BX11:BX45,BW11:BW45,\"<=\"&$BW43,BW11:BW45,\">=\"&$BW43-2)*$J$21/3600),1),IFERROR((SUMIFS(CA11:CA45,BW11:BW45,\"<=\"&$BW43,BW11:BW45,\">=\"&$BW43-3)/1000)/(  $J$22*SUMIFS(BX11:BX45,BW11:BW45,\"<=\"&$BW43,BW11:BW45,\">=\"&$BW43-3)*$J$21/3600),1)) )","v":1},"",{"$f":"IF(CA43=\"\",1, MIN($CA43/SUM($CA11:$CA43),SUMIFS(CA11:CA45,BW11:BW45,\">=\"&$BW43-1,BW11:BW45,\"<=\"&$BW43)/SUM($CA11:$CA43),SUMIFS(CA11:CA45,BW11:BW45,\">=\"&$BW43-2,BW11:BW45,\"<=\"&$BW43)/SUM($CA11:$CA43),SUMIFS(CA11:CA45,BW11:BW45,\">=\"&$BW43-3,BW11:BW45,\"<=\"&$BW43)/SUM($CA11:$CA43)) )","v":1}]
[null,null,"Unadjusted Fuel Economy (MPG)",{"$f":"astm(IF($N$7+$N$55+$N$103=0,    ((AJ34<>0)+(AJ82<>0)+(AJ130<>0))/(IFERROR(1/AJ34,0)+IFERROR(1/AJ82,0)+IFERROR(1/AJ130,0)),    ($N$7+$N$55+$N$103) / (IFERROR($N$7/AJ34,0)+IFERROR($N$55/AJ82,0)+IFERROR($N$103/AJ130,0))  ),4)","v":65.796400000000006},{"$f":"astm(IF($N$7+$N$55+$N$103=0,    ((AK34<>0)+(AK82<>0)+(AK130<>0))/(IFERROR(1/AK34,0)+IFERROR(1/AK82,0)+IFERROR(1/AK130,0)),    ($N$7+$N$55+$N$103) / (IFERROR($N$7/AK34,0)+IFERROR($N$55/AK82,0)+IFERROR($N$103/AK130,0))  ),4)","v":59.488999999999997},null,null,null,null,null,null,null,null,null,null,null,34,null,null,null,null,null,null,null,34,null,null,null,null,null,null,null,null,null,null,null,null,null,null,null,null,"CD total cost per mile ($/mi) [3]",{"$f":"astm(AQ43+AQ42,3)","v":6.5000000000000002E-2},{"$f":"astm(AR43+AR42,3)","v":4.2999999999999997E-2},null,null,null,34,"","","","",{"$f":"IFERROR(astm(  astm($W$46,3)*1000*(AZ44/AQ13),1),\"\")","v":""},"","","",{"$f":"IFERROR(astm(cityfuf(BB44),3)-astm(cityfuf(BB43),3),\"\")","v":""},"","","","","","",{"$f":"IFERROR(astm(mdiuf(BK44),3)-astm(mdiuf(BK43),3),\"\")","v":""},"","",{"$f":"IFERROR(astm(cityfufalt(BK44),3)-astm(cityfufalt(BK43),3),\"\")","v":""},"","","",{"$f":"IF(AZ44=\"\",1, MIN(IFERROR((AZ44/1000)/((AW44*$J$22)*$J$21/3600),1),IFERROR((SUMIFS(AZ11:AZ45,AV11:AV45,\"<=\"&$AV44,AV11:AV45,\">=\"&$AV44-1)/1000)/(  $J$22*SUMIFS(AW11:AW45,AV11:AV45,\"<=\"&$AV44,AV11:AV45,\">=\"&$AV44-1)*$J$21/3600),1),IFERROR((SUMIFS(AZ11:AZ45,AV11:AV45,\"<=\"&$AV44,AV11:AV45,\">=\"&$AV44-2)/1000)/(  $J$22*SUMIFS(AW11:AW45,AV11:AV45,\"<=\"&$AV44,AV11:AV45,\">=\"&$AV44-2)*$J$21/3600),1),IFERROR((SUMIFS(AZ11:AZ45,AV11:AV45,\"<=\"&$AV44,AV11:AV45,\">=\"&$AV44-3)/1000)/(  $J$22*SUMIFS(AW11:AW45,AV11:AV45,\"<=\"&$AV44,AV11:AV45,\">=\"&$AV44-3)*$J$21/3600),1)) )","v":1},"",{"$f":"IF(AZ44=\"\",1, MIN($AZ44/SUM($AZ11:$AZ44),SUMIFS(AZ11:AZ45,AV11:AV45,\">=\"&$AV44-1,AV11:AV45,\"<=\"&$AV44)/SUM($AZ11:$AZ44),SUMIFS(AZ11:AZ45,AV11:AV45,\">=\"&$AV44-2,AV11:AV45,\"<=\"&$AV44)/SUM($AZ11:$AZ44),SUMIFS(AZ11:AZ45,AV11:AV45,\">=\"&$AV44-3,AV11:AV45,\"<=\"&$AV44)/SUM($AZ11:$AZ44)) )","v":1},null,34,"","","","","","","","",{"$f":"IFERROR(astm(highwayfuf(CC44)-highwayfuf(CC43),3),\"\")","v":""},"","","","","","",{"$f":"IFERROR(astm(mdiuf(CL44)-mdiuf(CL43),3),\"\")","v":""},"","",{"$f":"IFERROR(astm(highwayfufalt(CL44)-highwayfufalt(CL43),3),\"\")","v":""},"","","",{"$f":"IF(CA44=\"\",1, MIN(IFERROR((CA44/1000)/((BX44*$J$22)*$J$21/3600),1),IFERROR((SUMIFS(CA11:CA45,BW11:BW45,\"<=\"&$BW44,BW11:BW45,\">=\"&$BW44-1)/1000)/(  $J$22*SUMIFS(BX11:BX45,BW11:BW45,\"<=\"&$BW44,BW11:BW45,\">=\"&$BW44-1)*$J$21/3600),1),IFERROR((SUMIFS(CA11:CA45,BW11:BW45,\"<=\"&$BW44,BW11:BW45,\">=\"&$BW44-2)/1000)/(  $J$22*SUMIFS(BX11:BX45,BW11:BW45,\"<=\"&$BW44,BW11:BW45,\">=\"&$BW44-2)*$J$21/3600),1),IFERROR((SUMIFS(CA11:CA45,BW11:BW45,\"<=\"&$BW44,BW11:BW45,\">=\"&$BW44-3)/1000)/(  $J$22*SUMIFS(BX11:BX45,BW11:BW45,\"<=\"&$BW44,BW11:BW45,\">=\"&$BW44-3)*$J$21/3600),1)) )","v":1},"",{"$f":"IF(CA44=\"\",1, MIN($CA44/SUM($CA11:$CA44),SUMIFS(CA11:CA45,BW11:BW45,\">=\"&$BW44-1,BW11:BW45,\"<=\"&$BW44)/SUM($CA11:$CA44),SUMIFS(CA11:CA45,BW11:BW45,\">=\"&$BW44-2,BW11:BW45,\"<=\"&$BW44)/SUM($CA11:$CA44),SUMIFS(CA11:CA45,BW11:BW45,\">=\"&$BW44-3,BW11:BW45,\"<=\"&$BW44)/SUM($CA11:$CA44)) )","v":1}]
[null,null,"Unadjusted GHG (g/mi)",{"$f":"astm(IFERROR(IF($N$7+$N$55+$N$103=0,SUM(IFERROR(AJ35,0),IFERROR(AJ83,0),IFERROR(AJ131,0)) / ((AJ35<>0)+(AJ83<>0)+(AJ131<>0)),($N$7*AJ35+$N$55*AJ83+$N$103*AJ131)/($N$7+$N$55+$N$103)),\"CREE data error\"),1)","v":83.7},{"$f":"astm(IFERROR(IF($N$7+$N$55+$N$103=0,SUM(IFERROR(AK35,0),IFERROR(AK83,0),IFERROR(AK131,0)) / ((AK35<>0)+(AK83<>0)+(AK131<>0)),($N$7*AK35+$N$55*AK83+$N$103*AK131)/($N$7+$N$55+$N$103)),\"CREE data error\"),1)","v":129.5},null,null,null,null,null,null,null,null,null,null,null,35,null,null,null,null,null,null,null,35,null,null,null,null,null,null,null,null,null,null,null,null,null,null,null,null,"CS cost per mile ($/mi) [3]",{"$f":"astm($F$36/astm(N12,4),3)","v":8.8999999999999996E-2},{"$f":"astm($F$36/astm(O12,4),3)","v":7.8E-2},null,null,null,35,"","","","",{"$f":"IFERROR(astm(  astm($W$46,3)*1000*(AZ45/AQ13),1),\"\")","v":""},"","","",{"$f":"IFERROR(astm(cityfuf(BB45),3)-astm(cityfuf(BB44),3),\"\")","v":""},"","","","","","",{"$f":"IFERROR(astm(mdiuf(BK45),3)-astm(mdiuf(BK44),3),\"\")","v":""},"","",{"$f":"IFERROR(astm(cityfufalt(BK45),3)-astm(cityfufalt(BK44),3),\"\")","v":""},"","","",{"$f":"IF(AZ45=\"\",1, MIN(IFERROR((AZ45/1000)/((AW45*$J$22)*$J$21/3600),1),IFERROR((SUMIFS(AZ11:AZ45,AV11:AV45,\"<=\"&$AV45,AV11:AV45,\">=\"&$AV45-1)/1000)/(  $J$22*SUMIFS(AW11:AW45,AV11:AV45,\"<=\"&$AV45,AV11:AV45,\">=\"&$AV45-1)*$J$21/3600),1),IFERROR((SUMIFS(AZ11:AZ45,AV11:AV45,\"<=\"&$AV45,AV11:AV45,\">=\"&$AV45-2)/1000)/(  $J$22*SUMIFS(AW11:AW45,AV11:AV45,\"<=\"&$AV45,AV11:AV45,\">=\"&$AV45-2)*$J$21/3600),1),IFERROR((SUMIFS(AZ11:AZ45,AV11:AV45,\"<=\"&$AV45,AV11:AV45,\">=\"&$AV45-3)/1000)/(  $J$22*SUMIFS(AW11:AW45,AV11:AV45,\"<=\"&$AV45,AV11:AV45,\">=\"&$AV45-3)*$J$21/3600),1)) )","v":1},"",{"$f":"IF(AZ45=\"\",1, MIN($AZ45/SUM($AZ11:$AZ45),SUMIFS(AZ11:AZ45,AV11:AV45,\">=\"&$AV45-1,AV11:AV45,\"<=\"&$AV45)/SUM($AZ11:$AZ45),SUMIFS(AZ11:AZ45,AV11:AV45,\">=\"&$AV45-2,AV11:AV45,\"<=\"&$AV45)/SUM($AZ11:$AZ45),SUMIFS(AZ11:AZ45,AV11:AV45,\">=\"&$AV45-3,AV11:AV45,\"<=\"&$AV45)/SUM($AZ11:$AZ45)) )","v":1},null,35,"","","","","","","","",{"$f":"IFERROR(astm(highwayfuf(CC45)-highwayfuf(CC44),3),\"\")","v":""},"","","","","","",{"$f":"IFERROR(astm(mdiuf(CL45)-mdiuf(CL44),3),\"\")","v":""},"","",{"$f":"IFERROR(astm(highwayfufalt(CL45)-highwayfufalt(CL44),3),\"\")","v":""},"","","",{"$f":"IF(CA45=\"\",1, MIN(IFERROR((CA45/1000)/((BX45*$J$22)*$J$21/3600),1),IFERROR((SUMIFS(CA11:CA45,BW11:BW45,\"<=\"&$BW45,BW11:BW45,\">=\"&$BW45-1)/1000)/(  $J$22*SUMIFS(BX11:BX45,BW11:BW45,\"<=\"&$BW45,BW11:BW45,\">=\"&$BW45-1)*$J$21/3600),1),IFERROR((SUMIFS(CA11:CA45,BW11:BW45,\"<=\"&$BW45,BW11:BW45,\">=\"&$BW45-2)/1000)/(  $J$22*SUMIFS(BX11:BX45,BW11:BW45,\"<=\"&$BW45,BW11:BW45,\">=\"&$BW45-2)*$J$21/3600),1),IFERROR((SUMIFS(CA11:CA45,BW11:BW45,\"<=\"&$BW45,BW11:BW45,\">=\"&$BW45-3)/1000)/(  $J$22*SUMIFS(BX11:BX45,BW11:BW45,\"<=\"&$BW45,BW11:BW45,\">=\"&$BW45-3)*$J$21/3600),1)) )","v":1},"",{"$f":"IF(CA45=\"\",1, MIN($CA45/SUM($CA11:$CA45),SUMIFS(CA11:CA45,BW11:BW45,\">=\"&$BW45-1,BW11:BW45,\"<=\"&$BW45)/SUM($CA11:$CA45),SUMIFS(CA11:CA45,BW11:BW45,\">=\"&$BW45-2,BW11:BW45,\"<=\"&$BW45)/SUM($CA11:$CA45),SUMIFS(CA11:CA45,BW11:BW45,\">=\"&$BW45-3,BW11:BW45,\"<=\"&$BW45)/SUM($CA11:$CA45)) )","v":1}]
[null,null,"Adjusted Fuel Economy (MPG)",{"$f":"astm(IF($N$7+$N$55+$N$103=0,    ((AJ36<>0)+(AJ84<>0)+(AJ132<>0))/(IFERROR(1/AJ36,0)+IFERROR(1/AJ84,0)+IFERROR(1/AJ132,0)),    ($N$7+$N$55+$N$103) / (IFERROR($N$7/AJ36,0)+IFERROR($N$55/AJ84,0)+IFERROR($N$103/AJ132,0))  ),4)","v":46.040999999999997},{"$f":"astm(IF($N$7+$N$55+$N$103=0,    ((AK36<>0)+(AK84<>0)+(AK132<>0))/(IFERROR(1/AK36,0)+IFERROR(1/AK84,0)+IFERROR(1/AK132,0)),    ($N$7+$N$55+$N$103) / (IFERROR($N$7/AK36,0)+IFERROR($N$55/AK84,0)+IFERROR($N$103/AK132,0))  ),4)","v":41.308999999999997},null,null,null,null,null,null,null,null,null,null,null,null,null,null,null,null,"Recharge energy (AC kilowatt-hours):",9.9640000000000004,null,null,null,null,null,null,"Recharge energy (AC kilowatt-hours):",9.5670000000000002,null,null,null,null,null,null,null,null,null,null,"Composite CD/CS cost ($/mi) [3]",{"$f":"astm(AQ31*AQ44+(1-AQ31)*AQ45,3)","v":7.8E-2},{"$f":"astm(AR31*AR44+(1-AR31)*AR45,3)","v":5.8000000000000003E-2}]
[null,null,"Adjusted GHG (g/mi)",{"$f":"astm(IF($N$7+$N$55+$N$103=0,SUM(IFERROR(AJ37,0),IFERROR(AJ85,0),IFERROR(AJ133,0)) / ((AJ37<>0)+(AJ85<>0)+(AJ133<>0)),($N$7*AJ37+$N$55*AJ85+$N$103*AJ133)/($N$7+$N$55+$N$103)),1)","v":121.9},{"$f":"astm(IF($N$7+$N$55+$N$103=0,SUM(IFERROR(AK37,0),IFERROR(AK85,0),IFERROR(AK133,0)) / ((AK37<>0)+(AK85<>0)+(AK133<>0)),($N$7*AK37+$N$55*AK85+$N$103*AK133)/($N$7+$N$55+$N$103)),1)","v":184.2},null,null,null,null,null,null,null,null,null,null,null,null,null,null,null,null,"All-Electric Range (miles):",31.344999999999999,null,null,null,null,null,null,"All-Electric Range (miles):",30.123000000000001,null,null,null,null,null,null,null,null,null,null,"COMPOSITE CD/CS FUEL ECONOMY AND CO2 VALUES, ADJUSTED","CITY","HIGHWAY"]
[null,null,"HOV Lane Values","City","Highway","Combined",null,null,null,null,null,null,null,null,null,null,{"$f":"\"Calculated transition cycle:  \" &  IF(COUNTIF(BR11:BR40,\"CD\") < COUNT(R11:R40), COUNTIF(BR11:BR40,\"CD\"),     IF(COUNTIF(BT11:BT40,\"CD\") < COUNT(R11:R40), COUNTIF(BT11:BT40,\"CD\"),     \"ERROR\"     )     )","v":"Calculated transition cycle:  5"},null,null,null,null,"To override transition cycle, enter here--->",4,null,{"$f":"\"Calculated transition cycle:  \" &  IF(COUNTIF(CS11:CS40,\"CD\") < COUNT(Z11:Z40), COUNTIF(CS11:CS40,\"CD\"),     IF(COUNTIF(CU11:CU40,\"CD\") < COUNT(Z11:Z40), COUNTIF(CU11:CU40,\"CD\"),     \"ERROR\"     )     )","v":"Calculated transition cycle:  4"},null,null,null,null,"To override transition cycle, enter here--->",null,null,null,null,null,null,null,null,null,null,null,"Composite CD/CS CO2, adjusted (g/mi) [1]",{"$f":"astm(IFERROR(AQ26+(1-AQ32)*N15,#VALUE!),1)","v":155.30000000000001},{"$f":"astm(IFERROR(AR26+(1-AR32)*O15,#VALUE!),1)","v":131.69999999999999}]
[null,null,"MDIUF based on unadjusted Rcda",{"$f":"IF($N$7+$N$55+$N$103=0,SUM(IFERROR(AJ30,0),IFERROR(AJ78,0),IFERROR(AJ126,0)) / ((AJ30<>0)+(AJ78<>0)+(AJ126<>0)),($N$7*AJ30+$N$55*AJ78+$N$103*AJ126)/($N$7+$N$55+$N$103))","v":0.56699999999999995},{"$f":"IF($N$7+$N$55+$N$103=0,SUM(IFERROR(AK30,0),IFERROR(AK78,0),IFERROR(AK126,0)) / ((AK30<>0)+(AK78<>0)+(AK126<>0)),($N$7*AK30+$N$55*AK78+$N$103*AK126)/($N$7+$N$55+$N$103))","v":0.68500000000000005},null,null,null,null,null,null,null,null,null,null,null,null,null,null,null,null,null,null,null,null,null,null,null,null,null,null,null,null,null,null,null,null,null,null,null,null,"Composite CD/CS Fuel Economy, adjusted (MPG) [4]",{"$f":"IFERROR(astm( IFERROR(1/ ( AQ17 + (1-AQ32)/N12),#VALUE!), 4),0)","v":41.854799999999997},{"$f":"IFERROR(astm( IFERROR(1/ ( AR17 + (1-AR32)/O12),#VALUE!), 4),0)","v":48.671799999999998}]
[null,null,"Composite CD/CS Fuel Economy (MPGe)",{"$f":"IF($N$7+$N$55+$N$103=0,    ((AJ31<>0)+(AJ79<>0)+(AJ127<>0))/(IFERROR(1/AJ31,0)+IFERROR(1/AJ79,0)+IFERROR(1/AJ127,0)),    ($N$7+$N$55+$N$103) / (IFERROR($N$7/AJ31,0)+IFERROR($N$55/AJ79,0)+IFERROR($N$103/AJ127,0))  )","v":59.085300000000004},{"$f":"IF($N$7+$N$55+$N$103=0,    ((AK31<>0)+(AK79<>0)+(AK127<>0))/(IFERROR(1/AK31,0)+IFERROR(1/AK79,0)+IFERROR(1/AK127,0)),    ($N$7+$N$55+$N$103) / (IFERROR($N$7/AK31,0)+IFERROR($N$55/AK79,0)+IFERROR($N$103/AK127,0))  )","v":87.170400000000001},{"$f":"1/(0.55/D50+0.45/E50)","v":69.104303911985312}]
[null,null,"Fueleconomy.gov Values",null,null,null,null,null,null,null,null,null,"Test Set #2",null,null,null,null,null,null,null,null,null,null,null,null,null,null,null,null,null,null,null,null,null,"Results from Test Set #2:",{"$f":"N52","v":0},null,null,null,null,"INTERMEDIATE CALCULATIONS AND INPUTS",null,"Test Set #2:",{"$f":"N53","v":0}]
[null,null,"Charge-sustaining Efficiency",null,null,"MPG",null,null," ",null,null,null,null,null,null,null,null,null,null,null,null,null,null,null,null,null,null,null,null,null,null,null,null,null,"CAFE Values",null,null,null,null,null,"Charge-Depleting (CD) Test Results",null,null,null,null,null,null,"DETAILED CALCULATIONS",null,"UDDS",{"$f":"$AR51","v":0},null,null,null,null,null,null,null,null,null,null,null,null,null,null,null,null,null,null,null,null,null,null,null,"DETAILED CALCULATIONS",null,"HFET",{"$f":"AR51","v":0}]
[null,null,"City FE (Guide) - Conventional Fuel",null,null,{"$f":"astm(IF($N$7+$N$55+$N$103=0,    ((N12<>0)+(N60<>0)+(N108<>0))/(IFERROR(1/N12,0)+IFERROR(1/N60,0)+IFERROR(1/N108,0)),    ($N$7+$N$55+$N$103) / (IFERROR($N$7/N12,0)+IFERROR($N$55/N60,0)+IFERROR($N$103/N108,0))  ),0)","v":30},null,null,null,null,null,null,null,null,null,null,"ENTER CHARGE-DEPLETING UDDS (CITY) DATA HERE",null,null,null,null,null,null,null,"ENTER CHARGE-DEPLETING HFET (HIGHWAY) DATA HERE",null,null,null,null,null,null,null,null,null,"A. PHEV meets dual fuel criteria:","City","Highway","Combined",null,null,null,"DRIVING DISTANCE VALUES","CITY","HIGHWAY",null,null,null,"Cycle No.","Gasoline Consumed","CO2\n[0]","Net Amp-Hours Used Per Cycle [3]","DC Electricity Consumed\n[1]","AC Electricity Consumed\n[1]","Theoretical Cumulative Cycle Distance","Electric Only Fuel Consumption Rate","Total Fuel Consumption Rate (gas + electric)","55/45 City Fleet Utility Factor\n[3]","55/45 City FUF\nx\nCREE","55/45 City FUF\nx\nTotal Consumption","Total Fuel Consumption (gas + electric)","5-Cycle Adjustment","Adjusted Cycle Measured Distance","Adjusted Cycle Theoretical Cumulative Distance","MDIUF\n[3]","MDIUF\nx\nAdjusted CO2","MDIUF\nx\nAdjusted Total Fuel Consumption","43/57 City Fleet Utility Factor\n[3]","43/57 City FUF x\nAdjusted Total Fuel Consumption Rate","43/57 City FUF\nx\nAdjusted CREE","Is Cycle CD or CS based on NEC 1% Tolerance?","NEC Tolerance 1% Fuel Energy Criteria","Is Cycle CD or CS based on battery 2% Tolerance?","NEC Tolerance 2% Usable Battery Energy Criteria",null,"Cycle No.","Gasoline Consumed","CO2\n[0]","Net Amp-Hours Used Per Cycle [3]","DC Electricity Consumed\n[1]","AC Electricity Consumed\n[1]","Theoretical Cumulative Cycle Distance","Electric Only Fuel Consumption Rate","Total Fuel Consumption Rate (gas + electric)","55/45 Highway Fleet Utility Factor\n[3]","55/45 Highway FUF\nx\nCREE","55/45 Highway FUF\nx\nTotal Consumption","Total Fuel Consumption (gas + electric)","5-Cycle Adjustment","Adjusted Cycle Measured Distance","Adjusted Cycle Theoretical Cumulative Distance","MDIUF\n[3]","MDIUF\nx\nAdjusted CO2","MDIUF\nx\nAdjusted Total Fuel Consumption","43/57 Highway Fleet Utility Factor\n[3]","43/57 Highway FUF x\nAdjusted Total Fuel Consumption Rate","43/57 Highway FUF\nx\nAdjusted CREE","Is Cycle CD or CS based on NEC 1% Tolerance?","NEC Tolerance 1% Fuel Energy Criteria","Is Cycle CD or CS based on battery 2% Tolerance?","NEC Tolerance 2% Usable Battery Energy Criteria"]
[null,null,"Hwy FE (Guide) - Conventional Fuel",null,null,{"$f":"astm(IF($N$7+$N$55+$N$103=0,    ((O12<>0)+(O60<>0)+(O108<>0))/(IFERROR(1/O12,0)+IFERROR(1/O60,0)+IFERROR(1/O108,0)),    ($N$7+$N$55+$N$103) / (IFERROR($N$7/O12,0)+IFERROR($N$55/O60,0)+IFERROR($N$103/O108,0))  ),0)","v":34},null,null,null,null,null,null,"Test Set name (e.g., Eco, Power):",null,null,null,"Cycle No.","Cycle/Phase Measured Distance","Integrated Amp-Hours Electricity Used","Average Cycle Voltage","Fuel Economy","CO2","CREE",null,"Cycle No.","Cycle/Phase Measured Distance","Integrated Amp-Hours Electricity Used","Average Cycle Voltage","Fuel Economy","CO2","CREE",null,null,null," 1. Default 50/50 Composite MPGe [4]",{"$f":"IFERROR(astm(1/(0.5/(  (  $J$18  )   /(AQ59/AQ85))+0.5/N59),4),0)","v":0},{"$f":"IFERROR(astm(1/(0.5/(  (  $J$18  )   /(AR59/AR85))+0.5/O59),4),0)","v":0},{"$f":"IFERROR(astm(1/(0.55/AJ54+0.45/AK54),4),0)","v":0},null,null,null,"CD driving distance (Rcda), unadjusted (miles) [3]",{"$f":"IFERROR(astm(SUMIF(Q59:Q93,\"<=\" & ($AQ82-1),R59:R93) + AQ81*VLOOKUP($AQ82,Q59:R93,2,FALSE),3),0)","v":0},{"$f":"IFERROR(astm(SUMIF(Y59:Y93,\"<=\" & ($AR82-1),Z59:Z93) + AR81*VLOOKUP($AR82,Y59:Z93,2,FALSE),3),0)","v":0}]
[null,null,"Comb FE (Guide) - Conventional Fuel",null,null,{"$f":"astm(1/(0.55/(IF($N$7+$N$55+$N$103=0,    ((N12<>0)+(N60<>0)+(N108<>0))/(IFERROR(1/N12,0)+IFERROR(1/N60,0)+IFERROR(1/N108,0)),    ($N$7+$N$55+$N$103) / (IFERROR($N$7/N12,0)+IFERROR($N$55/N60,0)+IFERROR($N$103/N108,0))  ))+0.45/(IF($N$7+$N$55+$N$103=0,    ((O12<>0)+(O60<>0)+(O108<>0))/(IFERROR(1/O12,0)+IFERROR(1/O60,0)+IFERROR(1/O108,0)),    ($N$7+$N$55+$N$103) / (IFERROR($N$7/O12,0)+IFERROR($N$55/O60,0)+IFERROR($N$103/O108,0))  ))),0)","v":32},null,null,null,null,null,null,"Production Volume (projected or actual):",null,null,null,null,null,null,null,null,null,null,null,null,null,null,null,null,null,null,null,null,null," 2. Optional Utility Factor Composite MPGe [4]",{"$f":"IFERROR(astm(1/(  AQ88 /   (  ( $J$18   )   /   (AQ59/AQ85))       +        (1-AQ88)/N59), 4),0)","v":0},{"$f":"IFERROR(astm(1/(  AR88 /   (  ( $J$18   )   /   (AR59/AR85))       +        (1-AR88)/O59), 4),0)","v":0},{"$f":"IFERROR(astm(1/(0.55/AJ55+0.45/AK55),4),0)","v":0},null,null,null,"CD driving distance (Rcda), adjusted (miles) [3]",{"$f":"IFERROR(astm(SUMIF(AV59:AV93,\"<\"&AQ82,BJ59:BJ93)+AQ81*SUMIF(AV59:AV93,\"=\"&AQ82,BJ59:BJ93),3),0)","v":0},{"$f":"IFERROR(astm(SUMIF(BW59:BW93,\"<\"&AR82,CK59:CK93)+AR81*SUMIF(BW59:BW93,\"=\"&AR82,CK59:CK93),3),0)","v":0}]
[null,null,"City Unadj FE - Conventional Fuel",null,null,{"$f":"astm(IF($N$7+$N$55+$N$103=0,    ((N11<>0)+(N59<>0)+(N107<>0))/(IFERROR(1/N11,0)+IFERROR(1/N59,0)+IFERROR(1/N107,0)),    ($N$7+$N$55+$N$103) / (IFERROR($N$7/N11,0)+IFERROR($N$55/N59,0)+IFERROR($N$103/N107,0))  ),1)","v":38.1},null,null,null,null,null,null,null,null,null,null,null,null,null,null,null,null,null,null,null,null,null,null,null,null,null,null,null,null,"B. PHEV does NOT meet dual fuel criteria:","City","Highway","Combined",null,null,null,"CD all-electric driving distance, unadjusted (miles) [3]",{"$f":"  IF(ISNUMBER(W95), astm(W95,3), 0)","v":0},{"$f":" IF(ISNUMBER(AE95), astm(AE95,3), 0)","v":0}]
[null,null,"Hwy Unadj FE - Conventional Fuel",null,null,{"$f":"astm(IF($N$7+$N$55+$N$103=0,    ((O11<>0)+(O59<>0)+(O107<>0))/(IFERROR(1/O11,0)+IFERROR(1/O59,0)+IFERROR(1/O107,0)),    ($N$7+$N$55+$N$103) / (IFERROR($N$7/O11,0)+IFERROR($N$55/O59,0)+IFERROR($N$103/O107,0))  ),1)","v":46.3},null,null,null,null,null,null,"ENTER CHARGE-SUSTAINING TEST RESULTS HERE",null,null,null,null,null,null,null,null,null,null,null,null,null,null,null,null,null,null,null,null,null,"  1. Utility Factor Composite MPGe [4]",{"$f":"IFERROR(astm(1/ ( AQ63 + (1-AQ78)/N59),4),0)","v":0},{"$f":"IFERROR(astm(1/ ( AR63 + (1-AR78)/O59),4),0)","v":0},{"$f":"IFERROR(astm(1/(0.55/AJ57+0.45/AK57),4),0)","v":0},null,null,null,"CD All-Electric Range, adjusted (mi) [3]",{"$f":"astm( 0.7*AQ56, 3)","v":0},{"$f":"astm( 0.7*AR56, 3)","v":0}]
[null,null,"Comb Unadj FE - Conventional Fuel",null,null,{"$f":"astm(1/(0.55/(IF($N$7+$N$55+$N$103=0,    ((N11<>0)+(N59<>0)+(N107<>0))/(IFERROR(1/N11,0)+IFERROR(1/N59,0)+IFERROR(1/N107,0)),    ($N$7+$N$55+$N$103) / (IFERROR($N$7/N11,0)+IFERROR($N$55/N59,0)+IFERROR($N$103/N107,0))  ))+0.45/(IF($N$7+$N$55+$N$103=0,    ((O11<>0)+(O59<>0)+(O107<>0))/(IFERROR(1/O11,0)+IFERROR(1/O59,0)+IFERROR(1/O107,0)),    ($N$7+$N$55+$N$103) / (IFERROR($N$7/O11,0)+IFERROR($N$55/O59,0)+IFERROR($N$103/O107,0))  ))),4)","v":41.3994},null,null,null,null,null,null,null,"City","Highway",null,"No.","Miles [3]","Amp-hrs [3]","Volts [2]","MPG [1]","g/mi [0]","g/mi [0]",null,"No.","Miles [3]","Amp-hrs [3]","Volts [2]","MPG [1]","g/mi [0]","g/mi [0]",null,null,null,"GHG Values","City","Highway","Combined",null,null,null,"FUEL CONSUMPTION & ECONOMY VALUES","CITY","HIGHWAY",null,null,null,"No.","gal","grams","Amp-hours","W-hours","W-hours","mi","gal/mi equiv","gal/mi equiv","UF","UF","gal/mi equiv","gal-equiv","%","miles","miles","UF","g/mi","gal/mi equiv","UF","gal/mi equiv","g/mi","CD or CS",null,"CD or CS",null,null,"No.","gal","grams","Amp-hours","W-hours","W-hours","mi","gal/mi equiv","gal/mi equiv","UF","UF","gal/mi equiv","gal-equiv","%","miles","miles","UF","g/mi","gal-equiv","UF","gal-equiv","g/mi","CD or CS",null,"CD or CS"]
[null,null,"City Unrd Adj FE - Conventional Fuel",null,null,{"$f":"astm(IF($N$7+$N$55+$N$103=0,    ((N12<>0)+(N60<>0)+(N108<>0))/(IFERROR(1/N12,0)+IFERROR(1/N60,0)+IFERROR(1/N108,0)),    ($N$7+$N$55+$N$103) / (IFERROR($N$7/N12,0)+IFERROR($N$55/N60,0)+IFERROR($N$103/N108,0))  ),4)","v":30.3323},null,null,null,null,null,null,"Fuel Economy, Unadjusted (MPG):",null,null,null,1,null,null,null,null,null,null,null,1,null,null,null,null,null,null,null,null,null,"Composite CREE, without upstream emissions [1]",{"$f":"IFERROR(IF(OR(SUM(W59:W93)=0,N61=0,ISBLANK(N61), LOOKUP(2,1/(W59:W93<>\"\"),ROW(W59:W93)) < LOOKUP(2,1/(R59:R93<>\"\"),ROW(R59:R93))   ),\"ERROR\",astm(AQ75+(1-AQ78)*N61,1)),0)","v":0},{"$f":"IFERROR(IF(OR(SUM(AE59:AE93)=0,O61=0,ISBLANK(O61), LOOKUP(2,1/(AE59:AE93<>\"\"),ROW(AE59:AE93)) < LOOKUP(2,1/(Z59:Z93<>\"\"),ROW(Z59:Z88))   ),\"ERROR\",astm(AR75+(1-AR78)*O61,1)),0)","v":0},{"$f":"IFERROR(astm(0.55*AJ59+0.45*AK59,1),0)","v":0},null,null,"NEW","CD AC electricity consumption (Rcdc), unadjusted (Watt-hours) [1]",{"$f":"astm(SUMIF(AV59:AV93,\"<=\" & AQ82,BA59:BA93),1)","v":0},{"$f":"astm(SUMIF(BW59:BW93,\"<=\" & AR82,CB59:CB93),1)","v":0},null,null,null,1,{"$f":"IF(ISBLANK(R59),\"\", IF(astm(V59,0)=0, 0,         IFERROR(astm(R59,3)/astm(U59,1),0))  )","v":""},{"$f":"IF(ISBLANK(R59),\"\", IF(astm(V59,0)=0,0,               astm(  astm(V59,0)*astm(R59,3), 0)  ) )","v":""},{"$f":"IF( ISBLANK(S59),\"\",astm(S59,3))","v":""},{"$f":"IF(ISBLANK(T59),\"\",astm(AY59*astm(T59,2),1))","v":""},{"$f":"IFERROR(astm(  astm($W$94,3)*1000*(AZ59/AQ61),1),\"\")","v":""},{"$f":"IF(ISBLANK(R59),\"\",7.45)","v":""},{"$f":"IFERROR(BA59/($J$19*astm(R59,3)),\"\")","v":""},{"$f":"IFERROR(BC59+AW59/astm(R59,3),\"\")","v":""},{"$f":"astm(IFERROR(astm(cityfuf(BB59)-0,3),\"\"),3)","v":{"$error":"#VALUE!"}},{"$f":"IF(ISBLANK(R59),\"\",  IF(astm(V59,0)=0, 0, IFERROR(BE59*astm(W59,0),\"\")  )  )","v":""},{"$f":"IFERROR(BD59*BE59,\"\")","v":""},{"$f":"IFERROR(BD59*astm(R59,3),\"\")","v":""},{"$f":"  IF( $J$5>=2017,    IFERROR(MAX(1/(0.004091*(1/BD59)+1.1601),0.7),\"\"),    IFERROR(MAX(1/(0.003259*(1/BD59)+1.1805),0.7),\"\")  )","v":""},{"$f":"  IFERROR(BI59*astm(R59,3),\"\")","v":""},{"$f":"  IFERROR(BI59*7.45,\"\")","v":""},{"$f":"IFERROR(astm(mdiuf(BK59)-0,3),\"\")","v":""},{"$f":" IF(ISBLANK(R59),\"\",   IF( astm(V59,0)=0, 0,    IFERROR(BL59*astm(V59,0)/(BI59),\"\")  ) )","v":""},{"$f":"IFERROR(BL59*BD59/BI59,\"\")","v":""},{"$f":"IFERROR(astm(cityfufalt(BK59)-0,3),\"\")","v":""},{"$f":"IFERROR(BO59*BD59/BI59,\"\")","v":""},{"$f":" IF(ISBLANK(R59),\"\",   IF( astm(V59,0)=0, 0,    IFERROR(BO59*astm(W59,0)/(BI59),\"\") ) )","v":""},{"$f":"IF(AZ59=\"\",\"\", IF(ABS(BS59)<0.01,\"CS based on 1% fuel energy\", \"CD\"))","v":""},{"$f":"IF(AZ59=\"\",1, MIN(IFERROR((AZ59/1000)/((AW59*$J$22)*$J$21/3600),1),IFERROR((SUMIFS(AZ59:AZ93,AV59:AV93,\"<=\"&$AV59,AV59:AV93,\">=\"&$AV59-1)/1000)/(  $J$22*SUMIFS(AW59:AW93,AV59:AV93,\"<=\"&$AV59,AV59:AV93,\">=\"&$AV59-1)*$J$21/3600),1),IFERROR((SUMIFS(AZ59:AZ93,AV59:AV93,\"<=\"&$AV59,AV59:AV93,\">=\"&$AV59-2)/1000)/(  $J$22*SUMIFS(AW59:AW93,AV59:AV93,\"<=\"&$AV59,AV59:AV93,\">=\"&$AV59-2)*$J$21/3600),1),IFERROR((SUMIFS(AZ59:AZ93,AV59:AV93,\"<=\"&$AV59,AV59:AV93,\">=\"&$AV59-3)/1000)/(  $J$22*SUMIFS(AW59:AW93,AV59:AV93,\"<=\"&$AV59,AV59:AV93,\">=\"&$AV59-3)*$J$21/3600),1)) )","v":1},{"$f":"IF(AZ59=\"\",\"\", IF(ABS(BU59)<0.02,\"CS based on 2% battery energy\",\"CD\"))","v":""},{"$f":"IF(AZ59=\"\",1, MIN($AZ59/SUM($AZ59:$AZ59),SUMIFS(AZ59:AZ93,AV59:AV93,\">=\"&$AV59-1,AV59:AV93,\"<=\"&$AV59)/SUM($AZ59:$AZ59),SUMIFS(AZ59:AZ93,AV59:AV93,\">=\"&$AV59-2,AV59:AV93,\"<=\"&$AV59)/SUM($AZ59:$AZ59),SUMIFS(AZ59:AZ93,AV59:AV93,\">=\"&$AV59-3,AV59:AV93,\"<=\"&$AV59)/SUM($AZ59:$AZ59)) )","v":1},null,1,{"$f":"IF(ISBLANK(Z59),\"\", IF(astm(AD59,0)=0, 0,         IFERROR(astm(Z59,3)/astm(AC59,1),0))  )","v":""},{"$f":"IF(ISBLANK(Z59),\"\", IF(astm(AD59,0)=0,0,               astm(AD59,0)*astm(Z59,3)) )","v":""},{"$f":"IF(ISBLANK(AA59),\"\",astm(AA59,3))","v":""},{"$f":"IF(ISBLANK(AB59),\"\",astm(BZ59*astm(AB59,2),1))","v":""},{"$f":"IFERROR(astm( astm($AE$94,3)*1000*(CA59/$AR$61),1),\"\")","v":""},{"$f":"IF(ISBLANK(Z59),\"\",10.3)","v":""},{"$f":"IFERROR(CB59/($J$19*astm(Z59,3)),\"\")","v":""},{"$f":"IFERROR(CD59+BX59/astm(Z59,3),\"\")","v":""},{"$f":"IFERROR(astm(highwayfuf(CC59)-0,3),\"\")","v":""},{"$f":" IF(ISBLANK(Z59),\"\",   IF( astm(AD59,0)=0, 0,       IFERROR(CF59*astm(AE59,0),\"\")  ) )","v":""},{"$f":"IFERROR(CE59*CF59,\"\")","v":""},{"$f":"IFERROR(CE59*astm(Z59,3),\"\")","v":""},{"$f":"  IF( $J$5>=2017,    IFERROR(MAX(1/(0.003191*(1/CE59)+1.2945),0.7),\"\"),   IFERROR(MAX(1/(0.001376*(1/CE59)+1.3466),0.7),\"\")  )","v":""},{"$f":"   IFERROR(CJ59*astm(Z59,3),\"\")","v":""},{"$f":"     IFERROR(CJ59*10.3,\"\")","v":""},{"$f":"IFERROR(astm(mdiuf(CL59)-0,3),\"\")","v":""},{"$f":" IF(ISBLANK(Z59),\"\",   IF( astm(AD59,0)=0, 0,    IFERROR(CM59*astm(AD59,0)/(CJ59),\"\") ) )","v":""},{"$f":"IFERROR(CM59*CE59/CJ59,\"\")","v":""},{"$f":"IFERROR(astm(highwayfufalt(CL59)-0,3),\"\")","v":""},{"$f":"IFERROR(CP59*CE59/CJ59,\"\")","v":""},{"$f":" IF(ISBLANK(Z59),\"\",   IF( astm(AD59,0)=0, 0,    IFERROR(CP59*astm(AE59,0)/(CJ59),\"\") ) )","v":""},{"$f":"IF($CA59=\"\",\"\", IF(ABS(CT59)<0.01,\"CS based on 1% fuel energy\",\"CD\"))","v":""},{"$f":"IF(CA59=\"\",1, MIN(IFERROR((CA59/1000)/((BX59*$J$22)*$J$21/3600),1),IFERROR((SUMIFS(CA59:CA93,BW59:BW93,\"<=\"&$BW59,BW59:BW93,\">=\"&$BW59-1)/1000)/(  $J$22*SUMIFS(BX59:BX93,BW59:BW93,\"<=\"&$BW59,BW59:BW93,\">=\"&$BW59-1)*$J$21/3600),1),IFERROR((SUMIFS(CA59:CA93,BW59:BW93,\"<=\"&$BW59,BW59:BW93,\">=\"&$BW59-2)/1000)/(  $J$22*SUMIFS(BX59:BX93,BW59:BW93,\"<=\"&$BW59,BW59:BW93,\">=\"&$BW59-2)*$J$21/3600),1),IFERROR((SUMIFS(CA59:CA93,BW59:BW93,\"<=\"&$BW59,BW59:BW93,\">=\"&$BW59-3)/1000)/(  $J$22*SUMIFS(BX59:BX93,BW59:BW93,\"<=\"&$BW59,BW59:BW93,\">=\"&$BW59-3)*$J$21/3600),1)) )","v":1},{"$f":"IF($CA59=\"\",\"\", IF(ABS(CV59)<0.02,\"CS based on 2% battery energy\",\"CD\"))","v":""},{"$f":"IF(CA59=\"\",1, MIN($CA59/SUM($CA59:$CA59),SUMIFS(CA59:CA93,BW59:BW93,\">=\"&$BW59-1,BW59:BW93,\"<=\"&$BW59)/SUM($CA59:$CA59),SUMIFS(CA59:CA93,BW59:BW93,\">=\"&$BW59-2,BW59:BW93,\"<=\"&$BW59)/SUM($CA59:$CA59),SUMIFS(CA59:CA93,BW59:BW93,\">=\"&$BW59-3,BW59:BW93,\"<=\"&$BW59)/SUM($CA59:$CA59)) )","v":1}]
[null,null,"Hwy Unrd Adj FE - Conventional Fuel",null,null,{"$f":"astm(IF($N$7+$N$55+$N$103=0,    ((O12<>0)+(O60<>0)+(O108<>0))/(IFERROR(1/O12,0)+IFERROR(1/O60,0)+IFERROR(1/O108,0)),    ($N$7+$N$55+$N$103) / (IFERROR($N$7/O12,0)+IFERROR($N$55/O60,0)+IFERROR($N$103/O108,0))  ),4)","v":34.4},null,null,null,null,null,null,"Fuel Economy, Adjusted (MPG):",null,null,null,2,null,null,null,null,null,null,null,2,null,null,null,null,null,null,null,null,null,null,null,null,null,null,null,null,"CD AC electricity consumption rate (Rcda), adjusted  (kW-hr/100mi) [3]",{"$f":"IFERROR(astm( astm(W94,3)*100/AQ55,3),0)","v":0},{"$f":"IFERROR(astm( astm(AE94,3)*100/AR55,3),0)","v":0},null,null,null,2,"","",{"$f":"IF(ISBLANK(S60),\"\",(astm(S60,3)-astm(S59,3)))","v":""},"",{"$f":"IFERROR(astm(  astm($W$94,3)*1000*(AZ60/AQ61),1),\"\")","v":""},{"$f":"IF(ISBLANK(R60),\"\",7.45+BB59)","v":""},"","",{"$f":"IFERROR(astm(cityfuf(BB60),3)-astm(cityfuf(BB59),3),\"\")","v":""},"",{"$f":"IFERROR(BD60*BE60,\"\")","v":""},"","","",{"$f":" IFERROR(BI60*7.45+BK59,\"\")","v":""},{"$f":"IFERROR(astm(mdiuf(BK60),3)-astm(mdiuf(BK59),3),\"\")","v":""},"","",{"$f":"IFERROR(astm(cityfufalt(BK60),3)-astm(cityfufalt(BK59),3),\"\")","v":""},"","","",{"$f":"IF(AZ60=\"\",1, MIN(IFERROR((AZ60/1000)/((AW60*$J$22)*$J$21/3600),1),IFERROR((SUMIFS(AZ59:AZ93,AV59:AV93,\"<=\"&$AV60,AV59:AV93,\">=\"&$AV60-1)/1000)/(  $J$22*SUMIFS(AW59:AW93,AV59:AV93,\"<=\"&$AV60,AV59:AV93,\">=\"&$AV60-1)*$J$21/3600),1),IFERROR((SUMIFS(AZ59:AZ93,AV59:AV93,\"<=\"&$AV60,AV59:AV93,\">=\"&$AV60-2)/1000)/(  $J$22*SUMIFS(AW59:AW93,AV59:AV93,\"<=\"&$AV60,AV59:AV93,\">=\"&$AV60-2)*$J$21/3600),1),IFERROR((SUMIFS(AZ59:AZ93,AV59:AV93,\"<=\"&$AV60,AV59:AV93,\">=\"&$AV60-3)/1000)/(  $J$22*SUMIFS(AW59:AW93,AV59:AV93,\"<=\"&$AV60,AV59:AV93,\">=\"&$AV60-3)*$J$21/3600),1)) )","v":1},"",{"$f":"IF(AZ60=\"\",1, MIN($AZ60/SUM($AZ59:$AZ60),SUMIFS(AZ59:AZ93,AV59:AV93,\">=\"&$AV60-1,AV59:AV93,\"<=\"&$AV60)/SUM($AZ59:$AZ60),SUMIFS(AZ59:AZ93,AV59:AV93,\">=\"&$AV60-2,AV59:AV93,\"<=\"&$AV60)/SUM($AZ59:$AZ60),SUMIFS(AZ59:AZ93,AV59:AV93,\">=\"&$AV60-3,AV59:AV93,\"<=\"&$AV60)/SUM($AZ59:$AZ60)) )","v":1},null,2,"","",{"$f":"IF(ISBLANK(AA60),\"\",(astm(AA60,3)-astm(AA59,3)))","v":""},"","",{"$f":"IF(ISBLANK(Z60),\"\",10.3+CC59)","v":""},"","",{"$f":"IFERROR(astm(highwayfuf(CC60)-highwayfuf(CC59),3),\"\")","v":""},"","","","","",{"$f":"  IFERROR(CJ60*10.3+CL59,\"\")","v":""},{"$f":"IFERROR(astm(mdiuf(CL60)-mdiuf(CL59),3),\"\")","v":""},"","",{"$f":"IFERROR(astm(highwayfufalt(CL60)-highwayfufalt(CL59),3),\"\")","v":""},"","",{"$f":"IF(CA60=\"\",\"\", IF(ABS(CT60)<0.01,\"CS based on 1% fuel energy\",\"CD\"))","v":""},{"$f":"IF(CA60=\"\",1, MIN(IFERROR((CA60/1000)/((BX60*$J$22)*$J$21/3600),1),IFERROR((SUMIFS(CA59:CA93,BW59:BW93,\"<=\"&$BW60,BW59:BW93,\">=\"&$BW60-1)/1000)/(  $J$22*SUMIFS(BX59:BX93,BW59:BW93,\"<=\"&$BW60,BW59:BW93,\">=\"&$BW60-1)*$J$21/3600),1),IFERROR((SUMIFS(CA59:CA93,BW59:BW93,\"<=\"&$BW60,BW59:BW93,\">=\"&$BW60-2)/1000)/(  $J$22*SUMIFS(BX59:BX93,BW59:BW93,\"<=\"&$BW60,BW59:BW93,\">=\"&$BW60-2)*$J$21/3600),1),IFERROR((SUMIFS(CA59:CA93,BW59:BW93,\"<=\"&$BW60,BW59:BW93,\">=\"&$BW60-3)/1000)/(  $J$22*SUMIFS(BX59:BX93,BW59:BW93,\"<=\"&$BW60,BW59:BW93,\">=\"&$BW60-3)*$J$21/3600),1)) )","v":1},{"$f":"IF($CA60=\"\",\"\", IF(ABS(CV60)<0.02,\"CS based on 2% battery energy\",\"CD\"))","v":""},{"$f":"IF(CA60=\"\",1, MIN($CA60/SUM($CA59:$CA60),SUMIFS(CA59:CA93,BW59:BW93,\">=\"&$BW60-1,BW59:BW93,\"<=\"&$BW60)/SUM($CA59:$CA60),SUMIFS(CA59:CA93,BW59:BW93,\">=\"&$BW60-2,BW59:BW93,\"<=\"&$BW60)/SUM($CA59:$CA60),SUMIFS(CA59:CA93,BW59:BW93,\">=\"&$BW60-3,BW59:BW93,\"<=\"&$BW60)/SUM($CA59:$CA60)) )","v":1}]
[null,null,"Comb Unrd Adj FE - Conventional Fuel",null,null,{"$f":"astm(1/(0.55/(IF($N$7+$N$55+$N$103=0,    ((N12<>0)+(N60<>0)+(N108<>0))/(IFERROR(1/N12,0)+IFERROR(1/N60,0)+IFERROR(1/N108,0)),    ($N$7+$N$55+$N$103) / (IFERROR($N$7/N12,0)+IFERROR($N$55/N60,0)+IFERROR($N$103/N108,0))  ))+0.45/(IF($N$7+$N$55+$N$103=0,    ((O12<>0)+(O60<>0)+(O108<>0))/(IFERROR(1/O12,0)+IFERROR(1/O60,0)+IFERROR(1/O108,0)),    ($N$7+$N$55+$N$103) / (IFERROR($N$7/O12,0)+IFERROR($N$55/O60,0)+IFERROR($N$103/O108,0))  ))),4)","v":32.036999999999999},null,null,null,null,null,null,"CREE (g/mi):",null,null,null,3,null,null,null,null,null,null,null,3,null,null,null,null,null,null,null,null,null,"Label Values (5-Cycle Adjusted)",null,null,null,null,null,null,"CD test total DC energy consumed, unadjusted (Watt-hours) [1]",{"$f":"astm(SUM(AZ59:AZ93),1)","v":0},{"$f":"astm(SUM(CA59:CA93),1)","v":0},null,null,null,3,"","","","",{"$f":"IFERROR(astm(  astm($W$94,3)*1000*(AZ61/AQ61),1),\"\")","v":""},"","","",{"$f":"IFERROR(astm(cityfuf(BB61),3)-astm(cityfuf(BB60),3),\"\")","v":""},"","","","","",{"$f":" IFERROR(BI61*7.45+BK60,\"\")","v":""},{"$f":"IFERROR(astm(mdiuf(BK61),3)-astm(mdiuf(BK60),3),\"\")","v":""},"","",{"$f":"IFERROR(astm(cityfufalt(BK61),3)-astm(cityfufalt(BK60),3),\"\")","v":""},"","","",{"$f":"IF(AZ61=\"\",1, MIN(IFERROR((AZ61/1000)/((AW61*$J$22)*$J$21/3600),1),IFERROR((SUMIFS(AZ59:AZ93,AV59:AV93,\"<=\"&$AV61,AV59:AV93,\">=\"&$AV61-1)/1000)/(  $J$22*SUMIFS(AW59:AW93,AV59:AV93,\"<=\"&$AV61,AV59:AV93,\">=\"&$AV61-1)*$J$21/3600),1),IFERROR((SUMIFS(AZ59:AZ93,AV59:AV93,\"<=\"&$AV61,AV59:AV93,\">=\"&$AV61-2)/1000)/(  $J$22*SUMIFS(AW59:AW93,AV59:AV93,\"<=\"&$AV61,AV59:AV93,\">=\"&$AV61-2)*$J$21/3600),1),IFERROR((SUMIFS(AZ59:AZ93,AV59:AV93,\"<=\"&$AV61,AV59:AV93,\">=\"&$AV61-3)/1000)/(  $J$22*SUMIFS(AW59:AW93,AV59:AV93,\"<=\"&$AV61,AV59:AV93,\">=\"&$AV61-3)*$J$21/3600),1)) )","v":1},"",{"$f":"IF(AZ61=\"\",1, MIN($AZ61/SUM($AZ59:$AZ61),SUMIFS(AZ59:AZ93,AV59:AV93,\">=\"&$AV61-1,AV59:AV93,\"<=\"&$AV61)/SUM($AZ59:$AZ61),SUMIFS(AZ59:AZ93,AV59:AV93,\">=\"&$AV61-2,AV59:AV93,\"<=\"&$AV61)/SUM($AZ59:$AZ61),SUMIFS(AZ59:AZ93,AV59:AV93,\">=\"&$AV61-3,AV59:AV93,\"<=\"&$AV61)/SUM($AZ59:$AZ61)) )","v":1},null,3,"","","","","","","","",{"$f":"IFERROR(astm(highwayfuf(CC61)-highwayfuf(CC60),3),\"\")","v":""},"","","","","",{"$f":"  IFERROR(CJ61*10.3+CL60,\"\")","v":""},{"$f":"IFERROR(astm(mdiuf(CL61)-mdiuf(CL60),3),\"\")","v":""},"","",{"$f":"IFERROR(astm(highwayfufalt(CL61)-highwayfufalt(CL60),3),\"\")","v":""},"","","",{"$f":"IF(CA61=\"\",1, MIN(IFERROR((CA61/1000)/((BX61*$J$22)*$J$21/3600),1),IFERROR((SUMIFS(CA59:CA93,BW59:BW93,\"<=\"&$BW61,BW59:BW93,\">=\"&$BW61-1)/1000)/(  $J$22*SUMIFS(BX59:BX93,BW59:BW93,\"<=\"&$BW61,BW59:BW93,\">=\"&$BW61-1)*$J$21/3600),1),IFERROR((SUMIFS(CA59:CA93,BW59:BW93,\"<=\"&$BW61,BW59:BW93,\">=\"&$BW61-2)/1000)/(  $J$22*SUMIFS(BX59:BX93,BW59:BW93,\"<=\"&$BW61,BW59:BW93,\">=\"&$BW61-2)*$J$21/3600),1),IFERROR((SUMIFS(CA59:CA93,BW59:BW93,\"<=\"&$BW61,BW59:BW93,\">=\"&$BW61-3)/1000)/(  $J$22*SUMIFS(BX59:BX93,BW59:BW93,\"<=\"&$BW61,BW59:BW93,\">=\"&$BW61-3)*$J$21/3600),1)) )","v":1},"",{"$f":"IF(CA61=\"\",1, MIN($CA61/SUM($CA59:$CA61),SUMIFS(CA59:CA93,BW59:BW93,\">=\"&$BW61-1,BW59:BW93,\"<=\"&$BW61)/SUM($CA59:$CA61),SUMIFS(CA59:CA93,BW59:BW93,\">=\"&$BW61-2,BW59:BW93,\"<=\"&$BW61)/SUM($CA59:$CA61),SUMIFS(CA59:CA93,BW59:BW93,\">=\"&$BW61-3,BW59:BW93,\"<=\"&$BW61)/SUM($CA59:$CA61)) )","v":1}]
[null,null,"Charge-sustaining CO2",null,null,"g/mi",null,null,null,null,null,null,"CO2, Unadjusted (g/mi):",null,null,null,4,null,null,null,null,null,null,null,4,null,null,null,null,null,null,null,null,null,"Charge-Depleting",null,null,"Combined",null,null,"NEW","CD Rcda total fuel consumption (Rcda), unadjusted (gal equiv) [4]",{"$f":"IFERROR(astm(SUMIF(AV59:AV93,\"<=\" & (AQ82-1),BH59:BH93) + AQ81*SUMIF(AV59:AV93,\"=\" & (AQ82-1),BH59:BH93),4),0)","v":0},{"$f":"IFERROR(astm(SUMIF(BW59:BW93,\"<=\" & (AR82-1),CI59:CI93) + AR81*SUMIF(BW59:BW93,\"=\" & (AR82-1),CI59:CI93),4),0)","v":0},null,null,null,4,"","","","",{"$f":"IFERROR(astm(  astm($W$94,3)*1000*(AZ62/AQ61),1),\"\")","v":""},"","","",{"$f":"IFERROR(astm(cityfuf(BB62),3)-astm(cityfuf(BB61),3),\"\")","v":""},"","","","","","",{"$f":"IFERROR(astm(mdiuf(BK62),3)-astm(mdiuf(BK61),3),\"\")","v":""},"","",{"$f":"IFERROR(astm(cityfufalt(BK62),3)-astm(cityfufalt(BK61),3),\"\")","v":""},"","","",{"$f":"IF(AZ62=\"\",1, MIN(IFERROR((AZ62/1000)/((AW62*$J$22)*$J$21/3600),1),IFERROR((SUMIFS(AZ59:AZ93,AV59:AV93,\"<=\"&$AV62,AV59:AV93,\">=\"&$AV62-1)/1000)/(  $J$22*SUMIFS(AW59:AW93,AV59:AV93,\"<=\"&$AV62,AV59:AV93,\">=\"&$AV62-1)*$J$21/3600),1),IFERROR((SUMIFS(AZ59:AZ93,AV59:AV93,\"<=\"&$AV62,AV59:AV93,\">=\"&$AV62-2)/1000)/(  $J$22*SUMIFS(AW59:AW93,AV59:AV93,\"<=\"&$AV62,AV59:AV93,\">=\"&$AV62-2)*$J$21/3600),1),IFERROR((SUMIFS(AZ59:AZ93,AV59:AV93,\"<=\"&$AV62,AV59:AV93,\">=\"&$AV62-3)/1000)/(  $J$22*SUMIFS(AW59:AW93,AV59:AV93,\"<=\"&$AV62,AV59:AV93,\">=\"&$AV62-3)*$J$21/3600),1)) )","v":1},"",{"$f":"IF(AZ62=\"\",1, MIN($AZ62/SUM($AZ59:$AZ62),SUMIFS(AZ59:AZ93,AV59:AV93,\">=\"&$AV62-1,AV59:AV93,\"<=\"&$AV62)/SUM($AZ59:$AZ62),SUMIFS(AZ59:AZ93,AV59:AV93,\">=\"&$AV62-2,AV59:AV93,\"<=\"&$AV62)/SUM($AZ59:$AZ62),SUMIFS(AZ59:AZ93,AV59:AV93,\">=\"&$AV62-3,AV59:AV93,\"<=\"&$AV62)/SUM($AZ59:$AZ62)) )","v":1},null,4,"","","","","","","","",{"$f":"IFERROR(astm(highwayfuf(CC62)-highwayfuf(CC61),3),\"\")","v":""},"","","","","","",{"$f":"IFERROR(astm(mdiuf(CL62)-mdiuf(CL61),3),\"\")","v":""},"","",{"$f":"IFERROR(astm(highwayfufalt(CL62)-highwayfufalt(CL61),3),\"\")","v":""},"","","",{"$f":"IF(CA62=\"\",1, MIN(IFERROR((CA62/1000)/((BX62*$J$22)*$J$21/3600),1),IFERROR((SUMIFS(CA59:CA93,BW59:BW93,\"<=\"&$BW62,BW59:BW93,\">=\"&$BW62-1)/1000)/(  $J$22*SUMIFS(BX59:BX93,BW59:BW93,\"<=\"&$BW62,BW59:BW93,\">=\"&$BW62-1)*$J$21/3600),1),IFERROR((SUMIFS(CA59:CA93,BW59:BW93,\"<=\"&$BW62,BW59:BW93,\">=\"&$BW62-2)/1000)/(  $J$22*SUMIFS(BX59:BX93,BW59:BW93,\"<=\"&$BW62,BW59:BW93,\">=\"&$BW62-2)*$J$21/3600),1),IFERROR((SUMIFS(CA59:CA93,BW59:BW93,\"<=\"&$BW62,BW59:BW93,\">=\"&$BW62-3)/1000)/(  $J$22*SUMIFS(BX59:BX93,BW59:BW93,\"<=\"&$BW62,BW59:BW93,\">=\"&$BW62-3)*$J$21/3600),1)) )","v":1},"",{"$f":"IF(CA62=\"\",1, MIN($CA62/SUM($CA59:$CA62),SUMIFS(CA59:CA93,BW59:BW93,\">=\"&$BW62-1,BW59:BW93,\"<=\"&$BW62)/SUM($CA59:$CA62),SUMIFS(CA59:CA93,BW59:BW93,\">=\"&$BW62-2,BW59:BW93,\"<=\"&$BW62)/SUM($CA59:$CA62),SUMIFS(CA59:CA93,BW59:BW93,\">=\"&$BW62-3,BW59:BW93,\"<=\"&$BW62)/SUM($CA59:$CA62)) )","v":1}]
[null,null,"City CO2 Rounded Adjusted",null,null,{"$f":"astm(IF($N$7+$N$55+$N$103=0,   (N15+N63+N111)/ ((N15<>0)+(N63<>0)+(N111<>0)),    (IFERROR($N$7*N15,0)+IFERROR($N$55*N63,0)+IFERROR($N$103*N111,0)) /  ($N$7+$N$55+$N$103)   ),0)","v":293},null,null,null,null,null,null,"CO2, Adjusted (g/mi):",null,null,null,5,null,null,null,null,null,null,null,5,null,null,null,null,null,null,null,null,null,"CD range, adjusted (miles) [0]",null,null,{"$f":"IFERROR(astm(0.55*AQ55+0.45*AR55,0),0)","v":0},null,null,null,"CD utilitized total fuel consumption rate (55/45 FUF, Rcdc), unadjusted (gal-equiv/mile) [6]",{"$f":" astm(SUMIF(AV59:AV93,\"<=\" & (AQ82),BG59:BG93)*1000000,0)/1000000","v":0},{"$f":" astm(SUMIF(BW59:BW93,\"<=\" & (AR82),CH59:CH93)*1000000,0)/1000000","v":0},null,null,null,5,"","","","",{"$f":"IFERROR(astm(  astm($W$94,3)*1000*(AZ63/AQ61),1),\"\")","v":""},"","","",{"$f":"IFERROR(astm(cityfuf(BB63),3)-astm(cityfuf(BB62),3),\"\")","v":""},"","","","","","",{"$f":"IFERROR(astm(mdiuf(BK63),3)-astm(mdiuf(BK62),3),\"\")","v":""},"","",{"$f":"IFERROR(astm(cityfufalt(BK63),3)-astm(cityfufalt(BK62),3),\"\")","v":""},"","","",{"$f":"IF(AZ63=\"\",1, MIN(IFERROR((AZ63/1000)/((AW63*$J$22)*$J$21/3600),1),IFERROR((SUMIFS(AZ59:AZ93,AV59:AV93,\"<=\"&$AV63,AV59:AV93,\">=\"&$AV63-1)/1000)/(  $J$22*SUMIFS(AW59:AW93,AV59:AV93,\"<=\"&$AV63,AV59:AV93,\">=\"&$AV63-1)*$J$21/3600),1),IFERROR((SUMIFS(AZ59:AZ93,AV59:AV93,\"<=\"&$AV63,AV59:AV93,\">=\"&$AV63-2)/1000)/(  $J$22*SUMIFS(AW59:AW93,AV59:AV93,\"<=\"&$AV63,AV59:AV93,\">=\"&$AV63-2)*$J$21/3600),1),IFERROR((SUMIFS(AZ59:AZ93,AV59:AV93,\"<=\"&$AV63,AV59:AV93,\">=\"&$AV63-3)/1000)/(  $J$22*SUMIFS(AW59:AW93,AV59:AV93,\"<=\"&$AV63,AV59:AV93,\">=\"&$AV63-3)*$J$21/3600),1)) )","v":1},"",{"$f":"IF(AZ63=\"\",1, MIN($AZ63/SUM($AZ59:$AZ63),SUMIFS(AZ59:AZ93,AV59:AV93,\">=\"&$AV63-1,AV59:AV93,\"<=\"&$AV63)/SUM($AZ59:$AZ63),SUMIFS(AZ59:AZ93,AV59:AV93,\">=\"&$AV63-2,AV59:AV93,\"<=\"&$AV63)/SUM($AZ59:$AZ63),SUMIFS(AZ59:AZ93,AV59:AV93,\">=\"&$AV63-3,AV59:AV93,\"<=\"&$AV63)/SUM($AZ59:$AZ63)) )","v":1},null,5,"","","","","","","","",{"$f":"IFERROR(astm(highwayfuf(CC63)-highwayfuf(CC62),3),\"\")","v":""},"","","","","","",{"$f":"IFERROR(astm(mdiuf(CL63)-mdiuf(CL62),3),\"\")","v":""},"","",{"$f":"IFERROR(astm(highwayfufalt(CL63)-highwayfufalt(CL62),3),\"\")","v":""},"","","",{"$f":"IF(CA63=\"\",1, MIN(IFERROR((CA63/1000)/((BX63*$J$22)*$J$21/3600),1),IFERROR((SUMIFS(CA59:CA93,BW59:BW93,\"<=\"&$BW63,BW59:BW93,\">=\"&$BW63-1)/1000)/(  $J$22*SUMIFS(BX59:BX93,BW59:BW93,\"<=\"&$BW63,BW59:BW93,\">=\"&$BW63-1)*$J$21/3600),1),IFERROR((SUMIFS(CA59:CA93,BW59:BW93,\"<=\"&$BW63,BW59:BW93,\">=\"&$BW63-2)/1000)/(  $J$22*SUMIFS(BX59:BX93,BW59:BW93,\"<=\"&$BW63,BW59:BW93,\">=\"&$BW63-2)*$J$21/3600),1),IFERROR((SUMIFS(CA59:CA93,BW59:BW93,\"<=\"&$BW63,BW59:BW93,\">=\"&$BW63-3)/1000)/(  $J$22*SUMIFS(BX59:BX93,BW59:BW93,\"<=\"&$BW63,BW59:BW93,\">=\"&$BW63-3)*$J$21/3600),1)) )","v":1},"",{"$f":"IF(CA63=\"\",1, MIN($CA63/SUM($CA59:$CA63),SUMIFS(CA59:CA93,BW59:BW93,\">=\"&$BW63-1,BW59:BW93,\"<=\"&$BW63)/SUM($CA59:$CA63),SUMIFS(CA59:CA93,BW59:BW93,\">=\"&$BW63-2,BW59:BW93,\"<=\"&$BW63)/SUM($CA59:$CA63),SUMIFS(CA59:CA93,BW59:BW93,\">=\"&$BW63-3,BW59:BW93,\"<=\"&$BW63)/SUM($CA59:$CA63)) )","v":1}]
[null,null,"Hwy CO2 Rounded Adjusted",null,null,{"$f":"astm(IF($N$7+$N$55+$N$103=0,   (O15+O63+O111)/ ((O15<>0)+(O63<>0)+(O111<>0)),    (IFERROR($N$7*O15,0)+IFERROR($N$55*O63,0)+IFERROR($N$103*O111,0)) /  ($N$7+$N$55+$N$103)   ),0)","v":258},null,null,null,null,null,null,null,null,null,null,6,null,null,null,null,null,null,null,6,null,null,null,null,null,null,null,null,null,"CD All-Electric Range, adjusted (mi) [0]",null,null,{"$f":"IFERROR(astm(0.55*AQ57+0.45*AR57,0),0)","v":0},null,null,"NEW","CD utilitized total fuel consumption rate (43/57 FUF, Rcdc), adjusted (gal-equiv/mile) [6]",{"$f":" astm( 1000000*SUMIF(AV59:AV93,\"<=\" & (AQ82),BP59:BP93), 0) / 1000000","v":0},{"$f":" astm( 1000000*SUMIF(BW59:BW93,\"<=\" & (AR82),CQ59:CQ93), 0) / 1000000","v":0},null,null,null,6,"","","","",{"$f":"IFERROR(astm(  astm($W$94,3)*1000*(AZ64/AQ61),1),\"\")","v":""},"","","",{"$f":"IFERROR(astm(cityfuf(BB64),3)-astm(cityfuf(BB63),3),\"\")","v":""},"","","","","","",{"$f":"IFERROR(astm(mdiuf(BK64),3)-astm(mdiuf(BK63),3),\"\")","v":""},"","",{"$f":"IFERROR(astm(cityfufalt(BK64),3)-astm(cityfufalt(BK63),3),\"\")","v":""},"","","",{"$f":"IF(AZ64=\"\",1, MIN(IFERROR((AZ64/1000)/((AW64*$J$22)*$J$21/3600),1),IFERROR((SUMIFS(AZ59:AZ93,AV59:AV93,\"<=\"&$AV64,AV59:AV93,\">=\"&$AV64-1)/1000)/(  $J$22*SUMIFS(AW59:AW93,AV59:AV93,\"<=\"&$AV64,AV59:AV93,\">=\"&$AV64-1)*$J$21/3600),1),IFERROR((SUMIFS(AZ59:AZ93,AV59:AV93,\"<=\"&$AV64,AV59:AV93,\">=\"&$AV64-2)/1000)/(  $J$22*SUMIFS(AW59:AW93,AV59:AV93,\"<=\"&$AV64,AV59:AV93,\">=\"&$AV64-2)*$J$21/3600),1),IFERROR((SUMIFS(AZ59:AZ93,AV59:AV93,\"<=\"&$AV64,AV59:AV93,\">=\"&$AV64-3)/1000)/(  $J$22*SUMIFS(AW59:AW93,AV59:AV93,\"<=\"&$AV64,AV59:AV93,\">=\"&$AV64-3)*$J$21/3600),1)) )","v":1},"",{"$f":"IF(AZ64=\"\",1, MIN($AZ64/SUM($AZ59:$AZ64),SUMIFS(AZ59:AZ93,AV59:AV93,\">=\"&$AV64-1,AV59:AV93,\"<=\"&$AV64)/SUM($AZ59:$AZ64),SUMIFS(AZ59:AZ93,AV59:AV93,\">=\"&$AV64-2,AV59:AV93,\"<=\"&$AV64)/SUM($AZ59:$AZ64),SUMIFS(AZ59:AZ93,AV59:AV93,\">=\"&$AV64-3,AV59:AV93,\"<=\"&$AV64)/SUM($AZ59:$AZ64)) )","v":1},null,6,"","","","","","","","",{"$f":"IFERROR(astm(highwayfuf(CC64)-highwayfuf(CC63),3),\"\")","v":""},"","","","","","",{"$f":"IFERROR(astm(mdiuf(CL64)-mdiuf(CL63),3),\"\")","v":""},"","",{"$f":"IFERROR(astm(highwayfufalt(CL64)-highwayfufalt(CL63),3),\"\")","v":""},"","","",{"$f":"IF(CA64=\"\",1, MIN(IFERROR((CA64/1000)/((BX64*$J$22)*$J$21/3600),1),IFERROR((SUMIFS(CA59:CA93,BW59:BW93,\"<=\"&$BW64,BW59:BW93,\">=\"&$BW64-1)/1000)/(  $J$22*SUMIFS(BX59:BX93,BW59:BW93,\"<=\"&$BW64,BW59:BW93,\">=\"&$BW64-1)*$J$21/3600),1),IFERROR((SUMIFS(CA59:CA93,BW59:BW93,\"<=\"&$BW64,BW59:BW93,\">=\"&$BW64-2)/1000)/(  $J$22*SUMIFS(BX59:BX93,BW59:BW93,\"<=\"&$BW64,BW59:BW93,\">=\"&$BW64-2)*$J$21/3600),1),IFERROR((SUMIFS(CA59:CA93,BW59:BW93,\"<=\"&$BW64,BW59:BW93,\">=\"&$BW64-3)/1000)/(  $J$22*SUMIFS(BX59:BX93,BW59:BW93,\"<=\"&$BW64,BW59:BW93,\">=\"&$BW64-3)*$J$21/3600),1)) )","v":1},"",{"$f":"IF(CA64=\"\",1, MIN($CA64/SUM($CA59:$CA64),SUMIFS(CA59:CA93,BW59:BW93,\">=\"&$BW64-1,BW59:BW93,\"<=\"&$BW64)/SUM($CA59:$CA64),SUMIFS(CA59:CA93,BW59:BW93,\">=\"&$BW64-2,BW59:BW93,\"<=\"&$BW64)/SUM($CA59:$CA64),SUMIFS(CA59:CA93,BW59:BW93,\">=\"&$BW64-3,BW59:BW93,\"<=\"&$BW64)/SUM($CA59:$CA64)) )","v":1}]
[null,null,"Comb CO2 Rounded Adjusted",null,null,{"$f":"astm(0.55*(IF($N$7+$N$55+$N$103=0,   (N15+N63+N111)/ ((N15<>0)+(N63<>0)+(N111<>0)),    (IFERROR($N$7*N15,0)+IFERROR($N$55*N63,0)+IFERROR($N$103*N111,0)) /  ($N$7+$N$55+$N$103)   ))+0.45*(IF($N$7+$N$55+$N$103=0,   (O15+O63+O111)/ ((O15<>0)+(O63<>0)+(O111<>0)),    (IFERROR($N$7*O15,0)+IFERROR($N$55*O63,0)+IFERROR($N$103*O111,0)) /  ($N$7+$N$55+$N$103)   )),0)","v":277},null,null,null,null,null,null,null,null,null,null,7,null,null,null,null,null,null,null,7,null,null,null,null,null,null,null,null,null,"Total Driving Range (Miles) [0]",null,null,{"$f":"IFERROR(astm(   IFERROR((astm(0.55*AQ86+0.45*AR86,0)+AL63),0) / 10,0) *10,0)","v":0},null,null,"NEW","CD utilitized total fuel consumption rate (MDIUF, Rcdc), adjusted (gal-equiv/mile) [6]",{"$f":" astm(SUMIF(AV59:AV93,\"<=\" & (AQ82),BN59:BN93)*1000000,0) / 1000000","v":0},{"$f":" astm(SUMIF(BW59:BW93,\"<=\" & (AR82),CO59:CO93)*1000000,0) / 1000000","v":0},null,null,null,7,"","","","",{"$f":"IFERROR(astm(  astm($W$94,3)*1000*(AZ65/AQ61),1),\"\")","v":""},"","","",{"$f":"IFERROR(astm(cityfuf(BB65),3)-astm(cityfuf(BB64),3),\"\")","v":""},"","","","","","",{"$f":"IFERROR(astm(mdiuf(BK65),3)-astm(mdiuf(BK64),3),\"\")","v":""},"","",{"$f":"IFERROR(astm(cityfufalt(BK65),3)-astm(cityfufalt(BK64),3),\"\")","v":""},"","","",{"$f":"IF(AZ65=\"\",1, MIN(IFERROR((AZ65/1000)/((AW65*$J$22)*$J$21/3600),1),IFERROR((SUMIFS(AZ59:AZ93,AV59:AV93,\"<=\"&$AV65,AV59:AV93,\">=\"&$AV65-1)/1000)/(  $J$22*SUMIFS(AW59:AW93,AV59:AV93,\"<=\"&$AV65,AV59:AV93,\">=\"&$AV65-1)*$J$21/3600),1),IFERROR((SUMIFS(AZ59:AZ93,AV59:AV93,\"<=\"&$AV65,AV59:AV93,\">=\"&$AV65-2)/1000)/(  $J$22*SUMIFS(AW59:AW93,AV59:AV93,\"<=\"&$AV65,AV59:AV93,\">=\"&$AV65-2)*$J$21/3600),1),IFERROR((SUMIFS(AZ59:AZ93,AV59:AV93,\"<=\"&$AV65,AV59:AV93,\">=\"&$AV65-3)/1000)/(  $J$22*SUMIFS(AW59:AW93,AV59:AV93,\"<=\"&$AV65,AV59:AV93,\">=\"&$AV65-3)*$J$21/3600),1)) )","v":1},"",{"$f":"IF(AZ65=\"\",1, MIN($AZ65/SUM($AZ59:$AZ65),SUMIFS(AZ59:AZ93,AV59:AV93,\">=\"&$AV65-1,AV59:AV93,\"<=\"&$AV65)/SUM($AZ59:$AZ65),SUMIFS(AZ59:AZ93,AV59:AV93,\">=\"&$AV65-2,AV59:AV93,\"<=\"&$AV65)/SUM($AZ59:$AZ65),SUMIFS(AZ59:AZ93,AV59:AV93,\">=\"&$AV65-3,AV59:AV93,\"<=\"&$AV65)/SUM($AZ59:$AZ65)) )","v":1},null,7,"","","","","","","","",{"$f":"IFERROR(astm(highwayfuf(CC65)-highwayfuf(CC64),3),\"\")","v":""},"","","","","","",{"$f":"IFERROR(astm(mdiuf(CL65)-mdiuf(CL64),3),\"\")","v":""},"","",{"$f":"IFERROR(astm(highwayfufalt(CL65)-highwayfufalt(CL64),3),\"\")","v":""},"","","",{"$f":"IF(CA65=\"\",1, MIN(IFERROR((CA65/1000)/((BX65*$J$22)*$J$21/3600),1),IFERROR((SUMIFS(CA59:CA93,BW59:BW93,\"<=\"&$BW65,BW59:BW93,\">=\"&$BW65-1)/1000)/(  $J$22*SUMIFS(BX59:BX93,BW59:BW93,\"<=\"&$BW65,BW59:BW93,\">=\"&$BW65-1)*$J$21/3600),1),IFERROR((SUMIFS(CA59:CA93,BW59:BW93,\"<=\"&$BW65,BW59:BW93,\">=\"&$BW65-2)/1000)/(  $J$22*SUMIFS(BX59:BX93,BW59:BW93,\"<=\"&$BW65,BW59:BW93,\">=\"&$BW65-2)*$J$21/3600),1),IFERROR((SUMIFS(CA59:CA93,BW59:BW93,\"<=\"&$BW65,BW59:BW93,\">=\"&$BW65-3)/1000)/(  $J$22*SUMIFS(BX59:BX93,BW59:BW93,\"<=\"&$BW65,BW59:BW93,\">=\"&$BW65-3)*$J$21/3600),1)) )","v":1},"",{"$f":"IF(CA65=\"\",1, MIN($CA65/SUM($CA59:$CA65),SUMIFS(CA59:CA93,BW59:BW93,\">=\"&$BW65-1,BW59:BW93,\"<=\"&$BW65)/SUM($CA59:$CA65),SUMIFS(CA59:CA93,BW59:BW93,\">=\"&$BW65-2,BW59:BW93,\"<=\"&$BW65)/SUM($CA59:$CA65),SUMIFS(CA59:CA93,BW59:BW93,\">=\"&$BW65-3,BW59:BW93,\"<=\"&$BW65)/SUM($CA59:$CA65)) )","v":1}]
[null,null,"*City CO2 Unadj",null,null,{"$f":"astm(IF($N$7+$N$55+$N$103=0,   (N14+N62+N110)/ ((N14<>0)+(N62<>0)+(N110<>0)),    (IFERROR($N$7*N14,0)+IFERROR($N$55*N62,0)+IFERROR($N$103*N110,0)) /  ($N$7+$N$55+$N$103)   ),1)","v":233},null,null,null,null,null,null,null,null,null,null,8,null,null,null,null,null,null,null,8,null,null,null,null,null,null,null,null,null,"CD Fuel Economy (MPGe) [0]",null,null,{"$f":" IFERROR(astm(1/(0.55/AQ67+0.45/AR67),0),0)","v":0},null,null,null,"CD gasoline consumption (Rcda), adjusted (gal) [1]",{"$f":"IFERROR(SUMIF(AV59:AV93,\"<=\" & AQ82-1,AW59:AW93)+AQ81*SUMIF(AV59:AV93,\"=\" & AQ82-1,AW59:AW93),0)","v":0},{"$f":"IFERROR(SUMIF(BW59:BW93,\"<=\" & AR82-1,BX59:BX93)+AR81*SUMIF(BW59:BW93,\"=\" & AR82-1,BX59:BX93),0)","v":0},null,null,null,8,"","","","",{"$f":"IFERROR(astm(  astm($W$94,3)*1000*(AZ66/AQ61),1),\"\")","v":""},"","","",{"$f":"IFERROR(astm(cityfuf(BB66),3)-astm(cityfuf(BB65),3),\"\")","v":""},"","","","","","",{"$f":"IFERROR(astm(mdiuf(BK66),3)-astm(mdiuf(BK65),3),\"\")","v":""},"","",{"$f":"IFERROR(astm(cityfufalt(BK66),3)-astm(cityfufalt(BK65),3),\"\")","v":""},"","","",{"$f":"IF(AZ66=\"\",1, MIN(IFERROR((AZ66/1000)/((AW66*$J$22)*$J$21/3600),1),IFERROR((SUMIFS(AZ59:AZ93,AV59:AV93,\"<=\"&$AV66,AV59:AV93,\">=\"&$AV66-1)/1000)/(  $J$22*SUMIFS(AW59:AW93,AV59:AV93,\"<=\"&$AV66,AV59:AV93,\">=\"&$AV66-1)*$J$21/3600),1),IFERROR((SUMIFS(AZ59:AZ93,AV59:AV93,\"<=\"&$AV66,AV59:AV93,\">=\"&$AV66-2)/1000)/(  $J$22*SUMIFS(AW59:AW93,AV59:AV93,\"<=\"&$AV66,AV59:AV93,\">=\"&$AV66-2)*$J$21/3600),1),IFERROR((SUMIFS(AZ59:AZ93,AV59:AV93,\"<=\"&$AV66,AV59:AV93,\">=\"&$AV66-3)/1000)/(  $J$22*SUMIFS(AW59:AW93,AV59:AV93,\"<=\"&$AV66,AV59:AV93,\">=\"&$AV66-3)*$J$21/3600),1)) )","v":1},"",{"$f":"IF(AZ66=\"\",1, MIN($AZ66/SUM($AZ59:$AZ66),SUMIFS(AZ59:AZ93,AV59:AV93,\">=\"&$AV66-1,AV59:AV93,\"<=\"&$AV66)/SUM($AZ59:$AZ66),SUMIFS(AZ59:AZ93,AV59:AV93,\">=\"&$AV66-2,AV59:AV93,\"<=\"&$AV66)/SUM($AZ59:$AZ66),SUMIFS(AZ59:AZ93,AV59:AV93,\">=\"&$AV66-3,AV59:AV93,\"<=\"&$AV66)/SUM($AZ59:$AZ66)) )","v":1},null,8,"","","","","","","","",{"$f":"IFERROR(astm(highwayfuf(CC66)-highwayfuf(CC65),3),\"\")","v":""},"","","","","","",{"$f":"IFERROR(astm(mdiuf(CL66)-mdiuf(CL65),3),\"\")","v":""},"","",{"$f":"IFERROR(astm(highwayfufalt(CL66)-highwayfufalt(CL65),3),\"\")","v":""},"","","",{"$f":"IF(CA66=\"\",1, MIN(IFERROR((CA66/1000)/((BX66*$J$22)*$J$21/3600),1),IFERROR((SUMIFS(CA59:CA93,BW59:BW93,\"<=\"&$BW66,BW59:BW93,\">=\"&$BW66-1)/1000)/(  $J$22*SUMIFS(BX59:BX93,BW59:BW93,\"<=\"&$BW66,BW59:BW93,\">=\"&$BW66-1)*$J$21/3600),1),IFERROR((SUMIFS(CA59:CA93,BW59:BW93,\"<=\"&$BW66,BW59:BW93,\">=\"&$BW66-2)/1000)/(  $J$22*SUMIFS(BX59:BX93,BW59:BW93,\"<=\"&$BW66,BW59:BW93,\">=\"&$BW66-2)*$J$21/3600),1),IFERROR((SUMIFS(CA59:CA93,BW59:BW93,\"<=\"&$BW66,BW59:BW93,\">=\"&$BW66-3)/1000)/(  $J$22*SUMIFS(BX59:BX93,BW59:BW93,\"<=\"&$BW66,BW59:BW93,\">=\"&$BW66-3)*$J$21/3600),1)) )","v":1},"",{"$f":"IF(CA66=\"\",1, MIN($CA66/SUM($CA59:$CA66),SUMIFS(CA59:CA93,BW59:BW93,\">=\"&$BW66-1,BW59:BW93,\"<=\"&$BW66)/SUM($CA59:$CA66),SUMIFS(CA59:CA93,BW59:BW93,\">=\"&$BW66-2,BW59:BW93,\"<=\"&$BW66)/SUM($CA59:$CA66),SUMIFS(CA59:CA93,BW59:BW93,\">=\"&$BW66-3,BW59:BW93,\"<=\"&$BW66)/SUM($CA59:$CA66)) )","v":1}]
[null,null,"*Hwy CO2 Unadj",null,null,{"$f":"astm(IF($N$7+$N$55+$N$103=0,   (O14+O62+O110)/ ((O14<>0)+(O62<>0)+(O110<>0)),    (IFERROR($N$7*O14,0)+IFERROR($N$55*O62,0)+IFERROR($N$103*O110,0)) /  ($N$7+$N$55+$N$103)   ),1)","v":192},null,null,null,null,null,null,null,null,null,null,9,null,null,null,null,null,null,null,9,null,null,null,null,null,null,null,null,null,"CD Electricity Consumption  (kW-hr/100mi) [0]",null,null,{"$f":"IFERROR(astm(0.55*AQ60+0.45*AR60,0),0)","v":0},null,null,null,"CD fuel economy (Rcda), adjusted (MPGe) [4]",{"$f":"IFERROR(astm( AQ55/ ( SUMIF(AV59:AV93,\"<=\" & (AQ82-1),BH59:BH93) + AQ81*SUMIF(AV59:AV93,\"=\" & (AQ82-1),BH59:BH93) ),4),0)","v":0},{"$f":"IFERROR(astm( AR55/ ( SUMIF(BW59:BW93,\"<=\" & (AR82-1),CI59:CI93) + AR81*SUMIF(BW59:BW93,\"=\" & (AR82-1),CI59:CI93) ),4),0)","v":0},null,null,null,9,"","","","",{"$f":"IFERROR(astm(  astm($W$94,3)*1000*(AZ67/AQ61),1),\"\")","v":""},"","","",{"$f":"IFERROR(astm(cityfuf(BB67),3)-astm(cityfuf(BB66),3),\"\")","v":""},"","","","","","",{"$f":"IFERROR(astm(mdiuf(BK67),3)-astm(mdiuf(BK66),3),\"\")","v":""},"","",{"$f":"IFERROR(astm(cityfufalt(BK67),3)-astm(cityfufalt(BK66),3),\"\")","v":""},"","","",{"$f":"IF(AZ67=\"\",1, MIN(IFERROR((AZ67/1000)/((AW67*$J$22)*$J$21/3600),1),IFERROR((SUMIFS(AZ59:AZ93,AV59:AV93,\"<=\"&$AV67,AV59:AV93,\">=\"&$AV67-1)/1000)/(  $J$22*SUMIFS(AW59:AW93,AV59:AV93,\"<=\"&$AV67,AV59:AV93,\">=\"&$AV67-1)*$J$21/3600),1),IFERROR((SUMIFS(AZ59:AZ93,AV59:AV93,\"<=\"&$AV67,AV59:AV93,\">=\"&$AV67-2)/1000)/(  $J$22*SUMIFS(AW59:AW93,AV59:AV93,\"<=\"&$AV67,AV59:AV93,\">=\"&$AV67-2)*$J$21/3600),1),IFERROR((SUMIFS(AZ59:AZ93,AV59:AV93,\"<=\"&$AV67,AV59:AV93,\">=\"&$AV67-3)/1000)/(  $J$22*SUMIFS(AW59:AW93,AV59:AV93,\"<=\"&$AV67,AV59:AV93,\">=\"&$AV67-3)*$J$21/3600),1)) )","v":1},"",{"$f":"IF(AZ67=\"\",1, MIN($AZ67/SUM($AZ59:$AZ67),SUMIFS(AZ59:AZ93,AV59:AV93,\">=\"&$AV67-1,AV59:AV93,\"<=\"&$AV67)/SUM($AZ59:$AZ67),SUMIFS(AZ59:AZ93,AV59:AV93,\">=\"&$AV67-2,AV59:AV93,\"<=\"&$AV67)/SUM($AZ59:$AZ67),SUMIFS(AZ59:AZ93,AV59:AV93,\">=\"&$AV67-3,AV59:AV93,\"<=\"&$AV67)/SUM($AZ59:$AZ67)) )","v":1},null,9,"","","","","","","","",{"$f":"IFERROR(astm(highwayfuf(CC67)-highwayfuf(CC66),3),\"\")","v":""},"","","","","","",{"$f":"IFERROR(astm(mdiuf(CL67)-mdiuf(CL66),3),\"\")","v":""},"","",{"$f":"IFERROR(astm(highwayfufalt(CL67)-highwayfufalt(CL66),3),\"\")","v":""},"","","",{"$f":"IF(CA67=\"\",1, MIN(IFERROR((CA67/1000)/((BX67*$J$22)*$J$21/3600),1),IFERROR((SUMIFS(CA59:CA93,BW59:BW93,\"<=\"&$BW67,BW59:BW93,\">=\"&$BW67-1)/1000)/(  $J$22*SUMIFS(BX59:BX93,BW59:BW93,\"<=\"&$BW67,BW59:BW93,\">=\"&$BW67-1)*$J$21/3600),1),IFERROR((SUMIFS(CA59:CA93,BW59:BW93,\"<=\"&$BW67,BW59:BW93,\">=\"&$BW67-2)/1000)/(  $J$22*SUMIFS(BX59:BX93,BW59:BW93,\"<=\"&$BW67,BW59:BW93,\">=\"&$BW67-2)*$J$21/3600),1),IFERROR((SUMIFS(CA59:CA93,BW59:BW93,\"<=\"&$BW67,BW59:BW93,\">=\"&$BW67-3)/1000)/(  $J$22*SUMIFS(BX59:BX93,BW59:BW93,\"<=\"&$BW67,BW59:BW93,\">=\"&$BW67-3)*$J$21/3600),1)) )","v":1},"",{"$f":"IF(CA67=\"\",1, MIN($CA67/SUM($CA59:$CA67),SUMIFS(CA59:CA93,BW59:BW93,\">=\"&$BW67-1,BW59:BW93,\"<=\"&$BW67)/SUM($CA59:$CA67),SUMIFS(CA59:CA93,BW59:BW93,\">=\"&$BW67-2,BW59:BW93,\"<=\"&$BW67)/SUM($CA59:$CA67),SUMIFS(CA59:CA93,BW59:BW93,\">=\"&$BW67-3,BW59:BW93,\"<=\"&$BW67)/SUM($CA59:$CA67)) )","v":1}]
[null,null,"*Comb CO2 Unadj",null,null,{"$f":"astm(0.55*(IF($N$7+$N$55+$N$103=0,   (N14+N62+N110)/ ((N14<>0)+(N62<>0)+(N110<>0)),    (IFERROR($N$7*N14,0)+IFERROR($N$55*N62,0)+IFERROR($N$103*N110,0)) /  ($N$7+$N$55+$N$103)   ))+0.45*(IF($N$7+$N$55+$N$103=0,   (O14+O62+O110)/ ((O14<>0)+(O62<>0)+(O110<>0)),    (IFERROR($N$7*O14,0)+IFERROR($N$55*O62,0)+IFERROR($N$103*O110,0)) /  ($N$7+$N$55+$N$103)   )),1)","v":214.6},null,null,null,null,null,null,null,null,null,null,10,null,null,null,null,null,null,null,10,null,null,null,null,null,null,null,null,null,"CD Gasoline Consumption (gal/100mi) [0]",null,null,{"$f":"IFERROR(astm(0.55*AQ68+0.45*AR68,1),0)","v":0},null,null,null,"CD gasoline consumption rate (Rcda), adjusted (gal/100mi) [4]",{"$f":"IFERROR(astm(100*(SUMIF(AV59:AV93,\"<=\" & AQ82-1,AW59:AW93)+AQ81*SUMIF(AV59:AV93,\"=\" & AQ82-1,AW59:AW93))/AQ55,4),0)","v":0},{"$f":"IFERROR(astm(100*(SUMIF(BW59:BW93,\"<=\" & AR82-1,BX59:BX93)+AR81*SUMIF(BW59:BW93,\"=\" & AR82-1,BX59:BX93))/AR55,4),0)","v":0},null,null,null,10,"","","","",{"$f":"IFERROR(astm(  astm($W$94,3)*1000*(AZ68/AQ61),1),\"\")","v":""},"","","",{"$f":"IFERROR(astm(cityfuf(BB68),3)-astm(cityfuf(BB67),3),\"\")","v":""},"","","","","","",{"$f":"IFERROR(astm(mdiuf(BK68),3)-astm(mdiuf(BK67),3),\"\")","v":""},"","",{"$f":"IFERROR(astm(cityfufalt(BK68),3)-astm(cityfufalt(BK67),3),\"\")","v":""},"","","",{"$f":"IF(AZ68=\"\",1, MIN(IFERROR((AZ68/1000)/((AW68*$J$22)*$J$21/3600),1),IFERROR((SUMIFS(AZ59:AZ93,AV59:AV93,\"<=\"&$AV68,AV59:AV93,\">=\"&$AV68-1)/1000)/(  $J$22*SUMIFS(AW59:AW93,AV59:AV93,\"<=\"&$AV68,AV59:AV93,\">=\"&$AV68-1)*$J$21/3600),1),IFERROR((SUMIFS(AZ59:AZ93,AV59:AV93,\"<=\"&$AV68,AV59:AV93,\">=\"&$AV68-2)/1000)/(  $J$22*SUMIFS(AW59:AW93,AV59:AV93,\"<=\"&$AV68,AV59:AV93,\">=\"&$AV68-2)*$J$21/3600),1),IFERROR((SUMIFS(AZ59:AZ93,AV59:AV93,\"<=\"&$AV68,AV59:AV93,\">=\"&$AV68-3)/1000)/(  $J$22*SUMIFS(AW59:AW93,AV59:AV93,\"<=\"&$AV68,AV59:AV93,\">=\"&$AV68-3)*$J$21/3600),1)) )","v":1},"",{"$f":"IF(AZ68=\"\",1, MIN($AZ68/SUM($AZ59:$AZ68),SUMIFS(AZ59:AZ93,AV59:AV93,\">=\"&$AV68-1,AV59:AV93,\"<=\"&$AV68)/SUM($AZ59:$AZ68),SUMIFS(AZ59:AZ93,AV59:AV93,\">=\"&$AV68-2,AV59:AV93,\"<=\"&$AV68)/SUM($AZ59:$AZ68),SUMIFS(AZ59:AZ93,AV59:AV93,\">=\"&$AV68-3,AV59:AV93,\"<=\"&$AV68)/SUM($AZ59:$AZ68)) )","v":1},null,10,"","","","","","","","",{"$f":"IFERROR(astm(highwayfuf(CC68)-highwayfuf(CC67),3),\"\")","v":""},"","","","","","",{"$f":"IFERROR(astm(mdiuf(CL68)-mdiuf(CL67),3),\"\")","v":""},"","",{"$f":"IFERROR(astm(highwayfufalt(CL68)-highwayfufalt(CL67),3),\"\")","v":""},"","","",{"$f":"IF(CA68=\"\",1, MIN(IFERROR((CA68/1000)/((BX68*$J$22)*$J$21/3600),1),IFERROR((SUMIFS(CA59:CA93,BW59:BW93,\"<=\"&$BW68,BW59:BW93,\">=\"&$BW68-1)/1000)/(  $J$22*SUMIFS(BX59:BX93,BW59:BW93,\"<=\"&$BW68,BW59:BW93,\">=\"&$BW68-1)*$J$21/3600),1),IFERROR((SUMIFS(CA59:CA93,BW59:BW93,\"<=\"&$BW68,BW59:BW93,\">=\"&$BW68-2)/1000)/(  $J$22*SUMIFS(BX59:BX93,BW59:BW93,\"<=\"&$BW68,BW59:BW93,\">=\"&$BW68-2)*$J$21/3600),1),IFERROR((SUMIFS(CA59:CA93,BW59:BW93,\"<=\"&$BW68,BW59:BW93,\">=\"&$BW68-3)/1000)/(  $J$22*SUMIFS(BX59:BX93,BW59:BW93,\"<=\"&$BW68,BW59:BW93,\">=\"&$BW68-3)*$J$21/3600),1)) )","v":1},"",{"$f":"IF(CA68=\"\",1, MIN($CA68/SUM($CA59:$CA68),SUMIFS(CA59:CA93,BW59:BW93,\">=\"&$BW68-1,BW59:BW93,\"<=\"&$BW68)/SUM($CA59:$CA68),SUMIFS(CA59:CA93,BW59:BW93,\">=\"&$BW68-2,BW59:BW93,\"<=\"&$BW68)/SUM($CA59:$CA68),SUMIFS(CA59:CA93,BW59:BW93,\">=\"&$BW68-3,BW59:BW93,\"<=\"&$BW68)/SUM($CA59:$CA68)) )","v":1}]
[null,null,"*City CO2 Unrd Adj",null,null,{"$f":"astm(IF($N$7+$N$55+$N$103=0,   (N15+N63+N111)/ ((N15<>0)+(N63<>0)+(N111<>0)),    (IFERROR($N$7*N15,0)+IFERROR($N$55*N63,0)+IFERROR($N$103*N111,0)) /  ($N$7+$N$55+$N$103)   ),1)","v":293.10000000000002},null,null,null,null,null,null,null,null,null,null,11,null,null,null,null,null,null,null,11,null,null,null,null,null,null,null,null,null,"Charge-Sustaining",null,null,"Combined",null,null,"NEW","CD fuel economy (Rcda), unadjusted (MPGe) [4]",{"$f":"astm(IFERROR(AQ54/ ( SUMIF(AV59:AV93,\"<=\" & (AQ82-1),BH59:BH93) + AQ81*SUMIF(AV59:AV93,\"=\" & (AQ82-1),BH59:BH93) ),0),4)","v":0},{"$f":"astm(IFERROR(AR54/ ( SUMIF(BW59:BW93,\"<=\" & (AR82-1),CI59:CI93) + AR81*SUMIF(BW59:BW93,\"=\" & (AR82-1),CI59:CI93) ),0),4)","v":0},null,null,null,11,"","","","",{"$f":"IFERROR(astm(  astm($W$94,3)*1000*(AZ69/AQ61),1),\"\")","v":""},"","","",{"$f":"IFERROR(astm(cityfuf(BB69),3)-astm(cityfuf(BB68),3),\"\")","v":""},"","","","","","",{"$f":"IFERROR(astm(mdiuf(BK69),3)-astm(mdiuf(BK68),3),\"\")","v":""},"","",{"$f":"IFERROR(astm(cityfufalt(BK69),3)-astm(cityfufalt(BK68),3),\"\")","v":""},"","","",{"$f":"IF(AZ69=\"\",1, MIN(IFERROR((AZ69/1000)/((AW69*$J$22)*$J$21/3600),1),IFERROR((SUMIFS(AZ59:AZ93,AV59:AV93,\"<=\"&$AV69,AV59:AV93,\">=\"&$AV69-1)/1000)/(  $J$22*SUMIFS(AW59:AW93,AV59:AV93,\"<=\"&$AV69,AV59:AV93,\">=\"&$AV69-1)*$J$21/3600),1),IFERROR((SUMIFS(AZ59:AZ93,AV59:AV93,\"<=\"&$AV69,AV59:AV93,\">=\"&$AV69-2)/1000)/(  $J$22*SUMIFS(AW59:AW93,AV59:AV93,\"<=\"&$AV69,AV59:AV93,\">=\"&$AV69-2)*$J$21/3600),1),IFERROR((SUMIFS(AZ59:AZ93,AV59:AV93,\"<=\"&$AV69,AV59:AV93,\">=\"&$AV69-3)/1000)/(  $J$22*SUMIFS(AW59:AW93,AV59:AV93,\"<=\"&$AV69,AV59:AV93,\">=\"&$AV69-3)*$J$21/3600),1)) )","v":1},"",{"$f":"IF(AZ69=\"\",1, MIN($AZ69/SUM($AZ59:$AZ69),SUMIFS(AZ59:AZ93,AV59:AV93,\">=\"&$AV69-1,AV59:AV93,\"<=\"&$AV69)/SUM($AZ59:$AZ69),SUMIFS(AZ59:AZ93,AV59:AV93,\">=\"&$AV69-2,AV59:AV93,\"<=\"&$AV69)/SUM($AZ59:$AZ69),SUMIFS(AZ59:AZ93,AV59:AV93,\">=\"&$AV69-3,AV59:AV93,\"<=\"&$AV69)/SUM($AZ59:$AZ69)) )","v":1},null,11,"","","","","","","","",{"$f":"IFERROR(astm(highwayfuf(CC69)-highwayfuf(CC68),3),\"\")","v":""},"","","","","","",{"$f":"IFERROR(astm(mdiuf(CL69)-mdiuf(CL68),3),\"\")","v":""},"","",{"$f":"IFERROR(astm(highwayfufalt(CL69)-highwayfufalt(CL68),3),\"\")","v":""},"","","",{"$f":"IF(CA69=\"\",1, MIN(IFERROR((CA69/1000)/((BX69*$J$22)*$J$21/3600),1),IFERROR((SUMIFS(CA59:CA93,BW59:BW93,\"<=\"&$BW69,BW59:BW93,\">=\"&$BW69-1)/1000)/(  $J$22*SUMIFS(BX59:BX93,BW59:BW93,\"<=\"&$BW69,BW59:BW93,\">=\"&$BW69-1)*$J$21/3600),1),IFERROR((SUMIFS(CA59:CA93,BW59:BW93,\"<=\"&$BW69,BW59:BW93,\">=\"&$BW69-2)/1000)/(  $J$22*SUMIFS(BX59:BX93,BW59:BW93,\"<=\"&$BW69,BW59:BW93,\">=\"&$BW69-2)*$J$21/3600),1),IFERROR((SUMIFS(CA59:CA93,BW59:BW93,\"<=\"&$BW69,BW59:BW93,\">=\"&$BW69-3)/1000)/(  $J$22*SUMIFS(BX59:BX93,BW59:BW93,\"<=\"&$BW69,BW59:BW93,\">=\"&$BW69-3)*$J$21/3600),1)) )","v":1},"",{"$f":"IF(CA69=\"\",1, MIN($CA69/SUM($CA59:$CA69),SUMIFS(CA59:CA93,BW59:BW93,\">=\"&$BW69-1,BW59:BW93,\"<=\"&$BW69)/SUM($CA59:$CA69),SUMIFS(CA59:CA93,BW59:BW93,\">=\"&$BW69-2,BW59:BW93,\"<=\"&$BW69)/SUM($CA59:$CA69),SUMIFS(CA59:CA93,BW59:BW93,\">=\"&$BW69-3,BW59:BW93,\"<=\"&$BW69)/SUM($CA59:$CA69)) )","v":1}]
[null,null,"*Hwy CO2 Unrnd Adj",null,null,{"$f":"astm(IF($N$7+$N$55+$N$103=0,   (O15+O63+O111)/ ((O15<>0)+(O63<>0)+(O111<>0)),    (IFERROR($N$7*O15,0)+IFERROR($N$55*O63,0)+IFERROR($N$103*O111,0)) /  ($N$7+$N$55+$N$103)   ),1)","v":258.3},null,null,null,null,null,null,null,null,null,null,12,null,null,null,null,null,null,null,12,null,null,null,null,null,null,null,null,null,"CS Fuel Economy (MPG) [0]",{"$f":"IFERROR(astm(N60,4),0)","v":0},{"$f":"IFERROR(astm(O60,4),0)","v":0},{"$f":" IFERROR(astm(1/(0.55/AJ70+0.45/AK70),0),0)","v":0},null,null,"NEW","CD AC electricity consumption rate (Rcda), unadjusted  (kW-hr/100mi) [3]",{"$f":"astm(IFERROR((IFERROR( ( SUMIF(AV59:AV93,\"<=\" & (AQ82-1),BA59:BA93) + AQ81*SUMIF(AV59:AV93,\"=\" & (AQ82-1),BA59:BA93) ) / AQ54 *100 / 1000, 0)),0),3)","v":0},{"$f":"astm(IFERROR((IFERROR( ( SUMIF(BW59:BW93,\"<=\" & (AR82-1),CB59:CB93) + AR81*SUMIF(BW59:BW93,\"=\" & (AR82-1),CB59:CB93) ) / AR54 *100 / 1000, 0)),0),3)","v":0},null,null,null,12,"","","","",{"$f":"IFERROR(astm(  astm($W$94,3)*1000*(AZ70/AQ61),1),\"\")","v":""},"","","",{"$f":"IFERROR(astm(cityfuf(BB70),3)-astm(cityfuf(BB69),3),\"\")","v":""},"","","","","","",{"$f":"IFERROR(astm(mdiuf(BK70),3)-astm(mdiuf(BK69),3),\"\")","v":""},"","",{"$f":"IFERROR(astm(cityfufalt(BK70),3)-astm(cityfufalt(BK69),3),\"\")","v":""},"","","",{"$f":"IF(AZ70=\"\",1, MIN(IFERROR((AZ70/1000)/((AW70*$J$22)*$J$21/3600),1),IFERROR((SUMIFS(AZ59:AZ93,AV59:AV93,\"<=\"&$AV70,AV59:AV93,\">=\"&$AV70-1)/1000)/(  $J$22*SUMIFS(AW59:AW93,AV59:AV93,\"<=\"&$AV70,AV59:AV93,\">=\"&$AV70-1)*$J$21/3600),1),IFERROR((SUMIFS(AZ59:AZ93,AV59:AV93,\"<=\"&$AV70,AV59:AV93,\">=\"&$AV70-2)/1000)/(  $J$22*SUMIFS(AW59:AW93,AV59:AV93,\"<=\"&$AV70,AV59:AV93,\">=\"&$AV70-2)*$J$21/3600),1),IFERROR((SUMIFS(AZ59:AZ93,AV59:AV93,\"<=\"&$AV70,AV59:AV93,\">=\"&$AV70-3)/1000)/(  $J$22*SUMIFS(AW59:AW93,AV59:AV93,\"<=\"&$AV70,AV59:AV93,\">=\"&$AV70-3)*$J$21/3600),1)) )","v":1},"",{"$f":"IF(AZ70=\"\",1, MIN($AZ70/SUM($AZ59:$AZ70),SUMIFS(AZ59:AZ93,AV59:AV93,\">=\"&$AV70-1,AV59:AV93,\"<=\"&$AV70)/SUM($AZ59:$AZ70),SUMIFS(AZ59:AZ93,AV59:AV93,\">=\"&$AV70-2,AV59:AV93,\"<=\"&$AV70)/SUM($AZ59:$AZ70),SUMIFS(AZ59:AZ93,AV59:AV93,\">=\"&$AV70-3,AV59:AV93,\"<=\"&$AV70)/SUM($AZ59:$AZ70)) )","v":1},null,12,"","","","","","","","",{"$f":"IFERROR(astm(highwayfuf(CC70)-highwayfuf(CC69),3),\"\")","v":""},"","","","","","",{"$f":"IFERROR(astm(mdiuf(CL70)-mdiuf(CL69),3),\"\")","v":""},"","",{"$f":"IFERROR(astm(highwayfufalt(CL70)-highwayfufalt(CL69),3),\"\")","v":""},"","","",{"$f":"IF(CA70=\"\",1, MIN(IFERROR((CA70/1000)/((BX70*$J$22)*$J$21/3600),1),IFERROR((SUMIFS(CA59:CA93,BW59:BW93,\"<=\"&$BW70,BW59:BW93,\">=\"&$BW70-1)/1000)/(  $J$22*SUMIFS(BX59:BX93,BW59:BW93,\"<=\"&$BW70,BW59:BW93,\">=\"&$BW70-1)*$J$21/3600),1),IFERROR((SUMIFS(CA59:CA93,BW59:BW93,\"<=\"&$BW70,BW59:BW93,\">=\"&$BW70-2)/1000)/(  $J$22*SUMIFS(BX59:BX93,BW59:BW93,\"<=\"&$BW70,BW59:BW93,\">=\"&$BW70-2)*$J$21/3600),1),IFERROR((SUMIFS(CA59:CA93,BW59:BW93,\"<=\"&$BW70,BW59:BW93,\">=\"&$BW70-3)/1000)/(  $J$22*SUMIFS(BX59:BX93,BW59:BW93,\"<=\"&$BW70,BW59:BW93,\">=\"&$BW70-3)*$J$21/3600),1)) )","v":1},"",{"$f":"IF(CA70=\"\",1, MIN($CA70/SUM($CA59:$CA70),SUMIFS(CA59:CA93,BW59:BW93,\">=\"&$BW70-1,BW59:BW93,\"<=\"&$BW70)/SUM($CA59:$CA70),SUMIFS(CA59:CA93,BW59:BW93,\">=\"&$BW70-2,BW59:BW93,\"<=\"&$BW70)/SUM($CA59:$CA70),SUMIFS(CA59:CA93,BW59:BW93,\">=\"&$BW70-3,BW59:BW93,\"<=\"&$BW70)/SUM($CA59:$CA70)) )","v":1}]
[null,null,"*Comb CO2 Unrnd Adj",null,null,{"$f":"astm(0.55*(IF($N$7+$N$55+$N$103=0,   (N15+N63+N111)/ ((N15<>0)+(N63<>0)+(N111<>0)),    (IFERROR($N$7*N15,0)+IFERROR($N$55*N63,0)+IFERROR($N$103*N111,0)) /  ($N$7+$N$55+$N$103)   ))+0.45*(IF($N$7+$N$55+$N$103=0,   (O15+O63+O111)/ ((O15<>0)+(O63<>0)+(O111<>0)),    (IFERROR($N$7*O15,0)+IFERROR($N$55*O63,0)+IFERROR($N$103*O111,0)) /  ($N$7+$N$55+$N$103)   )),1)","v":277.39999999999998},null,null,null,null,null,null,null,null,null,null,13,null,null,null,null,null,null,null,13,null,null,null,null,null,null,null,null,null,"CS Fuel Consumption (gal/100mi) [1]",{"$f":"IFERROR(astm(100/AJ70,1),0)","v":0},{"$f":"IFERROR(astm(100/AK70,1),0)","v":0},{"$f":"IFERROR(astm(100/AL70,1),0)","v":0},null,null,null,"GHG EMISSIONS VALUES","CITY","HIGHWAY",null,null,null,13,"","","","",{"$f":"IFERROR(astm(  astm($W$94,3)*1000*(AZ71/AQ61),1),\"\")","v":""},"","","",{"$f":"IFERROR(astm(cityfuf(BB71),3)-astm(cityfuf(BB70),3),\"\")","v":""},"","","","","","",{"$f":"IFERROR(astm(mdiuf(BK71),3)-astm(mdiuf(BK70),3),\"\")","v":""},"","",{"$f":"IFERROR(astm(cityfufalt(BK71),3)-astm(cityfufalt(BK70),3),\"\")","v":""},"","","",{"$f":"IF(AZ71=\"\",1, MIN(IFERROR((AZ71/1000)/((AW71*$J$22)*$J$21/3600),1),IFERROR((SUMIFS(AZ59:AZ93,AV59:AV93,\"<=\"&$AV71,AV59:AV93,\">=\"&$AV71-1)/1000)/(  $J$22*SUMIFS(AW59:AW93,AV59:AV93,\"<=\"&$AV71,AV59:AV93,\">=\"&$AV71-1)*$J$21/3600),1),IFERROR((SUMIFS(AZ59:AZ93,AV59:AV93,\"<=\"&$AV71,AV59:AV93,\">=\"&$AV71-2)/1000)/(  $J$22*SUMIFS(AW59:AW93,AV59:AV93,\"<=\"&$AV71,AV59:AV93,\">=\"&$AV71-2)*$J$21/3600),1),IFERROR((SUMIFS(AZ59:AZ93,AV59:AV93,\"<=\"&$AV71,AV59:AV93,\">=\"&$AV71-3)/1000)/(  $J$22*SUMIFS(AW59:AW93,AV59:AV93,\"<=\"&$AV71,AV59:AV93,\">=\"&$AV71-3)*$J$21/3600),1)) )","v":1},"",{"$f":"IF(AZ71=\"\",1, MIN($AZ71/SUM($AZ59:$AZ71),SUMIFS(AZ59:AZ93,AV59:AV93,\">=\"&$AV71-1,AV59:AV93,\"<=\"&$AV71)/SUM($AZ59:$AZ71),SUMIFS(AZ59:AZ93,AV59:AV93,\">=\"&$AV71-2,AV59:AV93,\"<=\"&$AV71)/SUM($AZ59:$AZ71),SUMIFS(AZ59:AZ93,AV59:AV93,\">=\"&$AV71-3,AV59:AV93,\"<=\"&$AV71)/SUM($AZ59:$AZ71)) )","v":1},null,13,"","","","","","","","",{"$f":"IFERROR(astm(highwayfuf(CC71)-highwayfuf(CC70),3),\"\")","v":""},"","","","","","",{"$f":"IFERROR(astm(mdiuf(CL71)-mdiuf(CL70),3),\"\")","v":""},"","",{"$f":"IFERROR(astm(highwayfufalt(CL71)-highwayfufalt(CL70),3),\"\")","v":""},"","","",{"$f":"IF(CA71=\"\",1, MIN(IFERROR((CA71/1000)/((BX71*$J$22)*$J$21/3600),1),IFERROR((SUMIFS(CA59:CA93,BW59:BW93,\"<=\"&$BW71,BW59:BW93,\">=\"&$BW71-1)/1000)/(  $J$22*SUMIFS(BX59:BX93,BW59:BW93,\"<=\"&$BW71,BW59:BW93,\">=\"&$BW71-1)*$J$21/3600),1),IFERROR((SUMIFS(CA59:CA93,BW59:BW93,\"<=\"&$BW71,BW59:BW93,\">=\"&$BW71-2)/1000)/(  $J$22*SUMIFS(BX59:BX93,BW59:BW93,\"<=\"&$BW71,BW59:BW93,\">=\"&$BW71-2)*$J$21/3600),1),IFERROR((SUMIFS(CA59:CA93,BW59:BW93,\"<=\"&$BW71,BW59:BW93,\">=\"&$BW71-3)/1000)/(  $J$22*SUMIFS(BX59:BX93,BW59:BW93,\"<=\"&$BW71,BW59:BW93,\">=\"&$BW71-3)*$J$21/3600),1)) )","v":1},"",{"$f":"IF(CA71=\"\",1, MIN($CA71/SUM($CA59:$CA71),SUMIFS(CA59:CA93,BW59:BW93,\">=\"&$BW71-1,BW59:BW93,\"<=\"&$BW71)/SUM($CA59:$CA71),SUMIFS(CA59:CA93,BW59:BW93,\">=\"&$BW71-2,BW59:BW93,\"<=\"&$BW71)/SUM($CA59:$CA71),SUMIFS(CA59:CA93,BW59:BW93,\">=\"&$BW71-3,BW59:BW93,\"<=\"&$BW71)/SUM($CA59:$CA71)) )","v":1}]
[null,null,"Charge-sustaining Driving Range (Adjusted)",null,null,null,null,null,null,null,null,null,null,null,null,null,14,null,null,null,null,null,null,null,14,null,null,null,null,null,null,null,null,null,"Composite CD/CS",null,null,"Combined",null,null,null,"CD CO2 emissions rate (Rcda), unadjusted (g/mi) [1]",{"$f":"IFERROR(astm((SUMIF(AV59:AV93,\"<=\" & AQ82-1,AX59:AX93)+AQ81*SUMIF(AV59:AV93,\"=\" & AQ82-1,AX59:AX93))/AQ54,1),0)","v":0},{"$f":"IFERROR(astm((SUMIF(BW59:BW93,\"<=\" & AR82-1,BY59:BY93)+AR81*SUMIF(BW59:BW93,\"=\" & AR82-1,BY59:BY93))/AR54,1),0)","v":0},null,null,null,14,"","","","",{"$f":"IFERROR(astm(  astm($W$94,3)*1000*(AZ72/AQ61),1),\"\")","v":""},"","","",{"$f":"IFERROR(astm(cityfuf(BB72),3)-astm(cityfuf(BB71),3),\"\")","v":""},"","","","","","",{"$f":"IFERROR(astm(mdiuf(BK72),3)-astm(mdiuf(BK71),3),\"\")","v":""},"","",{"$f":"IFERROR(astm(cityfufalt(BK72),3)-astm(cityfufalt(BK71),3),\"\")","v":""},"","","",{"$f":"IF(AZ72=\"\",1, MIN(IFERROR((AZ72/1000)/((AW72*$J$22)*$J$21/3600),1),IFERROR((SUMIFS(AZ59:AZ93,AV59:AV93,\"<=\"&$AV72,AV59:AV93,\">=\"&$AV72-1)/1000)/(  $J$22*SUMIFS(AW59:AW93,AV59:AV93,\"<=\"&$AV72,AV59:AV93,\">=\"&$AV72-1)*$J$21/3600),1),IFERROR((SUMIFS(AZ59:AZ93,AV59:AV93,\"<=\"&$AV72,AV59:AV93,\">=\"&$AV72-2)/1000)/(  $J$22*SUMIFS(AW59:AW93,AV59:AV93,\"<=\"&$AV72,AV59:AV93,\">=\"&$AV72-2)*$J$21/3600),1),IFERROR((SUMIFS(AZ59:AZ93,AV59:AV93,\"<=\"&$AV72,AV59:AV93,\">=\"&$AV72-3)/1000)/(  $J$22*SUMIFS(AW59:AW93,AV59:AV93,\"<=\"&$AV72,AV59:AV93,\">=\"&$AV72-3)*$J$21/3600),1)) )","v":1},"",{"$f":"IF(AZ72=\"\",1, MIN($AZ72/SUM($AZ59:$AZ72),SUMIFS(AZ59:AZ93,AV59:AV93,\">=\"&$AV72-1,AV59:AV93,\"<=\"&$AV72)/SUM($AZ59:$AZ72),SUMIFS(AZ59:AZ93,AV59:AV93,\">=\"&$AV72-2,AV59:AV93,\"<=\"&$AV72)/SUM($AZ59:$AZ72),SUMIFS(AZ59:AZ93,AV59:AV93,\">=\"&$AV72-3,AV59:AV93,\"<=\"&$AV72)/SUM($AZ59:$AZ72)) )","v":1},null,14,"","","","","","","","",{"$f":"IFERROR(astm(highwayfuf(CC72)-highwayfuf(CC71),3),\"\")","v":""},"","","","","","",{"$f":"IFERROR(astm(mdiuf(CL72)-mdiuf(CL71),3),\"\")","v":""},"","",{"$f":"IFERROR(astm(highwayfufalt(CL72)-highwayfufalt(CL71),3),\"\")","v":""},"","","",{"$f":"IF(CA72=\"\",1, MIN(IFERROR((CA72/1000)/((BX72*$J$22)*$J$21/3600),1),IFERROR((SUMIFS(CA59:CA93,BW59:BW93,\"<=\"&$BW72,BW59:BW93,\">=\"&$BW72-1)/1000)/(  $J$22*SUMIFS(BX59:BX93,BW59:BW93,\"<=\"&$BW72,BW59:BW93,\">=\"&$BW72-1)*$J$21/3600),1),IFERROR((SUMIFS(CA59:CA93,BW59:BW93,\"<=\"&$BW72,BW59:BW93,\">=\"&$BW72-2)/1000)/(  $J$22*SUMIFS(BX59:BX93,BW59:BW93,\"<=\"&$BW72,BW59:BW93,\">=\"&$BW72-2)*$J$21/3600),1),IFERROR((SUMIFS(CA59:CA93,BW59:BW93,\"<=\"&$BW72,BW59:BW93,\">=\"&$BW72-3)/1000)/(  $J$22*SUMIFS(BX59:BX93,BW59:BW93,\"<=\"&$BW72,BW59:BW93,\">=\"&$BW72-3)*$J$21/3600),1)) )","v":1},"",{"$f":"IF(CA72=\"\",1, MIN($CA72/SUM($CA59:$CA72),SUMIFS(CA59:CA93,BW59:BW93,\">=\"&$BW72-1,BW59:BW93,\"<=\"&$BW72)/SUM($CA59:$CA72),SUMIFS(CA59:CA93,BW59:BW93,\">=\"&$BW72-2,BW59:BW93,\"<=\"&$BW72)/SUM($CA59:$CA72),SUMIFS(CA59:CA93,BW59:BW93,\">=\"&$BW72-3,BW59:BW93,\"<=\"&$BW72)/SUM($CA59:$CA72)) )","v":1}]
[null,null,"*Range1 - Model Type Driving Range - Conventional Fuel - City",null,null,{"$f":"astm(IF($N$7+$N$55+$N$103=0,SUM(IFERROR(AQ38,0),IFERROR(AQ86,0),IFERROR(AQ134,0)) / ((AQ38<>0)+(AQ86<>0)+(AQ134<>0)),($N$7*AQ38+$N$55*AQ86+$N$103*AQ134)/($N$7+$N$55+$N$103)),0)","v":325},null,null,null,null,null,null,null,null,null,null,15,null,null,null,null,null,null,null,15,null,null,null,null,null,null,null,null,null,"Annual Fuel Cost ($/year) [0]",null,null,{"$f":"astm(    IFERROR(15000*astm(0.55*AQ94+0.45*AR94,3),0)/50,0) * 50","v":0},null,null,"NEW","CD CO2 emissions rate (Rcda), adjusted (g/mi) [1]",{"$f":"IFERROR(astm( IFERROR((SUMIF(AV59:AV93,\"<=\" & AQ82-1,AX59:AX93)+AQ81*SUMIF(AV59:AV93,\"=\" & AQ82-1,AX59:AX93))/AQ55,#VALUE!), 1),0)","v":0},{"$f":"IFERROR(astm( IFERROR((SUMIF(BW59:BW93,\"<=\" & AR82-1,BY59:BY93)+AR81*SUMIF(BW59:BW93,\"=\" & AR82-1,BY59:BY93))/AR55,#VALUE!), 1),0)","v":0},null,null,null,15,"","","","",{"$f":"IFERROR(astm(  astm($W$94,3)*1000*(AZ73/AQ61),1),\"\")","v":""},"","","",{"$f":"IFERROR(astm(cityfuf(BB73),3)-astm(cityfuf(BB72),3),\"\")","v":""},"","","","","","",{"$f":"IFERROR(astm(mdiuf(BK73),3)-astm(mdiuf(BK72),3),\"\")","v":""},"","",{"$f":"IFERROR(astm(cityfufalt(BK73),3)-astm(cityfufalt(BK72),3),\"\")","v":""},"","","",{"$f":"IF(AZ73=\"\",1, MIN(IFERROR((AZ73/1000)/((AW73*$J$22)*$J$21/3600),1),IFERROR((SUMIFS(AZ59:AZ93,AV59:AV93,\"<=\"&$AV73,AV59:AV93,\">=\"&$AV73-1)/1000)/(  $J$22*SUMIFS(AW59:AW93,AV59:AV93,\"<=\"&$AV73,AV59:AV93,\">=\"&$AV73-1)*$J$21/3600),1),IFERROR((SUMIFS(AZ59:AZ93,AV59:AV93,\"<=\"&$AV73,AV59:AV93,\">=\"&$AV73-2)/1000)/(  $J$22*SUMIFS(AW59:AW93,AV59:AV93,\"<=\"&$AV73,AV59:AV93,\">=\"&$AV73-2)*$J$21/3600),1),IFERROR((SUMIFS(AZ59:AZ93,AV59:AV93,\"<=\"&$AV73,AV59:AV93,\">=\"&$AV73-3)/1000)/(  $J$22*SUMIFS(AW59:AW93,AV59:AV93,\"<=\"&$AV73,AV59:AV93,\">=\"&$AV73-3)*$J$21/3600),1)) )","v":1},"",{"$f":"IF(AZ73=\"\",1, MIN($AZ73/SUM($AZ59:$AZ73),SUMIFS(AZ59:AZ93,AV59:AV93,\">=\"&$AV73-1,AV59:AV93,\"<=\"&$AV73)/SUM($AZ59:$AZ73),SUMIFS(AZ59:AZ93,AV59:AV93,\">=\"&$AV73-2,AV59:AV93,\"<=\"&$AV73)/SUM($AZ59:$AZ73),SUMIFS(AZ59:AZ93,AV59:AV93,\">=\"&$AV73-3,AV59:AV93,\"<=\"&$AV73)/SUM($AZ59:$AZ73)) )","v":1},null,15,"","","","","","","","",{"$f":"IFERROR(astm(highwayfuf(CC73)-highwayfuf(CC72),3),\"\")","v":""},"","","","","","",{"$f":"IFERROR(astm(mdiuf(CL73)-mdiuf(CL72),3),\"\")","v":""},"","",{"$f":"IFERROR(astm(highwayfufalt(CL73)-highwayfufalt(CL72),3),\"\")","v":""},"","","",{"$f":"IF(CA73=\"\",1, MIN(IFERROR((CA73/1000)/((BX73*$J$22)*$J$21/3600),1),IFERROR((SUMIFS(CA59:CA93,BW59:BW93,\"<=\"&$BW73,BW59:BW93,\">=\"&$BW73-1)/1000)/(  $J$22*SUMIFS(BX59:BX93,BW59:BW93,\"<=\"&$BW73,BW59:BW93,\">=\"&$BW73-1)*$J$21/3600),1),IFERROR((SUMIFS(CA59:CA93,BW59:BW93,\"<=\"&$BW73,BW59:BW93,\">=\"&$BW73-2)/1000)/(  $J$22*SUMIFS(BX59:BX93,BW59:BW93,\"<=\"&$BW73,BW59:BW93,\">=\"&$BW73-2)*$J$21/3600),1),IFERROR((SUMIFS(CA59:CA93,BW59:BW93,\"<=\"&$BW73,BW59:BW93,\">=\"&$BW73-3)/1000)/(  $J$22*SUMIFS(BX59:BX93,BW59:BW93,\"<=\"&$BW73,BW59:BW93,\">=\"&$BW73-3)*$J$21/3600),1)) )","v":1},"",{"$f":"IF(CA73=\"\",1, MIN($CA73/SUM($CA59:$CA73),SUMIFS(CA59:CA93,BW59:BW93,\">=\"&$BW73-1,BW59:BW93,\"<=\"&$BW73)/SUM($CA59:$CA73),SUMIFS(CA59:CA93,BW59:BW93,\">=\"&$BW73-2,BW59:BW93,\"<=\"&$BW73)/SUM($CA59:$CA73),SUMIFS(CA59:CA93,BW59:BW93,\">=\"&$BW73-3,BW59:BW93,\"<=\"&$BW73)/SUM($CA59:$CA73)) )","v":1}]
[null,null,"*Range1 - Model Type Driving Range - Conventional Fuel - Hwy",null,null,{"$f":"astm(IF($N$7+$N$55+$N$103=0,SUM(IFERROR(AR38,0),IFERROR(AR86,0),IFERROR(AR134,0)) / ((AR38<>0)+(AR86<>0)+(AR134<>0)),($N$7*AR38+$N$55*AR86+$N$103*AR134)/($N$7+$N$55+$N$103)),0)","v":368},null,null,null,null,null,null,null,null,null,null,16,null,null,null,null,null,null,null,16,null,null,null,null,null,null,null,null,null,"5-Year Fuel Savings Value ($/5 years) [0]",null,null,{"$f":"$F$38-5*AL73","v":7500},null,null,"NEW","CD utilitized CO2 (MDIUF, Rcdc), adjusted (g/mi) [1]",{"$f":"astm(SUMIF(AV59:AV93,\"<=\" & (AQ82),BM59:BM93),1)","v":0},{"$f":"astm(SUMIF(BW59:BW93,\"<=\" & (AR82),CN59:CN93),1)","v":0},null,null,null,16,"","","","",{"$f":"IFERROR(astm(  astm($W$94,3)*1000*(AZ74/AQ61),1),\"\")","v":""},"","","",{"$f":"IFERROR(astm(cityfuf(BB74),3)-astm(cityfuf(BB73),3),\"\")","v":""},"","","","","","",{"$f":"IFERROR(astm(mdiuf(BK74),3)-astm(mdiuf(BK73),3),\"\")","v":""},"","",{"$f":"IFERROR(astm(cityfufalt(BK74),3)-astm(cityfufalt(BK73),3),\"\")","v":""},"","","",{"$f":"IF(AZ74=\"\",1, MIN(IFERROR((AZ74/1000)/((AW74*$J$22)*$J$21/3600),1),IFERROR((SUMIFS(AZ59:AZ93,AV59:AV93,\"<=\"&$AV74,AV59:AV93,\">=\"&$AV74-1)/1000)/(  $J$22*SUMIFS(AW59:AW93,AV59:AV93,\"<=\"&$AV74,AV59:AV93,\">=\"&$AV74-1)*$J$21/3600),1),IFERROR((SUMIFS(AZ59:AZ93,AV59:AV93,\"<=\"&$AV74,AV59:AV93,\">=\"&$AV74-2)/1000)/(  $J$22*SUMIFS(AW59:AW93,AV59:AV93,\"<=\"&$AV74,AV59:AV93,\">=\"&$AV74-2)*$J$21/3600),1),IFERROR((SUMIFS(AZ59:AZ93,AV59:AV93,\"<=\"&$AV74,AV59:AV93,\">=\"&$AV74-3)/1000)/(  $J$22*SUMIFS(AW59:AW93,AV59:AV93,\"<=\"&$AV74,AV59:AV93,\">=\"&$AV74-3)*$J$21/3600),1)) )","v":1},"",{"$f":"IF(AZ74=\"\",1, MIN($AZ74/SUM($AZ59:$AZ74),SUMIFS(AZ59:AZ93,AV59:AV93,\">=\"&$AV74-1,AV59:AV93,\"<=\"&$AV74)/SUM($AZ59:$AZ74),SUMIFS(AZ59:AZ93,AV59:AV93,\">=\"&$AV74-2,AV59:AV93,\"<=\"&$AV74)/SUM($AZ59:$AZ74),SUMIFS(AZ59:AZ93,AV59:AV93,\">=\"&$AV74-3,AV59:AV93,\"<=\"&$AV74)/SUM($AZ59:$AZ74)) )","v":1},null,16,"","","","","","","","",{"$f":"IFERROR(astm(highwayfuf(CC74)-highwayfuf(CC73),3),\"\")","v":""},"","","","","","",{"$f":"IFERROR(astm(mdiuf(CL74)-mdiuf(CL73),3),\"\")","v":""},"","",{"$f":"IFERROR(astm(highwayfufalt(CL74)-highwayfufalt(CL73),3),\"\")","v":""},"","","",{"$f":"IF(CA74=\"\",1, MIN(IFERROR((CA74/1000)/((BX74*$J$22)*$J$21/3600),1),IFERROR((SUMIFS(CA59:CA93,BW59:BW93,\"<=\"&$BW74,BW59:BW93,\">=\"&$BW74-1)/1000)/(  $J$22*SUMIFS(BX59:BX93,BW59:BW93,\"<=\"&$BW74,BW59:BW93,\">=\"&$BW74-1)*$J$21/3600),1),IFERROR((SUMIFS(CA59:CA93,BW59:BW93,\"<=\"&$BW74,BW59:BW93,\">=\"&$BW74-2)/1000)/(  $J$22*SUMIFS(BX59:BX93,BW59:BW93,\"<=\"&$BW74,BW59:BW93,\">=\"&$BW74-2)*$J$21/3600),1),IFERROR((SUMIFS(CA59:CA93,BW59:BW93,\"<=\"&$BW74,BW59:BW93,\">=\"&$BW74-3)/1000)/(  $J$22*SUMIFS(BX59:BX93,BW59:BW93,\"<=\"&$BW74,BW59:BW93,\">=\"&$BW74-3)*$J$21/3600),1)) )","v":1},"",{"$f":"IF(CA74=\"\",1, MIN($CA74/SUM($CA59:$CA74),SUMIFS(CA59:CA93,BW59:BW93,\">=\"&$BW74-1,BW59:BW93,\"<=\"&$BW74)/SUM($CA59:$CA74),SUMIFS(CA59:CA93,BW59:BW93,\">=\"&$BW74-2,BW59:BW93,\"<=\"&$BW74)/SUM($CA59:$CA74),SUMIFS(CA59:CA93,BW59:BW93,\">=\"&$BW74-3,BW59:BW93,\"<=\"&$BW74)/SUM($CA59:$CA74)) )","v":1}]
[null,null,"Range1 - Model Type Driving Range - Conventional Fuel - Comb",null,null,{"$f":"astm(IF($N$7+$N$55+$N$103=0,SUM(IFERROR(astm(0.55*AQ38+0.45*AR38,3),0),IFERROR(astm(0.55*AQ86+0.45*AR86,3),0),IFERROR(astm(0.55*AQ134+0.45*AR134,3),0)) / ((astm(0.55*AQ38+0.45*AR38,3)<>0)+(astm(0.55*AQ86+0.45*AR86,3)<>0)+(astm(0.55*AQ134+0.45*AR134,3)<>0)),($N$7*astm(0.55*AQ38+0.45*AR38,3)+$N$55*astm(0.55*AQ86+0.45*AR86,3)+$N$103*astm(0.55*AQ134+0.45*AR134,3))/($N$7+$N$55+$N$103)),0)","v":344},null,null,null,null,null,null,null,null,null,null,17,null,null,null,null,null,null,null,17,null,null,null,null,null,null,null,null,null,"Composite CO2 (g/mi) [0]",null,null,{"$f":"astm(0.55*AQ96+0.45*AR96,0)","v":0},null,null,null,"CD utilitized CREE (55/45 FUF, Rcdc), unadjusted (g/mi) [1]",{"$f":"astm(SUMIF(AV59:AV93,\"<=\" & AQ82,BF59:BF93),1)","v":0},{"$f":"astm(SUMIF(BW59:BW93,\"<=\" & AR82,CG59:CG93),1)","v":0},null,null,null,17,"","","","",{"$f":"IFERROR(astm(  astm($W$94,3)*1000*(AZ75/AQ61),1),\"\")","v":""},"","","",{"$f":"IFERROR(astm(cityfuf(BB75),3)-astm(cityfuf(BB74),3),\"\")","v":""},"","","","","","",{"$f":"IFERROR(astm(mdiuf(BK75),3)-astm(mdiuf(BK74),3),\"\")","v":""},"","",{"$f":"IFERROR(astm(cityfufalt(BK75),3)-astm(cityfufalt(BK74),3),\"\")","v":""},"","","",{"$f":"IF(AZ75=\"\",1, MIN(IFERROR((AZ75/1000)/((AW75*$J$22)*$J$21/3600),1),IFERROR((SUMIFS(AZ59:AZ93,AV59:AV93,\"<=\"&$AV75,AV59:AV93,\">=\"&$AV75-1)/1000)/(  $J$22*SUMIFS(AW59:AW93,AV59:AV93,\"<=\"&$AV75,AV59:AV93,\">=\"&$AV75-1)*$J$21/3600),1),IFERROR((SUMIFS(AZ59:AZ93,AV59:AV93,\"<=\"&$AV75,AV59:AV93,\">=\"&$AV75-2)/1000)/(  $J$22*SUMIFS(AW59:AW93,AV59:AV93,\"<=\"&$AV75,AV59:AV93,\">=\"&$AV75-2)*$J$21/3600),1),IFERROR((SUMIFS(AZ59:AZ93,AV59:AV93,\"<=\"&$AV75,AV59:AV93,\">=\"&$AV75-3)/1000)/(  $J$22*SUMIFS(AW59:AW93,AV59:AV93,\"<=\"&$AV75,AV59:AV93,\">=\"&$AV75-3)*$J$21/3600),1)) )","v":1},"",{"$f":"IF(AZ75=\"\",1, MIN($AZ75/SUM($AZ59:$AZ75),SUMIFS(AZ59:AZ93,AV59:AV93,\">=\"&$AV75-1,AV59:AV93,\"<=\"&$AV75)/SUM($AZ59:$AZ75),SUMIFS(AZ59:AZ93,AV59:AV93,\">=\"&$AV75-2,AV59:AV93,\"<=\"&$AV75)/SUM($AZ59:$AZ75),SUMIFS(AZ59:AZ93,AV59:AV93,\">=\"&$AV75-3,AV59:AV93,\"<=\"&$AV75)/SUM($AZ59:$AZ75)) )","v":1},null,17,"","","","","","","","",{"$f":"IFERROR(astm(highwayfuf(CC75)-highwayfuf(CC74),3),\"\")","v":""},"","","","","","",{"$f":"IFERROR(astm(mdiuf(CL75)-mdiuf(CL74),3),\"\")","v":""},"","",{"$f":"IFERROR(astm(highwayfufalt(CL75)-highwayfufalt(CL74),3),\"\")","v":""},"","","",{"$f":"IF(CA75=\"\",1, MIN(IFERROR((CA75/1000)/((BX75*$J$22)*$J$21/3600),1),IFERROR((SUMIFS(CA59:CA93,BW59:BW93,\"<=\"&$BW75,BW59:BW93,\">=\"&$BW75-1)/1000)/(  $J$22*SUMIFS(BX59:BX93,BW59:BW93,\"<=\"&$BW75,BW59:BW93,\">=\"&$BW75-1)*$J$21/3600),1),IFERROR((SUMIFS(CA59:CA93,BW59:BW93,\"<=\"&$BW75,BW59:BW93,\">=\"&$BW75-2)/1000)/(  $J$22*SUMIFS(BX59:BX93,BW59:BW93,\"<=\"&$BW75,BW59:BW93,\">=\"&$BW75-2)*$J$21/3600),1),IFERROR((SUMIFS(CA59:CA93,BW59:BW93,\"<=\"&$BW75,BW59:BW93,\">=\"&$BW75-3)/1000)/(  $J$22*SUMIFS(BX59:BX93,BW59:BW93,\"<=\"&$BW75,BW59:BW93,\">=\"&$BW75-3)*$J$21/3600),1)) )","v":1},"",{"$f":"IF(CA75=\"\",1, MIN($CA75/SUM($CA59:$CA75),SUMIFS(CA59:CA93,BW59:BW93,\">=\"&$BW75-1,BW59:BW93,\"<=\"&$BW75)/SUM($CA59:$CA75),SUMIFS(CA59:CA93,BW59:BW93,\">=\"&$BW75-2,BW59:BW93,\"<=\"&$BW75)/SUM($CA59:$CA75),SUMIFS(CA59:CA93,BW59:BW93,\">=\"&$BW75-3,BW59:BW93,\"<=\"&$BW75)/SUM($CA59:$CA75)) )","v":1}]
[null,null,"Charge-depleting Efficiency",null,"kW-hr/100mi","MPGe",null,null,null,null,null,null,null,null,null,null,18,null,null,null,null,null,null,null,18,null,null,null,null,null,null,null,null,null,"Composite Fuel Economy (MPG) [0]",null,null,{"$f":"IFERROR(astm(1/(0.55/AQ97+0.45/AR97),0),0)","v":0},null,null,"NEW","CD utilitized CREE (43/57 FUF, Rcdc), adjusted (g/mi) [1]",{"$f":"astm(SUMIF(AV59:AV93,\"<=\" & (AQ82),BQ59:BQ93),1)","v":0},{"$f":"astm(SUMIF(BW59:BW93,\"<=\" & (AR82),CR59:CR93),1)","v":0},null,null,null,18,"","","","",{"$f":"IFERROR(astm(  astm($W$94,3)*1000*(AZ76/AQ61),1),\"\")","v":""},"","","",{"$f":"IFERROR(astm(cityfuf(BB76),3)-astm(cityfuf(BB75),3),\"\")","v":""},"","","","","","",{"$f":"IFERROR(astm(mdiuf(BK76),3)-astm(mdiuf(BK75),3),\"\")","v":""},"","",{"$f":"IFERROR(astm(cityfufalt(BK76),3)-astm(cityfufalt(BK75),3),\"\")","v":""},"","","",{"$f":"IF(AZ76=\"\",1, MIN(IFERROR((AZ76/1000)/((AW76*$J$22)*$J$21/3600),1),IFERROR((SUMIFS(AZ59:AZ93,AV59:AV93,\"<=\"&$AV76,AV59:AV93,\">=\"&$AV76-1)/1000)/(  $J$22*SUMIFS(AW59:AW93,AV59:AV93,\"<=\"&$AV76,AV59:AV93,\">=\"&$AV76-1)*$J$21/3600),1),IFERROR((SUMIFS(AZ59:AZ93,AV59:AV93,\"<=\"&$AV76,AV59:AV93,\">=\"&$AV76-2)/1000)/(  $J$22*SUMIFS(AW59:AW93,AV59:AV93,\"<=\"&$AV76,AV59:AV93,\">=\"&$AV76-2)*$J$21/3600),1),IFERROR((SUMIFS(AZ59:AZ93,AV59:AV93,\"<=\"&$AV76,AV59:AV93,\">=\"&$AV76-3)/1000)/(  $J$22*SUMIFS(AW59:AW93,AV59:AV93,\"<=\"&$AV76,AV59:AV93,\">=\"&$AV76-3)*$J$21/3600),1)) )","v":1},"",{"$f":"IF(AZ76=\"\",1, MIN($AZ76/SUM($AZ59:$AZ76),SUMIFS(AZ59:AZ93,AV59:AV93,\">=\"&$AV76-1,AV59:AV93,\"<=\"&$AV76)/SUM($AZ59:$AZ76),SUMIFS(AZ59:AZ93,AV59:AV93,\">=\"&$AV76-2,AV59:AV93,\"<=\"&$AV76)/SUM($AZ59:$AZ76),SUMIFS(AZ59:AZ93,AV59:AV93,\">=\"&$AV76-3,AV59:AV93,\"<=\"&$AV76)/SUM($AZ59:$AZ76)) )","v":1},null,18,"","","","","","","","",{"$f":"IFERROR(astm(highwayfuf(CC76)-highwayfuf(CC75),3),\"\")","v":""},"","","","","","",{"$f":"IFERROR(astm(mdiuf(CL76)-mdiuf(CL75),3),\"\")","v":""},"","",{"$f":"IFERROR(astm(highwayfufalt(CL76)-highwayfufalt(CL75),3),\"\")","v":""},"","","",{"$f":"IF(CA76=\"\",1, MIN(IFERROR((CA76/1000)/((BX76*$J$22)*$J$21/3600),1),IFERROR((SUMIFS(CA59:CA93,BW59:BW93,\"<=\"&$BW76,BW59:BW93,\">=\"&$BW76-1)/1000)/(  $J$22*SUMIFS(BX59:BX93,BW59:BW93,\"<=\"&$BW76,BW59:BW93,\">=\"&$BW76-1)*$J$21/3600),1),IFERROR((SUMIFS(CA59:CA93,BW59:BW93,\"<=\"&$BW76,BW59:BW93,\">=\"&$BW76-2)/1000)/(  $J$22*SUMIFS(BX59:BX93,BW59:BW93,\"<=\"&$BW76,BW59:BW93,\">=\"&$BW76-2)*$J$21/3600),1),IFERROR((SUMIFS(CA59:CA93,BW59:BW93,\"<=\"&$BW76,BW59:BW93,\">=\"&$BW76-3)/1000)/(  $J$22*SUMIFS(BX59:BX93,BW59:BW93,\"<=\"&$BW76,BW59:BW93,\">=\"&$BW76-3)*$J$21/3600),1)) )","v":1},"",{"$f":"IF(CA76=\"\",1, MIN($CA76/SUM($CA59:$CA76),SUMIFS(CA59:CA93,BW59:BW93,\">=\"&$BW76-1,BW59:BW93,\"<=\"&$BW76)/SUM($CA59:$CA76),SUMIFS(CA59:CA93,BW59:BW93,\">=\"&$BW76-2,BW59:BW93,\"<=\"&$BW76)/SUM($CA59:$CA76),SUMIFS(CA59:CA93,BW59:BW93,\">=\"&$BW76-3,BW59:BW93,\"<=\"&$BW76)/SUM($CA59:$CA76)) )","v":1}]
[null,null,"City2 FE (Guide) - Alternative Fuel",null,{"$f":"astm($D$23,0)","v":50},{"$f":"astm($D$22,0)","v":71},null,null,null,null,null,null,null,null,null,null,19,null,null,null,null,null,null,null,19,null,null,null,null,null,null,null,null,null,"HOV Lane Values","City","Highway","Combined",null,null,null,"UTILITY FACTORS & OTHER METRICS","CITY","HIGHWAY",null,null,null,19,"","","","",{"$f":"IFERROR(astm(  astm($W$94,3)*1000*(AZ77/AQ61),1),\"\")","v":""},"","","",{"$f":"IFERROR(astm(cityfuf(BB77),3)-astm(cityfuf(BB76),3),\"\")","v":""},"","","","","","",{"$f":"IFERROR(astm(mdiuf(BK77),3)-astm(mdiuf(BK76),3),\"\")","v":""},"","",{"$f":"IFERROR(astm(cityfufalt(BK77),3)-astm(cityfufalt(BK76),3),\"\")","v":""},"","","",{"$f":"IF(AZ77=\"\",1, MIN(IFERROR((AZ77/1000)/((AW77*$J$22)*$J$21/3600),1),IFERROR((SUMIFS(AZ59:AZ93,AV59:AV93,\"<=\"&$AV77,AV59:AV93,\">=\"&$AV77-1)/1000)/(  $J$22*SUMIFS(AW59:AW93,AV59:AV93,\"<=\"&$AV77,AV59:AV93,\">=\"&$AV77-1)*$J$21/3600),1),IFERROR((SUMIFS(AZ59:AZ93,AV59:AV93,\"<=\"&$AV77,AV59:AV93,\">=\"&$AV77-2)/1000)/(  $J$22*SUMIFS(AW59:AW93,AV59:AV93,\"<=\"&$AV77,AV59:AV93,\">=\"&$AV77-2)*$J$21/3600),1),IFERROR((SUMIFS(AZ59:AZ93,AV59:AV93,\"<=\"&$AV77,AV59:AV93,\">=\"&$AV77-3)/1000)/(  $J$22*SUMIFS(AW59:AW93,AV59:AV93,\"<=\"&$AV77,AV59:AV93,\">=\"&$AV77-3)*$J$21/3600),1)) )","v":1},"",{"$f":"IF(AZ77=\"\",1, MIN($AZ77/SUM($AZ59:$AZ77),SUMIFS(AZ59:AZ93,AV59:AV93,\">=\"&$AV77-1,AV59:AV93,\"<=\"&$AV77)/SUM($AZ59:$AZ77),SUMIFS(AZ59:AZ93,AV59:AV93,\">=\"&$AV77-2,AV59:AV93,\"<=\"&$AV77)/SUM($AZ59:$AZ77),SUMIFS(AZ59:AZ93,AV59:AV93,\">=\"&$AV77-3,AV59:AV93,\"<=\"&$AV77)/SUM($AZ59:$AZ77)) )","v":1},null,19,"","","","","","","","",{"$f":"IFERROR(astm(highwayfuf(CC77)-highwayfuf(CC76),3),\"\")","v":""},"","","","","","",{"$f":"IFERROR(astm(mdiuf(CL77)-mdiuf(CL76),3),\"\")","v":""},"","",{"$f":"IFERROR(astm(highwayfufalt(CL77)-highwayfufalt(CL76),3),\"\")","v":""},"","","",{"$f":"IF(CA77=\"\",1, MIN(IFERROR((CA77/1000)/((BX77*$J$22)*$J$21/3600),1),IFERROR((SUMIFS(CA59:CA93,BW59:BW93,\"<=\"&$BW77,BW59:BW93,\">=\"&$BW77-1)/1000)/(  $J$22*SUMIFS(BX59:BX93,BW59:BW93,\"<=\"&$BW77,BW59:BW93,\">=\"&$BW77-1)*$J$21/3600),1),IFERROR((SUMIFS(CA59:CA93,BW59:BW93,\"<=\"&$BW77,BW59:BW93,\">=\"&$BW77-2)/1000)/(  $J$22*SUMIFS(BX59:BX93,BW59:BW93,\"<=\"&$BW77,BW59:BW93,\">=\"&$BW77-2)*$J$21/3600),1),IFERROR((SUMIFS(CA59:CA93,BW59:BW93,\"<=\"&$BW77,BW59:BW93,\">=\"&$BW77-3)/1000)/(  $J$22*SUMIFS(BX59:BX93,BW59:BW93,\"<=\"&$BW77,BW59:BW93,\">=\"&$BW77-3)*$J$21/3600),1)) )","v":1},"",{"$f":"IF(CA77=\"\",1, MIN($CA77/SUM($CA59:$CA77),SUMIFS(CA59:CA93,BW59:BW93,\">=\"&$BW77-1,BW59:BW93,\"<=\"&$BW77)/SUM($CA59:$CA77),SUMIFS(CA59:CA93,BW59:BW93,\">=\"&$BW77-2,BW59:BW93,\"<=\"&$BW77)/SUM($CA59:$CA77),SUMIFS(CA59:CA93,BW59:BW93,\">=\"&$BW77-3,BW59:BW93,\"<=\"&$BW77)/SUM($CA59:$CA77)) )","v":1}]
[null,null,"Hwy2 Fuel FE (Guide) - Alternative Fuel",null,{"$f":"astm($E$23,0)","v":33},{"$f":"astm($E$22,0)","v":103},null,null,null,null,null,null,null,null,null,null,20,null,null,null,null,null,null,null,20,null,null,null,null,null,null,null,null,null,"MDIUF based on unadjusted Rcda [3]",{"$f":"IFERROR(astm(mdiuf(AQ54),3),0)","v":0},{"$f":"IFERROR(astm(mdiuf(AR54),3),0)","v":0},null,null,null,null,"CD 55/45 Fleet Utility Factor (FUF) for Rcdc [3]",{"$f":"astm(SUMIF(AV59:AV93,\"<=\"&AQ82,BE59:BE93),3)","v":0},{"$f":"astm(SUMIF(BW59:BW93,\"<=\"&AR82,CF59:CF93),3)","v":0},null,null,null,20,"","","","",{"$f":"IFERROR(astm(  astm($W$94,3)*1000*(AZ78/AQ61),1),\"\")","v":""},"","","",{"$f":"IFERROR(astm(cityfuf(BB78),3)-astm(cityfuf(BB77),3),\"\")","v":""},"","","","","","",{"$f":"IFERROR(astm(mdiuf(BK78),3)-astm(mdiuf(BK77),3),\"\")","v":""},"","",{"$f":"IFERROR(astm(cityfufalt(BK78),3)-astm(cityfufalt(BK77),3),\"\")","v":""},"","","",{"$f":"IF(AZ78=\"\",1, MIN(IFERROR((AZ78/1000)/((AW78*$J$22)*$J$21/3600),1),IFERROR((SUMIFS(AZ59:AZ93,AV59:AV93,\"<=\"&$AV78,AV59:AV93,\">=\"&$AV78-1)/1000)/(  $J$22*SUMIFS(AW59:AW93,AV59:AV93,\"<=\"&$AV78,AV59:AV93,\">=\"&$AV78-1)*$J$21/3600),1),IFERROR((SUMIFS(AZ59:AZ93,AV59:AV93,\"<=\"&$AV78,AV59:AV93,\">=\"&$AV78-2)/1000)/(  $J$22*SUMIFS(AW59:AW93,AV59:AV93,\"<=\"&$AV78,AV59:AV93,\">=\"&$AV78-2)*$J$21/3600),1),IFERROR((SUMIFS(AZ59:AZ93,AV59:AV93,\"<=\"&$AV78,AV59:AV93,\">=\"&$AV78-3)/1000)/(  $J$22*SUMIFS(AW59:AW93,AV59:AV93,\"<=\"&$AV78,AV59:AV93,\">=\"&$AV78-3)*$J$21/3600),1)) )","v":1},"",{"$f":"IF(AZ78=\"\",1, MIN($AZ78/SUM($AZ59:$AZ78),SUMIFS(AZ59:AZ93,AV59:AV93,\">=\"&$AV78-1,AV59:AV93,\"<=\"&$AV78)/SUM($AZ59:$AZ78),SUMIFS(AZ59:AZ93,AV59:AV93,\">=\"&$AV78-2,AV59:AV93,\"<=\"&$AV78)/SUM($AZ59:$AZ78),SUMIFS(AZ59:AZ93,AV59:AV93,\">=\"&$AV78-3,AV59:AV93,\"<=\"&$AV78)/SUM($AZ59:$AZ78)) )","v":1},null,20,"","","","","","","","",{"$f":"IFERROR(astm(highwayfuf(CC78)-highwayfuf(CC77),3),\"\")","v":""},"","","","","","",{"$f":"IFERROR(astm(mdiuf(CL78)-mdiuf(CL77),3),\"\")","v":""},"","",{"$f":"IFERROR(astm(highwayfufalt(CL78)-highwayfufalt(CL77),3),\"\")","v":""},"","","",{"$f":"IF(CA78=\"\",1, MIN(IFERROR((CA78/1000)/((BX78*$J$22)*$J$21/3600),1),IFERROR((SUMIFS(CA59:CA93,BW59:BW93,\"<=\"&$BW78,BW59:BW93,\">=\"&$BW78-1)/1000)/(  $J$22*SUMIFS(BX59:BX93,BW59:BW93,\"<=\"&$BW78,BW59:BW93,\">=\"&$BW78-1)*$J$21/3600),1),IFERROR((SUMIFS(CA59:CA93,BW59:BW93,\"<=\"&$BW78,BW59:BW93,\">=\"&$BW78-2)/1000)/(  $J$22*SUMIFS(BX59:BX93,BW59:BW93,\"<=\"&$BW78,BW59:BW93,\">=\"&$BW78-2)*$J$21/3600),1),IFERROR((SUMIFS(CA59:CA93,BW59:BW93,\"<=\"&$BW78,BW59:BW93,\">=\"&$BW78-3)/1000)/(  $J$22*SUMIFS(BX59:BX93,BW59:BW93,\"<=\"&$BW78,BW59:BW93,\">=\"&$BW78-3)*$J$21/3600),1)) )","v":1},"",{"$f":"IF(CA78=\"\",1, MIN($CA78/SUM($CA59:$CA78),SUMIFS(CA59:CA93,BW59:BW93,\">=\"&$BW78-1,BW59:BW93,\"<=\"&$BW78)/SUM($CA59:$CA78),SUMIFS(CA59:CA93,BW59:BW93,\">=\"&$BW78-2,BW59:BW93,\"<=\"&$BW78)/SUM($CA59:$CA78),SUMIFS(CA59:CA93,BW59:BW93,\">=\"&$BW78-3,BW59:BW93,\"<=\"&$BW78)/SUM($CA59:$CA78)) )","v":1}]
[null,null,"Comb2 Fuel FE (Guide) - Alternative Fuel",null,{"$f":"$F$23","v":42.696800000000003},{"$f":"$F$22","v":83},null,null,null,null,null,null,null,null,null,null,21,null,null,null,null,null,null,null,21,null,null,null,null,null,null,null,null,null,"Composite CD/CS Fuel Economy (MPGe) [4]",{"$f":"IFERROR(astm(1/(AJ78/(AQ54/     AQ62  )+(1-AJ78)/N59),4),0)","v":0},{"$f":"IFERROR(astm(1/(AK78/(AR54/     AR62  )+(1-AK78)/O59),4),0)","v":0},{"$f":"IFERROR(astm(1/(0.55/AJ79+0.45/AK79),4),0)","v":0},null,null,null,"MDIUF based on Rcda, adjusted [3]",{"$f":"astm(mdiuf(AQ55),3)","v":0},{"$f":"astm(mdiuf(AR55),3)","v":0},null,null,null,21,"","","","",{"$f":"IFERROR(astm(  astm($W$94,3)*1000*(AZ79/AQ61),1),\"\")","v":""},"","","",{"$f":"IFERROR(astm(cityfuf(BB79),3)-astm(cityfuf(BB78),3),\"\")","v":""},"","","","","","",{"$f":"IFERROR(astm(mdiuf(BK79),3)-astm(mdiuf(BK78),3),\"\")","v":""},"","",{"$f":"IFERROR(astm(cityfufalt(BK79),3)-astm(cityfufalt(BK78),3),\"\")","v":""},"","","",{"$f":"IF(AZ79=\"\",1, MIN(IFERROR((AZ79/1000)/((AW79*$J$22)*$J$21/3600),1),IFERROR((SUMIFS(AZ59:AZ93,AV59:AV93,\"<=\"&$AV79,AV59:AV93,\">=\"&$AV79-1)/1000)/(  $J$22*SUMIFS(AW59:AW93,AV59:AV93,\"<=\"&$AV79,AV59:AV93,\">=\"&$AV79-1)*$J$21/3600),1),IFERROR((SUMIFS(AZ59:AZ93,AV59:AV93,\"<=\"&$AV79,AV59:AV93,\">=\"&$AV79-2)/1000)/(  $J$22*SUMIFS(AW59:AW93,AV59:AV93,\"<=\"&$AV79,AV59:AV93,\">=\"&$AV79-2)*$J$21/3600),1),IFERROR((SUMIFS(AZ59:AZ93,AV59:AV93,\"<=\"&$AV79,AV59:AV93,\">=\"&$AV79-3)/1000)/(  $J$22*SUMIFS(AW59:AW93,AV59:AV93,\"<=\"&$AV79,AV59:AV93,\">=\"&$AV79-3)*$J$21/3600),1)) )","v":1},"",{"$f":"IF(AZ79=\"\",1, MIN($AZ79/SUM($AZ59:$AZ79),SUMIFS(AZ59:AZ93,AV59:AV93,\">=\"&$AV79-1,AV59:AV93,\"<=\"&$AV79)/SUM($AZ59:$AZ79),SUMIFS(AZ59:AZ93,AV59:AV93,\">=\"&$AV79-2,AV59:AV93,\"<=\"&$AV79)/SUM($AZ59:$AZ79),SUMIFS(AZ59:AZ93,AV59:AV93,\">=\"&$AV79-3,AV59:AV93,\"<=\"&$AV79)/SUM($AZ59:$AZ79)) )","v":1},null,21,"","","","","","","","",{"$f":"IFERROR(astm(highwayfuf(CC79)-highwayfuf(CC78),3),\"\")","v":""},"","","","","","",{"$f":"IFERROR(astm(mdiuf(CL79)-mdiuf(CL78),3),\"\")","v":""},"","",{"$f":"IFERROR(astm(highwayfufalt(CL79)-highwayfufalt(CL78),3),\"\")","v":""},"","","",{"$f":"IF(CA79=\"\",1, MIN(IFERROR((CA79/1000)/((BX79*$J$22)*$J$21/3600),1),IFERROR((SUMIFS(CA59:CA93,BW59:BW93,\"<=\"&$BW79,BW59:BW93,\">=\"&$BW79-1)/1000)/(  $J$22*SUMIFS(BX59:BX93,BW59:BW93,\"<=\"&$BW79,BW59:BW93,\">=\"&$BW79-1)*$J$21/3600),1),IFERROR((SUMIFS(CA59:CA93,BW59:BW93,\"<=\"&$BW79,BW59:BW93,\">=\"&$BW79-2)/1000)/(  $J$22*SUMIFS(BX59:BX93,BW59:BW93,\"<=\"&$BW79,BW59:BW93,\">=\"&$BW79-2)*$J$21/3600),1),IFERROR((SUMIFS(CA59:CA93,BW59:BW93,\"<=\"&$BW79,BW59:BW93,\">=\"&$BW79-3)/1000)/(  $J$22*SUMIFS(BX59:BX93,BW59:BW93,\"<=\"&$BW79,BW59:BW93,\">=\"&$BW79-3)*$J$21/3600),1)) )","v":1},"",{"$f":"IF(CA79=\"\",1, MIN($CA79/SUM($CA59:$CA79),SUMIFS(CA59:CA93,BW59:BW93,\">=\"&$BW79-1,BW59:BW93,\"<=\"&$BW79)/SUM($CA59:$CA79),SUMIFS(CA59:CA93,BW59:BW93,\">=\"&$BW79-2,BW59:BW93,\"<=\"&$BW79)/SUM($CA59:$CA79),SUMIFS(CA59:CA93,BW59:BW93,\">=\"&$BW79-3,BW59:BW93,\"<=\"&$BW79)/SUM($CA59:$CA79)) )","v":1}]
[null,null,"City2 Unadj FE - Alternative Fuel",null,{"$f":"astm(IF($N$7+$N$55+$N$103=0,SUM(AQ22, AQ70,AQ118)\n\n / (((AQ22)<>0)  +   ((AQ70)<>0)   +   ((AQ118)<>0)),\n\n($N$7*(AQ22)+$N$55*(AQ70)+ $N$103*(AQ118))\n\n/($N$7+$N$55+$N$103)),1)","v":33.1},{"$f":"astm(IF($N$7+$N$55+$N$103=0,    (((AQ21)<>0)+((AQ69)<>0)+((AQ117)<>0))/(IFERROR(1/(AQ21),0)+IFERROR(1/(AQ69),0)+IFERROR(1/(AQ117),0)),    ($N$7+$N$55+$N$103) / (IFERROR($N$7/(AQ21),0)+IFERROR($N$55/(AQ69),0)+IFERROR($N$103/(AQ117),0))  ),1)","v":102},null,null,null,null,null,null,null,null,null,null,22,null,null,null,null,null,null,null,22,null,null,null,null,null,null,null,null,null,"Trends Report Values","City","Highway","Combined",null,null,null,"MDIUF based on Rcdc, unadjusted [3]",{"$f":"astm(SUMIF(AV59:AV93,\"<=\" & AQ82,BL59:BL93),3)","v":0},{"$f":"astm(SUMIF(BW59:BW93,\"<=\" & AR82,CM59:CM93),3)","v":0},null,null,null,22,"","","","",{"$f":"IFERROR(astm(  astm($W$94,3)*1000*(AZ80/AQ61),1),\"\")","v":""},"","","",{"$f":"IFERROR(astm(cityfuf(BB80),3)-astm(cityfuf(BB79),3),\"\")","v":""},"","","","","","",{"$f":"IFERROR(astm(mdiuf(BK80),3)-astm(mdiuf(BK79),3),\"\")","v":""},"","",{"$f":"IFERROR(astm(cityfufalt(BK80),3)-astm(cityfufalt(BK79),3),\"\")","v":""},"","","",{"$f":"IF(AZ80=\"\",1, MIN(IFERROR((AZ80/1000)/((AW80*$J$22)*$J$21/3600),1),IFERROR((SUMIFS(AZ59:AZ93,AV59:AV93,\"<=\"&$AV80,AV59:AV93,\">=\"&$AV80-1)/1000)/(  $J$22*SUMIFS(AW59:AW93,AV59:AV93,\"<=\"&$AV80,AV59:AV93,\">=\"&$AV80-1)*$J$21/3600),1),IFERROR((SUMIFS(AZ59:AZ93,AV59:AV93,\"<=\"&$AV80,AV59:AV93,\">=\"&$AV80-2)/1000)/(  $J$22*SUMIFS(AW59:AW93,AV59:AV93,\"<=\"&$AV80,AV59:AV93,\">=\"&$AV80-2)*$J$21/3600),1),IFERROR((SUMIFS(AZ59:AZ93,AV59:AV93,\"<=\"&$AV80,AV59:AV93,\">=\"&$AV80-3)/1000)/(  $J$22*SUMIFS(AW59:AW93,AV59:AV93,\"<=\"&$AV80,AV59:AV93,\">=\"&$AV80-3)*$J$21/3600),1)) )","v":1},"",{"$f":"IF(AZ80=\"\",1, MIN($AZ80/SUM($AZ59:$AZ80),SUMIFS(AZ59:AZ93,AV59:AV93,\">=\"&$AV80-1,AV59:AV93,\"<=\"&$AV80)/SUM($AZ59:$AZ80),SUMIFS(AZ59:AZ93,AV59:AV93,\">=\"&$AV80-2,AV59:AV93,\"<=\"&$AV80)/SUM($AZ59:$AZ80),SUMIFS(AZ59:AZ93,AV59:AV93,\">=\"&$AV80-3,AV59:AV93,\"<=\"&$AV80)/SUM($AZ59:$AZ80)) )","v":1},null,22,"","","","","","","","",{"$f":"IFERROR(astm(highwayfuf(CC80)-highwayfuf(CC79),3),\"\")","v":""},"","","","","","",{"$f":"IFERROR(astm(mdiuf(CL80)-mdiuf(CL79),3),\"\")","v":""},"","",{"$f":"IFERROR(astm(highwayfufalt(CL80)-highwayfufalt(CL79),3),\"\")","v":""},"","","",{"$f":"IF(CA80=\"\",1, MIN(IFERROR((CA80/1000)/((BX80*$J$22)*$J$21/3600),1),IFERROR((SUMIFS(CA59:CA93,BW59:BW93,\"<=\"&$BW80,BW59:BW93,\">=\"&$BW80-1)/1000)/(  $J$22*SUMIFS(BX59:BX93,BW59:BW93,\"<=\"&$BW80,BW59:BW93,\">=\"&$BW80-1)*$J$21/3600),1),IFERROR((SUMIFS(CA59:CA93,BW59:BW93,\"<=\"&$BW80,BW59:BW93,\">=\"&$BW80-2)/1000)/(  $J$22*SUMIFS(BX59:BX93,BW59:BW93,\"<=\"&$BW80,BW59:BW93,\">=\"&$BW80-2)*$J$21/3600),1),IFERROR((SUMIFS(CA59:CA93,BW59:BW93,\"<=\"&$BW80,BW59:BW93,\">=\"&$BW80-3)/1000)/(  $J$22*SUMIFS(BX59:BX93,BW59:BW93,\"<=\"&$BW80,BW59:BW93,\">=\"&$BW80-3)*$J$21/3600),1)) )","v":1},"",{"$f":"IF(CA80=\"\",1, MIN($CA80/SUM($CA59:$CA80),SUMIFS(CA59:CA93,BW59:BW93,\">=\"&$BW80-1,BW59:BW93,\"<=\"&$BW80)/SUM($CA59:$CA80),SUMIFS(CA59:CA93,BW59:BW93,\">=\"&$BW80-2,BW59:BW93,\"<=\"&$BW80)/SUM($CA59:$CA80),SUMIFS(CA59:CA93,BW59:BW93,\">=\"&$BW80-3,BW59:BW93,\"<=\"&$BW80)/SUM($CA59:$CA80)) )","v":1}]
[null,null,"Hwy2 Unadj FE - Alternative Fuel",null,{"$f":"astm(IF($N$7+$N$55+$N$103=0,SUM(AR22, AR70,AR118)\n\n / (((AR22)<>0)  +   ((AR70)<>0)   +   ((AR118)<>0)),\n\n($N$7*(AR22)+$N$55*(AR70)+ $N$103*(AR118))\n\n/($N$7+$N$55+$N$103)),1)","v":23},{"$f":"astm(IF($N$7+$N$55+$N$103=0,    (((AR21)<>0)+((AR69)<>0)+((AR117)<>0))/(IFERROR(1/(AR21),0)+IFERROR(1/(AR69),0)+IFERROR(1/(AR117),0)),    ($N$7+$N$55+$N$103) / (IFERROR($N$7/(AR21),0)+IFERROR($N$55/(AR69),0)+IFERROR($N$103/(AR117),0))  ),1)","v":146.69999999999999},null,null,null,null,null,null,null,null,null,null,23,null,null,null,null,null,null,null,23,null,null,null,null,null,null,null,null,null,"Fleet Utility Factor (43/57) [3]",{"$f":"astm(SUMIF(AV59:AV88,\"<=\"&AQ82,BO59:BO88),3)","v":0},{"$f":"astm(SUMIF(BW59:BW88,\"<=\"&AR82,CP59:CP88),3)","v":0},{"$f":"0.55*AJ81+0.45*AK81","v":0},null,null,null,"Fraction of transition cycle that is charge-depleting operation (Zn) [3]",{"$f":" astm( IF((IF( SUMIF(AV59:AV93,\"=\" & ($AQ82),AY59:AY93)/SUMIF(AV59:AV93,\"=\" & ($AQ82-1),AY59:AY93)<0,0, SUMIF(AV59:AV93,\"=\" & ($AQ82),AY59:AY93)/SUMIF(AV59:AV93,\"=\" & ($AQ82-1),AY59:AY93)))<0,0, IF((IF( SUMIF(AV59:AV93,\"=\" & ($AQ82),AY59:AY93)/SUMIF(AV59:AV93,\"=\" & ($AQ82-1),AY59:AY93)<0,0, SUMIF(AV59:AV93,\"=\" & ($AQ82),AY59:AY93)/SUMIF(AV59:AV93,\"=\" & ($AQ82-1),AY59:AY93)))>1,1, (IF( SUMIF(AV59:AV93,\"=\" & ($AQ82),AY59:AY93)/SUMIF(AV59:AV93,\"=\" & ($AQ82-1),AY59:AY93)<0,0, SUMIF(AV59:AV93,\"=\" & ($AQ82),AY59:AY93)/SUMIF(AV59:AV93,\"=\" & ($AQ82-1),AY59:AY93))))), 3)","v":{"$error":"#VALUE!"}},{"$f":" astm( IF((IF( SUMIF(BW59:BW93,\"=\" & ($AR82),BZ59:BZ93)/SUMIF(BW59:BW93,\"=\" & ($AR82-1),BZ59:BZ93)<0,0, SUMIF(BW59:BW93,\"=\" & ($AR82),BZ59:BZ93)/SUMIF(BW59:BW93,\"=\" & ($AR82-1),BZ59:BZ93)))<0,0, IF((IF( SUMIF(BW59:BW93,\"=\" & ($AR82),BZ59:BZ93)/SUMIF(BW59:BW93,\"=\" & ($AR82-1),BZ59:BZ93)<0,0, SUMIF(BW59:BW93,\"=\" & ($AR82),BZ59:BZ93)/SUMIF(BW59:BW93,\"=\" & ($AR82-1),BZ59:BZ93)))>1,1, (IF( SUMIF(BW59:BW93,\"=\" & ($AR82),BZ59:BZ93)/SUMIF(BW59:BW93,\"=\" & ($AR82-1),BZ59:BZ93)<0,0, SUMIF(BW59:BW93,\"=\" & ($AR82),BZ59:BZ93)/SUMIF(BW59:BW93,\"=\" & ($AR82-1),BZ59:BZ93))))), 3)","v":{"$error":"#VALUE!"}},null,null,null,23,"","","","",{"$f":"IFERROR(astm(  astm($W$94,3)*1000*(AZ81/AQ61),1),\"\")","v":""},"","","",{"$f":"IFERROR(astm(cityfuf(BB81),3)-astm(cityfuf(BB80),3),\"\")","v":""},"","","","","","",{"$f":"IFERROR(astm(mdiuf(BK81),3)-astm(mdiuf(BK80),3),\"\")","v":""},"","",{"$f":"IFERROR(astm(cityfufalt(BK81),3)-astm(cityfufalt(BK80),3),\"\")","v":""},"","","",{"$f":"IF(AZ81=\"\",1, MIN(IFERROR((AZ81/1000)/((AW81*$J$22)*$J$21/3600),1),IFERROR((SUMIFS(AZ59:AZ93,AV59:AV93,\"<=\"&$AV81,AV59:AV93,\">=\"&$AV81-1)/1000)/(  $J$22*SUMIFS(AW59:AW93,AV59:AV93,\"<=\"&$AV81,AV59:AV93,\">=\"&$AV81-1)*$J$21/3600),1),IFERROR((SUMIFS(AZ59:AZ93,AV59:AV93,\"<=\"&$AV81,AV59:AV93,\">=\"&$AV81-2)/1000)/(  $J$22*SUMIFS(AW59:AW93,AV59:AV93,\"<=\"&$AV81,AV59:AV93,\">=\"&$AV81-2)*$J$21/3600),1),IFERROR((SUMIFS(AZ59:AZ93,AV59:AV93,\"<=\"&$AV81,AV59:AV93,\">=\"&$AV81-3)/1000)/(  $J$22*SUMIFS(AW59:AW93,AV59:AV93,\"<=\"&$AV81,AV59:AV93,\">=\"&$AV81-3)*$J$21/3600),1)) )","v":1},"",{"$f":"IF(AZ81=\"\",1, MIN($AZ81/SUM($AZ59:$AZ81),SUMIFS(AZ59:AZ93,AV59:AV93,\">=\"&$AV81-1,AV59:AV93,\"<=\"&$AV81)/SUM($AZ59:$AZ81),SUMIFS(AZ59:AZ93,AV59:AV93,\">=\"&$AV81-2,AV59:AV93,\"<=\"&$AV81)/SUM($AZ59:$AZ81),SUMIFS(AZ59:AZ93,AV59:AV93,\">=\"&$AV81-3,AV59:AV93,\"<=\"&$AV81)/SUM($AZ59:$AZ81)) )","v":1},null,23,"","","","","","","","",{"$f":"IFERROR(astm(highwayfuf(CC81)-highwayfuf(CC80),3),\"\")","v":""},"","","","","","",{"$f":"IFERROR(astm(mdiuf(CL81)-mdiuf(CL80),3),\"\")","v":""},"","",{"$f":"IFERROR(astm(highwayfufalt(CL81)-highwayfufalt(CL80),3),\"\")","v":""},"","","",{"$f":"IF(CA81=\"\",1, MIN(IFERROR((CA81/1000)/((BX81*$J$22)*$J$21/3600),1),IFERROR((SUMIFS(CA59:CA93,BW59:BW93,\"<=\"&$BW81,BW59:BW93,\">=\"&$BW81-1)/1000)/(  $J$22*SUMIFS(BX59:BX93,BW59:BW93,\"<=\"&$BW81,BW59:BW93,\">=\"&$BW81-1)*$J$21/3600),1),IFERROR((SUMIFS(CA59:CA93,BW59:BW93,\"<=\"&$BW81,BW59:BW93,\">=\"&$BW81-2)/1000)/(  $J$22*SUMIFS(BX59:BX93,BW59:BW93,\"<=\"&$BW81,BW59:BW93,\">=\"&$BW81-2)*$J$21/3600),1),IFERROR((SUMIFS(CA59:CA93,BW59:BW93,\"<=\"&$BW81,BW59:BW93,\">=\"&$BW81-3)/1000)/(  $J$22*SUMIFS(BX59:BX93,BW59:BW93,\"<=\"&$BW81,BW59:BW93,\">=\"&$BW81-3)*$J$21/3600),1)) )","v":1},"",{"$f":"IF(CA81=\"\",1, MIN($CA81/SUM($CA59:$CA81),SUMIFS(CA59:CA93,BW59:BW93,\">=\"&$BW81-1,BW59:BW93,\"<=\"&$BW81)/SUM($CA59:$CA81),SUMIFS(CA59:CA93,BW59:BW93,\">=\"&$BW81-2,BW59:BW93,\"<=\"&$BW81)/SUM($CA59:$CA81),SUMIFS(CA59:CA93,BW59:BW93,\">=\"&$BW81-3,BW59:BW93,\"<=\"&$BW81)/SUM($CA59:$CA81)) )","v":1}]
[null,null,"Comb2 Unadj FE - Alternative Fuel",null,{"$f":"astm(0.55*E80+0.45*E81,4)","v":28.555},{"$f":"astm(1/(0.55/F80+0.45/F81),4)","v":118.20829999999999},null,null,null,null,null,null,null,null,null,null,24,null,null,null,null,null,null,null,24,null,null,null,null,null,null,null,null,null,"Unadjusted Fuel Economy (MPG) [4]",{"$f":"AJ57","v":0},{"$f":"AK57","v":0},{"$f":"AL57","v":0},null,null,null,"Number of last cycle number with charge-depleting operation (transition cycle) [0]",{"$f":"IF(ISNUMBER(W96), W96,   IF(COUNTIF(BR59:BR93,\"CD\") < COUNT(R59:R93), COUNTIF(BR59:BR93,\"CD\"),     IF(COUNTIF(BT59:BT93,\"CD\") < COUNT(R59:R93), COUNTIF(BT59:BT93,\"CD\"),     \"EOT ERROR\"     )     )    )","v":"EOT ERROR"},{"$f":"IF(ISNUMBER(AE96), AE96,   IF(COUNTIF(CS59:CS93,\"CD\") < COUNT(Z59:Z93), COUNTIF(CS59:CS93,\"CD\"),     IF(COUNTIF(CU59:CU93,\"CD\") < COUNT(Z59:Z93), COUNTIF(CU59:CU93,\"CD\"),     \"EOT ERROR\"     )     )    )","v":"EOT ERROR"},null,null,null,24,"","","","",{"$f":"IFERROR(astm(  astm($W$94,3)*1000*(AZ82/AQ61),1),\"\")","v":""},"","","",{"$f":"IFERROR(astm(cityfuf(BB82),3)-astm(cityfuf(BB81),3),\"\")","v":""},"","","","","","",{"$f":"IFERROR(astm(mdiuf(BK82),3)-astm(mdiuf(BK81),3),\"\")","v":""},"","",{"$f":"IFERROR(astm(cityfufalt(BK82),3)-astm(cityfufalt(BK81),3),\"\")","v":""},"","","",{"$f":"IF(AZ82=\"\",1, MIN(IFERROR((AZ82/1000)/((AW82*$J$22)*$J$21/3600),1),IFERROR((SUMIFS(AZ59:AZ93,AV59:AV93,\"<=\"&$AV82,AV59:AV93,\">=\"&$AV82-1)/1000)/(  $J$22*SUMIFS(AW59:AW93,AV59:AV93,\"<=\"&$AV82,AV59:AV93,\">=\"&$AV82-1)*$J$21/3600),1),IFERROR((SUMIFS(AZ59:AZ93,AV59:AV93,\"<=\"&$AV82,AV59:AV93,\">=\"&$AV82-2)/1000)/(  $J$22*SUMIFS(AW59:AW93,AV59:AV93,\"<=\"&$AV82,AV59:AV93,\">=\"&$AV82-2)*$J$21/3600),1),IFERROR((SUMIFS(AZ59:AZ93,AV59:AV93,\"<=\"&$AV82,AV59:AV93,\">=\"&$AV82-3)/1000)/(  $J$22*SUMIFS(AW59:AW93,AV59:AV93,\"<=\"&$AV82,AV59:AV93,\">=\"&$AV82-3)*$J$21/3600),1)) )","v":1},"",{"$f":"IF(AZ82=\"\",1, MIN($AZ82/SUM($AZ59:$AZ82),SUMIFS(AZ59:AZ93,AV59:AV93,\">=\"&$AV82-1,AV59:AV93,\"<=\"&$AV82)/SUM($AZ59:$AZ82),SUMIFS(AZ59:AZ93,AV59:AV93,\">=\"&$AV82-2,AV59:AV93,\"<=\"&$AV82)/SUM($AZ59:$AZ82),SUMIFS(AZ59:AZ93,AV59:AV93,\">=\"&$AV82-3,AV59:AV93,\"<=\"&$AV82)/SUM($AZ59:$AZ82)) )","v":1},null,24,"","","","","","","","",{"$f":"IFERROR(astm(highwayfuf(CC82)-highwayfuf(CC81),3),\"\")","v":""},"","","","","","",{"$f":"IFERROR(astm(mdiuf(CL82)-mdiuf(CL81),3),\"\")","v":""},"","",{"$f":"IFERROR(astm(highwayfufalt(CL82)-highwayfufalt(CL81),3),\"\")","v":""},"","","",{"$f":"IF(CA82=\"\",1, MIN(IFERROR((CA82/1000)/((BX82*$J$22)*$J$21/3600),1),IFERROR((SUMIFS(CA59:CA93,BW59:BW93,\"<=\"&$BW82,BW59:BW93,\">=\"&$BW82-1)/1000)/(  $J$22*SUMIFS(BX59:BX93,BW59:BW93,\"<=\"&$BW82,BW59:BW93,\">=\"&$BW82-1)*$J$21/3600),1),IFERROR((SUMIFS(CA59:CA93,BW59:BW93,\"<=\"&$BW82,BW59:BW93,\">=\"&$BW82-2)/1000)/(  $J$22*SUMIFS(BX59:BX93,BW59:BW93,\"<=\"&$BW82,BW59:BW93,\">=\"&$BW82-2)*$J$21/3600),1),IFERROR((SUMIFS(CA59:CA93,BW59:BW93,\"<=\"&$BW82,BW59:BW93,\">=\"&$BW82-3)/1000)/(  $J$22*SUMIFS(BX59:BX93,BW59:BW93,\"<=\"&$BW82,BW59:BW93,\">=\"&$BW82-3)*$J$21/3600),1)) )","v":1},"",{"$f":"IF(CA82=\"\",1, MIN($CA82/SUM($CA59:$CA82),SUMIFS(CA59:CA93,BW59:BW93,\">=\"&$BW82-1,BW59:BW93,\"<=\"&$BW82)/SUM($CA59:$CA82),SUMIFS(CA59:CA93,BW59:BW93,\">=\"&$BW82-2,BW59:BW93,\"<=\"&$BW82)/SUM($CA59:$CA82),SUMIFS(CA59:CA93,BW59:BW93,\">=\"&$BW82-3,BW59:BW93,\"<=\"&$BW82)/SUM($CA59:$CA82)) )","v":1}]
[null,null,"City2 Unrd Adj FE - Alternative Fuel",null,{"$f":"astm($D$23,4)","v":50.372},{"$f":"astm($D$22,4)","v":71.379400000000004},null,null,null,null,null,null,null,null,null,null,25,null,null,null,null,null,null,null,25,null,null,null,null,null,null,null,null,null,"Unadjusted GHG (g/mi) [1]",{"$f":"AJ59","v":0},{"$f":"AK59","v":0},{"$f":"AL59","v":0},null,null,"Intermediate Results Requiring Charge-Sustaining (CS) Test Results or Other Inputs",null,null,null,null,null,null,25,"","","","",{"$f":"IFERROR(astm(  astm($W$94,3)*1000*(AZ83/AQ61),1),\"\")","v":""},"","","",{"$f":"IFERROR(astm(cityfuf(BB83),3)-astm(cityfuf(BB82),3),\"\")","v":""},"","","","","","",{"$f":"IFERROR(astm(mdiuf(BK83),3)-astm(mdiuf(BK82),3),\"\")","v":""},"","",{"$f":"IFERROR(astm(cityfufalt(BK83),3)-astm(cityfufalt(BK82),3),\"\")","v":""},"","","",{"$f":"IF(AZ83=\"\",1, MIN(IFERROR((AZ83/1000)/((AW83*$J$22)*$J$21/3600),1),IFERROR((SUMIFS(AZ59:AZ93,AV59:AV93,\"<=\"&$AV83,AV59:AV93,\">=\"&$AV83-1)/1000)/(  $J$22*SUMIFS(AW59:AW93,AV59:AV93,\"<=\"&$AV83,AV59:AV93,\">=\"&$AV83-1)*$J$21/3600),1),IFERROR((SUMIFS(AZ59:AZ93,AV59:AV93,\"<=\"&$AV83,AV59:AV93,\">=\"&$AV83-2)/1000)/(  $J$22*SUMIFS(AW59:AW93,AV59:AV93,\"<=\"&$AV83,AV59:AV93,\">=\"&$AV83-2)*$J$21/3600),1),IFERROR((SUMIFS(AZ59:AZ93,AV59:AV93,\"<=\"&$AV83,AV59:AV93,\">=\"&$AV83-3)/1000)/(  $J$22*SUMIFS(AW59:AW93,AV59:AV93,\"<=\"&$AV83,AV59:AV93,\">=\"&$AV83-3)*$J$21/3600),1)) )","v":1},"",{"$f":"IF(AZ83=\"\",1, MIN($AZ83/SUM($AZ59:$AZ83),SUMIFS(AZ59:AZ93,AV59:AV93,\">=\"&$AV83-1,AV59:AV93,\"<=\"&$AV83)/SUM($AZ59:$AZ83),SUMIFS(AZ59:AZ93,AV59:AV93,\">=\"&$AV83-2,AV59:AV93,\"<=\"&$AV83)/SUM($AZ59:$AZ83),SUMIFS(AZ59:AZ93,AV59:AV93,\">=\"&$AV83-3,AV59:AV93,\"<=\"&$AV83)/SUM($AZ59:$AZ83)) )","v":1},null,25,"","","","","","","","",{"$f":"IFERROR(astm(highwayfuf(CC83)-highwayfuf(CC82),3),\"\")","v":""},"","","","","","",{"$f":"IFERROR(astm(mdiuf(CL83)-mdiuf(CL82),3),\"\")","v":""},"","",{"$f":"IFERROR(astm(highwayfufalt(CL83)-highwayfufalt(CL82),3),\"\")","v":""},"","","",{"$f":"IF(CA83=\"\",1, MIN(IFERROR((CA83/1000)/((BX83*$J$22)*$J$21/3600),1),IFERROR((SUMIFS(CA59:CA93,BW59:BW93,\"<=\"&$BW83,BW59:BW93,\">=\"&$BW83-1)/1000)/(  $J$22*SUMIFS(BX59:BX93,BW59:BW93,\"<=\"&$BW83,BW59:BW93,\">=\"&$BW83-1)*$J$21/3600),1),IFERROR((SUMIFS(CA59:CA93,BW59:BW93,\"<=\"&$BW83,BW59:BW93,\">=\"&$BW83-2)/1000)/(  $J$22*SUMIFS(BX59:BX93,BW59:BW93,\"<=\"&$BW83,BW59:BW93,\">=\"&$BW83-2)*$J$21/3600),1),IFERROR((SUMIFS(CA59:CA93,BW59:BW93,\"<=\"&$BW83,BW59:BW93,\">=\"&$BW83-3)/1000)/(  $J$22*SUMIFS(BX59:BX93,BW59:BW93,\"<=\"&$BW83,BW59:BW93,\">=\"&$BW83-3)*$J$21/3600),1)) )","v":1},"",{"$f":"IF(CA83=\"\",1, MIN($CA83/SUM($CA59:$CA83),SUMIFS(CA59:CA93,BW59:BW93,\">=\"&$BW83-1,BW59:BW93,\"<=\"&$BW83)/SUM($CA59:$CA83),SUMIFS(CA59:CA93,BW59:BW93,\">=\"&$BW83-2,BW59:BW93,\"<=\"&$BW83)/SUM($CA59:$CA83),SUMIFS(CA59:CA93,BW59:BW93,\">=\"&$BW83-3,BW59:BW93,\"<=\"&$BW83)/SUM($CA59:$CA83)) )","v":1}]
[null,null,"Hwy2 Unrd Adj FE - Alternative Fuel",null,{"$f":"astm($E$23,4)","v":33.316000000000003},{"$f":"astm($E$22,4)","v":102.7466},null,null,null,null,null,null,null,null,null,null,26,null,null,null,null,null,null,null,26,null,null,null,null,null,null,null,null,null,"Adjusted Fuel Economy (MPG) [4]",{"$f":"IFERROR(astm(1/ ( AQ64 + (1-AJ81)/N60),4),0)","v":0},{"$f":"IFERROR(astm(1/ ( AR64 + (1-AK81)/O60),4),0)","v":0},{"$f":"IFERROR(astm(1/(0.55/AJ84+0.45/AK84),4),0)","v":0},null,null,null,"DRIVING DISTANCE VALUES","CITY","HIGHWAY",null,null,null,26,"","","","",{"$f":"IFERROR(astm(  astm($W$94,3)*1000*(AZ84/AQ61),1),\"\")","v":""},"","","",{"$f":"IFERROR(astm(cityfuf(BB84),3)-astm(cityfuf(BB83),3),\"\")","v":""},"","","","","","",{"$f":"IFERROR(astm(mdiuf(BK84),3)-astm(mdiuf(BK83),3),\"\")","v":""},"","",{"$f":"IFERROR(astm(cityfufalt(BK84),3)-astm(cityfufalt(BK83),3),\"\")","v":""},"","","",{"$f":"IF(AZ84=\"\",1, MIN(IFERROR((AZ84/1000)/((AW84*$J$22)*$J$21/3600),1),IFERROR((SUMIFS(AZ59:AZ93,AV59:AV93,\"<=\"&$AV84,AV59:AV93,\">=\"&$AV84-1)/1000)/(  $J$22*SUMIFS(AW59:AW93,AV59:AV93,\"<=\"&$AV84,AV59:AV93,\">=\"&$AV84-1)*$J$21/3600),1),IFERROR((SUMIFS(AZ59:AZ93,AV59:AV93,\"<=\"&$AV84,AV59:AV93,\">=\"&$AV84-2)/1000)/(  $J$22*SUMIFS(AW59:AW93,AV59:AV93,\"<=\"&$AV84,AV59:AV93,\">=\"&$AV84-2)*$J$21/3600),1),IFERROR((SUMIFS(AZ59:AZ93,AV59:AV93,\"<=\"&$AV84,AV59:AV93,\">=\"&$AV84-3)/1000)/(  $J$22*SUMIFS(AW59:AW93,AV59:AV93,\"<=\"&$AV84,AV59:AV93,\">=\"&$AV84-3)*$J$21/3600),1)) )","v":1},"",{"$f":"IF(AZ84=\"\",1, MIN($AZ84/SUM($AZ59:$AZ84),SUMIFS(AZ59:AZ93,AV59:AV93,\">=\"&$AV84-1,AV59:AV93,\"<=\"&$AV84)/SUM($AZ59:$AZ84),SUMIFS(AZ59:AZ93,AV59:AV93,\">=\"&$AV84-2,AV59:AV93,\"<=\"&$AV84)/SUM($AZ59:$AZ84),SUMIFS(AZ59:AZ93,AV59:AV93,\">=\"&$AV84-3,AV59:AV93,\"<=\"&$AV84)/SUM($AZ59:$AZ84)) )","v":1},null,26,"","","","","","","","",{"$f":"IFERROR(astm(highwayfuf(CC84)-highwayfuf(CC83),3),\"\")","v":""},"","","","","","",{"$f":"IFERROR(astm(mdiuf(CL84)-mdiuf(CL83),3),\"\")","v":""},"","",{"$f":"IFERROR(astm(highwayfufalt(CL84)-highwayfufalt(CL83),3),\"\")","v":""},"","","",{"$f":"IF(CA84=\"\",1, MIN(IFERROR((CA84/1000)/((BX84*$J$22)*$J$21/3600),1),IFERROR((SUMIFS(CA59:CA93,BW59:BW93,\"<=\"&$BW84,BW59:BW93,\">=\"&$BW84-1)/1000)/(  $J$22*SUMIFS(BX59:BX93,BW59:BW93,\"<=\"&$BW84,BW59:BW93,\">=\"&$BW84-1)*$J$21/3600),1),IFERROR((SUMIFS(CA59:CA93,BW59:BW93,\"<=\"&$BW84,BW59:BW93,\">=\"&$BW84-2)/1000)/(  $J$22*SUMIFS(BX59:BX93,BW59:BW93,\"<=\"&$BW84,BW59:BW93,\">=\"&$BW84-2)*$J$21/3600),1),IFERROR((SUMIFS(CA59:CA93,BW59:BW93,\"<=\"&$BW84,BW59:BW93,\">=\"&$BW84-3)/1000)/(  $J$22*SUMIFS(BX59:BX93,BW59:BW93,\"<=\"&$BW84,BW59:BW93,\">=\"&$BW84-3)*$J$21/3600),1)) )","v":1},"",{"$f":"IF(CA84=\"\",1, MIN($CA84/SUM($CA59:$CA84),SUMIFS(CA59:CA93,BW59:BW93,\">=\"&$BW84-1,BW59:BW93,\"<=\"&$BW84)/SUM($CA59:$CA84),SUMIFS(CA59:CA93,BW59:BW93,\">=\"&$BW84-2,BW59:BW93,\"<=\"&$BW84)/SUM($CA59:$CA84),SUMIFS(CA59:CA93,BW59:BW93,\">=\"&$BW84-3,BW59:BW93,\"<=\"&$BW84)/SUM($CA59:$CA84)) )","v":1}]
[null,null,"Cmb2 Unrd Adj FE - Alternative Fuel",null,{"$f":"astm(0.55*D23+0.45*E23,4)","v":42.696800000000003},{"$f":"astm(1/(0.55/D22+0.45/E22),4)","v":82.747100000000003},null,null,null,null,null,null,null,null,null,null,27,null,null,null,null,null,null,null,27,null,null,null,null,null,null,null,null,null,"Adjusted GHG (g/mi) [1]",{"$f":"IFERROR(astm(  AQ76    +(1-AJ81)*astm(N63,1),1),0)","v":0},{"$f":"IFERROR(astm(  AR76    +(1-AK81)*astm(O63,1),1),0)","v":0},{"$f":"IFERROR(astm(0.55*AJ85+0.45*AK85,1),0)","v":0},null,null,null,"CD Equivalent All-Electric Range (EAER), Unadjusted (mi) [3]",{"$f":"astm(AQ54*((N61-AQ72)/N61),3)","v":{"$error":"#VALUE!"}},{"$f":"astm(AR54*((O61-AR72)/O61),3)","v":{"$error":"#VALUE!"}},null,null,null,27,"","","","",{"$f":"IFERROR(astm(  astm($W$94,3)*1000*(AZ85/AQ61),1),\"\")","v":""},"","","",{"$f":"IFERROR(astm(cityfuf(BB85),3)-astm(cityfuf(BB84),3),\"\")","v":""},"","","","","","",{"$f":"IFERROR(astm(mdiuf(BK85),3)-astm(mdiuf(BK84),3),\"\")","v":""},"","",{"$f":"IFERROR(astm(cityfufalt(BK85),3)-astm(cityfufalt(BK84),3),\"\")","v":""},"","","",{"$f":"IF(AZ85=\"\",1, MIN(IFERROR((AZ85/1000)/((AW85*$J$22)*$J$21/3600),1),IFERROR((SUMIFS(AZ59:AZ93,AV59:AV93,\"<=\"&$AV85,AV59:AV93,\">=\"&$AV85-1)/1000)/(  $J$22*SUMIFS(AW59:AW93,AV59:AV93,\"<=\"&$AV85,AV59:AV93,\">=\"&$AV85-1)*$J$21/3600),1),IFERROR((SUMIFS(AZ59:AZ93,AV59:AV93,\"<=\"&$AV85,AV59:AV93,\">=\"&$AV85-2)/1000)/(  $J$22*SUMIFS(AW59:AW93,AV59:AV93,\"<=\"&$AV85,AV59:AV93,\">=\"&$AV85-2)*$J$21/3600),1),IFERROR((SUMIFS(AZ59:AZ93,AV59:AV93,\"<=\"&$AV85,AV59:AV93,\">=\"&$AV85-3)/1000)/(  $J$22*SUMIFS(AW59:AW93,AV59:AV93,\"<=\"&$AV85,AV59:AV93,\">=\"&$AV85-3)*$J$21/3600),1)) )","v":1},"",{"$f":"IF(AZ85=\"\",1, MIN($AZ85/SUM($AZ59:$AZ85),SUMIFS(AZ59:AZ93,AV59:AV93,\">=\"&$AV85-1,AV59:AV93,\"<=\"&$AV85)/SUM($AZ59:$AZ85),SUMIFS(AZ59:AZ93,AV59:AV93,\">=\"&$AV85-2,AV59:AV93,\"<=\"&$AV85)/SUM($AZ59:$AZ85),SUMIFS(AZ59:AZ93,AV59:AV93,\">=\"&$AV85-3,AV59:AV93,\"<=\"&$AV85)/SUM($AZ59:$AZ85)) )","v":1},null,27,"","","","","","","","",{"$f":"IFERROR(astm(highwayfuf(CC85)-highwayfuf(CC84),3),\"\")","v":""},"","","","","","",{"$f":"IFERROR(astm(mdiuf(CL85)-mdiuf(CL84),3),\"\")","v":""},"","",{"$f":"IFERROR(astm(highwayfufalt(CL85)-highwayfufalt(CL84),3),\"\")","v":""},"","","",{"$f":"IF(CA85=\"\",1, MIN(IFERROR((CA85/1000)/((BX85*$J$22)*$J$21/3600),1),IFERROR((SUMIFS(CA59:CA93,BW59:BW93,\"<=\"&$BW85,BW59:BW93,\">=\"&$BW85-1)/1000)/(  $J$22*SUMIFS(BX59:BX93,BW59:BW93,\"<=\"&$BW85,BW59:BW93,\">=\"&$BW85-1)*$J$21/3600),1),IFERROR((SUMIFS(CA59:CA93,BW59:BW93,\"<=\"&$BW85,BW59:BW93,\">=\"&$BW85-2)/1000)/(  $J$22*SUMIFS(BX59:BX93,BW59:BW93,\"<=\"&$BW85,BW59:BW93,\">=\"&$BW85-2)*$J$21/3600),1),IFERROR((SUMIFS(CA59:CA93,BW59:BW93,\"<=\"&$BW85,BW59:BW93,\">=\"&$BW85-3)/1000)/(  $J$22*SUMIFS(BX59:BX93,BW59:BW93,\"<=\"&$BW85,BW59:BW93,\">=\"&$BW85-3)*$J$21/3600),1)) )","v":1},"",{"$f":"IF(CA85=\"\",1, MIN($CA85/SUM($CA59:$CA85),SUMIFS(CA59:CA93,BW59:BW93,\">=\"&$BW85-1,BW59:BW93,\"<=\"&$BW85)/SUM($CA59:$CA85),SUMIFS(CA59:CA93,BW59:BW93,\">=\"&$BW85-2,BW59:BW93,\"<=\"&$BW85)/SUM($CA59:$CA85),SUMIFS(CA59:CA93,BW59:BW93,\">=\"&$BW85-3,BW59:BW93,\"<=\"&$BW85)/SUM($CA59:$CA85)) )","v":1}]
[null,null,"Charge-depleting CO2",null,null,"g/mi",null,null,null,null,null,null,null,null,null,null,28,null,null,null,null,null,null,null,28,null,null,null,null,null,null,null,null,null,null,null,null,null,null,null,null,"Charge-sustaining driving range, adjusted (mi) [3]",{"$f":"astm((astm($J$11,1)-AQ66)*astm(N60,4),3)","v":0},{"$f":"astm((astm($J$11,1)-AR66)*astm(O60,4),3)","v":0},null,null,null,28,"","","","",{"$f":"IFERROR(astm(  astm($W$94,3)*1000*(AZ86/AQ61),1),\"\")","v":""},"","","",{"$f":"IFERROR(astm(cityfuf(BB86),3)-astm(cityfuf(BB85),3),\"\")","v":""},"","","","","","",{"$f":"IFERROR(astm(mdiuf(BK86),3)-astm(mdiuf(BK85),3),\"\")","v":""},"","",{"$f":"IFERROR(astm(cityfufalt(BK86),3)-astm(cityfufalt(BK85),3),\"\")","v":""},"","","",{"$f":"IF(AZ86=\"\",1, MIN(IFERROR((AZ86/1000)/((AW86*$J$22)*$J$21/3600),1),IFERROR((SUMIFS(AZ59:AZ93,AV59:AV93,\"<=\"&$AV86,AV59:AV93,\">=\"&$AV86-1)/1000)/(  $J$22*SUMIFS(AW59:AW93,AV59:AV93,\"<=\"&$AV86,AV59:AV93,\">=\"&$AV86-1)*$J$21/3600),1),IFERROR((SUMIFS(AZ59:AZ93,AV59:AV93,\"<=\"&$AV86,AV59:AV93,\">=\"&$AV86-2)/1000)/(  $J$22*SUMIFS(AW59:AW93,AV59:AV93,\"<=\"&$AV86,AV59:AV93,\">=\"&$AV86-2)*$J$21/3600),1),IFERROR((SUMIFS(AZ59:AZ93,AV59:AV93,\"<=\"&$AV86,AV59:AV93,\">=\"&$AV86-3)/1000)/(  $J$22*SUMIFS(AW59:AW93,AV59:AV93,\"<=\"&$AV86,AV59:AV93,\">=\"&$AV86-3)*$J$21/3600),1)) )","v":1},"",{"$f":"IF(AZ86=\"\",1, MIN($AZ86/SUM($AZ59:$AZ86),SUMIFS(AZ59:AZ93,AV59:AV93,\">=\"&$AV86-1,AV59:AV93,\"<=\"&$AV86)/SUM($AZ59:$AZ86),SUMIFS(AZ59:AZ93,AV59:AV93,\">=\"&$AV86-2,AV59:AV93,\"<=\"&$AV86)/SUM($AZ59:$AZ86),SUMIFS(AZ59:AZ93,AV59:AV93,\">=\"&$AV86-3,AV59:AV93,\"<=\"&$AV86)/SUM($AZ59:$AZ86)) )","v":1},null,28,"","","","","","","","",{"$f":"IFERROR(astm(highwayfuf(CC86)-highwayfuf(CC85),3),\"\")","v":""},"","","","","","",{"$f":"IFERROR(astm(mdiuf(CL86)-mdiuf(CL85),3),\"\")","v":""},"","",{"$f":"IFERROR(astm(highwayfufalt(CL86)-highwayfufalt(CL85),3),\"\")","v":""},"","","",{"$f":"IF(CA86=\"\",1, MIN(IFERROR((CA86/1000)/((BX86*$J$22)*$J$21/3600),1),IFERROR((SUMIFS(CA59:CA93,BW59:BW93,\"<=\"&$BW86,BW59:BW93,\">=\"&$BW86-1)/1000)/(  $J$22*SUMIFS(BX59:BX93,BW59:BW93,\"<=\"&$BW86,BW59:BW93,\">=\"&$BW86-1)*$J$21/3600),1),IFERROR((SUMIFS(CA59:CA93,BW59:BW93,\"<=\"&$BW86,BW59:BW93,\">=\"&$BW86-2)/1000)/(  $J$22*SUMIFS(BX59:BX93,BW59:BW93,\"<=\"&$BW86,BW59:BW93,\">=\"&$BW86-2)*$J$21/3600),1),IFERROR((SUMIFS(CA59:CA93,BW59:BW93,\"<=\"&$BW86,BW59:BW93,\">=\"&$BW86-3)/1000)/(  $J$22*SUMIFS(BX59:BX93,BW59:BW93,\"<=\"&$BW86,BW59:BW93,\">=\"&$BW86-3)*$J$21/3600),1)) )","v":1},"",{"$f":"IF(CA86=\"\",1, MIN($CA86/SUM($CA59:$CA86),SUMIFS(CA59:CA93,BW59:BW93,\">=\"&$BW86-1,BW59:BW93,\"<=\"&$BW86)/SUM($CA59:$CA86),SUMIFS(CA59:CA93,BW59:BW93,\">=\"&$BW86-2,BW59:BW93,\"<=\"&$BW86)/SUM($CA59:$CA86),SUMIFS(CA59:CA93,BW59:BW93,\">=\"&$BW86-3,BW59:BW93,\"<=\"&$BW86)/SUM($CA59:$CA86)) )","v":1}]
[null,null,"City CO2 Rounded Adj",null,null,{"$f":"astm(IF($N$7+$N$55+$N$103=0,   (AQ25+AQ73+AQ121)/ ((AQ7<>0)+(AQ55<>0)+(AQ103<>0)),    (IFERROR($N$7*AQ25,0)+IFERROR($N$55*AQ73,0)+IFERROR($N$103*AQ121,0)) /  ($N$7+$N$55+$N$103)   ),0)","v":0},null,null,null,null,null,null,null,null,null,null,29,null,null,null,null,null,null,null,29,null,null,null,null,null,null,null,null,null,null,null,null,null,null,null,null,"UTILITY FACTORS & OTHER METRICS","CITY","HIGHWAY",null,null,null,29,"","","","",{"$f":"IFERROR(astm(  astm($W$94,3)*1000*(AZ87/AQ61),1),\"\")","v":""},"","","",{"$f":"IFERROR(astm(cityfuf(BB87),3)-astm(cityfuf(BB86),3),\"\")","v":""},"","","","","","",{"$f":"IFERROR(astm(mdiuf(BK87),3)-astm(mdiuf(BK86),3),\"\")","v":""},"","",{"$f":"IFERROR(astm(cityfufalt(BK87),3)-astm(cityfufalt(BK86),3),\"\")","v":""},"","","",{"$f":"IF(AZ87=\"\",1, MIN(IFERROR((AZ87/1000)/((AW87*$J$22)*$J$21/3600),1),IFERROR((SUMIFS(AZ59:AZ93,AV59:AV93,\"<=\"&$AV87,AV59:AV93,\">=\"&$AV87-1)/1000)/(  $J$22*SUMIFS(AW59:AW93,AV59:AV93,\"<=\"&$AV87,AV59:AV93,\">=\"&$AV87-1)*$J$21/3600),1),IFERROR((SUMIFS(AZ59:AZ93,AV59:AV93,\"<=\"&$AV87,AV59:AV93,\">=\"&$AV87-2)/1000)/(  $J$22*SUMIFS(AW59:AW93,AV59:AV93,\"<=\"&$AV87,AV59:AV93,\">=\"&$AV87-2)*$J$21/3600),1),IFERROR((SUMIFS(AZ59:AZ93,AV59:AV93,\"<=\"&$AV87,AV59:AV93,\">=\"&$AV87-3)/1000)/(  $J$22*SUMIFS(AW59:AW93,AV59:AV93,\"<=\"&$AV87,AV59:AV93,\">=\"&$AV87-3)*$J$21/3600),1)) )","v":1},"",{"$f":"IF(AZ87=\"\",1, MIN($AZ87/SUM($AZ59:$AZ87),SUMIFS(AZ59:AZ93,AV59:AV93,\">=\"&$AV87-1,AV59:AV93,\"<=\"&$AV87)/SUM($AZ59:$AZ87),SUMIFS(AZ59:AZ93,AV59:AV93,\">=\"&$AV87-2,AV59:AV93,\"<=\"&$AV87)/SUM($AZ59:$AZ87),SUMIFS(AZ59:AZ93,AV59:AV93,\">=\"&$AV87-3,AV59:AV93,\"<=\"&$AV87)/SUM($AZ59:$AZ87)) )","v":1},null,29,"","","","","","","","",{"$f":"IFERROR(astm(highwayfuf(CC87)-highwayfuf(CC86),3),\"\")","v":""},"","","","","","",{"$f":"IFERROR(astm(mdiuf(CL87)-mdiuf(CL86),3),\"\")","v":""},"","",{"$f":"IFERROR(astm(highwayfufalt(CL87)-highwayfufalt(CL86),3),\"\")","v":""},"","","",{"$f":"IF(CA87=\"\",1, MIN(IFERROR((CA87/1000)/((BX87*$J$22)*$J$21/3600),1),IFERROR((SUMIFS(CA59:CA93,BW59:BW93,\"<=\"&$BW87,BW59:BW93,\">=\"&$BW87-1)/1000)/(  $J$22*SUMIFS(BX59:BX93,BW59:BW93,\"<=\"&$BW87,BW59:BW93,\">=\"&$BW87-1)*$J$21/3600),1),IFERROR((SUMIFS(CA59:CA93,BW59:BW93,\"<=\"&$BW87,BW59:BW93,\">=\"&$BW87-2)/1000)/(  $J$22*SUMIFS(BX59:BX93,BW59:BW93,\"<=\"&$BW87,BW59:BW93,\">=\"&$BW87-2)*$J$21/3600),1),IFERROR((SUMIFS(CA59:CA93,BW59:BW93,\"<=\"&$BW87,BW59:BW93,\">=\"&$BW87-3)/1000)/(  $J$22*SUMIFS(BX59:BX93,BW59:BW93,\"<=\"&$BW87,BW59:BW93,\">=\"&$BW87-3)*$J$21/3600),1)) )","v":1},"",{"$f":"IF(CA87=\"\",1, MIN($CA87/SUM($CA59:$CA87),SUMIFS(CA59:CA93,BW59:BW93,\">=\"&$BW87-1,BW59:BW93,\"<=\"&$BW87)/SUM($CA59:$CA87),SUMIFS(CA59:CA93,BW59:BW93,\">=\"&$BW87-2,BW59:BW93,\"<=\"&$BW87)/SUM($CA59:$CA87),SUMIFS(CA59:CA93,BW59:BW93,\">=\"&$BW87-3,BW59:BW93,\"<=\"&$BW87)/SUM($CA59:$CA87)) )","v":1}]
[null,null,"Hwy CO2 Rounded Adj",null,null,{"$f":"astm(IF($N$7+$N$55+$N$103=0,   (AR25+AR73+AR121)/ ((AR7<>0)+(AR55<>0)+(AR103<>0)),    (IFERROR($N$7*AR25,0)+IFERROR($N$55*AR73,0)+IFERROR($N$103*AR121,0)) /  ($N$7+$N$55+$N$103)   ),0)","v":0},null,null,null,null,null,null,null,null,null,null,30,null,null,null,null,null,null,null,30,null,null,null,null,null,null,null,null,null,null,null,null,null,null,null,null,"CD 55/45 Fleet Utility Factor (FUF) for EAER [3]",{"$f":"astm(cityfuf(AQ85),3)","v":{"$error":"#VALUE!"}},{"$f":"astm(highwayfuf(AR85),3)","v":{"$error":"#VALUE!"}},null,null,null,30,"","","","",{"$f":"IFERROR(astm(  astm($W$94,3)*1000*(AZ88/AQ61),1),\"\")","v":""},"","","",{"$f":"IFERROR(astm(cityfuf(BB88),3)-astm(cityfuf(BB87),3),\"\")","v":""},"","","","","","",{"$f":"IFERROR(astm(mdiuf(BK88),3)-astm(mdiuf(BK87),3),\"\")","v":""},"","",{"$f":"IFERROR(astm(cityfufalt(BK88),3)-astm(cityfufalt(BK87),3),\"\")","v":""},"","","",{"$f":"IF(AZ88=\"\",1, MIN(IFERROR((AZ88/1000)/((AW88*$J$22)*$J$21/3600),1),IFERROR((SUMIFS(AZ59:AZ93,AV59:AV93,\"<=\"&$AV88,AV59:AV93,\">=\"&$AV88-1)/1000)/(  $J$22*SUMIFS(AW59:AW93,AV59:AV93,\"<=\"&$AV88,AV59:AV93,\">=\"&$AV88-1)*$J$21/3600),1),IFERROR((SUMIFS(AZ59:AZ93,AV59:AV93,\"<=\"&$AV88,AV59:AV93,\">=\"&$AV88-2)/1000)/(  $J$22*SUMIFS(AW59:AW93,AV59:AV93,\"<=\"&$AV88,AV59:AV93,\">=\"&$AV88-2)*$J$21/3600),1),IFERROR((SUMIFS(AZ59:AZ93,AV59:AV93,\"<=\"&$AV88,AV59:AV93,\">=\"&$AV88-3)/1000)/(  $J$22*SUMIFS(AW59:AW93,AV59:AV93,\"<=\"&$AV88,AV59:AV93,\">=\"&$AV88-3)*$J$21/3600),1)) )","v":1},"",{"$f":"IF(AZ88=\"\",1, MIN($AZ88/SUM($AZ59:$AZ88),SUMIFS(AZ59:AZ93,AV59:AV93,\">=\"&$AV88-1,AV59:AV93,\"<=\"&$AV88)/SUM($AZ59:$AZ88),SUMIFS(AZ59:AZ93,AV59:AV93,\">=\"&$AV88-2,AV59:AV93,\"<=\"&$AV88)/SUM($AZ59:$AZ88),SUMIFS(AZ59:AZ93,AV59:AV93,\">=\"&$AV88-3,AV59:AV93,\"<=\"&$AV88)/SUM($AZ59:$AZ88)) )","v":1},null,30,"","","","","","","","",{"$f":"IFERROR(astm(highwayfuf(CC88)-highwayfuf(CC87),3),\"\")","v":""},"","","","","","",{"$f":"IFERROR(astm(mdiuf(CL88)-mdiuf(CL87),3),\"\")","v":""},"","",{"$f":"IFERROR(astm(highwayfufalt(CL88)-highwayfufalt(CL87),3),\"\")","v":""},"","","",{"$f":"IF(CA88=\"\",1, MIN(IFERROR((CA88/1000)/((BX88*$J$22)*$J$21/3600),1),IFERROR((SUMIFS(CA59:CA93,BW59:BW93,\"<=\"&$BW88,BW59:BW93,\">=\"&$BW88-1)/1000)/(  $J$22*SUMIFS(BX59:BX93,BW59:BW93,\"<=\"&$BW88,BW59:BW93,\">=\"&$BW88-1)*$J$21/3600),1),IFERROR((SUMIFS(CA59:CA93,BW59:BW93,\"<=\"&$BW88,BW59:BW93,\">=\"&$BW88-2)/1000)/(  $J$22*SUMIFS(BX59:BX93,BW59:BW93,\"<=\"&$BW88,BW59:BW93,\">=\"&$BW88-2)*$J$21/3600),1),IFERROR((SUMIFS(CA59:CA93,BW59:BW93,\"<=\"&$BW88,BW59:BW93,\">=\"&$BW88-3)/1000)/(  $J$22*SUMIFS(BX59:BX93,BW59:BW93,\"<=\"&$BW88,BW59:BW93,\">=\"&$BW88-3)*$J$21/3600),1)) )","v":1},"",{"$f":"IF(CA88=\"\",1, MIN($CA88/SUM($CA59:$CA88),SUMIFS(CA59:CA93,BW59:BW93,\">=\"&$BW88-1,BW59:BW93,\"<=\"&$BW88)/SUM($CA59:$CA88),SUMIFS(CA59:CA93,BW59:BW93,\">=\"&$BW88-2,BW59:BW93,\"<=\"&$BW88)/SUM($CA59:$CA88),SUMIFS(CA59:CA93,BW59:BW93,\">=\"&$BW88-3,BW59:BW93,\"<=\"&$BW88)/SUM($CA59:$CA88)) )","v":1}]
[null,null,"Comb CO2 Rounded Adj",null,null,{"$f":"astm(0.55*(IF($N$7+$N$55+$N$103=0,   (AQ25+AQ73+AQ121)/ ((AQ7<>0)+(AQ55<>0)+(AQ103<>0)),    (IFERROR($N$7*AQ25,0)+IFERROR($N$55*AQ73,0)+IFERROR($N$103*AQ121,0)) /  ($N$7+$N$55+$N$103)   ))+0.45*(IF($N$7+$N$55+$N$103=0,   (AR25+AR73+AR121)/ ((AR7<>0)+(AR55<>0)+(AR103<>0)),    (IFERROR($N$7*AR25,0)+IFERROR($N$55*AR73,0)+IFERROR($N$103*AR121,0)) /  ($N$7+$N$55+$N$103)   )),0)","v":0},null,null,null,null,null,null,null,null,null,null,31,null,null,null,null,null,null,null,31,null,null,null,null,null,null,null,null,null,null,null,null,null,null,null,null,"FUEL COSTS: PROCESS FOR DERIVING A COMPOSITE CD/CS COST PER MILE","CITY","HIGHWAY",null,null,null,31,"","","","",{"$f":"IFERROR(astm(  astm($W$94,3)*1000*(AZ89/AQ61),1),\"\")","v":""},"","","",{"$f":"IFERROR(astm(cityfuf(BB89),3)-astm(cityfuf(BB88),3),\"\")","v":""},"","","","","","",{"$f":"IFERROR(astm(mdiuf(BK89),3)-astm(mdiuf(BK88),3),\"\")","v":""},"","",{"$f":"IFERROR(astm(cityfufalt(BK89),3)-astm(cityfufalt(BK88),3),\"\")","v":""},"","","",{"$f":"IF(AZ89=\"\",1, MIN(IFERROR((AZ89/1000)/((AW89*$J$22)*$J$21/3600),1),IFERROR((SUMIFS(AZ59:AZ93,AV59:AV93,\"<=\"&$AV89,AV59:AV93,\">=\"&$AV89-1)/1000)/(  $J$22*SUMIFS(AW59:AW93,AV59:AV93,\"<=\"&$AV89,AV59:AV93,\">=\"&$AV89-1)*$J$21/3600),1),IFERROR((SUMIFS(AZ59:AZ93,AV59:AV93,\"<=\"&$AV89,AV59:AV93,\">=\"&$AV89-2)/1000)/(  $J$22*SUMIFS(AW59:AW93,AV59:AV93,\"<=\"&$AV89,AV59:AV93,\">=\"&$AV89-2)*$J$21/3600),1),IFERROR((SUMIFS(AZ59:AZ93,AV59:AV93,\"<=\"&$AV89,AV59:AV93,\">=\"&$AV89-3)/1000)/(  $J$22*SUMIFS(AW59:AW93,AV59:AV93,\"<=\"&$AV89,AV59:AV93,\">=\"&$AV89-3)*$J$21/3600),1)) )","v":1},"",{"$f":"IF(AZ89=\"\",1, MIN($AZ89/SUM($AZ59:$AZ89),SUMIFS(AZ59:AZ93,AV59:AV93,\">=\"&$AV89-1,AV59:AV93,\"<=\"&$AV89)/SUM($AZ59:$AZ89),SUMIFS(AZ59:AZ93,AV59:AV93,\">=\"&$AV89-2,AV59:AV93,\"<=\"&$AV89)/SUM($AZ59:$AZ89),SUMIFS(AZ59:AZ93,AV59:AV93,\">=\"&$AV89-3,AV59:AV93,\"<=\"&$AV89)/SUM($AZ59:$AZ89)) )","v":1},null,31,"","","","","","","","",{"$f":"IFERROR(astm(highwayfuf(CC89)-highwayfuf(CC88),3),\"\")","v":""},"","","","","","",{"$f":"IFERROR(astm(mdiuf(CL89)-mdiuf(CL88),3),\"\")","v":""},"","",{"$f":"IFERROR(astm(highwayfufalt(CL89)-highwayfufalt(CL88),3),\"\")","v":""},"","","",{"$f":"IF(CA89=\"\",1, MIN(IFERROR((CA89/1000)/((BX89*$J$22)*$J$21/3600),1),IFERROR((SUMIFS(CA59:CA93,BW59:BW93,\"<=\"&$BW89,BW59:BW93,\">=\"&$BW89-1)/1000)/(  $J$22*SUMIFS(BX59:BX93,BW59:BW93,\"<=\"&$BW89,BW59:BW93,\">=\"&$BW89-1)*$J$21/3600),1),IFERROR((SUMIFS(CA59:CA93,BW59:BW93,\"<=\"&$BW89,BW59:BW93,\">=\"&$BW89-2)/1000)/(  $J$22*SUMIFS(BX59:BX93,BW59:BW93,\"<=\"&$BW89,BW59:BW93,\">=\"&$BW89-2)*$J$21/3600),1),IFERROR((SUMIFS(CA59:CA93,BW59:BW93,\"<=\"&$BW89,BW59:BW93,\">=\"&$BW89-3)/1000)/(  $J$22*SUMIFS(BX59:BX93,BW59:BW93,\"<=\"&$BW89,BW59:BW93,\">=\"&$BW89-3)*$J$21/3600),1)) )","v":1},"",{"$f":"IF(CA89=\"\",1, MIN($CA89/SUM($CA59:$CA89),SUMIFS(CA59:CA93,BW59:BW93,\">=\"&$BW89-1,BW59:BW93,\"<=\"&$BW89)/SUM($CA59:$CA89),SUMIFS(CA59:CA93,BW59:BW93,\">=\"&$BW89-2,BW59:BW93,\"<=\"&$BW89)/SUM($CA59:$CA89),SUMIFS(CA59:CA93,BW59:BW93,\">=\"&$BW89-3,BW59:BW93,\"<=\"&$BW89)/SUM($CA59:$CA89)) )","v":1}]
[null,null,"*City CO2 Unadj",null,null,{"$f":"astm(IF($N$7+$N$55+$N$103=0,   (IFERROR(AQ24,0)+IFERROR(AQ72,0)+IFERROR(AQ120,0))/ ((AQ6<>0)+(AQ54<>0)+(AQ102<>0)),    (IFERROR($N$7*AQ24,0)+IFERROR($N$55*AQ72,0)+IFERROR($N$103*AQ120,0)) /  ($N$7+$N$55+$N$103)   ),1)","v":0},null,null,null,null,null,null,null,null,null,null,32,null,null,null,null,null,null,null,32,null,null,null,null,null,null,null,null,null,null,null,null,null,null,null,null,"CD cost per mile - electricity ($/mi) [3]",{"$f":"astm($F$37*$AQ$60/100,3)","v":0},{"$f":"astm($F$37*$AR$60/100,3)","v":0},null,null,null,32,"","","","",{"$f":"IFERROR(astm(  astm($W$94,3)*1000*(AZ90/AQ61),1),\"\")","v":""},"","","",{"$f":"IFERROR(astm(cityfuf(BB90),3)-astm(cityfuf(BB89),3),\"\")","v":""},"","","","","","",{"$f":"IFERROR(astm(mdiuf(BK90),3)-astm(mdiuf(BK89),3),\"\")","v":""},"","",{"$f":"IFERROR(astm(cityfufalt(BK90),3)-astm(cityfufalt(BK89),3),\"\")","v":""},"","","",{"$f":"IF(AZ90=\"\",1, MIN(IFERROR((AZ90/1000)/((AW90*$J$22)*$J$21/3600),1),IFERROR((SUMIFS(AZ59:AZ93,AV59:AV93,\"<=\"&$AV90,AV59:AV93,\">=\"&$AV90-1)/1000)/(  $J$22*SUMIFS(AW59:AW93,AV59:AV93,\"<=\"&$AV90,AV59:AV93,\">=\"&$AV90-1)*$J$21/3600),1),IFERROR((SUMIFS(AZ59:AZ93,AV59:AV93,\"<=\"&$AV90,AV59:AV93,\">=\"&$AV90-2)/1000)/(  $J$22*SUMIFS(AW59:AW93,AV59:AV93,\"<=\"&$AV90,AV59:AV93,\">=\"&$AV90-2)*$J$21/3600),1),IFERROR((SUMIFS(AZ59:AZ93,AV59:AV93,\"<=\"&$AV90,AV59:AV93,\">=\"&$AV90-3)/1000)/(  $J$22*SUMIFS(AW59:AW93,AV59:AV93,\"<=\"&$AV90,AV59:AV93,\">=\"&$AV90-3)*$J$21/3600),1)) )","v":1},"",{"$f":"IF(AZ90=\"\",1, MIN($AZ90/SUM($AZ59:$AZ90),SUMIFS(AZ59:AZ93,AV59:AV93,\">=\"&$AV90-1,AV59:AV93,\"<=\"&$AV90)/SUM($AZ59:$AZ90),SUMIFS(AZ59:AZ93,AV59:AV93,\">=\"&$AV90-2,AV59:AV93,\"<=\"&$AV90)/SUM($AZ59:$AZ90),SUMIFS(AZ59:AZ93,AV59:AV93,\">=\"&$AV90-3,AV59:AV93,\"<=\"&$AV90)/SUM($AZ59:$AZ90)) )","v":1},null,32,"","","","","","","","",{"$f":"IFERROR(astm(highwayfuf(CC90)-highwayfuf(CC89),3),\"\")","v":""},"","","","","","",{"$f":"IFERROR(astm(mdiuf(CL90)-mdiuf(CL89),3),\"\")","v":""},"","",{"$f":"IFERROR(astm(highwayfufalt(CL90)-highwayfufalt(CL89),3),\"\")","v":""},"","","",{"$f":"IF(CA90=\"\",1, MIN(IFERROR((CA90/1000)/((BX90*$J$22)*$J$21/3600),1),IFERROR((SUMIFS(CA59:CA93,BW59:BW93,\"<=\"&$BW90,BW59:BW93,\">=\"&$BW90-1)/1000)/(  $J$22*SUMIFS(BX59:BX93,BW59:BW93,\"<=\"&$BW90,BW59:BW93,\">=\"&$BW90-1)*$J$21/3600),1),IFERROR((SUMIFS(CA59:CA93,BW59:BW93,\"<=\"&$BW90,BW59:BW93,\">=\"&$BW90-2)/1000)/(  $J$22*SUMIFS(BX59:BX93,BW59:BW93,\"<=\"&$BW90,BW59:BW93,\">=\"&$BW90-2)*$J$21/3600),1),IFERROR((SUMIFS(CA59:CA93,BW59:BW93,\"<=\"&$BW90,BW59:BW93,\">=\"&$BW90-3)/1000)/(  $J$22*SUMIFS(BX59:BX93,BW59:BW93,\"<=\"&$BW90,BW59:BW93,\">=\"&$BW90-3)*$J$21/3600),1)) )","v":1},"",{"$f":"IF(CA90=\"\",1, MIN($CA90/SUM($CA59:$CA90),SUMIFS(CA59:CA93,BW59:BW93,\">=\"&$BW90-1,BW59:BW93,\"<=\"&$BW90)/SUM($CA59:$CA90),SUMIFS(CA59:CA93,BW59:BW93,\">=\"&$BW90-2,BW59:BW93,\"<=\"&$BW90)/SUM($CA59:$CA90),SUMIFS(CA59:CA93,BW59:BW93,\">=\"&$BW90-3,BW59:BW93,\"<=\"&$BW90)/SUM($CA59:$CA90)) )","v":1}]
[null,null,"*Hwy CO2 Unadj",null,null,{"$f":"astm(IF($N$7+$N$55+$N$103=0,   (IFERROR(AR24,0)+IFERROR(AR72,0)+IFERROR(AR120,0))/ ((AR6<>0)+(AR54<>0)+(AR102<>0)),    (IFERROR($N$7*AR24,0)+IFERROR($N$55*AR72,0)+IFERROR($N$103*AR120,0)) /  ($N$7+$N$55+$N$103)   ),1)","v":0},null,null,null,null,null,null,null,null,null,null,33,null,null,null,null,null,null,null,33,null,null,null,null,null,null,null,null,null,null,null,null,null,null,null,null,"CD cost per mile - gasoline ($/mi) [3]",{"$f":"astm($F$36*((SUMIF(AV59:AV93,\"<=\" & (AQ82-1),AW59:AW93) + AQ81*SUMIF(AV59:AV93,\"=\" & (AQ82-1),AW59:AW93))/AQ55),3)","v":{"$error":"#VALUE!"}},{"$f":"astm($F$36*((SUMIF(BW59:BW93,\"<=\" & (AR82-1),BX59:BX93) + AR81*SUMIF(BW59:BW93,\"=\" & (AR82-1),BX59:BX93))/AR55),3)","v":{"$error":"#VALUE!"}},null,null,null,33,"","","","",{"$f":"IFERROR(astm(  astm($W$94,3)*1000*(AZ91/AQ61),1),\"\")","v":""},"","","",{"$f":"IFERROR(astm(cityfuf(BB91),3)-astm(cityfuf(BB90),3),\"\")","v":""},"","","","","","",{"$f":"IFERROR(astm(mdiuf(BK91),3)-astm(mdiuf(BK90),3),\"\")","v":""},"","",{"$f":"IFERROR(astm(cityfufalt(BK91),3)-astm(cityfufalt(BK90),3),\"\")","v":""},"","","",{"$f":"IF(AZ91=\"\",1, MIN(IFERROR((AZ91/1000)/((AW91*$J$22)*$J$21/3600),1),IFERROR((SUMIFS(AZ59:AZ93,AV59:AV93,\"<=\"&$AV91,AV59:AV93,\">=\"&$AV91-1)/1000)/(  $J$22*SUMIFS(AW59:AW93,AV59:AV93,\"<=\"&$AV91,AV59:AV93,\">=\"&$AV91-1)*$J$21/3600),1),IFERROR((SUMIFS(AZ59:AZ93,AV59:AV93,\"<=\"&$AV91,AV59:AV93,\">=\"&$AV91-2)/1000)/(  $J$22*SUMIFS(AW59:AW93,AV59:AV93,\"<=\"&$AV91,AV59:AV93,\">=\"&$AV91-2)*$J$21/3600),1),IFERROR((SUMIFS(AZ59:AZ93,AV59:AV93,\"<=\"&$AV91,AV59:AV93,\">=\"&$AV91-3)/1000)/(  $J$22*SUMIFS(AW59:AW93,AV59:AV93,\"<=\"&$AV91,AV59:AV93,\">=\"&$AV91-3)*$J$21/3600),1)) )","v":1},"",{"$f":"IF(AZ91=\"\",1, MIN($AZ91/SUM($AZ59:$AZ91),SUMIFS(AZ59:AZ93,AV59:AV93,\">=\"&$AV91-1,AV59:AV93,\"<=\"&$AV91)/SUM($AZ59:$AZ91),SUMIFS(AZ59:AZ93,AV59:AV93,\">=\"&$AV91-2,AV59:AV93,\"<=\"&$AV91)/SUM($AZ59:$AZ91),SUMIFS(AZ59:AZ93,AV59:AV93,\">=\"&$AV91-3,AV59:AV93,\"<=\"&$AV91)/SUM($AZ59:$AZ91)) )","v":1},null,33,"","","","","","","","",{"$f":"IFERROR(astm(highwayfuf(CC91)-highwayfuf(CC90),3),\"\")","v":""},"","","","","","",{"$f":"IFERROR(astm(mdiuf(CL91)-mdiuf(CL90),3),\"\")","v":""},"","",{"$f":"IFERROR(astm(highwayfufalt(CL91)-highwayfufalt(CL90),3),\"\")","v":""},"","","",{"$f":"IF(CA91=\"\",1, MIN(IFERROR((CA91/1000)/((BX91*$J$22)*$J$21/3600),1),IFERROR((SUMIFS(CA59:CA93,BW59:BW93,\"<=\"&$BW91,BW59:BW93,\">=\"&$BW91-1)/1000)/(  $J$22*SUMIFS(BX59:BX93,BW59:BW93,\"<=\"&$BW91,BW59:BW93,\">=\"&$BW91-1)*$J$21/3600),1),IFERROR((SUMIFS(CA59:CA93,BW59:BW93,\"<=\"&$BW91,BW59:BW93,\">=\"&$BW91-2)/1000)/(  $J$22*SUMIFS(BX59:BX93,BW59:BW93,\"<=\"&$BW91,BW59:BW93,\">=\"&$BW91-2)*$J$21/3600),1),IFERROR((SUMIFS(CA59:CA93,BW59:BW93,\"<=\"&$BW91,BW59:BW93,\">=\"&$BW91-3)/1000)/(  $J$22*SUMIFS(BX59:BX93,BW59:BW93,\"<=\"&$BW91,BW59:BW93,\">=\"&$BW91-3)*$J$21/3600),1)) )","v":1},"",{"$f":"IF(CA91=\"\",1, MIN($CA91/SUM($CA59:$CA91),SUMIFS(CA59:CA93,BW59:BW93,\">=\"&$BW91-1,BW59:BW93,\"<=\"&$BW91)/SUM($CA59:$CA91),SUMIFS(CA59:CA93,BW59:BW93,\">=\"&$BW91-2,BW59:BW93,\"<=\"&$BW91)/SUM($CA59:$CA91),SUMIFS(CA59:CA93,BW59:BW93,\">=\"&$BW91-3,BW59:BW93,\"<=\"&$BW91)/SUM($CA59:$CA91)) )","v":1}]
[null,null,"*Comb CO2 Unadj",null,null,{"$f":"astm(0.55*(IF($N$7+$N$55+$N$103=0,   (IFERROR(AQ24,0)+IFERROR(AQ72,0)+IFERROR(AQ120,0))/ ((AQ6<>0)+(AQ54<>0)+(AQ102<>0)),    (IFERROR($N$7*AQ24,0)+IFERROR($N$55*AQ72,0)+IFERROR($N$103*AQ120,0)) /  ($N$7+$N$55+$N$103)   ))+0.45*(IF($N$7+$N$55+$N$103=0,   (IFERROR(AR24,0)+IFERROR(AR72,0)+IFERROR(AR120,0))/ ((AR6<>0)+(AR54<>0)+(AR102<>0)),    (IFERROR($N$7*AR24,0)+IFERROR($N$55*AR72,0)+IFERROR($N$103*AR120,0)) /  ($N$7+$N$55+$N$103)   )),1)","v":0},null,null,null,null,null,null,null,null,null,null,34,null,null,null,null,null,null,null,34,null,null,null,null,null,null,null,null,null,null,null,null,null,null,null,null,"CD total cost per mile ($/mi) [3]",{"$f":"astm(AQ91+AQ90,3)","v":{"$error":"#VALUE!"}},{"$f":"astm(AR91+AR90,3)","v":{"$error":"#VALUE!"}},null,null,null,34,"","","","",{"$f":"IFERROR(astm(  astm($W$94,3)*1000*(AZ92/AQ61),1),\"\")","v":""},"","","",{"$f":"IFERROR(astm(cityfuf(BB92),3)-astm(cityfuf(BB91),3),\"\")","v":""},"","","","","","",{"$f":"IFERROR(astm(mdiuf(BK92),3)-astm(mdiuf(BK91),3),\"\")","v":""},"","",{"$f":"IFERROR(astm(cityfufalt(BK92),3)-astm(cityfufalt(BK91),3),\"\")","v":""},"","","",{"$f":"IF(AZ92=\"\",1, MIN(IFERROR((AZ92/1000)/((AW92*$J$22)*$J$21/3600),1),IFERROR((SUMIFS(AZ59:AZ93,AV59:AV93,\"<=\"&$AV92,AV59:AV93,\">=\"&$AV92-1)/1000)/(  $J$22*SUMIFS(AW59:AW93,AV59:AV93,\"<=\"&$AV92,AV59:AV93,\">=\"&$AV92-1)*$J$21/3600),1),IFERROR((SUMIFS(AZ59:AZ93,AV59:AV93,\"<=\"&$AV92,AV59:AV93,\">=\"&$AV92-2)/1000)/(  $J$22*SUMIFS(AW59:AW93,AV59:AV93,\"<=\"&$AV92,AV59:AV93,\">=\"&$AV92-2)*$J$21/3600),1),IFERROR((SUMIFS(AZ59:AZ93,AV59:AV93,\"<=\"&$AV92,AV59:AV93,\">=\"&$AV92-3)/1000)/(  $J$22*SUMIFS(AW59:AW93,AV59:AV93,\"<=\"&$AV92,AV59:AV93,\">=\"&$AV92-3)*$J$21/3600),1)) )","v":1},"",{"$f":"IF(AZ92=\"\",1, MIN($AZ92/SUM($AZ59:$AZ92),SUMIFS(AZ59:AZ93,AV59:AV93,\">=\"&$AV92-1,AV59:AV93,\"<=\"&$AV92)/SUM($AZ59:$AZ92),SUMIFS(AZ59:AZ93,AV59:AV93,\">=\"&$AV92-2,AV59:AV93,\"<=\"&$AV92)/SUM($AZ59:$AZ92),SUMIFS(AZ59:AZ93,AV59:AV93,\">=\"&$AV92-3,AV59:AV93,\"<=\"&$AV92)/SUM($AZ59:$AZ92)) )","v":1},null,34,"","","","","","","","",{"$f":"IFERROR(astm(highwayfuf(CC92)-highwayfuf(CC91),3),\"\")","v":""},"","","","","","",{"$f":"IFERROR(astm(mdiuf(CL92)-mdiuf(CL91),3),\"\")","v":""},"","",{"$f":"IFERROR(astm(highwayfufalt(CL92)-highwayfufalt(CL91),3),\"\")","v":""},"","","",{"$f":"IF(CA92=\"\",1, MIN(IFERROR((CA92/1000)/((BX92*$J$22)*$J$21/3600),1),IFERROR((SUMIFS(CA59:CA93,BW59:BW93,\"<=\"&$BW92,BW59:BW93,\">=\"&$BW92-1)/1000)/(  $J$22*SUMIFS(BX59:BX93,BW59:BW93,\"<=\"&$BW92,BW59:BW93,\">=\"&$BW92-1)*$J$21/3600),1),IFERROR((SUMIFS(CA59:CA93,BW59:BW93,\"<=\"&$BW92,BW59:BW93,\">=\"&$BW92-2)/1000)/(  $J$22*SUMIFS(BX59:BX93,BW59:BW93,\"<=\"&$BW92,BW59:BW93,\">=\"&$BW92-2)*$J$21/3600),1),IFERROR((SUMIFS(CA59:CA93,BW59:BW93,\"<=\"&$BW92,BW59:BW93,\">=\"&$BW92-3)/1000)/(  $J$22*SUMIFS(BX59:BX93,BW59:BW93,\"<=\"&$BW92,BW59:BW93,\">=\"&$BW92-3)*$J$21/3600),1)) )","v":1},"",{"$f":"IF(CA92=\"\",1, MIN($CA92/SUM($CA59:$CA92),SUMIFS(CA59:CA93,BW59:BW93,\">=\"&$BW92-1,BW59:BW93,\"<=\"&$BW92)/SUM($CA59:$CA92),SUMIFS(CA59:CA93,BW59:BW93,\">=\"&$BW92-2,BW59:BW93,\"<=\"&$BW92)/SUM($CA59:$CA92),SUMIFS(CA59:CA93,BW59:BW93,\">=\"&$BW92-3,BW59:BW93,\"<=\"&$BW92)/SUM($CA59:$CA92)) )","v":1}]
[null,null,"*City CO2 Unrd Adj",null,null,{"$f":"astm(IF($N$7+$N$55+$N$103=0,   (AQ25+AQ73+AQ121)/ ((AQ7<>0)+(AQ55<>0)+(AQ103<>0)),    (IFERROR($N$7*AQ25,0)+IFERROR($N$55*AQ73,0)+IFERROR($N$103*AQ121,0)) /  ($N$7+$N$55+$N$103)   ),1)","v":0},null,null,null,null,null,null,null,null,null,null,35,null,null,null,null,null,null,null,35,null,null,null,null,null,null,null,null,null,null,null,null,null,null,null,null,"CS cost per mile ($/mi) [3]",{"$f":"astm($F$36/astm(N60,4),3)","v":{"$error":"#VALUE!"}},{"$f":"astm($F$36/astm(O60,4),3)","v":{"$error":"#VALUE!"}},null,null,null,35,"","","","",{"$f":"IFERROR(astm(  astm($W$94,3)*1000*(AZ93/AQ61),1),\"\")","v":""},"","","",{"$f":"IFERROR(astm(cityfuf(BB93),3)-astm(cityfuf(BB92),3),\"\")","v":""},"","","","","","",{"$f":"IFERROR(astm(mdiuf(BK93),3)-astm(mdiuf(BK92),3),\"\")","v":""},"","",{"$f":"IFERROR(astm(cityfufalt(BK93),3)-astm(cityfufalt(BK92),3),\"\")","v":""},"","","",{"$f":"IF(AZ93=\"\",1, MIN(IFERROR((AZ93/1000)/((AW93*$J$22)*$J$21/3600),1),IFERROR((SUMIFS(AZ59:AZ93,AV59:AV93,\"<=\"&$AV93,AV59:AV93,\">=\"&$AV93-1)/1000)/(  $J$22*SUMIFS(AW59:AW93,AV59:AV93,\"<=\"&$AV93,AV59:AV93,\">=\"&$AV93-1)*$J$21/3600),1),IFERROR((SUMIFS(AZ59:AZ93,AV59:AV93,\"<=\"&$AV93,AV59:AV93,\">=\"&$AV93-2)/1000)/(  $J$22*SUMIFS(AW59:AW93,AV59:AV93,\"<=\"&$AV93,AV59:AV93,\">=\"&$AV93-2)*$J$21/3600),1),IFERROR((SUMIFS(AZ59:AZ93,AV59:AV93,\"<=\"&$AV93,AV59:AV93,\">=\"&$AV93-3)/1000)/(  $J$22*SUMIFS(AW59:AW93,AV59:AV93,\"<=\"&$AV93,AV59:AV93,\">=\"&$AV93-3)*$J$21/3600),1)) )","v":1},"",{"$f":"IF(AZ93=\"\",1, MIN($AZ93/SUM($AZ59:$AZ93),SUMIFS(AZ59:AZ93,AV59:AV93,\">=\"&$AV93-1,AV59:AV93,\"<=\"&$AV93)/SUM($AZ59:$AZ93),SUMIFS(AZ59:AZ93,AV59:AV93,\">=\"&$AV93-2,AV59:AV93,\"<=\"&$AV93)/SUM($AZ59:$AZ93),SUMIFS(AZ59:AZ93,AV59:AV93,\">=\"&$AV93-3,AV59:AV93,\"<=\"&$AV93)/SUM($AZ59:$AZ93)) )","v":1},null,35,"","","","","","","","",{"$f":"IFERROR(astm(highwayfuf(CC93)-highwayfuf(CC92),3),\"\")","v":""},"","","","","","",{"$f":"IFERROR(astm(mdiuf(CL93)-mdiuf(CL92),3),\"\")","v":""},"","",{"$f":"IFERROR(astm(highwayfufalt(CL93)-highwayfufalt(CL92),3),\"\")","v":""},"","","",{"$f":"IF(CA93=\"\",1, MIN(IFERROR((CA93/1000)/((BX93*$J$22)*$J$21/3600),1),IFERROR((SUMIFS(CA59:CA93,BW59:BW93,\"<=\"&$BW93,BW59:BW93,\">=\"&$BW93-1)/1000)/(  $J$22*SUMIFS(BX59:BX93,BW59:BW93,\"<=\"&$BW93,BW59:BW93,\">=\"&$BW93-1)*$J$21/3600),1),IFERROR((SUMIFS(CA59:CA93,BW59:BW93,\"<=\"&$BW93,BW59:BW93,\">=\"&$BW93-2)/1000)/(  $J$22*SUMIFS(BX59:BX93,BW59:BW93,\"<=\"&$BW93,BW59:BW93,\">=\"&$BW93-2)*$J$21/3600),1),IFERROR((SUMIFS(CA59:CA93,BW59:BW93,\"<=\"&$BW93,BW59:BW93,\">=\"&$BW93-3)/1000)/(  $J$22*SUMIFS(BX59:BX93,BW59:BW93,\"<=\"&$BW93,BW59:BW93,\">=\"&$BW93-3)*$J$21/3600),1)) )","v":1},"",{"$f":"IF(CA93=\"\",1, MIN($CA93/SUM($CA59:$CA93),SUMIFS(CA59:CA93,BW59:BW93,\">=\"&$BW93-1,BW59:BW93,\"<=\"&$BW93)/SUM($CA59:$CA93),SUMIFS(CA59:CA93,BW59:BW93,\">=\"&$BW93-2,BW59:BW93,\"<=\"&$BW93)/SUM($CA59:$CA93),SUMIFS(CA59:CA93,BW59:BW93,\">=\"&$BW93-3,BW59:BW93,\"<=\"&$BW93)/SUM($CA59:$CA93)) )","v":1}]
[null,null,"*Hwy CO2 Unrnd Adj",null,null,{"$f":"astm(IF($N$7+$N$55+$N$103=0,   (AR25+AR73+AR121)/ ((AR7<>0)+(AR55<>0)+(AR103<>0)),    (IFERROR($N$7*AR25,0)+IFERROR($N$55*AR73,0)+IFERROR($N$103*AR121,0)) /  ($N$7+$N$55+$N$103)   ),1)","v":0},null,null,null,null,null,null,null,null,null,null,null,null,null,null,null,"Recharge energy (AC kilowatt-hours):",null,null,null,null,null,null,null,"Recharge energy (AC kilowatt-hours):",null,null,null,null,null,null,null,null,null,null,null,"Composite CD/CS cost ($/mi) [3]",{"$f":"astm(AQ79*AQ92+(1-AQ79)*AQ93,3)","v":{"$error":"#VALUE!"}},{"$f":"astm(AR79*AR92+(1-AR79)*AR93,3)","v":{"$error":"#VALUE!"}}]
[null,null,"*Comb CO2 Unrnd Adj",null,null,{"$f":"astm(0.55*(IF($N$7+$N$55+$N$103=0,   (AQ25+AQ73+AQ121)/ ((AQ7<>0)+(AQ55<>0)+(AQ103<>0)),    (IFERROR($N$7*AQ25,0)+IFERROR($N$55*AQ73,0)+IFERROR($N$103*AQ121,0)) /  ($N$7+$N$55+$N$103)   ))+0.45*(IF($N$7+$N$55+$N$103=0,   (AR25+AR73+AR121)/ ((AR7<>0)+(AR55<>0)+(AR103<>0)),    (IFERROR($N$7*AR25,0)+IFERROR($N$55*AR73,0)+IFERROR($N$103*AR103,0)) /  ($N$7+$N$55+$N$103)   )),1)","v":0},null,null,null,null,null,null,null,null,null,null,null,null,null,null,null,"All-Electric Range (miles):",null,null,null,null,null,null,null,"All-Electric Range (miles):",null,null,null,null,null,null,null,null,null,null,null,"COMPOSITE CD/CS FUEL ECONOMY AND CO2 VALUES, ADJUSTED","CITY","HIGHWAY"]
[null,null,"Charge-depleting Driving Range (Adjusted)",null,null,"miles",null,null,null,null,null,null,null,null,null,null,{"$f":"\"Calculated transition cycle:  \" &  IF(COUNTIF(BR59:BR88,\"CD\") < COUNT(R59:R88), COUNTIF(BR59:BR88,\"CD\"),     IF(COUNTIF(BT59:BT88,\"CD\") < COUNT(R59:R88), COUNTIF(BT59:BT88,\"CD\"),     \"ERROR\"     )     )","v":"Calculated transition cycle:  ERROR"},null,null,null,null,"To override transition cycle, enter here--->",null,null,{"$f":"\"Calculated transition cycle:  \" &  IF(COUNTIF(CS59:CS88,\"CD\") < COUNT(Z59:Z88), COUNTIF(CS59:CS88,\"CD\"),     IF(COUNTIF(CU59:CU88,\"CD\") < COUNT(Z59:Z88), COUNTIF(CU59:CU88,\"CD\"),     \"ERROR\"     )     )","v":"Calculated transition cycle:  ERROR"},null,null,null,null,"To override transition cycle, enter here--->",null,null,null,null,null,null,null,null,null,null,null,"Composite CD/CS CO2, adjusted (g/mi) [1]",{"$f":"astm(IFERROR(AQ74+(1-AQ80)*N63,#VALUE!),1)","v":0},{"$f":"astm(IFERROR(AR74+(1-AR80)*O63,#VALUE!),1)","v":0}]
[null,null,"City Range on Electricity (miles)",null,null,{"$f":"astm(D19,2)","v":19.78},null,null,null,null,null,null,null,null,null,null,null,null,null,null,null,null,null,null,null,null,null,null,null,null,null,null,null,null,null,null,null,null,null,null,null,"Composite CD/CS Fuel Economy, adjusted (MPG) [4]",{"$f":"IFERROR(astm( IFERROR(1/ ( AQ65 + (1-AQ80)/N60),#VALUE!), 4),0)","v":0},{"$f":"IFERROR(astm( IFERROR(1/ ( AR65 + (1-AR80)/O60),#VALUE!), 4),0)","v":0}]
[null,null,"Hwy Range on Electricity (miles)",null,null,{"$f":"astm(E19,2)","v":28.72}]
[null,null,"Comb Range on Electricity as shown on FE Label (miles)",null,null,{"$f":"F19","v":24},null,null,null,null,null,null,"Test Set #3",null,null,null,null,null,null,null,null,null,null,null,null,null,null,null,null,null,null,null,null,null,"Results from Test Set #3:",{"$f":"N100","v":0},null,null,null,null,"INTERMEDIATE CALCULATIONS AND INPUTS",null,"Test Set #3:",{"$f":"N101","v":0}]
[null,null,"All-Electric Driving Range (Adjusted)",null,null,"miles",null,null,null,null,null,null,null,null,null,null,null,null,null,null,null,null,null,null,null,null,null,null,null,null,null,null,null,null,"CAFE Values",null,null,null,null,null,"Charge-Depleting (CD) Test Results",null,null,null,null,null,null,"DETAILED CALCULATIONS",null,"UDDS",{"$f":"$AR99","v":0},null,null,null,null,null,null,null,null,null,null,null,null,null,null,null,null,null,null,null,null,null,null,null,"DETAILED CALCULATIONS",null,"HFET",{"$f":"AR99","v":0}]
[null,null,"City All-Electric Range",null,null,{"$f":"astm(D20,2)","v":21.94},null,null,null,null,null,null,null,null,null,null,"ENTER CHARGE-DEPLETING UDDS (CITY) DATA HERE",null,null,null,null,null,null,null,"ENTER CHARGE-DEPLETING HFET (HIGHWAY) DATA HERE",null,null,null,null,null,null,null,null,null,"A. PHEV meets dual fuel criteria:","City","Highway","Combined",null,null,null,"DRIVING DISTANCE VALUES","CITY","HIGHWAY",null,null,null,"Cycle No.","Gasoline Consumed","CO2\n[0]","Net Amp-Hours Used Per Cycle [3]","DC Electricity Consumed\n[1]","AC Electricity Consumed\n[1]","Theoretical Cumulative Cycle Distance","Electric Only Fuel Consumption Rate","Total Fuel Consumption Rate (gas + electric)","55/45 City Fleet Utility Factor\n[3]","55/45 City FUF\nx\nCREE","55/45 City FUF\nx\nTotal Consumption","Total Fuel Consumption (gas + electric)","5-Cycle Adjustment","Adjusted Cycle Measured Distance","Adjusted Cycle Theoretical Cumulative Distance","MDIUF\n[3]","MDIUF\nx\nAdjusted CO2","MDIUF\nx\nAdjusted Total Fuel Consumption","43/57 City Fleet Utility Factor\n[3]","43/57 City FUF x\nAdjusted Total Fuel Consumption Rate","43/57 City FUF\nx\nAdjusted CREE","Is Cycle CD or CS based on NEC 1% Tolerance?","NEC Tolerance 1% Fuel Energy Criteria","Is Cycle CD or CS based on battery 2% Tolerance?","NEC Tolerance 2% Usable Battery Energy Criteria",null,"Cycle No.","Gasoline Consumed","CO2\n[0]","Net Amp-Hours Used Per Cycle [3]","DC Electricity Consumed\n[1]","AC Electricity Consumed\n[1]","Theoretical Cumulative Cycle Distance","Electric Only Fuel Consumption Rate","Total Fuel Consumption Rate (gas + electric)","55/45 Highway Fleet Utility Factor\n[3]","55/45 Highway FUF\nx\nCREE","55/45 Highway FUF\nx\nTotal Consumption","Total Fuel Consumption (gas + electric)","5-Cycle Adjustment","Adjusted Cycle Measured Distance","Adjusted Cycle Theoretical Cumulative Distance","MDIUF\n[3]","MDIUF\nx\nAdjusted CO2","MDIUF\nx\nAdjusted Total Fuel Consumption","43/57 Highway Fleet Utility Factor\n[3]","43/57 Highway FUF x\nAdjusted Total Fuel Consumption Rate","43/57 Highway FUF\nx\nAdjusted CREE","Is Cycle CD or CS based on NEC 1% Tolerance?","NEC Tolerance 1% Fuel Energy Criteria","Is Cycle CD or CS based on battery 2% Tolerance?","NEC Tolerance 2% Usable Battery Energy Criteria"]
[null,null,"Hwy All-Electric Range",null,null,{"$f":"astm(E20,2)","v":21.09},null,null,null,null,null,null,"Test Set name (e.g., Eco, Power):",null,null,null,"Cycle No.","Cycle/Phase Measured Distance","Integrated Amp-Hours Electricity Used","Average Cycle Voltage","Fuel Economy","CO2","CREE",null,"Cycle No.","Cycle/Phase Measured Distance","Integrated Amp-Hours Electricity Used","Average Cycle Voltage","Fuel Economy","CO2","CREE",null,null,null," 1. Default 50/50 Composite MPGe [4]",{"$f":"IFERROR(astm(1/(0.5/(  (  $J$18  )   /(AQ107/AQ133))+0.5/N107),4),0)","v":0},{"$f":"IFERROR(astm(1/(0.5/(  (  $J$18  )   /(AR107/AR133))+0.5/O107),4),0)","v":0},{"$f":"IFERROR(astm(1/(0.55/AJ102+0.45/AK102),4),0)","v":0},null,null,null,"CD driving distance (Rcda), unadjusted (miles) [3]",{"$f":"IFERROR(astm(SUMIF(Q107:Q141,\"<=\" & ($AQ130-1),R107:R141) + AQ129*VLOOKUP($AQ130,Q107:R141,2,FALSE),3),0)","v":0},{"$f":"IFERROR(astm(SUMIF(Y107:Y141,\"<=\" & ($AR130-1),Z107:Z141) + AR129*VLOOKUP($AR130,Y107:Z141,2,FALSE),3),0)","v":0}]
[null,null,"Comb All-Electric Range as shown on FE Label (miles)",null,null,{"$f":"F20","v":22},null,null,null,null,null,null,"Production Volume (projected or actual):",null,null,null,null,null,null,null,null,null,null,null,null,null,null,null,null,null,null,null,null,null," 2. Optional Utility Factor Composite MPGe [4]",{"$f":"IFERROR(astm(1/(  AQ136 /   (  ( $J$18   )   /   (AQ107/AQ133))       +        (1-AQ136)/N107), 4),0)","v":0},{"$f":"IFERROR(astm(1/(  AR136 /   (  ( $J$18   )   /   (AR107/AR133))       +        (1-AR136)/O107), 4),0)","v":0},{"$f":"IFERROR(astm(1/(0.55/AJ103+0.45/AK103),4),0)","v":0},null,null,null,"CD driving distance (Rcda), adjusted (miles) [3]",{"$f":"IFERROR(astm(SUMIF(AV107:AV141,\"<\"&AQ130,BJ107:BJ141)+AQ129*SUMIF(AV107:AV141,\"=\"&AQ130,BJ107:BJ141),3),0)","v":0},{"$f":"IFERROR(astm(SUMIF(BW107:BW141,\"<\"&AR130,CK107:CK141)+AR129*SUMIF(BW107:BW141,\"=\"&AR130,CK107:CK141),3),0)","v":0}]
[null,null,"Charge-depleting Utility Factors",null,null,"UF",null,null,null,null,null,null,null,null,null,null,null,null,null,null,null,null,null,null,null,null,null,null,null,null,null,null,null,null,"B. PHEV does NOT meet dual fuel criteria:","City","Highway","Combined",null,null,null,"CD all-electric driving distance, unadjusted (miles) [3]",{"$f":"  IF(ISNUMBER(W143), astm(W143,3), 0)","v":0},{"$f":" IF(ISNUMBER(AE143), astm(AE143,3), 0)","v":0}]
[null,null,"City Utility Factor (MDIUF)",null,null,{"$f":"astm(mdiuf(D19),3)","v":0.45300000000000001},null,null,null,null,null,null,"ENTER CHARGE-SUSTAINING TEST RESULTS HERE",null,null,null,null,null,null,null,null,null,null,null,null,null,null,null,null,null,null,null,null,null,"  1. Utility Factor Composite MPGe [4]",{"$f":"IFERROR(astm(1/ ( AQ111 + (1-AQ126)/N107),4),0)","v":0},{"$f":"IFERROR(astm(1/ ( AR111 + (1-AR126)/O107),4),0)","v":0},{"$f":"IFERROR(astm(1/(0.55/AJ105+0.45/AK105),4),0)","v":0},null,null,null,"CD All-Electric Range, adjusted (mi) [3]",{"$f":"astm( 0.7*AQ104, 3)","v":0},{"$f":"astm( 0.7*AR104, 3)","v":0}]
[null,null,"Hwy Utility Factor (MDIUF)",null,null,{"$f":"astm(mdiuf(E19),3)","v":0.57199999999999995},null,null,null,null,null,null,null,"City","Highway",null,"No.","Miles [3]","Amp-hrs [3]","Volts [2]","MPG [1]","g/mi [0]","g/mi [0]",null,"No.","Miles [3]","Amp-hrs [3]","Volts [2]","MPG [1]","g/mi [0]","g/mi [0]",null,null,null,"GHG Values","City","Highway","Combined",null,null,null,"FUEL CONSUMPTION & ECONOMY VALUES","CITY","HIGHWAY",null,null,null,"No.","gal","grams","Amp-hours","W-hours","W-hours","mi","gal/mi equiv","gal/mi equiv","UF","UF","gal/mi equiv","gal-equiv","%","miles","miles","UF","g/mi","gal/mi equiv","UF","gal/mi equiv","g/mi","CD or CS",null,"CD or CS",null,null,"No.","gal","grams","Amp-hours","W-hours","W-hours","mi","gal/mi equiv","gal/mi equiv","UF","UF","gal/mi equiv","gal-equiv","%","miles","miles","UF","g/mi","gal-equiv","UF","gal-equiv","g/mi","CD or CS",null,"CD or CS"]
[null,null,"Comb Utility Factor (MDIUF)",null,null,{"$f":"astm(mdiuf(0.55*D19+0.45*E19),3)","v":0.51100000000000001},null,null,null,null,null,null,"Fuel Economy, Unadjusted (MPG):",null,null,null,1,null,null,null,null,null,null,null,1,null,null,null,null,null,null,null,null,null,"Composite CREE, without upstream emissions [1]",{"$f":"IFERROR(IF(OR(SUM(W107:W141)=0,N109=0,ISBLANK(N109), LOOKUP(2,1/(W107:W141<>\"\"),ROW(W107:W141)) < LOOKUP(2,1/(R107:R141<>\"\"),ROW(R107:R141))   ),\"ERROR\",astm(AQ123+(1-AQ126)*N109,1)),0)","v":0},{"$f":"IFERROR(IF(OR(SUM(AE107:AE141)=0,O109=0,ISBLANK(O109), LOOKUP(2,1/(AE107:AE141<>\"\"),ROW(AE107:AE141)) < LOOKUP(2,1/(Z107:Z141<>\"\"),ROW(Z107:Z136))   ),\"ERROR\",astm(AR123+(1-AR126)*O109,1)),0)","v":0},{"$f":"IFERROR(astm(0.55*AJ107+0.45*AK107,1),0)","v":0},null,null,"NEW","CD AC electricity consumption (Rcdc), unadjusted (Watt-hours) [1]",{"$f":"astm(SUMIF(AV107:AV141,\"<=\" & AQ130,BA107:BA141),1)","v":0},{"$f":"astm(SUMIF(BW107:BW141,\"<=\" & AR130,CB107:CB141),1)","v":0},null,null,null,1,{"$f":"IF(ISBLANK(R107),\"\", IF(astm(V107,0)=0, 0,         IFERROR(astm(R107,3)/astm(U107,1),0))  )","v":""},{"$f":"IF(ISBLANK(R107),\"\", IF(astm(V107,0)=0,0,               astm(  astm(V107,0)*astm(R107,3), 0)  ) )","v":""},{"$f":"IF( ISBLANK(S107),\"\",astm(S107,3))","v":""},{"$f":"IF(ISBLANK(T107),\"\",astm(AY107*astm(T107,2),1))","v":""},{"$f":"IFERROR(astm(  astm($W$142,3)*1000*(AZ107/AQ109),1),\"\")","v":""},{"$f":"IF(ISBLANK(R107),\"\",7.45)","v":""},{"$f":"IFERROR(BA107/($J$19*astm(R107,3)),\"\")","v":""},{"$f":"IFERROR(BC107+AW107/astm(R107,3),\"\")","v":""},{"$f":"astm(IFERROR(astm(cityfuf(BB107)-0,3),\"\"),3)","v":{"$error":"#VALUE!"}},{"$f":"IF(ISBLANK(R107),\"\",  IF(astm(V107,0)=0, 0, IFERROR(BE107*astm(W107,0),\"\")  )  )","v":""},{"$f":"IFERROR(BD107*BE107,\"\")","v":""},{"$f":"IFERROR(BD107*astm(R107,3),\"\")","v":""},{"$f":"  IF( $J$5>=2017,    IFERROR(MAX(1/(0.004091*(1/BD107)+1.1601),0.7),\"\"),    IFERROR(MAX(1/(0.003259*(1/BD107)+1.1805),0.7),\"\")  )","v":""},{"$f":"  IFERROR(BI107*astm(R107,3),\"\")","v":""},{"$f":"  IFERROR(BI107*7.45,\"\")","v":""},{"$f":"IFERROR(astm(mdiuf(BK107)-0,3),\"\")","v":""},{"$f":" IF(ISBLANK(R107),\"\",   IF( astm(V107,0)=0, 0,    IFERROR(BL107*astm(V107,0)/(BI107),\"\")  ) )","v":""},{"$f":"IFERROR(BL107*BD107/BI107,\"\")","v":""},{"$f":"IFERROR(astm(cityfufalt(BK107)-0,3),\"\")","v":""},{"$f":"IFERROR(BO107*BD107/BI107,\"\")","v":""},{"$f":" IF(ISBLANK(R107),\"\",   IF( astm(V107,0)=0, 0,    IFERROR(BO107*astm(W107,0)/(BI107),\"\") ) )","v":""},{"$f":"IF(AZ107=\"\",\"\", IF(ABS(BS107)<0.01,\"CS based on 1% fuel energy\", \"CD\"))","v":""},{"$f":"IF(AZ107=\"\",1, MIN(IFERROR((AZ107/1000)/((AW107*$J$22)*$J$21/3600),1),IFERROR((SUMIFS(AZ107:AZ141,AV107:AV141,\"<=\"&$AV107,AV107:AV141,\">=\"&$AV107-1)/1000)/(  $J$22*SUMIFS(AW107:AW141,AV107:AV141,\"<=\"&$AV107,AV107:AV141,\">=\"&$AV107-1)*$J$21/3600),1),IFERROR((SUMIFS(AZ107:AZ141,AV107:AV141,\"<=\"&$AV107,AV107:AV141,\">=\"&$AV107-2)/1000)/(  $J$22*SUMIFS(AW107:AW141,AV107:AV141,\"<=\"&$AV107,AV107:AV141,\">=\"&$AV107-2)*$J$21/3600),1),IFERROR((SUMIFS(AZ107:AZ141,AV107:AV141,\"<=\"&$AV107,AV107:AV141,\">=\"&$AV107-3)/1000)/(  $J$22*SUMIFS(AW107:AW141,AV107:AV141,\"<=\"&$AV107,AV107:AV141,\">=\"&$AV107-3)*$J$21/3600),1)) )","v":1},{"$f":"IF(AZ107=\"\",\"\", IF(ABS(BU107)<0.02,\"CS based on 2% battery energy\",\"CD\"))","v":""},{"$f":"IF(AZ107=\"\",1, MIN($AZ107/SUM($AZ107:$AZ107),SUMIFS(AZ107:AZ141,AV107:AV141,\">=\"&$AV107-1,AV107:AV141,\"<=\"&$AV107)/SUM($AZ107:$AZ107),SUMIFS(AZ107:AZ141,AV107:AV141,\">=\"&$AV107-2,AV107:AV141,\"<=\"&$AV107)/SUM($AZ107:$AZ107),SUMIFS(AZ107:AZ141,AV107:AV141,\">=\"&$AV107-3,AV107:AV141,\"<=\"&$AV107)/SUM($AZ107:$AZ107)) )","v":1},null,1,{"$f":"IF(ISBLANK(Z107),\"\", IF(astm(AD107,0)=0, 0,         IFERROR(astm(Z107,3)/astm(AC107,1),0))  )","v":""},{"$f":"IF(ISBLANK(Z107),\"\", IF(astm(AD107,0)=0,0,               astm(AD107,0)*astm(Z107,3)) )","v":""},{"$f":"IF(ISBLANK(AA107),\"\",astm(AA107,3))","v":""},{"$f":"IF(ISBLANK(AB107),\"\",astm(BZ107*astm(AB107,2),1))","v":""},{"$f":"IFERROR( astm(astm($AE$142,3)*1000*(CA107/$AR$109),1),\"\")","v":""},{"$f":"IF(ISBLANK(Z107),\"\",10.3)","v":""},{"$f":"IFERROR(CB107/($J$19*astm(Z107,3)),\"\")","v":""},{"$f":"IFERROR(CD107+BX107/astm(Z107,3),\"\")","v":""},{"$f":"IFERROR(astm(highwayfuf(CC107)-0,3),\"\")","v":""},{"$f":" IF(ISBLANK(Z107),\"\",   IF( astm(AD107,0)=0, 0,       IFERROR(CF107*astm(AE107,0),\"\")  ) )","v":""},{"$f":"IFERROR(CE107*CF107,\"\")","v":""},{"$f":"IFERROR(CE107*astm(Z107,3),\"\")","v":""},{"$f":"  IF( $J$5>=2017,    IFERROR(MAX(1/(0.003191*(1/CE107)+1.2945),0.7),\"\"),   IFERROR(MAX(1/(0.001376*(1/CE107)+1.3466),0.7),\"\")  )","v":""},{"$f":"   IFERROR(CJ107*astm(Z107,3),\"\")","v":""},{"$f":"     IFERROR(CJ107*10.3,\"\")","v":""},{"$f":"IFERROR(astm(mdiuf(CL107)-0,3),\"\")","v":""},{"$f":" IF(ISBLANK(Z107),\"\",   IF( astm(AD107,0)=0, 0,    IFERROR(CM107*astm(AD107,0)/(CJ107),\"\") ) )","v":""},{"$f":"IFERROR(CM107*CE107/CJ107,\"\")","v":""},{"$f":"IFERROR(astm(highwayfufalt(CL107)-0,3),\"\")","v":""},{"$f":"IFERROR(CP107*CE107/CJ107,\"\")","v":""},{"$f":" IF(ISBLANK(Z107),\"\",   IF( astm(AD107,0)=0, 0,    IFERROR(CP107*astm(AE107,0)/(CJ107),\"\") ) )","v":""},{"$f":"IF($CA107=\"\",\"\", IF(ABS(CT107)<0.01,\"CS based on 1% fuel energy\",\"CD\"))","v":""},{"$f":"IF(CA107=\"\",1, MIN(IFERROR((CA107/1000)/((BX107*$J$22)*$J$21/3600),1),IFERROR((SUMIFS(CA107:CA141,BW107:BW141,\"<=\"&$BW107,BW107:BW141,\">=\"&$BW107-1)/1000)/(  $J$22*SUMIFS(BX107:BX141,BW107:BW141,\"<=\"&$BW107,BW107:BW141,\">=\"&$BW107-1)*$J$21/3600),1),IFERROR((SUMIFS(CA107:CA141,BW107:BW141,\"<=\"&$BW107,BW107:BW141,\">=\"&$BW107-2)/1000)/(  $J$22*SUMIFS(BX107:BX141,BW107:BW141,\"<=\"&$BW107,BW107:BW141,\">=\"&$BW107-2)*$J$21/3600),1),IFERROR((SUMIFS(CA107:CA141,BW107:BW141,\"<=\"&$BW107,BW107:BW141,\">=\"&$BW107-3)/1000)/(  $J$22*SUMIFS(BX107:BX141,BW107:BW141,\"<=\"&$BW107,BW107:BW141,\">=\"&$BW107-3)*$J$21/3600),1)) )","v":1},{"$f":"IF($CA107=\"\",\"\", IF(ABS(CV107)<0.02,\"CS based on 2% battery energy\",\"CD\"))","v":""},{"$f":"IF(CA107=\"\",1, MIN($CA107/SUM($CA107:$CA107),SUMIFS(CA107:CA141,BW107:BW141,\">=\"&$BW107-1,BW107:BW141,\"<=\"&$BW107)/SUM($CA107:$CA107),SUMIFS(CA107:CA141,BW107:BW141,\">=\"&$BW107-2,BW107:BW141,\"<=\"&$BW107)/SUM($CA107:$CA107),SUMIFS(CA107:CA141,BW107:BW141,\">=\"&$BW107-3,BW107:BW141,\"<=\"&$BW107)/SUM($CA107:$CA107)) )","v":1}]
[null,null,"Composite Efficiency (Adjusted)",null,null,"MPGe",null,null,null,null,null,null,"Fuel Economy, Adjusted (MPG):",null,null,null,2,null,null,null,null,null,null,null,2,null,null,null,null,null,null,null,null,null,null,null,null,null,null,null,null,"CD AC electricity consumption rate (Rcda), adjusted  (kW-hr/100mi) [3]",{"$f":"IFERROR(astm( astm(W142,3)*100/AQ103,3),0)","v":0},{"$f":"IFERROR(astm( astm(AE142,3)*100/AR103,3),0)","v":0},null,null,null,2,"","",{"$f":"IF(ISBLANK(S108),\"\",(astm(S108,3)-astm(S107,3)))","v":""},"",{"$f":"IFERROR(astm(  astm($W$142,3)*1000*(AZ108/AQ109),1),\"\")","v":""},{"$f":"IF(ISBLANK(R108),\"\",7.45+BB107)","v":""},"","",{"$f":"IFERROR(astm(cityfuf(BB108),3)-astm(cityfuf(BB107),3),\"\")","v":""},"",{"$f":"IFERROR(BD108*BE108,\"\")","v":""},"","","",{"$f":" IFERROR(BI108*7.45+BK107,\"\")","v":""},{"$f":"IFERROR(astm(mdiuf(BK108),3)-astm(mdiuf(BK107),3),\"\")","v":""},"","",{"$f":"IFERROR(astm(cityfufalt(BK108),3)-astm(cityfufalt(BK107),3),\"\")","v":""},"","","",{"$f":"IF(AZ108=\"\",1, MIN(IFERROR((AZ108/1000)/((AW108*$J$22)*$J$21/3600),1),IFERROR((SUMIFS(AZ107:AZ141,AV107:AV141,\"<=\"&$AV108,AV107:AV141,\">=\"&$AV108-1)/1000)/(  $J$22*SUMIFS(AW107:AW141,AV107:AV141,\"<=\"&$AV108,AV107:AV141,\">=\"&$AV108-1)*$J$21/3600),1),IFERROR((SUMIFS(AZ107:AZ141,AV107:AV141,\"<=\"&$AV108,AV107:AV141,\">=\"&$AV108-2)/1000)/(  $J$22*SUMIFS(AW107:AW141,AV107:AV141,\"<=\"&$AV108,AV107:AV141,\">=\"&$AV108-2)*$J$21/3600),1),IFERROR((SUMIFS(AZ107:AZ141,AV107:AV141,\"<=\"&$AV108,AV107:AV141,\">=\"&$AV108-3)/1000)/(  $J$22*SUMIFS(AW107:AW141,AV107:AV141,\"<=\"&$AV108,AV107:AV141,\">=\"&$AV108-3)*$J$21/3600),1)) )","v":1},"",{"$f":"IF(AZ108=\"\",1, MIN($AZ108/SUM($AZ107:$AZ108),SUMIFS(AZ107:AZ141,AV107:AV141,\">=\"&$AV108-1,AV107:AV141,\"<=\"&$AV108)/SUM($AZ107:$AZ108),SUMIFS(AZ107:AZ141,AV107:AV141,\">=\"&$AV108-2,AV107:AV141,\"<=\"&$AV108)/SUM($AZ107:$AZ108),SUMIFS(AZ107:AZ141,AV107:AV141,\">=\"&$AV108-3,AV107:AV141,\"<=\"&$AV108)/SUM($AZ107:$AZ108)) )","v":1},null,2,"","",{"$f":"IF(ISBLANK(AA108),\"\",(astm(AA108,3)-astm(AA107,3)))","v":""},"","",{"$f":"IF(ISBLANK(Z108),\"\",10.3+CC107)","v":""},"","",{"$f":"IFERROR(astm(highwayfuf(CC108)-highwayfuf(CC107),3),\"\")","v":""},"","","","","",{"$f":"  IFERROR(CJ108*10.3+CL107,\"\")","v":""},{"$f":"IFERROR(astm(mdiuf(CL108)-mdiuf(CL107),3),\"\")","v":""},"","",{"$f":"IFERROR(astm(highwayfufalt(CL108)-highwayfufalt(CL107),3),\"\")","v":""},"","",{"$f":"IF(CA108=\"\",\"\", IF(ABS(CT108)<0.01,\"CS based on 1% fuel energy\",\"CD\"))","v":""},{"$f":"IF(CA108=\"\",1, MIN(IFERROR((CA108/1000)/((BX108*$J$22)*$J$21/3600),1),IFERROR((SUMIFS(CA107:CA141,BW107:BW141,\"<=\"&$BW108,BW107:BW141,\">=\"&$BW108-1)/1000)/(  $J$22*SUMIFS(BX107:BX141,BW107:BW141,\"<=\"&$BW108,BW107:BW141,\">=\"&$BW108-1)*$J$21/3600),1),IFERROR((SUMIFS(CA107:CA141,BW107:BW141,\"<=\"&$BW108,BW107:BW141,\">=\"&$BW108-2)/1000)/(  $J$22*SUMIFS(BX107:BX141,BW107:BW141,\"<=\"&$BW108,BW107:BW141,\">=\"&$BW108-2)*$J$21/3600),1),IFERROR((SUMIFS(CA107:CA141,BW107:BW141,\"<=\"&$BW108,BW107:BW141,\">=\"&$BW108-3)/1000)/(  $J$22*SUMIFS(BX107:BX141,BW107:BW141,\"<=\"&$BW108,BW107:BW141,\">=\"&$BW108-3)*$J$21/3600),1)) )","v":1},{"$f":"IF($CA108=\"\",\"\", IF(ABS(CV108)<0.02,\"CS based on 2% battery energy\",\"CD\"))","v":""},{"$f":"IF(CA108=\"\",1, MIN($CA108/SUM($CA107:$CA108),SUMIFS(CA107:CA141,BW107:BW141,\">=\"&$BW108-1,BW107:BW141,\"<=\"&$BW108)/SUM($CA107:$CA108),SUMIFS(CA107:CA141,BW107:BW141,\">=\"&$BW108-2,BW107:BW141,\"<=\"&$BW108)/SUM($CA107:$CA108),SUMIFS(CA107:CA141,BW107:BW141,\">=\"&$BW108-3,BW107:BW141,\"<=\"&$BW108)/SUM($CA107:$CA108)) )","v":1}]
[null,null,"City PHEV Composite MPGe",null,null,{"$f":"astm(D32,0)","v":42},null,null,null,null,null,null,"CREE (g/mi):",null,null,null,3,null,null,null,null,null,null,null,3,null,null,null,null,null,null,null,null,null,"Label Values (5-Cycle Adjusted)",null,null,null,null,null,null,"CD test total DC energy consumed, unadjusted (Watt-hours) [1]",{"$f":"astm(SUM(AZ107:AZ141),1)","v":0},{"$f":"astm(SUM(CA107:CA141),1)","v":0},null,null,null,3,"","","","",{"$f":"IFERROR(astm(  astm($W$142,3)*1000*(AZ109/AQ109),1),\"\")","v":""},"","","",{"$f":"IFERROR(astm(cityfuf(BB109),3)-astm(cityfuf(BB108),3),\"\")","v":""},"","","","","",{"$f":" IFERROR(BI109*7.45+BK108,\"\")","v":""},{"$f":"IFERROR(astm(mdiuf(BK109),3)-astm(mdiuf(BK108),3),\"\")","v":""},"","",{"$f":"IFERROR(astm(cityfufalt(BK109),3)-astm(cityfufalt(BK108),3),\"\")","v":""},"","","",{"$f":"IF(AZ109=\"\",1, MIN(IFERROR((AZ109/1000)/((AW109*$J$22)*$J$21/3600),1),IFERROR((SUMIFS(AZ107:AZ141,AV107:AV141,\"<=\"&$AV109,AV107:AV141,\">=\"&$AV109-1)/1000)/(  $J$22*SUMIFS(AW107:AW141,AV107:AV141,\"<=\"&$AV109,AV107:AV141,\">=\"&$AV109-1)*$J$21/3600),1),IFERROR((SUMIFS(AZ107:AZ141,AV107:AV141,\"<=\"&$AV109,AV107:AV141,\">=\"&$AV109-2)/1000)/(  $J$22*SUMIFS(AW107:AW141,AV107:AV141,\"<=\"&$AV109,AV107:AV141,\">=\"&$AV109-2)*$J$21/3600),1),IFERROR((SUMIFS(AZ107:AZ141,AV107:AV141,\"<=\"&$AV109,AV107:AV141,\">=\"&$AV109-3)/1000)/(  $J$22*SUMIFS(AW107:AW141,AV107:AV141,\"<=\"&$AV109,AV107:AV141,\">=\"&$AV109-3)*$J$21/3600),1)) )","v":1},"",{"$f":"IF(AZ109=\"\",1, MIN($AZ109/SUM($AZ107:$AZ109),SUMIFS(AZ107:AZ141,AV107:AV141,\">=\"&$AV109-1,AV107:AV141,\"<=\"&$AV109)/SUM($AZ107:$AZ109),SUMIFS(AZ107:AZ141,AV107:AV141,\">=\"&$AV109-2,AV107:AV141,\"<=\"&$AV109)/SUM($AZ107:$AZ109),SUMIFS(AZ107:AZ141,AV107:AV141,\">=\"&$AV109-3,AV107:AV141,\"<=\"&$AV109)/SUM($AZ107:$AZ109)) )","v":1},null,3,"","","","","","","","",{"$f":"IFERROR(astm(highwayfuf(CC109)-highwayfuf(CC108),3),\"\")","v":""},"","","","","",{"$f":"  IFERROR(CJ109*10.3+CL108,\"\")","v":""},{"$f":"IFERROR(astm(mdiuf(CL109)-mdiuf(CL108),3),\"\")","v":""},"","",{"$f":"IFERROR(astm(highwayfufalt(CL109)-highwayfufalt(CL108),3),\"\")","v":""},"","","",{"$f":"IF(CA109=\"\",1, MIN(IFERROR((CA109/1000)/((BX109*$J$22)*$J$21/3600),1),IFERROR((SUMIFS(CA107:CA141,BW107:BW141,\"<=\"&$BW109,BW107:BW141,\">=\"&$BW109-1)/1000)/(  $J$22*SUMIFS(BX107:BX141,BW107:BW141,\"<=\"&$BW109,BW107:BW141,\">=\"&$BW109-1)*$J$21/3600),1),IFERROR((SUMIFS(CA107:CA141,BW107:BW141,\"<=\"&$BW109,BW107:BW141,\">=\"&$BW109-2)/1000)/(  $J$22*SUMIFS(BX107:BX141,BW107:BW141,\"<=\"&$BW109,BW107:BW141,\">=\"&$BW109-2)*$J$21/3600),1),IFERROR((SUMIFS(CA107:CA141,BW107:BW141,\"<=\"&$BW109,BW107:BW141,\">=\"&$BW109-3)/1000)/(  $J$22*SUMIFS(BX107:BX141,BW107:BW141,\"<=\"&$BW109,BW107:BW141,\">=\"&$BW109-3)*$J$21/3600),1)) )","v":1},"",{"$f":"IF(CA109=\"\",1, MIN($CA109/SUM($CA107:$CA109),SUMIFS(CA107:CA141,BW107:BW141,\">=\"&$BW109-1,BW107:BW141,\"<=\"&$BW109)/SUM($CA107:$CA109),SUMIFS(CA107:CA141,BW107:BW141,\">=\"&$BW109-2,BW107:BW141,\"<=\"&$BW109)/SUM($CA107:$CA109),SUMIFS(CA107:CA141,BW107:BW141,\">=\"&$BW109-3,BW107:BW141,\"<=\"&$BW109)/SUM($CA107:$CA109)) )","v":1}]
[null,null,"Hwy PHEV Composite MPGe",null,null,{"$f":"astm(E32,0)","v":49},null,null,null,null,null,null,"CO2, Unadjusted (g/mi):",null,null,null,4,null,null,null,null,null,null,null,4,null,null,null,null,null,null,null,null,null,"Charge-Depleting",null,null,"Combined",null,null,"NEW","CD Rcda total fuel consumption (Rcda), unadjusted (gal equiv) [4]",{"$f":"IFERROR(astm(SUMIF(AV107:AV141,\"<=\" & (AQ130-1),BH107:BH141) + AQ129*SUMIF(AV107:AV141,\"=\" & (AQ130-1),BH107:BH141),4),0)","v":0},{"$f":"IFERROR(astm(SUMIF(BW107:BW141,\"<=\" & (AR130-1),CI107:CI141) + AR129*SUMIF(BW107:BW141,\"=\" & (AR130-1),CI107:CI141),4),0)","v":0},null,null,null,4,"","","","",{"$f":"IFERROR(astm(  astm($W$142,3)*1000*(AZ110/AQ109),1),\"\")","v":""},"","","",{"$f":"IFERROR(astm(cityfuf(BB110),3)-astm(cityfuf(BB109),3),\"\")","v":""},"","","","","","",{"$f":"IFERROR(astm(mdiuf(BK110),3)-astm(mdiuf(BK109),3),\"\")","v":""},"","",{"$f":"IFERROR(astm(cityfufalt(BK110),3)-astm(cityfufalt(BK109),3),\"\")","v":""},"","","",{"$f":"IF(AZ110=\"\",1, MIN(IFERROR((AZ110/1000)/((AW110*$J$22)*$J$21/3600),1),IFERROR((SUMIFS(AZ107:AZ141,AV107:AV141,\"<=\"&$AV110,AV107:AV141,\">=\"&$AV110-1)/1000)/(  $J$22*SUMIFS(AW107:AW141,AV107:AV141,\"<=\"&$AV110,AV107:AV141,\">=\"&$AV110-1)*$J$21/3600),1),IFERROR((SUMIFS(AZ107:AZ141,AV107:AV141,\"<=\"&$AV110,AV107:AV141,\">=\"&$AV110-2)/1000)/(  $J$22*SUMIFS(AW107:AW141,AV107:AV141,\"<=\"&$AV110,AV107:AV141,\">=\"&$AV110-2)*$J$21/3600),1),IFERROR((SUMIFS(AZ107:AZ141,AV107:AV141,\"<=\"&$AV110,AV107:AV141,\">=\"&$AV110-3)/1000)/(  $J$22*SUMIFS(AW107:AW141,AV107:AV141,\"<=\"&$AV110,AV107:AV141,\">=\"&$AV110-3)*$J$21/3600),1)) )","v":1},"",{"$f":"IF(AZ110=\"\",1, MIN($AZ110/SUM($AZ107:$AZ110),SUMIFS(AZ107:AZ141,AV107:AV141,\">=\"&$AV110-1,AV107:AV141,\"<=\"&$AV110)/SUM($AZ107:$AZ110),SUMIFS(AZ107:AZ141,AV107:AV141,\">=\"&$AV110-2,AV107:AV141,\"<=\"&$AV110)/SUM($AZ107:$AZ110),SUMIFS(AZ107:AZ141,AV107:AV141,\">=\"&$AV110-3,AV107:AV141,\"<=\"&$AV110)/SUM($AZ107:$AZ110)) )","v":1},null,4,"","","","","","","","",{"$f":"IFERROR(astm(highwayfuf(CC110)-highwayfuf(CC109),3),\"\")","v":""},"","","","","","",{"$f":"IFERROR(astm(mdiuf(CL110)-mdiuf(CL109),3),\"\")","v":""},"","",{"$f":"IFERROR(astm(highwayfufalt(CL110)-highwayfufalt(CL109),3),\"\")","v":""},"","","",{"$f":"IF(CA110=\"\",1, MIN(IFERROR((CA110/1000)/((BX110*$J$22)*$J$21/3600),1),IFERROR((SUMIFS(CA107:CA141,BW107:BW141,\"<=\"&$BW110,BW107:BW141,\">=\"&$BW110-1)/1000)/(  $J$22*SUMIFS(BX107:BX141,BW107:BW141,\"<=\"&$BW110,BW107:BW141,\">=\"&$BW110-1)*$J$21/3600),1),IFERROR((SUMIFS(CA107:CA141,BW107:BW141,\"<=\"&$BW110,BW107:BW141,\">=\"&$BW110-2)/1000)/(  $J$22*SUMIFS(BX107:BX141,BW107:BW141,\"<=\"&$BW110,BW107:BW141,\">=\"&$BW110-2)*$J$21/3600),1),IFERROR((SUMIFS(CA107:CA141,BW107:BW141,\"<=\"&$BW110,BW107:BW141,\">=\"&$BW110-3)/1000)/(  $J$22*SUMIFS(BX107:BX141,BW107:BW141,\"<=\"&$BW110,BW107:BW141,\">=\"&$BW110-3)*$J$21/3600),1)) )","v":1},"",{"$f":"IF(CA110=\"\",1, MIN($CA110/SUM($CA107:$CA110),SUMIFS(CA107:CA141,BW107:BW141,\">=\"&$BW110-1,BW107:BW141,\"<=\"&$BW110)/SUM($CA107:$CA110),SUMIFS(CA107:CA141,BW107:BW141,\">=\"&$BW110-2,BW107:BW141,\"<=\"&$BW110)/SUM($CA107:$CA110),SUMIFS(CA107:CA141,BW107:BW141,\">=\"&$BW110-3,BW107:BW141,\"<=\"&$BW110)/SUM($CA107:$CA110)) )","v":1}]
[null,null,"Comb PHEV Composite MPGe",null,null,{"$f":"F32","v":45},null,null,null,null,null,null,"CO2, Adjusted (g/mi):",null,null,null,5,null,null,null,null,null,null,null,5,null,null,null,null,null,null,null,null,null,"CD range, adjusted (miles) [0]",null,null,{"$f":"IFERROR(astm(0.55*AQ103+0.45*AR103,0),0)","v":0},null,null,null,"CD utilitized total fuel consumption rate (55/45 FUF, Rcdc), unadjusted (gal-equiv/mile) [6]",{"$f":" astm(SUMIF(AV107:AV141,\"<=\" & (AQ130),BG107:BG141)*1000000,0)/1000000","v":0},{"$f":" astm(SUMIF(BW107:BW141,\"<=\" & (AR130),CH107:CH141)*1000000,0)/1000000","v":0},null,null,null,5,"","","","",{"$f":"IFERROR(astm(  astm($W$142,3)*1000*(AZ111/AQ109),1),\"\")","v":""},"","","",{"$f":"IFERROR(astm(cityfuf(BB111),3)-astm(cityfuf(BB110),3),\"\")","v":""},"","","","","","",{"$f":"IFERROR(astm(mdiuf(BK111),3)-astm(mdiuf(BK110),3),\"\")","v":""},"","",{"$f":"IFERROR(astm(cityfufalt(BK111),3)-astm(cityfufalt(BK110),3),\"\")","v":""},"","","",{"$f":"IF(AZ111=\"\",1, MIN(IFERROR((AZ111/1000)/((AW111*$J$22)*$J$21/3600),1),IFERROR((SUMIFS(AZ107:AZ141,AV107:AV141,\"<=\"&$AV111,AV107:AV141,\">=\"&$AV111-1)/1000)/(  $J$22*SUMIFS(AW107:AW141,AV107:AV141,\"<=\"&$AV111,AV107:AV141,\">=\"&$AV111-1)*$J$21/3600),1),IFERROR((SUMIFS(AZ107:AZ141,AV107:AV141,\"<=\"&$AV111,AV107:AV141,\">=\"&$AV111-2)/1000)/(  $J$22*SUMIFS(AW107:AW141,AV107:AV141,\"<=\"&$AV111,AV107:AV141,\">=\"&$AV111-2)*$J$21/3600),1),IFERROR((SUMIFS(AZ107:AZ141,AV107:AV141,\"<=\"&$AV111,AV107:AV141,\">=\"&$AV111-3)/1000)/(  $J$22*SUMIFS(AW107:AW141,AV107:AV141,\"<=\"&$AV111,AV107:AV141,\">=\"&$AV111-3)*$J$21/3600),1)) )","v":1},"",{"$f":"IF(AZ111=\"\",1, MIN($AZ111/SUM($AZ107:$AZ111),SUMIFS(AZ107:AZ141,AV107:AV141,\">=\"&$AV111-1,AV107:AV141,\"<=\"&$AV111)/SUM($AZ107:$AZ111),SUMIFS(AZ107:AZ141,AV107:AV141,\">=\"&$AV111-2,AV107:AV141,\"<=\"&$AV111)/SUM($AZ107:$AZ111),SUMIFS(AZ107:AZ141,AV107:AV141,\">=\"&$AV111-3,AV107:AV141,\"<=\"&$AV111)/SUM($AZ107:$AZ111)) )","v":1},null,5,"","","","","","","","",{"$f":"IFERROR(astm(highwayfuf(CC111)-highwayfuf(CC110),3),\"\")","v":""},"","","","","","",{"$f":"IFERROR(astm(mdiuf(CL111)-mdiuf(CL110),3),\"\")","v":""},"","",{"$f":"IFERROR(astm(highwayfufalt(CL111)-highwayfufalt(CL110),3),\"\")","v":""},"","","",{"$f":"IF(CA111=\"\",1, MIN(IFERROR((CA111/1000)/((BX111*$J$22)*$J$21/3600),1),IFERROR((SUMIFS(CA107:CA141,BW107:BW141,\"<=\"&$BW111,BW107:BW141,\">=\"&$BW111-1)/1000)/(  $J$22*SUMIFS(BX107:BX141,BW107:BW141,\"<=\"&$BW111,BW107:BW141,\">=\"&$BW111-1)*$J$21/3600),1),IFERROR((SUMIFS(CA107:CA141,BW107:BW141,\"<=\"&$BW111,BW107:BW141,\">=\"&$BW111-2)/1000)/(  $J$22*SUMIFS(BX107:BX141,BW107:BW141,\"<=\"&$BW111,BW107:BW141,\">=\"&$BW111-2)*$J$21/3600),1),IFERROR((SUMIFS(CA107:CA141,BW107:BW141,\"<=\"&$BW111,BW107:BW141,\">=\"&$BW111-3)/1000)/(  $J$22*SUMIFS(BX107:BX141,BW107:BW141,\"<=\"&$BW111,BW107:BW141,\">=\"&$BW111-3)*$J$21/3600),1)) )","v":1},"",{"$f":"IF(CA111=\"\",1, MIN($CA111/SUM($CA107:$CA111),SUMIFS(CA107:CA141,BW107:BW141,\">=\"&$BW111-1,BW107:BW141,\"<=\"&$BW111)/SUM($CA107:$CA111),SUMIFS(CA107:CA141,BW107:BW141,\">=\"&$BW111-2,BW107:BW141,\"<=\"&$BW111)/SUM($CA107:$CA111),SUMIFS(CA107:CA141,BW107:BW141,\">=\"&$BW111-3,BW107:BW141,\"<=\"&$BW111)/SUM($CA107:$CA111)) )","v":1}]
[null,null,"Composite CO2 (Adjusted)",null,null,"g/mi",null,null,null,null,null,null,null,null,null,null,6,null,null,null,null,null,null,null,6,null,null,null,null,null,null,null,null,null,"CD All-Electric Range, adjusted (mi) [0]",null,null,{"$f":"IFERROR(astm(0.55*AQ105+0.45*AR105,0),0)","v":0},null,null,"NEW","CD utilitized total fuel consumption rate (43/57 FUF, Rcdc), adjusted (gal-equiv/mile) [6]",{"$f":" astm( 1000000*SUMIF(AV107:AV141,\"<=\" & (AQ130),BP107:BP141), 0) / 1000000","v":0},{"$f":" astm( 1000000*SUMIF(BW107:BW141,\"<=\" & (AR130),CQ107:CQ141), 0) / 1000000","v":0},null,null,null,6,"","","","",{"$f":"IFERROR(astm(  astm($W$142,3)*1000*(AZ112/AQ109),1),\"\")","v":""},"","","",{"$f":"IFERROR(astm(cityfuf(BB112),3)-astm(cityfuf(BB111),3),\"\")","v":""},"","","","","","",{"$f":"IFERROR(astm(mdiuf(BK112),3)-astm(mdiuf(BK111),3),\"\")","v":""},"","",{"$f":"IFERROR(astm(cityfufalt(BK112),3)-astm(cityfufalt(BK111),3),\"\")","v":""},"","","",{"$f":"IF(AZ112=\"\",1, MIN(IFERROR((AZ112/1000)/((AW112*$J$22)*$J$21/3600),1),IFERROR((SUMIFS(AZ107:AZ141,AV107:AV141,\"<=\"&$AV112,AV107:AV141,\">=\"&$AV112-1)/1000)/(  $J$22*SUMIFS(AW107:AW141,AV107:AV141,\"<=\"&$AV112,AV107:AV141,\">=\"&$AV112-1)*$J$21/3600),1),IFERROR((SUMIFS(AZ107:AZ141,AV107:AV141,\"<=\"&$AV112,AV107:AV141,\">=\"&$AV112-2)/1000)/(  $J$22*SUMIFS(AW107:AW141,AV107:AV141,\"<=\"&$AV112,AV107:AV141,\">=\"&$AV112-2)*$J$21/3600),1),IFERROR((SUMIFS(AZ107:AZ141,AV107:AV141,\"<=\"&$AV112,AV107:AV141,\">=\"&$AV112-3)/1000)/(  $J$22*SUMIFS(AW107:AW141,AV107:AV141,\"<=\"&$AV112,AV107:AV141,\">=\"&$AV112-3)*$J$21/3600),1)) )","v":1},"",{"$f":"IF(AZ112=\"\",1, MIN($AZ112/SUM($AZ107:$AZ112),SUMIFS(AZ107:AZ141,AV107:AV141,\">=\"&$AV112-1,AV107:AV141,\"<=\"&$AV112)/SUM($AZ107:$AZ112),SUMIFS(AZ107:AZ141,AV107:AV141,\">=\"&$AV112-2,AV107:AV141,\"<=\"&$AV112)/SUM($AZ107:$AZ112),SUMIFS(AZ107:AZ141,AV107:AV141,\">=\"&$AV112-3,AV107:AV141,\"<=\"&$AV112)/SUM($AZ107:$AZ112)) )","v":1},null,6,"","","","","","","","",{"$f":"IFERROR(astm(highwayfuf(CC112)-highwayfuf(CC111),3),\"\")","v":""},"","","","","","",{"$f":"IFERROR(astm(mdiuf(CL112)-mdiuf(CL111),3),\"\")","v":""},"","",{"$f":"IFERROR(astm(highwayfufalt(CL112)-highwayfufalt(CL111),3),\"\")","v":""},"","","",{"$f":"IF(CA112=\"\",1, MIN(IFERROR((CA112/1000)/((BX112*$J$22)*$J$21/3600),1),IFERROR((SUMIFS(CA107:CA141,BW107:BW141,\"<=\"&$BW112,BW107:BW141,\">=\"&$BW112-1)/1000)/(  $J$22*SUMIFS(BX107:BX141,BW107:BW141,\"<=\"&$BW112,BW107:BW141,\">=\"&$BW112-1)*$J$21/3600),1),IFERROR((SUMIFS(CA107:CA141,BW107:BW141,\"<=\"&$BW112,BW107:BW141,\">=\"&$BW112-2)/1000)/(  $J$22*SUMIFS(BX107:BX141,BW107:BW141,\"<=\"&$BW112,BW107:BW141,\">=\"&$BW112-2)*$J$21/3600),1),IFERROR((SUMIFS(CA107:CA141,BW107:BW141,\"<=\"&$BW112,BW107:BW141,\">=\"&$BW112-3)/1000)/(  $J$22*SUMIFS(BX107:BX141,BW107:BW141,\"<=\"&$BW112,BW107:BW141,\">=\"&$BW112-3)*$J$21/3600),1)) )","v":1},"",{"$f":"IF(CA112=\"\",1, MIN($CA112/SUM($CA107:$CA112),SUMIFS(CA107:CA141,BW107:BW141,\">=\"&$BW112-1,BW107:BW141,\"<=\"&$BW112)/SUM($CA107:$CA112),SUMIFS(CA107:CA141,BW107:BW141,\">=\"&$BW112-2,BW107:BW141,\"<=\"&$BW112)/SUM($CA107:$CA112),SUMIFS(CA107:CA141,BW107:BW141,\">=\"&$BW112-3,BW107:BW141,\"<=\"&$BW112)/SUM($CA107:$CA112)) )","v":1}]
[null,null,"City CO2-PHEV Composite Rounded Adjusted Combined CO2",null,null,{"$f":"astm(D31,0)","v":155},null,null,null,null,null,null,null,null,null,null,7,null,null,null,null,null,null,null,7,null,null,null,null,null,null,null,null,null,"Total Driving Range (Miles) [0]",null,null,{"$f":"IFERROR(astm(   IFERROR((astm(0.55*AQ134+0.45*AR134,0)+AL111),0) / 10,0) *10,0)","v":0},null,null,"NEW","CD utilitized total fuel consumption rate (MDIUF, Rcdc), adjusted (gal-equiv/mile) [6]",{"$f":" astm(SUMIF(AV107:AV141,\"<=\" & (AQ130),BN107:BN141)*1000000,0) / 1000000","v":0},{"$f":" astm(SUMIF(BW107:BW141,\"<=\" & (AR130),CO107:CO141)*1000000,0) / 1000000","v":0},null,null,null,7,"","","","",{"$f":"IFERROR(astm(  astm($W$142,3)*1000*(AZ113/AQ109),1),\"\")","v":""},"","","",{"$f":"IFERROR(astm(cityfuf(BB113),3)-astm(cityfuf(BB112),3),\"\")","v":""},"","","","","","",{"$f":"IFERROR(astm(mdiuf(BK113),3)-astm(mdiuf(BK112),3),\"\")","v":""},"","",{"$f":"IFERROR(astm(cityfufalt(BK113),3)-astm(cityfufalt(BK112),3),\"\")","v":""},"","","",{"$f":"IF(AZ113=\"\",1, MIN(IFERROR((AZ113/1000)/((AW113*$J$22)*$J$21/3600),1),IFERROR((SUMIFS(AZ107:AZ141,AV107:AV141,\"<=\"&$AV113,AV107:AV141,\">=\"&$AV113-1)/1000)/(  $J$22*SUMIFS(AW107:AW141,AV107:AV141,\"<=\"&$AV113,AV107:AV141,\">=\"&$AV113-1)*$J$21/3600),1),IFERROR((SUMIFS(AZ107:AZ141,AV107:AV141,\"<=\"&$AV113,AV107:AV141,\">=\"&$AV113-2)/1000)/(  $J$22*SUMIFS(AW107:AW141,AV107:AV141,\"<=\"&$AV113,AV107:AV141,\">=\"&$AV113-2)*$J$21/3600),1),IFERROR((SUMIFS(AZ107:AZ141,AV107:AV141,\"<=\"&$AV113,AV107:AV141,\">=\"&$AV113-3)/1000)/(  $J$22*SUMIFS(AW107:AW141,AV107:AV141,\"<=\"&$AV113,AV107:AV141,\">=\"&$AV113-3)*$J$21/3600),1)) )","v":1},"",{"$f":"IF(AZ113=\"\",1, MIN($AZ113/SUM($AZ107:$AZ113),SUMIFS(AZ107:AZ141,AV107:AV141,\">=\"&$AV113-1,AV107:AV141,\"<=\"&$AV113)/SUM($AZ107:$AZ113),SUMIFS(AZ107:AZ141,AV107:AV141,\">=\"&$AV113-2,AV107:AV141,\"<=\"&$AV113)/SUM($AZ107:$AZ113),SUMIFS(AZ107:AZ141,AV107:AV141,\">=\"&$AV113-3,AV107:AV141,\"<=\"&$AV113)/SUM($AZ107:$AZ113)) )","v":1},null,7,"","","","","","","","",{"$f":"IFERROR(astm(highwayfuf(CC113)-highwayfuf(CC112),3),\"\")","v":""},"","","","","","",{"$f":"IFERROR(astm(mdiuf(CL113)-mdiuf(CL112),3),\"\")","v":""},"","",{"$f":"IFERROR(astm(highwayfufalt(CL113)-highwayfufalt(CL112),3),\"\")","v":""},"","","",{"$f":"IF(CA113=\"\",1, MIN(IFERROR((CA113/1000)/((BX113*$J$22)*$J$21/3600),1),IFERROR((SUMIFS(CA107:CA141,BW107:BW141,\"<=\"&$BW113,BW107:BW141,\">=\"&$BW113-1)/1000)/(  $J$22*SUMIFS(BX107:BX141,BW107:BW141,\"<=\"&$BW113,BW107:BW141,\">=\"&$BW113-1)*$J$21/3600),1),IFERROR((SUMIFS(CA107:CA141,BW107:BW141,\"<=\"&$BW113,BW107:BW141,\">=\"&$BW113-2)/1000)/(  $J$22*SUMIFS(BX107:BX141,BW107:BW141,\"<=\"&$BW113,BW107:BW141,\">=\"&$BW113-2)*$J$21/3600),1),IFERROR((SUMIFS(CA107:CA141,BW107:BW141,\"<=\"&$BW113,BW107:BW141,\">=\"&$BW113-3)/1000)/(  $J$22*SUMIFS(BX107:BX141,BW107:BW141,\"<=\"&$BW113,BW107:BW141,\">=\"&$BW113-3)*$J$21/3600),1)) )","v":1},"",{"$f":"IF(CA113=\"\",1, MIN($CA113/SUM($CA107:$CA113),SUMIFS(CA107:CA141,BW107:BW141,\">=\"&$BW113-1,BW107:BW141,\"<=\"&$BW113)/SUM($CA107:$CA113),SUMIFS(CA107:CA141,BW107:BW141,\">=\"&$BW113-2,BW107:BW141,\"<=\"&$BW113)/SUM($CA107:$CA113),SUMIFS(CA107:CA141,BW107:BW141,\">=\"&$BW113-3,BW107:BW141,\"<=\"&$BW113)/SUM($CA107:$CA113)) )","v":1}]
[null,null,"Hwy CO2-PHEV Composite Rounded Adjusted Combined CO2",null,null,{"$f":"astm(E31,0)","v":132},null,null,null,null,null,null,null,null,null,null,8,null,null,null,null,null,null,null,8,null,null,null,null,null,null,null,null,null,"CD Fuel Economy (MPGe) [0]",null,null,{"$f":" IFERROR(astm(1/(0.55/AQ115+0.45/AR115),0),0)","v":0},null,null,null,"CD gasoline consumption (Rcda), adjusted (gal) [1]",{"$f":"IFERROR(SUMIF(AV107:AV141,\"<=\" & AQ130-1,AW107:AW141)+AQ129*SUMIF(AV107:AV141,\"=\" & AQ130-1,AW107:AW141),0)","v":0},{"$f":"IFERROR(SUMIF(BW107:BW141,\"<=\" & AR130-1,BX107:BX141)+AR129*SUMIF(BW107:BW141,\"=\" & AR130-1,BX107:BX141),0)","v":0},null,null,null,8,"","","","",{"$f":"IFERROR(astm(  astm($W$142,3)*1000*(AZ114/AQ109),1),\"\")","v":""},"","","",{"$f":"IFERROR(astm(cityfuf(BB114),3)-astm(cityfuf(BB113),3),\"\")","v":""},"","","","","","",{"$f":"IFERROR(astm(mdiuf(BK114),3)-astm(mdiuf(BK113),3),\"\")","v":""},"","",{"$f":"IFERROR(astm(cityfufalt(BK114),3)-astm(cityfufalt(BK113),3),\"\")","v":""},"","","",{"$f":"IF(AZ114=\"\",1, MIN(IFERROR((AZ114/1000)/((AW114*$J$22)*$J$21/3600),1),IFERROR((SUMIFS(AZ107:AZ141,AV107:AV141,\"<=\"&$AV114,AV107:AV141,\">=\"&$AV114-1)/1000)/(  $J$22*SUMIFS(AW107:AW141,AV107:AV141,\"<=\"&$AV114,AV107:AV141,\">=\"&$AV114-1)*$J$21/3600),1),IFERROR((SUMIFS(AZ107:AZ141,AV107:AV141,\"<=\"&$AV114,AV107:AV141,\">=\"&$AV114-2)/1000)/(  $J$22*SUMIFS(AW107:AW141,AV107:AV141,\"<=\"&$AV114,AV107:AV141,\">=\"&$AV114-2)*$J$21/3600),1),IFERROR((SUMIFS(AZ107:AZ141,AV107:AV141,\"<=\"&$AV114,AV107:AV141,\">=\"&$AV114-3)/1000)/(  $J$22*SUMIFS(AW107:AW141,AV107:AV141,\"<=\"&$AV114,AV107:AV141,\">=\"&$AV114-3)*$J$21/3600),1)) )","v":1},"",{"$f":"IF(AZ114=\"\",1, MIN($AZ114/SUM($AZ107:$AZ114),SUMIFS(AZ107:AZ141,AV107:AV141,\">=\"&$AV114-1,AV107:AV141,\"<=\"&$AV114)/SUM($AZ107:$AZ114),SUMIFS(AZ107:AZ141,AV107:AV141,\">=\"&$AV114-2,AV107:AV141,\"<=\"&$AV114)/SUM($AZ107:$AZ114),SUMIFS(AZ107:AZ141,AV107:AV141,\">=\"&$AV114-3,AV107:AV141,\"<=\"&$AV114)/SUM($AZ107:$AZ114)) )","v":1},null,8,"","","","","","","","",{"$f":"IFERROR(astm(highwayfuf(CC114)-highwayfuf(CC113),3),\"\")","v":""},"","","","","","",{"$f":"IFERROR(astm(mdiuf(CL114)-mdiuf(CL113),3),\"\")","v":""},"","",{"$f":"IFERROR(astm(highwayfufalt(CL114)-highwayfufalt(CL113),3),\"\")","v":""},"","","",{"$f":"IF(CA114=\"\",1, MIN(IFERROR((CA114/1000)/((BX114*$J$22)*$J$21/3600),1),IFERROR((SUMIFS(CA107:CA141,BW107:BW141,\"<=\"&$BW114,BW107:BW141,\">=\"&$BW114-1)/1000)/(  $J$22*SUMIFS(BX107:BX141,BW107:BW141,\"<=\"&$BW114,BW107:BW141,\">=\"&$BW114-1)*$J$21/3600),1),IFERROR((SUMIFS(CA107:CA141,BW107:BW141,\"<=\"&$BW114,BW107:BW141,\">=\"&$BW114-2)/1000)/(  $J$22*SUMIFS(BX107:BX141,BW107:BW141,\"<=\"&$BW114,BW107:BW141,\">=\"&$BW114-2)*$J$21/3600),1),IFERROR((SUMIFS(CA107:CA141,BW107:BW141,\"<=\"&$BW114,BW107:BW141,\">=\"&$BW114-3)/1000)/(  $J$22*SUMIFS(BX107:BX141,BW107:BW141,\"<=\"&$BW114,BW107:BW141,\">=\"&$BW114-3)*$J$21/3600),1)) )","v":1},"",{"$f":"IF(CA114=\"\",1, MIN($CA114/SUM($CA107:$CA114),SUMIFS(CA107:CA141,BW107:BW141,\">=\"&$BW114-1,BW107:BW141,\"<=\"&$BW114)/SUM($CA107:$CA114),SUMIFS(CA107:CA141,BW107:BW141,\">=\"&$BW114-2,BW107:BW141,\"<=\"&$BW114)/SUM($CA107:$CA114),SUMIFS(CA107:CA141,BW107:BW141,\">=\"&$BW114-3,BW107:BW141,\"<=\"&$BW114)/SUM($CA107:$CA114)) )","v":1}]
[null,null,"CO2-PHEV Composite Rounded Adjusted Combined CO2",null,null,{"$f":"F31","v":145},null,null,null,null,null,null,null,null,null,null,9,null,null,null,null,null,null,null,9,null,null,null,null,null,null,null,null,null,"CD Electricity Consumption  (kW-hr/100mi) [0]",null,null,{"$f":"IFERROR(astm(0.55*AQ108+0.45*AR108,0),0)","v":0},null,null,null,"CD fuel economy (Rcda), adjusted (MPGe) [4]",{"$f":"IFERROR(astm( AQ103/ ( SUMIF(AV107:AV141,\"<=\" & (AQ130-1),BH107:BH141) + AQ129*SUMIF(AV107:AV141,\"=\" & (AQ130-1),BH107:BH141) ),4),0)","v":0},{"$f":"IFERROR(astm( AR103/ ( SUMIF(BW107:BW141,\"<=\" & (AR130-1),CI107:CI141) + AR129*SUMIF(BW107:BW141,\"=\" & (AR130-1),CI107:CI141) ),4),0)","v":0},null,null,null,9,"","","","",{"$f":"IFERROR(astm(  astm($W$142,3)*1000*(AZ115/AQ109),1),\"\")","v":""},"","","",{"$f":"IFERROR(astm(cityfuf(BB115),3)-astm(cityfuf(BB114),3),\"\")","v":""},"","","","","","",{"$f":"IFERROR(astm(mdiuf(BK115),3)-astm(mdiuf(BK114),3),\"\")","v":""},"","",{"$f":"IFERROR(astm(cityfufalt(BK115),3)-astm(cityfufalt(BK114),3),\"\")","v":""},"","","",{"$f":"IF(AZ115=\"\",1, MIN(IFERROR((AZ115/1000)/((AW115*$J$22)*$J$21/3600),1),IFERROR((SUMIFS(AZ107:AZ141,AV107:AV141,\"<=\"&$AV115,AV107:AV141,\">=\"&$AV115-1)/1000)/(  $J$22*SUMIFS(AW107:AW141,AV107:AV141,\"<=\"&$AV115,AV107:AV141,\">=\"&$AV115-1)*$J$21/3600),1),IFERROR((SUMIFS(AZ107:AZ141,AV107:AV141,\"<=\"&$AV115,AV107:AV141,\">=\"&$AV115-2)/1000)/(  $J$22*SUMIFS(AW107:AW141,AV107:AV141,\"<=\"&$AV115,AV107:AV141,\">=\"&$AV115-2)*$J$21/3600),1),IFERROR((SUMIFS(AZ107:AZ141,AV107:AV141,\"<=\"&$AV115,AV107:AV141,\">=\"&$AV115-3)/1000)/(  $J$22*SUMIFS(AW107:AW141,AV107:AV141,\"<=\"&$AV115,AV107:AV141,\">=\"&$AV115-3)*$J$21/3600),1)) )","v":1},"",{"$f":"IF(AZ115=\"\",1, MIN($AZ115/SUM($AZ107:$AZ115),SUMIFS(AZ107:AZ141,AV107:AV141,\">=\"&$AV115-1,AV107:AV141,\"<=\"&$AV115)/SUM($AZ107:$AZ115),SUMIFS(AZ107:AZ141,AV107:AV141,\">=\"&$AV115-2,AV107:AV141,\"<=\"&$AV115)/SUM($AZ107:$AZ115),SUMIFS(AZ107:AZ141,AV107:AV141,\">=\"&$AV115-3,AV107:AV141,\"<=\"&$AV115)/SUM($AZ107:$AZ115)) )","v":1},null,9,"","","","","","","","",{"$f":"IFERROR(astm(highwayfuf(CC115)-highwayfuf(CC114),3),\"\")","v":""},"","","","","","",{"$f":"IFERROR(astm(mdiuf(CL115)-mdiuf(CL114),3),\"\")","v":""},"","",{"$f":"IFERROR(astm(highwayfufalt(CL115)-highwayfufalt(CL114),3),\"\")","v":""},"","","",{"$f":"IF(CA115=\"\",1, MIN(IFERROR((CA115/1000)/((BX115*$J$22)*$J$21/3600),1),IFERROR((SUMIFS(CA107:CA141,BW107:BW141,\"<=\"&$BW115,BW107:BW141,\">=\"&$BW115-1)/1000)/(  $J$22*SUMIFS(BX107:BX141,BW107:BW141,\"<=\"&$BW115,BW107:BW141,\">=\"&$BW115-1)*$J$21/3600),1),IFERROR((SUMIFS(CA107:CA141,BW107:BW141,\"<=\"&$BW115,BW107:BW141,\">=\"&$BW115-2)/1000)/(  $J$22*SUMIFS(BX107:BX141,BW107:BW141,\"<=\"&$BW115,BW107:BW141,\">=\"&$BW115-2)*$J$21/3600),1),IFERROR((SUMIFS(CA107:CA141,BW107:BW141,\"<=\"&$BW115,BW107:BW141,\">=\"&$BW115-3)/1000)/(  $J$22*SUMIFS(BX107:BX141,BW107:BW141,\"<=\"&$BW115,BW107:BW141,\">=\"&$BW115-3)*$J$21/3600),1)) )","v":1},"",{"$f":"IF(CA115=\"\",1, MIN($CA115/SUM($CA107:$CA115),SUMIFS(CA107:CA141,BW107:BW141,\">=\"&$BW115-1,BW107:BW141,\"<=\"&$BW115)/SUM($CA107:$CA115),SUMIFS(CA107:CA141,BW107:BW141,\">=\"&$BW115-2,BW107:BW141,\"<=\"&$BW115)/SUM($CA107:$CA115),SUMIFS(CA107:CA141,BW107:BW141,\">=\"&$BW115-3,BW107:BW141,\"<=\"&$BW115)/SUM($CA107:$CA115)) )","v":1}]
[null,null,"PHEV Total Driving Range (Adjusted)",null,null,"miles",null,null,null,null,null,null,null,null,null,null,10,null,null,null,null,null,null,null,10,null,null,null,null,null,null,null,null,null,"CD Gasoline Consumption (gal/100mi) [0]",null,null,{"$f":"IFERROR(astm(0.55*AQ116+0.45*AR116,1),0)","v":0},null,null,null,"CD gasoline consumption rate (Rcda), adjusted (gal/100mi) [4]",{"$f":"IFERROR(astm(100*(SUMIF(AV107:AV141,\"<=\" & AQ130-1,AW107:AW141)+AQ129*SUMIF(AV107:AV141,\"=\" & AQ130-1,AW107:AW141))/AQ103,4),0)","v":0},{"$f":"IFERROR(astm(100*(SUMIF(BW107:BW141,\"<=\" & AR130-1,BX107:BX141)+AR129*SUMIF(BW107:BW141,\"=\" & AR130-1,BX107:BX141))/AR103,4),0)","v":0},null,null,null,10,"","","","",{"$f":"IFERROR(astm(  astm($W$142,3)*1000*(AZ116/AQ109),1),\"\")","v":""},"","","",{"$f":"IFERROR(astm(cityfuf(BB116),3)-astm(cityfuf(BB115),3),\"\")","v":""},"","","","","","",{"$f":"IFERROR(astm(mdiuf(BK116),3)-astm(mdiuf(BK115),3),\"\")","v":""},"","",{"$f":"IFERROR(astm(cityfufalt(BK116),3)-astm(cityfufalt(BK115),3),\"\")","v":""},"","","",{"$f":"IF(AZ116=\"\",1, MIN(IFERROR((AZ116/1000)/((AW116*$J$22)*$J$21/3600),1),IFERROR((SUMIFS(AZ107:AZ141,AV107:AV141,\"<=\"&$AV116,AV107:AV141,\">=\"&$AV116-1)/1000)/(  $J$22*SUMIFS(AW107:AW141,AV107:AV141,\"<=\"&$AV116,AV107:AV141,\">=\"&$AV116-1)*$J$21/3600),1),IFERROR((SUMIFS(AZ107:AZ141,AV107:AV141,\"<=\"&$AV116,AV107:AV141,\">=\"&$AV116-2)/1000)/(  $J$22*SUMIFS(AW107:AW141,AV107:AV141,\"<=\"&$AV116,AV107:AV141,\">=\"&$AV116-2)*$J$21/3600),1),IFERROR((SUMIFS(AZ107:AZ141,AV107:AV141,\"<=\"&$AV116,AV107:AV141,\">=\"&$AV116-3)/1000)/(  $J$22*SUMIFS(AW107:AW141,AV107:AV141,\"<=\"&$AV116,AV107:AV141,\">=\"&$AV116-3)*$J$21/3600),1)) )","v":1},"",{"$f":"IF(AZ116=\"\",1, MIN($AZ116/SUM($AZ107:$AZ116),SUMIFS(AZ107:AZ141,AV107:AV141,\">=\"&$AV116-1,AV107:AV141,\"<=\"&$AV116)/SUM($AZ107:$AZ116),SUMIFS(AZ107:AZ141,AV107:AV141,\">=\"&$AV116-2,AV107:AV141,\"<=\"&$AV116)/SUM($AZ107:$AZ116),SUMIFS(AZ107:AZ141,AV107:AV141,\">=\"&$AV116-3,AV107:AV141,\"<=\"&$AV116)/SUM($AZ107:$AZ116)) )","v":1},null,10,"","","","","","","","",{"$f":"IFERROR(astm(highwayfuf(CC116)-highwayfuf(CC115),3),\"\")","v":""},"","","","","","",{"$f":"IFERROR(astm(mdiuf(CL116)-mdiuf(CL115),3),\"\")","v":""},"","",{"$f":"IFERROR(astm(highwayfufalt(CL116)-highwayfufalt(CL115),3),\"\")","v":""},"","","",{"$f":"IF(CA116=\"\",1, MIN(IFERROR((CA116/1000)/((BX116*$J$22)*$J$21/3600),1),IFERROR((SUMIFS(CA107:CA141,BW107:BW141,\"<=\"&$BW116,BW107:BW141,\">=\"&$BW116-1)/1000)/(  $J$22*SUMIFS(BX107:BX141,BW107:BW141,\"<=\"&$BW116,BW107:BW141,\">=\"&$BW116-1)*$J$21/3600),1),IFERROR((SUMIFS(CA107:CA141,BW107:BW141,\"<=\"&$BW116,BW107:BW141,\">=\"&$BW116-2)/1000)/(  $J$22*SUMIFS(BX107:BX141,BW107:BW141,\"<=\"&$BW116,BW107:BW141,\">=\"&$BW116-2)*$J$21/3600),1),IFERROR((SUMIFS(CA107:CA141,BW107:BW141,\"<=\"&$BW116,BW107:BW141,\">=\"&$BW116-3)/1000)/(  $J$22*SUMIFS(BX107:BX141,BW107:BW141,\"<=\"&$BW116,BW107:BW141,\">=\"&$BW116-3)*$J$21/3600),1)) )","v":1},"",{"$f":"IF(CA116=\"\",1, MIN($CA116/SUM($CA107:$CA116),SUMIFS(CA107:CA141,BW107:BW141,\">=\"&$BW116-1,BW107:BW141,\"<=\"&$BW116)/SUM($CA107:$CA116),SUMIFS(CA107:CA141,BW107:BW141,\">=\"&$BW116-2,BW107:BW141,\"<=\"&$BW116)/SUM($CA107:$CA116),SUMIFS(CA107:CA141,BW107:BW141,\">=\"&$BW116-3,BW107:BW141,\"<=\"&$BW116)/SUM($CA107:$CA116)) )","v":1}]
[null,null,null,null,null,{"$f":"F21","v":370},null,null,null,null,null,null,null,null,null,null,11,null,null,null,null,null,null,null,11,null,null,null,null,null,null,null,null,null,"Charge-Sustaining",null,null,"Combined",null,null,"NEW","CD fuel economy (Rcda), unadjusted (MPGe) [4]",{"$f":"astm(IFERROR(AQ102/ ( SUMIF(AV107:AV141,\"<=\" & (AQ130-1),BH107:BH141) + AQ129*SUMIF(AV107:AV141,\"=\" & (AQ130-1),BH107:BH141) ),0),4)","v":0},{"$f":"astm(IFERROR(AR102/ ( SUMIF(BW107:BW141,\"<=\" & (AR130-1),CI107:CI141) + AR129*SUMIF(BW107:BW141,\"=\" & (AR130-1),CI107:CI141) ),0),4)","v":0},null,null,null,11,"","","","",{"$f":"IFERROR(astm(  astm($W$142,3)*1000*(AZ117/AQ109),1),\"\")","v":""},"","","",{"$f":"IFERROR(astm(cityfuf(BB117),3)-astm(cityfuf(BB116),3),\"\")","v":""},"","","","","","",{"$f":"IFERROR(astm(mdiuf(BK117),3)-astm(mdiuf(BK116),3),\"\")","v":""},"","",{"$f":"IFERROR(astm(cityfufalt(BK117),3)-astm(cityfufalt(BK116),3),\"\")","v":""},"","","",{"$f":"IF(AZ117=\"\",1, MIN(IFERROR((AZ117/1000)/((AW117*$J$22)*$J$21/3600),1),IFERROR((SUMIFS(AZ107:AZ141,AV107:AV141,\"<=\"&$AV117,AV107:AV141,\">=\"&$AV117-1)/1000)/(  $J$22*SUMIFS(AW107:AW141,AV107:AV141,\"<=\"&$AV117,AV107:AV141,\">=\"&$AV117-1)*$J$21/3600),1),IFERROR((SUMIFS(AZ107:AZ141,AV107:AV141,\"<=\"&$AV117,AV107:AV141,\">=\"&$AV117-2)/1000)/(  $J$22*SUMIFS(AW107:AW141,AV107:AV141,\"<=\"&$AV117,AV107:AV141,\">=\"&$AV117-2)*$J$21/3600),1),IFERROR((SUMIFS(AZ107:AZ141,AV107:AV141,\"<=\"&$AV117,AV107:AV141,\">=\"&$AV117-3)/1000)/(  $J$22*SUMIFS(AW107:AW141,AV107:AV141,\"<=\"&$AV117,AV107:AV141,\">=\"&$AV117-3)*$J$21/3600),1)) )","v":1},"",{"$f":"IF(AZ117=\"\",1, MIN($AZ117/SUM($AZ107:$AZ117),SUMIFS(AZ107:AZ141,AV107:AV141,\">=\"&$AV117-1,AV107:AV141,\"<=\"&$AV117)/SUM($AZ107:$AZ117),SUMIFS(AZ107:AZ141,AV107:AV141,\">=\"&$AV117-2,AV107:AV141,\"<=\"&$AV117)/SUM($AZ107:$AZ117),SUMIFS(AZ107:AZ141,AV107:AV141,\">=\"&$AV117-3,AV107:AV141,\"<=\"&$AV117)/SUM($AZ107:$AZ117)) )","v":1},null,11,"","","","","","","","",{"$f":"IFERROR(astm(highwayfuf(CC117)-highwayfuf(CC116),3),\"\")","v":""},"","","","","","",{"$f":"IFERROR(astm(mdiuf(CL117)-mdiuf(CL116),3),\"\")","v":""},"","",{"$f":"IFERROR(astm(highwayfufalt(CL117)-highwayfufalt(CL116),3),\"\")","v":""},"","","",{"$f":"IF(CA117=\"\",1, MIN(IFERROR((CA117/1000)/((BX117*$J$22)*$J$21/3600),1),IFERROR((SUMIFS(CA107:CA141,BW107:BW141,\"<=\"&$BW117,BW107:BW141,\">=\"&$BW117-1)/1000)/(  $J$22*SUMIFS(BX107:BX141,BW107:BW141,\"<=\"&$BW117,BW107:BW141,\">=\"&$BW117-1)*$J$21/3600),1),IFERROR((SUMIFS(CA107:CA141,BW107:BW141,\"<=\"&$BW117,BW107:BW141,\">=\"&$BW117-2)/1000)/(  $J$22*SUMIFS(BX107:BX141,BW107:BW141,\"<=\"&$BW117,BW107:BW141,\">=\"&$BW117-2)*$J$21/3600),1),IFERROR((SUMIFS(CA107:CA141,BW107:BW141,\"<=\"&$BW117,BW107:BW141,\">=\"&$BW117-3)/1000)/(  $J$22*SUMIFS(BX107:BX141,BW107:BW141,\"<=\"&$BW117,BW107:BW141,\">=\"&$BW117-3)*$J$21/3600),1)) )","v":1},"",{"$f":"IF(CA117=\"\",1, MIN($CA117/SUM($CA107:$CA117),SUMIFS(CA107:CA141,BW107:BW141,\">=\"&$BW117-1,BW107:BW141,\"<=\"&$BW117)/SUM($CA107:$CA117),SUMIFS(CA107:CA141,BW107:BW141,\">=\"&$BW117-2,BW107:BW141,\"<=\"&$BW117)/SUM($CA107:$CA117),SUMIFS(CA107:CA141,BW107:BW141,\">=\"&$BW117-3,BW107:BW141,\"<=\"&$BW117)/SUM($CA107:$CA117)) )","v":1}]
[null,null,null,null,null,null,null,null,null,null,null,null,null,null,null,null,12,null,null,null,null,null,null,null,12,null,null,null,null,null,null,null,null,null,"CS Fuel Economy (MPG) [0]",{"$f":"IFERROR(astm(N108,4),0)","v":0},{"$f":"IFERROR(astm(O108,4),0)","v":0},{"$f":" IFERROR(astm(1/(0.55/AJ118+0.45/AK118),0),0)","v":0},null,null,"NEW","CD AC electricity consumption rate (Rcda), unadjusted  (kW-hr/100mi) [3]",{"$f":"astm(IFERROR((IFERROR( ( SUMIF(AV107:AV141,\"<=\" & (AQ130-1),BA107:BA141) + AQ129*SUMIF(AV107:AV141,\"=\" & (AQ130-1),BA107:BA141) ) / AQ102 *100 / 1000, 0)),0),3)","v":0},{"$f":"astm(IFERROR((IFERROR( ( SUMIF(BW107:BW141,\"<=\" & (AR130-1),CB107:CB141) + AR129*SUMIF(BW107:BW141,\"=\" & (AR130-1),CB107:CB141) ) / AR102 *100 / 1000, 0)),0),3)","v":0},null,null,null,12,"","","","",{"$f":"IFERROR(astm(  astm($W$142,3)*1000*(AZ118/AQ109),1),\"\")","v":""},"","","",{"$f":"IFERROR(astm(cityfuf(BB118),3)-astm(cityfuf(BB117),3),\"\")","v":""},"","","","","","",{"$f":"IFERROR(astm(mdiuf(BK118),3)-astm(mdiuf(BK117),3),\"\")","v":""},"","",{"$f":"IFERROR(astm(cityfufalt(BK118),3)-astm(cityfufalt(BK117),3),\"\")","v":""},"","","",{"$f":"IF(AZ118=\"\",1, MIN(IFERROR((AZ118/1000)/((AW118*$J$22)*$J$21/3600),1),IFERROR((SUMIFS(AZ107:AZ141,AV107:AV141,\"<=\"&$AV118,AV107:AV141,\">=\"&$AV118-1)/1000)/(  $J$22*SUMIFS(AW107:AW141,AV107:AV141,\"<=\"&$AV118,AV107:AV141,\">=\"&$AV118-1)*$J$21/3600),1),IFERROR((SUMIFS(AZ107:AZ141,AV107:AV141,\"<=\"&$AV118,AV107:AV141,\">=\"&$AV118-2)/1000)/(  $J$22*SUMIFS(AW107:AW141,AV107:AV141,\"<=\"&$AV118,AV107:AV141,\">=\"&$AV118-2)*$J$21/3600),1),IFERROR((SUMIFS(AZ107:AZ141,AV107:AV141,\"<=\"&$AV118,AV107:AV141,\">=\"&$AV118-3)/1000)/(  $J$22*SUMIFS(AW107:AW141,AV107:AV141,\"<=\"&$AV118,AV107:AV141,\">=\"&$AV118-3)*$J$21/3600),1)) )","v":1},"",{"$f":"IF(AZ118=\"\",1, MIN($AZ118/SUM($AZ107:$AZ118),SUMIFS(AZ107:AZ141,AV107:AV141,\">=\"&$AV118-1,AV107:AV141,\"<=\"&$AV118)/SUM($AZ107:$AZ118),SUMIFS(AZ107:AZ141,AV107:AV141,\">=\"&$AV118-2,AV107:AV141,\"<=\"&$AV118)/SUM($AZ107:$AZ118),SUMIFS(AZ107:AZ141,AV107:AV141,\">=\"&$AV118-3,AV107:AV141,\"<=\"&$AV118)/SUM($AZ107:$AZ118)) )","v":1},null,12,"","","","","","","","",{"$f":"IFERROR(astm(highwayfuf(CC118)-highwayfuf(CC117),3),\"\")","v":""},"","","","","","",{"$f":"IFERROR(astm(mdiuf(CL118)-mdiuf(CL117),3),\"\")","v":""},"","",{"$f":"IFERROR(astm(highwayfufalt(CL118)-highwayfufalt(CL117),3),\"\")","v":""},"","","",{"$f":"IF(CA118=\"\",1, MIN(IFERROR((CA118/1000)/((BX118*$J$22)*$J$21/3600),1),IFERROR((SUMIFS(CA107:CA141,BW107:BW141,\"<=\"&$BW118,BW107:BW141,\">=\"&$BW118-1)/1000)/(  $J$22*SUMIFS(BX107:BX141,BW107:BW141,\"<=\"&$BW118,BW107:BW141,\">=\"&$BW118-1)*$J$21/3600),1),IFERROR((SUMIFS(CA107:CA141,BW107:BW141,\"<=\"&$BW118,BW107:BW141,\">=\"&$BW118-2)/1000)/(  $J$22*SUMIFS(BX107:BX141,BW107:BW141,\"<=\"&$BW118,BW107:BW141,\">=\"&$BW118-2)*$J$21/3600),1),IFERROR((SUMIFS(CA107:CA141,BW107:BW141,\"<=\"&$BW118,BW107:BW141,\">=\"&$BW118-3)/1000)/(  $J$22*SUMIFS(BX107:BX141,BW107:BW141,\"<=\"&$BW118,BW107:BW141,\">=\"&$BW118-3)*$J$21/3600),1)) )","v":1},"",{"$f":"IF(CA118=\"\",1, MIN($CA118/SUM($CA107:$CA118),SUMIFS(CA107:CA141,BW107:BW141,\">=\"&$BW118-1,BW107:BW141,\"<=\"&$BW118)/SUM($CA107:$CA118),SUMIFS(CA107:CA141,BW107:BW141,\">=\"&$BW118-2,BW107:BW141,\"<=\"&$BW118)/SUM($CA107:$CA118),SUMIFS(CA107:CA141,BW107:BW141,\">=\"&$BW118-3,BW107:BW141,\"<=\"&$BW118)/SUM($CA107:$CA118)) )","v":1}]
[null,null,null,null,null,null,null,null,null,null,null,null,null,null,null,null,13,null,null,null,null,null,null,null,13,null,null,null,null,null,null,null,null,null,"CS Fuel Consumption (gal/100mi) [1]",{"$f":"IFERROR(astm(100/AJ118,1),0)","v":0},{"$f":"IFERROR(astm(100/AK118,1),0)","v":0},{"$f":"IFERROR(astm(100/AL118,1),0)","v":0},null,null,null,"GHG EMISSIONS VALUES","CITY","HIGHWAY",null,null,null,13,"","","","",{"$f":"IFERROR(astm(  astm($W$142,3)*1000*(AZ119/AQ109),1),\"\")","v":""},"","","",{"$f":"IFERROR(astm(cityfuf(BB119),3)-astm(cityfuf(BB118),3),\"\")","v":""},"","","","","","",{"$f":"IFERROR(astm(mdiuf(BK119),3)-astm(mdiuf(BK118),3),\"\")","v":""},"","",{"$f":"IFERROR(astm(cityfufalt(BK119),3)-astm(cityfufalt(BK118),3),\"\")","v":""},"","","",{"$f":"IF(AZ119=\"\",1, MIN(IFERROR((AZ119/1000)/((AW119*$J$22)*$J$21/3600),1),IFERROR((SUMIFS(AZ107:AZ141,AV107:AV141,\"<=\"&$AV119,AV107:AV141,\">=\"&$AV119-1)/1000)/(  $J$22*SUMIFS(AW107:AW141,AV107:AV141,\"<=\"&$AV119,AV107:AV141,\">=\"&$AV119-1)*$J$21/3600),1),IFERROR((SUMIFS(AZ107:AZ141,AV107:AV141,\"<=\"&$AV119,AV107:AV141,\">=\"&$AV119-2)/1000)/(  $J$22*SUMIFS(AW107:AW141,AV107:AV141,\"<=\"&$AV119,AV107:AV141,\">=\"&$AV119-2)*$J$21/3600),1),IFERROR((SUMIFS(AZ107:AZ141,AV107:AV141,\"<=\"&$AV119,AV107:AV141,\">=\"&$AV119-3)/1000)/(  $J$22*SUMIFS(AW107:AW141,AV107:AV141,\"<=\"&$AV119,AV107:AV141,\">=\"&$AV119-3)*$J$21/3600),1)) )","v":1},"",{"$f":"IF(AZ119=\"\",1, MIN($AZ119/SUM($AZ107:$AZ119),SUMIFS(AZ107:AZ141,AV107:AV141,\">=\"&$AV119-1,AV107:AV141,\"<=\"&$AV119)/SUM($AZ107:$AZ119),SUMIFS(AZ107:AZ141,AV107:AV141,\">=\"&$AV119-2,AV107:AV141,\"<=\"&$AV119)/SUM($AZ107:$AZ119),SUMIFS(AZ107:AZ141,AV107:AV141,\">=\"&$AV119-3,AV107:AV141,\"<=\"&$AV119)/SUM($AZ107:$AZ119)) )","v":1},null,13,"","","","","","","","",{"$f":"IFERROR(astm(highwayfuf(CC119)-highwayfuf(CC118),3),\"\")","v":""},"","","","","","",{"$f":"IFERROR(astm(mdiuf(CL119)-mdiuf(CL118),3),\"\")","v":""},"","",{"$f":"IFERROR(astm(highwayfufalt(CL119)-highwayfufalt(CL118),3),\"\")","v":""},"","","",{"$f":"IF(CA119=\"\",1, MIN(IFERROR((CA119/1000)/((BX119*$J$22)*$J$21/3600),1),IFERROR((SUMIFS(CA107:CA141,BW107:BW141,\"<=\"&$BW119,BW107:BW141,\">=\"&$BW119-1)/1000)/(  $J$22*SUMIFS(BX107:BX141,BW107:BW141,\"<=\"&$BW119,BW107:BW141,\">=\"&$BW119-1)*$J$21/3600),1),IFERROR((SUMIFS(CA107:CA141,BW107:BW141,\"<=\"&$BW119,BW107:BW141,\">=\"&$BW119-2)/1000)/(  $J$22*SUMIFS(BX107:BX141,BW107:BW141,\"<=\"&$BW119,BW107:BW141,\">=\"&$BW119-2)*$J$21/3600),1),IFERROR((SUMIFS(CA107:CA141,BW107:BW141,\"<=\"&$BW119,BW107:BW141,\">=\"&$BW119-3)/1000)/(  $J$22*SUMIFS(BX107:BX141,BW107:BW141,\"<=\"&$BW119,BW107:BW141,\">=\"&$BW119-3)*$J$21/3600),1)) )","v":1},"",{"$f":"IF(CA119=\"\",1, MIN($CA119/SUM($CA107:$CA119),SUMIFS(CA107:CA141,BW107:BW141,\">=\"&$BW119-1,BW107:BW141,\"<=\"&$BW119)/SUM($CA107:$CA119),SUMIFS(CA107:CA141,BW107:BW141,\">=\"&$BW119-2,BW107:BW141,\"<=\"&$BW119)/SUM($CA107:$CA119),SUMIFS(CA107:CA141,BW107:BW141,\">=\"&$BW119-3,BW107:BW141,\"<=\"&$BW119)/SUM($CA107:$CA119)) )","v":1}]
[null,null,null,null,null,null,null,null,null,null,null,null,null,null,null,null,14,null,null,null,null,null,null,null,14,null,null,null,null,null,null,null,null,null,"Composite CD/CS",null,null,"Combined",null,null,null,"CD CO2 emissions rate (Rcda), unadjusted (g/mi) [1]",{"$f":"IFERROR(astm((SUMIF(AV107:AV141,\"<=\" & AQ130-1,AX107:AX141)+AQ129*SUMIF(AV107:AV141,\"=\" & AQ130-1,AX107:AX141))/AQ102,1),0)","v":0},{"$f":"IFERROR(astm((SUMIF(BW107:BW141,\"<=\" & AR130-1,BY107:BY141)+AR129*SUMIF(BW107:BW141,\"=\" & AR130-1,BY107:BY141))/AR102,1),0)","v":0},null,null,null,14,"","","","",{"$f":"IFERROR(astm(  astm($W$142,3)*1000*(AZ120/AQ109),1),\"\")","v":""},"","","",{"$f":"IFERROR(astm(cityfuf(BB120),3)-astm(cityfuf(BB119),3),\"\")","v":""},"","","","","","",{"$f":"IFERROR(astm(mdiuf(BK120),3)-astm(mdiuf(BK119),3),\"\")","v":""},"","",{"$f":"IFERROR(astm(cityfufalt(BK120),3)-astm(cityfufalt(BK119),3),\"\")","v":""},"","","",{"$f":"IF(AZ120=\"\",1, MIN(IFERROR((AZ120/1000)/((AW120*$J$22)*$J$21/3600),1),IFERROR((SUMIFS(AZ107:AZ141,AV107:AV141,\"<=\"&$AV120,AV107:AV141,\">=\"&$AV120-1)/1000)/(  $J$22*SUMIFS(AW107:AW141,AV107:AV141,\"<=\"&$AV120,AV107:AV141,\">=\"&$AV120-1)*$J$21/3600),1),IFERROR((SUMIFS(AZ107:AZ141,AV107:AV141,\"<=\"&$AV120,AV107:AV141,\">=\"&$AV120-2)/1000)/(  $J$22*SUMIFS(AW107:AW141,AV107:AV141,\"<=\"&$AV120,AV107:AV141,\">=\"&$AV120-2)*$J$21/3600),1),IFERROR((SUMIFS(AZ107:AZ141,AV107:AV141,\"<=\"&$AV120,AV107:AV141,\">=\"&$AV120-3)/1000)/(  $J$22*SUMIFS(AW107:AW141,AV107:AV141,\"<=\"&$AV120,AV107:AV141,\">=\"&$AV120-3)*$J$21/3600),1)) )","v":1},"",{"$f":"IF(AZ120=\"\",1, MIN($AZ120/SUM($AZ107:$AZ120),SUMIFS(AZ107:AZ141,AV107:AV141,\">=\"&$AV120-1,AV107:AV141,\"<=\"&$AV120)/SUM($AZ107:$AZ120),SUMIFS(AZ107:AZ141,AV107:AV141,\">=\"&$AV120-2,AV107:AV141,\"<=\"&$AV120)/SUM($AZ107:$AZ120),SUMIFS(AZ107:AZ141,AV107:AV141,\">=\"&$AV120-3,AV107:AV141,\"<=\"&$AV120)/SUM($AZ107:$AZ120)) )","v":1},null,14,"","","","","","","","",{"$f":"IFERROR(astm(highwayfuf(CC120)-highwayfuf(CC119),3),\"\")","v":""},"","","","","","",{"$f":"IFERROR(astm(mdiuf(CL120)-mdiuf(CL119),3),\"\")","v":""},"","",{"$f":"IFERROR(astm(highwayfufalt(CL120)-highwayfufalt(CL119),3),\"\")","v":""},"","","",{"$f":"IF(CA120=\"\",1, MIN(IFERROR((CA120/1000)/((BX120*$J$22)*$J$21/3600),1),IFERROR((SUMIFS(CA107:CA141,BW107:BW141,\"<=\"&$BW120,BW107:BW141,\">=\"&$BW120-1)/1000)/(  $J$22*SUMIFS(BX107:BX141,BW107:BW141,\"<=\"&$BW120,BW107:BW141,\">=\"&$BW120-1)*$J$21/3600),1),IFERROR((SUMIFS(CA107:CA141,BW107:BW141,\"<=\"&$BW120,BW107:BW141,\">=\"&$BW120-2)/1000)/(  $J$22*SUMIFS(BX107:BX141,BW107:BW141,\"<=\"&$BW120,BW107:BW141,\">=\"&$BW120-2)*$J$21/3600),1),IFERROR((SUMIFS(CA107:CA141,BW107:BW141,\"<=\"&$BW120,BW107:BW141,\">=\"&$BW120-3)/1000)/(  $J$22*SUMIFS(BX107:BX141,BW107:BW141,\"<=\"&$BW120,BW107:BW141,\">=\"&$BW120-3)*$J$21/3600),1)) )","v":1},"",{"$f":"IF(CA120=\"\",1, MIN($CA120/SUM($CA107:$CA120),SUMIFS(CA107:CA141,BW107:BW141,\">=\"&$BW120-1,BW107:BW141,\"<=\"&$BW120)/SUM($CA107:$CA120),SUMIFS(CA107:CA141,BW107:BW141,\">=\"&$BW120-2,BW107:BW141,\"<=\"&$BW120)/SUM($CA107:$CA120),SUMIFS(CA107:CA141,BW107:BW141,\">=\"&$BW120-3,BW107:BW141,\"<=\"&$BW120)/SUM($CA107:$CA120)) )","v":1}]
[null,null,null,null,null,null,null,null,null,null,null,null,null,null,null,null,15,null,null,null,null,null,null,null,15,null,null,null,null,null,null,null,null,null,"Annual Fuel Cost ($/year) [0]",null,null,{"$f":"astm(    IFERROR(15000*astm(0.55*AQ142+0.45*AR142,3),0)/50,0) * 50","v":0},null,null,"NEW","CD CO2 emissions rate (Rcda), adjusted (g/mi) [1]",{"$f":"IFERROR(astm( IFERROR((SUMIF(AV107:AV141,\"<=\" & AQ130-1,AX107:AX141)+AQ129*SUMIF(AV107:AV141,\"=\" & AQ130-1,AX107:AX141))/AQ103,#VALUE!), 1),0)","v":0},{"$f":"IFERROR(astm( IFERROR((SUMIF(BW107:BW141,\"<=\" & AR130-1,BY107:BY141)+AR129*SUMIF(BW107:BW141,\"=\" & AR130-1,BY107:BY141))/AR103,#VALUE!), 1),0)","v":0},null,null,null,15,"","","","",{"$f":"IFERROR(astm(  astm($W$142,3)*1000*(AZ121/AQ109),1),\"\")","v":""},"","","",{"$f":"IFERROR(astm(cityfuf(BB121),3)-astm(cityfuf(BB120),3),\"\")","v":""},"","","","","","",{"$f":"IFERROR(astm(mdiuf(BK121),3)-astm(mdiuf(BK120),3),\"\")","v":""},"","",{"$f":"IFERROR(astm(cityfufalt(BK121),3)-astm(cityfufalt(BK120),3),\"\")","v":""},"","","",{"$f":"IF(AZ121=\"\",1, MIN(IFERROR((AZ121/1000)/((AW121*$J$22)*$J$21/3600),1),IFERROR((SUMIFS(AZ107:AZ141,AV107:AV141,\"<=\"&$AV121,AV107:AV141,\">=\"&$AV121-1)/1000)/(  $J$22*SUMIFS(AW107:AW141,AV107:AV141,\"<=\"&$AV121,AV107:AV141,\">=\"&$AV121-1)*$J$21/3600),1),IFERROR((SUMIFS(AZ107:AZ141,AV107:AV141,\"<=\"&$AV121,AV107:AV141,\">=\"&$AV121-2)/1000)/(  $J$22*SUMIFS(AW107:AW141,AV107:AV141,\"<=\"&$AV121,AV107:AV141,\">=\"&$AV121-2)*$J$21/3600),1),IFERROR((SUMIFS(AZ107:AZ141,AV107:AV141,\"<=\"&$AV121,AV107:AV141,\">=\"&$AV121-3)/1000)/(  $J$22*SUMIFS(AW107:AW141,AV107:AV141,\"<=\"&$AV121,AV107:AV141,\">=\"&$AV121-3)*$J$21/3600),1)) )","v":1},"",{"$f":"IF(AZ121=\"\",1, MIN($AZ121/SUM($AZ107:$AZ121),SUMIFS(AZ107:AZ141,AV107:AV141,\">=\"&$AV121-1,AV107:AV141,\"<=\"&$AV121)/SUM($AZ107:$AZ121),SUMIFS(AZ107:AZ141,AV107:AV141,\">=\"&$AV121-2,AV107:AV141,\"<=\"&$AV121)/SUM($AZ107:$AZ121),SUMIFS(AZ107:AZ141,AV107:AV141,\">=\"&$AV121-3,AV107:AV141,\"<=\"&$AV121)/SUM($AZ107:$AZ121)) )","v":1},null,15,"","","","","","","","",{"$f":"IFERROR(astm(highwayfuf(CC121)-highwayfuf(CC120),3),\"\")","v":""},"","","","","","",{"$f":"IFERROR(astm(mdiuf(CL121)-mdiuf(CL120),3),\"\")","v":""},"","",{"$f":"IFERROR(astm(highwayfufalt(CL121)-highwayfufalt(CL120),3),\"\")","v":""},"","","",{"$f":"IF(CA121=\"\",1, MIN(IFERROR((CA121/1000)/((BX121*$J$22)*$J$21/3600),1),IFERROR((SUMIFS(CA107:CA141,BW107:BW141,\"<=\"&$BW121,BW107:BW141,\">=\"&$BW121-1)/1000)/(  $J$22*SUMIFS(BX107:BX141,BW107:BW141,\"<=\"&$BW121,BW107:BW141,\">=\"&$BW121-1)*$J$21/3600),1),IFERROR((SUMIFS(CA107:CA141,BW107:BW141,\"<=\"&$BW121,BW107:BW141,\">=\"&$BW121-2)/1000)/(  $J$22*SUMIFS(BX107:BX141,BW107:BW141,\"<=\"&$BW121,BW107:BW141,\">=\"&$BW121-2)*$J$21/3600),1),IFERROR((SUMIFS(CA107:CA141,BW107:BW141,\"<=\"&$BW121,BW107:BW141,\">=\"&$BW121-3)/1000)/(  $J$22*SUMIFS(BX107:BX141,BW107:BW141,\"<=\"&$BW121,BW107:BW141,\">=\"&$BW121-3)*$J$21/3600),1)) )","v":1},"",{"$f":"IF(CA121=\"\",1, MIN($CA121/SUM($CA107:$CA121),SUMIFS(CA107:CA141,BW107:BW141,\">=\"&$BW121-1,BW107:BW141,\"<=\"&$BW121)/SUM($CA107:$CA121),SUMIFS(CA107:CA141,BW107:BW141,\">=\"&$BW121-2,BW107:BW141,\"<=\"&$BW121)/SUM($CA107:$CA121),SUMIFS(CA107:CA141,BW107:BW141,\">=\"&$BW121-3,BW107:BW141,\"<=\"&$BW121)/SUM($CA107:$CA121)) )","v":1}]
[null,null,null,null,null,null,null,null,null,null,null,null,null,null,null,null,16,null,null,null,null,null,null,null,16,null,null,null,null,null,null,null,null,null,"5-Year Fuel Savings Value ($/5 years) [0]",null,null,{"$f":"$F$38-5*AL121","v":7500},null,null,"NEW","CD utilitized CO2 (MDIUF, Rcdc), adjusted (g/mi) [1]",{"$f":"astm(SUMIF(AV107:AV141,\"<=\" & (AQ130),BM107:BM141),1)","v":0},{"$f":"astm(SUMIF(BW107:BW141,\"<=\" & (AR130),CN107:CN141),1)","v":0},null,null,null,16,"","","","",{"$f":"IFERROR(astm(  astm($W$142,3)*1000*(AZ122/AQ109),1),\"\")","v":""},"","","",{"$f":"IFERROR(astm(cityfuf(BB122),3)-astm(cityfuf(BB121),3),\"\")","v":""},"","","","","","",{"$f":"IFERROR(astm(mdiuf(BK122),3)-astm(mdiuf(BK121),3),\"\")","v":""},"","",{"$f":"IFERROR(astm(cityfufalt(BK122),3)-astm(cityfufalt(BK121),3),\"\")","v":""},"","","",{"$f":"IF(AZ122=\"\",1, MIN(IFERROR((AZ122/1000)/((AW122*$J$22)*$J$21/3600),1),IFERROR((SUMIFS(AZ107:AZ141,AV107:AV141,\"<=\"&$AV122,AV107:AV141,\">=\"&$AV122-1)/1000)/(  $J$22*SUMIFS(AW107:AW141,AV107:AV141,\"<=\"&$AV122,AV107:AV141,\">=\"&$AV122-1)*$J$21/3600),1),IFERROR((SUMIFS(AZ107:AZ141,AV107:AV141,\"<=\"&$AV122,AV107:AV141,\">=\"&$AV122-2)/1000)/(  $J$22*SUMIFS(AW107:AW141,AV107:AV141,\"<=\"&$AV122,AV107:AV141,\">=\"&$AV122-2)*$J$21/3600),1),IFERROR((SUMIFS(AZ107:AZ141,AV107:AV141,\"<=\"&$AV122,AV107:AV141,\">=\"&$AV122-3)/1000)/(  $J$22*SUMIFS(AW107:AW141,AV107:AV141,\"<=\"&$AV122,AV107:AV141,\">=\"&$AV122-3)*$J$21/3600),1)) )","v":1},"",{"$f":"IF(AZ122=\"\",1, MIN($AZ122/SUM($AZ107:$AZ122),SUMIFS(AZ107:AZ141,AV107:AV141,\">=\"&$AV122-1,AV107:AV141,\"<=\"&$AV122)/SUM($AZ107:$AZ122),SUMIFS(AZ107:AZ141,AV107:AV141,\">=\"&$AV122-2,AV107:AV141,\"<=\"&$AV122)/SUM($AZ107:$AZ122),SUMIFS(AZ107:AZ141,AV107:AV141,\">=\"&$AV122-3,AV107:AV141,\"<=\"&$AV122)/SUM($AZ107:$AZ122)) )","v":1},null,16,"","","","","","","","",{"$f":"IFERROR(astm(highwayfuf(CC122)-highwayfuf(CC121),3),\"\")","v":""},"","","","","","",{"$f":"IFERROR(astm(mdiuf(CL122)-mdiuf(CL121),3),\"\")","v":""},"","",{"$f":"IFERROR(astm(highwayfufalt(CL122)-highwayfufalt(CL121),3),\"\")","v":""},"","","",{"$f":"IF(CA122=\"\",1, MIN(IFERROR((CA122/1000)/((BX122*$J$22)*$J$21/3600),1),IFERROR((SUMIFS(CA107:CA141,BW107:BW141,\"<=\"&$BW122,BW107:BW141,\">=\"&$BW122-1)/1000)/(  $J$22*SUMIFS(BX107:BX141,BW107:BW141,\"<=\"&$BW122,BW107:BW141,\">=\"&$BW122-1)*$J$21/3600),1),IFERROR((SUMIFS(CA107:CA141,BW107:BW141,\"<=\"&$BW122,BW107:BW141,\">=\"&$BW122-2)/1000)/(  $J$22*SUMIFS(BX107:BX141,BW107:BW141,\"<=\"&$BW122,BW107:BW141,\">=\"&$BW122-2)*$J$21/3600),1),IFERROR((SUMIFS(CA107:CA141,BW107:BW141,\"<=\"&$BW122,BW107:BW141,\">=\"&$BW122-3)/1000)/(  $J$22*SUMIFS(BX107:BX141,BW107:BW141,\"<=\"&$BW122,BW107:BW141,\">=\"&$BW122-3)*$J$21/3600),1)) )","v":1},"",{"$f":"IF(CA122=\"\",1, MIN($CA122/SUM($CA107:$CA122),SUMIFS(CA107:CA141,BW107:BW141,\">=\"&$BW122-1,BW107:BW141,\"<=\"&$BW122)/SUM($CA107:$CA122),SUMIFS(CA107:CA141,BW107:BW141,\">=\"&$BW122-2,BW107:BW141,\"<=\"&$BW122)/SUM($CA107:$CA122),SUMIFS(CA107:CA141,BW107:BW141,\">=\"&$BW122-3,BW107:BW141,\"<=\"&$BW122)/SUM($CA107:$CA122)) )","v":1}]
[null,null,null,null,null,null,null,null,null,null,null,null,null,null,null,null,17,null,null,null,null,null,null,null,17,null,null,null,null,null,null,null,null,null,"Composite CO2 (g/mi) [0]",null,null,{"$f":"astm(0.55*AQ144+0.45*AR144,0)","v":0},null,null,null,"CD utilitized CREE (55/45 FUF, Rcdc), unadjusted (g/mi) [1]",{"$f":"astm(SUMIF(AV107:AV141,\"<=\" & AQ130,BF107:BF141),1)","v":0},{"$f":"astm(SUMIF(BW107:BW141,\"<=\" & AR130,CG107:CG141),1)","v":0},null,null,null,17,"","","","",{"$f":"IFERROR(astm(  astm($W$142,3)*1000*(AZ123/AQ109),1),\"\")","v":""},"","","",{"$f":"IFERROR(astm(cityfuf(BB123),3)-astm(cityfuf(BB122),3),\"\")","v":""},"","","","","","",{"$f":"IFERROR(astm(mdiuf(BK123),3)-astm(mdiuf(BK122),3),\"\")","v":""},"","",{"$f":"IFERROR(astm(cityfufalt(BK123),3)-astm(cityfufalt(BK122),3),\"\")","v":""},"","","",{"$f":"IF(AZ123=\"\",1, MIN(IFERROR((AZ123/1000)/((AW123*$J$22)*$J$21/3600),1),IFERROR((SUMIFS(AZ107:AZ141,AV107:AV141,\"<=\"&$AV123,AV107:AV141,\">=\"&$AV123-1)/1000)/(  $J$22*SUMIFS(AW107:AW141,AV107:AV141,\"<=\"&$AV123,AV107:AV141,\">=\"&$AV123-1)*$J$21/3600),1),IFERROR((SUMIFS(AZ107:AZ141,AV107:AV141,\"<=\"&$AV123,AV107:AV141,\">=\"&$AV123-2)/1000)/(  $J$22*SUMIFS(AW107:AW141,AV107:AV141,\"<=\"&$AV123,AV107:AV141,\">=\"&$AV123-2)*$J$21/3600),1),IFERROR((SUMIFS(AZ107:AZ141,AV107:AV141,\"<=\"&$AV123,AV107:AV141,\">=\"&$AV123-3)/1000)/(  $J$22*SUMIFS(AW107:AW141,AV107:AV141,\"<=\"&$AV123,AV107:AV141,\">=\"&$AV123-3)*$J$21/3600),1)) )","v":1},"",{"$f":"IF(AZ123=\"\",1, MIN($AZ123/SUM($AZ107:$AZ123),SUMIFS(AZ107:AZ141,AV107:AV141,\">=\"&$AV123-1,AV107:AV141,\"<=\"&$AV123)/SUM($AZ107:$AZ123),SUMIFS(AZ107:AZ141,AV107:AV141,\">=\"&$AV123-2,AV107:AV141,\"<=\"&$AV123)/SUM($AZ107:$AZ123),SUMIFS(AZ107:AZ141,AV107:AV141,\">=\"&$AV123-3,AV107:AV141,\"<=\"&$AV123)/SUM($AZ107:$AZ123)) )","v":1},null,17,"","","","","","","","",{"$f":"IFERROR(astm(highwayfuf(CC123)-highwayfuf(CC122),3),\"\")","v":""},"","","","","","",{"$f":"IFERROR(astm(mdiuf(CL123)-mdiuf(CL122),3),\"\")","v":""},"","",{"$f":"IFERROR(astm(highwayfufalt(CL123)-highwayfufalt(CL122),3),\"\")","v":""},"","","",{"$f":"IF(CA123=\"\",1, MIN(IFERROR((CA123/1000)/((BX123*$J$22)*$J$21/3600),1),IFERROR((SUMIFS(CA107:CA141,BW107:BW141,\"<=\"&$BW123,BW107:BW141,\">=\"&$BW123-1)/1000)/(  $J$22*SUMIFS(BX107:BX141,BW107:BW141,\"<=\"&$BW123,BW107:BW141,\">=\"&$BW123-1)*$J$21/3600),1),IFERROR((SUMIFS(CA107:CA141,BW107:BW141,\"<=\"&$BW123,BW107:BW141,\">=\"&$BW123-2)/1000)/(  $J$22*SUMIFS(BX107:BX141,BW107:BW141,\"<=\"&$BW123,BW107:BW141,\">=\"&$BW123-2)*$J$21/3600),1),IFERROR((SUMIFS(CA107:CA141,BW107:BW141,\"<=\"&$BW123,BW107:BW141,\">=\"&$BW123-3)/1000)/(  $J$22*SUMIFS(BX107:BX141,BW107:BW141,\"<=\"&$BW123,BW107:BW141,\">=\"&$BW123-3)*$J$21/3600),1)) )","v":1},"",{"$f":"IF(CA123=\"\",1, MIN($CA123/SUM($CA107:$CA123),SUMIFS(CA107:CA141,BW107:BW141,\">=\"&$BW123-1,BW107:BW141,\"<=\"&$BW123)/SUM($CA107:$CA123),SUMIFS(CA107:CA141,BW107:BW141,\">=\"&$BW123-2,BW107:BW141,\"<=\"&$BW123)/SUM($CA107:$CA123),SUMIFS(CA107:CA141,BW107:BW141,\">=\"&$BW123-3,BW107:BW141,\"<=\"&$BW123)/SUM($CA107:$CA123)) )","v":1}]
[null,null,null,null,null,null,null,null,null,null,null,null,null,null,null,null,18,null,null,null,null,null,null,null,18,null,null,null,null,null,null,null,null,null,"Composite Fuel Economy (MPG) [0]",null,null,{"$f":"IFERROR(astm(1/(0.55/AQ145+0.45/AR145),0),0)","v":0},null,null,"NEW","CD utilitized CREE (43/57 FUF, Rcdc), adjusted (g/mi) [1]",{"$f":"astm(SUMIF(AV107:AV141,\"<=\" & (AQ130),BQ107:BQ141),1)","v":0},{"$f":"astm(SUMIF(BW107:BW141,\"<=\" & (AR130),CR107:CR141),1)","v":0},null,null,null,18,"","","","",{"$f":"IFERROR(astm(  astm($W$142,3)*1000*(AZ124/AQ109),1),\"\")","v":""},"","","",{"$f":"IFERROR(astm(cityfuf(BB124),3)-astm(cityfuf(BB123),3),\"\")","v":""},"","","","","","",{"$f":"IFERROR(astm(mdiuf(BK124),3)-astm(mdiuf(BK123),3),\"\")","v":""},"","",{"$f":"IFERROR(astm(cityfufalt(BK124),3)-astm(cityfufalt(BK123),3),\"\")","v":""},"","","",{"$f":"IF(AZ124=\"\",1, MIN(IFERROR((AZ124/1000)/((AW124*$J$22)*$J$21/3600),1),IFERROR((SUMIFS(AZ107:AZ141,AV107:AV141,\"<=\"&$AV124,AV107:AV141,\">=\"&$AV124-1)/1000)/(  $J$22*SUMIFS(AW107:AW141,AV107:AV141,\"<=\"&$AV124,AV107:AV141,\">=\"&$AV124-1)*$J$21/3600),1),IFERROR((SUMIFS(AZ107:AZ141,AV107:AV141,\"<=\"&$AV124,AV107:AV141,\">=\"&$AV124-2)/1000)/(  $J$22*SUMIFS(AW107:AW141,AV107:AV141,\"<=\"&$AV124,AV107:AV141,\">=\"&$AV124-2)*$J$21/3600),1),IFERROR((SUMIFS(AZ107:AZ141,AV107:AV141,\"<=\"&$AV124,AV107:AV141,\">=\"&$AV124-3)/1000)/(  $J$22*SUMIFS(AW107:AW141,AV107:AV141,\"<=\"&$AV124,AV107:AV141,\">=\"&$AV124-3)*$J$21/3600),1)) )","v":1},"",{"$f":"IF(AZ124=\"\",1, MIN($AZ124/SUM($AZ107:$AZ124),SUMIFS(AZ107:AZ141,AV107:AV141,\">=\"&$AV124-1,AV107:AV141,\"<=\"&$AV124)/SUM($AZ107:$AZ124),SUMIFS(AZ107:AZ141,AV107:AV141,\">=\"&$AV124-2,AV107:AV141,\"<=\"&$AV124)/SUM($AZ107:$AZ124),SUMIFS(AZ107:AZ141,AV107:AV141,\">=\"&$AV124-3,AV107:AV141,\"<=\"&$AV124)/SUM($AZ107:$AZ124)) )","v":1},null,18,"","","","","","","","",{"$f":"IFERROR(astm(highwayfuf(CC124)-highwayfuf(CC123),3),\"\")","v":""},"","","","","","",{"$f":"IFERROR(astm(mdiuf(CL124)-mdiuf(CL123),3),\"\")","v":""},"","",{"$f":"IFERROR(astm(highwayfufalt(CL124)-highwayfufalt(CL123),3),\"\")","v":""},"","","",{"$f":"IF(CA124=\"\",1, MIN(IFERROR((CA124/1000)/((BX124*$J$22)*$J$21/3600),1),IFERROR((SUMIFS(CA107:CA141,BW107:BW141,\"<=\"&$BW124,BW107:BW141,\">=\"&$BW124-1)/1000)/(  $J$22*SUMIFS(BX107:BX141,BW107:BW141,\"<=\"&$BW124,BW107:BW141,\">=\"&$BW124-1)*$J$21/3600),1),IFERROR((SUMIFS(CA107:CA141,BW107:BW141,\"<=\"&$BW124,BW107:BW141,\">=\"&$BW124-2)/1000)/(  $J$22*SUMIFS(BX107:BX141,BW107:BW141,\"<=\"&$BW124,BW107:BW141,\">=\"&$BW124-2)*$J$21/3600),1),IFERROR((SUMIFS(CA107:CA141,BW107:BW141,\"<=\"&$BW124,BW107:BW141,\">=\"&$BW124-3)/1000)/(  $J$22*SUMIFS(BX107:BX141,BW107:BW141,\"<=\"&$BW124,BW107:BW141,\">=\"&$BW124-3)*$J$21/3600),1)) )","v":1},"",{"$f":"IF(CA124=\"\",1, MIN($CA124/SUM($CA107:$CA124),SUMIFS(CA107:CA141,BW107:BW141,\">=\"&$BW124-1,BW107:BW141,\"<=\"&$BW124)/SUM($CA107:$CA124),SUMIFS(CA107:CA141,BW107:BW141,\">=\"&$BW124-2,BW107:BW141,\"<=\"&$BW124)/SUM($CA107:$CA124),SUMIFS(CA107:CA141,BW107:BW141,\">=\"&$BW124-3,BW107:BW141,\"<=\"&$BW124)/SUM($CA107:$CA124)) )","v":1}]
[null,null,null,null,null,null,null,null,null,null,null,null,null,null,null,null,19,null,null,null,null,null,null,null,19,null,null,null,null,null,null,null,null,null,"HOV Lane Values","City","Highway","Combined",null,null,null,"UTILITY FACTORS & OTHER METRICS","CITY","HIGHWAY",null,null,null,19,"","","","",{"$f":"IFERROR(astm(  astm($W$142,3)*1000*(AZ125/AQ109),1),\"\")","v":""},"","","",{"$f":"IFERROR(astm(cityfuf(BB125),3)-astm(cityfuf(BB124),3),\"\")","v":""},"","","","","","",{"$f":"IFERROR(astm(mdiuf(BK125),3)-astm(mdiuf(BK124),3),\"\")","v":""},"","",{"$f":"IFERROR(astm(cityfufalt(BK125),3)-astm(cityfufalt(BK124),3),\"\")","v":""},"","","",{"$f":"IF(AZ125=\"\",1, MIN(IFERROR((AZ125/1000)/((AW125*$J$22)*$J$21/3600),1),IFERROR((SUMIFS(AZ107:AZ141,AV107:AV141,\"<=\"&$AV125,AV107:AV141,\">=\"&$AV125-1)/1000)/(  $J$22*SUMIFS(AW107:AW141,AV107:AV141,\"<=\"&$AV125,AV107:AV141,\">=\"&$AV125-1)*$J$21/3600),1),IFERROR((SUMIFS(AZ107:AZ141,AV107:AV141,\"<=\"&$AV125,AV107:AV141,\">=\"&$AV125-2)/1000)/(  $J$22*SUMIFS(AW107:AW141,AV107:AV141,\"<=\"&$AV125,AV107:AV141,\">=\"&$AV125-2)*$J$21/3600),1),IFERROR((SUMIFS(AZ107:AZ141,AV107:AV141,\"<=\"&$AV125,AV107:AV141,\">=\"&$AV125-3)/1000)/(  $J$22*SUMIFS(AW107:AW141,AV107:AV141,\"<=\"&$AV125,AV107:AV141,\">=\"&$AV125-3)*$J$21/3600),1)) )","v":1},"",{"$f":"IF(AZ125=\"\",1, MIN($AZ125/SUM($AZ107:$AZ125),SUMIFS(AZ107:AZ141,AV107:AV141,\">=\"&$AV125-1,AV107:AV141,\"<=\"&$AV125)/SUM($AZ107:$AZ125),SUMIFS(AZ107:AZ141,AV107:AV141,\">=\"&$AV125-2,AV107:AV141,\"<=\"&$AV125)/SUM($AZ107:$AZ125),SUMIFS(AZ107:AZ141,AV107:AV141,\">=\"&$AV125-3,AV107:AV141,\"<=\"&$AV125)/SUM($AZ107:$AZ125)) )","v":1},null,19,"","","","","","","","",{"$f":"IFERROR(astm(highwayfuf(CC125)-highwayfuf(CC124),3),\"\")","v":""},"","","","","","",{"$f":"IFERROR(astm(mdiuf(CL125)-mdiuf(CL124),3),\"\")","v":""},"","",{"$f":"IFERROR(astm(highwayfufalt(CL125)-highwayfufalt(CL124),3),\"\")","v":""},"","","",{"$f":"IF(CA125=\"\",1, MIN(IFERROR((CA125/1000)/((BX125*$J$22)*$J$21/3600),1),IFERROR((SUMIFS(CA107:CA141,BW107:BW141,\"<=\"&$BW125,BW107:BW141,\">=\"&$BW125-1)/1000)/(  $J$22*SUMIFS(BX107:BX141,BW107:BW141,\"<=\"&$BW125,BW107:BW141,\">=\"&$BW125-1)*$J$21/3600),1),IFERROR((SUMIFS(CA107:CA141,BW107:BW141,\"<=\"&$BW125,BW107:BW141,\">=\"&$BW125-2)/1000)/(  $J$22*SUMIFS(BX107:BX141,BW107:BW141,\"<=\"&$BW125,BW107:BW141,\">=\"&$BW125-2)*$J$21/3600),1),IFERROR((SUMIFS(CA107:CA141,BW107:BW141,\"<=\"&$BW125,BW107:BW141,\">=\"&$BW125-3)/1000)/(  $J$22*SUMIFS(BX107:BX141,BW107:BW141,\"<=\"&$BW125,BW107:BW141,\">=\"&$BW125-3)*$J$21/3600),1)) )","v":1},"",{"$f":"IF(CA125=\"\",1, MIN($CA125/SUM($CA107:$CA125),SUMIFS(CA107:CA141,BW107:BW141,\">=\"&$BW125-1,BW107:BW141,\"<=\"&$BW125)/SUM($CA107:$CA125),SUMIFS(CA107:CA141,BW107:BW141,\">=\"&$BW125-2,BW107:BW141,\"<=\"&$BW125)/SUM($CA107:$CA125),SUMIFS(CA107:CA141,BW107:BW141,\">=\"&$BW125-3,BW107:BW141,\"<=\"&$BW125)/SUM($CA107:$CA125)) )","v":1}]
[null,null,null,null,null,null,null,null,null,null,null,null,null,null,null,null,20,null,null,null,null,null,null,null,20,null,null,null,null,null,null,null,null,null,"MDIUF based on unadjusted Rcda [3]",{"$f":"IFERROR(astm(mdiuf(AQ102),3),0)","v":0},{"$f":"IFERROR(astm(mdiuf(AR102),3),0)","v":0},null,null,null,null,"CD 55/45 Fleet Utility Factor (FUF) for Rcdc [3]",{"$f":"astm(SUMIF(AV107:AV141,\"<=\"&AQ130,BE107:BE141),3)","v":0},{"$f":"astm(SUMIF(BW107:BW141,\"<=\"&AR130,CF107:CF141),3)","v":0},null,null,null,20,"","","","",{"$f":"IFERROR(astm(  astm($W$142,3)*1000*(AZ126/AQ109),1),\"\")","v":""},"","","",{"$f":"IFERROR(astm(cityfuf(BB126),3)-astm(cityfuf(BB125),3),\"\")","v":""},"","","","","","",{"$f":"IFERROR(astm(mdiuf(BK126),3)-astm(mdiuf(BK125),3),\"\")","v":""},"","",{"$f":"IFERROR(astm(cityfufalt(BK126),3)-astm(cityfufalt(BK125),3),\"\")","v":""},"","","",{"$f":"IF(AZ126=\"\",1, MIN(IFERROR((AZ126/1000)/((AW126*$J$22)*$J$21/3600),1),IFERROR((SUMIFS(AZ107:AZ141,AV107:AV141,\"<=\"&$AV126,AV107:AV141,\">=\"&$AV126-1)/1000)/(  $J$22*SUMIFS(AW107:AW141,AV107:AV141,\"<=\"&$AV126,AV107:AV141,\">=\"&$AV126-1)*$J$21/3600),1),IFERROR((SUMIFS(AZ107:AZ141,AV107:AV141,\"<=\"&$AV126,AV107:AV141,\">=\"&$AV126-2)/1000)/(  $J$22*SUMIFS(AW107:AW141,AV107:AV141,\"<=\"&$AV126,AV107:AV141,\">=\"&$AV126-2)*$J$21/3600),1),IFERROR((SUMIFS(AZ107:AZ141,AV107:AV141,\"<=\"&$AV126,AV107:AV141,\">=\"&$AV126-3)/1000)/(  $J$22*SUMIFS(AW107:AW141,AV107:AV141,\"<=\"&$AV126,AV107:AV141,\">=\"&$AV126-3)*$J$21/3600),1)) )","v":1},"",{"$f":"IF(AZ126=\"\",1, MIN($AZ126/SUM($AZ107:$AZ126),SUMIFS(AZ107:AZ141,AV107:AV141,\">=\"&$AV126-1,AV107:AV141,\"<=\"&$AV126)/SUM($AZ107:$AZ126),SUMIFS(AZ107:AZ141,AV107:AV141,\">=\"&$AV126-2,AV107:AV141,\"<=\"&$AV126)/SUM($AZ107:$AZ126),SUMIFS(AZ107:AZ141,AV107:AV141,\">=\"&$AV126-3,AV107:AV141,\"<=\"&$AV126)/SUM($AZ107:$AZ126)) )","v":1},null,20,"","","","","","","","",{"$f":"IFERROR(astm(highwayfuf(CC126)-highwayfuf(CC125),3),\"\")","v":""},"","","","","","",{"$f":"IFERROR(astm(mdiuf(CL126)-mdiuf(CL125),3),\"\")","v":""},"","",{"$f":"IFERROR(astm(highwayfufalt(CL126)-highwayfufalt(CL125),3),\"\")","v":""},"","","",{"$f":"IF(CA126=\"\",1, MIN(IFERROR((CA126/1000)/((BX126*$J$22)*$J$21/3600),1),IFERROR((SUMIFS(CA107:CA141,BW107:BW141,\"<=\"&$BW126,BW107:BW141,\">=\"&$BW126-1)/1000)/(  $J$22*SUMIFS(BX107:BX141,BW107:BW141,\"<=\"&$BW126,BW107:BW141,\">=\"&$BW126-1)*$J$21/3600),1),IFERROR((SUMIFS(CA107:CA141,BW107:BW141,\"<=\"&$BW126,BW107:BW141,\">=\"&$BW126-2)/1000)/(  $J$22*SUMIFS(BX107:BX141,BW107:BW141,\"<=\"&$BW126,BW107:BW141,\">=\"&$BW126-2)*$J$21/3600),1),IFERROR((SUMIFS(CA107:CA141,BW107:BW141,\"<=\"&$BW126,BW107:BW141,\">=\"&$BW126-3)/1000)/(  $J$22*SUMIFS(BX107:BX141,BW107:BW141,\"<=\"&$BW126,BW107:BW141,\">=\"&$BW126-3)*$J$21/3600),1)) )","v":1},"",{"$f":"IF(CA126=\"\",1, MIN($CA126/SUM($CA107:$CA126),SUMIFS(CA107:CA141,BW107:BW141,\">=\"&$BW126-1,BW107:BW141,\"<=\"&$BW126)/SUM($CA107:$CA126),SUMIFS(CA107:CA141,BW107:BW141,\">=\"&$BW126-2,BW107:BW141,\"<=\"&$BW126)/SUM($CA107:$CA126),SUMIFS(CA107:CA141,BW107:BW141,\">=\"&$BW126-3,BW107:BW141,\"<=\"&$BW126)/SUM($CA107:$CA126)) )","v":1}]
[null,null,null,null,null,null,null,null,null,null,null,null,null,null,null,null,21,null,null,null,null,null,null,null,21,null,null,null,null,null,null,null,null,null,"Composite CD/CS Fuel Economy (MPGe) [4]",{"$f":"IFERROR(astm(1/(AJ126/(AQ102/     AQ110  )+(1-AJ126)/N107),4),0)","v":0},{"$f":"IFERROR(astm(1/(AK126/(AR102/     AR110  )+(1-AK126)/O107),4),0)","v":0},{"$f":"IFERROR(astm(1/(0.55/AJ127+0.45/AK127),4),0)","v":0},null,null,null,"MDIUF based on Rcda, adjusted [3]",{"$f":"astm(mdiuf(AQ103),3)","v":0},{"$f":"astm(mdiuf(AR103),3)","v":0},null,null,null,21,"","","","",{"$f":"IFERROR(astm(  astm($W$142,3)*1000*(AZ127/AQ109),1),\"\")","v":""},"","","",{"$f":"IFERROR(astm(cityfuf(BB127),3)-astm(cityfuf(BB126),3),\"\")","v":""},"","","","","","",{"$f":"IFERROR(astm(mdiuf(BK127),3)-astm(mdiuf(BK126),3),\"\")","v":""},"","",{"$f":"IFERROR(astm(cityfufalt(BK127),3)-astm(cityfufalt(BK126),3),\"\")","v":""},"","","",{"$f":"IF(AZ127=\"\",1, MIN(IFERROR((AZ127/1000)/((AW127*$J$22)*$J$21/3600),1),IFERROR((SUMIFS(AZ107:AZ141,AV107:AV141,\"<=\"&$AV127,AV107:AV141,\">=\"&$AV127-1)/1000)/(  $J$22*SUMIFS(AW107:AW141,AV107:AV141,\"<=\"&$AV127,AV107:AV141,\">=\"&$AV127-1)*$J$21/3600),1),IFERROR((SUMIFS(AZ107:AZ141,AV107:AV141,\"<=\"&$AV127,AV107:AV141,\">=\"&$AV127-2)/1000)/(  $J$22*SUMIFS(AW107:AW141,AV107:AV141,\"<=\"&$AV127,AV107:AV141,\">=\"&$AV127-2)*$J$21/3600),1),IFERROR((SUMIFS(AZ107:AZ141,AV107:AV141,\"<=\"&$AV127,AV107:AV141,\">=\"&$AV127-3)/1000)/(  $J$22*SUMIFS(AW107:AW141,AV107:AV141,\"<=\"&$AV127,AV107:AV141,\">=\"&$AV127-3)*$J$21/3600),1)) )","v":1},"",{"$f":"IF(AZ127=\"\",1, MIN($AZ127/SUM($AZ107:$AZ127),SUMIFS(AZ107:AZ141,AV107:AV141,\">=\"&$AV127-1,AV107:AV141,\"<=\"&$AV127)/SUM($AZ107:$AZ127),SUMIFS(AZ107:AZ141,AV107:AV141,\">=\"&$AV127-2,AV107:AV141,\"<=\"&$AV127)/SUM($AZ107:$AZ127),SUMIFS(AZ107:AZ141,AV107:AV141,\">=\"&$AV127-3,AV107:AV141,\"<=\"&$AV127)/SUM($AZ107:$AZ127)) )","v":1},null,21,"","","","","","","","",{"$f":"IFERROR(astm(highwayfuf(CC127)-highwayfuf(CC126),3),\"\")","v":""},"","","","","","",{"$f":"IFERROR(astm(mdiuf(CL127)-mdiuf(CL126),3),\"\")","v":""},"","",{"$f":"IFERROR(astm(highwayfufalt(CL127)-highwayfufalt(CL126),3),\"\")","v":""},"","","",{"$f":"IF(CA127=\"\",1, MIN(IFERROR((CA127/1000)/((BX127*$J$22)*$J$21/3600),1),IFERROR((SUMIFS(CA107:CA141,BW107:BW141,\"<=\"&$BW127,BW107:BW141,\">=\"&$BW127-1)/1000)/(  $J$22*SUMIFS(BX107:BX141,BW107:BW141,\"<=\"&$BW127,BW107:BW141,\">=\"&$BW127-1)*$J$21/3600),1),IFERROR((SUMIFS(CA107:CA141,BW107:BW141,\"<=\"&$BW127,BW107:BW141,\">=\"&$BW127-2)/1000)/(  $J$22*SUMIFS(BX107:BX141,BW107:BW141,\"<=\"&$BW127,BW107:BW141,\">=\"&$BW127-2)*$J$21/3600),1),IFERROR((SUMIFS(CA107:CA141,BW107:BW141,\"<=\"&$BW127,BW107:BW141,\">=\"&$BW127-3)/1000)/(  $J$22*SUMIFS(BX107:BX141,BW107:BW141,\"<=\"&$BW127,BW107:BW141,\">=\"&$BW127-3)*$J$21/3600),1)) )","v":1},"",{"$f":"IF(CA127=\"\",1, MIN($CA127/SUM($CA107:$CA127),SUMIFS(CA107:CA141,BW107:BW141,\">=\"&$BW127-1,BW107:BW141,\"<=\"&$BW127)/SUM($CA107:$CA127),SUMIFS(CA107:CA141,BW107:BW141,\">=\"&$BW127-2,BW107:BW141,\"<=\"&$BW127)/SUM($CA107:$CA127),SUMIFS(CA107:CA141,BW107:BW141,\">=\"&$BW127-3,BW107:BW141,\"<=\"&$BW127)/SUM($CA107:$CA127)) )","v":1}]
[null,null,null,null,null,null,null,null,null,null,null,null,null,null,null,null,22,null,null,null,null,null,null,null,22,null,null,null,null,null,null,null,null,null,"Trends Report Values","City","Highway","Combined",null,null,null,"MDIUF based on Rcdc, unadjusted [3]",{"$f":"astm(SUMIF(AV107:AV141,\"<=\" & AQ130,BL107:BL141),3)","v":0},{"$f":"astm(SUMIF(BW107:BW141,\"<=\" & AR130,CM107:CM141),3)","v":0},null,null,null,22,"","","","",{"$f":"IFERROR(astm(  astm($W$142,3)*1000*(AZ128/AQ109),1),\"\")","v":""},"","","",{"$f":"IFERROR(astm(cityfuf(BB128),3)-astm(cityfuf(BB127),3),\"\")","v":""},"","","","","","",{"$f":"IFERROR(astm(mdiuf(BK128),3)-astm(mdiuf(BK127),3),\"\")","v":""},"","",{"$f":"IFERROR(astm(cityfufalt(BK128),3)-astm(cityfufalt(BK127),3),\"\")","v":""},"","","",{"$f":"IF(AZ128=\"\",1, MIN(IFERROR((AZ128/1000)/((AW128*$J$22)*$J$21/3600),1),IFERROR((SUMIFS(AZ107:AZ141,AV107:AV141,\"<=\"&$AV128,AV107:AV141,\">=\"&$AV128-1)/1000)/(  $J$22*SUMIFS(AW107:AW141,AV107:AV141,\"<=\"&$AV128,AV107:AV141,\">=\"&$AV128-1)*$J$21/3600),1),IFERROR((SUMIFS(AZ107:AZ141,AV107:AV141,\"<=\"&$AV128,AV107:AV141,\">=\"&$AV128-2)/1000)/(  $J$22*SUMIFS(AW107:AW141,AV107:AV141,\"<=\"&$AV128,AV107:AV141,\">=\"&$AV128-2)*$J$21/3600),1),IFERROR((SUMIFS(AZ107:AZ141,AV107:AV141,\"<=\"&$AV128,AV107:AV141,\">=\"&$AV128-3)/1000)/(  $J$22*SUMIFS(AW107:AW141,AV107:AV141,\"<=\"&$AV128,AV107:AV141,\">=\"&$AV128-3)*$J$21/3600),1)) )","v":1},"",{"$f":"IF(AZ128=\"\",1, MIN($AZ128/SUM($AZ107:$AZ128),SUMIFS(AZ107:AZ141,AV107:AV141,\">=\"&$AV128-1,AV107:AV141,\"<=\"&$AV128)/SUM($AZ107:$AZ128),SUMIFS(AZ107:AZ141,AV107:AV141,\">=\"&$AV128-2,AV107:AV141,\"<=\"&$AV128)/SUM($AZ107:$AZ128),SUMIFS(AZ107:AZ141,AV107:AV141,\">=\"&$AV128-3,AV107:AV141,\"<=\"&$AV128)/SUM($AZ107:$AZ128)) )","v":1},null,22,"","","","","","","","",{"$f":"IFERROR(astm(highwayfuf(CC128)-highwayfuf(CC127),3),\"\")","v":""},"","","","","","",{"$f":"IFERROR(astm(mdiuf(CL128)-mdiuf(CL127),3),\"\")","v":""},"","",{"$f":"IFERROR(astm(highwayfufalt(CL128)-highwayfufalt(CL127),3),\"\")","v":""},"","","",{"$f":"IF(CA128=\"\",1, MIN(IFERROR((CA128/1000)/((BX128*$J$22)*$J$21/3600),1),IFERROR((SUMIFS(CA107:CA141,BW107:BW141,\"<=\"&$BW128,BW107:BW141,\">=\"&$BW128-1)/1000)/(  $J$22*SUMIFS(BX107:BX141,BW107:BW141,\"<=\"&$BW128,BW107:BW141,\">=\"&$BW128-1)*$J$21/3600),1),IFERROR((SUMIFS(CA107:CA141,BW107:BW141,\"<=\"&$BW128,BW107:BW141,\">=\"&$BW128-2)/1000)/(  $J$22*SUMIFS(BX107:BX141,BW107:BW141,\"<=\"&$BW128,BW107:BW141,\">=\"&$BW128-2)*$J$21/3600),1),IFERROR((SUMIFS(CA107:CA141,BW107:BW141,\"<=\"&$BW128,BW107:BW141,\">=\"&$BW128-3)/1000)/(  $J$22*SUMIFS(BX107:BX141,BW107:BW141,\"<=\"&$BW128,BW107:BW141,\">=\"&$BW128-3)*$J$21/3600),1)) )","v":1},"",{"$f":"IF(CA128=\"\",1, MIN($CA128/SUM($CA107:$CA128),SUMIFS(CA107:CA141,BW107:BW141,\">=\"&$BW128-1,BW107:BW141,\"<=\"&$BW128)/SUM($CA107:$CA128),SUMIFS(CA107:CA141,BW107:BW141,\">=\"&$BW128-2,BW107:BW141,\"<=\"&$BW128)/SUM($CA107:$CA128),SUMIFS(CA107:CA141,BW107:BW141,\">=\"&$BW128-3,BW107:BW141,\"<=\"&$BW128)/SUM($CA107:$CA128)) )","v":1}]
[null,null,null,null,null,null,null,null,null,null,null,null,null,null,null,null,23,null,null,null,null,null,null,null,23,null,null,null,null,null,null,null,null,null,"Fleet Utility Factor (43/57) [3]",{"$f":"astm(SUMIF(AV107:AV136,\"<=\"&AQ130,BO107:BO136),3)","v":0},{"$f":"astm(SUMIF(BW107:BW136,\"<=\"&AR130,CP107:CP136),3)","v":0},{"$f":"0.55*AJ129+0.45*AK129","v":0},null,null,null,"Fraction of transition cycle that is charge-depleting operation (Zn) [3]",{"$f":" astm( IF((IF( SUMIF(AV107:AV141,\"=\" & ($AQ130),AY107:AY141)/SUMIF(AV107:AV141,\"=\" & ($AQ130-1),AY107:AY141)<0,0, SUMIF(AV107:AV141,\"=\" & ($AQ130),AY107:AY141)/SUMIF(AV107:AV141,\"=\" & ($AQ130-1),AY107:AY141)))<0,0, IF((IF( SUMIF(AV107:AV141,\"=\" & ($AQ130),AY107:AY141)/SUMIF(AV107:AV141,\"=\" & ($AQ130-1),AY107:AY141)<0,0, SUMIF(AV107:AV141,\"=\" & ($AQ130),AY107:AY141)/SUMIF(AV107:AV141,\"=\" & ($AQ130-1),AY107:AY141)))>1,1, (IF( SUMIF(AV107:AV141,\"=\" & ($AQ130),AY107:AY141)/SUMIF(AV107:AV141,\"=\" & ($AQ130-1),AY107:AY141)<0,0, SUMIF(AV107:AV141,\"=\" & ($AQ130),AY107:AY141)/SUMIF(AV107:AV141,\"=\" & ($AQ130-1),AY107:AY141))))), 3)","v":{"$error":"#VALUE!"}},{"$f":" astm( IF((IF( SUMIF(BW107:BW141,\"=\" & ($AR130),BZ107:BZ141)/SUMIF(BW107:BW141,\"=\" & ($AR130-1),BZ107:BZ141)<0,0, SUMIF(BW107:BW141,\"=\" & ($AR130),BZ107:BZ141)/SUMIF(BW107:BW141,\"=\" & ($AR130-1),BZ107:BZ141)))<0,0, IF((IF( SUMIF(BW107:BW141,\"=\" & ($AR130),BZ107:BZ141)/SUMIF(BW107:BW141,\"=\" & ($AR130-1),BZ107:BZ141)<0,0, SUMIF(BW107:BW141,\"=\" & ($AR130),BZ107:BZ141)/SUMIF(BW107:BW141,\"=\" & ($AR130-1),BZ107:BZ141)))>1,1, (IF( SUMIF(BW107:BW141,\"=\" & ($AR130),BZ107:BZ141)/SUMIF(BW107:BW141,\"=\" & ($AR130-1),BZ107:BZ141)<0,0, SUMIF(BW107:BW141,\"=\" & ($AR130),BZ107:BZ141)/SUMIF(BW107:BW141,\"=\" & ($AR130-1),BZ107:BZ141))))), 3)","v":{"$error":"#VALUE!"}},null,null,null,23,"","","","",{"$f":"IFERROR(astm(  astm($W$142,3)*1000*(AZ129/AQ109),1),\"\")","v":""},"","","",{"$f":"IFERROR(astm(cityfuf(BB129),3)-astm(cityfuf(BB128),3),\"\")","v":""},"","","","","","",{"$f":"IFERROR(astm(mdiuf(BK129),3)-astm(mdiuf(BK128),3),\"\")","v":""},"","",{"$f":"IFERROR(astm(cityfufalt(BK129),3)-astm(cityfufalt(BK128),3),\"\")","v":""},"","","",{"$f":"IF(AZ129=\"\",1, MIN(IFERROR((AZ129/1000)/((AW129*$J$22)*$J$21/3600),1),IFERROR((SUMIFS(AZ107:AZ141,AV107:AV141,\"<=\"&$AV129,AV107:AV141,\">=\"&$AV129-1)/1000)/(  $J$22*SUMIFS(AW107:AW141,AV107:AV141,\"<=\"&$AV129,AV107:AV141,\">=\"&$AV129-1)*$J$21/3600),1),IFERROR((SUMIFS(AZ107:AZ141,AV107:AV141,\"<=\"&$AV129,AV107:AV141,\">=\"&$AV129-2)/1000)/(  $J$22*SUMIFS(AW107:AW141,AV107:AV141,\"<=\"&$AV129,AV107:AV141,\">=\"&$AV129-2)*$J$21/3600),1),IFERROR((SUMIFS(AZ107:AZ141,AV107:AV141,\"<=\"&$AV129,AV107:AV141,\">=\"&$AV129-3)/1000)/(  $J$22*SUMIFS(AW107:AW141,AV107:AV141,\"<=\"&$AV129,AV107:AV141,\">=\"&$AV129-3)*$J$21/3600),1)) )","v":1},"",{"$f":"IF(AZ129=\"\",1, MIN($AZ129/SUM($AZ107:$AZ129),SUMIFS(AZ107:AZ141,AV107:AV141,\">=\"&$AV129-1,AV107:AV141,\"<=\"&$AV129)/SUM($AZ107:$AZ129),SUMIFS(AZ107:AZ141,AV107:AV141,\">=\"&$AV129-2,AV107:AV141,\"<=\"&$AV129)/SUM($AZ107:$AZ129),SUMIFS(AZ107:AZ141,AV107:AV141,\">=\"&$AV129-3,AV107:AV141,\"<=\"&$AV129)/SUM($AZ107:$AZ129)) )","v":1},null,23,"","","","","","","","",{"$f":"IFERROR(astm(highwayfuf(CC129)-highwayfuf(CC128),3),\"\")","v":""},"","","","","","",{"$f":"IFERROR(astm(mdiuf(CL129)-mdiuf(CL128),3),\"\")","v":""},"","",{"$f":"IFERROR(astm(highwayfufalt(CL129)-highwayfufalt(CL128),3),\"\")","v":""},"","","",{"$f":"IF(CA129=\"\",1, MIN(IFERROR((CA129/1000)/((BX129*$J$22)*$J$21/3600),1),IFERROR((SUMIFS(CA107:CA141,BW107:BW141,\"<=\"&$BW129,BW107:BW141,\">=\"&$BW129-1)/1000)/(  $J$22*SUMIFS(BX107:BX141,BW107:BW141,\"<=\"&$BW129,BW107:BW141,\">=\"&$BW129-1)*$J$21/3600),1),IFERROR((SUMIFS(CA107:CA141,BW107:BW141,\"<=\"&$BW129,BW107:BW141,\">=\"&$BW129-2)/1000)/(  $J$22*SUMIFS(BX107:BX141,BW107:BW141,\"<=\"&$BW129,BW107:BW141,\">=\"&$BW129-2)*$J$21/3600),1),IFERROR((SUMIFS(CA107:CA141,BW107:BW141,\"<=\"&$BW129,BW107:BW141,\">=\"&$BW129-3)/1000)/(  $J$22*SUMIFS(BX107:BX141,BW107:BW141,\"<=\"&$BW129,BW107:BW141,\">=\"&$BW129-3)*$J$21/3600),1)) )","v":1},"",{"$f":"IF(CA129=\"\",1, MIN($CA129/SUM($CA107:$CA129),SUMIFS(CA107:CA141,BW107:BW141,\">=\"&$BW129-1,BW107:BW141,\"<=\"&$BW129)/SUM($CA107:$CA129),SUMIFS(CA107:CA141,BW107:BW141,\">=\"&$BW129-2,BW107:BW141,\"<=\"&$BW129)/SUM($CA107:$CA129),SUMIFS(CA107:CA141,BW107:BW141,\">=\"&$BW129-3,BW107:BW141,\"<=\"&$BW129)/SUM($CA107:$CA129)) )","v":1}]
[null,null,null,null,null,null,null,null,null,null,null,null,null,null,null,null,24,null,null,null,null,null,null,null,24,null,null,null,null,null,null,null,null,null,"Unadjusted Fuel Economy (MPG) [4]",{"$f":"AJ105","v":0},{"$f":"AK105","v":0},{"$f":"AL105","v":0},null,null,null,"Number of last cycle number with charge-depleting operation (transition cycle) [0]",{"$f":"IF(ISNUMBER(W144), W144,   IF(COUNTIF(BR107:BR141,\"CD\") < COUNT(R107:R141), COUNTIF(BR107:BR141,\"CD\"),     IF(COUNTIF(BT107:BT141,\"CD\") < COUNT(R107:R141), COUNTIF(BT107:BT141,\"CD\"),     \"EOT ERROR\"     )     )    )","v":"EOT ERROR"},{"$f":"IF(ISNUMBER(AE144), AE144,   IF(COUNTIF(CS107:CS141,\"CD\") < COUNT(Z107:Z141), COUNTIF(CS107:CS141,\"CD\"),     IF(COUNTIF(CU107:CU141,\"CD\") < COUNT(Z107:Z141), COUNTIF(CU107:CU141,\"CD\"),     \"EOT ERROR\"     )     )    )","v":"EOT ERROR"},null,null,null,24,"","","","",{"$f":"IFERROR(astm(  astm($W$142,3)*1000*(AZ130/AQ109),1),\"\")","v":""},"","","",{"$f":"IFERROR(astm(cityfuf(BB130),3)-astm(cityfuf(BB129),3),\"\")","v":""},"","","","","","",{"$f":"IFERROR(astm(mdiuf(BK130),3)-astm(mdiuf(BK129),3),\"\")","v":""},"","",{"$f":"IFERROR(astm(cityfufalt(BK130),3)-astm(cityfufalt(BK129),3),\"\")","v":""},"","","",{"$f":"IF(AZ130=\"\",1, MIN(IFERROR((AZ130/1000)/((AW130*$J$22)*$J$21/3600),1),IFERROR((SUMIFS(AZ107:AZ141,AV107:AV141,\"<=\"&$AV130,AV107:AV141,\">=\"&$AV130-1)/1000)/(  $J$22*SUMIFS(AW107:AW141,AV107:AV141,\"<=\"&$AV130,AV107:AV141,\">=\"&$AV130-1)*$J$21/3600),1),IFERROR((SUMIFS(AZ107:AZ141,AV107:AV141,\"<=\"&$AV130,AV107:AV141,\">=\"&$AV130-2)/1000)/(  $J$22*SUMIFS(AW107:AW141,AV107:AV141,\"<=\"&$AV130,AV107:AV141,\">=\"&$AV130-2)*$J$21/3600),1),IFERROR((SUMIFS(AZ107:AZ141,AV107:AV141,\"<=\"&$AV130,AV107:AV141,\">=\"&$AV130-3)/1000)/(  $J$22*SUMIFS(AW107:AW141,AV107:AV141,\"<=\"&$AV130,AV107:AV141,\">=\"&$AV130-3)*$J$21/3600),1)) )","v":1},"",{"$f":"IF(AZ130=\"\",1, MIN($AZ130/SUM($AZ107:$AZ130),SUMIFS(AZ107:AZ141,AV107:AV141,\">=\"&$AV130-1,AV107:AV141,\"<=\"&$AV130)/SUM($AZ107:$AZ130),SUMIFS(AZ107:AZ141,AV107:AV141,\">=\"&$AV130-2,AV107:AV141,\"<=\"&$AV130)/SUM($AZ107:$AZ130),SUMIFS(AZ107:AZ141,AV107:AV141,\">=\"&$AV130-3,AV107:AV141,\"<=\"&$AV130)/SUM($AZ107:$AZ130)) )","v":1},null,24,"","","","","","","","",{"$f":"IFERROR(astm(highwayfuf(CC130)-highwayfuf(CC129),3),\"\")","v":""},"","","","","","",{"$f":"IFERROR(astm(mdiuf(CL130)-mdiuf(CL129),3),\"\")","v":""},"","",{"$f":"IFERROR(astm(highwayfufalt(CL130)-highwayfufalt(CL129),3),\"\")","v":""},"","","",{"$f":"IF(CA130=\"\",1, MIN(IFERROR((CA130/1000)/((BX130*$J$22)*$J$21/3600),1),IFERROR((SUMIFS(CA107:CA141,BW107:BW141,\"<=\"&$BW130,BW107:BW141,\">=\"&$BW130-1)/1000)/(  $J$22*SUMIFS(BX107:BX141,BW107:BW141,\"<=\"&$BW130,BW107:BW141,\">=\"&$BW130-1)*$J$21/3600),1),IFERROR((SUMIFS(CA107:CA141,BW107:BW141,\"<=\"&$BW130,BW107:BW141,\">=\"&$BW130-2)/1000)/(  $J$22*SUMIFS(BX107:BX141,BW107:BW141,\"<=\"&$BW130,BW107:BW141,\">=\"&$BW130-2)*$J$21/3600),1),IFERROR((SUMIFS(CA107:CA141,BW107:BW141,\"<=\"&$BW130,BW107:BW141,\">=\"&$BW130-3)/1000)/(  $J$22*SUMIFS(BX107:BX141,BW107:BW141,\"<=\"&$BW130,BW107:BW141,\">=\"&$BW130-3)*$J$21/3600),1)) )","v":1},"",{"$f":"IF(CA130=\"\",1, MIN($CA130/SUM($CA107:$CA130),SUMIFS(CA107:CA141,BW107:BW141,\">=\"&$BW130-1,BW107:BW141,\"<=\"&$BW130)/SUM($CA107:$CA130),SUMIFS(CA107:CA141,BW107:BW141,\">=\"&$BW130-2,BW107:BW141,\"<=\"&$BW130)/SUM($CA107:$CA130),SUMIFS(CA107:CA141,BW107:BW141,\">=\"&$BW130-3,BW107:BW141,\"<=\"&$BW130)/SUM($CA107:$CA130)) )","v":1}]
[null,null,null,null,null,null,null,null,null,null,null,null,null,null,null,null,25,null,null,null,null,null,null,null,25,null,null,null,null,null,null,null,null,null,"Unadjusted GHG (g/mi) [1]",{"$f":"AJ107","v":0},{"$f":"AK107","v":0},{"$f":"AL107","v":0},null,null,"Intermediate Results Requiring Charge-Sustaining (CS) Test Results or Other Inputs",null,null,null,null,null,null,25,"","","","",{"$f":"IFERROR(astm(  astm($W$142,3)*1000*(AZ131/AQ109),1),\"\")","v":""},"","","",{"$f":"IFERROR(astm(cityfuf(BB131),3)-astm(cityfuf(BB130),3),\"\")","v":""},"","","","","","",{"$f":"IFERROR(astm(mdiuf(BK131),3)-astm(mdiuf(BK130),3),\"\")","v":""},"","",{"$f":"IFERROR(astm(cityfufalt(BK131),3)-astm(cityfufalt(BK130),3),\"\")","v":""},"","","",{"$f":"IF(AZ131=\"\",1, MIN(IFERROR((AZ131/1000)/((AW131*$J$22)*$J$21/3600),1),IFERROR((SUMIFS(AZ107:AZ141,AV107:AV141,\"<=\"&$AV131,AV107:AV141,\">=\"&$AV131-1)/1000)/(  $J$22*SUMIFS(AW107:AW141,AV107:AV141,\"<=\"&$AV131,AV107:AV141,\">=\"&$AV131-1)*$J$21/3600),1),IFERROR((SUMIFS(AZ107:AZ141,AV107:AV141,\"<=\"&$AV131,AV107:AV141,\">=\"&$AV131-2)/1000)/(  $J$22*SUMIFS(AW107:AW141,AV107:AV141,\"<=\"&$AV131,AV107:AV141,\">=\"&$AV131-2)*$J$21/3600),1),IFERROR((SUMIFS(AZ107:AZ141,AV107:AV141,\"<=\"&$AV131,AV107:AV141,\">=\"&$AV131-3)/1000)/(  $J$22*SUMIFS(AW107:AW141,AV107:AV141,\"<=\"&$AV131,AV107:AV141,\">=\"&$AV131-3)*$J$21/3600),1)) )","v":1},"",{"$f":"IF(AZ131=\"\",1, MIN($AZ131/SUM($AZ107:$AZ131),SUMIFS(AZ107:AZ141,AV107:AV141,\">=\"&$AV131-1,AV107:AV141,\"<=\"&$AV131)/SUM($AZ107:$AZ131),SUMIFS(AZ107:AZ141,AV107:AV141,\">=\"&$AV131-2,AV107:AV141,\"<=\"&$AV131)/SUM($AZ107:$AZ131),SUMIFS(AZ107:AZ141,AV107:AV141,\">=\"&$AV131-3,AV107:AV141,\"<=\"&$AV131)/SUM($AZ107:$AZ131)) )","v":1},null,25,"","","","","","","","",{"$f":"IFERROR(astm(highwayfuf(CC131)-highwayfuf(CC130),3),\"\")","v":""},"","","","","","",{"$f":"IFERROR(astm(mdiuf(CL131)-mdiuf(CL130),3),\"\")","v":""},"","",{"$f":"IFERROR(astm(highwayfufalt(CL131)-highwayfufalt(CL130),3),\"\")","v":""},"","","",{"$f":"IF(CA131=\"\",1, MIN(IFERROR((CA131/1000)/((BX131*$J$22)*$J$21/3600),1),IFERROR((SUMIFS(CA107:CA141,BW107:BW141,\"<=\"&$BW131,BW107:BW141,\">=\"&$BW131-1)/1000)/(  $J$22*SUMIFS(BX107:BX141,BW107:BW141,\"<=\"&$BW131,BW107:BW141,\">=\"&$BW131-1)*$J$21/3600),1),IFERROR((SUMIFS(CA107:CA141,BW107:BW141,\"<=\"&$BW131,BW107:BW141,\">=\"&$BW131-2)/1000)/(  $J$22*SUMIFS(BX107:BX141,BW107:BW141,\"<=\"&$BW131,BW107:BW141,\">=\"&$BW131-2)*$J$21/3600),1),IFERROR((SUMIFS(CA107:CA141,BW107:BW141,\"<=\"&$BW131,BW107:BW141,\">=\"&$BW131-3)/1000)/(  $J$22*SUMIFS(BX107:BX141,BW107:BW141,\"<=\"&$BW131,BW107:BW141,\">=\"&$BW131-3)*$J$21/3600),1)) )","v":1},"",{"$f":"IF(CA131=\"\",1, MIN($CA131/SUM($CA107:$CA131),SUMIFS(CA107:CA141,BW107:BW141,\">=\"&$BW131-1,BW107:BW141,\"<=\"&$BW131)/SUM($CA107:$CA131),SUMIFS(CA107:CA141,BW107:BW141,\">=\"&$BW131-2,BW107:BW141,\"<=\"&$BW131)/SUM($CA107:$CA131),SUMIFS(CA107:CA141,BW107:BW141,\">=\"&$BW131-3,BW107:BW141,\"<=\"&$BW131)/SUM($CA107:$CA131)) )","v":1}]
[null,null,null,null,null,null,null,null,null,null,null,null,null,null,null,null,26,null,null,null,null,null,null,null,26,null,null,null,null,null,null,null,null,null,"Adjusted Fuel Economy (MPG) [4]",{"$f":"IFERROR(astm(1/ ( AQ112 + (1-AJ129)/N108),4),0)","v":0},{"$f":"IFERROR(astm(1/ ( AR112 + (1-AK129)/O108),4),0)","v":0},{"$f":"IFERROR(astm(1/(0.55/AJ132+0.45/AK132),4),0)","v":0},null,null,null,"DRIVING DISTANCE VALUES","CITY","HIGHWAY",null,null,null,26,"","","","",{"$f":"IFERROR(astm(  astm($W$142,3)*1000*(AZ132/AQ109),1),\"\")","v":""},"","","",{"$f":"IFERROR(astm(cityfuf(BB132),3)-astm(cityfuf(BB131),3),\"\")","v":""},"","","","","","",{"$f":"IFERROR(astm(mdiuf(BK132),3)-astm(mdiuf(BK131),3),\"\")","v":""},"","",{"$f":"IFERROR(astm(cityfufalt(BK132),3)-astm(cityfufalt(BK131),3),\"\")","v":""},"","","",{"$f":"IF(AZ132=\"\",1, MIN(IFERROR((AZ132/1000)/((AW132*$J$22)*$J$21/3600),1),IFERROR((SUMIFS(AZ107:AZ141,AV107:AV141,\"<=\"&$AV132,AV107:AV141,\">=\"&$AV132-1)/1000)/(  $J$22*SUMIFS(AW107:AW141,AV107:AV141,\"<=\"&$AV132,AV107:AV141,\">=\"&$AV132-1)*$J$21/3600),1),IFERROR((SUMIFS(AZ107:AZ141,AV107:AV141,\"<=\"&$AV132,AV107:AV141,\">=\"&$AV132-2)/1000)/(  $J$22*SUMIFS(AW107:AW141,AV107:AV141,\"<=\"&$AV132,AV107:AV141,\">=\"&$AV132-2)*$J$21/3600),1),IFERROR((SUMIFS(AZ107:AZ141,AV107:AV141,\"<=\"&$AV132,AV107:AV141,\">=\"&$AV132-3)/1000)/(  $J$22*SUMIFS(AW107:AW141,AV107:AV141,\"<=\"&$AV132,AV107:AV141,\">=\"&$AV132-3)*$J$21/3600),1)) )","v":1},"",{"$f":"IF(AZ132=\"\",1, MIN($AZ132/SUM($AZ107:$AZ132),SUMIFS(AZ107:AZ141,AV107:AV141,\">=\"&$AV132-1,AV107:AV141,\"<=\"&$AV132)/SUM($AZ107:$AZ132),SUMIFS(AZ107:AZ141,AV107:AV141,\">=\"&$AV132-2,AV107:AV141,\"<=\"&$AV132)/SUM($AZ107:$AZ132),SUMIFS(AZ107:AZ141,AV107:AV141,\">=\"&$AV132-3,AV107:AV141,\"<=\"&$AV132)/SUM($AZ107:$AZ132)) )","v":1},null,26,"","","","","","","","",{"$f":"IFERROR(astm(highwayfuf(CC132)-highwayfuf(CC131),3),\"\")","v":""},"","","","","","",{"$f":"IFERROR(astm(mdiuf(CL132)-mdiuf(CL131),3),\"\")","v":""},"","",{"$f":"IFERROR(astm(highwayfufalt(CL132)-highwayfufalt(CL131),3),\"\")","v":""},"","","",{"$f":"IF(CA132=\"\",1, MIN(IFERROR((CA132/1000)/((BX132*$J$22)*$J$21/3600),1),IFERROR((SUMIFS(CA107:CA141,BW107:BW141,\"<=\"&$BW132,BW107:BW141,\">=\"&$BW132-1)/1000)/(  $J$22*SUMIFS(BX107:BX141,BW107:BW141,\"<=\"&$BW132,BW107:BW141,\">=\"&$BW132-1)*$J$21/3600),1),IFERROR((SUMIFS(CA107:CA141,BW107:BW141,\"<=\"&$BW132,BW107:BW141,\">=\"&$BW132-2)/1000)/(  $J$22*SUMIFS(BX107:BX141,BW107:BW141,\"<=\"&$BW132,BW107:BW141,\">=\"&$BW132-2)*$J$21/3600),1),IFERROR((SUMIFS(CA107:CA141,BW107:BW141,\"<=\"&$BW132,BW107:BW141,\">=\"&$BW132-3)/1000)/(  $J$22*SUMIFS(BX107:BX141,BW107:BW141,\"<=\"&$BW132,BW107:BW141,\">=\"&$BW132-3)*$J$21/3600),1)) )","v":1},"",{"$f":"IF(CA132=\"\",1, MIN($CA132/SUM($CA107:$CA132),SUMIFS(CA107:CA141,BW107:BW141,\">=\"&$BW132-1,BW107:BW141,\"<=\"&$BW132)/SUM($CA107:$CA132),SUMIFS(CA107:CA141,BW107:BW141,\">=\"&$BW132-2,BW107:BW141,\"<=\"&$BW132)/SUM($CA107:$CA132),SUMIFS(CA107:CA141,BW107:BW141,\">=\"&$BW132-3,BW107:BW141,\"<=\"&$BW132)/SUM($CA107:$CA132)) )","v":1}]
[null,null,null,null,null,null,null,null,null,null,null,null,null,null,null,null,27,null,null,null,null,null,null,null,27,null,null,null,null,null,null,null,null,null,"Adjusted GHG (g/mi) [1]",{"$f":"IFERROR(astm(  AQ124    +(1-AJ129)*astm(N111,1),1),0)","v":0},{"$f":"IFERROR(astm(  AR124    +(1-AK129)*astm(O111,1),1),0)","v":0},{"$f":"IFERROR(astm(0.55*AJ133+0.45*AK133,1),0)","v":0},null,null,null,"CD Equivalent All-Electric Range (EAER), Unadjusted (mi) [3]",{"$f":"astm(AQ102*((N109-AQ120)/N109),3)","v":{"$error":"#VALUE!"}},{"$f":"astm(AR102*((O109-AR120)/O109),3)","v":{"$error":"#VALUE!"}},null,null,null,27,"","","","",{"$f":"IFERROR(astm(  astm($W$142,3)*1000*(AZ133/AQ109),1),\"\")","v":""},"","","",{"$f":"IFERROR(astm(cityfuf(BB133),3)-astm(cityfuf(BB132),3),\"\")","v":""},"","","","","","",{"$f":"IFERROR(astm(mdiuf(BK133),3)-astm(mdiuf(BK132),3),\"\")","v":""},"","",{"$f":"IFERROR(astm(cityfufalt(BK133),3)-astm(cityfufalt(BK132),3),\"\")","v":""},"","","",{"$f":"IF(AZ133=\"\",1, MIN(IFERROR((AZ133/1000)/((AW133*$J$22)*$J$21/3600),1),IFERROR((SUMIFS(AZ107:AZ141,AV107:AV141,\"<=\"&$AV133,AV107:AV141,\">=\"&$AV133-1)/1000)/(  $J$22*SUMIFS(AW107:AW141,AV107:AV141,\"<=\"&$AV133,AV107:AV141,\">=\"&$AV133-1)*$J$21/3600),1),IFERROR((SUMIFS(AZ107:AZ141,AV107:AV141,\"<=\"&$AV133,AV107:AV141,\">=\"&$AV133-2)/1000)/(  $J$22*SUMIFS(AW107:AW141,AV107:AV141,\"<=\"&$AV133,AV107:AV141,\">=\"&$AV133-2)*$J$21/3600),1),IFERROR((SUMIFS(AZ107:AZ141,AV107:AV141,\"<=\"&$AV133,AV107:AV141,\">=\"&$AV133-3)/1000)/(  $J$22*SUMIFS(AW107:AW141,AV107:AV141,\"<=\"&$AV133,AV107:AV141,\">=\"&$AV133-3)*$J$21/3600),1)) )","v":1},"",{"$f":"IF(AZ133=\"\",1, MIN($AZ133/SUM($AZ107:$AZ133),SUMIFS(AZ107:AZ141,AV107:AV141,\">=\"&$AV133-1,AV107:AV141,\"<=\"&$AV133)/SUM($AZ107:$AZ133),SUMIFS(AZ107:AZ141,AV107:AV141,\">=\"&$AV133-2,AV107:AV141,\"<=\"&$AV133)/SUM($AZ107:$AZ133),SUMIFS(AZ107:AZ141,AV107:AV141,\">=\"&$AV133-3,AV107:AV141,\"<=\"&$AV133)/SUM($AZ107:$AZ133)) )","v":1},null,27,"","","","","","","","",{"$f":"IFERROR(astm(highwayfuf(CC133)-highwayfuf(CC132),3),\"\")","v":""},"","","","","","",{"$f":"IFERROR(astm(mdiuf(CL133)-mdiuf(CL132),3),\"\")","v":""},"","",{"$f":"IFERROR(astm(highwayfufalt(CL133)-highwayfufalt(CL132),3),\"\")","v":""},"","","",{"$f":"IF(CA133=\"\",1, MIN(IFERROR((CA133/1000)/((BX133*$J$22)*$J$21/3600),1),IFERROR((SUMIFS(CA107:CA141,BW107:BW141,\"<=\"&$BW133,BW107:BW141,\">=\"&$BW133-1)/1000)/(  $J$22*SUMIFS(BX107:BX141,BW107:BW141,\"<=\"&$BW133,BW107:BW141,\">=\"&$BW133-1)*$J$21/3600),1),IFERROR((SUMIFS(CA107:CA141,BW107:BW141,\"<=\"&$BW133,BW107:BW141,\">=\"&$BW133-2)/1000)/(  $J$22*SUMIFS(BX107:BX141,BW107:BW141,\"<=\"&$BW133,BW107:BW141,\">=\"&$BW133-2)*$J$21/3600),1),IFERROR((SUMIFS(CA107:CA141,BW107:BW141,\"<=\"&$BW133,BW107:BW141,\">=\"&$BW133-3)/1000)/(  $J$22*SUMIFS(BX107:BX141,BW107:BW141,\"<=\"&$BW133,BW107:BW141,\">=\"&$BW133-3)*$J$21/3600),1)) )","v":1},"",{"$f":"IF(CA133=\"\",1, MIN($CA133/SUM($CA107:$CA133),SUMIFS(CA107:CA141,BW107:BW141,\">=\"&$BW133-1,BW107:BW141,\"<=\"&$BW133)/SUM($CA107:$CA133),SUMIFS(CA107:CA141,BW107:BW141,\">=\"&$BW133-2,BW107:BW141,\"<=\"&$BW133)/SUM($CA107:$CA133),SUMIFS(CA107:CA141,BW107:BW141,\">=\"&$BW133-3,BW107:BW141,\"<=\"&$BW133)/SUM($CA107:$CA133)) )","v":1}]
[null,null,null,null,null,null,null,null,null,null,null,null,null,null,null,null,28,null,null,null,null,null,null,null,28,null,null,null,null,null,null,null,null,null,null,null,null,null,null,null,null,"Charge-sustaining driving range, adjusted (mi) [3]",{"$f":"astm((astm($J$11,1)-AQ114)*astm(N108,4),3)","v":0},{"$f":"astm((astm($J$11,1)-AR114)*astm(O108,4),3)","v":0},null,null,null,28,"","","","",{"$f":"IFERROR(astm(  astm($W$142,3)*1000*(AZ134/AQ109),1),\"\")","v":""},"","","",{"$f":"IFERROR(astm(cityfuf(BB134),3)-astm(cityfuf(BB133),3),\"\")","v":""},"","","","","","",{"$f":"IFERROR(astm(mdiuf(BK134),3)-astm(mdiuf(BK133),3),\"\")","v":""},"","",{"$f":"IFERROR(astm(cityfufalt(BK134),3)-astm(cityfufalt(BK133),3),\"\")","v":""},"","","",{"$f":"IF(AZ134=\"\",1, MIN(IFERROR((AZ134/1000)/((AW134*$J$22)*$J$21/3600),1),IFERROR((SUMIFS(AZ107:AZ141,AV107:AV141,\"<=\"&$AV134,AV107:AV141,\">=\"&$AV134-1)/1000)/(  $J$22*SUMIFS(AW107:AW141,AV107:AV141,\"<=\"&$AV134,AV107:AV141,\">=\"&$AV134-1)*$J$21/3600),1),IFERROR((SUMIFS(AZ107:AZ141,AV107:AV141,\"<=\"&$AV134,AV107:AV141,\">=\"&$AV134-2)/1000)/(  $J$22*SUMIFS(AW107:AW141,AV107:AV141,\"<=\"&$AV134,AV107:AV141,\">=\"&$AV134-2)*$J$21/3600),1),IFERROR((SUMIFS(AZ107:AZ141,AV107:AV141,\"<=\"&$AV134,AV107:AV141,\">=\"&$AV134-3)/1000)/(  $J$22*SUMIFS(AW107:AW141,AV107:AV141,\"<=\"&$AV134,AV107:AV141,\">=\"&$AV134-3)*$J$21/3600),1)) )","v":1},"",{"$f":"IF(AZ134=\"\",1, MIN($AZ134/SUM($AZ107:$AZ134),SUMIFS(AZ107:AZ141,AV107:AV141,\">=\"&$AV134-1,AV107:AV141,\"<=\"&$AV134)/SUM($AZ107:$AZ134),SUMIFS(AZ107:AZ141,AV107:AV141,\">=\"&$AV134-2,AV107:AV141,\"<=\"&$AV134)/SUM($AZ107:$AZ134),SUMIFS(AZ107:AZ141,AV107:AV141,\">=\"&$AV134-3,AV107:AV141,\"<=\"&$AV134)/SUM($AZ107:$AZ134)) )","v":1},null,28,"","","","","","","","",{"$f":"IFERROR(astm(highwayfuf(CC134)-highwayfuf(CC133),3),\"\")","v":""},"","","","","","",{"$f":"IFERROR(astm(mdiuf(CL134)-mdiuf(CL133),3),\"\")","v":""},"","",{"$f":"IFERROR(astm(highwayfufalt(CL134)-highwayfufalt(CL133),3),\"\")","v":""},"","","",{"$f":"IF(CA134=\"\",1, MIN(IFERROR((CA134/1000)/((BX134*$J$22)*$J$21/3600),1),IFERROR((SUMIFS(CA107:CA141,BW107:BW141,\"<=\"&$BW134,BW107:BW141,\">=\"&$BW134-1)/1000)/(  $J$22*SUMIFS(BX107:BX141,BW107:BW141,\"<=\"&$BW134,BW107:BW141,\">=\"&$BW134-1)*$J$21/3600),1),IFERROR((SUMIFS(CA107:CA141,BW107:BW141,\"<=\"&$BW134,BW107:BW141,\">=\"&$BW134-2)/1000)/(  $J$22*SUMIFS(BX107:BX141,BW107:BW141,\"<=\"&$BW134,BW107:BW141,\">=\"&$BW134-2)*$J$21/3600),1),IFERROR((SUMIFS(CA107:CA141,BW107:BW141,\"<=\"&$BW134,BW107:BW141,\">=\"&$BW134-3)/1000)/(  $J$22*SUMIFS(BX107:BX141,BW107:BW141,\"<=\"&$BW134,BW107:BW141,\">=\"&$BW134-3)*$J$21/3600),1)) )","v":1},"",{"$f":"IF(CA134=\"\",1, MIN($CA134/SUM($CA107:$CA134),SUMIFS(CA107:CA141,BW107:BW141,\">=\"&$BW134-1,BW107:BW141,\"<=\"&$BW134)/SUM($CA107:$CA134),SUMIFS(CA107:CA141,BW107:BW141,\">=\"&$BW134-2,BW107:BW141,\"<=\"&$BW134)/SUM($CA107:$CA134),SUMIFS(CA107:CA141,BW107:BW141,\">=\"&$BW134-3,BW107:BW141,\"<=\"&$BW134)/SUM($CA107:$CA134)) )","v":1}]
[null,null,null,null,null,null,null,null,null,null,null,null,null,null,null,null,29,null,null,null,null,null,null,null,29,null,null,null,null,null,null,null,null,null,null,null,null,null,null,null,null,"UTILITY FACTORS & OTHER METRICS","CITY","HIGHWAY",null,null,null,29,"","","","",{"$f":"IFERROR(astm(  astm($W$142,3)*1000*(AZ135/AQ109),1),\"\")","v":""},"","","",{"$f":"IFERROR(astm(cityfuf(BB135),3)-astm(cityfuf(BB134),3),\"\")","v":""},"","","","","","",{"$f":"IFERROR(astm(mdiuf(BK135),3)-astm(mdiuf(BK134),3),\"\")","v":""},"","",{"$f":"IFERROR(astm(cityfufalt(BK135),3)-astm(cityfufalt(BK134),3),\"\")","v":""},"","","",{"$f":"IF(AZ135=\"\",1, MIN(IFERROR((AZ135/1000)/((AW135*$J$22)*$J$21/3600),1),IFERROR((SUMIFS(AZ107:AZ141,AV107:AV141,\"<=\"&$AV135,AV107:AV141,\">=\"&$AV135-1)/1000)/(  $J$22*SUMIFS(AW107:AW141,AV107:AV141,\"<=\"&$AV135,AV107:AV141,\">=\"&$AV135-1)*$J$21/3600),1),IFERROR((SUMIFS(AZ107:AZ141,AV107:AV141,\"<=\"&$AV135,AV107:AV141,\">=\"&$AV135-2)/1000)/(  $J$22*SUMIFS(AW107:AW141,AV107:AV141,\"<=\"&$AV135,AV107:AV141,\">=\"&$AV135-2)*$J$21/3600),1),IFERROR((SUMIFS(AZ107:AZ141,AV107:AV141,\"<=\"&$AV135,AV107:AV141,\">=\"&$AV135-3)/1000)/(  $J$22*SUMIFS(AW107:AW141,AV107:AV141,\"<=\"&$AV135,AV107:AV141,\">=\"&$AV135-3)*$J$21/3600),1)) )","v":1},"",{"$f":"IF(AZ135=\"\",1, MIN($AZ135/SUM($AZ107:$AZ135),SUMIFS(AZ107:AZ141,AV107:AV141,\">=\"&$AV135-1,AV107:AV141,\"<=\"&$AV135)/SUM($AZ107:$AZ135),SUMIFS(AZ107:AZ141,AV107:AV141,\">=\"&$AV135-2,AV107:AV141,\"<=\"&$AV135)/SUM($AZ107:$AZ135),SUMIFS(AZ107:AZ141,AV107:AV141,\">=\"&$AV135-3,AV107:AV141,\"<=\"&$AV135)/SUM($AZ107:$AZ135)) )","v":1},null,29,"","","","","","","","",{"$f":"IFERROR(astm(highwayfuf(CC135)-highwayfuf(CC134),3),\"\")","v":""},"","","","","","",{"$f":"IFERROR(astm(mdiuf(CL135)-mdiuf(CL134),3),\"\")","v":""},"","",{"$f":"IFERROR(astm(highwayfufalt(CL135)-highwayfufalt(CL134),3),\"\")","v":""},"","","",{"$f":"IF(CA135=\"\",1, MIN(IFERROR((CA135/1000)/((BX135*$J$22)*$J$21/3600),1),IFERROR((SUMIFS(CA107:CA141,BW107:BW141,\"<=\"&$BW135,BW107:BW141,\">=\"&$BW135-1)/1000)/(  $J$22*SUMIFS(BX107:BX141,BW107:BW141,\"<=\"&$BW135,BW107:BW141,\">=\"&$BW135-1)*$J$21/3600),1),IFERROR((SUMIFS(CA107:CA141,BW107:BW141,\"<=\"&$BW135,BW107:BW141,\">=\"&$BW135-2)/1000)/(  $J$22*SUMIFS(BX107:BX141,BW107:BW141,\"<=\"&$BW135,BW107:BW141,\">=\"&$BW135-2)*$J$21/3600),1),IFERROR((SUMIFS(CA107:CA141,BW107:BW141,\"<=\"&$BW135,BW107:BW141,\">=\"&$BW135-3)/1000)/(  $J$22*SUMIFS(BX107:BX141,BW107:BW141,\"<=\"&$BW135,BW107:BW141,\">=\"&$BW135-3)*$J$21/3600),1)) )","v":1},"",{"$f":"IF(CA135=\"\",1, MIN($CA135/SUM($CA107:$CA135),SUMIFS(CA107:CA141,BW107:BW141,\">=\"&$BW135-1,BW107:BW141,\"<=\"&$BW135)/SUM($CA107:$CA135),SUMIFS(CA107:CA141,BW107:BW141,\">=\"&$BW135-2,BW107:BW141,\"<=\"&$BW135)/SUM($CA107:$CA135),SUMIFS(CA107:CA141,BW107:BW141,\">=\"&$BW135-3,BW107:BW141,\"<=\"&$BW135)/SUM($CA107:$CA135)) )","v":1}]
[null,null,null,null,null,null,null,null,null,null,null,null,null,null,null,null,30,null,null,null,null,null,null,null,30,null,null,null,null,null,null,null,null,null,null,null,null,null,null,null,null,"CD 55/45 Fleet Utility Factor (FUF) for EAER [3]",{"$f":"astm(cityfuf(AQ133),3)","v":{"$error":"#VALUE!"}},{"$f":"astm(highwayfuf(AR133),3)","v":{"$error":"#VALUE!"}},null,null,null,30,"","","","",{"$f":"IFERROR(astm(  astm($W$142,3)*1000*(AZ136/AQ109),1),\"\")","v":""},"","","",{"$f":"IFERROR(astm(cityfuf(BB136),3)-astm(cityfuf(BB135),3),\"\")","v":""},"","","","","","",{"$f":"IFERROR(astm(mdiuf(BK136),3)-astm(mdiuf(BK135),3),\"\")","v":""},"","",{"$f":"IFERROR(astm(cityfufalt(BK136),3)-astm(cityfufalt(BK135),3),\"\")","v":""},"","","",{"$f":"IF(AZ136=\"\",1, MIN(IFERROR((AZ136/1000)/((AW136*$J$22)*$J$21/3600),1),IFERROR((SUMIFS(AZ107:AZ141,AV107:AV141,\"<=\"&$AV136,AV107:AV141,\">=\"&$AV136-1)/1000)/(  $J$22*SUMIFS(AW107:AW141,AV107:AV141,\"<=\"&$AV136,AV107:AV141,\">=\"&$AV136-1)*$J$21/3600),1),IFERROR((SUMIFS(AZ107:AZ141,AV107:AV141,\"<=\"&$AV136,AV107:AV141,\">=\"&$AV136-2)/1000)/(  $J$22*SUMIFS(AW107:AW141,AV107:AV141,\"<=\"&$AV136,AV107:AV141,\">=\"&$AV136-2)*$J$21/3600),1),IFERROR((SUMIFS(AZ107:AZ141,AV107:AV141,\"<=\"&$AV136,AV107:AV141,\">=\"&$AV136-3)/1000)/(  $J$22*SUMIFS(AW107:AW141,AV107:AV141,\"<=\"&$AV136,AV107:AV141,\">=\"&$AV136-3)*$J$21/3600),1)) )","v":1},"",{"$f":"IF(AZ136=\"\",1, MIN($AZ136/SUM($AZ107:$AZ136),SUMIFS(AZ107:AZ141,AV107:AV141,\">=\"&$AV136-1,AV107:AV141,\"<=\"&$AV136)/SUM($AZ107:$AZ136),SUMIFS(AZ107:AZ141,AV107:AV141,\">=\"&$AV136-2,AV107:AV141,\"<=\"&$AV136)/SUM($AZ107:$AZ136),SUMIFS(AZ107:AZ141,AV107:AV141,\">=\"&$AV136-3,AV107:AV141,\"<=\"&$AV136)/SUM($AZ107:$AZ136)) )","v":1},null,30,"","","","","","","","",{"$f":"IFERROR(astm(highwayfuf(CC136)-highwayfuf(CC135),3),\"\")","v":""},"","","","","","",{"$f":"IFERROR(astm(mdiuf(CL136)-mdiuf(CL135),3),\"\")","v":""},"","",{"$f":"IFERROR(astm(highwayfufalt(CL136)-highwayfufalt(CL135),3),\"\")","v":""},"","","",{"$f":"IF(CA136=\"\",1, MIN(IFERROR((CA136/1000)/((BX136*$J$22)*$J$21/3600),1),IFERROR((SUMIFS(CA107:CA141,BW107:BW141,\"<=\"&$BW136,BW107:BW141,\">=\"&$BW136-1)/1000)/(  $J$22*SUMIFS(BX107:BX141,BW107:BW141,\"<=\"&$BW136,BW107:BW141,\">=\"&$BW136-1)*$J$21/3600),1),IFERROR((SUMIFS(CA107:CA141,BW107:BW141,\"<=\"&$BW136,BW107:BW141,\">=\"&$BW136-2)/1000)/(  $J$22*SUMIFS(BX107:BX141,BW107:BW141,\"<=\"&$BW136,BW107:BW141,\">=\"&$BW136-2)*$J$21/3600),1),IFERROR((SUMIFS(CA107:CA141,BW107:BW141,\"<=\"&$BW136,BW107:BW141,\">=\"&$BW136-3)/1000)/(  $J$22*SUMIFS(BX107:BX141,BW107:BW141,\"<=\"&$BW136,BW107:BW141,\">=\"&$BW136-3)*$J$21/3600),1)) )","v":1},"",{"$f":"IF(CA136=\"\",1, MIN($CA136/SUM($CA107:$CA136),SUMIFS(CA107:CA141,BW107:BW141,\">=\"&$BW136-1,BW107:BW141,\"<=\"&$BW136)/SUM($CA107:$CA136),SUMIFS(CA107:CA141,BW107:BW141,\">=\"&$BW136-2,BW107:BW141,\"<=\"&$BW136)/SUM($CA107:$CA136),SUMIFS(CA107:CA141,BW107:BW141,\">=\"&$BW136-3,BW107:BW141,\"<=\"&$BW136)/SUM($CA107:$CA136)) )","v":1}]
[null,null,null,null,null,null,null,null,null,null,null,null,null,null,null,null,31,null,null,null,null,null,null,null,31,null,null,null,null,null,null,null,null,null,null,null,null,null,null,null,null,"FUEL COSTS: PROCESS FOR DERIVING A COMPOSITE CD/CS COST PER MILE","CITY","HIGHWAY",null,null,null,31,"","","","",{"$f":"IFERROR(astm(  astm($W$142,3)*1000*(AZ137/AQ109),1),\"\")","v":""},"","","",{"$f":"IFERROR(astm(cityfuf(BB137),3)-astm(cityfuf(BB136),3),\"\")","v":""},"","","","","","",{"$f":"IFERROR(astm(mdiuf(BK137),3)-astm(mdiuf(BK136),3),\"\")","v":""},"","",{"$f":"IFERROR(astm(cityfufalt(BK137),3)-astm(cityfufalt(BK136),3),\"\")","v":""},"","","",{"$f":"IF(AZ137=\"\",1, MIN(IFERROR((AZ137/1000)/((AW137*$J$22)*$J$21/3600),1),IFERROR((SUMIFS(AZ107:AZ141,AV107:AV141,\"<=\"&$AV137,AV107:AV141,\">=\"&$AV137-1)/1000)/(  $J$22*SUMIFS(AW107:AW141,AV107:AV141,\"<=\"&$AV137,AV107:AV141,\">=\"&$AV137-1)*$J$21/3600),1),IFERROR((SUMIFS(AZ107:AZ141,AV107:AV141,\"<=\"&$AV137,AV107:AV141,\">=\"&$AV137-2)/1000)/(  $J$22*SUMIFS(AW107:AW141,AV107:AV141,\"<=\"&$AV137,AV107:AV141,\">=\"&$AV137-2)*$J$21/3600),1),IFERROR((SUMIFS(AZ107:AZ141,AV107:AV141,\"<=\"&$AV137,AV107:AV141,\">=\"&$AV137-3)/1000)/(  $J$22*SUMIFS(AW107:AW141,AV107:AV141,\"<=\"&$AV137,AV107:AV141,\">=\"&$AV137-3)*$J$21/3600),1)) )","v":1},"",{"$f":"IF(AZ137=\"\",1, MIN($AZ137/SUM($AZ107:$AZ137),SUMIFS(AZ107:AZ141,AV107:AV141,\">=\"&$AV137-1,AV107:AV141,\"<=\"&$AV137)/SUM($AZ107:$AZ137),SUMIFS(AZ107:AZ141,AV107:AV141,\">=\"&$AV137-2,AV107:AV141,\"<=\"&$AV137)/SUM($AZ107:$AZ137),SUMIFS(AZ107:AZ141,AV107:AV141,\">=\"&$AV137-3,AV107:AV141,\"<=\"&$AV137)/SUM($AZ107:$AZ137)) )","v":1},null,31,"","","","","","","","",{"$f":"IFERROR(astm(highwayfuf(CC137)-highwayfuf(CC136),3),\"\")","v":""},"","","","","","",{"$f":"IFERROR(astm(mdiuf(CL137)-mdiuf(CL136),3),\"\")","v":""},"","",{"$f":"IFERROR(astm(highwayfufalt(CL137)-highwayfufalt(CL136),3),\"\")","v":""},"","","",{"$f":"IF(CA137=\"\",1, MIN(IFERROR((CA137/1000)/((BX137*$J$22)*$J$21/3600),1),IFERROR((SUMIFS(CA107:CA141,BW107:BW141,\"<=\"&$BW137,BW107:BW141,\">=\"&$BW137-1)/1000)/(  $J$22*SUMIFS(BX107:BX141,BW107:BW141,\"<=\"&$BW137,BW107:BW141,\">=\"&$BW137-1)*$J$21/3600),1),IFERROR((SUMIFS(CA107:CA141,BW107:BW141,\"<=\"&$BW137,BW107:BW141,\">=\"&$BW137-2)/1000)/(  $J$22*SUMIFS(BX107:BX141,BW107:BW141,\"<=\"&$BW137,BW107:BW141,\">=\"&$BW137-2)*$J$21/3600),1),IFERROR((SUMIFS(CA107:CA141,BW107:BW141,\"<=\"&$BW137,BW107:BW141,\">=\"&$BW137-3)/1000)/(  $J$22*SUMIFS(BX107:BX141,BW107:BW141,\"<=\"&$BW137,BW107:BW141,\">=\"&$BW137-3)*$J$21/3600),1)) )","v":1},"",{"$f":"IF(CA137=\"\",1, MIN($CA137/SUM($CA107:$CA137),SUMIFS(CA107:CA141,BW107:BW141,\">=\"&$BW137-1,BW107:BW141,\"<=\"&$BW137)/SUM($CA107:$CA137),SUMIFS(CA107:CA141,BW107:BW141,\">=\"&$BW137-2,BW107:BW141,\"<=\"&$BW137)/SUM($CA107:$CA137),SUMIFS(CA107:CA141,BW107:BW141,\">=\"&$BW137-3,BW107:BW141,\"<=\"&$BW137)/SUM($CA107:$CA137)) )","v":1}]
[null,null,null,null,null,null,null,null,null,null,null,null,null,null,null,null,32,null,null,null,null,null,null,null,32,null,null,null,null,null,null,null,null,null,null,null,null,null,null,null,null,"CD cost per mile - electricity ($/mi) [3]",{"$f":"astm($F$37*$AQ$108/100,3)","v":0},{"$f":"astm($F$37*$AR$108/100,3)","v":0},null,null,null,32,"","","","",{"$f":"IFERROR(astm(  astm($W$142,3)*1000*(AZ138/AQ109),1),\"\")","v":""},"","","",{"$f":"IFERROR(astm(cityfuf(BB138),3)-astm(cityfuf(BB137),3),\"\")","v":""},"","","","","","",{"$f":"IFERROR(astm(mdiuf(BK138),3)-astm(mdiuf(BK137),3),\"\")","v":""},"","",{"$f":"IFERROR(astm(cityfufalt(BK138),3)-astm(cityfufalt(BK137),3),\"\")","v":""},"","","",{"$f":"IF(AZ138=\"\",1, MIN(IFERROR((AZ138/1000)/((AW138*$J$22)*$J$21/3600),1),IFERROR((SUMIFS(AZ107:AZ141,AV107:AV141,\"<=\"&$AV138,AV107:AV141,\">=\"&$AV138-1)/1000)/(  $J$22*SUMIFS(AW107:AW141,AV107:AV141,\"<=\"&$AV138,AV107:AV141,\">=\"&$AV138-1)*$J$21/3600),1),IFERROR((SUMIFS(AZ107:AZ141,AV107:AV141,\"<=\"&$AV138,AV107:AV141,\">=\"&$AV138-2)/1000)/(  $J$22*SUMIFS(AW107:AW141,AV107:AV141,\"<=\"&$AV138,AV107:AV141,\">=\"&$AV138-2)*$J$21/3600),1),IFERROR((SUMIFS(AZ107:AZ141,AV107:AV141,\"<=\"&$AV138,AV107:AV141,\">=\"&$AV138-3)/1000)/(  $J$22*SUMIFS(AW107:AW141,AV107:AV141,\"<=\"&$AV138,AV107:AV141,\">=\"&$AV138-3)*$J$21/3600),1)) )","v":1},"",{"$f":"IF(AZ138=\"\",1, MIN($AZ138/SUM($AZ107:$AZ138),SUMIFS(AZ107:AZ141,AV107:AV141,\">=\"&$AV138-1,AV107:AV141,\"<=\"&$AV138)/SUM($AZ107:$AZ138),SUMIFS(AZ107:AZ141,AV107:AV141,\">=\"&$AV138-2,AV107:AV141,\"<=\"&$AV138)/SUM($AZ107:$AZ138),SUMIFS(AZ107:AZ141,AV107:AV141,\">=\"&$AV138-3,AV107:AV141,\"<=\"&$AV138)/SUM($AZ107:$AZ138)) )","v":1},null,32,"","","","","","","","",{"$f":"IFERROR(astm(highwayfuf(CC138)-highwayfuf(CC137),3),\"\")","v":""},"","","","","","",{"$f":"IFERROR(astm(mdiuf(CL138)-mdiuf(CL137),3),\"\")","v":""},"","",{"$f":"IFERROR(astm(highwayfufalt(CL138)-highwayfufalt(CL137),3),\"\")","v":""},"","","",{"$f":"IF(CA138=\"\",1, MIN(IFERROR((CA138/1000)/((BX138*$J$22)*$J$21/3600),1),IFERROR((SUMIFS(CA107:CA141,BW107:BW141,\"<=\"&$BW138,BW107:BW141,\">=\"&$BW138-1)/1000)/(  $J$22*SUMIFS(BX107:BX141,BW107:BW141,\"<=\"&$BW138,BW107:BW141,\">=\"&$BW138-1)*$J$21/3600),1),IFERROR((SUMIFS(CA107:CA141,BW107:BW141,\"<=\"&$BW138,BW107:BW141,\">=\"&$BW138-2)/1000)/(  $J$22*SUMIFS(BX107:BX141,BW107:BW141,\"<=\"&$BW138,BW107:BW141,\">=\"&$BW138-2)*$J$21/3600),1),IFERROR((SUMIFS(CA107:CA141,BW107:BW141,\"<=\"&$BW138,BW107:BW141,\">=\"&$BW138-3)/1000)/(  $J$22*SUMIFS(BX107:BX141,BW107:BW141,\"<=\"&$BW138,BW107:BW141,\">=\"&$BW138-3)*$J$21/3600),1)) )","v":1},"",{"$f":"IF(CA138=\"\",1, MIN($CA138/SUM($CA107:$CA138),SUMIFS(CA107:CA141,BW107:BW141,\">=\"&$BW138-1,BW107:BW141,\"<=\"&$BW138)/SUM($CA107:$CA138),SUMIFS(CA107:CA141,BW107:BW141,\">=\"&$BW138-2,BW107:BW141,\"<=\"&$BW138)/SUM($CA107:$CA138),SUMIFS(CA107:CA141,BW107:BW141,\">=\"&$BW138-3,BW107:BW141,\"<=\"&$BW138)/SUM($CA107:$CA138)) )","v":1}]
[null,null,null,null,null,null,null,null,null,null,null,null,null,null,null,null,33,null,null,null,null,null,null,null,33,null,null,null,null,null,null,null,null,null,null,null,null,null,null,null,null,"CD cost per mile - gasoline ($/mi) [3]",{"$f":"astm($F$36*((SUMIF(AV107:AV141,\"<=\" & (AQ130-1),AW107:AW141) + AQ129*SUMIF(AV107:AV141,\"=\" & (AQ130-1),AW107:AW141))/AQ103),3)","v":{"$error":"#VALUE!"}},{"$f":"astm($F$36*((SUMIF(BW107:BW141,\"<=\" & (AR130-1),BX107:BX141) + AR129*SUMIF(BW107:BW141,\"=\" & (AR130-1),BX107:BX141))/AR103),3)","v":{"$error":"#VALUE!"}},null,null,null,33,"","","","",{"$f":"IFERROR(astm(  astm($W$142,3)*1000*(AZ139/AQ109),1),\"\")","v":""},"","","",{"$f":"IFERROR(astm(cityfuf(BB139),3)-astm(cityfuf(BB138),3),\"\")","v":""},"","","","","","",{"$f":"IFERROR(astm(mdiuf(BK139),3)-astm(mdiuf(BK138),3),\"\")","v":""},"","",{"$f":"IFERROR(astm(cityfufalt(BK139),3)-astm(cityfufalt(BK138),3),\"\")","v":""},"","","",{"$f":"IF(AZ139=\"\",1, MIN(IFERROR((AZ139/1000)/((AW139*$J$22)*$J$21/3600),1),IFERROR((SUMIFS(AZ107:AZ141,AV107:AV141,\"<=\"&$AV139,AV107:AV141,\">=\"&$AV139-1)/1000)/(  $J$22*SUMIFS(AW107:AW141,AV107:AV141,\"<=\"&$AV139,AV107:AV141,\">=\"&$AV139-1)*$J$21/3600),1),IFERROR((SUMIFS(AZ107:AZ141,AV107:AV141,\"<=\"&$AV139,AV107:AV141,\">=\"&$AV139-2)/1000)/(  $J$22*SUMIFS(AW107:AW141,AV107:AV141,\"<=\"&$AV139,AV107:AV141,\">=\"&$AV139-2)*$J$21/3600),1),IFERROR((SUMIFS(AZ107:AZ141,AV107:AV141,\"<=\"&$AV139,AV107:AV141,\">=\"&$AV139-3)/1000)/(  $J$22*SUMIFS(AW107:AW141,AV107:AV141,\"<=\"&$AV139,AV107:AV141,\">=\"&$AV139-3)*$J$21/3600),1)) )","v":1},"",{"$f":"IF(AZ139=\"\",1, MIN($AZ139/SUM($AZ107:$AZ139),SUMIFS(AZ107:AZ141,AV107:AV141,\">=\"&$AV139-1,AV107:AV141,\"<=\"&$AV139)/SUM($AZ107:$AZ139),SUMIFS(AZ107:AZ141,AV107:AV141,\">=\"&$AV139-2,AV107:AV141,\"<=\"&$AV139)/SUM($AZ107:$AZ139),SUMIFS(AZ107:AZ141,AV107:AV141,\">=\"&$AV139-3,AV107:AV141,\"<=\"&$AV139)/SUM($AZ107:$AZ139)) )","v":1},null,33,"","","","","","","","",{"$f":"IFERROR(astm(highwayfuf(CC139)-highwayfuf(CC138),3),\"\")","v":""},"","","","","","",{"$f":"IFERROR(astm(mdiuf(CL139)-mdiuf(CL138),3),\"\")","v":""},"","",{"$f":"IFERROR(astm(highwayfufalt(CL139)-highwayfufalt(CL138),3),\"\")","v":""},"","","",{"$f":"IF(CA139=\"\",1, MIN(IFERROR((CA139/1000)/((BX139*$J$22)*$J$21/3600),1),IFERROR((SUMIFS(CA107:CA141,BW107:BW141,\"<=\"&$BW139,BW107:BW141,\">=\"&$BW139-1)/1000)/(  $J$22*SUMIFS(BX107:BX141,BW107:BW141,\"<=\"&$BW139,BW107:BW141,\">=\"&$BW139-1)*$J$21/3600),1),IFERROR((SUMIFS(CA107:CA141,BW107:BW141,\"<=\"&$BW139,BW107:BW141,\">=\"&$BW139-2)/1000)/(  $J$22*SUMIFS(BX107:BX141,BW107:BW141,\"<=\"&$BW139,BW107:BW141,\">=\"&$BW139-2)*$J$21/3600),1),IFERROR((SUMIFS(CA107:CA141,BW107:BW141,\"<=\"&$BW139,BW107:BW141,\">=\"&$BW139-3)/1000)/(  $J$22*SUMIFS(BX107:BX141,BW107:BW141,\"<=\"&$BW139,BW107:BW141,\">=\"&$BW139-3)*$J$21/3600),1)) )","v":1},"",{"$f":"IF(CA139=\"\",1, MIN($CA139/SUM($CA107:$CA139),SUMIFS(CA107:CA141,BW107:BW141,\">=\"&$BW139-1,BW107:BW141,\"<=\"&$BW139)/SUM($CA107:$CA139),SUMIFS(CA107:CA141,BW107:BW141,\">=\"&$BW139-2,BW107:BW141,\"<=\"&$BW139)/SUM($CA107:$CA139),SUMIFS(CA107:CA141,BW107:BW141,\">=\"&$BW139-3,BW107:BW141,\"<=\"&$BW139)/SUM($CA107:$CA139)) )","v":1}]
[null,null,null,null,null,null,null,null,null,null,null,null,null,null,null,null,34,null,null,null,null,null,null,null,34,null,null,null,null,null,null,null,null,null,null,null,null,null,null,null,null,"CD total cost per mile ($/mi) [3]",{"$f":"astm(AQ139+AQ138,3)","v":{"$error":"#VALUE!"}},{"$f":"astm(AR139+AR138,3)","v":{"$error":"#VALUE!"}},null,null,null,34,"","","","",{"$f":"IFERROR(astm(  astm($W$142,3)*1000*(AZ140/AQ109),1),\"\")","v":""},"","","",{"$f":"IFERROR(astm(cityfuf(BB140),3)-astm(cityfuf(BB139),3),\"\")","v":""},"","","","","","",{"$f":"IFERROR(astm(mdiuf(BK140),3)-astm(mdiuf(BK139),3),\"\")","v":""},"","",{"$f":"IFERROR(astm(cityfufalt(BK140),3)-astm(cityfufalt(BK139),3),\"\")","v":""},"","","",{"$f":"IF(AZ140=\"\",1, MIN(IFERROR((AZ140/1000)/((AW140*$J$22)*$J$21/3600),1),IFERROR((SUMIFS(AZ107:AZ141,AV107:AV141,\"<=\"&$AV140,AV107:AV141,\">=\"&$AV140-1)/1000)/(  $J$22*SUMIFS(AW107:AW141,AV107:AV141,\"<=\"&$AV140,AV107:AV141,\">=\"&$AV140-1)*$J$21/3600),1),IFERROR((SUMIFS(AZ107:AZ141,AV107:AV141,\"<=\"&$AV140,AV107:AV141,\">=\"&$AV140-2)/1000)/(  $J$22*SUMIFS(AW107:AW141,AV107:AV141,\"<=\"&$AV140,AV107:AV141,\">=\"&$AV140-2)*$J$21/3600),1),IFERROR((SUMIFS(AZ107:AZ141,AV107:AV141,\"<=\"&$AV140,AV107:AV141,\">=\"&$AV140-3)/1000)/(  $J$22*SUMIFS(AW107:AW141,AV107:AV141,\"<=\"&$AV140,AV107:AV141,\">=\"&$AV140-3)*$J$21/3600),1)) )","v":1},"",{"$f":"IF(AZ140=\"\",1, MIN($AZ140/SUM($AZ107:$AZ140),SUMIFS(AZ107:AZ141,AV107:AV141,\">=\"&$AV140-1,AV107:AV141,\"<=\"&$AV140)/SUM($AZ107:$AZ140),SUMIFS(AZ107:AZ141,AV107:AV141,\">=\"&$AV140-2,AV107:AV141,\"<=\"&$AV140)/SUM($AZ107:$AZ140),SUMIFS(AZ107:AZ141,AV107:AV141,\">=\"&$AV140-3,AV107:AV141,\"<=\"&$AV140)/SUM($AZ107:$AZ140)) )","v":1},null,34,"","","","","","","","",{"$f":"IFERROR(astm(highwayfuf(CC140)-highwayfuf(CC139),3),\"\")","v":""},"","","","","","",{"$f":"IFERROR(astm(mdiuf(CL140)-mdiuf(CL139),3),\"\")","v":""},"","",{"$f":"IFERROR(astm(highwayfufalt(CL140)-highwayfufalt(CL139),3),\"\")","v":""},"","","",{"$f":"IF(CA140=\"\",1, MIN(IFERROR((CA140/1000)/((BX140*$J$22)*$J$21/3600),1),IFERROR((SUMIFS(CA107:CA141,BW107:BW141,\"<=\"&$BW140,BW107:BW141,\">=\"&$BW140-1)/1000)/(  $J$22*SUMIFS(BX107:BX141,BW107:BW141,\"<=\"&$BW140,BW107:BW141,\">=\"&$BW140-1)*$J$21/3600),1),IFERROR((SUMIFS(CA107:CA141,BW107:BW141,\"<=\"&$BW140,BW107:BW141,\">=\"&$BW140-2)/1000)/(  $J$22*SUMIFS(BX107:BX141,BW107:BW141,\"<=\"&$BW140,BW107:BW141,\">=\"&$BW140-2)*$J$21/3600),1),IFERROR((SUMIFS(CA107:CA141,BW107:BW141,\"<=\"&$BW140,BW107:BW141,\">=\"&$BW140-3)/1000)/(  $J$22*SUMIFS(BX107:BX141,BW107:BW141,\"<=\"&$BW140,BW107:BW141,\">=\"&$BW140-3)*$J$21/3600),1)) )","v":1},"",{"$f":"IF(CA140=\"\",1, MIN($CA140/SUM($CA107:$CA140),SUMIFS(CA107:CA141,BW107:BW141,\">=\"&$BW140-1,BW107:BW141,\"<=\"&$BW140)/SUM($CA107:$CA140),SUMIFS(CA107:CA141,BW107:BW141,\">=\"&$BW140-2,BW107:BW141,\"<=\"&$BW140)/SUM($CA107:$CA140),SUMIFS(CA107:CA141,BW107:BW141,\">=\"&$BW140-3,BW107:BW141,\"<=\"&$BW140)/SUM($CA107:$CA140)) )","v":1}]
[null,null,null,null,null,null,null,null,null,null,null,null,null,null,null,null,35,null,null,null,null,null,null,null,35,null,null,null,null,null,null,null,null,null,null,null,null,null,null,null,null,"CS cost per mile ($/mi) [3]",{"$f":"astm($F$36/astm(N108,4),3)","v":{"$error":"#VALUE!"}},{"$f":"astm($F$36/astm(O108,4),3)","v":{"$error":"#VALUE!"}},null,null,null,35,"","","","",{"$f":"IFERROR(astm(  astm($W$142,3)*1000*(AZ141/AQ109),1),\"\")","v":""},"","","",{"$f":"IFERROR(astm(cityfuf(BB141),3)-astm(cityfuf(BB140),3),\"\")","v":""},"","","","","","",{"$f":"IFERROR(astm(mdiuf(BK141),3)-astm(mdiuf(BK140),3),\"\")","v":""},"","",{"$f":"IFERROR(astm(cityfufalt(BK141),3)-astm(cityfufalt(BK140),3),\"\")","v":""},"","","",{"$f":"IF(AZ141=\"\",1, MIN(IFERROR((AZ141/1000)/((AW141*$J$22)*$J$21/3600),1),IFERROR((SUMIFS(AZ107:AZ141,AV107:AV141,\"<=\"&$AV141,AV107:AV141,\">=\"&$AV141-1)/1000)/(  $J$22*SUMIFS(AW107:AW141,AV107:AV141,\"<=\"&$AV141,AV107:AV141,\">=\"&$AV141-1)*$J$21/3600),1),IFERROR((SUMIFS(AZ107:AZ141,AV107:AV141,\"<=\"&$AV141,AV107:AV141,\">=\"&$AV141-2)/1000)/(  $J$22*SUMIFS(AW107:AW141,AV107:AV141,\"<=\"&$AV141,AV107:AV141,\">=\"&$AV141-2)*$J$21/3600),1),IFERROR((SUMIFS(AZ107:AZ141,AV107:AV141,\"<=\"&$AV141,AV107:AV141,\">=\"&$AV141-3)/1000)/(  $J$22*SUMIFS(AW107:AW141,AV107:AV141,\"<=\"&$AV141,AV107:AV141,\">=\"&$AV141-3)*$J$21/3600),1)) )","v":1},"",{"$f":"IF(AZ141=\"\",1, MIN($AZ141/SUM($AZ107:$AZ141),SUMIFS(AZ107:AZ141,AV107:AV141,\">=\"&$AV141-1,AV107:AV141,\"<=\"&$AV141)/SUM($AZ107:$AZ141),SUMIFS(AZ107:AZ141,AV107:AV141,\">=\"&$AV141-2,AV107:AV141,\"<=\"&$AV141)/SUM($AZ107:$AZ141),SUMIFS(AZ107:AZ141,AV107:AV141,\">=\"&$AV141-3,AV107:AV141,\"<=\"&$AV141)/SUM($AZ107:$AZ141)) )","v":1},null,35,"","","","","","","","",{"$f":"IFERROR(astm(highwayfuf(CC141)-highwayfuf(CC140),3),\"\")","v":""},"","","","","","",{"$f":"IFERROR(astm(mdiuf(CL141)-mdiuf(CL140),3),\"\")","v":""},"","",{"$f":"IFERROR(astm(highwayfufalt(CL141)-highwayfufalt(CL140),3),\"\")","v":""},"","","",{"$f":"IF(CA141=\"\",1, MIN(IFERROR((CA141/1000)/((BX141*$J$22)*$J$21/3600),1),IFERROR((SUMIFS(CA107:CA141,BW107:BW141,\"<=\"&$BW141,BW107:BW141,\">=\"&$BW141-1)/1000)/(  $J$22*SUMIFS(BX107:BX141,BW107:BW141,\"<=\"&$BW141,BW107:BW141,\">=\"&$BW141-1)*$J$21/3600),1),IFERROR((SUMIFS(CA107:CA141,BW107:BW141,\"<=\"&$BW141,BW107:BW141,\">=\"&$BW141-2)/1000)/(  $J$22*SUMIFS(BX107:BX141,BW107:BW141,\"<=\"&$BW141,BW107:BW141,\">=\"&$BW141-2)*$J$21/3600),1),IFERROR((SUMIFS(CA107:CA141,BW107:BW141,\"<=\"&$BW141,BW107:BW141,\">=\"&$BW141-3)/1000)/(  $J$22*SUMIFS(BX107:BX141,BW107:BW141,\"<=\"&$BW141,BW107:BW141,\">=\"&$BW141-3)*$J$21/3600),1)) )","v":1},"",{"$f":"IF(CA141=\"\",1, MIN($CA141/SUM($CA107:$CA141),SUMIFS(CA107:CA141,BW107:BW141,\">=\"&$BW141-1,BW107:BW141,\"<=\"&$BW141)/SUM($CA107:$CA141),SUMIFS(CA107:CA141,BW107:BW141,\">=\"&$BW141-2,BW107:BW141,\"<=\"&$BW141)/SUM($CA107:$CA141),SUMIFS(CA107:CA141,BW107:BW141,\">=\"&$BW141-3,BW107:BW141,\"<=\"&$BW141)/SUM($CA107:$CA141)) )","v":1}]
[null,null,null,null,null,null,null,null,null,null,null,null,null,null,null,null,null,null,null,null,null,"Recharge energy (AC kilowatt-hours):",null,null,null,null,null,null,null,"Recharge energy (AC kilowatt-hours):",null,null,null,null,null,null,null,null,null,null,null,"Composite CD/CS cost ($/mi) [3]",{"$f":"astm(AQ127*AQ140+(1-AQ127)*AQ141,3)","v":{"$error":"#VALUE!"}},{"$f":"astm(AR127*AR140+(1-AR127)*AR141,3)","v":{"$error":"#VALUE!"}}]
[null,null,null,null,null,null,null,null,null,null,null,null,null,null,null,null,null,null,null,null,null,"All-Electric Range (miles):",null,null,null,null,null,null,null,"All-Electric Range (miles):",null,null,null,null,null,null,null,null,null,null,null,"COMPOSITE CD/CS FUEL ECONOMY AND CO2 VALUES, ADJUSTED","CITY","HIGHWAY"]
[null,null,null,null,null,null,null,null,null,null,null,null,null,null,null,null,{"$f":"\"Calculated transition cycle:  \" &  IF(COUNTIF(BR107:BR136,\"CD\") < COUNT(R107:R136), COUNTIF(BR107:BR136,\"CD\"),     IF(COUNTIF(BT107:BT136,\"CD\") < COUNT(R107:R136), COUNTIF(BT107:BT136,\"CD\"),     \"ERROR\"     )     )","v":"Calculated transition cycle:  ERROR"},null,null,null,null,"To override transition cycle, enter here--->",null,null,{"$f":"\"Calculated transition cycle:  \" &  IF(COUNTIF(CS107:CS136,\"CD\") < COUNT(Z107:Z136), COUNTIF(CS107:CS136,\"CD\"),     IF(COUNTIF(CU107:CU136,\"CD\") < COUNT(Z107:Z136), COUNTIF(CU107:CU136,\"CD\"),     \"ERROR\"     )     )","v":"Calculated transition cycle:  ERROR"},null,null,null,null,"To override transition cycle, enter here--->",null,null,null,null,null,null,null,null,null,null,null,"Composite CD/CS CO2, adjusted (g/mi) [1]",{"$f":"astm(IFERROR(AQ122+(1-AQ128)*N111,#VALUE!),1)","v":0},{"$f":"astm(IFERROR(AR122+(1-AR128)*O111,#VALUE!),1)","v":0}]
[null,null,null,null,null,null,null,null,null,null,null,null,null,null,null,null,null,null,null,null,null,null,null,null,null,null,null,null,null,null,null,null,null,null,null,null,null,null,null,null,null,"Composite CD/CS Fuel Economy, adjusted (MPG) [4]",{"$f":"IFERROR(astm( IFERROR(1/ ( AQ113 + (1-AQ128)/N108),#VALUE!), 4),0)","v":0},{"$f":"IFERROR(astm( IFERROR(1/ ( AR113 + (1-AR128)/O108),#VALUE!), 4),0)","v":0}]

{"sheet":"Blank calculator","index":3,"n_rows":145,"n_cols":100,"rows_kept":145,"cut":false,"hidden":false,"merged":[[248,17,248,19],[220,74,220,80],[220,110,224,110],[220,117,224,117],[221,74,221,80],[222,74,222,80],[246,17,246,19],[101,29,104,29],[101,30,104,30],[102,110,106,110],[102,117,106,117],[100,97,104,97],[100,98,104,98],[100,99,104,99],[100,87,104,87],[100,88,104,88],[100,89,104,89],[100,78,104,78],[100,79,104,79],[100,80,104,80],[100,81,104,81],[100,82,104,82],[100,83,104,83],[100,71,104,71],[130,2,130,5],[219,74,219,81],[101,22,104,22],[101,24,104,24],[101,25,104,25],[101,26,104,26],[101,27,104,27],[101,28,104,28],[100,96,104,96],[101,16,104,16],[101,17,104,17],[101,18,104,18],[101,19,104,19],[101,20,104,20],[101,21,104,21],[100,90,104,90],[100,91,104,91],[100,92,104,92],[100,93,104,93],[100,94,104,94],[100,95,104,95],[100,84,104,84],[100,85,104,85],[100,86,104,86],[100,72,104,72],[100,74,104,74],[100,75,104,75],[100,76,104,76],[100,77,104,77],[100,65,104,65],[100,66,104,66],[100,67,104,67],[100,68,104,68],[100,69,104,69],[100,70,104,70],[100,59,104,59],[100,60,104,60],[100,61,104,61],[100,62,104,62],[100,63,104,63],[100,64,104,64],[100,53,104,53],[100,54,104,54],[100,55,104,55],[100,56,104,56],[100,57,104,57],[100,58,104,58],[100,47,104,47],[100,48,104,48],[100,49,104,49],[100,50,104,50],[100,51,104,51],[100,52,104,52],[53,22,56,22],[53,24,56,24],[53,25,56,25],[53,26,56,26],[53,27,56,27],[53,28,56,28],[53,16,56,16],[53,17,56,17],[53,18,56,18],[53,19,56,19],[53,20,56,20],[53,21,56,21],[52,94,56,94],[52,95,56,95],[52,96,56,96],[52,82,56,82],[52,83,56,83],[52,84,56,84],[52,85,56,85],[52,86,56,86],[52,87,56,87],[52,76,56,76],[52,77,56,77],[52,78,56,78],[52,79,56,79],[52,80,56,80],[52,81,56,81],[52,69,56,69],[52,70,56,70],[52,71,56,71],[52,97,56,97],[52,98,56,98],[52,99,56,99],[52,88,56,88],[52,89,56,89],[52,90,56,90],[52,91,56,91],[52,92,56,92],[52,93,56,93],[52,72,56,72],[52,74,56,74],[52,75,56,75],[52,63,56,63],[52,64,56,64],[52,65,56,65],[52,66,56,66],[52,67,56,67],[52,68,56,68],[52,57,56,57],[52,58,56,58],[52,59,56,59],[52,60,56,60],[52,61,56,61],[52,62,56,62],[52,51,56,51],[52,52,56,52],[52,53,56,53],[52,54,56,54],[52,55,56,55],[52,56,56,56],[5,29,8,29],[5,30,8,30],[52,47,56,47],[52,48,56,48],[52,49,56,49],[52,50,56,50],[53,29,56,29],[53,30,56,30],[5,22,8,22],[5,24,8,24],[5,25,8,25],[5,26,8,26],[5,27,8,27],[5,28,8,28],[4,96,8,96],[4,97,8,97],[4,98,8,98],[4,99,8,99],[5,16,8,16],[5,17,8,17],[5,18,8,18],[5,19,8,19],[5,20,8,20],[5,21,8,21],[4,90,8,90],[4,91,8,91],[4,92,8,92],[4,93,8,93],[4,94,8,94],[4,95,8,95],[4,84,8,84],[4,85,8,85],[4,86,8,86],[4,87,8,87],[4,88,8,88],[4,89,8,89],[4,78,8,78],[4,79,8,79],[4,80,8,80],[4,81,8,81],[4,82,8,82],[4,83,8,83],[4,71,8,71],[4,72,8,72],[4,74,8,74],[4,75,8,75],[4,76,8,76],[4,77,8,77],[4,65,8,65],[4,66,8,66],[4,67,8,67],[4,68,8,68],[4,69,8,69],[4,70,8,70],[4,59,8,59],[4,60,8,60],[4,61,8,61],[4,62,8,62],[4,63,8,63],[4,64,8,64],[4,53,8,53],[4,54,8,54],[4,55,8,55],[4,56,8,56],[4,57,8,57],[4,58,8,58],[4,47,8,47],[4,48,8,48],[4,49,8,49],[4,50,8,50],[4,51,8,51],[4,52,8,52]]}
[null,"ENTER/REPLACE DATA IN GREEN CELLS ONLY!"]
[null,null,null,null,null,null,null,null,null,null,null,null,null,null,null,null,null,null,null,null,null,null,null,null,null,null,null,null,null,null,null,null,null,null," "]
[null,"CALCULATED CAFE, GHG, AND LABEL VALUES",null,null,null,null,null,null,"ENTER BASIC VEHICLE INFORMATION HERE",null,null,null,"Test Set #1",null,null,null,null,null,null,null,null,null,null,null,null,null,null,null,null,null,null,null,null,null,"Results from Test Set #1:",{"$f":"N6","v":0},null,null,null,null,"INTERMEDIATE CALCULATIONS AND INPUTS",null,"Test Set #1:",{"$f":"N6","v":0}]
[null,null,"CAFE Values",null,null,null,null,null,"Vehicle Information",null,null,null,null,null,null,null,null,null,null,null,null,null,null,null,null,null,null,null,null,null,null,null,null,null,"CAFE Values",null,null,null,null,null,"Charge-Depleting (CD) Test Results",null,null,null,null,null,null,"DETAILED CALCULATIONS",null,"UDDS",{"$f":"$AR3","v":0},null,null,null,null,null,null,null,null,null,null,null,null,null,null,null,null,null,null,null,null,null,null,null,"DETAILED CALCULATIONS",null,"HFET",{"$f":"$AR3","v":0}]
[null,"ü","A. PHEV meets dual fuel criteria:","City","Highway","Combined",null,null,"Model year:",null,null,null,null,null,null,null,"ENTER CHARGE-DEPLETING UDDS (CITY) DATA HERE",null,null,null,null,null,null,null,"ENTER CHARGE-DEPLETING HFET (HIGHWAY) DATA HERE",null,null,null,null,null,null,null,null,null,"A. PHEV meets dual fuel criteria:","City","Highway","Combined",null,null,null,"DRIVING DISTANCE VALUES","CITY","HIGHWAY",null,null,null,"Cycle No.","Gasoline Consumed","CO2\n[0]","Net Amp-Hours Used Per Cycle [3]","DC Electricity Consumed\n[1]","AC Electricity Consumed\n[1]","Theoretical Cumulative Cycle Distance","Electric Only Fuel Consumption Rate","Total Fuel Consumption Rate (gas + electric)","55/45 City Fleet Utility Factor\n[3]","55/45 City FUF\nx\nCREE","55/45 City FUF\nx\nTotal Consumption","Total Fuel Consumption (gas + electric)","5-Cycle Adjustment","Adjusted Cycle Measured Distance","Adjusted Cycle Theoretical Cumulative Distance","MDIUF\n[3]","MDIUF\nx\nAdjusted CO2","MDIUF\nx\nAdjusted Total Fuel Consumption","43/57 City Fleet Utility Factor\n[3]","43/57 City FUF x\nAdjusted Total Fuel Consumption Rate","43/57 City FUF\nx\nAdjusted CREE","Is Cycle CD or CS based on NEC 1% Tolerance?","NEC Tolerance 1% Fuel Energy Criteria","Is Cycle CD or CS based on battery 2% Tolerance?","NEC Tolerance 2% Usable Battery Energy Criteria",null,"Cycle No.","Gasoline Consumed","CO2\n[0]","Net Amp-Hours Used Per Cycle [3]","DC Electricity Consumed\n[1]","AC Electricity Consumed\n[1]","Theoretical Cumulative Cycle Distance","Electric Only Fuel Consumption Rate","Total Fuel Consumption Rate (gas + electric)","55/45 Highway Fleet Utility Factor\n[3]","55/45 Highway FUF\nx\nCREE","55/45 Highway FUF\nx\nTotal Consumption","Total Fuel Consumption (gas + electric)","5-Cycle Adjustment","Adjusted Cycle Measured Distance","Adjusted Cycle Theoretical Cumulative Distance","MDIUF\n[3]","MDIUF\nx\nAdjusted CO2","MDIUF\nx\nAdjusted Total Fuel Consumption","43/57 Highway Fleet Utility Factor\n[3]","43/57 Highway FUF x\nAdjusted Total Fuel Consumption Rate","43/57 Highway FUF\nx\nAdjusted CREE","Is Cycle CD or CS based on NEC 1% Tolerance?","NEC Tolerance 1% Fuel Energy Criteria","Is Cycle CD or CS based on battery 2% Tolerance?","NEC Tolerance 2% Usable Battery Energy Criteria"]
[null,"→"," 1. Default 50/50 Composite MPGe",{"$f":"IF($N$7+$N$55+$N$103=0,    ((AJ6<>0)+(AJ54<>0)+(AJ102<>0))/(IFERROR(1/AJ6,0)+IFERROR(1/AJ54,0)+IFERROR(1/AJ102,0)),    ($N$7+$N$55+$N$103) / (IFERROR($N$7/AJ6,0)+IFERROR($N$55/AJ54,0)+IFERROR($N$103/AJ102,0))  )","v":{"$error":"#DIV/0!"}},{"$f":"IF($N$7+$N$55+$N$103=0,    ((AK6<>0)+(AK54<>0)+(AK102<>0))/(IFERROR(1/AK6,0)+IFERROR(1/AK54,0)+IFERROR(1/AK102,0)),    ($N$7+$N$55+$N$103) / (IFERROR($N$7/AK6,0)+IFERROR($N$55/AK54,0)+IFERROR($N$103/AK102,0))  )","v":{"$error":"#DIV/0!"}},{"$f":"astm(1/(0.55/D6+0.45/E6),4)","v":{"$error":"#VALUE!"}},"←",null,"Vehicle category:",null,null,null,"Test Set name (e.g., Eco, Power):",null,null,null,"Cycle No.","Cycle/Phase Measured Distance","Integrated Amp-Hours Electricity Used","Average Cycle Voltage","Fuel Economy","CO2","CREE",null,"Cycle No.","Cycle/Phase Measured Distance","Integrated Amp-Hours Electricity Used","Average Cycle Voltage","Fuel Economy","CO2","CREE",null,null,null," 1. Default 50/50 Composite MPGe [4]",{"$f":"IFERROR(astm(1/(0.5/(  (  $J$18  )   /(AQ11/AQ37))+0.5/N11),4),0)","v":0},{"$f":"IFERROR(astm(1/(0.5/(  (  $J$18  )   /(AR11/AR37))+0.5/O11),4),0)","v":0},{"$f":"IFERROR(astm(1/(0.55/AJ6+0.45/AK6),4),0)","v":0},null,null,null,"CD driving distance (Rcda), unadjusted (miles) [3]",{"$f":"IFERROR(astm(SUMIF(Q11:Q45,\"<=\" & ($AQ34-1),R11:R45) + AQ33*VLOOKUP($AQ34,Q11:R45,2,FALSE),3),0)","v":0},{"$f":"IFERROR(astm(SUMIF(Y11:Y45,\"<=\" & ($AR34-1),Z11:Z45) + AR33*VLOOKUP($AR34,Y11:Z45,2,FALSE),3),0)","v":0}]
[null,"→"," 2. Optional Utility Factor Composite MPGe",{"$f":"IF($N$7+$N$55+$N$103=0,    ((AJ7<>0)+(AJ55<>0)+(AJ103<>0))/(IFERROR(1/AJ7,0)+IFERROR(1/AJ55,0)+IFERROR(1/AJ103,0)),    ($N$7+$N$55+$N$103) / (IFERROR($N$7/AJ7,0)+IFERROR($N$55/AJ55,0)+IFERROR($N$103/AJ103,0))  )","v":{"$error":"#DIV/0!"}},{"$f":"IF($N$7+$N$55+$N$103=0,    ((AK7<>0)+(AK55<>0)+(AK103<>0))/(IFERROR(1/AK7,0)+IFERROR(1/AK55,0)+IFERROR(1/AK103,0)),    ($N$7+$N$55+$N$103) / (IFERROR($N$7/AK7,0)+IFERROR($N$55/AK55,0)+IFERROR($N$103/AK103,0))  )","v":{"$error":"#DIV/0!"}},{"$f":"astm(1/(0.55/D7+0.45/E7),4)","v":{"$error":"#VALUE!"}},"←",null,"Manufacturer name:",null,null,null,"Production Volume (projected or actual):",null,null,null,null,null,null,null,null,null,null,null,null,null,null,null,null,null,null,null,null,null," 2. Optional Utility Factor Composite MPGe [4]",{"$f":"IFERROR(astm(1/(  AQ40 /   (  ( $J$18   )   /   (AQ11/AQ37))       +        (1-AQ40)/N11), 4),0)","v":0},{"$f":"IFERROR(astm(1/(  AR40 /   (  ( $J$18   )   /   (AR11/AR37))       +        (1-AR40)/O11), 4),0)","v":0},{"$f":"IFERROR(astm(1/(0.55/AJ7+0.45/AK7),4),0)","v":0},null,null,null,"CD driving distance (Rcda), adjusted (miles) [3]",{"$f":"IFERROR(astm(SUMIF(AV11:AV45,\"<\"&AQ34,BJ11:BJ45)+AQ33*SUMIF(AV11:AV45,\"=\"&AQ34,BJ11:BJ45),3),0)","v":0},{"$f":"IFERROR(astm(SUMIF(BW11:BW45,\"<\"&AR34,CK11:CK45)+AR33*SUMIF(BW11:BW45,\"=\"&AR34,CK11:CK45),3),0)","v":0}]
[null,"þ","B. PHEV does NOT meet dual fuel criteria:","City","Highway","Combined",null,null,"Model name:",null,null,null,null,null,null,null,null,null,null,null,null,null,null,null,null,null,null,null,null,null,null,null,null,null,"B. PHEV does NOT meet dual fuel criteria:","City","Highway","Combined",null,null,null,"CD all-electric driving distance, unadjusted (miles) [3]",{"$f":"  IF(ISNUMBER(W47), astm(W47,3), 0)","v":0},{"$f":" IF(ISNUMBER(AE47), astm(AE47,3), 0)","v":0}]
[null,"→","  1. Utility Factor Composity MPGe",{"$f":"IF($N$7+$N$55+$N$103=0,    ((AJ9<>0)+(AJ57<>0)+(AJ105<>0))/(IFERROR(1/AJ9,0)+IFERROR(1/AJ57,0)+IFERROR(1/AJ105,0)),    ($N$7+$N$55+$N$103) / (IFERROR($N$7/AJ9,0)+IFERROR($N$55/AJ57,0)+IFERROR($N$103/AJ105,0))  )","v":{"$error":"#DIV/0!"}},{"$f":"IF($N$7+$N$55+$N$103=0,    ((AK9<>0)+(AK57<>0)+(AK105<>0))/(IFERROR(1/AK9,0)+IFERROR(1/AK57,0)+IFERROR(1/AK105,0)),    ($N$7+$N$55+$N$103) / (IFERROR($N$7/AK9,0)+IFERROR($N$55/AK57,0)+IFERROR($N$103/AK105,0))  )","v":{"$error":"#DIV/0!"}},{"$f":"astm(1/(0.55/D9+0.45/E9),4)","v":{"$error":"#VALUE!"}},"←",null,"Liquid fuel type:",null,null,null,"ENTER CHARGE-SUSTAINING TEST RESULTS HERE",null,null,null,null,null,null,null,null,null,null,null,null,null,null,null,null,null,null,null,null,null,"  1. Utility Factor Composite MPGe [4]",{"$f":"IFERROR(astm(1/ ( AQ15 + (1-AQ30)/N11),4),0)","v":0},{"$f":"IFERROR(astm(1/ ( AR15 + (1-AR30)/O11),4),0)","v":0},{"$f":"IFERROR(astm(1/(0.55/AJ9+0.45/AK9),4),0)","v":0},null,null,null,"CD All-Electric Range, adjusted (mi) [3]",{"$f":"astm( 0.7*AQ8, 3)","v":0},{"$f":"astm( 0.7*AR8, 3)","v":0}]
[null,null,"Based on the all-electric range, is this PHEV a dual fuel vehicle for CAFE?",null,null,{"$f":"IF(    OR($J$6=\"LT\", AND($J$6=\"PV\",D12>=7.5,E12>=10.2) ), \"YES\", \"NO\")","v":"NO"},null,null,"Additional descriptors as needed:",null,null,null,null,"City","Highway",null,"No.","Miles [3]","Amp-hrs [3]","Volts [2]","MPG [1]","g/mi [0]","g/mi [0]",null,"No.","Miles [3]","Amp-hrs [3]","Volts [2]","MPG [1]","g/mi [0]","g/mi [0]",null,null,null,"GHG Values","City","Highway","Combined",null,null,null,"FUEL CONSUMPTION & ECONOMY VALUES","CITY","HIGHWAY",null,null,null,"No.","gal","grams","Amp-hours","W-hours","W-hours","mi","gal/mi equiv","gal/mi equiv","UF","UF","gal/mi equiv","gal-equiv","%","miles","miles","UF","g/mi","gal/mi equiv","UF","gal/mi equiv","g/mi","CD or CS",null,"CD or CS",null,null,"No.","gal","grams","Amp-hours","W-hours","W-hours","mi","gal/mi equiv","gal/mi equiv","UF","UF","gal/mi equiv","gal-equiv","%","miles","miles","UF","g/mi","gal-equiv","UF","gal-equiv","g/mi","CD or CS",null,"CD or CS"]
[null,null,null,"City","Highway","Combined",null,null,"Fuel tank size (U.S. gallons)",null,null,null,"Fuel Economy, Unadjusted (MPG):",null,null,null,1,null,null,null,null,null,null,null,1,null,null,null,null,null,null,null," ",null,"Composite CREE, (g/mi) [1]",{"$f":"IFERROR(IF(OR(SUM(W11:W45)=0,N13=0,ISBLANK(N13), LOOKUP(2,1/(W11:W45<>\"\"),ROW(W11:W45)) < LOOKUP(2,1/(R11:R45<>\"\"),ROW(R11:R45))   ),\"ERROR\",astm(AQ27+(1-AQ30)*N13,1)),0)","v":0},{"$f":"IFERROR(IF(OR(SUM(AE11:AE45)=0,O13=0,ISBLANK(O13), LOOKUP(2,1/(AE11:AE45<>\"\"),ROW(AE11:AE45)) < LOOKUP(2,1/(Z11:Z45<>\"\"),ROW(Z11:Z40))   ),\"ERROR\",astm(AR27+(1-AR30)*O13,1)),0)","v":0},{"$f":"IFERROR(astm(0.55*AJ11+0.45*AK11,1),0)","v":0},null,null,"NEW","CD AC electricity consumption (Rcdc), unadjusted (Watt-hours) [1]",{"$f":"astm(SUMIF(AV11:AV45,\"<=\" & AQ34,BA11:BA45),1)","v":0},{"$f":"astm(SUMIF(BW11:BW45,\"<=\" & AR34,CB11:CB45),1)","v":0},null,null,null,1,{"$f":"IF(ISBLANK(R11),\"\", IF(astm(V11,0)=0, 0,         IFERROR(astm(R11,3)/astm(U11,1),0))  )","v":""},{"$f":"IF(ISBLANK(R11),\"\", IF(astm(V11,0)=0,0,               astm(  astm(V11,0)*astm(R11,3), 0)  ) )","v":""},{"$f":"IF( ISBLANK(S11),\"\",astm(S11,3))","v":""},{"$f":"IF(ISBLANK(T11),\"\",astm(AY11*astm(T11,2),1))","v":""},{"$f":"IFERROR(astm(  astm(W46,3)*1000*(AZ11/AQ13),1),\"\")","v":""},{"$f":"IF(ISBLANK(R11),\"\",7.45)","v":""},{"$f":"IFERROR(BA11/($J$19*astm(R11,3)),\"\")","v":""},{"$f":"IFERROR(BC11+AW11/astm(R11,3),\"\")","v":""},{"$f":"astm(IFERROR(astm(cityfuf(BB11)-0,3),\"\"),3)","v":{"$error":"#VALUE!"}},{"$f":"IF(ISBLANK(R11),\"\",  IF(astm(V11,0)=0, 0, IFERROR(BE11*astm(W11,0),\"\")  )  )","v":""},{"$f":"IFERROR(BD11*BE11,\"\")","v":""},{"$f":"IFERROR(BD11*astm(R11,3),\"\")","v":""},{"$f":"  IF( $J$5>=2017,    IFERROR(MAX(1/(0.004091*(1/BD11)+1.1601),0.7),\"\"),    IFERROR(MAX(1/(0.003259*(1/BD11)+1.1805),0.7),\"\")  )","v":""},{"$f":"  IFERROR(BI11*astm(R11,3),\"\")","v":""},{"$f":"  IFERROR(BI11*7.45,\"\")","v":""},{"$f":"IFERROR(astm(mdiuf(BK11)-0,3),\"\")","v":""},{"$f":" IF(ISBLANK(R11),\"\",   IF( astm(V11,0)=0, 0,    IFERROR(BL11*astm(V11,0)/(BI11),\"\")  ) )","v":""},{"$f":"IFERROR(BL11*BD11/BI11,\"\")","v":""},{"$f":"IFERROR(astm(cityfufalt(BK11)-0,3),\"\")","v":""},{"$f":"IFERROR(BO11*BD11/BI11,\"\")","v":""},{"$f":" IF(ISBLANK(R11),\"\",   IF( astm(V11,0)=0, 0,    IFERROR(BO11*astm(W11,0)/(BI11),\"\") ) )","v":""},{"$f":"IF(AZ11=\"\",\"\", IF(ABS(BS11)<0.01,\"CS based on 1% fuel energy\", \"CD\"))","v":""},{"$f":"IF(AZ11=\"\",1, MIN(IFERROR((AZ11/1000)/((AW11*$J$22)*$J$21/3600),1),IFERROR((SUMIFS(AZ11:AZ45,AV11:AV45,\"<=\"&$AV11,AV11:AV45,\">=\"&$AV11-1)/1000)/(  $J$22*SUMIFS(AW11:AW45,AV11:AV45,\"<=\"&$AV11,AV11:AV45,\">=\"&$AV11-1)*$J$21/3600),1),IFERROR((SUMIFS(AZ11:AZ45,AV11:AV45,\"<=\"&$AV11,AV11:AV45,\">=\"&$AV11-2)/1000)/(  $J$22*SUMIFS(AW11:AW45,AV11:AV45,\"<=\"&$AV11,AV11:AV45,\">=\"&$AV11-2)*$J$21/3600),1),IFERROR((SUMIFS(AZ11:AZ45,AV11:AV45,\"<=\"&$AV11,AV11:AV45,\">=\"&$AV11-3)/1000)/(  $J$22*SUMIFS(AW11:AW45,AV11:AV45,\"<=\"&$AV11,AV11:AV45,\">=\"&$AV11-3)*$J$21/3600),1)) )","v":1},{"$f":"IF(AZ11=\"\",\"\", IF(ABS(BU11)<0.02,\"CS based on 2% battery energy\",\"CD\"))","v":""},{"$f":"IF(AZ11=\"\",1, MIN($AZ11/SUM($AZ11:$AZ11),SUMIFS(AZ11:AZ45,AV11:AV45,\">=\"&$AV11-1,AV11:AV45,\"<=\"&$AV11)/SUM($AZ11:$AZ11),SUMIFS(AZ11:AZ45,AV11:AV45,\">=\"&$AV11-2,AV11:AV45,\"<=\"&$AV11)/SUM($AZ11:$AZ11),SUMIFS(AZ11:AZ45,AV11:AV45,\">=\"&$AV11-3,AV11:AV45,\"<=\"&$AV11)/SUM($AZ11:$AZ11)) )","v":1},null,1,{"$f":"IF(ISBLANK(Z11),\"\", IF(astm(AD11,0)=0, 0,         IFERROR(astm(Z11,3)/astm(AC11,1),0))  )","v":""},{"$f":"IF(ISBLANK(Z11),\"\", IF(astm(AD11,0)=0,0,               astm(AD11,0)*astm(Z11,3)) )","v":""},{"$f":"IF(ISBLANK(AA11),\"\",astm(AA11,3))","v":""},{"$f":"IF(ISBLANK(AB11),\"\",astm(BZ11*astm(AB11,2),1))","v":""},{"$f":"IFERROR( astm( astm($AE$46,3)*1000*(CA11/$AR$13),1),\"\")","v":""},{"$f":"IF(ISBLANK(Z11),\"\",10.3)","v":""},{"$f":"IFERROR(CB11/($J$19*astm(Z11,3)),\"\")","v":""},{"$f":"IFERROR(CD11+BX11/astm(Z11,3),\"\")","v":""},{"$f":"IFERROR(astm(highwayfuf(CC11)-0,3),\"\")","v":""},{"$f":" IF(ISBLANK(Z11),\"\",   IF( astm(AD11,0)=0, 0,       IFERROR(CF11*astm(AE11,0),\"\")  ) )","v":""},{"$f":"IFERROR(CE11*CF11,\"\")","v":""},{"$f":"IFERROR(CE11*astm(Z11,3),\"\")","v":""},{"$f":"  IF( $J$5>=2017,    IFERROR(MAX(1/(0.003191*(1/CE11)+1.2945),0.7),\"\"),   IFERROR(MAX(1/(0.001376*(1/CE11)+1.3466),0.7),\"\")  )","v":""},{"$f":"   IFERROR(CJ11*astm(Z11,3),\"\")","v":""},{"$f":"     IFERROR(CJ11*10.3,\"\")","v":""},{"$f":"IFERROR(astm(mdiuf(CL11)-0,3),\"\")","v":""},{"$f":" IF(ISBLANK(Z11),\"\",   IF( astm(AD11,0)=0, 0,    IFERROR(CM11*astm(AD11,0)/(CJ11),\"\") ) )","v":""},{"$f":"IFERROR(CM11*CE11/CJ11,\"\")","v":""},{"$f":"IFERROR(astm(highwayfufalt(CL11)-0,3),\"\")","v":""},{"$f":"IFERROR(CP11*CE11/CJ11,\"\")","v":""},{"$f":" IF(ISBLANK(Z11),\"\",   IF( astm(AD11,0)=0, 0,    IFERROR(CP11*astm(AE11,0)/(CJ11),\"\") ) )","v":""},{"$f":"IF($CA11=\"\",\"\", IF(ABS(CT11)<0.01,\"CS based on 1% fuel energy\",\"CD\"))","v":""},{"$f":"IF(CA11=\"\",1, MIN(IFERROR((CA11/1000)/((BX11*$J$22)*$J$21/3600),1),IFERROR((SUMIFS(CA11:CA45,BW11:BW45,\"<=\"&$BW11,BW11:BW45,\">=\"&$BW11-1)/1000)/(  $J$22*SUMIFS(BX11:BX45,BW11:BW45,\"<=\"&$BW11,BW11:BW45,\">=\"&$BW11-1)*$J$21/3600),1),IFERROR((SUMIFS(CA11:CA45,BW11:BW45,\"<=\"&$BW11,BW11:BW45,\">=\"&$BW11-2)/1000)/(  $J$22*SUMIFS(BX11:BX45,BW11:BW45,\"<=\"&$BW11,BW11:BW45,\">=\"&$BW11-2)*$J$21/3600),1),IFERROR((SUMIFS(CA11:CA45,BW11:BW45,\"<=\"&$BW11,BW11:BW45,\">=\"&$BW11-3)/1000)/(  $J$22*SUMIFS(BX11:BX45,BW11:BW45,\"<=\"&$BW11,BW11:BW45,\">=\"&$BW11-3)*$J$21/3600),1)) )","v":1},{"$f":"IF($CA11=\"\",\"\", IF(ABS(CV11)<0.02,\"CS based on 2% battery energy\",\"CD\"))","v":""},{"$f":"IF(CA11=\"\",1, MIN($CA11/SUM($CA11:$CA11),SUMIFS(CA11:CA45,BW11:BW45,\">=\"&$BW11-1,BW11:BW45,\"<=\"&$BW11)/SUM($CA11:$CA11),SUMIFS(CA11:CA45,BW11:BW45,\">=\"&$BW11-2,BW11:BW45,\"<=\"&$BW11)/SUM($CA11:$CA11),SUMIFS(CA11:CA45,BW11:BW45,\">=\"&$BW11-3,BW11:BW45,\"<=\"&$BW11)/SUM($CA11:$CA11)) )","v":1}]
[null,null,"All-Electric Range (miles, unadjusted)",{"$f":"IFERROR( astm( IF($N$7+$N$55+$N$103=0,SUM(IFERROR(AQ8,0),IFERROR(AQ56,0),IFERROR(AQ104,0)) / ((AQ8<>0)+(AQ56<>0)+(AQ104<>0)),($N$7*AQ8+$N$55*AQ56+$N$103*AQ104)/($N$7+$N$55+$N$103)),1),0)","v":0},{"$f":"IFERROR(  astm( IF($N$7+$N$55+$N$103=0,SUM(IFERROR(AR8,0),IFERROR(AR56,0),IFERROR(AR104,0)) / ((AR8<>0)+(AR56<>0)+(AR104<>0)),($N$7*AR8+$N$55*AR56+$N$103*AR104)/($N$7+$N$55+$N$103)),1),0)","v":0},{"$f":"0.55*D12+0.45*E12","v":0},null,null,"Deterioration Factors for GHG (CREE) Values (optional)","Yes",null,null,"Fuel Economy, Adjusted (MPG):",null,null,null,2,null,null,null,null,null,null,null,2,null,null,null,null,null,null,null,null,null,null,null,null,null,null,null,null,"CD AC electricity consumption rate (Rcda), adjusted  (kW-hr/100mi) [3]",{"$f":"IFERROR(astm( astm(W46,3)*100/AQ7,3),0)","v":0},{"$f":"IFERROR(astm( astm(AE46,3)*100/AR7,3),0)","v":0},null,null,null,2,"","",{"$f":"IF(ISBLANK(S12),\"\",(astm(S12,3)-astm(S11,3)))","v":""},{"$f":"IF(ISBLANK(T12),\"\",astm(AY12*astm(T12,2),1))","v":""},{"$f":"IFERROR(astm(  astm($W$46,3)*1000*(AZ12/AQ13),1),\"\")","v":""},{"$f":"IF(ISBLANK(R12),\"\",7.45+BB11)","v":""},"","",{"$f":"IFERROR(astm(cityfuf(BB12),3)-astm(cityfuf(BB11),3),\"\")","v":""},"",{"$f":"IFERROR(BD12*BE12,\"\")","v":""},"",{"$f":"  IF( $J$5>=2017,    IFERROR(MAX(1/(0.004091*(1/BD12)+1.1601),0.7),\"\"),    IFERROR(MAX(1/(0.003259*(1/BD12)+1.1805),0.7),\"\")  )","v":""},"",{"$f":" IFERROR(BI12*7.45+BK11,\"\")","v":""},{"$f":"IFERROR(astm(mdiuf(BK12),3)-astm(mdiuf(BK11),3),\"\")","v":""},"","",{"$f":"IFERROR(astm(cityfufalt(BK12),3)-astm(cityfufalt(BK11),3),\"\")","v":""},"","","",{"$f":"IF(AZ12=\"\",1, MIN(IFERROR((AZ12/1000)/((AW12*$J$22)*$J$21/3600),1),IFERROR((SUMIFS(AZ11:AZ45,AV11:AV45,\"<=\"&$AV12,AV11:AV45,\">=\"&$AV12-1)/1000)/(  $J$22*SUMIFS(AW11:AW45,AV11:AV45,\"<=\"&$AV12,AV11:AV45,\">=\"&$AV12-1)*$J$21/3600),1),IFERROR((SUMIFS(AZ11:AZ45,AV11:AV45,\"<=\"&$AV12,AV11:AV45,\">=\"&$AV12-2)/1000)/(  $J$22*SUMIFS(AW11:AW45,AV11:AV45,\"<=\"&$AV12,AV11:AV45,\">=\"&$AV12-2)*$J$21/3600),1),IFERROR((SUMIFS(AZ11:AZ45,AV11:AV45,\"<=\"&$AV12,AV11:AV45,\">=\"&$AV12-3)/1000)/(  $J$22*SUMIFS(AW11:AW45,AV11:AV45,\"<=\"&$AV12,AV11:AV45,\">=\"&$AV12-3)*$J$21/3600),1)) )","v":1},"",{"$f":"IF(AZ12=\"\",1, MIN($AZ12/SUM($AZ11:$AZ12),SUMIFS(AZ11:AZ45,AV11:AV45,\">=\"&$AV12-1,AV11:AV45,\"<=\"&$AV12)/SUM($AZ11:$AZ12),SUMIFS(AZ11:AZ45,AV11:AV45,\">=\"&$AV12-2,AV11:AV45,\"<=\"&$AV12)/SUM($AZ11:$AZ12),SUMIFS(AZ11:AZ45,AV11:AV45,\">=\"&$AV12-3,AV11:AV45,\"<=\"&$AV12)/SUM($AZ11:$AZ12)) )","v":1},null,2,"","",{"$f":"IF(ISBLANK(AA12),\"\",(astm(AA12,3)-astm(AA11,3)))","v":""},"","",{"$f":"IF(ISBLANK(Z12),\"\",10.3+CC11)","v":""},"","",{"$f":"IFERROR(astm(highwayfuf(CC12)-highwayfuf(CC11),3),\"\")","v":""},"","","","","",{"$f":"  IFERROR(CJ12*10.3+CL11,\"\")","v":""},{"$f":"IFERROR(astm(mdiuf(CL12)-mdiuf(CL11),3),\"\")","v":""},"","",{"$f":"IFERROR(astm(highwayfufalt(CL12)-highwayfufalt(CL11),3),\"\")","v":""},"","",{"$f":"IF(CA12=\"\",\"\", IF(ABS(CT12)<0.01,\"CS based on 1% fuel energy\",\"CD\"))","v":""},{"$f":"IF(CA12=\"\",1, MIN(IFERROR((CA12/1000)/((BX12*$J$22)*$J$21/3600),1),IFERROR((SUMIFS(CA11:CA45,BW11:BW45,\"<=\"&$BW12,BW11:BW45,\">=\"&$BW12-1)/1000)/(  $J$22*SUMIFS(BX11:BX45,BW11:BW45,\"<=\"&$BW12,BW11:BW45,\">=\"&$BW12-1)*$J$21/3600),1),IFERROR((SUMIFS(CA11:CA45,BW11:BW45,\"<=\"&$BW12,BW11:BW45,\">=\"&$BW12-2)/1000)/(  $J$22*SUMIFS(BX11:BX45,BW11:BW45,\"<=\"&$BW12,BW11:BW45,\">=\"&$BW12-2)*$J$21/3600),1),IFERROR((SUMIFS(CA11:CA45,BW11:BW45,\"<=\"&$BW12,BW11:BW45,\">=\"&$BW12-3)/1000)/(  $J$22*SUMIFS(BX11:BX45,BW11:BW45,\"<=\"&$BW12,BW11:BW45,\">=\"&$BW12-3)*$J$21/3600),1)) )","v":1},{"$f":"IF($CA12=\"\",\"\", IF(ABS(CV12)<0.02,\"CS based on 2% battery energy\",\"CD\"))","v":""},{"$f":"IF(CA12=\"\",1, MIN($CA12/SUM($CA11:$CA12),SUMIFS(CA11:CA45,BW11:BW45,\">=\"&$BW12-1,BW11:BW45,\"<=\"&$BW12)/SUM($CA11:$CA12),SUMIFS(CA11:CA45,BW11:BW45,\">=\"&$BW12-2,BW11:BW45,\"<=\"&$BW12)/SUM($CA11:$CA12),SUMIFS(CA11:CA45,BW11:BW45,\">=\"&$BW12-3,BW11:BW45,\"<=\"&$BW12)/SUM($CA11:$CA12)) )","v":1}]
[null,null,null,null,null,null,null,null,"Select the type of DF to apply:",null,null,null,"CREE (g/mi):",null,null,null,3,null,null,null,null,null,null,null,3,null,null,null,null,null,null,null,null,null,"Label Values (5-Cycle Adjusted)",null,null,null,null,null,null,"CD test total DC energy consumed, unadjusted (Watt-hours) [1]",{"$f":"astm(SUM(AZ11:AZ45),1)","v":0},{"$f":"astm(SUM(CA11:CA45),1)","v":0},null,null,null,3,"","","","",{"$f":"IFERROR(astm(  astm($W$46,3)*1000*(AZ13/AQ13),1),\"\")","v":""},"","","",{"$f":"IFERROR(astm(cityfuf(BB13),3)-astm(cityfuf(BB12),3),\"\")","v":""},"","","","","",{"$f":" IFERROR(BI13*7.45+BK12,\"\")","v":""},{"$f":"IFERROR(astm(mdiuf(BK13),3)-astm(mdiuf(BK12),3),\"\")","v":""},"","",{"$f":"IFERROR(astm(cityfufalt(BK13),3)-astm(cityfufalt(BK12),3),\"\")","v":""},"","","",{"$f":"IF(AZ13=\"\",1, MIN(IFERROR((AZ13/1000)/((AW13*$J$22)*$J$21/3600),1),IFERROR((SUMIFS(AZ11:AZ45,AV11:AV45,\"<=\"&$AV13,AV11:AV45,\">=\"&$AV13-1)/1000)/(  $J$22*SUMIFS(AW11:AW45,AV11:AV45,\"<=\"&$AV13,AV11:AV45,\">=\"&$AV13-1)*$J$21/3600),1),IFERROR((SUMIFS(AZ11:AZ45,AV11:AV45,\"<=\"&$AV13,AV11:AV45,\">=\"&$AV13-2)/1000)/(  $J$22*SUMIFS(AW11:AW45,AV11:AV45,\"<=\"&$AV13,AV11:AV45,\">=\"&$AV13-2)*$J$21/3600),1),IFERROR((SUMIFS(AZ11:AZ45,AV11:AV45,\"<=\"&$AV13,AV11:AV45,\">=\"&$AV13-3)/1000)/(  $J$22*SUMIFS(AW11:AW45,AV11:AV45,\"<=\"&$AV13,AV11:AV45,\">=\"&$AV13-3)*$J$21/3600),1)) )","v":1},"",{"$f":"IF(AZ13=\"\",1, MIN($AZ13/SUM($AZ11:$AZ13),SUMIFS(AZ11:AZ45,AV11:AV45,\">=\"&$AV13-1,AV11:AV45,\"<=\"&$AV13)/SUM($AZ11:$AZ13),SUMIFS(AZ11:AZ45,AV11:AV45,\">=\"&$AV13-2,AV11:AV45,\"<=\"&$AV13)/SUM($AZ11:$AZ13),SUMIFS(AZ11:AZ45,AV11:AV45,\">=\"&$AV13-3,AV11:AV45,\"<=\"&$AV13)/SUM($AZ11:$AZ13)) )","v":1},null,3,"","","","","","","","",{"$f":"IFERROR(astm(highwayfuf(CC13)-highwayfuf(CC12),3),\"\")","v":""},"","","","","",{"$f":"  IFERROR(CJ13*10.3+CL12,\"\")","v":""},{"$f":"IFERROR(astm(mdiuf(CL13)-mdiuf(CL12),3),\"\")","v":""},"","",{"$f":"IFERROR(astm(highwayfufalt(CL13)-highwayfufalt(CL12),3),\"\")","v":""},"","","",{"$f":"IF(CA13=\"\",1, MIN(IFERROR((CA13/1000)/((BX13*$J$22)*$J$21/3600),1),IFERROR((SUMIFS(CA11:CA45,BW11:BW45,\"<=\"&$BW13,BW11:BW45,\">=\"&$BW13-1)/1000)/(  $J$22*SUMIFS(BX11:BX45,BW11:BW45,\"<=\"&$BW13,BW11:BW45,\">=\"&$BW13-1)*$J$21/3600),1),IFERROR((SUMIFS(CA11:CA45,BW11:BW45,\"<=\"&$BW13,BW11:BW45,\">=\"&$BW13-2)/1000)/(  $J$22*SUMIFS(BX11:BX45,BW11:BW45,\"<=\"&$BW13,BW11:BW45,\">=\"&$BW13-2)*$J$21/3600),1),IFERROR((SUMIFS(CA11:CA45,BW11:BW45,\"<=\"&$BW13,BW11:BW45,\">=\"&$BW13-3)/1000)/(  $J$22*SUMIFS(BX11:BX45,BW11:BW45,\"<=\"&$BW13,BW11:BW45,\">=\"&$BW13-3)*$J$21/3600),1)) )","v":1},"",{"$f":"IF(CA13=\"\",1, MIN($CA13/SUM($CA11:$CA13),SUMIFS(CA11:CA45,BW11:BW45,\">=\"&$BW13-1,BW11:BW45,\"<=\"&$BW13)/SUM($CA11:$CA13),SUMIFS(CA11:CA45,BW11:BW45,\">=\"&$BW13-2,BW11:BW45,\"<=\"&$BW13)/SUM($CA11:$CA13),SUMIFS(CA11:CA45,BW11:BW45,\">=\"&$BW13-3,BW11:BW45,\"<=\"&$BW13)/SUM($CA11:$CA13)) )","v":1}]
[null,null,"GHG Values","City","Highway","Combined",null,null,"Enter a single DF for City and Highway:",null,null,null,"CO2, Unadjusted (g/mi):",null,null,null,4,null,null,null,null,null,null,null,4,null,null,null,null,null,null,null,null,null,"Charge-Depleting",null,null,"Combined",null,null,"NEW","CD Rcda total fuel consumption (Rcda), unadjusted (gal equiv) [4]",{"$f":"IFERROR(astm(SUMIF(AV11:AV45,\"<=\" & (AQ34-1),BH11:BH45) + AQ33*SUMIF(AV11:AV45,\"=\" & (AQ34-1),BH11:BH45),4),0)","v":0},{"$f":"IFERROR(astm(SUMIF(BW11:BW45,\"<=\" & (AR34-1),CI11:CI45) + AR33*SUMIF(BW11:BW45,\"=\" & (AR34-1),CI11:CI45),4),0)","v":0},null,null,null,4,{"$f":"IF(ISBLANK(R14),\"\", IF(astm(V14,0)=0, 0,         IFERROR(astm(R14,3)/astm(U14,1),0))  )","v":""},{"$f":"IF(ISBLANK(R14),\"\", IF(astm(V14,0)=0,0,               astm(  astm(V14,0)*astm(R14,3), 0)  ) )","v":""},{"$f":"IF(ISBLANK(S14),\"\",(astm(S14,3)-astm(S13,3)))","v":""},{"$f":"IF(ISBLANK(T14),\"\",astm(AY14*astm(T14,2),1))","v":""},{"$f":"IFERROR(astm(  astm($W$46,3)*1000*(AZ14/AQ13),1),\"\")","v":""},{"$f":"IF(ISBLANK(R14),\"\",7.45+BB13)","v":""},{"$f":"IFERROR(BA14/($J$19*astm(R14,3)),\"\")","v":""},{"$f":"IFERROR(BC14+AW14/astm(R14,3),\"\")","v":""},{"$f":"IFERROR(astm(cityfuf(BB14),3)-astm(cityfuf(BB13),3),\"\")","v":""},{"$f":"IF(ISBLANK(R14),\"\",  IF(astm(V14,0)=0, 0, IFERROR(BE14*astm(W14,0),\"\")  )  )","v":""},"",{"$f":"IFERROR(BD14*astm(R14,3),\"\")","v":""},"",{"$f":"  IFERROR(BI14*astm(R14,3),\"\")","v":""},"",{"$f":"IFERROR(astm(mdiuf(BK14),3)-astm(mdiuf(BK13),3),\"\")","v":""},{"$f":" IF(ISBLANK(R14),\"\",   IF( astm(V14,0)=0, 0,    IFERROR(BL14*astm(V14,0)/(BI14),\"\")  ) )","v":""},"",{"$f":"IFERROR(astm(cityfufalt(BK14),3)-astm(cityfufalt(BK13),3),\"\")","v":""},"",{"$f":" IF(ISBLANK(R14),\"\",   IF( astm(V14,0)=0, 0,    IFERROR(BO14*astm(W14,0)/(BI14),\"\") ) )","v":""},"",{"$f":"IF(AZ14=\"\",1, MIN(IFERROR((AZ14/1000)/((AW14*$J$22)*$J$21/3600),1),IFERROR((SUMIFS(AZ11:AZ45,AV11:AV45,\"<=\"&$AV14,AV11:AV45,\">=\"&$AV14-1)/1000)/(  $J$22*SUMIFS(AW11:AW45,AV11:AV45,\"<=\"&$AV14,AV11:AV45,\">=\"&$AV14-1)*$J$21/3600),1),IFERROR((SUMIFS(AZ11:AZ45,AV11:AV45,\"<=\"&$AV14,AV11:AV45,\">=\"&$AV14-2)/1000)/(  $J$22*SUMIFS(AW11:AW45,AV11:AV45,\"<=\"&$AV14,AV11:AV45,\">=\"&$AV14-2)*$J$21/3600),1),IFERROR((SUMIFS(AZ11:AZ45,AV11:AV45,\"<=\"&$AV14,AV11:AV45,\">=\"&$AV14-3)/1000)/(  $J$22*SUMIFS(AW11:AW45,AV11:AV45,\"<=\"&$AV14,AV11:AV45,\">=\"&$AV14-3)*$J$21/3600),1)) )","v":1},"",{"$f":"IF(AZ14=\"\",1, MIN($AZ14/SUM($AZ11:$AZ14),SUMIFS(AZ11:AZ45,AV11:AV45,\">=\"&$AV14-1,AV11:AV45,\"<=\"&$AV14)/SUM($AZ11:$AZ14),SUMIFS(AZ11:AZ45,AV11:AV45,\">=\"&$AV14-2,AV11:AV45,\"<=\"&$AV14)/SUM($AZ11:$AZ14),SUMIFS(AZ11:AZ45,AV11:AV45,\">=\"&$AV14-3,AV11:AV45,\"<=\"&$AV14)/SUM($AZ11:$AZ14)) )","v":1},null,4,"","","","","","","","",{"$f":"IFERROR(astm(highwayfuf(CC14)-highwayfuf(CC13),3),\"\")","v":""},"","","","","","",{"$f":"IFERROR(astm(mdiuf(CL14)-mdiuf(CL13),3),\"\")","v":""},"","",{"$f":"IFERROR(astm(highwayfufalt(CL14)-highwayfufalt(CL13),3),\"\")","v":""},"","","",{"$f":"IF(CA14=\"\",1, MIN(IFERROR((CA14/1000)/((BX14*$J$22)*$J$21/3600),1),IFERROR((SUMIFS(CA11:CA45,BW11:BW45,\"<=\"&$BW14,BW11:BW45,\">=\"&$BW14-1)/1000)/(  $J$22*SUMIFS(BX11:BX45,BW11:BW45,\"<=\"&$BW14,BW11:BW45,\">=\"&$BW14-1)*$J$21/3600),1),IFERROR((SUMIFS(CA11:CA45,BW11:BW45,\"<=\"&$BW14,BW11:BW45,\">=\"&$BW14-2)/1000)/(  $J$22*SUMIFS(BX11:BX45,BW11:BW45,\"<=\"&$BW14,BW11:BW45,\">=\"&$BW14-2)*$J$21/3600),1),IFERROR((SUMIFS(CA11:CA45,BW11:BW45,\"<=\"&$BW14,BW11:BW45,\">=\"&$BW14-3)/1000)/(  $J$22*SUMIFS(BX11:BX45,BW11:BW45,\"<=\"&$BW14,BW11:BW45,\">=\"&$BW14-3)*$J$21/3600),1)) )","v":1},"",{"$f":"IF(CA14=\"\",1, MIN($CA14/SUM($CA11:$CA14),SUMIFS(CA11:CA45,BW11:BW45,\">=\"&$BW14-1,BW11:BW45,\"<=\"&$BW14)/SUM($CA11:$CA14),SUMIFS(CA11:CA45,BW11:BW45,\">=\"&$BW14-2,BW11:BW45,\"<=\"&$BW14)/SUM($CA11:$CA14),SUMIFS(CA11:CA45,BW11:BW45,\">=\"&$BW14-3,BW11:BW45,\"<=\"&$BW14)/SUM($CA11:$CA14)) )","v":1}]
[null,null,"Composite CREE, no DF (g/mi)",{"$f":"IF(OR(AND(J13<>\"None\",COUNT(J14:J16)=3),  AND(J13<>\"None\", ISNUMBER(J14), OR(ISNUMBER(J15),ISNUMBER(J16) ) ) ),\"DF ERROR\",    IF(OR(N13=0,O13=0,SUM(V11:V45)=0,SUM(AD11:AD45)=0),\"ERROR\", IF( OR( AJ11=\"ERROR\",  AJ59=\"ERROR\", AJ107=\"ERROR\"), \"CREE ERROR\",\n astm(IF($N$7+$N$55+$N$103=0,SUM(IFERROR(AJ11,0),IFERROR(AJ59,0),IFERROR(AJ107,0)) / ((AJ11<>0)+(AJ59<>0)+(AJ107<>0)),($N$7*AJ11+$N$55*AJ59+$N$103*AJ107)/($N$7+$N$55+$N$103)),1)\n )  )  )","v":"ERROR"},{"$f":"IF(OR(AND(J13<>\"None\",COUNT(J14:J16)=3),  AND(J13<>\"None\", ISNUMBER(J14), OR(ISNUMBER(J15),ISNUMBER(J16) ) ) ),\"DF ERROR\",    IF(OR(N13=0,O13=0,SUM(W11:W45)=0,SUM(AE11:AE45)=0),\"ERROR\", IF( OR( AK11=\"ERROR\",  AK59=\"ERROR\", AK107=\"ERROR\"), \"CREE ERROR\",\n astm(IF($N$7+$N$55+$N$103=0,SUM(IFERROR(AK11,0),IFERROR(AK59,0),IFERROR(AK107,0)) / ((AK11<>0)+(AK59<>0)+(AK107<>0)),($N$7*AK11+$N$55*AK59+$N$103*AK107)/($N$7+$N$55+$N$103)),1)\n )  )  )","v":"ERROR"},{"$f":"IF(OR(N13=0,O13=0,SUM(W11:W45)=0,SUM(AE11:AE45)=0),\"ERROR\", IFERROR(astm(0.55*D15+0.45*E15,1),\"CREE ERROR\")  )","v":"ERROR"},null,null,"Enter a  City DF :",null,null,null,"CO2, Adjusted (g/mi):",null,null,null,5,null,null,null,null,null,null,null,5,null,null,null,null,null,null,null,null,null,"CD range, adjusted (miles) [0]",null,null,{"$f":"IFERROR(astm(0.55*AQ7+0.45*AR7,0),0)","v":0},null,null,null,"CD utilitized total fuel consumption rate (55/45 FUF, Rcdc), unadjusted (gal-equiv/mile) [6]",{"$f":" astm(SUMIF(AV11:AV45,\"<=\" & (AQ34),BG11:BG45)*1000000,0)/1000000","v":0},{"$f":" astm(SUMIF(BW11:BW45,\"<=\" & (AR34),CH11:CH45)*1000000,0)/1000000","v":0},null,null,null,5,{"$f":"IF(ISBLANK(R15),\"\", IF(astm(V15,0)=0, 0,         IFERROR(astm(R15,3)/astm(U15,1),0))  )","v":""},{"$f":"IF(ISBLANK(R15),\"\", IF(astm(V15,0)=0,0,               astm(  astm(V15,0)*astm(R15,3), 0)  ) )","v":""},{"$f":"IF(ISBLANK(S15),\"\",(astm(S15,3)-astm(S14,3)))","v":""},{"$f":"IF(ISBLANK(T15),\"\",astm(AY15*astm(T15,2),1))","v":""},{"$f":"IFERROR(astm(  astm($W$46,3)*1000*(AZ15/AQ13),1),\"\")","v":""},{"$f":"IF(ISBLANK(R15),\"\",7.45+BB14)","v":""},{"$f":"IFERROR(BA15/($J$19*astm(R15,3)),\"\")","v":""},{"$f":"IFERROR(BC15+AW15/astm(R15,3),\"\")","v":""},{"$f":"IFERROR(astm(cityfuf(BB15),3)-astm(cityfuf(BB14),3),\"\")","v":""},{"$f":"IF(ISBLANK(R15),\"\",  IF(astm(V15,0)=0, 0, IFERROR(BE15*astm(W15,0),\"\")  )  )","v":""},"",{"$f":"IFERROR(BD15*astm(R15,3),\"\")","v":""},"",{"$f":"  IFERROR(BI15*astm(R15,3),\"\")","v":""},"",{"$f":"IFERROR(astm(mdiuf(BK15),3)-astm(mdiuf(BK14),3),\"\")","v":""},{"$f":" IF(ISBLANK(R15),\"\",   IF( astm(V15,0)=0, 0,    IFERROR(BL15*astm(V15,0)/(BI15),\"\")  ) )","v":""},"",{"$f":"IFERROR(astm(cityfufalt(BK15),3)-astm(cityfufalt(BK14),3),\"\")","v":""},"",{"$f":" IF(ISBLANK(R15),\"\",   IF( astm(V15,0)=0, 0,    IFERROR(BO15*astm(W15,0)/(BI15),\"\") ) )","v":""},"",{"$f":"IF(AZ15=\"\",1, MIN(IFERROR((AZ15/1000)/((AW15*$J$22)*$J$21/3600),1),IFERROR((SUMIFS(AZ11:AZ45,AV11:AV45,\"<=\"&$AV15,AV11:AV45,\">=\"&$AV15-1)/1000)/(  $J$22*SUMIFS(AW11:AW45,AV11:AV45,\"<=\"&$AV15,AV11:AV45,\">=\"&$AV15-1)*$J$21/3600),1),IFERROR((SUMIFS(AZ11:AZ45,AV11:AV45,\"<=\"&$AV15,AV11:AV45,\">=\"&$AV15-2)/1000)/(  $J$22*SUMIFS(AW11:AW45,AV11:AV45,\"<=\"&$AV15,AV11:AV45,\">=\"&$AV15-2)*$J$21/3600),1),IFERROR((SUMIFS(AZ11:AZ45,AV11:AV45,\"<=\"&$AV15,AV11:AV45,\">=\"&$AV15-3)/1000)/(  $J$22*SUMIFS(AW11:AW45,AV11:AV45,\"<=\"&$AV15,AV11:AV45,\">=\"&$AV15-3)*$J$21/3600),1)) )","v":1},"",{"$f":"IF(AZ15=\"\",1, MIN($AZ15/SUM($AZ11:$AZ15),SUMIFS(AZ11:AZ45,AV11:AV45,\">=\"&$AV15-1,AV11:AV45,\"<=\"&$AV15)/SUM($AZ11:$AZ15),SUMIFS(AZ11:AZ45,AV11:AV45,\">=\"&$AV15-2,AV11:AV45,\"<=\"&$AV15)/SUM($AZ11:$AZ15),SUMIFS(AZ11:AZ45,AV11:AV45,\">=\"&$AV15-3,AV11:AV45,\"<=\"&$AV15)/SUM($AZ11:$AZ15)) )","v":1},null,5,"","","","","","","","",{"$f":"IFERROR(astm(highwayfuf(CC15)-highwayfuf(CC14),3),\"\")","v":""},"","","","","","",{"$f":"IFERROR(astm(mdiuf(CL15)-mdiuf(CL14),3),\"\")","v":""},"","",{"$f":"IFERROR(astm(highwayfufalt(CL15)-highwayfufalt(CL14),3),\"\")","v":""},"","","",{"$f":"IF(CA15=\"\",1, MIN(IFERROR((CA15/1000)/((BX15*$J$22)*$J$21/3600),1),IFERROR((SUMIFS(CA11:CA45,BW11:BW45,\"<=\"&$BW15,BW11:BW45,\">=\"&$BW15-1)/1000)/(  $J$22*SUMIFS(BX11:BX45,BW11:BW45,\"<=\"&$BW15,BW11:BW45,\">=\"&$BW15-1)*$J$21/3600),1),IFERROR((SUMIFS(CA11:CA45,BW11:BW45,\"<=\"&$BW15,BW11:BW45,\">=\"&$BW15-2)/1000)/(  $J$22*SUMIFS(BX11:BX45,BW11:BW45,\"<=\"&$BW15,BW11:BW45,\">=\"&$BW15-2)*$J$21/3600),1),IFERROR((SUMIFS(CA11:CA45,BW11:BW45,\"<=\"&$BW15,BW11:BW45,\">=\"&$BW15-3)/1000)/(  $J$22*SUMIFS(BX11:BX45,BW11:BW45,\"<=\"&$BW15,BW11:BW45,\">=\"&$BW15-3)*$J$21/3600),1)) )","v":1},"",{"$f":"IF(CA15=\"\",1, MIN($CA15/SUM($CA11:$CA15),SUMIFS(CA11:CA45,BW11:BW45,\">=\"&$BW15-1,BW11:BW45,\"<=\"&$BW15)/SUM($CA11:$CA15),SUMIFS(CA11:CA45,BW11:BW45,\">=\"&$BW15-2,BW11:BW45,\"<=\"&$BW15)/SUM($CA11:$CA15),SUMIFS(CA11:CA45,BW11:BW45,\">=\"&$BW15-3,BW11:BW45,\"<=\"&$BW15)/SUM($CA11:$CA15)) )","v":1}]
[null,null,"Composite CREE, with DF (g/mi)",{"$f":"IF(AND(ISNUMBER(J16),ISBLANK(J15)),\"DF ERROR\",        IFERROR(astm(IF(J13=\"None\",\"\", IF(J13=\"Additive\",D15+J14+J15,IF(J13=\"Multiplicative\",D15*(J14+J15),\"\"))),1),\"\")  )","v":""},{"$f":"IF(AND(ISNUMBER(J15),ISBLANK(J16)),\"DF ERROR\",   IFERROR(astm(IF(J13=\"None\",\"\",IF(J13=\"Additive\",E15+J14+J16,IF(J13=\"Multiplicative\",E15*(J14+J16),\"\"))),1),\"\") )","v":""},{"$f":"IFERROR(IF(OR(N13=0,O13=0,SUM(W11:W45)=0,SUM(AE11:AE45)=0),\"ERROR\", astm(0.55*D16+0.45*E16,1)  ),\"\")","v":"ERROR"},null,null,"Enter a Highway DF:",null,null,null,null,null,null,null,6,null,null,null,null,null,null,null,6,null,null,null,null,null,null,null,null,null,"CD All-Electric Range, adjusted (mi) [0]",null,null,{"$f":"IFERROR(astm(0.55*AQ9+0.45*AR9,0),0)","v":0},null,null,"NEW","CD utilitized total fuel consumption rate (43/57 FUF, Rcdc), adjusted (gal-equiv/mile) [6]",{"$f":" astm( 1000000*SUMIF(AV11:AV45,\"<=\" & (AQ34),BP11:BP45), 0) / 1000000","v":0},{"$f":" astm( 1000000*SUMIF(BW11:BW45,\"<=\" & (AR34),CQ11:CQ45), 0) / 1000000","v":0},null,null,null,6,{"$f":"IF(ISBLANK(R16),\"\", IF(astm(V16,0)=0, 0,         IFERROR(astm(R16,3)/astm(U16,1),0))  )","v":""},{"$f":"IF(ISBLANK(R16),\"\", IF(astm(V16,0)=0,0,               astm(  astm(V16,0)*astm(R16,3), 0)  ) )","v":""},{"$f":"IF(ISBLANK(S16),\"\",(astm(S16,3)-astm(S15,3)))","v":""},{"$f":"IF(ISBLANK(T16),\"\",astm(AY16*astm(T16,2),1))","v":""},{"$f":"IFERROR(astm(  astm($W$46,3)*1000*(AZ16/AQ13),1),\"\")","v":""},{"$f":"IF(ISBLANK(R16),\"\",7.45+BB15)","v":""},{"$f":"IFERROR(BA16/($J$19*astm(R16,3)),\"\")","v":""},{"$f":"IFERROR(BC16+AW16/astm(R16,3),\"\")","v":""},{"$f":"IFERROR(astm(cityfuf(BB16),3)-astm(cityfuf(BB15),3),\"\")","v":""},{"$f":"IF(ISBLANK(R16),\"\",  IF(astm(V16,0)=0, 0, IFERROR(BE16*astm(W16,0),\"\")  )  )","v":""},"",{"$f":"IFERROR(BD16*astm(R16,3),\"\")","v":""},"",{"$f":"  IFERROR(BI16*astm(R16,3),\"\")","v":""},"",{"$f":"IFERROR(astm(mdiuf(BK16),3)-astm(mdiuf(BK15),3),\"\")","v":""},{"$f":" IF(ISBLANK(R16),\"\",   IF( astm(V16,0)=0, 0,    IFERROR(BL16*astm(V16,0)/(BI16),\"\")  ) )","v":""},"",{"$f":"IFERROR(astm(cityfufalt(BK16),3)-astm(cityfufalt(BK15),3),\"\")","v":""},"",{"$f":" IF(ISBLANK(R16),\"\",   IF( astm(V16,0)=0, 0,    IFERROR(BO16*astm(W16,0)/(BI16),\"\") ) )","v":""},"",{"$f":"IF(AZ16=\"\",1, MIN(IFERROR((AZ16/1000)/((AW16*$J$22)*$J$21/3600),1),IFERROR((SUMIFS(AZ11:AZ45,AV11:AV45,\"<=\"&$AV16,AV11:AV45,\">=\"&$AV16-1)/1000)/(  $J$22*SUMIFS(AW11:AW45,AV11:AV45,\"<=\"&$AV16,AV11:AV45,\">=\"&$AV16-1)*$J$21/3600),1),IFERROR((SUMIFS(AZ11:AZ45,AV11:AV45,\"<=\"&$AV16,AV11:AV45,\">=\"&$AV16-2)/1000)/(  $J$22*SUMIFS(AW11:AW45,AV11:AV45,\"<=\"&$AV16,AV11:AV45,\">=\"&$AV16-2)*$J$21/3600),1),IFERROR((SUMIFS(AZ11:AZ45,AV11:AV45,\"<=\"&$AV16,AV11:AV45,\">=\"&$AV16-3)/1000)/(  $J$22*SUMIFS(AW11:AW45,AV11:AV45,\"<=\"&$AV16,AV11:AV45,\">=\"&$AV16-3)*$J$21/3600),1)) )","v":1},"",{"$f":"IF(AZ16=\"\",1, MIN($AZ16/SUM($AZ11:$AZ16),SUMIFS(AZ11:AZ45,AV11:AV45,\">=\"&$AV16-1,AV11:AV45,\"<=\"&$AV16)/SUM($AZ11:$AZ16),SUMIFS(AZ11:AZ45,AV11:AV45,\">=\"&$AV16-2,AV11:AV45,\"<=\"&$AV16)/SUM($AZ11:$AZ16),SUMIFS(AZ11:AZ45,AV11:AV45,\">=\"&$AV16-3,AV11:AV45,\"<=\"&$AV16)/SUM($AZ11:$AZ16)) )","v":1},null,6,"","","","","","","","",{"$f":"IFERROR(astm(highwayfuf(CC16)-highwayfuf(CC15),3),\"\")","v":""},"","","","","","",{"$f":"IFERROR(astm(mdiuf(CL16)-mdiuf(CL15),3),\"\")","v":""},"","",{"$f":"IFERROR(astm(highwayfufalt(CL16)-highwayfufalt(CL15),3),\"\")","v":""},"","","",{"$f":"IF(CA16=\"\",1, MIN(IFERROR((CA16/1000)/((BX16*$J$22)*$J$21/3600),1),IFERROR((SUMIFS(CA11:CA45,BW11:BW45,\"<=\"&$BW16,BW11:BW45,\">=\"&$BW16-1)/1000)/(  $J$22*SUMIFS(BX11:BX45,BW11:BW45,\"<=\"&$BW16,BW11:BW45,\">=\"&$BW16-1)*$J$21/3600),1),IFERROR((SUMIFS(CA11:CA45,BW11:BW45,\"<=\"&$BW16,BW11:BW45,\">=\"&$BW16-2)/1000)/(  $J$22*SUMIFS(BX11:BX45,BW11:BW45,\"<=\"&$BW16,BW11:BW45,\">=\"&$BW16-2)*$J$21/3600),1),IFERROR((SUMIFS(CA11:CA45,BW11:BW45,\"<=\"&$BW16,BW11:BW45,\">=\"&$BW16-3)/1000)/(  $J$22*SUMIFS(BX11:BX45,BW11:BW45,\"<=\"&$BW16,BW11:BW45,\">=\"&$BW16-3)*$J$21/3600),1)) )","v":1},"",{"$f":"IF(CA16=\"\",1, MIN($CA16/SUM($CA11:$CA16),SUMIFS(CA11:CA45,BW11:BW45,\">=\"&$BW16-1,BW11:BW45,\"<=\"&$BW16)/SUM($CA11:$CA16),SUMIFS(CA11:CA45,BW11:BW45,\">=\"&$BW16-2,BW11:BW45,\"<=\"&$BW16)/SUM($CA11:$CA16),SUMIFS(CA11:CA45,BW11:BW45,\">=\"&$BW16-3,BW11:BW45,\"<=\"&$BW16)/SUM($CA11:$CA16)) )","v":1}]
[null,null,"Label Values (5-Cycle Adjusted)",null,null,null,null,null,"Inputs & Conversions (most of these should not be changed)",null,null,null,null,null,null,null,7,null,null,null,null,null,null,null,7,null,null,null,null,null,null,null,null,null,"Total Driving Range (Miles) [0]",null,null,{"$f":"IFERROR(astm(   IFERROR((astm(0.55*AQ38+0.45*AR38,0)+AL15),0) / 10,0) *10,0)","v":0},null,null,"NEW","CD utilitized total fuel consumption rate (MDIUF, Rcdc), adjusted (gal-equiv/mile) [6]",{"$f":" astm(SUMIF(AV11:AV45,\"<=\" & (AQ34),BN11:BN45)*1000000,0) / 1000000","v":0},{"$f":" astm(SUMIF(BW11:BW45,\"<=\" & (AR34),CO11:CO45)*1000000,0) / 1000000","v":0},null,null,null,7,"","",{"$f":"IF(ISBLANK(S17),\"\",(astm(S17,3)-astm(S16,3)))","v":""},"",{"$f":"IFERROR(astm(  astm($W$46,3)*1000*(AZ17/AQ13),1),\"\")","v":""},"","","",{"$f":"IFERROR(astm(cityfuf(BB17),3)-astm(cityfuf(BB16),3),\"\")","v":""},"","","","","","",{"$f":"IFERROR(astm(mdiuf(BK17),3)-astm(mdiuf(BK16),3),\"\")","v":""},"","",{"$f":"IFERROR(astm(cityfufalt(BK17),3)-astm(cityfufalt(BK16),3),\"\")","v":""},"","","",{"$f":"IF(AZ17=\"\",1, MIN(IFERROR((AZ17/1000)/((AW17*$J$22)*$J$21/3600),1),IFERROR((SUMIFS(AZ11:AZ45,AV11:AV45,\"<=\"&$AV17,AV11:AV45,\">=\"&$AV17-1)/1000)/(  $J$22*SUMIFS(AW11:AW45,AV11:AV45,\"<=\"&$AV17,AV11:AV45,\">=\"&$AV17-1)*$J$21/3600),1),IFERROR((SUMIFS(AZ11:AZ45,AV11:AV45,\"<=\"&$AV17,AV11:AV45,\">=\"&$AV17-2)/1000)/(  $J$22*SUMIFS(AW11:AW45,AV11:AV45,\"<=\"&$AV17,AV11:AV45,\">=\"&$AV17-2)*$J$21/3600),1),IFERROR((SUMIFS(AZ11:AZ45,AV11:AV45,\"<=\"&$AV17,AV11:AV45,\">=\"&$AV17-3)/1000)/(  $J$22*SUMIFS(AW11:AW45,AV11:AV45,\"<=\"&$AV17,AV11:AV45,\">=\"&$AV17-3)*$J$21/3600),1)) )","v":1},"",{"$f":"IF(AZ17=\"\",1, MIN($AZ17/SUM($AZ11:$AZ17),SUMIFS(AZ11:AZ45,AV11:AV45,\">=\"&$AV17-1,AV11:AV45,\"<=\"&$AV17)/SUM($AZ11:$AZ17),SUMIFS(AZ11:AZ45,AV11:AV45,\">=\"&$AV17-2,AV11:AV45,\"<=\"&$AV17)/SUM($AZ11:$AZ17),SUMIFS(AZ11:AZ45,AV11:AV45,\">=\"&$AV17-3,AV11:AV45,\"<=\"&$AV17)/SUM($AZ11:$AZ17)) )","v":1},null,7,"","","","","","","","",{"$f":"IFERROR(astm(highwayfuf(CC17)-highwayfuf(CC16),3),\"\")","v":""},"","","","","","",{"$f":"IFERROR(astm(mdiuf(CL17)-mdiuf(CL16),3),\"\")","v":""},"","",{"$f":"IFERROR(astm(highwayfufalt(CL17)-highwayfufalt(CL16),3),\"\")","v":""},"","","",{"$f":"IF(CA17=\"\",1, MIN(IFERROR((CA17/1000)/((BX17*$J$22)*$J$21/3600),1),IFERROR((SUMIFS(CA11:CA45,BW11:BW45,\"<=\"&$BW17,BW11:BW45,\">=\"&$BW17-1)/1000)/(  $J$22*SUMIFS(BX11:BX45,BW11:BW45,\"<=\"&$BW17,BW11:BW45,\">=\"&$BW17-1)*$J$21/3600),1),IFERROR((SUMIFS(CA11:CA45,BW11:BW45,\"<=\"&$BW17,BW11:BW45,\">=\"&$BW17-2)/1000)/(  $J$22*SUMIFS(BX11:BX45,BW11:BW45,\"<=\"&$BW17,BW11:BW45,\">=\"&$BW17-2)*$J$21/3600),1),IFERROR((SUMIFS(CA11:CA45,BW11:BW45,\"<=\"&$BW17,BW11:BW45,\">=\"&$BW17-3)/1000)/(  $J$22*SUMIFS(BX11:BX45,BW11:BW45,\"<=\"&$BW17,BW11:BW45,\">=\"&$BW17-3)*$J$21/3600),1)) )","v":1},"",{"$f":"IF(CA17=\"\",1, MIN($CA17/SUM($CA11:$CA17),SUMIFS(CA11:CA45,BW11:BW45,\">=\"&$BW17-1,BW11:BW45,\"<=\"&$BW17)/SUM($CA11:$CA17),SUMIFS(CA11:CA45,BW11:BW45,\">=\"&$BW17-2,BW11:BW45,\"<=\"&$BW17)/SUM($CA11:$CA17),SUMIFS(CA11:CA45,BW11:BW45,\">=\"&$BW17-3,BW11:BW45,\"<=\"&$BW17)/SUM($CA11:$CA17)) )","v":1}]
[null,null,"Charge-Depleting","City","Highway","Combined",null,null,"DOE Petroleum Equivalence Factor (PEF):",82049,null,null,null,null,null,null,8,null,null,null,null,null,null,null,8,null,null,null,null,null,null,null,null,null,"CD Fuel Economy (MPGe) [0]",null,null,{"$f":" IFERROR(astm(1/(0.55/AQ19+0.45/AR19),0),0)","v":0},null,null,null,"CD gasoline consumption (Rcda), unadjusted (gal) [1]",{"$f":"IFERROR(SUMIF(AV11:AV45,\"<=\" & AQ34-1,AW11:AW45)+AQ33*SUMIF(AV11:AV45,\"=\" & AQ34-1,AW11:AW45),0)","v":0},{"$f":"IFERROR(SUMIF(BW11:BW45,\"<=\" & AR34-1,BX11:BX45)+AR33*SUMIF(BW11:BW45,\"=\" & AR34-1,BX11:BX45),0)","v":0},null,null,null,8,"","","","",{"$f":"IFERROR(astm(  astm($W$46,3)*1000*(AZ18/AQ13),1),\"\")","v":""},"","","",{"$f":"IFERROR(astm(cityfuf(BB18),3)-astm(cityfuf(BB17),3),\"\")","v":""},"","","","","","",{"$f":"IFERROR(astm(mdiuf(BK18),3)-astm(mdiuf(BK17),3),\"\")","v":""},"","",{"$f":"IFERROR(astm(cityfufalt(BK18),3)-astm(cityfufalt(BK17),3),\"\")","v":""},"","","",{"$f":"IF(AZ18=\"\",1, MIN(IFERROR((AZ18/1000)/((AW18*$J$22)*$J$21/3600),1),IFERROR((SUMIFS(AZ11:AZ45,AV11:AV45,\"<=\"&$AV18,AV11:AV45,\">=\"&$AV18-1)/1000)/(  $J$22*SUMIFS(AW11:AW45,AV11:AV45,\"<=\"&$AV18,AV11:AV45,\">=\"&$AV18-1)*$J$21/3600),1),IFERROR((SUMIFS(AZ11:AZ45,AV11:AV45,\"<=\"&$AV18,AV11:AV45,\">=\"&$AV18-2)/1000)/(  $J$22*SUMIFS(AW11:AW45,AV11:AV45,\"<=\"&$AV18,AV11:AV45,\">=\"&$AV18-2)*$J$21/3600),1),IFERROR((SUMIFS(AZ11:AZ45,AV11:AV45,\"<=\"&$AV18,AV11:AV45,\">=\"&$AV18-3)/1000)/(  $J$22*SUMIFS(AW11:AW45,AV11:AV45,\"<=\"&$AV18,AV11:AV45,\">=\"&$AV18-3)*$J$21/3600),1)) )","v":1},"",{"$f":"IF(AZ18=\"\",1, MIN($AZ18/SUM($AZ11:$AZ18),SUMIFS(AZ11:AZ45,AV11:AV45,\">=\"&$AV18-1,AV11:AV45,\"<=\"&$AV18)/SUM($AZ11:$AZ18),SUMIFS(AZ11:AZ45,AV11:AV45,\">=\"&$AV18-2,AV11:AV45,\"<=\"&$AV18)/SUM($AZ11:$AZ18),SUMIFS(AZ11:AZ45,AV11:AV45,\">=\"&$AV18-3,AV11:AV45,\"<=\"&$AV18)/SUM($AZ11:$AZ18)) )","v":1},null,8,"","","","","","","","",{"$f":"IFERROR(astm(highwayfuf(CC18)-highwayfuf(CC17),3),\"\")","v":""},"","","","","","",{"$f":"IFERROR(astm(mdiuf(CL18)-mdiuf(CL17),3),\"\")","v":""},"","",{"$f":"IFERROR(astm(highwayfufalt(CL18)-highwayfufalt(CL17),3),\"\")","v":""},"","","",{"$f":"IF(CA18=\"\",1, MIN(IFERROR((CA18/1000)/((BX18*$J$22)*$J$21/3600),1),IFERROR((SUMIFS(CA11:CA45,BW11:BW45,\"<=\"&$BW18,BW11:BW45,\">=\"&$BW18-1)/1000)/(  $J$22*SUMIFS(BX11:BX45,BW11:BW45,\"<=\"&$BW18,BW11:BW45,\">=\"&$BW18-1)*$J$21/3600),1),IFERROR((SUMIFS(CA11:CA45,BW11:BW45,\"<=\"&$BW18,BW11:BW45,\">=\"&$BW18-2)/1000)/(  $J$22*SUMIFS(BX11:BX45,BW11:BW45,\"<=\"&$BW18,BW11:BW45,\">=\"&$BW18-2)*$J$21/3600),1),IFERROR((SUMIFS(CA11:CA45,BW11:BW45,\"<=\"&$BW18,BW11:BW45,\">=\"&$BW18-3)/1000)/(  $J$22*SUMIFS(BX11:BX45,BW11:BW45,\"<=\"&$BW18,BW11:BW45,\">=\"&$BW18-3)*$J$21/3600),1)) )","v":1},"",{"$f":"IF(CA18=\"\",1, MIN($CA18/SUM($CA11:$CA18),SUMIFS(CA11:CA45,BW11:BW45,\">=\"&$BW18-1,BW11:BW45,\"<=\"&$BW18)/SUM($CA11:$CA18),SUMIFS(CA11:CA45,BW11:BW45,\">=\"&$BW18-2,BW11:BW45,\"<=\"&$BW18)/SUM($CA11:$CA18),SUMIFS(CA11:CA45,BW11:BW45,\">=\"&$BW18-3,BW11:BW45,\"<=\"&$BW18)/SUM($CA11:$CA18)) )","v":1}]
[null,null,"Charge-depleting Range (Miles)",{"$f":"IF($N$7+$N$55+$N$103=0,SUM(IFERROR(AQ7,0),IFERROR(AQ55,0),IFERROR(AQ103,0)) / ((AQ7<>0)+(AQ55<>0)+(AQ103<>0)),($N$7*AQ7+$N$55*AQ55+$N$103*AQ103)/($N$7+$N$55+$N$103))","v":{"$error":"#DIV/0!"}},{"$f":"IF($N$7+$N$55+$N$103=0,SUM(IFERROR(AR7,0),IFERROR(AR55,0),IFERROR(AR103,0)) / ((AR7<>0)+(AR55<>0)+(AR103<>0)),($N$7*AR7+$N$55*AR55+$N$103*AR103)/($N$7+$N$55+$N$103))","v":{"$error":"#DIV/0!"}},{"$f":"astm(0.55*D19+0.45*E19,0)","v":{"$error":"#VALUE!"}},null,null,"Watt-hours of energy per gallon of gasoline:",33705,null,null,null,null,null,null,9,null,null,null,null,null,null,null,9,null,null,null,null,null,null,null,null,null,"CD Electricity Consumption  (kW-hr/100mi) [0]",null,null,{"$f":"IFERROR(astm(0.55*AQ12+0.45*AR12,0),0)","v":0},null,null,null,"CD fuel economy (Rcda), adjusted (MPGe) [4]",{"$f":"IFERROR(astm( AQ7/ ( SUMIF(AV11:AV45,\"<=\" & (AQ34-1),BH11:BH45) + AQ33*SUMIF(AV11:AV45,\"=\" & (AQ34-1),BH11:BH45) ),4),0)","v":0},{"$f":"IFERROR(astm( AR7/ ( SUMIF(BW11:BW45,\"<=\" & (AR34-1),CI11:CI45) + AR33*SUMIF(BW11:BW45,\"=\" & (AR34-1),CI11:CI45) ),4),0)","v":0},null,null,null,9,"","","","",{"$f":"IFERROR(astm(  astm($W$46,3)*1000*(AZ19/AQ13),1),\"\")","v":""},"","","",{"$f":"IFERROR(astm(cityfuf(BB19),3)-astm(cityfuf(BB18),3),\"\")","v":""},"","","","","","",{"$f":"IFERROR(astm(mdiuf(BK19),3)-astm(mdiuf(BK18),3),\"\")","v":""},"","",{"$f":"IFERROR(astm(cityfufalt(BK19),3)-astm(cityfufalt(BK18),3),\"\")","v":""},"","","",{"$f":"IF(AZ19=\"\",1, MIN(IFERROR((AZ19/1000)/((AW19*$J$22)*$J$21/3600),1),IFERROR((SUMIFS(AZ11:AZ45,AV11:AV45,\"<=\"&$AV19,AV11:AV45,\">=\"&$AV19-1)/1000)/(  $J$22*SUMIFS(AW11:AW45,AV11:AV45,\"<=\"&$AV19,AV11:AV45,\">=\"&$AV19-1)*$J$21/3600),1),IFERROR((SUMIFS(AZ11:AZ45,AV11:AV45,\"<=\"&$AV19,AV11:AV45,\">=\"&$AV19-2)/1000)/(  $J$22*SUMIFS(AW11:AW45,AV11:AV45,\"<=\"&$AV19,AV11:AV45,\">=\"&$AV19-2)*$J$21/3600),1),IFERROR((SUMIFS(AZ11:AZ45,AV11:AV45,\"<=\"&$AV19,AV11:AV45,\">=\"&$AV19-3)/1000)/(  $J$22*SUMIFS(AW11:AW45,AV11:AV45,\"<=\"&$AV19,AV11:AV45,\">=\"&$AV19-3)*$J$21/3600),1)) )","v":1},"",{"$f":"IF(AZ19=\"\",1, MIN($AZ19/SUM($AZ11:$AZ19),SUMIFS(AZ11:AZ45,AV11:AV45,\">=\"&$AV19-1,AV11:AV45,\"<=\"&$AV19)/SUM($AZ11:$AZ19),SUMIFS(AZ11:AZ45,AV11:AV45,\">=\"&$AV19-2,AV11:AV45,\"<=\"&$AV19)/SUM($AZ11:$AZ19),SUMIFS(AZ11:AZ45,AV11:AV45,\">=\"&$AV19-3,AV11:AV45,\"<=\"&$AV19)/SUM($AZ11:$AZ19)) )","v":1},null,9,"","","","","","","","",{"$f":"IFERROR(astm(highwayfuf(CC19)-highwayfuf(CC18),3),\"\")","v":""},"","","","","","",{"$f":"IFERROR(astm(mdiuf(CL19)-mdiuf(CL18),3),\"\")","v":""},"","",{"$f":"IFERROR(astm(highwayfufalt(CL19)-highwayfufalt(CL18),3),\"\")","v":""},"","","",{"$f":"IF(CA19=\"\",1, MIN(IFERROR((CA19/1000)/((BX19*$J$22)*$J$21/3600),1),IFERROR((SUMIFS(CA11:CA45,BW11:BW45,\"<=\"&$BW19,BW11:BW45,\">=\"&$BW19-1)/1000)/(  $J$22*SUMIFS(BX11:BX45,BW11:BW45,\"<=\"&$BW19,BW11:BW45,\">=\"&$BW19-1)*$J$21/3600),1),IFERROR((SUMIFS(CA11:CA45,BW11:BW45,\"<=\"&$BW19,BW11:BW45,\">=\"&$BW19-2)/1000)/(  $J$22*SUMIFS(BX11:BX45,BW11:BW45,\"<=\"&$BW19,BW11:BW45,\">=\"&$BW19-2)*$J$21/3600),1),IFERROR((SUMIFS(CA11:CA45,BW11:BW45,\"<=\"&$BW19,BW11:BW45,\">=\"&$BW19-3)/1000)/(  $J$22*SUMIFS(BX11:BX45,BW11:BW45,\"<=\"&$BW19,BW11:BW45,\">=\"&$BW19-3)*$J$21/3600),1)) )","v":1},"",{"$f":"IF(CA19=\"\",1, MIN($CA19/SUM($CA11:$CA19),SUMIFS(CA11:CA45,BW11:BW45,\">=\"&$BW19-1,BW11:BW45,\"<=\"&$BW19)/SUM($CA11:$CA19),SUMIFS(CA11:CA45,BW11:BW45,\">=\"&$BW19-2,BW11:BW45,\"<=\"&$BW19)/SUM($CA11:$CA19),SUMIFS(CA11:CA45,BW11:BW45,\">=\"&$BW19-3,BW11:BW45,\"<=\"&$BW19)/SUM($CA11:$CA19)) )","v":1}]
[null,null," All-Electric Range (Miles)",{"$f":"IF($N$7+$N$55+$N$103=0,SUM(IFERROR(AQ9,0),IFERROR(AQ57,0),IFERROR(AQ105,0)) / ((AQ9<>0)+(AQ57<>0)+(AQ105<>0)),($N$7*AQ9+$N$55*AQ57+$N$103*AQ105)/($N$7+$N$55+$N$103))","v":{"$error":"#DIV/0!"}},{"$f":"IF($N$7+$N$55+$N$103=0,SUM(IFERROR(AR9,0),IFERROR(AR57,0),IFERROR(AR105,0)) / ((AR9<>0)+(AR57<>0)+(AR105<>0)),($N$7*AR9+$N$55*AR57+$N$103*AR105)/($N$7+$N$55+$N$103))","v":{"$error":"#DIV/0!"}},{"$f":"astm(0.55*D20+0.45*E20,0)","v":{"$error":"#VALUE!"}},null,null,"Grams of CO2 per gallon of gasoline/diesel:",8887,null,null,null,null,null,null,10,null,null,null,null,null,null,null,10,null,null,null,null,null,null,null,null,null,"CD Gasoline Consumption (gal/100mi) [0]",null,null,{"$f":"IFERROR(astm(0.55*AQ20+0.45*AR20,1),0)","v":0},null,null,null,"CD gasoline consumption rate (Rcda), adjusted (gal/100mi) [4]",{"$f":"IFERROR(astm(100*(SUMIF(AV11:AV45,\"<=\" & AQ34-1,AW11:AW45)+AQ33*SUMIF(AV11:AV45,\"=\" & AQ34-1,AW11:AW45))/AQ7,4),0)","v":0},{"$f":"IFERROR(astm(100*(SUMIF(BW11:BW45,\"<=\" & AR34-1,BX11:BX45)+AR33*SUMIF(BW11:BW45,\"=\" & AR34-1,BX11:BX45))/AR7,4),0)","v":0},null,null,null,10,"","","","",{"$f":"IFERROR(astm(  astm($W$46,3)*1000*(AZ20/AQ13),1),\"\")","v":""},"","","",{"$f":"IFERROR(astm(cityfuf(BB20),3)-astm(cityfuf(BB19),3),\"\")","v":""},"","","","","","",{"$f":"IFERROR(astm(mdiuf(BK20),3)-astm(mdiuf(BK19),3),\"\")","v":""},"","",{"$f":"IFERROR(astm(cityfufalt(BK20),3)-astm(cityfufalt(BK19),3),\"\")","v":""},"","","",{"$f":"IF(AZ20=\"\",1, MIN(IFERROR((AZ20/1000)/((AW20*$J$22)*$J$21/3600),1),IFERROR((SUMIFS(AZ11:AZ45,AV11:AV45,\"<=\"&$AV20,AV11:AV45,\">=\"&$AV20-1)/1000)/(  $J$22*SUMIFS(AW11:AW45,AV11:AV45,\"<=\"&$AV20,AV11:AV45,\">=\"&$AV20-1)*$J$21/3600),1),IFERROR((SUMIFS(AZ11:AZ45,AV11:AV45,\"<=\"&$AV20,AV11:AV45,\">=\"&$AV20-2)/1000)/(  $J$22*SUMIFS(AW11:AW45,AV11:AV45,\"<=\"&$AV20,AV11:AV45,\">=\"&$AV20-2)*$J$21/3600),1),IFERROR((SUMIFS(AZ11:AZ45,AV11:AV45,\"<=\"&$AV20,AV11:AV45,\">=\"&$AV20-3)/1000)/(  $J$22*SUMIFS(AW11:AW45,AV11:AV45,\"<=\"&$AV20,AV11:AV45,\">=\"&$AV20-3)*$J$21/3600),1)) )","v":1},"",{"$f":"IF(AZ20=\"\",1, MIN($AZ20/SUM($AZ11:$AZ20),SUMIFS(AZ11:AZ45,AV11:AV45,\">=\"&$AV20-1,AV11:AV45,\"<=\"&$AV20)/SUM($AZ11:$AZ20),SUMIFS(AZ11:AZ45,AV11:AV45,\">=\"&$AV20-2,AV11:AV45,\"<=\"&$AV20)/SUM($AZ11:$AZ20),SUMIFS(AZ11:AZ45,AV11:AV45,\">=\"&$AV20-3,AV11:AV45,\"<=\"&$AV20)/SUM($AZ11:$AZ20)) )","v":1},null,10,"","","","","","","","",{"$f":"IFERROR(astm(highwayfuf(CC20)-highwayfuf(CC19),3),\"\")","v":""},"","","","","","",{"$f":"IFERROR(astm(mdiuf(CL20)-mdiuf(CL19),3),\"\")","v":""},"","",{"$f":"IFERROR(astm(highwayfufalt(CL20)-highwayfufalt(CL19),3),\"\")","v":""},"","","",{"$f":"IF(CA20=\"\",1, MIN(IFERROR((CA20/1000)/((BX20*$J$22)*$J$21/3600),1),IFERROR((SUMIFS(CA11:CA45,BW11:BW45,\"<=\"&$BW20,BW11:BW45,\">=\"&$BW20-1)/1000)/(  $J$22*SUMIFS(BX11:BX45,BW11:BW45,\"<=\"&$BW20,BW11:BW45,\">=\"&$BW20-1)*$J$21/3600),1),IFERROR((SUMIFS(CA11:CA45,BW11:BW45,\"<=\"&$BW20,BW11:BW45,\">=\"&$BW20-2)/1000)/(  $J$22*SUMIFS(BX11:BX45,BW11:BW45,\"<=\"&$BW20,BW11:BW45,\">=\"&$BW20-2)*$J$21/3600),1),IFERROR((SUMIFS(CA11:CA45,BW11:BW45,\"<=\"&$BW20,BW11:BW45,\">=\"&$BW20-3)/1000)/(  $J$22*SUMIFS(BX11:BX45,BW11:BW45,\"<=\"&$BW20,BW11:BW45,\">=\"&$BW20-3)*$J$21/3600),1)) )","v":1},"",{"$f":"IF(CA20=\"\",1, MIN($CA20/SUM($CA11:$CA20),SUMIFS(CA11:CA45,BW11:BW45,\">=\"&$BW20-1,BW11:BW45,\"<=\"&$BW20)/SUM($CA11:$CA20),SUMIFS(CA11:CA45,BW11:BW45,\">=\"&$BW20-2,BW11:BW45,\"<=\"&$BW20)/SUM($CA11:$CA20),SUMIFS(CA11:CA45,BW11:BW45,\">=\"&$BW20-3,BW11:BW45,\"<=\"&$BW20)/SUM($CA11:$CA20)) )","v":1}]
[null,null,"Total Driving Range (Miles)",null,null,{"$f":"astm(   ( IF($N$7+$N$55+$N$103=0,SUM(IFERROR(( IFERROR((astm(0.55*AQ38+0.45*AR38,0)+AL15),0)),0),IFERROR((IFERROR((astm(0.55*AQ86+0.45*AR86,0)+AL63),0)),0),IFERROR(( IFERROR((astm(0.55*AQ134+0.45*AR134,0)+AL111),0)),0)) / ((( IFERROR((astm(0.55*AQ38+0.45*AR38,0)+AL15),0))<>0)+((IFERROR((astm(0.55*AQ86+0.45*AR86,0)+AL63),0))<>0)+(( IFERROR((astm(0.55*AQ134+0.45*AR134,0)+AL111),0))<>0)),($N$7*( IFERROR((astm(0.55*AQ38+0.45*AR38,0)+AL15),0))+$N$55*(IFERROR((astm(0.55*AQ86+0.45*AR86,0)+AL63),0))+$N$103*( IFERROR((astm(0.55*AQ134+0.45*AR134,0)+AL111),0)))/($N$7+$N$55+$N$103)) ) / 10,0 ) * 10","v":{"$error":"#VALUE!"}},null,null,"Fuel lower heating value (kJ/kg):",43020,null,null,null,null,null,null,11,null,null,null,null,null,null,null,11,null,null,null,null,null,null,null,null,null,"Charge-Sustaining",null,null,"Combined",null,null,"NEW","CD fuel economy (Rcda), unadjusted (MPGe) [4]",{"$f":"astm(IFERROR(AQ6/ ( SUMIF(AV11:AV45,\"<=\" & (AQ34-1),BH11:BH45) + AQ33*SUMIF(AV11:AV45,\"=\" & (AQ34-1),BH11:BH45) ),0),4)","v":0},{"$f":"astm(IFERROR(AR6/ ( SUMIF(BW11:BW45,\"<=\" & (AR34-1),CI11:CI45) + AR33*SUMIF(BW11:BW45,\"=\" & (AR34-1),CI11:CI45) ),0),4)","v":0},null,null,null,11,"","","","",{"$f":"IFERROR(astm(  astm($W$46,3)*1000*(AZ21/AQ13),1),\"\")","v":""},"","","",{"$f":"IFERROR(astm(cityfuf(BB21),3)-astm(cityfuf(BB20),3),\"\")","v":""},"","","","","","",{"$f":"IFERROR(astm(mdiuf(BK21),3)-astm(mdiuf(BK20),3),\"\")","v":""},"","",{"$f":"IFERROR(astm(cityfufalt(BK21),3)-astm(cityfufalt(BK20),3),\"\")","v":""},"","","",{"$f":"IF(AZ21=\"\",1, MIN(IFERROR((AZ21/1000)/((AW21*$J$22)*$J$21/3600),1),IFERROR((SUMIFS(AZ11:AZ45,AV11:AV45,\"<=\"&$AV21,AV11:AV45,\">=\"&$AV21-1)/1000)/(  $J$22*SUMIFS(AW11:AW45,AV11:AV45,\"<=\"&$AV21,AV11:AV45,\">=\"&$AV21-1)*$J$21/3600),1),IFERROR((SUMIFS(AZ11:AZ45,AV11:AV45,\"<=\"&$AV21,AV11:AV45,\">=\"&$AV21-2)/1000)/(  $J$22*SUMIFS(AW11:AW45,AV11:AV45,\"<=\"&$AV21,AV11:AV45,\">=\"&$AV21-2)*$J$21/3600),1),IFERROR((SUMIFS(AZ11:AZ45,AV11:AV45,\"<=\"&$AV21,AV11:AV45,\">=\"&$AV21-3)/1000)/(  $J$22*SUMIFS(AW11:AW45,AV11:AV45,\"<=\"&$AV21,AV11:AV45,\">=\"&$AV21-3)*$J$21/3600),1)) )","v":1},"",{"$f":"IF(AZ21=\"\",1, MIN($AZ21/SUM($AZ11:$AZ21),SUMIFS(AZ11:AZ45,AV11:AV45,\">=\"&$AV21-1,AV11:AV45,\"<=\"&$AV21)/SUM($AZ11:$AZ21),SUMIFS(AZ11:AZ45,AV11:AV45,\">=\"&$AV21-2,AV11:AV45,\"<=\"&$AV21)/SUM($AZ11:$AZ21),SUMIFS(AZ11:AZ45,AV11:AV45,\">=\"&$AV21-3,AV11:AV45,\"<=\"&$AV21)/SUM($AZ11:$AZ21)) )","v":1},null,11,"","","","","","","","",{"$f":"IFERROR(astm(highwayfuf(CC21)-highwayfuf(CC20),3),\"\")","v":""},"","","","","","",{"$f":"IFERROR(astm(mdiuf(CL21)-mdiuf(CL20),3),\"\")","v":""},"","",{"$f":"IFERROR(astm(highwayfufalt(CL21)-highwayfufalt(CL20),3),\"\")","v":""},"","","",{"$f":"IF(CA21=\"\",1, MIN(IFERROR((CA21/1000)/((BX21*$J$22)*$J$21/3600),1),IFERROR((SUMIFS(CA11:CA45,BW11:BW45,\"<=\"&$BW21,BW11:BW45,\">=\"&$BW21-1)/1000)/(  $J$22*SUMIFS(BX11:BX45,BW11:BW45,\"<=\"&$BW21,BW11:BW45,\">=\"&$BW21-1)*$J$21/3600),1),IFERROR((SUMIFS(CA11:CA45,BW11:BW45,\"<=\"&$BW21,BW11:BW45,\">=\"&$BW21-2)/1000)/(  $J$22*SUMIFS(BX11:BX45,BW11:BW45,\"<=\"&$BW21,BW11:BW45,\">=\"&$BW21-2)*$J$21/3600),1),IFERROR((SUMIFS(CA11:CA45,BW11:BW45,\"<=\"&$BW21,BW11:BW45,\">=\"&$BW21-3)/1000)/(  $J$22*SUMIFS(BX11:BX45,BW11:BW45,\"<=\"&$BW21,BW11:BW45,\">=\"&$BW21-3)*$J$21/3600),1)) )","v":1},"",{"$f":"IF(CA21=\"\",1, MIN($CA21/SUM($CA11:$CA21),SUMIFS(CA11:CA45,BW11:BW45,\">=\"&$BW21-1,BW11:BW45,\"<=\"&$BW21)/SUM($CA11:$CA21),SUMIFS(CA11:CA45,BW11:BW45,\">=\"&$BW21-2,BW11:BW45,\"<=\"&$BW21)/SUM($CA11:$CA21),SUMIFS(CA11:CA45,BW11:BW45,\">=\"&$BW21-3,BW11:BW45,\"<=\"&$BW21)/SUM($CA11:$CA21)) )","v":1}]
[null,null,"CD Fuel Economy (MPGe)",{"$f":"astm(IF($N$7+$N$55+$N$103=0,    ((AQ19<>0)+(AQ67<>0)+(AQ115<>0))/(IFERROR(1/AQ19,0)+IFERROR(1/AQ67,0)+IFERROR(1/AQ115,0)),    ($N$7+$N$55+$N$103) / (IFERROR($N$7/AQ19,0)+IFERROR($N$55/AQ67,0)+IFERROR($N$103/AQ115,0))  ),4)","v":{"$error":"#VALUE!"}},{"$f":"astm(IF($N$7+$N$55+$N$103=0,    ((AR19<>0)+(AR67<>0)+(AR115<>0))/(IFERROR(1/AR19,0)+IFERROR(1/AR67,0)+IFERROR(1/AR115,0)),    ($N$7+$N$55+$N$103) / (IFERROR($N$7/AR19,0)+IFERROR($N$55/AR67,0)+IFERROR($N$103/AR115,0))  ),4)","v":{"$error":"#VALUE!"}},{"$f":" astm(1/(0.55/D22+0.45/E22),0)","v":{"$error":"#VALUE!"}},null,null,"Fuel density (kg/gal):",2.8050000000000002,null,null,null,null,null,null,12,null,null,null,null,null,null,null,12,null,null,null,null,null,null,null,null,null,"CS Fuel Economy (MPG) [0]",{"$f":"IFERROR(astm(N12,4),0)","v":0},{"$f":"IFERROR(astm(O12,4),0)","v":0},{"$f":" IFERROR(astm(1/(0.55/AJ22+0.45/AK22),0),0)","v":0},null,null,"NEW","CD AC electricity consumption rate (Rcda), unadjusted  (kW-hr/100mi) [3]",{"$f":"astm(IFERROR((IFERROR( ( SUMIF(AV11:AV45,\"<=\" & (AQ34-1),BA11:BA45) + AQ33*SUMIF(AV11:AV45,\"=\" & (AQ34-1),BA11:BA45) ) / AQ6 *100 / 1000, 0)),0),3)","v":0},{"$f":"astm(IFERROR((IFERROR( ( SUMIF(BW11:BW45,\"<=\" & (AR34-1),CB11:CB45) + AR33*SUMIF(BW11:BW45,\"=\" & (AR34-1),CB11:CB45) ) / AR6 *100 / 1000, 0)),0),3)","v":0},null,null,null,12,"","","","",{"$f":"IFERROR(astm(  astm($W$46,3)*1000*(AZ22/AQ13),1),\"\")","v":""},"","","",{"$f":"IFERROR(astm(cityfuf(BB22),3)-astm(cityfuf(BB21),3),\"\")","v":""},"","","","","","",{"$f":"IFERROR(astm(mdiuf(BK22),3)-astm(mdiuf(BK21),3),\"\")","v":""},"","",{"$f":"IFERROR(astm(cityfufalt(BK22),3)-astm(cityfufalt(BK21),3),\"\")","v":""},"","","",{"$f":"IF(AZ22=\"\",1, MIN(IFERROR((AZ22/1000)/((AW22*$J$22)*$J$21/3600),1),IFERROR((SUMIFS(AZ11:AZ45,AV11:AV45,\"<=\"&$AV22,AV11:AV45,\">=\"&$AV22-1)/1000)/(  $J$22*SUMIFS(AW11:AW45,AV11:AV45,\"<=\"&$AV22,AV11:AV45,\">=\"&$AV22-1)*$J$21/3600),1),IFERROR((SUMIFS(AZ11:AZ45,AV11:AV45,\"<=\"&$AV22,AV11:AV45,\">=\"&$AV22-2)/1000)/(  $J$22*SUMIFS(AW11:AW45,AV11:AV45,\"<=\"&$AV22,AV11:AV45,\">=\"&$AV22-2)*$J$21/3600),1),IFERROR((SUMIFS(AZ11:AZ45,AV11:AV45,\"<=\"&$AV22,AV11:AV45,\">=\"&$AV22-3)/1000)/(  $J$22*SUMIFS(AW11:AW45,AV11:AV45,\"<=\"&$AV22,AV11:AV45,\">=\"&$AV22-3)*$J$21/3600),1)) )","v":1},"",{"$f":"IF(AZ22=\"\",1, MIN($AZ22/SUM($AZ11:$AZ22),SUMIFS(AZ11:AZ45,AV11:AV45,\">=\"&$AV22-1,AV11:AV45,\"<=\"&$AV22)/SUM($AZ11:$AZ22),SUMIFS(AZ11:AZ45,AV11:AV45,\">=\"&$AV22-2,AV11:AV45,\"<=\"&$AV22)/SUM($AZ11:$AZ22),SUMIFS(AZ11:AZ45,AV11:AV45,\">=\"&$AV22-3,AV11:AV45,\"<=\"&$AV22)/SUM($AZ11:$AZ22)) )","v":1},null,12,"","","","","","","","",{"$f":"IFERROR(astm(highwayfuf(CC22)-highwayfuf(CC21),3),\"\")","v":""},"","","","","","",{"$f":"IFERROR(astm(mdiuf(CL22)-mdiuf(CL21),3),\"\")","v":""},"","",{"$f":"IFERROR(astm(highwayfufalt(CL22)-highwayfufalt(CL21),3),\"\")","v":""},"","","",{"$f":"IF(CA22=\"\",1, MIN(IFERROR((CA22/1000)/((BX22*$J$22)*$J$21/3600),1),IFERROR((SUMIFS(CA11:CA45,BW11:BW45,\"<=\"&$BW22,BW11:BW45,\">=\"&$BW22-1)/1000)/(  $J$22*SUMIFS(BX11:BX45,BW11:BW45,\"<=\"&$BW22,BW11:BW45,\">=\"&$BW22-1)*$J$21/3600),1),IFERROR((SUMIFS(CA11:CA45,BW11:BW45,\"<=\"&$BW22,BW11:BW45,\">=\"&$BW22-2)/1000)/(  $J$22*SUMIFS(BX11:BX45,BW11:BW45,\"<=\"&$BW22,BW11:BW45,\">=\"&$BW22-2)*$J$21/3600),1),IFERROR((SUMIFS(CA11:CA45,BW11:BW45,\"<=\"&$BW22,BW11:BW45,\">=\"&$BW22-3)/1000)/(  $J$22*SUMIFS(BX11:BX45,BW11:BW45,\"<=\"&$BW22,BW11:BW45,\">=\"&$BW22-3)*$J$21/3600),1)) )","v":1},"",{"$f":"IF(CA22=\"\",1, MIN($CA22/SUM($CA11:$CA22),SUMIFS(CA11:CA45,BW11:BW45,\">=\"&$BW22-1,BW11:BW45,\"<=\"&$BW22)/SUM($CA11:$CA22),SUMIFS(CA11:CA45,BW11:BW45,\">=\"&$BW22-2,BW11:BW45,\"<=\"&$BW22)/SUM($CA11:$CA22),SUMIFS(CA11:CA45,BW11:BW45,\">=\"&$BW22-3,BW11:BW45,\"<=\"&$BW22)/SUM($CA11:$CA22)) )","v":1}]
[null,null,"CD Electricity Consumption  (kW-hr/100mi)",{"$f":"astm( IF($N$7+$N$55+$N$103=0,SUM(IFERROR(AQ12,0),IFERROR(AQ60,0),IFERROR(AQ108,0)) / ((AQ12<>0)+(AQ60<>0)+(AQ108<>0)),($N$7*AQ12+$N$55*AQ60+$N$103*AQ108)/($N$7+$N$55+$N$103)),4)","v":{"$error":"#VALUE!"}},{"$f":"astm( IF($N$7+$N$55+$N$103=0,SUM(IFERROR(AR12,0),IFERROR(AR60,0),IFERROR(AR108,0)) / ((AR12<>0)+(AR60<>0)+(AR108<>0)),($N$7*AR12+$N$55*AR60+$N$103*AR108)/($N$7+$N$55+$N$103)),4)","v":{"$error":"#VALUE!"}},{"$f":"astm(0.55*D23+0.45*E23,4)","v":{"$error":"#VALUE!"}},null,null,null,null,null,null,null,null,null,null,13,null,null,null,null,null,null,null,13,null,null,null,null,null,null,null,null,null,"CS Fuel Consumption (gal/100mi) [1]",{"$f":"IFERROR(astm(100/AJ22,1),0)","v":0},{"$f":"IFERROR(astm(100/AK22,1),0)","v":0},{"$f":"IFERROR(astm(100/AL22,1),0)","v":0},null,null,null,"GHG EMISSIONS VALUES","CITY","HIGHWAY",null,null,null,13,"","","","",{"$f":"IFERROR(astm(  astm($W$46,3)*1000*(AZ23/AQ13),1),\"\")","v":""},"","","",{"$f":"IFERROR(astm(cityfuf(BB23),3)-astm(cityfuf(BB22),3),\"\")","v":""},"","","","","","",{"$f":"IFERROR(astm(mdiuf(BK23),3)-astm(mdiuf(BK22),3),\"\")","v":""},"","",{"$f":"IFERROR(astm(cityfufalt(BK23),3)-astm(cityfufalt(BK22),3),\"\")","v":""},"","","",{"$f":"IF(AZ23=\"\",1, MIN(IFERROR((AZ23/1000)/((AW23*$J$22)*$J$21/3600),1),IFERROR((SUMIFS(AZ11:AZ45,AV11:AV45,\"<=\"&$AV23,AV11:AV45,\">=\"&$AV23-1)/1000)/(  $J$22*SUMIFS(AW11:AW45,AV11:AV45,\"<=\"&$AV23,AV11:AV45,\">=\"&$AV23-1)*$J$21/3600),1),IFERROR((SUMIFS(AZ11:AZ45,AV11:AV45,\"<=\"&$AV23,AV11:AV45,\">=\"&$AV23-2)/1000)/(  $J$22*SUMIFS(AW11:AW45,AV11:AV45,\"<=\"&$AV23,AV11:AV45,\">=\"&$AV23-2)*$J$21/3600),1),IFERROR((SUMIFS(AZ11:AZ45,AV11:AV45,\"<=\"&$AV23,AV11:AV45,\">=\"&$AV23-3)/1000)/(  $J$22*SUMIFS(AW11:AW45,AV11:AV45,\"<=\"&$AV23,AV11:AV45,\">=\"&$AV23-3)*$J$21/3600),1)) )","v":1},"",{"$f":"IF(AZ23=\"\",1, MIN($AZ23/SUM($AZ11:$AZ23),SUMIFS(AZ11:AZ45,AV11:AV45,\">=\"&$AV23-1,AV11:AV45,\"<=\"&$AV23)/SUM($AZ11:$AZ23),SUMIFS(AZ11:AZ45,AV11:AV45,\">=\"&$AV23-2,AV11:AV45,\"<=\"&$AV23)/SUM($AZ11:$AZ23),SUMIFS(AZ11:AZ45,AV11:AV45,\">=\"&$AV23-3,AV11:AV45,\"<=\"&$AV23)/SUM($AZ11:$AZ23)) )","v":1},null,13,"","","","","","","","",{"$f":"IFERROR(astm(highwayfuf(CC23)-highwayfuf(CC22),3),\"\")","v":""},"","","","","","",{"$f":"IFERROR(astm(mdiuf(CL23)-mdiuf(CL22),3),\"\")","v":""},"","",{"$f":"IFERROR(astm(highwayfufalt(CL23)-highwayfufalt(CL22),3),\"\")","v":""},"","","",{"$f":"IF(CA23=\"\",1, MIN(IFERROR((CA23/1000)/((BX23*$J$22)*$J$21/3600),1),IFERROR((SUMIFS(CA11:CA45,BW11:BW45,\"<=\"&$BW23,BW11:BW45,\">=\"&$BW23-1)/1000)/(  $J$22*SUMIFS(BX11:BX45,BW11:BW45,\"<=\"&$BW23,BW11:BW45,\">=\"&$BW23-1)*$J$21/3600),1),IFERROR((SUMIFS(CA11:CA45,BW11:BW45,\"<=\"&$BW23,BW11:BW45,\">=\"&$BW23-2)/1000)/(  $J$22*SUMIFS(BX11:BX45,BW11:BW45,\"<=\"&$BW23,BW11:BW45,\">=\"&$BW23-2)*$J$21/3600),1),IFERROR((SUMIFS(CA11:CA45,BW11:BW45,\"<=\"&$BW23,BW11:BW45,\">=\"&$BW23-3)/1000)/(  $J$22*SUMIFS(BX11:BX45,BW11:BW45,\"<=\"&$BW23,BW11:BW45,\">=\"&$BW23-3)*$J$21/3600),1)) )","v":1},"",{"$f":"IF(CA23=\"\",1, MIN($CA23/SUM($CA11:$CA23),SUMIFS(CA11:CA45,BW11:BW45,\">=\"&$BW23-1,BW11:BW45,\"<=\"&$BW23)/SUM($CA11:$CA23),SUMIFS(CA11:CA45,BW11:BW45,\">=\"&$BW23-2,BW11:BW45,\"<=\"&$BW23)/SUM($CA11:$CA23),SUMIFS(CA11:CA45,BW11:BW45,\">=\"&$BW23-3,BW11:BW45,\"<=\"&$BW23)/SUM($CA11:$CA23)) )","v":1}]
[null,null,"CD Gasoline Consumption (gal/100mi)",{"$f":"IF($N$7+$N$55+$N$103=0,SUM(IFERROR(AQ20,0),IFERROR(AQ68,0),IFERROR(AQ116,0)) / ((AQ7<>0)+(AQ55<>0)+(AQ103<>0)),      ($N$7*AQ20+$N$55*AQ68+$N$103*AQ116)/($N$7+$N$55+$N$103))","v":{"$error":"#DIV/0!"}},{"$f":"IF($N$7+$N$55+$N$103=0,SUM(IFERROR(AR20,0),IFERROR(AR68,0),IFERROR(AR116,0)) / ((AR7<>0)+(AR55<>0)+(AR103<>0)),      ($N$7*AR20+$N$55*AR68+$N$103*AR116)/($N$7+$N$55+$N$103))","v":{"$error":"#DIV/0!"}},{"$f":"astm(0.55*D24+0.45*E24,1)","v":{"$error":"#VALUE!"}},null,null,"ERROR AND VALIDATION MESSAGES",null,null,null,null,null,null,null,14,null,null,null,null,null,null,null,14,null,null,null,null,null,null,null,null,null,"Composite CD/CS",null,null,"Combined",null,null,null,"CD CO2 emissions rate (Rcda), unadjusted (g/mi) [1]",{"$f":"IFERROR(astm((SUMIF(AV11:AV45,\"<=\" & AQ34-1,AX11:AX45)+AQ33*SUMIF(AV11:AV45,\"=\" & AQ34-1,AX11:AX45))/AQ6,1),0)","v":0},{"$f":"IFERROR(astm((SUMIF(BW11:BW45,\"<=\" & AR34-1,BY11:BY45)+AR33*SUMIF(BW11:BW45,\"=\" & AR34-1,BY11:BY45))/AR6,1),0)","v":0},null,null,null,14,"","","","",{"$f":"IFERROR(astm(  astm($W$46,3)*1000*(AZ24/AQ13),1),\"\")","v":""},"","","",{"$f":"IFERROR(astm(cityfuf(BB24),3)-astm(cityfuf(BB23),3),\"\")","v":""},"","","","","","",{"$f":"IFERROR(astm(mdiuf(BK24),3)-astm(mdiuf(BK23),3),\"\")","v":""},"","",{"$f":"IFERROR(astm(cityfufalt(BK24),3)-astm(cityfufalt(BK23),3),\"\")","v":""},"","","",{"$f":"IF(AZ24=\"\",1, MIN(IFERROR((AZ24/1000)/((AW24*$J$22)*$J$21/3600),1),IFERROR((SUMIFS(AZ11:AZ45,AV11:AV45,\"<=\"&$AV24,AV11:AV45,\">=\"&$AV24-1)/1000)/(  $J$22*SUMIFS(AW11:AW45,AV11:AV45,\"<=\"&$AV24,AV11:AV45,\">=\"&$AV24-1)*$J$21/3600),1),IFERROR((SUMIFS(AZ11:AZ45,AV11:AV45,\"<=\"&$AV24,AV11:AV45,\">=\"&$AV24-2)/1000)/(  $J$22*SUMIFS(AW11:AW45,AV11:AV45,\"<=\"&$AV24,AV11:AV45,\">=\"&$AV24-2)*$J$21/3600),1),IFERROR((SUMIFS(AZ11:AZ45,AV11:AV45,\"<=\"&$AV24,AV11:AV45,\">=\"&$AV24-3)/1000)/(  $J$22*SUMIFS(AW11:AW45,AV11:AV45,\"<=\"&$AV24,AV11:AV45,\">=\"&$AV24-3)*$J$21/3600),1)) )","v":1},"",{"$f":"IF(AZ24=\"\",1, MIN($AZ24/SUM($AZ11:$AZ24),SUMIFS(AZ11:AZ45,AV11:AV45,\">=\"&$AV24-1,AV11:AV45,\"<=\"&$AV24)/SUM($AZ11:$AZ24),SUMIFS(AZ11:AZ45,AV11:AV45,\">=\"&$AV24-2,AV11:AV45,\"<=\"&$AV24)/SUM($AZ11:$AZ24),SUMIFS(AZ11:AZ45,AV11:AV45,\">=\"&$AV24-3,AV11:AV45,\"<=\"&$AV24)/SUM($AZ11:$AZ24)) )","v":1},null,14,"","","","","","","","",{"$f":"IFERROR(astm(highwayfuf(CC24)-highwayfuf(CC23),3),\"\")","v":""},"","","","","","",{"$f":"IFERROR(astm(mdiuf(CL24)-mdiuf(CL23),3),\"\")","v":""},"","",{"$f":"IFERROR(astm(highwayfufalt(CL24)-highwayfufalt(CL23),3),\"\")","v":""},"","","",{"$f":"IF(CA24=\"\",1, MIN(IFERROR((CA24/1000)/((BX24*$J$22)*$J$21/3600),1),IFERROR((SUMIFS(CA11:CA45,BW11:BW45,\"<=\"&$BW24,BW11:BW45,\">=\"&$BW24-1)/1000)/(  $J$22*SUMIFS(BX11:BX45,BW11:BW45,\"<=\"&$BW24,BW11:BW45,\">=\"&$BW24-1)*$J$21/3600),1),IFERROR((SUMIFS(CA11:CA45,BW11:BW45,\"<=\"&$BW24,BW11:BW45,\">=\"&$BW24-2)/1000)/(  $J$22*SUMIFS(BX11:BX45,BW11:BW45,\"<=\"&$BW24,BW11:BW45,\">=\"&$BW24-2)*$J$21/3600),1),IFERROR((SUMIFS(CA11:CA45,BW11:BW45,\"<=\"&$BW24,BW11:BW45,\">=\"&$BW24-3)/1000)/(  $J$22*SUMIFS(BX11:BX45,BW11:BW45,\"<=\"&$BW24,BW11:BW45,\">=\"&$BW24-3)*$J$21/3600),1)) )","v":1},"",{"$f":"IF(CA24=\"\",1, MIN($CA24/SUM($CA11:$CA24),SUMIFS(CA11:CA45,BW11:BW45,\">=\"&$BW24-1,BW11:BW45,\"<=\"&$BW24)/SUM($CA11:$CA24),SUMIFS(CA11:CA45,BW11:BW45,\">=\"&$BW24-2,BW11:BW45,\"<=\"&$BW24)/SUM($CA11:$CA24),SUMIFS(CA11:CA45,BW11:BW45,\">=\"&$BW24-3,BW11:BW45,\"<=\"&$BW24)/SUM($CA11:$CA24)) )","v":1}]
[null,null,"Charge-Sustaining","City","Highway","Combined",null,null,{"$f":"IF(J18=73844,\"You chose a Petroleum Equivalence Factor that is not common. Make sure this is correct.\", \"\")","v":""},null,null,null,null,null,null,null,15,null,null,null,null,null,null,null,15,null,null,null,null,null,null,null,null,null,"Annual Fuel Cost ($/year) [0]",null,null,{"$f":"astm(    IFERROR(15000*astm(0.55*AQ46+0.45*AR46,3),0)/50,0) * 50","v":0},null,null,"NEW","CD CO2 emissions rate (Rcda), adjusted (g/mi) [1]",{"$f":"IFERROR(astm( IFERROR((SUMIF(AV11:AV45,\"<=\" & AQ34-1,AX11:AX45)+AQ33*SUMIF(AV11:AV45,\"=\" & AQ34-1,AX11:AX45))/AQ7,#VALUE!), 1),0)","v":0},{"$f":"IFERROR(astm( IFERROR((SUMIF(BW11:BW45,\"<=\" & AR34-1,BY11:BY45)+AR33*SUMIF(BW11:BW45,\"=\" & AR34-1,BY11:BY45))/AR7,#VALUE!), 1),0)","v":0},null,null,null,15,"","","","",{"$f":"IFERROR(astm(  astm($W$46,3)*1000*(AZ25/AQ13),1),\"\")","v":""},"","","",{"$f":"IFERROR(astm(cityfuf(BB25),3)-astm(cityfuf(BB24),3),\"\")","v":""},"","","","","","",{"$f":"IFERROR(astm(mdiuf(BK25),3)-astm(mdiuf(BK24),3),\"\")","v":""},"","",{"$f":"IFERROR(astm(cityfufalt(BK25),3)-astm(cityfufalt(BK24),3),\"\")","v":""},"","","",{"$f":"IF(AZ25=\"\",1, MIN(IFERROR((AZ25/1000)/((AW25*$J$22)*$J$21/3600),1),IFERROR((SUMIFS(AZ11:AZ45,AV11:AV45,\"<=\"&$AV25,AV11:AV45,\">=\"&$AV25-1)/1000)/(  $J$22*SUMIFS(AW11:AW45,AV11:AV45,\"<=\"&$AV25,AV11:AV45,\">=\"&$AV25-1)*$J$21/3600),1),IFERROR((SUMIFS(AZ11:AZ45,AV11:AV45,\"<=\"&$AV25,AV11:AV45,\">=\"&$AV25-2)/1000)/(  $J$22*SUMIFS(AW11:AW45,AV11:AV45,\"<=\"&$AV25,AV11:AV45,\">=\"&$AV25-2)*$J$21/3600),1),IFERROR((SUMIFS(AZ11:AZ45,AV11:AV45,\"<=\"&$AV25,AV11:AV45,\">=\"&$AV25-3)/1000)/(  $J$22*SUMIFS(AW11:AW45,AV11:AV45,\"<=\"&$AV25,AV11:AV45,\">=\"&$AV25-3)*$J$21/3600),1)) )","v":1},"",{"$f":"IF(AZ25=\"\",1, MIN($AZ25/SUM($AZ11:$AZ25),SUMIFS(AZ11:AZ45,AV11:AV45,\">=\"&$AV25-1,AV11:AV45,\"<=\"&$AV25)/SUM($AZ11:$AZ25),SUMIFS(AZ11:AZ45,AV11:AV45,\">=\"&$AV25-2,AV11:AV45,\"<=\"&$AV25)/SUM($AZ11:$AZ25),SUMIFS(AZ11:AZ45,AV11:AV45,\">=\"&$AV25-3,AV11:AV45,\"<=\"&$AV25)/SUM($AZ11:$AZ25)) )","v":1},null,15,"","","","","","","","",{"$f":"IFERROR(astm(highwayfuf(CC25)-highwayfuf(CC24),3),\"\")","v":""},"","","","","","",{"$f":"IFERROR(astm(mdiuf(CL25)-mdiuf(CL24),3),\"\")","v":""},"","",{"$f":"IFERROR(astm(highwayfufalt(CL25)-highwayfufalt(CL24),3),\"\")","v":""},"","","",{"$f":"IF(CA25=\"\",1, MIN(IFERROR((CA25/1000)/((BX25*$J$22)*$J$21/3600),1),IFERROR((SUMIFS(CA11:CA45,BW11:BW45,\"<=\"&$BW25,BW11:BW45,\">=\"&$BW25-1)/1000)/(  $J$22*SUMIFS(BX11:BX45,BW11:BW45,\"<=\"&$BW25,BW11:BW45,\">=\"&$BW25-1)*$J$21/3600),1),IFERROR((SUMIFS(CA11:CA45,BW11:BW45,\"<=\"&$BW25,BW11:BW45,\">=\"&$BW25-2)/1000)/(  $J$22*SUMIFS(BX11:BX45,BW11:BW45,\"<=\"&$BW25,BW11:BW45,\">=\"&$BW25-2)*$J$21/3600),1),IFERROR((SUMIFS(CA11:CA45,BW11:BW45,\"<=\"&$BW25,BW11:BW45,\">=\"&$BW25-3)/1000)/(  $J$22*SUMIFS(BX11:BX45,BW11:BW45,\"<=\"&$BW25,BW11:BW45,\">=\"&$BW25-3)*$J$21/3600),1)) )","v":1},"",{"$f":"IF(CA25=\"\",1, MIN($CA25/SUM($CA11:$CA25),SUMIFS(CA11:CA45,BW11:BW45,\">=\"&$BW25-1,BW11:BW45,\"<=\"&$BW25)/SUM($CA11:$CA25),SUMIFS(CA11:CA45,BW11:BW45,\">=\"&$BW25-2,BW11:BW45,\"<=\"&$BW25)/SUM($CA11:$CA25),SUMIFS(CA11:CA45,BW11:BW45,\">=\"&$BW25-3,BW11:BW45,\"<=\"&$BW25)/SUM($CA11:$CA25)) )","v":1}]
[null,null,"CS Fuel Economy (MPG)",{"$f":"IF($N$7+$N$55+$N$103=0,    ((AJ22<>0)+(AJ70<>0)+(AJ118<>0))/(IFERROR(1/AJ22,0)+IFERROR(1/AJ70,0)+IFERROR(1/AJ118,0)),    ($N$7+$N$55+$N$103) / (IFERROR($N$7/AJ22,0)+IFERROR($N$55/AJ70,0)+IFERROR($N$103/AJ118,0))  )","v":{"$error":"#DIV/0!"}},{"$f":"IF($N$7+$N$55+$N$103=0,    ((AK22<>0)+(AK70<>0)+(AK118<>0))/(IFERROR(1/AK22,0)+IFERROR(1/AK70,0)+IFERROR(1/AK118,0)),    ($N$7+$N$55+$N$103) / (IFERROR($N$7/AK22,0)+IFERROR($N$55/AK70,0)+IFERROR($N$103/AK118,0))  )","v":{"$error":"#DIV/0!"}},{"$f":" astm(1/(0.55/D26+0.45/E26),0)","v":{"$error":"#VALUE!"}},null,null,{"$f":"IF(J19<>33705,\"You are using a non-standard value for energy per gallon. This is allowed, but you must explain why.\", \"\")","v":""},null,null,null,null,null,null,null,16,null,null,null,null,null,null,null,16,null,null,null,null,null,null,null,null,null,"5-Year Fuel Savings Value ($/5 years) [0]",null,null,{"$f":"$F$38-5*AL25","v":{"$error":"#N/A"}},null,null,"NEW","CD utilitized CO2 (MDIUF, Rcdc), adjusted (g/mi) [1]",{"$f":"astm(SUMIF(AV11:AV45,\"<=\" & (AQ34),BM11:BM45),1)","v":0},{"$f":"astm(SUMIF(BW11:BW45,\"<=\" & (AR34),CN11:CN45),1)","v":0},null,null,null,16,"","","","",{"$f":"IFERROR(astm(  astm($W$46,3)*1000*(AZ26/AQ13),1),\"\")","v":""},"","","",{"$f":"IFERROR(astm(cityfuf(BB26),3)-astm(cityfuf(BB25),3),\"\")","v":""},"","","","","","",{"$f":"IFERROR(astm(mdiuf(BK26),3)-astm(mdiuf(BK25),3),\"\")","v":""},"","",{"$f":"IFERROR(astm(cityfufalt(BK26),3)-astm(cityfufalt(BK25),3),\"\")","v":""},"","","",{"$f":"IF(AZ26=\"\",1, MIN(IFERROR((AZ26/1000)/((AW26*$J$22)*$J$21/3600),1),IFERROR((SUMIFS(AZ11:AZ45,AV11:AV45,\"<=\"&$AV26,AV11:AV45,\">=\"&$AV26-1)/1000)/(  $J$22*SUMIFS(AW11:AW45,AV11:AV45,\"<=\"&$AV26,AV11:AV45,\">=\"&$AV26-1)*$J$21/3600),1),IFERROR((SUMIFS(AZ11:AZ45,AV11:AV45,\"<=\"&$AV26,AV11:AV45,\">=\"&$AV26-2)/1000)/(  $J$22*SUMIFS(AW11:AW45,AV11:AV45,\"<=\"&$AV26,AV11:AV45,\">=\"&$AV26-2)*$J$21/3600),1),IFERROR((SUMIFS(AZ11:AZ45,AV11:AV45,\"<=\"&$AV26,AV11:AV45,\">=\"&$AV26-3)/1000)/(  $J$22*SUMIFS(AW11:AW45,AV11:AV45,\"<=\"&$AV26,AV11:AV45,\">=\"&$AV26-3)*$J$21/3600),1)) )","v":1},"",{"$f":"IF(AZ26=\"\",1, MIN($AZ26/SUM($AZ11:$AZ26),SUMIFS(AZ11:AZ45,AV11:AV45,\">=\"&$AV26-1,AV11:AV45,\"<=\"&$AV26)/SUM($AZ11:$AZ26),SUMIFS(AZ11:AZ45,AV11:AV45,\">=\"&$AV26-2,AV11:AV45,\"<=\"&$AV26)/SUM($AZ11:$AZ26),SUMIFS(AZ11:AZ45,AV11:AV45,\">=\"&$AV26-3,AV11:AV45,\"<=\"&$AV26)/SUM($AZ11:$AZ26)) )","v":1},null,16,"","","","","","","","",{"$f":"IFERROR(astm(highwayfuf(CC26)-highwayfuf(CC25),3),\"\")","v":""},"","","","","","",{"$f":"IFERROR(astm(mdiuf(CL26)-mdiuf(CL25),3),\"\")","v":""},"","",{"$f":"IFERROR(astm(highwayfufalt(CL26)-highwayfufalt(CL25),3),\"\")","v":""},"","","",{"$f":"IF(CA26=\"\",1, MIN(IFERROR((CA26/1000)/((BX26*$J$22)*$J$21/3600),1),IFERROR((SUMIFS(CA11:CA45,BW11:BW45,\"<=\"&$BW26,BW11:BW45,\">=\"&$BW26-1)/1000)/(  $J$22*SUMIFS(BX11:BX45,BW11:BW45,\"<=\"&$BW26,BW11:BW45,\">=\"&$BW26-1)*$J$21/3600),1),IFERROR((SUMIFS(CA11:CA45,BW11:BW45,\"<=\"&$BW26,BW11:BW45,\">=\"&$BW26-2)/1000)/(  $J$22*SUMIFS(BX11:BX45,BW11:BW45,\"<=\"&$BW26,BW11:BW45,\">=\"&$BW26-2)*$J$21/3600),1),IFERROR((SUMIFS(CA11:CA45,BW11:BW45,\"<=\"&$BW26,BW11:BW45,\">=\"&$BW26-3)/1000)/(  $J$22*SUMIFS(BX11:BX45,BW11:BW45,\"<=\"&$BW26,BW11:BW45,\">=\"&$BW26-3)*$J$21/3600),1)) )","v":1},"",{"$f":"IF(CA26=\"\",1, MIN($CA26/SUM($CA11:$CA26),SUMIFS(CA11:CA45,BW11:BW45,\">=\"&$BW26-1,BW11:BW45,\"<=\"&$BW26)/SUM($CA11:$CA26),SUMIFS(CA11:CA45,BW11:BW45,\">=\"&$BW26-2,BW11:BW45,\"<=\"&$BW26)/SUM($CA11:$CA26),SUMIFS(CA11:CA45,BW11:BW45,\">=\"&$BW26-3,BW11:BW45,\"<=\"&$BW26)/SUM($CA11:$CA26)) )","v":1}]
[null,null,"CS Fuel Consumption (gal/100mi)",{"$f":"IF($N$7+$N$55+$N$103=0,SUM(IFERROR(AJ23,0),IFERROR(AJ71,0),IFERROR(AJ119,0)) / ((AJ23<>0)+(AJ71<>0)+(AJ119<>0)),      ($N$7*AJ23+$N$55*AJ71+$N$103*AJ119)/($N$7+$N$55+$N$103))","v":{"$error":"#DIV/0!"}},{"$f":"IF($N$7+$N$55+$N$103=0,SUM(IFERROR(AK23,0),IFERROR(AK71,0),IFERROR(AK119,0)) / ((AK23<>0)+(AK71<>0)+(AK119<>0)),      ($N$7*AK23+$N$55*AK71+$N$103*AK119)/($N$7+$N$55+$N$103))","v":{"$error":"#DIV/0!"}},{"$f":"astm(100/F26,1)","v":{"$error":"#VALUE!"}},null,null,{"$f":"IF(J20=10180,\"You chose a conversion factor for grams of CO2 per gallon for diesel fuel. Make sure this is correct.\",\"\")","v":""},null,null,null,null,null,null,null,17,null,null,null,null,null,null,null,17,null,null,null,null,null,null,null,null,null,"Composite CO2 (g/mi) [0]",null,null,{"$f":"astm(0.55*AQ48+0.45*AR48,0)","v":0},null,null,null,"CD utilitized CREE (55/45 FUF, Rcdc), unadjusted (g/mi) [1]",{"$f":"astm(SUMIF(AV11:AV45,\"<=\" & AQ34,BF11:BF45),1)","v":0},{"$f":"astm(SUMIF(BW11:BW45,\"<=\" & AR34,CG11:CG45),1)","v":0},null,null,null,17,"","","","",{"$f":"IFERROR(astm(  astm($W$46,3)*1000*(AZ27/AQ13),1),\"\")","v":""},"","","",{"$f":"IFERROR(astm(cityfuf(BB27),3)-astm(cityfuf(BB26),3),\"\")","v":""},"","","","","","",{"$f":"IFERROR(astm(mdiuf(BK27),3)-astm(mdiuf(BK26),3),\"\")","v":""},"","",{"$f":"IFERROR(astm(cityfufalt(BK27),3)-astm(cityfufalt(BK26),3),\"\")","v":""},"","","",{"$f":"IF(AZ27=\"\",1, MIN(IFERROR((AZ27/1000)/((AW27*$J$22)*$J$21/3600),1),IFERROR((SUMIFS(AZ11:AZ45,AV11:AV45,\"<=\"&$AV27,AV11:AV45,\">=\"&$AV27-1)/1000)/(  $J$22*SUMIFS(AW11:AW45,AV11:AV45,\"<=\"&$AV27,AV11:AV45,\">=\"&$AV27-1)*$J$21/3600),1),IFERROR((SUMIFS(AZ11:AZ45,AV11:AV45,\"<=\"&$AV27,AV11:AV45,\">=\"&$AV27-2)/1000)/(  $J$22*SUMIFS(AW11:AW45,AV11:AV45,\"<=\"&$AV27,AV11:AV45,\">=\"&$AV27-2)*$J$21/3600),1),IFERROR((SUMIFS(AZ11:AZ45,AV11:AV45,\"<=\"&$AV27,AV11:AV45,\">=\"&$AV27-3)/1000)/(  $J$22*SUMIFS(AW11:AW45,AV11:AV45,\"<=\"&$AV27,AV11:AV45,\">=\"&$AV27-3)*$J$21/3600),1)) )","v":1},"",{"$f":"IF(AZ27=\"\",1, MIN($AZ27/SUM($AZ11:$AZ27),SUMIFS(AZ11:AZ45,AV11:AV45,\">=\"&$AV27-1,AV11:AV45,\"<=\"&$AV27)/SUM($AZ11:$AZ27),SUMIFS(AZ11:AZ45,AV11:AV45,\">=\"&$AV27-2,AV11:AV45,\"<=\"&$AV27)/SUM($AZ11:$AZ27),SUMIFS(AZ11:AZ45,AV11:AV45,\">=\"&$AV27-3,AV11:AV45,\"<=\"&$AV27)/SUM($AZ11:$AZ27)) )","v":1},null,17,"","","","","","","","",{"$f":"IFERROR(astm(highwayfuf(CC27)-highwayfuf(CC26),3),\"\")","v":""},"","","","","","",{"$f":"IFERROR(astm(mdiuf(CL27)-mdiuf(CL26),3),\"\")","v":""},"","",{"$f":"IFERROR(astm(highwayfufalt(CL27)-highwayfufalt(CL26),3),\"\")","v":""},"","","",{"$f":"IF(CA27=\"\",1, MIN(IFERROR((CA27/1000)/((BX27*$J$22)*$J$21/3600),1),IFERROR((SUMIFS(CA11:CA45,BW11:BW45,\"<=\"&$BW27,BW11:BW45,\">=\"&$BW27-1)/1000)/(  $J$22*SUMIFS(BX11:BX45,BW11:BW45,\"<=\"&$BW27,BW11:BW45,\">=\"&$BW27-1)*$J$21/3600),1),IFERROR((SUMIFS(CA11:CA45,BW11:BW45,\"<=\"&$BW27,BW11:BW45,\">=\"&$BW27-2)/1000)/(  $J$22*SUMIFS(BX11:BX45,BW11:BW45,\"<=\"&$BW27,BW11:BW45,\">=\"&$BW27-2)*$J$21/3600),1),IFERROR((SUMIFS(CA11:CA45,BW11:BW45,\"<=\"&$BW27,BW11:BW45,\">=\"&$BW27-3)/1000)/(  $J$22*SUMIFS(BX11:BX45,BW11:BW45,\"<=\"&$BW27,BW11:BW45,\">=\"&$BW27-3)*$J$21/3600),1)) )","v":1},"",{"$f":"IF(CA27=\"\",1, MIN($CA27/SUM($CA11:$CA27),SUMIFS(CA11:CA45,BW11:BW45,\">=\"&$BW27-1,BW11:BW45,\"<=\"&$BW27)/SUM($CA11:$CA27),SUMIFS(CA11:CA45,BW11:BW45,\">=\"&$BW27-2,BW11:BW45,\"<=\"&$BW27)/SUM($CA11:$CA27),SUMIFS(CA11:CA45,BW11:BW45,\">=\"&$BW27-3,BW11:BW45,\"<=\"&$BW27)/SUM($CA11:$CA27)) )","v":1}]
[null,null,"Composite CD/CS","City","Highway","Combined",null,null,null,null,null,null,null,null,null,null,18,null,null,null,null,null,null,null,18,null,null,null,null,null,null,null,null,null,"Composite Fuel Economy (MPG) [0]",null,null,{"$f":"IFERROR(astm(1/(0.55/AQ49+0.45/AR49),0),0)","v":0},null,null,"NEW","CD utilitized CREE (43/57 FUF, Rcdc), adjusted (g/mi) [1]",{"$f":"astm(SUMIF(AV11:AV45,\"<=\" & (AQ34),BQ11:BQ45),1)","v":0},{"$f":"astm(SUMIF(BW11:BW45,\"<=\" & (AR34),CR11:CR45),1)","v":0},null,null,null,18,"","","","",{"$f":"IFERROR(astm(  astm($W$46,3)*1000*(AZ28/AQ13),1),\"\")","v":""},"","","",{"$f":"IFERROR(astm(cityfuf(BB28),3)-astm(cityfuf(BB27),3),\"\")","v":""},"","","","","","",{"$f":"IFERROR(astm(mdiuf(BK28),3)-astm(mdiuf(BK27),3),\"\")","v":""},"","",{"$f":"IFERROR(astm(cityfufalt(BK28),3)-astm(cityfufalt(BK27),3),\"\")","v":""},"","","",{"$f":"IF(AZ28=\"\",1, MIN(IFERROR((AZ28/1000)/((AW28*$J$22)*$J$21/3600),1),IFERROR((SUMIFS(AZ11:AZ45,AV11:AV45,\"<=\"&$AV28,AV11:AV45,\">=\"&$AV28-1)/1000)/(  $J$22*SUMIFS(AW11:AW45,AV11:AV45,\"<=\"&$AV28,AV11:AV45,\">=\"&$AV28-1)*$J$21/3600),1),IFERROR((SUMIFS(AZ11:AZ45,AV11:AV45,\"<=\"&$AV28,AV11:AV45,\">=\"&$AV28-2)/1000)/(  $J$22*SUMIFS(AW11:AW45,AV11:AV45,\"<=\"&$AV28,AV11:AV45,\">=\"&$AV28-2)*$J$21/3600),1),IFERROR((SUMIFS(AZ11:AZ45,AV11:AV45,\"<=\"&$AV28,AV11:AV45,\">=\"&$AV28-3)/1000)/(  $J$22*SUMIFS(AW11:AW45,AV11:AV45,\"<=\"&$AV28,AV11:AV45,\">=\"&$AV28-3)*$J$21/3600),1)) )","v":1},"",{"$f":"IF(AZ28=\"\",1, MIN($AZ28/SUM($AZ11:$AZ28),SUMIFS(AZ11:AZ45,AV11:AV45,\">=\"&$AV28-1,AV11:AV45,\"<=\"&$AV28)/SUM($AZ11:$AZ28),SUMIFS(AZ11:AZ45,AV11:AV45,\">=\"&$AV28-2,AV11:AV45,\"<=\"&$AV28)/SUM($AZ11:$AZ28),SUMIFS(AZ11:AZ45,AV11:AV45,\">=\"&$AV28-3,AV11:AV45,\"<=\"&$AV28)/SUM($AZ11:$AZ28)) )","v":1},null,18,"","","","","","","","",{"$f":"IFERROR(astm(highwayfuf(CC28)-highwayfuf(CC27),3),\"\")","v":""},"","","","","","",{"$f":"IFERROR(astm(mdiuf(CL28)-mdiuf(CL27),3),\"\")","v":""},"","",{"$f":"IFERROR(astm(highwayfufalt(CL28)-highwayfufalt(CL27),3),\"\")","v":""},"","","",{"$f":"IF(CA28=\"\",1, MIN(IFERROR((CA28/1000)/((BX28*$J$22)*$J$21/3600),1),IFERROR((SUMIFS(CA11:CA45,BW11:BW45,\"<=\"&$BW28,BW11:BW45,\">=\"&$BW28-1)/1000)/(  $J$22*SUMIFS(BX11:BX45,BW11:BW45,\"<=\"&$BW28,BW11:BW45,\">=\"&$BW28-1)*$J$21/3600),1),IFERROR((SUMIFS(CA11:CA45,BW11:BW45,\"<=\"&$BW28,BW11:BW45,\">=\"&$BW28-2)/1000)/(  $J$22*SUMIFS(BX11:BX45,BW11:BW45,\"<=\"&$BW28,BW11:BW45,\">=\"&$BW28-2)*$J$21/3600),1),IFERROR((SUMIFS(CA11:CA45,BW11:BW45,\"<=\"&$BW28,BW11:BW45,\">=\"&$BW28-3)/1000)/(  $J$22*SUMIFS(BX11:BX45,BW11:BW45,\"<=\"&$BW28,BW11:BW45,\">=\"&$BW28-3)*$J$21/3600),1)) )","v":1},"",{"$f":"IF(CA28=\"\",1, MIN($CA28/SUM($CA11:$CA28),SUMIFS(CA11:CA45,BW11:BW45,\">=\"&$BW28-1,BW11:BW45,\"<=\"&$BW28)/SUM($CA11:$CA28),SUMIFS(CA11:CA45,BW11:BW45,\">=\"&$BW28-2,BW11:BW45,\"<=\"&$BW28)/SUM($CA11:$CA28),SUMIFS(CA11:CA45,BW11:BW45,\">=\"&$BW28-3,BW11:BW45,\"<=\"&$BW28)/SUM($CA11:$CA28)) )","v":1}]
[null,null,"Annual Fuel Cost ($/year)",null,null,{"$f":"astm(   ( IF($N$7+$N$55+$N$103=0,SUM(IFERROR((IFERROR(15000*astm(0.55*AQ46+0.45*AR46,3),0)),0),IFERROR((IFERROR(15000*astm(0.55*AQ94+0.45*AR94,3),0)),0),IFERROR((IFERROR(15000*astm(0.55*AQ142+0.45*AR142,3),0)),0)) / (((IFERROR(15000*astm(0.55*AQ46+0.45*AR46,3),0))<>0)+((IFERROR(15000*astm(0.55*AQ94+0.45*AR94,3),0))<>0)+((IFERROR(15000*astm(0.55*AQ142+0.45*AR142,3),0))<>0)),($N$7*(IFERROR(15000*astm(0.55*AQ46+0.45*AR46,3),0))+$N$55*(IFERROR(15000*astm(0.55*AQ94+0.45*AR94,3),0))+$N$103*(IFERROR(15000*astm(0.55*AQ142+0.45*AR142,3),0)))/($N$7+$N$55+$N$103)) ) / 50,0 ) * 50","v":{"$error":"#VALUE!"}},null,null,null,null,null,null,null,null,null,null,19,null,null,null,null,null,null,null,19,null,null,null,null,null,null,null,null,null,"HOV Lane Values","City","Highway","Combined",null,null,null,"UTILITY FACTORS & OTHER METRICS","CITY","HIGHWAY",null,null,null,19,"","","","",{"$f":"IFERROR(astm(  astm($W$46,3)*1000*(AZ29/AQ13),1),\"\")","v":""},"","","",{"$f":"IFERROR(astm(cityfuf(BB29),3)-astm(cityfuf(BB28),3),\"\")","v":""},"","","","","","",{"$f":"IFERROR(astm(mdiuf(BK29),3)-astm(mdiuf(BK28),3),\"\")","v":""},"","",{"$f":"IFERROR(astm(cityfufalt(BK29),3)-astm(cityfufalt(BK28),3),\"\")","v":""},"","","",{"$f":"IF(AZ29=\"\",1, MIN(IFERROR((AZ29/1000)/((AW29*$J$22)*$J$21/3600),1),IFERROR((SUMIFS(AZ11:AZ45,AV11:AV45,\"<=\"&$AV29,AV11:AV45,\">=\"&$AV29-1)/1000)/(  $J$22*SUMIFS(AW11:AW45,AV11:AV45,\"<=\"&$AV29,AV11:AV45,\">=\"&$AV29-1)*$J$21/3600),1),IFERROR((SUMIFS(AZ11:AZ45,AV11:AV45,\"<=\"&$AV29,AV11:AV45,\">=\"&$AV29-2)/1000)/(  $J$22*SUMIFS(AW11:AW45,AV11:AV45,\"<=\"&$AV29,AV11:AV45,\">=\"&$AV29-2)*$J$21/3600),1),IFERROR((SUMIFS(AZ11:AZ45,AV11:AV45,\"<=\"&$AV29,AV11:AV45,\">=\"&$AV29-3)/1000)/(  $J$22*SUMIFS(AW11:AW45,AV11:AV45,\"<=\"&$AV29,AV11:AV45,\">=\"&$AV29-3)*$J$21/3600),1)) )","v":1},"",{"$f":"IF(AZ29=\"\",1, MIN($AZ29/SUM($AZ11:$AZ29),SUMIFS(AZ11:AZ45,AV11:AV45,\">=\"&$AV29-1,AV11:AV45,\"<=\"&$AV29)/SUM($AZ11:$AZ29),SUMIFS(AZ11:AZ45,AV11:AV45,\">=\"&$AV29-2,AV11:AV45,\"<=\"&$AV29)/SUM($AZ11:$AZ29),SUMIFS(AZ11:AZ45,AV11:AV45,\">=\"&$AV29-3,AV11:AV45,\"<=\"&$AV29)/SUM($AZ11:$AZ29)) )","v":1},null,19,"","","","","","","","",{"$f":"IFERROR(astm(highwayfuf(CC29)-highwayfuf(CC28),3),\"\")","v":""},"","","","","","",{"$f":"IFERROR(astm(mdiuf(CL29)-mdiuf(CL28),3),\"\")","v":""},"","",{"$f":"IFERROR(astm(highwayfufalt(CL29)-highwayfufalt(CL28),3),\"\")","v":""},"","","",{"$f":"IF(CA29=\"\",1, MIN(IFERROR((CA29/1000)/((BX29*$J$22)*$J$21/3600),1),IFERROR((SUMIFS(CA11:CA45,BW11:BW45,\"<=\"&$BW29,BW11:BW45,\">=\"&$BW29-1)/1000)/(  $J$22*SUMIFS(BX11:BX45,BW11:BW45,\"<=\"&$BW29,BW11:BW45,\">=\"&$BW29-1)*$J$21/3600),1),IFERROR((SUMIFS(CA11:CA45,BW11:BW45,\"<=\"&$BW29,BW11:BW45,\">=\"&$BW29-2)/1000)/(  $J$22*SUMIFS(BX11:BX45,BW11:BW45,\"<=\"&$BW29,BW11:BW45,\">=\"&$BW29-2)*$J$21/3600),1),IFERROR((SUMIFS(CA11:CA45,BW11:BW45,\"<=\"&$BW29,BW11:BW45,\">=\"&$BW29-3)/1000)/(  $J$22*SUMIFS(BX11:BX45,BW11:BW45,\"<=\"&$BW29,BW11:BW45,\">=\"&$BW29-3)*$J$21/3600),1)) )","v":1},"",{"$f":"IF(CA29=\"\",1, MIN($CA29/SUM($CA11:$CA29),SUMIFS(CA11:CA45,BW11:BW45,\">=\"&$BW29-1,BW11:BW45,\"<=\"&$BW29)/SUM($CA11:$CA29),SUMIFS(CA11:CA45,BW11:BW45,\">=\"&$BW29-2,BW11:BW45,\"<=\"&$BW29)/SUM($CA11:$CA29),SUMIFS(CA11:CA45,BW11:BW45,\">=\"&$BW29-3,BW11:BW45,\"<=\"&$BW29)/SUM($CA11:$CA29)) )","v":1}]
[null,null,"5-Year Fuel Savings Value ($/5 years)",null,{"$f":"\"You \" & IF(($F$38-5*F29)>=0, \"SAVE:\", \"SPEND:\")","v":{"$error":"#N/A"}},{"$f":"ABS($F$38-5*F29)","v":{"$error":"#N/A"}},null,null,null,null,null,null,null,null,null,null,20,null,null,null,null,null,null,null,20,null,null,null,null,null,null,null,null,null,"MDIUF based on unadjusted Rcda [3]",{"$f":"IFERROR(astm(mdiuf(AQ6),3),0)","v":0},{"$f":"IFERROR(astm(mdiuf(AR6),3),0)","v":0},null,null,null,null,"CD 55/45 Fleet Utility Factor (FUF) for Rcdc [3]",{"$f":"astm(SUMIF(AV11:AV45,\"<=\"&AQ34,BE11:BE45),3)","v":0},{"$f":"astm(SUMIF(BW11:BW45,\"<=\"&AR34,CF11:CF45),3)","v":0},null,null,null,20,"","","","",{"$f":"IFERROR(astm(  astm($W$46,3)*1000*(AZ30/AQ13),1),\"\")","v":""},"","","",{"$f":"IFERROR(astm(cityfuf(BB30),3)-astm(cityfuf(BB29),3),\"\")","v":""},"","","","","","",{"$f":"IFERROR(astm(mdiuf(BK30),3)-astm(mdiuf(BK29),3),\"\")","v":""},"","",{"$f":"IFERROR(astm(cityfufalt(BK30),3)-astm(cityfufalt(BK29),3),\"\")","v":""},"","","",{"$f":"IF(AZ30=\"\",1, MIN(IFERROR((AZ30/1000)/((AW30*$J$22)*$J$21/3600),1),IFERROR((SUMIFS(AZ11:AZ45,AV11:AV45,\"<=\"&$AV30,AV11:AV45,\">=\"&$AV30-1)/1000)/(  $J$22*SUMIFS(AW11:AW45,AV11:AV45,\"<=\"&$AV30,AV11:AV45,\">=\"&$AV30-1)*$J$21/3600),1),IFERROR((SUMIFS(AZ11:AZ45,AV11:AV45,\"<=\"&$AV30,AV11:AV45,\">=\"&$AV30-2)/1000)/(  $J$22*SUMIFS(AW11:AW45,AV11:AV45,\"<=\"&$AV30,AV11:AV45,\">=\"&$AV30-2)*$J$21/3600),1),IFERROR((SUMIFS(AZ11:AZ45,AV11:AV45,\"<=\"&$AV30,AV11:AV45,\">=\"&$AV30-3)/1000)/(  $J$22*SUMIFS(AW11:AW45,AV11:AV45,\"<=\"&$AV30,AV11:AV45,\">=\"&$AV30-3)*$J$21/3600),1)) )","v":1},"",{"$f":"IF(AZ30=\"\",1, MIN($AZ30/SUM($AZ11:$AZ30),SUMIFS(AZ11:AZ45,AV11:AV45,\">=\"&$AV30-1,AV11:AV45,\"<=\"&$AV30)/SUM($AZ11:$AZ30),SUMIFS(AZ11:AZ45,AV11:AV45,\">=\"&$AV30-2,AV11:AV45,\"<=\"&$AV30)/SUM($AZ11:$AZ30),SUMIFS(AZ11:AZ45,AV11:AV45,\">=\"&$AV30-3,AV11:AV45,\"<=\"&$AV30)/SUM($AZ11:$AZ30)) )","v":1},null,20,"","","","","","","","",{"$f":"IFERROR(astm(highwayfuf(CC30)-highwayfuf(CC29),3),\"\")","v":""},"","","","","","",{"$f":"IFERROR(astm(mdiuf(CL30)-mdiuf(CL29),3),\"\")","v":""},"","",{"$f":"IFERROR(astm(highwayfufalt(CL30)-highwayfufalt(CL29),3),\"\")","v":""},"","","",{"$f":"IF(CA30=\"\",1, MIN(IFERROR((CA30/1000)/((BX30*$J$22)*$J$21/3600),1),IFERROR((SUMIFS(CA11:CA45,BW11:BW45,\"<=\"&$BW30,BW11:BW45,\">=\"&$BW30-1)/1000)/(  $J$22*SUMIFS(BX11:BX45,BW11:BW45,\"<=\"&$BW30,BW11:BW45,\">=\"&$BW30-1)*$J$21/3600),1),IFERROR((SUMIFS(CA11:CA45,BW11:BW45,\"<=\"&$BW30,BW11:BW45,\">=\"&$BW30-2)/1000)/(  $J$22*SUMIFS(BX11:BX45,BW11:BW45,\"<=\"&$BW30,BW11:BW45,\">=\"&$BW30-2)*$J$21/3600),1),IFERROR((SUMIFS(CA11:CA45,BW11:BW45,\"<=\"&$BW30,BW11:BW45,\">=\"&$BW30-3)/1000)/(  $J$22*SUMIFS(BX11:BX45,BW11:BW45,\"<=\"&$BW30,BW11:BW45,\">=\"&$BW30-3)*$J$21/3600),1)) )","v":1},"",{"$f":"IF(CA30=\"\",1, MIN($CA30/SUM($CA11:$CA30),SUMIFS(CA11:CA45,BW11:BW45,\">=\"&$BW30-1,BW11:BW45,\"<=\"&$BW30)/SUM($CA11:$CA30),SUMIFS(CA11:CA45,BW11:BW45,\">=\"&$BW30-2,BW11:BW45,\"<=\"&$BW30)/SUM($CA11:$CA30),SUMIFS(CA11:CA45,BW11:BW45,\">=\"&$BW30-3,BW11:BW45,\"<=\"&$BW30)/SUM($CA11:$CA30)) )","v":1}]
[null,null,"Composite CO2 (g/mi)",{"$f":"astm(IF($N$7+$N$55+$N$103=0,SUM(IFERROR(AQ48,0),IFERROR(AQ96,0),IFERROR(AQ144,0)) / ((AQ48<>0)+(AQ96<>0)+(AQ144<>0)),($N$7*AQ48+$N$55*AQ96+$N$103*AQ144)/($N$7+$N$55+$N$103)),1)","v":{"$error":"#VALUE!"}},{"$f":"astm(IF($N$7+$N$55+$N$103=0,SUM(IFERROR(AR48,0),IFERROR(AR96,0),IFERROR(AR144,0)) / ((AR48<>0)+(AR96<>0)+(AR144<>0)),($N$7*AR48+$N$55*AR96+$N$103*AR144)/($N$7+$N$55+$N$103)),1)","v":{"$error":"#VALUE!"}},{"$f":"astm(0.55*D31+0.45*E31,0)","v":{"$error":"#VALUE!"}},null,null,null,null,null,null,null,null,null,null,21,null,null,null,null,null,null,null,21,null,null,null,null,null,null,null,null,null,"Composite CD/CS Fuel Economy (MPGe) [4]",{"$f":"IFERROR(astm(1/(AJ30/(AQ6/     AQ14  )+(1-AJ30)/N11),4),0)","v":0},{"$f":"IFERROR(astm(1/(AK30/(AR6/     AR14  )+(1-AK30)/O11),4),0)","v":0},{"$f":"IFERROR(astm(1/(0.55/AJ31+0.45/AK31),4),0)","v":0},null,null,null,"MDIUF based on Rcda, adjusted [3]",{"$f":"astm(mdiuf(AQ7),3)","v":0},{"$f":"astm(mdiuf(AR7),3)","v":0},null,null,null,21,"","","","",{"$f":"IFERROR(astm(  astm($W$46,3)*1000*(AZ31/AQ13),1),\"\")","v":""},"","","",{"$f":"IFERROR(astm(cityfuf(BB31),3)-astm(cityfuf(BB30),3),\"\")","v":""},"","","","","","",{"$f":"IFERROR(astm(mdiuf(BK31),3)-astm(mdiuf(BK30),3),\"\")","v":""},"","",{"$f":"IFERROR(astm(cityfufalt(BK31),3)-astm(cityfufalt(BK30),3),\"\")","v":""},"","","",{"$f":"IF(AZ31=\"\",1, MIN(IFERROR((AZ31/1000)/((AW31*$J$22)*$J$21/3600),1),IFERROR((SUMIFS(AZ11:AZ45,AV11:AV45,\"<=\"&$AV31,AV11:AV45,\">=\"&$AV31-1)/1000)/(  $J$22*SUMIFS(AW11:AW45,AV11:AV45,\"<=\"&$AV31,AV11:AV45,\">=\"&$AV31-1)*$J$21/3600),1),IFERROR((SUMIFS(AZ11:AZ45,AV11:AV45,\"<=\"&$AV31,AV11:AV45,\">=\"&$AV31-2)/1000)/(  $J$22*SUMIFS(AW11:AW45,AV11:AV45,\"<=\"&$AV31,AV11:AV45,\">=\"&$AV31-2)*$J$21/3600),1),IFERROR((SUMIFS(AZ11:AZ45,AV11:AV45,\"<=\"&$AV31,AV11:AV45,\">=\"&$AV31-3)/1000)/(  $J$22*SUMIFS(AW11:AW45,AV11:AV45,\"<=\"&$AV31,AV11:AV45,\">=\"&$AV31-3)*$J$21/3600),1)) )","v":1},"",{"$f":"IF(AZ31=\"\",1, MIN($AZ31/SUM($AZ11:$AZ31),SUMIFS(AZ11:AZ45,AV11:AV45,\">=\"&$AV31-1,AV11:AV45,\"<=\"&$AV31)/SUM($AZ11:$AZ31),SUMIFS(AZ11:AZ45,AV11:AV45,\">=\"&$AV31-2,AV11:AV45,\"<=\"&$AV31)/SUM($AZ11:$AZ31),SUMIFS(AZ11:AZ45,AV11:AV45,\">=\"&$AV31-3,AV11:AV45,\"<=\"&$AV31)/SUM($AZ11:$AZ31)) )","v":1},null,21,"","","","","","","","",{"$f":"IFERROR(astm(highwayfuf(CC31)-highwayfuf(CC30),3),\"\")","v":""},"","","","","","",{"$f":"IFERROR(astm(mdiuf(CL31)-mdiuf(CL30),3),\"\")","v":""},"","",{"$f":"IFERROR(astm(highwayfufalt(CL31)-highwayfufalt(CL30),3),\"\")","v":""},"","","",{"$f":"IF(CA31=\"\",1, MIN(IFERROR((CA31/1000)/((BX31*$J$22)*$J$21/3600),1),IFERROR((SUMIFS(CA11:CA45,BW11:BW45,\"<=\"&$BW31,BW11:BW45,\">=\"&$BW31-1)/1000)/(  $J$22*SUMIFS(BX11:BX45,BW11:BW45,\"<=\"&$BW31,BW11:BW45,\">=\"&$BW31-1)*$J$21/3600),1),IFERROR((SUMIFS(CA11:CA45,BW11:BW45,\"<=\"&$BW31,BW11:BW45,\">=\"&$BW31-2)/1000)/(  $J$22*SUMIFS(BX11:BX45,BW11:BW45,\"<=\"&$BW31,BW11:BW45,\">=\"&$BW31-2)*$J$21/3600),1),IFERROR((SUMIFS(CA11:CA45,BW11:BW45,\"<=\"&$BW31,BW11:BW45,\">=\"&$BW31-3)/1000)/(  $J$22*SUMIFS(BX11:BX45,BW11:BW45,\"<=\"&$BW31,BW11:BW45,\">=\"&$BW31-3)*$J$21/3600),1)) )","v":1},"",{"$f":"IF(CA31=\"\",1, MIN($CA31/SUM($CA11:$CA31),SUMIFS(CA11:CA45,BW11:BW45,\">=\"&$BW31-1,BW11:BW45,\"<=\"&$BW31)/SUM($CA11:$CA31),SUMIFS(CA11:CA45,BW11:BW45,\">=\"&$BW31-2,BW11:BW45,\"<=\"&$BW31)/SUM($CA11:$CA31),SUMIFS(CA11:CA45,BW11:BW45,\">=\"&$BW31-3,BW11:BW45,\"<=\"&$BW31)/SUM($CA11:$CA31)) )","v":1}]
[null,null,"Composite Fuel Economy (MPG)",{"$f":"IF($N$7+$N$55+$N$103=0,    ((AQ49<>0)+(AQ97<>0)+(AQ145<>0))/(IFERROR(1/AQ49,0)+IFERROR(1/AQ97,0)+IFERROR(1/AQ145,0)),    ($N$7+$N$55+$N$103) / (IFERROR($N$7/AQ49,0)+IFERROR($N$55/AQ97,0)+IFERROR($N$103/AQ145,0))  )","v":{"$error":"#DIV/0!"}},{"$f":"IF($N$7+$N$55+$N$103=0,    ((AR49<>0)+(AR97<>0)+(AR145<>0))/(IFERROR(1/AR49,0)+IFERROR(1/AR97,0)+IFERROR(1/AR145,0)),    ($N$7+$N$55+$N$103) / (IFERROR($N$7/AR49,0)+IFERROR($N$55/AR97,0)+IFERROR($N$103/AR145,0))  )","v":{"$error":"#DIV/0!"}},{"$f":" astm(1/(0.55/D32+0.45/E32),0)","v":{"$error":"#VALUE!"}},null,null,null,null,null,null,null,null,null,null,22,null,null,null,null,null,null,null,22,null,null,null,null,null,null,null,null,null,"Trends Report Values","City","Highway","Combined",null,null,null,"MDIUF based on Rcdc, unadjusted [3]",{"$f":"astm(SUMIF(AV11:AV45,\"<=\" & AQ34,BL11:BL45),3)","v":0},{"$f":"astm(SUMIF(BW11:BW45,\"<=\" & AR34,CM11:CM45),3)","v":0},null,null,null,22,"","","","",{"$f":"IFERROR(astm(  astm($W$46,3)*1000*(AZ32/AQ13),1),\"\")","v":""},"","","",{"$f":"IFERROR(astm(cityfuf(BB32),3)-astm(cityfuf(BB31),3),\"\")","v":""},"","","","","","",{"$f":"IFERROR(astm(mdiuf(BK32),3)-astm(mdiuf(BK31),3),\"\")","v":""},"","",{"$f":"IFERROR(astm(cityfufalt(BK32),3)-astm(cityfufalt(BK31),3),\"\")","v":""},"","","",{"$f":"IF(AZ32=\"\",1, MIN(IFERROR((AZ32/1000)/((AW32*$J$22)*$J$21/3600),1),IFERROR((SUMIFS(AZ11:AZ45,AV11:AV45,\"<=\"&$AV32,AV11:AV45,\">=\"&$AV32-1)/1000)/(  $J$22*SUMIFS(AW11:AW45,AV11:AV45,\"<=\"&$AV32,AV11:AV45,\">=\"&$AV32-1)*$J$21/3600),1),IFERROR((SUMIFS(AZ11:AZ45,AV11:AV45,\"<=\"&$AV32,AV11:AV45,\">=\"&$AV32-2)/1000)/(  $J$22*SUMIFS(AW11:AW45,AV11:AV45,\"<=\"&$AV32,AV11:AV45,\">=\"&$AV32-2)*$J$21/3600),1),IFERROR((SUMIFS(AZ11:AZ45,AV11:AV45,\"<=\"&$AV32,AV11:AV45,\">=\"&$AV32-3)/1000)/(  $J$22*SUMIFS(AW11:AW45,AV11:AV45,\"<=\"&$AV32,AV11:AV45,\">=\"&$AV32-3)*$J$21/3600),1)) )","v":1},"",{"$f":"IF(AZ32=\"\",1, MIN($AZ32/SUM($AZ11:$AZ32),SUMIFS(AZ11:AZ45,AV11:AV45,\">=\"&$AV32-1,AV11:AV45,\"<=\"&$AV32)/SUM($AZ11:$AZ32),SUMIFS(AZ11:AZ45,AV11:AV45,\">=\"&$AV32-2,AV11:AV45,\"<=\"&$AV32)/SUM($AZ11:$AZ32),SUMIFS(AZ11:AZ45,AV11:AV45,\">=\"&$AV32-3,AV11:AV45,\"<=\"&$AV32)/SUM($AZ11:$AZ32)) )","v":1},null,22,"","","","","","","","",{"$f":"IFERROR(astm(highwayfuf(CC32)-highwayfuf(CC31),3),\"\")","v":""},"","","","","","",{"$f":"IFERROR(astm(mdiuf(CL32)-mdiuf(CL31),3),\"\")","v":""},"","",{"$f":"IFERROR(astm(highwayfufalt(CL32)-highwayfufalt(CL31),3),\"\")","v":""},"","","",{"$f":"IF(CA32=\"\",1, MIN(IFERROR((CA32/1000)/((BX32*$J$22)*$J$21/3600),1),IFERROR((SUMIFS(CA11:CA45,BW11:BW45,\"<=\"&$BW32,BW11:BW45,\">=\"&$BW32-1)/1000)/(  $J$22*SUMIFS(BX11:BX45,BW11:BW45,\"<=\"&$BW32,BW11:BW45,\">=\"&$BW32-1)*$J$21/3600),1),IFERROR((SUMIFS(CA11:CA45,BW11:BW45,\"<=\"&$BW32,BW11:BW45,\">=\"&$BW32-2)/1000)/(  $J$22*SUMIFS(BX11:BX45,BW11:BW45,\"<=\"&$BW32,BW11:BW45,\">=\"&$BW32-2)*$J$21/3600),1),IFERROR((SUMIFS(CA11:CA45,BW11:BW45,\"<=\"&$BW32,BW11:BW45,\">=\"&$BW32-3)/1000)/(  $J$22*SUMIFS(BX11:BX45,BW11:BW45,\"<=\"&$BW32,BW11:BW45,\">=\"&$BW32-3)*$J$21/3600),1)) )","v":1},"",{"$f":"IF(CA32=\"\",1, MIN($CA32/SUM($CA11:$CA32),SUMIFS(CA11:CA45,BW11:BW45,\">=\"&$BW32-1,BW11:BW45,\"<=\"&$BW32)/SUM($CA11:$CA32),SUMIFS(CA11:CA45,BW11:BW45,\">=\"&$BW32-2,BW11:BW45,\"<=\"&$BW32)/SUM($CA11:$CA32),SUMIFS(CA11:CA45,BW11:BW45,\">=\"&$BW32-3,BW11:BW45,\"<=\"&$BW32)/SUM($CA11:$CA32)) )","v":1}]
[null,null,"MPG Rating (on scale of 1-10)",null,null,{"$f":"INDEX('Label Inputs'!$W$5:$Z$54, MATCH(1,('Label Inputs'!$W$5:$W$54=$J$5)*('Label Inputs'!$Y$5:$Y$54>=$F$32),0),4)","v":{"$error":"#N/A"}},null,null,null,null,null,null,null,null,null,null,23,null,null,null,null,null,null,null,23,null,null,null,null,null,null,null,null,null,"Fleet Utility Factor (43/57) [3]",{"$f":"astm(SUMIF(AV11:AV40,\"<=\"&AQ34,BO11:BO40),3)","v":0},{"$f":"astm(SUMIF(BW11:BW40,\"<=\"&AR34,CP11:CP40),3)","v":0},{"$f":"0.55*AJ33+0.45*AK33","v":0},null,null,null,"Fraction of transition cycle that is charge-depleting operation (Zn) [3]",{"$f":" astm( IF((IF( SUMIF(AV11:AV45,\"=\" & ($AQ34),AY11:AY45)/SUMIF(AV11:AV45,\"=\" & ($AQ34-1),AY11:AY45)<0,0, SUMIF(AV11:AV45,\"=\" & ($AQ34),AY11:AY45)/SUMIF(AV11:AV45,\"=\" & ($AQ34-1),AY11:AY45)))<0,0, IF((IF( SUMIF(AV11:AV45,\"=\" & ($AQ34),AY11:AY45)/SUMIF(AV11:AV45,\"=\" & ($AQ34-1),AY11:AY45)<0,0, SUMIF(AV11:AV45,\"=\" & ($AQ34),AY11:AY45)/SUMIF(AV11:AV45,\"=\" & ($AQ34-1),AY11:AY45)))>1,1, (IF( SUMIF(AV11:AV45,\"=\" & ($AQ34),AY11:AY45)/SUMIF(AV11:AV45,\"=\" & ($AQ34-1),AY11:AY45)<0,0, SUMIF(AV11:AV45,\"=\" & ($AQ34),AY11:AY45)/SUMIF(AV11:AV45,\"=\" & ($AQ34-1),AY11:AY45))))), 3)","v":{"$error":"#VALUE!"}},{"$f":" astm( IF((IF( SUMIF(BW11:BW45,\"=\" & ($AR34),BZ11:BZ45)/SUMIF(BW11:BW45,\"=\" & ($AR34-1),BZ11:BZ45)<0,0, SUMIF(BW11:BW45,\"=\" & ($AR34),BZ11:BZ45)/SUMIF(BW11:BW45,\"=\" & ($AR34-1),BZ11:BZ45)))<0,0, IF((IF( SUMIF(BW11:BW45,\"=\" & ($AR34),BZ11:BZ45)/SUMIF(BW11:BW45,\"=\" & ($AR34-1),BZ11:BZ45)<0,0, SUMIF(BW11:BW45,\"=\" & ($AR34),BZ11:BZ45)/SUMIF(BW11:BW45,\"=\" & ($AR34-1),BZ11:BZ45)))>1,1, (IF( SUMIF(BW11:BW45,\"=\" & ($AR34),BZ11:BZ45)/SUMIF(BW11:BW45,\"=\" & ($AR34-1),BZ11:BZ45)<0,0, SUMIF(BW11:BW45,\"=\" & ($AR34),BZ11:BZ45)/SUMIF(BW11:BW45,\"=\" & ($AR34-1),BZ11:BZ45))))), 3)","v":{"$error":"#VALUE!"}},null,null,null,23,"","","","",{"$f":"IFERROR(astm(  astm($W$46,3)*1000*(AZ33/AQ13),1),\"\")","v":""},"","","",{"$f":"IFERROR(astm(cityfuf(BB33),3)-astm(cityfuf(BB32),3),\"\")","v":""},"","","","","","",{"$f":"IFERROR(astm(mdiuf(BK33),3)-astm(mdiuf(BK32),3),\"\")","v":""},"","",{"$f":"IFERROR(astm(cityfufalt(BK33),3)-astm(cityfufalt(BK32),3),\"\")","v":""},"","","",{"$f":"IF(AZ33=\"\",1, MIN(IFERROR((AZ33/1000)/((AW33*$J$22)*$J$21/3600),1),IFERROR((SUMIFS(AZ11:AZ45,AV11:AV45,\"<=\"&$AV33,AV11:AV45,\">=\"&$AV33-1)/1000)/(  $J$22*SUMIFS(AW11:AW45,AV11:AV45,\"<=\"&$AV33,AV11:AV45,\">=\"&$AV33-1)*$J$21/3600),1),IFERROR((SUMIFS(AZ11:AZ45,AV11:AV45,\"<=\"&$AV33,AV11:AV45,\">=\"&$AV33-2)/1000)/(  $J$22*SUMIFS(AW11:AW45,AV11:AV45,\"<=\"&$AV33,AV11:AV45,\">=\"&$AV33-2)*$J$21/3600),1),IFERROR((SUMIFS(AZ11:AZ45,AV11:AV45,\"<=\"&$AV33,AV11:AV45,\">=\"&$AV33-3)/1000)/(  $J$22*SUMIFS(AW11:AW45,AV11:AV45,\"<=\"&$AV33,AV11:AV45,\">=\"&$AV33-3)*$J$21/3600),1)) )","v":1},"",{"$f":"IF(AZ33=\"\",1, MIN($AZ33/SUM($AZ11:$AZ33),SUMIFS(AZ11:AZ45,AV11:AV45,\">=\"&$AV33-1,AV11:AV45,\"<=\"&$AV33)/SUM($AZ11:$AZ33),SUMIFS(AZ11:AZ45,AV11:AV45,\">=\"&$AV33-2,AV11:AV45,\"<=\"&$AV33)/SUM($AZ11:$AZ33),SUMIFS(AZ11:AZ45,AV11:AV45,\">=\"&$AV33-3,AV11:AV45,\"<=\"&$AV33)/SUM($AZ11:$AZ33)) )","v":1},null,23,"","","","","","","","",{"$f":"IFERROR(astm(highwayfuf(CC33)-highwayfuf(CC32),3),\"\")","v":""},"","","","","","",{"$f":"IFERROR(astm(mdiuf(CL33)-mdiuf(CL32),3),\"\")","v":""},"","",{"$f":"IFERROR(astm(highwayfufalt(CL33)-highwayfufalt(CL32),3),\"\")","v":""},"","","",{"$f":"IF(CA33=\"\",1, MIN(IFERROR((CA33/1000)/((BX33*$J$22)*$J$21/3600),1),IFERROR((SUMIFS(CA11:CA45,BW11:BW45,\"<=\"&$BW33,BW11:BW45,\">=\"&$BW33-1)/1000)/(  $J$22*SUMIFS(BX11:BX45,BW11:BW45,\"<=\"&$BW33,BW11:BW45,\">=\"&$BW33-1)*$J$21/3600),1),IFERROR((SUMIFS(CA11:CA45,BW11:BW45,\"<=\"&$BW33,BW11:BW45,\">=\"&$BW33-2)/1000)/(  $J$22*SUMIFS(BX11:BX45,BW11:BW45,\"<=\"&$BW33,BW11:BW45,\">=\"&$BW33-2)*$J$21/3600),1),IFERROR((SUMIFS(CA11:CA45,BW11:BW45,\"<=\"&$BW33,BW11:BW45,\">=\"&$BW33-3)/1000)/(  $J$22*SUMIFS(BX11:BX45,BW11:BW45,\"<=\"&$BW33,BW11:BW45,\">=\"&$BW33-3)*$J$21/3600),1)) )","v":1},"",{"$f":"IF(CA33=\"\",1, MIN($CA33/SUM($CA11:$CA33),SUMIFS(CA11:CA45,BW11:BW45,\">=\"&$BW33-1,BW11:BW45,\"<=\"&$BW33)/SUM($CA11:$CA33),SUMIFS(CA11:CA45,BW11:BW45,\">=\"&$BW33-2,BW11:BW45,\"<=\"&$BW33)/SUM($CA11:$CA33),SUMIFS(CA11:CA45,BW11:BW45,\">=\"&$BW33-3,BW11:BW45,\"<=\"&$BW33)/SUM($CA11:$CA33)) )","v":1}]
[null,null,"GHG Rating (on scale of 1-10)",null,null,{"$f":"INDEX('Label Inputs'!$AB$5:$AE$54, MATCH(1,('Label Inputs'!$AB$5:$AB$54=$J$5)*('Label Inputs'!$AC$5:$AC$54<=$F$31),0),4)","v":{"$error":"#N/A"}},null,null,null,null,null,null,null,null,null,null,24,null,null,null,null,null,null,null,24,null,null,null,null,null,null,null,null,null,"Unadjusted Fuel Economy (MPG) [4]",{"$f":"AJ9","v":0},{"$f":"AK9","v":0},{"$f":"AL9","v":0},null,null,null,"Number of last cycle number with charge-depleting operation (transition cycle) [0]",{"$f":"IF(ISNUMBER(W48), W48,   IF(COUNTIF(BR11:BR45,\"CD\") < COUNT(R11:R45), COUNTIF(BR11:BR45,\"CD\"),     IF(COUNTIF(BT11:BT45,\"CD\") < COUNT(R11:R45), COUNTIF(BT11:BT45,\"CD\"),     \"EOT ERROR\"     )     )    )","v":"EOT ERROR"},{"$f":"IF(ISNUMBER(AE48), AE48,   IF(COUNTIF(CS11:CS45,\"CD\") < COUNT(Z11:Z45), COUNTIF(CS11:CS45,\"CD\"),     IF(COUNTIF(CU11:CU45,\"CD\") < COUNT(Z11:Z45), COUNTIF(CU11:CU45,\"CD\"),     \"EOT ERROR\"     )     )    )","v":"EOT ERROR"},null,null,null,24,"","","","",{"$f":"IFERROR(astm(  astm($W$46,3)*1000*(AZ34/AQ13),1),\"\")","v":""},"","","",{"$f":"IFERROR(astm(cityfuf(BB34),3)-astm(cityfuf(BB33),3),\"\")","v":""},"","","","","","",{"$f":"IFERROR(astm(mdiuf(BK34),3)-astm(mdiuf(BK33),3),\"\")","v":""},"","",{"$f":"IFERROR(astm(cityfufalt(BK34),3)-astm(cityfufalt(BK33),3),\"\")","v":""},"","","",{"$f":"IF(AZ34=\"\",1, MIN(IFERROR((AZ34/1000)/((AW34*$J$22)*$J$21/3600),1),IFERROR((SUMIFS(AZ11:AZ45,AV11:AV45,\"<=\"&$AV34,AV11:AV45,\">=\"&$AV34-1)/1000)/(  $J$22*SUMIFS(AW11:AW45,AV11:AV45,\"<=\"&$AV34,AV11:AV45,\">=\"&$AV34-1)*$J$21/3600),1),IFERROR((SUMIFS(AZ11:AZ45,AV11:AV45,\"<=\"&$AV34,AV11:AV45,\">=\"&$AV34-2)/1000)/(  $J$22*SUMIFS(AW11:AW45,AV11:AV45,\"<=\"&$AV34,AV11:AV45,\">=\"&$AV34-2)*$J$21/3600),1),IFERROR((SUMIFS(AZ11:AZ45,AV11:AV45,\"<=\"&$AV34,AV11:AV45,\">=\"&$AV34-3)/1000)/(  $J$22*SUMIFS(AW11:AW45,AV11:AV45,\"<=\"&$AV34,AV11:AV45,\">=\"&$AV34-3)*$J$21/3600),1)) )","v":1},"",{"$f":"IF(AZ34=\"\",1, MIN($AZ34/SUM($AZ11:$AZ34),SUMIFS(AZ11:AZ45,AV11:AV45,\">=\"&$AV34-1,AV11:AV45,\"<=\"&$AV34)/SUM($AZ11:$AZ34),SUMIFS(AZ11:AZ45,AV11:AV45,\">=\"&$AV34-2,AV11:AV45,\"<=\"&$AV34)/SUM($AZ11:$AZ34),SUMIFS(AZ11:AZ45,AV11:AV45,\">=\"&$AV34-3,AV11:AV45,\"<=\"&$AV34)/SUM($AZ11:$AZ34)) )","v":1},null,24,"","","","","","","","",{"$f":"IFERROR(astm(highwayfuf(CC34)-highwayfuf(CC33),3),\"\")","v":""},"","","","","","",{"$f":"IFERROR(astm(mdiuf(CL34)-mdiuf(CL33),3),\"\")","v":""},"","",{"$f":"IFERROR(astm(highwayfufalt(CL34)-highwayfufalt(CL33),3),\"\")","v":""},"","","",{"$f":"IF(CA34=\"\",1, MIN(IFERROR((CA34/1000)/((BX34*$J$22)*$J$21/3600),1),IFERROR((SUMIFS(CA11:CA45,BW11:BW45,\"<=\"&$BW34,BW11:BW45,\">=\"&$BW34-1)/1000)/(  $J$22*SUMIFS(BX11:BX45,BW11:BW45,\"<=\"&$BW34,BW11:BW45,\">=\"&$BW34-1)*$J$21/3600),1),IFERROR((SUMIFS(CA11:CA45,BW11:BW45,\"<=\"&$BW34,BW11:BW45,\">=\"&$BW34-2)/1000)/(  $J$22*SUMIFS(BX11:BX45,BW11:BW45,\"<=\"&$BW34,BW11:BW45,\">=\"&$BW34-2)*$J$21/3600),1),IFERROR((SUMIFS(CA11:CA45,BW11:BW45,\"<=\"&$BW34,BW11:BW45,\">=\"&$BW34-3)/1000)/(  $J$22*SUMIFS(BX11:BX45,BW11:BW45,\"<=\"&$BW34,BW11:BW45,\">=\"&$BW34-3)*$J$21/3600),1)) )","v":1},"",{"$f":"IF(CA34=\"\",1, MIN($CA34/SUM($CA11:$CA34),SUMIFS(CA11:CA45,BW11:BW45,\">=\"&$BW34-1,BW11:BW45,\"<=\"&$BW34)/SUM($CA11:$CA34),SUMIFS(CA11:CA45,BW11:BW45,\">=\"&$BW34-2,BW11:BW45,\"<=\"&$BW34)/SUM($CA11:$CA34),SUMIFS(CA11:CA45,BW11:BW45,\">=\"&$BW34-3,BW11:BW45,\"<=\"&$BW34)/SUM($CA11:$CA34)) )","v":1}]
[null,null,"Label Inputs Based on Model Year and Fuel Type (generally these should not be changed)",null,null,null,null,null,null,null,null,null,null,null,null,null,25,null,null,null,null,null,null,null,25,null,null,null,null,null,null,null,null,null,"Unadjusted GHG (g/mi) [1]",{"$f":"AJ11","v":0},{"$f":"AK11","v":0},{"$f":"AL11","v":0},null,null,"Intermediate Results Requiring Charge-Sustaining (CS) Test Results or Other Inputs",null,null,null,null,null,null,25,"","","","",{"$f":"IFERROR(astm(  astm($W$46,3)*1000*(AZ35/AQ13),1),\"\")","v":""},"","","",{"$f":"IFERROR(astm(cityfuf(BB35),3)-astm(cityfuf(BB34),3),\"\")","v":""},"","","","","","",{"$f":"IFERROR(astm(mdiuf(BK35),3)-astm(mdiuf(BK34),3),\"\")","v":""},"","",{"$f":"IFERROR(astm(cityfufalt(BK35),3)-astm(cityfufalt(BK34),3),\"\")","v":""},"","","",{"$f":"IF(AZ35=\"\",1, MIN(IFERROR((AZ35/1000)/((AW35*$J$22)*$J$21/3600),1),IFERROR((SUMIFS(AZ11:AZ45,AV11:AV45,\"<=\"&$AV35,AV11:AV45,\">=\"&$AV35-1)/1000)/(  $J$22*SUMIFS(AW11:AW45,AV11:AV45,\"<=\"&$AV35,AV11:AV45,\">=\"&$AV35-1)*$J$21/3600),1),IFERROR((SUMIFS(AZ11:AZ45,AV11:AV45,\"<=\"&$AV35,AV11:AV45,\">=\"&$AV35-2)/1000)/(  $J$22*SUMIFS(AW11:AW45,AV11:AV45,\"<=\"&$AV35,AV11:AV45,\">=\"&$AV35-2)*$J$21/3600),1),IFERROR((SUMIFS(AZ11:AZ45,AV11:AV45,\"<=\"&$AV35,AV11:AV45,\">=\"&$AV35-3)/1000)/(  $J$22*SUMIFS(AW11:AW45,AV11:AV45,\"<=\"&$AV35,AV11:AV45,\">=\"&$AV35-3)*$J$21/3600),1)) )","v":1},"",{"$f":"IF(AZ35=\"\",1, MIN($AZ35/SUM($AZ11:$AZ35),SUMIFS(AZ11:AZ45,AV11:AV45,\">=\"&$AV35-1,AV11:AV45,\"<=\"&$AV35)/SUM($AZ11:$AZ35),SUMIFS(AZ11:AZ45,AV11:AV45,\">=\"&$AV35-2,AV11:AV45,\"<=\"&$AV35)/SUM($AZ11:$AZ35),SUMIFS(AZ11:AZ45,AV11:AV45,\">=\"&$AV35-3,AV11:AV45,\"<=\"&$AV35)/SUM($AZ11:$AZ35)) )","v":1},null,25,"","","","","","","","",{"$f":"IFERROR(astm(highwayfuf(CC35)-highwayfuf(CC34),3),\"\")","v":""},"","","","","","",{"$f":"IFERROR(astm(mdiuf(CL35)-mdiuf(CL34),3),\"\")","v":""},"","",{"$f":"IFERROR(astm(highwayfufalt(CL35)-highwayfufalt(CL34),3),\"\")","v":""},"","","",{"$f":"IF(CA35=\"\",1, MIN(IFERROR((CA35/1000)/((BX35*$J$22)*$J$21/3600),1),IFERROR((SUMIFS(CA11:CA45,BW11:BW45,\"<=\"&$BW35,BW11:BW45,\">=\"&$BW35-1)/1000)/(  $J$22*SUMIFS(BX11:BX45,BW11:BW45,\"<=\"&$BW35,BW11:BW45,\">=\"&$BW35-1)*$J$21/3600),1),IFERROR((SUMIFS(CA11:CA45,BW11:BW45,\"<=\"&$BW35,BW11:BW45,\">=\"&$BW35-2)/1000)/(  $J$22*SUMIFS(BX11:BX45,BW11:BW45,\"<=\"&$BW35,BW11:BW45,\">=\"&$BW35-2)*$J$21/3600),1),IFERROR((SUMIFS(CA11:CA45,BW11:BW45,\"<=\"&$BW35,BW11:BW45,\">=\"&$BW35-3)/1000)/(  $J$22*SUMIFS(BX11:BX45,BW11:BW45,\"<=\"&$BW35,BW11:BW45,\">=\"&$BW35-3)*$J$21/3600),1)) )","v":1},"",{"$f":"IF(CA35=\"\",1, MIN($CA35/SUM($CA11:$CA35),SUMIFS(CA11:CA45,BW11:BW45,\">=\"&$BW35-1,BW11:BW45,\"<=\"&$BW35)/SUM($CA11:$CA35),SUMIFS(CA11:CA45,BW11:BW45,\">=\"&$BW35-2,BW11:BW45,\"<=\"&$BW35)/SUM($CA11:$CA35),SUMIFS(CA11:CA45,BW11:BW45,\">=\"&$BW35-3,BW11:BW45,\"<=\"&$BW35)/SUM($CA11:$CA35)) )","v":1}]
[null,null,"Gasoline cost ($/gallon)",null,null,{"$f":"INDEX('Label Inputs'!C5:K14,MATCH(J5,'Label Inputs'!B5:B14,0),MATCH(J9,'Label Inputs'!C4:K4,0))","v":{"$error":"#N/A"}},null,null,null,null,null,null,null,null,null,null,26,null,null,null,null,null,null,null,26,null,null,null,null,null,null,null,null,null,"Adjusted Fuel Economy (MPG) [4]",{"$f":"IFERROR(astm(1/ ( AQ16 + (1-AJ33)/N12),4),0)","v":0},{"$f":"IFERROR(astm(1/ ( AR16 + (1-AK33)/O12),4),0)","v":0},{"$f":"IFERROR(astm(1/(0.55/AJ36+0.45/AK36),4),0)","v":0},null,null,null,"DRIVING DISTANCE VALUES","CITY","HIGHWAY",null,null,null,26,"","","","",{"$f":"IFERROR(astm(  astm($W$46,3)*1000*(AZ36/AQ13),1),\"\")","v":""},"","","",{"$f":"IFERROR(astm(cityfuf(BB36),3)-astm(cityfuf(BB35),3),\"\")","v":""},"","","","","","",{"$f":"IFERROR(astm(mdiuf(BK36),3)-astm(mdiuf(BK35),3),\"\")","v":""},"","",{"$f":"IFERROR(astm(cityfufalt(BK36),3)-astm(cityfufalt(BK35),3),\"\")","v":""},"","","",{"$f":"IF(AZ36=\"\",1, MIN(IFERROR((AZ36/1000)/((AW36*$J$22)*$J$21/3600),1),IFERROR((SUMIFS(AZ11:AZ45,AV11:AV45,\"<=\"&$AV36,AV11:AV45,\">=\"&$AV36-1)/1000)/(  $J$22*SUMIFS(AW11:AW45,AV11:AV45,\"<=\"&$AV36,AV11:AV45,\">=\"&$AV36-1)*$J$21/3600),1),IFERROR((SUMIFS(AZ11:AZ45,AV11:AV45,\"<=\"&$AV36,AV11:AV45,\">=\"&$AV36-2)/1000)/(  $J$22*SUMIFS(AW11:AW45,AV11:AV45,\"<=\"&$AV36,AV11:AV45,\">=\"&$AV36-2)*$J$21/3600),1),IFERROR((SUMIFS(AZ11:AZ45,AV11:AV45,\"<=\"&$AV36,AV11:AV45,\">=\"&$AV36-3)/1000)/(  $J$22*SUMIFS(AW11:AW45,AV11:AV45,\"<=\"&$AV36,AV11:AV45,\">=\"&$AV36-3)*$J$21/3600),1)) )","v":1},"",{"$f":"IF(AZ36=\"\",1, MIN($AZ36/SUM($AZ11:$AZ36),SUMIFS(AZ11:AZ45,AV11:AV45,\">=\"&$AV36-1,AV11:AV45,\"<=\"&$AV36)/SUM($AZ11:$AZ36),SUMIFS(AZ11:AZ45,AV11:AV45,\">=\"&$AV36-2,AV11:AV45,\"<=\"&$AV36)/SUM($AZ11:$AZ36),SUMIFS(AZ11:AZ45,AV11:AV45,\">=\"&$AV36-3,AV11:AV45,\"<=\"&$AV36)/SUM($AZ11:$AZ36)) )","v":1},null,26,"","","","","","","","",{"$f":"IFERROR(astm(highwayfuf(CC36)-highwayfuf(CC35),3),\"\")","v":""},"","","","","","",{"$f":"IFERROR(astm(mdiuf(CL36)-mdiuf(CL35),3),\"\")","v":""},"","",{"$f":"IFERROR(astm(highwayfufalt(CL36)-highwayfufalt(CL35),3),\"\")","v":""},"","","",{"$f":"IF(CA36=\"\",1, MIN(IFERROR((CA36/1000)/((BX36*$J$22)*$J$21/3600),1),IFERROR((SUMIFS(CA11:CA45,BW11:BW45,\"<=\"&$BW36,BW11:BW45,\">=\"&$BW36-1)/1000)/(  $J$22*SUMIFS(BX11:BX45,BW11:BW45,\"<=\"&$BW36,BW11:BW45,\">=\"&$BW36-1)*$J$21/3600),1),IFERROR((SUMIFS(CA11:CA45,BW11:BW45,\"<=\"&$BW36,BW11:BW45,\">=\"&$BW36-2)/1000)/(  $J$22*SUMIFS(BX11:BX45,BW11:BW45,\"<=\"&$BW36,BW11:BW45,\">=\"&$BW36-2)*$J$21/3600),1),IFERROR((SUMIFS(CA11:CA45,BW11:BW45,\"<=\"&$BW36,BW11:BW45,\">=\"&$BW36-3)/1000)/(  $J$22*SUMIFS(BX11:BX45,BW11:BW45,\"<=\"&$BW36,BW11:BW45,\">=\"&$BW36-3)*$J$21/3600),1)) )","v":1},"",{"$f":"IF(CA36=\"\",1, MIN($CA36/SUM($CA11:$CA36),SUMIFS(CA11:CA45,BW11:BW45,\">=\"&$BW36-1,BW11:BW45,\"<=\"&$BW36)/SUM($CA11:$CA36),SUMIFS(CA11:CA45,BW11:BW45,\">=\"&$BW36-2,BW11:BW45,\"<=\"&$BW36)/SUM($CA11:$CA36),SUMIFS(CA11:CA45,BW11:BW45,\">=\"&$BW36-3,BW11:BW45,\"<=\"&$BW36)/SUM($CA11:$CA36)) )","v":1}]
[null,null,"Electricity cost ($/kW-hour)",null,null,{"$f":"INDEX('Label Inputs'!C5:K14,MATCH(J5,'Label Inputs'!B5:B14,0),MATCH(\"Electricity\",'Label Inputs'!C4:K4,0))","v":{"$error":"#N/A"}},null,null,null,null,null,null,null,null,null,null,27,null,null,null,null,null,null,null,27,null,null,null,null,null,null,null,null,null,"Adjusted GHG (g/mi) [1]",{"$f":"IFERROR(astm(  AQ28    +(1-AJ33)*astm(N15,1),1),0)","v":0},{"$f":"IFERROR(astm(  AR28    +(1-AK33)*astm(O15,1),1),0)","v":0},{"$f":"IFERROR(astm(0.55*AJ37+0.45*AK37,1),0)","v":0},null,null,null,"CD Equivalent All-Electric Range (EAER), Unadjusted (mi) [3]",{"$f":"astm(AQ6*((N14-AQ24)/N14),3)","v":{"$error":"#VALUE!"}},{"$f":"astm(AR6*((O14-AR24)/O14),3)","v":{"$error":"#VALUE!"}},null,null,null,27,"","","","",{"$f":"IFERROR(astm(  astm($W$46,3)*1000*(AZ37/AQ13),1),\"\")","v":""},"","","",{"$f":"IFERROR(astm(cityfuf(BB37),3)-astm(cityfuf(BB36),3),\"\")","v":""},"","","","","","",{"$f":"IFERROR(astm(mdiuf(BK37),3)-astm(mdiuf(BK36),3),\"\")","v":""},"","",{"$f":"IFERROR(astm(cityfufalt(BK37),3)-astm(cityfufalt(BK36),3),\"\")","v":""},"","","",{"$f":"IF(AZ37=\"\",1, MIN(IFERROR((AZ37/1000)/((AW37*$J$22)*$J$21/3600),1),IFERROR((SUMIFS(AZ11:AZ45,AV11:AV45,\"<=\"&$AV37,AV11:AV45,\">=\"&$AV37-1)/1000)/(  $J$22*SUMIFS(AW11:AW45,AV11:AV45,\"<=\"&$AV37,AV11:AV45,\">=\"&$AV37-1)*$J$21/3600),1),IFERROR((SUMIFS(AZ11:AZ45,AV11:AV45,\"<=\"&$AV37,AV11:AV45,\">=\"&$AV37-2)/1000)/(  $J$22*SUMIFS(AW11:AW45,AV11:AV45,\"<=\"&$AV37,AV11:AV45,\">=\"&$AV37-2)*$J$21/3600),1),IFERROR((SUMIFS(AZ11:AZ45,AV11:AV45,\"<=\"&$AV37,AV11:AV45,\">=\"&$AV37-3)/1000)/(  $J$22*SUMIFS(AW11:AW45,AV11:AV45,\"<=\"&$AV37,AV11:AV45,\">=\"&$AV37-3)*$J$21/3600),1)) )","v":1},"",{"$f":"IF(AZ37=\"\",1, MIN($AZ37/SUM($AZ11:$AZ37),SUMIFS(AZ11:AZ45,AV11:AV45,\">=\"&$AV37-1,AV11:AV45,\"<=\"&$AV37)/SUM($AZ11:$AZ37),SUMIFS(AZ11:AZ45,AV11:AV45,\">=\"&$AV37-2,AV11:AV45,\"<=\"&$AV37)/SUM($AZ11:$AZ37),SUMIFS(AZ11:AZ45,AV11:AV45,\">=\"&$AV37-3,AV11:AV45,\"<=\"&$AV37)/SUM($AZ11:$AZ37)) )","v":1},null,27,"","","","","","","","",{"$f":"IFERROR(astm(highwayfuf(CC37)-highwayfuf(CC36),3),\"\")","v":""},"","","","","","",{"$f":"IFERROR(astm(mdiuf(CL37)-mdiuf(CL36),3),\"\")","v":""},"","",{"$f":"IFERROR(astm(highwayfufalt(CL37)-highwayfufalt(CL36),3),\"\")","v":""},"","","",{"$f":"IF(CA37=\"\",1, MIN(IFERROR((CA37/1000)/((BX37*$J$22)*$J$21/3600),1),IFERROR((SUMIFS(CA11:CA45,BW11:BW45,\"<=\"&$BW37,BW11:BW45,\">=\"&$BW37-1)/1000)/(  $J$22*SUMIFS(BX11:BX45,BW11:BW45,\"<=\"&$BW37,BW11:BW45,\">=\"&$BW37-1)*$J$21/3600),1),IFERROR((SUMIFS(CA11:CA45,BW11:BW45,\"<=\"&$BW37,BW11:BW45,\">=\"&$BW37-2)/1000)/(  $J$22*SUMIFS(BX11:BX45,BW11:BW45,\"<=\"&$BW37,BW11:BW45,\">=\"&$BW37-2)*$J$21/3600),1),IFERROR((SUMIFS(CA11:CA45,BW11:BW45,\"<=\"&$BW37,BW11:BW45,\">=\"&$BW37-3)/1000)/(  $J$22*SUMIFS(BX11:BX45,BW11:BW45,\"<=\"&$BW37,BW11:BW45,\">=\"&$BW37-3)*$J$21/3600),1)) )","v":1},"",{"$f":"IF(CA37=\"\",1, MIN($CA37/SUM($CA11:$CA37),SUMIFS(CA11:CA45,BW11:BW45,\">=\"&$BW37-1,BW11:BW45,\"<=\"&$BW37)/SUM($CA11:$CA37),SUMIFS(CA11:CA45,BW11:BW45,\">=\"&$BW37-2,BW11:BW45,\"<=\"&$BW37)/SUM($CA11:$CA37),SUMIFS(CA11:CA45,BW11:BW45,\">=\"&$BW37-3,BW11:BW45,\"<=\"&$BW37)/SUM($CA11:$CA37)) )","v":1}]
[null,null,"Average vehicle 5-year cost ($)",null,null,{"$f":"VLOOKUP(J5,'Label Inputs'!R4:S14,2,FALSE)","v":{"$error":"#N/A"}},null,null,null,null,null,null,null,null,null,null,28,null,null,null,null,null,null,null,28,null,null,null,null,null,null,null,null,null,null,null,null,null,null,null,null,"Charge-sustaining driving range, adjusted (mi) [3]",{"$f":"IFERROR(astm((astm($J$11,1)-AQ18)*astm(N12,4),3),0)","v":0},{"$f":"IFERROR(astm((astm($J$11,1)-AR18)*astm(O12,4),3),0)","v":0},null,null,null,28,"","","","",{"$f":"IFERROR(astm(  astm($W$46,3)*1000*(AZ38/AQ13),1),\"\")","v":""},"","","",{"$f":"IFERROR(astm(cityfuf(BB38),3)-astm(cityfuf(BB37),3),\"\")","v":""},"","","","","","",{"$f":"IFERROR(astm(mdiuf(BK38),3)-astm(mdiuf(BK37),3),\"\")","v":""},"","",{"$f":"IFERROR(astm(cityfufalt(BK38),3)-astm(cityfufalt(BK37),3),\"\")","v":""},"","","",{"$f":"IF(AZ38=\"\",1, MIN(IFERROR((AZ38/1000)/((AW38*$J$22)*$J$21/3600),1),IFERROR((SUMIFS(AZ11:AZ45,AV11:AV45,\"<=\"&$AV38,AV11:AV45,\">=\"&$AV38-1)/1000)/(  $J$22*SUMIFS(AW11:AW45,AV11:AV45,\"<=\"&$AV38,AV11:AV45,\">=\"&$AV38-1)*$J$21/3600),1),IFERROR((SUMIFS(AZ11:AZ45,AV11:AV45,\"<=\"&$AV38,AV11:AV45,\">=\"&$AV38-2)/1000)/(  $J$22*SUMIFS(AW11:AW45,AV11:AV45,\"<=\"&$AV38,AV11:AV45,\">=\"&$AV38-2)*$J$21/3600),1),IFERROR((SUMIFS(AZ11:AZ45,AV11:AV45,\"<=\"&$AV38,AV11:AV45,\">=\"&$AV38-3)/1000)/(  $J$22*SUMIFS(AW11:AW45,AV11:AV45,\"<=\"&$AV38,AV11:AV45,\">=\"&$AV38-3)*$J$21/3600),1)) )","v":1},"",{"$f":"IF(AZ38=\"\",1, MIN($AZ38/SUM($AZ11:$AZ38),SUMIFS(AZ11:AZ45,AV11:AV45,\">=\"&$AV38-1,AV11:AV45,\"<=\"&$AV38)/SUM($AZ11:$AZ38),SUMIFS(AZ11:AZ45,AV11:AV45,\">=\"&$AV38-2,AV11:AV45,\"<=\"&$AV38)/SUM($AZ11:$AZ38),SUMIFS(AZ11:AZ45,AV11:AV45,\">=\"&$AV38-3,AV11:AV45,\"<=\"&$AV38)/SUM($AZ11:$AZ38)) )","v":1},null,28,"","","","","","","","",{"$f":"IFERROR(astm(highwayfuf(CC38)-highwayfuf(CC37),3),\"\")","v":""},"","","","","","",{"$f":"IFERROR(astm(mdiuf(CL38)-mdiuf(CL37),3),\"\")","v":""},"","",{"$f":"IFERROR(astm(highwayfufalt(CL38)-highwayfufalt(CL37),3),\"\")","v":""},"","","",{"$f":"IF(CA38=\"\",1, MIN(IFERROR((CA38/1000)/((BX38*$J$22)*$J$21/3600),1),IFERROR((SUMIFS(CA11:CA45,BW11:BW45,\"<=\"&$BW38,BW11:BW45,\">=\"&$BW38-1)/1000)/(  $J$22*SUMIFS(BX11:BX45,BW11:BW45,\"<=\"&$BW38,BW11:BW45,\">=\"&$BW38-1)*$J$21/3600),1),IFERROR((SUMIFS(CA11:CA45,BW11:BW45,\"<=\"&$BW38,BW11:BW45,\">=\"&$BW38-2)/1000)/(  $J$22*SUMIFS(BX11:BX45,BW11:BW45,\"<=\"&$BW38,BW11:BW45,\">=\"&$BW38-2)*$J$21/3600),1),IFERROR((SUMIFS(CA11:CA45,BW11:BW45,\"<=\"&$BW38,BW11:BW45,\">=\"&$BW38-3)/1000)/(  $J$22*SUMIFS(BX11:BX45,BW11:BW45,\"<=\"&$BW38,BW11:BW45,\">=\"&$BW38-3)*$J$21/3600),1)) )","v":1},"",{"$f":"IF(CA38=\"\",1, MIN($CA38/SUM($CA11:$CA38),SUMIFS(CA11:CA45,BW11:BW45,\">=\"&$BW38-1,BW11:BW45,\"<=\"&$BW38)/SUM($CA11:$CA38),SUMIFS(CA11:CA45,BW11:BW45,\">=\"&$BW38-2,BW11:BW45,\"<=\"&$BW38)/SUM($CA11:$CA38),SUMIFS(CA11:CA45,BW11:BW45,\">=\"&$BW38-3,BW11:BW45,\"<=\"&$BW38)/SUM($CA11:$CA38)) )","v":1}]
[null,null,"Average vehicle MPG",null,null,{"$f":"VLOOKUP(J5,'Label Inputs'!M4:N14,2,FALSE)","v":{"$error":"#N/A"}},null,null,null,null,null,null,null,null,null,null,29,null,null,null,null,null,null,null,29,null,null,null,null,null,null,null,null,null,null,null,null,null,null,null,null,"UTILITY FACTORS & OTHER METRICS","CITY","HIGHWAY",null,null,null,29,"","","","",{"$f":"IFERROR(astm(  astm($W$46,3)*1000*(AZ39/AQ13),1),\"\")","v":""},"","","",{"$f":"IFERROR(astm(cityfuf(BB39),3)-astm(cityfuf(BB38),3),\"\")","v":""},"","","","","","",{"$f":"IFERROR(astm(mdiuf(BK39),3)-astm(mdiuf(BK38),3),\"\")","v":""},"","",{"$f":"IFERROR(astm(cityfufalt(BK39),3)-astm(cityfufalt(BK38),3),\"\")","v":""},"","","",{"$f":"IF(AZ39=\"\",1, MIN(IFERROR((AZ39/1000)/((AW39*$J$22)*$J$21/3600),1),IFERROR((SUMIFS(AZ11:AZ45,AV11:AV45,\"<=\"&$AV39,AV11:AV45,\">=\"&$AV39-1)/1000)/(  $J$22*SUMIFS(AW11:AW45,AV11:AV45,\"<=\"&$AV39,AV11:AV45,\">=\"&$AV39-1)*$J$21/3600),1),IFERROR((SUMIFS(AZ11:AZ45,AV11:AV45,\"<=\"&$AV39,AV11:AV45,\">=\"&$AV39-2)/1000)/(  $J$22*SUMIFS(AW11:AW45,AV11:AV45,\"<=\"&$AV39,AV11:AV45,\">=\"&$AV39-2)*$J$21/3600),1),IFERROR((SUMIFS(AZ11:AZ45,AV11:AV45,\"<=\"&$AV39,AV11:AV45,\">=\"&$AV39-3)/1000)/(  $J$22*SUMIFS(AW11:AW45,AV11:AV45,\"<=\"&$AV39,AV11:AV45,\">=\"&$AV39-3)*$J$21/3600),1)) )","v":1},"",{"$f":"IF(AZ39=\"\",1, MIN($AZ39/SUM($AZ11:$AZ39),SUMIFS(AZ11:AZ45,AV11:AV45,\">=\"&$AV39-1,AV11:AV45,\"<=\"&$AV39)/SUM($AZ11:$AZ39),SUMIFS(AZ11:AZ45,AV11:AV45,\">=\"&$AV39-2,AV11:AV45,\"<=\"&$AV39)/SUM($AZ11:$AZ39),SUMIFS(AZ11:AZ45,AV11:AV45,\">=\"&$AV39-3,AV11:AV45,\"<=\"&$AV39)/SUM($AZ11:$AZ39)) )","v":1},null,29,"","","","","","","","",{"$f":"IFERROR(astm(highwayfuf(CC39)-highwayfuf(CC38),3),\"\")","v":""},"","","","","","",{"$f":"IFERROR(astm(mdiuf(CL39)-mdiuf(CL38),3),\"\")","v":""},"","",{"$f":"IFERROR(astm(highwayfufalt(CL39)-highwayfufalt(CL38),3),\"\")","v":""},"","","",{"$f":"IF(CA39=\"\",1, MIN(IFERROR((CA39/1000)/((BX39*$J$22)*$J$21/3600),1),IFERROR((SUMIFS(CA11:CA45,BW11:BW45,\"<=\"&$BW39,BW11:BW45,\">=\"&$BW39-1)/1000)/(  $J$22*SUMIFS(BX11:BX45,BW11:BW45,\"<=\"&$BW39,BW11:BW45,\">=\"&$BW39-1)*$J$21/3600),1),IFERROR((SUMIFS(CA11:CA45,BW11:BW45,\"<=\"&$BW39,BW11:BW45,\">=\"&$BW39-2)/1000)/(  $J$22*SUMIFS(BX11:BX45,BW11:BW45,\"<=\"&$BW39,BW11:BW45,\">=\"&$BW39-2)*$J$21/3600),1),IFERROR((SUMIFS(CA11:CA45,BW11:BW45,\"<=\"&$BW39,BW11:BW45,\">=\"&$BW39-3)/1000)/(  $J$22*SUMIFS(BX11:BX45,BW11:BW45,\"<=\"&$BW39,BW11:BW45,\">=\"&$BW39-3)*$J$21/3600),1)) )","v":1},"",{"$f":"IF(CA39=\"\",1, MIN($CA39/SUM($CA11:$CA39),SUMIFS(CA11:CA45,BW11:BW45,\">=\"&$BW39-1,BW11:BW45,\"<=\"&$BW39)/SUM($CA11:$CA39),SUMIFS(CA11:CA45,BW11:BW45,\">=\"&$BW39-2,BW11:BW45,\"<=\"&$BW39)/SUM($CA11:$CA39),SUMIFS(CA11:CA45,BW11:BW45,\">=\"&$BW39-3,BW11:BW45,\"<=\"&$BW39)/SUM($CA11:$CA39)) )","v":1}]
[null,null,null,null,null,null,null,null,null,null,null,null,null,null,null,null,30,null,null,null,null,null,null,null,30,null,null,null,null,null,null,null,null,null,null,null,null,null,null,null,null,"CD 55/45 Fleet Utility Factor (FUF) for EAER [3]",{"$f":"astm(cityfuf(AQ37),3)","v":{"$error":"#VALUE!"}},{"$f":"astm(highwayfuf(AR37),3)","v":{"$error":"#VALUE!"}},null,null,null,30,"","","","",{"$f":"IFERROR(astm(  astm($W$46,3)*1000*(AZ40/AQ13),1),\"\")","v":""},"","","",{"$f":"IFERROR(astm(cityfuf(BB40),3)-astm(cityfuf(BB39),3),\"\")","v":""},"","","","","","",{"$f":"IFERROR(astm(mdiuf(BK40),3)-astm(mdiuf(BK39),3),\"\")","v":""},"","",{"$f":"IFERROR(astm(cityfufalt(BK40),3)-astm(cityfufalt(BK39),3),\"\")","v":""},"","","",{"$f":"IF(AZ40=\"\",1, MIN(IFERROR((AZ40/1000)/((AW40*$J$22)*$J$21/3600),1),IFERROR((SUMIFS(AZ11:AZ45,AV11:AV45,\"<=\"&$AV40,AV11:AV45,\">=\"&$AV40-1)/1000)/(  $J$22*SUMIFS(AW11:AW45,AV11:AV45,\"<=\"&$AV40,AV11:AV45,\">=\"&$AV40-1)*$J$21/3600),1),IFERROR((SUMIFS(AZ11:AZ45,AV11:AV45,\"<=\"&$AV40,AV11:AV45,\">=\"&$AV40-2)/1000)/(  $J$22*SUMIFS(AW11:AW45,AV11:AV45,\"<=\"&$AV40,AV11:AV45,\">=\"&$AV40-2)*$J$21/3600),1),IFERROR((SUMIFS(AZ11:AZ45,AV11:AV45,\"<=\"&$AV40,AV11:AV45,\">=\"&$AV40-3)/1000)/(  $J$22*SUMIFS(AW11:AW45,AV11:AV45,\"<=\"&$AV40,AV11:AV45,\">=\"&$AV40-3)*$J$21/3600),1)) )","v":1},"",{"$f":"IF(AZ40=\"\",1, MIN($AZ40/SUM($AZ11:$AZ40),SUMIFS(AZ11:AZ45,AV11:AV45,\">=\"&$AV40-1,AV11:AV45,\"<=\"&$AV40)/SUM($AZ11:$AZ40),SUMIFS(AZ11:AZ45,AV11:AV45,\">=\"&$AV40-2,AV11:AV45,\"<=\"&$AV40)/SUM($AZ11:$AZ40),SUMIFS(AZ11:AZ45,AV11:AV45,\">=\"&$AV40-3,AV11:AV45,\"<=\"&$AV40)/SUM($AZ11:$AZ40)) )","v":1},null,30,"","","","","","","","",{"$f":"IFERROR(astm(highwayfuf(CC40)-highwayfuf(CC39),3),\"\")","v":""},"","","","","","",{"$f":"IFERROR(astm(mdiuf(CL40)-mdiuf(CL39),3),\"\")","v":""},"","",{"$f":"IFERROR(astm(highwayfufalt(CL40)-highwayfufalt(CL39),3),\"\")","v":""},"","","",{"$f":"IF(CA40=\"\",1, MIN(IFERROR((CA40/1000)/((BX40*$J$22)*$J$21/3600),1),IFERROR((SUMIFS(CA11:CA45,BW11:BW45,\"<=\"&$BW40,BW11:BW45,\">=\"&$BW40-1)/1000)/(  $J$22*SUMIFS(BX11:BX45,BW11:BW45,\"<=\"&$BW40,BW11:BW45,\">=\"&$BW40-1)*$J$21/3600),1),IFERROR((SUMIFS(CA11:CA45,BW11:BW45,\"<=\"&$BW40,BW11:BW45,\">=\"&$BW40-2)/1000)/(  $J$22*SUMIFS(BX11:BX45,BW11:BW45,\"<=\"&$BW40,BW11:BW45,\">=\"&$BW40-2)*$J$21/3600),1),IFERROR((SUMIFS(CA11:CA45,BW11:BW45,\"<=\"&$BW40,BW11:BW45,\">=\"&$BW40-3)/1000)/(  $J$22*SUMIFS(BX11:BX45,BW11:BW45,\"<=\"&$BW40,BW11:BW45,\">=\"&$BW40-3)*$J$21/3600),1)) )","v":1},"",{"$f":"IF(CA40=\"\",1, MIN($CA40/SUM($CA11:$CA40),SUMIFS(CA11:CA45,BW11:BW45,\">=\"&$BW40-1,BW11:BW45,\"<=\"&$BW40)/SUM($CA11:$CA40),SUMIFS(CA11:CA45,BW11:BW45,\">=\"&$BW40-2,BW11:BW45,\"<=\"&$BW40)/SUM($CA11:$CA40),SUMIFS(CA11:CA45,BW11:BW45,\">=\"&$BW40-3,BW11:BW45,\"<=\"&$BW40)/SUM($CA11:$CA40)) )","v":1}]
[null,"THE FOLLOWING VALUES ARE USED FOR OTHER EPA PUBLICATIONS OR PROGRAMS",null,null,null,null,null,null,null,null,null,null,null,null,null,null,31,null,null,null,null,null,null,null,31,null,null,null,null,null,null,null,null,null,null,null,null,null,null,null,null,"FUEL COSTS: PROCESS FOR DERIVING A COMPOSITE CD/CS COST PER MILE","CITY","HIGHWAY",null,null,null,31,"","","","",{"$f":"IFERROR(astm(  astm($W$46,3)*1000*(AZ41/AQ13),1),\"\")","v":""},"","","",{"$f":"IFERROR(astm(cityfuf(BB41),3)-astm(cityfuf(BB40),3),\"\")","v":""},"","","","","","",{"$f":"IFERROR(astm(mdiuf(BK41),3)-astm(mdiuf(BK40),3),\"\")","v":""},"","",{"$f":"IFERROR(astm(cityfufalt(BK41),3)-astm(cityfufalt(BK40),3),\"\")","v":""},"","","",{"$f":"IF(AZ41=\"\",1, MIN(IFERROR((AZ41/1000)/((AW41*$J$22)*$J$21/3600),1),IFERROR((SUMIFS(AZ11:AZ45,AV11:AV45,\"<=\"&$AV41,AV11:AV45,\">=\"&$AV41-1)/1000)/(  $J$22*SUMIFS(AW11:AW45,AV11:AV45,\"<=\"&$AV41,AV11:AV45,\">=\"&$AV41-1)*$J$21/3600),1),IFERROR((SUMIFS(AZ11:AZ45,AV11:AV45,\"<=\"&$AV41,AV11:AV45,\">=\"&$AV41-2)/1000)/(  $J$22*SUMIFS(AW11:AW45,AV11:AV45,\"<=\"&$AV41,AV11:AV45,\">=\"&$AV41-2)*$J$21/3600),1),IFERROR((SUMIFS(AZ11:AZ45,AV11:AV45,\"<=\"&$AV41,AV11:AV45,\">=\"&$AV41-3)/1000)/(  $J$22*SUMIFS(AW11:AW45,AV11:AV45,\"<=\"&$AV41,AV11:AV45,\">=\"&$AV41-3)*$J$21/3600),1)) )","v":1},"",{"$f":"IF(AZ41=\"\",1, MIN($AZ41/SUM($AZ11:$AZ41),SUMIFS(AZ11:AZ45,AV11:AV45,\">=\"&$AV41-1,AV11:AV45,\"<=\"&$AV41)/SUM($AZ11:$AZ41),SUMIFS(AZ11:AZ45,AV11:AV45,\">=\"&$AV41-2,AV11:AV45,\"<=\"&$AV41)/SUM($AZ11:$AZ41),SUMIFS(AZ11:AZ45,AV11:AV45,\">=\"&$AV41-3,AV11:AV45,\"<=\"&$AV41)/SUM($AZ11:$AZ41)) )","v":1},null,31,"","","","","","","","",{"$f":"IFERROR(astm(highwayfuf(CC41)-highwayfuf(CC40),3),\"\")","v":""},"","","","","","",{"$f":"IFERROR(astm(mdiuf(CL41)-mdiuf(CL40),3),\"\")","v":""},"","",{"$f":"IFERROR(astm(highwayfufalt(CL41)-highwayfufalt(CL40),3),\"\")","v":""},"","","",{"$f":"IF(CA41=\"\",1, MIN(IFERROR((CA41/1000)/((BX41*$J$22)*$J$21/3600),1),IFERROR((SUMIFS(CA11:CA45,BW11:BW45,\"<=\"&$BW41,BW11:BW45,\">=\"&$BW41-1)/1000)/(  $J$22*SUMIFS(BX11:BX45,BW11:BW45,\"<=\"&$BW41,BW11:BW45,\">=\"&$BW41-1)*$J$21/3600),1),IFERROR((SUMIFS(CA11:CA45,BW11:BW45,\"<=\"&$BW41,BW11:BW45,\">=\"&$BW41-2)/1000)/(  $J$22*SUMIFS(BX11:BX45,BW11:BW45,\"<=\"&$BW41,BW11:BW45,\">=\"&$BW41-2)*$J$21/3600),1),IFERROR((SUMIFS(CA11:CA45,BW11:BW45,\"<=\"&$BW41,BW11:BW45,\">=\"&$BW41-3)/1000)/(  $J$22*SUMIFS(BX11:BX45,BW11:BW45,\"<=\"&$BW41,BW11:BW45,\">=\"&$BW41-3)*$J$21/3600),1)) )","v":1},"",{"$f":"IF(CA41=\"\",1, MIN($CA41/SUM($CA11:$CA41),SUMIFS(CA11:CA45,BW11:BW45,\">=\"&$BW41-1,BW11:BW45,\"<=\"&$BW41)/SUM($CA11:$CA41),SUMIFS(CA11:CA45,BW11:BW45,\">=\"&$BW41-2,BW11:BW45,\"<=\"&$BW41)/SUM($CA11:$CA41),SUMIFS(CA11:CA45,BW11:BW45,\">=\"&$BW41-3,BW11:BW45,\"<=\"&$BW41)/SUM($CA11:$CA41)) )","v":1}]
[null,null,"Trends Report Values","City","Highway",null,null,null,null,null,null,null,null,null,null,null,32,null,null,null,null,null,null,null,32,null,null,null,null,null,null,null,null,null,null,null,null,null,null,null,null,"CD cost per mile - electricity ($/mi) [3]",{"$f":"astm($F$37*$AQ$12/100,3)","v":{"$error":"#VALUE!"}},{"$f":"astm($F$37*$AR$12/100,3)","v":{"$error":"#VALUE!"}},null,null,null,32,"","","","",{"$f":"IFERROR(astm(  astm($W$46,3)*1000*(AZ42/AQ13),1),\"\")","v":""},"","","",{"$f":"IFERROR(astm(cityfuf(BB42),3)-astm(cityfuf(BB41),3),\"\")","v":""},"","","","","","",{"$f":"IFERROR(astm(mdiuf(BK42),3)-astm(mdiuf(BK41),3),\"\")","v":""},"","",{"$f":"IFERROR(astm(cityfufalt(BK42),3)-astm(cityfufalt(BK41),3),\"\")","v":""},"","","",{"$f":"IF(AZ42=\"\",1, MIN(IFERROR((AZ42/1000)/((AW42*$J$22)*$J$21/3600),1),IFERROR((SUMIFS(AZ11:AZ45,AV11:AV45,\"<=\"&$AV42,AV11:AV45,\">=\"&$AV42-1)/1000)/(  $J$22*SUMIFS(AW11:AW45,AV11:AV45,\"<=\"&$AV42,AV11:AV45,\">=\"&$AV42-1)*$J$21/3600),1),IFERROR((SUMIFS(AZ11:AZ45,AV11:AV45,\"<=\"&$AV42,AV11:AV45,\">=\"&$AV42-2)/1000)/(  $J$22*SUMIFS(AW11:AW45,AV11:AV45,\"<=\"&$AV42,AV11:AV45,\">=\"&$AV42-2)*$J$21/3600),1),IFERROR((SUMIFS(AZ11:AZ45,AV11:AV45,\"<=\"&$AV42,AV11:AV45,\">=\"&$AV42-3)/1000)/(  $J$22*SUMIFS(AW11:AW45,AV11:AV45,\"<=\"&$AV42,AV11:AV45,\">=\"&$AV42-3)*$J$21/3600),1)) )","v":1},"",{"$f":"IF(AZ42=\"\",1, MIN($AZ42/SUM($AZ11:$AZ42),SUMIFS(AZ11:AZ45,AV11:AV45,\">=\"&$AV42-1,AV11:AV45,\"<=\"&$AV42)/SUM($AZ11:$AZ42),SUMIFS(AZ11:AZ45,AV11:AV45,\">=\"&$AV42-2,AV11:AV45,\"<=\"&$AV42)/SUM($AZ11:$AZ42),SUMIFS(AZ11:AZ45,AV11:AV45,\">=\"&$AV42-3,AV11:AV45,\"<=\"&$AV42)/SUM($AZ11:$AZ42)) )","v":1},null,32,"","","","","","","","",{"$f":"IFERROR(astm(highwayfuf(CC42)-highwayfuf(CC41),3),\"\")","v":""},"","","","","","",{"$f":"IFERROR(astm(mdiuf(CL42)-mdiuf(CL41),3),\"\")","v":""},"","",{"$f":"IFERROR(astm(highwayfufalt(CL42)-highwayfufalt(CL41),3),\"\")","v":""},"","","",{"$f":"IF(CA42=\"\",1, MIN(IFERROR((CA42/1000)/((BX42*$J$22)*$J$21/3600),1),IFERROR((SUMIFS(CA11:CA45,BW11:BW45,\"<=\"&$BW42,BW11:BW45,\">=\"&$BW42-1)/1000)/(  $J$22*SUMIFS(BX11:BX45,BW11:BW45,\"<=\"&$BW42,BW11:BW45,\">=\"&$BW42-1)*$J$21/3600),1),IFERROR((SUMIFS(CA11:CA45,BW11:BW45,\"<=\"&$BW42,BW11:BW45,\">=\"&$BW42-2)/1000)/(  $J$22*SUMIFS(BX11:BX45,BW11:BW45,\"<=\"&$BW42,BW11:BW45,\">=\"&$BW42-2)*$J$21/3600),1),IFERROR((SUMIFS(CA11:CA45,BW11:BW45,\"<=\"&$BW42,BW11:BW45,\">=\"&$BW42-3)/1000)/(  $J$22*SUMIFS(BX11:BX45,BW11:BW45,\"<=\"&$BW42,BW11:BW45,\">=\"&$BW42-3)*$J$21/3600),1)) )","v":1},"",{"$f":"IF(CA42=\"\",1, MIN($CA42/SUM($CA11:$CA42),SUMIFS(CA11:CA45,BW11:BW45,\">=\"&$BW42-1,BW11:BW45,\"<=\"&$BW42)/SUM($CA11:$CA42),SUMIFS(CA11:CA45,BW11:BW45,\">=\"&$BW42-2,BW11:BW45,\"<=\"&$BW42)/SUM($CA11:$CA42),SUMIFS(CA11:CA45,BW11:BW45,\">=\"&$BW42-3,BW11:BW45,\"<=\"&$BW42)/SUM($CA11:$CA42)) )","v":1}]
[null,null,"Fleet Utility Factor (43/57)",{"$f":"astm(IF($N$7+$N$55+$N$103=0,SUM(IFERROR(AJ33,0),IFERROR(AJ81,0),IFERROR(AJ129,0)) / ((AJ33<>0)+(AJ81<>0)+(AJ129<>0)),($N$7*AJ33+$N$55*AJ81+$N$103*AJ129)/($N$7+$N$55+$N$103)),4)","v":{"$error":"#VALUE!"}},{"$f":"astm(IF($N$7+$N$55+$N$103=0,SUM(IFERROR(AK33,0),IFERROR(AK81,0),IFERROR(AK129,0)) / ((AK33<>0)+(AK81<>0)+(AK129<>0)),($N$7*AK33+$N$55*AK81+$N$103*AK129)/($N$7+$N$55+$N$103)),4)","v":{"$error":"#VALUE!"}},null,null,null,null,null,null,null,null,null,null,null,33,null,null,null,null,null,null,null,33,null,null,null,null,null,null,null,null,null,null,null,null,null,null,null,null,"CD cost per mile - gasoline ($/mi) [3]",{"$f":"astm($F$36*((SUMIF(AV11:AV45,\"<=\" & (AQ34-1),AW11:AW45) + AQ33*SUMIF(AV11:AV45,\"=\" & (AQ34-1),AW11:AW45))/AQ7),3)","v":{"$error":"#VALUE!"}},{"$f":"astm($F$36*((SUMIF(BW11:BW45,\"<=\" & (AR34-1),BX11:BX45) + AR33*SUMIF(BW11:BW45,\"=\" & (AR34-1),BX11:BX45))/AR7),3)","v":{"$error":"#VALUE!"}},null,null,null,33,"","","","",{"$f":"IFERROR(astm(  astm($W$46,3)*1000*(AZ43/AQ13),1),\"\")","v":""},"","","",{"$f":"IFERROR(astm(cityfuf(BB43),3)-astm(cityfuf(BB42),3),\"\")","v":""},"","","","","","",{"$f":"IFERROR(astm(mdiuf(BK43),3)-astm(mdiuf(BK42),3),\"\")","v":""},"","",{"$f":"IFERROR(astm(cityfufalt(BK43),3)-astm(cityfufalt(BK42),3),\"\")","v":""},"","","",{"$f":"IF(AZ43=\"\",1, MIN(IFERROR((AZ43/1000)/((AW43*$J$22)*$J$21/3600),1),IFERROR((SUMIFS(AZ11:AZ45,AV11:AV45,\"<=\"&$AV43,AV11:AV45,\">=\"&$AV43-1)/1000)/(  $J$22*SUMIFS(AW11:AW45,AV11:AV45,\"<=\"&$AV43,AV11:AV45,\">=\"&$AV43-1)*$J$21/3600),1),IFERROR((SUMIFS(AZ11:AZ45,AV11:AV45,\"<=\"&$AV43,AV11:AV45,\">=\"&$AV43-2)/1000)/(  $J$22*SUMIFS(AW11:AW45,AV11:AV45,\"<=\"&$AV43,AV11:AV45,\">=\"&$AV43-2)*$J$21/3600),1),IFERROR((SUMIFS(AZ11:AZ45,AV11:AV45,\"<=\"&$AV43,AV11:AV45,\">=\"&$AV43-3)/1000)/(  $J$22*SUMIFS(AW11:AW45,AV11:AV45,\"<=\"&$AV43,AV11:AV45,\">=\"&$AV43-3)*$J$21/3600),1)) )","v":1},"",{"$f":"IF(AZ43=\"\",1, MIN($AZ43/SUM($AZ11:$AZ43),SUMIFS(AZ11:AZ45,AV11:AV45,\">=\"&$AV43-1,AV11:AV45,\"<=\"&$AV43)/SUM($AZ11:$AZ43),SUMIFS(AZ11:AZ45,AV11:AV45,\">=\"&$AV43-2,AV11:AV45,\"<=\"&$AV43)/SUM($AZ11:$AZ43),SUMIFS(AZ11:AZ45,AV11:AV45,\">=\"&$AV43-3,AV11:AV45,\"<=\"&$AV43)/SUM($AZ11:$AZ43)) )","v":1},null,33,"","","","","","","","",{"$f":"IFERROR(astm(highwayfuf(CC43)-highwayfuf(CC42),3),\"\")","v":""},"","","","","","",{"$f":"IFERROR(astm(mdiuf(CL43)-mdiuf(CL42),3),\"\")","v":""},"","",{"$f":"IFERROR(astm(highwayfufalt(CL43)-highwayfufalt(CL42),3),\"\")","v":""},"","","",{"$f":"IF(CA43=\"\",1, MIN(IFERROR((CA43/1000)/((BX43*$J$22)*$J$21/3600),1),IFERROR((SUMIFS(CA11:CA45,BW11:BW45,\"<=\"&$BW43,BW11:BW45,\">=\"&$BW43-1)/1000)/(  $J$22*SUMIFS(BX11:BX45,BW11:BW45,\"<=\"&$BW43,BW11:BW45,\">=\"&$BW43-1)*$J$21/3600),1),IFERROR((SUMIFS(CA11:CA45,BW11:BW45,\"<=\"&$BW43,BW11:BW45,\">=\"&$BW43-2)/1000)/(  $J$22*SUMIFS(BX11:BX45,BW11:BW45,\"<=\"&$BW43,BW11:BW45,\">=\"&$BW43-2)*$J$21/3600),1),IFERROR((SUMIFS(CA11:CA45,BW11:BW45,\"<=\"&$BW43,BW11:BW45,\">=\"&$BW43-3)/1000)/(  $J$22*SUMIFS(BX11:BX45,BW11:BW45,\"<=\"&$BW43,BW11:BW45,\">=\"&$BW43-3)*$J$21/3600),1)) )","v":1},"",{"$f":"IF(CA43=\"\",1, MIN($CA43/SUM($CA11:$CA43),SUMIFS(CA11:CA45,BW11:BW45,\">=\"&$BW43-1,BW11:BW45,\"<=\"&$BW43)/SUM($CA11:$CA43),SUMIFS(CA11:CA45,BW11:BW45,\">=\"&$BW43-2,BW11:BW45,\"<=\"&$BW43)/SUM($CA11:$CA43),SUMIFS(CA11:CA45,BW11:BW45,\">=\"&$BW43-3,BW11:BW45,\"<=\"&$BW43)/SUM($CA11:$CA43)) )","v":1}]
[null,null,"Unadjusted Fuel Economy (MPG)",{"$f":"astm(IF($N$7+$N$55+$N$103=0,    ((AJ34<>0)+(AJ82<>0)+(AJ130<>0))/(IFERROR(1/AJ34,0)+IFERROR(1/AJ82,0)+IFERROR(1/AJ130,0)),    ($N$7+$N$55+$N$103) / (IFERROR($N$7/AJ34,0)+IFERROR($N$55/AJ82,0)+IFERROR($N$103/AJ130,0))  ),4)","v":{"$error":"#VALUE!"}},{"$f":"astm(IF($N$7+$N$55+$N$103=0,    ((AK34<>0)+(AK82<>0)+(AK130<>0))/(IFERROR(1/AK34,0)+IFERROR(1/AK82,0)+IFERROR(1/AK130,0)),    ($N$7+$N$55+$N$103) / (IFERROR($N$7/AK34,0)+IFERROR($N$55/AK82,0)+IFERROR($N$103/AK130,0))  ),4)","v":{"$error":"#VALUE!"}},null,null,null,null,null,null,null,null,null,null,null,34,null,null,null,null,null,null,null,34,null,null,null,null,null,null,null,null,null,null,null,null,null,null,null,null,"CD total cost per mile ($/mi) [3]",{"$f":"astm(AQ43+AQ42,3)","v":{"$error":"#VALUE!"}},{"$f":"astm(AR43+AR42,3)","v":{"$error":"#VALUE!"}},null,null,null,34,"","","","",{"$f":"IFERROR(astm(  astm($W$46,3)*1000*(AZ44/AQ13),1),\"\")","v":""},"","","",{"$f":"IFERROR(astm(cityfuf(BB44),3)-astm(cityfuf(BB43),3),\"\")","v":""},"","","","","","",{"$f":"IFERROR(astm(mdiuf(BK44),3)-astm(mdiuf(BK43),3),\"\")","v":""},"","",{"$f":"IFERROR(astm(cityfufalt(BK44),3)-astm(cityfufalt(BK43),3),\"\")","v":""},"","","",{"$f":"IF(AZ44=\"\",1, MIN(IFERROR((AZ44/1000)/((AW44*$J$22)*$J$21/3600),1),IFERROR((SUMIFS(AZ11:AZ45,AV11:AV45,\"<=\"&$AV44,AV11:AV45,\">=\"&$AV44-1)/1000)/(  $J$22*SUMIFS(AW11:AW45,AV11:AV45,\"<=\"&$AV44,AV11:AV45,\">=\"&$AV44-1)*$J$21/3600),1),IFERROR((SUMIFS(AZ11:AZ45,AV11:AV45,\"<=\"&$AV44,AV11:AV45,\">=\"&$AV44-2)/1000)/(  $J$22*SUMIFS(AW11:AW45,AV11:AV45,\"<=\"&$AV44,AV11:AV45,\">=\"&$AV44-2)*$J$21/3600),1),IFERROR((SUMIFS(AZ11:AZ45,AV11:AV45,\"<=\"&$AV44,AV11:AV45,\">=\"&$AV44-3)/1000)/(  $J$22*SUMIFS(AW11:AW45,AV11:AV45,\"<=\"&$AV44,AV11:AV45,\">=\"&$AV44-3)*$J$21/3600),1)) )","v":1},"",{"$f":"IF(AZ44=\"\",1, MIN($AZ44/SUM($AZ11:$AZ44),SUMIFS(AZ11:AZ45,AV11:AV45,\">=\"&$AV44-1,AV11:AV45,\"<=\"&$AV44)/SUM($AZ11:$AZ44),SUMIFS(AZ11:AZ45,AV11:AV45,\">=\"&$AV44-2,AV11:AV45,\"<=\"&$AV44)/SUM($AZ11:$AZ44),SUMIFS(AZ11:AZ45,AV11:AV45,\">=\"&$AV44-3,AV11:AV45,\"<=\"&$AV44)/SUM($AZ11:$AZ44)) )","v":1},null,34,"","","","","","","","",{"$f":"IFERROR(astm(highwayfuf(CC44)-highwayfuf(CC43),3),\"\")","v":""},"","","","","","",{"$f":"IFERROR(astm(mdiuf(CL44)-mdiuf(CL43),3),\"\")","v":""},"","",{"$f":"IFERROR(astm(highwayfufalt(CL44)-highwayfufalt(CL43),3),\"\")","v":""},"","","",{"$f":"IF(CA44=\"\",1, MIN(IFERROR((CA44/1000)/((BX44*$J$22)*$J$21/3600),1),IFERROR((SUMIFS(CA11:CA45,BW11:BW45,\"<=\"&$BW44,BW11:BW45,\">=\"&$BW44-1)/1000)/(  $J$22*SUMIFS(BX11:BX45,BW11:BW45,\"<=\"&$BW44,BW11:BW45,\">=\"&$BW44-1)*$J$21/3600),1),IFERROR((SUMIFS(CA11:CA45,BW11:BW45,\"<=\"&$BW44,BW11:BW45,\">=\"&$BW44-2)/1000)/(  $J$22*SUMIFS(BX11:BX45,BW11:BW45,\"<=\"&$BW44,BW11:BW45,\">=\"&$BW44-2)*$J$21/3600),1),IFERROR((SUMIFS(CA11:CA45,BW11:BW45,\"<=\"&$BW44,BW11:BW45,\">=\"&$BW44-3)/1000)/(  $J$22*SUMIFS(BX11:BX45,BW11:BW45,\"<=\"&$BW44,BW11:BW45,\">=\"&$BW44-3)*$J$21/3600),1)) )","v":1},"",{"$f":"IF(CA44=\"\",1, MIN($CA44/SUM($CA11:$CA44),SUMIFS(CA11:CA45,BW11:BW45,\">=\"&$BW44-1,BW11:BW45,\"<=\"&$BW44)/SUM($CA11:$CA44),SUMIFS(CA11:CA45,BW11:BW45,\">=\"&$BW44-2,BW11:BW45,\"<=\"&$BW44)/SUM($CA11:$CA44),SUMIFS(CA11:CA45,BW11:BW45,\">=\"&$BW44-3,BW11:BW45,\"<=\"&$BW44)/SUM($CA11:$CA44)) )","v":1}]
[null,null,"Unadjusted GHG (g/mi)",{"$f":"astm(IFERROR(IF($N$7+$N$55+$N$103=0,SUM(IFERROR(AJ35,0),IFERROR(AJ83,0),IFERROR(AJ131,0)) / ((AJ35<>0)+(AJ83<>0)+(AJ131<>0)),($N$7*AJ35+$N$55*AJ83+$N$103*AJ131)/($N$7+$N$55+$N$103)),\"CREE data error\"),1)","v":{"$error":"#VALUE!"}},{"$f":"astm(IFERROR(IF($N$7+$N$55+$N$103=0,SUM(IFERROR(AK35,0),IFERROR(AK83,0),IFERROR(AK131,0)) / ((AK35<>0)+(AK83<>0)+(AK131<>0)),($N$7*AK35+$N$55*AK83+$N$103*AK131)/($N$7+$N$55+$N$103)),\"CREE data error\"),1)","v":{"$error":"#VALUE!"}},null,null,null,null,null,null,null,null,null,null,null,35,null,null,null,null,null,null,null,35,null,null,null,null,null,null,null,null,null,null,null,null,null,null,null,null,"CS cost per mile ($/mi) [3]",{"$f":"astm($F$36/astm(N12,4),3)","v":{"$error":"#VALUE!"}},{"$f":"astm($F$36/astm(O12,4),3)","v":{"$error":"#VALUE!"}},null,null,null,35,"","","","",{"$f":"IFERROR(astm(  astm($W$46,3)*1000*(AZ45/AQ13),1),\"\")","v":""},"","","",{"$f":"IFERROR(astm(cityfuf(BB45),3)-astm(cityfuf(BB44),3),\"\")","v":""},"","","","","","",{"$f":"IFERROR(astm(mdiuf(BK45),3)-astm(mdiuf(BK44),3),\"\")","v":""},"","",{"$f":"IFERROR(astm(cityfufalt(BK45),3)-astm(cityfufalt(BK44),3),\"\")","v":""},"","","",{"$f":"IF(AZ45=\"\",1, MIN(IFERROR((AZ45/1000)/((AW45*$J$22)*$J$21/3600),1),IFERROR((SUMIFS(AZ11:AZ45,AV11:AV45,\"<=\"&$AV45,AV11:AV45,\">=\"&$AV45-1)/1000)/(  $J$22*SUMIFS(AW11:AW45,AV11:AV45,\"<=\"&$AV45,AV11:AV45,\">=\"&$AV45-1)*$J$21/3600),1),IFERROR((SUMIFS(AZ11:AZ45,AV11:AV45,\"<=\"&$AV45,AV11:AV45,\">=\"&$AV45-2)/1000)/(  $J$22*SUMIFS(AW11:AW45,AV11:AV45,\"<=\"&$AV45,AV11:AV45,\">=\"&$AV45-2)*$J$21/3600),1),IFERROR((SUMIFS(AZ11:AZ45,AV11:AV45,\"<=\"&$AV45,AV11:AV45,\">=\"&$AV45-3)/1000)/(  $J$22*SUMIFS(AW11:AW45,AV11:AV45,\"<=\"&$AV45,AV11:AV45,\">=\"&$AV45-3)*$J$21/3600),1)) )","v":1},"",{"$f":"IF(AZ45=\"\",1, MIN($AZ45/SUM($AZ11:$AZ45),SUMIFS(AZ11:AZ45,AV11:AV45,\">=\"&$AV45-1,AV11:AV45,\"<=\"&$AV45)/SUM($AZ11:$AZ45),SUMIFS(AZ11:AZ45,AV11:AV45,\">=\"&$AV45-2,AV11:AV45,\"<=\"&$AV45)/SUM($AZ11:$AZ45),SUMIFS(AZ11:AZ45,AV11:AV45,\">=\"&$AV45-3,AV11:AV45,\"<=\"&$AV45)/SUM($AZ11:$AZ45)) )","v":1},null,35,"","","","","","","","",{"$f":"IFERROR(astm(highwayfuf(CC45)-highwayfuf(CC44),3),\"\")","v":""},"","","","","","",{"$f":"IFERROR(astm(mdiuf(CL45)-mdiuf(CL44),3),\"\")","v":""},"","",{"$f":"IFERROR(astm(highwayfufalt(CL45)-highwayfufalt(CL44),3),\"\")","v":""},"","","",{"$f":"IF(CA45=\"\",1, MIN(IFERROR((CA45/1000)/((BX45*$J$22)*$J$21/3600),1),IFERROR((SUMIFS(CA11:CA45,BW11:BW45,\"<=\"&$BW45,BW11:BW45,\">=\"&$BW45-1)/1000)/(  $J$22*SUMIFS(BX11:BX45,BW11:BW45,\"<=\"&$BW45,BW11:BW45,\">=\"&$BW45-1)*$J$21/3600),1),IFERROR((SUMIFS(CA11:CA45,BW11:BW45,\"<=\"&$BW45,BW11:BW45,\">=\"&$BW45-2)/1000)/(  $J$22*SUMIFS(BX11:BX45,BW11:BW45,\"<=\"&$BW45,BW11:BW45,\">=\"&$BW45-2)*$J$21/3600),1),IFERROR((SUMIFS(CA11:CA45,BW11:BW45,\"<=\"&$BW45,BW11:BW45,\">=\"&$BW45-3)/1000)/(  $J$22*SUMIFS(BX11:BX45,BW11:BW45,\"<=\"&$BW45,BW11:BW45,\">=\"&$BW45-3)*$J$21/3600),1)) )","v":1},"",{"$f":"IF(CA45=\"\",1, MIN($CA45/SUM($CA11:$CA45),SUMIFS(CA11:CA45,BW11:BW45,\">=\"&$BW45-1,BW11:BW45,\"<=\"&$BW45)/SUM($CA11:$CA45),SUMIFS(CA11:CA45,BW11:BW45,\">=\"&$BW45-2,BW11:BW45,\"<=\"&$BW45)/SUM($CA11:$CA45),SUMIFS(CA11:CA45,BW11:BW45,\">=\"&$BW45-3,BW11:BW45,\"<=\"&$BW45)/SUM($CA11:$CA45)) )","v":1}]
[null,null,"Adjusted Fuel Economy (MPG)",{"$f":"astm(IF($N$7+$N$55+$N$103=0,    ((AJ36<>0)+(AJ84<>0)+(AJ132<>0))/(IFERROR(1/AJ36,0)+IFERROR(1/AJ84,0)+IFERROR(1/AJ132,0)),    ($N$7+$N$55+$N$103) / (IFERROR($N$7/AJ36,0)+IFERROR($N$55/AJ84,0)+IFERROR($N$103/AJ132,0))  ),4)","v":{"$error":"#VALUE!"}},{"$f":"astm(IF($N$7+$N$55+$N$103=0,    ((AK36<>0)+(AK84<>0)+(AK132<>0))/(IFERROR(1/AK36,0)+IFERROR(1/AK84,0)+IFERROR(1/AK132,0)),    ($N$7+$N$55+$N$103) / (IFERROR($N$7/AK36,0)+IFERROR($N$55/AK84,0)+IFERROR($N$103/AK132,0))  ),4)","v":{"$error":"#VALUE!"}},null,null,null,null,null,null,null,null,null,null,null,null,null,null,null,null,"Recharge energy (AC kilowatt-hours):",null,null,null,null,null,null,null,"Recharge energy (AC kilowatt-hours):",null,null,null,null,null,null,null,null,null,null,null,"Composite CD/CS cost ($/mi) [3]",{"$f":"astm(AQ31*AQ44+(1-AQ31)*AQ45,3)","v":{"$error":"#VALUE!"}},{"$f":"astm(AR31*AR44+(1-AR31)*AR45,3)","v":{"$error":"#VALUE!"}}]
[null,null,"Adjusted GHG (g/mi)",{"$f":"astm(IF($N$7+$N$55+$N$103=0,SUM(IFERROR(AJ37,0),IFERROR(AJ85,0),IFERROR(AJ133,0)) / ((AJ37<>0)+(AJ85<>0)+(AJ133<>0)),($N$7*AJ37+$N$55*AJ85+$N$103*AJ133)/($N$7+$N$55+$N$103)),1)","v":{"$error":"#VALUE!"}},{"$f":"astm(IF($N$7+$N$55+$N$103=0,SUM(IFERROR(AK37,0),IFERROR(AK85,0),IFERROR(AK133,0)) / ((AK37<>0)+(AK85<>0)+(AK133<>0)),($N$7*AK37+$N$55*AK85+$N$103*AK133)/($N$7+$N$55+$N$103)),1)","v":{"$error":"#VALUE!"}},null,null,null,null,null,null,null,null,null,null,null,null,null,null,null,null,"All-Electric Range (miles):",null,null,null,null,null,null,null,"All-Electric Range (miles):",null,null,null,null,null,null,null,null,null,null,null,"COMPOSITE CD/CS FUEL ECONOMY AND CO2 VALUES, ADJUSTED","CITY","HIGHWAY"]
[null,null,"HOV Lane Values","City","Highway","Combined",null,null,null,null,null,null,null,null,null,null,{"$f":"\"Calculated transition cycle:  \" &  IF(COUNTIF(BR11:BR40,\"CD\") < COUNT(R11:R40), COUNTIF(BR11:BR40,\"CD\"),     IF(COUNTIF(BT11:BT40,\"CD\") < COUNT(R11:R40), COUNTIF(BT11:BT40,\"CD\"),     \"ERROR\"     )     )","v":"Calculated transition cycle:  ERROR"},null,null,null,null,"To override transition cycle, enter here--->",null,null,{"$f":"\"Calculated transition cycle:  \" &  IF(COUNTIF(CS11:CS40,\"CD\") < COUNT(Z11:Z40), COUNTIF(CS11:CS40,\"CD\"),     IF(COUNTIF(CU11:CU40,\"CD\") < COUNT(Z11:Z40), COUNTIF(CU11:CU40,\"CD\"),     \"ERROR\"     )     )","v":"Calculated transition cycle:  ERROR"},null,null,null,null,"To override transition cycle, enter here--->",null,null,null,null,null,null,null,null,null,null,null,"Composite CD/CS CO2, adjusted (g/mi) [1]",{"$f":"astm(IFERROR(AQ26+(1-AQ32)*N15,#VALUE!),1)","v":0},{"$f":"astm(IFERROR(AR26+(1-AR32)*O15,#VALUE!),1)","v":0}]
[null,null,"MDIUF based on unadjusted Rcda",{"$f":"IF($N$7+$N$55+$N$103=0,SUM(IFERROR(AJ30,0),IFERROR(AJ78,0),IFERROR(AJ126,0)) / ((AJ30<>0)+(AJ78<>0)+(AJ126<>0)),($N$7*AJ30+$N$55*AJ78+$N$103*AJ126)/($N$7+$N$55+$N$103))","v":{"$error":"#DIV/0!"}},{"$f":"IF($N$7+$N$55+$N$103=0,SUM(IFERROR(AK30,0),IFERROR(AK78,0),IFERROR(AK126,0)) / ((AK30<>0)+(AK78<>0)+(AK126<>0)),($N$7*AK30+$N$55*AK78+$N$103*AK126)/($N$7+$N$55+$N$103))","v":{"$error":"#DIV/0!"}},null,null,null,null,null,null,null,null,null,null,null,null,null,null,null,null,null,null,null,null,null,null,null,null,null,null,null,null,null,null,null,null,null,null,null,null,"Composite CD/CS Fuel Economy, adjusted (MPG) [4]",{"$f":"IFERROR(astm( IFERROR(1/ ( AQ17 + (1-AQ32)/N12),#VALUE!), 4),0)","v":0},{"$f":"IFERROR(astm( IFERROR(1/ ( AR17 + (1-AR32)/O12),#VALUE!), 4),0)","v":0}]
[null,null,"Composite CD/CS Fuel Economy (MPGe)",{"$f":"IF($N$7+$N$55+$N$103=0,    ((AJ31<>0)+(AJ79<>0)+(AJ127<>0))/(IFERROR(1/AJ31,0)+IFERROR(1/AJ79,0)+IFERROR(1/AJ127,0)),    ($N$7+$N$55+$N$103) / (IFERROR($N$7/AJ31,0)+IFERROR($N$55/AJ79,0)+IFERROR($N$103/AJ127,0))  )","v":{"$error":"#DIV/0!"}},{"$f":"IF($N$7+$N$55+$N$103=0,    ((AK31<>0)+(AK79<>0)+(AK127<>0))/(IFERROR(1/AK31,0)+IFERROR(1/AK79,0)+IFERROR(1/AK127,0)),    ($N$7+$N$55+$N$103) / (IFERROR($N$7/AK31,0)+IFERROR($N$55/AK79,0)+IFERROR($N$103/AK127,0))  )","v":{"$error":"#DIV/0!"}},{"$f":"1/(0.55/D50+0.45/E50)","v":{"$error":"#DIV/0!"}}]
[null,null,"Fueleconomy.gov Values",null,null,null,null,null,null,null,null,null,"Test Set #2",null,null,null,null,null,null,null,null,null,null,null,null,null,null,null,null,null,null,null,null,null,"Results from Test Set #2:",{"$f":"N52","v":0},null,null,null,null,"INTERMEDIATE CALCULATIONS AND INPUTS",null,"Test Set #2:",{"$f":"N53","v":0}]
[null,null,"Charge-sustaining Efficiency",null,null,"MPG",null,null," ",null,null,null,null,null,null,null,null,null,null,null,null,null,null,null,null,null,null,null,null,null,null,null,null,null,"CAFE Values",null,null,null,null,null,"Charge-Depleting (CD) Test Results",null,null,null,null,null,null,"DETAILED CALCULATIONS",null,"UDDS",{"$f":"$AR51","v":0},null,null,null,null,null,null,null,null,null,null,null,null,null,null,null,null,null,null,null,null,null,null,null,"DETAILED CALCULATIONS",null,"HFET",{"$f":"AR51","v":0}]
[null,null,"City FE (Guide) - Conventional Fuel",null,null,{"$f":"astm(IF($N$7+$N$55+$N$103=0,    ((N12<>0)+(N60<>0)+(N108<>0))/(IFERROR(1/N12,0)+IFERROR(1/N60,0)+IFERROR(1/N108,0)),    ($N$7+$N$55+$N$103) / (IFERROR($N$7/N12,0)+IFERROR($N$55/N60,0)+IFERROR($N$103/N108,0))  ),0)","v":{"$error":"#VALUE!"}},null,null,null,null,null,null,null,null,null,null,"ENTER CHARGE-DEPLETING UDDS (CITY) DATA HERE",null,null,null,null,null,null,null,"ENTER CHARGE-DEPLETING HFET (HIGHWAY) DATA HERE",null,null,null,null,null,null,null,null,null,"A. PHEV meets dual fuel criteria:","City","Highway","Combined",null,null,null,"DRIVING DISTANCE VALUES","CITY","HIGHWAY",null,null,null,"Cycle No.","Gasoline Consumed","CO2\n[0]","Net Amp-Hours Used Per Cycle [3]","DC Electricity Consumed\n[1]","AC Electricity Consumed\n[1]","Theoretical Cumulative Cycle Distance","Electric Only Fuel Consumption Rate","Total Fuel Consumption Rate (gas + electric)","55/45 City Fleet Utility Factor\n[3]","55/45 City FUF\nx\nCREE","55/45 City FUF\nx\nTotal Consumption","Total Fuel Consumption (gas + electric)","5-Cycle Adjustment","Adjusted Cycle Measured Distance","Adjusted Cycle Theoretical Cumulative Distance","MDIUF\n[3]","MDIUF\nx\nAdjusted CO2","MDIUF\nx\nAdjusted Total Fuel Consumption","43/57 City Fleet Utility Factor\n[3]","43/57 City FUF x\nAdjusted Total Fuel Consumption Rate","43/57 City FUF\nx\nAdjusted CREE","Is Cycle CD or CS based on NEC 1% Tolerance?","NEC Tolerance 1% Fuel Energy Criteria","Is Cycle CD or CS based on battery 2% Tolerance?","NEC Tolerance 2% Usable Battery Energy Criteria",null,"Cycle No.","Gasoline Consumed","CO2\n[0]","Net Amp-Hours Used Per Cycle [3]","DC Electricity Consumed\n[1]","AC Electricity Consumed\n[1]","Theoretical Cumulative Cycle Distance","Electric Only Fuel Consumption Rate","Total Fuel Consumption Rate (gas + electric)","55/45 Highway Fleet Utility Factor\n[3]","55/45 Highway FUF\nx\nCREE","55/45 Highway FUF\nx\nTotal Consumption","Total Fuel Consumption (gas + electric)","5-Cycle Adjustment","Adjusted Cycle Measured Distance","Adjusted Cycle Theoretical Cumulative Distance","MDIUF\n[3]","MDIUF\nx\nAdjusted CO2","MDIUF\nx\nAdjusted Total Fuel Consumption","43/57 Highway Fleet Utility Factor\n[3]","43/57 Highway FUF x\nAdjusted Total Fuel Consumption Rate","43/57 Highway FUF\nx\nAdjusted CREE","Is Cycle CD or CS based on NEC 1% Tolerance?","NEC Tolerance 1% Fuel Energy Criteria","Is Cycle CD or CS based on battery 2% Tolerance?","NEC Tolerance 2% Usable Battery Energy Criteria"]
[null,null,"Hwy FE (Guide) - Conventional Fuel",null,null,{"$f":"astm(IF($N$7+$N$55+$N$103=0,    ((O12<>0)+(O60<>0)+(O108<>0))/(IFERROR(1/O12,0)+IFERROR(1/O60,0)+IFERROR(1/O108,0)),    ($N$7+$N$55+$N$103) / (IFERROR($N$7/O12,0)+IFERROR($N$55/O60,0)+IFERROR($N$103/O108,0))  ),0)","v":{"$error":"#VALUE!"}},null,null,null,null,null,null,"Test Set name (e.g., Eco, Power):",null,null,null,"Cycle No.","Cycle/Phase Measured Distance","Integrated Amp-Hours Electricity Used","Average Cycle Voltage","Fuel Economy","CO2","CREE",null,"Cycle No.","Cycle/Phase Measured Distance","Integrated Amp-Hours Electricity Used","Average Cycle Voltage","Fuel Economy","CO2","CREE",null,null,null," 1. Default 50/50 Composite MPGe [4]",{"$f":"IFERROR(astm(1/(0.5/(  (  $J$18  )   /(AQ59/AQ85))+0.5/N59),4),0)","v":0},{"$f":"IFERROR(astm(1/(0.5/(  (  $J$18  )   /(AR59/AR85))+0.5/O59),4),0)","v":0},{"$f":"IFERROR(astm(1/(0.55/AJ54+0.45/AK54),4),0)","v":0},null,null,null,"CD driving distance (Rcda), unadjusted (miles) [3]",{"$f":"IFERROR(astm(SUMIF(Q59:Q93,\"<=\" & ($AQ82-1),R59:R93) + AQ81*VLOOKUP($AQ82,Q59:R93,2,FALSE),3),0)","v":0},{"$f":"IFERROR(astm(SUMIF(Y59:Y93,\"<=\" & ($AR82-1),Z59:Z93) + AR81*VLOOKUP($AR82,Y59:Z93,2,FALSE),3),0)","v":0}]
[null,null,"Comb FE (Guide) - Conventional Fuel",null,null,{"$f":"astm(1/(0.55/(IF($N$7+$N$55+$N$103=0,    ((N12<>0)+(N60<>0)+(N108<>0))/(IFERROR(1/N12,0)+IFERROR(1/N60,0)+IFERROR(1/N108,0)),    ($N$7+$N$55+$N$103) / (IFERROR($N$7/N12,0)+IFERROR($N$55/N60,0)+IFERROR($N$103/N108,0))  ))+0.45/(IF($N$7+$N$55+$N$103=0,    ((O12<>0)+(O60<>0)+(O108<>0))/(IFERROR(1/O12,0)+IFERROR(1/O60,0)+IFERROR(1/O108,0)),    ($N$7+$N$55+$N$103) / (IFERROR($N$7/O12,0)+IFERROR($N$55/O60,0)+IFERROR($N$103/O108,0))  ))),0)","v":{"$error":"#VALUE!"}},null,null,null,null,null,null,"Production Volume (projected or actual):",null,null,null,null,null,null,null,null,null,null,null,null,null,null,null,null,null,null,null,null,null," 2. Optional Utility Factor Composite MPGe [4]",{"$f":"IFERROR(astm(1/(  AQ88 /   (  ( $J$18   )   /   (AQ59/AQ85))       +        (1-AQ88)/N59), 4),0)","v":0},{"$f":"IFERROR(astm(1/(  AR88 /   (  ( $J$18   )   /   (AR59/AR85))       +        (1-AR88)/O59), 4),0)","v":0},{"$f":"IFERROR(astm(1/(0.55/AJ55+0.45/AK55),4),0)","v":0},null,null,null,"CD driving distance (Rcda), adjusted (miles) [3]",{"$f":"IFERROR(astm(SUMIF(AV59:AV93,\"<\"&AQ82,BJ59:BJ93)+AQ81*SUMIF(AV59:AV93,\"=\"&AQ82,BJ59:BJ93),3),0)","v":0},{"$f":"IFERROR(astm(SUMIF(BW59:BW93,\"<\"&AR82,CK59:CK93)+AR81*SUMIF(BW59:BW93,\"=\"&AR82,CK59:CK93),3),0)","v":0}]
[null,null,"City Unadj FE - Conventional Fuel",null,null,{"$f":"astm(IF($N$7+$N$55+$N$103=0,    ((N11<>0)+(N59<>0)+(N107<>0))/(IFERROR(1/N11,0)+IFERROR(1/N59,0)+IFERROR(1/N107,0)),    ($N$7+$N$55+$N$103) / (IFERROR($N$7/N11,0)+IFERROR($N$55/N59,0)+IFERROR($N$103/N107,0))  ),1)","v":{"$error":"#VALUE!"}},null,null,null,null,null,null,null,null,null,null,null,null,null,null,null,null,null,null,null,null,null,null,null,null,null,null,null,null,"B. PHEV does NOT meet dual fuel criteria:","City","Highway","Combined",null,null,null,"CD all-electric driving distance, unadjusted (miles) [3]",{"$f":"  IF(ISNUMBER(W95), astm(W95,3), 0)","v":0},{"$f":" IF(ISNUMBER(AE95), astm(AE95,3), 0)","v":0}]
[null,null,"Hwy Unadj FE - Conventional Fuel",null,null,{"$f":"astm(IF($N$7+$N$55+$N$103=0,    ((O11<>0)+(O59<>0)+(O107<>0))/(IFERROR(1/O11,0)+IFERROR(1/O59,0)+IFERROR(1/O107,0)),    ($N$7+$N$55+$N$103) / (IFERROR($N$7/O11,0)+IFERROR($N$55/O59,0)+IFERROR($N$103/O107,0))  ),1)","v":{"$error":"#VALUE!"}},null,null,null,null,null,null,"ENTER CHARGE-SUSTAINING TEST RESULTS HERE",null,null,null,null,null,null,null,null,null,null,null,null,null,null,null,null,null,null,null,null,null,"  1. Utility Factor Composite MPGe [4]",{"$f":"IFERROR(astm(1/ ( AQ63 + (1-AQ78)/N59),4),0)","v":0},{"$f":"IFERROR(astm(1/ ( AR63 + (1-AR78)/O59),4),0)","v":0},{"$f":"IFERROR(astm(1/(0.55/AJ57+0.45/AK57),4),0)","v":0},null,null,null,"CD All-Electric Range, adjusted (mi) [3]",{"$f":"astm( 0.7*AQ56, 3)","v":0},{"$f":"astm( 0.7*AR56, 3)","v":0}]
[null,null,"Comb Unadj FE - Conventional Fuel",null,null,{"$f":"astm(1/(0.55/(IF($N$7+$N$55+$N$103=0,    ((N11<>0)+(N59<>0)+(N107<>0))/(IFERROR(1/N11,0)+IFERROR(1/N59,0)+IFERROR(1/N107,0)),    ($N$7+$N$55+$N$103) / (IFERROR($N$7/N11,0)+IFERROR($N$55/N59,0)+IFERROR($N$103/N107,0))  ))+0.45/(IF($N$7+$N$55+$N$103=0,    ((O11<>0)+(O59<>0)+(O107<>0))/(IFERROR(1/O11,0)+IFERROR(1/O59,0)+IFERROR(1/O107,0)),    ($N$7+$N$55+$N$103) / (IFERROR($N$7/O11,0)+IFERROR($N$55/O59,0)+IFERROR($N$103/O107,0))  ))),4)","v":{"$error":"#VALUE!"}},null,null,null,null,null,null,null,"City","Highway",null,"No.","Miles [3]","Amp-hrs [3]","Volts [2]","MPG [1]","g/mi [0]","g/mi [0]",null,"No.","Miles [3]","Amp-hrs [3]","Volts [2]","MPG [1]","g/mi [0]","g/mi [0]",null,null,null,"GHG Values","City","Highway","Combined",null,null,null,"FUEL CONSUMPTION & ECONOMY VALUES","CITY","HIGHWAY",null,null,null,"No.","gal","grams","Amp-hours","W-hours","W-hours","mi","gal/mi equiv","gal/mi equiv","UF","UF","gal/mi equiv","gal-equiv","%","miles","miles","UF","g/mi","gal/mi equiv","UF","gal/mi equiv","g/mi","CD or CS",null,"CD or CS",null,null,"No.","gal","grams","Amp-hours","W-hours","W-hours","mi","gal/mi equiv","gal/mi equiv","UF","UF","gal/mi equiv","gal-equiv","%","miles","miles","UF","g/mi","gal-equiv","UF","gal-equiv","g/mi","CD or CS",null,"CD or CS"]
[null,null,"City Unrd Adj FE - Conventional Fuel",null,null,{"$f":"astm(IF($N$7+$N$55+$N$103=0,    ((N12<>0)+(N60<>0)+(N108<>0))/(IFERROR(1/N12,0)+IFERROR(1/N60,0)+IFERROR(1/N108,0)),    ($N$7+$N$55+$N$103) / (IFERROR($N$7/N12,0)+IFERROR($N$55/N60,0)+IFERROR($N$103/N108,0))  ),4)","v":{"$error":"#VALUE!"}},null,null,null,null,null,null,"Fuel Economy, Unadjusted (MPG):",null,null,null,1,null,null,null,null,null,null,null,1,null,null,null,null,null,null,null,null,null,"Composite CREE, without upstream emissions [1]",{"$f":"IFERROR(IF(OR(SUM(W59:W93)=0,N61=0,ISBLANK(N61), LOOKUP(2,1/(W59:W93<>\"\"),ROW(W59:W93)) < LOOKUP(2,1/(R59:R93<>\"\"),ROW(R59:R93))   ),\"ERROR\",astm(AQ75+(1-AQ78)*N61,1)),0)","v":0},{"$f":"IFERROR(IF(OR(SUM(AE59:AE93)=0,O61=0,ISBLANK(O61), LOOKUP(2,1/(AE59:AE93<>\"\"),ROW(AE59:AE93)) < LOOKUP(2,1/(Z59:Z93<>\"\"),ROW(Z59:Z88))   ),\"ERROR\",astm(AR75+(1-AR78)*O61,1)),0)","v":0},{"$f":"IFERROR(astm(0.55*AJ59+0.45*AK59,1),0)","v":0},null,null,"NEW","CD AC electricity consumption (Rcdc), unadjusted (Watt-hours) [1]",{"$f":"astm(SUMIF(AV59:AV93,\"<=\" & AQ82,BA59:BA93),1)","v":0},{"$f":"astm(SUMIF(BW59:BW93,\"<=\" & AR82,CB59:CB93),1)","v":0},null,null,null,1,{"$f":"IF(ISBLANK(R59),\"\", IF(astm(V59,0)=0, 0,         IFERROR(astm(R59,3)/astm(U59,1),0))  )","v":""},{"$f":"IF(ISBLANK(R59),\"\", IF(astm(V59,0)=0,0,               astm(  astm(V59,0)*astm(R59,3), 0)  ) )","v":""},{"$f":"IF( ISBLANK(S59),\"\",astm(S59,3))","v":""},{"$f":"IF(ISBLANK(T59),\"\",astm(AY59*astm(T59,2),1))","v":""},{"$f":"IFERROR(astm(  astm($W$94,3)*1000*(AZ59/AQ61),1),\"\")","v":""},{"$f":"IF(ISBLANK(R59),\"\",7.45)","v":""},{"$f":"IFERROR(BA59/($J$19*astm(R59,3)),\"\")","v":""},{"$f":"IFERROR(BC59+AW59/astm(R59,3),\"\")","v":""},{"$f":"astm(IFERROR(astm(cityfuf(BB59)-0,3),\"\"),3)","v":{"$error":"#VALUE!"}},{"$f":"IF(ISBLANK(R59),\"\",  IF(astm(V59,0)=0, 0, IFERROR(BE59*astm(W59,0),\"\")  )  )","v":""},{"$f":"IFERROR(BD59*BE59,\"\")","v":""},{"$f":"IFERROR(BD59*astm(R59,3),\"\")","v":""},{"$f":"  IF( $J$5>=2017,    IFERROR(MAX(1/(0.004091*(1/BD59)+1.1601),0.7),\"\"),    IFERROR(MAX(1/(0.003259*(1/BD59)+1.1805),0.7),\"\")  )","v":""},{"$f":"  IFERROR(BI59*astm(R59,3),\"\")","v":""},{"$f":"  IFERROR(BI59*7.45,\"\")","v":""},{"$f":"IFERROR(astm(mdiuf(BK59)-0,3),\"\")","v":""},{"$f":" IF(ISBLANK(R59),\"\",   IF( astm(V59,0)=0, 0,    IFERROR(BL59*astm(V59,0)/(BI59),\"\")  ) )","v":""},{"$f":"IFERROR(BL59*BD59/BI59,\"\")","v":""},{"$f":"IFERROR(astm(cityfufalt(BK59)-0,3),\"\")","v":""},{"$f":"IFERROR(BO59*BD59/BI59,\"\")","v":""},{"$f":" IF(ISBLANK(R59),\"\",   IF( astm(V59,0)=0, 0,    IFERROR(BO59*astm(W59,0)/(BI59),\"\") ) )","v":""},{"$f":"IF(AZ59=\"\",\"\", IF(ABS(BS59)<0.01,\"CS based on 1% fuel energy\", \"CD\"))","v":""},{"$f":"IF(AZ59=\"\",1, MIN(IFERROR((AZ59/1000)/((AW59*$J$22)*$J$21/3600),1),IFERROR((SUMIFS(AZ59:AZ93,AV59:AV93,\"<=\"&$AV59,AV59:AV93,\">=\"&$AV59-1)/1000)/(  $J$22*SUMIFS(AW59:AW93,AV59:AV93,\"<=\"&$AV59,AV59:AV93,\">=\"&$AV59-1)*$J$21/3600),1),IFERROR((SUMIFS(AZ59:AZ93,AV59:AV93,\"<=\"&$AV59,AV59:AV93,\">=\"&$AV59-2)/1000)/(  $J$22*SUMIFS(AW59:AW93,AV59:AV93,\"<=\"&$AV59,AV59:AV93,\">=\"&$AV59-2)*$J$21/3600),1),IFERROR((SUMIFS(AZ59:AZ93,AV59:AV93,\"<=\"&$AV59,AV59:AV93,\">=\"&$AV59-3)/1000)/(  $J$22*SUMIFS(AW59:AW93,AV59:AV93,\"<=\"&$AV59,AV59:AV93,\">=\"&$AV59-3)*$J$21/3600),1)) )","v":1},{"$f":"IF(AZ59=\"\",\"\", IF(ABS(BU59)<0.02,\"CS based on 2% battery energy\",\"CD\"))","v":""},{"$f":"IF(AZ59=\"\",1, MIN($AZ59/SUM($AZ59:$AZ59),SUMIFS(AZ59:AZ93,AV59:AV93,\">=\"&$AV59-1,AV59:AV93,\"<=\"&$AV59)/SUM($AZ59:$AZ59),SUMIFS(AZ59:AZ93,AV59:AV93,\">=\"&$AV59-2,AV59:AV93,\"<=\"&$AV59)/SUM($AZ59:$AZ59),SUMIFS(AZ59:AZ93,AV59:AV93,\">=\"&$AV59-3,AV59:AV93,\"<=\"&$AV59)/SUM($AZ59:$AZ59)) )","v":1},null,1,{"$f":"IF(ISBLANK(Z59),\"\", IF(astm(AD59,0)=0, 0,         IFERROR(astm(Z59,3)/astm(AC59,1),0))  )","v":""},{"$f":"IF(ISBLANK(Z59),\"\", IF(astm(AD59,0)=0,0,               astm(AD59,0)*astm(Z59,3)) )","v":""},{"$f":"IF(ISBLANK(AA59),\"\",astm(AA59,3))","v":""},{"$f":"IF(ISBLANK(AB59),\"\",astm(BZ59*astm(AB59,2),1))","v":""},{"$f":"IFERROR(astm( astm($AE$94,3)*1000*(CA59/$AR$61),1),\"\")","v":""},{"$f":"IF(ISBLANK(Z59),\"\",10.3)","v":""},{"$f":"IFERROR(CB59/($J$19*astm(Z59,3)),\"\")","v":""},{"$f":"IFERROR(CD59+BX59/astm(Z59,3),\"\")","v":""},{"$f":"IFERROR(astm(highwayfuf(CC59)-0,3),\"\")","v":""},{"$f":" IF(ISBLANK(Z59),\"\",   IF( astm(AD59,0)=0, 0,       IFERROR(CF59*astm(AE59,0),\"\")  ) )","v":""},{"$f":"IFERROR(CE59*CF59,\"\")","v":""},{"$f":"IFERROR(CE59*astm(Z59,3),\"\")","v":""},{"$f":"  IF( $J$5>=2017,    IFERROR(MAX(1/(0.003191*(1/CE59)+1.2945),0.7),\"\"),   IFERROR(MAX(1/(0.001376*(1/CE59)+1.3466),0.7),\"\")  )","v":""},{"$f":"   IFERROR(CJ59*astm(Z59,3),\"\")","v":""},{"$f":"     IFERROR(CJ59*10.3,\"\")","v":""},{"$f":"IFERROR(astm(mdiuf(CL59)-0,3),\"\")","v":""},{"$f":" IF(ISBLANK(Z59),\"\",   IF( astm(AD59,0)=0, 0,    IFERROR(CM59*astm(AD59,0)/(CJ59),\"\") ) )","v":""},{"$f":"IFERROR(CM59*CE59/CJ59,\"\")","v":""},{"$f":"IFERROR(astm(highwayfufalt(CL59)-0,3),\"\")","v":""},{"$f":"IFERROR(CP59*CE59/CJ59,\"\")","v":""},{"$f":" IF(ISBLANK(Z59),\"\",   IF( astm(AD59,0)=0, 0,    IFERROR(CP59*astm(AE59,0)/(CJ59),\"\") ) )","v":""},{"$f":"IF($CA59=\"\",\"\", IF(ABS(CT59)<0.01,\"CS based on 1% fuel energy\",\"CD\"))","v":""},{"$f":"IF(CA59=\"\",1, MIN(IFERROR((CA59/1000)/((BX59*$J$22)*$J$21/3600),1),IFERROR((SUMIFS(CA59:CA93,BW59:BW93,\"<=\"&$BW59,BW59:BW93,\">=\"&$BW59-1)/1000)/(  $J$22*SUMIFS(BX59:BX93,BW59:BW93,\"<=\"&$BW59,BW59:BW93,\">=\"&$BW59-1)*$J$21/3600),1),IFERROR((SUMIFS(CA59:CA93,BW59:BW93,\"<=\"&$BW59,BW59:BW93,\">=\"&$BW59-2)/1000)/(  $J$22*SUMIFS(BX59:BX93,BW59:BW93,\"<=\"&$BW59,BW59:BW93,\">=\"&$BW59-2)*$J$21/3600),1),IFERROR((SUMIFS(CA59:CA93,BW59:BW93,\"<=\"&$BW59,BW59:BW93,\">=\"&$BW59-3)/1000)/(  $J$22*SUMIFS(BX59:BX93,BW59:BW93,\"<=\"&$BW59,BW59:BW93,\">=\"&$BW59-3)*$J$21/3600),1)) )","v":1},{"$f":"IF($CA59=\"\",\"\", IF(ABS(CV59)<0.02,\"CS based on 2% battery energy\",\"CD\"))","v":""},{"$f":"IF(CA59=\"\",1, MIN($CA59/SUM($CA59:$CA59),SUMIFS(CA59:CA93,BW59:BW93,\">=\"&$BW59-1,BW59:BW93,\"<=\"&$BW59)/SUM($CA59:$CA59),SUMIFS(CA59:CA93,BW59:BW93,\">=\"&$BW59-2,BW59:BW93,\"<=\"&$BW59)/SUM($CA59:$CA59),SUMIFS(CA59:CA93,BW59:BW93,\">=\"&$BW59-3,BW59:BW93,\"<=\"&$BW59)/SUM($CA59:$CA59)) )","v":1}]
[null,null,"Hwy Unrd Adj FE - Conventional Fuel",null,null,{"$f":"astm(IF($N$7+$N$55+$N$103=0,    ((O12<>0)+(O60<>0)+(O108<>0))/(IFERROR(1/O12,0)+IFERROR(1/O60,0)+IFERROR(1/O108,0)),    ($N$7+$N$55+$N$103) / (IFERROR($N$7/O12,0)+IFERROR($N$55/O60,0)+IFERROR($N$103/O108,0))  ),4)","v":{"$error":"#VALUE!"}},null,null,null,null,null,null,"Fuel Economy, Adjusted (MPG):",null,null,null,2,null,null,null,null,null,null,null,2,null,null,null,null,null,null,null,null,null,null,null,null,null,null,null,null,"CD AC electricity consumption rate (Rcda), adjusted  (kW-hr/100mi) [3]",{"$f":"IFERROR(astm( astm(W94,3)*100/AQ55,3),0)","v":0},{"$f":"IFERROR(astm( astm(AE94,3)*100/AR55,3),0)","v":0},null,null,null,2,"","",{"$f":"IF(ISBLANK(S60),\"\",(astm(S60,3)-astm(S59,3)))","v":""},"",{"$f":"IFERROR(astm(  astm($W$94,3)*1000*(AZ60/AQ61),1),\"\")","v":""},{"$f":"IF(ISBLANK(R60),\"\",7.45+BB59)","v":""},"","",{"$f":"IFERROR(astm(cityfuf(BB60),3)-astm(cityfuf(BB59),3),\"\")","v":""},"",{"$f":"IFERROR(BD60*BE60,\"\")","v":""},"","","",{"$f":" IFERROR(BI60*7.45+BK59,\"\")","v":""},{"$f":"IFERROR(astm(mdiuf(BK60),3)-astm(mdiuf(BK59),3),\"\")","v":""},"","",{"$f":"IFERROR(astm(cityfufalt(BK60),3)-astm(cityfufalt(BK59),3),\"\")","v":""},"","","",{"$f":"IF(AZ60=\"\",1, MIN(IFERROR((AZ60/1000)/((AW60*$J$22)*$J$21/3600),1),IFERROR((SUMIFS(AZ59:AZ93,AV59:AV93,\"<=\"&$AV60,AV59:AV93,\">=\"&$AV60-1)/1000)/(  $J$22*SUMIFS(AW59:AW93,AV59:AV93,\"<=\"&$AV60,AV59:AV93,\">=\"&$AV60-1)*$J$21/3600),1),IFERROR((SUMIFS(AZ59:AZ93,AV59:AV93,\"<=\"&$AV60,AV59:AV93,\">=\"&$AV60-2)/1000)/(  $J$22*SUMIFS(AW59:AW93,AV59:AV93,\"<=\"&$AV60,AV59:AV93,\">=\"&$AV60-2)*$J$21/3600),1),IFERROR((SUMIFS(AZ59:AZ93,AV59:AV93,\"<=\"&$AV60,AV59:AV93,\">=\"&$AV60-3)/1000)/(  $J$22*SUMIFS(AW59:AW93,AV59:AV93,\"<=\"&$AV60,AV59:AV93,\">=\"&$AV60-3)*$J$21/3600),1)) )","v":1},"",{"$f":"IF(AZ60=\"\",1, MIN($AZ60/SUM($AZ59:$AZ60),SUMIFS(AZ59:AZ93,AV59:AV93,\">=\"&$AV60-1,AV59:AV93,\"<=\"&$AV60)/SUM($AZ59:$AZ60),SUMIFS(AZ59:AZ93,AV59:AV93,\">=\"&$AV60-2,AV59:AV93,\"<=\"&$AV60)/SUM($AZ59:$AZ60),SUMIFS(AZ59:AZ93,AV59:AV93,\">=\"&$AV60-3,AV59:AV93,\"<=\"&$AV60)/SUM($AZ59:$AZ60)) )","v":1},null,2,"","",{"$f":"IF(ISBLANK(AA60),\"\",(astm(AA60,3)-astm(AA59,3)))","v":""},"","",{"$f":"IF(ISBLANK(Z60),\"\",10.3+CC59)","v":""},"","",{"$f":"IFERROR(astm(highwayfuf(CC60)-highwayfuf(CC59),3),\"\")","v":""},"","","","","",{"$f":"  IFERROR(CJ60*10.3+CL59,\"\")","v":""},{"$f":"IFERROR(astm(mdiuf(CL60)-mdiuf(CL59),3),\"\")","v":""},"","",{"$f":"IFERROR(astm(highwayfufalt(CL60)-highwayfufalt(CL59),3),\"\")","v":""},"","",{"$f":"IF(CA60=\"\",\"\", IF(ABS(CT60)<0.01,\"CS based on 1% fuel energy\",\"CD\"))","v":""},{"$f":"IF(CA60=\"\",1, MIN(IFERROR((CA60/1000)/((BX60*$J$22)*$J$21/3600),1),IFERROR((SUMIFS(CA59:CA93,BW59:BW93,\"<=\"&$BW60,BW59:BW93,\">=\"&$BW60-1)/1000)/(  $J$22*SUMIFS(BX59:BX93,BW59:BW93,\"<=\"&$BW60,BW59:BW93,\">=\"&$BW60-1)*$J$21/3600),1),IFERROR((SUMIFS(CA59:CA93,BW59:BW93,\"<=\"&$BW60,BW59:BW93,\">=\"&$BW60-2)/1000)/(  $J$22*SUMIFS(BX59:BX93,BW59:BW93,\"<=\"&$BW60,BW59:BW93,\">=\"&$BW60-2)*$J$21/3600),1),IFERROR((SUMIFS(CA59:CA93,BW59:BW93,\"<=\"&$BW60,BW59:BW93,\">=\"&$BW60-3)/1000)/(  $J$22*SUMIFS(BX59:BX93,BW59:BW93,\"<=\"&$BW60,BW59:BW93,\">=\"&$BW60-3)*$J$21/3600),1)) )","v":1},{"$f":"IF($CA60=\"\",\"\", IF(ABS(CV60)<0.02,\"CS based on 2% battery energy\",\"CD\"))","v":""},{"$f":"IF(CA60=\"\",1, MIN($CA60/SUM($CA59:$CA60),SUMIFS(CA59:CA93,BW59:BW93,\">=\"&$BW60-1,BW59:BW93,\"<=\"&$BW60)/SUM($CA59:$CA60),SUMIFS(CA59:CA93,BW59:BW93,\">=\"&$BW60-2,BW59:BW93,\"<=\"&$BW60)/SUM($CA59:$CA60),SUMIFS(CA59:CA93,BW59:BW93,\">=\"&$BW60-3,BW59:BW93,\"<=\"&$BW60)/SUM($CA59:$CA60)) )","v":1}]
[null,null,"Comb Unrd Adj FE - Conventional Fuel",null,null,{"$f":"astm(1/(0.55/(IF($N$7+$N$55+$N$103=0,    ((N12<>0)+(N60<>0)+(N108<>0))/(IFERROR(1/N12,0)+IFERROR(1/N60,0)+IFERROR(1/N108,0)),    ($N$7+$N$55+$N$103) / (IFERROR($N$7/N12,0)+IFERROR($N$55/N60,0)+IFERROR($N$103/N108,0))  ))+0.45/(IF($N$7+$N$55+$N$103=0,    ((O12<>0)+(O60<>0)+(O108<>0))/(IFERROR(1/O12,0)+IFERROR(1/O60,0)+IFERROR(1/O108,0)),    ($N$7+$N$55+$N$103) / (IFERROR($N$7/O12,0)+IFERROR($N$55/O60,0)+IFERROR($N$103/O108,0))  ))),4)","v":{"$error":"#VALUE!"}},null,null,null,null,null,null,"CREE (g/mi):",null,null,null,3,null,null,null,null,null,null,null,3,null,null,null,null,null,null,null,null,null,"Label Values (5-Cycle Adjusted)",null,null,null,null,null,null,"CD test total DC energy consumed, unadjusted (Watt-hours) [1]",{"$f":"astm(SUM(AZ59:AZ93),1)","v":0},{"$f":"astm(SUM(CA59:CA93),1)","v":0},null,null,null,3,"","","","",{"$f":"IFERROR(astm(  astm($W$94,3)*1000*(AZ61/AQ61),1),\"\")","v":""},"","","",{"$f":"IFERROR(astm(cityfuf(BB61),3)-astm(cityfuf(BB60),3),\"\")","v":""},"","","","","",{"$f":" IFERROR(BI61*7.45+BK60,\"\")","v":""},{"$f":"IFERROR(astm(mdiuf(BK61),3)-astm(mdiuf(BK60),3),\"\")","v":""},"","",{"$f":"IFERROR(astm(cityfufalt(BK61),3)-astm(cityfufalt(BK60),3),\"\")","v":""},"","","",{"$f":"IF(AZ61=\"\",1, MIN(IFERROR((AZ61/1000)/((AW61*$J$22)*$J$21/3600),1),IFERROR((SUMIFS(AZ59:AZ93,AV59:AV93,\"<=\"&$AV61,AV59:AV93,\">=\"&$AV61-1)/1000)/(  $J$22*SUMIFS(AW59:AW93,AV59:AV93,\"<=\"&$AV61,AV59:AV93,\">=\"&$AV61-1)*$J$21/3600),1),IFERROR((SUMIFS(AZ59:AZ93,AV59:AV93,\"<=\"&$AV61,AV59:AV93,\">=\"&$AV61-2)/1000)/(  $J$22*SUMIFS(AW59:AW93,AV59:AV93,\"<=\"&$AV61,AV59:AV93,\">=\"&$AV61-2)*$J$21/3600),1),IFERROR((SUMIFS(AZ59:AZ93,AV59:AV93,\"<=\"&$AV61,AV59:AV93,\">=\"&$AV61-3)/1000)/(  $J$22*SUMIFS(AW59:AW93,AV59:AV93,\"<=\"&$AV61,AV59:AV93,\">=\"&$AV61-3)*$J$21/3600),1)) )","v":1},"",{"$f":"IF(AZ61=\"\",1, MIN($AZ61/SUM($AZ59:$AZ61),SUMIFS(AZ59:AZ93,AV59:AV93,\">=\"&$AV61-1,AV59:AV93,\"<=\"&$AV61)/SUM($AZ59:$AZ61),SUMIFS(AZ59:AZ93,AV59:AV93,\">=\"&$AV61-2,AV59:AV93,\"<=\"&$AV61)/SUM($AZ59:$AZ61),SUMIFS(AZ59:AZ93,AV59:AV93,\">=\"&$AV61-3,AV59:AV93,\"<=\"&$AV61)/SUM($AZ59:$AZ61)) )","v":1},null,3,"","","","","","","","",{"$f":"IFERROR(astm(highwayfuf(CC61)-highwayfuf(CC60),3),\"\")","v":""},"","","","","",{"$f":"  IFERROR(CJ61*10.3+CL60,\"\")","v":""},{"$f":"IFERROR(astm(mdiuf(CL61)-mdiuf(CL60),3),\"\")","v":""},"","",{"$f":"IFERROR(astm(highwayfufalt(CL61)-highwayfufalt(CL60),3),\"\")","v":""},"","","",{"$f":"IF(CA61=\"\",1, MIN(IFERROR((CA61/1000)/((BX61*$J$22)*$J$21/3600),1),IFERROR((SUMIFS(CA59:CA93,BW59:BW93,\"<=\"&$BW61,BW59:BW93,\">=\"&$BW61-1)/1000)/(  $J$22*SUMIFS(BX59:BX93,BW59:BW93,\"<=\"&$BW61,BW59:BW93,\">=\"&$BW61-1)*$J$21/3600),1),IFERROR((SUMIFS(CA59:CA93,BW59:BW93,\"<=\"&$BW61,BW59:BW93,\">=\"&$BW61-2)/1000)/(  $J$22*SUMIFS(BX59:BX93,BW59:BW93,\"<=\"&$BW61,BW59:BW93,\">=\"&$BW61-2)*$J$21/3600),1),IFERROR((SUMIFS(CA59:CA93,BW59:BW93,\"<=\"&$BW61,BW59:BW93,\">=\"&$BW61-3)/1000)/(  $J$22*SUMIFS(BX59:BX93,BW59:BW93,\"<=\"&$BW61,BW59:BW93,\">=\"&$BW61-3)*$J$21/3600),1)) )","v":1},"",{"$f":"IF(CA61=\"\",1, MIN($CA61/SUM($CA59:$CA61),SUMIFS(CA59:CA93,BW59:BW93,\">=\"&$BW61-1,BW59:BW93,\"<=\"&$BW61)/SUM($CA59:$CA61),SUMIFS(CA59:CA93,BW59:BW93,\">=\"&$BW61-2,BW59:BW93,\"<=\"&$BW61)/SUM($CA59:$CA61),SUMIFS(CA59:CA93,BW59:BW93,\">=\"&$BW61-3,BW59:BW93,\"<=\"&$BW61)/SUM($CA59:$CA61)) )","v":1}]
[null,null,"Charge-sustaining CO2",null,null,"g/mi",null,null,null,null,null,null,"CO2, Unadjusted (g/mi):",null,null,null,4,null,null,null,null,null,null,null,4,null,null,null,null,null,null,null,null,null,"Charge-Depleting",null,null,"Combined",null,null,"NEW","CD Rcda total fuel consumption (Rcda), unadjusted (gal equiv) [4]",{"$f":"IFERROR(astm(SUMIF(AV59:AV93,\"<=\" & (AQ82-1),BH59:BH93) + AQ81*SUMIF(AV59:AV93,\"=\" & (AQ82-1),BH59:BH93),4),0)","v":0},{"$f":"IFERROR(astm(SUMIF(BW59:BW93,\"<=\" & (AR82-1),CI59:CI93) + AR81*SUMIF(BW59:BW93,\"=\" & (AR82-1),CI59:CI93),4),0)","v":0},null,null,null,4,"","","","",{"$f":"IFERROR(astm(  astm($W$94,3)*1000*(AZ62/AQ61),1),\"\")","v":""},"","","",{"$f":"IFERROR(astm(cityfuf(BB62),3)-astm(cityfuf(BB61),3),\"\")","v":""},"","","","","","",{"$f":"IFERROR(astm(mdiuf(BK62),3)-astm(mdiuf(BK61),3),\"\")","v":""},"","",{"$f":"IFERROR(astm(cityfufalt(BK62),3)-astm(cityfufalt(BK61),3),\"\")","v":""},"","","",{"$f":"IF(AZ62=\"\",1, MIN(IFERROR((AZ62/1000)/((AW62*$J$22)*$J$21/3600),1),IFERROR((SUMIFS(AZ59:AZ93,AV59:AV93,\"<=\"&$AV62,AV59:AV93,\">=\"&$AV62-1)/1000)/(  $J$22*SUMIFS(AW59:AW93,AV59:AV93,\"<=\"&$AV62,AV59:AV93,\">=\"&$AV62-1)*$J$21/3600),1),IFERROR((SUMIFS(AZ59:AZ93,AV59:AV93,\"<=\"&$AV62,AV59:AV93,\">=\"&$AV62-2)/1000)/(  $J$22*SUMIFS(AW59:AW93,AV59:AV93,\"<=\"&$AV62,AV59:AV93,\">=\"&$AV62-2)*$J$21/3600),1),IFERROR((SUMIFS(AZ59:AZ93,AV59:AV93,\"<=\"&$AV62,AV59:AV93,\">=\"&$AV62-3)/1000)/(  $J$22*SUMIFS(AW59:AW93,AV59:AV93,\"<=\"&$AV62,AV59:AV93,\">=\"&$AV62-3)*$J$21/3600),1)) )","v":1},"",{"$f":"IF(AZ62=\"\",1, MIN($AZ62/SUM($AZ59:$AZ62),SUMIFS(AZ59:AZ93,AV59:AV93,\">=\"&$AV62-1,AV59:AV93,\"<=\"&$AV62)/SUM($AZ59:$AZ62),SUMIFS(AZ59:AZ93,AV59:AV93,\">=\"&$AV62-2,AV59:AV93,\"<=\"&$AV62)/SUM($AZ59:$AZ62),SUMIFS(AZ59:AZ93,AV59:AV93,\">=\"&$AV62-3,AV59:AV93,\"<=\"&$AV62)/SUM($AZ59:$AZ62)) )","v":1},null,4,"","","","","","","","",{"$f":"IFERROR(astm(highwayfuf(CC62)-highwayfuf(CC61),3),\"\")","v":""},"","","","","","",{"$f":"IFERROR(astm(mdiuf(CL62)-mdiuf(CL61),3),\"\")","v":""},"","",{"$f":"IFERROR(astm(highwayfufalt(CL62)-highwayfufalt(CL61),3),\"\")","v":""},"","","",{"$f":"IF(CA62=\"\",1, MIN(IFERROR((CA62/1000)/((BX62*$J$22)*$J$21/3600),1),IFERROR((SUMIFS(CA59:CA93,BW59:BW93,\"<=\"&$BW62,BW59:BW93,\">=\"&$BW62-1)/1000)/(  $J$22*SUMIFS(BX59:BX93,BW59:BW93,\"<=\"&$BW62,BW59:BW93,\">=\"&$BW62-1)*$J$21/3600),1),IFERROR((SUMIFS(CA59:CA93,BW59:BW93,\"<=\"&$BW62,BW59:BW93,\">=\"&$BW62-2)/1000)/(  $J$22*SUMIFS(BX59:BX93,BW59:BW93,\"<=\"&$BW62,BW59:BW93,\">=\"&$BW62-2)*$J$21/3600),1),IFERROR((SUMIFS(CA59:CA93,BW59:BW93,\"<=\"&$BW62,BW59:BW93,\">=\"&$BW62-3)/1000)/(  $J$22*SUMIFS(BX59:BX93,BW59:BW93,\"<=\"&$BW62,BW59:BW93,\">=\"&$BW62-3)*$J$21/3600),1)) )","v":1},"",{"$f":"IF(CA62=\"\",1, MIN($CA62/SUM($CA59:$CA62),SUMIFS(CA59:CA93,BW59:BW93,\">=\"&$BW62-1,BW59:BW93,\"<=\"&$BW62)/SUM($CA59:$CA62),SUMIFS(CA59:CA93,BW59:BW93,\">=\"&$BW62-2,BW59:BW93,\"<=\"&$BW62)/SUM($CA59:$CA62),SUMIFS(CA59:CA93,BW59:BW93,\">=\"&$BW62-3,BW59:BW93,\"<=\"&$BW62)/SUM($CA59:$CA62)) )","v":1}]
[null,null,"City CO2 Rounded Adjusted",null,null,{"$f":"astm(IF($N$7+$N$55+$N$103=0,   (N15+N63+N111)/ ((N15<>0)+(N63<>0)+(N111<>0)),    (IFERROR($N$7*N15,0)+IFERROR($N$55*N63,0)+IFERROR($N$103*N111,0)) /  ($N$7+$N$55+$N$103)   ),0)","v":{"$error":"#VALUE!"}},null,null,null,null,null,null,"CO2, Adjusted (g/mi):",null,null,null,5,null,null,null,null,null,null,null,5,null,null,null,null,null,null,null,null,null,"CD range, adjusted (miles) [0]",null,null,{"$f":"IFERROR(astm(0.55*AQ55+0.45*AR55,0),0)","v":0},null,null,null,"CD utilitized total fuel consumption rate (55/45 FUF, Rcdc), unadjusted (gal-equiv/mile) [6]",{"$f":" astm(SUMIF(AV59:AV93,\"<=\" & (AQ82),BG59:BG93)*1000000,0)/1000000","v":0},{"$f":" astm(SUMIF(BW59:BW93,\"<=\" & (AR82),CH59:CH93)*1000000,0)/1000000","v":0},null,null,null,5,"","","","",{"$f":"IFERROR(astm(  astm($W$94,3)*1000*(AZ63/AQ61),1),\"\")","v":""},"","","",{"$f":"IFERROR(astm(cityfuf(BB63),3)-astm(cityfuf(BB62),3),\"\")","v":""},"","","","","","",{"$f":"IFERROR(astm(mdiuf(BK63),3)-astm(mdiuf(BK62),3),\"\")","v":""},"","",{"$f":"IFERROR(astm(cityfufalt(BK63),3)-astm(cityfufalt(BK62),3),\"\")","v":""},"","","",{"$f":"IF(AZ63=\"\",1, MIN(IFERROR((AZ63/1000)/((AW63*$J$22)*$J$21/3600),1),IFERROR((SUMIFS(AZ59:AZ93,AV59:AV93,\"<=\"&$AV63,AV59:AV93,\">=\"&$AV63-1)/1000)/(  $J$22*SUMIFS(AW59:AW93,AV59:AV93,\"<=\"&$AV63,AV59:AV93,\">=\"&$AV63-1)*$J$21/3600),1),IFERROR((SUMIFS(AZ59:AZ93,AV59:AV93,\"<=\"&$AV63,AV59:AV93,\">=\"&$AV63-2)/1000)/(  $J$22*SUMIFS(AW59:AW93,AV59:AV93,\"<=\"&$AV63,AV59:AV93,\">=\"&$AV63-2)*$J$21/3600),1),IFERROR((SUMIFS(AZ59:AZ93,AV59:AV93,\"<=\"&$AV63,AV59:AV93,\">=\"&$AV63-3)/1000)/(  $J$22*SUMIFS(AW59:AW93,AV59:AV93,\"<=\"&$AV63,AV59:AV93,\">=\"&$AV63-3)*$J$21/3600),1)) )","v":1},"",{"$f":"IF(AZ63=\"\",1, MIN($AZ63/SUM($AZ59:$AZ63),SUMIFS(AZ59:AZ93,AV59:AV93,\">=\"&$AV63-1,AV59:AV93,\"<=\"&$AV63)/SUM($AZ59:$AZ63),SUMIFS(AZ59:AZ93,AV59:AV93,\">=\"&$AV63-2,AV59:AV93,\"<=\"&$AV63)/SUM($AZ59:$AZ63),SUMIFS(AZ59:AZ93,AV59:AV93,\">=\"&$AV63-3,AV59:AV93,\"<=\"&$AV63)/SUM($AZ59:$AZ63)) )","v":1},null,5,"","","","","","","","",{"$f":"IFERROR(astm(highwayfuf(CC63)-highwayfuf(CC62),3),\"\")","v":""},"","","","","","",{"$f":"IFERROR(astm(mdiuf(CL63)-mdiuf(CL62),3),\"\")","v":""},"","",{"$f":"IFERROR(astm(highwayfufalt(CL63)-highwayfufalt(CL62),3),\"\")","v":""},"","","",{"$f":"IF(CA63=\"\",1, MIN(IFERROR((CA63/1000)/((BX63*$J$22)*$J$21/3600),1),IFERROR((SUMIFS(CA59:CA93,BW59:BW93,\"<=\"&$BW63,BW59:BW93,\">=\"&$BW63-1)/1000)/(  $J$22*SUMIFS(BX59:BX93,BW59:BW93,\"<=\"&$BW63,BW59:BW93,\">=\"&$BW63-1)*$J$21/3600),1),IFERROR((SUMIFS(CA59:CA93,BW59:BW93,\"<=\"&$BW63,BW59:BW93,\">=\"&$BW63-2)/1000)/(  $J$22*SUMIFS(BX59:BX93,BW59:BW93,\"<=\"&$BW63,BW59:BW93,\">=\"&$BW63-2)*$J$21/3600),1),IFERROR((SUMIFS(CA59:CA93,BW59:BW93,\"<=\"&$BW63,BW59:BW93,\">=\"&$BW63-3)/1000)/(  $J$22*SUMIFS(BX59:BX93,BW59:BW93,\"<=\"&$BW63,BW59:BW93,\">=\"&$BW63-3)*$J$21/3600),1)) )","v":1},"",{"$f":"IF(CA63=\"\",1, MIN($CA63/SUM($CA59:$CA63),SUMIFS(CA59:CA93,BW59:BW93,\">=\"&$BW63-1,BW59:BW93,\"<=\"&$BW63)/SUM($CA59:$CA63),SUMIFS(CA59:CA93,BW59:BW93,\">=\"&$BW63-2,BW59:BW93,\"<=\"&$BW63)/SUM($CA59:$CA63),SUMIFS(CA59:CA93,BW59:BW93,\">=\"&$BW63-3,BW59:BW93,\"<=\"&$BW63)/SUM($CA59:$CA63)) )","v":1}]
[null,null,"Hwy CO2 Rounded Adjusted",null,null,{"$f":"astm(IF($N$7+$N$55+$N$103=0,   (O15+O63+O111)/ ((O15<>0)+(O63<>0)+(O111<>0)),    (IFERROR($N$7*O15,0)+IFERROR($N$55*O63,0)+IFERROR($N$103*O111,0)) /  ($N$7+$N$55+$N$103)   ),0)","v":{"$error":"#VALUE!"}},null,null,null,null,null,null,null,null,null,null,6,null,null,null,null,null,null,null,6,null,null,null,null,null,null,null,null,null,"CD All-Electric Range, adjusted (mi) [0]",null,null,{"$f":"IFERROR(astm(0.55*AQ57+0.45*AR57,0),0)","v":0},null,null,"NEW","CD utilitized total fuel consumption rate (43/57 FUF, Rcdc), adjusted (gal-equiv/mile) [6]",{"$f":" astm( 1000000*SUMIF(AV59:AV93,\"<=\" & (AQ82),BP59:BP93), 0) / 1000000","v":0},{"$f":" astm( 1000000*SUMIF(BW59:BW93,\"<=\" & (AR82),CQ59:CQ93), 0) / 1000000","v":0},null,null,null,6,"","","","",{"$f":"IFERROR(astm(  astm($W$94,3)*1000*(AZ64/AQ61),1),\"\")","v":""},"","","",{"$f":"IFERROR(astm(cityfuf(BB64),3)-astm(cityfuf(BB63),3),\"\")","v":""},"","","","","","",{"$f":"IFERROR(astm(mdiuf(BK64),3)-astm(mdiuf(BK63),3),\"\")","v":""},"","",{"$f":"IFERROR(astm(cityfufalt(BK64),3)-astm(cityfufalt(BK63),3),\"\")","v":""},"","","",{"$f":"IF(AZ64=\"\",1, MIN(IFERROR((AZ64/1000)/((AW64*$J$22)*$J$21/3600),1),IFERROR((SUMIFS(AZ59:AZ93,AV59:AV93,\"<=\"&$AV64,AV59:AV93,\">=\"&$AV64-1)/1000)/(  $J$22*SUMIFS(AW59:AW93,AV59:AV93,\"<=\"&$AV64,AV59:AV93,\">=\"&$AV64-1)*$J$21/3600),1),IFERROR((SUMIFS(AZ59:AZ93,AV59:AV93,\"<=\"&$AV64,AV59:AV93,\">=\"&$AV64-2)/1000)/(  $J$22*SUMIFS(AW59:AW93,AV59:AV93,\"<=\"&$AV64,AV59:AV93,\">=\"&$AV64-2)*$J$21/3600),1),IFERROR((SUMIFS(AZ59:AZ93,AV59:AV93,\"<=\"&$AV64,AV59:AV93,\">=\"&$AV64-3)/1000)/(  $J$22*SUMIFS(AW59:AW93,AV59:AV93,\"<=\"&$AV64,AV59:AV93,\">=\"&$AV64-3)*$J$21/3600),1)) )","v":1},"",{"$f":"IF(AZ64=\"\",1, MIN($AZ64/SUM($AZ59:$AZ64),SUMIFS(AZ59:AZ93,AV59:AV93,\">=\"&$AV64-1,AV59:AV93,\"<=\"&$AV64)/SUM($AZ59:$AZ64),SUMIFS(AZ59:AZ93,AV59:AV93,\">=\"&$AV64-2,AV59:AV93,\"<=\"&$AV64)/SUM($AZ59:$AZ64),SUMIFS(AZ59:AZ93,AV59:AV93,\">=\"&$AV64-3,AV59:AV93,\"<=\"&$AV64)/SUM($AZ59:$AZ64)) )","v":1},null,6,"","","","","","","","",{"$f":"IFERROR(astm(highwayfuf(CC64)-highwayfuf(CC63),3),\"\")","v":""},"","","","","","",{"$f":"IFERROR(astm(mdiuf(CL64)-mdiuf(CL63),3),\"\")","v":""},"","",{"$f":"IFERROR(astm(highwayfufalt(CL64)-highwayfufalt(CL63),3),\"\")","v":""},"","","",{"$f":"IF(CA64=\"\",1, MIN(IFERROR((CA64/1000)/((BX64*$J$22)*$J$21/3600),1),IFERROR((SUMIFS(CA59:CA93,BW59:BW93,\"<=\"&$BW64,BW59:BW93,\">=\"&$BW64-1)/1000)/(  $J$22*SUMIFS(BX59:BX93,BW59:BW93,\"<=\"&$BW64,BW59:BW93,\">=\"&$BW64-1)*$J$21/3600),1),IFERROR((SUMIFS(CA59:CA93,BW59:BW93,\"<=\"&$BW64,BW59:BW93,\">=\"&$BW64-2)/1000)/(  $J$22*SUMIFS(BX59:BX93,BW59:BW93,\"<=\"&$BW64,BW59:BW93,\">=\"&$BW64-2)*$J$21/3600),1),IFERROR((SUMIFS(CA59:CA93,BW59:BW93,\"<=\"&$BW64,BW59:BW93,\">=\"&$BW64-3)/1000)/(  $J$22*SUMIFS(BX59:BX93,BW59:BW93,\"<=\"&$BW64,BW59:BW93,\">=\"&$BW64-3)*$J$21/3600),1)) )","v":1},"",{"$f":"IF(CA64=\"\",1, MIN($CA64/SUM($CA59:$CA64),SUMIFS(CA59:CA93,BW59:BW93,\">=\"&$BW64-1,BW59:BW93,\"<=\"&$BW64)/SUM($CA59:$CA64),SUMIFS(CA59:CA93,BW59:BW93,\">=\"&$BW64-2,BW59:BW93,\"<=\"&$BW64)/SUM($CA59:$CA64),SUMIFS(CA59:CA93,BW59:BW93,\">=\"&$BW64-3,BW59:BW93,\"<=\"&$BW64)/SUM($CA59:$CA64)) )","v":1}]
[null,null,"Comb CO2 Rounded Adjusted",null,null,{"$f":"astm(0.55*(IF($N$7+$N$55+$N$103=0,   (N15+N63+N111)/ ((N15<>0)+(N63<>0)+(N111<>0)),    (IFERROR($N$7*N15,0)+IFERROR($N$55*N63,0)+IFERROR($N$103*N111,0)) /  ($N$7+$N$55+$N$103)   ))+0.45*(IF($N$7+$N$55+$N$103=0,   (O15+O63+O111)/ ((O15<>0)+(O63<>0)+(O111<>0)),    (IFERROR($N$7*O15,0)+IFERROR($N$55*O63,0)+IFERROR($N$103*O111,0)) /  ($N$7+$N$55+$N$103)   )),0)","v":{"$error":"#VALUE!"}},null,null,null,null,null,null,null,null,null,null,7,null,null,null,null,null,null,null,7,null,null,null,null,null,null,null,null,null,"Total Driving Range (Miles) [0]",null,null,{"$f":"IFERROR(astm(   IFERROR((astm(0.55*AQ86+0.45*AR86,0)+AL63),0) / 10,0) *10,0)","v":0},null,null,"NEW","CD utilitized total fuel consumption rate (MDIUF, Rcdc), adjusted (gal-equiv/mile) [6]",{"$f":" astm(SUMIF(AV59:AV93,\"<=\" & (AQ82),BN59:BN93)*1000000,0) / 1000000","v":0},{"$f":" astm(SUMIF(BW59:BW93,\"<=\" & (AR82),CO59:CO93)*1000000,0) / 1000000","v":0},null,null,null,7,"","","","",{"$f":"IFERROR(astm(  astm($W$94,3)*1000*(AZ65/AQ61),1),\"\")","v":""},"","","",{"$f":"IFERROR(astm(cityfuf(BB65),3)-astm(cityfuf(BB64),3),\"\")","v":""},"","","","","","",{"$f":"IFERROR(astm(mdiuf(BK65),3)-astm(mdiuf(BK64),3),\"\")","v":""},"","",{"$f":"IFERROR(astm(cityfufalt(BK65),3)-astm(cityfufalt(BK64),3),\"\")","v":""},"","","",{"$f":"IF(AZ65=\"\",1, MIN(IFERROR((AZ65/1000)/((AW65*$J$22)*$J$21/3600),1),IFERROR((SUMIFS(AZ59:AZ93,AV59:AV93,\"<=\"&$AV65,AV59:AV93,\">=\"&$AV65-1)/1000)/(  $J$22*SUMIFS(AW59:AW93,AV59:AV93,\"<=\"&$AV65,AV59:AV93,\">=\"&$AV65-1)*$J$21/3600),1),IFERROR((SUMIFS(AZ59:AZ93,AV59:AV93,\"<=\"&$AV65,AV59:AV93,\">=\"&$AV65-2)/1000)/(  $J$22*SUMIFS(AW59:AW93,AV59:AV93,\"<=\"&$AV65,AV59:AV93,\">=\"&$AV65-2)*$J$21/3600),1),IFERROR((SUMIFS(AZ59:AZ93,AV59:AV93,\"<=\"&$AV65,AV59:AV93,\">=\"&$AV65-3)/1000)/(  $J$22*SUMIFS(AW59:AW93,AV59:AV93,\"<=\"&$AV65,AV59:AV93,\">=\"&$AV65-3)*$J$21/3600),1)) )","v":1},"",{"$f":"IF(AZ65=\"\",1, MIN($AZ65/SUM($AZ59:$AZ65),SUMIFS(AZ59:AZ93,AV59:AV93,\">=\"&$AV65-1,AV59:AV93,\"<=\"&$AV65)/SUM($AZ59:$AZ65),SUMIFS(AZ59:AZ93,AV59:AV93,\">=\"&$AV65-2,AV59:AV93,\"<=\"&$AV65)/SUM($AZ59:$AZ65),SUMIFS(AZ59:AZ93,AV59:AV93,\">=\"&$AV65-3,AV59:AV93,\"<=\"&$AV65)/SUM($AZ59:$AZ65)) )","v":1},null,7,"","","","","","","","",{"$f":"IFERROR(astm(highwayfuf(CC65)-highwayfuf(CC64),3),\"\")","v":""},"","","","","","",{"$f":"IFERROR(astm(mdiuf(CL65)-mdiuf(CL64),3),\"\")","v":""},"","",{"$f":"IFERROR(astm(highwayfufalt(CL65)-highwayfufalt(CL64),3),\"\")","v":""},"","","",{"$f":"IF(CA65=\"\",1, MIN(IFERROR((CA65/1000)/((BX65*$J$22)*$J$21/3600),1),IFERROR((SUMIFS(CA59:CA93,BW59:BW93,\"<=\"&$BW65,BW59:BW93,\">=\"&$BW65-1)/1000)/(  $J$22*SUMIFS(BX59:BX93,BW59:BW93,\"<=\"&$BW65,BW59:BW93,\">=\"&$BW65-1)*$J$21/3600),1),IFERROR((SUMIFS(CA59:CA93,BW59:BW93,\"<=\"&$BW65,BW59:BW93,\">=\"&$BW65-2)/1000)/(  $J$22*SUMIFS(BX59:BX93,BW59:BW93,\"<=\"&$BW65,BW59:BW93,\">=\"&$BW65-2)*$J$21/3600),1),IFERROR((SUMIFS(CA59:CA93,BW59:BW93,\"<=\"&$BW65,BW59:BW93,\">=\"&$BW65-3)/1000)/(  $J$22*SUMIFS(BX59:BX93,BW59:BW93,\"<=\"&$BW65,BW59:BW93,\">=\"&$BW65-3)*$J$21/3600),1)) )","v":1},"",{"$f":"IF(CA65=\"\",1, MIN($CA65/SUM($CA59:$CA65),SUMIFS(CA59:CA93,BW59:BW93,\">=\"&$BW65-1,BW59:BW93,\"<=\"&$BW65)/SUM($CA59:$CA65),SUMIFS(CA59:CA93,BW59:BW93,\">=\"&$BW65-2,BW59:BW93,\"<=\"&$BW65)/SUM($CA59:$CA65),SUMIFS(CA59:CA93,BW59:BW93,\">=\"&$BW65-3,BW59:BW93,\"<=\"&$BW65)/SUM($CA59:$CA65)) )","v":1}]
[null,null,"*City CO2 Unadj",null,null,{"$f":"astm(IF($N$7+$N$55+$N$103=0,   (N14+N62+N110)/ ((N14<>0)+(N62<>0)+(N110<>0)),    (IFERROR($N$7*N14,0)+IFERROR($N$55*N62,0)+IFERROR($N$103*N110,0)) /  ($N$7+$N$55+$N$103)   ),1)","v":{"$error":"#VALUE!"}},null,null,null,null,null,null,null,null,null,null,8,null,null,null,null,null,null,null,8,null,null,null,null,null,null,null,null,null,"CD Fuel Economy (MPGe) [0]",null,null,{"$f":" IFERROR(astm(1/(0.55/AQ67+0.45/AR67),0),0)","v":0},null,null,null,"CD gasoline consumption (Rcda), adjusted (gal) [1]",{"$f":"IFERROR(SUMIF(AV59:AV93,\"<=\" & AQ82-1,AW59:AW93)+AQ81*SUMIF(AV59:AV93,\"=\" & AQ82-1,AW59:AW93),0)","v":0},{"$f":"IFERROR(SUMIF(BW59:BW93,\"<=\" & AR82-1,BX59:BX93)+AR81*SUMIF(BW59:BW93,\"=\" & AR82-1,BX59:BX93),0)","v":0},null,null,null,8,"","","","",{"$f":"IFERROR(astm(  astm($W$94,3)*1000*(AZ66/AQ61),1),\"\")","v":""},"","","",{"$f":"IFERROR(astm(cityfuf(BB66),3)-astm(cityfuf(BB65),3),\"\")","v":""},"","","","","","",{"$f":"IFERROR(astm(mdiuf(BK66),3)-astm(mdiuf(BK65),3),\"\")","v":""},"","",{"$f":"IFERROR(astm(cityfufalt(BK66),3)-astm(cityfufalt(BK65),3),\"\")","v":""},"","","",{"$f":"IF(AZ66=\"\",1, MIN(IFERROR((AZ66/1000)/((AW66*$J$22)*$J$21/3600),1),IFERROR((SUMIFS(AZ59:AZ93,AV59:AV93,\"<=\"&$AV66,AV59:AV93,\">=\"&$AV66-1)/1000)/(  $J$22*SUMIFS(AW59:AW93,AV59:AV93,\"<=\"&$AV66,AV59:AV93,\">=\"&$AV66-1)*$J$21/3600),1),IFERROR((SUMIFS(AZ59:AZ93,AV59:AV93,\"<=\"&$AV66,AV59:AV93,\">=\"&$AV66-2)/1000)/(  $J$22*SUMIFS(AW59:AW93,AV59:AV93,\"<=\"&$AV66,AV59:AV93,\">=\"&$AV66-2)*$J$21/3600),1),IFERROR((SUMIFS(AZ59:AZ93,AV59:AV93,\"<=\"&$AV66,AV59:AV93,\">=\"&$AV66-3)/1000)/(  $J$22*SUMIFS(AW59:AW93,AV59:AV93,\"<=\"&$AV66,AV59:AV93,\">=\"&$AV66-3)*$J$21/3600),1)) )","v":1},"",{"$f":"IF(AZ66=\"\",1, MIN($AZ66/SUM($AZ59:$AZ66),SUMIFS(AZ59:AZ93,AV59:AV93,\">=\"&$AV66-1,AV59:AV93,\"<=\"&$AV66)/SUM($AZ59:$AZ66),SUMIFS(AZ59:AZ93,AV59:AV93,\">=\"&$AV66-2,AV59:AV93,\"<=\"&$AV66)/SUM($AZ59:$AZ66),SUMIFS(AZ59:AZ93,AV59:AV93,\">=\"&$AV66-3,AV59:AV93,\"<=\"&$AV66)/SUM($AZ59:$AZ66)) )","v":1},null,8,"","","","","","","","",{"$f":"IFERROR(astm(highwayfuf(CC66)-highwayfuf(CC65),3),\"\")","v":""},"","","","","","",{"$f":"IFERROR(astm(mdiuf(CL66)-mdiuf(CL65),3),\"\")","v":""},"","",{"$f":"IFERROR(astm(highwayfufalt(CL66)-highwayfufalt(CL65),3),\"\")","v":""},"","","",{"$f":"IF(CA66=\"\",1, MIN(IFERROR((CA66/1000)/((BX66*$J$22)*$J$21/3600),1),IFERROR((SUMIFS(CA59:CA93,BW59:BW93,\"<=\"&$BW66,BW59:BW93,\">=\"&$BW66-1)/1000)/(  $J$22*SUMIFS(BX59:BX93,BW59:BW93,\"<=\"&$BW66,BW59:BW93,\">=\"&$BW66-1)*$J$21/3600),1),IFERROR((SUMIFS(CA59:CA93,BW59:BW93,\"<=\"&$BW66,BW59:BW93,\">=\"&$BW66-2)/1000)/(  $J$22*SUMIFS(BX59:BX93,BW59:BW93,\"<=\"&$BW66,BW59:BW93,\">=\"&$BW66-2)*$J$21/3600),1),IFERROR((SUMIFS(CA59:CA93,BW59:BW93,\"<=\"&$BW66,BW59:BW93,\">=\"&$BW66-3)/1000)/(  $J$22*SUMIFS(BX59:BX93,BW59:BW93,\"<=\"&$BW66,BW59:BW93,\">=\"&$BW66-3)*$J$21/3600),1)) )","v":1},"",{"$f":"IF(CA66=\"\",1, MIN($CA66/SUM($CA59:$CA66),SUMIFS(CA59:CA93,BW59:BW93,\">=\"&$BW66-1,BW59:BW93,\"<=\"&$BW66)/SUM($CA59:$CA66),SUMIFS(CA59:CA93,BW59:BW93,\">=\"&$BW66-2,BW59:BW93,\"<=\"&$BW66)/SUM($CA59:$CA66),SUMIFS(CA59:CA93,BW59:BW93,\">=\"&$BW66-3,BW59:BW93,\"<=\"&$BW66)/SUM($CA59:$CA66)) )","v":1}]
[null,null,"*Hwy CO2 Unadj",null,null,{"$f":"astm(IF($N$7+$N$55+$N$103=0,   (O14+O62+O110)/ ((O14<>0)+(O62<>0)+(O110<>0)),    (IFERROR($N$7*O14,0)+IFERROR($N$55*O62,0)+IFERROR($N$103*O110,0)) /  ($N$7+$N$55+$N$103)   ),1)","v":{"$error":"#VALUE!"}},null,null,null,null,null,null,null,null,null,null,9,null,null,null,null,null,null,null,9,null,null,null,null,null,null,null,null,null,"CD Electricity Consumption  (kW-hr/100mi) [0]",null,null,{"$f":"IFERROR(astm(0.55*AQ60+0.45*AR60,0),0)","v":0},null,null,null,"CD fuel economy (Rcda), adjusted (MPGe) [4]",{"$f":"IFERROR(astm( AQ55/ ( SUMIF(AV59:AV93,\"<=\" & (AQ82-1),BH59:BH93) + AQ81*SUMIF(AV59:AV93,\"=\" & (AQ82-1),BH59:BH93) ),4),0)","v":0},{"$f":"IFERROR(astm( AR55/ ( SUMIF(BW59:BW93,\"<=\" & (AR82-1),CI59:CI93) + AR81*SUMIF(BW59:BW93,\"=\" & (AR82-1),CI59:CI93) ),4),0)","v":0},null,null,null,9,"","","","",{"$f":"IFERROR(astm(  astm($W$94,3)*1000*(AZ67/AQ61),1),\"\")","v":""},"","","",{"$f":"IFERROR(astm(cityfuf(BB67),3)-astm(cityfuf(BB66),3),\"\")","v":""},"","","","","","",{"$f":"IFERROR(astm(mdiuf(BK67),3)-astm(mdiuf(BK66),3),\"\")","v":""},"","",{"$f":"IFERROR(astm(cityfufalt(BK67),3)-astm(cityfufalt(BK66),3),\"\")","v":""},"","","",{"$f":"IF(AZ67=\"\",1, MIN(IFERROR((AZ67/1000)/((AW67*$J$22)*$J$21/3600),1),IFERROR((SUMIFS(AZ59:AZ93,AV59:AV93,\"<=\"&$AV67,AV59:AV93,\">=\"&$AV67-1)/1000)/(  $J$22*SUMIFS(AW59:AW93,AV59:AV93,\"<=\"&$AV67,AV59:AV93,\">=\"&$AV67-1)*$J$21/3600),1),IFERROR((SUMIFS(AZ59:AZ93,AV59:AV93,\"<=\"&$AV67,AV59:AV93,\">=\"&$AV67-2)/1000)/(  $J$22*SUMIFS(AW59:AW93,AV59:AV93,\"<=\"&$AV67,AV59:AV93,\">=\"&$AV67-2)*$J$21/3600),1),IFERROR((SUMIFS(AZ59:AZ93,AV59:AV93,\"<=\"&$AV67,AV59:AV93,\">=\"&$AV67-3)/1000)/(  $J$22*SUMIFS(AW59:AW93,AV59:AV93,\"<=\"&$AV67,AV59:AV93,\">=\"&$AV67-3)*$J$21/3600),1)) )","v":1},"",{"$f":"IF(AZ67=\"\",1, MIN($AZ67/SUM($AZ59:$AZ67),SUMIFS(AZ59:AZ93,AV59:AV93,\">=\"&$AV67-1,AV59:AV93,\"<=\"&$AV67)/SUM($AZ59:$AZ67),SUMIFS(AZ59:AZ93,AV59:AV93,\">=\"&$AV67-2,AV59:AV93,\"<=\"&$AV67)/SUM($AZ59:$AZ67),SUMIFS(AZ59:AZ93,AV59:AV93,\">=\"&$AV67-3,AV59:AV93,\"<=\"&$AV67)/SUM($AZ59:$AZ67)) )","v":1},null,9,"","","","","","","","",{"$f":"IFERROR(astm(highwayfuf(CC67)-highwayfuf(CC66),3),\"\")","v":""},"","","","","","",{"$f":"IFERROR(astm(mdiuf(CL67)-mdiuf(CL66),3),\"\")","v":""},"","",{"$f":"IFERROR(astm(highwayfufalt(CL67)-highwayfufalt(CL66),3),\"\")","v":""},"","","",{"$f":"IF(CA67=\"\",1, MIN(IFERROR((CA67/1000)/((BX67*$J$22)*$J$21/3600),1),IFERROR((SUMIFS(CA59:CA93,BW59:BW93,\"<=\"&$BW67,BW59:BW93,\">=\"&$BW67-1)/1000)/(  $J$22*SUMIFS(BX59:BX93,BW59:BW93,\"<=\"&$BW67,BW59:BW93,\">=\"&$BW67-1)*$J$21/3600),1),IFERROR((SUMIFS(CA59:CA93,BW59:BW93,\"<=\"&$BW67,BW59:BW93,\">=\"&$BW67-2)/1000)/(  $J$22*SUMIFS(BX59:BX93,BW59:BW93,\"<=\"&$BW67,BW59:BW93,\">=\"&$BW67-2)*$J$21/3600),1),IFERROR((SUMIFS(CA59:CA93,BW59:BW93,\"<=\"&$BW67,BW59:BW93,\">=\"&$BW67-3)/1000)/(  $J$22*SUMIFS(BX59:BX93,BW59:BW93,\"<=\"&$BW67,BW59:BW93,\">=\"&$BW67-3)*$J$21/3600),1)) )","v":1},"",{"$f":"IF(CA67=\"\",1, MIN($CA67/SUM($CA59:$CA67),SUMIFS(CA59:CA93,BW59:BW93,\">=\"&$BW67-1,BW59:BW93,\"<=\"&$BW67)/SUM($CA59:$CA67),SUMIFS(CA59:CA93,BW59:BW93,\">=\"&$BW67-2,BW59:BW93,\"<=\"&$BW67)/SUM($CA59:$CA67),SUMIFS(CA59:CA93,BW59:BW93,\">=\"&$BW67-3,BW59:BW93,\"<=\"&$BW67)/SUM($CA59:$CA67)) )","v":1}]
[null,null,"*Comb CO2 Unadj",null,null,{"$f":"astm(0.55*(IF($N$7+$N$55+$N$103=0,   (N14+N62+N110)/ ((N14<>0)+(N62<>0)+(N110<>0)),    (IFERROR($N$7*N14,0)+IFERROR($N$55*N62,0)+IFERROR($N$103*N110,0)) /  ($N$7+$N$55+$N$103)   ))+0.45*(IF($N$7+$N$55+$N$103=0,   (O14+O62+O110)/ ((O14<>0)+(O62<>0)+(O110<>0)),    (IFERROR($N$7*O14,0)+IFERROR($N$55*O62,0)+IFERROR($N$103*O110,0)) /  ($N$7+$N$55+$N$103)   )),1)","v":{"$error":"#VALUE!"}},null,null,null,null,null,null,null,null,null,null,10,null,null,null,null,null,null,null,10,null,null,null,null,null,null,null,null,null,"CD Gasoline Consumption (gal/100mi) [0]",null,null,{"$f":"IFERROR(astm(0.55*AQ68+0.45*AR68,1),0)","v":0},null,null,null,"CD gasoline consumption rate (Rcda), adjusted (gal/100mi) [4]",{"$f":"IFERROR(astm(100*(SUMIF(AV59:AV93,\"<=\" & AQ82-1,AW59:AW93)+AQ81*SUMIF(AV59:AV93,\"=\" & AQ82-1,AW59:AW93))/AQ55,4),0)","v":0},{"$f":"IFERROR(astm(100*(SUMIF(BW59:BW93,\"<=\" & AR82-1,BX59:BX93)+AR81*SUMIF(BW59:BW93,\"=\" & AR82-1,BX59:BX93))/AR55,4),0)","v":0},null,null,null,10,"","","","",{"$f":"IFERROR(astm(  astm($W$94,3)*1000*(AZ68/AQ61),1),\"\")","v":""},"","","",{"$f":"IFERROR(astm(cityfuf(BB68),3)-astm(cityfuf(BB67),3),\"\")","v":""},"","","","","","",{"$f":"IFERROR(astm(mdiuf(BK68),3)-astm(mdiuf(BK67),3),\"\")","v":""},"","",{"$f":"IFERROR(astm(cityfufalt(BK68),3)-astm(cityfufalt(BK67),3),\"\")","v":""},"","","",{"$f":"IF(AZ68=\"\",1, MIN(IFERROR((AZ68/1000)/((AW68*$J$22)*$J$21/3600),1),IFERROR((SUMIFS(AZ59:AZ93,AV59:AV93,\"<=\"&$AV68,AV59:AV93,\">=\"&$AV68-1)/1000)/(  $J$22*SUMIFS(AW59:AW93,AV59:AV93,\"<=\"&$AV68,AV59:AV93,\">=\"&$AV68-1)*$J$21/3600),1),IFERROR((SUMIFS(AZ59:AZ93,AV59:AV93,\"<=\"&$AV68,AV59:AV93,\">=\"&$AV68-2)/1000)/(  $J$22*SUMIFS(AW59:AW93,AV59:AV93,\"<=\"&$AV68,AV59:AV93,\">=\"&$AV68-2)*$J$21/3600),1),IFERROR((SUMIFS(AZ59:AZ93,AV59:AV93,\"<=\"&$AV68,AV59:AV93,\">=\"&$AV68-3)/1000)/(  $J$22*SUMIFS(AW59:AW93,AV59:AV93,\"<=\"&$AV68,AV59:AV93,\">=\"&$AV68-3)*$J$21/3600),1)) )","v":1},"",{"$f":"IF(AZ68=\"\",1, MIN($AZ68/SUM($AZ59:$AZ68),SUMIFS(AZ59:AZ93,AV59:AV93,\">=\"&$AV68-1,AV59:AV93,\"<=\"&$AV68)/SUM($AZ59:$AZ68),SUMIFS(AZ59:AZ93,AV59:AV93,\">=\"&$AV68-2,AV59:AV93,\"<=\"&$AV68)/SUM($AZ59:$AZ68),SUMIFS(AZ59:AZ93,AV59:AV93,\">=\"&$AV68-3,AV59:AV93,\"<=\"&$AV68)/SUM($AZ59:$AZ68)) )","v":1},null,10,"","","","","","","","",{"$f":"IFERROR(astm(highwayfuf(CC68)-highwayfuf(CC67),3),\"\")","v":""},"","","","","","",{"$f":"IFERROR(astm(mdiuf(CL68)-mdiuf(CL67),3),\"\")","v":""},"","",{"$f":"IFERROR(astm(highwayfufalt(CL68)-highwayfufalt(CL67),3),\"\")","v":""},"","","",{"$f":"IF(CA68=\"\",1, MIN(IFERROR((CA68/1000)/((BX68*$J$22)*$J$21/3600),1),IFERROR((SUMIFS(CA59:CA93,BW59:BW93,\"<=\"&$BW68,BW59:BW93,\">=\"&$BW68-1)/1000)/(  $J$22*SUMIFS(BX59:BX93,BW59:BW93,\"<=\"&$BW68,BW59:BW93,\">=\"&$BW68-1)*$J$21/3600),1),IFERROR((SUMIFS(CA59:CA93,BW59:BW93,\"<=\"&$BW68,BW59:BW93,\">=\"&$BW68-2)/1000)/(  $J$22*SUMIFS(BX59:BX93,BW59:BW93,\"<=\"&$BW68,BW59:BW93,\">=\"&$BW68-2)*$J$21/3600),1),IFERROR((SUMIFS(CA59:CA93,BW59:BW93,\"<=\"&$BW68,BW59:BW93,\">=\"&$BW68-3)/1000)/(  $J$22*SUMIFS(BX59:BX93,BW59:BW93,\"<=\"&$BW68,BW59:BW93,\">=\"&$BW68-3)*$J$21/3600),1)) )","v":1},"",{"$f":"IF(CA68=\"\",1, MIN($CA68/SUM($CA59:$CA68),SUMIFS(CA59:CA93,BW59:BW93,\">=\"&$BW68-1,BW59:BW93,\"<=\"&$BW68)/SUM($CA59:$CA68),SUMIFS(CA59:CA93,BW59:BW93,\">=\"&$BW68-2,BW59:BW93,\"<=\"&$BW68)/SUM($CA59:$CA68),SUMIFS(CA59:CA93,BW59:BW93,\">=\"&$BW68-3,BW59:BW93,\"<=\"&$BW68)/SUM($CA59:$CA68)) )","v":1}]
[null,null,"*City CO2 Unrd Adj",null,null,{"$f":"astm(IF($N$7+$N$55+$N$103=0,   (N15+N63+N111)/ ((N15<>0)+(N63<>0)+(N111<>0)),    (IFERROR($N$7*N15,0)+IFERROR($N$55*N63,0)+IFERROR($N$103*N111,0)) /  ($N$7+$N$55+$N$103)   ),1)","v":{"$error":"#VALUE!"}},null,null,null,null,null,null,null,null,null,null,11,null,null,null,null,null,null,null,11,null,null,null,null,null,null,null,null,null,"Charge-Sustaining",null,null,"Combined",null,null,"NEW","CD fuel economy (Rcda), unadjusted (MPGe) [4]",{"$f":"astm(IFERROR(AQ54/ ( SUMIF(AV59:AV93,\"<=\" & (AQ82-1),BH59:BH93) + AQ81*SUMIF(AV59:AV93,\"=\" & (AQ82-1),BH59:BH93) ),0),4)","v":0},{"$f":"astm(IFERROR(AR54/ ( SUMIF(BW59:BW93,\"<=\" & (AR82-1),CI59:CI93) + AR81*SUMIF(BW59:BW93,\"=\" & (AR82-1),CI59:CI93) ),0),4)","v":0},null,null,null,11,"","","","",{"$f":"IFERROR(astm(  astm($W$94,3)*1000*(AZ69/AQ61),1),\"\")","v":""},"","","",{"$f":"IFERROR(astm(cityfuf(BB69),3)-astm(cityfuf(BB68),3),\"\")","v":""},"","","","","","",{"$f":"IFERROR(astm(mdiuf(BK69),3)-astm(mdiuf(BK68),3),\"\")","v":""},"","",{"$f":"IFERROR(astm(cityfufalt(BK69),3)-astm(cityfufalt(BK68),3),\"\")","v":""},"","","",{"$f":"IF(AZ69=\"\",1, MIN(IFERROR((AZ69/1000)/((AW69*$J$22)*$J$21/3600),1),IFERROR((SUMIFS(AZ59:AZ93,AV59:AV93,\"<=\"&$AV69,AV59:AV93,\">=\"&$AV69-1)/1000)/(  $J$22*SUMIFS(AW59:AW93,AV59:AV93,\"<=\"&$AV69,AV59:AV93,\">=\"&$AV69-1)*$J$21/3600),1),IFERROR((SUMIFS(AZ59:AZ93,AV59:AV93,\"<=\"&$AV69,AV59:AV93,\">=\"&$AV69-2)/1000)/(  $J$22*SUMIFS(AW59:AW93,AV59:AV93,\"<=\"&$AV69,AV59:AV93,\">=\"&$AV69-2)*$J$21/3600),1),IFERROR((SUMIFS(AZ59:AZ93,AV59:AV93,\"<=\"&$AV69,AV59:AV93,\">=\"&$AV69-3)/1000)/(  $J$22*SUMIFS(AW59:AW93,AV59:AV93,\"<=\"&$AV69,AV59:AV93,\">=\"&$AV69-3)*$J$21/3600),1)) )","v":1},"",{"$f":"IF(AZ69=\"\",1, MIN($AZ69/SUM($AZ59:$AZ69),SUMIFS(AZ59:AZ93,AV59:AV93,\">=\"&$AV69-1,AV59:AV93,\"<=\"&$AV69)/SUM($AZ59:$AZ69),SUMIFS(AZ59:AZ93,AV59:AV93,\">=\"&$AV69-2,AV59:AV93,\"<=\"&$AV69)/SUM($AZ59:$AZ69),SUMIFS(AZ59:AZ93,AV59:AV93,\">=\"&$AV69-3,AV59:AV93,\"<=\"&$AV69)/SUM($AZ59:$AZ69)) )","v":1},null,11,"","","","","","","","",{"$f":"IFERROR(astm(highwayfuf(CC69)-highwayfuf(CC68),3),\"\")","v":""},"","","","","","",{"$f":"IFERROR(astm(mdiuf(CL69)-mdiuf(CL68),3),\"\")","v":""},"","",{"$f":"IFERROR(astm(highwayfufalt(CL69)-highwayfufalt(CL68),3),\"\")","v":""},"","","",{"$f":"IF(CA69=\"\",1, MIN(IFERROR((CA69/1000)/((BX69*$J$22)*$J$21/3600),1),IFERROR((SUMIFS(CA59:CA93,BW59:BW93,\"<=\"&$BW69,BW59:BW93,\">=\"&$BW69-1)/1000)/(  $J$22*SUMIFS(BX59:BX93,BW59:BW93,\"<=\"&$BW69,BW59:BW93,\">=\"&$BW69-1)*$J$21/3600),1),IFERROR((SUMIFS(CA59:CA93,BW59:BW93,\"<=\"&$BW69,BW59:BW93,\">=\"&$BW69-2)/1000)/(  $J$22*SUMIFS(BX59:BX93,BW59:BW93,\"<=\"&$BW69,BW59:BW93,\">=\"&$BW69-2)*$J$21/3600),1),IFERROR((SUMIFS(CA59:CA93,BW59:BW93,\"<=\"&$BW69,BW59:BW93,\">=\"&$BW69-3)/1000)/(  $J$22*SUMIFS(BX59:BX93,BW59:BW93,\"<=\"&$BW69,BW59:BW93,\">=\"&$BW69-3)*$J$21/3600),1)) )","v":1},"",{"$f":"IF(CA69=\"\",1, MIN($CA69/SUM($CA59:$CA69),SUMIFS(CA59:CA93,BW59:BW93,\">=\"&$BW69-1,BW59:BW93,\"<=\"&$BW69)/SUM($CA59:$CA69),SUMIFS(CA59:CA93,BW59:BW93,\">=\"&$BW69-2,BW59:BW93,\"<=\"&$BW69)/SUM($CA59:$CA69),SUMIFS(CA59:CA93,BW59:BW93,\">=\"&$BW69-3,BW59:BW93,\"<=\"&$BW69)/SUM($CA59:$CA69)) )","v":1}]
[null,null,"*Hwy CO2 Unrnd Adj",null,null,{"$f":"astm(IF($N$7+$N$55+$N$103=0,   (O15+O63+O111)/ ((O15<>0)+(O63<>0)+(O111<>0)),    (IFERROR($N$7*O15,0)+IFERROR($N$55*O63,0)+IFERROR($N$103*O111,0)) /  ($N$7+$N$55+$N$103)   ),1)","v":{"$error":"#VALUE!"}},null,null,null,null,null,null,null,null,null,null,12,null,null,null,null,null,null,null,12,null,null,null,null,null,null,null,null,null,"CS Fuel Economy (MPG) [0]",{"$f":"IFERROR(astm(N60,4),0)","v":0},{"$f":"IFERROR(astm(O60,4),0)","v":0},{"$f":" IFERROR(astm(1/(0.55/AJ70+0.45/AK70),0),0)","v":0},null,null,"NEW","CD AC electricity consumption rate (Rcda), unadjusted  (kW-hr/100mi) [3]",{"$f":"astm(IFERROR((IFERROR( ( SUMIF(AV59:AV93,\"<=\" & (AQ82-1),BA59:BA93) + AQ81*SUMIF(AV59:AV93,\"=\" & (AQ82-1),BA59:BA93) ) / AQ54 *100 / 1000, 0)),0),3)","v":0},{"$f":"astm(IFERROR((IFERROR( ( SUMIF(BW59:BW93,\"<=\" & (AR82-1),CB59:CB93) + AR81*SUMIF(BW59:BW93,\"=\" & (AR82-1),CB59:CB93) ) / AR54 *100 / 1000, 0)),0),3)","v":0},null,null,null,12,"","","","",{"$f":"IFERROR(astm(  astm($W$94,3)*1000*(AZ70/AQ61),1),\"\")","v":""},"","","",{"$f":"IFERROR(astm(cityfuf(BB70),3)-astm(cityfuf(BB69),3),\"\")","v":""},"","","","","","",{"$f":"IFERROR(astm(mdiuf(BK70),3)-astm(mdiuf(BK69),3),\"\")","v":""},"","",{"$f":"IFERROR(astm(cityfufalt(BK70),3)-astm(cityfufalt(BK69),3),\"\")","v":""},"","","",{"$f":"IF(AZ70=\"\",1, MIN(IFERROR((AZ70/1000)/((AW70*$J$22)*$J$21/3600),1),IFERROR((SUMIFS(AZ59:AZ93,AV59:AV93,\"<=\"&$AV70,AV59:AV93,\">=\"&$AV70-1)/1000)/(  $J$22*SUMIFS(AW59:AW93,AV59:AV93,\"<=\"&$AV70,AV59:AV93,\">=\"&$AV70-1)*$J$21/3600),1),IFERROR((SUMIFS(AZ59:AZ93,AV59:AV93,\"<=\"&$AV70,AV59:AV93,\">=\"&$AV70-2)/1000)/(  $J$22*SUMIFS(AW59:AW93,AV59:AV93,\"<=\"&$AV70,AV59:AV93,\">=\"&$AV70-2)*$J$21/3600),1),IFERROR((SUMIFS(AZ59:AZ93,AV59:AV93,\"<=\"&$AV70,AV59:AV93,\">=\"&$AV70-3)/1000)/(  $J$22*SUMIFS(AW59:AW93,AV59:AV93,\"<=\"&$AV70,AV59:AV93,\">=\"&$AV70-3)*$J$21/3600),1)) )","v":1},"",{"$f":"IF(AZ70=\"\",1, MIN($AZ70/SUM($AZ59:$AZ70),SUMIFS(AZ59:AZ93,AV59:AV93,\">=\"&$AV70-1,AV59:AV93,\"<=\"&$AV70)/SUM($AZ59:$AZ70),SUMIFS(AZ59:AZ93,AV59:AV93,\">=\"&$AV70-2,AV59:AV93,\"<=\"&$AV70)/SUM($AZ59:$AZ70),SUMIFS(AZ59:AZ93,AV59:AV93,\">=\"&$AV70-3,AV59:AV93,\"<=\"&$AV70)/SUM($AZ59:$AZ70)) )","v":1},null,12,"","","","","","","","",{"$f":"IFERROR(astm(highwayfuf(CC70)-highwayfuf(CC69),3),\"\")","v":""},"","","","","","",{"$f":"IFERROR(astm(mdiuf(CL70)-mdiuf(CL69),3),\"\")","v":""},"","",{"$f":"IFERROR(astm(highwayfufalt(CL70)-highwayfufalt(CL69),3),\"\")","v":""},"","","",{"$f":"IF(CA70=\"\",1, MIN(IFERROR((CA70/1000)/((BX70*$J$22)*$J$21/3600),1),IFERROR((SUMIFS(CA59:CA93,BW59:BW93,\"<=\"&$BW70,BW59:BW93,\">=\"&$BW70-1)/1000)/(  $J$22*SUMIFS(BX59:BX93,BW59:BW93,\"<=\"&$BW70,BW59:BW93,\">=\"&$BW70-1)*$J$21/3600),1),IFERROR((SUMIFS(CA59:CA93,BW59:BW93,\"<=\"&$BW70,BW59:BW93,\">=\"&$BW70-2)/1000)/(  $J$22*SUMIFS(BX59:BX93,BW59:BW93,\"<=\"&$BW70,BW59:BW93,\">=\"&$BW70-2)*$J$21/3600),1),IFERROR((SUMIFS(CA59:CA93,BW59:BW93,\"<=\"&$BW70,BW59:BW93,\">=\"&$BW70-3)/1000)/(  $J$22*SUMIFS(BX59:BX93,BW59:BW93,\"<=\"&$BW70,BW59:BW93,\">=\"&$BW70-3)*$J$21/3600),1)) )","v":1},"",{"$f":"IF(CA70=\"\",1, MIN($CA70/SUM($CA59:$CA70),SUMIFS(CA59:CA93,BW59:BW93,\">=\"&$BW70-1,BW59:BW93,\"<=\"&$BW70)/SUM($CA59:$CA70),SUMIFS(CA59:CA93,BW59:BW93,\">=\"&$BW70-2,BW59:BW93,\"<=\"&$BW70)/SUM($CA59:$CA70),SUMIFS(CA59:CA93,BW59:BW93,\">=\"&$BW70-3,BW59:BW93,\"<=\"&$BW70)/SUM($CA59:$CA70)) )","v":1}]
[null,null,"*Comb CO2 Unrnd Adj",null,null,{"$f":"astm(0.55*(IF($N$7+$N$55+$N$103=0,   (N15+N63+N111)/ ((N15<>0)+(N63<>0)+(N111<>0)),    (IFERROR($N$7*N15,0)+IFERROR($N$55*N63,0)+IFERROR($N$103*N111,0)) /  ($N$7+$N$55+$N$103)   ))+0.45*(IF($N$7+$N$55+$N$103=0,   (O15+O63+O111)/ ((O15<>0)+(O63<>0)+(O111<>0)),    (IFERROR($N$7*O15,0)+IFERROR($N$55*O63,0)+IFERROR($N$103*O111,0)) /  ($N$7+$N$55+$N$103)   )),1)","v":{"$error":"#VALUE!"}},null,null,null,null,null,null,null,null,null,null,13,null,null,null,null,null,null,null,13,null,null,null,null,null,null,null,null,null,"CS Fuel Consumption (gal/100mi) [1]",{"$f":"IFERROR(astm(100/AJ70,1),0)","v":0},{"$f":"IFERROR(astm(100/AK70,1),0)","v":0},{"$f":"IFERROR(astm(100/AL70,1),0)","v":0},null,null,null,"GHG EMISSIONS VALUES","CITY","HIGHWAY",null,null,null,13,"","","","",{"$f":"IFERROR(astm(  astm($W$94,3)*1000*(AZ71/AQ61),1),\"\")","v":""},"","","",{"$f":"IFERROR(astm(cityfuf(BB71),3)-astm(cityfuf(BB70),3),\"\")","v":""},"","","","","","",{"$f":"IFERROR(astm(mdiuf(BK71),3)-astm(mdiuf(BK70),3),\"\")","v":""},"","",{"$f":"IFERROR(astm(cityfufalt(BK71),3)-astm(cityfufalt(BK70),3),\"\")","v":""},"","","",{"$f":"IF(AZ71=\"\",1, MIN(IFERROR((AZ71/1000)/((AW71*$J$22)*$J$21/3600),1),IFERROR((SUMIFS(AZ59:AZ93,AV59:AV93,\"<=\"&$AV71,AV59:AV93,\">=\"&$AV71-1)/1000)/(  $J$22*SUMIFS(AW59:AW93,AV59:AV93,\"<=\"&$AV71,AV59:AV93,\">=\"&$AV71-1)*$J$21/3600),1),IFERROR((SUMIFS(AZ59:AZ93,AV59:AV93,\"<=\"&$AV71,AV59:AV93,\">=\"&$AV71-2)/1000)/(  $J$22*SUMIFS(AW59:AW93,AV59:AV93,\"<=\"&$AV71,AV59:AV93,\">=\"&$AV71-2)*$J$21/3600),1),IFERROR((SUMIFS(AZ59:AZ93,AV59:AV93,\"<=\"&$AV71,AV59:AV93,\">=\"&$AV71-3)/1000)/(  $J$22*SUMIFS(AW59:AW93,AV59:AV93,\"<=\"&$AV71,AV59:AV93,\">=\"&$AV71-3)*$J$21/3600),1)) )","v":1},"",{"$f":"IF(AZ71=\"\",1, MIN($AZ71/SUM($AZ59:$AZ71),SUMIFS(AZ59:AZ93,AV59:AV93,\">=\"&$AV71-1,AV59:AV93,\"<=\"&$AV71)/SUM($AZ59:$AZ71),SUMIFS(AZ59:AZ93,AV59:AV93,\">=\"&$AV71-2,AV59:AV93,\"<=\"&$AV71)/SUM($AZ59:$AZ71),SUMIFS(AZ59:AZ93,AV59:AV93,\">=\"&$AV71-3,AV59:AV93,\"<=\"&$AV71)/SUM($AZ59:$AZ71)) )","v":1},null,13,"","","","","","","","",{"$f":"IFERROR(astm(highwayfuf(CC71)-highwayfuf(CC70),3),\"\")","v":""},"","","","","","",{"$f":"IFERROR(astm(mdiuf(CL71)-mdiuf(CL70),3),\"\")","v":""},"","",{"$f":"IFERROR(astm(highwayfufalt(CL71)-highwayfufalt(CL70),3),\"\")","v":""},"","","",{"$f":"IF(CA71=\"\",1, MIN(IFERROR((CA71/1000)/((BX71*$J$22)*$J$21/3600),1),IFERROR((SUMIFS(CA59:CA93,BW59:BW93,\"<=\"&$BW71,BW59:BW93,\">=\"&$BW71-1)/1000)/(  $J$22*SUMIFS(BX59:BX93,BW59:BW93,\"<=\"&$BW71,BW59:BW93,\">=\"&$BW71-1)*$J$21/3600),1),IFERROR((SUMIFS(CA59:CA93,BW59:BW93,\"<=\"&$BW71,BW59:BW93,\">=\"&$BW71-2)/1000)/(  $J$22*SUMIFS(BX59:BX93,BW59:BW93,\"<=\"&$BW71,BW59:BW93,\">=\"&$BW71-2)*$J$21/3600),1),IFERROR((SUMIFS(CA59:CA93,BW59:BW93,\"<=\"&$BW71,BW59:BW93,\">=\"&$BW71-3)/1000)/(  $J$22*SUMIFS(BX59:BX93,BW59:BW93,\"<=\"&$BW71,BW59:BW93,\">=\"&$BW71-3)*$J$21/3600),1)) )","v":1},"",{"$f":"IF(CA71=\"\",1, MIN($CA71/SUM($CA59:$CA71),SUMIFS(CA59:CA93,BW59:BW93,\">=\"&$BW71-1,BW59:BW93,\"<=\"&$BW71)/SUM($CA59:$CA71),SUMIFS(CA59:CA93,BW59:BW93,\">=\"&$BW71-2,BW59:BW93,\"<=\"&$BW71)/SUM($CA59:$CA71),SUMIFS(CA59:CA93,BW59:BW93,\">=\"&$BW71-3,BW59:BW93,\"<=\"&$BW71)/SUM($CA59:$CA71)) )","v":1}]
[null,null,"Charge-sustaining Driving Range (Adjusted)",null,null,null,null,null,null,null,null,null,null,null,null,null,14,null,null,null,null,null,null,null,14,null,null,null,null,null,null,null,null,null,"Composite CD/CS",null,null,"Combined",null,null,null,"CD CO2 emissions rate (Rcda), unadjusted (g/mi) [1]",{"$f":"IFERROR(astm((SUMIF(AV59:AV93,\"<=\" & AQ82-1,AX59:AX93)+AQ81*SUMIF(AV59:AV93,\"=\" & AQ82-1,AX59:AX93))/AQ54,1),0)","v":0},{"$f":"IFERROR(astm((SUMIF(BW59:BW93,\"<=\" & AR82-1,BY59:BY93)+AR81*SUMIF(BW59:BW93,\"=\" & AR82-1,BY59:BY93))/AR54,1),0)","v":0},null,null,null,14,"","","","",{"$f":"IFERROR(astm(  astm($W$94,3)*1000*(AZ72/AQ61),1),\"\")","v":""},"","","",{"$f":"IFERROR(astm(cityfuf(BB72),3)-astm(cityfuf(BB71),3),\"\")","v":""},"","","","","","",{"$f":"IFERROR(astm(mdiuf(BK72),3)-astm(mdiuf(BK71),3),\"\")","v":""},"","",{"$f":"IFERROR(astm(cityfufalt(BK72),3)-astm(cityfufalt(BK71),3),\"\")","v":""},"","","",{"$f":"IF(AZ72=\"\",1, MIN(IFERROR((AZ72/1000)/((AW72*$J$22)*$J$21/3600),1),IFERROR((SUMIFS(AZ59:AZ93,AV59:AV93,\"<=\"&$AV72,AV59:AV93,\">=\"&$AV72-1)/1000)/(  $J$22*SUMIFS(AW59:AW93,AV59:AV93,\"<=\"&$AV72,AV59:AV93,\">=\"&$AV72-1)*$J$21/3600),1),IFERROR((SUMIFS(AZ59:AZ93,AV59:AV93,\"<=\"&$AV72,AV59:AV93,\">=\"&$AV72-2)/1000)/(  $J$22*SUMIFS(AW59:AW93,AV59:AV93,\"<=\"&$AV72,AV59:AV93,\">=\"&$AV72-2)*$J$21/3600),1),IFERROR((SUMIFS(AZ59:AZ93,AV59:AV93,\"<=\"&$AV72,AV59:AV93,\">=\"&$AV72-3)/1000)/(  $J$22*SUMIFS(AW59:AW93,AV59:AV93,\"<=\"&$AV72,AV59:AV93,\">=\"&$AV72-3)*$J$21/3600),1)) )","v":1},"",{"$f":"IF(AZ72=\"\",1, MIN($AZ72/SUM($AZ59:$AZ72),SUMIFS(AZ59:AZ93,AV59:AV93,\">=\"&$AV72-1,AV59:AV93,\"<=\"&$AV72)/SUM($AZ59:$AZ72),SUMIFS(AZ59:AZ93,AV59:AV93,\">=\"&$AV72-2,AV59:AV93,\"<=\"&$AV72)/SUM($AZ59:$AZ72),SUMIFS(AZ59:AZ93,AV59:AV93,\">=\"&$AV72-3,AV59:AV93,\"<=\"&$AV72)/SUM($AZ59:$AZ72)) )","v":1},null,14,"","","","","","","","",{"$f":"IFERROR(astm(highwayfuf(CC72)-highwayfuf(CC71),3),\"\")","v":""},"","","","","","",{"$f":"IFERROR(astm(mdiuf(CL72)-mdiuf(CL71),3),\"\")","v":""},"","",{"$f":"IFERROR(astm(highwayfufalt(CL72)-highwayfufalt(CL71),3),\"\")","v":""},"","","",{"$f":"IF(CA72=\"\",1, MIN(IFERROR((CA72/1000)/((BX72*$J$22)*$J$21/3600),1),IFERROR((SUMIFS(CA59:CA93,BW59:BW93,\"<=\"&$BW72,BW59:BW93,\">=\"&$BW72-1)/1000)/(  $J$22*SUMIFS(BX59:BX93,BW59:BW93,\"<=\"&$BW72,BW59:BW93,\">=\"&$BW72-1)*$J$21/3600),1),IFERROR((SUMIFS(CA59:CA93,BW59:BW93,\"<=\"&$BW72,BW59:BW93,\">=\"&$BW72-2)/1000)/(  $J$22*SUMIFS(BX59:BX93,BW59:BW93,\"<=\"&$BW72,BW59:BW93,\">=\"&$BW72-2)*$J$21/3600),1),IFERROR((SUMIFS(CA59:CA93,BW59:BW93,\"<=\"&$BW72,BW59:BW93,\">=\"&$BW72-3)/1000)/(  $J$22*SUMIFS(BX59:BX93,BW59:BW93,\"<=\"&$BW72,BW59:BW93,\">=\"&$BW72-3)*$J$21/3600),1)) )","v":1},"",{"$f":"IF(CA72=\"\",1, MIN($CA72/SUM($CA59:$CA72),SUMIFS(CA59:CA93,BW59:BW93,\">=\"&$BW72-1,BW59:BW93,\"<=\"&$BW72)/SUM($CA59:$CA72),SUMIFS(CA59:CA93,BW59:BW93,\">=\"&$BW72-2,BW59:BW93,\"<=\"&$BW72)/SUM($CA59:$CA72),SUMIFS(CA59:CA93,BW59:BW93,\">=\"&$BW72-3,BW59:BW93,\"<=\"&$BW72)/SUM($CA59:$CA72)) )","v":1}]
[null,null,"*Range1 - Model Type Driving Range - Conventional Fuel - City",null,null,{"$f":"astm(IF($N$7+$N$55+$N$103=0,SUM(IFERROR(AQ38,0),IFERROR(AQ86,0),IFERROR(AQ134,0)) / ((AQ38<>0)+(AQ86<>0)+(AQ134<>0)),($N$7*AQ38+$N$55*AQ86+$N$103*AQ134)/($N$7+$N$55+$N$103)),0)","v":{"$error":"#VALUE!"}},null,null,null,null,null,null,null,null,null,null,15,null,null,null,null,null,null,null,15,null,null,null,null,null,null,null,null,null,"Annual Fuel Cost ($/year) [0]",null,null,{"$f":"astm(    IFERROR(15000*astm(0.55*AQ94+0.45*AR94,3),0)/50,0) * 50","v":0},null,null,"NEW","CD CO2 emissions rate (Rcda), adjusted (g/mi) [1]",{"$f":"IFERROR(astm( IFERROR((SUMIF(AV59:AV93,\"<=\" & AQ82-1,AX59:AX93)+AQ81*SUMIF(AV59:AV93,\"=\" & AQ82-1,AX59:AX93))/AQ55,#VALUE!), 1),0)","v":0},{"$f":"IFERROR(astm( IFERROR((SUMIF(BW59:BW93,\"<=\" & AR82-1,BY59:BY93)+AR81*SUMIF(BW59:BW93,\"=\" & AR82-1,BY59:BY93))/AR55,#VALUE!), 1),0)","v":0},null,null,null,15,"","","","",{"$f":"IFERROR(astm(  astm($W$94,3)*1000*(AZ73/AQ61),1),\"\")","v":""},"","","",{"$f":"IFERROR(astm(cityfuf(BB73),3)-astm(cityfuf(BB72),3),\"\")","v":""},"","","","","","",{"$f":"IFERROR(astm(mdiuf(BK73),3)-astm(mdiuf(BK72),3),\"\")","v":""},"","",{"$f":"IFERROR(astm(cityfufalt(BK73),3)-astm(cityfufalt(BK72),3),\"\")","v":""},"","","",{"$f":"IF(AZ73=\"\",1, MIN(IFERROR((AZ73/1000)/((AW73*$J$22)*$J$21/3600),1),IFERROR((SUMIFS(AZ59:AZ93,AV59:AV93,\"<=\"&$AV73,AV59:AV93,\">=\"&$AV73-1)/1000)/(  $J$22*SUMIFS(AW59:AW93,AV59:AV93,\"<=\"&$AV73,AV59:AV93,\">=\"&$AV73-1)*$J$21/3600),1),IFERROR((SUMIFS(AZ59:AZ93,AV59:AV93,\"<=\"&$AV73,AV59:AV93,\">=\"&$AV73-2)/1000)/(  $J$22*SUMIFS(AW59:AW93,AV59:AV93,\"<=\"&$AV73,AV59:AV93,\">=\"&$AV73-2)*$J$21/3600),1),IFERROR((SUMIFS(AZ59:AZ93,AV59:AV93,\"<=\"&$AV73,AV59:AV93,\">=\"&$AV73-3)/1000)/(  $J$22*SUMIFS(AW59:AW93,AV59:AV93,\"<=\"&$AV73,AV59:AV93,\">=\"&$AV73-3)*$J$21/3600),1)) )","v":1},"",{"$f":"IF(AZ73=\"\",1, MIN($AZ73/SUM($AZ59:$AZ73),SUMIFS(AZ59:AZ93,AV59:AV93,\">=\"&$AV73-1,AV59:AV93,\"<=\"&$AV73)/SUM($AZ59:$AZ73),SUMIFS(AZ59:AZ93,AV59:AV93,\">=\"&$AV73-2,AV59:AV93,\"<=\"&$AV73)/SUM($AZ59:$AZ73),SUMIFS(AZ59:AZ93,AV59:AV93,\">=\"&$AV73-3,AV59:AV93,\"<=\"&$AV73)/SUM($AZ59:$AZ73)) )","v":1},null,15,"","","","","","","","",{"$f":"IFERROR(astm(highwayfuf(CC73)-highwayfuf(CC72),3),\"\")","v":""},"","","","","","",{"$f":"IFERROR(astm(mdiuf(CL73)-mdiuf(CL72),3),\"\")","v":""},"","",{"$f":"IFERROR(astm(highwayfufalt(CL73)-highwayfufalt(CL72),3),\"\")","v":""},"","","",{"$f":"IF(CA73=\"\",1, MIN(IFERROR((CA73/1000)/((BX73*$J$22)*$J$21/3600),1),IFERROR((SUMIFS(CA59:CA93,BW59:BW93,\"<=\"&$BW73,BW59:BW93,\">=\"&$BW73-1)/1000)/(  $J$22*SUMIFS(BX59:BX93,BW59:BW93,\"<=\"&$BW73,BW59:BW93,\">=\"&$BW73-1)*$J$21/3600),1),IFERROR((SUMIFS(CA59:CA93,BW59:BW93,\"<=\"&$BW73,BW59:BW93,\">=\"&$BW73-2)/1000)/(  $J$22*SUMIFS(BX59:BX93,BW59:BW93,\"<=\"&$BW73,BW59:BW93,\">=\"&$BW73-2)*$J$21/3600),1),IFERROR((SUMIFS(CA59:CA93,BW59:BW93,\"<=\"&$BW73,BW59:BW93,\">=\"&$BW73-3)/1000)/(  $J$22*SUMIFS(BX59:BX93,BW59:BW93,\"<=\"&$BW73,BW59:BW93,\">=\"&$BW73-3)*$J$21/3600),1)) )","v":1},"",{"$f":"IF(CA73=\"\",1, MIN($CA73/SUM($CA59:$CA73),SUMIFS(CA59:CA93,BW59:BW93,\">=\"&$BW73-1,BW59:BW93,\"<=\"&$BW73)/SUM($CA59:$CA73),SUMIFS(CA59:CA93,BW59:BW93,\">=\"&$BW73-2,BW59:BW93,\"<=\"&$BW73)/SUM($CA59:$CA73),SUMIFS(CA59:CA93,BW59:BW93,\">=\"&$BW73-3,BW59:BW93,\"<=\"&$BW73)/SUM($CA59:$CA73)) )","v":1}]
[null,null,"*Range1 - Model Type Driving Range - Conventional Fuel - Hwy",null,null,{"$f":"astm(IF($N$7+$N$55+$N$103=0,SUM(IFERROR(AR38,0),IFERROR(AR86,0),IFERROR(AR134,0)) / ((AR38<>0)+(AR86<>0)+(AR134<>0)),($N$7*AR38+$N$55*AR86+$N$103*AR134)/($N$7+$N$55+$N$103)),0)","v":{"$error":"#VALUE!"}},null,null,null,null,null,null,null,null,null,null,16,null,null,null,null,null,null,null,16,null,null,null,null,null,null,null,null,null,"5-Year Fuel Savings Value ($/5 years) [0]",null,null,{"$f":"$F$38-5*AL73","v":{"$error":"#N/A"}},null,null,"NEW","CD utilitized CO2 (MDIUF, Rcdc), adjusted (g/mi) [1]",{"$f":"astm(SUMIF(AV59:AV93,\"<=\" & (AQ82),BM59:BM93),1)","v":0},{"$f":"astm(SUMIF(BW59:BW93,\"<=\" & (AR82),CN59:CN93),1)","v":0},null,null,null,16,"","","","",{"$f":"IFERROR(astm(  astm($W$94,3)*1000*(AZ74/AQ61),1),\"\")","v":""},"","","",{"$f":"IFERROR(astm(cityfuf(BB74),3)-astm(cityfuf(BB73),3),\"\")","v":""},"","","","","","",{"$f":"IFERROR(astm(mdiuf(BK74),3)-astm(mdiuf(BK73),3),\"\")","v":""},"","",{"$f":"IFERROR(astm(cityfufalt(BK74),3)-astm(cityfufalt(BK73),3),\"\")","v":""},"","","",{"$f":"IF(AZ74=\"\",1, MIN(IFERROR((AZ74/1000)/((AW74*$J$22)*$J$21/3600),1),IFERROR((SUMIFS(AZ59:AZ93,AV59:AV93,\"<=\"&$AV74,AV59:AV93,\">=\"&$AV74-1)/1000)/(  $J$22*SUMIFS(AW59:AW93,AV59:AV93,\"<=\"&$AV74,AV59:AV93,\">=\"&$AV74-1)*$J$21/3600),1),IFERROR((SUMIFS(AZ59:AZ93,AV59:AV93,\"<=\"&$AV74,AV59:AV93,\">=\"&$AV74-2)/1000)/(  $J$22*SUMIFS(AW59:AW93,AV59:AV93,\"<=\"&$AV74,AV59:AV93,\">=\"&$AV74-2)*$J$21/3600),1),IFERROR((SUMIFS(AZ59:AZ93,AV59:AV93,\"<=\"&$AV74,AV59:AV93,\">=\"&$AV74-3)/1000)/(  $J$22*SUMIFS(AW59:AW93,AV59:AV93,\"<=\"&$AV74,AV59:AV93,\">=\"&$AV74-3)*$J$21/3600),1)) )","v":1},"",{"$f":"IF(AZ74=\"\",1, MIN($AZ74/SUM($AZ59:$AZ74),SUMIFS(AZ59:AZ93,AV59:AV93,\">=\"&$AV74-1,AV59:AV93,\"<=\"&$AV74)/SUM($AZ59:$AZ74),SUMIFS(AZ59:AZ93,AV59:AV93,\">=\"&$AV74-2,AV59:AV93,\"<=\"&$AV74)/SUM($AZ59:$AZ74),SUMIFS(AZ59:AZ93,AV59:AV93,\">=\"&$AV74-3,AV59:AV93,\"<=\"&$AV74)/SUM($AZ59:$AZ74)) )","v":1},null,16,"","","","","","","","",{"$f":"IFERROR(astm(highwayfuf(CC74)-highwayfuf(CC73),3),\"\")","v":""},"","","","","","",{"$f":"IFERROR(astm(mdiuf(CL74)-mdiuf(CL73),3),\"\")","v":""},"","",{"$f":"IFERROR(astm(highwayfufalt(CL74)-highwayfufalt(CL73),3),\"\")","v":""},"","","",{"$f":"IF(CA74=\"\",1, MIN(IFERROR((CA74/1000)/((BX74*$J$22)*$J$21/3600),1),IFERROR((SUMIFS(CA59:CA93,BW59:BW93,\"<=\"&$BW74,BW59:BW93,\">=\"&$BW74-1)/1000)/(  $J$22*SUMIFS(BX59:BX93,BW59:BW93,\"<=\"&$BW74,BW59:BW93,\">=\"&$BW74-1)*$J$21/3600),1),IFERROR((SUMIFS(CA59:CA93,BW59:BW93,\"<=\"&$BW74,BW59:BW93,\">=\"&$BW74-2)/1000)/(  $J$22*SUMIFS(BX59:BX93,BW59:BW93,\"<=\"&$BW74,BW59:BW93,\">=\"&$BW74-2)*$J$21/3600),1),IFERROR((SUMIFS(CA59:CA93,BW59:BW93,\"<=\"&$BW74,BW59:BW93,\">=\"&$BW74-3)/1000)/(  $J$22*SUMIFS(BX59:BX93,BW59:BW93,\"<=\"&$BW74,BW59:BW93,\">=\"&$BW74-3)*$J$21/3600),1)) )","v":1},"",{"$f":"IF(CA74=\"\",1, MIN($CA74/SUM($CA59:$CA74),SUMIFS(CA59:CA93,BW59:BW93,\">=\"&$BW74-1,BW59:BW93,\"<=\"&$BW74)/SUM($CA59:$CA74),SUMIFS(CA59:CA93,BW59:BW93,\">=\"&$BW74-2,BW59:BW93,\"<=\"&$BW74)/SUM($CA59:$CA74),SUMIFS(CA59:CA93,BW59:BW93,\">=\"&$BW74-3,BW59:BW93,\"<=\"&$BW74)/SUM($CA59:$CA74)) )","v":1}]
[null,null,"Range1 - Model Type Driving Range - Conventional Fuel - Comb",null,null,{"$f":"astm(IF($N$7+$N$55+$N$103=0,SUM(IFERROR(astm(0.55*AQ38+0.45*AR38,3),0),IFERROR(astm(0.55*AQ86+0.45*AR86,3),0),IFERROR(astm(0.55*AQ134+0.45*AR134,3),0)) / ((astm(0.55*AQ38+0.45*AR38,3)<>0)+(astm(0.55*AQ86+0.45*AR86,3)<>0)+(astm(0.55*AQ134+0.45*AR134,3)<>0)),($N$7*astm(0.55*AQ38+0.45*AR38,3)+$N$55*astm(0.55*AQ86+0.45*AR86,3)+$N$103*astm(0.55*AQ134+0.45*AR134,3))/($N$7+$N$55+$N$103)),0)","v":{"$error":"#VALUE!"}},null,null,null,null,null,null,null,null,null,null,17,null,null,null,null,null,null,null,17,null,null,null,null,null,null,null,null,null,"Composite CO2 (g/mi) [0]",null,null,{"$f":"astm(0.55*AQ96+0.45*AR96,0)","v":0},null,null,null,"CD utilitized CREE (55/45 FUF, Rcdc), unadjusted (g/mi) [1]",{"$f":"astm(SUMIF(AV59:AV93,\"<=\" & AQ82,BF59:BF93),1)","v":0},{"$f":"astm(SUMIF(BW59:BW93,\"<=\" & AR82,CG59:CG93),1)","v":0},null,null,null,17,"","","","",{"$f":"IFERROR(astm(  astm($W$94,3)*1000*(AZ75/AQ61),1),\"\")","v":""},"","","",{"$f":"IFERROR(astm(cityfuf(BB75),3)-astm(cityfuf(BB74),3),\"\")","v":""},"","","","","","",{"$f":"IFERROR(astm(mdiuf(BK75),3)-astm(mdiuf(BK74),3),\"\")","v":""},"","",{"$f":"IFERROR(astm(cityfufalt(BK75),3)-astm(cityfufalt(BK74),3),\"\")","v":""},"","","",{"$f":"IF(AZ75=\"\",1, MIN(IFERROR((AZ75/1000)/((AW75*$J$22)*$J$21/3600),1),IFERROR((SUMIFS(AZ59:AZ93,AV59:AV93,\"<=\"&$AV75,AV59:AV93,\">=\"&$AV75-1)/1000)/(  $J$22*SUMIFS(AW59:AW93,AV59:AV93,\"<=\"&$AV75,AV59:AV93,\">=\"&$AV75-1)*$J$21/3600),1),IFERROR((SUMIFS(AZ59:AZ93,AV59:AV93,\"<=\"&$AV75,AV59:AV93,\">=\"&$AV75-2)/1000)/(  $J$22*SUMIFS(AW59:AW93,AV59:AV93,\"<=\"&$AV75,AV59:AV93,\">=\"&$AV75-2)*$J$21/3600),1),IFERROR((SUMIFS(AZ59:AZ93,AV59:AV93,\"<=\"&$AV75,AV59:AV93,\">=\"&$AV75-3)/1000)/(  $J$22*SUMIFS(AW59:AW93,AV59:AV93,\"<=\"&$AV75,AV59:AV93,\">=\"&$AV75-3)*$J$21/3600),1)) )","v":1},"",{"$f":"IF(AZ75=\"\",1, MIN($AZ75/SUM($AZ59:$AZ75),SUMIFS(AZ59:AZ93,AV59:AV93,\">=\"&$AV75-1,AV59:AV93,\"<=\"&$AV75)/SUM($AZ59:$AZ75),SUMIFS(AZ59:AZ93,AV59:AV93,\">=\"&$AV75-2,AV59:AV93,\"<=\"&$AV75)/SUM($AZ59:$AZ75),SUMIFS(AZ59:AZ93,AV59:AV93,\">=\"&$AV75-3,AV59:AV93,\"<=\"&$AV75)/SUM($AZ59:$AZ75)) )","v":1},null,17,"","","","","","","","",{"$f":"IFERROR(astm(highwayfuf(CC75)-highwayfuf(CC74),3),\"\")","v":""},"","","","","","",{"$f":"IFERROR(astm(mdiuf(CL75)-mdiuf(CL74),3),\"\")","v":""},"","",{"$f":"IFERROR(astm(highwayfufalt(CL75)-highwayfufalt(CL74),3),\"\")","v":""},"","","",{"$f":"IF(CA75=\"\",1, MIN(IFERROR((CA75/1000)/((BX75*$J$22)*$J$21/3600),1),IFERROR((SUMIFS(CA59:CA93,BW59:BW93,\"<=\"&$BW75,BW59:BW93,\">=\"&$BW75-1)/1000)/(  $J$22*SUMIFS(BX59:BX93,BW59:BW93,\"<=\"&$BW75,BW59:BW93,\">=\"&$BW75-1)*$J$21/3600),1),IFERROR((SUMIFS(CA59:CA93,BW59:BW93,\"<=\"&$BW75,BW59:BW93,\">=\"&$BW75-2)/1000)/(  $J$22*SUMIFS(BX59:BX93,BW59:BW93,\"<=\"&$BW75,BW59:BW93,\">=\"&$BW75-2)*$J$21/3600),1),IFERROR((SUMIFS(CA59:CA93,BW59:BW93,\"<=\"&$BW75,BW59:BW93,\">=\"&$BW75-3)/1000)/(  $J$22*SUMIFS(BX59:BX93,BW59:BW93,\"<=\"&$BW75,BW59:BW93,\">=\"&$BW75-3)*$J$21/3600),1)) )","v":1},"",{"$f":"IF(CA75=\"\",1, MIN($CA75/SUM($CA59:$CA75),SUMIFS(CA59:CA93,BW59:BW93,\">=\"&$BW75-1,BW59:BW93,\"<=\"&$BW75)/SUM($CA59:$CA75),SUMIFS(CA59:CA93,BW59:BW93,\">=\"&$BW75-2,BW59:BW93,\"<=\"&$BW75)/SUM($CA59:$CA75),SUMIFS(CA59:CA93,BW59:BW93,\">=\"&$BW75-3,BW59:BW93,\"<=\"&$BW75)/SUM($CA59:$CA75)) )","v":1}]
[null,null,"Charge-depleting Efficiency",null,"kW-hr/100mi","MPGe",null,null,null,null,null,null,null,null,null,null,18,null,null,null,null,null,null,null,18,null,null,null,null,null,null,null,null,null,"Composite Fuel Economy (MPG) [0]",null,null,{"$f":"IFERROR(astm(1/(0.55/AQ97+0.45/AR97),0),0)","v":0},null,null,"NEW","CD utilitized CREE (43/57 FUF, Rcdc), adjusted (g/mi) [1]",{"$f":"astm(SUMIF(AV59:AV93,\"<=\" & (AQ82),BQ59:BQ93),1)","v":0},{"$f":"astm(SUMIF(BW59:BW93,\"<=\" & (AR82),CR59:CR93),1)","v":0},null,null,null,18,"","","","",{"$f":"IFERROR(astm(  astm($W$94,3)*1000*(AZ76/AQ61),1),\"\")","v":""},"","","",{"$f":"IFERROR(astm(cityfuf(BB76),3)-astm(cityfuf(BB75),3),\"\")","v":""},"","","","","","",{"$f":"IFERROR(astm(mdiuf(BK76),3)-astm(mdiuf(BK75),3),\"\")","v":""},"","",{"$f":"IFERROR(astm(cityfufalt(BK76),3)-astm(cityfufalt(BK75),3),\"\")","v":""},"","","",{"$f":"IF(AZ76=\"\",1, MIN(IFERROR((AZ76/1000)/((AW76*$J$22)*$J$21/3600),1),IFERROR((SUMIFS(AZ59:AZ93,AV59:AV93,\"<=\"&$AV76,AV59:AV93,\">=\"&$AV76-1)/1000)/(  $J$22*SUMIFS(AW59:AW93,AV59:AV93,\"<=\"&$AV76,AV59:AV93,\">=\"&$AV76-1)*$J$21/3600),1),IFERROR((SUMIFS(AZ59:AZ93,AV59:AV93,\"<=\"&$AV76,AV59:AV93,\">=\"&$AV76-2)/1000)/(  $J$22*SUMIFS(AW59:AW93,AV59:AV93,\"<=\"&$AV76,AV59:AV93,\">=\"&$AV76-2)*$J$21/3600),1),IFERROR((SUMIFS(AZ59:AZ93,AV59:AV93,\"<=\"&$AV76,AV59:AV93,\">=\"&$AV76-3)/1000)/(  $J$22*SUMIFS(AW59:AW93,AV59:AV93,\"<=\"&$AV76,AV59:AV93,\">=\"&$AV76-3)*$J$21/3600),1)) )","v":1},"",{"$f":"IF(AZ76=\"\",1, MIN($AZ76/SUM($AZ59:$AZ76),SUMIFS(AZ59:AZ93,AV59:AV93,\">=\"&$AV76-1,AV59:AV93,\"<=\"&$AV76)/SUM($AZ59:$AZ76),SUMIFS(AZ59:AZ93,AV59:AV93,\">=\"&$AV76-2,AV59:AV93,\"<=\"&$AV76)/SUM($AZ59:$AZ76),SUMIFS(AZ59:AZ93,AV59:AV93,\">=\"&$AV76-3,AV59:AV93,\"<=\"&$AV76)/SUM($AZ59:$AZ76)) )","v":1},null,18,"","","","","","","","",{"$f":"IFERROR(astm(highwayfuf(CC76)-highwayfuf(CC75),3),\"\")","v":""},"","","","","","",{"$f":"IFERROR(astm(mdiuf(CL76)-mdiuf(CL75),3),\"\")","v":""},"","",{"$f":"IFERROR(astm(highwayfufalt(CL76)-highwayfufalt(CL75),3),\"\")","v":""},"","","",{"$f":"IF(CA76=\"\",1, MIN(IFERROR((CA76/1000)/((BX76*$J$22)*$J$21/3600),1),IFERROR((SUMIFS(CA59:CA93,BW59:BW93,\"<=\"&$BW76,BW59:BW93,\">=\"&$BW76-1)/1000)/(  $J$22*SUMIFS(BX59:BX93,BW59:BW93,\"<=\"&$BW76,BW59:BW93,\">=\"&$BW76-1)*$J$21/3600),1),IFERROR((SUMIFS(CA59:CA93,BW59:BW93,\"<=\"&$BW76,BW59:BW93,\">=\"&$BW76-2)/1000)/(  $J$22*SUMIFS(BX59:BX93,BW59:BW93,\"<=\"&$BW76,BW59:BW93,\">=\"&$BW76-2)*$J$21/3600),1),IFERROR((SUMIFS(CA59:CA93,BW59:BW93,\"<=\"&$BW76,BW59:BW93,\">=\"&$BW76-3)/1000)/(  $J$22*SUMIFS(BX59:BX93,BW59:BW93,\"<=\"&$BW76,BW59:BW93,\">=\"&$BW76-3)*$J$21/3600),1)) )","v":1},"",{"$f":"IF(CA76=\"\",1, MIN($CA76/SUM($CA59:$CA76),SUMIFS(CA59:CA93,BW59:BW93,\">=\"&$BW76-1,BW59:BW93,\"<=\"&$BW76)/SUM($CA59:$CA76),SUMIFS(CA59:CA93,BW59:BW93,\">=\"&$BW76-2,BW59:BW93,\"<=\"&$BW76)/SUM($CA59:$CA76),SUMIFS(CA59:CA93,BW59:BW93,\">=\"&$BW76-3,BW59:BW93,\"<=\"&$BW76)/SUM($CA59:$CA76)) )","v":1}]
[null,null,"City2 FE (Guide) - Alternative Fuel",null,{"$f":"astm($D$23,0)","v":{"$error":"#VALUE!"}},{"$f":"astm($D$22,0)","v":{"$error":"#VALUE!"}},null,null,null,null,null,null,null,null,null,null,19,null,null,null,null,null,null,null,19,null,null,null,null,null,null,null,null,null,"HOV Lane Values","City","Highway","Combined",null,null,null,"UTILITY FACTORS & OTHER METRICS","CITY","HIGHWAY",null,null,null,19,"","","","",{"$f":"IFERROR(astm(  astm($W$94,3)*1000*(AZ77/AQ61),1),\"\")","v":""},"","","",{"$f":"IFERROR(astm(cityfuf(BB77),3)-astm(cityfuf(BB76),3),\"\")","v":""},"","","","","","",{"$f":"IFERROR(astm(mdiuf(BK77),3)-astm(mdiuf(BK76),3),\"\")","v":""},"","",{"$f":"IFERROR(astm(cityfufalt(BK77),3)-astm(cityfufalt(BK76),3),\"\")","v":""},"","","",{"$f":"IF(AZ77=\"\",1, MIN(IFERROR((AZ77/1000)/((AW77*$J$22)*$J$21/3600),1),IFERROR((SUMIFS(AZ59:AZ93,AV59:AV93,\"<=\"&$AV77,AV59:AV93,\">=\"&$AV77-1)/1000)/(  $J$22*SUMIFS(AW59:AW93,AV59:AV93,\"<=\"&$AV77,AV59:AV93,\">=\"&$AV77-1)*$J$21/3600),1),IFERROR((SUMIFS(AZ59:AZ93,AV59:AV93,\"<=\"&$AV77,AV59:AV93,\">=\"&$AV77-2)/1000)/(  $J$22*SUMIFS(AW59:AW93,AV59:AV93,\"<=\"&$AV77,AV59:AV93,\">=\"&$AV77-2)*$J$21/3600),1),IFERROR((SUMIFS(AZ59:AZ93,AV59:AV93,\"<=\"&$AV77,AV59:AV93,\">=\"&$AV77-3)/1000)/(  $J$22*SUMIFS(AW59:AW93,AV59:AV93,\"<=\"&$AV77,AV59:AV93,\">=\"&$AV77-3)*$J$21/3600),1)) )","v":1},"",{"$f":"IF(AZ77=\"\",1, MIN($AZ77/SUM($AZ59:$AZ77),SUMIFS(AZ59:AZ93,AV59:AV93,\">=\"&$AV77-1,AV59:AV93,\"<=\"&$AV77)/SUM($AZ59:$AZ77),SUMIFS(AZ59:AZ93,AV59:AV93,\">=\"&$AV77-2,AV59:AV93,\"<=\"&$AV77)/SUM($AZ59:$AZ77),SUMIFS(AZ59:AZ93,AV59:AV93,\">=\"&$AV77-3,AV59:AV93,\"<=\"&$AV77)/SUM($AZ59:$AZ77)) )","v":1},null,19,"","","","","","","","",{"$f":"IFERROR(astm(highwayfuf(CC77)-highwayfuf(CC76),3),\"\")","v":""},"","","","","","",{"$f":"IFERROR(astm(mdiuf(CL77)-mdiuf(CL76),3),\"\")","v":""},"","",{"$f":"IFERROR(astm(highwayfufalt(CL77)-highwayfufalt(CL76),3),\"\")","v":""},"","","",{"$f":"IF(CA77=\"\",1, MIN(IFERROR((CA77/1000)/((BX77*$J$22)*$J$21/3600),1),IFERROR((SUMIFS(CA59:CA93,BW59:BW93,\"<=\"&$BW77,BW59:BW93,\">=\"&$BW77-1)/1000)/(  $J$22*SUMIFS(BX59:BX93,BW59:BW93,\"<=\"&$BW77,BW59:BW93,\">=\"&$BW77-1)*$J$21/3600),1),IFERROR((SUMIFS(CA59:CA93,BW59:BW93,\"<=\"&$BW77,BW59:BW93,\">=\"&$BW77-2)/1000)/(  $J$22*SUMIFS(BX59:BX93,BW59:BW93,\"<=\"&$BW77,BW59:BW93,\">=\"&$BW77-2)*$J$21/3600),1),IFERROR((SUMIFS(CA59:CA93,BW59:BW93,\"<=\"&$BW77,BW59:BW93,\">=\"&$BW77-3)/1000)/(  $J$22*SUMIFS(BX59:BX93,BW59:BW93,\"<=\"&$BW77,BW59:BW93,\">=\"&$BW77-3)*$J$21/3600),1)) )","v":1},"",{"$f":"IF(CA77=\"\",1, MIN($CA77/SUM($CA59:$CA77),SUMIFS(CA59:CA93,BW59:BW93,\">=\"&$BW77-1,BW59:BW93,\"<=\"&$BW77)/SUM($CA59:$CA77),SUMIFS(CA59:CA93,BW59:BW93,\">=\"&$BW77-2,BW59:BW93,\"<=\"&$BW77)/SUM($CA59:$CA77),SUMIFS(CA59:CA93,BW59:BW93,\">=\"&$BW77-3,BW59:BW93,\"<=\"&$BW77)/SUM($CA59:$CA77)) )","v":1}]
[null,null,"Hwy2 Fuel FE (Guide) - Alternative Fuel",null,{"$f":"astm($E$23,0)","v":{"$error":"#VALUE!"}},{"$f":"astm($E$22,0)","v":{"$error":"#VALUE!"}},null,null,null,null,null,null,null,null,null,null,20,null,null,null,null,null,null,null,20,null,null,null,null,null,null,null,null,null,"MDIUF based on unadjusted Rcda [3]",{"$f":"IFERROR(astm(mdiuf(AQ54),3),0)","v":0},{"$f":"IFERROR(astm(mdiuf(AR54),3),0)","v":0},null,null,null,null,"CD 55/45 Fleet Utility Factor (FUF) for Rcdc [3]",{"$f":"astm(SUMIF(AV59:AV93,\"<=\"&AQ82,BE59:BE93),3)","v":0},{"$f":"astm(SUMIF(BW59:BW93,\"<=\"&AR82,CF59:CF93),3)","v":0},null,null,null,20,"","","","",{"$f":"IFERROR(astm(  astm($W$94,3)*1000*(AZ78/AQ61),1),\"\")","v":""},"","","",{"$f":"IFERROR(astm(cityfuf(BB78),3)-astm(cityfuf(BB77),3),\"\")","v":""},"","","","","","",{"$f":"IFERROR(astm(mdiuf(BK78),3)-astm(mdiuf(BK77),3),\"\")","v":""},"","",{"$f":"IFERROR(astm(cityfufalt(BK78),3)-astm(cityfufalt(BK77),3),\"\")","v":""},"","","",{"$f":"IF(AZ78=\"\",1, MIN(IFERROR((AZ78/1000)/((AW78*$J$22)*$J$21/3600),1),IFERROR((SUMIFS(AZ59:AZ93,AV59:AV93,\"<=\"&$AV78,AV59:AV93,\">=\"&$AV78-1)/1000)/(  $J$22*SUMIFS(AW59:AW93,AV59:AV93,\"<=\"&$AV78,AV59:AV93,\">=\"&$AV78-1)*$J$21/3600),1),IFERROR((SUMIFS(AZ59:AZ93,AV59:AV93,\"<=\"&$AV78,AV59:AV93,\">=\"&$AV78-2)/1000)/(  $J$22*SUMIFS(AW59:AW93,AV59:AV93,\"<=\"&$AV78,AV59:AV93,\">=\"&$AV78-2)*$J$21/3600),1),IFERROR((SUMIFS(AZ59:AZ93,AV59:AV93,\"<=\"&$AV78,AV59:AV93,\">=\"&$AV78-3)/1000)/(  $J$22*SUMIFS(AW59:AW93,AV59:AV93,\"<=\"&$AV78,AV59:AV93,\">=\"&$AV78-3)*$J$21/3600),1)) )","v":1},"",{"$f":"IF(AZ78=\"\",1, MIN($AZ78/SUM($AZ59:$AZ78),SUMIFS(AZ59:AZ93,AV59:AV93,\">=\"&$AV78-1,AV59:AV93,\"<=\"&$AV78)/SUM($AZ59:$AZ78),SUMIFS(AZ59:AZ93,AV59:AV93,\">=\"&$AV78-2,AV59:AV93,\"<=\"&$AV78)/SUM($AZ59:$AZ78),SUMIFS(AZ59:AZ93,AV59:AV93,\">=\"&$AV78-3,AV59:AV93,\"<=\"&$AV78)/SUM($AZ59:$AZ78)) )","v":1},null,20,"","","","","","","","",{"$f":"IFERROR(astm(highwayfuf(CC78)-highwayfuf(CC77),3),\"\")","v":""},"","","","","","",{"$f":"IFERROR(astm(mdiuf(CL78)-mdiuf(CL77),3),\"\")","v":""},"","",{"$f":"IFERROR(astm(highwayfufalt(CL78)-highwayfufalt(CL77),3),\"\")","v":""},"","","",{"$f":"IF(CA78=\"\",1, MIN(IFERROR((CA78/1000)/((BX78*$J$22)*$J$21/3600),1),IFERROR((SUMIFS(CA59:CA93,BW59:BW93,\"<=\"&$BW78,BW59:BW93,\">=\"&$BW78-1)/1000)/(  $J$22*SUMIFS(BX59:BX93,BW59:BW93,\"<=\"&$BW78,BW59:BW93,\">=\"&$BW78-1)*$J$21/3600),1),IFERROR((SUMIFS(CA59:CA93,BW59:BW93,\"<=\"&$BW78,BW59:BW93,\">=\"&$BW78-2)/1000)/(  $J$22*SUMIFS(BX59:BX93,BW59:BW93,\"<=\"&$BW78,BW59:BW93,\">=\"&$BW78-2)*$J$21/3600),1),IFERROR((SUMIFS(CA59:CA93,BW59:BW93,\"<=\"&$BW78,BW59:BW93,\">=\"&$BW78-3)/1000)/(  $J$22*SUMIFS(BX59:BX93,BW59:BW93,\"<=\"&$BW78,BW59:BW93,\">=\"&$BW78-3)*$J$21/3600),1)) )","v":1},"",{"$f":"IF(CA78=\"\",1, MIN($CA78/SUM($CA59:$CA78),SUMIFS(CA59:CA93,BW59:BW93,\">=\"&$BW78-1,BW59:BW93,\"<=\"&$BW78)/SUM($CA59:$CA78),SUMIFS(CA59:CA93,BW59:BW93,\">=\"&$BW78-2,BW59:BW93,\"<=\"&$BW78)/SUM($CA59:$CA78),SUMIFS(CA59:CA93,BW59:BW93,\">=\"&$BW78-3,BW59:BW93,\"<=\"&$BW78)/SUM($CA59:$CA78)) )","v":1}]
[null,null,"Comb2 Fuel FE (Guide) - Alternative Fuel",null,{"$f":"$F$23","v":{"$error":"#VALUE!"}},{"$f":"$F$22","v":{"$error":"#VALUE!"}},null,null,null,null,null,null,null,null,null,null,21,null,null,null,null,null,null,null,21,null,null,null,null,null,null,null,null,null,"Composite CD/CS Fuel Economy (MPGe) [4]",{"$f":"IFERROR(astm(1/(AJ78/(AQ54/     AQ62  )+(1-AJ78)/N59),4),0)","v":0},{"$f":"IFERROR(astm(1/(AK78/(AR54/     AR62  )+(1-AK78)/O59),4),0)","v":0},{"$f":"IFERROR(astm(1/(0.55/AJ79+0.45/AK79),4),0)","v":0},null,null,null,"MDIUF based on Rcda, adjusted [3]",{"$f":"astm(mdiuf(AQ55),3)","v":0},{"$f":"astm(mdiuf(AR55),3)","v":0},null,null,null,21,"","","","",{"$f":"IFERROR(astm(  astm($W$94,3)*1000*(AZ79/AQ61),1),\"\")","v":""},"","","",{"$f":"IFERROR(astm(cityfuf(BB79),3)-astm(cityfuf(BB78),3),\"\")","v":""},"","","","","","",{"$f":"IFERROR(astm(mdiuf(BK79),3)-astm(mdiuf(BK78),3),\"\")","v":""},"","",{"$f":"IFERROR(astm(cityfufalt(BK79),3)-astm(cityfufalt(BK78),3),\"\")","v":""},"","","",{"$f":"IF(AZ79=\"\",1, MIN(IFERROR((AZ79/1000)/((AW79*$J$22)*$J$21/3600),1),IFERROR((SUMIFS(AZ59:AZ93,AV59:AV93,\"<=\"&$AV79,AV59:AV93,\">=\"&$AV79-1)/1000)/(  $J$22*SUMIFS(AW59:AW93,AV59:AV93,\"<=\"&$AV79,AV59:AV93,\">=\"&$AV79-1)*$J$21/3600),1),IFERROR((SUMIFS(AZ59:AZ93,AV59:AV93,\"<=\"&$AV79,AV59:AV93,\">=\"&$AV79-2)/1000)/(  $J$22*SUMIFS(AW59:AW93,AV59:AV93,\"<=\"&$AV79,AV59:AV93,\">=\"&$AV79-2)*$J$21/3600),1),IFERROR((SUMIFS(AZ59:AZ93,AV59:AV93,\"<=\"&$AV79,AV59:AV93,\">=\"&$AV79-3)/1000)/(  $J$22*SUMIFS(AW59:AW93,AV59:AV93,\"<=\"&$AV79,AV59:AV93,\">=\"&$AV79-3)*$J$21/3600),1)) )","v":1},"",{"$f":"IF(AZ79=\"\",1, MIN($AZ79/SUM($AZ59:$AZ79),SUMIFS(AZ59:AZ93,AV59:AV93,\">=\"&$AV79-1,AV59:AV93,\"<=\"&$AV79)/SUM($AZ59:$AZ79),SUMIFS(AZ59:AZ93,AV59:AV93,\">=\"&$AV79-2,AV59:AV93,\"<=\"&$AV79)/SUM($AZ59:$AZ79),SUMIFS(AZ59:AZ93,AV59:AV93,\">=\"&$AV79-3,AV59:AV93,\"<=\"&$AV79)/SUM($AZ59:$AZ79)) )","v":1},null,21,"","","","","","","","",{"$f":"IFERROR(astm(highwayfuf(CC79)-highwayfuf(CC78),3),\"\")","v":""},"","","","","","",{"$f":"IFERROR(astm(mdiuf(CL79)-mdiuf(CL78),3),\"\")","v":""},"","",{"$f":"IFERROR(astm(highwayfufalt(CL79)-highwayfufalt(CL78),3),\"\")","v":""},"","","",{"$f":"IF(CA79=\"\",1, MIN(IFERROR((CA79/1000)/((BX79*$J$22)*$J$21/3600),1),IFERROR((SUMIFS(CA59:CA93,BW59:BW93,\"<=\"&$BW79,BW59:BW93,\">=\"&$BW79-1)/1000)/(  $J$22*SUMIFS(BX59:BX93,BW59:BW93,\"<=\"&$BW79,BW59:BW93,\">=\"&$BW79-1)*$J$21/3600),1),IFERROR((SUMIFS(CA59:CA93,BW59:BW93,\"<=\"&$BW79,BW59:BW93,\">=\"&$BW79-2)/1000)/(  $J$22*SUMIFS(BX59:BX93,BW59:BW93,\"<=\"&$BW79,BW59:BW93,\">=\"&$BW79-2)*$J$21/3600),1),IFERROR((SUMIFS(CA59:CA93,BW59:BW93,\"<=\"&$BW79,BW59:BW93,\">=\"&$BW79-3)/1000)/(  $J$22*SUMIFS(BX59:BX93,BW59:BW93,\"<=\"&$BW79,BW59:BW93,\">=\"&$BW79-3)*$J$21/3600),1)) )","v":1},"",{"$f":"IF(CA79=\"\",1, MIN($CA79/SUM($CA59:$CA79),SUMIFS(CA59:CA93,BW59:BW93,\">=\"&$BW79-1,BW59:BW93,\"<=\"&$BW79)/SUM($CA59:$CA79),SUMIFS(CA59:CA93,BW59:BW93,\">=\"&$BW79-2,BW59:BW93,\"<=\"&$BW79)/SUM($CA59:$CA79),SUMIFS(CA59:CA93,BW59:BW93,\">=\"&$BW79-3,BW59:BW93,\"<=\"&$BW79)/SUM($CA59:$CA79)) )","v":1}]
[null,null,"City2 Unadj FE - Alternative Fuel",null,{"$f":"astm(IF($N$7+$N$55+$N$103=0,SUM(AQ22, AQ70,AQ118)\n\n / (((AQ22)<>0)  +   ((AQ70)<>0)   +   ((AQ118)<>0)),\n\n($N$7*(AQ22)+$N$55*(AQ70)+ $N$103*(AQ118))\n\n/($N$7+$N$55+$N$103)),1)","v":{"$error":"#VALUE!"}},{"$f":"astm(IF($N$7+$N$55+$N$103=0,    (((AQ21)<>0)+((AQ69)<>0)+((AQ117)<>0))/(IFERROR(1/(AQ21),0)+IFERROR(1/(AQ69),0)+IFERROR(1/(AQ117),0)),    ($N$7+$N$55+$N$103) / (IFERROR($N$7/(AQ21),0)+IFERROR($N$55/(AQ69),0)+IFERROR($N$103/(AQ117),0))  ),1)","v":{"$error":"#VALUE!"}},null,null,null,null,null,null,null,null,null,null,22,null,null,null,null,null,null,null,22,null,null,null,null,null,null,null,null,null,"Trends Report Values","City","Highway","Combined",null,null,null,"MDIUF based on Rcdc, unadjusted [3]",{"$f":"astm(SUMIF(AV59:AV93,\"<=\" & AQ82,BL59:BL93),3)","v":0},{"$f":"astm(SUMIF(BW59:BW93,\"<=\" & AR82,CM59:CM93),3)","v":0},null,null,null,22,"","","","",{"$f":"IFERROR(astm(  astm($W$94,3)*1000*(AZ80/AQ61),1),\"\")","v":""},"","","",{"$f":"IFERROR(astm(cityfuf(BB80),3)-astm(cityfuf(BB79),3),\"\")","v":""},"","","","","","",{"$f":"IFERROR(astm(mdiuf(BK80),3)-astm(mdiuf(BK79),3),\"\")","v":""},"","",{"$f":"IFERROR(astm(cityfufalt(BK80),3)-astm(cityfufalt(BK79),3),\"\")","v":""},"","","",{"$f":"IF(AZ80=\"\",1, MIN(IFERROR((AZ80/1000)/((AW80*$J$22)*$J$21/3600),1),IFERROR((SUMIFS(AZ59:AZ93,AV59:AV93,\"<=\"&$AV80,AV59:AV93,\">=\"&$AV80-1)/1000)/(  $J$22*SUMIFS(AW59:AW93,AV59:AV93,\"<=\"&$AV80,AV59:AV93,\">=\"&$AV80-1)*$J$21/3600),1),IFERROR((SUMIFS(AZ59:AZ93,AV59:AV93,\"<=\"&$AV80,AV59:AV93,\">=\"&$AV80-2)/1000)/(  $J$22*SUMIFS(AW59:AW93,AV59:AV93,\"<=\"&$AV80,AV59:AV93,\">=\"&$AV80-2)*$J$21/3600),1),IFERROR((SUMIFS(AZ59:AZ93,AV59:AV93,\"<=\"&$AV80,AV59:AV93,\">=\"&$AV80-3)/1000)/(  $J$22*SUMIFS(AW59:AW93,AV59:AV93,\"<=\"&$AV80,AV59:AV93,\">=\"&$AV80-3)*$J$21/3600),1)) )","v":1},"",{"$f":"IF(AZ80=\"\",1, MIN($AZ80/SUM($AZ59:$AZ80),SUMIFS(AZ59:AZ93,AV59:AV93,\">=\"&$AV80-1,AV59:AV93,\"<=\"&$AV80)/SUM($AZ59:$AZ80),SUMIFS(AZ59:AZ93,AV59:AV93,\">=\"&$AV80-2,AV59:AV93,\"<=\"&$AV80)/SUM($AZ59:$AZ80),SUMIFS(AZ59:AZ93,AV59:AV93,\">=\"&$AV80-3,AV59:AV93,\"<=\"&$AV80)/SUM($AZ59:$AZ80)) )","v":1},null,22,"","","","","","","","",{"$f":"IFERROR(astm(highwayfuf(CC80)-highwayfuf(CC79),3),\"\")","v":""},"","","","","","",{"$f":"IFERROR(astm(mdiuf(CL80)-mdiuf(CL79),3),\"\")","v":""},"","",{"$f":"IFERROR(astm(highwayfufalt(CL80)-highwayfufalt(CL79),3),\"\")","v":""},"","","",{"$f":"IF(CA80=\"\",1, MIN(IFERROR((CA80/1000)/((BX80*$J$22)*$J$21/3600),1),IFERROR((SUMIFS(CA59:CA93,BW59:BW93,\"<=\"&$BW80,BW59:BW93,\">=\"&$BW80-1)/1000)/(  $J$22*SUMIFS(BX59:BX93,BW59:BW93,\"<=\"&$BW80,BW59:BW93,\">=\"&$BW80-1)*$J$21/3600),1),IFERROR((SUMIFS(CA59:CA93,BW59:BW93,\"<=\"&$BW80,BW59:BW93,\">=\"&$BW80-2)/1000)/(  $J$22*SUMIFS(BX59:BX93,BW59:BW93,\"<=\"&$BW80,BW59:BW93,\">=\"&$BW80-2)*$J$21/3600),1),IFERROR((SUMIFS(CA59:CA93,BW59:BW93,\"<=\"&$BW80,BW59:BW93,\">=\"&$BW80-3)/1000)/(  $J$22*SUMIFS(BX59:BX93,BW59:BW93,\"<=\"&$BW80,BW59:BW93,\">=\"&$BW80-3)*$J$21/3600),1)) )","v":1},"",{"$f":"IF(CA80=\"\",1, MIN($CA80/SUM($CA59:$CA80),SUMIFS(CA59:CA93,BW59:BW93,\">=\"&$BW80-1,BW59:BW93,\"<=\"&$BW80)/SUM($CA59:$CA80),SUMIFS(CA59:CA93,BW59:BW93,\">=\"&$BW80-2,BW59:BW93,\"<=\"&$BW80)/SUM($CA59:$CA80),SUMIFS(CA59:CA93,BW59:BW93,\">=\"&$BW80-3,BW59:BW93,\"<=\"&$BW80)/SUM($CA59:$CA80)) )","v":1}]
[null,null,"Hwy2 Unadj FE - Alternative Fuel",null,{"$f":"astm(IF($N$7+$N$55+$N$103=0,SUM(AR22, AR70,AR118)\n\n / (((AR22)<>0)  +   ((AR70)<>0)   +   ((AR118)<>0)),\n\n($N$7*(AR22)+$N$55*(AR70)+ $N$103*(AR118))\n\n/($N$7+$N$55+$N$103)),1)","v":{"$error":"#VALUE!"}},{"$f":"astm(IF($N$7+$N$55+$N$103=0,    (((AR21)<>0)+((AR69)<>0)+((AR117)<>0))/(IFERROR(1/(AR21),0)+IFERROR(1/(AR69),0)+IFERROR(1/(AR117),0)),    ($N$7+$N$55+$N$103) / (IFERROR($N$7/(AR21),0)+IFERROR($N$55/(AR69),0)+IFERROR($N$103/(AR117),0))  ),1)","v":{"$error":"#VALUE!"}},null,null,null,null,null,null,null,null,null,null,23,null,null,null,null,null,null,null,23,null,null,null,null,null,null,null,null,null,"Fleet Utility Factor (43/57) [3]",{"$f":"astm(SUMIF(AV59:AV88,\"<=\"&AQ82,BO59:BO88),3)","v":0},{"$f":"astm(SUMIF(BW59:BW88,\"<=\"&AR82,CP59:CP88),3)","v":0},{"$f":"0.55*AJ81+0.45*AK81","v":0},null,null,null,"Fraction of transition cycle that is charge-depleting operation (Zn) [3]",{"$f":" astm( IF((IF( SUMIF(AV59:AV93,\"=\" & ($AQ82),AY59:AY93)/SUMIF(AV59:AV93,\"=\" & ($AQ82-1),AY59:AY93)<0,0, SUMIF(AV59:AV93,\"=\" & ($AQ82),AY59:AY93)/SUMIF(AV59:AV93,\"=\" & ($AQ82-1),AY59:AY93)))<0,0, IF((IF( SUMIF(AV59:AV93,\"=\" & ($AQ82),AY59:AY93)/SUMIF(AV59:AV93,\"=\" & ($AQ82-1),AY59:AY93)<0,0, SUMIF(AV59:AV93,\"=\" & ($AQ82),AY59:AY93)/SUMIF(AV59:AV93,\"=\" & ($AQ82-1),AY59:AY93)))>1,1, (IF( SUMIF(AV59:AV93,\"=\" & ($AQ82),AY59:AY93)/SUMIF(AV59:AV93,\"=\" & ($AQ82-1),AY59:AY93)<0,0, SUMIF(AV59:AV93,\"=\" & ($AQ82),AY59:AY93)/SUMIF(AV59:AV93,\"=\" & ($AQ82-1),AY59:AY93))))), 3)","v":{"$error":"#VALUE!"}},{"$f":" astm( IF((IF( SUMIF(BW59:BW93,\"=\" & ($AR82),BZ59:BZ93)/SUMIF(BW59:BW93,\"=\" & ($AR82-1),BZ59:BZ93)<0,0, SUMIF(BW59:BW93,\"=\" & ($AR82),BZ59:BZ93)/SUMIF(BW59:BW93,\"=\" & ($AR82-1),BZ59:BZ93)))<0,0, IF((IF( SUMIF(BW59:BW93,\"=\" & ($AR82),BZ59:BZ93)/SUMIF(BW59:BW93,\"=\" & ($AR82-1),BZ59:BZ93)<0,0, SUMIF(BW59:BW93,\"=\" & ($AR82),BZ59:BZ93)/SUMIF(BW59:BW93,\"=\" & ($AR82-1),BZ59:BZ93)))>1,1, (IF( SUMIF(BW59:BW93,\"=\" & ($AR82),BZ59:BZ93)/SUMIF(BW59:BW93,\"=\" & ($AR82-1),BZ59:BZ93)<0,0, SUMIF(BW59:BW93,\"=\" & ($AR82),BZ59:BZ93)/SUMIF(BW59:BW93,\"=\" & ($AR82-1),BZ59:BZ93))))), 3)","v":{"$error":"#VALUE!"}},null,null,null,23,"","","","",{"$f":"IFERROR(astm(  astm($W$94,3)*1000*(AZ81/AQ61),1),\"\")","v":""},"","","",{"$f":"IFERROR(astm(cityfuf(BB81),3)-astm(cityfuf(BB80),3),\"\")","v":""},"","","","","","",{"$f":"IFERROR(astm(mdiuf(BK81),3)-astm(mdiuf(BK80),3),\"\")","v":""},"","",{"$f":"IFERROR(astm(cityfufalt(BK81),3)-astm(cityfufalt(BK80),3),\"\")","v":""},"","","",{"$f":"IF(AZ81=\"\",1, MIN(IFERROR((AZ81/1000)/((AW81*$J$22)*$J$21/3600),1),IFERROR((SUMIFS(AZ59:AZ93,AV59:AV93,\"<=\"&$AV81,AV59:AV93,\">=\"&$AV81-1)/1000)/(  $J$22*SUMIFS(AW59:AW93,AV59:AV93,\"<=\"&$AV81,AV59:AV93,\">=\"&$AV81-1)*$J$21/3600),1),IFERROR((SUMIFS(AZ59:AZ93,AV59:AV93,\"<=\"&$AV81,AV59:AV93,\">=\"&$AV81-2)/1000)/(  $J$22*SUMIFS(AW59:AW93,AV59:AV93,\"<=\"&$AV81,AV59:AV93,\">=\"&$AV81-2)*$J$21/3600),1),IFERROR((SUMIFS(AZ59:AZ93,AV59:AV93,\"<=\"&$AV81,AV59:AV93,\">=\"&$AV81-3)/1000)/(  $J$22*SUMIFS(AW59:AW93,AV59:AV93,\"<=\"&$AV81,AV59:AV93,\">=\"&$AV81-3)*$J$21/3600),1)) )","v":1},"",{"$f":"IF(AZ81=\"\",1, MIN($AZ81/SUM($AZ59:$AZ81),SUMIFS(AZ59:AZ93,AV59:AV93,\">=\"&$AV81-1,AV59:AV93,\"<=\"&$AV81)/SUM($AZ59:$AZ81),SUMIFS(AZ59:AZ93,AV59:AV93,\">=\"&$AV81-2,AV59:AV93,\"<=\"&$AV81)/SUM($AZ59:$AZ81),SUMIFS(AZ59:AZ93,AV59:AV93,\">=\"&$AV81-3,AV59:AV93,\"<=\"&$AV81)/SUM($AZ59:$AZ81)) )","v":1},null,23,"","","","","","","","",{"$f":"IFERROR(astm(highwayfuf(CC81)-highwayfuf(CC80),3),\"\")","v":""},"","","","","","",{"$f":"IFERROR(astm(mdiuf(CL81)-mdiuf(CL80),3),\"\")","v":""},"","",{"$f":"IFERROR(astm(highwayfufalt(CL81)-highwayfufalt(CL80),3),\"\")","v":""},"","","",{"$f":"IF(CA81=\"\",1, MIN(IFERROR((CA81/1000)/((BX81*$J$22)*$J$21/3600),1),IFERROR((SUMIFS(CA59:CA93,BW59:BW93,\"<=\"&$BW81,BW59:BW93,\">=\"&$BW81-1)/1000)/(  $J$22*SUMIFS(BX59:BX93,BW59:BW93,\"<=\"&$BW81,BW59:BW93,\">=\"&$BW81-1)*$J$21/3600),1),IFERROR((SUMIFS(CA59:CA93,BW59:BW93,\"<=\"&$BW81,BW59:BW93,\">=\"&$BW81-2)/1000)/(  $J$22*SUMIFS(BX59:BX93,BW59:BW93,\"<=\"&$BW81,BW59:BW93,\">=\"&$BW81-2)*$J$21/3600),1),IFERROR((SUMIFS(CA59:CA93,BW59:BW93,\"<=\"&$BW81,BW59:BW93,\">=\"&$BW81-3)/1000)/(  $J$22*SUMIFS(BX59:BX93,BW59:BW93,\"<=\"&$BW81,BW59:BW93,\">=\"&$BW81-3)*$J$21/3600),1)) )","v":1},"",{"$f":"IF(CA81=\"\",1, MIN($CA81/SUM($CA59:$CA81),SUMIFS(CA59:CA93,BW59:BW93,\">=\"&$BW81-1,BW59:BW93,\"<=\"&$BW81)/SUM($CA59:$CA81),SUMIFS(CA59:CA93,BW59:BW93,\">=\"&$BW81-2,BW59:BW93,\"<=\"&$BW81)/SUM($CA59:$CA81),SUMIFS(CA59:CA93,BW59:BW93,\">=\"&$BW81-3,BW59:BW93,\"<=\"&$BW81)/SUM($CA59:$CA81)) )","v":1}]
[null,null,"Comb2 Unadj FE - Alternative Fuel",null,{"$f":"astm(0.55*E80+0.45*E81,4)","v":{"$error":"#VALUE!"}},{"$f":"astm(1/(0.55/F80+0.45/F81),4)","v":{"$error":"#VALUE!"}},null,null,null,null,null,null,null,null,null,null,24,null,null,null,null,null,null,null,24,null,null,null,null,null,null,null,null,null,"Unadjusted Fuel Economy (MPG) [4]",{"$f":"AJ57","v":0},{"$f":"AK57","v":0},{"$f":"AL57","v":0},null,null,null,"Number of last cycle number with charge-depleting operation (transition cycle) [0]",{"$f":"IF(ISNUMBER(W96), W96,   IF(COUNTIF(BR59:BR93,\"CD\") < COUNT(R59:R93), COUNTIF(BR59:BR93,\"CD\"),     IF(COUNTIF(BT59:BT93,\"CD\") < COUNT(R59:R93), COUNTIF(BT59:BT93,\"CD\"),     \"EOT ERROR\"     )     )    )","v":"EOT ERROR"},{"$f":"IF(ISNUMBER(AE96), AE96,   IF(COUNTIF(CS59:CS93,\"CD\") < COUNT(Z59:Z93), COUNTIF(CS59:CS93,\"CD\"),     IF(COUNTIF(CU59:CU93,\"CD\") < COUNT(Z59:Z93), COUNTIF(CU59:CU93,\"CD\"),     \"EOT ERROR\"     )     )    )","v":"EOT ERROR"},null,null,null,24,"","","","",{"$f":"IFERROR(astm(  astm($W$94,3)*1000*(AZ82/AQ61),1),\"\")","v":""},"","","",{"$f":"IFERROR(astm(cityfuf(BB82),3)-astm(cityfuf(BB81),3),\"\")","v":""},"","","","","","",{"$f":"IFERROR(astm(mdiuf(BK82),3)-astm(mdiuf(BK81),3),\"\")","v":""},"","",{"$f":"IFERROR(astm(cityfufalt(BK82),3)-astm(cityfufalt(BK81),3),\"\")","v":""},"","","",{"$f":"IF(AZ82=\"\",1, MIN(IFERROR((AZ82/1000)/((AW82*$J$22)*$J$21/3600),1),IFERROR((SUMIFS(AZ59:AZ93,AV59:AV93,\"<=\"&$AV82,AV59:AV93,\">=\"&$AV82-1)/1000)/(  $J$22*SUMIFS(AW59:AW93,AV59:AV93,\"<=\"&$AV82,AV59:AV93,\">=\"&$AV82-1)*$J$21/3600),1),IFERROR((SUMIFS(AZ59:AZ93,AV59:AV93,\"<=\"&$AV82,AV59:AV93,\">=\"&$AV82-2)/1000)/(  $J$22*SUMIFS(AW59:AW93,AV59:AV93,\"<=\"&$AV82,AV59:AV93,\">=\"&$AV82-2)*$J$21/3600),1),IFERROR((SUMIFS(AZ59:AZ93,AV59:AV93,\"<=\"&$AV82,AV59:AV93,\">=\"&$AV82-3)/1000)/(  $J$22*SUMIFS(AW59:AW93,AV59:AV93,\"<=\"&$AV82,AV59:AV93,\">=\"&$AV82-3)*$J$21/3600),1)) )","v":1},"",{"$f":"IF(AZ82=\"\",1, MIN($AZ82/SUM($AZ59:$AZ82),SUMIFS(AZ59:AZ93,AV59:AV93,\">=\"&$AV82-1,AV59:AV93,\"<=\"&$AV82)/SUM($AZ59:$AZ82),SUMIFS(AZ59:AZ93,AV59:AV93,\">=\"&$AV82-2,AV59:AV93,\"<=\"&$AV82)/SUM($AZ59:$AZ82),SUMIFS(AZ59:AZ93,AV59:AV93,\">=\"&$AV82-3,AV59:AV93,\"<=\"&$AV82)/SUM($AZ59:$AZ82)) )","v":1},null,24,"","","","","","","","",{"$f":"IFERROR(astm(highwayfuf(CC82)-highwayfuf(CC81),3),\"\")","v":""},"","","","","","",{"$f":"IFERROR(astm(mdiuf(CL82)-mdiuf(CL81),3),\"\")","v":""},"","",{"$f":"IFERROR(astm(highwayfufalt(CL82)-highwayfufalt(CL81),3),\"\")","v":""},"","","",{"$f":"IF(CA82=\"\",1, MIN(IFERROR((CA82/1000)/((BX82*$J$22)*$J$21/3600),1),IFERROR((SUMIFS(CA59:CA93,BW59:BW93,\"<=\"&$BW82,BW59:BW93,\">=\"&$BW82-1)/1000)/(  $J$22*SUMIFS(BX59:BX93,BW59:BW93,\"<=\"&$BW82,BW59:BW93,\">=\"&$BW82-1)*$J$21/3600),1),IFERROR((SUMIFS(CA59:CA93,BW59:BW93,\"<=\"&$BW82,BW59:BW93,\">=\"&$BW82-2)/1000)/(  $J$22*SUMIFS(BX59:BX93,BW59:BW93,\"<=\"&$BW82,BW59:BW93,\">=\"&$BW82-2)*$J$21/3600),1),IFERROR((SUMIFS(CA59:CA93,BW59:BW93,\"<=\"&$BW82,BW59:BW93,\">=\"&$BW82-3)/1000)/(  $J$22*SUMIFS(BX59:BX93,BW59:BW93,\"<=\"&$BW82,BW59:BW93,\">=\"&$BW82-3)*$J$21/3600),1)) )","v":1},"",{"$f":"IF(CA82=\"\",1, MIN($CA82/SUM($CA59:$CA82),SUMIFS(CA59:CA93,BW59:BW93,\">=\"&$BW82-1,BW59:BW93,\"<=\"&$BW82)/SUM($CA59:$CA82),SUMIFS(CA59:CA93,BW59:BW93,\">=\"&$BW82-2,BW59:BW93,\"<=\"&$BW82)/SUM($CA59:$CA82),SUMIFS(CA59:CA93,BW59:BW93,\">=\"&$BW82-3,BW59:BW93,\"<=\"&$BW82)/SUM($CA59:$CA82)) )","v":1}]
[null,null,"City2 Unrd Adj FE - Alternative Fuel",null,{"$f":"astm($D$23,4)","v":{"$error":"#VALUE!"}},{"$f":"astm($D$22,4)","v":{"$error":"#VALUE!"}},null,null,null,null,null,null,null,null,null,null,25,null,null,null,null,null,null,null,25,null,null,null,null,null,null,null,null,null,"Unadjusted GHG (g/mi) [1]",{"$f":"AJ59","v":0},{"$f":"AK59","v":0},{"$f":"AL59","v":0},null,null,"Intermediate Results Requiring Charge-Sustaining (CS) Test Results or Other Inputs",null,null,null,null,null,null,25,"","","","",{"$f":"IFERROR(astm(  astm($W$94,3)*1000*(AZ83/AQ61),1),\"\")","v":""},"","","",{"$f":"IFERROR(astm(cityfuf(BB83),3)-astm(cityfuf(BB82),3),\"\")","v":""},"","","","","","",{"$f":"IFERROR(astm(mdiuf(BK83),3)-astm(mdiuf(BK82),3),\"\")","v":""},"","",{"$f":"IFERROR(astm(cityfufalt(BK83),3)-astm(cityfufalt(BK82),3),\"\")","v":""},"","","",{"$f":"IF(AZ83=\"\",1, MIN(IFERROR((AZ83/1000)/((AW83*$J$22)*$J$21/3600),1),IFERROR((SUMIFS(AZ59:AZ93,AV59:AV93,\"<=\"&$AV83,AV59:AV93,\">=\"&$AV83-1)/1000)/(  $J$22*SUMIFS(AW59:AW93,AV59:AV93,\"<=\"&$AV83,AV59:AV93,\">=\"&$AV83-1)*$J$21/3600),1),IFERROR((SUMIFS(AZ59:AZ93,AV59:AV93,\"<=\"&$AV83,AV59:AV93,\">=\"&$AV83-2)/1000)/(  $J$22*SUMIFS(AW59:AW93,AV59:AV93,\"<=\"&$AV83,AV59:AV93,\">=\"&$AV83-2)*$J$21/3600),1),IFERROR((SUMIFS(AZ59:AZ93,AV59:AV93,\"<=\"&$AV83,AV59:AV93,\">=\"&$AV83-3)/1000)/(  $J$22*SUMIFS(AW59:AW93,AV59:AV93,\"<=\"&$AV83,AV59:AV93,\">=\"&$AV83-3)*$J$21/3600),1)) )","v":1},"",{"$f":"IF(AZ83=\"\",1, MIN($AZ83/SUM($AZ59:$AZ83),SUMIFS(AZ59:AZ93,AV59:AV93,\">=\"&$AV83-1,AV59:AV93,\"<=\"&$AV83)/SUM($AZ59:$AZ83),SUMIFS(AZ59:AZ93,AV59:AV93,\">=\"&$AV83-2,AV59:AV93,\"<=\"&$AV83)/SUM($AZ59:$AZ83),SUMIFS(AZ59:AZ93,AV59:AV93,\">=\"&$AV83-3,AV59:AV93,\"<=\"&$AV83)/SUM($AZ59:$AZ83)) )","v":1},null,25,"","","","","","","","",{"$f":"IFERROR(astm(highwayfuf(CC83)-highwayfuf(CC82),3),\"\")","v":""},"","","","","","",{"$f":"IFERROR(astm(mdiuf(CL83)-mdiuf(CL82),3),\"\")","v":""},"","",{"$f":"IFERROR(astm(highwayfufalt(CL83)-highwayfufalt(CL82),3),\"\")","v":""},"","","",{"$f":"IF(CA83=\"\",1, MIN(IFERROR((CA83/1000)/((BX83*$J$22)*$J$21/3600),1),IFERROR((SUMIFS(CA59:CA93,BW59:BW93,\"<=\"&$BW83,BW59:BW93,\">=\"&$BW83-1)/1000)/(  $J$22*SUMIFS(BX59:BX93,BW59:BW93,\"<=\"&$BW83,BW59:BW93,\">=\"&$BW83-1)*$J$21/3600),1),IFERROR((SUMIFS(CA59:CA93,BW59:BW93,\"<=\"&$BW83,BW59:BW93,\">=\"&$BW83-2)/1000)/(  $J$22*SUMIFS(BX59:BX93,BW59:BW93,\"<=\"&$BW83,BW59:BW93,\">=\"&$BW83-2)*$J$21/3600),1),IFERROR((SUMIFS(CA59:CA93,BW59:BW93,\"<=\"&$BW83,BW59:BW93,\">=\"&$BW83-3)/1000)/(  $J$22*SUMIFS(BX59:BX93,BW59:BW93,\"<=\"&$BW83,BW59:BW93,\">=\"&$BW83-3)*$J$21/3600),1)) )","v":1},"",{"$f":"IF(CA83=\"\",1, MIN($CA83/SUM($CA59:$CA83),SUMIFS(CA59:CA93,BW59:BW93,\">=\"&$BW83-1,BW59:BW93,\"<=\"&$BW83)/SUM($CA59:$CA83),SUMIFS(CA59:CA93,BW59:BW93,\">=\"&$BW83-2,BW59:BW93,\"<=\"&$BW83)/SUM($CA59:$CA83),SUMIFS(CA59:CA93,BW59:BW93,\">=\"&$BW83-3,BW59:BW93,\"<=\"&$BW83)/SUM($CA59:$CA83)) )","v":1}]
[null,null,"Hwy2 Unrd Adj FE - Alternative Fuel",null,{"$f":"astm($E$23,4)","v":{"$error":"#VALUE!"}},{"$f":"astm($E$22,4)","v":{"$error":"#VALUE!"}},null,null,null,null,null,null,null,null,null,null,26,null,null,null,null,null,null,null,26,null,null,null,null,null,null,null,null,null,"Adjusted Fuel Economy (MPG) [4]",{"$f":"IFERROR(astm(1/ ( AQ64 + (1-AJ81)/N60),4),0)","v":0},{"$f":"IFERROR(astm(1/ ( AR64 + (1-AK81)/O60),4),0)","v":0},{"$f":"IFERROR(astm(1/(0.55/AJ84+0.45/AK84),4),0)","v":0},null,null,null,"DRIVING DISTANCE VALUES","CITY","HIGHWAY",null,null,null,26,"","","","",{"$f":"IFERROR(astm(  astm($W$94,3)*1000*(AZ84/AQ61),1),\"\")","v":""},"","","",{"$f":"IFERROR(astm(cityfuf(BB84),3)-astm(cityfuf(BB83),3),\"\")","v":""},"","","","","","",{"$f":"IFERROR(astm(mdiuf(BK84),3)-astm(mdiuf(BK83),3),\"\")","v":""},"","",{"$f":"IFERROR(astm(cityfufalt(BK84),3)-astm(cityfufalt(BK83),3),\"\")","v":""},"","","",{"$f":"IF(AZ84=\"\",1, MIN(IFERROR((AZ84/1000)/((AW84*$J$22)*$J$21/3600),1),IFERROR((SUMIFS(AZ59:AZ93,AV59:AV93,\"<=\"&$AV84,AV59:AV93,\">=\"&$AV84-1)/1000)/(  $J$22*SUMIFS(AW59:AW93,AV59:AV93,\"<=\"&$AV84,AV59:AV93,\">=\"&$AV84-1)*$J$21/3600),1),IFERROR((SUMIFS(AZ59:AZ93,AV59:AV93,\"<=\"&$AV84,AV59:AV93,\">=\"&$AV84-2)/1000)/(  $J$22*SUMIFS(AW59:AW93,AV59:AV93,\"<=\"&$AV84,AV59:AV93,\">=\"&$AV84-2)*$J$21/3600),1),IFERROR((SUMIFS(AZ59:AZ93,AV59:AV93,\"<=\"&$AV84,AV59:AV93,\">=\"&$AV84-3)/1000)/(  $J$22*SUMIFS(AW59:AW93,AV59:AV93,\"<=\"&$AV84,AV59:AV93,\">=\"&$AV84-3)*$J$21/3600),1)) )","v":1},"",{"$f":"IF(AZ84=\"\",1, MIN($AZ84/SUM($AZ59:$AZ84),SUMIFS(AZ59:AZ93,AV59:AV93,\">=\"&$AV84-1,AV59:AV93,\"<=\"&$AV84)/SUM($AZ59:$AZ84),SUMIFS(AZ59:AZ93,AV59:AV93,\">=\"&$AV84-2,AV59:AV93,\"<=\"&$AV84)/SUM($AZ59:$AZ84),SUMIFS(AZ59:AZ93,AV59:AV93,\">=\"&$AV84-3,AV59:AV93,\"<=\"&$AV84)/SUM($AZ59:$AZ84)) )","v":1},null,26,"","","","","","","","",{"$f":"IFERROR(astm(highwayfuf(CC84)-highwayfuf(CC83),3),\"\")","v":""},"","","","","","",{"$f":"IFERROR(astm(mdiuf(CL84)-mdiuf(CL83),3),\"\")","v":""},"","",{"$f":"IFERROR(astm(highwayfufalt(CL84)-highwayfufalt(CL83),3),\"\")","v":""},"","","",{"$f":"IF(CA84=\"\",1, MIN(IFERROR((CA84/1000)/((BX84*$J$22)*$J$21/3600),1),IFERROR((SUMIFS(CA59:CA93,BW59:BW93,\"<=\"&$BW84,BW59:BW93,\">=\"&$BW84-1)/1000)/(  $J$22*SUMIFS(BX59:BX93,BW59:BW93,\"<=\"&$BW84,BW59:BW93,\">=\"&$BW84-1)*$J$21/3600),1),IFERROR((SUMIFS(CA59:CA93,BW59:BW93,\"<=\"&$BW84,BW59:BW93,\">=\"&$BW84-2)/1000)/(  $J$22*SUMIFS(BX59:BX93,BW59:BW93,\"<=\"&$BW84,BW59:BW93,\">=\"&$BW84-2)*$J$21/3600),1),IFERROR((SUMIFS(CA59:CA93,BW59:BW93,\"<=\"&$BW84,BW59:BW93,\">=\"&$BW84-3)/1000)/(  $J$22*SUMIFS(BX59:BX93,BW59:BW93,\"<=\"&$BW84,BW59:BW93,\">=\"&$BW84-3)*$J$21/3600),1)) )","v":1},"",{"$f":"IF(CA84=\"\",1, MIN($CA84/SUM($CA59:$CA84),SUMIFS(CA59:CA93,BW59:BW93,\">=\"&$BW84-1,BW59:BW93,\"<=\"&$BW84)/SUM($CA59:$CA84),SUMIFS(CA59:CA93,BW59:BW93,\">=\"&$BW84-2,BW59:BW93,\"<=\"&$BW84)/SUM($CA59:$CA84),SUMIFS(CA59:CA93,BW59:BW93,\">=\"&$BW84-3,BW59:BW93,\"<=\"&$BW84)/SUM($CA59:$CA84)) )","v":1}]
[null,null,"Cmb2 Unrd Adj FE - Alternative Fuel",null,{"$f":"astm(0.55*D23+0.45*E23,4)","v":{"$error":"#VALUE!"}},{"$f":"astm(1/(0.55/D22+0.45/E22),4)","v":{"$error":"#VALUE!"}},null,null,null,null,null,null,null,null,null,null,27,null,null,null,null,null,null,null,27,null,null,null,null,null,null,null,null,null,"Adjusted GHG (g/mi) [1]",{"$f":"IFERROR(astm(  AQ76    +(1-AJ81)*astm(N63,1),1),0)","v":0},{"$f":"IFERROR(astm(  AR76    +(1-AK81)*astm(O63,1),1),0)","v":0},{"$f":"IFERROR(astm(0.55*AJ85+0.45*AK85,1),0)","v":0},null,null,null,"CD Equivalent All-Electric Range (EAER), Unadjusted (mi) [3]",{"$f":"astm(AQ54*((N61-AQ72)/N61),3)","v":{"$error":"#VALUE!"}},{"$f":"astm(AR54*((O61-AR72)/O61),3)","v":{"$error":"#VALUE!"}},null,null,null,27,"","","","",{"$f":"IFERROR(astm(  astm($W$94,3)*1000*(AZ85/AQ61),1),\"\")","v":""},"","","",{"$f":"IFERROR(astm(cityfuf(BB85),3)-astm(cityfuf(BB84),3),\"\")","v":""},"","","","","","",{"$f":"IFERROR(astm(mdiuf(BK85),3)-astm(mdiuf(BK84),3),\"\")","v":""},"","",{"$f":"IFERROR(astm(cityfufalt(BK85),3)-astm(cityfufalt(BK84),3),\"\")","v":""},"","","",{"$f":"IF(AZ85=\"\",1, MIN(IFERROR((AZ85/1000)/((AW85*$J$22)*$J$21/3600),1),IFERROR((SUMIFS(AZ59:AZ93,AV59:AV93,\"<=\"&$AV85,AV59:AV93,\">=\"&$AV85-1)/1000)/(  $J$22*SUMIFS(AW59:AW93,AV59:AV93,\"<=\"&$AV85,AV59:AV93,\">=\"&$AV85-1)*$J$21/3600),1),IFERROR((SUMIFS(AZ59:AZ93,AV59:AV93,\"<=\"&$AV85,AV59:AV93,\">=\"&$AV85-2)/1000)/(  $J$22*SUMIFS(AW59:AW93,AV59:AV93,\"<=\"&$AV85,AV59:AV93,\">=\"&$AV85-2)*$J$21/3600),1),IFERROR((SUMIFS(AZ59:AZ93,AV59:AV93,\"<=\"&$AV85,AV59:AV93,\">=\"&$AV85-3)/1000)/(  $J$22*SUMIFS(AW59:AW93,AV59:AV93,\"<=\"&$AV85,AV59:AV93,\">=\"&$AV85-3)*$J$21/3600),1)) )","v":1},"",{"$f":"IF(AZ85=\"\",1, MIN($AZ85/SUM($AZ59:$AZ85),SUMIFS(AZ59:AZ93,AV59:AV93,\">=\"&$AV85-1,AV59:AV93,\"<=\"&$AV85)/SUM($AZ59:$AZ85),SUMIFS(AZ59:AZ93,AV59:AV93,\">=\"&$AV85-2,AV59:AV93,\"<=\"&$AV85)/SUM($AZ59:$AZ85),SUMIFS(AZ59:AZ93,AV59:AV93,\">=\"&$AV85-3,AV59:AV93,\"<=\"&$AV85)/SUM($AZ59:$AZ85)) )","v":1},null,27,"","","","","","","","",{"$f":"IFERROR(astm(highwayfuf(CC85)-highwayfuf(CC84),3),\"\")","v":""},"","","","","","",{"$f":"IFERROR(astm(mdiuf(CL85)-mdiuf(CL84),3),\"\")","v":""},"","",{"$f":"IFERROR(astm(highwayfufalt(CL85)-highwayfufalt(CL84),3),\"\")","v":""},"","","",{"$f":"IF(CA85=\"\",1, MIN(IFERROR((CA85/1000)/((BX85*$J$22)*$J$21/3600),1),IFERROR((SUMIFS(CA59:CA93,BW59:BW93,\"<=\"&$BW85,BW59:BW93,\">=\"&$BW85-1)/1000)/(  $J$22*SUMIFS(BX59:BX93,BW59:BW93,\"<=\"&$BW85,BW59:BW93,\">=\"&$BW85-1)*$J$21/3600),1),IFERROR((SUMIFS(CA59:CA93,BW59:BW93,\"<=\"&$BW85,BW59:BW93,\">=\"&$BW85-2)/1000)/(  $J$22*SUMIFS(BX59:BX93,BW59:BW93,\"<=\"&$BW85,BW59:BW93,\">=\"&$BW85-2)*$J$21/3600),1),IFERROR((SUMIFS(CA59:CA93,BW59:BW93,\"<=\"&$BW85,BW59:BW93,\">=\"&$BW85-3)/1000)/(  $J$22*SUMIFS(BX59:BX93,BW59:BW93,\"<=\"&$BW85,BW59:BW93,\">=\"&$BW85-3)*$J$21/3600),1)) )","v":1},"",{"$f":"IF(CA85=\"\",1, MIN($CA85/SUM($CA59:$CA85),SUMIFS(CA59:CA93,BW59:BW93,\">=\"&$BW85-1,BW59:BW93,\"<=\"&$BW85)/SUM($CA59:$CA85),SUMIFS(CA59:CA93,BW59:BW93,\">=\"&$BW85-2,BW59:BW93,\"<=\"&$BW85)/SUM($CA59:$CA85),SUMIFS(CA59:CA93,BW59:BW93,\">=\"&$BW85-3,BW59:BW93,\"<=\"&$BW85)/SUM($CA59:$CA85)) )","v":1}]
[null,null,"Charge-depleting CO2",null,null,"g/mi",null,null,null,null,null,null,null,null,null,null,28,null,null,null,null,null,null,null,28,null,null,null,null,null,null,null,null,null,null,null,null,null,null,null,null,"Charge-sustaining driving range, adjusted (mi) [3]",{"$f":"astm((astm($J$11,1)-AQ66)*astm(N60,4),3)","v":0},{"$f":"astm((astm($J$11,1)-AR66)*astm(O60,4),3)","v":0},null,null,null,28,"","","","",{"$f":"IFERROR(astm(  astm($W$94,3)*1000*(AZ86/AQ61),1),\"\")","v":""},"","","",{"$f":"IFERROR(astm(cityfuf(BB86),3)-astm(cityfuf(BB85),3),\"\")","v":""},"","","","","","",{"$f":"IFERROR(astm(mdiuf(BK86),3)-astm(mdiuf(BK85),3),\"\")","v":""},"","",{"$f":"IFERROR(astm(cityfufalt(BK86),3)-astm(cityfufalt(BK85),3),\"\")","v":""},"","","",{"$f":"IF(AZ86=\"\",1, MIN(IFERROR((AZ86/1000)/((AW86*$J$22)*$J$21/3600),1),IFERROR((SUMIFS(AZ59:AZ93,AV59:AV93,\"<=\"&$AV86,AV59:AV93,\">=\"&$AV86-1)/1000)/(  $J$22*SUMIFS(AW59:AW93,AV59:AV93,\"<=\"&$AV86,AV59:AV93,\">=\"&$AV86-1)*$J$21/3600),1),IFERROR((SUMIFS(AZ59:AZ93,AV59:AV93,\"<=\"&$AV86,AV59:AV93,\">=\"&$AV86-2)/1000)/(  $J$22*SUMIFS(AW59:AW93,AV59:AV93,\"<=\"&$AV86,AV59:AV93,\">=\"&$AV86-2)*$J$21/3600),1),IFERROR((SUMIFS(AZ59:AZ93,AV59:AV93,\"<=\"&$AV86,AV59:AV93,\">=\"&$AV86-3)/1000)/(  $J$22*SUMIFS(AW59:AW93,AV59:AV93,\"<=\"&$AV86,AV59:AV93,\">=\"&$AV86-3)*$J$21/3600),1)) )","v":1},"",{"$f":"IF(AZ86=\"\",1, MIN($AZ86/SUM($AZ59:$AZ86),SUMIFS(AZ59:AZ93,AV59:AV93,\">=\"&$AV86-1,AV59:AV93,\"<=\"&$AV86)/SUM($AZ59:$AZ86),SUMIFS(AZ59:AZ93,AV59:AV93,\">=\"&$AV86-2,AV59:AV93,\"<=\"&$AV86)/SUM($AZ59:$AZ86),SUMIFS(AZ59:AZ93,AV59:AV93,\">=\"&$AV86-3,AV59:AV93,\"<=\"&$AV86)/SUM($AZ59:$AZ86)) )","v":1},null,28,"","","","","","","","",{"$f":"IFERROR(astm(highwayfuf(CC86)-highwayfuf(CC85),3),\"\")","v":""},"","","","","","",{"$f":"IFERROR(astm(mdiuf(CL86)-mdiuf(CL85),3),\"\")","v":""},"","",{"$f":"IFERROR(astm(highwayfufalt(CL86)-highwayfufalt(CL85),3),\"\")","v":""},"","","",{"$f":"IF(CA86=\"\",1, MIN(IFERROR((CA86/1000)/((BX86*$J$22)*$J$21/3600),1),IFERROR((SUMIFS(CA59:CA93,BW59:BW93,\"<=\"&$BW86,BW59:BW93,\">=\"&$BW86-1)/1000)/(  $J$22*SUMIFS(BX59:BX93,BW59:BW93,\"<=\"&$BW86,BW59:BW93,\">=\"&$BW86-1)*$J$21/3600),1),IFERROR((SUMIFS(CA59:CA93,BW59:BW93,\"<=\"&$BW86,BW59:BW93,\">=\"&$BW86-2)/1000)/(  $J$22*SUMIFS(BX59:BX93,BW59:BW93,\"<=\"&$BW86,BW59:BW93,\">=\"&$BW86-2)*$J$21/3600),1),IFERROR((SUMIFS(CA59:CA93,BW59:BW93,\"<=\"&$BW86,BW59:BW93,\">=\"&$BW86-3)/1000)/(  $J$22*SUMIFS(BX59:BX93,BW59:BW93,\"<=\"&$BW86,BW59:BW93,\">=\"&$BW86-3)*$J$21/3600),1)) )","v":1},"",{"$f":"IF(CA86=\"\",1, MIN($CA86/SUM($CA59:$CA86),SUMIFS(CA59:CA93,BW59:BW93,\">=\"&$BW86-1,BW59:BW93,\"<=\"&$BW86)/SUM($CA59:$CA86),SUMIFS(CA59:CA93,BW59:BW93,\">=\"&$BW86-2,BW59:BW93,\"<=\"&$BW86)/SUM($CA59:$CA86),SUMIFS(CA59:CA93,BW59:BW93,\">=\"&$BW86-3,BW59:BW93,\"<=\"&$BW86)/SUM($CA59:$CA86)) )","v":1}]
[null,null,"City CO2 Rounded Adj",null,null,{"$f":"astm(IF($N$7+$N$55+$N$103=0,   (AQ25+AQ73+AQ121)/ ((AQ7<>0)+(AQ55<>0)+(AQ103<>0)),    (IFERROR($N$7*AQ25,0)+IFERROR($N$55*AQ73,0)+IFERROR($N$103*AQ121,0)) /  ($N$7+$N$55+$N$103)   ),0)","v":{"$error":"#VALUE!"}},null,null,null,null,null,null,null,null,null,null,29,null,null,null,null,null,null,null,29,null,null,null,null,null,null,null,null,null,null,null,null,null,null,null,null,"UTILITY FACTORS & OTHER METRICS","CITY","HIGHWAY",null,null,null,29,"","","","",{"$f":"IFERROR(astm(  astm($W$94,3)*1000*(AZ87/AQ61),1),\"\")","v":""},"","","",{"$f":"IFERROR(astm(cityfuf(BB87),3)-astm(cityfuf(BB86),3),\"\")","v":""},"","","","","","",{"$f":"IFERROR(astm(mdiuf(BK87),3)-astm(mdiuf(BK86),3),\"\")","v":""},"","",{"$f":"IFERROR(astm(cityfufalt(BK87),3)-astm(cityfufalt(BK86),3),\"\")","v":""},"","","",{"$f":"IF(AZ87=\"\",1, MIN(IFERROR((AZ87/1000)/((AW87*$J$22)*$J$21/3600),1),IFERROR((SUMIFS(AZ59:AZ93,AV59:AV93,\"<=\"&$AV87,AV59:AV93,\">=\"&$AV87-1)/1000)/(  $J$22*SUMIFS(AW59:AW93,AV59:AV93,\"<=\"&$AV87,AV59:AV93,\">=\"&$AV87-1)*$J$21/3600),1),IFERROR((SUMIFS(AZ59:AZ93,AV59:AV93,\"<=\"&$AV87,AV59:AV93,\">=\"&$AV87-2)/1000)/(  $J$22*SUMIFS(AW59:AW93,AV59:AV93,\"<=\"&$AV87,AV59:AV93,\">=\"&$AV87-2)*$J$21/3600),1),IFERROR((SUMIFS(AZ59:AZ93,AV59:AV93,\"<=\"&$AV87,AV59:AV93,\">=\"&$AV87-3)/1000)/(  $J$22*SUMIFS(AW59:AW93,AV59:AV93,\"<=\"&$AV87,AV59:AV93,\">=\"&$AV87-3)*$J$21/3600),1)) )","v":1},"",{"$f":"IF(AZ87=\"\",1, MIN($AZ87/SUM($AZ59:$AZ87),SUMIFS(AZ59:AZ93,AV59:AV93,\">=\"&$AV87-1,AV59:AV93,\"<=\"&$AV87)/SUM($AZ59:$AZ87),SUMIFS(AZ59:AZ93,AV59:AV93,\">=\"&$AV87-2,AV59:AV93,\"<=\"&$AV87)/SUM($AZ59:$AZ87),SUMIFS(AZ59:AZ93,AV59:AV93,\">=\"&$AV87-3,AV59:AV93,\"<=\"&$AV87)/SUM($AZ59:$AZ87)) )","v":1},null,29,"","","","","","","","",{"$f":"IFERROR(astm(highwayfuf(CC87)-highwayfuf(CC86),3),\"\")","v":""},"","","","","","",{"$f":"IFERROR(astm(mdiuf(CL87)-mdiuf(CL86),3),\"\")","v":""},"","",{"$f":"IFERROR(astm(highwayfufalt(CL87)-highwayfufalt(CL86),3),\"\")","v":""},"","","",{"$f":"IF(CA87=\"\",1, MIN(IFERROR((CA87/1000)/((BX87*$J$22)*$J$21/3600),1),IFERROR((SUMIFS(CA59:CA93,BW59:BW93,\"<=\"&$BW87,BW59:BW93,\">=\"&$BW87-1)/1000)/(  $J$22*SUMIFS(BX59:BX93,BW59:BW93,\"<=\"&$BW87,BW59:BW93,\">=\"&$BW87-1)*$J$21/3600),1),IFERROR((SUMIFS(CA59:CA93,BW59:BW93,\"<=\"&$BW87,BW59:BW93,\">=\"&$BW87-2)/1000)/(  $J$22*SUMIFS(BX59:BX93,BW59:BW93,\"<=\"&$BW87,BW59:BW93,\">=\"&$BW87-2)*$J$21/3600),1),IFERROR((SUMIFS(CA59:CA93,BW59:BW93,\"<=\"&$BW87,BW59:BW93,\">=\"&$BW87-3)/1000)/(  $J$22*SUMIFS(BX59:BX93,BW59:BW93,\"<=\"&$BW87,BW59:BW93,\">=\"&$BW87-3)*$J$21/3600),1)) )","v":1},"",{"$f":"IF(CA87=\"\",1, MIN($CA87/SUM($CA59:$CA87),SUMIFS(CA59:CA93,BW59:BW93,\">=\"&$BW87-1,BW59:BW93,\"<=\"&$BW87)/SUM($CA59:$CA87),SUMIFS(CA59:CA93,BW59:BW93,\">=\"&$BW87-2,BW59:BW93,\"<=\"&$BW87)/SUM($CA59:$CA87),SUMIFS(CA59:CA93,BW59:BW93,\">=\"&$BW87-3,BW59:BW93,\"<=\"&$BW87)/SUM($CA59:$CA87)) )","v":1}]
[null,null,"Hwy CO2 Rounded Adj",null,null,{"$f":"astm(IF($N$7+$N$55+$N$103=0,   (AR25+AR73+AR121)/ ((AR7<>0)+(AR55<>0)+(AR103<>0)),    (IFERROR($N$7*AR25,0)+IFERROR($N$55*AR73,0)+IFERROR($N$103*AR121,0)) /  ($N$7+$N$55+$N$103)   ),0)","v":{"$error":"#VALUE!"}},null,null,null,null,null,null,null,null,null,null,30,null,null,null,null,null,null,null,30,null,null,null,null,null,null,null,null,null,null,null,null,null,null,null,null,"CD 55/45 Fleet Utility Factor (FUF) for EAER [3]",{"$f":"astm(cityfuf(AQ85),3)","v":{"$error":"#VALUE!"}},{"$f":"astm(highwayfuf(AR85),3)","v":{"$error":"#VALUE!"}},null,null,null,30,"","","","",{"$f":"IFERROR(astm(  astm($W$94,3)*1000*(AZ88/AQ61),1),\"\")","v":""},"","","",{"$f":"IFERROR(astm(cityfuf(BB88),3)-astm(cityfuf(BB87),3),\"\")","v":""},"","","","","","",{"$f":"IFERROR(astm(mdiuf(BK88),3)-astm(mdiuf(BK87),3),\"\")","v":""},"","",{"$f":"IFERROR(astm(cityfufalt(BK88),3)-astm(cityfufalt(BK87),3),\"\")","v":""},"","","",{"$f":"IF(AZ88=\"\",1, MIN(IFERROR((AZ88/1000)/((AW88*$J$22)*$J$21/3600),1),IFERROR((SUMIFS(AZ59:AZ93,AV59:AV93,\"<=\"&$AV88,AV59:AV93,\">=\"&$AV88-1)/1000)/(  $J$22*SUMIFS(AW59:AW93,AV59:AV93,\"<=\"&$AV88,AV59:AV93,\">=\"&$AV88-1)*$J$21/3600),1),IFERROR((SUMIFS(AZ59:AZ93,AV59:AV93,\"<=\"&$AV88,AV59:AV93,\">=\"&$AV88-2)/1000)/(  $J$22*SUMIFS(AW59:AW93,AV59:AV93,\"<=\"&$AV88,AV59:AV93,\">=\"&$AV88-2)*$J$21/3600),1),IFERROR((SUMIFS(AZ59:AZ93,AV59:AV93,\"<=\"&$AV88,AV59:AV93,\">=\"&$AV88-3)/1000)/(  $J$22*SUMIFS(AW59:AW93,AV59:AV93,\"<=\"&$AV88,AV59:AV93,\">=\"&$AV88-3)*$J$21/3600),1)) )","v":1},"",{"$f":"IF(AZ88=\"\",1, MIN($AZ88/SUM($AZ59:$AZ88),SUMIFS(AZ59:AZ93,AV59:AV93,\">=\"&$AV88-1,AV59:AV93,\"<=\"&$AV88)/SUM($AZ59:$AZ88),SUMIFS(AZ59:AZ93,AV59:AV93,\">=\"&$AV88-2,AV59:AV93,\"<=\"&$AV88)/SUM($AZ59:$AZ88),SUMIFS(AZ59:AZ93,AV59:AV93,\">=\"&$AV88-3,AV59:AV93,\"<=\"&$AV88)/SUM($AZ59:$AZ88)) )","v":1},null,30,"","","","","","","","",{"$f":"IFERROR(astm(highwayfuf(CC88)-highwayfuf(CC87),3),\"\")","v":""},"","","","","","",{"$f":"IFERROR(astm(mdiuf(CL88)-mdiuf(CL87),3),\"\")","v":""},"","",{"$f":"IFERROR(astm(highwayfufalt(CL88)-highwayfufalt(CL87),3),\"\")","v":""},"","","",{"$f":"IF(CA88=\"\",1, MIN(IFERROR((CA88/1000)/((BX88*$J$22)*$J$21/3600),1),IFERROR((SUMIFS(CA59:CA93,BW59:BW93,\"<=\"&$BW88,BW59:BW93,\">=\"&$BW88-1)/1000)/(  $J$22*SUMIFS(BX59:BX93,BW59:BW93,\"<=\"&$BW88,BW59:BW93,\">=\"&$BW88-1)*$J$21/3600),1),IFERROR((SUMIFS(CA59:CA93,BW59:BW93,\"<=\"&$BW88,BW59:BW93,\">=\"&$BW88-2)/1000)/(  $J$22*SUMIFS(BX59:BX93,BW59:BW93,\"<=\"&$BW88,BW59:BW93,\">=\"&$BW88-2)*$J$21/3600),1),IFERROR((SUMIFS(CA59:CA93,BW59:BW93,\"<=\"&$BW88,BW59:BW93,\">=\"&$BW88-3)/1000)/(  $J$22*SUMIFS(BX59:BX93,BW59:BW93,\"<=\"&$BW88,BW59:BW93,\">=\"&$BW88-3)*$J$21/3600),1)) )","v":1},"",{"$f":"IF(CA88=\"\",1, MIN($CA88/SUM($CA59:$CA88),SUMIFS(CA59:CA93,BW59:BW93,\">=\"&$BW88-1,BW59:BW93,\"<=\"&$BW88)/SUM($CA59:$CA88),SUMIFS(CA59:CA93,BW59:BW93,\">=\"&$BW88-2,BW59:BW93,\"<=\"&$BW88)/SUM($CA59:$CA88),SUMIFS(CA59:CA93,BW59:BW93,\">=\"&$BW88-3,BW59:BW93,\"<=\"&$BW88)/SUM($CA59:$CA88)) )","v":1}]
[null,null,"Comb CO2 Rounded Adj",null,null,{"$f":"astm(0.55*(IF($N$7+$N$55+$N$103=0,   (AQ25+AQ73+AQ121)/ ((AQ7<>0)+(AQ55<>0)+(AQ103<>0)),    (IFERROR($N$7*AQ25,0)+IFERROR($N$55*AQ73,0)+IFERROR($N$103*AQ121,0)) /  ($N$7+$N$55+$N$103)   ))+0.45*(IF($N$7+$N$55+$N$103=0,   (AR25+AR73+AR121)/ ((AR7<>0)+(AR55<>0)+(AR103<>0)),    (IFERROR($N$7*AR25,0)+IFERROR($N$55*AR73,0)+IFERROR($N$103*AR121,0)) /  ($N$7+$N$55+$N$103)   )),0)","v":{"$error":"#VALUE!"}},null,null,null,null,null,null,null,null,null,null,31,null,null,null,null,null,null,null,31,null,null,null,null,null,null,null,null,null,null,null,null,null,null,null,null,"FUEL COSTS: PROCESS FOR DERIVING A COMPOSITE CD/CS COST PER MILE","CITY","HIGHWAY",null,null,null,31,"","","","",{"$f":"IFERROR(astm(  astm($W$94,3)*1000*(AZ89/AQ61),1),\"\")","v":""},"","","",{"$f":"IFERROR(astm(cityfuf(BB89),3)-astm(cityfuf(BB88),3),\"\")","v":""},"","","","","","",{"$f":"IFERROR(astm(mdiuf(BK89),3)-astm(mdiuf(BK88),3),\"\")","v":""},"","",{"$f":"IFERROR(astm(cityfufalt(BK89),3)-astm(cityfufalt(BK88),3),\"\")","v":""},"","","",{"$f":"IF(AZ89=\"\",1, MIN(IFERROR((AZ89/1000)/((AW89*$J$22)*$J$21/3600),1),IFERROR((SUMIFS(AZ59:AZ93,AV59:AV93,\"<=\"&$AV89,AV59:AV93,\">=\"&$AV89-1)/1000)/(  $J$22*SUMIFS(AW59:AW93,AV59:AV93,\"<=\"&$AV89,AV59:AV93,\">=\"&$AV89-1)*$J$21/3600),1),IFERROR((SUMIFS(AZ59:AZ93,AV59:AV93,\"<=\"&$AV89,AV59:AV93,\">=\"&$AV89-2)/1000)/(  $J$22*SUMIFS(AW59:AW93,AV59:AV93,\"<=\"&$AV89,AV59:AV93,\">=\"&$AV89-2)*$J$21/3600),1),IFERROR((SUMIFS(AZ59:AZ93,AV59:AV93,\"<=\"&$AV89,AV59:AV93,\">=\"&$AV89-3)/1000)/(  $J$22*SUMIFS(AW59:AW93,AV59:AV93,\"<=\"&$AV89,AV59:AV93,\">=\"&$AV89-3)*$J$21/3600),1)) )","v":1},"",{"$f":"IF(AZ89=\"\",1, MIN($AZ89/SUM($AZ59:$AZ89),SUMIFS(AZ59:AZ93,AV59:AV93,\">=\"&$AV89-1,AV59:AV93,\"<=\"&$AV89)/SUM($AZ59:$AZ89),SUMIFS(AZ59:AZ93,AV59:AV93,\">=\"&$AV89-2,AV59:AV93,\"<=\"&$AV89)/SUM($AZ59:$AZ89),SUMIFS(AZ59:AZ93,AV59:AV93,\">=\"&$AV89-3,AV59:AV93,\"<=\"&$AV89)/SUM($AZ59:$AZ89)) )","v":1},null,31,"","","","","","","","",{"$f":"IFERROR(astm(highwayfuf(CC89)-highwayfuf(CC88),3),\"\")","v":""},"","","","","","",{"$f":"IFERROR(astm(mdiuf(CL89)-mdiuf(CL88),3),\"\")","v":""},"","",{"$f":"IFERROR(astm(highwayfufalt(CL89)-highwayfufalt(CL88),3),\"\")","v":""},"","","",{"$f":"IF(CA89=\"\",1, MIN(IFERROR((CA89/1000)/((BX89*$J$22)*$J$21/3600),1),IFERROR((SUMIFS(CA59:CA93,BW59:BW93,\"<=\"&$BW89,BW59:BW93,\">=\"&$BW89-1)/1000)/(  $J$22*SUMIFS(BX59:BX93,BW59:BW93,\"<=\"&$BW89,BW59:BW93,\">=\"&$BW89-1)*$J$21/3600),1),IFERROR((SUMIFS(CA59:CA93,BW59:BW93,\"<=\"&$BW89,BW59:BW93,\">=\"&$BW89-2)/1000)/(  $J$22*SUMIFS(BX59:BX93,BW59:BW93,\"<=\"&$BW89,BW59:BW93,\">=\"&$BW89-2)*$J$21/3600),1),IFERROR((SUMIFS(CA59:CA93,BW59:BW93,\"<=\"&$BW89,BW59:BW93,\">=\"&$BW89-3)/1000)/(  $J$22*SUMIFS(BX59:BX93,BW59:BW93,\"<=\"&$BW89,BW59:BW93,\">=\"&$BW89-3)*$J$21/3600),1)) )","v":1},"",{"$f":"IF(CA89=\"\",1, MIN($CA89/SUM($CA59:$CA89),SUMIFS(CA59:CA93,BW59:BW93,\">=\"&$BW89-1,BW59:BW93,\"<=\"&$BW89)/SUM($CA59:$CA89),SUMIFS(CA59:CA93,BW59:BW93,\">=\"&$BW89-2,BW59:BW93,\"<=\"&$BW89)/SUM($CA59:$CA89),SUMIFS(CA59:CA93,BW59:BW93,\">=\"&$BW89-3,BW59:BW93,\"<=\"&$BW89)/SUM($CA59:$CA89)) )","v":1}]
[null,null,"*City CO2 Unadj",null,null,{"$f":"astm(IF($N$7+$N$55+$N$103=0,   (IFERROR(AQ24,0)+IFERROR(AQ72,0)+IFERROR(AQ120,0))/ ((AQ6<>0)+(AQ54<>0)+(AQ102<>0)),    (IFERROR($N$7*AQ24,0)+IFERROR($N$55*AQ72,0)+IFERROR($N$103*AQ120,0)) /  ($N$7+$N$55+$N$103)   ),1)","v":{"$error":"#VALUE!"}},null,null,null,null,null,null,null,null,null,null,32,null,null,null,null,null,null,null,32,null,null,null,null,null,null,null,null,null,null,null,null,null,null,null,null,"CD cost per mile - electricity ($/mi) [3]",{"$f":"astm($F$37*$AQ$60/100,3)","v":{"$error":"#VALUE!"}},{"$f":"astm($F$37*$AR$60/100,3)","v":{"$error":"#VALUE!"}},null,null,null,32,"","","","",{"$f":"IFERROR(astm(  astm($W$94,3)*1000*(AZ90/AQ61),1),\"\")","v":""},"","","",{"$f":"IFERROR(astm(cityfuf(BB90),3)-astm(cityfuf(BB89),3),\"\")","v":""},"","","","","","",{"$f":"IFERROR(astm(mdiuf(BK90),3)-astm(mdiuf(BK89),3),\"\")","v":""},"","",{"$f":"IFERROR(astm(cityfufalt(BK90),3)-astm(cityfufalt(BK89),3),\"\")","v":""},"","","",{"$f":"IF(AZ90=\"\",1, MIN(IFERROR((AZ90/1000)/((AW90*$J$22)*$J$21/3600),1),IFERROR((SUMIFS(AZ59:AZ93,AV59:AV93,\"<=\"&$AV90,AV59:AV93,\">=\"&$AV90-1)/1000)/(  $J$22*SUMIFS(AW59:AW93,AV59:AV93,\"<=\"&$AV90,AV59:AV93,\">=\"&$AV90-1)*$J$21/3600),1),IFERROR((SUMIFS(AZ59:AZ93,AV59:AV93,\"<=\"&$AV90,AV59:AV93,\">=\"&$AV90-2)/1000)/(  $J$22*SUMIFS(AW59:AW93,AV59:AV93,\"<=\"&$AV90,AV59:AV93,\">=\"&$AV90-2)*$J$21/3600),1),IFERROR((SUMIFS(AZ59:AZ93,AV59:AV93,\"<=\"&$AV90,AV59:AV93,\">=\"&$AV90-3)/1000)/(  $J$22*SUMIFS(AW59:AW93,AV59:AV93,\"<=\"&$AV90,AV59:AV93,\">=\"&$AV90-3)*$J$21/3600),1)) )","v":1},"",{"$f":"IF(AZ90=\"\",1, MIN($AZ90/SUM($AZ59:$AZ90),SUMIFS(AZ59:AZ93,AV59:AV93,\">=\"&$AV90-1,AV59:AV93,\"<=\"&$AV90)/SUM($AZ59:$AZ90),SUMIFS(AZ59:AZ93,AV59:AV93,\">=\"&$AV90-2,AV59:AV93,\"<=\"&$AV90)/SUM($AZ59:$AZ90),SUMIFS(AZ59:AZ93,AV59:AV93,\">=\"&$AV90-3,AV59:AV93,\"<=\"&$AV90)/SUM($AZ59:$AZ90)) )","v":1},null,32,"","","","","","","","",{"$f":"IFERROR(astm(highwayfuf(CC90)-highwayfuf(CC89),3),\"\")","v":""},"","","","","","",{"$f":"IFERROR(astm(mdiuf(CL90)-mdiuf(CL89),3),\"\")","v":""},"","",{"$f":"IFERROR(astm(highwayfufalt(CL90)-highwayfufalt(CL89),3),\"\")","v":""},"","","",{"$f":"IF(CA90=\"\",1, MIN(IFERROR((CA90/1000)/((BX90*$J$22)*$J$21/3600),1),IFERROR((SUMIFS(CA59:CA93,BW59:BW93,\"<=\"&$BW90,BW59:BW93,\">=\"&$BW90-1)/1000)/(  $J$22*SUMIFS(BX59:BX93,BW59:BW93,\"<=\"&$BW90,BW59:BW93,\">=\"&$BW90-1)*$J$21/3600),1),IFERROR((SUMIFS(CA59:CA93,BW59:BW93,\"<=\"&$BW90,BW59:BW93,\">=\"&$BW90-2)/1000)/(  $J$22*SUMIFS(BX59:BX93,BW59:BW93,\"<=\"&$BW90,BW59:BW93,\">=\"&$BW90-2)*$J$21/3600),1),IFERROR((SUMIFS(CA59:CA93,BW59:BW93,\"<=\"&$BW90,BW59:BW93,\">=\"&$BW90-3)/1000)/(  $J$22*SUMIFS(BX59:BX93,BW59:BW93,\"<=\"&$BW90,BW59:BW93,\">=\"&$BW90-3)*$J$21/3600),1)) )","v":1},"",{"$f":"IF(CA90=\"\",1, MIN($CA90/SUM($CA59:$CA90),SUMIFS(CA59:CA93,BW59:BW93,\">=\"&$BW90-1,BW59:BW93,\"<=\"&$BW90)/SUM($CA59:$CA90),SUMIFS(CA59:CA93,BW59:BW93,\">=\"&$BW90-2,BW59:BW93,\"<=\"&$BW90)/SUM($CA59:$CA90),SUMIFS(CA59:CA93,BW59:BW93,\">=\"&$BW90-3,BW59:BW93,\"<=\"&$BW90)/SUM($CA59:$CA90)) )","v":1}]
[null,null,"*Hwy CO2 Unadj",null,null,{"$f":"astm(IF($N$7+$N$55+$N$103=0,   (IFERROR(AR24,0)+IFERROR(AR72,0)+IFERROR(AR120,0))/ ((AR6<>0)+(AR54<>0)+(AR102<>0)),    (IFERROR($N$7*AR24,0)+IFERROR($N$55*AR72,0)+IFERROR($N$103*AR120,0)) /  ($N$7+$N$55+$N$103)   ),1)","v":{"$error":"#VALUE!"}},null,null,null,null,null,null,null,null,null,null,33,null,null,null,null,null,null,null,33,null,null,null,null,null,null,null,null,null,null,null,null,null,null,null,null,"CD cost per mile - gasoline ($/mi) [3]",{"$f":"astm($F$36*((SUMIF(AV59:AV93,\"<=\" & (AQ82-1),AW59:AW93) + AQ81*SUMIF(AV59:AV93,\"=\" & (AQ82-1),AW59:AW93))/AQ55),3)","v":{"$error":"#VALUE!"}},{"$f":"astm($F$36*((SUMIF(BW59:BW93,\"<=\" & (AR82-1),BX59:BX93) + AR81*SUMIF(BW59:BW93,\"=\" & (AR82-1),BX59:BX93))/AR55),3)","v":{"$error":"#VALUE!"}},null,null,null,33,"","","","",{"$f":"IFERROR(astm(  astm($W$94,3)*1000*(AZ91/AQ61),1),\"\")","v":""},"","","",{"$f":"IFERROR(astm(cityfuf(BB91),3)-astm(cityfuf(BB90),3),\"\")","v":""},"","","","","","",{"$f":"IFERROR(astm(mdiuf(BK91),3)-astm(mdiuf(BK90),3),\"\")","v":""},"","",{"$f":"IFERROR(astm(cityfufalt(BK91),3)-astm(cityfufalt(BK90),3),\"\")","v":""},"","","",{"$f":"IF(AZ91=\"\",1, MIN(IFERROR((AZ91/1000)/((AW91*$J$22)*$J$21/3600),1),IFERROR((SUMIFS(AZ59:AZ93,AV59:AV93,\"<=\"&$AV91,AV59:AV93,\">=\"&$AV91-1)/1000)/(  $J$22*SUMIFS(AW59:AW93,AV59:AV93,\"<=\"&$AV91,AV59:AV93,\">=\"&$AV91-1)*$J$21/3600),1),IFERROR((SUMIFS(AZ59:AZ93,AV59:AV93,\"<=\"&$AV91,AV59:AV93,\">=\"&$AV91-2)/1000)/(  $J$22*SUMIFS(AW59:AW93,AV59:AV93,\"<=\"&$AV91,AV59:AV93,\">=\"&$AV91-2)*$J$21/3600),1),IFERROR((SUMIFS(AZ59:AZ93,AV59:AV93,\"<=\"&$AV91,AV59:AV93,\">=\"&$AV91-3)/1000)/(  $J$22*SUMIFS(AW59:AW93,AV59:AV93,\"<=\"&$AV91,AV59:AV93,\">=\"&$AV91-3)*$J$21/3600),1)) )","v":1},"",{"$f":"IF(AZ91=\"\",1, MIN($AZ91/SUM($AZ59:$AZ91),SUMIFS(AZ59:AZ93,AV59:AV93,\">=\"&$AV91-1,AV59:AV93,\"<=\"&$AV91)/SUM($AZ59:$AZ91),SUMIFS(AZ59:AZ93,AV59:AV93,\">=\"&$AV91-2,AV59:AV93,\"<=\"&$AV91)/SUM($AZ59:$AZ91),SUMIFS(AZ59:AZ93,AV59:AV93,\">=\"&$AV91-3,AV59:AV93,\"<=\"&$AV91)/SUM($AZ59:$AZ91)) )","v":1},null,33,"","","","","","","","",{"$f":"IFERROR(astm(highwayfuf(CC91)-highwayfuf(CC90),3),\"\")","v":""},"","","","","","",{"$f":"IFERROR(astm(mdiuf(CL91)-mdiuf(CL90),3),\"\")","v":""},"","",{"$f":"IFERROR(astm(highwayfufalt(CL91)-highwayfufalt(CL90),3),\"\")","v":""},"","","",{"$f":"IF(CA91=\"\",1, MIN(IFERROR((CA91/1000)/((BX91*$J$22)*$J$21/3600),1),IFERROR((SUMIFS(CA59:CA93,BW59:BW93,\"<=\"&$BW91,BW59:BW93,\">=\"&$BW91-1)/1000)/(  $J$22*SUMIFS(BX59:BX93,BW59:BW93,\"<=\"&$BW91,BW59:BW93,\">=\"&$BW91-1)*$J$21/3600),1),IFERROR((SUMIFS(CA59:CA93,BW59:BW93,\"<=\"&$BW91,BW59:BW93,\">=\"&$BW91-2)/1000)/(  $J$22*SUMIFS(BX59:BX93,BW59:BW93,\"<=\"&$BW91,BW59:BW93,\">=\"&$BW91-2)*$J$21/3600),1),IFERROR((SUMIFS(CA59:CA93,BW59:BW93,\"<=\"&$BW91,BW59:BW93,\">=\"&$BW91-3)/1000)/(  $J$22*SUMIFS(BX59:BX93,BW59:BW93,\"<=\"&$BW91,BW59:BW93,\">=\"&$BW91-3)*$J$21/3600),1)) )","v":1},"",{"$f":"IF(CA91=\"\",1, MIN($CA91/SUM($CA59:$CA91),SUMIFS(CA59:CA93,BW59:BW93,\">=\"&$BW91-1,BW59:BW93,\"<=\"&$BW91)/SUM($CA59:$CA91),SUMIFS(CA59:CA93,BW59:BW93,\">=\"&$BW91-2,BW59:BW93,\"<=\"&$BW91)/SUM($CA59:$CA91),SUMIFS(CA59:CA93,BW59:BW93,\">=\"&$BW91-3,BW59:BW93,\"<=\"&$BW91)/SUM($CA59:$CA91)) )","v":1}]
[null,null,"*Comb CO2 Unadj",null,null,{"$f":"astm(0.55*(IF($N$7+$N$55+$N$103=0,   (IFERROR(AQ24,0)+IFERROR(AQ72,0)+IFERROR(AQ120,0))/ ((AQ6<>0)+(AQ54<>0)+(AQ102<>0)),    (IFERROR($N$7*AQ24,0)+IFERROR($N$55*AQ72,0)+IFERROR($N$103*AQ120,0)) /  ($N$7+$N$55+$N$103)   ))+0.45*(IF($N$7+$N$55+$N$103=0,   (IFERROR(AR24,0)+IFERROR(AR72,0)+IFERROR(AR120,0))/ ((AR6<>0)+(AR54<>0)+(AR102<>0)),    (IFERROR($N$7*AR24,0)+IFERROR($N$55*AR72,0)+IFERROR($N$103*AR120,0)) /  ($N$7+$N$55+$N$103)   )),1)","v":{"$error":"#VALUE!"}},null,null,null,null,null,null,null,null,null,null,34,null,null,null,null,null,null,null,34,null,null,null,null,null,null,null,null,null,null,null,null,null,null,null,null,"CD total cost per mile ($/mi) [3]",{"$f":"astm(AQ91+AQ90,3)","v":{"$error":"#VALUE!"}},{"$f":"astm(AR91+AR90,3)","v":{"$error":"#VALUE!"}},null,null,null,34,"","","","",{"$f":"IFERROR(astm(  astm($W$94,3)*1000*(AZ92/AQ61),1),\"\")","v":""},"","","",{"$f":"IFERROR(astm(cityfuf(BB92),3)-astm(cityfuf(BB91),3),\"\")","v":""},"","","","","","",{"$f":"IFERROR(astm(mdiuf(BK92),3)-astm(mdiuf(BK91),3),\"\")","v":""},"","",{"$f":"IFERROR(astm(cityfufalt(BK92),3)-astm(cityfufalt(BK91),3),\"\")","v":""},"","","",{"$f":"IF(AZ92=\"\",1, MIN(IFERROR((AZ92/1000)/((AW92*$J$22)*$J$21/3600),1),IFERROR((SUMIFS(AZ59:AZ93,AV59:AV93,\"<=\"&$AV92,AV59:AV93,\">=\"&$AV92-1)/1000)/(  $J$22*SUMIFS(AW59:AW93,AV59:AV93,\"<=\"&$AV92,AV59:AV93,\">=\"&$AV92-1)*$J$21/3600),1),IFERROR((SUMIFS(AZ59:AZ93,AV59:AV93,\"<=\"&$AV92,AV59:AV93,\">=\"&$AV92-2)/1000)/(  $J$22*SUMIFS(AW59:AW93,AV59:AV93,\"<=\"&$AV92,AV59:AV93,\">=\"&$AV92-2)*$J$21/3600),1),IFERROR((SUMIFS(AZ59:AZ93,AV59:AV93,\"<=\"&$AV92,AV59:AV93,\">=\"&$AV92-3)/1000)/(  $J$22*SUMIFS(AW59:AW93,AV59:AV93,\"<=\"&$AV92,AV59:AV93,\">=\"&$AV92-3)*$J$21/3600),1)) )","v":1},"",{"$f":"IF(AZ92=\"\",1, MIN($AZ92/SUM($AZ59:$AZ92),SUMIFS(AZ59:AZ93,AV59:AV93,\">=\"&$AV92-1,AV59:AV93,\"<=\"&$AV92)/SUM($AZ59:$AZ92),SUMIFS(AZ59:AZ93,AV59:AV93,\">=\"&$AV92-2,AV59:AV93,\"<=\"&$AV92)/SUM($AZ59:$AZ92),SUMIFS(AZ59:AZ93,AV59:AV93,\">=\"&$AV92-3,AV59:AV93,\"<=\"&$AV92)/SUM($AZ59:$AZ92)) )","v":1},null,34,"","","","","","","","",{"$f":"IFERROR(astm(highwayfuf(CC92)-highwayfuf(CC91),3),\"\")","v":""},"","","","","","",{"$f":"IFERROR(astm(mdiuf(CL92)-mdiuf(CL91),3),\"\")","v":""},"","",{"$f":"IFERROR(astm(highwayfufalt(CL92)-highwayfufalt(CL91),3),\"\")","v":""},"","","",{"$f":"IF(CA92=\"\",1, MIN(IFERROR((CA92/1000)/((BX92*$J$22)*$J$21/3600),1),IFERROR((SUMIFS(CA59:CA93,BW59:BW93,\"<=\"&$BW92,BW59:BW93,\">=\"&$BW92-1)/1000)/(  $J$22*SUMIFS(BX59:BX93,BW59:BW93,\"<=\"&$BW92,BW59:BW93,\">=\"&$BW92-1)*$J$21/3600),1),IFERROR((SUMIFS(CA59:CA93,BW59:BW93,\"<=\"&$BW92,BW59:BW93,\">=\"&$BW92-2)/1000)/(  $J$22*SUMIFS(BX59:BX93,BW59:BW93,\"<=\"&$BW92,BW59:BW93,\">=\"&$BW92-2)*$J$21/3600),1),IFERROR((SUMIFS(CA59:CA93,BW59:BW93,\"<=\"&$BW92,BW59:BW93,\">=\"&$BW92-3)/1000)/(  $J$22*SUMIFS(BX59:BX93,BW59:BW93,\"<=\"&$BW92,BW59:BW93,\">=\"&$BW92-3)*$J$21/3600),1)) )","v":1},"",{"$f":"IF(CA92=\"\",1, MIN($CA92/SUM($CA59:$CA92),SUMIFS(CA59:CA93,BW59:BW93,\">=\"&$BW92-1,BW59:BW93,\"<=\"&$BW92)/SUM($CA59:$CA92),SUMIFS(CA59:CA93,BW59:BW93,\">=\"&$BW92-2,BW59:BW93,\"<=\"&$BW92)/SUM($CA59:$CA92),SUMIFS(CA59:CA93,BW59:BW93,\">=\"&$BW92-3,BW59:BW93,\"<=\"&$BW92)/SUM($CA59:$CA92)) )","v":1}]
[null,null,"*City CO2 Unrd Adj",null,null,{"$f":"astm(IF($N$7+$N$55+$N$103=0,   (AQ25+AQ73+AQ121)/ ((AQ7<>0)+(AQ55<>0)+(AQ103<>0)),    (IFERROR($N$7*AQ25,0)+IFERROR($N$55*AQ73,0)+IFERROR($N$103*AQ121,0)) /  ($N$7+$N$55+$N$103)   ),1)","v":{"$error":"#VALUE!"}},null,null,null,null,null,null,null,null,null,null,35,null,null,null,null,null,null,null,35,null,null,null,null,null,null,null,null,null,null,null,null,null,null,null,null,"CS cost per mile ($/mi) [3]",{"$f":"astm($F$36/astm(N60,4),3)","v":{"$error":"#VALUE!"}},{"$f":"astm($F$36/astm(O60,4),3)","v":{"$error":"#VALUE!"}},null,null,null,35,"","","","",{"$f":"IFERROR(astm(  astm($W$94,3)*1000*(AZ93/AQ61),1),\"\")","v":""},"","","",{"$f":"IFERROR(astm(cityfuf(BB93),3)-astm(cityfuf(BB92),3),\"\")","v":""},"","","","","","",{"$f":"IFERROR(astm(mdiuf(BK93),3)-astm(mdiuf(BK92),3),\"\")","v":""},"","",{"$f":"IFERROR(astm(cityfufalt(BK93),3)-astm(cityfufalt(BK92),3),\"\")","v":""},"","","",{"$f":"IF(AZ93=\"\",1, MIN(IFERROR((AZ93/1000)/((AW93*$J$22)*$J$21/3600),1),IFERROR((SUMIFS(AZ59:AZ93,AV59:AV93,\"<=\"&$AV93,AV59:AV93,\">=\"&$AV93-1)/1000)/(  $J$22*SUMIFS(AW59:AW93,AV59:AV93,\"<=\"&$AV93,AV59:AV93,\">=\"&$AV93-1)*$J$21/3600),1),IFERROR((SUMIFS(AZ59:AZ93,AV59:AV93,\"<=\"&$AV93,AV59:AV93,\">=\"&$AV93-2)/1000)/(  $J$22*SUMIFS(AW59:AW93,AV59:AV93,\"<=\"&$AV93,AV59:AV93,\">=\"&$AV93-2)*$J$21/3600),1),IFERROR((SUMIFS(AZ59:AZ93,AV59:AV93,\"<=\"&$AV93,AV59:AV93,\">=\"&$AV93-3)/1000)/(  $J$22*SUMIFS(AW59:AW93,AV59:AV93,\"<=\"&$AV93,AV59:AV93,\">=\"&$AV93-3)*$J$21/3600),1)) )","v":1},"",{"$f":"IF(AZ93=\"\",1, MIN($AZ93/SUM($AZ59:$AZ93),SUMIFS(AZ59:AZ93,AV59:AV93,\">=\"&$AV93-1,AV59:AV93,\"<=\"&$AV93)/SUM($AZ59:$AZ93),SUMIFS(AZ59:AZ93,AV59:AV93,\">=\"&$AV93-2,AV59:AV93,\"<=\"&$AV93)/SUM($AZ59:$AZ93),SUMIFS(AZ59:AZ93,AV59:AV93,\">=\"&$AV93-3,AV59:AV93,\"<=\"&$AV93)/SUM($AZ59:$AZ93)) )","v":1},null,35,"","","","","","","","",{"$f":"IFERROR(astm(highwayfuf(CC93)-highwayfuf(CC92),3),\"\")","v":""},"","","","","","",{"$f":"IFERROR(astm(mdiuf(CL93)-mdiuf(CL92),3),\"\")","v":""},"","",{"$f":"IFERROR(astm(highwayfufalt(CL93)-highwayfufalt(CL92),3),\"\")","v":""},"","","",{"$f":"IF(CA93=\"\",1, MIN(IFERROR((CA93/1000)/((BX93*$J$22)*$J$21/3600),1),IFERROR((SUMIFS(CA59:CA93,BW59:BW93,\"<=\"&$BW93,BW59:BW93,\">=\"&$BW93-1)/1000)/(  $J$22*SUMIFS(BX59:BX93,BW59:BW93,\"<=\"&$BW93,BW59:BW93,\">=\"&$BW93-1)*$J$21/3600),1),IFERROR((SUMIFS(CA59:CA93,BW59:BW93,\"<=\"&$BW93,BW59:BW93,\">=\"&$BW93-2)/1000)/(  $J$22*SUMIFS(BX59:BX93,BW59:BW93,\"<=\"&$BW93,BW59:BW93,\">=\"&$BW93-2)*$J$21/3600),1),IFERROR((SUMIFS(CA59:CA93,BW59:BW93,\"<=\"&$BW93,BW59:BW93,\">=\"&$BW93-3)/1000)/(  $J$22*SUMIFS(BX59:BX93,BW59:BW93,\"<=\"&$BW93,BW59:BW93,\">=\"&$BW93-3)*$J$21/3600),1)) )","v":1},"",{"$f":"IF(CA93=\"\",1, MIN($CA93/SUM($CA59:$CA93),SUMIFS(CA59:CA93,BW59:BW93,\">=\"&$BW93-1,BW59:BW93,\"<=\"&$BW93)/SUM($CA59:$CA93),SUMIFS(CA59:CA93,BW59:BW93,\">=\"&$BW93-2,BW59:BW93,\"<=\"&$BW93)/SUM($CA59:$CA93),SUMIFS(CA59:CA93,BW59:BW93,\">=\"&$BW93-3,BW59:BW93,\"<=\"&$BW93)/SUM($CA59:$CA93)) )","v":1}]
[null,null,"*Hwy CO2 Unrnd Adj",null,null,{"$f":"astm(IF($N$7+$N$55+$N$103=0,   (AR25+AR73+AR121)/ ((AR7<>0)+(AR55<>0)+(AR103<>0)),    (IFERROR($N$7*AR25,0)+IFERROR($N$55*AR73,0)+IFERROR($N$103*AR121,0)) /  ($N$7+$N$55+$N$103)   ),1)","v":{"$error":"#VALUE!"}},null,null,null,null,null,null,null,null,null,null,null,null,null,null,null,"Recharge energy (AC kilowatt-hours):",null,null,null,null,null,null,null,"Recharge energy (AC kilowatt-hours):",null,null,null,null,null,null,null,null,null,null,null,"Composite CD/CS cost ($/mi) [3]",{"$f":"astm(AQ79*AQ92+(1-AQ79)*AQ93,3)","v":{"$error":"#VALUE!"}},{"$f":"astm(AR79*AR92+(1-AR79)*AR93,3)","v":{"$error":"#VALUE!"}}]
[null,null,"*Comb CO2 Unrnd Adj",null,null,{"$f":"astm(0.55*(IF($N$7+$N$55+$N$103=0,   (AQ25+AQ73+AQ121)/ ((AQ7<>0)+(AQ55<>0)+(AQ103<>0)),    (IFERROR($N$7*AQ25,0)+IFERROR($N$55*AQ73,0)+IFERROR($N$103*AQ121,0)) /  ($N$7+$N$55+$N$103)   ))+0.45*(IF($N$7+$N$55+$N$103=0,   (AR25+AR73+AR121)/ ((AR7<>0)+(AR55<>0)+(AR103<>0)),    (IFERROR($N$7*AR25,0)+IFERROR($N$55*AR73,0)+IFERROR($N$103*AR103,0)) /  ($N$7+$N$55+$N$103)   )),1)","v":{"$error":"#VALUE!"}},null,null,null,null,null,null,null,null,null,null,null,null,null,null,null,"All-Electric Range (miles):",null,null,null,null,null,null,null,"All-Electric Range (miles):",null,null,null,null,null,null,null,null,null,null,null,"COMPOSITE CD/CS FUEL ECONOMY AND CO2 VALUES, ADJUSTED","CITY","HIGHWAY"]
[null,null,"Charge-depleting Driving Range (Adjusted)",null,null,"miles",null,null,null,null,null,null,null,null,null,null,{"$f":"\"Calculated transition cycle:  \" &  IF(COUNTIF(BR59:BR88,\"CD\") < COUNT(R59:R88), COUNTIF(BR59:BR88,\"CD\"),     IF(COUNTIF(BT59:BT88,\"CD\") < COUNT(R59:R88), COUNTIF(BT59:BT88,\"CD\"),     \"ERROR\"     )     )","v":"Calculated transition cycle:  ERROR"},null,null,null,null,"To override transition cycle, enter here--->",null,null,{"$f":"\"Calculated transition cycle:  \" &  IF(COUNTIF(CS59:CS88,\"CD\") < COUNT(Z59:Z88), COUNTIF(CS59:CS88,\"CD\"),     IF(COUNTIF(CU59:CU88,\"CD\") < COUNT(Z59:Z88), COUNTIF(CU59:CU88,\"CD\"),     \"ERROR\"     )     )","v":"Calculated transition cycle:  ERROR"},null,null,null,null,"To override transition cycle, enter here--->",null,null,null,null,null,null,null,null,null,null,null,"Composite CD/CS CO2, adjusted (g/mi) [1]",{"$f":"astm(IFERROR(AQ74+(1-AQ80)*N63,#VALUE!),1)","v":0},{"$f":"astm(IFERROR(AR74+(1-AR80)*O63,#VALUE!),1)","v":0}]
[null,null,"City Range on Electricity (miles)",null,null,{"$f":"astm(D19,2)","v":{"$error":"#VALUE!"}},null,null,null,null,null,null,null,null,null,null,null,null,null,null,null,null,null,null,null,null,null,null,null,null,null,null,null,null,null,null,null,null,null,null,null,"Composite CD/CS Fuel Economy, adjusted (MPG) [4]",{"$f":"IFERROR(astm( IFERROR(1/ ( AQ65 + (1-AQ80)/N60),#VALUE!), 4),0)","v":0},{"$f":"IFERROR(astm( IFERROR(1/ ( AR65 + (1-AR80)/O60),#VALUE!), 4),0)","v":0}]
[null,null,"Hwy Range on Electricity (miles)",null,null,{"$f":"astm(E19,2)","v":{"$error":"#VALUE!"}}]
[null,null,"Comb Range on Electricity as shown on FE Label (miles)",null,null,{"$f":"F19","v":{"$error":"#VALUE!"}},null,null,null,null,null,null,"Test Set #3",null,null,null,null,null,null,null,null,null,null,null,null,null,null,null,null,null,null,null,null,null,"Results from Test Set #3:",{"$f":"N100","v":0},null,null,null,null,"INTERMEDIATE CALCULATIONS AND INPUTS",null,"Test Set #3:",{"$f":"N101","v":0}]
[null,null,"All-Electric Driving Range (Adjusted)",null,null,"miles",null,null,null,null,null,null,null,null,null,null,null,null,null,null,null,null,null,null,null,null,null,null,null,null,null,null,null,null,"CAFE Values",null,null,null,null,null,"Charge-Depleting (CD) Test Results",null,null,null,null,null,null,"DETAILED CALCULATIONS",null,"UDDS",{"$f":"$AR99","v":0},null,null,null,null,null,null,null,null,null,null,null,null,null,null,null,null,null,null,null,null,null,null,null,"DETAILED CALCULATIONS",null,"HFET",{"$f":"AR99","v":0}]
[null,null,"City All-Electric Range",null,null,{"$f":"astm(D20,2)","v":{"$error":"#VALUE!"}},null,null,null,null,null,null,null,null,null,null,"ENTER CHARGE-DEPLETING UDDS (CITY) DATA HERE",null,null,null,null,null,null,null,"ENTER CHARGE-DEPLETING HFET (HIGHWAY) DATA HERE",null,null,null,null,null,null,null,null,null,"A. PHEV meets dual fuel criteria:","City","Highway","Combined",null,null,null,"DRIVING DISTANCE VALUES","CITY","HIGHWAY",null,null,null,"Cycle No.","Gasoline Consumed","CO2\n[0]","Net Amp-Hours Used Per Cycle [3]","DC Electricity Consumed\n[1]","AC Electricity Consumed\n[1]","Theoretical Cumulative Cycle Distance","Electric Only Fuel Consumption Rate","Total Fuel Consumption Rate (gas + electric)","55/45 City Fleet Utility Factor\n[3]","55/45 City FUF\nx\nCREE","55/45 City FUF\nx\nTotal Consumption","Total Fuel Consumption (gas + electric)","5-Cycle Adjustment","Adjusted Cycle Measured Distance","Adjusted Cycle Theoretical Cumulative Distance","MDIUF\n[3]","MDIUF\nx\nAdjusted CO2","MDIUF\nx\nAdjusted Total Fuel Consumption","43/57 City Fleet Utility Factor\n[3]","43/57 City FUF x\nAdjusted Total Fuel Consumption Rate","43/57 City FUF\nx\nAdjusted CREE","Is Cycle CD or CS based on NEC 1% Tolerance?","NEC Tolerance 1% Fuel Energy Criteria","Is Cycle CD or CS based on battery 2% Tolerance?","NEC Tolerance 2% Usable Battery Energy Criteria",null,"Cycle No.","Gasoline Consumed","CO2\n[0]","Net Amp-Hours Used Per Cycle [3]","DC Electricity Consumed\n[1]","AC Electricity Consumed\n[1]","Theoretical Cumulative Cycle Distance","Electric Only Fuel Consumption Rate","Total Fuel Consumption Rate (gas + electric)","55/45 Highway Fleet Utility Factor\n[3]","55/45 Highway FUF\nx\nCREE","55/45 Highway FUF\nx\nTotal Consumption","Total Fuel Consumption (gas + electric)","5-Cycle Adjustment","Adjusted Cycle Measured Distance","Adjusted Cycle Theoretical Cumulative Distance","MDIUF\n[3]","MDIUF\nx\nAdjusted CO2","MDIUF\nx\nAdjusted Total Fuel Consumption","43/57 Highway Fleet Utility Factor\n[3]","43/57 Highway FUF x\nAdjusted Total Fuel Consumption Rate","43/57 Highway FUF\nx\nAdjusted CREE","Is Cycle CD or CS based on NEC 1% Tolerance?","NEC Tolerance 1% Fuel Energy Criteria","Is Cycle CD or CS based on battery 2% Tolerance?","NEC Tolerance 2% Usable Battery Energy Criteria"]
[null,null,"Hwy All-Electric Range",null,null,{"$f":"astm(E20,2)","v":{"$error":"#VALUE!"}},null,null,null,null,null,null,"Test Set name (e.g., Eco, Power):",null,null,null,"Cycle No.","Cycle/Phase Measured Distance","Integrated Amp-Hours Electricity Used","Average Cycle Voltage","Fuel Economy","CO2","CREE",null,"Cycle No.","Cycle/Phase Measured Distance","Integrated Amp-Hours Electricity Used","Average Cycle Voltage","Fuel Economy","CO2","CREE",null,null,null," 1. Default 50/50 Composite MPGe [4]",{"$f":"IFERROR(astm(1/(0.5/(  (  $J$18  )   /(AQ107/AQ133))+0.5/N107),4),0)","v":0},{"$f":"IFERROR(astm(1/(0.5/(  (  $J$18  )   /(AR107/AR133))+0.5/O107),4),0)","v":0},{"$f":"IFERROR(astm(1/(0.55/AJ102+0.45/AK102),4),0)","v":0},null,null,null,"CD driving distance (Rcda), unadjusted (miles) [3]",{"$f":"IFERROR(astm(SUMIF(Q107:Q141,\"<=\" & ($AQ130-1),R107:R141) + AQ129*VLOOKUP($AQ130,Q107:R141,2,FALSE),3),0)","v":0},{"$f":"IFERROR(astm(SUMIF(Y107:Y141,\"<=\" & ($AR130-1),Z107:Z141) + AR129*VLOOKUP($AR130,Y107:Z141,2,FALSE),3),0)","v":0}]
[null,null,"Comb All-Electric Range as shown on FE Label (miles)",null,null,{"$f":"F20","v":{"$error":"#VALUE!"}},null,null,null,null,null,null,"Production Volume (projected or actual):",null,null,null,null,null,null,null,null,null,null,null,null,null,null,null,null,null,null,null,null,null," 2. Optional Utility Factor Composite MPGe [4]",{"$f":"IFERROR(astm(1/(  AQ136 /   (  ( $J$18   )   /   (AQ107/AQ133))       +        (1-AQ136)/N107), 4),0)","v":0},{"$f":"IFERROR(astm(1/(  AR136 /   (  ( $J$18   )   /   (AR107/AR133))       +        (1-AR136)/O107), 4),0)","v":0},{"$f":"IFERROR(astm(1/(0.55/AJ103+0.45/AK103),4),0)","v":0},null,null,null,"CD driving distance (Rcda), adjusted (miles) [3]",{"$f":"IFERROR(astm(SUMIF(AV107:AV141,\"<\"&AQ130,BJ107:BJ141)+AQ129*SUMIF(AV107:AV141,\"=\"&AQ130,BJ107:BJ141),3),0)","v":0},{"$f":"IFERROR(astm(SUMIF(BW107:BW141,\"<\"&AR130,CK107:CK141)+AR129*SUMIF(BW107:BW141,\"=\"&AR130,CK107:CK141),3),0)","v":0}]
[null,null,"Charge-depleting Utility Factors",null,null,"UF",null,null,null,null,null,null,null,null,null,null,null,null,null,null,null,null,null,null,null,null,null,null,null,null,null,null,null,null,"B. PHEV does NOT meet dual fuel criteria:","City","Highway","Combined",null,null,null,"CD all-electric driving distance, unadjusted (miles) [3]",{"$f":"  IF(ISNUMBER(W143), astm(W143,3), 0)","v":0},{"$f":" IF(ISNUMBER(AE143), astm(AE143,3), 0)","v":0}]
[null,null,"City Utility Factor (MDIUF)",null,null,{"$f":"astm(mdiuf(D19),3)","v":{"$error":"#VALUE!"}},null,null,null,null,null,null,"ENTER CHARGE-SUSTAINING TEST RESULTS HERE",null,null,null,null,null,null,null,null,null,null,null,null,null,null,null,null,null,null,null,null,null,"  1. Utility Factor Composite MPGe [4]",{"$f":"IFERROR(astm(1/ ( AQ111 + (1-AQ126)/N107),4),0)","v":0},{"$f":"IFERROR(astm(1/ ( AR111 + (1-AR126)/O107),4),0)","v":0},{"$f":"IFERROR(astm(1/(0.55/AJ105+0.45/AK105),4),0)","v":0},null,null,null,"CD All-Electric Range, adjusted (mi) [3]",{"$f":"astm( 0.7*AQ104, 3)","v":0},{"$f":"astm( 0.7*AR104, 3)","v":0}]
[null,null,"Hwy Utility Factor (MDIUF)",null,null,{"$f":"astm(mdiuf(E19),3)","v":{"$error":"#VALUE!"}},null,null,null,null,null,null,null,"City","Highway",null,"No.","Miles [3]","Amp-hrs [3]","Volts [2]","MPG [1]","g/mi [0]","g/mi [0]",null,"No.","Miles [3]","Amp-hrs [3]","Volts [2]","MPG [1]","g/mi [0]","g/mi [0]",null,null,null,"GHG Values","City","Highway","Combined",null,null,null,"FUEL CONSUMPTION & ECONOMY VALUES","CITY","HIGHWAY",null,null,null,"No.","gal","grams","Amp-hours","W-hours","W-hours","mi","gal/mi equiv","gal/mi equiv","UF","UF","gal/mi equiv","gal-equiv","%","miles","miles","UF","g/mi","gal/mi equiv","UF","gal/mi equiv","g/mi","CD or CS",null,"CD or CS",null,null,"No.","gal","grams","Amp-hours","W-hours","W-hours","mi","gal/mi equiv","gal/mi equiv","UF","UF","gal/mi equiv","gal-equiv","%","miles","miles","UF","g/mi","gal-equiv","UF","gal-equiv","g/mi","CD or CS",null,"CD or CS"]
[null,null,"Comb Utility Factor (MDIUF)",null,null,{"$f":"astm(mdiuf(0.55*D19+0.45*E19),3)","v":{"$error":"#VALUE!"}},null,null,null,null,null,null,"Fuel Economy, Unadjusted (MPG):",null,null,null,1,null,null,null,null,null,null,null,1,null,null,null,null,null,null,null,null,null,"Composite CREE, without upstream emissions [1]",{"$f":"IFERROR(IF(OR(SUM(W107:W141)=0,N109=0,ISBLANK(N109), LOOKUP(2,1/(W107:W141<>\"\"),ROW(W107:W141)) < LOOKUP(2,1/(R107:R141<>\"\"),ROW(R107:R141))   ),\"ERROR\",astm(AQ123+(1-AQ126)*N109,1)),0)","v":0},{"$f":"IFERROR(IF(OR(SUM(AE107:AE141)=0,O109=0,ISBLANK(O109), LOOKUP(2,1/(AE107:AE141<>\"\"),ROW(AE107:AE141)) < LOOKUP(2,1/(Z107:Z141<>\"\"),ROW(Z107:Z136))   ),\"ERROR\",astm(AR123+(1-AR126)*O109,1)),0)","v":0},{"$f":"IFERROR(astm(0.55*AJ107+0.45*AK107,1),0)","v":0},null,null,"NEW","CD AC electricity consumption (Rcdc), unadjusted (Watt-hours) [1]",{"$f":"astm(SUMIF(AV107:AV141,\"<=\" & AQ130,BA107:BA141),1)","v":0},{"$f":"astm(SUMIF(BW107:BW141,\"<=\" & AR130,CB107:CB141),1)","v":0},null,null,null,1,{"$f":"IF(ISBLANK(R107),\"\", IF(astm(V107,0)=0, 0,         IFERROR(astm(R107,3)/astm(U107,1),0))  )","v":""},{"$f":"IF(ISBLANK(R107),\"\", IF(astm(V107,0)=0,0,               astm(  astm(V107,0)*astm(R107,3), 0)  ) )","v":""},{"$f":"IF( ISBLANK(S107),\"\",astm(S107,3))","v":""},{"$f":"IF(ISBLANK(T107),\"\",astm(AY107*astm(T107,2),1))","v":""},{"$f":"IFERROR(astm(  astm($W$142,3)*1000*(AZ107/AQ109),1),\"\")","v":""},{"$f":"IF(ISBLANK(R107),\"\",7.45)","v":""},{"$f":"IFERROR(BA107/($J$19*astm(R107,3)),\"\")","v":""},{"$f":"IFERROR(BC107+AW107/astm(R107,3),\"\")","v":""},{"$f":"astm(IFERROR(astm(cityfuf(BB107)-0,3),\"\"),3)","v":{"$error":"#VALUE!"}},{"$f":"IF(ISBLANK(R107),\"\",  IF(astm(V107,0)=0, 0, IFERROR(BE107*astm(W107,0),\"\")  )  )","v":""},{"$f":"IFERROR(BD107*BE107,\"\")","v":""},{"$f":"IFERROR(BD107*astm(R107,3),\"\")","v":""},{"$f":"  IF( $J$5>=2017,    IFERROR(MAX(1/(0.004091*(1/BD107)+1.1601),0.7),\"\"),    IFERROR(MAX(1/(0.003259*(1/BD107)+1.1805),0.7),\"\")  )","v":""},{"$f":"  IFERROR(BI107*astm(R107,3),\"\")","v":""},{"$f":"  IFERROR(BI107*7.45,\"\")","v":""},{"$f":"IFERROR(astm(mdiuf(BK107)-0,3),\"\")","v":""},{"$f":" IF(ISBLANK(R107),\"\",   IF( astm(V107,0)=0, 0,    IFERROR(BL107*astm(V107,0)/(BI107),\"\")  ) )","v":""},{"$f":"IFERROR(BL107*BD107/BI107,\"\")","v":""},{"$f":"IFERROR(astm(cityfufalt(BK107)-0,3),\"\")","v":""},{"$f":"IFERROR(BO107*BD107/BI107,\"\")","v":""},{"$f":" IF(ISBLANK(R107),\"\",   IF( astm(V107,0)=0, 0,    IFERROR(BO107*astm(W107,0)/(BI107),\"\") ) )","v":""},{"$f":"IF(AZ107=\"\",\"\", IF(ABS(BS107)<0.01,\"CS based on 1% fuel energy\", \"CD\"))","v":""},{"$f":"IF(AZ107=\"\",1, MIN(IFERROR((AZ107/1000)/((AW107*$J$22)*$J$21/3600),1),IFERROR((SUMIFS(AZ107:AZ141,AV107:AV141,\"<=\"&$AV107,AV107:AV141,\">=\"&$AV107-1)/1000)/(  $J$22*SUMIFS(AW107:AW141,AV107:AV141,\"<=\"&$AV107,AV107:AV141,\">=\"&$AV107-1)*$J$21/3600),1),IFERROR((SUMIFS(AZ107:AZ141,AV107:AV141,\"<=\"&$AV107,AV107:AV141,\">=\"&$AV107-2)/1000)/(  $J$22*SUMIFS(AW107:AW141,AV107:AV141,\"<=\"&$AV107,AV107:AV141,\">=\"&$AV107-2)*$J$21/3600),1),IFERROR((SUMIFS(AZ107:AZ141,AV107:AV141,\"<=\"&$AV107,AV107:AV141,\">=\"&$AV107-3)/1000)/(  $J$22*SUMIFS(AW107:AW141,AV107:AV141,\"<=\"&$AV107,AV107:AV141,\">=\"&$AV107-3)*$J$21/3600),1)) )","v":1},{"$f":"IF(AZ107=\"\",\"\", IF(ABS(BU107)<0.02,\"CS based on 2% battery energy\",\"CD\"))","v":""},{"$f":"IF(AZ107=\"\",1, MIN($AZ107/SUM($AZ107:$AZ107),SUMIFS(AZ107:AZ141,AV107:AV141,\">=\"&$AV107-1,AV107:AV141,\"<=\"&$AV107)/SUM($AZ107:$AZ107),SUMIFS(AZ107:AZ141,AV107:AV141,\">=\"&$AV107-2,AV107:AV141,\"<=\"&$AV107)/SUM($AZ107:$AZ107),SUMIFS(AZ107:AZ141,AV107:AV141,\">=\"&$AV107-3,AV107:AV141,\"<=\"&$AV107)/SUM($AZ107:$AZ107)) )","v":1},null,1,{"$f":"IF(ISBLANK(Z107),\"\", IF(astm(AD107,0)=0, 0,         IFERROR(astm(Z107,3)/astm(AC107,1),0))  )","v":""},{"$f":"IF(ISBLANK(Z107),\"\", IF(astm(AD107,0)=0,0,               astm(AD107,0)*astm(Z107,3)) )","v":""},{"$f":"IF(ISBLANK(AA107),\"\",astm(AA107,3))","v":""},{"$f":"IF(ISBLANK(AB107),\"\",astm(BZ107*astm(AB107,2),1))","v":""},{"$f":"IFERROR( astm(astm($AE$142,3)*1000*(CA107/$AR$109),1),\"\")","v":""},{"$f":"IF(ISBLANK(Z107),\"\",10.3)","v":""},{"$f":"IFERROR(CB107/($J$19*astm(Z107,3)),\"\")","v":""},{"$f":"IFERROR(CD107+BX107/astm(Z107,3),\"\")","v":""},{"$f":"IFERROR(astm(highwayfuf(CC107)-0,3),\"\")","v":""},{"$f":" IF(ISBLANK(Z107),\"\",   IF( astm(AD107,0)=0, 0,       IFERROR(CF107*astm(AE107,0),\"\")  ) )","v":""},{"$f":"IFERROR(CE107*CF107,\"\")","v":""},{"$f":"IFERROR(CE107*astm(Z107,3),\"\")","v":""},{"$f":"  IF( $J$5>=2017,    IFERROR(MAX(1/(0.003191*(1/CE107)+1.2945),0.7),\"\"),   IFERROR(MAX(1/(0.001376*(1/CE107)+1.3466),0.7),\"\")  )","v":""},{"$f":"   IFERROR(CJ107*astm(Z107,3),\"\")","v":""},{"$f":"     IFERROR(CJ107*10.3,\"\")","v":""},{"$f":"IFERROR(astm(mdiuf(CL107)-0,3),\"\")","v":""},{"$f":" IF(ISBLANK(Z107),\"\",   IF( astm(AD107,0)=0, 0,    IFERROR(CM107*astm(AD107,0)/(CJ107),\"\") ) )","v":""},{"$f":"IFERROR(CM107*CE107/CJ107,\"\")","v":""},{"$f":"IFERROR(astm(highwayfufalt(CL107)-0,3),\"\")","v":""},{"$f":"IFERROR(CP107*CE107/CJ107,\"\")","v":""},{"$f":" IF(ISBLANK(Z107),\"\",   IF( astm(AD107,0)=0, 0,    IFERROR(CP107*astm(AE107,0)/(CJ107),\"\") ) )","v":""},{"$f":"IF($CA107=\"\",\"\", IF(ABS(CT107)<0.01,\"CS based on 1% fuel energy\",\"CD\"))","v":""},{"$f":"IF(CA107=\"\",1, MIN(IFERROR((CA107/1000)/((BX107*$J$22)*$J$21/3600),1),IFERROR((SUMIFS(CA107:CA141,BW107:BW141,\"<=\"&$BW107,BW107:BW141,\">=\"&$BW107-1)/1000)/(  $J$22*SUMIFS(BX107:BX141,BW107:BW141,\"<=\"&$BW107,BW107:BW141,\">=\"&$BW107-1)*$J$21/3600),1),IFERROR((SUMIFS(CA107:CA141,BW107:BW141,\"<=\"&$BW107,BW107:BW141,\">=\"&$BW107-2)/1000)/(  $J$22*SUMIFS(BX107:BX141,BW107:BW141,\"<=\"&$BW107,BW107:BW141,\">=\"&$BW107-2)*$J$21/3600),1),IFERROR((SUMIFS(CA107:CA141,BW107:BW141,\"<=\"&$BW107,BW107:BW141,\">=\"&$BW107-3)/1000)/(  $J$22*SUMIFS(BX107:BX141,BW107:BW141,\"<=\"&$BW107,BW107:BW141,\">=\"&$BW107-3)*$J$21/3600),1)) )","v":1},{"$f":"IF($CA107=\"\",\"\", IF(ABS(CV107)<0.02,\"CS based on 2% battery energy\",\"CD\"))","v":""},{"$f":"IF(CA107=\"\",1, MIN($CA107/SUM($CA107:$CA107),SUMIFS(CA107:CA141,BW107:BW141,\">=\"&$BW107-1,BW107:BW141,\"<=\"&$BW107)/SUM($CA107:$CA107),SUMIFS(CA107:CA141,BW107:BW141,\">=\"&$BW107-2,BW107:BW141,\"<=\"&$BW107)/SUM($CA107:$CA107),SUMIFS(CA107:CA141,BW107:BW141,\">=\"&$BW107-3,BW107:BW141,\"<=\"&$BW107)/SUM($CA107:$CA107)) )","v":1}]
[null,null,"Composite Efficiency (Adjusted)",null,null,"MPGe",null,null,null,null,null,null,"Fuel Economy, Adjusted (MPG):",null,null,null,2,null,null,null,null,null,null,null,2,null,null,null,null,null,null,null,null,null,null,null,null,null,null,null,null,"CD AC electricity consumption rate (Rcda), adjusted  (kW-hr/100mi) [3]",{"$f":"IFERROR(astm( astm(W142,3)*100/AQ103,3),0)","v":0},{"$f":"IFERROR(astm( astm(AE142,3)*100/AR103,3),0)","v":0},null,null,null,2,"","",{"$f":"IF(ISBLANK(S108),\"\",(astm(S108,3)-astm(S107,3)))","v":""},"",{"$f":"IFERROR(astm(  astm($W$142,3)*1000*(AZ108/AQ109),1),\"\")","v":""},{"$f":"IF(ISBLANK(R108),\"\",7.45+BB107)","v":""},"","",{"$f":"IFERROR(astm(cityfuf(BB108),3)-astm(cityfuf(BB107),3),\"\")","v":""},"",{"$f":"IFERROR(BD108*BE108,\"\")","v":""},"","","",{"$f":" IFERROR(BI108*7.45+BK107,\"\")","v":""},{"$f":"IFERROR(astm(mdiuf(BK108),3)-astm(mdiuf(BK107),3),\"\")","v":""},"","",{"$f":"IFERROR(astm(cityfufalt(BK108),3)-astm(cityfufalt(BK107),3),\"\")","v":""},"","","",{"$f":"IF(AZ108=\"\",1, MIN(IFERROR((AZ108/1000)/((AW108*$J$22)*$J$21/3600),1),IFERROR((SUMIFS(AZ107:AZ141,AV107:AV141,\"<=\"&$AV108,AV107:AV141,\">=\"&$AV108-1)/1000)/(  $J$22*SUMIFS(AW107:AW141,AV107:AV141,\"<=\"&$AV108,AV107:AV141,\">=\"&$AV108-1)*$J$21/3600),1),IFERROR((SUMIFS(AZ107:AZ141,AV107:AV141,\"<=\"&$AV108,AV107:AV141,\">=\"&$AV108-2)/1000)/(  $J$22*SUMIFS(AW107:AW141,AV107:AV141,\"<=\"&$AV108,AV107:AV141,\">=\"&$AV108-2)*$J$21/3600),1),IFERROR((SUMIFS(AZ107:AZ141,AV107:AV141,\"<=\"&$AV108,AV107:AV141,\">=\"&$AV108-3)/1000)/(  $J$22*SUMIFS(AW107:AW141,AV107:AV141,\"<=\"&$AV108,AV107:AV141,\">=\"&$AV108-3)*$J$21/3600),1)) )","v":1},"",{"$f":"IF(AZ108=\"\",1, MIN($AZ108/SUM($AZ107:$AZ108),SUMIFS(AZ107:AZ141,AV107:AV141,\">=\"&$AV108-1,AV107:AV141,\"<=\"&$AV108)/SUM($AZ107:$AZ108),SUMIFS(AZ107:AZ141,AV107:AV141,\">=\"&$AV108-2,AV107:AV141,\"<=\"&$AV108)/SUM($AZ107:$AZ108),SUMIFS(AZ107:AZ141,AV107:AV141,\">=\"&$AV108-3,AV107:AV141,\"<=\"&$AV108)/SUM($AZ107:$AZ108)) )","v":1},null,2,"","",{"$f":"IF(ISBLANK(AA108),\"\",(astm(AA108,3)-astm(AA107,3)))","v":""},"","",{"$f":"IF(ISBLANK(Z108),\"\",10.3+CC107)","v":""},"","",{"$f":"IFERROR(astm(highwayfuf(CC108)-highwayfuf(CC107),3),\"\")","v":""},"","","","","",{"$f":"  IFERROR(CJ108*10.3+CL107,\"\")","v":""},{"$f":"IFERROR(astm(mdiuf(CL108)-mdiuf(CL107),3),\"\")","v":""},"","",{"$f":"IFERROR(astm(highwayfufalt(CL108)-highwayfufalt(CL107),3),\"\")","v":""},"","",{"$f":"IF(CA108=\"\",\"\", IF(ABS(CT108)<0.01,\"CS based on 1% fuel energy\",\"CD\"))","v":""},{"$f":"IF(CA108=\"\",1, MIN(IFERROR((CA108/1000)/((BX108*$J$22)*$J$21/3600),1),IFERROR((SUMIFS(CA107:CA141,BW107:BW141,\"<=\"&$BW108,BW107:BW141,\">=\"&$BW108-1)/1000)/(  $J$22*SUMIFS(BX107:BX141,BW107:BW141,\"<=\"&$BW108,BW107:BW141,\">=\"&$BW108-1)*$J$21/3600),1),IFERROR((SUMIFS(CA107:CA141,BW107:BW141,\"<=\"&$BW108,BW107:BW141,\">=\"&$BW108-2)/1000)/(  $J$22*SUMIFS(BX107:BX141,BW107:BW141,\"<=\"&$BW108,BW107:BW141,\">=\"&$BW108-2)*$J$21/3600),1),IFERROR((SUMIFS(CA107:CA141,BW107:BW141,\"<=\"&$BW108,BW107:BW141,\">=\"&$BW108-3)/1000)/(  $J$22*SUMIFS(BX107:BX141,BW107:BW141,\"<=\"&$BW108,BW107:BW141,\">=\"&$BW108-3)*$J$21/3600),1)) )","v":1},{"$f":"IF($CA108=\"\",\"\", IF(ABS(CV108)<0.02,\"CS based on 2% battery energy\",\"CD\"))","v":""},{"$f":"IF(CA108=\"\",1, MIN($CA108/SUM($CA107:$CA108),SUMIFS(CA107:CA141,BW107:BW141,\">=\"&$BW108-1,BW107:BW141,\"<=\"&$BW108)/SUM($CA107:$CA108),SUMIFS(CA107:CA141,BW107:BW141,\">=\"&$BW108-2,BW107:BW141,\"<=\"&$BW108)/SUM($CA107:$CA108),SUMIFS(CA107:CA141,BW107:BW141,\">=\"&$BW108-3,BW107:BW141,\"<=\"&$BW108)/SUM($CA107:$CA108)) )","v":1}]
[null,null,"City PHEV Composite MPGe",null,null,{"$f":"astm(D32,0)","v":{"$error":"#VALUE!"}},null,null,null,null,null,null,"CREE (g/mi):",null,null,null,3,null,null,null,null,null,null,null,3,null,null,null,null,null,null,null,null,null,"Label Values (5-Cycle Adjusted)",null,null,null,null,null,null,"CD test total DC energy consumed, unadjusted (Watt-hours) [1]",{"$f":"astm(SUM(AZ107:AZ141),1)","v":0},{"$f":"astm(SUM(CA107:CA141),1)","v":0},null,null,null,3,"","","","",{"$f":"IFERROR(astm(  astm($W$142,3)*1000*(AZ109/AQ109),1),\"\")","v":""},"","","",{"$f":"IFERROR(astm(cityfuf(BB109),3)-astm(cityfuf(BB108),3),\"\")","v":""},"","","","","",{"$f":" IFERROR(BI109*7.45+BK108,\"\")","v":""},{"$f":"IFERROR(astm(mdiuf(BK109),3)-astm(mdiuf(BK108),3),\"\")","v":""},"","",{"$f":"IFERROR(astm(cityfufalt(BK109),3)-astm(cityfufalt(BK108),3),\"\")","v":""},"","","",{"$f":"IF(AZ109=\"\",1, MIN(IFERROR((AZ109/1000)/((AW109*$J$22)*$J$21/3600),1),IFERROR((SUMIFS(AZ107:AZ141,AV107:AV141,\"<=\"&$AV109,AV107:AV141,\">=\"&$AV109-1)/1000)/(  $J$22*SUMIFS(AW107:AW141,AV107:AV141,\"<=\"&$AV109,AV107:AV141,\">=\"&$AV109-1)*$J$21/3600),1),IFERROR((SUMIFS(AZ107:AZ141,AV107:AV141,\"<=\"&$AV109,AV107:AV141,\">=\"&$AV109-2)/1000)/(  $J$22*SUMIFS(AW107:AW141,AV107:AV141,\"<=\"&$AV109,AV107:AV141,\">=\"&$AV109-2)*$J$21/3600),1),IFERROR((SUMIFS(AZ107:AZ141,AV107:AV141,\"<=\"&$AV109,AV107:AV141,\">=\"&$AV109-3)/1000)/(  $J$22*SUMIFS(AW107:AW141,AV107:AV141,\"<=\"&$AV109,AV107:AV141,\">=\"&$AV109-3)*$J$21/3600),1)) )","v":1},"",{"$f":"IF(AZ109=\"\",1, MIN($AZ109/SUM($AZ107:$AZ109),SUMIFS(AZ107:AZ141,AV107:AV141,\">=\"&$AV109-1,AV107:AV141,\"<=\"&$AV109)/SUM($AZ107:$AZ109),SUMIFS(AZ107:AZ141,AV107:AV141,\">=\"&$AV109-2,AV107:AV141,\"<=\"&$AV109)/SUM($AZ107:$AZ109),SUMIFS(AZ107:AZ141,AV107:AV141,\">=\"&$AV109-3,AV107:AV141,\"<=\"&$AV109)/SUM($AZ107:$AZ109)) )","v":1},null,3,"","","","","","","","",{"$f":"IFERROR(astm(highwayfuf(CC109)-highwayfuf(CC108),3),\"\")","v":""},"","","","","",{"$f":"  IFERROR(CJ109*10.3+CL108,\"\")","v":""},{"$f":"IFERROR(astm(mdiuf(CL109)-mdiuf(CL108),3),\"\")","v":""},"","",{"$f":"IFERROR(astm(highwayfufalt(CL109)-highwayfufalt(CL108),3),\"\")","v":""},"","","",{"$f":"IF(CA109=\"\",1, MIN(IFERROR((CA109/1000)/((BX109*$J$22)*$J$21/3600),1),IFERROR((SUMIFS(CA107:CA141,BW107:BW141,\"<=\"&$BW109,BW107:BW141,\">=\"&$BW109-1)/1000)/(  $J$22*SUMIFS(BX107:BX141,BW107:BW141,\"<=\"&$BW109,BW107:BW141,\">=\"&$BW109-1)*$J$21/3600),1),IFERROR((SUMIFS(CA107:CA141,BW107:BW141,\"<=\"&$BW109,BW107:BW141,\">=\"&$BW109-2)/1000)/(  $J$22*SUMIFS(BX107:BX141,BW107:BW141,\"<=\"&$BW109,BW107:BW141,\">=\"&$BW109-2)*$J$21/3600),1),IFERROR((SUMIFS(CA107:CA141,BW107:BW141,\"<=\"&$BW109,BW107:BW141,\">=\"&$BW109-3)/1000)/(  $J$22*SUMIFS(BX107:BX141,BW107:BW141,\"<=\"&$BW109,BW107:BW141,\">=\"&$BW109-3)*$J$21/3600),1)) )","v":1},"",{"$f":"IF(CA109=\"\",1, MIN($CA109/SUM($CA107:$CA109),SUMIFS(CA107:CA141,BW107:BW141,\">=\"&$BW109-1,BW107:BW141,\"<=\"&$BW109)/SUM($CA107:$CA109),SUMIFS(CA107:CA141,BW107:BW141,\">=\"&$BW109-2,BW107:BW141,\"<=\"&$BW109)/SUM($CA107:$CA109),SUMIFS(CA107:CA141,BW107:BW141,\">=\"&$BW109-3,BW107:BW141,\"<=\"&$BW109)/SUM($CA107:$CA109)) )","v":1}]
[null,null,"Hwy PHEV Composite MPGe",null,null,{"$f":"astm(E32,0)","v":{"$error":"#VALUE!"}},null,null,null,null,null,null,"CO2, Unadjusted (g/mi):",null,null,null,4,null,null,null,null,null,null,null,4,null,null,null,null,null,null,null,null,null,"Charge-Depleting",null,null,"Combined",null,null,"NEW","CD Rcda total fuel consumption (Rcda), unadjusted (gal equiv) [4]",{"$f":"IFERROR(astm(SUMIF(AV107:AV141,\"<=\" & (AQ130-1),BH107:BH141) + AQ129*SUMIF(AV107:AV141,\"=\" & (AQ130-1),BH107:BH141),4),0)","v":0},{"$f":"IFERROR(astm(SUMIF(BW107:BW141,\"<=\" & (AR130-1),CI107:CI141) + AR129*SUMIF(BW107:BW141,\"=\" & (AR130-1),CI107:CI141),4),0)","v":0},null,null,null,4,"","","","",{"$f":"IFERROR(astm(  astm($W$142,3)*1000*(AZ110/AQ109),1),\"\")","v":""},"","","",{"$f":"IFERROR(astm(cityfuf(BB110),3)-astm(cityfuf(BB109),3),\"\")","v":""},"","","","","","",{"$f":"IFERROR(astm(mdiuf(BK110),3)-astm(mdiuf(BK109),3),\"\")","v":""},"","",{"$f":"IFERROR(astm(cityfufalt(BK110),3)-astm(cityfufalt(BK109),3),\"\")","v":""},"","","",{"$f":"IF(AZ110=\"\",1, MIN(IFERROR((AZ110/1000)/((AW110*$J$22)*$J$21/3600),1),IFERROR((SUMIFS(AZ107:AZ141,AV107:AV141,\"<=\"&$AV110,AV107:AV141,\">=\"&$AV110-1)/1000)/(  $J$22*SUMIFS(AW107:AW141,AV107:AV141,\"<=\"&$AV110,AV107:AV141,\">=\"&$AV110-1)*$J$21/3600),1),IFERROR((SUMIFS(AZ107:AZ141,AV107:AV141,\"<=\"&$AV110,AV107:AV141,\">=\"&$AV110-2)/1000)/(  $J$22*SUMIFS(AW107:AW141,AV107:AV141,\"<=\"&$AV110,AV107:AV141,\">=\"&$AV110-2)*$J$21/3600),1),IFERROR((SUMIFS(AZ107:AZ141,AV107:AV141,\"<=\"&$AV110,AV107:AV141,\">=\"&$AV110-3)/1000)/(  $J$22*SUMIFS(AW107:AW141,AV107:AV141,\"<=\"&$AV110,AV107:AV141,\">=\"&$AV110-3)*$J$21/3600),1)) )","v":1},"",{"$f":"IF(AZ110=\"\",1, MIN($AZ110/SUM($AZ107:$AZ110),SUMIFS(AZ107:AZ141,AV107:AV141,\">=\"&$AV110-1,AV107:AV141,\"<=\"&$AV110)/SUM($AZ107:$AZ110),SUMIFS(AZ107:AZ141,AV107:AV141,\">=\"&$AV110-2,AV107:AV141,\"<=\"&$AV110)/SUM($AZ107:$AZ110),SUMIFS(AZ107:AZ141,AV107:AV141,\">=\"&$AV110-3,AV107:AV141,\"<=\"&$AV110)/SUM($AZ107:$AZ110)) )","v":1},null,4,"","","","","","","","",{"$f":"IFERROR(astm(highwayfuf(CC110)-highwayfuf(CC109),3),\"\")","v":""},"","","","","","",{"$f":"IFERROR(astm(mdiuf(CL110)-mdiuf(CL109),3),\"\")","v":""},"","",{"$f":"IFERROR(astm(highwayfufalt(CL110)-highwayfufalt(CL109),3),\"\")","v":""},"","","",{"$f":"IF(CA110=\"\",1, MIN(IFERROR((CA110/1000)/((BX110*$J$22)*$J$21/3600),1),IFERROR((SUMIFS(CA107:CA141,BW107:BW141,\"<=\"&$BW110,BW107:BW141,\">=\"&$BW110-1)/1000)/(  $J$22*SUMIFS(BX107:BX141,BW107:BW141,\"<=\"&$BW110,BW107:BW141,\">=\"&$BW110-1)*$J$21/3600),1),IFERROR((SUMIFS(CA107:CA141,BW107:BW141,\"<=\"&$BW110,BW107:BW141,\">=\"&$BW110-2)/1000)/(  $J$22*SUMIFS(BX107:BX141,BW107:BW141,\"<=\"&$BW110,BW107:BW141,\">=\"&$BW110-2)*$J$21/3600),1),IFERROR((SUMIFS(CA107:CA141,BW107:BW141,\"<=\"&$BW110,BW107:BW141,\">=\"&$BW110-3)/1000)/(  $J$22*SUMIFS(BX107:BX141,BW107:BW141,\"<=\"&$BW110,BW107:BW141,\">=\"&$BW110-3)*$J$21/3600),1)) )","v":1},"",{"$f":"IF(CA110=\"\",1, MIN($CA110/SUM($CA107:$CA110),SUMIFS(CA107:CA141,BW107:BW141,\">=\"&$BW110-1,BW107:BW141,\"<=\"&$BW110)/SUM($CA107:$CA110),SUMIFS(CA107:CA141,BW107:BW141,\">=\"&$BW110-2,BW107:BW141,\"<=\"&$BW110)/SUM($CA107:$CA110),SUMIFS(CA107:CA141,BW107:BW141,\">=\"&$BW110-3,BW107:BW141,\"<=\"&$BW110)/SUM($CA107:$CA110)) )","v":1}]
[null,null,"Comb PHEV Composite MPGe",null,null,{"$f":"F32","v":{"$error":"#VALUE!"}},null,null,null,null,null,null,"CO2, Adjusted (g/mi):",null,null,null,5,null,null,null,null,null,null,null,5,null,null,null,null,null,null,null,null,null,"CD range, adjusted (miles) [0]",null,null,{"$f":"IFERROR(astm(0.55*AQ103+0.45*AR103,0),0)","v":0},null,null,null,"CD utilitized total fuel consumption rate (55/45 FUF, Rcdc), unadjusted (gal-equiv/mile) [6]",{"$f":" astm(SUMIF(AV107:AV141,\"<=\" & (AQ130),BG107:BG141)*1000000,0)/1000000","v":0},{"$f":" astm(SUMIF(BW107:BW141,\"<=\" & (AR130),CH107:CH141)*1000000,0)/1000000","v":0},null,null,null,5,"","","","",{"$f":"IFERROR(astm(  astm($W$142,3)*1000*(AZ111/AQ109),1),\"\")","v":""},"","","",{"$f":"IFERROR(astm(cityfuf(BB111),3)-astm(cityfuf(BB110),3),\"\")","v":""},"","","","","","",{"$f":"IFERROR(astm(mdiuf(BK111),3)-astm(mdiuf(BK110),3),\"\")","v":""},"","",{"$f":"IFERROR(astm(cityfufalt(BK111),3)-astm(cityfufalt(BK110),3),\"\")","v":""},"","","",{"$f":"IF(AZ111=\"\",1, MIN(IFERROR((AZ111/1000)/((AW111*$J$22)*$J$21/3600),1),IFERROR((SUMIFS(AZ107:AZ141,AV107:AV141,\"<=\"&$AV111,AV107:AV141,\">=\"&$AV111-1)/1000)/(  $J$22*SUMIFS(AW107:AW141,AV107:AV141,\"<=\"&$AV111,AV107:AV141,\">=\"&$AV111-1)*$J$21/3600),1),IFERROR((SUMIFS(AZ107:AZ141,AV107:AV141,\"<=\"&$AV111,AV107:AV141,\">=\"&$AV111-2)/1000)/(  $J$22*SUMIFS(AW107:AW141,AV107:AV141,\"<=\"&$AV111,AV107:AV141,\">=\"&$AV111-2)*$J$21/3600),1),IFERROR((SUMIFS(AZ107:AZ141,AV107:AV141,\"<=\"&$AV111,AV107:AV141,\">=\"&$AV111-3)/1000)/(  $J$22*SUMIFS(AW107:AW141,AV107:AV141,\"<=\"&$AV111,AV107:AV141,\">=\"&$AV111-3)*$J$21/3600),1)) )","v":1},"",{"$f":"IF(AZ111=\"\",1, MIN($AZ111/SUM($AZ107:$AZ111),SUMIFS(AZ107:AZ141,AV107:AV141,\">=\"&$AV111-1,AV107:AV141,\"<=\"&$AV111)/SUM($AZ107:$AZ111),SUMIFS(AZ107:AZ141,AV107:AV141,\">=\"&$AV111-2,AV107:AV141,\"<=\"&$AV111)/SUM($AZ107:$AZ111),SUMIFS(AZ107:AZ141,AV107:AV141,\">=\"&$AV111-3,AV107:AV141,\"<=\"&$AV111)/SUM($AZ107:$AZ111)) )","v":1},null,5,"","","","","","","","",{"$f":"IFERROR(astm(highwayfuf(CC111)-highwayfuf(CC110),3),\"\")","v":""},"","","","","","",{"$f":"IFERROR(astm(mdiuf(CL111)-mdiuf(CL110),3),\"\")","v":""},"","",{"$f":"IFERROR(astm(highwayfufalt(CL111)-highwayfufalt(CL110),3),\"\")","v":""},"","","",{"$f":"IF(CA111=\"\",1, MIN(IFERROR((CA111/1000)/((BX111*$J$22)*$J$21/3600),1),IFERROR((SUMIFS(CA107:CA141,BW107:BW141,\"<=\"&$BW111,BW107:BW141,\">=\"&$BW111-1)/1000)/(  $J$22*SUMIFS(BX107:BX141,BW107:BW141,\"<=\"&$BW111,BW107:BW141,\">=\"&$BW111-1)*$J$21/3600),1),IFERROR((SUMIFS(CA107:CA141,BW107:BW141,\"<=\"&$BW111,BW107:BW141,\">=\"&$BW111-2)/1000)/(  $J$22*SUMIFS(BX107:BX141,BW107:BW141,\"<=\"&$BW111,BW107:BW141,\">=\"&$BW111-2)*$J$21/3600),1),IFERROR((SUMIFS(CA107:CA141,BW107:BW141,\"<=\"&$BW111,BW107:BW141,\">=\"&$BW111-3)/1000)/(  $J$22*SUMIFS(BX107:BX141,BW107:BW141,\"<=\"&$BW111,BW107:BW141,\">=\"&$BW111-3)*$J$21/3600),1)) )","v":1},"",{"$f":"IF(CA111=\"\",1, MIN($CA111/SUM($CA107:$CA111),SUMIFS(CA107:CA141,BW107:BW141,\">=\"&$BW111-1,BW107:BW141,\"<=\"&$BW111)/SUM($CA107:$CA111),SUMIFS(CA107:CA141,BW107:BW141,\">=\"&$BW111-2,BW107:BW141,\"<=\"&$BW111)/SUM($CA107:$CA111),SUMIFS(CA107:CA141,BW107:BW141,\">=\"&$BW111-3,BW107:BW141,\"<=\"&$BW111)/SUM($CA107:$CA111)) )","v":1}]
[null,null,"Composite CO2 (Adjusted)",null,null,"g/mi",null,null,null,null,null,null,null,null,null,null,6,null,null,null,null,null,null,null,6,null,null,null,null,null,null,null,null,null,"CD All-Electric Range, adjusted (mi) [0]",null,null,{"$f":"IFERROR(astm(0.55*AQ105+0.45*AR105,0),0)","v":0},null,null,"NEW","CD utilitized total fuel consumption rate (43/57 FUF, Rcdc), adjusted (gal-equiv/mile) [6]",{"$f":" astm( 1000000*SUMIF(AV107:AV141,\"<=\" & (AQ130),BP107:BP141), 0) / 1000000","v":0},{"$f":" astm( 1000000*SUMIF(BW107:BW141,\"<=\" & (AR130),CQ107:CQ141), 0) / 1000000","v":0},null,null,null,6,"","","","",{"$f":"IFERROR(astm(  astm($W$142,3)*1000*(AZ112/AQ109),1),\"\")","v":""},"","","",{"$f":"IFERROR(astm(cityfuf(BB112),3)-astm(cityfuf(BB111),3),\"\")","v":""},"","","","","","",{"$f":"IFERROR(astm(mdiuf(BK112),3)-astm(mdiuf(BK111),3),\"\")","v":""},"","",{"$f":"IFERROR(astm(cityfufalt(BK112),3)-astm(cityfufalt(BK111),3),\"\")","v":""},"","","",{"$f":"IF(AZ112=\"\",1, MIN(IFERROR((AZ112/1000)/((AW112*$J$22)*$J$21/3600),1),IFERROR((SUMIFS(AZ107:AZ141,AV107:AV141,\"<=\"&$AV112,AV107:AV141,\">=\"&$AV112-1)/1000)/(  $J$22*SUMIFS(AW107:AW141,AV107:AV141,\"<=\"&$AV112,AV107:AV141,\">=\"&$AV112-1)*$J$21/3600),1),IFERROR((SUMIFS(AZ107:AZ141,AV107:AV141,\"<=\"&$AV112,AV107:AV141,\">=\"&$AV112-2)/1000)/(  $J$22*SUMIFS(AW107:AW141,AV107:AV141,\"<=\"&$AV112,AV107:AV141,\">=\"&$AV112-2)*$J$21/3600),1),IFERROR((SUMIFS(AZ107:AZ141,AV107:AV141,\"<=\"&$AV112,AV107:AV141,\">=\"&$AV112-3)/1000)/(  $J$22*SUMIFS(AW107:AW141,AV107:AV141,\"<=\"&$AV112,AV107:AV141,\">=\"&$AV112-3)*$J$21/3600),1)) )","v":1},"",{"$f":"IF(AZ112=\"\",1, MIN($AZ112/SUM($AZ107:$AZ112),SUMIFS(AZ107:AZ141,AV107:AV141,\">=\"&$AV112-1,AV107:AV141,\"<=\"&$AV112)/SUM($AZ107:$AZ112),SUMIFS(AZ107:AZ141,AV107:AV141,\">=\"&$AV112-2,AV107:AV141,\"<=\"&$AV112)/SUM($AZ107:$AZ112),SUMIFS(AZ107:AZ141,AV107:AV141,\">=\"&$AV112-3,AV107:AV141,\"<=\"&$AV112)/SUM($AZ107:$AZ112)) )","v":1},null,6,"","","","","","","","",{"$f":"IFERROR(astm(highwayfuf(CC112)-highwayfuf(CC111),3),\"\")","v":""},"","","","","","",{"$f":"IFERROR(astm(mdiuf(CL112)-mdiuf(CL111),3),\"\")","v":""},"","",{"$f":"IFERROR(astm(highwayfufalt(CL112)-highwayfufalt(CL111),3),\"\")","v":""},"","","",{"$f":"IF(CA112=\"\",1, MIN(IFERROR((CA112/1000)/((BX112*$J$22)*$J$21/3600),1),IFERROR((SUMIFS(CA107:CA141,BW107:BW141,\"<=\"&$BW112,BW107:BW141,\">=\"&$BW112-1)/1000)/(  $J$22*SUMIFS(BX107:BX141,BW107:BW141,\"<=\"&$BW112,BW107:BW141,\">=\"&$BW112-1)*$J$21/3600),1),IFERROR((SUMIFS(CA107:CA141,BW107:BW141,\"<=\"&$BW112,BW107:BW141,\">=\"&$BW112-2)/1000)/(  $J$22*SUMIFS(BX107:BX141,BW107:BW141,\"<=\"&$BW112,BW107:BW141,\">=\"&$BW112-2)*$J$21/3600),1),IFERROR((SUMIFS(CA107:CA141,BW107:BW141,\"<=\"&$BW112,BW107:BW141,\">=\"&$BW112-3)/1000)/(  $J$22*SUMIFS(BX107:BX141,BW107:BW141,\"<=\"&$BW112,BW107:BW141,\">=\"&$BW112-3)*$J$21/3600),1)) )","v":1},"",{"$f":"IF(CA112=\"\",1, MIN($CA112/SUM($CA107:$CA112),SUMIFS(CA107:CA141,BW107:BW141,\">=\"&$BW112-1,BW107:BW141,\"<=\"&$BW112)/SUM($CA107:$CA112),SUMIFS(CA107:CA141,BW107:BW141,\">=\"&$BW112-2,BW107:BW141,\"<=\"&$BW112)/SUM($CA107:$CA112),SUMIFS(CA107:CA141,BW107:BW141,\">=\"&$BW112-3,BW107:BW141,\"<=\"&$BW112)/SUM($CA107:$CA112)) )","v":1}]
[null,null,"City CO2-PHEV Composite Rounded Adjusted Combined CO2",null,null,{"$f":"astm(D31,0)","v":{"$error":"#VALUE!"}},null,null,null,null,null,null,null,null,null,null,7,null,null,null,null,null,null,null,7,null,null,null,null,null,null,null,null,null,"Total Driving Range (Miles) [0]",null,null,{"$f":"IFERROR(astm(   IFERROR((astm(0.55*AQ134+0.45*AR134,0)+AL111),0) / 10,0) *10,0)","v":0},null,null,"NEW","CD utilitized total fuel consumption rate (MDIUF, Rcdc), adjusted (gal-equiv/mile) [6]",{"$f":" astm(SUMIF(AV107:AV141,\"<=\" & (AQ130),BN107:BN141)*1000000,0) / 1000000","v":0},{"$f":" astm(SUMIF(BW107:BW141,\"<=\" & (AR130),CO107:CO141)*1000000,0) / 1000000","v":0},null,null,null,7,"","","","",{"$f":"IFERROR(astm(  astm($W$142,3)*1000*(AZ113/AQ109),1),\"\")","v":""},"","","",{"$f":"IFERROR(astm(cityfuf(BB113),3)-astm(cityfuf(BB112),3),\"\")","v":""},"","","","","","",{"$f":"IFERROR(astm(mdiuf(BK113),3)-astm(mdiuf(BK112),3),\"\")","v":""},"","",{"$f":"IFERROR(astm(cityfufalt(BK113),3)-astm(cityfufalt(BK112),3),\"\")","v":""},"","","",{"$f":"IF(AZ113=\"\",1, MIN(IFERROR((AZ113/1000)/((AW113*$J$22)*$J$21/3600),1),IFERROR((SUMIFS(AZ107:AZ141,AV107:AV141,\"<=\"&$AV113,AV107:AV141,\">=\"&$AV113-1)/1000)/(  $J$22*SUMIFS(AW107:AW141,AV107:AV141,\"<=\"&$AV113,AV107:AV141,\">=\"&$AV113-1)*$J$21/3600),1),IFERROR((SUMIFS(AZ107:AZ141,AV107:AV141,\"<=\"&$AV113,AV107:AV141,\">=\"&$AV113-2)/1000)/(  $J$22*SUMIFS(AW107:AW141,AV107:AV141,\"<=\"&$AV113,AV107:AV141,\">=\"&$AV113-2)*$J$21/3600),1),IFERROR((SUMIFS(AZ107:AZ141,AV107:AV141,\"<=\"&$AV113,AV107:AV141,\">=\"&$AV113-3)/1000)/(  $J$22*SUMIFS(AW107:AW141,AV107:AV141,\"<=\"&$AV113,AV107:AV141,\">=\"&$AV113-3)*$J$21/3600),1)) )","v":1},"",{"$f":"IF(AZ113=\"\",1, MIN($AZ113/SUM($AZ107:$AZ113),SUMIFS(AZ107:AZ141,AV107:AV141,\">=\"&$AV113-1,AV107:AV141,\"<=\"&$AV113)/SUM($AZ107:$AZ113),SUMIFS(AZ107:AZ141,AV107:AV141,\">=\"&$AV113-2,AV107:AV141,\"<=\"&$AV113)/SUM($AZ107:$AZ113),SUMIFS(AZ107:AZ141,AV107:AV141,\">=\"&$AV113-3,AV107:AV141,\"<=\"&$AV113)/SUM($AZ107:$AZ113)) )","v":1},null,7,"","","","","","","","",{"$f":"IFERROR(astm(highwayfuf(CC113)-highwayfuf(CC112),3),\"\")","v":""},"","","","","","",{"$f":"IFERROR(astm(mdiuf(CL113)-mdiuf(CL112),3),\"\")","v":""},"","",{"$f":"IFERROR(astm(highwayfufalt(CL113)-highwayfufalt(CL112),3),\"\")","v":""},"","","",{"$f":"IF(CA113=\"\",1, MIN(IFERROR((CA113/1000)/((BX113*$J$22)*$J$21/3600),1),IFERROR((SUMIFS(CA107:CA141,BW107:BW141,\"<=\"&$BW113,BW107:BW141,\">=\"&$BW113-1)/1000)/(  $J$22*SUMIFS(BX107:BX141,BW107:BW141,\"<=\"&$BW113,BW107:BW141,\">=\"&$BW113-1)*$J$21/3600),1),IFERROR((SUMIFS(CA107:CA141,BW107:BW141,\"<=\"&$BW113,BW107:BW141,\">=\"&$BW113-2)/1000)/(  $J$22*SUMIFS(BX107:BX141,BW107:BW141,\"<=\"&$BW113,BW107:BW141,\">=\"&$BW113-2)*$J$21/3600),1),IFERROR((SUMIFS(CA107:CA141,BW107:BW141,\"<=\"&$BW113,BW107:BW141,\">=\"&$BW113-3)/1000)/(  $J$22*SUMIFS(BX107:BX141,BW107:BW141,\"<=\"&$BW113,BW107:BW141,\">=\"&$BW113-3)*$J$21/3600),1)) )","v":1},"",{"$f":"IF(CA113=\"\",1, MIN($CA113/SUM($CA107:$CA113),SUMIFS(CA107:CA141,BW107:BW141,\">=\"&$BW113-1,BW107:BW141,\"<=\"&$BW113)/SUM($CA107:$CA113),SUMIFS(CA107:CA141,BW107:BW141,\">=\"&$BW113-2,BW107:BW141,\"<=\"&$BW113)/SUM($CA107:$CA113),SUMIFS(CA107:CA141,BW107:BW141,\">=\"&$BW113-3,BW107:BW141,\"<=\"&$BW113)/SUM($CA107:$CA113)) )","v":1}]
[null,null,"Hwy CO2-PHEV Composite Rounded Adjusted Combined CO2",null,null,{"$f":"astm(E31,0)","v":{"$error":"#VALUE!"}},null,null,null,null,null,null,null,null,null,null,8,null,null,null,null,null,null,null,8,null,null,null,null,null,null,null,null,null,"CD Fuel Economy (MPGe) [0]",null,null,{"$f":" IFERROR(astm(1/(0.55/AQ115+0.45/AR115),0),0)","v":0},null,null,null,"CD gasoline consumption (Rcda), adjusted (gal) [1]",{"$f":"IFERROR(SUMIF(AV107:AV141,\"<=\" & AQ130-1,AW107:AW141)+AQ129*SUMIF(AV107:AV141,\"=\" & AQ130-1,AW107:AW141),0)","v":0},{"$f":"IFERROR(SUMIF(BW107:BW141,\"<=\" & AR130-1,BX107:BX141)+AR129*SUMIF(BW107:BW141,\"=\" & AR130-1,BX107:BX141),0)","v":0},null,null,null,8,"","","","",{"$f":"IFERROR(astm(  astm($W$142,3)*1000*(AZ114/AQ109),1),\"\")","v":""},"","","",{"$f":"IFERROR(astm(cityfuf(BB114),3)-astm(cityfuf(BB113),3),\"\")","v":""},"","","","","","",{"$f":"IFERROR(astm(mdiuf(BK114),3)-astm(mdiuf(BK113),3),\"\")","v":""},"","",{"$f":"IFERROR(astm(cityfufalt(BK114),3)-astm(cityfufalt(BK113),3),\"\")","v":""},"","","",{"$f":"IF(AZ114=\"\",1, MIN(IFERROR((AZ114/1000)/((AW114*$J$22)*$J$21/3600),1),IFERROR((SUMIFS(AZ107:AZ141,AV107:AV141,\"<=\"&$AV114,AV107:AV141,\">=\"&$AV114-1)/1000)/(  $J$22*SUMIFS(AW107:AW141,AV107:AV141,\"<=\"&$AV114,AV107:AV141,\">=\"&$AV114-1)*$J$21/3600),1),IFERROR((SUMIFS(AZ107:AZ141,AV107:AV141,\"<=\"&$AV114,AV107:AV141,\">=\"&$AV114-2)/1000)/(  $J$22*SUMIFS(AW107:AW141,AV107:AV141,\"<=\"&$AV114,AV107:AV141,\">=\"&$AV114-2)*$J$21/3600),1),IFERROR((SUMIFS(AZ107:AZ141,AV107:AV141,\"<=\"&$AV114,AV107:AV141,\">=\"&$AV114-3)/1000)/(  $J$22*SUMIFS(AW107:AW141,AV107:AV141,\"<=\"&$AV114,AV107:AV141,\">=\"&$AV114-3)*$J$21/3600),1)) )","v":1},"",{"$f":"IF(AZ114=\"\",1, MIN($AZ114/SUM($AZ107:$AZ114),SUMIFS(AZ107:AZ141,AV107:AV141,\">=\"&$AV114-1,AV107:AV141,\"<=\"&$AV114)/SUM($AZ107:$AZ114),SUMIFS(AZ107:AZ141,AV107:AV141,\">=\"&$AV114-2,AV107:AV141,\"<=\"&$AV114)/SUM($AZ107:$AZ114),SUMIFS(AZ107:AZ141,AV107:AV141,\">=\"&$AV114-3,AV107:AV141,\"<=\"&$AV114)/SUM($AZ107:$AZ114)) )","v":1},null,8,"","","","","","","","",{"$f":"IFERROR(astm(highwayfuf(CC114)-highwayfuf(CC113),3),\"\")","v":""},"","","","","","",{"$f":"IFERROR(astm(mdiuf(CL114)-mdiuf(CL113),3),\"\")","v":""},"","",{"$f":"IFERROR(astm(highwayfufalt(CL114)-highwayfufalt(CL113),3),\"\")","v":""},"","","",{"$f":"IF(CA114=\"\",1, MIN(IFERROR((CA114/1000)/((BX114*$J$22)*$J$21/3600),1),IFERROR((SUMIFS(CA107:CA141,BW107:BW141,\"<=\"&$BW114,BW107:BW141,\">=\"&$BW114-1)/1000)/(  $J$22*SUMIFS(BX107:BX141,BW107:BW141,\"<=\"&$BW114,BW107:BW141,\">=\"&$BW114-1)*$J$21/3600),1),IFERROR((SUMIFS(CA107:CA141,BW107:BW141,\"<=\"&$BW114,BW107:BW141,\">=\"&$BW114-2)/1000)/(  $J$22*SUMIFS(BX107:BX141,BW107:BW141,\"<=\"&$BW114,BW107:BW141,\">=\"&$BW114-2)*$J$21/3600),1),IFERROR((SUMIFS(CA107:CA141,BW107:BW141,\"<=\"&$BW114,BW107:BW141,\">=\"&$BW114-3)/1000)/(  $J$22*SUMIFS(BX107:BX141,BW107:BW141,\"<=\"&$BW114,BW107:BW141,\">=\"&$BW114-3)*$J$21/3600),1)) )","v":1},"",{"$f":"IF(CA114=\"\",1, MIN($CA114/SUM($CA107:$CA114),SUMIFS(CA107:CA141,BW107:BW141,\">=\"&$BW114-1,BW107:BW141,\"<=\"&$BW114)/SUM($CA107:$CA114),SUMIFS(CA107:CA141,BW107:BW141,\">=\"&$BW114-2,BW107:BW141,\"<=\"&$BW114)/SUM($CA107:$CA114),SUMIFS(CA107:CA141,BW107:BW141,\">=\"&$BW114-3,BW107:BW141,\"<=\"&$BW114)/SUM($CA107:$CA114)) )","v":1}]
[null,null,"CO2-PHEV Composite Rounded Adjusted Combined CO2",null,null,{"$f":"F31","v":{"$error":"#VALUE!"}},null,null,null,null,null,null,null,null,null,null,9,null,null,null,null,null,null,null,9,null,null,null,null,null,null,null,null,null,"CD Electricity Consumption  (kW-hr/100mi) [0]",null,null,{"$f":"IFERROR(astm(0.55*AQ108+0.45*AR108,0),0)","v":0},null,null,null,"CD fuel economy (Rcda), adjusted (MPGe) [4]",{"$f":"IFERROR(astm( AQ103/ ( SUMIF(AV107:AV141,\"<=\" & (AQ130-1),BH107:BH141) + AQ129*SUMIF(AV107:AV141,\"=\" & (AQ130-1),BH107:BH141) ),4),0)","v":0},{"$f":"IFERROR(astm( AR103/ ( SUMIF(BW107:BW141,\"<=\" & (AR130-1),CI107:CI141) + AR129*SUMIF(BW107:BW141,\"=\" & (AR130-1),CI107:CI141) ),4),0)","v":0},null,null,null,9,"","","","",{"$f":"IFERROR(astm(  astm($W$142,3)*1000*(AZ115/AQ109),1),\"\")","v":""},"","","",{"$f":"IFERROR(astm(cityfuf(BB115),3)-astm(cityfuf(BB114),3),\"\")","v":""},"","","","","","",{"$f":"IFERROR(astm(mdiuf(BK115),3)-astm(mdiuf(BK114),3),\"\")","v":""},"","",{"$f":"IFERROR(astm(cityfufalt(BK115),3)-astm(cityfufalt(BK114),3),\"\")","v":""},"","","",{"$f":"IF(AZ115=\"\",1, MIN(IFERROR((AZ115/1000)/((AW115*$J$22)*$J$21/3600),1),IFERROR((SUMIFS(AZ107:AZ141,AV107:AV141,\"<=\"&$AV115,AV107:AV141,\">=\"&$AV115-1)/1000)/(  $J$22*SUMIFS(AW107:AW141,AV107:AV141,\"<=\"&$AV115,AV107:AV141,\">=\"&$AV115-1)*$J$21/3600),1),IFERROR((SUMIFS(AZ107:AZ141,AV107:AV141,\"<=\"&$AV115,AV107:AV141,\">=\"&$AV115-2)/1000)/(  $J$22*SUMIFS(AW107:AW141,AV107:AV141,\"<=\"&$AV115,AV107:AV141,\">=\"&$AV115-2)*$J$21/3600),1),IFERROR((SUMIFS(AZ107:AZ141,AV107:AV141,\"<=\"&$AV115,AV107:AV141,\">=\"&$AV115-3)/1000)/(  $J$22*SUMIFS(AW107:AW141,AV107:AV141,\"<=\"&$AV115,AV107:AV141,\">=\"&$AV115-3)*$J$21/3600),1)) )","v":1},"",{"$f":"IF(AZ115=\"\",1, MIN($AZ115/SUM($AZ107:$AZ115),SUMIFS(AZ107:AZ141,AV107:AV141,\">=\"&$AV115-1,AV107:AV141,\"<=\"&$AV115)/SUM($AZ107:$AZ115),SUMIFS(AZ107:AZ141,AV107:AV141,\">=\"&$AV115-2,AV107:AV141,\"<=\"&$AV115)/SUM($AZ107:$AZ115),SUMIFS(AZ107:AZ141,AV107:AV141,\">=\"&$AV115-3,AV107:AV141,\"<=\"&$AV115)/SUM($AZ107:$AZ115)) )","v":1},null,9,"","","","","","","","",{"$f":"IFERROR(astm(highwayfuf(CC115)-highwayfuf(CC114),3),\"\")","v":""},"","","","","","",{"$f":"IFERROR(astm(mdiuf(CL115)-mdiuf(CL114),3),\"\")","v":""},"","",{"$f":"IFERROR(astm(highwayfufalt(CL115)-highwayfufalt(CL114),3),\"\")","v":""},"","","",{"$f":"IF(CA115=\"\",1, MIN(IFERROR((CA115/1000)/((BX115*$J$22)*$J$21/3600),1),IFERROR((SUMIFS(CA107:CA141,BW107:BW141,\"<=\"&$BW115,BW107:BW141,\">=\"&$BW115-1)/1000)/(  $J$22*SUMIFS(BX107:BX141,BW107:BW141,\"<=\"&$BW115,BW107:BW141,\">=\"&$BW115-1)*$J$21/3600),1),IFERROR((SUMIFS(CA107:CA141,BW107:BW141,\"<=\"&$BW115,BW107:BW141,\">=\"&$BW115-2)/1000)/(  $J$22*SUMIFS(BX107:BX141,BW107:BW141,\"<=\"&$BW115,BW107:BW141,\">=\"&$BW115-2)*$J$21/3600),1),IFERROR((SUMIFS(CA107:CA141,BW107:BW141,\"<=\"&$BW115,BW107:BW141,\">=\"&$BW115-3)/1000)/(  $J$22*SUMIFS(BX107:BX141,BW107:BW141,\"<=\"&$BW115,BW107:BW141,\">=\"&$BW115-3)*$J$21/3600),1)) )","v":1},"",{"$f":"IF(CA115=\"\",1, MIN($CA115/SUM($CA107:$CA115),SUMIFS(CA107:CA141,BW107:BW141,\">=\"&$BW115-1,BW107:BW141,\"<=\"&$BW115)/SUM($CA107:$CA115),SUMIFS(CA107:CA141,BW107:BW141,\">=\"&$BW115-2,BW107:BW141,\"<=\"&$BW115)/SUM($CA107:$CA115),SUMIFS(CA107:CA141,BW107:BW141,\">=\"&$BW115-3,BW107:BW141,\"<=\"&$BW115)/SUM($CA107:$CA115)) )","v":1}]
[null,null,"PHEV Total Driving Range (Adjusted)",null,null,"miles",null,null,null,null,null,null,null,null,null,null,10,null,null,null,null,null,null,null,10,null,null,null,null,null,null,null,null,null,"CD Gasoline Consumption (gal/100mi) [0]",null,null,{"$f":"IFERROR(astm(0.55*AQ116+0.45*AR116,1),0)","v":0},null,null,null,"CD gasoline consumption rate (Rcda), adjusted (gal/100mi) [4]",{"$f":"IFERROR(astm(100*(SUMIF(AV107:AV141,\"<=\" & AQ130-1,AW107:AW141)+AQ129*SUMIF(AV107:AV141,\"=\" & AQ130-1,AW107:AW141))/AQ103,4),0)","v":0},{"$f":"IFERROR(astm(100*(SUMIF(BW107:BW141,\"<=\" & AR130-1,BX107:BX141)+AR129*SUMIF(BW107:BW141,\"=\" & AR130-1,BX107:BX141))/AR103,4),0)","v":0},null,null,null,10,"","","","",{"$f":"IFERROR(astm(  astm($W$142,3)*1000*(AZ116/AQ109),1),\"\")","v":""},"","","",{"$f":"IFERROR(astm(cityfuf(BB116),3)-astm(cityfuf(BB115),3),\"\")","v":""},"","","","","","",{"$f":"IFERROR(astm(mdiuf(BK116),3)-astm(mdiuf(BK115),3),\"\")","v":""},"","",{"$f":"IFERROR(astm(cityfufalt(BK116),3)-astm(cityfufalt(BK115),3),\"\")","v":""},"","","",{"$f":"IF(AZ116=\"\",1, MIN(IFERROR((AZ116/1000)/((AW116*$J$22)*$J$21/3600),1),IFERROR((SUMIFS(AZ107:AZ141,AV107:AV141,\"<=\"&$AV116,AV107:AV141,\">=\"&$AV116-1)/1000)/(  $J$22*SUMIFS(AW107:AW141,AV107:AV141,\"<=\"&$AV116,AV107:AV141,\">=\"&$AV116-1)*$J$21/3600),1),IFERROR((SUMIFS(AZ107:AZ141,AV107:AV141,\"<=\"&$AV116,AV107:AV141,\">=\"&$AV116-2)/1000)/(  $J$22*SUMIFS(AW107:AW141,AV107:AV141,\"<=\"&$AV116,AV107:AV141,\">=\"&$AV116-2)*$J$21/3600),1),IFERROR((SUMIFS(AZ107:AZ141,AV107:AV141,\"<=\"&$AV116,AV107:AV141,\">=\"&$AV116-3)/1000)/(  $J$22*SUMIFS(AW107:AW141,AV107:AV141,\"<=\"&$AV116,AV107:AV141,\">=\"&$AV116-3)*$J$21/3600),1)) )","v":1},"",{"$f":"IF(AZ116=\"\",1, MIN($AZ116/SUM($AZ107:$AZ116),SUMIFS(AZ107:AZ141,AV107:AV141,\">=\"&$AV116-1,AV107:AV141,\"<=\"&$AV116)/SUM($AZ107:$AZ116),SUMIFS(AZ107:AZ141,AV107:AV141,\">=\"&$AV116-2,AV107:AV141,\"<=\"&$AV116)/SUM($AZ107:$AZ116),SUMIFS(AZ107:AZ141,AV107:AV141,\">=\"&$AV116-3,AV107:AV141,\"<=\"&$AV116)/SUM($AZ107:$AZ116)) )","v":1},null,10,"","","","","","","","",{"$f":"IFERROR(astm(highwayfuf(CC116)-highwayfuf(CC115),3),\"\")","v":""},"","","","","","",{"$f":"IFERROR(astm(mdiuf(CL116)-mdiuf(CL115),3),\"\")","v":""},"","",{"$f":"IFERROR(astm(highwayfufalt(CL116)-highwayfufalt(CL115),3),\"\")","v":""},"","","",{"$f":"IF(CA116=\"\",1, MIN(IFERROR((CA116/1000)/((BX116*$J$22)*$J$21/3600),1),IFERROR((SUMIFS(CA107:CA141,BW107:BW141,\"<=\"&$BW116,BW107:BW141,\">=\"&$BW116-1)/1000)/(  $J$22*SUMIFS(BX107:BX141,BW107:BW141,\"<=\"&$BW116,BW107:BW141,\">=\"&$BW116-1)*$J$21/3600),1),IFERROR((SUMIFS(CA107:CA141,BW107:BW141,\"<=\"&$BW116,BW107:BW141,\">=\"&$BW116-2)/1000)/(  $J$22*SUMIFS(BX107:BX141,BW107:BW141,\"<=\"&$BW116,BW107:BW141,\">=\"&$BW116-2)*$J$21/3600),1),IFERROR((SUMIFS(CA107:CA141,BW107:BW141,\"<=\"&$BW116,BW107:BW141,\">=\"&$BW116-3)/1000)/(  $J$22*SUMIFS(BX107:BX141,BW107:BW141,\"<=\"&$BW116,BW107:BW141,\">=\"&$BW116-3)*$J$21/3600),1)) )","v":1},"",{"$f":"IF(CA116=\"\",1, MIN($CA116/SUM($CA107:$CA116),SUMIFS(CA107:CA141,BW107:BW141,\">=\"&$BW116-1,BW107:BW141,\"<=\"&$BW116)/SUM($CA107:$CA116),SUMIFS(CA107:CA141,BW107:BW141,\">=\"&$BW116-2,BW107:BW141,\"<=\"&$BW116)/SUM($CA107:$CA116),SUMIFS(CA107:CA141,BW107:BW141,\">=\"&$BW116-3,BW107:BW141,\"<=\"&$BW116)/SUM($CA107:$CA116)) )","v":1}]
[null,null,null,null,null,{"$f":"F21","v":{"$error":"#VALUE!"}},null,null,null,null,null,null,null,null,null,null,11,null,null,null,null,null,null,null,11,null,null,null,null,null,null,null,null,null,"Charge-Sustaining",null,null,"Combined",null,null,"NEW","CD fuel economy (Rcda), unadjusted (MPGe) [4]",{"$f":"astm(IFERROR(AQ102/ ( SUMIF(AV107:AV141,\"<=\" & (AQ130-1),BH107:BH141) + AQ129*SUMIF(AV107:AV141,\"=\" & (AQ130-1),BH107:BH141) ),0),4)","v":0},{"$f":"astm(IFERROR(AR102/ ( SUMIF(BW107:BW141,\"<=\" & (AR130-1),CI107:CI141) + AR129*SUMIF(BW107:BW141,\"=\" & (AR130-1),CI107:CI141) ),0),4)","v":0},null,null,null,11,"","","","",{"$f":"IFERROR(astm(  astm($W$142,3)*1000*(AZ117/AQ109),1),\"\")","v":""},"","","",{"$f":"IFERROR(astm(cityfuf(BB117),3)-astm(cityfuf(BB116),3),\"\")","v":""},"","","","","","",{"$f":"IFERROR(astm(mdiuf(BK117),3)-astm(mdiuf(BK116),3),\"\")","v":""},"","",{"$f":"IFERROR(astm(cityfufalt(BK117),3)-astm(cityfufalt(BK116),3),\"\")","v":""},"","","",{"$f":"IF(AZ117=\"\",1, MIN(IFERROR((AZ117/1000)/((AW117*$J$22)*$J$21/3600),1),IFERROR((SUMIFS(AZ107:AZ141,AV107:AV141,\"<=\"&$AV117,AV107:AV141,\">=\"&$AV117-1)/1000)/(  $J$22*SUMIFS(AW107:AW141,AV107:AV141,\"<=\"&$AV117,AV107:AV141,\">=\"&$AV117-1)*$J$21/3600),1),IFERROR((SUMIFS(AZ107:AZ141,AV107:AV141,\"<=\"&$AV117,AV107:AV141,\">=\"&$AV117-2)/1000)/(  $J$22*SUMIFS(AW107:AW141,AV107:AV141,\"<=\"&$AV117,AV107:AV141,\">=\"&$AV117-2)*$J$21/3600),1),IFERROR((SUMIFS(AZ107:AZ141,AV107:AV141,\"<=\"&$AV117,AV107:AV141,\">=\"&$AV117-3)/1000)/(  $J$22*SUMIFS(AW107:AW141,AV107:AV141,\"<=\"&$AV117,AV107:AV141,\">=\"&$AV117-3)*$J$21/3600),1)) )","v":1},"",{"$f":"IF(AZ117=\"\",1, MIN($AZ117/SUM($AZ107:$AZ117),SUMIFS(AZ107:AZ141,AV107:AV141,\">=\"&$AV117-1,AV107:AV141,\"<=\"&$AV117)/SUM($AZ107:$AZ117),SUMIFS(AZ107:AZ141,AV107:AV141,\">=\"&$AV117-2,AV107:AV141,\"<=\"&$AV117)/SUM($AZ107:$AZ117),SUMIFS(AZ107:AZ141,AV107:AV141,\">=\"&$AV117-3,AV107:AV141,\"<=\"&$AV117)/SUM($AZ107:$AZ117)) )","v":1},null,11,"","","","","","","","",{"$f":"IFERROR(astm(highwayfuf(CC117)-highwayfuf(CC116),3),\"\")","v":""},"","","","","","",{"$f":"IFERROR(astm(mdiuf(CL117)-mdiuf(CL116),3),\"\")","v":""},"","",{"$f":"IFERROR(astm(highwayfufalt(CL117)-highwayfufalt(CL116),3),\"\")","v":""},"","","",{"$f":"IF(CA117=\"\",1, MIN(IFERROR((CA117/1000)/((BX117*$J$22)*$J$21/3600),1),IFERROR((SUMIFS(CA107:CA141,BW107:BW141,\"<=\"&$BW117,BW107:BW141,\">=\"&$BW117-1)/1000)/(  $J$22*SUMIFS(BX107:BX141,BW107:BW141,\"<=\"&$BW117,BW107:BW141,\">=\"&$BW117-1)*$J$21/3600),1),IFERROR((SUMIFS(CA107:CA141,BW107:BW141,\"<=\"&$BW117,BW107:BW141,\">=\"&$BW117-2)/1000)/(  $J$22*SUMIFS(BX107:BX141,BW107:BW141,\"<=\"&$BW117,BW107:BW141,\">=\"&$BW117-2)*$J$21/3600),1),IFERROR((SUMIFS(CA107:CA141,BW107:BW141,\"<=\"&$BW117,BW107:BW141,\">=\"&$BW117-3)/1000)/(  $J$22*SUMIFS(BX107:BX141,BW107:BW141,\"<=\"&$BW117,BW107:BW141,\">=\"&$BW117-3)*$J$21/3600),1)) )","v":1},"",{"$f":"IF(CA117=\"\",1, MIN($CA117/SUM($CA107:$CA117),SUMIFS(CA107:CA141,BW107:BW141,\">=\"&$BW117-1,BW107:BW141,\"<=\"&$BW117)/SUM($CA107:$CA117),SUMIFS(CA107:CA141,BW107:BW141,\">=\"&$BW117-2,BW107:BW141,\"<=\"&$BW117)/SUM($CA107:$CA117),SUMIFS(CA107:CA141,BW107:BW141,\">=\"&$BW117-3,BW107:BW141,\"<=\"&$BW117)/SUM($CA107:$CA117)) )","v":1}]
[null,null,null,null,null,null,null,null,null,null,null,null,null,null,null,null,12,null,null,null,null,null,null,null,12,null,null,null,null,null,null,null,null,null,"CS Fuel Economy (MPG) [0]",{"$f":"IFERROR(astm(N108,4),0)","v":0},{"$f":"IFERROR(astm(O108,4),0)","v":0},{"$f":" IFERROR(astm(1/(0.55/AJ118+0.45/AK118),0),0)","v":0},null,null,"NEW","CD AC electricity consumption rate (Rcda), unadjusted  (kW-hr/100mi) [3]",{"$f":"astm(IFERROR((IFERROR( ( SUMIF(AV107:AV141,\"<=\" & (AQ130-1),BA107:BA141) + AQ129*SUMIF(AV107:AV141,\"=\" & (AQ130-1),BA107:BA141) ) / AQ102 *100 / 1000, 0)),0),3)","v":0},{"$f":"astm(IFERROR((IFERROR( ( SUMIF(BW107:BW141,\"<=\" & (AR130-1),CB107:CB141) + AR129*SUMIF(BW107:BW141,\"=\" & (AR130-1),CB107:CB141) ) / AR102 *100 / 1000, 0)),0),3)","v":0},null,null,null,12,"","","","",{"$f":"IFERROR(astm(  astm($W$142,3)*1000*(AZ118/AQ109),1),\"\")","v":""},"","","",{"$f":"IFERROR(astm(cityfuf(BB118),3)-astm(cityfuf(BB117),3),\"\")","v":""},"","","","","","",{"$f":"IFERROR(astm(mdiuf(BK118),3)-astm(mdiuf(BK117),3),\"\")","v":""},"","",{"$f":"IFERROR(astm(cityfufalt(BK118),3)-astm(cityfufalt(BK117),3),\"\")","v":""},"","","",{"$f":"IF(AZ118=\"\",1, MIN(IFERROR((AZ118/1000)/((AW118*$J$22)*$J$21/3600),1),IFERROR((SUMIFS(AZ107:AZ141,AV107:AV141,\"<=\"&$AV118,AV107:AV141,\">=\"&$AV118-1)/1000)/(  $J$22*SUMIFS(AW107:AW141,AV107:AV141,\"<=\"&$AV118,AV107:AV141,\">=\"&$AV118-1)*$J$21/3600),1),IFERROR((SUMIFS(AZ107:AZ141,AV107:AV141,\"<=\"&$AV118,AV107:AV141,\">=\"&$AV118-2)/1000)/(  $J$22*SUMIFS(AW107:AW141,AV107:AV141,\"<=\"&$AV118,AV107:AV141,\">=\"&$AV118-2)*$J$21/3600),1),IFERROR((SUMIFS(AZ107:AZ141,AV107:AV141,\"<=\"&$AV118,AV107:AV141,\">=\"&$AV118-3)/1000)/(  $J$22*SUMIFS(AW107:AW141,AV107:AV141,\"<=\"&$AV118,AV107:AV141,\">=\"&$AV118-3)*$J$21/3600),1)) )","v":1},"",{"$f":"IF(AZ118=\"\",1, MIN($AZ118/SUM($AZ107:$AZ118),SUMIFS(AZ107:AZ141,AV107:AV141,\">=\"&$AV118-1,AV107:AV141,\"<=\"&$AV118)/SUM($AZ107:$AZ118),SUMIFS(AZ107:AZ141,AV107:AV141,\">=\"&$AV118-2,AV107:AV141,\"<=\"&$AV118)/SUM($AZ107:$AZ118),SUMIFS(AZ107:AZ141,AV107:AV141,\">=\"&$AV118-3,AV107:AV141,\"<=\"&$AV118)/SUM($AZ107:$AZ118)) )","v":1},null,12,"","","","","","","","",{"$f":"IFERROR(astm(highwayfuf(CC118)-highwayfuf(CC117),3),\"\")","v":""},"","","","","","",{"$f":"IFERROR(astm(mdiuf(CL118)-mdiuf(CL117),3),\"\")","v":""},"","",{"$f":"IFERROR(astm(highwayfufalt(CL118)-highwayfufalt(CL117),3),\"\")","v":""},"","","",{"$f":"IF(CA118=\"\",1, MIN(IFERROR((CA118/1000)/((BX118*$J$22)*$J$21/3600),1),IFERROR((SUMIFS(CA107:CA141,BW107:BW141,\"<=\"&$BW118,BW107:BW141,\">=\"&$BW118-1)/1000)/(  $J$22*SUMIFS(BX107:BX141,BW107:BW141,\"<=\"&$BW118,BW107:BW141,\">=\"&$BW118-1)*$J$21/3600),1),IFERROR((SUMIFS(CA107:CA141,BW107:BW141,\"<=\"&$BW118,BW107:BW141,\">=\"&$BW118-2)/1000)/(  $J$22*SUMIFS(BX107:BX141,BW107:BW141,\"<=\"&$BW118,BW107:BW141,\">=\"&$BW118-2)*$J$21/3600),1),IFERROR((SUMIFS(CA107:CA141,BW107:BW141,\"<=\"&$BW118,BW107:BW141,\">=\"&$BW118-3)/1000)/(  $J$22*SUMIFS(BX107:BX141,BW107:BW141,\"<=\"&$BW118,BW107:BW141,\">=\"&$BW118-3)*$J$21/3600),1)) )","v":1},"",{"$f":"IF(CA118=\"\",1, MIN($CA118/SUM($CA107:$CA118),SUMIFS(CA107:CA141,BW107:BW141,\">=\"&$BW118-1,BW107:BW141,\"<=\"&$BW118)/SUM($CA107:$CA118),SUMIFS(CA107:CA141,BW107:BW141,\">=\"&$BW118-2,BW107:BW141,\"<=\"&$BW118)/SUM($CA107:$CA118),SUMIFS(CA107:CA141,BW107:BW141,\">=\"&$BW118-3,BW107:BW141,\"<=\"&$BW118)/SUM($CA107:$CA118)) )","v":1}]
[null,null,null,null,null,null,null,null,null,null,null,null,null,null,null,null,13,null,null,null,null,null,null,null,13,null,null,null,null,null,null,null,null,null,"CS Fuel Consumption (gal/100mi) [1]",{"$f":"IFERROR(astm(100/AJ118,1),0)","v":0},{"$f":"IFERROR(astm(100/AK118,1),0)","v":0},{"$f":"IFERROR(astm(100/AL118,1),0)","v":0},null,null,null,"GHG EMISSIONS VALUES","CITY","HIGHWAY",null,null,null,13,"","","","",{"$f":"IFERROR(astm(  astm($W$142,3)*1000*(AZ119/AQ109),1),\"\")","v":""},"","","",{"$f":"IFERROR(astm(cityfuf(BB119),3)-astm(cityfuf(BB118),3),\"\")","v":""},"","","","","","",{"$f":"IFERROR(astm(mdiuf(BK119),3)-astm(mdiuf(BK118),3),\"\")","v":""},"","",{"$f":"IFERROR(astm(cityfufalt(BK119),3)-astm(cityfufalt(BK118),3),\"\")","v":""},"","","",{"$f":"IF(AZ119=\"\",1, MIN(IFERROR((AZ119/1000)/((AW119*$J$22)*$J$21/3600),1),IFERROR((SUMIFS(AZ107:AZ141,AV107:AV141,\"<=\"&$AV119,AV107:AV141,\">=\"&$AV119-1)/1000)/(  $J$22*SUMIFS(AW107:AW141,AV107:AV141,\"<=\"&$AV119,AV107:AV141,\">=\"&$AV119-1)*$J$21/3600),1),IFERROR((SUMIFS(AZ107:AZ141,AV107:AV141,\"<=\"&$AV119,AV107:AV141,\">=\"&$AV119-2)/1000)/(  $J$22*SUMIFS(AW107:AW141,AV107:AV141,\"<=\"&$AV119,AV107:AV141,\">=\"&$AV119-2)*$J$21/3600),1),IFERROR((SUMIFS(AZ107:AZ141,AV107:AV141,\"<=\"&$AV119,AV107:AV141,\">=\"&$AV119-3)/1000)/(  $J$22*SUMIFS(AW107:AW141,AV107:AV141,\"<=\"&$AV119,AV107:AV141,\">=\"&$AV119-3)*$J$21/3600),1)) )","v":1},"",{"$f":"IF(AZ119=\"\",1, MIN($AZ119/SUM($AZ107:$AZ119),SUMIFS(AZ107:AZ141,AV107:AV141,\">=\"&$AV119-1,AV107:AV141,\"<=\"&$AV119)/SUM($AZ107:$AZ119),SUMIFS(AZ107:AZ141,AV107:AV141,\">=\"&$AV119-2,AV107:AV141,\"<=\"&$AV119)/SUM($AZ107:$AZ119),SUMIFS(AZ107:AZ141,AV107:AV141,\">=\"&$AV119-3,AV107:AV141,\"<=\"&$AV119)/SUM($AZ107:$AZ119)) )","v":1},null,13,"","","","","","","","",{"$f":"IFERROR(astm(highwayfuf(CC119)-highwayfuf(CC118),3),\"\")","v":""},"","","","","","",{"$f":"IFERROR(astm(mdiuf(CL119)-mdiuf(CL118),3),\"\")","v":""},"","",{"$f":"IFERROR(astm(highwayfufalt(CL119)-highwayfufalt(CL118),3),\"\")","v":""},"","","",{"$f":"IF(CA119=\"\",1, MIN(IFERROR((CA119/1000)/((BX119*$J$22)*$J$21/3600),1),IFERROR((SUMIFS(CA107:CA141,BW107:BW141,\"<=\"&$BW119,BW107:BW141,\">=\"&$BW119-1)/1000)/(  $J$22*SUMIFS(BX107:BX141,BW107:BW141,\"<=\"&$BW119,BW107:BW141,\">=\"&$BW119-1)*$J$21/3600),1),IFERROR((SUMIFS(CA107:CA141,BW107:BW141,\"<=\"&$BW119,BW107:BW141,\">=\"&$BW119-2)/1000)/(  $J$22*SUMIFS(BX107:BX141,BW107:BW141,\"<=\"&$BW119,BW107:BW141,\">=\"&$BW119-2)*$J$21/3600),1),IFERROR((SUMIFS(CA107:CA141,BW107:BW141,\"<=\"&$BW119,BW107:BW141,\">=\"&$BW119-3)/1000)/(  $J$22*SUMIFS(BX107:BX141,BW107:BW141,\"<=\"&$BW119,BW107:BW141,\">=\"&$BW119-3)*$J$21/3600),1)) )","v":1},"",{"$f":"IF(CA119=\"\",1, MIN($CA119/SUM($CA107:$CA119),SUMIFS(CA107:CA141,BW107:BW141,\">=\"&$BW119-1,BW107:BW141,\"<=\"&$BW119)/SUM($CA107:$CA119),SUMIFS(CA107:CA141,BW107:BW141,\">=\"&$BW119-2,BW107:BW141,\"<=\"&$BW119)/SUM($CA107:$CA119),SUMIFS(CA107:CA141,BW107:BW141,\">=\"&$BW119-3,BW107:BW141,\"<=\"&$BW119)/SUM($CA107:$CA119)) )","v":1}]
[null,null,null,null,null,null,null,null,null,null,null,null,null,null,null,null,14,null,null,null,null,null,null,null,14,null,null,null,null,null,null,null,null,null,"Composite CD/CS",null,null,"Combined",null,null,null,"CD CO2 emissions rate (Rcda), unadjusted (g/mi) [1]",{"$f":"IFERROR(astm((SUMIF(AV107:AV141,\"<=\" & AQ130-1,AX107:AX141)+AQ129*SUMIF(AV107:AV141,\"=\" & AQ130-1,AX107:AX141))/AQ102,1),0)","v":0},{"$f":"IFERROR(astm((SUMIF(BW107:BW141,\"<=\" & AR130-1,BY107:BY141)+AR129*SUMIF(BW107:BW141,\"=\" & AR130-1,BY107:BY141))/AR102,1),0)","v":0},null,null,null,14,"","","","",{"$f":"IFERROR(astm(  astm($W$142,3)*1000*(AZ120/AQ109),1),\"\")","v":""},"","","",{"$f":"IFERROR(astm(cityfuf(BB120),3)-astm(cityfuf(BB119),3),\"\")","v":""},"","","","","","",{"$f":"IFERROR(astm(mdiuf(BK120),3)-astm(mdiuf(BK119),3),\"\")","v":""},"","",{"$f":"IFERROR(astm(cityfufalt(BK120),3)-astm(cityfufalt(BK119),3),\"\")","v":""},"","","",{"$f":"IF(AZ120=\"\",1, MIN(IFERROR((AZ120/1000)/((AW120*$J$22)*$J$21/3600),1),IFERROR((SUMIFS(AZ107:AZ141,AV107:AV141,\"<=\"&$AV120,AV107:AV141,\">=\"&$AV120-1)/1000)/(  $J$22*SUMIFS(AW107:AW141,AV107:AV141,\"<=\"&$AV120,AV107:AV141,\">=\"&$AV120-1)*$J$21/3600),1),IFERROR((SUMIFS(AZ107:AZ141,AV107:AV141,\"<=\"&$AV120,AV107:AV141,\">=\"&$AV120-2)/1000)/(  $J$22*SUMIFS(AW107:AW141,AV107:AV141,\"<=\"&$AV120,AV107:AV141,\">=\"&$AV120-2)*$J$21/3600),1),IFERROR((SUMIFS(AZ107:AZ141,AV107:AV141,\"<=\"&$AV120,AV107:AV141,\">=\"&$AV120-3)/1000)/(  $J$22*SUMIFS(AW107:AW141,AV107:AV141,\"<=\"&$AV120,AV107:AV141,\">=\"&$AV120-3)*$J$21/3600),1)) )","v":1},"",{"$f":"IF(AZ120=\"\",1, MIN($AZ120/SUM($AZ107:$AZ120),SUMIFS(AZ107:AZ141,AV107:AV141,\">=\"&$AV120-1,AV107:AV141,\"<=\"&$AV120)/SUM($AZ107:$AZ120),SUMIFS(AZ107:AZ141,AV107:AV141,\">=\"&$AV120-2,AV107:AV141,\"<=\"&$AV120)/SUM($AZ107:$AZ120),SUMIFS(AZ107:AZ141,AV107:AV141,\">=\"&$AV120-3,AV107:AV141,\"<=\"&$AV120)/SUM($AZ107:$AZ120)) )","v":1},null,14,"","","","","","","","",{"$f":"IFERROR(astm(highwayfuf(CC120)-highwayfuf(CC119),3),\"\")","v":""},"","","","","","",{"$f":"IFERROR(astm(mdiuf(CL120)-mdiuf(CL119),3),\"\")","v":""},"","",{"$f":"IFERROR(astm(highwayfufalt(CL120)-highwayfufalt(CL119),3),\"\")","v":""},"","","",{"$f":"IF(CA120=\"\",1, MIN(IFERROR((CA120/1000)/((BX120*$J$22)*$J$21/3600),1),IFERROR((SUMIFS(CA107:CA141,BW107:BW141,\"<=\"&$BW120,BW107:BW141,\">=\"&$BW120-1)/1000)/(  $J$22*SUMIFS(BX107:BX141,BW107:BW141,\"<=\"&$BW120,BW107:BW141,\">=\"&$BW120-1)*$J$21/3600),1),IFERROR((SUMIFS(CA107:CA141,BW107:BW141,\"<=\"&$BW120,BW107:BW141,\">=\"&$BW120-2)/1000)/(  $J$22*SUMIFS(BX107:BX141,BW107:BW141,\"<=\"&$BW120,BW107:BW141,\">=\"&$BW120-2)*$J$21/3600),1),IFERROR((SUMIFS(CA107:CA141,BW107:BW141,\"<=\"&$BW120,BW107:BW141,\">=\"&$BW120-3)/1000)/(  $J$22*SUMIFS(BX107:BX141,BW107:BW141,\"<=\"&$BW120,BW107:BW141,\">=\"&$BW120-3)*$J$21/3600),1)) )","v":1},"",{"$f":"IF(CA120=\"\",1, MIN($CA120/SUM($CA107:$CA120),SUMIFS(CA107:CA141,BW107:BW141,\">=\"&$BW120-1,BW107:BW141,\"<=\"&$BW120)/SUM($CA107:$CA120),SUMIFS(CA107:CA141,BW107:BW141,\">=\"&$BW120-2,BW107:BW141,\"<=\"&$BW120)/SUM($CA107:$CA120),SUMIFS(CA107:CA141,BW107:BW141,\">=\"&$BW120-3,BW107:BW141,\"<=\"&$BW120)/SUM($CA107:$CA120)) )","v":1}]
[null,null,null,null,null,null,null,null,null,null,null,null,null,null,null,null,15,null,null,null,null,null,null,null,15,null,null,null,null,null,null,null,null,null,"Annual Fuel Cost ($/year) [0]",null,null,{"$f":"astm(    IFERROR(15000*astm(0.55*AQ142+0.45*AR142,3),0)/50,0) * 50","v":0},null,null,"NEW","CD CO2 emissions rate (Rcda), adjusted (g/mi) [1]",{"$f":"IFERROR(astm( IFERROR((SUMIF(AV107:AV141,\"<=\" & AQ130-1,AX107:AX141)+AQ129*SUMIF(AV107:AV141,\"=\" & AQ130-1,AX107:AX141))/AQ103,#VALUE!), 1),0)","v":0},{"$f":"IFERROR(astm( IFERROR((SUMIF(BW107:BW141,\"<=\" & AR130-1,BY107:BY141)+AR129*SUMIF(BW107:BW141,\"=\" & AR130-1,BY107:BY141))/AR103,#VALUE!), 1),0)","v":0},null,null,null,15,"","","","",{"$f":"IFERROR(astm(  astm($W$142,3)*1000*(AZ121/AQ109),1),\"\")","v":""},"","","",{"$f":"IFERROR(astm(cityfuf(BB121),3)-astm(cityfuf(BB120),3),\"\")","v":""},"","","","","","",{"$f":"IFERROR(astm(mdiuf(BK121),3)-astm(mdiuf(BK120),3),\"\")","v":""},"","",{"$f":"IFERROR(astm(cityfufalt(BK121),3)-astm(cityfufalt(BK120),3),\"\")","v":""},"","","",{"$f":"IF(AZ121=\"\",1, MIN(IFERROR((AZ121/1000)/((AW121*$J$22)*$J$21/3600),1),IFERROR((SUMIFS(AZ107:AZ141,AV107:AV141,\"<=\"&$AV121,AV107:AV141,\">=\"&$AV121-1)/1000)/(  $J$22*SUMIFS(AW107:AW141,AV107:AV141,\"<=\"&$AV121,AV107:AV141,\">=\"&$AV121-1)*$J$21/3600),1),IFERROR((SUMIFS(AZ107:AZ141,AV107:AV141,\"<=\"&$AV121,AV107:AV141,\">=\"&$AV121-2)/1000)/(  $J$22*SUMIFS(AW107:AW141,AV107:AV141,\"<=\"&$AV121,AV107:AV141,\">=\"&$AV121-2)*$J$21/3600),1),IFERROR((SUMIFS(AZ107:AZ141,AV107:AV141,\"<=\"&$AV121,AV107:AV141,\">=\"&$AV121-3)/1000)/(  $J$22*SUMIFS(AW107:AW141,AV107:AV141,\"<=\"&$AV121,AV107:AV141,\">=\"&$AV121-3)*$J$21/3600),1)) )","v":1},"",{"$f":"IF(AZ121=\"\",1, MIN($AZ121/SUM($AZ107:$AZ121),SUMIFS(AZ107:AZ141,AV107:AV141,\">=\"&$AV121-1,AV107:AV141,\"<=\"&$AV121)/SUM($AZ107:$AZ121),SUMIFS(AZ107:AZ141,AV107:AV141,\">=\"&$AV121-2,AV107:AV141,\"<=\"&$AV121)/SUM($AZ107:$AZ121),SUMIFS(AZ107:AZ141,AV107:AV141,\">=\"&$AV121-3,AV107:AV141,\"<=\"&$AV121)/SUM($AZ107:$AZ121)) )","v":1},null,15,"","","","","","","","",{"$f":"IFERROR(astm(highwayfuf(CC121)-highwayfuf(CC120),3),\"\")","v":""},"","","","","","",{"$f":"IFERROR(astm(mdiuf(CL121)-mdiuf(CL120),3),\"\")","v":""},"","",{"$f":"IFERROR(astm(highwayfufalt(CL121)-highwayfufalt(CL120),3),\"\")","v":""},"","","",{"$f":"IF(CA121=\"\",1, MIN(IFERROR((CA121/1000)/((BX121*$J$22)*$J$21/3600),1),IFERROR((SUMIFS(CA107:CA141,BW107:BW141,\"<=\"&$BW121,BW107:BW141,\">=\"&$BW121-1)/1000)/(  $J$22*SUMIFS(BX107:BX141,BW107:BW141,\"<=\"&$BW121,BW107:BW141,\">=\"&$BW121-1)*$J$21/3600),1),IFERROR((SUMIFS(CA107:CA141,BW107:BW141,\"<=\"&$BW121,BW107:BW141,\">=\"&$BW121-2)/1000)/(  $J$22*SUMIFS(BX107:BX141,BW107:BW141,\"<=\"&$BW121,BW107:BW141,\">=\"&$BW121-2)*$J$21/3600),1),IFERROR((SUMIFS(CA107:CA141,BW107:BW141,\"<=\"&$BW121,BW107:BW141,\">=\"&$BW121-3)/1000)/(  $J$22*SUMIFS(BX107:BX141,BW107:BW141,\"<=\"&$BW121,BW107:BW141,\">=\"&$BW121-3)*$J$21/3600),1)) )","v":1},"",{"$f":"IF(CA121=\"\",1, MIN($CA121/SUM($CA107:$CA121),SUMIFS(CA107:CA141,BW107:BW141,\">=\"&$BW121-1,BW107:BW141,\"<=\"&$BW121)/SUM($CA107:$CA121),SUMIFS(CA107:CA141,BW107:BW141,\">=\"&$BW121-2,BW107:BW141,\"<=\"&$BW121)/SUM($CA107:$CA121),SUMIFS(CA107:CA141,BW107:BW141,\">=\"&$BW121-3,BW107:BW141,\"<=\"&$BW121)/SUM($CA107:$CA121)) )","v":1}]
[null,null,null,null,null,null,null,null,null,null,null,null,null,null,null,null,16,null,null,null,null,null,null,null,16,null,null,null,null,null,null,null,null,null,"5-Year Fuel Savings Value ($/5 years) [0]",null,null,{"$f":"$F$38-5*AL121","v":{"$error":"#N/A"}},null,null,"NEW","CD utilitized CO2 (MDIUF, Rcdc), adjusted (g/mi) [1]",{"$f":"astm(SUMIF(AV107:AV141,\"<=\" & (AQ130),BM107:BM141),1)","v":0},{"$f":"astm(SUMIF(BW107:BW141,\"<=\" & (AR130),CN107:CN141),1)","v":0},null,null,null,16,"","","","",{"$f":"IFERROR(astm(  astm($W$142,3)*1000*(AZ122/AQ109),1),\"\")","v":""},"","","",{"$f":"IFERROR(astm(cityfuf(BB122),3)-astm(cityfuf(BB121),3),\"\")","v":""},"","","","","","",{"$f":"IFERROR(astm(mdiuf(BK122),3)-astm(mdiuf(BK121),3),\"\")","v":""},"","",{"$f":"IFERROR(astm(cityfufalt(BK122),3)-astm(cityfufalt(BK121),3),\"\")","v":""},"","","",{"$f":"IF(AZ122=\"\",1, MIN(IFERROR((AZ122/1000)/((AW122*$J$22)*$J$21/3600),1),IFERROR((SUMIFS(AZ107:AZ141,AV107:AV141,\"<=\"&$AV122,AV107:AV141,\">=\"&$AV122-1)/1000)/(  $J$22*SUMIFS(AW107:AW141,AV107:AV141,\"<=\"&$AV122,AV107:AV141,\">=\"&$AV122-1)*$J$21/3600),1),IFERROR((SUMIFS(AZ107:AZ141,AV107:AV141,\"<=\"&$AV122,AV107:AV141,\">=\"&$AV122-2)/1000)/(  $J$22*SUMIFS(AW107:AW141,AV107:AV141,\"<=\"&$AV122,AV107:AV141,\">=\"&$AV122-2)*$J$21/3600),1),IFERROR((SUMIFS(AZ107:AZ141,AV107:AV141,\"<=\"&$AV122,AV107:AV141,\">=\"&$AV122-3)/1000)/(  $J$22*SUMIFS(AW107:AW141,AV107:AV141,\"<=\"&$AV122,AV107:AV141,\">=\"&$AV122-3)*$J$21/3600),1)) )","v":1},"",{"$f":"IF(AZ122=\"\",1, MIN($AZ122/SUM($AZ107:$AZ122),SUMIFS(AZ107:AZ141,AV107:AV141,\">=\"&$AV122-1,AV107:AV141,\"<=\"&$AV122)/SUM($AZ107:$AZ122),SUMIFS(AZ107:AZ141,AV107:AV141,\">=\"&$AV122-2,AV107:AV141,\"<=\"&$AV122)/SUM($AZ107:$AZ122),SUMIFS(AZ107:AZ141,AV107:AV141,\">=\"&$AV122-3,AV107:AV141,\"<=\"&$AV122)/SUM($AZ107:$AZ122)) )","v":1},null,16,"","","","","","","","",{"$f":"IFERROR(astm(highwayfuf(CC122)-highwayfuf(CC121),3),\"\")","v":""},"","","","","","",{"$f":"IFERROR(astm(mdiuf(CL122)-mdiuf(CL121),3),\"\")","v":""},"","",{"$f":"IFERROR(astm(highwayfufalt(CL122)-highwayfufalt(CL121),3),\"\")","v":""},"","","",{"$f":"IF(CA122=\"\",1, MIN(IFERROR((CA122/1000)/((BX122*$J$22)*$J$21/3600),1),IFERROR((SUMIFS(CA107:CA141,BW107:BW141,\"<=\"&$BW122,BW107:BW141,\">=\"&$BW122-1)/1000)/(  $J$22*SUMIFS(BX107:BX141,BW107:BW141,\"<=\"&$BW122,BW107:BW141,\">=\"&$BW122-1)*$J$21/3600),1),IFERROR((SUMIFS(CA107:CA141,BW107:BW141,\"<=\"&$BW122,BW107:BW141,\">=\"&$BW122-2)/1000)/(  $J$22*SUMIFS(BX107:BX141,BW107:BW141,\"<=\"&$BW122,BW107:BW141,\">=\"&$BW122-2)*$J$21/3600),1),IFERROR((SUMIFS(CA107:CA141,BW107:BW141,\"<=\"&$BW122,BW107:BW141,\">=\"&$BW122-3)/1000)/(  $J$22*SUMIFS(BX107:BX141,BW107:BW141,\"<=\"&$BW122,BW107:BW141,\">=\"&$BW122-3)*$J$21/3600),1)) )","v":1},"",{"$f":"IF(CA122=\"\",1, MIN($CA122/SUM($CA107:$CA122),SUMIFS(CA107:CA141,BW107:BW141,\">=\"&$BW122-1,BW107:BW141,\"<=\"&$BW122)/SUM($CA107:$CA122),SUMIFS(CA107:CA141,BW107:BW141,\">=\"&$BW122-2,BW107:BW141,\"<=\"&$BW122)/SUM($CA107:$CA122),SUMIFS(CA107:CA141,BW107:BW141,\">=\"&$BW122-3,BW107:BW141,\"<=\"&$BW122)/SUM($CA107:$CA122)) )","v":1}]
[null,null,null,null,null,null,null,null,null,null,null,null,null,null,null,null,17,null,null,null,null,null,null,null,17,null,null,null,null,null,null,null,null,null,"Composite CO2 (g/mi) [0]",null,null,{"$f":"astm(0.55*AQ144+0.45*AR144,0)","v":0},null,null,null,"CD utilitized CREE (55/45 FUF, Rcdc), unadjusted (g/mi) [1]",{"$f":"astm(SUMIF(AV107:AV141,\"<=\" & AQ130,BF107:BF141),1)","v":0},{"$f":"astm(SUMIF(BW107:BW141,\"<=\" & AR130,CG107:CG141),1)","v":0},null,null,null,17,"","","","",{"$f":"IFERROR(astm(  astm($W$142,3)*1000*(AZ123/AQ109),1),\"\")","v":""},"","","",{"$f":"IFERROR(astm(cityfuf(BB123),3)-astm(cityfuf(BB122),3),\"\")","v":""},"","","","","","",{"$f":"IFERROR(astm(mdiuf(BK123),3)-astm(mdiuf(BK122),3),\"\")","v":""},"","",{"$f":"IFERROR(astm(cityfufalt(BK123),3)-astm(cityfufalt(BK122),3),\"\")","v":""},"","","",{"$f":"IF(AZ123=\"\",1, MIN(IFERROR((AZ123/1000)/((AW123*$J$22)*$J$21/3600),1),IFERROR((SUMIFS(AZ107:AZ141,AV107:AV141,\"<=\"&$AV123,AV107:AV141,\">=\"&$AV123-1)/1000)/(  $J$22*SUMIFS(AW107:AW141,AV107:AV141,\"<=\"&$AV123,AV107:AV141,\">=\"&$AV123-1)*$J$21/3600),1),IFERROR((SUMIFS(AZ107:AZ141,AV107:AV141,\"<=\"&$AV123,AV107:AV141,\">=\"&$AV123-2)/1000)/(  $J$22*SUMIFS(AW107:AW141,AV107:AV141,\"<=\"&$AV123,AV107:AV141,\">=\"&$AV123-2)*$J$21/3600),1),IFERROR((SUMIFS(AZ107:AZ141,AV107:AV141,\"<=\"&$AV123,AV107:AV141,\">=\"&$AV123-3)/1000)/(  $J$22*SUMIFS(AW107:AW141,AV107:AV141,\"<=\"&$AV123,AV107:AV141,\">=\"&$AV123-3)*$J$21/3600),1)) )","v":1},"",{"$f":"IF(AZ123=\"\",1, MIN($AZ123/SUM($AZ107:$AZ123),SUMIFS(AZ107:AZ141,AV107:AV141,\">=\"&$AV123-1,AV107:AV141,\"<=\"&$AV123)/SUM($AZ107:$AZ123),SUMIFS(AZ107:AZ141,AV107:AV141,\">=\"&$AV123-2,AV107:AV141,\"<=\"&$AV123)/SUM($AZ107:$AZ123),SUMIFS(AZ107:AZ141,AV107:AV141,\">=\"&$AV123-3,AV107:AV141,\"<=\"&$AV123)/SUM($AZ107:$AZ123)) )","v":1},null,17,"","","","","","","","",{"$f":"IFERROR(astm(highwayfuf(CC123)-highwayfuf(CC122),3),\"\")","v":""},"","","","","","",{"$f":"IFERROR(astm(mdiuf(CL123)-mdiuf(CL122),3),\"\")","v":""},"","",{"$f":"IFERROR(astm(highwayfufalt(CL123)-highwayfufalt(CL122),3),\"\")","v":""},"","","",{"$f":"IF(CA123=\"\",1, MIN(IFERROR((CA123/1000)/((BX123*$J$22)*$J$21/3600),1),IFERROR((SUMIFS(CA107:CA141,BW107:BW141,\"<=\"&$BW123,BW107:BW141,\">=\"&$BW123-1)/1000)/(  $J$22*SUMIFS(BX107:BX141,BW107:BW141,\"<=\"&$BW123,BW107:BW141,\">=\"&$BW123-1)*$J$21/3600),1),IFERROR((SUMIFS(CA107:CA141,BW107:BW141,\"<=\"&$BW123,BW107:BW141,\">=\"&$BW123-2)/1000)/(  $J$22*SUMIFS(BX107:BX141,BW107:BW141,\"<=\"&$BW123,BW107:BW141,\">=\"&$BW123-2)*$J$21/3600),1),IFERROR((SUMIFS(CA107:CA141,BW107:BW141,\"<=\"&$BW123,BW107:BW141,\">=\"&$BW123-3)/1000)/(  $J$22*SUMIFS(BX107:BX141,BW107:BW141,\"<=\"&$BW123,BW107:BW141,\">=\"&$BW123-3)*$J$21/3600),1)) )","v":1},"",{"$f":"IF(CA123=\"\",1, MIN($CA123/SUM($CA107:$CA123),SUMIFS(CA107:CA141,BW107:BW141,\">=\"&$BW123-1,BW107:BW141,\"<=\"&$BW123)/SUM($CA107:$CA123),SUMIFS(CA107:CA141,BW107:BW141,\">=\"&$BW123-2,BW107:BW141,\"<=\"&$BW123)/SUM($CA107:$CA123),SUMIFS(CA107:CA141,BW107:BW141,\">=\"&$BW123-3,BW107:BW141,\"<=\"&$BW123)/SUM($CA107:$CA123)) )","v":1}]
[null,null,null,null,null,null,null,null,null,null,null,null,null,null,null,null,18,null,null,null,null,null,null,null,18,null,null,null,null,null,null,null,null,null,"Composite Fuel Economy (MPG) [0]",null,null,{"$f":"IFERROR(astm(1/(0.55/AQ145+0.45/AR145),0),0)","v":0},null,null,"NEW","CD utilitized CREE (43/57 FUF, Rcdc), adjusted (g/mi) [1]",{"$f":"astm(SUMIF(AV107:AV141,\"<=\" & (AQ130),BQ107:BQ141),1)","v":0},{"$f":"astm(SUMIF(BW107:BW141,\"<=\" & (AR130),CR107:CR141),1)","v":0},null,null,null,18,"","","","",{"$f":"IFERROR(astm(  astm($W$142,3)*1000*(AZ124/AQ109),1),\"\")","v":""},"","","",{"$f":"IFERROR(astm(cityfuf(BB124),3)-astm(cityfuf(BB123),3),\"\")","v":""},"","","","","","",{"$f":"IFERROR(astm(mdiuf(BK124),3)-astm(mdiuf(BK123),3),\"\")","v":""},"","",{"$f":"IFERROR(astm(cityfufalt(BK124),3)-astm(cityfufalt(BK123),3),\"\")","v":""},"","","",{"$f":"IF(AZ124=\"\",1, MIN(IFERROR((AZ124/1000)/((AW124*$J$22)*$J$21/3600),1),IFERROR((SUMIFS(AZ107:AZ141,AV107:AV141,\"<=\"&$AV124,AV107:AV141,\">=\"&$AV124-1)/1000)/(  $J$22*SUMIFS(AW107:AW141,AV107:AV141,\"<=\"&$AV124,AV107:AV141,\">=\"&$AV124-1)*$J$21/3600),1),IFERROR((SUMIFS(AZ107:AZ141,AV107:AV141,\"<=\"&$AV124,AV107:AV141,\">=\"&$AV124-2)/1000)/(  $J$22*SUMIFS(AW107:AW141,AV107:AV141,\"<=\"&$AV124,AV107:AV141,\">=\"&$AV124-2)*$J$21/3600),1),IFERROR((SUMIFS(AZ107:AZ141,AV107:AV141,\"<=\"&$AV124,AV107:AV141,\">=\"&$AV124-3)/1000)/(  $J$22*SUMIFS(AW107:AW141,AV107:AV141,\"<=\"&$AV124,AV107:AV141,\">=\"&$AV124-3)*$J$21/3600),1)) )","v":1},"",{"$f":"IF(AZ124=\"\",1, MIN($AZ124/SUM($AZ107:$AZ124),SUMIFS(AZ107:AZ141,AV107:AV141,\">=\"&$AV124-1,AV107:AV141,\"<=\"&$AV124)/SUM($AZ107:$AZ124),SUMIFS(AZ107:AZ141,AV107:AV141,\">=\"&$AV124-2,AV107:AV141,\"<=\"&$AV124)/SUM($AZ107:$AZ124),SUMIFS(AZ107:AZ141,AV107:AV141,\">=\"&$AV124-3,AV107:AV141,\"<=\"&$AV124)/SUM($AZ107:$AZ124)) )","v":1},null,18,"","","","","","","","",{"$f":"IFERROR(astm(highwayfuf(CC124)-highwayfuf(CC123),3),\"\")","v":""},"","","","","","",{"$f":"IFERROR(astm(mdiuf(CL124)-mdiuf(CL123),3),\"\")","v":""},"","",{"$f":"IFERROR(astm(highwayfufalt(CL124)-highwayfufalt(CL123),3),\"\")","v":""},"","","",{"$f":"IF(CA124=\"\",1, MIN(IFERROR((CA124/1000)/((BX124*$J$22)*$J$21/3600),1),IFERROR((SUMIFS(CA107:CA141,BW107:BW141,\"<=\"&$BW124,BW107:BW141,\">=\"&$BW124-1)/1000)/(  $J$22*SUMIFS(BX107:BX141,BW107:BW141,\"<=\"&$BW124,BW107:BW141,\">=\"&$BW124-1)*$J$21/3600),1),IFERROR((SUMIFS(CA107:CA141,BW107:BW141,\"<=\"&$BW124,BW107:BW141,\">=\"&$BW124-2)/1000)/(  $J$22*SUMIFS(BX107:BX141,BW107:BW141,\"<=\"&$BW124,BW107:BW141,\">=\"&$BW124-2)*$J$21/3600),1),IFERROR((SUMIFS(CA107:CA141,BW107:BW141,\"<=\"&$BW124,BW107:BW141,\">=\"&$BW124-3)/1000)/(  $J$22*SUMIFS(BX107:BX141,BW107:BW141,\"<=\"&$BW124,BW107:BW141,\">=\"&$BW124-3)*$J$21/3600),1)) )","v":1},"",{"$f":"IF(CA124=\"\",1, MIN($CA124/SUM($CA107:$CA124),SUMIFS(CA107:CA141,BW107:BW141,\">=\"&$BW124-1,BW107:BW141,\"<=\"&$BW124)/SUM($CA107:$CA124),SUMIFS(CA107:CA141,BW107:BW141,\">=\"&$BW124-2,BW107:BW141,\"<=\"&$BW124)/SUM($CA107:$CA124),SUMIFS(CA107:CA141,BW107:BW141,\">=\"&$BW124-3,BW107:BW141,\"<=\"&$BW124)/SUM($CA107:$CA124)) )","v":1}]
[null,null,null,null,null,null,null,null,null,null,null,null,null,null,null,null,19,null,null,null,null,null,null,null,19,null,null,null,null,null,null,null,null,null,"HOV Lane Values","City","Highway","Combined",null,null,null,"UTILITY FACTORS & OTHER METRICS","CITY","HIGHWAY",null,null,null,19,"","","","",{"$f":"IFERROR(astm(  astm($W$142,3)*1000*(AZ125/AQ109),1),\"\")","v":""},"","","",{"$f":"IFERROR(astm(cityfuf(BB125),3)-astm(cityfuf(BB124),3),\"\")","v":""},"","","","","","",{"$f":"IFERROR(astm(mdiuf(BK125),3)-astm(mdiuf(BK124),3),\"\")","v":""},"","",{"$f":"IFERROR(astm(cityfufalt(BK125),3)-astm(cityfufalt(BK124),3),\"\")","v":""},"","","",{"$f":"IF(AZ125=\"\",1, MIN(IFERROR((AZ125/1000)/((AW125*$J$22)*$J$21/3600),1),IFERROR((SUMIFS(AZ107:AZ141,AV107:AV141,\"<=\"&$AV125,AV107:AV141,\">=\"&$AV125-1)/1000)/(  $J$22*SUMIFS(AW107:AW141,AV107:AV141,\"<=\"&$AV125,AV107:AV141,\">=\"&$AV125-1)*$J$21/3600),1),IFERROR((SUMIFS(AZ107:AZ141,AV107:AV141,\"<=\"&$AV125,AV107:AV141,\">=\"&$AV125-2)/1000)/(  $J$22*SUMIFS(AW107:AW141,AV107:AV141,\"<=\"&$AV125,AV107:AV141,\">=\"&$AV125-2)*$J$21/3600),1),IFERROR((SUMIFS(AZ107:AZ141,AV107:AV141,\"<=\"&$AV125,AV107:AV141,\">=\"&$AV125-3)/1000)/(  $J$22*SUMIFS(AW107:AW141,AV107:AV141,\"<=\"&$AV125,AV107:AV141,\">=\"&$AV125-3)*$J$21/3600),1)) )","v":1},"",{"$f":"IF(AZ125=\"\",1, MIN($AZ125/SUM($AZ107:$AZ125),SUMIFS(AZ107:AZ141,AV107:AV141,\">=\"&$AV125-1,AV107:AV141,\"<=\"&$AV125)/SUM($AZ107:$AZ125),SUMIFS(AZ107:AZ141,AV107:AV141,\">=\"&$AV125-2,AV107:AV141,\"<=\"&$AV125)/SUM($AZ107:$AZ125),SUMIFS(AZ107:AZ141,AV107:AV141,\">=\"&$AV125-3,AV107:AV141,\"<=\"&$AV125)/SUM($AZ107:$AZ125)) )","v":1},null,19,"","","","","","","","",{"$f":"IFERROR(astm(highwayfuf(CC125)-highwayfuf(CC124),3),\"\")","v":""},"","","","","","",{"$f":"IFERROR(astm(mdiuf(CL125)-mdiuf(CL124),3),\"\")","v":""},"","",{"$f":"IFERROR(astm(highwayfufalt(CL125)-highwayfufalt(CL124),3),\"\")","v":""},"","","",{"$f":"IF(CA125=\"\",1, MIN(IFERROR((CA125/1000)/((BX125*$J$22)*$J$21/3600),1),IFERROR((SUMIFS(CA107:CA141,BW107:BW141,\"<=\"&$BW125,BW107:BW141,\">=\"&$BW125-1)/1000)/(  $J$22*SUMIFS(BX107:BX141,BW107:BW141,\"<=\"&$BW125,BW107:BW141,\">=\"&$BW125-1)*$J$21/3600),1),IFERROR((SUMIFS(CA107:CA141,BW107:BW141,\"<=\"&$BW125,BW107:BW141,\">=\"&$BW125-2)/1000)/(  $J$22*SUMIFS(BX107:BX141,BW107:BW141,\"<=\"&$BW125,BW107:BW141,\">=\"&$BW125-2)*$J$21/3600),1),IFERROR((SUMIFS(CA107:CA141,BW107:BW141,\"<=\"&$BW125,BW107:BW141,\">=\"&$BW125-3)/1000)/(  $J$22*SUMIFS(BX107:BX141,BW107:BW141,\"<=\"&$BW125,BW107:BW141,\">=\"&$BW125-3)*$J$21/3600),1)) )","v":1},"",{"$f":"IF(CA125=\"\",1, MIN($CA125/SUM($CA107:$CA125),SUMIFS(CA107:CA141,BW107:BW141,\">=\"&$BW125-1,BW107:BW141,\"<=\"&$BW125)/SUM($CA107:$CA125),SUMIFS(CA107:CA141,BW107:BW141,\">=\"&$BW125-2,BW107:BW141,\"<=\"&$BW125)/SUM($CA107:$CA125),SUMIFS(CA107:CA141,BW107:BW141,\">=\"&$BW125-3,BW107:BW141,\"<=\"&$BW125)/SUM($CA107:$CA125)) )","v":1}]
[null,null,null,null,null,null,null,null,null,null,null,null,null,null,null,null,20,null,null,null,null,null,null,null,20,null,null,null,null,null,null,null,null,null,"MDIUF based on unadjusted Rcda [3]",{"$f":"IFERROR(astm(mdiuf(AQ102),3),0)","v":0},{"$f":"IFERROR(astm(mdiuf(AR102),3),0)","v":0},null,null,null,null,"CD 55/45 Fleet Utility Factor (FUF) for Rcdc [3]",{"$f":"astm(SUMIF(AV107:AV141,\"<=\"&AQ130,BE107:BE141),3)","v":0},{"$f":"astm(SUMIF(BW107:BW141,\"<=\"&AR130,CF107:CF141),3)","v":0},null,null,null,20,"","","","",{"$f":"IFERROR(astm(  astm($W$142,3)*1000*(AZ126/AQ109),1),\"\")","v":""},"","","",{"$f":"IFERROR(astm(cityfuf(BB126),3)-astm(cityfuf(BB125),3),\"\")","v":""},"","","","","","",{"$f":"IFERROR(astm(mdiuf(BK126),3)-astm(mdiuf(BK125),3),\"\")","v":""},"","",{"$f":"IFERROR(astm(cityfufalt(BK126),3)-astm(cityfufalt(BK125),3),\"\")","v":""},"","","",{"$f":"IF(AZ126=\"\",1, MIN(IFERROR((AZ126/1000)/((AW126*$J$22)*$J$21/3600),1),IFERROR((SUMIFS(AZ107:AZ141,AV107:AV141,\"<=\"&$AV126,AV107:AV141,\">=\"&$AV126-1)/1000)/(  $J$22*SUMIFS(AW107:AW141,AV107:AV141,\"<=\"&$AV126,AV107:AV141,\">=\"&$AV126-1)*$J$21/3600),1),IFERROR((SUMIFS(AZ107:AZ141,AV107:AV141,\"<=\"&$AV126,AV107:AV141,\">=\"&$AV126-2)/1000)/(  $J$22*SUMIFS(AW107:AW141,AV107:AV141,\"<=\"&$AV126,AV107:AV141,\">=\"&$AV126-2)*$J$21/3600),1),IFERROR((SUMIFS(AZ107:AZ141,AV107:AV141,\"<=\"&$AV126,AV107:AV141,\">=\"&$AV126-3)/1000)/(  $J$22*SUMIFS(AW107:AW141,AV107:AV141,\"<=\"&$AV126,AV107:AV141,\">=\"&$AV126-3)*$J$21/3600),1)) )","v":1},"",{"$f":"IF(AZ126=\"\",1, MIN($AZ126/SUM($AZ107:$AZ126),SUMIFS(AZ107:AZ141,AV107:AV141,\">=\"&$AV126-1,AV107:AV141,\"<=\"&$AV126)/SUM($AZ107:$AZ126),SUMIFS(AZ107:AZ141,AV107:AV141,\">=\"&$AV126-2,AV107:AV141,\"<=\"&$AV126)/SUM($AZ107:$AZ126),SUMIFS(AZ107:AZ141,AV107:AV141,\">=\"&$AV126-3,AV107:AV141,\"<=\"&$AV126)/SUM($AZ107:$AZ126)) )","v":1},null,20,"","","","","","","","",{"$f":"IFERROR(astm(highwayfuf(CC126)-highwayfuf(CC125),3),\"\")","v":""},"","","","","","",{"$f":"IFERROR(astm(mdiuf(CL126)-mdiuf(CL125),3),\"\")","v":""},"","",{"$f":"IFERROR(astm(highwayfufalt(CL126)-highwayfufalt(CL125),3),\"\")","v":""},"","","",{"$f":"IF(CA126=\"\",1, MIN(IFERROR((CA126/1000)/((BX126*$J$22)*$J$21/3600),1),IFERROR((SUMIFS(CA107:CA141,BW107:BW141,\"<=\"&$BW126,BW107:BW141,\">=\"&$BW126-1)/1000)/(  $J$22*SUMIFS(BX107:BX141,BW107:BW141,\"<=\"&$BW126,BW107:BW141,\">=\"&$BW126-1)*$J$21/3600),1),IFERROR((SUMIFS(CA107:CA141,BW107:BW141,\"<=\"&$BW126,BW107:BW141,\">=\"&$BW126-2)/1000)/(  $J$22*SUMIFS(BX107:BX141,BW107:BW141,\"<=\"&$BW126,BW107:BW141,\">=\"&$BW126-2)*$J$21/3600),1),IFERROR((SUMIFS(CA107:CA141,BW107:BW141,\"<=\"&$BW126,BW107:BW141,\">=\"&$BW126-3)/1000)/(  $J$22*SUMIFS(BX107:BX141,BW107:BW141,\"<=\"&$BW126,BW107:BW141,\">=\"&$BW126-3)*$J$21/3600),1)) )","v":1},"",{"$f":"IF(CA126=\"\",1, MIN($CA126/SUM($CA107:$CA126),SUMIFS(CA107:CA141,BW107:BW141,\">=\"&$BW126-1,BW107:BW141,\"<=\"&$BW126)/SUM($CA107:$CA126),SUMIFS(CA107:CA141,BW107:BW141,\">=\"&$BW126-2,BW107:BW141,\"<=\"&$BW126)/SUM($CA107:$CA126),SUMIFS(CA107:CA141,BW107:BW141,\">=\"&$BW126-3,BW107:BW141,\"<=\"&$BW126)/SUM($CA107:$CA126)) )","v":1}]
[null,null,null,null,null,null,null,null,null,null,null,null,null,null,null,null,21,null,null,null,null,null,null,null,21,null,null,null,null,null,null,null,null,null,"Composite CD/CS Fuel Economy (MPGe) [4]",{"$f":"IFERROR(astm(1/(AJ126/(AQ102/     AQ110  )+(1-AJ126)/N107),4),0)","v":0},{"$f":"IFERROR(astm(1/(AK126/(AR102/     AR110  )+(1-AK126)/O107),4),0)","v":0},{"$f":"IFERROR(astm(1/(0.55/AJ127+0.45/AK127),4),0)","v":0},null,null,null,"MDIUF based on Rcda, adjusted [3]",{"$f":"astm(mdiuf(AQ103),3)","v":0},{"$f":"astm(mdiuf(AR103),3)","v":0},null,null,null,21,"","","","",{"$f":"IFERROR(astm(  astm($W$142,3)*1000*(AZ127/AQ109),1),\"\")","v":""},"","","",{"$f":"IFERROR(astm(cityfuf(BB127),3)-astm(cityfuf(BB126),3),\"\")","v":""},"","","","","","",{"$f":"IFERROR(astm(mdiuf(BK127),3)-astm(mdiuf(BK126),3),\"\")","v":""},"","",{"$f":"IFERROR(astm(cityfufalt(BK127),3)-astm(cityfufalt(BK126),3),\"\")","v":""},"","","",{"$f":"IF(AZ127=\"\",1, MIN(IFERROR((AZ127/1000)/((AW127*$J$22)*$J$21/3600),1),IFERROR((SUMIFS(AZ107:AZ141,AV107:AV141,\"<=\"&$AV127,AV107:AV141,\">=\"&$AV127-1)/1000)/(  $J$22*SUMIFS(AW107:AW141,AV107:AV141,\"<=\"&$AV127,AV107:AV141,\">=\"&$AV127-1)*$J$21/3600),1),IFERROR((SUMIFS(AZ107:AZ141,AV107:AV141,\"<=\"&$AV127,AV107:AV141,\">=\"&$AV127-2)/1000)/(  $J$22*SUMIFS(AW107:AW141,AV107:AV141,\"<=\"&$AV127,AV107:AV141,\">=\"&$AV127-2)*$J$21/3600),1),IFERROR((SUMIFS(AZ107:AZ141,AV107:AV141,\"<=\"&$AV127,AV107:AV141,\">=\"&$AV127-3)/1000)/(  $J$22*SUMIFS(AW107:AW141,AV107:AV141,\"<=\"&$AV127,AV107:AV141,\">=\"&$AV127-3)*$J$21/3600),1)) )","v":1},"",{"$f":"IF(AZ127=\"\",1, MIN($AZ127/SUM($AZ107:$AZ127),SUMIFS(AZ107:AZ141,AV107:AV141,\">=\"&$AV127-1,AV107:AV141,\"<=\"&$AV127)/SUM($AZ107:$AZ127),SUMIFS(AZ107:AZ141,AV107:AV141,\">=\"&$AV127-2,AV107:AV141,\"<=\"&$AV127)/SUM($AZ107:$AZ127),SUMIFS(AZ107:AZ141,AV107:AV141,\">=\"&$AV127-3,AV107:AV141,\"<=\"&$AV127)/SUM($AZ107:$AZ127)) )","v":1},null,21,"","","","","","","","",{"$f":"IFERROR(astm(highwayfuf(CC127)-highwayfuf(CC126),3),\"\")","v":""},"","","","","","",{"$f":"IFERROR(astm(mdiuf(CL127)-mdiuf(CL126),3),\"\")","v":""},"","",{"$f":"IFERROR(astm(highwayfufalt(CL127)-highwayfufalt(CL126),3),\"\")","v":""},"","","",{"$f":"IF(CA127=\"\",1, MIN(IFERROR((CA127/1000)/((BX127*$J$22)*$J$21/3600),1),IFERROR((SUMIFS(CA107:CA141,BW107:BW141,\"<=\"&$BW127,BW107:BW141,\">=\"&$BW127-1)/1000)/(  $J$22*SUMIFS(BX107:BX141,BW107:BW141,\"<=\"&$BW127,BW107:BW141,\">=\"&$BW127-1)*$J$21/3600),1),IFERROR((SUMIFS(CA107:CA141,BW107:BW141,\"<=\"&$BW127,BW107:BW141,\">=\"&$BW127-2)/1000)/(  $J$22*SUMIFS(BX107:BX141,BW107:BW141,\"<=\"&$BW127,BW107:BW141,\">=\"&$BW127-2)*$J$21/3600),1),IFERROR((SUMIFS(CA107:CA141,BW107:BW141,\"<=\"&$BW127,BW107:BW141,\">=\"&$BW127-3)/1000)/(  $J$22*SUMIFS(BX107:BX141,BW107:BW141,\"<=\"&$BW127,BW107:BW141,\">=\"&$BW127-3)*$J$21/3600),1)) )","v":1},"",{"$f":"IF(CA127=\"\",1, MIN($CA127/SUM($CA107:$CA127),SUMIFS(CA107:CA141,BW107:BW141,\">=\"&$BW127-1,BW107:BW141,\"<=\"&$BW127)/SUM($CA107:$CA127),SUMIFS(CA107:CA141,BW107:BW141,\">=\"&$BW127-2,BW107:BW141,\"<=\"&$BW127)/SUM($CA107:$CA127),SUMIFS(CA107:CA141,BW107:BW141,\">=\"&$BW127-3,BW107:BW141,\"<=\"&$BW127)/SUM($CA107:$CA127)) )","v":1}]
[null,null,null,null,null,null,null,null,null,null,null,null,null,null,null,null,22,null,null,null,null,null,null,null,22,null,null,null,null,null,null,null,null,null,"Trends Report Values","City","Highway","Combined",null,null,null,"MDIUF based on Rcdc, unadjusted [3]",{"$f":"astm(SUMIF(AV107:AV141,\"<=\" & AQ130,BL107:BL141),3)","v":0},{"$f":"astm(SUMIF(BW107:BW141,\"<=\" & AR130,CM107:CM141),3)","v":0},null,null,null,22,"","","","",{"$f":"IFERROR(astm(  astm($W$142,3)*1000*(AZ128/AQ109),1),\"\")","v":""},"","","",{"$f":"IFERROR(astm(cityfuf(BB128),3)-astm(cityfuf(BB127),3),\"\")","v":""},"","","","","","",{"$f":"IFERROR(astm(mdiuf(BK128),3)-astm(mdiuf(BK127),3),\"\")","v":""},"","",{"$f":"IFERROR(astm(cityfufalt(BK128),3)-astm(cityfufalt(BK127),3),\"\")","v":""},"","","",{"$f":"IF(AZ128=\"\",1, MIN(IFERROR((AZ128/1000)/((AW128*$J$22)*$J$21/3600),1),IFERROR((SUMIFS(AZ107:AZ141,AV107:AV141,\"<=\"&$AV128,AV107:AV141,\">=\"&$AV128-1)/1000)/(  $J$22*SUMIFS(AW107:AW141,AV107:AV141,\"<=\"&$AV128,AV107:AV141,\">=\"&$AV128-1)*$J$21/3600),1),IFERROR((SUMIFS(AZ107:AZ141,AV107:AV141,\"<=\"&$AV128,AV107:AV141,\">=\"&$AV128-2)/1000)/(  $J$22*SUMIFS(AW107:AW141,AV107:AV141,\"<=\"&$AV128,AV107:AV141,\">=\"&$AV128-2)*$J$21/3600),1),IFERROR((SUMIFS(AZ107:AZ141,AV107:AV141,\"<=\"&$AV128,AV107:AV141,\">=\"&$AV128-3)/1000)/(  $J$22*SUMIFS(AW107:AW141,AV107:AV141,\"<=\"&$AV128,AV107:AV141,\">=\"&$AV128-3)*$J$21/3600),1)) )","v":1},"",{"$f":"IF(AZ128=\"\",1, MIN($AZ128/SUM($AZ107:$AZ128),SUMIFS(AZ107:AZ141,AV107:AV141,\">=\"&$AV128-1,AV107:AV141,\"<=\"&$AV128)/SUM($AZ107:$AZ128),SUMIFS(AZ107:AZ141,AV107:AV141,\">=\"&$AV128-2,AV107:AV141,\"<=\"&$AV128)/SUM($AZ107:$AZ128),SUMIFS(AZ107:AZ141,AV107:AV141,\">=\"&$AV128-3,AV107:AV141,\"<=\"&$AV128)/SUM($AZ107:$AZ128)) )","v":1},null,22,"","","","","","","","",{"$f":"IFERROR(astm(highwayfuf(CC128)-highwayfuf(CC127),3),\"\")","v":""},"","","","","","",{"$f":"IFERROR(astm(mdiuf(CL128)-mdiuf(CL127),3),\"\")","v":""},"","",{"$f":"IFERROR(astm(highwayfufalt(CL128)-highwayfufalt(CL127),3),\"\")","v":""},"","","",{"$f":"IF(CA128=\"\",1, MIN(IFERROR((CA128/1000)/((BX128*$J$22)*$J$21/3600),1),IFERROR((SUMIFS(CA107:CA141,BW107:BW141,\"<=\"&$BW128,BW107:BW141,\">=\"&$BW128-1)/1000)/(  $J$22*SUMIFS(BX107:BX141,BW107:BW141,\"<=\"&$BW128,BW107:BW141,\">=\"&$BW128-1)*$J$21/3600),1),IFERROR((SUMIFS(CA107:CA141,BW107:BW141,\"<=\"&$BW128,BW107:BW141,\">=\"&$BW128-2)/1000)/(  $J$22*SUMIFS(BX107:BX141,BW107:BW141,\"<=\"&$BW128,BW107:BW141,\">=\"&$BW128-2)*$J$21/3600),1),IFERROR((SUMIFS(CA107:CA141,BW107:BW141,\"<=\"&$BW128,BW107:BW141,\">=\"&$BW128-3)/1000)/(  $J$22*SUMIFS(BX107:BX141,BW107:BW141,\"<=\"&$BW128,BW107:BW141,\">=\"&$BW128-3)*$J$21/3600),1)) )","v":1},"",{"$f":"IF(CA128=\"\",1, MIN($CA128/SUM($CA107:$CA128),SUMIFS(CA107:CA141,BW107:BW141,\">=\"&$BW128-1,BW107:BW141,\"<=\"&$BW128)/SUM($CA107:$CA128),SUMIFS(CA107:CA141,BW107:BW141,\">=\"&$BW128-2,BW107:BW141,\"<=\"&$BW128)/SUM($CA107:$CA128),SUMIFS(CA107:CA141,BW107:BW141,\">=\"&$BW128-3,BW107:BW141,\"<=\"&$BW128)/SUM($CA107:$CA128)) )","v":1}]
[null,null,null,null,null,null,null,null,null,null,null,null,null,null,null,null,23,null,null,null,null,null,null,null,23,null,null,null,null,null,null,null,null,null,"Fleet Utility Factor (43/57) [3]",{"$f":"astm(SUMIF(AV107:AV136,\"<=\"&AQ130,BO107:BO136),3)","v":0},{"$f":"astm(SUMIF(BW107:BW136,\"<=\"&AR130,CP107:CP136),3)","v":0},{"$f":"0.55*AJ129+0.45*AK129","v":0},null,null,null,"Fraction of transition cycle that is charge-depleting operation (Zn) [3]",{"$f":" astm( IF((IF( SUMIF(AV107:AV141,\"=\" & ($AQ130),AY107:AY141)/SUMIF(AV107:AV141,\"=\" & ($AQ130-1),AY107:AY141)<0,0, SUMIF(AV107:AV141,\"=\" & ($AQ130),AY107:AY141)/SUMIF(AV107:AV141,\"=\" & ($AQ130-1),AY107:AY141)))<0,0, IF((IF( SUMIF(AV107:AV141,\"=\" & ($AQ130),AY107:AY141)/SUMIF(AV107:AV141,\"=\" & ($AQ130-1),AY107:AY141)<0,0, SUMIF(AV107:AV141,\"=\" & ($AQ130),AY107:AY141)/SUMIF(AV107:AV141,\"=\" & ($AQ130-1),AY107:AY141)))>1,1, (IF( SUMIF(AV107:AV141,\"=\" & ($AQ130),AY107:AY141)/SUMIF(AV107:AV141,\"=\" & ($AQ130-1),AY107:AY141)<0,0, SUMIF(AV107:AV141,\"=\" & ($AQ130),AY107:AY141)/SUMIF(AV107:AV141,\"=\" & ($AQ130-1),AY107:AY141))))), 3)","v":{"$error":"#VALUE!"}},{"$f":" astm( IF((IF( SUMIF(BW107:BW141,\"=\" & ($AR130),BZ107:BZ141)/SUMIF(BW107:BW141,\"=\" & ($AR130-1),BZ107:BZ141)<0,0, SUMIF(BW107:BW141,\"=\" & ($AR130),BZ107:BZ141)/SUMIF(BW107:BW141,\"=\" & ($AR130-1),BZ107:BZ141)))<0,0, IF((IF( SUMIF(BW107:BW141,\"=\" & ($AR130),BZ107:BZ141)/SUMIF(BW107:BW141,\"=\" & ($AR130-1),BZ107:BZ141)<0,0, SUMIF(BW107:BW141,\"=\" & ($AR130),BZ107:BZ141)/SUMIF(BW107:BW141,\"=\" & ($AR130-1),BZ107:BZ141)))>1,1, (IF( SUMIF(BW107:BW141,\"=\" & ($AR130),BZ107:BZ141)/SUMIF(BW107:BW141,\"=\" & ($AR130-1),BZ107:BZ141)<0,0, SUMIF(BW107:BW141,\"=\" & ($AR130),BZ107:BZ141)/SUMIF(BW107:BW141,\"=\" & ($AR130-1),BZ107:BZ141))))), 3)","v":{"$error":"#VALUE!"}},null,null,null,23,"","","","",{"$f":"IFERROR(astm(  astm($W$142,3)*1000*(AZ129/AQ109),1),\"\")","v":""},"","","",{"$f":"IFERROR(astm(cityfuf(BB129),3)-astm(cityfuf(BB128),3),\"\")","v":""},"","","","","","",{"$f":"IFERROR(astm(mdiuf(BK129),3)-astm(mdiuf(BK128),3),\"\")","v":""},"","",{"$f":"IFERROR(astm(cityfufalt(BK129),3)-astm(cityfufalt(BK128),3),\"\")","v":""},"","","",{"$f":"IF(AZ129=\"\",1, MIN(IFERROR((AZ129/1000)/((AW129*$J$22)*$J$21/3600),1),IFERROR((SUMIFS(AZ107:AZ141,AV107:AV141,\"<=\"&$AV129,AV107:AV141,\">=\"&$AV129-1)/1000)/(  $J$22*SUMIFS(AW107:AW141,AV107:AV141,\"<=\"&$AV129,AV107:AV141,\">=\"&$AV129-1)*$J$21/3600),1),IFERROR((SUMIFS(AZ107:AZ141,AV107:AV141,\"<=\"&$AV129,AV107:AV141,\">=\"&$AV129-2)/1000)/(  $J$22*SUMIFS(AW107:AW141,AV107:AV141,\"<=\"&$AV129,AV107:AV141,\">=\"&$AV129-2)*$J$21/3600),1),IFERROR((SUMIFS(AZ107:AZ141,AV107:AV141,\"<=\"&$AV129,AV107:AV141,\">=\"&$AV129-3)/1000)/(  $J$22*SUMIFS(AW107:AW141,AV107:AV141,\"<=\"&$AV129,AV107:AV141,\">=\"&$AV129-3)*$J$21/3600),1)) )","v":1},"",{"$f":"IF(AZ129=\"\",1, MIN($AZ129/SUM($AZ107:$AZ129),SUMIFS(AZ107:AZ141,AV107:AV141,\">=\"&$AV129-1,AV107:AV141,\"<=\"&$AV129)/SUM($AZ107:$AZ129),SUMIFS(AZ107:AZ141,AV107:AV141,\">=\"&$AV129-2,AV107:AV141,\"<=\"&$AV129)/SUM($AZ107:$AZ129),SUMIFS(AZ107:AZ141,AV107:AV141,\">=\"&$AV129-3,AV107:AV141,\"<=\"&$AV129)/SUM($AZ107:$AZ129)) )","v":1},null,23,"","","","","","","","",{"$f":"IFERROR(astm(highwayfuf(CC129)-highwayfuf(CC128),3),\"\")","v":""},"","","","","","",{"$f":"IFERROR(astm(mdiuf(CL129)-mdiuf(CL128),3),\"\")","v":""},"","",{"$f":"IFERROR(astm(highwayfufalt(CL129)-highwayfufalt(CL128),3),\"\")","v":""},"","","",{"$f":"IF(CA129=\"\",1, MIN(IFERROR((CA129/1000)/((BX129*$J$22)*$J$21/3600),1),IFERROR((SUMIFS(CA107:CA141,BW107:BW141,\"<=\"&$BW129,BW107:BW141,\">=\"&$BW129-1)/1000)/(  $J$22*SUMIFS(BX107:BX141,BW107:BW141,\"<=\"&$BW129,BW107:BW141,\">=\"&$BW129-1)*$J$21/3600),1),IFERROR((SUMIFS(CA107:CA141,BW107:BW141,\"<=\"&$BW129,BW107:BW141,\">=\"&$BW129-2)/1000)/(  $J$22*SUMIFS(BX107:BX141,BW107:BW141,\"<=\"&$BW129,BW107:BW141,\">=\"&$BW129-2)*$J$21/3600),1),IFERROR((SUMIFS(CA107:CA141,BW107:BW141,\"<=\"&$BW129,BW107:BW141,\">=\"&$BW129-3)/1000)/(  $J$22*SUMIFS(BX107:BX141,BW107:BW141,\"<=\"&$BW129,BW107:BW141,\">=\"&$BW129-3)*$J$21/3600),1)) )","v":1},"",{"$f":"IF(CA129=\"\",1, MIN($CA129/SUM($CA107:$CA129),SUMIFS(CA107:CA141,BW107:BW141,\">=\"&$BW129-1,BW107:BW141,\"<=\"&$BW129)/SUM($CA107:$CA129),SUMIFS(CA107:CA141,BW107:BW141,\">=\"&$BW129-2,BW107:BW141,\"<=\"&$BW129)/SUM($CA107:$CA129),SUMIFS(CA107:CA141,BW107:BW141,\">=\"&$BW129-3,BW107:BW141,\"<=\"&$BW129)/SUM($CA107:$CA129)) )","v":1}]
[null,null,null,null,null,null,null,null,null,null,null,null,null,null,null,null,24,null,null,null,null,null,null,null,24,null,null,null,null,null,null,null,null,null,"Unadjusted Fuel Economy (MPG) [4]",{"$f":"AJ105","v":0},{"$f":"AK105","v":0},{"$f":"AL105","v":0},null,null,null,"Number of last cycle number with charge-depleting operation (transition cycle) [0]",{"$f":"IF(ISNUMBER(W144), W144,   IF(COUNTIF(BR107:BR141,\"CD\") < COUNT(R107:R141), COUNTIF(BR107:BR141,\"CD\"),     IF(COUNTIF(BT107:BT141,\"CD\") < COUNT(R107:R141), COUNTIF(BT107:BT141,\"CD\"),     \"EOT ERROR\"     )     )    )","v":"EOT ERROR"},{"$f":"IF(ISNUMBER(AE144), AE144,   IF(COUNTIF(CS107:CS141,\"CD\") < COUNT(Z107:Z141), COUNTIF(CS107:CS141,\"CD\"),     IF(COUNTIF(CU107:CU141,\"CD\") < COUNT(Z107:Z141), COUNTIF(CU107:CU141,\"CD\"),     \"EOT ERROR\"     )     )    )","v":"EOT ERROR"},null,null,null,24,"","","","",{"$f":"IFERROR(astm(  astm($W$142,3)*1000*(AZ130/AQ109),1),\"\")","v":""},"","","",{"$f":"IFERROR(astm(cityfuf(BB130),3)-astm(cityfuf(BB129),3),\"\")","v":""},"","","","","","",{"$f":"IFERROR(astm(mdiuf(BK130),3)-astm(mdiuf(BK129),3),\"\")","v":""},"","",{"$f":"IFERROR(astm(cityfufalt(BK130),3)-astm(cityfufalt(BK129),3),\"\")","v":""},"","","",{"$f":"IF(AZ130=\"\",1, MIN(IFERROR((AZ130/1000)/((AW130*$J$22)*$J$21/3600),1),IFERROR((SUMIFS(AZ107:AZ141,AV107:AV141,\"<=\"&$AV130,AV107:AV141,\">=\"&$AV130-1)/1000)/(  $J$22*SUMIFS(AW107:AW141,AV107:AV141,\"<=\"&$AV130,AV107:AV141,\">=\"&$AV130-1)*$J$21/3600),1),IFERROR((SUMIFS(AZ107:AZ141,AV107:AV141,\"<=\"&$AV130,AV107:AV141,\">=\"&$AV130-2)/1000)/(  $J$22*SUMIFS(AW107:AW141,AV107:AV141,\"<=\"&$AV130,AV107:AV141,\">=\"&$AV130-2)*$J$21/3600),1),IFERROR((SUMIFS(AZ107:AZ141,AV107:AV141,\"<=\"&$AV130,AV107:AV141,\">=\"&$AV130-3)/1000)/(  $J$22*SUMIFS(AW107:AW141,AV107:AV141,\"<=\"&$AV130,AV107:AV141,\">=\"&$AV130-3)*$J$21/3600),1)) )","v":1},"",{"$f":"IF(AZ130=\"\",1, MIN($AZ130/SUM($AZ107:$AZ130),SUMIFS(AZ107:AZ141,AV107:AV141,\">=\"&$AV130-1,AV107:AV141,\"<=\"&$AV130)/SUM($AZ107:$AZ130),SUMIFS(AZ107:AZ141,AV107:AV141,\">=\"&$AV130-2,AV107:AV141,\"<=\"&$AV130)/SUM($AZ107:$AZ130),SUMIFS(AZ107:AZ141,AV107:AV141,\">=\"&$AV130-3,AV107:AV141,\"<=\"&$AV130)/SUM($AZ107:$AZ130)) )","v":1},null,24,"","","","","","","","",{"$f":"IFERROR(astm(highwayfuf(CC130)-highwayfuf(CC129),3),\"\")","v":""},"","","","","","",{"$f":"IFERROR(astm(mdiuf(CL130)-mdiuf(CL129),3),\"\")","v":""},"","",{"$f":"IFERROR(astm(highwayfufalt(CL130)-highwayfufalt(CL129),3),\"\")","v":""},"","","",{"$f":"IF(CA130=\"\",1, MIN(IFERROR((CA130/1000)/((BX130*$J$22)*$J$21/3600),1),IFERROR((SUMIFS(CA107:CA141,BW107:BW141,\"<=\"&$BW130,BW107:BW141,\">=\"&$BW130-1)/1000)/(  $J$22*SUMIFS(BX107:BX141,BW107:BW141,\"<=\"&$BW130,BW107:BW141,\">=\"&$BW130-1)*$J$21/3600),1),IFERROR((SUMIFS(CA107:CA141,BW107:BW141,\"<=\"&$BW130,BW107:BW141,\">=\"&$BW130-2)/1000)/(  $J$22*SUMIFS(BX107:BX141,BW107:BW141,\"<=\"&$BW130,BW107:BW141,\">=\"&$BW130-2)*$J$21/3600),1),IFERROR((SUMIFS(CA107:CA141,BW107:BW141,\"<=\"&$BW130,BW107:BW141,\">=\"&$BW130-3)/1000)/(  $J$22*SUMIFS(BX107:BX141,BW107:BW141,\"<=\"&$BW130,BW107:BW141,\">=\"&$BW130-3)*$J$21/3600),1)) )","v":1},"",{"$f":"IF(CA130=\"\",1, MIN($CA130/SUM($CA107:$CA130),SUMIFS(CA107:CA141,BW107:BW141,\">=\"&$BW130-1,BW107:BW141,\"<=\"&$BW130)/SUM($CA107:$CA130),SUMIFS(CA107:CA141,BW107:BW141,\">=\"&$BW130-2,BW107:BW141,\"<=\"&$BW130)/SUM($CA107:$CA130),SUMIFS(CA107:CA141,BW107:BW141,\">=\"&$BW130-3,BW107:BW141,\"<=\"&$BW130)/SUM($CA107:$CA130)) )","v":1}]
[null,null,null,null,null,null,null,null,null,null,null,null,null,null,null,null,25,null,null,null,null,null,null,null,25,null,null,null,null,null,null,null,null,null,"Unadjusted GHG (g/mi) [1]",{"$f":"AJ107","v":0},{"$f":"AK107","v":0},{"$f":"AL107","v":0},null,null,"Intermediate Results Requiring Charge-Sustaining (CS) Test Results or Other Inputs",null,null,null,null,null,null,25,"","","","",{"$f":"IFERROR(astm(  astm($W$142,3)*1000*(AZ131/AQ109),1),\"\")","v":""},"","","",{"$f":"IFERROR(astm(cityfuf(BB131),3)-astm(cityfuf(BB130),3),\"\")","v":""},"","","","","","",{"$f":"IFERROR(astm(mdiuf(BK131),3)-astm(mdiuf(BK130),3),\"\")","v":""},"","",{"$f":"IFERROR(astm(cityfufalt(BK131),3)-astm(cityfufalt(BK130),3),\"\")","v":""},"","","",{"$f":"IF(AZ131=\"\",1, MIN(IFERROR((AZ131/1000)/((AW131*$J$22)*$J$21/3600),1),IFERROR((SUMIFS(AZ107:AZ141,AV107:AV141,\"<=\"&$AV131,AV107:AV141,\">=\"&$AV131-1)/1000)/(  $J$22*SUMIFS(AW107:AW141,AV107:AV141,\"<=\"&$AV131,AV107:AV141,\">=\"&$AV131-1)*$J$21/3600),1),IFERROR((SUMIFS(AZ107:AZ141,AV107:AV141,\"<=\"&$AV131,AV107:AV141,\">=\"&$AV131-2)/1000)/(  $J$22*SUMIFS(AW107:AW141,AV107:AV141,\"<=\"&$AV131,AV107:AV141,\">=\"&$AV131-2)*$J$21/3600),1),IFERROR((SUMIFS(AZ107:AZ141,AV107:AV141,\"<=\"&$AV131,AV107:AV141,\">=\"&$AV131-3)/1000)/(  $J$22*SUMIFS(AW107:AW141,AV107:AV141,\"<=\"&$AV131,AV107:AV141,\">=\"&$AV131-3)*$J$21/3600),1)) )","v":1},"",{"$f":"IF(AZ131=\"\",1, MIN($AZ131/SUM($AZ107:$AZ131),SUMIFS(AZ107:AZ141,AV107:AV141,\">=\"&$AV131-1,AV107:AV141,\"<=\"&$AV131)/SUM($AZ107:$AZ131),SUMIFS(AZ107:AZ141,AV107:AV141,\">=\"&$AV131-2,AV107:AV141,\"<=\"&$AV131)/SUM($AZ107:$AZ131),SUMIFS(AZ107:AZ141,AV107:AV141,\">=\"&$AV131-3,AV107:AV141,\"<=\"&$AV131)/SUM($AZ107:$AZ131)) )","v":1},null,25,"","","","","","","","",{"$f":"IFERROR(astm(highwayfuf(CC131)-highwayfuf(CC130),3),\"\")","v":""},"","","","","","",{"$f":"IFERROR(astm(mdiuf(CL131)-mdiuf(CL130),3),\"\")","v":""},"","",{"$f":"IFERROR(astm(highwayfufalt(CL131)-highwayfufalt(CL130),3),\"\")","v":""},"","","",{"$f":"IF(CA131=\"\",1, MIN(IFERROR((CA131/1000)/((BX131*$J$22)*$J$21/3600),1),IFERROR((SUMIFS(CA107:CA141,BW107:BW141,\"<=\"&$BW131,BW107:BW141,\">=\"&$BW131-1)/1000)/(  $J$22*SUMIFS(BX107:BX141,BW107:BW141,\"<=\"&$BW131,BW107:BW141,\">=\"&$BW131-1)*$J$21/3600),1),IFERROR((SUMIFS(CA107:CA141,BW107:BW141,\"<=\"&$BW131,BW107:BW141,\">=\"&$BW131-2)/1000)/(  $J$22*SUMIFS(BX107:BX141,BW107:BW141,\"<=\"&$BW131,BW107:BW141,\">=\"&$BW131-2)*$J$21/3600),1),IFERROR((SUMIFS(CA107:CA141,BW107:BW141,\"<=\"&$BW131,BW107:BW141,\">=\"&$BW131-3)/1000)/(  $J$22*SUMIFS(BX107:BX141,BW107:BW141,\"<=\"&$BW131,BW107:BW141,\">=\"&$BW131-3)*$J$21/3600),1)) )","v":1},"",{"$f":"IF(CA131=\"\",1, MIN($CA131/SUM($CA107:$CA131),SUMIFS(CA107:CA141,BW107:BW141,\">=\"&$BW131-1,BW107:BW141,\"<=\"&$BW131)/SUM($CA107:$CA131),SUMIFS(CA107:CA141,BW107:BW141,\">=\"&$BW131-2,BW107:BW141,\"<=\"&$BW131)/SUM($CA107:$CA131),SUMIFS(CA107:CA141,BW107:BW141,\">=\"&$BW131-3,BW107:BW141,\"<=\"&$BW131)/SUM($CA107:$CA131)) )","v":1}]
[null,null,null,null,null,null,null,null,null,null,null,null,null,null,null,null,26,null,null,null,null,null,null,null,26,null,null,null,null,null,null,null,null,null,"Adjusted Fuel Economy (MPG) [4]",{"$f":"IFERROR(astm(1/ ( AQ112 + (1-AJ129)/N108),4),0)","v":0},{"$f":"IFERROR(astm(1/ ( AR112 + (1-AK129)/O108),4),0)","v":0},{"$f":"IFERROR(astm(1/(0.55/AJ132+0.45/AK132),4),0)","v":0},null,null,null,"DRIVING DISTANCE VALUES","CITY","HIGHWAY",null,null,null,26,"","","","",{"$f":"IFERROR(astm(  astm($W$142,3)*1000*(AZ132/AQ109),1),\"\")","v":""},"","","",{"$f":"IFERROR(astm(cityfuf(BB132),3)-astm(cityfuf(BB131),3),\"\")","v":""},"","","","","","",{"$f":"IFERROR(astm(mdiuf(BK132),3)-astm(mdiuf(BK131),3),\"\")","v":""},"","",{"$f":"IFERROR(astm(cityfufalt(BK132),3)-astm(cityfufalt(BK131),3),\"\")","v":""},"","","",{"$f":"IF(AZ132=\"\",1, MIN(IFERROR((AZ132/1000)/((AW132*$J$22)*$J$21/3600),1),IFERROR((SUMIFS(AZ107:AZ141,AV107:AV141,\"<=\"&$AV132,AV107:AV141,\">=\"&$AV132-1)/1000)/(  $J$22*SUMIFS(AW107:AW141,AV107:AV141,\"<=\"&$AV132,AV107:AV141,\">=\"&$AV132-1)*$J$21/3600),1),IFERROR((SUMIFS(AZ107:AZ141,AV107:AV141,\"<=\"&$AV132,AV107:AV141,\">=\"&$AV132-2)/1000)/(  $J$22*SUMIFS(AW107:AW141,AV107:AV141,\"<=\"&$AV132,AV107:AV141,\">=\"&$AV132-2)*$J$21/3600),1),IFERROR((SUMIFS(AZ107:AZ141,AV107:AV141,\"<=\"&$AV132,AV107:AV141,\">=\"&$AV132-3)/1000)/(  $J$22*SUMIFS(AW107:AW141,AV107:AV141,\"<=\"&$AV132,AV107:AV141,\">=\"&$AV132-3)*$J$21/3600),1)) )","v":1},"",{"$f":"IF(AZ132=\"\",1, MIN($AZ132/SUM($AZ107:$AZ132),SUMIFS(AZ107:AZ141,AV107:AV141,\">=\"&$AV132-1,AV107:AV141,\"<=\"&$AV132)/SUM($AZ107:$AZ132),SUMIFS(AZ107:AZ141,AV107:AV141,\">=\"&$AV132-2,AV107:AV141,\"<=\"&$AV132)/SUM($AZ107:$AZ132),SUMIFS(AZ107:AZ141,AV107:AV141,\">=\"&$AV132-3,AV107:AV141,\"<=\"&$AV132)/SUM($AZ107:$AZ132)) )","v":1},null,26,"","","","","","","","",{"$f":"IFERROR(astm(highwayfuf(CC132)-highwayfuf(CC131),3),\"\")","v":""},"","","","","","",{"$f":"IFERROR(astm(mdiuf(CL132)-mdiuf(CL131),3),\"\")","v":""},"","",{"$f":"IFERROR(astm(highwayfufalt(CL132)-highwayfufalt(CL131),3),\"\")","v":""},"","","",{"$f":"IF(CA132=\"\",1, MIN(IFERROR((CA132/1000)/((BX132*$J$22)*$J$21/3600),1),IFERROR((SUMIFS(CA107:CA141,BW107:BW141,\"<=\"&$BW132,BW107:BW141,\">=\"&$BW132-1)/1000)/(  $J$22*SUMIFS(BX107:BX141,BW107:BW141,\"<=\"&$BW132,BW107:BW141,\">=\"&$BW132-1)*$J$21/3600),1),IFERROR((SUMIFS(CA107:CA141,BW107:BW141,\"<=\"&$BW132,BW107:BW141,\">=\"&$BW132-2)/1000)/(  $J$22*SUMIFS(BX107:BX141,BW107:BW141,\"<=\"&$BW132,BW107:BW141,\">=\"&$BW132-2)*$J$21/3600),1),IFERROR((SUMIFS(CA107:CA141,BW107:BW141,\"<=\"&$BW132,BW107:BW141,\">=\"&$BW132-3)/1000)/(  $J$22*SUMIFS(BX107:BX141,BW107:BW141,\"<=\"&$BW132,BW107:BW141,\">=\"&$BW132-3)*$J$21/3600),1)) )","v":1},"",{"$f":"IF(CA132=\"\",1, MIN($CA132/SUM($CA107:$CA132),SUMIFS(CA107:CA141,BW107:BW141,\">=\"&$BW132-1,BW107:BW141,\"<=\"&$BW132)/SUM($CA107:$CA132),SUMIFS(CA107:CA141,BW107:BW141,\">=\"&$BW132-2,BW107:BW141,\"<=\"&$BW132)/SUM($CA107:$CA132),SUMIFS(CA107:CA141,BW107:BW141,\">=\"&$BW132-3,BW107:BW141,\"<=\"&$BW132)/SUM($CA107:$CA132)) )","v":1}]
[null,null,null,null,null,null,null,null,null,null,null,null,null,null,null,null,27,null,null,null,null,null,null,null,27,null,null,null,null,null,null,null,null,null,"Adjusted GHG (g/mi) [1]",{"$f":"IFERROR(astm(  AQ124    +(1-AJ129)*astm(N111,1),1),0)","v":0},{"$f":"IFERROR(astm(  AR124    +(1-AK129)*astm(O111,1),1),0)","v":0},{"$f":"IFERROR(astm(0.55*AJ133+0.45*AK133,1),0)","v":0},null,null,null,"CD Equivalent All-Electric Range (EAER), Unadjusted (mi) [3]",{"$f":"astm(AQ102*((N109-AQ120)/N109),3)","v":{"$error":"#VALUE!"}},{"$f":"astm(AR102*((O109-AR120)/O109),3)","v":{"$error":"#VALUE!"}},null,null,null,27,"","","","",{"$f":"IFERROR(astm(  astm($W$142,3)*1000*(AZ133/AQ109),1),\"\")","v":""},"","","",{"$f":"IFERROR(astm(cityfuf(BB133),3)-astm(cityfuf(BB132),3),\"\")","v":""},"","","","","","",{"$f":"IFERROR(astm(mdiuf(BK133),3)-astm(mdiuf(BK132),3),\"\")","v":""},"","",{"$f":"IFERROR(astm(cityfufalt(BK133),3)-astm(cityfufalt(BK132),3),\"\")","v":""},"","","",{"$f":"IF(AZ133=\"\",1, MIN(IFERROR((AZ133/1000)/((AW133*$J$22)*$J$21/3600),1),IFERROR((SUMIFS(AZ107:AZ141,AV107:AV141,\"<=\"&$AV133,AV107:AV141,\">=\"&$AV133-1)/1000)/(  $J$22*SUMIFS(AW107:AW141,AV107:AV141,\"<=\"&$AV133,AV107:AV141,\">=\"&$AV133-1)*$J$21/3600),1),IFERROR((SUMIFS(AZ107:AZ141,AV107:AV141,\"<=\"&$AV133,AV107:AV141,\">=\"&$AV133-2)/1000)/(  $J$22*SUMIFS(AW107:AW141,AV107:AV141,\"<=\"&$AV133,AV107:AV141,\">=\"&$AV133-2)*$J$21/3600),1),IFERROR((SUMIFS(AZ107:AZ141,AV107:AV141,\"<=\"&$AV133,AV107:AV141,\">=\"&$AV133-3)/1000)/(  $J$22*SUMIFS(AW107:AW141,AV107:AV141,\"<=\"&$AV133,AV107:AV141,\">=\"&$AV133-3)*$J$21/3600),1)) )","v":1},"",{"$f":"IF(AZ133=\"\",1, MIN($AZ133/SUM($AZ107:$AZ133),SUMIFS(AZ107:AZ141,AV107:AV141,\">=\"&$AV133-1,AV107:AV141,\"<=\"&$AV133)/SUM($AZ107:$AZ133),SUMIFS(AZ107:AZ141,AV107:AV141,\">=\"&$AV133-2,AV107:AV141,\"<=\"&$AV133)/SUM($AZ107:$AZ133),SUMIFS(AZ107:AZ141,AV107:AV141,\">=\"&$AV133-3,AV107:AV141,\"<=\"&$AV133)/SUM($AZ107:$AZ133)) )","v":1},null,27,"","","","","","","","",{"$f":"IFERROR(astm(highwayfuf(CC133)-highwayfuf(CC132),3),\"\")","v":""},"","","","","","",{"$f":"IFERROR(astm(mdiuf(CL133)-mdiuf(CL132),3),\"\")","v":""},"","",{"$f":"IFERROR(astm(highwayfufalt(CL133)-highwayfufalt(CL132),3),\"\")","v":""},"","","",{"$f":"IF(CA133=\"\",1, MIN(IFERROR((CA133/1000)/((BX133*$J$22)*$J$21/3600),1),IFERROR((SUMIFS(CA107:CA141,BW107:BW141,\"<=\"&$BW133,BW107:BW141,\">=\"&$BW133-1)/1000)/(  $J$22*SUMIFS(BX107:BX141,BW107:BW141,\"<=\"&$BW133,BW107:BW141,\">=\"&$BW133-1)*$J$21/3600),1),IFERROR((SUMIFS(CA107:CA141,BW107:BW141,\"<=\"&$BW133,BW107:BW141,\">=\"&$BW133-2)/1000)/(  $J$22*SUMIFS(BX107:BX141,BW107:BW141,\"<=\"&$BW133,BW107:BW141,\">=\"&$BW133-2)*$J$21/3600),1),IFERROR((SUMIFS(CA107:CA141,BW107:BW141,\"<=\"&$BW133,BW107:BW141,\">=\"&$BW133-3)/1000)/(  $J$22*SUMIFS(BX107:BX141,BW107:BW141,\"<=\"&$BW133,BW107:BW141,\">=\"&$BW133-3)*$J$21/3600),1)) )","v":1},"",{"$f":"IF(CA133=\"\",1, MIN($CA133/SUM($CA107:$CA133),SUMIFS(CA107:CA141,BW107:BW141,\">=\"&$BW133-1,BW107:BW141,\"<=\"&$BW133)/SUM($CA107:$CA133),SUMIFS(CA107:CA141,BW107:BW141,\">=\"&$BW133-2,BW107:BW141,\"<=\"&$BW133)/SUM($CA107:$CA133),SUMIFS(CA107:CA141,BW107:BW141,\">=\"&$BW133-3,BW107:BW141,\"<=\"&$BW133)/SUM($CA107:$CA133)) )","v":1}]
[null,null,null,null,null,null,null,null,null,null,null,null,null,null,null,null,28,null,null,null,null,null,null,null,28,null,null,null,null,null,null,null,null,null,null,null,null,null,null,null,null,"Charge-sustaining driving range, adjusted (mi) [3]",{"$f":"astm((astm($J$11,1)-AQ114)*astm(N108,4),3)","v":0},{"$f":"astm((astm($J$11,1)-AR114)*astm(O108,4),3)","v":0},null,null,null,28,"","","","",{"$f":"IFERROR(astm(  astm($W$142,3)*1000*(AZ134/AQ109),1),\"\")","v":""},"","","",{"$f":"IFERROR(astm(cityfuf(BB134),3)-astm(cityfuf(BB133),3),\"\")","v":""},"","","","","","",{"$f":"IFERROR(astm(mdiuf(BK134),3)-astm(mdiuf(BK133),3),\"\")","v":""},"","",{"$f":"IFERROR(astm(cityfufalt(BK134),3)-astm(cityfufalt(BK133),3),\"\")","v":""},"","","",{"$f":"IF(AZ134=\"\",1, MIN(IFERROR((AZ134/1000)/((AW134*$J$22)*$J$21/3600),1),IFERROR((SUMIFS(AZ107:AZ141,AV107:AV141,\"<=\"&$AV134,AV107:AV141,\">=\"&$AV134-1)/1000)/(  $J$22*SUMIFS(AW107:AW141,AV107:AV141,\"<=\"&$AV134,AV107:AV141,\">=\"&$AV134-1)*$J$21/3600),1),IFERROR((SUMIFS(AZ107:AZ141,AV107:AV141,\"<=\"&$AV134,AV107:AV141,\">=\"&$AV134-2)/1000)/(  $J$22*SUMIFS(AW107:AW141,AV107:AV141,\"<=\"&$AV134,AV107:AV141,\">=\"&$AV134-2)*$J$21/3600),1),IFERROR((SUMIFS(AZ107:AZ141,AV107:AV141,\"<=\"&$AV134,AV107:AV141,\">=\"&$AV134-3)/1000)/(  $J$22*SUMIFS(AW107:AW141,AV107:AV141,\"<=\"&$AV134,AV107:AV141,\">=\"&$AV134-3)*$J$21/3600),1)) )","v":1},"",{"$f":"IF(AZ134=\"\",1, MIN($AZ134/SUM($AZ107:$AZ134),SUMIFS(AZ107:AZ141,AV107:AV141,\">=\"&$AV134-1,AV107:AV141,\"<=\"&$AV134)/SUM($AZ107:$AZ134),SUMIFS(AZ107:AZ141,AV107:AV141,\">=\"&$AV134-2,AV107:AV141,\"<=\"&$AV134)/SUM($AZ107:$AZ134),SUMIFS(AZ107:AZ141,AV107:AV141,\">=\"&$AV134-3,AV107:AV141,\"<=\"&$AV134)/SUM($AZ107:$AZ134)) )","v":1},null,28,"","","","","","","","",{"$f":"IFERROR(astm(highwayfuf(CC134)-highwayfuf(CC133),3),\"\")","v":""},"","","","","","",{"$f":"IFERROR(astm(mdiuf(CL134)-mdiuf(CL133),3),\"\")","v":""},"","",{"$f":"IFERROR(astm(highwayfufalt(CL134)-highwayfufalt(CL133),3),\"\")","v":""},"","","",{"$f":"IF(CA134=\"\",1, MIN(IFERROR((CA134/1000)/((BX134*$J$22)*$J$21/3600),1),IFERROR((SUMIFS(CA107:CA141,BW107:BW141,\"<=\"&$BW134,BW107:BW141,\">=\"&$BW134-1)/1000)/(  $J$22*SUMIFS(BX107:BX141,BW107:BW141,\"<=\"&$BW134,BW107:BW141,\">=\"&$BW134-1)*$J$21/3600),1),IFERROR((SUMIFS(CA107:CA141,BW107:BW141,\"<=\"&$BW134,BW107:BW141,\">=\"&$BW134-2)/1000)/(  $J$22*SUMIFS(BX107:BX141,BW107:BW141,\"<=\"&$BW134,BW107:BW141,\">=\"&$BW134-2)*$J$21/3600),1),IFERROR((SUMIFS(CA107:CA141,BW107:BW141,\"<=\"&$BW134,BW107:BW141,\">=\"&$BW134-3)/1000)/(  $J$22*SUMIFS(BX107:BX141,BW107:BW141,\"<=\"&$BW134,BW107:BW141,\">=\"&$BW134-3)*$J$21/3600),1)) )","v":1},"",{"$f":"IF(CA134=\"\",1, MIN($CA134/SUM($CA107:$CA134),SUMIFS(CA107:CA141,BW107:BW141,\">=\"&$BW134-1,BW107:BW141,\"<=\"&$BW134)/SUM($CA107:$CA134),SUMIFS(CA107:CA141,BW107:BW141,\">=\"&$BW134-2,BW107:BW141,\"<=\"&$BW134)/SUM($CA107:$CA134),SUMIFS(CA107:CA141,BW107:BW141,\">=\"&$BW134-3,BW107:BW141,\"<=\"&$BW134)/SUM($CA107:$CA134)) )","v":1}]
[null,null,null,null,null,null,null,null,null,null,null,null,null,null,null,null,29,null,null,null,null,null,null,null,29,null,null,null,null,null,null,null,null,null,null,null,null,null,null,null,null,"UTILITY FACTORS & OTHER METRICS","CITY","HIGHWAY",null,null,null,29,"","","","",{"$f":"IFERROR(astm(  astm($W$142,3)*1000*(AZ135/AQ109),1),\"\")","v":""},"","","",{"$f":"IFERROR(astm(cityfuf(BB135),3)-astm(cityfuf(BB134),3),\"\")","v":""},"","","","","","",{"$f":"IFERROR(astm(mdiuf(BK135),3)-astm(mdiuf(BK134),3),\"\")","v":""},"","",{"$f":"IFERROR(astm(cityfufalt(BK135),3)-astm(cityfufalt(BK134),3),\"\")","v":""},"","","",{"$f":"IF(AZ135=\"\",1, MIN(IFERROR((AZ135/1000)/((AW135*$J$22)*$J$21/3600),1),IFERROR((SUMIFS(AZ107:AZ141,AV107:AV141,\"<=\"&$AV135,AV107:AV141,\">=\"&$AV135-1)/1000)/(  $J$22*SUMIFS(AW107:AW141,AV107:AV141,\"<=\"&$AV135,AV107:AV141,\">=\"&$AV135-1)*$J$21/3600),1),IFERROR((SUMIFS(AZ107:AZ141,AV107:AV141,\"<=\"&$AV135,AV107:AV141,\">=\"&$AV135-2)/1000)/(  $J$22*SUMIFS(AW107:AW141,AV107:AV141,\"<=\"&$AV135,AV107:AV141,\">=\"&$AV135-2)*$J$21/3600),1),IFERROR((SUMIFS(AZ107:AZ141,AV107:AV141,\"<=\"&$AV135,AV107:AV141,\">=\"&$AV135-3)/1000)/(  $J$22*SUMIFS(AW107:AW141,AV107:AV141,\"<=\"&$AV135,AV107:AV141,\">=\"&$AV135-3)*$J$21/3600),1)) )","v":1},"",{"$f":"IF(AZ135=\"\",1, MIN($AZ135/SUM($AZ107:$AZ135),SUMIFS(AZ107:AZ141,AV107:AV141,\">=\"&$AV135-1,AV107:AV141,\"<=\"&$AV135)/SUM($AZ107:$AZ135),SUMIFS(AZ107:AZ141,AV107:AV141,\">=\"&$AV135-2,AV107:AV141,\"<=\"&$AV135)/SUM($AZ107:$AZ135),SUMIFS(AZ107:AZ141,AV107:AV141,\">=\"&$AV135-3,AV107:AV141,\"<=\"&$AV135)/SUM($AZ107:$AZ135)) )","v":1},null,29,"","","","","","","","",{"$f":"IFERROR(astm(highwayfuf(CC135)-highwayfuf(CC134),3),\"\")","v":""},"","","","","","",{"$f":"IFERROR(astm(mdiuf(CL135)-mdiuf(CL134),3),\"\")","v":""},"","",{"$f":"IFERROR(astm(highwayfufalt(CL135)-highwayfufalt(CL134),3),\"\")","v":""},"","","",{"$f":"IF(CA135=\"\",1, MIN(IFERROR((CA135/1000)/((BX135*$J$22)*$J$21/3600),1),IFERROR((SUMIFS(CA107:CA141,BW107:BW141,\"<=\"&$BW135,BW107:BW141,\">=\"&$BW135-1)/1000)/(  $J$22*SUMIFS(BX107:BX141,BW107:BW141,\"<=\"&$BW135,BW107:BW141,\">=\"&$BW135-1)*$J$21/3600),1),IFERROR((SUMIFS(CA107:CA141,BW107:BW141,\"<=\"&$BW135,BW107:BW141,\">=\"&$BW135-2)/1000)/(  $J$22*SUMIFS(BX107:BX141,BW107:BW141,\"<=\"&$BW135,BW107:BW141,\">=\"&$BW135-2)*$J$21/3600),1),IFERROR((SUMIFS(CA107:CA141,BW107:BW141,\"<=\"&$BW135,BW107:BW141,\">=\"&$BW135-3)/1000)/(  $J$22*SUMIFS(BX107:BX141,BW107:BW141,\"<=\"&$BW135,BW107:BW141,\">=\"&$BW135-3)*$J$21/3600),1)) )","v":1},"",{"$f":"IF(CA135=\"\",1, MIN($CA135/SUM($CA107:$CA135),SUMIFS(CA107:CA141,BW107:BW141,\">=\"&$BW135-1,BW107:BW141,\"<=\"&$BW135)/SUM($CA107:$CA135),SUMIFS(CA107:CA141,BW107:BW141,\">=\"&$BW135-2,BW107:BW141,\"<=\"&$BW135)/SUM($CA107:$CA135),SUMIFS(CA107:CA141,BW107:BW141,\">=\"&$BW135-3,BW107:BW141,\"<=\"&$BW135)/SUM($CA107:$CA135)) )","v":1}]
[null,null,null,null,null,null,null,null,null,null,null,null,null,null,null,null,30,null,null,null,null,null,null,null,30,null,null,null,null,null,null,null,null,null,null,null,null,null,null,null,null,"CD 55/45 Fleet Utility Factor (FUF) for EAER [3]",{"$f":"astm(cityfuf(AQ133),3)","v":{"$error":"#VALUE!"}},{"$f":"astm(highwayfuf(AR133),3)","v":{"$error":"#VALUE!"}},null,null,null,30,"","","","",{"$f":"IFERROR(astm(  astm($W$142,3)*1000*(AZ136/AQ109),1),\"\")","v":""},"","","",{"$f":"IFERROR(astm(cityfuf(BB136),3)-astm(cityfuf(BB135),3),\"\")","v":""},"","","","","","",{"$f":"IFERROR(astm(mdiuf(BK136),3)-astm(mdiuf(BK135),3),\"\")","v":""},"","",{"$f":"IFERROR(astm(cityfufalt(BK136),3)-astm(cityfufalt(BK135),3),\"\")","v":""},"","","",{"$f":"IF(AZ136=\"\",1, MIN(IFERROR((AZ136/1000)/((AW136*$J$22)*$J$21/3600),1),IFERROR((SUMIFS(AZ107:AZ141,AV107:AV141,\"<=\"&$AV136,AV107:AV141,\">=\"&$AV136-1)/1000)/(  $J$22*SUMIFS(AW107:AW141,AV107:AV141,\"<=\"&$AV136,AV107:AV141,\">=\"&$AV136-1)*$J$21/3600),1),IFERROR((SUMIFS(AZ107:AZ141,AV107:AV141,\"<=\"&$AV136,AV107:AV141,\">=\"&$AV136-2)/1000)/(  $J$22*SUMIFS(AW107:AW141,AV107:AV141,\"<=\"&$AV136,AV107:AV141,\">=\"&$AV136-2)*$J$21/3600),1),IFERROR((SUMIFS(AZ107:AZ141,AV107:AV141,\"<=\"&$AV136,AV107:AV141,\">=\"&$AV136-3)/1000)/(  $J$22*SUMIFS(AW107:AW141,AV107:AV141,\"<=\"&$AV136,AV107:AV141,\">=\"&$AV136-3)*$J$21/3600),1)) )","v":1},"",{"$f":"IF(AZ136=\"\",1, MIN($AZ136/SUM($AZ107:$AZ136),SUMIFS(AZ107:AZ141,AV107:AV141,\">=\"&$AV136-1,AV107:AV141,\"<=\"&$AV136)/SUM($AZ107:$AZ136),SUMIFS(AZ107:AZ141,AV107:AV141,\">=\"&$AV136-2,AV107:AV141,\"<=\"&$AV136)/SUM($AZ107:$AZ136),SUMIFS(AZ107:AZ141,AV107:AV141,\">=\"&$AV136-3,AV107:AV141,\"<=\"&$AV136)/SUM($AZ107:$AZ136)) )","v":1},null,30,"","","","","","","","",{"$f":"IFERROR(astm(highwayfuf(CC136)-highwayfuf(CC135),3),\"\")","v":""},"","","","","","",{"$f":"IFERROR(astm(mdiuf(CL136)-mdiuf(CL135),3),\"\")","v":""},"","",{"$f":"IFERROR(astm(highwayfufalt(CL136)-highwayfufalt(CL135),3),\"\")","v":""},"","","",{"$f":"IF(CA136=\"\",1, MIN(IFERROR((CA136/1000)/((BX136*$J$22)*$J$21/3600),1),IFERROR((SUMIFS(CA107:CA141,BW107:BW141,\"<=\"&$BW136,BW107:BW141,\">=\"&$BW136-1)/1000)/(  $J$22*SUMIFS(BX107:BX141,BW107:BW141,\"<=\"&$BW136,BW107:BW141,\">=\"&$BW136-1)*$J$21/3600),1),IFERROR((SUMIFS(CA107:CA141,BW107:BW141,\"<=\"&$BW136,BW107:BW141,\">=\"&$BW136-2)/1000)/(  $J$22*SUMIFS(BX107:BX141,BW107:BW141,\"<=\"&$BW136,BW107:BW141,\">=\"&$BW136-2)*$J$21/3600),1),IFERROR((SUMIFS(CA107:CA141,BW107:BW141,\"<=\"&$BW136,BW107:BW141,\">=\"&$BW136-3)/1000)/(  $J$22*SUMIFS(BX107:BX141,BW107:BW141,\"<=\"&$BW136,BW107:BW141,\">=\"&$BW136-3)*$J$21/3600),1)) )","v":1},"",{"$f":"IF(CA136=\"\",1, MIN($CA136/SUM($CA107:$CA136),SUMIFS(CA107:CA141,BW107:BW141,\">=\"&$BW136-1,BW107:BW141,\"<=\"&$BW136)/SUM($CA107:$CA136),SUMIFS(CA107:CA141,BW107:BW141,\">=\"&$BW136-2,BW107:BW141,\"<=\"&$BW136)/SUM($CA107:$CA136),SUMIFS(CA107:CA141,BW107:BW141,\">=\"&$BW136-3,BW107:BW141,\"<=\"&$BW136)/SUM($CA107:$CA136)) )","v":1}]
[null,null,null,null,null,null,null,null,null,null,null,null,null,null,null,null,31,null,null,null,null,null,null,null,31,null,null,null,null,null,null,null,null,null,null,null,null,null,null,null,null,"FUEL COSTS: PROCESS FOR DERIVING A COMPOSITE CD/CS COST PER MILE","CITY","HIGHWAY",null,null,null,31,"","","","",{"$f":"IFERROR(astm(  astm($W$142,3)*1000*(AZ137/AQ109),1),\"\")","v":""},"","","",{"$f":"IFERROR(astm(cityfuf(BB137),3)-astm(cityfuf(BB136),3),\"\")","v":""},"","","","","","",{"$f":"IFERROR(astm(mdiuf(BK137),3)-astm(mdiuf(BK136),3),\"\")","v":""},"","",{"$f":"IFERROR(astm(cityfufalt(BK137),3)-astm(cityfufalt(BK136),3),\"\")","v":""},"","","",{"$f":"IF(AZ137=\"\",1, MIN(IFERROR((AZ137/1000)/((AW137*$J$22)*$J$21/3600),1),IFERROR((SUMIFS(AZ107:AZ141,AV107:AV141,\"<=\"&$AV137,AV107:AV141,\">=\"&$AV137-1)/1000)/(  $J$22*SUMIFS(AW107:AW141,AV107:AV141,\"<=\"&$AV137,AV107:AV141,\">=\"&$AV137-1)*$J$21/3600),1),IFERROR((SUMIFS(AZ107:AZ141,AV107:AV141,\"<=\"&$AV137,AV107:AV141,\">=\"&$AV137-2)/1000)/(  $J$22*SUMIFS(AW107:AW141,AV107:AV141,\"<=\"&$AV137,AV107:AV141,\">=\"&$AV137-2)*$J$21/3600),1),IFERROR((SUMIFS(AZ107:AZ141,AV107:AV141,\"<=\"&$AV137,AV107:AV141,\">=\"&$AV137-3)/1000)/(  $J$22*SUMIFS(AW107:AW141,AV107:AV141,\"<=\"&$AV137,AV107:AV141,\">=\"&$AV137-3)*$J$21/3600),1)) )","v":1},"",{"$f":"IF(AZ137=\"\",1, MIN($AZ137/SUM($AZ107:$AZ137),SUMIFS(AZ107:AZ141,AV107:AV141,\">=\"&$AV137-1,AV107:AV141,\"<=\"&$AV137)/SUM($AZ107:$AZ137),SUMIFS(AZ107:AZ141,AV107:AV141,\">=\"&$AV137-2,AV107:AV141,\"<=\"&$AV137)/SUM($AZ107:$AZ137),SUMIFS(AZ107:AZ141,AV107:AV141,\">=\"&$AV137-3,AV107:AV141,\"<=\"&$AV137)/SUM($AZ107:$AZ137)) )","v":1},null,31,"","","","","","","","",{"$f":"IFERROR(astm(highwayfuf(CC137)-highwayfuf(CC136),3),\"\")","v":""},"","","","","","",{"$f":"IFERROR(astm(mdiuf(CL137)-mdiuf(CL136),3),\"\")","v":""},"","",{"$f":"IFERROR(astm(highwayfufalt(CL137)-highwayfufalt(CL136),3),\"\")","v":""},"","","",{"$f":"IF(CA137=\"\",1, MIN(IFERROR((CA137/1000)/((BX137*$J$22)*$J$21/3600),1),IFERROR((SUMIFS(CA107:CA141,BW107:BW141,\"<=\"&$BW137,BW107:BW141,\">=\"&$BW137-1)/1000)/(  $J$22*SUMIFS(BX107:BX141,BW107:BW141,\"<=\"&$BW137,BW107:BW141,\">=\"&$BW137-1)*$J$21/3600),1),IFERROR((SUMIFS(CA107:CA141,BW107:BW141,\"<=\"&$BW137,BW107:BW141,\">=\"&$BW137-2)/1000)/(  $J$22*SUMIFS(BX107:BX141,BW107:BW141,\"<=\"&$BW137,BW107:BW141,\">=\"&$BW137-2)*$J$21/3600),1),IFERROR((SUMIFS(CA107:CA141,BW107:BW141,\"<=\"&$BW137,BW107:BW141,\">=\"&$BW137-3)/1000)/(  $J$22*SUMIFS(BX107:BX141,BW107:BW141,\"<=\"&$BW137,BW107:BW141,\">=\"&$BW137-3)*$J$21/3600),1)) )","v":1},"",{"$f":"IF(CA137=\"\",1, MIN($CA137/SUM($CA107:$CA137),SUMIFS(CA107:CA141,BW107:BW141,\">=\"&$BW137-1,BW107:BW141,\"<=\"&$BW137)/SUM($CA107:$CA137),SUMIFS(CA107:CA141,BW107:BW141,\">=\"&$BW137-2,BW107:BW141,\"<=\"&$BW137)/SUM($CA107:$CA137),SUMIFS(CA107:CA141,BW107:BW141,\">=\"&$BW137-3,BW107:BW141,\"<=\"&$BW137)/SUM($CA107:$CA137)) )","v":1}]
[null,null,null,null,null,null,null,null,null,null,null,null,null,null,null,null,32,null,null,null,null,null,null,null,32,null,null,null,null,null,null,null,null,null,null,null,null,null,null,null,null,"CD cost per mile - electricity ($/mi) [3]",{"$f":"astm($F$37*$AQ$108/100,3)","v":{"$error":"#VALUE!"}},{"$f":"astm($F$37*$AR$108/100,3)","v":{"$error":"#VALUE!"}},null,null,null,32,"","","","",{"$f":"IFERROR(astm(  astm($W$142,3)*1000*(AZ138/AQ109),1),\"\")","v":""},"","","",{"$f":"IFERROR(astm(cityfuf(BB138),3)-astm(cityfuf(BB137),3),\"\")","v":""},"","","","","","",{"$f":"IFERROR(astm(mdiuf(BK138),3)-astm(mdiuf(BK137),3),\"\")","v":""},"","",{"$f":"IFERROR(astm(cityfufalt(BK138),3)-astm(cityfufalt(BK137),3),\"\")","v":""},"","","",{"$f":"IF(AZ138=\"\",1, MIN(IFERROR((AZ138/1000)/((AW138*$J$22)*$J$21/3600),1),IFERROR((SUMIFS(AZ107:AZ141,AV107:AV141,\"<=\"&$AV138,AV107:AV141,\">=\"&$AV138-1)/1000)/(  $J$22*SUMIFS(AW107:AW141,AV107:AV141,\"<=\"&$AV138,AV107:AV141,\">=\"&$AV138-1)*$J$21/3600),1),IFERROR((SUMIFS(AZ107:AZ141,AV107:AV141,\"<=\"&$AV138,AV107:AV141,\">=\"&$AV138-2)/1000)/(  $J$22*SUMIFS(AW107:AW141,AV107:AV141,\"<=\"&$AV138,AV107:AV141,\">=\"&$AV138-2)*$J$21/3600),1),IFERROR((SUMIFS(AZ107:AZ141,AV107:AV141,\"<=\"&$AV138,AV107:AV141,\">=\"&$AV138-3)/1000)/(  $J$22*SUMIFS(AW107:AW141,AV107:AV141,\"<=\"&$AV138,AV107:AV141,\">=\"&$AV138-3)*$J$21/3600),1)) )","v":1},"",{"$f":"IF(AZ138=\"\",1, MIN($AZ138/SUM($AZ107:$AZ138),SUMIFS(AZ107:AZ141,AV107:AV141,\">=\"&$AV138-1,AV107:AV141,\"<=\"&$AV138)/SUM($AZ107:$AZ138),SUMIFS(AZ107:AZ141,AV107:AV141,\">=\"&$AV138-2,AV107:AV141,\"<=\"&$AV138)/SUM($AZ107:$AZ138),SUMIFS(AZ107:AZ141,AV107:AV141,\">=\"&$AV138-3,AV107:AV141,\"<=\"&$AV138)/SUM($AZ107:$AZ138)) )","v":1},null,32,"","","","","","","","",{"$f":"IFERROR(astm(highwayfuf(CC138)-highwayfuf(CC137),3),\"\")","v":""},"","","","","","",{"$f":"IFERROR(astm(mdiuf(CL138)-mdiuf(CL137),3),\"\")","v":""},"","",{"$f":"IFERROR(astm(highwayfufalt(CL138)-highwayfufalt(CL137),3),\"\")","v":""},"","","",{"$f":"IF(CA138=\"\",1, MIN(IFERROR((CA138/1000)/((BX138*$J$22)*$J$21/3600),1),IFERROR((SUMIFS(CA107:CA141,BW107:BW141,\"<=\"&$BW138,BW107:BW141,\">=\"&$BW138-1)/1000)/(  $J$22*SUMIFS(BX107:BX141,BW107:BW141,\"<=\"&$BW138,BW107:BW141,\">=\"&$BW138-1)*$J$21/3600),1),IFERROR((SUMIFS(CA107:CA141,BW107:BW141,\"<=\"&$BW138,BW107:BW141,\">=\"&$BW138-2)/1000)/(  $J$22*SUMIFS(BX107:BX141,BW107:BW141,\"<=\"&$BW138,BW107:BW141,\">=\"&$BW138-2)*$J$21/3600),1),IFERROR((SUMIFS(CA107:CA141,BW107:BW141,\"<=\"&$BW138,BW107:BW141,\">=\"&$BW138-3)/1000)/(  $J$22*SUMIFS(BX107:BX141,BW107:BW141,\"<=\"&$BW138,BW107:BW141,\">=\"&$BW138-3)*$J$21/3600),1)) )","v":1},"",{"$f":"IF(CA138=\"\",1, MIN($CA138/SUM($CA107:$CA138),SUMIFS(CA107:CA141,BW107:BW141,\">=\"&$BW138-1,BW107:BW141,\"<=\"&$BW138)/SUM($CA107:$CA138),SUMIFS(CA107:CA141,BW107:BW141,\">=\"&$BW138-2,BW107:BW141,\"<=\"&$BW138)/SUM($CA107:$CA138),SUMIFS(CA107:CA141,BW107:BW141,\">=\"&$BW138-3,BW107:BW141,\"<=\"&$BW138)/SUM($CA107:$CA138)) )","v":1}]
[null,null,null,null,null,null,null,null,null,null,null,null,null,null,null,null,33,null,null,null,null,null,null,null,33,null,null,null,null,null,null,null,null,null,null,null,null,null,null,null,null,"CD cost per mile - gasoline ($/mi) [3]",{"$f":"astm($F$36*((SUMIF(AV107:AV141,\"<=\" & (AQ130-1),AW107:AW141) + AQ129*SUMIF(AV107:AV141,\"=\" & (AQ130-1),AW107:AW141))/AQ103),3)","v":{"$error":"#VALUE!"}},{"$f":"astm($F$36*((SUMIF(BW107:BW141,\"<=\" & (AR130-1),BX107:BX141) + AR129*SUMIF(BW107:BW141,\"=\" & (AR130-1),BX107:BX141))/AR103),3)","v":{"$error":"#VALUE!"}},null,null,null,33,"","","","",{"$f":"IFERROR(astm(  astm($W$142,3)*1000*(AZ139/AQ109),1),\"\")","v":""},"","","",{"$f":"IFERROR(astm(cityfuf(BB139),3)-astm(cityfuf(BB138),3),\"\")","v":""},"","","","","","",{"$f":"IFERROR(astm(mdiuf(BK139),3)-astm(mdiuf(BK138),3),\"\")","v":""},"","",{"$f":"IFERROR(astm(cityfufalt(BK139),3)-astm(cityfufalt(BK138),3),\"\")","v":""},"","","",{"$f":"IF(AZ139=\"\",1, MIN(IFERROR((AZ139/1000)/((AW139*$J$22)*$J$21/3600),1),IFERROR((SUMIFS(AZ107:AZ141,AV107:AV141,\"<=\"&$AV139,AV107:AV141,\">=\"&$AV139-1)/1000)/(  $J$22*SUMIFS(AW107:AW141,AV107:AV141,\"<=\"&$AV139,AV107:AV141,\">=\"&$AV139-1)*$J$21/3600),1),IFERROR((SUMIFS(AZ107:AZ141,AV107:AV141,\"<=\"&$AV139,AV107:AV141,\">=\"&$AV139-2)/1000)/(  $J$22*SUMIFS(AW107:AW141,AV107:AV141,\"<=\"&$AV139,AV107:AV141,\">=\"&$AV139-2)*$J$21/3600),1),IFERROR((SUMIFS(AZ107:AZ141,AV107:AV141,\"<=\"&$AV139,AV107:AV141,\">=\"&$AV139-3)/1000)/(  $J$22*SUMIFS(AW107:AW141,AV107:AV141,\"<=\"&$AV139,AV107:AV141,\">=\"&$AV139-3)*$J$21/3600),1)) )","v":1},"",{"$f":"IF(AZ139=\"\",1, MIN($AZ139/SUM($AZ107:$AZ139),SUMIFS(AZ107:AZ141,AV107:AV141,\">=\"&$AV139-1,AV107:AV141,\"<=\"&$AV139)/SUM($AZ107:$AZ139),SUMIFS(AZ107:AZ141,AV107:AV141,\">=\"&$AV139-2,AV107:AV141,\"<=\"&$AV139)/SUM($AZ107:$AZ139),SUMIFS(AZ107:AZ141,AV107:AV141,\">=\"&$AV139-3,AV107:AV141,\"<=\"&$AV139)/SUM($AZ107:$AZ139)) )","v":1},null,33,"","","","","","","","",{"$f":"IFERROR(astm(highwayfuf(CC139)-highwayfuf(CC138),3),\"\")","v":""},"","","","","","",{"$f":"IFERROR(astm(mdiuf(CL139)-mdiuf(CL138),3),\"\")","v":""},"","",{"$f":"IFERROR(astm(highwayfufalt(CL139)-highwayfufalt(CL138),3),\"\")","v":""},"","","",{"$f":"IF(CA139=\"\",1, MIN(IFERROR((CA139/1000)/((BX139*$J$22)*$J$21/3600),1),IFERROR((SUMIFS(CA107:CA141,BW107:BW141,\"<=\"&$BW139,BW107:BW141,\">=\"&$BW139-1)/1000)/(  $J$22*SUMIFS(BX107:BX141,BW107:BW141,\"<=\"&$BW139,BW107:BW141,\">=\"&$BW139-1)*$J$21/3600),1),IFERROR((SUMIFS(CA107:CA141,BW107:BW141,\"<=\"&$BW139,BW107:BW141,\">=\"&$BW139-2)/1000)/(  $J$22*SUMIFS(BX107:BX141,BW107:BW141,\"<=\"&$BW139,BW107:BW141,\">=\"&$BW139-2)*$J$21/3600),1),IFERROR((SUMIFS(CA107:CA141,BW107:BW141,\"<=\"&$BW139,BW107:BW141,\">=\"&$BW139-3)/1000)/(  $J$22*SUMIFS(BX107:BX141,BW107:BW141,\"<=\"&$BW139,BW107:BW141,\">=\"&$BW139-3)*$J$21/3600),1)) )","v":1},"",{"$f":"IF(CA139=\"\",1, MIN($CA139/SUM($CA107:$CA139),SUMIFS(CA107:CA141,BW107:BW141,\">=\"&$BW139-1,BW107:BW141,\"<=\"&$BW139)/SUM($CA107:$CA139),SUMIFS(CA107:CA141,BW107:BW141,\">=\"&$BW139-2,BW107:BW141,\"<=\"&$BW139)/SUM($CA107:$CA139),SUMIFS(CA107:CA141,BW107:BW141,\">=\"&$BW139-3,BW107:BW141,\"<=\"&$BW139)/SUM($CA107:$CA139)) )","v":1}]
[null,null,null,null,null,null,null,null,null,null,null,null,null,null,null,null,34,null,null,null,null,null,null,null,34,null,null,null,null,null,null,null,null,null,null,null,null,null,null,null,null,"CD total cost per mile ($/mi) [3]",{"$f":"astm(AQ139+AQ138,3)","v":{"$error":"#VALUE!"}},{"$f":"astm(AR139+AR138,3)","v":{"$error":"#VALUE!"}},null,null,null,34,"","","","",{"$f":"IFERROR(astm(  astm($W$142,3)*1000*(AZ140/AQ109),1),\"\")","v":""},"","","",{"$f":"IFERROR(astm(cityfuf(BB140),3)-astm(cityfuf(BB139),3),\"\")","v":""},"","","","","","",{"$f":"IFERROR(astm(mdiuf(BK140),3)-astm(mdiuf(BK139),3),\"\")","v":""},"","",{"$f":"IFERROR(astm(cityfufalt(BK140),3)-astm(cityfufalt(BK139),3),\"\")","v":""},"","","",{"$f":"IF(AZ140=\"\",1, MIN(IFERROR((AZ140/1000)/((AW140*$J$22)*$J$21/3600),1),IFERROR((SUMIFS(AZ107:AZ141,AV107:AV141,\"<=\"&$AV140,AV107:AV141,\">=\"&$AV140-1)/1000)/(  $J$22*SUMIFS(AW107:AW141,AV107:AV141,\"<=\"&$AV140,AV107:AV141,\">=\"&$AV140-1)*$J$21/3600),1),IFERROR((SUMIFS(AZ107:AZ141,AV107:AV141,\"<=\"&$AV140,AV107:AV141,\">=\"&$AV140-2)/1000)/(  $J$22*SUMIFS(AW107:AW141,AV107:AV141,\"<=\"&$AV140,AV107:AV141,\">=\"&$AV140-2)*$J$21/3600),1),IFERROR((SUMIFS(AZ107:AZ141,AV107:AV141,\"<=\"&$AV140,AV107:AV141,\">=\"&$AV140-3)/1000)/(  $J$22*SUMIFS(AW107:AW141,AV107:AV141,\"<=\"&$AV140,AV107:AV141,\">=\"&$AV140-3)*$J$21/3600),1)) )","v":1},"",{"$f":"IF(AZ140=\"\",1, MIN($AZ140/SUM($AZ107:$AZ140),SUMIFS(AZ107:AZ141,AV107:AV141,\">=\"&$AV140-1,AV107:AV141,\"<=\"&$AV140)/SUM($AZ107:$AZ140),SUMIFS(AZ107:AZ141,AV107:AV141,\">=\"&$AV140-2,AV107:AV141,\"<=\"&$AV140)/SUM($AZ107:$AZ140),SUMIFS(AZ107:AZ141,AV107:AV141,\">=\"&$AV140-3,AV107:AV141,\"<=\"&$AV140)/SUM($AZ107:$AZ140)) )","v":1},null,34,"","","","","","","","",{"$f":"IFERROR(astm(highwayfuf(CC140)-highwayfuf(CC139),3),\"\")","v":""},"","","","","","",{"$f":"IFERROR(astm(mdiuf(CL140)-mdiuf(CL139),3),\"\")","v":""},"","",{"$f":"IFERROR(astm(highwayfufalt(CL140)-highwayfufalt(CL139),3),\"\")","v":""},"","","",{"$f":"IF(CA140=\"\",1, MIN(IFERROR((CA140/1000)/((BX140*$J$22)*$J$21/3600),1),IFERROR((SUMIFS(CA107:CA141,BW107:BW141,\"<=\"&$BW140,BW107:BW141,\">=\"&$BW140-1)/1000)/(  $J$22*SUMIFS(BX107:BX141,BW107:BW141,\"<=\"&$BW140,BW107:BW141,\">=\"&$BW140-1)*$J$21/3600),1),IFERROR((SUMIFS(CA107:CA141,BW107:BW141,\"<=\"&$BW140,BW107:BW141,\">=\"&$BW140-2)/1000)/(  $J$22*SUMIFS(BX107:BX141,BW107:BW141,\"<=\"&$BW140,BW107:BW141,\">=\"&$BW140-2)*$J$21/3600),1),IFERROR((SUMIFS(CA107:CA141,BW107:BW141,\"<=\"&$BW140,BW107:BW141,\">=\"&$BW140-3)/1000)/(  $J$22*SUMIFS(BX107:BX141,BW107:BW141,\"<=\"&$BW140,BW107:BW141,\">=\"&$BW140-3)*$J$21/3600),1)) )","v":1},"",{"$f":"IF(CA140=\"\",1, MIN($CA140/SUM($CA107:$CA140),SUMIFS(CA107:CA141,BW107:BW141,\">=\"&$BW140-1,BW107:BW141,\"<=\"&$BW140)/SUM($CA107:$CA140),SUMIFS(CA107:CA141,BW107:BW141,\">=\"&$BW140-2,BW107:BW141,\"<=\"&$BW140)/SUM($CA107:$CA140),SUMIFS(CA107:CA141,BW107:BW141,\">=\"&$BW140-3,BW107:BW141,\"<=\"&$BW140)/SUM($CA107:$CA140)) )","v":1}]
[null,null,null,null,null,null,null,null,null,null,null,null,null,null,null,null,35,null,null,null,null,null,null,null,35,null,null,null,null,null,null,null,null,null,null,null,null,null,null,null,null,"CS cost per mile ($/mi) [3]",{"$f":"astm($F$36/astm(N108,4),3)","v":{"$error":"#VALUE!"}},{"$f":"astm($F$36/astm(O108,4),3)","v":{"$error":"#VALUE!"}},null,null,null,35,"","","","",{"$f":"IFERROR(astm(  astm($W$142,3)*1000*(AZ141/AQ109),1),\"\")","v":""},"","","",{"$f":"IFERROR(astm(cityfuf(BB141),3)-astm(cityfuf(BB140),3),\"\")","v":""},"","","","","","",{"$f":"IFERROR(astm(mdiuf(BK141),3)-astm(mdiuf(BK140),3),\"\")","v":""},"","",{"$f":"IFERROR(astm(cityfufalt(BK141),3)-astm(cityfufalt(BK140),3),\"\")","v":""},"","","",{"$f":"IF(AZ141=\"\",1, MIN(IFERROR((AZ141/1000)/((AW141*$J$22)*$J$21/3600),1),IFERROR((SUMIFS(AZ107:AZ141,AV107:AV141,\"<=\"&$AV141,AV107:AV141,\">=\"&$AV141-1)/1000)/(  $J$22*SUMIFS(AW107:AW141,AV107:AV141,\"<=\"&$AV141,AV107:AV141,\">=\"&$AV141-1)*$J$21/3600),1),IFERROR((SUMIFS(AZ107:AZ141,AV107:AV141,\"<=\"&$AV141,AV107:AV141,\">=\"&$AV141-2)/1000)/(  $J$22*SUMIFS(AW107:AW141,AV107:AV141,\"<=\"&$AV141,AV107:AV141,\">=\"&$AV141-2)*$J$21/3600),1),IFERROR((SUMIFS(AZ107:AZ141,AV107:AV141,\"<=\"&$AV141,AV107:AV141,\">=\"&$AV141-3)/1000)/(  $J$22*SUMIFS(AW107:AW141,AV107:AV141,\"<=\"&$AV141,AV107:AV141,\">=\"&$AV141-3)*$J$21/3600),1)) )","v":1},"",{"$f":"IF(AZ141=\"\",1, MIN($AZ141/SUM($AZ107:$AZ141),SUMIFS(AZ107:AZ141,AV107:AV141,\">=\"&$AV141-1,AV107:AV141,\"<=\"&$AV141)/SUM($AZ107:$AZ141),SUMIFS(AZ107:AZ141,AV107:AV141,\">=\"&$AV141-2,AV107:AV141,\"<=\"&$AV141)/SUM($AZ107:$AZ141),SUMIFS(AZ107:AZ141,AV107:AV141,\">=\"&$AV141-3,AV107:AV141,\"<=\"&$AV141)/SUM($AZ107:$AZ141)) )","v":1},null,35,"","","","","","","","",{"$f":"IFERROR(astm(highwayfuf(CC141)-highwayfuf(CC140),3),\"\")","v":""},"","","","","","",{"$f":"IFERROR(astm(mdiuf(CL141)-mdiuf(CL140),3),\"\")","v":""},"","",{"$f":"IFERROR(astm(highwayfufalt(CL141)-highwayfufalt(CL140),3),\"\")","v":""},"","","",{"$f":"IF(CA141=\"\",1, MIN(IFERROR((CA141/1000)/((BX141*$J$22)*$J$21/3600),1),IFERROR((SUMIFS(CA107:CA141,BW107:BW141,\"<=\"&$BW141,BW107:BW141,\">=\"&$BW141-1)/1000)/(  $J$22*SUMIFS(BX107:BX141,BW107:BW141,\"<=\"&$BW141,BW107:BW141,\">=\"&$BW141-1)*$J$21/3600),1),IFERROR((SUMIFS(CA107:CA141,BW107:BW141,\"<=\"&$BW141,BW107:BW141,\">=\"&$BW141-2)/1000)/(  $J$22*SUMIFS(BX107:BX141,BW107:BW141,\"<=\"&$BW141,BW107:BW141,\">=\"&$BW141-2)*$J$21/3600),1),IFERROR((SUMIFS(CA107:CA141,BW107:BW141,\"<=\"&$BW141,BW107:BW141,\">=\"&$BW141-3)/1000)/(  $J$22*SUMIFS(BX107:BX141,BW107:BW141,\"<=\"&$BW141,BW107:BW141,\">=\"&$BW141-3)*$J$21/3600),1)) )","v":1},"",{"$f":"IF(CA141=\"\",1, MIN($CA141/SUM($CA107:$CA141),SUMIFS(CA107:CA141,BW107:BW141,\">=\"&$BW141-1,BW107:BW141,\"<=\"&$BW141)/SUM($CA107:$CA141),SUMIFS(CA107:CA141,BW107:BW141,\">=\"&$BW141-2,BW107:BW141,\"<=\"&$BW141)/SUM($CA107:$CA141),SUMIFS(CA107:CA141,BW107:BW141,\">=\"&$BW141-3,BW107:BW141,\"<=\"&$BW141)/SUM($CA107:$CA141)) )","v":1}]
[null,null,null,null,null,null,null,null,null,null,null,null,null,null,null,null,null,null,null,null,null,"Recharge energy (AC kilowatt-hours):",null,null,null,null,null,null,null,"Recharge energy (AC kilowatt-hours):",null,null,null,null,null,null,null,null,null,null,null,"Composite CD/CS cost ($/mi) [3]",{"$f":"astm(AQ127*AQ140+(1-AQ127)*AQ141,3)","v":{"$error":"#VALUE!"}},{"$f":"astm(AR127*AR140+(1-AR127)*AR141,3)","v":{"$error":"#VALUE!"}}]
[null,null,null,null,null,null,null,null,null,null,null,null,null,null,null,null,null,null,null,null,null,"All-Electric Range (miles):",null,null,null,null,null,null,null,"All-Electric Range (miles):",null,null,null,null,null,null,null,null,null,null,null,"COMPOSITE CD/CS FUEL ECONOMY AND CO2 VALUES, ADJUSTED","CITY","HIGHWAY"]
[null,null,null,null,null,null,null,null,null,null,null,null,null,null,null,null,{"$f":"\"Calculated transition cycle:  \" &  IF(COUNTIF(BR107:BR136,\"CD\") < COUNT(R107:R136), COUNTIF(BR107:BR136,\"CD\"),     IF(COUNTIF(BT107:BT136,\"CD\") < COUNT(R107:R136), COUNTIF(BT107:BT136,\"CD\"),     \"ERROR\"     )     )","v":"Calculated transition cycle:  ERROR"},null,null,null,null,"To override transition cycle, enter here--->",null,null,{"$f":"\"Calculated transition cycle:  \" &  IF(COUNTIF(CS107:CS136,\"CD\") < COUNT(Z107:Z136), COUNTIF(CS107:CS136,\"CD\"),     IF(COUNTIF(CU107:CU136,\"CD\") < COUNT(Z107:Z136), COUNTIF(CU107:CU136,\"CD\"),     \"ERROR\"     )     )","v":"Calculated transition cycle:  ERROR"},null,null,null,null,"To override transition cycle, enter here--->",null,null,null,null,null,null,null,null,null,null,null,"Composite CD/CS CO2, adjusted (g/mi) [1]",{"$f":"astm(IFERROR(AQ122+(1-AQ128)*N111,#VALUE!),1)","v":0},{"$f":"astm(IFERROR(AR122+(1-AR128)*O111,#VALUE!),1)","v":0}]
[null,null,null,null,null,null,null,null,null,null,null,null,null,null,null,null,null,null,null,null,null,null,null,null,null,null,null,null,null,null,null,null,null,null,null,null,null,null,null,null,null,"Composite CD/CS Fuel Economy, adjusted (MPG) [4]",{"$f":"IFERROR(astm( IFERROR(1/ ( AQ113 + (1-AQ128)/N108),#VALUE!), 4),0)","v":0},{"$f":"IFERROR(astm( IFERROR(1/ ( AR113 + (1-AR128)/O108),#VALUE!), 4),0)","v":0}]