{"text_format":"1","workbook":"xlsx","n_sheets":15,"sheets":["Control","CH4 from Coal Mining","CH4 from Abandoned Coal Mines","Summary Abandoned Coal Mines","Abandoned Data","Abandoned Data Inputs","Summary","Uncertainty","Coal codes","Coal data","Data Sources","constants","Documentation","AbandonedMethods","Notes"],"not_rendered":{"charts":2,"images":74,"macros":1,"external_links":0,"defined_names":69,"comments":4,"pivot_tables":0},"unopened":[],"bounds":{"document_bytes":16777216,"sheet_cells":100000,"rows_first":2000,"rows_last":500,"rows_between":2000,"halvings":0,"cell_chars":16384,"cell_head_chars":4096},"cells_cut":0,"cells_raw":0,"read":"whole","date_system":"1900"}

{"sheet":"Control","index":0,"n_rows":41,"n_cols":6,"rows_kept":41,"cut":false,"hidden":false,"merged":[]}
["State Inventory Tool - Methane Emissions from Coal Mining"]
[]
["1. Choose a State."]
["This is very important - it selects the correct default variables for your state."]
[]
["2. Fill In the variables that are used in this tool and click to proceed to the respective worksheets."]
["Either type in the value or click the default box. The default GWPs used in this module are from the IPCC Fourth Assessment Report (AR4) but can be adjusted in the Constants tab to reflect other sources."]
[]
["Coal Mining Emission Factors (EF)"]
[null,"Default Factor","Factor Used","Use Default?"]
["Mines","(ft3 methane / short ton coal)","(ft3 methane / short ton coal)","(Check for Yes)"]
["Surface Mines"]
[{"$f":"VLOOKUP(VLOOKUP(St,coalbasins,5,FALSE),'Coal codes'!$I$27:$J$40,2,FALSE)","v":"---"},{"$f":"VLOOKUP(A13,Scoaldata,3,FALSE)","v":0}]
[{"$f":"VLOOKUP(VLOOKUP(St,coalbasins,6,FALSE),'Coal codes'!$I$27:$J$40,2,FALSE)","v":"---"},{"$f":"VLOOKUP(A14,Scoaldata,3,FALSE)","v":0},null,null,null," "]
[]
["Post-Mining Activities"]
["Underground"]
[{"$f":"VLOOKUP(VLOOKUP(St,coalbasins,3,FALSE),'Coal codes'!$I$5:$J$23,2,FALSE)","v":"---"},{"$f":"VLOOKUP(A18,Ucoaldata,3,FALSE)","v":0}]
[{"$f":"VLOOKUP(VLOOKUP(St,coalbasins,4,FALSE),'Coal codes'!$I$5:$J$23,2,FALSE)","v":"---"},{"$f":"VLOOKUP(A19,Ucoaldata,3,FALSE)","v":0}]
["Surface"]
[{"$f":"VLOOKUP(VLOOKUP(St,coalbasins,5,FALSE),'Coal codes'!$I$27:$J$40,2,FALSE)","v":"---"},{"$f":"VLOOKUP(A21,Scoaldata,4,FALSE)","v":0}]
[{"$f":"VLOOKUP(VLOOKUP(St,coalbasins,6,FALSE),'Coal codes'!$I$27:$J$40,2,FALSE)","v":"---"},{"$f":"VLOOKUP(A22,Scoaldata,4,FALSE)","v":0}]
[]
[]
["3. Proceed to the Coal Mining worksheet."]
[]
[]
[]
["4. Proceed to the Abandoned Coal Mines worksheet."]
[]
[]
[]
[{"$f":"\"5. Proceed to Summary worksheet for emissions summary for \"&State&\".\"","v":"5. Proceed to Summary worksheet for emissions summary for Select a State . . . ."}]
[]
[]
[]
[]
[]
[]
[]
["6. Export the results for use in the Synthesis Tool."]

{"sheet":"CH4 from Coal Mining","index":1,"n_rows":652,"n_cols":15,"rows_kept":652,"cut":false,"hidden":false,"merged":[]}
[null,null,{"$f":"\"3. CH4 from Coal Mining in \"&constants!K1","v":"3. CH4 from Coal Mining in XX"}]
[null,null,{"$f":"constants!K1","v":"XX"}]
[null,null,"Coal Mining",null,null,null,1990]
[null,null,"Emissions from:","Coal Basin(s)                            (if applicable)","Measured Ventilation Emissions (million cubic feet)",null,"Degasification System Emissions (mcf)",null,"Methane Recovered from Degasification Systems and Used for Energy (mcf)",null,"Emissions       (mcf CH4)",null,"Emissions  (MTCH4)",null,"Emissions  (MTCO2E)"]
[null,null,"Mines"]
[null,{"$f":"G3","v":1990},"Underground Mines",null,null,"+  ( ",null,"-",null," )  =",{"$f":"E6+G6-I6","v":0},"=",{"$f":"K6*1000000*ft3_g*g_mt","v":0},"=",{"$f":"(M6*CH4GWP)","v":0}]
[null,{"$f":"B6","v":1990}]
[null,{"$f":"B7","v":1990},null,null,"Surface Coal Production ('000 short tons)",null,"Basin-specific EF (ft3/short ton)",null,"Emissions  ('000 ft3 CH4)",null,"Emissions  (MTCH4)",null,"Emissions  (MTCO2E)"]
[null,1990,"Surface Mines",{"$f":"VLOOKUP(VLOOKUP(constants!$K$1,coalbasins,5,FALSE),'Coal codes'!$I$27:$J$40,2,FALSE)","v":"---"},null,"x",{"$f":"Control!$C$13","v":0},"=",{"$f":"E9*G9","v":0},"=",{"$f":"I9*ft3_g*g_mt*1000","v":0},"=",{"$f":"(K9*CH4GWP)","v":0}]
[null,1990,null,{"$f":"VLOOKUP(VLOOKUP(constants!$K$1,coalbasins,6,FALSE),'Coal codes'!$I$27:$J$40,2,FALSE)","v":"---"},null,"x",{"$f":"Control!$C$14","v":0},"=",{"$f":"IF(BasinNum=1,\"---\",E10*G10)","v":0},"=",{"$f":"IF(BasinNum=1,\"---\",I10*ft3_g*g_mt*1000)","v":0},"=",{"$f":"IF(BasinNum=1,\"---\",(K10*CH4GWP))","v":0}]
[null,1990]
[null,1990,"Post-Mining Activity",null,"Coal Production ('000 short tons)",null,"Basin- & Mine-specific EF (ft3/short ton)",null,"Emissions  ('000 ft3 CH4)",null,"Emissions  (MTCH4)",null,"Emissions  (MTCO2E)"]
[null,1990,"Underground Mines",{"$f":"VLOOKUP(VLOOKUP(constants!$K$1,coalbasins,3,FALSE),'Coal codes'!$I$5:$J$23,2,FALSE)","v":"---"},null,"x",{"$f":"Control!$C$18","v":0},"=",{"$f":"E13*G13","v":0},"=",{"$f":"I13*ft3_g*g_mt*1000","v":0},"=",{"$f":"(K13*CH4GWP)","v":0}]
[null,1990,null,{"$f":"VLOOKUP(VLOOKUP(constants!$K$1,coalbasins,4,FALSE),'Coal codes'!$I$5:$J$23,2,FALSE)","v":"---"},null,"x",{"$f":"Control!$C$19","v":0},"=",{"$f":"IF(BasinNum=1,\"---\",E14*G14)","v":0},"=",{"$f":"IF(BasinNum=1,\"---\",I14*ft3_g*g_mt*1000)","v":0},"=",{"$f":"IF(BasinNum=1,\"---\",(K14*CH4GWP))","v":0}]
[null,1990,"Surface Mines",{"$f":"VLOOKUP(VLOOKUP(constants!$K$1,coalbasins,5,FALSE),'Coal codes'!$I$27:$J$40,2,FALSE)","v":"---"},null,"x",{"$f":"Control!$C$21","v":0},"=",{"$f":"E15*G15","v":0},"=",{"$f":"I15*ft3_g*g_mt*1000","v":0},"=",{"$f":"(K15*CH4GWP)","v":0}]
[null,1990,null,{"$f":"VLOOKUP(VLOOKUP(constants!$K$1,coalbasins,6,FALSE),'Coal codes'!$I$27:$J$40,2,FALSE)","v":"---"},null,"x",{"$f":"Control!$C$22","v":0},"=",{"$f":"IF(BasinNum=1,\"---\",E16*G16)","v":0},"=",{"$f":"IF(BasinNum=1,\"---\",I16*ft3_g*g_mt*1000)","v":0},"=",{"$f":"IF(BasinNum=1,\"---\",(K16*CH4GWP))","v":0}]
[null,1990,"Post-Mining Total",null,null,null,null,null,{"$f":"SUM(I13:I16)","v":0},"=",{"$f":"SUM(K13:K16)","v":0},"=",{"$f":"SUM(M13:M16)","v":0}]
[]
[null,null,"Total Coal Mining","(MTCO2E)",{"$f":"SUM(E20:E22)","v":0}]
[null,null,null,"Underground Mines",{"$f":"O6","v":0}]
[null,null,null,"Surface Mines",{"$f":"SUM(M9:M10)","v":0}]
[null,null,null,"Post-Mining Activity",{"$f":"M17","v":0}]
[]
[null,null,"Coal Mining",null,null,null,1991]
[null,null,"Emissions from:","Coal Basin(s)                            (if applicable)","Measured Ventilation Emissions (mcf)",null,"Degasification System Emissions (mcf)",null,"Methane Recovered from Degasification Systems and Used for Energy (mcf)",null,"Emissions       (mcf CH4)",null,"Emissions  (MTCH4)",null,"Emissions  (MTCO2E)"]
[null,null,"Mines"]
[null,{"$f":"G24","v":1991},"Underground Mines",null,null,"+  ( ",null,"-",null," )  =",{"$f":"E27+G27-I27","v":0},"=",{"$f":"K27*1000000*ft3_g*g_mt","v":0},"=",{"$f":"(M27*CH4GWP)","v":0}]
[null,{"$f":"B27","v":1991}]
[null,{"$f":"B28","v":1991},null,null,"Surface Coal Production ('000 short tons)",null,"Basin-specific EF (ft3/short ton)",null,"Emissions  ('000 ft3 CH4)",null,"Emissions  (MTCH4)",null,"Emissions  (MTCO2E)"]
[null,1991,"Surface Mines",{"$f":"VLOOKUP(VLOOKUP(constants!$K$1,coalbasins,5,FALSE),'Coal codes'!$I$27:$J$40,2,FALSE)","v":"---"},null,"x",{"$f":"Control!$C$13","v":0},"=",{"$f":"E30*G30","v":0},"=",{"$f":"I30*ft3_g*g_mt*1000","v":0},"=",{"$f":"(K30*CH4GWP)","v":0}]
[null,1991,null,{"$f":"VLOOKUP(VLOOKUP(constants!$K$1,coalbasins,6,FALSE),'Coal codes'!$I$27:$J$40,2,FALSE)","v":"---"},null,"x",{"$f":"Control!$C$14","v":0},"=",{"$f":"IF(BasinNum=1,\"---\",E31*G31)","v":0},"=",{"$f":"IF(BasinNum=1,\"---\",I31*ft3_g*g_mt*1000)","v":0},"=",{"$f":"IF(BasinNum=1,\"---\",(K31*CH4GWP))","v":0}]
[null,1991]
[null,1991,"Post-Mining Activity",null,"Coal Production ('000 short tons)",null,"Basin- & Mine-specific EF (ft3/short ton)",null,"Emissions  ('000 ft3 CH4)",null,"Emissions  (MTCH4)",null,"Emissions  (MTCO2E)"]
[null,1991,"Underground Mines",{"$f":"VLOOKUP(VLOOKUP(constants!$K$1,coalbasins,3,FALSE),'Coal codes'!$I$5:$J$23,2,FALSE)","v":"---"},null,"x",{"$f":"Control!$C$18","v":0},"=",{"$f":"E34*G34","v":0},"=",{"$f":"I34*ft3_g*g_mt*1000","v":0},"=",{"$f":"(K34*CH4GWP)","v":0}]
[null,1991,null,{"$f":"VLOOKUP(VLOOKUP(constants!$K$1,coalbasins,4,FALSE),'Coal codes'!$I$5:$J$23,2,FALSE)","v":"---"},null,"x",{"$f":"Control!$C$19","v":0},"=",{"$f":"IF(BasinNum=1,\"---\",E35*G35)","v":0},"=",{"$f":"IF(BasinNum=1,\"---\",I35*ft3_g*g_mt*1000)","v":0},"=",{"$f":"IF(BasinNum=1,\"---\",(K35*CH4GWP))","v":0}]
[null,1991,"Surface Mines",{"$f":"VLOOKUP(VLOOKUP(constants!$K$1,coalbasins,5,FALSE),'Coal codes'!$I$27:$J$40,2,FALSE)","v":"---"},null,"x",{"$f":"Control!$C$21","v":0},"=",{"$f":"E36*G36","v":0},"=",{"$f":"I36*ft3_g*g_mt*1000","v":0},"=",{"$f":"(K36*CH4GWP)","v":0}]
[null,1991,null,{"$f":"VLOOKUP(VLOOKUP(constants!$K$1,coalbasins,6,FALSE),'Coal codes'!$I$27:$J$40,2,FALSE)","v":"---"},null,"x",{"$f":"Control!$C$22","v":0},"=",{"$f":"IF(BasinNum=1,\"---\",E37*G37)","v":0},"=",{"$f":"IF(BasinNum=1,\"---\",I37*ft3_g*g_mt*1000)","v":0},"=",{"$f":"IF(BasinNum=1,\"---\",(K37*CH4GWP))","v":0}]
[null,1991,"Post-Mining Total",null,null,null,null,null,{"$f":"SUM(I34:I37)","v":0},"=",{"$f":"SUM(K34:K37)","v":0},"=",{"$f":"SUM(M34:M37)","v":0}]
[]
[null,null,"Total Coal Mining","(MTCO2E)",{"$f":"SUM(E41:E43)","v":0}]
[null,null,null,"Underground Mines",{"$f":"O27","v":0}]
[null,null,null,"Surface Mines",{"$f":"SUM(M30:M31)","v":0}]
[null,null,null,"Post-Mining Activity",{"$f":"M38","v":0}]
[]
[null,null,"Coal Mining",null,null,null,1992]
[null,null,"Emissions from:","Coal Basin(s)                            (if applicable)","Measured Ventilation Emissions (mcf)",null,"Degasification System Emissions (mcf)",null,"Methane Recovered from Degasification Systems and Used for Energy (mcf)",null,"Emissions       (mcf CH4)",null,"Emissions  (MTCH4)",null,"Emissions  (MTCO2E)"]
[null,null,"Mines"]
[null,{"$f":"G45","v":1992},"Underground Mines",null,null,"+  ( ",null,"-",null," )  =",{"$f":"E48+G48-I48","v":0},"=",{"$f":"K48*1000000*ft3_g*g_mt","v":0},"=",{"$f":"(M48*CH4GWP)","v":0}]
[null,{"$f":"B48","v":1992}]
[null,{"$f":"B49","v":1992},null,null,"Surface Coal Production ('000 short tons)",null,"Basin-specific EF (ft3/short ton)",null,"Emissions  ('000 ft3 CH4)",null,"Emissions  (MTCH4)",null,"Emissions  (MTCO2E)"]
[null,1992,"Surface Mines",{"$f":"VLOOKUP(VLOOKUP(constants!$K$1,coalbasins,5,FALSE),'Coal codes'!$I$27:$J$40,2,FALSE)","v":"---"},null,"x",{"$f":"Control!$C$13","v":0},"=",{"$f":"E51*G51","v":0},"=",{"$f":"I51*ft3_g*g_mt*1000","v":0},"=",{"$f":"(K51*CH4GWP)","v":0}]
[null,1992,null,{"$f":"VLOOKUP(VLOOKUP(constants!$K$1,coalbasins,6,FALSE),'Coal codes'!$I$27:$J$40,2,FALSE)","v":"---"},null,"x",{"$f":"Control!$C$14","v":0},"=",{"$f":"IF(BasinNum=1,\"---\",E52*G52)","v":0},"=",{"$f":"IF(BasinNum=1,\"---\",I52*ft3_g*g_mt*1000)","v":0},"=",{"$f":"IF(BasinNum=1,\"---\",(K52*CH4GWP))","v":0}]
[null,1992]
[null,1992,"Post-Mining Activity",null,"Coal Production ('000 short tons)",null,"Basin- & Mine-specific EF (ft3/short ton)",null,"Emissions  ('000 ft3 CH4)",null,"Emissions  (MTCH4)",null,"Emissions  (MTCO2E)"]
[null,1992,"Underground Mines",{"$f":"VLOOKUP(VLOOKUP(constants!$K$1,coalbasins,3,FALSE),'Coal codes'!$I$5:$J$23,2,FALSE)","v":"---"},null,"x",{"$f":"Control!$C$18","v":0},"=",{"$f":"E55*G55","v":0},"=",{"$f":"I55*ft3_g*g_mt*1000","v":0},"=",{"$f":"(K55*CH4GWP)","v":0}]
[null,1992,null,{"$f":"VLOOKUP(VLOOKUP(constants!$K$1,coalbasins,4,FALSE),'Coal codes'!$I$5:$J$23,2,FALSE)","v":"---"},null,"x",{"$f":"Control!$C$19","v":0},"=",{"$f":"IF(BasinNum=1,\"---\",E56*G56)","v":0},"=",{"$f":"IF(BasinNum=1,\"---\",I56*ft3_g*g_mt*1000)","v":0},"=",{"$f":"IF(BasinNum=1,\"---\",(K56*CH4GWP))","v":0}]
[null,1992,"Surface Mines",{"$f":"VLOOKUP(VLOOKUP(constants!$K$1,coalbasins,5,FALSE),'Coal codes'!$I$27:$J$40,2,FALSE)","v":"---"},null,"x",{"$f":"Control!$C$21","v":0},"=",{"$f":"E57*G57","v":0},"=",{"$f":"I57*ft3_g*g_mt*1000","v":0},"=",{"$f":"(K57*CH4GWP)","v":0}]
[null,1992,null,{"$f":"VLOOKUP(VLOOKUP(constants!$K$1,coalbasins,6,FALSE),'Coal codes'!$I$27:$J$40,2,FALSE)","v":"---"},null,"x",{"$f":"Control!$C$22","v":0},"=",{"$f":"IF(BasinNum=1,\"---\",E58*G58)","v":0},"=",{"$f":"IF(BasinNum=1,\"---\",I58*ft3_g*g_mt*1000)","v":0},"=",{"$f":"IF(BasinNum=1,\"---\",(K58*CH4GWP))","v":0}]
[null,1992,"Post-Mining Total",null,null,null,null,null,{"$f":"SUM(I55:I58)","v":0},"=",{"$f":"SUM(K55:K58)","v":0},"=",{"$f":"SUM(M55:M58)","v":0}]
[]
[null,null,"Total Coal Mining","(MTCO2E)",{"$f":"SUM(E62:E64)","v":0}]
[null,null,null,"Underground Mines",{"$f":"O48","v":0}]
[null,null,null,"Surface Mines",{"$f":"SUM(M51:M52)","v":0}]
[null,null,null,"Post-Mining Activity",{"$f":"M59","v":0}]
[]
[null,null,"Coal Mining",null,null,null,1993]
[null,null,"Emissions from:","Coal Basin(s)                            (if applicable)","Measured Ventilation Emissions (mcf)",null,"Degasification System Emissions (mcf)",null,"Methane Recovered from Degasification Systems and Used for Energy (mcf)",null,"Emissions       (mcf CH4)",null,"Emissions  (MTCH4)",null,"Emissions  (MTCO2E)"]
[null,null,"Mines"]
[null,{"$f":"G66","v":1993},"Underground Mines",null,null,"+  ( ",null,"-",null," )  =",{"$f":"E69+G69-I69","v":0},"=",{"$f":"K69*1000000*ft3_g*g_mt","v":0},"=",{"$f":"(M69*CH4GWP)","v":0}]
[null,{"$f":"B69","v":1993}]
[null,{"$f":"B70","v":1993},null,null,"Surface Coal Production ('000 short tons)",null,"Basin-specific EF (ft3/short ton)",null,"Emissions  ('000 ft3 CH4)",null,"Emissions  (MTCH4)",null,"Emissions  (MTCO2E)"]
[null,1993,"Surface Mines",{"$f":"VLOOKUP(VLOOKUP(constants!$K$1,coalbasins,5,FALSE),'Coal codes'!$I$27:$J$40,2,FALSE)","v":"---"},null,"x",{"$f":"Control!$C$13","v":0},"=",{"$f":"E72*G72","v":0},"=",{"$f":"I72*ft3_g*g_mt*1000","v":0},"=",{"$f":"(K72*CH4GWP)","v":0}]
[null,1993,null,{"$f":"VLOOKUP(VLOOKUP(constants!$K$1,coalbasins,6,FALSE),'Coal codes'!$I$27:$J$40,2,FALSE)","v":"---"},null,"x",{"$f":"Control!$C$14","v":0},"=",{"$f":"IF(BasinNum=1,\"---\",E73*G73)","v":0},"=",{"$f":"IF(BasinNum=1,\"---\",I73*ft3_g*g_mt*1000)","v":0},"=",{"$f":"IF(BasinNum=1,\"---\",(K73*CH4GWP))","v":0}]
[null,1993]
[null,1993,"Post-Mining Activity",null,"Coal Production ('000 short tons)",null,"Basin- & Mine-specific EF (ft3/short ton)",null,"Emissions  ('000 ft3 CH4)",null,"Emissions  (MTCH4)",null,"Emissions  (MTCO2E)"]
[null,1993,"Underground Mines",{"$f":"VLOOKUP(VLOOKUP(constants!$K$1,coalbasins,3,FALSE),'Coal codes'!$I$5:$J$23,2,FALSE)","v":"---"},null,"x",{"$f":"Control!$C$18","v":0},"=",{"$f":"E76*G76","v":0},"=",{"$f":"I76*ft3_g*g_mt*1000","v":0},"=",{"$f":"(K76*CH4GWP)","v":0}]
[null,1993,null,{"$f":"VLOOKUP(VLOOKUP(constants!$K$1,coalbasins,4,FALSE),'Coal codes'!$I$5:$J$23,2,FALSE)","v":"---"},null,"x",{"$f":"Control!$C$19","v":0},"=",{"$f":"IF(BasinNum=1,\"---\",E77*G77)","v":0},"=",{"$f":"IF(BasinNum=1,\"---\",I77*ft3_g*g_mt*1000)","v":0},"=",{"$f":"IF(BasinNum=1,\"---\",(K77*CH4GWP))","v":0}]
[null,1993,"Surface Mines",{"$f":"VLOOKUP(VLOOKUP(constants!$K$1,coalbasins,5,FALSE),'Coal codes'!$I$27:$J$40,2,FALSE)","v":"---"},null,"x",{"$f":"Control!$C$21","v":0},"=",{"$f":"E78*G78","v":0},"=",{"$f":"I78*ft3_g*g_mt*1000","v":0},"=",{"$f":"(K78*CH4GWP)","v":0}]
[null,1993,null,{"$f":"VLOOKUP(VLOOKUP(constants!$K$1,coalbasins,6,FALSE),'Coal codes'!$I$27:$J$40,2,FALSE)","v":"---"},null,"x",{"$f":"Control!$C$22","v":0},"=",{"$f":"IF(BasinNum=1,\"---\",E79*G79)","v":0},"=",{"$f":"IF(BasinNum=1,\"---\",I79*ft3_g*g_mt*1000)","v":0},"=",{"$f":"IF(BasinNum=1,\"---\",(K79*CH4GWP))","v":0}]
[null,1993,"Post-Mining Total",null,null,null,null,null,{"$f":"SUM(I76:I79)","v":0},"=",{"$f":"SUM(K76:K79)","v":0},"=",{"$f":"SUM(M76:M79)","v":0}]
[]
[null,null,"Total Coal Mining","(MTCO2E)",{"$f":"SUM(E83:E85)","v":0}]
[null,null,null,"Underground Mines",{"$f":"O69","v":0}]
[null,null,null,"Surface Mines",{"$f":"SUM(M72:M73)","v":0}]
[null,null,null,"Post-Mining Activity",{"$f":"M80","v":0}]
[]
[null,null,"Coal Mining",null,null,null,1994]
[null,null,"Emissions from:","Coal Basin(s)                            (if applicable)","Measured Ventilation Emissions (mcf)",null,"Degasification System Emissions (mcf)",null,"Methane Recovered from Degasification Systems and Used for Energy (mcf)",null,"Emissions       (mcf CH4)",null,"Emissions  (MTCH4)",null,"Emissions  (MTCO2E)"]
[null,null,"Mines"]
[null,{"$f":"G87","v":1994},"Underground Mines",null,null,"+  ( ",null,"-",null," )  =",{"$f":"E90+G90-I90","v":0},"=",{"$f":"K90*1000000*ft3_g*g_mt","v":0},"=",{"$f":"(M90*CH4GWP)","v":0}]
[null,{"$f":"B90","v":1994}]
[null,{"$f":"B91","v":1994},null,null,"Surface Coal Production ('000 short tons)",null,"Basin-specific EF (ft3/short ton)",null,"Emissions  ('000 ft3 CH4)",null,"Emissions  (MTCH4)",null,"Emissions  (MTCO2E)"]
[null,1994,"Surface Mines",{"$f":"VLOOKUP(VLOOKUP(constants!$K$1,coalbasins,5,FALSE),'Coal codes'!$I$27:$J$40,2,FALSE)","v":"---"},null,"x",{"$f":"Control!$C$13","v":0},"=",{"$f":"E93*G93","v":0},"=",{"$f":"I93*ft3_g*g_mt*1000","v":0},"=",{"$f":"(K93*CH4GWP)","v":0}]
[null,1994,null,{"$f":"VLOOKUP(VLOOKUP(constants!$K$1,coalbasins,6,FALSE),'Coal codes'!$I$27:$J$40,2,FALSE)","v":"---"},null,"x",{"$f":"Control!$C$14","v":0},"=",{"$f":"IF(BasinNum=1,\"---\",E94*G94)","v":0},"=",{"$f":"IF(BasinNum=1,\"---\",I94*ft3_g*g_mt*1000)","v":0},"=",{"$f":"IF(BasinNum=1,\"---\",(K94*CH4GWP))","v":0}]
[null,1994]
[null,1994,"Post-Mining Activity",null,"Coal Production ('000 short tons)",null,"Basin- & Mine-specific EF (ft3/short ton)",null,"Emissions  ('000 ft3 CH4)",null,"Emissions  (MTCH4)",null,"Emissions  (MTCO2E)"]
[null,1994,"Underground Mines",{"$f":"VLOOKUP(VLOOKUP(constants!$K$1,coalbasins,3,FALSE),'Coal codes'!$I$5:$J$23,2,FALSE)","v":"---"},null,"x",{"$f":"Control!$C$18","v":0},"=",{"$f":"E97*G97","v":0},"=",{"$f":"I97*ft3_g*g_mt*1000","v":0},"=",{"$f":"(K97*CH4GWP)","v":0}]
[null,1994,null,{"$f":"VLOOKUP(VLOOKUP(constants!$K$1,coalbasins,4,FALSE),'Coal codes'!$I$5:$J$23,2,FALSE)","v":"---"},null,"x",{"$f":"Control!$C$19","v":0},"=",{"$f":"IF(BasinNum=1,\"---\",E98*G98)","v":0},"=",{"$f":"IF(BasinNum=1,\"---\",I98*ft3_g*g_mt*1000)","v":0},"=",{"$f":"IF(BasinNum=1,\"---\",(K98*CH4GWP))","v":0}]
[null,1994,"Surface Mines",{"$f":"VLOOKUP(VLOOKUP(constants!$K$1,coalbasins,5,FALSE),'Coal codes'!$I$27:$J$40,2,FALSE)","v":"---"},null,"x",{"$f":"Control!$C$21","v":0},"=",{"$f":"E99*G99","v":0},"=",{"$f":"I99*ft3_g*g_mt*1000","v":0},"=",{"$f":"(K99*CH4GWP)","v":0}]
[null,1994,null,{"$f":"VLOOKUP(VLOOKUP(constants!$K$1,coalbasins,6,FALSE),'Coal codes'!$I$27:$J$40,2,FALSE)","v":"---"},null,"x",{"$f":"Control!$C$22","v":0},"=",{"$f":"IF(BasinNum=1,\"---\",E100*G100)","v":0},"=",{"$f":"IF(BasinNum=1,\"---\",I100*ft3_g*g_mt*1000)","v":0},"=",{"$f":"IF(BasinNum=1,\"---\",(K100*CH4GWP))","v":0}]
[null,1994,"Post-Mining Total",null,null,null,null,null,{"$f":"SUM(I97:I100)","v":0},"=",{"$f":"SUM(K97:K100)","v":0},"=",{"$f":"SUM(M97:M100)","v":0}]
[]
[null,null,"Total Coal Mining","(MTCO2E)",{"$f":"SUM(E104:E106)","v":0}]
[null,null,null,"Underground Mines",{"$f":"O90","v":0}]
[null,null,null,"Surface Mines",{"$f":"SUM(M93:M94)","v":0}]
[null,null,null,"Post-Mining Activity",{"$f":"M101","v":0}]
[]
[null,null,"Coal Mining",null,null,null,1995]
[null,null,"Emissions from:","Coal Basin(s)                            (if applicable)","Measured Ventilation Emissions (mcf)",null,"Degasification System Emissions (mcf)",null,"Methane Recovered from Degasification Systems and Used for Energy (mcf)",null,"Emissions       (mcf CH4)",null,"Emissions  (MTCH4)",null,"Emissions  (MTCO2E)"]
[null,null,"Mines"]
[null,{"$f":"G108","v":1995},"Underground Mines",null,null,"+  ( ",null,"-",null," )  =",{"$f":"E111+G111-I111","v":0},"=",{"$f":"K111*1000000*ft3_g*g_mt","v":0},"=",{"$f":"(M111*CH4GWP)","v":0}]
[null,{"$f":"B111","v":1995}]
[null,{"$f":"B112","v":1995},null,null,"Surface Coal Production ('000 short tons)",null,"Basin-specific EF (ft3/short ton)",null,"Emissions  ('000 ft3 CH4)",null,"Emissions  (MTCH4)",null,"Emissions  (MTCO2E)"]
[null,1995,"Surface Mines",{"$f":"VLOOKUP(VLOOKUP(constants!$K$1,coalbasins,5,FALSE),'Coal codes'!$I$27:$J$40,2,FALSE)","v":"---"},null,"x",{"$f":"Control!$C$13","v":0},"=",{"$f":"E114*G114","v":0},"=",{"$f":"I114*ft3_g*g_mt*1000","v":0},"=",{"$f":"(K114*CH4GWP)","v":0}]
[null,1995,null,{"$f":"VLOOKUP(VLOOKUP(constants!$K$1,coalbasins,6,FALSE),'Coal codes'!$I$27:$J$40,2,FALSE)","v":"---"},null,"x",{"$f":"Control!$C$14","v":0},"=",{"$f":"IF(BasinNum=1,\"---\",E115*G115)","v":0},"=",{"$f":"IF(BasinNum=1,\"---\",I115*ft3_g*g_mt*1000)","v":0},"=",{"$f":"IF(BasinNum=1,\"---\",(K115*CH4GWP))","v":0}]
[null,1995]
[null,1995,"Post-Mining Activity",null,"Coal Production ('000 short tons)",null,"Basin- & Mine-specific EF (ft3/short ton)",null,"Emissions  ('000 ft3 CH4)",null,"Emissions  (MTCH4)",null,"Emissions  (MTCO2E)"]
[null,1995,"Underground Mines",{"$f":"VLOOKUP(VLOOKUP(constants!$K$1,coalbasins,3,FALSE),'Coal codes'!$I$5:$J$23,2,FALSE)","v":"---"},null,"x",{"$f":"Control!$C$18","v":0},"=",{"$f":"E118*G118","v":0},"=",{"$f":"I118*ft3_g*g_mt*1000","v":0},"=",{"$f":"(K118*CH4GWP)","v":0}]
[null,1995,null,{"$f":"VLOOKUP(VLOOKUP(constants!$K$1,coalbasins,4,FALSE),'Coal codes'!$I$5:$J$23,2,FALSE)","v":"---"},null,"x",{"$f":"Control!$C$19","v":0},"=",{"$f":"IF(BasinNum=1,\"---\",E119*G119)","v":0},"=",{"$f":"IF(BasinNum=1,\"---\",I119*ft3_g*g_mt*1000)","v":0},"=",{"$f":"IF(BasinNum=1,\"---\",(K119*CH4GWP))","v":0}]
[null,1995,"Surface Mines",{"$f":"VLOOKUP(VLOOKUP(constants!$K$1,coalbasins,5,FALSE),'Coal codes'!$I$27:$J$40,2,FALSE)","v":"---"},null,"x",{"$f":"Control!$C$21","v":0},"=",{"$f":"E120*G120","v":0},"=",{"$f":"I120*ft3_g*g_mt*1000","v":0},"=",{"$f":"(K120*CH4GWP)","v":0}]
[null,1995,null,{"$f":"VLOOKUP(VLOOKUP(constants!$K$1,coalbasins,6,FALSE),'Coal codes'!$I$27:$J$40,2,FALSE)","v":"---"},null,"x",{"$f":"Control!$C$22","v":0},"=",{"$f":"IF(BasinNum=1,\"---\",E121*G121)","v":0},"=",{"$f":"IF(BasinNum=1,\"---\",I121*ft3_g*g_mt*1000)","v":0},"=",{"$f":"IF(BasinNum=1,\"---\",(K121*CH4GWP))","v":0}]
[null,1995,"Post-Mining Total",null,null,null,null,null,{"$f":"SUM(I118:I121)","v":0},"=",{"$f":"SUM(K118:K121)","v":0},"=",{"$f":"SUM(M118:M121)","v":0}]
[]
[null,null,"Total Coal Mining","(MTCO2E)",{"$f":"SUM(E125:E127)","v":0}]
[null,null,null,"Underground Mines",{"$f":"O111","v":0}]
[null,null,null,"Surface Mines",{"$f":"SUM(M114:M115)","v":0}]
[null,null,null,"Post-Mining Activity",{"$f":"M122","v":0}]
[]
[null,null,"Coal Mining",null,null,null,1996]
[null,null,"Emissions from:","Coal Basin(s)                            (if applicable)","Measured Ventilation Emissions (mcf)",null,"Degasification System Emissions (mcf)",null,"Methane Recovered from Degasification Systems and Used for Energy (mcf)",null,"Emissions       (mcf CH4)",null,"Emissions  (MTCH4)",null,"Emissions  (MTCO2E)"]
[null,null,"Mines"]
[null,{"$f":"G129","v":1996},"Underground Mines",null,null,"+  ( ",null,"-",null," )  =",{"$f":"E132+G132-I132","v":0},"=",{"$f":"K132*1000000*ft3_g*g_mt","v":0},"=",{"$f":"(M132*CH4GWP)","v":0}]
[null,{"$f":"B132","v":1996}]
[null,{"$f":"B133","v":1996},null,null,"Surface Coal Production ('000 short tons)",null,"Basin-specific EF (ft3/short ton)",null,"Emissions  ('000 ft3 CH4)",null,"Emissions  (MTCH4)",null,"Emissions  (MTCO2E)"]
[null,1996,"Surface Mines",{"$f":"VLOOKUP(VLOOKUP(constants!$K$1,coalbasins,5,FALSE),'Coal codes'!$I$27:$J$40,2,FALSE)","v":"---"},null,"x",{"$f":"Control!$C$13","v":0},"=",{"$f":"E135*G135","v":0},"=",{"$f":"I135*ft3_g*g_mt*1000","v":0},"=",{"$f":"(K135*CH4GWP)","v":0}]
[null,1996,null,{"$f":"VLOOKUP(VLOOKUP(constants!$K$1,coalbasins,6,FALSE),'Coal codes'!$I$27:$J$40,2,FALSE)","v":"---"},null,"x",{"$f":"Control!$C$14","v":0},"=",{"$f":"IF(BasinNum=1,\"---\",E136*G136)","v":0},"=",{"$f":"IF(BasinNum=1,\"---\",I136*ft3_g*g_mt*1000)","v":0},"=",{"$f":"IF(BasinNum=1,\"---\",(K136*CH4GWP))","v":0}]
[null,1996]
[null,1996,"Post-Mining Activity",null,"Coal Production ('000 short tons)",null,"Basin- & Mine-specific EF (ft3/short ton)",null,"Emissions  ('000 ft3 CH4)",null,"Emissions  (MTCH4)",null,"Emissions  (MTCO2E)"]
[null,1996,"Underground Mines",{"$f":"VLOOKUP(VLOOKUP(constants!$K$1,coalbasins,3,FALSE),'Coal codes'!$I$5:$J$23,2,FALSE)","v":"---"},null,"x",{"$f":"Control!$C$18","v":0},"=",{"$f":"E139*G139","v":0},"=",{"$f":"I139*ft3_g*g_mt*1000","v":0},"=",{"$f":"(K139*CH4GWP)","v":0}]
[null,1996,null,{"$f":"VLOOKUP(VLOOKUP(constants!$K$1,coalbasins,4,FALSE),'Coal codes'!$I$5:$J$23,2,FALSE)","v":"---"},null,"x",{"$f":"Control!$C$19","v":0},"=",{"$f":"IF(BasinNum=1,\"---\",E140*G140)","v":0},"=",{"$f":"IF(BasinNum=1,\"---\",I140*ft3_g*g_mt*1000)","v":0},"=",{"$f":"IF(BasinNum=1,\"---\",(K140*CH4GWP))","v":0}]
[null,1996,"Surface Mines",{"$f":"VLOOKUP(VLOOKUP(constants!$K$1,coalbasins,5,FALSE),'Coal codes'!$I$27:$J$40,2,FALSE)","v":"---"},null,"x",{"$f":"Control!$C$21","v":0},"=",{"$f":"E141*G141","v":0},"=",{"$f":"I141*ft3_g*g_mt*1000","v":0},"=",{"$f":"(K141*CH4GWP)","v":0}]
[null,1996,null,{"$f":"VLOOKUP(VLOOKUP(constants!$K$1,coalbasins,6,FALSE),'Coal codes'!$I$27:$J$40,2,FALSE)","v":"---"},null,"x",{"$f":"Control!$C$22","v":0},"=",{"$f":"IF(BasinNum=1,\"---\",E142*G142)","v":0},"=",{"$f":"IF(BasinNum=1,\"---\",I142*ft3_g*g_mt*1000)","v":0},"=",{"$f":"IF(BasinNum=1,\"---\",(K142*CH4GWP))","v":0}]
[null,1996,"Post-Mining Total",null,null,null,null,null,{"$f":"SUM(I139:I142)","v":0},"=",{"$f":"SUM(K139:K142)","v":0},"=",{"$f":"SUM(M139:M142)","v":0}]
[]
[null,null,"Total Coal Mining","(MTCO2E)",{"$f":"SUM(E146:E148)","v":0}]
[null,null,null,"Underground Mines",{"$f":"O132","v":0}]
[null,null,null,"Surface Mines",{"$f":"SUM(M135:M136)","v":0}]
[null,null,null,"Post-Mining Activity",{"$f":"M143","v":0}]
[]
[null,null,"Coal Mining",null,null,null,1997]
[null,null,"Emissions from:","Coal Basin(s)                            (if applicable)","Measured Ventilation Emissions (mcf)",null,"Degasification System Emissions (mcf)",null,"Methane Recovered from Degasification Systems and Used for Energy (mcf)",null,"Emissions       (mcf CH4)",null,"Emissions  (MTCH4)",null,"Emissions  (MTCO2E)"]
[null,null,"Mines"]
[null,{"$f":"G150","v":1997},"Underground Mines",null,null,"+  ( ",null,"-",null," )  =",{"$f":"E153+G153-I153","v":0},"=",{"$f":"K153*1000000*ft3_g*g_mt","v":0},"=",{"$f":"(M153*CH4GWP)","v":0}]
[null,{"$f":"B153","v":1997}]
[null,{"$f":"B154","v":1997},null,null,"Surface Coal Production ('000 short tons)",null,"Basin-specific EF (ft3/short ton)",null,"Emissions  ('000 ft3 CH4)",null,"Emissions  (MTCH4)",null,"Emissions  (MTCO2E)"]
[null,1997,"Surface Mines",{"$f":"VLOOKUP(VLOOKUP(constants!$K$1,coalbasins,5,FALSE),'Coal codes'!$I$27:$J$40,2,FALSE)","v":"---"},null,"x",{"$f":"Control!$C$13","v":0},"=",{"$f":"E156*G156","v":0},"=",{"$f":"I156*ft3_g*g_mt*1000","v":0},"=",{"$f":"(K156*CH4GWP)","v":0}]
[null,1997,null,{"$f":"VLOOKUP(VLOOKUP(constants!$K$1,coalbasins,6,FALSE),'Coal codes'!$I$27:$J$40,2,FALSE)","v":"---"},null,"x",{"$f":"Control!$C$14","v":0},"=",{"$f":"IF(BasinNum=1,\"---\",E157*G157)","v":0},"=",{"$f":"IF(BasinNum=1,\"---\",I157*ft3_g*g_mt*1000)","v":0},"=",{"$f":"IF(BasinNum=1,\"---\",(K157*CH4GWP))","v":0}]
[null,1997]
[null,1997,"Post-Mining Activity",null,"Coal Production ('000 short tons)",null,"Basin- & Mine-specific EF (ft3/short ton)",null,"Emissions  ('000 ft3 CH4)",null,"Emissions  (MTCH4)",null,"Emissions  (MTCO2E)"]
[null,1997,"Underground Mines",{"$f":"VLOOKUP(VLOOKUP(constants!$K$1,coalbasins,3,FALSE),'Coal codes'!$I$5:$J$23,2,FALSE)","v":"---"},null,"x",{"$f":"Control!$C$18","v":0},"=",{"$f":"E160*G160","v":0},"=",{"$f":"I160*ft3_g*g_mt*1000","v":0},"=",{"$f":"(K160*CH4GWP)","v":0}]
[null,1997,null,{"$f":"VLOOKUP(VLOOKUP(constants!$K$1,coalbasins,4,FALSE),'Coal codes'!$I$5:$J$23,2,FALSE)","v":"---"},null,"x",{"$f":"Control!$C$19","v":0},"=",{"$f":"IF(BasinNum=1,\"---\",E161*G161)","v":0},"=",{"$f":"IF(BasinNum=1,\"---\",I161*ft3_g*g_mt*1000)","v":0},"=",{"$f":"IF(BasinNum=1,\"---\",(K161*CH4GWP))","v":0}]
[null,1997,"Surface Mines",{"$f":"VLOOKUP(VLOOKUP(constants!$K$1,coalbasins,5,FALSE),'Coal codes'!$I$27:$J$40,2,FALSE)","v":"---"},null,"x",{"$f":"Control!$C$21","v":0},"=",{"$f":"E162*G162","v":0},"=",{"$f":"I162*ft3_g*g_mt*1000","v":0},"=",{"$f":"(K162*CH4GWP)","v":0}]
[null,1997,null,{"$f":"VLOOKUP(VLOOKUP(constants!$K$1,coalbasins,6,FALSE),'Coal codes'!$I$27:$J$40,2,FALSE)","v":"---"},null,"x",{"$f":"Control!$C$22","v":0},"=",{"$f":"IF(BasinNum=1,\"---\",E163*G163)","v":0},"=",{"$f":"IF(BasinNum=1,\"---\",I163*ft3_g*g_mt*1000)","v":0},"=",{"$f":"IF(BasinNum=1,\"---\",(K163*CH4GWP))","v":0}]
[null,1997,"Post-Mining Total",null,null,null,null,null,{"$f":"SUM(I160:I163)","v":0},"=",{"$f":"SUM(K160:K163)","v":0},"=",{"$f":"SUM(M160:M163)","v":0}]
[]
[null,null,"Total Coal Mining","(MTCO2E)",{"$f":"SUM(E167:E169)","v":0}]
[null,null,null,"Underground Mines",{"$f":"O153","v":0}]
[null,null,null,"Surface Mines",{"$f":"SUM(M156:M157)","v":0}]
[null,null,null,"Post-Mining Activity",{"$f":"M164","v":0}]
[]
[null,null,"Coal Mining",null,null,null,1998]
[null,null,"Emissions from:","Coal Basin(s)                            (if applicable)","Measured Ventilation Emissions (mcf)",null,"Degasification System Emissions (mcf)",null,"Methane Recovered from Degasification Systems and Used for Energy (mcf)",null,"Emissions       (mcf CH4)",null,"Emissions  (MTCH4)",null,"Emissions  (MTCO2E)"]
[null,null,"Mines"]
[null,{"$f":"G171","v":1998},"Underground Mines",null,null,"+  ( ",null,"-",null," )  =",{"$f":"E174+G174-I174","v":0},"=",{"$f":"K174*1000000*ft3_g*g_mt","v":0},"=",{"$f":"(M174*CH4GWP)","v":0}]
[null,{"$f":"B174","v":1998}]
[null,{"$f":"B175","v":1998},null,null,"Surface Coal Production ('000 short tons)",null,"Basin-specific EF (ft3/short ton)",null,"Emissions  ('000 ft3 CH4)",null,"Emissions  (MTCH4)",null,"Emissions  (MTCO2E)"]
[null,1998,"Surface Mines",{"$f":"VLOOKUP(VLOOKUP(constants!$K$1,coalbasins,5,FALSE),'Coal codes'!$I$27:$J$40,2,FALSE)","v":"---"},null,"x",{"$f":"Control!$C$13","v":0},"=",{"$f":"E177*G177","v":0},"=",{"$f":"I177*ft3_g*g_mt*1000","v":0},"=",{"$f":"(K177*CH4GWP)","v":0}]
[null,1998,null,{"$f":"VLOOKUP(VLOOKUP(constants!$K$1,coalbasins,6,FALSE),'Coal codes'!$I$27:$J$40,2,FALSE)","v":"---"},null,"x",{"$f":"Control!$C$14","v":0},"=",{"$f":"IF(BasinNum=1,\"---\",E178*G178)","v":0},"=",{"$f":"IF(BasinNum=1,\"---\",I178*ft3_g*g_mt*1000)","v":0},"=",{"$f":"IF(BasinNum=1,\"---\",(K178*CH4GWP))","v":0}]
[null,1998]
[null,1998,"Post-Mining Activity",null,"Coal Production ('000 short tons)",null,"Basin- & Mine-specific EF (ft3/short ton)",null,"Emissions  ('000 ft3 CH4)",null,"Emissions  (MTCH4)",null,"Emissions  (MTCO2E)"]
[null,1998,"Underground Mines",{"$f":"VLOOKUP(VLOOKUP(constants!$K$1,coalbasins,3,FALSE),'Coal codes'!$I$5:$J$23,2,FALSE)","v":"---"},null,"x",{"$f":"Control!$C$18","v":0},"=",{"$f":"E181*G181","v":0},"=",{"$f":"I181*ft3_g*g_mt*1000","v":0},"=",{"$f":"(K181*CH4GWP)","v":0}]
[null,1998,null,{"$f":"VLOOKUP(VLOOKUP(constants!$K$1,coalbasins,4,FALSE),'Coal codes'!$I$5:$J$23,2,FALSE)","v":"---"},null,"x",{"$f":"Control!$C$19","v":0},"=",{"$f":"IF(BasinNum=1,\"---\",E182*G182)","v":0},"=",{"$f":"IF(BasinNum=1,\"---\",I182*ft3_g*g_mt*1000)","v":0},"=",{"$f":"IF(BasinNum=1,\"---\",(K182*CH4GWP))","v":0}]
[null,1998,"Surface Mines",{"$f":"VLOOKUP(VLOOKUP(constants!$K$1,coalbasins,5,FALSE),'Coal codes'!$I$27:$J$40,2,FALSE)","v":"---"},null,"x",{"$f":"Control!$C$21","v":0},"=",{"$f":"E183*G183","v":0},"=",{"$f":"I183*ft3_g*g_mt*1000","v":0},"=",{"$f":"(K183*CH4GWP)","v":0}]
[null,1998,null,{"$f":"VLOOKUP(VLOOKUP(constants!$K$1,coalbasins,6,FALSE),'Coal codes'!$I$27:$J$40,2,FALSE)","v":"---"},null,"x",{"$f":"Control!$C$22","v":0},"=",{"$f":"IF(BasinNum=1,\"---\",E184*G184)","v":0},"=",{"$f":"IF(BasinNum=1,\"---\",I184*ft3_g*g_mt*1000)","v":0},"=",{"$f":"IF(BasinNum=1,\"---\",(K184*CH4GWP))","v":0}]
[null,1998,"Post-Mining Total",null,null,null,null,null,{"$f":"SUM(I181:I184)","v":0},"=",{"$f":"SUM(K181:K184)","v":0},"=",{"$f":"SUM(M181:M184)","v":0}]
[]
[null,null,"Total Coal Mining","(MTCO2E)",{"$f":"SUM(E188:E190)","v":0}]
[null,null,null,"Underground Mines",{"$f":"O174","v":0}]
[null,null,null,"Surface Mines",{"$f":"SUM(M177:M178)","v":0}]
[null,null,null,"Post-Mining Activity",{"$f":"M185","v":0}]
[]
[null,null,"Coal Mining",null,null,null,1999]
[null,null,"Emissions from:","Coal Basin(s)                            (if applicable)","Measured Ventilation Emissions (mcf)",null,"Degasification System Emissions (mcf)",null,"Methane Recovered from Degasification Systems and Used for Energy (mcf)",null,"Emissions       (mcf CH4)",null,"Emissions  (MTCH4)",null,"Emissions  (MTCO2E)"]
[null,null,"Mines"]
[null,{"$f":"G192","v":1999},"Underground Mines",null,null,"+  ( ",null,"-",null," )  =",{"$f":"E195+G195-I195","v":0},"=",{"$f":"K195*1000000*ft3_g*g_mt","v":0},"=",{"$f":"(M195*CH4GWP)","v":0}]
[null,{"$f":"B195","v":1999}]
[null,{"$f":"B196","v":1999},null,null,"Surface Coal Production ('000 short tons)",null,"Basin-specific EF (ft3/short ton)",null,"Emissions  ('000 ft3 CH4)",null,"Emissions  (MTCH4)",null,"Emissions  (MTCO2E)"]
[null,1999,"Surface Mines",{"$f":"VLOOKUP(VLOOKUP(constants!$K$1,coalbasins,5,FALSE),'Coal codes'!$I$27:$J$40,2,FALSE)","v":"---"},null,"x",{"$f":"Control!$C$13","v":0},"=",{"$f":"E198*G198","v":0},"=",{"$f":"I198*ft3_g*g_mt*1000","v":0},"=",{"$f":"(K198*CH4GWP)","v":0}]
[null,1999,null,{"$f":"VLOOKUP(VLOOKUP(constants!$K$1,coalbasins,6,FALSE),'Coal codes'!$I$27:$J$40,2,FALSE)","v":"---"},null,"x",{"$f":"Control!$C$14","v":0},"=",{"$f":"IF(BasinNum=1,\"---\",E199*G199)","v":0},"=",{"$f":"IF(BasinNum=1,\"---\",I199*ft3_g*g_mt*1000)","v":0},"=",{"$f":"IF(BasinNum=1,\"---\",(K199*CH4GWP))","v":0}]
[null,1999]
[null,1999,"Post-Mining Activity",null,"Coal Production ('000 short tons)",null,"Basin- & Mine-specific EF (ft3/short ton)",null,"Emissions  ('000 ft3 CH4)",null,"Emissions  (MTCH4)",null,"Emissions  (MTCO2E)"]
[null,1999,"Underground Mines",{"$f":"VLOOKUP(VLOOKUP(constants!$K$1,coalbasins,3,FALSE),'Coal codes'!$I$5:$J$23,2,FALSE)","v":"---"},null,"x",{"$f":"Control!$C$18","v":0},"=",{"$f":"E202*G202","v":0},"=",{"$f":"I202*ft3_g*g_mt*1000","v":0},"=",{"$f":"(K202*CH4GWP)","v":0}]
[null,1999,null,{"$f":"VLOOKUP(VLOOKUP(constants!$K$1,coalbasins,4,FALSE),'Coal codes'!$I$5:$J$23,2,FALSE)","v":"---"},null,"x",{"$f":"Control!$C$19","v":0},"=",{"$f":"IF(BasinNum=1,\"---\",E203*G203)","v":0},"=",{"$f":"IF(BasinNum=1,\"---\",I203*ft3_g*g_mt*1000)","v":0},"=",{"$f":"IF(BasinNum=1,\"---\",(K203*CH4GWP))","v":0}]
[null,1999,"Surface Mines",{"$f":"VLOOKUP(VLOOKUP(constants!$K$1,coalbasins,5,FALSE),'Coal codes'!$I$27:$J$40,2,FALSE)","v":"---"},null,"x",{"$f":"Control!$C$21","v":0},"=",{"$f":"E204*G204","v":0},"=",{"$f":"I204*ft3_g*g_mt*1000","v":0},"=",{"$f":"(K204*CH4GWP)","v":0}]
[null,1999,null,{"$f":"VLOOKUP(VLOOKUP(constants!$K$1,coalbasins,6,FALSE),'Coal codes'!$I$27:$J$40,2,FALSE)","v":"---"},null,"x",{"$f":"Control!$C$22","v":0},"=",{"$f":"IF(BasinNum=1,\"---\",E205*G205)","v":0},"=",{"$f":"IF(BasinNum=1,\"---\",I205*ft3_g*g_mt*1000)","v":0},"=",{"$f":"IF(BasinNum=1,\"---\",(K205*CH4GWP))","v":0}]
[null,1999,"Post-Mining Total",null,null,null,null,null,{"$f":"SUM(I202:I205)","v":0},"=",{"$f":"SUM(K202:K205)","v":0},"=",{"$f":"SUM(M202:M205)","v":0}]
[]
[null,null,"Total Coal Mining","(MTCO2E)",{"$f":"SUM(E209:E211)","v":0}]
[null,null,null,"Underground Mines",{"$f":"O195","v":0}]
[null,null,null,"Surface Mines",{"$f":"SUM(M198:M199)","v":0}]
[null,null,null,"Post-Mining Activity",{"$f":"M206","v":0}]
[]
[null,null,"Coal Mining",null,null,null,2000]
[null,null,"Emissions from:","Coal Basin(s)                            (if applicable)","Measured Ventilation Emissions (mcf)",null,"Degasification System Emissions (mcf)",null,"Methane Recovered from Degasification Systems and Used for Energy (mcf)",null,"Emissions       (mcf CH4)",null,"Emissions  (MTCH4)",null,"Emissions  (MTCO2E)"]
[null,null,"Mines"]
[null,{"$f":"G213","v":2000},"Underground Mines",null,null,"+  ( ",null,"-",null," )  =",{"$f":"E216+G216-I216","v":0},"=",{"$f":"K216*1000000*ft3_g*g_mt","v":0},"=",{"$f":"(M216*CH4GWP)","v":0}]
[null,{"$f":"B216","v":2000}]
[null,{"$f":"B217","v":2000},null,null,"Surface Coal Production ('000 short tons)",null,"Basin-specific EF (ft3/short ton)",null,"Emissions  ('000 ft3 CH4)",null,"Emissions  (MTCH4)",null,"Emissions  (MTCO2E)"]
[null,2000,"Surface Mines",{"$f":"VLOOKUP(VLOOKUP(constants!$K$1,coalbasins,5,FALSE),'Coal codes'!$I$27:$J$40,2,FALSE)","v":"---"},null,"x",{"$f":"Control!$C$13","v":0},"=",{"$f":"E219*G219","v":0},"=",{"$f":"I219*ft3_g*g_mt*1000","v":0},"=",{"$f":"(K219*CH4GWP)","v":0}]
[null,2000,null,{"$f":"VLOOKUP(VLOOKUP(constants!$K$1,coalbasins,6,FALSE),'Coal codes'!$I$27:$J$40,2,FALSE)","v":"---"},null,"x",{"$f":"Control!$C$14","v":0},"=",{"$f":"IF(BasinNum=1,\"---\",E220*G220)","v":0},"=",{"$f":"IF(BasinNum=1,\"---\",I220*ft3_g*g_mt*1000)","v":0},"=",{"$f":"IF(BasinNum=1,\"---\",(K220*CH4GWP))","v":0}]
[null,2000]
[null,2000,"Post-Mining Activity",null,"Coal Production ('000 short tons)",null,"Basin- & Mine-specific EF (ft3/short ton)",null,"Emissions  ('000 ft3 CH4)",null,"Emissions  (MTCH4)",null,"Emissions  (MTCO2E)"]
[null,2000,"Underground Mines",{"$f":"VLOOKUP(VLOOKUP(constants!$K$1,coalbasins,3,FALSE),'Coal codes'!$I$5:$J$23,2,FALSE)","v":"---"},null,"x",{"$f":"Control!$C$18","v":0},"=",{"$f":"E223*G223","v":0},"=",{"$f":"I223*ft3_g*g_mt*1000","v":0},"=",{"$f":"(K223*CH4GWP)","v":0}]
[null,2000,null,{"$f":"VLOOKUP(VLOOKUP(constants!$K$1,coalbasins,4,FALSE),'Coal codes'!$I$5:$J$23,2,FALSE)","v":"---"},null,"x",{"$f":"Control!$C$19","v":0},"=",{"$f":"IF(BasinNum=1,\"---\",E224*G224)","v":0},"=",{"$f":"IF(BasinNum=1,\"---\",I224*ft3_g*g_mt*1000)","v":0},"=",{"$f":"IF(BasinNum=1,\"---\",(K224*CH4GWP))","v":0}]
[null,2000,"Surface Mines",{"$f":"VLOOKUP(VLOOKUP(constants!$K$1,coalbasins,5,FALSE),'Coal codes'!$I$27:$J$40,2,FALSE)","v":"---"},null,"x",{"$f":"Control!$C$21","v":0},"=",{"$f":"E225*G225","v":0},"=",{"$f":"I225*ft3_g*g_mt*1000","v":0},"=",{"$f":"(K225*CH4GWP)","v":0}]
[null,2000,null,{"$f":"VLOOKUP(VLOOKUP(constants!$K$1,coalbasins,6,FALSE),'Coal codes'!$I$27:$J$40,2,FALSE)","v":"---"},null,"x",{"$f":"Control!$C$22","v":0},"=",{"$f":"IF(BasinNum=1,\"---\",E226*G226)","v":0},"=",{"$f":"IF(BasinNum=1,\"---\",I226*ft3_g*g_mt*1000)","v":0},"=",{"$f":"IF(BasinNum=1,\"---\",(K226*CH4GWP))","v":0}]
[null,2000,"Post-Mining Total",null,null,null,null,null,{"$f":"SUM(I223:I226)","v":0},"=",{"$f":"SUM(K223:K226)","v":0},"=",{"$f":"SUM(M223:M226)","v":0}]
[]
[null,null,"Total Coal Mining","(MTCO2E)",{"$f":"SUM(E230:E232)","v":0}]
[null,null,null,"Underground Mines",{"$f":"O216","v":0}]
[null,null,null,"Surface Mines",{"$f":"SUM(M219:M220)","v":0}]
[null,null,null,"Post-Mining Activity",{"$f":"M227","v":0}]
[]
[null,null,"Coal Mining",null,null,null,2001]
[null,null,"Emissions from:","Coal Basin(s)                            (if applicable)","Measured Ventilation Emissions (mcf)",null,"Degasification System Emissions (mcf)",null,"Methane Recovered from Degasification Systems and Used for Energy (mcf)",null,"Emissions       (mcf CH4)",null,"Emissions  (MTCH4)",null,"Emissions  (MTCO2E)"]
[null,null,"Mines"]
[null,{"$f":"G234","v":2001},"Underground Mines",null,null,"+  ( ",null,"-",null," )  =",{"$f":"E237+G237-I237","v":0},"=",{"$f":"K237*1000000*ft3_g*g_mt","v":0},"=",{"$f":"(M237*CH4GWP)","v":0}]
[null,{"$f":"B237","v":2001}]
[null,{"$f":"B238","v":2001},null,null,"Surface Coal Production ('000 short tons)",null,"Basin-specific EF (ft3/short ton)",null,"Emissions  ('000 ft3 CH4)",null,"Emissions  (MTCH4)",null,"Emissions  (MTCO2E)"]
[null,2001,"Surface Mines",{"$f":"VLOOKUP(VLOOKUP(constants!$K$1,coalbasins,5,FALSE),'Coal codes'!$I$27:$J$40,2,FALSE)","v":"---"},null,"x",{"$f":"Control!$C$13","v":0},"=",{"$f":"E240*G240","v":0},"=",{"$f":"I240*ft3_g*g_mt*1000","v":0},"=",{"$f":"(K240*CH4GWP)","v":0}]
[null,2001,null,{"$f":"VLOOKUP(VLOOKUP(constants!$K$1,coalbasins,6,FALSE),'Coal codes'!$I$27:$J$40,2,FALSE)","v":"---"},null,"x",{"$f":"Control!$C$14","v":0},"=",{"$f":"IF(BasinNum=1,\"---\",E241*G241)","v":0},"=",{"$f":"IF(BasinNum=1,\"---\",I241*ft3_g*g_mt*1000)","v":0},"=",{"$f":"IF(BasinNum=1,\"---\",(K241*CH4GWP))","v":0}]
[null,2001]
[null,2001,"Post-Mining Activity",null,"Coal Production ('000 short tons)",null,"Basin- & Mine-specific EF (ft3/short ton)",null,"Emissions  ('000 ft3 CH4)",null,"Emissions  (MTCH4)",null,"Emissions  (MTCO2E)"]
[null,2001,"Underground Mines",{"$f":"VLOOKUP(VLOOKUP(constants!$K$1,coalbasins,3,FALSE),'Coal codes'!$I$5:$J$23,2,FALSE)","v":"---"},null,"x",{"$f":"Control!$C$18","v":0},"=",{"$f":"E244*G244","v":0},"=",{"$f":"I244*ft3_g*g_mt*1000","v":0},"=",{"$f":"(K244*CH4GWP)","v":0}]
[null,2001,null,{"$f":"VLOOKUP(VLOOKUP(constants!$K$1,coalbasins,4,FALSE),'Coal codes'!$I$5:$J$23,2,FALSE)","v":"---"},null,"x",{"$f":"Control!$C$19","v":0},"=",{"$f":"IF(BasinNum=1,\"---\",E245*G245)","v":0},"=",{"$f":"IF(BasinNum=1,\"---\",I245*ft3_g*g_mt*1000)","v":0},"=",{"$f":"IF(BasinNum=1,\"---\",(K245*CH4GWP))","v":0}]
[null,2001,"Surface Mines",{"$f":"VLOOKUP(VLOOKUP(constants!$K$1,coalbasins,5,FALSE),'Coal codes'!$I$27:$J$40,2,FALSE)","v":"---"},null,"x",{"$f":"Control!$C$21","v":0},"=",{"$f":"E246*G246","v":0},"=",{"$f":"I246*ft3_g*g_mt*1000","v":0},"=",{"$f":"(K246*CH4GWP)","v":0}]
[null,2001,null,{"$f":"VLOOKUP(VLOOKUP(constants!$K$1,coalbasins,6,FALSE),'Coal codes'!$I$27:$J$40,2,FALSE)","v":"---"},null,"x",{"$f":"Control!$C$22","v":0},"=",{"$f":"IF(BasinNum=1,\"---\",E247*G247)","v":0},"=",{"$f":"IF(BasinNum=1,\"---\",I247*ft3_g*g_mt*1000)","v":0},"=",{"$f":"IF(BasinNum=1,\"---\",(K247*CH4GWP))","v":0}]
[null,2001,"Post-Mining Total",null,null,null,null,null,{"$f":"SUM(I244:I247)","v":0},"=",{"$f":"SUM(K244:K247)","v":0},"=",{"$f":"SUM(M244:M247)","v":0}]
[]
[null,null,"Total Coal Mining","(MTCO2E)",{"$f":"SUM(E251:E253)","v":0}]
[null,null,null,"Underground Mines",{"$f":"O237","v":0}]
[null,null,null,"Surface Mines",{"$f":"SUM(M240:M241)","v":0}]
[null,null,null,"Post-Mining Activity",{"$f":"M248","v":0}]
[]
[null,null,"Coal Mining",null,null,null,2002]
[null,null,"Emissions from:","Coal Basin(s)                            (if applicable)","Measured Ventilation Emissions (mcf)",null,"Degasification System Emissions (mcf)",null,"Methane Recovered from Degasification Systems and Used for Energy (mcf)",null,"Emissions       (mcf CH4)",null,"Emissions  (MTCH4)",null,"Emissions  (MTCO2E)"]
[null,null,"Mines"]
[null,{"$f":"G255","v":2002},"Underground Mines",null,null,"+  ( ",null,"-",null," )  =",{"$f":"E258+G258-I258","v":0},"=",{"$f":"K258*1000000*ft3_g*g_mt","v":0},"=",{"$f":"(M258*CH4GWP)","v":0}]
[null,{"$f":"B258","v":2002}]
[null,{"$f":"B259","v":2002},null,null,"Surface Coal Production ('000 short tons)",null,"Basin-specific EF (ft3/short ton)",null,"Emissions  ('000 ft3 CH4)",null,"Emissions  (MTCH4)",null,"Emissions  (MTCO2E)"]
[null,2002,"Surface Mines",{"$f":"VLOOKUP(VLOOKUP(constants!$K$1,coalbasins,5,FALSE),'Coal codes'!$I$27:$J$40,2,FALSE)","v":"---"},null,"x",{"$f":"Control!$C$13","v":0},"=",{"$f":"E261*G261","v":0},"=",{"$f":"I261*ft3_g*g_mt*1000","v":0},"=",{"$f":"(K261*CH4GWP)","v":0}]
[null,2002,null,{"$f":"VLOOKUP(VLOOKUP(constants!$K$1,coalbasins,6,FALSE),'Coal codes'!$I$27:$J$40,2,FALSE)","v":"---"},null,"x",{"$f":"Control!$C$14","v":0},"=",{"$f":"IF(BasinNum=1,\"---\",E262*G262)","v":0},"=",{"$f":"IF(BasinNum=1,\"---\",I262*ft3_g*g_mt*1000)","v":0},"=",{"$f":"IF(BasinNum=1,\"---\",(K262*CH4GWP))","v":0}]
[null,2002]
[null,2002,"Post-Mining Activity",null,"Coal Production ('000 short tons)",null,"Basin- & Mine-specific EF (ft3/short ton)",null,"Emissions  ('000 ft3 CH4)",null,"Emissions  (MTCH4)",null,"Emissions  (MTCO2E)"]
[null,2002,"Underground Mines",{"$f":"VLOOKUP(VLOOKUP(constants!$K$1,coalbasins,3,FALSE),'Coal codes'!$I$5:$J$23,2,FALSE)","v":"---"},null,"x",{"$f":"Control!$C$18","v":0},"=",{"$f":"E265*G265","v":0},"=",{"$f":"I265*ft3_g*g_mt*1000","v":0},"=",{"$f":"(K265*CH4GWP)","v":0}]
[null,2002,null,{"$f":"VLOOKUP(VLOOKUP(constants!$K$1,coalbasins,4,FALSE),'Coal codes'!$I$5:$J$23,2,FALSE)","v":"---"},null,"x",{"$f":"Control!$C$19","v":0},"=",{"$f":"IF(BasinNum=1,\"---\",E266*G266)","v":0},"=",{"$f":"IF(BasinNum=1,\"---\",I266*ft3_g*g_mt*1000)","v":0},"=",{"$f":"IF(BasinNum=1,\"---\",(K266*CH4GWP))","v":0}]
[null,2002,"Surface Mines",{"$f":"VLOOKUP(VLOOKUP(constants!$K$1,coalbasins,5,FALSE),'Coal codes'!$I$27:$J$40,2,FALSE)","v":"---"},null,"x",{"$f":"Control!$C$21","v":0},"=",{"$f":"E267*G267","v":0},"=",{"$f":"I267*ft3_g*g_mt*1000","v":0},"=",{"$f":"(K267*CH4GWP)","v":0}]
[null,2002,null,{"$f":"VLOOKUP(VLOOKUP(constants!$K$1,coalbasins,6,FALSE),'Coal codes'!$I$27:$J$40,2,FALSE)","v":"---"},null,"x",{"$f":"Control!$C$22","v":0},"=",{"$f":"IF(BasinNum=1,\"---\",E268*G268)","v":0},"=",{"$f":"IF(BasinNum=1,\"---\",I268*ft3_g*g_mt*1000)","v":0},"=",{"$f":"IF(BasinNum=1,\"---\",(K268*CH4GWP))","v":0}]
[null,2002,"Post-Mining Total",null,null,null,null,null,{"$f":"SUM(I265:I268)","v":0},"=",{"$f":"SUM(K265:K268)","v":0},"=",{"$f":"SUM(M265:M268)","v":0}]
[]
[null,null,"Total Coal Mining","(MTCO2E)",{"$f":"SUM(E272:E274)","v":0}]
[null,null,null,"Underground Mines",{"$f":"O258","v":0}]
[null,null,null,"Surface Mines",{"$f":"SUM(M261:M262)","v":0}]
[null,null,null,"Post-Mining Activity",{"$f":"M269","v":0}]
[]
[null,null,"Coal Mining",null,null,null,2003]
[null,null,"Emissions from:","Coal Basin(s)                            (if applicable)","Measured Ventilation Emissions (mcf)",null,"Degasification System Emissions (mcf)",null,"Methane Recovered from Degasification Systems and Used for Energy (mcf)",null,"Emissions       (mcf CH4)",null,"Emissions  (MTCH4)",null,"Emissions  (MTCO2E)"]
[null,null,"Mines"]
[null,{"$f":"G276","v":2003},"Underground Mines",null,null,"+  ( ",null,"-",null," )  =",{"$f":"E279+G279-I279","v":0},"=",{"$f":"K279*1000000*ft3_g*g_mt","v":0},"=",{"$f":"(M279*CH4GWP)","v":0}]
[null,{"$f":"B279","v":2003}]
[null,{"$f":"B280","v":2003},null,null,"Surface Coal Production ('000 short tons)",null,"Basin-specific EF (ft3/short ton)",null,"Emissions  ('000 ft3 CH4)",null,"Emissions  (MTCH4)",null,"Emissions  (MTCO2E)"]
[null,2003,"Surface Mines",{"$f":"VLOOKUP(VLOOKUP(constants!$K$1,coalbasins,5,FALSE),'Coal codes'!$I$27:$J$40,2,FALSE)","v":"---"},null,"x",{"$f":"Control!$C$13","v":0},"=",{"$f":"E282*G282","v":0},"=",{"$f":"I282*ft3_g*g_mt*1000","v":0},"=",{"$f":"(K282*CH4GWP)","v":0}]
[null,2003,null,{"$f":"VLOOKUP(VLOOKUP(constants!$K$1,coalbasins,6,FALSE),'Coal codes'!$I$27:$J$40,2,FALSE)","v":"---"},null,"x",{"$f":"Control!$C$14","v":0},"=",{"$f":"IF(BasinNum=1,\"---\",E283*G283)","v":0},"=",{"$f":"IF(BasinNum=1,\"---\",I283*ft3_g*g_mt*1000)","v":0},"=",{"$f":"IF(BasinNum=1,\"---\",(K283*CH4GWP))","v":0}]
[null,2003]
[null,2003,"Post-Mining Activity",null,"Coal Production ('000 short tons)",null,"Basin- & Mine-specific EF (ft3/short ton)",null,"Emissions  ('000 ft3 CH4)",null,"Emissions  (MTCH4)",null,"Emissions  (MTCO2E)"]
[null,2003,"Underground Mines",{"$f":"VLOOKUP(VLOOKUP(constants!$K$1,coalbasins,3,FALSE),'Coal codes'!$I$5:$J$23,2,FALSE)","v":"---"},null,"x",{"$f":"Control!$C$18","v":0},"=",{"$f":"E286*G286","v":0},"=",{"$f":"I286*ft3_g*g_mt*1000","v":0},"=",{"$f":"(K286*CH4GWP)","v":0}]
[null,2003,null,{"$f":"VLOOKUP(VLOOKUP(constants!$K$1,coalbasins,4,FALSE),'Coal codes'!$I$5:$J$23,2,FALSE)","v":"---"},null,"x",{"$f":"Control!$C$19","v":0},"=",{"$f":"IF(BasinNum=1,\"---\",E287*G287)","v":0},"=",{"$f":"IF(BasinNum=1,\"---\",I287*ft3_g*g_mt*1000)","v":0},"=",{"$f":"IF(BasinNum=1,\"---\",(K287*CH4GWP))","v":0}]
[null,2003,"Surface Mines",{"$f":"VLOOKUP(VLOOKUP(constants!$K$1,coalbasins,5,FALSE),'Coal codes'!$I$27:$J$40,2,FALSE)","v":"---"},null,"x",{"$f":"Control!$C$21","v":0},"=",{"$f":"E288*G288","v":0},"=",{"$f":"I288*ft3_g*g_mt*1000","v":0},"=",{"$f":"(K288*CH4GWP)","v":0}]
[null,2003,null,{"$f":"VLOOKUP(VLOOKUP(constants!$K$1,coalbasins,6,FALSE),'Coal codes'!$I$27:$J$40,2,FALSE)","v":"---"},null,"x",{"$f":"Control!$C$22","v":0},"=",{"$f":"IF(BasinNum=1,\"---\",E289*G289)","v":0},"=",{"$f":"IF(BasinNum=1,\"---\",I289*ft3_g*g_mt*1000)","v":0},"=",{"$f":"IF(BasinNum=1,\"---\",(K289*CH4GWP))","v":0}]
[null,2003,"Post-Mining Total",null,null,null,null,null,{"$f":"SUM(I286:I289)","v":0},"=",{"$f":"SUM(K286:K289)","v":0},"=",{"$f":"SUM(M286:M289)","v":0}]
[]
[null,null,"Total Coal Mining","(MTCO2E)",{"$f":"SUM(E293:E295)","v":0}]
[null,null,null,"Underground Mines",{"$f":"O279","v":0}]
[null,null,null,"Surface Mines",{"$f":"SUM(M282:M283)","v":0}]
[null,null,null,"Post-Mining Activity",{"$f":"M290","v":0}]
[]
[null,null,"Coal Mining",null,null,null,2004]
[null,null,"Emissions from:","Coal Basin(s)                            (if applicable)","Measured Ventilation Emissions (mcf)",null,"Degasification System Emissions (mcf)",null,"Methane Recovered from Degasification Systems and Used for Energy (mcf)",null,"Emissions       (mcf CH4)",null,"Emissions  (MTCH4)",null,"Emissions  (MTCO2E)"]
[null,null,"Mines"]
[null,{"$f":"G297","v":2004},"Underground Mines",null,null,"+  ( ",null,"-",null," )  =",{"$f":"E300+G300-I300","v":0},"=",{"$f":"K300*1000000*ft3_g*g_mt","v":0},"=",{"$f":"(M300*CH4GWP)","v":0}]
[null,{"$f":"B300","v":2004}]
[null,{"$f":"B301","v":2004},null,null,"Surface Coal Production ('000 short tons)",null,"Basin-specific EF (ft3/short ton)",null,"Emissions  ('000 ft3 CH4)",null,"Emissions  (MTCH4)",null,"Emissions  (MTCO2E)"]
[null,2004,"Surface Mines",{"$f":"VLOOKUP(VLOOKUP(constants!$K$1,coalbasins,5,FALSE),'Coal codes'!$I$27:$J$40,2,FALSE)","v":"---"},null,"x",{"$f":"Control!$C$13","v":0},"=",{"$f":"E303*G303","v":0},"=",{"$f":"I303*ft3_g*g_mt*1000","v":0},"=",{"$f":"(K303*CH4GWP)","v":0}]
[null,2004,null,{"$f":"VLOOKUP(VLOOKUP(constants!$K$1,coalbasins,6,FALSE),'Coal codes'!$I$27:$J$40,2,FALSE)","v":"---"},null,"x",{"$f":"Control!$C$14","v":0},"=",{"$f":"IF(BasinNum=1,\"---\",E304*G304)","v":0},"=",{"$f":"IF(BasinNum=1,\"---\",I304*ft3_g*g_mt*1000)","v":0},"=",{"$f":"IF(BasinNum=1,\"---\",(K304*CH4GWP))","v":0}]
[null,2004]
[null,2004,"Post-Mining Activity",null,"Coal Production ('000 short tons)",null,"Basin- & Mine-specific EF (ft3/short ton)",null,"Emissions  ('000 ft3 CH4)",null,"Emissions  (MTCH4)",null,"Emissions  (MTCO2E)"]
[null,2004,"Underground Mines",{"$f":"VLOOKUP(VLOOKUP(constants!$K$1,coalbasins,3,FALSE),'Coal codes'!$I$5:$J$23,2,FALSE)","v":"---"},null,"x",{"$f":"Control!$C$18","v":0},"=",{"$f":"E307*G307","v":0},"=",{"$f":"I307*ft3_g*g_mt*1000","v":0},"=",{"$f":"(K307*CH4GWP)","v":0}]
[null,2004,null,{"$f":"VLOOKUP(VLOOKUP(constants!$K$1,coalbasins,4,FALSE),'Coal codes'!$I$5:$J$23,2,FALSE)","v":"---"},null,"x",{"$f":"Control!$C$19","v":0},"=",{"$f":"IF(BasinNum=1,\"---\",E308*G308)","v":0},"=",{"$f":"IF(BasinNum=1,\"---\",I308*ft3_g*g_mt*1000)","v":0},"=",{"$f":"IF(BasinNum=1,\"---\",(K308*CH4GWP))","v":0}]
[null,2004,"Surface Mines",{"$f":"VLOOKUP(VLOOKUP(constants!$K$1,coalbasins,5,FALSE),'Coal codes'!$I$27:$J$40,2,FALSE)","v":"---"},null,"x",{"$f":"Control!$C$21","v":0},"=",{"$f":"E309*G309","v":0},"=",{"$f":"I309*ft3_g*g_mt*1000","v":0},"=",{"$f":"(K309*CH4GWP)","v":0}]
[null,2004,null,{"$f":"VLOOKUP(VLOOKUP(constants!$K$1,coalbasins,6,FALSE),'Coal codes'!$I$27:$J$40,2,FALSE)","v":"---"},null,"x",{"$f":"Control!$C$22","v":0},"=",{"$f":"IF(BasinNum=1,\"---\",E310*G310)","v":0},"=",{"$f":"IF(BasinNum=1,\"---\",I310*ft3_g*g_mt*1000)","v":0},"=",{"$f":"IF(BasinNum=1,\"---\",(K310*CH4GWP))","v":0}]
[null,2004,"Post-Mining Total",null,null,null,null,null,{"$f":"SUM(I307:I310)","v":0},"=",{"$f":"SUM(K307:K310)","v":0},"=",{"$f":"SUM(M307:M310)","v":0}]
[]
[null,null,"Total Coal Mining","(MTCO2E)",{"$f":"SUM(E314:E316)","v":0}]
[null,null,null,"Underground Mines",{"$f":"O300","v":0}]
[null,null,null,"Surface Mines",{"$f":"SUM(M303:M304)","v":0}]
[null,null,null,"Post-Mining Activity",{"$f":"M311","v":0}]
[]
[null,null,"Coal Mining",null,null,null,2005]
[null,null,"Emissions from:","Coal Basin(s)                            (if applicable)","Measured Ventilation Emissions (mcf)",null,"Degasification System Emissions (mcf)",null,"Methane Recovered from Degasification Systems and Used for Energy (mcf)",null,"Emissions       (mcf CH4)",null,"Emissions  (MTCH4)",null,"Emissions  (MTCO2E)"]
[null,null,"Mines"]
[null,{"$f":"G318","v":2005},"Underground Mines",null,null,"+  ( ",null,"-",null," )  =",{"$f":"E321+G321-I321","v":0},"=",{"$f":"K321*1000000*ft3_g*g_mt","v":0},"=",{"$f":"(M321*CH4GWP)","v":0}]
[null,{"$f":"B321","v":2005}]
[null,{"$f":"B322","v":2005},null,null,"Surface Coal Production ('000 short tons)",null,"Basin-specific EF (ft3/short ton)",null,"Emissions  ('000 ft3 CH4)",null,"Emissions  (MTCH4)",null,"Emissions  (MTCO2E)"]
[null,2005,"Surface Mines",{"$f":"VLOOKUP(VLOOKUP(constants!$K$1,coalbasins,5,FALSE),'Coal codes'!$I$27:$J$40,2,FALSE)","v":"---"},null,"x",{"$f":"Control!$C$13","v":0},"=",{"$f":"E324*G324","v":0},"=",{"$f":"I324*ft3_g*g_mt*1000","v":0},"=",{"$f":"(K324*CH4GWP)","v":0}]
[null,2005,null,{"$f":"VLOOKUP(VLOOKUP(constants!$K$1,coalbasins,6,FALSE),'Coal codes'!$I$27:$J$40,2,FALSE)","v":"---"},null,"x",{"$f":"Control!$C$14","v":0},"=",{"$f":"IF(BasinNum=1,\"---\",E325*G325)","v":0},"=",{"$f":"IF(BasinNum=1,\"---\",I325*ft3_g*g_mt*1000)","v":0},"=",{"$f":"IF(BasinNum=1,\"---\",(K325*CH4GWP))","v":0}]
[null,2005]
[null,2005,"Post-Mining Activity",null,"Coal Production ('000 short tons)",null,"Basin- & Mine-specific EF (ft3/short ton)",null,"Emissions  ('000 ft3 CH4)",null,"Emissions  (MTCH4)",null,"Emissions  (MTCO2E)"]
[null,2005,"Underground Mines",{"$f":"VLOOKUP(VLOOKUP(constants!$K$1,coalbasins,3,FALSE),'Coal codes'!$I$5:$J$23,2,FALSE)","v":"---"},null,"x",{"$f":"Control!$C$18","v":0},"=",{"$f":"E328*G328","v":0},"=",{"$f":"I328*ft3_g*g_mt*1000","v":0},"=",{"$f":"(K328*CH4GWP)","v":0}]
[null,2005,null,{"$f":"VLOOKUP(VLOOKUP(constants!$K$1,coalbasins,4,FALSE),'Coal codes'!$I$5:$J$23,2,FALSE)","v":"---"},null,"x",{"$f":"Control!$C$19","v":0},"=",{"$f":"IF(BasinNum=1,\"---\",E329*G329)","v":0},"=",{"$f":"IF(BasinNum=1,\"---\",I329*ft3_g*g_mt*1000)","v":0},"=",{"$f":"IF(BasinNum=1,\"---\",(K329*CH4GWP))","v":0}]
[null,2005,"Surface Mines",{"$f":"VLOOKUP(VLOOKUP(constants!$K$1,coalbasins,5,FALSE),'Coal codes'!$I$27:$J$40,2,FALSE)","v":"---"},null,"x",{"$f":"Control!$C$21","v":0},"=",{"$f":"E330*G330","v":0},"=",{"$f":"I330*ft3_g*g_mt*1000","v":0},"=",{"$f":"(K330*CH4GWP)","v":0}]
[null,2005,null,{"$f":"VLOOKUP(VLOOKUP(constants!$K$1,coalbasins,6,FALSE),'Coal codes'!$I$27:$J$40,2,FALSE)","v":"---"},null,"x",{"$f":"Control!$C$22","v":0},"=",{"$f":"IF(BasinNum=1,\"---\",E331*G331)","v":0},"=",{"$f":"IF(BasinNum=1,\"---\",I331*ft3_g*g_mt*1000)","v":0},"=",{"$f":"IF(BasinNum=1,\"---\",(K331*CH4GWP))","v":0}]
[null,2005,"Post-Mining Total",null,null,null,null,null,{"$f":"SUM(I328:I331)","v":0},"=",{"$f":"SUM(K328:K331)","v":0},"=",{"$f":"SUM(M328:M331)","v":0}]
[]
[null,null,"Total Coal Mining","(MTCO2E)",{"$f":"SUM(E335:E337)","v":0}]
[null,null,null,"Underground Mines",{"$f":"O321","v":0}]
[null,null,null,"Surface Mines",{"$f":"SUM(M324:M325)","v":0}]
[null,null,null,"Post-Mining Activity",{"$f":"M332","v":0}]
[]
[null,null,"Coal Mining",null,null,null,2006]
[null,null,"Emissions from:","Coal Basin(s)                            (if applicable)","Measured Ventilation Emissions (mcf)",null,"Degasification System Emissions (mcf)",null,"Methane Recovered from Degasification Systems and Used for Energy (mcf)",null,"Emissions       (mcf CH4)",null,"Emissions  (MTCH4)",null,"Emissions  (MTCO2E)"]
[null,null,"Mines"]
[null,{"$f":"G339","v":2006},"Underground Mines",null,null,"+  ( ",null,"-",null," )  =",{"$f":"E342+G342-I342","v":0},"=",{"$f":"K342*1000000*ft3_g*g_mt","v":0},"=",{"$f":"(M342*CH4GWP)","v":0}]
[null,{"$f":"B342","v":2006}]
[null,{"$f":"B343","v":2006},null,null,"Surface Coal Production ('000 short tons)",null,"Basin-specific EF (ft3/short ton)",null,"Emissions  ('000 ft3 CH4)",null,"Emissions  (MTCH4)",null,"Emissions  (MTCO2E)"]
[null,2006,"Surface Mines",{"$f":"VLOOKUP(VLOOKUP(constants!$K$1,coalbasins,5,FALSE),'Coal codes'!$I$27:$J$40,2,FALSE)","v":"---"},null,"x",{"$f":"Control!$C$13","v":0},"=",{"$f":"E345*G345","v":0},"=",{"$f":"I345*ft3_g*g_mt*1000","v":0},"=",{"$f":"(K345*CH4GWP)","v":0}]
[null,2006,null,{"$f":"VLOOKUP(VLOOKUP(constants!$K$1,coalbasins,6,FALSE),'Coal codes'!$I$27:$J$40,2,FALSE)","v":"---"},null,"x",{"$f":"Control!$C$14","v":0},"=",{"$f":"IF(BasinNum=1,\"---\",E346*G346)","v":0},"=",{"$f":"IF(BasinNum=1,\"---\",I346*ft3_g*g_mt*1000)","v":0},"=",{"$f":"IF(BasinNum=1,\"---\",(K346*CH4GWP))","v":0}]
[null,2006]
[null,2006,"Post-Mining Activity",null,"Coal Production ('000 short tons)",null,"Basin- & Mine-specific EF (ft3/short ton)",null,"Emissions  ('000 ft3 CH4)",null,"Emissions  (MTCH4)",null,"Emissions  (MTCO2E)"]
[null,2006,"Underground Mines",{"$f":"VLOOKUP(VLOOKUP(constants!$K$1,coalbasins,3,FALSE),'Coal codes'!$I$5:$J$23,2,FALSE)","v":"---"},null,"x",{"$f":"Control!$C$18","v":0},"=",{"$f":"E349*G349","v":0},"=",{"$f":"I349*ft3_g*g_mt*1000","v":0},"=",{"$f":"(K349*CH4GWP)","v":0}]
[null,2006,null,{"$f":"VLOOKUP(VLOOKUP(constants!$K$1,coalbasins,4,FALSE),'Coal codes'!$I$5:$J$23,2,FALSE)","v":"---"},null,"x",{"$f":"Control!$C$19","v":0},"=",{"$f":"IF(BasinNum=1,\"---\",E350*G350)","v":0},"=",{"$f":"IF(BasinNum=1,\"---\",I350*ft3_g*g_mt*1000)","v":0},"=",{"$f":"IF(BasinNum=1,\"---\",(K350*CH4GWP))","v":0}]
[null,2006,"Surface Mines",{"$f":"VLOOKUP(VLOOKUP(constants!$K$1,coalbasins,5,FALSE),'Coal codes'!$I$27:$J$40,2,FALSE)","v":"---"},null,"x",{"$f":"Control!$C$21","v":0},"=",{"$f":"E351*G351","v":0},"=",{"$f":"I351*ft3_g*g_mt*1000","v":0},"=",{"$f":"(K351*CH4GWP)","v":0}]
[null,2006,null,{"$f":"VLOOKUP(VLOOKUP(constants!$K$1,coalbasins,6,FALSE),'Coal codes'!$I$27:$J$40,2,FALSE)","v":"---"},null,"x",{"$f":"Control!$C$22","v":0},"=",{"$f":"IF(BasinNum=1,\"---\",E352*G352)","v":0},"=",{"$f":"IF(BasinNum=1,\"---\",I352*ft3_g*g_mt*1000)","v":0},"=",{"$f":"IF(BasinNum=1,\"---\",(K352*CH4GWP))","v":0}]
[null,2006,"Post-Mining Total",null,null,null,null,null,{"$f":"SUM(I349:I352)","v":0},"=",{"$f":"SUM(K349:K352)","v":0},"=",{"$f":"SUM(M349:M352)","v":0}]
[]
[null,null,"Total Coal Mining","(MTCO2E)",{"$f":"SUM(E356:E358)","v":0}]
[null,null,null,"Underground Mines",{"$f":"O342","v":0}]
[null,null,null,"Surface Mines",{"$f":"SUM(M345:M346)","v":0}]
[null,null,null,"Post-Mining Activity",{"$f":"M353","v":0}]
[]
[null,null,"Coal Mining",null,null,null,2007]
[null,null,"Emissions from:","Coal Basin(s)                            (if applicable)","Measured Ventilation Emissions (mcf)",null,"Degasification System Emissions (mcf)",null,"Methane Recovered from Degasification Systems and Used for Energy (mcf)",null,"Emissions       (mcf CH4)",null,"Emissions  (MTCH4)",null,"Emissions  (MTCO2E)"]
[null,null,"Mines"]
[null,{"$f":"G360","v":2007},"Underground Mines",null,null,"+  ( ",null,"-",null," )  =",{"$f":"E363+G363-I363","v":0},"=",{"$f":"K363*1000000*ft3_g*g_mt","v":0},"=",{"$f":"(M363*CH4GWP)","v":0}]
[null,{"$f":"B363","v":2007}]
[null,{"$f":"B364","v":2007},null,null,"Surface Coal Production ('000 short tons)",null,"Basin-specific EF (ft3/short ton)",null,"Emissions  ('000 ft3 CH4)",null,"Emissions  (MTCH4)",null,"Emissions  (MTCO2E)"]
[null,2007,"Surface Mines",{"$f":"VLOOKUP(VLOOKUP(constants!$K$1,coalbasins,5,FALSE),'Coal codes'!$I$27:$J$40,2,FALSE)","v":"---"},null,"x",{"$f":"Control!$C$13","v":0},"=",{"$f":"E366*G366","v":0},"=",{"$f":"I366*ft3_g*g_mt*1000","v":0},"=",{"$f":"(K366*CH4GWP)","v":0}]
[null,2007,null,{"$f":"VLOOKUP(VLOOKUP(constants!$K$1,coalbasins,6,FALSE),'Coal codes'!$I$27:$J$40,2,FALSE)","v":"---"},null,"x",{"$f":"Control!$C$14","v":0},"=",{"$f":"IF(BasinNum=1,\"---\",E367*G367)","v":0},"=",{"$f":"IF(BasinNum=1,\"---\",I367*ft3_g*g_mt*1000)","v":0},"=",{"$f":"IF(BasinNum=1,\"---\",(K367*CH4GWP))","v":0}]
[null,2007]
[null,2007,"Post-Mining Activity",null,"Coal Production ('000 short tons)",null,"Basin- & Mine-specific EF (ft3/short ton)",null,"Emissions  ('000 ft3 CH4)",null,"Emissions  (MTCH4)",null,"Emissions  (MTCO2E)"]
[null,2007,"Underground Mines",{"$f":"VLOOKUP(VLOOKUP(constants!$K$1,coalbasins,3,FALSE),'Coal codes'!$I$5:$J$23,2,FALSE)","v":"---"},null,"x",{"$f":"Control!$C$18","v":0},"=",{"$f":"E370*G370","v":0},"=",{"$f":"I370*ft3_g*g_mt*1000","v":0},"=",{"$f":"(K370*CH4GWP)","v":0}]
[null,2007,null,{"$f":"VLOOKUP(VLOOKUP(constants!$K$1,coalbasins,4,FALSE),'Coal codes'!$I$5:$J$23,2,FALSE)","v":"---"},null,"x",{"$f":"Control!$C$19","v":0},"=",{"$f":"IF(BasinNum=1,\"---\",E371*G371)","v":0},"=",{"$f":"IF(BasinNum=1,\"---\",I371*ft3_g*g_mt*1000)","v":0},"=",{"$f":"IF(BasinNum=1,\"---\",(K371*CH4GWP))","v":0}]
[null,2007,"Surface Mines",{"$f":"VLOOKUP(VLOOKUP(constants!$K$1,coalbasins,5,FALSE),'Coal codes'!$I$27:$J$40,2,FALSE)","v":"---"},null,"x",{"$f":"Control!$C$21","v":0},"=",{"$f":"E372*G372","v":0},"=",{"$f":"I372*ft3_g*g_mt*1000","v":0},"=",{"$f":"(K372*CH4GWP)","v":0}]
[null,2007,null,{"$f":"VLOOKUP(VLOOKUP(constants!$K$1,coalbasins,6,FALSE),'Coal codes'!$I$27:$J$40,2,FALSE)","v":"---"},null,"x",{"$f":"Control!$C$22","v":0},"=",{"$f":"IF(BasinNum=1,\"---\",E373*G373)","v":0},"=",{"$f":"IF(BasinNum=1,\"---\",I373*ft3_g*g_mt*1000)","v":0},"=",{"$f":"IF(BasinNum=1,\"---\",(K373*CH4GWP))","v":0}]
[null,2007,"Post-Mining Total",null,null,null,null,null,{"$f":"SUM(I370:I373)","v":0},"=",{"$f":"SUM(K370:K373)","v":0},"=",{"$f":"SUM(M370:M373)","v":0}]
[]
[null,null,"Total Coal Mining","(MTCO2E)",{"$f":"SUM(E377:E379)","v":0}]
[null,null,null,"Underground Mines",{"$f":"O363","v":0}]
[null,null,null,"Surface Mines",{"$f":"SUM(M366:M367)","v":0}]
[null,null,null,"Post-Mining Activity",{"$f":"M374","v":0}]
[]
[null,null,"Coal Mining",null,null,null,2008]
[null,null,"Emissions from:","Coal Basin(s)                            (if applicable)","Measured Ventilation Emissions (mcf)",null,"Degasification System Emissions (mcf)",null,"Methane Recovered from Degasification Systems and Used for Energy (mcf)",null,"Emissions       (mcf CH4)",null,"Emissions  (MTCH4)",null,"Emissions  (MTCO2E)"]
[null,null,"Mines"]
[null,{"$f":"G381","v":2008},"Underground Mines",null,null,"+  ( ",null,"-",null," )  =",{"$f":"E384+G384-I384","v":0},"=",{"$f":"K384*1000000*ft3_g*g_mt","v":0},"=",{"$f":"(M384*CH4GWP)","v":0}]
[null,{"$f":"B384","v":2008}]
[null,{"$f":"B385","v":2008},null,null,"Surface Coal Production ('000 short tons)",null,"Basin-specific EF (ft3/short ton)",null,"Emissions  ('000 ft3 CH4)",null,"Emissions  (MTCH4)",null,"Emissions  (MTCO2E)"]
[null,2008,"Surface Mines",{"$f":"VLOOKUP(VLOOKUP(constants!$K$1,coalbasins,5,FALSE),'Coal codes'!$I$27:$J$40,2,FALSE)","v":"---"},null,"x",{"$f":"Control!$C$13","v":0},"=",{"$f":"E387*G387","v":0},"=",{"$f":"I387*ft3_g*g_mt*1000","v":0},"=",{"$f":"(K387*CH4GWP)","v":0}]
[null,2008,null,{"$f":"VLOOKUP(VLOOKUP(constants!$K$1,coalbasins,6,FALSE),'Coal codes'!$I$27:$J$40,2,FALSE)","v":"---"},null,"x",{"$f":"Control!$C$14","v":0},"=",{"$f":"IF(BasinNum=1,\"---\",E388*G388)","v":0},"=",{"$f":"IF(BasinNum=1,\"---\",I388*ft3_g*g_mt*1000)","v":0},"=",{"$f":"IF(BasinNum=1,\"---\",(K388*CH4GWP))","v":0}]
[null,2008]
[null,2008,"Post-Mining Activity",null,"Coal Production ('000 short tons)",null,"Basin- & Mine-specific EF (ft3/short ton)",null,"Emissions  ('000 ft3 CH4)",null,"Emissions  (MTCH4)",null,"Emissions  (MTCO2E)"]
[null,2008,"Underground Mines",{"$f":"VLOOKUP(VLOOKUP(constants!$K$1,coalbasins,3,FALSE),'Coal codes'!$I$5:$J$23,2,FALSE)","v":"---"},null,"x",{"$f":"Control!$C$18","v":0},"=",{"$f":"E391*G391","v":0},"=",{"$f":"I391*ft3_g*g_mt*1000","v":0},"=",{"$f":"(K391*CH4GWP)","v":0}]
[null,2008,null,{"$f":"VLOOKUP(VLOOKUP(constants!$K$1,coalbasins,4,FALSE),'Coal codes'!$I$5:$J$23,2,FALSE)","v":"---"},null,"x",{"$f":"Control!$C$19","v":0},"=",{"$f":"IF(BasinNum=1,\"---\",E392*G392)","v":0},"=",{"$f":"IF(BasinNum=1,\"---\",I392*ft3_g*g_mt*1000)","v":0},"=",{"$f":"IF(BasinNum=1,\"---\",(K392*CH4GWP))","v":0}]
[null,2008,"Surface Mines",{"$f":"VLOOKUP(VLOOKUP(constants!$K$1,coalbasins,5,FALSE),'Coal codes'!$I$27:$J$40,2,FALSE)","v":"---"},null,"x",{"$f":"Control!$C$21","v":0},"=",{"$f":"E393*G393","v":0},"=",{"$f":"I393*ft3_g*g_mt*1000","v":0},"=",{"$f":"(K393*CH4GWP)","v":0}]
[null,2008,null,{"$f":"VLOOKUP(VLOOKUP(constants!$K$1,coalbasins,6,FALSE),'Coal codes'!$I$27:$J$40,2,FALSE)","v":"---"},null,"x",{"$f":"Control!$C$22","v":0},"=",{"$f":"IF(BasinNum=1,\"---\",E394*G394)","v":0},"=",{"$f":"IF(BasinNum=1,\"---\",I394*ft3_g*g_mt*1000)","v":0},"=",{"$f":"IF(BasinNum=1,\"---\",(K394*CH4GWP))","v":0}]
[null,2008,"Post-Mining Total",null,null,null,null,null,{"$f":"SUM(I391:I394)","v":0},"=",{"$f":"SUM(K391:K394)","v":0},"=",{"$f":"SUM(M391:M394)","v":0}]
[]
[null,null,"Total Coal Mining","(MTCO2E)",{"$f":"SUM(E398:E400)","v":0}]
[null,null,null,"Underground Mines",{"$f":"O384","v":0}]
[null,null,null,"Surface Mines",{"$f":"SUM(M387:M388)","v":0}]
[null,null,null,"Post-Mining Activity",{"$f":"M395","v":0}]
[]
[null,null,"Coal Mining",null,null,null,2009]
[null,null,"Emissions from:","Coal Basin(s)                            (if applicable)","Measured Ventilation Emissions (mcf)",null,"Degasification System Emissions (mcf)",null,"Methane Recovered from Degasification Systems and Used for Energy (mcf)",null,"Emissions       (mcf CH4)",null,"Emissions  (MTCH4)",null,"Emissions  (MTCO2E)"]
[null,null,"Mines"]
[null,{"$f":"G402","v":2009},"Underground Mines",null,null,"+  ( ",null,"-",null," )  =",{"$f":"E405+G405-I405","v":0},"=",{"$f":"K405*1000000*ft3_g*g_mt","v":0},"=",{"$f":"(M405*CH4GWP)","v":0}]
[null,{"$f":"B405","v":2009}]
[null,{"$f":"B406","v":2009},null,null,"Surface Coal Production ('000 short tons)",null,"Basin-specific EF (ft3/short ton)",null,"Emissions  ('000 ft3 CH4)",null,"Emissions  (MTCH4)",null,"Emissions  (MTCO2E)"]
[null,2009,"Surface Mines",{"$f":"VLOOKUP(VLOOKUP(constants!$K$1,coalbasins,5,FALSE),'Coal codes'!$I$27:$J$40,2,FALSE)","v":"---"},null,"x",{"$f":"Control!$C$13","v":0},"=",{"$f":"E408*G408","v":0},"=",{"$f":"I408*ft3_g*g_mt*1000","v":0},"=",{"$f":"(K408*CH4GWP)","v":0}]
[null,2009,null,{"$f":"VLOOKUP(VLOOKUP(constants!$K$1,coalbasins,6,FALSE),'Coal codes'!$I$27:$J$40,2,FALSE)","v":"---"},null,"x",{"$f":"Control!$C$14","v":0},"=",{"$f":"IF(BasinNum=1,\"---\",E409*G409)","v":0},"=",{"$f":"IF(BasinNum=1,\"---\",I409*ft3_g*g_mt*1000)","v":0},"=",{"$f":"IF(BasinNum=1,\"---\",(K409*CH4GWP))","v":0}]
[null,2009]
[null,2009,"Post-Mining Activity",null,"Coal Production ('000 short tons)",null,"Basin- & Mine-specific EF (ft3/short ton)",null,"Emissions  ('000 ft3 CH4)",null,"Emissions  (MTCH4)",null,"Emissions  (MTCO2E)"]
[null,2009,"Underground Mines",{"$f":"VLOOKUP(VLOOKUP(constants!$K$1,coalbasins,3,FALSE),'Coal codes'!$I$5:$J$23,2,FALSE)","v":"---"},null,"x",{"$f":"Control!$C$18","v":0},"=",{"$f":"E412*G412","v":0},"=",{"$f":"I412*ft3_g*g_mt*1000","v":0},"=",{"$f":"(K412*CH4GWP)","v":0}]
[null,2009,null,{"$f":"VLOOKUP(VLOOKUP(constants!$K$1,coalbasins,4,FALSE),'Coal codes'!$I$5:$J$23,2,FALSE)","v":"---"},null,"x",{"$f":"Control!$C$19","v":0},"=",{"$f":"IF(BasinNum=1,\"---\",E413*G413)","v":0},"=",{"$f":"IF(BasinNum=1,\"---\",I413*ft3_g*g_mt*1000)","v":0},"=",{"$f":"IF(BasinNum=1,\"---\",(K413*CH4GWP))","v":0}]
[null,2009,"Surface Mines",{"$f":"VLOOKUP(VLOOKUP(constants!$K$1,coalbasins,5,FALSE),'Coal codes'!$I$27:$J$40,2,FALSE)","v":"---"},null,"x",{"$f":"Control!$C$21","v":0},"=",{"$f":"E414*G414","v":0},"=",{"$f":"I414*ft3_g*g_mt*1000","v":0},"=",{"$f":"(K414*CH4GWP)","v":0}]
[null,2009,null,{"$f":"VLOOKUP(VLOOKUP(constants!$K$1,coalbasins,6,FALSE),'Coal codes'!$I$27:$J$40,2,FALSE)","v":"---"},null,"x",{"$f":"Control!$C$22","v":0},"=",{"$f":"IF(BasinNum=1,\"---\",E415*G415)","v":0},"=",{"$f":"IF(BasinNum=1,\"---\",I415*ft3_g*g_mt*1000)","v":0},"=",{"$f":"IF(BasinNum=1,\"---\",(K415*CH4GWP))","v":0}]
[null,2009,"Post-Mining Total",null,null,null,null,null,{"$f":"SUM(I412:I415)","v":0},"=",{"$f":"SUM(K412:K415)","v":0},"=",{"$f":"SUM(M412:M415)","v":0}]
[]
[null,null,"Total Coal Mining","(MTCO2E)",{"$f":"SUM(E419:E421)","v":0}]
[null,null,null,"Underground Mines",{"$f":"O405","v":0}]
[null,null,null,"Surface Mines",{"$f":"SUM(M408:M409)","v":0}]
[null,null,null,"Post-Mining Activity",{"$f":"M416","v":0}]
[]
[null,null,"Coal Mining",null,null,null,2010]
[null,null,"Emissions from:","Coal Basin(s)                            (if applicable)","Measured Ventilation Emissions (mcf)",null,"Degasification System Emissions (mcf)",null,"Methane Recovered from Degasification Systems and Used for Energy (mcf)",null,"Emissions       (mcf CH4)",null,"Emissions  (MTCH4)",null,"Emissions  (MTCO2E)"]
[null,null,"Mines"]
[null,{"$f":"G423","v":2010},"Underground Mines",null,null,"+  ( ",null,"-",null," )  =",{"$f":"E426+G426-I426","v":0},"=",{"$f":"K426*1000000*ft3_g*g_mt","v":0},"=",{"$f":"(M426*CH4GWP)","v":0}]
[null,{"$f":"B426","v":2010}]
[null,{"$f":"B427","v":2010},null,null,"Surface Coal Production ('000 short tons)",null,"Basin-specific EF (ft3/short ton)",null,"Emissions  ('000 ft3 CH4)",null,"Emissions  (MTCH4)",null,"Emissions  (MTCO2E)"]
[null,2010,"Surface Mines",{"$f":"VLOOKUP(VLOOKUP(constants!$K$1,coalbasins,5,FALSE),'Coal codes'!$I$27:$J$40,2,FALSE)","v":"---"},null,"x",{"$f":"Control!$C$13","v":0},"=",{"$f":"E429*G429","v":0},"=",{"$f":"I429*ft3_g*g_mt*1000","v":0},"=",{"$f":"(K429*CH4GWP)","v":0}]
[null,2010,null,{"$f":"VLOOKUP(VLOOKUP(constants!$K$1,coalbasins,6,FALSE),'Coal codes'!$I$27:$J$40,2,FALSE)","v":"---"},null,"x",{"$f":"Control!$C$14","v":0},"=",{"$f":"IF(BasinNum=1,\"---\",E430*G430)","v":0},"=",{"$f":"IF(BasinNum=1,\"---\",I430*ft3_g*g_mt*1000)","v":0},"=",{"$f":"IF(BasinNum=1,\"---\",(K430*CH4GWP))","v":0}]
[null,2010]
[null,2010,"Post-Mining Activity",null,"Coal Production ('000 short tons)",null,"Basin- & Mine-specific EF (ft3/short ton)",null,"Emissions  ('000 ft3 CH4)",null,"Emissions  (MTCH4)",null,"Emissions  (MTCO2E)"]
[null,2010,"Underground Mines",{"$f":"VLOOKUP(VLOOKUP(constants!$K$1,coalbasins,3,FALSE),'Coal codes'!$I$5:$J$23,2,FALSE)","v":"---"},null,"x",{"$f":"Control!$C$18","v":0},"=",{"$f":"E433*G433","v":0},"=",{"$f":"I433*ft3_g*g_mt*1000","v":0},"=",{"$f":"(K433*CH4GWP)","v":0}]
[null,2010,null,{"$f":"VLOOKUP(VLOOKUP(constants!$K$1,coalbasins,4,FALSE),'Coal codes'!$I$5:$J$23,2,FALSE)","v":"---"},null,"x",{"$f":"Control!$C$19","v":0},"=",{"$f":"IF(BasinNum=1,\"---\",E434*G434)","v":0},"=",{"$f":"IF(BasinNum=1,\"---\",I434*ft3_g*g_mt*1000)","v":0},"=",{"$f":"IF(BasinNum=1,\"---\",(K434*CH4GWP))","v":0}]
[null,2010,"Surface Mines",{"$f":"VLOOKUP(VLOOKUP(constants!$K$1,coalbasins,5,FALSE),'Coal codes'!$I$27:$J$40,2,FALSE)","v":"---"},null,"x",{"$f":"Control!$C$21","v":0},"=",{"$f":"E435*G435","v":0},"=",{"$f":"I435*ft3_g*g_mt*1000","v":0},"=",{"$f":"(K435*CH4GWP)","v":0}]
[null,2010,null,{"$f":"VLOOKUP(VLOOKUP(constants!$K$1,coalbasins,6,FALSE),'Coal codes'!$I$27:$J$40,2,FALSE)","v":"---"},null,"x",{"$f":"Control!$C$22","v":0},"=",{"$f":"IF(BasinNum=1,\"---\",E436*G436)","v":0},"=",{"$f":"IF(BasinNum=1,\"---\",I436*ft3_g*g_mt*1000)","v":0},"=",{"$f":"IF(BasinNum=1,\"---\",(K436*CH4GWP))","v":0}]
[null,2010,"Post-Mining Total",null,null,null,null,null,{"$f":"SUM(I433:I436)","v":0},"=",{"$f":"SUM(K433:K436)","v":0},"=",{"$f":"SUM(M433:M436)","v":0}]
[]
[null,null,"Total Coal Mining","(MTCO2E)",{"$f":"SUM(E440:E442)","v":0}]
[null,null,null,"Underground Mines",{"$f":"O426","v":0}]
[null,null,null,"Surface Mines",{"$f":"SUM(M429:M430)","v":0}]
[null,null,null,"Post-Mining Activity",{"$f":"M437","v":0}]
[]
[null,null,"Coal Mining",null,null,null,2011]
[null,null,"Emissions from:","Coal Basin(s)                            (if applicable)","Measured Ventilation Emissions (mcf)",null,"Degasification System Emissions (mcf)",null,"Methane Recovered from Degasification Systems and Used for Energy (mcf)",null,"Emissions       (mcf CH4)",null,"Emissions  (MTCH4)",null,"Emissions  (MTCO2E)"]
[null,null,"Mines"]
[null,{"$f":"G444","v":2011},"Underground Mines",null,null,"+  ( ",null,"-",null," )  =",{"$f":"E447+G447-I447","v":0},"=",{"$f":"K447*1000000*ft3_g*g_mt","v":0},"=",{"$f":"(M447*CH4GWP)","v":0}]
[null,{"$f":"B447","v":2011}]
[null,{"$f":"B448","v":2011},null,null,"Surface Coal Production ('000 short tons)",null,"Basin-specific EF (ft3/short ton)",null,"Emissions  ('000 ft3 CH4)",null,"Emissions  (MTCH4)",null,"Emissions  (MTCO2E)"]
[null,2011,"Surface Mines",{"$f":"VLOOKUP(VLOOKUP(constants!$K$1,coalbasins,5,FALSE),'Coal codes'!$I$27:$J$40,2,FALSE)","v":"---"},null,"x",{"$f":"Control!$C$13","v":0},"=",{"$f":"E450*G450","v":0},"=",{"$f":"I450*ft3_g*g_mt*1000","v":0},"=",{"$f":"(K450*CH4GWP)","v":0}]
[null,2011,null,{"$f":"VLOOKUP(VLOOKUP(constants!$K$1,coalbasins,6,FALSE),'Coal codes'!$I$27:$J$40,2,FALSE)","v":"---"},null,"x",{"$f":"Control!$C$14","v":0},"=",{"$f":"IF(BasinNum=1,\"---\",E451*G451)","v":0},"=",{"$f":"IF(BasinNum=1,\"---\",I451*ft3_g*g_mt*1000)","v":0},"=",{"$f":"IF(BasinNum=1,\"---\",(K451*CH4GWP))","v":0}]
[null,2011]
[null,2011,"Post-Mining Activity",null,"Coal Production ('000 short tons)",null,"Basin- & Mine-specific EF (ft3/short ton)",null,"Emissions  ('000 ft3 CH4)",null,"Emissions  (MTCH4)",null,"Emissions  (MTCO2E)"]
[null,2011,"Underground Mines",{"$f":"VLOOKUP(VLOOKUP(constants!$K$1,coalbasins,3,FALSE),'Coal codes'!$I$5:$J$23,2,FALSE)","v":"---"},null,"x",{"$f":"Control!$C$18","v":0},"=",{"$f":"E454*G454","v":0},"=",{"$f":"I454*ft3_g*g_mt*1000","v":0},"=",{"$f":"(K454*CH4GWP)","v":0}]
[null,2011,null,{"$f":"VLOOKUP(VLOOKUP(constants!$K$1,coalbasins,4,FALSE),'Coal codes'!$I$5:$J$23,2,FALSE)","v":"---"},null,"x",{"$f":"Control!$C$19","v":0},"=",{"$f":"IF(BasinNum=1,\"---\",E455*G455)","v":0},"=",{"$f":"IF(BasinNum=1,\"---\",I455*ft3_g*g_mt*1000)","v":0},"=",{"$f":"IF(BasinNum=1,\"---\",(K455*CH4GWP))","v":0}]
[null,2011,"Surface Mines",{"$f":"VLOOKUP(VLOOKUP(constants!$K$1,coalbasins,5,FALSE),'Coal codes'!$I$27:$J$40,2,FALSE)","v":"---"},null,"x",{"$f":"Control!$C$21","v":0},"=",{"$f":"E456*G456","v":0},"=",{"$f":"I456*ft3_g*g_mt*1000","v":0},"=",{"$f":"(K456*CH4GWP)","v":0}]
[null,2011,null,{"$f":"VLOOKUP(VLOOKUP(constants!$K$1,coalbasins,6,FALSE),'Coal codes'!$I$27:$J$40,2,FALSE)","v":"---"},null,"x",{"$f":"Control!$C$22","v":0},"=",{"$f":"IF(BasinNum=1,\"---\",E457*G457)","v":0},"=",{"$f":"IF(BasinNum=1,\"---\",I457*ft3_g*g_mt*1000)","v":0},"=",{"$f":"IF(BasinNum=1,\"---\",(K457*CH4GWP))","v":0}]
[null,2011,"Post-Mining Total",null,null,null,null,null,{"$f":"SUM(I454:I457)","v":0},"=",{"$f":"SUM(K454:K457)","v":0},"=",{"$f":"SUM(M454:M457)","v":0}]
[]
[null,null,"Total Coal Mining","(MTCO2E)",{"$f":"SUM(E461:E463)","v":0}]
[null,null,null,"Underground Mines",{"$f":"O447","v":0}]
[null,null,null,"Surface Mines",{"$f":"SUM(M450:M451)","v":0}]
[null,null,null,"Post-Mining Activity",{"$f":"M458","v":0}]
[]
[null,null,"Coal Mining",null,null,null,2012]
[null,null,"Emissions from:","Coal Basin(s)                            (if applicable)","Measured Ventilation Emissions (mcf)",null,"Degasification System Emissions (mcf)",null,"Methane Recovered from Degasification Systems and Used for Energy (mcf)",null,"Emissions       (mcf CH4)",null,"Emissions  (MTCH4)",null,"Emissions  (MTCO2E)"]
[null,null,"Mines"]
[null,{"$f":"G465","v":2012},"Underground Mines",null,null,"+  ( ",null,"-",null," )  =",{"$f":"E468+G468-I468","v":0},"=",{"$f":"K468*1000000*ft3_g*g_mt","v":0},"=",{"$f":"(M468*CH4GWP)","v":0}]
[null,{"$f":"B468","v":2012}]
[null,{"$f":"B469","v":2012},null,null,"Surface Coal Production ('000 short tons)",null,"Basin-specific EF (ft3/short ton)",null,"Emissions  ('000 ft3 CH4)",null,"Emissions  (MTCH4)",null,"Emissions  (MTCO2E)"]
[null,2012,"Surface Mines",{"$f":"VLOOKUP(VLOOKUP(constants!$K$1,coalbasins,5,FALSE),'Coal codes'!$I$27:$J$40,2,FALSE)","v":"---"},null,"x",{"$f":"Control!$C$13","v":0},"=",{"$f":"E471*G471","v":0},"=",{"$f":"I471*ft3_g*g_mt*1000","v":0},"=",{"$f":"(K471*CH4GWP)","v":0}]
[null,2012,null,{"$f":"VLOOKUP(VLOOKUP(constants!$K$1,coalbasins,6,FALSE),'Coal codes'!$I$27:$J$40,2,FALSE)","v":"---"},null,"x",{"$f":"Control!$C$14","v":0},"=",{"$f":"IF(BasinNum=1,\"---\",E472*G472)","v":0},"=",{"$f":"IF(BasinNum=1,\"---\",I472*ft3_g*g_mt*1000)","v":0},"=",{"$f":"IF(BasinNum=1,\"---\",(K472*CH4GWP))","v":0}]
[null,2012]
[null,2012,"Post-Mining Activity",null,"Coal Production ('000 short tons)",null,"Basin- & Mine-specific EF (ft3/short ton)",null,"Emissions  ('000 ft3 CH4)",null,"Emissions  (MTCH4)",null,"Emissions  (MTCO2E)"]
[null,2012,"Underground Mines",{"$f":"VLOOKUP(VLOOKUP(constants!$K$1,coalbasins,3,FALSE),'Coal codes'!$I$5:$J$23,2,FALSE)","v":"---"},null,"x",{"$f":"Control!$C$18","v":0},"=",{"$f":"E475*G475","v":0},"=",{"$f":"I475*ft3_g*g_mt*1000","v":0},"=",{"$f":"(K475*CH4GWP)","v":0}]
[null,2012,null,{"$f":"VLOOKUP(VLOOKUP(constants!$K$1,coalbasins,4,FALSE),'Coal codes'!$I$5:$J$23,2,FALSE)","v":"---"},null,"x",{"$f":"Control!$C$19","v":0},"=",{"$f":"IF(BasinNum=1,\"---\",E476*G476)","v":0},"=",{"$f":"IF(BasinNum=1,\"---\",I476*ft3_g*g_mt*1000)","v":0},"=",{"$f":"IF(BasinNum=1,\"---\",(K476*CH4GWP))","v":0}]
[null,2012,"Surface Mines",{"$f":"VLOOKUP(VLOOKUP(constants!$K$1,coalbasins,5,FALSE),'Coal codes'!$I$27:$J$40,2,FALSE)","v":"---"},null,"x",{"$f":"Control!$C$21","v":0},"=",{"$f":"E477*G477","v":0},"=",{"$f":"I477*ft3_g*g_mt*1000","v":0},"=",{"$f":"(K477*CH4GWP)","v":0}]
[null,2012,null,{"$f":"VLOOKUP(VLOOKUP(constants!$K$1,coalbasins,6,FALSE),'Coal codes'!$I$27:$J$40,2,FALSE)","v":"---"},null,"x",{"$f":"Control!$C$22","v":0},"=",{"$f":"IF(BasinNum=1,\"---\",E478*G478)","v":0},"=",{"$f":"IF(BasinNum=1,\"---\",I478*ft3_g*g_mt*1000)","v":0},"=",{"$f":"IF(BasinNum=1,\"---\",(K478*CH4GWP))","v":0}]
[null,2012,"Post-Mining Total",null,null,null,null,null,{"$f":"SUM(I475:I478)","v":0},"=",{"$f":"SUM(K475:K478)","v":0},"=",{"$f":"SUM(M475:M478)","v":0}]
[]
[null,null,"Total Coal Mining","(MTCO2E)",{"$f":"SUM(E482:E484)","v":0}]
[null,null,null,"Underground Mines",{"$f":"O468","v":0}]
[null,null,null,"Surface Mines",{"$f":"SUM(M471:M472)","v":0}]
[null,null,null,"Post-Mining Activity",{"$f":"M479","v":0}]
[]
[null,null,"Coal Mining",null,null,null,2013]
[null,null,"Emissions from:","Coal Basin(s)                            (if applicable)","Measured Ventilation Emissions (mcf)",null,"Degasification System Emissions (mcf)",null,"Methane Recovered from Degasification Systems and Used for Energy (mcf)",null,"Emissions       (mcf CH4)",null,"Emissions  (MTCH4)",null,"Emissions  (MTCO2E)"]
[null,null,"Mines"]
[null,{"$f":"G486","v":2013},"Underground Mines",null,null,"+  ( ",null,"-",null," )  =",{"$f":"E489+G489-I489","v":0},"=",{"$f":"K489*1000000*ft3_g*g_mt","v":0},"=",{"$f":"(M489*CH4GWP)","v":0}]
[null,{"$f":"B489","v":2013}]
[null,{"$f":"B490","v":2013},null,null,"Surface Coal Production ('000 short tons)",null,"Basin-specific EF (ft3/short ton)",null,"Emissions  ('000 ft3 CH4)",null,"Emissions  (MTCH4)",null,"Emissions  (MTCO2E)"]
[null,2013,"Surface Mines",{"$f":"VLOOKUP(VLOOKUP(constants!$K$1,coalbasins,5,FALSE),'Coal codes'!$I$27:$J$40,2,FALSE)","v":"---"},null,"x",{"$f":"Control!$C$13","v":0},"=",{"$f":"E492*G492","v":0},"=",{"$f":"I492*ft3_g*g_mt*1000","v":0},"=",{"$f":"(K492*CH4GWP)","v":0}]
[null,2013,null,{"$f":"VLOOKUP(VLOOKUP(constants!$K$1,coalbasins,6,FALSE),'Coal codes'!$I$27:$J$40,2,FALSE)","v":"---"},null,"x",{"$f":"Control!$C$14","v":0},"=",{"$f":"IF(BasinNum=1,\"---\",E493*G493)","v":0},"=",{"$f":"IF(BasinNum=1,\"---\",I493*ft3_g*g_mt*1000)","v":0},"=",{"$f":"IF(BasinNum=1,\"---\",(K493*CH4GWP))","v":0}]
[null,2013]
[null,2013,"Post-Mining Activity",null,"Coal Production ('000 short tons)",null,"Basin- & Mine-specific EF (ft3/short ton)",null,"Emissions  ('000 ft3 CH4)",null,"Emissions  (MTCH4)",null,"Emissions  (MTCO2E)"]
[null,2013,"Underground Mines",{"$f":"VLOOKUP(VLOOKUP(constants!$K$1,coalbasins,3,FALSE),'Coal codes'!$I$5:$J$23,2,FALSE)","v":"---"},null,"x",{"$f":"Control!$C$18","v":0},"=",{"$f":"E496*G496","v":0},"=",{"$f":"I496*ft3_g*g_mt*1000","v":0},"=",{"$f":"(K496*CH4GWP)","v":0}]
[null,2013,null,{"$f":"VLOOKUP(VLOOKUP(constants!$K$1,coalbasins,4,FALSE),'Coal codes'!$I$5:$J$23,2,FALSE)","v":"---"},null,"x",{"$f":"Control!$C$19","v":0},"=",{"$f":"IF(BasinNum=1,\"---\",E497*G497)","v":0},"=",{"$f":"IF(BasinNum=1,\"---\",I497*ft3_g*g_mt*1000)","v":0},"=",{"$f":"IF(BasinNum=1,\"---\",(K497*CH4GWP))","v":0}]
[null,2013,"Surface Mines",{"$f":"VLOOKUP(VLOOKUP(constants!$K$1,coalbasins,5,FALSE),'Coal codes'!$I$27:$J$40,2,FALSE)","v":"---"},null,"x",{"$f":"Control!$C$21","v":0},"=",{"$f":"E498*G498","v":0},"=",{"$f":"I498*ft3_g*g_mt*1000","v":0},"=",{"$f":"(K498*CH4GWP)","v":0}]
[null,2013,null,{"$f":"VLOOKUP(VLOOKUP(constants!$K$1,coalbasins,6,FALSE),'Coal codes'!$I$27:$J$40,2,FALSE)","v":"---"},null,"x",{"$f":"Control!$C$22","v":0},"=",{"$f":"IF(BasinNum=1,\"---\",E499*G499)","v":0},"=",{"$f":"IF(BasinNum=1,\"---\",I499*ft3_g*g_mt*1000)","v":0},"=",{"$f":"IF(BasinNum=1,\"---\",(K499*CH4GWP))","v":0}]
[null,2013,"Post-Mining Total",null,null,null,null,null,{"$f":"SUM(I496:I499)","v":0},"=",{"$f":"SUM(K496:K499)","v":0},"=",{"$f":"SUM(M496:M499)","v":0}]
[]
[null,null,"Total Coal Mining","(MTCO2E)",{"$f":"SUM(E503:E505)","v":0}]
[null,null,null,"Underground Mines",{"$f":"O489","v":0}]
[null,null,null,"Surface Mines",{"$f":"SUM(M492:M493)","v":0}]
[null,null,null,"Post-Mining Activity",{"$f":"M500","v":0}]
[]
[null,null,"Coal Mining",null,null,null,2014]
[null,null,"Emissions from:","Coal Basin(s)                            (if applicable)","Measured Ventilation Emissions (mcf)",null,"Degasification System Emissions (mcf)",null,"Methane Recovered from Degasification Systems and Used for Energy (mcf)",null,"Emissions       (mcf CH4)",null,"Emissions  (MTCH4)",null,"Emissions  (MTCO2E)"]
[null,null,"Mines"]
[null,{"$f":"G507","v":2014},"Underground Mines",null,null,"+  ( ",null,"-",null," )  =",{"$f":"E510+G510-I510","v":0},"=",{"$f":"K510*1000000*ft3_g*g_mt","v":0},"=",{"$f":"(M510*CH4GWP)","v":0}]
[null,{"$f":"B510","v":2014}]
[null,{"$f":"B511","v":2014},null,null,"Surface Coal Production ('000 short tons)",null,"Basin-specific EF (ft3/short ton)",null,"Emissions  ('000 ft3 CH4)",null,"Emissions  (MTCH4)",null,"Emissions  (MTCO2E)"]
[null,2014,"Surface Mines",{"$f":"VLOOKUP(VLOOKUP(constants!$K$1,coalbasins,5,FALSE),'Coal codes'!$I$27:$J$40,2,FALSE)","v":"---"},null,"x",{"$f":"Control!$C$13","v":0},"=",{"$f":"E513*G513","v":0},"=",{"$f":"I513*ft3_g*g_mt*1000","v":0},"=",{"$f":"(K513*CH4GWP)","v":0}]
[null,2014,null,{"$f":"VLOOKUP(VLOOKUP(constants!$K$1,coalbasins,6,FALSE),'Coal codes'!$I$27:$J$40,2,FALSE)","v":"---"},null,"x",{"$f":"Control!$C$14","v":0},"=",{"$f":"IF(BasinNum=1,\"---\",E514*G514)","v":0},"=",{"$f":"IF(BasinNum=1,\"---\",I514*ft3_g*g_mt*1000)","v":0},"=",{"$f":"IF(BasinNum=1,\"---\",(K514*CH4GWP))","v":0}]
[null,2014]
[null,2014,"Post-Mining Activity",null,"Coal Production ('000 short tons)",null,"Basin- & Mine-specific EF (ft3/short ton)",null,"Emissions  ('000 ft3 CH4)",null,"Emissions  (MTCH4)",null,"Emissions  (MTCO2E)"]
[null,2014,"Underground Mines",{"$f":"VLOOKUP(VLOOKUP(constants!$K$1,coalbasins,3,FALSE),'Coal codes'!$I$5:$J$23,2,FALSE)","v":"---"},null,"x",{"$f":"Control!$C$18","v":0},"=",{"$f":"E517*G517","v":0},"=",{"$f":"I517*ft3_g*g_mt*1000","v":0},"=",{"$f":"(K517*CH4GWP)","v":0}]
[null,2014,null,{"$f":"VLOOKUP(VLOOKUP(constants!$K$1,coalbasins,4,FALSE),'Coal codes'!$I$5:$J$23,2,FALSE)","v":"---"},null,"x",{"$f":"Control!$C$19","v":0},"=",{"$f":"IF(BasinNum=1,\"---\",E518*G518)","v":0},"=",{"$f":"IF(BasinNum=1,\"---\",I518*ft3_g*g_mt*1000)","v":0},"=",{"$f":"IF(BasinNum=1,\"---\",(K518*CH4GWP))","v":0}]
[null,2014,"Surface Mines",{"$f":"VLOOKUP(VLOOKUP(constants!$K$1,coalbasins,5,FALSE),'Coal codes'!$I$27:$J$40,2,FALSE)","v":"---"},null,"x",{"$f":"Control!$C$21","v":0},"=",{"$f":"E519*G519","v":0},"=",{"$f":"I519*ft3_g*g_mt*1000","v":0},"=",{"$f":"(K519*CH4GWP)","v":0}]
[null,2014,null,{"$f":"VLOOKUP(VLOOKUP(constants!$K$1,coalbasins,6,FALSE),'Coal codes'!$I$27:$J$40,2,FALSE)","v":"---"},null,"x",{"$f":"Control!$C$22","v":0},"=",{"$f":"IF(BasinNum=1,\"---\",E520*G520)","v":0},"=",{"$f":"IF(BasinNum=1,\"---\",I520*ft3_g*g_mt*1000)","v":0},"=",{"$f":"IF(BasinNum=1,\"---\",(K520*CH4GWP))","v":0}]
[null,2014,"Post-Mining Total",null,null,null,null,null,{"$f":"SUM(I517:I520)","v":0},"=",{"$f":"SUM(K517:K520)","v":0},"=",{"$f":"SUM(M517:M520)","v":0}]
[]
[null,null,"Total Coal Mining","(MTCO2E)",{"$f":"SUM(E524:E526)","v":0}]
[null,null,null,"Underground Mines",{"$f":"O510","v":0}]
[null,null,null,"Surface Mines",{"$f":"SUM(M513:M514)","v":0}]
[null,null,null,"Post-Mining Activity",{"$f":"M521","v":0}]
[]
[null,null,"Coal Mining",null,null,null,2015]
[null,null,"Emissions from:","Coal Basin(s)                            (if applicable)","Measured Ventilation Emissions (mcf)",null,"Degasification System Emissions (mcf)",null,"Methane Recovered from Degasification Systems and Used for Energy (mcf)",null,"Emissions       (mcf CH4)",null,"Emissions  (MTCH4)",null,"Emissions  (MTCO2E)"]
[null,null,"Mines"]
[null,{"$f":"G528","v":2015},"Underground Mines",null,null,"+  ( ",null,"-",null," )  =",{"$f":"E531+G531-I531","v":0},"=",{"$f":"K531*1000000*ft3_g*g_mt","v":0},"=",{"$f":"(M531*CH4GWP)","v":0}]
[null,{"$f":"B531","v":2015}]
[null,{"$f":"B532","v":2015},null,null,"Surface Coal Production ('000 short tons)",null,"Basin-specific EF (ft3/short ton)",null,"Emissions  ('000 ft3 CH4)",null,"Emissions  (MTCH4)",null,"Emissions  (MTCO2E)"]
[null,2015,"Surface Mines",{"$f":"VLOOKUP(VLOOKUP(constants!$K$1,coalbasins,5,FALSE),'Coal codes'!$I$27:$J$40,2,FALSE)","v":"---"},null,"x",{"$f":"Control!$C$13","v":0},"=",{"$f":"E534*G534","v":0},"=",{"$f":"I534*ft3_g*g_mt*1000","v":0},"=",{"$f":"(K534*CH4GWP)","v":0}]
[null,2015,null,{"$f":"VLOOKUP(VLOOKUP(constants!$K$1,coalbasins,6,FALSE),'Coal codes'!$I$27:$J$40,2,FALSE)","v":"---"},null,"x",{"$f":"Control!$C$14","v":0},"=",{"$f":"IF(BasinNum=1,\"---\",E535*G535)","v":0},"=",{"$f":"IF(BasinNum=1,\"---\",I535*ft3_g*g_mt*1000)","v":0},"=",{"$f":"IF(BasinNum=1,\"---\",(K535*CH4GWP))","v":0}]
[null,2015]
[null,2015,"Post-Mining Activity",null,"Coal Production ('000 short tons)",null,"Basin- & Mine-specific EF (ft3/short ton)",null,"Emissions  ('000 ft3 CH4)",null,"Emissions  (MTCH4)",null,"Emissions  (MTCO2E)"]
[null,2015,"Underground Mines",{"$f":"VLOOKUP(VLOOKUP(constants!$K$1,coalbasins,3,FALSE),'Coal codes'!$I$5:$J$23,2,FALSE)","v":"---"},null,"x",{"$f":"Control!$C$18","v":0},"=",{"$f":"E538*G538","v":0},"=",{"$f":"I538*ft3_g*g_mt*1000","v":0},"=",{"$f":"(K538*CH4GWP)","v":0}]
[null,2015,null,{"$f":"VLOOKUP(VLOOKUP(constants!$K$1,coalbasins,4,FALSE),'Coal codes'!$I$5:$J$23,2,FALSE)","v":"---"},null,"x",{"$f":"Control!$C$19","v":0},"=",{"$f":"IF(BasinNum=1,\"---\",E539*G539)","v":0},"=",{"$f":"IF(BasinNum=1,\"---\",I539*ft3_g*g_mt*1000)","v":0},"=",{"$f":"IF(BasinNum=1,\"---\",(K539*CH4GWP))","v":0}]
[null,2015,"Surface Mines",{"$f":"VLOOKUP(VLOOKUP(constants!$K$1,coalbasins,5,FALSE),'Coal codes'!$I$27:$J$40,2,FALSE)","v":"---"},null,"x",{"$f":"Control!$C$21","v":0},"=",{"$f":"E540*G540","v":0},"=",{"$f":"I540*ft3_g*g_mt*1000","v":0},"=",{"$f":"(K540*CH4GWP)","v":0}]
[null,2015,null,{"$f":"VLOOKUP(VLOOKUP(constants!$K$1,coalbasins,6,FALSE),'Coal codes'!$I$27:$J$40,2,FALSE)","v":"---"},null,"x",{"$f":"Control!$C$22","v":0},"=",{"$f":"IF(BasinNum=1,\"---\",E541*G541)","v":0},"=",{"$f":"IF(BasinNum=1,\"---\",I541*ft3_g*g_mt*1000)","v":0},"=",{"$f":"IF(BasinNum=1,\"---\",(K541*CH4GWP))","v":0}]
[null,2015,"Post-Mining Total",null,null,null,null,null,{"$f":"SUM(I538:I541)","v":0},"=",{"$f":"SUM(K538:K541)","v":0},"=",{"$f":"SUM(M538:M541)","v":0}]
[]
[null,null,"Total Coal Mining","(MTCO2E)",{"$f":"SUM(E545:E547)","v":0}]
[null,null,null,"Underground Mines",{"$f":"O531","v":0}]
[null,null,null,"Surface Mines",{"$f":"SUM(M534:M535)","v":0}]
[null,null,null,"Post-Mining Activity",{"$f":"M542","v":0}]
[]
[null,null,"Coal Mining",null,null,null,2016]
[null,null,"Emissions from:","Coal Basin(s)                            (if applicable)","Measured Ventilation Emissions (mcf)",null,"Degasification System Emissions (mcf)",null,"Methane Recovered from Degasification Systems and Used for Energy (mcf)",null,"Emissions       (mcf CH4)",null,"Emissions  (MTCH4)",null,"Emissions  (MTCO2E)"]
[null,null,"Mines"]
[null,{"$f":"G549","v":2016},"Underground Mines",null,null,"+  ( ",null,"-",null," )  =",{"$f":"E552+G552-I552","v":0},"=",{"$f":"K552*1000000*ft3_g*g_mt","v":0},"=",{"$f":"(M552*CH4GWP)","v":0}]
[null,{"$f":"B552","v":2016}]
[null,{"$f":"B553","v":2016},null,null,"Surface Coal Production ('000 short tons)",null,"Basin-specific EF (ft3/short ton)",null,"Emissions  ('000 ft3 CH4)",null,"Emissions  (MTCH4)",null,"Emissions  (MTCO2E)"]
[null,2016,"Surface Mines",{"$f":"VLOOKUP(VLOOKUP(constants!$K$1,coalbasins,5,FALSE),'Coal codes'!$I$27:$J$40,2,FALSE)","v":"---"},null,"x",{"$f":"Control!$C$13","v":0},"=",{"$f":"E555*G555","v":0},"=",{"$f":"I555*ft3_g*g_mt*1000","v":0},"=",{"$f":"(K555*CH4GWP)","v":0}]
[null,2016,null,{"$f":"VLOOKUP(VLOOKUP(constants!$K$1,coalbasins,6,FALSE),'Coal codes'!$I$27:$J$40,2,FALSE)","v":"---"},null,"x",{"$f":"Control!$C$14","v":0},"=",{"$f":"IF(BasinNum=1,\"---\",E556*G556)","v":0},"=",{"$f":"IF(BasinNum=1,\"---\",I556*ft3_g*g_mt*1000)","v":0},"=",{"$f":"IF(BasinNum=1,\"---\",(K556*CH4GWP))","v":0}]
[null,2016]
[null,2016,"Post-Mining Activity",null,"Coal Production ('000 short tons)",null,"Basin- & Mine-specific EF (ft3/short ton)",null,"Emissions  ('000 ft3 CH4)",null,"Emissions  (MTCH4)",null,"Emissions  (MTCO2E)"]
[null,2016,"Underground Mines",{"$f":"VLOOKUP(VLOOKUP(constants!$K$1,coalbasins,3,FALSE),'Coal codes'!$I$5:$J$23,2,FALSE)","v":"---"},null,"x",{"$f":"Control!$C$18","v":0},"=",{"$f":"E559*G559","v":0},"=",{"$f":"I559*ft3_g*g_mt*1000","v":0},"=",{"$f":"(K559*CH4GWP)","v":0}]
[null,2016,null,{"$f":"VLOOKUP(VLOOKUP(constants!$K$1,coalbasins,4,FALSE),'Coal codes'!$I$5:$J$23,2,FALSE)","v":"---"},null,"x",{"$f":"Control!$C$19","v":0},"=",{"$f":"IF(BasinNum=1,\"---\",E560*G560)","v":0},"=",{"$f":"IF(BasinNum=1,\"---\",I560*ft3_g*g_mt*1000)","v":0},"=",{"$f":"IF(BasinNum=1,\"---\",(K560*CH4GWP))","v":0}]
[null,2016,"Surface Mines",{"$f":"VLOOKUP(VLOOKUP(constants!$K$1,coalbasins,5,FALSE),'Coal codes'!$I$27:$J$40,2,FALSE)","v":"---"},null,"x",{"$f":"Control!$C$21","v":0},"=",{"$f":"E561*G561","v":0},"=",{"$f":"I561*ft3_g*g_mt*1000","v":0},"=",{"$f":"(K561*CH4GWP)","v":0}]
[null,2016,null,{"$f":"VLOOKUP(VLOOKUP(constants!$K$1,coalbasins,6,FALSE),'Coal codes'!$I$27:$J$40,2,FALSE)","v":"---"},null,"x",{"$f":"Control!$C$22","v":0},"=",{"$f":"IF(BasinNum=1,\"---\",E562*G562)","v":0},"=",{"$f":"IF(BasinNum=1,\"---\",I562*ft3_g*g_mt*1000)","v":0},"=",{"$f":"IF(BasinNum=1,\"---\",(K562*CH4GWP))","v":0}]
[null,2016,"Post-Mining Total",null,null,null,null,null,{"$f":"SUM(I559:I562)","v":0},"=",{"$f":"SUM(K559:K562)","v":0},"=",{"$f":"SUM(M559:M562)","v":0}]
[]
[null,null,"Total Coal Mining","(MTCO2E)",{"$f":"SUM(E566:E568)","v":0}]
[null,null,null,"Underground Mines",{"$f":"O552","v":0}]
[null,null,null,"Surface Mines",{"$f":"SUM(M555:M556)","v":0}]
[null,null,null,"Post-Mining Activity",{"$f":"M563","v":0}]
[]
[null,null,"Coal Mining",null,null,null,2017]
[null,null,"Emissions from:","Coal Basin(s)                            (if applicable)","Measured Ventilation Emissions (mcf)",null,"Degasification System Emissions (mcf)",null,"Methane Recovered from Degasification Systems and Used for Energy (mcf)",null,"Emissions       (mcf CH4)",null,"Emissions  (MTCH4)",null,"Emissions  (MTCO2E)"]
[null,null,"Mines"]
[null,{"$f":"G570","v":2017},"Underground Mines",null,null,"+  ( ",null,"-",null," )  =",{"$f":"E573+G573-I573","v":0},"=",{"$f":"K573*1000000*ft3_g*g_mt","v":0},"=",{"$f":"(M573*CH4GWP)","v":0}]
[null,{"$f":"B573","v":2017}]
[null,{"$f":"B574","v":2017},null,null,"Surface Coal Production ('000 short tons)",null,"Basin-specific EF (ft3/short ton)",null,"Emissions  ('000 ft3 CH4)",null,"Emissions  (MTCH4)",null,"Emissions  (MTCO2E)"]
[null,2017,"Surface Mines",{"$f":"VLOOKUP(VLOOKUP(constants!$K$1,coalbasins,5,FALSE),'Coal codes'!$I$27:$J$40,2,FALSE)","v":"---"},null,"x",{"$f":"Control!$C$13","v":0},"=",{"$f":"E576*G576","v":0},"=",{"$f":"I576*ft3_g*g_mt*1000","v":0},"=",{"$f":"(K576*CH4GWP)","v":0}]
[null,2017,null,{"$f":"VLOOKUP(VLOOKUP(constants!$K$1,coalbasins,6,FALSE),'Coal codes'!$I$27:$J$40,2,FALSE)","v":"---"},null,"x",{"$f":"Control!$C$14","v":0},"=",{"$f":"IF(BasinNum=1,\"---\",E577*G577)","v":0},"=",{"$f":"IF(BasinNum=1,\"---\",I577*ft3_g*g_mt*1000)","v":0},"=",{"$f":"IF(BasinNum=1,\"---\",(K577*CH4GWP))","v":0}]
[null,2017]
[null,2017,"Post-Mining Activity",null,"Coal Production ('000 short tons)",null,"Basin- & Mine-specific EF (ft3/short ton)",null,"Emissions  ('000 ft3 CH4)",null,"Emissions  (MTCH4)",null,"Emissions  (MTCO2E)"]
[null,2017,"Underground Mines",{"$f":"VLOOKUP(VLOOKUP(constants!$K$1,coalbasins,3,FALSE),'Coal codes'!$I$5:$J$23,2,FALSE)","v":"---"},null,"x",{"$f":"Control!$C$18","v":0},"=",{"$f":"E580*G580","v":0},"=",{"$f":"I580*ft3_g*g_mt*1000","v":0},"=",{"$f":"(K580*CH4GWP)","v":0}]
[null,2017,null,{"$f":"VLOOKUP(VLOOKUP(constants!$K$1,coalbasins,4,FALSE),'Coal codes'!$I$5:$J$23,2,FALSE)","v":"---"},null,"x",{"$f":"Control!$C$19","v":0},"=",{"$f":"IF(BasinNum=1,\"---\",E581*G581)","v":0},"=",{"$f":"IF(BasinNum=1,\"---\",I581*ft3_g*g_mt*1000)","v":0},"=",{"$f":"IF(BasinNum=1,\"---\",(K581*CH4GWP))","v":0}]
[null,2017,"Surface Mines",{"$f":"VLOOKUP(VLOOKUP(constants!$K$1,coalbasins,5,FALSE),'Coal codes'!$I$27:$J$40,2,FALSE)","v":"---"},null,"x",{"$f":"Control!$C$21","v":0},"=",{"$f":"E582*G582","v":0},"=",{"$f":"I582*ft3_g*g_mt*1000","v":0},"=",{"$f":"(K582*CH4GWP)","v":0}]
[null,2017,null,{"$f":"VLOOKUP(VLOOKUP(constants!$K$1,coalbasins,6,FALSE),'Coal codes'!$I$27:$J$40,2,FALSE)","v":"---"},null,"x",{"$f":"Control!$C$22","v":0},"=",{"$f":"IF(BasinNum=1,\"---\",E583*G583)","v":0},"=",{"$f":"IF(BasinNum=1,\"---\",I583*ft3_g*g_mt*1000)","v":0},"=",{"$f":"IF(BasinNum=1,\"---\",(K583*CH4GWP))","v":0}]
[null,2017,"Post-Mining Total",null,null,null,null,null,{"$f":"SUM(I580:I583)","v":0},"=",{"$f":"SUM(K580:K583)","v":0},"=",{"$f":"SUM(M580:M583)","v":0}]
[]
[null,null,"Total Coal Mining","(MTCO2E)",{"$f":"SUM(E587:E589)","v":0}]
[null,null,null,"Underground Mines",{"$f":"O573","v":0}]
[null,null,null,"Surface Mines",{"$f":"SUM(M576:M577)","v":0}]
[null,null,null,"Post-Mining Activity",{"$f":"M584","v":0}]
[]
[null,null,"Coal Mining",null,null,null,2018]
[null,null,"Emissions from:","Coal Basin(s)                            (if applicable)","Measured Ventilation Emissions (mcf)",null,"Degasification System Emissions (mcf)",null,"Methane Recovered from Degasification Systems and Used for Energy (mcf)",null,"Emissions       (mcf CH4)",null,"Emissions  (MTCH4)",null,"Emissions  (MTCO2E)"]
[null,null,"Mines"]
[null,{"$f":"G591","v":2018},"Underground Mines",null,null,"+  ( ",null,"-",null," )  =",{"$f":"E594+G594-I594","v":0},"=",{"$f":"K594*1000000*ft3_g*g_mt","v":0},"=",{"$f":"(M594*CH4GWP)","v":0}]
[null,{"$f":"B594","v":2018}]
[null,{"$f":"B595","v":2018},null,null,"Surface Coal Production ('000 short tons)",null,"Basin-specific EF (ft3/short ton)",null,"Emissions  ('000 ft3 CH4)",null,"Emissions  (MTCH4)",null,"Emissions  (MTCO2E)"]
[null,2018,"Surface Mines",{"$f":"VLOOKUP(VLOOKUP(constants!$K$1,coalbasins,5,FALSE),'Coal codes'!$I$27:$J$40,2,FALSE)","v":"---"},null,"x",{"$f":"Control!$C$13","v":0},"=",{"$f":"E597*G597","v":0},"=",{"$f":"I597*ft3_g*g_mt*1000","v":0},"=",{"$f":"(K597*CH4GWP)","v":0}]
[null,2018,null,{"$f":"VLOOKUP(VLOOKUP(constants!$K$1,coalbasins,6,FALSE),'Coal codes'!$I$27:$J$40,2,FALSE)","v":"---"},null,"x",{"$f":"Control!$C$14","v":0},"=",{"$f":"IF(BasinNum=1,\"---\",E598*G598)","v":0},"=",{"$f":"IF(BasinNum=1,\"---\",I598*ft3_g*g_mt*1000)","v":0},"=",{"$f":"IF(BasinNum=1,\"---\",(K598*CH4GWP))","v":0}]
[null,2018]
[null,2018,"Post-Mining Activity",null,"Coal Production ('000 short tons)",null,"Basin- & Mine-specific EF (ft3/short ton)",null,"Emissions  ('000 ft3 CH4)",null,"Emissions  (MTCH4)",null,"Emissions  (MTCO2E)"]
[null,2018,"Underground Mines",{"$f":"VLOOKUP(VLOOKUP(constants!$K$1,coalbasins,3,FALSE),'Coal codes'!$I$5:$J$23,2,FALSE)","v":"---"},null,"x",{"$f":"Control!$C$18","v":0},"=",{"$f":"E601*G601","v":0},"=",{"$f":"I601*ft3_g*g_mt*1000","v":0},"=",{"$f":"(K601*CH4GWP)","v":0}]
[null,2018,null,{"$f":"VLOOKUP(VLOOKUP(constants!$K$1,coalbasins,4,FALSE),'Coal codes'!$I$5:$J$23,2,FALSE)","v":"---"},null,"x",{"$f":"Control!$C$19","v":0},"=",{"$f":"IF(BasinNum=1,\"---\",E602*G602)","v":0},"=",{"$f":"IF(BasinNum=1,\"---\",I602*ft3_g*g_mt*1000)","v":0},"=",{"$f":"IF(BasinNum=1,\"---\",(K602*CH4GWP))","v":0}]
[null,2018,"Surface Mines",{"$f":"VLOOKUP(VLOOKUP(constants!$K$1,coalbasins,5,FALSE),'Coal codes'!$I$27:$J$40,2,FALSE)","v":"---"},null,"x",{"$f":"Control!$C$21","v":0},"=",{"$f":"E603*G603","v":0},"=",{"$f":"I603*ft3_g*g_mt*1000","v":0},"=",{"$f":"(K603*CH4GWP)","v":0}]
[null,2018,null,{"$f":"VLOOKUP(VLOOKUP(constants!$K$1,coalbasins,6,FALSE),'Coal codes'!$I$27:$J$40,2,FALSE)","v":"---"},null,"x",{"$f":"Control!$C$22","v":0},"=",{"$f":"IF(BasinNum=1,\"---\",E604*G604)","v":0},"=",{"$f":"IF(BasinNum=1,\"---\",I604*ft3_g*g_mt*1000)","v":0},"=",{"$f":"IF(BasinNum=1,\"---\",(K604*CH4GWP))","v":0}]
[null,2018,"Post-Mining Total",null,null,null,null,null,{"$f":"SUM(I601:I604)","v":0},"=",{"$f":"SUM(K601:K604)","v":0},"=",{"$f":"SUM(M601:M604)","v":0}]
[]
[null,null,"Total Coal Mining","(MTCO2E)",{"$f":"SUM(E608:E610)","v":0}]
[null,null,null,"Underground Mines",{"$f":"O594","v":0}]
[null,null,null,"Surface Mines",{"$f":"SUM(M597:M598)","v":0}]
[null,null,null,"Post-Mining Activity",{"$f":"M605","v":0}]
[]
[null,null,"Coal Mining",null,null,null,2019]
[null,null,"Emissions from:","Coal Basin(s)                            (if applicable)","Measured Ventilation Emissions (mcf)",null,"Degasification System Emissions (mcf)",null,"Methane Recovered from Degasification Systems and Used for Energy (mcf)",null,"Emissions       (mcf CH4)",null,"Emissions  (MTCH4)",null,"Emissions  (MTCO2E)"]
[null,null,"Mines"]
[null,{"$f":"G612","v":2019},"Underground Mines",null,null,"+  ( ",null,"-",null," )  =",{"$f":"E615+G615-I615","v":0},"=",{"$f":"K615*1000000*ft3_g*g_mt","v":0},"=",{"$f":"(M615*CH4GWP)","v":0}]
[null,{"$f":"B615","v":2019}]
[null,{"$f":"B616","v":2019},null,null,"Surface Coal Production ('000 short tons)",null,"Basin-specific EF (ft3/short ton)",null,"Emissions  ('000 ft3 CH4)",null,"Emissions  (MTCH4)",null,"Emissions  (MTCO2E)"]
[null,2019,"Surface Mines",{"$f":"VLOOKUP(VLOOKUP(constants!$K$1,coalbasins,5,FALSE),'Coal codes'!$I$27:$J$40,2,FALSE)","v":"---"},null,"x",{"$f":"Control!$C$13","v":0},"=",{"$f":"E618*G618","v":0},"=",{"$f":"I618*ft3_g*g_mt*1000","v":0},"=",{"$f":"(K618*CH4GWP)","v":0}]
[null,2019,null,{"$f":"VLOOKUP(VLOOKUP(constants!$K$1,coalbasins,6,FALSE),'Coal codes'!$I$27:$J$40,2,FALSE)","v":"---"},null,"x",{"$f":"Control!$C$14","v":0},"=",{"$f":"IF(BasinNum=1,\"---\",E619*G619)","v":0},"=",{"$f":"IF(BasinNum=1,\"---\",I619*ft3_g*g_mt*1000)","v":0},"=",{"$f":"IF(BasinNum=1,\"---\",(K619*CH4GWP))","v":0}]
[null,2019]
[null,2019,"Post-Mining Activity",null,"Coal Production ('000 short tons)",null,"Basin- & Mine-specific EF (ft3/short ton)",null,"Emissions  ('000 ft3 CH4)",null,"Emissions  (MTCH4)",null,"Emissions  (MTCO2E)"]
[null,2019,"Underground Mines",{"$f":"VLOOKUP(VLOOKUP(constants!$K$1,coalbasins,3,FALSE),'Coal codes'!$I$5:$J$23,2,FALSE)","v":"---"},null,"x",{"$f":"Control!$C$18","v":0},"=",{"$f":"E622*G622","v":0},"=",{"$f":"I622*ft3_g*g_mt*1000","v":0},"=",{"$f":"(K622*CH4GWP)","v":0}]
[null,2019,null,{"$f":"VLOOKUP(VLOOKUP(constants!$K$1,coalbasins,4,FALSE),'Coal codes'!$I$5:$J$23,2,FALSE)","v":"---"},null,"x",{"$f":"Control!$C$19","v":0},"=",{"$f":"IF(BasinNum=1,\"---\",E623*G623)","v":0},"=",{"$f":"IF(BasinNum=1,\"---\",I623*ft3_g*g_mt*1000)","v":0},"=",{"$f":"IF(BasinNum=1,\"---\",(K623*CH4GWP))","v":0}]
[null,2019,"Surface Mines",{"$f":"VLOOKUP(VLOOKUP(constants!$K$1,coalbasins,5,FALSE),'Coal codes'!$I$27:$J$40,2,FALSE)","v":"---"},null,"x",{"$f":"Control!$C$21","v":0},"=",{"$f":"E624*G624","v":0},"=",{"$f":"I624*ft3_g*g_mt*1000","v":0},"=",{"$f":"(K624*CH4GWP)","v":0}]
[null,2019,null,{"$f":"VLOOKUP(VLOOKUP(constants!$K$1,coalbasins,6,FALSE),'Coal codes'!$I$27:$J$40,2,FALSE)","v":"---"},null,"x",{"$f":"Control!$C$22","v":0},"=",{"$f":"IF(BasinNum=1,\"---\",E625*G625)","v":0},"=",{"$f":"IF(BasinNum=1,\"---\",I625*ft3_g*g_mt*1000)","v":0},"=",{"$f":"IF(BasinNum=1,\"---\",(K625*CH4GWP))","v":0}]
[null,2019,"Post-Mining Total",null,null,null,null,null,{"$f":"SUM(I622:I625)","v":0},"=",{"$f":"SUM(K622:K625)","v":0},"=",{"$f":"SUM(M622:M625)","v":0}]
[]
[null,null,"Total Coal Mining","(MTCO2E)",{"$f":"SUM(E629:E631)","v":0}]
[null,null,null,"Underground Mines",{"$f":"O615","v":0}]
[null,null,null,"Surface Mines",{"$f":"SUM(M618:M619)","v":0}]
[null,null,null,"Post-Mining Activity",{"$f":"M626","v":0}]
[]
[null,null,"Coal Mining",null,null,null,2020]
[null,null,"Emissions from:","Coal Basin(s)                            (if applicable)","Measured Ventilation Emissions (mcf)",null,"Degasification System Emissions (mcf)",null,"Methane Recovered from Degasification Systems and Used for Energy (mcf)",null,"Emissions       (mcf CH4)",null,"Emissions  (MTCH4)",null,"Emissions  (MTCO2E)"]
[null,null,"Mines"]
[null,{"$f":"G633","v":2020},"Underground Mines",null,null,"+  ( ",null,"-",null," )  =",{"$f":"E636+G636-I636","v":0},"=",{"$f":"K636*1000000*ft3_g*g_mt","v":0},"=",{"$f":"(M636*CH4GWP)","v":0}]
[null,{"$f":"B636","v":2020}]
[null,{"$f":"B637","v":2020},null,null,"Surface Coal Production ('000 short tons)",null,"Basin-specific EF (ft3/short ton)",null,"Emissions  ('000 ft3 CH4)",null,"Emissions  (MTCH4)",null,"Emissions  (MTCO2E)"]
[null,2020,"Surface Mines",{"$f":"VLOOKUP(VLOOKUP(constants!$K$1,coalbasins,5,FALSE),'Coal codes'!$I$27:$J$40,2,FALSE)","v":"---"},null,"x",{"$f":"Control!$C$13","v":0},"=",{"$f":"E639*G639","v":0},"=",{"$f":"I639*ft3_g*g_mt*1000","v":0},"=",{"$f":"(K639*CH4GWP)","v":0}]
[null,2020,null,{"$f":"VLOOKUP(VLOOKUP(constants!$K$1,coalbasins,6,FALSE),'Coal codes'!$I$27:$J$40,2,FALSE)","v":"---"},null,"x",{"$f":"Control!$C$14","v":0},"=",{"$f":"IF(BasinNum=1,\"---\",E640*G640)","v":0},"=",{"$f":"IF(BasinNum=1,\"---\",I640*ft3_g*g_mt*1000)","v":0},"=",{"$f":"IF(BasinNum=1,\"---\",(K640*CH4GWP))","v":0}]
[null,2020]
[null,2020,"Post-Mining Activity",null,"Coal Production ('000 short tons)",null,"Basin- & Mine-specific EF (ft3/short ton)",null,"Emissions  ('000 ft3 CH4)",null,"Emissions  (MTCH4)",null,"Emissions  (MTCO2E)"]
[null,2020,"Underground Mines",{"$f":"VLOOKUP(VLOOKUP(constants!$K$1,coalbasins,3,FALSE),'Coal codes'!$I$5:$J$23,2,FALSE)","v":"---"},null,"x",{"$f":"Control!$C$18","v":0},"=",{"$f":"E643*G643","v":0},"=",{"$f":"I643*ft3_g*g_mt*1000","v":0},"=",{"$f":"(K643*CH4GWP)","v":0}]
[null,2020,null,{"$f":"VLOOKUP(VLOOKUP(constants!$K$1,coalbasins,4,FALSE),'Coal codes'!$I$5:$J$23,2,FALSE)","v":"---"},null,"x",{"$f":"Control!$C$19","v":0},"=",{"$f":"IF(BasinNum=1,\"---\",E644*G644)","v":0},"=",{"$f":"IF(BasinNum=1,\"---\",I644*ft3_g*g_mt*1000)","v":0},"=",{"$f":"IF(BasinNum=1,\"---\",(K644*CH4GWP))","v":0}]
[null,2020,"Surface Mines",{"$f":"VLOOKUP(VLOOKUP(constants!$K$1,coalbasins,5,FALSE),'Coal codes'!$I$27:$J$40,2,FALSE)","v":"---"},null,"x",{"$f":"Control!$C$21","v":0},"=",{"$f":"E645*G645","v":0},"=",{"$f":"I645*ft3_g*g_mt*1000","v":0},"=",{"$f":"(K645*CH4GWP)","v":0}]
[null,2020,null,{"$f":"VLOOKUP(VLOOKUP(constants!$K$1,coalbasins,6,FALSE),'Coal codes'!$I$27:$J$40,2,FALSE)","v":"---"},null,"x",{"$f":"Control!$C$22","v":0},"=",{"$f":"IF(BasinNum=1,\"---\",E646*G646)","v":0},"=",{"$f":"IF(BasinNum=1,\"---\",I646*ft3_g*g_mt*1000)","v":0},"=",{"$f":"IF(BasinNum=1,\"---\",(K646*CH4GWP))","v":0}]
[null,2020,"Post-Mining Total",null,null,null,null,null,{"$f":"SUM(I643:I646)","v":0},"=",{"$f":"SUM(K643:K646)","v":0},"=",{"$f":"SUM(M643:M646)","v":0}]
[]
[null,null,"Total Coal Mining","(MTCO2E)",{"$f":"SUM(E650:E652)","v":0}]
[null,null,null,"Underground Mines",{"$f":"O636","v":0}]
[null,null,null,"Surface Mines",{"$f":"SUM(M639:M640)","v":0}]
[null,null,null,"Post-Mining Activity",{"$f":"M647","v":0}]

{"sheet":"CH4 from Abandoned Coal Mines","index":2,"n_rows":252,"n_cols":29,"rows_kept":252,"cut":false,"hidden":false,"merged":[]}
[null,{"$f":"\"4. CH4 from Abandoned Mines in \"&constants!K1","v":"4. CH4 from Abandoned Mines in XX"}]
[]
[null,"Abandoned Coal Mines",null,null,null,"Please click the button on the left to view a default list of abandoned coal mines within your state"]
[null,null,null,"Mine Name",null,"County",null,"Basin",null,"Year Abandoned",null,"Reported Status",null,"Actual Status",null,"Percent Sealed",null,"Methane Recovered (m3/yr)"]
[null,{"$f":"'Abandoned Data'!N3&\".\"","v":"."},null,{"$f":"'Abandoned Data'!O3","v":""},null,{"$f":"'Abandoned Data'!P3","v":""},null,{"$f":"'Abandoned Data'!S3","v":""},null,{"$f":"'Abandoned Data'!R3","v":""},null,{"$f":"'Abandoned Data'!Q3","v":""},null,null,{"$f":"IF(N5>0,IF(N5=\"Sealed\",0.8,\"\"),IF(L5=\"Sealed\",0.8,\"\"))","v":""},null,null,null,null,null,null,null,null,null,null,null,0.5,"Sealed","Bituminous"]
[null,{"$f":"'Abandoned Data'!N4&\".\"","v":"."},null,{"$f":"'Abandoned Data'!O4","v":""},null,{"$f":"'Abandoned Data'!P4","v":""},null,{"$f":"'Abandoned Data'!S4","v":""},null,{"$f":"'Abandoned Data'!R4","v":""},null,{"$f":"'Abandoned Data'!Q4","v":""},null,null,{"$f":"IF(N6>0,IF(N6=\"Sealed\",0.8,\"\"),IF(L6=\"Sealed\",0.8,\"\"))","v":""},null,null,null,null,null,null,null,null,null,null,null,0.8,"Flooded","Sub-bituminous"]
[null,{"$f":"'Abandoned Data'!N5&\".\"","v":"."},null,{"$f":"'Abandoned Data'!O5","v":""},null,{"$f":"'Abandoned Data'!P5","v":""},null,{"$f":"'Abandoned Data'!S5","v":""},null,{"$f":"'Abandoned Data'!R5","v":""},null,{"$f":"'Abandoned Data'!Q5","v":""},null,null,"",null,null,null,null,null,null,null,null,null,null,null,0.95,"Venting","Anthracite"]
[null,{"$f":"'Abandoned Data'!N6&\".\"","v":"."},null,{"$f":"'Abandoned Data'!O6","v":""},null,{"$f":"'Abandoned Data'!P6","v":""},null,{"$f":"'Abandoned Data'!S6","v":""},null,{"$f":"'Abandoned Data'!R6","v":""},null,{"$f":"'Abandoned Data'!Q6","v":""},null,null,"",null,null,null,null,null,null,null,null,null,null,null,null,"Unknown"]
[null,{"$f":"'Abandoned Data'!N7&\".\"","v":"."},null,{"$f":"'Abandoned Data'!O7","v":""},null,{"$f":"'Abandoned Data'!P7","v":""},null,{"$f":"'Abandoned Data'!S7","v":""},null,{"$f":"'Abandoned Data'!R7","v":""},null,{"$f":"'Abandoned Data'!Q7","v":""},null,null,""]
[null,{"$f":"'Abandoned Data'!N8&\".\"","v":"."},null,{"$f":"'Abandoned Data'!O8","v":""},null,{"$f":"'Abandoned Data'!P8","v":""},null,{"$f":"'Abandoned Data'!S8","v":""},null,{"$f":"'Abandoned Data'!R8","v":""},null,{"$f":"'Abandoned Data'!Q8","v":""},null,null,""]
[null,{"$f":"'Abandoned Data'!N9&\".\"","v":"."},null,{"$f":"'Abandoned Data'!O9","v":""},null,{"$f":"'Abandoned Data'!P9","v":""},null,{"$f":"'Abandoned Data'!S9","v":""},null,{"$f":"'Abandoned Data'!R9","v":""},null,{"$f":"'Abandoned Data'!Q9","v":""},null,null,""]
[null,{"$f":"'Abandoned Data'!N10&\".\"","v":"."},null,{"$f":"'Abandoned Data'!O10","v":""},null,{"$f":"'Abandoned Data'!P10","v":""},null,{"$f":"'Abandoned Data'!S10","v":""},null,{"$f":"'Abandoned Data'!R10","v":""},null,{"$f":"'Abandoned Data'!Q10","v":""},null,null,""]
[null,{"$f":"'Abandoned Data'!N11&\".\"","v":"."},null,{"$f":"'Abandoned Data'!O11","v":""},null,{"$f":"'Abandoned Data'!P11","v":""},null,{"$f":"'Abandoned Data'!S11","v":""},null,{"$f":"'Abandoned Data'!R11","v":""},null,{"$f":"'Abandoned Data'!Q11","v":""},null,null,""]
[null,{"$f":"'Abandoned Data'!N12&\".\"","v":"."},null,{"$f":"'Abandoned Data'!O12","v":""},null,{"$f":"'Abandoned Data'!P12","v":""},null,{"$f":"'Abandoned Data'!S12","v":""},null,{"$f":"'Abandoned Data'!R12","v":""},null,{"$f":"'Abandoned Data'!Q12","v":""},null,null,""]
[null,{"$f":"'Abandoned Data'!N13&\".\"","v":"."},null,{"$f":"'Abandoned Data'!O13","v":""},null,{"$f":"'Abandoned Data'!P13","v":""},null,{"$f":"'Abandoned Data'!S13","v":""},null,{"$f":"'Abandoned Data'!R13","v":""},null,{"$f":"'Abandoned Data'!Q13","v":""},null,null,""]
[null,{"$f":"'Abandoned Data'!N14&\".\"","v":"."},null,{"$f":"'Abandoned Data'!O14","v":""},null,{"$f":"'Abandoned Data'!P14","v":""},null,{"$f":"'Abandoned Data'!S14","v":""},null,{"$f":"'Abandoned Data'!R14","v":""},null,{"$f":"'Abandoned Data'!Q14","v":""},null,null,""]
[null,{"$f":"'Abandoned Data'!N15&\".\"","v":"."},null,{"$f":"'Abandoned Data'!O15","v":""},null,{"$f":"'Abandoned Data'!P15","v":""},null,{"$f":"'Abandoned Data'!S15","v":""},null,{"$f":"'Abandoned Data'!R15","v":""},null,{"$f":"'Abandoned Data'!Q15","v":""},null,null,""]
[null,{"$f":"'Abandoned Data'!N16&\".\"","v":"."},null,{"$f":"'Abandoned Data'!O16","v":""},null,{"$f":"'Abandoned Data'!P16","v":""},null,{"$f":"'Abandoned Data'!S16","v":""},null,{"$f":"'Abandoned Data'!R16","v":""},null,{"$f":"'Abandoned Data'!Q16","v":""},null,null,""]
[null,{"$f":"'Abandoned Data'!N17&\".\"","v":"."},null,{"$f":"'Abandoned Data'!O17","v":""},null,{"$f":"'Abandoned Data'!P17","v":""},null,{"$f":"'Abandoned Data'!S17","v":""},null,{"$f":"'Abandoned Data'!R17","v":""},null,{"$f":"'Abandoned Data'!Q17","v":""},null,null,""]
[null,{"$f":"'Abandoned Data'!N18&\".\"","v":"."},null,{"$f":"'Abandoned Data'!O18","v":""},null,{"$f":"'Abandoned Data'!P18","v":""},null,{"$f":"'Abandoned Data'!S18","v":""},null,{"$f":"'Abandoned Data'!R18","v":""},null,{"$f":"'Abandoned Data'!Q18","v":""},null,null,""]
[null,{"$f":"'Abandoned Data'!N19&\".\"","v":"."},null,{"$f":"'Abandoned Data'!O19","v":""},null,{"$f":"'Abandoned Data'!P19","v":""},null,{"$f":"'Abandoned Data'!S19","v":""},null,{"$f":"'Abandoned Data'!R19","v":""},null,{"$f":"'Abandoned Data'!Q19","v":""},null,null,""]
[null,{"$f":"'Abandoned Data'!N20&\".\"","v":"."},null,{"$f":"'Abandoned Data'!O20","v":""},null,{"$f":"'Abandoned Data'!P20","v":""},null,{"$f":"'Abandoned Data'!S20","v":""},null,{"$f":"'Abandoned Data'!R20","v":""},null,{"$f":"'Abandoned Data'!Q20","v":""},null,null,""]
[null,{"$f":"'Abandoned Data'!N21&\".\"","v":"."},null,{"$f":"'Abandoned Data'!O21","v":""},null,{"$f":"'Abandoned Data'!P21","v":""},null,{"$f":"'Abandoned Data'!S21","v":""},null,{"$f":"'Abandoned Data'!R21","v":""},null,{"$f":"'Abandoned Data'!Q21","v":""},null,null,""]
[null,{"$f":"'Abandoned Data'!N22&\".\"","v":"."},null,{"$f":"'Abandoned Data'!O22","v":""},null,{"$f":"'Abandoned Data'!P22","v":""},null,{"$f":"'Abandoned Data'!S22","v":""},null,{"$f":"'Abandoned Data'!R22","v":""},null,{"$f":"'Abandoned Data'!Q22","v":""},null,null,""]
[null,{"$f":"'Abandoned Data'!N23&\".\"","v":"."},null,{"$f":"'Abandoned Data'!O23","v":""},null,{"$f":"'Abandoned Data'!P23","v":""},null,{"$f":"'Abandoned Data'!S23","v":""},null,{"$f":"'Abandoned Data'!R23","v":""},null,{"$f":"'Abandoned Data'!Q23","v":""},null,null,""]
[null,{"$f":"'Abandoned Data'!N24&\".\"","v":"."},null,{"$f":"'Abandoned Data'!O24","v":""},null,{"$f":"'Abandoned Data'!P24","v":""},null,{"$f":"'Abandoned Data'!S24","v":""},null,{"$f":"'Abandoned Data'!R24","v":""},null,{"$f":"'Abandoned Data'!Q24","v":""},null,null,""]
[null,{"$f":"'Abandoned Data'!N25&\".\"","v":"."},null,{"$f":"'Abandoned Data'!O25","v":""},null,{"$f":"'Abandoned Data'!P25","v":""},null,{"$f":"'Abandoned Data'!S25","v":""},null,{"$f":"'Abandoned Data'!R25","v":""},null,{"$f":"'Abandoned Data'!Q25","v":""},null,null,""]
[null,{"$f":"'Abandoned Data'!N26&\".\"","v":"."},null,{"$f":"'Abandoned Data'!O26","v":""},null,{"$f":"'Abandoned Data'!P26","v":""},null,{"$f":"'Abandoned Data'!S26","v":""},null,{"$f":"'Abandoned Data'!R26","v":""},null,{"$f":"'Abandoned Data'!Q26","v":""},null,null,""]
[null,{"$f":"'Abandoned Data'!N27&\".\"","v":"."},null,{"$f":"'Abandoned Data'!O27","v":""},null,{"$f":"'Abandoned Data'!P27","v":""},null,{"$f":"'Abandoned Data'!S27","v":""},null,{"$f":"'Abandoned Data'!R27","v":""},null,{"$f":"'Abandoned Data'!Q27","v":""},null,null,""]
[null,{"$f":"'Abandoned Data'!N28&\".\"","v":"."},null,{"$f":"'Abandoned Data'!O28","v":""},null,{"$f":"'Abandoned Data'!P28","v":""},null,{"$f":"'Abandoned Data'!S28","v":""},null,{"$f":"'Abandoned Data'!R28","v":""},null,{"$f":"'Abandoned Data'!Q28","v":""},null,null,""]
[null,{"$f":"'Abandoned Data'!N29&\".\"","v":"."},null,{"$f":"'Abandoned Data'!O29","v":""},null,{"$f":"'Abandoned Data'!P29","v":""},null,{"$f":"'Abandoned Data'!S29","v":""},null,{"$f":"'Abandoned Data'!R29","v":""},null,{"$f":"'Abandoned Data'!Q29","v":""},null,null,""]
[null,{"$f":"'Abandoned Data'!N30&\".\"","v":"."},null,{"$f":"'Abandoned Data'!O30","v":""},null,{"$f":"'Abandoned Data'!P30","v":""},null,{"$f":"'Abandoned Data'!S30","v":""},null,{"$f":"'Abandoned Data'!R30","v":""},null,{"$f":"'Abandoned Data'!Q30","v":""},null,null,""]
[null,{"$f":"'Abandoned Data'!N31&\".\"","v":"."},null,{"$f":"'Abandoned Data'!O31","v":""},null,{"$f":"'Abandoned Data'!P31","v":""},null,{"$f":"'Abandoned Data'!S31","v":""},null,{"$f":"'Abandoned Data'!R31","v":""},null,{"$f":"'Abandoned Data'!Q31","v":""},null,null,""]
[null,{"$f":"'Abandoned Data'!N32&\".\"","v":"."},null,{"$f":"'Abandoned Data'!O32","v":""},null,{"$f":"'Abandoned Data'!P32","v":""},null,{"$f":"'Abandoned Data'!S32","v":""},null,{"$f":"'Abandoned Data'!R32","v":""},null,{"$f":"'Abandoned Data'!Q32","v":""},null,null,""]
[null,{"$f":"'Abandoned Data'!N33&\".\"","v":"."},null,{"$f":"'Abandoned Data'!O33","v":""},null,{"$f":"'Abandoned Data'!P33","v":""},null,{"$f":"'Abandoned Data'!S33","v":""},null,{"$f":"'Abandoned Data'!R33","v":""},null,{"$f":"'Abandoned Data'!Q33","v":""},null,null,""]
[null,{"$f":"'Abandoned Data'!N34&\".\"","v":"."},null,{"$f":"'Abandoned Data'!O34","v":""},null,{"$f":"'Abandoned Data'!P34","v":""},null,{"$f":"'Abandoned Data'!S34","v":""},null,{"$f":"'Abandoned Data'!R34","v":""},null,{"$f":"'Abandoned Data'!Q34","v":""},null,null,""]
[null,{"$f":"'Abandoned Data'!N35&\".\"","v":"."},null,{"$f":"'Abandoned Data'!O35","v":""},null,{"$f":"'Abandoned Data'!P35","v":""},null,{"$f":"'Abandoned Data'!S35","v":""},null,{"$f":"'Abandoned Data'!R35","v":""},null,{"$f":"'Abandoned Data'!Q35","v":""},null,null,""]
[null,{"$f":"'Abandoned Data'!N36&\".\"","v":"."},null,{"$f":"'Abandoned Data'!O36","v":""},null,{"$f":"'Abandoned Data'!P36","v":""},null,{"$f":"'Abandoned Data'!S36","v":""},null,{"$f":"'Abandoned Data'!R36","v":""},null,{"$f":"'Abandoned Data'!Q36","v":""},null,null,""]
[null,{"$f":"'Abandoned Data'!N37&\".\"","v":"."},null,{"$f":"'Abandoned Data'!O37","v":""},null,{"$f":"'Abandoned Data'!P37","v":""},null,{"$f":"'Abandoned Data'!S37","v":""},null,{"$f":"'Abandoned Data'!R37","v":""},null,{"$f":"'Abandoned Data'!Q37","v":""},null,null,""]
[null,{"$f":"'Abandoned Data'!N38&\".\"","v":"."},null,{"$f":"'Abandoned Data'!O38","v":""},null,{"$f":"'Abandoned Data'!P38","v":""},null,{"$f":"'Abandoned Data'!S38","v":""},null,{"$f":"'Abandoned Data'!R38","v":""},null,{"$f":"'Abandoned Data'!Q38","v":""},null,null,""]
[null,{"$f":"'Abandoned Data'!N39&\".\"","v":"."},null,{"$f":"'Abandoned Data'!O39","v":""},null,{"$f":"'Abandoned Data'!P39","v":""},null,{"$f":"'Abandoned Data'!S39","v":""},null,{"$f":"'Abandoned Data'!R39","v":""},null,{"$f":"'Abandoned Data'!Q39","v":""},null,null,""]
[null,{"$f":"'Abandoned Data'!N40&\".\"","v":"."},null,{"$f":"'Abandoned Data'!O40","v":""},null,{"$f":"'Abandoned Data'!P40","v":""},null,{"$f":"'Abandoned Data'!S40","v":""},null,{"$f":"'Abandoned Data'!R40","v":""},null,{"$f":"'Abandoned Data'!Q40","v":""},null,null,""]
[null,{"$f":"'Abandoned Data'!N41&\".\"","v":"."},null,{"$f":"'Abandoned Data'!O41","v":""},null,{"$f":"'Abandoned Data'!P41","v":""},null,{"$f":"'Abandoned Data'!S41","v":""},null,{"$f":"'Abandoned Data'!R41","v":""},null,{"$f":"'Abandoned Data'!Q41","v":""},null,null,""]
[null,{"$f":"'Abandoned Data'!N42&\".\"","v":"."},null,{"$f":"'Abandoned Data'!O42","v":""},null,{"$f":"'Abandoned Data'!P42","v":""},null,{"$f":"'Abandoned Data'!S42","v":""},null,{"$f":"'Abandoned Data'!R42","v":""},null,{"$f":"'Abandoned Data'!Q42","v":""},null,null,""]
[null,{"$f":"'Abandoned Data'!N43&\".\"","v":"."},null,{"$f":"'Abandoned Data'!O43","v":""},null,{"$f":"'Abandoned Data'!P43","v":""},null,{"$f":"'Abandoned Data'!S43","v":""},null,{"$f":"'Abandoned Data'!R43","v":""},null,{"$f":"'Abandoned Data'!Q43","v":""},null,null,""]
[null,{"$f":"'Abandoned Data'!N44&\".\"","v":"."},null,{"$f":"'Abandoned Data'!O44","v":""},null,{"$f":"'Abandoned Data'!P44","v":""},null,{"$f":"'Abandoned Data'!S44","v":""},null,{"$f":"'Abandoned Data'!R44","v":""},null,{"$f":"'Abandoned Data'!Q44","v":""},null,null,""]
[null,{"$f":"'Abandoned Data'!N45&\".\"","v":"."},null,{"$f":"'Abandoned Data'!O45","v":""},null,{"$f":"'Abandoned Data'!P45","v":""},null,{"$f":"'Abandoned Data'!S45","v":""},null,{"$f":"'Abandoned Data'!R45","v":""},null,{"$f":"'Abandoned Data'!Q45","v":""},null,null,{"$f":"IF(N47>0,IF(N47=\"Sealed\",0.8,\"\"),IF(L47=\"Sealed\",0.8,\"\"))","v":""}]
[null,{"$f":"'Abandoned Data'!N46&\".\"","v":"."},null,{"$f":"'Abandoned Data'!O46","v":""},null,{"$f":"'Abandoned Data'!P46","v":""},null,{"$f":"'Abandoned Data'!S46","v":""},null,{"$f":"'Abandoned Data'!R46","v":""},null,{"$f":"'Abandoned Data'!Q46","v":""},null,null,""]
[null,{"$f":"'Abandoned Data'!N47&\".\"","v":"."},null,{"$f":"'Abandoned Data'!O47","v":""},null,{"$f":"'Abandoned Data'!P47","v":""},null,{"$f":"'Abandoned Data'!S47","v":""},null,{"$f":"'Abandoned Data'!R47","v":""},null,{"$f":"'Abandoned Data'!Q47","v":""},null,null,""]
[null,{"$f":"'Abandoned Data'!N48&\".\"","v":"."},null,{"$f":"'Abandoned Data'!O48","v":""},null,{"$f":"'Abandoned Data'!P48","v":""},null,{"$f":"'Abandoned Data'!S48","v":""},null,{"$f":"'Abandoned Data'!R48","v":""},null,{"$f":"'Abandoned Data'!Q48","v":""},null,null,""]
[null,{"$f":"'Abandoned Data'!N49&\".\"","v":"."},null,{"$f":"'Abandoned Data'!O49","v":""},null,{"$f":"'Abandoned Data'!P49","v":""},null,{"$f":"'Abandoned Data'!S49","v":""},null,{"$f":"'Abandoned Data'!R49","v":""},null,{"$f":"'Abandoned Data'!Q49","v":""},null,null,""]
[null,{"$f":"'Abandoned Data'!N50&\".\"","v":"."},null,{"$f":"'Abandoned Data'!O50","v":""},null,{"$f":"'Abandoned Data'!P50","v":""},null,{"$f":"'Abandoned Data'!S50","v":""},null,{"$f":"'Abandoned Data'!R50","v":""},null,{"$f":"'Abandoned Data'!Q50","v":""},null,null,""]
[null,{"$f":"'Abandoned Data'!N51&\".\"","v":"."},null,{"$f":"'Abandoned Data'!O51","v":""},null,{"$f":"'Abandoned Data'!P51","v":""},null,{"$f":"'Abandoned Data'!S51","v":""},null,{"$f":"'Abandoned Data'!R51","v":""},null,{"$f":"'Abandoned Data'!Q51","v":""},null,null,""]
[null,{"$f":"'Abandoned Data'!N52&\".\"","v":"."},null,{"$f":"'Abandoned Data'!O52","v":""},null,{"$f":"'Abandoned Data'!P52","v":""},null,{"$f":"'Abandoned Data'!S52","v":""},null,{"$f":"'Abandoned Data'!R52","v":""},null,{"$f":"'Abandoned Data'!Q52","v":""},null,null,""]
[null,{"$f":"'Abandoned Data'!N53&\".\"","v":"."},null,{"$f":"'Abandoned Data'!O53","v":""},null,{"$f":"'Abandoned Data'!P53","v":""},null,{"$f":"'Abandoned Data'!S53","v":""},null,{"$f":"'Abandoned Data'!R53","v":""},null,{"$f":"'Abandoned Data'!Q53","v":""},null,null,""]
[null,{"$f":"'Abandoned Data'!N54&\".\"","v":"."},null,{"$f":"'Abandoned Data'!O54","v":""},null,{"$f":"'Abandoned Data'!P54","v":""},null,{"$f":"'Abandoned Data'!S54","v":""},null,{"$f":"'Abandoned Data'!R54","v":""},null,{"$f":"'Abandoned Data'!Q54","v":""},null,null,""]
[null,{"$f":"'Abandoned Data'!N55&\".\"","v":"."},null,{"$f":"'Abandoned Data'!O55","v":""},null,{"$f":"'Abandoned Data'!P55","v":""},null,{"$f":"'Abandoned Data'!S55","v":""},null,{"$f":"'Abandoned Data'!R55","v":""},null,{"$f":"'Abandoned Data'!Q55","v":""},null,null,""]
[null,{"$f":"'Abandoned Data'!N56&\".\"","v":"."},null,{"$f":"'Abandoned Data'!O56","v":""},null,{"$f":"'Abandoned Data'!P56","v":""},null,{"$f":"'Abandoned Data'!S56","v":""},null,{"$f":"'Abandoned Data'!R56","v":""},null,{"$f":"'Abandoned Data'!Q56","v":""},null,null,""]
[null,{"$f":"'Abandoned Data'!N57&\".\"","v":"."},null,{"$f":"'Abandoned Data'!O57","v":""},null,{"$f":"'Abandoned Data'!P57","v":""},null,{"$f":"'Abandoned Data'!S57","v":""},null,{"$f":"'Abandoned Data'!R57","v":""},null,{"$f":"'Abandoned Data'!Q57","v":""},null,null,""]
[null,{"$f":"'Abandoned Data'!N58&\".\"","v":"."},null,{"$f":"'Abandoned Data'!O58","v":""},null,{"$f":"'Abandoned Data'!P58","v":""},null,{"$f":"'Abandoned Data'!S58","v":""},null,{"$f":"'Abandoned Data'!R58","v":""},null,{"$f":"'Abandoned Data'!Q58","v":""},null,null,""]
[null,{"$f":"'Abandoned Data'!N59&\".\"","v":"."},null,{"$f":"'Abandoned Data'!O59","v":""},null,{"$f":"'Abandoned Data'!P59","v":""},null,{"$f":"'Abandoned Data'!S59","v":""},null,{"$f":"'Abandoned Data'!R59","v":""},null,{"$f":"'Abandoned Data'!Q59","v":""},null,null,""]
[null,{"$f":"'Abandoned Data'!N60&\".\"","v":"."},null,{"$f":"'Abandoned Data'!O60","v":""},null,{"$f":"'Abandoned Data'!P60","v":""},null,{"$f":"'Abandoned Data'!S60","v":""},null,{"$f":"'Abandoned Data'!R60","v":""},null,{"$f":"'Abandoned Data'!Q60","v":""},null,null,""]
[null,{"$f":"'Abandoned Data'!N61&\".\"","v":"."},null,{"$f":"'Abandoned Data'!O61","v":""},null,{"$f":"'Abandoned Data'!P61","v":""},null,{"$f":"'Abandoned Data'!S61","v":""},null,{"$f":"'Abandoned Data'!R61","v":""},null,{"$f":"'Abandoned Data'!Q61","v":""},null,null,""]
[null,{"$f":"'Abandoned Data'!N62&\".\"","v":"."},null,{"$f":"'Abandoned Data'!O62","v":""},null,{"$f":"'Abandoned Data'!P62","v":""},null,{"$f":"'Abandoned Data'!S62","v":""},null,{"$f":"'Abandoned Data'!R62","v":""},null,{"$f":"'Abandoned Data'!Q62","v":""},null,null,""]
[null,{"$f":"'Abandoned Data'!N63&\".\"","v":"."},null,{"$f":"'Abandoned Data'!O63","v":""},null,{"$f":"'Abandoned Data'!P63","v":""},null,{"$f":"'Abandoned Data'!S63","v":""},null,{"$f":"'Abandoned Data'!R63","v":""},null,{"$f":"'Abandoned Data'!Q63","v":""},null,null,""]
[null,{"$f":"'Abandoned Data'!N64&\".\"","v":"."},null,{"$f":"'Abandoned Data'!O64","v":""},null,{"$f":"'Abandoned Data'!P64","v":""},null,{"$f":"'Abandoned Data'!S64","v":""},null,{"$f":"'Abandoned Data'!R64","v":""},null,{"$f":"'Abandoned Data'!Q64","v":""},null,null,""]
[null,{"$f":"'Abandoned Data'!N65&\".\"","v":"."},null,{"$f":"'Abandoned Data'!O65","v":""},null,{"$f":"'Abandoned Data'!P65","v":""},null,{"$f":"'Abandoned Data'!S65","v":""},null,{"$f":"'Abandoned Data'!R65","v":""},null,{"$f":"'Abandoned Data'!Q65","v":""},null,null,""]
[null,{"$f":"'Abandoned Data'!N66&\".\"","v":"."},null,{"$f":"'Abandoned Data'!O66","v":""},null,{"$f":"'Abandoned Data'!P66","v":""},null,{"$f":"'Abandoned Data'!S66","v":""},null,{"$f":"'Abandoned Data'!R66","v":""},null,{"$f":"'Abandoned Data'!Q66","v":""},null,null,""]
[null,{"$f":"'Abandoned Data'!N67&\".\"","v":"."},null,{"$f":"'Abandoned Data'!O67","v":""},null,{"$f":"'Abandoned Data'!P67","v":""},null,{"$f":"'Abandoned Data'!S67","v":""},null,{"$f":"'Abandoned Data'!R67","v":""},null,{"$f":"'Abandoned Data'!Q67","v":""},null,null,""]
[null,{"$f":"'Abandoned Data'!N68&\".\"","v":"."},null,{"$f":"'Abandoned Data'!O68","v":""},null,{"$f":"'Abandoned Data'!P68","v":""},null,{"$f":"'Abandoned Data'!S68","v":""},null,{"$f":"'Abandoned Data'!R68","v":""},null,{"$f":"'Abandoned Data'!Q68","v":""},null,null,""]
[null,{"$f":"'Abandoned Data'!N69&\".\"","v":"."},null,{"$f":"'Abandoned Data'!O69","v":""},null,{"$f":"'Abandoned Data'!P69","v":""},null,{"$f":"'Abandoned Data'!S69","v":""},null,{"$f":"'Abandoned Data'!R69","v":""},null,{"$f":"'Abandoned Data'!Q69","v":""},null,null,""]
[null,{"$f":"'Abandoned Data'!N70&\".\"","v":"."},null,{"$f":"'Abandoned Data'!O70","v":""},null,{"$f":"'Abandoned Data'!P70","v":""},null,{"$f":"'Abandoned Data'!S70","v":""},null,{"$f":"'Abandoned Data'!R70","v":""},null,{"$f":"'Abandoned Data'!Q70","v":""},null,null,""]
[null,{"$f":"'Abandoned Data'!N71&\".\"","v":"."},null,{"$f":"'Abandoned Data'!O71","v":""},null,{"$f":"'Abandoned Data'!P71","v":""},null,{"$f":"'Abandoned Data'!S71","v":""},null,{"$f":"'Abandoned Data'!R71","v":""},null,{"$f":"'Abandoned Data'!Q71","v":""},null,null,""]
[null,{"$f":"'Abandoned Data'!N72&\".\"","v":"."},null,{"$f":"'Abandoned Data'!O72","v":""},null,{"$f":"'Abandoned Data'!P72","v":""},null,{"$f":"'Abandoned Data'!S72","v":""},null,{"$f":"'Abandoned Data'!R72","v":""},null,{"$f":"'Abandoned Data'!Q72","v":""},null,null,""]
[null,{"$f":"'Abandoned Data'!N73&\".\"","v":"."},null,{"$f":"'Abandoned Data'!O73","v":""},null,{"$f":"'Abandoned Data'!P73","v":""},null,{"$f":"'Abandoned Data'!S73","v":""},null,{"$f":"'Abandoned Data'!R73","v":""},null,{"$f":"'Abandoned Data'!Q73","v":""},null,null,""]
[null,{"$f":"'Abandoned Data'!N74&\".\"","v":"."},null,{"$f":"'Abandoned Data'!O74","v":""},null,{"$f":"'Abandoned Data'!P74","v":""},null,{"$f":"'Abandoned Data'!S74","v":""},null,{"$f":"'Abandoned Data'!R74","v":""},null,{"$f":"'Abandoned Data'!Q74","v":""},null,null,""]
[null,{"$f":"'Abandoned Data'!N75&\".\"","v":"."},null,{"$f":"'Abandoned Data'!O75","v":""},null,{"$f":"'Abandoned Data'!P75","v":""},null,{"$f":"'Abandoned Data'!S75","v":""},null,{"$f":"'Abandoned Data'!R75","v":""},null,{"$f":"'Abandoned Data'!Q75","v":""},null,null,""]
[null,{"$f":"'Abandoned Data'!N76&\".\"","v":"."},null,{"$f":"'Abandoned Data'!O76","v":""},null,{"$f":"'Abandoned Data'!P76","v":""},null,{"$f":"'Abandoned Data'!S76","v":""},null,{"$f":"'Abandoned Data'!R76","v":""},null,{"$f":"'Abandoned Data'!Q76","v":""},null,null,""]
[null,{"$f":"'Abandoned Data'!N77&\".\"","v":"."},null,{"$f":"'Abandoned Data'!O77","v":""},null,{"$f":"'Abandoned Data'!P77","v":""},null,{"$f":"'Abandoned Data'!S77","v":""},null,{"$f":"'Abandoned Data'!R77","v":""},null,{"$f":"'Abandoned Data'!Q77","v":""},null,null,""]
[null,{"$f":"'Abandoned Data'!N78&\".\"","v":"."},null,{"$f":"'Abandoned Data'!O78","v":""},null,{"$f":"'Abandoned Data'!P78","v":""},null,{"$f":"'Abandoned Data'!S78","v":""},null,{"$f":"'Abandoned Data'!R78","v":""},null,{"$f":"'Abandoned Data'!Q78","v":""},null,null,""]
[null,{"$f":"'Abandoned Data'!N79&\".\"","v":"."},null,{"$f":"'Abandoned Data'!O79","v":""},null,{"$f":"'Abandoned Data'!P79","v":""},null,{"$f":"'Abandoned Data'!S79","v":""},null,{"$f":"'Abandoned Data'!R79","v":""},null,{"$f":"'Abandoned Data'!Q79","v":""},null,null,""]
[null,{"$f":"'Abandoned Data'!N80&\".\"","v":"."},null,{"$f":"'Abandoned Data'!O80","v":""},null,{"$f":"'Abandoned Data'!P80","v":""},null,{"$f":"'Abandoned Data'!S80","v":""},null,{"$f":"'Abandoned Data'!R80","v":""},null,{"$f":"'Abandoned Data'!Q80","v":""},null,null,""]
[null,{"$f":"'Abandoned Data'!N81&\".\"","v":"."},null,{"$f":"'Abandoned Data'!O81","v":""},null,{"$f":"'Abandoned Data'!P81","v":""},null,{"$f":"'Abandoned Data'!S81","v":""},null,{"$f":"'Abandoned Data'!R81","v":""},null,{"$f":"'Abandoned Data'!Q81","v":""},null,null,""]
[null,{"$f":"'Abandoned Data'!N82&\".\"","v":"."},null,{"$f":"'Abandoned Data'!O82","v":""},null,{"$f":"'Abandoned Data'!P82","v":""},null,{"$f":"'Abandoned Data'!S82","v":""},null,{"$f":"'Abandoned Data'!R82","v":""},null,{"$f":"'Abandoned Data'!Q82","v":""},null,null,""]
[null,{"$f":"'Abandoned Data'!N83&\".\"","v":"."},null,{"$f":"'Abandoned Data'!O83","v":""},null,{"$f":"'Abandoned Data'!P83","v":""},null,{"$f":"'Abandoned Data'!S83","v":""},null,{"$f":"'Abandoned Data'!R83","v":""},null,{"$f":"'Abandoned Data'!Q83","v":""},null,null,""]
[null,{"$f":"'Abandoned Data'!N84&\".\"","v":"."},null,{"$f":"'Abandoned Data'!O84","v":""},null,{"$f":"'Abandoned Data'!P84","v":""},null,{"$f":"'Abandoned Data'!S84","v":""},null,{"$f":"'Abandoned Data'!R84","v":""},null,{"$f":"'Abandoned Data'!Q84","v":""},null,null,""]
[null,{"$f":"'Abandoned Data'!N85&\".\"","v":"."},null,{"$f":"'Abandoned Data'!O85","v":""},null,{"$f":"'Abandoned Data'!P85","v":""},null,{"$f":"'Abandoned Data'!S85","v":""},null,{"$f":"'Abandoned Data'!R85","v":""},null,{"$f":"'Abandoned Data'!Q85","v":""},null,null,""]
[null,{"$f":"'Abandoned Data'!N86&\".\"","v":"."},null,{"$f":"'Abandoned Data'!O86","v":""},null,{"$f":"'Abandoned Data'!P86","v":""},null,{"$f":"'Abandoned Data'!S86","v":""},null,{"$f":"'Abandoned Data'!R86","v":""},null,{"$f":"'Abandoned Data'!Q86","v":""},null,null,""]
[null,{"$f":"'Abandoned Data'!N87&\".\"","v":"."},null,{"$f":"'Abandoned Data'!O87","v":""},null,{"$f":"'Abandoned Data'!P87","v":""},null,{"$f":"'Abandoned Data'!S87","v":""},null,{"$f":"'Abandoned Data'!R87","v":""},null,{"$f":"'Abandoned Data'!Q87","v":""},null,null,""]
[null,{"$f":"'Abandoned Data'!N88&\".\"","v":"."},null,{"$f":"'Abandoned Data'!O88","v":""},null,{"$f":"'Abandoned Data'!P88","v":""},null,{"$f":"'Abandoned Data'!S88","v":""},null,{"$f":"'Abandoned Data'!R88","v":""},null,{"$f":"'Abandoned Data'!Q88","v":""},null,null,""]
[null,{"$f":"'Abandoned Data'!N89&\".\"","v":"."},null,{"$f":"'Abandoned Data'!O89","v":""},null,{"$f":"'Abandoned Data'!P89","v":""},null,{"$f":"'Abandoned Data'!S89","v":""},null,{"$f":"'Abandoned Data'!R89","v":""},null,{"$f":"'Abandoned Data'!Q89","v":""},null,null,""]
[null,{"$f":"'Abandoned Data'!N90&\".\"","v":"."},null,{"$f":"'Abandoned Data'!O90","v":""},null,{"$f":"'Abandoned Data'!P90","v":""},null,{"$f":"'Abandoned Data'!S90","v":""},null,{"$f":"'Abandoned Data'!R90","v":""},null,{"$f":"'Abandoned Data'!Q90","v":""},null,null,""]
[null,{"$f":"'Abandoned Data'!N91&\".\"","v":"."},null,{"$f":"'Abandoned Data'!O91","v":""},null,{"$f":"'Abandoned Data'!P91","v":""},null,{"$f":"'Abandoned Data'!S91","v":""},null,{"$f":"'Abandoned Data'!R91","v":""},null,{"$f":"'Abandoned Data'!Q91","v":""},null,null,""]
[null,{"$f":"'Abandoned Data'!N92&\".\"","v":"."},null,{"$f":"'Abandoned Data'!O92","v":""},null,{"$f":"'Abandoned Data'!P92","v":""},null,{"$f":"'Abandoned Data'!S92","v":""},null,{"$f":"'Abandoned Data'!R92","v":""},null,{"$f":"'Abandoned Data'!Q92","v":""},null,null,""]
[null,{"$f":"'Abandoned Data'!N93&\".\"","v":"."},null,{"$f":"'Abandoned Data'!O93","v":""},null,{"$f":"'Abandoned Data'!P93","v":""},null,{"$f":"'Abandoned Data'!S93","v":""},null,{"$f":"'Abandoned Data'!R93","v":""},null,{"$f":"'Abandoned Data'!Q93","v":""},null,null,""]
[null,{"$f":"'Abandoned Data'!N94&\".\"","v":"."},null,{"$f":"'Abandoned Data'!O94","v":""},null,{"$f":"'Abandoned Data'!P94","v":""},null,{"$f":"'Abandoned Data'!S94","v":""},null,{"$f":"'Abandoned Data'!R94","v":""},null,{"$f":"'Abandoned Data'!Q94","v":""},null,null,""]
[null,{"$f":"'Abandoned Data'!N95&\".\"","v":"."},null,{"$f":"'Abandoned Data'!O95","v":""},null,{"$f":"'Abandoned Data'!P95","v":""},null,{"$f":"'Abandoned Data'!S95","v":""},null,{"$f":"'Abandoned Data'!R95","v":""},null,{"$f":"'Abandoned Data'!Q95","v":""},null,null,""]
[null,{"$f":"'Abandoned Data'!N96&\".\"","v":"."},null,{"$f":"'Abandoned Data'!O96","v":""},null,{"$f":"'Abandoned Data'!P96","v":""},null,{"$f":"'Abandoned Data'!S96","v":""},null,{"$f":"'Abandoned Data'!R96","v":""},null,{"$f":"'Abandoned Data'!Q96","v":""},null,null,""]
[null,{"$f":"'Abandoned Data'!N97&\".\"","v":"."},null,{"$f":"'Abandoned Data'!O97","v":""},null,{"$f":"'Abandoned Data'!P97","v":""},null,{"$f":"'Abandoned Data'!S97","v":""},null,{"$f":"'Abandoned Data'!R97","v":""},null,{"$f":"'Abandoned Data'!Q97","v":""},null,null,""]
[null,{"$f":"'Abandoned Data'!N98&\".\"","v":"."},null,{"$f":"'Abandoned Data'!O98","v":""},null,{"$f":"'Abandoned Data'!P98","v":""},null,{"$f":"'Abandoned Data'!S98","v":""},null,{"$f":"'Abandoned Data'!R98","v":""},null,{"$f":"'Abandoned Data'!Q98","v":""},null,null,""]
[null,{"$f":"'Abandoned Data'!N99&\".\"","v":"."},null,{"$f":"'Abandoned Data'!O99","v":""},null,{"$f":"'Abandoned Data'!P99","v":""},null,{"$f":"'Abandoned Data'!S99","v":""},null,{"$f":"'Abandoned Data'!R99","v":""},null,{"$f":"'Abandoned Data'!Q99","v":""},null,null,""]
[null,{"$f":"'Abandoned Data'!N100&\".\"","v":"."},null,{"$f":"'Abandoned Data'!O100","v":""},null,{"$f":"'Abandoned Data'!P100","v":""},null,{"$f":"'Abandoned Data'!S100","v":""},null,{"$f":"'Abandoned Data'!R100","v":""},null,{"$f":"'Abandoned Data'!Q100","v":""},null,null,""]
[null,{"$f":"'Abandoned Data'!N101&\".\"","v":"."},null,{"$f":"'Abandoned Data'!O101","v":""},null,{"$f":"'Abandoned Data'!P101","v":""},null,{"$f":"'Abandoned Data'!S101","v":""},null,{"$f":"'Abandoned Data'!R101","v":""},null,{"$f":"'Abandoned Data'!Q101","v":""},null,null,""]
[null,{"$f":"'Abandoned Data'!N102&\".\"","v":"."},null,{"$f":"'Abandoned Data'!O102","v":""},null,{"$f":"'Abandoned Data'!P102","v":""},null,{"$f":"'Abandoned Data'!S102","v":""},null,{"$f":"'Abandoned Data'!R102","v":""},null,{"$f":"'Abandoned Data'!Q102","v":""},null,null,""]
[null,{"$f":"'Abandoned Data'!N103&\".\"","v":"."},null,{"$f":"'Abandoned Data'!O103","v":""},null,{"$f":"'Abandoned Data'!P103","v":""},null,{"$f":"'Abandoned Data'!S103","v":""},null,{"$f":"'Abandoned Data'!R103","v":""},null,{"$f":"'Abandoned Data'!Q103","v":""},null,null,""]
[null,{"$f":"'Abandoned Data'!N104&\".\"","v":"."},null,{"$f":"'Abandoned Data'!O104","v":""},null,{"$f":"'Abandoned Data'!P104","v":""},null,{"$f":"'Abandoned Data'!S104","v":""},null,{"$f":"'Abandoned Data'!R104","v":""},null,{"$f":"'Abandoned Data'!Q104","v":""},null,null,""]
[null,{"$f":"'Abandoned Data'!N105&\".\"","v":"."},null,{"$f":"'Abandoned Data'!O105","v":""},null,{"$f":"'Abandoned Data'!P105","v":""},null,{"$f":"'Abandoned Data'!S105","v":""},null,{"$f":"'Abandoned Data'!R105","v":""},null,{"$f":"'Abandoned Data'!Q105","v":""},null,null,""]
[null,{"$f":"'Abandoned Data'!N106&\".\"","v":"."},null,{"$f":"'Abandoned Data'!O106","v":""},null,{"$f":"'Abandoned Data'!P106","v":""},null,{"$f":"'Abandoned Data'!S106","v":""},null,{"$f":"'Abandoned Data'!R106","v":""},null,{"$f":"'Abandoned Data'!Q106","v":""},null,null,""]
[null,{"$f":"'Abandoned Data'!N107&\".\"","v":"."},null,{"$f":"'Abandoned Data'!O107","v":""},null,{"$f":"'Abandoned Data'!P107","v":""},null,{"$f":"'Abandoned Data'!S107","v":""},null,{"$f":"'Abandoned Data'!R107","v":""},null,{"$f":"'Abandoned Data'!Q107","v":""},null,null,""]
[null,{"$f":"'Abandoned Data'!N108&\".\"","v":"."},null,{"$f":"'Abandoned Data'!O108","v":""},null,{"$f":"'Abandoned Data'!P108","v":""},null,{"$f":"'Abandoned Data'!S108","v":""},null,{"$f":"'Abandoned Data'!R108","v":""},null,{"$f":"'Abandoned Data'!Q108","v":""},null,null,""]
[null,{"$f":"'Abandoned Data'!N109&\".\"","v":"."},null,{"$f":"'Abandoned Data'!O109","v":""},null,{"$f":"'Abandoned Data'!P109","v":""},null,{"$f":"'Abandoned Data'!S109","v":""},null,{"$f":"'Abandoned Data'!R109","v":""},null,{"$f":"'Abandoned Data'!Q109","v":""},null,null,{"$f":"IF(N111>0,IF(N111=\"Sealed\",0.8,\"\"),IF(L111=\"Sealed\",0.8,\"\"))","v":""}]
[null,{"$f":"'Abandoned Data'!N110&\".\"","v":"."},null,{"$f":"'Abandoned Data'!O110","v":""},null,{"$f":"'Abandoned Data'!P110","v":""},null,{"$f":"'Abandoned Data'!S110","v":""},null,{"$f":"'Abandoned Data'!R110","v":""},null,{"$f":"'Abandoned Data'!Q110","v":""},null,null,""]
[null,{"$f":"'Abandoned Data'!N111&\".\"","v":"."},null,{"$f":"'Abandoned Data'!O111","v":""},null,{"$f":"'Abandoned Data'!P111","v":""},null,{"$f":"'Abandoned Data'!S111","v":""},null,{"$f":"'Abandoned Data'!R111","v":""},null,{"$f":"'Abandoned Data'!Q111","v":""},null,null,""]
[null,{"$f":"'Abandoned Data'!N112&\".\"","v":"."},null,{"$f":"'Abandoned Data'!O112","v":""},null,{"$f":"'Abandoned Data'!P112","v":""},null,{"$f":"'Abandoned Data'!S112","v":""},null,{"$f":"'Abandoned Data'!R112","v":""},null,{"$f":"'Abandoned Data'!Q112","v":""},null,null,""]
[null,{"$f":"'Abandoned Data'!N113&\".\"","v":"."},null,{"$f":"'Abandoned Data'!O113","v":""},null,{"$f":"'Abandoned Data'!P113","v":""},null,{"$f":"'Abandoned Data'!S113","v":""},null,{"$f":"'Abandoned Data'!R113","v":""},null,{"$f":"'Abandoned Data'!Q113","v":""},null,null,""]
[null,{"$f":"'Abandoned Data'!N114&\".\"","v":"."},null,{"$f":"'Abandoned Data'!O114","v":""},null,{"$f":"'Abandoned Data'!P114","v":""},null,{"$f":"'Abandoned Data'!S114","v":""},null,{"$f":"'Abandoned Data'!R114","v":""},null,{"$f":"'Abandoned Data'!Q114","v":""},null,null,""]
[null,{"$f":"'Abandoned Data'!N115&\".\"","v":"."},null,{"$f":"'Abandoned Data'!O115","v":""},null,{"$f":"'Abandoned Data'!P115","v":""},null,{"$f":"'Abandoned Data'!S115","v":""},null,{"$f":"'Abandoned Data'!R115","v":""},null,{"$f":"'Abandoned Data'!Q115","v":""},null,null,""]
[null,{"$f":"'Abandoned Data'!N116&\".\"","v":"."},null,{"$f":"'Abandoned Data'!O116","v":""},null,{"$f":"'Abandoned Data'!P116","v":""},null,{"$f":"'Abandoned Data'!S116","v":""},null,{"$f":"'Abandoned Data'!R116","v":""},null,{"$f":"'Abandoned Data'!Q116","v":""},null,null,""]
[null,{"$f":"'Abandoned Data'!N117&\".\"","v":"."},null,{"$f":"'Abandoned Data'!O117","v":""},null,{"$f":"'Abandoned Data'!P117","v":""},null,{"$f":"'Abandoned Data'!S117","v":""},null,{"$f":"'Abandoned Data'!R117","v":""},null,{"$f":"'Abandoned Data'!Q117","v":""},null,null,""]
[null,{"$f":"'Abandoned Data'!N118&\".\"","v":"."},null,{"$f":"'Abandoned Data'!O118","v":""},null,{"$f":"'Abandoned Data'!P118","v":""},null,{"$f":"'Abandoned Data'!S118","v":""},null,{"$f":"'Abandoned Data'!R118","v":""},null,{"$f":"'Abandoned Data'!Q118","v":""},null,null,""]
[null,{"$f":"'Abandoned Data'!N119&\".\"","v":"."},null,{"$f":"'Abandoned Data'!O119","v":""},null,{"$f":"'Abandoned Data'!P119","v":""},null,{"$f":"'Abandoned Data'!S119","v":""},null,{"$f":"'Abandoned Data'!R119","v":""},null,{"$f":"'Abandoned Data'!Q119","v":""},null,null,""]
[null,{"$f":"'Abandoned Data'!N120&\".\"","v":"."},null,{"$f":"'Abandoned Data'!O120","v":""},null,{"$f":"'Abandoned Data'!P120","v":""},null,{"$f":"'Abandoned Data'!S120","v":""},null,{"$f":"'Abandoned Data'!R120","v":""},null,{"$f":"'Abandoned Data'!Q120","v":""},null,null,""]
[null,{"$f":"'Abandoned Data'!N121&\".\"","v":"."},null,{"$f":"'Abandoned Data'!O121","v":""},null,{"$f":"'Abandoned Data'!P121","v":""},null,{"$f":"'Abandoned Data'!S121","v":""},null,{"$f":"'Abandoned Data'!R121","v":""},null,{"$f":"'Abandoned Data'!Q121","v":""},null,null,""]
[null,{"$f":"'Abandoned Data'!N122&\".\"","v":"."},null,{"$f":"'Abandoned Data'!O122","v":""},null,{"$f":"'Abandoned Data'!P122","v":""},null,{"$f":"'Abandoned Data'!S122","v":""},null,{"$f":"'Abandoned Data'!R122","v":""},null,{"$f":"'Abandoned Data'!Q122","v":""},null,null,""]
[null,{"$f":"'Abandoned Data'!N123&\".\"","v":"."},null,{"$f":"'Abandoned Data'!O123","v":""},null,{"$f":"'Abandoned Data'!P123","v":""},null,{"$f":"'Abandoned Data'!S123","v":""},null,{"$f":"'Abandoned Data'!R123","v":""},null,{"$f":"'Abandoned Data'!Q123","v":""},null,null,""]
[null,{"$f":"'Abandoned Data'!N124&\".\"","v":"."},null,{"$f":"'Abandoned Data'!O124","v":""},null,{"$f":"'Abandoned Data'!P124","v":""},null,{"$f":"'Abandoned Data'!S124","v":""},null,{"$f":"'Abandoned Data'!R124","v":""},null,{"$f":"'Abandoned Data'!Q124","v":""},null,null,""]
[null,{"$f":"'Abandoned Data'!N125&\".\"","v":"."},null,{"$f":"'Abandoned Data'!O125","v":""},null,{"$f":"'Abandoned Data'!P125","v":""},null,{"$f":"'Abandoned Data'!S125","v":""},null,{"$f":"'Abandoned Data'!R125","v":""},null,{"$f":"'Abandoned Data'!Q125","v":""},null,null,""]
[null,{"$f":"'Abandoned Data'!N126&\".\"","v":"."},null,{"$f":"'Abandoned Data'!O126","v":""},null,{"$f":"'Abandoned Data'!P126","v":""},null,{"$f":"'Abandoned Data'!S126","v":""},null,{"$f":"'Abandoned Data'!R126","v":""},null,{"$f":"'Abandoned Data'!Q126","v":""},null,null,""]
[null,{"$f":"'Abandoned Data'!N127&\".\"","v":"."},null,{"$f":"'Abandoned Data'!O127","v":""},null,{"$f":"'Abandoned Data'!P127","v":""},null,{"$f":"'Abandoned Data'!S127","v":""},null,{"$f":"'Abandoned Data'!R127","v":""},null,{"$f":"'Abandoned Data'!Q127","v":""},null,null,""]
[null,{"$f":"'Abandoned Data'!N128&\".\"","v":"."},null,{"$f":"'Abandoned Data'!O128","v":""},null,{"$f":"'Abandoned Data'!P128","v":""},null,{"$f":"'Abandoned Data'!S128","v":""},null,{"$f":"'Abandoned Data'!R128","v":""},null,{"$f":"'Abandoned Data'!Q128","v":""},null,null,""]
[null,{"$f":"'Abandoned Data'!N129&\".\"","v":"."},null,{"$f":"'Abandoned Data'!O129","v":""},null,{"$f":"'Abandoned Data'!P129","v":""},null,{"$f":"'Abandoned Data'!S129","v":""},null,{"$f":"'Abandoned Data'!R129","v":""},null,{"$f":"'Abandoned Data'!Q129","v":""},null,null,""]
[null,{"$f":"'Abandoned Data'!N130&\".\"","v":"."},null,{"$f":"'Abandoned Data'!O130","v":""},null,{"$f":"'Abandoned Data'!P130","v":""},null,{"$f":"'Abandoned Data'!S130","v":""},null,{"$f":"'Abandoned Data'!R130","v":""},null,{"$f":"'Abandoned Data'!Q130","v":""},null,null,""]
[null,{"$f":"'Abandoned Data'!N131&\".\"","v":"."},null,{"$f":"'Abandoned Data'!O131","v":""},null,{"$f":"'Abandoned Data'!P131","v":""},null,{"$f":"'Abandoned Data'!S131","v":""},null,{"$f":"'Abandoned Data'!R131","v":""},null,{"$f":"'Abandoned Data'!Q131","v":""},null,null,""]
[null,{"$f":"'Abandoned Data'!N132&\".\"","v":"."},null,{"$f":"'Abandoned Data'!O132","v":""},null,{"$f":"'Abandoned Data'!P132","v":""},null,{"$f":"'Abandoned Data'!S132","v":""},null,{"$f":"'Abandoned Data'!R132","v":""},null,{"$f":"'Abandoned Data'!Q132","v":""},null,null,""]
[null,{"$f":"'Abandoned Data'!N133&\".\"","v":"."},null,{"$f":"'Abandoned Data'!O133","v":""},null,{"$f":"'Abandoned Data'!P133","v":""},null,{"$f":"'Abandoned Data'!S133","v":""},null,{"$f":"'Abandoned Data'!R133","v":""},null,{"$f":"'Abandoned Data'!Q133","v":""},null,null,""]
[null,{"$f":"'Abandoned Data'!N134&\".\"","v":"."},null,{"$f":"'Abandoned Data'!O134","v":""},null,{"$f":"'Abandoned Data'!P134","v":""},null,{"$f":"'Abandoned Data'!S134","v":""},null,{"$f":"'Abandoned Data'!R134","v":""},null,{"$f":"'Abandoned Data'!Q134","v":""},null,null,""]
[null,{"$f":"'Abandoned Data'!N135&\".\"","v":"."},null,{"$f":"'Abandoned Data'!O135","v":""},null,{"$f":"'Abandoned Data'!P135","v":""},null,{"$f":"'Abandoned Data'!S135","v":""},null,{"$f":"'Abandoned Data'!R135","v":""},null,{"$f":"'Abandoned Data'!Q135","v":""},null,null,""]
[null,{"$f":"'Abandoned Data'!N136&\".\"","v":"."},null,{"$f":"'Abandoned Data'!O136","v":""},null,{"$f":"'Abandoned Data'!P136","v":""},null,{"$f":"'Abandoned Data'!S136","v":""},null,{"$f":"'Abandoned Data'!R136","v":""},null,{"$f":"'Abandoned Data'!Q136","v":""},null,null,""]
[null,{"$f":"'Abandoned Data'!N137&\".\"","v":"."},null,{"$f":"'Abandoned Data'!O137","v":""},null,{"$f":"'Abandoned Data'!P137","v":""},null,{"$f":"'Abandoned Data'!S137","v":""},null,{"$f":"'Abandoned Data'!R137","v":""},null,{"$f":"'Abandoned Data'!Q137","v":""},null,null,""]
[null,{"$f":"'Abandoned Data'!N138&\".\"","v":"."},null,{"$f":"'Abandoned Data'!O138","v":""},null,{"$f":"'Abandoned Data'!P138","v":""},null,{"$f":"'Abandoned Data'!S138","v":""},null,{"$f":"'Abandoned Data'!R138","v":""},null,{"$f":"'Abandoned Data'!Q138","v":""},null,null,""]
[null,{"$f":"'Abandoned Data'!N139&\".\"","v":"."},null,{"$f":"'Abandoned Data'!O139","v":""},null,{"$f":"'Abandoned Data'!P139","v":""},null,{"$f":"'Abandoned Data'!S139","v":""},null,{"$f":"'Abandoned Data'!R139","v":""},null,{"$f":"'Abandoned Data'!Q139","v":""},null,null,""]
[null,{"$f":"'Abandoned Data'!N140&\".\"","v":"."},null,{"$f":"'Abandoned Data'!O140","v":""},null,{"$f":"'Abandoned Data'!P140","v":""},null,{"$f":"'Abandoned Data'!S140","v":""},null,{"$f":"'Abandoned Data'!R140","v":""},null,{"$f":"'Abandoned Data'!Q140","v":""},null,null,""]
[null,{"$f":"'Abandoned Data'!N141&\".\"","v":"."},null,{"$f":"'Abandoned Data'!O141","v":""},null,{"$f":"'Abandoned Data'!P141","v":""},null,{"$f":"'Abandoned Data'!S141","v":""},null,{"$f":"'Abandoned Data'!R141","v":""},null,{"$f":"'Abandoned Data'!Q141","v":""},null,null,""]
[null,{"$f":"'Abandoned Data'!N142&\".\"","v":"."},null,{"$f":"'Abandoned Data'!O142","v":""},null,{"$f":"'Abandoned Data'!P142","v":""},null,{"$f":"'Abandoned Data'!S142","v":""},null,{"$f":"'Abandoned Data'!R142","v":""},null,{"$f":"'Abandoned Data'!Q142","v":""},null,null,""]
[null,{"$f":"'Abandoned Data'!N143&\".\"","v":"."},null,{"$f":"'Abandoned Data'!O143","v":""},null,{"$f":"'Abandoned Data'!P143","v":""},null,{"$f":"'Abandoned Data'!S143","v":""},null,{"$f":"'Abandoned Data'!R143","v":""},null,{"$f":"'Abandoned Data'!Q143","v":""},null,null,""]
[null,{"$f":"'Abandoned Data'!N144&\".\"","v":"."},null,{"$f":"'Abandoned Data'!O144","v":""},null,{"$f":"'Abandoned Data'!P144","v":""},null,{"$f":"'Abandoned Data'!S144","v":""},null,{"$f":"'Abandoned Data'!R144","v":""},null,{"$f":"'Abandoned Data'!Q144","v":""},null,null,""]
[null,{"$f":"'Abandoned Data'!N145&\".\"","v":"."},null,{"$f":"'Abandoned Data'!O145","v":""},null,{"$f":"'Abandoned Data'!P145","v":""},null,{"$f":"'Abandoned Data'!S145","v":""},null,{"$f":"'Abandoned Data'!R145","v":""},null,{"$f":"'Abandoned Data'!Q145","v":""},null,null,""]
[null,{"$f":"'Abandoned Data'!N146&\".\"","v":"."},null,{"$f":"'Abandoned Data'!O146","v":""},null,{"$f":"'Abandoned Data'!P146","v":""},null,{"$f":"'Abandoned Data'!S146","v":""},null,{"$f":"'Abandoned Data'!R146","v":""},null,{"$f":"'Abandoned Data'!Q146","v":""},null,null,""]
[null,{"$f":"'Abandoned Data'!N147&\".\"","v":"."},null,{"$f":"'Abandoned Data'!O147","v":""},null,{"$f":"'Abandoned Data'!P147","v":""},null,{"$f":"'Abandoned Data'!S147","v":""},null,{"$f":"'Abandoned Data'!R147","v":""},null,{"$f":"'Abandoned Data'!Q147","v":""},null,null,""]
[null,{"$f":"'Abandoned Data'!N148&\".\"","v":"."},null,{"$f":"'Abandoned Data'!O148","v":""},null,{"$f":"'Abandoned Data'!P148","v":""},null,{"$f":"'Abandoned Data'!S148","v":""},null,{"$f":"'Abandoned Data'!R148","v":""},null,{"$f":"'Abandoned Data'!Q148","v":""},null,null,""]
[null,{"$f":"'Abandoned Data'!N149&\".\"","v":"."},null,{"$f":"'Abandoned Data'!O149","v":""},null,{"$f":"'Abandoned Data'!P149","v":""},null,{"$f":"'Abandoned Data'!S149","v":""},null,{"$f":"'Abandoned Data'!R149","v":""},null,{"$f":"'Abandoned Data'!Q149","v":""},null,null,""]
[null,{"$f":"'Abandoned Data'!N150&\".\"","v":"."},null,{"$f":"'Abandoned Data'!O150","v":""},null,{"$f":"'Abandoned Data'!P150","v":""},null,{"$f":"'Abandoned Data'!S150","v":""},null,{"$f":"'Abandoned Data'!R150","v":""},null,{"$f":"'Abandoned Data'!Q150","v":""},null,null,""]
[null,{"$f":"'Abandoned Data'!N151&\".\"","v":"."},null,{"$f":"'Abandoned Data'!O151","v":""},null,{"$f":"'Abandoned Data'!P151","v":""},null,{"$f":"'Abandoned Data'!S151","v":""},null,{"$f":"'Abandoned Data'!R151","v":""},null,{"$f":"'Abandoned Data'!Q151","v":""},null,null,""]
[null,{"$f":"'Abandoned Data'!N152&\".\"","v":"."},null,{"$f":"'Abandoned Data'!O152","v":""},null,{"$f":"'Abandoned Data'!P152","v":""},null,{"$f":"'Abandoned Data'!S152","v":""},null,{"$f":"'Abandoned Data'!R152","v":""},null,{"$f":"'Abandoned Data'!Q152","v":""},null,null,""]
[null,{"$f":"'Abandoned Data'!N153&\".\"","v":"."},null,{"$f":"'Abandoned Data'!O153","v":""},null,{"$f":"'Abandoned Data'!P153","v":""},null,{"$f":"'Abandoned Data'!S153","v":""},null,{"$f":"'Abandoned Data'!R153","v":""},null,{"$f":"'Abandoned Data'!Q153","v":""},null,null,""]
[null,{"$f":"'Abandoned Data'!N154&\".\"","v":"."},null,{"$f":"'Abandoned Data'!O154","v":""},null,{"$f":"'Abandoned Data'!P154","v":""},null,{"$f":"'Abandoned Data'!S154","v":""},null,{"$f":"'Abandoned Data'!R154","v":""},null,{"$f":"'Abandoned Data'!Q154","v":""},null,null,""]
[null,{"$f":"'Abandoned Data'!N155&\".\"","v":"."},null,{"$f":"'Abandoned Data'!O155","v":""},null,{"$f":"'Abandoned Data'!P155","v":""},null,{"$f":"'Abandoned Data'!S155","v":""},null,{"$f":"'Abandoned Data'!R155","v":""},null,{"$f":"'Abandoned Data'!Q155","v":""},null,null,""]
[null,{"$f":"'Abandoned Data'!N156&\".\"","v":"."},null,{"$f":"'Abandoned Data'!O156","v":""},null,{"$f":"'Abandoned Data'!P156","v":""},null,{"$f":"'Abandoned Data'!S156","v":""},null,{"$f":"'Abandoned Data'!R156","v":""},null,{"$f":"'Abandoned Data'!Q156","v":""},null,null,""]
[null,{"$f":"'Abandoned Data'!N157&\".\"","v":"."},null,{"$f":"'Abandoned Data'!O157","v":""},null,{"$f":"'Abandoned Data'!P157","v":""},null,{"$f":"'Abandoned Data'!S157","v":""},null,{"$f":"'Abandoned Data'!R157","v":""},null,{"$f":"'Abandoned Data'!Q157","v":""},null,null,""]
[null,{"$f":"'Abandoned Data'!N158&\".\"","v":"."},null,{"$f":"'Abandoned Data'!O158","v":""},null,{"$f":"'Abandoned Data'!P158","v":""},null,{"$f":"'Abandoned Data'!S158","v":""},null,{"$f":"'Abandoned Data'!R158","v":""},null,{"$f":"'Abandoned Data'!Q158","v":""},null,null,""]
[null,{"$f":"'Abandoned Data'!N159&\".\"","v":"."},null,{"$f":"'Abandoned Data'!O159","v":""},null,{"$f":"'Abandoned Data'!P159","v":""},null,{"$f":"'Abandoned Data'!S159","v":""},null,{"$f":"'Abandoned Data'!R159","v":""},null,{"$f":"'Abandoned Data'!Q159","v":""},null,null,""]
[null,{"$f":"'Abandoned Data'!N160&\".\"","v":"."},null,{"$f":"'Abandoned Data'!O160","v":""},null,{"$f":"'Abandoned Data'!P160","v":""},null,{"$f":"'Abandoned Data'!S160","v":""},null,{"$f":"'Abandoned Data'!R160","v":""},null,{"$f":"'Abandoned Data'!Q160","v":""},null,null,""]
[null,{"$f":"'Abandoned Data'!N161&\".\"","v":"."},null,{"$f":"'Abandoned Data'!O161","v":""},null,{"$f":"'Abandoned Data'!P161","v":""},null,{"$f":"'Abandoned Data'!S161","v":""},null,{"$f":"'Abandoned Data'!R161","v":""},null,{"$f":"'Abandoned Data'!Q161","v":""},null,null,""]
[null,{"$f":"'Abandoned Data'!N162&\".\"","v":"."},null,{"$f":"'Abandoned Data'!O162","v":""},null,{"$f":"'Abandoned Data'!P162","v":""},null,{"$f":"'Abandoned Data'!S162","v":""},null,{"$f":"'Abandoned Data'!R162","v":""},null,{"$f":"'Abandoned Data'!Q162","v":""},null,null,""]
[null,{"$f":"'Abandoned Data'!N163&\".\"","v":"."},null,{"$f":"'Abandoned Data'!O163","v":""},null,{"$f":"'Abandoned Data'!P163","v":""},null,{"$f":"'Abandoned Data'!S163","v":""},null,{"$f":"'Abandoned Data'!R163","v":""},null,{"$f":"'Abandoned Data'!Q163","v":""},null,null,""]
[null,{"$f":"'Abandoned Data'!N164&\".\"","v":"."},null,{"$f":"'Abandoned Data'!O164","v":0},null,{"$f":"'Abandoned Data'!P164","v":0},null,{"$f":"'Abandoned Data'!S164","v":0},null,{"$f":"'Abandoned Data'!R164","v":0},null,{"$f":"'Abandoned Data'!Q164","v":0},null,null,""]
[null,{"$f":"'Abandoned Data'!N165&\".\"","v":"."},null,{"$f":"'Abandoned Data'!O165","v":0},null,{"$f":"'Abandoned Data'!P165","v":0},null,{"$f":"'Abandoned Data'!S165","v":0},null,{"$f":"'Abandoned Data'!R165","v":0},null,{"$f":"'Abandoned Data'!Q165","v":0},null,null,""]
[null,{"$f":"'Abandoned Data'!N166&\".\"","v":"."},null,{"$f":"'Abandoned Data'!O166","v":0},null,{"$f":"'Abandoned Data'!P166","v":0},null,{"$f":"'Abandoned Data'!S166","v":0},null,{"$f":"'Abandoned Data'!R166","v":0},null,{"$f":"'Abandoned Data'!Q166","v":0},null,null,""]
[null,{"$f":"'Abandoned Data'!N167&\".\"","v":"."},null,{"$f":"'Abandoned Data'!O167","v":0},null,{"$f":"'Abandoned Data'!P167","v":0},null,{"$f":"'Abandoned Data'!S167","v":0},null,{"$f":"'Abandoned Data'!R167","v":0},null,{"$f":"'Abandoned Data'!Q167","v":0},null,null,""]
[]
[]
[]
[]
[]
[]
[]
[]
[]
[]
[]
[]
[]
[]
[]
[]
[]
[]
[]
[]
[]
[]
[]
[]
[]
[]
[]
[]
[]
[]
[null,"Additional Abandoned Coal Mines"]
[]
[null,null,null,"Mine Name",null,"County",null,"Coal Rank",null,"Year Abandoned",null,"Status",null,"Percent Sealed",null,"Active Emissions (mmcfd) ",null,"Methane Recovered (m3/yr)"]
[null,"1."]
[null,"2."]
[null,"3."]
[null,"4."]
[null,"5."]
[null,"6."]
[null,"7."]
[null,"8."]
[null,"9."]
[null,"10."]
[null,"11."]
[null,"12."]
[null,"13."]
[null,"14."]
[null,"15."]
[null,"16."]
[null,"17."]
[null,"18."]
[null,"19."]
[null,"20."]
[null,"21."]
[null,"22."]
[null,"23."]
[null,"24."]
[null,"25."]
[null,"26."]
[null,"27."]
[null,"28."]
[null,"29."]
[null,"30."]
[null,"31."]
[null,"32."]
[null,"33."]
[null,"34."]
[null,"35."]
[null,"36."]
[null,"37."]
[null,"38."]
[null,"39."]
[null,"40."]
[null,"41."]
[null,"42."]
[null,"43."]
[null,"44."]
[null,"45."]
[null,"46."]
[null,"47."]
[null,"48."]
[null,"49."]
[null,"50."]

{"sheet":"Summary Abandoned Coal Mines","index":3,"n_rows":44,"n_cols":64,"rows_kept":44,"cut":false,"hidden":false,"merged":[]}
[null,{"$f":"\"4. \"&constants!L1&\" Abandoned Coal Mines Emissions Summary\"","v":"4. Select a State . . .  Abandoned Coal Mines Emissions Summary"}]
[]
[null,"Summary of Emissions from Default Abandoned Coal Mines"]
[null,"Latest Inventory Year",2018]
[null,"Mine Status (without Unknown Distributed)",null,null,null,null,null,null,null,null,null,null,null,null,null,null,null,null,null,null,null,null,null,null,null,null,null,null,null,null,null,null,null,null,"Only used for macro that produces projections, keep hidden"]
[null,"Emissions (MTCO2E/Year)",null,1990,1991,1992,1993,1994,1995,1996,1997,1998,1999,2000,2001,2002,2003,2004,2005,2006,2007,2008,2009,2010,2011,2012,2013,2014,2015,2016,2017,2018,2019,2020,{"$f":"AH6+1","v":2021},{"$f":"AI6+1","v":2022},2023,2024,2025,2026,2027,2028,2029,2030,2031,2032,2033,2034,2035,2036,2037,2038,2039,2040,2041,2042,2043,2044,2045,2046,2047,2048,2049,2050]
[null,null,"Vented",{"$f":"D14*1000*CH4GWP","v":0},{"$f":"E14*1000*CH4GWP","v":0},0,0,0,0,0,0,0,0,0,0,0,0,0,0,0,0,0,0,0,0,0,0,0,0,0,0,0,0,0,{"$f":"AI14*1000*CH4GWP","v":0},0,0,0,0,0,0,0,0,0,0,0,0,0,0,0,0,0,0,0,0,0,0,0,0,0,0,0,0,0]
[null,null,"Sealed",{"$f":"D15*1000*CH4GWP","v":0},0,0,0,0,0,0,0,0,0,0,0,0,0,0,0,0,0,0,0,0,0,0,0,0,0,0,0,0,0,0,{"$f":"AI15*1000*CH4GWP","v":0},0,0,0,0,0,0,0,0,0,0,0,0,0,0,0,0,0,0,0,0,0,0,0,0,0,0,0,0,0]
[null,null,"Flooded",{"$f":"D16*1000*CH4GWP","v":0},0,0,0,0,0,0,0,0,0,0,0,0,0,0,0,0,0,0,0,0,0,0,{"$f":"AA16*1000*CH4GWP","v":0},0,0,0,0,0,0,0,{"$f":"AI16*1000*CH4GWP","v":0},0,0,0,0,0,0,0,0,0,0,0,0,0,0,0,0,0,0,0,0,0,0,0,0,0,0,0,0,0]
[null,null,"Unknown",{"$f":"D17*1000*CH4GWP","v":0},0,0,0,0,0,0,0,0,0,0,0,0,0,0,0,0,0,0,0,0,0,0,0,0,0,0,0,0,0,0,{"$f":"AI17*1000*CH4GWP","v":0},0,0,0,0,0,0,0,0,0,0,0,0,0,0,0,0,0,0,0,0,0,0,0,0,0,0,0,0,0]
[null,null,"Total",{"$f":"SUM(D7:D10)","v":0},{"$f":"SUM(E7:E10)","v":0},0,0,0,0,0,0,0,0,0,0,0,0,0,0,{"$f":"SUM(T7:T10)","v":0},0,0,0,0,0,0,0,0,0,0,0,0,0,0,{"$f":"SUM(AI7:AI10)","v":0},0,0,0,0,0,0,0,0,0,0,0,0,0,0,0,0,0,0,0,0,0,0,0,0,0,0,0,0,0]
[]
[null,"Emissions (Gg CH4/Year)",null,1990,1991,1992,1993,1994,1995,1996,1997,1998,1999,2000,2001,2002,2003,2004,2005,2006,2007,2008,2009,2010,2011,2012,2013,2014,2015,2016,2017,2018,2019,2020,{"$f":"AH13+1","v":2021},{"$f":"AI13+1","v":2022},2023,2024,2025,2026,2027,2028,2029,2030,2031,2032,2033,2034,2035,2036,2037,2038,2039,2040,2041,2042,2043,2044,2045,2046,2047,2048,2049,2050]
[null,null,"Vented",{"$f":"IF(D13<=$C$4,SUMIF('Abandoned Data Inputs'!$E$4:$E$168,\"Venting\",'Abandoned Data Inputs'!Y4:Y168),0)","v":0},{"$f":"IF(E13<=$C$4,SUMIF('Abandoned Data Inputs'!$E$4:$E$168,\"Venting\",'Abandoned Data Inputs'!Z4:Z168),0)","v":0},{"$f":"IF(F13<=$C$4,SUMIF('Abandoned Data Inputs'!$E$4:$E$168,\"Venting\",'Abandoned Data Inputs'!AA4:AA168),0)","v":0},{"$f":"IF(G13<=$C$4,SUMIF('Abandoned Data Inputs'!$E$4:$E$168,\"Venting\",'Abandoned Data Inputs'!AB4:AB168),0)","v":0},{"$f":"IF(H13<=$C$4,SUMIF('Abandoned Data Inputs'!$E$4:$E$168,\"Venting\",'Abandoned Data Inputs'!AC4:AC168),0)","v":0},{"$f":"IF(I13<=$C$4,SUMIF('Abandoned Data Inputs'!$E$4:$E$168,\"Venting\",'Abandoned Data Inputs'!AD4:AD168),0)","v":0},{"$f":"IF(J13<=$C$4,SUMIF('Abandoned Data Inputs'!$E$4:$E$168,\"Venting\",'Abandoned Data Inputs'!AE4:AE168),0)","v":0},{"$f":"IF(K13<=$C$4,SUMIF('Abandoned Data Inputs'!$E$4:$E$168,\"Venting\",'Abandoned Data Inputs'!AF4:AF168),0)","v":0},{"$f":"IF(L13<=$C$4,SUMIF('Abandoned Data Inputs'!$E$4:$E$168,\"Venting\",'Abandoned Data Inputs'!AG4:AG168),0)","v":0},{"$f":"IF(M13<=$C$4,SUMIF('Abandoned Data Inputs'!$E$4:$E$168,\"Venting\",'Abandoned Data Inputs'!AH4:AH168),0)","v":0},{"$f":"IF(N13<=$C$4,SUMIF('Abandoned Data Inputs'!$E$4:$E$168,\"Venting\",'Abandoned Data Inputs'!AI4:AI168),0)","v":0},{"$f":"IF(O13<=$C$4,SUMIF('Abandoned Data Inputs'!$E$4:$E$168,\"Venting\",'Abandoned Data Inputs'!AJ4:AJ168),0)","v":0},{"$f":"IF(P13<=$C$4,SUMIF('Abandoned Data Inputs'!$E$4:$E$168,\"Venting\",'Abandoned Data Inputs'!AK4:AK168),0)","v":0},{"$f":"IF(Q13<=$C$4,SUMIF('Abandoned Data Inputs'!$E$4:$E$168,\"Venting\",'Abandoned Data Inputs'!AL4:AL168),0)","v":0},{"$f":"IF(R13<=$C$4,SUMIF('Abandoned Data Inputs'!$E$4:$E$168,\"Venting\",'Abandoned Data Inputs'!AM4:AM168),0)","v":0},{"$f":"IF(S13<=$C$4,SUMIF('Abandoned Data Inputs'!$E$4:$E$168,\"Venting\",'Abandoned Data Inputs'!AN4:AN168),0)","v":0},{"$f":"IF(T13<=$C$4,SUMIF('Abandoned Data Inputs'!$E$4:$E$168,\"Venting\",'Abandoned Data Inputs'!AO4:AO168),0)","v":0},{"$f":"IF(U13<=$C$4,SUMIF('Abandoned Data Inputs'!$E$4:$E$168,\"Venting\",'Abandoned Data Inputs'!AP4:AP168),0)","v":0},{"$f":"IF(V13<=$C$4,SUMIF('Abandoned Data Inputs'!$E$4:$E$168,\"Venting\",'Abandoned Data Inputs'!AQ4:AQ168),0)","v":0},{"$f":"IF(W13<=$C$4,SUMIF('Abandoned Data Inputs'!$E$4:$E$168,\"Venting\",'Abandoned Data Inputs'!AR4:AR168),0)","v":0},{"$f":"IF(X13<=$C$4,SUMIF('Abandoned Data Inputs'!$E$4:$E$168,\"Venting\",'Abandoned Data Inputs'!AS4:AS168),0)","v":0},{"$f":"IF(Y13<=$C$4,SUMIF('Abandoned Data Inputs'!$E$4:$E$168,\"Venting\",'Abandoned Data Inputs'!AT4:AT168),0)","v":0},{"$f":"IF(Z13<=$C$4,SUMIF('Abandoned Data Inputs'!$E$4:$E$168,\"Venting\",'Abandoned Data Inputs'!AU4:AU168),0)","v":0},{"$f":"IF(AA13<=$C$4,SUMIF('Abandoned Data Inputs'!$E$4:$E$168,\"Venting\",'Abandoned Data Inputs'!AV4:AV168),0)","v":0},{"$f":"IF(AB13<=$C$4,SUMIF('Abandoned Data Inputs'!$E$4:$E$168,\"Venting\",'Abandoned Data Inputs'!AW4:AW168),0)","v":0},{"$f":"IF(AC13<=$C$4,SUMIF('Abandoned Data Inputs'!$E$4:$E$168,\"Venting\",'Abandoned Data Inputs'!AX4:AX168),0)","v":0},{"$f":"IF(AD13<=$C$4,SUMIF('Abandoned Data Inputs'!$E$4:$E$168,\"Venting\",'Abandoned Data Inputs'!AY4:AY168),0)","v":0},{"$f":"IF(AE13<=$C$4,SUMIF('Abandoned Data Inputs'!$E$4:$E$168,\"Venting\",'Abandoned Data Inputs'!AZ4:AZ168),0)","v":0},{"$f":"IF(AF13<=$C$4,SUMIF('Abandoned Data Inputs'!$E$4:$E$168,\"Venting\",'Abandoned Data Inputs'!BA4:BA168),0)","v":0},{"$f":"IF(AG13<=$C$4,SUMIF('Abandoned Data Inputs'!$E$4:$E$168,\"Venting\",'Abandoned Data Inputs'!BB4:BB168),0)","v":0},{"$f":"IF(AH13<=$C$4,SUMIF('Abandoned Data Inputs'!$E$4:$E$168,\"Venting\",'Abandoned Data Inputs'!BC4:BC168),0)","v":0},{"$f":"IF(AI13<=$C$4,SUMIF('Abandoned Data Inputs'!$E$4:$E$145,\"Venting\",'Abandoned Data Inputs'!BD4:BD145),0)","v":0},{"$f":"IF(AJ13<=$C$4,SUMIF('Abandoned Data Inputs'!$E$4:$E$145,\"Venting\",'Abandoned Data Inputs'!BE4:BE145),0)","v":0},{"$f":"IF(AK13<=$C$4,SUMIF('Abandoned Data Inputs'!$E$4:$E$145,\"Venting\",'Abandoned Data Inputs'!BF4:BF145),0)","v":0},{"$f":"IF(AL13<=$C$4,SUMIF('Abandoned Data Inputs'!$E$4:$E$145,\"Venting\",'Abandoned Data Inputs'!BG4:BG145),0)","v":0},{"$f":"IF(AM13<=$C$4,SUMIF('Abandoned Data Inputs'!$E$4:$E$145,\"Venting\",'Abandoned Data Inputs'!BH4:BH145),0)","v":0},{"$f":"IF(AN13<=$C$4,SUMIF('Abandoned Data Inputs'!$E$4:$E$145,\"Venting\",'Abandoned Data Inputs'!BI4:BI145),0)","v":0},{"$f":"IF(AO13<=$C$4,SUMIF('Abandoned Data Inputs'!$E$4:$E$145,\"Venting\",'Abandoned Data Inputs'!BJ4:BJ145),0)","v":0},{"$f":"IF(AP13<=$C$4,SUMIF('Abandoned Data Inputs'!$E$4:$E$145,\"Venting\",'Abandoned Data Inputs'!BK4:BK145),0)","v":0},{"$f":"IF(AQ13<=$C$4,SUMIF('Abandoned Data Inputs'!$E$4:$E$145,\"Venting\",'Abandoned Data Inputs'!BL4:BL145),0)","v":0},{"$f":"IF(AR13<=$C$4,SUMIF('Abandoned Data Inputs'!$E$4:$E$145,\"Venting\",'Abandoned Data Inputs'!BM4:BM145),0)","v":0},{"$f":"IF(AS13<=$C$4,SUMIF('Abandoned Data Inputs'!$E$4:$E$145,\"Venting\",'Abandoned Data Inputs'!BN4:BN145),0)","v":0},{"$f":"IF(AT13<=$C$4,SUMIF('Abandoned Data Inputs'!$E$4:$E$145,\"Venting\",'Abandoned Data Inputs'!BO4:BO145),0)","v":0},{"$f":"IF(AU13<=$C$4,SUMIF('Abandoned Data Inputs'!$E$4:$E$145,\"Venting\",'Abandoned Data Inputs'!BP4:BP145),0)","v":0},{"$f":"IF(AV13<=$C$4,SUMIF('Abandoned Data Inputs'!$E$4:$E$145,\"Venting\",'Abandoned Data Inputs'!BQ4:BQ145),0)","v":0},{"$f":"IF(AW13<=$C$4,SUMIF('Abandoned Data Inputs'!$E$4:$E$145,\"Venting\",'Abandoned Data Inputs'!BR4:BR145),0)","v":0},{"$f":"IF(AX13<=$C$4,SUMIF('Abandoned Data Inputs'!$E$4:$E$145,\"Venting\",'Abandoned Data Inputs'!BS4:BS145),0)","v":0},{"$f":"IF(AY13<=$C$4,SUMIF('Abandoned Data Inputs'!$E$4:$E$145,\"Venting\",'Abandoned Data Inputs'!BT4:BT145),0)","v":0},{"$f":"IF(AZ13<=$C$4,SUMIF('Abandoned Data Inputs'!$E$4:$E$145,\"Venting\",'Abandoned Data Inputs'!BU4:BU145),0)","v":0},{"$f":"IF(BA13<=$C$4,SUMIF('Abandoned Data Inputs'!$E$4:$E$145,\"Venting\",'Abandoned Data Inputs'!BV4:BV145),0)","v":0},{"$f":"IF(BB13<=$C$4,SUMIF('Abandoned Data Inputs'!$E$4:$E$145,\"Venting\",'Abandoned Data Inputs'!BW4:BW145),0)","v":0},{"$f":"IF(BC13<=$C$4,SUMIF('Abandoned Data Inputs'!$E$4:$E$145,\"Venting\",'Abandoned Data Inputs'!BX4:BX145),0)","v":0},{"$f":"IF(BD13<=$C$4,SUMIF('Abandoned Data Inputs'!$E$4:$E$145,\"Venting\",'Abandoned Data Inputs'!BY4:BY145),0)","v":0},{"$f":"IF(BE13<=$C$4,SUMIF('Abandoned Data Inputs'!$E$4:$E$145,\"Venting\",'Abandoned Data Inputs'!BZ4:BZ145),0)","v":0},{"$f":"IF(BF13<=$C$4,SUMIF('Abandoned Data Inputs'!$E$4:$E$145,\"Venting\",'Abandoned Data Inputs'!CA4:CA145),0)","v":0},{"$f":"IF(BG13<=$C$4,SUMIF('Abandoned Data Inputs'!$E$4:$E$145,\"Venting\",'Abandoned Data Inputs'!CB4:CB145),0)","v":0},{"$f":"IF(BH13<=$C$4,SUMIF('Abandoned Data Inputs'!$E$4:$E$145,\"Venting\",'Abandoned Data Inputs'!CC4:CC145),0)","v":0},{"$f":"IF(BI13<=$C$4,SUMIF('Abandoned Data Inputs'!$E$4:$E$145,\"Venting\",'Abandoned Data Inputs'!CD4:CD145),0)","v":0},{"$f":"IF(BJ13<=$C$4,SUMIF('Abandoned Data Inputs'!$E$4:$E$145,\"Venting\",'Abandoned Data Inputs'!CE4:CE145),0)","v":0},{"$f":"IF(BK13<=$C$4,SUMIF('Abandoned Data Inputs'!$E$4:$E$145,\"Venting\",'Abandoned Data Inputs'!CF4:CF145),0)","v":0},{"$f":"IF(BL13<=$C$4,SUMIF('Abandoned Data Inputs'!$E$4:$E$145,\"Venting\",'Abandoned Data Inputs'!CG4:CG145),0)","v":0}]
[null,null,"Sealed",{"$f":"IF(D13<=$C$4,SUMIF('Abandoned Data Inputs'!$E$4:$E$168,\"Sealed\",'Abandoned Data Inputs'!Y4:Y168),0)","v":0},{"$f":"IF(E13<=$C$4,SUMIF('Abandoned Data Inputs'!$E$4:$E$168,\"Sealed\",'Abandoned Data Inputs'!Z4:Z168),0)","v":0},{"$f":"IF(F13<=$C$4,SUMIF('Abandoned Data Inputs'!$E$4:$E$168,\"Sealed\",'Abandoned Data Inputs'!AA4:AA168),0)","v":0},{"$f":"IF(G13<=$C$4,SUMIF('Abandoned Data Inputs'!$E$4:$E$168,\"Sealed\",'Abandoned Data Inputs'!AB4:AB168),0)","v":0},{"$f":"IF(H13<=$C$4,SUMIF('Abandoned Data Inputs'!$E$4:$E$168,\"Sealed\",'Abandoned Data Inputs'!AC4:AC168),0)","v":0},{"$f":"IF(I13<=$C$4,SUMIF('Abandoned Data Inputs'!$E$4:$E$168,\"Sealed\",'Abandoned Data Inputs'!AD4:AD168),0)","v":0},{"$f":"IF(J13<=$C$4,SUMIF('Abandoned Data Inputs'!$E$4:$E$168,\"Sealed\",'Abandoned Data Inputs'!AE4:AE168),0)","v":0},{"$f":"IF(K13<=$C$4,SUMIF('Abandoned Data Inputs'!$E$4:$E$168,\"Sealed\",'Abandoned Data Inputs'!AF4:AF168),0)","v":0},{"$f":"IF(L13<=$C$4,SUMIF('Abandoned Data Inputs'!$E$4:$E$168,\"Sealed\",'Abandoned Data Inputs'!AG4:AG168),0)","v":0},{"$f":"IF(M13<=$C$4,SUMIF('Abandoned Data Inputs'!$E$4:$E$168,\"Sealed\",'Abandoned Data Inputs'!AH4:AH168),0)","v":0},{"$f":"IF(N13<=$C$4,SUMIF('Abandoned Data Inputs'!$E$4:$E$168,\"Sealed\",'Abandoned Data Inputs'!AI4:AI168),0)","v":0},{"$f":"IF(O13<=$C$4,SUMIF('Abandoned Data Inputs'!$E$4:$E$168,\"Sealed\",'Abandoned Data Inputs'!AJ4:AJ168),0)","v":0},{"$f":"IF(P13<=$C$4,SUMIF('Abandoned Data Inputs'!$E$4:$E$168,\"Sealed\",'Abandoned Data Inputs'!AK4:AK168),0)","v":0},{"$f":"IF(Q13<=$C$4,SUMIF('Abandoned Data Inputs'!$E$4:$E$168,\"Sealed\",'Abandoned Data Inputs'!AL4:AL168),0)","v":0},{"$f":"IF(R13<=$C$4,SUMIF('Abandoned Data Inputs'!$E$4:$E$168,\"Sealed\",'Abandoned Data Inputs'!AM4:AM168),0)","v":0},{"$f":"IF(S13<=$C$4,SUMIF('Abandoned Data Inputs'!$E$4:$E$168,\"Sealed\",'Abandoned Data Inputs'!AN4:AN168),0)","v":0},{"$f":"IF(T13<=$C$4,SUMIF('Abandoned Data Inputs'!$E$4:$E$168,\"Sealed\",'Abandoned Data Inputs'!AO4:AO168),0)","v":0},{"$f":"IF(U13<=$C$4,SUMIF('Abandoned Data Inputs'!$E$4:$E$168,\"Sealed\",'Abandoned Data Inputs'!AP4:AP168),0)","v":0},{"$f":"IF(V13<=$C$4,SUMIF('Abandoned Data Inputs'!$E$4:$E$168,\"Sealed\",'Abandoned Data Inputs'!AQ4:AQ168),0)","v":0},{"$f":"IF(W13<=$C$4,SUMIF('Abandoned Data Inputs'!$E$4:$E$168,\"Sealed\",'Abandoned Data Inputs'!AR4:AR168),0)","v":0},{"$f":"IF(X13<=$C$4,SUMIF('Abandoned Data Inputs'!$E$4:$E$168,\"Sealed\",'Abandoned Data Inputs'!AS4:AS168),0)","v":0},{"$f":"IF(Y13<=$C$4,SUMIF('Abandoned Data Inputs'!$E$4:$E$168,\"Sealed\",'Abandoned Data Inputs'!AT4:AT168),0)","v":0},{"$f":"IF(Z13<=$C$4,SUMIF('Abandoned Data Inputs'!$E$4:$E$168,\"Sealed\",'Abandoned Data Inputs'!AU4:AU168),0)","v":0},{"$f":"IF(AA13<=$C$4,SUMIF('Abandoned Data Inputs'!$E$4:$E$168,\"Sealed\",'Abandoned Data Inputs'!AV4:AV168),0)","v":0},{"$f":"IF(AB13<=$C$4,SUMIF('Abandoned Data Inputs'!$E$4:$E$168,\"Sealed\",'Abandoned Data Inputs'!AW4:AW168),0)","v":0},{"$f":"IF(AC13<=$C$4,SUMIF('Abandoned Data Inputs'!$E$4:$E$168,\"Sealed\",'Abandoned Data Inputs'!AX4:AX168),0)","v":0},{"$f":"IF(AD13<=$C$4,SUMIF('Abandoned Data Inputs'!$E$4:$E$168,\"Sealed\",'Abandoned Data Inputs'!AY4:AY168),0)","v":0},{"$f":"IF(AE13<=$C$4,SUMIF('Abandoned Data Inputs'!$E$4:$E$168,\"Sealed\",'Abandoned Data Inputs'!AZ4:AZ168),0)","v":0},{"$f":"IF(AF13<=$C$4,SUMIF('Abandoned Data Inputs'!$E$4:$E$168,\"Sealed\",'Abandoned Data Inputs'!BA4:BA168),0)","v":0},{"$f":"IF(AG13<=$C$4,SUMIF('Abandoned Data Inputs'!$E$4:$E$168,\"Sealed\",'Abandoned Data Inputs'!BB4:BB168),0)","v":0},{"$f":"IF(AH13<=$C$4,SUMIF('Abandoned Data Inputs'!$E$4:$E$168,\"Sealed\",'Abandoned Data Inputs'!BC4:BC168),0)","v":0},{"$f":"IF(AI13<=$C$4,SUMIF('Abandoned Data Inputs'!$E$4:$E$145,\"Sealed\",'Abandoned Data Inputs'!BD4:BD145),0)","v":0},{"$f":"IF(AJ13<=$C$4,SUMIF('Abandoned Data Inputs'!$E$4:$E$145,\"Sealed\",'Abandoned Data Inputs'!BE4:BE145),0)","v":0},{"$f":"IF(AK13<=$C$4,SUMIF('Abandoned Data Inputs'!$E$4:$E$145,\"Sealed\",'Abandoned Data Inputs'!BF4:BF145),0)","v":0},{"$f":"IF(AL13<=$C$4,SUMIF('Abandoned Data Inputs'!$E$4:$E$145,\"Sealed\",'Abandoned Data Inputs'!BG4:BG145),0)","v":0},{"$f":"IF(AM13<=$C$4,SUMIF('Abandoned Data Inputs'!$E$4:$E$145,\"Sealed\",'Abandoned Data Inputs'!BH4:BH145),0)","v":0},{"$f":"IF(AN13<=$C$4,SUMIF('Abandoned Data Inputs'!$E$4:$E$145,\"Sealed\",'Abandoned Data Inputs'!BI4:BI145),0)","v":0},{"$f":"IF(AO13<=$C$4,SUMIF('Abandoned Data Inputs'!$E$4:$E$145,\"Sealed\",'Abandoned Data Inputs'!BJ4:BJ145),0)","v":0},{"$f":"IF(AP13<=$C$4,SUMIF('Abandoned Data Inputs'!$E$4:$E$145,\"Sealed\",'Abandoned Data Inputs'!BK4:BK145),0)","v":0},{"$f":"IF(AQ13<=$C$4,SUMIF('Abandoned Data Inputs'!$E$4:$E$145,\"Sealed\",'Abandoned Data Inputs'!BL4:BL145),0)","v":0},{"$f":"IF(AR13<=$C$4,SUMIF('Abandoned Data Inputs'!$E$4:$E$145,\"Sealed\",'Abandoned Data Inputs'!BM4:BM145),0)","v":0},{"$f":"IF(AS13<=$C$4,SUMIF('Abandoned Data Inputs'!$E$4:$E$145,\"Sealed\",'Abandoned Data Inputs'!BN4:BN145),0)","v":0},{"$f":"IF(AT13<=$C$4,SUMIF('Abandoned Data Inputs'!$E$4:$E$145,\"Sealed\",'Abandoned Data Inputs'!BO4:BO145),0)","v":0},{"$f":"IF(AU13<=$C$4,SUMIF('Abandoned Data Inputs'!$E$4:$E$145,\"Sealed\",'Abandoned Data Inputs'!BP4:BP145),0)","v":0},{"$f":"IF(AV13<=$C$4,SUMIF('Abandoned Data Inputs'!$E$4:$E$145,\"Sealed\",'Abandoned Data Inputs'!BQ4:BQ145),0)","v":0},{"$f":"IF(AW13<=$C$4,SUMIF('Abandoned Data Inputs'!$E$4:$E$145,\"Sealed\",'Abandoned Data Inputs'!BR4:BR145),0)","v":0},{"$f":"IF(AX13<=$C$4,SUMIF('Abandoned Data Inputs'!$E$4:$E$145,\"Sealed\",'Abandoned Data Inputs'!BS4:BS145),0)","v":0},{"$f":"IF(AY13<=$C$4,SUMIF('Abandoned Data Inputs'!$E$4:$E$145,\"Sealed\",'Abandoned Data Inputs'!BT4:BT145),0)","v":0},{"$f":"IF(AZ13<=$C$4,SUMIF('Abandoned Data Inputs'!$E$4:$E$145,\"Sealed\",'Abandoned Data Inputs'!BU4:BU145),0)","v":0},{"$f":"IF(BA13<=$C$4,SUMIF('Abandoned Data Inputs'!$E$4:$E$145,\"Sealed\",'Abandoned Data Inputs'!BV4:BV145),0)","v":0},{"$f":"IF(BB13<=$C$4,SUMIF('Abandoned Data Inputs'!$E$4:$E$145,\"Sealed\",'Abandoned Data Inputs'!BW4:BW145),0)","v":0},{"$f":"IF(BC13<=$C$4,SUMIF('Abandoned Data Inputs'!$E$4:$E$145,\"Sealed\",'Abandoned Data Inputs'!BX4:BX145),0)","v":0},{"$f":"IF(BD13<=$C$4,SUMIF('Abandoned Data Inputs'!$E$4:$E$145,\"Sealed\",'Abandoned Data Inputs'!BY4:BY145),0)","v":0},{"$f":"IF(BE13<=$C$4,SUMIF('Abandoned Data Inputs'!$E$4:$E$145,\"Sealed\",'Abandoned Data Inputs'!BZ4:BZ145),0)","v":0},{"$f":"IF(BF13<=$C$4,SUMIF('Abandoned Data Inputs'!$E$4:$E$145,\"Sealed\",'Abandoned Data Inputs'!CA4:CA145),0)","v":0},{"$f":"IF(BG13<=$C$4,SUMIF('Abandoned Data Inputs'!$E$4:$E$145,\"Sealed\",'Abandoned Data Inputs'!CB4:CB145),0)","v":0},{"$f":"IF(BH13<=$C$4,SUMIF('Abandoned Data Inputs'!$E$4:$E$145,\"Sealed\",'Abandoned Data Inputs'!CC4:CC145),0)","v":0},{"$f":"IF(BI13<=$C$4,SUMIF('Abandoned Data Inputs'!$E$4:$E$145,\"Sealed\",'Abandoned Data Inputs'!CD4:CD145),0)","v":0},{"$f":"IF(BJ13<=$C$4,SUMIF('Abandoned Data Inputs'!$E$4:$E$145,\"Sealed\",'Abandoned Data Inputs'!CE4:CE145),0)","v":0},{"$f":"IF(BK13<=$C$4,SUMIF('Abandoned Data Inputs'!$E$4:$E$145,\"Sealed\",'Abandoned Data Inputs'!CF4:CF145),0)","v":0},{"$f":"IF(BL13<=$C$4,SUMIF('Abandoned Data Inputs'!$E$4:$E$145,\"Sealed\",'Abandoned Data Inputs'!CG4:CG145),0)","v":0}]
[null,null,"Flooded",{"$f":"IF(D13<=$C$4,SUMIF('Abandoned Data Inputs'!$E$4:$E$168,\"Flooded\",'Abandoned Data Inputs'!Y4:Y168),0)","v":0},{"$f":"IF(E13<=$C$4,SUMIF('Abandoned Data Inputs'!$E$4:$E$168,\"Flooded\",'Abandoned Data Inputs'!Z4:Z168),0)","v":0},{"$f":"IF(F13<=$C$4,SUMIF('Abandoned Data Inputs'!$E$4:$E$168,\"Flooded\",'Abandoned Data Inputs'!AA4:AA168),0)","v":0},{"$f":"IF(G13<=$C$4,SUMIF('Abandoned Data Inputs'!$E$4:$E$168,\"Flooded\",'Abandoned Data Inputs'!AB4:AB168),0)","v":0},{"$f":"IF(H13<=$C$4,SUMIF('Abandoned Data Inputs'!$E$4:$E$168,\"Flooded\",'Abandoned Data Inputs'!AC4:AC168),0)","v":0},{"$f":"IF(I13<=$C$4,SUMIF('Abandoned Data Inputs'!$E$4:$E$168,\"Flooded\",'Abandoned Data Inputs'!AD4:AD168),0)","v":0},{"$f":"IF(J13<=$C$4,SUMIF('Abandoned Data Inputs'!$E$4:$E$168,\"Flooded\",'Abandoned Data Inputs'!AE4:AE168),0)","v":0},{"$f":"IF(K13<=$C$4,SUMIF('Abandoned Data Inputs'!$E$4:$E$168,\"Flooded\",'Abandoned Data Inputs'!AF4:AF168),0)","v":0},{"$f":"IF(L13<=$C$4,SUMIF('Abandoned Data Inputs'!$E$4:$E$168,\"Flooded\",'Abandoned Data Inputs'!AG4:AG168),0)","v":0},{"$f":"IF(M13<=$C$4,SUMIF('Abandoned Data Inputs'!$E$4:$E$168,\"Flooded\",'Abandoned Data Inputs'!AH4:AH168),0)","v":0},{"$f":"IF(N13<=$C$4,SUMIF('Abandoned Data Inputs'!$E$4:$E$168,\"Flooded\",'Abandoned Data Inputs'!AI4:AI168),0)","v":0},{"$f":"IF(O13<=$C$4,SUMIF('Abandoned Data Inputs'!$E$4:$E$168,\"Flooded\",'Abandoned Data Inputs'!AJ4:AJ168),0)","v":0},{"$f":"IF(P13<=$C$4,SUMIF('Abandoned Data Inputs'!$E$4:$E$168,\"Flooded\",'Abandoned Data Inputs'!AK4:AK168),0)","v":0},{"$f":"IF(Q13<=$C$4,SUMIF('Abandoned Data Inputs'!$E$4:$E$168,\"Flooded\",'Abandoned Data Inputs'!AL4:AL168),0)","v":0},{"$f":"IF(R13<=$C$4,SUMIF('Abandoned Data Inputs'!$E$4:$E$168,\"Flooded\",'Abandoned Data Inputs'!AM4:AM168),0)","v":0},{"$f":"IF(S13<=$C$4,SUMIF('Abandoned Data Inputs'!$E$4:$E$168,\"Flooded\",'Abandoned Data Inputs'!AN4:AN168),0)","v":0},{"$f":"IF(T13<=$C$4,SUMIF('Abandoned Data Inputs'!$E$4:$E$168,\"Flooded\",'Abandoned Data Inputs'!AO4:AO168),0)","v":0},{"$f":"IF(U13<=$C$4,SUMIF('Abandoned Data Inputs'!$E$4:$E$168,\"Flooded\",'Abandoned Data Inputs'!AP4:AP168),0)","v":0},{"$f":"IF(V13<=$C$4,SUMIF('Abandoned Data Inputs'!$E$4:$E$168,\"Flooded\",'Abandoned Data Inputs'!AQ4:AQ168),0)","v":0},{"$f":"IF(W13<=$C$4,SUMIF('Abandoned Data Inputs'!$E$4:$E$168,\"Flooded\",'Abandoned Data Inputs'!AR4:AR168),0)","v":0},{"$f":"IF(X13<=$C$4,SUMIF('Abandoned Data Inputs'!$E$4:$E$168,\"Flooded\",'Abandoned Data Inputs'!AS4:AS168),0)","v":0},{"$f":"IF(Y13<=$C$4,SUMIF('Abandoned Data Inputs'!$E$4:$E$168,\"Flooded\",'Abandoned Data Inputs'!AT4:AT168),0)","v":0},{"$f":"IF(Z13<=$C$4,SUMIF('Abandoned Data Inputs'!$E$4:$E$168,\"Flooded\",'Abandoned Data Inputs'!AU4:AU168),0)","v":0},{"$f":"IF(AA13<=$C$4,SUMIF('Abandoned Data Inputs'!$E$4:$E$168,\"Flooded\",'Abandoned Data Inputs'!AV4:AV168),0)","v":0},{"$f":"IF(AB13<=$C$4,SUMIF('Abandoned Data Inputs'!$E$4:$E$168,\"Flooded\",'Abandoned Data Inputs'!AW4:AW168),0)","v":0},{"$f":"IF(AC13<=$C$4,SUMIF('Abandoned Data Inputs'!$E$4:$E$168,\"Flooded\",'Abandoned Data Inputs'!AX4:AX168),0)","v":0},{"$f":"IF(AD13<=$C$4,SUMIF('Abandoned Data Inputs'!$E$4:$E$168,\"Flooded\",'Abandoned Data Inputs'!AY4:AY168),0)","v":0},{"$f":"IF(AE13<=$C$4,SUMIF('Abandoned Data Inputs'!$E$4:$E$168,\"Flooded\",'Abandoned Data Inputs'!AZ4:AZ168),0)","v":0},{"$f":"IF(AF13<=$C$4,SUMIF('Abandoned Data Inputs'!$E$4:$E$168,\"Flooded\",'Abandoned Data Inputs'!BA4:BA168),0)","v":0},{"$f":"IF(AG13<=$C$4,SUMIF('Abandoned Data Inputs'!$E$4:$E$168,\"Flooded\",'Abandoned Data Inputs'!BB4:BB168),0)","v":0},{"$f":"IF(AH13<=$C$4,SUMIF('Abandoned Data Inputs'!$E$4:$E$168,\"Flooded\",'Abandoned Data Inputs'!BC4:BC168),0)","v":0},{"$f":"IF(AI13<=$C$4,SUMIF('Abandoned Data Inputs'!$E$4:$E$145,\"Flooded\",'Abandoned Data Inputs'!BD4:BD145),0)","v":0},{"$f":"IF(AJ13<=$C$4,SUMIF('Abandoned Data Inputs'!$E$4:$E$145,\"Flooded\",'Abandoned Data Inputs'!BE4:BE145),0)","v":0},{"$f":"IF(AK13<=$C$4,SUMIF('Abandoned Data Inputs'!$E$4:$E$145,\"Flooded\",'Abandoned Data Inputs'!BF4:BF145),0)","v":0},{"$f":"IF(AL13<=$C$4,SUMIF('Abandoned Data Inputs'!$E$4:$E$145,\"Flooded\",'Abandoned Data Inputs'!BG4:BG145),0)","v":0},{"$f":"IF(AM13<=$C$4,SUMIF('Abandoned Data Inputs'!$E$4:$E$145,\"Flooded\",'Abandoned Data Inputs'!BH4:BH145),0)","v":0},{"$f":"IF(AN13<=$C$4,SUMIF('Abandoned Data Inputs'!$E$4:$E$145,\"Flooded\",'Abandoned Data Inputs'!BI4:BI145),0)","v":0},{"$f":"IF(AO13<=$C$4,SUMIF('Abandoned Data Inputs'!$E$4:$E$145,\"Flooded\",'Abandoned Data Inputs'!BJ4:BJ145),0)","v":0},{"$f":"IF(AP13<=$C$4,SUMIF('Abandoned Data Inputs'!$E$4:$E$145,\"Flooded\",'Abandoned Data Inputs'!BK4:BK145),0)","v":0},{"$f":"IF(AQ13<=$C$4,SUMIF('Abandoned Data Inputs'!$E$4:$E$145,\"Flooded\",'Abandoned Data Inputs'!BL4:BL145),0)","v":0},{"$f":"IF(AR13<=$C$4,SUMIF('Abandoned Data Inputs'!$E$4:$E$145,\"Flooded\",'Abandoned Data Inputs'!BM4:BM145),0)","v":0},{"$f":"IF(AS13<=$C$4,SUMIF('Abandoned Data Inputs'!$E$4:$E$145,\"Flooded\",'Abandoned Data Inputs'!BN4:BN145),0)","v":0},{"$f":"IF(AT13<=$C$4,SUMIF('Abandoned Data Inputs'!$E$4:$E$145,\"Flooded\",'Abandoned Data Inputs'!BO4:BO145),0)","v":0},{"$f":"IF(AU13<=$C$4,SUMIF('Abandoned Data Inputs'!$E$4:$E$145,\"Flooded\",'Abandoned Data Inputs'!BP4:BP145),0)","v":0},{"$f":"IF(AV13<=$C$4,SUMIF('Abandoned Data Inputs'!$E$4:$E$145,\"Flooded\",'Abandoned Data Inputs'!BQ4:BQ145),0)","v":0},{"$f":"IF(AW13<=$C$4,SUMIF('Abandoned Data Inputs'!$E$4:$E$145,\"Flooded\",'Abandoned Data Inputs'!BR4:BR145),0)","v":0},{"$f":"IF(AX13<=$C$4,SUMIF('Abandoned Data Inputs'!$E$4:$E$145,\"Flooded\",'Abandoned Data Inputs'!BS4:BS145),0)","v":0},{"$f":"IF(AY13<=$C$4,SUMIF('Abandoned Data Inputs'!$E$4:$E$145,\"Flooded\",'Abandoned Data Inputs'!BT4:BT145),0)","v":0},{"$f":"IF(AZ13<=$C$4,SUMIF('Abandoned Data Inputs'!$E$4:$E$145,\"Flooded\",'Abandoned Data Inputs'!BU4:BU145),0)","v":0},{"$f":"IF(BA13<=$C$4,SUMIF('Abandoned Data Inputs'!$E$4:$E$145,\"Flooded\",'Abandoned Data Inputs'!BV4:BV145),0)","v":0},{"$f":"IF(BB13<=$C$4,SUMIF('Abandoned Data Inputs'!$E$4:$E$145,\"Flooded\",'Abandoned Data Inputs'!BW4:BW145),0)","v":0},{"$f":"IF(BC13<=$C$4,SUMIF('Abandoned Data Inputs'!$E$4:$E$145,\"Flooded\",'Abandoned Data Inputs'!BX4:BX145),0)","v":0},{"$f":"IF(BD13<=$C$4,SUMIF('Abandoned Data Inputs'!$E$4:$E$145,\"Flooded\",'Abandoned Data Inputs'!BY4:BY145),0)","v":0},{"$f":"IF(BE13<=$C$4,SUMIF('Abandoned Data Inputs'!$E$4:$E$145,\"Flooded\",'Abandoned Data Inputs'!BZ4:BZ145),0)","v":0},{"$f":"IF(BF13<=$C$4,SUMIF('Abandoned Data Inputs'!$E$4:$E$145,\"Flooded\",'Abandoned Data Inputs'!CA4:CA145),0)","v":0},{"$f":"IF(BG13<=$C$4,SUMIF('Abandoned Data Inputs'!$E$4:$E$145,\"Flooded\",'Abandoned Data Inputs'!CB4:CB145),0)","v":0},{"$f":"IF(BH13<=$C$4,SUMIF('Abandoned Data Inputs'!$E$4:$E$145,\"Flooded\",'Abandoned Data Inputs'!CC4:CC145),0)","v":0},{"$f":"IF(BI13<=$C$4,SUMIF('Abandoned Data Inputs'!$E$4:$E$145,\"Flooded\",'Abandoned Data Inputs'!CD4:CD145),0)","v":0},{"$f":"IF(BJ13<=$C$4,SUMIF('Abandoned Data Inputs'!$E$4:$E$145,\"Flooded\",'Abandoned Data Inputs'!CE4:CE145),0)","v":0},{"$f":"IF(BK13<=$C$4,SUMIF('Abandoned Data Inputs'!$E$4:$E$145,\"Flooded\",'Abandoned Data Inputs'!CF4:CF145),0)","v":0},{"$f":"IF(BL13<=$C$4,SUMIF('Abandoned Data Inputs'!$E$4:$E$145,\"Flooded\",'Abandoned Data Inputs'!CG4:CG145),0)","v":0}]
[null,null,"Unknown",{"$f":"IF(D13<=$C$4,SUMIF('Abandoned Data Inputs'!$E$4:$E$168,\"Unknown\",'Abandoned Data Inputs'!Y4:Y168),0)","v":0},{"$f":"IF(E13<=$C$4,SUMIF('Abandoned Data Inputs'!$E$4:$E$168,\"Unknown\",'Abandoned Data Inputs'!Z4:Z168),0)","v":0},{"$f":"IF(F13<=$C$4,SUMIF('Abandoned Data Inputs'!$E$4:$E$168,\"Unknown\",'Abandoned Data Inputs'!AA4:AA168),0)","v":0},{"$f":"IF(G13<=$C$4,SUMIF('Abandoned Data Inputs'!$E$4:$E$168,\"Unknown\",'Abandoned Data Inputs'!AB4:AB168),0)","v":0},{"$f":"IF(H13<=$C$4,SUMIF('Abandoned Data Inputs'!$E$4:$E$168,\"Unknown\",'Abandoned Data Inputs'!AC4:AC168),0)","v":0},{"$f":"IF(I13<=$C$4,SUMIF('Abandoned Data Inputs'!$E$4:$E$168,\"Unknown\",'Abandoned Data Inputs'!AD4:AD168),0)","v":0},{"$f":"IF(J13<=$C$4,SUMIF('Abandoned Data Inputs'!$E$4:$E$168,\"Unknown\",'Abandoned Data Inputs'!AE4:AE168),0)","v":0},{"$f":"IF(K13<=$C$4,SUMIF('Abandoned Data Inputs'!$E$4:$E$168,\"Unknown\",'Abandoned Data Inputs'!AF4:AF168),0)","v":0},{"$f":"IF(L13<=$C$4,SUMIF('Abandoned Data Inputs'!$E$4:$E$168,\"Unknown\",'Abandoned Data Inputs'!AG4:AG168),0)","v":0},{"$f":"IF(M13<=$C$4,SUMIF('Abandoned Data Inputs'!$E$4:$E$168,\"Unknown\",'Abandoned Data Inputs'!AH4:AH168),0)","v":0},{"$f":"IF(N13<=$C$4,SUMIF('Abandoned Data Inputs'!$E$4:$E$168,\"Unknown\",'Abandoned Data Inputs'!AI4:AI168),0)","v":0},{"$f":"IF(O13<=$C$4,SUMIF('Abandoned Data Inputs'!$E$4:$E$168,\"Unknown\",'Abandoned Data Inputs'!AJ4:AJ168),0)","v":0},{"$f":"IF(P13<=$C$4,SUMIF('Abandoned Data Inputs'!$E$4:$E$168,\"Unknown\",'Abandoned Data Inputs'!AK4:AK168),0)","v":0},{"$f":"IF(Q13<=$C$4,SUMIF('Abandoned Data Inputs'!$E$4:$E$168,\"Unknown\",'Abandoned Data Inputs'!AL4:AL168),0)","v":0},{"$f":"IF(R13<=$C$4,SUMIF('Abandoned Data Inputs'!$E$4:$E$168,\"Unknown\",'Abandoned Data Inputs'!AM4:AM168),0)","v":0},{"$f":"IF(S13<=$C$4,SUMIF('Abandoned Data Inputs'!$E$4:$E$168,\"Unknown\",'Abandoned Data Inputs'!AN4:AN168),0)","v":0},{"$f":"IF(T13<=$C$4,SUMIF('Abandoned Data Inputs'!$E$4:$E$168,\"Unknown\",'Abandoned Data Inputs'!AO4:AO168),0)","v":0},{"$f":"IF(U13<=$C$4,SUMIF('Abandoned Data Inputs'!$E$4:$E$168,\"Unknown\",'Abandoned Data Inputs'!AP4:AP168),0)","v":0},{"$f":"IF(V13<=$C$4,SUMIF('Abandoned Data Inputs'!$E$4:$E$168,\"Unknown\",'Abandoned Data Inputs'!AQ4:AQ168),0)","v":0},{"$f":"IF(W13<=$C$4,SUMIF('Abandoned Data Inputs'!$E$4:$E$168,\"Unknown\",'Abandoned Data Inputs'!AR4:AR168),0)","v":0},{"$f":"IF(X13<=$C$4,SUMIF('Abandoned Data Inputs'!$E$4:$E$168,\"Unknown\",'Abandoned Data Inputs'!AS4:AS168),0)","v":0},{"$f":"IF(Y13<=$C$4,SUMIF('Abandoned Data Inputs'!$E$4:$E$168,\"Unknown\",'Abandoned Data Inputs'!AT4:AT168),0)","v":0},{"$f":"IF(Z13<=$C$4,SUMIF('Abandoned Data Inputs'!$E$4:$E$168,\"Unknown\",'Abandoned Data Inputs'!AU4:AU168),0)","v":0},{"$f":"IF(AA13<=$C$4,SUMIF('Abandoned Data Inputs'!$E$4:$E$168,\"Unknown\",'Abandoned Data Inputs'!AV4:AV168),0)","v":0},{"$f":"IF(AB13<=$C$4,SUMIF('Abandoned Data Inputs'!$E$4:$E$168,\"Unknown\",'Abandoned Data Inputs'!AW4:AW168),0)","v":0},{"$f":"IF(AC13<=$C$4,SUMIF('Abandoned Data Inputs'!$E$4:$E$168,\"Unknown\",'Abandoned Data Inputs'!AX4:AX168),0)","v":0},{"$f":"IF(AD13<=$C$4,SUMIF('Abandoned Data Inputs'!$E$4:$E$168,\"Unknown\",'Abandoned Data Inputs'!AY4:AY168),0)","v":0},{"$f":"IF(AE13<=$C$4,SUMIF('Abandoned Data Inputs'!$E$4:$E$168,\"Unknown\",'Abandoned Data Inputs'!AZ4:AZ168),0)","v":0},{"$f":"IF(AF13<=$C$4,SUMIF('Abandoned Data Inputs'!$E$4:$E$168,\"Unknown\",'Abandoned Data Inputs'!BA4:BA168),0)","v":0},{"$f":"IF(AG13<=$C$4,SUMIF('Abandoned Data Inputs'!$E$4:$E$168,\"Unknown\",'Abandoned Data Inputs'!BB4:BB168),0)","v":0},{"$f":"IF(AH13<=$C$4,SUMIF('Abandoned Data Inputs'!$E$4:$E$168,\"Unknown\",'Abandoned Data Inputs'!BC4:BC168),0)","v":0},{"$f":"IF(AI13<=$C$4,SUMIF('Abandoned Data Inputs'!$E$4:$E$145,\"Unknown\",'Abandoned Data Inputs'!BD4:BD145),0)","v":0},{"$f":"IF(AJ13<=$C$4,SUMIF('Abandoned Data Inputs'!$E$4:$E$145,\"Unknown\",'Abandoned Data Inputs'!BE4:BE145),0)","v":0},{"$f":"IF(AK13<=$C$4,SUMIF('Abandoned Data Inputs'!$E$4:$E$145,\"Unknown\",'Abandoned Data Inputs'!BF4:BF145),0)","v":0},{"$f":"IF(AL13<=$C$4,SUMIF('Abandoned Data Inputs'!$E$4:$E$145,\"Unknown\",'Abandoned Data Inputs'!BG4:BG145),0)","v":0},{"$f":"IF(AM13<=$C$4,SUMIF('Abandoned Data Inputs'!$E$4:$E$145,\"Unknown\",'Abandoned Data Inputs'!BH4:BH145),0)","v":0},{"$f":"IF(AN13<=$C$4,SUMIF('Abandoned Data Inputs'!$E$4:$E$145,\"Unknown\",'Abandoned Data Inputs'!BI4:BI145),0)","v":0},{"$f":"IF(AO13<=$C$4,SUMIF('Abandoned Data Inputs'!$E$4:$E$145,\"Unknown\",'Abandoned Data Inputs'!BJ4:BJ145),0)","v":0},{"$f":"IF(AP13<=$C$4,SUMIF('Abandoned Data Inputs'!$E$4:$E$145,\"Unknown\",'Abandoned Data Inputs'!BK4:BK145),0)","v":0},{"$f":"IF(AQ13<=$C$4,SUMIF('Abandoned Data Inputs'!$E$4:$E$145,\"Unknown\",'Abandoned Data Inputs'!BL4:BL145),0)","v":0},{"$f":"IF(AR13<=$C$4,SUMIF('Abandoned Data Inputs'!$E$4:$E$145,\"Unknown\",'Abandoned Data Inputs'!BM4:BM145),0)","v":0},{"$f":"IF(AS13<=$C$4,SUMIF('Abandoned Data Inputs'!$E$4:$E$145,\"Unknown\",'Abandoned Data Inputs'!BN4:BN145),0)","v":0},{"$f":"IF(AT13<=$C$4,SUMIF('Abandoned Data Inputs'!$E$4:$E$145,\"Unknown\",'Abandoned Data Inputs'!BO4:BO145),0)","v":0},{"$f":"IF(AU13<=$C$4,SUMIF('Abandoned Data Inputs'!$E$4:$E$145,\"Unknown\",'Abandoned Data Inputs'!BP4:BP145),0)","v":0},{"$f":"IF(AV13<=$C$4,SUMIF('Abandoned Data Inputs'!$E$4:$E$145,\"Unknown\",'Abandoned Data Inputs'!BQ4:BQ145),0)","v":0},{"$f":"IF(AW13<=$C$4,SUMIF('Abandoned Data Inputs'!$E$4:$E$145,\"Unknown\",'Abandoned Data Inputs'!BR4:BR145),0)","v":0},{"$f":"IF(AX13<=$C$4,SUMIF('Abandoned Data Inputs'!$E$4:$E$145,\"Unknown\",'Abandoned Data Inputs'!BS4:BS145),0)","v":0},{"$f":"IF(AY13<=$C$4,SUMIF('Abandoned Data Inputs'!$E$4:$E$145,\"Unknown\",'Abandoned Data Inputs'!BT4:BT145),0)","v":0},{"$f":"IF(AZ13<=$C$4,SUMIF('Abandoned Data Inputs'!$E$4:$E$145,\"Unknown\",'Abandoned Data Inputs'!BU4:BU145),0)","v":0},{"$f":"IF(BA13<=$C$4,SUMIF('Abandoned Data Inputs'!$E$4:$E$145,\"Unknown\",'Abandoned Data Inputs'!BV4:BV145),0)","v":0},{"$f":"IF(BB13<=$C$4,SUMIF('Abandoned Data Inputs'!$E$4:$E$145,\"Unknown\",'Abandoned Data Inputs'!BW4:BW145),0)","v":0},{"$f":"IF(BC13<=$C$4,SUMIF('Abandoned Data Inputs'!$E$4:$E$145,\"Unknown\",'Abandoned Data Inputs'!BX4:BX145),0)","v":0},{"$f":"IF(BD13<=$C$4,SUMIF('Abandoned Data Inputs'!$E$4:$E$145,\"Unknown\",'Abandoned Data Inputs'!BY4:BY145),0)","v":0},{"$f":"IF(BE13<=$C$4,SUMIF('Abandoned Data Inputs'!$E$4:$E$145,\"Unknown\",'Abandoned Data Inputs'!BZ4:BZ145),0)","v":0},{"$f":"IF(BF13<=$C$4,SUMIF('Abandoned Data Inputs'!$E$4:$E$145,\"Unknown\",'Abandoned Data Inputs'!CA4:CA145),0)","v":0},{"$f":"IF(BG13<=$C$4,SUMIF('Abandoned Data Inputs'!$E$4:$E$145,\"Unknown\",'Abandoned Data Inputs'!CB4:CB145),0)","v":0},{"$f":"IF(BH13<=$C$4,SUMIF('Abandoned Data Inputs'!$E$4:$E$145,\"Unknown\",'Abandoned Data Inputs'!CC4:CC145),0)","v":0},{"$f":"IF(BI13<=$C$4,SUMIF('Abandoned Data Inputs'!$E$4:$E$145,\"Unknown\",'Abandoned Data Inputs'!CD4:CD145),0)","v":0},{"$f":"IF(BJ13<=$C$4,SUMIF('Abandoned Data Inputs'!$E$4:$E$145,\"Unknown\",'Abandoned Data Inputs'!CE4:CE145),0)","v":0},{"$f":"IF(BK13<=$C$4,SUMIF('Abandoned Data Inputs'!$E$4:$E$145,\"Unknown\",'Abandoned Data Inputs'!CF4:CF145),0)","v":0},{"$f":"IF(BL13<=$C$4,SUMIF('Abandoned Data Inputs'!$E$4:$E$145,\"Unknown\",'Abandoned Data Inputs'!CG4:CG145),0)","v":0}]
[]
[null,"Mine Status (with Unknown Distributed)"]
[null,"Emissions (MTCO2E/Year)",null,1990,1991,1992,1993,1994,1995,1996,1997,1998,1999,2000,2001,2002,2003,2004,2005,2006,2007,2008,2009,2010,2011,2012,2013,2014,2015,2016,2017,2018,2019,2020,{"$f":"AH20+1","v":2021},{"$f":"AI20+1","v":2022},2023,2024,2025,2026,2027,2028,2029,2030,2031,2032,2033,2034,2035,2036,2037,2038,2039,2040,2041,2042,2043,2044,2045,2046,2047,2048,2049,2050]
[null,null,"Vented",{"$f":"IF(ISERROR((D27)*1000*CH4GWP),\"-\",(D27)*1000*CH4GWP)","v":"-"},{"$f":"IF(ISERROR((E27)*1000*CH4GWP),\"-\",(E27)*1000*CH4GWP)","v":"-"},"-","-","-","-","-","-","-","-","-","-","-","-","-","-","-","-","-","-","-","-","-",{"$f":"IF(ISERROR((AA27)*1000*CH4GWP),\"-\",(AA27)*1000*CH4GWP)","v":"-"},"-","-","-","-","-","-","-",{"$f":"IF(ISERROR((AI27)*1000*CH4GWP),\"-\",(AI27)*1000*CH4GWP)","v":"-"},"-","-","-","-","-","-","-","-","-","-","-","-","-","-","-","-","-","-","-","-","-","-","-","-","-","-","-","-","-"]
[null,null,"Sealed",{"$f":"IF(ISERROR((D28)*1000*CH4GWP),\"-\",(D28)*1000*CH4GWP)","v":"-"},{"$f":"IF(ISERROR((E28)*1000*CH4GWP),\"-\",(E28)*1000*CH4GWP)","v":"-"},"-","-","-","-","-","-","-","-","-","-","-","-","-","-","-","-","-","-","-","-","-",{"$f":"IF(ISERROR((AA28)*1000*CH4GWP),\"-\",(AA28)*1000*CH4GWP)","v":"-"},{"$f":"IF(ISERROR((AB28)*1000*CH4GWP),\"-\",(AB28)*1000*CH4GWP)","v":"-"},"-","-","-","-","-","-",{"$f":"IF(ISERROR((AI28)*1000*CH4GWP),\"-\",(AI28)*1000*CH4GWP)","v":"-"},"-","-","-","-","-","-","-","-","-","-","-","-","-","-","-","-","-","-","-","-","-","-","-","-","-","-","-","-","-"]
[null,null,"Flooded",{"$f":"IF(ISERROR((D29)*1000*CH4GWP),\"-\",(D29)*1000*CH4GWP)","v":"-"},{"$f":"IF(ISERROR((E29)*1000*CH4GWP),\"-\",(E29)*1000*CH4GWP)","v":"-"},"-","-","-","-","-","-","-","-","-","-","-","-","-","-","-","-","-","-","-","-","-",{"$f":"IF(ISERROR((AA29)*1000*CH4GWP),\"-\",(AA29)*1000*CH4GWP)","v":"-"},"-","-","-","-","-","-","-",{"$f":"IF(ISERROR((AI29)*1000*CH4GWP),\"-\",(AI29)*1000*CH4GWP)","v":"-"},"-","-","-","-","-","-","-","-","-","-","-","-","-","-","-","-","-","-","-","-","-","-","-","-","-","-","-","-","-"]
[null,null,"Total",{"$f":"SUM(D21:D23)","v":0},{"$f":"SUM(E21:E23)","v":0},0,0,0,0,0,0,0,0,0,0,0,0,0,0,{"$f":"SUM(T21:T23)","v":0},0,0,0,0,0,0,0,0,0,0,0,0,0,0,{"$f":"SUM(AI21:AI23)","v":0},0,0,0,0,0,0,0,0,0,0,0,0,0,0,0,0,0,0,0,0,0,0,0,0,0,0,0,0,0]
[]
[null,"Emissions (Gg CH4/Year)",null,1990,1991,1992,1993,1994,1995,1996,1997,1998,1999,2000,2001,2002,2003,2004,2005,2006,2007,2008,2009,2010,2011,2012,2013,2014,2015,2016,2017,2018,2019,2020,2020,2020,2020,2020,2020,2020,2020,2020,2020,2020,2020,2020,2020,2020,2020,2020,2020,2020,2020,2020,2020,2020,2020,2020,2020,2020,2020,2020,2020,2020]
[null,null,"Vented",{"$f":"(D17*'Abandoned Data Inputs'!$U$4)+'Summary Abandoned Coal Mines'!D14","v":{"$error":"#N/A"}},{"$f":"(E17*'Abandoned Data Inputs'!$U$4)+'Summary Abandoned Coal Mines'!E14","v":{"$error":"#N/A"}},{"$f":"(F17*'Abandoned Data Inputs'!$U$4)+'Summary Abandoned Coal Mines'!F14","v":{"$error":"#N/A"}},{"$f":"(G17*'Abandoned Data Inputs'!$U$4)+'Summary Abandoned Coal Mines'!G14","v":{"$error":"#N/A"}},{"$f":"(H17*'Abandoned Data Inputs'!$U$4)+'Summary Abandoned Coal Mines'!H14","v":{"$error":"#N/A"}},{"$f":"(I17*'Abandoned Data Inputs'!$U$4)+'Summary Abandoned Coal Mines'!I14","v":{"$error":"#N/A"}},{"$f":"(J17*'Abandoned Data Inputs'!$U$4)+'Summary Abandoned Coal Mines'!J14","v":{"$error":"#N/A"}},{"$f":"(K17*'Abandoned Data Inputs'!$U$4)+'Summary Abandoned Coal Mines'!K14","v":{"$error":"#N/A"}},{"$f":"(L17*'Abandoned Data Inputs'!$U$4)+'Summary Abandoned Coal Mines'!L14","v":{"$error":"#N/A"}},{"$f":"(M17*'Abandoned Data Inputs'!$U$4)+'Summary Abandoned Coal Mines'!M14","v":{"$error":"#N/A"}},{"$f":"(N17*'Abandoned Data Inputs'!$U$4)+'Summary Abandoned Coal Mines'!N14","v":{"$error":"#N/A"}},{"$f":"(O17*'Abandoned Data Inputs'!$U$4)+'Summary Abandoned Coal Mines'!O14","v":{"$error":"#N/A"}},{"$f":"(P17*'Abandoned Data Inputs'!$U$4)+'Summary Abandoned Coal Mines'!P14","v":{"$error":"#N/A"}},{"$f":"(Q17*'Abandoned Data Inputs'!$U$4)+'Summary Abandoned Coal Mines'!Q14","v":{"$error":"#N/A"}},{"$f":"(R17*'Abandoned Data Inputs'!$U$4)+'Summary Abandoned Coal Mines'!R14","v":{"$error":"#N/A"}},{"$f":"(S17*'Abandoned Data Inputs'!$U$4)+'Summary Abandoned Coal Mines'!S14","v":{"$error":"#N/A"}},{"$f":"(T17*'Abandoned Data Inputs'!$U$4)+'Summary Abandoned Coal Mines'!T14","v":{"$error":"#N/A"}},{"$f":"(U17*'Abandoned Data Inputs'!$U$4)+'Summary Abandoned Coal Mines'!U14","v":{"$error":"#N/A"}},{"$f":"(V17*'Abandoned Data Inputs'!$U$4)+'Summary Abandoned Coal Mines'!V14","v":{"$error":"#N/A"}},{"$f":"(W17*'Abandoned Data Inputs'!$U$4)+'Summary Abandoned Coal Mines'!W14","v":{"$error":"#N/A"}},{"$f":"(X17*'Abandoned Data Inputs'!$U$4)+'Summary Abandoned Coal Mines'!X14","v":{"$error":"#N/A"}},{"$f":"(Y17*'Abandoned Data Inputs'!$U$4)+'Summary Abandoned Coal Mines'!Y14","v":{"$error":"#N/A"}},{"$f":"(Z17*'Abandoned Data Inputs'!$U$4)+'Summary Abandoned Coal Mines'!Z14","v":{"$error":"#N/A"}},{"$f":"(AA17*'Abandoned Data Inputs'!$U$4)+'Summary Abandoned Coal Mines'!AA14","v":{"$error":"#N/A"}},{"$f":"(AB17*'Abandoned Data Inputs'!$U$4)+'Summary Abandoned Coal Mines'!AB14","v":{"$error":"#N/A"}},{"$f":"(AC17*'Abandoned Data Inputs'!$U$4)+'Summary Abandoned Coal Mines'!AC14","v":{"$error":"#N/A"}},{"$f":"(AD17*'Abandoned Data Inputs'!$U$4)+'Summary Abandoned Coal Mines'!AD14","v":{"$error":"#N/A"}},{"$f":"(AE17*'Abandoned Data Inputs'!$U$4)+'Summary Abandoned Coal Mines'!AE14","v":{"$error":"#N/A"}},{"$f":"(AF17*'Abandoned Data Inputs'!$U$4)+'Summary Abandoned Coal Mines'!AF14","v":{"$error":"#N/A"}},{"$f":"(AG17*'Abandoned Data Inputs'!$U$4)+'Summary Abandoned Coal Mines'!AG14","v":{"$error":"#N/A"}},{"$f":"(AH17*'Abandoned Data Inputs'!$U$4)+'Summary Abandoned Coal Mines'!AH14","v":{"$error":"#N/A"}},{"$f":"(AI17*'Abandoned Data Inputs'!$U$4)+'Summary Abandoned Coal Mines'!AI14","v":{"$error":"#N/A"}},{"$f":"(AJ17*'Abandoned Data Inputs'!$U$4)+'Summary Abandoned Coal Mines'!AJ14","v":{"$error":"#N/A"}},{"$f":"(AK17*'Abandoned Data Inputs'!$U$4)+'Summary Abandoned Coal Mines'!AK14","v":{"$error":"#N/A"}},{"$f":"(AL17*'Abandoned Data Inputs'!$U$4)+'Summary Abandoned Coal Mines'!AL14","v":{"$error":"#N/A"}},{"$f":"(AM17*'Abandoned Data Inputs'!$U$4)+'Summary Abandoned Coal Mines'!AM14","v":{"$error":"#N/A"}},{"$f":"(AN17*'Abandoned Data Inputs'!$U$4)+'Summary Abandoned Coal Mines'!AN14","v":{"$error":"#N/A"}},{"$f":"(AO17*'Abandoned Data Inputs'!$U$4)+'Summary Abandoned Coal Mines'!AO14","v":{"$error":"#N/A"}},{"$f":"(AP17*'Abandoned Data Inputs'!$U$4)+'Summary Abandoned Coal Mines'!AP14","v":{"$error":"#N/A"}},{"$f":"(AQ17*'Abandoned Data Inputs'!$U$4)+'Summary Abandoned Coal Mines'!AQ14","v":{"$error":"#N/A"}},{"$f":"(AR17*'Abandoned Data Inputs'!$U$4)+'Summary Abandoned Coal Mines'!AR14","v":{"$error":"#N/A"}},{"$f":"(AS17*'Abandoned Data Inputs'!$U$4)+'Summary Abandoned Coal Mines'!AS14","v":{"$error":"#N/A"}},{"$f":"(AT17*'Abandoned Data Inputs'!$U$4)+'Summary Abandoned Coal Mines'!AT14","v":{"$error":"#N/A"}},{"$f":"(AU17*'Abandoned Data Inputs'!$U$4)+'Summary Abandoned Coal Mines'!AU14","v":{"$error":"#N/A"}},{"$f":"(AV17*'Abandoned Data Inputs'!$U$4)+'Summary Abandoned Coal Mines'!AV14","v":{"$error":"#N/A"}},{"$f":"(AW17*'Abandoned Data Inputs'!$U$4)+'Summary Abandoned Coal Mines'!AW14","v":{"$error":"#N/A"}},{"$f":"(AX17*'Abandoned Data Inputs'!$U$4)+'Summary Abandoned Coal Mines'!AX14","v":{"$error":"#N/A"}},{"$f":"(AY17*'Abandoned Data Inputs'!$U$4)+'Summary Abandoned Coal Mines'!AY14","v":{"$error":"#N/A"}},{"$f":"(AZ17*'Abandoned Data Inputs'!$U$4)+'Summary Abandoned Coal Mines'!AZ14","v":{"$error":"#N/A"}},{"$f":"(BA17*'Abandoned Data Inputs'!$U$4)+'Summary Abandoned Coal Mines'!BA14","v":{"$error":"#N/A"}},{"$f":"(BB17*'Abandoned Data Inputs'!$U$4)+'Summary Abandoned Coal Mines'!BB14","v":{"$error":"#N/A"}},{"$f":"(BC17*'Abandoned Data Inputs'!$U$4)+'Summary Abandoned Coal Mines'!BC14","v":{"$error":"#N/A"}},{"$f":"(BD17*'Abandoned Data Inputs'!$U$4)+'Summary Abandoned Coal Mines'!BD14","v":{"$error":"#N/A"}},{"$f":"(BE17*'Abandoned Data Inputs'!$U$4)+'Summary Abandoned Coal Mines'!BE14","v":{"$error":"#N/A"}},{"$f":"(BF17*'Abandoned Data Inputs'!$U$4)+'Summary Abandoned Coal Mines'!BF14","v":{"$error":"#N/A"}},{"$f":"(BG17*'Abandoned Data Inputs'!$U$4)+'Summary Abandoned Coal Mines'!BG14","v":{"$error":"#N/A"}},{"$f":"(BH17*'Abandoned Data Inputs'!$U$4)+'Summary Abandoned Coal Mines'!BH14","v":{"$error":"#N/A"}},{"$f":"(BI17*'Abandoned Data Inputs'!$U$4)+'Summary Abandoned Coal Mines'!BI14","v":{"$error":"#N/A"}},{"$f":"(BJ17*'Abandoned Data Inputs'!$U$4)+'Summary Abandoned Coal Mines'!BJ14","v":{"$error":"#N/A"}},{"$f":"(BK17*'Abandoned Data Inputs'!$U$4)+'Summary Abandoned Coal Mines'!BK14","v":{"$error":"#N/A"}},{"$f":"(BL17*'Abandoned Data Inputs'!$U$4)+'Summary Abandoned Coal Mines'!BL14","v":{"$error":"#N/A"}}]
[null,null,"Sealed",{"$f":"(D17*'Abandoned Data Inputs'!$V$4)+'Summary Abandoned Coal Mines'!D15","v":{"$error":"#N/A"}},{"$f":"(E17*'Abandoned Data Inputs'!$V$4)+'Summary Abandoned Coal Mines'!E15","v":{"$error":"#N/A"}},{"$f":"(F17*'Abandoned Data Inputs'!$V$4)+'Summary Abandoned Coal Mines'!F15","v":{"$error":"#N/A"}},{"$f":"(G17*'Abandoned Data Inputs'!$V$4)+'Summary Abandoned Coal Mines'!G15","v":{"$error":"#N/A"}},{"$f":"(H17*'Abandoned Data Inputs'!$V$4)+'Summary Abandoned Coal Mines'!H15","v":{"$error":"#N/A"}},{"$f":"(I17*'Abandoned Data Inputs'!$V$4)+'Summary Abandoned Coal Mines'!I15","v":{"$error":"#N/A"}},{"$f":"(J17*'Abandoned Data Inputs'!$V$4)+'Summary Abandoned Coal Mines'!J15","v":{"$error":"#N/A"}},{"$f":"(K17*'Abandoned Data Inputs'!$V$4)+'Summary Abandoned Coal Mines'!K15","v":{"$error":"#N/A"}},{"$f":"(L17*'Abandoned Data Inputs'!$V$4)+'Summary Abandoned Coal Mines'!L15","v":{"$error":"#N/A"}},{"$f":"(M17*'Abandoned Data Inputs'!$V$4)+'Summary Abandoned Coal Mines'!M15","v":{"$error":"#N/A"}},{"$f":"(N17*'Abandoned Data Inputs'!$V$4)+'Summary Abandoned Coal Mines'!N15","v":{"$error":"#N/A"}},{"$f":"(O17*'Abandoned Data Inputs'!$V$4)+'Summary Abandoned Coal Mines'!O15","v":{"$error":"#N/A"}},{"$f":"(P17*'Abandoned Data Inputs'!$V$4)+'Summary Abandoned Coal Mines'!P15","v":{"$error":"#N/A"}},{"$f":"(Q17*'Abandoned Data Inputs'!$V$4)+'Summary Abandoned Coal Mines'!Q15","v":{"$error":"#N/A"}},{"$f":"(R17*'Abandoned Data Inputs'!$V$4)+'Summary Abandoned Coal Mines'!R15","v":{"$error":"#N/A"}},{"$f":"(S17*'Abandoned Data Inputs'!$V$4)+'Summary Abandoned Coal Mines'!S15","v":{"$error":"#N/A"}},{"$f":"(T17*'Abandoned Data Inputs'!$V$4)+'Summary Abandoned Coal Mines'!T15","v":{"$error":"#N/A"}},{"$f":"(U17*'Abandoned Data Inputs'!$V$4)+'Summary Abandoned Coal Mines'!U15","v":{"$error":"#N/A"}},{"$f":"(V17*'Abandoned Data Inputs'!$V$4)+'Summary Abandoned Coal Mines'!V15","v":{"$error":"#N/A"}},{"$f":"(W17*'Abandoned Data Inputs'!$V$4)+'Summary Abandoned Coal Mines'!W15","v":{"$error":"#N/A"}},{"$f":"(X17*'Abandoned Data Inputs'!$V$4)+'Summary Abandoned Coal Mines'!X15","v":{"$error":"#N/A"}},{"$f":"(Y17*'Abandoned Data Inputs'!$V$4)+'Summary Abandoned Coal Mines'!Y15","v":{"$error":"#N/A"}},{"$f":"(Z17*'Abandoned Data Inputs'!$V$4)+'Summary Abandoned Coal Mines'!Z15","v":{"$error":"#N/A"}},{"$f":"(AA17*'Abandoned Data Inputs'!$V$4)+'Summary Abandoned Coal Mines'!AA15","v":{"$error":"#N/A"}},{"$f":"(AB17*'Abandoned Data Inputs'!$V$4)+'Summary Abandoned Coal Mines'!AB15","v":{"$error":"#N/A"}},{"$f":"(AC17*'Abandoned Data Inputs'!$V$4)+'Summary Abandoned Coal Mines'!AC15","v":{"$error":"#N/A"}},{"$f":"(AD17*'Abandoned Data Inputs'!$V$4)+'Summary Abandoned Coal Mines'!AD15","v":{"$error":"#N/A"}},{"$f":"(AE17*'Abandoned Data Inputs'!$V$4)+'Summary Abandoned Coal Mines'!AE15","v":{"$error":"#N/A"}},{"$f":"(AF17*'Abandoned Data Inputs'!$V$4)+'Summary Abandoned Coal Mines'!AF15","v":{"$error":"#N/A"}},{"$f":"(AG17*'Abandoned Data Inputs'!$V$4)+'Summary Abandoned Coal Mines'!AG15","v":{"$error":"#N/A"}},{"$f":"(AH17*'Abandoned Data Inputs'!$V$4)+'Summary Abandoned Coal Mines'!AH15","v":{"$error":"#N/A"}},{"$f":"(AI17*'Abandoned Data Inputs'!$V$4)+'Summary Abandoned Coal Mines'!AI15","v":{"$error":"#N/A"}},{"$f":"(AJ17*'Abandoned Data Inputs'!$V$4)+'Summary Abandoned Coal Mines'!AJ15","v":{"$error":"#N/A"}},{"$f":"(AK17*'Abandoned Data Inputs'!$V$4)+'Summary Abandoned Coal Mines'!AK15","v":{"$error":"#N/A"}},{"$f":"(AL17*'Abandoned Data Inputs'!$V$4)+'Summary Abandoned Coal Mines'!AL15","v":{"$error":"#N/A"}},{"$f":"(AM17*'Abandoned Data Inputs'!$V$4)+'Summary Abandoned Coal Mines'!AM15","v":{"$error":"#N/A"}},{"$f":"(AN17*'Abandoned Data Inputs'!$V$4)+'Summary Abandoned Coal Mines'!AN15","v":{"$error":"#N/A"}},{"$f":"(AO17*'Abandoned Data Inputs'!$V$4)+'Summary Abandoned Coal Mines'!AO15","v":{"$error":"#N/A"}},{"$f":"(AP17*'Abandoned Data Inputs'!$V$4)+'Summary Abandoned Coal Mines'!AP15","v":{"$error":"#N/A"}},{"$f":"(AQ17*'Abandoned Data Inputs'!$V$4)+'Summary Abandoned Coal Mines'!AQ15","v":{"$error":"#N/A"}},{"$f":"(AR17*'Abandoned Data Inputs'!$V$4)+'Summary Abandoned Coal Mines'!AR15","v":{"$error":"#N/A"}},{"$f":"(AS17*'Abandoned Data Inputs'!$V$4)+'Summary Abandoned Coal Mines'!AS15","v":{"$error":"#N/A"}},{"$f":"(AT17*'Abandoned Data Inputs'!$V$4)+'Summary Abandoned Coal Mines'!AT15","v":{"$error":"#N/A"}},{"$f":"(AU17*'Abandoned Data Inputs'!$V$4)+'Summary Abandoned Coal Mines'!AU15","v":{"$error":"#N/A"}},{"$f":"(AV17*'Abandoned Data Inputs'!$V$4)+'Summary Abandoned Coal Mines'!AV15","v":{"$error":"#N/A"}},{"$f":"(AW17*'Abandoned Data Inputs'!$V$4)+'Summary Abandoned Coal Mines'!AW15","v":{"$error":"#N/A"}},{"$f":"(AX17*'Abandoned Data Inputs'!$V$4)+'Summary Abandoned Coal Mines'!AX15","v":{"$error":"#N/A"}},{"$f":"(AY17*'Abandoned Data Inputs'!$V$4)+'Summary Abandoned Coal Mines'!AY15","v":{"$error":"#N/A"}},{"$f":"(AZ17*'Abandoned Data Inputs'!$V$4)+'Summary Abandoned Coal Mines'!AZ15","v":{"$error":"#N/A"}},{"$f":"(BA17*'Abandoned Data Inputs'!$V$4)+'Summary Abandoned Coal Mines'!BA15","v":{"$error":"#N/A"}},{"$f":"(BB17*'Abandoned Data Inputs'!$V$4)+'Summary Abandoned Coal Mines'!BB15","v":{"$error":"#N/A"}},{"$f":"(BC17*'Abandoned Data Inputs'!$V$4)+'Summary Abandoned Coal Mines'!BC15","v":{"$error":"#N/A"}},{"$f":"(BD17*'Abandoned Data Inputs'!$V$4)+'Summary Abandoned Coal Mines'!BD15","v":{"$error":"#N/A"}},{"$f":"(BE17*'Abandoned Data Inputs'!$V$4)+'Summary Abandoned Coal Mines'!BE15","v":{"$error":"#N/A"}},{"$f":"(BF17*'Abandoned Data Inputs'!$V$4)+'Summary Abandoned Coal Mines'!BF15","v":{"$error":"#N/A"}},{"$f":"(BG17*'Abandoned Data Inputs'!$V$4)+'Summary Abandoned Coal Mines'!BG15","v":{"$error":"#N/A"}},{"$f":"(BH17*'Abandoned Data Inputs'!$V$4)+'Summary Abandoned Coal Mines'!BH15","v":{"$error":"#N/A"}},{"$f":"(BI17*'Abandoned Data Inputs'!$V$4)+'Summary Abandoned Coal Mines'!BI15","v":{"$error":"#N/A"}},{"$f":"(BJ17*'Abandoned Data Inputs'!$V$4)+'Summary Abandoned Coal Mines'!BJ15","v":{"$error":"#N/A"}},{"$f":"(BK17*'Abandoned Data Inputs'!$V$4)+'Summary Abandoned Coal Mines'!BK15","v":{"$error":"#N/A"}},{"$f":"(BL17*'Abandoned Data Inputs'!$V$4)+'Summary Abandoned Coal Mines'!BL15","v":{"$error":"#N/A"}}]
[null,null,"Flooded",{"$f":"(D17*'Abandoned Data Inputs'!$T$4)+'Summary Abandoned Coal Mines'!D16","v":{"$error":"#N/A"}},{"$f":"(E17*'Abandoned Data Inputs'!$T$4)+'Summary Abandoned Coal Mines'!E16","v":{"$error":"#N/A"}},{"$f":"(F17*'Abandoned Data Inputs'!$T$4)+'Summary Abandoned Coal Mines'!F16","v":{"$error":"#N/A"}},{"$f":"(G17*'Abandoned Data Inputs'!$T$4)+'Summary Abandoned Coal Mines'!G16","v":{"$error":"#N/A"}},{"$f":"(H17*'Abandoned Data Inputs'!$T$4)+'Summary Abandoned Coal Mines'!H16","v":{"$error":"#N/A"}},{"$f":"(I17*'Abandoned Data Inputs'!$T$4)+'Summary Abandoned Coal Mines'!I16","v":{"$error":"#N/A"}},{"$f":"(J17*'Abandoned Data Inputs'!$T$4)+'Summary Abandoned Coal Mines'!J16","v":{"$error":"#N/A"}},{"$f":"(K17*'Abandoned Data Inputs'!$T$4)+'Summary Abandoned Coal Mines'!K16","v":{"$error":"#N/A"}},{"$f":"(L17*'Abandoned Data Inputs'!$T$4)+'Summary Abandoned Coal Mines'!L16","v":{"$error":"#N/A"}},{"$f":"(M17*'Abandoned Data Inputs'!$T$4)+'Summary Abandoned Coal Mines'!M16","v":{"$error":"#N/A"}},{"$f":"(N17*'Abandoned Data Inputs'!$T$4)+'Summary Abandoned Coal Mines'!N16","v":{"$error":"#N/A"}},{"$f":"(O17*'Abandoned Data Inputs'!$T$4)+'Summary Abandoned Coal Mines'!O16","v":{"$error":"#N/A"}},{"$f":"(P17*'Abandoned Data Inputs'!$T$4)+'Summary Abandoned Coal Mines'!P16","v":{"$error":"#N/A"}},{"$f":"(Q17*'Abandoned Data Inputs'!$T$4)+'Summary Abandoned Coal Mines'!Q16","v":{"$error":"#N/A"}},{"$f":"(R17*'Abandoned Data Inputs'!$T$4)+'Summary Abandoned Coal Mines'!R16","v":{"$error":"#N/A"}},{"$f":"(S17*'Abandoned Data Inputs'!$T$4)+'Summary Abandoned Coal Mines'!S16","v":{"$error":"#N/A"}},{"$f":"(T17*'Abandoned Data Inputs'!$T$4)+'Summary Abandoned Coal Mines'!T16","v":{"$error":"#N/A"}},{"$f":"(U17*'Abandoned Data Inputs'!$T$4)+'Summary Abandoned Coal Mines'!U16","v":{"$error":"#N/A"}},{"$f":"(V17*'Abandoned Data Inputs'!$T$4)+'Summary Abandoned Coal Mines'!V16","v":{"$error":"#N/A"}},{"$f":"(W17*'Abandoned Data Inputs'!$T$4)+'Summary Abandoned Coal Mines'!W16","v":{"$error":"#N/A"}},{"$f":"(X17*'Abandoned Data Inputs'!$T$4)+'Summary Abandoned Coal Mines'!X16","v":{"$error":"#N/A"}},{"$f":"(Y17*'Abandoned Data Inputs'!$T$4)+'Summary Abandoned Coal Mines'!Y16","v":{"$error":"#N/A"}},{"$f":"(Z17*'Abandoned Data Inputs'!$T$4)+'Summary Abandoned Coal Mines'!Z16","v":{"$error":"#N/A"}},{"$f":"(AA17*'Abandoned Data Inputs'!$T$4)+'Summary Abandoned Coal Mines'!AA16","v":{"$error":"#N/A"}},{"$f":"(AB17*'Abandoned Data Inputs'!$T$4)+'Summary Abandoned Coal Mines'!AB16","v":{"$error":"#N/A"}},{"$f":"(AC17*'Abandoned Data Inputs'!$T$4)+'Summary Abandoned Coal Mines'!AC16","v":{"$error":"#N/A"}},{"$f":"(AD17*'Abandoned Data Inputs'!$T$4)+'Summary Abandoned Coal Mines'!AD16","v":{"$error":"#N/A"}},{"$f":"(AE17*'Abandoned Data Inputs'!$T$4)+'Summary Abandoned Coal Mines'!AE16","v":{"$error":"#N/A"}},{"$f":"(AF17*'Abandoned Data Inputs'!$T$4)+'Summary Abandoned Coal Mines'!AF16","v":{"$error":"#N/A"}},{"$f":"(AG17*'Abandoned Data Inputs'!$T$4)+'Summary Abandoned Coal Mines'!AG16","v":{"$error":"#N/A"}},{"$f":"(AH17*'Abandoned Data Inputs'!$T$4)+'Summary Abandoned Coal Mines'!AH16","v":{"$error":"#N/A"}},{"$f":"(AI17*'Abandoned Data Inputs'!$T$4)+'Summary Abandoned Coal Mines'!AI16","v":{"$error":"#N/A"}},{"$f":"(AJ17*'Abandoned Data Inputs'!$T$4)+'Summary Abandoned Coal Mines'!AJ16","v":{"$error":"#N/A"}},{"$f":"(AK17*'Abandoned Data Inputs'!$T$4)+'Summary Abandoned Coal Mines'!AK16","v":{"$error":"#N/A"}},{"$f":"(AL17*'Abandoned Data Inputs'!$T$4)+'Summary Abandoned Coal Mines'!AL16","v":{"$error":"#N/A"}},{"$f":"(AM17*'Abandoned Data Inputs'!$T$4)+'Summary Abandoned Coal Mines'!AM16","v":{"$error":"#N/A"}},{"$f":"(AN17*'Abandoned Data Inputs'!$T$4)+'Summary Abandoned Coal Mines'!AN16","v":{"$error":"#N/A"}},{"$f":"(AO17*'Abandoned Data Inputs'!$T$4)+'Summary Abandoned Coal Mines'!AO16","v":{"$error":"#N/A"}},{"$f":"(AP17*'Abandoned Data Inputs'!$T$4)+'Summary Abandoned Coal Mines'!AP16","v":{"$error":"#N/A"}},{"$f":"(AQ17*'Abandoned Data Inputs'!$T$4)+'Summary Abandoned Coal Mines'!AQ16","v":{"$error":"#N/A"}},{"$f":"(AR17*'Abandoned Data Inputs'!$T$4)+'Summary Abandoned Coal Mines'!AR16","v":{"$error":"#N/A"}},{"$f":"(AS17*'Abandoned Data Inputs'!$T$4)+'Summary Abandoned Coal Mines'!AS16","v":{"$error":"#N/A"}},{"$f":"(AT17*'Abandoned Data Inputs'!$T$4)+'Summary Abandoned Coal Mines'!AT16","v":{"$error":"#N/A"}},{"$f":"(AU17*'Abandoned Data Inputs'!$T$4)+'Summary Abandoned Coal Mines'!AU16","v":{"$error":"#N/A"}},{"$f":"(AV17*'Abandoned Data Inputs'!$T$4)+'Summary Abandoned Coal Mines'!AV16","v":{"$error":"#N/A"}},{"$f":"(AW17*'Abandoned Data Inputs'!$T$4)+'Summary Abandoned Coal Mines'!AW16","v":{"$error":"#N/A"}},{"$f":"(AX17*'Abandoned Data Inputs'!$T$4)+'Summary Abandoned Coal Mines'!AX16","v":{"$error":"#N/A"}},{"$f":"(AY17*'Abandoned Data Inputs'!$T$4)+'Summary Abandoned Coal Mines'!AY16","v":{"$error":"#N/A"}},{"$f":"(AZ17*'Abandoned Data Inputs'!$T$4)+'Summary Abandoned Coal Mines'!AZ16","v":{"$error":"#N/A"}},{"$f":"(BA17*'Abandoned Data Inputs'!$T$4)+'Summary Abandoned Coal Mines'!BA16","v":{"$error":"#N/A"}},{"$f":"(BB17*'Abandoned Data Inputs'!$T$4)+'Summary Abandoned Coal Mines'!BB16","v":{"$error":"#N/A"}},{"$f":"(BC17*'Abandoned Data Inputs'!$T$4)+'Summary Abandoned Coal Mines'!BC16","v":{"$error":"#N/A"}},{"$f":"(BD17*'Abandoned Data Inputs'!$T$4)+'Summary Abandoned Coal Mines'!BD16","v":{"$error":"#N/A"}},{"$f":"(BE17*'Abandoned Data Inputs'!$T$4)+'Summary Abandoned Coal Mines'!BE16","v":{"$error":"#N/A"}},{"$f":"(BF17*'Abandoned Data Inputs'!$T$4)+'Summary Abandoned Coal Mines'!BF16","v":{"$error":"#N/A"}},{"$f":"(BG17*'Abandoned Data Inputs'!$T$4)+'Summary Abandoned Coal Mines'!BG16","v":{"$error":"#N/A"}},{"$f":"(BH17*'Abandoned Data Inputs'!$T$4)+'Summary Abandoned Coal Mines'!BH16","v":{"$error":"#N/A"}},{"$f":"(BI17*'Abandoned Data Inputs'!$T$4)+'Summary Abandoned Coal Mines'!BI16","v":{"$error":"#N/A"}},{"$f":"(BJ17*'Abandoned Data Inputs'!$T$4)+'Summary Abandoned Coal Mines'!BJ16","v":{"$error":"#N/A"}},{"$f":"(BK17*'Abandoned Data Inputs'!$T$4)+'Summary Abandoned Coal Mines'!BK16","v":{"$error":"#N/A"}},{"$f":"(BL17*'Abandoned Data Inputs'!$T$4)+'Summary Abandoned Coal Mines'!BL16","v":{"$error":"#N/A"}}]
[]
[]
[null,"Summary of Emissions from Additional Abandoned Coal Mines"]
[]
[null,"Mine Status"]
[null,"Emissions (MTCO2E/Year)",null,1990,1991,1992,1993,1994,1995,1996,1997,1998,1999,2000,2001,2002,2003,2004,2005,2006,2007,2008,2009,2010,2011,2012,2013,2014,2015,2016,2017,2018,2019,2020,{"$f":"AH35+1","v":2021},{"$f":"AI35+1","v":2022},2023,2024,2025,2026,2027,2028,2029,2030,2031,2032,2033,2034,2035,2036,2037,2038,2039,2040,2041,2042,2043,2044,2045,2046,2047,2048,2049,2050]
[null,null,"Vented",{"$f":"D42*1000*CH4GWP","v":0},{"$f":"E42*1000*CH4GWP","v":0},0,0,0,0,0,0,0,0,0,0,0,0,0,0,0,0,0,0,0,0,0,0,0,0,0,0,0,0,0,{"$f":"AI42*1000*CH4GWP","v":0},0,0,0,0,0,0,0,0,0,0,0,0,0,0,0,0,0,0,0,0,0,0,0,0,0,0,0,0,0]
[null,null,"Sealed",{"$f":"D43*1000*CH4GWP","v":0},0,0,0,0,0,0,0,0,0,0,0,0,0,0,0,0,0,0,0,0,0,0,0,0,0,0,0,0,0,0,{"$f":"AI43*1000*CH4GWP","v":0},0,0,0,0,0,0,0,0,0,0,0,0,0,0,0,0,0,0,0,0,0,0,0,0,0,0,0,0,0]
[null,null,"Flooded",{"$f":"D44*1000*CH4GWP","v":0},0,0,0,0,0,0,0,0,0,0,0,0,0,0,0,{"$f":"T44*1000*CH4GWP","v":0},0,0,0,0,0,0,0,0,0,0,0,0,0,0,{"$f":"AI44*1000*CH4GWP","v":0},0,0,0,0,0,0,0,0,0,0,0,0,0,0,0,0,0,0,0,0,0,0,0,0,0,0,0,0,0]
[null,null,"Total",{"$f":"SUM(D36:D38)","v":0},0,0,0,0,0,0,0,0,0,0,0,0,0,0,0,{"$f":"SUM(T36:T38)","v":0},0,0,0,0,0,0,0,0,0,0,0,0,0,0,{"$f":"SUM(AI36:AI38)","v":0},0,0,0,0,0,0,0,0,0,0,0,0,0,0,0,0,0,0,0,0,0,0,0,0,0,0,0,0,0]
[]
[null,"Emissions (Gg CH4/Year)",null,1990,1991,1992,1993,1994,1995,1996,1997,1998,1999,2000,2001,2002,2003,2004,2005,2006,2007,2008,2009,2010,2011,2012,2013,2014,2015,2016,2017,2018,2019,2020,{"$f":"AH41+1","v":2021},{"$f":"AI41+1","v":2022},2023,2024,2025,2026,2027,2028,2029,2030,2031,2032,2033,2034,2035,2036,2037,2038,2039,2040,2041,2042,2043,2044,2045,2046,2047,2048,2049,2050]
[null,null,"Vented",{"$f":"SUMIF('Abandoned Data Inputs'!$E$181:$E$230,\"Venting\",'Abandoned Data Inputs'!Y181:Y230)","v":0},{"$f":"SUMIF('Abandoned Data Inputs'!$E$181:$E$230,\"Venting\",'Abandoned Data Inputs'!Z181:Z230)","v":0},{"$f":"SUMIF('Abandoned Data Inputs'!$E$181:$E$230,\"Venting\",'Abandoned Data Inputs'!AA181:AA230)","v":0},{"$f":"SUMIF('Abandoned Data Inputs'!$E$181:$E$230,\"Venting\",'Abandoned Data Inputs'!AB181:AB230)","v":0},{"$f":"SUMIF('Abandoned Data Inputs'!$E$181:$E$230,\"Venting\",'Abandoned Data Inputs'!AC181:AC230)","v":0},{"$f":"SUMIF('Abandoned Data Inputs'!$E$181:$E$230,\"Venting\",'Abandoned Data Inputs'!AD181:AD230)","v":0},{"$f":"SUMIF('Abandoned Data Inputs'!$E$181:$E$230,\"Venting\",'Abandoned Data Inputs'!AE181:AE230)","v":0},{"$f":"SUMIF('Abandoned Data Inputs'!$E$181:$E$230,\"Venting\",'Abandoned Data Inputs'!AF181:AF230)","v":0},{"$f":"SUMIF('Abandoned Data Inputs'!$E$181:$E$230,\"Venting\",'Abandoned Data Inputs'!AG181:AG230)","v":0},{"$f":"SUMIF('Abandoned Data Inputs'!$E$181:$E$230,\"Venting\",'Abandoned Data Inputs'!AH181:AH230)","v":0},{"$f":"SUMIF('Abandoned Data Inputs'!$E$181:$E$230,\"Venting\",'Abandoned Data Inputs'!AI181:AI230)","v":0},{"$f":"SUMIF('Abandoned Data Inputs'!$E$181:$E$230,\"Venting\",'Abandoned Data Inputs'!AJ181:AJ230)","v":0},{"$f":"SUMIF('Abandoned Data Inputs'!$E$181:$E$230,\"Venting\",'Abandoned Data Inputs'!AK181:AK230)","v":0},{"$f":"SUMIF('Abandoned Data Inputs'!$E$181:$E$230,\"Venting\",'Abandoned Data Inputs'!AL181:AL230)","v":0},{"$f":"SUMIF('Abandoned Data Inputs'!$E$181:$E$230,\"Venting\",'Abandoned Data Inputs'!AM181:AM230)","v":0},{"$f":"SUMIF('Abandoned Data Inputs'!$E$181:$E$230,\"Venting\",'Abandoned Data Inputs'!AN181:AN230)","v":0},{"$f":"SUMIF('Abandoned Data Inputs'!$E$181:$E$230,\"Venting\",'Abandoned Data Inputs'!AO181:AO230)","v":0},{"$f":"SUMIF('Abandoned Data Inputs'!$E$181:$E$230,\"Venting\",'Abandoned Data Inputs'!AP181:AP230)","v":0},{"$f":"SUMIF('Abandoned Data Inputs'!$E$181:$E$230,\"Venting\",'Abandoned Data Inputs'!AQ181:AQ230)","v":0},{"$f":"SUMIF('Abandoned Data Inputs'!$E$181:$E$230,\"Venting\",'Abandoned Data Inputs'!AR181:AR230)","v":0},{"$f":"SUMIF('Abandoned Data Inputs'!$E$181:$E$230,\"Venting\",'Abandoned Data Inputs'!AS181:AS230)","v":0},{"$f":"SUMIF('Abandoned Data Inputs'!$E$181:$E$230,\"Venting\",'Abandoned Data Inputs'!AT181:AT230)","v":0},{"$f":"SUMIF('Abandoned Data Inputs'!$E$181:$E$230,\"Venting\",'Abandoned Data Inputs'!AU181:AU230)","v":0},{"$f":"SUMIF('Abandoned Data Inputs'!$E$181:$E$230,\"Venting\",'Abandoned Data Inputs'!AV181:AV230)","v":0},{"$f":"SUMIF('Abandoned Data Inputs'!$E$181:$E$230,\"Venting\",'Abandoned Data Inputs'!AW181:AW230)","v":0},{"$f":"SUMIF('Abandoned Data Inputs'!$E$181:$E$230,\"Venting\",'Abandoned Data Inputs'!AX181:AX230)","v":0},{"$f":"SUMIF('Abandoned Data Inputs'!$E$181:$E$230,\"Venting\",'Abandoned Data Inputs'!AY181:AY230)","v":0},{"$f":"SUMIF('Abandoned Data Inputs'!$E$181:$E$230,\"Venting\",'Abandoned Data Inputs'!AZ181:AZ230)","v":0},{"$f":"SUMIF('Abandoned Data Inputs'!$E$181:$E$230,\"Venting\",'Abandoned Data Inputs'!BA181:BA230)","v":0},{"$f":"SUMIF('Abandoned Data Inputs'!$E$181:$E$230,\"Venting\",'Abandoned Data Inputs'!BB181:BB230)","v":0},{"$f":"SUMIF('Abandoned Data Inputs'!$E$181:$E$230,\"Venting\",'Abandoned Data Inputs'!BC181:BC230)","v":0},{"$f":"SUMIF('Abandoned Data Inputs'!$E$181:$E$230,\"Venting\",'Abandoned Data Inputs'!BD181:BD230)","v":0},{"$f":"SUMIF('Abandoned Data Inputs'!$E$181:$E$230,\"Venting\",'Abandoned Data Inputs'!BE181:BE230)","v":0},{"$f":"SUMIF('Abandoned Data Inputs'!$E$181:$E$230,\"Venting\",'Abandoned Data Inputs'!BF181:BF230)","v":0},{"$f":"SUMIF('Abandoned Data Inputs'!$E$181:$E$230,\"Venting\",'Abandoned Data Inputs'!BG181:BG230)","v":0},{"$f":"SUMIF('Abandoned Data Inputs'!$E$181:$E$230,\"Venting\",'Abandoned Data Inputs'!BH181:BH230)","v":0},{"$f":"SUMIF('Abandoned Data Inputs'!$E$181:$E$230,\"Venting\",'Abandoned Data Inputs'!BI181:BI230)","v":0},{"$f":"SUMIF('Abandoned Data Inputs'!$E$181:$E$230,\"Venting\",'Abandoned Data Inputs'!BJ181:BJ230)","v":0},{"$f":"SUMIF('Abandoned Data Inputs'!$E$181:$E$230,\"Venting\",'Abandoned Data Inputs'!BK181:BK230)","v":0},{"$f":"SUMIF('Abandoned Data Inputs'!$E$181:$E$230,\"Venting\",'Abandoned Data Inputs'!BL181:BL230)","v":0},{"$f":"SUMIF('Abandoned Data Inputs'!$E$181:$E$230,\"Venting\",'Abandoned Data Inputs'!BM181:BM230)","v":0},{"$f":"SUMIF('Abandoned Data Inputs'!$E$181:$E$230,\"Venting\",'Abandoned Data Inputs'!BN181:BN230)","v":0},{"$f":"SUMIF('Abandoned Data Inputs'!$E$181:$E$230,\"Venting\",'Abandoned Data Inputs'!BO181:BO230)","v":0},{"$f":"SUMIF('Abandoned Data Inputs'!$E$181:$E$230,\"Venting\",'Abandoned Data Inputs'!BP181:BP230)","v":0},{"$f":"SUMIF('Abandoned Data Inputs'!$E$181:$E$230,\"Venting\",'Abandoned Data Inputs'!BQ181:BQ230)","v":0},{"$f":"SUMIF('Abandoned Data Inputs'!$E$181:$E$230,\"Venting\",'Abandoned Data Inputs'!BR181:BR230)","v":0},{"$f":"SUMIF('Abandoned Data Inputs'!$E$181:$E$230,\"Venting\",'Abandoned Data Inputs'!BS181:BS230)","v":0},{"$f":"SUMIF('Abandoned Data Inputs'!$E$181:$E$230,\"Venting\",'Abandoned Data Inputs'!BT181:BT230)","v":0},{"$f":"SUMIF('Abandoned Data Inputs'!$E$181:$E$230,\"Venting\",'Abandoned Data Inputs'!BU181:BU230)","v":0},{"$f":"SUMIF('Abandoned Data Inputs'!$E$181:$E$230,\"Venting\",'Abandoned Data Inputs'!BV181:BV230)","v":0},{"$f":"SUMIF('Abandoned Data Inputs'!$E$181:$E$230,\"Venting\",'Abandoned Data Inputs'!BW181:BW230)","v":0},{"$f":"SUMIF('Abandoned Data Inputs'!$E$181:$E$230,\"Venting\",'Abandoned Data Inputs'!BX181:BX230)","v":0},{"$f":"SUMIF('Abandoned Data Inputs'!$E$181:$E$230,\"Venting\",'Abandoned Data Inputs'!BY181:BY230)","v":0},{"$f":"SUMIF('Abandoned Data Inputs'!$E$181:$E$230,\"Venting\",'Abandoned Data Inputs'!BZ181:BZ230)","v":0},{"$f":"SUMIF('Abandoned Data Inputs'!$E$181:$E$230,\"Venting\",'Abandoned Data Inputs'!CA181:CA230)","v":0},{"$f":"SUMIF('Abandoned Data Inputs'!$E$181:$E$230,\"Venting\",'Abandoned Data Inputs'!CB181:CB230)","v":0},{"$f":"SUMIF('Abandoned Data Inputs'!$E$181:$E$230,\"Venting\",'Abandoned Data Inputs'!CC181:CC230)","v":0},{"$f":"SUMIF('Abandoned Data Inputs'!$E$181:$E$230,\"Venting\",'Abandoned Data Inputs'!CD181:CD230)","v":0},{"$f":"SUMIF('Abandoned Data Inputs'!$E$181:$E$230,\"Venting\",'Abandoned Data Inputs'!CE181:CE230)","v":0},{"$f":"SUMIF('Abandoned Data Inputs'!$E$181:$E$230,\"Venting\",'Abandoned Data Inputs'!CF181:CF230)","v":0},{"$f":"SUMIF('Abandoned Data Inputs'!$E$181:$E$230,\"Venting\",'Abandoned Data Inputs'!CG181:CG230)","v":0}]
[null,null,"Sealed",{"$f":"SUMIF('Abandoned Data Inputs'!$E$181:$E$230,\"Sealed\",'Abandoned Data Inputs'!Y181:Y230)","v":0},{"$f":"SUMIF('Abandoned Data Inputs'!$E$181:$E$230,\"Sealed\",'Abandoned Data Inputs'!Z181:Z230)","v":0},{"$f":"SUMIF('Abandoned Data Inputs'!$E$181:$E$230,\"Sealed\",'Abandoned Data Inputs'!AA181:AA230)","v":0},{"$f":"SUMIF('Abandoned Data Inputs'!$E$181:$E$230,\"Sealed\",'Abandoned Data Inputs'!AB181:AB230)","v":0},{"$f":"SUMIF('Abandoned Data Inputs'!$E$181:$E$230,\"Sealed\",'Abandoned Data Inputs'!AC181:AC230)","v":0},{"$f":"SUMIF('Abandoned Data Inputs'!$E$181:$E$230,\"Sealed\",'Abandoned Data Inputs'!AD181:AD230)","v":0},{"$f":"SUMIF('Abandoned Data Inputs'!$E$181:$E$230,\"Sealed\",'Abandoned Data Inputs'!AE181:AE230)","v":0},{"$f":"SUMIF('Abandoned Data Inputs'!$E$181:$E$230,\"Sealed\",'Abandoned Data Inputs'!AF181:AF230)","v":0},{"$f":"SUMIF('Abandoned Data Inputs'!$E$181:$E$230,\"Sealed\",'Abandoned Data Inputs'!AG181:AG230)","v":0},{"$f":"SUMIF('Abandoned Data Inputs'!$E$181:$E$230,\"Sealed\",'Abandoned Data Inputs'!AH181:AH230)","v":0},{"$f":"SUMIF('Abandoned Data Inputs'!$E$181:$E$230,\"Sealed\",'Abandoned Data Inputs'!AI181:AI230)","v":0},{"$f":"SUMIF('Abandoned Data Inputs'!$E$181:$E$230,\"Sealed\",'Abandoned Data Inputs'!AJ181:AJ230)","v":0},{"$f":"SUMIF('Abandoned Data Inputs'!$E$181:$E$230,\"Sealed\",'Abandoned Data Inputs'!AK181:AK230)","v":0},{"$f":"SUMIF('Abandoned Data Inputs'!$E$181:$E$230,\"Sealed\",'Abandoned Data Inputs'!AL181:AL230)","v":0},{"$f":"SUMIF('Abandoned Data Inputs'!$E$181:$E$230,\"Sealed\",'Abandoned Data Inputs'!AM181:AM230)","v":0},{"$f":"SUMIF('Abandoned Data Inputs'!$E$181:$E$230,\"Sealed\",'Abandoned Data Inputs'!AN181:AN230)","v":0},{"$f":"SUMIF('Abandoned Data Inputs'!$E$181:$E$230,\"Sealed\",'Abandoned Data Inputs'!AO181:AO230)","v":0},{"$f":"SUMIF('Abandoned Data Inputs'!$E$181:$E$230,\"Sealed\",'Abandoned Data Inputs'!AP181:AP230)","v":0},{"$f":"SUMIF('Abandoned Data Inputs'!$E$181:$E$230,\"Sealed\",'Abandoned Data Inputs'!AQ181:AQ230)","v":0},{"$f":"SUMIF('Abandoned Data Inputs'!$E$181:$E$230,\"Sealed\",'Abandoned Data Inputs'!AR181:AR230)","v":0},{"$f":"SUMIF('Abandoned Data Inputs'!$E$181:$E$230,\"Sealed\",'Abandoned Data Inputs'!AS181:AS230)","v":0},{"$f":"SUMIF('Abandoned Data Inputs'!$E$181:$E$230,\"Sealed\",'Abandoned Data Inputs'!AT181:AT230)","v":0},{"$f":"SUMIF('Abandoned Data Inputs'!$E$181:$E$230,\"Sealed\",'Abandoned Data Inputs'!AU181:AU230)","v":0},{"$f":"SUMIF('Abandoned Data Inputs'!$E$181:$E$230,\"Sealed\",'Abandoned Data Inputs'!AV181:AV230)","v":0},{"$f":"SUMIF('Abandoned Data Inputs'!$E$181:$E$230,\"Sealed\",'Abandoned Data Inputs'!AW181:AW230)","v":0},{"$f":"SUMIF('Abandoned Data Inputs'!$E$181:$E$230,\"Sealed\",'Abandoned Data Inputs'!AX181:AX230)","v":0},{"$f":"SUMIF('Abandoned Data Inputs'!$E$181:$E$230,\"Sealed\",'Abandoned Data Inputs'!AY181:AY230)","v":0},{"$f":"SUMIF('Abandoned Data Inputs'!$E$181:$E$230,\"Sealed\",'Abandoned Data Inputs'!AZ181:AZ230)","v":0},{"$f":"SUMIF('Abandoned Data Inputs'!$E$181:$E$230,\"Sealed\",'Abandoned Data Inputs'!BA181:BA230)","v":0},{"$f":"SUMIF('Abandoned Data Inputs'!$E$181:$E$230,\"Sealed\",'Abandoned Data Inputs'!BB181:BB230)","v":0},{"$f":"SUMIF('Abandoned Data Inputs'!$E$181:$E$230,\"Sealed\",'Abandoned Data Inputs'!BC181:BC230)","v":0},{"$f":"SUMIF('Abandoned Data Inputs'!$E$181:$E$230,\"Sealed\",'Abandoned Data Inputs'!BD181:BD230)","v":0},{"$f":"SUMIF('Abandoned Data Inputs'!$E$181:$E$230,\"Sealed\",'Abandoned Data Inputs'!BE181:BE230)","v":0},{"$f":"SUMIF('Abandoned Data Inputs'!$E$181:$E$230,\"Sealed\",'Abandoned Data Inputs'!BF181:BF230)","v":0},{"$f":"SUMIF('Abandoned Data Inputs'!$E$181:$E$230,\"Sealed\",'Abandoned Data Inputs'!BG181:BG230)","v":0},{"$f":"SUMIF('Abandoned Data Inputs'!$E$181:$E$230,\"Sealed\",'Abandoned Data Inputs'!BH181:BH230)","v":0},{"$f":"SUMIF('Abandoned Data Inputs'!$E$181:$E$230,\"Sealed\",'Abandoned Data Inputs'!BI181:BI230)","v":0},{"$f":"SUMIF('Abandoned Data Inputs'!$E$181:$E$230,\"Sealed\",'Abandoned Data Inputs'!BJ181:BJ230)","v":0},{"$f":"SUMIF('Abandoned Data Inputs'!$E$181:$E$230,\"Sealed\",'Abandoned Data Inputs'!BK181:BK230)","v":0},{"$f":"SUMIF('Abandoned Data Inputs'!$E$181:$E$230,\"Sealed\",'Abandoned Data Inputs'!BL181:BL230)","v":0},{"$f":"SUMIF('Abandoned Data Inputs'!$E$181:$E$230,\"Sealed\",'Abandoned Data Inputs'!BM181:BM230)","v":0},{"$f":"SUMIF('Abandoned Data Inputs'!$E$181:$E$230,\"Sealed\",'Abandoned Data Inputs'!BN181:BN230)","v":0},{"$f":"SUMIF('Abandoned Data Inputs'!$E$181:$E$230,\"Sealed\",'Abandoned Data Inputs'!BO181:BO230)","v":0},{"$f":"SUMIF('Abandoned Data Inputs'!$E$181:$E$230,\"Sealed\",'Abandoned Data Inputs'!BP181:BP230)","v":0},{"$f":"SUMIF('Abandoned Data Inputs'!$E$181:$E$230,\"Sealed\",'Abandoned Data Inputs'!BQ181:BQ230)","v":0},{"$f":"SUMIF('Abandoned Data Inputs'!$E$181:$E$230,\"Sealed\",'Abandoned Data Inputs'!BR181:BR230)","v":0},{"$f":"SUMIF('Abandoned Data Inputs'!$E$181:$E$230,\"Sealed\",'Abandoned Data Inputs'!BS181:BS230)","v":0},{"$f":"SUMIF('Abandoned Data Inputs'!$E$181:$E$230,\"Sealed\",'Abandoned Data Inputs'!BT181:BT230)","v":0},{"$f":"SUMIF('Abandoned Data Inputs'!$E$181:$E$230,\"Sealed\",'Abandoned Data Inputs'!BU181:BU230)","v":0},{"$f":"SUMIF('Abandoned Data Inputs'!$E$181:$E$230,\"Sealed\",'Abandoned Data Inputs'!BV181:BV230)","v":0},{"$f":"SUMIF('Abandoned Data Inputs'!$E$181:$E$230,\"Sealed\",'Abandoned Data Inputs'!BW181:BW230)","v":0},{"$f":"SUMIF('Abandoned Data Inputs'!$E$181:$E$230,\"Sealed\",'Abandoned Data Inputs'!BX181:BX230)","v":0},{"$f":"SUMIF('Abandoned Data Inputs'!$E$181:$E$230,\"Sealed\",'Abandoned Data Inputs'!BY181:BY230)","v":0},{"$f":"SUMIF('Abandoned Data Inputs'!$E$181:$E$230,\"Sealed\",'Abandoned Data Inputs'!BZ181:BZ230)","v":0},{"$f":"SUMIF('Abandoned Data Inputs'!$E$181:$E$230,\"Sealed\",'Abandoned Data Inputs'!CA181:CA230)","v":0},{"$f":"SUMIF('Abandoned Data Inputs'!$E$181:$E$230,\"Sealed\",'Abandoned Data Inputs'!CB181:CB230)","v":0},{"$f":"SUMIF('Abandoned Data Inputs'!$E$181:$E$230,\"Sealed\",'Abandoned Data Inputs'!CC181:CC230)","v":0},{"$f":"SUMIF('Abandoned Data Inputs'!$E$181:$E$230,\"Sealed\",'Abandoned Data Inputs'!CD181:CD230)","v":0},{"$f":"SUMIF('Abandoned Data Inputs'!$E$181:$E$230,\"Sealed\",'Abandoned Data Inputs'!CE181:CE230)","v":0},{"$f":"SUMIF('Abandoned Data Inputs'!$E$181:$E$230,\"Sealed\",'Abandoned Data Inputs'!CF181:CF230)","v":0},{"$f":"SUMIF('Abandoned Data Inputs'!$E$181:$E$230,\"Sealed\",'Abandoned Data Inputs'!CG181:CG230)","v":0}]
[null,null,"Flooded",{"$f":"SUMIF('Abandoned Data Inputs'!$E$181:$E$230,\"Flooded\",'Abandoned Data Inputs'!Y181:Y230)","v":0},{"$f":"SUMIF('Abandoned Data Inputs'!$E$181:$E$230,\"Flooded\",'Abandoned Data Inputs'!Z181:Z230)","v":0},{"$f":"SUMIF('Abandoned Data Inputs'!$E$181:$E$230,\"Flooded\",'Abandoned Data Inputs'!AA181:AA230)","v":0},{"$f":"SUMIF('Abandoned Data Inputs'!$E$181:$E$230,\"Flooded\",'Abandoned Data Inputs'!AB181:AB230)","v":0},{"$f":"SUMIF('Abandoned Data Inputs'!$E$181:$E$230,\"Flooded\",'Abandoned Data Inputs'!AC181:AC230)","v":0},{"$f":"SUMIF('Abandoned Data Inputs'!$E$181:$E$230,\"Flooded\",'Abandoned Data Inputs'!AD181:AD230)","v":0},{"$f":"SUMIF('Abandoned Data Inputs'!$E$181:$E$230,\"Flooded\",'Abandoned Data Inputs'!AE181:AE230)","v":0},{"$f":"SUMIF('Abandoned Data Inputs'!$E$181:$E$230,\"Flooded\",'Abandoned Data Inputs'!AF181:AF230)","v":0},{"$f":"SUMIF('Abandoned Data Inputs'!$E$181:$E$230,\"Flooded\",'Abandoned Data Inputs'!AG181:AG230)","v":0},{"$f":"SUMIF('Abandoned Data Inputs'!$E$181:$E$230,\"Flooded\",'Abandoned Data Inputs'!AH181:AH230)","v":0},{"$f":"SUMIF('Abandoned Data Inputs'!$E$181:$E$230,\"Flooded\",'Abandoned Data Inputs'!AI181:AI230)","v":0},{"$f":"SUMIF('Abandoned Data Inputs'!$E$181:$E$230,\"Flooded\",'Abandoned Data Inputs'!AJ181:AJ230)","v":0},{"$f":"SUMIF('Abandoned Data Inputs'!$E$181:$E$230,\"Flooded\",'Abandoned Data Inputs'!AK181:AK230)","v":0},{"$f":"SUMIF('Abandoned Data Inputs'!$E$181:$E$230,\"Flooded\",'Abandoned Data Inputs'!AL181:AL230)","v":0},{"$f":"SUMIF('Abandoned Data Inputs'!$E$181:$E$230,\"Flooded\",'Abandoned Data Inputs'!AM181:AM230)","v":0},{"$f":"SUMIF('Abandoned Data Inputs'!$E$181:$E$230,\"Flooded\",'Abandoned Data Inputs'!AN181:AN230)","v":0},{"$f":"SUMIF('Abandoned Data Inputs'!$E$181:$E$230,\"Flooded\",'Abandoned Data Inputs'!AO181:AO230)","v":0},{"$f":"SUMIF('Abandoned Data Inputs'!$E$181:$E$230,\"Flooded\",'Abandoned Data Inputs'!AP181:AP230)","v":0},{"$f":"SUMIF('Abandoned Data Inputs'!$E$181:$E$230,\"Flooded\",'Abandoned Data Inputs'!AQ181:AQ230)","v":0},{"$f":"SUMIF('Abandoned Data Inputs'!$E$181:$E$230,\"Flooded\",'Abandoned Data Inputs'!AR181:AR230)","v":0},{"$f":"SUMIF('Abandoned Data Inputs'!$E$181:$E$230,\"Flooded\",'Abandoned Data Inputs'!AS181:AS230)","v":0},{"$f":"SUMIF('Abandoned Data Inputs'!$E$181:$E$230,\"Flooded\",'Abandoned Data Inputs'!AT181:AT230)","v":0},{"$f":"SUMIF('Abandoned Data Inputs'!$E$181:$E$230,\"Flooded\",'Abandoned Data Inputs'!AU181:AU230)","v":0},{"$f":"SUMIF('Abandoned Data Inputs'!$E$181:$E$230,\"Flooded\",'Abandoned Data Inputs'!AV181:AV230)","v":0},{"$f":"SUMIF('Abandoned Data Inputs'!$E$181:$E$230,\"Flooded\",'Abandoned Data Inputs'!AW181:AW230)","v":0},{"$f":"SUMIF('Abandoned Data Inputs'!$E$181:$E$230,\"Flooded\",'Abandoned Data Inputs'!AX181:AX230)","v":0},{"$f":"SUMIF('Abandoned Data Inputs'!$E$181:$E$230,\"Flooded\",'Abandoned Data Inputs'!AY181:AY230)","v":0},{"$f":"SUMIF('Abandoned Data Inputs'!$E$181:$E$230,\"Flooded\",'Abandoned Data Inputs'!AZ181:AZ230)","v":0},{"$f":"SUMIF('Abandoned Data Inputs'!$E$181:$E$230,\"Flooded\",'Abandoned Data Inputs'!BA181:BA230)","v":0},{"$f":"SUMIF('Abandoned Data Inputs'!$E$181:$E$230,\"Flooded\",'Abandoned Data Inputs'!BB181:BB230)","v":0},{"$f":"SUMIF('Abandoned Data Inputs'!$E$181:$E$230,\"Flooded\",'Abandoned Data Inputs'!BC181:BC230)","v":0},{"$f":"SUMIF('Abandoned Data Inputs'!$E$181:$E$230,\"Flooded\",'Abandoned Data Inputs'!BD181:BD230)","v":0},{"$f":"SUMIF('Abandoned Data Inputs'!$E$181:$E$230,\"Flooded\",'Abandoned Data Inputs'!BE181:BE230)","v":0},{"$f":"SUMIF('Abandoned Data Inputs'!$E$181:$E$230,\"Flooded\",'Abandoned Data Inputs'!BF181:BF230)","v":0},{"$f":"SUMIF('Abandoned Data Inputs'!$E$181:$E$230,\"Flooded\",'Abandoned Data Inputs'!BG181:BG230)","v":0},{"$f":"SUMIF('Abandoned Data Inputs'!$E$181:$E$230,\"Flooded\",'Abandoned Data Inputs'!BH181:BH230)","v":0},{"$f":"SUMIF('Abandoned Data Inputs'!$E$181:$E$230,\"Flooded\",'Abandoned Data Inputs'!BI181:BI230)","v":0},{"$f":"SUMIF('Abandoned Data Inputs'!$E$181:$E$230,\"Flooded\",'Abandoned Data Inputs'!BJ181:BJ230)","v":0},{"$f":"SUMIF('Abandoned Data Inputs'!$E$181:$E$230,\"Flooded\",'Abandoned Data Inputs'!BK181:BK230)","v":0},{"$f":"SUMIF('Abandoned Data Inputs'!$E$181:$E$230,\"Flooded\",'Abandoned Data Inputs'!BL181:BL230)","v":0},{"$f":"SUMIF('Abandoned Data Inputs'!$E$181:$E$230,\"Flooded\",'Abandoned Data Inputs'!BM181:BM230)","v":0},{"$f":"SUMIF('Abandoned Data Inputs'!$E$181:$E$230,\"Flooded\",'Abandoned Data Inputs'!BN181:BN230)","v":0},{"$f":"SUMIF('Abandoned Data Inputs'!$E$181:$E$230,\"Flooded\",'Abandoned Data Inputs'!BO181:BO230)","v":0},{"$f":"SUMIF('Abandoned Data Inputs'!$E$181:$E$230,\"Flooded\",'Abandoned Data Inputs'!BP181:BP230)","v":0},{"$f":"SUMIF('Abandoned Data Inputs'!$E$181:$E$230,\"Flooded\",'Abandoned Data Inputs'!BQ181:BQ230)","v":0},{"$f":"SUMIF('Abandoned Data Inputs'!$E$181:$E$230,\"Flooded\",'Abandoned Data Inputs'!BR181:BR230)","v":0},{"$f":"SUMIF('Abandoned Data Inputs'!$E$181:$E$230,\"Flooded\",'Abandoned Data Inputs'!BS181:BS230)","v":0},{"$f":"SUMIF('Abandoned Data Inputs'!$E$181:$E$230,\"Flooded\",'Abandoned Data Inputs'!BT181:BT230)","v":0},{"$f":"SUMIF('Abandoned Data Inputs'!$E$181:$E$230,\"Flooded\",'Abandoned Data Inputs'!BU181:BU230)","v":0},{"$f":"SUMIF('Abandoned Data Inputs'!$E$181:$E$230,\"Flooded\",'Abandoned Data Inputs'!BV181:BV230)","v":0},{"$f":"SUMIF('Abandoned Data Inputs'!$E$181:$E$230,\"Flooded\",'Abandoned Data Inputs'!BW181:BW230)","v":0},{"$f":"SUMIF('Abandoned Data Inputs'!$E$181:$E$230,\"Flooded\",'Abandoned Data Inputs'!BX181:BX230)","v":0},{"$f":"SUMIF('Abandoned Data Inputs'!$E$181:$E$230,\"Flooded\",'Abandoned Data Inputs'!BY181:BY230)","v":0},{"$f":"SUMIF('Abandoned Data Inputs'!$E$181:$E$230,\"Flooded\",'Abandoned Data Inputs'!BZ181:BZ230)","v":0},{"$f":"SUMIF('Abandoned Data Inputs'!$E$181:$E$230,\"Flooded\",'Abandoned Data Inputs'!CA181:CA230)","v":0},{"$f":"SUMIF('Abandoned Data Inputs'!$E$181:$E$230,\"Flooded\",'Abandoned Data Inputs'!CB181:CB230)","v":0},{"$f":"SUMIF('Abandoned Data Inputs'!$E$181:$E$230,\"Flooded\",'Abandoned Data Inputs'!CC181:CC230)","v":0},{"$f":"SUMIF('Abandoned Data Inputs'!$E$181:$E$230,\"Flooded\",'Abandoned Data Inputs'!CD181:CD230)","v":0},{"$f":"SUMIF('Abandoned Data Inputs'!$E$181:$E$230,\"Flooded\",'Abandoned Data Inputs'!CE181:CE230)","v":0},{"$f":"SUMIF('Abandoned Data Inputs'!$E$181:$E$230,\"Flooded\",'Abandoned Data Inputs'!CF181:CF230)","v":0},{"$f":"SUMIF('Abandoned Data Inputs'!$E$181:$E$230,\"Flooded\",'Abandoned Data Inputs'!CG181:CG230)","v":0}]

{"sheet":"Abandoned Data","index":4,"n_rows":540,"n_cols":22,"rows_kept":540,"cut":false,"hidden":false,"merged":[]}
["Source: U.S. GHG Inventory AbandondedCoalMines1990-2018_2.20.20 and Docket Spreadsheets 2018 Additions to Abandoned mine list "]
[null,"State","County","Coal Basin","Coal Seam","Mine Name","Current Emissions Status","Active Emiss. (mmcfd) ","Year of Abandonment","Simple Emission Status","Recovering","Constant A","Constant B",{"$f":"MAXA(N3:N163)-1","v":-1},"Mine Name","County","Simple Emission Status","Recovering","Basin","Active Emiss. (mmcfd) ","Constant A","Constant B"]
[{"$f":"IF(St='Abandoned Data'!B3,1+A2,0)","v":0},"AL","Jefferson","Warrior",null,"Blue Creek No. 3","Recovering methane/partially flooded",12.7,1999,{"$f":"IF(G3=0,\"Unknown\",VLOOKUP(G3,$B$525:$C$540,2,FALSE))","v":"Flooded"},{"$f":"IF(J3=\"unknown\",\"Unknown\",VLOOKUP(G3,$B$525:$D$540,3,FALSE))","v":"Yes"},3.72,-0.42,{"$f":"IF(ISERROR((VLOOKUP(ROW(A1),$A$3:$M$519,1,0))),\"\",(VLOOKUP(ROW(A1),$A$3:$M$519,1,0)))","v":""},{"$f":"IF(ISERROR(PROPER(VLOOKUP(ROW(A1),$A$3:$M$519,6,0))),\"\",PROPER(VLOOKUP(ROW(A1),$A$3:$M$519,6,0)))","v":""},{"$f":"IF(ISERROR(PROPER(VLOOKUP(ROW(A1),$A$3:$M$519,3,0))),\"\",PROPER(VLOOKUP(ROW(A1),$A$3:$M$519,3,0)))","v":""},{"$f":"IF(ISERROR(PROPER(VLOOKUP(ROW(A1),$A$3:$M$519,10,0))),\"\",PROPER(VLOOKUP(ROW(A1),$A$3:$M$519,10,0)))","v":""},{"$f":"IF(ISERROR(PROPER(VLOOKUP(ROW(A1),$A$3:$M$519,9,0))),\"\",PROPER(VLOOKUP(ROW(A1),$A$3:$M$519,9,0)))","v":""},{"$f":"IF(ISERROR(PROPER(VLOOKUP(ROW(A1),$A$3:$M$519,4,0))),\"\",PROPER(VLOOKUP(ROW(A1),$A$3:$M$519,4,0)))","v":""},{"$f":"IF(ISERROR(VLOOKUP(ROW(A1),$A$3:$M$519,8,0)),\"\",VLOOKUP(ROW(A1),$A$3:$M$519,8,0))","v":""},{"$f":"IF(ISERROR(VLOOKUP(ROW(A1),$A$3:$M$519,12,0)),\"\",VLOOKUP(ROW(A1),$A$3:$M$519,12,0))","v":""},{"$f":"IF(ISERROR(VLOOKUP(ROW(A1),$A$3:$M$519,13,0)),\"\",VLOOKUP(ROW(A1),$A$3:$M$519,13,0))","v":""}]
[{"$f":"IF(St='Abandoned Data'!B4,1+A3,0)","v":0},"AL","Jefferson","Warrior","Mary Lee","Concord No 1","Flooded",4.5,1984,"Flooded","No",3.72,-0.42,"","","","","","","","",""]
[{"$f":"IF(St='Abandoned Data'!B5,1+A4,0)","v":0},"AL","Walker","Warrior","Mary Lee","Mary Lee No 1","Flooded",1.5,1987,"Flooded","No",3.72,-0.42,"","","","","","","","",""]
[{"$f":"IF(St='Abandoned Data'!B6,1+A5,0)","v":0},"AL","Shelby","Warrior","Mary Lee","BOONE NO. 1","Flooded",1.3,1998,"Flooded","No",3.72,-0.42,"","","","","","","","",""]
[{"$f":"IF(St='Abandoned Data'!B7,1+A6,0)","v":0},"AL","Jefferson","Warrior","Mary Lee","Mulga","Flooded",1.2,1983,"Flooded","No",3.72,-0.42,"","","","","","","","",""]
[{"$f":"IF(St='Abandoned Data'!B8,1+A7,0)","v":0},"AL","Jefferson","Warrior","Mary Lee","Flat Top","Flooded",1,1979,"Flooded","No",3.72,-0.42,"","","","","","","","",""]
[{"$f":"IF(St='Abandoned Data'!B9,1+A8,0)","v":0},"AL","Jefferson","Warrior","Mary Lee","Bessie Mine","Flooded",1,1989,"Flooded","No",3.72,-0.42,"","","","","","","","",""]
[{"$f":"IF(St='Abandoned Data'!B10,1+A9,0)","v":0},"AL","Walker","Warrior","Mary Lee","Segco No 1","Flooded",0.75,1982,"Flooded","No",3.72,-0.42,"","","","","","","","",""]
[{"$f":"IF(St='Abandoned Data'!B11,1+A10,0)","v":0},"AL","Jefferson","Warrior","Mary Lee","Chetopa","Flooded",0.75,1997,"Flooded","No",3.72,-0.42,"","","","","","","","",""]
[{"$f":"IF(St='Abandoned Data'!B12,1+A11,0)","v":0},"AL","Shelby","Warrior","Mary Lee","Segco No 2","Flooded",0.35,1973,"Flooded","No",3.72,-0.42,"","","","","","","","",""]
[{"$f":"IF(St='Abandoned Data'!B13,1+A12,0)","v":0},"AL","Walker","Warrior","Mary Lee","Gorges No 7","Flooded",0.35,1986,"Flooded","No",3.72,-0.42,"","","","","","","","",""]
[{"$f":"IF(St='Abandoned Data'!B14,1+A13,0)","v":0},"AL","Jefferson","Warrior","Mary Lee","MAXINE MINE","Flooded",0.35,1989,"Flooded","No",3.72,-0.42,"","","","","","","","",""]
[{"$f":"IF(St='Abandoned Data'!B15,1+A14,0)","v":0},"AL","Jefferson","Warrior","Mary Lee","NEBO MINE","Flooded",0.35,1989,"Flooded","No",3.72,-0.42,"","","","","","","","",""]
[{"$f":"IF(St='Abandoned Data'!B16,1+A15,0)","v":0},"AL","Walker","Warrior","Mary Lee","Mary Lee No 2","Flooded",0.35,1994,"Flooded","No",3.72,-0.42,"","","","","","","","",""]
[{"$f":"IF(St='Abandoned Data'!B17,1+A16,0)","v":0},"AL","Shelby","Warrior",null,"Coke Mine #1","Flooded",0.17739726027397262,2009,"Flooded","No",3.72,-0.42,"","","","","","","","",""]
[{"$f":"IF(St='Abandoned Data'!B18,1+A17,0)","v":0},"AL","Tuscaloosa","Warrior","Mary Lee","Blue Creek No 5 Mine","recovering methane/partially flooded",15.122901522052803,2007,"Flooded","Yes",3.72,-0.42,"","","","","","","","",""]
[{"$f":"IF(St='Abandoned Data'!B19,1+A18,0)","v":0},"CO","Delta","Piceance",null,"Sanborn Creek","Sealed",5.4,2003,"Sealed","No",3.72,-0.42,"","","","","","","","",""]
[{"$f":"IF(St='Abandoned Data'!B20,1+A19,0)","v":0},"CO","Pitkin","Piceance","B Seam","Dutch Creek No 1","Sealed",4.8,1992,"Sealed","No",3.72,-0.42,"","","","","","","","",""]
[{"$f":"IF(St='Abandoned Data'!B21,1+A20,0)","v":0},"CO","Pitkin","Piceance","B Seam","Dutch Creek No. 2","Sealed",4.2,1988,"Sealed","No",3.72,-0.42,"","","","","","","","",""]
[{"$f":"IF(St='Abandoned Data'!B22,1+A21,0)","v":0},"CO","Pitkin","Piceance",null,"L.S.Wood","Sealed",2.4,1985,"Sealed","No",3.72,-0.42,"","","","","","","","",""]
[{"$f":"IF(St='Abandoned Data'!B23,1+A22,0)","v":0},"CO","Pitkin","Piceance","B Seam","COAL BASIN","Sealed",1.6,1981,"Sealed","No",3.72,-0.42,"","","","","","","","",""]
[{"$f":"IF(St='Abandoned Data'!B24,1+A23,0)","v":0},"CO","Delta","Piceance","D Seam","Bowie No 1","Venting",1.2,1998,"Venting","No",3.72,-0.42,"","","","","","","","",""]
[{"$f":"IF(St='Abandoned Data'!B25,1+A24,0)","v":0},"CO","Delta","Piceance","E Seam","Hawks Nest East","Venting",0.9,1986,"Venting","No",3.72,-0.42,"","","","","","","","",""]
[{"$f":"IF(St='Abandoned Data'!B26,1+A25,0)","v":0},"CO","Gunnison","Piceance","Jaunita C Seam","BEAR MINE","Sealed",0.75,1982,"Sealed","No",3.72,-0.42,"","","","","","","","",""]
[{"$f":"IF(St='Abandoned Data'!B27,1+A26,0)","v":0},"CO","Gunnison","Piceance","B Seam","Bear Creek Mine","Sealed",0.7,1979,"Sealed","No",3.72,-0.42,"","","","","","","","",""]
[{"$f":"IF(St='Abandoned Data'!B28,1+A27,0)","v":0},"CO","Delta","Piceance","B Seam","Somerset Mine","Sealed",0.7,1989,"Sealed","No",3.72,-0.42,"","","","","","","","",""]
[{"$f":"IF(St='Abandoned Data'!B29,1+A28,0)","v":0},"CO","Mesa","Piceance",null,"Roadside North Portal","Sealed",0.7,2000,"Sealed","No",3.72,-0.42,"","","","","","","","",""]
[{"$f":"IF(St='Abandoned Data'!B30,1+A29,0)","v":0},"CO","Mesa","Piceance",null,"Roadside South Portal","Venting/Partially Flooded",0.4,2000,"Flooded","No",3.72,-0.42,"","","","","","","","",""]
[{"$f":"IF(St='Abandoned Data'!B31,1+A30,0)","v":0},"CO","Delta","Piceance",null,"Bowie #3","Sealed",0.38,2005,"Sealed","No",3.72,-0.42,"","","","","","","","",""]
[{"$f":"IF(St='Abandoned Data'!B32,1+A31,0)","v":0},"CO","Pitkin","Piceance",null,"Thompson Creek No. 1 ","Sealed",0.35,1986,"Sealed","No",3.72,-0.42,"","","","","","","","",""]
[{"$f":"IF(St='Abandoned Data'!B33,1+A32,0)","v":0},"CO","Moffat","Piceance",null,"Eagle No 5",null,0.35,1996,"Unknown","Unknown",3.72,-0.42,"","","","","","","","",""]
[{"$f":"IF(St='Abandoned Data'!B34,1+A33,0)","v":0},"CO","Gunnison","Piceance","C Seam","Bear No 3","Flooded",0.35,1997,"Flooded","No",3.72,-0.42,"","","","","","","","",""]
[{"$f":"IF(St='Abandoned Data'!B35,1+A34,0)","v":0},"CO","Delta","Piceance",null,"Hawks Nest West","Sealed",0.2,1981,{"$f":"IF(G35=0,\"Unknown\",VLOOKUP(G35,$B$525:$C$540,2,FALSE))","v":"Sealed"},{"$f":"IF(J35=\"unknown\",\"Unknown\",VLOOKUP(G35,$B$525:$D$540,3,FALSE))","v":"No"},3.72,-0.42,{"$f":"IF(ISERROR((VLOOKUP(ROW(A33),$A$3:$M$519,1,0))),\"\",(VLOOKUP(ROW(A33),$A$3:$M$519,1,0)))","v":""},{"$f":"IF(ISERROR(PROPER(VLOOKUP(ROW(A33),$A$3:$M$519,6,0))),\"\",PROPER(VLOOKUP(ROW(A33),$A$3:$M$519,6,0)))","v":""},{"$f":"IF(ISERROR(PROPER(VLOOKUP(ROW(A33),$A$3:$M$519,3,0))),\"\",PROPER(VLOOKUP(ROW(A33),$A$3:$M$519,3,0)))","v":""},{"$f":"IF(ISERROR(PROPER(VLOOKUP(ROW(A33),$A$3:$M$519,10,0))),\"\",PROPER(VLOOKUP(ROW(A33),$A$3:$M$519,10,0)))","v":""},{"$f":"IF(ISERROR(PROPER(VLOOKUP(ROW(A33),$A$3:$M$519,9,0))),\"\",PROPER(VLOOKUP(ROW(A33),$A$3:$M$519,9,0)))","v":""},{"$f":"IF(ISERROR(PROPER(VLOOKUP(ROW(A33),$A$3:$M$519,4,0))),\"\",PROPER(VLOOKUP(ROW(A33),$A$3:$M$519,4,0)))","v":""},{"$f":"IF(ISERROR(VLOOKUP(ROW(A33),$A$3:$M$519,8,0)),\"\",VLOOKUP(ROW(A33),$A$3:$M$519,8,0))","v":""},{"$f":"IF(ISERROR(VLOOKUP(ROW(A33),$A$3:$M$519,12,0)),\"\",VLOOKUP(ROW(A33),$A$3:$M$519,12,0))","v":""},{"$f":"IF(ISERROR(VLOOKUP(ROW(A33),$A$3:$M$519,13,0)),\"\",VLOOKUP(ROW(A33),$A$3:$M$519,13,0))","v":""}]
[{"$f":"IF(St='Abandoned Data'!B36,1+A35,0)","v":0},"CO","Rio Blanco","Piceance",null,"Rienau No 2 ",null,0.1,1986,"Unknown","Unknown",3.72,-0.42,"","","","","","","","",""]
[{"$f":"IF(St='Abandoned Data'!B37,1+A36,0)","v":0},"CO","Las Animas","Raton","Maxwell","Golden Eagle","Sealed/Recovering Methane",7.5,1996,"Sealed","Yes",3.72,-0.42,"","","","","","","","",""]
[{"$f":"IF(St='Abandoned Data'!B38,1+A37,0)","v":0},"CO","Las Animas","Raton",null,"Allen East & West",null,0.75,1982,"Unknown","Unknown",3.72,-0.42,"","","","","","","","",""]
[{"$f":"IF(St='Abandoned Data'!B39,1+A38,0)","v":0},"CO","Fremont","Raton",null,"Southfield Mine","Sealed",0.35,2001,"Sealed","No",3.72,-0.42,"","","","","","","","",""]
[{"$f":"IF(St='Abandoned Data'!B40,1+A39,0)","v":0},"CO","Las Animas","Raton",null,"New Elk Mine",null,0.25,1989,"Unknown","Unknown",3.72,-0.42,"","","","","","","","",""]
[{"$f":"IF(St='Abandoned Data'!B41,1+A40,0)","v":0},"CO","La Plata","Piceance",null,"King I","Sealed",0.11235616438356165,2009,"Sealed","No",3.72,-0.42,"","","","","","","","",""]
[{"$f":"IF(St='Abandoned Data'!B42,1+A41,0)","v":0},"CO","Gunnison","Piceance",0,"Elk Creek Mine",null,4.7174534237495109,2016,"Unknown","Unknown",3.72,-0.42,"","","","","","","","",""]
[{"$f":"IF(St='Abandoned Data'!B43,1+A42,0)","v":0},"CO","Delta","Piceance",0,"Cyprus Amax Minerals Company","Sealed",1,1993,"Sealed","No",3.72,-0.42,"","","","","","","","",""]
[{"$f":"IF(St='Abandoned Data'!B44,1+A43,0)","v":0},"CO","Delta","Piceance",0,"Bowie Resources","Sealed",1.21,2004,"Sealed","No",3.72,-0.42,"","","","","","","","",""]
[{"$f":"IF(St='Abandoned Data'!B45,1+A44,0)","v":0},"IL","White","Illinois",null,"Pattiki Mine","Sealed",1.9,2003,"Sealed","No",3.72,-0.42,"","","","","","","","",""]
[{"$f":"IF(St='Abandoned Data'!B46,1+A45,0)","v":0},"IL","Franklin","Illinois","Herrin No. 6","Old Ben No 26","Sealed/Recovering Methane",1.6,1998,"Sealed","Yes",3.72,-0.42,"","","","","","","","",""]
[{"$f":"IF(St='Abandoned Data'!B47,1+A46,0)","v":0},"IL","Jefferson","Illinois","Illinois 5 & 6","Orient #3","Sealed",1.5,1984,"Sealed","No",3.72,-0.42,"","","","","","","","",""]
[{"$f":"IF(St='Abandoned Data'!B48,1+A47,0)","v":0},"IL","Jefferson","Illinois","Illinois 5 & 6","Orient #5","Sealed",1.5,1984,"Sealed","No",3.72,-0.42,"","","","","","","","",""]
[{"$f":"IF(St='Abandoned Data'!B49,1+A48,0)","v":0},"IL","Franklin","Illinois","Herrin No. 6","Old Ben No 21","Sealed/Recovering Methane",1.4,1995,"Sealed","Yes",3.72,-0.42,"","","","","","","","",""]
[{"$f":"IF(St='Abandoned Data'!B50,1+A49,0)","v":0},"IL","Franklin","Illinois","Herrin No. 6","Old Ben No 24","Sealed/Recovering Methane",1.2,1998,"Sealed","Yes",3.72,-0.42,"","","","","","","","",""]
[{"$f":"IF(St='Abandoned Data'!B51,1+A50,0)","v":0},"IL","Montgomery","Illinois","Illinois 5 & 6","Crown","Sealed",1,1972,"Sealed","No",3.72,-0.42,"","","","","","","","",""]
[{"$f":"IF(St='Abandoned Data'!B52,1+A51,0)","v":0},"IL","Franklin","Illinois","Herrin No. 6","Old Ben No 25","Sealed",1,1996,"Sealed","No",3.72,-0.42,"","","","","","","","",""]
[{"$f":"IF(St='Abandoned Data'!B53,1+A52,0)","v":0},"IL","Jefferson","Illinois","Herrin No. 6","Orient No 6","Sealed",1,1997,"Sealed","No",3.72,-0.42,"","","","","","","","",""]
[{"$f":"IF(St='Abandoned Data'!B54,1+A53,0)","v":0},"IL","Saline","Illinois",null,"Big Ridge Portal No. 2","Venting",1,2002,"Venting","No",3.72,-0.42,"","","","","","","","",""]
[{"$f":"IF(St='Abandoned Data'!B55,1+A54,0)","v":0},"IL","Williamson","Illinois","Illinois 5 & 6","ZEIGLER #4 UG","Sealed",0.75,1980,"Sealed","No",3.72,-0.42,"","","","","","","","",""]
[{"$f":"IF(St='Abandoned Data'!B56,1+A55,0)","v":0},"IL","Franklin","Illinois","Herrin No. 6","Old Ben No 27","Sealed",0.75,1987,"Sealed","No",3.72,-0.42,"","","","","","","","",""]
[{"$f":"IF(St='Abandoned Data'!B57,1+A56,0)","v":0},"IL","Williamson","Illinois",null,"ORIENT NO. 4","Sealed",0.75,1987,"Sealed","No",3.72,-0.42,"","","","","","","","",""]
[{"$f":"IF(St='Abandoned Data'!B58,1+A57,0)","v":0},"IL","Jefferson","Illinois",null,"Wheeler Creek",null,0.75,1988,"Unknown","Unknown",3.72,-0.42,"","","","","","","","",""]
[{"$f":"IF(St='Abandoned Data'!B59,1+A58,0)","v":0},"IL","Gallatin","Illinois","Harrisburg","Eagle No. 2","Sealed",0.75,1994,"Sealed","No",3.72,-0.42,"","","","","","","","",""]
[{"$f":"IF(St='Abandoned Data'!B60,1+A59,0)","v":0},"IL","Christian","Illinois","Herrin No. 6","Peabody No. 10","Venting",0.75,1994,"Venting","No",3.72,-0.42,"","","","","","","","",""]
[{"$f":"IF(St='Abandoned Data'!B61,1+A60,0)","v":0},"IL","Clinton","Illinois",null,"Monterey No 2",null,0.75,1996,"Unknown","Unknown",3.72,-0.42,"","","","","","","","",""]
[{"$f":"IF(St='Abandoned Data'!B62,1+A61,0)","v":0},"IL","Douglas","Illinois","Herrin No. 6","Murdock",null,0.6,1996,"Unknown","Unknown",3.72,-0.42,"","","","","","","","",""]
[{"$f":"IF(St='Abandoned Data'!B63,1+A62,0)","v":0},"IL","Saline","Illinois",null,"Big Ridge Mine","Venting",0.6,1997,"Venting","No",3.72,-0.42,"","","","","","","","",""]
[{"$f":"IF(St='Abandoned Data'!B64,1+A63,0)","v":0},"IL","Saline","Illinois","Illinois 5 & 6","Sahara No 20","Flooded",0.35,1983,"Flooded","No",3.72,-0.42,"","","","","","","","",""]
[{"$f":"IF(St='Abandoned Data'!B65,1+A64,0)","v":0},"IL","Montgomery","Illinois",null,"HILLSBORO MINE",null,0.35,1983,"Unknown","Unknown",3.72,-0.42,"","","","","","","","",""]
[{"$f":"IF(St='Abandoned Data'!B66,1+A65,0)","v":0},"IL","Douglas","Illinois",null,"Zeigler #5","Sealed",0.35,1987,"Sealed","No",3.72,-0.42,"","","","","","","","",""]
[{"$f":"IF(St='Abandoned Data'!B67,1+A66,0)","v":0},"IL","Gallatin","Illinois","Illinois 5 & 6","Eagle No 1",null,0.35,1991,{"$f":"IF(G67=0,\"Unknown\",VLOOKUP(G67,$B$525:$C$540,2,FALSE))","v":"Unknown"},{"$f":"IF(J67=\"unknown\",\"Unknown\",VLOOKUP(G67,$B$525:$D$540,3,FALSE))","v":"Unknown"},3.72,-0.42,{"$f":"IF(ISERROR((VLOOKUP(ROW(A65),$A$3:$M$519,1,0))),\"\",(VLOOKUP(ROW(A65),$A$3:$M$519,1,0)))","v":""},{"$f":"IF(ISERROR(PROPER(VLOOKUP(ROW(A65),$A$3:$M$519,6,0))),\"\",PROPER(VLOOKUP(ROW(A65),$A$3:$M$519,6,0)))","v":""},{"$f":"IF(ISERROR(PROPER(VLOOKUP(ROW(A65),$A$3:$M$519,3,0))),\"\",PROPER(VLOOKUP(ROW(A65),$A$3:$M$519,3,0)))","v":""},{"$f":"IF(ISERROR(PROPER(VLOOKUP(ROW(A65),$A$3:$M$519,10,0))),\"\",PROPER(VLOOKUP(ROW(A65),$A$3:$M$519,10,0)))","v":""},{"$f":"IF(ISERROR(PROPER(VLOOKUP(ROW(A65),$A$3:$M$519,9,0))),\"\",PROPER(VLOOKUP(ROW(A65),$A$3:$M$519,9,0)))","v":""},{"$f":"IF(ISERROR(PROPER(VLOOKUP(ROW(A65),$A$3:$M$519,4,0))),\"\",PROPER(VLOOKUP(ROW(A65),$A$3:$M$519,4,0)))","v":""},{"$f":"IF(ISERROR(VLOOKUP(ROW(A65),$A$3:$M$519,8,0)),\"\",VLOOKUP(ROW(A65),$A$3:$M$519,8,0))","v":""},{"$f":"IF(ISERROR(VLOOKUP(ROW(A65),$A$3:$M$519,12,0)),\"\",VLOOKUP(ROW(A65),$A$3:$M$519,12,0))","v":""},{"$f":"IF(ISERROR(VLOOKUP(ROW(A65),$A$3:$M$519,13,0)),\"\",VLOOKUP(ROW(A65),$A$3:$M$519,13,0))","v":""}]
[{"$f":"IF(St='Abandoned Data'!B68,1+A67,0)","v":0},"IL","Perry","Illinois",null,"Kathleen",null,0.35,1995,"Unknown","Unknown",3.72,-0.42,"","","","","","","","",""]
[{"$f":"IF(St='Abandoned Data'!B69,1+A68,0)","v":0},"IL","Randolph","Illinois","Illinois 5 & 6","Spartan","Sealed",0.35,1997,"Sealed","No",3.72,-0.42,"","","","","","","","",""]
[{"$f":"IF(St='Abandoned Data'!B70,1+A69,0)","v":0},"IL","Saline","Illinois",null,"Sahara No 21",null,0.3,1993,"Unknown","Unknown",3.72,-0.42,"","","","","","","","",""]
[{"$f":"IF(St='Abandoned Data'!B71,1+A70,0)","v":0},"IL","Gallatin","Illinois",null,"Eagle Valley Mine","Sealed",0.25,2002,"Sealed","No",3.72,-0.42,"","","","","","","","",""]
[{"$f":"IF(St='Abandoned Data'!B72,1+A71,0)","v":0},"IL","Hamilton","Illinois","Harrisburg","Inland No 2",null,0.2,1982,"Unknown","Unknown",3.72,-0.42,"","","","","","","","",""]
[{"$f":"IF(St='Abandoned Data'!B73,1+A72,0)","v":0},"IL","St. Clair","Illinois","Herrin No. 6","RIVER KING UNDERGROUND",null,0.2,1990,"Unknown","Unknown",3.72,-0.42,"","","","","","","","",""]
[{"$f":"IF(St='Abandoned Data'!B74,1+A73,0)","v":0},"IL","Randolph","Illinois",null,"Baldwin No 1",null,0.2,1993,"Unknown","Unknown",3.72,-0.42,"","","","","","","","",""]
[{"$f":"IF(St='Abandoned Data'!B75,1+A74,0)","v":0},"IL","Washington","Illinois","Herrin 6","Marissa Mine","Sealed",0.2,2000,"Sealed","No",3.72,-0.42,"","","","","","","","",""]
[{"$f":"IF(St='Abandoned Data'!B76,1+A75,0)","v":0},"IL","Saline","Illinois","Illinois 5 & 6","No 5","Flooded",0.15,1973,"Flooded","No",3.72,-0.42,"","","","","","","","",""]
[{"$f":"IF(St='Abandoned Data'!B77,1+A76,0)","v":0},"IL","Saline","Illinois","Illinois 5 & 6","No 16","Flooded",0.15,1973,"Flooded","No",3.72,-0.42,"","","","","","","","",""]
[{"$f":"IF(St='Abandoned Data'!B78,1+A77,0)","v":0},"IL","Wabash","Illinois",null,"Wabash Mine","Sealed",2.2009397260273973,2008,"Sealed","No",3.72,-0.42,"","","","","","","","",""]
[{"$f":"IF(St='Abandoned Data'!B79,1+A78,0)","v":0},"IL","Clinton","Illinois",null,"No. 2 Mine",null,0.3,2010,"Unknown","Unknown",3.72,-0.42,"","","","","","","","",""]
[{"$f":"IF(St='Abandoned Data'!B80,1+A79,0)","v":0},"IL","Perry","Illinois",0,"Arch Of Illinois","Sealed",0.16999999999999998,2000,"Sealed","No",3.72,-0.42,"","","","","","","","",""]
[{"$f":"IF(St='Abandoned Data'!B81,1+A80,0)","v":0},"IN","Sullivan","Illinois","Illinois 5 & 6","Thunderbird","Sealed",0.75,1972,"Sealed","No",3.72,-0.42,{"$f":"IF(ISERROR((VLOOKUP(ROW(A80),$A$3:$M$519,1,0))),\"\",(VLOOKUP(ROW(A80),$A$3:$M$519,1,0)))","v":""},{"$f":"IF(ISERROR(PROPER(VLOOKUP(ROW(A80),$A$3:$M$519,6,0))),\"\",PROPER(VLOOKUP(ROW(A80),$A$3:$M$519,6,0)))","v":""},{"$f":"IF(ISERROR(PROPER(VLOOKUP(ROW(A80),$A$3:$M$519,3,0))),\"\",PROPER(VLOOKUP(ROW(A80),$A$3:$M$519,3,0)))","v":""},{"$f":"IF(ISERROR(PROPER(VLOOKUP(ROW(A80),$A$3:$M$519,10,0))),\"\",PROPER(VLOOKUP(ROW(A80),$A$3:$M$519,10,0)))","v":""},{"$f":"IF(ISERROR(PROPER(VLOOKUP(ROW(A80),$A$3:$M$519,9,0))),\"\",PROPER(VLOOKUP(ROW(A80),$A$3:$M$519,9,0)))","v":""},{"$f":"IF(ISERROR(PROPER(VLOOKUP(ROW(A80),$A$3:$M$519,4,0))),\"\",PROPER(VLOOKUP(ROW(A80),$A$3:$M$519,4,0)))","v":""},{"$f":"IF(ISERROR(VLOOKUP(ROW(A80),$A$3:$M$519,8,0)),\"\",VLOOKUP(ROW(A80),$A$3:$M$519,8,0))","v":""},{"$f":"IF(ISERROR(VLOOKUP(ROW(A80),$A$3:$M$519,12,0)),\"\",VLOOKUP(ROW(A80),$A$3:$M$519,12,0))","v":""},{"$f":"IF(ISERROR(VLOOKUP(ROW(A80),$A$3:$M$519,13,0)),\"\",VLOOKUP(ROW(A80),$A$3:$M$519,13,0))","v":""}]
[{"$f":"IF(St='Abandoned Data'!B82,1+A81,0)","v":0},"IN","Gibson ","Illinois","Illinois 5 & 6","Kings","Sealed/Recovering Methane",0.35,1973,"Sealed","Yes",3.72,-0.42,{"$f":"IF(ISERROR((VLOOKUP(ROW(#REF!),$A$3:$M$519,1,0))),\"\",(VLOOKUP(ROW(#REF!),$A$3:$M$519,1,0)))","v":""},{"$f":"IF(ISERROR(PROPER(VLOOKUP(ROW(#REF!),$A$3:$M$519,6,0))),\"\",PROPER(VLOOKUP(ROW(#REF!),$A$3:$M$519,6,0)))","v":""},{"$f":"IF(ISERROR(PROPER(VLOOKUP(ROW(#REF!),$A$3:$M$519,3,0))),\"\",PROPER(VLOOKUP(ROW(#REF!),$A$3:$M$519,3,0)))","v":""},{"$f":"IF(ISERROR(PROPER(VLOOKUP(ROW(#REF!),$A$3:$M$519,10,0))),\"\",PROPER(VLOOKUP(ROW(#REF!),$A$3:$M$519,10,0)))","v":""},{"$f":"IF(ISERROR(PROPER(VLOOKUP(ROW(#REF!),$A$3:$M$519,9,0))),\"\",PROPER(VLOOKUP(ROW(#REF!),$A$3:$M$519,9,0)))","v":""},{"$f":"IF(ISERROR(PROPER(VLOOKUP(ROW(#REF!),$A$3:$M$519,4,0))),\"\",PROPER(VLOOKUP(ROW(#REF!),$A$3:$M$519,4,0)))","v":""},{"$f":"IF(ISERROR(VLOOKUP(ROW(#REF!),$A$3:$M$519,8,0)),\"\",VLOOKUP(ROW(#REF!),$A$3:$M$519,8,0))","v":""},{"$f":"IF(ISERROR(VLOOKUP(ROW(#REF!),$A$3:$M$519,12,0)),\"\",VLOOKUP(ROW(#REF!),$A$3:$M$519,12,0))","v":""},{"$f":"IF(ISERROR(VLOOKUP(ROW(#REF!),$A$3:$M$519,13,0)),\"\",VLOOKUP(ROW(#REF!),$A$3:$M$519,13,0))","v":""}]
[{"$f":"IF(St='Abandoned Data'!B83,1+A82,0)","v":0},"IN","Sullivan","Illinois","Springfield #5","Buck Creek","Sealed",0.35,1998,"Sealed","No",3.72,-0.42,{"$f":"IF(ISERROR((VLOOKUP(ROW(A81),$A$3:$M$519,1,0))),\"\",(VLOOKUP(ROW(A81),$A$3:$M$519,1,0)))","v":""},{"$f":"IF(ISERROR(PROPER(VLOOKUP(ROW(A81),$A$3:$M$519,6,0))),\"\",PROPER(VLOOKUP(ROW(A81),$A$3:$M$519,6,0)))","v":""},{"$f":"IF(ISERROR(PROPER(VLOOKUP(ROW(A81),$A$3:$M$519,3,0))),\"\",PROPER(VLOOKUP(ROW(A81),$A$3:$M$519,3,0)))","v":""},{"$f":"IF(ISERROR(PROPER(VLOOKUP(ROW(A81),$A$3:$M$519,10,0))),\"\",PROPER(VLOOKUP(ROW(A81),$A$3:$M$519,10,0)))","v":""},{"$f":"IF(ISERROR(PROPER(VLOOKUP(ROW(A81),$A$3:$M$519,9,0))),\"\",PROPER(VLOOKUP(ROW(A81),$A$3:$M$519,9,0)))","v":""},{"$f":"IF(ISERROR(PROPER(VLOOKUP(ROW(A81),$A$3:$M$519,4,0))),\"\",PROPER(VLOOKUP(ROW(A81),$A$3:$M$519,4,0)))","v":""},{"$f":"IF(ISERROR(VLOOKUP(ROW(A81),$A$3:$M$519,8,0)),\"\",VLOOKUP(ROW(A81),$A$3:$M$519,8,0))","v":""},{"$f":"IF(ISERROR(VLOOKUP(ROW(A81),$A$3:$M$519,12,0)),\"\",VLOOKUP(ROW(A81),$A$3:$M$519,12,0))","v":""},{"$f":"IF(ISERROR(VLOOKUP(ROW(A81),$A$3:$M$519,13,0)),\"\",VLOOKUP(ROW(A81),$A$3:$M$519,13,0))","v":""}]
[{"$f":"IF(St='Abandoned Data'!B84,1+A83,0)","v":0},"IN","Knox","Illinois",0,"Solar Sources Underground L.L.C.",null,0.18857142857142856,2006,"Unknown","Unknown",3.72,-0.42,{"$f":"IF(ISERROR((VLOOKUP(ROW(A82),$A$3:$M$519,1,0))),\"\",(VLOOKUP(ROW(A82),$A$3:$M$519,1,0)))","v":""},{"$f":"IF(ISERROR(PROPER(VLOOKUP(ROW(A82),$A$3:$M$519,6,0))),\"\",PROPER(VLOOKUP(ROW(A82),$A$3:$M$519,6,0)))","v":""},{"$f":"IF(ISERROR(PROPER(VLOOKUP(ROW(A82),$A$3:$M$519,3,0))),\"\",PROPER(VLOOKUP(ROW(A82),$A$3:$M$519,3,0)))","v":""},{"$f":"IF(ISERROR(PROPER(VLOOKUP(ROW(A82),$A$3:$M$519,10,0))),\"\",PROPER(VLOOKUP(ROW(A82),$A$3:$M$519,10,0)))","v":""},{"$f":"IF(ISERROR(PROPER(VLOOKUP(ROW(A82),$A$3:$M$519,9,0))),\"\",PROPER(VLOOKUP(ROW(A82),$A$3:$M$519,9,0)))","v":""},{"$f":"IF(ISERROR(PROPER(VLOOKUP(ROW(A82),$A$3:$M$519,4,0))),\"\",PROPER(VLOOKUP(ROW(A82),$A$3:$M$519,4,0)))","v":""},{"$f":"IF(ISERROR(VLOOKUP(ROW(A82),$A$3:$M$519,8,0)),\"\",VLOOKUP(ROW(A82),$A$3:$M$519,8,0))","v":""},{"$f":"IF(ISERROR(VLOOKUP(ROW(A82),$A$3:$M$519,12,0)),\"\",VLOOKUP(ROW(A82),$A$3:$M$519,12,0))","v":""},{"$f":"IF(ISERROR(VLOOKUP(ROW(A82),$A$3:$M$519,13,0)),\"\",VLOOKUP(ROW(A82),$A$3:$M$519,13,0))","v":""}]
[{"$f":"IF(St='Abandoned Data'!B85,1+A84,0)","v":0},"KY","Pike","Central Appl.",null,"Ovenfork Mine",null,2.4,1992,"Unknown","Unknown",3.72,-0.42,{"$f":"IF(ISERROR((VLOOKUP(ROW(A84),$A$3:$M$519,1,0))),\"\",(VLOOKUP(ROW(A84),$A$3:$M$519,1,0)))","v":""},{"$f":"IF(ISERROR(PROPER(VLOOKUP(ROW(A84),$A$3:$M$519,6,0))),\"\",PROPER(VLOOKUP(ROW(A84),$A$3:$M$519,6,0)))","v":""},{"$f":"IF(ISERROR(PROPER(VLOOKUP(ROW(A84),$A$3:$M$519,3,0))),\"\",PROPER(VLOOKUP(ROW(A84),$A$3:$M$519,3,0)))","v":""},{"$f":"IF(ISERROR(PROPER(VLOOKUP(ROW(A84),$A$3:$M$519,10,0))),\"\",PROPER(VLOOKUP(ROW(A84),$A$3:$M$519,10,0)))","v":""},{"$f":"IF(ISERROR(PROPER(VLOOKUP(ROW(A84),$A$3:$M$519,9,0))),\"\",PROPER(VLOOKUP(ROW(A84),$A$3:$M$519,9,0)))","v":""},{"$f":"IF(ISERROR(PROPER(VLOOKUP(ROW(A84),$A$3:$M$519,4,0))),\"\",PROPER(VLOOKUP(ROW(A84),$A$3:$M$519,4,0)))","v":""},{"$f":"IF(ISERROR(VLOOKUP(ROW(A84),$A$3:$M$519,8,0)),\"\",VLOOKUP(ROW(A84),$A$3:$M$519,8,0))","v":""},{"$f":"IF(ISERROR(VLOOKUP(ROW(A84),$A$3:$M$519,12,0)),\"\",VLOOKUP(ROW(A84),$A$3:$M$519,12,0))","v":""},{"$f":"IF(ISERROR(VLOOKUP(ROW(A84),$A$3:$M$519,13,0)),\"\",VLOOKUP(ROW(A84),$A$3:$M$519,13,0))","v":""}]
[{"$f":"IF(St='Abandoned Data'!B86,1+A85,0)","v":0},"KY","Martin","Central Appl.","Warfield/Pond Ck.","Wolf Creek No 4","Flooded",1,1995,"Flooded","No",3.72,-0.42,{"$f":"IF(ISERROR((VLOOKUP(ROW(#REF!),$A$3:$M$519,1,0))),\"\",(VLOOKUP(ROW(#REF!),$A$3:$M$519,1,0)))","v":""},{"$f":"IF(ISERROR(PROPER(VLOOKUP(ROW(#REF!),$A$3:$M$519,6,0))),\"\",PROPER(VLOOKUP(ROW(#REF!),$A$3:$M$519,6,0)))","v":""},{"$f":"IF(ISERROR(PROPER(VLOOKUP(ROW(#REF!),$A$3:$M$519,3,0))),\"\",PROPER(VLOOKUP(ROW(#REF!),$A$3:$M$519,3,0)))","v":""},{"$f":"IF(ISERROR(PROPER(VLOOKUP(ROW(#REF!),$A$3:$M$519,10,0))),\"\",PROPER(VLOOKUP(ROW(#REF!),$A$3:$M$519,10,0)))","v":""},{"$f":"IF(ISERROR(PROPER(VLOOKUP(ROW(#REF!),$A$3:$M$519,9,0))),\"\",PROPER(VLOOKUP(ROW(#REF!),$A$3:$M$519,9,0)))","v":""},{"$f":"IF(ISERROR(PROPER(VLOOKUP(ROW(#REF!),$A$3:$M$519,4,0))),\"\",PROPER(VLOOKUP(ROW(#REF!),$A$3:$M$519,4,0)))","v":""},{"$f":"IF(ISERROR(VLOOKUP(ROW(#REF!),$A$3:$M$519,8,0)),\"\",VLOOKUP(ROW(#REF!),$A$3:$M$519,8,0))","v":""},{"$f":"IF(ISERROR(VLOOKUP(ROW(#REF!),$A$3:$M$519,12,0)),\"\",VLOOKUP(ROW(#REF!),$A$3:$M$519,12,0))","v":""},{"$f":"IF(ISERROR(VLOOKUP(ROW(#REF!),$A$3:$M$519,13,0)),\"\",VLOOKUP(ROW(#REF!),$A$3:$M$519,13,0))","v":""}]
[{"$f":"IF(St='Abandoned Data'!B87,1+A86,0)","v":0},"KY","Harlan","Central Appl.","Harlan","Arch No. 37",null,1,1999,"Unknown","Unknown",3.72,-0.42,{"$f":"IF(ISERROR((VLOOKUP(ROW(A85),$A$3:$M$519,1,0))),\"\",(VLOOKUP(ROW(A85),$A$3:$M$519,1,0)))","v":""},{"$f":"IF(ISERROR(PROPER(VLOOKUP(ROW(A85),$A$3:$M$519,6,0))),\"\",PROPER(VLOOKUP(ROW(A85),$A$3:$M$519,6,0)))","v":""},{"$f":"IF(ISERROR(PROPER(VLOOKUP(ROW(A85),$A$3:$M$519,3,0))),\"\",PROPER(VLOOKUP(ROW(A85),$A$3:$M$519,3,0)))","v":""},{"$f":"IF(ISERROR(PROPER(VLOOKUP(ROW(A85),$A$3:$M$519,10,0))),\"\",PROPER(VLOOKUP(ROW(A85),$A$3:$M$519,10,0)))","v":""},{"$f":"IF(ISERROR(PROPER(VLOOKUP(ROW(A85),$A$3:$M$519,9,0))),\"\",PROPER(VLOOKUP(ROW(A85),$A$3:$M$519,9,0)))","v":""},{"$f":"IF(ISERROR(PROPER(VLOOKUP(ROW(A85),$A$3:$M$519,4,0))),\"\",PROPER(VLOOKUP(ROW(A85),$A$3:$M$519,4,0)))","v":""},{"$f":"IF(ISERROR(VLOOKUP(ROW(A85),$A$3:$M$519,8,0)),\"\",VLOOKUP(ROW(A85),$A$3:$M$519,8,0))","v":""},{"$f":"IF(ISERROR(VLOOKUP(ROW(A85),$A$3:$M$519,12,0)),\"\",VLOOKUP(ROW(A85),$A$3:$M$519,12,0))","v":""},{"$f":"IF(ISERROR(VLOOKUP(ROW(A85),$A$3:$M$519,13,0)),\"\",VLOOKUP(ROW(A85),$A$3:$M$519,13,0))","v":""}]
[{"$f":"IF(St='Abandoned Data'!B88,1+A87,0)","v":0},"KY","Martin","Central Appl.",null,"Wolf Creek No.3","Sealed",0.75,1977,"Sealed","No",3.72,-0.42,"","","","","","","","",""]
[{"$f":"IF(St='Abandoned Data'!B89,1+A88,0)","v":0},"KY","Pike","Central Appl.","Pond Creek","Leslie","Sealed",0.75,1981,"Sealed","No",3.72,-0.42,"","","","","","","","",""]
[{"$f":"IF(St='Abandoned Data'!B90,1+A89,0)","v":0},"KY","Pike","Central Appl.","Pond Creek","Mate Creek No 2",null,0.75,1994,"Unknown","Unknown",3.72,-0.42,"","","","","","","","",""]
[{"$f":"IF(St='Abandoned Data'!B91,1+A90,0)","v":0},"KY","Martin","Central Appl.",null,"Pontiki No. 1 Mine",null,0.6,2001,"Unknown","Unknown",3.72,-0.42,"","","","","","","","",""]
[{"$f":"IF(St='Abandoned Data'!B92,1+A91,0)","v":0},"KY","Martin","Central Appl.",null,"Wolf Creek No 1",null,0.5,1986,"Unknown","Unknown",3.72,-0.42,"","","","","","","","",""]
[{"$f":"IF(St='Abandoned Data'!B93,1+A92,0)","v":0},"KY","Letcher","Central Appl.","Pond Creek","Scotia Mine",null,0.4,1982,"Unknown","Unknown",3.72,-0.42,"","","","","","","","",""]
[{"$f":"IF(St='Abandoned Data'!B94,1+A93,0)","v":0},"KY","Pike","Central Appl.",null,"No. 1 Mine (D)",null,0.35,1982,"Unknown","Unknown",3.72,-0.42,"","","","","","","","",""]
[{"$f":"IF(St='Abandoned Data'!B95,1+A94,0)","v":0},"KY","Pike","Central Appl.",null,"No. 2 Mine (D)",null,0.35,1982,"Unknown","Unknown",3.72,-0.42,"","","","","","","","",""]
[{"$f":"IF(St='Abandoned Data'!B96,1+A95,0)","v":0},"KY","Pike","Central Appl.",null,"No. 6 Mine (D)",null,0.35,1983,"Unknown","Unknown",3.72,-0.42,"","","","","","","","",""]
[{"$f":"IF(St='Abandoned Data'!B97,1+A96,0)","v":0},"KY","Whitley","Central Appl.",null,"No. 1",null,0.35,1986,"Unknown","Unknown",3.72,-0.42,"","","","","","","","",""]
[{"$f":"IF(St='Abandoned Data'!B98,1+A97,0)","v":0},"KY","MeCreary","Central Appl.",null,"Justus",null,0.35,1994,"Unknown","Unknown",3.72,-0.42,"","","","","","","","",""]
[{"$f":"IF(St='Abandoned Data'!B99,1+A98,0)","v":0},"KY","Henderson","Central Appl.",null,"Retiki","Sealed",0.35,1995,{"$f":"IF(G99=0,\"Unknown\",VLOOKUP(G99,$B$525:$C$540,2,FALSE))","v":"Sealed"},{"$f":"IF(J99=\"unknown\",\"Unknown\",VLOOKUP(G99,$B$525:$D$540,3,FALSE))","v":"No"},3.72,-0.42,"","","","","","","","",""]
[{"$f":"IF(St='Abandoned Data'!B100,1+A99,0)","v":0},"KY","Leslie","Central Appl.",null,"No 2",null,0.35,1996,"Unknown","Unknown",3.72,-0.42,"","","","","","","","",""]
[{"$f":"IF(St='Abandoned Data'!B101,1+A100,0)","v":0},"KY","Whitley","Central Appl.",null,"Blue Gem No 1",null,0.35,1997,"Unknown","Unknown",3.72,-0.42,"","","","","","","","",""]
[{"$f":"IF(St='Abandoned Data'!B102,1+A101,0)","v":0},"KY","Pike","Central Appl.",null,"No 3",null,0.35,1997,"Unknown","Unknown",3.72,-0.42,"","","","","","","","",""]
[{"$f":"IF(St='Abandoned Data'!B103,1+A102,0)","v":0},"KY","Martin","Central Appl.",null,"No 3",null,0.3,1972,"Unknown","Unknown",3.72,-0.42,"","","","","","","","",""]
[{"$f":"IF(St='Abandoned Data'!B104,1+A103,0)","v":0},"KY","Pike","Central Appl.",null,"Road Fork No 1",null,0.3,1987,"Unknown","Unknown",3.72,-0.42,"","","","","","","","",""]
[{"$f":"IF(St='Abandoned Data'!B105,1+A104,0)","v":0},"KY","Leslie","Central Appl.",null,"No. 60",null,0.3,2001,"Unknown","Unknown",3.72,-0.42,"","","","","","","","",""]
[{"$f":"IF(St='Abandoned Data'!B106,1+A105,0)","v":0},"KY","Johnson","Central Appl.",null,"White Ash No 1",null,0.2,1978,"Unknown","Unknown",3.72,-0.42,"","","","","","","","",""]
[{"$f":"IF(St='Abandoned Data'!B107,1+A106,0)","v":0},"KY","Pike","Central Appl.","Pond Creek","Scotts Branch",null,0.2,1981,"Unknown","Unknown",3.72,-0.42,"","","","","","","","",""]
[{"$f":"IF(St='Abandoned Data'!B108,1+A107,0)","v":0},"KY","Pike","Central Appl.",null,"No. 1 Mine (D)",null,0.2,1983,"Unknown","Unknown",3.72,-0.42,"","","","","","","","",""]
[{"$f":"IF(St='Abandoned Data'!B109,1+A108,0)","v":0},"KY","Pike","Central Appl.",null,"No. 1 Mine ",null,0.2,1988,"Unknown","Unknown",3.72,-0.42,"","","","","","","","",""]
[{"$f":"IF(St='Abandoned Data'!B110,1+A109,0)","v":0},"KY","Pike","Central Appl.",null,"New ERA No 1",null,0.2,1989,"Unknown","Unknown",3.72,-0.42,"","","","","","","","",""]
[{"$f":"IF(St='Abandoned Data'!B111,1+A110,0)","v":0},"KY","Leslie","Central Appl.",null,"No. 1 Mine ",null,0.2,1989,"Unknown","Unknown",3.72,-0.42,"","","","","","","","",""]
[{"$f":"IF(St='Abandoned Data'!B112,1+A111,0)","v":0},"KY","Harlan","Central Appl.","Lowsplint/Creech","Creech No 1",null,0.2,1995,"Unknown","Unknown",3.72,-0.42,"","","","","","","","",""]
[{"$f":"IF(St='Abandoned Data'!B113,1+A112,0)","v":0},"KY","Harlan","Central Appl.","Harlan","Harlan No.1",null,0.2,1995,"Unknown","Unknown",3.72,-0.42,"","","","","","","","",""]
[{"$f":"IF(St='Abandoned Data'!B114,1+A113,0)","v":0},"KY","Leslie","Central Appl.","Hazard No.4","Unicorn No.2",null,0.2,1996,"Unknown","Unknown",3.72,-0.42,"","","","","","","","",""]
[{"$f":"IF(St='Abandoned Data'!B115,1+A114,0)","v":0},"KY","Pike","Central Appl.",null,"Big Creek No 1",null,0.15,1981,"Unknown","Unknown",3.72,-0.42,"","","","","","","","",""]
[{"$f":"IF(St='Abandoned Data'!B116,1+A115,0)","v":0},"KY","Martin","Central Appl.",null,"Peter Cave No 1",null,0.15,1989,"Unknown","Unknown",3.72,-0.42,"","","","","","","","",""]
[{"$f":"IF(St='Abandoned Data'!B117,1+A116,0)","v":0},"KY","Harlan","Central Appl.",null,"No. 10 Wisconsin Steel Mine",null,0.1,1974,"Unknown","Unknown",3.72,-0.42,"","","","","","","","",""]
[{"$f":"IF(St='Abandoned Data'!B118,1+A117,0)","v":0},"KY","Pike","Central Appl.",null,"No.26-L",null,0.1,1986,"Unknown","Unknown",3.72,-0.42,"","","","","","","","",""]
[{"$f":"IF(St='Abandoned Data'!B119,1+A118,0)","v":0},"KY","Pike","Central Appl.",null,"Big Creek No 2",null,0.1,1988,"Unknown","Unknown",3.72,-0.42,{"$f":"IF(ISERROR((VLOOKUP(ROW(A117),$A$3:$M$519,1,0))),\"\",(VLOOKUP(ROW(A117),$A$3:$M$519,1,0)))","v":""},{"$f":"IF(ISERROR(PROPER(VLOOKUP(ROW(A117),$A$3:$M$519,6,0))),\"\",PROPER(VLOOKUP(ROW(A117),$A$3:$M$519,6,0)))","v":""},{"$f":"IF(ISERROR(PROPER(VLOOKUP(ROW(A117),$A$3:$M$519,3,0))),\"\",PROPER(VLOOKUP(ROW(A117),$A$3:$M$519,3,0)))","v":""},{"$f":"IF(ISERROR(PROPER(VLOOKUP(ROW(A117),$A$3:$M$519,10,0))),\"\",PROPER(VLOOKUP(ROW(A117),$A$3:$M$519,10,0)))","v":""},{"$f":"IF(ISERROR(PROPER(VLOOKUP(ROW(A117),$A$3:$M$519,9,0))),\"\",PROPER(VLOOKUP(ROW(A117),$A$3:$M$519,9,0)))","v":""},{"$f":"IF(ISERROR(PROPER(VLOOKUP(ROW(A117),$A$3:$M$519,4,0))),\"\",PROPER(VLOOKUP(ROW(A117),$A$3:$M$519,4,0)))","v":""},{"$f":"IF(ISERROR(VLOOKUP(ROW(A117),$A$3:$M$519,8,0)),\"\",VLOOKUP(ROW(A117),$A$3:$M$519,8,0))","v":""},{"$f":"IF(ISERROR(VLOOKUP(ROW(A117),$A$3:$M$519,12,0)),\"\",VLOOKUP(ROW(A117),$A$3:$M$519,12,0))","v":""},{"$f":"IF(ISERROR(VLOOKUP(ROW(A117),$A$3:$M$519,13,0)),\"\",VLOOKUP(ROW(A117),$A$3:$M$519,13,0))","v":""}]
[{"$f":"IF(St='Abandoned Data'!B120,1+A119,0)","v":0},"KY","Pike","Central Appl.",null,"No. 4 Mine ",null,0.1,1989,"Unknown","Unknown",3.72,-0.42,"","","","","","","","",""]
[{"$f":"IF(St='Abandoned Data'!B121,1+A120,0)","v":0},"KY","Letcher","Central Appl.",null,"Upper Taggert Mine",null,0.1,1989,"Unknown","Unknown",3.72,-0.42,"","","","","","","","",""]
[{"$f":"IF(St='Abandoned Data'!B122,1+A121,0)","v":0},"KY","Pike","Central Appl.",null,"Unit Mine",null,0.1,1989,"Unknown","Unknown",3.72,-0.42,"","","","","","","","",""]
[{"$f":"IF(St='Abandoned Data'!B123,1+A122,0)","v":0},"KY","Pike","Central Appl.","Elkhorn No.3","No.9",null,0.1,1995,"Unknown","Unknown",3.72,-0.42,"","","","","","","","",""]
[{"$f":"IF(St='Abandoned Data'!B124,1+A123,0)","v":0},"KY","Harlan","Central Appl.",null,"Darby Fork No 1",null,0.1,1997,"Unknown","Unknown",3.72,-0.42,"","","","","","","","",""]
[{"$f":"IF(St='Abandoned Data'!B125,1+A124,0)","v":0},"KY","Pike","Central Appl.",null,"Smith Fork",null,0.1,2001,"Unknown","Unknown",3.72,-0.42,"","","","","","","","",""]
[{"$f":"IF(St='Abandoned Data'!B126,1+A125,0)","v":0},"KY","Letcher","Central Appl.",null,"Premium Mine",null,0.1,2003,"Unknown","Unknown",3.72,-0.42,"","","","","","","","",""]
[{"$f":"IF(St='Abandoned Data'!B127,1+A126,0)","v":0},"KY","Webster","Illinois","W. Kentucky No. 13","Baker Mine",null,1.51,2005,"Unknown","Unknown",3.72,-0.42,"","","","","","","","",""]
[{"$f":"IF(St='Abandoned Data'!B128,1+A127,0)","v":0},"KY","Union","Illinois","Springfield No. 5","Pyro No. 9 Slope William Station",null,1.2,1991,"Unknown","Unknown",3.72,-0.42,"","","","","","","","",""]
[{"$f":"IF(St='Abandoned Data'!B129,1+A128,0)","v":0},"KY","Hopkins","Illinois","Springfield No. 5/Kentucky No.9","Green River No.9",null,1.2,1992,"Unknown","Unknown",3.72,-0.42,"","","","","","","","",""]
[{"$f":"IF(St='Abandoned Data'!B130,1+A129,0)","v":0},"KY","Hopkins","Illinois","Kentucky 9 & 11","FIES MINE","Venting/Flooded",1.1000000000000001,1980,"Flooded","No",3.72,-0.42,"","","","","","","","",""]
[{"$f":"IF(St='Abandoned Data'!B131,1+A130,0)","v":0},"KY","Muhlenberg","Illinois",null,"Crescent","Flooded",0.75,1977,{"$f":"IF(G131=0,\"Unknown\",VLOOKUP(G131,$B$525:$C$540,2,FALSE))","v":"Flooded"},{"$f":"IF(J131=\"unknown\",\"Unknown\",VLOOKUP(G131,$B$525:$D$540,3,FALSE))","v":"No"},3.72,-0.42,"","","","","","","","",""]
[{"$f":"IF(St='Abandoned Data'!B132,1+A131,0)","v":0},"KY","Hopkins","Illinois","Kentucky 9 & 11","ZEIGLER NO 9 MINE",null,0.75,1980,"Unknown","Unknown",3.72,-0.42,"","","","","","","","",""]
[{"$f":"IF(St='Abandoned Data'!B133,1+A132,0)","v":0},"KY","Ohio","Illinois",null,"Peacock Coal Mine No. ",null,0.75,1983,"Unknown","Unknown",3.72,-0.42,"","","","","","","","",""]
[{"$f":"IF(St='Abandoned Data'!B134,1+A133,0)","v":0},"KY","Union","Illinois","Herrin No. 6 & Springfield No. 5/Kentucky No.9 & No.11","Camp No.2","Sealed",0.4,1993,"Sealed","No",3.72,-0.42,"","","","","","","","",""]
[{"$f":"IF(St='Abandoned Data'!B135,1+A134,0)","v":0},"KY","Muhlenberg","Illinois",null,"Drake No 1","Sealed/Filled",0.35,1972,"Sealed","No",3.72,-0.42,"","","","","","","","",""]
[{"$f":"IF(St='Abandoned Data'!B136,1+A135,0)","v":0},"KY","Hopkins","Illinois","Kentucky 9 & 11","East Diamond","Venting/Flooded",0.35,1972,"Flooded","No",3.72,-0.42,"","","","","","","","",""]
[{"$f":"IF(St='Abandoned Data'!B137,1+A136,0)","v":0},"KY","Union","Illinois","Kentucky 9 & 11","Pyro No 2","Sealed",0.35,1974,"Sealed","No",3.72,-0.42,"","","","","","","","",""]
[{"$f":"IF(St='Abandoned Data'!B138,1+A137,0)","v":0},"KY","Hopkins","Illinois","Kentucky 9 & 11","Island Creek No 9","Venting/Flooded",0.35,1974,"Flooded","No",3.72,-0.42,"","","","","","","","",""]
[{"$f":"IF(St='Abandoned Data'!B139,1+A138,0)","v":0},"KY","Muhlenberg","Illinois","Kentucky 9 & 11","River Queen Underground No 1","Flooded",0.35,1981,"Flooded","No",3.72,-0.42,"","","","","","","","",""]
[{"$f":"IF(St='Abandoned Data'!B140,1+A139,0)","v":0},"KY","Ohio","Illinois",null,"ALSTON NO 3 MINE",null,0.35,1981,"Unknown","Unknown",3.72,-0.42,"","","","","","","","",""]
[{"$f":"IF(St='Abandoned Data'!B141,1+A140,0)","v":0},"KY","Hopkins","Illinois",null,"Drake No 4","Flooded",0.35,1982,"Flooded","No",3.72,-0.42,"","","","","","","","",""]
[{"$f":"IF(St='Abandoned Data'!B142,1+A141,0)","v":0},"KY","Hopkins","Illinois","Kentucky 9 & 11","Providence No 1","Venting/Flooded",0.35,1982,"Flooded","No",3.72,-0.42,"","","","","","","","",""]
[{"$f":"IF(St='Abandoned Data'!B143,1+A142,0)","v":0},"KY","Union","Illinois","Kentucky 9 & 11","Peaboby Camp No 1","Sealed",0.35,1983,"Sealed","No",3.72,-0.42,"","","","","","","","",""]
[{"$f":"IF(St='Abandoned Data'!B144,1+A143,0)","v":0},"KY","Hopkins","Illinois",null,"Busick Mine",null,0.35,1983,"Unknown","Unknown",3.72,-0.42,"","","","","","","","",""]
[{"$f":"IF(St='Abandoned Data'!B145,1+A144,0)","v":0},"KY","Ohio","Illinois","Kentucky 9 & 11","KEN NO 4 MINE",null,0.35,1984,"Unknown","Unknown",3.72,-0.42,"","","","","","","","",""]
[{"$f":"IF(St='Abandoned Data'!B146,1+A145,0)","v":0},"KY","Muhlenberg","Illinois","Kentucky 9 & 11","Star Underground","Flooded",0.35,1989,"Flooded","No",3.72,-0.42,"","","","","","","","",""]
[{"$f":"IF(St='Abandoned Data'!B147,1+A146,0)","v":0},"KY","Webster","Illinois",null,"Dorea","Sealed/Filled",0.35,1993,"Sealed","No",3.72,-0.42,"","","","","","","","",""]
[{"$f":"IF(St='Abandoned Data'!B148,1+A147,0)","v":0},"KY","Union","Illinois","Kentucky 9 & 11","Hamilton No 2","Flooded",0.35,1994,"Flooded","No",3.72,-0.42,"","","","","","","","",""]
[{"$f":"IF(St='Abandoned Data'!B149,1+A148,0)","v":0},"KY","Hopkins","Illinois",null,"West Hopkins","Sealed/Filled",0.35,1994,"Sealed","No",3.72,-0.42,"","","","","","","","",""]
[{"$f":"IF(St='Abandoned Data'!B150,1+A149,0)","v":0},"KY","Union","Illinois","Kentucky 9 & 11","Hamilton No 1","Venting/Flooded",0.35,1996,"Flooded","No",3.72,-0.42,"","","","","","","","",""]
[{"$f":"IF(St='Abandoned Data'!B151,1+A150,0)","v":0},"KY","Webster","Illinois",null,"Smith U/G mine",null,0.35,2000,"Unknown","Unknown",3.72,-0.42,{"$f":"IF(ISERROR((VLOOKUP(ROW(A149),$A$3:$M$519,1,0))),\"\",(VLOOKUP(ROW(A149),$A$3:$M$519,1,0)))","v":""},{"$f":"IF(ISERROR(PROPER(VLOOKUP(ROW(A149),$A$3:$M$519,6,0))),\"\",PROPER(VLOOKUP(ROW(A149),$A$3:$M$519,6,0)))","v":""},{"$f":"IF(ISERROR(PROPER(VLOOKUP(ROW(A149),$A$3:$M$519,3,0))),\"\",PROPER(VLOOKUP(ROW(A149),$A$3:$M$519,3,0)))","v":""},{"$f":"IF(ISERROR(PROPER(VLOOKUP(ROW(A149),$A$3:$M$519,10,0))),\"\",PROPER(VLOOKUP(ROW(A149),$A$3:$M$519,10,0)))","v":""},{"$f":"IF(ISERROR(PROPER(VLOOKUP(ROW(A149),$A$3:$M$519,9,0))),\"\",PROPER(VLOOKUP(ROW(A149),$A$3:$M$519,9,0)))","v":""},{"$f":"IF(ISERROR(PROPER(VLOOKUP(ROW(A149),$A$3:$M$519,4,0))),\"\",PROPER(VLOOKUP(ROW(A149),$A$3:$M$519,4,0)))","v":""},{"$f":"IF(ISERROR(VLOOKUP(ROW(A149),$A$3:$M$519,8,0)),\"\",VLOOKUP(ROW(A149),$A$3:$M$519,8,0))","v":""},{"$f":"IF(ISERROR(VLOOKUP(ROW(A149),$A$3:$M$519,12,0)),\"\",VLOOKUP(ROW(A149),$A$3:$M$519,12,0))","v":""},{"$f":"IF(ISERROR(VLOOKUP(ROW(A149),$A$3:$M$519,13,0)),\"\",VLOOKUP(ROW(A149),$A$3:$M$519,13,0))","v":""}]
[{"$f":"IF(St='Abandoned Data'!B152,1+A151,0)","v":0},"KY","Muhlenberg","Illinois","No. 9","Martwick Mine","Sealed",0.25,2001,"Sealed","No",3.72,-0.42,"","","","","","","","",""]
[{"$f":"IF(St='Abandoned Data'!B153,1+A152,0)","v":0},"KY","Union","Illinois","Herrin No. 6","Pyro No. 11 Highway",null,0.2,1991,"Unknown","Unknown",3.72,-0.42,"","","","","","","","",""]
[{"$f":"IF(St='Abandoned Data'!B154,1+A153,0)","v":0},"KY","Hopkins","Illinois",null,"South Hopkins",null,0.2,1994,"Unknown","Unknown",3.72,-0.42,"","","","","","","","",""]
[{"$f":"IF(St='Abandoned Data'!B155,1+A154,0)","v":0},"KY","Union","Illinois",null,"Palco Mine",null,0.15,1989,"Unknown","Unknown",3.72,-0.42,"","","","","","","","",""]
[{"$f":"IF(St='Abandoned Data'!B156,1+A155,0)","v":0},"KY","Union","Illinois",null,"Ohio No 11",null,0.1,1989,"Unknown","Unknown",3.72,-0.42,"","","","","","","","",""]
[{"$f":"IF(St='Abandoned Data'!B157,1+A156,0)","v":0},"KY","Muhlenberg","Illinois",null,"Graham No 3",null,0.1,1990,"Unknown","Unknown",3.72,-0.42,"","","","","","","","",""]
[{"$f":"IF(St='Abandoned Data'!B158,1+A157,0)","v":0},"KY","Davies","Illinois",null,"Pride Mine",null,0.1,1990,"Unknown","Unknown",3.72,-0.42,"","","","","","","","",""]
[{"$f":"IF(St='Abandoned Data'!B159,1+A158,0)","v":0},"KY","Muhlenberg","Illinois",null,"Sinclair Slope No 2 Mine",null,0.1,1992,"Unknown","Unknown",3.72,-0.42,"","","","","","","","",""]
[{"$f":"IF(St='Abandoned Data'!B160,1+A159,0)","v":0},"KY","Leslie","Central Appl.",null,"Shamrock #18 Series",null,0.22149745319634706,2010,"Unknown","Unknown",3.72,-0.42,"","","","","","","","",""]
[{"$f":"IF(St='Abandoned Data'!B161,1+A160,0)","v":0},"KY","Ohio","Illinois",null,"Big Run Mine",null,0.14624863698830137,2011,"Unknown","Unknown",3.72,-0.42,"","","","","","","","",""]
[{"$f":"IF(St='Abandoned Data'!B162,1+A161,0)","v":0},"KY","Pike","Central Appl.",null,"Mine #1",null,0.89787777777777777,2012,"Unknown","Unknown",3.72,-0.42,"","","","","","","","",""]
[{"$f":"IF(St='Abandoned Data'!B163,1+A162,0)","v":0},"KY","Martin","Central Appl.",null,"Mine No. 2",null,0.63089981250000005,2009,{"$f":"IF(G163=0,\"Unknown\",VLOOKUP(G163,$B$525:$C$540,2,FALSE))","v":"Unknown"},{"$f":"IF(J163=\"unknown\",\"Unknown\",VLOOKUP(G163,$B$525:$D$540,3,FALSE))","v":"Unknown"},3.72,-0.42,"","","","","","","","",""]
[{"$f":"IF(St='Abandoned Data'!B164,1+A163,0)","v":0},"KY","Leslie","Central Appl.",null,"#4",null,0.17546719939117197,2008,"Unknown","Unknown",3.72,-0.42]
[{"$f":"IF(St='Abandoned Data'!B165,1+A164,0)","v":0},"KY","Union","Illinois",null,"Camp #11","Sealed",0.76500000000000001,2005,"Sealed","No",3.72,-0.42]
[{"$f":"IF(St='Abandoned Data'!B166,1+A165,0)","v":0},"KY","Pike","Central Appl.",null,"PE 2 Underground",null,0.11239233333333333,2006,"Unknown","Unknown",3.72,-0.42]
[{"$f":"IF(St='Abandoned Data'!B167,1+A166,0)","v":0},"KY","Union","Illinois",0,"Rough Creek Mine",null,0.55553796787345078,2015,"Unknown","Unknown",3.72,-0.42]
[{"$f":"IF(St='Abandoned Data'!B168,1+A167,0)","v":0},"KY","Knott","Central Appl.",0,"KY Fuels E3RF",null,0.27853736909090909,2016,"Unknown","Unknown",3.72,-0.42]
[{"$f":"IF(St='Abandoned Data'!B169,1+A168,0)","v":0},"KY","Perry","Central Appl.",0,"Perry County Coal Corp.",null,0.15,2007,"Unknown","Unknown",3.72,-0.42]
[{"$f":"IF(St='Abandoned Data'!B170,1+A169,0)","v":0},"KY","Hopkins","Illinois",0,"Magical Coal Company",null,0.28875000000000001,2004,"Unknown","Unknown",3.72,-0.42]
[{"$f":"IF(St='Abandoned Data'!B171,1+A170,0)","v":0},"KY","Webster","Illinois",0,"Lodestar Energy, Inc.","Sealed",0.81333333333333346,2006,"Sealed","No",3.72,-0.42]
[{"$f":"IF(St='Abandoned Data'!B172,1+A171,0)","v":0},"KY","Hopkins","Illinois",0,"Hopkins County Coal L.L.C.","Sealed",0.14000000000000001,2003,"Sealed","No",3.72,-0.42]
[{"$f":"IF(St='Abandoned Data'!B173,1+A172,0)","v":0},"KY","Knox","Central Appl.",null,"Alden Resources, LLC #6","Unknown",0.02,2017,"Unknown","Unknown",3.72,-0.42]
[{"$f":"IF(St='Abandoned Data'!B174,1+A173,0)","v":0},"MD","Garrett","Central Appl.",null,"Mettiki",null,0.2,1989,{"$f":"IF(G174=0,\"Unknown\",VLOOKUP(G174,$B$525:$C$540,2,FALSE))","v":"Unknown"},"Unknown",3.72,-0.42]
[{"$f":"IF(St='Abandoned Data'!B175,1+A174,0)","v":0},"NM","Colfax","Raton","Left Fork (U)","Cimarron","Sealed",0.75,1998,"Sealed","No",3.72,-0.42]
[{"$f":"IF(St='Abandoned Data'!B176,1+A175,0)","v":0},"NM","Colfax","Raton",null,"York Canyon Mine",null,0.3,1986,"Unknown","Unknown",3.72,-0.42]
[{"$f":"IF(St='Abandoned Data'!B177,1+A176,0)","v":0},"OH","Harrison","Northern Appl.","No. 6 & 6A","Nelms #1","Venting/Recovering Gas",1.9,1977,"Venting","Yes",3.72,-0.42]
[{"$f":"IF(St='Abandoned Data'!B178,1+A177,0)","v":0},"OH","Harrison","Northern Appl.","No. 6 & 6A","NELMS NO 2","Venting",1.5,1993,"Venting","No",3.72,-0.42]
[{"$f":"IF(St='Abandoned Data'!B179,1+A178,0)","v":0},"OH","Belmont","Northern Appl.","Pittsburgh","Powhatan No 4","Venting",0.75,1978,"Venting","No",3.72,-0.42]
[{"$f":"IF(St='Abandoned Data'!B180,1+A179,0)","v":0},"OH","Harrison","Northern Appl.",null,"Oak Park No 7","Sealed",0.75,1988,"Sealed","No",3.72,-0.42]
[{"$f":"IF(St='Abandoned Data'!B181,1+A180,0)","v":0},"OH","Belmont","Northern Appl.","Pittsburgh","POWHATAN NO 1","Sealed",0.6,1982,"Sealed","No",3.72,-0.42]
[{"$f":"IF(St='Abandoned Data'!B182,1+A181,0)","v":0},"OH","Harrison","Northern Appl.","Pittsburgh","Mars No 2","Flooded",0.5,1974,"Flooded","No",3.72,-0.42]
[{"$f":"IF(St='Abandoned Data'!B183,1+A182,0)","v":0},"OH","Harrison","Northern Appl.",null,"Rose Valley No. 6","Sealed",0.5,1980,"Sealed","No",3.72,-0.42]
[{"$f":"IF(St='Abandoned Data'!B184,1+A183,0)","v":0},"OH","Meigs","Northern Appl.",null,"Meigs No 1",null,0.4,1989,"Unknown","Unknown",3.72,-0.42]
[{"$f":"IF(St='Abandoned Data'!B185,1+A184,0)","v":0},"OH","Jefferson","Northern Appl.","No. 6 & 6A","Jensie","Venting",0.35,1974,"Venting","No",3.72,-0.42]
[{"$f":"IF(St='Abandoned Data'!B186,1+A185,0)","v":0},"OH","Belmont","Northern Appl.","Pittsburgh","POWHATAN NO 5 MINE","Venting",0.35,1981,"Venting","No",3.72,-0.42]
[{"$f":"IF(St='Abandoned Data'!B187,1+A186,0)","v":0},"OH","Belmont","Northern Appl.",null,"Powhatan No 3","Venting",0.35,1983,"Venting","No",3.72,-0.42]
[{"$f":"IF(St='Abandoned Data'!B188,1+A187,0)","v":0},"OH","Harrison","Northern Appl.",null,"VAIL","Venting",0.35,1984,"Venting","No",3.72,-0.42]
[{"$f":"IF(St='Abandoned Data'!B189,1+A188,0)","v":0},"OH","Belmont","Northern Appl.",null,"ALLISON MINE","Venting",0.35,1984,"Venting","No",3.72,-0.42]
[{"$f":"IF(St='Abandoned Data'!B190,1+A189,0)","v":0},"OH","Vinton","Northern Appl.",null,"Raccoon #3",null,0.35,1989,"Unknown","Unknown",3.72,-0.42]
[{"$f":"IF(St='Abandoned Data'!B191,1+A190,0)","v":0},"OH","Monroe","Northern Appl.",null,"POWHATAN 7 MINE","Temporary Seal",0.35,1992,"Sealed","No",3.72,-0.42]
[{"$f":"IF(St='Abandoned Data'!B192,1+A191,0)","v":0},"OH","Belmont","Northern Appl.",null,"Saginaw no 1","Venting",0.35,1993,"Venting","No",3.72,-0.42]
[{"$f":"IF(St='Abandoned Data'!B193,1+A192,0)","v":0},"OH","Perry","Northern Appl.","Kittanning (M)/No. 6","Sunnyhill No. 9 South",null,0.1,1991,"Unknown","Unknown",3.72,-0.42]
[{"$f":"IF(St='Abandoned Data'!B194,1+A193,0)","v":0},"OH","Carroll","Northern Appl.",0,"Carroll Hollow #6","Sealed",0.1165976116,2016,"Sealed","No",3.72,-0.42]
[{"$f":"IF(St='Abandoned Data'!B195,1+A194,0)","v":0},"OH","Monroe","Northern Appl.",0,"Quarto Mining Company","Sealed",1.4579999999999997,2007,"Sealed",{"$f":"IF(J195=\"unknown\",\"Unknown\",VLOOKUP(G195,$B$525:$D$540,3,FALSE))","v":"No"},3.72,-0.42]
[{"$f":"IF(St='Abandoned Data'!B196,1+A195,0)","v":0},"OH","Jefferson","Northern Appl.",null,"Shean Hill Mine","Unknown",1.3455999999999999E-2,2017,"Unknown","Unknown",3.72,-0.42]
[{"$f":"IF(St='Abandoned Data'!B197,1+A196,0)","v":0},"OH","Meigs ","Northern Appl.",null,"Yellowbush Mine","Unknown",0,2017,"Unknown","Unknown",3.72,-0.42]
[{"$f":"IF(St='Abandoned Data'!B198,1+A197,0)","v":0},"OK","Le Flore","Arkoma","Hart & L. Hart","Howe No 1",null,1.6,1972,{"$f":"IF(G198=0,\"Unknown\",VLOOKUP(G198,$B$525:$C$540,2,FALSE))","v":"Unknown"},"Unknown",3.72,-0.42]
[{"$f":"IF(St='Abandoned Data'!B199,1+A198,0)","v":0},"OK","Haskell","Arkoma",null,"Choctaw Coal",null,0.35,1990,"Unknown","Unknown",3.72,-0.42]
[{"$f":"IF(St='Abandoned Data'!B200,1+A199,0)","v":0},"OK","Okmulgee","Arkoma",null,"Pollyanna No 4",null,0.35,1996,"Unknown","Unknown",3.72,-0.42]
[{"$f":"IF(St='Abandoned Data'!B201,1+A200,0)","v":0},"OK","Le Flore","West Interior",null,"South Central Mine",null,1.0463018572181242,2010,"Unknown","Unknown",3.72,-0.42]
[{"$f":"IF(St='Abandoned Data'!B202,1+A201,0)","v":0},"PA","Cambria","Northern Appl.","Kittaning (U & L)","Cambria Slope No 33","Sealed/Recovering Methane",14,1994,"Sealed","Yes",3.72,-0.42]
[{"$f":"IF(St='Abandoned Data'!B203,1+A202,0)","v":0},"PA","Cambria","Northern Appl.","Kittaning (U & L)","Bethlehem No 32","Sealed",4.5,1985,"Sealed","No",3.72,-0.42]
[{"$f":"IF(St='Abandoned Data'!B204,1+A203,0)","v":0},"PA","Washington","Northern Appl.","Pittsburgh","MONTOUR #4","Flooded",3,1983,"Flooded","No",3.72,-0.42]
[{"$f":"IF(St='Abandoned Data'!B205,1+A204,0)","v":0},"PA","Greene","Northern Appl.","Pittsburgh","GATEWAY MINE","Recovering Methane/Partially Flooded",2.6,1992,"Flooded","Yes",3.72,-0.42]
[{"$f":"IF(St='Abandoned Data'!B206,1+A205,0)","v":0},"PA","Washington","Northern Appl.","Pittsburgh","Marianna No 58","Sealed/Partially Flooded",2.2000000000000002,1988,"Flooded","No",3.72,-0.42]
[{"$f":"IF(St='Abandoned Data'!B207,1+A206,0)","v":0},"PA","Greene","Northern Appl.","Pittsburgh","ROBENA MINE","Flooded",2.1,1984,"Flooded","No",3.72,-0.42]
[{"$f":"IF(St='Abandoned Data'!B208,1+A207,0)","v":0},"PA","Indiana","Northern Appl.","Freeport (U)","Homer City",null,1.7,1993,"Unknown","Unknown",3.72,-0.42]
[{"$f":"IF(St='Abandoned Data'!B209,1+A208,0)","v":0},"PA","Washington","Northern Appl.","Pittsburgh","VESTA #5 MINE","Flooded",1.6,1996,"Flooded","No",3.72,-0.42]
[{"$f":"IF(St='Abandoned Data'!B210,1+A209,0)","v":0},"PA","Luzerne","Northern Appl.","Miscellaneous","Forge Slope",null,1.5,1972,"Unknown","Unknown",3.72,-0.42]
[{"$f":"IF(St='Abandoned Data'!B211,1+A210,0)","v":0},"PA","Washington","Northern Appl.","Pittsburgh","Somerset No. 60",null,1.5,1990,"Unknown","Unknown",3.72,-0.42]
[{"$f":"IF(St='Abandoned Data'!B212,1+A211,0)","v":0},"PA","Indiana","Northern Appl.","Freeport (L)","Greenwich Collieries No 2",null,1.2,1993,"Unknown","Unknown",3.72,-0.42]
[{"$f":"IF(St='Abandoned Data'!B213,1+A212,0)","v":0},"PA","Greene","Northern Appl.","Pittsburgh","Warwick Mine No 3","Flooded/Pumping Water",1.1000000000000001,1997,"Flooded","No",3.72,-0.42]
[{"$f":"IF(St='Abandoned Data'!B214,1+A213,0)","v":0},"PA","Washington","Northern Appl.",null,"Maple Creek No. 2",null,1,1986,"Unknown","Unknown",3.72,-0.42]
[{"$f":"IF(St='Abandoned Data'!B215,1+A214,0)","v":0},"PA","Greene","Northern Appl.","Pittsburgh","Shannopin Mine","Sealed*",1,1996,"Sealed","No",3.72,-0.42]
[{"$f":"IF(St='Abandoned Data'!B216,1+A215,0)","v":0},"PA","Cambria","Northern Appl.","Fpt  2 & 6, L. Fpt","Lancashire No 20","Sealed",0.9,1988,"Sealed","No",3.72,-0.42]
[{"$f":"IF(St='Abandoned Data'!B217,1+A216,0)","v":0},"PA","Westmoreland","Northern Appl.",null,"Banning No 4","Flooded",0.75,1983,"Flooded","No",3.72,-0.42]
[{"$f":"IF(St='Abandoned Data'!B218,1+A217,0)","v":0},"PA","Washington","Northern Appl.",null,"Beth Ellsworth No 51","Flooded",0.75,1983,"Flooded","No",3.72,-0.42]
[{"$f":"IF(St='Abandoned Data'!B219,1+A218,0)","v":0},"PA","Somerset","Northern Appl.",null,"BIRD #2","Flooded",0.75,1991,"Flooded","No",3.72,-0.42]
[{"$f":"IF(St='Abandoned Data'!B220,1+A219,0)","v":0},"PA","Allegheny","Northern Appl.","Freeport (U)","Newfield","Sealed*",0.75,1995,"Sealed","No",3.72,-0.42]
[{"$f":"IF(St='Abandoned Data'!B221,1+A220,0)","v":0},"PA","Washington","Northern Appl.","Pittsburgh","Westland","Sealed/Pumping Water",0.75,1996,"Sealed","No",3.72,-0.42]
[{"$f":"IF(St='Abandoned Data'!B222,1+A221,0)","v":0},"PA","Armstrong","Northern Appl.",null,"Jane","Sealed*",0.75,1996,"Sealed","No",3.72,-0.42]
[{"$f":"IF(St='Abandoned Data'!B223,1+A222,0)","v":0},"PA","Indiana","Northern Appl.","U Fpt.","Marion","Sealed*",0.75,1997,"Sealed","No",3.72,-0.42]
[{"$f":"IF(St='Abandoned Data'!B224,1+A223,0)","v":0},"PA","Indiana","Northern Appl.",null,"Tanoma Mine",null,0.75,2001,"Unknown","Unknown",3.72,-0.42]
[{"$f":"IF(St='Abandoned Data'!B225,1+A224,0)","v":0},"PA","Indiana","Northern Appl.","Freeport (L)","Urling No. 1","Venting",0.7,1989,"Venting","No",3.72,-0.42]
[{"$f":"IF(St='Abandoned Data'!B226,1+A225,0)","v":0},"PA","Indiana","Northern Appl.","Freeport (L)","Urling No. 3","Venting",0.7,1991,"Venting","No",3.72,-0.42]
[{"$f":"IF(St='Abandoned Data'!B227,1+A226,0)","v":0},"PA","Allegheny","Northern Appl.","Fpt  2 & 6, L. Fpt","Renton Mine","Sealed/Pumping Water",0.7,1992,"Sealed","No",3.72,-0.42]
[{"$f":"IF(St='Abandoned Data'!B228,1+A227,0)","v":0},"PA","Greene","Northern Appl.","Pittsburgh","Nemacolin Mine","Flooded",0.6,1996,"Flooded","No",3.72,-0.42]
[{"$f":"IF(St='Abandoned Data'!B229,1+A228,0)","v":0},"PA","Greene","Northern Appl.","Pittsburgh","Lazarus",null,0.6,1996,"Unknown","Unknown",3.72,-0.42]
[{"$f":"IF(St='Abandoned Data'!B230,1+A229,0)","v":0},"PA","Washington","Northern Appl.","Pittsburgh","WESTLAND #2","Sealed",0.4,1983,{"$f":"IF(G230=0,\"Unknown\",VLOOKUP(G230,$B$525:$C$540,2,FALSE))","v":"Sealed"},"No",3.72,-0.42]
[{"$f":"IF(St='Abandoned Data'!B231,1+A230,0)","v":0},"PA","Somerset","Northern Appl.","Kittanning (L)","BIRD #3","Flooded",0.4,1991,"Flooded","No",3.72,-0.42]
[{"$f":"IF(St='Abandoned Data'!B232,1+A231,0)","v":0},"PA","Centre","Northern Appl.","Brookville \"A\"","Rushton",null,0.4,1992,"Unknown","Unknown",3.72,-0.42]
[{"$f":"IF(St='Abandoned Data'!B233,1+A232,0)","v":0},"PA","Westmoreland","Northern Appl.","Pittsburgh","Hutchinson","Flooded",0.35,1973,"Flooded","No",3.72,-0.42]
[{"$f":"IF(St='Abandoned Data'!B234,1+A233,0)","v":0},"PA","Cambria","Northern Appl.",null,"Bethlehem No 31","Sealed*",0.35,1982,"Sealed","No",3.72,-0.42]
[{"$f":"IF(St='Abandoned Data'!B235,1+A234,0)","v":0},"PA","Indiana","Northern Appl.","Kittaning ","CONEMAUGH NO. 1",null,0.35,1982,"Unknown","Unknown",3.72,-0.42]
[{"$f":"IF(St='Abandoned Data'!B236,1+A235,0)","v":0},"PA","Cambria","Northern Appl.","Lower Kittaning","Nanty Glo No 31","Sealed*",0.35,1984,"Sealed","No",3.72,-0.42]
[{"$f":"IF(St='Abandoned Data'!B237,1+A236,0)","v":0},"PA","Cambria","Northern Appl.","Fpt  2 & 6, L. Fpt","Lancashire No 25","Sealed*",0.35,1986,"Sealed","No",3.72,-0.42]
[{"$f":"IF(St='Abandoned Data'!B238,1+A237,0)","v":0},"PA","Westmoreland","Northern Appl.","Fpt. & L. Fpt.","DELMONT","Flooded",0.35,1988,"Flooded","No",3.72,-0.42]
[{"$f":"IF(St='Abandoned Data'!B239,1+A238,0)","v":0},"PA","Allegheny","Northern Appl.","Fpt.","HARMAR MINE","Sealed*",0.35,1989,"Sealed","No",3.72,-0.42]
[{"$f":"IF(St='Abandoned Data'!B240,1+A239,0)","v":0},"PA","Allegheny","Northern Appl.",null,"OCEAN #5 MINE","Sealed*",0.35,1994,"Sealed","No",3.72,-0.42]
[{"$f":"IF(St='Abandoned Data'!B241,1+A240,0)","v":0},"PA","Somerset","Northern Appl.","Kittanning (U)","Grove No. 1",null,0.35,1994,"Unknown","Unknown",3.72,-0.42]
[{"$f":"IF(St='Abandoned Data'!B242,1+A241,0)","v":0},"PA","Indiana","Northern Appl.",null,"Lucerne No 8",null,0.35,1995,"Unknown","Unknown",3.72,-0.42]
[{"$f":"IF(St='Abandoned Data'!B243,1+A242,0)","v":0},"PA","Indiana","Northern Appl.","Freeport (L)","Lucerne No. 9","Sealed/Partially Flooded",0.35,1995,"Flooded","No",3.72,-0.42]
[{"$f":"IF(St='Abandoned Data'!B244,1+A243,0)","v":0},"PA","Armstrong","Northern Appl.",null,"DAVID MINE","Sealed/Adj to Dianne Mine",0.35,1996,"Sealed","No",3.72,-0.42]
[{"$f":"IF(St='Abandoned Data'!B245,1+A244,0)","v":0},"PA","Greene","Northern Appl.",null,"Monongahela Resource","Venting",0.35,1996,"Venting","No",3.72,-0.42]
[{"$f":"IF(St='Abandoned Data'!B246,1+A245,0)","v":0},"PA","Greene","Northern Appl.","Pittsburgh","WARWICK MINE NO. 2","Sealed",0.3,1980,"Sealed","No",3.72,-0.42]
[{"$f":"IF(St='Abandoned Data'!B247,1+A246,0)","v":0},"PA","Cambria","Northern Appl.","Kittaning (U & L)","Bethlehem No 77","Flooded/Pumping Water",0.3,1982,"Flooded","No",3.72,-0.42]
[{"$f":"IF(St='Abandoned Data'!B248,1+A247,0)","v":0},"PA","Indiana","Northern Appl.","Freeport (L)","Greenwich Collieries No 1",null,0.3,1988,"Unknown","Unknown",3.72,-0.42]
[{"$f":"IF(St='Abandoned Data'!B249,1+A248,0)","v":0},"PA","Indiana","Northern Appl.","B","Florence No. 2",null,0.3,1994,"Unknown","Unknown",3.72,-0.42]
[{"$f":"IF(St='Abandoned Data'!B250,1+A249,0)","v":0},"PA","Indiana","Northern Appl.",null,"Lucerne No. 6 Extension",null,0.3,2000,"Unknown","Unknown",3.72,-0.42]
[{"$f":"IF(St='Abandoned Data'!B251,1+A250,0)","v":0},"PA","Luzerne","Northern Appl.",null,"No. 19  Wanamie Colliery",null,0.2,1972,"Unknown","Unknown",3.72,-0.42]
[{"$f":"IF(St='Abandoned Data'!B252,1+A251,0)","v":0},"PA","Washington","Northern Appl.",null,"VESTA #4 MINE","Sealed",0.2,1980,"Sealed","No",3.72,-0.42]
[{"$f":"IF(St='Abandoned Data'!B253,1+A252,0)","v":0},"PA","Allegheny","Northern Appl.","Fpt.","Oakmont",null,0.2,1980,"Unknown","Unknown",3.72,-0.42]
[{"$f":"IF(St='Abandoned Data'!B254,1+A253,0)","v":0},"PA","Fayette","Northern Appl.","Pittsburgh","Isabella","Sealed",0.2,1984,"Sealed","No",3.72,-0.42]
[{"$f":"IF(St='Abandoned Data'!B255,1+A254,0)","v":0},"PA","Cambria","Northern Appl.",null,"Lancashire No 24",null,0.2,1986,"Unknown","Unknown",3.72,-0.42]
[{"$f":"IF(St='Abandoned Data'!B256,1+A255,0)","v":0},"PA","Indiana","Northern Appl.","B","Florence No. 1",null,0.2,1990,"Unknown","Unknown",3.72,-0.42]
[{"$f":"IF(St='Abandoned Data'!B257,1+A256,0)","v":0},"PA","Indiana","Northern Appl.",null,"Urling No. 2 Mine","Venting",0.2,2001,"Venting","No",3.72,-0.42]
[{"$f":"IF(St='Abandoned Data'!B258,1+A257,0)","v":0},"PA","Armstrong","Northern Appl.",null,"TJS #1",null,0.2,2002,"Unknown","Unknown",3.72,-0.42]
[{"$f":"IF(St='Abandoned Data'!B259,1+A258,0)","v":0},"PA","Armstrong","Northern Appl.",null,"Harold No 1",null,0.15,1974,"Unknown",{"$f":"IF(J259=\"unknown\",\"Unknown\",VLOOKUP(G259,$B$525:$D$540,3,FALSE))","v":"Unknown"},3.72,-0.42]
[{"$f":"IF(St='Abandoned Data'!B260,1+A259,0)","v":0},"PA","Allegheny","Northern Appl.","Freeport (U)","Allegheny No. 2 & Portal No. 3",null,0.1,1993,"Unknown","Unknown",3.72,-0.42]
[{"$f":"IF(St='Abandoned Data'!B261,1+A260,0)","v":0},"PA","Washington","Northern Appl.","Pittsburg","Clyde",null,0.1,1994,"Unknown","Unknown",3.72,-0.42]
[{"$f":"IF(St='Abandoned Data'!B262,1+A261,0)","v":0},"PA","Armstrong","Northern Appl.",null,"Emilie No 1",null,0.1,2000,{"$f":"IF(G262=0,\"Unknown\",VLOOKUP(G262,$B$525:$C$540,2,FALSE))","v":"Unknown"},"Unknown",3.72,-0.42]
[{"$f":"IF(St='Abandoned Data'!B263,1+A262,0)","v":0},"PA","Armstrong","Northern Appl.",null,"T.J.S. No. 5 Mine",null,0.19870987499999998,2009,"Unknown","Unknown",3.72,-0.42]
[{"$f":"IF(St='Abandoned Data'!B264,1+A263,0)","v":0},"PA","Washington","Northern Appl.",0,"Mon-View Mining Comp",null,0.20666666666666667,2006,"Unknown","Unknown",3.72,-0.42]
[{"$f":"IF(St='Abandoned Data'!B265,1+A264,0)","v":0},"PA","Greene","Northern Appl.",0,"Consolidation Coal Co.",null,2.7134,2004,"Unknown","Unknown",3.72,-0.42]
[{"$f":"IF(St='Abandoned Data'!B266,1+A265,0)","v":0},"PA","Washington","Northern Appl.",0,"Maple Creek Mining, Inc.","Sealed",1.2999999999999998,2006,"Sealed","No",3.72,-0.42]
[{"$f":"IF(St='Abandoned Data'!B267,1+A266,0)","v":0},"PA","Armstrong","Northern Appl.",0,"Canterbury Coal Company","Sealed",0.21333333333333335,2005,"Sealed","No",3.72,-0.42]
[{"$f":"IF(St='Abandoned Data'!B268,1+A267,0)","v":0},"PA","Greene","Northern Appl.",0,"Genesis Inc.","Sealed",0.2,2000,"Sealed","No",3.72,-0.42]
[{"$f":"IF(St='Abandoned Data'!B269,1+A268,0)","v":0},"TN","Rosedale","Central Appl.","Deal","Volunteer No 1",null,2.5,1974,"Unknown","Unknown",3.72,-0.42]
[{"$f":"IF(St='Abandoned Data'!B270,1+A269,0)","v":0},"TN","Clearborne","Central Appl.",null,"Matthews Mine",null,0.2,1990,"Unknown","Unknown",3.72,-0.42]
[{"$f":"IF(St='Abandoned Data'!B271,1+A270,0)","v":0},"TN","Campbell","Central Appl.",null,"Rex No 1",null,0.1,1989,"Unknown","Unknown",3.72,-0.42]
[{"$f":"IF(St='Abandoned Data'!B272,1+A271,0)","v":0},"TN","Sequatchie","Central Appl.","Sewanee","Kelly's Creek No. 1",null,0.1,1994,"Unknown","Unknown",3.72,-0.42]
[{"$f":"IF(St='Abandoned Data'!B273,1+A272,0)","v":0},"UT","Carbon","Uinta","Rock Canyon & Sunnyside","Soldier Canyon","Venting",3.4,1999,"Venting","No",3.72,-0.42]
[{"$f":"IF(St='Abandoned Data'!B274,1+A273,0)","v":0},"UT","Carbon","Uinta",null,"Willow Creek","Venting",2,2003,"Venting","No",3.72,-0.42]
[{"$f":"IF(St='Abandoned Data'!B275,1+A274,0)","v":0},"UT","Carbon","Uinta",null,"Beehive","Sealed",1.7,1987,"Sealed","No",3.72,-0.42]
[{"$f":"IF(St='Abandoned Data'!B276,1+A275,0)","v":0},"UT","Carbon","Uinta",null,"Castle Gaste Portal #5","Sealed",1.7,1988,"Sealed","No",3.72,-0.42]
[{"$f":"IF(St='Abandoned Data'!B277,1+A276,0)","v":0},"UT","Grand","Uinta",null,"Wilberg","Sealed",1.7,1990,"Sealed","No",3.72,-0.42]
[{"$f":"IF(St='Abandoned Data'!B278,1+A277,0)","v":0},"UT","Carbon","Uinta",null,"Sunnyside Mine No. 1","Sealed",1.7,1994,"Sealed","No",3.72,-0.42]
[{"$f":"IF(St='Abandoned Data'!B279,1+A278,0)","v":0},"UT","Carbon","Uinta",null,"Sunnyside Mine No. 3","Sealed",1.6,1990,"Sealed","No",3.72,-0.42]
[{"$f":"IF(St='Abandoned Data'!B280,1+A279,0)","v":0},"UT","Carbon","Uinta","#3","Price River No. 3",null,0.9,1982,"Unknown","Unknown",3.72,-0.42]
[{"$f":"IF(St='Abandoned Data'!B281,1+A280,0)","v":0},"UT","Emery","Uinta",null,"Trail Mountain Mine","Venting",0.85,2001,"Venting","No",3.72,-0.42]
[{"$f":"IF(St='Abandoned Data'!B282,1+A281,0)","v":0},"UT","Carbon","Uinta","U&L SUN","Kennilworth","Sealed",0.75,1974,"Sealed","No",3.72,-0.42]
[{"$f":"IF(St='Abandoned Data'!B283,1+A282,0)","v":0},"UT","Carbon","Uinta",null,"Castle Gate Mine","Sealed",0.75,1991,"Sealed","No",3.72,-0.42]
[{"$f":"IF(St='Abandoned Data'!B284,1+A283,0)","v":0},"UT","Carbon","Uinta",null,"Carbon No 2",null,0.35,1972,"Unknown","Unknown",3.72,-0.42]
[{"$f":"IF(St='Abandoned Data'!B285,1+A284,0)","v":0},"UT","Carbon","Uinta",null,"Braztah No 3",null,0.35,1979,"Unknown","Unknown",3.72,-0.42]
[{"$f":"IF(St='Abandoned Data'!B286,1+A285,0)","v":0},"UT","Sevier","Uinta",null,"Emery","Sealed",0.35,1995,"Sealed","No",3.72,-0.42]
[{"$f":"IF(St='Abandoned Data'!B287,1+A286,0)","v":0},"UT","Carbon","Uinta","#3","Price River No. 5",null,0.3,1982,"Unknown","Unknown",3.72,-0.42]
[{"$f":"IF(St='Abandoned Data'!B288,1+A287,0)","v":0},"UT","Carbon","Unita",null,"Aberdeen","Sealed/Recovering Methane",2.8707785504683074,2008,"Sealed","Yes",3.72,-0.42]
[{"$f":"IF(St='Abandoned Data'!B289,1+A288,0)","v":0},"VA","Buchanan","Central Appl.","Pocahontas No 3","VP 1","Sealed/Recovering Methane",9.8000000000000007,1994,"Sealed","Yes",3.72,-0.42]
[{"$f":"IF(St='Abandoned Data'!B290,1+A289,0)","v":0},"VA","Buchanan","Central Appl.","Pocahontas No. 3","VP No 6","Sealed/Recovering Methane",9.4,1994,"Sealed","Yes",3.72,-0.42]
[{"$f":"IF(St='Abandoned Data'!B291,1+A290,0)","v":0},"VA","Buchanan","Central Appl.","Pocahontas No. 3","VP No 3","Sealed/Recovering Methane",9.1999999999999993,1998,"Sealed","Yes",3.72,-0.42]
[{"$f":"IF(St='Abandoned Data'!B292,1+A291,0)","v":0},"VA","Buchanan","Central Appl.","Pocahontas 3","Beatrice Mine","Sealed",6.8,1995,"Sealed","No",3.72,-0.42]
[{"$f":"IF(St='Abandoned Data'!B293,1+A292,0)","v":0},"VA","Buchanan","Central Appl.",null,"Virginia Pocahontas No 2","Sealed/Recovering Methane",5.6,1996,"Sealed","Yes",3.72,-0.42]
[{"$f":"IF(St='Abandoned Data'!B294,1+A293,0)","v":0},"VA","Tazewell","Central Appl.","Pocahontas No 4","Amonate No 31",null,3.7,1994,{"$f":"IF(G294=0,\"Unknown\",VLOOKUP(G294,$B$525:$C$540,2,FALSE))","v":"Unknown"},"Unknown",3.72,-0.42]
[{"$f":"IF(St='Abandoned Data'!B295,1+A294,0)","v":0},"VA","Buchanan","Central Appl.",null,"VIRGINIA POCAHONTAS 4","Sealed/Recovering Methane",1.6,1993,"Sealed","Yes",3.72,-0.42]
[{"$f":"IF(St='Abandoned Data'!B296,1+A295,0)","v":0},"VA","Dickerson","Central Appl.",null,"Moss No 3","Flooded",1.4,1976,"Flooded","No",3.72,-0.42]
[{"$f":"IF(St='Abandoned Data'!B297,1+A296,0)","v":0},"VA","Dickenson","Central Appl.","Jawbone","McClure No 1","Flooded",1.4,1996,"Flooded","No",3.72,-0.42]
[{"$f":"IF(St='Abandoned Data'!B298,1+A297,0)","v":0},"VA","Russell","Central Appl.","Tiller","MOSS NO. 2","Flooded",1.3,1983,"Flooded","No",3.72,-0.42]
[{"$f":"IF(St='Abandoned Data'!B299,1+A298,0)","v":0},"VA","Russell","Central Appl.","Tiller","Moss No 3A2","Flooded",0.75,1988,"Flooded","No",3.72,-0.42]
[{"$f":"IF(St='Abandoned Data'!B300,1+A299,0)","v":0},"VA","Russell","Central Appl.",null,"Moss No 4","Adjacent to strip mine",0.75,1989,"Venting","No",3.72,-0.42]
[{"$f":"IF(St='Abandoned Data'!B301,1+A300,0)","v":0},"VA","Lee","Central Appl.",null,"#1",null,0.75,1994,"Unknown","Unknown",3.72,-0.42]
[{"$f":"IF(St='Abandoned Data'!B302,1+A301,0)","v":0},"VA","Wise","Central Appl.",null,"Bullitt Mine","Venting",0.75,1995,"Venting","No",3.72,-0.42]
[{"$f":"IF(St='Abandoned Data'!B303,1+A302,0)","v":0},"VA","Buchanan","Central Appl.",null,"Big Creek Seaboard No. 1","Venting",0.7,1995,"Venting","No",3.72,-0.42]
[{"$f":"IF(St='Abandoned Data'!B304,1+A303,0)","v":0},"VA","Buchanan","Central Appl.","Tiller","LAMBERT FORK","Flooded",0.6,1985,"Flooded","No",3.72,-0.42]
[{"$f":"IF(St='Abandoned Data'!B305,1+A304,0)","v":0},"VA","Russell","Central Appl.",null,"Chaney Creek No 2","Flooded",0.35,1974,"Flooded","No",3.72,-0.42]
[{"$f":"IF(St='Abandoned Data'!B306,1+A305,0)","v":0},"VA","Wise","Central Appl.",null,"PRESCOTT NO 1","Flooded",0.35,1981,"Flooded","No",3.72,-0.42]
[{"$f":"IF(St='Abandoned Data'!B307,1+A306,0)","v":0},"VA","Wise","Central Appl.","Taggert","Wentz B Portal","Flooded",0.35,1982,"Flooded","No",3.72,-0.42]
[{"$f":"IF(St='Abandoned Data'!B308,1+A307,0)","v":0},"VA","Russell","Central Appl.",null,"HURRICANE CREEK","Flooded",0.35,1987,"Flooded","No",3.72,-0.42]
[{"$f":"IF(St='Abandoned Data'!B309,1+A308,0)","v":0},"VA","Buchanan","Central Appl.","Jawbone","WINSTON MINE NO 10","Sealed",0.35,1992,"Sealed","No",3.72,-0.42]
[{"$f":"IF(St='Abandoned Data'!B310,1+A309,0)","v":0},"VA","Lee","Central Appl.",null,"No. 1 Mine",null,0.35,1992,"Unknown","Unknown",3.72,-0.42]
[{"$f":"IF(St='Abandoned Data'!B311,1+A310,0)","v":0},"VA","Buchanan","Central Appl.",null,"No 1","Flooded",0.35,1993,"Flooded","No",3.72,-0.42]
[{"$f":"IF(St='Abandoned Data'!B312,1+A311,0)","v":0},"VA","Wise","Central Appl.",null,"Prescott No 2 Mine","Sealed",0.35,1994,"Sealed","No",3.72,-0.42]
[{"$f":"IF(St='Abandoned Data'!B313,1+A312,0)","v":0},"VA","Wise","Central Appl.",null,"No 1","Flooded",0.35,1994,"Flooded","No",3.72,-0.42]
[{"$f":"IF(St='Abandoned Data'!B314,1+A313,0)","v":0},"VA","Wise","Central Appl.","Taggert","Wentz No 1","Flooded",0.35,1995,"Flooded","No",3.72,-0.42]
[{"$f":"IF(St='Abandoned Data'!B315,1+A314,0)","v":0},"VA","Tazewell","Central Appl.",null,"No 1","Flooded",0.35,1995,"Flooded","No",3.72,-0.42]
[{"$f":"IF(St='Abandoned Data'!B316,1+A315,0)","v":0},"VA","Dickenson","Central Appl.",null,"Splashdam","Venting/Partially Flooded",0.35,1995,"Flooded","No",3.72,-0.42]
[{"$f":"IF(St='Abandoned Data'!B317,1+A316,0)","v":0},"VA","Buchanan","Central Appl.",null,"No 4","Flooded",0.35,1995,"Flooded","No",3.72,-0.42]
[{"$f":"IF(St='Abandoned Data'!B318,1+A317,0)","v":0},"VA","Wise","Central Appl.",null,"Pierre","Venting",0.35,1996,"Venting","No",3.72,-0.42]
[{"$f":"IF(St='Abandoned Data'!B319,1+A318,0)","v":0},"VA","Wise","Central Appl.",null,"Har-Lee No 3","Sealed",0.35,1996,"Sealed","No",3.72,-0.42]
[{"$f":"IF(St='Abandoned Data'!B320,1+A319,0)","v":0},"VA","Wise","Central Appl.",null,"No 1","Flooded",0.35,1996,"Flooded","No",3.72,-0.42]
[{"$f":"IF(St='Abandoned Data'!B321,1+A320,0)","v":0},"VA","Wise","Central Appl.",null,"Deep No 20","Venting",0.35,1997,"Venting","No",3.72,-0.42]
[{"$f":"IF(St='Abandoned Data'!B322,1+A321,0)","v":0},"VA","Lee","Central Appl.",null,"Holton","Flooded",0.35,1997,"Flooded","No",3.72,-0.42]
[{"$f":"IF(St='Abandoned Data'!B323,1+A322,0)","v":0},"VA","Wise","Central Appl.",null,"Mine # 3",null,0.35,2001,"Unknown",{"$f":"IF(J323=\"unknown\",\"Unknown\",VLOOKUP(G323,$B$525:$D$540,3,FALSE))","v":"Unknown"},3.72,-0.42]
[{"$f":"IF(St='Abandoned Data'!B324,1+A323,0)","v":0},"VA","Buchanan","Central Appl.",null,"Big Creek Seaboard No. 2",null,0.3,1998,"Unknown","Unknown",3.72,-0.42]
[{"$f":"IF(St='Abandoned Data'!B325,1+A324,0)","v":0},"VA","Tazewell","Central Appl.",null,"#1 Mine",null,0.3,2003,"Unknown","Unknown",3.72,-0.42]
[{"$f":"IF(St='Abandoned Data'!B326,1+A325,0)","v":0},"VA","Buchanan","Central Appl.",null,"1-A Mine",null,0.25,2001,{"$f":"IF(G326=0,\"Unknown\",VLOOKUP(G326,$B$525:$C$540,2,FALSE))","v":"Unknown"},"Unknown",3.72,-0.42]
[{"$f":"IF(St='Abandoned Data'!B327,1+A326,0)","v":0},"VA","Wise","Central Appl.",null,"Osaka No 2",null,0.2,1989,"Unknown","Unknown",3.72,-0.42]
[{"$f":"IF(St='Abandoned Data'!B328,1+A327,0)","v":0},"VA","Wise","Central Appl.",null,"Sargent Hollow",null,0.2,2001,"Unknown","Unknown",3.72,-0.42]
[{"$f":"IF(St='Abandoned Data'!B329,1+A328,0)","v":0},"VA","Wise","Central Appl.",null,"Virginia No 1",null,0.15,1980,"Unknown","Unknown",3.72,-0.42]
[{"$f":"IF(St='Abandoned Data'!B330,1+A329,0)","v":0},"VA","Wise","Central Appl.",null,"No 7",null,0.15,1982,"Unknown","Unknown",3.72,-0.42]
[{"$f":"IF(St='Abandoned Data'!B331,1+A330,0)","v":0},"VA","Buchanan","Central Appl.",null,"Jewell No 18",null,0.15,1993,"Unknown","Unknown",3.72,-0.42]
[{"$f":"IF(St='Abandoned Data'!B332,1+A331,0)","v":0},"VA","Tazewell","Central Appl.",null,"Mine #2",null,0.15,2003,"Unknown","Unknown",3.72,-0.42]
[{"$f":"IF(St='Abandoned Data'!B333,1+A332,0)","v":0},"VA","Wise","Central Appl.","Kelly","No. 2","Flooded",0.1,1995,"Flooded","No",3.72,-0.42]
[{"$f":"IF(St='Abandoned Data'!B334,1+A333,0)","v":0},"VA","Buchanan","Central Appl.","Raven","Raven No. 1","Flooded",0.1,1998,"Flooded","No",3.72,-0.42]
[{"$f":"IF(St='Abandoned Data'!B335,1+A334,0)","v":0},"VA","Wise","Central Appl.",null,"#12",null,0.1,1999,"Unknown","Unknown",3.72,-0.42]
[{"$f":"IF(St='Abandoned Data'!B336,1+A335,0)","v":0},"VA","Wise","Central Appl.",null,"#1",null,0.1,2003,"Unknown","Unknown",3.72,-0.42]
[{"$f":"IF(St='Abandoned Data'!B337,1+A336,0)","v":0},"VA","Wise","Central Appl.",null,"Low Splint No 1 Mine",null,0.1095890410958904,2007,"Unknown","Unknown",3.72,-0.42]
[{"$f":"IF(St='Abandoned Data'!B338,1+A337,0)","v":0},"VA","Wise","Central Appl.",null,"Deep Mine # 6",null,0.40082692612524456,2007,"Unknown","Unknown",3.72,-0.42]
[{"$f":"IF(St='Abandoned Data'!B339,1+A338,0)","v":0},"VA","Buchanan","Central Appl.","Pochontas #3","VP 8","Sealed/Recovering Methane",42.596950945313488,2006,"Sealed","Yes",3.72,-0.42]
[{"$f":"IF(St='Abandoned Data'!B340,1+A339,0)","v":0},"VA","Wise","Central Appl.",null,"Mine No. 1",null,0.11506849315068493,2008,"Unknown","Unknown",3.72,-0.42]
[{"$f":"IF(St='Abandoned Data'!B341,1+A340,0)","v":0},"VA","Tazewell","Central Appl.",null,"Greasy Creek Mine",null,0.12332889854452056,2007,"Unknown","Unknown",3.72,-0.42]
[{"$f":"IF(St='Abandoned Data'!B342,1+A341,0)","v":0},"VA","Tazewell","Central Appl.",null,"No. 5",null,0.10684931506849316,2009,"Unknown","Unknown",3.72,-0.42]
[{"$f":"IF(St='Abandoned Data'!B343,1+A342,0)","v":0},"VA","Dickenson","Central Appl.",null,"D-R-1",null,1.975525114155251,2009,"Unknown","Unknown",3.72,-0.42]
[{"$f":"IF(St='Abandoned Data'!B344,1+A343,0)","v":0},"VA","Wise","Central Appl.",null,"No. 1",null,0.13561643835616438,2009,"Unknown","Unknown",3.72,-0.42]
[{"$f":"IF(St='Abandoned Data'!B345,1+A344,0)","v":0},"VA","Dickenson","Central Appl.",null,"Mine No. 2",null,1.0228973895063322,2009,"Unknown","Unknown",3.72,-0.42]
[{"$f":"IF(St='Abandoned Data'!B346,1+A345,0)","v":0},"VA","Dickenson","Central Appl.",null,"No 2",null,1.0174514274400686,2009,"Unknown","Unknown",3.72,-0.42]
[{"$f":"IF(St='Abandoned Data'!B347,1+A346,0)","v":0},"VA","Tazewell","Central Appl.",null,"Miles Branch Mine","Sealed",1.0961187214611872,2011,"Sealed","No",3.72,-0.42]
[{"$f":"IF(St='Abandoned Data'!B348,1+A347,0)","v":0},"VA","Wise","Central Appl.",null,"Low Splint A Mine",null,9.8299999999999998E-2,2012,"Unknown","Unknown",3.72,-0.42]
[{"$f":"IF(St='Abandoned Data'!B349,1+A348,0)","v":0},"VA","Buchanan","Central Appl.",0,"Maverich Shop No. 1",null,0.24363376137033596,2016,"Unknown","Unknown",3.72,-0.42]
[{"$f":"IF(St='Abandoned Data'!B350,1+A349,0)","v":0},"VA","Russell","Central Appl.",0,"Laurel Mountain ",null,0.19236417499999997,2016,"Unknown","Unknown",3.72,-0.42]
[{"$f":"IF(St='Abandoned Data'!B351,1+A350,0)","v":0},"VA","Buchanan","Central Appl.",0,"Paw Paw Mine",null,6.0197375600000005E-2,2016,"Unknown","Unknown",3.72,-0.42]
[{"$f":"IF(St='Abandoned Data'!B352,1+A351,0)","v":0},"VA","Lee","Central Appl.",0,"Powell Mountain Coal Co., Inc.",null,0.11,2000,"Unknown","Unknown",3.72,-0.42]
[{"$f":"IF(St='Abandoned Data'!B353,1+A352,0)","v":0},"VA","Wise","Central Appl.",0,"Banner Company",null,0.1,2010,"Unknown","Unknown",3.72,-0.42]
[{"$f":"IF(St='Abandoned Data'!B354,1+A353,0)","v":0},"VA","Wise","Central Appl.",0,"Paramount Coal Company Virginia, LLC",null,0.23680000000000004,2007,"Unknown","Unknown",3.72,-0.42]
[{"$f":"IF(St='Abandoned Data'!B355,1+A354,0)","v":0},"VA","Tazewell","Central Appl.",0,"Sea \"B\" Mining Company","Sealed",0.375,2003,"Sealed","No",3.72,-0.42]
[null,"VA","Dickenson","Central Appl.",0,"Contura Energy Inc. ","Sealed",0.26,20.18,"Sealed","Unknown",3.72,-0.42]
[{"$f":"IF(St='Abandoned Data'!B357,1+A355,0)","v":0},"WV","Raleigh","Central Appl.",null,"Beckley","Flooded",3.7,1992,{"$f":"IF(G357=0,\"Unknown\",VLOOKUP(G357,$B$525:$C$540,2,FALSE))","v":"Flooded"},{"$f":"IF(J357=\"unknown\",\"Unknown\",VLOOKUP(G357,$B$525:$D$540,3,FALSE))","v":"No"},3.72,-0.42]
[{"$f":"IF(St='Abandoned Data'!B358,1+A357,0)","v":0},"WV","Raleigh","Central Appl.",null,"Bonny","Sealed/Recovery Pending",3.4,1990,"Sealed","No",3.72,-0.42]
[{"$f":"IF(St='Abandoned Data'!B359,1+A358,0)","v":0},"WV","Raleigh","Central Appl.","Beckley","Maple Meadow Mine","Sealed/Recovery Pending",3,1998,"Sealed","No",3.72,-0.42]
[{"$f":"IF(St='Abandoned Data'!B360,1+A359,0)","v":0},"WV","Raleigh","Central Appl.",null,"No. 4 Mine ","Venting/Partially Flooded",2.9,1991,"Flooded","No",3.72,-0.42]
[{"$f":"IF(St='Abandoned Data'!B361,1+A360,0)","v":0},"WV","McDowell","Central Appl.","Pittsburgh","Ogla","Flooded",2.8,1988,"Flooded","No",3.72,-0.42]
[{"$f":"IF(St='Abandoned Data'!B362,1+A361,0)","v":0},"WV","Nicholas","Central Appl.",null,"Coalbank Fork No 9",null,2.4,1982,"Unknown","Unknown",3.72,-0.42]
[{"$f":"IF(St='Abandoned Data'!B363,1+A362,0)","v":0},"WV","Nicholas","Central Appl.",null,"Mine #3",null,2.4,1982,"Unknown","Unknown",3.72,-0.42]
[{"$f":"IF(St='Abandoned Data'!B364,1+A363,0)","v":0},"WV","Nicholas","Central Appl.",null,"Mine No 4",null,2.4,1982,"Unknown","Unknown",3.72,-0.42]
[{"$f":"IF(St='Abandoned Data'!B365,1+A364,0)","v":0},"WV","Nicholas","Central Appl.",null,"No 24 Mine",null,2.4,1982,"Unknown","Unknown",3.72,-0.42]
[{"$f":"IF(St='Abandoned Data'!B366,1+A365,0)","v":0},"WV","Nicholas","Central Appl.",null,"Mine No 4",null,2.4,1982,"Unknown","Unknown",3.72,-0.42]
[{"$f":"IF(St='Abandoned Data'!B367,1+A366,0)","v":0},"WV","Upshur","Central Appl.",null,"Queen # 14 Mine",null,2.4,1982,"Unknown","Unknown",3.72,-0.42]
[{"$f":"IF(St='Abandoned Data'!B368,1+A367,0)","v":0},"WV","Lewis","Central Appl.",null,"Mine No 1",null,2.4,1982,"Unknown","Unknown",3.72,-0.42]
[{"$f":"IF(St='Abandoned Data'!B369,1+A368,0)","v":0},"WV","Nicholas","Central Appl.",null,"Hewett Fork No 1A",null,2.4,1983,"Unknown","Unknown",3.72,-0.42]
[{"$f":"IF(St='Abandoned Data'!B370,1+A369,0)","v":0},"WV","Nicholas","Central Appl.",null,"Big Foot Coal 4-B Mine",null,2.4,1983,"Unknown","Unknown",3.72,-0.42]
[{"$f":"IF(St='Abandoned Data'!B371,1+A370,0)","v":0},"WV","Nicholas","Central Appl.",null,"Stone Run 6A",null,2.4,1983,"Unknown","Unknown",3.72,-0.42]
[{"$f":"IF(St='Abandoned Data'!B372,1+A371,0)","v":0},"WV","Upshur","Central Appl.",null,"Grand Badger No 1A Mine",null,2.4,1983,"Unknown","Unknown",3.72,-0.42]
[{"$f":"IF(St='Abandoned Data'!B373,1+A372,0)","v":0},"WV","McDowell","Central Appl.",null,"Little B Mine No 2","Sealed",2.4,1985,"Sealed","No",3.72,-0.42]
[{"$f":"IF(St='Abandoned Data'!B374,1+A373,0)","v":0},"WV","McDowell","Central Appl.",null,"No 4 Mine","Sealed",2.4,1988,"Sealed","No",3.72,-0.42]
[{"$f":"IF(St='Abandoned Data'!B375,1+A374,0)","v":0},"WV","Nicholas","Central Appl.",null,"Long Run Deep Mine No 1",null,2.4,1991,"Unknown","Unknown",3.72,-0.42]
[{"$f":"IF(St='Abandoned Data'!B376,1+A375,0)","v":0},"WV","Nicholas","Central Appl.","Alma","Mine No 1",null,2.4,1993,"Unknown","Unknown",3.72,-0.42]
[{"$f":"IF(St='Abandoned Data'!B377,1+A376,0)","v":0},"WV","Wyoming","Central Appl.",null,"Shawnee Mine","Venting/Partially Flooded",2.2000000000000002,1994,"Flooded","No",3.72,-0.42]
[{"$f":"IF(St='Abandoned Data'!B378,1+A377,0)","v":0},"WV","Barbour","Central Appl.",null,"Kitt No. 1",null,1.5,1982,"Unknown","Unknown",3.72,-0.42]
[{"$f":"IF(St='Abandoned Data'!B379,1+A378,0)","v":0},"WV","Kanawha","Central Appl.",null,"Morton Mine",null,1.5,1982,"Unknown","Unknown",3.72,-0.42]
[{"$f":"IF(St='Abandoned Data'!B380,1+A379,0)","v":0},"WV","Boone","Central Appl.","Taggart","Birchfield No 1","Venting",1.5,1992,"Venting","No",3.72,-0.42]
[{"$f":"IF(St='Abandoned Data'!B381,1+A380,0)","v":0},"WV","McDowell","Central Appl.",null,"U.S. Steel No 14-4","Venting/Partially Flooded",1.4,1977,"Flooded","No",3.72,-0.42]
[{"$f":"IF(St='Abandoned Data'!B382,1+A381,0)","v":0},"WV","Wyoming","Central Appl.","Pocahontas 3  ","ITMANN #3","Sealed",1.4,1987,"Sealed","No",3.72,-0.42]
[{"$f":"IF(St='Abandoned Data'!B383,1+A382,0)","v":0},"WV","McDowell","Central Appl.","Pocahontas 3  & 4","SHANNON BRANCH MINE","Flooded",1.3,1982,"Flooded","No",3.72,-0.42]
[{"$f":"IF(St='Abandoned Data'!B384,1+A383,0)","v":0},"WV","Boone","Central Appl.","Taggart","Oasis No. 1",null,1.1000000000000001,1996,"Unknown","Unknown",3.72,-0.42]
[{"$f":"IF(St='Abandoned Data'!B385,1+A384,0)","v":0},"WV","Raleigh","Central Appl.","Pocahontas 3","East Gulf","Flooded",1,1974,"Flooded","No",3.72,-0.42]
[{"$f":"IF(St='Abandoned Data'!B386,1+A385,0)","v":0},"WV","Wyoming","Central Appl.","Pocahontas 4","Itmann No 4","Flooded",1,1976,"Flooded","No",3.72,-0.42]
[{"$f":"IF(St='Abandoned Data'!B387,1+A386,0)","v":0},"WV","McDowell","Central Appl.","Pocahontas 3  & 4","Maitland","Venting/Partially Flooded",1,1977,"Flooded","No",3.72,-0.42]
[{"$f":"IF(St='Abandoned Data'!B388,1+A387,0)","v":0},"WV","Logan","Central Appl.","Cedar Grove","NO 1 CEDAR GROVE","Flooded",1,1980,"Flooded","No",3.72,-0.42]
[{"$f":"IF(St='Abandoned Data'!B389,1+A388,0)","v":0},"WV","McDowell","Central Appl.","Pocahontas 3 ","BISHOP #34 MINE",null,1,1982,{"$f":"IF(G389=0,\"Unknown\",VLOOKUP(G389,$B$525:$C$540,2,FALSE))","v":"Unknown"},{"$f":"IF(J389=\"unknown\",\"Unknown\",VLOOKUP(G389,$B$525:$D$540,3,FALSE))","v":"Unknown"},3.72,-0.42]
[{"$f":"IF(St='Abandoned Data'!B390,1+A389,0)","v":0},"WV","Wyoming","Central Appl.","Beckley","Beckley No 2","Venting/Partially Flooded",1,1988,"Flooded","No",3.72,-0.42]
[{"$f":"IF(St='Abandoned Data'!B391,1+A390,0)","v":0},"WV","McDowell","Central Appl.","Pocahontas 3","U.S. Steel No 2","Venting/Partially Flooded",0.9,1991,"Flooded","No",3.72,-0.42]
[{"$f":"IF(St='Abandoned Data'!B392,1+A391,0)","v":0},"WV","Boone","Central Appl.",null,"No. 68",null,0.81,2005,"Unknown","Unknown",3.72,-0.42]
[{"$f":"IF(St='Abandoned Data'!B393,1+A392,0)","v":0},"WV","Nicholas","Central Appl.","Sewell","Sewell No 4","Venting/Partially Flooded",0.75,1972,"Flooded","No",3.72,-0.42]
[{"$f":"IF(St='Abandoned Data'!B394,1+A393,0)","v":0},"WV","Wyoming","Central Appl.","Pocahontas 3","Kepler","Venting/Partially Flooded",0.75,1974,"Flooded","No",3.72,-0.42]
[{"$f":"IF(St='Abandoned Data'!B395,1+A394,0)","v":0},"WV","McDowell","Central Appl.","Pocahontas 3","NEWHALL NO 6 MINE","Venting/Partially Flooded",0.75,1979,"Flooded","No",3.72,-0.42]
[{"$f":"IF(St='Abandoned Data'!B396,1+A395,0)","v":0},"WV","Lincoln","Central Appl.",null,"Five Block No 4 Mine",null,0.75,1980,"Unknown","Unknown",3.72,-0.42]
[{"$f":"IF(St='Abandoned Data'!B397,1+A396,0)","v":0},"WV","Raleigh","Central Appl.",null,"ECCLES NO 5","Flooded",0.75,1981,"Flooded","No",3.72,-0.42]
[{"$f":"IF(St='Abandoned Data'!B398,1+A397,0)","v":0},"WV","Wyoming","Central Appl.","Pocahontas 3 & Gilbert","National Pocahontas","Venting/Partially Flooded",0.75,1984,"Flooded","No",3.72,-0.42]
[{"$f":"IF(St='Abandoned Data'!B399,1+A398,0)","v":0},"WV","Raleigh","Central Appl.","Pocahontas 4","SLAB FORK NO 8","Flooded",0.75,1984,"Flooded","No",3.72,-0.42]
[{"$f":"IF(St='Abandoned Data'!B400,1+A399,0)","v":0},"WV","Raleigh","Central Appl.","Pocahontas 3","SLAB FORK NO. 10 MINE","Flooded",0.75,1984,"Flooded","No",3.72,-0.42]
[{"$f":"IF(St='Abandoned Data'!B401,1+A400,0)","v":0},"WV","McDowell","Central Appl.","Pocahontas 3","GARY NO 10","Sealed",0.75,1984,"Sealed","No",3.72,-0.42]
[{"$f":"IF(St='Abandoned Data'!B402,1+A401,0)","v":0},"WV","McDowell","Central Appl.",null,"BISHOP #33-37 MINE",null,0.75,1986,"Unknown","Unknown",3.72,-0.42]
[{"$f":"IF(St='Abandoned Data'!B403,1+A402,0)","v":0},"WV","Kanawha","Central Appl.","No. 2 gas","Lady Dunn No 105","Venting/Partially Flooded",0.75,1987,"Flooded","No",3.72,-0.42]
[{"$f":"IF(St='Abandoned Data'!B404,1+A403,0)","v":0},"WV","Wyoming","Central Appl.","Beckley","Beckley No 1","Venting/Partially Flooded",0.7,1982,"Flooded","No",3.72,-0.42]
[{"$f":"IF(St='Abandoned Data'!B405,1+A404,0)","v":0},"WV","McDowell","Central Appl.",null,"Seneca Mine",null,0.6,1987,"Unknown","Unknown",3.72,-0.42]
[{"$f":"IF(St='Abandoned Data'!B406,1+A405,0)","v":0},"WV","Raleigh","Central Appl.","Pocahontas 3","KEYSTONE NO 2 MINE","Flooded",0.6,1993,"Flooded","No",3.72,-0.42]
[{"$f":"IF(St='Abandoned Data'!B407,1+A406,0)","v":0},"WV","Raleigh","Central Appl.",null,"Mine No. 1",null,0.6,2002,"Unknown","Unknown",3.72,-0.42]
[{"$f":"IF(St='Abandoned Data'!B408,1+A407,0)","v":0},"WV","Nicholas","Central Appl.",null,"Bells Creek Mine No. 1","Venting",0.5,1998,"Venting","No",3.72,-0.42]
[{"$f":"IF(St='Abandoned Data'!B409,1+A408,0)","v":0},"WV","Boone","Central Appl.",null,"Alma Mine",null,0.5,2001,"Unknown","Unknown",3.72,-0.42]
[{"$f":"IF(St='Abandoned Data'!B410,1+A409,0)","v":0},"WV","Kanawha","Central Appl.",null,"No 34",null,0.4,1972,"Unknown","Unknown",3.72,-0.42]
[{"$f":"IF(St='Abandoned Data'!B411,1+A410,0)","v":0},"WV","Boone","Central Appl.","Cedar Grove","Ferrell No 17","Flooded",0.4,1982,"Flooded","No",3.72,-0.42]
[{"$f":"IF(St='Abandoned Data'!B412,1+A411,0)","v":0},"WV","Boone","Central Appl.","Cedar Grove","HAMPTON NO 3 MINE","Flooded",0.4,1987,"Flooded","No",3.72,-0.42]
[{"$f":"IF(St='Abandoned Data'!B413,1+A412,0)","v":0},"WV","Nicholas","Central Appl.","Sewell","SEWELL NO 1","Venting/Partially Flooded",0.4,1988,"Flooded","No",3.72,-0.42]
[{"$f":"IF(St='Abandoned Data'!B414,1+A413,0)","v":0},"WV","Raleigh","Central Appl.","Pocahontas 3","Macalpin","Flooded",0.4,1989,"Flooded","No",3.72,-0.42]
[{"$f":"IF(St='Abandoned Data'!B415,1+A414,0)","v":0},"WV","Kanawha","Central Appl.",null,"Cannelton No 8","Venting",0.35,1983,"Venting","No",3.72,-0.42]
[{"$f":"IF(St='Abandoned Data'!B416,1+A415,0)","v":0},"WV","Raleigh","Central Appl.",null,"ECCLES NO 6","Flooded",0.35,1985,"Flooded","No",3.72,-0.42]
[{"$f":"IF(St='Abandoned Data'!B417,1+A416,0)","v":0},"WV","McDowell","Central Appl.","Pocahontas 3 & 4","Bishop No 36",null,0.35,1985,"Unknown","Unknown",3.72,-0.42]
[{"$f":"IF(St='Abandoned Data'!B418,1+A417,0)","v":0},"WV","Nicholas","Central Appl.","Kittaning","Birch No 1",null,0.35,1986,"Unknown","Unknown",3.72,-0.42]
[{"$f":"IF(St='Abandoned Data'!B419,1+A418,0)","v":0},"WV","Raleigh","Central Appl.",null,"SKELTON MINE","Flooded",0.35,1986,"Flooded","No",3.72,-0.42]
[{"$f":"IF(St='Abandoned Data'!B420,1+A419,0)","v":0},"WV","Logan","Central Appl.","Cedar Grove","Guyan No 1","Flooded",0.35,1990,"Flooded","No",3.72,-0.42]
[{"$f":"IF(St='Abandoned Data'!B421,1+A420,0)","v":0},"WV","Boone","Central Appl.","Cedar Grove","HAMPTON NO 4","Flooded",0.35,1991,{"$f":"IF(G421=0,\"Unknown\",VLOOKUP(G421,$B$525:$C$540,2,FALSE))","v":"Flooded"},{"$f":"IF(J421=\"unknown\",\"Unknown\",VLOOKUP(G421,$B$525:$D$540,3,FALSE))","v":"No"},3.72,-0.42]
[{"$f":"IF(St='Abandoned Data'!B422,1+A421,0)","v":0},"WV","Wyoming","Central Appl.","Pocahontas 3","ITMANN # 1 AND SHOP","Sealed",0.35,1992,"Sealed","No",3.72,-0.42]
[{"$f":"IF(St='Abandoned Data'!B423,1+A422,0)","v":0},"WV","Mingo","Central Appl.",null,"Rocky Hollow",null,0.35,1994,"Unknown","Unknown",3.72,-0.42]
[{"$f":"IF(St='Abandoned Data'!B424,1+A423,0)","v":0},"WV","McDowell","Central Appl.",null,"ANGUS                          ","Venting",0.35,1995,"Venting","No",3.72,-0.42]
[{"$f":"IF(St='Abandoned Data'!B425,1+A424,0)","v":0},"WV","Wyoming","Central Appl.",null,"KOPPERSTON NO. 1","Sealed",0.35,1996,"Sealed","No",3.72,-0.42]
[{"$f":"IF(St='Abandoned Data'!B426,1+A425,0)","v":0},"WV","Fayette","Central Appl.",null,"New River",null,0.35,1996,"Unknown","Unknown",3.72,-0.42]
[{"$f":"IF(St='Abandoned Data'!B427,1+A426,0)","v":0},"WV","Webster","Central Appl.",null,"Smoot",null,0.35,1997,"Unknown","Unknown",3.72,-0.42]
[{"$f":"IF(St='Abandoned Data'!B428,1+A427,0)","v":0},"WV","Raleigh","Central Appl.",null,"Tommy Creek #1","Flooded",0.35,2000,"Flooded","No",3.72,-0.42]
[{"$f":"IF(St='Abandoned Data'!B429,1+A428,0)","v":0},"WV","West","Central Appl.",null,"Dixianna",null,0.3,1972,"Unknown","Unknown",3.72,-0.42]
[{"$f":"IF(St='Abandoned Data'!B430,1+A429,0)","v":0},"WV","Raleigh","Central Appl.","Pocahontas 3","Macalpin #3","Flooded",0.3,1979,"Flooded","No",3.72,-0.42]
[{"$f":"IF(St='Abandoned Data'!B431,1+A430,0)","v":0},"WV","Logan","Central Appl.","No. 2 Eagle","Dehue","Sealed",0.3,1985,"Sealed","No",3.72,-0.42]
[{"$f":"IF(St='Abandoned Data'!B432,1+A431,0)","v":0},"WV","Boone","Central Appl.",null,"Quinland No 1",null,0.3,1987,"Unknown","Unknown",3.72,-0.42]
[{"$f":"IF(St='Abandoned Data'!B433,1+A432,0)","v":0},"WV","Fayette","Central Appl.","Sewell","Siltix","Flooded",0.3,1987,"Flooded","No",3.72,-0.42]
[{"$f":"IF(St='Abandoned Data'!B434,1+A433,0)","v":0},"WV","Nicholas","Central Appl.","Sewell","Donegan No 10","Venting/Partially Flooded",0.3,1990,"Flooded","No",3.72,-0.42]
[{"$f":"IF(St='Abandoned Data'!B435,1+A434,0)","v":0},"WV","Logan","Central Appl.","Cedar Grove","Guyan No 5","Flooded",0.25,1974,"Flooded","No",3.72,-0.42]
[{"$f":"IF(St='Abandoned Data'!B436,1+A435,0)","v":0},"WV","Logan","Central Appl.",null,"No 4-H","Sealed",0.25,1974,"Sealed","No",3.72,-0.42]
[{"$f":"IF(St='Abandoned Data'!B437,1+A436,0)","v":0},"WV","Mingo","Central Appl.","Cedar Grove","National No 25",null,0.25,1974,"Unknown","Unknown",3.72,-0.42]
[{"$f":"IF(St='Abandoned Data'!B438,1+A437,0)","v":0},"WV","Brooke","Central Appl.",null,"Valley Camp No 1",null,0.25,1985,"Unknown","Unknown",3.72,-0.42]
[{"$f":"IF(St='Abandoned Data'!B439,1+A438,0)","v":0},"WV","Nicholas","Central Appl.",null,"Hutchinsons Branch Mine No. 1",null,0.25,2000,"Unknown","Unknown",3.72,-0.42]
[{"$f":"IF(St='Abandoned Data'!B440,1+A439,0)","v":0},"WV","Brooke","Central Appl.","Pittsburgh","Beech Bottom",null,0.2,1974,"Unknown","Unknown",3.72,-0.42]
[{"$f":"IF(St='Abandoned Data'!B441,1+A440,0)","v":0},"WV","Fayette","Central Appl.",null,"Royal No 5","Sealed",0.2,1977,"Sealed","No",3.72,-0.42]
[{"$f":"IF(St='Abandoned Data'!B442,1+A441,0)","v":0},"WV","Upshur","Central Appl.",null,"Adrian Mine",null,0.2,1977,"Unknown","Unknown",3.72,-0.42]
[{"$f":"IF(St='Abandoned Data'!B443,1+A442,0)","v":0},"WV","Wyoming","Central Appl.",null,"GASTON NO 2 MINE",null,0.2,1982,"Unknown","Unknown",3.72,-0.42]
[{"$f":"IF(St='Abandoned Data'!B444,1+A443,0)","v":0},"WV","Raleigh","Central Appl.","Pocahontas 4","KEYSTONE NO 4-A MINE","Flooded",0.2,1982,"Flooded","No",3.72,-0.42]
[{"$f":"IF(St='Abandoned Data'!B445,1+A444,0)","v":0},"WV","Raleigh","Central Appl.","Pocahontas 4","WINDING GULF # 4","Flooded",0.2,1984,"Flooded","No",3.72,-0.42]
[{"$f":"IF(St='Abandoned Data'!B446,1+A445,0)","v":0},"WV","Kanawha","Central Appl.",null,"MADISON NO 1 MINE",null,0.2,1984,"Unknown","Unknown",3.72,-0.42]
[{"$f":"IF(St='Abandoned Data'!B447,1+A446,0)","v":0},"WV","Raleigh","Central Appl.","Pocahontas 3","KEYSTONE NO 4 MINE","Flooded",0.2,1985,"Flooded","No",3.72,-0.42]
[{"$f":"IF(St='Abandoned Data'!B448,1+A447,0)","v":0},"WV","Raleigh","Central Appl.",null,"KEYSTONE NO 5 MINE","Flooded",0.2,1985,"Flooded","No",3.72,-0.42]
[{"$f":"IF(St='Abandoned Data'!B449,1+A448,0)","v":0},"WV","Nicholas","Central Appl.",null,"SEWELL #1A","Venting/Partially Flooded",0.2,1986,"Flooded","No",3.72,-0.42]
[{"$f":"IF(St='Abandoned Data'!B450,1+A449,0)","v":0},"WV","McDowell","Central Appl.",null,"Cannelton No 3 & 4","Venting/Partially Flooded",0.2,1986,"Flooded","No",3.72,-0.42]
[{"$f":"IF(St='Abandoned Data'!B451,1+A450,0)","v":0},"WV","Boone","Central Appl.","Pond Creek","Wharton No. 4",null,0.2,1987,"Unknown","Unknown",3.72,-0.42]
[{"$f":"IF(St='Abandoned Data'!B452,1+A451,0)","v":0},"WV","McDowell","Central Appl.",null,"Keystone No 1 Mine",null,0.2,1987,"Unknown","Unknown",3.72,-0.42]
[{"$f":"IF(St='Abandoned Data'!B453,1+A452,0)","v":0},"WV","Mingo","Central Appl.",null,"No 19",null,0.2,1990,{"$f":"IF(G453=0,\"Unknown\",VLOOKUP(G453,$B$525:$C$540,2,FALSE))","v":"Unknown"},{"$f":"IF(J453=\"unknown\",\"Unknown\",VLOOKUP(G453,$B$525:$D$540,3,FALSE))","v":"Unknown"},3.72,-0.42]
[{"$f":"IF(St='Abandoned Data'!B454,1+A453,0)","v":0},"WV","Kanawha","Central Appl.",null,"Lightfoot No. 1",null,0.2,2000,"Unknown","Unknown",3.72,-0.42]
[{"$f":"IF(St='Abandoned Data'!B455,1+A454,0)","v":0},"WV","Upshur","Central Appl.",null,"Spruce No. 2 Mine",null,0.2,2002,"Unknown","Unknown",3.72,-0.42]
[{"$f":"IF(St='Abandoned Data'!B456,1+A455,0)","v":0},"WV","Wyoming","Central Appl.",null,"No. 1 Mine",null,0.2,2002,"Unknown","Unknown",3.72,-0.42]
[{"$f":"IF(St='Abandoned Data'!B457,1+A456,0)","v":0},"WV","Logan","Central Appl.",null,"Paragon","Flooded",0.15,1974,"Flooded","No",3.72,-0.42]
[{"$f":"IF(St='Abandoned Data'!B458,1+A457,0)","v":0},"WV","Wyoming","Central Appl.",null,"Buckeye Coll.","Sealed",0.15,1974,"Sealed","No",3.72,-0.42]
[{"$f":"IF(St='Abandoned Data'!B459,1+A458,0)","v":0},"WV","Wyoming","Central Appl.",null,"Otsego",null,0.15,1974,"Unknown","Unknown",3.72,-0.42]
[{"$f":"IF(St='Abandoned Data'!B460,1+A459,0)","v":0},"WV","McDowell","Central Appl.",null,"Pocahontas No 7",null,0.15,1974,"Unknown","Unknown",3.72,-0.42]
[{"$f":"IF(St='Abandoned Data'!B461,1+A460,0)","v":0},"WV","Raleigh","Central Appl.",null,"Bethlehem No 46","Flooded",0.15,1976,"Flooded","No",3.72,-0.42]
[{"$f":"IF(St='Abandoned Data'!B462,1+A461,0)","v":0},"WV","Mingo","Central Appl.",null,"Gary No 20-B",null,0.15,1980,"Unknown","Unknown",3.72,-0.42]
[{"$f":"IF(St='Abandoned Data'!B463,1+A462,0)","v":0},"WV","Nicholas","Central Appl.",null,"Bald Eagle No 1",null,0.1,1994,"Unknown","Unknown",3.72,-0.42]
[{"$f":"IF(St='Abandoned Data'!B464,1+A463,0)","v":0},"WV","Mingo","Central Appl.",null,"Mine #1",null,0.1,2001,"Unknown","Unknown",3.72,-0.42]
[{"$f":"IF(St='Abandoned Data'!B465,1+A464,0)","v":0},"WV","Wayne","Central Appl.",null,"Deep Mine No. 3",null,0.1,2002,"Unknown","Unknown",3.72,-0.42]
[{"$f":"IF(St='Abandoned Data'!B466,1+A465,0)","v":0},"WV","Boone","Central Appl.",null,"WHITE KNIGHT",null,0.1,2002,"Unknown","Unknown",3.72,-0.42]
[{"$f":"IF(St='Abandoned Data'!B467,1+A466,0)","v":0},"WV","Monongalia","Northern Appl.","Pittsburgh","Arkwright No 1","Sealed/Recovering Methane",7,1996,"Sealed","Yes",3.72,-0.42]
[{"$f":"IF(St='Abandoned Data'!B468,1+A467,0)","v":0},"WV","Monongalia","Northern Appl.","Pittsburgh","Osage No. 3","Sealed/Recovering Methane",6.3,1996,"Sealed","Yes",3.72,-0.42]
[{"$f":"IF(St='Abandoned Data'!B469,1+A468,0)","v":0},"WV","Monongalia","Northern Appl.","Pittsburgh","Blacksville No 1","Sealed/Recovering Methane",4.8,1993,"Sealed","Yes",3.72,-0.42]
[{"$f":"IF(St='Abandoned Data'!B470,1+A469,0)","v":0},"WV","Marion","Northern Appl.","Pittsburgh","Consol No 9","Venting/Recovering Gas",4.7,1978,"Venting","Yes",3.72,-0.42]
[{"$f":"IF(St='Abandoned Data'!B471,1+A470,0)","v":0},"WV","Marion","Northern Appl.","Pittsburgh","Federal No 1","Flooded",3.8,1987,"Flooded","No",3.72,-0.42]
[{"$f":"IF(St='Abandoned Data'!B472,1+A471,0)","v":0},"WV","Preston","Northern Appl.",null,"#1","Sealed",2.2000000000000002,1982,"Sealed","No",3.72,-0.42]
[{"$f":"IF(St='Abandoned Data'!B473,1+A472,0)","v":0},"WV","Gilmer","Northern Appl.",null,"Kanawha #1","Sealed",2.2000000000000002,1982,"Sealed","No",3.72,-0.42]
[{"$f":"IF(St='Abandoned Data'!B474,1+A473,0)","v":0},"WV","Gilmer","Northern Appl.",null,"Kanawha #2","Sealed",2.2000000000000002,1982,"Sealed","No",3.72,-0.42]
[{"$f":"IF(St='Abandoned Data'!B475,1+A474,0)","v":0},"WV","Harrison","Northern Appl.",null,"Pioneer Mine","Venting/Partially Flooded",2.2000000000000002,1982,"Flooded","No",3.72,-0.42]
[{"$f":"IF(St='Abandoned Data'!B476,1+A475,0)","v":0},"WV","Taylor","Northern Appl.",null,"Keg No 1",null,1.7,1982,"Unknown","Unknown",3.72,-0.42]
[{"$f":"IF(St='Abandoned Data'!B477,1+A476,0)","v":0},"WV","Barbour","Northern Appl.",null,"Boulder Mine","Sealed",2.2000000000000002,1983,"Sealed","No",3.72,-0.42]
[{"$f":"IF(St='Abandoned Data'!B478,1+A477,0)","v":0},"WV","Preston","Northern Appl.",null,"H & H Mine No 2","Sealed",2.2000000000000002,1983,"Sealed","No",3.72,-0.42]
[{"$f":"IF(St='Abandoned Data'!B479,1+A478,0)","v":0},"WV","Preston","Northern Appl.",null,"#3 Mine ","Sealed",2.2000000000000002,1983,"Sealed","No",3.72,-0.42]
[{"$f":"IF(St='Abandoned Data'!B480,1+A479,0)","v":0},"WV","Monongalia","Northern Appl.","Pittsburgh","Pursglove No. 15",null,2.1,1989,"Unknown","Unknown",3.72,-0.42]
[{"$f":"IF(St='Abandoned Data'!B481,1+A480,0)","v":0},"WV","Marshall","Northern Appl.","Pittsburgh","Ireland","Sealed/Recovering Methane",1.5,1994,"Sealed","Yes",3.72,-0.42]
[{"$f":"IF(St='Abandoned Data'!B482,1+A481,0)","v":0},"WV","Barbour","Northern Appl.",null,"Diamond No 1",null,1.4,1989,"Unknown","Unknown",3.72,-0.42]
[{"$f":"IF(St='Abandoned Data'!B483,1+A482,0)","v":0},"WV","Marion","Northern Appl.","Pittsburgh","JOANNE MINE","Venting",1.3,1983,"Venting","No",3.72,-0.42]
[{"$f":"IF(St='Abandoned Data'!B484,1+A483,0)","v":0},"WV","Marion","Northern Appl.","Pittsburgh","Consol No. 20","Venting/Recovering Gas",1.1000000000000001,1982,"Venting","Yes",3.72,-0.42]
[{"$f":"IF(St='Abandoned Data'!B485,1+A484,0)","v":0},"WV","Marion","Northern Appl.","Pittsburgh","No 93","Venting",1,1978,{"$f":"IF(G485=0,\"Unknown\",VLOOKUP(G485,$B$525:$C$540,2,FALSE))","v":"Venting"},{"$f":"IF(J485=\"unknown\",\"Unknown\",VLOOKUP(G485,$B$525:$D$540,3,FALSE))","v":"No"},3.72,-0.42]
[{"$f":"IF(St='Abandoned Data'!B486,1+A485,0)","v":0},"WV","Harrison","Northern Appl.",null,"Williams","Venting/Partially Flooded",1,1978,"Flooded","No",3.72,-0.42]
[{"$f":"IF(St='Abandoned Data'!B487,1+A486,0)","v":0},"WV","Marshall","Northern Appl.","Pittsburgh","Alexander","Venting/Partially Flooded",1,1981,"Flooded","No",3.72,-0.42]
[{"$f":"IF(St='Abandoned Data'!B488,1+A487,0)","v":0},"WV","Ohio","Northern Appl.","Pittsburgh","Valley Camp No 3",null,1,1983,"Unknown","Unknown",3.72,-0.42]
[{"$f":"IF(St='Abandoned Data'!B489,1+A488,0)","v":0},"WV","Harrison","Northern Appl.","Pittsburgh","Compass No 2","Sealed",0.75,1974,"Sealed","No",3.72,-0.42]
[{"$f":"IF(St='Abandoned Data'!B490,1+A489,0)","v":0},"WV","Marion","Northern Appl.","Pittsburgh","Bethlehem No 41","Venting/Partially Flooded",0.75,1983,"Flooded","No",3.72,-0.42]
[{"$f":"IF(St='Abandoned Data'!B491,1+A490,0)","v":0},"WV","Preston","Northern Appl.",null,"Whitetail Mine","Sealed",0.6,2002,"Sealed","No",3.72,-0.42]
[{"$f":"IF(St='Abandoned Data'!B492,1+A491,0)","v":0},"WV","Grant","Northern Appl.","Freeport (U)","Potomac","Sealed",0.35,1980,"Sealed","No",3.72,-0.42]
[{"$f":"IF(St='Abandoned Data'!B493,1+A492,0)","v":0},"WV","Marion","Northern Appl.",null,"Tygart River","Flooded/Pumping Water",0.35,1993,"Flooded","No",3.72,-0.42]
[{"$f":"IF(St='Abandoned Data'!B494,1+A493,0)","v":0},"WV","Marion","Northern Appl.","Pittsburgh","Bethlehem No 44","Venting",0.3,1979,"Venting","No",3.72,-0.42]
[{"$f":"IF(St='Abandoned Data'!B495,1+A494,0)","v":0},"WV","Barbour","Northern Appl.","Kittaning","BADGER NO 14 MINE","Sealed",0.3,1985,"Sealed","No",3.72,-0.42]
[{"$f":"IF(St='Abandoned Data'!B496,1+A495,0)","v":0},"WV","Marion","Northern Appl.",null,"Phillip Sporn No 1",null,0.3,1985,"Unknown","Unknown",3.72,-0.42]
[{"$f":"IF(St='Abandoned Data'!B497,1+A496,0)","v":0},"WV","Mason","Northern Appl.","Pittsburgh","Putnam",null,0.2,1973,"Unknown","Unknown",3.72,-0.42]
[{"$f":"IF(St='Abandoned Data'!B498,1+A497,0)","v":0},"WV","Barbour","Northern Appl.",null,"BADGER NO. 15 MINE","Sealed",0.2,1984,"Sealed","No",3.72,-0.42]
[{"$f":"IF(St='Abandoned Data'!B499,1+A498,0)","v":0},"WV","Marion","Northern Appl.",null,"Martinka No 1",null,0.2,1992,"Unknown","Unknown",3.72,-0.42]
[{"$f":"IF(St='Abandoned Data'!B500,1+A499,0)","v":0},"WV","Brooke","Central Appl.",null,"Windsor Mine","Sealed/Recovering Methane",0.49246022222222219,2005,"Sealed","Yes",3.72,-0.42]
[{"$f":"IF(St='Abandoned Data'!B501,1+A500,0)","v":0},"WV","Upshur","Northern Appl.",null,"Spruce Fork Mine No 1",null,0.31736125000000004,2006,"Unknown","Unknown",3.72,-0.42]
[{"$f":"IF(St='Abandoned Data'!B502,1+A501,0)","v":0},"WV","Harrison","Northern Appl.",null,"#3 Mine",null,0.11978767123287672,2007,"Unknown","Unknown",3.72,-0.42]
[{"$f":"IF(St='Abandoned Data'!B503,1+A502,0)","v":0},"WV","Wayne","Central Appl.",null,"Camp Creek No. 1",null,9.8438356164383567E-2,2007,"Unknown","Unknown",3.72,-0.42]
[{"$f":"IF(St='Abandoned Data'!B504,1+A503,0)","v":0},"WV","Boone","Central Appl.",null,"No 2 Mine",null,0.87397397260273968,2008,"Unknown","Unknown",3.72,-0.42]
[{"$f":"IF(St='Abandoned Data'!B505,1+A504,0)","v":0},"WV","Lincoln","Central Appl.",null,"Tiny Creek No. 2 Mine",null,0.19178082191780821,2008,"Unknown","Unknown",3.72,-0.42]
[{"$f":"IF(St='Abandoned Data'!B506,1+A505,0)","v":0},"WV","Upshur","Northern Appl.",null,"Sago Mine",null,0.20273972602739726,2009,"Unknown","Unknown",3.72,-0.42]
[{"$f":"IF(St='Abandoned Data'!B507,1+A506,0)","v":0},"WV","Clay","Central Appl.",null,"Little Eagle Mine No. 1",null,0.11506849315068493,2009,"Unknown","Unknown",3.72,-0.42]
[{"$f":"IF(St='Abandoned Data'!B508,1+A507,0)","v":0},"WV","Kanawha","Central Appl.",null,"Campbell's Creek #7",null,0.28789999999999999,2012,"Unknown","Unknown",3.72,-0.42]
[{"$f":"IF(St='Abandoned Data'!B509,1+A508,0)","v":0},"WV","Raleigh","Central Appl.",null,"Sewell Mine",null,0.18606666666666669,2012,"Unknown","Unknown",3.72,-0.42]
[{"$f":"IF(St='Abandoned Data'!B510,1+A509,0)","v":0},"WV","Boone","Central Appl.",null,"Rivers Edge Mine",null,0.20514285714285713,2012,"Unknown","Unknown",3.72,-0.42]
[{"$f":"IF(St='Abandoned Data'!B511,1+A510,0)","v":0},"WV","Raleigh","Central Appl.",null,"Upper Big Branch Mine-South",null,0.86235882352941173,2012,"Unknown","Unknown",3.72,-0.42]
[{"$f":"IF(St='Abandoned Data'!B512,1+A511,0)","v":0},"WV","Boone","Central Appl.",null,"Candice 2",null,0.45557999999999998,2012,"Unknown","Unknown",3.72,-0.42]
[{"$f":"IF(St='Abandoned Data'!B513,1+A512,0)","v":0},"WV","Preston","Northern Appl.",null,"Whitetail Kittanning Mine",null,1.4625300240011416,2010,"Unknown","Unknown",3.72,-0.42]
[{"$f":"IF(St='Abandoned Data'!B514,1+A513,0)","v":0},"WV","Raleigh","Central Appl.",0,"Sewell Mine",null,0.18503104166666665,2015,"Unknown","Unknown",3.72,-0.42]
[{"$f":"IF(St='Abandoned Data'!B515,1+A514,0)","v":0},"WV","Nicholas","Central Appl.",0,"Grassy Creek No. 1",null,6.9053530500000002E-2,2015,"Unknown","Unknown",3.72,-0.42]
[{"$f":"IF(St='Abandoned Data'!B516,1+A515,0)","v":0},"WV","Monongalia","Northern Appl.",0,"Consolidation Coal Co.","Sealed/recovering methane",2.5822222222222226,2008,"Sealed","Yes",3.72,-0.42]
[{"$f":"IF(St='Abandoned Data'!B517,1+A516,0)","v":0},"WV","Mingo","Central Appl.",0,"Mingo Logan Coal Company","Sealed",0.13599999999999998,2005,"Sealed","No",3.72,-0.42]
[{"$f":"IF(St='Abandoned Data'!B518,1+A517,0)","v":0},"WV","Boone","Central Appl.",null,"Campbells Creek No 10 Mine","Flooded",2E-3,2017,{"$f":"IF(G518=0,\"Unknown\",VLOOKUP(G518,$B$525:$C$540,2,FALSE))","v":"Flooded"},{"$f":"IF(J518=\"unknown\",\"Unknown\",VLOOKUP(G518,$B$525:$D$540,3,FALSE))","v":"No"},3.72,-0.42]
[{"$f":"IF(St='Abandoned Data'!B519,1+A518,0)","v":0},"WV","Boone","Central Appl.",null,"Roundbottom Powellton Deep Mine","Flooded",0.01,2017,{"$f":"IF(G519=0,\"Unknown\",VLOOKUP(G519,$B$525:$C$540,2,FALSE))","v":"Flooded"},{"$f":"IF(J519=\"unknown\",\"Unknown\",VLOOKUP(G519,$B$525:$D$540,3,FALSE))","v":"No"},3.72,-0.42]
[]
[]
[]
[]
[]
[null,"Venting","Venting","No"]
[null,"venting/recovering gas","Venting","Yes"]
[null,"adjacent to strip mine","Venting","No"]
[null,"sealed","Sealed","No"]
[null,"sealed/adj to dianne mine","Sealed","No"]
[null,"sealed/filled","Sealed","No"]
[null,"sealed/recovering methane","Sealed","Yes"]
[null,"temporary seal","Sealed","No"]
[null,"sealed/pumping water","Sealed","No"]
[null,"sealed/recovery pending","Sealed","No"]
[null,"flooded","Flooded","No"]
[null,"flooded/pumping water","Flooded","No"]
[null,"sealed/partially flooded","Flooded","No"]
[null,"venting/flooded","Flooded","No"]
[null,"venting/partially flooded","Flooded","No"]
[null,"recovering methane/partially flooded","Flooded","Yes"]

{"sheet":"Abandoned Data Inputs","index":5,"n_rows":230,"n_cols":85,"rows_kept":230,"cut":false,"hidden":false,"merged":[]}
[]
["Default Data inputs and Emissions",null,null,null,null,null,null,null,null,null,null,null,null,null,null,null,null,"Default Distribution Table for Unknowns",null,null,null,null,null,null,"Emissions By Year (Gg) for Default Data",null,null,null,null,null,null,null,null,null,null,null,null,null,null,null,null,null,null,null,null,null,null,null,null,null,null,null,null,null,null,"Only used for macro that produces projections, keep hidden"]
["Mine Listed","Mine Name","Basin","Year Abandoned","Status","Percent Sealed","Methane Recovered","Active Emiss. (mmcfd) ","Constant A","Constant B","Emissions",null,null,null,null,null,null,"Current State",null,"Flooded","Vented","Sealed",null,null,1990,1991,1992,1993,1994,1995,1996,1997,1998,1999,2000,2001,2002,2003,2004,2005,2006,2007,2008,2009,2010,2011,2012,2013,2014,2015,2016,2017,2018,2019,2020,{"$f":"BC3+1","v":2021},{"$f":"BD3+1","v":2022},2023,2024,2025,2026,2027,2028,2029,2030,2031,2032,2033,2034,2035,2036,2037,2038,2039,2040,2041,2042,2043,2044,2045,2046,2047,2048,2049,2050]
[1,{"$f":"'CH4 from Abandoned Coal Mines'!D5","v":""},{"$f":"'CH4 from Abandoned Coal Mines'!H5","v":""},{"$f":"VALUE('CH4 from Abandoned Coal Mines'!J5)","v":{"$error":"#VALUE!"}},{"$f":"IF('CH4 from Abandoned Coal Mines'!N5>0,'CH4 from Abandoned Coal Mines'!N5,'CH4 from Abandoned Coal Mines'!L5)","v":""},{"$f":"'CH4 from Abandoned Coal Mines'!P5","v":0},{"$f":"'CH4 from Abandoned Coal Mines'!R5","v":0},{"$f":"VLOOKUP(B4,'Abandoned Data'!$O$3:$V$163,6,FALSE)","v":""},{"$f":"VLOOKUP(B4,'Abandoned Data'!$O$3:$V$163,7,FALSE)","v":""},{"$f":"VLOOKUP(B4,'Abandoned Data'!$O$3:$V$163,8,FALSE)","v":""},{"$f":"IF(E4=\"Venting\",((H4*mmcfd_m3)*((1+I4*($AZ$3-D4))^J4)-G4)*Gg_m3,IF(E4=\"Sealed\",(((H4*mmcfd_m3)*((1+I4*($AZ$3-D4))^J4)*(1-F4)-G4)*Gg_m3),IF(E4=\"Flooded\",((H4*mmcfd_m3)*EXP(-0.6728*($AZ$3-D4))*Gg_m3),((H4*mmcfd_m3)*((1+I4*($AZ$3-D4))^J4)-G4)*Gg_m3+(((H4*mmcfd_m3)*((1+I4*($AZ$3-D4))^J4)*(1-0.8)-G4)*Gg_m3)+((H4*mmcfd_m3)*EXP(-0.6728*($AZ$3-D4))*Gg_m3))))","v":{"$error":"#VALUE!"}},null,"a. Vented:  q = qi × (1 + aT)b ",null,null,null,null,{"$f":"constants!K1","v":"XX"},null,{"$f":"VLOOKUP($R$4,$R$8:$V$27,3,FALSE)","v":{"$error":"#N/A"}},{"$f":"VLOOKUP($R$4,$R$8:$V$27,4,FALSE)","v":{"$error":"#N/A"}},{"$f":"VLOOKUP($R$4,$R$8:$V$27,5,FALSE)","v":{"$error":"#N/A"}},null,1,{"$f":"IF(ISERROR(IF($D4<Y$3,IF($E4=\"Venting\",(($H4*mmcfd_m3)*((1+$I4*(Y$3-$D4))^$J4)-$G4)*Gg_m3,IF($E4=\"Sealed\",((($H4*mmcfd_m3)*((1+$I4*(Y$3-$D4))^$J4)*(1-$F4)-$G4)*Gg_m3),IF($E4=\"Flooded\",(($H4*mmcfd_m3)*EXP(-0.6728*(Y$3-$D4))*Gg_m3),(($H4*mmcfd_m3)*((1+$I4*(Y$3-$D4))^$J4)-$G4)*Gg_m3+((($H4*mmcfd_m3)*((1+$I4*(Y$3-$D4))^$J4)*(1-0.8)-$G4)*Gg_m3)+(($H4*mmcfd_m3)*EXP(-0.6728*(Y$3-$D4))*Gg_m3)))),0)),0,IF($D4<Y$3,IF($E4=\"Venting\",(($H4*mmcfd_m3)*((1+$I4*(Y$3-$D4))^$J4)-$G4)*Gg_m3,IF($E4=\"Sealed\",((($H4*mmcfd_m3)*((1+$I4*(Y$3-$D4))^$J4)*(1-$F4)-$G4)*Gg_m3),IF($E4=\"Flooded\",(($H4*mmcfd_m3)*EXP(-0.6728*(Y$3-$D4))*Gg_m3),(($H4*mmcfd_m3)*((1+$I4*(Y$3-$D4))^$J4)-$G4)*Gg_m3+((($H4*mmcfd_m3)*((1+$I4*(Y$3-$D4))^$J4)*(1-0.8)-$G4)*Gg_m3)+(($H4*mmcfd_m3)*EXP(-0.6728*(Y$3-$D4))*Gg_m3)))),0))","v":0},0,0,0,0,0,0,0,0,0,{"$f":"IF(ISERROR(IF($D4<AI$3,IF($E4=\"Venting\",(($H4*mmcfd_m3)*((1+$I4*(AI$3-$D4))^$J4)-$G4)*Gg_m3,IF($E4=\"Sealed\",((($H4*mmcfd_m3)*((1+$I4*(AI$3-$D4))^$J4)*(1-$F4)-$G4)*Gg_m3),IF($E4=\"Flooded\",(($H4*mmcfd_m3)*EXP(-0.6728*(AI$3-$D4))*Gg_m3),(($H4*mmcfd_m3)*((1+$I4*(AI$3-$D4))^$J4)-$G4)*Gg_m3+((($H4*mmcfd_m3)*((1+$I4*(AI$3-$D4))^$J4)*(1-0.8)-$G4)*Gg_m3)+(($H4*mmcfd_m3)*EXP(-0.6728*(AI$3-$D4))*Gg_m3)))),0)),0,IF($D4<AI$3,IF($E4=\"Venting\",(($H4*mmcfd_m3)*((1+$I4*(AI$3-$D4))^$J4)-$G4)*Gg_m3,IF($E4=\"Sealed\",((($H4*mmcfd_m3)*((1+$I4*(AI$3-$D4))^$J4)*(1-$F4)-$G4)*Gg_m3),IF($E4=\"Flooded\",(($H4*mmcfd_m3)*EXP(-0.6728*(AI$3-$D4))*Gg_m3),(($H4*mmcfd_m3)*((1+$I4*(AI$3-$D4))^$J4)-$G4)*Gg_m3+((($H4*mmcfd_m3)*((1+$I4*(AI$3-$D4))^$J4)*(1-0.8)-$G4)*Gg_m3)+(($H4*mmcfd_m3)*EXP(-0.6728*(AI$3-$D4))*Gg_m3)))),0))","v":0},0,0,0,0,0,0,0,0,0,{"$f":"IF(ISERROR(IF($D4<AS$3,IF($E4=\"Venting\",(($H4*mmcfd_m3)*((1+$I4*(AS$3-$D4))^$J4)-$G4)*Gg_m3,IF($E4=\"Sealed\",((($H4*mmcfd_m3)*((1+$I4*(AS$3-$D4))^$J4)*(1-$F4)-$G4)*Gg_m3),IF($E4=\"Flooded\",(($H4*mmcfd_m3)*EXP(-0.6728*(AS$3-$D4))*Gg_m3),(($H4*mmcfd_m3)*((1+$I4*(AS$3-$D4))^$J4)-$G4)*Gg_m3+((($H4*mmcfd_m3)*((1+$I4*(AS$3-$D4))^$J4)*(1-0.8)-$G4)*Gg_m3)+(($H4*mmcfd_m3)*EXP(-0.6728*(AS$3-$D4))*Gg_m3)))),0)),0,IF($D4<AS$3,IF($E4=\"Venting\",(($H4*mmcfd_m3)*((1+$I4*(AS$3-$D4))^$J4)-$G4)*Gg_m3,IF($E4=\"Sealed\",((($H4*mmcfd_m3)*((1+$I4*(AS$3-$D4))^$J4)*(1-$F4)-$G4)*Gg_m3),IF($E4=\"Flooded\",(($H4*mmcfd_m3)*EXP(-0.6728*(AS$3-$D4))*Gg_m3),(($H4*mmcfd_m3)*((1+$I4*(AS$3-$D4))^$J4)-$G4)*Gg_m3+((($H4*mmcfd_m3)*((1+$I4*(AS$3-$D4))^$J4)*(1-0.8)-$G4)*Gg_m3)+(($H4*mmcfd_m3)*EXP(-0.6728*(AS$3-$D4))*Gg_m3)))),0))","v":0},0,0,0,0,0,0,0,0,0,0,0,0,0,0,0,{"$f":"IF(ISERROR(IF($D4<BI$3,IF($E4=\"Venting\",(($H4*mmcfd_m3)*((1+$I4*(BI$3-$D4))^$J4)-$G4)*Gg_m3,IF($E4=\"Sealed\",((($H4*mmcfd_m3)*((1+$I4*(BI$3-$D4))^$J4)*(1-$F4)-$G4)*Gg_m3),IF($E4=\"Flooded\",(($H4*mmcfd_m3)*EXP(-0.6728*(BI$3-$D4))*Gg_m3),(($H4*mmcfd_m3)*((1+$I4*(BI$3-$D4))^$J4)-$G4)*Gg_m3+((($H4*mmcfd_m3)*((1+$I4*(BI$3-$D4))^$J4)*(1-0.8)-$G4)*Gg_m3)+(($H4*mmcfd_m3)*EXP(-0.6728*(BI$3-$D4))*Gg_m3)))),0)),0,IF($D4<BI$3,IF($E4=\"Venting\",(($H4*mmcfd_m3)*((1+$I4*(BI$3-$D4))^$J4)-$G4)*Gg_m3,IF($E4=\"Sealed\",((($H4*mmcfd_m3)*((1+$I4*(BI$3-$D4))^$J4)*(1-$F4)-$G4)*Gg_m3),IF($E4=\"Flooded\",(($H4*mmcfd_m3)*EXP(-0.6728*(BI$3-$D4))*Gg_m3),(($H4*mmcfd_m3)*((1+$I4*(BI$3-$D4))^$J4)-$G4)*Gg_m3+((($H4*mmcfd_m3)*((1+$I4*(BI$3-$D4))^$J4)*(1-0.8)-$G4)*Gg_m3)+(($H4*mmcfd_m3)*EXP(-0.6728*(BI$3-$D4))*Gg_m3)))),0))","v":0},0,0,0,0,0,0,0,0,0,0,0,0,0,0,0,0,0,0,0,0,0,0,0,0]
[2,{"$f":"'CH4 from Abandoned Coal Mines'!D6","v":""},{"$f":"'CH4 from Abandoned Coal Mines'!H6","v":""},{"$f":"VALUE('CH4 from Abandoned Coal Mines'!J6)","v":{"$error":"#VALUE!"}},{"$f":"IF('CH4 from Abandoned Coal Mines'!N6>0,'CH4 from Abandoned Coal Mines'!N6,'CH4 from Abandoned Coal Mines'!L6)","v":""},{"$f":"'CH4 from Abandoned Coal Mines'!P6","v":0},{"$f":"'CH4 from Abandoned Coal Mines'!R6","v":0},{"$f":"VLOOKUP(B5,'Abandoned Data'!$O$3:$V$163,6,FALSE)","v":""},{"$f":"VLOOKUP(B5,'Abandoned Data'!$O$3:$V$163,7,FALSE)","v":""},{"$f":"VLOOKUP(B5,'Abandoned Data'!$O$3:$V$163,8,FALSE)","v":""},{"$error":"#VALUE!"},null,"b. Sealed:   q = qi × c(1 + aT)b",null,null,null,null,null,null,null,null,null,null,2,0,0,0,0,0,0,0,0,0,0,0,0,0,0,0,0,0,0,0,0,0,0,0,0,0,0,0,0,0,0,0,0,0,0,0,0,0,0,0,0,0,0,0,0,0,0,0,0,0,0,0,0,0,0,0,0,0,0,0,0,0]
[3,{"$f":"'CH4 from Abandoned Coal Mines'!D7","v":""},{"$f":"'CH4 from Abandoned Coal Mines'!H7","v":""},{"$f":"VALUE('CH4 from Abandoned Coal Mines'!J7)","v":{"$error":"#VALUE!"}},{"$f":"IF('CH4 from Abandoned Coal Mines'!N7>0,'CH4 from Abandoned Coal Mines'!N7,'CH4 from Abandoned Coal Mines'!L7)","v":""},{"$f":"'CH4 from Abandoned Coal Mines'!P7","v":0},{"$f":"'CH4 from Abandoned Coal Mines'!R7","v":0},{"$f":"VLOOKUP(B6,'Abandoned Data'!$O$3:$V$163,6,FALSE)","v":""},{"$f":"VLOOKUP(B6,'Abandoned Data'!$O$3:$V$163,7,FALSE)","v":""},{"$f":"VLOOKUP(B6,'Abandoned Data'!$O$3:$V$163,8,FALSE)","v":""},{"$error":"#VALUE!"},null,"c. Flooded:  q = qi × e(-DT)",null,null,null,null,null,null,null,null,null,null,3,0,0,0,0,0,0,0,0,0,0,0,0,0,0,0,0,0,0,0,0,0,0,0,0,0,0,0,0,0,0,0,0,0,0,0,0,0,0,0,0,0,0,0,0,0,0,0,0,0,0,0,0,0,0,0,0,0,0,0,0,0]
[4,{"$f":"'CH4 from Abandoned Coal Mines'!D8","v":""},{"$f":"'CH4 from Abandoned Coal Mines'!H8","v":""},{"$f":"VALUE('CH4 from Abandoned Coal Mines'!J8)","v":{"$error":"#VALUE!"}},{"$f":"IF('CH4 from Abandoned Coal Mines'!N8>0,'CH4 from Abandoned Coal Mines'!N8,'CH4 from Abandoned Coal Mines'!L8)","v":""},{"$f":"'CH4 from Abandoned Coal Mines'!P8","v":0},{"$f":"'CH4 from Abandoned Coal Mines'!R8","v":0},{"$f":"VLOOKUP(B7,'Abandoned Data'!$O$3:$V$163,6,FALSE)","v":""},{"$f":"VLOOKUP(B7,'Abandoned Data'!$O$3:$V$163,7,FALSE)","v":""},{"$f":"VLOOKUP(B7,'Abandoned Data'!$O$3:$V$163,8,FALSE)","v":""},{"$error":"#VALUE!"},null,null,null,null,null,null,null,null,"Flooded","Vented","Sealed",null,4,0,0,0,0,0,0,0,0,0,0,0,0,0,0,0,0,0,0,0,0,0,0,0,0,0,0,0,0,0,0,0,0,0,0,0,0,0,0,0,0,0,0,0,0,0,0,0,0,0,0,0,0,0,0,0,0,0,0,0,0,0]
[5,{"$f":"'CH4 from Abandoned Coal Mines'!D9","v":""},{"$f":"'CH4 from Abandoned Coal Mines'!H9","v":""},{"$f":"VALUE('CH4 from Abandoned Coal Mines'!J9)","v":{"$error":"#VALUE!"}},{"$f":"IF('CH4 from Abandoned Coal Mines'!N9>0,'CH4 from Abandoned Coal Mines'!N9,'CH4 from Abandoned Coal Mines'!L9)","v":""},{"$f":"'CH4 from Abandoned Coal Mines'!P9","v":0},{"$f":"'CH4 from Abandoned Coal Mines'!R9","v":0},{"$f":"VLOOKUP(B8,'Abandoned Data'!$O$3:$V$163,6,FALSE)","v":""},{"$f":"VLOOKUP(B8,'Abandoned Data'!$O$3:$V$163,7,FALSE)","v":""},{"$f":"VLOOKUP(B8,'Abandoned Data'!$O$3:$V$163,8,FALSE)","v":""},{"$error":"#VALUE!"},null,null,null,null,null,null,"AL","Warrior",0.92307692307692313,0,7.6923076923076927E-2,null,5,{"$f":"IF(ISERROR(IF($D8<Y$3,IF($E8=\"Venting\",(($H8*mmcfd_m3)*((1+$I8*(Y$3-$D8))^$J8)-$G8)*Gg_m3,IF($E8=\"Sealed\",((($H8*mmcfd_m3)*((1+$I8*(Y$3-$D8))^$J8)*(1-$F8)-$G8)*Gg_m3),IF($E8=\"Flooded\",(($H8*mmcfd_m3)*EXP(-0.6728*(Y$3-$D8))*Gg_m3),(($H8*mmcfd_m3)*((1+$I8*(Y$3-$D8))^$J8)-$G8)*Gg_m3+((($H8*mmcfd_m3)*((1+$I8*(Y$3-$D8))^$J8)*(1-0.8)-$G8)*Gg_m3)+(($H8*mmcfd_m3)*EXP(-0.6728*(Y$3-$D8))*Gg_m3)))),0)),0,IF($D8<Y$3,IF($E8=\"Venting\",(($H8*mmcfd_m3)*((1+$I8*(Y$3-$D8))^$J8)-$G8)*Gg_m3,IF($E8=\"Sealed\",((($H8*mmcfd_m3)*((1+$I8*(Y$3-$D8))^$J8)*(1-$F8)-$G8)*Gg_m3),IF($E8=\"Flooded\",(($H8*mmcfd_m3)*EXP(-0.6728*(Y$3-$D8))*Gg_m3),(($H8*mmcfd_m3)*((1+$I8*(Y$3-$D8))^$J8)-$G8)*Gg_m3+((($H8*mmcfd_m3)*((1+$I8*(Y$3-$D8))^$J8)*(1-0.8)-$G8)*Gg_m3)+(($H8*mmcfd_m3)*EXP(-0.6728*(Y$3-$D8))*Gg_m3)))),0))","v":0},0,0,0,0,0,0,0,0,0,0,0,0,0,0,0,0,0,0,0,0,0,0,0,0,0,0,0,0,0,0,0,0,0,0,0,0,0,0,0,0,0,0,0,0,0,0,0,0,0,0,0,0,0,0,0,0,0,0,0,0]
[6,{"$f":"'CH4 from Abandoned Coal Mines'!D10","v":""},{"$f":"'CH4 from Abandoned Coal Mines'!H10","v":""},{"$f":"VALUE('CH4 from Abandoned Coal Mines'!J10)","v":{"$error":"#VALUE!"}},{"$f":"IF('CH4 from Abandoned Coal Mines'!N10>0,'CH4 from Abandoned Coal Mines'!N10,'CH4 from Abandoned Coal Mines'!L10)","v":""},{"$f":"'CH4 from Abandoned Coal Mines'!P10","v":0},{"$f":"'CH4 from Abandoned Coal Mines'!R10","v":0},{"$f":"VLOOKUP(B9,'Abandoned Data'!$O$3:$V$163,6,FALSE)","v":""},{"$f":"VLOOKUP(B9,'Abandoned Data'!$O$3:$V$163,7,FALSE)","v":""},{"$f":"VLOOKUP(B9,'Abandoned Data'!$O$3:$V$163,8,FALSE)","v":""},{"$error":"#VALUE!"},null,null,null,null,null,null,"CO","Average of Two basins",{"$f":"AVERAGE(T10:T11)","v":7.1428571428571425E-2},{"$f":"AVERAGE(U10:U11)","v":0},{"$f":"AVERAGE(V10:V11)","v":0.9285714285714286},null,6,0,0,0,0,0,0,0,0,0,0,0,0,0,0,0,0,0,0,0,0,0,0,0,0,0,0,0,0,0,0,0,0,0,0,0,0,0,0,0,0,0,0,0,0,0,0,0,0,0,0,0,0,0,0,0,0,0,0,0,0,0]
[7,{"$f":"'CH4 from Abandoned Coal Mines'!D11","v":""},{"$f":"'CH4 from Abandoned Coal Mines'!H11","v":""},{"$f":"VALUE('CH4 from Abandoned Coal Mines'!J11)","v":{"$error":"#VALUE!"}},{"$f":"IF('CH4 from Abandoned Coal Mines'!N11>0,'CH4 from Abandoned Coal Mines'!N11,'CH4 from Abandoned Coal Mines'!L11)","v":""},{"$f":"'CH4 from Abandoned Coal Mines'!P11","v":0},{"$f":"'CH4 from Abandoned Coal Mines'!R11","v":0},{"$f":"VLOOKUP(B10,'Abandoned Data'!$O$3:$V$163,6,FALSE)","v":""},{"$f":"VLOOKUP(B10,'Abandoned Data'!$O$3:$V$163,7,FALSE)","v":""},{"$f":"VLOOKUP(B10,'Abandoned Data'!$O$3:$V$163,8,FALSE)","v":""},{"$error":"#VALUE!"},null,null,null,null,null,null,null,"Piceance",0.14285714285714285,0,0.8571428571428571,null,7,0,0,0,0,0,0,0,0,0,0,0,0,0,0,0,0,0,0,0,0,0,0,0,0,0,0,0,0,0,0,0,0,0,0,0,0,0,0,0,0,0,0,0,0,0,0,0,0,0,0,0,0,0,0,0,0,0,0,0,0,0]
[8,{"$f":"'CH4 from Abandoned Coal Mines'!D12","v":""},{"$f":"'CH4 from Abandoned Coal Mines'!H12","v":""},{"$f":"VALUE('CH4 from Abandoned Coal Mines'!J12)","v":{"$error":"#VALUE!"}},{"$f":"IF('CH4 from Abandoned Coal Mines'!N12>0,'CH4 from Abandoned Coal Mines'!N12,'CH4 from Abandoned Coal Mines'!L12)","v":""},{"$f":"'CH4 from Abandoned Coal Mines'!P12","v":0},{"$f":"'CH4 from Abandoned Coal Mines'!R12","v":0},{"$f":"VLOOKUP(B11,'Abandoned Data'!$O$3:$V$163,6,FALSE)","v":""},{"$f":"VLOOKUP(B11,'Abandoned Data'!$O$3:$V$163,7,FALSE)","v":""},{"$f":"VLOOKUP(B11,'Abandoned Data'!$O$3:$V$163,8,FALSE)","v":""},{"$error":"#VALUE!"},null,null,null,null,null,null,null,"Raton",0,0,1,null,8,0,0,0,0,0,0,0,0,0,0,0,0,0,0,0,0,0,0,0,0,0,0,0,0,0,0,0,0,0,0,0,0,0,0,0,0,0,0,0,0,0,0,0,0,0,0,0,0,0,0,0,0,0,0,0,0,0,0,0,0,0]
[9,{"$f":"'CH4 from Abandoned Coal Mines'!D13","v":""},{"$f":"'CH4 from Abandoned Coal Mines'!H13","v":""},{"$f":"VALUE('CH4 from Abandoned Coal Mines'!J13)","v":{"$error":"#VALUE!"}},{"$f":"IF('CH4 from Abandoned Coal Mines'!N13>0,'CH4 from Abandoned Coal Mines'!N13,'CH4 from Abandoned Coal Mines'!L13)","v":""},{"$f":"'CH4 from Abandoned Coal Mines'!P13","v":0},{"$f":"'CH4 from Abandoned Coal Mines'!R13","v":0},{"$f":"VLOOKUP(B12,'Abandoned Data'!$O$3:$V$163,6,FALSE)","v":""},{"$f":"VLOOKUP(B12,'Abandoned Data'!$O$3:$V$163,7,FALSE)","v":""},{"$f":"VLOOKUP(B12,'Abandoned Data'!$O$3:$V$163,8,FALSE)","v":""},{"$error":"#VALUE!"},null,null,null,null,null,null,"IL","Illinois",0.15789473684210525,0.15789473684210525,0.68421052631578949,null,9,0,0,0,0,0,0,0,0,0,0,0,0,0,0,0,0,0,0,0,0,0,0,0,0,0,0,0,0,0,0,0,0,0,0,0,0,0,0,0,0,0,0,0,0,0,0,0,0,0,0,0,{"$f":"IF(ISERROR(IF($D12<BX$3,IF($E12=\"Venting\",(($H12*mmcfd_m3)*((1+$I12*(BX$3-$D12))^$J12)-$G12)*Gg_m3,IF($E12=\"Sealed\",((($H12*mmcfd_m3)*((1+$I12*(BX$3-$D12))^$J12)*(1-$F12)-$G12)*Gg_m3),IF($E12=\"Flooded\",(($H12*mmcfd_m3)*EXP(-0.6728*(BX$3-$D12))*Gg_m3),(($H12*mmcfd_m3)*((1+$I12*(BX$3-$D12))^$J12)-$G12)*Gg_m3+((($H12*mmcfd_m3)*((1+$I12*(BX$3-$D12))^$J12)*(1-0.8)-$G12)*Gg_m3)+(($H12*mmcfd_m3)*EXP(-0.6728*(BX$3-$D12))*Gg_m3)))),0)),0,IF($D12<BX$3,IF($E12=\"Venting\",(($H12*mmcfd_m3)*((1+$I12*(BX$3-$D12))^$J12)-$G12)*Gg_m3,IF($E12=\"Sealed\",((($H12*mmcfd_m3)*((1+$I12*(BX$3-$D12))^$J12)*(1-$F12)-$G12)*Gg_m3),IF($E12=\"Flooded\",(($H12*mmcfd_m3)*EXP(-0.6728*(BX$3-$D12))*Gg_m3),(($H12*mmcfd_m3)*((1+$I12*(BX$3-$D12))^$J12)-$G12)*Gg_m3+((($H12*mmcfd_m3)*((1+$I12*(BX$3-$D12))^$J12)*(1-0.8)-$G12)*Gg_m3)+(($H12*mmcfd_m3)*EXP(-0.6728*(BX$3-$D12))*Gg_m3)))),0))","v":0},0,0,0,0,0,0,0,0,0]
[10,{"$f":"'CH4 from Abandoned Coal Mines'!D14","v":""},{"$f":"'CH4 from Abandoned Coal Mines'!H14","v":""},{"$f":"VALUE('CH4 from Abandoned Coal Mines'!J14)","v":{"$error":"#VALUE!"}},{"$f":"IF('CH4 from Abandoned Coal Mines'!N14>0,'CH4 from Abandoned Coal Mines'!N14,'CH4 from Abandoned Coal Mines'!L14)","v":""},{"$f":"'CH4 from Abandoned Coal Mines'!P14","v":0},{"$f":"'CH4 from Abandoned Coal Mines'!R14","v":0},{"$f":"VLOOKUP(B13,'Abandoned Data'!$O$3:$V$163,6,FALSE)","v":""},{"$f":"VLOOKUP(B13,'Abandoned Data'!$O$3:$V$163,7,FALSE)","v":""},{"$f":"VLOOKUP(B13,'Abandoned Data'!$O$3:$V$163,8,FALSE)","v":""},{"$error":"#VALUE!"},null,null,null,null,null,null,"IN","Illinois",0,0,1,null,10,0,0,0,0,0,0,0,0,0,0,0,0,0,0,0,0,0,0,0,0,0,0,0,0,0,0,0,0,0,0,0,0,0,0,0,0,0,0,0,0,0,0,0,0,0,0,0,0,0,0,0,0,0,0,0,0,0,0,0,0,0]
[11,{"$f":"'CH4 from Abandoned Coal Mines'!D15","v":""},{"$f":"'CH4 from Abandoned Coal Mines'!H15","v":""},{"$f":"VALUE('CH4 from Abandoned Coal Mines'!J15)","v":{"$error":"#VALUE!"}},{"$f":"IF('CH4 from Abandoned Coal Mines'!N15>0,'CH4 from Abandoned Coal Mines'!N15,'CH4 from Abandoned Coal Mines'!L15)","v":""},{"$f":"'CH4 from Abandoned Coal Mines'!P15","v":0},{"$f":"'CH4 from Abandoned Coal Mines'!R15","v":0},{"$f":"VLOOKUP(B14,'Abandoned Data'!$O$3:$V$163,6,FALSE)","v":""},{"$f":"VLOOKUP(B14,'Abandoned Data'!$O$3:$V$163,7,FALSE)","v":""},{"$f":"VLOOKUP(B14,'Abandoned Data'!$O$3:$V$163,8,FALSE)","v":""},{"$error":"#VALUE!"},null,null,null,null,null,null,"KY","Average of Two basins",{"$f":"AVERAGE(T15:T16)","v":0.51041666666666663},{"$f":"AVERAGE(U15:U16)","v":8.3333333333333329E-2},{"$f":"AVERAGE(V15:V16)","v":0.40625},null,11,{"$f":"IF(ISERROR(IF($D14<Y$3,IF($E14=\"Venting\",(($H14*mmcfd_m3)*((1+$I14*(Y$3-$D14))^$J14)-$G14)*Gg_m3,IF($E14=\"Sealed\",((($H14*mmcfd_m3)*((1+$I14*(Y$3-$D14))^$J14)*(1-$F14)-$G14)*Gg_m3),IF($E14=\"Flooded\",(($H14*mmcfd_m3)*EXP(-0.6728*(Y$3-$D14))*Gg_m3),(($H14*mmcfd_m3)*((1+$I14*(Y$3-$D14))^$J14)-$G14)*Gg_m3+((($H14*mmcfd_m3)*((1+$I14*(Y$3-$D14))^$J14)*(1-0.8)-$G14)*Gg_m3)+(($H14*mmcfd_m3)*EXP(-0.6728*(Y$3-$D14))*Gg_m3)))),0)),0,IF($D14<Y$3,IF($E14=\"Venting\",(($H14*mmcfd_m3)*((1+$I14*(Y$3-$D14))^$J14)-$G14)*Gg_m3,IF($E14=\"Sealed\",((($H14*mmcfd_m3)*((1+$I14*(Y$3-$D14))^$J14)*(1-$F14)-$G14)*Gg_m3),IF($E14=\"Flooded\",(($H14*mmcfd_m3)*EXP(-0.6728*(Y$3-$D14))*Gg_m3),(($H14*mmcfd_m3)*((1+$I14*(Y$3-$D14))^$J14)-$G14)*Gg_m3+((($H14*mmcfd_m3)*((1+$I14*(Y$3-$D14))^$J14)*(1-0.8)-$G14)*Gg_m3)+(($H14*mmcfd_m3)*EXP(-0.6728*(Y$3-$D14))*Gg_m3)))),0))","v":0},0,0,0,0,0,0,0,0,0,{"$f":"IF(ISERROR(IF($D14<AI$3,IF($E14=\"Venting\",(($H14*mmcfd_m3)*((1+$I14*(AI$3-$D14))^$J14)-$G14)*Gg_m3,IF($E14=\"Sealed\",((($H14*mmcfd_m3)*((1+$I14*(AI$3-$D14))^$J14)*(1-$F14)-$G14)*Gg_m3),IF($E14=\"Flooded\",(($H14*mmcfd_m3)*EXP(-0.6728*(AI$3-$D14))*Gg_m3),(($H14*mmcfd_m3)*((1+$I14*(AI$3-$D14))^$J14)-$G14)*Gg_m3+((($H14*mmcfd_m3)*((1+$I14*(AI$3-$D14))^$J14)*(1-0.8)-$G14)*Gg_m3)+(($H14*mmcfd_m3)*EXP(-0.6728*(AI$3-$D14))*Gg_m3)))),0)),0,IF($D14<AI$3,IF($E14=\"Venting\",(($H14*mmcfd_m3)*((1+$I14*(AI$3-$D14))^$J14)-$G14)*Gg_m3,IF($E14=\"Sealed\",((($H14*mmcfd_m3)*((1+$I14*(AI$3-$D14))^$J14)*(1-$F14)-$G14)*Gg_m3),IF($E14=\"Flooded\",(($H14*mmcfd_m3)*EXP(-0.6728*(AI$3-$D14))*Gg_m3),(($H14*mmcfd_m3)*((1+$I14*(AI$3-$D14))^$J14)-$G14)*Gg_m3+((($H14*mmcfd_m3)*((1+$I14*(AI$3-$D14))^$J14)*(1-0.8)-$G14)*Gg_m3)+(($H14*mmcfd_m3)*EXP(-0.6728*(AI$3-$D14))*Gg_m3)))),0))","v":0},0,0,0,0,0,0,0,0,0,{"$f":"IF(ISERROR(IF($D14<AS$3,IF($E14=\"Venting\",(($H14*mmcfd_m3)*((1+$I14*(AS$3-$D14))^$J14)-$G14)*Gg_m3,IF($E14=\"Sealed\",((($H14*mmcfd_m3)*((1+$I14*(AS$3-$D14))^$J14)*(1-$F14)-$G14)*Gg_m3),IF($E14=\"Flooded\",(($H14*mmcfd_m3)*EXP(-0.6728*(AS$3-$D14))*Gg_m3),(($H14*mmcfd_m3)*((1+$I14*(AS$3-$D14))^$J14)-$G14)*Gg_m3+((($H14*mmcfd_m3)*((1+$I14*(AS$3-$D14))^$J14)*(1-0.8)-$G14)*Gg_m3)+(($H14*mmcfd_m3)*EXP(-0.6728*(AS$3-$D14))*Gg_m3)))),0)),0,IF($D14<AS$3,IF($E14=\"Venting\",(($H14*mmcfd_m3)*((1+$I14*(AS$3-$D14))^$J14)-$G14)*Gg_m3,IF($E14=\"Sealed\",((($H14*mmcfd_m3)*((1+$I14*(AS$3-$D14))^$J14)*(1-$F14)-$G14)*Gg_m3),IF($E14=\"Flooded\",(($H14*mmcfd_m3)*EXP(-0.6728*(AS$3-$D14))*Gg_m3),(($H14*mmcfd_m3)*((1+$I14*(AS$3-$D14))^$J14)-$G14)*Gg_m3+((($H14*mmcfd_m3)*((1+$I14*(AS$3-$D14))^$J14)*(1-0.8)-$G14)*Gg_m3)+(($H14*mmcfd_m3)*EXP(-0.6728*(AS$3-$D14))*Gg_m3)))),0))","v":0},0,0,0,0,0,0,0,0,0,0,0,0,0,0,0,0,0,0,0,0,0,0,0,0,0,0,0,0,0,0,0,0,0,0,0,0,0,0,0,0]
[12,{"$f":"'CH4 from Abandoned Coal Mines'!D16","v":""},{"$f":"'CH4 from Abandoned Coal Mines'!H16","v":""},{"$f":"VALUE('CH4 from Abandoned Coal Mines'!J16)","v":{"$error":"#VALUE!"}},{"$f":"IF('CH4 from Abandoned Coal Mines'!N16>0,'CH4 from Abandoned Coal Mines'!N16,'CH4 from Abandoned Coal Mines'!L16)","v":""},{"$f":"'CH4 from Abandoned Coal Mines'!P16","v":0},{"$f":"'CH4 from Abandoned Coal Mines'!R16","v":0},{"$f":"VLOOKUP(B15,'Abandoned Data'!$O$3:$V$163,6,FALSE)","v":""},{"$f":"VLOOKUP(B15,'Abandoned Data'!$O$3:$V$163,7,FALSE)","v":""},{"$f":"VLOOKUP(B15,'Abandoned Data'!$O$3:$V$163,8,FALSE)","v":""},{"$error":"#VALUE!"},null,null,null,null,null,null,null,"Central Appl.",0.33333333333333331,0.16666666666666666,0.5,null,12,0,0,0,0,0,0,0,0,0,0,0,0,0,0,0,0,0,0,0,0,0,0,0,0,0,0,0,0,0,0,0,0,0,0,0,0,0,0,0,0,0,0,0,0,0,0,0,0,0,0,0,0,0,0,0,0,0,0,0,0,0]
[13,{"$f":"'CH4 from Abandoned Coal Mines'!D17","v":""},{"$f":"'CH4 from Abandoned Coal Mines'!H17","v":""},{"$f":"VALUE('CH4 from Abandoned Coal Mines'!J17)","v":{"$error":"#VALUE!"}},{"$f":"IF('CH4 from Abandoned Coal Mines'!N17>0,'CH4 from Abandoned Coal Mines'!N17,'CH4 from Abandoned Coal Mines'!L17)","v":""},{"$f":"'CH4 from Abandoned Coal Mines'!P17","v":0},{"$f":"'CH4 from Abandoned Coal Mines'!R17","v":0},{"$f":"VLOOKUP(B16,'Abandoned Data'!$O$3:$V$163,6,FALSE)","v":""},{"$f":"VLOOKUP(B16,'Abandoned Data'!$O$3:$V$163,7,FALSE)","v":""},{"$f":"VLOOKUP(B16,'Abandoned Data'!$O$3:$V$163,8,FALSE)","v":""},{"$error":"#VALUE!"},null,null,null,null,null,null,null,"Illinois",0.6875,0,0.3125,null,13,0,0,0,0,0,0,0,0,0,0,0,0,0,0,0,0,0,0,0,0,0,0,0,0,0,0,0,0,0,0,0,0,0,0,0,0,0,0,0,0,0,0,0,0,0,0,0,0,0,0,0,0,0,0,0,0,0,0,0,0,0]
[14,{"$f":"'CH4 from Abandoned Coal Mines'!D18","v":""},{"$f":"'CH4 from Abandoned Coal Mines'!H18","v":""},{"$f":"VALUE('CH4 from Abandoned Coal Mines'!J18)","v":{"$error":"#VALUE!"}},{"$f":"IF('CH4 from Abandoned Coal Mines'!N18>0,'CH4 from Abandoned Coal Mines'!N18,'CH4 from Abandoned Coal Mines'!L18)","v":""},{"$f":"'CH4 from Abandoned Coal Mines'!P18","v":0},{"$f":"'CH4 from Abandoned Coal Mines'!R18","v":0},{"$f":"VLOOKUP(B17,'Abandoned Data'!$O$3:$V$163,6,FALSE)","v":""},{"$f":"VLOOKUP(B17,'Abandoned Data'!$O$3:$V$163,7,FALSE)","v":""},{"$f":"VLOOKUP(B17,'Abandoned Data'!$O$3:$V$163,8,FALSE)","v":""},{"$error":"#VALUE!"},null,null,null,null,null,null,"MD","Central Appl.",0.625,0.125,0.25,null,14,0,0,0,0,0,0,0,0,0,0,0,0,0,0,0,0,0,0,0,0,0,0,0,0,0,0,0,0,0,0,0,0,0,0,0,0,0,0,0,0,0,0,0,0,0,0,0,0,0,0,0,0,0,0,0,0,0,0,0,0,0]
[15,{"$f":"'CH4 from Abandoned Coal Mines'!D19","v":""},{"$f":"'CH4 from Abandoned Coal Mines'!H19","v":""},{"$f":"VALUE('CH4 from Abandoned Coal Mines'!J19)","v":{"$error":"#VALUE!"}},{"$f":"IF('CH4 from Abandoned Coal Mines'!N19>0,'CH4 from Abandoned Coal Mines'!N19,'CH4 from Abandoned Coal Mines'!L19)","v":""},{"$f":"'CH4 from Abandoned Coal Mines'!P19","v":0},{"$f":"'CH4 from Abandoned Coal Mines'!R19","v":0},{"$f":"VLOOKUP(B18,'Abandoned Data'!$O$3:$V$163,6,FALSE)","v":""},{"$f":"VLOOKUP(B18,'Abandoned Data'!$O$3:$V$163,7,FALSE)","v":""},{"$f":"VLOOKUP(B18,'Abandoned Data'!$O$3:$V$163,8,FALSE)","v":""},{"$error":"#VALUE!"},null,null,null,null,null,null,"NM","Raton",0,0,1,null,15,0,0,0,0,0,0,0,0,0,0,0,0,0,0,0,0,0,0,0,0,0,0,0,0,0,0,0,0,0,0,0,0,0,0,0,0,0,0,0,0,0,0,0,0,0,0,0,0,0,0,0,0,0,0,0,0,0,0,0,0,0]
[16,{"$f":"'CH4 from Abandoned Coal Mines'!D20","v":""},{"$f":"'CH4 from Abandoned Coal Mines'!H20","v":""},{"$f":"VALUE('CH4 from Abandoned Coal Mines'!J20)","v":{"$error":"#VALUE!"}},{"$f":"IF('CH4 from Abandoned Coal Mines'!N20>0,'CH4 from Abandoned Coal Mines'!N20,'CH4 from Abandoned Coal Mines'!L20)","v":""},{"$f":"'CH4 from Abandoned Coal Mines'!P20","v":0},{"$f":"'CH4 from Abandoned Coal Mines'!R20","v":0},{"$f":"VLOOKUP(B19,'Abandoned Data'!$O$3:$V$163,6,FALSE)","v":""},{"$f":"VLOOKUP(B19,'Abandoned Data'!$O$3:$V$163,7,FALSE)","v":""},{"$f":"VLOOKUP(B19,'Abandoned Data'!$O$3:$V$163,8,FALSE)","v":""},{"$error":"#VALUE!"},null,null,null,null,null,null,"OH","Northern Appl.",7.1428571428571425E-2,0.5714285714285714,0.35714285714285715,null,16,0,0,0,0,0,0,0,0,0,0,0,0,0,0,0,0,0,0,0,0,0,0,0,0,0,0,0,0,0,0,0,0,0,0,0,0,0,0,0,0,0,0,0,0,0,0,0,0,0,0,0,0,0,0,0,0,0,0,0,0,0]
[17,{"$f":"'CH4 from Abandoned Coal Mines'!D21","v":""},{"$f":"'CH4 from Abandoned Coal Mines'!H21","v":""},{"$f":"VALUE('CH4 from Abandoned Coal Mines'!J21)","v":{"$error":"#VALUE!"}},{"$f":"IF('CH4 from Abandoned Coal Mines'!N21>0,'CH4 from Abandoned Coal Mines'!N21,'CH4 from Abandoned Coal Mines'!L21)","v":""},{"$f":"'CH4 from Abandoned Coal Mines'!P21","v":0},{"$f":"'CH4 from Abandoned Coal Mines'!R21","v":0},{"$f":"VLOOKUP(B20,'Abandoned Data'!$O$3:$V$163,6,FALSE)","v":""},{"$f":"VLOOKUP(B20,'Abandoned Data'!$O$3:$V$163,7,FALSE)","v":""},{"$f":"VLOOKUP(B20,'Abandoned Data'!$O$3:$V$163,8,FALSE)","v":""},{"$error":"#VALUE!"},null,null,null,null,null,null,"OK","Arkoma",0.1,0,0.9,null,17,0,0,0,0,0,0,0,0,0,0,0,0,0,0,0,0,0,0,0,0,0,0,0,0,0,0,0,0,0,0,0,0,0,0,0,0,0,0,0,0,0,0,0,0,0,0,0,0,0,0,0,0,0,0,0,0,0,0,0,0,0]
[18,{"$f":"'CH4 from Abandoned Coal Mines'!D22","v":""},{"$f":"'CH4 from Abandoned Coal Mines'!H22","v":""},{"$f":"VALUE('CH4 from Abandoned Coal Mines'!J22)","v":{"$error":"#VALUE!"}},{"$f":"IF('CH4 from Abandoned Coal Mines'!N22>0,'CH4 from Abandoned Coal Mines'!N22,'CH4 from Abandoned Coal Mines'!L22)","v":""},{"$f":"'CH4 from Abandoned Coal Mines'!P22","v":0},{"$f":"'CH4 from Abandoned Coal Mines'!R22","v":0},{"$f":"VLOOKUP(B21,'Abandoned Data'!$O$3:$V$163,6,FALSE)","v":""},{"$f":"VLOOKUP(B21,'Abandoned Data'!$O$3:$V$163,7,FALSE)","v":""},{"$f":"VLOOKUP(B21,'Abandoned Data'!$O$3:$V$163,8,FALSE)","v":""},{"$error":"#VALUE!"},null,null,null,null,null,null,"PA","Northern Appl.",0.41025641025641024,0.10256410256410256,0.48717948717948717,null,18,0,0,0,0,0,0,0,0,0,0,0,0,0,0,0,0,0,0,0,0,0,0,0,0,0,0,0,0,0,0,0,0,0,0,0,0,0,0,0,0,0,{"$f":"IF(ISERROR(IF($D21<BN$3,IF($E21=\"Venting\",(($H21*mmcfd_m3)*((1+$I21*(BN$3-$D21))^$J21)-$G21)*Gg_m3,IF($E21=\"Sealed\",((($H21*mmcfd_m3)*((1+$I21*(BN$3-$D21))^$J21)*(1-$F21)-$G21)*Gg_m3),IF($E21=\"Flooded\",(($H21*mmcfd_m3)*EXP(-0.6728*(BN$3-$D21))*Gg_m3),(($H21*mmcfd_m3)*((1+$I21*(BN$3-$D21))^$J21)-$G21)*Gg_m3+((($H21*mmcfd_m3)*((1+$I21*(BN$3-$D21))^$J21)*(1-0.8)-$G21)*Gg_m3)+(($H21*mmcfd_m3)*EXP(-0.6728*(BN$3-$D21))*Gg_m3)))),0)),0,IF($D21<BN$3,IF($E21=\"Venting\",(($H21*mmcfd_m3)*((1+$I21*(BN$3-$D21))^$J21)-$G21)*Gg_m3,IF($E21=\"Sealed\",((($H21*mmcfd_m3)*((1+$I21*(BN$3-$D21))^$J21)*(1-$F21)-$G21)*Gg_m3),IF($E21=\"Flooded\",(($H21*mmcfd_m3)*EXP(-0.6728*(BN$3-$D21))*Gg_m3),(($H21*mmcfd_m3)*((1+$I21*(BN$3-$D21))^$J21)-$G21)*Gg_m3+((($H21*mmcfd_m3)*((1+$I21*(BN$3-$D21))^$J21)*(1-0.8)-$G21)*Gg_m3)+(($H21*mmcfd_m3)*EXP(-0.6728*(BN$3-$D21))*Gg_m3)))),0))","v":0},0,0,0,0,0,0,0,0,0,0,0,0,0,0,0,0,0,0,0]
[19,{"$f":"'CH4 from Abandoned Coal Mines'!D23","v":""},{"$f":"'CH4 from Abandoned Coal Mines'!H23","v":""},{"$f":"VALUE('CH4 from Abandoned Coal Mines'!J23)","v":{"$error":"#VALUE!"}},{"$f":"IF('CH4 from Abandoned Coal Mines'!N23>0,'CH4 from Abandoned Coal Mines'!N23,'CH4 from Abandoned Coal Mines'!L23)","v":""},{"$f":"'CH4 from Abandoned Coal Mines'!P23","v":0},{"$f":"'CH4 from Abandoned Coal Mines'!R23","v":0},{"$f":"VLOOKUP(B22,'Abandoned Data'!$O$3:$V$163,6,FALSE)","v":""},{"$f":"VLOOKUP(B22,'Abandoned Data'!$O$3:$V$163,7,FALSE)","v":""},{"$f":"VLOOKUP(B22,'Abandoned Data'!$O$3:$V$163,8,FALSE)","v":""},{"$error":"#VALUE!"},null,null,null,null,null,null,"TN","Central Appl.",0.33333333333333331,0.16666666666666666,0.5,null,19,0,0,0,0,0,0,0,0,0,0,0,0,0,0,0,0,0,0,0,0,0,0,0,0,0,0,0,0,0,0,0,0,0,0,0,0,0,0,0,0,0,0,0,0,0,0,0,0,0,0,0,0,0,0,0,0,0,0,0,0,0]
[20,{"$f":"'CH4 from Abandoned Coal Mines'!D24","v":""},{"$f":"'CH4 from Abandoned Coal Mines'!H24","v":""},{"$f":"VALUE('CH4 from Abandoned Coal Mines'!J24)","v":{"$error":"#VALUE!"}},{"$f":"IF('CH4 from Abandoned Coal Mines'!N24>0,'CH4 from Abandoned Coal Mines'!N24,'CH4 from Abandoned Coal Mines'!L24)","v":""},{"$f":"'CH4 from Abandoned Coal Mines'!P24","v":0},{"$f":"'CH4 from Abandoned Coal Mines'!R24","v":0},{"$f":"VLOOKUP(B23,'Abandoned Data'!$O$3:$V$163,6,FALSE)","v":""},{"$f":"VLOOKUP(B23,'Abandoned Data'!$O$3:$V$163,7,FALSE)","v":""},{"$f":"VLOOKUP(B23,'Abandoned Data'!$O$3:$V$163,8,FALSE)","v":""},{"$error":"#VALUE!"},null,null,null,null,null,null,"UT","Uinta",0.1,0,0.9,null,20,0,0,0,0,0,0,0,0,0,0,0,0,0,0,0,0,0,0,0,0,0,0,0,0,0,0,0,0,0,0,0,0,0,0,0,0,0,0,0,0,0,0,0,0,0,0,0,0,0,0,0,0,0,0,0,0,0,0,0,0,0]
[21,{"$f":"'CH4 from Abandoned Coal Mines'!D25","v":""},{"$f":"'CH4 from Abandoned Coal Mines'!H25","v":""},{"$f":"VALUE('CH4 from Abandoned Coal Mines'!J25)","v":{"$error":"#VALUE!"}},{"$f":"IF('CH4 from Abandoned Coal Mines'!N25>0,'CH4 from Abandoned Coal Mines'!N25,'CH4 from Abandoned Coal Mines'!L25)","v":""},{"$f":"'CH4 from Abandoned Coal Mines'!P25","v":0},{"$f":"'CH4 from Abandoned Coal Mines'!R25","v":0},{"$f":"VLOOKUP(B24,'Abandoned Data'!$O$3:$V$163,6,FALSE)","v":""},{"$f":"VLOOKUP(B24,'Abandoned Data'!$O$3:$V$163,7,FALSE)","v":""},{"$f":"VLOOKUP(B24,'Abandoned Data'!$O$3:$V$163,8,FALSE)","v":""},{"$error":"#VALUE!"},null,null,null,null,null,null,"VA","Central Appl.",0.625,0.125,0.25,null,21,{"$f":"IF(ISERROR(IF($D24<Y$3,IF($E24=\"Venting\",(($H24*mmcfd_m3)*((1+$I24*(Y$3-$D24))^$J24)-$G24)*Gg_m3,IF($E24=\"Sealed\",((($H24*mmcfd_m3)*((1+$I24*(Y$3-$D24))^$J24)*(1-$F24)-$G24)*Gg_m3),IF($E24=\"Flooded\",(($H24*mmcfd_m3)*EXP(-0.6728*(Y$3-$D24))*Gg_m3),(($H24*mmcfd_m3)*((1+$I24*(Y$3-$D24))^$J24)-$G24)*Gg_m3+((($H24*mmcfd_m3)*((1+$I24*(Y$3-$D24))^$J24)*(1-0.8)-$G24)*Gg_m3)+(($H24*mmcfd_m3)*EXP(-0.6728*(Y$3-$D24))*Gg_m3)))),0)),0,IF($D24<Y$3,IF($E24=\"Venting\",(($H24*mmcfd_m3)*((1+$I24*(Y$3-$D24))^$J24)-$G24)*Gg_m3,IF($E24=\"Sealed\",((($H24*mmcfd_m3)*((1+$I24*(Y$3-$D24))^$J24)*(1-$F24)-$G24)*Gg_m3),IF($E24=\"Flooded\",(($H24*mmcfd_m3)*EXP(-0.6728*(Y$3-$D24))*Gg_m3),(($H24*mmcfd_m3)*((1+$I24*(Y$3-$D24))^$J24)-$G24)*Gg_m3+((($H24*mmcfd_m3)*((1+$I24*(Y$3-$D24))^$J24)*(1-0.8)-$G24)*Gg_m3)+(($H24*mmcfd_m3)*EXP(-0.6728*(Y$3-$D24))*Gg_m3)))),0))","v":0},0,0,0,0,0,0,0,0,0,{"$f":"IF(ISERROR(IF($D24<AI$3,IF($E24=\"Venting\",(($H24*mmcfd_m3)*((1+$I24*(AI$3-$D24))^$J24)-$G24)*Gg_m3,IF($E24=\"Sealed\",((($H24*mmcfd_m3)*((1+$I24*(AI$3-$D24))^$J24)*(1-$F24)-$G24)*Gg_m3),IF($E24=\"Flooded\",(($H24*mmcfd_m3)*EXP(-0.6728*(AI$3-$D24))*Gg_m3),(($H24*mmcfd_m3)*((1+$I24*(AI$3-$D24))^$J24)-$G24)*Gg_m3+((($H24*mmcfd_m3)*((1+$I24*(AI$3-$D24))^$J24)*(1-0.8)-$G24)*Gg_m3)+(($H24*mmcfd_m3)*EXP(-0.6728*(AI$3-$D24))*Gg_m3)))),0)),0,IF($D24<AI$3,IF($E24=\"Venting\",(($H24*mmcfd_m3)*((1+$I24*(AI$3-$D24))^$J24)-$G24)*Gg_m3,IF($E24=\"Sealed\",((($H24*mmcfd_m3)*((1+$I24*(AI$3-$D24))^$J24)*(1-$F24)-$G24)*Gg_m3),IF($E24=\"Flooded\",(($H24*mmcfd_m3)*EXP(-0.6728*(AI$3-$D24))*Gg_m3),(($H24*mmcfd_m3)*((1+$I24*(AI$3-$D24))^$J24)-$G24)*Gg_m3+((($H24*mmcfd_m3)*((1+$I24*(AI$3-$D24))^$J24)*(1-0.8)-$G24)*Gg_m3)+(($H24*mmcfd_m3)*EXP(-0.6728*(AI$3-$D24))*Gg_m3)))),0))","v":0},0,0,0,0,0,0,0,0,0,{"$f":"IF(ISERROR(IF($D24<AS$3,IF($E24=\"Venting\",(($H24*mmcfd_m3)*((1+$I24*(AS$3-$D24))^$J24)-$G24)*Gg_m3,IF($E24=\"Sealed\",((($H24*mmcfd_m3)*((1+$I24*(AS$3-$D24))^$J24)*(1-$F24)-$G24)*Gg_m3),IF($E24=\"Flooded\",(($H24*mmcfd_m3)*EXP(-0.6728*(AS$3-$D24))*Gg_m3),(($H24*mmcfd_m3)*((1+$I24*(AS$3-$D24))^$J24)-$G24)*Gg_m3+((($H24*mmcfd_m3)*((1+$I24*(AS$3-$D24))^$J24)*(1-0.8)-$G24)*Gg_m3)+(($H24*mmcfd_m3)*EXP(-0.6728*(AS$3-$D24))*Gg_m3)))),0)),0,IF($D24<AS$3,IF($E24=\"Venting\",(($H24*mmcfd_m3)*((1+$I24*(AS$3-$D24))^$J24)-$G24)*Gg_m3,IF($E24=\"Sealed\",((($H24*mmcfd_m3)*((1+$I24*(AS$3-$D24))^$J24)*(1-$F24)-$G24)*Gg_m3),IF($E24=\"Flooded\",(($H24*mmcfd_m3)*EXP(-0.6728*(AS$3-$D24))*Gg_m3),(($H24*mmcfd_m3)*((1+$I24*(AS$3-$D24))^$J24)-$G24)*Gg_m3+((($H24*mmcfd_m3)*((1+$I24*(AS$3-$D24))^$J24)*(1-0.8)-$G24)*Gg_m3)+(($H24*mmcfd_m3)*EXP(-0.6728*(AS$3-$D24))*Gg_m3)))),0))","v":0},0,0,0,0,0,0,0,0,0,0,0,0,0,0,0,0,0,0,0,0,0,0,0,0,0,0,0,0,0,0,0,0,0,0,0,0,0,0,0,0]
[22,{"$f":"'CH4 from Abandoned Coal Mines'!D26","v":""},{"$f":"'CH4 from Abandoned Coal Mines'!H26","v":""},{"$f":"VALUE('CH4 from Abandoned Coal Mines'!J26)","v":{"$error":"#VALUE!"}},{"$f":"IF('CH4 from Abandoned Coal Mines'!N26>0,'CH4 from Abandoned Coal Mines'!N26,'CH4 from Abandoned Coal Mines'!L26)","v":""},{"$f":"'CH4 from Abandoned Coal Mines'!P26","v":0},{"$f":"'CH4 from Abandoned Coal Mines'!R26","v":0},{"$f":"VLOOKUP(B25,'Abandoned Data'!$O$3:$V$163,6,FALSE)","v":""},{"$f":"VLOOKUP(B25,'Abandoned Data'!$O$3:$V$163,7,FALSE)","v":""},{"$f":"VLOOKUP(B25,'Abandoned Data'!$O$3:$V$163,8,FALSE)","v":""},{"$error":"#VALUE!"},null,null,null,null,null,null,"WV","Average of Two basins",{"$f":"AVERAGE(T26:T27)","v":0.47979139504563229},{"$f":"AVERAGE(U26:U27)","v":0.13005215123859193},{"$f":"AVERAGE(V26:V27)","v":0.39015645371577573},null,22,0,0,0,0,0,0,0,0,0,0,0,0,0,0,0,0,0,0,0,0,0,0,0,0,0,0,0,0,0,0,0,0,0,0,0,0,0,0,0,0,0,0,0,0,0,0,0,0,0,0,0,0,0,0,0,0,0,0,0,0,0]
[23,{"$f":"'CH4 from Abandoned Coal Mines'!D27","v":""},{"$f":"'CH4 from Abandoned Coal Mines'!H27","v":""},{"$f":"VALUE('CH4 from Abandoned Coal Mines'!J27)","v":{"$error":"#VALUE!"}},{"$f":"IF('CH4 from Abandoned Coal Mines'!N27>0,'CH4 from Abandoned Coal Mines'!N27,'CH4 from Abandoned Coal Mines'!L27)","v":""},{"$f":"'CH4 from Abandoned Coal Mines'!P27","v":0},{"$f":"'CH4 from Abandoned Coal Mines'!R27","v":0},{"$f":"VLOOKUP(B26,'Abandoned Data'!$O$3:$V$163,6,FALSE)","v":""},{"$f":"VLOOKUP(B26,'Abandoned Data'!$O$3:$V$163,7,FALSE)","v":""},{"$f":"VLOOKUP(B26,'Abandoned Data'!$O$3:$V$163,8,FALSE)","v":""},{"$error":"#VALUE!"},null,null,null,null,null,null,null,"Central Appl.",0.72881355932203384,6.7796610169491525E-2,0.20338983050847459,null,23,0,0,0,0,0,0,0,0,0,0,0,0,0,0,0,0,0,0,0,0,0,0,0,0,0,0,0,0,0,0,0,0,0,0,0,0,0,0,0,0,0,0,0,0,0,0,0,0,0,0,0,0,0,0,0,0,0,0,0,0,0]
[24,{"$f":"'CH4 from Abandoned Coal Mines'!D28","v":""},{"$f":"'CH4 from Abandoned Coal Mines'!H28","v":""},{"$f":"VALUE('CH4 from Abandoned Coal Mines'!J28)","v":{"$error":"#VALUE!"}},{"$f":"IF('CH4 from Abandoned Coal Mines'!N28>0,'CH4 from Abandoned Coal Mines'!N28,'CH4 from Abandoned Coal Mines'!L28)","v":""},{"$f":"'CH4 from Abandoned Coal Mines'!P28","v":0},{"$f":"'CH4 from Abandoned Coal Mines'!R28","v":0},{"$f":"VLOOKUP(B27,'Abandoned Data'!$O$3:$V$163,6,FALSE)","v":""},{"$f":"VLOOKUP(B27,'Abandoned Data'!$O$3:$V$163,7,FALSE)","v":""},{"$f":"VLOOKUP(B27,'Abandoned Data'!$O$3:$V$163,8,FALSE)","v":""},{"$error":"#VALUE!"},null,null,null,null,null,null,null,"Northern Appl.",0.23076923076923078,0.19230769230769232,0.57692307692307687,null,24,0,0,0,0,0,0,0,0,0,0,0,0,0,0,0,0,0,0,0,0,0,0,0,0,0,0,0,0,0,0,0,0,0,0,0,0,0,0,0,0,0,0,0,0,0,0,0,0,0,0,0,0,0,0,0,0,0,0,0,0,0]
[25,{"$f":"'CH4 from Abandoned Coal Mines'!D29","v":""},{"$f":"'CH4 from Abandoned Coal Mines'!H29","v":""},{"$f":"VALUE('CH4 from Abandoned Coal Mines'!J29)","v":{"$error":"#VALUE!"}},{"$f":"IF('CH4 from Abandoned Coal Mines'!N29>0,'CH4 from Abandoned Coal Mines'!N29,'CH4 from Abandoned Coal Mines'!L29)","v":""},{"$f":"'CH4 from Abandoned Coal Mines'!P29","v":0},{"$f":"'CH4 from Abandoned Coal Mines'!R29","v":0},{"$f":"VLOOKUP(B28,'Abandoned Data'!$O$3:$V$163,6,FALSE)","v":""},{"$f":"VLOOKUP(B28,'Abandoned Data'!$O$3:$V$163,7,FALSE)","v":""},{"$f":"VLOOKUP(B28,'Abandoned Data'!$O$3:$V$163,8,FALSE)","v":""},{"$error":"#VALUE!"},null,null,null,null,null,null,"AK","Default Average",{"$f":"AVERAGE($T$17:$T$25,$T$12:$T$14,$T$8:$T$9)","v":0.31483047200558667},{"$f":"AVERAGE($U$17:$U$25,$U$12:$U$14,$U$8:$U$9)","v":0.10442425443381222},{"$f":"AVERAGE($V$17:$V$25,$V$12:$V$14,$V$8:$V$9)","v":0.58074527356060102},null,25,0,0,0,0,0,0,0,0,0,0,0,0,0,0,0,0,0,0,0,0,0,0,0,0,0,0,0,0,0,0,0,0,0,0,0,0,0,0,0,0,0,0,0,0,0,0,0,0,0,0,0,0,0,0,0,0,0,0,0,0,0]
[26,{"$f":"'CH4 from Abandoned Coal Mines'!D30","v":""},{"$f":"'CH4 from Abandoned Coal Mines'!H30","v":""},{"$f":"VALUE('CH4 from Abandoned Coal Mines'!J30)","v":{"$error":"#VALUE!"}},{"$f":"IF('CH4 from Abandoned Coal Mines'!N30>0,'CH4 from Abandoned Coal Mines'!N30,'CH4 from Abandoned Coal Mines'!L30)","v":""},{"$f":"'CH4 from Abandoned Coal Mines'!P30","v":0},{"$f":"'CH4 from Abandoned Coal Mines'!R30","v":0},{"$f":"VLOOKUP(B29,'Abandoned Data'!$O$3:$V$163,6,FALSE)","v":""},{"$f":"VLOOKUP(B29,'Abandoned Data'!$O$3:$V$163,7,FALSE)","v":""},{"$f":"VLOOKUP(B29,'Abandoned Data'!$O$3:$V$163,8,FALSE)","v":""},{"$error":"#VALUE!"},null,null,null,null,null,null,"AZ","Default Average",{"$f":"AVERAGE($T$17:$T$25,$T$12:$T$14,$T$8:$T$9)","v":0.31483047200558667},{"$f":"AVERAGE($U$17:$U$25,$U$12:$U$14,$U$8:$U$9)","v":0.10442425443381222},{"$f":"AVERAGE($V$17:$V$25,$V$12:$V$14,$V$8:$V$9)","v":0.58074527356060102},null,26,0,0,0,0,0,0,0,0,0,0,0,0,0,0,0,0,0,0,0,0,0,0,0,0,0,0,0,0,0,0,0,0,0,0,0,0,0,0,0,0,0,0,0,0,0,0,0,0,0,0,0,0,0,0,0,0,0,0,0,0,0]
[27,{"$f":"'CH4 from Abandoned Coal Mines'!D31","v":""},{"$f":"'CH4 from Abandoned Coal Mines'!H31","v":""},{"$f":"VALUE('CH4 from Abandoned Coal Mines'!J31)","v":{"$error":"#VALUE!"}},{"$f":"IF('CH4 from Abandoned Coal Mines'!N31>0,'CH4 from Abandoned Coal Mines'!N31,'CH4 from Abandoned Coal Mines'!L31)","v":""},{"$f":"'CH4 from Abandoned Coal Mines'!P31","v":0},{"$f":"'CH4 from Abandoned Coal Mines'!R31","v":0},{"$f":"VLOOKUP(B30,'Abandoned Data'!$O$3:$V$163,6,FALSE)","v":""},{"$f":"VLOOKUP(B30,'Abandoned Data'!$O$3:$V$163,7,FALSE)","v":""},{"$f":"VLOOKUP(B30,'Abandoned Data'!$O$3:$V$163,8,FALSE)","v":""},{"$error":"#VALUE!"},null,null,null,null,null,null,"AR","Default Average",0.31483047200558667,0.10442425443381222,0.58074527356060102,null,27,0,0,0,0,0,0,0,0,0,0,0,0,0,0,0,0,0,0,0,0,0,0,0,0,0,0,0,0,0,0,0,{"$f":"IF(ISERROR(IF($D30<BD$3,IF($E30=\"Venting\",(($H30*mmcfd_m3)*((1+$I30*(BD$3-$D30))^$J30)-$G30)*Gg_m3,IF($E30=\"Sealed\",((($H30*mmcfd_m3)*((1+$I30*(BD$3-$D30))^$J30)*(1-$F30)-$G30)*Gg_m3),IF($E30=\"Flooded\",(($H30*mmcfd_m3)*EXP(-0.6728*(BD$3-$D30))*Gg_m3),(($H30*mmcfd_m3)*((1+$I30*(BD$3-$D30))^$J30)-$G30)*Gg_m3+((($H30*mmcfd_m3)*((1+$I30*(BD$3-$D30))^$J30)*(1-0.8)-$G30)*Gg_m3)+(($H30*mmcfd_m3)*EXP(-0.6728*(BD$3-$D30))*Gg_m3)))),0)),0,IF($D30<BD$3,IF($E30=\"Venting\",(($H30*mmcfd_m3)*((1+$I30*(BD$3-$D30))^$J30)-$G30)*Gg_m3,IF($E30=\"Sealed\",((($H30*mmcfd_m3)*((1+$I30*(BD$3-$D30))^$J30)*(1-$F30)-$G30)*Gg_m3),IF($E30=\"Flooded\",(($H30*mmcfd_m3)*EXP(-0.6728*(BD$3-$D30))*Gg_m3),(($H30*mmcfd_m3)*((1+$I30*(BD$3-$D30))^$J30)-$G30)*Gg_m3+((($H30*mmcfd_m3)*((1+$I30*(BD$3-$D30))^$J30)*(1-0.8)-$G30)*Gg_m3)+(($H30*mmcfd_m3)*EXP(-0.6728*(BD$3-$D30))*Gg_m3)))),0))","v":0},0,0,0,0,0,0,0,0,0,0,0,0,0,0,0,0,0,0,0,0,0,0,0,0,0,0,0,0,0]
[28,{"$f":"'CH4 from Abandoned Coal Mines'!D32","v":""},{"$f":"'CH4 from Abandoned Coal Mines'!H32","v":""},{"$f":"VALUE('CH4 from Abandoned Coal Mines'!J32)","v":{"$error":"#VALUE!"}},{"$f":"IF('CH4 from Abandoned Coal Mines'!N32>0,'CH4 from Abandoned Coal Mines'!N32,'CH4 from Abandoned Coal Mines'!L32)","v":""},{"$f":"'CH4 from Abandoned Coal Mines'!P32","v":0},{"$f":"'CH4 from Abandoned Coal Mines'!R32","v":0},{"$f":"VLOOKUP(B31,'Abandoned Data'!$O$3:$V$163,6,FALSE)","v":""},{"$f":"VLOOKUP(B31,'Abandoned Data'!$O$3:$V$163,7,FALSE)","v":""},{"$f":"VLOOKUP(B31,'Abandoned Data'!$O$3:$V$163,8,FALSE)","v":""},{"$error":"#VALUE!"},null,null,null,null,null,null,"CA","Default Average",0.31483047200558667,0.10442425443381222,0.58074527356060102,null,28,0,0,0,0,0,0,0,0,0,0,0,0,0,0,0,0,0,0,0,0,0,0,0,0,0,0,0,0,0,0,0,0,0,0,0,0,0,0,0,0,0,0,0,0,0,0,0,0,0,0,0,0,0,0,0,0,0,0,0,0,0]
[29,{"$f":"'CH4 from Abandoned Coal Mines'!D33","v":""},{"$f":"'CH4 from Abandoned Coal Mines'!H33","v":""},{"$f":"VALUE('CH4 from Abandoned Coal Mines'!J33)","v":{"$error":"#VALUE!"}},{"$f":"IF('CH4 from Abandoned Coal Mines'!N33>0,'CH4 from Abandoned Coal Mines'!N33,'CH4 from Abandoned Coal Mines'!L33)","v":""},{"$f":"'CH4 from Abandoned Coal Mines'!P33","v":0},{"$f":"'CH4 from Abandoned Coal Mines'!R33","v":0},{"$f":"VLOOKUP(B32,'Abandoned Data'!$O$3:$V$163,6,FALSE)","v":""},{"$f":"VLOOKUP(B32,'Abandoned Data'!$O$3:$V$163,7,FALSE)","v":""},{"$f":"VLOOKUP(B32,'Abandoned Data'!$O$3:$V$163,8,FALSE)","v":""},{"$error":"#VALUE!"},null,null,null,null,null,null,"CT","Default Average",0.31483047200558667,0.10442425443381222,0.58074527356060102,null,29,0,0,0,0,0,0,0,0,0,0,0,0,0,0,0,0,0,0,0,0,0,0,0,0,0,0,0,0,0,0,0,0,0,0,0,0,0,0,0,0,0,0,0,0,0,0,0,0,0,0,0,0,0,0,0,0,0,0,0,0,0]
[30,{"$f":"'CH4 from Abandoned Coal Mines'!D34","v":""},{"$f":"'CH4 from Abandoned Coal Mines'!H34","v":""},{"$f":"VALUE('CH4 from Abandoned Coal Mines'!J34)","v":{"$error":"#VALUE!"}},{"$f":"IF('CH4 from Abandoned Coal Mines'!N34>0,'CH4 from Abandoned Coal Mines'!N34,'CH4 from Abandoned Coal Mines'!L34)","v":""},{"$f":"'CH4 from Abandoned Coal Mines'!P34","v":0},{"$f":"'CH4 from Abandoned Coal Mines'!R34","v":0},{"$f":"VLOOKUP(B33,'Abandoned Data'!$O$3:$V$163,6,FALSE)","v":""},{"$f":"VLOOKUP(B33,'Abandoned Data'!$O$3:$V$163,7,FALSE)","v":""},{"$f":"VLOOKUP(B33,'Abandoned Data'!$O$3:$V$163,8,FALSE)","v":""},{"$error":"#VALUE!"},null,null,null,null,null,null,"DE","Default Average",0.31483047200558667,0.10442425443381222,0.58074527356060102,null,30,0,0,0,0,0,0,0,0,0,0,0,0,0,0,0,0,0,0,0,0,0,0,0,0,0,0,0,0,0,0,0,0,0,0,0,0,0,0,0,0,0,0,0,0,0,0,0,0,0,0,0,0,0,0,0,0,0,0,0,0,0]
[31,{"$f":"'CH4 from Abandoned Coal Mines'!D35","v":""},{"$f":"'CH4 from Abandoned Coal Mines'!H35","v":""},{"$f":"VALUE('CH4 from Abandoned Coal Mines'!J35)","v":{"$error":"#VALUE!"}},{"$f":"IF('CH4 from Abandoned Coal Mines'!N35>0,'CH4 from Abandoned Coal Mines'!N35,'CH4 from Abandoned Coal Mines'!L35)","v":""},{"$f":"'CH4 from Abandoned Coal Mines'!P35","v":0},{"$f":"'CH4 from Abandoned Coal Mines'!R35","v":0},{"$f":"VLOOKUP(B34,'Abandoned Data'!$O$3:$V$163,6,FALSE)","v":""},{"$f":"VLOOKUP(B34,'Abandoned Data'!$O$3:$V$163,7,FALSE)","v":""},{"$f":"VLOOKUP(B34,'Abandoned Data'!$O$3:$V$163,8,FALSE)","v":""},{"$error":"#VALUE!"},null,null,null,null,null,null,"FL","Default Average",0.31483047200558667,0.10442425443381222,0.58074527356060102,null,31,{"$f":"IF(ISERROR(IF($D34<Y$3,IF($E34=\"Venting\",(($H34*mmcfd_m3)*((1+$I34*(Y$3-$D34))^$J34)-$G34)*Gg_m3,IF($E34=\"Sealed\",((($H34*mmcfd_m3)*((1+$I34*(Y$3-$D34))^$J34)*(1-$F34)-$G34)*Gg_m3),IF($E34=\"Flooded\",(($H34*mmcfd_m3)*EXP(-0.6728*(Y$3-$D34))*Gg_m3),(($H34*mmcfd_m3)*((1+$I34*(Y$3-$D34))^$J34)-$G34)*Gg_m3+((($H34*mmcfd_m3)*((1+$I34*(Y$3-$D34))^$J34)*(1-0.8)-$G34)*Gg_m3)+(($H34*mmcfd_m3)*EXP(-0.6728*(Y$3-$D34))*Gg_m3)))),0)),0,IF($D34<Y$3,IF($E34=\"Venting\",(($H34*mmcfd_m3)*((1+$I34*(Y$3-$D34))^$J34)-$G34)*Gg_m3,IF($E34=\"Sealed\",((($H34*mmcfd_m3)*((1+$I34*(Y$3-$D34))^$J34)*(1-$F34)-$G34)*Gg_m3),IF($E34=\"Flooded\",(($H34*mmcfd_m3)*EXP(-0.6728*(Y$3-$D34))*Gg_m3),(($H34*mmcfd_m3)*((1+$I34*(Y$3-$D34))^$J34)-$G34)*Gg_m3+((($H34*mmcfd_m3)*((1+$I34*(Y$3-$D34))^$J34)*(1-0.8)-$G34)*Gg_m3)+(($H34*mmcfd_m3)*EXP(-0.6728*(Y$3-$D34))*Gg_m3)))),0))","v":0},0,0,0,0,0,0,0,0,0,{"$f":"IF(ISERROR(IF($D34<AI$3,IF($E34=\"Venting\",(($H34*mmcfd_m3)*((1+$I34*(AI$3-$D34))^$J34)-$G34)*Gg_m3,IF($E34=\"Sealed\",((($H34*mmcfd_m3)*((1+$I34*(AI$3-$D34))^$J34)*(1-$F34)-$G34)*Gg_m3),IF($E34=\"Flooded\",(($H34*mmcfd_m3)*EXP(-0.6728*(AI$3-$D34))*Gg_m3),(($H34*mmcfd_m3)*((1+$I34*(AI$3-$D34))^$J34)-$G34)*Gg_m3+((($H34*mmcfd_m3)*((1+$I34*(AI$3-$D34))^$J34)*(1-0.8)-$G34)*Gg_m3)+(($H34*mmcfd_m3)*EXP(-0.6728*(AI$3-$D34))*Gg_m3)))),0)),0,IF($D34<AI$3,IF($E34=\"Venting\",(($H34*mmcfd_m3)*((1+$I34*(AI$3-$D34))^$J34)-$G34)*Gg_m3,IF($E34=\"Sealed\",((($H34*mmcfd_m3)*((1+$I34*(AI$3-$D34))^$J34)*(1-$F34)-$G34)*Gg_m3),IF($E34=\"Flooded\",(($H34*mmcfd_m3)*EXP(-0.6728*(AI$3-$D34))*Gg_m3),(($H34*mmcfd_m3)*((1+$I34*(AI$3-$D34))^$J34)-$G34)*Gg_m3+((($H34*mmcfd_m3)*((1+$I34*(AI$3-$D34))^$J34)*(1-0.8)-$G34)*Gg_m3)+(($H34*mmcfd_m3)*EXP(-0.6728*(AI$3-$D34))*Gg_m3)))),0))","v":0},0,0,0,0,0,0,0,0,0,{"$f":"IF(ISERROR(IF($D34<AS$3,IF($E34=\"Venting\",(($H34*mmcfd_m3)*((1+$I34*(AS$3-$D34))^$J34)-$G34)*Gg_m3,IF($E34=\"Sealed\",((($H34*mmcfd_m3)*((1+$I34*(AS$3-$D34))^$J34)*(1-$F34)-$G34)*Gg_m3),IF($E34=\"Flooded\",(($H34*mmcfd_m3)*EXP(-0.6728*(AS$3-$D34))*Gg_m3),(($H34*mmcfd_m3)*((1+$I34*(AS$3-$D34))^$J34)-$G34)*Gg_m3+((($H34*mmcfd_m3)*((1+$I34*(AS$3-$D34))^$J34)*(1-0.8)-$G34)*Gg_m3)+(($H34*mmcfd_m3)*EXP(-0.6728*(AS$3-$D34))*Gg_m3)))),0)),0,IF($D34<AS$3,IF($E34=\"Venting\",(($H34*mmcfd_m3)*((1+$I34*(AS$3-$D34))^$J34)-$G34)*Gg_m3,IF($E34=\"Sealed\",((($H34*mmcfd_m3)*((1+$I34*(AS$3-$D34))^$J34)*(1-$F34)-$G34)*Gg_m3),IF($E34=\"Flooded\",(($H34*mmcfd_m3)*EXP(-0.6728*(AS$3-$D34))*Gg_m3),(($H34*mmcfd_m3)*((1+$I34*(AS$3-$D34))^$J34)-$G34)*Gg_m3+((($H34*mmcfd_m3)*((1+$I34*(AS$3-$D34))^$J34)*(1-0.8)-$G34)*Gg_m3)+(($H34*mmcfd_m3)*EXP(-0.6728*(AS$3-$D34))*Gg_m3)))),0))","v":0},0,0,0,0,0,0,0,0,0,0,0,0,0,0,0,0,0,0,0,0,0,0,0,0,0,0,0,0,0,0,0,0,0,0,0,0,0,0,0,0]
[32,{"$f":"'CH4 from Abandoned Coal Mines'!D36","v":""},{"$f":"'CH4 from Abandoned Coal Mines'!H36","v":""},{"$f":"VALUE('CH4 from Abandoned Coal Mines'!J36)","v":{"$error":"#VALUE!"}},{"$f":"IF('CH4 from Abandoned Coal Mines'!N36>0,'CH4 from Abandoned Coal Mines'!N36,'CH4 from Abandoned Coal Mines'!L36)","v":""},{"$f":"'CH4 from Abandoned Coal Mines'!P36","v":0},{"$f":"'CH4 from Abandoned Coal Mines'!R36","v":0},{"$f":"VLOOKUP(B35,'Abandoned Data'!$O$3:$V$163,6,FALSE)","v":""},{"$f":"VLOOKUP(B35,'Abandoned Data'!$O$3:$V$163,7,FALSE)","v":""},{"$f":"VLOOKUP(B35,'Abandoned Data'!$O$3:$V$163,8,FALSE)","v":""},{"$error":"#VALUE!"},null,null,null,null,null,null,"GA","Default Average",0.31483047200558667,0.10442425443381222,0.58074527356060102,null,32,0,0,0,0,0,0,0,0,0,0,0,0,0,0,0,0,0,0,0,0,0,0,0,0,0,0,0,0,0,0,0,0,0,0,0,0,0,0,0,0,0,0,0,0,0,0,0,0,0,0,0,0,0,0,0,0,0,0,0,0,0]
[33,{"$f":"'CH4 from Abandoned Coal Mines'!D37","v":""},{"$f":"'CH4 from Abandoned Coal Mines'!H37","v":""},{"$f":"VALUE('CH4 from Abandoned Coal Mines'!J37)","v":{"$error":"#VALUE!"}},{"$f":"IF('CH4 from Abandoned Coal Mines'!N37>0,'CH4 from Abandoned Coal Mines'!N37,'CH4 from Abandoned Coal Mines'!L37)","v":""},{"$f":"'CH4 from Abandoned Coal Mines'!P37","v":0},{"$f":"'CH4 from Abandoned Coal Mines'!R37","v":0},{"$f":"VLOOKUP(B36,'Abandoned Data'!$O$3:$V$163,6,FALSE)","v":""},{"$f":"VLOOKUP(B36,'Abandoned Data'!$O$3:$V$163,7,FALSE)","v":""},{"$f":"VLOOKUP(B36,'Abandoned Data'!$O$3:$V$163,8,FALSE)","v":""},{"$f":"IF(E36=\"Venting\",((H36*mmcfd_m3)*((1+I36*($AZ$3-D36))^J36)-G36)*Gg_m3,IF(E36=\"Sealed\",(((H36*mmcfd_m3)*((1+I36*($AZ$3-D36))^J36)*(1-F36)-G36)*Gg_m3),IF(E36=\"Flooded\",((H36*mmcfd_m3)*EXP(-0.6728*($AZ$3-D36))*Gg_m3),((H36*mmcfd_m3)*((1+I36*($AZ$3-D36))^J36)-G36)*Gg_m3+(((H36*mmcfd_m3)*((1+I36*($AZ$3-D36))^J36)*(1-0.8)-G36)*Gg_m3)+((H36*mmcfd_m3)*EXP(-0.6728*($AZ$3-D36))*Gg_m3))))","v":{"$error":"#VALUE!"}},null,null,null,null,null,null,"HI","Default Average",0.31483047200558667,0.10442425443381222,0.58074527356060102,null,33,0,0,0,0,0,0,0,0,0,0,0,0,0,0,0,0,0,0,0,0,0,0,0,0,0,0,0,0,0,0,0,0,0,0,0,0,0,0,0,0,0,0,0,0,0,0,0,0,0,0,0,0,0,0,0,0,0,0,0,0,0]
[34,{"$f":"'CH4 from Abandoned Coal Mines'!D38","v":""},{"$f":"'CH4 from Abandoned Coal Mines'!H38","v":""},{"$f":"VALUE('CH4 from Abandoned Coal Mines'!J38)","v":{"$error":"#VALUE!"}},{"$f":"IF('CH4 from Abandoned Coal Mines'!N38>0,'CH4 from Abandoned Coal Mines'!N38,'CH4 from Abandoned Coal Mines'!L38)","v":""},{"$f":"'CH4 from Abandoned Coal Mines'!P38","v":0},{"$f":"'CH4 from Abandoned Coal Mines'!R38","v":0},{"$f":"VLOOKUP(B37,'Abandoned Data'!$O$3:$V$163,6,FALSE)","v":""},{"$f":"VLOOKUP(B37,'Abandoned Data'!$O$3:$V$163,7,FALSE)","v":""},{"$f":"VLOOKUP(B37,'Abandoned Data'!$O$3:$V$163,8,FALSE)","v":""},{"$error":"#VALUE!"},null,null,null,null,null,null,"ID","Default Average",0.31483047200558667,0.10442425443381222,0.58074527356060102,null,34,0,0,0,0,0,0,0,0,0,0,0,0,0,0,0,0,0,0,0,0,0,0,0,0,0,0,0,0,0,0,0,0,0,0,0,0,0,0,0,0,0,0,0,0,0,0,0,0,0,0,0,0,0,0,0,0,0,0,0,0,0]
[35,{"$f":"'CH4 from Abandoned Coal Mines'!D39","v":""},{"$f":"'CH4 from Abandoned Coal Mines'!H39","v":""},{"$f":"VALUE('CH4 from Abandoned Coal Mines'!J39)","v":{"$error":"#VALUE!"}},{"$f":"IF('CH4 from Abandoned Coal Mines'!N39>0,'CH4 from Abandoned Coal Mines'!N39,'CH4 from Abandoned Coal Mines'!L39)","v":""},{"$f":"'CH4 from Abandoned Coal Mines'!P39","v":0},{"$f":"'CH4 from Abandoned Coal Mines'!R39","v":0},{"$f":"VLOOKUP(B38,'Abandoned Data'!$O$3:$V$163,6,FALSE)","v":""},{"$f":"VLOOKUP(B38,'Abandoned Data'!$O$3:$V$163,7,FALSE)","v":""},{"$f":"VLOOKUP(B38,'Abandoned Data'!$O$3:$V$163,8,FALSE)","v":""},{"$error":"#VALUE!"},null,null,null,null,null,null,"IA","Default Average",0.31483047200558667,0.10442425443381222,0.58074527356060102,null,35,0,0,0,0,0,0,0,0,0,0,0,0,0,0,0,0,0,0,0,0,0,0,0,0,0,0,0,0,0,0,0,0,0,0,0,0,0,0,0,0,0,0,0,0,0,0,0,0,0,0,0,{"$f":"IF(ISERROR(IF($D38<BX$3,IF($E38=\"Venting\",(($H38*mmcfd_m3)*((1+$I38*(BX$3-$D38))^$J38)-$G38)*Gg_m3,IF($E38=\"Sealed\",((($H38*mmcfd_m3)*((1+$I38*(BX$3-$D38))^$J38)*(1-$F38)-$G38)*Gg_m3),IF($E38=\"Flooded\",(($H38*mmcfd_m3)*EXP(-0.6728*(BX$3-$D38))*Gg_m3),(($H38*mmcfd_m3)*((1+$I38*(BX$3-$D38))^$J38)-$G38)*Gg_m3+((($H38*mmcfd_m3)*((1+$I38*(BX$3-$D38))^$J38)*(1-0.8)-$G38)*Gg_m3)+(($H38*mmcfd_m3)*EXP(-0.6728*(BX$3-$D38))*Gg_m3)))),0)),0,IF($D38<BX$3,IF($E38=\"Venting\",(($H38*mmcfd_m3)*((1+$I38*(BX$3-$D38))^$J38)-$G38)*Gg_m3,IF($E38=\"Sealed\",((($H38*mmcfd_m3)*((1+$I38*(BX$3-$D38))^$J38)*(1-$F38)-$G38)*Gg_m3),IF($E38=\"Flooded\",(($H38*mmcfd_m3)*EXP(-0.6728*(BX$3-$D38))*Gg_m3),(($H38*mmcfd_m3)*((1+$I38*(BX$3-$D38))^$J38)-$G38)*Gg_m3+((($H38*mmcfd_m3)*((1+$I38*(BX$3-$D38))^$J38)*(1-0.8)-$G38)*Gg_m3)+(($H38*mmcfd_m3)*EXP(-0.6728*(BX$3-$D38))*Gg_m3)))),0))","v":0},0,0,0,0,0,0,0,0,0]
[36,{"$f":"'CH4 from Abandoned Coal Mines'!D40","v":""},{"$f":"'CH4 from Abandoned Coal Mines'!H40","v":""},{"$f":"VALUE('CH4 from Abandoned Coal Mines'!J40)","v":{"$error":"#VALUE!"}},{"$f":"IF('CH4 from Abandoned Coal Mines'!N40>0,'CH4 from Abandoned Coal Mines'!N40,'CH4 from Abandoned Coal Mines'!L40)","v":""},{"$f":"'CH4 from Abandoned Coal Mines'!P40","v":0},{"$f":"'CH4 from Abandoned Coal Mines'!R40","v":0},{"$f":"VLOOKUP(B39,'Abandoned Data'!$O$3:$V$163,6,FALSE)","v":""},{"$f":"VLOOKUP(B39,'Abandoned Data'!$O$3:$V$163,7,FALSE)","v":""},{"$f":"VLOOKUP(B39,'Abandoned Data'!$O$3:$V$163,8,FALSE)","v":""},{"$error":"#VALUE!"},null,null,null,null,null,null,"KS","Default Average",0.31483047200558667,0.10442425443381222,0.58074527356060102,null,36,0,0,0,0,0,0,0,0,0,0,0,0,0,0,0,0,0,0,0,0,0,0,0,0,0,0,0,0,0,0,0,0,0,0,0,0,0,0,0,0,0,0,0,0,0,0,0,0,0,0,0,0,0,0,0,0,0,0,0,0,0]
[37,{"$f":"'CH4 from Abandoned Coal Mines'!D41","v":""},{"$f":"'CH4 from Abandoned Coal Mines'!H41","v":""},{"$f":"VALUE('CH4 from Abandoned Coal Mines'!J41)","v":{"$error":"#VALUE!"}},{"$f":"IF('CH4 from Abandoned Coal Mines'!N41>0,'CH4 from Abandoned Coal Mines'!N41,'CH4 from Abandoned Coal Mines'!L41)","v":""},{"$f":"'CH4 from Abandoned Coal Mines'!P41","v":0},{"$f":"'CH4 from Abandoned Coal Mines'!R41","v":0},{"$f":"VLOOKUP(B40,'Abandoned Data'!$O$3:$V$163,6,FALSE)","v":""},{"$f":"VLOOKUP(B40,'Abandoned Data'!$O$3:$V$163,7,FALSE)","v":""},{"$f":"VLOOKUP(B40,'Abandoned Data'!$O$3:$V$163,8,FALSE)","v":""},{"$error":"#VALUE!"},null,null,null,null,null,null,"LA","Default Average",0.31483047200558667,0.10442425443381222,0.58074527356060102,null,37,0,0,0,0,0,0,0,0,0,0,0,0,0,0,0,0,0,0,0,0,0,0,0,0,0,0,0,0,0,0,0,0,0,0,0,0,0,0,0,0,0,0,0,0,0,0,0,0,0,0,0,0,0,0,0,0,0,0,0,0,0]
[38,{"$f":"'CH4 from Abandoned Coal Mines'!D42","v":""},{"$f":"'CH4 from Abandoned Coal Mines'!H42","v":""},{"$f":"VALUE('CH4 from Abandoned Coal Mines'!J42)","v":{"$error":"#VALUE!"}},{"$f":"IF('CH4 from Abandoned Coal Mines'!N42>0,'CH4 from Abandoned Coal Mines'!N42,'CH4 from Abandoned Coal Mines'!L42)","v":""},{"$f":"'CH4 from Abandoned Coal Mines'!P42","v":0},{"$f":"'CH4 from Abandoned Coal Mines'!R42","v":0},{"$f":"VLOOKUP(B41,'Abandoned Data'!$O$3:$V$163,6,FALSE)","v":""},{"$f":"VLOOKUP(B41,'Abandoned Data'!$O$3:$V$163,7,FALSE)","v":""},{"$f":"VLOOKUP(B41,'Abandoned Data'!$O$3:$V$163,8,FALSE)","v":""},{"$error":"#VALUE!"},null,null,null,null,null,null,"ME","Default Average",0.31483047200558667,0.10442425443381222,0.58074527356060102,null,38,0,0,0,0,0,0,0,0,0,0,0,0,0,0,0,0,0,0,0,0,0,0,0,0,0,0,0,0,0,0,0,0,0,0,0,0,0,0,0,0,0,0,0,0,0,0,0,0,0,0,0,0,0,0,0,0,0,0,0,0,0]
[39,{"$f":"'CH4 from Abandoned Coal Mines'!D43","v":""},{"$f":"'CH4 from Abandoned Coal Mines'!H43","v":""},{"$f":"VALUE('CH4 from Abandoned Coal Mines'!J43)","v":{"$error":"#VALUE!"}},{"$f":"IF('CH4 from Abandoned Coal Mines'!N43>0,'CH4 from Abandoned Coal Mines'!N43,'CH4 from Abandoned Coal Mines'!L43)","v":""},{"$f":"'CH4 from Abandoned Coal Mines'!P43","v":0},{"$f":"'CH4 from Abandoned Coal Mines'!R43","v":0},{"$f":"VLOOKUP(B42,'Abandoned Data'!$O$3:$V$163,6,FALSE)","v":""},{"$f":"VLOOKUP(B42,'Abandoned Data'!$O$3:$V$163,7,FALSE)","v":""},{"$f":"VLOOKUP(B42,'Abandoned Data'!$O$3:$V$163,8,FALSE)","v":""},{"$error":"#VALUE!"},null,null,null,null,null,null,"MA","Default Average",0.31483047200558667,0.10442425443381222,0.58074527356060102,null,39,0,0,0,0,0,0,0,0,0,0,0,0,0,0,0,0,0,0,0,0,0,0,0,0,0,0,0,0,0,0,0,0,0,0,0,0,0,0,0,0,0,0,0,0,0,0,0,0,0,0,0,0,0,0,0,0,0,0,0,0,0]
[40,{"$f":"'CH4 from Abandoned Coal Mines'!D44","v":""},{"$f":"'CH4 from Abandoned Coal Mines'!H44","v":""},{"$f":"VALUE('CH4 from Abandoned Coal Mines'!J44)","v":{"$error":"#VALUE!"}},{"$f":"IF('CH4 from Abandoned Coal Mines'!N44>0,'CH4 from Abandoned Coal Mines'!N44,'CH4 from Abandoned Coal Mines'!L44)","v":""},{"$f":"'CH4 from Abandoned Coal Mines'!P44","v":0},{"$f":"'CH4 from Abandoned Coal Mines'!R44","v":0},{"$f":"VLOOKUP(B43,'Abandoned Data'!$O$3:$V$163,6,FALSE)","v":""},{"$f":"VLOOKUP(B43,'Abandoned Data'!$O$3:$V$163,7,FALSE)","v":""},{"$f":"VLOOKUP(B43,'Abandoned Data'!$O$3:$V$163,8,FALSE)","v":""},{"$error":"#VALUE!"},null,null,null,null,null,null,"MI","Default Average",0.31483047200558667,0.10442425443381222,0.58074527356060102,null,40,0,0,0,0,0,0,0,0,0,0,0,0,0,0,0,0,0,0,0,0,0,0,0,0,0,0,0,0,0,0,0,0,0,0,0,0,0,0,0,0,0,0,0,0,0,0,0,0,0,0,0,0,0,0,0,0,0,0,0,0,0]
[41,{"$f":"'CH4 from Abandoned Coal Mines'!D45","v":""},{"$f":"'CH4 from Abandoned Coal Mines'!H45","v":""},{"$f":"VALUE('CH4 from Abandoned Coal Mines'!J45)","v":{"$error":"#VALUE!"}},{"$f":"IF('CH4 from Abandoned Coal Mines'!N45>0,'CH4 from Abandoned Coal Mines'!N45,'CH4 from Abandoned Coal Mines'!L45)","v":""},{"$f":"'CH4 from Abandoned Coal Mines'!P45","v":0},{"$f":"'CH4 from Abandoned Coal Mines'!R45","v":0},{"$f":"VLOOKUP(B44,'Abandoned Data'!$O$3:$V$163,6,FALSE)","v":""},{"$f":"VLOOKUP(B44,'Abandoned Data'!$O$3:$V$163,7,FALSE)","v":""},{"$f":"VLOOKUP(B44,'Abandoned Data'!$O$3:$V$163,8,FALSE)","v":""},{"$error":"#VALUE!"},null,null,null,null,null,null,"MN","Default Average",0.31483047200558667,0.10442425443381222,0.58074527356060102,null,41,{"$f":"IF(ISERROR(IF($D44<Y$3,IF($E44=\"Venting\",(($H44*mmcfd_m3)*((1+$I44*(Y$3-$D44))^$J44)-$G44)*Gg_m3,IF($E44=\"Sealed\",((($H44*mmcfd_m3)*((1+$I44*(Y$3-$D44))^$J44)*(1-$F44)-$G44)*Gg_m3),IF($E44=\"Flooded\",(($H44*mmcfd_m3)*EXP(-0.6728*(Y$3-$D44))*Gg_m3),(($H44*mmcfd_m3)*((1+$I44*(Y$3-$D44))^$J44)-$G44)*Gg_m3+((($H44*mmcfd_m3)*((1+$I44*(Y$3-$D44))^$J44)*(1-0.8)-$G44)*Gg_m3)+(($H44*mmcfd_m3)*EXP(-0.6728*(Y$3-$D44))*Gg_m3)))),0)),0,IF($D44<Y$3,IF($E44=\"Venting\",(($H44*mmcfd_m3)*((1+$I44*(Y$3-$D44))^$J44)-$G44)*Gg_m3,IF($E44=\"Sealed\",((($H44*mmcfd_m3)*((1+$I44*(Y$3-$D44))^$J44)*(1-$F44)-$G44)*Gg_m3),IF($E44=\"Flooded\",(($H44*mmcfd_m3)*EXP(-0.6728*(Y$3-$D44))*Gg_m3),(($H44*mmcfd_m3)*((1+$I44*(Y$3-$D44))^$J44)-$G44)*Gg_m3+((($H44*mmcfd_m3)*((1+$I44*(Y$3-$D44))^$J44)*(1-0.8)-$G44)*Gg_m3)+(($H44*mmcfd_m3)*EXP(-0.6728*(Y$3-$D44))*Gg_m3)))),0))","v":0},0,0,0,0,0,0,0,0,0,{"$f":"IF(ISERROR(IF($D44<AI$3,IF($E44=\"Venting\",(($H44*mmcfd_m3)*((1+$I44*(AI$3-$D44))^$J44)-$G44)*Gg_m3,IF($E44=\"Sealed\",((($H44*mmcfd_m3)*((1+$I44*(AI$3-$D44))^$J44)*(1-$F44)-$G44)*Gg_m3),IF($E44=\"Flooded\",(($H44*mmcfd_m3)*EXP(-0.6728*(AI$3-$D44))*Gg_m3),(($H44*mmcfd_m3)*((1+$I44*(AI$3-$D44))^$J44)-$G44)*Gg_m3+((($H44*mmcfd_m3)*((1+$I44*(AI$3-$D44))^$J44)*(1-0.8)-$G44)*Gg_m3)+(($H44*mmcfd_m3)*EXP(-0.6728*(AI$3-$D44))*Gg_m3)))),0)),0,IF($D44<AI$3,IF($E44=\"Venting\",(($H44*mmcfd_m3)*((1+$I44*(AI$3-$D44))^$J44)-$G44)*Gg_m3,IF($E44=\"Sealed\",((($H44*mmcfd_m3)*((1+$I44*(AI$3-$D44))^$J44)*(1-$F44)-$G44)*Gg_m3),IF($E44=\"Flooded\",(($H44*mmcfd_m3)*EXP(-0.6728*(AI$3-$D44))*Gg_m3),(($H44*mmcfd_m3)*((1+$I44*(AI$3-$D44))^$J44)-$G44)*Gg_m3+((($H44*mmcfd_m3)*((1+$I44*(AI$3-$D44))^$J44)*(1-0.8)-$G44)*Gg_m3)+(($H44*mmcfd_m3)*EXP(-0.6728*(AI$3-$D44))*Gg_m3)))),0))","v":0},0,0,0,0,0,0,0,0,0,{"$f":"IF(ISERROR(IF($D44<AS$3,IF($E44=\"Venting\",(($H44*mmcfd_m3)*((1+$I44*(AS$3-$D44))^$J44)-$G44)*Gg_m3,IF($E44=\"Sealed\",((($H44*mmcfd_m3)*((1+$I44*(AS$3-$D44))^$J44)*(1-$F44)-$G44)*Gg_m3),IF($E44=\"Flooded\",(($H44*mmcfd_m3)*EXP(-0.6728*(AS$3-$D44))*Gg_m3),(($H44*mmcfd_m3)*((1+$I44*(AS$3-$D44))^$J44)-$G44)*Gg_m3+((($H44*mmcfd_m3)*((1+$I44*(AS$3-$D44))^$J44)*(1-0.8)-$G44)*Gg_m3)+(($H44*mmcfd_m3)*EXP(-0.6728*(AS$3-$D44))*Gg_m3)))),0)),0,IF($D44<AS$3,IF($E44=\"Venting\",(($H44*mmcfd_m3)*((1+$I44*(AS$3-$D44))^$J44)-$G44)*Gg_m3,IF($E44=\"Sealed\",((($H44*mmcfd_m3)*((1+$I44*(AS$3-$D44))^$J44)*(1-$F44)-$G44)*Gg_m3),IF($E44=\"Flooded\",(($H44*mmcfd_m3)*EXP(-0.6728*(AS$3-$D44))*Gg_m3),(($H44*mmcfd_m3)*((1+$I44*(AS$3-$D44))^$J44)-$G44)*Gg_m3+((($H44*mmcfd_m3)*((1+$I44*(AS$3-$D44))^$J44)*(1-0.8)-$G44)*Gg_m3)+(($H44*mmcfd_m3)*EXP(-0.6728*(AS$3-$D44))*Gg_m3)))),0))","v":0},0,0,0,0,0,0,0,0,0,0,0,0,0,0,0,0,0,0,0,0,0,0,0,0,0,0,0,0,0,0,0,0,0,0,0,0,0,0,0,0]
[42,{"$f":"'CH4 from Abandoned Coal Mines'!D46","v":""},{"$f":"'CH4 from Abandoned Coal Mines'!H46","v":""},{"$f":"VALUE('CH4 from Abandoned Coal Mines'!J46)","v":{"$error":"#VALUE!"}},{"$f":"IF('CH4 from Abandoned Coal Mines'!N46>0,'CH4 from Abandoned Coal Mines'!N46,'CH4 from Abandoned Coal Mines'!L46)","v":""},{"$f":"'CH4 from Abandoned Coal Mines'!P46","v":0},{"$f":"'CH4 from Abandoned Coal Mines'!R46","v":0},{"$f":"VLOOKUP(B45,'Abandoned Data'!$O$3:$V$163,6,FALSE)","v":""},{"$f":"VLOOKUP(B45,'Abandoned Data'!$O$3:$V$163,7,FALSE)","v":""},{"$f":"VLOOKUP(B45,'Abandoned Data'!$O$3:$V$163,8,FALSE)","v":""},{"$error":"#VALUE!"},null,null,null,null,null,null,"MS","Default Average",0.31483047200558667,0.10442425443381222,0.58074527356060102,null,42,0,0,0,0,0,0,0,0,0,0,0,0,0,0,0,0,0,0,0,0,0,0,0,0,0,0,0,0,0,0,0,0,0,0,0,0,0,0,0,0,0,0,0,0,0,0,0,0,0,0,0,0,0,0,0,0,0,0,0,0,0]
[43,{"$f":"'CH4 from Abandoned Coal Mines'!D47","v":""},{"$f":"'CH4 from Abandoned Coal Mines'!H47","v":""},{"$f":"VALUE('CH4 from Abandoned Coal Mines'!J47)","v":{"$error":"#VALUE!"}},{"$f":"IF('CH4 from Abandoned Coal Mines'!N47>0,'CH4 from Abandoned Coal Mines'!N47,'CH4 from Abandoned Coal Mines'!L47)","v":""},{"$f":"'CH4 from Abandoned Coal Mines'!P47","v":0},{"$f":"'CH4 from Abandoned Coal Mines'!R47","v":0},{"$f":"VLOOKUP(B46,'Abandoned Data'!$O$3:$V$163,6,FALSE)","v":""},{"$f":"VLOOKUP(B46,'Abandoned Data'!$O$3:$V$163,7,FALSE)","v":""},{"$f":"VLOOKUP(B46,'Abandoned Data'!$O$3:$V$163,8,FALSE)","v":""},{"$f":"IF(E46=\"Venting\",((H46*mmcfd_m3)*((1+I46*($AZ$3-D46))^J46)-G46)*Gg_m3,IF(E46=\"Sealed\",(((H46*mmcfd_m3)*((1+I46*($AZ$3-D46))^J46)*(1-F46)-G46)*Gg_m3),IF(E46=\"Flooded\",((H46*mmcfd_m3)*EXP(-0.6728*($AZ$3-D46))*Gg_m3),((H46*mmcfd_m3)*((1+I46*($AZ$3-D46))^J46)-G46)*Gg_m3+(((H46*mmcfd_m3)*((1+I46*($AZ$3-D46))^J46)*(1-0.8)-G46)*Gg_m3)+((H46*mmcfd_m3)*EXP(-0.6728*($AZ$3-D46))*Gg_m3))))","v":{"$error":"#VALUE!"}},null,null,null,null,null,null,"MO","Default Average",0.31483047200558667,0.10442425443381222,0.58074527356060102,null,43,0,0,0,0,0,0,0,0,0,0,0,0,0,0,0,0,0,0,0,0,0,0,0,0,0,0,0,0,0,0,0,0,0,0,0,0,0,0,0,0,0,0,0,0,0,0,0,0,0,0,0,0,0,0,0,0,0,0,0,0,0]
[44,{"$f":"'CH4 from Abandoned Coal Mines'!D48","v":""},{"$f":"'CH4 from Abandoned Coal Mines'!H48","v":""},{"$f":"VALUE('CH4 from Abandoned Coal Mines'!J48)","v":{"$error":"#VALUE!"}},{"$f":"IF('CH4 from Abandoned Coal Mines'!N48>0,'CH4 from Abandoned Coal Mines'!N48,'CH4 from Abandoned Coal Mines'!L48)","v":""},{"$f":"'CH4 from Abandoned Coal Mines'!P48","v":0},{"$f":"'CH4 from Abandoned Coal Mines'!R48","v":0},{"$f":"VLOOKUP(B47,'Abandoned Data'!$O$3:$V$163,6,FALSE)","v":""},{"$f":"VLOOKUP(B47,'Abandoned Data'!$O$3:$V$163,7,FALSE)","v":""},{"$f":"VLOOKUP(B47,'Abandoned Data'!$O$3:$V$163,8,FALSE)","v":""},{"$error":"#VALUE!"},null,null,null,null,null,null,"MT","Default Average",0.31483047200558667,0.10442425443381222,0.58074527356060102,null,44,0,0,0,0,0,0,0,0,0,0,0,0,0,0,0,0,0,0,0,0,0,0,0,0,0,0,0,0,0,0,0,0,0,0,0,0,0,0,0,0,0,{"$f":"IF(ISERROR(IF($D47<BN$3,IF($E47=\"Venting\",(($H47*mmcfd_m3)*((1+$I47*(BN$3-$D47))^$J47)-$G47)*Gg_m3,IF($E47=\"Sealed\",((($H47*mmcfd_m3)*((1+$I47*(BN$3-$D47))^$J47)*(1-$F47)-$G47)*Gg_m3),IF($E47=\"Flooded\",(($H47*mmcfd_m3)*EXP(-0.6728*(BN$3-$D47))*Gg_m3),(($H47*mmcfd_m3)*((1+$I47*(BN$3-$D47))^$J47)-$G47)*Gg_m3+((($H47*mmcfd_m3)*((1+$I47*(BN$3-$D47))^$J47)*(1-0.8)-$G47)*Gg_m3)+(($H47*mmcfd_m3)*EXP(-0.6728*(BN$3-$D47))*Gg_m3)))),0)),0,IF($D47<BN$3,IF($E47=\"Venting\",(($H47*mmcfd_m3)*((1+$I47*(BN$3-$D47))^$J47)-$G47)*Gg_m3,IF($E47=\"Sealed\",((($H47*mmcfd_m3)*((1+$I47*(BN$3-$D47))^$J47)*(1-$F47)-$G47)*Gg_m3),IF($E47=\"Flooded\",(($H47*mmcfd_m3)*EXP(-0.6728*(BN$3-$D47))*Gg_m3),(($H47*mmcfd_m3)*((1+$I47*(BN$3-$D47))^$J47)-$G47)*Gg_m3+((($H47*mmcfd_m3)*((1+$I47*(BN$3-$D47))^$J47)*(1-0.8)-$G47)*Gg_m3)+(($H47*mmcfd_m3)*EXP(-0.6728*(BN$3-$D47))*Gg_m3)))),0))","v":0},0,0,0,0,0,0,0,0,0,0,0,0,0,0,0,0,0,0,0]
[45,{"$f":"'CH4 from Abandoned Coal Mines'!D49","v":""},{"$f":"'CH4 from Abandoned Coal Mines'!H49","v":""},{"$f":"VALUE('CH4 from Abandoned Coal Mines'!J49)","v":{"$error":"#VALUE!"}},{"$f":"IF('CH4 from Abandoned Coal Mines'!N49>0,'CH4 from Abandoned Coal Mines'!N49,'CH4 from Abandoned Coal Mines'!L49)","v":""},{"$f":"'CH4 from Abandoned Coal Mines'!P49","v":0},{"$f":"'CH4 from Abandoned Coal Mines'!R49","v":0},{"$f":"VLOOKUP(B48,'Abandoned Data'!$O$3:$V$163,6,FALSE)","v":""},{"$f":"VLOOKUP(B48,'Abandoned Data'!$O$3:$V$163,7,FALSE)","v":""},{"$f":"VLOOKUP(B48,'Abandoned Data'!$O$3:$V$163,8,FALSE)","v":""},{"$error":"#VALUE!"},null,null,null,null,null,null,"NE","Default Average",0.31483047200558667,0.10442425443381222,0.58074527356060102,null,45,0,0,0,0,0,0,0,0,0,0,0,0,0,0,0,0,0,0,0,0,0,0,0,0,0,0,0,0,0,0,0,0,0,0,0,0,0,0,0,0,0,0,0,0,0,0,0,0,0,0,0,0,0,0,0,0,0,0,0,0,0]
[46,{"$f":"'CH4 from Abandoned Coal Mines'!D50","v":""},{"$f":"'CH4 from Abandoned Coal Mines'!H50","v":""},{"$f":"VALUE('CH4 from Abandoned Coal Mines'!J50)","v":{"$error":"#VALUE!"}},{"$f":"IF('CH4 from Abandoned Coal Mines'!N50>0,'CH4 from Abandoned Coal Mines'!N50,'CH4 from Abandoned Coal Mines'!L50)","v":""},{"$f":"'CH4 from Abandoned Coal Mines'!P50","v":0},{"$f":"'CH4 from Abandoned Coal Mines'!R50","v":0},{"$f":"VLOOKUP(B49,'Abandoned Data'!$O$3:$V$163,6,FALSE)","v":""},{"$f":"VLOOKUP(B49,'Abandoned Data'!$O$3:$V$163,7,FALSE)","v":""},{"$f":"VLOOKUP(B49,'Abandoned Data'!$O$3:$V$163,8,FALSE)","v":""},{"$error":"#VALUE!"},null,null,null,null,null,null,"NV","Default Average",0.31483047200558667,0.10442425443381222,0.58074527356060102,null,46,0,0,0,0,0,0,0,0,0,0,0,0,0,0,0,0,0,0,0,0,0,0,0,0,0,0,0,0,0,0,0,0,0,0,0,0,0,0,0,0,0,0,0,0,0,0,0,0,0,0,0,0,0,0,0,0,0,0,0,0,0]
[47,{"$f":"'CH4 from Abandoned Coal Mines'!D51","v":""},{"$f":"'CH4 from Abandoned Coal Mines'!H51","v":""},{"$f":"VALUE('CH4 from Abandoned Coal Mines'!J51)","v":{"$error":"#VALUE!"}},{"$f":"IF('CH4 from Abandoned Coal Mines'!N51>0,'CH4 from Abandoned Coal Mines'!N51,'CH4 from Abandoned Coal Mines'!L51)","v":""},{"$f":"'CH4 from Abandoned Coal Mines'!P51","v":0},{"$f":"'CH4 from Abandoned Coal Mines'!R51","v":0},{"$f":"VLOOKUP(B50,'Abandoned Data'!$O$3:$V$163,6,FALSE)","v":""},{"$f":"VLOOKUP(B50,'Abandoned Data'!$O$3:$V$163,7,FALSE)","v":""},{"$f":"VLOOKUP(B50,'Abandoned Data'!$O$3:$V$163,8,FALSE)","v":""},{"$error":"#VALUE!"},null,null,null,null,null,null,"NH","Default Average",0.31483047200558667,0.10442425443381222,0.58074527356060102,null,47,0,0,0,0,0,0,0,0,0,0,0,0,0,0,0,0,0,0,0,0,0,0,0,0,0,0,0,0,0,0,0,0,0,0,0,0,0,0,0,0,0,0,0,0,0,0,0,0,0,0,0,0,0,0,0,0,0,0,0,0,0]
[48,{"$f":"'CH4 from Abandoned Coal Mines'!D52","v":""},{"$f":"'CH4 from Abandoned Coal Mines'!H52","v":""},{"$f":"VALUE('CH4 from Abandoned Coal Mines'!J52)","v":{"$error":"#VALUE!"}},{"$f":"IF('CH4 from Abandoned Coal Mines'!N52>0,'CH4 from Abandoned Coal Mines'!N52,'CH4 from Abandoned Coal Mines'!L52)","v":""},{"$f":"'CH4 from Abandoned Coal Mines'!P52","v":0},{"$f":"'CH4 from Abandoned Coal Mines'!R52","v":0},{"$f":"VLOOKUP(B51,'Abandoned Data'!$O$3:$V$163,6,FALSE)","v":""},{"$f":"VLOOKUP(B51,'Abandoned Data'!$O$3:$V$163,7,FALSE)","v":""},{"$f":"VLOOKUP(B51,'Abandoned Data'!$O$3:$V$163,8,FALSE)","v":""},{"$error":"#VALUE!"},null,null,null,null,null,null,"NJ","Default Average",0.31483047200558667,0.10442425443381222,0.58074527356060102,null,48,0,0,0,0,0,0,0,0,0,0,0,0,0,0,0,0,0,0,0,0,0,0,0,0,0,0,0,0,0,0,0,0,0,0,0,0,0,0,0,0,0,0,0,0,0,0,0,0,0,0,0,0,0,0,0,0,0,0,0,0,0]
[49,{"$f":"'CH4 from Abandoned Coal Mines'!D53","v":""},{"$f":"'CH4 from Abandoned Coal Mines'!H53","v":""},{"$f":"VALUE('CH4 from Abandoned Coal Mines'!J53)","v":{"$error":"#VALUE!"}},{"$f":"IF('CH4 from Abandoned Coal Mines'!N53>0,'CH4 from Abandoned Coal Mines'!N53,'CH4 from Abandoned Coal Mines'!L53)","v":""},{"$f":"'CH4 from Abandoned Coal Mines'!P53","v":0},{"$f":"'CH4 from Abandoned Coal Mines'!R53","v":0},{"$f":"VLOOKUP(B52,'Abandoned Data'!$O$3:$V$163,6,FALSE)","v":""},{"$f":"VLOOKUP(B52,'Abandoned Data'!$O$3:$V$163,7,FALSE)","v":""},{"$f":"VLOOKUP(B52,'Abandoned Data'!$O$3:$V$163,8,FALSE)","v":""},{"$error":"#VALUE!"},null,null,null,null,null,null,"NY","Default Average",0.31483047200558667,0.10442425443381222,0.58074527356060102,null,49,0,0,0,0,0,0,0,0,0,0,0,0,0,0,0,0,0,0,0,0,0,0,0,0,0,0,0,0,0,0,0,0,0,0,0,0,0,0,0,0,0,0,0,0,0,0,0,0,0,0,0,0,0,0,0,0,0,0,0,0,0]
[50,{"$f":"'CH4 from Abandoned Coal Mines'!D54","v":""},{"$f":"'CH4 from Abandoned Coal Mines'!H54","v":""},{"$f":"VALUE('CH4 from Abandoned Coal Mines'!J54)","v":{"$error":"#VALUE!"}},{"$f":"IF('CH4 from Abandoned Coal Mines'!N54>0,'CH4 from Abandoned Coal Mines'!N54,'CH4 from Abandoned Coal Mines'!L54)","v":""},{"$f":"'CH4 from Abandoned Coal Mines'!P54","v":0},{"$f":"'CH4 from Abandoned Coal Mines'!R54","v":0},{"$f":"VLOOKUP(B53,'Abandoned Data'!$O$3:$V$163,6,FALSE)","v":""},{"$f":"VLOOKUP(B53,'Abandoned Data'!$O$3:$V$163,7,FALSE)","v":""},{"$f":"VLOOKUP(B53,'Abandoned Data'!$O$3:$V$163,8,FALSE)","v":""},{"$error":"#VALUE!"},null,null,null,null,null,null,"NC","Default Average",0.31483047200558667,0.10442425443381222,0.58074527356060102,null,50,0,0,0,0,0,0,0,0,0,0,0,0,0,0,0,0,0,0,0,0,0,0,0,0,0,0,0,0,0,0,0,0,0,0,0,0,0,0,0,0,0,0,0,0,0,0,0,0,0,0,0,0,0,0,0,0,0,0,0,0,0]
[51,{"$f":"'CH4 from Abandoned Coal Mines'!D55","v":""},{"$f":"'CH4 from Abandoned Coal Mines'!H55","v":""},{"$f":"VALUE('CH4 from Abandoned Coal Mines'!J55)","v":{"$error":"#VALUE!"}},{"$f":"IF('CH4 from Abandoned Coal Mines'!N55>0,'CH4 from Abandoned Coal Mines'!N55,'CH4 from Abandoned Coal Mines'!L55)","v":""},{"$f":"'CH4 from Abandoned Coal Mines'!P55","v":0},{"$f":"'CH4 from Abandoned Coal Mines'!R55","v":0},{"$f":"VLOOKUP(B54,'Abandoned Data'!$O$3:$V$163,6,FALSE)","v":""},{"$f":"VLOOKUP(B54,'Abandoned Data'!$O$3:$V$163,7,FALSE)","v":""},{"$f":"VLOOKUP(B54,'Abandoned Data'!$O$3:$V$163,8,FALSE)","v":""},{"$error":"#VALUE!"},null,null,null,null,null,null,"ND","Default Average",0.31483047200558667,0.10442425443381222,0.58074527356060102,null,51,{"$f":"IF(ISERROR(IF($D54<Y$3,IF($E54=\"Venting\",(($H54*mmcfd_m3)*((1+$I54*(Y$3-$D54))^$J54)-$G54)*Gg_m3,IF($E54=\"Sealed\",((($H54*mmcfd_m3)*((1+$I54*(Y$3-$D54))^$J54)*(1-$F54)-$G54)*Gg_m3),IF($E54=\"Flooded\",(($H54*mmcfd_m3)*EXP(-0.6728*(Y$3-$D54))*Gg_m3),(($H54*mmcfd_m3)*((1+$I54*(Y$3-$D54))^$J54)-$G54)*Gg_m3+((($H54*mmcfd_m3)*((1+$I54*(Y$3-$D54))^$J54)*(1-0.8)-$G54)*Gg_m3)+(($H54*mmcfd_m3)*EXP(-0.6728*(Y$3-$D54))*Gg_m3)))),0)),0,IF($D54<Y$3,IF($E54=\"Venting\",(($H54*mmcfd_m3)*((1+$I54*(Y$3-$D54))^$J54)-$G54)*Gg_m3,IF($E54=\"Sealed\",((($H54*mmcfd_m3)*((1+$I54*(Y$3-$D54))^$J54)*(1-$F54)-$G54)*Gg_m3),IF($E54=\"Flooded\",(($H54*mmcfd_m3)*EXP(-0.6728*(Y$3-$D54))*Gg_m3),(($H54*mmcfd_m3)*((1+$I54*(Y$3-$D54))^$J54)-$G54)*Gg_m3+((($H54*mmcfd_m3)*((1+$I54*(Y$3-$D54))^$J54)*(1-0.8)-$G54)*Gg_m3)+(($H54*mmcfd_m3)*EXP(-0.6728*(Y$3-$D54))*Gg_m3)))),0))","v":0},0,0,0,0,0,0,0,0,0,{"$f":"IF(ISERROR(IF($D54<AI$3,IF($E54=\"Venting\",(($H54*mmcfd_m3)*((1+$I54*(AI$3-$D54))^$J54)-$G54)*Gg_m3,IF($E54=\"Sealed\",((($H54*mmcfd_m3)*((1+$I54*(AI$3-$D54))^$J54)*(1-$F54)-$G54)*Gg_m3),IF($E54=\"Flooded\",(($H54*mmcfd_m3)*EXP(-0.6728*(AI$3-$D54))*Gg_m3),(($H54*mmcfd_m3)*((1+$I54*(AI$3-$D54))^$J54)-$G54)*Gg_m3+((($H54*mmcfd_m3)*((1+$I54*(AI$3-$D54))^$J54)*(1-0.8)-$G54)*Gg_m3)+(($H54*mmcfd_m3)*EXP(-0.6728*(AI$3-$D54))*Gg_m3)))),0)),0,IF($D54<AI$3,IF($E54=\"Venting\",(($H54*mmcfd_m3)*((1+$I54*(AI$3-$D54))^$J54)-$G54)*Gg_m3,IF($E54=\"Sealed\",((($H54*mmcfd_m3)*((1+$I54*(AI$3-$D54))^$J54)*(1-$F54)-$G54)*Gg_m3),IF($E54=\"Flooded\",(($H54*mmcfd_m3)*EXP(-0.6728*(AI$3-$D54))*Gg_m3),(($H54*mmcfd_m3)*((1+$I54*(AI$3-$D54))^$J54)-$G54)*Gg_m3+((($H54*mmcfd_m3)*((1+$I54*(AI$3-$D54))^$J54)*(1-0.8)-$G54)*Gg_m3)+(($H54*mmcfd_m3)*EXP(-0.6728*(AI$3-$D54))*Gg_m3)))),0))","v":0},0,0,0,0,0,0,0,0,0,{"$f":"IF(ISERROR(IF($D54<AS$3,IF($E54=\"Venting\",(($H54*mmcfd_m3)*((1+$I54*(AS$3-$D54))^$J54)-$G54)*Gg_m3,IF($E54=\"Sealed\",((($H54*mmcfd_m3)*((1+$I54*(AS$3-$D54))^$J54)*(1-$F54)-$G54)*Gg_m3),IF($E54=\"Flooded\",(($H54*mmcfd_m3)*EXP(-0.6728*(AS$3-$D54))*Gg_m3),(($H54*mmcfd_m3)*((1+$I54*(AS$3-$D54))^$J54)-$G54)*Gg_m3+((($H54*mmcfd_m3)*((1+$I54*(AS$3-$D54))^$J54)*(1-0.8)-$G54)*Gg_m3)+(($H54*mmcfd_m3)*EXP(-0.6728*(AS$3-$D54))*Gg_m3)))),0)),0,IF($D54<AS$3,IF($E54=\"Venting\",(($H54*mmcfd_m3)*((1+$I54*(AS$3-$D54))^$J54)-$G54)*Gg_m3,IF($E54=\"Sealed\",((($H54*mmcfd_m3)*((1+$I54*(AS$3-$D54))^$J54)*(1-$F54)-$G54)*Gg_m3),IF($E54=\"Flooded\",(($H54*mmcfd_m3)*EXP(-0.6728*(AS$3-$D54))*Gg_m3),(($H54*mmcfd_m3)*((1+$I54*(AS$3-$D54))^$J54)-$G54)*Gg_m3+((($H54*mmcfd_m3)*((1+$I54*(AS$3-$D54))^$J54)*(1-0.8)-$G54)*Gg_m3)+(($H54*mmcfd_m3)*EXP(-0.6728*(AS$3-$D54))*Gg_m3)))),0))","v":0},0,0,0,0,0,0,0,0,0,0,0,0,0,0,0,0,0,0,0,0,0,0,0,0,0,0,0,0,0,0,0,0,0,0,0,0,0,0,0,0]
[52,{"$f":"'CH4 from Abandoned Coal Mines'!D56","v":""},{"$f":"'CH4 from Abandoned Coal Mines'!H56","v":""},{"$f":"VALUE('CH4 from Abandoned Coal Mines'!J56)","v":{"$error":"#VALUE!"}},{"$f":"IF('CH4 from Abandoned Coal Mines'!N56>0,'CH4 from Abandoned Coal Mines'!N56,'CH4 from Abandoned Coal Mines'!L56)","v":""},{"$f":"'CH4 from Abandoned Coal Mines'!P56","v":0},{"$f":"'CH4 from Abandoned Coal Mines'!R56","v":0},{"$f":"VLOOKUP(B55,'Abandoned Data'!$O$3:$V$163,6,FALSE)","v":""},{"$f":"VLOOKUP(B55,'Abandoned Data'!$O$3:$V$163,7,FALSE)","v":""},{"$f":"VLOOKUP(B55,'Abandoned Data'!$O$3:$V$163,8,FALSE)","v":""},{"$error":"#VALUE!"},null,null,null,null,null,null,"OR","Default Average",0.31483047200558667,0.10442425443381222,0.58074527356060102,null,52,0,0,0,0,0,0,0,0,0,0,0,0,0,0,0,0,0,0,0,0,0,0,0,0,0,0,0,0,0,0,0,0,0,0,0,0,0,0,0,0,0,0,0,0,0,0,0,0,0,0,0,0,0,0,0,0,0,0,0,0,0]
[53,{"$f":"'CH4 from Abandoned Coal Mines'!D57","v":""},{"$f":"'CH4 from Abandoned Coal Mines'!H57","v":""},{"$f":"VALUE('CH4 from Abandoned Coal Mines'!J57)","v":{"$error":"#VALUE!"}},{"$f":"IF('CH4 from Abandoned Coal Mines'!N57>0,'CH4 from Abandoned Coal Mines'!N57,'CH4 from Abandoned Coal Mines'!L57)","v":""},{"$f":"'CH4 from Abandoned Coal Mines'!P57","v":0},{"$f":"'CH4 from Abandoned Coal Mines'!R57","v":0},{"$f":"VLOOKUP(B56,'Abandoned Data'!$O$3:$V$163,6,FALSE)","v":""},{"$f":"VLOOKUP(B56,'Abandoned Data'!$O$3:$V$163,7,FALSE)","v":""},{"$f":"VLOOKUP(B56,'Abandoned Data'!$O$3:$V$163,8,FALSE)","v":""},{"$error":"#VALUE!"},null,null,null,null,null,null,"RI","Default Average",0.31483047200558667,0.10442425443381222,0.58074527356060102,null,53,0,0,0,0,0,0,0,0,0,0,0,0,0,0,0,0,0,0,0,0,0,0,0,0,0,0,0,0,0,0,0,{"$f":"IF(ISERROR(IF($D56<BD$3,IF($E56=\"Venting\",(($H56*mmcfd_m3)*((1+$I56*(BD$3-$D56))^$J56)-$G56)*Gg_m3,IF($E56=\"Sealed\",((($H56*mmcfd_m3)*((1+$I56*(BD$3-$D56))^$J56)*(1-$F56)-$G56)*Gg_m3),IF($E56=\"Flooded\",(($H56*mmcfd_m3)*EXP(-0.6728*(BD$3-$D56))*Gg_m3),(($H56*mmcfd_m3)*((1+$I56*(BD$3-$D56))^$J56)-$G56)*Gg_m3+((($H56*mmcfd_m3)*((1+$I56*(BD$3-$D56))^$J56)*(1-0.8)-$G56)*Gg_m3)+(($H56*mmcfd_m3)*EXP(-0.6728*(BD$3-$D56))*Gg_m3)))),0)),0,IF($D56<BD$3,IF($E56=\"Venting\",(($H56*mmcfd_m3)*((1+$I56*(BD$3-$D56))^$J56)-$G56)*Gg_m3,IF($E56=\"Sealed\",((($H56*mmcfd_m3)*((1+$I56*(BD$3-$D56))^$J56)*(1-$F56)-$G56)*Gg_m3),IF($E56=\"Flooded\",(($H56*mmcfd_m3)*EXP(-0.6728*(BD$3-$D56))*Gg_m3),(($H56*mmcfd_m3)*((1+$I56*(BD$3-$D56))^$J56)-$G56)*Gg_m3+((($H56*mmcfd_m3)*((1+$I56*(BD$3-$D56))^$J56)*(1-0.8)-$G56)*Gg_m3)+(($H56*mmcfd_m3)*EXP(-0.6728*(BD$3-$D56))*Gg_m3)))),0))","v":0},0,0,0,0,0,0,0,0,0,0,0,0,0,0,0,0,0,0,0,0,0,0,0,0,0,0,0,0,0]
[54,{"$f":"'CH4 from Abandoned Coal Mines'!D58","v":""},{"$f":"'CH4 from Abandoned Coal Mines'!H58","v":""},{"$f":"VALUE('CH4 from Abandoned Coal Mines'!J58)","v":{"$error":"#VALUE!"}},{"$f":"IF('CH4 from Abandoned Coal Mines'!N58>0,'CH4 from Abandoned Coal Mines'!N58,'CH4 from Abandoned Coal Mines'!L58)","v":""},{"$f":"'CH4 from Abandoned Coal Mines'!P58","v":0},{"$f":"'CH4 from Abandoned Coal Mines'!R58","v":0},{"$f":"VLOOKUP(B57,'Abandoned Data'!$O$3:$V$163,6,FALSE)","v":""},{"$f":"VLOOKUP(B57,'Abandoned Data'!$O$3:$V$163,7,FALSE)","v":""},{"$f":"VLOOKUP(B57,'Abandoned Data'!$O$3:$V$163,8,FALSE)","v":""},{"$error":"#VALUE!"},null,null,null,null,null,null,"SC","Default Average",0.31483047200558667,0.10442425443381222,0.58074527356060102,null,54,0,0,0,0,0,0,0,0,0,0,0,0,0,0,0,0,0,0,0,0,0,0,0,0,0,0,0,0,0,0,0,0,0,0,0,0,0,0,0,0,0,0,0,0,0,0,0,0,0,0,0,0,0,0,0,0,0,0,0,0,0]
[55,{"$f":"'CH4 from Abandoned Coal Mines'!D59","v":""},{"$f":"'CH4 from Abandoned Coal Mines'!H59","v":""},{"$f":"VALUE('CH4 from Abandoned Coal Mines'!J59)","v":{"$error":"#VALUE!"}},{"$f":"IF('CH4 from Abandoned Coal Mines'!N59>0,'CH4 from Abandoned Coal Mines'!N59,'CH4 from Abandoned Coal Mines'!L59)","v":""},{"$f":"'CH4 from Abandoned Coal Mines'!P59","v":0},{"$f":"'CH4 from Abandoned Coal Mines'!R59","v":0},{"$f":"VLOOKUP(B58,'Abandoned Data'!$O$3:$V$163,6,FALSE)","v":""},{"$f":"VLOOKUP(B58,'Abandoned Data'!$O$3:$V$163,7,FALSE)","v":""},{"$f":"VLOOKUP(B58,'Abandoned Data'!$O$3:$V$163,8,FALSE)","v":""},{"$error":"#VALUE!"},null,null,null,null,null,null,"SD","Default Average",0.31483047200558667,0.10442425443381222,0.58074527356060102,null,55,0,0,0,0,0,0,0,0,0,0,0,0,0,0,0,0,0,0,0,0,0,0,0,0,0,0,0,0,0,0,0,0,0,0,0,0,0,0,0,0,0,0,0,0,0,0,0,0,0,0,0,0,0,0,0,0,0,0,0,0,0]
[56,{"$f":"'CH4 from Abandoned Coal Mines'!D60","v":""},{"$f":"'CH4 from Abandoned Coal Mines'!H60","v":""},{"$f":"VALUE('CH4 from Abandoned Coal Mines'!J60)","v":{"$error":"#VALUE!"}},{"$f":"IF('CH4 from Abandoned Coal Mines'!N60>0,'CH4 from Abandoned Coal Mines'!N60,'CH4 from Abandoned Coal Mines'!L60)","v":""},{"$f":"'CH4 from Abandoned Coal Mines'!P60","v":0},{"$f":"'CH4 from Abandoned Coal Mines'!R60","v":0},{"$f":"VLOOKUP(B59,'Abandoned Data'!$O$3:$V$163,6,FALSE)","v":""},{"$f":"VLOOKUP(B59,'Abandoned Data'!$O$3:$V$163,7,FALSE)","v":""},{"$f":"VLOOKUP(B59,'Abandoned Data'!$O$3:$V$163,8,FALSE)","v":""},{"$error":"#VALUE!"},null,null,null,null,null,null,"TX","Default Average",0.31483047200558667,0.10442425443381222,0.58074527356060102,null,56,0,0,0,0,0,0,0,0,0,0,0,0,0,0,0,0,0,0,0,0,0,0,0,0,0,0,0,0,0,0,0,0,0,0,0,0,0,0,0,0,0,0,0,0,0,0,0,0,0,0,0,0,0,0,0,0,0,0,0,0,0]
[57,{"$f":"'CH4 from Abandoned Coal Mines'!D61","v":""},{"$f":"'CH4 from Abandoned Coal Mines'!H61","v":""},{"$f":"VALUE('CH4 from Abandoned Coal Mines'!J61)","v":{"$error":"#VALUE!"}},{"$f":"IF('CH4 from Abandoned Coal Mines'!N61>0,'CH4 from Abandoned Coal Mines'!N61,'CH4 from Abandoned Coal Mines'!L61)","v":""},{"$f":"'CH4 from Abandoned Coal Mines'!P61","v":0},{"$f":"'CH4 from Abandoned Coal Mines'!R61","v":0},{"$f":"VLOOKUP(B60,'Abandoned Data'!$O$3:$V$163,6,FALSE)","v":""},{"$f":"VLOOKUP(B60,'Abandoned Data'!$O$3:$V$163,7,FALSE)","v":""},{"$f":"VLOOKUP(B60,'Abandoned Data'!$O$3:$V$163,8,FALSE)","v":""},{"$error":"#VALUE!"},null,null,null,null,null,null,"VT","Default Average",0.31483047200558667,0.10442425443381222,0.58074527356060102,null,57,0,0,0,0,0,0,0,0,0,0,0,0,0,0,0,0,0,0,0,0,0,0,0,0,0,0,0,0,0,0,0,0,0,0,0,0,0,0,0,0,0,0,0,0,0,0,0,0,0,0,0,0,0,0,0,0,0,0,0,0,0]
[58,{"$f":"'CH4 from Abandoned Coal Mines'!D62","v":""},{"$f":"'CH4 from Abandoned Coal Mines'!H62","v":""},{"$f":"VALUE('CH4 from Abandoned Coal Mines'!J62)","v":{"$error":"#VALUE!"}},{"$f":"IF('CH4 from Abandoned Coal Mines'!N62>0,'CH4 from Abandoned Coal Mines'!N62,'CH4 from Abandoned Coal Mines'!L62)","v":""},{"$f":"'CH4 from Abandoned Coal Mines'!P62","v":0},{"$f":"'CH4 from Abandoned Coal Mines'!R62","v":0},{"$f":"VLOOKUP(B61,'Abandoned Data'!$O$3:$V$163,6,FALSE)","v":""},{"$f":"VLOOKUP(B61,'Abandoned Data'!$O$3:$V$163,7,FALSE)","v":""},{"$f":"VLOOKUP(B61,'Abandoned Data'!$O$3:$V$163,8,FALSE)","v":""},{"$error":"#VALUE!"},null,null,null,null,null,null,"WA","Default Average",0.31483047200558667,0.10442425443381222,0.58074527356060102,null,58,0,0,0,0,0,0,0,0,0,0,0,0,0,0,0,0,0,0,0,0,0,0,0,0,0,0,0,0,0,0,0,0,0,0,0,0,0,0,0,0,0,0,0,0,0,0,0,0,0,0,0,0,0,0,0,0,0,0,0,0,0]
[59,{"$f":"'CH4 from Abandoned Coal Mines'!D63","v":""},{"$f":"'CH4 from Abandoned Coal Mines'!H63","v":""},{"$f":"VALUE('CH4 from Abandoned Coal Mines'!J63)","v":{"$error":"#VALUE!"}},{"$f":"IF('CH4 from Abandoned Coal Mines'!N63>0,'CH4 from Abandoned Coal Mines'!N63,'CH4 from Abandoned Coal Mines'!L63)","v":""},{"$f":"'CH4 from Abandoned Coal Mines'!P63","v":0},{"$f":"'CH4 from Abandoned Coal Mines'!R63","v":0},{"$f":"VLOOKUP(B62,'Abandoned Data'!$O$3:$V$163,6,FALSE)","v":""},{"$f":"VLOOKUP(B62,'Abandoned Data'!$O$3:$V$163,7,FALSE)","v":""},{"$f":"VLOOKUP(B62,'Abandoned Data'!$O$3:$V$163,8,FALSE)","v":""},{"$error":"#VALUE!"},null,null,null,null,null,null,"WI","Default Average",0.31483047200558667,0.10442425443381222,0.58074527356060102,null,59,0,0,0,0,0,0,0,0,0,0,0,0,0,0,0,0,0,0,0,0,0,0,0,0,0,0,0,0,0,0,0,0,0,0,0,0,0,0,0,0,0,0,0,0,0,0,0,0,0,0,0,0,0,0,0,0,0,0,0,0,0]
[60,{"$f":"'CH4 from Abandoned Coal Mines'!D64","v":""},{"$f":"'CH4 from Abandoned Coal Mines'!H64","v":""},{"$f":"VALUE('CH4 from Abandoned Coal Mines'!J64)","v":{"$error":"#VALUE!"}},{"$f":"IF('CH4 from Abandoned Coal Mines'!N64>0,'CH4 from Abandoned Coal Mines'!N64,'CH4 from Abandoned Coal Mines'!L64)","v":""},{"$f":"'CH4 from Abandoned Coal Mines'!P64","v":0},{"$f":"'CH4 from Abandoned Coal Mines'!R64","v":0},{"$f":"VLOOKUP(B63,'Abandoned Data'!$O$3:$V$163,6,FALSE)","v":""},{"$f":"VLOOKUP(B63,'Abandoned Data'!$O$3:$V$163,7,FALSE)","v":""},{"$f":"VLOOKUP(B63,'Abandoned Data'!$O$3:$V$163,8,FALSE)","v":""},{"$error":"#VALUE!"},null,null,null,null,null,null,"WY","Default Average",0.31483047200558667,0.10442425443381222,0.58074527356060102,null,60,0,0,0,0,0,0,0,0,0,0,0,0,0,0,0,0,0,0,0,0,0,0,0,0,0,0,0,0,0,0,0,0,0,0,0,0,0,0,0,0,0,0,0,0,0,0,0,0,0,0,0,0,0,0,0,0,0,0,0,0,0]
[61,{"$f":"'CH4 from Abandoned Coal Mines'!D65","v":""},{"$f":"'CH4 from Abandoned Coal Mines'!H65","v":""},{"$f":"VALUE('CH4 from Abandoned Coal Mines'!J65)","v":{"$error":"#VALUE!"}},{"$f":"IF('CH4 from Abandoned Coal Mines'!N65>0,'CH4 from Abandoned Coal Mines'!N65,'CH4 from Abandoned Coal Mines'!L65)","v":""},{"$f":"'CH4 from Abandoned Coal Mines'!P65","v":0},{"$f":"'CH4 from Abandoned Coal Mines'!R65","v":0},{"$f":"VLOOKUP(B64,'Abandoned Data'!$O$3:$V$163,6,FALSE)","v":""},{"$f":"VLOOKUP(B64,'Abandoned Data'!$O$3:$V$163,7,FALSE)","v":""},{"$f":"VLOOKUP(B64,'Abandoned Data'!$O$3:$V$163,8,FALSE)","v":""},{"$error":"#VALUE!"},null,null,null,null,null,null,null,null,null,null,null,null,61,{"$f":"IF(ISERROR(IF($D64<Y$3,IF($E64=\"Venting\",(($H64*mmcfd_m3)*((1+$I64*(Y$3-$D64))^$J64)-$G64)*Gg_m3,IF($E64=\"Sealed\",((($H64*mmcfd_m3)*((1+$I64*(Y$3-$D64))^$J64)*(1-$F64)-$G64)*Gg_m3),IF($E64=\"Flooded\",(($H64*mmcfd_m3)*EXP(-0.6728*(Y$3-$D64))*Gg_m3),(($H64*mmcfd_m3)*((1+$I64*(Y$3-$D64))^$J64)-$G64)*Gg_m3+((($H64*mmcfd_m3)*((1+$I64*(Y$3-$D64))^$J64)*(1-0.8)-$G64)*Gg_m3)+(($H64*mmcfd_m3)*EXP(-0.6728*(Y$3-$D64))*Gg_m3)))),0)),0,IF($D64<Y$3,IF($E64=\"Venting\",(($H64*mmcfd_m3)*((1+$I64*(Y$3-$D64))^$J64)-$G64)*Gg_m3,IF($E64=\"Sealed\",((($H64*mmcfd_m3)*((1+$I64*(Y$3-$D64))^$J64)*(1-$F64)-$G64)*Gg_m3),IF($E64=\"Flooded\",(($H64*mmcfd_m3)*EXP(-0.6728*(Y$3-$D64))*Gg_m3),(($H64*mmcfd_m3)*((1+$I64*(Y$3-$D64))^$J64)-$G64)*Gg_m3+((($H64*mmcfd_m3)*((1+$I64*(Y$3-$D64))^$J64)*(1-0.8)-$G64)*Gg_m3)+(($H64*mmcfd_m3)*EXP(-0.6728*(Y$3-$D64))*Gg_m3)))),0))","v":0},0,0,0,0,0,0,0,0,0,{"$f":"IF(ISERROR(IF($D64<AI$3,IF($E64=\"Venting\",(($H64*mmcfd_m3)*((1+$I64*(AI$3-$D64))^$J64)-$G64)*Gg_m3,IF($E64=\"Sealed\",((($H64*mmcfd_m3)*((1+$I64*(AI$3-$D64))^$J64)*(1-$F64)-$G64)*Gg_m3),IF($E64=\"Flooded\",(($H64*mmcfd_m3)*EXP(-0.6728*(AI$3-$D64))*Gg_m3),(($H64*mmcfd_m3)*((1+$I64*(AI$3-$D64))^$J64)-$G64)*Gg_m3+((($H64*mmcfd_m3)*((1+$I64*(AI$3-$D64))^$J64)*(1-0.8)-$G64)*Gg_m3)+(($H64*mmcfd_m3)*EXP(-0.6728*(AI$3-$D64))*Gg_m3)))),0)),0,IF($D64<AI$3,IF($E64=\"Venting\",(($H64*mmcfd_m3)*((1+$I64*(AI$3-$D64))^$J64)-$G64)*Gg_m3,IF($E64=\"Sealed\",((($H64*mmcfd_m3)*((1+$I64*(AI$3-$D64))^$J64)*(1-$F64)-$G64)*Gg_m3),IF($E64=\"Flooded\",(($H64*mmcfd_m3)*EXP(-0.6728*(AI$3-$D64))*Gg_m3),(($H64*mmcfd_m3)*((1+$I64*(AI$3-$D64))^$J64)-$G64)*Gg_m3+((($H64*mmcfd_m3)*((1+$I64*(AI$3-$D64))^$J64)*(1-0.8)-$G64)*Gg_m3)+(($H64*mmcfd_m3)*EXP(-0.6728*(AI$3-$D64))*Gg_m3)))),0))","v":0},0,0,0,0,0,0,0,0,0,{"$f":"IF(ISERROR(IF($D64<AS$3,IF($E64=\"Venting\",(($H64*mmcfd_m3)*((1+$I64*(AS$3-$D64))^$J64)-$G64)*Gg_m3,IF($E64=\"Sealed\",((($H64*mmcfd_m3)*((1+$I64*(AS$3-$D64))^$J64)*(1-$F64)-$G64)*Gg_m3),IF($E64=\"Flooded\",(($H64*mmcfd_m3)*EXP(-0.6728*(AS$3-$D64))*Gg_m3),(($H64*mmcfd_m3)*((1+$I64*(AS$3-$D64))^$J64)-$G64)*Gg_m3+((($H64*mmcfd_m3)*((1+$I64*(AS$3-$D64))^$J64)*(1-0.8)-$G64)*Gg_m3)+(($H64*mmcfd_m3)*EXP(-0.6728*(AS$3-$D64))*Gg_m3)))),0)),0,IF($D64<AS$3,IF($E64=\"Venting\",(($H64*mmcfd_m3)*((1+$I64*(AS$3-$D64))^$J64)-$G64)*Gg_m3,IF($E64=\"Sealed\",((($H64*mmcfd_m3)*((1+$I64*(AS$3-$D64))^$J64)*(1-$F64)-$G64)*Gg_m3),IF($E64=\"Flooded\",(($H64*mmcfd_m3)*EXP(-0.6728*(AS$3-$D64))*Gg_m3),(($H64*mmcfd_m3)*((1+$I64*(AS$3-$D64))^$J64)-$G64)*Gg_m3+((($H64*mmcfd_m3)*((1+$I64*(AS$3-$D64))^$J64)*(1-0.8)-$G64)*Gg_m3)+(($H64*mmcfd_m3)*EXP(-0.6728*(AS$3-$D64))*Gg_m3)))),0))","v":0},0,0,0,0,0,0,0,0,0,0,0,0,0,0,0,0,0,0,0,0,0,0,0,0,0,0,0,0,0,0,{"$f":"IF(ISERROR(IF($D64<BX$3,IF($E64=\"Venting\",(($H64*mmcfd_m3)*((1+$I64*(BX$3-$D64))^$J64)-$G64)*Gg_m3,IF($E64=\"Sealed\",((($H64*mmcfd_m3)*((1+$I64*(BX$3-$D64))^$J64)*(1-$F64)-$G64)*Gg_m3),IF($E64=\"Flooded\",(($H64*mmcfd_m3)*EXP(-0.6728*(BX$3-$D64))*Gg_m3),(($H64*mmcfd_m3)*((1+$I64*(BX$3-$D64))^$J64)-$G64)*Gg_m3+((($H64*mmcfd_m3)*((1+$I64*(BX$3-$D64))^$J64)*(1-0.8)-$G64)*Gg_m3)+(($H64*mmcfd_m3)*EXP(-0.6728*(BX$3-$D64))*Gg_m3)))),0)),0,IF($D64<BX$3,IF($E64=\"Venting\",(($H64*mmcfd_m3)*((1+$I64*(BX$3-$D64))^$J64)-$G64)*Gg_m3,IF($E64=\"Sealed\",((($H64*mmcfd_m3)*((1+$I64*(BX$3-$D64))^$J64)*(1-$F64)-$G64)*Gg_m3),IF($E64=\"Flooded\",(($H64*mmcfd_m3)*EXP(-0.6728*(BX$3-$D64))*Gg_m3),(($H64*mmcfd_m3)*((1+$I64*(BX$3-$D64))^$J64)-$G64)*Gg_m3+((($H64*mmcfd_m3)*((1+$I64*(BX$3-$D64))^$J64)*(1-0.8)-$G64)*Gg_m3)+(($H64*mmcfd_m3)*EXP(-0.6728*(BX$3-$D64))*Gg_m3)))),0))","v":0},0,0,0,0,0,0,0,0,0]
[62,{"$f":"'CH4 from Abandoned Coal Mines'!D66","v":""},{"$f":"'CH4 from Abandoned Coal Mines'!H66","v":""},{"$f":"VALUE('CH4 from Abandoned Coal Mines'!J66)","v":{"$error":"#VALUE!"}},{"$f":"IF('CH4 from Abandoned Coal Mines'!N66>0,'CH4 from Abandoned Coal Mines'!N66,'CH4 from Abandoned Coal Mines'!L66)","v":""},{"$f":"'CH4 from Abandoned Coal Mines'!P66","v":0},{"$f":"'CH4 from Abandoned Coal Mines'!R66","v":0},{"$f":"VLOOKUP(B65,'Abandoned Data'!$O$3:$V$163,6,FALSE)","v":""},{"$f":"VLOOKUP(B65,'Abandoned Data'!$O$3:$V$163,7,FALSE)","v":""},{"$f":"VLOOKUP(B65,'Abandoned Data'!$O$3:$V$163,8,FALSE)","v":""},{"$error":"#VALUE!"},null,null,null,null,null,null,null,null,null,null,null,null,62,0,0,0,0,0,0,0,0,0,0,0,0,0,0,0,0,0,0,0,0,0,0,0,0,0,0,0,0,0,0,0,0,0,0,0,0,0,0,0,0,0,0,0,0,0,0,0,0,0,0,0,0,0,0,0,0,0,0,0,0,0]
[63,{"$f":"'CH4 from Abandoned Coal Mines'!D67","v":""},{"$f":"'CH4 from Abandoned Coal Mines'!H67","v":""},{"$f":"VALUE('CH4 from Abandoned Coal Mines'!J67)","v":{"$error":"#VALUE!"}},{"$f":"IF('CH4 from Abandoned Coal Mines'!N67>0,'CH4 from Abandoned Coal Mines'!N67,'CH4 from Abandoned Coal Mines'!L67)","v":""},{"$f":"'CH4 from Abandoned Coal Mines'!P67","v":0},{"$f":"'CH4 from Abandoned Coal Mines'!R67","v":0},{"$f":"VLOOKUP(B66,'Abandoned Data'!$O$3:$V$163,6,FALSE)","v":""},{"$f":"VLOOKUP(B66,'Abandoned Data'!$O$3:$V$163,7,FALSE)","v":""},{"$f":"VLOOKUP(B66,'Abandoned Data'!$O$3:$V$163,8,FALSE)","v":""},{"$error":"#VALUE!"},null,null,null,null,null,null,null,null,null,null,null,null,63,0,0,0,0,0,0,0,0,0,0,0,0,0,0,0,0,0,0,0,0,0,0,0,0,0,0,0,0,0,0,0,0,0,0,0,0,0,0,0,0,0,0,0,0,0,0,0,0,0,0,0,0,0,0,0,0,0,0,0,0,0]
[64,{"$f":"'CH4 from Abandoned Coal Mines'!D68","v":""},{"$f":"'CH4 from Abandoned Coal Mines'!H68","v":""},{"$f":"VALUE('CH4 from Abandoned Coal Mines'!J68)","v":{"$error":"#VALUE!"}},{"$f":"IF('CH4 from Abandoned Coal Mines'!N68>0,'CH4 from Abandoned Coal Mines'!N68,'CH4 from Abandoned Coal Mines'!L68)","v":""},{"$f":"'CH4 from Abandoned Coal Mines'!P68","v":0},{"$f":"'CH4 from Abandoned Coal Mines'!R68","v":0},{"$f":"VLOOKUP(B67,'Abandoned Data'!$O$3:$V$163,6,FALSE)","v":""},{"$f":"VLOOKUP(B67,'Abandoned Data'!$O$3:$V$163,7,FALSE)","v":""},{"$f":"VLOOKUP(B67,'Abandoned Data'!$O$3:$V$163,8,FALSE)","v":""},{"$error":"#VALUE!"},null,null,null,null,null,null,null,null,null,null,null,null,64,0,0,0,0,0,0,0,0,0,0,0,0,0,0,0,0,0,0,0,0,0,0,0,0,0,0,0,0,0,0,0,0,0,0,0,0,0,0,0,0,0,0,0,0,0,0,0,0,0,0,0,0,0,0,0,0,0,0,0,0,0]
[65,{"$f":"'CH4 from Abandoned Coal Mines'!D69","v":""},{"$f":"'CH4 from Abandoned Coal Mines'!H69","v":""},{"$f":"VALUE('CH4 from Abandoned Coal Mines'!J69)","v":{"$error":"#VALUE!"}},{"$f":"IF('CH4 from Abandoned Coal Mines'!N69>0,'CH4 from Abandoned Coal Mines'!N69,'CH4 from Abandoned Coal Mines'!L69)","v":""},{"$f":"'CH4 from Abandoned Coal Mines'!P69","v":0},{"$f":"'CH4 from Abandoned Coal Mines'!R69","v":0},{"$f":"VLOOKUP(B68,'Abandoned Data'!$O$3:$V$163,6,FALSE)","v":""},{"$f":"VLOOKUP(B68,'Abandoned Data'!$O$3:$V$163,7,FALSE)","v":""},{"$f":"VLOOKUP(B68,'Abandoned Data'!$O$3:$V$163,8,FALSE)","v":""},{"$error":"#VALUE!"},null,null,null,null,null,null,null,null,null,null,null,null,65,0,0,0,0,0,0,0,0,0,0,0,0,0,0,0,0,0,0,0,0,0,0,0,0,0,0,0,0,0,0,0,0,0,0,0,0,0,0,0,0,0,0,0,0,0,0,0,0,0,0,0,0,0,0,0,0,0,0,0,0,0]
[66,{"$f":"'CH4 from Abandoned Coal Mines'!D70","v":""},{"$f":"'CH4 from Abandoned Coal Mines'!H70","v":""},{"$f":"VALUE('CH4 from Abandoned Coal Mines'!J70)","v":{"$error":"#VALUE!"}},{"$f":"IF('CH4 from Abandoned Coal Mines'!N70>0,'CH4 from Abandoned Coal Mines'!N70,'CH4 from Abandoned Coal Mines'!L70)","v":""},{"$f":"'CH4 from Abandoned Coal Mines'!P70","v":0},{"$f":"'CH4 from Abandoned Coal Mines'!R70","v":0},{"$f":"VLOOKUP(B69,'Abandoned Data'!$O$3:$V$163,6,FALSE)","v":""},{"$f":"VLOOKUP(B69,'Abandoned Data'!$O$3:$V$163,7,FALSE)","v":""},{"$f":"VLOOKUP(B69,'Abandoned Data'!$O$3:$V$163,8,FALSE)","v":""},{"$error":"#VALUE!"},null,null,null,null,null,null,null,null,null,null,null,null,66,0,0,0,0,0,0,0,0,0,0,0,0,0,0,0,0,0,0,0,0,0,0,0,0,0,0,0,0,0,0,0,0,0,0,0,0,0,0,0,0,0,0,0,0,0,0,0,0,0,0,0,0,0,0,0,0,0,0,0,0,0]
[67,{"$f":"'CH4 from Abandoned Coal Mines'!D71","v":""},{"$f":"'CH4 from Abandoned Coal Mines'!H71","v":""},{"$f":"VALUE('CH4 from Abandoned Coal Mines'!J71)","v":{"$error":"#VALUE!"}},{"$f":"IF('CH4 from Abandoned Coal Mines'!N71>0,'CH4 from Abandoned Coal Mines'!N71,'CH4 from Abandoned Coal Mines'!L71)","v":""},{"$f":"'CH4 from Abandoned Coal Mines'!P71","v":0},{"$f":"'CH4 from Abandoned Coal Mines'!R71","v":0},{"$f":"VLOOKUP(B70,'Abandoned Data'!$O$3:$V$163,6,FALSE)","v":""},{"$f":"VLOOKUP(B70,'Abandoned Data'!$O$3:$V$163,7,FALSE)","v":""},{"$f":"VLOOKUP(B70,'Abandoned Data'!$O$3:$V$163,8,FALSE)","v":""},{"$error":"#VALUE!"},null,null,null,null,null,null,null,null,null,null,null,null,67,0,0,0,0,0,0,0,0,0,0,0,0,0,0,0,0,0,0,0,0,0,0,0,0,0,0,0,0,0,0,0,0,0,0,0,0,0,0,0,0,0,0,0,0,0,0,0,0,0,0,0,0,0,0,0,0,0,0,0,0,0]
[68,{"$f":"'CH4 from Abandoned Coal Mines'!D72","v":""},{"$f":"'CH4 from Abandoned Coal Mines'!H72","v":""},{"$f":"VALUE('CH4 from Abandoned Coal Mines'!J72)","v":{"$error":"#VALUE!"}},{"$f":"IF('CH4 from Abandoned Coal Mines'!N72>0,'CH4 from Abandoned Coal Mines'!N72,'CH4 from Abandoned Coal Mines'!L72)","v":""},{"$f":"'CH4 from Abandoned Coal Mines'!P72","v":0},{"$f":"'CH4 from Abandoned Coal Mines'!R72","v":0},{"$f":"VLOOKUP(B71,'Abandoned Data'!$O$3:$V$163,6,FALSE)","v":""},{"$f":"VLOOKUP(B71,'Abandoned Data'!$O$3:$V$163,7,FALSE)","v":""},{"$f":"VLOOKUP(B71,'Abandoned Data'!$O$3:$V$163,8,FALSE)","v":""},{"$error":"#VALUE!"},null,null,null,null,null,null,null,null,null,null,null,null,68,0,0,0,0,0,0,0,0,0,0,0,0,0,0,0,0,0,0,0,0,0,0,0,0,0,0,0,0,0,0,0,0,0,0,0,0,0,0,0,0,0,0,0,0,0,0,0,0,0,0,0,0,0,0,0,0,0,0,0,0,0]
[69,{"$f":"'CH4 from Abandoned Coal Mines'!D73","v":""},{"$f":"'CH4 from Abandoned Coal Mines'!H73","v":""},{"$f":"VALUE('CH4 from Abandoned Coal Mines'!J73)","v":{"$error":"#VALUE!"}},{"$f":"IF('CH4 from Abandoned Coal Mines'!N73>0,'CH4 from Abandoned Coal Mines'!N73,'CH4 from Abandoned Coal Mines'!L73)","v":""},{"$f":"'CH4 from Abandoned Coal Mines'!P73","v":0},{"$f":"'CH4 from Abandoned Coal Mines'!R73","v":0},{"$f":"VLOOKUP(B72,'Abandoned Data'!$O$3:$V$163,6,FALSE)","v":""},{"$f":"VLOOKUP(B72,'Abandoned Data'!$O$3:$V$163,7,FALSE)","v":""},{"$f":"VLOOKUP(B72,'Abandoned Data'!$O$3:$V$163,8,FALSE)","v":""},{"$error":"#VALUE!"},null,null,null,null,null,null,null,null,null,null,null,null,69,0,0,0,0,0,0,0,0,0,0,0,0,0,0,0,0,0,0,0,0,0,0,0,0,0,0,0,0,0,0,0,0,0,0,0,0,0,0,0,0,0,0,0,0,0,0,0,0,0,0,0,0,0,0,0,0,0,0,0,0,0]
[70,{"$f":"'CH4 from Abandoned Coal Mines'!D74","v":""},{"$f":"'CH4 from Abandoned Coal Mines'!H74","v":""},{"$f":"VALUE('CH4 from Abandoned Coal Mines'!J74)","v":{"$error":"#VALUE!"}},{"$f":"IF('CH4 from Abandoned Coal Mines'!N74>0,'CH4 from Abandoned Coal Mines'!N74,'CH4 from Abandoned Coal Mines'!L74)","v":""},{"$f":"'CH4 from Abandoned Coal Mines'!P74","v":0},{"$f":"'CH4 from Abandoned Coal Mines'!R74","v":0},{"$f":"VLOOKUP(B73,'Abandoned Data'!$O$3:$V$163,6,FALSE)","v":""},{"$f":"VLOOKUP(B73,'Abandoned Data'!$O$3:$V$163,7,FALSE)","v":""},{"$f":"VLOOKUP(B73,'Abandoned Data'!$O$3:$V$163,8,FALSE)","v":""},{"$error":"#VALUE!"},null,null,null,null,null,null,null,null,null,null,null,null,70,0,0,0,0,0,0,0,0,0,0,0,0,0,0,0,0,0,0,0,0,0,0,0,0,0,0,0,0,0,0,0,0,0,0,0,0,{"$f":"IF(ISERROR(IF($D73<BI$3,IF($E73=\"Venting\",(($H73*mmcfd_m3)*((1+$I73*(BI$3-$D73))^$J73)-$G73)*Gg_m3,IF($E73=\"Sealed\",((($H73*mmcfd_m3)*((1+$I73*(BI$3-$D73))^$J73)*(1-$F73)-$G73)*Gg_m3),IF($E73=\"Flooded\",(($H73*mmcfd_m3)*EXP(-0.6728*(BI$3-$D73))*Gg_m3),(($H73*mmcfd_m3)*((1+$I73*(BI$3-$D73))^$J73)-$G73)*Gg_m3+((($H73*mmcfd_m3)*((1+$I73*(BI$3-$D73))^$J73)*(1-0.8)-$G73)*Gg_m3)+(($H73*mmcfd_m3)*EXP(-0.6728*(BI$3-$D73))*Gg_m3)))),0)),0,IF($D73<BI$3,IF($E73=\"Venting\",(($H73*mmcfd_m3)*((1+$I73*(BI$3-$D73))^$J73)-$G73)*Gg_m3,IF($E73=\"Sealed\",((($H73*mmcfd_m3)*((1+$I73*(BI$3-$D73))^$J73)*(1-$F73)-$G73)*Gg_m3),IF($E73=\"Flooded\",(($H73*mmcfd_m3)*EXP(-0.6728*(BI$3-$D73))*Gg_m3),(($H73*mmcfd_m3)*((1+$I73*(BI$3-$D73))^$J73)-$G73)*Gg_m3+((($H73*mmcfd_m3)*((1+$I73*(BI$3-$D73))^$J73)*(1-0.8)-$G73)*Gg_m3)+(($H73*mmcfd_m3)*EXP(-0.6728*(BI$3-$D73))*Gg_m3)))),0))","v":0},0,0,0,0,0,0,0,0,0,0,0,0,0,0,0,0,0,0,0,0,0,0,0,0]
[71,{"$f":"'CH4 from Abandoned Coal Mines'!D75","v":""},{"$f":"'CH4 from Abandoned Coal Mines'!H75","v":""},{"$f":"VALUE('CH4 from Abandoned Coal Mines'!J75)","v":{"$error":"#VALUE!"}},{"$f":"IF('CH4 from Abandoned Coal Mines'!N75>0,'CH4 from Abandoned Coal Mines'!N75,'CH4 from Abandoned Coal Mines'!L75)","v":""},{"$f":"'CH4 from Abandoned Coal Mines'!P75","v":0},{"$f":"'CH4 from Abandoned Coal Mines'!R75","v":0},{"$f":"VLOOKUP(B74,'Abandoned Data'!$O$3:$V$163,6,FALSE)","v":""},{"$f":"VLOOKUP(B74,'Abandoned Data'!$O$3:$V$163,7,FALSE)","v":""},{"$f":"VLOOKUP(B74,'Abandoned Data'!$O$3:$V$163,8,FALSE)","v":""},{"$error":"#VALUE!"},null,null,null,null,null,null,null,null,null,null,null,null,71,{"$f":"IF(ISERROR(IF($D74<Y$3,IF($E74=\"Venting\",(($H74*mmcfd_m3)*((1+$I74*(Y$3-$D74))^$J74)-$G74)*Gg_m3,IF($E74=\"Sealed\",((($H74*mmcfd_m3)*((1+$I74*(Y$3-$D74))^$J74)*(1-$F74)-$G74)*Gg_m3),IF($E74=\"Flooded\",(($H74*mmcfd_m3)*EXP(-0.6728*(Y$3-$D74))*Gg_m3),(($H74*mmcfd_m3)*((1+$I74*(Y$3-$D74))^$J74)-$G74)*Gg_m3+((($H74*mmcfd_m3)*((1+$I74*(Y$3-$D74))^$J74)*(1-0.8)-$G74)*Gg_m3)+(($H74*mmcfd_m3)*EXP(-0.6728*(Y$3-$D74))*Gg_m3)))),0)),0,IF($D74<Y$3,IF($E74=\"Venting\",(($H74*mmcfd_m3)*((1+$I74*(Y$3-$D74))^$J74)-$G74)*Gg_m3,IF($E74=\"Sealed\",((($H74*mmcfd_m3)*((1+$I74*(Y$3-$D74))^$J74)*(1-$F74)-$G74)*Gg_m3),IF($E74=\"Flooded\",(($H74*mmcfd_m3)*EXP(-0.6728*(Y$3-$D74))*Gg_m3),(($H74*mmcfd_m3)*((1+$I74*(Y$3-$D74))^$J74)-$G74)*Gg_m3+((($H74*mmcfd_m3)*((1+$I74*(Y$3-$D74))^$J74)*(1-0.8)-$G74)*Gg_m3)+(($H74*mmcfd_m3)*EXP(-0.6728*(Y$3-$D74))*Gg_m3)))),0))","v":0},0,0,0,0,0,0,0,0,0,{"$f":"IF(ISERROR(IF($D74<AI$3,IF($E74=\"Venting\",(($H74*mmcfd_m3)*((1+$I74*(AI$3-$D74))^$J74)-$G74)*Gg_m3,IF($E74=\"Sealed\",((($H74*mmcfd_m3)*((1+$I74*(AI$3-$D74))^$J74)*(1-$F74)-$G74)*Gg_m3),IF($E74=\"Flooded\",(($H74*mmcfd_m3)*EXP(-0.6728*(AI$3-$D74))*Gg_m3),(($H74*mmcfd_m3)*((1+$I74*(AI$3-$D74))^$J74)-$G74)*Gg_m3+((($H74*mmcfd_m3)*((1+$I74*(AI$3-$D74))^$J74)*(1-0.8)-$G74)*Gg_m3)+(($H74*mmcfd_m3)*EXP(-0.6728*(AI$3-$D74))*Gg_m3)))),0)),0,IF($D74<AI$3,IF($E74=\"Venting\",(($H74*mmcfd_m3)*((1+$I74*(AI$3-$D74))^$J74)-$G74)*Gg_m3,IF($E74=\"Sealed\",((($H74*mmcfd_m3)*((1+$I74*(AI$3-$D74))^$J74)*(1-$F74)-$G74)*Gg_m3),IF($E74=\"Flooded\",(($H74*mmcfd_m3)*EXP(-0.6728*(AI$3-$D74))*Gg_m3),(($H74*mmcfd_m3)*((1+$I74*(AI$3-$D74))^$J74)-$G74)*Gg_m3+((($H74*mmcfd_m3)*((1+$I74*(AI$3-$D74))^$J74)*(1-0.8)-$G74)*Gg_m3)+(($H74*mmcfd_m3)*EXP(-0.6728*(AI$3-$D74))*Gg_m3)))),0))","v":0},0,0,0,0,0,0,0,0,0,{"$f":"IF(ISERROR(IF($D74<AS$3,IF($E74=\"Venting\",(($H74*mmcfd_m3)*((1+$I74*(AS$3-$D74))^$J74)-$G74)*Gg_m3,IF($E74=\"Sealed\",((($H74*mmcfd_m3)*((1+$I74*(AS$3-$D74))^$J74)*(1-$F74)-$G74)*Gg_m3),IF($E74=\"Flooded\",(($H74*mmcfd_m3)*EXP(-0.6728*(AS$3-$D74))*Gg_m3),(($H74*mmcfd_m3)*((1+$I74*(AS$3-$D74))^$J74)-$G74)*Gg_m3+((($H74*mmcfd_m3)*((1+$I74*(AS$3-$D74))^$J74)*(1-0.8)-$G74)*Gg_m3)+(($H74*mmcfd_m3)*EXP(-0.6728*(AS$3-$D74))*Gg_m3)))),0)),0,IF($D74<AS$3,IF($E74=\"Venting\",(($H74*mmcfd_m3)*((1+$I74*(AS$3-$D74))^$J74)-$G74)*Gg_m3,IF($E74=\"Sealed\",((($H74*mmcfd_m3)*((1+$I74*(AS$3-$D74))^$J74)*(1-$F74)-$G74)*Gg_m3),IF($E74=\"Flooded\",(($H74*mmcfd_m3)*EXP(-0.6728*(AS$3-$D74))*Gg_m3),(($H74*mmcfd_m3)*((1+$I74*(AS$3-$D74))^$J74)-$G74)*Gg_m3+((($H74*mmcfd_m3)*((1+$I74*(AS$3-$D74))^$J74)*(1-0.8)-$G74)*Gg_m3)+(($H74*mmcfd_m3)*EXP(-0.6728*(AS$3-$D74))*Gg_m3)))),0))","v":0},0,0,0,0,0,0,0,0,0,0,0,0,0,0,0,0,0,0,0,0,0,0,0,0,0,0,0,0,0,0,0,0,0,0,0,0,0,0,0,0]
[72,{"$f":"'CH4 from Abandoned Coal Mines'!D76","v":""},{"$f":"'CH4 from Abandoned Coal Mines'!H76","v":""},{"$f":"VALUE('CH4 from Abandoned Coal Mines'!J76)","v":{"$error":"#VALUE!"}},{"$f":"IF('CH4 from Abandoned Coal Mines'!N76>0,'CH4 from Abandoned Coal Mines'!N76,'CH4 from Abandoned Coal Mines'!L76)","v":""},{"$f":"'CH4 from Abandoned Coal Mines'!P76","v":0},{"$f":"'CH4 from Abandoned Coal Mines'!R76","v":0},{"$f":"VLOOKUP(B75,'Abandoned Data'!$O$3:$V$163,6,FALSE)","v":""},{"$f":"VLOOKUP(B75,'Abandoned Data'!$O$3:$V$163,7,FALSE)","v":""},{"$f":"VLOOKUP(B75,'Abandoned Data'!$O$3:$V$163,8,FALSE)","v":""},{"$error":"#VALUE!"},null,null,null,null,null,null,null,null,null,null,null,null,72,0,0,0,0,0,0,0,0,0,0,0,0,0,0,0,0,0,0,0,0,0,0,0,0,0,0,0,0,0,0,0,{"$f":"IF(ISERROR(IF($D75<BD$3,IF($E75=\"Venting\",(($H75*mmcfd_m3)*((1+$I75*(BD$3-$D75))^$J75)-$G75)*Gg_m3,IF($E75=\"Sealed\",((($H75*mmcfd_m3)*((1+$I75*(BD$3-$D75))^$J75)*(1-$F75)-$G75)*Gg_m3),IF($E75=\"Flooded\",(($H75*mmcfd_m3)*EXP(-0.6728*(BD$3-$D75))*Gg_m3),(($H75*mmcfd_m3)*((1+$I75*(BD$3-$D75))^$J75)-$G75)*Gg_m3+((($H75*mmcfd_m3)*((1+$I75*(BD$3-$D75))^$J75)*(1-0.8)-$G75)*Gg_m3)+(($H75*mmcfd_m3)*EXP(-0.6728*(BD$3-$D75))*Gg_m3)))),0)),0,IF($D75<BD$3,IF($E75=\"Venting\",(($H75*mmcfd_m3)*((1+$I75*(BD$3-$D75))^$J75)-$G75)*Gg_m3,IF($E75=\"Sealed\",((($H75*mmcfd_m3)*((1+$I75*(BD$3-$D75))^$J75)*(1-$F75)-$G75)*Gg_m3),IF($E75=\"Flooded\",(($H75*mmcfd_m3)*EXP(-0.6728*(BD$3-$D75))*Gg_m3),(($H75*mmcfd_m3)*((1+$I75*(BD$3-$D75))^$J75)-$G75)*Gg_m3+((($H75*mmcfd_m3)*((1+$I75*(BD$3-$D75))^$J75)*(1-0.8)-$G75)*Gg_m3)+(($H75*mmcfd_m3)*EXP(-0.6728*(BD$3-$D75))*Gg_m3)))),0))","v":0},0,0,0,0,0,0,0,0,0,0,0,0,0,0,0,0,0,0,0,0,0,0,0,0,0,0,0,0,0]
[73,{"$f":"'CH4 from Abandoned Coal Mines'!D77","v":""},{"$f":"'CH4 from Abandoned Coal Mines'!H77","v":""},{"$f":"VALUE('CH4 from Abandoned Coal Mines'!J77)","v":{"$error":"#VALUE!"}},{"$f":"IF('CH4 from Abandoned Coal Mines'!N77>0,'CH4 from Abandoned Coal Mines'!N77,'CH4 from Abandoned Coal Mines'!L77)","v":""},{"$f":"'CH4 from Abandoned Coal Mines'!P77","v":0},{"$f":"'CH4 from Abandoned Coal Mines'!R77","v":0},{"$f":"VLOOKUP(B76,'Abandoned Data'!$O$3:$V$163,6,FALSE)","v":""},{"$f":"VLOOKUP(B76,'Abandoned Data'!$O$3:$V$163,7,FALSE)","v":""},{"$f":"VLOOKUP(B76,'Abandoned Data'!$O$3:$V$163,8,FALSE)","v":""},{"$error":"#VALUE!"},null,null,null,null,null,null,null,null,null,null,null,null,73,0,0,0,0,0,0,0,0,0,0,0,0,0,0,0,0,0,0,0,0,0,0,0,0,0,0,0,0,0,0,0,0,0,0,0,0,0,0,0,0,0,0,0,0,0,0,0,0,0,0,0,0,0,0,0,0,0,0,0,0,0]
[74,{"$f":"'CH4 from Abandoned Coal Mines'!D78","v":""},{"$f":"'CH4 from Abandoned Coal Mines'!H78","v":""},{"$f":"VALUE('CH4 from Abandoned Coal Mines'!J78)","v":{"$error":"#VALUE!"}},{"$f":"IF('CH4 from Abandoned Coal Mines'!N78>0,'CH4 from Abandoned Coal Mines'!N78,'CH4 from Abandoned Coal Mines'!L78)","v":""},{"$f":"'CH4 from Abandoned Coal Mines'!P78","v":0},{"$f":"'CH4 from Abandoned Coal Mines'!R78","v":0},{"$f":"VLOOKUP(B77,'Abandoned Data'!$O$3:$V$163,6,FALSE)","v":""},{"$f":"VLOOKUP(B77,'Abandoned Data'!$O$3:$V$163,7,FALSE)","v":""},{"$f":"VLOOKUP(B77,'Abandoned Data'!$O$3:$V$163,8,FALSE)","v":""},{"$error":"#VALUE!"},null,null,null,null,null,null,null,null,null,null,null,null,74,0,0,0,0,0,0,0,0,0,0,0,0,0,0,0,0,0,0,0,0,0,0,0,0,0,0,0,0,0,0,0,0,0,0,0,0,0,0,0,0,0,0,0,0,0,0,0,0,0,0,0,0,0,0,0,0,0,0,0,0,0]
[75,{"$f":"'CH4 from Abandoned Coal Mines'!D79","v":""},{"$f":"'CH4 from Abandoned Coal Mines'!H79","v":""},{"$f":"VALUE('CH4 from Abandoned Coal Mines'!J79)","v":{"$error":"#VALUE!"}},{"$f":"IF('CH4 from Abandoned Coal Mines'!N79>0,'CH4 from Abandoned Coal Mines'!N79,'CH4 from Abandoned Coal Mines'!L79)","v":""},{"$f":"'CH4 from Abandoned Coal Mines'!P79","v":0},{"$f":"'CH4 from Abandoned Coal Mines'!R79","v":0},{"$f":"VLOOKUP(B78,'Abandoned Data'!$O$3:$V$163,6,FALSE)","v":""},{"$f":"VLOOKUP(B78,'Abandoned Data'!$O$3:$V$163,7,FALSE)","v":""},{"$f":"VLOOKUP(B78,'Abandoned Data'!$O$3:$V$163,8,FALSE)","v":""},{"$error":"#VALUE!"},null,null,null,null,null,null,null,null,null,null,null,null,75,0,0,0,0,0,0,0,0,0,0,0,0,0,0,0,0,0,0,0,0,0,0,0,0,0,0,0,0,0,0,0,0,0,0,0,0,0,0,0,0,0,0,0,0,0,0,0,0,0,0,0,0,0,0,0,0,0,0,0,0,0]
[76,{"$f":"'CH4 from Abandoned Coal Mines'!D80","v":""},{"$f":"'CH4 from Abandoned Coal Mines'!H80","v":""},{"$f":"VALUE('CH4 from Abandoned Coal Mines'!J80)","v":{"$error":"#VALUE!"}},{"$f":"IF('CH4 from Abandoned Coal Mines'!N80>0,'CH4 from Abandoned Coal Mines'!N80,'CH4 from Abandoned Coal Mines'!L80)","v":""},{"$f":"'CH4 from Abandoned Coal Mines'!P80","v":0},{"$f":"'CH4 from Abandoned Coal Mines'!R80","v":0},{"$f":"VLOOKUP(B79,'Abandoned Data'!$O$3:$V$163,6,FALSE)","v":""},{"$f":"VLOOKUP(B79,'Abandoned Data'!$O$3:$V$163,7,FALSE)","v":""},{"$f":"VLOOKUP(B79,'Abandoned Data'!$O$3:$V$163,8,FALSE)","v":""},{"$error":"#VALUE!"},null,null,null,null,null,null,null,null,null,null,null,null,76,0,0,0,0,0,0,0,0,0,0,0,0,0,0,0,0,0,0,0,0,0,0,0,0,0,0,0,0,0,0,0,0,0,0,0,0,0,0,0,0,0,0,0,0,0,0,0,0,0,0,0,0,0,0,0,0,0,0,0,0,0]
[77,{"$f":"'CH4 from Abandoned Coal Mines'!D81","v":""},{"$f":"'CH4 from Abandoned Coal Mines'!H81","v":""},{"$f":"VALUE('CH4 from Abandoned Coal Mines'!J81)","v":{"$error":"#VALUE!"}},{"$f":"IF('CH4 from Abandoned Coal Mines'!N81>0,'CH4 from Abandoned Coal Mines'!N81,'CH4 from Abandoned Coal Mines'!L81)","v":""},{"$f":"'CH4 from Abandoned Coal Mines'!P81","v":0},{"$f":"'CH4 from Abandoned Coal Mines'!R81","v":0},{"$f":"VLOOKUP(B80,'Abandoned Data'!$O$3:$V$163,6,FALSE)","v":""},{"$f":"VLOOKUP(B80,'Abandoned Data'!$O$3:$V$163,7,FALSE)","v":""},{"$f":"VLOOKUP(B80,'Abandoned Data'!$O$3:$V$163,8,FALSE)","v":""},{"$error":"#VALUE!"},null,null,null,null,null,null,null,null,null,null,null,null,77,0,0,0,0,0,0,0,0,0,0,0,0,0,0,0,0,0,0,0,0,0,0,0,0,0,0,0,0,0,0,0,0,0,0,0,0,0,0,0,0,0,0,0,0,0,0,0,0,0,0,0,0,0,0,0,0,0,0,0,0,0]
[78,{"$f":"'CH4 from Abandoned Coal Mines'!D82","v":""},{"$f":"'CH4 from Abandoned Coal Mines'!H82","v":""},{"$f":"VALUE('CH4 from Abandoned Coal Mines'!J82)","v":{"$error":"#VALUE!"}},{"$f":"IF('CH4 from Abandoned Coal Mines'!N82>0,'CH4 from Abandoned Coal Mines'!N82,'CH4 from Abandoned Coal Mines'!L82)","v":""},{"$f":"'CH4 from Abandoned Coal Mines'!P82","v":0},{"$f":"'CH4 from Abandoned Coal Mines'!R82","v":0},{"$f":"VLOOKUP(B81,'Abandoned Data'!$O$3:$V$163,6,FALSE)","v":""},{"$f":"VLOOKUP(B81,'Abandoned Data'!$O$3:$V$163,7,FALSE)","v":""},{"$f":"VLOOKUP(B81,'Abandoned Data'!$O$3:$V$163,8,FALSE)","v":""},{"$error":"#VALUE!"},null,null,null,null,null,null,null,null,null,null,null,null,78,0,0,0,0,0,0,0,0,0,0,0,0,0,0,0,0,0,0,0,0,0,0,0,0,0,0,0,0,0,0,0,0,0,0,0,0,0,0,0,0,0,0,0,0,0,0,0,0,0,0,0,0,0,0,0,0,0,0,0,0,0]
[79,{"$f":"'CH4 from Abandoned Coal Mines'!D83","v":""},{"$f":"'CH4 from Abandoned Coal Mines'!H83","v":""},{"$f":"VALUE('CH4 from Abandoned Coal Mines'!J83)","v":{"$error":"#VALUE!"}},{"$f":"IF('CH4 from Abandoned Coal Mines'!N83>0,'CH4 from Abandoned Coal Mines'!N83,'CH4 from Abandoned Coal Mines'!L83)","v":""},{"$f":"'CH4 from Abandoned Coal Mines'!P83","v":0},{"$f":"'CH4 from Abandoned Coal Mines'!R83","v":0},{"$f":"VLOOKUP(B82,'Abandoned Data'!$O$3:$V$163,6,FALSE)","v":""},{"$f":"VLOOKUP(B82,'Abandoned Data'!$O$3:$V$163,7,FALSE)","v":""},{"$f":"VLOOKUP(B82,'Abandoned Data'!$O$3:$V$163,8,FALSE)","v":""},{"$error":"#VALUE!"},null,null,null,null,null,null,null,null,null,null,null,null,79,0,0,0,0,0,0,0,0,0,0,0,0,0,0,0,0,0,0,0,0,0,0,0,0,0,0,0,0,0,0,0,0,0,0,0,0,0,0,0,0,0,0,0,0,0,0,0,0,0,0,0,0,0,0,0,0,0,0,0,0,0]
[80,{"$f":"'CH4 from Abandoned Coal Mines'!D84","v":""},{"$f":"'CH4 from Abandoned Coal Mines'!H84","v":""},{"$f":"VALUE('CH4 from Abandoned Coal Mines'!J84)","v":{"$error":"#VALUE!"}},{"$f":"IF('CH4 from Abandoned Coal Mines'!N84>0,'CH4 from Abandoned Coal Mines'!N84,'CH4 from Abandoned Coal Mines'!L84)","v":""},{"$f":"'CH4 from Abandoned Coal Mines'!P84","v":0},{"$f":"'CH4 from Abandoned Coal Mines'!R84","v":0},{"$f":"VLOOKUP(B83,'Abandoned Data'!$O$3:$V$163,6,FALSE)","v":""},{"$f":"VLOOKUP(B83,'Abandoned Data'!$O$3:$V$163,7,FALSE)","v":""},{"$f":"VLOOKUP(B83,'Abandoned Data'!$O$3:$V$163,8,FALSE)","v":""},{"$error":"#VALUE!"},null,null,null,null,null,null,null,null,null,null,null,null,80,0,0,0,0,0,0,0,0,0,0,0,0,0,0,0,0,0,0,0,0,0,0,0,0,0,0,0,0,0,0,0,0,0,0,0,0,0,0,0,0,0,0,0,0,0,0,{"$f":"IF(ISERROR(IF($D83<BS$3,IF($E83=\"Venting\",(($H83*mmcfd_m3)*((1+$I83*(BS$3-$D83))^$J83)-$G83)*Gg_m3,IF($E83=\"Sealed\",((($H83*mmcfd_m3)*((1+$I83*(BS$3-$D83))^$J83)*(1-$F83)-$G83)*Gg_m3),IF($E83=\"Flooded\",(($H83*mmcfd_m3)*EXP(-0.6728*(BS$3-$D83))*Gg_m3),(($H83*mmcfd_m3)*((1+$I83*(BS$3-$D83))^$J83)-$G83)*Gg_m3+((($H83*mmcfd_m3)*((1+$I83*(BS$3-$D83))^$J83)*(1-0.8)-$G83)*Gg_m3)+(($H83*mmcfd_m3)*EXP(-0.6728*(BS$3-$D83))*Gg_m3)))),0)),0,IF($D83<BS$3,IF($E83=\"Venting\",(($H83*mmcfd_m3)*((1+$I83*(BS$3-$D83))^$J83)-$G83)*Gg_m3,IF($E83=\"Sealed\",((($H83*mmcfd_m3)*((1+$I83*(BS$3-$D83))^$J83)*(1-$F83)-$G83)*Gg_m3),IF($E83=\"Flooded\",(($H83*mmcfd_m3)*EXP(-0.6728*(BS$3-$D83))*Gg_m3),(($H83*mmcfd_m3)*((1+$I83*(BS$3-$D83))^$J83)-$G83)*Gg_m3+((($H83*mmcfd_m3)*((1+$I83*(BS$3-$D83))^$J83)*(1-0.8)-$G83)*Gg_m3)+(($H83*mmcfd_m3)*EXP(-0.6728*(BS$3-$D83))*Gg_m3)))),0))","v":0},0,0,0,0,0,0,0,0,0,0,0,0,0,0]
[81,{"$f":"'CH4 from Abandoned Coal Mines'!D85","v":""},{"$f":"'CH4 from Abandoned Coal Mines'!H85","v":""},{"$f":"VALUE('CH4 from Abandoned Coal Mines'!J85)","v":{"$error":"#VALUE!"}},{"$f":"IF('CH4 from Abandoned Coal Mines'!N85>0,'CH4 from Abandoned Coal Mines'!N85,'CH4 from Abandoned Coal Mines'!L85)","v":""},{"$f":"'CH4 from Abandoned Coal Mines'!P85","v":0},{"$f":"'CH4 from Abandoned Coal Mines'!R85","v":0},{"$f":"VLOOKUP(B84,'Abandoned Data'!$O$3:$V$163,6,FALSE)","v":""},{"$f":"VLOOKUP(B84,'Abandoned Data'!$O$3:$V$163,7,FALSE)","v":""},{"$f":"VLOOKUP(B84,'Abandoned Data'!$O$3:$V$163,8,FALSE)","v":""},{"$error":"#VALUE!"},null,null,null,null,null,null,null,null,null,null,null,null,81,{"$f":"IF(ISERROR(IF($D84<Y$3,IF($E84=\"Venting\",(($H84*mmcfd_m3)*((1+$I84*(Y$3-$D84))^$J84)-$G84)*Gg_m3,IF($E84=\"Sealed\",((($H84*mmcfd_m3)*((1+$I84*(Y$3-$D84))^$J84)*(1-$F84)-$G84)*Gg_m3),IF($E84=\"Flooded\",(($H84*mmcfd_m3)*EXP(-0.6728*(Y$3-$D84))*Gg_m3),(($H84*mmcfd_m3)*((1+$I84*(Y$3-$D84))^$J84)-$G84)*Gg_m3+((($H84*mmcfd_m3)*((1+$I84*(Y$3-$D84))^$J84)*(1-0.8)-$G84)*Gg_m3)+(($H84*mmcfd_m3)*EXP(-0.6728*(Y$3-$D84))*Gg_m3)))),0)),0,IF($D84<Y$3,IF($E84=\"Venting\",(($H84*mmcfd_m3)*((1+$I84*(Y$3-$D84))^$J84)-$G84)*Gg_m3,IF($E84=\"Sealed\",((($H84*mmcfd_m3)*((1+$I84*(Y$3-$D84))^$J84)*(1-$F84)-$G84)*Gg_m3),IF($E84=\"Flooded\",(($H84*mmcfd_m3)*EXP(-0.6728*(Y$3-$D84))*Gg_m3),(($H84*mmcfd_m3)*((1+$I84*(Y$3-$D84))^$J84)-$G84)*Gg_m3+((($H84*mmcfd_m3)*((1+$I84*(Y$3-$D84))^$J84)*(1-0.8)-$G84)*Gg_m3)+(($H84*mmcfd_m3)*EXP(-0.6728*(Y$3-$D84))*Gg_m3)))),0))","v":0},0,0,0,0,0,0,0,0,0,{"$f":"IF(ISERROR(IF($D84<AI$3,IF($E84=\"Venting\",(($H84*mmcfd_m3)*((1+$I84*(AI$3-$D84))^$J84)-$G84)*Gg_m3,IF($E84=\"Sealed\",((($H84*mmcfd_m3)*((1+$I84*(AI$3-$D84))^$J84)*(1-$F84)-$G84)*Gg_m3),IF($E84=\"Flooded\",(($H84*mmcfd_m3)*EXP(-0.6728*(AI$3-$D84))*Gg_m3),(($H84*mmcfd_m3)*((1+$I84*(AI$3-$D84))^$J84)-$G84)*Gg_m3+((($H84*mmcfd_m3)*((1+$I84*(AI$3-$D84))^$J84)*(1-0.8)-$G84)*Gg_m3)+(($H84*mmcfd_m3)*EXP(-0.6728*(AI$3-$D84))*Gg_m3)))),0)),0,IF($D84<AI$3,IF($E84=\"Venting\",(($H84*mmcfd_m3)*((1+$I84*(AI$3-$D84))^$J84)-$G84)*Gg_m3,IF($E84=\"Sealed\",((($H84*mmcfd_m3)*((1+$I84*(AI$3-$D84))^$J84)*(1-$F84)-$G84)*Gg_m3),IF($E84=\"Flooded\",(($H84*mmcfd_m3)*EXP(-0.6728*(AI$3-$D84))*Gg_m3),(($H84*mmcfd_m3)*((1+$I84*(AI$3-$D84))^$J84)-$G84)*Gg_m3+((($H84*mmcfd_m3)*((1+$I84*(AI$3-$D84))^$J84)*(1-0.8)-$G84)*Gg_m3)+(($H84*mmcfd_m3)*EXP(-0.6728*(AI$3-$D84))*Gg_m3)))),0))","v":0},0,0,0,0,0,0,0,0,0,{"$f":"IF(ISERROR(IF($D84<AS$3,IF($E84=\"Venting\",(($H84*mmcfd_m3)*((1+$I84*(AS$3-$D84))^$J84)-$G84)*Gg_m3,IF($E84=\"Sealed\",((($H84*mmcfd_m3)*((1+$I84*(AS$3-$D84))^$J84)*(1-$F84)-$G84)*Gg_m3),IF($E84=\"Flooded\",(($H84*mmcfd_m3)*EXP(-0.6728*(AS$3-$D84))*Gg_m3),(($H84*mmcfd_m3)*((1+$I84*(AS$3-$D84))^$J84)-$G84)*Gg_m3+((($H84*mmcfd_m3)*((1+$I84*(AS$3-$D84))^$J84)*(1-0.8)-$G84)*Gg_m3)+(($H84*mmcfd_m3)*EXP(-0.6728*(AS$3-$D84))*Gg_m3)))),0)),0,IF($D84<AS$3,IF($E84=\"Venting\",(($H84*mmcfd_m3)*((1+$I84*(AS$3-$D84))^$J84)-$G84)*Gg_m3,IF($E84=\"Sealed\",((($H84*mmcfd_m3)*((1+$I84*(AS$3-$D84))^$J84)*(1-$F84)-$G84)*Gg_m3),IF($E84=\"Flooded\",(($H84*mmcfd_m3)*EXP(-0.6728*(AS$3-$D84))*Gg_m3),(($H84*mmcfd_m3)*((1+$I84*(AS$3-$D84))^$J84)-$G84)*Gg_m3+((($H84*mmcfd_m3)*((1+$I84*(AS$3-$D84))^$J84)*(1-0.8)-$G84)*Gg_m3)+(($H84*mmcfd_m3)*EXP(-0.6728*(AS$3-$D84))*Gg_m3)))),0))","v":0},0,0,0,0,0,0,0,0,0,0,0,0,0,0,0,{"$f":"IF(ISERROR(IF($D84<BI$3,IF($E84=\"Venting\",(($H84*mmcfd_m3)*((1+$I84*(BI$3-$D84))^$J84)-$G84)*Gg_m3,IF($E84=\"Sealed\",((($H84*mmcfd_m3)*((1+$I84*(BI$3-$D84))^$J84)*(1-$F84)-$G84)*Gg_m3),IF($E84=\"Flooded\",(($H84*mmcfd_m3)*EXP(-0.6728*(BI$3-$D84))*Gg_m3),(($H84*mmcfd_m3)*((1+$I84*(BI$3-$D84))^$J84)-$G84)*Gg_m3+((($H84*mmcfd_m3)*((1+$I84*(BI$3-$D84))^$J84)*(1-0.8)-$G84)*Gg_m3)+(($H84*mmcfd_m3)*EXP(-0.6728*(BI$3-$D84))*Gg_m3)))),0)),0,IF($D84<BI$3,IF($E84=\"Venting\",(($H84*mmcfd_m3)*((1+$I84*(BI$3-$D84))^$J84)-$G84)*Gg_m3,IF($E84=\"Sealed\",((($H84*mmcfd_m3)*((1+$I84*(BI$3-$D84))^$J84)*(1-$F84)-$G84)*Gg_m3),IF($E84=\"Flooded\",(($H84*mmcfd_m3)*EXP(-0.6728*(BI$3-$D84))*Gg_m3),(($H84*mmcfd_m3)*((1+$I84*(BI$3-$D84))^$J84)-$G84)*Gg_m3+((($H84*mmcfd_m3)*((1+$I84*(BI$3-$D84))^$J84)*(1-0.8)-$G84)*Gg_m3)+(($H84*mmcfd_m3)*EXP(-0.6728*(BI$3-$D84))*Gg_m3)))),0))","v":0},0,0,0,0,0,0,0,0,0,0,0,0,0,0,0,0,0,0,0,0,0,0,0,0]
[82,{"$f":"'CH4 from Abandoned Coal Mines'!D86","v":""},{"$f":"'CH4 from Abandoned Coal Mines'!H86","v":""},{"$f":"VALUE('CH4 from Abandoned Coal Mines'!J86)","v":{"$error":"#VALUE!"}},{"$f":"IF('CH4 from Abandoned Coal Mines'!N86>0,'CH4 from Abandoned Coal Mines'!N86,'CH4 from Abandoned Coal Mines'!L86)","v":""},{"$f":"'CH4 from Abandoned Coal Mines'!P86","v":0},{"$f":"'CH4 from Abandoned Coal Mines'!R86","v":0},{"$f":"VLOOKUP(B85,'Abandoned Data'!$O$3:$V$163,6,FALSE)","v":""},{"$f":"VLOOKUP(B85,'Abandoned Data'!$O$3:$V$163,7,FALSE)","v":""},{"$f":"VLOOKUP(B85,'Abandoned Data'!$O$3:$V$163,8,FALSE)","v":""},{"$error":"#VALUE!"},null,null,null,null,null,null,null,null,null,null,null,null,82,0,0,0,0,0,0,0,0,0,0,0,0,0,0,0,0,0,0,0,0,0,0,0,0,0,0,0,0,0,0,0,0,0,0,0,0,0,0,0,0,0,0,0,0,0,0,0,0,0,0,0,0,0,0,0,0,0,0,0,0,0]
[83,{"$f":"'CH4 from Abandoned Coal Mines'!D87","v":""},{"$f":"'CH4 from Abandoned Coal Mines'!H87","v":""},{"$f":"VALUE('CH4 from Abandoned Coal Mines'!J87)","v":{"$error":"#VALUE!"}},{"$f":"IF('CH4 from Abandoned Coal Mines'!N87>0,'CH4 from Abandoned Coal Mines'!N87,'CH4 from Abandoned Coal Mines'!L87)","v":""},{"$f":"'CH4 from Abandoned Coal Mines'!P87","v":0},{"$f":"'CH4 from Abandoned Coal Mines'!R87","v":0},{"$f":"VLOOKUP(B86,'Abandoned Data'!$O$3:$V$163,6,FALSE)","v":""},{"$f":"VLOOKUP(B86,'Abandoned Data'!$O$3:$V$163,7,FALSE)","v":""},{"$f":"VLOOKUP(B86,'Abandoned Data'!$O$3:$V$163,8,FALSE)","v":""},{"$error":"#VALUE!"},null,null,null,null,null,null,null,null,null,null,null,null,83,0,0,0,0,0,0,0,0,0,0,0,0,0,0,0,0,0,0,0,0,0,0,0,0,0,0,0,0,0,0,0,0,0,0,0,0,0,0,0,0,0,0,0,0,0,0,0,0,0,0,0,0,0,0,0,0,0,0,0,0,0]
[84,{"$f":"'CH4 from Abandoned Coal Mines'!D88","v":""},{"$f":"'CH4 from Abandoned Coal Mines'!H88","v":""},{"$f":"VALUE('CH4 from Abandoned Coal Mines'!J88)","v":{"$error":"#VALUE!"}},{"$f":"IF('CH4 from Abandoned Coal Mines'!N88>0,'CH4 from Abandoned Coal Mines'!N88,'CH4 from Abandoned Coal Mines'!L88)","v":""},{"$f":"'CH4 from Abandoned Coal Mines'!P88","v":0},{"$f":"'CH4 from Abandoned Coal Mines'!R88","v":0},{"$f":"VLOOKUP(B87,'Abandoned Data'!$O$3:$V$163,6,FALSE)","v":""},{"$f":"VLOOKUP(B87,'Abandoned Data'!$O$3:$V$163,7,FALSE)","v":""},{"$f":"VLOOKUP(B87,'Abandoned Data'!$O$3:$V$163,8,FALSE)","v":""},{"$error":"#VALUE!"},null,null,null,null,null,null,null,null,null,null,null,null,84,0,0,0,0,0,0,0,0,0,0,0,0,0,0,0,0,0,0,0,0,0,0,0,0,0,0,0,0,0,0,0,0,0,0,0,0,0,0,0,0,0,0,0,0,0,0,0,0,0,0,0,0,0,0,0,0,0,0,0,0,0]
[85,{"$f":"'CH4 from Abandoned Coal Mines'!D89","v":""},{"$f":"'CH4 from Abandoned Coal Mines'!H89","v":""},{"$f":"VALUE('CH4 from Abandoned Coal Mines'!J89)","v":{"$error":"#VALUE!"}},{"$f":"IF('CH4 from Abandoned Coal Mines'!N89>0,'CH4 from Abandoned Coal Mines'!N89,'CH4 from Abandoned Coal Mines'!L89)","v":""},{"$f":"'CH4 from Abandoned Coal Mines'!P89","v":0},{"$f":"'CH4 from Abandoned Coal Mines'!R89","v":0},{"$f":"VLOOKUP(B88,'Abandoned Data'!$O$3:$V$163,6,FALSE)","v":""},{"$f":"VLOOKUP(B88,'Abandoned Data'!$O$3:$V$163,7,FALSE)","v":""},{"$f":"VLOOKUP(B88,'Abandoned Data'!$O$3:$V$163,8,FALSE)","v":""},{"$error":"#VALUE!"},null,null,null,null,null,null,null,null,null,null,null,null,85,0,0,0,0,0,0,0,0,0,0,0,0,0,0,0,0,0,0,0,0,0,0,0,0,0,0,0,0,0,0,0,0,0,0,0,0,0,0,0,0,0,0,0,0,0,0,0,0,0,0,0,0,0,0,0,0,0,0,0,0,0]
[86,{"$f":"'CH4 from Abandoned Coal Mines'!D90","v":""},{"$f":"'CH4 from Abandoned Coal Mines'!H90","v":""},{"$f":"VALUE('CH4 from Abandoned Coal Mines'!J90)","v":{"$error":"#VALUE!"}},{"$f":"IF('CH4 from Abandoned Coal Mines'!N90>0,'CH4 from Abandoned Coal Mines'!N90,'CH4 from Abandoned Coal Mines'!L90)","v":""},{"$f":"'CH4 from Abandoned Coal Mines'!P90","v":0},{"$f":"'CH4 from Abandoned Coal Mines'!R90","v":0},{"$f":"VLOOKUP(B89,'Abandoned Data'!$O$3:$V$163,6,FALSE)","v":""},{"$f":"VLOOKUP(B89,'Abandoned Data'!$O$3:$V$163,7,FALSE)","v":""},{"$f":"VLOOKUP(B89,'Abandoned Data'!$O$3:$V$163,8,FALSE)","v":""},{"$error":"#VALUE!"},null,null,null,null,null,null,null,null,null,null,null,null,86,0,0,0,0,0,0,0,0,0,0,0,0,0,0,0,0,0,0,0,0,0,0,0,0,0,0,0,0,0,0,0,0,0,0,0,0,0,0,0,0,0,0,0,0,0,0,0,0,0,0,0,0,0,0,0,0,0,0,0,0,0]
[87,{"$f":"'CH4 from Abandoned Coal Mines'!D91","v":""},{"$f":"'CH4 from Abandoned Coal Mines'!H91","v":""},{"$f":"VALUE('CH4 from Abandoned Coal Mines'!J91)","v":{"$error":"#VALUE!"}},{"$f":"IF('CH4 from Abandoned Coal Mines'!N91>0,'CH4 from Abandoned Coal Mines'!N91,'CH4 from Abandoned Coal Mines'!L91)","v":""},{"$f":"'CH4 from Abandoned Coal Mines'!P91","v":0},{"$f":"'CH4 from Abandoned Coal Mines'!R91","v":0},{"$f":"VLOOKUP(B90,'Abandoned Data'!$O$3:$V$163,6,FALSE)","v":""},{"$f":"VLOOKUP(B90,'Abandoned Data'!$O$3:$V$163,7,FALSE)","v":""},{"$f":"VLOOKUP(B90,'Abandoned Data'!$O$3:$V$163,8,FALSE)","v":""},{"$error":"#VALUE!"},null,null,null,null,null,null,null,null,null,null,null,null,87,0,0,0,0,0,0,0,0,0,0,0,0,0,0,0,0,0,0,0,0,0,0,0,0,0,0,0,0,0,0,0,0,0,0,0,0,0,0,0,0,0,0,0,0,0,0,0,0,0,0,0,0,0,0,0,0,0,0,0,0,0]
[88,{"$f":"'CH4 from Abandoned Coal Mines'!D92","v":""},{"$f":"'CH4 from Abandoned Coal Mines'!H92","v":""},{"$f":"VALUE('CH4 from Abandoned Coal Mines'!J92)","v":{"$error":"#VALUE!"}},{"$f":"IF('CH4 from Abandoned Coal Mines'!N92>0,'CH4 from Abandoned Coal Mines'!N92,'CH4 from Abandoned Coal Mines'!L92)","v":""},{"$f":"'CH4 from Abandoned Coal Mines'!P92","v":0},{"$f":"'CH4 from Abandoned Coal Mines'!R92","v":0},{"$f":"VLOOKUP(B91,'Abandoned Data'!$O$3:$V$163,6,FALSE)","v":""},{"$f":"VLOOKUP(B91,'Abandoned Data'!$O$3:$V$163,7,FALSE)","v":""},{"$f":"VLOOKUP(B91,'Abandoned Data'!$O$3:$V$163,8,FALSE)","v":""},{"$error":"#VALUE!"},null,null,null,null,null,null,null,null,null,null,null,null,88,0,0,0,0,0,0,0,0,0,0,0,0,0,0,0,0,0,0,0,0,0,0,0,0,0,0,0,0,0,0,0,0,0,0,0,0,0,0,0,0,0,0,0,0,0,0,0,0,0,0,0,0,0,0,0,0,0,0,0,0,0]
[89,{"$f":"'CH4 from Abandoned Coal Mines'!D93","v":""},{"$f":"'CH4 from Abandoned Coal Mines'!H93","v":""},{"$f":"VALUE('CH4 from Abandoned Coal Mines'!J93)","v":{"$error":"#VALUE!"}},{"$f":"IF('CH4 from Abandoned Coal Mines'!N93>0,'CH4 from Abandoned Coal Mines'!N93,'CH4 from Abandoned Coal Mines'!L93)","v":""},{"$f":"'CH4 from Abandoned Coal Mines'!P93","v":0},{"$f":"'CH4 from Abandoned Coal Mines'!R93","v":0},{"$f":"VLOOKUP(B92,'Abandoned Data'!$O$3:$V$163,6,FALSE)","v":""},{"$f":"VLOOKUP(B92,'Abandoned Data'!$O$3:$V$163,7,FALSE)","v":""},{"$f":"VLOOKUP(B92,'Abandoned Data'!$O$3:$V$163,8,FALSE)","v":""},{"$error":"#VALUE!"},null,null,null,null,null,null,null,null,null,null,null,null,89,0,0,0,0,0,0,0,0,0,0,0,0,0,0,0,0,0,0,0,0,0,0,0,0,0,0,0,0,0,0,0,0,0,0,0,0,0,0,0,0,0,0,0,0,0,0,0,0,0,0,0,{"$f":"IF(ISERROR(IF($D92<BX$3,IF($E92=\"Venting\",(($H92*mmcfd_m3)*((1+$I92*(BX$3-$D92))^$J92)-$G92)*Gg_m3,IF($E92=\"Sealed\",((($H92*mmcfd_m3)*((1+$I92*(BX$3-$D92))^$J92)*(1-$F92)-$G92)*Gg_m3),IF($E92=\"Flooded\",(($H92*mmcfd_m3)*EXP(-0.6728*(BX$3-$D92))*Gg_m3),(($H92*mmcfd_m3)*((1+$I92*(BX$3-$D92))^$J92)-$G92)*Gg_m3+((($H92*mmcfd_m3)*((1+$I92*(BX$3-$D92))^$J92)*(1-0.8)-$G92)*Gg_m3)+(($H92*mmcfd_m3)*EXP(-0.6728*(BX$3-$D92))*Gg_m3)))),0)),0,IF($D92<BX$3,IF($E92=\"Venting\",(($H92*mmcfd_m3)*((1+$I92*(BX$3-$D92))^$J92)-$G92)*Gg_m3,IF($E92=\"Sealed\",((($H92*mmcfd_m3)*((1+$I92*(BX$3-$D92))^$J92)*(1-$F92)-$G92)*Gg_m3),IF($E92=\"Flooded\",(($H92*mmcfd_m3)*EXP(-0.6728*(BX$3-$D92))*Gg_m3),(($H92*mmcfd_m3)*((1+$I92*(BX$3-$D92))^$J92)-$G92)*Gg_m3+((($H92*mmcfd_m3)*((1+$I92*(BX$3-$D92))^$J92)*(1-0.8)-$G92)*Gg_m3)+(($H92*mmcfd_m3)*EXP(-0.6728*(BX$3-$D92))*Gg_m3)))),0))","v":0},0,0,0,0,0,0,0,0,0]
[90,{"$f":"'CH4 from Abandoned Coal Mines'!D94","v":""},{"$f":"'CH4 from Abandoned Coal Mines'!H94","v":""},{"$f":"VALUE('CH4 from Abandoned Coal Mines'!J94)","v":{"$error":"#VALUE!"}},{"$f":"IF('CH4 from Abandoned Coal Mines'!N94>0,'CH4 from Abandoned Coal Mines'!N94,'CH4 from Abandoned Coal Mines'!L94)","v":""},{"$f":"'CH4 from Abandoned Coal Mines'!P94","v":0},{"$f":"'CH4 from Abandoned Coal Mines'!R94","v":0},{"$f":"VLOOKUP(B93,'Abandoned Data'!$O$3:$V$163,6,FALSE)","v":""},{"$f":"VLOOKUP(B93,'Abandoned Data'!$O$3:$V$163,7,FALSE)","v":""},{"$f":"VLOOKUP(B93,'Abandoned Data'!$O$3:$V$163,8,FALSE)","v":""},{"$error":"#VALUE!"},null,null,null,null,null,null,null,null,null,null,null,null,90,0,0,0,0,0,0,0,0,0,0,0,0,0,0,0,0,0,0,0,0,0,0,0,0,0,0,0,0,0,0,0,0,0,0,0,0,0,0,0,0,0,0,0,0,0,0,0,0,0,0,0,0,0,0,0,0,0,0,0,0,0]
[91,{"$f":"'CH4 from Abandoned Coal Mines'!D95","v":""},{"$f":"'CH4 from Abandoned Coal Mines'!H95","v":""},{"$f":"VALUE('CH4 from Abandoned Coal Mines'!J95)","v":{"$error":"#VALUE!"}},{"$f":"IF('CH4 from Abandoned Coal Mines'!N95>0,'CH4 from Abandoned Coal Mines'!N95,'CH4 from Abandoned Coal Mines'!L95)","v":""},{"$f":"'CH4 from Abandoned Coal Mines'!P95","v":0},{"$f":"'CH4 from Abandoned Coal Mines'!R95","v":0},{"$f":"VLOOKUP(B94,'Abandoned Data'!$O$3:$V$163,6,FALSE)","v":""},{"$f":"VLOOKUP(B94,'Abandoned Data'!$O$3:$V$163,7,FALSE)","v":""},{"$f":"VLOOKUP(B94,'Abandoned Data'!$O$3:$V$163,8,FALSE)","v":""},{"$error":"#VALUE!"},null,null,null,null,null,null,null,null,null,null,null,null,91,{"$f":"IF(ISERROR(IF($D94<Y$3,IF($E94=\"Venting\",(($H94*mmcfd_m3)*((1+$I94*(Y$3-$D94))^$J94)-$G94)*Gg_m3,IF($E94=\"Sealed\",((($H94*mmcfd_m3)*((1+$I94*(Y$3-$D94))^$J94)*(1-$F94)-$G94)*Gg_m3),IF($E94=\"Flooded\",(($H94*mmcfd_m3)*EXP(-0.6728*(Y$3-$D94))*Gg_m3),(($H94*mmcfd_m3)*((1+$I94*(Y$3-$D94))^$J94)-$G94)*Gg_m3+((($H94*mmcfd_m3)*((1+$I94*(Y$3-$D94))^$J94)*(1-0.8)-$G94)*Gg_m3)+(($H94*mmcfd_m3)*EXP(-0.6728*(Y$3-$D94))*Gg_m3)))),0)),0,IF($D94<Y$3,IF($E94=\"Venting\",(($H94*mmcfd_m3)*((1+$I94*(Y$3-$D94))^$J94)-$G94)*Gg_m3,IF($E94=\"Sealed\",((($H94*mmcfd_m3)*((1+$I94*(Y$3-$D94))^$J94)*(1-$F94)-$G94)*Gg_m3),IF($E94=\"Flooded\",(($H94*mmcfd_m3)*EXP(-0.6728*(Y$3-$D94))*Gg_m3),(($H94*mmcfd_m3)*((1+$I94*(Y$3-$D94))^$J94)-$G94)*Gg_m3+((($H94*mmcfd_m3)*((1+$I94*(Y$3-$D94))^$J94)*(1-0.8)-$G94)*Gg_m3)+(($H94*mmcfd_m3)*EXP(-0.6728*(Y$3-$D94))*Gg_m3)))),0))","v":0},0,0,0,0,0,0,0,0,0,{"$f":"IF(ISERROR(IF($D94<AI$3,IF($E94=\"Venting\",(($H94*mmcfd_m3)*((1+$I94*(AI$3-$D94))^$J94)-$G94)*Gg_m3,IF($E94=\"Sealed\",((($H94*mmcfd_m3)*((1+$I94*(AI$3-$D94))^$J94)*(1-$F94)-$G94)*Gg_m3),IF($E94=\"Flooded\",(($H94*mmcfd_m3)*EXP(-0.6728*(AI$3-$D94))*Gg_m3),(($H94*mmcfd_m3)*((1+$I94*(AI$3-$D94))^$J94)-$G94)*Gg_m3+((($H94*mmcfd_m3)*((1+$I94*(AI$3-$D94))^$J94)*(1-0.8)-$G94)*Gg_m3)+(($H94*mmcfd_m3)*EXP(-0.6728*(AI$3-$D94))*Gg_m3)))),0)),0,IF($D94<AI$3,IF($E94=\"Venting\",(($H94*mmcfd_m3)*((1+$I94*(AI$3-$D94))^$J94)-$G94)*Gg_m3,IF($E94=\"Sealed\",((($H94*mmcfd_m3)*((1+$I94*(AI$3-$D94))^$J94)*(1-$F94)-$G94)*Gg_m3),IF($E94=\"Flooded\",(($H94*mmcfd_m3)*EXP(-0.6728*(AI$3-$D94))*Gg_m3),(($H94*mmcfd_m3)*((1+$I94*(AI$3-$D94))^$J94)-$G94)*Gg_m3+((($H94*mmcfd_m3)*((1+$I94*(AI$3-$D94))^$J94)*(1-0.8)-$G94)*Gg_m3)+(($H94*mmcfd_m3)*EXP(-0.6728*(AI$3-$D94))*Gg_m3)))),0))","v":0},0,0,0,0,0,0,0,0,0,{"$f":"IF(ISERROR(IF($D94<AS$3,IF($E94=\"Venting\",(($H94*mmcfd_m3)*((1+$I94*(AS$3-$D94))^$J94)-$G94)*Gg_m3,IF($E94=\"Sealed\",((($H94*mmcfd_m3)*((1+$I94*(AS$3-$D94))^$J94)*(1-$F94)-$G94)*Gg_m3),IF($E94=\"Flooded\",(($H94*mmcfd_m3)*EXP(-0.6728*(AS$3-$D94))*Gg_m3),(($H94*mmcfd_m3)*((1+$I94*(AS$3-$D94))^$J94)-$G94)*Gg_m3+((($H94*mmcfd_m3)*((1+$I94*(AS$3-$D94))^$J94)*(1-0.8)-$G94)*Gg_m3)+(($H94*mmcfd_m3)*EXP(-0.6728*(AS$3-$D94))*Gg_m3)))),0)),0,IF($D94<AS$3,IF($E94=\"Venting\",(($H94*mmcfd_m3)*((1+$I94*(AS$3-$D94))^$J94)-$G94)*Gg_m3,IF($E94=\"Sealed\",((($H94*mmcfd_m3)*((1+$I94*(AS$3-$D94))^$J94)*(1-$F94)-$G94)*Gg_m3),IF($E94=\"Flooded\",(($H94*mmcfd_m3)*EXP(-0.6728*(AS$3-$D94))*Gg_m3),(($H94*mmcfd_m3)*((1+$I94*(AS$3-$D94))^$J94)-$G94)*Gg_m3+((($H94*mmcfd_m3)*((1+$I94*(AS$3-$D94))^$J94)*(1-0.8)-$G94)*Gg_m3)+(($H94*mmcfd_m3)*EXP(-0.6728*(AS$3-$D94))*Gg_m3)))),0))","v":0},0,0,0,0,0,0,0,0,0,0,0,0,0,0,0,0,0,0,0,0,0,0,0,0,0,0,0,0,0,0,0,0,0,0,0,0,0,0,0,0]
[92,{"$f":"'CH4 from Abandoned Coal Mines'!D96","v":""},{"$f":"'CH4 from Abandoned Coal Mines'!H96","v":""},{"$f":"VALUE('CH4 from Abandoned Coal Mines'!J96)","v":{"$error":"#VALUE!"}},{"$f":"IF('CH4 from Abandoned Coal Mines'!N96>0,'CH4 from Abandoned Coal Mines'!N96,'CH4 from Abandoned Coal Mines'!L96)","v":""},{"$f":"'CH4 from Abandoned Coal Mines'!P96","v":0},{"$f":"'CH4 from Abandoned Coal Mines'!R96","v":0},{"$f":"VLOOKUP(B95,'Abandoned Data'!$O$3:$V$163,6,FALSE)","v":""},{"$f":"VLOOKUP(B95,'Abandoned Data'!$O$3:$V$163,7,FALSE)","v":""},{"$f":"VLOOKUP(B95,'Abandoned Data'!$O$3:$V$163,8,FALSE)","v":""},{"$error":"#VALUE!"},null,null,null,null,null,null,null,null,null,null,null,null,92,0,0,0,0,0,0,0,0,0,0,0,0,0,0,0,0,0,0,0,0,0,0,0,0,0,0,0,0,0,0,0,0,0,0,0,0,0,0,0,0,0,0,0,0,0,0,0,0,0,0,0,0,0,0,0,0,0,0,0,0,0]
[93,{"$f":"'CH4 from Abandoned Coal Mines'!D97","v":""},{"$f":"'CH4 from Abandoned Coal Mines'!H97","v":""},{"$f":"VALUE('CH4 from Abandoned Coal Mines'!J97)","v":{"$error":"#VALUE!"}},{"$f":"IF('CH4 from Abandoned Coal Mines'!N97>0,'CH4 from Abandoned Coal Mines'!N97,'CH4 from Abandoned Coal Mines'!L97)","v":""},{"$f":"'CH4 from Abandoned Coal Mines'!P97","v":0},{"$f":"'CH4 from Abandoned Coal Mines'!R97","v":0},{"$f":"VLOOKUP(B96,'Abandoned Data'!$O$3:$V$163,6,FALSE)","v":""},{"$f":"VLOOKUP(B96,'Abandoned Data'!$O$3:$V$163,7,FALSE)","v":""},{"$f":"VLOOKUP(B96,'Abandoned Data'!$O$3:$V$163,8,FALSE)","v":""},{"$error":"#VALUE!"},null,null,null,null,null,null,null,null,null,null,null,null,93,0,0,0,0,0,0,0,0,0,0,0,0,0,0,0,0,0,0,0,0,0,0,0,0,0,0,0,0,0,0,0,0,0,0,0,0,0,0,0,0,0,0,0,0,0,0,0,0,0,0,0,0,0,0,0,0,0,0,0,0,0]
[94,{"$f":"'CH4 from Abandoned Coal Mines'!D98","v":""},{"$f":"'CH4 from Abandoned Coal Mines'!H98","v":""},{"$f":"VALUE('CH4 from Abandoned Coal Mines'!J98)","v":{"$error":"#VALUE!"}},{"$f":"IF('CH4 from Abandoned Coal Mines'!N98>0,'CH4 from Abandoned Coal Mines'!N98,'CH4 from Abandoned Coal Mines'!L98)","v":""},{"$f":"'CH4 from Abandoned Coal Mines'!P98","v":0},{"$f":"'CH4 from Abandoned Coal Mines'!R98","v":0},{"$f":"VLOOKUP(B97,'Abandoned Data'!$O$3:$V$163,6,FALSE)","v":""},{"$f":"VLOOKUP(B97,'Abandoned Data'!$O$3:$V$163,7,FALSE)","v":""},{"$f":"VLOOKUP(B97,'Abandoned Data'!$O$3:$V$163,8,FALSE)","v":""},{"$error":"#VALUE!"},null,null,null,null,null,null,null,null,null,null,null,null,94,0,0,0,0,0,0,0,0,0,0,0,0,0,0,0,0,0,0,0,0,0,0,0,0,0,0,0,0,0,0,0,0,0,0,0,0,0,0,0,0,0,0,0,0,0,0,0,0,0,0,0,0,0,0,0,0,0,0,0,0,0]
[95,{"$f":"'CH4 from Abandoned Coal Mines'!D99","v":""},{"$f":"'CH4 from Abandoned Coal Mines'!H99","v":""},{"$f":"VALUE('CH4 from Abandoned Coal Mines'!J99)","v":{"$error":"#VALUE!"}},{"$f":"IF('CH4 from Abandoned Coal Mines'!N99>0,'CH4 from Abandoned Coal Mines'!N99,'CH4 from Abandoned Coal Mines'!L99)","v":""},{"$f":"'CH4 from Abandoned Coal Mines'!P99","v":0},{"$f":"'CH4 from Abandoned Coal Mines'!R99","v":0},{"$f":"VLOOKUP(B98,'Abandoned Data'!$O$3:$V$163,6,FALSE)","v":""},{"$f":"VLOOKUP(B98,'Abandoned Data'!$O$3:$V$163,7,FALSE)","v":""},{"$f":"VLOOKUP(B98,'Abandoned Data'!$O$3:$V$163,8,FALSE)","v":""},{"$error":"#VALUE!"},null,null,null,null,null,null,null,null,null,null,null,null,95,0,0,0,0,0,0,0,0,0,0,0,0,0,0,0,0,0,0,0,0,0,0,0,0,0,0,0,0,0,0,0,0,0,0,0,0,0,0,0,0,0,0,0,0,0,0,0,0,0,0,0,0,0,0,0,0,0,0,0,0,0]
[96,{"$f":"'CH4 from Abandoned Coal Mines'!D100","v":""},{"$f":"'CH4 from Abandoned Coal Mines'!H100","v":""},{"$f":"VALUE('CH4 from Abandoned Coal Mines'!J100)","v":{"$error":"#VALUE!"}},{"$f":"IF('CH4 from Abandoned Coal Mines'!N100>0,'CH4 from Abandoned Coal Mines'!N100,'CH4 from Abandoned Coal Mines'!L100)","v":""},{"$f":"'CH4 from Abandoned Coal Mines'!P100","v":0},{"$f":"'CH4 from Abandoned Coal Mines'!R100","v":0},{"$f":"VLOOKUP(B99,'Abandoned Data'!$O$3:$V$163,6,FALSE)","v":""},{"$f":"VLOOKUP(B99,'Abandoned Data'!$O$3:$V$163,7,FALSE)","v":""},{"$f":"VLOOKUP(B99,'Abandoned Data'!$O$3:$V$163,8,FALSE)","v":""},{"$error":"#VALUE!"},null,null,null,null,null,null,null,null,null,null,null,null,96,0,0,0,0,0,0,0,0,0,0,0,0,0,0,0,0,0,0,0,0,0,0,0,0,0,0,0,0,0,0,0,0,0,0,0,0,0,0,0,0,0,0,0,0,0,0,0,0,0,0,0,0,0,0,0,0,0,0,0,0,0]
[97,{"$f":"'CH4 from Abandoned Coal Mines'!D101","v":""},{"$f":"'CH4 from Abandoned Coal Mines'!H101","v":""},{"$f":"VALUE('CH4 from Abandoned Coal Mines'!J101)","v":{"$error":"#VALUE!"}},{"$f":"IF('CH4 from Abandoned Coal Mines'!N101>0,'CH4 from Abandoned Coal Mines'!N101,'CH4 from Abandoned Coal Mines'!L101)","v":""},{"$f":"'CH4 from Abandoned Coal Mines'!P101","v":0},{"$f":"'CH4 from Abandoned Coal Mines'!R101","v":0},{"$f":"VLOOKUP(B100,'Abandoned Data'!$O$3:$V$163,6,FALSE)","v":""},{"$f":"VLOOKUP(B100,'Abandoned Data'!$O$3:$V$163,7,FALSE)","v":""},{"$f":"VLOOKUP(B100,'Abandoned Data'!$O$3:$V$163,8,FALSE)","v":""},{"$error":"#VALUE!"},null,null,null,null,null,null,null,null,null,null,null,null,97,0,0,0,0,0,0,0,0,0,0,0,0,0,0,0,0,0,0,0,0,0,0,0,0,0,0,0,0,0,0,0,0,0,0,0,0,0,0,0,0,0,0,0,0,0,0,0,0,0,0,0,0,0,0,0,0,0,0,0,0,0]
[98,{"$f":"'CH4 from Abandoned Coal Mines'!D102","v":""},{"$f":"'CH4 from Abandoned Coal Mines'!H102","v":""},{"$f":"VALUE('CH4 from Abandoned Coal Mines'!J102)","v":{"$error":"#VALUE!"}},{"$f":"IF('CH4 from Abandoned Coal Mines'!N102>0,'CH4 from Abandoned Coal Mines'!N102,'CH4 from Abandoned Coal Mines'!L102)","v":""},{"$f":"'CH4 from Abandoned Coal Mines'!P102","v":0},{"$f":"'CH4 from Abandoned Coal Mines'!R102","v":0},{"$f":"VLOOKUP(B101,'Abandoned Data'!$O$3:$V$163,6,FALSE)","v":""},{"$f":"VLOOKUP(B101,'Abandoned Data'!$O$3:$V$163,7,FALSE)","v":""},{"$f":"VLOOKUP(B101,'Abandoned Data'!$O$3:$V$163,8,FALSE)","v":""},{"$error":"#VALUE!"},null,null,null,null,null,null,null,null,null,null,null,null,98,0,0,0,0,0,0,0,0,0,0,0,0,0,0,0,0,0,0,0,0,0,0,0,0,0,0,0,0,0,0,0,0,0,0,0,0,0,0,0,0,0,{"$f":"IF(ISERROR(IF($D101<BN$3,IF($E101=\"Venting\",(($H101*mmcfd_m3)*((1+$I101*(BN$3-$D101))^$J101)-$G101)*Gg_m3,IF($E101=\"Sealed\",((($H101*mmcfd_m3)*((1+$I101*(BN$3-$D101))^$J101)*(1-$F101)-$G101)*Gg_m3),IF($E101=\"Flooded\",(($H101*mmcfd_m3)*EXP(-0.6728*(BN$3-$D101))*Gg_m3),(($H101*mmcfd_m3)*((1+$I101*(BN$3-$D101))^$J101)-$G101)*Gg_m3+((($H101*mmcfd_m3)*((1+$I101*(BN$3-$D101))^$J101)*(1-0.8)-$G101)*Gg_m3)+(($H101*mmcfd_m3)*EXP(-0.6728*(BN$3-$D101))*Gg_m3)))),0)),0,IF($D101<BN$3,IF($E101=\"Venting\",(($H101*mmcfd_m3)*((1+$I101*(BN$3-$D101))^$J101)-$G101)*Gg_m3,IF($E101=\"Sealed\",((($H101*mmcfd_m3)*((1+$I101*(BN$3-$D101))^$J101)*(1-$F101)-$G101)*Gg_m3),IF($E101=\"Flooded\",(($H101*mmcfd_m3)*EXP(-0.6728*(BN$3-$D101))*Gg_m3),(($H101*mmcfd_m3)*((1+$I101*(BN$3-$D101))^$J101)-$G101)*Gg_m3+((($H101*mmcfd_m3)*((1+$I101*(BN$3-$D101))^$J101)*(1-0.8)-$G101)*Gg_m3)+(($H101*mmcfd_m3)*EXP(-0.6728*(BN$3-$D101))*Gg_m3)))),0))","v":0},0,0,0,0,0,0,0,0,0,0,0,0,0,0,0,0,0,0,0]
[99,{"$f":"'CH4 from Abandoned Coal Mines'!D103","v":""},{"$f":"'CH4 from Abandoned Coal Mines'!H103","v":""},{"$f":"VALUE('CH4 from Abandoned Coal Mines'!J103)","v":{"$error":"#VALUE!"}},{"$f":"IF('CH4 from Abandoned Coal Mines'!N103>0,'CH4 from Abandoned Coal Mines'!N103,'CH4 from Abandoned Coal Mines'!L103)","v":""},{"$f":"'CH4 from Abandoned Coal Mines'!P103","v":0},{"$f":"'CH4 from Abandoned Coal Mines'!R103","v":0},{"$f":"VLOOKUP(B102,'Abandoned Data'!$O$3:$V$163,6,FALSE)","v":""},{"$f":"VLOOKUP(B102,'Abandoned Data'!$O$3:$V$163,7,FALSE)","v":""},{"$f":"VLOOKUP(B102,'Abandoned Data'!$O$3:$V$163,8,FALSE)","v":""},{"$error":"#VALUE!"},null,null,null,null,null,null,null,null,null,null,null,null,99,0,0,0,0,0,0,0,0,0,0,0,0,0,0,0,0,0,0,0,0,0,0,0,0,0,0,0,0,0,0,0,0,0,0,0,0,0,0,0,0,0,0,0,0,0,0,0,0,0,0,0,0,0,0,0,0,0,0,0,0,0]
[100,{"$f":"'CH4 from Abandoned Coal Mines'!D104","v":""},{"$f":"'CH4 from Abandoned Coal Mines'!H104","v":""},{"$f":"VALUE('CH4 from Abandoned Coal Mines'!J104)","v":{"$error":"#VALUE!"}},{"$f":"IF('CH4 from Abandoned Coal Mines'!N104>0,'CH4 from Abandoned Coal Mines'!N104,'CH4 from Abandoned Coal Mines'!L104)","v":""},{"$f":"'CH4 from Abandoned Coal Mines'!P104","v":0},{"$f":"'CH4 from Abandoned Coal Mines'!R104","v":0},{"$f":"VLOOKUP(B103,'Abandoned Data'!$O$3:$V$163,6,FALSE)","v":""},{"$f":"VLOOKUP(B103,'Abandoned Data'!$O$3:$V$163,7,FALSE)","v":""},{"$f":"VLOOKUP(B103,'Abandoned Data'!$O$3:$V$163,8,FALSE)","v":""},{"$error":"#VALUE!"},null,null,null,null,null,null,null,null,null,null,null,null,100,0,0,0,0,0,0,0,0,0,0,0,0,0,0,0,0,0,0,0,0,0,0,0,0,0,0,0,0,0,0,0,0,0,0,0,0,0,0,0,0,0,0,0,0,0,0,0,0,0,0,0,0,0,0,0,0,0,0,0,0,0]
[101,{"$f":"'CH4 from Abandoned Coal Mines'!D105","v":""},{"$f":"'CH4 from Abandoned Coal Mines'!H105","v":""},{"$f":"VALUE('CH4 from Abandoned Coal Mines'!J105)","v":{"$error":"#VALUE!"}},{"$f":"IF('CH4 from Abandoned Coal Mines'!N105>0,'CH4 from Abandoned Coal Mines'!N105,'CH4 from Abandoned Coal Mines'!L105)","v":""},{"$f":"'CH4 from Abandoned Coal Mines'!P105","v":0},{"$f":"'CH4 from Abandoned Coal Mines'!R105","v":0},{"$f":"VLOOKUP(B104,'Abandoned Data'!$O$3:$V$163,6,FALSE)","v":""},{"$f":"VLOOKUP(B104,'Abandoned Data'!$O$3:$V$163,7,FALSE)","v":""},{"$f":"VLOOKUP(B104,'Abandoned Data'!$O$3:$V$163,8,FALSE)","v":""},{"$error":"#VALUE!"},null,null,null,null,null,null,null,null,null,null,null,null,101,{"$f":"IF(ISERROR(IF($D104<Y$3,IF($E104=\"Venting\",(($H104*mmcfd_m3)*((1+$I104*(Y$3-$D104))^$J104)-$G104)*Gg_m3,IF($E104=\"Sealed\",((($H104*mmcfd_m3)*((1+$I104*(Y$3-$D104))^$J104)*(1-$F104)-$G104)*Gg_m3),IF($E104=\"Flooded\",(($H104*mmcfd_m3)*EXP(-0.6728*(Y$3-$D104))*Gg_m3),(($H104*mmcfd_m3)*((1+$I104*(Y$3-$D104))^$J104)-$G104)*Gg_m3+((($H104*mmcfd_m3)*((1+$I104*(Y$3-$D104))^$J104)*(1-0.8)-$G104)*Gg_m3)+(($H104*mmcfd_m3)*EXP(-0.6728*(Y$3-$D104))*Gg_m3)))),0)),0,IF($D104<Y$3,IF($E104=\"Venting\",(($H104*mmcfd_m3)*((1+$I104*(Y$3-$D104))^$J104)-$G104)*Gg_m3,IF($E104=\"Sealed\",((($H104*mmcfd_m3)*((1+$I104*(Y$3-$D104))^$J104)*(1-$F104)-$G104)*Gg_m3),IF($E104=\"Flooded\",(($H104*mmcfd_m3)*EXP(-0.6728*(Y$3-$D104))*Gg_m3),(($H104*mmcfd_m3)*((1+$I104*(Y$3-$D104))^$J104)-$G104)*Gg_m3+((($H104*mmcfd_m3)*((1+$I104*(Y$3-$D104))^$J104)*(1-0.8)-$G104)*Gg_m3)+(($H104*mmcfd_m3)*EXP(-0.6728*(Y$3-$D104))*Gg_m3)))),0))","v":0},0,0,0,0,0,0,0,0,0,{"$f":"IF(ISERROR(IF($D104<AI$3,IF($E104=\"Venting\",(($H104*mmcfd_m3)*((1+$I104*(AI$3-$D104))^$J104)-$G104)*Gg_m3,IF($E104=\"Sealed\",((($H104*mmcfd_m3)*((1+$I104*(AI$3-$D104))^$J104)*(1-$F104)-$G104)*Gg_m3),IF($E104=\"Flooded\",(($H104*mmcfd_m3)*EXP(-0.6728*(AI$3-$D104))*Gg_m3),(($H104*mmcfd_m3)*((1+$I104*(AI$3-$D104))^$J104)-$G104)*Gg_m3+((($H104*mmcfd_m3)*((1+$I104*(AI$3-$D104))^$J104)*(1-0.8)-$G104)*Gg_m3)+(($H104*mmcfd_m3)*EXP(-0.6728*(AI$3-$D104))*Gg_m3)))),0)),0,IF($D104<AI$3,IF($E104=\"Venting\",(($H104*mmcfd_m3)*((1+$I104*(AI$3-$D104))^$J104)-$G104)*Gg_m3,IF($E104=\"Sealed\",((($H104*mmcfd_m3)*((1+$I104*(AI$3-$D104))^$J104)*(1-$F104)-$G104)*Gg_m3),IF($E104=\"Flooded\",(($H104*mmcfd_m3)*EXP(-0.6728*(AI$3-$D104))*Gg_m3),(($H104*mmcfd_m3)*((1+$I104*(AI$3-$D104))^$J104)-$G104)*Gg_m3+((($H104*mmcfd_m3)*((1+$I104*(AI$3-$D104))^$J104)*(1-0.8)-$G104)*Gg_m3)+(($H104*mmcfd_m3)*EXP(-0.6728*(AI$3-$D104))*Gg_m3)))),0))","v":0},0,0,0,0,0,0,0,0,0,{"$f":"IF(ISERROR(IF($D104<AS$3,IF($E104=\"Venting\",(($H104*mmcfd_m3)*((1+$I104*(AS$3-$D104))^$J104)-$G104)*Gg_m3,IF($E104=\"Sealed\",((($H104*mmcfd_m3)*((1+$I104*(AS$3-$D104))^$J104)*(1-$F104)-$G104)*Gg_m3),IF($E104=\"Flooded\",(($H104*mmcfd_m3)*EXP(-0.6728*(AS$3-$D104))*Gg_m3),(($H104*mmcfd_m3)*((1+$I104*(AS$3-$D104))^$J104)-$G104)*Gg_m3+((($H104*mmcfd_m3)*((1+$I104*(AS$3-$D104))^$J104)*(1-0.8)-$G104)*Gg_m3)+(($H104*mmcfd_m3)*EXP(-0.6728*(AS$3-$D104))*Gg_m3)))),0)),0,IF($D104<AS$3,IF($E104=\"Venting\",(($H104*mmcfd_m3)*((1+$I104*(AS$3-$D104))^$J104)-$G104)*Gg_m3,IF($E104=\"Sealed\",((($H104*mmcfd_m3)*((1+$I104*(AS$3-$D104))^$J104)*(1-$F104)-$G104)*Gg_m3),IF($E104=\"Flooded\",(($H104*mmcfd_m3)*EXP(-0.6728*(AS$3-$D104))*Gg_m3),(($H104*mmcfd_m3)*((1+$I104*(AS$3-$D104))^$J104)-$G104)*Gg_m3+((($H104*mmcfd_m3)*((1+$I104*(AS$3-$D104))^$J104)*(1-0.8)-$G104)*Gg_m3)+(($H104*mmcfd_m3)*EXP(-0.6728*(AS$3-$D104))*Gg_m3)))),0))","v":0},0,0,0,0,0,0,0,0,0,0,0,0,0,0,0,0,0,0,0,0,0,0,0,0,0,0,0,0,0,0,0,0,0,0,0,0,0,0,0,0]
[102,{"$f":"'CH4 from Abandoned Coal Mines'!D106","v":""},{"$f":"'CH4 from Abandoned Coal Mines'!H106","v":""},{"$f":"VALUE('CH4 from Abandoned Coal Mines'!J106)","v":{"$error":"#VALUE!"}},{"$f":"IF('CH4 from Abandoned Coal Mines'!N106>0,'CH4 from Abandoned Coal Mines'!N106,'CH4 from Abandoned Coal Mines'!L106)","v":""},{"$f":"'CH4 from Abandoned Coal Mines'!P106","v":0},{"$f":"'CH4 from Abandoned Coal Mines'!R106","v":0},{"$f":"VLOOKUP(B105,'Abandoned Data'!$O$3:$V$163,6,FALSE)","v":""},{"$f":"VLOOKUP(B105,'Abandoned Data'!$O$3:$V$163,7,FALSE)","v":""},{"$f":"VLOOKUP(B105,'Abandoned Data'!$O$3:$V$163,8,FALSE)","v":""},{"$error":"#VALUE!"},null,null,null,null,null,null,null,null,null,null,null,null,102,0,0,0,0,0,0,0,0,0,0,0,0,0,0,0,0,0,0,0,0,0,0,0,0,0,0,0,0,0,0,0,0,0,0,0,0,0,0,0,0,0,0,0,0,0,0,0,0,0,0,0,0,0,0,0,0,0,0,0,0,0]
[103,{"$f":"'CH4 from Abandoned Coal Mines'!D107","v":""},{"$f":"'CH4 from Abandoned Coal Mines'!H107","v":""},{"$f":"VALUE('CH4 from Abandoned Coal Mines'!J107)","v":{"$error":"#VALUE!"}},{"$f":"IF('CH4 from Abandoned Coal Mines'!N107>0,'CH4 from Abandoned Coal Mines'!N107,'CH4 from Abandoned Coal Mines'!L107)","v":""},{"$f":"'CH4 from Abandoned Coal Mines'!P107","v":0},{"$f":"'CH4 from Abandoned Coal Mines'!R107","v":0},{"$f":"VLOOKUP(B106,'Abandoned Data'!$O$3:$V$163,6,FALSE)","v":""},{"$f":"VLOOKUP(B106,'Abandoned Data'!$O$3:$V$163,7,FALSE)","v":""},{"$f":"VLOOKUP(B106,'Abandoned Data'!$O$3:$V$163,8,FALSE)","v":""},{"$error":"#VALUE!"},null,null,null,null,null,null,null,null,null,null,null,null,103,0,0,0,0,0,0,0,0,0,0,0,0,0,0,0,0,0,0,0,0,0,0,0,0,0,0,0,0,0,0,0,0,0,0,0,0,0,0,0,0,0,0,0,0,0,0,0,0,0,0,0,0,0,0,0,0,0,0,0,0,0]
[104,{"$f":"'CH4 from Abandoned Coal Mines'!D108","v":""},{"$f":"'CH4 from Abandoned Coal Mines'!H108","v":""},{"$f":"VALUE('CH4 from Abandoned Coal Mines'!J108)","v":{"$error":"#VALUE!"}},{"$f":"IF('CH4 from Abandoned Coal Mines'!N108>0,'CH4 from Abandoned Coal Mines'!N108,'CH4 from Abandoned Coal Mines'!L108)","v":""},{"$f":"'CH4 from Abandoned Coal Mines'!P108","v":0},{"$f":"'CH4 from Abandoned Coal Mines'!R108","v":0},{"$f":"VLOOKUP(B107,'Abandoned Data'!$O$3:$V$163,6,FALSE)","v":""},{"$f":"VLOOKUP(B107,'Abandoned Data'!$O$3:$V$163,7,FALSE)","v":""},{"$f":"VLOOKUP(B107,'Abandoned Data'!$O$3:$V$163,8,FALSE)","v":""},{"$error":"#VALUE!"},null,null,null,null,null,null,null,null,null,null,null,null,104,0,0,0,0,0,0,0,0,0,0,0,0,0,0,0,0,0,0,0,0,0,0,0,0,0,0,0,0,0,0,0,0,0,0,0,0,0,0,0,0,0,0,0,0,0,0,0,0,0,0,0,0,0,0,0,0,0,0,0,0,0]
[105,{"$f":"'CH4 from Abandoned Coal Mines'!D109","v":""},{"$f":"'CH4 from Abandoned Coal Mines'!H109","v":""},{"$f":"VALUE('CH4 from Abandoned Coal Mines'!J109)","v":{"$error":"#VALUE!"}},{"$f":"IF('CH4 from Abandoned Coal Mines'!N109>0,'CH4 from Abandoned Coal Mines'!N109,'CH4 from Abandoned Coal Mines'!L109)","v":""},{"$f":"'CH4 from Abandoned Coal Mines'!P109","v":0},{"$f":"'CH4 from Abandoned Coal Mines'!R109","v":0},{"$f":"VLOOKUP(B108,'Abandoned Data'!$O$3:$V$163,6,FALSE)","v":""},{"$f":"VLOOKUP(B108,'Abandoned Data'!$O$3:$V$163,7,FALSE)","v":""},{"$f":"VLOOKUP(B108,'Abandoned Data'!$O$3:$V$163,8,FALSE)","v":""},{"$error":"#VALUE!"},null,null,null,null,null,null,null,null,null,null,null,null,105,0,0,0,0,0,0,0,0,0,0,0,0,0,0,0,0,0,0,0,0,0,0,0,0,0,0,0,0,0,0,0,0,0,0,0,0,0,0,0,0,0,0,0,0,0,0,0,0,0,0,0,0,0,0,0,0,0,0,0,0,0]
[106,{"$f":"'CH4 from Abandoned Coal Mines'!D110","v":""},{"$f":"'CH4 from Abandoned Coal Mines'!H110","v":""},{"$f":"VALUE('CH4 from Abandoned Coal Mines'!J110)","v":{"$error":"#VALUE!"}},{"$f":"IF('CH4 from Abandoned Coal Mines'!N110>0,'CH4 from Abandoned Coal Mines'!N110,'CH4 from Abandoned Coal Mines'!L110)","v":""},{"$f":"'CH4 from Abandoned Coal Mines'!P110","v":0},{"$f":"'CH4 from Abandoned Coal Mines'!R110","v":0},{"$f":"VLOOKUP(B109,'Abandoned Data'!$O$3:$V$163,6,FALSE)","v":""},{"$f":"VLOOKUP(B109,'Abandoned Data'!$O$3:$V$163,7,FALSE)","v":""},{"$f":"VLOOKUP(B109,'Abandoned Data'!$O$3:$V$163,8,FALSE)","v":""},{"$error":"#VALUE!"},null,null,null,null,null,null,null,null,null,null,null,null,106,0,0,0,0,0,0,0,0,0,0,0,0,0,0,0,0,0,0,0,0,0,0,0,0,0,0,0,0,0,0,0,0,0,0,0,0,0,0,0,0,0,0,0,0,0,0,0,0,0,0,0,0,0,0,0,0,0,0,0,0,0]
[107,{"$f":"'CH4 from Abandoned Coal Mines'!D111","v":""},{"$f":"'CH4 from Abandoned Coal Mines'!H111","v":""},{"$f":"VALUE('CH4 from Abandoned Coal Mines'!J111)","v":{"$error":"#VALUE!"}},{"$f":"IF('CH4 from Abandoned Coal Mines'!N111>0,'CH4 from Abandoned Coal Mines'!N111,'CH4 from Abandoned Coal Mines'!L111)","v":""},{"$f":"'CH4 from Abandoned Coal Mines'!P111","v":0},{"$f":"'CH4 from Abandoned Coal Mines'!R111","v":0},{"$f":"VLOOKUP(B110,'Abandoned Data'!$O$3:$V$163,6,FALSE)","v":""},{"$f":"VLOOKUP(B110,'Abandoned Data'!$O$3:$V$163,7,FALSE)","v":""},{"$f":"VLOOKUP(B110,'Abandoned Data'!$O$3:$V$163,8,FALSE)","v":""},{"$f":"IF(E110=\"Venting\",((H110*mmcfd_m3)*((1+I110*($AZ$3-D110))^J110)-G110)*Gg_m3,IF(E110=\"Sealed\",(((H110*mmcfd_m3)*((1+I110*($AZ$3-D110))^J110)*(1-F110)-G110)*Gg_m3),IF(E110=\"Flooded\",((H110*mmcfd_m3)*EXP(-0.6728*($AZ$3-D110))*Gg_m3),((H110*mmcfd_m3)*((1+I110*($AZ$3-D110))^J110)-G110)*Gg_m3+(((H110*mmcfd_m3)*((1+I110*($AZ$3-D110))^J110)*(1-0.8)-G110)*Gg_m3)+((H110*mmcfd_m3)*EXP(-0.6728*($AZ$3-D110))*Gg_m3))))","v":{"$error":"#VALUE!"}},null,null,null,null,null,null,null,null,null,null,null,null,107,0,0,0,0,0,0,0,0,0,0,0,0,0,0,0,0,0,0,0,0,0,0,0,0,0,0,0,0,0,0,0,{"$f":"IF(ISERROR(IF($D110<BD$3,IF($E110=\"Venting\",(($H110*mmcfd_m3)*((1+$I110*(BD$3-$D110))^$J110)-$G110)*Gg_m3,IF($E110=\"Sealed\",((($H110*mmcfd_m3)*((1+$I110*(BD$3-$D110))^$J110)*(1-$F110)-$G110)*Gg_m3),IF($E110=\"Flooded\",(($H110*mmcfd_m3)*EXP(-0.6728*(BD$3-$D110))*Gg_m3),(($H110*mmcfd_m3)*((1+$I110*(BD$3-$D110))^$J110)-$G110)*Gg_m3+((($H110*mmcfd_m3)*((1+$I110*(BD$3-$D110))^$J110)*(1-0.8)-$G110)*Gg_m3)+(($H110*mmcfd_m3)*EXP(-0.6728*(BD$3-$D110))*Gg_m3)))),0)),0,IF($D110<BD$3,IF($E110=\"Venting\",(($H110*mmcfd_m3)*((1+$I110*(BD$3-$D110))^$J110)-$G110)*Gg_m3,IF($E110=\"Sealed\",((($H110*mmcfd_m3)*((1+$I110*(BD$3-$D110))^$J110)*(1-$F110)-$G110)*Gg_m3),IF($E110=\"Flooded\",(($H110*mmcfd_m3)*EXP(-0.6728*(BD$3-$D110))*Gg_m3),(($H110*mmcfd_m3)*((1+$I110*(BD$3-$D110))^$J110)-$G110)*Gg_m3+((($H110*mmcfd_m3)*((1+$I110*(BD$3-$D110))^$J110)*(1-0.8)-$G110)*Gg_m3)+(($H110*mmcfd_m3)*EXP(-0.6728*(BD$3-$D110))*Gg_m3)))),0))","v":0},0,0,0,0,0,0,0,0,0,0,0,0,0,0,0,0,0,0,0,0,0,0,0,0,0,0,0,0,0]
[108,{"$f":"'CH4 from Abandoned Coal Mines'!D112","v":""},{"$f":"'CH4 from Abandoned Coal Mines'!H112","v":""},{"$f":"VALUE('CH4 from Abandoned Coal Mines'!J112)","v":{"$error":"#VALUE!"}},{"$f":"IF('CH4 from Abandoned Coal Mines'!N112>0,'CH4 from Abandoned Coal Mines'!N112,'CH4 from Abandoned Coal Mines'!L112)","v":""},{"$f":"'CH4 from Abandoned Coal Mines'!P112","v":0},{"$f":"'CH4 from Abandoned Coal Mines'!R112","v":0},{"$f":"VLOOKUP(B111,'Abandoned Data'!$O$3:$V$163,6,FALSE)","v":""},{"$f":"VLOOKUP(B111,'Abandoned Data'!$O$3:$V$163,7,FALSE)","v":""},{"$f":"VLOOKUP(B111,'Abandoned Data'!$O$3:$V$163,8,FALSE)","v":""},{"$error":"#VALUE!"},null,null,null,null,null,null,null,null,null,null,null,null,108,0,0,0,0,0,0,0,0,0,0,0,0,0,0,0,0,0,0,0,0,0,0,0,0,0,0,0,0,0,0,0,0,0,0,0,0,0,0,0,0,0,0,0,0,0,0,0,0,0,0,0,0,0,0,0,0,0,0,0,0,0]
[109,{"$f":"'CH4 from Abandoned Coal Mines'!D113","v":""},{"$f":"'CH4 from Abandoned Coal Mines'!H113","v":""},{"$f":"VALUE('CH4 from Abandoned Coal Mines'!J113)","v":{"$error":"#VALUE!"}},{"$f":"IF('CH4 from Abandoned Coal Mines'!N113>0,'CH4 from Abandoned Coal Mines'!N113,'CH4 from Abandoned Coal Mines'!L113)","v":""},{"$f":"'CH4 from Abandoned Coal Mines'!P113","v":0},{"$f":"'CH4 from Abandoned Coal Mines'!R113","v":0},{"$f":"VLOOKUP(B112,'Abandoned Data'!$O$3:$V$163,6,FALSE)","v":""},{"$f":"VLOOKUP(B112,'Abandoned Data'!$O$3:$V$163,7,FALSE)","v":""},{"$f":"VLOOKUP(B112,'Abandoned Data'!$O$3:$V$163,8,FALSE)","v":""},{"$error":"#VALUE!"},null,null,null,null,null,null,null,null,null,null,null,null,109,0,0,0,0,0,0,0,0,0,0,0,0,0,0,0,0,0,0,0,0,0,0,0,0,0,0,0,0,0,0,0,0,0,0,0,0,0,0,0,0,0,0,0,0,0,0,0,0,0,0,0,0,0,0,0,0,0,0,0,0,0]
[110,{"$f":"'CH4 from Abandoned Coal Mines'!D114","v":""},{"$f":"'CH4 from Abandoned Coal Mines'!H114","v":""},{"$f":"VALUE('CH4 from Abandoned Coal Mines'!J114)","v":{"$error":"#VALUE!"}},{"$f":"IF('CH4 from Abandoned Coal Mines'!N114>0,'CH4 from Abandoned Coal Mines'!N114,'CH4 from Abandoned Coal Mines'!L114)","v":""},{"$f":"'CH4 from Abandoned Coal Mines'!P114","v":0},{"$f":"'CH4 from Abandoned Coal Mines'!R114","v":0},{"$f":"VLOOKUP(B113,'Abandoned Data'!$O$3:$V$163,6,FALSE)","v":""},{"$f":"VLOOKUP(B113,'Abandoned Data'!$O$3:$V$163,7,FALSE)","v":""},{"$f":"VLOOKUP(B113,'Abandoned Data'!$O$3:$V$163,8,FALSE)","v":""},{"$error":"#VALUE!"},null,null,null,null,null,null,null,null,null,null,null,null,110,0,0,0,0,0,0,0,0,0,0,0,0,0,0,0,0,0,0,0,0,0,0,0,0,0,0,0,0,0,0,0,0,0,0,0,0,0,0,0,0,0,0,0,0,0,0,0,0,0,0,0,0,0,0,0,0,0,0,0,0,0]
[111,{"$f":"'CH4 from Abandoned Coal Mines'!D115","v":""},{"$f":"'CH4 from Abandoned Coal Mines'!H115","v":""},{"$f":"VALUE('CH4 from Abandoned Coal Mines'!J115)","v":{"$error":"#VALUE!"}},{"$f":"IF('CH4 from Abandoned Coal Mines'!N115>0,'CH4 from Abandoned Coal Mines'!N115,'CH4 from Abandoned Coal Mines'!L115)","v":""},{"$f":"'CH4 from Abandoned Coal Mines'!P115","v":0},{"$f":"'CH4 from Abandoned Coal Mines'!R115","v":0},{"$f":"VLOOKUP(B114,'Abandoned Data'!$O$3:$V$163,6,FALSE)","v":""},{"$f":"VLOOKUP(B114,'Abandoned Data'!$O$3:$V$163,7,FALSE)","v":""},{"$f":"VLOOKUP(B114,'Abandoned Data'!$O$3:$V$163,8,FALSE)","v":""},{"$error":"#VALUE!"},null,null,null,null,null,null,null,null,null,null,null,null,111,{"$f":"IF(ISERROR(IF($D114<Y$3,IF($E114=\"Venting\",(($H114*mmcfd_m3)*((1+$I114*(Y$3-$D114))^$J114)-$G114)*Gg_m3,IF($E114=\"Sealed\",((($H114*mmcfd_m3)*((1+$I114*(Y$3-$D114))^$J114)*(1-$F114)-$G114)*Gg_m3),IF($E114=\"Flooded\",(($H114*mmcfd_m3)*EXP(-0.6728*(Y$3-$D114))*Gg_m3),(($H114*mmcfd_m3)*((1+$I114*(Y$3-$D114))^$J114)-$G114)*Gg_m3+((($H114*mmcfd_m3)*((1+$I114*(Y$3-$D114))^$J114)*(1-0.8)-$G114)*Gg_m3)+(($H114*mmcfd_m3)*EXP(-0.6728*(Y$3-$D114))*Gg_m3)))),0)),0,IF($D114<Y$3,IF($E114=\"Venting\",(($H114*mmcfd_m3)*((1+$I114*(Y$3-$D114))^$J114)-$G114)*Gg_m3,IF($E114=\"Sealed\",((($H114*mmcfd_m3)*((1+$I114*(Y$3-$D114))^$J114)*(1-$F114)-$G114)*Gg_m3),IF($E114=\"Flooded\",(($H114*mmcfd_m3)*EXP(-0.6728*(Y$3-$D114))*Gg_m3),(($H114*mmcfd_m3)*((1+$I114*(Y$3-$D114))^$J114)-$G114)*Gg_m3+((($H114*mmcfd_m3)*((1+$I114*(Y$3-$D114))^$J114)*(1-0.8)-$G114)*Gg_m3)+(($H114*mmcfd_m3)*EXP(-0.6728*(Y$3-$D114))*Gg_m3)))),0))","v":0},0,0,0,0,0,0,0,0,0,{"$f":"IF(ISERROR(IF($D114<AI$3,IF($E114=\"Venting\",(($H114*mmcfd_m3)*((1+$I114*(AI$3-$D114))^$J114)-$G114)*Gg_m3,IF($E114=\"Sealed\",((($H114*mmcfd_m3)*((1+$I114*(AI$3-$D114))^$J114)*(1-$F114)-$G114)*Gg_m3),IF($E114=\"Flooded\",(($H114*mmcfd_m3)*EXP(-0.6728*(AI$3-$D114))*Gg_m3),(($H114*mmcfd_m3)*((1+$I114*(AI$3-$D114))^$J114)-$G114)*Gg_m3+((($H114*mmcfd_m3)*((1+$I114*(AI$3-$D114))^$J114)*(1-0.8)-$G114)*Gg_m3)+(($H114*mmcfd_m3)*EXP(-0.6728*(AI$3-$D114))*Gg_m3)))),0)),0,IF($D114<AI$3,IF($E114=\"Venting\",(($H114*mmcfd_m3)*((1+$I114*(AI$3-$D114))^$J114)-$G114)*Gg_m3,IF($E114=\"Sealed\",((($H114*mmcfd_m3)*((1+$I114*(AI$3-$D114))^$J114)*(1-$F114)-$G114)*Gg_m3),IF($E114=\"Flooded\",(($H114*mmcfd_m3)*EXP(-0.6728*(AI$3-$D114))*Gg_m3),(($H114*mmcfd_m3)*((1+$I114*(AI$3-$D114))^$J114)-$G114)*Gg_m3+((($H114*mmcfd_m3)*((1+$I114*(AI$3-$D114))^$J114)*(1-0.8)-$G114)*Gg_m3)+(($H114*mmcfd_m3)*EXP(-0.6728*(AI$3-$D114))*Gg_m3)))),0))","v":0},0,0,0,0,0,0,0,0,0,{"$f":"IF(ISERROR(IF($D114<AS$3,IF($E114=\"Venting\",(($H114*mmcfd_m3)*((1+$I114*(AS$3-$D114))^$J114)-$G114)*Gg_m3,IF($E114=\"Sealed\",((($H114*mmcfd_m3)*((1+$I114*(AS$3-$D114))^$J114)*(1-$F114)-$G114)*Gg_m3),IF($E114=\"Flooded\",(($H114*mmcfd_m3)*EXP(-0.6728*(AS$3-$D114))*Gg_m3),(($H114*mmcfd_m3)*((1+$I114*(AS$3-$D114))^$J114)-$G114)*Gg_m3+((($H114*mmcfd_m3)*((1+$I114*(AS$3-$D114))^$J114)*(1-0.8)-$G114)*Gg_m3)+(($H114*mmcfd_m3)*EXP(-0.6728*(AS$3-$D114))*Gg_m3)))),0)),0,IF($D114<AS$3,IF($E114=\"Venting\",(($H114*mmcfd_m3)*((1+$I114*(AS$3-$D114))^$J114)-$G114)*Gg_m3,IF($E114=\"Sealed\",((($H114*mmcfd_m3)*((1+$I114*(AS$3-$D114))^$J114)*(1-$F114)-$G114)*Gg_m3),IF($E114=\"Flooded\",(($H114*mmcfd_m3)*EXP(-0.6728*(AS$3-$D114))*Gg_m3),(($H114*mmcfd_m3)*((1+$I114*(AS$3-$D114))^$J114)-$G114)*Gg_m3+((($H114*mmcfd_m3)*((1+$I114*(AS$3-$D114))^$J114)*(1-0.8)-$G114)*Gg_m3)+(($H114*mmcfd_m3)*EXP(-0.6728*(AS$3-$D114))*Gg_m3)))),0))","v":0},0,0,0,0,0,0,0,0,0,0,0,0,0,0,0,0,0,0,0,0,0,0,0,0,0,0,0,0,0,0,0,0,0,0,0,0,0,0,0,0]
[112,{"$f":"'CH4 from Abandoned Coal Mines'!D116","v":""},{"$f":"'CH4 from Abandoned Coal Mines'!H116","v":""},{"$f":"VALUE('CH4 from Abandoned Coal Mines'!J116)","v":{"$error":"#VALUE!"}},{"$f":"IF('CH4 from Abandoned Coal Mines'!N116>0,'CH4 from Abandoned Coal Mines'!N116,'CH4 from Abandoned Coal Mines'!L116)","v":""},{"$f":"'CH4 from Abandoned Coal Mines'!P116","v":0},{"$f":"'CH4 from Abandoned Coal Mines'!R116","v":0},{"$f":"VLOOKUP(B115,'Abandoned Data'!$O$3:$V$163,6,FALSE)","v":""},{"$f":"VLOOKUP(B115,'Abandoned Data'!$O$3:$V$163,7,FALSE)","v":""},{"$f":"VLOOKUP(B115,'Abandoned Data'!$O$3:$V$163,8,FALSE)","v":""},{"$error":"#VALUE!"},null,null,null,null,null,null,null,null,null,null,null,null,112,0,0,0,0,0,0,0,0,0,0,0,0,0,0,0,0,0,0,0,0,0,0,0,0,0,0,0,0,0,0,0,0,0,0,0,0,0,0,0,0,0,0,0,0,0,0,0,0,0,0,0,0,0,0,0,0,0,0,0,0,0]
[113,{"$f":"'CH4 from Abandoned Coal Mines'!D117","v":""},{"$f":"'CH4 from Abandoned Coal Mines'!H117","v":""},{"$f":"VALUE('CH4 from Abandoned Coal Mines'!J117)","v":{"$error":"#VALUE!"}},{"$f":"IF('CH4 from Abandoned Coal Mines'!N117>0,'CH4 from Abandoned Coal Mines'!N117,'CH4 from Abandoned Coal Mines'!L117)","v":""},{"$f":"'CH4 from Abandoned Coal Mines'!P117","v":0},{"$f":"'CH4 from Abandoned Coal Mines'!R117","v":0},{"$f":"VLOOKUP(B116,'Abandoned Data'!$O$3:$V$163,6,FALSE)","v":""},{"$f":"VLOOKUP(B116,'Abandoned Data'!$O$3:$V$163,7,FALSE)","v":""},{"$f":"VLOOKUP(B116,'Abandoned Data'!$O$3:$V$163,8,FALSE)","v":""},{"$error":"#VALUE!"},null,null,null,null,null,null,null,null,null,null,null,null,113,0,0,0,0,0,0,0,0,0,0,0,0,0,0,0,0,0,0,0,0,0,0,0,0,0,0,0,0,0,0,0,0,0,0,0,0,0,0,0,0,0,0,0,0,0,0,0,0,0,0,0,0,0,0,0,0,0,0,0,0,0]
[114,{"$f":"'CH4 from Abandoned Coal Mines'!D118","v":""},{"$f":"'CH4 from Abandoned Coal Mines'!H118","v":""},{"$f":"VALUE('CH4 from Abandoned Coal Mines'!J118)","v":{"$error":"#VALUE!"}},{"$f":"IF('CH4 from Abandoned Coal Mines'!N118>0,'CH4 from Abandoned Coal Mines'!N118,'CH4 from Abandoned Coal Mines'!L118)","v":""},{"$f":"'CH4 from Abandoned Coal Mines'!P118","v":0},{"$f":"'CH4 from Abandoned Coal Mines'!R118","v":0},{"$f":"VLOOKUP(B117,'Abandoned Data'!$O$3:$V$163,6,FALSE)","v":""},{"$f":"VLOOKUP(B117,'Abandoned Data'!$O$3:$V$163,7,FALSE)","v":""},{"$f":"VLOOKUP(B117,'Abandoned Data'!$O$3:$V$163,8,FALSE)","v":""},{"$error":"#VALUE!"},null,null,null,null,null,null,null,null,null,null,null,null,114,0,0,0,0,0,0,0,0,0,0,0,0,0,0,0,0,0,0,0,0,0,0,0,0,0,0,0,0,0,0,0,0,0,0,0,0,0,0,0,0,0,0,0,0,0,0,0,0,0,0,0,0,0,0,0,0,0,0,0,0,0]
[115,{"$f":"'CH4 from Abandoned Coal Mines'!D119","v":""},{"$f":"'CH4 from Abandoned Coal Mines'!H119","v":""},{"$f":"VALUE('CH4 from Abandoned Coal Mines'!J119)","v":{"$error":"#VALUE!"}},{"$f":"IF('CH4 from Abandoned Coal Mines'!N119>0,'CH4 from Abandoned Coal Mines'!N119,'CH4 from Abandoned Coal Mines'!L119)","v":""},{"$f":"'CH4 from Abandoned Coal Mines'!P119","v":0},{"$f":"'CH4 from Abandoned Coal Mines'!R119","v":0},{"$f":"VLOOKUP(B118,'Abandoned Data'!$O$3:$V$163,6,FALSE)","v":""},{"$f":"VLOOKUP(B118,'Abandoned Data'!$O$3:$V$163,7,FALSE)","v":""},{"$f":"VLOOKUP(B118,'Abandoned Data'!$O$3:$V$163,8,FALSE)","v":""},{"$error":"#VALUE!"},null,null,null,null,null,null,null,null,null,null,null,null,115,0,0,0,0,0,0,0,0,0,0,0,0,0,0,0,0,0,0,0,0,0,0,0,0,0,0,0,0,0,0,0,0,0,0,0,0,0,0,0,0,0,0,0,0,0,0,0,0,0,0,0,{"$f":"IF(ISERROR(IF($D118<BX$3,IF($E118=\"Venting\",(($H118*mmcfd_m3)*((1+$I118*(BX$3-$D118))^$J118)-$G118)*Gg_m3,IF($E118=\"Sealed\",((($H118*mmcfd_m3)*((1+$I118*(BX$3-$D118))^$J118)*(1-$F118)-$G118)*Gg_m3),IF($E118=\"Flooded\",(($H118*mmcfd_m3)*EXP(-0.6728*(BX$3-$D118))*Gg_m3),(($H118*mmcfd_m3)*((1+$I118*(BX$3-$D118))^$J118)-$G118)*Gg_m3+((($H118*mmcfd_m3)*((1+$I118*(BX$3-$D118))^$J118)*(1-0.8)-$G118)*Gg_m3)+(($H118*mmcfd_m3)*EXP(-0.6728*(BX$3-$D118))*Gg_m3)))),0)),0,IF($D118<BX$3,IF($E118=\"Venting\",(($H118*mmcfd_m3)*((1+$I118*(BX$3-$D118))^$J118)-$G118)*Gg_m3,IF($E118=\"Sealed\",((($H118*mmcfd_m3)*((1+$I118*(BX$3-$D118))^$J118)*(1-$F118)-$G118)*Gg_m3),IF($E118=\"Flooded\",(($H118*mmcfd_m3)*EXP(-0.6728*(BX$3-$D118))*Gg_m3),(($H118*mmcfd_m3)*((1+$I118*(BX$3-$D118))^$J118)-$G118)*Gg_m3+((($H118*mmcfd_m3)*((1+$I118*(BX$3-$D118))^$J118)*(1-0.8)-$G118)*Gg_m3)+(($H118*mmcfd_m3)*EXP(-0.6728*(BX$3-$D118))*Gg_m3)))),0))","v":0},0,0,0,0,0,0,0,0,0]
[116,{"$f":"'CH4 from Abandoned Coal Mines'!D120","v":""},{"$f":"'CH4 from Abandoned Coal Mines'!H120","v":""},{"$f":"VALUE('CH4 from Abandoned Coal Mines'!J120)","v":{"$error":"#VALUE!"}},{"$f":"IF('CH4 from Abandoned Coal Mines'!N120>0,'CH4 from Abandoned Coal Mines'!N120,'CH4 from Abandoned Coal Mines'!L120)","v":""},{"$f":"'CH4 from Abandoned Coal Mines'!P120","v":0},{"$f":"'CH4 from Abandoned Coal Mines'!R120","v":0},{"$f":"VLOOKUP(B119,'Abandoned Data'!$O$3:$V$163,6,FALSE)","v":""},{"$f":"VLOOKUP(B119,'Abandoned Data'!$O$3:$V$163,7,FALSE)","v":""},{"$f":"VLOOKUP(B119,'Abandoned Data'!$O$3:$V$163,8,FALSE)","v":""},{"$error":"#VALUE!"},null,null,null,null,null,null,null,null,null,null,null,null,116,0,0,0,0,0,0,0,0,0,0,0,0,0,0,0,0,0,0,0,0,0,0,0,0,0,0,0,0,0,0,0,0,0,0,0,0,0,0,0,0,0,0,0,0,0,0,0,0,0,0,0,0,0,0,0,0,0,0,0,0,0]
[117,{"$f":"'CH4 from Abandoned Coal Mines'!D121","v":""},{"$f":"'CH4 from Abandoned Coal Mines'!H121","v":""},{"$f":"VALUE('CH4 from Abandoned Coal Mines'!J121)","v":{"$error":"#VALUE!"}},{"$f":"IF('CH4 from Abandoned Coal Mines'!N121>0,'CH4 from Abandoned Coal Mines'!N121,'CH4 from Abandoned Coal Mines'!L121)","v":""},{"$f":"'CH4 from Abandoned Coal Mines'!P121","v":0},{"$f":"'CH4 from Abandoned Coal Mines'!R121","v":0},{"$f":"VLOOKUP(B120,'Abandoned Data'!$O$3:$V$163,6,FALSE)","v":""},{"$f":"VLOOKUP(B120,'Abandoned Data'!$O$3:$V$163,7,FALSE)","v":""},{"$f":"VLOOKUP(B120,'Abandoned Data'!$O$3:$V$163,8,FALSE)","v":""},{"$error":"#VALUE!"},null,null,null,null,null,null,null,null,null,null,null,null,117,0,0,0,0,0,0,0,0,0,0,0,0,0,0,0,0,0,0,0,0,0,0,0,0,0,0,0,0,0,0,0,0,0,0,0,0,0,0,0,0,0,0,0,0,0,0,0,0,0,0,0,0,0,0,0,0,0,0,0,0,0]
[118,{"$f":"'CH4 from Abandoned Coal Mines'!D122","v":""},{"$f":"'CH4 from Abandoned Coal Mines'!H122","v":""},{"$f":"VALUE('CH4 from Abandoned Coal Mines'!J122)","v":{"$error":"#VALUE!"}},{"$f":"IF('CH4 from Abandoned Coal Mines'!N122>0,'CH4 from Abandoned Coal Mines'!N122,'CH4 from Abandoned Coal Mines'!L122)","v":""},{"$f":"'CH4 from Abandoned Coal Mines'!P122","v":0},{"$f":"'CH4 from Abandoned Coal Mines'!R122","v":0},{"$f":"VLOOKUP(B121,'Abandoned Data'!$O$3:$V$163,6,FALSE)","v":""},{"$f":"VLOOKUP(B121,'Abandoned Data'!$O$3:$V$163,7,FALSE)","v":""},{"$f":"VLOOKUP(B121,'Abandoned Data'!$O$3:$V$163,8,FALSE)","v":""},{"$error":"#VALUE!"},null,null,null,null,null,null,null,null,null,null,null,null,118,0,0,0,0,0,0,0,0,0,0,0,0,0,0,0,0,0,0,0,0,0,0,0,0,0,0,0,0,0,0,0,0,0,0,0,0,0,0,0,0,0,0,0,0,0,0,0,0,0,0,0,0,0,0,0,0,0,0,0,0,0]
[119,{"$f":"'CH4 from Abandoned Coal Mines'!D123","v":""},{"$f":"'CH4 from Abandoned Coal Mines'!H123","v":""},{"$f":"VALUE('CH4 from Abandoned Coal Mines'!J123)","v":{"$error":"#VALUE!"}},{"$f":"IF('CH4 from Abandoned Coal Mines'!N123>0,'CH4 from Abandoned Coal Mines'!N123,'CH4 from Abandoned Coal Mines'!L123)","v":""},{"$f":"'CH4 from Abandoned Coal Mines'!P123","v":0},{"$f":"'CH4 from Abandoned Coal Mines'!R123","v":0},{"$f":"VLOOKUP(B122,'Abandoned Data'!$O$3:$V$163,6,FALSE)","v":""},{"$f":"VLOOKUP(B122,'Abandoned Data'!$O$3:$V$163,7,FALSE)","v":""},{"$f":"VLOOKUP(B122,'Abandoned Data'!$O$3:$V$163,8,FALSE)","v":""},{"$error":"#VALUE!"},null,null,null,null,null,null,null,null,null,null,null,null,119,0,0,0,0,0,0,0,0,0,0,0,0,0,0,0,0,0,0,0,0,0,0,0,0,0,0,0,0,0,0,0,0,0,0,0,0,0,0,0,0,0,0,0,0,0,0,0,0,0,0,0,0,0,0,0,0,0,0,0,0,0]
[120,{"$f":"'CH4 from Abandoned Coal Mines'!D124","v":""},{"$f":"'CH4 from Abandoned Coal Mines'!H124","v":""},{"$f":"VALUE('CH4 from Abandoned Coal Mines'!J124)","v":{"$error":"#VALUE!"}},{"$f":"IF('CH4 from Abandoned Coal Mines'!N124>0,'CH4 from Abandoned Coal Mines'!N124,'CH4 from Abandoned Coal Mines'!L124)","v":""},{"$f":"'CH4 from Abandoned Coal Mines'!P124","v":0},{"$f":"'CH4 from Abandoned Coal Mines'!R124","v":0},{"$f":"VLOOKUP(B123,'Abandoned Data'!$O$3:$V$163,6,FALSE)","v":""},{"$f":"VLOOKUP(B123,'Abandoned Data'!$O$3:$V$163,7,FALSE)","v":""},{"$f":"VLOOKUP(B123,'Abandoned Data'!$O$3:$V$163,8,FALSE)","v":""},{"$error":"#VALUE!"},null,null,null,null,null,null,null,null,null,null,null,null,120,0,0,0,0,0,0,0,0,0,0,0,0,0,0,0,0,0,0,0,0,0,0,0,0,0,0,0,0,0,0,0,0,0,0,0,0,0,0,0,0,0,0,0,0,0,0,0,0,0,0,0,0,0,0,0,0,0,0,0,0,0]
[121,{"$f":"'CH4 from Abandoned Coal Mines'!D125","v":""},{"$f":"'CH4 from Abandoned Coal Mines'!H125","v":""},{"$f":"VALUE('CH4 from Abandoned Coal Mines'!J125)","v":{"$error":"#VALUE!"}},{"$f":"IF('CH4 from Abandoned Coal Mines'!N125>0,'CH4 from Abandoned Coal Mines'!N125,'CH4 from Abandoned Coal Mines'!L125)","v":""},{"$f":"'CH4 from Abandoned Coal Mines'!P125","v":0},{"$f":"'CH4 from Abandoned Coal Mines'!R125","v":0},{"$f":"VLOOKUP(B124,'Abandoned Data'!$O$3:$V$163,6,FALSE)","v":""},{"$f":"VLOOKUP(B124,'Abandoned Data'!$O$3:$V$163,7,FALSE)","v":""},{"$f":"VLOOKUP(B124,'Abandoned Data'!$O$3:$V$163,8,FALSE)","v":""},{"$error":"#VALUE!"},null,null,null,null,null,null,null,null,null,null,null,null,121,{"$f":"IF(ISERROR(IF($D124<Y$3,IF($E124=\"Venting\",(($H124*mmcfd_m3)*((1+$I124*(Y$3-$D124))^$J124)-$G124)*Gg_m3,IF($E124=\"Sealed\",((($H124*mmcfd_m3)*((1+$I124*(Y$3-$D124))^$J124)*(1-$F124)-$G124)*Gg_m3),IF($E124=\"Flooded\",(($H124*mmcfd_m3)*EXP(-0.6728*(Y$3-$D124))*Gg_m3),(($H124*mmcfd_m3)*((1+$I124*(Y$3-$D124))^$J124)-$G124)*Gg_m3+((($H124*mmcfd_m3)*((1+$I124*(Y$3-$D124))^$J124)*(1-0.8)-$G124)*Gg_m3)+(($H124*mmcfd_m3)*EXP(-0.6728*(Y$3-$D124))*Gg_m3)))),0)),0,IF($D124<Y$3,IF($E124=\"Venting\",(($H124*mmcfd_m3)*((1+$I124*(Y$3-$D124))^$J124)-$G124)*Gg_m3,IF($E124=\"Sealed\",((($H124*mmcfd_m3)*((1+$I124*(Y$3-$D124))^$J124)*(1-$F124)-$G124)*Gg_m3),IF($E124=\"Flooded\",(($H124*mmcfd_m3)*EXP(-0.6728*(Y$3-$D124))*Gg_m3),(($H124*mmcfd_m3)*((1+$I124*(Y$3-$D124))^$J124)-$G124)*Gg_m3+((($H124*mmcfd_m3)*((1+$I124*(Y$3-$D124))^$J124)*(1-0.8)-$G124)*Gg_m3)+(($H124*mmcfd_m3)*EXP(-0.6728*(Y$3-$D124))*Gg_m3)))),0))","v":0},0,0,0,0,0,0,0,0,0,{"$f":"IF(ISERROR(IF($D124<AI$3,IF($E124=\"Venting\",(($H124*mmcfd_m3)*((1+$I124*(AI$3-$D124))^$J124)-$G124)*Gg_m3,IF($E124=\"Sealed\",((($H124*mmcfd_m3)*((1+$I124*(AI$3-$D124))^$J124)*(1-$F124)-$G124)*Gg_m3),IF($E124=\"Flooded\",(($H124*mmcfd_m3)*EXP(-0.6728*(AI$3-$D124))*Gg_m3),(($H124*mmcfd_m3)*((1+$I124*(AI$3-$D124))^$J124)-$G124)*Gg_m3+((($H124*mmcfd_m3)*((1+$I124*(AI$3-$D124))^$J124)*(1-0.8)-$G124)*Gg_m3)+(($H124*mmcfd_m3)*EXP(-0.6728*(AI$3-$D124))*Gg_m3)))),0)),0,IF($D124<AI$3,IF($E124=\"Venting\",(($H124*mmcfd_m3)*((1+$I124*(AI$3-$D124))^$J124)-$G124)*Gg_m3,IF($E124=\"Sealed\",((($H124*mmcfd_m3)*((1+$I124*(AI$3-$D124))^$J124)*(1-$F124)-$G124)*Gg_m3),IF($E124=\"Flooded\",(($H124*mmcfd_m3)*EXP(-0.6728*(AI$3-$D124))*Gg_m3),(($H124*mmcfd_m3)*((1+$I124*(AI$3-$D124))^$J124)-$G124)*Gg_m3+((($H124*mmcfd_m3)*((1+$I124*(AI$3-$D124))^$J124)*(1-0.8)-$G124)*Gg_m3)+(($H124*mmcfd_m3)*EXP(-0.6728*(AI$3-$D124))*Gg_m3)))),0))","v":0},0,0,0,0,0,0,0,0,0,{"$f":"IF(ISERROR(IF($D124<AS$3,IF($E124=\"Venting\",(($H124*mmcfd_m3)*((1+$I124*(AS$3-$D124))^$J124)-$G124)*Gg_m3,IF($E124=\"Sealed\",((($H124*mmcfd_m3)*((1+$I124*(AS$3-$D124))^$J124)*(1-$F124)-$G124)*Gg_m3),IF($E124=\"Flooded\",(($H124*mmcfd_m3)*EXP(-0.6728*(AS$3-$D124))*Gg_m3),(($H124*mmcfd_m3)*((1+$I124*(AS$3-$D124))^$J124)-$G124)*Gg_m3+((($H124*mmcfd_m3)*((1+$I124*(AS$3-$D124))^$J124)*(1-0.8)-$G124)*Gg_m3)+(($H124*mmcfd_m3)*EXP(-0.6728*(AS$3-$D124))*Gg_m3)))),0)),0,IF($D124<AS$3,IF($E124=\"Venting\",(($H124*mmcfd_m3)*((1+$I124*(AS$3-$D124))^$J124)-$G124)*Gg_m3,IF($E124=\"Sealed\",((($H124*mmcfd_m3)*((1+$I124*(AS$3-$D124))^$J124)*(1-$F124)-$G124)*Gg_m3),IF($E124=\"Flooded\",(($H124*mmcfd_m3)*EXP(-0.6728*(AS$3-$D124))*Gg_m3),(($H124*mmcfd_m3)*((1+$I124*(AS$3-$D124))^$J124)-$G124)*Gg_m3+((($H124*mmcfd_m3)*((1+$I124*(AS$3-$D124))^$J124)*(1-0.8)-$G124)*Gg_m3)+(($H124*mmcfd_m3)*EXP(-0.6728*(AS$3-$D124))*Gg_m3)))),0))","v":0},0,0,0,0,0,0,0,0,0,0,0,0,0,0,0,0,0,0,0,0,0,0,0,0,0,0,0,0,0,0,0,0,0,0,0,0,0,0,0,0]
[122,{"$f":"'CH4 from Abandoned Coal Mines'!D126","v":""},{"$f":"'CH4 from Abandoned Coal Mines'!H126","v":""},{"$f":"VALUE('CH4 from Abandoned Coal Mines'!J126)","v":{"$error":"#VALUE!"}},{"$f":"IF('CH4 from Abandoned Coal Mines'!N126>0,'CH4 from Abandoned Coal Mines'!N126,'CH4 from Abandoned Coal Mines'!L126)","v":""},{"$f":"'CH4 from Abandoned Coal Mines'!P126","v":0},{"$f":"'CH4 from Abandoned Coal Mines'!R126","v":0},{"$f":"VLOOKUP(B125,'Abandoned Data'!$O$3:$V$163,6,FALSE)","v":""},{"$f":"VLOOKUP(B125,'Abandoned Data'!$O$3:$V$163,7,FALSE)","v":""},{"$f":"VLOOKUP(B125,'Abandoned Data'!$O$3:$V$163,8,FALSE)","v":""},{"$error":"#VALUE!"},null,null,null,null,null,null,null,null,null,null,null,null,122,0,0,0,0,0,0,0,0,0,0,0,0,0,0,0,0,0,0,0,0,0,0,0,0,0,0,0,0,0,0,0,0,0,0,0,0,0,0,0,0,0,0,0,0,0,0,0,0,0,0,0,0,0,0,0,0,0,0,0,0,0]
[123,{"$f":"'CH4 from Abandoned Coal Mines'!D127","v":""},{"$f":"'CH4 from Abandoned Coal Mines'!H127","v":""},{"$f":"VALUE('CH4 from Abandoned Coal Mines'!J127)","v":{"$error":"#VALUE!"}},{"$f":"IF('CH4 from Abandoned Coal Mines'!N127>0,'CH4 from Abandoned Coal Mines'!N127,'CH4 from Abandoned Coal Mines'!L127)","v":""},{"$f":"'CH4 from Abandoned Coal Mines'!P127","v":0},{"$f":"'CH4 from Abandoned Coal Mines'!R127","v":0},{"$f":"VLOOKUP(B126,'Abandoned Data'!$O$3:$V$163,6,FALSE)","v":""},{"$f":"VLOOKUP(B126,'Abandoned Data'!$O$3:$V$163,7,FALSE)","v":""},{"$f":"VLOOKUP(B126,'Abandoned Data'!$O$3:$V$163,8,FALSE)","v":""},{"$error":"#VALUE!"},null,null,null,null,null,null,null,null,null,null,null,null,123,0,0,0,0,0,0,0,0,0,0,0,0,0,0,0,0,0,0,0,0,0,0,0,0,0,0,0,0,0,0,0,0,0,0,0,0,0,0,0,0,0,0,0,0,0,0,0,0,0,0,0,0,0,0,0,0,0,0,0,0,0]
[124,{"$f":"'CH4 from Abandoned Coal Mines'!D128","v":""},{"$f":"'CH4 from Abandoned Coal Mines'!H128","v":""},{"$f":"VALUE('CH4 from Abandoned Coal Mines'!J128)","v":{"$error":"#VALUE!"}},{"$f":"IF('CH4 from Abandoned Coal Mines'!N128>0,'CH4 from Abandoned Coal Mines'!N128,'CH4 from Abandoned Coal Mines'!L128)","v":""},{"$f":"'CH4 from Abandoned Coal Mines'!P128","v":0},{"$f":"'CH4 from Abandoned Coal Mines'!R128","v":0},{"$f":"VLOOKUP(B127,'Abandoned Data'!$O$3:$V$163,6,FALSE)","v":""},{"$f":"VLOOKUP(B127,'Abandoned Data'!$O$3:$V$163,7,FALSE)","v":""},{"$f":"VLOOKUP(B127,'Abandoned Data'!$O$3:$V$163,8,FALSE)","v":""},{"$error":"#VALUE!"},null,null,null,null,null,null,null,null,null,null,null,null,124,0,0,0,0,0,0,0,0,0,0,0,0,0,0,0,0,0,0,0,0,0,0,0,0,0,0,0,0,0,0,0,0,0,0,0,0,0,0,0,0,0,{"$f":"IF(ISERROR(IF($D127<BN$3,IF($E127=\"Venting\",(($H127*mmcfd_m3)*((1+$I127*(BN$3-$D127))^$J127)-$G127)*Gg_m3,IF($E127=\"Sealed\",((($H127*mmcfd_m3)*((1+$I127*(BN$3-$D127))^$J127)*(1-$F127)-$G127)*Gg_m3),IF($E127=\"Flooded\",(($H127*mmcfd_m3)*EXP(-0.6728*(BN$3-$D127))*Gg_m3),(($H127*mmcfd_m3)*((1+$I127*(BN$3-$D127))^$J127)-$G127)*Gg_m3+((($H127*mmcfd_m3)*((1+$I127*(BN$3-$D127))^$J127)*(1-0.8)-$G127)*Gg_m3)+(($H127*mmcfd_m3)*EXP(-0.6728*(BN$3-$D127))*Gg_m3)))),0)),0,IF($D127<BN$3,IF($E127=\"Venting\",(($H127*mmcfd_m3)*((1+$I127*(BN$3-$D127))^$J127)-$G127)*Gg_m3,IF($E127=\"Sealed\",((($H127*mmcfd_m3)*((1+$I127*(BN$3-$D127))^$J127)*(1-$F127)-$G127)*Gg_m3),IF($E127=\"Flooded\",(($H127*mmcfd_m3)*EXP(-0.6728*(BN$3-$D127))*Gg_m3),(($H127*mmcfd_m3)*((1+$I127*(BN$3-$D127))^$J127)-$G127)*Gg_m3+((($H127*mmcfd_m3)*((1+$I127*(BN$3-$D127))^$J127)*(1-0.8)-$G127)*Gg_m3)+(($H127*mmcfd_m3)*EXP(-0.6728*(BN$3-$D127))*Gg_m3)))),0))","v":0},0,0,0,0,0,0,0,0,0,0,0,0,0,0,0,0,0,0,0]
[125,{"$f":"'CH4 from Abandoned Coal Mines'!D129","v":""},{"$f":"'CH4 from Abandoned Coal Mines'!H129","v":""},{"$f":"VALUE('CH4 from Abandoned Coal Mines'!J129)","v":{"$error":"#VALUE!"}},{"$f":"IF('CH4 from Abandoned Coal Mines'!N129>0,'CH4 from Abandoned Coal Mines'!N129,'CH4 from Abandoned Coal Mines'!L129)","v":""},{"$f":"'CH4 from Abandoned Coal Mines'!P129","v":0},{"$f":"'CH4 from Abandoned Coal Mines'!R129","v":0},{"$f":"VLOOKUP(B128,'Abandoned Data'!$O$3:$V$163,6,FALSE)","v":""},{"$f":"VLOOKUP(B128,'Abandoned Data'!$O$3:$V$163,7,FALSE)","v":""},{"$f":"VLOOKUP(B128,'Abandoned Data'!$O$3:$V$163,8,FALSE)","v":""},{"$error":"#VALUE!"},null,null,null,null,null,null,null,null,null,null,null,null,125,0,0,0,0,0,0,0,0,0,0,0,0,0,0,0,0,0,0,0,0,0,0,0,0,0,0,0,0,0,0,0,0,0,0,0,0,0,0,0,0,0,0,0,0,0,0,0,0,0,0,0,0,0,0,0,0,0,0,0,0,0]
[126,{"$f":"'CH4 from Abandoned Coal Mines'!D130","v":""},{"$f":"'CH4 from Abandoned Coal Mines'!H130","v":""},{"$f":"VALUE('CH4 from Abandoned Coal Mines'!J130)","v":{"$error":"#VALUE!"}},{"$f":"IF('CH4 from Abandoned Coal Mines'!N130>0,'CH4 from Abandoned Coal Mines'!N130,'CH4 from Abandoned Coal Mines'!L130)","v":""},{"$f":"'CH4 from Abandoned Coal Mines'!P130","v":0},{"$f":"'CH4 from Abandoned Coal Mines'!R130","v":0},{"$f":"VLOOKUP(B129,'Abandoned Data'!$O$3:$V$163,6,FALSE)","v":""},{"$f":"VLOOKUP(B129,'Abandoned Data'!$O$3:$V$163,7,FALSE)","v":""},{"$f":"VLOOKUP(B129,'Abandoned Data'!$O$3:$V$163,8,FALSE)","v":""},{"$error":"#VALUE!"},null,null,null,null,null,null,null,null,null,null,null,null,126,0,0,0,0,0,0,0,0,0,0,0,0,0,0,0,0,0,0,0,0,0,0,0,0,0,0,0,0,0,0,0,0,0,0,0,0,0,0,0,0,0,0,0,0,0,0,0,0,0,0,0,0,0,0,0,0,0,0,0,0,0]
[127,{"$f":"'CH4 from Abandoned Coal Mines'!D131","v":""},{"$f":"'CH4 from Abandoned Coal Mines'!H131","v":""},{"$f":"VALUE('CH4 from Abandoned Coal Mines'!J131)","v":{"$error":"#VALUE!"}},{"$f":"IF('CH4 from Abandoned Coal Mines'!N131>0,'CH4 from Abandoned Coal Mines'!N131,'CH4 from Abandoned Coal Mines'!L131)","v":""},{"$f":"'CH4 from Abandoned Coal Mines'!P131","v":0},{"$f":"'CH4 from Abandoned Coal Mines'!R131","v":0},{"$f":"VLOOKUP(B130,'Abandoned Data'!$O$3:$V$163,6,FALSE)","v":""},{"$f":"VLOOKUP(B130,'Abandoned Data'!$O$3:$V$163,7,FALSE)","v":""},{"$f":"VLOOKUP(B130,'Abandoned Data'!$O$3:$V$163,8,FALSE)","v":""},{"$error":"#VALUE!"},null,null,null,null,null,null,null,null,null,null,null,null,127,0,0,0,0,0,0,0,0,0,0,0,0,0,0,0,0,0,0,0,0,0,0,0,0,0,0,0,0,0,0,0,0,0,0,0,0,0,0,0,0,0,0,0,0,0,0,0,0,0,0,0,0,0,0,0,0,0,0,0,0,0]
[128,{"$f":"'CH4 from Abandoned Coal Mines'!D132","v":""},{"$f":"'CH4 from Abandoned Coal Mines'!H132","v":""},{"$f":"VALUE('CH4 from Abandoned Coal Mines'!J132)","v":{"$error":"#VALUE!"}},{"$f":"IF('CH4 from Abandoned Coal Mines'!N132>0,'CH4 from Abandoned Coal Mines'!N132,'CH4 from Abandoned Coal Mines'!L132)","v":""},{"$f":"'CH4 from Abandoned Coal Mines'!P132","v":0},{"$f":"'CH4 from Abandoned Coal Mines'!R132","v":0},{"$f":"VLOOKUP(B131,'Abandoned Data'!$O$3:$V$163,6,FALSE)","v":""},{"$f":"VLOOKUP(B131,'Abandoned Data'!$O$3:$V$163,7,FALSE)","v":""},{"$f":"VLOOKUP(B131,'Abandoned Data'!$O$3:$V$163,8,FALSE)","v":""},{"$error":"#VALUE!"},null,null,null,null,null,null,null,null,null,null,null,null,128,0,0,0,0,0,0,0,0,0,0,0,0,0,0,0,0,0,0,0,0,0,0,0,0,0,0,0,0,0,0,0,0,0,0,0,0,0,0,0,0,0,0,0,0,0,0,0,0,0,0,0,0,0,0,0,0,0,0,0,0,0]
[129,{"$f":"'CH4 from Abandoned Coal Mines'!D133","v":""},{"$f":"'CH4 from Abandoned Coal Mines'!H133","v":""},{"$f":"VALUE('CH4 from Abandoned Coal Mines'!J133)","v":{"$error":"#VALUE!"}},{"$f":"IF('CH4 from Abandoned Coal Mines'!N133>0,'CH4 from Abandoned Coal Mines'!N133,'CH4 from Abandoned Coal Mines'!L133)","v":""},{"$f":"'CH4 from Abandoned Coal Mines'!P133","v":0},{"$f":"'CH4 from Abandoned Coal Mines'!R133","v":0},{"$f":"VLOOKUP(B132,'Abandoned Data'!$O$3:$V$163,6,FALSE)","v":""},{"$f":"VLOOKUP(B132,'Abandoned Data'!$O$3:$V$163,7,FALSE)","v":""},{"$f":"VLOOKUP(B132,'Abandoned Data'!$O$3:$V$163,8,FALSE)","v":""},{"$error":"#VALUE!"},null,null,null,null,null,null,null,null,null,null,null,null,129,0,0,0,0,0,0,0,0,0,0,0,0,0,0,0,0,0,0,0,0,0,0,0,0,0,0,0,0,0,0,0,0,0,0,0,0,0,0,0,0,0,0,0,0,0,0,0,0,0,0,0,0,0,0,0,0,0,0,0,0,0]
[130,{"$f":"'CH4 from Abandoned Coal Mines'!D134","v":""},{"$f":"'CH4 from Abandoned Coal Mines'!H134","v":""},{"$f":"VALUE('CH4 from Abandoned Coal Mines'!J134)","v":{"$error":"#VALUE!"}},{"$f":"IF('CH4 from Abandoned Coal Mines'!N134>0,'CH4 from Abandoned Coal Mines'!N134,'CH4 from Abandoned Coal Mines'!L134)","v":""},{"$f":"'CH4 from Abandoned Coal Mines'!P134","v":0},{"$f":"'CH4 from Abandoned Coal Mines'!R134","v":0},{"$f":"VLOOKUP(B133,'Abandoned Data'!$O$3:$V$163,6,FALSE)","v":""},{"$f":"VLOOKUP(B133,'Abandoned Data'!$O$3:$V$163,7,FALSE)","v":""},{"$f":"VLOOKUP(B133,'Abandoned Data'!$O$3:$V$163,8,FALSE)","v":""},{"$error":"#VALUE!"},null,null,null,null,null,null,null,null,null,null,null,null,130,0,0,0,0,0,0,0,0,0,0,0,0,0,0,0,0,0,0,0,0,0,0,0,0,0,0,0,0,0,0,0,0,0,0,0,0,0,0,0,0,0,0,0,0,0,0,0,0,0,0,0,0,0,0,0,0,0,0,0,0,0]
[131,{"$f":"'CH4 from Abandoned Coal Mines'!D135","v":""},{"$f":"'CH4 from Abandoned Coal Mines'!H135","v":""},{"$f":"VALUE('CH4 from Abandoned Coal Mines'!J135)","v":{"$error":"#VALUE!"}},{"$f":"IF('CH4 from Abandoned Coal Mines'!N135>0,'CH4 from Abandoned Coal Mines'!N135,'CH4 from Abandoned Coal Mines'!L135)","v":""},{"$f":"'CH4 from Abandoned Coal Mines'!P135","v":0},{"$f":"'CH4 from Abandoned Coal Mines'!R135","v":0},{"$f":"VLOOKUP(B134,'Abandoned Data'!$O$3:$V$163,6,FALSE)","v":""},{"$f":"VLOOKUP(B134,'Abandoned Data'!$O$3:$V$163,7,FALSE)","v":""},{"$f":"VLOOKUP(B134,'Abandoned Data'!$O$3:$V$163,8,FALSE)","v":""},{"$error":"#VALUE!"},null,null,null,null,null,null,null,null,null,null,null,null,131,{"$f":"IF(ISERROR(IF($D134<Y$3,IF($E134=\"Venting\",(($H134*mmcfd_m3)*((1+$I134*(Y$3-$D134))^$J134)-$G134)*Gg_m3,IF($E134=\"Sealed\",((($H134*mmcfd_m3)*((1+$I134*(Y$3-$D134))^$J134)*(1-$F134)-$G134)*Gg_m3),IF($E134=\"Flooded\",(($H134*mmcfd_m3)*EXP(-0.6728*(Y$3-$D134))*Gg_m3),(($H134*mmcfd_m3)*((1+$I134*(Y$3-$D134))^$J134)-$G134)*Gg_m3+((($H134*mmcfd_m3)*((1+$I134*(Y$3-$D134))^$J134)*(1-0.8)-$G134)*Gg_m3)+(($H134*mmcfd_m3)*EXP(-0.6728*(Y$3-$D134))*Gg_m3)))),0)),0,IF($D134<Y$3,IF($E134=\"Venting\",(($H134*mmcfd_m3)*((1+$I134*(Y$3-$D134))^$J134)-$G134)*Gg_m3,IF($E134=\"Sealed\",((($H134*mmcfd_m3)*((1+$I134*(Y$3-$D134))^$J134)*(1-$F134)-$G134)*Gg_m3),IF($E134=\"Flooded\",(($H134*mmcfd_m3)*EXP(-0.6728*(Y$3-$D134))*Gg_m3),(($H134*mmcfd_m3)*((1+$I134*(Y$3-$D134))^$J134)-$G134)*Gg_m3+((($H134*mmcfd_m3)*((1+$I134*(Y$3-$D134))^$J134)*(1-0.8)-$G134)*Gg_m3)+(($H134*mmcfd_m3)*EXP(-0.6728*(Y$3-$D134))*Gg_m3)))),0))","v":0},0,0,0,0,0,0,0,0,0,{"$f":"IF(ISERROR(IF($D134<AI$3,IF($E134=\"Venting\",(($H134*mmcfd_m3)*((1+$I134*(AI$3-$D134))^$J134)-$G134)*Gg_m3,IF($E134=\"Sealed\",((($H134*mmcfd_m3)*((1+$I134*(AI$3-$D134))^$J134)*(1-$F134)-$G134)*Gg_m3),IF($E134=\"Flooded\",(($H134*mmcfd_m3)*EXP(-0.6728*(AI$3-$D134))*Gg_m3),(($H134*mmcfd_m3)*((1+$I134*(AI$3-$D134))^$J134)-$G134)*Gg_m3+((($H134*mmcfd_m3)*((1+$I134*(AI$3-$D134))^$J134)*(1-0.8)-$G134)*Gg_m3)+(($H134*mmcfd_m3)*EXP(-0.6728*(AI$3-$D134))*Gg_m3)))),0)),0,IF($D134<AI$3,IF($E134=\"Venting\",(($H134*mmcfd_m3)*((1+$I134*(AI$3-$D134))^$J134)-$G134)*Gg_m3,IF($E134=\"Sealed\",((($H134*mmcfd_m3)*((1+$I134*(AI$3-$D134))^$J134)*(1-$F134)-$G134)*Gg_m3),IF($E134=\"Flooded\",(($H134*mmcfd_m3)*EXP(-0.6728*(AI$3-$D134))*Gg_m3),(($H134*mmcfd_m3)*((1+$I134*(AI$3-$D134))^$J134)-$G134)*Gg_m3+((($H134*mmcfd_m3)*((1+$I134*(AI$3-$D134))^$J134)*(1-0.8)-$G134)*Gg_m3)+(($H134*mmcfd_m3)*EXP(-0.6728*(AI$3-$D134))*Gg_m3)))),0))","v":0},0,0,0,0,0,0,0,0,0,{"$f":"IF(ISERROR(IF($D134<AS$3,IF($E134=\"Venting\",(($H134*mmcfd_m3)*((1+$I134*(AS$3-$D134))^$J134)-$G134)*Gg_m3,IF($E134=\"Sealed\",((($H134*mmcfd_m3)*((1+$I134*(AS$3-$D134))^$J134)*(1-$F134)-$G134)*Gg_m3),IF($E134=\"Flooded\",(($H134*mmcfd_m3)*EXP(-0.6728*(AS$3-$D134))*Gg_m3),(($H134*mmcfd_m3)*((1+$I134*(AS$3-$D134))^$J134)-$G134)*Gg_m3+((($H134*mmcfd_m3)*((1+$I134*(AS$3-$D134))^$J134)*(1-0.8)-$G134)*Gg_m3)+(($H134*mmcfd_m3)*EXP(-0.6728*(AS$3-$D134))*Gg_m3)))),0)),0,IF($D134<AS$3,IF($E134=\"Venting\",(($H134*mmcfd_m3)*((1+$I134*(AS$3-$D134))^$J134)-$G134)*Gg_m3,IF($E134=\"Sealed\",((($H134*mmcfd_m3)*((1+$I134*(AS$3-$D134))^$J134)*(1-$F134)-$G134)*Gg_m3),IF($E134=\"Flooded\",(($H134*mmcfd_m3)*EXP(-0.6728*(AS$3-$D134))*Gg_m3),(($H134*mmcfd_m3)*((1+$I134*(AS$3-$D134))^$J134)-$G134)*Gg_m3+((($H134*mmcfd_m3)*((1+$I134*(AS$3-$D134))^$J134)*(1-0.8)-$G134)*Gg_m3)+(($H134*mmcfd_m3)*EXP(-0.6728*(AS$3-$D134))*Gg_m3)))),0))","v":0},0,0,0,0,0,0,0,0,0,0,0,0,0,0,0,0,0,0,0,0,0,0,0,0,0,0,0,0,0,0,0,0,0,0,0,0,0,0,0,0]
[132,{"$f":"'CH4 from Abandoned Coal Mines'!D136","v":""},{"$f":"'CH4 from Abandoned Coal Mines'!H136","v":""},{"$f":"VALUE('CH4 from Abandoned Coal Mines'!J136)","v":{"$error":"#VALUE!"}},{"$f":"IF('CH4 from Abandoned Coal Mines'!N136>0,'CH4 from Abandoned Coal Mines'!N136,'CH4 from Abandoned Coal Mines'!L136)","v":""},{"$f":"'CH4 from Abandoned Coal Mines'!P136","v":0},{"$f":"'CH4 from Abandoned Coal Mines'!R136","v":0},{"$f":"VLOOKUP(B135,'Abandoned Data'!$O$3:$V$163,6,FALSE)","v":""},{"$f":"VLOOKUP(B135,'Abandoned Data'!$O$3:$V$163,7,FALSE)","v":""},{"$f":"VLOOKUP(B135,'Abandoned Data'!$O$3:$V$163,8,FALSE)","v":""},{"$error":"#VALUE!"},null,null,null,null,null,null,null,null,null,null,null,null,132,0,0,0,0,0,0,0,0,0,0,0,0,0,0,0,0,0,0,0,0,0,0,0,0,0,0,0,0,0,0,0,0,0,0,0,0,0,0,0,0,0,0,0,0,0,0,0,0,0,0,0,0,0,0,0,0,0,0,0,0,0]
[133,{"$f":"'CH4 from Abandoned Coal Mines'!D137","v":""},{"$f":"'CH4 from Abandoned Coal Mines'!H137","v":""},{"$f":"VALUE('CH4 from Abandoned Coal Mines'!J137)","v":{"$error":"#VALUE!"}},{"$f":"IF('CH4 from Abandoned Coal Mines'!N137>0,'CH4 from Abandoned Coal Mines'!N137,'CH4 from Abandoned Coal Mines'!L137)","v":""},{"$f":"'CH4 from Abandoned Coal Mines'!P137","v":0},{"$f":"'CH4 from Abandoned Coal Mines'!R137","v":0},{"$f":"VLOOKUP(B136,'Abandoned Data'!$O$3:$V$163,6,FALSE)","v":""},{"$f":"VLOOKUP(B136,'Abandoned Data'!$O$3:$V$163,7,FALSE)","v":""},{"$f":"VLOOKUP(B136,'Abandoned Data'!$O$3:$V$163,8,FALSE)","v":""},{"$error":"#VALUE!"},null,null,null,null,null,null,null,null,null,null,null,null,133,0,0,0,0,0,0,0,0,0,0,0,0,0,0,0,0,0,0,0,0,0,0,0,0,0,0,0,0,0,0,0,{"$f":"IF(ISERROR(IF($D136<BD$3,IF($E136=\"Venting\",(($H136*mmcfd_m3)*((1+$I136*(BD$3-$D136))^$J136)-$G136)*Gg_m3,IF($E136=\"Sealed\",((($H136*mmcfd_m3)*((1+$I136*(BD$3-$D136))^$J136)*(1-$F136)-$G136)*Gg_m3),IF($E136=\"Flooded\",(($H136*mmcfd_m3)*EXP(-0.6728*(BD$3-$D136))*Gg_m3),(($H136*mmcfd_m3)*((1+$I136*(BD$3-$D136))^$J136)-$G136)*Gg_m3+((($H136*mmcfd_m3)*((1+$I136*(BD$3-$D136))^$J136)*(1-0.8)-$G136)*Gg_m3)+(($H136*mmcfd_m3)*EXP(-0.6728*(BD$3-$D136))*Gg_m3)))),0)),0,IF($D136<BD$3,IF($E136=\"Venting\",(($H136*mmcfd_m3)*((1+$I136*(BD$3-$D136))^$J136)-$G136)*Gg_m3,IF($E136=\"Sealed\",((($H136*mmcfd_m3)*((1+$I136*(BD$3-$D136))^$J136)*(1-$F136)-$G136)*Gg_m3),IF($E136=\"Flooded\",(($H136*mmcfd_m3)*EXP(-0.6728*(BD$3-$D136))*Gg_m3),(($H136*mmcfd_m3)*((1+$I136*(BD$3-$D136))^$J136)-$G136)*Gg_m3+((($H136*mmcfd_m3)*((1+$I136*(BD$3-$D136))^$J136)*(1-0.8)-$G136)*Gg_m3)+(($H136*mmcfd_m3)*EXP(-0.6728*(BD$3-$D136))*Gg_m3)))),0))","v":0},0,0,0,0,0,0,0,0,0,0,0,0,0,0,0,0,0,0,0,0,0,0,0,0,0,0,0,0,0]
[134,{"$f":"'CH4 from Abandoned Coal Mines'!D138","v":""},{"$f":"'CH4 from Abandoned Coal Mines'!H138","v":""},{"$f":"VALUE('CH4 from Abandoned Coal Mines'!J138)","v":{"$error":"#VALUE!"}},{"$f":"IF('CH4 from Abandoned Coal Mines'!N138>0,'CH4 from Abandoned Coal Mines'!N138,'CH4 from Abandoned Coal Mines'!L138)","v":""},{"$f":"'CH4 from Abandoned Coal Mines'!P138","v":0},{"$f":"'CH4 from Abandoned Coal Mines'!R138","v":0},{"$f":"VLOOKUP(B137,'Abandoned Data'!$O$3:$V$163,6,FALSE)","v":""},{"$f":"VLOOKUP(B137,'Abandoned Data'!$O$3:$V$163,7,FALSE)","v":""},{"$f":"VLOOKUP(B137,'Abandoned Data'!$O$3:$V$163,8,FALSE)","v":""},{"$error":"#VALUE!"},null,null,null,null,null,null,null,null,null,null,null,null,134,0,0,0,0,0,0,0,0,0,0,0,0,0,0,0,0,0,0,0,0,0,0,0,0,0,0,0,0,0,0,0,0,0,0,0,0,0,0,0,0,0,0,0,0,0,0,0,0,0,0,0,0,0,0,0,0,0,0,0,0,0]
[135,{"$f":"'CH4 from Abandoned Coal Mines'!D139","v":""},{"$f":"'CH4 from Abandoned Coal Mines'!H139","v":""},{"$f":"VALUE('CH4 from Abandoned Coal Mines'!J139)","v":{"$error":"#VALUE!"}},{"$f":"IF('CH4 from Abandoned Coal Mines'!N139>0,'CH4 from Abandoned Coal Mines'!N139,'CH4 from Abandoned Coal Mines'!L139)","v":""},{"$f":"'CH4 from Abandoned Coal Mines'!P139","v":0},{"$f":"'CH4 from Abandoned Coal Mines'!R139","v":0},{"$f":"VLOOKUP(B138,'Abandoned Data'!$O$3:$V$163,6,FALSE)","v":""},{"$f":"VLOOKUP(B138,'Abandoned Data'!$O$3:$V$163,7,FALSE)","v":""},{"$f":"VLOOKUP(B138,'Abandoned Data'!$O$3:$V$163,8,FALSE)","v":""},{"$error":"#VALUE!"},null,null,null,null,null,null,null,null,null,null,null,null,135,0,0,0,0,0,0,0,0,0,0,0,0,0,0,0,0,0,0,0,0,0,0,0,0,0,0,0,0,0,0,0,0,0,0,0,0,0,0,0,0,0,0,0,0,0,0,0,0,0,0,0,0,0,0,0,0,0,0,0,0,0]
[136,{"$f":"'CH4 from Abandoned Coal Mines'!D140","v":""},{"$f":"'CH4 from Abandoned Coal Mines'!H140","v":""},{"$f":"VALUE('CH4 from Abandoned Coal Mines'!J140)","v":{"$error":"#VALUE!"}},{"$f":"IF('CH4 from Abandoned Coal Mines'!N140>0,'CH4 from Abandoned Coal Mines'!N140,'CH4 from Abandoned Coal Mines'!L140)","v":""},{"$f":"'CH4 from Abandoned Coal Mines'!P140","v":0},{"$f":"'CH4 from Abandoned Coal Mines'!R140","v":0},{"$f":"VLOOKUP(B139,'Abandoned Data'!$O$3:$V$163,6,FALSE)","v":""},{"$f":"VLOOKUP(B139,'Abandoned Data'!$O$3:$V$163,7,FALSE)","v":""},{"$f":"VLOOKUP(B139,'Abandoned Data'!$O$3:$V$163,8,FALSE)","v":""},{"$error":"#VALUE!"},null,null,null,null,null,null,null,null,null,null,null,null,136,0,0,0,0,0,0,0,0,0,0,0,0,0,0,0,0,0,0,0,0,0,0,0,0,0,0,0,0,0,0,0,0,0,0,0,0,0,0,0,0,0,0,0,0,0,0,0,0,0,0,0,0,0,0,0,0,0,0,0,0,0]
[137,{"$f":"'CH4 from Abandoned Coal Mines'!D141","v":""},{"$f":"'CH4 from Abandoned Coal Mines'!H141","v":""},{"$f":"VALUE('CH4 from Abandoned Coal Mines'!J141)","v":{"$error":"#VALUE!"}},{"$f":"IF('CH4 from Abandoned Coal Mines'!N141>0,'CH4 from Abandoned Coal Mines'!N141,'CH4 from Abandoned Coal Mines'!L141)","v":""},{"$f":"'CH4 from Abandoned Coal Mines'!P141","v":0},{"$f":"'CH4 from Abandoned Coal Mines'!R141","v":0},{"$f":"VLOOKUP(B140,'Abandoned Data'!$O$3:$V$163,6,FALSE)","v":""},{"$f":"VLOOKUP(B140,'Abandoned Data'!$O$3:$V$163,7,FALSE)","v":""},{"$f":"VLOOKUP(B140,'Abandoned Data'!$O$3:$V$163,8,FALSE)","v":""},{"$error":"#VALUE!"},null,null,null,null,null,null,null,null,null,null,null,null,137,0,0,0,0,0,0,0,0,0,0,0,0,0,0,0,0,0,0,0,0,0,0,0,0,0,0,0,0,0,0,0,0,0,0,0,0,0,0,0,0,0,0,0,0,0,0,0,0,0,0,0,0,0,0,0,0,0,0,0,0,0]
[138,{"$f":"'CH4 from Abandoned Coal Mines'!D142","v":""},{"$f":"'CH4 from Abandoned Coal Mines'!H142","v":""},{"$f":"VALUE('CH4 from Abandoned Coal Mines'!J142)","v":{"$error":"#VALUE!"}},{"$f":"IF('CH4 from Abandoned Coal Mines'!N142>0,'CH4 from Abandoned Coal Mines'!N142,'CH4 from Abandoned Coal Mines'!L142)","v":""},{"$f":"'CH4 from Abandoned Coal Mines'!P142","v":0},{"$f":"'CH4 from Abandoned Coal Mines'!R142","v":0},{"$f":"VLOOKUP(B141,'Abandoned Data'!$O$3:$V$163,6,FALSE)","v":""},{"$f":"VLOOKUP(B141,'Abandoned Data'!$O$3:$V$163,7,FALSE)","v":""},{"$f":"VLOOKUP(B141,'Abandoned Data'!$O$3:$V$163,8,FALSE)","v":""},{"$error":"#VALUE!"},null,null,null,null,null,null,null,null,null,null,null,null,138,0,0,0,0,0,0,0,0,0,0,0,0,0,0,0,0,0,0,0,0,0,0,0,0,0,0,0,0,0,0,0,0,0,0,0,0,0,0,0,0,0,0,0,0,0,0,0,0,0,0,0,0,0,0,0,0,0,0,0,0,0]
[139,{"$f":"'CH4 from Abandoned Coal Mines'!D143","v":""},{"$f":"'CH4 from Abandoned Coal Mines'!H143","v":""},{"$f":"VALUE('CH4 from Abandoned Coal Mines'!J143)","v":{"$error":"#VALUE!"}},{"$f":"IF('CH4 from Abandoned Coal Mines'!N143>0,'CH4 from Abandoned Coal Mines'!N143,'CH4 from Abandoned Coal Mines'!L143)","v":""},{"$f":"'CH4 from Abandoned Coal Mines'!P143","v":0},{"$f":"'CH4 from Abandoned Coal Mines'!R143","v":0},{"$f":"VLOOKUP(B142,'Abandoned Data'!$O$3:$V$163,6,FALSE)","v":""},{"$f":"VLOOKUP(B142,'Abandoned Data'!$O$3:$V$163,7,FALSE)","v":""},{"$f":"VLOOKUP(B142,'Abandoned Data'!$O$3:$V$163,8,FALSE)","v":""},{"$error":"#VALUE!"},null,null,null,null,null,null,null,null,null,null,null,null,139,0,0,0,0,0,0,0,0,0,0,0,0,0,0,0,0,0,0,0,0,0,0,0,0,0,0,0,0,0,0,0,0,0,0,0,0,0,0,0,0,0,0,0,0,0,0,0,0,0,0,0,0,0,0,0,0,0,0,0,0,0]
[140,{"$f":"'CH4 from Abandoned Coal Mines'!D144","v":""},{"$f":"'CH4 from Abandoned Coal Mines'!H144","v":""},{"$f":"VALUE('CH4 from Abandoned Coal Mines'!J144)","v":{"$error":"#VALUE!"}},{"$f":"IF('CH4 from Abandoned Coal Mines'!N144>0,'CH4 from Abandoned Coal Mines'!N144,'CH4 from Abandoned Coal Mines'!L144)","v":""},{"$f":"'CH4 from Abandoned Coal Mines'!P144","v":0},{"$f":"'CH4 from Abandoned Coal Mines'!R144","v":0},{"$f":"VLOOKUP(B143,'Abandoned Data'!$O$3:$V$163,6,FALSE)","v":""},{"$f":"VLOOKUP(B143,'Abandoned Data'!$O$3:$V$163,7,FALSE)","v":""},{"$f":"VLOOKUP(B143,'Abandoned Data'!$O$3:$V$163,8,FALSE)","v":""},{"$error":"#VALUE!"},null,null,null,null,null,null,null,null,null,null,null,null,140,0,0,0,0,0,0,0,0,0,0,0,0,0,0,0,0,0,0,0,0,0,0,0,0,0,0,0,0,0,0,0,0,0,0,0,0,0,0,0,0,0,0,0,0,0,0,0,0,0,0,0,0,0,0,0,0,0,0,0,0,0]
[141,{"$f":"'CH4 from Abandoned Coal Mines'!D145","v":""},{"$f":"'CH4 from Abandoned Coal Mines'!H145","v":""},{"$f":"VALUE('CH4 from Abandoned Coal Mines'!J145)","v":{"$error":"#VALUE!"}},{"$f":"IF('CH4 from Abandoned Coal Mines'!N145>0,'CH4 from Abandoned Coal Mines'!N145,'CH4 from Abandoned Coal Mines'!L145)","v":""},{"$f":"'CH4 from Abandoned Coal Mines'!P145","v":0},{"$f":"'CH4 from Abandoned Coal Mines'!R145","v":0},{"$f":"VLOOKUP(B144,'Abandoned Data'!$O$3:$V$163,6,FALSE)","v":""},{"$f":"VLOOKUP(B144,'Abandoned Data'!$O$3:$V$163,7,FALSE)","v":""},{"$f":"VLOOKUP(B144,'Abandoned Data'!$O$3:$V$163,8,FALSE)","v":""},{"$error":"#VALUE!"},null,null,null,null,null,null,null,null,null,null,null,null,141,0,0,0,0,0,0,0,0,0,0,0,0,0,0,0,0,0,0,0,0,0,0,0,0,0,0,0,0,0,0,0,0,0,0,0,0,0,0,0,0,0,0,0,0,0,0,{"$f":"IF(ISERROR(IF($D144<BS$3,IF($E144=\"Venting\",(($H144*mmcfd_m3)*((1+$I144*(BS$3-$D144))^$J144)-$G144)*Gg_m3,IF($E144=\"Sealed\",((($H144*mmcfd_m3)*((1+$I144*(BS$3-$D144))^$J144)*(1-$F144)-$G144)*Gg_m3),IF($E144=\"Flooded\",(($H144*mmcfd_m3)*EXP(-0.6728*(BS$3-$D144))*Gg_m3),(($H144*mmcfd_m3)*((1+$I144*(BS$3-$D144))^$J144)-$G144)*Gg_m3+((($H144*mmcfd_m3)*((1+$I144*(BS$3-$D144))^$J144)*(1-0.8)-$G144)*Gg_m3)+(($H144*mmcfd_m3)*EXP(-0.6728*(BS$3-$D144))*Gg_m3)))),0)),0,IF($D144<BS$3,IF($E144=\"Venting\",(($H144*mmcfd_m3)*((1+$I144*(BS$3-$D144))^$J144)-$G144)*Gg_m3,IF($E144=\"Sealed\",((($H144*mmcfd_m3)*((1+$I144*(BS$3-$D144))^$J144)*(1-$F144)-$G144)*Gg_m3),IF($E144=\"Flooded\",(($H144*mmcfd_m3)*EXP(-0.6728*(BS$3-$D144))*Gg_m3),(($H144*mmcfd_m3)*((1+$I144*(BS$3-$D144))^$J144)-$G144)*Gg_m3+((($H144*mmcfd_m3)*((1+$I144*(BS$3-$D144))^$J144)*(1-0.8)-$G144)*Gg_m3)+(($H144*mmcfd_m3)*EXP(-0.6728*(BS$3-$D144))*Gg_m3)))),0))","v":0},0,0,0,0,0,0,0,0,0,0,0,0,0,0]
[142,{"$f":"'CH4 from Abandoned Coal Mines'!D146","v":""},{"$f":"'CH4 from Abandoned Coal Mines'!H146","v":""},{"$f":"VALUE('CH4 from Abandoned Coal Mines'!J146)","v":{"$error":"#VALUE!"}},{"$f":"IF('CH4 from Abandoned Coal Mines'!N146>0,'CH4 from Abandoned Coal Mines'!N146,'CH4 from Abandoned Coal Mines'!L146)","v":""},{"$f":"'CH4 from Abandoned Coal Mines'!P146","v":0},{"$f":"'CH4 from Abandoned Coal Mines'!R146","v":0},{"$f":"VLOOKUP(B145,'Abandoned Data'!$O$3:$V$163,6,FALSE)","v":""},{"$f":"VLOOKUP(B145,'Abandoned Data'!$O$3:$V$163,7,FALSE)","v":""},{"$f":"VLOOKUP(B145,'Abandoned Data'!$O$3:$V$163,8,FALSE)","v":""},{"$error":"#VALUE!"},null,null,null,null,null,null,null,null,null,null,null,null,142,0,0,0,0,0,0,0,0,0,0,0,0,0,0,0,0,0,0,0,0,0,0,0,0,0,0,0,0,0,0,0,0,0,0,0,0,0,0,0,0,0,0,0,0,0,0,0,0,0,0,0,0,0,0,0,0,0,0,0,0,0]
[143,{"$f":"'CH4 from Abandoned Coal Mines'!D147","v":""},{"$f":"'CH4 from Abandoned Coal Mines'!H147","v":""},{"$f":"VALUE('CH4 from Abandoned Coal Mines'!J147)","v":{"$error":"#VALUE!"}},{"$f":"IF('CH4 from Abandoned Coal Mines'!N147>0,'CH4 from Abandoned Coal Mines'!N147,'CH4 from Abandoned Coal Mines'!L147)","v":""},{"$f":"'CH4 from Abandoned Coal Mines'!P147","v":0},{"$f":"'CH4 from Abandoned Coal Mines'!R147","v":0},{"$f":"VLOOKUP(B146,'Abandoned Data'!$O$3:$V$163,6,FALSE)","v":""},{"$f":"VLOOKUP(B146,'Abandoned Data'!$O$3:$V$163,7,FALSE)","v":""},{"$f":"VLOOKUP(B146,'Abandoned Data'!$O$3:$V$163,8,FALSE)","v":""},{"$error":"#VALUE!"},null,null,null,null,null,null,null,null,null,null,null,null,{"$f":"X145+1","v":143},0,0,0,0,0,0,0,0,0,0,0,0,0,0,0,0,0,0,0,0,0,0,0,0,0,0,0,0,0,0,0,0,0,0,0,0,0,0,0,0,0,0,0,0,0,0,0,0,0,0,0,0,0,0,0,0,0,0,0,0,0]
[144,{"$f":"'CH4 from Abandoned Coal Mines'!D148","v":""},{"$f":"'CH4 from Abandoned Coal Mines'!H148","v":""},{"$f":"VALUE('CH4 from Abandoned Coal Mines'!J148)","v":{"$error":"#VALUE!"}},{"$f":"IF('CH4 from Abandoned Coal Mines'!N148>0,'CH4 from Abandoned Coal Mines'!N148,'CH4 from Abandoned Coal Mines'!L148)","v":""},{"$f":"'CH4 from Abandoned Coal Mines'!P148","v":0},{"$f":"'CH4 from Abandoned Coal Mines'!R148","v":0},{"$f":"VLOOKUP(B147,'Abandoned Data'!$O$3:$V$163,6,FALSE)","v":""},{"$f":"VLOOKUP(B147,'Abandoned Data'!$O$3:$V$163,7,FALSE)","v":""},{"$f":"VLOOKUP(B147,'Abandoned Data'!$O$3:$V$163,8,FALSE)","v":""},{"$error":"#VALUE!"},null,null,null,null,null,null,null,null,null,null,null,null,{"$f":"X146+1","v":144},0,0,0,0,0,0,0,0,0,0,0,0,0,0,0,0,0,0,0,0,0,0,0,0,0,0,0,0,0,0,0,0,0,0,0,0,0,0,0,0,0,0,0,0,0,0,0,0,0,0,0,0,0,0,0,0,0,0,0,0,0]
[145,{"$f":"'CH4 from Abandoned Coal Mines'!D149","v":""},{"$f":"'CH4 from Abandoned Coal Mines'!H149","v":""},{"$f":"VALUE('CH4 from Abandoned Coal Mines'!J149)","v":{"$error":"#VALUE!"}},{"$f":"IF('CH4 from Abandoned Coal Mines'!N149>0,'CH4 from Abandoned Coal Mines'!N149,'CH4 from Abandoned Coal Mines'!L149)","v":""},{"$f":"'CH4 from Abandoned Coal Mines'!P149","v":0},{"$f":"'CH4 from Abandoned Coal Mines'!R149","v":0},{"$f":"VLOOKUP(B148,'Abandoned Data'!$O$3:$V$163,6,FALSE)","v":""},{"$f":"VLOOKUP(B148,'Abandoned Data'!$O$3:$V$163,7,FALSE)","v":""},{"$f":"VLOOKUP(B148,'Abandoned Data'!$O$3:$V$163,8,FALSE)","v":""},{"$error":"#VALUE!"},null,null,null,null,null,null,null,null,null,null,null,null,145,0,0,0,0,0,0,0,0,0,0,0,0,0,0,0,0,0,0,0,0,0,0,0,0,0,0,0,0,0,0,0,0,0,0,0,0,0,0,0,0,0,0,0,0,0,0,0,0,0,0,0,0,0,0,0,0,0,0,0,0,0]
[{"$f":"A148+1","v":146},{"$f":"'CH4 from Abandoned Coal Mines'!D150","v":""},{"$f":"'CH4 from Abandoned Coal Mines'!H150","v":""},{"$f":"VALUE('CH4 from Abandoned Coal Mines'!J150)","v":{"$error":"#VALUE!"}},{"$f":"IF('CH4 from Abandoned Coal Mines'!N150>0,'CH4 from Abandoned Coal Mines'!N150,'CH4 from Abandoned Coal Mines'!L150)","v":""},{"$f":"'CH4 from Abandoned Coal Mines'!P150","v":0},{"$f":"'CH4 from Abandoned Coal Mines'!R150","v":0},{"$f":"VLOOKUP(B149,'Abandoned Data'!$O$3:$V$163,6,FALSE)","v":""},{"$f":"VLOOKUP(B149,'Abandoned Data'!$O$3:$V$163,7,FALSE)","v":""},{"$f":"VLOOKUP(B149,'Abandoned Data'!$O$3:$V$163,8,FALSE)","v":""},{"$error":"#VALUE!"},null,null,null,null,null,null,null,null,null,null,null,null,146,0,0,0,0,0,0,0,0,0,0,0,0,0,0,0,0,0,0,0,0,0,0,0,0,0,0,0,0,0,0,0,0,0,0,0,0,0,0,0,0,0,0,0,0,0,0,0,0,0,0,0,0,0,0,0,0,0,0,0,0,0]
[{"$f":"A149+1","v":147},{"$f":"'CH4 from Abandoned Coal Mines'!D151","v":""},{"$f":"'CH4 from Abandoned Coal Mines'!H151","v":""},{"$f":"VALUE('CH4 from Abandoned Coal Mines'!J151)","v":{"$error":"#VALUE!"}},{"$f":"IF('CH4 from Abandoned Coal Mines'!N151>0,'CH4 from Abandoned Coal Mines'!N151,'CH4 from Abandoned Coal Mines'!L151)","v":""},{"$f":"'CH4 from Abandoned Coal Mines'!P151","v":0},{"$f":"'CH4 from Abandoned Coal Mines'!R151","v":0},{"$f":"VLOOKUP(B150,'Abandoned Data'!$O$3:$V$163,6,FALSE)","v":""},{"$f":"VLOOKUP(B150,'Abandoned Data'!$O$3:$V$163,7,FALSE)","v":""},{"$f":"VLOOKUP(B150,'Abandoned Data'!$O$3:$V$163,8,FALSE)","v":""},{"$error":"#VALUE!"},null,null,null,null,null,null,null,null,null,null,null,null,147,{"$f":"IF(ISERROR(IF($D150<Y$3,IF($E150=\"Venting\",(($H150*mmcfd_m3)*((1+$I150*(Y$3-$D150))^$J150)-$G150)*Gg_m3,IF($E150=\"Sealed\",((($H150*mmcfd_m3)*((1+$I150*(Y$3-$D150))^$J150)*(1-$F150)-$G150)*Gg_m3),IF($E150=\"Flooded\",(($H150*mmcfd_m3)*EXP(-0.6728*(Y$3-$D150))*Gg_m3),(($H150*mmcfd_m3)*((1+$I150*(Y$3-$D150))^$J150)-$G150)*Gg_m3+((($H150*mmcfd_m3)*((1+$I150*(Y$3-$D150))^$J150)*(1-0.8)-$G150)*Gg_m3)+(($H150*mmcfd_m3)*EXP(-0.6728*(Y$3-$D150))*Gg_m3)))),0)),0,IF($D150<Y$3,IF($E150=\"Venting\",(($H150*mmcfd_m3)*((1+$I150*(Y$3-$D150))^$J150)-$G150)*Gg_m3,IF($E150=\"Sealed\",((($H150*mmcfd_m3)*((1+$I150*(Y$3-$D150))^$J150)*(1-$F150)-$G150)*Gg_m3),IF($E150=\"Flooded\",(($H150*mmcfd_m3)*EXP(-0.6728*(Y$3-$D150))*Gg_m3),(($H150*mmcfd_m3)*((1+$I150*(Y$3-$D150))^$J150)-$G150)*Gg_m3+((($H150*mmcfd_m3)*((1+$I150*(Y$3-$D150))^$J150)*(1-0.8)-$G150)*Gg_m3)+(($H150*mmcfd_m3)*EXP(-0.6728*(Y$3-$D150))*Gg_m3)))),0))","v":0},0,0,0,0,0,0,0,0,0,0,0,0,0,0,0,{"$f":"IF(ISERROR(IF($D150<AO$3,IF($E150=\"Venting\",(($H150*mmcfd_m3)*((1+$I150*(AO$3-$D150))^$J150)-$G150)*Gg_m3,IF($E150=\"Sealed\",((($H150*mmcfd_m3)*((1+$I150*(AO$3-$D150))^$J150)*(1-$F150)-$G150)*Gg_m3),IF($E150=\"Flooded\",(($H150*mmcfd_m3)*EXP(-0.6728*(AO$3-$D150))*Gg_m3),(($H150*mmcfd_m3)*((1+$I150*(AO$3-$D150))^$J150)-$G150)*Gg_m3+((($H150*mmcfd_m3)*((1+$I150*(AO$3-$D150))^$J150)*(1-0.8)-$G150)*Gg_m3)+(($H150*mmcfd_m3)*EXP(-0.6728*(AO$3-$D150))*Gg_m3)))),0)),0,IF($D150<AO$3,IF($E150=\"Venting\",(($H150*mmcfd_m3)*((1+$I150*(AO$3-$D150))^$J150)-$G150)*Gg_m3,IF($E150=\"Sealed\",((($H150*mmcfd_m3)*((1+$I150*(AO$3-$D150))^$J150)*(1-$F150)-$G150)*Gg_m3),IF($E150=\"Flooded\",(($H150*mmcfd_m3)*EXP(-0.6728*(AO$3-$D150))*Gg_m3),(($H150*mmcfd_m3)*((1+$I150*(AO$3-$D150))^$J150)-$G150)*Gg_m3+((($H150*mmcfd_m3)*((1+$I150*(AO$3-$D150))^$J150)*(1-0.8)-$G150)*Gg_m3)+(($H150*mmcfd_m3)*EXP(-0.6728*(AO$3-$D150))*Gg_m3)))),0))","v":0},0,0,0,0,0,0,0,0,0,0,0,0,0,0,0,0,0,0,0,0,0,0,0,0,0,0,0,0,0,0,0,0,0,0,0,0,0,0,0,0,0,0,0,0]
[148,{"$f":"'CH4 from Abandoned Coal Mines'!D152","v":""},{"$f":"'CH4 from Abandoned Coal Mines'!H152","v":""},{"$f":"VALUE('CH4 from Abandoned Coal Mines'!J152)","v":{"$error":"#VALUE!"}},{"$f":"IF('CH4 from Abandoned Coal Mines'!N152>0,'CH4 from Abandoned Coal Mines'!N152,'CH4 from Abandoned Coal Mines'!L152)","v":""},{"$f":"'CH4 from Abandoned Coal Mines'!P152","v":0},{"$f":"'CH4 from Abandoned Coal Mines'!R152","v":0},{"$f":"VLOOKUP(B151,'Abandoned Data'!$O$3:$V$163,6,FALSE)","v":""},{"$f":"VLOOKUP(B151,'Abandoned Data'!$O$3:$V$163,7,FALSE)","v":""},{"$f":"VLOOKUP(B151,'Abandoned Data'!$O$3:$V$163,8,FALSE)","v":""},{"$error":"#VALUE!"},null,null,null,null,null,null,null,null,null,null,null,null,148,0,0,0,0,0,0,0,0,0,0,0,0,0,0,0,0,0,0,0,0,0,0,0,0,0,0,0,0,0,0,0,0,0,0,0,0,0,0,0,0,0,0,0,0,0,0,0,0,0,0,0,0,0,0,0,0,0,0,0,0,0]
[149,{"$f":"'CH4 from Abandoned Coal Mines'!D153","v":""},{"$f":"'CH4 from Abandoned Coal Mines'!H153","v":""},{"$f":"VALUE('CH4 from Abandoned Coal Mines'!J153)","v":{"$error":"#VALUE!"}},{"$f":"IF('CH4 from Abandoned Coal Mines'!N153>0,'CH4 from Abandoned Coal Mines'!N153,'CH4 from Abandoned Coal Mines'!L153)","v":""},{"$f":"'CH4 from Abandoned Coal Mines'!P153","v":0},{"$f":"'CH4 from Abandoned Coal Mines'!R153","v":0},{"$f":"VLOOKUP(B152,'Abandoned Data'!$O$3:$V$163,6,FALSE)","v":""},{"$f":"VLOOKUP(B152,'Abandoned Data'!$O$3:$V$163,7,FALSE)","v":""},{"$f":"VLOOKUP(B152,'Abandoned Data'!$O$3:$V$163,8,FALSE)","v":""},{"$error":"#VALUE!"},null,null,null,null,null,null,null,null,null,null,null,null,149,0,0,0,0,0,0,0,0,0,0,0,0,0,0,0,0,0,0,0,0,0,0,0,0,0,0,0,0,0,0,0,0,0,0,0,0,0,0,0,0,0,0,0,0,0,0,0,0,0,0,0,0,0,0,0,0,0,0,0,0,0]
[150,{"$f":"'CH4 from Abandoned Coal Mines'!D154","v":""},{"$f":"'CH4 from Abandoned Coal Mines'!H154","v":""},{"$f":"VALUE('CH4 from Abandoned Coal Mines'!J154)","v":{"$error":"#VALUE!"}},{"$f":"IF('CH4 from Abandoned Coal Mines'!N154>0,'CH4 from Abandoned Coal Mines'!N154,'CH4 from Abandoned Coal Mines'!L154)","v":""},{"$f":"'CH4 from Abandoned Coal Mines'!P154","v":0},{"$f":"'CH4 from Abandoned Coal Mines'!R154","v":0},{"$f":"VLOOKUP(B153,'Abandoned Data'!$O$3:$V$163,6,FALSE)","v":""},{"$f":"VLOOKUP(B153,'Abandoned Data'!$O$3:$V$163,7,FALSE)","v":""},{"$f":"VLOOKUP(B153,'Abandoned Data'!$O$3:$V$163,8,FALSE)","v":""},{"$error":"#VALUE!"},null,null,null,null,null,null,null,null,null,null,null,null,150,0,0,0,0,0,0,0,0,0,0,0,0,0,0,0,0,0,0,0,0,0,0,0,0,0,0,0,0,0,0,0,{"$f":"IF(ISERROR(IF($D153<BD$3,IF($E153=\"Venting\",(($H153*mmcfd_m3)*((1+$I153*(BD$3-$D153))^$J153)-$G153)*Gg_m3,IF($E153=\"Sealed\",((($H153*mmcfd_m3)*((1+$I153*(BD$3-$D153))^$J153)*(1-$F153)-$G153)*Gg_m3),IF($E153=\"Flooded\",(($H153*mmcfd_m3)*EXP(-0.6728*(BD$3-$D153))*Gg_m3),(($H153*mmcfd_m3)*((1+$I153*(BD$3-$D153))^$J153)-$G153)*Gg_m3+((($H153*mmcfd_m3)*((1+$I153*(BD$3-$D153))^$J153)*(1-0.8)-$G153)*Gg_m3)+(($H153*mmcfd_m3)*EXP(-0.6728*(BD$3-$D153))*Gg_m3)))),0)),0,IF($D153<BD$3,IF($E153=\"Venting\",(($H153*mmcfd_m3)*((1+$I153*(BD$3-$D153))^$J153)-$G153)*Gg_m3,IF($E153=\"Sealed\",((($H153*mmcfd_m3)*((1+$I153*(BD$3-$D153))^$J153)*(1-$F153)-$G153)*Gg_m3),IF($E153=\"Flooded\",(($H153*mmcfd_m3)*EXP(-0.6728*(BD$3-$D153))*Gg_m3),(($H153*mmcfd_m3)*((1+$I153*(BD$3-$D153))^$J153)-$G153)*Gg_m3+((($H153*mmcfd_m3)*((1+$I153*(BD$3-$D153))^$J153)*(1-0.8)-$G153)*Gg_m3)+(($H153*mmcfd_m3)*EXP(-0.6728*(BD$3-$D153))*Gg_m3)))),0))","v":0},0,0,0,0,0,0,0,0,0,0,0,0,0,0,0,{"$f":"IF(ISERROR(IF($D153<BT$3,IF($E153=\"Venting\",(($H153*mmcfd_m3)*((1+$I153*(BT$3-$D153))^$J153)-$G153)*Gg_m3,IF($E153=\"Sealed\",((($H153*mmcfd_m3)*((1+$I153*(BT$3-$D153))^$J153)*(1-$F153)-$G153)*Gg_m3),IF($E153=\"Flooded\",(($H153*mmcfd_m3)*EXP(-0.6728*(BT$3-$D153))*Gg_m3),(($H153*mmcfd_m3)*((1+$I153*(BT$3-$D153))^$J153)-$G153)*Gg_m3+((($H153*mmcfd_m3)*((1+$I153*(BT$3-$D153))^$J153)*(1-0.8)-$G153)*Gg_m3)+(($H153*mmcfd_m3)*EXP(-0.6728*(BT$3-$D153))*Gg_m3)))),0)),0,IF($D153<BT$3,IF($E153=\"Venting\",(($H153*mmcfd_m3)*((1+$I153*(BT$3-$D153))^$J153)-$G153)*Gg_m3,IF($E153=\"Sealed\",((($H153*mmcfd_m3)*((1+$I153*(BT$3-$D153))^$J153)*(1-$F153)-$G153)*Gg_m3),IF($E153=\"Flooded\",(($H153*mmcfd_m3)*EXP(-0.6728*(BT$3-$D153))*Gg_m3),(($H153*mmcfd_m3)*((1+$I153*(BT$3-$D153))^$J153)-$G153)*Gg_m3+((($H153*mmcfd_m3)*((1+$I153*(BT$3-$D153))^$J153)*(1-0.8)-$G153)*Gg_m3)+(($H153*mmcfd_m3)*EXP(-0.6728*(BT$3-$D153))*Gg_m3)))),0))","v":0},0,0,0,0,0,0,0,0,0,0,0,0,0]
[151,{"$f":"'CH4 from Abandoned Coal Mines'!D155","v":""},{"$f":"'CH4 from Abandoned Coal Mines'!H155","v":""},{"$f":"VALUE('CH4 from Abandoned Coal Mines'!J155)","v":{"$error":"#VALUE!"}},{"$f":"IF('CH4 from Abandoned Coal Mines'!N155>0,'CH4 from Abandoned Coal Mines'!N155,'CH4 from Abandoned Coal Mines'!L155)","v":""},{"$f":"'CH4 from Abandoned Coal Mines'!P155","v":0},{"$f":"'CH4 from Abandoned Coal Mines'!R155","v":0},{"$f":"VLOOKUP(B154,'Abandoned Data'!$O$3:$V$163,6,FALSE)","v":""},{"$f":"VLOOKUP(B154,'Abandoned Data'!$O$3:$V$163,7,FALSE)","v":""},{"$f":"VLOOKUP(B154,'Abandoned Data'!$O$3:$V$163,8,FALSE)","v":""},{"$error":"#VALUE!"},null,null,null,null,null,null,null,null,null,null,null,null,151,0,0,0,0,0,0,0,0,0,0,0,0,0,0,0,0,0,0,0,0,0,0,0,0,0,0,0,0,0,0,0,0,0,0,0,0,0,0,0,0,0,0,0,0,0,0,0,0,0,0,0,0,0,0,0,0,0,0,0,0,0]
[152,{"$f":"'CH4 from Abandoned Coal Mines'!D156","v":""},{"$f":"'CH4 from Abandoned Coal Mines'!H156","v":""},{"$f":"VALUE('CH4 from Abandoned Coal Mines'!J156)","v":{"$error":"#VALUE!"}},{"$f":"IF('CH4 from Abandoned Coal Mines'!N156>0,'CH4 from Abandoned Coal Mines'!N156,'CH4 from Abandoned Coal Mines'!L156)","v":""},{"$f":"'CH4 from Abandoned Coal Mines'!P156","v":0},{"$f":"'CH4 from Abandoned Coal Mines'!R156","v":0},{"$f":"VLOOKUP(B155,'Abandoned Data'!$O$3:$V$163,6,FALSE)","v":""},{"$f":"VLOOKUP(B155,'Abandoned Data'!$O$3:$V$163,7,FALSE)","v":""},{"$f":"VLOOKUP(B155,'Abandoned Data'!$O$3:$V$163,8,FALSE)","v":""},{"$error":"#VALUE!"},null,null,null,null,null,null,null,null,null,null,null,null,152,0,0,0,0,0,0,0,0,0,0,0,0,0,0,0,0,0,0,0,0,0,0,0,0,0,0,0,0,0,0,0,0,0,0,0,0,0,0,0,0,0,0,0,0,0,0,0,0,0,0,0,0,0,0,0,0,0,0,0,0,0]
[153,{"$f":"'CH4 from Abandoned Coal Mines'!D157","v":""},{"$f":"'CH4 from Abandoned Coal Mines'!H157","v":""},{"$f":"VALUE('CH4 from Abandoned Coal Mines'!J157)","v":{"$error":"#VALUE!"}},{"$f":"IF('CH4 from Abandoned Coal Mines'!N157>0,'CH4 from Abandoned Coal Mines'!N157,'CH4 from Abandoned Coal Mines'!L157)","v":""},{"$f":"'CH4 from Abandoned Coal Mines'!P157","v":0},{"$f":"'CH4 from Abandoned Coal Mines'!R157","v":0},{"$f":"VLOOKUP(B156,'Abandoned Data'!$O$3:$V$163,6,FALSE)","v":""},{"$f":"VLOOKUP(B156,'Abandoned Data'!$O$3:$V$163,7,FALSE)","v":""},{"$f":"VLOOKUP(B156,'Abandoned Data'!$O$3:$V$163,8,FALSE)","v":""},{"$error":"#VALUE!"},null,null,null,null,null,null,null,null,null,null,null,null,153,0,0,0,0,0,0,0,0,0,0,0,0,0,0,0,0,0,0,0,0,0,0,0,0,0,0,0,0,0,0,0,0,0,0,0,0,0,0,0,0,0,0,0,0,0,0,0,0,0,0,0,0,0,0,0,0,0,0,0,0,0]
[154,{"$f":"'CH4 from Abandoned Coal Mines'!D158","v":""},{"$f":"'CH4 from Abandoned Coal Mines'!H158","v":""},{"$f":"VALUE('CH4 from Abandoned Coal Mines'!J158)","v":{"$error":"#VALUE!"}},{"$f":"IF('CH4 from Abandoned Coal Mines'!N158>0,'CH4 from Abandoned Coal Mines'!N158,'CH4 from Abandoned Coal Mines'!L158)","v":""},{"$f":"'CH4 from Abandoned Coal Mines'!P158","v":0},{"$f":"'CH4 from Abandoned Coal Mines'!R158","v":0},{"$f":"VLOOKUP(B157,'Abandoned Data'!$O$3:$V$163,6,FALSE)","v":""},{"$f":"VLOOKUP(B157,'Abandoned Data'!$O$3:$V$163,7,FALSE)","v":""},{"$f":"VLOOKUP(B157,'Abandoned Data'!$O$3:$V$163,8,FALSE)","v":""},{"$error":"#VALUE!"},null,null,null,null,null,null,null,null,null,null,null,null,154,0,0,0,0,0,0,0,0,0,0,0,0,0,0,0,0,0,0,0,0,0,0,0,0,0,0,0,0,0,0,0,0,0,0,0,0,0,0,0,0,0,0,0,0,0,0,0,0,0,0,0,0,0,0,0,0,0,0,0,0,0]
[155,{"$f":"'CH4 from Abandoned Coal Mines'!D159","v":""},{"$f":"'CH4 from Abandoned Coal Mines'!H159","v":""},{"$f":"VALUE('CH4 from Abandoned Coal Mines'!J159)","v":{"$error":"#VALUE!"}},{"$f":"IF('CH4 from Abandoned Coal Mines'!N159>0,'CH4 from Abandoned Coal Mines'!N159,'CH4 from Abandoned Coal Mines'!L159)","v":""},{"$f":"'CH4 from Abandoned Coal Mines'!P159","v":0},{"$f":"'CH4 from Abandoned Coal Mines'!R159","v":0},{"$f":"VLOOKUP(B158,'Abandoned Data'!$O$3:$V$163,6,FALSE)","v":""},{"$f":"VLOOKUP(B158,'Abandoned Data'!$O$3:$V$163,7,FALSE)","v":""},{"$f":"VLOOKUP(B158,'Abandoned Data'!$O$3:$V$163,8,FALSE)","v":""},{"$error":"#VALUE!"},null,null,null,null,null,null,null,null,null,null,null,null,155,0,0,0,0,0,0,0,0,0,0,0,0,0,0,0,0,0,0,0,0,0,0,0,0,0,0,0,0,0,0,0,0,0,0,0,0,0,0,0,0,0,0,0,0,0,0,0,0,0,0,0,0,0,0,0,0,0,0,0,0,0]
[156,{"$f":"'CH4 from Abandoned Coal Mines'!D160","v":""},{"$f":"'CH4 from Abandoned Coal Mines'!H160","v":""},{"$f":"VALUE('CH4 from Abandoned Coal Mines'!J160)","v":{"$error":"#VALUE!"}},{"$f":"IF('CH4 from Abandoned Coal Mines'!N160>0,'CH4 from Abandoned Coal Mines'!N160,'CH4 from Abandoned Coal Mines'!L160)","v":""},{"$f":"'CH4 from Abandoned Coal Mines'!P160","v":0},{"$f":"'CH4 from Abandoned Coal Mines'!R160","v":0},{"$f":"VLOOKUP(B159,'Abandoned Data'!$O$3:$V$163,6,FALSE)","v":""},{"$f":"VLOOKUP(B159,'Abandoned Data'!$O$3:$V$163,7,FALSE)","v":""},{"$f":"VLOOKUP(B159,'Abandoned Data'!$O$3:$V$163,8,FALSE)","v":""},{"$error":"#VALUE!"},null,null,null,null,null,null,null,null,null,null,null,null,156,0,0,0,0,0,0,0,0,0,0,0,0,0,0,0,0,0,0,0,0,0,0,0,0,0,0,0,0,0,0,0,0,0,0,0,0,0,0,0,0,0,0,0,0,0,0,0,0,0,0,0,0,0,0,0,0,0,0,0,0,0]
[157,{"$f":"'CH4 from Abandoned Coal Mines'!D161","v":""},{"$f":"'CH4 from Abandoned Coal Mines'!H161","v":""},{"$f":"VALUE('CH4 from Abandoned Coal Mines'!J161)","v":{"$error":"#VALUE!"}},{"$f":"IF('CH4 from Abandoned Coal Mines'!N161>0,'CH4 from Abandoned Coal Mines'!N161,'CH4 from Abandoned Coal Mines'!L161)","v":""},{"$f":"'CH4 from Abandoned Coal Mines'!P161","v":0},{"$f":"'CH4 from Abandoned Coal Mines'!R161","v":0},{"$f":"VLOOKUP(B160,'Abandoned Data'!$O$3:$V$163,6,FALSE)","v":""},{"$f":"VLOOKUP(B160,'Abandoned Data'!$O$3:$V$163,7,FALSE)","v":""},{"$f":"VLOOKUP(B160,'Abandoned Data'!$O$3:$V$163,8,FALSE)","v":""},{"$error":"#VALUE!"},null,null,null,null,null,null,null,null,null,null,null,null,157,0,0,0,0,0,0,0,0,0,0,0,0,0,0,0,0,0,0,0,0,0,0,0,0,0,0,0,0,0,0,0,0,0,0,0,0,0,0,0,0,0,0,0,0,0,0,0,0,0,0,0,0,0,0,0,0,0,0,0,0,0]
[158,{"$f":"'CH4 from Abandoned Coal Mines'!D162","v":""},{"$f":"'CH4 from Abandoned Coal Mines'!H162","v":""},{"$f":"VALUE('CH4 from Abandoned Coal Mines'!J162)","v":{"$error":"#VALUE!"}},{"$f":"IF('CH4 from Abandoned Coal Mines'!N162>0,'CH4 from Abandoned Coal Mines'!N162,'CH4 from Abandoned Coal Mines'!L162)","v":""},{"$f":"'CH4 from Abandoned Coal Mines'!P162","v":0},{"$f":"'CH4 from Abandoned Coal Mines'!R162","v":0},{"$f":"VLOOKUP(B161,'Abandoned Data'!$O$3:$V$163,6,FALSE)","v":""},{"$f":"VLOOKUP(B161,'Abandoned Data'!$O$3:$V$163,7,FALSE)","v":""},{"$f":"VLOOKUP(B161,'Abandoned Data'!$O$3:$V$163,8,FALSE)","v":""},{"$error":"#VALUE!"},null,null,null,null,null,null,null,null,null,null,null,null,158,0,0,0,0,0,0,0,0,0,0,0,0,0,0,0,0,0,0,0,0,0,0,0,0,0,0,0,0,0,0,0,0,0,0,0,0,0,0,0,0,0,0,0,0,0,0,0,0,0,0,0,0,0,0,0,0,0,0,0,0,0]
[159,{"$f":"'CH4 from Abandoned Coal Mines'!D163","v":""},{"$f":"'CH4 from Abandoned Coal Mines'!H163","v":""},{"$f":"VALUE('CH4 from Abandoned Coal Mines'!J163)","v":{"$error":"#VALUE!"}},{"$f":"IF('CH4 from Abandoned Coal Mines'!N163>0,'CH4 from Abandoned Coal Mines'!N163,'CH4 from Abandoned Coal Mines'!L163)","v":""},{"$f":"'CH4 from Abandoned Coal Mines'!P163","v":0},{"$f":"'CH4 from Abandoned Coal Mines'!R163","v":0},{"$f":"VLOOKUP(B162,'Abandoned Data'!$O$3:$V$163,6,FALSE)","v":""},{"$f":"VLOOKUP(B162,'Abandoned Data'!$O$3:$V$163,7,FALSE)","v":""},{"$f":"VLOOKUP(B162,'Abandoned Data'!$O$3:$V$163,8,FALSE)","v":""},{"$error":"#VALUE!"},null,null,null,null,null,null,null,null,null,null,null,null,159,0,0,0,0,0,0,0,0,0,0,0,0,0,0,0,0,0,0,0,0,0,0,0,0,0,0,0,0,0,0,0,0,0,0,0,0,0,0,0,0,0,0,0,0,0,0,0,0,0,0,0,0,0,0,0,0,0,0,0,0,0]
[160,{"$f":"'CH4 from Abandoned Coal Mines'!D164","v":""},{"$f":"'CH4 from Abandoned Coal Mines'!H164","v":""},{"$f":"VALUE('CH4 from Abandoned Coal Mines'!J164)","v":{"$error":"#VALUE!"}},{"$f":"IF('CH4 from Abandoned Coal Mines'!N164>0,'CH4 from Abandoned Coal Mines'!N164,'CH4 from Abandoned Coal Mines'!L164)","v":""},{"$f":"'CH4 from Abandoned Coal Mines'!P164","v":0},{"$f":"'CH4 from Abandoned Coal Mines'!R164","v":0},{"$f":"VLOOKUP(B163,'Abandoned Data'!$O$3:$V$163,6,FALSE)","v":""},{"$f":"VLOOKUP(B163,'Abandoned Data'!$O$3:$V$163,7,FALSE)","v":""},{"$f":"VLOOKUP(B163,'Abandoned Data'!$O$3:$V$163,8,FALSE)","v":""},{"$error":"#VALUE!"},null,null,null,null,null,null,null,null,null,null,null,null,160,0,0,0,0,0,0,0,0,0,0,0,0,0,0,0,0,0,0,0,0,0,0,0,0,0,0,0,0,0,0,0,0,0,0,0,0,0,0,0,0,0,0,0,0,0,0,0,0,0,0,0,0,0,0,0,0,0,0,0,0,0]
[161,{"$f":"'CH4 from Abandoned Coal Mines'!D165","v":""},{"$f":"'CH4 from Abandoned Coal Mines'!H165","v":""},{"$f":"VALUE('CH4 from Abandoned Coal Mines'!J165)","v":{"$error":"#VALUE!"}},{"$f":"IF('CH4 from Abandoned Coal Mines'!N165>0,'CH4 from Abandoned Coal Mines'!N165,'CH4 from Abandoned Coal Mines'!L165)","v":""},{"$f":"'CH4 from Abandoned Coal Mines'!P165","v":0},{"$f":"'CH4 from Abandoned Coal Mines'!R165","v":0},{"$f":"VLOOKUP(B164,'Abandoned Data'!$O$3:$V$163,6,FALSE)","v":""},{"$f":"VLOOKUP(B164,'Abandoned Data'!$O$3:$V$163,7,FALSE)","v":""},{"$f":"VLOOKUP(B164,'Abandoned Data'!$O$3:$V$163,8,FALSE)","v":""},{"$error":"#VALUE!"},null,null,null,null,null,null,null,null,null,null,null,null,161,0,0,0,0,0,0,0,0,0,0,0,0,0,0,0,0,0,0,0,0,0,0,0,0,0,0,0,0,0,0,0,0,0,0,0,0,0,0,0,0,0,0,0,0,0,0,0,0,0,0,0,0,0,0,0,0,0,0,0,0,0]
[162,{"$f":"'CH4 from Abandoned Coal Mines'!D166","v":0},{"$f":"'CH4 from Abandoned Coal Mines'!H166","v":0},{"$f":"VALUE('CH4 from Abandoned Coal Mines'!J166)","v":0},{"$f":"IF('CH4 from Abandoned Coal Mines'!N166>0,'CH4 from Abandoned Coal Mines'!N166,'CH4 from Abandoned Coal Mines'!L166)","v":0},{"$f":"'CH4 from Abandoned Coal Mines'!P166","v":0},{"$f":"'CH4 from Abandoned Coal Mines'!R166","v":0},{"$f":"VLOOKUP(B165,'Abandoned Data'!$O$3:$V$163,6,FALSE)","v":{"$error":"#N/A"}},{"$f":"VLOOKUP(B165,'Abandoned Data'!$O$3:$V$163,7,FALSE)","v":{"$error":"#N/A"}},{"$f":"VLOOKUP(B165,'Abandoned Data'!$O$3:$V$163,8,FALSE)","v":{"$error":"#N/A"}},{"$error":"#N/A"},null,null,null,null,null,null,null,null,null,null,null,null,162,0,0,0,0,0,0,0,0,0,0,0,0,0,0,0,{"$f":"IF(ISERROR(IF($D165<AN$3,IF($E165=\"Venting\",(($H165*mmcfd_m3)*((1+$I165*(AN$3-$D165))^$J165)-$G165)*Gg_m3,IF($E165=\"Sealed\",((($H165*mmcfd_m3)*((1+$I165*(AN$3-$D165))^$J165)*(1-$F165)-$G165)*Gg_m3),IF($E165=\"Flooded\",(($H165*mmcfd_m3)*EXP(-0.6728*(AN$3-$D165))*Gg_m3),(($H165*mmcfd_m3)*((1+$I165*(AN$3-$D165))^$J165)-$G165)*Gg_m3+((($H165*mmcfd_m3)*((1+$I165*(AN$3-$D165))^$J165)*(1-0.8)-$G165)*Gg_m3)+(($H165*mmcfd_m3)*EXP(-0.6728*(AN$3-$D165))*Gg_m3)))),0)),0,IF($D165<AN$3,IF($E165=\"Venting\",(($H165*mmcfd_m3)*((1+$I165*(AN$3-$D165))^$J165)-$G165)*Gg_m3,IF($E165=\"Sealed\",((($H165*mmcfd_m3)*((1+$I165*(AN$3-$D165))^$J165)*(1-$F165)-$G165)*Gg_m3),IF($E165=\"Flooded\",(($H165*mmcfd_m3)*EXP(-0.6728*(AN$3-$D165))*Gg_m3),(($H165*mmcfd_m3)*((1+$I165*(AN$3-$D165))^$J165)-$G165)*Gg_m3+((($H165*mmcfd_m3)*((1+$I165*(AN$3-$D165))^$J165)*(1-0.8)-$G165)*Gg_m3)+(($H165*mmcfd_m3)*EXP(-0.6728*(AN$3-$D165))*Gg_m3)))),0))","v":0},0,0,0,0,0,0,0,0,0,0,0,0,0,0,0,0,0,0,0,0,0,0,0,0,0,0,0,0,0,0,0,0,0,0,0,0,0,0,0,0,0,0,0,0,0]
[163,{"$f":"'CH4 from Abandoned Coal Mines'!D167","v":0},{"$f":"'CH4 from Abandoned Coal Mines'!H167","v":0},{"$f":"VALUE('CH4 from Abandoned Coal Mines'!J167)","v":0},{"$f":"IF('CH4 from Abandoned Coal Mines'!N167>0,'CH4 from Abandoned Coal Mines'!N167,'CH4 from Abandoned Coal Mines'!L167)","v":0},{"$f":"'CH4 from Abandoned Coal Mines'!P167","v":0},{"$f":"'CH4 from Abandoned Coal Mines'!R167","v":0},{"$f":"VLOOKUP(B166,'Abandoned Data'!$O$3:$V$163,6,FALSE)","v":{"$error":"#N/A"}},{"$f":"VLOOKUP(B166,'Abandoned Data'!$O$3:$V$163,7,FALSE)","v":{"$error":"#N/A"}},{"$f":"VLOOKUP(B166,'Abandoned Data'!$O$3:$V$163,8,FALSE)","v":{"$error":"#N/A"}},{"$error":"#N/A"},null,null,null,null,null,null,null,null,null,null,null,null,163,{"$f":"IF(ISERROR(IF($D166<Y$3,IF($E166=\"Venting\",(($H166*mmcfd_m3)*((1+$I166*(Y$3-$D166))^$J166)-$G166)*Gg_m3,IF($E166=\"Sealed\",((($H166*mmcfd_m3)*((1+$I166*(Y$3-$D166))^$J166)*(1-$F166)-$G166)*Gg_m3),IF($E166=\"Flooded\",(($H166*mmcfd_m3)*EXP(-0.6728*(Y$3-$D166))*Gg_m3),(($H166*mmcfd_m3)*((1+$I166*(Y$3-$D166))^$J166)-$G166)*Gg_m3+((($H166*mmcfd_m3)*((1+$I166*(Y$3-$D166))^$J166)*(1-0.8)-$G166)*Gg_m3)+(($H166*mmcfd_m3)*EXP(-0.6728*(Y$3-$D166))*Gg_m3)))),0)),0,IF($D166<Y$3,IF($E166=\"Venting\",(($H166*mmcfd_m3)*((1+$I166*(Y$3-$D166))^$J166)-$G166)*Gg_m3,IF($E166=\"Sealed\",((($H166*mmcfd_m3)*((1+$I166*(Y$3-$D166))^$J166)*(1-$F166)-$G166)*Gg_m3),IF($E166=\"Flooded\",(($H166*mmcfd_m3)*EXP(-0.6728*(Y$3-$D166))*Gg_m3),(($H166*mmcfd_m3)*((1+$I166*(Y$3-$D166))^$J166)-$G166)*Gg_m3+((($H166*mmcfd_m3)*((1+$I166*(Y$3-$D166))^$J166)*(1-0.8)-$G166)*Gg_m3)+(($H166*mmcfd_m3)*EXP(-0.6728*(Y$3-$D166))*Gg_m3)))),0))","v":0},0,0,0,0,0,0,0,0,0,0,0,0,0,0,0,0,0,0,0,0,0,0,0,0,0,0,0,0,0,0,0,0,0,0,0,0,0,0,0,0,0,0,0,0,0,0,0,0,0,0,0,0,0,0,0,0,0,0,0,0]
[164,{"$f":"'CH4 from Abandoned Coal Mines'!D168","v":0},{"$f":"'CH4 from Abandoned Coal Mines'!H168","v":0},{"$f":"VALUE('CH4 from Abandoned Coal Mines'!J168)","v":0},{"$f":"IF('CH4 from Abandoned Coal Mines'!N168>0,'CH4 from Abandoned Coal Mines'!N168,'CH4 from Abandoned Coal Mines'!L168)","v":0},{"$f":"'CH4 from Abandoned Coal Mines'!P168","v":0},{"$f":"'CH4 from Abandoned Coal Mines'!R168","v":0},{"$f":"VLOOKUP(B167,'Abandoned Data'!$O$3:$V$163,6,FALSE)","v":{"$error":"#N/A"}},{"$f":"VLOOKUP(B167,'Abandoned Data'!$O$3:$V$163,7,FALSE)","v":{"$error":"#N/A"}},{"$f":"VLOOKUP(B167,'Abandoned Data'!$O$3:$V$163,8,FALSE)","v":{"$error":"#N/A"}},{"$error":"#N/A"},null,null,null,null,null,null,null,null,null,null,null,null,164,0,0,0,0,0,0,0,0,0,0,0,0,0,0,0,0,0,0,0,0,0,0,0,0,0,0,0,0,{"$f":"IF(ISERROR(IF($D167<BA$3,IF($E167=\"Venting\",(($H167*mmcfd_m3)*((1+$I167*(BA$3-$D167))^$J167)-$G167)*Gg_m3,IF($E167=\"Sealed\",((($H167*mmcfd_m3)*((1+$I167*(BA$3-$D167))^$J167)*(1-$F167)-$G167)*Gg_m3),IF($E167=\"Flooded\",(($H167*mmcfd_m3)*EXP(-0.6728*(BA$3-$D167))*Gg_m3),(($H167*mmcfd_m3)*((1+$I167*(BA$3-$D167))^$J167)-$G167)*Gg_m3+((($H167*mmcfd_m3)*((1+$I167*(BA$3-$D167))^$J167)*(1-0.8)-$G167)*Gg_m3)+(($H167*mmcfd_m3)*EXP(-0.6728*(BA$3-$D167))*Gg_m3)))),0)),0,IF($D167<BA$3,IF($E167=\"Venting\",(($H167*mmcfd_m3)*((1+$I167*(BA$3-$D167))^$J167)-$G167)*Gg_m3,IF($E167=\"Sealed\",((($H167*mmcfd_m3)*((1+$I167*(BA$3-$D167))^$J167)*(1-$F167)-$G167)*Gg_m3),IF($E167=\"Flooded\",(($H167*mmcfd_m3)*EXP(-0.6728*(BA$3-$D167))*Gg_m3),(($H167*mmcfd_m3)*((1+$I167*(BA$3-$D167))^$J167)-$G167)*Gg_m3+((($H167*mmcfd_m3)*((1+$I167*(BA$3-$D167))^$J167)*(1-0.8)-$G167)*Gg_m3)+(($H167*mmcfd_m3)*EXP(-0.6728*(BA$3-$D167))*Gg_m3)))),0))","v":0},0,0,0,0,0,0,0,0,0,0,0,0,0,0,0,0,0,0,0,0,0,0,0,0,0,0,0,0,0,0,0,0]
[165,{"$f":"'CH4 from Abandoned Coal Mines'!D169","v":0},{"$f":"'CH4 from Abandoned Coal Mines'!H169","v":0},{"$f":"VALUE('CH4 from Abandoned Coal Mines'!J169)","v":0},{"$f":"IF('CH4 from Abandoned Coal Mines'!N169>0,'CH4 from Abandoned Coal Mines'!N169,'CH4 from Abandoned Coal Mines'!L169)","v":0},{"$f":"'CH4 from Abandoned Coal Mines'!P169","v":0},{"$f":"'CH4 from Abandoned Coal Mines'!R169","v":0},{"$f":"VLOOKUP(B168,'Abandoned Data'!$O$3:$V$163,6,FALSE)","v":{"$error":"#N/A"}},{"$f":"VLOOKUP(B168,'Abandoned Data'!$O$3:$V$163,7,FALSE)","v":{"$error":"#N/A"}},{"$f":"VLOOKUP(B168,'Abandoned Data'!$O$3:$V$163,8,FALSE)","v":{"$error":"#N/A"}},{"$error":"#N/A"},null,null,null,null,null,null,null,null,null,null,null,null,165,0,0,0,0,0,0,0,0,0,0,0,0,0,0,0,0,0,0,0,0,0,0,0,0,0,0,0,0,0,0,0,0,0,0,0,0,0,0,0,0,0,0,0,0,0,0,{"$f":"IF(ISERROR(IF($D168<BS$3,IF($E168=\"Venting\",(($H168*mmcfd_m3)*((1+$I168*(BS$3-$D168))^$J168)-$G168)*Gg_m3,IF($E168=\"Sealed\",((($H168*mmcfd_m3)*((1+$I168*(BS$3-$D168))^$J168)*(1-$F168)-$G168)*Gg_m3),IF($E168=\"Flooded\",(($H168*mmcfd_m3)*EXP(-0.6728*(BS$3-$D168))*Gg_m3),(($H168*mmcfd_m3)*((1+$I168*(BS$3-$D168))^$J168)-$G168)*Gg_m3+((($H168*mmcfd_m3)*((1+$I168*(BS$3-$D168))^$J168)*(1-0.8)-$G168)*Gg_m3)+(($H168*mmcfd_m3)*EXP(-0.6728*(BS$3-$D168))*Gg_m3)))),0)),0,IF($D168<BS$3,IF($E168=\"Venting\",(($H168*mmcfd_m3)*((1+$I168*(BS$3-$D168))^$J168)-$G168)*Gg_m3,IF($E168=\"Sealed\",((($H168*mmcfd_m3)*((1+$I168*(BS$3-$D168))^$J168)*(1-$F168)-$G168)*Gg_m3),IF($E168=\"Flooded\",(($H168*mmcfd_m3)*EXP(-0.6728*(BS$3-$D168))*Gg_m3),(($H168*mmcfd_m3)*((1+$I168*(BS$3-$D168))^$J168)-$G168)*Gg_m3+((($H168*mmcfd_m3)*((1+$I168*(BS$3-$D168))^$J168)*(1-0.8)-$G168)*Gg_m3)+(($H168*mmcfd_m3)*EXP(-0.6728*(BS$3-$D168))*Gg_m3)))),0))","v":0},0,0,0,0,0,0,0,0,0,0,0,0,0,0]
[]
[]
[]
[]
[]
[]
[]
[]
[]
["Additional Data inputs and Emissions",null,null,null,null,null,null,null,null,null,null,null,null,null,null,null,null,"Default Distribution Table for Unknowns",null,null,null,null,null,"Emissions By Year (Gg) for Added Mines"]
[]
["Mine Listed","Mine Name","County","Year Abandoned","Status","Percent Sealed","Methane Recovered (m3/yr)","Active Emiss. (mmcfd) ","Coal Rank","Constant A","Constant B","Emissions",null,"Sealed Emissions","Vented Emissions","Flooded Emissions","Unknowns",null,null,null,null,null,null,null,1990,1991,1992,1993,1994,1995,1996,1997,1998,1999,2000,2001,2002,2003,2004,2005,2006,2007,2008,2009,2010,2011,2012,2013,2014,2015,2016,2017,2018,2019,2020]
[1,{"$f":"'CH4 from Abandoned Coal Mines'!D203","v":0},{"$f":"'CH4 from Abandoned Coal Mines'!F203","v":0},{"$f":"'CH4 from Abandoned Coal Mines'!J203","v":0},{"$f":"'CH4 from Abandoned Coal Mines'!L203","v":0},{"$f":"1-'CH4 from Abandoned Coal Mines'!N203","v":1},{"$f":"'CH4 from Abandoned Coal Mines'!R203","v":0},{"$f":"'CH4 from Abandoned Coal Mines'!P203","v":0},{"$f":"'CH4 from Abandoned Coal Mines'!H203","v":0},{"$f":"IF(ISERROR(VLOOKUP(I181,$M$185:$O$187,2,FALSE)),0,VLOOKUP(I181,$M$185:$O$187,2,FALSE))","v":0},{"$f":"IF(ISERROR(VLOOKUP(I181,$M$185:$O$187,3,FALSE)),0,VLOOKUP(I181,$M$185:$O$187,3,FALSE))","v":0},{"$f":"IF(E181=\"Venting\",((H181*mmcfd_m3)*((1+J181*($AM$3-D181))^K181)-G181)*Gg_m3,IF(E181=\"Sealed\",(((H181*mmcfd_m3)*((1+J181*($AM$3-D181))^K181)*F181-G181)*Gg_m3),IF(E181=\"Flooded\",((H181*mmcfd_m3)*EXP(-0.6728*($AM$3-D181))*Gg_m3),((H181*mmcfd_m3)*((1+J181*($AM$3-D181))^K181)-G181)*Gg_m3+(((H181*mmcfd_m3)*((1+J181*($AM$3-D181))^K181)*F181-G181)*Gg_m3)+((H181*mmcfd_m3)*EXP(-0.6728*($AM$3-D181))*Gg_m3))))","v":0},"Subtotal",{"$f":"SUMIF($E$181:$E$230,\"Sealed\",$L$181:$L$230)","v":0},{"$f":"SUMIF($E$181:$E$230,\"Venting\",$L$181:$L$230)","v":0},{"$f":"SUMIF($E$181:$E$230,\"Flooded\",$L$181:$L$230)","v":0},{"$f":"SUMIF($E$181:$E$230,\"Unknown\",$L$181:$L$230)","v":0},null,null,null,null,null,null,1,{"$f":"IF(D181<$Y$180,IF(E181=\"Venting\",((H181*mmcfd_m3)*((1+J181*($Y$180-D181))^K181)-G181)*Gg_m3,IF(E181=\"Sealed\",(((H181*mmcfd_m3)*((1+J181*($Y$180-D181))^K181)*F181-G181)*Gg_m3),IF(E181=\"Flooded\",((H181*mmcfd_m3)*EXP(-0.6728*($Y$180-D181))*Gg_m3),((H181*mmcfd_m3)*((1+J181*($Y$180-D181))^K181)-G181)*Gg_m3+(((H181*mmcfd_m3)*((1+J181*($Y$180-D181))^K181)*F181-G181)*Gg_m3)+((H181*mmcfd_m3)*EXP(-0.6728*($Y$180-D181))*Gg_m3)))),0)","v":0},{"$f":"IF(D181<$Z$180,IF(E181=\"Venting\",((H181*mmcfd_m3)*((1+J181*($Z$180-D181))^K181)-G181)*Gg_m3,IF(E181=\"Sealed\",(((H181*mmcfd_m3)*((1+J181*($Z$180-D181))^K181)*F181-G181)*Gg_m3),IF(E181=\"Flooded\",((H181*mmcfd_m3)*EXP(-0.6728*($Z$180-D181))*Gg_m3),((H181*mmcfd_m3)*((1+J181*($Z$180-D181))^K181)-G181)*Gg_m3+(((H181*mmcfd_m3)*((1+J181*($Z$180-D181))^K181)*F181-G181)*Gg_m3)+((H181*mmcfd_m3)*EXP(-0.6728*($Z$180-D181))*Gg_m3)))),0)","v":0},{"$f":"IF(D181<$AA$180,IF(E181=\"Venting\",((H181*mmcfd_m3)*((1+J181*($AA$180-D181))^K181)-G181)*Gg_m3,IF(E181=\"Sealed\",(((H181*mmcfd_m3)*((1+J181*($AA$180-D181))^K181)*F181-G181)*Gg_m3),IF(E181=\"Flooded\",((H181*mmcfd_m3)*EXP(-0.6728*($AA$180-D181))*Gg_m3),((H181*mmcfd_m3)*((1+J181*($AA$180-D181))^K181)-G181)*Gg_m3+(((H181*mmcfd_m3)*((1+J181*($AA$180-D181))^K181)*F181-G181)*Gg_m3)+((H181*mmcfd_m3)*EXP(-0.6728*($AA$180-D181))*Gg_m3)))),0)","v":0},{"$f":"IF(D181<$AB$180,IF(E181=\"Venting\",((H181*mmcfd_m3)*((1+J181*($AB$180-D181))^K181)-G181)*Gg_m3,IF(E181=\"Sealed\",(((H181*mmcfd_m3)*((1+J181*($AB$180-D181))^K181)*F181-G181)*Gg_m3),IF(E181=\"Flooded\",((H181*mmcfd_m3)*EXP(-0.6728*($AB$180-D181))*Gg_m3),((H181*mmcfd_m3)*((1+J181*($AB$180-D181))^K181)-G181)*Gg_m3+(((H181*mmcfd_m3)*((1+J181*($AB$180-D181))^K181)*F181-G181)*Gg_m3)+((H181*mmcfd_m3)*EXP(-0.6728*($AB$180-D181))*Gg_m3)))),0)","v":0},{"$f":"IF(D181<$AC$180,IF(E181=\"Venting\",((H181*mmcfd_m3)*((1+J181*($AC$180-D181))^K181)-G181)*Gg_m3,IF(E181=\"Sealed\",(((H181*mmcfd_m3)*((1+J181*($AC$180-D181))^K181)*F181-G181)*Gg_m3),IF(E181=\"Flooded\",((H181*mmcfd_m3)*EXP(-0.6728*($AC$180-D181))*Gg_m3),((H181*mmcfd_m3)*((1+J181*($AC$180-D181))^K181)-G181)*Gg_m3+(((H181*mmcfd_m3)*((1+J181*($AC$180-D181))^K181)*F181-G181)*Gg_m3)+((H181*mmcfd_m3)*EXP(-0.6728*($AC$180-D181))*Gg_m3)))),0)","v":0},{"$f":"IF(D181<$AD$180,IF(E181=\"Venting\",((H181*mmcfd_m3)*((1+J181*($AD$180-D181))^K181)-G181)*Gg_m3,IF(E181=\"Sealed\",(((H181*mmcfd_m3)*((1+J181*($AD$180-D181))^K181)*F181-G181)*Gg_m3),IF(E181=\"Flooded\",((H181*mmcfd_m3)*EXP(-0.6728*($AD$180-D181))*Gg_m3),((H181*mmcfd_m3)*((1+J181*($AD$180-D181))^K181)-G181)*Gg_m3+(((H181*mmcfd_m3)*((1+J181*($AD$180-D181))^K181)*F181-G181)*Gg_m3)+((H181*mmcfd_m3)*EXP(-0.6728*($AD$180-D181))*Gg_m3)))),0)","v":0},{"$f":"IF(D181<$AE$180,IF(E181=\"Venting\",((H181*mmcfd_m3)*((1+J181*($AE$180-D181))^K181)-G181)*Gg_m3,IF(E181=\"Sealed\",(((H181*mmcfd_m3)*((1+J181*($AE$180-D181))^K181)*F181-G181)*Gg_m3),IF(E181=\"Flooded\",((H181*mmcfd_m3)*EXP(-0.6728*($AE$180-D181))*Gg_m3),((H181*mmcfd_m3)*((1+J181*($AE$180-D181))^K181)-G181)*Gg_m3+(((H181*mmcfd_m3)*((1+J181*($AE$180-D181))^K181)*F181-G181)*Gg_m3)+((H181*mmcfd_m3)*EXP(-0.6728*($AE$180-D181))*Gg_m3)))),0)","v":0},{"$f":"IF(D181<$AF$180,IF(E181=\"Venting\",((H181*mmcfd_m3)*((1+J181*($AF$180-D181))^K181)-G181)*Gg_m3,IF(E181=\"Sealed\",(((H181*mmcfd_m3)*((1+J181*($AF$180-D181))^K181)*F181-G181)*Gg_m3),IF(E181=\"Flooded\",((H181*mmcfd_m3)*EXP(-0.6728*($AF$180-D181))*Gg_m3),((H181*mmcfd_m3)*((1+J181*($AF$180-D181))^K181)-G181)*Gg_m3+(((H181*mmcfd_m3)*((1+J181*($AF$180-D181))^K181)*F181-G181)*Gg_m3)+((H181*mmcfd_m3)*EXP(-0.6728*($AF$180-D181))*Gg_m3)))),0)","v":0},{"$f":"IF(D181<$AG$180,IF(E181=\"Venting\",((H181*mmcfd_m3)*((1+J181*($AG$180-D181))^K181)-G181)*Gg_m3,IF(E181=\"Sealed\",(((H181*mmcfd_m3)*((1+J181*($AG$180-D181))^K181)*F181-G181)*Gg_m3),IF(E181=\"Flooded\",((H181*mmcfd_m3)*EXP(-0.6728*($AG$180-D181))*Gg_m3),((H181*mmcfd_m3)*((1+J181*($AG$180-D181))^K181)-G181)*Gg_m3+(((H181*mmcfd_m3)*((1+J181*($AG$180-D181))^K181)*F181-G181)*Gg_m3)+((H181*mmcfd_m3)*EXP(-0.6728*($AG$180-D181))*Gg_m3)))),0)","v":0},{"$f":"IF(D181<$AH$180,IF(E181=\"Venting\",((H181*mmcfd_m3)*((1+J181*($AH$180-D181))^K181)-G181)*Gg_m3,IF(E181=\"Sealed\",(((H181*mmcfd_m3)*((1+J181*($AH$180-D181))^K181)*F181-G181)*Gg_m3),IF(E181=\"Flooded\",((H181*mmcfd_m3)*EXP(-0.6728*($AH$180-D181))*Gg_m3),((H181*mmcfd_m3)*((1+J181*($AH$180-D181))^K181)-G181)*Gg_m3+(((H181*mmcfd_m3)*((1+J181*($AH$180-D181))^K181)*F181-G181)*Gg_m3)+((H181*mmcfd_m3)*EXP(-0.6728*($AH$180-D181))*Gg_m3)))),0)","v":0},{"$f":"IF(D181<$AI$180,IF(E181=\"Venting\",((H181*mmcfd_m3)*((1+J181*($AI$180-D181))^K181)-G181)*Gg_m3,IF(E181=\"Sealed\",(((H181*mmcfd_m3)*((1+J181*($AI$180-D181))^K181)*F181-G181)*Gg_m3),IF(E181=\"Flooded\",((H181*mmcfd_m3)*EXP(-0.6728*($AI$180-D181))*Gg_m3),((H181*mmcfd_m3)*((1+J181*($AI$180-D181))^K181)-G181)*Gg_m3+(((H181*mmcfd_m3)*((1+J181*($AI$180-D181))^K181)*F181-G181)*Gg_m3)+((H181*mmcfd_m3)*EXP(-0.6728*($AI$180-D181))*Gg_m3)))),0)","v":0},{"$f":"IF(D181<$AJ$180,IF(E181=\"Venting\",((H181*mmcfd_m3)*((1+J181*($AJ$180-D181))^K181)-G181)*Gg_m3,IF(E181=\"Sealed\",(((H181*mmcfd_m3)*((1+J181*($AJ$180-D181))^K181)*F181-G181)*Gg_m3),IF(E181=\"Flooded\",((H181*mmcfd_m3)*EXP(-0.6728*($AJ$180-D181))*Gg_m3),((H181*mmcfd_m3)*((1+J181*($AJ$180-D181))^K181)-G181)*Gg_m3+(((H181*mmcfd_m3)*((1+J181*($AJ$180-D181))^K181)*F181-G181)*Gg_m3)+((H181*mmcfd_m3)*EXP(-0.6728*($AJ$180-D181))*Gg_m3)))),0)","v":0},{"$f":"IF(D181<$AK$180,IF(E181=\"Venting\",((H181*mmcfd_m3)*((1+J181*($AK$180-D181))^K181)-G181)*Gg_m3,IF(E181=\"Sealed\",(((H181*mmcfd_m3)*((1+J181*($AK$180-D181))^K181)*F181-G181)*Gg_m3),IF(E181=\"Flooded\",((H181*mmcfd_m3)*EXP(-0.6728*($AK$180-D181))*Gg_m3),((H181*mmcfd_m3)*((1+J181*($AK$180-D181))^K181)-G181)*Gg_m3+(((H181*mmcfd_m3)*((1+J181*($AK$180-D181))^K181)*F181-G181)*Gg_m3)+((H181*mmcfd_m3)*EXP(-0.6728*($AK$180-D181))*Gg_m3)))),0)","v":0},{"$f":"IF(D181<$AL$180,IF(E181=\"Venting\",((H181*mmcfd_m3)*((1+J181*($AL$180-D181))^K181)-G181)*Gg_m3,IF(E181=\"Sealed\",(((H181*mmcfd_m3)*((1+J181*($AL$180-D181))^K181)*F181-G181)*Gg_m3),IF(E181=\"Flooded\",((H181*mmcfd_m3)*EXP(-0.6728*($AL$180-D181))*Gg_m3),((H181*mmcfd_m3)*((1+J181*($AL$180-D181))^K181)-G181)*Gg_m3+(((H181*mmcfd_m3)*((1+J181*($AL$180-D181))^K181)*F181-G181)*Gg_m3)+((H181*mmcfd_m3)*EXP(-0.6728*($AL$180-D181))*Gg_m3)))),0)","v":0},{"$f":"IF(D181<$AM$180,IF(E181=\"Venting\",((H181*mmcfd_m3)*((1+J181*($AM$180-D181))^K181)-G181)*Gg_m3,IF(E181=\"Sealed\",(((H181*mmcfd_m3)*((1+J181*($AM$180-D181))^K181)*F181-G181)*Gg_m3),IF(E181=\"Flooded\",((H181*mmcfd_m3)*EXP(-0.6728*($AM$180-D181))*Gg_m3),((H181*mmcfd_m3)*((1+J181*($AM$180-D181))^K181)-G181)*Gg_m3+(((H181*mmcfd_m3)*((1+J181*($AM$180-D181))^K181)*F181-G181)*Gg_m3)+((H181*mmcfd_m3)*EXP(-0.6728*($AM$180-D181))*Gg_m3)))),0)","v":0},{"$f":"IF(D181<$AN$180,IF(E181=\"Venting\",((H181*mmcfd_m3)*((1+J181*($AN$180-D181))^K181)-G181)*Gg_m3,IF(E181=\"Sealed\",(((H181*mmcfd_m3)*((1+J181*($AN$180-D181))^K181)*F181-G181)*Gg_m3),IF(E181=\"Flooded\",((H181*mmcfd_m3)*EXP(-0.6728*($AN$180-D181))*Gg_m3),((H181*mmcfd_m3)*((1+J181*($AN$180-D181))^K181)-G181)*Gg_m3+(((H181*mmcfd_m3)*((1+J181*($AN$180-D181))^K181)*F181-G181)*Gg_m3)+((H181*mmcfd_m3)*EXP(-0.6728*($AN$180-D181))*Gg_m3)))),0)","v":0},{"$f":"IF(D181<$AO$180,IF(E181=\"Venting\",((H181*mmcfd_m3)*((1+J181*($AO$180-D181))^K181)-G181)*Gg_m3,IF(E181=\"Sealed\",(((H181*mmcfd_m3)*((1+J181*($AO$180-D181))^K181)*F181-G181)*Gg_m3),IF(E181=\"Flooded\",((H181*mmcfd_m3)*EXP(-0.6728*($AO$180-D181))*Gg_m3),((H181*mmcfd_m3)*((1+J181*($AO$180-D181))^K181)-G181)*Gg_m3+(((H181*mmcfd_m3)*((1+J181*($AO$180-D181))^K181)*F181-G181)*Gg_m3)+((H181*mmcfd_m3)*EXP(-0.6728*($AO$180-D181))*Gg_m3)))),0)","v":0},{"$f":"IF(D181<$AP$180,IF(E181=\"Venting\",((H181*mmcfd_m3)*((1+J181*($AP$180-D181))^K181)-G181)*Gg_m3,IF(E181=\"Sealed\",(((H181*mmcfd_m3)*((1+J181*($AP$180-D181))^K181)*F181-G181)*Gg_m3),IF(E181=\"Flooded\",((H181*mmcfd_m3)*EXP(-0.6728*($AP$180-D181))*Gg_m3),((H181*mmcfd_m3)*((1+J181*($AP$180-D181))^K181)-G181)*Gg_m3+(((H181*mmcfd_m3)*((1+J181*($AP$180-D181))^K181)*F181-G181)*Gg_m3)+((H181*mmcfd_m3)*EXP(-0.6728*($AP$180-D181))*Gg_m3)))),0)","v":0},{"$f":"IF(D181<$AQ$180,IF(E181=\"Venting\",((H181*mmcfd_m3)*((1+J181*($AQ$180-D181))^K181)-G181)*Gg_m3,IF(E181=\"Sealed\",(((H181*mmcfd_m3)*((1+J181*($AQ$180-D181))^K181)*F181-G181)*Gg_m3),IF(E181=\"Flooded\",((H181*mmcfd_m3)*EXP(-0.6728*($AQ$180-D181))*Gg_m3),((H181*mmcfd_m3)*((1+J181*($AQ$180-D181))^K181)-G181)*Gg_m3+(((H181*mmcfd_m3)*((1+J181*($AQ$180-D181))^K181)*F181-G181)*Gg_m3)+((H181*mmcfd_m3)*EXP(-0.6728*($AQ$180-D181))*Gg_m3)))),0)","v":0},{"$f":"IF(D181<$AR$180,IF(E181=\"Venting\",((H181*mmcfd_m3)*((1+J181*($AR$180-D181))^K181)-G181)*Gg_m3,IF(E181=\"Sealed\",(((H181*mmcfd_m3)*((1+J181*($AR$180-D181))^K181)*F181-G181)*Gg_m3),IF(E181=\"Flooded\",((H181*mmcfd_m3)*EXP(-0.6728*($AR$180-D181))*Gg_m3),((H181*mmcfd_m3)*((1+J181*($AR$180-D181))^K181)-G181)*Gg_m3+(((H181*mmcfd_m3)*((1+J181*($AR$180-D181))^K181)*F181-G181)*Gg_m3)+((H181*mmcfd_m3)*EXP(-0.6728*($AR$180-D181))*Gg_m3)))),0)","v":0},{"$f":"IF(D181<$AS$180,IF(E181=\"Venting\",((H181*mmcfd_m3)*((1+J181*($AS$180-D181))^K181)-G181)*Gg_m3,IF(E181=\"Sealed\",(((H181*mmcfd_m3)*((1+J181*($AS$180-D181))^K181)*F181-G181)*Gg_m3),IF(E181=\"Flooded\",((H181*mmcfd_m3)*EXP(-0.6728*($AS$180-D181))*Gg_m3),((H181*mmcfd_m3)*((1+J181*($AS$180-D181))^K181)-G181)*Gg_m3+(((H181*mmcfd_m3)*((1+J181*($AS$180-D181))^K181)*F181-G181)*Gg_m3)+((H181*mmcfd_m3)*EXP(-0.6728*($AS$180-D181))*Gg_m3)))),0)","v":0},{"$f":"IF(D181<$AT$180,IF(E181=\"Venting\",((H181*mmcfd_m3)*((1+J181*($AT$180-D181))^K181)-G181)*Gg_m3,IF(E181=\"Sealed\",(((H181*mmcfd_m3)*((1+J181*($AT$180-D181))^K181)*F181-G181)*Gg_m3),IF(E181=\"Flooded\",((H181*mmcfd_m3)*EXP(-0.6728*($AT$180-D181))*Gg_m3),((H181*mmcfd_m3)*((1+J181*($AT$180-D181))^K181)-G181)*Gg_m3+(((H181*mmcfd_m3)*((1+J181*($AT$180-D181))^K181)*F181-G181)*Gg_m3)+((H181*mmcfd_m3)*EXP(-0.6728*($AT$180-D181))*Gg_m3)))),0)","v":0},{"$f":"IF(D181<$AU$180,IF(E181=\"Venting\",((H181*mmcfd_m3)*((1+J181*($AU$180-D181))^K181)-G181)*Gg_m3,IF(E181=\"Sealed\",(((H181*mmcfd_m3)*((1+J181*($AU$180-D181))^K181)*F181-G181)*Gg_m3),IF(E181=\"Flooded\",((H181*mmcfd_m3)*EXP(-0.6728*($AU$180-D181))*Gg_m3),((H181*mmcfd_m3)*((1+J181*($AU$180-D181))^K181)-G181)*Gg_m3+(((H181*mmcfd_m3)*((1+J181*($AU$180-D181))^K181)*F181-G181)*Gg_m3)+((H181*mmcfd_m3)*EXP(-0.6728*($AU$180-D181))*Gg_m3)))),0)","v":0},{"$f":"IF(D181<$AV$180,IF(E181=\"Venting\",((H181*mmcfd_m3)*((1+J181*($AV$180-D181))^K181)-G181)*Gg_m3,IF(E181=\"Sealed\",(((H181*mmcfd_m3)*((1+J181*($AV$180-D181))^K181)*F181-G181)*Gg_m3),IF(E181=\"Flooded\",((H181*mmcfd_m3)*EXP(-0.6728*($AV$180-D181))*Gg_m3),((H181*mmcfd_m3)*((1+J181*($AV$180-D181))^K181)-G181)*Gg_m3+(((H181*mmcfd_m3)*((1+J181*($AV$180-D181))^K181)*F181-G181)*Gg_m3)+((H181*mmcfd_m3)*EXP(-0.6728*($AV$180-D181))*Gg_m3)))),0)","v":0},{"$f":"IF(D181<$AW$180,IF(E181=\"Venting\",((H181*mmcfd_m3)*((1+J181*($AW$180-D181))^K181)-G181)*Gg_m3,IF(E181=\"Sealed\",(((H181*mmcfd_m3)*((1+J181*($AW$180-D181))^K181)*F181-G181)*Gg_m3),IF(E181=\"Flooded\",((H181*mmcfd_m3)*EXP(-0.6728*($AW$180-D181))*Gg_m3),((H181*mmcfd_m3)*((1+J181*($AW$180-D181))^K181)-G181)*Gg_m3+(((H181*mmcfd_m3)*((1+J181*($AW$180-D181))^K181)*F181-G181)*Gg_m3)+((H181*mmcfd_m3)*EXP(-0.6728*($AW$180-D181))*Gg_m3)))),0)","v":0},{"$f":"IF(D181<$AX$180,IF(E181=\"Venting\",((H181*mmcfd_m3)*((1+J181*($AX$180-D181))^K181)-G181)*Gg_m3,IF(E181=\"Sealed\",(((H181*mmcfd_m3)*((1+J181*($AX$180-D181))^K181)*F181-G181)*Gg_m3),IF(E181=\"Flooded\",((H181*mmcfd_m3)*EXP(-0.6728*($AX$180-D181))*Gg_m3),((H181*mmcfd_m3)*((1+J181*($AX$180-D181))^K181)-G181)*Gg_m3+(((H181*mmcfd_m3)*((1+J181*($AX$180-D181))^K181)*F181-G181)*Gg_m3)+((H181*mmcfd_m3)*EXP(-0.6728*($AX$180-D181))*Gg_m3)))),0)","v":0},{"$f":"IF(D181<$AY$180,IF(E181=\"Venting\",((H181*mmcfd_m3)*((1+J181*($AY$180-D181))^K181)-G181)*Gg_m3,IF(E181=\"Sealed\",(((H181*mmcfd_m3)*((1+J181*($AY$180-D181))^K181)*F181-G181)*Gg_m3),IF(E181=\"Flooded\",((H181*mmcfd_m3)*EXP(-0.6728*($AY$180-D181))*Gg_m3),((H181*mmcfd_m3)*((1+J181*($AY$180-D181))^K181)-G181)*Gg_m3+(((H181*mmcfd_m3)*((1+J181*($AY$180-D181))^K181)*F181-G181)*Gg_m3)+((H181*mmcfd_m3)*EXP(-0.6728*($AY$180-D181))*Gg_m3)))),0)","v":0},{"$f":"IF(D181<$AZ$180,IF(E181=\"Venting\",((H181*mmcfd_m3)*((1+J181*($AZ$180-D181))^K181)-G181)*Gg_m3,IF(E181=\"Sealed\",(((H181*mmcfd_m3)*((1+J181*($AZ$180-D181))^K181)*F181-G181)*Gg_m3),IF(E181=\"Flooded\",((H181*mmcfd_m3)*EXP(-0.6728*($AZ$180-D181))*Gg_m3),((H181*mmcfd_m3)*((1+J181*($AZ$180-D181))^K181)-G181)*Gg_m3+(((H181*mmcfd_m3)*((1+J181*($AZ$180-D181))^K181)*F181-G181)*Gg_m3)+((H181*mmcfd_m3)*EXP(-0.6728*($AZ$180-D181))*Gg_m3)))),0)","v":0},{"$f":"IF(D181<$BA$180,IF(E181=\"Venting\",((H181*mmcfd_m3)*((1+J181*($BA$180-D181))^K181)-G181)*Gg_m3,IF(E181=\"Sealed\",(((H181*mmcfd_m3)*((1+J181*($BA$180-D181))^K181)*F181-G181)*Gg_m3),IF(E181=\"Flooded\",((H181*mmcfd_m3)*EXP(-0.6728*($BA$180-D181))*Gg_m3),((H181*mmcfd_m3)*((1+J181*($BA$180-D181))^K181)-G181)*Gg_m3+(((H181*mmcfd_m3)*((1+J181*($BA$180-D181))^K181)*F181-G181)*Gg_m3)+((H181*mmcfd_m3)*EXP(-0.6728*($BA$180-D181))*Gg_m3)))),0)","v":0},{"$f":"IF(D181<$BB$180,IF(E181=\"Venting\",((H181*mmcfd_m3)*((1+J181*($BB$180-D181))^K181)-G181)*Gg_m3,IF(E181=\"Sealed\",(((H181*mmcfd_m3)*((1+J181*($BB$180-D181))^K181)*F181-G181)*Gg_m3),IF(E181=\"Flooded\",((H181*mmcfd_m3)*EXP(-0.6728*($BB$180-D181))*Gg_m3),((H181*mmcfd_m3)*((1+J181*($BB$180-D181))^K181)-G181)*Gg_m3+(((H181*mmcfd_m3)*((1+J181*($BB$180-D181))^K181)*F181-G181)*Gg_m3)+((H181*mmcfd_m3)*EXP(-0.6728*($BB$180-D181))*Gg_m3)))),0)","v":0},{"$f":"IF(D181<$BC$180,IF(E181=\"Venting\",((H181*mmcfd_m3)*((1+J181*($BC$180-D181))^K181)-G181)*Gg_m3,IF(E181=\"Sealed\",(((H181*mmcfd_m3)*((1+J181*($BC$180-D181))^K181)*F181-G181)*Gg_m3),IF(E181=\"Flooded\",((H181*mmcfd_m3)*EXP(-0.6728*($BC$180-D181))*Gg_m3),((H181*mmcfd_m3)*((1+J181*($BC$180-D181))^K181)-G181)*Gg_m3+(((H181*mmcfd_m3)*((1+J181*($BC$180-D181))^K181)*F181-G181)*Gg_m3)+((H181*mmcfd_m3)*EXP(-0.6728*($BC$180-D181))*Gg_m3)))),0)","v":0}]
[2,{"$f":"'CH4 from Abandoned Coal Mines'!D204","v":0},{"$f":"'CH4 from Abandoned Coal Mines'!F204","v":0},{"$f":"'CH4 from Abandoned Coal Mines'!J204","v":0},{"$f":"'CH4 from Abandoned Coal Mines'!L204","v":0},{"$f":"1-'CH4 from Abandoned Coal Mines'!N204","v":1},{"$f":"'CH4 from Abandoned Coal Mines'!R204","v":0},{"$f":"'CH4 from Abandoned Coal Mines'!P204","v":0},{"$f":"'CH4 from Abandoned Coal Mines'!H204","v":0},0,0,0,"Unknowns",{"$f":"$Q$181*V4","v":{"$error":"#N/A"}},{"$f":"$Q$181*U4","v":{"$error":"#N/A"}},{"$f":"$Q$181*T4","v":{"$error":"#N/A"}},null,null,null,null,null,null,null,2,0,0,0,0,0,0,0,0,0,0,0,0,0,0,0,0,0,0,0,0,0,0,0,0,0,0,0,0,0,0,0]
[3,{"$f":"'CH4 from Abandoned Coal Mines'!D205","v":0},{"$f":"'CH4 from Abandoned Coal Mines'!F205","v":0},{"$f":"'CH4 from Abandoned Coal Mines'!J205","v":0},{"$f":"'CH4 from Abandoned Coal Mines'!L205","v":0},{"$f":"1-'CH4 from Abandoned Coal Mines'!N205","v":1},{"$f":"'CH4 from Abandoned Coal Mines'!R205","v":0},{"$f":"'CH4 from Abandoned Coal Mines'!P205","v":0},{"$f":"'CH4 from Abandoned Coal Mines'!H205","v":0},0,0,0,"Total",{"$f":"SUM(N181:N182)","v":{"$error":"#N/A"}},{"$f":"SUM(O181:O182)","v":{"$error":"#N/A"}},{"$f":"SUM(P181:P182)","v":{"$error":"#N/A"}},null,null,null,null,null,null,null,3,0,0,0,0,0,0,0,0,0,0,0,0,0,0,0,0,0,0,0,0,0,0,0,0,0,0,0,0,0,0,0]
[4,{"$f":"'CH4 from Abandoned Coal Mines'!D206","v":0},{"$f":"'CH4 from Abandoned Coal Mines'!F206","v":0},{"$f":"'CH4 from Abandoned Coal Mines'!J206","v":0},{"$f":"'CH4 from Abandoned Coal Mines'!L206","v":0},{"$f":"1-'CH4 from Abandoned Coal Mines'!N206","v":1},{"$f":"'CH4 from Abandoned Coal Mines'!R206","v":0},{"$f":"'CH4 from Abandoned Coal Mines'!P206","v":0},{"$f":"'CH4 from Abandoned Coal Mines'!H206","v":0},0,0,0,null,"ConstantA","ConstantB",null,null,null,null,null,null,null,null,4,0,0,0,0,0,0,0,0,0,0,0,0,0,0,0,0,0,0,0,0,0,0,0,0,0,0,0,0,0,0,0]
[5,{"$f":"'CH4 from Abandoned Coal Mines'!D207","v":0},{"$f":"'CH4 from Abandoned Coal Mines'!F207","v":0},{"$f":"'CH4 from Abandoned Coal Mines'!J207","v":0},{"$f":"'CH4 from Abandoned Coal Mines'!L207","v":0},{"$f":"1-'CH4 from Abandoned Coal Mines'!N207","v":1},{"$f":"'CH4 from Abandoned Coal Mines'!R207","v":0},{"$f":"'CH4 from Abandoned Coal Mines'!P207","v":0},{"$f":"'CH4 from Abandoned Coal Mines'!H207","v":0},0,0,0,"Bituminous",3.72,-0.42,null,null,null,null,null,null,null,null,5,0,0,0,0,0,0,0,0,0,0,0,0,0,0,0,0,0,0,0,0,0,0,0,0,0,0,0,0,0,0,0]
[6,{"$f":"'CH4 from Abandoned Coal Mines'!D208","v":0},{"$f":"'CH4 from Abandoned Coal Mines'!F208","v":0},{"$f":"'CH4 from Abandoned Coal Mines'!J208","v":0},{"$f":"'CH4 from Abandoned Coal Mines'!L208","v":0},{"$f":"1-'CH4 from Abandoned Coal Mines'!N208","v":1},{"$f":"'CH4 from Abandoned Coal Mines'!R208","v":0},{"$f":"'CH4 from Abandoned Coal Mines'!P208","v":0},{"$f":"'CH4 from Abandoned Coal Mines'!H208","v":0},0,0,0,"Sub-bituminous",0.27,-1,null,null,null,null,null,null,null,null,6,0,0,0,0,0,0,0,0,0,0,0,0,0,0,0,0,0,0,0,0,0,0,0,0,0,0,0,0,0,0,0]
[7,{"$f":"'CH4 from Abandoned Coal Mines'!D209","v":0},{"$f":"'CH4 from Abandoned Coal Mines'!F209","v":0},{"$f":"'CH4 from Abandoned Coal Mines'!J209","v":0},{"$f":"'CH4 from Abandoned Coal Mines'!L209","v":0},{"$f":"1-'CH4 from Abandoned Coal Mines'!N209","v":1},{"$f":"'CH4 from Abandoned Coal Mines'!R209","v":0},{"$f":"'CH4 from Abandoned Coal Mines'!P209","v":0},{"$f":"'CH4 from Abandoned Coal Mines'!H209","v":0},0,0,0,"Anthracite",1.72,-0.57999999999999996,null,null,null,null,null,null,null,null,7,0,0,0,0,0,0,0,0,0,0,0,0,0,0,0,0,0,0,0,0,0,0,0,0,0,0,0,0,0,0,0]
[8,{"$f":"'CH4 from Abandoned Coal Mines'!D210","v":0},{"$f":"'CH4 from Abandoned Coal Mines'!F210","v":0},{"$f":"'CH4 from Abandoned Coal Mines'!J210","v":0},{"$f":"'CH4 from Abandoned Coal Mines'!L210","v":0},{"$f":"1-'CH4 from Abandoned Coal Mines'!N210","v":1},{"$f":"'CH4 from Abandoned Coal Mines'!R210","v":0},{"$f":"'CH4 from Abandoned Coal Mines'!P210","v":0},{"$f":"'CH4 from Abandoned Coal Mines'!H210","v":0},0,0,0,null,null,null,null,null,null,null,null,null,null,null,8,0,0,0,0,0,0,0,0,0,0,0,0,0,0,0,0,0,0,0,0,0,0,0,0,0,0,0,0,0,0,0]
[9,{"$f":"'CH4 from Abandoned Coal Mines'!D211","v":0},{"$f":"'CH4 from Abandoned Coal Mines'!F211","v":0},{"$f":"'CH4 from Abandoned Coal Mines'!J211","v":0},{"$f":"'CH4 from Abandoned Coal Mines'!L211","v":0},{"$f":"1-'CH4 from Abandoned Coal Mines'!N211","v":1},{"$f":"'CH4 from Abandoned Coal Mines'!R211","v":0},{"$f":"'CH4 from Abandoned Coal Mines'!P211","v":0},{"$f":"'CH4 from Abandoned Coal Mines'!H211","v":0},0,0,0,null,null,null,null,null,null,null,null,null,null,null,9,0,0,0,0,0,0,0,0,0,0,0,0,0,0,0,0,0,0,0,0,0,0,0,0,0,0,0,0,0,0,0]
[10,{"$f":"'CH4 from Abandoned Coal Mines'!D212","v":0},{"$f":"'CH4 from Abandoned Coal Mines'!F212","v":0},{"$f":"'CH4 from Abandoned Coal Mines'!J212","v":0},{"$f":"'CH4 from Abandoned Coal Mines'!L212","v":0},{"$f":"1-'CH4 from Abandoned Coal Mines'!N212","v":1},{"$f":"'CH4 from Abandoned Coal Mines'!R212","v":0},{"$f":"'CH4 from Abandoned Coal Mines'!P212","v":0},{"$f":"'CH4 from Abandoned Coal Mines'!H212","v":0},0,0,0,null,null,null,null,null,null,null,null,null,null,null,10,0,0,0,0,0,0,0,0,0,0,0,0,0,0,0,0,0,0,0,0,0,0,0,0,0,0,0,0,0,0,0]
[11,{"$f":"'CH4 from Abandoned Coal Mines'!D213","v":0},{"$f":"'CH4 from Abandoned Coal Mines'!F213","v":0},{"$f":"'CH4 from Abandoned Coal Mines'!J213","v":0},{"$f":"'CH4 from Abandoned Coal Mines'!L213","v":0},{"$f":"1-'CH4 from Abandoned Coal Mines'!N213","v":1},{"$f":"'CH4 from Abandoned Coal Mines'!R213","v":0},{"$f":"'CH4 from Abandoned Coal Mines'!P213","v":0},{"$f":"'CH4 from Abandoned Coal Mines'!H213","v":0},0,0,0,null,null,null,null,null,null,null,null,null,null,null,11,0,0,0,0,0,0,0,0,0,0,0,0,0,0,0,0,0,0,0,0,0,0,0,0,0,0,0,0,0,0,0]
[12,{"$f":"'CH4 from Abandoned Coal Mines'!D214","v":0},{"$f":"'CH4 from Abandoned Coal Mines'!F214","v":0},{"$f":"'CH4 from Abandoned Coal Mines'!J214","v":0},{"$f":"'CH4 from Abandoned Coal Mines'!L214","v":0},{"$f":"1-'CH4 from Abandoned Coal Mines'!N214","v":1},{"$f":"'CH4 from Abandoned Coal Mines'!R214","v":0},{"$f":"'CH4 from Abandoned Coal Mines'!P214","v":0},{"$f":"'CH4 from Abandoned Coal Mines'!H214","v":0},0,0,0,null,null,null,null,null,null,null,null,null,null,null,12,0,0,0,0,0,0,0,0,0,0,0,0,0,0,0,0,0,0,0,0,0,0,0,0,0,0,0,0,0,0,0]
[13,{"$f":"'CH4 from Abandoned Coal Mines'!D215","v":0},{"$f":"'CH4 from Abandoned Coal Mines'!F215","v":0},{"$f":"'CH4 from Abandoned Coal Mines'!J215","v":0},{"$f":"'CH4 from Abandoned Coal Mines'!L215","v":0},{"$f":"1-'CH4 from Abandoned Coal Mines'!N215","v":1},{"$f":"'CH4 from Abandoned Coal Mines'!R215","v":0},{"$f":"'CH4 from Abandoned Coal Mines'!P215","v":0},{"$f":"'CH4 from Abandoned Coal Mines'!H215","v":0},0,0,0,null,null,null,null,null,null,null,null,null,null,null,13,0,0,0,0,0,0,0,0,0,0,0,0,0,0,0,0,0,0,0,0,0,0,0,0,0,0,0,0,0,0,0]
[14,{"$f":"'CH4 from Abandoned Coal Mines'!D216","v":0},{"$f":"'CH4 from Abandoned Coal Mines'!F216","v":0},{"$f":"'CH4 from Abandoned Coal Mines'!J216","v":0},{"$f":"'CH4 from Abandoned Coal Mines'!L216","v":0},{"$f":"1-'CH4 from Abandoned Coal Mines'!N216","v":1},{"$f":"'CH4 from Abandoned Coal Mines'!R216","v":0},{"$f":"'CH4 from Abandoned Coal Mines'!P216","v":0},{"$f":"'CH4 from Abandoned Coal Mines'!H216","v":0},0,0,0,null,null,null,null,null,null,null,null,null,null,null,14,0,0,0,0,0,0,0,0,0,0,0,0,0,0,0,0,0,0,0,0,0,0,0,0,0,0,0,0,0,0,0]
[15,{"$f":"'CH4 from Abandoned Coal Mines'!D217","v":0},{"$f":"'CH4 from Abandoned Coal Mines'!F217","v":0},{"$f":"'CH4 from Abandoned Coal Mines'!J217","v":0},{"$f":"'CH4 from Abandoned Coal Mines'!L217","v":0},{"$f":"1-'CH4 from Abandoned Coal Mines'!N217","v":1},{"$f":"'CH4 from Abandoned Coal Mines'!R217","v":0},{"$f":"'CH4 from Abandoned Coal Mines'!P217","v":0},{"$f":"'CH4 from Abandoned Coal Mines'!H217","v":0},0,0,0,null,null,null,null,null,null,null,null,null,null,null,15,0,0,0,0,0,0,0,0,0,0,0,0,0,0,0,0,0,0,0,0,0,0,0,0,0,0,0,0,0,0,0]
[16,{"$f":"'CH4 from Abandoned Coal Mines'!D218","v":0},{"$f":"'CH4 from Abandoned Coal Mines'!F218","v":0},{"$f":"'CH4 from Abandoned Coal Mines'!J218","v":0},{"$f":"'CH4 from Abandoned Coal Mines'!L218","v":0},{"$f":"1-'CH4 from Abandoned Coal Mines'!N218","v":1},{"$f":"'CH4 from Abandoned Coal Mines'!R218","v":0},{"$f":"'CH4 from Abandoned Coal Mines'!P218","v":0},{"$f":"'CH4 from Abandoned Coal Mines'!H218","v":0},0,0,0,null,null,null,null,null,null,null,null,null,null,null,16,0,0,0,0,0,0,0,0,0,0,0,0,0,0,0,0,0,0,0,0,0,0,0,0,0,0,0,0,0,0,0]
[17,{"$f":"'CH4 from Abandoned Coal Mines'!D219","v":0},{"$f":"'CH4 from Abandoned Coal Mines'!F219","v":0},{"$f":"'CH4 from Abandoned Coal Mines'!J219","v":0},{"$f":"'CH4 from Abandoned Coal Mines'!L219","v":0},{"$f":"1-'CH4 from Abandoned Coal Mines'!N219","v":1},{"$f":"'CH4 from Abandoned Coal Mines'!R219","v":0},{"$f":"'CH4 from Abandoned Coal Mines'!P219","v":0},{"$f":"'CH4 from Abandoned Coal Mines'!H219","v":0},0,0,0,null,null,null,null,null,null,null,null,null,null,null,17,0,0,0,0,0,0,0,0,0,0,0,0,0,0,0,0,0,0,0,0,0,0,0,0,0,0,0,0,0,0,0]
[18,{"$f":"'CH4 from Abandoned Coal Mines'!D220","v":0},{"$f":"'CH4 from Abandoned Coal Mines'!F220","v":0},{"$f":"'CH4 from Abandoned Coal Mines'!J220","v":0},{"$f":"'CH4 from Abandoned Coal Mines'!L220","v":0},{"$f":"1-'CH4 from Abandoned Coal Mines'!N220","v":1},{"$f":"'CH4 from Abandoned Coal Mines'!R220","v":0},{"$f":"'CH4 from Abandoned Coal Mines'!P220","v":0},{"$f":"'CH4 from Abandoned Coal Mines'!H220","v":0},0,0,0,null,null,null,null,null,null,null,null,null,null,null,18,0,0,0,0,0,0,0,0,0,0,0,0,0,0,0,0,0,0,0,0,0,0,0,0,0,0,0,0,0,0,0]
[19,{"$f":"'CH4 from Abandoned Coal Mines'!D221","v":0},{"$f":"'CH4 from Abandoned Coal Mines'!F221","v":0},{"$f":"'CH4 from Abandoned Coal Mines'!J221","v":0},{"$f":"'CH4 from Abandoned Coal Mines'!L221","v":0},{"$f":"1-'CH4 from Abandoned Coal Mines'!N221","v":1},{"$f":"'CH4 from Abandoned Coal Mines'!R221","v":0},{"$f":"'CH4 from Abandoned Coal Mines'!P221","v":0},{"$f":"'CH4 from Abandoned Coal Mines'!H221","v":0},0,0,0,null,null,null,null,null,null,null,null,null,null,null,19,0,0,0,0,0,0,0,0,0,0,0,0,0,0,0,0,0,0,0,0,0,0,0,0,0,0,0,0,0,0,0]
[20,{"$f":"'CH4 from Abandoned Coal Mines'!D222","v":0},{"$f":"'CH4 from Abandoned Coal Mines'!F222","v":0},{"$f":"'CH4 from Abandoned Coal Mines'!J222","v":0},{"$f":"'CH4 from Abandoned Coal Mines'!L222","v":0},{"$f":"1-'CH4 from Abandoned Coal Mines'!N222","v":1},{"$f":"'CH4 from Abandoned Coal Mines'!R222","v":0},{"$f":"'CH4 from Abandoned Coal Mines'!P222","v":0},{"$f":"'CH4 from Abandoned Coal Mines'!H222","v":0},0,0,0,null,null,null,null,null,null,null,null,null,null,null,20,0,0,0,0,0,0,0,0,0,0,0,0,0,0,0,0,0,0,0,0,0,0,0,0,0,0,0,0,0,0,0]
[21,{"$f":"'CH4 from Abandoned Coal Mines'!D223","v":0},{"$f":"'CH4 from Abandoned Coal Mines'!F223","v":0},{"$f":"'CH4 from Abandoned Coal Mines'!J223","v":0},{"$f":"'CH4 from Abandoned Coal Mines'!L223","v":0},{"$f":"1-'CH4 from Abandoned Coal Mines'!N223","v":1},{"$f":"'CH4 from Abandoned Coal Mines'!R223","v":0},{"$f":"'CH4 from Abandoned Coal Mines'!P223","v":0},{"$f":"'CH4 from Abandoned Coal Mines'!H223","v":0},0,0,0,null,null,null,null,null,null,null,null,null,null,null,21,0,0,0,0,0,0,0,0,0,0,0,0,0,0,0,0,0,0,0,0,0,0,0,0,0,0,0,0,0,0,0]
[22,{"$f":"'CH4 from Abandoned Coal Mines'!D224","v":0},{"$f":"'CH4 from Abandoned Coal Mines'!F224","v":0},{"$f":"'CH4 from Abandoned Coal Mines'!J224","v":0},{"$f":"'CH4 from Abandoned Coal Mines'!L224","v":0},{"$f":"1-'CH4 from Abandoned Coal Mines'!N224","v":1},{"$f":"'CH4 from Abandoned Coal Mines'!R224","v":0},{"$f":"'CH4 from Abandoned Coal Mines'!P224","v":0},{"$f":"'CH4 from Abandoned Coal Mines'!H224","v":0},0,0,0,null,null,null,null,null,null,null,null,null,null,null,22,0,0,0,0,0,0,0,0,0,0,0,0,0,0,0,0,0,0,0,0,0,0,0,0,0,0,0,0,0,0,0]
[23,{"$f":"'CH4 from Abandoned Coal Mines'!D225","v":0},{"$f":"'CH4 from Abandoned Coal Mines'!F225","v":0},{"$f":"'CH4 from Abandoned Coal Mines'!J225","v":0},{"$f":"'CH4 from Abandoned Coal Mines'!L225","v":0},{"$f":"1-'CH4 from Abandoned Coal Mines'!N225","v":1},{"$f":"'CH4 from Abandoned Coal Mines'!R225","v":0},{"$f":"'CH4 from Abandoned Coal Mines'!P225","v":0},{"$f":"'CH4 from Abandoned Coal Mines'!H225","v":0},0,0,0,null,null,null,null,null,null,null,null,null,null,null,23,0,0,0,0,0,0,0,0,0,0,0,0,0,0,0,0,0,0,0,0,0,0,0,0,0,0,0,0,0,0,0]
[24,{"$f":"'CH4 from Abandoned Coal Mines'!D226","v":0},{"$f":"'CH4 from Abandoned Coal Mines'!F226","v":0},{"$f":"'CH4 from Abandoned Coal Mines'!J226","v":0},{"$f":"'CH4 from Abandoned Coal Mines'!L226","v":0},{"$f":"1-'CH4 from Abandoned Coal Mines'!N226","v":1},{"$f":"'CH4 from Abandoned Coal Mines'!R226","v":0},{"$f":"'CH4 from Abandoned Coal Mines'!P226","v":0},{"$f":"'CH4 from Abandoned Coal Mines'!H226","v":0},0,0,0,null,null,null,null,null,null,null,null,null,null,null,24,0,0,0,0,0,0,0,0,0,0,0,0,0,0,0,0,0,0,0,0,0,0,0,0,0,0,0,0,0,0,0]
[25,{"$f":"'CH4 from Abandoned Coal Mines'!D227","v":0},{"$f":"'CH4 from Abandoned Coal Mines'!F227","v":0},{"$f":"'CH4 from Abandoned Coal Mines'!J227","v":0},{"$f":"'CH4 from Abandoned Coal Mines'!L227","v":0},{"$f":"1-'CH4 from Abandoned Coal Mines'!N227","v":1},{"$f":"'CH4 from Abandoned Coal Mines'!R227","v":0},{"$f":"'CH4 from Abandoned Coal Mines'!P227","v":0},{"$f":"'CH4 from Abandoned Coal Mines'!H227","v":0},0,0,0,null,null,null,null,null,null,null,null,null,null,null,25,0,0,0,0,0,0,0,0,0,0,0,0,0,0,0,0,0,0,0,0,0,0,0,0,0,0,0,0,0,0,0]
[26,{"$f":"'CH4 from Abandoned Coal Mines'!D228","v":0},{"$f":"'CH4 from Abandoned Coal Mines'!F228","v":0},{"$f":"'CH4 from Abandoned Coal Mines'!J228","v":0},{"$f":"'CH4 from Abandoned Coal Mines'!L228","v":0},{"$f":"1-'CH4 from Abandoned Coal Mines'!N228","v":1},{"$f":"'CH4 from Abandoned Coal Mines'!R228","v":0},{"$f":"'CH4 from Abandoned Coal Mines'!P228","v":0},{"$f":"'CH4 from Abandoned Coal Mines'!H228","v":0},0,0,0,null,null,null,null,null,null,null,null,null,null,null,26,0,0,0,0,0,0,0,0,0,0,0,0,0,0,0,0,0,0,0,0,0,0,0,0,0,0,0,0,0,0,0]
[27,{"$f":"'CH4 from Abandoned Coal Mines'!D229","v":0},{"$f":"'CH4 from Abandoned Coal Mines'!F229","v":0},{"$f":"'CH4 from Abandoned Coal Mines'!J229","v":0},{"$f":"'CH4 from Abandoned Coal Mines'!L229","v":0},{"$f":"1-'CH4 from Abandoned Coal Mines'!N229","v":1},{"$f":"'CH4 from Abandoned Coal Mines'!R229","v":0},{"$f":"'CH4 from Abandoned Coal Mines'!P229","v":0},{"$f":"'CH4 from Abandoned Coal Mines'!H229","v":0},0,0,0,null,null,null,null,null,null,null,null,null,null,null,27,0,0,0,0,0,0,0,0,0,0,0,0,0,0,0,0,0,0,0,0,0,0,0,0,0,0,0,0,0,0,0]
[28,{"$f":"'CH4 from Abandoned Coal Mines'!D230","v":0},{"$f":"'CH4 from Abandoned Coal Mines'!F230","v":0},{"$f":"'CH4 from Abandoned Coal Mines'!J230","v":0},{"$f":"'CH4 from Abandoned Coal Mines'!L230","v":0},{"$f":"1-'CH4 from Abandoned Coal Mines'!N230","v":1},{"$f":"'CH4 from Abandoned Coal Mines'!R230","v":0},{"$f":"'CH4 from Abandoned Coal Mines'!P230","v":0},{"$f":"'CH4 from Abandoned Coal Mines'!H230","v":0},0,0,0,null,null,null,null,null,null,null,null,null,null,null,28,0,0,0,0,0,0,0,0,0,0,0,0,0,0,0,0,0,0,0,0,0,0,0,0,0,0,0,0,0,0,0]
[29,{"$f":"'CH4 from Abandoned Coal Mines'!D231","v":0},{"$f":"'CH4 from Abandoned Coal Mines'!F231","v":0},{"$f":"'CH4 from Abandoned Coal Mines'!J231","v":0},{"$f":"'CH4 from Abandoned Coal Mines'!L231","v":0},{"$f":"1-'CH4 from Abandoned Coal Mines'!N231","v":1},{"$f":"'CH4 from Abandoned Coal Mines'!R231","v":0},{"$f":"'CH4 from Abandoned Coal Mines'!P231","v":0},{"$f":"'CH4 from Abandoned Coal Mines'!H231","v":0},0,0,0,null,null,null,null,null,null,null,null,null,null,null,29,0,0,0,0,0,0,0,0,0,0,0,0,0,0,0,0,0,0,0,0,0,0,0,0,0,0,0,0,0,0,0]
[30,{"$f":"'CH4 from Abandoned Coal Mines'!D232","v":0},{"$f":"'CH4 from Abandoned Coal Mines'!F232","v":0},{"$f":"'CH4 from Abandoned Coal Mines'!J232","v":0},{"$f":"'CH4 from Abandoned Coal Mines'!L232","v":0},{"$f":"1-'CH4 from Abandoned Coal Mines'!N232","v":1},{"$f":"'CH4 from Abandoned Coal Mines'!R232","v":0},{"$f":"'CH4 from Abandoned Coal Mines'!P232","v":0},{"$f":"'CH4 from Abandoned Coal Mines'!H232","v":0},0,0,0,null,null,null,null,null,null,null,null,null,null,null,30,0,0,0,0,0,0,0,0,0,0,0,0,0,0,0,0,0,0,0,0,0,0,0,0,0,0,0,0,0,0,0]
[31,{"$f":"'CH4 from Abandoned Coal Mines'!D233","v":0},{"$f":"'CH4 from Abandoned Coal Mines'!F233","v":0},{"$f":"'CH4 from Abandoned Coal Mines'!J233","v":0},{"$f":"'CH4 from Abandoned Coal Mines'!L233","v":0},{"$f":"1-'CH4 from Abandoned Coal Mines'!N233","v":1},{"$f":"'CH4 from Abandoned Coal Mines'!R233","v":0},{"$f":"'CH4 from Abandoned Coal Mines'!P233","v":0},{"$f":"'CH4 from Abandoned Coal Mines'!H233","v":0},0,0,0,null,null,null,null,null,null,null,null,null,null,null,31,0,0,0,0,0,0,0,0,0,0,0,0,0,0,0,0,0,0,0,0,0,0,0,0,0,0,0,0,0,0,0]
[32,{"$f":"'CH4 from Abandoned Coal Mines'!D234","v":0},{"$f":"'CH4 from Abandoned Coal Mines'!F234","v":0},{"$f":"'CH4 from Abandoned Coal Mines'!J234","v":0},{"$f":"'CH4 from Abandoned Coal Mines'!L234","v":0},{"$f":"1-'CH4 from Abandoned Coal Mines'!N234","v":1},{"$f":"'CH4 from Abandoned Coal Mines'!R234","v":0},{"$f":"'CH4 from Abandoned Coal Mines'!P234","v":0},{"$f":"'CH4 from Abandoned Coal Mines'!H234","v":0},0,0,0,null,null,null,null,null,null,null,null,null,null,null,32,0,0,0,0,0,0,0,0,0,0,0,0,0,0,0,0,0,0,0,0,0,0,0,0,0,0,0,0,0,0,0]
[33,{"$f":"'CH4 from Abandoned Coal Mines'!D235","v":0},{"$f":"'CH4 from Abandoned Coal Mines'!F235","v":0},{"$f":"'CH4 from Abandoned Coal Mines'!J235","v":0},{"$f":"'CH4 from Abandoned Coal Mines'!L235","v":0},{"$f":"1-'CH4 from Abandoned Coal Mines'!N235","v":1},{"$f":"'CH4 from Abandoned Coal Mines'!R235","v":0},{"$f":"'CH4 from Abandoned Coal Mines'!P235","v":0},{"$f":"'CH4 from Abandoned Coal Mines'!H235","v":0},{"$f":"IF(ISERROR(VLOOKUP(I213,$M$185:$O$187,2,FALSE)),0,VLOOKUP(I213,$M$185:$O$187,2,FALSE))","v":0},{"$f":"IF(ISERROR(VLOOKUP(I213,$M$185:$O$187,3,FALSE)),0,VLOOKUP(I213,$M$185:$O$187,3,FALSE))","v":0},{"$f":"IF(E213=\"Venting\",((H213*mmcfd_m3)*((1+J213*($AM$3-D213))^K213)-G213)*Gg_m3,IF(E213=\"Sealed\",(((H213*mmcfd_m3)*((1+J213*($AM$3-D213))^K213)*F213-G213)*Gg_m3),IF(E213=\"Flooded\",((H213*mmcfd_m3)*EXP(-0.6728*($AM$3-D213))*Gg_m3),((H213*mmcfd_m3)*((1+J213*($AM$3-D213))^K213)-G213)*Gg_m3+(((H213*mmcfd_m3)*((1+J213*($AM$3-D213))^K213)*F213-G213)*Gg_m3)+((H213*mmcfd_m3)*EXP(-0.6728*($AM$3-D213))*Gg_m3))))","v":0},null,null,null,null,null,null,null,null,null,null,null,33,{"$f":"IF(D213<$Y$180,IF(E213=\"Venting\",((H213*mmcfd_m3)*((1+J213*($Y$180-D213))^K213)-G213)*Gg_m3,IF(E213=\"Sealed\",(((H213*mmcfd_m3)*((1+J213*($Y$180-D213))^K213)*F213-G213)*Gg_m3),IF(E213=\"Flooded\",((H213*mmcfd_m3)*EXP(-0.6728*($Y$180-D213))*Gg_m3),((H213*mmcfd_m3)*((1+J213*($Y$180-D213))^K213)-G213)*Gg_m3+(((H213*mmcfd_m3)*((1+J213*($Y$180-D213))^K213)*F213-G213)*Gg_m3)+((H213*mmcfd_m3)*EXP(-0.6728*($Y$180-D213))*Gg_m3)))),0)","v":0},{"$f":"IF(D213<$Z$180,IF(E213=\"Venting\",((H213*mmcfd_m3)*((1+J213*($Z$180-D213))^K213)-G213)*Gg_m3,IF(E213=\"Sealed\",(((H213*mmcfd_m3)*((1+J213*($Z$180-D213))^K213)*F213-G213)*Gg_m3),IF(E213=\"Flooded\",((H213*mmcfd_m3)*EXP(-0.6728*($Z$180-D213))*Gg_m3),((H213*mmcfd_m3)*((1+J213*($Z$180-D213))^K213)-G213)*Gg_m3+(((H213*mmcfd_m3)*((1+J213*($Z$180-D213))^K213)*F213-G213)*Gg_m3)+((H213*mmcfd_m3)*EXP(-0.6728*($Z$180-D213))*Gg_m3)))),0)","v":0},{"$f":"IF(D213<$AA$180,IF(E213=\"Venting\",((H213*mmcfd_m3)*((1+J213*($AA$180-D213))^K213)-G213)*Gg_m3,IF(E213=\"Sealed\",(((H213*mmcfd_m3)*((1+J213*($AA$180-D213))^K213)*F213-G213)*Gg_m3),IF(E213=\"Flooded\",((H213*mmcfd_m3)*EXP(-0.6728*($AA$180-D213))*Gg_m3),((H213*mmcfd_m3)*((1+J213*($AA$180-D213))^K213)-G213)*Gg_m3+(((H213*mmcfd_m3)*((1+J213*($AA$180-D213))^K213)*F213-G213)*Gg_m3)+((H213*mmcfd_m3)*EXP(-0.6728*($AA$180-D213))*Gg_m3)))),0)","v":0},{"$f":"IF(D213<$AB$180,IF(E213=\"Venting\",((H213*mmcfd_m3)*((1+J213*($AB$180-D213))^K213)-G213)*Gg_m3,IF(E213=\"Sealed\",(((H213*mmcfd_m3)*((1+J213*($AB$180-D213))^K213)*F213-G213)*Gg_m3),IF(E213=\"Flooded\",((H213*mmcfd_m3)*EXP(-0.6728*($AB$180-D213))*Gg_m3),((H213*mmcfd_m3)*((1+J213*($AB$180-D213))^K213)-G213)*Gg_m3+(((H213*mmcfd_m3)*((1+J213*($AB$180-D213))^K213)*F213-G213)*Gg_m3)+((H213*mmcfd_m3)*EXP(-0.6728*($AB$180-D213))*Gg_m3)))),0)","v":0},{"$f":"IF(D213<$AC$180,IF(E213=\"Venting\",((H213*mmcfd_m3)*((1+J213*($AC$180-D213))^K213)-G213)*Gg_m3,IF(E213=\"Sealed\",(((H213*mmcfd_m3)*((1+J213*($AC$180-D213))^K213)*F213-G213)*Gg_m3),IF(E213=\"Flooded\",((H213*mmcfd_m3)*EXP(-0.6728*($AC$180-D213))*Gg_m3),((H213*mmcfd_m3)*((1+J213*($AC$180-D213))^K213)-G213)*Gg_m3+(((H213*mmcfd_m3)*((1+J213*($AC$180-D213))^K213)*F213-G213)*Gg_m3)+((H213*mmcfd_m3)*EXP(-0.6728*($AC$180-D213))*Gg_m3)))),0)","v":0},{"$f":"IF(D213<$AD$180,IF(E213=\"Venting\",((H213*mmcfd_m3)*((1+J213*($AD$180-D213))^K213)-G213)*Gg_m3,IF(E213=\"Sealed\",(((H213*mmcfd_m3)*((1+J213*($AD$180-D213))^K213)*F213-G213)*Gg_m3),IF(E213=\"Flooded\",((H213*mmcfd_m3)*EXP(-0.6728*($AD$180-D213))*Gg_m3),((H213*mmcfd_m3)*((1+J213*($AD$180-D213))^K213)-G213)*Gg_m3+(((H213*mmcfd_m3)*((1+J213*($AD$180-D213))^K213)*F213-G213)*Gg_m3)+((H213*mmcfd_m3)*EXP(-0.6728*($AD$180-D213))*Gg_m3)))),0)","v":0},{"$f":"IF(D213<$AE$180,IF(E213=\"Venting\",((H213*mmcfd_m3)*((1+J213*($AE$180-D213))^K213)-G213)*Gg_m3,IF(E213=\"Sealed\",(((H213*mmcfd_m3)*((1+J213*($AE$180-D213))^K213)*F213-G213)*Gg_m3),IF(E213=\"Flooded\",((H213*mmcfd_m3)*EXP(-0.6728*($AE$180-D213))*Gg_m3),((H213*mmcfd_m3)*((1+J213*($AE$180-D213))^K213)-G213)*Gg_m3+(((H213*mmcfd_m3)*((1+J213*($AE$180-D213))^K213)*F213-G213)*Gg_m3)+((H213*mmcfd_m3)*EXP(-0.6728*($AE$180-D213))*Gg_m3)))),0)","v":0},{"$f":"IF(D213<$AF$180,IF(E213=\"Venting\",((H213*mmcfd_m3)*((1+J213*($AF$180-D213))^K213)-G213)*Gg_m3,IF(E213=\"Sealed\",(((H213*mmcfd_m3)*((1+J213*($AF$180-D213))^K213)*F213-G213)*Gg_m3),IF(E213=\"Flooded\",((H213*mmcfd_m3)*EXP(-0.6728*($AF$180-D213))*Gg_m3),((H213*mmcfd_m3)*((1+J213*($AF$180-D213))^K213)-G213)*Gg_m3+(((H213*mmcfd_m3)*((1+J213*($AF$180-D213))^K213)*F213-G213)*Gg_m3)+((H213*mmcfd_m3)*EXP(-0.6728*($AF$180-D213))*Gg_m3)))),0)","v":0},{"$f":"IF(D213<$AG$180,IF(E213=\"Venting\",((H213*mmcfd_m3)*((1+J213*($AG$180-D213))^K213)-G213)*Gg_m3,IF(E213=\"Sealed\",(((H213*mmcfd_m3)*((1+J213*($AG$180-D213))^K213)*F213-G213)*Gg_m3),IF(E213=\"Flooded\",((H213*mmcfd_m3)*EXP(-0.6728*($AG$180-D213))*Gg_m3),((H213*mmcfd_m3)*((1+J213*($AG$180-D213))^K213)-G213)*Gg_m3+(((H213*mmcfd_m3)*((1+J213*($AG$180-D213))^K213)*F213-G213)*Gg_m3)+((H213*mmcfd_m3)*EXP(-0.6728*($AG$180-D213))*Gg_m3)))),0)","v":0},{"$f":"IF(D213<$AH$180,IF(E213=\"Venting\",((H213*mmcfd_m3)*((1+J213*($AH$180-D213))^K213)-G213)*Gg_m3,IF(E213=\"Sealed\",(((H213*mmcfd_m3)*((1+J213*($AH$180-D213))^K213)*F213-G213)*Gg_m3),IF(E213=\"Flooded\",((H213*mmcfd_m3)*EXP(-0.6728*($AH$180-D213))*Gg_m3),((H213*mmcfd_m3)*((1+J213*($AH$180-D213))^K213)-G213)*Gg_m3+(((H213*mmcfd_m3)*((1+J213*($AH$180-D213))^K213)*F213-G213)*Gg_m3)+((H213*mmcfd_m3)*EXP(-0.6728*($AH$180-D213))*Gg_m3)))),0)","v":0},{"$f":"IF(D213<$AI$180,IF(E213=\"Venting\",((H213*mmcfd_m3)*((1+J213*($AI$180-D213))^K213)-G213)*Gg_m3,IF(E213=\"Sealed\",(((H213*mmcfd_m3)*((1+J213*($AI$180-D213))^K213)*F213-G213)*Gg_m3),IF(E213=\"Flooded\",((H213*mmcfd_m3)*EXP(-0.6728*($AI$180-D213))*Gg_m3),((H213*mmcfd_m3)*((1+J213*($AI$180-D213))^K213)-G213)*Gg_m3+(((H213*mmcfd_m3)*((1+J213*($AI$180-D213))^K213)*F213-G213)*Gg_m3)+((H213*mmcfd_m3)*EXP(-0.6728*($AI$180-D213))*Gg_m3)))),0)","v":0},{"$f":"IF(D213<$AJ$180,IF(E213=\"Venting\",((H213*mmcfd_m3)*((1+J213*($AJ$180-D213))^K213)-G213)*Gg_m3,IF(E213=\"Sealed\",(((H213*mmcfd_m3)*((1+J213*($AJ$180-D213))^K213)*F213-G213)*Gg_m3),IF(E213=\"Flooded\",((H213*mmcfd_m3)*EXP(-0.6728*($AJ$180-D213))*Gg_m3),((H213*mmcfd_m3)*((1+J213*($AJ$180-D213))^K213)-G213)*Gg_m3+(((H213*mmcfd_m3)*((1+J213*($AJ$180-D213))^K213)*F213-G213)*Gg_m3)+((H213*mmcfd_m3)*EXP(-0.6728*($AJ$180-D213))*Gg_m3)))),0)","v":0},{"$f":"IF(D213<$AK$180,IF(E213=\"Venting\",((H213*mmcfd_m3)*((1+J213*($AK$180-D213))^K213)-G213)*Gg_m3,IF(E213=\"Sealed\",(((H213*mmcfd_m3)*((1+J213*($AK$180-D213))^K213)*F213-G213)*Gg_m3),IF(E213=\"Flooded\",((H213*mmcfd_m3)*EXP(-0.6728*($AK$180-D213))*Gg_m3),((H213*mmcfd_m3)*((1+J213*($AK$180-D213))^K213)-G213)*Gg_m3+(((H213*mmcfd_m3)*((1+J213*($AK$180-D213))^K213)*F213-G213)*Gg_m3)+((H213*mmcfd_m3)*EXP(-0.6728*($AK$180-D213))*Gg_m3)))),0)","v":0},{"$f":"IF(D213<$AL$180,IF(E213=\"Venting\",((H213*mmcfd_m3)*((1+J213*($AL$180-D213))^K213)-G213)*Gg_m3,IF(E213=\"Sealed\",(((H213*mmcfd_m3)*((1+J213*($AL$180-D213))^K213)*F213-G213)*Gg_m3),IF(E213=\"Flooded\",((H213*mmcfd_m3)*EXP(-0.6728*($AL$180-D213))*Gg_m3),((H213*mmcfd_m3)*((1+J213*($AL$180-D213))^K213)-G213)*Gg_m3+(((H213*mmcfd_m3)*((1+J213*($AL$180-D213))^K213)*F213-G213)*Gg_m3)+((H213*mmcfd_m3)*EXP(-0.6728*($AL$180-D213))*Gg_m3)))),0)","v":0},{"$f":"IF(D213<$AM$180,IF(E213=\"Venting\",((H213*mmcfd_m3)*((1+J213*($AM$180-D213))^K213)-G213)*Gg_m3,IF(E213=\"Sealed\",(((H213*mmcfd_m3)*((1+J213*($AM$180-D213))^K213)*F213-G213)*Gg_m3),IF(E213=\"Flooded\",((H213*mmcfd_m3)*EXP(-0.6728*($AM$180-D213))*Gg_m3),((H213*mmcfd_m3)*((1+J213*($AM$180-D213))^K213)-G213)*Gg_m3+(((H213*mmcfd_m3)*((1+J213*($AM$180-D213))^K213)*F213-G213)*Gg_m3)+((H213*mmcfd_m3)*EXP(-0.6728*($AM$180-D213))*Gg_m3)))),0)","v":0},{"$f":"IF(D213<$AN$180,IF(E213=\"Venting\",((H213*mmcfd_m3)*((1+J213*($AN$180-D213))^K213)-G213)*Gg_m3,IF(E213=\"Sealed\",(((H213*mmcfd_m3)*((1+J213*($AN$180-D213))^K213)*F213-G213)*Gg_m3),IF(E213=\"Flooded\",((H213*mmcfd_m3)*EXP(-0.6728*($AN$180-D213))*Gg_m3),((H213*mmcfd_m3)*((1+J213*($AN$180-D213))^K213)-G213)*Gg_m3+(((H213*mmcfd_m3)*((1+J213*($AN$180-D213))^K213)*F213-G213)*Gg_m3)+((H213*mmcfd_m3)*EXP(-0.6728*($AN$180-D213))*Gg_m3)))),0)","v":0},{"$f":"IF(D213<$AO$180,IF(E213=\"Venting\",((H213*mmcfd_m3)*((1+J213*($AO$180-D213))^K213)-G213)*Gg_m3,IF(E213=\"Sealed\",(((H213*mmcfd_m3)*((1+J213*($AO$180-D213))^K213)*F213-G213)*Gg_m3),IF(E213=\"Flooded\",((H213*mmcfd_m3)*EXP(-0.6728*($AO$180-D213))*Gg_m3),((H213*mmcfd_m3)*((1+J213*($AO$180-D213))^K213)-G213)*Gg_m3+(((H213*mmcfd_m3)*((1+J213*($AO$180-D213))^K213)*F213-G213)*Gg_m3)+((H213*mmcfd_m3)*EXP(-0.6728*($AO$180-D213))*Gg_m3)))),0)","v":0},{"$f":"IF(D213<$AP$180,IF(E213=\"Venting\",((H213*mmcfd_m3)*((1+J213*($AP$180-D213))^K213)-G213)*Gg_m3,IF(E213=\"Sealed\",(((H213*mmcfd_m3)*((1+J213*($AP$180-D213))^K213)*F213-G213)*Gg_m3),IF(E213=\"Flooded\",((H213*mmcfd_m3)*EXP(-0.6728*($AP$180-D213))*Gg_m3),((H213*mmcfd_m3)*((1+J213*($AP$180-D213))^K213)-G213)*Gg_m3+(((H213*mmcfd_m3)*((1+J213*($AP$180-D213))^K213)*F213-G213)*Gg_m3)+((H213*mmcfd_m3)*EXP(-0.6728*($AP$180-D213))*Gg_m3)))),0)","v":0},{"$f":"IF(D213<$AQ$180,IF(E213=\"Venting\",((H213*mmcfd_m3)*((1+J213*($AQ$180-D213))^K213)-G213)*Gg_m3,IF(E213=\"Sealed\",(((H213*mmcfd_m3)*((1+J213*($AQ$180-D213))^K213)*F213-G213)*Gg_m3),IF(E213=\"Flooded\",((H213*mmcfd_m3)*EXP(-0.6728*($AQ$180-D213))*Gg_m3),((H213*mmcfd_m3)*((1+J213*($AQ$180-D213))^K213)-G213)*Gg_m3+(((H213*mmcfd_m3)*((1+J213*($AQ$180-D213))^K213)*F213-G213)*Gg_m3)+((H213*mmcfd_m3)*EXP(-0.6728*($AQ$180-D213))*Gg_m3)))),0)","v":0},{"$f":"IF(D213<$AR$180,IF(E213=\"Venting\",((H213*mmcfd_m3)*((1+J213*($AR$180-D213))^K213)-G213)*Gg_m3,IF(E213=\"Sealed\",(((H213*mmcfd_m3)*((1+J213*($AR$180-D213))^K213)*F213-G213)*Gg_m3),IF(E213=\"Flooded\",((H213*mmcfd_m3)*EXP(-0.6728*($AR$180-D213))*Gg_m3),((H213*mmcfd_m3)*((1+J213*($AR$180-D213))^K213)-G213)*Gg_m3+(((H213*mmcfd_m3)*((1+J213*($AR$180-D213))^K213)*F213-G213)*Gg_m3)+((H213*mmcfd_m3)*EXP(-0.6728*($AR$180-D213))*Gg_m3)))),0)","v":0},{"$f":"IF(D213<$AS$180,IF(E213=\"Venting\",((H213*mmcfd_m3)*((1+J213*($AS$180-D213))^K213)-G213)*Gg_m3,IF(E213=\"Sealed\",(((H213*mmcfd_m3)*((1+J213*($AS$180-D213))^K213)*F213-G213)*Gg_m3),IF(E213=\"Flooded\",((H213*mmcfd_m3)*EXP(-0.6728*($AS$180-D213))*Gg_m3),((H213*mmcfd_m3)*((1+J213*($AS$180-D213))^K213)-G213)*Gg_m3+(((H213*mmcfd_m3)*((1+J213*($AS$180-D213))^K213)*F213-G213)*Gg_m3)+((H213*mmcfd_m3)*EXP(-0.6728*($AS$180-D213))*Gg_m3)))),0)","v":0},{"$f":"IF(D213<$AT$180,IF(E213=\"Venting\",((H213*mmcfd_m3)*((1+J213*($AT$180-D213))^K213)-G213)*Gg_m3,IF(E213=\"Sealed\",(((H213*mmcfd_m3)*((1+J213*($AT$180-D213))^K213)*F213-G213)*Gg_m3),IF(E213=\"Flooded\",((H213*mmcfd_m3)*EXP(-0.6728*($AT$180-D213))*Gg_m3),((H213*mmcfd_m3)*((1+J213*($AT$180-D213))^K213)-G213)*Gg_m3+(((H213*mmcfd_m3)*((1+J213*($AT$180-D213))^K213)*F213-G213)*Gg_m3)+((H213*mmcfd_m3)*EXP(-0.6728*($AT$180-D213))*Gg_m3)))),0)","v":0},{"$f":"IF(D213<$AU$180,IF(E213=\"Venting\",((H213*mmcfd_m3)*((1+J213*($AU$180-D213))^K213)-G213)*Gg_m3,IF(E213=\"Sealed\",(((H213*mmcfd_m3)*((1+J213*($AU$180-D213))^K213)*F213-G213)*Gg_m3),IF(E213=\"Flooded\",((H213*mmcfd_m3)*EXP(-0.6728*($AU$180-D213))*Gg_m3),((H213*mmcfd_m3)*((1+J213*($AU$180-D213))^K213)-G213)*Gg_m3+(((H213*mmcfd_m3)*((1+J213*($AU$180-D213))^K213)*F213-G213)*Gg_m3)+((H213*mmcfd_m3)*EXP(-0.6728*($AU$180-D213))*Gg_m3)))),0)","v":0},{"$f":"IF(D213<$AV$180,IF(E213=\"Venting\",((H213*mmcfd_m3)*((1+J213*($AV$180-D213))^K213)-G213)*Gg_m3,IF(E213=\"Sealed\",(((H213*mmcfd_m3)*((1+J213*($AV$180-D213))^K213)*F213-G213)*Gg_m3),IF(E213=\"Flooded\",((H213*mmcfd_m3)*EXP(-0.6728*($AV$180-D213))*Gg_m3),((H213*mmcfd_m3)*((1+J213*($AV$180-D213))^K213)-G213)*Gg_m3+(((H213*mmcfd_m3)*((1+J213*($AV$180-D213))^K213)*F213-G213)*Gg_m3)+((H213*mmcfd_m3)*EXP(-0.6728*($AV$180-D213))*Gg_m3)))),0)","v":0},{"$f":"IF(D213<$AW$180,IF(E213=\"Venting\",((H213*mmcfd_m3)*((1+J213*($AW$180-D213))^K213)-G213)*Gg_m3,IF(E213=\"Sealed\",(((H213*mmcfd_m3)*((1+J213*($AW$180-D213))^K213)*F213-G213)*Gg_m3),IF(E213=\"Flooded\",((H213*mmcfd_m3)*EXP(-0.6728*($AW$180-D213))*Gg_m3),((H213*mmcfd_m3)*((1+J213*($AW$180-D213))^K213)-G213)*Gg_m3+(((H213*mmcfd_m3)*((1+J213*($AW$180-D213))^K213)*F213-G213)*Gg_m3)+((H213*mmcfd_m3)*EXP(-0.6728*($AW$180-D213))*Gg_m3)))),0)","v":0},{"$f":"IF(D213<$AX$180,IF(E213=\"Venting\",((H213*mmcfd_m3)*((1+J213*($AX$180-D213))^K213)-G213)*Gg_m3,IF(E213=\"Sealed\",(((H213*mmcfd_m3)*((1+J213*($AX$180-D213))^K213)*F213-G213)*Gg_m3),IF(E213=\"Flooded\",((H213*mmcfd_m3)*EXP(-0.6728*($AX$180-D213))*Gg_m3),((H213*mmcfd_m3)*((1+J213*($AX$180-D213))^K213)-G213)*Gg_m3+(((H213*mmcfd_m3)*((1+J213*($AX$180-D213))^K213)*F213-G213)*Gg_m3)+((H213*mmcfd_m3)*EXP(-0.6728*($AX$180-D213))*Gg_m3)))),0)","v":0},{"$f":"IF(D213<$AY$180,IF(E213=\"Venting\",((H213*mmcfd_m3)*((1+J213*($AY$180-D213))^K213)-G213)*Gg_m3,IF(E213=\"Sealed\",(((H213*mmcfd_m3)*((1+J213*($AY$180-D213))^K213)*F213-G213)*Gg_m3),IF(E213=\"Flooded\",((H213*mmcfd_m3)*EXP(-0.6728*($AY$180-D213))*Gg_m3),((H213*mmcfd_m3)*((1+J213*($AY$180-D213))^K213)-G213)*Gg_m3+(((H213*mmcfd_m3)*((1+J213*($AY$180-D213))^K213)*F213-G213)*Gg_m3)+((H213*mmcfd_m3)*EXP(-0.6728*($AY$180-D213))*Gg_m3)))),0)","v":0},{"$f":"IF(D213<$AZ$180,IF(E213=\"Venting\",((H213*mmcfd_m3)*((1+J213*($AZ$180-D213))^K213)-G213)*Gg_m3,IF(E213=\"Sealed\",(((H213*mmcfd_m3)*((1+J213*($AZ$180-D213))^K213)*F213-G213)*Gg_m3),IF(E213=\"Flooded\",((H213*mmcfd_m3)*EXP(-0.6728*($AZ$180-D213))*Gg_m3),((H213*mmcfd_m3)*((1+J213*($AZ$180-D213))^K213)-G213)*Gg_m3+(((H213*mmcfd_m3)*((1+J213*($AZ$180-D213))^K213)*F213-G213)*Gg_m3)+((H213*mmcfd_m3)*EXP(-0.6728*($AZ$180-D213))*Gg_m3)))),0)","v":0},{"$f":"IF(D213<$BA$180,IF(E213=\"Venting\",((H213*mmcfd_m3)*((1+J213*($BA$180-D213))^K213)-G213)*Gg_m3,IF(E213=\"Sealed\",(((H213*mmcfd_m3)*((1+J213*($BA$180-D213))^K213)*F213-G213)*Gg_m3),IF(E213=\"Flooded\",((H213*mmcfd_m3)*EXP(-0.6728*($BA$180-D213))*Gg_m3),((H213*mmcfd_m3)*((1+J213*($BA$180-D213))^K213)-G213)*Gg_m3+(((H213*mmcfd_m3)*((1+J213*($BA$180-D213))^K213)*F213-G213)*Gg_m3)+((H213*mmcfd_m3)*EXP(-0.6728*($BA$180-D213))*Gg_m3)))),0)","v":0},{"$f":"IF(D213<$BB$180,IF(E213=\"Venting\",((H213*mmcfd_m3)*((1+J213*($BB$180-D213))^K213)-G213)*Gg_m3,IF(E213=\"Sealed\",(((H213*mmcfd_m3)*((1+J213*($BB$180-D213))^K213)*F213-G213)*Gg_m3),IF(E213=\"Flooded\",((H213*mmcfd_m3)*EXP(-0.6728*($BB$180-D213))*Gg_m3),((H213*mmcfd_m3)*((1+J213*($BB$180-D213))^K213)-G213)*Gg_m3+(((H213*mmcfd_m3)*((1+J213*($BB$180-D213))^K213)*F213-G213)*Gg_m3)+((H213*mmcfd_m3)*EXP(-0.6728*($BB$180-D213))*Gg_m3)))),0)","v":0},{"$f":"IF(D213<$BC$180,IF(E213=\"Venting\",((H213*mmcfd_m3)*((1+J213*($BC$180-D213))^K213)-G213)*Gg_m3,IF(E213=\"Sealed\",(((H213*mmcfd_m3)*((1+J213*($BC$180-D213))^K213)*F213-G213)*Gg_m3),IF(E213=\"Flooded\",((H213*mmcfd_m3)*EXP(-0.6728*($BC$180-D213))*Gg_m3),((H213*mmcfd_m3)*((1+J213*($BC$180-D213))^K213)-G213)*Gg_m3+(((H213*mmcfd_m3)*((1+J213*($BC$180-D213))^K213)*F213-G213)*Gg_m3)+((H213*mmcfd_m3)*EXP(-0.6728*($BC$180-D213))*Gg_m3)))),0)","v":0}]
[34,{"$f":"'CH4 from Abandoned Coal Mines'!D236","v":0},{"$f":"'CH4 from Abandoned Coal Mines'!F236","v":0},{"$f":"'CH4 from Abandoned Coal Mines'!J236","v":0},{"$f":"'CH4 from Abandoned Coal Mines'!L236","v":0},{"$f":"1-'CH4 from Abandoned Coal Mines'!N236","v":1},{"$f":"'CH4 from Abandoned Coal Mines'!R236","v":0},{"$f":"'CH4 from Abandoned Coal Mines'!P236","v":0},{"$f":"'CH4 from Abandoned Coal Mines'!H236","v":0},0,0,0,null,null,null,null,null,null,null,null,null,null,null,34,0,0,0,0,0,0,0,0,0,0,0,0,0,0,0,0,0,0,0,0,0,0,0,0,0,0,0,0,0,0,0]
[35,{"$f":"'CH4 from Abandoned Coal Mines'!D237","v":0},{"$f":"'CH4 from Abandoned Coal Mines'!F237","v":0},{"$f":"'CH4 from Abandoned Coal Mines'!J237","v":0},{"$f":"'CH4 from Abandoned Coal Mines'!L237","v":0},{"$f":"1-'CH4 from Abandoned Coal Mines'!N237","v":1},{"$f":"'CH4 from Abandoned Coal Mines'!R237","v":0},{"$f":"'CH4 from Abandoned Coal Mines'!P237","v":0},{"$f":"'CH4 from Abandoned Coal Mines'!H237","v":0},0,0,0,null,null,null,null,null,null,null,null,null,null,null,35,0,0,0,0,0,0,0,0,0,0,0,0,0,0,0,0,0,0,0,0,0,0,0,0,0,0,0,0,0,0,0]
[36,{"$f":"'CH4 from Abandoned Coal Mines'!D238","v":0},{"$f":"'CH4 from Abandoned Coal Mines'!F238","v":0},{"$f":"'CH4 from Abandoned Coal Mines'!J238","v":0},{"$f":"'CH4 from Abandoned Coal Mines'!L238","v":0},{"$f":"1-'CH4 from Abandoned Coal Mines'!N238","v":1},{"$f":"'CH4 from Abandoned Coal Mines'!R238","v":0},{"$f":"'CH4 from Abandoned Coal Mines'!P238","v":0},{"$f":"'CH4 from Abandoned Coal Mines'!H238","v":0},0,0,0,null,null,null,null,null,null,null,null,null,null,null,36,0,0,0,0,0,0,0,0,0,0,0,0,0,0,0,0,0,0,0,0,0,0,0,0,0,0,0,0,0,0,0]
[37,{"$f":"'CH4 from Abandoned Coal Mines'!D239","v":0},{"$f":"'CH4 from Abandoned Coal Mines'!F239","v":0},{"$f":"'CH4 from Abandoned Coal Mines'!J239","v":0},{"$f":"'CH4 from Abandoned Coal Mines'!L239","v":0},{"$f":"1-'CH4 from Abandoned Coal Mines'!N239","v":1},{"$f":"'CH4 from Abandoned Coal Mines'!R239","v":0},{"$f":"'CH4 from Abandoned Coal Mines'!P239","v":0},{"$f":"'CH4 from Abandoned Coal Mines'!H239","v":0},0,0,0,null,null,null,null,null,null,null,null,null,null,null,37,0,0,0,0,0,0,0,0,0,0,0,0,0,0,0,0,0,0,0,0,0,0,0,0,0,0,0,0,0,0,0]
[38,{"$f":"'CH4 from Abandoned Coal Mines'!D240","v":0},{"$f":"'CH4 from Abandoned Coal Mines'!F240","v":0},{"$f":"'CH4 from Abandoned Coal Mines'!J240","v":0},{"$f":"'CH4 from Abandoned Coal Mines'!L240","v":0},{"$f":"1-'CH4 from Abandoned Coal Mines'!N240","v":1},{"$f":"'CH4 from Abandoned Coal Mines'!R240","v":0},{"$f":"'CH4 from Abandoned Coal Mines'!P240","v":0},{"$f":"'CH4 from Abandoned Coal Mines'!H240","v":0},0,0,0,null,null,null,null,null,null,null,null,null,null,null,38,0,0,0,0,0,0,0,0,0,0,0,0,0,0,0,0,0,0,0,0,0,0,0,0,0,0,0,0,0,0,0]
[39,{"$f":"'CH4 from Abandoned Coal Mines'!D241","v":0},{"$f":"'CH4 from Abandoned Coal Mines'!F241","v":0},{"$f":"'CH4 from Abandoned Coal Mines'!J241","v":0},{"$f":"'CH4 from Abandoned Coal Mines'!L241","v":0},{"$f":"1-'CH4 from Abandoned Coal Mines'!N241","v":1},{"$f":"'CH4 from Abandoned Coal Mines'!R241","v":0},{"$f":"'CH4 from Abandoned Coal Mines'!P241","v":0},{"$f":"'CH4 from Abandoned Coal Mines'!H241","v":0},0,0,0,null,null,null,null,null,null,null,null,null,null,null,39,0,0,0,0,0,0,0,0,0,0,0,0,0,0,0,0,0,0,0,0,0,0,0,0,0,0,0,0,0,0,0]
[40,{"$f":"'CH4 from Abandoned Coal Mines'!D242","v":0},{"$f":"'CH4 from Abandoned Coal Mines'!F242","v":0},{"$f":"'CH4 from Abandoned Coal Mines'!J242","v":0},{"$f":"'CH4 from Abandoned Coal Mines'!L242","v":0},{"$f":"1-'CH4 from Abandoned Coal Mines'!N242","v":1},{"$f":"'CH4 from Abandoned Coal Mines'!R242","v":0},{"$f":"'CH4 from Abandoned Coal Mines'!P242","v":0},{"$f":"'CH4 from Abandoned Coal Mines'!H242","v":0},0,0,0,null,null,null,null,null,null,null,null,null,null,null,40,0,0,0,0,0,0,0,0,0,0,0,0,0,0,0,0,0,0,0,0,0,0,0,0,0,0,0,0,0,0,0]
[41,{"$f":"'CH4 from Abandoned Coal Mines'!D243","v":0},{"$f":"'CH4 from Abandoned Coal Mines'!F243","v":0},{"$f":"'CH4 from Abandoned Coal Mines'!J243","v":0},{"$f":"'CH4 from Abandoned Coal Mines'!L243","v":0},{"$f":"1-'CH4 from Abandoned Coal Mines'!N243","v":1},{"$f":"'CH4 from Abandoned Coal Mines'!R243","v":0},{"$f":"'CH4 from Abandoned Coal Mines'!P243","v":0},{"$f":"'CH4 from Abandoned Coal Mines'!H243","v":0},0,0,0,null,null,null,null,null,null,null,null,null,null,null,41,0,0,0,0,0,0,0,0,0,0,0,0,0,0,0,0,0,0,0,0,0,0,0,0,0,0,0,0,0,0,0]
[42,{"$f":"'CH4 from Abandoned Coal Mines'!D244","v":0},{"$f":"'CH4 from Abandoned Coal Mines'!F244","v":0},{"$f":"'CH4 from Abandoned Coal Mines'!J244","v":0},{"$f":"'CH4 from Abandoned Coal Mines'!L244","v":0},{"$f":"1-'CH4 from Abandoned Coal Mines'!N244","v":1},{"$f":"'CH4 from Abandoned Coal Mines'!R244","v":0},{"$f":"'CH4 from Abandoned Coal Mines'!P244","v":0},{"$f":"'CH4 from Abandoned Coal Mines'!H244","v":0},0,0,0,null,null,null,null,null,null,null,null,null,null,null,42,0,0,0,0,0,0,0,0,0,0,0,0,0,0,0,0,0,0,0,0,0,0,0,0,0,0,0,0,0,0,0]
[43,{"$f":"'CH4 from Abandoned Coal Mines'!D245","v":0},{"$f":"'CH4 from Abandoned Coal Mines'!F245","v":0},{"$f":"'CH4 from Abandoned Coal Mines'!J245","v":0},{"$f":"'CH4 from Abandoned Coal Mines'!L245","v":0},{"$f":"1-'CH4 from Abandoned Coal Mines'!N245","v":1},{"$f":"'CH4 from Abandoned Coal Mines'!R245","v":0},{"$f":"'CH4 from Abandoned Coal Mines'!P245","v":0},{"$f":"'CH4 from Abandoned Coal Mines'!H245","v":0},0,0,0,null,null,null,null,null,null,null,null,null,null,null,43,0,0,0,0,0,0,0,0,0,0,0,0,0,0,0,0,0,0,0,0,0,0,0,0,0,0,0,0,0,0,0]
[44,{"$f":"'CH4 from Abandoned Coal Mines'!D246","v":0},{"$f":"'CH4 from Abandoned Coal Mines'!F246","v":0},{"$f":"'CH4 from Abandoned Coal Mines'!J246","v":0},{"$f":"'CH4 from Abandoned Coal Mines'!L246","v":0},{"$f":"1-'CH4 from Abandoned Coal Mines'!N246","v":1},{"$f":"'CH4 from Abandoned Coal Mines'!R246","v":0},{"$f":"'CH4 from Abandoned Coal Mines'!P246","v":0},{"$f":"'CH4 from Abandoned Coal Mines'!H246","v":0},0,0,0,null,null,null,null,null,null,null,null,null,null,null,44,0,0,0,0,0,0,0,0,0,0,0,0,0,0,0,0,0,0,0,0,0,0,0,0,0,0,0,0,0,0,0]
[45,{"$f":"'CH4 from Abandoned Coal Mines'!D247","v":0},{"$f":"'CH4 from Abandoned Coal Mines'!F247","v":0},{"$f":"'CH4 from Abandoned Coal Mines'!J247","v":0},{"$f":"'CH4 from Abandoned Coal Mines'!L247","v":0},{"$f":"1-'CH4 from Abandoned Coal Mines'!N247","v":1},{"$f":"'CH4 from Abandoned Coal Mines'!R247","v":0},{"$f":"'CH4 from Abandoned Coal Mines'!P247","v":0},{"$f":"'CH4 from Abandoned Coal Mines'!H247","v":0},0,0,0,null,null,null,null,null,null,null,null,null,null,null,45,0,0,0,0,0,0,0,0,0,0,0,0,0,0,0,0,0,0,0,0,0,0,0,0,0,0,0,0,0,0,0]
[46,{"$f":"'CH4 from Abandoned Coal Mines'!D248","v":0},{"$f":"'CH4 from Abandoned Coal Mines'!F248","v":0},{"$f":"'CH4 from Abandoned Coal Mines'!J248","v":0},{"$f":"'CH4 from Abandoned Coal Mines'!L248","v":0},{"$f":"1-'CH4 from Abandoned Coal Mines'!N248","v":1},{"$f":"'CH4 from Abandoned Coal Mines'!R248","v":0},{"$f":"'CH4 from Abandoned Coal Mines'!P248","v":0},{"$f":"'CH4 from Abandoned Coal Mines'!H248","v":0},0,0,0,null,null,null,null,null,null,null,null,null,null,null,46,0,0,0,0,0,0,0,0,0,0,0,0,0,0,0,0,0,0,0,0,0,0,0,0,0,0,0,0,0,0,0]
[47,{"$f":"'CH4 from Abandoned Coal Mines'!D249","v":0},{"$f":"'CH4 from Abandoned Coal Mines'!F249","v":0},{"$f":"'CH4 from Abandoned Coal Mines'!J249","v":0},{"$f":"'CH4 from Abandoned Coal Mines'!L249","v":0},{"$f":"1-'CH4 from Abandoned Coal Mines'!N249","v":1},{"$f":"'CH4 from Abandoned Coal Mines'!R249","v":0},{"$f":"'CH4 from Abandoned Coal Mines'!P249","v":0},{"$f":"'CH4 from Abandoned Coal Mines'!H249","v":0},0,0,0,null,null,null,null,null,null,null,null,null,null,null,47,0,0,0,0,0,0,0,0,0,0,0,0,0,0,0,0,0,0,0,0,0,0,0,0,0,0,0,0,0,0,0]
[48,{"$f":"'CH4 from Abandoned Coal Mines'!D250","v":0},{"$f":"'CH4 from Abandoned Coal Mines'!F250","v":0},{"$f":"'CH4 from Abandoned Coal Mines'!J250","v":0},{"$f":"'CH4 from Abandoned Coal Mines'!L250","v":0},{"$f":"1-'CH4 from Abandoned Coal Mines'!N250","v":1},{"$f":"'CH4 from Abandoned Coal Mines'!R250","v":0},{"$f":"'CH4 from Abandoned Coal Mines'!P250","v":0},{"$f":"'CH4 from Abandoned Coal Mines'!H250","v":0},0,0,0,null,null,null,null,null,null,null,null,null,null,null,48,0,0,0,0,0,0,0,0,0,0,0,0,0,0,0,0,0,0,0,0,0,0,0,0,0,0,0,0,0,0,0]
[49,{"$f":"'CH4 from Abandoned Coal Mines'!D251","v":0},{"$f":"'CH4 from Abandoned Coal Mines'!F251","v":0},{"$f":"'CH4 from Abandoned Coal Mines'!J251","v":0},{"$f":"'CH4 from Abandoned Coal Mines'!L251","v":0},{"$f":"1-'CH4 from Abandoned Coal Mines'!N251","v":1},{"$f":"'CH4 from Abandoned Coal Mines'!R251","v":0},{"$f":"'CH4 from Abandoned Coal Mines'!P251","v":0},{"$f":"'CH4 from Abandoned Coal Mines'!H251","v":0},0,0,0,null,null,null,null,null,null,null,null,null,null,null,49,0,0,0,0,0,0,0,0,0,0,0,0,0,0,0,0,0,0,0,0,0,0,0,0,0,0,0,0,0,0,0]
[50,{"$f":"'CH4 from Abandoned Coal Mines'!D252","v":0},{"$f":"'CH4 from Abandoned Coal Mines'!F252","v":0},{"$f":"'CH4 from Abandoned Coal Mines'!J252","v":0},{"$f":"'CH4 from Abandoned Coal Mines'!L252","v":0},{"$f":"1-'CH4 from Abandoned Coal Mines'!N252","v":1},{"$f":"'CH4 from Abandoned Coal Mines'!R252","v":0},{"$f":"'CH4 from Abandoned Coal Mines'!P252","v":0},{"$f":"'CH4 from Abandoned Coal Mines'!H252","v":0},0,0,0,null,null,null,null,null,null,null,null,null,null,null,50,0,0,0,0,0,0,0,0,0,0,0,0,0,0,0,0,0,0,0,0,0,0,0,0,0,0,0,0,0,0,0]

{"sheet":"Summary","index":6,"n_rows":37,"n_cols":63,"rows_kept":37,"cut":false,"hidden":false,"merged":[[1,2,1,12]]}
[{"$f":"\"5. \"&constants!L1&\" Emissions Summary\"","v":"5. Select a State . . .  Emissions Summary"}]
[]
[]
[]
[]
[]
[null,"Emissions (MTCO2E)",null,null,null,null,null,null,null,null,null,null,null,null,null,null,null,null,null,null,null,null,null,null,null,null,null,null,null,null,null,null,null,"Only used for macro that produces projections, keep hidden"]
[null,null,1990,"1991*","1992*",1993,1994,1995,1996,1997,1998,1999,2000,2001,2002,2003,2004,2005,2006,2007,2008,2009,2010,2011,2012,2013,2014,2015,2016,2017,2018,2019,2020,{"$f":"AG8+1","v":2021},2022,2023,2024,2025,2026,2027,2028,2029,2030,2031,2032,2033,2034,2035,2036,2037,2038,2039,2040,2041,2042,2043,2044,2045,2046,2047,2048,2049,2050]
[null,"Coal Mining",{"$f":"'CH4 from Coal Mining'!E19","v":0},{"$f":"'CH4 from Coal Mining'!E40","v":0},{"$f":"'CH4 from Coal Mining'!E61","v":0},{"$f":"'CH4 from Coal Mining'!E82","v":0},{"$f":"'CH4 from Coal Mining'!E103","v":0},{"$f":"'CH4 from Coal Mining'!E124","v":0},{"$f":"'CH4 from Coal Mining'!E145","v":0},{"$f":"'CH4 from Coal Mining'!E166","v":0},{"$f":"'CH4 from Coal Mining'!E187","v":0},{"$f":"'CH4 from Coal Mining'!E208","v":0},{"$f":"'CH4 from Coal Mining'!E229","v":0},{"$f":"'CH4 from Coal Mining'!E250","v":0},{"$f":"'CH4 from Coal Mining'!E271","v":0},{"$f":"'CH4 from Coal Mining'!E292","v":0},{"$f":"'CH4 from Coal Mining'!E313","v":0},{"$f":"'CH4 from Coal Mining'!E334","v":0},{"$f":"'CH4 from Coal Mining'!E355","v":0},{"$f":"'CH4 from Coal Mining'!E376","v":0},{"$f":"'CH4 from Coal Mining'!E397","v":0},{"$f":"'CH4 from Coal Mining'!E418","v":0},{"$f":"'CH4 from Coal Mining'!E439","v":0},{"$f":"'CH4 from Coal Mining'!E460","v":0},{"$f":"'CH4 from Coal Mining'!E481","v":0},{"$f":"'CH4 from Coal Mining'!E502","v":0},{"$f":"'CH4 from Coal Mining'!E523","v":0},{"$f":"'CH4 from Coal Mining'!E544","v":0},{"$f":"'CH4 from Coal Mining'!E565","v":0},{"$f":"'CH4 from Coal Mining'!E586","v":0},{"$f":"'CH4 from Coal Mining'!E607","v":0},{"$f":"'CH4 from Coal Mining'!E628","v":0},{"$f":"'CH4 from Coal Mining'!E649","v":0},{"$f":"'CH4 from Coal Mining'!F649","v":0},{"$f":"'CH4 from Coal Mining'!G649","v":0},{"$f":"'CH4 from Coal Mining'!H649","v":0},{"$f":"'CH4 from Coal Mining'!I649","v":0},{"$f":"'CH4 from Coal Mining'!J649","v":0},{"$f":"'CH4 from Coal Mining'!K649","v":0},{"$f":"'CH4 from Coal Mining'!L649","v":0},{"$f":"'CH4 from Coal Mining'!M649","v":0},{"$f":"'CH4 from Coal Mining'!N649","v":0},{"$f":"'CH4 from Coal Mining'!O649","v":0},{"$f":"'CH4 from Coal Mining'!P649","v":0},{"$f":"'CH4 from Coal Mining'!Q649","v":0},{"$f":"'CH4 from Coal Mining'!R649","v":0},{"$f":"'CH4 from Coal Mining'!S649","v":0},{"$f":"'CH4 from Coal Mining'!T649","v":0},{"$f":"'CH4 from Coal Mining'!U649","v":0},{"$f":"'CH4 from Coal Mining'!V649","v":0},{"$f":"'CH4 from Coal Mining'!W649","v":0},{"$f":"'CH4 from Coal Mining'!X649","v":0},{"$f":"'CH4 from Coal Mining'!Y649","v":0},{"$f":"'CH4 from Coal Mining'!Z649","v":0},{"$f":"'CH4 from Coal Mining'!AA649","v":0},{"$f":"'CH4 from Coal Mining'!AB649","v":0},{"$f":"'CH4 from Coal Mining'!AC649","v":0},{"$f":"'CH4 from Coal Mining'!AD649","v":0},{"$f":"'CH4 from Coal Mining'!AE649","v":0},{"$f":"'CH4 from Coal Mining'!AF649","v":0},{"$f":"'CH4 from Coal Mining'!AG649","v":0},{"$f":"'CH4 from Coal Mining'!AH649","v":0},{"$f":"'CH4 from Coal Mining'!AI649","v":0}]
[null,"Abandoned Coal Mines",{"$f":"SUM('Summary Abandoned Coal Mines'!D24,'Summary Abandoned Coal Mines'!D39)","v":0},{"$f":"SUM('Summary Abandoned Coal Mines'!E24,'Summary Abandoned Coal Mines'!E39)","v":0},{"$f":"SUM('Summary Abandoned Coal Mines'!F24,'Summary Abandoned Coal Mines'!F39)","v":0},{"$f":"SUM('Summary Abandoned Coal Mines'!G24,'Summary Abandoned Coal Mines'!G39)","v":0},{"$f":"SUM('Summary Abandoned Coal Mines'!H24,'Summary Abandoned Coal Mines'!H39)","v":0},{"$f":"SUM('Summary Abandoned Coal Mines'!I24,'Summary Abandoned Coal Mines'!I39)","v":0},{"$f":"SUM('Summary Abandoned Coal Mines'!J24,'Summary Abandoned Coal Mines'!J39)","v":0},{"$f":"SUM('Summary Abandoned Coal Mines'!K24,'Summary Abandoned Coal Mines'!K39)","v":0},{"$f":"SUM('Summary Abandoned Coal Mines'!L24,'Summary Abandoned Coal Mines'!L39)","v":0},{"$f":"SUM('Summary Abandoned Coal Mines'!M24,'Summary Abandoned Coal Mines'!M39)","v":0},{"$f":"SUM('Summary Abandoned Coal Mines'!N24,'Summary Abandoned Coal Mines'!N39)","v":0},{"$f":"SUM('Summary Abandoned Coal Mines'!O24,'Summary Abandoned Coal Mines'!O39)","v":0},{"$f":"SUM('Summary Abandoned Coal Mines'!P24,'Summary Abandoned Coal Mines'!P39)","v":0},{"$f":"SUM('Summary Abandoned Coal Mines'!Q24,'Summary Abandoned Coal Mines'!Q39)","v":0},{"$f":"SUM('Summary Abandoned Coal Mines'!R24,'Summary Abandoned Coal Mines'!R39)","v":0},{"$f":"SUM('Summary Abandoned Coal Mines'!S24,'Summary Abandoned Coal Mines'!S39)","v":0},{"$f":"SUM('Summary Abandoned Coal Mines'!T24,'Summary Abandoned Coal Mines'!T39)","v":0},{"$f":"SUM('Summary Abandoned Coal Mines'!U24,'Summary Abandoned Coal Mines'!U39)","v":0},{"$f":"SUM('Summary Abandoned Coal Mines'!V24,'Summary Abandoned Coal Mines'!V39)","v":0},{"$f":"SUM('Summary Abandoned Coal Mines'!W24,'Summary Abandoned Coal Mines'!W39)","v":0},{"$f":"SUM('Summary Abandoned Coal Mines'!X24,'Summary Abandoned Coal Mines'!X39)","v":0},{"$f":"SUM('Summary Abandoned Coal Mines'!Y24,'Summary Abandoned Coal Mines'!Y39)","v":0},{"$f":"SUM('Summary Abandoned Coal Mines'!Z24,'Summary Abandoned Coal Mines'!Z39)","v":0},{"$f":"SUM('Summary Abandoned Coal Mines'!AA24,'Summary Abandoned Coal Mines'!AA39)","v":0},{"$f":"SUM('Summary Abandoned Coal Mines'!AB24,'Summary Abandoned Coal Mines'!AB39)","v":0},{"$f":"SUM('Summary Abandoned Coal Mines'!AC24,'Summary Abandoned Coal Mines'!AC39)","v":0},{"$f":"SUM('Summary Abandoned Coal Mines'!AD24,'Summary Abandoned Coal Mines'!AD39)","v":0},{"$f":"SUM('Summary Abandoned Coal Mines'!AE24,'Summary Abandoned Coal Mines'!AE39)","v":0},{"$f":"SUM('Summary Abandoned Coal Mines'!AF24,'Summary Abandoned Coal Mines'!AF39)","v":0},{"$f":"SUM('Summary Abandoned Coal Mines'!AG24,'Summary Abandoned Coal Mines'!AG39)","v":0},{"$f":"SUM('Summary Abandoned Coal Mines'!AH24,'Summary Abandoned Coal Mines'!AH39)","v":0},{"$f":"SUM('Summary Abandoned Coal Mines'!AI24,'Summary Abandoned Coal Mines'!AI39)","v":0},{"$f":"SUM('Summary Abandoned Coal Mines'!AJ24,'Summary Abandoned Coal Mines'!AJ39)","v":0},{"$f":"SUM('Summary Abandoned Coal Mines'!AK24,'Summary Abandoned Coal Mines'!AK39)","v":0},{"$f":"SUM('Summary Abandoned Coal Mines'!AL24,'Summary Abandoned Coal Mines'!AL39)","v":0},{"$f":"SUM('Summary Abandoned Coal Mines'!AM24,'Summary Abandoned Coal Mines'!AM39)","v":0},{"$f":"SUM('Summary Abandoned Coal Mines'!AN24,'Summary Abandoned Coal Mines'!AN39)","v":0},{"$f":"SUM('Summary Abandoned Coal Mines'!AO24,'Summary Abandoned Coal Mines'!AO39)","v":0},{"$f":"SUM('Summary Abandoned Coal Mines'!AP24,'Summary Abandoned Coal Mines'!AP39)","v":0},{"$f":"SUM('Summary Abandoned Coal Mines'!AQ24,'Summary Abandoned Coal Mines'!AQ39)","v":0},{"$f":"SUM('Summary Abandoned Coal Mines'!AR24,'Summary Abandoned Coal Mines'!AR39)","v":0},{"$f":"SUM('Summary Abandoned Coal Mines'!AS24,'Summary Abandoned Coal Mines'!AS39)","v":0},{"$f":"SUM('Summary Abandoned Coal Mines'!AT24,'Summary Abandoned Coal Mines'!AT39)","v":0},{"$f":"SUM('Summary Abandoned Coal Mines'!AU24,'Summary Abandoned Coal Mines'!AU39)","v":0},{"$f":"SUM('Summary Abandoned Coal Mines'!AV24,'Summary Abandoned Coal Mines'!AV39)","v":0},{"$f":"SUM('Summary Abandoned Coal Mines'!AW24,'Summary Abandoned Coal Mines'!AW39)","v":0},{"$f":"SUM('Summary Abandoned Coal Mines'!AX24,'Summary Abandoned Coal Mines'!AX39)","v":0},{"$f":"SUM('Summary Abandoned Coal Mines'!AY24,'Summary Abandoned Coal Mines'!AY39)","v":0},{"$f":"SUM('Summary Abandoned Coal Mines'!AZ24,'Summary Abandoned Coal Mines'!AZ39)","v":0},{"$f":"SUM('Summary Abandoned Coal Mines'!BA24,'Summary Abandoned Coal Mines'!BA39)","v":0},{"$f":"SUM('Summary Abandoned Coal Mines'!BB24,'Summary Abandoned Coal Mines'!BB39)","v":0},{"$f":"SUM('Summary Abandoned Coal Mines'!BC24,'Summary Abandoned Coal Mines'!BC39)","v":0},{"$f":"SUM('Summary Abandoned Coal Mines'!BD24,'Summary Abandoned Coal Mines'!BD39)","v":0},{"$f":"SUM('Summary Abandoned Coal Mines'!BE24,'Summary Abandoned Coal Mines'!BE39)","v":0},{"$f":"SUM('Summary Abandoned Coal Mines'!BF24,'Summary Abandoned Coal Mines'!BF39)","v":0},{"$f":"SUM('Summary Abandoned Coal Mines'!BG24,'Summary Abandoned Coal Mines'!BG39)","v":0},{"$f":"SUM('Summary Abandoned Coal Mines'!BH24,'Summary Abandoned Coal Mines'!BH39)","v":0},{"$f":"SUM('Summary Abandoned Coal Mines'!BI24,'Summary Abandoned Coal Mines'!BI39)","v":0},{"$f":"SUM('Summary Abandoned Coal Mines'!BJ24,'Summary Abandoned Coal Mines'!BJ39)","v":0},{"$f":"SUM('Summary Abandoned Coal Mines'!BK24,'Summary Abandoned Coal Mines'!BK39)","v":0},{"$f":"SUM('Summary Abandoned Coal Mines'!BL24,'Summary Abandoned Coal Mines'!BL39)","v":0}]
[null,"Vented",{"$f":"SUM('Summary Abandoned Coal Mines'!D21,'Summary Abandoned Coal Mines'!D36)","v":0},{"$f":"SUM('Summary Abandoned Coal Mines'!E21,'Summary Abandoned Coal Mines'!E36)","v":0},{"$f":"SUM('Summary Abandoned Coal Mines'!F21,'Summary Abandoned Coal Mines'!F36)","v":0},{"$f":"SUM('Summary Abandoned Coal Mines'!G21,'Summary Abandoned Coal Mines'!G36)","v":0},{"$f":"SUM('Summary Abandoned Coal Mines'!H21,'Summary Abandoned Coal Mines'!H36)","v":0},{"$f":"SUM('Summary Abandoned Coal Mines'!I21,'Summary Abandoned Coal Mines'!I36)","v":0},{"$f":"SUM('Summary Abandoned Coal Mines'!J21,'Summary Abandoned Coal Mines'!J36)","v":0},{"$f":"SUM('Summary Abandoned Coal Mines'!K21,'Summary Abandoned Coal Mines'!K36)","v":0},{"$f":"SUM('Summary Abandoned Coal Mines'!L21,'Summary Abandoned Coal Mines'!L36)","v":0},{"$f":"SUM('Summary Abandoned Coal Mines'!M21,'Summary Abandoned Coal Mines'!M36)","v":0},{"$f":"SUM('Summary Abandoned Coal Mines'!N21,'Summary Abandoned Coal Mines'!N36)","v":0},{"$f":"SUM('Summary Abandoned Coal Mines'!O21,'Summary Abandoned Coal Mines'!O36)","v":0},{"$f":"SUM('Summary Abandoned Coal Mines'!P21,'Summary Abandoned Coal Mines'!P36)","v":0},{"$f":"SUM('Summary Abandoned Coal Mines'!Q21,'Summary Abandoned Coal Mines'!Q36)","v":0},{"$f":"SUM('Summary Abandoned Coal Mines'!R21,'Summary Abandoned Coal Mines'!R36)","v":0},{"$f":"SUM('Summary Abandoned Coal Mines'!S21,'Summary Abandoned Coal Mines'!S36)","v":0},{"$f":"SUM('Summary Abandoned Coal Mines'!T21,'Summary Abandoned Coal Mines'!T36)","v":0},{"$f":"SUM('Summary Abandoned Coal Mines'!U21,'Summary Abandoned Coal Mines'!U36)","v":0},{"$f":"SUM('Summary Abandoned Coal Mines'!V21,'Summary Abandoned Coal Mines'!V36)","v":0},{"$f":"SUM('Summary Abandoned Coal Mines'!W21,'Summary Abandoned Coal Mines'!W36)","v":0},{"$f":"SUM('Summary Abandoned Coal Mines'!X21,'Summary Abandoned Coal Mines'!X36)","v":0},{"$f":"SUM('Summary Abandoned Coal Mines'!Y21,'Summary Abandoned Coal Mines'!Y36)","v":0},{"$f":"SUM('Summary Abandoned Coal Mines'!Z21,'Summary Abandoned Coal Mines'!Z36)","v":0},{"$f":"SUM('Summary Abandoned Coal Mines'!AA21,'Summary Abandoned Coal Mines'!AA36)","v":0},{"$f":"SUM('Summary Abandoned Coal Mines'!AB21,'Summary Abandoned Coal Mines'!AB36)","v":0},{"$f":"SUM('Summary Abandoned Coal Mines'!AC21,'Summary Abandoned Coal Mines'!AC36)","v":0},{"$f":"SUM('Summary Abandoned Coal Mines'!AD21,'Summary Abandoned Coal Mines'!AD36)","v":0},{"$f":"SUM('Summary Abandoned Coal Mines'!AE21,'Summary Abandoned Coal Mines'!AE36)","v":0},{"$f":"SUM('Summary Abandoned Coal Mines'!AF21,'Summary Abandoned Coal Mines'!AF36)","v":0},{"$f":"SUM('Summary Abandoned Coal Mines'!AG21,'Summary Abandoned Coal Mines'!AG36)","v":0},{"$f":"SUM('Summary Abandoned Coal Mines'!AH21,'Summary Abandoned Coal Mines'!AH36)","v":0},{"$f":"SUM('Summary Abandoned Coal Mines'!AI21,'Summary Abandoned Coal Mines'!AI36)","v":0},{"$f":"SUM('Summary Abandoned Coal Mines'!AJ21,'Summary Abandoned Coal Mines'!AJ36)","v":0},{"$f":"SUM('Summary Abandoned Coal Mines'!AK21,'Summary Abandoned Coal Mines'!AK36)","v":0},{"$f":"SUM('Summary Abandoned Coal Mines'!AL21,'Summary Abandoned Coal Mines'!AL36)","v":0},{"$f":"SUM('Summary Abandoned Coal Mines'!AM21,'Summary Abandoned Coal Mines'!AM36)","v":0},{"$f":"SUM('Summary Abandoned Coal Mines'!AN21,'Summary Abandoned Coal Mines'!AN36)","v":0},{"$f":"SUM('Summary Abandoned Coal Mines'!AO21,'Summary Abandoned Coal Mines'!AO36)","v":0},{"$f":"SUM('Summary Abandoned Coal Mines'!AP21,'Summary Abandoned Coal Mines'!AP36)","v":0},{"$f":"SUM('Summary Abandoned Coal Mines'!AQ21,'Summary Abandoned Coal Mines'!AQ36)","v":0},{"$f":"SUM('Summary Abandoned Coal Mines'!AR21,'Summary Abandoned Coal Mines'!AR36)","v":0},{"$f":"SUM('Summary Abandoned Coal Mines'!AS21,'Summary Abandoned Coal Mines'!AS36)","v":0},{"$f":"SUM('Summary Abandoned Coal Mines'!AT21,'Summary Abandoned Coal Mines'!AT36)","v":0},{"$f":"SUM('Summary Abandoned Coal Mines'!AU21,'Summary Abandoned Coal Mines'!AU36)","v":0},{"$f":"SUM('Summary Abandoned Coal Mines'!AV21,'Summary Abandoned Coal Mines'!AV36)","v":0},{"$f":"SUM('Summary Abandoned Coal Mines'!AW21,'Summary Abandoned Coal Mines'!AW36)","v":0},{"$f":"SUM('Summary Abandoned Coal Mines'!AX21,'Summary Abandoned Coal Mines'!AX36)","v":0},{"$f":"SUM('Summary Abandoned Coal Mines'!AY21,'Summary Abandoned Coal Mines'!AY36)","v":0},{"$f":"SUM('Summary Abandoned Coal Mines'!AZ21,'Summary Abandoned Coal Mines'!AZ36)","v":0},{"$f":"SUM('Summary Abandoned Coal Mines'!BA21,'Summary Abandoned Coal Mines'!BA36)","v":0},{"$f":"SUM('Summary Abandoned Coal Mines'!BB21,'Summary Abandoned Coal Mines'!BB36)","v":0},{"$f":"SUM('Summary Abandoned Coal Mines'!BC21,'Summary Abandoned Coal Mines'!BC36)","v":0},{"$f":"SUM('Summary Abandoned Coal Mines'!BD21,'Summary Abandoned Coal Mines'!BD36)","v":0},{"$f":"SUM('Summary Abandoned Coal Mines'!BE21,'Summary Abandoned Coal Mines'!BE36)","v":0},{"$f":"SUM('Summary Abandoned Coal Mines'!BF21,'Summary Abandoned Coal Mines'!BF36)","v":0},{"$f":"SUM('Summary Abandoned Coal Mines'!BG21,'Summary Abandoned Coal Mines'!BG36)","v":0},{"$f":"SUM('Summary Abandoned Coal Mines'!BH21,'Summary Abandoned Coal Mines'!BH36)","v":0},{"$f":"SUM('Summary Abandoned Coal Mines'!BI21,'Summary Abandoned Coal Mines'!BI36)","v":0},{"$f":"SUM('Summary Abandoned Coal Mines'!BJ21,'Summary Abandoned Coal Mines'!BJ36)","v":0},{"$f":"SUM('Summary Abandoned Coal Mines'!BK21,'Summary Abandoned Coal Mines'!BK36)","v":0},{"$f":"SUM('Summary Abandoned Coal Mines'!BL21,'Summary Abandoned Coal Mines'!BL36)","v":0}]
[null,"Sealed",{"$f":"SUM('Summary Abandoned Coal Mines'!D22,'Summary Abandoned Coal Mines'!D37)","v":0},{"$f":"SUM('Summary Abandoned Coal Mines'!E22,'Summary Abandoned Coal Mines'!E37)","v":0},{"$f":"SUM('Summary Abandoned Coal Mines'!F22,'Summary Abandoned Coal Mines'!F37)","v":0},{"$f":"SUM('Summary Abandoned Coal Mines'!G22,'Summary Abandoned Coal Mines'!G37)","v":0},{"$f":"SUM('Summary Abandoned Coal Mines'!H22,'Summary Abandoned Coal Mines'!H37)","v":0},{"$f":"SUM('Summary Abandoned Coal Mines'!I22,'Summary Abandoned Coal Mines'!I37)","v":0},{"$f":"SUM('Summary Abandoned Coal Mines'!J22,'Summary Abandoned Coal Mines'!J37)","v":0},{"$f":"SUM('Summary Abandoned Coal Mines'!K22,'Summary Abandoned Coal Mines'!K37)","v":0},{"$f":"SUM('Summary Abandoned Coal Mines'!L22,'Summary Abandoned Coal Mines'!L37)","v":0},{"$f":"SUM('Summary Abandoned Coal Mines'!M22,'Summary Abandoned Coal Mines'!M37)","v":0},{"$f":"SUM('Summary Abandoned Coal Mines'!N22,'Summary Abandoned Coal Mines'!N37)","v":0},{"$f":"SUM('Summary Abandoned Coal Mines'!O22,'Summary Abandoned Coal Mines'!O37)","v":0},{"$f":"SUM('Summary Abandoned Coal Mines'!P22,'Summary Abandoned Coal Mines'!P37)","v":0},{"$f":"SUM('Summary Abandoned Coal Mines'!Q22,'Summary Abandoned Coal Mines'!Q37)","v":0},{"$f":"SUM('Summary Abandoned Coal Mines'!R22,'Summary Abandoned Coal Mines'!R37)","v":0},{"$f":"SUM('Summary Abandoned Coal Mines'!S22,'Summary Abandoned Coal Mines'!S37)","v":0},{"$f":"SUM('Summary Abandoned Coal Mines'!T22,'Summary Abandoned Coal Mines'!T37)","v":0},{"$f":"SUM('Summary Abandoned Coal Mines'!U22,'Summary Abandoned Coal Mines'!U37)","v":0},{"$f":"SUM('Summary Abandoned Coal Mines'!V22,'Summary Abandoned Coal Mines'!V37)","v":0},{"$f":"SUM('Summary Abandoned Coal Mines'!W22,'Summary Abandoned Coal Mines'!W37)","v":0},{"$f":"SUM('Summary Abandoned Coal Mines'!X22,'Summary Abandoned Coal Mines'!X37)","v":0},{"$f":"SUM('Summary Abandoned Coal Mines'!Y22,'Summary Abandoned Coal Mines'!Y37)","v":0},{"$f":"SUM('Summary Abandoned Coal Mines'!Z22,'Summary Abandoned Coal Mines'!Z37)","v":0},{"$f":"SUM('Summary Abandoned Coal Mines'!AA22,'Summary Abandoned Coal Mines'!AA37)","v":0},{"$f":"SUM('Summary Abandoned Coal Mines'!AB22,'Summary Abandoned Coal Mines'!AB37)","v":0},{"$f":"SUM('Summary Abandoned Coal Mines'!AC22,'Summary Abandoned Coal Mines'!AC37)","v":0},{"$f":"SUM('Summary Abandoned Coal Mines'!AD22,'Summary Abandoned Coal Mines'!AD37)","v":0},{"$f":"SUM('Summary Abandoned Coal Mines'!AE22,'Summary Abandoned Coal Mines'!AE37)","v":0},{"$f":"SUM('Summary Abandoned Coal Mines'!AF22,'Summary Abandoned Coal Mines'!AF37)","v":0},{"$f":"SUM('Summary Abandoned Coal Mines'!AG22,'Summary Abandoned Coal Mines'!AG37)","v":0},{"$f":"SUM('Summary Abandoned Coal Mines'!AH22,'Summary Abandoned Coal Mines'!AH37)","v":0},{"$f":"SUM('Summary Abandoned Coal Mines'!AI22,'Summary Abandoned Coal Mines'!AI37)","v":0},{"$f":"SUM('Summary Abandoned Coal Mines'!AJ22,'Summary Abandoned Coal Mines'!AJ37)","v":0},{"$f":"SUM('Summary Abandoned Coal Mines'!AK22,'Summary Abandoned Coal Mines'!AK37)","v":0},{"$f":"SUM('Summary Abandoned Coal Mines'!AL22,'Summary Abandoned Coal Mines'!AL37)","v":0},{"$f":"SUM('Summary Abandoned Coal Mines'!AM22,'Summary Abandoned Coal Mines'!AM37)","v":0},{"$f":"SUM('Summary Abandoned Coal Mines'!AN22,'Summary Abandoned Coal Mines'!AN37)","v":0},{"$f":"SUM('Summary Abandoned Coal Mines'!AO22,'Summary Abandoned Coal Mines'!AO37)","v":0},{"$f":"SUM('Summary Abandoned Coal Mines'!AP22,'Summary Abandoned Coal Mines'!AP37)","v":0},{"$f":"SUM('Summary Abandoned Coal Mines'!AQ22,'Summary Abandoned Coal Mines'!AQ37)","v":0},{"$f":"SUM('Summary Abandoned Coal Mines'!AR22,'Summary Abandoned Coal Mines'!AR37)","v":0},{"$f":"SUM('Summary Abandoned Coal Mines'!AS22,'Summary Abandoned Coal Mines'!AS37)","v":0},{"$f":"SUM('Summary Abandoned Coal Mines'!AT22,'Summary Abandoned Coal Mines'!AT37)","v":0},{"$f":"SUM('Summary Abandoned Coal Mines'!AU22,'Summary Abandoned Coal Mines'!AU37)","v":0},{"$f":"SUM('Summary Abandoned Coal Mines'!AV22,'Summary Abandoned Coal Mines'!AV37)","v":0},{"$f":"SUM('Summary Abandoned Coal Mines'!AW22,'Summary Abandoned Coal Mines'!AW37)","v":0},{"$f":"SUM('Summary Abandoned Coal Mines'!AX22,'Summary Abandoned Coal Mines'!AX37)","v":0},{"$f":"SUM('Summary Abandoned Coal Mines'!AY22,'Summary Abandoned Coal Mines'!AY37)","v":0},{"$f":"SUM('Summary Abandoned Coal Mines'!AZ22,'Summary Abandoned Coal Mines'!AZ37)","v":0},{"$f":"SUM('Summary Abandoned Coal Mines'!BA22,'Summary Abandoned Coal Mines'!BA37)","v":0},{"$f":"SUM('Summary Abandoned Coal Mines'!BB22,'Summary Abandoned Coal Mines'!BB37)","v":0},{"$f":"SUM('Summary Abandoned Coal Mines'!BC22,'Summary Abandoned Coal Mines'!BC37)","v":0},{"$f":"SUM('Summary Abandoned Coal Mines'!BD22,'Summary Abandoned Coal Mines'!BD37)","v":0},{"$f":"SUM('Summary Abandoned Coal Mines'!BE22,'Summary Abandoned Coal Mines'!BE37)","v":0},{"$f":"SUM('Summary Abandoned Coal Mines'!BF22,'Summary Abandoned Coal Mines'!BF37)","v":0},{"$f":"SUM('Summary Abandoned Coal Mines'!BG22,'Summary Abandoned Coal Mines'!BG37)","v":0},{"$f":"SUM('Summary Abandoned Coal Mines'!BH22,'Summary Abandoned Coal Mines'!BH37)","v":0},{"$f":"SUM('Summary Abandoned Coal Mines'!BI22,'Summary Abandoned Coal Mines'!BI37)","v":0},{"$f":"SUM('Summary Abandoned Coal Mines'!BJ22,'Summary Abandoned Coal Mines'!BJ37)","v":0},{"$f":"SUM('Summary Abandoned Coal Mines'!BK22,'Summary Abandoned Coal Mines'!BK37)","v":0},{"$f":"SUM('Summary Abandoned Coal Mines'!BL22,'Summary Abandoned Coal Mines'!BL37)","v":0}]
[null,"Flooded",{"$f":"SUM('Summary Abandoned Coal Mines'!D23,'Summary Abandoned Coal Mines'!D38)","v":0},{"$f":"SUM('Summary Abandoned Coal Mines'!E23,'Summary Abandoned Coal Mines'!E38)","v":0},{"$f":"SUM('Summary Abandoned Coal Mines'!F23,'Summary Abandoned Coal Mines'!F38)","v":0},{"$f":"SUM('Summary Abandoned Coal Mines'!G23,'Summary Abandoned Coal Mines'!G38)","v":0},{"$f":"SUM('Summary Abandoned Coal Mines'!H23,'Summary Abandoned Coal Mines'!H38)","v":0},{"$f":"SUM('Summary Abandoned Coal Mines'!I23,'Summary Abandoned Coal Mines'!I38)","v":0},{"$f":"SUM('Summary Abandoned Coal Mines'!J23,'Summary Abandoned Coal Mines'!J38)","v":0},{"$f":"SUM('Summary Abandoned Coal Mines'!K23,'Summary Abandoned Coal Mines'!K38)","v":0},{"$f":"SUM('Summary Abandoned Coal Mines'!L23,'Summary Abandoned Coal Mines'!L38)","v":0},{"$f":"SUM('Summary Abandoned Coal Mines'!M23,'Summary Abandoned Coal Mines'!M38)","v":0},{"$f":"SUM('Summary Abandoned Coal Mines'!N23,'Summary Abandoned Coal Mines'!N38)","v":0},{"$f":"SUM('Summary Abandoned Coal Mines'!O23,'Summary Abandoned Coal Mines'!O38)","v":0},{"$f":"SUM('Summary Abandoned Coal Mines'!P23,'Summary Abandoned Coal Mines'!P38)","v":0},{"$f":"SUM('Summary Abandoned Coal Mines'!Q23,'Summary Abandoned Coal Mines'!Q38)","v":0},{"$f":"SUM('Summary Abandoned Coal Mines'!R23,'Summary Abandoned Coal Mines'!R38)","v":0},{"$f":"SUM('Summary Abandoned Coal Mines'!S23,'Summary Abandoned Coal Mines'!S38)","v":0},{"$f":"SUM('Summary Abandoned Coal Mines'!T23,'Summary Abandoned Coal Mines'!T38)","v":0},{"$f":"SUM('Summary Abandoned Coal Mines'!U23,'Summary Abandoned Coal Mines'!U38)","v":0},{"$f":"SUM('Summary Abandoned Coal Mines'!V23,'Summary Abandoned Coal Mines'!V38)","v":0},{"$f":"SUM('Summary Abandoned Coal Mines'!W23,'Summary Abandoned Coal Mines'!W38)","v":0},{"$f":"SUM('Summary Abandoned Coal Mines'!X23,'Summary Abandoned Coal Mines'!X38)","v":0},{"$f":"SUM('Summary Abandoned Coal Mines'!Y23,'Summary Abandoned Coal Mines'!Y38)","v":0},{"$f":"SUM('Summary Abandoned Coal Mines'!Z23,'Summary Abandoned Coal Mines'!Z38)","v":0},{"$f":"SUM('Summary Abandoned Coal Mines'!AA23,'Summary Abandoned Coal Mines'!AA38)","v":0},{"$f":"SUM('Summary Abandoned Coal Mines'!AB23,'Summary Abandoned Coal Mines'!AB38)","v":0},{"$f":"SUM('Summary Abandoned Coal Mines'!AC23,'Summary Abandoned Coal Mines'!AC38)","v":0},{"$f":"SUM('Summary Abandoned Coal Mines'!AD23,'Summary Abandoned Coal Mines'!AD38)","v":0},{"$f":"SUM('Summary Abandoned Coal Mines'!AE23,'Summary Abandoned Coal Mines'!AE38)","v":0},{"$f":"SUM('Summary Abandoned Coal Mines'!AF23,'Summary Abandoned Coal Mines'!AF38)","v":0},{"$f":"SUM('Summary Abandoned Coal Mines'!AG23,'Summary Abandoned Coal Mines'!AG38)","v":0},{"$f":"SUM('Summary Abandoned Coal Mines'!AH23,'Summary Abandoned Coal Mines'!AH38)","v":0},{"$f":"SUM('Summary Abandoned Coal Mines'!AI23,'Summary Abandoned Coal Mines'!AI38)","v":0},{"$f":"SUM('Summary Abandoned Coal Mines'!AJ23,'Summary Abandoned Coal Mines'!AJ38)","v":0},{"$f":"SUM('Summary Abandoned Coal Mines'!AK23,'Summary Abandoned Coal Mines'!AK38)","v":0},{"$f":"SUM('Summary Abandoned Coal Mines'!AL23,'Summary Abandoned Coal Mines'!AL38)","v":0},{"$f":"SUM('Summary Abandoned Coal Mines'!AM23,'Summary Abandoned Coal Mines'!AM38)","v":0},{"$f":"SUM('Summary Abandoned Coal Mines'!AN23,'Summary Abandoned Coal Mines'!AN38)","v":0},{"$f":"SUM('Summary Abandoned Coal Mines'!AO23,'Summary Abandoned Coal Mines'!AO38)","v":0},{"$f":"SUM('Summary Abandoned Coal Mines'!AP23,'Summary Abandoned Coal Mines'!AP38)","v":0},{"$f":"SUM('Summary Abandoned Coal Mines'!AQ23,'Summary Abandoned Coal Mines'!AQ38)","v":0},{"$f":"SUM('Summary Abandoned Coal Mines'!AR23,'Summary Abandoned Coal Mines'!AR38)","v":0},{"$f":"SUM('Summary Abandoned Coal Mines'!AS23,'Summary Abandoned Coal Mines'!AS38)","v":0},{"$f":"SUM('Summary Abandoned Coal Mines'!AT23,'Summary Abandoned Coal Mines'!AT38)","v":0},{"$f":"SUM('Summary Abandoned Coal Mines'!AU23,'Summary Abandoned Coal Mines'!AU38)","v":0},{"$f":"SUM('Summary Abandoned Coal Mines'!AV23,'Summary Abandoned Coal Mines'!AV38)","v":0},{"$f":"SUM('Summary Abandoned Coal Mines'!AW23,'Summary Abandoned Coal Mines'!AW38)","v":0},{"$f":"SUM('Summary Abandoned Coal Mines'!AX23,'Summary Abandoned Coal Mines'!AX38)","v":0},{"$f":"SUM('Summary Abandoned Coal Mines'!AY23,'Summary Abandoned Coal Mines'!AY38)","v":0},{"$f":"SUM('Summary Abandoned Coal Mines'!AZ23,'Summary Abandoned Coal Mines'!AZ38)","v":0},{"$f":"SUM('Summary Abandoned Coal Mines'!BA23,'Summary Abandoned Coal Mines'!BA38)","v":0},{"$f":"SUM('Summary Abandoned Coal Mines'!BB23,'Summary Abandoned Coal Mines'!BB38)","v":0},{"$f":"SUM('Summary Abandoned Coal Mines'!BC23,'Summary Abandoned Coal Mines'!BC38)","v":0},{"$f":"SUM('Summary Abandoned Coal Mines'!BD23,'Summary Abandoned Coal Mines'!BD38)","v":0},{"$f":"SUM('Summary Abandoned Coal Mines'!BE23,'Summary Abandoned Coal Mines'!BE38)","v":0},{"$f":"SUM('Summary Abandoned Coal Mines'!BF23,'Summary Abandoned Coal Mines'!BF38)","v":0},{"$f":"SUM('Summary Abandoned Coal Mines'!BG23,'Summary Abandoned Coal Mines'!BG38)","v":0},{"$f":"SUM('Summary Abandoned Coal Mines'!BH23,'Summary Abandoned Coal Mines'!BH38)","v":0},{"$f":"SUM('Summary Abandoned Coal Mines'!BI23,'Summary Abandoned Coal Mines'!BI38)","v":0},{"$f":"SUM('Summary Abandoned Coal Mines'!BJ23,'Summary Abandoned Coal Mines'!BJ38)","v":0},{"$f":"SUM('Summary Abandoned Coal Mines'!BK23,'Summary Abandoned Coal Mines'!BK38)","v":0},{"$f":"SUM('Summary Abandoned Coal Mines'!BL23,'Summary Abandoned Coal Mines'!BL38)","v":0}]
[null,"Emissions (MTCE)"]
[null,null,1990,"1991*","1992*",1993,1994,1995,1996,1997,1998,1999,2000,2001,2002,2003,2004,2005,2006,2007,2008,2009,2010,2011,2012,2013,2014,2015,2016,2017,2018,2019,2020]
[null,"Coal Mining",{"$f":"C$9*C_CO2","v":0},0,0,0,0,0,0,0,0,0,0,0,0,0,0,0,0,0,0,0,0,0,0,0,0,0,0,0,0,0,0]
[null,"Abandoned Coal Mines",{"$f":"C$10*C_CO2","v":0},0,0,0,0,0,0,0,0,0,0,0,0,0,0,0,0,0,0,0,0,0,0,0,0,0,0,0,0,0,0]
[null,"Vented",{"$f":"C11*C_CO2","v":0},0,0,0,0,0,0,0,0,0,0,0,0,0,0,0,0,0,0,0,0,0,0,0,0,0,0,0,0,0,0]
[null,"Sealed",{"$f":"C12*C_CO2","v":0},0,0,0,0,0,0,0,0,0,0,0,0,0,0,0,0,0,0,0,0,0,0,0,0,0,0,0,0,0,0]
[null,"Flooded",{"$f":"C13*C_CO2","v":0},0,0,0,0,0,0,0,0,0,0,0,0,0,0,0,0,0,0,0,0,0,0,0,0,0,0,0,0,0,0]
[]
[null,"Emissions by Gas (MTCH4)"]
[null,null,1990,"1991*","1992*",1993,1994,1995,1996,1997,1998,1999,2000,2001,2002,2003,2004,2005,2006,2007,2008,2009,2010,2011,2012,2013,2014,2015,2016,2017,2018,2019,2020,{"$f":"AG23+1","v":2021},2022,2023,2024,2025,2026,2027,2028,2029,2030,2031,2032,2033,2034,2035,2036,2037,2038,2039,2040,2041,2042,2043,2044,2045,2046,2047,2048,2049,2050]
[null,"Coal Mining",{"$f":"C9/CH4GWP","v":0},0,0,0,0,0,0,0,0,0,0,0,0,0,0,0,{"$f":"S9/CH4GWP","v":0},0,0,0,0,0,0,0,0,0,0,0,0,0,0,{"$f":"AH9/CH4GWP","v":0},0,0,0,0,0,0,0,0,0,0,0,0,0,0,0,0,0,0,0,0,0,0,0,0,0,0,0,0,0]
[null,"Abandoned Coal Mines",{"$f":"C10/CH4GWP","v":0},0,0,0,0,0,0,0,0,0,0,0,0,0,0,0,{"$f":"S10/CH4GWP","v":0},0,0,0,0,0,0,0,0,0,0,0,0,0,0,{"$f":"AH10/CH4GWP","v":0},0,0,0,0,0,0,0,0,0,0,0,0,0,0,0,0,0,0,0,0,0,0,0,0,0,0,0,0,0]
[null,"Vented",{"$f":"C11/CH4GWP","v":0},0,0,0,0,0,0,0,0,0,0,0,0,0,0,0,{"$f":"S11/CH4GWP","v":0},0,0,0,0,0,0,0,0,0,0,0,0,0,0,{"$f":"AH11/CH4GWP","v":0},0,0,0,0,0,0,0,0,0,0,0,0,0,0,0,0,0,0,0,0,0,0,0,0,0,0,0,0,0]
[null,"Sealed",{"$f":"C12/CH4GWP","v":0},0,0,0,0,0,0,0,0,0,0,0,0,0,0,0,{"$f":"S12/CH4GWP","v":0},0,0,0,0,0,0,0,0,0,0,0,0,0,0,{"$f":"AH12/CH4GWP","v":0},0,0,0,0,0,0,0,0,0,0,0,0,0,0,0,0,0,0,0,0,0,0,0,0,0,0,0,0,0]
[null,"Flooded",{"$f":"C13/CH4GWP","v":0},0,0,0,0,0,0,0,0,0,0,0,0,0,0,0,{"$f":"S13/CH4GWP","v":0},0,0,0,0,0,0,0,0,0,0,0,0,0,0,{"$f":"AH13/CH4GWP","v":0},0,0,0,0,0,0,0,0,0,0,0,0,0,0,0,0,0,0,0,0,0,0,0,0,0,0,0,0,0]
[]
[null,null,{"$f":"SUM(C24:C25)","v":0},{"$f":"SUM(D24:D25)","v":0},0,0,0,0,0,0,0,0,0,0,0,0,0,0,0,0,0,0,0,0,0,0,0,0,0,0,0,0,{"$f":"SUM(AG24:AG25)","v":0}]
[null,2018,1,{"$f":"IF(_xlfn.NUMBERVALUE(LEFT(D23,4))<=$B$31,C31+1,0)","v":2},{"$f":"IF(_xlfn.NUMBERVALUE(LEFT(E23,4))<=$B$31,D31+1,0)","v":3},4,5,6,7,8,9,10,11,12,13,14,15,16,17,18,19,20,21,22,23,24,25,26,27,28,29,0,0,{"$f":"IF(_xlfn.NUMBERVALUE(LEFT(AH23,4))<AF31,AG31+1,0)","v":0},0]
[null,null,{"$f":"IF(C31=0,0,C23)","v":1990},{"$f":"IF(D31=0,0,D23)","v":"1991*"},"1992*",1993,1994,1995,1996,1997,1998,1999,2000,2001,2002,2003,2004,2005,2006,2007,2008,2009,2010,2011,2012,2013,2014,2015,2016,2017,2018,0,0]
[]
[]
[]
[null,null,{"$f":"\"Greenhouse Gas Emissions from Coal Mining, 1990-\"&MAX($C$32:$AG$32)","v":"Greenhouse Gas Emissions from Coal Mining, 1990-2018"}]
[null,null,{"$f":"\"Greenhouse Gas Emissions from Abandoned Coal Mines, 1990-\"&MAX($C$32:$AG$32)","v":"Greenhouse Gas Emissions from Abandoned Coal Mines, 1990-2018"}]

{"sheet":"Uncertainty","index":7,"n_rows":3,"n_cols":2,"rows_kept":3,"cut":false,"hidden":false,"merged":[]}
[]
["Uncertainty Associated With Coal Mining Emissions Estimates"]
[null,"Excerpted from EIIP Guidance, Chapter 4."]

{"sheet":"Coal codes","index":8,"n_rows":53,"n_cols":13,"rows_kept":53,"cut":false,"hidden":false,"merged":[]}
[]
[null,"State","Underground Basin1 ","Underground Basin 2","Surface Basin 1","Surface Basin 2"]
["XX"," ","---","---","---","---",null,null,"Underground Basins",null,"Ave In-situ content"]
["AL","Alabama","WRB","---","WRB","---",null,null,"Basin","Basin","(cf/ton)","Post-Mining Underground Factors"]
["AK","Alaska","NWB1","---","NWB","---",null,null,"NAB","Northern Appalachian Basin",138.4,45]
["AZ","Arizona","WTB3","---","WTB1","---",null,null,"CAB1","Central Appalachian Basin (WV)",136.80000000000001,44.5]
["AR","Arkansas","WIN2","---","WIN2","---",null,null,"CAB2","Central Appalachian Basin (VA)",399.1,129.69999999999999]
["CA","California","WTB3","---","WTB1","---",null,null,"CAB3","Central Appalachian Basin (E KY)",61.4,20]
["CO","Colorado","WTB1","---","WTB2","---",null,null,"WRB","Warrior Basin",266.7,86.7]
["CT","Connecticut","---","---","---","---",null,null,"ILB","Illinois Basin",64.3,20.9]
["DE","Delaware","---","---","---","---",null,null,"WTB1","Rockies (Piceance)",196.4,63.8]
["FL","Florida","---","---","---","---",null,null,"WTB2","Rockies (Unita)",99.4,32.299999999999997]
["GA","Georgia","---","---","---","---",null,null,"WTB3","Rockies (San Juan)",104.8,34.1]
["HI","Hawaii","---","---","---","---",null,null,"WTB4","Rockies (Green River)",247.2,80.3]
["ID","Idaho","---","---","---","---",null,null,"WTB5","Rockies (Raton Mesa)",127.9,41.6]
["IL","Illinois","ILB","---","ILB","---",null,null,"NGP","North Great Plains Basin (WY,MT)",15.8,5.0999999999999996]
["IN","Indiana","ILB","---","ILB","---",null,null,"NGP2","North Great Plains Basin (ND)",15.8,5.0999999999999996]
["IA","Iowa","WIN1","---","WIN1","---",null,null,"WIN1","West Interior Basin (Forest City, Cherokee)",64.3,20.9]
["KS","Kansas","WIN1","---","WIN1","---",null,null,"WIN2","West Interior Basin (Arkoma)",331.2,107.6]
["KY","Kentucky","CAB3","ILB","CAB","ILB",null,null,"WIN3","West Interior Basin(Gulf Coast)",127.9,41.6]
["LA","Louisiana","WIN3","---","WIN3","---",null,null,"NWB1","Northwest Basin (Alaska)",160,52]
["ME","Maine","---","---","---","---",null,null,"NWB2","Northwest Basin (Washington)",47.3,15.4]
["MD","Maryland","NAB","---","NAB","---",null,null,"---","---"]
["MA","Massachusetts","---","---","---","---"]
["MI","Michigan","---","---","---","---",null,null,"Above ground basins",null,"Ave In-situ content","Surface Mine Factors","Post-Mining Surface Factors"]
["MN","Minnesota","---","---","---","---",null,null,"Basin",null,"(cf/ton)","EF","EF"]
["MS","Mississippi","WRB","---","WRB","---",null,null,"NAB","Northern Appalachian Basin",59.5,119,19.3]
["MO","Missouri","WIN1","---","WIN1","---",null,null,"CAB","Central Appalachian Basin",24.9,49.8,8.1]
["MT","Montana","NGP","---","NGP","---",null,null,"WRB","Warrior Basin",30.7,61.4,10]
["NE","Nebraska","---","---","---","---",null,null,"ILB","Illinois Basin",34.299999999999997,68.599999999999994,11.1]
["NV","Nevada","---","---","---","---",null,null,"WTB1","Southwest/Rockies (NM, AZ, CA)",7.3,14.6,2.4]
["NH","New Hampshire","---","---","---","---",null,null,"WTB2","Southwest/Rockies (CO)",33.1,66.2,10.8]
["NJ","New Jersey","---","---","---","---",null,null,"WTB3","Southwest/Rockies (UT)",16,32,5.2]
["NM","New Mexico","WTB3","---","WTB1","---",null,null,"NGP","North Great Plains Basin (WY,MT)",20,40,6.5]
["NY","New York","---","---","---","---",null,null,"NGP2","North Great Plains Basin (ND)",5.6,11.2,1.8]
["NC","North Carolina","---","---","---","---",null,null,"WIN1","West Interior Basin (Forest City, Cherokee)",34.299999999999997,68.599999999999994,11.1]
["ND","North Dakota","NGP2","---","NGP2","---",null,null,"WIN2","West Interior Basin (Arkoma)",74.5,149,24.2]
["OH","Ohio","NAB","---","NAB","---",null,null,"WIN3","West Interior Basin(Gulf Coast)",11,22,3.6]
["OK","Oklahoma","WIN2","---","WIN2","---",null,null,"NWB","Northwest Basin",16,32,5.2]
["OR","Oregon","---","---","---","---",null,null,"---","---"]
["PA","Pennsylvania","NAB","---","NAB","---"]
["RI","Rhode Island","---","---","---","---"]
["SC","South Carolina","---","---","---","---"]
["SD","South Dakota","---","---","---","---"]
["TN","Tennessee","CAB3","---","CAB","---"]
["TX","Texas","WIN3","---","WIN3","---"]
["UT","Utah","WTB2","---","WTB3","---"]
["VT","Vermont","---","---","---","---"]
["VA","Virginia","CAB2","---","CAB","---"]
["WA","Washington","NWB2","---","NWB","---"]
["WV","West Virginia","CAB1","NAB","CAB","NAB"]
["WI","Wisconsin","---","---","---","---"]
["WY","Wyoming","NGP","---","NGP","---"]

{"sheet":"Coal data","index":9,"n_rows":1455,"n_cols":11,"rows_kept":1455,"cut":false,"hidden":false,"merged":[[2,0,2,11]]}
["Underground Mine Emission Data"]
["Source: U.S. National Inventory Calculation spreadsheet, Coal1990-2018_022020.xlsm"]
["\"Annual Coal Production\" worksheet contains coal production for underground mines; \"UG-[current year]\" worksheet has ventilation system emissions and degasification liberation emissions in columns J and P respectively. Recovered and used methane emissions are on the \"UG-Avoided\" worksheet."]
["Year","State","Year&State","Ventilation System Emissions (mcf)","Degasification Liberations (mcf)","Recovered and Used Methane (mcf)","Underground Coal Production ('000 short tons)","2nd Basin Underground","Total Underground","Surface Coal Production ('000 short tons)","2nd Basin Surface"]
[null,null,1,2,3,4,5,6,7,8,9]
[1990,"AL","1990AL",29937.824582200035,13310.027839999999,13310.027839999999,17531,0,17531,11413,0]
[1990,"AK","1990AK",0,0,0,0,0,0,1706,0]
[1990,"AZ","1990AZ",0,0,0,0,0,0,11304,0]
[1990,"AR","1990AR",0,0,0,0,0,0,39,0]
[1990,"CA","1990CA",0,0,0,0,0,0,61,0]
[1990,"CO","1990CO",5748.6595831157174,3260.666666666667,0,10621,0,10621,8281,0]
[1990,"CT","1990CT",0,0,0,0,0,0,0,0]
[1990,"DE","1990DE",0,0,0,0,0,0,0,0]
[1990,"FL","1990FL",0,0,0,0,0,0,0,0]
[1990,"GA","1990GA",0,0,0,0,0,0,0,0]
[1990,"HI","1990HI",0,0,0,0,0,0,0,0]
[1990,"ID","1990ID",0,0,0,0,0,0,0,0]
[1990,"IL","1990IL",8137.7129163586133,0,0,41671,0,41671,18722,0]
[1990,"IN","1990IN",111.98687499576073,0,0,3037,0,3037,32849,0]
[1990,"IA","1990IA",0,0,0,0,0,0,381,0]
[1990,"KS","1990KS",0,0,0,0,0,0,721,0]
[1990,"KY","1990KY",4330.1591665027481,146,0,80416,24459,104875,47241,20429]
[1990,"LA","1990LA",0,0,0,0,0,0,3186,0]
[1990,"ME","1990ME",0,0,0,0,0,0,0,0]
[1990,"MD","1990MD",223.97374999152146,0,0,1985,0,1985,1484,0]
[1990,"MA","1990MA",0,0,0,0,0,0,0,0]
[1990,"MI","1990MI",0,0,0,0,0,0,0,0]
[1990,"MN","1990MN",0,0,0,0,0,0,0,0]
[1990,"MS","1990MS",0,0,0,0,0,0,0,0]
[1990,"MO","1990MO",0,0,0,0,0,0,2646,0]
[1990,"MT","1990MT",0,0,0,0,0,0,37616,0]
[1990,"NE","1990NE",0,0,0,0,0,0,0,0]
[1990,"NV","1990NV",0,0,0,0,0,0,0,0]
[1990,"NH","1990NH",0,0,0,0,0,0,0,0]
[1990,"NJ","1990NJ",0,0,0,0,0,0,0,0]
[1990,"NM","1990NM",37.328958331920248,0,0,76,0,76,24217,0]
[1990,"NY","1990NY",0,0,0,0,0,0,0,0]
[1990,"NC","1990NC",0,0,0,0,0,0,0,0]
[1990,"ND","1990ND",0,0,0,0,0,0,29213,0]
[1990,"OH","1990OH",1418.5004166129693,0,0,12920,0,12920,22160,0]
[1990,"OK","1990OK",0,0,0,105,0,105,1582,0]
[1990,"OR","1990OR",0,0,0,0,0,0,0,0]
[1990,"PA","1990PA",12579.858957857123,4291.254901960785,0,40319,0,40319,29281,0]
[1990,"RI","1990RI",0,0,0,0,0,0,0,0]
[1990,"SC","1990SC",0,0,0,0,0,0,0,0]
[1990,"SD","1990SD",0,0,0,0,0,0,0,0]
[1990,"TN","1990TN",111.98687499576073,0,0,4453,0,4453,1650,0]
[1990,"TX","1990TX",0,0,0,0,0,0,55755,0]
[1990,"UT","1990UT",2874.3297915578587,130.29808999999977,130.29808999999977,22057,0,22057,0,0]
[1990,"VT","1990VT",0,0,0,0,0,0,0,0]
[1990,"VA","1990VA",20642.913957551897,19981.142857142855,0,39071,0,39071,7681,0]
[1990,"WA","1990WA",0,0,0,0,0,0,5001,0]
[1990,"WV","1990WV",28071.376665604024,12562.952380952382,365.24333333333345,74472,48641,123113,37771,7836]
[1990,"WI","1990WI",0,0,0,0,0,0,0,0]
[1990,"WY","1990WY",0,0,0,1722,0,1722,182527,0]
[1991,"AL","1991AL",0,0,13532.753279999997,17062,0,17062,10104,0]
[1991,"AK","1991AK",0,0,0,0,0,0,1436,0]
[1991,"AZ","1991AZ",0,0,0,0,0,0,13203,0]
[1991,"AR","1991AR",0,0,0,0,0,0,34,0]
[1991,"CA","1991CA",0,0,0,0,0,0,57,0]
[1991,"CO","1991CO",0,0,0,9598,0,9598,8233,0]
[1991,"CT","1991CT",0,0,0,0,0,0,0,0]
[1991,"DE","1991DE",0,0,0,0,0,0,0,0]
[1991,"FL","1991FL",0,0,0,0,0,0,0,0]
[1991,"GA","1991GA",0,0,0,0,0,0,0,0]
[1991,"HI","1991HI",0,0,0,0,0,0,0,0]
[1991,"ID","1991ID",0,0,0,0,0,0,0,0]
[1991,"IL","1991IL",0,0,0,43134,0,43134,17120,0]
[1991,"IN","1991IN",0,0,0,2832,0,2832,28624,0]
[1991,"IA","1991IA",0,0,0,0,0,0,344,0]
[1991,"KS","1991KS",0,0,0,0,0,0,416,0]
[1991,"KY","1991KY",0,0,0,73039,23981,97020,43571,17739]
[1991,"LA","1991LA",0,0,0,0,0,0,3151,0]
[1991,"ME","1991ME",0,0,0,0,0,0,0,0]
[1991,"MD","1991MD",0,0,0,2631,0,2631,1112,0]
[1991,"MA","1991MA",0,0,0,0,0,0,0,0]
[1991,"MI","1991MI",0,0,0,0,0,0,0,0]
[1991,"MN","1991MN",0,0,0,0,0,0,0,0]
[1991,"MS","1991MS",0,0,0,0,0,0,0,0]
[1991,"MO","1991MO",0,0,0,0,0,0,2304,0]
[1991,"MT","1991MT",0,0,0,0,0,0,38227,0]
[1991,"NE","1991NE",0,0,0,0,0,0,0,0]
[1991,"NV","1991NV",0,0,0,0,0,0,0,0]
[1991,"NH","1991NH",0,0,0,0,0,0,0,0]
[1991,"NJ","1991NJ",0,0,0,0,0,0,0,0]
[1991,"NM","1991NM",0,0,0,25,0,25,21492,0]
[1991,"NY","1991NY",0,0,0,0,0,0,0,0]
[1991,"NC","1991NC",0,0,0,0,0,0,0,0]
[1991,"ND","1991ND",0,0,0,0,0,0,29530,0]
[1991,"OH","1991OH",0,0,0,12231,0,12231,18229,0]
[1991,"OK","1991OK",0,0,0,26,0,26,1815,0]
[1991,"OR","1991OR",0,0,0,0,0,0,0,0]
[1991,"PA","1991PA",0,0,0,40725,0,40725,23746,0]
[1991,"RI","1991RI",0,0,0,0,0,0,0,0]
[1991,"SC","1991SC",0,0,0,0,0,0,0,0]
[1991,"SD","1991SD",0,0,0,0,0,0,0,0]
[1991,"TN","1991TN",0,0,0,3006,0,3006,1197,0]
[1991,"TX","1991TX",0,0,0,0,0,0,53825,0]
[1991,"UT","1991UT",0,0,130.29808999999977,21945,0,21945,0,0]
[1991,"VT","1991VT",0,0,0,0,0,0,0,0]
[1991,"VA","1991VA",0,0,608.20655399999998,34034,0,34034,7777,0]
[1991,"WA","1991WA",0,0,0,0,0,0,5143,0]
[1991,"WV","1991WV",0,0,365,71794.2,47862.8,119657,39239.910000000003,8037.09]
[1991,"WI","1991WI",0,0,0,0,0,0,0,0]
[1991,"WY","1991WY",0,0,0,2418,0,2418,191437,0]
[1992,"AL","1992AL",0,0,12793.12168,15944,0,15944,9775,0]
[1992,"AK","1992AK",0,0,0,0,0,0,1534,0]
[1992,"AZ","1992AZ",0,0,0,0,0,0,12512,0]
[1992,"AR","1992AR",0,0,0,0,0,0,46,0]
[1992,"CA","1992CA",0,0,0,0,0,0,103,0]
[1992,"CO","1992CO",0,0,0,10238,0,10238,8981,0]
[1992,"CT","1992CT",0,0,0,0,0,0,0,0]
[1992,"DE","1992DE",0,0,0,0,0,0,0,0]
[1992,"FL","1992FL",0,0,0,0,0,0,0,0]
[1992,"GA","1992GA",0,0,0,0,0,0,0,0]
[1992,"HI","1992HI",0,0,0,0,0,0,0,0]
[1992,"ID","1992ID",0,0,0,0,0,0,0,0]
[1992,"IL","1992IL",0,0,0,46965,0,46965,12892,0]
[1992,"IN","1992IN",0,0,0,2641,0,2641,27820,0]
[1992,"IA","1992IA",0,0,0,0,0,0,289,0]
[1992,"KS","1992KS",0,0,0,0,0,0,363,0]
[1992,"KY","1992KY",0,0,0,72141,23548,95689,46683,18102]
[1992,"LA","1992LA",0,0,0,0,0,0,3240,0]
[1992,"ME","1992ME",0,0,0,0,0,0,0,0]
[1992,"MD","1992MD",0,0,0,2265,0,2265,1032,0]
[1992,"MA","1992MA",0,0,0,0,0,0,0,0]
[1992,"MI","1992MI",0,0,0,0,0,0,0,0]
[1992,"MN","1992MN",0,0,0,0,0,0,0,0]
[1992,"MS","1992MS",0,0,0,0,0,0,0,0]
[1992,"MO","1992MO",0,0,0,0,0,0,2878,0]
[1992,"MT","1992MT",0,0,0,0,0,0,38879,0]
[1992,"NE","1992NE",0,0,0,0,0,0,0,0]
[1992,"NV","1992NV",0,0,0,0,0,0,0,0]
[1992,"NH","1992NH",0,0,0,0,0,0,0,0]
[1992,"NJ","1992NJ",0,0,0,0,0,0,0,0]
[1992,"NM","1992NM",0,0,0,93,0,93,24456,0]
[1992,"NY","1992NY",0,0,0,0,0,0,0,0]
[1992,"NC","1992NC",0,0,0,0,0,0,0,0]
[1992,"ND","1992ND",0,0,0,0,0,0,31744,0]
[1992,"OH","1992OH",0,0,0,12031,0,12031,18218,0]
[1992,"OK","1992OK",0,0,0,59,0,59,1675,0]
[1992,"OR","1992OR",0,0,0,0,0,0,0,0]
[1992,"PA","1992PA",0,0,0,44887,0,44887,23316,0]
[1992,"RI","1992RI",0,0,0,0,0,0,0,0]
[1992,"SC","1992SC",0,0,0,0,0,0,0,0]
[1992,"SD","1992SD",0,0,0,0,0,0,0,0]
[1992,"TN","1992TN",0,0,0,1973,0,1973,1428,0]
[1992,"TX","1992TX",0,0,0,0,0,0,55071,0]
[1992,"UT","1992UT",0,0,130.29808999999977,21339,0,21339,0,0]
[1992,"VT","1992VT",0,0,0,0,0,0,0,0]
[1992,"VA","1992VA",0,0,3771.9525600000002,34607,0,34607,8259,0]
[1992,"WA","1992WA",0,0,0,0,0,0,5251,0]
[1992,"WV","1992WV",0,0,365,69055.8,46037.2,115093,38793.370000000003,7945.63]
[1992,"WI","1992WI",0,0,0,0,0,0,0,0]
[1992,"WY","1992WY",0,0,0,2511,0,2511,187658,0]
[1993,"AL","1993AL",23815.875415765116,11281.539719999999,11281.539720000001,15557,0,15557,9211,0]
[1993,"AK","1993AK",0,0,0,0,0,0,1601,0]
[1993,"AZ","1993AZ",0,0,0,0,0,0,12173,0]
[1993,"AR","1993AR",0,0,0,2,0,2,43,0]
[1993,"CA","1993CA",0,0,0,0,0,0,0,0]
[1993,"CO","1993CO",4516.8039581623498,1192.3333333333335,0,12843,0,12843,9043,0]
[1993,"CT","1993CT",0,0,0,0,0,0,0,0]
[1993,"DE","1993DE",0,0,0,0,0,0,0,0]
[1993,"FL","1993FL",0,0,0,0,0,0,0,0]
[1993,"GA","1993GA",0,0,0,0,0,0,0,0]
[1993,"HI","1993HI",0,0,0,0,0,0,0,0]
[1993,"ID","1993ID",0,0,0,0,0,0,0,0]
[1993,"IL","1993IL",7353.8047913882883,0,0,33096,0,33096,8002,0]
[1993,"IN","1993IN",149.31583332768099,0,0,2583,0,2583,26713,0]
[1993,"IA","1993IA",0,0,0,0,0,0,175,0]
[1993,"KS","1993KS",0,0,0,0,0,0,341,0]
[1993,"KY","1993KY",3732.8958331920244,462.33333333333348,0,71919,20288,92207,48272,15820]
[1993,"LA","1993LA",0,0,0,0,0,0,3134,0]
[1993,"ME","1993ME",0,0,0,0,0,0,0,0]
[1993,"MD","1993MD",0,0,0,2528,0,2528,827,0]
[1993,"MA","1993MA",0,0,0,0,0,0,0,0]
[1993,"MI","1993MI",0,0,0,0,0,0,0,0]
[1993,"MN","1993MN",0,0,0,0,0,0,0,0]
[1993,"MS","1993MS",0,0,0,0,0,0,0,0]
[1993,"MO","1993MO",0,0,0,0,0,0,653,0]
[1993,"MT","1993MT",0,0,0,10,0,10,35907,0]
[1993,"NE","1993NE",0,0,0,0,0,0,0,0]
[1993,"NV","1993NV",0,0,0,0,0,0,0,0]
[1993,"NH","1993NH",0,0,0,0,0,0,0,0]
[1993,"NJ","1993NJ",0,0,0,0,0,0,0,0]
[1993,"NM","1993NM",149.31583332768099,0,0,719,0,719,27549,0]
[1993,"NY","1993NY",0,0,0,0,0,0,0,0]
[1993,"NC","1993NC",0,0,0,0,0,0,0,0]
[1993,"ND","1993ND",0,0,0,0,0,0,31973,0]
[1993,"OH","1993OH",1381.1714582810491,0,0,10437,0,10437,18379,0]
[1993,"OK","1993OK",0,0,0,98,0,98,1661,0]
[1993,"OR","1993OR",0,0,0,0,0,0,0,0]
[1993,"PA","1993PA",15006.241249431938,6619.3823529411784,0,36934,0,36934,22766,0]
[1993,"RI","1993RI",0,0,0,0,0,0,0,0]
[1993,"SC","1993SC",0,0,0,0,0,0,0,0]
[1993,"SD","1993SD",0,0,0,0,0,0,0,0]
[1993,"TN","1993TN",0,0,0,1896,0,1896,1151,0]
[1993,"TX","1993TX",0,0,0,0,0,0,54567,0]
[1993,"UT","1993UT",2799.6718748940184,394.79900000000089,383,21847,0,21847,0,0]
[1993,"VT","1993VT",0,0,0,0,0,0,0,0]
[1993,"VA","1993VA",18701.808124292042,17958.417938931299,10787.027053999998,30166,0,30166,9151,0]
[1993,"WA","1993WA",0,0,0,0,0,0,4739,0]
[1993,"WV","1993WV",19411.058332598528,7281.042635658916,138,60864,27133,87997,35859,6669]
[1993,"WI","1993WI",0,0,0,0,0,0,0,0]
[1993,"WY","1993WY",0,0,0,2136,0,2136,207993,0]
[1994,"AL","1994AL",27735.416040616743,11146.540950920245,11145.805,14471,0,14471,8795,0]
[1994,"AK","1994AK",0,0,0,0,0,0,1567,0]
[1994,"AZ","1994AZ",0,0,0,0,0,0,13056,0]
[1994,"AR","1994AR",0,0,0,12,0,12,38,0]
[1994,"CA","1994CA",0,0,0,0,0,0,0,0]
[1994,"CO","1994CO",6047.2912497710795,1411.333333333333,0,16332,0,16332,8972,0]
[1994,"CT","1994CT",0,0,0,0,0,0,0,0]
[1994,"DE","1994DE",0,0,0,0,0,0,0,0]
[1994,"FL","1994FL",0,0,0,0,0,0,0,0]
[1994,"GA","1994GA",0,0,0,0,0,0,0,0]
[1994,"HI","1994HI",0,0,0,0,0,0,0,0]
[1994,"ID","1994ID",0,0,0,0,0,0,0,0]
[1994,"IL","1994IL",8921.6210413289391,0,0,43281,0,43281,9516,0]
[1994,"IN","1994IN",223.97374999152146,0,0,3324,0,3324,27603,0]
[1994,"IA","1994IA",0,0,0,0,0,0,46,0]
[1994,"KS","1994KS",0,0,0,0,0,0,284,0]
[1994,"KY","1994KY",4666.1197914900304,511,0,72969,22445,95414,51478,14749]
[1994,"LA","1994LA",0,0,0,0,0,0,3463,0]
[1994,"ME","1994ME",0,0,0,0,0,0,0,0]
[1994,"MD","1994MD",0,0,0,2839,0,2839,793,0]
[1994,"MA","1994MA",0,0,0,0,0,0,0,0]
[1994,"MI","1994MI",0,0,0,0,0,0,0,0]
[1994,"MN","1994MN",0,0,0,0,0,0,0,0]
[1994,"MS","1994MS",0,0,0,0,0,0,0,0]
[1994,"MO","1994MO",0,0,0,0,0,0,838,0]
[1994,"MT","1994MT",0,0,0,3,0,3,41636,0]
[1994,"NE","1994NE",0,0,0,0,0,0,0,0]
[1994,"NV","1994NV",0,0,0,0,0,0,0,0]
[1994,"NH","1994NH",0,0,0,0,0,0,0,0]
[1994,"NJ","1994NJ",0,0,0,0,0,0,0,0]
[1994,"NM","1994NM",186.64479165960122,0,0,950,0,950,27091,0]
[1994,"NY","1994NY",0,0,0,0,0,0,0,0]
[1994,"NC","1994NC",0,0,0,0,0,0,0,0]
[1994,"ND","1994ND",0,0,0,0,0,0,32286,0]
[1994,"OH","1994OH",1717.1320832683311,0,0,13607,0,13607,16290,0]
[1994,"OK","1994OK",37.328958331920248,0,0,135,0,135,1776,0]
[1994,"OR","1994OR",0,0,0,0,0,0,0,0]
[1994,"PA","1994PA",13177.122291167847,5968.8235294117649,0,39974,0,39974,22263,0]
[1994,"RI","1994RI",0,0,0,0,0,0,0,0]
[1994,"SC","1994SC",0,0,0,0,0,0,0,0]
[1994,"SD","1994SD",0,0,0,0,0,0,0,0]
[1994,"TN","1994TN",0,0,0,1893,0,1893,1093,0]
[1994,"TX","1994TX",0,0,0,0,0,0,52346,0]
[1994,"UT","1994UT",1530.4872916087302,311.05375757575825,3.4961197609077534,24399,0,24399,0,0]
[1994,"VT","1994VT",0,0,0,0,0,0,0,0]
[1994,"VA","1994VA",17656.597290998277,20347.463587668812,15426.28909241096,28054,0,28054,9075,0]
[1994,"WA","1994WA",0,0,0,0,0,0,4893,0]
[1994,"WV","1994WV",16536.728541040669,5857.2596899224809,70.072888837209305,67977,43702,111679,44483,5614]
[1994,"WI","1994WI",0,0,0,0,0,0,0,0]
[1994,"WY","1994WY",0,0,0,2735,0,2735,234357,0]
[1995,"AL","1995AL",31706.930931362054,12486.854359999999,12486.854359999999,17605,0,17605,7036,0]
[1995,"AK","1995AK",0,0,0,0,0,0,1698,0]
[1995,"AZ","1995AZ",0,0,0,0,0,0,11947,0]
[1995,"AR","1995AR",0,0,0,0,0,0,29,0]
[1995,"CA","1995CA",0,0,0,0,0,0,0,0]
[1995,"CO","1995CO",5828.7735028693778,0,0,17187,0,17187,8523,0]
[1995,"CT","1995CT",0,0,0,0,0,0,0,0]
[1995,"DE","1995DE",0,0,0,0,0,0,0,0]
[1995,"FL","1995FL",0,0,0,0,0,0,0,0]
[1995,"GA","1995GA",0,0,0,0,0,0,0,0]
[1995,"HI","1995HI",0,0,0,0,0,0,0,0]
[1995,"ID","1995ID",0,0,0,0,0,0,0,0]
[1995,"IL","1995IL",10140.468970745356,0,0,41118,0,41118,7062,0]
[1995,"IN","1995IN",159.69242473614733,0,0,3540,0,3540,22467,0]
[1995,"IA","1995IA",0,0,0,0,0,0,0,0]
[1995,"KS","1995KS",0,0,0,0,0,0,285,0]
[1995,"KY","1995KY",4682.9803553875199,0,0,69856,24351,94207,48685,10847]
[1995,"LA","1995LA",0,0,0,0,0,0,3719,0]
[1995,"ME","1995ME",0,0,0,0,0,0,0,0]
[1995,"MD","1995MD",0,0,0,2891,0,2891,776,0]
[1995,"MA","1995MA",0,0,0,0,0,0,0,0]
[1995,"MI","1995MI",0,0,0,0,0,0,0,0]
[1995,"MN","1995MN",0,0,0,0,0,0,0,0]
[1995,"MS","1995MS",0,0,0,0,0,0,0,0]
[1995,"MO","1995MO",0,0,0,0,0,0,548,0]
[1995,"MT","1995MT",0,0,0,10,0,10,39441,0]
[1995,"NE","1995NE",0,0,0,0,0,0,0,0]
[1995,"NV","1995NV",0,0,0,0,0,0,0,0]
[1995,"NH","1995NH",0,0,0,0,0,0,0,0]
[1995,"NJ","1995NJ",0,0,0,0,0,0,0,0]
[1995,"NM","1995NM",119.76931855211051,0,0,640,0,640,26173,0]
[1995,"NY","1995NY",0,0,0,0,0,0,0,0]
[1995,"NC","1995NC",0,0,0,0,0,0,0,0]
[1995,"ND","1995ND",0,0,0,0,0,0,30112,0]
[1995,"OH","1995OH",1796.5397782816576,0,0,13077,0,13077,13041,0]
[1995,"OK","1995OK",0,0,0,25,0,25,1851,0]
[1995,"OR","1995OR",0,0,0,0,0,0,0,0]
[1995,"PA","1995PA",17286.70497768795,3672.1862745098047,0,41409,0,41409,20167,0]
[1995,"RI","1995RI",0,0,0,0,0,0,0,0]
[1995,"SC","1995SC",0,0,0,0,0,0,0,0]
[1995,"SD","1995SD",0,0,0,0,0,0,0,0]
[1995,"TN","1995TN",0,0,0,1964,0,1964,1258,0]
[1995,"TX","1995TX",0,0,0,0,0,0,52684,0]
[1995,"UT","1995UT",1756.6166720976207,0,0,25167,0,25167,0,0]
[1995,"VT","1995VT",0,0,0,0,0,0,0,0]
[1995,"VA","1995VA",14292.472013885186,19740.020361990952,17769.615620000004,25372,0,25372,8727,0]
[1995,"WA","1995WA",0,0,0,0,0,0,4868,0]
[1995,"WV","1995WV",21566.461960616696,572.38636363636397,0,69303,40726,110029,47580,5388]
[1995,"WI","1995WI",0,0,0,0,0,0,0,0]
[1995,"WY","1995WY",0,0,0,2008,0,2008,261814,0]
[1996,"AL","1996AL",27518.329884580642,17444.156080000001,17444.156080000001,18217,0,18217,6420,0]
[1996,"AK","1996AK",0,0,0,0,0,0,1481,0]
[1996,"AZ","1996AZ",0,0,0,0,0,0,10442,0]
[1996,"AR","1996AR",0,0,0,0,0,0,21,0]
[1996,"CA","1996CA",0,0,0,0,0,0,0,0]
[1996,"CO","1996CO",4163.3783939429532,97.6,0,15581,0,15581,9305,0]
[1996,"CT","1996CT",0,0,0,0,0,0,0,0]
[1996,"DE","1996DE",0,0,0,0,0,0,0,0]
[1996,"FL","1996FL",0,0,0,0,0,0,0,0]
[1996,"GA","1996GA",0,0,0,0,0,0,0,0]
[1996,"HI","1996HI",0,0,0,0,0,0,0,0]
[1996,"ID","1996ID",0,0,0,0,0,0,0,0]
[1996,"IL","1996IL",9447.6663554859333,0,0,38948,0,38948,7707,0]
[1996,"IN","1996IN",0,0,0,2963,0,2963,26707,0]
[1996,"IA","1996IA",0,0,0,0,0,0,0,0]
[1996,"KS","1996KS",0,0,0,0,0,0,232,0]
[1996,"KY","1996KY",3466.8131626486515,24.4,0,69172,25135,94307,47779,10340]
[1996,"LA","1996LA",0,0,0,0,0,0,3221,0]
[1996,"ME","1996ME",0,0,0,0,0,0,0,0]
[1996,"MD","1996MD",0,0,0,3296,0,3296,797,0]
[1996,"MA","1996MA",0,0,0,0,0,0,0,0]
[1996,"MI","1996MI",0,0,0,0,0,0,0,0]
[1996,"MN","1996MN",0,0,0,0,0,0,0,0]
[1996,"MS","1996MS",0,0,0,0,0,0,0,0]
[1996,"MO","1996MO",0,0,0,0,0,0,710,0]
[1996,"MT","1996MT",0,0,0,147,0,147,37744,0]
[1996,"NE","1996NE",0,0,0,0,0,0,0,0]
[1996,"NV","1996NV",0,0,0,0,0,0,0,0]
[1996,"NH","1996NH",0,0,0,0,0,0,0,0]
[1996,"NJ","1996NJ",0,0,0,0,0,0,0,0]
[1996,"NM","1996NM",0,0,0,0,0,0,24067,0]
[1996,"NY","1996NY",0,0,0,0,0,0,0,0]
[1996,"NC","1996NC",0,0,0,0,0,0,0,0]
[1996,"ND","1996ND",0,0,0,0,0,0,29861,0]
[1996,"OH","1996OH",1601.2993822857513,0,0,15912,0,15912,12660,0]
[1996,"OK","1996OK",0,0,0,137,0,137,1564,0]
[1996,"OR","1996OR",0,0,0,0,0,0,0,0]
[1996,"PA","1996PA",15532.604008171789,5919.8705882352951,0,47247,0,47247,20694,0]
[1996,"RI","1996RI",0,0,0,0,0,0,0,0]
[1996,"SC","1996SC",0,0,0,0,0,0,0,0]
[1996,"SD","1996SD",0,0,0,0,0,0,0,0]
[1996,"TN","1996TN",0,0,0,1794,0,1794,1857,0]
[1996,"TX","1996TX",0,0,0,0,0,0,55164,0]
[1996,"UT","1996UT",1921.5592587429016,0,0,27507,0,27507,0,0]
[1996,"VT","1996VT",0,0,0,0,0,0,0,0]
[1996,"VA","1996VA",14331.629471457474,20853.124225774227,19310.350493000002,25568,0,25568,10022,0]
[1996,"WA","1996WA",0,0,0,0,0,0,4565,0]
[1996,"WV","1996WV",20856.924454271913,7276.8536585365864,538.50247999999999,75311,40274,115585,49211,5637]
[1996,"WI","1996WI",0,0,0,0,0,0,0,0]
[1996,"WY","1996WY",0,0,0,2641,0,2641,275799,0]
[1997,"AL","1997AL",23687.062265,10805.390533571428,10096.37724,18505,0,18505,5963,0]
[1997,"AK","1997AK",0,0,0,0,0,0,1450,0]
[1997,"AZ","1997AZ",0,0,0,0,0,0,11723,0]
[1997,"AR","1997AR",0,0,0,0,0,0,18,0]
[1997,"CA","1997CA",0,0,0,0,0,0,0,0]
[1997,"CO","1997CO",7310.4568849999996,0,0,17820,0,17820,9626,0]
[1997,"CT","1997CT",0,0,0,0,0,0,0,0]
[1997,"DE","1997DE",0,0,0,0,0,0,0,0]
[1997,"FL","1997FL",0,0,0,0,0,0,0,0]
[1997,"GA","1997GA",0,0,0,0,0,0,0,0]
[1997,"HI","1997HI",0,0,0,0,0,0,0,0]
[1997,"ID","1997ID",0,0,0,0,0,0,0,0]
[1997,"IL","1997IL",7301.3355349999993,0,0,34824,0,34824,6334,0]
[1997,"IN","1997IN",118.81917999999999,0,0,3530,0,3530,31967,0]
[1997,"IA","1997IA",0,0,0,0,0,0,0,0]
[1997,"KS","1997KS",0,0,0,0,0,0,360,0]
[1997,"KY","1997KY",4786.0948937500025,83.301111111111027,0,69928,26374,96302,50990,8561]
[1997,"LA","1997LA",0,0,0,0,0,0,3545,0]
[1997,"ME","1997ME",0,0,0,0,0,0,0,0]
[1997,"MD","1997MD",0,0,0,3301,0,3301,859,0]
[1997,"MA","1997MA",0,0,0,0,0,0,0,0]
[1997,"MI","1997MI",0,0,0,0,0,0,0,0]
[1997,"MN","1997MN",0,0,0,0,0,0,0,0]
[1997,"MS","1997MS",0,0,0,0,0,0,0,0]
[1997,"MO","1997MO",0,0,0,0,0,0,401,0]
[1997,"MT","1997MT",0,0,0,8,0,8,40997,0]
[1997,"NE","1997NE",0,0,0,0,0,0,0,0]
[1997,"NV","1997NV",0,0,0,0,0,0,0,0]
[1997,"NH","1997NH",0,0,0,0,0,0,0,0]
[1997,"NJ","1997NJ",0,0,0,0,0,0,0,0]
[1997,"NM","1997NM",0,0,0,0,0,0,27025,0]
[1997,"NY","1997NY",0,0,0,0,0,0,0,0]
[1997,"NC","1997NC",0,0,0,0,0,0,0,0]
[1997,"ND","1997ND",0,0,0,0,0,0,29580,0]
[1997,"OH","1997OH",1898.1029299999998,0,0,16949,0,16949,12205,0]
[1997,"OK","1997OK",117.96398500000001,0,0,212,0,212,1409,0]
[1997,"OR","1997OR",0,0,0,0,0,0,0,0]
[1997,"PA","1997PA",17768.926350000002,6834.405048137256,0,54829,0,54829,21369,0]
[1997,"RI","1997RI",0,0,0,0,0,0,0,0]
[1997,"SC","1997SC",0,0,0,0,0,0,0,0]
[1997,"SD","1997SD",0,0,0,0,0,0,0,0]
[1997,"TN","1997TN",10.158649583333334,0,0,1396,0,1396,1904,0]
[1997,"TX","1997TX",0,0,0,0,0,0,53328,0]
[1997,"UT","1997UT",2704.0444649999999,0,0,26683,0,26683,0,0]
[1997,"VT","1997VT",0,0,0,0,0,0,0,0]
[1997,"VA","1997VA",11701.352500000005,17804.24513615403,16662.681623999997,26929,0,26929,8907,0]
[1997,"WA","1997WA",0,0,0,0,0,0,4495,0]
[1997,"WV","1997WV",18777.38944291669,7234.2532962585265,1432.16941,79467,37056,116523,51474,5746]
[1997,"WI","1997WI",0,0,0,0,0,0,0,0]
[1997,"WY","1997WY",4.6811249999999998,0,0,2846,0,2846,279035,0]
[1998,"AL","1998AL",24521.392728238407,13134.386571270074,13123.532360000001,17316,0,17316,5697,0]
[1998,"AK","1998AK",0,0,0,0,0,0,1344,0]
[1998,"AZ","1998AZ",0,0,0,0,0,0,11315,0]
[1998,"AR","1998AR",0,0,0,0,0,0,24,0]
[1998,"CA","1998CA",0,0,0,0,0,0,0,0]
[1998,"CO","1998CO",7159.320918478983,0,0,19705,0,19705,9926,0]
[1998,"CT","1998CT",0,0,0,0,0,0,0,0]
[1998,"DE","1998DE",0,0,0,0,0,0,0,0]
[1998,"FL","1998FL",0,0,0,0,0,0,0,0]
[1998,"GA","1998GA",0,0,0,0,0,0,0,0]
[1998,"HI","1998HI",0,0,0,0,0,0,0,0]
[1998,"ID","1998ID",0,0,0,0,0,0,0,0]
[1998,"IL","1998IL",6752.8085622443732,0,0,35251,0,35251,4482,0]
[1998,"IN","1998IN",145.58293749448896,0,0,3445,0,3445,33359,0]
[1998,"IA","1998IA",0,0,0,0,0,0,0,0]
[1998,"KS","1998KS",0,0,0,0,0,0,341,0]
[1998,"KY","1998KY",4552.2664685776745,77.461111111111109,0,67066,25767,92833,49589,7874]
[1998,"LA","1998LA",0,0,0,0,0,0,3216,0]
[1998,"ME","1998ME",0,0,0,0,0,0,0,0]
[1998,"MD","1998MD",0,0,0,3325,0,3325,734,0]
[1998,"MA","1998MA",0,0,0,0,0,0,0,0]
[1998,"MI","1998MI",0,0,0,0,0,0,0,0]
[1998,"MN","1998MN",0,0,0,0,0,0,0,0]
[1998,"MS","1998MS",0,0,0,0,0,0,0,0]
[1998,"MO","1998MO",0,0,0,0,0,0,372,0]
[1998,"MT","1998MT",0,0,0,0,0,0,42840,0]
[1998,"NE","1998NE",0,0,0,0,0,0,0,0]
[1998,"NV","1998NV",0,0,0,0,0,0,0,0]
[1998,"NH","1998NH",0,0,0,0,0,0,0,0]
[1998,"NJ","1998NJ",0,0,0,0,0,0,0,0]
[1998,"NM","1998NM",0,0,0,203,0,203,28394,0]
[1998,"NY","1998NY",0,0,0,0,0,0,0,0]
[1998,"NC","1998NC",0,0,0,0,0,0,0,0]
[1998,"ND","1998ND",0,0,0,0,0,0,29912,0]
[1998,"OH","1998OH",1832.8518540972841,0,0,14604,0,14604,13444,0]
[1998,"OK","1998OK",123.18556249533681,0,0,247,0,247,1415,0]
[1998,"OR","1998OR",0,0,0,0,0,0,0,0]
[1998,"PA","1998PA",17902.968415988951,7333.9950980392168,0,59553,0,59553,21483,0]
[1998,"RI","1998RI",0,0,0,0,0,0,0,0]
[1998,"SC","1998SC",0,0,0,0,0,0,0,0]
[1998,"SD","1998SD",0,0,0,0,0,0,0,0]
[1998,"TN","1998TN",0,0,0,1047,0,1047,1649,0]
[1998,"TX","1998TX",0,0,0,0,0,0,52583,0]
[1998,"UT","1998UT",3016.1798332191561,0,0,26075,0,26075,0,0]
[1998,"VT","1998VT",0,0,0,0,0,0,0,0]
[1998,"VA","1998VA",9474.0896246413595,20607.818207282915,19867.731800000001,25212,0,25212,8535,0]
[1998,"WA","1998WA",0,0,0,0,0,0,4638,0]
[1998,"WV","1998WV",20639.1810617187,8258.6140522875812,2118.8873100000001,77954,39236,117190,48572,5382]
[1998,"WI","1998WI",0,0,0,0,0,0,0,0]
[1998,"WY","1998WY",0,0,0,1723,0,1723,312686,0]
[1999,"AL","1999AL",24083.524047004987,9547.8065999999999,9573.0332400000007,14799,0,14799,4705,0]
[1999,"AK","1999AK",0,0,0,0,0,0,1565,0]
[1999,"AZ","1999AZ",0,0,0,0,0,0,11787,0]
[1999,"AR","1999AR",0,0,0,0,0,0,22,0]
[1999,"CA","1999CA",0,0,0,0,0,0,0,0]
[1999,"CO","1999CO",7351.1917643050547,0,0,20478,0,20478,9511,0]
[1999,"CT","1999CT",0,0,0,0,0,0,0,0]
[1999,"DE","1999DE",0,0,0,0,0,0,0,0]
[1999,"FL","1999FL",0,0,0,0,0,0,0,0]
[1999,"GA","1999GA",0,0,0,0,0,0,0,0]
[1999,"HI","1999HI",0,0,0,0,0,0,0,0]
[1999,"ID","1999ID",0,0,0,0,0,0,0,0]
[1999,"IL","1999IL",6749.8222455778168,0,0,36758,0,36758,3659,0]
[1999,"IN","1999IN",147.8226749944042,0,0,3553,0,3553,30451,0]
[1999,"IA","1999IA",0,0,0,0,0,0,0,0]
[1999,"KS","1999KS",0,0,0,0,0,0,409,0]
[1999,"KY","1999KY",4504.4854019128152,80.178333333333285,0,62932,23218,86150,47111,6364]
[1999,"LA","1999LA",0,0,0,0,0,0,2953,0]
[1999,"ME","1999ME",0,0,0,0,0,0,0,0]
[1999,"MD","1999MD",0,0,0,3280,0,3280,557,0]
[1999,"MA","1999MA",0,0,0,0,0,0,0,0]
[1999,"MI","1999MI",0,0,0,0,0,0,0,0]
[1999,"MN","1999MN",0,0,0,0,0,0,0,0]
[1999,"MS","1999MS",0,0,0,0,0,0,18,0]
[1999,"MO","1999MO",0,0,0,0,0,0,392,0]
[1999,"MT","1999MT",0,0,0,0,0,0,41102,0]
[1999,"NE","1999NE",0,0,0,0,0,0,0,0]
[1999,"NV","1999NV",0,0,0,0,0,0,0,0]
[1999,"NH","1999NH",0,0,0,0,0,0,0,0]
[1999,"NJ","1999NJ",0,0,0,0,0,0,0,0]
[1999,"NM","1999NM",0,0,0,106,0,106,29051,0]
[1999,"NY","1999NY",0,0,0,0,0,0,0,0]
[1999,"NC","1999NC",0,0,0,0,0,0,0,0]
[1999,"ND","1999ND",0,0,0,0,0,0,31135,0]
[1999,"OH","1999OH",1871.6739707624813,0,0,11431,0,11431,11048,0]
[1999,"OK","1999OK",194.85716249262367,0,0,200,0,200,1461,0]
[1999,"OR","1999OR",0,0,0,0,0,0,0,0]
[1999,"PA","1999PA",15831.584518150696,3994.3470833333331,0,59211,0,59211,17188,0]
[1999,"RI","1999RI",0,0,0,0,0,0,0,0]
[1999,"SC","1999SC",0,0,0,0,0,0,0,0]
[1999,"SD","1999SD",0,0,0,0,0,0,0,0]
[1999,"TN","1999TN",0,0,0,1489,0,1489,1548,0]
[1999,"TX","1999TX",0,0,0,0,0,0,53072,0]
[1999,"UT","1999UT",2781.3806853113774,0,0,26373,0,26373,0,0]
[1999,"VT","1999VT",0,0,0,0,0,0,0,0]
[1999,"VA","1999VA",9316.188130897337,19970.435032384758,19455.791539999998,22562,0,22562,9732,0]
[1999,"WA","1999WA",0,0,0,0,0,0,4101,0]
[1999,"WV","1999WV",21137.373339616508,6408.735880392157,2130.6349,70075,33653,103728,49116,5135]
[1999,"WI","1999WI",0,0,0,0,0,0,0,0]
[1999,"WY","1999WY",0,0,0,1673,0,1673,335446,0]
[2000,"AL","2000AL",21717.599327260072,12834.863870000001,12834.863870000001,15895,0,15895,3450,0]
[2000,"AK","2000AK",0,0,0,0,0,0,1641,0]
[2000,"AZ","2000AZ",0,0,0,0,0,0,13111,0]
[2000,"AR","2000AR",0,0,0,0,0,0,12,0]
[2000,"CA","2000CA",0,0,0,0,0,0,0,0]
[2000,"CO","2000CO",6800.8800788863873,2097.1799999999998,0,18882,0,18882,9156,0]
[2000,"CT","2000CT",0,0,0,0,0,0,0,0]
[2000,"DE","2000DE",0,0,0,0,0,0,0,0]
[2000,"FL","2000FL",0,0,0,0,0,0,0,0]
[2000,"GA","2000GA",0,0,0,0,0,0,0,0]
[2000,"HI","2000HI",0,0,0,0,0,0,0,0]
[2000,"ID","2000ID",0,0,0,0,0,0,0,0]
[2000,"IL","2000IL",7619.1267546773324,0,0,29642,0,29642,3802,0]
[2000,"IN","2000IN",218.22406769721857,0,0,3688,0,3688,24277,0]
[2000,"IA","2000IA",0,0,0,0,0,0,0,0]
[2000,"KS","2000KS",0,0,0,0,0,0,201,0]
[2000,"KY","2000KY",4431.1375782797468,0,0,59787,20390,80177,45114,5552]
[2000,"LA","2000LA",0,0,0,0,0,0,3688,0]
[2000,"ME","2000ME",0,0,0,0,0,0,0,0]
[2000,"MD","2000MD",0,0,0,3196,0,3196,1350,0]
[2000,"MA","2000MA",0,0,0,0,0,0,0,0]
[2000,"MI","2000MI",0,0,0,0,0,0,0,0]
[2000,"MN","2000MN",0,0,0,0,0,0,0,0]
[2000,"MS","2000MS",0,0,0,0,0,0,802,0]
[2000,"MO","2000MO",0,0,0,0,0,0,436,0]
[2000,"MT","2000MT",0,0,0,0,0,0,38352,0]
[2000,"NE","2000NE",0,0,0,0,0,0,0,0]
[2000,"NV","2000NV",0,0,0,0,0,0,0,0]
[2000,"NH","2000NH",0,0,0,0,0,0,0,0]
[2000,"NJ","2000NJ",0,0,0,0,0,0,0,0]
[2000,"NM","2000NM",0,0,0,4,0,4,27320,0]
[2000,"NY","2000NY",0,0,0,0,0,0,0,0]
[2000,"NC","2000NC",0,0,0,0,0,0,0,0]
[2000,"ND","2000ND",0,0,0,0,0,0,31270,0]
[2000,"OH","2000OH",1549.652899256406,0,0,11933,0,11933,10356,0]
[2000,"OK","2000OK",194.64239314331672,0,0,241,0,241,1345,0]
[2000,"OR","2000OR",0,0,0,0,0,0,0,0]
[2000,"PA","2000PA",17907.100169185142,2325.1729666729666,0,57964,0,57964,17283,0]
[2000,"RI","2000RI",0,0,0,0,0,0,0,0]
[2000,"SC","2000SC",0,0,0,0,0,0,0,0]
[2000,"SD","2000SD",0,0,0,0,0,0,0,0]
[2000,"TN","2000TN",0,0,0,1458,0,1458,1213,0]
[2000,"TX","2000TX",0,0,0,0,0,0,48488,0]
[2000,"UT","2000UT",1948.5409435906217,0,0,26856,0,26856,0,0]
[2000,"VT","2000VT",0,0,0,0,0,0,0,0]
[2000,"VA","2000VA",8291.0173233162805,22567.236086086778,22358.918830034891,23181,0,23181,9654,0]
[2000,"WA","2000WA",0,0,0,0,0,0,4270,0]
[2000,"WV","2000WV",18213.586257758005,5671.4530450980392,1689.0553,66158,32281,98439,54498,5919]
[2000,"WI","2000WI",0,0,0,0,0,0,0,0]
[2000,"WY","2000WY",0,0,0,1210,0,1210,338048,0]
[2001,"AL","2001AL",20281.793614648897,12142.0213,12142.0213,15171.504000000001,0,15171.504000000001,4192,0]
[2001,"AK","2001AK",0,0,0,0,0,0,1514.241,0]
[2001,"AZ","2001AZ",0,0,0,0,0,0,13417.523999999999,0]
[2001,"AR","2001AR",0,0,0,1,0,1,13,0]
[2001,"CA","2001CA",0,0,0,0,0,0,0,0]
[2001,"CO","2001CO",6718.0926309956876,2139.7516666666666,0,23546.674999999999,0,23546.674999999999,9825.0300000000007,0]
[2001,"CT","2001CT",0,0,0,0,0,0,0,0]
[2001,"DE","2001DE",0,0,0,0,0,0,0,0]
[2001,"FL","2001FL",0,0,0,0,0,0,0,0]
[2001,"GA","2001GA",0,0,0,0,0,0,0,0]
[2001,"HI","2001HI",0,0,0,0,0,0,0,0]
[2001,"ID","2001ID",0,0,0,0,0,0,0,0]
[2001,"IL","2001IL",6229.8298560141702,0,0,28112.05,0,28112.05,5671.3919999999998,0]
[2001,"IN","2001IN",866.4051228838689,0,0,7191.393,0,7191.393,29546.457999999999,0]
[2001,"IA","2001IA",0,0,0,0,0,0,0,0]
[2001,"KS","2001KS",0,0,0,0,0,0,176.06399999999999,0]
[2001,"KY","2001KY",4542.0137889262351,0,0,61835.616999999998,19060.519,80896.135999999999,47262,5676]
[2001,"LA","2001LA",0,0,0,0,0,0,3715.136,0]
[2001,"ME","2001ME",0,0,0,0,0,0,0,0]
[2001,"MD","2001MD",0,0,0,3244.5079999999998,0,3244.5079999999998,1399.49,0]
[2001,"MA","2001MA",0,0,0,0,0,0,0,0]
[2001,"MI","2001MI",0,0,0,0,0,0,0,0]
[2001,"MN","2001MN",0,0,0,0,0,0,0,0]
[2001,"MS","2001MS",0,0,0,0,0,0,603.827,0]
[2001,"MO","2001MO",0,0,0,0,0,0,366.435,0]
[2001,"MT","2001MT",0,0,0,0,0,0,39142.82,0]
[2001,"NE","2001NE",0,0,0,0,0,0,0,0]
[2001,"NV","2001NV",0,0,0,0,0,0,0,0]
[2001,"NH","2001NH",0,0,0,0,0,0,0,0]
[2001,"NJ","2001NJ",0,0,0,0,0,0,0,0]
[2001,"NM","2001NM",116.09306041227197,0,0,680.096,0,680.096,28937.455999999998,0]
[2001,"NY","2001NY",0,0,0,0,0,0,0,0]
[2001,"NC","2001NC",0,0,0,0,0,0,0,0]
[2001,"ND","2001ND",0,0,0,0,0,0,30475.417000000001,0]
[2001,"OH","2001OH",1309.4405410349059,0,0,12893.721,0,12893.721,12505.972,0]
[2001,"OK","2001OK",350.51891873673105,0,0,414.62299999999999,0,414.62299999999999,1299.826,0]
[2001,"OR","2001OR",0,0,0,0,0,0,0,0]
[2001,"PA","2001PA",15854.355182733163,2320.35214095936,0,58134.561000000002,0,58134.561000000002,16011,0]
[2001,"RI","2001RI",0,0,0,0,0,0,0,0]
[2001,"SC","2001SC",0,0,0,0,0,0,0,0]
[2001,"SD","2001SD",0,0,0,0,0,0,0,0]
[2001,"TN","2001TN",0,0,0,1321.077,0,1321.077,2003.194,0]
[2001,"TX","2001TX",0,0,0,0,0,0,45042.406000000003,0]
[2001,"UT","2001UT",1213.7198874711778,0,0,26966.482,0,26966.482,0,0]
[2001,"VT","2001VT",0,0,0,0,0,0,0,0]
[2001,"VA","2001VA",7850.8127697313457,25839.999834974718,25698.483519999998,22502.638999999999,0,22502.638999999999,10271,0]
[2001,"WA","2001WA",0,0,0,0,0,0,4624.2449999999999,0]
[2001,"WV","2001WV",20860.751440420365,6852.7061239215691,3005.3288200000002,66797.835999999996,32752.531999999999,99550.367999999988,57447,5417.9660000000003]
[2001,"WI","2001WI",0,0,0,0,0,0,0,0]
[2001,"WY","2001WY",0,0,0,0,0,0,368749.17200000002,0]
[2002,"AL","2002AL",17106.4236920441,13060.547719999999,13060.54772,14916,0,14916,4015,0]
[2002,"AK","2002AK",0,0,0,0,0,0,1146,0]
[2002,"AZ","2002AZ",0,0,0,0,0,0,12804,0]
[2002,"AR","2002AR",0,0,0,1,0,1,13,0]
[2002,"CA","2002CA",0,0,0,0,0,0,0,0]
[2002,"CO","2002CO",5574.6790240869168,4138.8566666666666,0,25332,0,25332,9771,0]
[2002,"CT","2002CT",0,0,0,0,0,0,0,0]
[2002,"DE","2002DE",0,0,0,0,0,0,0,0]
[2002,"FL","2002FL",0,0,0,0,0,0,0,0]
[2002,"GA","2002GA",0,0,0,0,0,0,0,0]
[2002,"HI","2002HI",0,0,0,0,0,0,0,0]
[2002,"ID","2002ID",0,0,0,0,0,0,0,0]
[2002,"IL","2002IL",4900.1723602311713,0,0,26931,0,26931,6383,0]
[2002,"IN","2002IN",1143.7592832900361,0,0,7909,0,7909,27428,0]
[2002,"IA","2002IA",0,0,0,0,0,0,0,0]
[2002,"KS","2002KS",0,0,0,0,0,0,205,0]
[2002,"KY","2002KY",4004.7948521257954,0,0,56413,19176,75589,42984,5569]
[2002,"LA","2002LA",0,0,0,0,0,0,3803,0]
[2002,"ME","2002ME",0,0,0,0,0,0,0,0]
[2002,"MD","2002MD",0,0,0,3328,0,3328,1820,0]
[2002,"MA","2002MA",0,0,0,0,0,0,0,0]
[2002,"MI","2002MI",0,0,0,0,0,0,0,0]
[2002,"MN","2002MN",0,0,0,0,0,0,0,0]
[2002,"MS","2002MS",0,0,0,0,0,0,2305,0]
[2002,"MO","2002MO",0,0,0,0,0,0,248,0]
[2002,"MT","2002MT",0,0,0,0,0,0,37386,0]
[2002,"NE","2002NE",0,0,0,0,0,0,0,0]
[2002,"NV","2002NV",0,0,0,0,0,0,0,0]
[2002,"NH","2002NH",0,0,0,0,0,0,0,0]
[2002,"NJ","2002NJ",0,0,0,0,0,0,0,0]
[2002,"NM","2002NM",572.62622081165648,186.63666666666666,0,1753,0,1753,27163,0]
[2002,"NY","2002NY",0,0,0,0,0,0,0,0]
[2002,"NC","2002NC",0,0,0,0,0,0,0,0]
[2002,"ND","2002ND",0,0,0,0,0,0,30799,0]
[2002,"OH","2002OH",917.54579579859967,0,0,10851,0,10851,10306,0]
[2002,"OK","2002OK",446.45434164976609,0,0,463,0,463,943,0]
[2002,"OR","2002OR",0,0,0,0,0,0,0,0]
[2002,"PA","2002PA",14982.724005682832,1631.1957886176378,0,55781,0,55781,12612,0]
[2002,"RI","2002RI",0,0,0,0,0,0,0,0]
[2002,"SC","2002SC",0,0,0,0,0,0,0,0]
[2002,"SD","2002SD",0,0,0,0,0,0,0,0]
[2002,"TN","2002TN",0,0,0,1085,0,1085,2081,0]
[2002,"TX","2002TX",0,0,0,0,0,0,45247,0]
[2002,"UT","2002UT",1889.9651603451218,0,0,25036,0,25036,268,0]
[2002,"VT","2002VT",0,0,0,0,0,0,0,0]
[2002,"VA","2002VA",8020.8732767797028,26746.574550533267,26746.028540000003,20491,0,20491,9465,0]
[2002,"WA","2002WA",0,0,0,0,0,0,5827,0]
[2002,"WV","2002WV",20900.888763672276,4827.4298126956883,3476.39858,59235,28683,87918,56810,5350]
[2002,"WI","2002WI",0,0,0,0,0,0,0,0]
[2002,"WY","2002WY",0,0,0,0,0,0,373161,0]
[2003,"AL","2003AL",17616.771771933116,11087.003499999999,11087.056499999999,15375,0,15375,4742,0]
[2003,"AK","2003AK",0,0,0,0,0,0,1081,0]
[2003,"AZ","2003AZ",0,0,0,0,0,0,12059,0]
[2003,"AR","2003AR",0,0,0,1,0,1,7,0]
[2003,"CA","2003CA",0,0,0,0,0,0,0,0]
[2003,"CO","2003CO",5858.3010796594835,4997.4921179951098,40,27177,0,27177,8654,0]
[2003,"CT","2003CT",0,0,0,0,0,0,0,0]
[2003,"DE","2003DE",0,0,0,0,0,0,0,0]
[2003,"FL","2003FL",0,0,0,0,0,0,0,0]
[2003,"GA","2003GA",0,0,0,0,0,0,0,0]
[2003,"HI","2003HI",0,0,0,0,0,0,0,0]
[2003,"ID","2003ID",0,0,0,0,0,0,0,0]
[2003,"IL","2003IL",3749.8766666514398,0,0,25985,0,25985,5655,0]
[2003,"IN","2003IN",1509.5177492657735,0,0,8635,0,8635,26720,0]
[2003,"IA","2003IA",0,0,0,0,0,0,0,0]
[2003,"KS","2003KS",0,0,0,0,0,0,154,0]
[2003,"KY","2003KY",4020.7920931009453,0,0,52078,17160,69238,39142,4300]
[2003,"LA","2003LA",0,0,0,0,0,0,4028,0]
[2003,"ME","2003ME",0,0,0,0,0,0,0,0]
[2003,"MD","2003MD",0,0,0,3300,0,3300,1756,0]
[2003,"MA","2003MA",0,0,0,0,0,0,0,0]
[2003,"MI","2003MI",0,0,0,0,0,0,0,0]
[2003,"MN","2003MN",0,0,0,0,0,0,0,0]
[2003,"MS","2003MS",0,0,0,0,0,0,3695,0]
[2003,"MO","2003MO",0,0,0,0,0,0,533,0]
[2003,"MT","2003MT",0,0,0,32,0,32,36962,0]
[2003,"NE","2003NE",0,0,0,0,0,0,0,0]
[2003,"NV","2003NV",0,0,0,0,0,0,0,0]
[2003,"NH","2003NH",0,0,0,0,0,0,0,0]
[2003,"NJ","2003NJ",0,0,0,0,0,0,0,0]
[2003,"NM","2003NM",470.08767845928821,853.63295642857156,8,5890,0,5890,20499,0]
[2003,"NY","2003NY",0,0,0,0,0,0,0,0]
[2003,"NC","2003NC",0,0,0,0,0,0,0,0]
[2003,"ND","2003ND",0,0,0,0,0,0,30775,0]
[2003,"OH","2003OH",801.85159530610429,0,0,12828,0,12828,9182,0]
[2003,"OK","2003OK",374.25565676083255,0,0,393,0,393,1172,0]
[2003,"OR","2003OR",0,0,0,0,0,0,0,0]
[2003,"PA","2003PA",14485.9442555683,2353.52,0,52212,0,52212,11512,0]
[2003,"RI","2003RI",0,0,0,0,0,0,0,0]
[2003,"SC","2003SC",0,0,0,0,0,0,0,0]
[2003,"SD","2003SD",0,0,0,0,0,0,0,0]
[2003,"TN","2003TN",0,0,0,657,0,657,1907,0]
[2003,"TX","2003TX",0,0,0,0,0,0,47517,0]
[2003,"UT","2003UT",2663.0803635929387,0,0,23044,0,23044,25,0]
[2003,"VT","2003VT",0,0,0,0,0,0,0,0]
[2003,"VA","2003VA",7518.6997744545006,26913.726415249155,25879.923170000002,21225,0,21225,10371,0]
[2003,"WA","2003WA",0,0,0,0,0,0,6232,0]
[2003,"WV","2003WV",18316.402691961201,3545.7458192322292,1222.4222199999999,56764,30029,86793,47999,4920]
[2003,"WI","2003WI",0,0,0,0,0,0,0,0]
[2003,"WY","2003WY",0,0,0,0,0,0,376270,0]
[2004,"AL","2004AL",20064.261922425398,9556.2000100000005,13210.280009999999,16114,0,16114,6156,0]
[2004,"AK","2004AK",0,0,0,0,0,0,1512,0]
[2004,"AZ","2004AZ",0,0,0,0,0,0,12731,0]
[2004,"AR","2004AR",0,0,0,1,0,1,6,0]
[2004,"CA","2004CA",0,0,0,0,0,0,0,0]
[2004,"CO","2004CO",5742.6656773899167,4329.6470666666664,170,29608,0,29608,10262,0]
[2004,"CT","2004CT",0,0,0,0,0,0,0,0]
[2004,"DE","2004DE",0,0,0,0,0,0,0,0]
[2004,"FL","2004FL",0,0,0,0,0,0,0,0]
[2004,"GA","2004GA",0,0,0,0,0,0,0,0]
[2004,"HI","2004HI",0,0,0,0,0,0,0,0]
[2004,"ID","2004ID",0,0,0,0,0,0,0,0]
[2004,"IL","2004IL",4840.9809048509915,0,0,26907,0,26907,4946,0]
[2004,"IN","2004IN",1325.0655225525795,0,0,10092,0,10092,25018,0]
[2004,"IA","2004IA",0,0,0,0,0,0,0,0]
[2004,"KS","2004KS",0,0,0,0,0,0,71,0]
[2004,"KY","2004KY",3928.2203746971873,0,0,52445,19321,71766,38427,4052]
[2004,"LA","2004LA",0,0,0,0,0,0,3805,0]
[2004,"ME","2004ME",0,0,0,0,0,0,0,0]
[2004,"MD","2004MD",0,0,0,3339,0,3339,1886,0]
[2004,"MA","2004MA",0,0,0,0,0,0,0,0]
[2004,"MI","2004MI",0,0,0,0,0,0,0,0]
[2004,"MN","2004MN",0,0,0,0,0,0,0,0]
[2004,"MS","2004MS",0,0,0,0,0,0,3586,0]
[2004,"MO","2004MO",0,0,0,0,0,0,578,0]
[2004,"MT","2004MT",0,0,0,158,0,158,39831,0]
[2004,"NE","2004NE",0,0,0,0,0,0,0,0]
[2004,"NV","2004NV",0,0,0,0,0,0,0,0]
[2004,"NH","2004NH",0,0,0,0,0,0,0,0]
[2004,"NJ","2004NJ",0,0,0,0,0,0,0,0]
[2004,"NM","2004NM",619.11253511354971,908.04599999999971,69,7685,0,7685,19565,0]
[2004,"NY","2004NY",0,0,0,0,0,0,0,0]
[2004,"NC","2004NC",0,0,0,0,0,0,0,0]
[2004,"ND","2004ND",0,0,0,0,0,0,29943,0]
[2004,"OH","2004OH",1302.9810971767031,0,0,14270,0,14270,8952,0]
[2004,"OK","2004OK",565.21156470463131,0,0,409,0,409,1383,0]
[2004,"OR","2004OR",0,0,0,0,0,0,0,0]
[2004,"PA","2004PA",14262.907963559392,2096.4256800000003,0,53224,0,53224,12772,0]
[2004,"RI","2004RI",0,0,0,0,0,0,0,0]
[2004,"SC","2004SC",0,0,0,0,0,0,0,0]
[2004,"SD","2004SD",0,0,0,0,0,0,0,0]
[2004,"TN","2004TN",0,0,0,826,0,826,2061,0]
[2004,"TX","2004TX",0,0,0,0,0,0,45863,0]
[2004,"UT","2004UT",4314.3235064805176,235.82600000000002,0,21746,0,21746,0,0]
[2004,"VT","2004VT",0,0,0,0,0,0,0,0]
[2004,"VA","2004VA",8034.1267955965541,25047.262692524928,24979.133579999998,20437,0,20437,10983,0]
[2004,"WA","2004WA",0,0,0,0,0,0,5653,0]
[2004,"WV","2004WV",19417.815180869962,3258.476032162228,1443.6025300000001,54851,36082,90933,52497,4564]
[2004,"WI","2004WI",0,0,0,0,0,0,0,0]
[2004,"WY","2004WY",0,0,0,43,0,43,396450,0]
[2005,"AL","2005AL",13665.683697816019,15809.650439131654,15289.56186,13295,0,13295,8044,0]
[2005,"AK","2005AK",0,0,0,0,0,0,1454,0]
[2005,"AZ","2005AZ",0,0,0,0,0,0,12072,0]
[2005,"AR","2005AR",0,0,0,0,0,0,3,0]
[2005,"CA","2005CA",0,0,0,0,0,0,0,0]
[2005,"CO","2005CO",6439.1529614360406,4748.4495666666671,170,28439,0,28439,10071,0]
[2005,"CT","2005CT",0,0,0,0,0,0,0,0]
[2005,"DE","2005DE",0,0,0,0,0,0,0,0]
[2005,"FL","2005FL",0,0,0,0,0,0,0,0]
[2005,"GA","2005GA",0,0,0,0,0,0,0,0]
[2005,"HI","2005HI",0,0,0,0,0,0,0,0]
[2005,"ID","2005ID",0,0,0,0,0,0,0,0]
[2005,"IL","2005IL",5582.9190081219913,0,0,26343,0,26343,5671,0]
[2005,"IN","2005IN",1612.946960563942,0,0,11189,0,11189,23268,0]
[2005,"IA","2005IA",0,0,0,0,0,0,0,0]
[2005,"KS","2005KS",0,0,0,0,0,0,171,0]
[2005,"KY","2005KY",3233.6523104649186,0,0,52054,21648,73702,41269,4763]
[2005,"LA","2005LA",0,0,0,0,0,0,4161,0]
[2005,"ME","2005ME",0,0,0,0,0,0,0,0]
[2005,"MD","2005MD",0,0,0,3175,0,3175,2009,0]
[2005,"MA","2005MA",0,0,0,0,0,0,0,0]
[2005,"MI","2005MI",0,0,0,0,0,0,0,0]
[2005,"MN","2005MN",0,0,0,0,0,0,0,0]
[2005,"MS","2005MS",0,0,0,0,0,0,3555,0]
[2005,"MO","2005MO",0,0,0,0,0,0,598,0]
[2005,"MT","2005MT",0,0,0,162,0,162,40192,0]
[2005,"NE","2005NE",0,0,0,0,0,0,0,0]
[2005,"NV","2005NV",0,0,0,0,0,0,0,0]
[2005,"NH","2005NH",0,0,0,0,0,0,0,0]
[2005,"NJ","2005NJ",0,0,0,0,0,0,0,0]
[2005,"NM","2005NM",1443.1748580703684,940.7510000000002,2.25,7905,0,7905,20613,0]
[2005,"NY","2005NY",0,0,0,0,0,0,0,0]
[2005,"NC","2005NC",0,0,0,0,0,0,0,0]
[2005,"ND","2005ND",0,0,0,0,0,0,29956,0]
[2005,"OH","2005OH",1442.2416341120706,0,0,15823,0,15823,8896,0]
[2005,"OK","2005OK",586.10197476947974,0,0,465,0,465,1391,0]
[2005,"OR","2005OR",0,0,0,0,0,0,0,0]
[2005,"PA","2005PA",12612.932414939203,2527.5136449411762,1095,54563,0,54563,12931,0]
[2005,"RI","2005RI",0,0,0,0,0,0,0,0]
[2005,"SC","2005SC",0,0,0,0,0,0,0,0]
[2005,"SD","2005SD",0,0,0,0,0,0,0,0]
[2005,"TN","2005TN",0,0,0,1224,0,1224,1993,0]
[2005,"TX","2005TX",0,0,0,0,0,0,45939,0]
[2005,"UT","2005UT",3254.2639294601436,740.76750000000004,0,24521,0,24521,0,0]
[2005,"VT","2005VT",0,0,0,0,0,0,0,0]
[2005,"VA","2005VA",6007.9982768753052,16055.597495392147,16056.328040000002,16386,0,16386,11357,0]
[2005,"WA","2005WA",0,0,0,0,0,0,5266,0]
[2005,"WV","2005WV",20645.864172513553,6722.6920934453783,4853.9629800000002,53419,37590,91009,57603,5037]
[2005,"WI","2005WI",0,0,0,0,0,0,0,0]
[2005,"WY","2005WY",0,0,0,410,0,410,403908,0]
[2006,"AL","2006AL",12670.48343433095,18336.958659131655,17816.870080000001,10737,0,10737,8092,0]
[2006,"AK","2006AK",0,0,0,0,0,0,1425,0]
[2006,"AZ","2006AZ",0,0,0,0,0,0,8216,0]
[2006,"AR","2006AR",0,0,0,18,0,18,5,0]
[2006,"CA","2006CA",0,0,0,0,0,0,0,0]
[2006,"CO","2006CO",6642.1744886985616,4184.0936716666665,170,26659,0,26659,9663,0]
[2006,"CT","2006CT",0,0,0,0,0,0,0,0]
[2006,"DE","2006DE",0,0,0,0,0,0,0,0]
[2006,"FL","2006FL",0,0,0,0,0,0,0,0]
[2006,"GA","2006GA",0,0,0,0,0,0,0,0]
[2006,"HI","2006HI",0,0,0,0,0,0,0,0]
[2006,"ID","2006ID",0,0,0,0,0,0,0,0]
[2006,"IL","2006IL",5939.5133779496782,0,0,27120,0,27120,5609,0]
[2006,"IN","2006IN",1861.7261549239952,0,0,10736,0,10736,24383,0]
[2006,"IA","2006IA",0,0,0,0,0,0,0,0]
[2006,"KS","2006KS",0,0,0,0,0,0,426,0]
[2006,"KY","2006KY",4819.2561600963436,0,0,49312,23870,73182,44295,3370]
[2006,"LA","2006LA",0,0,0,0,0,0,4114,0]
[2006,"ME","2006ME",0,0,0,0,0,0,0,0]
[2006,"MD","2006MD",0,0,0,2826,0,2826,2228,0]
[2006,"MA","2006MA",0,0,0,0,0,0,0,0]
[2006,"MI","2006MI",0,0,0,0,0,0,0,0]
[2006,"MN","2006MN",0,0,0,0,0,0,0,0]
[2006,"MS","2006MS",0,0,0,0,0,0,3797,0]
[2006,"MO","2006MO",0,0,0,0,0,0,394,0]
[2006,"MT","2006MT",0,0,0,321,0,321,41502,0]
[2006,"NE","2006NE",0,0,0,0,0,0,0,0]
[2006,"NV","2006NV",0,0,0,0,0,0,0,0]
[2006,"NH","2006NH",0,0,0,0,0,0,0,0]
[2006,"NJ","2006NJ",0,0,0,0,0,0,0,0]
[2006,"NM","2006NM",1459.6921755530766,951.51801333333333,0,6993,0,6993,18919,0]
[2006,"NY","2006NY",0,0,0,0,0,0,0,0]
[2006,"NC","2006NC",0,0,0,0,0,0,0,0]
[2006,"ND","2006ND",0,0,0,0,0,0,30411,0]
[2006,"OH","2006OH",1682.0383829613263,0,0,15126,0,15126,7596,0]
[2006,"OK","2006OK",342.37449785769587,0,0,464,0,464,1534,0]
[2006,"OR","2006OR",0,0,0,0,0,0,0,0]
[2006,"PA","2006PA",13277.451785537605,2615.9674779411766,1277.5,53801,0,53801,12228,0]
[2006,"RI","2006RI",0,0,0,0,0,0,0,0]
[2006,"SC","2006SC",0,0,0,0,0,0,0,0]
[2006,"SD","2006SD",0,0,0,0,0,0,0,0]
[2006,"TN","2006TN",0,0,0,1191,0,1191,1613,0]
[2006,"TX","2006TX",0,0,0,0,0,0,45548,0]
[2006,"UT","2006UT",3822.0638892490651,782.67193333333353,0,26018,0,26018,0,0]
[2006,"VT","2006VT",0,0,0,0,0,0,0,0]
[2006,"VA","2006VA",6825.7285249365295,23341.138999999999,23341.138999999999,18681,0,18681,11059,0]
[2006,"WA","2006WA",0,0,0,0,0,0,2580,0]
[2006,"WV","2006WV",21119.980254090005,3692.8994530882346,3574.21621,48554,36074,84628,61421,6324]
[2006,"WI","2006WI",0,0,0,0,0,0,0,0]
[2006,"WY","2006WY",0,0,0,519,0,519,446223,0]
[2007,"AL","2007AL",15258.142775000002,14082.45601422969,13736.771439999999,11462,0,11462,7865,0]
[2007,"AK","2007AK",0,0,0,0,0,0,1324,0]
[2007,"AZ","2007AZ",0,0,0,0,0,0,7983,0]
[2007,"AR","2007AR",135.51783875000001,0,0,80,0,80,2,0]
[2007,"CA","2007CA",0,0,0,0,0,0,0,0]
[2007,"CO","2007CO",7166.7254832499993,3745.2348874999998,170,27610,0,27610,8774,0]
[2007,"CT","2007CT",0,0,0,0,0,0,0,0]
[2007,"DE","2007DE",0,0,0,0,0,0,0,0]
[2007,"FL","2007FL",0,0,0,0,0,0,0,0]
[2007,"GA","2007GA",0,0,0,0,0,0,0,0]
[2007,"HI","2007HI",0,0,0,0,0,0,0,0]
[2007,"ID","2007ID",0,0,0,0,0,0,0,0]
[2007,"IL","2007IL",3482.8197155000003,0,0,26807,0,26807,5638,0]
[2007,"IN","2007IN",2179.3727990000002,0,0,10604,0,10604,24399,0]
[2007,"IA","2007IA",0,0,0,0,0,0,0,0]
[2007,"KS","2007KS",0,0,0,0,0,0,420,0]
[2007,"KY","2007KY",5126.3688512499984,0,0,44703,24513,69216,42365,3699]
[2007,"LA","2007LA",0,0,0,0,0,0,3127,0]
[2007,"ME","2007ME",0,0,0,0,0,0,0,0]
[2007,"MD","2007MD",0,0,0,611,0,611,1690,0]
[2007,"MA","2007MA",0,0,0,0,0,0,0,0]
[2007,"MI","2007MI",0,0,0,0,0,0,0,0]
[2007,"MN","2007MN",0,0,0,0,0,0,0,0]
[2007,"MS","2007MS",0,0,0,0,0,0,3545,0]
[2007,"MO","2007MO",0,0,0,0,0,0,236,0]
[2007,"MT","2007MT",0,0,0,47,0,47,43343,0]
[2007,"NE","2007NE",0,0,0,0,0,0,0,0]
[2007,"NV","2007NV",0,0,0,0,0,0,0,0]
[2007,"NH","2007NH",0,0,0,0,0,0,0,0]
[2007,"NJ","2007NJ",0,0,0,0,0,0,0,0]
[2007,"NM","2007NM",1276.5332062499999,851.02213749999987,0,6898,0,6898,17553,0]
[2007,"NY","2007NY",0,0,0,0,0,0,0,0]
[2007,"NC","2007NC",0,0,0,0,0,0,0,0]
[2007,"ND","2007ND",0,0,0,0,0,0,29606,0]
[2007,"OH","2007OH",1023.1559687500001,0,0,15793,0,15793,6783,0]
[2007,"OK","2007OK",522.45282100000009,0,0,514,0,514,1134,0]
[2007,"OR","2007OR",0,0,0,0,0,0,0,0]
[2007,"PA","2007PA",14239.53684445,2740.9947362500002,1461.4,53544,0,53544,11504,0]
[2007,"RI","2007RI",0,0,0,0,0,0,0,0]
[2007,"SC","2007SC",0,0,0,0,0,0,0,0]
[2007,"SD","2007SD",0,0,0,0,0,0,0,0]
[2007,"TN","2007TN",0,0,0,892,0,892,1763,0]
[2007,"TX","2007TX",0,0,0,0,0,0,41948,0]
[2007,"UT","2007UT",2742.9607105,662.65558583333336,512.71900000000005,24307,0,24307,0,0]
[2007,"VT","2007VT",0,0,0,0,0,0,0,0]
[2007,"VA","2007VA",7521.39006075,19087.624219999998,19087.624219999998,15731,0,15731,9615,0]
[2007,"WA","2007WA",0,0,0,0,0,0,0,0]
[2007,"WV","2007WV",20173.045692499993,3731.4691672941181,2509.3002900000001,48777,36076,84853,62483,6144]
[2007,"WI","2007WI",0,0,0,0,0,0,0,0]
[2007,"WY","2007WY",0,0,0,2822,0,2822,450746,0]
[2008,"AL","2008AL",18683.020142642952,11294.179351428573,10516.030779999999,12281,0,12281,8330,0]
[2008,"AK","2008AK",0,0,0,0,0,0,1477,0]
[2008,"AZ","2008AZ",0,0,0,0,0,0,8025,0]
[2008,"AR","2008AR",229.04036581315057,0,0,67,0,67,2,0]
[2008,"CA","2008CA",0,0,0,0,0,0,0,0]
[2008,"CO","2008CO",7358.8734429223705,3663.8566166666669,170,24370,0,24370,7659,0]
[2008,"CT","2008CT",0,0,0,0,0,0,0,0]
[2008,"DE","2008DE",0,0,0,0,0,0,0,0]
[2008,"FL","2008FL",0,0,0,0,0,0,0,0]
[2008,"GA","2008GA",0,0,0,0,0,0,0,0]
[2008,"HI","2008HI",0,0,0,0,0,0,0,0]
[2008,"ID","2008ID",0,0,0,0,0,0,0,0]
[2008,"IL","2008IL",6725.9931570110466,0,0,27055,0,27055,5863,0]
[2008,"IN","2008IN",3309.4405757120489,0,0,12223,0,12223,23670,0]
[2008,"IA","2008IA",0,0,0,0,0,0,0,0]
[2008,"KS","2008KS",0,0,0,0,0,0,229,0]
[2008,"KY","2008KY",6183.9442174846999,0,0,44143,25331,69474,46116,4733]
[2008,"LA","2008LA",0,0,0,0,0,0,3843,0]
[2008,"ME","2008ME",0,0,0,0,0,0,0,0]
[2008,"MD","2008MD",0,0,0,753,0,753,2107,0]
[2008,"MA","2008MA",0,0,0,0,0,0,0,0]
[2008,"MI","2008MI",0,0,0,0,0,0,0,0]
[2008,"MN","2008MN",0,0,0,0,0,0,0,0]
[2008,"MS","2008MS",0,0,0,0,0,0,2842,0]
[2008,"MO","2008MO",0,0,0,0,0,0,247,0]
[2008,"MT","2008MT",0,0,0,168,0,168,44617,0]
[2008,"NE","2008NE",0,0,0,0,0,0,0,0]
[2008,"NV","2008NV",0,0,0,0,0,0,0,0]
[2008,"NH","2008NH",0,0,0,0,0,0,0,0]
[2008,"NJ","2008NJ",0,0,0,0,0,0,0,0]
[2008,"NM","2008NM",1761.4986338125734,1162.130556666667,0,7046,0,7046,18599,0]
[2008,"NY","2008NY",0,0,0,0,0,0,0,0]
[2008,"NC","2008NC",0,0,0,0,0,0,0,0]
[2008,"ND","2008ND",0,0,0,0,0,0,29627,0]
[2008,"OH","2008OH",1920.2055305714107,0,0,17048,0,17048,9198,0]
[2008,"OK","2008OK",745.5536377499858,0,0,441,0,441,1023,0]
[2008,"OR","2008OR",0,0,0,0,0,0,0,0]
[2008,"PA","2008PA",15928.936826154591,2868.2394661764706,1825,53318,0,53318,12095,0]
[2008,"RI","2008RI",0,0,0,0,0,0,0,0]
[2008,"SC","2008SC",0,0,0,0,0,0,0,0]
[2008,"SD","2008SD",0,0,0,0,0,0,0,0]
[2008,"TN","2008TN",0,0,0,789,0,789,1544,0]
[2008,"TX","2008TX",0,0,0,0,0,0,39017,0]
[2008,"UT","2008UT",3876.6230398735793,1260.4969899999999,400,24365,0,24365,0,0]
[2008,"VT","2008VT",0,0,0,0,0,0,0,0]
[2008,"VA","2008VA",6768.3600165970429,24794.818169999999,24794.818169999999,15806,0,15806,8907,0]
[2008,"WA","2008WA",0,0,0,0,0,0,0,0]
[2008,"WV","2008WV",27446.393516461012,3599.4733509558823,2168.7369599999997,54260,34109,88369,62395,7013]
[2008,"WI","2008WI",0,0,0,0,0,0,0,0]
[2008,"WY","2008WY",0,0,0,3501,0,3501,464143,0]
[2009,"AL","2009AL",21909.788804560041,11975.99964,13172.23864,11505,0,11505,7291,0]
[2009,"AK","2009AK",0,0,0,0,0,0,1860,0]
[2009,"AZ","2009AZ",0,0,0,0,0,0,7474,0]
[2009,"AR","2009AR",118.00818425515142,0,0,4,0,4,1,0]
[2009,"CA","2009CA",0,0,0,0,0,0,0,0]
[2009,"CO","2009CO",7605.2211741476249,4780.3394520833335,170,22199,0,22199,6068,0]
[2009,"CT","2009CT",0,0,0,0,0,0,0,0]
[2009,"DE","2009DE",0,0,0,0,0,0,0,0]
[2009,"FL","2009FL",0,0,0,0,0,0,0,0]
[2009,"GA","2009GA",0,0,0,0,0,0,0,0]
[2009,"HI","2009HI",0,0,0,0,0,0,0,0]
[2009,"ID","2009ID",0,0,0,0,0,0,0,0]
[2009,"IL","2009IL",6302.8051102824329,0,0,28407,0,28407,5342,0]
[2009,"IN","2009IN",4065.0505358790065,0,0,12797,0,12797,22858,0]
[2009,"IA","2009IA",0,0,0,0,0,0,0,0]
[2009,"KS","2009KS",0,0,0,0,0,0,185,0]
[2009,"KY","2009KY",8628.9989716995606,0,0,37170,25982,63152,37549,6637]
[2009,"LA","2009LA",0,0,0,0,0,0,3657,0]
[2009,"ME","2009ME",0,0,0,0,0,0,0,0]
[2009,"MD","2009MD",0,0,0,495,0,495,1811,0]
[2009,"MA","2009MA",0,0,0,0,0,0,0,0]
[2009,"MI","2009MI",0,0,0,0,0,0,0,0]
[2009,"MN","2009MN",0,0,0,0,0,0,0,0]
[2009,"MS","2009MS",0,0,0,0,0,0,3440,0]
[2009,"MO","2009MO",0,0,0,0,0,0,452,0]
[2009,"MT","2009MT",0,0,0,776,0,776,38710,0]
[2009,"NE","2009NE",0,0,0,0,0,0,0,0]
[2009,"NV","2009NV",0,0,0,0,0,0,0,0]
[2009,"NH","2009NH",0,0,0,0,0,0,0,0]
[2009,"NJ","2009NJ",0,0,0,0,0,0,0,0]
[2009,"NM","2009NM",2028.1444074901742,1338.0473558333333,0,6499,0,6499,18625,0]
[2009,"NY","2009NY",0,0,0,0,0,0,0,0]
[2009,"NC","2009NC",0,0,0,0,0,0,0,0]
[2009,"ND","2009ND",0,0,0,0,0,0,29945,0]
[2009,"OH","2009OH",2557.7341690509156,0,0,17307,0,17307,10194,0]
[2009,"OK","2009OK",505.20090740184435,0,0,384,0,384,572,0]
[2009,"OR","2009OR",0,0,0,0,0,0,0,0]
[2009,"PA","2009PA",18861.604839336829,2958.4573991176485,2080.5,48679,0,48679,9300,0]
[2009,"RI","2009RI",0,0,0,0,0,0,0,0]
[2009,"SC","2009SC",0,0,0,0,0,0,0,0]
[2009,"SD","2009SD",0,0,0,0,0,0,0,0]
[2009,"TN","2009TN",0,0,0,842,0,842,1154,0]
[2009,"TX","2009TX",0,0,0,0,0,0,35093,0]
[2009,"UT","2009UT",3642.0813358201617,1105.6648133333333,0,21718,0,21718,0,0]
[2009,"VT","2009VT",0,0,0,0,0,0,0,0]
[2009,"VA","2009VA",5989.1095181246592,22181.442429999999,22181.442430000003,12938,0,12938,8237,0]
[2009,"WA","2009WA",0,0,0,0,0,0,0,0]
[2009,"WV","2009WV",32616.912549493551,4319.2250687185879,2977.4557421009413,47739,33148,80887,50838,5247]
[2009,"WI","2009WI",0,0,0,0,0,0,0,0]
[2009,"WY","2009WY",0,0,0,3472,0,3472,427635,0]
[2010,"AL","2010AL",19517.012307005713,16783.223000000002,16422.933000000001,12513,0,12513,7402,0]
[2010,"AK","2010AK",0,0,0,0,0,0,2151,0]
[2010,"AZ","2010AZ",0,0,0,0,0,0,7752,0]
[2010,"AR","2010AR",126.09455671608798,0,0,31,0,31,1,0]
[2010,"CA","2010CA",0,0,0,0,0,0,0,0]
[2010,"CO","2010CO",9646.7589904510551,5404.6229611132185,170,20085,0,20085,5078,0]
[2010,"CT","2010CT",0,0,0,0,0,0,0,0]
[2010,"DE","2010DE",0,0,0,0,0,0,0,0]
[2010,"FL","2010FL",0,0,0,0,0,0,0,0]
[2010,"GA","2010GA",0,0,0,0,0,0,0,0]
[2010,"HI","2010HI",0,0,0,0,0,0,0,0]
[2010,"ID","2010ID",0,0,0,0,0,0,0,0]
[2010,"IL","2010IL",7720.5740969885564,0,0,28286,0,28286,4955,0]
[2010,"IN","2010IN",4346.3169915652516,0,0,14287,0,14287,20663,0]
[2010,"IA","2010IA",0,0,0,0,0,0,0,0]
[2010,"KS","2010KS",0,0,0,0,0,0,133,0]
[2010,"KY","2010KY",9011.0561491120716,0,0,34388,29605,63993,33675,7293]
[2010,"LA","2010LA",0,0,0,0,0,0,3945,0]
[2010,"ME","2010ME",0,0,0,0,0,0,0,0]
[2010,"MD","2010MD",0,0,0,677,0,677,1908,0]
[2010,"MA","2010MA",0,0,0,0,0,0,0,0]
[2010,"MI","2010MI",0,0,0,0,0,0,0,0]
[2010,"MN","2010MN",0,0,0,0,0,0,0,0]
[2010,"MS","2010MS",0,0,0,0,0,0,4004,0]
[2010,"MO","2010MO",0,0,0,0,0,0,458,0]
[2010,"MT","2010MT",0,0,0,4389,0,4389,40343,0]
[2010,"NE","2010NE",0,0,0,0,0,0,0,0]
[2010,"NV","2010NV",0,0,0,0,0,0,0,0]
[2010,"NH","2010NH",0,0,0,0,0,0,0,0]
[2010,"NJ","2010NJ",0,0,0,0,0,0,0,0]
[2010,"NM","2010NM",2153.09088133557,1420.4795033333335,0,4932,0,4932,16059,0]
[2010,"NY","2010NY",0,0,0,0,0,0,0,0]
[2010,"NC","2010NC",0,0,0,0,0,0,0,0]
[2010,"ND","2010ND",0,0,0,0,0,0,28949,0]
[2010,"OH","2010OH",1824.8492767714188,0,0,17463,0,17463,9244,0]
[2010,"OK","2010OK",309.34944615789169,0,0,394,0,394,617,0]
[2010,"OR","2010OR",0,0,0,0,0,0,0,0]
[2010,"PA","2010PA",18512.019927780442,3609.8970434503303,2080.5,47667,0,47667,10926,0]
[2010,"RI","2010RI",0,0,0,0,0,0,0,0]
[2010,"SC","2010SC",0,0,0,0,0,0,0,0]
[2010,"SD","2010SD",0,0,0,0,0,0,0,0]
[2010,"TN","2010TN",0,0,0,555,0,555,1225,0]
[2010,"TX","2010TX",0,0,0,0,0,0,40982,0]
[2010,"UT","2010UT",4111.5397153058811,891.32918351405658,0,19351,0,19351,0,0]
[2010,"VT","2010VT",0,0,0,0,0,0,0,0]
[2010,"VA","2010VA",6849.5815217140635,27514.745350000001,27514.745350000001,14169,0,14169,8217,0]
[2010,"WA","2010WA",0,0,0,0,0,0,0,0]
[2010,"WV","2010WV",34079.742628378757,3014.9845096532845,2790.246734427958,47242,37302,84544,46671,4004]
[2010,"WI","2010WI",0,0,0,0,0,0,0,0]
[2010,"WY","2010WY",0,0,0,3819,0,3819,438703,0]
[2011,"AL","2011AL",17115.711091120822,12209.913000000002,12197.421999999999,10879,0,10879,8192,0]
[2011,"AK","2011AK",0,0,0,0,0,0,2149,0]
[2011,"AZ","2011AZ",0,0,0,0,0,0,8111,0]
[2011,"AR","2011AR",333.721070036073,0,0,127,0,127,7,0]
[2011,"CA","2011CA",0,0,0,0,0,0,0,0]
[2011,"CO","2011CO",6368.4656605136279,3120.3512172222222,0,21508,0,21508,5382,0]
[2011,"CT","2011CT",0,0,0,0,0,0,0,0]
[2011,"DE","2011DE",0,0,0,0,0,0,0,0]
[2011,"FL","2011FL",0,0,0,0,0,0,0,0]
[2011,"GA","2011GA",0,0,0,0,0,0,0,0]
[2011,"HI","2011HI",0,0,0,0,0,0,0,0]
[2011,"ID","2011ID",0,0,0,0,0,0,0,0]
[2011,"IL","2011IL",6578.740155861592,0,0,32717,0,32717,5053,0]
[2011,"IN","2011IN",4546.9870503021784,0,0,16469,0,16469,20957,0]
[2011,"IA","2011IA",0,0,0,0,0,0,0,0]
[2011,"KS","2011KS",0,0,0,0,0,0,37,0]
[2011,"KY","2011KY",7128.7064787224153,0,0,33345,31903,65248,34585,8933]
[2011,"LA","2011LA",0,0,0,0,0,0,8365,0]
[2011,"ME","2011ME",0,0,0,0,0,0,0,0]
[2011,"MD","2011MD",0,0,0,873,0,873,2064,0]
[2011,"MA","2011MA",0,0,0,0,0,0,0,0]
[2011,"MI","2011MI",0,0,0,0,0,0,0,0]
[2011,"MN","2011MN",0,0,0,0,0,0,0,0]
[2011,"MS","2011MS",0,0,0,0,0,0,2747,0]
[2011,"MO","2011MO",0,0,0,0,0,0,465,0]
[2011,"MT","2011MT",0,0,0,5136,0,5136,38873,0]
[2011,"NE","2011NE",0,0,0,0,0,0,0,0]
[2011,"NV","2011NV",0,0,0,0,0,0,0,0]
[2011,"NH","2011NH",0,0,0,0,0,0,0,0]
[2011,"NJ","2011NJ",0,0,0,0,0,0,0,0]
[2011,"NM","2011NM",2296.996536234029,1515.4197750000003,0,3983,0,3983,17939,0]
[2011,"NY","2011NY",0,0,0,0,0,0,0,0]
[2011,"NC","2011NC",0,0,0,0,0,0,0,0]
[2011,"ND","2011ND",0,0,0,0,0,0,28231,0]
[2011,"OH","2011OH",2057.3149885391504,0,0,18972,0,18972,9194,0]
[2011,"OK","2011OK",215.72422737541964,0,0,408,0,408,736,0]
[2011,"OR","2011OR",0,0,0,0,0,0,0,0]
[2011,"PA","2011PA",13654.284899416492,2717.9167233698572,2080.5,47317,0,47317,11865,0]
[2011,"RI","2011RI",0,0,0,0,0,0,0,0]
[2011,"SC","2011SC",0,0,0,0,0,0,0,0]
[2011,"SD","2011SD",0,0,0,0,0,0,0,0]
[2011,"TN","2011TN",0,0,0,423,0,423,1124,0]
[2011,"TX","2011TX",0,0,0,0,0,0,45904,0]
[2011,"UT","2011UT",2308.4321829791329,707.95637249999982,0,19648,0,19648,0,0]
[2011,"VT","2011VT",0,0,0,0,0,0,0,0]
[2011,"VA","2011VA",6200.0773404659858,26343.794577700308,26343.794577700311,15461,0,15461,7061,0]
[2011,"WA","2011WA",0,0,0,0,0,0,0,0]
[2011,"WV","2011WV",29096.715939346064,2894.05622653714,2545.1352336000004,44805,38590,83395,48008,3259]
[2011,"WI","2011WI",0,0,0,0,0,0,0,0]
[2011,"WY","2011WY",0,0,0,3043,0,3043,435630,0]
[2012,"AL","2012AL",16507.280742551375,13683.009,13528.784,12570,0,12570,6752,0]
[2012,"AK","2012AK",0,0,0,0,0,0,2052,0]
[2012,"AZ","2012AZ",0,0,0,0,0,0,7493,0]
[2012,"AR","2012AR",379.9503312909647,0,0,96,0,96,2,0]
[2012,"CA","2012CA",0,0,0,0,0,0,0,0]
[2012,"CO","2012CO",5476.7714282924717,2067.2999999999997,45.333333333333329,23646,0,23646,4920,0]
[2012,"CT","2012CT",0,0,0,0,0,0,0,0]
[2012,"DE","2012DE",0,0,0,0,0,0,0,0]
[2012,"FL","2012FL",0,0,0,0,0,0,0,0]
[2012,"GA","2012GA",0,0,0,0,0,0,0,0]
[2012,"HI","2012HI",0,0,0,0,0,0,0,0]
[2012,"ID","2012ID",0,0,0,0,0,0,0,0]
[2012,"IL","2012IL",8514.3371098067219,0,0,42837,0,42837,5649,0]
[2012,"IN","2012IN",5252.0318698899473,472.2,0,15565,0,15565,21156,0]
[2012,"IA","2012IA",0,0,0,0,0,0,0,0]
[2012,"KS","2012KS",0,0,0,0,0,0,16,0]
[2012,"KY","2012KY",5178.8190732687617,0,0,24100,34098,58198,24698,7966]
[2012,"LA","2012LA",0,0,0,0,0,0,3971,0]
[2012,"ME","2012ME",0,0,0,0,0,0,0,0]
[2012,"MD","2012MD",0,0,0,797,0,797,1486,0]
[2012,"MA","2012MA",0,0,0,0,0,0,0,0]
[2012,"MI","2012MI",0,0,0,0,0,0,0,0]
[2012,"MN","2012MN",0,0,0,0,0,0,0,0]
[2012,"MS","2012MS",0,0,0,0,0,0,2953,0]
[2012,"MO","2012MO",0,0,0,0,0,0,422,0]
[2012,"MT","2012MT",0,0,0,5708,0,5708,30986,0]
[2012,"NE","2012NE",0,0,0,0,0,0,0,0]
[2012,"NV","2012NV",0,0,0,0,0,0,0,0]
[2012,"NH","2012NH",0,0,0,0,0,0,0,0]
[2012,"NJ","2012NJ",0,0,0,0,0,0,0,0]
[2012,"NM","2012NM",1303.1224674808109,443.3,0,4960,0,4960,17492,0]
[2012,"NY","2012NY",0,0,0,0,0,0,0,0]
[2012,"NC","2012NC",0,0,0,0,0,0,0,0]
[2012,"ND","2012ND",0,0,0,0,0,0,27529,0]
[2012,"OH","2012OH",1682.962262497932,0,0,18125,0,18125,8203,0]
[2012,"OK","2012OK",365.80616424679101,0,0,349,0,349,704,0]
[2012,"OR","2012OR",0,0,0,0,0,0,0,0]
[2012,"PA","2012PA",12654.112723536415,3027.8,985.5,45041,0,45041,9677,0]
[2012,"RI","2012RI",0,0,0,0,0,0,0,0]
[2012,"SC","2012SC",0,0,0,0,0,0,0,0]
[2012,"SD","2012SD",0,0,0,0,0,0,0,0]
[2012,"TN","2012TN",0,0,0,573,0,573,517,0]
[2012,"TX","2012TX",0,0,0,0,0,0,44178,0]
[2012,"UT","2012UT",2221.0825416462499,854.8,0,16446,0,16446,570,0]
[2012,"VT","2012VT",0,0,0,0,0,0,0,0]
[2012,"VA","2012VA",4611.4780306525472,22873.952078950268,22873.952078950308,12370,0,12370,6595,0]
[2012,"WA","2012WA",0,0,0,0,0,0,0,0]
[2012,"WV","2012WV",27071.111603312307,1973.8146858400003,980.4196735999999,41024,39445,80469,37911,2045]
[2012,"WI","2012WI",0,0,0,0,0,0,0,0]
[2012,"WY","2012WY",0,0,0,4637,0,4637,396805,0]
[2013,"AL","2013AL",15219.921726250001,12158.972720000003,11333.794160000001,13391,0,13391,5120,0]
[2013,"AK","2013AK",0,null,0,0,0,0,1550,0]
[2013,"AZ","2013AZ",0,null,0,0,0,0,7603,0]
[2013,"AR","2013AR",207.08585625000001,null,0,55,0,55,4,0]
[2013,"CA","2013CA",0,null,0,0,0,0,0,0]
[2013,"CO","2013CO",2508.2908939999998,1247.24735422,448.25,19416,0,19416,4820,0]
[2013,"CT","2013CT",0,null,0,0,0,0,0,0]
[2013,"DE","2013DE",0,null,0,0,0,0,0,0]
[2013,"FL","2013FL",0,null,0,0,0,0,0,0]
[2013,"GA","2013GA",0,null,0,0,0,0,0,0]
[2013,"HI","2013HI",0,null,0,0,0,0,0,0]
[2013,"ID","2013ID",0,null,0,0,0,0,0,0]
[2013,"IL","2013IL",7592.1436407500005,null,0,46447,0,46447,5701,0]
[2013,"IN","2013IN",4178.1898549999996,503.39,0,16837,0,16837,22265,0]
[2013,"IA","2013IA",0,null,0,0,0,0,0,0]
[2013,"KS","2013KS",0,null,0,0,0,0,22,0]
[2013,"KY","2013KY",5702.6312212499997,null,0,19573,35047,54620,19957,5832]
[2013,"LA","2013LA",0,null,0,0,0,0,2786,0]
[2013,"ME","2013ME",0,null,0,0,0,0,0,0]
[2013,"MD","2013MD",0,null,0,670,0,670,1255,0]
[2013,"MA","2013MA",0,null,0,0,0,0,0,0]
[2013,"MI","2013MI",0,null,0,0,0,0,0,0]
[2013,"MN","2013MN",0,null,0,0,0,0,0,0]
[2013,"MS","2013MS",0,null,0,0,0,0,3575,0]
[2013,"MO","2013MO",0,null,0,0,0,0,414,0]
[2013,"MT","2013MT",0,null,0,8683,0,8683,33549,0]
[2013,"NE","2013NE",0,null,0,0,0,0,0,0]
[2013,"NV","2013NV",0,null,0,0,0,0,0,0]
[2013,"NH","2013NH",0,null,0,0,0,0,0,0]
[2013,"NJ","2013NJ",0,null,0,0,0,0,0,0]
[2013,"NM","2013NM",1729.52,698.27,0,5989,0,5989,15979,0]
[2013,"NY","2013NY",0,null,0,0,0,0,0,0]
[2013,"NC","2013NC",0,null,0,0,0,0,0,0]
[2013,"ND","2013ND",0,null,0,0,0,0,27639,0]
[2013,"OH","2013OH",1558.057869,null,0,17437,0,17437,7730,0]
[2013,"OK","2013OK",140.28151500000001,null,0,443,0,443,692,0]
[2013,"OR","2013OR",0,null,0,0,0,0,0,0]
[2013,"PA","2013PA",15475.494980249998,3957.05,1332.04,42081,0,42081,8835,0]
[2013,"RI","2013RI",0,null,0,0,0,0,0,0]
[2013,"SC","2013SC",0,null,0,0,0,0,0,0]
[2013,"SD","2013SD",0,null,0,0,0,0,0,0]
[2013,"TN","2013TN",0,null,0,731,0,731,368,0]
[2013,"TX","2013TX",0,null,0,0,0,0,42559,0]
[2013,"UT","2013UT",1471.7110725,733.19,0,15827,0,15827,566,0]
[2013,"VT","2013VT",0,null,0,0,0,0,0,0]
[2013,"VA","2013VA",6355.1243725000004,21824.395730000004,21824.395730000004,12214,0,12214,4429,0]
[2013,"WA","2013WA",0,null,0,0,0,0,0,0]
[2013,"WV","2013WV",26784.429720000007,3897.3603007147003,2987.3833409947006,37922,44010,81932,32419,1519]
[2013,"WI","2013WI",0,null,0,0,0,0,0,0]
[2013,"WY","2013WY",2.7660149999999999,null,0,4443,0,4443,383552,0]
[2014,"AL","2014AL",14221.991506844,10048.304479999999,9181.6190800000004,12516,0,12516,3847,0]
[2014,"AK","2014AK",0,0,0,0,0,0,1502,0]
[2014,"AZ","2014AZ",0,0,0,0,0,0,8051,0]
[2014,"AR","2014AR",165.34,0,0,87,0,87,7,0]
[2014,"CA","2014CA",0,0,0,0,0,0,0,0]
[2014,"CO","2014CO",1850.312433028,1826.0600000000002,1150.6600000000001,18123,0,18123,5884,0]
[2014,"CT","2014CT",0,0,0,0,0,0,0,0]
[2014,"DE","2014DE",0,0,0,0,0,0,0,0]
[2014,"FL","2014FL",0,0,0,0,0,0,0,0]
[2014,"GA","2014GA",0,0,0,0,0,0,0,0]
[2014,"HI","2014HI",0,0,0,0,0,0,0,0]
[2014,"ID","2014ID",0,0,0,0,0,0,0,0]
[2014,"IL","2014IL",7786.7812633999993,0,0,52713,0,52713,5256,0]
[2014,"IN","2014IN",4634.0143099159995,821.86000000000013,0,18105,0,18105,21162,0]
[2014,"IA","2014IA",0,0,0,0,0,0,0,0]
[2014,"KS","2014KS",0,0,0,0,0,0,66,0]
[2014,"KY","2014KY",5923.480948475999,0,0,18414,34393,52807,18976,5551]
[2014,"LA","2014LA",0,0,0,0,0,0,2605,0]
[2014,"ME","2014ME",0,0,0,0,0,0,0,0]
[2014,"MD","2014MD",0,0,0,718,0,718,1260,0]
[2014,"MA","2014MA",0,0,0,0,0,0,0,0]
[2014,"MI","2014MI",0,0,0,0,0,0,0,0]
[2014,"MN","2014MN",0,0,0,0,0,0,0,0]
[2014,"MS","2014MS",0,0,0,0,0,0,3737,0]
[2014,"MO","2014MO",0,0,0,0,0,0,363,0]
[2014,"MT","2014MT",0,0,0,7902,0,7902,36660,0]
[2014,"NE","2014NE",0,0,0,0,0,0,0,0]
[2014,"NV","2014NV",0,0,0,0,0,0,0,0]
[2014,"NH","2014NH",0,0,0,0,0,0,0,0]
[2014,"NJ","2014NJ",0,0,0,0,0,0,0,0]
[2014,"NM","2014NM",975.46,768.75,0,8800,0,8800,13164,0]
[2014,"NY","2014NY",0,0,0,0,0,0,0,0]
[2014,"NC","2014NC",0,0,0,0,0,0,0,0]
[2014,"ND","2014ND",0,0,0,0,0,0,29157,0]
[2014,"OH","2014OH",1839.3424307800003,0,0,15550,0,15550,6703,0]
[2014,"OK","2014OK",0,0,0,398,0,398,506,0]
[2014,"OR","2014OR",0,0,0,0,0,0,0,0]
[2014,"PA","2014PA",14228.821860163998,3246.88,920.73,52912,0,52912,7998,0]
[2014,"RI","2014RI",0,0,0,0,0,0,0,0]
[2014,"SC","2014SC",0,0,0,0,0,0,0,0]
[2014,"SD","2014SD",0,0,0,0,0,0,0,0]
[2014,"TN","2014TN",0,0,0,622,0,622,218,0]
[2014,"TX","2014TX",0,0,0,0,0,0,43654,0]
[2014,"UT","2014UT",693.72,333.98,0,17379,0,17379,555,0]
[2014,"VT","2014VT",0,0,0,0,0,0,0,0]
[2014,"VA","2014VA",5363.5232524080002,19966.082584566,19966.082584566,11067,0,11067,3992,0]
[2014,"WA","2014WA",0,0,0,0,0,0,0,0]
[2014,"WV","2014WV",30861.794223664008,5463.44,3954.1899999999996,34116,47520,81636,29213,1339]
[2014,"WI","2014WI",0,0,0,0,0,0,0,0]
[2014,"WY","2014WY",2.4719287319999994,0,0,3370,0,3370,392295,0]
[2015,"AL","2015AL",11151.701812937292,12440.259320000001,11843.032999999999,9897,0,9897,3294,0]
[2015,"AK","2015AK",0,0,0,0,0,0,1177,0]
[2015,"AZ","2015AZ",0,0,0,0,0,0,6805,0]
[2015,"AR","2015AR",548.95335395382256,0,0,91,0,91,0,0]
[2015,"CA","2015CA",0,0,0,0,0,0,0,0]
[2015,"CO","2015CO",1517.3987532211661,1320.13,774.78,13141,0,13141,5738,0]
[2015,"CT","2015CT",0,0,0,0,0,0,0,0]
[2015,"DE","2015DE",0,0,0,0,0,0,0,0]
[2015,"FL","2015FL",0,0,0,0,0,0,0,0]
[2015,"GA","2015GA",0,0,0,0,0,0,0,0]
[2015,"HI","2015HI",0,0,0,0,0,0,0,0]
[2015,"ID","2015ID",0,0,0,0,0,0,0,0]
[2015,"IL","2015IL",9202.5083071868394,0,0,51973,0,51973,4128,0]
[2015,"IN","2015IN",5027.6434050291673,367.14,0,15608,0,15608,18688,0]
[2015,"IA","2015IA",0,0,0,0,0,0,0,0]
[2015,"KS","2015KS",0,0,0,0,0,0,199,0]
[2015,"KY","2015KY",4587.4129292338603,0,0,14598,28780,43378,13503,4544]
[2015,"LA","2015LA",0,0,0,0,0,0,3439,0]
[2015,"ME","2015ME",0,0,0,0,0,0,0,0]
[2015,"MD","2015MD",0,0,0,599,0,599,1323,0]
[2015,"MA","2015MA",0,0,0,0,0,0,0,0]
[2015,"MI","2015MI",0,0,0,0,0,0,0,0]
[2015,"MN","2015MN",0,0,0,0,0,0,0,0]
[2015,"MS","2015MS",0,0,0,0,0,0,3143,0]
[2015,"MO","2015MO",0,0,0,0,0,0,138,0]
[2015,"MT","2015MT",25.913709360000002,0,0,6420,0,6420,35444,0]
[2015,"NE","2015NE",0,0,0,0,0,0,0,0]
[2015,"NV","2015NV",0,0,0,0,0,0,0,0]
[2015,"NH","2015NH",0,0,0,0,0,0,0,0]
[2015,"NJ","2015NJ",0,0,0,0,0,0,0,0]
[2015,"NM","2015NM",1616.9379614875916,633.38,0,6518,0,6518,13161,0]
[2015,"NY","2015NY",0,0,0,0,0,0,0,0]
[2015,"NC","2015NC",0,0,0,0,0,0,0,0]
[2015,"ND","2015ND",0,0,0,0,0,0,28802,0]
[2015,"OH","2015OH",1644.6528865721677,0,0,12220,0,12220,4821,0]
[2015,"OK","2015OK",640.49816750000002,0,0,391,0,391,389,0]
[2015,"OR","2015OR",0,0,0,0,0,0,0,0]
[2015,"PA","2015PA",13064.233097278895,4538.8599999999997,689.41000000000008,43894,0,43894,6137,0]
[2015,"RI","2015RI",0,0,0,0,0,0,0,0]
[2015,"SC","2015SC",0,0,0,0,0,0,0,0]
[2015,"SD","2015SD",0,0,0,0,0,0,0,0]
[2015,"TN","2015TN",12.696971760000002,0,0,531,0,531,366,0]
[2015,"TX","2015TX",0,0,0,0,0,0,35918,0]
[2015,"UT","2015UT",776.68346178547199,495,0,14103,0,14103,316,0]
[2015,"VT","2015VT",0,0,0,0,0,0,0,0]
[2015,"VA","2015VA",4948.5331754256958,18682.236464566002,18682.236464566002,9677,0,9677,4237,0]
[2015,"WA","2015WA",0,0,0,0,0,0,0,0]
[2015,"WV","2015WV",29514.429864274058,4442.51,1851.48,28424,46865,75289,19424,920]
[2015,"WI","2015WI",0,0,0,0,0,0,0,0]
[2015,"WY","2015WY",4.9848050000000006,0,0,3090,0,3090,372682,0]
[2016,"AL","2016AL",8625.8137322665225,13313.110519999998,11741.566439999999,7434,0,7434,2209,0]
[2016,"AK","2016AK",0,0,0,0,0,0,932,0]
[2016,"AZ","2016AZ",0,0,0,0,0,0,5423,0]
[2016,"AR","2016AR",241.66467499999999,0,0,37,0,37,13,0]
[2016,"CA","2016CA",0,0,0,0,0,0,0,0]
[2016,"CO","2016CO",1213.7329064728808,353,88,8785,0,8785,3849,0]
[2016,"CT","2016CT",0,0,0,0,0,0,0,0]
[2016,"DE","2016DE",0,0,0,0,0,0,0,0]
[2016,"FL","2016FL",0,0,0,0,0,0,0,0]
[2016,"GA","2016GA",0,0,0,0,0,0,0,0]
[2016,"HI","2016HI",0,0,0,0,0,0,0,0]
[2016,"ID","2016ID",0,0,0,0,0,0,0,0]
[2016,"IL","2016IL",10035.89618263121,0,0,41257,0,41257,2165,0]
[2016,"IN","2016IN",4989.9839105892606,434,0,12263,0,12263,16503,0]
[2016,"IA","2016IA",0,0,0,0,0,0,0,0]
[2016,"KS","2016KS",0,0,0,0,0,0,27,0]
[2016,"KY","2016KY",3692.3266089261947,0,0,9654,23057,32711,7118,3039]
[2016,"LA","2016LA",0,0,0,0,0,0,2798,0]
[2016,"ME","2016ME",0,0,0,0,0,0,0,0]
[2016,"MD","2016MD",0.73,0,0,709,0,709,907,0]
[2016,"MA","2016MA",0,0,0,0,0,0,0,0]
[2016,"MI","2016MI",0,0,0,0,0,0,0,0]
[2016,"MN","2016MN",0,0,0,0,0,0,0,0]
[2016,"MS","2016MS",0,0,0,0,0,0,2870,0]
[2016,"MO","2016MO",0,0,0,0,0,0,234,0]
[2016,"MT","2016MT",0,0,0,5609,0,5609,26727,0]
[2016,"NE","2016NE",0,0,0,0,0,0,0,0]
[2016,"NV","2016NV",0,0,0,0,0,0,0,0]
[2016,"NH","2016NH",0,0,0,0,0,0,0,0]
[2016,"NJ","2016NJ",0,0,0,0,0,0,0,0]
[2016,"NM","2016NM",1425.1049249643308,261,0,4331,0,4331,9010,0]
[2016,"NY","2016NY",0,0,0,0,0,0,0,0]
[2016,"NC","2016NC",0,0,0,0,0,0,0,0]
[2016,"ND","2016ND",0,0,0,0,0,0,28121,0]
[2016,"OH","2016OH",1224.6303364925122,0,0,9297,0,9297,3267,0]
[2016,"OK","2016OK",789.26991666666675,0,0,384,0,384,271,0]
[2016,"OR","2016OR",0,0,0,0,0,0,0,0]
[2016,"PA","2016PA",11663.425485811771,4383,447,41386,0,41386,4334,0]
[2016,"RI","2016RI",0,0,0,0,0,0,0,0]
[2016,"SC","2016SC",0,0,0,0,0,0,0,0]
[2016,"SD","2016SD",0,0,0,0,0,0,0,0]
[2016,"TN","2016TN",8.19,0,0,423,0,423,221,0]
[2016,"TX","2016TX",0,0,0,0,0,0,39001,0]
[2016,"UT","2016UT",338.98900539840247,0,0,13297,0,13297,669,0]
[2016,"VT","2016VT",0,0,0,0,0,0,0,0]
[2016,"VA","2016VA",5349.8865549188986,19623.216122392401,19623.216122392401,8971,0,8971,3939,0]
[2016,"WA","2016WA",0,0,0,0,0,0,0,0]
[2016,"WV","2016WV",26575.432951038667,3984,1848.955469562462,20752,43293,64045,15481,231]
[2016,"WI","2016WI",0,0,0,0,0,0,0,0]
[2016,"WY","2016WY",0,0,0,1167,0,1167,296051,0]
[2017,"AL","2017AL",10503.508238183907,13705.413742017558,10512.207480000001,10491,0,10491,2370,0]
[2017,"AK","2017AK",0,0,0,0,0,0,959,0]
[2017,"AZ","2017AZ",0,0,0,0,0,0,6221,0]
[2017,"AR","2017AR",764.45836084799976,0,0,24,0,24,19,0]
[2017,"CA","2017CA",0,0,0,0,0,0,0,0]
[2017,"CO","2017CO",858.84610502700014,134.11306357999996,0,11118,0,11118,3929,0]
[2017,"CT","2017CT",0,0,0,0,0,0,0,0]
[2017,"DE","2017DE",0,0,0,0,0,0,0,0]
[2017,"FL","2017FL",0,0,0,0,0,0,0,0]
[2017,"GA","2017GA",0,0,0,0,0,0,0,0]
[2017,"HI","2017HI",0,0,0,0,0,0,0,0]
[2017,"ID","2017ID",0,0,0,0,0,0,0,0]
[2017,"IL","2017IL",7367.9728363765444,0,0,44906,0,44906,3298,0]
[2017,"IN","2017IN",4160.2347470156001,506.05284957700007,0,14396,0,14396,17076,0]
[2017,"IA","2017IA",0,0,0,0,0,0,0,0]
[2017,"KS","2017KS",0,0,0,0,0,0,0,0]
[2017,"KY","2017KY",3484.9857600999267,0,0,9959,21553,31512,8220,2053]
[2017,"LA","2017LA",0,0,0,0,0,0,2079,0]
[2017,"ME","2017ME",0,0,0,0,0,0,0,0]
[2017,"MD","2017MD",2.8032600959999998,0,0,744,0,744,1064,0]
[2017,"MA","2017MA",0,0,0,0,0,0,0,0]
[2017,"MI","2017MI",0,0,0,0,0,0,0,0]
[2017,"MN","2017MN",0,0,0,0,0,0,0,0]
[2017,"MS","2017MS",0,0,0,0,0,0,2604,0]
[2017,"MO","2017MO",0,0,0,0,0,0,244,0]
[2017,"MT","2017MT",0.95351255999999984,0,0,5884,0,5884,29348,0]
[2017,"NE","2017NE",0,0,0,0,0,0,0,0]
[2017,"NV","2017NV",0,0,0,0,0,0,0,0]
[2017,"NH","2017NH",0,0,0,0,0,0,0,0]
[2017,"NJ","2017NJ",0,0,0,0,0,0,0,0]
[2017,"NM","2017NM",1159.3986808000002,273.59777373405473,0,5327,0,5327,8516,0]
[2017,"NY","2017NY",0,0,0,0,0,0,0,0]
[2017,"NC","2017NC",0,0,0,0,0,0,0,0]
[2017,"ND","2017ND",0,0,0,0,0,0,28788,0]
[2017,"OH","2017OH",875.28494463631546,0,0,6801,0,6801,2688,0]
[2017,"OK","2017OK",2340.2158284959996,0,0,319,0,319,242,0]
[2017,"OR","2017OR",0,0,0,0,0,0,0,0]
[2017,"PA","2017PA",13339.306929624616,4225.9274486160984,460.35716373511201,43589,0,43589,5497,0]
[2017,"RI","2017RI",0,0,0,0,0,0,0,0]
[2017,"SC","2017SC",0,0,0,0,0,0,0,0]
[2017,"SD","2017SD",0,0,0,0,0,0,0,0]
[2017,"TN","2017TN",3.1939165439999999,0,0,329,0,329,102,0]
[2017,"TX","2017TX",0,0,0,0,0,0,36382,0]
[2017,"UT","2017UT",217.40626256100001,0,0,13602,0,13602,724,0]
[2017,"VT","2017VT",0,0,0,0,0,0,0,0]
[2017,"VA","2017VA",6235.6682438039943,18075.672224566002,18075.672224566002,9820,0,9820,3382,0]
[2017,"WA","2017WA",0,0,0,0,0,0,0,0]
[2017,"WV","2017WV",26930.781193437047,4539.5786180576706,2526.9651930485547,25944,46608,72552,20092,147]
[2017,"WI","2017WI",0,0,0,0,0,0,0,0]
[2017,"WY","2017WY",0,0,0,1716,0,1716,314739,0]
[2018,"AL","2018AL",11175.34439286156,16737.181472999087,16995.842199999999,12199,0,{"$f":"G1406+H1406","v":12199},2584,0]
[2018,"AK","2018AK",0,0,0,0,0,{"$f":"G1407+H1407","v":0},902,0]
[2018,"AZ","2018AZ",0,0,0,0,0,0,6550,0]
[2018,"AR","2018AR",71.456112000000005,0,0,0,0,0,0,0]
[2018,"CA","2018CA",0,0,0,0,0,0,0,0]
[2018,"CO","2018CO",631.12539949200004,102.07149389999999,0,10414,0,10414,3611,0]
[2018,"CT","2018CT",0,0,0,0,0,0,0,0]
[2018,"DE","2018DE",0,0,0,0,0,0,0,0]
[2018,"FL","2018FL",0,0,0,0,0,0,0,0]
[2018,"GA","2018GA",0,0,0,0,0,0,0,0]
[2018,"HI","2018HI",0,0,0,0,0,0,0,0]
[2018,"ID","2018ID",0,0,0,0,0,0,0,0]
[2018,"IL","2018IL",5348.8227969538948,0,0,46072,0,46072,3491,0]
[2018,"IN","2018IN",4754.2802439681909,532.85639643000002,0,17356,0,17356,17242,0]
[2018,"IA","2018IA",0,0,0,0,0,0,0,0]
[2018,"KS","2018KS",0,0,0,0,0,0,0,0]
[2018,"KY","2018KY",3594.7079137135447,0,0,8976,21988,30964,7932,672]
[2018,"LA","2018LA",99.631114128000007,0,0,0,0,0,1483,0]
[2018,"ME","2018ME",0,0,0,0,0,0,0,0]
[2018,"MD","2018MD",0,0,0,436,0,436,862,0]
[2018,"MA","2018MA",0,0,0,0,0,0,0,0]
[2018,"MI","2018MI",0,0,0,0,0,0,0,0]
[2018,"MN","2018MN",0,0,0,0,0,0,0,0]
[2018,"MS","2018MS",0,0,0,0,0,0,2940,0]
[2018,"MO","2018MO",0,0,0,0,0,0,259,0]
[2018,"MT","2018MT",0,0,0,7566,0,7566,31044,0]
[2018,"NE","2018NE",0,0,0,0,0,0,0,0]
[2018,"NV","2018NV",0,0,0,0,0,0,0,0]
[2018,"NH","2018NH",0,0,0,0,0,0,0,0]
[2018,"NJ","2018NJ",0,0,0,0,0,0,0,0]
[2018,"NM","2018NM",1064.5029297179999,113.1946799426451,0,1848,0,1848,8944,0]
[2018,"NY","2018NY",0,0,0,0,0,0,0,0]
[2018,"NC","2018NC",0,0,0,0,0,0,0,0]
[2018,"ND","2018ND",0,0,0,0,0,0,29643,0]
[2018,"OH","2018OH",779.96814482317131,0,0,6518,0,6518,2475,0]
[2018,"OK","2018OK",2239.5493542240001,0,0,206,0,206,404,0]
[2018,"OR","2018OR",0,0,0,0,0,0,0,0]
[2018,"PA","2018PA",12673.145176137046,5673.6481983866652,229.76467800399996,44634,0,44634,5248,0]
[2018,"RI","2018RI",0,0,0,0,0,0,0,0]
[2018,"SC","2018SC",0,0,0,0,0,0,0,0]
[2018,"SD","2018SD",0,0,0,0,0,0,0,0]
[2018,"TN","2018TN",17.078482511999997,0,0,174,0,174,58,0]
[2018,"TX","2018TX",0,0,0,0,0,0,24823,0]
[2018,"UT","2018UT",190.58623019999996,0,0,13125,0,13125,494,0]
[2018,"VT","2018VT",0,0,0,0,0,0,0,0]
[2018,"VA","2018VA",5678.5349005132848,19685.94531016349,19685.94531016349,9432,0,9432,3283,0]
[2018,"WA","2018WA",0,0,0,0,0,0,0,0]
[2018,"WV","2018WV",22390.01438558802,4087.1749651419568,2117.8749959633665,26724,45482,72206,22526,633]
[2018,"WI","2018WI",0,0,0,0,0,0,0,0]
[2018,"WY","2018WY",2167.3959390719997,0,0,2210,0,2210,301977,0]

{"sheet":"Data Sources","index":10,"n_rows":34,"n_cols":5,"rows_kept":34,"cut":false,"hidden":false,"merged":[[28,1,28,9],[33,4,33,7],[34,3,34,8],[2,1,2,9],[19,3,19,8],[25,3,25,8],[21,3,21,8],[18,4,18,7],[6,3,8,8],[9,4,9,7],[10,3,10,8],[11,4,11,8],[12,3,12,7],[13,4,14,8]]}
[]
[]
[null,"Possible Data Sources for Coal Mining Activity Data"]
[]
[]
[null,null,"Greenhouse Gas Reporting Program emissions data"]
[null,null,null,"- Emissions data are available through the EPA’s Mandatory Reporting Rule (MRR)/Greenhouse Gas Reporting Program (GHGRP) data sets. "]
[]
[]
[null,null,null,null,"https://www.epa.gov/ghgreporting"]
[null,null,null,"- Facility Level GHG Emissions"]
[null,null,null,null,"https://ghgdata.epa.gov/ghgp/main.do"]
[null,null,null,"- Greenhouse Gas Customized Search"]
[null,null,null,null,"https://www.epa.gov/enviro/greenhouse-gas-customized-search"]
[]
[]
[null,null,"Quantity of CH4 emitted from ventilation systems"]
[null,null,null,"- U.S. EPA’s Coalbed Methane Outreach Program (CMOP)"]
[null,null,null,null,"https://www.epa.gov/cmop"]
[null,null,null,"- Mine Safety and Health Administration (MSHA) district offices. For a complete listing of MSHA district offices, see:"]
[null,null,null,null,"https://www.msha.gov"]
[null,null,null,"- Default data taken from the Non-CO2 Gases and Sequestration Branch (NGSB) in the U.S. EPA’s Office of Air and Radiation (estimates can be found in the Inventory of U.S. Greenhouse Gas Emissions and Sinks 1990-2015 (U.S. EPA 2017))"]
[]
[null,null,"Coal production data"]
[null,null,null,"- In-state coal agencies"]
[null,null,null,"- Default data taken from Energy Information Administration’s Annual Coal Report, Table 1:"]
[null,null,null,"http://www.eia.gov/coal/annual/"]
[]
[null,"Possible Data Sources for Abandoned Coal Mine Activity Data"]
[]
[]
[null,null,"Abandoned Coal Mine Data"]
[null,null,null,"Mine Safety and Health Administration's Data Retrieval System"]
[null,null,null,null,"https://arlweb.msha.gov/drs/drshome.htm"]

{"sheet":"constants","index":11,"n_rows":52,"n_cols":16,"rows_kept":52,"cut":false,"hidden":false,"merged":[[0,1,0,2],[1,1,1,2]]}
[null,"Constants",null,null,null,null,null,null,null,1,{"$f":"VLOOKUP(J1,J2:M52,3,FALSE)","v":"XX"},{"$f":"VLOOKUP(J1,J2:M52,2,FALSE)","v":"Select a State . . . "},{"$f":"VLOOKUP(StateID,J2:M52,4,FALSE)","v":0},null,"VersionNumber",0]
[null,"General",null,null,null,null,null,null,null,1,"Select a State . . . ","XX",0,null,"VersionDate","2020-10-06"]
[null,0.90720000000000001,"MT/ton",null,null,null,null,null,null,2,"Alabama","AL",1]
[null,2000,"lbs/ton",null,null,null,null,null,null,3,"Alaska","AK",1]
[null,0.45400000000000001,"kg/lb",null,null,null,null,null,null,4,"Arizona","AZ",1]
[null,1000,"kg/MT",null,null,null,null,null,null,5,"Arkansas","AR",1]
[null,35.31,"ft3 CH4/m3 CH4",null,null,null,null,null,null,6,"California","CA",1]
[null,0.66800000000000004,"kg/m3 CH4",null,null,null,null,null,null,7,"Colorado","CO",1]
[null,{"$f":"1000/1.1023","v":907.19404880703974},"kg/ton",null,null,null,null,null,null,8,"Connecticut","CT",1]
[null,365,"days/year",null,null,null,null,null,null,9,"Delaware","DE",1]
[null,{"$f":"44/28","v":1.5714285714285714},"N2O:N2 (44/28)",null,null,null,null,null,null,10,"Florida","FL",1]
[null,25,"CH4 GWP",null,null,null,null,null,null,11,"Georgia","GA",1]
[null,null,null,null,null,null,null,null,null,12,"Hawaii","HI",1]
[null,{"$f":"12/44","v":0.27272727272727271},"C:CO2 (12/44)",null,null,null,null,null,null,13,"Idaho","ID",1]
[null,100,"lbs/hundredweight",null,null,null,null,null,null,14,"Illinois","IL",1]
[null,0.2,"Volatilization Percent (used in Manure Management-N20 and Ag Soils-Animal)",null,null,null,null,null,null,15,"Indiana","IN",1]
[null,null,null,null,null,null,null,null,null,16,"Iowa","IA",1]
[null,"coal mining",null,null,null,null,null,null,null,17,"Kansas","KS",1]
[null,18.920000000000002,"grams/cubic foot of methane",null,null,null,null,null,null,18,"Kentucky","KY",2]
[null,{"$f":"1/1000000","v":9.9999999999999995E-7},"metric tons/gram",null,null,null,null,null,null,19,"Louisiana","LA",1]
[null,35.314500000000002,"cf / m3",null,null,null,null,null,null,20,"Maine","ME",1]
[null,365,"days / year",null,null,null,null,null,null,21,"Maryland","MD",1]
[null,1000000,"cf / mmcf",null,null,null,null,null,null,22,"Massachusetts","MA",1]
[null,{"$f":"B22*B23/B21","v":10335697.801186481},"mmcfd --> m3/year",null,null,null,null,null,null,23,"Michigan","MI",1]
[null,6.7000000000000004E-7,"Gg/m3",null,null,null,null,null,null,24,"Minnesota","MN",1]
[null,null,null,null,null,null,null,null,null,25,"Mississippi","MS",1]
[null,null,null,null,null,null,null,null,null,26,"Missouri","MO",1]
[null,null,null,null,null,null,null,null,null,27,"Montana","MT",1]
[null,null,null,null,null,null,null,null,null,28,"Nebraska","NE",1]
[null,null,null,null,null,null,null,null,null,29,"Nevada","NV",1]
[null,null,null,null,null,null,null,null,null,30,"New Hampshire","NH",1]
[null,null,null,null,null,null,null,null,null,31,"New Jersey","NJ",1]
[null,null,null,null,null,null,null,null,null,32,"New Mexico","NM",1]
[null,"Percentages for Abandoned Coal Mines",null,null,null,null,null,null,null,33,"New York","NY",1]
[null,0.5,null,null,null,null,null,null,null,34,"North Carolina","NC",1]
[null,0.8,null,null,null,null,null,null,null,35,"North Dakota","ND",1]
[null,0.95,null,null,null,null,null,null,null,36,"Ohio","OH",1]
[null,null,null,null,null,null,null,null,null,37,"Oklahoma","OK",1]
[null,null,null,null,null,null,null,null,null,38,"Oregon","OR",1]
[null,null,null,null,null,null,null,null,null,39,"Pennsylvania","PA",1]
[null,null,null,null,null,null,null,null,null,40,"Rhode Island","RI",1]
[null,null,null,null,null,null,null,null,null,41,"South Carolina","SC",1]
[null,null,null,null,null,null,null,null,null,42,"South Dakota","SD",1]
[null,null,null,null,null,null,null,null,null,43,"Tennessee","TN",1]
[null,null,null,null,null,null,null,null,null,44,"Texas","TX",1]
[null,null,null,null,null,null,null,null,null,45,"Utah","UT",1]
[null,null,null,null,null,null,null,null,null,46,"Vermont","VT",1]
[null,null,null,null,null,null,null,null,null,47,"Virginia","VA",1]
[null,null,null,null,null,null,null,null,null,48,"Washington","WA",1]
[null,null,null,null,null,null,null,null,null,49,"West Virginia","WV",2]
[null,null,null,null,null,null,null,null,null,50,"Wisconsin","WI",1]
[null,null,null,null,null,null,null,null,null,51,"Wyoming","WY",1]

{"sheet":"Documentation","index":12,"n_rows":21,"n_cols":2,"rows_kept":21,"cut":false,"hidden":true,"merged":[[13,0,15,10]]}
["Documentation "]
[]
["Methods, Emission Factors, Data Sources"]
["EIIP (2004) EIIP Volume VIII, Estimating Greenhouse Gas Emissions, Emission Inventory Improvement Program, Technical Report Series (in review)."]
["EPA (2004) Inventory of U.S. Greenhouse Gas Emissions and Sinks: 1990-2002. U.S. Environmental Protection Agency, Washington, DC, EPA, April 2004."]
["ERG (2003) coal 2002.xls. Calculation spreadsheets for the U.S. Inventory"]
[]
["Coal Mining","Methodology Source"]
[null,"EPA (2004), EIIP (2004)"]
[]
[]
[]
["Notes:"]
["For the years 1991 and 1992, no ventilation, degasification, or recovered emissions data were available.   To calculate emissions from underground mines for these years it is assumed that emissions stayed in the same proportion to coal produciton as they did in 1990.  Emissions were grown off of 1990 values using this emissions to production ratio."]
[]
[]
[]
["Abandoned Coal Mines","Methodology Source"]
[null,"Franklin, P., E. Scheehle, R.C. Collings, M.M. Coté, and R.C. Pilcher. White Paper: Proposed Methodology for Estimating Emission Inventories from Abandoned"]
[null,"Coal Mines. U.S. EPA, Prepared for 2006 IPCC Greenhouse Gas Inventories Guidelines Fourth Authors Experts Meeting. Energy : Methane Emissions "]
[null,"for Coal Mining and Handling, Arusha, Tanzania (2004)"]

{"sheet":"AbandonedMethods","index":13,"n_rows":83,"n_cols":7,"rows_kept":83,"cut":false,"hidden":false,"merged":[[67,2,68,2],[71,2,72,2],[81,2,82,2]]}
[]
[null,"Methodology for Abandoned Underground Coal Mine Methane Emissions SIT module"]
[]
[null,"The methodology for determining emissions from abandoned coal mines is based on an EPA White Paper, Proposed Methodology for Estimating Emission"]
[null,"Inventories from Abandoned Coal Mine.   The module uses a database of abandoned coal mines provided by the EPA."]
[]
[null,"1.","The database is of gassy coal mines abandoned since 1972.  Data provided include: state, county, coal basin, mine name and MSHA (Mine Safety and"]
[null,null,"Health Administration) number, methane emissions when active (in million cubic feet per day), date of abandonment, and mine status (whether the mine is vented,"]
[null,null,"flooded, or sealed).  Many of the mines on the list are of unknown status.  In addition, some mines are known to be recovering methane, either to be flared onsite,"]
[null,null,"or collected for energy recovery (e.g., electricity production)."]
[]
[null,"2.","Different coal seams vary in the amount of gas present initially, and the way by which the methane is adsorbed to the coal—some coals release methane"]
[null,null,"more readily than others.  These methane release characteristics were assigned to the mines based on the known coal rank of the basin they are located in."]
[null,null,"Coal rank (sub-bituminous, bituminous, anthracite) is a general measure of coal quality."]
[]
[null,"3.","Methane emissions from abandoned mines vary based on the status of the mine (either vented, sealed, or flooded), the time since abandonment,"]
[null,null,"and the nature of the coal seam."]
[]
[null,null,"a. A vented mine is one that can release methane to the atmosphere freely.  The emissions of such a mine will depend only on time since"]
[null,null,"abandonment and coal characteristics.  "]
[]
[null,null,"b. A sealed mine has been sealed to prevent the escape of methane. However, given the nature of rock used to seal mines, such sealing is never"]
[null,null,"100 percent effective.  The effect of a seal is not to prevent methane emissions, but to slow them—to spread them out over a longer period of time."]
[]
[null,null,"c. A completely flooded mine releases little to no methane to the atmosphere.  After a mine is abandoned, if it is in an area prone to flooding,"]
[null,null,"it will gradually fill up with water.  Therefore, most emissions will occur in the first few years following abandonment, dropping off quickly as the mine floods."]
[]
[null,"4.","Each status of mine has a decline curve associated with it that characterizes the pattern of methane emissions over time."]
[]
[null,null,"a. Vented:  q = qi × (1 + aT)b "]
[null,null,"b. Sealed:   q = qi × (1-c)*(1 + aT)b"]
[null,null,"c. Flooded:  q = qi × e(-DT)"]
[]
[null,null,"Where,"]
[null,null,"q = current emission rate, m3/yr"]
[null,null,"qi = emission rate at abandonment, m3/yr "]
[null,null,"a = constant unique to each decline curve"]
[null,null,"b = constant unique to each decline curve"]
[null,null,"T = time since abandonment, yr"]
[null,null,"c = degree of sealing of the mine (50%, 80%, or 95%)"]
[null,null,"D = decline rate, fraction per year (given as -0.672)"]
[]
[null,"5.","The constants “a” and “b” for the three coal ranks were also provided, and are shown in Table 1 below:"]
[]
[null,null,"Table 1: Constants “a” and “b” by Coal Rank"]
[null,null,"Coal Rank","a","b"]
[null,null,"Anthracite",1.72,-0.57999999999999996]
[null,null,"Bituminous",3.72,-0.42]
[null,null,"Sub-bituminous",0.27,-0.99]
[]
[null,"6.","Default emissions for a state are calculated separately for each status of mine in that state, using the decline equations and constants listed in 4. and 5. above."]
[null,null,"The coal rank, based on the coal basin location of the mine, is used to determine which values of “a” and “b” to use.  The emissions from each status of mine"]
[null,null,"are then added together, along with emissions from mines of unknown status (methodology described in number 7, below)."]
[]
[null,"7.","The complex issue of determining emissions from mines of unknown status was resolved in the following manner:"]
[]
[null,null,"a. The percentage of known-status mines in a particular state and coal basin belonging to each status was determined, as shown in Table 2.  "]
[]
[null,null,"b. The emissions for mines of unknown status was then calculated for each status and multiplied by the appropriate percentage.  For example,"]
[null,null,"emissions were calculated for all the mines of unknown status in Alabama as if they were all flooded.  That number was then multiplied by 92 percent,"]
[null,null,"the proportion of flooded mines among mines of known status in Alabama.  The same procedure was done for each status of mine, and the results"]
[null,null,"added together, to give an estimate of emissions from mines of unknown status in Alabama that reflects what is known about mine characteristics there, "]
[null,null,"without artificially assigning unknown mines to a particular status."]
[]
[null,null,"Table 2: Known Mine Status Distribution by State and Coal Basin"]
[null,null,"State","Basin","Flooded","Vented","Sealed"]
[null,null,"AL","Warrior",0.92,0,0.08]
[null,null,"CO","Piceance",0.14000000000000001,0,0.86]
[null,null,null,"Raton",0,0,1]
[null,null,"IL","Illinois",0.16,0.16,0.68]
[null,null,"IN","Illinois",0,0,1]
[null,null,"KY","Central Appl.",0.33,0.17,0.5]
[null,null,null,"Illinois",0.69,0,0.31]
[null,null,"MD","Central Appl.",0.63,0.13,0.25]
[null,null,"NM","Raton",0,0,1]
[null,null,"OH","Northern Appl.",7.0000000000000007E-2,0.56999999999999995,0.36]
[null,null,"OK","Arkoma",0.1,0,0.9]
[null,null,"PA","Northern Appl.",0.41,0.1,0.49]
[null,null,"TN","Central Appl.",0.33,0.17,0.5]
[null,null,"UT","Uinta",0.1,0,0.9]
[null,null,"VA","Central Appl.",0.63,0.13,0.25]
[null,null,"WV","Central Appl.",0.73,7.0000000000000007E-2,0.2]
[null,null,null,"Northern Appl.",0.23,0.19,0.57999999999999996]

{"sheet":"Notes","index":14,"n_rows":4,"n_cols":26,"rows_kept":4,"cut":false,"hidden":false,"merged":[]}
[null,null,null,null,null,null,null,null,null,null,null,null,null,null,null,null,null,null,null,null,null,null,null,null,null,"Control"]
[null,null,null,null,null,null,null,null,null,null,null,null,null,null,null,null,null,null,null,null,null,null,null,null,null,"$A$13"]
["Notes and Comments"]
["Use this sheet to keep a record of data sources, edits, or any other useful notes about the use of this tool."]