{"text_format":"1","workbook":"xlsx","n_sheets":25,"sheets":["Control","Default State Energy Data Table","Residential N2O","Residential CH4","Commercial N2O","Commercial CH4","Electric Power N2O","Electric Power CH4","Industrial N2O","Industrial CH4","Summary N2O","Summary CH4","Total Summary","Tracker","Uncertainty","Constants","FF Consumption","Non-Energy Consump.","Synthetic NG","Emission Factors","Ethanol","Code Key","Documentation","Data Sources","Notes"],"not_rendered":{"charts":13,"images":126,"macros":1,"external_links":3,"defined_names":227,"comments":13,"pivot_tables":0},"unopened":[],"bounds":{"document_bytes":16777216,"sheet_cells":100000,"rows_first":2000,"rows_last":500,"rows_between":2000,"halvings":0,"cell_chars":16384,"cell_head_chars":4096},"cells_cut":0,"cells_raw":0,"read":"whole","date_system":"1900"}

{"sheet":"Control","index":0,"n_rows":88,"n_cols":14,"rows_kept":88,"cut":false,"hidden":false,"merged":[[49,1,49,5],[49,7,49,11],[38,1,38,5],[38,7,38,11],[13,0,13,4],[24,0,24,3],[48,0,48,3],[14,1,14,5],[14,7,14,11],[25,1,25,5],[25,7,25,11]]}
["State Inventory Tool - CH4 and N2O Emissions from Stationary Combustion Module"]
["State",null,"Year",null,null,null,null,null,null,null,null,null,null,1]
["1. Choose a State",null,null,null,null,null,null,null,null,null,null,null,null,2]
["This is very important - it selects the correct default variables for your state.",null,null,null,null,null,null,null,null,null,null,null,null,3]
[null,null,null,null,null,null,null,null,null,null,null,null,null,4]
["2. Complete the Bulk Data Energy Consumption Worksheet"]
[]
["3.-6. Fill In the emission factors that are used throughout the module and then proceed to the corresponding sector worksheet to input activity data.",null,null,null,null,null,null,null,null,null,null,null,null,5]
["Enter the emission factors in the boxes below or check the boxes to use default values",null,null,null,null,null,null,null,null,null,null,null,null,6]
["The default GWPs used in this module are from the IPCC Fourth Assessment Report (AR4) but can be adjusted in the Constants tab to reflect other sources."]
[null,null,null,null,null,null,null,null,null,null,null,null,null,7]
[null,null,null,null,null,null,null,null,null,null,null,null,null,14]
[]
["3. Residential Emission Factors"]
[null,"N2O Emission Factors (metric tons N2O gas/Billion BTU)",null,null,null,null,null,"CH4 Emission Factors (metric tons CH4 gas/BBTU)"]
["Fuel Type","Default N2O Emission Factors",null,"N2O Emission Factor Used",null,"Use the Default? (Check for Yes)",null,"Default CH4\nEmission Factors",null,"CH4 Emission Factor Used",null,"Use the Default? (Check for Yes)"]
["Coal",1.5E-3,null,null,null,null,null,0.30069000000000001]
["Distillate Fuel",5.9999999999999995E-4,null,null,null,null,null,1.0019999999999999E-2]
["Kerosene",5.9999999999999995E-4,null,null,null,null,null,1.0019999999999999E-2]
["LPG",5.9999999999999995E-4,null,null,null,null,null,1.0019999999999999E-2]
["Natural Gas",9.0000000000000006E-5,null,null,null,null,null,4.7499999999999999E-3]
["Wood",3.8E-3,null,null,null,null,null,0.28487000000000001]
["Other","NA",null,null,null,null,null,"NA"]
[]
["4. Commercial Emission Factors"]
[null,"N2O Emission Factors (metric tons N2O gas/BBTU)",null,null,null,null,null,"CH4 Emission Factors (metric tons CH4 gas/BBTU)"]
["Fuel Type","Default N2O Emission Factors",null,"N2O Emission Factor Used",null,"Use the Default? (Check for Yes)",null,"Default CH4\nEmission Factors",null,"CH4 Emission Factor Used",null,"Use the Default? (Check for Yes)"]
["Coal",1.5E-3,null,null,null,null,null,1.0019999999999999E-2]
["Distillate Fuel",5.9999999999999995E-4,null,null,null,null,null,1.0019999999999999E-2]
["Kerosene",5.9999999999999995E-4,null,null,null,null,null,1.0019999999999999E-2]
["LPG",5.9999999999999995E-4,null,null,null,null,null,1.0019999999999999E-2]
["Motor Gasoline",5.9999999999999995E-4,null,null,null,null,null,1.0019999999999999E-2]
["Residual Fuel",5.9999999999999995E-4,null,null,null,null,null,1.0019999999999999E-2]
["Natural Gas",9.0000000000000006E-5,null,null,null,null,null,4.7499999999999999E-3]
["Wood",3.8E-3,null,null,null,null,null,0.28487000000000001]
["Other","NA",null,null,null,null,null,"NA"]
[]
["5. Electric Power Emission Factors",null,null,null,null,null,null,null,null,null,null,null,null,27]
[null,"N2O Emission Factors (metric tons N2O gas/BBTU)",null,null,null,null,null,"CH4 Emission Factors (metric tons CH4 gas/BBTU)",null,null,null,null,null,28]
["Fuel Type","Default N2O Emission Factors",null,"N2O Emission Factor Used",null,"Use the Default? (Check for Yes)",null,"Default CH4\nEmission Factors",null,"CH4 Emission Factor Used",null,"Use the Default? (Check for Yes)",null,29]
["Coal",1.5E-3,null,null,null,null,null,1E-3,null,null,null,null,null,30]
["Distillate Fuel",5.9999999999999995E-4,null,null,null,null,null,3.0100000000000001E-3,null,null,null,null,null,31]
["Petroleum Coke",5.9999999999999995E-4,null,null,null,null,null,3.0100000000000001E-3,null,null,null,null,null,32]
["Residual Fuel",5.9999999999999995E-4,null,null,null,null,null,3.0100000000000001E-3,null,null,null,null,null,33]
["Natural Gas",9.0000000000000006E-5,null,null,null,null,null,9.5E-4,null,null,null,null,null,34]
["Wood",3.8E-3,null,null,null,null,null,2.8490000000000001E-2]
["Other","NA",null,null,null,null,null,"NA",null,null,null,null,null,36]
[null,null,null,null,null,null,null,null,null,null,null,null,null,37]
["6. Industrial Emission Factors"]
[null,"N2O Emission Factors (metric tons N2O gas/BBTU)",null,null,null,null,null,"CH4 Emission Factors (metric tons CH4 gas/BBTU)"]
["Fuel Type","Default N2O Emission Factors",null,"N2O Emission Factor Used",null,"Use the Default? (Check for Yes)",null,"Default CH4\nEmission Factors",null,"CH4 Emission Factor Used",null,"Use the Default? (Check for Yes)"]
["Coking Coal",1.5E-3,null,null,null,null,null,1.0019999999999999E-2]
["Independent Power Coal",1.5E-3,null,null,null,null,null,1.0019999999999999E-2]
["Other Coal",1.5E-3,null,null,null,null,null,1.0019999999999999E-2]
["Asphalt and Road Oil",5.9999999999999995E-4,null,null,null,null,null,3.0100000000000001E-3]
["Aviation Gasoline Blending Components",5.9999999999999995E-4,null,null,null,null,null,3.0100000000000001E-3]
["Crude Oil",5.9999999999999995E-4,null,null,null,null,null,3.0100000000000001E-3]
["Distillate Fuel",5.9999999999999995E-4,null,null,null,null,null,3.0100000000000001E-3]
["Feedstocks, Naphtha less than 401 F",5.9999999999999995E-4,null,null,null,null,null,3.0100000000000001E-3]
["Feedstocks, Other Oils greater than 401 F",5.9999999999999995E-4,null,null,null,null,null,3.0100000000000001E-3]
["Kerosene",5.9999999999999995E-4,null,null,null,null,null,3.0100000000000001E-3]
["LPG",5.9999999999999995E-4,null,null,null,null,null,3.0100000000000001E-3]
["Lubricants",5.9999999999999995E-4,null,null,null,null,null,3.0100000000000001E-3]
["Motor Gasoline",5.9999999999999995E-4,null,null,null,null,null,3.0100000000000001E-3]
["Motor Gasoline Blending Components",5.9999999999999995E-4,null,null,null,null,null,3.0100000000000001E-3]
["Misc. Petro Products",5.9999999999999995E-4,null,null,null,null,null,3.0100000000000001E-3]
["Pentanes Plus",5.9999999999999995E-4,null,null,null,null,null,3.0100000000000001E-3]
["Petroleum Coke",5.9999999999999995E-4,null,null,null,null,null,3.0100000000000001E-3]
["Residual Fuel",5.9999999999999995E-4,null,null,null,null,null,3.0100000000000001E-3]
["Still Gas",5.9999999999999995E-4,null,null,null,null,null,3.0100000000000001E-3]
["Special Naphthas",5.9999999999999995E-4,null,null,null,null,null,3.0100000000000001E-3]
["Unfinished Oils",5.9999999999999995E-4,null,null,null,null,null,3.0100000000000001E-3]
["Waxes",5.9999999999999995E-4,null,null,null,null,null,3.0100000000000001E-3]
["Natural Gas",9.0000000000000006E-5,null,null,null,null,null,9.5E-4]
["Wood",3.8E-3,null,null,null,null,null,2.8490000000000001E-2]
["Other","NA",null,null,null,null,null,"NA"]
[]
[null,null,null,null,null,null,null,null,null,null,null,null,null,38]
[]
[]
[{"$f":"\"7. Go to the Summary Worksheets for \" &Constants!G2","v":"7. Go to the Summary Worksheets for Select a State . . ."},null,null,null,null,null,null,null,null,null,null,null,null,39]
[null,null,null,null,null,null,null,null,null,null,null,null,null,40]
[null,null,null,null,null,null,null,null,null,null,null,null,null,41]
[]
[]
[null,null,null,null,null,null,null,null,null,null,null,null,null,44]
[]
["8. Export the results for use in the Synthesis Tool.",null,null,null,null,null,null,null,null,null,null,null,null,45]

{"sheet":"Default State Energy Data Table","index":1,"n_rows":117,"n_cols":33,"rows_kept":117,"cut":false,"hidden":false,"merged":[]}
[null,{"$f":"\"Default Energy Consumption in \"&StateName&\", billion btu (Bbtu)\"","v":"Default Energy Consumption in Select a State . . ., billion btu (Bbtu)"},null,null,null,null,null,null,null,null,null,null,null,"Industrial N2O"]
[]
[]
[]
[null,"Sector and Fuel",1990,1991,1992,1993,1994,1995,1996,1997,1998,1999,2000,2001,2002,2003,2004,2005,2006,2007,2008,2009,2010,2011,2012,2013,2014,2015,2016,2017,2018,2019,2020]
[{"$f":"StateID&\" \"&B6","v":"xx Commercial Coal"},"Commercial Coal",{"$f":"VLOOKUP(StateID&\" \"&$B6,ConsumeBlock,C$5-1988,FALSE)","v":{"$error":"#N/A"}},{"$error":"#N/A"},{"$error":"#N/A"},{"$error":"#N/A"},{"$error":"#N/A"},{"$error":"#N/A"},{"$error":"#N/A"},{"$error":"#N/A"},{"$error":"#N/A"},{"$error":"#N/A"},{"$error":"#N/A"},{"$error":"#N/A"},{"$error":"#N/A"},{"$error":"#N/A"},{"$error":"#N/A"},{"$error":"#N/A"},{"$error":"#N/A"},{"$f":"VLOOKUP(StateID&\" \"&$B6,ConsumeBlock,T$5-1988,FALSE)","v":{"$error":"#N/A"}},{"$error":"#N/A"},{"$error":"#N/A"},{"$error":"#N/A"},{"$error":"#N/A"},{"$error":"#N/A"},{"$error":"#N/A"},{"$error":"#N/A"},{"$error":"#N/A"},{"$error":"#N/A"},{"$error":"#N/A"},{"$error":"#N/A"},{"$error":"#N/A"},{"$error":"#N/A"}]
["xx Commercial Distillate Fuel","Commercial Distillate Fuel",{"$error":"#N/A"},{"$error":"#N/A"},{"$error":"#N/A"},{"$error":"#N/A"},{"$error":"#N/A"},{"$error":"#N/A"},{"$error":"#N/A"},{"$error":"#N/A"},{"$error":"#N/A"},{"$error":"#N/A"},{"$error":"#N/A"},{"$error":"#N/A"},{"$error":"#N/A"},{"$error":"#N/A"},{"$error":"#N/A"},{"$error":"#N/A"},{"$error":"#N/A"},{"$error":"#N/A"},{"$error":"#N/A"},{"$error":"#N/A"},{"$error":"#N/A"},{"$error":"#N/A"},{"$error":"#N/A"},{"$error":"#N/A"},{"$error":"#N/A"},{"$error":"#N/A"},{"$error":"#N/A"},{"$error":"#N/A"},{"$error":"#N/A"},{"$error":"#N/A"},{"$error":"#N/A"}]
["xx Commercial Kerosene","Commercial Kerosene",{"$error":"#N/A"},{"$error":"#N/A"},{"$error":"#N/A"},{"$error":"#N/A"},{"$error":"#N/A"},{"$error":"#N/A"},{"$error":"#N/A"},{"$error":"#N/A"},{"$error":"#N/A"},{"$error":"#N/A"},{"$error":"#N/A"},{"$error":"#N/A"},{"$error":"#N/A"},{"$error":"#N/A"},{"$error":"#N/A"},{"$error":"#N/A"},{"$error":"#N/A"},{"$error":"#N/A"},{"$error":"#N/A"},{"$error":"#N/A"},{"$error":"#N/A"},{"$error":"#N/A"},{"$error":"#N/A"},{"$error":"#N/A"},{"$error":"#N/A"},{"$error":"#N/A"},{"$error":"#N/A"},{"$error":"#N/A"},{"$error":"#N/A"},{"$error":"#N/A"},{"$error":"#N/A"}]
["xx Commercial Hydrocarbon Gas Liquids","Commercial Hydrocarbon Gas Liquids",{"$error":"#N/A"},{"$error":"#N/A"},{"$error":"#N/A"},{"$error":"#N/A"},{"$error":"#N/A"},{"$error":"#N/A"},{"$error":"#N/A"},{"$error":"#N/A"},{"$error":"#N/A"},{"$error":"#N/A"},{"$error":"#N/A"},{"$error":"#N/A"},{"$error":"#N/A"},{"$error":"#N/A"},{"$error":"#N/A"},{"$error":"#N/A"},{"$error":"#N/A"},{"$error":"#N/A"},{"$error":"#N/A"},{"$error":"#N/A"},{"$error":"#N/A"},{"$error":"#N/A"},{"$error":"#N/A"},{"$error":"#N/A"},{"$error":"#N/A"},{"$error":"#N/A"},{"$error":"#N/A"},{"$error":"#N/A"},{"$error":"#N/A"},{"$error":"#N/A"},{"$error":"#N/A"}]
["xx Commercial Motor Gasoline","Commercial Motor Gasoline",{"$f":"VLOOKUP(StateID&\" \"&$B10,ConsumeBlock,C$5-1988,FALSE)-VLOOKUP(StateID,CommercialEthanol,C$5-1988,FALSE)","v":{"$error":"#N/A"}},{"$error":"#N/A"},{"$error":"#N/A"},{"$error":"#N/A"},{"$error":"#N/A"},{"$error":"#N/A"},{"$error":"#N/A"},{"$error":"#N/A"},{"$error":"#N/A"},{"$error":"#N/A"},{"$error":"#N/A"},{"$error":"#N/A"},{"$error":"#N/A"},{"$error":"#N/A"},{"$error":"#N/A"},{"$error":"#N/A"},{"$error":"#N/A"},{"$error":"#N/A"},{"$error":"#N/A"},{"$error":"#N/A"},{"$error":"#N/A"},{"$error":"#N/A"},{"$error":"#N/A"},{"$error":"#N/A"},{"$error":"#N/A"},{"$error":"#N/A"},{"$error":"#N/A"},{"$error":"#N/A"},{"$error":"#N/A"},{"$error":"#N/A"},{"$error":"#N/A"}]
["xx Commercial Natural Gas","Commercial Natural Gas",{"$error":"#N/A"},{"$error":"#N/A"},{"$error":"#N/A"},{"$error":"#N/A"},{"$error":"#N/A"},{"$error":"#N/A"},{"$error":"#N/A"},{"$error":"#N/A"},{"$error":"#N/A"},{"$error":"#N/A"},{"$error":"#N/A"},{"$error":"#N/A"},{"$error":"#N/A"},{"$error":"#N/A"},{"$error":"#N/A"},{"$error":"#N/A"},{"$error":"#N/A"},{"$error":"#N/A"},{"$error":"#N/A"},{"$error":"#N/A"},{"$error":"#N/A"},{"$error":"#N/A"},{"$error":"#N/A"},{"$error":"#N/A"},{"$error":"#N/A"},{"$error":"#N/A"},{"$error":"#N/A"},{"$error":"#N/A"},{"$error":"#N/A"},{"$error":"#N/A"},{"$error":"#N/A"}]
["xx Commercial Residual Fuel","Commercial Residual Fuel",{"$error":"#N/A"},{"$error":"#N/A"},{"$error":"#N/A"},{"$error":"#N/A"},{"$error":"#N/A"},{"$error":"#N/A"},{"$error":"#N/A"},{"$error":"#N/A"},{"$error":"#N/A"},{"$error":"#N/A"},{"$error":"#N/A"},{"$error":"#N/A"},{"$error":"#N/A"},{"$error":"#N/A"},{"$error":"#N/A"},{"$error":"#N/A"},{"$error":"#N/A"},{"$error":"#N/A"},{"$error":"#N/A"},{"$error":"#N/A"},{"$error":"#N/A"},{"$error":"#N/A"},{"$error":"#N/A"},{"$error":"#N/A"},{"$error":"#N/A"},{"$error":"#N/A"},{"$error":"#N/A"},{"$error":"#N/A"},{"$error":"#N/A"},{"$error":"#N/A"},{"$error":"#N/A"}]
["xx Commercial Wood","Commercial Wood",{"$error":"#N/A"},{"$error":"#N/A"},{"$error":"#N/A"},{"$error":"#N/A"},{"$error":"#N/A"},{"$error":"#N/A"},{"$error":"#N/A"},{"$error":"#N/A"},{"$error":"#N/A"},{"$error":"#N/A"},{"$error":"#N/A"},{"$error":"#N/A"},{"$error":"#N/A"},{"$error":"#N/A"},{"$error":"#N/A"},{"$error":"#N/A"},{"$error":"#N/A"},{"$error":"#N/A"},{"$error":"#N/A"},{"$error":"#N/A"},{"$error":"#N/A"},{"$error":"#N/A"},{"$error":"#N/A"},{"$error":"#N/A"},{"$error":"#N/A"},{"$error":"#N/A"},{"$error":"#N/A"},{"$error":"#N/A"},{"$error":"#N/A"},{"$error":"#N/A"},{"$error":"#N/A"}]
["xx Commercial Other","Commercial Other"]
["xx Electric Power Coal","Electric Power Coal",{"$error":"#N/A"},{"$error":"#N/A"},{"$error":"#N/A"},{"$error":"#N/A"},{"$error":"#N/A"},{"$error":"#N/A"},{"$error":"#N/A"},{"$error":"#N/A"},{"$error":"#N/A"},{"$error":"#N/A"},{"$error":"#N/A"},{"$error":"#N/A"},{"$error":"#N/A"},{"$error":"#N/A"},{"$error":"#N/A"},{"$error":"#N/A"},{"$error":"#N/A"},{"$error":"#N/A"},{"$error":"#N/A"},{"$error":"#N/A"},{"$error":"#N/A"},{"$error":"#N/A"},{"$error":"#N/A"},{"$error":"#N/A"},{"$error":"#N/A"},{"$error":"#N/A"},{"$error":"#N/A"},{"$error":"#N/A"},{"$error":"#N/A"},{"$error":"#N/A"},{"$error":"#N/A"}]
["xx Electric Power Distillate Fuel","Electric Power Distillate Fuel",{"$error":"#N/A"},{"$error":"#N/A"},{"$error":"#N/A"},{"$error":"#N/A"},{"$error":"#N/A"},{"$error":"#N/A"},{"$error":"#N/A"},{"$error":"#N/A"},{"$error":"#N/A"},{"$error":"#N/A"},{"$error":"#N/A"},{"$error":"#N/A"},{"$error":"#N/A"},{"$error":"#N/A"},{"$error":"#N/A"},{"$error":"#N/A"},{"$error":"#N/A"},{"$error":"#N/A"},{"$error":"#N/A"},{"$error":"#N/A"},{"$error":"#N/A"},{"$error":"#N/A"},{"$error":"#N/A"},{"$error":"#N/A"},{"$error":"#N/A"},{"$error":"#N/A"},{"$error":"#N/A"},{"$error":"#N/A"},{"$error":"#N/A"},{"$error":"#N/A"},{"$error":"#N/A"}]
["xx Electric Power Natural Gas","Electric Power Natural Gas",{"$error":"#N/A"},{"$error":"#N/A"},{"$error":"#N/A"},{"$error":"#N/A"},{"$error":"#N/A"},{"$error":"#N/A"},{"$error":"#N/A"},{"$error":"#N/A"},{"$error":"#N/A"},{"$error":"#N/A"},{"$error":"#N/A"},{"$error":"#N/A"},{"$error":"#N/A"},{"$error":"#N/A"},{"$error":"#N/A"},{"$error":"#N/A"},{"$error":"#N/A"},{"$error":"#N/A"},{"$error":"#N/A"},{"$error":"#N/A"},{"$error":"#N/A"},{"$error":"#N/A"},{"$error":"#N/A"},{"$error":"#N/A"},{"$error":"#N/A"},{"$error":"#N/A"},{"$error":"#N/A"},{"$error":"#N/A"},{"$error":"#N/A"},{"$error":"#N/A"},{"$error":"#N/A"}]
["xx Electric Power Petroleum Coke","Electric Power Petroleum Coke",{"$error":"#N/A"},{"$error":"#N/A"},{"$error":"#N/A"},{"$error":"#N/A"},{"$error":"#N/A"},{"$error":"#N/A"},{"$error":"#N/A"},{"$error":"#N/A"},{"$error":"#N/A"},{"$error":"#N/A"},{"$error":"#N/A"},{"$error":"#N/A"},{"$error":"#N/A"},{"$error":"#N/A"},{"$error":"#N/A"},{"$error":"#N/A"},{"$error":"#N/A"},{"$error":"#N/A"},{"$error":"#N/A"},{"$error":"#N/A"},{"$error":"#N/A"},{"$error":"#N/A"},{"$error":"#N/A"},{"$error":"#N/A"},{"$error":"#N/A"},{"$error":"#N/A"},{"$error":"#N/A"},{"$error":"#N/A"},{"$error":"#N/A"},{"$error":"#N/A"},{"$error":"#N/A"}]
["xx Electric Power Residual Fuel","Electric Power Residual Fuel",{"$error":"#N/A"},{"$error":"#N/A"},{"$error":"#N/A"},{"$error":"#N/A"},{"$error":"#N/A"},{"$error":"#N/A"},{"$error":"#N/A"},{"$error":"#N/A"},{"$error":"#N/A"},{"$error":"#N/A"},{"$error":"#N/A"},{"$error":"#N/A"},{"$error":"#N/A"},{"$error":"#N/A"},{"$error":"#N/A"},{"$error":"#N/A"},{"$error":"#N/A"},{"$error":"#N/A"},{"$error":"#N/A"},{"$error":"#N/A"},{"$error":"#N/A"},{"$error":"#N/A"},{"$error":"#N/A"},{"$error":"#N/A"},{"$error":"#N/A"},{"$error":"#N/A"},{"$error":"#N/A"},{"$error":"#N/A"},{"$error":"#N/A"},{"$error":"#N/A"},{"$error":"#N/A"}]
["xx Electric Power Wood","Electric Power Wood",{"$error":"#N/A"},{"$error":"#N/A"},{"$error":"#N/A"},{"$error":"#N/A"},{"$error":"#N/A"},{"$error":"#N/A"},{"$error":"#N/A"},{"$error":"#N/A"},{"$error":"#N/A"},{"$error":"#N/A"},{"$error":"#N/A"},{"$error":"#N/A"},{"$error":"#N/A"},{"$f":"VLOOKUP(StateID&\" \"&$B20,ConsumeBlock,P$5-1988,FALSE)","v":{"$error":"#N/A"}},{"$f":"VLOOKUP(StateID&\" \"&$B20,ConsumeBlock,Q$5-1988,FALSE)","v":{"$error":"#N/A"}},{"$f":"VLOOKUP(StateID&\" \"&$B20,ConsumeBlock,R$5-1988,FALSE)","v":{"$error":"#N/A"}},{"$error":"#N/A"},{"$error":"#N/A"},{"$error":"#N/A"},{"$error":"#N/A"},{"$error":"#N/A"},{"$error":"#N/A"},{"$error":"#N/A"},{"$error":"#N/A"},{"$error":"#N/A"},{"$error":"#N/A"},{"$error":"#N/A"},{"$error":"#N/A"},{"$error":"#N/A"},{"$error":"#N/A"},{"$error":"#N/A"}]
["xx Electric Power Other","Electric Power Other"]
["xx Industrial Asphalt and Road Oil","Industrial Asphalt and Road Oil",{"$error":"#N/A"},{"$error":"#N/A"},{"$error":"#N/A"},{"$error":"#N/A"},{"$error":"#N/A"},{"$error":"#N/A"},{"$error":"#N/A"},{"$error":"#N/A"},{"$error":"#N/A"},{"$error":"#N/A"},{"$error":"#N/A"},{"$error":"#N/A"},{"$error":"#N/A"},{"$error":"#N/A"},{"$error":"#N/A"},{"$error":"#N/A"},{"$error":"#N/A"},{"$error":"#N/A"},{"$error":"#N/A"},{"$error":"#N/A"},{"$error":"#N/A"},{"$error":"#N/A"},{"$error":"#N/A"},{"$error":"#N/A"},{"$error":"#N/A"},{"$error":"#N/A"},{"$error":"#N/A"},{"$error":"#N/A"},{"$error":"#N/A"},{"$error":"#N/A"},{"$error":"#N/A"}]
["xx Industrial Aviation Gasoline Blending Components","Industrial Aviation Gasoline Blending Components",{"$error":"#N/A"},{"$error":"#N/A"},{"$error":"#N/A"},{"$error":"#N/A"},{"$error":"#N/A"},{"$error":"#N/A"},{"$error":"#N/A"},{"$error":"#N/A"},{"$error":"#N/A"},{"$error":"#N/A"},{"$error":"#N/A"},{"$error":"#N/A"},{"$error":"#N/A"},{"$error":"#N/A"},{"$error":"#N/A"},{"$error":"#N/A"},{"$error":"#N/A"},{"$error":"#N/A"},{"$error":"#N/A"},{"$error":"#N/A"},{"$error":"#N/A"},{"$error":"#N/A"},{"$error":"#N/A"},{"$error":"#N/A"},{"$error":"#N/A"},{"$error":"#N/A"},{"$error":"#N/A"},{"$error":"#N/A"},{"$error":"#N/A"},{"$error":"#N/A"},{"$error":"#N/A"}]
["xx Industrial Coal","Industrial Coal",{"$f":"VLOOKUP(StateID&\" \"&$B24,ConsumeBlock,C$5-1988,FALSE)","v":{"$error":"#N/A"}},{"$error":"#N/A"},{"$error":"#N/A"},{"$error":"#N/A"},{"$error":"#N/A"},{"$error":"#N/A"},{"$error":"#N/A"},{"$error":"#N/A"},{"$error":"#N/A"},{"$error":"#N/A"},{"$error":"#N/A"},{"$error":"#N/A"},{"$error":"#N/A"},{"$error":"#N/A"},{"$error":"#N/A"},{"$error":"#N/A"},{"$error":"#N/A"},{"$f":"VLOOKUP(StateID&\" \"&$B24,ConsumeBlock,T$5-1988,FALSE)","v":{"$error":"#N/A"}},{"$error":"#N/A"},{"$error":"#N/A"},{"$error":"#N/A"},{"$error":"#N/A"},{"$error":"#N/A"},{"$error":"#N/A"},{"$error":"#N/A"},{"$error":"#N/A"},{"$error":"#N/A"},{"$error":"#N/A"},{"$error":"#N/A"},{"$error":"#N/A"},{"$error":"#N/A"}]
[{"$f":"StateID&\" \"&B25","v":"xx Industrial Coking Coal"},"Industrial Coking Coal",{"$error":"#N/A"},{"$error":"#N/A"},{"$error":"#N/A"},{"$error":"#N/A"},{"$error":"#N/A"},{"$error":"#N/A"},{"$error":"#N/A"},{"$error":"#N/A"},{"$error":"#N/A"},{"$error":"#N/A"},{"$error":"#N/A"},{"$error":"#N/A"},{"$f":"VLOOKUP(StateID&\" \"&$B25,ConsumeBlock,O$5-1988,FALSE)","v":{"$error":"#N/A"}},{"$f":"VLOOKUP(StateID&\" \"&$B25,ConsumeBlock,P$5-1988,FALSE)","v":{"$error":"#N/A"}},{"$f":"VLOOKUP(StateID&\" \"&$B25,ConsumeBlock,Q$5-1988,FALSE)","v":{"$error":"#N/A"}},{"$f":"VLOOKUP(StateID&\" \"&$B25,ConsumeBlock,R$5-1988,FALSE)","v":{"$error":"#N/A"}},{"$f":"VLOOKUP(StateID&\" \"&$B25,ConsumeBlock,S$5-1988,FALSE)","v":{"$error":"#N/A"}},{"$error":"#N/A"},{"$error":"#N/A"},{"$error":"#N/A"},{"$error":"#N/A"},{"$error":"#N/A"},{"$error":"#N/A"},{"$error":"#N/A"},{"$error":"#N/A"},{"$error":"#N/A"},{"$error":"#N/A"},{"$error":"#N/A"},{"$error":"#N/A"},{"$error":"#N/A"},{"$error":"#N/A"}]
["xx Industrial Crude Oil","Industrial Crude Oil",{"$error":"#N/A"},{"$error":"#N/A"},{"$error":"#N/A"},{"$error":"#N/A"},{"$error":"#N/A"},{"$error":"#N/A"},{"$error":"#N/A"},{"$error":"#N/A"},{"$error":"#N/A"},{"$error":"#N/A"},{"$error":"#N/A"},{"$error":"#N/A"},{"$error":"#N/A"},{"$error":"#N/A"},{"$error":"#N/A"},{"$error":"#N/A"},{"$error":"#N/A"},{"$error":"#N/A"},{"$error":"#N/A"},{"$error":"#N/A"},{"$error":"#N/A"},{"$error":"#N/A"},{"$error":"#N/A"},{"$error":"#N/A"},{"$error":"#N/A"},{"$error":"#N/A"},{"$error":"#N/A"},{"$error":"#N/A"},{"$error":"#N/A"},{"$error":"#N/A"},{"$error":"#N/A"}]
["xx Industrial Distillate Fuel","Industrial Distillate Fuel",{"$error":"#N/A"},{"$error":"#N/A"},{"$error":"#N/A"},{"$error":"#N/A"},{"$error":"#N/A"},{"$error":"#N/A"},{"$error":"#N/A"},{"$error":"#N/A"},{"$error":"#N/A"},{"$error":"#N/A"},{"$error":"#N/A"},{"$error":"#N/A"},{"$error":"#N/A"},{"$error":"#N/A"},{"$error":"#N/A"},{"$error":"#N/A"},{"$error":"#N/A"},{"$error":"#N/A"},{"$error":"#N/A"},{"$error":"#N/A"},{"$error":"#N/A"},{"$error":"#N/A"},{"$error":"#N/A"},{"$error":"#N/A"},{"$error":"#N/A"},{"$error":"#N/A"},{"$error":"#N/A"},{"$error":"#N/A"},{"$error":"#N/A"},{"$error":"#N/A"},{"$error":"#N/A"}]
["xx Industrial Feedstocks, Naphtha less than 401 F","Industrial Feedstocks, Naphtha less than 401 F",{"$error":"#N/A"},{"$error":"#N/A"},{"$error":"#N/A"},{"$error":"#N/A"},{"$error":"#N/A"},{"$error":"#N/A"},{"$error":"#N/A"},{"$error":"#N/A"},{"$error":"#N/A"},{"$error":"#N/A"},{"$error":"#N/A"},{"$error":"#N/A"},{"$error":"#N/A"},{"$error":"#N/A"},{"$error":"#N/A"},{"$error":"#N/A"},{"$error":"#N/A"},{"$error":"#N/A"},{"$error":"#N/A"},{"$error":"#N/A"},{"$error":"#N/A"},{"$error":"#N/A"},{"$error":"#N/A"},{"$error":"#N/A"},{"$error":"#N/A"},{"$error":"#N/A"},{"$error":"#N/A"},{"$error":"#N/A"},{"$error":"#N/A"},{"$error":"#N/A"},{"$error":"#N/A"}]
["xx Industrial Feedstocks, Other Oils greater than 401 F","Industrial Feedstocks, Other Oils greater than 401 F",{"$error":"#N/A"},{"$error":"#N/A"},{"$error":"#N/A"},{"$error":"#N/A"},{"$error":"#N/A"},{"$error":"#N/A"},{"$error":"#N/A"},{"$error":"#N/A"},{"$error":"#N/A"},{"$error":"#N/A"},{"$error":"#N/A"},{"$error":"#N/A"},{"$error":"#N/A"},{"$error":"#N/A"},{"$error":"#N/A"},{"$error":"#N/A"},{"$error":"#N/A"},{"$error":"#N/A"},{"$error":"#N/A"},{"$error":"#N/A"},{"$error":"#N/A"},{"$error":"#N/A"},{"$error":"#N/A"},{"$error":"#N/A"},{"$error":"#N/A"},{"$error":"#N/A"},{"$error":"#N/A"},{"$error":"#N/A"},{"$error":"#N/A"},{"$error":"#N/A"},{"$error":"#N/A"}]
["xx Industrial Kerosene","Industrial Kerosene",{"$error":"#N/A"},{"$error":"#N/A"},{"$error":"#N/A"},{"$error":"#N/A"},{"$error":"#N/A"},{"$error":"#N/A"},{"$error":"#N/A"},{"$error":"#N/A"},{"$error":"#N/A"},{"$error":"#N/A"},{"$error":"#N/A"},{"$error":"#N/A"},{"$error":"#N/A"},{"$error":"#N/A"},{"$error":"#N/A"},{"$error":"#N/A"},{"$error":"#N/A"},{"$error":"#N/A"},{"$error":"#N/A"},{"$error":"#N/A"},{"$error":"#N/A"},{"$error":"#N/A"},{"$error":"#N/A"},{"$error":"#N/A"},{"$error":"#N/A"},{"$error":"#N/A"},{"$error":"#N/A"},{"$error":"#N/A"},{"$error":"#N/A"},{"$error":"#N/A"},{"$error":"#N/A"}]
["xx Industrial LPG","Industrial LPG",{"$error":"#N/A"},{"$error":"#N/A"},{"$error":"#N/A"},{"$error":"#N/A"},{"$error":"#N/A"},{"$error":"#N/A"},{"$error":"#N/A"},{"$error":"#N/A"},{"$error":"#N/A"},{"$error":"#N/A"},{"$error":"#N/A"},{"$error":"#N/A"},{"$error":"#N/A"},{"$error":"#N/A"},{"$error":"#N/A"},{"$error":"#N/A"},{"$error":"#N/A"},{"$error":"#N/A"},{"$error":"#N/A"},{"$error":"#N/A"},{"$error":"#N/A"},{"$error":"#N/A"},{"$error":"#N/A"},{"$error":"#N/A"},{"$error":"#N/A"},{"$error":"#N/A"},{"$error":"#N/A"},{"$error":"#N/A"},{"$error":"#N/A"},{"$error":"#N/A"},{"$error":"#N/A"}]
["xx Industrial Lubricants","Industrial Lubricants",{"$error":"#N/A"},{"$error":"#N/A"},{"$error":"#N/A"},{"$error":"#N/A"},{"$error":"#N/A"},{"$error":"#N/A"},{"$error":"#N/A"},{"$error":"#N/A"},{"$error":"#N/A"},{"$error":"#N/A"},{"$error":"#N/A"},{"$error":"#N/A"},{"$error":"#N/A"},{"$error":"#N/A"},{"$error":"#N/A"},{"$error":"#N/A"},{"$error":"#N/A"},{"$error":"#N/A"},{"$error":"#N/A"},{"$error":"#N/A"},{"$error":"#N/A"},{"$error":"#N/A"},{"$error":"#N/A"},{"$error":"#N/A"},{"$error":"#N/A"},{"$error":"#N/A"},{"$error":"#N/A"},{"$error":"#N/A"},{"$error":"#N/A"},{"$error":"#N/A"},{"$error":"#N/A"}]
["xx Industrial Misc. Petro Products","Industrial Misc. Petro Products",{"$error":"#N/A"},{"$error":"#N/A"},{"$error":"#N/A"},{"$error":"#N/A"},{"$error":"#N/A"},{"$error":"#N/A"},{"$error":"#N/A"},{"$error":"#N/A"},{"$error":"#N/A"},{"$error":"#N/A"},{"$error":"#N/A"},{"$error":"#N/A"},{"$error":"#N/A"},{"$error":"#N/A"},{"$error":"#N/A"},{"$error":"#N/A"},{"$error":"#N/A"},{"$error":"#N/A"},{"$error":"#N/A"},{"$error":"#N/A"},{"$error":"#N/A"},{"$error":"#N/A"},{"$error":"#N/A"},{"$error":"#N/A"},{"$error":"#N/A"},{"$error":"#N/A"},{"$error":"#N/A"},{"$error":"#N/A"},{"$error":"#N/A"},{"$error":"#N/A"},{"$error":"#N/A"}]
["xx Industrial Motor Gasoline","Industrial Motor Gasoline",{"$f":"VLOOKUP(StateID&\" \"&$B34,ConsumeBlock,C$5-1988,FALSE)-VLOOKUP(StateID,IndustrialEthanol,C$5-1988,FALSE)","v":{"$error":"#N/A"}},{"$error":"#N/A"},{"$error":"#N/A"},{"$error":"#N/A"},{"$error":"#N/A"},{"$error":"#N/A"},{"$error":"#N/A"},{"$error":"#N/A"},{"$error":"#N/A"},{"$error":"#N/A"},{"$error":"#N/A"},{"$error":"#N/A"},{"$error":"#N/A"},{"$error":"#N/A"},{"$error":"#N/A"},{"$error":"#N/A"},{"$error":"#N/A"},{"$error":"#N/A"},{"$error":"#N/A"},{"$error":"#N/A"},{"$error":"#N/A"},{"$error":"#N/A"},{"$error":"#N/A"},{"$error":"#N/A"},{"$error":"#N/A"},{"$error":"#N/A"},{"$error":"#N/A"},{"$error":"#N/A"},{"$error":"#N/A"},{"$error":"#N/A"},{"$error":"#N/A"}]
["xx Industrial Motor Gasoline Blending Components","Industrial Motor Gasoline Blending Components",{"$error":"#N/A"},{"$error":"#N/A"},{"$error":"#N/A"},{"$error":"#N/A"},{"$error":"#N/A"},{"$error":"#N/A"},{"$error":"#N/A"},{"$error":"#N/A"},{"$error":"#N/A"},{"$error":"#N/A"},{"$error":"#N/A"},{"$error":"#N/A"},{"$error":"#N/A"},{"$error":"#N/A"},{"$error":"#N/A"},{"$error":"#N/A"},{"$error":"#N/A"},{"$error":"#N/A"},{"$error":"#N/A"},{"$error":"#N/A"},{"$error":"#N/A"},{"$error":"#N/A"},{"$error":"#N/A"},{"$error":"#N/A"},{"$error":"#N/A"},{"$error":"#N/A"},{"$error":"#N/A"},{"$error":"#N/A"},{"$error":"#N/A"},{"$error":"#N/A"},{"$error":"#N/A"}]
["xx Industrial Natural Gas","Industrial Natural Gas",{"$error":"#N/A"},{"$error":"#N/A"},{"$error":"#N/A"},{"$error":"#N/A"},{"$error":"#N/A"},{"$error":"#N/A"},{"$error":"#N/A"},{"$error":"#N/A"},{"$error":"#N/A"},{"$error":"#N/A"},{"$error":"#N/A"},{"$error":"#N/A"},{"$error":"#N/A"},{"$error":"#N/A"},{"$error":"#N/A"},{"$error":"#N/A"},{"$error":"#N/A"},{"$error":"#N/A"},{"$error":"#N/A"},{"$error":"#N/A"},{"$error":"#N/A"},{"$error":"#N/A"},{"$error":"#N/A"},{"$error":"#N/A"},{"$error":"#N/A"},{"$error":"#N/A"},{"$error":"#N/A"},{"$error":"#N/A"},{"$error":"#N/A"},{"$error":"#N/A"},{"$error":"#N/A"}]
["xx Industrial Pentanes Plus","Industrial Pentanes Plus",{"$error":"#N/A"},{"$error":"#N/A"},{"$error":"#N/A"},{"$error":"#N/A"},{"$error":"#N/A"},{"$error":"#N/A"},{"$error":"#N/A"},{"$error":"#N/A"},{"$error":"#N/A"},{"$error":"#N/A"},{"$error":"#N/A"},{"$error":"#N/A"},{"$error":"#N/A"},{"$error":"#N/A"},{"$error":"#N/A"},{"$error":"#N/A"},{"$error":"#N/A"},{"$error":"#N/A"},{"$error":"#N/A"},{"$error":"#N/A"},{"$error":"#N/A"},{"$error":"#N/A"},{"$error":"#N/A"},{"$error":"#N/A"},{"$error":"#N/A"},{"$error":"#N/A"},{"$error":"#N/A"},{"$error":"#N/A"},{"$error":"#N/A"},{"$error":"#N/A"},{"$error":"#N/A"}]
["xx Industrial Petroleum Coke","Industrial Petroleum Coke",{"$error":"#N/A"},{"$error":"#N/A"},{"$error":"#N/A"},{"$error":"#N/A"},{"$error":"#N/A"},{"$error":"#N/A"},{"$error":"#N/A"},{"$error":"#N/A"},{"$error":"#N/A"},{"$error":"#N/A"},{"$error":"#N/A"},{"$error":"#N/A"},{"$error":"#N/A"},{"$error":"#N/A"},{"$error":"#N/A"},{"$error":"#N/A"},{"$error":"#N/A"},{"$error":"#N/A"},{"$error":"#N/A"},{"$error":"#N/A"},{"$error":"#N/A"},{"$error":"#N/A"},{"$error":"#N/A"},{"$error":"#N/A"},{"$error":"#N/A"},{"$error":"#N/A"},{"$error":"#N/A"},{"$error":"#N/A"},{"$error":"#N/A"},{"$error":"#N/A"},{"$error":"#N/A"}]
["xx Industrial Residual Fuel","Industrial Residual Fuel",{"$error":"#N/A"},{"$error":"#N/A"},{"$error":"#N/A"},{"$error":"#N/A"},{"$error":"#N/A"},{"$error":"#N/A"},{"$error":"#N/A"},{"$error":"#N/A"},{"$error":"#N/A"},{"$error":"#N/A"},{"$error":"#N/A"},{"$error":"#N/A"},{"$error":"#N/A"},{"$error":"#N/A"},{"$error":"#N/A"},{"$error":"#N/A"},{"$error":"#N/A"},{"$error":"#N/A"},{"$error":"#N/A"},{"$error":"#N/A"},{"$error":"#N/A"},{"$error":"#N/A"},{"$error":"#N/A"},{"$error":"#N/A"},{"$error":"#N/A"},{"$error":"#N/A"},{"$error":"#N/A"},{"$error":"#N/A"},{"$error":"#N/A"},{"$error":"#N/A"},{"$error":"#N/A"}]
["xx Industrial Special Naphthas","Industrial Special Naphthas",{"$error":"#N/A"},{"$error":"#N/A"},{"$error":"#N/A"},{"$error":"#N/A"},{"$error":"#N/A"},{"$error":"#N/A"},{"$error":"#N/A"},{"$error":"#N/A"},{"$error":"#N/A"},{"$error":"#N/A"},{"$error":"#N/A"},{"$error":"#N/A"},{"$error":"#N/A"},{"$error":"#N/A"},{"$error":"#N/A"},{"$error":"#N/A"},{"$error":"#N/A"},{"$error":"#N/A"},{"$error":"#N/A"},{"$error":"#N/A"},{"$error":"#N/A"},{"$error":"#N/A"},{"$error":"#N/A"},{"$error":"#N/A"},{"$error":"#N/A"},{"$error":"#N/A"},{"$error":"#N/A"},{"$error":"#N/A"},{"$error":"#N/A"},{"$error":"#N/A"},{"$error":"#N/A"}]
[{"$f":"StateID&\" \"&B41","v":"xx Industrial Still Gas"},"Industrial Still Gas",{"$f":"VLOOKUP(StateID&\" \"&$B41,ConsumeBlock,C$5-1988,FALSE)","v":{"$error":"#N/A"}},{"$error":"#N/A"},{"$error":"#N/A"},{"$error":"#N/A"},{"$error":"#N/A"},{"$error":"#N/A"},{"$error":"#N/A"},{"$error":"#N/A"},{"$error":"#N/A"},{"$error":"#N/A"},{"$error":"#N/A"},{"$error":"#N/A"},{"$error":"#N/A"},{"$error":"#N/A"},{"$error":"#N/A"},{"$error":"#N/A"},{"$error":"#N/A"},{"$f":"VLOOKUP(StateID&\" \"&$B41,ConsumeBlock,T$5-1988,FALSE)","v":{"$error":"#N/A"}},{"$error":"#N/A"},{"$error":"#N/A"},{"$error":"#N/A"},{"$error":"#N/A"},{"$error":"#N/A"},{"$error":"#N/A"},{"$error":"#N/A"},{"$error":"#N/A"},{"$error":"#N/A"},{"$error":"#N/A"},{"$error":"#N/A"},{"$error":"#N/A"},{"$error":"#N/A"}]
["xx Industrial Unfinished Oils","Industrial Unfinished Oils",{"$error":"#N/A"},{"$error":"#N/A"},{"$error":"#N/A"},{"$error":"#N/A"},{"$error":"#N/A"},{"$error":"#N/A"},{"$error":"#N/A"},{"$error":"#N/A"},{"$error":"#N/A"},{"$error":"#N/A"},{"$error":"#N/A"},{"$error":"#N/A"},{"$error":"#N/A"},{"$error":"#N/A"},{"$error":"#N/A"},{"$error":"#N/A"},{"$error":"#N/A"},{"$error":"#N/A"},{"$error":"#N/A"},{"$error":"#N/A"},{"$error":"#N/A"},{"$error":"#N/A"},{"$error":"#N/A"},{"$error":"#N/A"},{"$error":"#N/A"},{"$error":"#N/A"},{"$error":"#N/A"},{"$error":"#N/A"},{"$error":"#N/A"},{"$error":"#N/A"},{"$error":"#N/A"}]
["xx Industrial Waxes","Industrial Waxes",{"$error":"#N/A"},{"$error":"#N/A"},{"$error":"#N/A"},{"$error":"#N/A"},{"$error":"#N/A"},{"$error":"#N/A"},{"$error":"#N/A"},{"$error":"#N/A"},{"$error":"#N/A"},{"$error":"#N/A"},{"$error":"#N/A"},{"$error":"#N/A"},{"$error":"#N/A"},{"$error":"#N/A"},{"$error":"#N/A"},{"$error":"#N/A"},{"$error":"#N/A"},{"$error":"#N/A"},{"$error":"#N/A"},{"$error":"#N/A"},{"$error":"#N/A"},{"$error":"#N/A"},{"$error":"#N/A"},{"$error":"#N/A"},{"$error":"#N/A"},{"$error":"#N/A"},{"$error":"#N/A"},{"$error":"#N/A"},{"$error":"#N/A"},{"$error":"#N/A"},{"$error":"#N/A"}]
["xx Industrial Wood","Industrial Wood",{"$error":"#N/A"},{"$error":"#N/A"},{"$error":"#N/A"},{"$error":"#N/A"},{"$error":"#N/A"},{"$error":"#N/A"},{"$error":"#N/A"},{"$error":"#N/A"},{"$error":"#N/A"},{"$error":"#N/A"},{"$error":"#N/A"},{"$error":"#N/A"},{"$error":"#N/A"},{"$error":"#N/A"},{"$error":"#N/A"},{"$error":"#N/A"},{"$error":"#N/A"},{"$error":"#N/A"},{"$error":"#N/A"},{"$error":"#N/A"},{"$error":"#N/A"},{"$error":"#N/A"},{"$error":"#N/A"},{"$error":"#N/A"},{"$error":"#N/A"},{"$error":"#N/A"},{"$error":"#N/A"},{"$error":"#N/A"},{"$error":"#N/A"},{"$error":"#N/A"},{"$error":"#N/A"}]
["xx Industrial Other Coal","Industrial Other Coal",{"$error":"#N/A"},{"$error":"#N/A"},{"$error":"#N/A"},{"$error":"#N/A"},{"$error":"#N/A"},{"$error":"#N/A"},{"$error":"#N/A"},{"$error":"#N/A"},{"$error":"#N/A"},{"$error":"#N/A"},{"$error":"#N/A"},{"$error":"#N/A"},{"$error":"#N/A"},{"$error":"#N/A"},{"$error":"#N/A"},{"$error":"#N/A"},{"$error":"#N/A"},{"$error":"#N/A"},{"$error":"#N/A"},{"$error":"#N/A"},{"$error":"#N/A"},{"$error":"#N/A"},{"$error":"#N/A"},{"$error":"#N/A"},{"$error":"#N/A"},{"$error":"#N/A"},{"$error":"#N/A"},{"$error":"#N/A"},{"$error":"#N/A"},{"$error":"#N/A"},{"$error":"#N/A"}]
["xx Industrial Other","Industrial Other"]
["xx Residential Coal","Residential Coal",{"$error":"#N/A"},{"$error":"#N/A"},{"$error":"#N/A"},{"$error":"#N/A"},{"$error":"#N/A"},{"$error":"#N/A"},{"$error":"#N/A"},{"$error":"#N/A"},{"$error":"#N/A"},{"$error":"#N/A"},{"$error":"#N/A"},{"$error":"#N/A"},{"$error":"#N/A"},{"$error":"#N/A"},{"$error":"#N/A"},{"$error":"#N/A"},{"$error":"#N/A"},{"$error":"#N/A"},{"$error":"#N/A"},{"$error":"#N/A"},{"$error":"#N/A"},{"$error":"#N/A"},{"$error":"#N/A"},{"$error":"#N/A"},{"$error":"#N/A"},{"$error":"#N/A"},{"$error":"#N/A"},{"$error":"#N/A"},{"$error":"#N/A"},{"$error":"#N/A"},{"$error":"#N/A"}]
["xx Residential Distillate Fuel","Residential Distillate Fuel",{"$error":"#N/A"},{"$error":"#N/A"},{"$error":"#N/A"},{"$error":"#N/A"},{"$error":"#N/A"},{"$error":"#N/A"},{"$error":"#N/A"},{"$error":"#N/A"},{"$error":"#N/A"},{"$error":"#N/A"},{"$error":"#N/A"},{"$error":"#N/A"},{"$error":"#N/A"},{"$error":"#N/A"},{"$error":"#N/A"},{"$error":"#N/A"},{"$error":"#N/A"},{"$error":"#N/A"},{"$error":"#N/A"},{"$error":"#N/A"},{"$error":"#N/A"},{"$error":"#N/A"},{"$error":"#N/A"},{"$error":"#N/A"},{"$error":"#N/A"},{"$error":"#N/A"},{"$error":"#N/A"},{"$error":"#N/A"},{"$error":"#N/A"},{"$error":"#N/A"},{"$error":"#N/A"}]
[{"$f":"StateID&\" \"&B49","v":"xx Residential Kerosene"},"Residential Kerosene",{"$error":"#N/A"},{"$error":"#N/A"},{"$error":"#N/A"},{"$error":"#N/A"},{"$error":"#N/A"},{"$error":"#N/A"},{"$error":"#N/A"},{"$error":"#N/A"},{"$error":"#N/A"},{"$error":"#N/A"},{"$error":"#N/A"},{"$error":"#N/A"},{"$error":"#N/A"},{"$error":"#N/A"},{"$error":"#N/A"},{"$error":"#N/A"},{"$error":"#N/A"},{"$error":"#N/A"},{"$error":"#N/A"},{"$error":"#N/A"},{"$error":"#N/A"},{"$error":"#N/A"},{"$error":"#N/A"},{"$error":"#N/A"},{"$error":"#N/A"},{"$error":"#N/A"},{"$error":"#N/A"},{"$error":"#N/A"},{"$error":"#N/A"},{"$error":"#N/A"},{"$error":"#N/A"}]
["xx Residential Hydrocarbon Gas Liquids","Residential Hydrocarbon Gas Liquids",{"$error":"#N/A"},{"$error":"#N/A"},{"$error":"#N/A"},{"$error":"#N/A"},{"$error":"#N/A"},{"$error":"#N/A"},{"$error":"#N/A"},{"$error":"#N/A"},{"$error":"#N/A"},{"$error":"#N/A"},{"$error":"#N/A"},{"$error":"#N/A"},{"$error":"#N/A"},{"$error":"#N/A"},{"$error":"#N/A"},{"$error":"#N/A"},{"$error":"#N/A"},{"$error":"#N/A"},{"$error":"#N/A"},{"$error":"#N/A"},{"$error":"#N/A"},{"$error":"#N/A"},{"$error":"#N/A"},{"$error":"#N/A"},{"$error":"#N/A"},{"$error":"#N/A"},{"$error":"#N/A"},{"$error":"#N/A"},{"$error":"#N/A"},{"$error":"#N/A"},{"$error":"#N/A"}]
["xx Residential Natural Gas","Residential Natural Gas",{"$error":"#N/A"},{"$error":"#N/A"},{"$error":"#N/A"},{"$error":"#N/A"},{"$error":"#N/A"},{"$error":"#N/A"},{"$error":"#N/A"},{"$error":"#N/A"},{"$error":"#N/A"},{"$error":"#N/A"},{"$error":"#N/A"},{"$error":"#N/A"},{"$error":"#N/A"},{"$error":"#N/A"},{"$error":"#N/A"},{"$error":"#N/A"},{"$error":"#N/A"},{"$error":"#N/A"},{"$error":"#N/A"},{"$error":"#N/A"},{"$error":"#N/A"},{"$error":"#N/A"},{"$error":"#N/A"},{"$error":"#N/A"},{"$error":"#N/A"},{"$error":"#N/A"},{"$error":"#N/A"},{"$error":"#N/A"},{"$error":"#N/A"},{"$error":"#N/A"},{"$error":"#N/A"}]
["xx Residential Wood","Residential Wood",{"$error":"#N/A"},{"$error":"#N/A"},{"$error":"#N/A"},{"$error":"#N/A"},{"$error":"#N/A"},{"$error":"#N/A"},{"$error":"#N/A"},{"$error":"#N/A"},{"$error":"#N/A"},{"$error":"#N/A"},{"$error":"#N/A"},{"$error":"#N/A"},{"$error":"#N/A"},{"$error":"#N/A"},{"$error":"#N/A"},{"$error":"#N/A"},{"$error":"#N/A"},{"$error":"#N/A"},{"$error":"#N/A"},{"$error":"#N/A"},{"$error":"#N/A"},{"$error":"#N/A"},{"$error":"#N/A"},{"$error":"#N/A"},{"$error":"#N/A"},{"$error":"#N/A"},{"$error":"#N/A"},{"$error":"#N/A"},{"$error":"#N/A"},{"$error":"#N/A"},{"$error":"#N/A"}]
["xx Residential Other","Residential Other"]
[]
[]
[null,"Commercial Coal",{"$f":"VLOOKUP(StateID&\" \"&$B56,ConsumeBlock,C$5-1988,FALSE)","v":{"$error":"#N/A"}},{"$error":"#N/A"},{"$error":"#N/A"},{"$error":"#N/A"},{"$error":"#N/A"},{"$error":"#N/A"},{"$error":"#N/A"},{"$error":"#N/A"},{"$error":"#N/A"},{"$error":"#N/A"},{"$error":"#N/A"},{"$error":"#N/A"},{"$error":"#N/A"},{"$error":"#N/A"},{"$error":"#N/A"},{"$error":"#N/A"},{"$f":"VLOOKUP(StateID&\" \"&$B56,ConsumeBlock,S$5-1988,FALSE)","v":{"$error":"#N/A"}},{"$error":"#N/A"},{"$error":"#N/A"},{"$error":"#N/A"},{"$error":"#N/A"},{"$error":"#N/A"},{"$error":"#N/A"},{"$error":"#N/A"},{"$error":"#N/A"},{"$error":"#N/A"},{"$error":"#N/A"},{"$error":"#N/A"},{"$error":"#N/A"},{"$error":"#N/A"},{"$error":"#N/A"}]
[null,"Commercial Distillate Fuel",{"$error":"#N/A"},{"$error":"#N/A"},{"$error":"#N/A"},{"$error":"#N/A"},{"$error":"#N/A"},{"$error":"#N/A"},{"$error":"#N/A"},{"$error":"#N/A"},{"$error":"#N/A"},{"$error":"#N/A"},{"$error":"#N/A"},{"$error":"#N/A"},{"$error":"#N/A"},{"$error":"#N/A"},{"$error":"#N/A"},{"$error":"#N/A"},{"$error":"#N/A"},{"$error":"#N/A"},{"$error":"#N/A"},{"$error":"#N/A"},{"$error":"#N/A"},{"$error":"#N/A"},{"$error":"#N/A"},{"$error":"#N/A"},{"$error":"#N/A"},{"$error":"#N/A"},{"$error":"#N/A"},{"$error":"#N/A"},{"$error":"#N/A"},{"$error":"#N/A"},{"$error":"#N/A"}]
[null,"Commercial Kerosene",{"$error":"#N/A"},{"$error":"#N/A"},{"$error":"#N/A"},{"$error":"#N/A"},{"$error":"#N/A"},{"$error":"#N/A"},{"$error":"#N/A"},{"$error":"#N/A"},{"$error":"#N/A"},{"$error":"#N/A"},{"$error":"#N/A"},{"$error":"#N/A"},{"$error":"#N/A"},{"$error":"#N/A"},{"$error":"#N/A"},{"$error":"#N/A"},{"$error":"#N/A"},{"$error":"#N/A"},{"$error":"#N/A"},{"$error":"#N/A"},{"$error":"#N/A"},{"$error":"#N/A"},{"$error":"#N/A"},{"$error":"#N/A"},{"$error":"#N/A"},{"$error":"#N/A"},{"$error":"#N/A"},{"$error":"#N/A"},{"$error":"#N/A"},{"$error":"#N/A"},{"$error":"#N/A"}]
[null,"Commercial LPG",{"$error":"#N/A"},{"$error":"#N/A"},{"$error":"#N/A"},{"$error":"#N/A"},{"$error":"#N/A"},{"$error":"#N/A"},{"$error":"#N/A"},{"$error":"#N/A"},{"$error":"#N/A"},{"$error":"#N/A"},{"$error":"#N/A"},{"$error":"#N/A"},{"$error":"#N/A"},{"$error":"#N/A"},{"$error":"#N/A"},{"$error":"#N/A"},{"$error":"#N/A"},{"$error":"#N/A"},{"$error":"#N/A"},{"$error":"#N/A"},{"$error":"#N/A"},{"$error":"#N/A"},{"$error":"#N/A"},{"$error":"#N/A"},{"$error":"#N/A"},{"$error":"#N/A"},{"$error":"#N/A"},{"$error":"#N/A"},{"$error":"#N/A"},{"$error":"#N/A"},{"$error":"#N/A"}]
[null,"Commercial Motor Gasoline",{"$f":"VLOOKUP(StateID&\" \"&$B60,ConsumeBlock,C$5-1988,FALSE)-VLOOKUP(StateID,CommercialEthanol,C$5-1988,FALSE)","v":{"$error":"#N/A"}},{"$error":"#N/A"},{"$error":"#N/A"},{"$error":"#N/A"},{"$error":"#N/A"},{"$error":"#N/A"},{"$error":"#N/A"},{"$error":"#N/A"},{"$error":"#N/A"},{"$error":"#N/A"},{"$error":"#N/A"},{"$error":"#N/A"},{"$error":"#N/A"},{"$error":"#N/A"},{"$error":"#N/A"},{"$error":"#N/A"},{"$error":"#N/A"},{"$error":"#N/A"},{"$error":"#N/A"},{"$error":"#N/A"},{"$error":"#N/A"},{"$error":"#N/A"},{"$error":"#N/A"},{"$error":"#N/A"},{"$error":"#N/A"},{"$error":"#N/A"},{"$error":"#N/A"},{"$error":"#N/A"},{"$error":"#N/A"},{"$error":"#N/A"},{"$error":"#N/A"}]
[null,"Commercial Natural Gas",{"$error":"#N/A"},{"$error":"#N/A"},{"$error":"#N/A"},{"$error":"#N/A"},{"$error":"#N/A"},{"$error":"#N/A"},{"$error":"#N/A"},{"$error":"#N/A"},{"$error":"#N/A"},{"$error":"#N/A"},{"$error":"#N/A"},{"$error":"#N/A"},{"$error":"#N/A"},{"$error":"#N/A"},{"$error":"#N/A"},{"$error":"#N/A"},{"$error":"#N/A"},{"$error":"#N/A"},{"$error":"#N/A"},{"$error":"#N/A"},{"$error":"#N/A"},{"$error":"#N/A"},{"$error":"#N/A"},{"$error":"#N/A"},{"$error":"#N/A"},{"$error":"#N/A"},{"$error":"#N/A"},{"$error":"#N/A"},{"$error":"#N/A"},{"$error":"#N/A"},{"$error":"#N/A"}]
[null,"Commercial Residual Fuel",{"$error":"#N/A"},{"$error":"#N/A"},{"$error":"#N/A"},{"$error":"#N/A"},{"$error":"#N/A"},{"$error":"#N/A"},{"$error":"#N/A"},{"$error":"#N/A"},{"$error":"#N/A"},{"$error":"#N/A"},{"$error":"#N/A"},{"$error":"#N/A"},{"$error":"#N/A"},{"$error":"#N/A"},{"$error":"#N/A"},{"$error":"#N/A"},{"$error":"#N/A"},{"$error":"#N/A"},{"$error":"#N/A"},{"$error":"#N/A"},{"$error":"#N/A"},{"$error":"#N/A"},{"$error":"#N/A"},{"$error":"#N/A"},{"$error":"#N/A"},{"$error":"#N/A"},{"$error":"#N/A"},{"$error":"#N/A"},{"$error":"#N/A"},{"$error":"#N/A"},{"$error":"#N/A"}]
[null,"Commercial Wood",{"$error":"#N/A"},{"$error":"#N/A"},{"$error":"#N/A"},{"$error":"#N/A"},{"$error":"#N/A"},{"$error":"#N/A"},{"$error":"#N/A"},{"$error":"#N/A"},{"$error":"#N/A"},{"$error":"#N/A"},{"$error":"#N/A"},{"$error":"#N/A"},{"$error":"#N/A"},{"$error":"#N/A"},{"$error":"#N/A"},{"$error":"#N/A"},{"$error":"#N/A"},{"$error":"#N/A"},{"$error":"#N/A"},{"$error":"#N/A"},{"$error":"#N/A"},{"$error":"#N/A"},{"$error":"#N/A"},{"$error":"#N/A"},{"$error":"#N/A"},{"$error":"#N/A"},{"$error":"#N/A"},{"$error":"#N/A"},{"$error":"#N/A"},{"$error":"#N/A"},{"$error":"#N/A"}]
[null,"Commercial Other"]
[null,"Electric Power Coal",{"$error":"#N/A"},{"$error":"#N/A"},{"$error":"#N/A"},{"$error":"#N/A"},{"$error":"#N/A"},{"$error":"#N/A"},{"$error":"#N/A"},{"$error":"#N/A"},{"$error":"#N/A"},{"$error":"#N/A"},{"$error":"#N/A"},{"$error":"#N/A"},{"$error":"#N/A"},{"$error":"#N/A"},{"$error":"#N/A"},{"$error":"#N/A"},{"$error":"#N/A"},{"$error":"#N/A"},{"$error":"#N/A"},{"$error":"#N/A"},{"$error":"#N/A"},{"$error":"#N/A"},{"$error":"#N/A"},{"$error":"#N/A"},{"$error":"#N/A"},{"$error":"#N/A"},{"$error":"#N/A"},{"$error":"#N/A"},{"$error":"#N/A"},{"$error":"#N/A"},{"$error":"#N/A"}]
[null,"Electric Power Distillate Fuel",{"$error":"#N/A"},{"$error":"#N/A"},{"$error":"#N/A"},{"$error":"#N/A"},{"$error":"#N/A"},{"$error":"#N/A"},{"$error":"#N/A"},{"$error":"#N/A"},{"$error":"#N/A"},{"$error":"#N/A"},{"$error":"#N/A"},{"$error":"#N/A"},{"$error":"#N/A"},{"$error":"#N/A"},{"$error":"#N/A"},{"$error":"#N/A"},{"$error":"#N/A"},{"$error":"#N/A"},{"$error":"#N/A"},{"$error":"#N/A"},{"$error":"#N/A"},{"$error":"#N/A"},{"$error":"#N/A"},{"$error":"#N/A"},{"$error":"#N/A"},{"$error":"#N/A"},{"$error":"#N/A"},{"$error":"#N/A"},{"$error":"#N/A"},{"$error":"#N/A"},{"$error":"#N/A"}]
[null,"Electric Power Natural Gas",{"$error":"#N/A"},{"$error":"#N/A"},{"$error":"#N/A"},{"$error":"#N/A"},{"$error":"#N/A"},{"$error":"#N/A"},{"$error":"#N/A"},{"$error":"#N/A"},{"$error":"#N/A"},{"$error":"#N/A"},{"$error":"#N/A"},{"$error":"#N/A"},{"$error":"#N/A"},{"$error":"#N/A"},{"$error":"#N/A"},{"$error":"#N/A"},{"$error":"#N/A"},{"$error":"#N/A"},{"$error":"#N/A"},{"$error":"#N/A"},{"$error":"#N/A"},{"$error":"#N/A"},{"$error":"#N/A"},{"$error":"#N/A"},{"$error":"#N/A"},{"$error":"#N/A"},{"$error":"#N/A"},{"$error":"#N/A"},{"$error":"#N/A"},{"$error":"#N/A"},{"$error":"#N/A"}]
[null,"Electric Power Petroleum Coke",{"$error":"#N/A"},{"$error":"#N/A"},{"$error":"#N/A"},{"$error":"#N/A"},{"$error":"#N/A"},{"$error":"#N/A"},{"$error":"#N/A"},{"$error":"#N/A"},{"$error":"#N/A"},{"$error":"#N/A"},{"$error":"#N/A"},{"$error":"#N/A"},{"$error":"#N/A"},{"$error":"#N/A"},{"$error":"#N/A"},{"$error":"#N/A"},{"$error":"#N/A"},{"$error":"#N/A"},{"$error":"#N/A"},{"$error":"#N/A"},{"$error":"#N/A"},{"$error":"#N/A"},{"$error":"#N/A"},{"$error":"#N/A"},{"$error":"#N/A"},{"$error":"#N/A"},{"$error":"#N/A"},{"$error":"#N/A"},{"$error":"#N/A"},{"$error":"#N/A"},{"$error":"#N/A"}]
[null,"Electric Power Residual Fuel",{"$error":"#N/A"},{"$error":"#N/A"},{"$error":"#N/A"},{"$error":"#N/A"},{"$error":"#N/A"},{"$error":"#N/A"},{"$error":"#N/A"},{"$error":"#N/A"},{"$error":"#N/A"},{"$error":"#N/A"},{"$error":"#N/A"},{"$error":"#N/A"},{"$error":"#N/A"},{"$error":"#N/A"},{"$error":"#N/A"},{"$error":"#N/A"},{"$error":"#N/A"},{"$error":"#N/A"},{"$error":"#N/A"},{"$error":"#N/A"},{"$error":"#N/A"},{"$error":"#N/A"},{"$error":"#N/A"},{"$error":"#N/A"},{"$error":"#N/A"},{"$error":"#N/A"},{"$error":"#N/A"},{"$error":"#N/A"},{"$error":"#N/A"},{"$error":"#N/A"},{"$error":"#N/A"}]
[null,"Electric Power Wood",{"$error":"#N/A"},{"$error":"#N/A"},{"$error":"#N/A"},{"$error":"#N/A"},{"$error":"#N/A"},{"$error":"#N/A"},{"$error":"#N/A"},{"$error":"#N/A"},{"$error":"#N/A"},{"$error":"#N/A"},{"$error":"#N/A"},{"$error":"#N/A"},{"$error":"#N/A"},{"$f":"VLOOKUP(StateID&\" \"&$B70,ConsumeBlock,P$5-1988,FALSE)","v":{"$error":"#N/A"}},{"$f":"VLOOKUP(StateID&\" \"&$B70,ConsumeBlock,Q$5-1988,FALSE)","v":{"$error":"#N/A"}},{"$f":"VLOOKUP(StateID&\" \"&$B70,ConsumeBlock,R$5-1988,FALSE)","v":{"$error":"#N/A"}},{"$error":"#N/A"},{"$error":"#N/A"},{"$error":"#N/A"},{"$error":"#N/A"},{"$error":"#N/A"},{"$error":"#N/A"},{"$error":"#N/A"},{"$error":"#N/A"},{"$error":"#N/A"},{"$error":"#N/A"},{"$error":"#N/A"},{"$error":"#N/A"},{"$error":"#N/A"},{"$error":"#N/A"},{"$error":"#N/A"}]
[null,"Electric Power Other"]
[null,"Industrial Asphalt and Road Oil",{"$error":"#N/A"},{"$error":"#N/A"},{"$error":"#N/A"},{"$error":"#N/A"},{"$error":"#N/A"},{"$error":"#N/A"},{"$error":"#N/A"},{"$error":"#N/A"},{"$error":"#N/A"},{"$error":"#N/A"},{"$error":"#N/A"},{"$error":"#N/A"},{"$error":"#N/A"},{"$error":"#N/A"},{"$error":"#N/A"},{"$error":"#N/A"},{"$error":"#N/A"},{"$error":"#N/A"},{"$error":"#N/A"},{"$error":"#N/A"},{"$error":"#N/A"},{"$error":"#N/A"},{"$error":"#N/A"},{"$error":"#N/A"},{"$error":"#N/A"},{"$error":"#N/A"},{"$error":"#N/A"},{"$error":"#N/A"},{"$error":"#N/A"},{"$error":"#N/A"},{"$error":"#N/A"}]
[null,"Industrial Aviation Gasoline Blending Components",{"$error":"#N/A"},{"$error":"#N/A"},{"$error":"#N/A"},{"$error":"#N/A"},{"$error":"#N/A"},{"$error":"#N/A"},{"$error":"#N/A"},{"$error":"#N/A"},{"$error":"#N/A"},{"$error":"#N/A"},{"$error":"#N/A"},{"$error":"#N/A"},{"$error":"#N/A"},{"$error":"#N/A"},{"$error":"#N/A"},{"$error":"#N/A"},{"$error":"#N/A"},{"$error":"#N/A"},{"$error":"#N/A"},{"$error":"#N/A"},{"$error":"#N/A"},{"$error":"#N/A"},{"$error":"#N/A"},{"$error":"#N/A"},{"$error":"#N/A"},{"$error":"#N/A"},{"$error":"#N/A"},{"$error":"#N/A"},{"$error":"#N/A"},{"$error":"#N/A"},{"$error":"#N/A"}]
[null,"Industrial Coal",{"$f":"VLOOKUP(StateID&\" \"&$B74,ConsumeBlock,C$5-1988,FALSE)","v":{"$error":"#N/A"}},{"$error":"#N/A"},{"$error":"#N/A"},{"$error":"#N/A"},{"$error":"#N/A"},{"$error":"#N/A"},{"$error":"#N/A"},{"$error":"#N/A"},{"$error":"#N/A"},{"$error":"#N/A"},{"$error":"#N/A"},{"$error":"#N/A"},{"$error":"#N/A"},{"$error":"#N/A"},{"$error":"#N/A"},{"$error":"#N/A"},{"$error":"#N/A"},{"$f":"VLOOKUP(StateID&\" \"&$B74,ConsumeBlock,T$5-1988,FALSE)","v":{"$error":"#N/A"}},{"$error":"#N/A"},{"$error":"#N/A"},{"$error":"#N/A"},{"$error":"#N/A"},{"$error":"#N/A"},{"$error":"#N/A"},{"$error":"#N/A"},{"$error":"#N/A"},{"$error":"#N/A"},{"$error":"#N/A"},{"$error":"#N/A"},{"$error":"#N/A"},{"$error":"#N/A"}]
[null,"Industrial Coking Coal",{"$error":"#N/A"},{"$error":"#N/A"},{"$error":"#N/A"},{"$error":"#N/A"},{"$error":"#N/A"},{"$error":"#N/A"},{"$error":"#N/A"},{"$error":"#N/A"},{"$error":"#N/A"},{"$error":"#N/A"},{"$error":"#N/A"},{"$error":"#N/A"},{"$f":"VLOOKUP(StateID&\" \"&$B75,ConsumeBlock,O$5-1988,FALSE)","v":{"$error":"#N/A"}},{"$f":"VLOOKUP(StateID&\" \"&$B75,ConsumeBlock,P$5-1988,FALSE)","v":{"$error":"#N/A"}},{"$f":"VLOOKUP(StateID&\" \"&$B75,ConsumeBlock,Q$5-1988,FALSE)","v":{"$error":"#N/A"}},{"$f":"VLOOKUP(StateID&\" \"&$B75,ConsumeBlock,R$5-1988,FALSE)","v":{"$error":"#N/A"}},{"$f":"VLOOKUP(StateID&\" \"&$B75,ConsumeBlock,S$5-1988,FALSE)","v":{"$error":"#N/A"}},{"$error":"#N/A"},{"$error":"#N/A"},{"$error":"#N/A"},{"$error":"#N/A"},{"$error":"#N/A"},{"$error":"#N/A"},{"$error":"#N/A"},{"$error":"#N/A"},{"$error":"#N/A"},{"$error":"#N/A"},{"$error":"#N/A"},{"$error":"#N/A"},{"$error":"#N/A"},{"$error":"#N/A"}]
[null,"Industrial Crude Oil",{"$error":"#N/A"},{"$error":"#N/A"},{"$error":"#N/A"},{"$error":"#N/A"},{"$error":"#N/A"},{"$error":"#N/A"},{"$error":"#N/A"},{"$error":"#N/A"},{"$error":"#N/A"},{"$error":"#N/A"},{"$error":"#N/A"},{"$error":"#N/A"},{"$error":"#N/A"},{"$error":"#N/A"},{"$error":"#N/A"},{"$error":"#N/A"},{"$error":"#N/A"},{"$error":"#N/A"},{"$error":"#N/A"},{"$error":"#N/A"},{"$error":"#N/A"},{"$error":"#N/A"},{"$error":"#N/A"},{"$error":"#N/A"},{"$error":"#N/A"},{"$error":"#N/A"},{"$error":"#N/A"},{"$error":"#N/A"},{"$error":"#N/A"},{"$error":"#N/A"},{"$error":"#N/A"}]
[null,"Industrial Distillate Fuel",{"$error":"#N/A"},{"$error":"#N/A"},{"$error":"#N/A"},{"$error":"#N/A"},{"$error":"#N/A"},{"$error":"#N/A"},{"$error":"#N/A"},{"$error":"#N/A"},{"$error":"#N/A"},{"$error":"#N/A"},{"$error":"#N/A"},{"$error":"#N/A"},{"$error":"#N/A"},{"$error":"#N/A"},{"$error":"#N/A"},{"$error":"#N/A"},{"$error":"#N/A"},{"$error":"#N/A"},{"$error":"#N/A"},{"$error":"#N/A"},{"$error":"#N/A"},{"$error":"#N/A"},{"$error":"#N/A"},{"$error":"#N/A"},{"$error":"#N/A"},{"$error":"#N/A"},{"$error":"#N/A"},{"$error":"#N/A"},{"$error":"#N/A"},{"$error":"#N/A"},{"$error":"#N/A"}]
[null,"Industrial Feedstocks, Naphtha less than 401 F",{"$error":"#N/A"},{"$error":"#N/A"},{"$error":"#N/A"},{"$error":"#N/A"},{"$error":"#N/A"},{"$error":"#N/A"},{"$error":"#N/A"},{"$error":"#N/A"},{"$error":"#N/A"},{"$error":"#N/A"},{"$error":"#N/A"},{"$error":"#N/A"},{"$error":"#N/A"},{"$error":"#N/A"},{"$error":"#N/A"},{"$error":"#N/A"},{"$error":"#N/A"},{"$error":"#N/A"},{"$error":"#N/A"},{"$error":"#N/A"},{"$error":"#N/A"},{"$error":"#N/A"},{"$error":"#N/A"},{"$error":"#N/A"},{"$error":"#N/A"},{"$error":"#N/A"},{"$error":"#N/A"},{"$error":"#N/A"},{"$error":"#N/A"},{"$error":"#N/A"},{"$error":"#N/A"}]
[null,"Industrial Feedstocks, Other Oils greater than 401 F",{"$error":"#N/A"},{"$error":"#N/A"},{"$error":"#N/A"},{"$error":"#N/A"},{"$error":"#N/A"},{"$error":"#N/A"},{"$error":"#N/A"},{"$error":"#N/A"},{"$error":"#N/A"},{"$error":"#N/A"},{"$error":"#N/A"},{"$error":"#N/A"},{"$error":"#N/A"},{"$error":"#N/A"},{"$error":"#N/A"},{"$error":"#N/A"},{"$error":"#N/A"},{"$error":"#N/A"},{"$error":"#N/A"},{"$error":"#N/A"},{"$error":"#N/A"},{"$error":"#N/A"},{"$error":"#N/A"},{"$error":"#N/A"},{"$error":"#N/A"},{"$error":"#N/A"},{"$error":"#N/A"},{"$error":"#N/A"},{"$error":"#N/A"},{"$error":"#N/A"},{"$error":"#N/A"}]
[null,"Industrial Kerosene",{"$error":"#N/A"},{"$error":"#N/A"},{"$error":"#N/A"},{"$error":"#N/A"},{"$error":"#N/A"},{"$error":"#N/A"},{"$error":"#N/A"},{"$error":"#N/A"},{"$error":"#N/A"},{"$error":"#N/A"},{"$error":"#N/A"},{"$error":"#N/A"},{"$error":"#N/A"},{"$error":"#N/A"},{"$error":"#N/A"},{"$error":"#N/A"},{"$error":"#N/A"},{"$error":"#N/A"},{"$error":"#N/A"},{"$error":"#N/A"},{"$error":"#N/A"},{"$error":"#N/A"},{"$error":"#N/A"},{"$error":"#N/A"},{"$error":"#N/A"},{"$error":"#N/A"},{"$error":"#N/A"},{"$error":"#N/A"},{"$error":"#N/A"},{"$error":"#N/A"},{"$error":"#N/A"}]
[null,"Industrial LPG",{"$error":"#N/A"},{"$error":"#N/A"},{"$error":"#N/A"},{"$error":"#N/A"},{"$error":"#N/A"},{"$error":"#N/A"},{"$error":"#N/A"},{"$error":"#N/A"},{"$error":"#N/A"},{"$error":"#N/A"},{"$error":"#N/A"},{"$error":"#N/A"},{"$error":"#N/A"},{"$error":"#N/A"},{"$error":"#N/A"},{"$error":"#N/A"},{"$error":"#N/A"},{"$error":"#N/A"},{"$error":"#N/A"},{"$error":"#N/A"},{"$error":"#N/A"},{"$error":"#N/A"},{"$error":"#N/A"},{"$error":"#N/A"},{"$error":"#N/A"},{"$error":"#N/A"},{"$error":"#N/A"},{"$error":"#N/A"},{"$error":"#N/A"},{"$error":"#N/A"},{"$error":"#N/A"}]
[null,"Industrial Lubricants",{"$error":"#N/A"},{"$error":"#N/A"},{"$error":"#N/A"},{"$error":"#N/A"},{"$error":"#N/A"},{"$error":"#N/A"},{"$error":"#N/A"},{"$error":"#N/A"},{"$error":"#N/A"},{"$error":"#N/A"},{"$error":"#N/A"},{"$error":"#N/A"},{"$error":"#N/A"},{"$error":"#N/A"},{"$error":"#N/A"},{"$error":"#N/A"},{"$error":"#N/A"},{"$error":"#N/A"},{"$error":"#N/A"},{"$error":"#N/A"},{"$error":"#N/A"},{"$error":"#N/A"},{"$error":"#N/A"},{"$error":"#N/A"},{"$error":"#N/A"},{"$error":"#N/A"},{"$error":"#N/A"},{"$error":"#N/A"},{"$error":"#N/A"},{"$error":"#N/A"},{"$error":"#N/A"}]
[null,"Industrial Misc. Petro Products",{"$error":"#N/A"},{"$error":"#N/A"},{"$error":"#N/A"},{"$error":"#N/A"},{"$error":"#N/A"},{"$error":"#N/A"},{"$error":"#N/A"},{"$error":"#N/A"},{"$error":"#N/A"},{"$error":"#N/A"},{"$error":"#N/A"},{"$error":"#N/A"},{"$error":"#N/A"},{"$error":"#N/A"},{"$error":"#N/A"},{"$error":"#N/A"},{"$error":"#N/A"},{"$error":"#N/A"},{"$error":"#N/A"},{"$error":"#N/A"},{"$error":"#N/A"},{"$error":"#N/A"},{"$error":"#N/A"},{"$error":"#N/A"},{"$error":"#N/A"},{"$error":"#N/A"},{"$error":"#N/A"},{"$error":"#N/A"},{"$error":"#N/A"},{"$error":"#N/A"},{"$error":"#N/A"}]
[null,"Industrial Motor Gasoline",{"$f":"VLOOKUP(StateID&\" \"&$B84,ConsumeBlock,C$5-1988,FALSE)-VLOOKUP(StateID,IndustrialEthanol,C$5-1988,FALSE)","v":{"$error":"#N/A"}},{"$error":"#N/A"},{"$error":"#N/A"},{"$error":"#N/A"},{"$error":"#N/A"},{"$error":"#N/A"},{"$error":"#N/A"},{"$error":"#N/A"},{"$error":"#N/A"},{"$error":"#N/A"},{"$error":"#N/A"},{"$error":"#N/A"},{"$error":"#N/A"},{"$error":"#N/A"},{"$error":"#N/A"},{"$error":"#N/A"},{"$error":"#N/A"},{"$error":"#N/A"},{"$error":"#N/A"},{"$error":"#N/A"},{"$error":"#N/A"},{"$error":"#N/A"},{"$error":"#N/A"},{"$error":"#N/A"},{"$error":"#N/A"},{"$error":"#N/A"},{"$error":"#N/A"},{"$error":"#N/A"},{"$error":"#N/A"},{"$error":"#N/A"},{"$error":"#N/A"}]
[null,"Industrial Motor Gasoline Blending Components",{"$error":"#N/A"},{"$error":"#N/A"},{"$error":"#N/A"},{"$error":"#N/A"},{"$error":"#N/A"},{"$error":"#N/A"},{"$error":"#N/A"},{"$error":"#N/A"},{"$error":"#N/A"},{"$error":"#N/A"},{"$error":"#N/A"},{"$error":"#N/A"},{"$error":"#N/A"},{"$error":"#N/A"},{"$error":"#N/A"},{"$error":"#N/A"},{"$error":"#N/A"},{"$error":"#N/A"},{"$error":"#N/A"},{"$error":"#N/A"},{"$error":"#N/A"},{"$error":"#N/A"},{"$error":"#N/A"},{"$error":"#N/A"},{"$error":"#N/A"},{"$error":"#N/A"},{"$error":"#N/A"},{"$error":"#N/A"},{"$error":"#N/A"},{"$error":"#N/A"},{"$error":"#N/A"}]
[null,"Industrial Natural Gas",{"$error":"#N/A"},{"$error":"#N/A"},{"$error":"#N/A"},{"$error":"#N/A"},{"$error":"#N/A"},{"$error":"#N/A"},{"$error":"#N/A"},{"$error":"#N/A"},{"$error":"#N/A"},{"$error":"#N/A"},{"$error":"#N/A"},{"$error":"#N/A"},{"$error":"#N/A"},{"$error":"#N/A"},{"$error":"#N/A"},{"$error":"#N/A"},{"$error":"#N/A"},{"$error":"#N/A"},{"$error":"#N/A"},{"$error":"#N/A"},{"$error":"#N/A"},{"$error":"#N/A"},{"$error":"#N/A"},{"$error":"#N/A"},{"$error":"#N/A"},{"$error":"#N/A"},{"$error":"#N/A"},{"$error":"#N/A"},{"$error":"#N/A"},{"$error":"#N/A"},{"$error":"#N/A"}]
[null,"Industrial Pentanes Plus",{"$error":"#N/A"},{"$error":"#N/A"},{"$error":"#N/A"},{"$error":"#N/A"},{"$error":"#N/A"},{"$error":"#N/A"},{"$error":"#N/A"},{"$error":"#N/A"},{"$error":"#N/A"},{"$error":"#N/A"},{"$error":"#N/A"},{"$error":"#N/A"},{"$error":"#N/A"},{"$error":"#N/A"},{"$error":"#N/A"},{"$error":"#N/A"},{"$error":"#N/A"},{"$error":"#N/A"},{"$error":"#N/A"},{"$error":"#N/A"},{"$error":"#N/A"},{"$error":"#N/A"},{"$error":"#N/A"},{"$error":"#N/A"},{"$error":"#N/A"},{"$error":"#N/A"},{"$error":"#N/A"},{"$error":"#N/A"},{"$error":"#N/A"},{"$error":"#N/A"},{"$error":"#N/A"}]
[null,"Industrial Petroleum Coke",{"$error":"#N/A"},{"$error":"#N/A"},{"$error":"#N/A"},{"$error":"#N/A"},{"$error":"#N/A"},{"$error":"#N/A"},{"$error":"#N/A"},{"$error":"#N/A"},{"$error":"#N/A"},{"$error":"#N/A"},{"$error":"#N/A"},{"$error":"#N/A"},{"$error":"#N/A"},{"$error":"#N/A"},{"$error":"#N/A"},{"$error":"#N/A"},{"$error":"#N/A"},{"$error":"#N/A"},{"$error":"#N/A"},{"$error":"#N/A"},{"$error":"#N/A"},{"$error":"#N/A"},{"$error":"#N/A"},{"$error":"#N/A"},{"$error":"#N/A"},{"$error":"#N/A"},{"$error":"#N/A"},{"$error":"#N/A"},{"$error":"#N/A"},{"$error":"#N/A"},{"$error":"#N/A"}]
[null,"Industrial Residual Fuel",{"$error":"#N/A"},{"$error":"#N/A"},{"$error":"#N/A"},{"$error":"#N/A"},{"$error":"#N/A"},{"$error":"#N/A"},{"$error":"#N/A"},{"$error":"#N/A"},{"$error":"#N/A"},{"$error":"#N/A"},{"$error":"#N/A"},{"$error":"#N/A"},{"$error":"#N/A"},{"$error":"#N/A"},{"$error":"#N/A"},{"$error":"#N/A"},{"$error":"#N/A"},{"$error":"#N/A"},{"$error":"#N/A"},{"$error":"#N/A"},{"$error":"#N/A"},{"$error":"#N/A"},{"$error":"#N/A"},{"$error":"#N/A"},{"$error":"#N/A"},{"$error":"#N/A"},{"$error":"#N/A"},{"$error":"#N/A"},{"$error":"#N/A"},{"$error":"#N/A"},{"$error":"#N/A"}]
[null,"Industrial Special Naphthas",{"$error":"#N/A"},{"$error":"#N/A"},{"$error":"#N/A"},{"$error":"#N/A"},{"$error":"#N/A"},{"$error":"#N/A"},{"$error":"#N/A"},{"$error":"#N/A"},{"$error":"#N/A"},{"$error":"#N/A"},{"$error":"#N/A"},{"$error":"#N/A"},{"$error":"#N/A"},{"$error":"#N/A"},{"$error":"#N/A"},{"$error":"#N/A"},{"$error":"#N/A"},{"$error":"#N/A"},{"$error":"#N/A"},{"$error":"#N/A"},{"$error":"#N/A"},{"$error":"#N/A"},{"$error":"#N/A"},{"$error":"#N/A"},{"$error":"#N/A"},{"$error":"#N/A"},{"$error":"#N/A"},{"$error":"#N/A"},{"$error":"#N/A"},{"$error":"#N/A"},{"$error":"#N/A"}]
[null,"Industrial Still Gas",{"$f":"VLOOKUP(StateID&\" \"&$B91,ConsumeBlock,C$5-1988,FALSE)","v":{"$error":"#N/A"}},{"$error":"#N/A"},{"$error":"#N/A"},{"$error":"#N/A"},{"$error":"#N/A"},{"$error":"#N/A"},{"$error":"#N/A"},{"$error":"#N/A"},{"$error":"#N/A"},{"$error":"#N/A"},{"$error":"#N/A"},{"$error":"#N/A"},{"$error":"#N/A"},{"$error":"#N/A"},{"$error":"#N/A"},{"$error":"#N/A"},{"$error":"#N/A"},{"$f":"VLOOKUP(StateID&\" \"&$B91,ConsumeBlock,T$5-1988,FALSE)","v":{"$error":"#N/A"}},{"$error":"#N/A"},{"$error":"#N/A"},{"$error":"#N/A"},{"$error":"#N/A"},{"$error":"#N/A"},{"$error":"#N/A"},{"$error":"#N/A"},{"$error":"#N/A"},{"$error":"#N/A"},{"$error":"#N/A"},{"$error":"#N/A"},{"$error":"#N/A"},{"$error":"#N/A"}]
[null,"Industrial Unfinished Oils",{"$error":"#N/A"},{"$error":"#N/A"},{"$error":"#N/A"},{"$error":"#N/A"},{"$error":"#N/A"},{"$error":"#N/A"},{"$error":"#N/A"},{"$error":"#N/A"},{"$error":"#N/A"},{"$error":"#N/A"},{"$error":"#N/A"},{"$error":"#N/A"},{"$error":"#N/A"},{"$error":"#N/A"},{"$error":"#N/A"},{"$error":"#N/A"},{"$error":"#N/A"},{"$error":"#N/A"},{"$error":"#N/A"},{"$error":"#N/A"},{"$error":"#N/A"},{"$error":"#N/A"},{"$error":"#N/A"},{"$error":"#N/A"},{"$error":"#N/A"},{"$error":"#N/A"},{"$error":"#N/A"},{"$error":"#N/A"},{"$error":"#N/A"},{"$error":"#N/A"},{"$error":"#N/A"}]
[null,"Industrial Waxes",{"$error":"#N/A"},{"$error":"#N/A"},{"$error":"#N/A"},{"$error":"#N/A"},{"$error":"#N/A"},{"$error":"#N/A"},{"$error":"#N/A"},{"$error":"#N/A"},{"$error":"#N/A"},{"$error":"#N/A"},{"$error":"#N/A"},{"$error":"#N/A"},{"$error":"#N/A"},{"$error":"#N/A"},{"$error":"#N/A"},{"$error":"#N/A"},{"$error":"#N/A"},{"$error":"#N/A"},{"$error":"#N/A"},{"$error":"#N/A"},{"$error":"#N/A"},{"$error":"#N/A"},{"$error":"#N/A"},{"$error":"#N/A"},{"$error":"#N/A"},{"$error":"#N/A"},{"$error":"#N/A"},{"$error":"#N/A"},{"$error":"#N/A"},{"$error":"#N/A"},{"$error":"#N/A"}]
[null,"Industrial Wood",{"$error":"#N/A"},{"$error":"#N/A"},{"$error":"#N/A"},{"$error":"#N/A"},{"$error":"#N/A"},{"$error":"#N/A"},{"$error":"#N/A"},{"$error":"#N/A"},{"$error":"#N/A"},{"$error":"#N/A"},{"$error":"#N/A"},{"$error":"#N/A"},{"$error":"#N/A"},{"$error":"#N/A"},{"$error":"#N/A"},{"$error":"#N/A"},{"$error":"#N/A"},{"$error":"#N/A"},{"$error":"#N/A"},{"$error":"#N/A"},{"$error":"#N/A"},{"$error":"#N/A"},{"$error":"#N/A"},{"$error":"#N/A"},{"$error":"#N/A"},{"$error":"#N/A"},{"$error":"#N/A"},{"$error":"#N/A"},{"$error":"#N/A"},{"$error":"#N/A"},{"$error":"#N/A"}]
[null,"Industrial Other Coal",{"$error":"#N/A"},{"$error":"#N/A"},{"$error":"#N/A"},{"$error":"#N/A"},{"$error":"#N/A"},{"$error":"#N/A"},{"$error":"#N/A"},{"$error":"#N/A"},{"$error":"#N/A"},{"$error":"#N/A"},{"$error":"#N/A"},{"$error":"#N/A"},{"$error":"#N/A"},{"$error":"#N/A"},{"$error":"#N/A"},{"$error":"#N/A"},{"$error":"#N/A"},{"$error":"#N/A"},{"$error":"#N/A"},{"$error":"#N/A"},{"$error":"#N/A"},{"$error":"#N/A"},{"$error":"#N/A"},{"$error":"#N/A"},{"$error":"#N/A"},{"$error":"#N/A"},{"$error":"#N/A"},{"$error":"#N/A"},{"$error":"#N/A"},{"$error":"#N/A"},{"$error":"#N/A"}]
[null,"Industrial Other"]
[null,"Residential Coal",{"$error":"#N/A"},{"$error":"#N/A"},{"$error":"#N/A"},{"$error":"#N/A"},{"$error":"#N/A"},{"$error":"#N/A"},{"$error":"#N/A"},{"$error":"#N/A"},{"$error":"#N/A"},{"$error":"#N/A"},{"$error":"#N/A"},{"$error":"#N/A"},{"$error":"#N/A"},{"$error":"#N/A"},{"$error":"#N/A"},{"$error":"#N/A"},{"$error":"#N/A"},{"$error":"#N/A"},{"$error":"#N/A"},{"$error":"#N/A"},{"$error":"#N/A"},{"$error":"#N/A"},{"$error":"#N/A"},{"$error":"#N/A"},{"$error":"#N/A"},{"$error":"#N/A"},{"$error":"#N/A"},{"$error":"#N/A"},{"$error":"#N/A"},{"$error":"#N/A"},{"$error":"#N/A"}]
[null,"Residential Distillate Fuel",{"$error":"#N/A"},{"$error":"#N/A"},{"$error":"#N/A"},{"$error":"#N/A"},{"$error":"#N/A"},{"$error":"#N/A"},{"$error":"#N/A"},{"$error":"#N/A"},{"$error":"#N/A"},{"$error":"#N/A"},{"$error":"#N/A"},{"$error":"#N/A"},{"$error":"#N/A"},{"$error":"#N/A"},{"$error":"#N/A"},{"$error":"#N/A"},{"$error":"#N/A"},{"$error":"#N/A"},{"$error":"#N/A"},{"$error":"#N/A"},{"$error":"#N/A"},{"$error":"#N/A"},{"$error":"#N/A"},{"$error":"#N/A"},{"$error":"#N/A"},{"$error":"#N/A"},{"$error":"#N/A"},{"$error":"#N/A"},{"$error":"#N/A"},{"$error":"#N/A"},{"$error":"#N/A"}]
[null,"Residential Kerosene",{"$error":"#N/A"},{"$error":"#N/A"},{"$error":"#N/A"},{"$error":"#N/A"},{"$error":"#N/A"},{"$error":"#N/A"},{"$error":"#N/A"},{"$error":"#N/A"},{"$error":"#N/A"},{"$error":"#N/A"},{"$error":"#N/A"},{"$error":"#N/A"},{"$error":"#N/A"},{"$error":"#N/A"},{"$error":"#N/A"},{"$error":"#N/A"},{"$error":"#N/A"},{"$error":"#N/A"},{"$error":"#N/A"},{"$error":"#N/A"},{"$error":"#N/A"},{"$error":"#N/A"},{"$error":"#N/A"},{"$error":"#N/A"},{"$error":"#N/A"},{"$error":"#N/A"},{"$error":"#N/A"},{"$error":"#N/A"},{"$error":"#N/A"},{"$error":"#N/A"},{"$error":"#N/A"}]
[null,"Residential LPG",{"$error":"#N/A"},{"$error":"#N/A"},{"$error":"#N/A"},{"$error":"#N/A"},{"$error":"#N/A"},{"$error":"#N/A"},{"$error":"#N/A"},{"$error":"#N/A"},{"$error":"#N/A"},{"$error":"#N/A"},{"$error":"#N/A"},{"$error":"#N/A"},{"$error":"#N/A"},{"$error":"#N/A"},{"$error":"#N/A"},{"$error":"#N/A"},{"$error":"#N/A"},{"$error":"#N/A"},{"$error":"#N/A"},{"$error":"#N/A"},{"$error":"#N/A"},{"$error":"#N/A"},{"$error":"#N/A"},{"$error":"#N/A"},{"$error":"#N/A"},{"$error":"#N/A"},{"$error":"#N/A"},{"$error":"#N/A"},{"$error":"#N/A"},{"$error":"#N/A"},{"$error":"#N/A"}]
[null,"Residential Natural Gas",{"$error":"#N/A"},{"$error":"#N/A"},{"$error":"#N/A"},{"$error":"#N/A"},{"$error":"#N/A"},{"$error":"#N/A"},{"$error":"#N/A"},{"$error":"#N/A"},{"$error":"#N/A"},{"$error":"#N/A"},{"$error":"#N/A"},{"$error":"#N/A"},{"$error":"#N/A"},{"$error":"#N/A"},{"$error":"#N/A"},{"$error":"#N/A"},{"$error":"#N/A"},{"$error":"#N/A"},{"$error":"#N/A"},{"$error":"#N/A"},{"$error":"#N/A"},{"$error":"#N/A"},{"$error":"#N/A"},{"$error":"#N/A"},{"$error":"#N/A"},{"$error":"#N/A"},{"$error":"#N/A"},{"$error":"#N/A"},{"$error":"#N/A"},{"$error":"#N/A"},{"$error":"#N/A"}]
[null,"Residential Wood",{"$error":"#N/A"},{"$error":"#N/A"},{"$error":"#N/A"},{"$error":"#N/A"},{"$error":"#N/A"},{"$error":"#N/A"},{"$error":"#N/A"},{"$error":"#N/A"},{"$error":"#N/A"},{"$error":"#N/A"},{"$error":"#N/A"},{"$error":"#N/A"},{"$error":"#N/A"},{"$error":"#N/A"},{"$error":"#N/A"},{"$error":"#N/A"},{"$error":"#N/A"},{"$error":"#N/A"},{"$error":"#N/A"},{"$error":"#N/A"},{"$error":"#N/A"},{"$error":"#N/A"},{"$error":"#N/A"},{"$error":"#N/A"},{"$error":"#N/A"},{"$error":"#N/A"},{"$error":"#N/A"},{"$error":"#N/A"},{"$error":"#N/A"},{"$error":"#N/A"},{"$error":"#N/A"}]
[null,"Residential Other"]
[null,"Transportation Aviation Gasoline",{"$error":"#N/A"},{"$error":"#N/A"},{"$error":"#N/A"},{"$error":"#N/A"},{"$error":"#N/A"},{"$error":"#N/A"},{"$error":"#N/A"},{"$error":"#N/A"},{"$error":"#N/A"},{"$error":"#N/A"},{"$error":"#N/A"},{"$error":"#N/A"},{"$error":"#N/A"},{"$error":"#N/A"},{"$error":"#N/A"},{"$error":"#N/A"},{"$error":"#N/A"},{"$error":"#N/A"},{"$error":"#N/A"},{"$error":"#N/A"},{"$error":"#N/A"},{"$error":"#N/A"},{"$error":"#N/A"},{"$error":"#N/A"},{"$error":"#N/A"},{"$error":"#N/A"},{"$error":"#N/A"},{"$error":"#N/A"},{"$error":"#N/A"},{"$error":"#N/A"},{"$error":"#N/A"}]
[null,"Transportation Distillate Fuel",{"$error":"#N/A"},{"$error":"#N/A"},{"$error":"#N/A"},{"$error":"#N/A"},{"$error":"#N/A"},{"$error":"#N/A"},{"$error":"#N/A"},{"$error":"#N/A"},{"$error":"#N/A"},{"$error":"#N/A"},{"$error":"#N/A"},{"$error":"#N/A"},{"$error":"#N/A"},{"$error":"#N/A"},{"$error":"#N/A"},{"$error":"#N/A"},{"$error":"#N/A"},{"$error":"#N/A"},{"$error":"#N/A"},{"$error":"#N/A"},{"$error":"#N/A"},{"$error":"#N/A"},{"$error":"#N/A"},{"$error":"#N/A"},{"$error":"#N/A"},{"$error":"#N/A"},{"$error":"#N/A"},{"$error":"#N/A"},{"$error":"#N/A"},{"$error":"#N/A"},{"$error":"#N/A"}]
[null,"Transportation Ethanol",{"$error":"#N/A"},{"$error":"#N/A"},{"$error":"#N/A"},{"$error":"#N/A"},{"$error":"#N/A"},{"$error":"#N/A"},{"$error":"#N/A"},{"$error":"#N/A"},{"$error":"#N/A"},{"$error":"#N/A"},{"$error":"#N/A"},{"$error":"#N/A"},{"$error":"#N/A"},{"$error":"#N/A"},{"$error":"#N/A"},{"$error":"#N/A"},{"$error":"#N/A"},{"$error":"#N/A"},{"$error":"#N/A"},{"$error":"#N/A"},{"$error":"#N/A"},{"$error":"#N/A"},{"$error":"#N/A"},{"$error":"#N/A"},{"$error":"#N/A"},{"$error":"#N/A"},{"$error":"#N/A"},{"$error":"#N/A"},{"$error":"#N/A"},{"$error":"#N/A"},{"$error":"#N/A"}]
[null,"Transportation Jet Fuel, Kerosene",{"$error":"#N/A"},{"$error":"#N/A"},{"$error":"#N/A"},{"$error":"#N/A"},{"$error":"#N/A"},{"$error":"#N/A"},{"$error":"#N/A"},{"$error":"#N/A"},{"$error":"#N/A"},{"$error":"#N/A"},{"$error":"#N/A"},{"$error":"#N/A"},{"$error":"#N/A"},{"$error":"#N/A"},{"$error":"#N/A"},{"$error":"#N/A"},{"$error":"#N/A"},{"$error":"#N/A"},{"$error":"#N/A"},{"$error":"#N/A"},{"$error":"#N/A"},{"$error":"#N/A"},{"$error":"#N/A"},{"$error":"#N/A"},{"$error":"#N/A"},{"$error":"#N/A"},{"$error":"#N/A"},{"$error":"#N/A"},{"$error":"#N/A"},{"$error":"#N/A"},{"$error":"#N/A"}]
[null,"Transportation Jet Fuel, Naphtha",{"$error":"#N/A"},{"$error":"#N/A"},{"$error":"#N/A"},{"$error":"#N/A"},{"$error":"#N/A"},{"$error":"#N/A"},{"$error":"#N/A"},{"$error":"#N/A"},{"$error":"#N/A"},{"$error":"#N/A"},{"$error":"#N/A"},{"$error":"#N/A"},{"$error":"#N/A"},{"$f":"VLOOKUP(StateID&\" \"&$B108,ConsumeBlock,P$5-1988,FALSE)","v":{"$error":"#N/A"}},{"$f":"VLOOKUP(StateID&\" \"&$B108,ConsumeBlock,Q$5-1988,FALSE)","v":{"$error":"#N/A"}},{"$f":"VLOOKUP(StateID&\" \"&$B108,ConsumeBlock,R$5-1988,FALSE)","v":{"$error":"#N/A"}},{"$error":"#N/A"},{"$error":"#N/A"},{"$error":"#N/A"},{"$error":"#N/A"},{"$error":"#N/A"},{"$error":"#N/A"},{"$error":"#N/A"},{"$error":"#N/A"},{"$error":"#N/A"},{"$error":"#N/A"},{"$error":"#N/A"},{"$error":"#N/A"},{"$error":"#N/A"},{"$error":"#N/A"},{"$error":"#N/A"}]
[null,"Transportation LPG",{"$f":"VLOOKUP(StateID&\" \"&$B109,ConsumeBlock,C$5-1988,FALSE)","v":{"$error":"#N/A"}},{"$error":"#N/A"},{"$error":"#N/A"},{"$error":"#N/A"},{"$error":"#N/A"},{"$error":"#N/A"},{"$error":"#N/A"},{"$error":"#N/A"},{"$error":"#N/A"},{"$error":"#N/A"},{"$error":"#N/A"},{"$error":"#N/A"},{"$error":"#N/A"},{"$error":"#N/A"},{"$error":"#N/A"},{"$error":"#N/A"},{"$error":"#N/A"},{"$f":"VLOOKUP(StateID&\" \"&$B109,ConsumeBlock,T$5-1988,FALSE)","v":{"$error":"#N/A"}},{"$error":"#N/A"},{"$error":"#N/A"},{"$error":"#N/A"},{"$error":"#N/A"},{"$error":"#N/A"},{"$error":"#N/A"},{"$error":"#N/A"},{"$error":"#N/A"},{"$error":"#N/A"},{"$error":"#N/A"},{"$error":"#N/A"},{"$error":"#N/A"},{"$error":"#N/A"}]
[null,"Transportation Lubricants",{"$error":"#N/A"},{"$error":"#N/A"},{"$error":"#N/A"},{"$error":"#N/A"},{"$error":"#N/A"},{"$error":"#N/A"},{"$error":"#N/A"},{"$error":"#N/A"},{"$error":"#N/A"},{"$error":"#N/A"},{"$error":"#N/A"},{"$error":"#N/A"},{"$error":"#N/A"},{"$error":"#N/A"},{"$error":"#N/A"},{"$error":"#N/A"},{"$error":"#N/A"},{"$error":"#N/A"},{"$error":"#N/A"},{"$error":"#N/A"},{"$error":"#N/A"},{"$error":"#N/A"},{"$error":"#N/A"},{"$error":"#N/A"},{"$error":"#N/A"},{"$error":"#N/A"},{"$error":"#N/A"},{"$error":"#N/A"},{"$error":"#N/A"},{"$error":"#N/A"},{"$error":"#N/A"}]
[null,"Transportation Motor Gasoline",{"$f":"VLOOKUP(StateID&\" \"&$B111,ConsumeBlock,C$5-1988,FALSE)-VLOOKUP(StateID,Ethanol,C$5-1988,FALSE)","v":{"$error":"#N/A"}},{"$error":"#N/A"},{"$error":"#N/A"},{"$error":"#N/A"},{"$error":"#N/A"},{"$error":"#N/A"},{"$error":"#N/A"},{"$error":"#N/A"},{"$error":"#N/A"},{"$error":"#N/A"},{"$error":"#N/A"},{"$error":"#N/A"},{"$error":"#N/A"},{"$error":"#N/A"},{"$error":"#N/A"},{"$error":"#N/A"},{"$error":"#N/A"},{"$error":"#N/A"},{"$error":"#N/A"},{"$error":"#N/A"},{"$error":"#N/A"},{"$error":"#N/A"},{"$error":"#N/A"},{"$error":"#N/A"},{"$error":"#N/A"},{"$error":"#N/A"},{"$error":"#N/A"},{"$error":"#N/A"},{"$error":"#N/A"},{"$error":"#N/A"},{"$error":"#N/A"}]
[null,"Transportation Natural Gas",{"$error":"#N/A"},{"$error":"#N/A"},{"$error":"#N/A"},{"$error":"#N/A"},{"$error":"#N/A"},{"$error":"#N/A"},{"$error":"#N/A"},{"$error":"#N/A"},{"$error":"#N/A"},{"$error":"#N/A"},{"$error":"#N/A"},{"$error":"#N/A"},{"$error":"#N/A"},{"$error":"#N/A"},{"$error":"#N/A"},{"$error":"#N/A"},{"$error":"#N/A"},{"$error":"#N/A"},{"$error":"#N/A"},{"$error":"#N/A"},{"$error":"#N/A"},{"$error":"#N/A"},{"$error":"#N/A"},{"$error":"#N/A"},{"$error":"#N/A"},{"$error":"#N/A"},{"$error":"#N/A"},{"$error":"#N/A"},{"$error":"#N/A"},{"$error":"#N/A"},{"$error":"#N/A"}]
[null,"Transportation Residual Fuel",{"$error":"#N/A"},{"$error":"#N/A"},{"$error":"#N/A"},{"$error":"#N/A"},{"$error":"#N/A"},{"$error":"#N/A"},{"$error":"#N/A"},{"$error":"#N/A"},{"$error":"#N/A"},{"$error":"#N/A"},{"$error":"#N/A"},{"$error":"#N/A"},{"$error":"#N/A"},{"$error":"#N/A"},{"$error":"#N/A"},{"$error":"#N/A"},{"$error":"#N/A"},{"$error":"#N/A"},{"$error":"#N/A"},{"$error":"#N/A"},{"$error":"#N/A"},{"$error":"#N/A"},{"$error":"#N/A"},{"$error":"#N/A"},{"$error":"#N/A"},{"$error":"#N/A"},{"$error":"#N/A"},{"$error":"#N/A"},{"$error":"#N/A"},{"$error":"#N/A"},{"$error":"#N/A"}]
[null,"Transportation Other"]
[null,"Bunker Fuels Distillate Fuel",{"$f":"VLOOKUP(StateID&\" \"&$B115,ConsumeBlock,C$5-1988,FALSE)","v":{"$error":"#N/A"}},{"$error":"#N/A"},{"$error":"#N/A"},{"$error":"#N/A"},{"$error":"#N/A"},{"$error":"#N/A"},{"$error":"#N/A"},{"$error":"#N/A"},{"$error":"#N/A"},{"$error":"#N/A"},{"$error":"#N/A"},{"$error":"#N/A"},{"$error":"#N/A"},{"$error":"#N/A"},{"$error":"#N/A"},{"$error":"#N/A"},{"$error":"#N/A"},{"$error":"#N/A"},{"$error":"#N/A"},{"$error":"#N/A"},{"$error":"#N/A"},{"$error":"#N/A"},{"$error":"#N/A"},{"$error":"#N/A"},{"$error":"#N/A"},{"$error":"#N/A"},{"$error":"#N/A"},{"$error":"#N/A"},{"$error":"#N/A"},{"$error":"#N/A"},{"$error":"#N/A"}]
[null,"Bunker Fuels Residual Fuel",{"$f":"VLOOKUP(StateID&\" \"&$B116,ConsumeBlock,C$5-1988,FALSE)","v":{"$error":"#N/A"}},{"$error":"#N/A"},{"$error":"#N/A"},{"$error":"#N/A"},{"$error":"#N/A"},{"$error":"#N/A"},{"$error":"#N/A"},{"$error":"#N/A"},{"$error":"#N/A"},{"$error":"#N/A"},{"$error":"#N/A"},{"$error":"#N/A"},{"$error":"#N/A"},{"$error":"#N/A"},{"$error":"#N/A"},{"$f":"VLOOKUP(StateID&\" \"&$B116,ConsumeBlock,R$5-1988,FALSE)","v":{"$error":"#N/A"}},{"$error":"#N/A"},{"$error":"#N/A"},{"$error":"#N/A"},{"$error":"#N/A"},{"$error":"#N/A"},{"$error":"#N/A"},{"$error":"#N/A"},{"$error":"#N/A"},{"$error":"#N/A"},{"$error":"#N/A"},{"$error":"#N/A"},{"$error":"#N/A"},{"$error":"#N/A"},{"$error":"#N/A"},{"$error":"#N/A"}]
[null,"Bunker Fuels Jet Fuel, Kerosene",{"$f":"VLOOKUP(StateID&\" \"&$B117,ConsumeBlock,C$5-1988,FALSE)","v":{"$error":"#N/A"}},{"$f":"VLOOKUP(StateID&\" \"&$B117,ConsumeBlock,D$5-1988,FALSE)","v":{"$error":"#N/A"}},{"$error":"#N/A"},{"$error":"#N/A"},{"$error":"#N/A"},{"$error":"#N/A"},{"$error":"#N/A"},{"$error":"#N/A"},{"$error":"#N/A"},{"$error":"#N/A"},{"$error":"#N/A"},{"$error":"#N/A"},{"$error":"#N/A"},{"$error":"#N/A"},{"$error":"#N/A"},{"$f":"VLOOKUP(StateID&\" \"&$B117,ConsumeBlock,R$5-1988,FALSE)","v":{"$error":"#N/A"}},{"$error":"#N/A"},{"$error":"#N/A"},{"$error":"#N/A"},{"$error":"#N/A"},{"$error":"#N/A"},{"$error":"#N/A"},{"$error":"#N/A"},{"$error":"#N/A"},{"$error":"#N/A"},{"$error":"#N/A"},{"$error":"#N/A"},{"$error":"#N/A"},{"$error":"#N/A"},{"$error":"#N/A"},{"$error":"#N/A"}]

{"sheet":"Residential N2O","index":2,"n_rows":404,"n_cols":12,"rows_kept":404,"cut":false,"hidden":false,"merged":[]}
[{"$f":"\"2. Residential Consumption and N2O emissions in \"&Constants!G2","v":"2. Residential Consumption and N2O emissions in Select a State . . ."}]
[{"$f":"Constants!H2","v":"xx"},"Residential",{"$f":"\" \"","v":" "}]
["Residential Sector N20",null,null,1990]
[]
[null,"Consumption",null,"Emission Factor",null,"Emissions ",null,"GWP",null,"Emissions ",null,"Emissions "]
["Fuel Type","(Billion Btu)",null,"(metric tons N2O/BBtu)",null,"(metric tons N2O)",null,null,null,"(MMTCE)",null,"(MMTCO2E)"]
["Coal",{"$f":"VLOOKUP($A$2&$C$2&$B$2&$C$2&$A7,ConsumeBlock3,3,FALSE)","v":{"$error":"#N/A"}},"x",{"$f":"CoalNEFres","v":0},"=",{"$f":"B7*D7","v":{"$error":"#N/A"}},"x",{"$f":"GWPN2O","v":298},"=",{"$f":"F7*H7*CO2_C/(10^6)","v":{"$error":"#N/A"}},"=",{"$f":"J7/CO2_C","v":{"$error":"#N/A"}}]
["Distillate Fuel",{"$error":"#N/A"},"x",{"$f":"DistillNEFres","v":0},"=",{"$f":"B8*D8","v":{"$error":"#N/A"}},"x",298,"=",{"$error":"#N/A"},"=",{"$error":"#N/A"}]
["Kerosene",{"$error":"#N/A"},"x",{"$f":"KeroNEFres","v":0},"=",{"$error":"#N/A"},"x",298,"=",{"$error":"#N/A"},"=",{"$error":"#N/A"}]
["Hydrocarbon Gas Liquids",{"$error":"#N/A"},"x",{"$f":"LPGNEFres","v":0},"=",{"$error":"#N/A"},"x",298,"=",{"$error":"#N/A"},"=",{"$error":"#N/A"}]
["Natural Gas",{"$error":"#N/A"},"x",{"$f":"NatGasNEFres","v":0},"=",{"$error":"#N/A"},"x",298,"=",{"$error":"#N/A"},"=",{"$error":"#N/A"}]
["Wood",{"$error":"#N/A"},"x",{"$f":"WoodNEFres","v":0},"=",{"$error":"#N/A"},"x",298,"=",{"$error":"#N/A"},"=",{"$error":"#N/A"}]
["Other",{"$f":"VLOOKUP($A$2&$C$2&$B$2&$C$2&$A13,ConsumeBlock3,D3-1987,FALSE)","v":0},"x",{"$f":"OtherNEFres","v":0},"=",0,"x",298,"=",0,"=",0]
[null,null,null,null,null,null,null,"Total","=",{"$f":"SUM(J7:J13)","v":{"$error":"#N/A"}},"=",{"$error":"#N/A"}]
[]
["Residential Sector N20",null,null,1991]
[]
[null,"Consumption",null,"Emission Factor",null,"Emissions ",null,"GWP",null,"Emissions ",null,"Emissions "]
["Fuel Type","(Billion Btu)",null,"(metric tons N2O/BBtu)",null,"(metric tons N2O)",null,null,null,"(MMTCE)",null,"(MMTCO2E)"]
["Coal",{"$f":"VLOOKUP($A$2&$C$2&$B$2&$C$2&$A20,ConsumeBlock3,4,FALSE)","v":{"$error":"#N/A"}},"x",{"$f":"CoalNEFres","v":0},"=",{"$f":"B20*D20","v":{"$error":"#N/A"}},"x",{"$f":"GWPN2O","v":298},"=",{"$f":"F20*H20*CO2_C/(10^6)","v":{"$error":"#N/A"}},"=",{"$f":"J20/CO2_C","v":{"$error":"#N/A"}}]
["Distillate Fuel",{"$error":"#N/A"},"x",{"$f":"DistillNEFres","v":0},"=",{"$f":"B21*D21","v":{"$error":"#N/A"}},"x",298,"=",{"$error":"#N/A"},"=",{"$error":"#N/A"}]
["Kerosene",{"$error":"#N/A"},"x",{"$f":"KeroNEFres","v":0},"=",{"$error":"#N/A"},"x",298,"=",{"$error":"#N/A"},"=",{"$error":"#N/A"}]
["Hydrocarbon Gas Liquids",{"$error":"#N/A"},"x",{"$f":"LPGNEFres","v":0},"=",{"$error":"#N/A"},"x",298,"=",{"$error":"#N/A"},"=",{"$error":"#N/A"}]
["Natural Gas",{"$error":"#N/A"},"x",{"$f":"NatGasNEFres","v":0},"=",{"$error":"#N/A"},"x",298,"=",{"$error":"#N/A"},"=",{"$error":"#N/A"}]
["Wood",{"$error":"#N/A"},"x",{"$f":"WoodNEFres","v":0},"=",{"$error":"#N/A"},"x",298,"=",{"$error":"#N/A"},"=",{"$error":"#N/A"}]
["Other",{"$f":"VLOOKUP($A$2&$C$2&$B$2&$C$2&$A26,ConsumeBlock3,D16-1987,FALSE)","v":0},"x",{"$f":"OtherNEFres","v":0},"=",0,"x",298,"=",0,"=",0]
[null,null,null,null,null,null,null,"Total","=",{"$f":"SUM(J20:J26)","v":{"$error":"#N/A"}},"=",{"$error":"#N/A"}]
[]
["Residential Sector N20",null,null,1992]
[]
[null,"Consumption",null,"Emission Factor",null,"Emissions ",null,"GWP",null,"Emissions ",null,"Emissions "]
["Fuel Type","(Billion Btu)",null,"(metric tons N2O/BBtu)",null,"(metric tons N2O)",null,null,null,"(MMTCE)",null,"(MMTCO2E)"]
["Coal",{"$f":"VLOOKUP($A$2&$C$2&$B$2&$C$2&$A33,ConsumeBlock3,5,FALSE)","v":{"$error":"#N/A"}},"x",{"$f":"CoalNEFres","v":0},"=",{"$f":"B33*D33","v":{"$error":"#N/A"}},"x",{"$f":"GWPN2O","v":298},"=",{"$f":"F33*H33*CO2_C/(10^6)","v":{"$error":"#N/A"}},"=",{"$f":"J33/CO2_C","v":{"$error":"#N/A"}}]
["Distillate Fuel",{"$error":"#N/A"},"x",{"$f":"DistillNEFres","v":0},"=",{"$f":"B34*D34","v":{"$error":"#N/A"}},"x",298,"=",{"$error":"#N/A"},"=",{"$error":"#N/A"}]
["Kerosene",{"$error":"#N/A"},"x",{"$f":"KeroNEFres","v":0},"=",{"$error":"#N/A"},"x",298,"=",{"$error":"#N/A"},"=",{"$error":"#N/A"}]
["Hydrocarbon Gas Liquids",{"$error":"#N/A"},"x",{"$f":"LPGNEFres","v":0},"=",{"$error":"#N/A"},"x",298,"=",{"$error":"#N/A"},"=",{"$error":"#N/A"}]
["Natural Gas",{"$error":"#N/A"},"x",{"$f":"NatGasNEFres","v":0},"=",{"$error":"#N/A"},"x",298,"=",{"$error":"#N/A"},"=",{"$error":"#N/A"}]
["Wood",{"$error":"#N/A"},"x",{"$f":"WoodNEFres","v":0},"=",{"$error":"#N/A"},"x",298,"=",{"$error":"#N/A"},"=",{"$error":"#N/A"}]
["Other",{"$f":"VLOOKUP($A$2&$C$2&$B$2&$C$2&$A39,ConsumeBlock3,D29-1987,FALSE)","v":0},"x",{"$f":"OtherNEFres","v":0},"=",0,"x",298,"=",0,"=",0]
[null,null,null,null,null,null,null,"Total","=",{"$f":"SUM(J33:J39)","v":{"$error":"#N/A"}},"=",{"$error":"#N/A"}]
[]
["Residential Sector N20",null,null,1993]
[]
[null,"Consumption",null,"Emission Factor",null,"Emissions ",null,"GWP",null,"Emissions ",null,"Emissions "]
["Fuel Type","(Billion Btu)",null,"(metric tons N2O/BBtu)",null,"(metric tons N2O)",null,null,null,"(MMTCE)",null,"(MMTCO2E)"]
["Coal",{"$f":"VLOOKUP($A$2&$C$2&$B$2&$C$2&$A46,ConsumeBlock3,6,FALSE)","v":{"$error":"#N/A"}},"x",{"$f":"CoalNEFres","v":0},"=",{"$f":"B46*D46","v":{"$error":"#N/A"}},"x",{"$f":"GWPN2O","v":298},"=",{"$f":"F46*H46*CO2_C/(10^6)","v":{"$error":"#N/A"}},"=",{"$f":"J46/CO2_C","v":{"$error":"#N/A"}}]
["Distillate Fuel",{"$error":"#N/A"},"x",{"$f":"DistillNEFres","v":0},"=",{"$f":"B47*D47","v":{"$error":"#N/A"}},"x",298,"=",{"$error":"#N/A"},"=",{"$error":"#N/A"}]
["Kerosene",{"$error":"#N/A"},"x",{"$f":"KeroNEFres","v":0},"=",{"$error":"#N/A"},"x",298,"=",{"$error":"#N/A"},"=",{"$error":"#N/A"}]
["Hydrocarbon Gas Liquids",{"$error":"#N/A"},"x",{"$f":"LPGNEFres","v":0},"=",{"$error":"#N/A"},"x",298,"=",{"$error":"#N/A"},"=",{"$error":"#N/A"}]
["Natural Gas",{"$error":"#N/A"},"x",{"$f":"NatGasNEFres","v":0},"=",{"$error":"#N/A"},"x",298,"=",{"$error":"#N/A"},"=",{"$error":"#N/A"}]
["Wood",{"$error":"#N/A"},"x",{"$f":"WoodNEFres","v":0},"=",{"$error":"#N/A"},"x",298,"=",{"$error":"#N/A"},"=",{"$error":"#N/A"}]
["Other",{"$f":"VLOOKUP($A$2&$C$2&$B$2&$C$2&$A52,ConsumeBlock3,D42-1987,FALSE)","v":0},"x",{"$f":"OtherNEFres","v":0},"=",0,"x",298,"=",0,"=",0]
[null,null,null,null,null,null,null,"Total","=",{"$f":"SUM(J46:J52)","v":{"$error":"#N/A"}},"=",{"$error":"#N/A"}]
[]
["Residential Sector N20",null,null,1994]
[]
[null,"Consumption",null,"Emission Factor",null,"Emissions ",null,"GWP",null,"Emissions ",null,"Emissions "]
["Fuel Type","(Billion Btu)",null,"(metric tons N2O/BBtu)",null,"(metric tons N2O)",null,null,null,"(MMTCE)",null,"(MMTCO2E)"]
["Coal",{"$f":"VLOOKUP($A$2&$C$2&$B$2&$C$2&$A59,ConsumeBlock3,7,FALSE)","v":{"$error":"#N/A"}},"x",{"$f":"CoalNEFres","v":0},"=",{"$f":"B59*D59","v":{"$error":"#N/A"}},"x",{"$f":"GWPN2O","v":298},"=",{"$f":"F59*H59*CO2_C/(10^6)","v":{"$error":"#N/A"}},"=",{"$f":"J59/CO2_C","v":{"$error":"#N/A"}}]
["Distillate Fuel",{"$error":"#N/A"},"x",{"$f":"DistillNEFres","v":0},"=",{"$f":"B60*D60","v":{"$error":"#N/A"}},"x",298,"=",{"$error":"#N/A"},"=",{"$error":"#N/A"}]
["Kerosene",{"$error":"#N/A"},"x",{"$f":"KeroNEFres","v":0},"=",{"$error":"#N/A"},"x",298,"=",{"$error":"#N/A"},"=",{"$error":"#N/A"}]
["Hydrocarbon Gas Liquids",{"$error":"#N/A"},"x",{"$f":"LPGNEFres","v":0},"=",{"$error":"#N/A"},"x",298,"=",{"$error":"#N/A"},"=",{"$error":"#N/A"}]
["Natural Gas",{"$error":"#N/A"},"x",{"$f":"NatGasNEFres","v":0},"=",{"$error":"#N/A"},"x",298,"=",{"$error":"#N/A"},"=",{"$error":"#N/A"}]
["Wood",{"$error":"#N/A"},"x",{"$f":"WoodNEFres","v":0},"=",{"$error":"#N/A"},"x",298,"=",{"$error":"#N/A"},"=",{"$error":"#N/A"}]
["Other",{"$f":"VLOOKUP($A$2&$C$2&$B$2&$C$2&$A65,ConsumeBlock3,D55-1987,FALSE)","v":0},"x",{"$f":"OtherNEFres","v":0},"=",0,"x",298,"=",0,"=",0]
[null,null,null,null,null,null,null,"Total","=",{"$f":"SUM(J59:J65)","v":{"$error":"#N/A"}},"=",{"$error":"#N/A"}]
[]
["Residential Sector N20",null,null,1995]
[]
[null,"Consumption",null,"Emission Factor",null,"Emissions ",null,"GWP",null,"Emissions ",null,"Emissions "]
["Fuel Type","(Billion Btu)",null,"(metric tons N2O/BBtu)",null,"(metric tons N2O)",null,null,null,"(MMTCE)",null,"(MMTCO2E)"]
["Coal",{"$f":"VLOOKUP($A$2&$C$2&$B$2&$C$2&$A72,ConsumeBlock3,8,FALSE)","v":{"$error":"#N/A"}},"x",{"$f":"CoalNEFres","v":0},"=",{"$f":"B72*D72","v":{"$error":"#N/A"}},"x",{"$f":"GWPN2O","v":298},"=",{"$f":"F72*H72*CO2_C/(10^6)","v":{"$error":"#N/A"}},"=",{"$f":"J72/CO2_C","v":{"$error":"#N/A"}}]
["Distillate Fuel",{"$error":"#N/A"},"x",{"$f":"DistillNEFres","v":0},"=",{"$f":"B73*D73","v":{"$error":"#N/A"}},"x",298,"=",{"$error":"#N/A"},"=",{"$error":"#N/A"}]
["Kerosene",{"$error":"#N/A"},"x",{"$f":"KeroNEFres","v":0},"=",{"$error":"#N/A"},"x",298,"=",{"$error":"#N/A"},"=",{"$error":"#N/A"}]
["Hydrocarbon Gas Liquids",{"$error":"#N/A"},"x",{"$f":"LPGNEFres","v":0},"=",{"$error":"#N/A"},"x",298,"=",{"$error":"#N/A"},"=",{"$error":"#N/A"}]
["Natural Gas",{"$error":"#N/A"},"x",{"$f":"NatGasNEFres","v":0},"=",{"$error":"#N/A"},"x",298,"=",{"$error":"#N/A"},"=",{"$error":"#N/A"}]
["Wood",{"$error":"#N/A"},"x",{"$f":"WoodNEFres","v":0},"=",{"$error":"#N/A"},"x",298,"=",{"$error":"#N/A"},"=",{"$error":"#N/A"}]
["Other",{"$f":"VLOOKUP($A$2&$C$2&$B$2&$C$2&$A78,ConsumeBlock3,D68-1987,FALSE)","v":0},"x",{"$f":"OtherNEFres","v":0},"=",0,"x",298,"=",0,"=",0]
[null,null,null,null,null,null,null,"Total","=",{"$f":"SUM(J72:J78)","v":{"$error":"#N/A"}},"=",{"$error":"#N/A"}]
[]
["Residential Sector N20",null,null,1996]
[]
[null,"Consumption",null,"Emission Factor",null,"Emissions ",null,"GWP",null,"Emissions ",null,"Emissions "]
["Fuel Type","(Billion Btu)",null,"(metric tons N2O/BBtu)",null,"(metric tons N2O)",null,null,null,"(MMTCE)",null,"(MMTCO2E)"]
["Coal",{"$f":"VLOOKUP($A$2&$C$2&$B$2&$C$2&$A85,ConsumeBlock3,9,FALSE)","v":{"$error":"#N/A"}},"x",{"$f":"CoalNEFres","v":0},"=",{"$f":"B85*D85","v":{"$error":"#N/A"}},"x",{"$f":"GWPN2O","v":298},"=",{"$f":"F85*H85*CO2_C/(10^6)","v":{"$error":"#N/A"}},"=",{"$f":"J85/CO2_C","v":{"$error":"#N/A"}}]
["Distillate Fuel",{"$error":"#N/A"},"x",{"$f":"DistillNEFres","v":0},"=",{"$f":"B86*D86","v":{"$error":"#N/A"}},"x",298,"=",{"$error":"#N/A"},"=",{"$error":"#N/A"}]
["Kerosene",{"$error":"#N/A"},"x",{"$f":"KeroNEFres","v":0},"=",{"$error":"#N/A"},"x",298,"=",{"$error":"#N/A"},"=",{"$error":"#N/A"}]
["Hydrocarbon Gas Liquids",{"$error":"#N/A"},"x",{"$f":"LPGNEFres","v":0},"=",{"$error":"#N/A"},"x",298,"=",{"$error":"#N/A"},"=",{"$error":"#N/A"}]
["Natural Gas",{"$error":"#N/A"},"x",{"$f":"NatGasNEFres","v":0},"=",{"$error":"#N/A"},"x",298,"=",{"$error":"#N/A"},"=",{"$error":"#N/A"}]
["Wood",{"$error":"#N/A"},"x",{"$f":"WoodNEFres","v":0},"=",{"$error":"#N/A"},"x",298,"=",{"$error":"#N/A"},"=",{"$error":"#N/A"}]
["Other",{"$f":"VLOOKUP($A$2&$C$2&$B$2&$C$2&$A91,ConsumeBlock3,D81-1987,FALSE)","v":0},"x",{"$f":"OtherNEFres","v":0},"=",0,"x",298,"=",0,"=",0]
[null,null,null,null,null,null,null,"Total","=",{"$f":"SUM(J85:J91)","v":{"$error":"#N/A"}},"=",{"$error":"#N/A"}]
[]
["Residential Sector N20",null,null,1997]
[]
[null,"Consumption",null,"Emission Factor",null,"Emissions ",null,"GWP",null,"Emissions ",null,"Emissions "]
["Fuel Type","(Billion Btu)",null,"(metric tons N2O/BBtu)",null,"(metric tons N2O)",null,null,null,"(MMTCE)",null,"(MMTCO2E)"]
["Coal",{"$f":"VLOOKUP($A$2&$C$2&$B$2&$C$2&$A98,ConsumeBlock3,10,FALSE)","v":{"$error":"#N/A"}},"x",{"$f":"CoalNEFres","v":0},"=",{"$f":"B98*D98","v":{"$error":"#N/A"}},"x",{"$f":"GWPN2O","v":298},"=",{"$f":"F98*H98*CO2_C/(10^6)","v":{"$error":"#N/A"}},"=",{"$f":"J98/CO2_C","v":{"$error":"#N/A"}}]
["Distillate Fuel",{"$error":"#N/A"},"x",{"$f":"DistillNEFres","v":0},"=",{"$f":"B99*D99","v":{"$error":"#N/A"}},"x",298,"=",{"$error":"#N/A"},"=",{"$error":"#N/A"}]
["Kerosene",{"$error":"#N/A"},"x",{"$f":"KeroNEFres","v":0},"=",{"$error":"#N/A"},"x",298,"=",{"$error":"#N/A"},"=",{"$error":"#N/A"}]
["Hydrocarbon Gas Liquids",{"$error":"#N/A"},"x",{"$f":"LPGNEFres","v":0},"=",{"$error":"#N/A"},"x",298,"=",{"$error":"#N/A"},"=",{"$error":"#N/A"}]
["Natural Gas",{"$error":"#N/A"},"x",{"$f":"NatGasNEFres","v":0},"=",{"$error":"#N/A"},"x",298,"=",{"$error":"#N/A"},"=",{"$error":"#N/A"}]
["Wood",{"$error":"#N/A"},"x",{"$f":"WoodNEFres","v":0},"=",{"$error":"#N/A"},"x",298,"=",{"$error":"#N/A"},"=",{"$error":"#N/A"}]
["Other",{"$f":"VLOOKUP($A$2&$C$2&$B$2&$C$2&$A104,ConsumeBlock3,D94-1987,FALSE)","v":0},"x",{"$f":"OtherNEFres","v":0},"=",0,"x",298,"=",0,"=",0]
[null,null,null,null,null,null,null,"Total","=",{"$f":"SUM(J98:J104)","v":{"$error":"#N/A"}},"=",{"$error":"#N/A"}]
[]
["Residential Sector N20",null,null,1998]
[]
[null,"Consumption",null,"Emission Factor",null,"Emissions ",null,"GWP",null,"Emissions ",null,"Emissions "]
["Fuel Type","(Billion Btu)",null,"(metric tons N2O/BBtu)",null,"(metric tons N2O)",null,null,null,"(MMTCE)",null,"(MMTCO2E)"]
["Coal",{"$f":"VLOOKUP($A$2&$C$2&$B$2&$C$2&$A111,ConsumeBlock3,11,FALSE)","v":{"$error":"#N/A"}},"x",{"$f":"CoalNEFres","v":0},"=",{"$f":"B111*D111","v":{"$error":"#N/A"}},"x",{"$f":"GWPN2O","v":298},"=",{"$f":"F111*H111*CO2_C/(10^6)","v":{"$error":"#N/A"}},"=",{"$f":"J111/CO2_C","v":{"$error":"#N/A"}}]
["Distillate Fuel",{"$error":"#N/A"},"x",{"$f":"DistillNEFres","v":0},"=",{"$f":"B112*D112","v":{"$error":"#N/A"}},"x",298,"=",{"$error":"#N/A"},"=",{"$error":"#N/A"}]
["Kerosene",{"$error":"#N/A"},"x",{"$f":"KeroNEFres","v":0},"=",{"$error":"#N/A"},"x",298,"=",{"$error":"#N/A"},"=",{"$error":"#N/A"}]
["Hydrocarbon Gas Liquids",{"$error":"#N/A"},"x",{"$f":"LPGNEFres","v":0},"=",{"$error":"#N/A"},"x",298,"=",{"$error":"#N/A"},"=",{"$error":"#N/A"}]
["Natural Gas",{"$error":"#N/A"},"x",{"$f":"NatGasNEFres","v":0},"=",{"$error":"#N/A"},"x",298,"=",{"$error":"#N/A"},"=",{"$error":"#N/A"}]
["Wood",{"$error":"#N/A"},"x",{"$f":"WoodNEFres","v":0},"=",{"$error":"#N/A"},"x",298,"=",{"$error":"#N/A"},"=",{"$error":"#N/A"}]
["Other",{"$f":"VLOOKUP($A$2&$C$2&$B$2&$C$2&$A117,ConsumeBlock3,D107-1987,FALSE)","v":0},"x",{"$f":"OtherNEFres","v":0},"=",0,"x",298,"=",0,"=",0]
[null,null,null,null,null,null,null,"Total","=",{"$f":"SUM(J111:J117)","v":{"$error":"#N/A"}},"=",{"$error":"#N/A"}]
[]
["Residential Sector N20",null,null,1999]
[]
[null,"Consumption",null,"Emission Factor",null,"Emissions ",null,"GWP",null,"Emissions ",null,"Emissions "]
["Fuel Type","(Billion Btu)",null,"(metric tons N2O/BBtu)",null,"(metric tons N2O)",null,null,null,"(MMTCE)",null,"(MMTCO2E)"]
["Coal",{"$f":"VLOOKUP($A$2&$C$2&$B$2&$C$2&$A124,ConsumeBlock3,12,FALSE)","v":{"$error":"#N/A"}},"x",{"$f":"CoalNEFres","v":0},"=",{"$f":"B124*D124","v":{"$error":"#N/A"}},"x",{"$f":"GWPN2O","v":298},"=",{"$f":"F124*H124*CO2_C/(10^6)","v":{"$error":"#N/A"}},"=",{"$f":"J124/CO2_C","v":{"$error":"#N/A"}}]
["Distillate Fuel",{"$error":"#N/A"},"x",{"$f":"DistillNEFres","v":0},"=",{"$f":"B125*D125","v":{"$error":"#N/A"}},"x",298,"=",{"$error":"#N/A"},"=",{"$error":"#N/A"}]
["Kerosene",{"$error":"#N/A"},"x",{"$f":"KeroNEFres","v":0},"=",{"$error":"#N/A"},"x",298,"=",{"$error":"#N/A"},"=",{"$error":"#N/A"}]
["Hydrocarbon Gas Liquids",{"$error":"#N/A"},"x",{"$f":"LPGNEFres","v":0},"=",{"$error":"#N/A"},"x",298,"=",{"$error":"#N/A"},"=",{"$error":"#N/A"}]
["Natural Gas",{"$error":"#N/A"},"x",{"$f":"NatGasNEFres","v":0},"=",{"$error":"#N/A"},"x",298,"=",{"$error":"#N/A"},"=",{"$error":"#N/A"}]
["Wood",{"$error":"#N/A"},"x",{"$f":"WoodNEFres","v":0},"=",{"$error":"#N/A"},"x",298,"=",{"$error":"#N/A"},"=",{"$error":"#N/A"}]
["Other",{"$f":"VLOOKUP($A$2&$C$2&$B$2&$C$2&$A130,ConsumeBlock3,D120-1987,FALSE)","v":0},"x",{"$f":"OtherNEFres","v":0},"=",0,"x",298,"=",0,"=",0]
[null,null,null,null,null,null,null,"Total","=",{"$f":"SUM(J124:J130)","v":{"$error":"#N/A"}},"=",{"$error":"#N/A"}]
[]
["Residential Sector N20",null,null,2000]
[]
[null,"Consumption",null,"Emission Factor",null,"Emissions ",null,"GWP",null,"Emissions ",null,"Emissions "]
["Fuel Type","(Billion Btu)",null,"(metric tons N2O/BBtu)",null,"(metric tons N2O)",null,null,null,"(MMTCE)",null,"(MMTCO2E)"]
["Coal",{"$f":"VLOOKUP($A$2&$C$2&$B$2&$C$2&$A137,ConsumeBlock3,13,FALSE)","v":{"$error":"#N/A"}},"x",{"$f":"CoalNEFres","v":0},"=",{"$f":"B137*D137","v":{"$error":"#N/A"}},"x",{"$f":"GWPN2O","v":298},"=",{"$f":"F137*H137*CO2_C/(10^6)","v":{"$error":"#N/A"}},"=",{"$f":"J137/CO2_C","v":{"$error":"#N/A"}}]
["Distillate Fuel",{"$error":"#N/A"},"x",{"$f":"DistillNEFres","v":0},"=",{"$f":"B138*D138","v":{"$error":"#N/A"}},"x",298,"=",{"$error":"#N/A"},"=",{"$error":"#N/A"}]
["Kerosene",{"$error":"#N/A"},"x",{"$f":"KeroNEFres","v":0},"=",{"$error":"#N/A"},"x",298,"=",{"$error":"#N/A"},"=",{"$error":"#N/A"}]
["Hydrocarbon Gas Liquids",{"$error":"#N/A"},"x",{"$f":"LPGNEFres","v":0},"=",{"$error":"#N/A"},"x",298,"=",{"$error":"#N/A"},"=",{"$error":"#N/A"}]
["Natural Gas",{"$error":"#N/A"},"x",{"$f":"NatGasNEFres","v":0},"=",{"$error":"#N/A"},"x",298,"=",{"$error":"#N/A"},"=",{"$error":"#N/A"}]
["Wood",{"$error":"#N/A"},"x",{"$f":"WoodNEFres","v":0},"=",{"$error":"#N/A"},"x",298,"=",{"$error":"#N/A"},"=",{"$error":"#N/A"}]
["Other",{"$f":"VLOOKUP($A$2&$C$2&$B$2&$C$2&$A143,ConsumeBlock3,D133-1987,FALSE)","v":0},"x",{"$f":"OtherNEFres","v":0},"=",0,"x",298,"=",0,"=",0]
[null,null,null,null,null,null,null,"Total","=",{"$f":"SUM(J137:J143)","v":{"$error":"#N/A"}},"=",{"$error":"#N/A"}]
[]
["Residential Sector N20",null,null,2001]
[]
[null,"Consumption",null,"Emission Factor",null,"Emissions ",null,"GWP",null,"Emissions ",null,"Emissions "]
["Fuel Type","(Billion Btu)",null,"(metric tons N2O/BBtu)",null,"(metric tons N2O)",null,null,null,"(MMTCE)",null,"(MMTCO2E)"]
["Coal",{"$f":"VLOOKUP($A$2&$C$2&$B$2&$C$2&$A150,ConsumeBlock3,14,FALSE)","v":{"$error":"#N/A"}},"x",{"$f":"CoalNEFres","v":0},"=",{"$f":"B150*D150","v":{"$error":"#N/A"}},"x",{"$f":"GWPN2O","v":298},"=",{"$f":"F150*H150*CO2_C/(10^6)","v":{"$error":"#N/A"}},"=",{"$f":"J150/CO2_C","v":{"$error":"#N/A"}}]
["Distillate Fuel",{"$error":"#N/A"},"x",{"$f":"DistillNEFres","v":0},"=",{"$f":"B151*D151","v":{"$error":"#N/A"}},"x",298,"=",{"$error":"#N/A"},"=",{"$error":"#N/A"}]
["Kerosene",{"$error":"#N/A"},"x",{"$f":"KeroNEFres","v":0},"=",{"$error":"#N/A"},"x",298,"=",{"$error":"#N/A"},"=",{"$error":"#N/A"}]
["Hydrocarbon Gas Liquids",{"$error":"#N/A"},"x",{"$f":"LPGNEFres","v":0},"=",{"$error":"#N/A"},"x",298,"=",{"$error":"#N/A"},"=",{"$error":"#N/A"}]
["Natural Gas",{"$error":"#N/A"},"x",{"$f":"NatGasNEFres","v":0},"=",{"$error":"#N/A"},"x",298,"=",{"$error":"#N/A"},"=",{"$error":"#N/A"}]
["Wood",{"$error":"#N/A"},"x",{"$f":"WoodNEFres","v":0},"=",{"$error":"#N/A"},"x",298,"=",{"$error":"#N/A"},"=",{"$error":"#N/A"}]
["Other",{"$f":"VLOOKUP($A$2&$C$2&$B$2&$C$2&$A156,ConsumeBlock3,D146-1987,FALSE)","v":0},"x",{"$f":"OtherNEFres","v":0},"=",0,"x",298,"=",0,"=",0]
[null,null,null,null,null,null,null,"Total","=",{"$f":"SUM(J150:J156)","v":{"$error":"#N/A"}},"=",{"$error":"#N/A"}]
[]
["Residential Sector N20",null,null,2002]
[]
[null,"Consumption",null,"Emission Factor",null,"Emissions ",null,"GWP",null,"Emissions ",null,"Emissions "]
["Fuel Type","(Billion Btu)",null,"(metric tons N2O/BBtu)",null,"(metric tons N2O)",null,null,null,"(MMTCE)",null,"(MMTCO2E)"]
["Coal",{"$f":"VLOOKUP($A$2&$C$2&$B$2&$C$2&$A163,ConsumeBlock3,15,FALSE)","v":{"$error":"#N/A"}},"x",{"$f":"CoalNEFres","v":0},"=",{"$f":"B163*D163","v":{"$error":"#N/A"}},"x",{"$f":"GWPN2O","v":298},"=",{"$f":"F163*H163*CO2_C/(10^6)","v":{"$error":"#N/A"}},"=",{"$f":"J163/CO2_C","v":{"$error":"#N/A"}}]
["Distillate Fuel",{"$error":"#N/A"},"x",{"$f":"DistillNEFres","v":0},"=",{"$f":"B164*D164","v":{"$error":"#N/A"}},"x",298,"=",{"$error":"#N/A"},"=",{"$error":"#N/A"}]
["Kerosene",{"$error":"#N/A"},"x",{"$f":"KeroNEFres","v":0},"=",{"$error":"#N/A"},"x",298,"=",{"$error":"#N/A"},"=",{"$error":"#N/A"}]
["Hydrocarbon Gas Liquids",{"$error":"#N/A"},"x",{"$f":"LPGNEFres","v":0},"=",{"$error":"#N/A"},"x",298,"=",{"$error":"#N/A"},"=",{"$error":"#N/A"}]
["Natural Gas",{"$error":"#N/A"},"x",{"$f":"NatGasNEFres","v":0},"=",{"$error":"#N/A"},"x",298,"=",{"$error":"#N/A"},"=",{"$error":"#N/A"}]
["Wood",{"$error":"#N/A"},"x",{"$f":"WoodNEFres","v":0},"=",{"$error":"#N/A"},"x",298,"=",{"$error":"#N/A"},"=",{"$error":"#N/A"}]
["Other",{"$f":"VLOOKUP($A$2&$C$2&$B$2&$C$2&$A169,ConsumeBlock3,D159-1987,FALSE)","v":0},"x",{"$f":"OtherNEFres","v":0},"=",0,"x",298,"=",0,"=",0]
[null,null,null,null,null,null,null,"Total","=",{"$f":"SUM(J163:J169)","v":{"$error":"#N/A"}},"=",{"$error":"#N/A"}]
[]
["Residential Sector N20",null,null,2003]
[]
[null,"Consumption",null,"Emission Factor",null,"Emissions ",null,"GWP",null,"Emissions ",null,"Emissions "]
["Fuel Type","(Billion Btu)",null,"(metric tons N2O/BBtu)",null,"(metric tons N2O)",null,null,null,"(MMTCE)",null,"(MMTCO2E)"]
["Coal",{"$f":"VLOOKUP($A$2&$C$2&$B$2&$C$2&$A176,ConsumeBlock3,16,FALSE)","v":{"$error":"#N/A"}},"x",{"$f":"CoalNEFres","v":0},"=",{"$f":"B176*D176","v":{"$error":"#N/A"}},"x",{"$f":"GWPN2O","v":298},"=",{"$f":"F176*H176*CO2_C/(10^6)","v":{"$error":"#N/A"}},"=",{"$f":"J176/CO2_C","v":{"$error":"#N/A"}}]
["Distillate Fuel",{"$error":"#N/A"},"x",{"$f":"DistillNEFres","v":0},"=",{"$f":"B177*D177","v":{"$error":"#N/A"}},"x",298,"=",{"$error":"#N/A"},"=",{"$error":"#N/A"}]
["Kerosene",{"$error":"#N/A"},"x",{"$f":"KeroNEFres","v":0},"=",{"$error":"#N/A"},"x",298,"=",{"$error":"#N/A"},"=",{"$error":"#N/A"}]
["Hydrocarbon Gas Liquids",{"$error":"#N/A"},"x",{"$f":"LPGNEFres","v":0},"=",{"$error":"#N/A"},"x",298,"=",{"$error":"#N/A"},"=",{"$error":"#N/A"}]
["Natural Gas",{"$error":"#N/A"},"x",{"$f":"NatGasNEFres","v":0},"=",{"$error":"#N/A"},"x",298,"=",{"$error":"#N/A"},"=",{"$error":"#N/A"}]
["Wood",{"$error":"#N/A"},"x",{"$f":"WoodNEFres","v":0},"=",{"$error":"#N/A"},"x",298,"=",{"$error":"#N/A"},"=",{"$error":"#N/A"}]
["Other",{"$f":"VLOOKUP($A$2&$C$2&$B$2&$C$2&$A182,ConsumeBlock3,D172-1987,FALSE)","v":0},"x",{"$f":"OtherNEFres","v":0},"=",0,"x",298,"=",0,"=",0]
[null,null,null,null,null,null,null,"Total","=",{"$f":"SUM(J176:J182)","v":{"$error":"#N/A"}},"=",{"$error":"#N/A"}]
[]
["Residential Sector N20",null,null,2004]
[]
[null,"Consumption",null,"Emission Factor",null,"Emissions ",null,"GWP",null,"Emissions ",null,"Emissions "]
["Fuel Type","(Billion Btu)",null,"(metric tons N2O/BBtu)",null,"(metric tons N2O)",null,null,null,"(MMTCE)",null,"(MMTCO2E)"]
["Coal",{"$f":"VLOOKUP($A$2&$C$2&$B$2&$C$2&$A189,ConsumeBlock3,17,FALSE)","v":{"$error":"#N/A"}},"x",{"$f":"CoalNEFres","v":0},"=",{"$f":"B189*D189","v":{"$error":"#N/A"}},"x",{"$f":"GWPN2O","v":298},"=",{"$f":"F189*H189*CO2_C/(10^6)","v":{"$error":"#N/A"}},"=",{"$f":"J189/CO2_C","v":{"$error":"#N/A"}}]
["Distillate Fuel",{"$error":"#N/A"},"x",{"$f":"DistillNEFres","v":0},"=",{"$f":"B190*D190","v":{"$error":"#N/A"}},"x",298,"=",{"$error":"#N/A"},"=",{"$error":"#N/A"}]
["Kerosene",{"$error":"#N/A"},"x",{"$f":"KeroNEFres","v":0},"=",{"$error":"#N/A"},"x",298,"=",{"$error":"#N/A"},"=",{"$error":"#N/A"}]
["Hydrocarbon Gas Liquids",{"$error":"#N/A"},"x",{"$f":"LPGNEFres","v":0},"=",{"$error":"#N/A"},"x",298,"=",{"$error":"#N/A"},"=",{"$error":"#N/A"}]
["Natural Gas",{"$error":"#N/A"},"x",{"$f":"NatGasNEFres","v":0},"=",{"$error":"#N/A"},"x",298,"=",{"$error":"#N/A"},"=",{"$error":"#N/A"}]
["Wood",{"$error":"#N/A"},"x",{"$f":"WoodNEFres","v":0},"=",{"$error":"#N/A"},"x",298,"=",{"$error":"#N/A"},"=",{"$error":"#N/A"}]
["Other",{"$f":"VLOOKUP($A$2&$C$2&$B$2&$C$2&$A195,ConsumeBlock3,D185-1987,FALSE)","v":0},"x",{"$f":"OtherNEFres","v":0},"=",0,"x",298,"=",0,"=",0]
[null,null,null,null,null,null,null,"Total","=",{"$f":"SUM(J189:J195)","v":{"$error":"#N/A"}},"=",{"$error":"#N/A"}]
[]
["Residential Sector N20",null,null,{"$f":"D185+1","v":2005}]
[]
[null,"Consumption",null,"Emission Factor",null,"Emissions ",null,"GWP",null,"Emissions ",null,"Emissions "]
["Fuel Type","(Billion Btu)",null,"(metric tons N2O/BBtu)",null,"(metric tons N2O)",null,null,null,"(MMTCE)",null,"(MMTCO2E)"]
["Coal",{"$f":"VLOOKUP($A$2&$C$2&$B$2&$C$2&$A202,ConsumeBlock3,18,FALSE)","v":{"$error":"#N/A"}},"x",{"$f":"CoalNEFres","v":0},"=",{"$f":"B202*D202","v":{"$error":"#N/A"}},"x",{"$f":"GWPN2O","v":298},"=",{"$f":"F202*H202*CO2_C/(10^6)","v":{"$error":"#N/A"}},"=",{"$f":"J202/CO2_C","v":{"$error":"#N/A"}}]
["Distillate Fuel",{"$error":"#N/A"},"x",{"$f":"DistillNEFres","v":0},"=",{"$f":"B203*D203","v":{"$error":"#N/A"}},"x",298,"=",{"$error":"#N/A"},"=",{"$error":"#N/A"}]
["Kerosene",{"$error":"#N/A"},"x",{"$f":"KeroNEFres","v":0},"=",{"$error":"#N/A"},"x",298,"=",{"$error":"#N/A"},"=",{"$error":"#N/A"}]
["Hydrocarbon Gas Liquids",{"$error":"#N/A"},"x",{"$f":"LPGNEFres","v":0},"=",{"$error":"#N/A"},"x",298,"=",{"$error":"#N/A"},"=",{"$error":"#N/A"}]
["Natural Gas",{"$error":"#N/A"},"x",{"$f":"NatGasNEFres","v":0},"=",{"$error":"#N/A"},"x",298,"=",{"$error":"#N/A"},"=",{"$error":"#N/A"}]
["Wood",{"$error":"#N/A"},"x",{"$f":"WoodNEFres","v":0},"=",{"$error":"#N/A"},"x",298,"=",{"$error":"#N/A"},"=",{"$error":"#N/A"}]
["Other",{"$f":"VLOOKUP($A$2&$C$2&$B$2&$C$2&$A208,ConsumeBlock3,D198-1987,FALSE)","v":0},"x",{"$f":"OtherNEFres","v":0},"=",0,"x",298,"=",0,"=",0]
[null,null,null,null,null,null,null,"Total","=",{"$f":"SUM(J202:J208)","v":{"$error":"#N/A"}},"=",{"$error":"#N/A"}]
[]
["Residential Sector N20",null,null,{"$f":"D198+1","v":2006}]
[]
[null,"Consumption",null,"Emission Factor",null,"Emissions ",null,"GWP",null,"Emissions ",null,"Emissions "]
["Fuel Type","(Billion Btu)",null,"(metric tons N2O/BBtu)",null,"(metric tons N2O)",null,null,null,"(MMTCE)",null,"(MMTCO2E)"]
["Coal",{"$f":"VLOOKUP($A$2&$C$2&$B$2&$C$2&$A215,ConsumeBlock3,19,FALSE)","v":{"$error":"#N/A"}},"x",{"$f":"CoalNEFres","v":0},"=",{"$f":"B215*D215","v":{"$error":"#N/A"}},"x",{"$f":"GWPN2O","v":298},"=",{"$f":"F215*H215*CO2_C/(10^6)","v":{"$error":"#N/A"}},"=",{"$f":"J215/CO2_C","v":{"$error":"#N/A"}}]
["Distillate Fuel",{"$error":"#N/A"},"x",{"$f":"DistillNEFres","v":0},"=",{"$f":"B216*D216","v":{"$error":"#N/A"}},"x",298,"=",{"$error":"#N/A"},"=",{"$error":"#N/A"}]
["Kerosene",{"$error":"#N/A"},"x",{"$f":"KeroNEFres","v":0},"=",{"$error":"#N/A"},"x",298,"=",{"$error":"#N/A"},"=",{"$error":"#N/A"}]
["Hydrocarbon Gas Liquids",{"$error":"#N/A"},"x",{"$f":"LPGNEFres","v":0},"=",{"$error":"#N/A"},"x",298,"=",{"$error":"#N/A"},"=",{"$error":"#N/A"}]
["Natural Gas",{"$error":"#N/A"},"x",{"$f":"NatGasNEFres","v":0},"=",{"$error":"#N/A"},"x",298,"=",{"$error":"#N/A"},"=",{"$error":"#N/A"}]
["Wood",{"$error":"#N/A"},"x",{"$f":"WoodNEFres","v":0},"=",{"$error":"#N/A"},"x",298,"=",{"$error":"#N/A"},"=",{"$error":"#N/A"}]
["Other",{"$f":"VLOOKUP($A$2&$C$2&$B$2&$C$2&$A221,ConsumeBlock3,D211-1987,FALSE)","v":0},"x",{"$f":"OtherNEFres","v":0},"=",0,"x",298,"=",0,"=",0]
[null,null,null,null,null,null,null,"Total","=",{"$f":"SUM(J215:J221)","v":{"$error":"#N/A"}},"=",{"$error":"#N/A"}]
[]
["Residential Sector N20",null,null,{"$f":"D211+1","v":2007}]
[]
[null,"Consumption",null,"Emission Factor",null,"Emissions ",null,"GWP",null,"Emissions ",null,"Emissions "]
["Fuel Type","(Billion Btu)",null,"(metric tons N2O/BBtu)",null,"(metric tons N2O)",null,null,null,"(MMTCE)",null,"(MMTCO2E)"]
["Coal",{"$f":"VLOOKUP($A$2&$C$2&$B$2&$C$2&$A228,ConsumeBlock3,20,FALSE)","v":{"$error":"#N/A"}},"x",{"$f":"CoalNEFres","v":0},"=",{"$f":"B228*D228","v":{"$error":"#N/A"}},"x",{"$f":"GWPN2O","v":298},"=",{"$f":"F228*H228*CO2_C/(10^6)","v":{"$error":"#N/A"}},"=",{"$f":"J228/CO2_C","v":{"$error":"#N/A"}}]
["Distillate Fuel",{"$error":"#N/A"},"x",{"$f":"DistillNEFres","v":0},"=",{"$f":"B229*D229","v":{"$error":"#N/A"}},"x",298,"=",{"$error":"#N/A"},"=",{"$error":"#N/A"}]
["Kerosene",{"$error":"#N/A"},"x",{"$f":"KeroNEFres","v":0},"=",{"$error":"#N/A"},"x",298,"=",{"$error":"#N/A"},"=",{"$error":"#N/A"}]
["Hydrocarbon Gas Liquids",{"$error":"#N/A"},"x",{"$f":"LPGNEFres","v":0},"=",{"$error":"#N/A"},"x",298,"=",{"$error":"#N/A"},"=",{"$error":"#N/A"}]
["Natural Gas",{"$error":"#N/A"},"x",{"$f":"NatGasNEFres","v":0},"=",{"$error":"#N/A"},"x",298,"=",{"$error":"#N/A"},"=",{"$error":"#N/A"}]
["Wood",{"$error":"#N/A"},"x",{"$f":"WoodNEFres","v":0},"=",{"$error":"#N/A"},"x",298,"=",{"$error":"#N/A"},"=",{"$error":"#N/A"}]
["Other",{"$f":"VLOOKUP($A$2&$C$2&$B$2&$C$2&$A234,ConsumeBlock3,D224-1987,FALSE)","v":0},"x",{"$f":"OtherNEFres","v":0},"=",0,"x",298,"=",0,"=",0]
[null,null,null,null,null,null,null,"Total","=",{"$f":"SUM(J228:J234)","v":{"$error":"#N/A"}},"=",{"$error":"#N/A"}]
[]
["Residential Sector N20",null,null,{"$f":"D224+1","v":2008}]
[]
[null,"Consumption",null,"Emission Factor",null,"Emissions ",null,"GWP",null,"Emissions ",null,"Emissions "]
["Fuel Type","(Billion Btu)",null,"(metric tons N2O/BBtu)",null,"(metric tons N2O)",null,null,null,"(MMTCE)",null,"(MMTCO2E)"]
["Coal",{"$f":"VLOOKUP($A$2&$C$2&$B$2&$C$2&$A241,ConsumeBlock3,21,FALSE)","v":{"$error":"#N/A"}},"x",{"$f":"CoalNEFres","v":0},"=",{"$f":"B241*D241","v":{"$error":"#N/A"}},"x",{"$f":"GWPN2O","v":298},"=",{"$f":"F241*H241*CO2_C/(10^6)","v":{"$error":"#N/A"}},"=",{"$f":"J241/CO2_C","v":{"$error":"#N/A"}}]
["Distillate Fuel",{"$error":"#N/A"},"x",{"$f":"DistillNEFres","v":0},"=",{"$f":"B242*D242","v":{"$error":"#N/A"}},"x",298,"=",{"$error":"#N/A"},"=",{"$error":"#N/A"}]
["Kerosene",{"$error":"#N/A"},"x",{"$f":"KeroNEFres","v":0},"=",{"$error":"#N/A"},"x",298,"=",{"$error":"#N/A"},"=",{"$error":"#N/A"}]
["Hydrocarbon Gas Liquids",{"$error":"#N/A"},"x",{"$f":"LPGNEFres","v":0},"=",{"$error":"#N/A"},"x",298,"=",{"$error":"#N/A"},"=",{"$error":"#N/A"}]
["Natural Gas",{"$error":"#N/A"},"x",{"$f":"NatGasNEFres","v":0},"=",{"$error":"#N/A"},"x",298,"=",{"$error":"#N/A"},"=",{"$error":"#N/A"}]
["Wood",{"$error":"#N/A"},"x",{"$f":"WoodNEFres","v":0},"=",{"$error":"#N/A"},"x",298,"=",{"$error":"#N/A"},"=",{"$error":"#N/A"}]
["Other",{"$f":"VLOOKUP($A$2&$C$2&$B$2&$C$2&$A247,ConsumeBlock3,D237-1987,FALSE)","v":0},"x",{"$f":"OtherNEFres","v":0},"=",0,"x",298,"=",0,"=",0]
[null,null,null,null,null,null,null,"Total","=",{"$f":"SUM(J241:J247)","v":{"$error":"#N/A"}},"=",{"$error":"#N/A"}]
[]
["Residential Sector N20",null,null,{"$f":"D237+1","v":2009}]
[]
[null,"Consumption",null,"Emission Factor",null,"Emissions ",null,"GWP",null,"Emissions ",null,"Emissions "]
["Fuel Type","(Billion Btu)",null,"(metric tons N2O/BBtu)",null,"(metric tons N2O)",null,null,null,"(MMTCE)",null,"(MMTCO2E)"]
["Coal",{"$f":"VLOOKUP($A$2&$C$2&$B$2&$C$2&$A254,ConsumeBlock3,22,FALSE)","v":{"$error":"#N/A"}},"x",{"$f":"CoalNEFres","v":0},"=",{"$f":"B254*D254","v":{"$error":"#N/A"}},"x",{"$f":"GWPN2O","v":298},"=",{"$f":"F254*H254*CO2_C/(10^6)","v":{"$error":"#N/A"}},"=",{"$f":"J254/CO2_C","v":{"$error":"#N/A"}}]
["Distillate Fuel",{"$error":"#N/A"},"x",{"$f":"DistillNEFres","v":0},"=",{"$f":"B255*D255","v":{"$error":"#N/A"}},"x",298,"=",{"$error":"#N/A"},"=",{"$error":"#N/A"}]
["Kerosene",{"$error":"#N/A"},"x",{"$f":"KeroNEFres","v":0},"=",{"$error":"#N/A"},"x",298,"=",{"$error":"#N/A"},"=",{"$error":"#N/A"}]
["Hydrocarbon Gas Liquids",{"$error":"#N/A"},"x",{"$f":"LPGNEFres","v":0},"=",{"$error":"#N/A"},"x",298,"=",{"$error":"#N/A"},"=",{"$error":"#N/A"}]
["Natural Gas",{"$error":"#N/A"},"x",{"$f":"NatGasNEFres","v":0},"=",{"$error":"#N/A"},"x",298,"=",{"$error":"#N/A"},"=",{"$error":"#N/A"}]
["Wood",{"$error":"#N/A"},"x",{"$f":"WoodNEFres","v":0},"=",{"$error":"#N/A"},"x",298,"=",{"$error":"#N/A"},"=",{"$error":"#N/A"}]
["Other",{"$f":"VLOOKUP($A$2&$C$2&$B$2&$C$2&$A260,ConsumeBlock3,D250-1987,FALSE)","v":0},"x",{"$f":"OtherNEFres","v":0},"=",0,"x",298,"=",0,"=",0]
[null,null,null,null,null,null,null,"Total","=",{"$f":"SUM(J254:J260)","v":{"$error":"#N/A"}},"=",{"$error":"#N/A"}]
[]
["Residential Sector N20",null,null,{"$f":"D250+1","v":2010}]
[]
[null,"Consumption",null,"Emission Factor",null,"Emissions ",null,"GWP",null,"Emissions ",null,"Emissions "]
["Fuel Type","(Billion Btu)",null,"(metric tons N2O/BBtu)",null,"(metric tons N2O)",null,null,null,"(MMTCE)",null,"(MMTCO2E)"]
["Coal",{"$f":"VLOOKUP($A$2&$C$2&$B$2&$C$2&$A267,ConsumeBlock3,23,FALSE)","v":{"$error":"#N/A"}},"x",{"$f":"CoalNEFres","v":0},"=",{"$f":"B267*D267","v":{"$error":"#N/A"}},"x",{"$f":"GWPN2O","v":298},"=",{"$f":"F267*H267*CO2_C/(10^6)","v":{"$error":"#N/A"}},"=",{"$f":"J267/CO2_C","v":{"$error":"#N/A"}}]
["Distillate Fuel",{"$error":"#N/A"},"x",{"$f":"DistillNEFres","v":0},"=",{"$f":"B268*D268","v":{"$error":"#N/A"}},"x",298,"=",{"$error":"#N/A"},"=",{"$error":"#N/A"}]
["Kerosene",{"$error":"#N/A"},"x",{"$f":"KeroNEFres","v":0},"=",{"$error":"#N/A"},"x",298,"=",{"$error":"#N/A"},"=",{"$error":"#N/A"}]
["Hydrocarbon Gas Liquids",{"$error":"#N/A"},"x",{"$f":"LPGNEFres","v":0},"=",{"$error":"#N/A"},"x",298,"=",{"$error":"#N/A"},"=",{"$error":"#N/A"}]
["Natural Gas",{"$error":"#N/A"},"x",{"$f":"NatGasNEFres","v":0},"=",{"$error":"#N/A"},"x",298,"=",{"$error":"#N/A"},"=",{"$error":"#N/A"}]
["Wood",{"$error":"#N/A"},"x",{"$f":"WoodNEFres","v":0},"=",{"$error":"#N/A"},"x",298,"=",{"$error":"#N/A"},"=",{"$error":"#N/A"}]
["Other",{"$f":"VLOOKUP($A$2&$C$2&$B$2&$C$2&$A273,ConsumeBlock3,D263-1987,FALSE)","v":0},"x",{"$f":"OtherNEFres","v":0},"=",0,"x",298,"=",0,"=",0]
[null,null,null,null,null,null,null,"Total","=",{"$f":"SUM(J267:J273)","v":{"$error":"#N/A"}},"=",{"$error":"#N/A"}]
[]
["Residential Sector N20",null,null,{"$f":"D263+1","v":2011}]
[]
[null,"Consumption",null,"Emission Factor",null,"Emissions ",null,"GWP",null,"Emissions ",null,"Emissions "]
["Fuel Type","(Billion Btu)",null,"(metric tons N2O/BBtu)",null,"(metric tons N2O)",null,null,null,"(MMTCE)",null,"(MMTCO2E)"]
["Coal",{"$f":"VLOOKUP($A$2&$C$2&$B$2&$C$2&$A280,ConsumeBlock3,24,FALSE)","v":{"$error":"#N/A"}},"x",{"$f":"CoalNEFres","v":0},"=",{"$f":"B280*D280","v":{"$error":"#N/A"}},"x",{"$f":"GWPN2O","v":298},"=",{"$f":"F280*H280*CO2_C/(10^6)","v":{"$error":"#N/A"}},"=",{"$f":"J280/CO2_C","v":{"$error":"#N/A"}}]
["Distillate Fuel",{"$f":"VLOOKUP($A$2&$C$2&$B$2&$C$2&$A281,ConsumeBlock3,24,FALSE)","v":{"$error":"#N/A"}},"x",{"$f":"DistillNEFres","v":0},"=",{"$f":"B281*D281","v":{"$error":"#N/A"}},"x",298,"=",{"$error":"#N/A"},"=",{"$error":"#N/A"}]
["Kerosene",{"$error":"#N/A"},"x",{"$f":"KeroNEFres","v":0},"=",{"$error":"#N/A"},"x",298,"=",{"$error":"#N/A"},"=",{"$error":"#N/A"}]
["Hydrocarbon Gas Liquids",{"$error":"#N/A"},"x",{"$f":"LPGNEFres","v":0},"=",{"$error":"#N/A"},"x",298,"=",{"$error":"#N/A"},"=",{"$error":"#N/A"}]
["Natural Gas",{"$error":"#N/A"},"x",{"$f":"NatGasNEFres","v":0},"=",{"$error":"#N/A"},"x",298,"=",{"$error":"#N/A"},"=",{"$error":"#N/A"}]
["Wood",{"$error":"#N/A"},"x",{"$f":"WoodNEFres","v":0},"=",{"$error":"#N/A"},"x",298,"=",{"$error":"#N/A"},"=",{"$error":"#N/A"}]
["Other",{"$f":"VLOOKUP($A$2&$C$2&$B$2&$C$2&$A286,ConsumeBlock3,D276-1987,FALSE)","v":0},"x",{"$f":"OtherNEFres","v":0},"=",0,"x",298,"=",0,"=",0]
[null,null,null,null,null,null,null,"Total","=",{"$f":"SUM(J280:J286)","v":{"$error":"#N/A"}},"=",{"$error":"#N/A"}]
[]
["Residential Sector N20",null,null,{"$f":"D276+1","v":2012}]
[]
[null,"Consumption",null,"Emission Factor",null,"Emissions ",null,"GWP",null,"Emissions ",null,"Emissions "]
["Fuel Type","(Billion Btu)",null,"(metric tons N2O/BBtu)",null,"(metric tons N2O)",null,null,null,"(MMTCE)",null,"(MMTCO2E)"]
["Coal",{"$f":"VLOOKUP($A$2&$C$2&$B$2&$C$2&$A293,ConsumeBlock3,25,FALSE)","v":{"$error":"#N/A"}},"x",{"$f":"CoalNEFres","v":0},"=",{"$f":"B293*D293","v":{"$error":"#N/A"}},"x",{"$f":"GWPN2O","v":298},"=",{"$f":"F293*H293*CO2_C/(10^6)","v":{"$error":"#N/A"}},"=",{"$f":"J293/CO2_C","v":{"$error":"#N/A"}}]
["Distillate Fuel",{"$error":"#N/A"},"x",{"$f":"DistillNEFres","v":0},"=",{"$f":"B294*D294","v":{"$error":"#N/A"}},"x",298,"=",{"$error":"#N/A"},"=",{"$error":"#N/A"}]
["Kerosene",{"$error":"#N/A"},"x",{"$f":"KeroNEFres","v":0},"=",{"$error":"#N/A"},"x",298,"=",{"$error":"#N/A"},"=",{"$error":"#N/A"}]
["Hydrocarbon Gas Liquids",{"$error":"#N/A"},"x",{"$f":"LPGNEFres","v":0},"=",{"$error":"#N/A"},"x",298,"=",{"$error":"#N/A"},"=",{"$error":"#N/A"}]
["Natural Gas",{"$error":"#N/A"},"x",{"$f":"NatGasNEFres","v":0},"=",{"$error":"#N/A"},"x",298,"=",{"$error":"#N/A"},"=",{"$error":"#N/A"}]
["Wood",{"$error":"#N/A"},"x",{"$f":"WoodNEFres","v":0},"=",{"$error":"#N/A"},"x",298,"=",{"$error":"#N/A"},"=",{"$error":"#N/A"}]
["Other",{"$f":"VLOOKUP($A$2&$C$2&$B$2&$C$2&$A299,ConsumeBlock3,D289-1987,FALSE)","v":0},"x",{"$f":"OtherNEFres","v":0},"=",0,"x",298,"=",0,"=",0]
[null,null,null,null,null,null,null,"Total","=",{"$f":"SUM(J293:J299)","v":{"$error":"#N/A"}},"=",{"$error":"#N/A"}]
[]
["Residential Sector N20",null,null,{"$f":"D289+1","v":2013}]
[]
[null,"Consumption",null,"Emission Factor",null,"Emissions ",null,"GWP",null,"Emissions ",null,"Emissions "]
["Fuel Type","(Billion Btu)",null,"(metric tons N2O/BBtu)",null,"(metric tons N2O)",null,null,null,"(MMTCE)",null,"(MMTCO2E)"]
["Coal",{"$f":"VLOOKUP($A$2&$C$2&$B$2&$C$2&$A306,ConsumeBlock3,26,FALSE)","v":{"$error":"#N/A"}},"x",{"$f":"CoalNEFres","v":0},"=",{"$f":"B306*D306","v":{"$error":"#N/A"}},"x",{"$f":"GWPN2O","v":298},"=",{"$f":"F306*H306*CO2_C/(10^6)","v":{"$error":"#N/A"}},"=",{"$f":"J306/CO2_C","v":{"$error":"#N/A"}}]
["Distillate Fuel",{"$error":"#N/A"},"x",{"$f":"DistillNEFres","v":0},"=",{"$f":"B307*D307","v":{"$error":"#N/A"}},"x",298,"=",{"$error":"#N/A"},"=",{"$error":"#N/A"}]
["Kerosene",{"$error":"#N/A"},"x",{"$f":"KeroNEFres","v":0},"=",{"$error":"#N/A"},"x",298,"=",{"$error":"#N/A"},"=",{"$error":"#N/A"}]
["Hydrocarbon Gas Liquids",{"$error":"#N/A"},"x",{"$f":"LPGNEFres","v":0},"=",{"$error":"#N/A"},"x",298,"=",{"$error":"#N/A"},"=",{"$error":"#N/A"}]
["Natural Gas",{"$error":"#N/A"},"x",{"$f":"NatGasNEFres","v":0},"=",{"$error":"#N/A"},"x",298,"=",{"$error":"#N/A"},"=",{"$error":"#N/A"}]
["Wood",{"$error":"#N/A"},"x",{"$f":"WoodNEFres","v":0},"=",{"$error":"#N/A"},"x",298,"=",{"$error":"#N/A"},"=",{"$error":"#N/A"}]
["Other",{"$f":"VLOOKUP($A$2&$C$2&$B$2&$C$2&$A312,ConsumeBlock3,D302-1987,FALSE)","v":0},"x",{"$f":"OtherNEFres","v":0},"=",0,"x",298,"=",0,"=",0]
[null,null,null,null,null,null,null,"Total","=",{"$f":"SUM(J306:J312)","v":{"$error":"#N/A"}},"=",{"$error":"#N/A"}]
[]
["Residential Sector N20",null,null,{"$f":"D302+1","v":2014}]
[]
[null,"Consumption",null,"Emission Factor",null,"Emissions ",null,"GWP",null,"Emissions ",null,"Emissions "]
["Fuel Type","(Billion Btu)",null,"(metric tons N2O/BBtu)",null,"(metric tons N2O)",null,null,null,"(MMTCE)",null,"(MMTCO2E)"]
["Coal",{"$f":"VLOOKUP($A$2&$C$2&$B$2&$C$2&$A319,ConsumeBlock3,27,FALSE)","v":{"$error":"#N/A"}},"x",{"$f":"CoalNEFres","v":0},"=",{"$f":"B319*D319","v":{"$error":"#N/A"}},"x",{"$f":"GWPN2O","v":298},"=",{"$f":"F319*H319*CO2_C/(10^6)","v":{"$error":"#N/A"}},"=",{"$f":"J319/CO2_C","v":{"$error":"#N/A"}}]
["Distillate Fuel",{"$error":"#N/A"},"x",{"$f":"DistillNEFres","v":0},"=",{"$f":"B320*D320","v":{"$error":"#N/A"}},"x",298,"=",{"$error":"#N/A"},"=",{"$error":"#N/A"}]
["Kerosene",{"$error":"#N/A"},"x",{"$f":"KeroNEFres","v":0},"=",{"$error":"#N/A"},"x",298,"=",{"$error":"#N/A"},"=",{"$error":"#N/A"}]
["Hydrocarbon Gas Liquids",{"$error":"#N/A"},"x",{"$f":"LPGNEFres","v":0},"=",{"$error":"#N/A"},"x",298,"=",{"$error":"#N/A"},"=",{"$error":"#N/A"}]
["Natural Gas",{"$error":"#N/A"},"x",{"$f":"NatGasNEFres","v":0},"=",{"$error":"#N/A"},"x",298,"=",{"$error":"#N/A"},"=",{"$error":"#N/A"}]
["Wood",{"$error":"#N/A"},"x",{"$f":"WoodNEFres","v":0},"=",{"$error":"#N/A"},"x",298,"=",{"$error":"#N/A"},"=",{"$error":"#N/A"}]
["Other",{"$f":"VLOOKUP($A$2&$C$2&$B$2&$C$2&$A325,ConsumeBlock3,D315-1987,FALSE)","v":0},"x",{"$f":"OtherNEFres","v":0},"=",0,"x",298,"=",0,"=",0]
[null,null,null,null,null,null,null,"Total","=",{"$f":"SUM(J319:J325)","v":{"$error":"#N/A"}},"=",{"$error":"#N/A"}]
[]
["Residential Sector N20",null,null,{"$f":"D315+1","v":2015}]
[]
[null,"Consumption",null,"Emission Factor",null,"Emissions ",null,"GWP",null,"Emissions ",null,"Emissions "]
["Fuel Type","(Billion Btu)",null,"(metric tons N2O/BBtu)",null,"(metric tons N2O)",null,null,null,"(MMTCE)",null,"(MMTCO2E)"]
["Coal",{"$f":"VLOOKUP($A$2&$C$2&$B$2&$C$2&$A332,ConsumeBlock3,28,FALSE)","v":{"$error":"#N/A"}},"x",{"$f":"CoalNEFres","v":0},"=",{"$f":"B332*D332","v":{"$error":"#N/A"}},"x",{"$f":"GWPN2O","v":298},"=",{"$f":"F332*H332*CO2_C/(10^6)","v":{"$error":"#N/A"}},"=",{"$f":"J332/CO2_C","v":{"$error":"#N/A"}}]
["Distillate Fuel",{"$error":"#N/A"},"x",{"$f":"DistillNEFres","v":0},"=",{"$f":"B333*D333","v":{"$error":"#N/A"}},"x",298,"=",{"$error":"#N/A"},"=",{"$error":"#N/A"}]
["Kerosene",{"$error":"#N/A"},"x",{"$f":"KeroNEFres","v":0},"=",{"$error":"#N/A"},"x",298,"=",{"$error":"#N/A"},"=",{"$error":"#N/A"}]
["Hydrocarbon Gas Liquids",{"$error":"#N/A"},"x",{"$f":"LPGNEFres","v":0},"=",{"$error":"#N/A"},"x",298,"=",{"$error":"#N/A"},"=",{"$error":"#N/A"}]
["Natural Gas",{"$error":"#N/A"},"x",{"$f":"NatGasNEFres","v":0},"=",{"$error":"#N/A"},"x",298,"=",{"$error":"#N/A"},"=",{"$error":"#N/A"}]
["Wood",{"$error":"#N/A"},"x",{"$f":"WoodNEFres","v":0},"=",{"$error":"#N/A"},"x",298,"=",{"$error":"#N/A"},"=",{"$error":"#N/A"}]
["Other",{"$f":"VLOOKUP($A$2&$C$2&$B$2&$C$2&$A338,ConsumeBlock3,D328-1987,FALSE)","v":0},"x",{"$f":"OtherNEFres","v":0},"=",0,"x",298,"=",0,"=",0]
[null,null,null,null,null,null,null,"Total","=",{"$f":"SUM(J332:J338)","v":{"$error":"#N/A"}},"=",{"$error":"#N/A"}]
[]
["Residential Sector N20",null,null,{"$f":"D328+1","v":2016}]
[]
[null,"Consumption",null,"Emission Factor",null,"Emissions ",null,"GWP",null,"Emissions ",null,"Emissions "]
["Fuel Type","(Billion Btu)",null,"(metric tons N2O/BBtu)",null,"(metric tons N2O)",null,null,null,"(MMTCE)",null,"(MMTCO2E)"]
["Coal",{"$f":"VLOOKUP($A$2&$C$2&$B$2&$C$2&$A345,ConsumeBlock3,29,FALSE)","v":{"$error":"#N/A"}},"x",{"$f":"CoalNEFres","v":0},"=",{"$f":"B345*D345","v":{"$error":"#N/A"}},"x",{"$f":"GWPN2O","v":298},"=",{"$f":"F345*H345*CO2_C/(10^6)","v":{"$error":"#N/A"}},"=",{"$f":"J345/CO2_C","v":{"$error":"#N/A"}}]
["Distillate Fuel",{"$error":"#N/A"},"x",{"$f":"DistillNEFres","v":0},"=",{"$f":"B346*D346","v":{"$error":"#N/A"}},"x",298,"=",{"$error":"#N/A"},"=",{"$error":"#N/A"}]
["Kerosene",{"$error":"#N/A"},"x",{"$f":"KeroNEFres","v":0},"=",{"$error":"#N/A"},"x",298,"=",{"$error":"#N/A"},"=",{"$error":"#N/A"}]
["Hydrocarbon Gas Liquids",{"$error":"#N/A"},"x",{"$f":"LPGNEFres","v":0},"=",{"$error":"#N/A"},"x",298,"=",{"$error":"#N/A"},"=",{"$error":"#N/A"}]
["Natural Gas",{"$error":"#N/A"},"x",{"$f":"NatGasNEFres","v":0},"=",{"$error":"#N/A"},"x",298,"=",{"$error":"#N/A"},"=",{"$error":"#N/A"}]
["Wood",{"$error":"#N/A"},"x",{"$f":"WoodNEFres","v":0},"=",{"$error":"#N/A"},"x",298,"=",{"$error":"#N/A"},"=",{"$error":"#N/A"}]
["Other",{"$f":"VLOOKUP($A$2&$C$2&$B$2&$C$2&$A351,ConsumeBlock3,D341-1987,FALSE)","v":0},"x",{"$f":"OtherNEFres","v":0},"=",0,"x",298,"=",0,"=",0]
[null,null,null,null,null,null,null,"Total","=",{"$f":"SUM(J345:J351)","v":{"$error":"#N/A"}},"=",{"$error":"#N/A"}]
[]
["Residential Sector N20",null,null,{"$f":"D341+1","v":2017}]
[]
[null,"Consumption",null,"Emission Factor",null,"Emissions ",null,"GWP",null,"Emissions ",null,"Emissions "]
["Fuel Type","(Billion Btu)",null,"(metric tons N2O/BBtu)",null,"(metric tons N2O)",null,null,null,"(MMTCE)",null,"(MMTCO2E)"]
["Coal",{"$f":"VLOOKUP($A$2&$C$2&$B$2&$C$2&$A358,ConsumeBlock3,30,FALSE)","v":{"$error":"#N/A"}},"x",{"$f":"CoalNEFres","v":0},"=",{"$f":"B358*D358","v":{"$error":"#N/A"}},"x",{"$f":"GWPN2O","v":298},"=",{"$f":"F358*H358*CO2_C/(10^6)","v":{"$error":"#N/A"}},"=",{"$f":"J358/CO2_C","v":{"$error":"#N/A"}}]
["Distillate Fuel",{"$error":"#N/A"},"x",{"$f":"DistillNEFres","v":0},"=",{"$f":"B359*D359","v":{"$error":"#N/A"}},"x",298,"=",{"$error":"#N/A"},"=",{"$error":"#N/A"}]
["Kerosene",{"$error":"#N/A"},"x",{"$f":"KeroNEFres","v":0},"=",{"$error":"#N/A"},"x",298,"=",{"$error":"#N/A"},"=",{"$error":"#N/A"}]
["Hydrocarbon Gas Liquids",{"$error":"#N/A"},"x",{"$f":"LPGNEFres","v":0},"=",{"$error":"#N/A"},"x",298,"=",{"$error":"#N/A"},"=",{"$error":"#N/A"}]
["Natural Gas",{"$error":"#N/A"},"x",{"$f":"NatGasNEFres","v":0},"=",{"$error":"#N/A"},"x",298,"=",{"$error":"#N/A"},"=",{"$error":"#N/A"}]
["Wood",{"$error":"#N/A"},"x",{"$f":"WoodNEFres","v":0},"=",{"$error":"#N/A"},"x",298,"=",{"$error":"#N/A"},"=",{"$error":"#N/A"}]
["Other",{"$f":"VLOOKUP($A$2&$C$2&$B$2&$C$2&$A364,ConsumeBlock3,D354-1987,FALSE)","v":0},"x",{"$f":"OtherNEFres","v":0},"=",0,"x",298,"=",0,"=",0]
[null,null,null,null,null,null,null,"Total","=",{"$f":"SUM(J358:J364)","v":{"$error":"#N/A"}},"=",{"$error":"#N/A"}]
[]
["Residential Sector N20",null,null,{"$f":"D354+1","v":2018}]
[]
[null,"Consumption",null,"Emission Factor",null,"Emissions ",null,"GWP",null,"Emissions ",null,"Emissions "]
["Fuel Type","(Billion Btu)",null,"(metric tons N2O/BBtu)",null,"(metric tons N2O)",null,null,null,"(MMTCE)",null,"(MMTCO2E)"]
["Coal",{"$f":"VLOOKUP($A$2&$C$2&$B$2&$C$2&$A371,ConsumeBlock3,31,FALSE)","v":{"$error":"#N/A"}},"x",{"$f":"CoalNEFres","v":0},"=",{"$f":"B371*D371","v":{"$error":"#N/A"}},"x",{"$f":"GWPN2O","v":298},"=",{"$f":"F371*H371*CO2_C/(10^6)","v":{"$error":"#N/A"}},"=",{"$f":"J371/CO2_C","v":{"$error":"#N/A"}}]
["Distillate Fuel",{"$error":"#N/A"},"x",{"$f":"DistillNEFres","v":0},"=",{"$f":"B372*D372","v":{"$error":"#N/A"}},"x",298,"=",{"$error":"#N/A"},"=",{"$error":"#N/A"}]
["Kerosene",{"$error":"#N/A"},"x",{"$f":"KeroNEFres","v":0},"=",{"$error":"#N/A"},"x",298,"=",{"$error":"#N/A"},"=",{"$error":"#N/A"}]
["Hydrocarbon Gas Liquids",{"$error":"#N/A"},"x",{"$f":"LPGNEFres","v":0},"=",{"$error":"#N/A"},"x",298,"=",{"$error":"#N/A"},"=",{"$error":"#N/A"}]
["Natural Gas",{"$error":"#N/A"},"x",{"$f":"NatGasNEFres","v":0},"=",{"$error":"#N/A"},"x",298,"=",{"$error":"#N/A"},"=",{"$error":"#N/A"}]
["Wood",{"$error":"#N/A"},"x",{"$f":"WoodNEFres","v":0},"=",{"$error":"#N/A"},"x",298,"=",{"$error":"#N/A"},"=",{"$error":"#N/A"}]
["Other",{"$f":"VLOOKUP($A$2&$C$2&$B$2&$C$2&$A377,ConsumeBlock3,D367-1987,FALSE)","v":0},"x",{"$f":"OtherNEFres","v":0},"=",0,"x",298,"=",0,"=",0]
[null,null,null,null,null,null,null,"Total","=",{"$f":"SUM(J371:J377)","v":{"$error":"#N/A"}},"=",{"$error":"#N/A"}]
[]
["Residential Sector N20",null,null,{"$f":"D367+1","v":2019}]
[]
[null,"Consumption",null,"Emission Factor",null,"Emissions ",null,"GWP",null,"Emissions ",null,"Emissions "]
["Fuel Type","(Billion Btu)",null,"(metric tons N2O/BBtu)",null,"(metric tons N2O)",null,null,null,"(MMTCE)",null,"(MMTCO2E)"]
["Coal",{"$f":"VLOOKUP($A$2&$C$2&$B$2&$C$2&$A384,ConsumeBlock3,32,FALSE)","v":{"$error":"#N/A"}},"x",{"$f":"CoalNEFres","v":0},"=",{"$f":"B384*D384","v":{"$error":"#N/A"}},"x",{"$f":"GWPN2O","v":298},"=",{"$f":"F384*H384*CO2_C/(10^6)","v":{"$error":"#N/A"}},"=",{"$f":"J384/CO2_C","v":{"$error":"#N/A"}}]
["Distillate Fuel",{"$error":"#N/A"},"x",{"$f":"DistillNEFres","v":0},"=",{"$f":"B385*D385","v":{"$error":"#N/A"}},"x",298,"=",{"$error":"#N/A"},"=",{"$error":"#N/A"}]
["Kerosene",{"$error":"#N/A"},"x",{"$f":"KeroNEFres","v":0},"=",{"$error":"#N/A"},"x",298,"=",{"$error":"#N/A"},"=",{"$error":"#N/A"}]
["Hydrocarbon Gas Liquids",{"$error":"#N/A"},"x",{"$f":"LPGNEFres","v":0},"=",{"$error":"#N/A"},"x",298,"=",{"$error":"#N/A"},"=",{"$error":"#N/A"}]
["Natural Gas",{"$error":"#N/A"},"x",{"$f":"NatGasNEFres","v":0},"=",{"$error":"#N/A"},"x",298,"=",{"$error":"#N/A"},"=",{"$error":"#N/A"}]
["Wood",{"$error":"#N/A"},"x",{"$f":"WoodNEFres","v":0},"=",{"$error":"#N/A"},"x",298,"=",{"$error":"#N/A"},"=",{"$error":"#N/A"}]
["Other",{"$f":"VLOOKUP($A$2&$C$2&$B$2&$C$2&$A390,ConsumeBlock3,D380-1987,FALSE)","v":0},"x",{"$f":"OtherNEFres","v":0},"=",0,"x",298,"=",0,"=",0]
[null,null,null,null,null,null,null,"Total","=",{"$f":"SUM(J384:J390)","v":{"$error":"#N/A"}},"=",{"$error":"#N/A"}]
[]
["Residential Sector N20",null,null,{"$f":"D380+1","v":2020}]
[]
[null,"Consumption",null,"Emission Factor",null,"Emissions ",null,"GWP",null,"Emissions ",null,"Emissions "]
["Fuel Type","(Billion Btu)",null,"(metric tons N2O/BBtu)",null,"(metric tons N2O)",null,null,null,"(MMTCE)",null,"(MMTCO2E)"]
["Coal",{"$f":"VLOOKUP($A$2&$C$2&$B$2&$C$2&$A397,ConsumeBlock3,33,FALSE)","v":{"$error":"#N/A"}},"x",{"$f":"CoalNEFres","v":0},"=",{"$f":"B397*D397","v":{"$error":"#N/A"}},"x",{"$f":"GWPN2O","v":298},"=",{"$f":"F397*H397*CO2_C/(10^6)","v":{"$error":"#N/A"}},"=",{"$f":"J397/CO2_C","v":{"$error":"#N/A"}}]
["Distillate Fuel",{"$error":"#N/A"},"x",{"$f":"DistillNEFres","v":0},"=",{"$f":"B398*D398","v":{"$error":"#N/A"}},"x",298,"=",{"$error":"#N/A"},"=",{"$error":"#N/A"}]
["Kerosene",{"$error":"#N/A"},"x",{"$f":"KeroNEFres","v":0},"=",{"$error":"#N/A"},"x",298,"=",{"$error":"#N/A"},"=",{"$error":"#N/A"}]
["Hydrocarbon Gas Liquids",{"$error":"#N/A"},"x",{"$f":"LPGNEFres","v":0},"=",{"$error":"#N/A"},"x",298,"=",{"$error":"#N/A"},"=",{"$error":"#N/A"}]
["Natural Gas",{"$error":"#N/A"},"x",{"$f":"NatGasNEFres","v":0},"=",{"$error":"#N/A"},"x",298,"=",{"$error":"#N/A"},"=",{"$error":"#N/A"}]
["Wood",{"$error":"#N/A"},"x",{"$f":"WoodNEFres","v":0},"=",{"$error":"#N/A"},"x",298,"=",{"$error":"#N/A"},"=",{"$error":"#N/A"}]
["Other",{"$f":"VLOOKUP($A$2&$C$2&$B$2&$C$2&$A403,ConsumeBlock3,D393-1987,FALSE)","v":0},"x",{"$f":"OtherNEFres","v":0},"=",0,"x",298,"=",0,"=",0]
[null,null,null,null,null,null,null,"Total","=",{"$f":"SUM(J397:J403)","v":{"$error":"#N/A"}},"=",{"$error":"#N/A"}]

{"sheet":"Residential CH4","index":3,"n_rows":404,"n_cols":12,"rows_kept":404,"cut":false,"hidden":false,"merged":[]}
[{"$f":"\"2. Residential Consumption and CH4 emissions in \"&Constants!G2","v":"2. Residential Consumption and CH4 emissions in Select a State . . ."}]
[{"$f":"Constants!H2","v":"xx"},"Residential",{"$f":"\" \"","v":" "}]
["Residential Sector CH4",null,null,1990]
[]
[null,"Consumption",null,"Emission Factor",null,"Emissions ",null,"GWP",null,"Emissions ",null,"Emissions "]
["Fuel Type","(Billion Btu)",null,"(metric tons CH4 /BBtu)",null,"(metric tons CH4)",null,null,null,"(MMTCE)",null,"(MMTCO2E)"]
["Coal",{"$f":"'Residential N2O'!B7","v":{"$error":"#N/A"}},"x",{"$f":"CoalCEFres","v":0},"=",{"$f":"B7*D7","v":{"$error":"#N/A"}},"x",{"$f":"GWPCH4","v":25},"=",{"$f":"F7*H7*CO2_C/(10^6)","v":{"$error":"#N/A"}},"=",{"$f":"J7/CO2_C","v":{"$error":"#N/A"}}]
["Distillate Fuel",{"$f":"'Residential N2O'!B8","v":{"$error":"#N/A"}},"x",{"$f":"DistillCEFres","v":0},"=",{"$f":"B8*D8","v":{"$error":"#N/A"}},"x",25,"=",{"$error":"#N/A"},"=",{"$error":"#N/A"}]
["Kerosene",{"$f":"'Residential N2O'!B9","v":{"$error":"#N/A"}},"x",{"$f":"KeroCEFres","v":0},"=",{"$error":"#N/A"},"x",25,"=",{"$error":"#N/A"},"=",{"$error":"#N/A"}]
["Hydrocarbon Gas Liquids",{"$f":"'Residential N2O'!B10","v":{"$error":"#N/A"}},"x",{"$f":"LPGCEFres","v":0},"=",{"$error":"#N/A"},"x",25,"=",{"$error":"#N/A"},"=",{"$error":"#N/A"}]
["Natural Gas",{"$f":"'Residential N2O'!B11","v":{"$error":"#N/A"}},"x",{"$f":"NatGasCEFres","v":0},"=",{"$error":"#N/A"},"x",25,"=",{"$error":"#N/A"},"=",{"$error":"#N/A"}]
["Wood",{"$f":"'Residential N2O'!B12","v":{"$error":"#N/A"}},"x",{"$f":"WoodCEFres","v":0},"=",{"$error":"#N/A"},"x",25,"=",{"$error":"#N/A"},"=",{"$error":"#N/A"}]
["Other",{"$f":"'Residential N2O'!B13","v":0},"x",{"$f":"OtherCEFres","v":0},"=",0,"x",25,"=",0,"=",0]
[null,null,null,null,null,null,null,"Total","=",{"$f":"SUM(J7:J13)","v":{"$error":"#N/A"}},null,{"$error":"#N/A"}]
[]
["Residential Sector CH4",null,null,{"$f":"D3+1","v":1991}]
[]
[null,"Consumption",null,"Emission Factor",null,"Emissions ",null,"GWP",null,"Emissions ",null,"Emissions "]
["Fuel Type","(Billion Btu)",null,"(metric tons CH4 /BBtu)",null,"(metric tons CH4)",null,null,null,"(MMTCE)",null,"(MMTCO2E)"]
["Coal",{"$f":"'Residential N2O'!B20","v":{"$error":"#N/A"}},"x",{"$f":"CoalCEFres","v":0},"=",{"$f":"B20*D20","v":{"$error":"#N/A"}},"x",{"$f":"GWPCH4","v":25},"=",{"$f":"F20*H20*CO2_C/(10^6)","v":{"$error":"#N/A"}},"=",{"$f":"J20/CO2_C","v":{"$error":"#N/A"}}]
["Distillate Fuel",{"$f":"'Residential N2O'!B21","v":{"$error":"#N/A"}},"x",{"$f":"DistillCEFres","v":0},"=",{"$f":"B21*D21","v":{"$error":"#N/A"}},"x",25,"=",{"$error":"#N/A"},"=",{"$error":"#N/A"}]
["Kerosene",{"$f":"'Residential N2O'!B22","v":{"$error":"#N/A"}},"x",{"$f":"KeroCEFres","v":0},"=",{"$error":"#N/A"},"x",25,"=",{"$error":"#N/A"},"=",{"$error":"#N/A"}]
["Hydrocarbon Gas Liquids",{"$f":"'Residential N2O'!B23","v":{"$error":"#N/A"}},"x",{"$f":"LPGCEFres","v":0},"=",{"$error":"#N/A"},"x",25,"=",{"$error":"#N/A"},"=",{"$error":"#N/A"}]
["Natural Gas",{"$f":"'Residential N2O'!B24","v":{"$error":"#N/A"}},"x",{"$f":"NatGasCEFres","v":0},"=",{"$error":"#N/A"},"x",25,"=",{"$error":"#N/A"},"=",{"$error":"#N/A"}]
["Wood",{"$f":"'Residential N2O'!B25","v":{"$error":"#N/A"}},"x",{"$f":"WoodCEFres","v":0},"=",{"$error":"#N/A"},"x",25,"=",{"$error":"#N/A"},"=",{"$error":"#N/A"}]
["Other",{"$f":"'Residential N2O'!B26","v":0},"x",{"$f":"OtherCEFres","v":0},"=",0,"x",25,"=",0,"=",0]
[null,null,null,null,null,null,null,"Total","=",{"$f":"SUM(J20:J26)","v":{"$error":"#N/A"}},null,{"$error":"#N/A"}]
[]
["Residential Sector CH4",null,null,{"$f":"D16+1","v":1992}]
[]
[null,"Consumption",null,"Emission Factor",null,"Emissions ",null,"GWP",null,"Emissions ",null,"Emissions "]
["Fuel Type","(Billion Btu)",null,"(metric tons CH4 /BBtu)",null,"(metric tons CH4)",null,null,null,"(MMTCE)",null,"(MMTCO2E)"]
["Coal",{"$f":"'Residential N2O'!B33","v":{"$error":"#N/A"}},"x",{"$f":"CoalCEFres","v":0},"=",{"$f":"B33*D33","v":{"$error":"#N/A"}},"x",{"$f":"GWPCH4","v":25},"=",{"$f":"F33*H33*CO2_C/(10^6)","v":{"$error":"#N/A"}},"=",{"$f":"J33/CO2_C","v":{"$error":"#N/A"}}]
["Distillate Fuel",{"$f":"'Residential N2O'!B34","v":{"$error":"#N/A"}},"x",{"$f":"DistillCEFres","v":0},"=",{"$f":"B34*D34","v":{"$error":"#N/A"}},"x",25,"=",{"$error":"#N/A"},"=",{"$error":"#N/A"}]
["Kerosene",{"$f":"'Residential N2O'!B35","v":{"$error":"#N/A"}},"x",{"$f":"KeroCEFres","v":0},"=",{"$error":"#N/A"},"x",25,"=",{"$error":"#N/A"},"=",{"$error":"#N/A"}]
["Hydrocarbon Gas Liquids",{"$f":"'Residential N2O'!B36","v":{"$error":"#N/A"}},"x",{"$f":"LPGCEFres","v":0},"=",{"$error":"#N/A"},"x",25,"=",{"$error":"#N/A"},"=",{"$error":"#N/A"}]
["Natural Gas",{"$f":"'Residential N2O'!B37","v":{"$error":"#N/A"}},"x",{"$f":"NatGasCEFres","v":0},"=",{"$error":"#N/A"},"x",25,"=",{"$error":"#N/A"},"=",{"$error":"#N/A"}]
["Wood",{"$f":"'Residential N2O'!B38","v":{"$error":"#N/A"}},"x",{"$f":"WoodCEFres","v":0},"=",{"$error":"#N/A"},"x",25,"=",{"$error":"#N/A"},"=",{"$error":"#N/A"}]
["Other",{"$f":"'Residential N2O'!B39","v":0},"x",{"$f":"OtherCEFres","v":0},"=",0,"x",25,"=",0,"=",0]
[null,null,null,null,null,null,null,"Total","=",{"$f":"SUM(J33:J39)","v":{"$error":"#N/A"}},null,{"$error":"#N/A"}]
[]
["Residential Sector CH4",null,null,{"$f":"D29+1","v":1993}]
[]
[null,"Consumption",null,"Emission Factor",null,"Emissions ",null,"GWP",null,"Emissions ",null,"Emissions "]
["Fuel Type","(Billion Btu)",null,"(metric tons CH4 /BBtu)",null,"(metric tons CH4)",null,null,null,"(MMTCE)",null,"(MMTCO2E)"]
["Coal",{"$f":"'Residential N2O'!B46","v":{"$error":"#N/A"}},"x",{"$f":"CoalCEFres","v":0},"=",{"$f":"B46*D46","v":{"$error":"#N/A"}},"x",{"$f":"GWPCH4","v":25},"=",{"$f":"F46*H46*CO2_C/(10^6)","v":{"$error":"#N/A"}},"=",{"$f":"J46/CO2_C","v":{"$error":"#N/A"}}]
["Distillate Fuel",{"$f":"'Residential N2O'!B47","v":{"$error":"#N/A"}},"x",{"$f":"DistillCEFres","v":0},"=",{"$f":"B47*D47","v":{"$error":"#N/A"}},"x",25,"=",{"$error":"#N/A"},"=",{"$error":"#N/A"}]
["Kerosene",{"$f":"'Residential N2O'!B48","v":{"$error":"#N/A"}},"x",{"$f":"KeroCEFres","v":0},"=",{"$error":"#N/A"},"x",25,"=",{"$error":"#N/A"},"=",{"$error":"#N/A"}]
["Hydrocarbon Gas Liquids",{"$f":"'Residential N2O'!B49","v":{"$error":"#N/A"}},"x",{"$f":"LPGCEFres","v":0},"=",{"$error":"#N/A"},"x",25,"=",{"$error":"#N/A"},"=",{"$error":"#N/A"}]
["Natural Gas",{"$f":"'Residential N2O'!B50","v":{"$error":"#N/A"}},"x",{"$f":"NatGasCEFres","v":0},"=",{"$error":"#N/A"},"x",25,"=",{"$error":"#N/A"},"=",{"$error":"#N/A"}]
["Wood",{"$f":"'Residential N2O'!B51","v":{"$error":"#N/A"}},"x",{"$f":"WoodCEFres","v":0},"=",{"$error":"#N/A"},"x",25,"=",{"$error":"#N/A"},"=",{"$error":"#N/A"}]
["Other",{"$f":"'Residential N2O'!B52","v":0},"x",{"$f":"OtherCEFres","v":0},"=",0,"x",25,"=",0,"=",0]
[null,null,null,null,null,null,null,"Total","=",{"$f":"SUM(J46:J52)","v":{"$error":"#N/A"}},null,{"$error":"#N/A"}]
[]
["Residential Sector CH4",null,null,{"$f":"D42+1","v":1994}]
[]
[null,"Consumption",null,"Emission Factor",null,"Emissions ",null,"GWP",null,"Emissions ",null,"Emissions "]
["Fuel Type","(Billion Btu)",null,"(metric tons CH4 /BBtu)",null,"(metric tons CH4)",null,null,null,"(MMTCE)",null,"(MMTCO2E)"]
["Coal",{"$f":"'Residential N2O'!B59","v":{"$error":"#N/A"}},"x",{"$f":"CoalCEFres","v":0},"=",{"$f":"B59*D59","v":{"$error":"#N/A"}},"x",{"$f":"GWPCH4","v":25},"=",{"$f":"F59*H59*CO2_C/(10^6)","v":{"$error":"#N/A"}},"=",{"$f":"J59/CO2_C","v":{"$error":"#N/A"}}]
["Distillate Fuel",{"$f":"'Residential N2O'!B60","v":{"$error":"#N/A"}},"x",{"$f":"DistillCEFres","v":0},"=",{"$f":"B60*D60","v":{"$error":"#N/A"}},"x",25,"=",{"$error":"#N/A"},"=",{"$error":"#N/A"}]
["Kerosene",{"$f":"'Residential N2O'!B61","v":{"$error":"#N/A"}},"x",{"$f":"KeroCEFres","v":0},"=",{"$error":"#N/A"},"x",25,"=",{"$error":"#N/A"},"=",{"$error":"#N/A"}]
["Hydrocarbon Gas Liquids",{"$f":"'Residential N2O'!B62","v":{"$error":"#N/A"}},"x",{"$f":"LPGCEFres","v":0},"=",{"$error":"#N/A"},"x",25,"=",{"$error":"#N/A"},"=",{"$error":"#N/A"}]
["Natural Gas",{"$f":"'Residential N2O'!B63","v":{"$error":"#N/A"}},"x",{"$f":"NatGasCEFres","v":0},"=",{"$error":"#N/A"},"x",25,"=",{"$error":"#N/A"},"=",{"$error":"#N/A"}]
["Wood",{"$f":"'Residential N2O'!B64","v":{"$error":"#N/A"}},"x",{"$f":"WoodCEFres","v":0},"=",{"$error":"#N/A"},"x",25,"=",{"$error":"#N/A"},"=",{"$error":"#N/A"}]
["Other",{"$f":"'Residential N2O'!B65","v":0},"x",{"$f":"OtherCEFres","v":0},"=",0,"x",25,"=",0,"=",0]
[null,null,null,null,null,null,null,"Total","=",{"$f":"SUM(J59:J65)","v":{"$error":"#N/A"}},null,{"$error":"#N/A"}]
[]
["Residential Sector CH4",null,null,{"$f":"D55+1","v":1995}]
[]
[null,"Consumption",null,"Emission Factor",null,"Emissions ",null,"GWP",null,"Emissions ",null,"Emissions "]
["Fuel Type","(Billion Btu)",null,"(metric tons CH4 /BBtu)",null,"(metric tons CH4)",null,null,null,"(MMTCE)",null,"(MMTCO2E)"]
["Coal",{"$f":"'Residential N2O'!B72","v":{"$error":"#N/A"}},"x",{"$f":"CoalCEFres","v":0},"=",{"$f":"B72*D72","v":{"$error":"#N/A"}},"x",{"$f":"GWPCH4","v":25},"=",{"$f":"F72*H72*CO2_C/(10^6)","v":{"$error":"#N/A"}},"=",{"$f":"J72/CO2_C","v":{"$error":"#N/A"}}]
["Distillate Fuel",{"$f":"'Residential N2O'!B73","v":{"$error":"#N/A"}},"x",{"$f":"DistillCEFres","v":0},"=",{"$f":"B73*D73","v":{"$error":"#N/A"}},"x",25,"=",{"$error":"#N/A"},"=",{"$error":"#N/A"}]
["Kerosene",{"$f":"'Residential N2O'!B74","v":{"$error":"#N/A"}},"x",{"$f":"KeroCEFres","v":0},"=",{"$error":"#N/A"},"x",25,"=",{"$error":"#N/A"},"=",{"$error":"#N/A"}]
["Hydrocarbon Gas Liquids",{"$f":"'Residential N2O'!B75","v":{"$error":"#N/A"}},"x",{"$f":"LPGCEFres","v":0},"=",{"$error":"#N/A"},"x",25,"=",{"$error":"#N/A"},"=",{"$error":"#N/A"}]
["Natural Gas",{"$f":"'Residential N2O'!B76","v":{"$error":"#N/A"}},"x",{"$f":"NatGasCEFres","v":0},"=",{"$error":"#N/A"},"x",25,"=",{"$error":"#N/A"},"=",{"$error":"#N/A"}]
["Wood",{"$f":"'Residential N2O'!B77","v":{"$error":"#N/A"}},"x",{"$f":"WoodCEFres","v":0},"=",{"$error":"#N/A"},"x",25,"=",{"$error":"#N/A"},"=",{"$error":"#N/A"}]
["Other",{"$f":"'Residential N2O'!B78","v":0},"x",{"$f":"OtherCEFres","v":0},"=",0,"x",25,"=",0,"=",0]
[null,null,null,null,null,null,null,"Total","=",{"$f":"SUM(J72:J78)","v":{"$error":"#N/A"}},null,{"$error":"#N/A"}]
[]
["Residential Sector CH4",null,null,{"$f":"D68+1","v":1996}]
[]
[null,"Consumption",null,"Emission Factor",null,"Emissions ",null,"GWP",null,"Emissions ",null,"Emissions "]
["Fuel Type","(Billion Btu)",null,"(metric tons CH4 /BBtu)",null,"(metric tons CH4)",null,null,null,"(MMTCE)",null,"(MMTCO2E)"]
["Coal",{"$f":"'Residential N2O'!B85","v":{"$error":"#N/A"}},"x",{"$f":"CoalCEFres","v":0},"=",{"$f":"B85*D85","v":{"$error":"#N/A"}},"x",{"$f":"GWPCH4","v":25},"=",{"$f":"F85*H85*CO2_C/(10^6)","v":{"$error":"#N/A"}},"=",{"$f":"J85/CO2_C","v":{"$error":"#N/A"}}]
["Distillate Fuel",{"$f":"'Residential N2O'!B86","v":{"$error":"#N/A"}},"x",{"$f":"DistillCEFres","v":0},"=",{"$f":"B86*D86","v":{"$error":"#N/A"}},"x",25,"=",{"$error":"#N/A"},"=",{"$error":"#N/A"}]
["Kerosene",{"$f":"'Residential N2O'!B87","v":{"$error":"#N/A"}},"x",{"$f":"KeroCEFres","v":0},"=",{"$error":"#N/A"},"x",25,"=",{"$error":"#N/A"},"=",{"$error":"#N/A"}]
["Hydrocarbon Gas Liquids",{"$f":"'Residential N2O'!B88","v":{"$error":"#N/A"}},"x",{"$f":"LPGCEFres","v":0},"=",{"$error":"#N/A"},"x",25,"=",{"$error":"#N/A"},"=",{"$error":"#N/A"}]
["Natural Gas",{"$f":"'Residential N2O'!B89","v":{"$error":"#N/A"}},"x",{"$f":"NatGasCEFres","v":0},"=",{"$error":"#N/A"},"x",25,"=",{"$error":"#N/A"},"=",{"$error":"#N/A"}]
["Wood",{"$f":"'Residential N2O'!B90","v":{"$error":"#N/A"}},"x",{"$f":"WoodCEFres","v":0},"=",{"$error":"#N/A"},"x",25,"=",{"$error":"#N/A"},"=",{"$error":"#N/A"}]
["Other",{"$f":"'Residential N2O'!B91","v":0},"x",{"$f":"OtherCEFres","v":0},"=",0,"x",25,"=",0,"=",0]
[null,null,null,null,null,null,null,"Total","=",{"$f":"SUM(J85:J91)","v":{"$error":"#N/A"}},null,{"$error":"#N/A"}]
[]
["Residential Sector CH4",null,null,{"$f":"D81+1","v":1997}]
[]
[null,"Consumption",null,"Emission Factor",null,"Emissions ",null,"GWP",null,"Emissions ",null,"Emissions "]
["Fuel Type","(Billion Btu)",null,"(metric tons CH4 /BBtu)",null,"(metric tons CH4)",null,null,null,"(MMTCE)",null,"(MMTCO2E)"]
["Coal",{"$f":"'Residential N2O'!B98","v":{"$error":"#N/A"}},"x",{"$f":"CoalCEFres","v":0},"=",{"$f":"B98*D98","v":{"$error":"#N/A"}},"x",{"$f":"GWPCH4","v":25},"=",{"$f":"F98*H98*CO2_C/(10^6)","v":{"$error":"#N/A"}},"=",{"$f":"J98/CO2_C","v":{"$error":"#N/A"}}]
["Distillate Fuel",{"$f":"'Residential N2O'!B99","v":{"$error":"#N/A"}},"x",{"$f":"DistillCEFres","v":0},"=",{"$f":"B99*D99","v":{"$error":"#N/A"}},"x",25,"=",{"$error":"#N/A"},"=",{"$error":"#N/A"}]
["Kerosene",{"$f":"'Residential N2O'!B100","v":{"$error":"#N/A"}},"x",{"$f":"KeroCEFres","v":0},"=",{"$error":"#N/A"},"x",25,"=",{"$error":"#N/A"},"=",{"$error":"#N/A"}]
["Hydrocarbon Gas Liquids",{"$f":"'Residential N2O'!B101","v":{"$error":"#N/A"}},"x",{"$f":"LPGCEFres","v":0},"=",{"$error":"#N/A"},"x",25,"=",{"$error":"#N/A"},"=",{"$error":"#N/A"}]
["Natural Gas",{"$f":"'Residential N2O'!B102","v":{"$error":"#N/A"}},"x",{"$f":"NatGasCEFres","v":0},"=",{"$error":"#N/A"},"x",25,"=",{"$error":"#N/A"},"=",{"$error":"#N/A"}]
["Wood",{"$f":"'Residential N2O'!B103","v":{"$error":"#N/A"}},"x",{"$f":"WoodCEFres","v":0},"=",{"$error":"#N/A"},"x",25,"=",{"$error":"#N/A"},"=",{"$error":"#N/A"}]
["Other",{"$f":"'Residential N2O'!B104","v":0},"x",{"$f":"OtherCEFres","v":0},"=",0,"x",25,"=",0,"=",0]
[null,null,null,null,null,null,null,"Total","=",{"$f":"SUM(J98:J104)","v":{"$error":"#N/A"}},null,{"$error":"#N/A"}]
[]
["Residential Sector CH4",null,null,{"$f":"D94+1","v":1998}]
[]
[null,"Consumption",null,"Emission Factor",null,"Emissions ",null,"GWP",null,"Emissions ",null,"Emissions "]
["Fuel Type","(Billion Btu)",null,"(metric tons CH4 /BBtu)",null,"(metric tons CH4)",null,null,null,"(MMTCE)",null,"(MMTCO2E)"]
["Coal",{"$f":"'Residential N2O'!B111","v":{"$error":"#N/A"}},"x",{"$f":"CoalCEFres","v":0},"=",{"$f":"B111*D111","v":{"$error":"#N/A"}},"x",{"$f":"GWPCH4","v":25},"=",{"$f":"F111*H111*CO2_C/(10^6)","v":{"$error":"#N/A"}},"=",{"$f":"J111/CO2_C","v":{"$error":"#N/A"}}]
["Distillate Fuel",{"$f":"'Residential N2O'!B112","v":{"$error":"#N/A"}},"x",{"$f":"DistillCEFres","v":0},"=",{"$f":"B112*D112","v":{"$error":"#N/A"}},"x",25,"=",{"$error":"#N/A"},"=",{"$error":"#N/A"}]
["Kerosene",{"$f":"'Residential N2O'!B113","v":{"$error":"#N/A"}},"x",{"$f":"KeroCEFres","v":0},"=",{"$error":"#N/A"},"x",25,"=",{"$error":"#N/A"},"=",{"$error":"#N/A"}]
["Hydrocarbon Gas Liquids",{"$f":"'Residential N2O'!B114","v":{"$error":"#N/A"}},"x",{"$f":"LPGCEFres","v":0},"=",{"$error":"#N/A"},"x",25,"=",{"$error":"#N/A"},"=",{"$error":"#N/A"}]
["Natural Gas",{"$f":"'Residential N2O'!B115","v":{"$error":"#N/A"}},"x",{"$f":"NatGasCEFres","v":0},"=",{"$error":"#N/A"},"x",25,"=",{"$error":"#N/A"},"=",{"$error":"#N/A"}]
["Wood",{"$f":"'Residential N2O'!B116","v":{"$error":"#N/A"}},"x",{"$f":"WoodCEFres","v":0},"=",{"$error":"#N/A"},"x",25,"=",{"$error":"#N/A"},"=",{"$error":"#N/A"}]
["Other",{"$f":"'Residential N2O'!B117","v":0},"x",{"$f":"OtherCEFres","v":0},"=",0,"x",25,"=",0,"=",0]
[null,null,null,null,null,null,null,"Total","=",{"$f":"SUM(J111:J117)","v":{"$error":"#N/A"}},null,{"$error":"#N/A"}]
[]
["Residential Sector CH4",null,null,{"$f":"D107+1","v":1999}]
[]
[null,"Consumption",null,"Emission Factor",null,"Emissions ",null,"GWP",null,"Emissions ",null,"Emissions "]
["Fuel Type","(Billion Btu)",null,"(metric tons CH4 /BBtu)",null,"(metric tons CH4)",null,null,null,"(MMTCE)",null,"(MMTCO2E)"]
["Coal",{"$f":"'Residential N2O'!B124","v":{"$error":"#N/A"}},"x",{"$f":"CoalCEFres","v":0},"=",{"$f":"B124*D124","v":{"$error":"#N/A"}},"x",{"$f":"GWPCH4","v":25},"=",{"$f":"F124*H124*CO2_C/(10^6)","v":{"$error":"#N/A"}},"=",{"$f":"J124/CO2_C","v":{"$error":"#N/A"}}]
["Distillate Fuel",{"$f":"'Residential N2O'!B125","v":{"$error":"#N/A"}},"x",{"$f":"DistillCEFres","v":0},"=",{"$f":"B125*D125","v":{"$error":"#N/A"}},"x",25,"=",{"$error":"#N/A"},"=",{"$error":"#N/A"}]
["Kerosene",{"$f":"'Residential N2O'!B126","v":{"$error":"#N/A"}},"x",{"$f":"KeroCEFres","v":0},"=",{"$error":"#N/A"},"x",25,"=",{"$error":"#N/A"},"=",{"$error":"#N/A"}]
["Hydrocarbon Gas Liquids",{"$f":"'Residential N2O'!B127","v":{"$error":"#N/A"}},"x",{"$f":"LPGCEFres","v":0},"=",{"$error":"#N/A"},"x",25,"=",{"$error":"#N/A"},"=",{"$error":"#N/A"}]
["Natural Gas",{"$f":"'Residential N2O'!B128","v":{"$error":"#N/A"}},"x",{"$f":"NatGasCEFres","v":0},"=",{"$error":"#N/A"},"x",25,"=",{"$error":"#N/A"},"=",{"$error":"#N/A"}]
["Wood",{"$f":"'Residential N2O'!B129","v":{"$error":"#N/A"}},"x",{"$f":"WoodCEFres","v":0},"=",{"$error":"#N/A"},"x",25,"=",{"$error":"#N/A"},"=",{"$error":"#N/A"}]
["Other",{"$f":"'Residential N2O'!B130","v":0},"x",{"$f":"OtherCEFres","v":0},"=",0,"x",25,"=",0,"=",0]
[null,null,null,null,null,null,null,"Total","=",{"$f":"SUM(J124:J130)","v":{"$error":"#N/A"}},null,{"$error":"#N/A"}]
[]
["Residential Sector CH4",null,null,{"$f":"D120+1","v":2000}]
[]
[null,"Consumption",null,"Emission Factor",null,"Emissions ",null,"GWP",null,"Emissions ",null,"Emissions "]
["Fuel Type","(Billion Btu)",null,"(metric tons CH4 /BBtu)",null,"(metric tons CH4)",null,null,null,"(MMTCE)",null,"(MMTCO2E)"]
["Coal",{"$f":"'Residential N2O'!B137","v":{"$error":"#N/A"}},"x",{"$f":"CoalCEFres","v":0},"=",{"$f":"B137*D137","v":{"$error":"#N/A"}},"x",{"$f":"GWPCH4","v":25},"=",{"$f":"F137*H137*CO2_C/(10^6)","v":{"$error":"#N/A"}},"=",{"$f":"J137/CO2_C","v":{"$error":"#N/A"}}]
["Distillate Fuel",{"$f":"'Residential N2O'!B138","v":{"$error":"#N/A"}},"x",{"$f":"DistillCEFres","v":0},"=",{"$f":"B138*D138","v":{"$error":"#N/A"}},"x",25,"=",{"$error":"#N/A"},"=",{"$error":"#N/A"}]
["Kerosene",{"$f":"'Residential N2O'!B139","v":{"$error":"#N/A"}},"x",{"$f":"KeroCEFres","v":0},"=",{"$error":"#N/A"},"x",25,"=",{"$error":"#N/A"},"=",{"$error":"#N/A"}]
["Hydrocarbon Gas Liquids",{"$f":"'Residential N2O'!B140","v":{"$error":"#N/A"}},"x",{"$f":"LPGCEFres","v":0},"=",{"$error":"#N/A"},"x",25,"=",{"$error":"#N/A"},"=",{"$error":"#N/A"}]
["Natural Gas",{"$f":"'Residential N2O'!B141","v":{"$error":"#N/A"}},"x",{"$f":"NatGasCEFres","v":0},"=",{"$error":"#N/A"},"x",25,"=",{"$error":"#N/A"},"=",{"$error":"#N/A"}]
["Wood",{"$f":"'Residential N2O'!B142","v":{"$error":"#N/A"}},"x",{"$f":"WoodCEFres","v":0},"=",{"$error":"#N/A"},"x",25,"=",{"$error":"#N/A"},"=",{"$error":"#N/A"}]
["Other",{"$f":"'Residential N2O'!B143","v":0},"x",{"$f":"OtherCEFres","v":0},"=",0,"x",25,"=",0,"=",0]
[null,null,null,null,null,null,null,"Total","=",{"$f":"SUM(J137:J143)","v":{"$error":"#N/A"}},null,{"$error":"#N/A"}]
[]
["Residential Sector CH4",null,null,{"$f":"D133+1","v":2001}]
[]
[null,"Consumption",null,"Emission Factor",null,"Emissions ",null,"GWP",null,"Emissions ",null,"Emissions "]
["Fuel Type","(Billion Btu)",null,"(metric tons CH4 /BBtu)",null,"(metric tons CH4)",null,null,null,"(MMTCE)",null,"(MMTCO2E)"]
["Coal",{"$f":"'Residential N2O'!B150","v":{"$error":"#N/A"}},"x",{"$f":"CoalCEFres","v":0},"=",{"$f":"B150*D150","v":{"$error":"#N/A"}},"x",{"$f":"GWPCH4","v":25},"=",{"$f":"F150*H150*CO2_C/(10^6)","v":{"$error":"#N/A"}},"=",{"$f":"J150/CO2_C","v":{"$error":"#N/A"}}]
["Distillate Fuel",{"$f":"'Residential N2O'!B151","v":{"$error":"#N/A"}},"x",{"$f":"DistillCEFres","v":0},"=",{"$f":"B151*D151","v":{"$error":"#N/A"}},"x",25,"=",{"$error":"#N/A"},"=",{"$error":"#N/A"}]
["Kerosene",{"$f":"'Residential N2O'!B152","v":{"$error":"#N/A"}},"x",{"$f":"KeroCEFres","v":0},"=",{"$error":"#N/A"},"x",25,"=",{"$error":"#N/A"},"=",{"$error":"#N/A"}]
["Hydrocarbon Gas Liquids",{"$f":"'Residential N2O'!B153","v":{"$error":"#N/A"}},"x",{"$f":"LPGCEFres","v":0},"=",{"$error":"#N/A"},"x",25,"=",{"$error":"#N/A"},"=",{"$error":"#N/A"}]
["Natural Gas",{"$f":"'Residential N2O'!B154","v":{"$error":"#N/A"}},"x",{"$f":"NatGasCEFres","v":0},"=",{"$error":"#N/A"},"x",25,"=",{"$error":"#N/A"},"=",{"$error":"#N/A"}]
["Wood",{"$f":"'Residential N2O'!B155","v":{"$error":"#N/A"}},"x",{"$f":"WoodCEFres","v":0},"=",{"$error":"#N/A"},"x",25,"=",{"$error":"#N/A"},"=",{"$error":"#N/A"}]
["Other",{"$f":"'Residential N2O'!B156","v":0},"x",{"$f":"OtherCEFres","v":0},"=",0,"x",25,"=",0,"=",0]
[null,null,null,null,null,null,null,"Total","=",{"$f":"SUM(J150:J156)","v":{"$error":"#N/A"}},null,{"$error":"#N/A"}]
[]
["Residential Sector CH4",null,null,{"$f":"D146+1","v":2002}]
[]
[null,"Consumption",null,"Emission Factor",null,"Emissions ",null,"GWP",null,"Emissions ",null,"Emissions "]
["Fuel Type","(Billion Btu)",null,"(metric tons CH4 /BBtu)",null,"(metric tons CH4)",null,null,null,"(MMTCE)",null,"(MMTCO2E)"]
["Coal",{"$f":"'Residential N2O'!B163","v":{"$error":"#N/A"}},"x",{"$f":"CoalCEFres","v":0},"=",{"$f":"B163*D163","v":{"$error":"#N/A"}},"x",{"$f":"GWPCH4","v":25},"=",{"$f":"F163*H163*CO2_C/(10^6)","v":{"$error":"#N/A"}},"=",{"$f":"J163/CO2_C","v":{"$error":"#N/A"}}]
["Distillate Fuel",{"$f":"'Residential N2O'!B164","v":{"$error":"#N/A"}},"x",{"$f":"DistillCEFres","v":0},"=",{"$f":"B164*D164","v":{"$error":"#N/A"}},"x",25,"=",{"$error":"#N/A"},"=",{"$error":"#N/A"}]
["Kerosene",{"$f":"'Residential N2O'!B165","v":{"$error":"#N/A"}},"x",{"$f":"KeroCEFres","v":0},"=",{"$error":"#N/A"},"x",25,"=",{"$error":"#N/A"},"=",{"$error":"#N/A"}]
["Hydrocarbon Gas Liquids",{"$f":"'Residential N2O'!B166","v":{"$error":"#N/A"}},"x",{"$f":"LPGCEFres","v":0},"=",{"$error":"#N/A"},"x",25,"=",{"$error":"#N/A"},"=",{"$error":"#N/A"}]
["Natural Gas",{"$f":"'Residential N2O'!B167","v":{"$error":"#N/A"}},"x",{"$f":"NatGasCEFres","v":0},"=",{"$error":"#N/A"},"x",25,"=",{"$error":"#N/A"},"=",{"$error":"#N/A"}]
["Wood",{"$f":"'Residential N2O'!B168","v":{"$error":"#N/A"}},"x",{"$f":"WoodCEFres","v":0},"=",{"$error":"#N/A"},"x",25,"=",{"$error":"#N/A"},"=",{"$error":"#N/A"}]
["Other",{"$f":"'Residential N2O'!B169","v":0},"x",{"$f":"OtherCEFres","v":0},"=",0,"x",25,"=",0,"=",0]
[null,null,null,null,null,null,null,"Total","=",{"$f":"SUM(J163:J169)","v":{"$error":"#N/A"}},null,{"$error":"#N/A"}]
[]
["Residential Sector CH4",null,null,{"$f":"D159+1","v":2003}]
[]
[null,"Consumption",null,"Emission Factor",null,"Emissions ",null,"GWP",null,"Emissions ",null,"Emissions "]
["Fuel Type","(Billion Btu)",null,"(metric tons CH4 /BBtu)",null,"(metric tons CH4)",null,null,null,"(MMTCE)",null,"(MMTCO2E)"]
["Coal",{"$f":"'Residential N2O'!B176","v":{"$error":"#N/A"}},"x",{"$f":"CoalCEFres","v":0},"=",{"$f":"B176*D176","v":{"$error":"#N/A"}},"x",{"$f":"GWPCH4","v":25},"=",{"$f":"F176*H176*CO2_C/(10^6)","v":{"$error":"#N/A"}},"=",{"$f":"J176/CO2_C","v":{"$error":"#N/A"}}]
["Distillate Fuel",{"$f":"'Residential N2O'!B177","v":{"$error":"#N/A"}},"x",{"$f":"DistillCEFres","v":0},"=",{"$f":"B177*D177","v":{"$error":"#N/A"}},"x",25,"=",{"$error":"#N/A"},"=",{"$error":"#N/A"}]
["Kerosene",{"$f":"'Residential N2O'!B178","v":{"$error":"#N/A"}},"x",{"$f":"KeroCEFres","v":0},"=",{"$error":"#N/A"},"x",25,"=",{"$error":"#N/A"},"=",{"$error":"#N/A"}]
["Hydrocarbon Gas Liquids",{"$f":"'Residential N2O'!B179","v":{"$error":"#N/A"}},"x",{"$f":"LPGCEFres","v":0},"=",{"$error":"#N/A"},"x",25,"=",{"$error":"#N/A"},"=",{"$error":"#N/A"}]
["Natural Gas",{"$f":"'Residential N2O'!B180","v":{"$error":"#N/A"}},"x",{"$f":"NatGasCEFres","v":0},"=",{"$error":"#N/A"},"x",25,"=",{"$error":"#N/A"},"=",{"$error":"#N/A"}]
["Wood",{"$f":"'Residential N2O'!B181","v":{"$error":"#N/A"}},"x",{"$f":"WoodCEFres","v":0},"=",{"$error":"#N/A"},"x",25,"=",{"$error":"#N/A"},"=",{"$error":"#N/A"}]
["Other",{"$f":"'Residential N2O'!B182","v":0},"x",{"$f":"OtherCEFres","v":0},"=",0,"x",25,"=",0,"=",0]
[null,null,null,null,null,null,null,"Total","=",{"$f":"SUM(J176:J182)","v":{"$error":"#N/A"}},null,{"$error":"#N/A"}]
[]
["Residential Sector CH4",null,null,{"$f":"D172+1","v":2004}]
[]
[null,"Consumption",null,"Emission Factor",null,"Emissions ",null,"GWP",null,"Emissions ",null,"Emissions "]
["Fuel Type","(Billion Btu)",null,"(metric tons CH4 /BBtu)",null,"(metric tons CH4)",null,null,null,"(MMTCE)",null,"(MMTCO2E)"]
["Coal",{"$f":"'Residential N2O'!B189","v":{"$error":"#N/A"}},"x",{"$f":"CoalCEFres","v":0},"=",{"$f":"B189*D189","v":{"$error":"#N/A"}},"x",{"$f":"GWPCH4","v":25},"=",{"$f":"F189*H189*CO2_C/(10^6)","v":{"$error":"#N/A"}},"=",{"$f":"J189/CO2_C","v":{"$error":"#N/A"}}]
["Distillate Fuel",{"$f":"'Residential N2O'!B190","v":{"$error":"#N/A"}},"x",{"$f":"DistillCEFres","v":0},"=",{"$f":"B190*D190","v":{"$error":"#N/A"}},"x",25,"=",{"$error":"#N/A"},"=",{"$error":"#N/A"}]
["Kerosene",{"$f":"'Residential N2O'!B191","v":{"$error":"#N/A"}},"x",{"$f":"KeroCEFres","v":0},"=",{"$error":"#N/A"},"x",25,"=",{"$error":"#N/A"},"=",{"$error":"#N/A"}]
["Hydrocarbon Gas Liquids",{"$f":"'Residential N2O'!B192","v":{"$error":"#N/A"}},"x",{"$f":"LPGCEFres","v":0},"=",{"$error":"#N/A"},"x",25,"=",{"$error":"#N/A"},"=",{"$error":"#N/A"}]
["Natural Gas",{"$f":"'Residential N2O'!B193","v":{"$error":"#N/A"}},"x",{"$f":"NatGasCEFres","v":0},"=",{"$error":"#N/A"},"x",25,"=",{"$error":"#N/A"},"=",{"$error":"#N/A"}]
["Wood",{"$f":"'Residential N2O'!B194","v":{"$error":"#N/A"}},"x",{"$f":"WoodCEFres","v":0},"=",{"$error":"#N/A"},"x",25,"=",{"$error":"#N/A"},"=",{"$error":"#N/A"}]
["Other",{"$f":"'Residential N2O'!B195","v":0},"x",{"$f":"OtherCEFres","v":0},"=",0,"x",25,"=",0,"=",0]
[null,null,null,null,null,null,null,"Total","=",{"$f":"SUM(J189:J195)","v":{"$error":"#N/A"}},null,{"$error":"#N/A"}]
[]
["Residential Sector CH4",null,null,{"$f":"D185+1","v":2005}]
[]
[null,"Consumption",null,"Emission Factor",null,"Emissions ",null,"GWP",null,"Emissions ",null,"Emissions "]
["Fuel Type","(Billion Btu)",null,"(metric tons CH4 /BBtu)",null,"(metric tons CH4)",null,null,null,"(MMTCE)",null,"(MMTCO2E)"]
["Coal",{"$f":"'Residential N2O'!B202","v":{"$error":"#N/A"}},"x",{"$f":"CoalCEFres","v":0},"=",{"$f":"B202*D202","v":{"$error":"#N/A"}},"x",{"$f":"GWPCH4","v":25},"=",{"$f":"F202*H202*CO2_C/(10^6)","v":{"$error":"#N/A"}},"=",{"$f":"J202/CO2_C","v":{"$error":"#N/A"}}]
["Distillate Fuel",{"$f":"'Residential N2O'!B203","v":{"$error":"#N/A"}},"x",{"$f":"DistillCEFres","v":0},"=",{"$f":"B203*D203","v":{"$error":"#N/A"}},"x",25,"=",{"$error":"#N/A"},"=",{"$error":"#N/A"}]
["Kerosene",{"$f":"'Residential N2O'!B204","v":{"$error":"#N/A"}},"x",{"$f":"KeroCEFres","v":0},"=",{"$error":"#N/A"},"x",25,"=",{"$error":"#N/A"},"=",{"$error":"#N/A"}]
["Hydrocarbon Gas Liquids",{"$f":"'Residential N2O'!B205","v":{"$error":"#N/A"}},"x",{"$f":"LPGCEFres","v":0},"=",{"$error":"#N/A"},"x",25,"=",{"$error":"#N/A"},"=",{"$error":"#N/A"}]
["Natural Gas",{"$f":"'Residential N2O'!B206","v":{"$error":"#N/A"}},"x",{"$f":"NatGasCEFres","v":0},"=",{"$error":"#N/A"},"x",25,"=",{"$error":"#N/A"},"=",{"$error":"#N/A"}]
["Wood",{"$f":"'Residential N2O'!B207","v":{"$error":"#N/A"}},"x",{"$f":"WoodCEFres","v":0},"=",{"$error":"#N/A"},"x",25,"=",{"$error":"#N/A"},"=",{"$error":"#N/A"}]
["Other",{"$f":"'Residential N2O'!B208","v":0},"x",{"$f":"OtherCEFres","v":0},"=",0,"x",25,"=",0,"=",0]
[null,null,null,null,null,null,null,"Total","=",{"$f":"SUM(J202:J208)","v":{"$error":"#N/A"}},null,{"$error":"#N/A"}]
[]
["Residential Sector CH4",null,null,{"$f":"D198+1","v":2006}]
[]
[null,"Consumption",null,"Emission Factor",null,"Emissions ",null,"GWP",null,"Emissions ",null,"Emissions "]
["Fuel Type","(Billion Btu)",null,"(metric tons CH4 /BBtu)",null,"(metric tons CH4)",null,null,null,"(MMTCE)",null,"(MMTCO2E)"]
["Coal",{"$f":"'Residential N2O'!B215","v":{"$error":"#N/A"}},"x",{"$f":"CoalCEFres","v":0},"=",{"$f":"B215*D215","v":{"$error":"#N/A"}},"x",{"$f":"GWPCH4","v":25},"=",{"$f":"F215*H215*CO2_C/(10^6)","v":{"$error":"#N/A"}},"=",{"$f":"J215/CO2_C","v":{"$error":"#N/A"}}]
["Distillate Fuel",{"$f":"'Residential N2O'!B216","v":{"$error":"#N/A"}},"x",{"$f":"DistillCEFres","v":0},"=",{"$f":"B216*D216","v":{"$error":"#N/A"}},"x",25,"=",{"$error":"#N/A"},"=",{"$error":"#N/A"}]
["Kerosene",{"$f":"'Residential N2O'!B217","v":{"$error":"#N/A"}},"x",{"$f":"KeroCEFres","v":0},"=",{"$error":"#N/A"},"x",25,"=",{"$error":"#N/A"},"=",{"$error":"#N/A"}]
["Hydrocarbon Gas Liquids",{"$f":"'Residential N2O'!B218","v":{"$error":"#N/A"}},"x",{"$f":"LPGCEFres","v":0},"=",{"$error":"#N/A"},"x",25,"=",{"$error":"#N/A"},"=",{"$error":"#N/A"}]
["Natural Gas",{"$f":"'Residential N2O'!B219","v":{"$error":"#N/A"}},"x",{"$f":"NatGasCEFres","v":0},"=",{"$error":"#N/A"},"x",25,"=",{"$error":"#N/A"},"=",{"$error":"#N/A"}]
["Wood",{"$f":"'Residential N2O'!B220","v":{"$error":"#N/A"}},"x",{"$f":"WoodCEFres","v":0},"=",{"$error":"#N/A"},"x",25,"=",{"$error":"#N/A"},"=",{"$error":"#N/A"}]
["Other",{"$f":"'Residential N2O'!B221","v":0},"x",{"$f":"OtherCEFres","v":0},"=",0,"x",25,"=",0,"=",0]
[null,null,null,null,null,null,null,"Total","=",{"$f":"SUM(J215:J221)","v":{"$error":"#N/A"}},null,{"$error":"#N/A"}]
[]
["Residential Sector CH4",null,null,{"$f":"D211+1","v":2007}]
[]
[null,"Consumption",null,"Emission Factor",null,"Emissions ",null,"GWP",null,"Emissions ",null,"Emissions "]
["Fuel Type","(Billion Btu)",null,"(metric tons CH4 /BBtu)",null,"(metric tons CH4)",null,null,null,"(MMTCE)",null,"(MMTCO2E)"]
["Coal",{"$f":"'Residential N2O'!B228","v":{"$error":"#N/A"}},"x",{"$f":"CoalCEFres","v":0},"=",{"$f":"B228*D228","v":{"$error":"#N/A"}},"x",{"$f":"GWPCH4","v":25},"=",{"$f":"F228*H228*CO2_C/(10^6)","v":{"$error":"#N/A"}},"=",{"$f":"J228/CO2_C","v":{"$error":"#N/A"}}]
["Distillate Fuel",{"$f":"'Residential N2O'!B229","v":{"$error":"#N/A"}},"x",{"$f":"DistillCEFres","v":0},"=",{"$f":"B229*D229","v":{"$error":"#N/A"}},"x",25,"=",{"$error":"#N/A"},"=",{"$error":"#N/A"}]
["Kerosene",{"$f":"'Residential N2O'!B230","v":{"$error":"#N/A"}},"x",{"$f":"KeroCEFres","v":0},"=",{"$error":"#N/A"},"x",25,"=",{"$error":"#N/A"},"=",{"$error":"#N/A"}]
["Hydrocarbon Gas Liquids",{"$f":"'Residential N2O'!B231","v":{"$error":"#N/A"}},"x",{"$f":"LPGCEFres","v":0},"=",{"$error":"#N/A"},"x",25,"=",{"$error":"#N/A"},"=",{"$error":"#N/A"}]
["Natural Gas",{"$f":"'Residential N2O'!B232","v":{"$error":"#N/A"}},"x",{"$f":"NatGasCEFres","v":0},"=",{"$error":"#N/A"},"x",25,"=",{"$error":"#N/A"},"=",{"$error":"#N/A"}]
["Wood",{"$f":"'Residential N2O'!B233","v":{"$error":"#N/A"}},"x",{"$f":"WoodCEFres","v":0},"=",{"$error":"#N/A"},"x",25,"=",{"$error":"#N/A"},"=",{"$error":"#N/A"}]
["Other",{"$f":"'Residential N2O'!B234","v":0},"x",{"$f":"OtherCEFres","v":0},"=",0,"x",25,"=",0,"=",0]
[null,null,null,null,null,null,null,"Total","=",{"$f":"SUM(J228:J234)","v":{"$error":"#N/A"}},null,{"$error":"#N/A"}]
[]
["Residential Sector CH4",null,null,{"$f":"D224+1","v":2008}]
[]
[null,"Consumption",null,"Emission Factor",null,"Emissions ",null,"GWP",null,"Emissions ",null,"Emissions "]
["Fuel Type","(Billion Btu)",null,"(metric tons CH4 /BBtu)",null,"(metric tons CH4)",null,null,null,"(MMTCE)",null,"(MMTCO2E)"]
["Coal",{"$f":"'Residential N2O'!B241","v":{"$error":"#N/A"}},"x",{"$f":"CoalCEFres","v":0},"=",{"$f":"B241*D241","v":{"$error":"#N/A"}},"x",{"$f":"GWPCH4","v":25},"=",{"$f":"F241*H241*CO2_C/(10^6)","v":{"$error":"#N/A"}},"=",{"$f":"J241/CO2_C","v":{"$error":"#N/A"}}]
["Distillate Fuel",{"$f":"'Residential N2O'!B242","v":{"$error":"#N/A"}},"x",{"$f":"DistillCEFres","v":0},"=",{"$f":"B242*D242","v":{"$error":"#N/A"}},"x",25,"=",{"$error":"#N/A"},"=",{"$error":"#N/A"}]
["Kerosene",{"$f":"'Residential N2O'!B243","v":{"$error":"#N/A"}},"x",{"$f":"KeroCEFres","v":0},"=",{"$error":"#N/A"},"x",25,"=",{"$error":"#N/A"},"=",{"$error":"#N/A"}]
["Hydrocarbon Gas Liquids",{"$f":"'Residential N2O'!B244","v":{"$error":"#N/A"}},"x",{"$f":"LPGCEFres","v":0},"=",{"$error":"#N/A"},"x",25,"=",{"$error":"#N/A"},"=",{"$error":"#N/A"}]
["Natural Gas",{"$f":"'Residential N2O'!B245","v":{"$error":"#N/A"}},"x",{"$f":"NatGasCEFres","v":0},"=",{"$error":"#N/A"},"x",25,"=",{"$error":"#N/A"},"=",{"$error":"#N/A"}]
["Wood",{"$f":"'Residential N2O'!B246","v":{"$error":"#N/A"}},"x",{"$f":"WoodCEFres","v":0},"=",{"$error":"#N/A"},"x",25,"=",{"$error":"#N/A"},"=",{"$error":"#N/A"}]
["Other",{"$f":"'Residential N2O'!B247","v":0},"x",{"$f":"OtherCEFres","v":0},"=",0,"x",25,"=",0,"=",0]
[null,null,null,null,null,null,null,"Total","=",{"$f":"SUM(J241:J247)","v":{"$error":"#N/A"}},null,{"$error":"#N/A"}]
[]
["Residential Sector CH4",null,null,{"$f":"D237+1","v":2009}]
[]
[null,"Consumption",null,"Emission Factor",null,"Emissions ",null,"GWP",null,"Emissions ",null,"Emissions "]
["Fuel Type","(Billion Btu)",null,"(metric tons CH4 /BBtu)",null,"(metric tons CH4)",null,null,null,"(MMTCE)",null,"(MMTCO2E)"]
["Coal",{"$f":"'Residential N2O'!B254","v":{"$error":"#N/A"}},"x",{"$f":"CoalCEFres","v":0},"=",{"$f":"B254*D254","v":{"$error":"#N/A"}},"x",{"$f":"GWPCH4","v":25},"=",{"$f":"F254*H254*CO2_C/(10^6)","v":{"$error":"#N/A"}},"=",{"$f":"J254/CO2_C","v":{"$error":"#N/A"}}]
["Distillate Fuel",{"$f":"'Residential N2O'!B255","v":{"$error":"#N/A"}},"x",{"$f":"DistillCEFres","v":0},"=",{"$f":"B255*D255","v":{"$error":"#N/A"}},"x",25,"=",{"$error":"#N/A"},"=",{"$error":"#N/A"}]
["Kerosene",{"$f":"'Residential N2O'!B256","v":{"$error":"#N/A"}},"x",{"$f":"KeroCEFres","v":0},"=",{"$error":"#N/A"},"x",25,"=",{"$error":"#N/A"},"=",{"$error":"#N/A"}]
["Hydrocarbon Gas Liquids",{"$f":"'Residential N2O'!B257","v":{"$error":"#N/A"}},"x",{"$f":"LPGCEFres","v":0},"=",{"$error":"#N/A"},"x",25,"=",{"$error":"#N/A"},"=",{"$error":"#N/A"}]
["Natural Gas",{"$f":"'Residential N2O'!B258","v":{"$error":"#N/A"}},"x",{"$f":"NatGasCEFres","v":0},"=",{"$error":"#N/A"},"x",25,"=",{"$error":"#N/A"},"=",{"$error":"#N/A"}]
["Wood",{"$f":"'Residential N2O'!B259","v":{"$error":"#N/A"}},"x",{"$f":"WoodCEFres","v":0},"=",{"$error":"#N/A"},"x",25,"=",{"$error":"#N/A"},"=",{"$error":"#N/A"}]
["Other",{"$f":"'Residential N2O'!B260","v":0},"x",{"$f":"OtherCEFres","v":0},"=",0,"x",25,"=",0,"=",0]
[null,null,null,null,null,null,null,"Total","=",{"$f":"SUM(J254:J260)","v":{"$error":"#N/A"}},null,{"$error":"#N/A"}]
[]
["Residential Sector CH4",null,null,{"$f":"D250+1","v":2010}]
[]
[null,"Consumption",null,"Emission Factor",null,"Emissions ",null,"GWP",null,"Emissions ",null,"Emissions "]
["Fuel Type","(Billion Btu)",null,"(metric tons CH4 /BBtu)",null,"(metric tons CH4)",null,null,null,"(MMTCE)",null,"(MMTCO2E)"]
["Coal",{"$f":"'Residential N2O'!B267","v":{"$error":"#N/A"}},"x",{"$f":"CoalCEFres","v":0},"=",{"$f":"B267*D267","v":{"$error":"#N/A"}},"x",{"$f":"GWPCH4","v":25},"=",{"$f":"F267*H267*CO2_C/(10^6)","v":{"$error":"#N/A"}},"=",{"$f":"J267/CO2_C","v":{"$error":"#N/A"}}]
["Distillate Fuel",{"$f":"'Residential N2O'!B268","v":{"$error":"#N/A"}},"x",{"$f":"DistillCEFres","v":0},"=",{"$f":"B268*D268","v":{"$error":"#N/A"}},"x",25,"=",{"$error":"#N/A"},"=",{"$error":"#N/A"}]
["Kerosene",{"$f":"'Residential N2O'!B269","v":{"$error":"#N/A"}},"x",{"$f":"KeroCEFres","v":0},"=",{"$error":"#N/A"},"x",25,"=",{"$error":"#N/A"},"=",{"$error":"#N/A"}]
["Hydrocarbon Gas Liquids",{"$f":"'Residential N2O'!B270","v":{"$error":"#N/A"}},"x",{"$f":"LPGCEFres","v":0},"=",{"$error":"#N/A"},"x",25,"=",{"$error":"#N/A"},"=",{"$error":"#N/A"}]
["Natural Gas",{"$f":"'Residential N2O'!B271","v":{"$error":"#N/A"}},"x",{"$f":"NatGasCEFres","v":0},"=",{"$error":"#N/A"},"x",25,"=",{"$error":"#N/A"},"=",{"$error":"#N/A"}]
["Wood",{"$f":"'Residential N2O'!B272","v":{"$error":"#N/A"}},"x",{"$f":"WoodCEFres","v":0},"=",{"$error":"#N/A"},"x",25,"=",{"$error":"#N/A"},"=",{"$error":"#N/A"}]
["Other",{"$f":"'Residential N2O'!B273","v":0},"x",{"$f":"OtherCEFres","v":0},"=",0,"x",25,"=",0,"=",0]
[null,null,null,null,null,null,null,"Total","=",{"$f":"SUM(J267:J273)","v":{"$error":"#N/A"}},null,{"$error":"#N/A"}]
[]
["Residential Sector CH4",null,null,{"$f":"D263+1","v":2011}]
[]
[null,"Consumption",null,"Emission Factor",null,"Emissions ",null,"GWP",null,"Emissions ",null,"Emissions "]
["Fuel Type","(Billion Btu)",null,"(metric tons CH4 /BBtu)",null,"(metric tons CH4)",null,null,null,"(MMTCE)",null,"(MMTCO2E)"]
["Coal",{"$f":"'Residential N2O'!B280","v":{"$error":"#N/A"}},"x",{"$f":"CoalCEFres","v":0},"=",{"$f":"B280*D280","v":{"$error":"#N/A"}},"x",{"$f":"GWPCH4","v":25},"=",{"$f":"F280*H280*CO2_C/(10^6)","v":{"$error":"#N/A"}},"=",{"$f":"J280/CO2_C","v":{"$error":"#N/A"}}]
["Distillate Fuel",{"$f":"'Residential N2O'!B281","v":{"$error":"#N/A"}},"x",{"$f":"DistillCEFres","v":0},"=",{"$f":"B281*D281","v":{"$error":"#N/A"}},"x",25,"=",{"$error":"#N/A"},"=",{"$error":"#N/A"}]
["Kerosene",{"$f":"'Residential N2O'!B282","v":{"$error":"#N/A"}},"x",{"$f":"KeroCEFres","v":0},"=",{"$error":"#N/A"},"x",25,"=",{"$error":"#N/A"},"=",{"$error":"#N/A"}]
["Hydrocarbon Gas Liquids",{"$f":"'Residential N2O'!B283","v":{"$error":"#N/A"}},"x",{"$f":"LPGCEFres","v":0},"=",{"$error":"#N/A"},"x",25,"=",{"$error":"#N/A"},"=",{"$error":"#N/A"}]
["Natural Gas",{"$f":"'Residential N2O'!B284","v":{"$error":"#N/A"}},"x",{"$f":"NatGasCEFres","v":0},"=",{"$error":"#N/A"},"x",25,"=",{"$error":"#N/A"},"=",{"$error":"#N/A"}]
["Wood",{"$f":"'Residential N2O'!B285","v":{"$error":"#N/A"}},"x",{"$f":"WoodCEFres","v":0},"=",{"$error":"#N/A"},"x",25,"=",{"$error":"#N/A"},"=",{"$error":"#N/A"}]
["Other",{"$f":"'Residential N2O'!B286","v":0},"x",{"$f":"OtherCEFres","v":0},"=",0,"x",25,"=",0,"=",0]
[null,null,null,null,null,null,null,"Total","=",{"$f":"SUM(J280:J286)","v":{"$error":"#N/A"}},null,{"$error":"#N/A"}]
[]
["Residential Sector CH4",null,null,{"$f":"D276+1","v":2012}]
[]
[null,"Consumption",null,"Emission Factor",null,"Emissions ",null,"GWP",null,"Emissions ",null,"Emissions "]
["Fuel Type","(Billion Btu)",null,"(metric tons CH4 /BBtu)",null,"(metric tons CH4)",null,null,null,"(MMTCE)",null,"(MMTCO2E)"]
["Coal",{"$f":"'Residential N2O'!B293","v":{"$error":"#N/A"}},"x",{"$f":"CoalCEFres","v":0},"=",{"$f":"B293*D293","v":{"$error":"#N/A"}},"x",{"$f":"GWPCH4","v":25},"=",{"$f":"F293*H293*CO2_C/(10^6)","v":{"$error":"#N/A"}},"=",{"$f":"J293/CO2_C","v":{"$error":"#N/A"}}]
["Distillate Fuel",{"$f":"'Residential N2O'!B294","v":{"$error":"#N/A"}},"x",{"$f":"DistillCEFres","v":0},"=",{"$f":"B294*D294","v":{"$error":"#N/A"}},"x",25,"=",{"$error":"#N/A"},"=",{"$error":"#N/A"}]
["Kerosene",{"$f":"'Residential N2O'!B295","v":{"$error":"#N/A"}},"x",{"$f":"KeroCEFres","v":0},"=",{"$error":"#N/A"},"x",25,"=",{"$error":"#N/A"},"=",{"$error":"#N/A"}]
["Hydrocarbon Gas Liquids",{"$f":"'Residential N2O'!B296","v":{"$error":"#N/A"}},"x",{"$f":"LPGCEFres","v":0},"=",{"$error":"#N/A"},"x",25,"=",{"$error":"#N/A"},"=",{"$error":"#N/A"}]
["Natural Gas",{"$f":"'Residential N2O'!B297","v":{"$error":"#N/A"}},"x",{"$f":"NatGasCEFres","v":0},"=",{"$error":"#N/A"},"x",25,"=",{"$error":"#N/A"},"=",{"$error":"#N/A"}]
["Wood",{"$f":"'Residential N2O'!B298","v":{"$error":"#N/A"}},"x",{"$f":"WoodCEFres","v":0},"=",{"$error":"#N/A"},"x",25,"=",{"$error":"#N/A"},"=",{"$error":"#N/A"}]
["Other",{"$f":"'Residential N2O'!B299","v":0},"x",{"$f":"OtherCEFres","v":0},"=",0,"x",25,"=",0,"=",0]
[null,null,null,null,null,null,null,"Total","=",{"$f":"SUM(J293:J299)","v":{"$error":"#N/A"}},null,{"$error":"#N/A"}]
[]
["Residential Sector CH4",null,null,{"$f":"D289+1","v":2013}]
[]
[null,"Consumption",null,"Emission Factor",null,"Emissions ",null,"GWP",null,"Emissions ",null,"Emissions "]
["Fuel Type","(Billion Btu)",null,"(metric tons CH4 /BBtu)",null,"(metric tons CH4)",null,null,null,"(MMTCE)",null,"(MMTCO2E)"]
["Coal",{"$f":"'Residential N2O'!B306","v":{"$error":"#N/A"}},"x",{"$f":"CoalCEFres","v":0},"=",{"$f":"B306*D306","v":{"$error":"#N/A"}},"x",{"$f":"GWPCH4","v":25},"=",{"$f":"F306*H306*CO2_C/(10^6)","v":{"$error":"#N/A"}},"=",{"$f":"J306/CO2_C","v":{"$error":"#N/A"}}]
["Distillate Fuel",{"$f":"'Residential N2O'!B307","v":{"$error":"#N/A"}},"x",{"$f":"DistillCEFres","v":0},"=",{"$f":"B307*D307","v":{"$error":"#N/A"}},"x",25,"=",{"$error":"#N/A"},"=",{"$error":"#N/A"}]
["Kerosene",{"$f":"'Residential N2O'!B308","v":{"$error":"#N/A"}},"x",{"$f":"KeroCEFres","v":0},"=",{"$error":"#N/A"},"x",25,"=",{"$error":"#N/A"},"=",{"$error":"#N/A"}]
["Hydrocarbon Gas Liquids",{"$f":"'Residential N2O'!B309","v":{"$error":"#N/A"}},"x",{"$f":"LPGCEFres","v":0},"=",{"$error":"#N/A"},"x",25,"=",{"$error":"#N/A"},"=",{"$error":"#N/A"}]
["Natural Gas",{"$f":"'Residential N2O'!B310","v":{"$error":"#N/A"}},"x",{"$f":"NatGasCEFres","v":0},"=",{"$error":"#N/A"},"x",25,"=",{"$error":"#N/A"},"=",{"$error":"#N/A"}]
["Wood",{"$f":"'Residential N2O'!B311","v":{"$error":"#N/A"}},"x",{"$f":"WoodCEFres","v":0},"=",{"$error":"#N/A"},"x",25,"=",{"$error":"#N/A"},"=",{"$error":"#N/A"}]
["Other",{"$f":"'Residential N2O'!B312","v":0},"x",{"$f":"OtherCEFres","v":0},"=",0,"x",25,"=",0,"=",0]
[null,null,null,null,null,null,null,"Total","=",{"$f":"SUM(J306:J312)","v":{"$error":"#N/A"}},null,{"$error":"#N/A"}]
[]
["Residential Sector CH4",null,null,{"$f":"D302+1","v":2014}]
[]
[null,"Consumption",null,"Emission Factor",null,"Emissions ",null,"GWP",null,"Emissions ",null,"Emissions "]
["Fuel Type","(Billion Btu)",null,"(metric tons CH4 /BBtu)",null,"(metric tons CH4)",null,null,null,"(MMTCE)",null,"(MMTCO2E)"]
["Coal",{"$f":"'Residential N2O'!B319","v":{"$error":"#N/A"}},"x",{"$f":"CoalCEFres","v":0},"=",{"$f":"B319*D319","v":{"$error":"#N/A"}},"x",{"$f":"GWPCH4","v":25},"=",{"$f":"F319*H319*CO2_C/(10^6)","v":{"$error":"#N/A"}},"=",{"$f":"J319/CO2_C","v":{"$error":"#N/A"}}]
["Distillate Fuel",{"$f":"'Residential N2O'!B320","v":{"$error":"#N/A"}},"x",{"$f":"DistillCEFres","v":0},"=",{"$f":"B320*D320","v":{"$error":"#N/A"}},"x",25,"=",{"$error":"#N/A"},"=",{"$error":"#N/A"}]
["Kerosene",{"$f":"'Residential N2O'!B321","v":{"$error":"#N/A"}},"x",{"$f":"KeroCEFres","v":0},"=",{"$error":"#N/A"},"x",25,"=",{"$error":"#N/A"},"=",{"$error":"#N/A"}]
["Hydrocarbon Gas Liquids",{"$f":"'Residential N2O'!B322","v":{"$error":"#N/A"}},"x",{"$f":"LPGCEFres","v":0},"=",{"$error":"#N/A"},"x",25,"=",{"$error":"#N/A"},"=",{"$error":"#N/A"}]
["Natural Gas",{"$f":"'Residential N2O'!B323","v":{"$error":"#N/A"}},"x",{"$f":"NatGasCEFres","v":0},"=",{"$error":"#N/A"},"x",25,"=",{"$error":"#N/A"},"=",{"$error":"#N/A"}]
["Wood",{"$f":"'Residential N2O'!B324","v":{"$error":"#N/A"}},"x",{"$f":"WoodCEFres","v":0},"=",{"$error":"#N/A"},"x",25,"=",{"$error":"#N/A"},"=",{"$error":"#N/A"}]
["Other",{"$f":"'Residential N2O'!B325","v":0},"x",{"$f":"OtherCEFres","v":0},"=",0,"x",25,"=",0,"=",0]
[null,null,null,null,null,null,null,"Total","=",{"$f":"SUM(J319:J325)","v":{"$error":"#N/A"}},null,{"$error":"#N/A"}]
[]
["Residential Sector CH4",null,null,{"$f":"D315+1","v":2015}]
[]
[null,"Consumption",null,"Emission Factor",null,"Emissions ",null,"GWP",null,"Emissions ",null,"Emissions "]
["Fuel Type","(Billion Btu)",null,"(metric tons CH4 /BBtu)",null,"(metric tons CH4)",null,null,null,"(MMTCE)",null,"(MMTCO2E)"]
["Coal",{"$f":"'Residential N2O'!B332","v":{"$error":"#N/A"}},"x",{"$f":"CoalCEFres","v":0},"=",{"$f":"B332*D332","v":{"$error":"#N/A"}},"x",{"$f":"GWPCH4","v":25},"=",{"$f":"F332*H332*CO2_C/(10^6)","v":{"$error":"#N/A"}},"=",{"$f":"J332/CO2_C","v":{"$error":"#N/A"}}]
["Distillate Fuel",{"$f":"'Residential N2O'!B333","v":{"$error":"#N/A"}},"x",{"$f":"DistillCEFres","v":0},"=",{"$f":"B333*D333","v":{"$error":"#N/A"}},"x",25,"=",{"$error":"#N/A"},"=",{"$error":"#N/A"}]
["Kerosene",{"$f":"'Residential N2O'!B334","v":{"$error":"#N/A"}},"x",{"$f":"KeroCEFres","v":0},"=",{"$error":"#N/A"},"x",25,"=",{"$error":"#N/A"},"=",{"$error":"#N/A"}]
["Hydrocarbon Gas Liquids",{"$f":"'Residential N2O'!B335","v":{"$error":"#N/A"}},"x",{"$f":"LPGCEFres","v":0},"=",{"$error":"#N/A"},"x",25,"=",{"$error":"#N/A"},"=",{"$error":"#N/A"}]
["Natural Gas",{"$f":"'Residential N2O'!B336","v":{"$error":"#N/A"}},"x",{"$f":"NatGasCEFres","v":0},"=",{"$error":"#N/A"},"x",25,"=",{"$error":"#N/A"},"=",{"$error":"#N/A"}]
["Wood",{"$f":"'Residential N2O'!B337","v":{"$error":"#N/A"}},"x",{"$f":"WoodCEFres","v":0},"=",{"$error":"#N/A"},"x",25,"=",{"$error":"#N/A"},"=",{"$error":"#N/A"}]
["Other",{"$f":"'Residential N2O'!B338","v":0},"x",{"$f":"OtherCEFres","v":0},"=",0,"x",25,"=",0,"=",0]
[null,null,null,null,null,null,null,"Total","=",{"$f":"SUM(J332:J338)","v":{"$error":"#N/A"}},null,{"$error":"#N/A"}]
[]
["Residential Sector CH4",null,null,{"$f":"D328+1","v":2016}]
[]
[null,"Consumption",null,"Emission Factor",null,"Emissions ",null,"GWP",null,"Emissions ",null,"Emissions "]
["Fuel Type","(Billion Btu)",null,"(metric tons CH4 /BBtu)",null,"(metric tons CH4)",null,null,null,"(MMTCE)",null,"(MMTCO2E)"]
["Coal",{"$f":"'Residential N2O'!B345","v":{"$error":"#N/A"}},"x",{"$f":"CoalCEFres","v":0},"=",{"$f":"B345*D345","v":{"$error":"#N/A"}},"x",{"$f":"GWPCH4","v":25},"=",{"$f":"F345*H345*CO2_C/(10^6)","v":{"$error":"#N/A"}},"=",{"$f":"J345/CO2_C","v":{"$error":"#N/A"}}]
["Distillate Fuel",{"$f":"'Residential N2O'!B346","v":{"$error":"#N/A"}},"x",{"$f":"DistillCEFres","v":0},"=",{"$f":"B346*D346","v":{"$error":"#N/A"}},"x",25,"=",{"$error":"#N/A"},"=",{"$error":"#N/A"}]
["Kerosene",{"$f":"'Residential N2O'!B347","v":{"$error":"#N/A"}},"x",{"$f":"KeroCEFres","v":0},"=",{"$error":"#N/A"},"x",25,"=",{"$error":"#N/A"},"=",{"$error":"#N/A"}]
["Hydrocarbon Gas Liquids",{"$f":"'Residential N2O'!B348","v":{"$error":"#N/A"}},"x",{"$f":"LPGCEFres","v":0},"=",{"$error":"#N/A"},"x",25,"=",{"$error":"#N/A"},"=",{"$error":"#N/A"}]
["Natural Gas",{"$f":"'Residential N2O'!B349","v":{"$error":"#N/A"}},"x",{"$f":"NatGasCEFres","v":0},"=",{"$error":"#N/A"},"x",25,"=",{"$error":"#N/A"},"=",{"$error":"#N/A"}]
["Wood",{"$f":"'Residential N2O'!B350","v":{"$error":"#N/A"}},"x",{"$f":"WoodCEFres","v":0},"=",{"$error":"#N/A"},"x",25,"=",{"$error":"#N/A"},"=",{"$error":"#N/A"}]
["Other",{"$f":"'Residential N2O'!B351","v":0},"x",{"$f":"OtherCEFres","v":0},"=",0,"x",25,"=",0,"=",0]
[null,null,null,null,null,null,null,"Total","=",{"$f":"SUM(J345:J351)","v":{"$error":"#N/A"}},null,{"$error":"#N/A"}]
[]
["Residential Sector CH4",null,null,{"$f":"D341+1","v":2017}]
[]
[null,"Consumption",null,"Emission Factor",null,"Emissions ",null,"GWP",null,"Emissions ",null,"Emissions "]
["Fuel Type","(Billion Btu)",null,"(metric tons CH4 /BBtu)",null,"(metric tons CH4)",null,null,null,"(MMTCE)",null,"(MMTCO2E)"]
["Coal",{"$f":"'Residential N2O'!B358","v":{"$error":"#N/A"}},"x",{"$f":"CoalCEFres","v":0},"=",{"$f":"B358*D358","v":{"$error":"#N/A"}},"x",{"$f":"GWPCH4","v":25},"=",{"$f":"F358*H358*CO2_C/(10^6)","v":{"$error":"#N/A"}},"=",{"$f":"J358/CO2_C","v":{"$error":"#N/A"}}]
["Distillate Fuel",{"$f":"'Residential N2O'!B359","v":{"$error":"#N/A"}},"x",{"$f":"DistillCEFres","v":0},"=",{"$f":"B359*D359","v":{"$error":"#N/A"}},"x",25,"=",{"$error":"#N/A"},"=",{"$error":"#N/A"}]
["Kerosene",{"$f":"'Residential N2O'!B360","v":{"$error":"#N/A"}},"x",{"$f":"KeroCEFres","v":0},"=",{"$error":"#N/A"},"x",25,"=",{"$error":"#N/A"},"=",{"$error":"#N/A"}]
["Hydrocarbon Gas Liquids",{"$f":"'Residential N2O'!B361","v":{"$error":"#N/A"}},"x",{"$f":"LPGCEFres","v":0},"=",{"$error":"#N/A"},"x",25,"=",{"$error":"#N/A"},"=",{"$error":"#N/A"}]
["Natural Gas",{"$f":"'Residential N2O'!B362","v":{"$error":"#N/A"}},"x",{"$f":"NatGasCEFres","v":0},"=",{"$error":"#N/A"},"x",25,"=",{"$error":"#N/A"},"=",{"$error":"#N/A"}]
["Wood",{"$f":"'Residential N2O'!B363","v":{"$error":"#N/A"}},"x",{"$f":"WoodCEFres","v":0},"=",{"$error":"#N/A"},"x",25,"=",{"$error":"#N/A"},"=",{"$error":"#N/A"}]
["Other",{"$f":"'Residential N2O'!B364","v":0},"x",{"$f":"OtherCEFres","v":0},"=",0,"x",25,"=",0,"=",0]
[null,null,null,null,null,null,null,"Total","=",{"$f":"SUM(J358:J364)","v":{"$error":"#N/A"}},null,{"$error":"#N/A"}]
[]
["Residential Sector CH4",null,null,{"$f":"D354+1","v":2018}]
[]
[null,"Consumption",null,"Emission Factor",null,"Emissions ",null,"GWP",null,"Emissions ",null,"Emissions "]
["Fuel Type","(Billion Btu)",null,"(metric tons CH4 /BBtu)",null,"(metric tons CH4)",null,null,null,"(MMTCE)",null,"(MMTCO2E)"]
["Coal",{"$f":"'Residential N2O'!B371","v":{"$error":"#N/A"}},"x",{"$f":"CoalCEFres","v":0},"=",{"$f":"B371*D371","v":{"$error":"#N/A"}},"x",{"$f":"GWPCH4","v":25},"=",{"$f":"F371*H371*CO2_C/(10^6)","v":{"$error":"#N/A"}},"=",{"$f":"J371/CO2_C","v":{"$error":"#N/A"}}]
["Distillate Fuel",{"$f":"'Residential N2O'!B372","v":{"$error":"#N/A"}},"x",{"$f":"DistillCEFres","v":0},"=",{"$f":"B372*D372","v":{"$error":"#N/A"}},"x",25,"=",{"$error":"#N/A"},"=",{"$error":"#N/A"}]
["Kerosene",{"$f":"'Residential N2O'!B373","v":{"$error":"#N/A"}},"x",{"$f":"KeroCEFres","v":0},"=",{"$error":"#N/A"},"x",25,"=",{"$error":"#N/A"},"=",{"$error":"#N/A"}]
["Hydrocarbon Gas Liquids",{"$f":"'Residential N2O'!B374","v":{"$error":"#N/A"}},"x",{"$f":"LPGCEFres","v":0},"=",{"$error":"#N/A"},"x",25,"=",{"$error":"#N/A"},"=",{"$error":"#N/A"}]
["Natural Gas",{"$f":"'Residential N2O'!B375","v":{"$error":"#N/A"}},"x",{"$f":"NatGasCEFres","v":0},"=",{"$error":"#N/A"},"x",25,"=",{"$error":"#N/A"},"=",{"$error":"#N/A"}]
["Wood",{"$f":"'Residential N2O'!B376","v":{"$error":"#N/A"}},"x",{"$f":"WoodCEFres","v":0},"=",{"$error":"#N/A"},"x",25,"=",{"$error":"#N/A"},"=",{"$error":"#N/A"}]
["Other",{"$f":"'Residential N2O'!B377","v":0},"x",{"$f":"OtherCEFres","v":0},"=",0,"x",25,"=",0,"=",0]
[null,null,null,null,null,null,null,"Total","=",{"$f":"SUM(J371:J377)","v":{"$error":"#N/A"}},null,{"$error":"#N/A"}]
[]
["Residential Sector CH4",null,null,{"$f":"D367+1","v":2019}]
[]
[null,"Consumption",null,"Emission Factor",null,"Emissions ",null,"GWP",null,"Emissions ",null,"Emissions "]
["Fuel Type","(Billion Btu)",null,"(metric tons CH4 /BBtu)",null,"(metric tons CH4)",null,null,null,"(MMTCE)",null,"(MMTCO2E)"]
["Coal",{"$f":"'Residential N2O'!B384","v":{"$error":"#N/A"}},"x",{"$f":"CoalCEFres","v":0},"=",{"$f":"B384*D384","v":{"$error":"#N/A"}},"x",{"$f":"GWPCH4","v":25},"=",{"$f":"F384*H384*CO2_C/(10^6)","v":{"$error":"#N/A"}},"=",{"$f":"J384/CO2_C","v":{"$error":"#N/A"}}]
["Distillate Fuel",{"$f":"'Residential N2O'!B385","v":{"$error":"#N/A"}},"x",{"$f":"DistillCEFres","v":0},"=",{"$f":"B385*D385","v":{"$error":"#N/A"}},"x",25,"=",{"$error":"#N/A"},"=",{"$error":"#N/A"}]
["Kerosene",{"$f":"'Residential N2O'!B386","v":{"$error":"#N/A"}},"x",{"$f":"KeroCEFres","v":0},"=",{"$error":"#N/A"},"x",25,"=",{"$error":"#N/A"},"=",{"$error":"#N/A"}]
["Hydrocarbon Gas Liquids",{"$f":"'Residential N2O'!B387","v":{"$error":"#N/A"}},"x",{"$f":"LPGCEFres","v":0},"=",{"$error":"#N/A"},"x",25,"=",{"$error":"#N/A"},"=",{"$error":"#N/A"}]
["Natural Gas",{"$f":"'Residential N2O'!B388","v":{"$error":"#N/A"}},"x",{"$f":"NatGasCEFres","v":0},"=",{"$error":"#N/A"},"x",25,"=",{"$error":"#N/A"},"=",{"$error":"#N/A"}]
["Wood",{"$f":"'Residential N2O'!B389","v":{"$error":"#N/A"}},"x",{"$f":"WoodCEFres","v":0},"=",{"$error":"#N/A"},"x",25,"=",{"$error":"#N/A"},"=",{"$error":"#N/A"}]
["Other",{"$f":"'Residential N2O'!B390","v":0},"x",{"$f":"OtherCEFres","v":0},"=",0,"x",25,"=",0,"=",0]
[null,null,null,null,null,null,null,"Total","=",{"$f":"SUM(J384:J390)","v":{"$error":"#N/A"}},null,{"$error":"#N/A"}]
[]
["Residential Sector CH4",null,null,{"$f":"D380+1","v":2020}]
[]
[null,"Consumption",null,"Emission Factor",null,"Emissions ",null,"GWP",null,"Emissions ",null,"Emissions "]
["Fuel Type","(Billion Btu)",null,"(metric tons CH4 /BBtu)",null,"(metric tons CH4)",null,null,null,"(MMTCE)",null,"(MMTCO2E)"]
["Coal",{"$f":"'Residential N2O'!B397","v":{"$error":"#N/A"}},"x",{"$f":"CoalCEFres","v":0},"=",{"$f":"B397*D397","v":{"$error":"#N/A"}},"x",{"$f":"GWPCH4","v":25},"=",{"$f":"F397*H397*CO2_C/(10^6)","v":{"$error":"#N/A"}},"=",{"$f":"J397/CO2_C","v":{"$error":"#N/A"}}]
["Distillate Fuel",{"$f":"'Residential N2O'!B398","v":{"$error":"#N/A"}},"x",{"$f":"DistillCEFres","v":0},"=",{"$f":"B398*D398","v":{"$error":"#N/A"}},"x",25,"=",{"$error":"#N/A"},"=",{"$error":"#N/A"}]
["Kerosene",{"$f":"'Residential N2O'!B399","v":{"$error":"#N/A"}},"x",{"$f":"KeroCEFres","v":0},"=",{"$error":"#N/A"},"x",25,"=",{"$error":"#N/A"},"=",{"$error":"#N/A"}]
["Hydrocarbon Gas Liquids",{"$f":"'Residential N2O'!B400","v":{"$error":"#N/A"}},"x",{"$f":"LPGCEFres","v":0},"=",{"$error":"#N/A"},"x",25,"=",{"$error":"#N/A"},"=",{"$error":"#N/A"}]
["Natural Gas",{"$f":"'Residential N2O'!B401","v":{"$error":"#N/A"}},"x",{"$f":"NatGasCEFres","v":0},"=",{"$error":"#N/A"},"x",25,"=",{"$error":"#N/A"},"=",{"$error":"#N/A"}]
["Wood",{"$f":"'Residential N2O'!B402","v":{"$error":"#N/A"}},"x",{"$f":"WoodCEFres","v":0},"=",{"$error":"#N/A"},"x",25,"=",{"$error":"#N/A"},"=",{"$error":"#N/A"}]
["Other",{"$f":"'Residential N2O'!B403","v":0},"x",{"$f":"OtherCEFres","v":0},"=",0,"x",25,"=",0,"=",0]
[null,null,null,null,null,null,null,"Total","=",{"$f":"SUM(J397:J403)","v":{"$error":"#N/A"}},null,{"$error":"#N/A"}]

{"sheet":"Commercial N2O","index":4,"n_rows":466,"n_cols":12,"rows_kept":466,"cut":false,"hidden":false,"merged":[]}
[{"$f":"\"3. Commercial Consumption and N2O emissions in \"&Constants!G2","v":"3. Commercial Consumption and N2O emissions in Select a State . . ."}]
[{"$f":"Constants!H2","v":"xx"},"Commercial",{"$f":"\" \"","v":" "}]
["Commercial Sector N2O",null,null,1990]
[]
[null,"Consumption",null,"Emission Factor",null,"Emissions",null,"GWP",null,"Emissions ",null,"Emissions "]
["Fuel Type","(Billion Btu)",null,"(metric tons N2O/BBtu)",null,"(metric tons N2O)",null,null,null,"(MMTCE)",null,"(MMTCO2E)"]
["Coal",{"$f":"VLOOKUP($A$2&$C$2&$B$2&$C$2&$A7,ConsumeBlock3,3,FALSE)","v":{"$error":"#N/A"}},"x",{"$f":"CoalNEFcom","v":0},"=",{"$f":"B7*D7","v":{"$error":"#N/A"}},"x",{"$f":"GWPN2O","v":298},"=",{"$f":"F7*H7*CO2_C/(10^6)","v":{"$error":"#N/A"}},"=",{"$f":"J7/CO2_C","v":{"$error":"#N/A"}}]
["Distillate Fuel",{"$error":"#N/A"},"x",{"$f":"DistillNEFcom","v":0},"=",{"$f":"B8*D8","v":{"$error":"#N/A"}},"x",{"$f":"GWPN2O","v":298},"=",{"$f":"F8*H8*CO2_C/(10^6)","v":{"$error":"#N/A"}},"=",{"$error":"#N/A"}]
["Kerosene",{"$error":"#N/A"},"x",{"$f":"KeroNEFcom","v":0},"=",{"$error":"#N/A"},"x",298,"=",{"$error":"#N/A"},"=",{"$error":"#N/A"}]
["Hydrocarbon Gas Liquids",{"$error":"#N/A"},"x",{"$f":"LPGNEFcom","v":0},"=",{"$error":"#N/A"},"x",298,"=",{"$error":"#N/A"},"=",{"$error":"#N/A"}]
["Motor Gasoline",{"$error":"#N/A"},"x",{"$f":"MotorGasNEFcom","v":0},"=",{"$error":"#N/A"},"x",298,"=",{"$error":"#N/A"},"=",{"$error":"#N/A"}]
["Residual Fuel",{"$error":"#N/A"},"x",{"$f":"ResidNEFcom","v":0},"=",{"$error":"#N/A"},"x",298,"=",{"$error":"#N/A"},"=",{"$error":"#N/A"}]
["Natural Gas",{"$error":"#N/A"},"x",{"$f":"NatGasNEFcom","v":0},"=",{"$error":"#N/A"},"x",298,"=",{"$error":"#N/A"},"=",{"$error":"#N/A"}]
["Wood",{"$error":"#N/A"},"x",{"$f":"WoodNEFcom","v":0},"=",{"$error":"#N/A"},"x",298,"=",{"$error":"#N/A"},"=",{"$error":"#N/A"}]
["Other",{"$f":"VLOOKUP($A$2&$C$2&$B$2&$C$2&$A15,ConsumeBlock3,D3-1987,FALSE)","v":0},"x",{"$f":"OtherNEFcom","v":0},"=",0,"x",298,"=",0,"=",0]
[null,null,null,null,null,null,null,"Total","=",{"$f":"SUM(J7:J15)","v":{"$error":"#N/A"}},"=",{"$error":"#N/A"}]
[]
["Commercial Sector N2O",null,null,{"$f":"D3+1","v":1991}]
[]
[null,"Consumption",null,"Emission Factor",null,"Emissions",null,"GWP",null,"Emissions ",null,"Emissions "]
["Fuel Type","(Billion Btu)",null,"(metric tons N2O/BBtu)",null,"(metric tons N2O)",null,null,null,"(MMTCE)",null,"(MMTCO2E)"]
["Coal",{"$f":"VLOOKUP($A$2&$C$2&$B$2&$C$2&$A22,ConsumeBlock3,4,FALSE)","v":{"$error":"#N/A"}},"x",{"$f":"CoalNEFcom","v":0},"=",{"$f":"B22*D22","v":{"$error":"#N/A"}},"x",{"$f":"GWPN2O","v":298},"=",{"$f":"F22*H22*CO2_C/(10^6)","v":{"$error":"#N/A"}},"=",{"$f":"J22/CO2_C","v":{"$error":"#N/A"}}]
["Distillate Fuel",{"$error":"#N/A"},"x",{"$f":"DistillNEFcom","v":0},"=",{"$f":"B23*D23","v":{"$error":"#N/A"}},"x",{"$f":"GWPN2O","v":298},"=",{"$f":"F23*H23*CO2_C/(10^6)","v":{"$error":"#N/A"}},"=",{"$error":"#N/A"}]
["Kerosene",{"$error":"#N/A"},"x",{"$f":"KeroNEFcom","v":0},"=",{"$error":"#N/A"},"x",298,"=",{"$error":"#N/A"},"=",{"$error":"#N/A"}]
["Hydrocarbon Gas Liquids",{"$error":"#N/A"},"x",{"$f":"LPGNEFcom","v":0},"=",{"$error":"#N/A"},"x",298,"=",{"$error":"#N/A"},"=",{"$error":"#N/A"}]
["Motor Gasoline",{"$error":"#N/A"},"x",{"$f":"MotorGasNEFcom","v":0},"=",{"$error":"#N/A"},"x",298,"=",{"$error":"#N/A"},"=",{"$error":"#N/A"}]
["Residual Fuel",{"$error":"#N/A"},"x",{"$f":"ResidNEFcom","v":0},"=",{"$error":"#N/A"},"x",298,"=",{"$error":"#N/A"},"=",{"$error":"#N/A"}]
["Natural Gas",{"$error":"#N/A"},"x",{"$f":"NatGasNEFcom","v":0},"=",{"$error":"#N/A"},"x",298,"=",{"$error":"#N/A"},"=",{"$error":"#N/A"}]
["Wood",{"$error":"#N/A"},"x",{"$f":"WoodNEFcom","v":0},"=",{"$error":"#N/A"},"x",298,"=",{"$error":"#N/A"},"=",{"$error":"#N/A"}]
["Other",{"$f":"VLOOKUP($A$2&$C$2&$B$2&$C$2&$A30,ConsumeBlock3,D18-1987,FALSE)","v":0},"x",{"$f":"OtherNEFcom","v":0},"=",0,"x",298,"=",0,"=",0]
[null,null,null,null,null,null,null,"Total","=",{"$f":"SUM(J22:J30)","v":{"$error":"#N/A"}},"=",{"$error":"#N/A"}]
[]
["Commercial Sector N2O",null,null,{"$f":"D18+1","v":1992}]
[]
[null,"Consumption",null,"Emission Factor",null,"Emissions",null,"GWP",null,"Emissions ",null,"Emissions "]
["Fuel Type","(Billion Btu)",null,"(metric tons N2O/BBtu)",null,"(metric tons N2O)",null,null,null,"(MMTCE)",null,"(MMTCO2E)"]
["Coal",{"$f":"VLOOKUP($A$2&$C$2&$B$2&$C$2&$A37,ConsumeBlock3,5,FALSE)","v":{"$error":"#N/A"}},"x",{"$f":"CoalNEFcom","v":0},"=",{"$f":"B37*D37","v":{"$error":"#N/A"}},"x",{"$f":"GWPN2O","v":298},"=",{"$f":"F37*H37*CO2_C/(10^6)","v":{"$error":"#N/A"}},"=",{"$f":"J37/CO2_C","v":{"$error":"#N/A"}}]
["Distillate Fuel",{"$error":"#N/A"},"x",{"$f":"DistillNEFcom","v":0},"=",{"$f":"B38*D38","v":{"$error":"#N/A"}},"x",{"$f":"GWPN2O","v":298},"=",{"$f":"F38*H38*CO2_C/(10^6)","v":{"$error":"#N/A"}},"=",{"$error":"#N/A"}]
["Kerosene",{"$error":"#N/A"},"x",{"$f":"KeroNEFcom","v":0},"=",{"$error":"#N/A"},"x",298,"=",{"$error":"#N/A"},"=",{"$error":"#N/A"}]
["Hydrocarbon Gas Liquids",{"$error":"#N/A"},"x",{"$f":"LPGNEFcom","v":0},"=",{"$error":"#N/A"},"x",298,"=",{"$error":"#N/A"},"=",{"$error":"#N/A"}]
["Motor Gasoline",{"$error":"#N/A"},"x",{"$f":"MotorGasNEFcom","v":0},"=",{"$error":"#N/A"},"x",298,"=",{"$error":"#N/A"},"=",{"$error":"#N/A"}]
["Residual Fuel",{"$error":"#N/A"},"x",{"$f":"ResidNEFcom","v":0},"=",{"$error":"#N/A"},"x",298,"=",{"$error":"#N/A"},"=",{"$error":"#N/A"}]
["Natural Gas",{"$error":"#N/A"},"x",{"$f":"NatGasNEFcom","v":0},"=",{"$error":"#N/A"},"x",298,"=",{"$error":"#N/A"},"=",{"$error":"#N/A"}]
["Wood",{"$error":"#N/A"},"x",{"$f":"WoodNEFcom","v":0},"=",{"$error":"#N/A"},"x",298,"=",{"$error":"#N/A"},"=",{"$error":"#N/A"}]
["Other",{"$f":"VLOOKUP($A$2&$C$2&$B$2&$C$2&$A45,ConsumeBlock3,D33-1987,FALSE)","v":0},"x",{"$f":"OtherNEFcom","v":0},"=",0,"x",298,"=",0,"=",0]
[null,null,null,null,null,null,null,"Total","=",{"$f":"SUM(J37:J45)","v":{"$error":"#N/A"}},"=",{"$error":"#N/A"}]
[]
["Commercial Sector N2O",null,null,{"$f":"D33+1","v":1993}]
[]
[null,"Consumption",null,"Emission Factor",null,"Emissions",null,"GWP",null,"Emissions ",null,"Emissions "]
["Fuel Type","(Billion Btu)",null,"(metric tons N2O/BBtu)",null,"(metric tons N2O)",null,null,null,"(MMTCE)",null,"(MMTCO2E)"]
["Coal",{"$f":"VLOOKUP($A$2&$C$2&$B$2&$C$2&$A52,ConsumeBlock3,6,FALSE)","v":{"$error":"#N/A"}},"x",{"$f":"CoalNEFcom","v":0},"=",{"$f":"B52*D52","v":{"$error":"#N/A"}},"x",{"$f":"GWPN2O","v":298},"=",{"$f":"F52*H52*CO2_C/(10^6)","v":{"$error":"#N/A"}},"=",{"$f":"J52/CO2_C","v":{"$error":"#N/A"}}]
["Distillate Fuel",{"$error":"#N/A"},"x",{"$f":"DistillNEFcom","v":0},"=",{"$f":"B53*D53","v":{"$error":"#N/A"}},"x",{"$f":"GWPN2O","v":298},"=",{"$f":"F53*H53*CO2_C/(10^6)","v":{"$error":"#N/A"}},"=",{"$error":"#N/A"}]
["Kerosene",{"$error":"#N/A"},"x",{"$f":"KeroNEFcom","v":0},"=",{"$error":"#N/A"},"x",298,"=",{"$error":"#N/A"},"=",{"$error":"#N/A"}]
["Hydrocarbon Gas Liquids",{"$error":"#N/A"},"x",{"$f":"LPGNEFcom","v":0},"=",{"$error":"#N/A"},"x",298,"=",{"$error":"#N/A"},"=",{"$error":"#N/A"}]
["Motor Gasoline",{"$error":"#N/A"},"x",{"$f":"MotorGasNEFcom","v":0},"=",{"$error":"#N/A"},"x",298,"=",{"$error":"#N/A"},"=",{"$error":"#N/A"}]
["Residual Fuel",{"$error":"#N/A"},"x",{"$f":"ResidNEFcom","v":0},"=",{"$error":"#N/A"},"x",298,"=",{"$error":"#N/A"},"=",{"$error":"#N/A"}]
["Natural Gas",{"$error":"#N/A"},"x",{"$f":"NatGasNEFcom","v":0},"=",{"$error":"#N/A"},"x",298,"=",{"$error":"#N/A"},"=",{"$error":"#N/A"}]
["Wood",{"$error":"#N/A"},"x",{"$f":"WoodNEFcom","v":0},"=",{"$error":"#N/A"},"x",298,"=",{"$error":"#N/A"},"=",{"$error":"#N/A"}]
["Other",{"$f":"VLOOKUP($A$2&$C$2&$B$2&$C$2&$A60,ConsumeBlock3,D48-1987,FALSE)","v":0},"x",{"$f":"OtherNEFcom","v":0},"=",0,"x",298,"=",0,"=",0]
[null,null,null,null,null,null,null,"Total","=",{"$f":"SUM(J52:J60)","v":{"$error":"#N/A"}},"=",{"$error":"#N/A"}]
[]
["Commercial Sector N2O",null,null,{"$f":"D48+1","v":1994}]
[]
[null,"Consumption",null,"Emission Factor",null,"Emissions",null,"GWP",null,"Emissions ",null,"Emissions "]
["Fuel Type","(Billion Btu)",null,"(metric tons N2O/BBtu)",null,"(metric tons N2O)",null,null,null,"(MMTCE)",null,"(MMTCO2E)"]
["Coal",{"$f":"VLOOKUP($A$2&$C$2&$B$2&$C$2&$A67,ConsumeBlock3,7,FALSE)","v":{"$error":"#N/A"}},"x",{"$f":"CoalNEFcom","v":0},"=",{"$f":"B67*D67","v":{"$error":"#N/A"}},"x",{"$f":"GWPN2O","v":298},"=",{"$f":"F67*H67*CO2_C/(10^6)","v":{"$error":"#N/A"}},"=",{"$f":"J67/CO2_C","v":{"$error":"#N/A"}}]
["Distillate Fuel",{"$error":"#N/A"},"x",{"$f":"DistillNEFcom","v":0},"=",{"$f":"B68*D68","v":{"$error":"#N/A"}},"x",{"$f":"GWPN2O","v":298},"=",{"$f":"F68*H68*CO2_C/(10^6)","v":{"$error":"#N/A"}},"=",{"$error":"#N/A"}]
["Kerosene",{"$error":"#N/A"},"x",{"$f":"KeroNEFcom","v":0},"=",{"$error":"#N/A"},"x",298,"=",{"$error":"#N/A"},"=",{"$error":"#N/A"}]
["Hydrocarbon Gas Liquids",{"$error":"#N/A"},"x",{"$f":"LPGNEFcom","v":0},"=",{"$error":"#N/A"},"x",298,"=",{"$error":"#N/A"},"=",{"$error":"#N/A"}]
["Motor Gasoline",{"$error":"#N/A"},"x",{"$f":"MotorGasNEFcom","v":0},"=",{"$error":"#N/A"},"x",298,"=",{"$error":"#N/A"},"=",{"$error":"#N/A"}]
["Residual Fuel",{"$error":"#N/A"},"x",{"$f":"ResidNEFcom","v":0},"=",{"$error":"#N/A"},"x",298,"=",{"$error":"#N/A"},"=",{"$error":"#N/A"}]
["Natural Gas",{"$error":"#N/A"},"x",{"$f":"NatGasNEFcom","v":0},"=",{"$error":"#N/A"},"x",298,"=",{"$error":"#N/A"},"=",{"$error":"#N/A"}]
["Wood",{"$error":"#N/A"},"x",{"$f":"WoodNEFcom","v":0},"=",{"$error":"#N/A"},"x",298,"=",{"$error":"#N/A"},"=",{"$error":"#N/A"}]
["Other",{"$f":"VLOOKUP($A$2&$C$2&$B$2&$C$2&$A75,ConsumeBlock3,D63-1987,FALSE)","v":0},"x",{"$f":"OtherNEFcom","v":0},"=",0,"x",298,"=",0,"=",0]
[null,null,null,null,null,null,null,"Total","=",{"$f":"SUM(J67:J75)","v":{"$error":"#N/A"}},"=",{"$error":"#N/A"}]
[]
["Commercial Sector N2O",null,null,{"$f":"D63+1","v":1995}]
[]
[null,"Consumption",null,"Emission Factor",null,"Emissions",null,"GWP",null,"Emissions ",null,"Emissions "]
["Fuel Type","(Billion Btu)",null,"(metric tons N2O/BBtu)",null,"(metric tons N2O)",null,null,null,"(MMTCE)",null,"(MMTCO2E)"]
["Coal",{"$f":"VLOOKUP($A$2&$C$2&$B$2&$C$2&$A82,ConsumeBlock3,8,FALSE)","v":{"$error":"#N/A"}},"x",{"$f":"CoalNEFcom","v":0},"=",{"$f":"B82*D82","v":{"$error":"#N/A"}},"x",{"$f":"GWPN2O","v":298},"=",{"$f":"F82*H82*CO2_C/(10^6)","v":{"$error":"#N/A"}},"=",{"$f":"J82/CO2_C","v":{"$error":"#N/A"}}]
["Distillate Fuel",{"$error":"#N/A"},"x",{"$f":"DistillNEFcom","v":0},"=",{"$f":"B83*D83","v":{"$error":"#N/A"}},"x",{"$f":"GWPN2O","v":298},"=",{"$f":"F83*H83*CO2_C/(10^6)","v":{"$error":"#N/A"}},"=",{"$error":"#N/A"}]
["Kerosene",{"$error":"#N/A"},"x",{"$f":"KeroNEFcom","v":0},"=",{"$error":"#N/A"},"x",298,"=",{"$error":"#N/A"},"=",{"$error":"#N/A"}]
["Hydrocarbon Gas Liquids",{"$error":"#N/A"},"x",{"$f":"LPGNEFcom","v":0},"=",{"$error":"#N/A"},"x",298,"=",{"$error":"#N/A"},"=",{"$error":"#N/A"}]
["Motor Gasoline",{"$error":"#N/A"},"x",{"$f":"MotorGasNEFcom","v":0},"=",{"$error":"#N/A"},"x",298,"=",{"$error":"#N/A"},"=",{"$error":"#N/A"}]
["Residual Fuel",{"$error":"#N/A"},"x",{"$f":"ResidNEFcom","v":0},"=",{"$error":"#N/A"},"x",298,"=",{"$error":"#N/A"},"=",{"$error":"#N/A"}]
["Natural Gas",{"$error":"#N/A"},"x",{"$f":"NatGasNEFcom","v":0},"=",{"$error":"#N/A"},"x",298,"=",{"$error":"#N/A"},"=",{"$error":"#N/A"}]
["Wood",{"$error":"#N/A"},"x",{"$f":"WoodNEFcom","v":0},"=",{"$error":"#N/A"},"x",298,"=",{"$error":"#N/A"},"=",{"$error":"#N/A"}]
["Other",{"$f":"VLOOKUP($A$2&$C$2&$B$2&$C$2&$A90,ConsumeBlock3,D78-1987,FALSE)","v":0},"x",{"$f":"OtherNEFcom","v":0},"=",0,"x",298,"=",0,"=",0]
[null,null,null,null,null,null,null,"Total","=",{"$f":"SUM(J82:J90)","v":{"$error":"#N/A"}},"=",{"$error":"#N/A"}]
[]
["Commercial Sector N2O",null,null,{"$f":"D78+1","v":1996}]
[]
[null,"Consumption",null,"Emission Factor",null,"Emissions",null,"GWP",null,"Emissions ",null,"Emissions "]
["Fuel Type","(Billion Btu)",null,"(metric tons N2O/BBtu)",null,"(metric tons N2O)",null,null,null,"(MMTCE)",null,"(MMTCO2E)"]
["Coal",{"$f":"VLOOKUP($A$2&$C$2&$B$2&$C$2&$A97,ConsumeBlock3,9,FALSE)","v":{"$error":"#N/A"}},"x",{"$f":"CoalNEFcom","v":0},"=",{"$f":"B97*D97","v":{"$error":"#N/A"}},"x",{"$f":"GWPN2O","v":298},"=",{"$f":"F97*H97*CO2_C/(10^6)","v":{"$error":"#N/A"}},"=",{"$f":"J97/CO2_C","v":{"$error":"#N/A"}}]
["Distillate Fuel",{"$error":"#N/A"},"x",{"$f":"DistillNEFcom","v":0},"=",{"$f":"B98*D98","v":{"$error":"#N/A"}},"x",{"$f":"GWPN2O","v":298},"=",{"$f":"F98*H98*CO2_C/(10^6)","v":{"$error":"#N/A"}},"=",{"$error":"#N/A"}]
["Kerosene",{"$error":"#N/A"},"x",{"$f":"KeroNEFcom","v":0},"=",{"$error":"#N/A"},"x",298,"=",{"$error":"#N/A"},"=",{"$error":"#N/A"}]
["Hydrocarbon Gas Liquids",{"$error":"#N/A"},"x",{"$f":"LPGNEFcom","v":0},"=",{"$error":"#N/A"},"x",298,"=",{"$error":"#N/A"},"=",{"$error":"#N/A"}]
["Motor Gasoline",{"$error":"#N/A"},"x",{"$f":"MotorGasNEFcom","v":0},"=",{"$error":"#N/A"},"x",298,"=",{"$error":"#N/A"},"=",{"$error":"#N/A"}]
["Residual Fuel",{"$error":"#N/A"},"x",{"$f":"ResidNEFcom","v":0},"=",{"$error":"#N/A"},"x",298,"=",{"$error":"#N/A"},"=",{"$error":"#N/A"}]
["Natural Gas",{"$error":"#N/A"},"x",{"$f":"NatGasNEFcom","v":0},"=",{"$error":"#N/A"},"x",298,"=",{"$error":"#N/A"},"=",{"$error":"#N/A"}]
["Wood",{"$error":"#N/A"},"x",{"$f":"WoodNEFcom","v":0},"=",{"$error":"#N/A"},"x",298,"=",{"$error":"#N/A"},"=",{"$error":"#N/A"}]
["Other",{"$f":"VLOOKUP($A$2&$C$2&$B$2&$C$2&$A105,ConsumeBlock3,D93-1987,FALSE)","v":0},"x",{"$f":"OtherNEFcom","v":0},"=",0,"x",298,"=",0,"=",0]
[null,null,null,null,null,null,null,"Total","=",{"$f":"SUM(J97:J105)","v":{"$error":"#N/A"}},"=",{"$error":"#N/A"}]
[]
["Commercial Sector N2O",null,null,{"$f":"D93+1","v":1997}]
[]
[null,"Consumption",null,"Emission Factor",null,"Emissions",null,"GWP",null,"Emissions ",null,"Emissions "]
["Fuel Type","(Billion Btu)",null,"(metric tons N2O/BBtu)",null,"(metric tons N2O)",null,null,null,"(MMTCE)",null,"(MMTCO2E)"]
["Coal",{"$f":"VLOOKUP($A$2&$C$2&$B$2&$C$2&$A112,ConsumeBlock3,10,FALSE)","v":{"$error":"#N/A"}},"x",{"$f":"CoalNEFcom","v":0},"=",{"$f":"B112*D112","v":{"$error":"#N/A"}},"x",{"$f":"GWPN2O","v":298},"=",{"$f":"F112*H112*CO2_C/(10^6)","v":{"$error":"#N/A"}},"=",{"$f":"J112/CO2_C","v":{"$error":"#N/A"}}]
["Distillate Fuel",{"$error":"#N/A"},"x",{"$f":"DistillNEFcom","v":0},"=",{"$f":"B113*D113","v":{"$error":"#N/A"}},"x",{"$f":"GWPN2O","v":298},"=",{"$f":"F113*H113*CO2_C/(10^6)","v":{"$error":"#N/A"}},"=",{"$error":"#N/A"}]
["Kerosene",{"$error":"#N/A"},"x",{"$f":"KeroNEFcom","v":0},"=",{"$error":"#N/A"},"x",298,"=",{"$error":"#N/A"},"=",{"$error":"#N/A"}]
["Hydrocarbon Gas Liquids",{"$error":"#N/A"},"x",{"$f":"LPGNEFcom","v":0},"=",{"$error":"#N/A"},"x",298,"=",{"$error":"#N/A"},"=",{"$error":"#N/A"}]
["Motor Gasoline",{"$error":"#N/A"},"x",{"$f":"MotorGasNEFcom","v":0},"=",{"$error":"#N/A"},"x",298,"=",{"$error":"#N/A"},"=",{"$error":"#N/A"}]
["Residual Fuel",{"$error":"#N/A"},"x",{"$f":"ResidNEFcom","v":0},"=",{"$error":"#N/A"},"x",298,"=",{"$error":"#N/A"},"=",{"$error":"#N/A"}]
["Natural Gas",{"$error":"#N/A"},"x",{"$f":"NatGasNEFcom","v":0},"=",{"$error":"#N/A"},"x",298,"=",{"$error":"#N/A"},"=",{"$error":"#N/A"}]
["Wood",{"$error":"#N/A"},"x",{"$f":"WoodNEFcom","v":0},"=",{"$error":"#N/A"},"x",298,"=",{"$error":"#N/A"},"=",{"$error":"#N/A"}]
["Other",{"$f":"VLOOKUP($A$2&$C$2&$B$2&$C$2&$A120,ConsumeBlock3,D108-1987,FALSE)","v":0},"x",{"$f":"OtherNEFcom","v":0},"=",0,"x",298,"=",0,"=",0]
[null,null,null,null,null,null,null,"Total","=",{"$f":"SUM(J112:J120)","v":{"$error":"#N/A"}},"=",{"$error":"#N/A"}]
[]
["Commercial Sector N2O",null,null,{"$f":"D108+1","v":1998}]
[]
[null,"Consumption",null,"Emission Factor",null,"Emissions",null,"GWP",null,"Emissions ",null,"Emissions "]
["Fuel Type","(Billion Btu)",null,"(metric tons N2O/BBtu)",null,"(metric tons N2O)",null,null,null,"(MMTCE)",null,"(MMTCO2E)"]
["Coal",{"$f":"VLOOKUP($A$2&$C$2&$B$2&$C$2&$A127,ConsumeBlock3,11,FALSE)","v":{"$error":"#N/A"}},"x",{"$f":"CoalNEFcom","v":0},"=",{"$f":"B127*D127","v":{"$error":"#N/A"}},"x",{"$f":"GWPN2O","v":298},"=",{"$f":"F127*H127*CO2_C/(10^6)","v":{"$error":"#N/A"}},"=",{"$f":"J127/CO2_C","v":{"$error":"#N/A"}}]
["Distillate Fuel",{"$error":"#N/A"},"x",{"$f":"DistillNEFcom","v":0},"=",{"$f":"B128*D128","v":{"$error":"#N/A"}},"x",{"$f":"GWPN2O","v":298},"=",{"$f":"F128*H128*CO2_C/(10^6)","v":{"$error":"#N/A"}},"=",{"$error":"#N/A"}]
["Kerosene",{"$error":"#N/A"},"x",{"$f":"KeroNEFcom","v":0},"=",{"$error":"#N/A"},"x",298,"=",{"$error":"#N/A"},"=",{"$error":"#N/A"}]
["Hydrocarbon Gas Liquids",{"$error":"#N/A"},"x",{"$f":"LPGNEFcom","v":0},"=",{"$error":"#N/A"},"x",298,"=",{"$error":"#N/A"},"=",{"$error":"#N/A"}]
["Motor Gasoline",{"$error":"#N/A"},"x",{"$f":"MotorGasNEFcom","v":0},"=",{"$error":"#N/A"},"x",298,"=",{"$error":"#N/A"},"=",{"$error":"#N/A"}]
["Residual Fuel",{"$error":"#N/A"},"x",{"$f":"ResidNEFcom","v":0},"=",{"$error":"#N/A"},"x",298,"=",{"$error":"#N/A"},"=",{"$error":"#N/A"}]
["Natural Gas",{"$error":"#N/A"},"x",{"$f":"NatGasNEFcom","v":0},"=",{"$error":"#N/A"},"x",298,"=",{"$error":"#N/A"},"=",{"$error":"#N/A"}]
["Wood",{"$error":"#N/A"},"x",{"$f":"WoodNEFcom","v":0},"=",{"$error":"#N/A"},"x",298,"=",{"$error":"#N/A"},"=",{"$error":"#N/A"}]
["Other",{"$f":"VLOOKUP($A$2&$C$2&$B$2&$C$2&$A135,ConsumeBlock3,D123-1987,FALSE)","v":0},"x",{"$f":"OtherNEFcom","v":0},"=",0,"x",298,"=",0,"=",0]
[null,null,null,null,null,null,null,"Total","=",{"$f":"SUM(J127:J135)","v":{"$error":"#N/A"}},"=",{"$error":"#N/A"}]
[]
["Commercial Sector N2O",null,null,{"$f":"D123+1","v":1999}]
[]
[null,"Consumption",null,"Emission Factor",null,"Emissions",null,"GWP",null,"Emissions ",null,"Emissions "]
["Fuel Type","(Billion Btu)",null,"(metric tons N2O/BBtu)",null,"(metric tons N2O)",null,null,null,"(MMTCE)",null,"(MMTCO2E)"]
["Coal",{"$f":"VLOOKUP($A$2&$C$2&$B$2&$C$2&$A142,ConsumeBlock3,12,FALSE)","v":{"$error":"#N/A"}},"x",{"$f":"CoalNEFcom","v":0},"=",{"$f":"B142*D142","v":{"$error":"#N/A"}},"x",{"$f":"GWPN2O","v":298},"=",{"$f":"F142*H142*CO2_C/(10^6)","v":{"$error":"#N/A"}},"=",{"$f":"J142/CO2_C","v":{"$error":"#N/A"}}]
["Distillate Fuel",{"$error":"#N/A"},"x",{"$f":"DistillNEFcom","v":0},"=",{"$f":"B143*D143","v":{"$error":"#N/A"}},"x",{"$f":"GWPN2O","v":298},"=",{"$f":"F143*H143*CO2_C/(10^6)","v":{"$error":"#N/A"}},"=",{"$error":"#N/A"}]
["Kerosene",{"$error":"#N/A"},"x",{"$f":"KeroNEFcom","v":0},"=",{"$error":"#N/A"},"x",298,"=",{"$error":"#N/A"},"=",{"$error":"#N/A"}]
["Hydrocarbon Gas Liquids",{"$error":"#N/A"},"x",{"$f":"LPGNEFcom","v":0},"=",{"$error":"#N/A"},"x",298,"=",{"$error":"#N/A"},"=",{"$error":"#N/A"}]
["Motor Gasoline",{"$error":"#N/A"},"x",{"$f":"MotorGasNEFcom","v":0},"=",{"$error":"#N/A"},"x",298,"=",{"$error":"#N/A"},"=",{"$error":"#N/A"}]
["Residual Fuel",{"$error":"#N/A"},"x",{"$f":"ResidNEFcom","v":0},"=",{"$error":"#N/A"},"x",298,"=",{"$error":"#N/A"},"=",{"$error":"#N/A"}]
["Natural Gas",{"$error":"#N/A"},"x",{"$f":"NatGasNEFcom","v":0},"=",{"$error":"#N/A"},"x",298,"=",{"$error":"#N/A"},"=",{"$error":"#N/A"}]
["Wood",{"$error":"#N/A"},"x",{"$f":"WoodNEFcom","v":0},"=",{"$error":"#N/A"},"x",298,"=",{"$error":"#N/A"},"=",{"$error":"#N/A"}]
["Other",{"$f":"VLOOKUP($A$2&$C$2&$B$2&$C$2&$A150,ConsumeBlock3,D138-1987,FALSE)","v":0},"x",{"$f":"OtherNEFcom","v":0},"=",0,"x",298,"=",0,"=",0]
[null,null,null,null,null,null,null,"Total","=",{"$f":"SUM(J142:J150)","v":{"$error":"#N/A"}},"=",{"$error":"#N/A"}]
[]
["Commercial Sector N2O",null,null,{"$f":"D138+1","v":2000}]
[]
[null,"Consumption",null,"Emission Factor",null,"Emissions",null,"GWP",null,"Emissions ",null,"Emissions "]
["Fuel Type","(Billion Btu)",null,"(metric tons N2O/BBtu)",null,"(metric tons N2O)",null,null,null,"(MMTCE)",null,"(MMTCO2E)"]
["Coal",{"$f":"VLOOKUP($A$2&$C$2&$B$2&$C$2&$A157,ConsumeBlock3,13,FALSE)","v":{"$error":"#N/A"}},"x",{"$f":"CoalNEFcom","v":0},"=",{"$f":"B157*D157","v":{"$error":"#N/A"}},"x",{"$f":"GWPN2O","v":298},"=",{"$f":"F157*H157*CO2_C/(10^6)","v":{"$error":"#N/A"}},"=",{"$f":"J157/CO2_C","v":{"$error":"#N/A"}}]
["Distillate Fuel",{"$error":"#N/A"},"x",{"$f":"DistillNEFcom","v":0},"=",{"$f":"B158*D158","v":{"$error":"#N/A"}},"x",{"$f":"GWPN2O","v":298},"=",{"$f":"F158*H158*CO2_C/(10^6)","v":{"$error":"#N/A"}},"=",{"$error":"#N/A"}]
["Kerosene",{"$error":"#N/A"},"x",{"$f":"KeroNEFcom","v":0},"=",{"$error":"#N/A"},"x",298,"=",{"$error":"#N/A"},"=",{"$error":"#N/A"}]
["Hydrocarbon Gas Liquids",{"$error":"#N/A"},"x",{"$f":"LPGNEFcom","v":0},"=",{"$error":"#N/A"},"x",298,"=",{"$error":"#N/A"},"=",{"$error":"#N/A"}]
["Motor Gasoline",{"$error":"#N/A"},"x",{"$f":"MotorGasNEFcom","v":0},"=",{"$error":"#N/A"},"x",298,"=",{"$error":"#N/A"},"=",{"$error":"#N/A"}]
["Residual Fuel",{"$error":"#N/A"},"x",{"$f":"ResidNEFcom","v":0},"=",{"$error":"#N/A"},"x",298,"=",{"$error":"#N/A"},"=",{"$error":"#N/A"}]
["Natural Gas",{"$error":"#N/A"},"x",{"$f":"NatGasNEFcom","v":0},"=",{"$error":"#N/A"},"x",298,"=",{"$error":"#N/A"},"=",{"$error":"#N/A"}]
["Wood",{"$error":"#N/A"},"x",{"$f":"WoodNEFcom","v":0},"=",{"$error":"#N/A"},"x",298,"=",{"$error":"#N/A"},"=",{"$error":"#N/A"}]
["Other",{"$f":"VLOOKUP($A$2&$C$2&$B$2&$C$2&$A165,ConsumeBlock3,D153-1987,FALSE)","v":0},"x",{"$f":"OtherNEFcom","v":0},"=",0,"x",298,"=",0,"=",0]
[null,null,null,null,null,null,null,"Total","=",{"$f":"SUM(J157:J165)","v":{"$error":"#N/A"}},"=",{"$error":"#N/A"}]
[]
["Commercial Sector N2O",null,null,{"$f":"D153+1","v":2001}]
[]
[null,"Consumption",null,"Emission Factor",null,"Emissions",null,"GWP",null,"Emissions ",null,"Emissions "]
["Fuel Type","(Billion Btu)",null,"(metric tons N2O/BBtu)",null,"(metric tons N2O)",null,null,null,"(MMTCE)",null,"(MMTCO2E)"]
["Coal",{"$f":"VLOOKUP($A$2&$C$2&$B$2&$C$2&$A172,ConsumeBlock3,14,FALSE)","v":{"$error":"#N/A"}},"x",{"$f":"CoalNEFcom","v":0},"=",{"$f":"B172*D172","v":{"$error":"#N/A"}},"x",{"$f":"GWPN2O","v":298},"=",{"$f":"F172*H172*CO2_C/(10^6)","v":{"$error":"#N/A"}},"=",{"$f":"J172/CO2_C","v":{"$error":"#N/A"}}]
["Distillate Fuel",{"$error":"#N/A"},"x",{"$f":"DistillNEFcom","v":0},"=",{"$f":"B173*D173","v":{"$error":"#N/A"}},"x",{"$f":"GWPN2O","v":298},"=",{"$f":"F173*H173*CO2_C/(10^6)","v":{"$error":"#N/A"}},"=",{"$error":"#N/A"}]
["Kerosene",{"$error":"#N/A"},"x",{"$f":"KeroNEFcom","v":0},"=",{"$error":"#N/A"},"x",298,"=",{"$error":"#N/A"},"=",{"$error":"#N/A"}]
["Hydrocarbon Gas Liquids",{"$error":"#N/A"},"x",{"$f":"LPGNEFcom","v":0},"=",{"$error":"#N/A"},"x",298,"=",{"$error":"#N/A"},"=",{"$error":"#N/A"}]
["Motor Gasoline",{"$error":"#N/A"},"x",{"$f":"MotorGasNEFcom","v":0},"=",{"$error":"#N/A"},"x",298,"=",{"$error":"#N/A"},"=",{"$error":"#N/A"}]
["Residual Fuel",{"$error":"#N/A"},"x",{"$f":"ResidNEFcom","v":0},"=",{"$error":"#N/A"},"x",298,"=",{"$error":"#N/A"},"=",{"$error":"#N/A"}]
["Natural Gas",{"$error":"#N/A"},"x",{"$f":"NatGasNEFcom","v":0},"=",{"$error":"#N/A"},"x",298,"=",{"$error":"#N/A"},"=",{"$error":"#N/A"}]
["Wood",{"$error":"#N/A"},"x",{"$f":"WoodNEFcom","v":0},"=",{"$error":"#N/A"},"x",298,"=",{"$error":"#N/A"},"=",{"$error":"#N/A"}]
["Other",{"$f":"VLOOKUP($A$2&$C$2&$B$2&$C$2&$A180,ConsumeBlock3,D168-1987,FALSE)","v":0},"x",{"$f":"OtherNEFcom","v":0},"=",0,"x",298,"=",0,"=",0]
[null,null,null,null,null,null,null,"Total","=",{"$f":"SUM(J172:J180)","v":{"$error":"#N/A"}},"=",{"$error":"#N/A"}]
[]
["Commercial Sector N2O",null,null,{"$f":"D168+1","v":2002}]
[]
[null,"Consumption",null,"Emission Factor",null,"Emissions",null,"GWP",null,"Emissions ",null,"Emissions "]
["Fuel Type","(Billion Btu)",null,"(metric tons N2O/BBtu)",null,"(metric tons N2O)",null,null,null,"(MMTCE)",null,"(MMTCO2E)"]
["Coal",{"$f":"VLOOKUP($A$2&$C$2&$B$2&$C$2&$A187,ConsumeBlock3,15,FALSE)","v":{"$error":"#N/A"}},"x",{"$f":"CoalNEFcom","v":0},"=",{"$f":"B187*D187","v":{"$error":"#N/A"}},"x",{"$f":"GWPN2O","v":298},"=",{"$f":"F187*H187*CO2_C/(10^6)","v":{"$error":"#N/A"}},"=",{"$f":"J187/CO2_C","v":{"$error":"#N/A"}}]
["Distillate Fuel",{"$error":"#N/A"},"x",{"$f":"DistillNEFcom","v":0},"=",{"$f":"B188*D188","v":{"$error":"#N/A"}},"x",{"$f":"GWPN2O","v":298},"=",{"$f":"F188*H188*CO2_C/(10^6)","v":{"$error":"#N/A"}},"=",{"$error":"#N/A"}]
["Kerosene",{"$error":"#N/A"},"x",{"$f":"KeroNEFcom","v":0},"=",{"$error":"#N/A"},"x",298,"=",{"$error":"#N/A"},"=",{"$error":"#N/A"}]
["Hydrocarbon Gas Liquids",{"$error":"#N/A"},"x",{"$f":"LPGNEFcom","v":0},"=",{"$error":"#N/A"},"x",298,"=",{"$error":"#N/A"},"=",{"$error":"#N/A"}]
["Motor Gasoline",{"$error":"#N/A"},"x",{"$f":"MotorGasNEFcom","v":0},"=",{"$error":"#N/A"},"x",298,"=",{"$error":"#N/A"},"=",{"$error":"#N/A"}]
["Residual Fuel",{"$error":"#N/A"},"x",{"$f":"ResidNEFcom","v":0},"=",{"$error":"#N/A"},"x",298,"=",{"$error":"#N/A"},"=",{"$error":"#N/A"}]
["Natural Gas",{"$error":"#N/A"},"x",{"$f":"NatGasNEFcom","v":0},"=",{"$error":"#N/A"},"x",298,"=",{"$error":"#N/A"},"=",{"$error":"#N/A"}]
["Wood",{"$error":"#N/A"},"x",{"$f":"WoodNEFcom","v":0},"=",{"$error":"#N/A"},"x",298,"=",{"$error":"#N/A"},"=",{"$error":"#N/A"}]
["Other",{"$f":"VLOOKUP($A$2&$C$2&$B$2&$C$2&$A195,ConsumeBlock3,D183-1987,FALSE)","v":0},"x",{"$f":"OtherNEFcom","v":0},"=",0,"x",298,"=",0,"=",0]
[null,null,null,null,null,null,null,"Total","=",{"$f":"SUM(J187:J195)","v":{"$error":"#N/A"}},"=",{"$error":"#N/A"}]
[]
["Commercial Sector N2O",null,null,{"$f":"D183+1","v":2003}]
[]
[null,"Consumption",null,"Emission Factor",null,"Emissions",null,"GWP",null,"Emissions ",null,"Emissions "]
["Fuel Type","(Billion Btu)",null,"(metric tons N2O/BBtu)",null,"(metric tons N2O)",null,null,null,"(MMTCE)",null,"(MMTCO2E)"]
["Coal",{"$f":"VLOOKUP($A$2&$C$2&$B$2&$C$2&$A202,ConsumeBlock3,16,FALSE)","v":{"$error":"#N/A"}},"x",{"$f":"CoalNEFcom","v":0},"=",{"$f":"B202*D202","v":{"$error":"#N/A"}},"x",{"$f":"GWPN2O","v":298},"=",{"$f":"F202*H202*CO2_C/(10^6)","v":{"$error":"#N/A"}},"=",{"$f":"J202/CO2_C","v":{"$error":"#N/A"}}]
["Distillate Fuel",{"$error":"#N/A"},"x",{"$f":"DistillNEFcom","v":0},"=",{"$f":"B203*D203","v":{"$error":"#N/A"}},"x",{"$f":"GWPN2O","v":298},"=",{"$f":"F203*H203*CO2_C/(10^6)","v":{"$error":"#N/A"}},"=",{"$error":"#N/A"}]
["Kerosene",{"$error":"#N/A"},"x",{"$f":"KeroNEFcom","v":0},"=",{"$error":"#N/A"},"x",298,"=",{"$error":"#N/A"},"=",{"$error":"#N/A"}]
["Hydrocarbon Gas Liquids",{"$error":"#N/A"},"x",{"$f":"LPGNEFcom","v":0},"=",{"$error":"#N/A"},"x",298,"=",{"$error":"#N/A"},"=",{"$error":"#N/A"}]
["Motor Gasoline",{"$error":"#N/A"},"x",{"$f":"MotorGasNEFcom","v":0},"=",{"$error":"#N/A"},"x",298,"=",{"$error":"#N/A"},"=",{"$error":"#N/A"}]
["Residual Fuel",{"$error":"#N/A"},"x",{"$f":"ResidNEFcom","v":0},"=",{"$error":"#N/A"},"x",298,"=",{"$error":"#N/A"},"=",{"$error":"#N/A"}]
["Natural Gas",{"$error":"#N/A"},"x",{"$f":"NatGasNEFcom","v":0},"=",{"$error":"#N/A"},"x",298,"=",{"$error":"#N/A"},"=",{"$error":"#N/A"}]
["Wood",{"$error":"#N/A"},"x",{"$f":"WoodNEFcom","v":0},"=",{"$error":"#N/A"},"x",298,"=",{"$error":"#N/A"},"=",{"$error":"#N/A"}]
["Other",{"$f":"VLOOKUP($A$2&$C$2&$B$2&$C$2&$A210,ConsumeBlock3,D198-1987,FALSE)","v":0},"x",{"$f":"OtherNEFcom","v":0},"=",0,"x",298,"=",0,"=",0]
[null,null,null,null,null,null,null,"Total","=",{"$f":"SUM(J202:J210)","v":{"$error":"#N/A"}},"=",{"$error":"#N/A"}]
[]
["Commercial Sector N2O",null,null,{"$f":"D198+1","v":2004}]
[]
[null,"Consumption",null,"Emission Factor",null,"Emissions",null,"GWP",null,"Emissions ",null,"Emissions "]
["Fuel Type","(Billion Btu)",null,"(metric tons N2O/BBtu)",null,"(metric tons N2O)",null,null,null,"(MMTCE)",null,"(MMTCO2E)"]
["Coal",{"$f":"VLOOKUP($A$2&$C$2&$B$2&$C$2&$A217,ConsumeBlock3,17,FALSE)","v":{"$error":"#N/A"}},"x",{"$f":"CoalNEFcom","v":0},"=",{"$f":"B217*D217","v":{"$error":"#N/A"}},"x",{"$f":"GWPN2O","v":298},"=",{"$f":"F217*H217*CO2_C/(10^6)","v":{"$error":"#N/A"}},"=",{"$f":"J217/CO2_C","v":{"$error":"#N/A"}}]
["Distillate Fuel",{"$error":"#N/A"},"x",{"$f":"DistillNEFcom","v":0},"=",{"$f":"B218*D218","v":{"$error":"#N/A"}},"x",{"$f":"GWPN2O","v":298},"=",{"$f":"F218*H218*CO2_C/(10^6)","v":{"$error":"#N/A"}},"=",{"$error":"#N/A"}]
["Kerosene",{"$error":"#N/A"},"x",{"$f":"KeroNEFcom","v":0},"=",{"$error":"#N/A"},"x",298,"=",{"$error":"#N/A"},"=",{"$error":"#N/A"}]
["Hydrocarbon Gas Liquids",{"$error":"#N/A"},"x",{"$f":"LPGNEFcom","v":0},"=",{"$error":"#N/A"},"x",298,"=",{"$error":"#N/A"},"=",{"$error":"#N/A"}]
["Motor Gasoline",{"$error":"#N/A"},"x",{"$f":"MotorGasNEFcom","v":0},"=",{"$error":"#N/A"},"x",298,"=",{"$error":"#N/A"},"=",{"$error":"#N/A"}]
["Residual Fuel",{"$error":"#N/A"},"x",{"$f":"ResidNEFcom","v":0},"=",{"$error":"#N/A"},"x",298,"=",{"$error":"#N/A"},"=",{"$error":"#N/A"}]
["Natural Gas",{"$error":"#N/A"},"x",{"$f":"NatGasNEFcom","v":0},"=",{"$error":"#N/A"},"x",298,"=",{"$error":"#N/A"},"=",{"$error":"#N/A"}]
["Wood",{"$error":"#N/A"},"x",{"$f":"WoodNEFcom","v":0},"=",{"$error":"#N/A"},"x",298,"=",{"$error":"#N/A"},"=",{"$error":"#N/A"}]
["Other",{"$f":"VLOOKUP($A$2&$C$2&$B$2&$C$2&$A225,ConsumeBlock3,D213-1987,FALSE)","v":0},"x",{"$f":"OtherNEFcom","v":0},"=",0,"x",298,"=",0,"=",0]
[null,null,null,null,null,null,null,"Total","=",{"$f":"SUM(J217:J225)","v":{"$error":"#N/A"}},"=",{"$error":"#N/A"}]
[]
["Commercial Sector N2O",null,null,{"$f":"D213+1","v":2005}]
[]
[null,"Consumption",null,"Emission Factor",null,"Emissions",null,"GWP",null,"Emissions ",null,"Emissions "]
["Fuel Type","(Billion Btu)",null,"(metric tons N2O/BBtu)",null,"(metric tons N2O)",null,null,null,"(MMTCE)",null,"(MMTCO2E)"]
["Coal",{"$f":"VLOOKUP($A$2&$C$2&$B$2&$C$2&$A232,ConsumeBlock3,18,FALSE)","v":{"$error":"#N/A"}},"x",{"$f":"CoalNEFcom","v":0},"=",{"$f":"B232*D232","v":{"$error":"#N/A"}},"x",{"$f":"GWPN2O","v":298},"=",{"$f":"F232*H232*CO2_C/(10^6)","v":{"$error":"#N/A"}},"=",{"$f":"J232/CO2_C","v":{"$error":"#N/A"}}]
["Distillate Fuel",{"$error":"#N/A"},"x",{"$f":"DistillNEFcom","v":0},"=",{"$f":"B233*D233","v":{"$error":"#N/A"}},"x",{"$f":"GWPN2O","v":298},"=",{"$f":"F233*H233*CO2_C/(10^6)","v":{"$error":"#N/A"}},"=",{"$error":"#N/A"}]
["Kerosene",{"$error":"#N/A"},"x",{"$f":"KeroNEFcom","v":0},"=",{"$error":"#N/A"},"x",298,"=",{"$error":"#N/A"},"=",{"$error":"#N/A"}]
["Hydrocarbon Gas Liquids",{"$error":"#N/A"},"x",{"$f":"LPGNEFcom","v":0},"=",{"$error":"#N/A"},"x",298,"=",{"$error":"#N/A"},"=",{"$error":"#N/A"}]
["Motor Gasoline",{"$error":"#N/A"},"x",{"$f":"MotorGasNEFcom","v":0},"=",{"$error":"#N/A"},"x",298,"=",{"$error":"#N/A"},"=",{"$error":"#N/A"}]
["Residual Fuel",{"$error":"#N/A"},"x",{"$f":"ResidNEFcom","v":0},"=",{"$error":"#N/A"},"x",298,"=",{"$error":"#N/A"},"=",{"$error":"#N/A"}]
["Natural Gas",{"$error":"#N/A"},"x",{"$f":"NatGasNEFcom","v":0},"=",{"$error":"#N/A"},"x",298,"=",{"$error":"#N/A"},"=",{"$error":"#N/A"}]
["Wood",{"$error":"#N/A"},"x",{"$f":"WoodNEFcom","v":0},"=",{"$error":"#N/A"},"x",298,"=",{"$error":"#N/A"},"=",{"$error":"#N/A"}]
["Other",{"$f":"VLOOKUP($A$2&$C$2&$B$2&$C$2&$A240,ConsumeBlock3,D228-1987,FALSE)","v":0},"x",{"$f":"OtherNEFcom","v":0},"=",0,"x",298,"=",0,"=",0]
[null,null,null,null,null,null,null,"Total","=",{"$f":"SUM(J232:J240)","v":{"$error":"#N/A"}},"=",{"$error":"#N/A"}]
[]
["Commercial Sector N2O",null,null,{"$f":"D228+1","v":2006}]
[]
[null,"Consumption",null,"Emission Factor",null,"Emissions",null,"GWP",null,"Emissions ",null,"Emissions "]
["Fuel Type","(Billion Btu)",null,"(metric tons N2O/BBtu)",null,"(metric tons N2O)",null,null,null,"(MMTCE)",null,"(MMTCO2E)"]
["Coal",{"$f":"VLOOKUP($A$2&$C$2&$B$2&$C$2&$A247,ConsumeBlock3,19,FALSE)","v":{"$error":"#N/A"}},"x",{"$f":"CoalNEFcom","v":0},"=",{"$f":"B247*D247","v":{"$error":"#N/A"}},"x",{"$f":"GWPN2O","v":298},"=",{"$f":"F247*H247*CO2_C/(10^6)","v":{"$error":"#N/A"}},"=",{"$f":"J247/CO2_C","v":{"$error":"#N/A"}}]
["Distillate Fuel",{"$error":"#N/A"},"x",{"$f":"DistillNEFcom","v":0},"=",{"$f":"B248*D248","v":{"$error":"#N/A"}},"x",{"$f":"GWPN2O","v":298},"=",{"$f":"F248*H248*CO2_C/(10^6)","v":{"$error":"#N/A"}},"=",{"$error":"#N/A"}]
["Kerosene",{"$error":"#N/A"},"x",{"$f":"KeroNEFcom","v":0},"=",{"$error":"#N/A"},"x",298,"=",{"$error":"#N/A"},"=",{"$error":"#N/A"}]
["Hydrocarbon Gas Liquids",{"$error":"#N/A"},"x",{"$f":"LPGNEFcom","v":0},"=",{"$error":"#N/A"},"x",298,"=",{"$error":"#N/A"},"=",{"$error":"#N/A"}]
["Motor Gasoline",{"$error":"#N/A"},"x",{"$f":"MotorGasNEFcom","v":0},"=",{"$error":"#N/A"},"x",298,"=",{"$error":"#N/A"},"=",{"$error":"#N/A"}]
["Residual Fuel",{"$error":"#N/A"},"x",{"$f":"ResidNEFcom","v":0},"=",{"$error":"#N/A"},"x",298,"=",{"$error":"#N/A"},"=",{"$error":"#N/A"}]
["Natural Gas",{"$error":"#N/A"},"x",{"$f":"NatGasNEFcom","v":0},"=",{"$error":"#N/A"},"x",298,"=",{"$error":"#N/A"},"=",{"$error":"#N/A"}]
["Wood",{"$error":"#N/A"},"x",{"$f":"WoodNEFcom","v":0},"=",{"$error":"#N/A"},"x",298,"=",{"$error":"#N/A"},"=",{"$error":"#N/A"}]
["Other",{"$f":"VLOOKUP($A$2&$C$2&$B$2&$C$2&$A255,ConsumeBlock3,D243-1987,FALSE)","v":0},"x",{"$f":"OtherNEFcom","v":0},"=",0,"x",298,"=",0,"=",0]
[null,null,null,null,null,null,null,"Total","=",{"$f":"SUM(J247:J255)","v":{"$error":"#N/A"}},"=",{"$error":"#N/A"}]
[]
["Commercial Sector N2O",null,null,{"$f":"D243+1","v":2007}]
[]
[null,"Consumption",null,"Emission Factor",null,"Emissions",null,"GWP",null,"Emissions ",null,"Emissions "]
["Fuel Type","(Billion Btu)",null,"(metric tons N2O/BBtu)",null,"(metric tons N2O)",null,null,null,"(MMTCE)",null,"(MMTCO2E)"]
["Coal",{"$f":"VLOOKUP($A$2&$C$2&$B$2&$C$2&$A262,ConsumeBlock3,20,FALSE)","v":{"$error":"#N/A"}},"x",{"$f":"CoalNEFcom","v":0},"=",{"$f":"B262*D262","v":{"$error":"#N/A"}},"x",{"$f":"GWPN2O","v":298},"=",{"$f":"F262*H262*CO2_C/(10^6)","v":{"$error":"#N/A"}},"=",{"$f":"J262/CO2_C","v":{"$error":"#N/A"}}]
["Distillate Fuel",{"$error":"#N/A"},"x",{"$f":"DistillNEFcom","v":0},"=",{"$f":"B263*D263","v":{"$error":"#N/A"}},"x",{"$f":"GWPN2O","v":298},"=",{"$f":"F263*H263*CO2_C/(10^6)","v":{"$error":"#N/A"}},"=",{"$error":"#N/A"}]
["Kerosene",{"$error":"#N/A"},"x",{"$f":"KeroNEFcom","v":0},"=",{"$error":"#N/A"},"x",298,"=",{"$error":"#N/A"},"=",{"$error":"#N/A"}]
["Hydrocarbon Gas Liquids",{"$error":"#N/A"},"x",{"$f":"LPGNEFcom","v":0},"=",{"$error":"#N/A"},"x",298,"=",{"$error":"#N/A"},"=",{"$error":"#N/A"}]
["Motor Gasoline",{"$error":"#N/A"},"x",{"$f":"MotorGasNEFcom","v":0},"=",{"$error":"#N/A"},"x",298,"=",{"$error":"#N/A"},"=",{"$error":"#N/A"}]
["Residual Fuel",{"$error":"#N/A"},"x",{"$f":"ResidNEFcom","v":0},"=",{"$error":"#N/A"},"x",298,"=",{"$error":"#N/A"},"=",{"$error":"#N/A"}]
["Natural Gas",{"$error":"#N/A"},"x",{"$f":"NatGasNEFcom","v":0},"=",{"$error":"#N/A"},"x",298,"=",{"$error":"#N/A"},"=",{"$error":"#N/A"}]
["Wood",{"$error":"#N/A"},"x",{"$f":"WoodNEFcom","v":0},"=",{"$error":"#N/A"},"x",298,"=",{"$error":"#N/A"},"=",{"$error":"#N/A"}]
["Other",{"$f":"VLOOKUP($A$2&$C$2&$B$2&$C$2&$A270,ConsumeBlock3,D258-1987,FALSE)","v":0},"x",{"$f":"OtherNEFcom","v":0},"=",0,"x",298,"=",0,"=",0]
[null,null,null,null,null,null,null,"Total","=",{"$f":"SUM(J262:J270)","v":{"$error":"#N/A"}},"=",{"$error":"#N/A"}]
[]
["Commercial Sector N2O",null,null,{"$f":"D258+1","v":2008}]
[]
[null,"Consumption",null,"Emission Factor",null,"Emissions",null,"GWP",null,"Emissions ",null,"Emissions "]
["Fuel Type","(Billion Btu)",null,"(metric tons N2O/BBtu)",null,"(metric tons N2O)",null,null,null,"(MMTCE)",null,"(MMTCO2E)"]
["Coal",{"$f":"VLOOKUP($A$2&$C$2&$B$2&$C$2&$A277,ConsumeBlock3,21,FALSE)","v":{"$error":"#N/A"}},"x",{"$f":"CoalNEFcom","v":0},"=",{"$f":"B277*D277","v":{"$error":"#N/A"}},"x",{"$f":"GWPN2O","v":298},"=",{"$f":"F277*H277*CO2_C/(10^6)","v":{"$error":"#N/A"}},"=",{"$f":"J277/CO2_C","v":{"$error":"#N/A"}}]
["Distillate Fuel",{"$error":"#N/A"},"x",{"$f":"DistillNEFcom","v":0},"=",{"$f":"B278*D278","v":{"$error":"#N/A"}},"x",{"$f":"GWPN2O","v":298},"=",{"$f":"F278*H278*CO2_C/(10^6)","v":{"$error":"#N/A"}},"=",{"$error":"#N/A"}]
["Kerosene",{"$error":"#N/A"},"x",{"$f":"KeroNEFcom","v":0},"=",{"$error":"#N/A"},"x",298,"=",{"$error":"#N/A"},"=",{"$error":"#N/A"}]
["Hydrocarbon Gas Liquids",{"$error":"#N/A"},"x",{"$f":"LPGNEFcom","v":0},"=",{"$error":"#N/A"},"x",298,"=",{"$error":"#N/A"},"=",{"$error":"#N/A"}]
["Motor Gasoline",{"$error":"#N/A"},"x",{"$f":"MotorGasNEFcom","v":0},"=",{"$error":"#N/A"},"x",298,"=",{"$error":"#N/A"},"=",{"$error":"#N/A"}]
["Residual Fuel",{"$error":"#N/A"},"x",{"$f":"ResidNEFcom","v":0},"=",{"$error":"#N/A"},"x",298,"=",{"$error":"#N/A"},"=",{"$error":"#N/A"}]
["Natural Gas",{"$error":"#N/A"},"x",{"$f":"NatGasNEFcom","v":0},"=",{"$error":"#N/A"},"x",298,"=",{"$error":"#N/A"},"=",{"$error":"#N/A"}]
["Wood",{"$error":"#N/A"},"x",{"$f":"WoodNEFcom","v":0},"=",{"$error":"#N/A"},"x",298,"=",{"$error":"#N/A"},"=",{"$error":"#N/A"}]
["Other",{"$f":"VLOOKUP($A$2&$C$2&$B$2&$C$2&$A285,ConsumeBlock3,D273-1987,FALSE)","v":0},"x",{"$f":"OtherNEFcom","v":0},"=",0,"x",298,"=",0,"=",0]
[null,null,null,null,null,null,null,"Total","=",{"$f":"SUM(J277:J285)","v":{"$error":"#N/A"}},"=",{"$error":"#N/A"}]
[]
["Commercial Sector N2O",null,null,{"$f":"D273+1","v":2009}]
[]
[null,"Consumption",null,"Emission Factor",null,"Emissions",null,"GWP",null,"Emissions ",null,"Emissions "]
["Fuel Type","(Billion Btu)",null,"(metric tons N2O/BBtu)",null,"(metric tons N2O)",null,null,null,"(MMTCE)",null,"(MMTCO2E)"]
["Coal",{"$f":"VLOOKUP($A$2&$C$2&$B$2&$C$2&$A292,ConsumeBlock3,22,FALSE)","v":{"$error":"#N/A"}},"x",{"$f":"CoalNEFcom","v":0},"=",{"$f":"B292*D292","v":{"$error":"#N/A"}},"x",{"$f":"GWPN2O","v":298},"=",{"$f":"F292*H292*CO2_C/(10^6)","v":{"$error":"#N/A"}},"=",{"$f":"J292/CO2_C","v":{"$error":"#N/A"}}]
["Distillate Fuel",{"$error":"#N/A"},"x",{"$f":"DistillNEFcom","v":0},"=",{"$f":"B293*D293","v":{"$error":"#N/A"}},"x",{"$f":"GWPN2O","v":298},"=",{"$f":"F293*H293*CO2_C/(10^6)","v":{"$error":"#N/A"}},"=",{"$error":"#N/A"}]
["Kerosene",{"$error":"#N/A"},"x",{"$f":"KeroNEFcom","v":0},"=",{"$error":"#N/A"},"x",298,"=",{"$error":"#N/A"},"=",{"$error":"#N/A"}]
["Hydrocarbon Gas Liquids",{"$error":"#N/A"},"x",{"$f":"LPGNEFcom","v":0},"=",{"$error":"#N/A"},"x",298,"=",{"$error":"#N/A"},"=",{"$error":"#N/A"}]
["Motor Gasoline",{"$error":"#N/A"},"x",{"$f":"MotorGasNEFcom","v":0},"=",{"$error":"#N/A"},"x",298,"=",{"$error":"#N/A"},"=",{"$error":"#N/A"}]
["Residual Fuel",{"$error":"#N/A"},"x",{"$f":"ResidNEFcom","v":0},"=",{"$error":"#N/A"},"x",298,"=",{"$error":"#N/A"},"=",{"$error":"#N/A"}]
["Natural Gas",{"$error":"#N/A"},"x",{"$f":"NatGasNEFcom","v":0},"=",{"$error":"#N/A"},"x",298,"=",{"$error":"#N/A"},"=",{"$error":"#N/A"}]
["Wood",{"$error":"#N/A"},"x",{"$f":"WoodNEFcom","v":0},"=",{"$error":"#N/A"},"x",298,"=",{"$error":"#N/A"},"=",{"$error":"#N/A"}]
["Other",{"$f":"VLOOKUP($A$2&$C$2&$B$2&$C$2&$A300,ConsumeBlock3,D288-1987,FALSE)","v":0},"x",{"$f":"OtherNEFcom","v":0},"=",0,"x",298,"=",0,"=",0]
[null,null,null,null,null,null,null,"Total","=",{"$f":"SUM(J292:J300)","v":{"$error":"#N/A"}},"=",{"$error":"#N/A"}]
[]
["Commercial Sector N2O",null,null,{"$f":"D288+1","v":2010}]
[]
[null,"Consumption",null,"Emission Factor",null,"Emissions",null,"GWP",null,"Emissions ",null,"Emissions "]
["Fuel Type","(Billion Btu)",null,"(metric tons N2O/BBtu)",null,"(metric tons N2O)",null,null,null,"(MMTCE)",null,"(MMTCO2E)"]
["Coal",{"$f":"VLOOKUP($A$2&$C$2&$B$2&$C$2&$A307,ConsumeBlock3,23,FALSE)","v":{"$error":"#N/A"}},"x",{"$f":"CoalNEFcom","v":0},"=",{"$f":"B307*D307","v":{"$error":"#N/A"}},"x",{"$f":"GWPN2O","v":298},"=",{"$f":"F307*H307*CO2_C/(10^6)","v":{"$error":"#N/A"}},"=",{"$f":"J307/CO2_C","v":{"$error":"#N/A"}}]
["Distillate Fuel",{"$error":"#N/A"},"x",{"$f":"DistillNEFcom","v":0},"=",{"$f":"B308*D308","v":{"$error":"#N/A"}},"x",{"$f":"GWPN2O","v":298},"=",{"$f":"F308*H308*CO2_C/(10^6)","v":{"$error":"#N/A"}},"=",{"$error":"#N/A"}]
["Kerosene",{"$error":"#N/A"},"x",{"$f":"KeroNEFcom","v":0},"=",{"$error":"#N/A"},"x",298,"=",{"$error":"#N/A"},"=",{"$error":"#N/A"}]
["Hydrocarbon Gas Liquids",{"$error":"#N/A"},"x",{"$f":"LPGNEFcom","v":0},"=",{"$error":"#N/A"},"x",298,"=",{"$error":"#N/A"},"=",{"$error":"#N/A"}]
["Motor Gasoline",{"$error":"#N/A"},"x",{"$f":"MotorGasNEFcom","v":0},"=",{"$error":"#N/A"},"x",298,"=",{"$error":"#N/A"},"=",{"$error":"#N/A"}]
["Residual Fuel",{"$error":"#N/A"},"x",{"$f":"ResidNEFcom","v":0},"=",{"$error":"#N/A"},"x",298,"=",{"$error":"#N/A"},"=",{"$error":"#N/A"}]
["Natural Gas",{"$error":"#N/A"},"x",{"$f":"NatGasNEFcom","v":0},"=",{"$error":"#N/A"},"x",298,"=",{"$error":"#N/A"},"=",{"$error":"#N/A"}]
["Wood",{"$error":"#N/A"},"x",{"$f":"WoodNEFcom","v":0},"=",{"$error":"#N/A"},"x",298,"=",{"$error":"#N/A"},"=",{"$error":"#N/A"}]
["Other",{"$f":"VLOOKUP($A$2&$C$2&$B$2&$C$2&$A315,ConsumeBlock3,D303-1987,FALSE)","v":0},"x",{"$f":"OtherNEFcom","v":0},"=",0,"x",298,"=",0,"=",0]
[null,null,null,null,null,null,null,"Total","=",{"$f":"SUM(J307:J315)","v":{"$error":"#N/A"}},"=",{"$error":"#N/A"}]
[]
["Commercial Sector N2O",null,null,{"$f":"D303+1","v":2011}]
[]
[null,"Consumption",null,"Emission Factor",null,"Emissions",null,"GWP",null,"Emissions ",null,"Emissions "]
["Fuel Type","(Billion Btu)",null,"(metric tons N2O/BBtu)",null,"(metric tons N2O)",null,null,null,"(MMTCE)",null,"(MMTCO2E)"]
["Coal",{"$f":"VLOOKUP($A$2&$C$2&$B$2&$C$2&$A322,ConsumeBlock3,24,FALSE)","v":{"$error":"#N/A"}},"x",{"$f":"CoalNEFcom","v":0},"=",{"$f":"B322*D322","v":{"$error":"#N/A"}},"x",{"$f":"GWPN2O","v":298},"=",{"$f":"F322*H322*CO2_C/(10^6)","v":{"$error":"#N/A"}},"=",{"$f":"J322/CO2_C","v":{"$error":"#N/A"}}]
["Distillate Fuel",{"$error":"#N/A"},"x",{"$f":"DistillNEFcom","v":0},"=",{"$f":"B323*D323","v":{"$error":"#N/A"}},"x",{"$f":"GWPN2O","v":298},"=",{"$f":"F323*H323*CO2_C/(10^6)","v":{"$error":"#N/A"}},"=",{"$error":"#N/A"}]
["Kerosene",{"$error":"#N/A"},"x",{"$f":"KeroNEFcom","v":0},"=",{"$error":"#N/A"},"x",298,"=",{"$error":"#N/A"},"=",{"$error":"#N/A"}]
["Hydrocarbon Gas Liquids",{"$error":"#N/A"},"x",{"$f":"LPGNEFcom","v":0},"=",{"$error":"#N/A"},"x",298,"=",{"$error":"#N/A"},"=",{"$error":"#N/A"}]
["Motor Gasoline",{"$error":"#N/A"},"x",{"$f":"MotorGasNEFcom","v":0},"=",{"$error":"#N/A"},"x",298,"=",{"$error":"#N/A"},"=",{"$error":"#N/A"}]
["Residual Fuel",{"$error":"#N/A"},"x",{"$f":"ResidNEFcom","v":0},"=",{"$error":"#N/A"},"x",298,"=",{"$error":"#N/A"},"=",{"$error":"#N/A"}]
["Natural Gas",{"$error":"#N/A"},"x",{"$f":"NatGasNEFcom","v":0},"=",{"$error":"#N/A"},"x",298,"=",{"$error":"#N/A"},"=",{"$error":"#N/A"}]
["Wood",{"$error":"#N/A"},"x",{"$f":"WoodNEFcom","v":0},"=",{"$error":"#N/A"},"x",298,"=",{"$error":"#N/A"},"=",{"$error":"#N/A"}]
["Other",{"$f":"VLOOKUP($A$2&$C$2&$B$2&$C$2&$A330,ConsumeBlock3,D318-1987,FALSE)","v":0},"x",{"$f":"OtherNEFcom","v":0},"=",0,"x",298,"=",0,"=",0]
[null,null,null,null,null,null,null,"Total","=",{"$f":"SUM(J322:J330)","v":{"$error":"#N/A"}},"=",{"$error":"#N/A"}]
[]
["Commercial Sector N2O",null,null,{"$f":"D318+1","v":2012}]
[]
[null,"Consumption",null,"Emission Factor",null,"Emissions",null,"GWP",null,"Emissions ",null,"Emissions "]
["Fuel Type","(Billion Btu)",null,"(metric tons N2O/BBtu)",null,"(metric tons N2O)",null,null,null,"(MMTCE)",null,"(MMTCO2E)"]
["Coal",{"$f":"VLOOKUP($A$2&$C$2&$B$2&$C$2&$A337,ConsumeBlock3,25,FALSE)","v":{"$error":"#N/A"}},"x",{"$f":"CoalNEFcom","v":0},"=",{"$f":"B337*D337","v":{"$error":"#N/A"}},"x",{"$f":"GWPN2O","v":298},"=",{"$f":"F337*H337*CO2_C/(10^6)","v":{"$error":"#N/A"}},"=",{"$f":"J337/CO2_C","v":{"$error":"#N/A"}}]
["Distillate Fuel",{"$error":"#N/A"},"x",{"$f":"DistillNEFcom","v":0},"=",{"$f":"B338*D338","v":{"$error":"#N/A"}},"x",{"$f":"GWPN2O","v":298},"=",{"$f":"F338*H338*CO2_C/(10^6)","v":{"$error":"#N/A"}},"=",{"$error":"#N/A"}]
["Kerosene",{"$error":"#N/A"},"x",{"$f":"KeroNEFcom","v":0},"=",{"$error":"#N/A"},"x",298,"=",{"$error":"#N/A"},"=",{"$error":"#N/A"}]
["Hydrocarbon Gas Liquids",{"$error":"#N/A"},"x",{"$f":"LPGNEFcom","v":0},"=",{"$error":"#N/A"},"x",298,"=",{"$error":"#N/A"},"=",{"$error":"#N/A"}]
["Motor Gasoline",{"$error":"#N/A"},"x",{"$f":"MotorGasNEFcom","v":0},"=",{"$error":"#N/A"},"x",298,"=",{"$error":"#N/A"},"=",{"$error":"#N/A"}]
["Residual Fuel",{"$error":"#N/A"},"x",{"$f":"ResidNEFcom","v":0},"=",{"$error":"#N/A"},"x",298,"=",{"$error":"#N/A"},"=",{"$error":"#N/A"}]
["Natural Gas",{"$error":"#N/A"},"x",{"$f":"NatGasNEFcom","v":0},"=",{"$error":"#N/A"},"x",298,"=",{"$error":"#N/A"},"=",{"$error":"#N/A"}]
["Wood",{"$error":"#N/A"},"x",{"$f":"WoodNEFcom","v":0},"=",{"$error":"#N/A"},"x",298,"=",{"$error":"#N/A"},"=",{"$error":"#N/A"}]
["Other",{"$f":"VLOOKUP($A$2&$C$2&$B$2&$C$2&$A345,ConsumeBlock3,D333-1987,FALSE)","v":0},"x",{"$f":"OtherNEFcom","v":0},"=",0,"x",298,"=",0,"=",0]
[null,null,null,null,null,null,null,"Total","=",{"$f":"SUM(J337:J345)","v":{"$error":"#N/A"}},"=",{"$error":"#N/A"}]
[]
["Commercial Sector N2O",null,null,{"$f":"D333+1","v":2013}]
[]
[null,"Consumption",null,"Emission Factor",null,"Emissions",null,"GWP",null,"Emissions ",null,"Emissions "]
["Fuel Type","(Billion Btu)",null,"(metric tons N2O/BBtu)",null,"(metric tons N2O)",null,null,null,"(MMTCE)",null,"(MMTCO2E)"]
["Coal",{"$f":"VLOOKUP($A$2&$C$2&$B$2&$C$2&$A352,ConsumeBlock3,26,FALSE)","v":{"$error":"#N/A"}},"x",{"$f":"CoalNEFcom","v":0},"=",{"$f":"B352*D352","v":{"$error":"#N/A"}},"x",{"$f":"GWPN2O","v":298},"=",{"$f":"F352*H352*CO2_C/(10^6)","v":{"$error":"#N/A"}},"=",{"$f":"J352/CO2_C","v":{"$error":"#N/A"}}]
["Distillate Fuel",{"$error":"#N/A"},"x",{"$f":"DistillNEFcom","v":0},"=",{"$f":"B353*D353","v":{"$error":"#N/A"}},"x",{"$f":"GWPN2O","v":298},"=",{"$f":"F353*H353*CO2_C/(10^6)","v":{"$error":"#N/A"}},"=",{"$error":"#N/A"}]
["Kerosene",{"$error":"#N/A"},"x",{"$f":"KeroNEFcom","v":0},"=",{"$error":"#N/A"},"x",298,"=",{"$error":"#N/A"},"=",{"$error":"#N/A"}]
["Hydrocarbon Gas Liquids",{"$error":"#N/A"},"x",{"$f":"LPGNEFcom","v":0},"=",{"$error":"#N/A"},"x",298,"=",{"$error":"#N/A"},"=",{"$error":"#N/A"}]
["Motor Gasoline",{"$error":"#N/A"},"x",{"$f":"MotorGasNEFcom","v":0},"=",{"$error":"#N/A"},"x",298,"=",{"$error":"#N/A"},"=",{"$error":"#N/A"}]
["Residual Fuel",{"$error":"#N/A"},"x",{"$f":"ResidNEFcom","v":0},"=",{"$error":"#N/A"},"x",298,"=",{"$error":"#N/A"},"=",{"$error":"#N/A"}]
["Natural Gas",{"$error":"#N/A"},"x",{"$f":"NatGasNEFcom","v":0},"=",{"$error":"#N/A"},"x",298,"=",{"$error":"#N/A"},"=",{"$error":"#N/A"}]
["Wood",{"$error":"#N/A"},"x",{"$f":"WoodNEFcom","v":0},"=",{"$error":"#N/A"},"x",298,"=",{"$error":"#N/A"},"=",{"$error":"#N/A"}]
["Other",{"$f":"VLOOKUP($A$2&$C$2&$B$2&$C$2&$A360,ConsumeBlock3,D348-1987,FALSE)","v":0},"x",{"$f":"OtherNEFcom","v":0},"=",0,"x",298,"=",0,"=",0]
[null,null,null,null,null,null,null,"Total","=",{"$f":"SUM(J352:J360)","v":{"$error":"#N/A"}},"=",{"$error":"#N/A"}]
[]
["Commercial Sector N2O",null,null,{"$f":"D348+1","v":2014}]
[]
[null,"Consumption",null,"Emission Factor",null,"Emissions",null,"GWP",null,"Emissions ",null,"Emissions "]
["Fuel Type","(Billion Btu)",null,"(metric tons N2O/BBtu)",null,"(metric tons N2O)",null,null,null,"(MMTCE)",null,"(MMTCO2E)"]
["Coal",{"$f":"VLOOKUP($A$2&$C$2&$B$2&$C$2&$A367,ConsumeBlock3,27,FALSE)","v":{"$error":"#N/A"}},"x",{"$f":"CoalNEFcom","v":0},"=",{"$f":"B367*D367","v":{"$error":"#N/A"}},"x",{"$f":"GWPN2O","v":298},"=",{"$f":"F367*H367*CO2_C/(10^6)","v":{"$error":"#N/A"}},"=",{"$f":"J367/CO2_C","v":{"$error":"#N/A"}}]
["Distillate Fuel",{"$error":"#N/A"},"x",{"$f":"DistillNEFcom","v":0},"=",{"$f":"B368*D368","v":{"$error":"#N/A"}},"x",{"$f":"GWPN2O","v":298},"=",{"$f":"F368*H368*CO2_C/(10^6)","v":{"$error":"#N/A"}},"=",{"$error":"#N/A"}]
["Kerosene",{"$error":"#N/A"},"x",{"$f":"KeroNEFcom","v":0},"=",{"$error":"#N/A"},"x",298,"=",{"$error":"#N/A"},"=",{"$error":"#N/A"}]
["Hydrocarbon Gas Liquids",{"$error":"#N/A"},"x",{"$f":"LPGNEFcom","v":0},"=",{"$error":"#N/A"},"x",298,"=",{"$error":"#N/A"},"=",{"$error":"#N/A"}]
["Motor Gasoline",{"$error":"#N/A"},"x",{"$f":"MotorGasNEFcom","v":0},"=",{"$error":"#N/A"},"x",298,"=",{"$error":"#N/A"},"=",{"$error":"#N/A"}]
["Residual Fuel",{"$error":"#N/A"},"x",{"$f":"ResidNEFcom","v":0},"=",{"$error":"#N/A"},"x",298,"=",{"$error":"#N/A"},"=",{"$error":"#N/A"}]
["Natural Gas",{"$error":"#N/A"},"x",{"$f":"NatGasNEFcom","v":0},"=",{"$error":"#N/A"},"x",298,"=",{"$error":"#N/A"},"=",{"$error":"#N/A"}]
["Wood",{"$error":"#N/A"},"x",{"$f":"WoodNEFcom","v":0},"=",{"$error":"#N/A"},"x",298,"=",{"$error":"#N/A"},"=",{"$error":"#N/A"}]
["Other",{"$f":"VLOOKUP($A$2&$C$2&$B$2&$C$2&$A375,ConsumeBlock3,D363-1987,FALSE)","v":0},"x",{"$f":"OtherNEFcom","v":0},"=",0,"x",298,"=",0,"=",0]
[null,null,null,null,null,null,null,"Total","=",{"$f":"SUM(J367:J375)","v":{"$error":"#N/A"}},"=",{"$error":"#N/A"}]
[]
["Commercial Sector N2O",null,null,{"$f":"D363+1","v":2015}]
[]
[null,"Consumption",null,"Emission Factor",null,"Emissions",null,"GWP",null,"Emissions ",null,"Emissions "]
["Fuel Type","(Billion Btu)",null,"(metric tons N2O/BBtu)",null,"(metric tons N2O)",null,null,null,"(MMTCE)",null,"(MMTCO2E)"]
["Coal",{"$f":"VLOOKUP($A$2&$C$2&$B$2&$C$2&$A382,ConsumeBlock3,28,FALSE)","v":{"$error":"#N/A"}},"x",{"$f":"CoalNEFcom","v":0},"=",{"$f":"B382*D382","v":{"$error":"#N/A"}},"x",{"$f":"GWPN2O","v":298},"=",{"$f":"F382*H382*CO2_C/(10^6)","v":{"$error":"#N/A"}},"=",{"$f":"J382/CO2_C","v":{"$error":"#N/A"}}]
["Distillate Fuel",{"$error":"#N/A"},"x",{"$f":"DistillNEFcom","v":0},"=",{"$f":"B383*D383","v":{"$error":"#N/A"}},"x",{"$f":"GWPN2O","v":298},"=",{"$f":"F383*H383*CO2_C/(10^6)","v":{"$error":"#N/A"}},"=",{"$error":"#N/A"}]
["Kerosene",{"$error":"#N/A"},"x",{"$f":"KeroNEFcom","v":0},"=",{"$error":"#N/A"},"x",298,"=",{"$error":"#N/A"},"=",{"$error":"#N/A"}]
["Hydrocarbon Gas Liquids",{"$error":"#N/A"},"x",{"$f":"LPGNEFcom","v":0},"=",{"$error":"#N/A"},"x",298,"=",{"$error":"#N/A"},"=",{"$error":"#N/A"}]
["Motor Gasoline",{"$error":"#N/A"},"x",{"$f":"MotorGasNEFcom","v":0},"=",{"$error":"#N/A"},"x",298,"=",{"$error":"#N/A"},"=",{"$error":"#N/A"}]
["Residual Fuel",{"$error":"#N/A"},"x",{"$f":"ResidNEFcom","v":0},"=",{"$error":"#N/A"},"x",298,"=",{"$error":"#N/A"},"=",{"$error":"#N/A"}]
["Natural Gas",{"$error":"#N/A"},"x",{"$f":"NatGasNEFcom","v":0},"=",{"$error":"#N/A"},"x",298,"=",{"$error":"#N/A"},"=",{"$error":"#N/A"}]
["Wood",{"$error":"#N/A"},"x",{"$f":"WoodNEFcom","v":0},"=",{"$error":"#N/A"},"x",298,"=",{"$error":"#N/A"},"=",{"$error":"#N/A"}]
["Other",{"$f":"VLOOKUP($A$2&$C$2&$B$2&$C$2&$A390,ConsumeBlock3,D378-1987,FALSE)","v":0},"x",{"$f":"OtherNEFcom","v":0},"=",0,"x",298,"=",0,"=",0]
[null,null,null,null,null,null,null,"Total","=",{"$f":"SUM(J382:J390)","v":{"$error":"#N/A"}},"=",{"$error":"#N/A"}]
[]
["Commercial Sector N2O",null,null,{"$f":"D378+1","v":2016}]
[]
[null,"Consumption",null,"Emission Factor",null,"Emissions",null,"GWP",null,"Emissions ",null,"Emissions "]
["Fuel Type","(Billion Btu)",null,"(metric tons N2O/BBtu)",null,"(metric tons N2O)",null,null,null,"(MMTCE)",null,"(MMTCO2E)"]
["Coal",{"$f":"VLOOKUP($A$2&$C$2&$B$2&$C$2&$A397,ConsumeBlock3,29,FALSE)","v":{"$error":"#N/A"}},"x",{"$f":"CoalNEFcom","v":0},"=",{"$f":"B397*D397","v":{"$error":"#N/A"}},"x",{"$f":"GWPN2O","v":298},"=",{"$f":"F397*H397*CO2_C/(10^6)","v":{"$error":"#N/A"}},"=",{"$f":"J397/CO2_C","v":{"$error":"#N/A"}}]
["Distillate Fuel",{"$error":"#N/A"},"x",{"$f":"DistillNEFcom","v":0},"=",{"$f":"B398*D398","v":{"$error":"#N/A"}},"x",{"$f":"GWPN2O","v":298},"=",{"$f":"F398*H398*CO2_C/(10^6)","v":{"$error":"#N/A"}},"=",{"$error":"#N/A"}]
["Kerosene",{"$error":"#N/A"},"x",{"$f":"KeroNEFcom","v":0},"=",{"$error":"#N/A"},"x",298,"=",{"$error":"#N/A"},"=",{"$error":"#N/A"}]
["Hydrocarbon Gas Liquids",{"$error":"#N/A"},"x",{"$f":"LPGNEFcom","v":0},"=",{"$error":"#N/A"},"x",298,"=",{"$error":"#N/A"},"=",{"$error":"#N/A"}]
["Motor Gasoline",{"$error":"#N/A"},"x",{"$f":"MotorGasNEFcom","v":0},"=",{"$error":"#N/A"},"x",298,"=",{"$error":"#N/A"},"=",{"$error":"#N/A"}]
["Residual Fuel",{"$error":"#N/A"},"x",{"$f":"ResidNEFcom","v":0},"=",{"$error":"#N/A"},"x",298,"=",{"$error":"#N/A"},"=",{"$error":"#N/A"}]
["Natural Gas",{"$error":"#N/A"},"x",{"$f":"NatGasNEFcom","v":0},"=",{"$error":"#N/A"},"x",298,"=",{"$error":"#N/A"},"=",{"$error":"#N/A"}]
["Wood",{"$error":"#N/A"},"x",{"$f":"WoodNEFcom","v":0},"=",{"$error":"#N/A"},"x",298,"=",{"$error":"#N/A"},"=",{"$error":"#N/A"}]
["Other",{"$f":"VLOOKUP($A$2&$C$2&$B$2&$C$2&$A405,ConsumeBlock3,D393-1987,FALSE)","v":0},"x",{"$f":"OtherNEFcom","v":0},"=",0,"x",298,"=",0,"=",0]
[null,null,null,null,null,null,null,"Total","=",{"$f":"SUM(J397:J405)","v":{"$error":"#N/A"}},"=",{"$error":"#N/A"}]
[]
["Commercial Sector N2O",null,null,{"$f":"D393+1","v":2017}]
[]
[null,"Consumption",null,"Emission Factor",null,"Emissions",null,"GWP",null,"Emissions ",null,"Emissions "]
["Fuel Type","(Billion Btu)",null,"(metric tons N2O/BBtu)",null,"(metric tons N2O)",null,null,null,"(MMTCE)",null,"(MMTCO2E)"]
["Coal",{"$f":"VLOOKUP($A$2&$C$2&$B$2&$C$2&$A412,ConsumeBlock3,30,FALSE)","v":{"$error":"#N/A"}},"x",{"$f":"CoalNEFcom","v":0},"=",{"$f":"B412*D412","v":{"$error":"#N/A"}},"x",{"$f":"GWPN2O","v":298},"=",{"$f":"F412*H412*CO2_C/(10^6)","v":{"$error":"#N/A"}},"=",{"$f":"J412/CO2_C","v":{"$error":"#N/A"}}]
["Distillate Fuel",{"$error":"#N/A"},"x",{"$f":"DistillNEFcom","v":0},"=",{"$f":"B413*D413","v":{"$error":"#N/A"}},"x",{"$f":"GWPN2O","v":298},"=",{"$f":"F413*H413*CO2_C/(10^6)","v":{"$error":"#N/A"}},"=",{"$error":"#N/A"}]
["Kerosene",{"$error":"#N/A"},"x",{"$f":"KeroNEFcom","v":0},"=",{"$error":"#N/A"},"x",298,"=",{"$error":"#N/A"},"=",{"$error":"#N/A"}]
["Hydrocarbon Gas Liquids",{"$error":"#N/A"},"x",{"$f":"LPGNEFcom","v":0},"=",{"$error":"#N/A"},"x",298,"=",{"$error":"#N/A"},"=",{"$error":"#N/A"}]
["Motor Gasoline",{"$error":"#N/A"},"x",{"$f":"MotorGasNEFcom","v":0},"=",{"$error":"#N/A"},"x",298,"=",{"$error":"#N/A"},"=",{"$error":"#N/A"}]
["Residual Fuel",{"$error":"#N/A"},"x",{"$f":"ResidNEFcom","v":0},"=",{"$error":"#N/A"},"x",298,"=",{"$error":"#N/A"},"=",{"$error":"#N/A"}]
["Natural Gas",{"$error":"#N/A"},"x",{"$f":"NatGasNEFcom","v":0},"=",{"$error":"#N/A"},"x",298,"=",{"$error":"#N/A"},"=",{"$error":"#N/A"}]
["Wood",{"$error":"#N/A"},"x",{"$f":"WoodNEFcom","v":0},"=",{"$error":"#N/A"},"x",298,"=",{"$error":"#N/A"},"=",{"$error":"#N/A"}]
["Other",{"$f":"VLOOKUP($A$2&$C$2&$B$2&$C$2&$A420,ConsumeBlock3,D408-1987,FALSE)","v":0},"x",{"$f":"OtherNEFcom","v":0},"=",0,"x",298,"=",0,"=",0]
[null,null,null,null,null,null,null,"Total","=",{"$f":"SUM(J412:J420)","v":{"$error":"#N/A"}},"=",{"$error":"#N/A"}]
[]
["Commercial Sector N2O",null,null,{"$f":"D408+1","v":2018}]
[]
[null,"Consumption",null,"Emission Factor",null,"Emissions",null,"GWP",null,"Emissions ",null,"Emissions "]
["Fuel Type","(Billion Btu)",null,"(metric tons N2O/BBtu)",null,"(metric tons N2O)",null,null,null,"(MMTCE)",null,"(MMTCO2E)"]
["Coal",{"$f":"VLOOKUP($A$2&$C$2&$B$2&$C$2&$A427,ConsumeBlock3,31,FALSE)","v":{"$error":"#N/A"}},"x",{"$f":"CoalNEFcom","v":0},"=",{"$f":"B427*D427","v":{"$error":"#N/A"}},"x",{"$f":"GWPN2O","v":298},"=",{"$f":"F427*H427*CO2_C/(10^6)","v":{"$error":"#N/A"}},"=",{"$f":"J427/CO2_C","v":{"$error":"#N/A"}}]
["Distillate Fuel",{"$error":"#N/A"},"x",{"$f":"DistillNEFcom","v":0},"=",{"$f":"B428*D428","v":{"$error":"#N/A"}},"x",{"$f":"GWPN2O","v":298},"=",{"$f":"F428*H428*CO2_C/(10^6)","v":{"$error":"#N/A"}},"=",{"$error":"#N/A"}]
["Kerosene",{"$error":"#N/A"},"x",{"$f":"KeroNEFcom","v":0},"=",{"$error":"#N/A"},"x",298,"=",{"$error":"#N/A"},"=",{"$error":"#N/A"}]
["Hydrocarbon Gas Liquids",{"$error":"#N/A"},"x",{"$f":"LPGNEFcom","v":0},"=",{"$error":"#N/A"},"x",298,"=",{"$error":"#N/A"},"=",{"$error":"#N/A"}]
["Motor Gasoline",{"$error":"#N/A"},"x",{"$f":"MotorGasNEFcom","v":0},"=",{"$error":"#N/A"},"x",298,"=",{"$error":"#N/A"},"=",{"$error":"#N/A"}]
["Residual Fuel",{"$error":"#N/A"},"x",{"$f":"ResidNEFcom","v":0},"=",{"$error":"#N/A"},"x",298,"=",{"$error":"#N/A"},"=",{"$error":"#N/A"}]
["Natural Gas",{"$error":"#N/A"},"x",{"$f":"NatGasNEFcom","v":0},"=",{"$error":"#N/A"},"x",298,"=",{"$error":"#N/A"},"=",{"$error":"#N/A"}]
["Wood",{"$error":"#N/A"},"x",{"$f":"WoodNEFcom","v":0},"=",{"$error":"#N/A"},"x",298,"=",{"$error":"#N/A"},"=",{"$error":"#N/A"}]
["Other",{"$f":"VLOOKUP($A$2&$C$2&$B$2&$C$2&$A435,ConsumeBlock3,D423-1987,FALSE)","v":0},"x",{"$f":"OtherNEFcom","v":0},"=",0,"x",298,"=",0,"=",0]
[null,null,null,null,null,null,null,"Total","=",{"$f":"SUM(J427:J435)","v":{"$error":"#N/A"}},"=",{"$error":"#N/A"}]
[]
["Commercial Sector N2O",null,null,{"$f":"D423+1","v":2019}]
[]
[null,"Consumption",null,"Emission Factor",null,"Emissions",null,"GWP",null,"Emissions ",null,"Emissions "]
["Fuel Type","(Billion Btu)",null,"(metric tons N2O/BBtu)",null,"(metric tons N2O)",null,null,null,"(MMTCE)",null,"(MMTCO2E)"]
["Coal",{"$f":"VLOOKUP($A$2&$C$2&$B$2&$C$2&$A442,ConsumeBlock3,32,FALSE)","v":{"$error":"#N/A"}},"x",{"$f":"CoalNEFcom","v":0},"=",{"$f":"B442*D442","v":{"$error":"#N/A"}},"x",{"$f":"GWPN2O","v":298},"=",{"$f":"F442*H442*CO2_C/(10^6)","v":{"$error":"#N/A"}},"=",{"$f":"J442/CO2_C","v":{"$error":"#N/A"}}]
["Distillate Fuel",{"$error":"#N/A"},"x",{"$f":"DistillNEFcom","v":0},"=",{"$f":"B443*D443","v":{"$error":"#N/A"}},"x",{"$f":"GWPN2O","v":298},"=",{"$f":"F443*H443*CO2_C/(10^6)","v":{"$error":"#N/A"}},"=",{"$error":"#N/A"}]
["Kerosene",{"$error":"#N/A"},"x",{"$f":"KeroNEFcom","v":0},"=",{"$error":"#N/A"},"x",298,"=",{"$error":"#N/A"},"=",{"$error":"#N/A"}]
["Hydrocarbon Gas Liquids",{"$error":"#N/A"},"x",{"$f":"LPGNEFcom","v":0},"=",{"$error":"#N/A"},"x",298,"=",{"$error":"#N/A"},"=",{"$error":"#N/A"}]
["Motor Gasoline",{"$error":"#N/A"},"x",{"$f":"MotorGasNEFcom","v":0},"=",{"$error":"#N/A"},"x",298,"=",{"$error":"#N/A"},"=",{"$error":"#N/A"}]
["Residual Fuel",{"$error":"#N/A"},"x",{"$f":"ResidNEFcom","v":0},"=",{"$error":"#N/A"},"x",298,"=",{"$error":"#N/A"},"=",{"$error":"#N/A"}]
["Natural Gas",{"$error":"#N/A"},"x",{"$f":"NatGasNEFcom","v":0},"=",{"$error":"#N/A"},"x",298,"=",{"$error":"#N/A"},"=",{"$error":"#N/A"}]
["Wood",{"$error":"#N/A"},"x",{"$f":"WoodNEFcom","v":0},"=",{"$error":"#N/A"},"x",298,"=",{"$error":"#N/A"},"=",{"$error":"#N/A"}]
["Other",{"$f":"VLOOKUP($A$2&$C$2&$B$2&$C$2&$A450,ConsumeBlock3,D438-1987,FALSE)","v":0},"x",{"$f":"OtherNEFcom","v":0},"=",0,"x",298,"=",0,"=",0]
[null,null,null,null,null,null,null,"Total","=",{"$f":"SUM(J442:J450)","v":{"$error":"#N/A"}},"=",{"$error":"#N/A"}]
[]
["Commercial Sector N2O",null,null,{"$f":"D438+1","v":2020}]
[]
[null,"Consumption",null,"Emission Factor",null,"Emissions",null,"GWP",null,"Emissions ",null,"Emissions "]
["Fuel Type","(Billion Btu)",null,"(metric tons N2O/BBtu)",null,"(metric tons N2O)",null,null,null,"(MMTCE)",null,"(MMTCO2E)"]
["Coal",{"$f":"VLOOKUP($A$2&$C$2&$B$2&$C$2&$A457,ConsumeBlock3,33,FALSE)","v":{"$error":"#N/A"}},"x",{"$f":"CoalNEFcom","v":0},"=",{"$f":"B457*D457","v":{"$error":"#N/A"}},"x",{"$f":"GWPN2O","v":298},"=",{"$f":"F457*H457*CO2_C/(10^6)","v":{"$error":"#N/A"}},"=",{"$f":"J457/CO2_C","v":{"$error":"#N/A"}}]
["Distillate Fuel",{"$error":"#N/A"},"x",{"$f":"DistillNEFcom","v":0},"=",{"$f":"B458*D458","v":{"$error":"#N/A"}},"x",{"$f":"GWPN2O","v":298},"=",{"$f":"F458*H458*CO2_C/(10^6)","v":{"$error":"#N/A"}},"=",{"$error":"#N/A"}]
["Kerosene",{"$error":"#N/A"},"x",{"$f":"KeroNEFcom","v":0},"=",{"$error":"#N/A"},"x",298,"=",{"$error":"#N/A"},"=",{"$error":"#N/A"}]
["Hydrocarbon Gas Liquids",{"$error":"#N/A"},"x",{"$f":"LPGNEFcom","v":0},"=",{"$error":"#N/A"},"x",298,"=",{"$error":"#N/A"},"=",{"$error":"#N/A"}]
["Motor Gasoline",{"$error":"#N/A"},"x",{"$f":"MotorGasNEFcom","v":0},"=",{"$error":"#N/A"},"x",298,"=",{"$error":"#N/A"},"=",{"$error":"#N/A"}]
["Residual Fuel",{"$error":"#N/A"},"x",{"$f":"ResidNEFcom","v":0},"=",{"$error":"#N/A"},"x",298,"=",{"$error":"#N/A"},"=",{"$error":"#N/A"}]
["Natural Gas",{"$error":"#N/A"},"x",{"$f":"NatGasNEFcom","v":0},"=",{"$error":"#N/A"},"x",298,"=",{"$error":"#N/A"},"=",{"$error":"#N/A"}]
["Wood",{"$error":"#N/A"},"x",{"$f":"WoodNEFcom","v":0},"=",{"$error":"#N/A"},"x",298,"=",{"$error":"#N/A"},"=",{"$error":"#N/A"}]
["Other",{"$f":"VLOOKUP($A$2&$C$2&$B$2&$C$2&$A465,ConsumeBlock3,D453-1987,FALSE)","v":0},"x",{"$f":"OtherNEFcom","v":0},"=",0,"x",298,"=",0,"=",0]
[null,null,null,null,null,null,null,"Total","=",{"$f":"SUM(J457:J465)","v":{"$error":"#N/A"}},"=",{"$error":"#N/A"}]

{"sheet":"Commercial CH4","index":5,"n_rows":466,"n_cols":12,"rows_kept":466,"cut":false,"hidden":false,"merged":[]}
[{"$f":"\"3. Commercial Consumption and CH4 emissions in \"&Constants!G2","v":"3. Commercial Consumption and CH4 emissions in Select a State . . ."}]
[{"$f":"Constants!H2","v":"xx"},"Commercial",{"$f":"\" \"","v":" "}]
["Commercial Sector CH4",null,null,1990]
[]
[null,"Consumption",null,"Emission Factor",null,"Emissions ",null,"GWP",null,"Emissions ",null,"Emissions "]
["Fuel Type","(Billion Btu)",null,"(metric tons CH4 /BBtu)",null,"(metric tons CH4)",null,null,null,"(MMTCE)",null,"(MMTCO2E)"]
["Coal",{"$f":"'Commercial N2O'!B7","v":{"$error":"#N/A"}},"x",{"$f":"CoalCEFcom","v":0},"=",{"$f":"B7*D7","v":{"$error":"#N/A"}},"x",{"$f":"GWPCH4","v":25},"=",{"$f":"F7*H7*CO2_C/(10^6)","v":{"$error":"#N/A"}},"=",{"$f":"J7/CO2_C","v":{"$error":"#N/A"}}]
["Distillate Fuel",{"$f":"'Commercial N2O'!B8","v":{"$error":"#N/A"}},"x",{"$f":"DistillCEFcom","v":0},"=",{"$f":"B8*D8","v":{"$error":"#N/A"}},"x",{"$f":"GWPCH4","v":25},"=",{"$f":"F8*H8*CO2_C/(10^6)","v":{"$error":"#N/A"}},"=",{"$error":"#N/A"}]
["Kerosene",{"$f":"'Commercial N2O'!B9","v":{"$error":"#N/A"}},"x",{"$f":"KeroCEFcom","v":0},"=",{"$error":"#N/A"},"x",25,"=",{"$error":"#N/A"},"=",{"$error":"#N/A"}]
["Hydrocarbon Gas Liquids",{"$f":"'Commercial N2O'!B10","v":{"$error":"#N/A"}},"x",{"$f":"LPGCEFcom","v":0},"=",{"$error":"#N/A"},"x",25,"=",{"$error":"#N/A"},"=",{"$error":"#N/A"}]
["Motor Gasoline",{"$f":"'Commercial N2O'!B11","v":{"$error":"#N/A"}},"x",{"$f":"MotorGasCEFcom","v":0},"=",{"$error":"#N/A"},"x",25,"=",{"$error":"#N/A"},"=",{"$error":"#N/A"}]
["Residual Fuel",{"$f":"'Commercial N2O'!B12","v":{"$error":"#N/A"}},"x",{"$f":"ResidCEFcom","v":0},"=",{"$error":"#N/A"},"x",25,"=",{"$error":"#N/A"},"=",{"$error":"#N/A"}]
["Natural Gas",{"$f":"'Commercial N2O'!B13","v":{"$error":"#N/A"}},"x",{"$f":"NatGasCEFcom","v":0},"=",{"$error":"#N/A"},"x",25,"=",{"$error":"#N/A"},"=",{"$error":"#N/A"}]
["Wood",{"$f":"'Commercial N2O'!B14","v":{"$error":"#N/A"}},"x",{"$f":"WoodCEFcom","v":0},"=",{"$error":"#N/A"},"x",25,"=",{"$error":"#N/A"},"=",{"$error":"#N/A"}]
["Other",{"$f":"'Commercial N2O'!B15","v":0},"x",{"$f":"OtherCEFcom","v":0},"=",0,"x",25,"=",0,"=",0]
[null,null,null,null,null,null,null,"Total","=",{"$f":"SUM(J7:J15)","v":{"$error":"#N/A"}},"=",{"$error":"#N/A"}]
[]
["Commercial Sector CH4",null,null,{"$f":"D3+1","v":1991}]
[]
[null,"Consumption",null,"Emission Factor",null,"Emissions ",null,"GWP",null,"Emissions ",null,"Emissions "]
["Fuel Type","(Billion Btu)",null,"(metric tons CH4 /BBtu)",null,"(metric tons CH4)",null,null,null,"(MMTCE)",null,"(MMTCO2E)"]
["Coal",{"$f":"'Commercial N2O'!B22","v":{"$error":"#N/A"}},"x",{"$f":"CoalCEFcom","v":0},"=",{"$f":"B22*D22","v":{"$error":"#N/A"}},"x",{"$f":"GWPCH4","v":25},"=",{"$f":"F22*H22*CO2_C/(10^6)","v":{"$error":"#N/A"}},"=",{"$f":"J22/CO2_C","v":{"$error":"#N/A"}}]
["Distillate Fuel",{"$f":"'Commercial N2O'!B23","v":{"$error":"#N/A"}},"x",{"$f":"DistillCEFcom","v":0},"=",{"$f":"B23*D23","v":{"$error":"#N/A"}},"x",{"$f":"GWPCH4","v":25},"=",{"$f":"F23*H23*CO2_C/(10^6)","v":{"$error":"#N/A"}},"=",{"$error":"#N/A"}]
["Kerosene",{"$f":"'Commercial N2O'!B24","v":{"$error":"#N/A"}},"x",{"$f":"KeroCEFcom","v":0},"=",{"$error":"#N/A"},"x",25,"=",{"$error":"#N/A"},"=",{"$error":"#N/A"}]
["Hydrocarbon Gas Liquids",{"$f":"'Commercial N2O'!B25","v":{"$error":"#N/A"}},"x",{"$f":"LPGCEFcom","v":0},"=",{"$error":"#N/A"},"x",25,"=",{"$error":"#N/A"},"=",{"$error":"#N/A"}]
["Motor Gasoline",{"$f":"'Commercial N2O'!B26","v":{"$error":"#N/A"}},"x",{"$f":"MotorGasCEFcom","v":0},"=",{"$error":"#N/A"},"x",25,"=",{"$error":"#N/A"},"=",{"$error":"#N/A"}]
["Residual Fuel",{"$f":"'Commercial N2O'!B27","v":{"$error":"#N/A"}},"x",{"$f":"ResidCEFcom","v":0},"=",{"$error":"#N/A"},"x",25,"=",{"$error":"#N/A"},"=",{"$error":"#N/A"}]
["Natural Gas",{"$f":"'Commercial N2O'!B28","v":{"$error":"#N/A"}},"x",{"$f":"NatGasCEFcom","v":0},"=",{"$error":"#N/A"},"x",25,"=",{"$error":"#N/A"},"=",{"$error":"#N/A"}]
["Wood",{"$f":"'Commercial N2O'!B29","v":{"$error":"#N/A"}},"x",{"$f":"WoodCEFcom","v":0},"=",{"$error":"#N/A"},"x",25,"=",{"$error":"#N/A"},"=",{"$error":"#N/A"}]
["Other",{"$f":"'Commercial N2O'!B30","v":0},"x",{"$f":"OtherCEFcom","v":0},"=",0,"x",25,"=",0,"=",0]
[null,null,null,null,null,null,null,"Total","=",{"$f":"SUM(J22:J30)","v":{"$error":"#N/A"}},"=",{"$error":"#N/A"}]
[]
["Commercial Sector CH4",null,null,{"$f":"D18+1","v":1992}]
[]
[null,"Consumption",null,"Emission Factor",null,"Emissions ",null,"GWP",null,"Emissions ",null,"Emissions "]
["Fuel Type","(Billion Btu)",null,"(metric tons CH4 /BBtu)",null,"(metric tons CH4)",null,null,null,"(MMTCE)",null,"(MMTCO2E)"]
["Coal",{"$f":"'Commercial N2O'!B37","v":{"$error":"#N/A"}},"x",{"$f":"CoalCEFcom","v":0},"=",{"$f":"B37*D37","v":{"$error":"#N/A"}},"x",{"$f":"GWPCH4","v":25},"=",{"$f":"F37*H37*CO2_C/(10^6)","v":{"$error":"#N/A"}},"=",{"$f":"J37/CO2_C","v":{"$error":"#N/A"}}]
["Distillate Fuel",{"$f":"'Commercial N2O'!B38","v":{"$error":"#N/A"}},"x",{"$f":"DistillCEFcom","v":0},"=",{"$f":"B38*D38","v":{"$error":"#N/A"}},"x",{"$f":"GWPCH4","v":25},"=",{"$f":"F38*H38*CO2_C/(10^6)","v":{"$error":"#N/A"}},"=",{"$error":"#N/A"}]
["Kerosene",{"$f":"'Commercial N2O'!B39","v":{"$error":"#N/A"}},"x",{"$f":"KeroCEFcom","v":0},"=",{"$error":"#N/A"},"x",25,"=",{"$error":"#N/A"},"=",{"$error":"#N/A"}]
["Hydrocarbon Gas Liquids",{"$f":"'Commercial N2O'!B40","v":{"$error":"#N/A"}},"x",{"$f":"LPGCEFcom","v":0},"=",{"$error":"#N/A"},"x",25,"=",{"$error":"#N/A"},"=",{"$error":"#N/A"}]
["Motor Gasoline",{"$f":"'Commercial N2O'!B41","v":{"$error":"#N/A"}},"x",{"$f":"MotorGasCEFcom","v":0},"=",{"$error":"#N/A"},"x",25,"=",{"$error":"#N/A"},"=",{"$error":"#N/A"}]
["Residual Fuel",{"$f":"'Commercial N2O'!B42","v":{"$error":"#N/A"}},"x",{"$f":"ResidCEFcom","v":0},"=",{"$error":"#N/A"},"x",25,"=",{"$error":"#N/A"},"=",{"$error":"#N/A"}]
["Natural Gas",{"$f":"'Commercial N2O'!B43","v":{"$error":"#N/A"}},"x",{"$f":"NatGasCEFcom","v":0},"=",{"$error":"#N/A"},"x",25,"=",{"$error":"#N/A"},"=",{"$error":"#N/A"}]
["Wood",{"$f":"'Commercial N2O'!B44","v":{"$error":"#N/A"}},"x",{"$f":"WoodCEFcom","v":0},"=",{"$error":"#N/A"},"x",25,"=",{"$error":"#N/A"},"=",{"$error":"#N/A"}]
["Other",{"$f":"'Commercial N2O'!B45","v":0},"x",{"$f":"OtherCEFcom","v":0},"=",0,"x",25,"=",0,"=",0]
[null,null,null,null,null,null,null,"Total","=",{"$f":"SUM(J37:J45)","v":{"$error":"#N/A"}},"=",{"$error":"#N/A"}]
[]
["Commercial Sector CH4",null,null,{"$f":"D33+1","v":1993}]
[]
[null,"Consumption",null,"Emission Factor",null,"Emissions ",null,"GWP",null,"Emissions ",null,"Emissions "]
["Fuel Type","(Billion Btu)",null,"(metric tons CH4 /BBtu)",null,"(metric tons CH4)",null,null,null,"(MMTCE)",null,"(MMTCO2E)"]
["Coal",{"$f":"'Commercial N2O'!B52","v":{"$error":"#N/A"}},"x",{"$f":"CoalCEFcom","v":0},"=",{"$f":"B52*D52","v":{"$error":"#N/A"}},"x",{"$f":"GWPCH4","v":25},"=",{"$f":"F52*H52*CO2_C/(10^6)","v":{"$error":"#N/A"}},"=",{"$f":"J52/CO2_C","v":{"$error":"#N/A"}}]
["Distillate Fuel",{"$f":"'Commercial N2O'!B53","v":{"$error":"#N/A"}},"x",{"$f":"DistillCEFcom","v":0},"=",{"$f":"B53*D53","v":{"$error":"#N/A"}},"x",{"$f":"GWPCH4","v":25},"=",{"$f":"F53*H53*CO2_C/(10^6)","v":{"$error":"#N/A"}},"=",{"$error":"#N/A"}]
["Kerosene",{"$f":"'Commercial N2O'!B54","v":{"$error":"#N/A"}},"x",{"$f":"KeroCEFcom","v":0},"=",{"$error":"#N/A"},"x",25,"=",{"$error":"#N/A"},"=",{"$error":"#N/A"}]
["Hydrocarbon Gas Liquids",{"$f":"'Commercial N2O'!B55","v":{"$error":"#N/A"}},"x",{"$f":"LPGCEFcom","v":0},"=",{"$error":"#N/A"},"x",25,"=",{"$error":"#N/A"},"=",{"$error":"#N/A"}]
["Motor Gasoline",{"$f":"'Commercial N2O'!B56","v":{"$error":"#N/A"}},"x",{"$f":"MotorGasCEFcom","v":0},"=",{"$error":"#N/A"},"x",25,"=",{"$error":"#N/A"},"=",{"$error":"#N/A"}]
["Residual Fuel",{"$f":"'Commercial N2O'!B57","v":{"$error":"#N/A"}},"x",{"$f":"ResidCEFcom","v":0},"=",{"$error":"#N/A"},"x",25,"=",{"$error":"#N/A"},"=",{"$error":"#N/A"}]
["Natural Gas",{"$f":"'Commercial N2O'!B58","v":{"$error":"#N/A"}},"x",{"$f":"NatGasCEFcom","v":0},"=",{"$error":"#N/A"},"x",25,"=",{"$error":"#N/A"},"=",{"$error":"#N/A"}]
["Wood",{"$f":"'Commercial N2O'!B59","v":{"$error":"#N/A"}},"x",{"$f":"WoodCEFcom","v":0},"=",{"$error":"#N/A"},"x",25,"=",{"$error":"#N/A"},"=",{"$error":"#N/A"}]
["Other",{"$f":"'Commercial N2O'!B60","v":0},"x",{"$f":"OtherCEFcom","v":0},"=",0,"x",25,"=",0,"=",0]
[null,null,null,null,null,null,null,"Total","=",{"$f":"SUM(J52:J60)","v":{"$error":"#N/A"}},"=",{"$error":"#N/A"}]
[]
["Commercial Sector CH4",null,null,{"$f":"D48+1","v":1994}]
[]
[null,"Consumption",null,"Emission Factor",null,"Emissions ",null,"GWP",null,"Emissions ",null,"Emissions "]
["Fuel Type","(Billion Btu)",null,"(metric tons CH4 /BBtu)",null,"(metric tons CH4)",null,null,null,"(MMTCE)",null,"(MMTCO2E)"]
["Coal",{"$f":"'Commercial N2O'!B67","v":{"$error":"#N/A"}},"x",{"$f":"CoalCEFcom","v":0},"=",{"$f":"B67*D67","v":{"$error":"#N/A"}},"x",{"$f":"GWPCH4","v":25},"=",{"$f":"F67*H67*CO2_C/(10^6)","v":{"$error":"#N/A"}},"=",{"$f":"J67/CO2_C","v":{"$error":"#N/A"}}]
["Distillate Fuel",{"$f":"'Commercial N2O'!B68","v":{"$error":"#N/A"}},"x",{"$f":"DistillCEFcom","v":0},"=",{"$f":"B68*D68","v":{"$error":"#N/A"}},"x",{"$f":"GWPCH4","v":25},"=",{"$f":"F68*H68*CO2_C/(10^6)","v":{"$error":"#N/A"}},"=",{"$error":"#N/A"}]
["Kerosene",{"$f":"'Commercial N2O'!B69","v":{"$error":"#N/A"}},"x",{"$f":"KeroCEFcom","v":0},"=",{"$error":"#N/A"},"x",25,"=",{"$error":"#N/A"},"=",{"$error":"#N/A"}]
["Hydrocarbon Gas Liquids",{"$f":"'Commercial N2O'!B70","v":{"$error":"#N/A"}},"x",{"$f":"LPGCEFcom","v":0},"=",{"$error":"#N/A"},"x",25,"=",{"$error":"#N/A"},"=",{"$error":"#N/A"}]
["Motor Gasoline",{"$f":"'Commercial N2O'!B71","v":{"$error":"#N/A"}},"x",{"$f":"MotorGasCEFcom","v":0},"=",{"$error":"#N/A"},"x",25,"=",{"$error":"#N/A"},"=",{"$error":"#N/A"}]
["Residual Fuel",{"$f":"'Commercial N2O'!B72","v":{"$error":"#N/A"}},"x",{"$f":"ResidCEFcom","v":0},"=",{"$error":"#N/A"},"x",25,"=",{"$error":"#N/A"},"=",{"$error":"#N/A"}]
["Natural Gas",{"$f":"'Commercial N2O'!B73","v":{"$error":"#N/A"}},"x",{"$f":"NatGasCEFcom","v":0},"=",{"$error":"#N/A"},"x",25,"=",{"$error":"#N/A"},"=",{"$error":"#N/A"}]
["Wood",{"$f":"'Commercial N2O'!B74","v":{"$error":"#N/A"}},"x",{"$f":"WoodCEFcom","v":0},"=",{"$error":"#N/A"},"x",25,"=",{"$error":"#N/A"},"=",{"$error":"#N/A"}]
["Other",{"$f":"'Commercial N2O'!B75","v":0},"x",{"$f":"OtherCEFcom","v":0},"=",0,"x",25,"=",0,"=",0]
[null,null,null,null,null,null,null,"Total","=",{"$f":"SUM(J67:J75)","v":{"$error":"#N/A"}},"=",{"$error":"#N/A"}]
[]
["Commercial Sector CH4",null,null,{"$f":"D63+1","v":1995}]
[]
[null,"Consumption",null,"Emission Factor",null,"Emissions ",null,"GWP",null,"Emissions ",null,"Emissions "]
["Fuel Type","(Billion Btu)",null,"(metric tons CH4 /BBtu)",null,"(metric tons CH4)",null,null,null,"(MMTCE)",null,"(MMTCO2E)"]
["Coal",{"$f":"'Commercial N2O'!B82","v":{"$error":"#N/A"}},"x",{"$f":"CoalCEFcom","v":0},"=",{"$f":"B82*D82","v":{"$error":"#N/A"}},"x",{"$f":"GWPCH4","v":25},"=",{"$f":"F82*H82*CO2_C/(10^6)","v":{"$error":"#N/A"}},"=",{"$f":"J82/CO2_C","v":{"$error":"#N/A"}}]
["Distillate Fuel",{"$f":"'Commercial N2O'!B83","v":{"$error":"#N/A"}},"x",{"$f":"DistillCEFcom","v":0},"=",{"$f":"B83*D83","v":{"$error":"#N/A"}},"x",{"$f":"GWPCH4","v":25},"=",{"$f":"F83*H83*CO2_C/(10^6)","v":{"$error":"#N/A"}},"=",{"$error":"#N/A"}]
["Kerosene",{"$f":"'Commercial N2O'!B84","v":{"$error":"#N/A"}},"x",{"$f":"KeroCEFcom","v":0},"=",{"$error":"#N/A"},"x",25,"=",{"$error":"#N/A"},"=",{"$error":"#N/A"}]
["Hydrocarbon Gas Liquids",{"$f":"'Commercial N2O'!B85","v":{"$error":"#N/A"}},"x",{"$f":"LPGCEFcom","v":0},"=",{"$error":"#N/A"},"x",25,"=",{"$error":"#N/A"},"=",{"$error":"#N/A"}]
["Motor Gasoline",{"$f":"'Commercial N2O'!B86","v":{"$error":"#N/A"}},"x",{"$f":"MotorGasCEFcom","v":0},"=",{"$error":"#N/A"},"x",25,"=",{"$error":"#N/A"},"=",{"$error":"#N/A"}]
["Residual Fuel",{"$f":"'Commercial N2O'!B87","v":{"$error":"#N/A"}},"x",{"$f":"ResidCEFcom","v":0},"=",{"$error":"#N/A"},"x",25,"=",{"$error":"#N/A"},"=",{"$error":"#N/A"}]
["Natural Gas",{"$f":"'Commercial N2O'!B88","v":{"$error":"#N/A"}},"x",{"$f":"NatGasCEFcom","v":0},"=",{"$error":"#N/A"},"x",25,"=",{"$error":"#N/A"},"=",{"$error":"#N/A"}]
["Wood",{"$f":"'Commercial N2O'!B89","v":{"$error":"#N/A"}},"x",{"$f":"WoodCEFcom","v":0},"=",{"$error":"#N/A"},"x",25,"=",{"$error":"#N/A"},"=",{"$error":"#N/A"}]
["Other",{"$f":"'Commercial N2O'!B90","v":0},"x",{"$f":"OtherCEFcom","v":0},"=",0,"x",25,"=",0,"=",0]
[null,null,null,null,null,null,null,"Total","=",{"$f":"SUM(J82:J90)","v":{"$error":"#N/A"}},"=",{"$error":"#N/A"}]
[]
["Commercial Sector CH4",null,null,{"$f":"D78+1","v":1996}]
[]
[null,"Consumption",null,"Emission Factor",null,"Emissions ",null,"GWP",null,"Emissions ",null,"Emissions "]
["Fuel Type","(Billion Btu)",null,"(metric tons CH4 /BBtu)",null,"(metric tons CH4)",null,null,null,"(MMTCE)",null,"(MMTCO2E)"]
["Coal",{"$f":"'Commercial N2O'!B97","v":{"$error":"#N/A"}},"x",{"$f":"CoalCEFcom","v":0},"=",{"$f":"B97*D97","v":{"$error":"#N/A"}},"x",{"$f":"GWPCH4","v":25},"=",{"$f":"F97*H97*CO2_C/(10^6)","v":{"$error":"#N/A"}},"=",{"$f":"J97/CO2_C","v":{"$error":"#N/A"}}]
["Distillate Fuel",{"$f":"'Commercial N2O'!B98","v":{"$error":"#N/A"}},"x",{"$f":"DistillCEFcom","v":0},"=",{"$f":"B98*D98","v":{"$error":"#N/A"}},"x",{"$f":"GWPCH4","v":25},"=",{"$f":"F98*H98*CO2_C/(10^6)","v":{"$error":"#N/A"}},"=",{"$error":"#N/A"}]
["Kerosene",{"$f":"'Commercial N2O'!B99","v":{"$error":"#N/A"}},"x",{"$f":"KeroCEFcom","v":0},"=",{"$error":"#N/A"},"x",25,"=",{"$error":"#N/A"},"=",{"$error":"#N/A"}]
["Hydrocarbon Gas Liquids",{"$f":"'Commercial N2O'!B100","v":{"$error":"#N/A"}},"x",{"$f":"LPGCEFcom","v":0},"=",{"$error":"#N/A"},"x",25,"=",{"$error":"#N/A"},"=",{"$error":"#N/A"}]
["Motor Gasoline",{"$f":"'Commercial N2O'!B101","v":{"$error":"#N/A"}},"x",{"$f":"MotorGasCEFcom","v":0},"=",{"$error":"#N/A"},"x",25,"=",{"$error":"#N/A"},"=",{"$error":"#N/A"}]
["Residual Fuel",{"$f":"'Commercial N2O'!B102","v":{"$error":"#N/A"}},"x",{"$f":"ResidCEFcom","v":0},"=",{"$error":"#N/A"},"x",25,"=",{"$error":"#N/A"},"=",{"$error":"#N/A"}]
["Natural Gas",{"$f":"'Commercial N2O'!B103","v":{"$error":"#N/A"}},"x",{"$f":"NatGasCEFcom","v":0},"=",{"$error":"#N/A"},"x",25,"=",{"$error":"#N/A"},"=",{"$error":"#N/A"}]
["Wood",{"$f":"'Commercial N2O'!B104","v":{"$error":"#N/A"}},"x",{"$f":"WoodCEFcom","v":0},"=",{"$error":"#N/A"},"x",25,"=",{"$error":"#N/A"},"=",{"$error":"#N/A"}]
["Other",{"$f":"'Commercial N2O'!B105","v":0},"x",{"$f":"OtherCEFcom","v":0},"=",0,"x",25,"=",0,"=",0]
[null,null,null,null,null,null,null,"Total","=",{"$f":"SUM(J97:J105)","v":{"$error":"#N/A"}},"=",{"$error":"#N/A"}]
[]
["Commercial Sector CH4",null,null,{"$f":"D93+1","v":1997}]
[]
[null,"Consumption",null,"Emission Factor",null,"Emissions ",null,"GWP",null,"Emissions ",null,"Emissions "]
["Fuel Type","(Billion Btu)",null,"(metric tons CH4 /BBtu)",null,"(metric tons CH4)",null,null,null,"(MMTCE)",null,"(MMTCO2E)"]
["Coal",{"$f":"'Commercial N2O'!B112","v":{"$error":"#N/A"}},"x",{"$f":"CoalCEFcom","v":0},"=",{"$f":"B112*D112","v":{"$error":"#N/A"}},"x",{"$f":"GWPCH4","v":25},"=",{"$f":"F112*H112*CO2_C/(10^6)","v":{"$error":"#N/A"}},"=",{"$f":"J112/CO2_C","v":{"$error":"#N/A"}}]
["Distillate Fuel",{"$f":"'Commercial N2O'!B113","v":{"$error":"#N/A"}},"x",{"$f":"DistillCEFcom","v":0},"=",{"$f":"B113*D113","v":{"$error":"#N/A"}},"x",{"$f":"GWPCH4","v":25},"=",{"$f":"F113*H113*CO2_C/(10^6)","v":{"$error":"#N/A"}},"=",{"$error":"#N/A"}]
["Kerosene",{"$f":"'Commercial N2O'!B114","v":{"$error":"#N/A"}},"x",{"$f":"KeroCEFcom","v":0},"=",{"$error":"#N/A"},"x",25,"=",{"$error":"#N/A"},"=",{"$error":"#N/A"}]
["Hydrocarbon Gas Liquids",{"$f":"'Commercial N2O'!B115","v":{"$error":"#N/A"}},"x",{"$f":"LPGCEFcom","v":0},"=",{"$error":"#N/A"},"x",25,"=",{"$error":"#N/A"},"=",{"$error":"#N/A"}]
["Motor Gasoline",{"$f":"'Commercial N2O'!B116","v":{"$error":"#N/A"}},"x",{"$f":"MotorGasCEFcom","v":0},"=",{"$error":"#N/A"},"x",25,"=",{"$error":"#N/A"},"=",{"$error":"#N/A"}]
["Residual Fuel",{"$f":"'Commercial N2O'!B117","v":{"$error":"#N/A"}},"x",{"$f":"ResidCEFcom","v":0},"=",{"$error":"#N/A"},"x",25,"=",{"$error":"#N/A"},"=",{"$error":"#N/A"}]
["Natural Gas",{"$f":"'Commercial N2O'!B118","v":{"$error":"#N/A"}},"x",{"$f":"NatGasCEFcom","v":0},"=",{"$error":"#N/A"},"x",25,"=",{"$error":"#N/A"},"=",{"$error":"#N/A"}]
["Wood",{"$f":"'Commercial N2O'!B119","v":{"$error":"#N/A"}},"x",{"$f":"WoodCEFcom","v":0},"=",{"$error":"#N/A"},"x",25,"=",{"$error":"#N/A"},"=",{"$error":"#N/A"}]
["Other",{"$f":"'Commercial N2O'!B120","v":0},"x",{"$f":"OtherCEFcom","v":0},"=",0,"x",25,"=",0,"=",0]
[null,null,null,null,null,null,null,"Total","=",{"$f":"SUM(J112:J120)","v":{"$error":"#N/A"}},"=",{"$error":"#N/A"}]
[]
["Commercial Sector CH4",null,null,{"$f":"D108+1","v":1998}]
[]
[null,"Consumption",null,"Emission Factor",null,"Emissions ",null,"GWP",null,"Emissions ",null,"Emissions "]
["Fuel Type","(Billion Btu)",null,"(metric tons CH4 /BBtu)",null,"(metric tons CH4)",null,null,null,"(MMTCE)",null,"(MMTCO2E)"]
["Coal",{"$f":"'Commercial N2O'!B127","v":{"$error":"#N/A"}},"x",{"$f":"CoalCEFcom","v":0},"=",{"$f":"B127*D127","v":{"$error":"#N/A"}},"x",{"$f":"GWPCH4","v":25},"=",{"$f":"F127*H127*CO2_C/(10^6)","v":{"$error":"#N/A"}},"=",{"$f":"J127/CO2_C","v":{"$error":"#N/A"}}]
["Distillate Fuel",{"$f":"'Commercial N2O'!B128","v":{"$error":"#N/A"}},"x",{"$f":"DistillCEFcom","v":0},"=",{"$f":"B128*D128","v":{"$error":"#N/A"}},"x",{"$f":"GWPCH4","v":25},"=",{"$f":"F128*H128*CO2_C/(10^6)","v":{"$error":"#N/A"}},"=",{"$error":"#N/A"}]
["Kerosene",{"$f":"'Commercial N2O'!B129","v":{"$error":"#N/A"}},"x",{"$f":"KeroCEFcom","v":0},"=",{"$error":"#N/A"},"x",25,"=",{"$error":"#N/A"},"=",{"$error":"#N/A"}]
["Hydrocarbon Gas Liquids",{"$f":"'Commercial N2O'!B130","v":{"$error":"#N/A"}},"x",{"$f":"LPGCEFcom","v":0},"=",{"$error":"#N/A"},"x",25,"=",{"$error":"#N/A"},"=",{"$error":"#N/A"}]
["Motor Gasoline",{"$f":"'Commercial N2O'!B131","v":{"$error":"#N/A"}},"x",{"$f":"MotorGasCEFcom","v":0},"=",{"$error":"#N/A"},"x",25,"=",{"$error":"#N/A"},"=",{"$error":"#N/A"}]
["Residual Fuel",{"$f":"'Commercial N2O'!B132","v":{"$error":"#N/A"}},"x",{"$f":"ResidCEFcom","v":0},"=",{"$error":"#N/A"},"x",25,"=",{"$error":"#N/A"},"=",{"$error":"#N/A"}]
["Natural Gas",{"$f":"'Commercial N2O'!B133","v":{"$error":"#N/A"}},"x",{"$f":"NatGasCEFcom","v":0},"=",{"$error":"#N/A"},"x",25,"=",{"$error":"#N/A"},"=",{"$error":"#N/A"}]
["Wood",{"$f":"'Commercial N2O'!B134","v":{"$error":"#N/A"}},"x",{"$f":"WoodCEFcom","v":0},"=",{"$error":"#N/A"},"x",25,"=",{"$error":"#N/A"},"=",{"$error":"#N/A"}]
["Other",{"$f":"'Commercial N2O'!B135","v":0},"x",{"$f":"OtherCEFcom","v":0},"=",0,"x",25,"=",0,"=",0]
[null,null,null,null,null,null,null,"Total","=",{"$f":"SUM(J127:J135)","v":{"$error":"#N/A"}},"=",{"$error":"#N/A"}]
[]
["Commercial Sector CH4",null,null,{"$f":"D123+1","v":1999}]
[]
[null,"Consumption",null,"Emission Factor",null,"Emissions ",null,"GWP",null,"Emissions ",null,"Emissions "]
["Fuel Type","(Billion Btu)",null,"(metric tons CH4 /BBtu)",null,"(metric tons CH4)",null,null,null,"(MMTCE)",null,"(MMTCO2E)"]
["Coal",{"$f":"'Commercial N2O'!B142","v":{"$error":"#N/A"}},"x",{"$f":"CoalCEFcom","v":0},"=",{"$f":"B142*D142","v":{"$error":"#N/A"}},"x",{"$f":"GWPCH4","v":25},"=",{"$f":"F142*H142*CO2_C/(10^6)","v":{"$error":"#N/A"}},"=",{"$f":"J142/CO2_C","v":{"$error":"#N/A"}}]
["Distillate Fuel",{"$f":"'Commercial N2O'!B143","v":{"$error":"#N/A"}},"x",{"$f":"DistillCEFcom","v":0},"=",{"$f":"B143*D143","v":{"$error":"#N/A"}},"x",{"$f":"GWPCH4","v":25},"=",{"$f":"F143*H143*CO2_C/(10^6)","v":{"$error":"#N/A"}},"=",{"$error":"#N/A"}]
["Kerosene",{"$f":"'Commercial N2O'!B144","v":{"$error":"#N/A"}},"x",{"$f":"KeroCEFcom","v":0},"=",{"$error":"#N/A"},"x",25,"=",{"$error":"#N/A"},"=",{"$error":"#N/A"}]
["Hydrocarbon Gas Liquids",{"$f":"'Commercial N2O'!B145","v":{"$error":"#N/A"}},"x",{"$f":"LPGCEFcom","v":0},"=",{"$error":"#N/A"},"x",25,"=",{"$error":"#N/A"},"=",{"$error":"#N/A"}]
["Motor Gasoline",{"$f":"'Commercial N2O'!B146","v":{"$error":"#N/A"}},"x",{"$f":"MotorGasCEFcom","v":0},"=",{"$error":"#N/A"},"x",25,"=",{"$error":"#N/A"},"=",{"$error":"#N/A"}]
["Residual Fuel",{"$f":"'Commercial N2O'!B147","v":{"$error":"#N/A"}},"x",{"$f":"ResidCEFcom","v":0},"=",{"$error":"#N/A"},"x",25,"=",{"$error":"#N/A"},"=",{"$error":"#N/A"}]
["Natural Gas",{"$f":"'Commercial N2O'!B148","v":{"$error":"#N/A"}},"x",{"$f":"NatGasCEFcom","v":0},"=",{"$error":"#N/A"},"x",25,"=",{"$error":"#N/A"},"=",{"$error":"#N/A"}]
["Wood",{"$f":"'Commercial N2O'!B149","v":{"$error":"#N/A"}},"x",{"$f":"WoodCEFcom","v":0},"=",{"$error":"#N/A"},"x",25,"=",{"$error":"#N/A"},"=",{"$error":"#N/A"}]
["Other",{"$f":"'Commercial N2O'!B150","v":0},"x",{"$f":"OtherCEFcom","v":0},"=",0,"x",25,"=",0,"=",0]
[null,null,null,null,null,null,null,"Total","=",{"$f":"SUM(J142:J150)","v":{"$error":"#N/A"}},"=",{"$error":"#N/A"}]
[]
["Commercial Sector CH4",null,null,{"$f":"D138+1","v":2000}]
[]
[null,"Consumption",null,"Emission Factor",null,"Emissions ",null,"GWP",null,"Emissions ",null,"Emissions "]
["Fuel Type","(Billion Btu)",null,"(metric tons CH4 /BBtu)",null,"(metric tons CH4)",null,null,null,"(MMTCE)",null,"(MMTCO2E)"]
["Coal",{"$f":"'Commercial N2O'!B157","v":{"$error":"#N/A"}},"x",{"$f":"CoalCEFcom","v":0},"=",{"$f":"B157*D157","v":{"$error":"#N/A"}},"x",{"$f":"GWPCH4","v":25},"=",{"$f":"F157*H157*CO2_C/(10^6)","v":{"$error":"#N/A"}},"=",{"$f":"J157/CO2_C","v":{"$error":"#N/A"}}]
["Distillate Fuel",{"$f":"'Commercial N2O'!B158","v":{"$error":"#N/A"}},"x",{"$f":"DistillCEFcom","v":0},"=",{"$f":"B158*D158","v":{"$error":"#N/A"}},"x",{"$f":"GWPCH4","v":25},"=",{"$f":"F158*H158*CO2_C/(10^6)","v":{"$error":"#N/A"}},"=",{"$error":"#N/A"}]
["Kerosene",{"$f":"'Commercial N2O'!B159","v":{"$error":"#N/A"}},"x",{"$f":"KeroCEFcom","v":0},"=",{"$error":"#N/A"},"x",25,"=",{"$error":"#N/A"},"=",{"$error":"#N/A"}]
["Hydrocarbon Gas Liquids",{"$f":"'Commercial N2O'!B160","v":{"$error":"#N/A"}},"x",{"$f":"LPGCEFcom","v":0},"=",{"$error":"#N/A"},"x",25,"=",{"$error":"#N/A"},"=",{"$error":"#N/A"}]
["Motor Gasoline",{"$f":"'Commercial N2O'!B161","v":{"$error":"#N/A"}},"x",{"$f":"MotorGasCEFcom","v":0},"=",{"$error":"#N/A"},"x",25,"=",{"$error":"#N/A"},"=",{"$error":"#N/A"}]
["Residual Fuel",{"$f":"'Commercial N2O'!B162","v":{"$error":"#N/A"}},"x",{"$f":"ResidCEFcom","v":0},"=",{"$error":"#N/A"},"x",25,"=",{"$error":"#N/A"},"=",{"$error":"#N/A"}]
["Natural Gas",{"$f":"'Commercial N2O'!B163","v":{"$error":"#N/A"}},"x",{"$f":"NatGasCEFcom","v":0},"=",{"$error":"#N/A"},"x",25,"=",{"$error":"#N/A"},"=",{"$error":"#N/A"}]
["Wood",{"$f":"'Commercial N2O'!B164","v":{"$error":"#N/A"}},"x",{"$f":"WoodCEFcom","v":0},"=",{"$error":"#N/A"},"x",25,"=",{"$error":"#N/A"},"=",{"$error":"#N/A"}]
["Other",{"$f":"'Commercial N2O'!B165","v":0},"x",{"$f":"OtherCEFcom","v":0},"=",0,"x",25,"=",0,"=",0]
[null,null,null,null,null,null,null,"Total","=",{"$f":"SUM(J157:J165)","v":{"$error":"#N/A"}},"=",{"$error":"#N/A"}]
[]
["Commercial Sector CH4",null,null,{"$f":"D153+1","v":2001}]
[]
[null,"Consumption",null,"Emission Factor",null,"Emissions ",null,"GWP",null,"Emissions ",null,"Emissions "]
["Fuel Type","(Billion Btu)",null,"(metric tons CH4 /BBtu)",null,"(metric tons CH4)",null,null,null,"(MMTCE)",null,"(MMTCO2E)"]
["Coal",{"$f":"'Commercial N2O'!B172","v":{"$error":"#N/A"}},"x",{"$f":"CoalCEFcom","v":0},"=",{"$f":"B172*D172","v":{"$error":"#N/A"}},"x",{"$f":"GWPCH4","v":25},"=",{"$f":"F172*H172*CO2_C/(10^6)","v":{"$error":"#N/A"}},"=",{"$f":"J172/CO2_C","v":{"$error":"#N/A"}}]
["Distillate Fuel",{"$f":"'Commercial N2O'!B173","v":{"$error":"#N/A"}},"x",{"$f":"DistillCEFcom","v":0},"=",{"$f":"B173*D173","v":{"$error":"#N/A"}},"x",{"$f":"GWPCH4","v":25},"=",{"$f":"F173*H173*CO2_C/(10^6)","v":{"$error":"#N/A"}},"=",{"$error":"#N/A"}]
["Kerosene",{"$f":"'Commercial N2O'!B174","v":{"$error":"#N/A"}},"x",{"$f":"KeroCEFcom","v":0},"=",{"$error":"#N/A"},"x",25,"=",{"$error":"#N/A"},"=",{"$error":"#N/A"}]
["Hydrocarbon Gas Liquids",{"$f":"'Commercial N2O'!B175","v":{"$error":"#N/A"}},"x",{"$f":"LPGCEFcom","v":0},"=",{"$error":"#N/A"},"x",25,"=",{"$error":"#N/A"},"=",{"$error":"#N/A"}]
["Motor Gasoline",{"$f":"'Commercial N2O'!B176","v":{"$error":"#N/A"}},"x",{"$f":"MotorGasCEFcom","v":0},"=",{"$error":"#N/A"},"x",25,"=",{"$error":"#N/A"},"=",{"$error":"#N/A"}]
["Residual Fuel",{"$f":"'Commercial N2O'!B177","v":{"$error":"#N/A"}},"x",{"$f":"ResidCEFcom","v":0},"=",{"$error":"#N/A"},"x",25,"=",{"$error":"#N/A"},"=",{"$error":"#N/A"}]
["Natural Gas",{"$f":"'Commercial N2O'!B178","v":{"$error":"#N/A"}},"x",{"$f":"NatGasCEFcom","v":0},"=",{"$error":"#N/A"},"x",25,"=",{"$error":"#N/A"},"=",{"$error":"#N/A"}]
["Wood",{"$f":"'Commercial N2O'!B179","v":{"$error":"#N/A"}},"x",{"$f":"WoodCEFcom","v":0},"=",{"$error":"#N/A"},"x",25,"=",{"$error":"#N/A"},"=",{"$error":"#N/A"}]
["Other",{"$f":"'Commercial N2O'!B180","v":0},"x",{"$f":"OtherCEFcom","v":0},"=",0,"x",25,"=",0,"=",0]
[null,null,null,null,null,null,null,"Total","=",{"$f":"SUM(J172:J180)","v":{"$error":"#N/A"}},"=",{"$error":"#N/A"}]
[]
["Commercial Sector CH4",null,null,{"$f":"D168+1","v":2002}]
[]
[null,"Consumption",null,"Emission Factor",null,"Emissions ",null,"GWP",null,"Emissions ",null,"Emissions "]
["Fuel Type","(Billion Btu)",null,"(metric tons CH4 /BBtu)",null,"(metric tons CH4)",null,null,null,"(MMTCE)",null,"(MMTCO2E)"]
["Coal",{"$f":"'Commercial N2O'!B187","v":{"$error":"#N/A"}},"x",{"$f":"CoalCEFcom","v":0},"=",{"$f":"B187*D187","v":{"$error":"#N/A"}},"x",{"$f":"GWPCH4","v":25},"=",{"$f":"F187*H187*CO2_C/(10^6)","v":{"$error":"#N/A"}},"=",{"$f":"J187/CO2_C","v":{"$error":"#N/A"}}]
["Distillate Fuel",{"$f":"'Commercial N2O'!B188","v":{"$error":"#N/A"}},"x",{"$f":"DistillCEFcom","v":0},"=",{"$f":"B188*D188","v":{"$error":"#N/A"}},"x",{"$f":"GWPCH4","v":25},"=",{"$f":"F188*H188*CO2_C/(10^6)","v":{"$error":"#N/A"}},"=",{"$error":"#N/A"}]
["Kerosene",{"$f":"'Commercial N2O'!B189","v":{"$error":"#N/A"}},"x",{"$f":"KeroCEFcom","v":0},"=",{"$error":"#N/A"},"x",25,"=",{"$error":"#N/A"},"=",{"$error":"#N/A"}]
["Hydrocarbon Gas Liquids",{"$f":"'Commercial N2O'!B190","v":{"$error":"#N/A"}},"x",{"$f":"LPGCEFcom","v":0},"=",{"$error":"#N/A"},"x",25,"=",{"$error":"#N/A"},"=",{"$error":"#N/A"}]
["Motor Gasoline",{"$f":"'Commercial N2O'!B191","v":{"$error":"#N/A"}},"x",{"$f":"MotorGasCEFcom","v":0},"=",{"$error":"#N/A"},"x",25,"=",{"$error":"#N/A"},"=",{"$error":"#N/A"}]
["Residual Fuel",{"$f":"'Commercial N2O'!B192","v":{"$error":"#N/A"}},"x",{"$f":"ResidCEFcom","v":0},"=",{"$error":"#N/A"},"x",25,"=",{"$error":"#N/A"},"=",{"$error":"#N/A"}]
["Natural Gas",{"$f":"'Commercial N2O'!B193","v":{"$error":"#N/A"}},"x",{"$f":"NatGasCEFcom","v":0},"=",{"$error":"#N/A"},"x",25,"=",{"$error":"#N/A"},"=",{"$error":"#N/A"}]
["Wood",{"$f":"'Commercial N2O'!B194","v":{"$error":"#N/A"}},"x",{"$f":"WoodCEFcom","v":0},"=",{"$error":"#N/A"},"x",25,"=",{"$error":"#N/A"},"=",{"$error":"#N/A"}]
["Other",{"$f":"'Commercial N2O'!B195","v":0},"x",{"$f":"OtherCEFcom","v":0},"=",0,"x",25,"=",0,"=",0]
[null,null,null,null,null,null,null,"Total","=",{"$f":"SUM(J187:J195)","v":{"$error":"#N/A"}},"=",{"$error":"#N/A"}]
[]
["Commercial Sector CH4",null,null,{"$f":"D183+1","v":2003}]
[]
[null,"Consumption",null,"Emission Factor",null,"Emissions ",null,"GWP",null,"Emissions ",null,"Emissions "]
["Fuel Type","(Billion Btu)",null,"(metric tons CH4 /BBtu)",null,"(metric tons CH4)",null,null,null,"(MMTCE)",null,"(MMTCO2E)"]
["Coal",{"$f":"'Commercial N2O'!B202","v":{"$error":"#N/A"}},"x",{"$f":"CoalCEFcom","v":0},"=",{"$f":"B202*D202","v":{"$error":"#N/A"}},"x",{"$f":"GWPCH4","v":25},"=",{"$f":"F202*H202*CO2_C/(10^6)","v":{"$error":"#N/A"}},"=",{"$f":"J202/CO2_C","v":{"$error":"#N/A"}}]
["Distillate Fuel",{"$f":"'Commercial N2O'!B203","v":{"$error":"#N/A"}},"x",{"$f":"DistillCEFcom","v":0},"=",{"$f":"B203*D203","v":{"$error":"#N/A"}},"x",{"$f":"GWPCH4","v":25},"=",{"$f":"F203*H203*CO2_C/(10^6)","v":{"$error":"#N/A"}},"=",{"$error":"#N/A"}]
["Kerosene",{"$f":"'Commercial N2O'!B204","v":{"$error":"#N/A"}},"x",{"$f":"KeroCEFcom","v":0},"=",{"$error":"#N/A"},"x",25,"=",{"$error":"#N/A"},"=",{"$error":"#N/A"}]
["Hydrocarbon Gas Liquids",{"$f":"'Commercial N2O'!B205","v":{"$error":"#N/A"}},"x",{"$f":"LPGCEFcom","v":0},"=",{"$error":"#N/A"},"x",25,"=",{"$error":"#N/A"},"=",{"$error":"#N/A"}]
["Motor Gasoline",{"$f":"'Commercial N2O'!B206","v":{"$error":"#N/A"}},"x",{"$f":"MotorGasCEFcom","v":0},"=",{"$error":"#N/A"},"x",25,"=",{"$error":"#N/A"},"=",{"$error":"#N/A"}]
["Residual Fuel",{"$f":"'Commercial N2O'!B207","v":{"$error":"#N/A"}},"x",{"$f":"ResidCEFcom","v":0},"=",{"$error":"#N/A"},"x",25,"=",{"$error":"#N/A"},"=",{"$error":"#N/A"}]
["Natural Gas",{"$f":"'Commercial N2O'!B208","v":{"$error":"#N/A"}},"x",{"$f":"NatGasCEFcom","v":0},"=",{"$error":"#N/A"},"x",25,"=",{"$error":"#N/A"},"=",{"$error":"#N/A"}]
["Wood",{"$f":"'Commercial N2O'!B209","v":{"$error":"#N/A"}},"x",{"$f":"WoodCEFcom","v":0},"=",{"$error":"#N/A"},"x",25,"=",{"$error":"#N/A"},"=",{"$error":"#N/A"}]
["Other",{"$f":"'Commercial N2O'!B210","v":0},"x",{"$f":"OtherCEFcom","v":0},"=",0,"x",25,"=",0,"=",0]
[null,null,null,null,null,null,null,"Total","=",{"$f":"SUM(J202:J210)","v":{"$error":"#N/A"}},"=",{"$error":"#N/A"}]
[]
["Commercial Sector CH4",null,null,{"$f":"D198+1","v":2004}]
[]
[null,"Consumption",null,"Emission Factor",null,"Emissions ",null,"GWP",null,"Emissions ",null,"Emissions "]
["Fuel Type","(Billion Btu)",null,"(metric tons CH4 /BBtu)",null,"(metric tons CH4)",null,null,null,"(MMTCE)",null,"(MMTCO2E)"]
["Coal",{"$f":"'Commercial N2O'!B217","v":{"$error":"#N/A"}},"x",{"$f":"CoalCEFcom","v":0},"=",{"$f":"B217*D217","v":{"$error":"#N/A"}},"x",{"$f":"GWPCH4","v":25},"=",{"$f":"F217*H217*CO2_C/(10^6)","v":{"$error":"#N/A"}},"=",{"$f":"J217/CO2_C","v":{"$error":"#N/A"}}]
["Distillate Fuel",{"$f":"'Commercial N2O'!B218","v":{"$error":"#N/A"}},"x",{"$f":"DistillCEFcom","v":0},"=",{"$f":"B218*D218","v":{"$error":"#N/A"}},"x",{"$f":"GWPCH4","v":25},"=",{"$f":"F218*H218*CO2_C/(10^6)","v":{"$error":"#N/A"}},"=",{"$error":"#N/A"}]
["Kerosene",{"$f":"'Commercial N2O'!B219","v":{"$error":"#N/A"}},"x",{"$f":"KeroCEFcom","v":0},"=",{"$error":"#N/A"},"x",25,"=",{"$error":"#N/A"},"=",{"$error":"#N/A"}]
["Hydrocarbon Gas Liquids",{"$f":"'Commercial N2O'!B220","v":{"$error":"#N/A"}},"x",{"$f":"LPGCEFcom","v":0},"=",{"$error":"#N/A"},"x",25,"=",{"$error":"#N/A"},"=",{"$error":"#N/A"}]
["Motor Gasoline",{"$f":"'Commercial N2O'!B221","v":{"$error":"#N/A"}},"x",{"$f":"MotorGasCEFcom","v":0},"=",{"$error":"#N/A"},"x",25,"=",{"$error":"#N/A"},"=",{"$error":"#N/A"}]
["Residual Fuel",{"$f":"'Commercial N2O'!B222","v":{"$error":"#N/A"}},"x",{"$f":"ResidCEFcom","v":0},"=",{"$error":"#N/A"},"x",25,"=",{"$error":"#N/A"},"=",{"$error":"#N/A"}]
["Natural Gas",{"$f":"'Commercial N2O'!B223","v":{"$error":"#N/A"}},"x",{"$f":"NatGasCEFcom","v":0},"=",{"$error":"#N/A"},"x",25,"=",{"$error":"#N/A"},"=",{"$error":"#N/A"}]
["Wood",{"$f":"'Commercial N2O'!B224","v":{"$error":"#N/A"}},"x",{"$f":"WoodCEFcom","v":0},"=",{"$error":"#N/A"},"x",25,"=",{"$error":"#N/A"},"=",{"$error":"#N/A"}]
["Other",{"$f":"'Commercial N2O'!B225","v":0},"x",{"$f":"OtherCEFcom","v":0},"=",0,"x",25,"=",0,"=",0]
[null,null,null,null,null,null,null,"Total","=",{"$f":"SUM(J217:J225)","v":{"$error":"#N/A"}},"=",{"$error":"#N/A"}]
[]
["Commercial Sector CH4",null,null,{"$f":"D213+1","v":2005}]
[]
[null,"Consumption",null,"Emission Factor",null,"Emissions ",null,"GWP",null,"Emissions ",null,"Emissions "]
["Fuel Type","(Billion Btu)",null,"(metric tons CH4 /BBtu)",null,"(metric tons CH4)",null,null,null,"(MMTCE)",null,"(MMTCO2E)"]
["Coal",{"$f":"'Commercial N2O'!B232","v":{"$error":"#N/A"}},"x",{"$f":"CoalCEFcom","v":0},"=",{"$f":"B232*D232","v":{"$error":"#N/A"}},"x",{"$f":"GWPCH4","v":25},"=",{"$f":"F232*H232*CO2_C/(10^6)","v":{"$error":"#N/A"}},"=",{"$f":"J232/CO2_C","v":{"$error":"#N/A"}}]
["Distillate Fuel",{"$f":"'Commercial N2O'!B233","v":{"$error":"#N/A"}},"x",{"$f":"DistillCEFcom","v":0},"=",{"$f":"B233*D233","v":{"$error":"#N/A"}},"x",{"$f":"GWPCH4","v":25},"=",{"$f":"F233*H233*CO2_C/(10^6)","v":{"$error":"#N/A"}},"=",{"$error":"#N/A"}]
["Kerosene",{"$f":"'Commercial N2O'!B234","v":{"$error":"#N/A"}},"x",{"$f":"KeroCEFcom","v":0},"=",{"$error":"#N/A"},"x",25,"=",{"$error":"#N/A"},"=",{"$error":"#N/A"}]
["Hydrocarbon Gas Liquids",{"$f":"'Commercial N2O'!B235","v":{"$error":"#N/A"}},"x",{"$f":"LPGCEFcom","v":0},"=",{"$error":"#N/A"},"x",25,"=",{"$error":"#N/A"},"=",{"$error":"#N/A"}]
["Motor Gasoline",{"$f":"'Commercial N2O'!B236","v":{"$error":"#N/A"}},"x",{"$f":"MotorGasCEFcom","v":0},"=",{"$error":"#N/A"},"x",25,"=",{"$error":"#N/A"},"=",{"$error":"#N/A"}]
["Residual Fuel",{"$f":"'Commercial N2O'!B237","v":{"$error":"#N/A"}},"x",{"$f":"ResidCEFcom","v":0},"=",{"$error":"#N/A"},"x",25,"=",{"$error":"#N/A"},"=",{"$error":"#N/A"}]
["Natural Gas",{"$f":"'Commercial N2O'!B238","v":{"$error":"#N/A"}},"x",{"$f":"NatGasCEFcom","v":0},"=",{"$error":"#N/A"},"x",25,"=",{"$error":"#N/A"},"=",{"$error":"#N/A"}]
["Wood",{"$f":"'Commercial N2O'!B239","v":{"$error":"#N/A"}},"x",{"$f":"WoodCEFcom","v":0},"=",{"$error":"#N/A"},"x",25,"=",{"$error":"#N/A"},"=",{"$error":"#N/A"}]
["Other",{"$f":"'Commercial N2O'!B240","v":0},"x",{"$f":"OtherCEFcom","v":0},"=",0,"x",25,"=",0,"=",0]
[null,null,null,null,null,null,null,"Total","=",{"$f":"SUM(J232:J240)","v":{"$error":"#N/A"}},"=",{"$error":"#N/A"}]
[]
["Commercial Sector CH4",null,null,{"$f":"D228+1","v":2006}]
[]
[null,"Consumption",null,"Emission Factor",null,"Emissions ",null,"GWP",null,"Emissions ",null,"Emissions "]
["Fuel Type","(Billion Btu)",null,"(metric tons CH4 /BBtu)",null,"(metric tons CH4)",null,null,null,"(MMTCE)",null,"(MMTCO2E)"]
["Coal",{"$f":"'Commercial N2O'!B247","v":{"$error":"#N/A"}},"x",{"$f":"CoalCEFcom","v":0},"=",{"$f":"B247*D247","v":{"$error":"#N/A"}},"x",{"$f":"GWPCH4","v":25},"=",{"$f":"F247*H247*CO2_C/(10^6)","v":{"$error":"#N/A"}},"=",{"$f":"J247/CO2_C","v":{"$error":"#N/A"}}]
["Distillate Fuel",{"$f":"'Commercial N2O'!B248","v":{"$error":"#N/A"}},"x",{"$f":"DistillCEFcom","v":0},"=",{"$f":"B248*D248","v":{"$error":"#N/A"}},"x",{"$f":"GWPCH4","v":25},"=",{"$f":"F248*H248*CO2_C/(10^6)","v":{"$error":"#N/A"}},"=",{"$error":"#N/A"}]
["Kerosene",{"$f":"'Commercial N2O'!B249","v":{"$error":"#N/A"}},"x",{"$f":"KeroCEFcom","v":0},"=",{"$error":"#N/A"},"x",25,"=",{"$error":"#N/A"},"=",{"$error":"#N/A"}]
["Hydrocarbon Gas Liquids",{"$f":"'Commercial N2O'!B250","v":{"$error":"#N/A"}},"x",{"$f":"LPGCEFcom","v":0},"=",{"$error":"#N/A"},"x",25,"=",{"$error":"#N/A"},"=",{"$error":"#N/A"}]
["Motor Gasoline",{"$f":"'Commercial N2O'!B251","v":{"$error":"#N/A"}},"x",{"$f":"MotorGasCEFcom","v":0},"=",{"$error":"#N/A"},"x",25,"=",{"$error":"#N/A"},"=",{"$error":"#N/A"}]
["Residual Fuel",{"$f":"'Commercial N2O'!B252","v":{"$error":"#N/A"}},"x",{"$f":"ResidCEFcom","v":0},"=",{"$error":"#N/A"},"x",25,"=",{"$error":"#N/A"},"=",{"$error":"#N/A"}]
["Natural Gas",{"$f":"'Commercial N2O'!B253","v":{"$error":"#N/A"}},"x",{"$f":"NatGasCEFcom","v":0},"=",{"$error":"#N/A"},"x",25,"=",{"$error":"#N/A"},"=",{"$error":"#N/A"}]
["Wood",{"$f":"'Commercial N2O'!B254","v":{"$error":"#N/A"}},"x",{"$f":"WoodCEFcom","v":0},"=",{"$error":"#N/A"},"x",25,"=",{"$error":"#N/A"},"=",{"$error":"#N/A"}]
["Other",{"$f":"'Commercial N2O'!B255","v":0},"x",{"$f":"OtherCEFcom","v":0},"=",0,"x",25,"=",0,"=",0]
[null,null,null,null,null,null,null,"Total","=",{"$f":"SUM(J247:J255)","v":{"$error":"#N/A"}},"=",{"$error":"#N/A"}]
[]
["Commercial Sector CH4",null,null,{"$f":"D243+1","v":2007}]
[]
[null,"Consumption",null,"Emission Factor",null,"Emissions ",null,"GWP",null,"Emissions ",null,"Emissions "]
["Fuel Type","(Billion Btu)",null,"(metric tons CH4 /BBtu)",null,"(metric tons CH4)",null,null,null,"(MMTCE)",null,"(MMTCO2E)"]
["Coal",{"$f":"'Commercial N2O'!B262","v":{"$error":"#N/A"}},"x",{"$f":"CoalCEFcom","v":0},"=",{"$f":"B262*D262","v":{"$error":"#N/A"}},"x",{"$f":"GWPCH4","v":25},"=",{"$f":"F262*H262*CO2_C/(10^6)","v":{"$error":"#N/A"}},"=",{"$f":"J262/CO2_C","v":{"$error":"#N/A"}}]
["Distillate Fuel",{"$f":"'Commercial N2O'!B263","v":{"$error":"#N/A"}},"x",{"$f":"DistillCEFcom","v":0},"=",{"$f":"B263*D263","v":{"$error":"#N/A"}},"x",{"$f":"GWPCH4","v":25},"=",{"$f":"F263*H263*CO2_C/(10^6)","v":{"$error":"#N/A"}},"=",{"$error":"#N/A"}]
["Kerosene",{"$f":"'Commercial N2O'!B264","v":{"$error":"#N/A"}},"x",{"$f":"KeroCEFcom","v":0},"=",{"$error":"#N/A"},"x",25,"=",{"$error":"#N/A"},"=",{"$error":"#N/A"}]
["Hydrocarbon Gas Liquids",{"$f":"'Commercial N2O'!B265","v":{"$error":"#N/A"}},"x",{"$f":"LPGCEFcom","v":0},"=",{"$error":"#N/A"},"x",25,"=",{"$error":"#N/A"},"=",{"$error":"#N/A"}]
["Motor Gasoline",{"$f":"'Commercial N2O'!B266","v":{"$error":"#N/A"}},"x",{"$f":"MotorGasCEFcom","v":0},"=",{"$error":"#N/A"},"x",25,"=",{"$error":"#N/A"},"=",{"$error":"#N/A"}]
["Residual Fuel",{"$f":"'Commercial N2O'!B267","v":{"$error":"#N/A"}},"x",{"$f":"ResidCEFcom","v":0},"=",{"$error":"#N/A"},"x",25,"=",{"$error":"#N/A"},"=",{"$error":"#N/A"}]
["Natural Gas",{"$f":"'Commercial N2O'!B268","v":{"$error":"#N/A"}},"x",{"$f":"NatGasCEFcom","v":0},"=",{"$error":"#N/A"},"x",25,"=",{"$error":"#N/A"},"=",{"$error":"#N/A"}]
["Wood",{"$f":"'Commercial N2O'!B269","v":{"$error":"#N/A"}},"x",{"$f":"WoodCEFcom","v":0},"=",{"$error":"#N/A"},"x",25,"=",{"$error":"#N/A"},"=",{"$error":"#N/A"}]
["Other",{"$f":"'Commercial N2O'!B270","v":0},"x",{"$f":"OtherCEFcom","v":0},"=",0,"x",25,"=",0,"=",0]
[null,null,null,null,null,null,null,"Total","=",{"$f":"SUM(J262:J270)","v":{"$error":"#N/A"}},"=",{"$error":"#N/A"}]
[]
["Commercial Sector CH4",null,null,{"$f":"D258+1","v":2008}]
[]
[null,"Consumption",null,"Emission Factor",null,"Emissions ",null,"GWP",null,"Emissions ",null,"Emissions "]
["Fuel Type","(Billion Btu)",null,"(metric tons CH4 /BBtu)",null,"(metric tons CH4)",null,null,null,"(MMTCE)",null,"(MMTCO2E)"]
["Coal",{"$f":"'Commercial N2O'!B277","v":{"$error":"#N/A"}},"x",{"$f":"CoalCEFcom","v":0},"=",{"$f":"B277*D277","v":{"$error":"#N/A"}},"x",{"$f":"GWPCH4","v":25},"=",{"$f":"F277*H277*CO2_C/(10^6)","v":{"$error":"#N/A"}},"=",{"$f":"J277/CO2_C","v":{"$error":"#N/A"}}]
["Distillate Fuel",{"$f":"'Commercial N2O'!B278","v":{"$error":"#N/A"}},"x",{"$f":"DistillCEFcom","v":0},"=",{"$f":"B278*D278","v":{"$error":"#N/A"}},"x",{"$f":"GWPCH4","v":25},"=",{"$f":"F278*H278*CO2_C/(10^6)","v":{"$error":"#N/A"}},"=",{"$error":"#N/A"}]
["Kerosene",{"$f":"'Commercial N2O'!B279","v":{"$error":"#N/A"}},"x",{"$f":"KeroCEFcom","v":0},"=",{"$error":"#N/A"},"x",25,"=",{"$error":"#N/A"},"=",{"$error":"#N/A"}]
["Hydrocarbon Gas Liquids",{"$f":"'Commercial N2O'!B280","v":{"$error":"#N/A"}},"x",{"$f":"LPGCEFcom","v":0},"=",{"$error":"#N/A"},"x",25,"=",{"$error":"#N/A"},"=",{"$error":"#N/A"}]
["Motor Gasoline",{"$f":"'Commercial N2O'!B281","v":{"$error":"#N/A"}},"x",{"$f":"MotorGasCEFcom","v":0},"=",{"$error":"#N/A"},"x",25,"=",{"$error":"#N/A"},"=",{"$error":"#N/A"}]
["Residual Fuel",{"$f":"'Commercial N2O'!B282","v":{"$error":"#N/A"}},"x",{"$f":"ResidCEFcom","v":0},"=",{"$error":"#N/A"},"x",25,"=",{"$error":"#N/A"},"=",{"$error":"#N/A"}]
["Natural Gas",{"$f":"'Commercial N2O'!B283","v":{"$error":"#N/A"}},"x",{"$f":"NatGasCEFcom","v":0},"=",{"$error":"#N/A"},"x",25,"=",{"$error":"#N/A"},"=",{"$error":"#N/A"}]
["Wood",{"$f":"'Commercial N2O'!B284","v":{"$error":"#N/A"}},"x",{"$f":"WoodCEFcom","v":0},"=",{"$error":"#N/A"},"x",25,"=",{"$error":"#N/A"},"=",{"$error":"#N/A"}]
["Other",{"$f":"'Commercial N2O'!B285","v":0},"x",{"$f":"OtherCEFcom","v":0},"=",0,"x",25,"=",0,"=",0]
[null,null,null,null,null,null,null,"Total","=",{"$f":"SUM(J277:J285)","v":{"$error":"#N/A"}},"=",{"$error":"#N/A"}]
[]
["Commercial Sector CH4",null,null,{"$f":"D273+1","v":2009}]
[]
[null,"Consumption",null,"Emission Factor",null,"Emissions ",null,"GWP",null,"Emissions ",null,"Emissions "]
["Fuel Type","(Billion Btu)",null,"(metric tons CH4 /BBtu)",null,"(metric tons CH4)",null,null,null,"(MMTCE)",null,"(MMTCO2E)"]
["Coal",{"$f":"'Commercial N2O'!B292","v":{"$error":"#N/A"}},"x",{"$f":"CoalCEFcom","v":0},"=",{"$f":"B292*D292","v":{"$error":"#N/A"}},"x",{"$f":"GWPCH4","v":25},"=",{"$f":"F292*H292*CO2_C/(10^6)","v":{"$error":"#N/A"}},"=",{"$f":"J292/CO2_C","v":{"$error":"#N/A"}}]
["Distillate Fuel",{"$f":"'Commercial N2O'!B293","v":{"$error":"#N/A"}},"x",{"$f":"DistillCEFcom","v":0},"=",{"$f":"B293*D293","v":{"$error":"#N/A"}},"x",{"$f":"GWPCH4","v":25},"=",{"$f":"F293*H293*CO2_C/(10^6)","v":{"$error":"#N/A"}},"=",{"$error":"#N/A"}]
["Kerosene",{"$f":"'Commercial N2O'!B294","v":{"$error":"#N/A"}},"x",{"$f":"KeroCEFcom","v":0},"=",{"$error":"#N/A"},"x",25,"=",{"$error":"#N/A"},"=",{"$error":"#N/A"}]
["Hydrocarbon Gas Liquids",{"$f":"'Commercial N2O'!B295","v":{"$error":"#N/A"}},"x",{"$f":"LPGCEFcom","v":0},"=",{"$error":"#N/A"},"x",25,"=",{"$error":"#N/A"},"=",{"$error":"#N/A"}]
["Motor Gasoline",{"$f":"'Commercial N2O'!B296","v":{"$error":"#N/A"}},"x",{"$f":"MotorGasCEFcom","v":0},"=",{"$error":"#N/A"},"x",25,"=",{"$error":"#N/A"},"=",{"$error":"#N/A"}]
["Residual Fuel",{"$f":"'Commercial N2O'!B297","v":{"$error":"#N/A"}},"x",{"$f":"ResidCEFcom","v":0},"=",{"$error":"#N/A"},"x",25,"=",{"$error":"#N/A"},"=",{"$error":"#N/A"}]
["Natural Gas",{"$f":"'Commercial N2O'!B298","v":{"$error":"#N/A"}},"x",{"$f":"NatGasCEFcom","v":0},"=",{"$error":"#N/A"},"x",25,"=",{"$error":"#N/A"},"=",{"$error":"#N/A"}]
["Wood",{"$f":"'Commercial N2O'!B299","v":{"$error":"#N/A"}},"x",{"$f":"WoodCEFcom","v":0},"=",{"$error":"#N/A"},"x",25,"=",{"$error":"#N/A"},"=",{"$error":"#N/A"}]
["Other",{"$f":"'Commercial N2O'!B300","v":0},"x",{"$f":"OtherCEFcom","v":0},"=",0,"x",25,"=",0,"=",0]
[null,null,null,null,null,null,null,"Total","=",{"$f":"SUM(J292:J300)","v":{"$error":"#N/A"}},"=",{"$error":"#N/A"}]
[]
["Commercial Sector CH4",null,null,{"$f":"D288+1","v":2010}]
[]
[null,"Consumption",null,"Emission Factor",null,"Emissions ",null,"GWP",null,"Emissions ",null,"Emissions "]
["Fuel Type","(Billion Btu)",null,"(metric tons CH4 /BBtu)",null,"(metric tons CH4)",null,null,null,"(MMTCE)",null,"(MMTCO2E)"]
["Coal",{"$f":"'Commercial N2O'!B307","v":{"$error":"#N/A"}},"x",{"$f":"CoalCEFcom","v":0},"=",{"$f":"B307*D307","v":{"$error":"#N/A"}},"x",{"$f":"GWPCH4","v":25},"=",{"$f":"F307*H307*CO2_C/(10^6)","v":{"$error":"#N/A"}},"=",{"$f":"J307/CO2_C","v":{"$error":"#N/A"}}]
["Distillate Fuel",{"$f":"'Commercial N2O'!B308","v":{"$error":"#N/A"}},"x",{"$f":"DistillCEFcom","v":0},"=",{"$f":"B308*D308","v":{"$error":"#N/A"}},"x",{"$f":"GWPCH4","v":25},"=",{"$f":"F308*H308*CO2_C/(10^6)","v":{"$error":"#N/A"}},"=",{"$error":"#N/A"}]
["Kerosene",{"$f":"'Commercial N2O'!B309","v":{"$error":"#N/A"}},"x",{"$f":"KeroCEFcom","v":0},"=",{"$error":"#N/A"},"x",25,"=",{"$error":"#N/A"},"=",{"$error":"#N/A"}]
["Hydrocarbon Gas Liquids",{"$f":"'Commercial N2O'!B310","v":{"$error":"#N/A"}},"x",{"$f":"LPGCEFcom","v":0},"=",{"$error":"#N/A"},"x",25,"=",{"$error":"#N/A"},"=",{"$error":"#N/A"}]
["Motor Gasoline",{"$f":"'Commercial N2O'!B311","v":{"$error":"#N/A"}},"x",{"$f":"MotorGasCEFcom","v":0},"=",{"$error":"#N/A"},"x",25,"=",{"$error":"#N/A"},"=",{"$error":"#N/A"}]
["Residual Fuel",{"$f":"'Commercial N2O'!B312","v":{"$error":"#N/A"}},"x",{"$f":"ResidCEFcom","v":0},"=",{"$error":"#N/A"},"x",25,"=",{"$error":"#N/A"},"=",{"$error":"#N/A"}]
["Natural Gas",{"$f":"'Commercial N2O'!B313","v":{"$error":"#N/A"}},"x",{"$f":"NatGasCEFcom","v":0},"=",{"$error":"#N/A"},"x",25,"=",{"$error":"#N/A"},"=",{"$error":"#N/A"}]
["Wood",{"$f":"'Commercial N2O'!B314","v":{"$error":"#N/A"}},"x",{"$f":"WoodCEFcom","v":0},"=",{"$error":"#N/A"},"x",25,"=",{"$error":"#N/A"},"=",{"$error":"#N/A"}]
["Other",{"$f":"'Commercial N2O'!B315","v":0},"x",{"$f":"OtherCEFcom","v":0},"=",0,"x",25,"=",0,"=",0]
[null,null,null,null,null,null,null,"Total","=",{"$f":"SUM(J307:J315)","v":{"$error":"#N/A"}},"=",{"$error":"#N/A"}]
[]
["Commercial Sector CH4",null,null,{"$f":"D303+1","v":2011}]
[]
[null,"Consumption",null,"Emission Factor",null,"Emissions ",null,"GWP",null,"Emissions ",null,"Emissions "]
["Fuel Type","(Billion Btu)",null,"(metric tons CH4 /BBtu)",null,"(metric tons CH4)",null,null,null,"(MMTCE)",null,"(MMTCO2E)"]
["Coal",{"$f":"'Commercial N2O'!B322","v":{"$error":"#N/A"}},"x",{"$f":"CoalCEFcom","v":0},"=",{"$f":"B322*D322","v":{"$error":"#N/A"}},"x",{"$f":"GWPCH4","v":25},"=",{"$f":"F322*H322*CO2_C/(10^6)","v":{"$error":"#N/A"}},"=",{"$f":"J322/CO2_C","v":{"$error":"#N/A"}}]
["Distillate Fuel",{"$f":"'Commercial N2O'!B323","v":{"$error":"#N/A"}},"x",{"$f":"DistillCEFcom","v":0},"=",{"$f":"B323*D323","v":{"$error":"#N/A"}},"x",{"$f":"GWPCH4","v":25},"=",{"$f":"F323*H323*CO2_C/(10^6)","v":{"$error":"#N/A"}},"=",{"$error":"#N/A"}]
["Kerosene",{"$f":"'Commercial N2O'!B324","v":{"$error":"#N/A"}},"x",{"$f":"KeroCEFcom","v":0},"=",{"$error":"#N/A"},"x",25,"=",{"$error":"#N/A"},"=",{"$error":"#N/A"}]
["Hydrocarbon Gas Liquids",{"$f":"'Commercial N2O'!B325","v":{"$error":"#N/A"}},"x",{"$f":"LPGCEFcom","v":0},"=",{"$error":"#N/A"},"x",25,"=",{"$error":"#N/A"},"=",{"$error":"#N/A"}]
["Motor Gasoline",{"$f":"'Commercial N2O'!B326","v":{"$error":"#N/A"}},"x",{"$f":"MotorGasCEFcom","v":0},"=",{"$error":"#N/A"},"x",25,"=",{"$error":"#N/A"},"=",{"$error":"#N/A"}]
["Residual Fuel",{"$f":"'Commercial N2O'!B327","v":{"$error":"#N/A"}},"x",{"$f":"ResidCEFcom","v":0},"=",{"$error":"#N/A"},"x",25,"=",{"$error":"#N/A"},"=",{"$error":"#N/A"}]
["Natural Gas",{"$f":"'Commercial N2O'!B328","v":{"$error":"#N/A"}},"x",{"$f":"NatGasCEFcom","v":0},"=",{"$error":"#N/A"},"x",25,"=",{"$error":"#N/A"},"=",{"$error":"#N/A"}]
["Wood",{"$f":"'Commercial N2O'!B329","v":{"$error":"#N/A"}},"x",{"$f":"WoodCEFcom","v":0},"=",{"$error":"#N/A"},"x",25,"=",{"$error":"#N/A"},"=",{"$error":"#N/A"}]
["Other",{"$f":"'Commercial N2O'!B330","v":0},"x",{"$f":"OtherCEFcom","v":0},"=",0,"x",25,"=",0,"=",0]
[null,null,null,null,null,null,null,"Total","=",{"$f":"SUM(J322:J330)","v":{"$error":"#N/A"}},"=",{"$error":"#N/A"}]
[]
["Commercial Sector CH4",null,null,{"$f":"D318+1","v":2012}]
[]
[null,"Consumption",null,"Emission Factor",null,"Emissions ",null,"GWP",null,"Emissions ",null,"Emissions "]
["Fuel Type","(Billion Btu)",null,"(metric tons CH4 /BBtu)",null,"(metric tons CH4)",null,null,null,"(MMTCE)",null,"(MMTCO2E)"]
["Coal",{"$f":"'Commercial N2O'!B337","v":{"$error":"#N/A"}},"x",{"$f":"CoalCEFcom","v":0},"=",{"$f":"B337*D337","v":{"$error":"#N/A"}},"x",{"$f":"GWPCH4","v":25},"=",{"$f":"F337*H337*CO2_C/(10^6)","v":{"$error":"#N/A"}},"=",{"$f":"J337/CO2_C","v":{"$error":"#N/A"}}]
["Distillate Fuel",{"$f":"'Commercial N2O'!B338","v":{"$error":"#N/A"}},"x",{"$f":"DistillCEFcom","v":0},"=",{"$f":"B338*D338","v":{"$error":"#N/A"}},"x",{"$f":"GWPCH4","v":25},"=",{"$f":"F338*H338*CO2_C/(10^6)","v":{"$error":"#N/A"}},"=",{"$error":"#N/A"}]
["Kerosene",{"$f":"'Commercial N2O'!B339","v":{"$error":"#N/A"}},"x",{"$f":"KeroCEFcom","v":0},"=",{"$error":"#N/A"},"x",25,"=",{"$error":"#N/A"},"=",{"$error":"#N/A"}]
["Hydrocarbon Gas Liquids",{"$f":"'Commercial N2O'!B340","v":{"$error":"#N/A"}},"x",{"$f":"LPGCEFcom","v":0},"=",{"$error":"#N/A"},"x",25,"=",{"$error":"#N/A"},"=",{"$error":"#N/A"}]
["Motor Gasoline",{"$f":"'Commercial N2O'!B341","v":{"$error":"#N/A"}},"x",{"$f":"MotorGasCEFcom","v":0},"=",{"$error":"#N/A"},"x",25,"=",{"$error":"#N/A"},"=",{"$error":"#N/A"}]
["Residual Fuel",{"$f":"'Commercial N2O'!B342","v":{"$error":"#N/A"}},"x",{"$f":"ResidCEFcom","v":0},"=",{"$error":"#N/A"},"x",25,"=",{"$error":"#N/A"},"=",{"$error":"#N/A"}]
["Natural Gas",{"$f":"'Commercial N2O'!B343","v":{"$error":"#N/A"}},"x",{"$f":"NatGasCEFcom","v":0},"=",{"$error":"#N/A"},"x",25,"=",{"$error":"#N/A"},"=",{"$error":"#N/A"}]
["Wood",{"$f":"'Commercial N2O'!B344","v":{"$error":"#N/A"}},"x",{"$f":"WoodCEFcom","v":0},"=",{"$error":"#N/A"},"x",25,"=",{"$error":"#N/A"},"=",{"$error":"#N/A"}]
["Other",{"$f":"'Commercial N2O'!B345","v":0},"x",{"$f":"OtherCEFcom","v":0},"=",0,"x",25,"=",0,"=",0]
[null,null,null,null,null,null,null,"Total","=",{"$f":"SUM(J337:J345)","v":{"$error":"#N/A"}},"=",{"$error":"#N/A"}]
[]
["Commercial Sector CH4",null,null,{"$f":"D333+1","v":2013}]
[]
[null,"Consumption",null,"Emission Factor",null,"Emissions ",null,"GWP",null,"Emissions ",null,"Emissions "]
["Fuel Type","(Billion Btu)",null,"(metric tons CH4 /BBtu)",null,"(metric tons CH4)",null,null,null,"(MMTCE)",null,"(MMTCO2E)"]
["Coal",{"$f":"'Commercial N2O'!B352","v":{"$error":"#N/A"}},"x",{"$f":"CoalCEFcom","v":0},"=",{"$f":"B352*D352","v":{"$error":"#N/A"}},"x",{"$f":"GWPCH4","v":25},"=",{"$f":"F352*H352*CO2_C/(10^6)","v":{"$error":"#N/A"}},"=",{"$f":"J352/CO2_C","v":{"$error":"#N/A"}}]
["Distillate Fuel",{"$f":"'Commercial N2O'!B353","v":{"$error":"#N/A"}},"x",{"$f":"DistillCEFcom","v":0},"=",{"$f":"B353*D353","v":{"$error":"#N/A"}},"x",{"$f":"GWPCH4","v":25},"=",{"$f":"F353*H353*CO2_C/(10^6)","v":{"$error":"#N/A"}},"=",{"$error":"#N/A"}]
["Kerosene",{"$f":"'Commercial N2O'!B354","v":{"$error":"#N/A"}},"x",{"$f":"KeroCEFcom","v":0},"=",{"$error":"#N/A"},"x",25,"=",{"$error":"#N/A"},"=",{"$error":"#N/A"}]
["Hydrocarbon Gas Liquids",{"$f":"'Commercial N2O'!B355","v":{"$error":"#N/A"}},"x",{"$f":"LPGCEFcom","v":0},"=",{"$error":"#N/A"},"x",25,"=",{"$error":"#N/A"},"=",{"$error":"#N/A"}]
["Motor Gasoline",{"$f":"'Commercial N2O'!B356","v":{"$error":"#N/A"}},"x",{"$f":"MotorGasCEFcom","v":0},"=",{"$error":"#N/A"},"x",25,"=",{"$error":"#N/A"},"=",{"$error":"#N/A"}]
["Residual Fuel",{"$f":"'Commercial N2O'!B357","v":{"$error":"#N/A"}},"x",{"$f":"ResidCEFcom","v":0},"=",{"$error":"#N/A"},"x",25,"=",{"$error":"#N/A"},"=",{"$error":"#N/A"}]
["Natural Gas",{"$f":"'Commercial N2O'!B358","v":{"$error":"#N/A"}},"x",{"$f":"NatGasCEFcom","v":0},"=",{"$error":"#N/A"},"x",25,"=",{"$error":"#N/A"},"=",{"$error":"#N/A"}]
["Wood",{"$f":"'Commercial N2O'!B359","v":{"$error":"#N/A"}},"x",{"$f":"WoodCEFcom","v":0},"=",{"$error":"#N/A"},"x",25,"=",{"$error":"#N/A"},"=",{"$error":"#N/A"}]
["Other",{"$f":"'Commercial N2O'!B360","v":0},"x",{"$f":"OtherCEFcom","v":0},"=",0,"x",25,"=",0,"=",0]
[null,null,null,null,null,null,null,"Total","=",{"$f":"SUM(J352:J360)","v":{"$error":"#N/A"}},"=",{"$error":"#N/A"}]
[]
["Commercial Sector CH4",null,null,{"$f":"D348+1","v":2014}]
[]
[null,"Consumption",null,"Emission Factor",null,"Emissions ",null,"GWP",null,"Emissions ",null,"Emissions "]
["Fuel Type","(Billion Btu)",null,"(metric tons CH4 /BBtu)",null,"(metric tons CH4)",null,null,null,"(MMTCE)",null,"(MMTCO2E)"]
["Coal",{"$f":"'Commercial N2O'!B367","v":{"$error":"#N/A"}},"x",{"$f":"CoalCEFcom","v":0},"=",{"$f":"B367*D367","v":{"$error":"#N/A"}},"x",{"$f":"GWPCH4","v":25},"=",{"$f":"F367*H367*CO2_C/(10^6)","v":{"$error":"#N/A"}},"=",{"$f":"J367/CO2_C","v":{"$error":"#N/A"}}]
["Distillate Fuel",{"$f":"'Commercial N2O'!B368","v":{"$error":"#N/A"}},"x",{"$f":"DistillCEFcom","v":0},"=",{"$f":"B368*D368","v":{"$error":"#N/A"}},"x",{"$f":"GWPCH4","v":25},"=",{"$f":"F368*H368*CO2_C/(10^6)","v":{"$error":"#N/A"}},"=",{"$error":"#N/A"}]
["Kerosene",{"$f":"'Commercial N2O'!B369","v":{"$error":"#N/A"}},"x",{"$f":"KeroCEFcom","v":0},"=",{"$error":"#N/A"},"x",25,"=",{"$error":"#N/A"},"=",{"$error":"#N/A"}]
["Hydrocarbon Gas Liquids",{"$f":"'Commercial N2O'!B370","v":{"$error":"#N/A"}},"x",{"$f":"LPGCEFcom","v":0},"=",{"$error":"#N/A"},"x",25,"=",{"$error":"#N/A"},"=",{"$error":"#N/A"}]
["Motor Gasoline",{"$f":"'Commercial N2O'!B371","v":{"$error":"#N/A"}},"x",{"$f":"MotorGasCEFcom","v":0},"=",{"$error":"#N/A"},"x",25,"=",{"$error":"#N/A"},"=",{"$error":"#N/A"}]
["Residual Fuel",{"$f":"'Commercial N2O'!B372","v":{"$error":"#N/A"}},"x",{"$f":"ResidCEFcom","v":0},"=",{"$error":"#N/A"},"x",25,"=",{"$error":"#N/A"},"=",{"$error":"#N/A"}]
["Natural Gas",{"$f":"'Commercial N2O'!B373","v":{"$error":"#N/A"}},"x",{"$f":"NatGasCEFcom","v":0},"=",{"$error":"#N/A"},"x",25,"=",{"$error":"#N/A"},"=",{"$error":"#N/A"}]
["Wood",{"$f":"'Commercial N2O'!B374","v":{"$error":"#N/A"}},"x",{"$f":"WoodCEFcom","v":0},"=",{"$error":"#N/A"},"x",25,"=",{"$error":"#N/A"},"=",{"$error":"#N/A"}]
["Other",{"$f":"'Commercial N2O'!B375","v":0},"x",{"$f":"OtherCEFcom","v":0},"=",0,"x",25,"=",0,"=",0]
[null,null,null,null,null,null,null,"Total","=",{"$f":"SUM(J367:J375)","v":{"$error":"#N/A"}},"=",{"$error":"#N/A"}]
[]
["Commercial Sector CH4",null,null,{"$f":"D363+1","v":2015}]
[]
[null,"Consumption",null,"Emission Factor",null,"Emissions ",null,"GWP",null,"Emissions ",null,"Emissions "]
["Fuel Type","(Billion Btu)",null,"(metric tons CH4 /BBtu)",null,"(metric tons CH4)",null,null,null,"(MMTCE)",null,"(MMTCO2E)"]
["Coal",{"$f":"'Commercial N2O'!B382","v":{"$error":"#N/A"}},"x",{"$f":"CoalCEFcom","v":0},"=",{"$f":"B382*D382","v":{"$error":"#N/A"}},"x",{"$f":"GWPCH4","v":25},"=",{"$f":"F382*H382*CO2_C/(10^6)","v":{"$error":"#N/A"}},"=",{"$f":"J382/CO2_C","v":{"$error":"#N/A"}}]
["Distillate Fuel",{"$f":"'Commercial N2O'!B383","v":{"$error":"#N/A"}},"x",{"$f":"DistillCEFcom","v":0},"=",{"$f":"B383*D383","v":{"$error":"#N/A"}},"x",{"$f":"GWPCH4","v":25},"=",{"$f":"F383*H383*CO2_C/(10^6)","v":{"$error":"#N/A"}},"=",{"$error":"#N/A"}]
["Kerosene",{"$f":"'Commercial N2O'!B384","v":{"$error":"#N/A"}},"x",{"$f":"KeroCEFcom","v":0},"=",{"$error":"#N/A"},"x",25,"=",{"$error":"#N/A"},"=",{"$error":"#N/A"}]
["Hydrocarbon Gas Liquids",{"$f":"'Commercial N2O'!B385","v":{"$error":"#N/A"}},"x",{"$f":"LPGCEFcom","v":0},"=",{"$error":"#N/A"},"x",25,"=",{"$error":"#N/A"},"=",{"$error":"#N/A"}]
["Motor Gasoline",{"$f":"'Commercial N2O'!B386","v":{"$error":"#N/A"}},"x",{"$f":"MotorGasCEFcom","v":0},"=",{"$error":"#N/A"},"x",25,"=",{"$error":"#N/A"},"=",{"$error":"#N/A"}]
["Residual Fuel",{"$f":"'Commercial N2O'!B387","v":{"$error":"#N/A"}},"x",{"$f":"ResidCEFcom","v":0},"=",{"$error":"#N/A"},"x",25,"=",{"$error":"#N/A"},"=",{"$error":"#N/A"}]
["Natural Gas",{"$f":"'Commercial N2O'!B388","v":{"$error":"#N/A"}},"x",{"$f":"NatGasCEFcom","v":0},"=",{"$error":"#N/A"},"x",25,"=",{"$error":"#N/A"},"=",{"$error":"#N/A"}]
["Wood",{"$f":"'Commercial N2O'!B389","v":{"$error":"#N/A"}},"x",{"$f":"WoodCEFcom","v":0},"=",{"$error":"#N/A"},"x",25,"=",{"$error":"#N/A"},"=",{"$error":"#N/A"}]
["Other",{"$f":"'Commercial N2O'!B390","v":0},"x",{"$f":"OtherCEFcom","v":0},"=",0,"x",25,"=",0,"=",0]
[null,null,null,null,null,null,null,"Total","=",{"$f":"SUM(J382:J390)","v":{"$error":"#N/A"}},"=",{"$error":"#N/A"}]
[]
["Commercial Sector CH4",null,null,{"$f":"D378+1","v":2016}]
[]
[null,"Consumption",null,"Emission Factor",null,"Emissions ",null,"GWP",null,"Emissions ",null,"Emissions "]
["Fuel Type","(Billion Btu)",null,"(metric tons CH4 /BBtu)",null,"(metric tons CH4)",null,null,null,"(MMTCE)",null,"(MMTCO2E)"]
["Coal",{"$f":"'Commercial N2O'!B397","v":{"$error":"#N/A"}},"x",{"$f":"CoalCEFcom","v":0},"=",{"$f":"B397*D397","v":{"$error":"#N/A"}},"x",{"$f":"GWPCH4","v":25},"=",{"$f":"F397*H397*CO2_C/(10^6)","v":{"$error":"#N/A"}},"=",{"$f":"J397/CO2_C","v":{"$error":"#N/A"}}]
["Distillate Fuel",{"$f":"'Commercial N2O'!B398","v":{"$error":"#N/A"}},"x",{"$f":"DistillCEFcom","v":0},"=",{"$f":"B398*D398","v":{"$error":"#N/A"}},"x",{"$f":"GWPCH4","v":25},"=",{"$f":"F398*H398*CO2_C/(10^6)","v":{"$error":"#N/A"}},"=",{"$error":"#N/A"}]
["Kerosene",{"$f":"'Commercial N2O'!B399","v":{"$error":"#N/A"}},"x",{"$f":"KeroCEFcom","v":0},"=",{"$error":"#N/A"},"x",25,"=",{"$error":"#N/A"},"=",{"$error":"#N/A"}]
["Hydrocarbon Gas Liquids",{"$f":"'Commercial N2O'!B400","v":{"$error":"#N/A"}},"x",{"$f":"LPGCEFcom","v":0},"=",{"$error":"#N/A"},"x",25,"=",{"$error":"#N/A"},"=",{"$error":"#N/A"}]
["Motor Gasoline",{"$f":"'Commercial N2O'!B401","v":{"$error":"#N/A"}},"x",{"$f":"MotorGasCEFcom","v":0},"=",{"$error":"#N/A"},"x",25,"=",{"$error":"#N/A"},"=",{"$error":"#N/A"}]
["Residual Fuel",{"$f":"'Commercial N2O'!B402","v":{"$error":"#N/A"}},"x",{"$f":"ResidCEFcom","v":0},"=",{"$error":"#N/A"},"x",25,"=",{"$error":"#N/A"},"=",{"$error":"#N/A"}]
["Natural Gas",{"$f":"'Commercial N2O'!B403","v":{"$error":"#N/A"}},"x",{"$f":"NatGasCEFcom","v":0},"=",{"$error":"#N/A"},"x",25,"=",{"$error":"#N/A"},"=",{"$error":"#N/A"}]
["Wood",{"$f":"'Commercial N2O'!B404","v":{"$error":"#N/A"}},"x",{"$f":"WoodCEFcom","v":0},"=",{"$error":"#N/A"},"x",25,"=",{"$error":"#N/A"},"=",{"$error":"#N/A"}]
["Other",{"$f":"'Commercial N2O'!B405","v":0},"x",{"$f":"OtherCEFcom","v":0},"=",0,"x",25,"=",0,"=",0]
[null,null,null,null,null,null,null,"Total","=",{"$f":"SUM(J397:J405)","v":{"$error":"#N/A"}},"=",{"$error":"#N/A"}]
[]
["Commercial Sector CH4",null,null,{"$f":"D393+1","v":2017}]
[]
[null,"Consumption",null,"Emission Factor",null,"Emissions ",null,"GWP",null,"Emissions ",null,"Emissions "]
["Fuel Type","(Billion Btu)",null,"(metric tons CH4 /BBtu)",null,"(metric tons CH4)",null,null,null,"(MMTCE)",null,"(MMTCO2E)"]
["Coal",{"$f":"'Commercial N2O'!B412","v":{"$error":"#N/A"}},"x",{"$f":"CoalCEFcom","v":0},"=",{"$f":"B412*D412","v":{"$error":"#N/A"}},"x",{"$f":"GWPCH4","v":25},"=",{"$f":"F412*H412*CO2_C/(10^6)","v":{"$error":"#N/A"}},"=",{"$f":"J412/CO2_C","v":{"$error":"#N/A"}}]
["Distillate Fuel",{"$f":"'Commercial N2O'!B413","v":{"$error":"#N/A"}},"x",{"$f":"DistillCEFcom","v":0},"=",{"$f":"B413*D413","v":{"$error":"#N/A"}},"x",{"$f":"GWPCH4","v":25},"=",{"$f":"F413*H413*CO2_C/(10^6)","v":{"$error":"#N/A"}},"=",{"$error":"#N/A"}]
["Kerosene",{"$f":"'Commercial N2O'!B414","v":{"$error":"#N/A"}},"x",{"$f":"KeroCEFcom","v":0},"=",{"$error":"#N/A"},"x",25,"=",{"$error":"#N/A"},"=",{"$error":"#N/A"}]
["Hydrocarbon Gas Liquids",{"$f":"'Commercial N2O'!B415","v":{"$error":"#N/A"}},"x",{"$f":"LPGCEFcom","v":0},"=",{"$error":"#N/A"},"x",25,"=",{"$error":"#N/A"},"=",{"$error":"#N/A"}]
["Motor Gasoline",{"$f":"'Commercial N2O'!B416","v":{"$error":"#N/A"}},"x",{"$f":"MotorGasCEFcom","v":0},"=",{"$error":"#N/A"},"x",25,"=",{"$error":"#N/A"},"=",{"$error":"#N/A"}]
["Residual Fuel",{"$f":"'Commercial N2O'!B417","v":{"$error":"#N/A"}},"x",{"$f":"ResidCEFcom","v":0},"=",{"$error":"#N/A"},"x",25,"=",{"$error":"#N/A"},"=",{"$error":"#N/A"}]
["Natural Gas",{"$f":"'Commercial N2O'!B418","v":{"$error":"#N/A"}},"x",{"$f":"NatGasCEFcom","v":0},"=",{"$error":"#N/A"},"x",25,"=",{"$error":"#N/A"},"=",{"$error":"#N/A"}]
["Wood",{"$f":"'Commercial N2O'!B419","v":{"$error":"#N/A"}},"x",{"$f":"WoodCEFcom","v":0},"=",{"$error":"#N/A"},"x",25,"=",{"$error":"#N/A"},"=",{"$error":"#N/A"}]
["Other",{"$f":"'Commercial N2O'!B420","v":0},"x",{"$f":"OtherCEFcom","v":0},"=",0,"x",25,"=",0,"=",0]
[null,null,null,null,null,null,null,"Total","=",{"$f":"SUM(J412:J420)","v":{"$error":"#N/A"}},"=",{"$error":"#N/A"}]
[]
["Commercial Sector CH4",null,null,{"$f":"D408+1","v":2018}]
[]
[null,"Consumption",null,"Emission Factor",null,"Emissions ",null,"GWP",null,"Emissions ",null,"Emissions "]
["Fuel Type","(Billion Btu)",null,"(metric tons CH4 /BBtu)",null,"(metric tons CH4)",null,null,null,"(MMTCE)",null,"(MMTCO2E)"]
["Coal",{"$f":"'Commercial N2O'!B427","v":{"$error":"#N/A"}},"x",{"$f":"CoalCEFcom","v":0},"=",{"$f":"B427*D427","v":{"$error":"#N/A"}},"x",{"$f":"GWPCH4","v":25},"=",{"$f":"F427*H427*CO2_C/(10^6)","v":{"$error":"#N/A"}},"=",{"$f":"J427/CO2_C","v":{"$error":"#N/A"}}]
["Distillate Fuel",{"$f":"'Commercial N2O'!B428","v":{"$error":"#N/A"}},"x",{"$f":"DistillCEFcom","v":0},"=",{"$f":"B428*D428","v":{"$error":"#N/A"}},"x",{"$f":"GWPCH4","v":25},"=",{"$f":"F428*H428*CO2_C/(10^6)","v":{"$error":"#N/A"}},"=",{"$error":"#N/A"}]
["Kerosene",{"$f":"'Commercial N2O'!B429","v":{"$error":"#N/A"}},"x",{"$f":"KeroCEFcom","v":0},"=",{"$error":"#N/A"},"x",25,"=",{"$error":"#N/A"},"=",{"$error":"#N/A"}]
["Hydrocarbon Gas Liquids",{"$f":"'Commercial N2O'!B430","v":{"$error":"#N/A"}},"x",{"$f":"LPGCEFcom","v":0},"=",{"$error":"#N/A"},"x",25,"=",{"$error":"#N/A"},"=",{"$error":"#N/A"}]
["Motor Gasoline",{"$f":"'Commercial N2O'!B431","v":{"$error":"#N/A"}},"x",{"$f":"MotorGasCEFcom","v":0},"=",{"$error":"#N/A"},"x",25,"=",{"$error":"#N/A"},"=",{"$error":"#N/A"}]
["Residual Fuel",{"$f":"'Commercial N2O'!B432","v":{"$error":"#N/A"}},"x",{"$f":"ResidCEFcom","v":0},"=",{"$error":"#N/A"},"x",25,"=",{"$error":"#N/A"},"=",{"$error":"#N/A"}]
["Natural Gas",{"$f":"'Commercial N2O'!B433","v":{"$error":"#N/A"}},"x",{"$f":"NatGasCEFcom","v":0},"=",{"$error":"#N/A"},"x",25,"=",{"$error":"#N/A"},"=",{"$error":"#N/A"}]
["Wood",{"$f":"'Commercial N2O'!B434","v":{"$error":"#N/A"}},"x",{"$f":"WoodCEFcom","v":0},"=",{"$error":"#N/A"},"x",25,"=",{"$error":"#N/A"},"=",{"$error":"#N/A"}]
["Other",{"$f":"'Commercial N2O'!B435","v":0},"x",{"$f":"OtherCEFcom","v":0},"=",0,"x",25,"=",0,"=",0]
[null,null,null,null,null,null,null,"Total","=",{"$f":"SUM(J427:J435)","v":{"$error":"#N/A"}},"=",{"$error":"#N/A"}]
[]
["Commercial Sector CH4",null,null,{"$f":"D423+1","v":2019}]
[]
[null,"Consumption",null,"Emission Factor",null,"Emissions ",null,"GWP",null,"Emissions ",null,"Emissions "]
["Fuel Type","(Billion Btu)",null,"(metric tons CH4 /BBtu)",null,"(metric tons CH4)",null,null,null,"(MMTCE)",null,"(MMTCO2E)"]
["Coal",{"$f":"'Commercial N2O'!B442","v":{"$error":"#N/A"}},"x",{"$f":"CoalCEFcom","v":0},"=",{"$f":"B442*D442","v":{"$error":"#N/A"}},"x",{"$f":"GWPCH4","v":25},"=",{"$f":"F442*H442*CO2_C/(10^6)","v":{"$error":"#N/A"}},"=",{"$f":"J442/CO2_C","v":{"$error":"#N/A"}}]
["Distillate Fuel",{"$f":"'Commercial N2O'!B443","v":{"$error":"#N/A"}},"x",{"$f":"DistillCEFcom","v":0},"=",{"$f":"B443*D443","v":{"$error":"#N/A"}},"x",{"$f":"GWPCH4","v":25},"=",{"$f":"F443*H443*CO2_C/(10^6)","v":{"$error":"#N/A"}},"=",{"$error":"#N/A"}]
["Kerosene",{"$f":"'Commercial N2O'!B444","v":{"$error":"#N/A"}},"x",{"$f":"KeroCEFcom","v":0},"=",{"$error":"#N/A"},"x",25,"=",{"$error":"#N/A"},"=",{"$error":"#N/A"}]
["Hydrocarbon Gas Liquids",{"$f":"'Commercial N2O'!B445","v":{"$error":"#N/A"}},"x",{"$f":"LPGCEFcom","v":0},"=",{"$error":"#N/A"},"x",25,"=",{"$error":"#N/A"},"=",{"$error":"#N/A"}]
["Motor Gasoline",{"$f":"'Commercial N2O'!B446","v":{"$error":"#N/A"}},"x",{"$f":"MotorGasCEFcom","v":0},"=",{"$error":"#N/A"},"x",25,"=",{"$error":"#N/A"},"=",{"$error":"#N/A"}]
["Residual Fuel",{"$f":"'Commercial N2O'!B447","v":{"$error":"#N/A"}},"x",{"$f":"ResidCEFcom","v":0},"=",{"$error":"#N/A"},"x",25,"=",{"$error":"#N/A"},"=",{"$error":"#N/A"}]
["Natural Gas",{"$f":"'Commercial N2O'!B448","v":{"$error":"#N/A"}},"x",{"$f":"NatGasCEFcom","v":0},"=",{"$error":"#N/A"},"x",25,"=",{"$error":"#N/A"},"=",{"$error":"#N/A"}]
["Wood",{"$f":"'Commercial N2O'!B449","v":{"$error":"#N/A"}},"x",{"$f":"WoodCEFcom","v":0},"=",{"$error":"#N/A"},"x",25,"=",{"$error":"#N/A"},"=",{"$error":"#N/A"}]
["Other",{"$f":"'Commercial N2O'!B450","v":0},"x",{"$f":"OtherCEFcom","v":0},"=",0,"x",25,"=",0,"=",0]
[null,null,null,null,null,null,null,"Total","=",{"$f":"SUM(J442:J450)","v":{"$error":"#N/A"}},"=",{"$error":"#N/A"}]
[]
["Commercial Sector CH4",null,null,{"$f":"D438+1","v":2020}]
[]
[null,"Consumption",null,"Emission Factor",null,"Emissions ",null,"GWP",null,"Emissions ",null,"Emissions "]
["Fuel Type","(Billion Btu)",null,"(metric tons CH4 /BBtu)",null,"(metric tons CH4)",null,null,null,"(MMTCE)",null,"(MMTCO2E)"]
["Coal",{"$f":"'Commercial N2O'!B457","v":{"$error":"#N/A"}},"x",{"$f":"CoalCEFcom","v":0},"=",{"$f":"B457*D457","v":{"$error":"#N/A"}},"x",{"$f":"GWPCH4","v":25},"=",{"$f":"F457*H457*CO2_C/(10^6)","v":{"$error":"#N/A"}},"=",{"$f":"J457/CO2_C","v":{"$error":"#N/A"}}]
["Distillate Fuel",{"$f":"'Commercial N2O'!B458","v":{"$error":"#N/A"}},"x",{"$f":"DistillCEFcom","v":0},"=",{"$f":"B458*D458","v":{"$error":"#N/A"}},"x",{"$f":"GWPCH4","v":25},"=",{"$f":"F458*H458*CO2_C/(10^6)","v":{"$error":"#N/A"}},"=",{"$error":"#N/A"}]
["Kerosene",{"$f":"'Commercial N2O'!B459","v":{"$error":"#N/A"}},"x",{"$f":"KeroCEFcom","v":0},"=",{"$error":"#N/A"},"x",25,"=",{"$error":"#N/A"},"=",{"$error":"#N/A"}]
["Hydrocarbon Gas Liquids",{"$f":"'Commercial N2O'!B460","v":{"$error":"#N/A"}},"x",{"$f":"LPGCEFcom","v":0},"=",{"$error":"#N/A"},"x",25,"=",{"$error":"#N/A"},"=",{"$error":"#N/A"}]
["Motor Gasoline",{"$f":"'Commercial N2O'!B461","v":{"$error":"#N/A"}},"x",{"$f":"MotorGasCEFcom","v":0},"=",{"$error":"#N/A"},"x",25,"=",{"$error":"#N/A"},"=",{"$error":"#N/A"}]
["Residual Fuel",{"$f":"'Commercial N2O'!B462","v":{"$error":"#N/A"}},"x",{"$f":"ResidCEFcom","v":0},"=",{"$error":"#N/A"},"x",25,"=",{"$error":"#N/A"},"=",{"$error":"#N/A"}]
["Natural Gas",{"$f":"'Commercial N2O'!B463","v":{"$error":"#N/A"}},"x",{"$f":"NatGasCEFcom","v":0},"=",{"$error":"#N/A"},"x",25,"=",{"$error":"#N/A"},"=",{"$error":"#N/A"}]
["Wood",{"$f":"'Commercial N2O'!B464","v":{"$error":"#N/A"}},"x",{"$f":"WoodCEFcom","v":0},"=",{"$error":"#N/A"},"x",25,"=",{"$error":"#N/A"},"=",{"$error":"#N/A"}]
["Other",{"$f":"'Commercial N2O'!B465","v":0},"x",{"$f":"OtherCEFcom","v":0},"=",0,"x",25,"=",0,"=",0]
[null,null,null,null,null,null,null,"Total","=",{"$f":"SUM(J457:J465)","v":{"$error":"#N/A"}},"=",{"$error":"#N/A"}]

{"sheet":"Electric Power N2O","index":6,"n_rows":404,"n_cols":12,"rows_kept":404,"cut":false,"hidden":false,"merged":[]}
[{"$f":"\"4. Electric Power Sector Consumption and N2O emissions in \"&Constants!G2","v":"4. Electric Power Sector Consumption and N2O emissions in Select a State . . ."}]
[{"$f":"Constants!H2","v":"xx"},"Electric Power",{"$f":"\" \"","v":" "}]
["Electric Power Sector N2O",null,null,1990]
[]
[null,"Consumption",null,"Emission Factor",null,"Emissions",null,"GWP",null,"Emissions ",null,"Emissions "]
["Fuel Type","(Billion Btu)",null,"(metric tons N2O/BBtu)",null,"(metric tons N2O)",null,null,null,"(MMTCE)",null,"(MMTCO2E)"]
["Coal",{"$f":"VLOOKUP($A$2&$C$2&$B$2&$C$2&$A7,ConsumeBlock3,3,FALSE)","v":{"$error":"#N/A"}},"x",{"$f":"CoalNEFutil","v":0},"=",{"$f":"B7*D7","v":{"$error":"#N/A"}},"x",{"$f":"GWPN2O","v":298},"=",{"$f":"F7*H7*CO2_C/(10^6)","v":{"$error":"#N/A"}},"=",{"$f":"J7/CO2_C","v":{"$error":"#N/A"}}]
["Distillate Fuel",{"$error":"#N/A"},"x",{"$f":"DistillNEFutil","v":0},"=",{"$f":"B8*D8","v":{"$error":"#N/A"}},"x",298,"=",{"$f":"F8*H8*CO2_C/(10^6)","v":{"$error":"#N/A"}},"=",{"$error":"#N/A"}]
["Petroleum Coke",{"$error":"#N/A"},"x",{"$f":"PetCokeNEFutil","v":0},"=",{"$error":"#N/A"},"x",298,"=",{"$error":"#N/A"},"=",{"$error":"#N/A"}]
["Residual Fuel",{"$error":"#N/A"},"x",{"$f":"ResidNEFutil","v":0},"=",{"$error":"#N/A"},"x",298,"=",{"$error":"#N/A"},"=",{"$error":"#N/A"}]
["Natural Gas",{"$error":"#N/A"},"x",{"$f":"NatGasNEFutil","v":0},"=",{"$error":"#N/A"},"x",298,"=",{"$error":"#N/A"},"=",{"$error":"#N/A"}]
["Wood",{"$error":"#N/A"},"x",{"$f":"WoodNEFutil","v":0},"=",{"$error":"#N/A"},"x",298,"=",{"$f":"F12*H12*CO2_C/(10^6)","v":{"$error":"#N/A"}},"=",{"$error":"#N/A"}]
["Other",{"$f":"VLOOKUP($A$2&$C$2&$B$2&$C$2&$A13,ConsumeBlock3,D3-1987,FALSE)","v":0},"x",{"$f":"OtherNEFutil","v":0},"=",0,"x",298,"=",0,"=",0]
[null,null,null,null,null,null,null,"Total","=",{"$f":"SUM(J7:J13)","v":{"$error":"#N/A"}},"=",{"$error":"#N/A"}]
[]
["Electric Power Sector N2O",null,null,{"$f":"D3+1","v":1991}]
[]
[null,"Consumption",null,"Emission Factor",null,"Emissions",null,"GWP",null,"Emissions ",null,"Emissions "]
["Fuel Type","(Billion Btu)",null,"(metric tons N2O/BBtu)",null,"(metric tons N2O)",null,null,null,"(MMTCE)",null,"(MMTCO2E)"]
["Coal",{"$f":"VLOOKUP($A$2&$C$2&$B$2&$C$2&$A20,ConsumeBlock3,4,FALSE)","v":{"$error":"#N/A"}},"x",{"$f":"CoalNEFutil","v":0},"=",{"$f":"B20*D20","v":{"$error":"#N/A"}},"x",{"$f":"GWPN2O","v":298},"=",{"$f":"F20*H20*CO2_C/(10^6)","v":{"$error":"#N/A"}},"=",{"$f":"J20/CO2_C","v":{"$error":"#N/A"}}]
["Distillate Fuel",{"$error":"#N/A"},"x",{"$f":"DistillNEFutil","v":0},"=",{"$f":"B21*D21","v":{"$error":"#N/A"}},"x",298,"=",{"$error":"#N/A"},"=",{"$error":"#N/A"}]
["Petroleum Coke",{"$error":"#N/A"},"x",{"$f":"PetCokeNEFutil","v":0},"=",{"$error":"#N/A"},"x",298,"=",{"$error":"#N/A"},"=",{"$error":"#N/A"}]
["Residual Fuel",{"$error":"#N/A"},"x",{"$f":"ResidNEFutil","v":0},"=",{"$error":"#N/A"},"x",298,"=",{"$error":"#N/A"},"=",{"$error":"#N/A"}]
["Natural Gas",{"$error":"#N/A"},"x",{"$f":"NatGasNEFutil","v":0},"=",{"$error":"#N/A"},"x",298,"=",{"$error":"#N/A"},"=",{"$error":"#N/A"}]
["Wood",{"$error":"#N/A"},"x",{"$f":"WoodNEFutil","v":0},"=",{"$error":"#N/A"},"x",298,"=",{"$error":"#N/A"},"=",{"$error":"#N/A"}]
["Other",{"$f":"VLOOKUP($A$2&$C$2&$B$2&$C$2&$A26,ConsumeBlock3,D16-1987,FALSE)","v":0},"x",{"$f":"OtherNEFutil","v":0},"=",0,"x",298,"=",0,"=",0]
[null,null,null,null,null,null,null,"Total","=",{"$f":"SUM(J20:J26)","v":{"$error":"#N/A"}},"=",{"$error":"#N/A"}]
[]
["Electric Power Sector N2O",null,null,{"$f":"D16+1","v":1992}]
[]
[null,"Consumption",null,"Emission Factor",null,"Emissions",null,"GWP",null,"Emissions ",null,"Emissions "]
["Fuel Type","(Billion Btu)",null,"(metric tons N2O/BBtu)",null,"(metric tons N2O)",null,null,null,"(MMTCE)",null,"(MMTCO2E)"]
["Coal",{"$f":"VLOOKUP($A$2&$C$2&$B$2&$C$2&$A33,ConsumeBlock3,5,FALSE)","v":{"$error":"#N/A"}},"x",{"$f":"CoalNEFutil","v":0},"=",{"$f":"B33*D33","v":{"$error":"#N/A"}},"x",{"$f":"GWPN2O","v":298},"=",{"$f":"F33*H33*CO2_C/(10^6)","v":{"$error":"#N/A"}},"=",{"$f":"J33/CO2_C","v":{"$error":"#N/A"}}]
["Distillate Fuel",{"$error":"#N/A"},"x",{"$f":"DistillNEFutil","v":0},"=",{"$f":"B34*D34","v":{"$error":"#N/A"}},"x",298,"=",{"$error":"#N/A"},"=",{"$error":"#N/A"}]
["Petroleum Coke",{"$error":"#N/A"},"x",{"$f":"PetCokeNEFutil","v":0},"=",{"$error":"#N/A"},"x",298,"=",{"$error":"#N/A"},"=",{"$error":"#N/A"}]
["Residual Fuel",{"$error":"#N/A"},"x",{"$f":"ResidNEFutil","v":0},"=",{"$error":"#N/A"},"x",298,"=",{"$error":"#N/A"},"=",{"$error":"#N/A"}]
["Natural Gas",{"$error":"#N/A"},"x",{"$f":"NatGasNEFutil","v":0},"=",{"$error":"#N/A"},"x",298,"=",{"$error":"#N/A"},"=",{"$error":"#N/A"}]
["Wood",{"$error":"#N/A"},"x",{"$f":"WoodNEFutil","v":0},"=",{"$error":"#N/A"},"x",298,"=",{"$error":"#N/A"},"=",{"$error":"#N/A"}]
["Other",{"$f":"VLOOKUP($A$2&$C$2&$B$2&$C$2&$A39,ConsumeBlock3,D29-1987,FALSE)","v":0},"x",{"$f":"OtherNEFutil","v":0},"=",0,"x",298,"=",0,"=",0]
[null,null,null,null,null,null,null,"Total","=",{"$f":"SUM(J33:J39)","v":{"$error":"#N/A"}},"=",{"$error":"#N/A"}]
[]
["Electric Power Sector N2O",null,null,{"$f":"D29+1","v":1993}]
[]
[null,"Consumption",null,"Emission Factor",null,"Emissions",null,"GWP",null,"Emissions ",null,"Emissions "]
["Fuel Type","(Billion Btu)",null,"(metric tons N2O/BBtu)",null,"(metric tons N2O)",null,null,null,"(MMTCE)",null,"(MMTCO2E)"]
["Coal",{"$f":"VLOOKUP($A$2&$C$2&$B$2&$C$2&$A46,ConsumeBlock3,6,FALSE)","v":{"$error":"#N/A"}},"x",{"$f":"CoalNEFutil","v":0},"=",{"$f":"B46*D46","v":{"$error":"#N/A"}},"x",{"$f":"GWPN2O","v":298},"=",{"$f":"F46*H46*CO2_C/(10^6)","v":{"$error":"#N/A"}},"=",{"$f":"J46/CO2_C","v":{"$error":"#N/A"}}]
["Distillate Fuel",{"$error":"#N/A"},"x",{"$f":"DistillNEFutil","v":0},"=",{"$f":"B47*D47","v":{"$error":"#N/A"}},"x",298,"=",{"$error":"#N/A"},"=",{"$error":"#N/A"}]
["Petroleum Coke",{"$error":"#N/A"},"x",{"$f":"PetCokeNEFutil","v":0},"=",{"$error":"#N/A"},"x",298,"=",{"$error":"#N/A"},"=",{"$error":"#N/A"}]
["Residual Fuel",{"$error":"#N/A"},"x",{"$f":"ResidNEFutil","v":0},"=",{"$error":"#N/A"},"x",298,"=",{"$error":"#N/A"},"=",{"$error":"#N/A"}]
["Natural Gas",{"$error":"#N/A"},"x",{"$f":"NatGasNEFutil","v":0},"=",{"$error":"#N/A"},"x",298,"=",{"$error":"#N/A"},"=",{"$error":"#N/A"}]
["Wood",{"$error":"#N/A"},"x",{"$f":"WoodNEFutil","v":0},"=",{"$error":"#N/A"},"x",298,"=",{"$error":"#N/A"},"=",{"$error":"#N/A"}]
["Other",{"$f":"VLOOKUP($A$2&$C$2&$B$2&$C$2&$A52,ConsumeBlock3,D42-1987,FALSE)","v":0},"x",{"$f":"OtherNEFutil","v":0},"=",0,"x",298,"=",0,"=",0]
[null,null,null,null,null,null,null,"Total","=",{"$f":"SUM(J46:J52)","v":{"$error":"#N/A"}},"=",{"$error":"#N/A"}]
[]
["Electric Power Sector N2O",null,null,{"$f":"D42+1","v":1994}]
[]
[null,"Consumption",null,"Emission Factor",null,"Emissions",null,"GWP",null,"Emissions ",null,"Emissions "]
["Fuel Type","(Billion Btu)",null,"(metric tons N2O/BBtu)",null,"(metric tons N2O)",null,null,null,"(MMTCE)",null,"(MMTCO2E)"]
["Coal",{"$f":"VLOOKUP($A$2&$C$2&$B$2&$C$2&$A59,ConsumeBlock3,7,FALSE)","v":{"$error":"#N/A"}},"x",{"$f":"CoalNEFutil","v":0},"=",{"$f":"B59*D59","v":{"$error":"#N/A"}},"x",{"$f":"GWPN2O","v":298},"=",{"$f":"F59*H59*CO2_C/(10^6)","v":{"$error":"#N/A"}},"=",{"$f":"J59/CO2_C","v":{"$error":"#N/A"}}]
["Distillate Fuel",{"$error":"#N/A"},"x",{"$f":"DistillNEFutil","v":0},"=",{"$f":"B60*D60","v":{"$error":"#N/A"}},"x",298,"=",{"$error":"#N/A"},"=",{"$error":"#N/A"}]
["Petroleum Coke",{"$error":"#N/A"},"x",{"$f":"PetCokeNEFutil","v":0},"=",{"$error":"#N/A"},"x",298,"=",{"$error":"#N/A"},"=",{"$error":"#N/A"}]
["Residual Fuel",{"$error":"#N/A"},"x",{"$f":"ResidNEFutil","v":0},"=",{"$error":"#N/A"},"x",298,"=",{"$error":"#N/A"},"=",{"$error":"#N/A"}]
["Natural Gas",{"$error":"#N/A"},"x",{"$f":"NatGasNEFutil","v":0},"=",{"$error":"#N/A"},"x",298,"=",{"$error":"#N/A"},"=",{"$error":"#N/A"}]
["Wood",{"$error":"#N/A"},"x",{"$f":"WoodNEFutil","v":0},"=",{"$error":"#N/A"},"x",298,"=",{"$error":"#N/A"},"=",{"$error":"#N/A"}]
["Other",{"$f":"VLOOKUP($A$2&$C$2&$B$2&$C$2&$A65,ConsumeBlock3,D55-1987,FALSE)","v":0},"x",{"$f":"OtherNEFutil","v":0},"=",0,"x",298,"=",0,"=",0]
[null,null,null,null,null,null,null,"Total","=",{"$f":"SUM(J59:J65)","v":{"$error":"#N/A"}},"=",{"$error":"#N/A"}]
[]
["Electric Power Sector N2O",null,null,{"$f":"D55+1","v":1995}]
[]
[null,"Consumption",null,"Emission Factor",null,"Emissions",null,"GWP",null,"Emissions ",null,"Emissions "]
["Fuel Type","(Billion Btu)",null,"(metric tons N2O/BBtu)",null,"(metric tons N2O)",null,null,null,"(MMTCE)",null,"(MMTCO2E)"]
["Coal",{"$f":"VLOOKUP($A$2&$C$2&$B$2&$C$2&$A72,ConsumeBlock3,8,FALSE)","v":{"$error":"#N/A"}},"x",{"$f":"CoalNEFutil","v":0},"=",{"$f":"B72*D72","v":{"$error":"#N/A"}},"x",{"$f":"GWPN2O","v":298},"=",{"$f":"F72*H72*CO2_C/(10^6)","v":{"$error":"#N/A"}},"=",{"$f":"J72/CO2_C","v":{"$error":"#N/A"}}]
["Distillate Fuel",{"$error":"#N/A"},"x",{"$f":"DistillNEFutil","v":0},"=",{"$f":"B73*D73","v":{"$error":"#N/A"}},"x",298,"=",{"$error":"#N/A"},"=",{"$error":"#N/A"}]
["Petroleum Coke",{"$error":"#N/A"},"x",{"$f":"PetCokeNEFutil","v":0},"=",{"$error":"#N/A"},"x",298,"=",{"$error":"#N/A"},"=",{"$error":"#N/A"}]
["Residual Fuel",{"$error":"#N/A"},"x",{"$f":"ResidNEFutil","v":0},"=",{"$error":"#N/A"},"x",298,"=",{"$error":"#N/A"},"=",{"$error":"#N/A"}]
["Natural Gas",{"$error":"#N/A"},"x",{"$f":"NatGasNEFutil","v":0},"=",{"$error":"#N/A"},"x",298,"=",{"$error":"#N/A"},"=",{"$error":"#N/A"}]
["Wood",{"$error":"#N/A"},"x",{"$f":"WoodNEFutil","v":0},"=",{"$error":"#N/A"},"x",298,"=",{"$error":"#N/A"},"=",{"$error":"#N/A"}]
["Other",{"$f":"VLOOKUP($A$2&$C$2&$B$2&$C$2&$A78,ConsumeBlock3,D68-1987,FALSE)","v":0},"x",{"$f":"OtherNEFutil","v":0},"=",0,"x",298,"=",0,"=",0]
[null,null,null,null,null,null,null,"Total","=",{"$f":"SUM(J72:J78)","v":{"$error":"#N/A"}},"=",{"$error":"#N/A"}]
[]
["Electric Power Sector N2O",null,null,{"$f":"D68+1","v":1996}]
[]
[null,"Consumption",null,"Emission Factor",null,"Emissions",null,"GWP",null,"Emissions ",null,"Emissions "]
["Fuel Type","(Billion Btu)",null,"(metric tons N2O/BBtu)",null,"(metric tons N2O)",null,null,null,"(MMTCE)",null,"(MMTCO2E)"]
["Coal",{"$f":"VLOOKUP($A$2&$C$2&$B$2&$C$2&$A85,ConsumeBlock3,9,FALSE)","v":{"$error":"#N/A"}},"x",{"$f":"CoalNEFutil","v":0},"=",{"$f":"B85*D85","v":{"$error":"#N/A"}},"x",{"$f":"GWPN2O","v":298},"=",{"$f":"F85*H85*CO2_C/(10^6)","v":{"$error":"#N/A"}},"=",{"$f":"J85/CO2_C","v":{"$error":"#N/A"}}]
["Distillate Fuel",{"$error":"#N/A"},"x",{"$f":"DistillNEFutil","v":0},"=",{"$f":"B86*D86","v":{"$error":"#N/A"}},"x",298,"=",{"$error":"#N/A"},"=",{"$error":"#N/A"}]
["Petroleum Coke",{"$error":"#N/A"},"x",{"$f":"PetCokeNEFutil","v":0},"=",{"$error":"#N/A"},"x",298,"=",{"$error":"#N/A"},"=",{"$error":"#N/A"}]
["Residual Fuel",{"$error":"#N/A"},"x",{"$f":"ResidNEFutil","v":0},"=",{"$error":"#N/A"},"x",298,"=",{"$error":"#N/A"},"=",{"$error":"#N/A"}]
["Natural Gas",{"$error":"#N/A"},"x",{"$f":"NatGasNEFutil","v":0},"=",{"$error":"#N/A"},"x",298,"=",{"$error":"#N/A"},"=",{"$error":"#N/A"}]
["Wood",{"$error":"#N/A"},"x",{"$f":"WoodNEFutil","v":0},"=",{"$error":"#N/A"},"x",298,"=",{"$error":"#N/A"},"=",{"$error":"#N/A"}]
["Other",{"$f":"VLOOKUP($A$2&$C$2&$B$2&$C$2&$A91,ConsumeBlock3,D81-1987,FALSE)","v":0},"x",{"$f":"OtherNEFutil","v":0},"=",0,"x",298,"=",0,"=",0]
[null,null,null,null,null,null,null,"Total","=",{"$f":"SUM(J85:J91)","v":{"$error":"#N/A"}},"=",{"$error":"#N/A"}]
[]
["Electric Power Sector N2O",null,null,{"$f":"D81+1","v":1997}]
[]
[null,"Consumption",null,"Emission Factor",null,"Emissions",null,"GWP",null,"Emissions ",null,"Emissions "]
["Fuel Type","(Billion Btu)",null,"(metric tons N2O/BBtu)",null,"(metric tons N2O)",null,null,null,"(MMTCE)",null,"(MMTCO2E)"]
["Coal",{"$f":"VLOOKUP($A$2&$C$2&$B$2&$C$2&$A98,ConsumeBlock3,10,FALSE)","v":{"$error":"#N/A"}},"x",{"$f":"CoalNEFutil","v":0},"=",{"$f":"B98*D98","v":{"$error":"#N/A"}},"x",{"$f":"GWPN2O","v":298},"=",{"$f":"F98*H98*CO2_C/(10^6)","v":{"$error":"#N/A"}},"=",{"$f":"J98/CO2_C","v":{"$error":"#N/A"}}]
["Distillate Fuel",{"$error":"#N/A"},"x",{"$f":"DistillNEFutil","v":0},"=",{"$f":"B99*D99","v":{"$error":"#N/A"}},"x",298,"=",{"$error":"#N/A"},"=",{"$error":"#N/A"}]
["Petroleum Coke",{"$error":"#N/A"},"x",{"$f":"PetCokeNEFutil","v":0},"=",{"$error":"#N/A"},"x",298,"=",{"$error":"#N/A"},"=",{"$error":"#N/A"}]
["Residual Fuel",{"$error":"#N/A"},"x",{"$f":"ResidNEFutil","v":0},"=",{"$error":"#N/A"},"x",298,"=",{"$error":"#N/A"},"=",{"$error":"#N/A"}]
["Natural Gas",{"$error":"#N/A"},"x",{"$f":"NatGasNEFutil","v":0},"=",{"$error":"#N/A"},"x",298,"=",{"$error":"#N/A"},"=",{"$error":"#N/A"}]
["Wood",{"$error":"#N/A"},"x",{"$f":"WoodNEFutil","v":0},"=",{"$error":"#N/A"},"x",298,"=",{"$error":"#N/A"},"=",{"$error":"#N/A"}]
["Other",{"$f":"VLOOKUP($A$2&$C$2&$B$2&$C$2&$A104,ConsumeBlock3,D94-1987,FALSE)","v":0},"x",{"$f":"OtherNEFutil","v":0},"=",0,"x",298,"=",0,"=",0]
[null,null,null,null,null,null,null,"Total","=",{"$f":"SUM(J98:J104)","v":{"$error":"#N/A"}},"=",{"$error":"#N/A"}]
[]
["Electric Power Sector N2O",null,null,{"$f":"D94+1","v":1998}]
[]
[null,"Consumption",null,"Emission Factor",null,"Emissions",null,"GWP",null,"Emissions ",null,"Emissions "]
["Fuel Type","(Billion Btu)",null,"(metric tons N2O/BBtu)",null,"(metric tons N2O)",null,null,null,"(MMTCE)",null,"(MMTCO2E)"]
["Coal",{"$f":"VLOOKUP($A$2&$C$2&$B$2&$C$2&$A111,ConsumeBlock3,11,FALSE)","v":{"$error":"#N/A"}},"x",{"$f":"CoalNEFutil","v":0},"=",{"$f":"B111*D111","v":{"$error":"#N/A"}},"x",{"$f":"GWPN2O","v":298},"=",{"$f":"F111*H111*CO2_C/(10^6)","v":{"$error":"#N/A"}},"=",{"$f":"J111/CO2_C","v":{"$error":"#N/A"}}]
["Distillate Fuel",{"$error":"#N/A"},"x",{"$f":"DistillNEFutil","v":0},"=",{"$f":"B112*D112","v":{"$error":"#N/A"}},"x",298,"=",{"$error":"#N/A"},"=",{"$error":"#N/A"}]
["Petroleum Coke",{"$error":"#N/A"},"x",{"$f":"PetCokeNEFutil","v":0},"=",{"$error":"#N/A"},"x",298,"=",{"$error":"#N/A"},"=",{"$error":"#N/A"}]
["Residual Fuel",{"$error":"#N/A"},"x",{"$f":"ResidNEFutil","v":0},"=",{"$error":"#N/A"},"x",298,"=",{"$error":"#N/A"},"=",{"$error":"#N/A"}]
["Natural Gas",{"$error":"#N/A"},"x",{"$f":"NatGasNEFutil","v":0},"=",{"$error":"#N/A"},"x",298,"=",{"$error":"#N/A"},"=",{"$error":"#N/A"}]
["Wood",{"$error":"#N/A"},"x",{"$f":"WoodNEFutil","v":0},"=",{"$error":"#N/A"},"x",298,"=",{"$error":"#N/A"},"=",{"$error":"#N/A"}]
["Other",{"$f":"VLOOKUP($A$2&$C$2&$B$2&$C$2&$A117,ConsumeBlock3,D107-1987,FALSE)","v":0},"x",{"$f":"OtherNEFutil","v":0},"=",0,"x",298,"=",0,"=",0]
[null,null,null,null,null,null,null,"Total","=",{"$f":"SUM(J111:J117)","v":{"$error":"#N/A"}},"=",{"$error":"#N/A"}]
[]
["Electric Power Sector N2O",null,null,{"$f":"D107+1","v":1999}]
[]
[null,"Consumption",null,"Emission Factor",null,"Emissions",null,"GWP",null,"Emissions ",null,"Emissions "]
["Fuel Type","(Billion Btu)",null,"(metric tons N2O/BBtu)",null,"(metric tons N2O)",null,null,null,"(MMTCE)",null,"(MMTCO2E)"]
["Coal",{"$f":"VLOOKUP($A$2&$C$2&$B$2&$C$2&$A124,ConsumeBlock3,12,FALSE)","v":{"$error":"#N/A"}},"x",{"$f":"CoalNEFutil","v":0},"=",{"$f":"B124*D124","v":{"$error":"#N/A"}},"x",{"$f":"GWPN2O","v":298},"=",{"$f":"F124*H124*CO2_C/(10^6)","v":{"$error":"#N/A"}},"=",{"$f":"J124/CO2_C","v":{"$error":"#N/A"}}]
["Distillate Fuel",{"$error":"#N/A"},"x",{"$f":"DistillNEFutil","v":0},"=",{"$f":"B125*D125","v":{"$error":"#N/A"}},"x",298,"=",{"$error":"#N/A"},"=",{"$error":"#N/A"}]
["Petroleum Coke",{"$error":"#N/A"},"x",{"$f":"PetCokeNEFutil","v":0},"=",{"$error":"#N/A"},"x",298,"=",{"$error":"#N/A"},"=",{"$error":"#N/A"}]
["Residual Fuel",{"$error":"#N/A"},"x",{"$f":"ResidNEFutil","v":0},"=",{"$error":"#N/A"},"x",298,"=",{"$error":"#N/A"},"=",{"$error":"#N/A"}]
["Natural Gas",{"$error":"#N/A"},"x",{"$f":"NatGasNEFutil","v":0},"=",{"$error":"#N/A"},"x",298,"=",{"$error":"#N/A"},"=",{"$error":"#N/A"}]
["Wood",{"$error":"#N/A"},"x",{"$f":"WoodNEFutil","v":0},"=",{"$error":"#N/A"},"x",298,"=",{"$error":"#N/A"},"=",{"$error":"#N/A"}]
["Other",{"$f":"VLOOKUP($A$2&$C$2&$B$2&$C$2&$A130,ConsumeBlock3,D120-1987,FALSE)","v":0},"x",{"$f":"OtherNEFutil","v":0},"=",0,"x",298,"=",0,"=",0]
[null,null,null,null,null,null,null,"Total","=",{"$f":"SUM(J124:J130)","v":{"$error":"#N/A"}},"=",{"$error":"#N/A"}]
[]
["Electric Power Sector N2O",null,null,{"$f":"D120+1","v":2000}]
[]
[null,"Consumption",null,"Emission Factor",null,"Emissions",null,"GWP",null,"Emissions ",null,"Emissions "]
["Fuel Type","(Billion Btu)",null,"(metric tons N2O/BBtu)",null,"(metric tons N2O)",null,null,null,"(MMTCE)",null,"(MMTCO2E)"]
["Coal",{"$f":"VLOOKUP($A$2&$C$2&$B$2&$C$2&$A137,ConsumeBlock3,13,FALSE)","v":{"$error":"#N/A"}},"x",{"$f":"CoalNEFutil","v":0},"=",{"$f":"B137*D137","v":{"$error":"#N/A"}},"x",{"$f":"GWPN2O","v":298},"=",{"$f":"F137*H137*CO2_C/(10^6)","v":{"$error":"#N/A"}},"=",{"$f":"J137/CO2_C","v":{"$error":"#N/A"}}]
["Distillate Fuel",{"$error":"#N/A"},"x",{"$f":"DistillNEFutil","v":0},"=",{"$f":"B138*D138","v":{"$error":"#N/A"}},"x",298,"=",{"$error":"#N/A"},"=",{"$error":"#N/A"}]
["Petroleum Coke",{"$error":"#N/A"},"x",{"$f":"PetCokeNEFutil","v":0},"=",{"$error":"#N/A"},"x",298,"=",{"$error":"#N/A"},"=",{"$error":"#N/A"}]
["Residual Fuel",{"$error":"#N/A"},"x",{"$f":"ResidNEFutil","v":0},"=",{"$error":"#N/A"},"x",298,"=",{"$error":"#N/A"},"=",{"$error":"#N/A"}]
["Natural Gas",{"$error":"#N/A"},"x",{"$f":"NatGasNEFutil","v":0},"=",{"$error":"#N/A"},"x",298,"=",{"$error":"#N/A"},"=",{"$error":"#N/A"}]
["Wood",{"$error":"#N/A"},"x",{"$f":"WoodNEFutil","v":0},"=",{"$error":"#N/A"},"x",298,"=",{"$error":"#N/A"},"=",{"$error":"#N/A"}]
["Other",{"$f":"VLOOKUP($A$2&$C$2&$B$2&$C$2&$A143,ConsumeBlock3,D133-1987,FALSE)","v":0},"x",{"$f":"OtherNEFutil","v":0},"=",0,"x",298,"=",0,"=",0]
[null,null,null,null,null,null,null,"Total","=",{"$f":"SUM(J137:J143)","v":{"$error":"#N/A"}},"=",{"$error":"#N/A"}]
[]
["Electric Power Sector N2O",null,null,{"$f":"D133+1","v":2001}]
[]
[null,"Consumption",null,"Emission Factor",null,"Emissions",null,"GWP",null,"Emissions ",null,"Emissions "]
["Fuel Type","(Billion Btu)",null,"(metric tons N2O/BBtu)",null,"(metric tons N2O)",null,null,null,"(MMTCE)",null,"(MMTCO2E)"]
["Coal",{"$f":"VLOOKUP($A$2&$C$2&$B$2&$C$2&$A150,ConsumeBlock3,14,FALSE)","v":{"$error":"#N/A"}},"x",{"$f":"CoalNEFutil","v":0},"=",{"$f":"B150*D150","v":{"$error":"#N/A"}},"x",{"$f":"GWPN2O","v":298},"=",{"$f":"F150*H150*CO2_C/(10^6)","v":{"$error":"#N/A"}},"=",{"$f":"J150/CO2_C","v":{"$error":"#N/A"}}]
["Distillate Fuel",{"$error":"#N/A"},"x",{"$f":"DistillNEFutil","v":0},"=",{"$f":"B151*D151","v":{"$error":"#N/A"}},"x",298,"=",{"$error":"#N/A"},"=",{"$error":"#N/A"}]
["Petroleum Coke",{"$error":"#N/A"},"x",{"$f":"PetCokeNEFutil","v":0},"=",{"$error":"#N/A"},"x",298,"=",{"$error":"#N/A"},"=",{"$error":"#N/A"}]
["Residual Fuel",{"$error":"#N/A"},"x",{"$f":"ResidNEFutil","v":0},"=",{"$error":"#N/A"},"x",298,"=",{"$error":"#N/A"},"=",{"$error":"#N/A"}]
["Natural Gas",{"$error":"#N/A"},"x",{"$f":"NatGasNEFutil","v":0},"=",{"$error":"#N/A"},"x",298,"=",{"$error":"#N/A"},"=",{"$error":"#N/A"}]
["Wood",{"$error":"#N/A"},"x",{"$f":"WoodNEFutil","v":0},"=",{"$error":"#N/A"},"x",298,"=",{"$error":"#N/A"},"=",{"$error":"#N/A"}]
["Other",{"$f":"VLOOKUP($A$2&$C$2&$B$2&$C$2&$A156,ConsumeBlock3,D146-1987,FALSE)","v":0},"x",{"$f":"OtherNEFutil","v":0},"=",0,"x",298,"=",0,"=",0]
[null,null,null,null,null,null,null,"Total","=",{"$f":"SUM(J150:J156)","v":{"$error":"#N/A"}},"=",{"$error":"#N/A"}]
[]
["Electric Power Sector N2O",null,null,{"$f":"D146+1","v":2002}]
[]
[null,"Consumption",null,"Emission Factor",null,"Emissions",null,"GWP",null,"Emissions ",null,"Emissions "]
["Fuel Type","(Billion Btu)",null,"(metric tons N2O/BBtu)",null,"(metric tons N2O)",null,null,null,"(MMTCE)",null,"(MMTCO2E)"]
["Coal",{"$f":"VLOOKUP($A$2&$C$2&$B$2&$C$2&$A163,ConsumeBlock3,15,FALSE)","v":{"$error":"#N/A"}},"x",{"$f":"CoalNEFutil","v":0},"=",{"$f":"B163*D163","v":{"$error":"#N/A"}},"x",{"$f":"GWPN2O","v":298},"=",{"$f":"F163*H163*CO2_C/(10^6)","v":{"$error":"#N/A"}},"=",{"$f":"J163/CO2_C","v":{"$error":"#N/A"}}]
["Distillate Fuel",{"$error":"#N/A"},"x",{"$f":"DistillNEFutil","v":0},"=",{"$f":"B164*D164","v":{"$error":"#N/A"}},"x",298,"=",{"$error":"#N/A"},"=",{"$error":"#N/A"}]
["Petroleum Coke",{"$error":"#N/A"},"x",{"$f":"PetCokeNEFutil","v":0},"=",{"$error":"#N/A"},"x",298,"=",{"$error":"#N/A"},"=",{"$error":"#N/A"}]
["Residual Fuel",{"$error":"#N/A"},"x",{"$f":"ResidNEFutil","v":0},"=",{"$error":"#N/A"},"x",298,"=",{"$error":"#N/A"},"=",{"$error":"#N/A"}]
["Natural Gas",{"$error":"#N/A"},"x",{"$f":"NatGasNEFutil","v":0},"=",{"$error":"#N/A"},"x",298,"=",{"$error":"#N/A"},"=",{"$error":"#N/A"}]
["Wood",{"$error":"#N/A"},"x",{"$f":"WoodNEFutil","v":0},"=",{"$error":"#N/A"},"x",298,"=",{"$error":"#N/A"},"=",{"$error":"#N/A"}]
["Other",{"$f":"VLOOKUP($A$2&$C$2&$B$2&$C$2&$A169,ConsumeBlock3,D159-1987,FALSE)","v":0},"x",{"$f":"OtherNEFutil","v":0},"=",0,"x",298,"=",0,"=",0]
[null,null,null,null,null,null,null,"Total","=",{"$f":"SUM(J163:J169)","v":{"$error":"#N/A"}},"=",{"$error":"#N/A"}]
[]
["Electric Power Sector N2O",null,null,{"$f":"D159+1","v":2003}]
[]
[null,"Consumption",null,"Emission Factor",null,"Emissions",null,"GWP",null,"Emissions ",null,"Emissions "]
["Fuel Type","(Billion Btu)",null,"(metric tons N2O/BBtu)",null,"(metric tons N2O)",null,null,null,"(MMTCE)",null,"(MMTCO2E)"]
["Coal",{"$f":"VLOOKUP($A$2&$C$2&$B$2&$C$2&$A176,ConsumeBlock3,16,FALSE)","v":{"$error":"#N/A"}},"x",{"$f":"CoalNEFutil","v":0},"=",{"$f":"B176*D176","v":{"$error":"#N/A"}},"x",{"$f":"GWPN2O","v":298},"=",{"$f":"F176*H176*CO2_C/(10^6)","v":{"$error":"#N/A"}},"=",{"$f":"J176/CO2_C","v":{"$error":"#N/A"}}]
["Distillate Fuel",{"$error":"#N/A"},"x",{"$f":"DistillNEFutil","v":0},"=",{"$f":"B177*D177","v":{"$error":"#N/A"}},"x",298,"=",{"$error":"#N/A"},"=",{"$error":"#N/A"}]
["Petroleum Coke",{"$error":"#N/A"},"x",{"$f":"PetCokeNEFutil","v":0},"=",{"$error":"#N/A"},"x",298,"=",{"$error":"#N/A"},"=",{"$error":"#N/A"}]
["Residual Fuel",{"$error":"#N/A"},"x",{"$f":"ResidNEFutil","v":0},"=",{"$error":"#N/A"},"x",298,"=",{"$error":"#N/A"},"=",{"$error":"#N/A"}]
["Natural Gas",{"$error":"#N/A"},"x",{"$f":"NatGasNEFutil","v":0},"=",{"$error":"#N/A"},"x",298,"=",{"$error":"#N/A"},"=",{"$error":"#N/A"}]
["Wood",{"$error":"#N/A"},"x",{"$f":"WoodNEFutil","v":0},"=",{"$error":"#N/A"},"x",298,"=",{"$error":"#N/A"},"=",{"$error":"#N/A"}]
["Other",{"$f":"VLOOKUP($A$2&$C$2&$B$2&$C$2&$A182,ConsumeBlock3,D172-1987,FALSE)","v":0},"x",{"$f":"OtherNEFutil","v":0},"=",0,"x",298,"=",0,"=",0]
[null,null,null,null,null,null,null,"Total","=",{"$f":"SUM(J176:J182)","v":{"$error":"#N/A"}},"=",{"$error":"#N/A"}]
[]
["Electric Power Sector N2O",null,null,{"$f":"D172+1","v":2004}]
[]
[null,"Consumption",null,"Emission Factor",null,"Emissions",null,"GWP",null,"Emissions ",null,"Emissions "]
["Fuel Type","(Billion Btu)",null,"(metric tons N2O/BBtu)",null,"(metric tons N2O)",null,null,null,"(MMTCE)",null,"(MMTCO2E)"]
["Coal",{"$f":"VLOOKUP($A$2&$C$2&$B$2&$C$2&$A189,ConsumeBlock3,17,FALSE)","v":{"$error":"#N/A"}},"x",{"$f":"CoalNEFutil","v":0},"=",{"$f":"B189*D189","v":{"$error":"#N/A"}},"x",{"$f":"GWPN2O","v":298},"=",{"$f":"F189*H189*CO2_C/(10^6)","v":{"$error":"#N/A"}},"=",{"$f":"J189/CO2_C","v":{"$error":"#N/A"}}]
["Distillate Fuel",{"$error":"#N/A"},"x",{"$f":"DistillNEFutil","v":0},"=",{"$f":"B190*D190","v":{"$error":"#N/A"}},"x",298,"=",{"$error":"#N/A"},"=",{"$error":"#N/A"}]
["Petroleum Coke",{"$error":"#N/A"},"x",{"$f":"PetCokeNEFutil","v":0},"=",{"$error":"#N/A"},"x",298,"=",{"$error":"#N/A"},"=",{"$error":"#N/A"}]
["Residual Fuel",{"$error":"#N/A"},"x",{"$f":"ResidNEFutil","v":0},"=",{"$error":"#N/A"},"x",298,"=",{"$error":"#N/A"},"=",{"$error":"#N/A"}]
["Natural Gas",{"$error":"#N/A"},"x",{"$f":"NatGasNEFutil","v":0},"=",{"$error":"#N/A"},"x",298,"=",{"$error":"#N/A"},"=",{"$error":"#N/A"}]
["Wood",{"$error":"#N/A"},"x",{"$f":"WoodNEFutil","v":0},"=",{"$error":"#N/A"},"x",298,"=",{"$error":"#N/A"},"=",{"$error":"#N/A"}]
["Other",{"$f":"VLOOKUP($A$2&$C$2&$B$2&$C$2&$A195,ConsumeBlock3,D185-1987,FALSE)","v":0},"x",{"$f":"OtherNEFutil","v":0},"=",0,"x",298,"=",0,"=",0]
[null,null,null,null,null,null,null,"Total","=",{"$f":"SUM(J189:J195)","v":{"$error":"#N/A"}},"=",{"$error":"#N/A"}]
[]
["Electric Power Sector N2O",null,null,{"$f":"D185+1","v":2005}]
[]
[null,"Consumption",null,"Emission Factor",null,"Emissions",null,"GWP",null,"Emissions ",null,"Emissions "]
["Fuel Type","(Billion Btu)",null,"(metric tons N2O/BBtu)",null,"(metric tons N2O)",null,null,null,"(MMTCE)",null,"(MMTCO2E)"]
["Coal",{"$f":"VLOOKUP($A$2&$C$2&$B$2&$C$2&$A202,ConsumeBlock3,18,FALSE)","v":{"$error":"#N/A"}},"x",{"$f":"CoalNEFutil","v":0},"=",{"$f":"B202*D202","v":{"$error":"#N/A"}},"x",{"$f":"GWPN2O","v":298},"=",{"$f":"F202*H202*CO2_C/(10^6)","v":{"$error":"#N/A"}},"=",{"$f":"J202/CO2_C","v":{"$error":"#N/A"}}]
["Distillate Fuel",{"$error":"#N/A"},"x",{"$f":"DistillNEFutil","v":0},"=",{"$f":"B203*D203","v":{"$error":"#N/A"}},"x",298,"=",{"$error":"#N/A"},"=",{"$error":"#N/A"}]
["Petroleum Coke",{"$error":"#N/A"},"x",{"$f":"PetCokeNEFutil","v":0},"=",{"$error":"#N/A"},"x",298,"=",{"$error":"#N/A"},"=",{"$error":"#N/A"}]
["Residual Fuel",{"$error":"#N/A"},"x",{"$f":"ResidNEFutil","v":0},"=",{"$error":"#N/A"},"x",298,"=",{"$error":"#N/A"},"=",{"$error":"#N/A"}]
["Natural Gas",{"$error":"#N/A"},"x",{"$f":"NatGasNEFutil","v":0},"=",{"$error":"#N/A"},"x",298,"=",{"$error":"#N/A"},"=",{"$error":"#N/A"}]
["Wood",{"$error":"#N/A"},"x",{"$f":"WoodNEFutil","v":0},"=",{"$error":"#N/A"},"x",298,"=",{"$error":"#N/A"},"=",{"$error":"#N/A"}]
["Other",{"$f":"VLOOKUP($A$2&$C$2&$B$2&$C$2&$A208,ConsumeBlock3,D198-1987,FALSE)","v":0},"x",{"$f":"OtherNEFutil","v":0},"=",0,"x",298,"=",0,"=",0]
[null,null,null,null,null,null,null,"Total","=",{"$f":"SUM(J202:J208)","v":{"$error":"#N/A"}},"=",{"$error":"#N/A"}]
[]
["Electric Power Sector N2O",null,null,{"$f":"D198+1","v":2006}]
[]
[null,"Consumption",null,"Emission Factor",null,"Emissions",null,"GWP",null,"Emissions ",null,"Emissions "]
["Fuel Type","(Billion Btu)",null,"(metric tons N2O/BBtu)",null,"(metric tons N2O)",null,null,null,"(MMTCE)",null,"(MMTCO2E)"]
["Coal",{"$f":"VLOOKUP($A$2&$C$2&$B$2&$C$2&$A215,ConsumeBlock3,19,FALSE)","v":{"$error":"#N/A"}},"x",{"$f":"CoalNEFutil","v":0},"=",{"$f":"B215*D215","v":{"$error":"#N/A"}},"x",{"$f":"GWPN2O","v":298},"=",{"$f":"F215*H215*CO2_C/(10^6)","v":{"$error":"#N/A"}},"=",{"$f":"J215/CO2_C","v":{"$error":"#N/A"}}]
["Distillate Fuel",{"$error":"#N/A"},"x",{"$f":"DistillNEFutil","v":0},"=",{"$f":"B216*D216","v":{"$error":"#N/A"}},"x",298,"=",{"$error":"#N/A"},"=",{"$error":"#N/A"}]
["Petroleum Coke",{"$error":"#N/A"},"x",{"$f":"PetCokeNEFutil","v":0},"=",{"$error":"#N/A"},"x",298,"=",{"$error":"#N/A"},"=",{"$error":"#N/A"}]
["Residual Fuel",{"$error":"#N/A"},"x",{"$f":"ResidNEFutil","v":0},"=",{"$error":"#N/A"},"x",298,"=",{"$error":"#N/A"},"=",{"$error":"#N/A"}]
["Natural Gas",{"$error":"#N/A"},"x",{"$f":"NatGasNEFutil","v":0},"=",{"$error":"#N/A"},"x",298,"=",{"$error":"#N/A"},"=",{"$error":"#N/A"}]
["Wood",{"$error":"#N/A"},"x",{"$f":"WoodNEFutil","v":0},"=",{"$error":"#N/A"},"x",298,"=",{"$error":"#N/A"},"=",{"$error":"#N/A"}]
["Other",{"$f":"VLOOKUP($A$2&$C$2&$B$2&$C$2&$A221,ConsumeBlock3,D211-1987,FALSE)","v":0},"x",{"$f":"OtherNEFutil","v":0},"=",0,"x",298,"=",0,"=",0]
[null,null,null,null,null,null,null,"Total","=",{"$f":"SUM(J215:J221)","v":{"$error":"#N/A"}},"=",{"$error":"#N/A"}]
[]
["Electric Power Sector N2O",null,null,{"$f":"D211+1","v":2007}]
[]
[null,"Consumption",null,"Emission Factor",null,"Emissions",null,"GWP",null,"Emissions ",null,"Emissions "]
["Fuel Type","(Billion Btu)",null,"(metric tons N2O/BBtu)",null,"(metric tons N2O)",null,null,null,"(MMTCE)",null,"(MMTCO2E)"]
["Coal",{"$f":"VLOOKUP($A$2&$C$2&$B$2&$C$2&$A228,ConsumeBlock3,20,FALSE)","v":{"$error":"#N/A"}},"x",{"$f":"CoalNEFutil","v":0},"=",{"$f":"B228*D228","v":{"$error":"#N/A"}},"x",{"$f":"GWPN2O","v":298},"=",{"$f":"F228*H228*CO2_C/(10^6)","v":{"$error":"#N/A"}},"=",{"$f":"J228/CO2_C","v":{"$error":"#N/A"}}]
["Distillate Fuel",{"$error":"#N/A"},"x",{"$f":"DistillNEFutil","v":0},"=",{"$f":"B229*D229","v":{"$error":"#N/A"}},"x",298,"=",{"$error":"#N/A"},"=",{"$error":"#N/A"}]
["Petroleum Coke",{"$error":"#N/A"},"x",{"$f":"PetCokeNEFutil","v":0},"=",{"$error":"#N/A"},"x",298,"=",{"$error":"#N/A"},"=",{"$error":"#N/A"}]
["Residual Fuel",{"$error":"#N/A"},"x",{"$f":"ResidNEFutil","v":0},"=",{"$error":"#N/A"},"x",298,"=",{"$error":"#N/A"},"=",{"$error":"#N/A"}]
["Natural Gas",{"$error":"#N/A"},"x",{"$f":"NatGasNEFutil","v":0},"=",{"$error":"#N/A"},"x",298,"=",{"$error":"#N/A"},"=",{"$error":"#N/A"}]
["Wood",{"$error":"#N/A"},"x",{"$f":"WoodNEFutil","v":0},"=",{"$error":"#N/A"},"x",298,"=",{"$error":"#N/A"},"=",{"$error":"#N/A"}]
["Other",{"$f":"VLOOKUP($A$2&$C$2&$B$2&$C$2&$A234,ConsumeBlock3,D224-1987,FALSE)","v":0},"x",{"$f":"OtherNEFutil","v":0},"=",0,"x",298,"=",0,"=",0]
[null,null,null,null,null,null,null,"Total","=",{"$f":"SUM(J228:J234)","v":{"$error":"#N/A"}},"=",{"$error":"#N/A"}]
[]
["Electric Power Sector N2O",null,null,{"$f":"D224+1","v":2008}]
[]
[null,"Consumption",null,"Emission Factor",null,"Emissions",null,"GWP",null,"Emissions ",null,"Emissions "]
["Fuel Type","(Billion Btu)",null,"(metric tons N2O/BBtu)",null,"(metric tons N2O)",null,null,null,"(MMTCE)",null,"(MMTCO2E)"]
["Coal",{"$f":"VLOOKUP($A$2&$C$2&$B$2&$C$2&$A241,ConsumeBlock3,21,FALSE)","v":{"$error":"#N/A"}},"x",{"$f":"CoalNEFutil","v":0},"=",{"$f":"B241*D241","v":{"$error":"#N/A"}},"x",{"$f":"GWPN2O","v":298},"=",{"$f":"F241*H241*CO2_C/(10^6)","v":{"$error":"#N/A"}},"=",{"$f":"J241/CO2_C","v":{"$error":"#N/A"}}]
["Distillate Fuel",{"$error":"#N/A"},"x",{"$f":"DistillNEFutil","v":0},"=",{"$f":"B242*D242","v":{"$error":"#N/A"}},"x",298,"=",{"$error":"#N/A"},"=",{"$error":"#N/A"}]
["Petroleum Coke",{"$error":"#N/A"},"x",{"$f":"PetCokeNEFutil","v":0},"=",{"$error":"#N/A"},"x",298,"=",{"$error":"#N/A"},"=",{"$error":"#N/A"}]
["Residual Fuel",{"$error":"#N/A"},"x",{"$f":"ResidNEFutil","v":0},"=",{"$error":"#N/A"},"x",298,"=",{"$error":"#N/A"},"=",{"$error":"#N/A"}]
["Natural Gas",{"$error":"#N/A"},"x",{"$f":"NatGasNEFutil","v":0},"=",{"$error":"#N/A"},"x",298,"=",{"$error":"#N/A"},"=",{"$error":"#N/A"}]
["Wood",{"$error":"#N/A"},"x",{"$f":"WoodNEFutil","v":0},"=",{"$error":"#N/A"},"x",298,"=",{"$error":"#N/A"},"=",{"$error":"#N/A"}]
["Other",{"$f":"VLOOKUP($A$2&$C$2&$B$2&$C$2&$A247,ConsumeBlock3,D237-1987,FALSE)","v":0},"x",{"$f":"OtherNEFutil","v":0},"=",0,"x",298,"=",0,"=",0]
[null,null,null,null,null,null,null,"Total","=",{"$f":"SUM(J241:J247)","v":{"$error":"#N/A"}},"=",{"$error":"#N/A"}]
[]
["Electric Power Sector N2O",null,null,{"$f":"D237+1","v":2009}]
[]
[null,"Consumption",null,"Emission Factor",null,"Emissions",null,"GWP",null,"Emissions ",null,"Emissions "]
["Fuel Type","(Billion Btu)",null,"(metric tons N2O/BBtu)",null,"(metric tons N2O)",null,null,null,"(MMTCE)",null,"(MMTCO2E)"]
["Coal",{"$f":"VLOOKUP($A$2&$C$2&$B$2&$C$2&$A254,ConsumeBlock3,22,FALSE)","v":{"$error":"#N/A"}},"x",{"$f":"CoalNEFutil","v":0},"=",{"$f":"B254*D254","v":{"$error":"#N/A"}},"x",{"$f":"GWPN2O","v":298},"=",{"$f":"F254*H254*CO2_C/(10^6)","v":{"$error":"#N/A"}},"=",{"$f":"J254/CO2_C","v":{"$error":"#N/A"}}]
["Distillate Fuel",{"$error":"#N/A"},"x",{"$f":"DistillNEFutil","v":0},"=",{"$f":"B255*D255","v":{"$error":"#N/A"}},"x",298,"=",{"$error":"#N/A"},"=",{"$error":"#N/A"}]
["Petroleum Coke",{"$error":"#N/A"},"x",{"$f":"PetCokeNEFutil","v":0},"=",{"$error":"#N/A"},"x",298,"=",{"$error":"#N/A"},"=",{"$error":"#N/A"}]
["Residual Fuel",{"$error":"#N/A"},"x",{"$f":"ResidNEFutil","v":0},"=",{"$error":"#N/A"},"x",298,"=",{"$error":"#N/A"},"=",{"$error":"#N/A"}]
["Natural Gas",{"$error":"#N/A"},"x",{"$f":"NatGasNEFutil","v":0},"=",{"$error":"#N/A"},"x",298,"=",{"$error":"#N/A"},"=",{"$error":"#N/A"}]
["Wood",{"$error":"#N/A"},"x",{"$f":"WoodNEFutil","v":0},"=",{"$error":"#N/A"},"x",298,"=",{"$error":"#N/A"},"=",{"$error":"#N/A"}]
["Other",{"$f":"VLOOKUP($A$2&$C$2&$B$2&$C$2&$A260,ConsumeBlock3,D250-1987,FALSE)","v":0},"x",{"$f":"OtherNEFutil","v":0},"=",0,"x",298,"=",0,"=",0]
[null,null,null,null,null,null,null,"Total","=",{"$f":"SUM(J254:J260)","v":{"$error":"#N/A"}},"=",{"$error":"#N/A"}]
[]
["Electric Power Sector N2O",null,null,{"$f":"D250+1","v":2010}]
[]
[null,"Consumption",null,"Emission Factor",null,"Emissions",null,"GWP",null,"Emissions ",null,"Emissions "]
["Fuel Type","(Billion Btu)",null,"(metric tons N2O/BBtu)",null,"(metric tons N2O)",null,null,null,"(MMTCE)",null,"(MMTCO2E)"]
["Coal",{"$f":"VLOOKUP($A$2&$C$2&$B$2&$C$2&$A267,ConsumeBlock3,23,FALSE)","v":{"$error":"#N/A"}},"x",{"$f":"CoalNEFutil","v":0},"=",{"$f":"B267*D267","v":{"$error":"#N/A"}},"x",{"$f":"GWPN2O","v":298},"=",{"$f":"F267*H267*CO2_C/(10^6)","v":{"$error":"#N/A"}},"=",{"$f":"J267/CO2_C","v":{"$error":"#N/A"}}]
["Distillate Fuel",{"$error":"#N/A"},"x",{"$f":"DistillNEFutil","v":0},"=",{"$f":"B268*D268","v":{"$error":"#N/A"}},"x",298,"=",{"$error":"#N/A"},"=",{"$error":"#N/A"}]
["Petroleum Coke",{"$error":"#N/A"},"x",{"$f":"PetCokeNEFutil","v":0},"=",{"$error":"#N/A"},"x",298,"=",{"$error":"#N/A"},"=",{"$error":"#N/A"}]
["Residual Fuel",{"$error":"#N/A"},"x",{"$f":"ResidNEFutil","v":0},"=",{"$error":"#N/A"},"x",298,"=",{"$error":"#N/A"},"=",{"$error":"#N/A"}]
["Natural Gas",{"$error":"#N/A"},"x",{"$f":"NatGasNEFutil","v":0},"=",{"$error":"#N/A"},"x",298,"=",{"$error":"#N/A"},"=",{"$error":"#N/A"}]
["Wood",{"$error":"#N/A"},"x",{"$f":"WoodNEFutil","v":0},"=",{"$error":"#N/A"},"x",298,"=",{"$error":"#N/A"},"=",{"$error":"#N/A"}]
["Other",{"$f":"VLOOKUP($A$2&$C$2&$B$2&$C$2&$A273,ConsumeBlock3,D263-1987,FALSE)","v":0},"x",{"$f":"OtherNEFutil","v":0},"=",0,"x",298,"=",0,"=",0]
[null,null,null,null,null,null,null,"Total","=",{"$f":"SUM(J267:J273)","v":{"$error":"#N/A"}},"=",{"$error":"#N/A"}]
[]
["Electric Power Sector N2O",null,null,{"$f":"D263+1","v":2011}]
[]
[null,"Consumption",null,"Emission Factor",null,"Emissions",null,"GWP",null,"Emissions ",null,"Emissions "]
["Fuel Type","(Billion Btu)",null,"(metric tons N2O/BBtu)",null,"(metric tons N2O)",null,null,null,"(MMTCE)",null,"(MMTCO2E)"]
["Coal",{"$f":"VLOOKUP($A$2&$C$2&$B$2&$C$2&$A280,ConsumeBlock3,24,FALSE)","v":{"$error":"#N/A"}},"x",{"$f":"CoalNEFutil","v":0},"=",{"$f":"B280*D280","v":{"$error":"#N/A"}},"x",{"$f":"GWPN2O","v":298},"=",{"$f":"F280*H280*CO2_C/(10^6)","v":{"$error":"#N/A"}},"=",{"$f":"J280/CO2_C","v":{"$error":"#N/A"}}]
["Distillate Fuel",{"$error":"#N/A"},"x",{"$f":"DistillNEFutil","v":0},"=",{"$f":"B281*D281","v":{"$error":"#N/A"}},"x",298,"=",{"$error":"#N/A"},"=",{"$error":"#N/A"}]
["Petroleum Coke",{"$error":"#N/A"},"x",{"$f":"PetCokeNEFutil","v":0},"=",{"$error":"#N/A"},"x",298,"=",{"$error":"#N/A"},"=",{"$error":"#N/A"}]
["Residual Fuel",{"$error":"#N/A"},"x",{"$f":"ResidNEFutil","v":0},"=",{"$error":"#N/A"},"x",298,"=",{"$error":"#N/A"},"=",{"$error":"#N/A"}]
["Natural Gas",{"$error":"#N/A"},"x",{"$f":"NatGasNEFutil","v":0},"=",{"$error":"#N/A"},"x",298,"=",{"$error":"#N/A"},"=",{"$error":"#N/A"}]
["Wood",{"$error":"#N/A"},"x",{"$f":"WoodNEFutil","v":0},"=",{"$error":"#N/A"},"x",298,"=",{"$error":"#N/A"},"=",{"$error":"#N/A"}]
["Other",{"$f":"VLOOKUP($A$2&$C$2&$B$2&$C$2&$A286,ConsumeBlock3,D276-1987,FALSE)","v":0},"x",{"$f":"OtherNEFutil","v":0},"=",0,"x",298,"=",0,"=",0]
[null,null,null,null,null,null,null,"Total","=",{"$f":"SUM(J280:J286)","v":{"$error":"#N/A"}},"=",{"$error":"#N/A"}]
[]
["Electric Power Sector N2O",null,null,{"$f":"D276+1","v":2012}]
[]
[null,"Consumption",null,"Emission Factor",null,"Emissions",null,"GWP",null,"Emissions ",null,"Emissions "]
["Fuel Type","(Billion Btu)",null,"(metric tons N2O/BBtu)",null,"(metric tons N2O)",null,null,null,"(MMTCE)",null,"(MMTCO2E)"]
["Coal",{"$f":"VLOOKUP($A$2&$C$2&$B$2&$C$2&$A293,ConsumeBlock3,25,FALSE)","v":{"$error":"#N/A"}},"x",{"$f":"CoalNEFutil","v":0},"=",{"$f":"B293*D293","v":{"$error":"#N/A"}},"x",{"$f":"GWPN2O","v":298},"=",{"$f":"F293*H293*CO2_C/(10^6)","v":{"$error":"#N/A"}},"=",{"$f":"J293/CO2_C","v":{"$error":"#N/A"}}]
["Distillate Fuel",{"$error":"#N/A"},"x",{"$f":"DistillNEFutil","v":0},"=",{"$f":"B294*D294","v":{"$error":"#N/A"}},"x",298,"=",{"$error":"#N/A"},"=",{"$error":"#N/A"}]
["Petroleum Coke",{"$error":"#N/A"},"x",{"$f":"PetCokeNEFutil","v":0},"=",{"$error":"#N/A"},"x",298,"=",{"$error":"#N/A"},"=",{"$error":"#N/A"}]
["Residual Fuel",{"$error":"#N/A"},"x",{"$f":"ResidNEFutil","v":0},"=",{"$error":"#N/A"},"x",298,"=",{"$error":"#N/A"},"=",{"$error":"#N/A"}]
["Natural Gas",{"$error":"#N/A"},"x",{"$f":"NatGasNEFutil","v":0},"=",{"$error":"#N/A"},"x",298,"=",{"$error":"#N/A"},"=",{"$error":"#N/A"}]
["Wood",{"$error":"#N/A"},"x",{"$f":"WoodNEFutil","v":0},"=",{"$error":"#N/A"},"x",298,"=",{"$error":"#N/A"},"=",{"$error":"#N/A"}]
["Other",{"$f":"VLOOKUP($A$2&$C$2&$B$2&$C$2&$A299,ConsumeBlock3,D289-1987,FALSE)","v":0},"x",{"$f":"OtherNEFutil","v":0},"=",0,"x",298,"=",0,"=",0]
[null,null,null,null,null,null,null,"Total","=",{"$f":"SUM(J293:J299)","v":{"$error":"#N/A"}},"=",{"$error":"#N/A"}]
[]
["Electric Power Sector N2O",null,null,{"$f":"D289+1","v":2013}]
[]
[null,"Consumption",null,"Emission Factor",null,"Emissions",null,"GWP",null,"Emissions ",null,"Emissions "]
["Fuel Type","(Billion Btu)",null,"(metric tons N2O/BBtu)",null,"(metric tons N2O)",null,null,null,"(MMTCE)",null,"(MMTCO2E)"]
["Coal",{"$f":"VLOOKUP($A$2&$C$2&$B$2&$C$2&$A306,ConsumeBlock3,26,FALSE)","v":{"$error":"#N/A"}},"x",{"$f":"CoalNEFutil","v":0},"=",{"$f":"B306*D306","v":{"$error":"#N/A"}},"x",{"$f":"GWPN2O","v":298},"=",{"$f":"F306*H306*CO2_C/(10^6)","v":{"$error":"#N/A"}},"=",{"$f":"J306/CO2_C","v":{"$error":"#N/A"}}]
["Distillate Fuel",{"$error":"#N/A"},"x",{"$f":"DistillNEFutil","v":0},"=",{"$f":"B307*D307","v":{"$error":"#N/A"}},"x",298,"=",{"$error":"#N/A"},"=",{"$error":"#N/A"}]
["Petroleum Coke",{"$error":"#N/A"},"x",{"$f":"PetCokeNEFutil","v":0},"=",{"$error":"#N/A"},"x",298,"=",{"$error":"#N/A"},"=",{"$error":"#N/A"}]
["Residual Fuel",{"$error":"#N/A"},"x",{"$f":"ResidNEFutil","v":0},"=",{"$error":"#N/A"},"x",298,"=",{"$error":"#N/A"},"=",{"$error":"#N/A"}]
["Natural Gas",{"$error":"#N/A"},"x",{"$f":"NatGasNEFutil","v":0},"=",{"$error":"#N/A"},"x",298,"=",{"$error":"#N/A"},"=",{"$error":"#N/A"}]
["Wood",{"$error":"#N/A"},"x",{"$f":"WoodNEFutil","v":0},"=",{"$error":"#N/A"},"x",298,"=",{"$error":"#N/A"},"=",{"$error":"#N/A"}]
["Other",{"$f":"VLOOKUP($A$2&$C$2&$B$2&$C$2&$A312,ConsumeBlock3,D302-1987,FALSE)","v":0},"x",{"$f":"OtherNEFutil","v":0},"=",0,"x",298,"=",0,"=",0]
[null,null,null,null,null,null,null,"Total","=",{"$f":"SUM(J306:J312)","v":{"$error":"#N/A"}},"=",{"$error":"#N/A"}]
[]
["Electric Power Sector N2O",null,null,{"$f":"D302+1","v":2014}]
[]
[null,"Consumption",null,"Emission Factor",null,"Emissions",null,"GWP",null,"Emissions ",null,"Emissions "]
["Fuel Type","(Billion Btu)",null,"(metric tons N2O/BBtu)",null,"(metric tons N2O)",null,null,null,"(MMTCE)",null,"(MMTCO2E)"]
["Coal",{"$f":"VLOOKUP($A$2&$C$2&$B$2&$C$2&$A319,ConsumeBlock3,27,FALSE)","v":{"$error":"#N/A"}},"x",{"$f":"CoalNEFutil","v":0},"=",{"$f":"B319*D319","v":{"$error":"#N/A"}},"x",{"$f":"GWPN2O","v":298},"=",{"$f":"F319*H319*CO2_C/(10^6)","v":{"$error":"#N/A"}},"=",{"$f":"J319/CO2_C","v":{"$error":"#N/A"}}]
["Distillate Fuel",{"$error":"#N/A"},"x",{"$f":"DistillNEFutil","v":0},"=",{"$f":"B320*D320","v":{"$error":"#N/A"}},"x",298,"=",{"$error":"#N/A"},"=",{"$error":"#N/A"}]
["Petroleum Coke",{"$error":"#N/A"},"x",{"$f":"PetCokeNEFutil","v":0},"=",{"$error":"#N/A"},"x",298,"=",{"$error":"#N/A"},"=",{"$error":"#N/A"}]
["Residual Fuel",{"$error":"#N/A"},"x",{"$f":"ResidNEFutil","v":0},"=",{"$error":"#N/A"},"x",298,"=",{"$error":"#N/A"},"=",{"$error":"#N/A"}]
["Natural Gas",{"$error":"#N/A"},"x",{"$f":"NatGasNEFutil","v":0},"=",{"$error":"#N/A"},"x",298,"=",{"$error":"#N/A"},"=",{"$error":"#N/A"}]
["Wood",{"$error":"#N/A"},"x",{"$f":"WoodNEFutil","v":0},"=",{"$error":"#N/A"},"x",298,"=",{"$error":"#N/A"},"=",{"$error":"#N/A"}]
["Other",{"$f":"VLOOKUP($A$2&$C$2&$B$2&$C$2&$A325,ConsumeBlock3,D315-1987,FALSE)","v":0},"x",{"$f":"OtherNEFutil","v":0},"=",0,"x",298,"=",0,"=",0]
[null,null,null,null,null,null,null,"Total","=",{"$f":"SUM(J319:J325)","v":{"$error":"#N/A"}},"=",{"$error":"#N/A"}]
[]
["Electric Power Sector N2O",null,null,{"$f":"D315+1","v":2015}]
[]
[null,"Consumption",null,"Emission Factor",null,"Emissions",null,"GWP",null,"Emissions ",null,"Emissions "]
["Fuel Type","(Billion Btu)",null,"(metric tons N2O/BBtu)",null,"(metric tons N2O)",null,null,null,"(MMTCE)",null,"(MMTCO2E)"]
["Coal",{"$f":"VLOOKUP($A$2&$C$2&$B$2&$C$2&$A332,ConsumeBlock3,28,FALSE)","v":{"$error":"#N/A"}},"x",{"$f":"CoalNEFutil","v":0},"=",{"$f":"B332*D332","v":{"$error":"#N/A"}},"x",{"$f":"GWPN2O","v":298},"=",{"$f":"F332*H332*CO2_C/(10^6)","v":{"$error":"#N/A"}},"=",{"$f":"J332/CO2_C","v":{"$error":"#N/A"}}]
["Distillate Fuel",{"$error":"#N/A"},"x",{"$f":"DistillNEFutil","v":0},"=",{"$f":"B333*D333","v":{"$error":"#N/A"}},"x",298,"=",{"$error":"#N/A"},"=",{"$error":"#N/A"}]
["Petroleum Coke",{"$error":"#N/A"},"x",{"$f":"PetCokeNEFutil","v":0},"=",{"$error":"#N/A"},"x",298,"=",{"$error":"#N/A"},"=",{"$error":"#N/A"}]
["Residual Fuel",{"$error":"#N/A"},"x",{"$f":"ResidNEFutil","v":0},"=",{"$error":"#N/A"},"x",298,"=",{"$error":"#N/A"},"=",{"$error":"#N/A"}]
["Natural Gas",{"$error":"#N/A"},"x",{"$f":"NatGasNEFutil","v":0},"=",{"$error":"#N/A"},"x",298,"=",{"$error":"#N/A"},"=",{"$error":"#N/A"}]
["Wood",{"$error":"#N/A"},"x",{"$f":"WoodNEFutil","v":0},"=",{"$error":"#N/A"},"x",298,"=",{"$error":"#N/A"},"=",{"$error":"#N/A"}]
["Other",{"$f":"VLOOKUP($A$2&$C$2&$B$2&$C$2&$A338,ConsumeBlock3,D328-1987,FALSE)","v":0},"x",{"$f":"OtherNEFutil","v":0},"=",0,"x",298,"=",0,"=",0]
[null,null,null,null,null,null,null,"Total","=",{"$f":"SUM(J332:J338)","v":{"$error":"#N/A"}},"=",{"$error":"#N/A"}]
[]
["Electric Power Sector N2O",null,null,{"$f":"D328+1","v":2016}]
[]
[null,"Consumption",null,"Emission Factor",null,"Emissions",null,"GWP",null,"Emissions ",null,"Emissions "]
["Fuel Type","(Billion Btu)",null,"(metric tons N2O/BBtu)",null,"(metric tons N2O)",null,null,null,"(MMTCE)",null,"(MMTCO2E)"]
["Coal",{"$f":"VLOOKUP($A$2&$C$2&$B$2&$C$2&$A345,ConsumeBlock3,29,FALSE)","v":{"$error":"#N/A"}},"x",{"$f":"CoalNEFutil","v":0},"=",{"$f":"B345*D345","v":{"$error":"#N/A"}},"x",{"$f":"GWPN2O","v":298},"=",{"$f":"F345*H345*CO2_C/(10^6)","v":{"$error":"#N/A"}},"=",{"$f":"J345/CO2_C","v":{"$error":"#N/A"}}]
["Distillate Fuel",{"$error":"#N/A"},"x",{"$f":"DistillNEFutil","v":0},"=",{"$f":"B346*D346","v":{"$error":"#N/A"}},"x",298,"=",{"$error":"#N/A"},"=",{"$error":"#N/A"}]
["Petroleum Coke",{"$error":"#N/A"},"x",{"$f":"PetCokeNEFutil","v":0},"=",{"$error":"#N/A"},"x",298,"=",{"$error":"#N/A"},"=",{"$error":"#N/A"}]
["Residual Fuel",{"$error":"#N/A"},"x",{"$f":"ResidNEFutil","v":0},"=",{"$error":"#N/A"},"x",298,"=",{"$error":"#N/A"},"=",{"$error":"#N/A"}]
["Natural Gas",{"$error":"#N/A"},"x",{"$f":"NatGasNEFutil","v":0},"=",{"$error":"#N/A"},"x",298,"=",{"$error":"#N/A"},"=",{"$error":"#N/A"}]
["Wood",{"$error":"#N/A"},"x",{"$f":"WoodNEFutil","v":0},"=",{"$error":"#N/A"},"x",298,"=",{"$error":"#N/A"},"=",{"$error":"#N/A"}]
["Other",{"$f":"VLOOKUP($A$2&$C$2&$B$2&$C$2&$A351,ConsumeBlock3,D341-1987,FALSE)","v":0},"x",{"$f":"OtherNEFutil","v":0},"=",0,"x",298,"=",0,"=",0]
[null,null,null,null,null,null,null,"Total","=",{"$f":"SUM(J345:J351)","v":{"$error":"#N/A"}},"=",{"$error":"#N/A"}]
[]
["Electric Power Sector N2O",null,null,{"$f":"D341+1","v":2017}]
[]
[null,"Consumption",null,"Emission Factor",null,"Emissions",null,"GWP",null,"Emissions ",null,"Emissions "]
["Fuel Type","(Billion Btu)",null,"(metric tons N2O/BBtu)",null,"(metric tons N2O)",null,null,null,"(MMTCE)",null,"(MMTCO2E)"]
["Coal",{"$f":"VLOOKUP($A$2&$C$2&$B$2&$C$2&$A358,ConsumeBlock3,30,FALSE)","v":{"$error":"#N/A"}},"x",{"$f":"CoalNEFutil","v":0},"=",{"$f":"B358*D358","v":{"$error":"#N/A"}},"x",{"$f":"GWPN2O","v":298},"=",{"$f":"F358*H358*CO2_C/(10^6)","v":{"$error":"#N/A"}},"=",{"$f":"J358/CO2_C","v":{"$error":"#N/A"}}]
["Distillate Fuel",{"$error":"#N/A"},"x",{"$f":"DistillNEFutil","v":0},"=",{"$f":"B359*D359","v":{"$error":"#N/A"}},"x",298,"=",{"$error":"#N/A"},"=",{"$error":"#N/A"}]
["Petroleum Coke",{"$error":"#N/A"},"x",{"$f":"PetCokeNEFutil","v":0},"=",{"$error":"#N/A"},"x",298,"=",{"$error":"#N/A"},"=",{"$error":"#N/A"}]
["Residual Fuel",{"$error":"#N/A"},"x",{"$f":"ResidNEFutil","v":0},"=",{"$error":"#N/A"},"x",298,"=",{"$error":"#N/A"},"=",{"$error":"#N/A"}]
["Natural Gas",{"$error":"#N/A"},"x",{"$f":"NatGasNEFutil","v":0},"=",{"$error":"#N/A"},"x",298,"=",{"$error":"#N/A"},"=",{"$error":"#N/A"}]
["Wood",{"$error":"#N/A"},"x",{"$f":"WoodNEFutil","v":0},"=",{"$error":"#N/A"},"x",298,"=",{"$error":"#N/A"},"=",{"$error":"#N/A"}]
["Other",{"$f":"VLOOKUP($A$2&$C$2&$B$2&$C$2&$A364,ConsumeBlock3,D354-1987,FALSE)","v":0},"x",{"$f":"OtherNEFutil","v":0},"=",0,"x",298,"=",0,"=",0]
[null,null,null,null,null,null,null,"Total","=",{"$f":"SUM(J358:J364)","v":{"$error":"#N/A"}},"=",{"$error":"#N/A"}]
[]
["Electric Power Sector N2O",null,null,{"$f":"D354+1","v":2018}]
[]
[null,"Consumption",null,"Emission Factor",null,"Emissions",null,"GWP",null,"Emissions ",null,"Emissions "]
["Fuel Type","(Billion Btu)",null,"(metric tons N2O/BBtu)",null,"(metric tons N2O)",null,null,null,"(MMTCE)",null,"(MMTCO2E)"]
["Coal",{"$f":"VLOOKUP($A$2&$C$2&$B$2&$C$2&$A371,ConsumeBlock3,31,FALSE)","v":{"$error":"#N/A"}},"x",{"$f":"CoalNEFutil","v":0},"=",{"$f":"B371*D371","v":{"$error":"#N/A"}},"x",{"$f":"GWPN2O","v":298},"=",{"$f":"F371*H371*CO2_C/(10^6)","v":{"$error":"#N/A"}},"=",{"$f":"J371/CO2_C","v":{"$error":"#N/A"}}]
["Distillate Fuel",{"$error":"#N/A"},"x",{"$f":"DistillNEFutil","v":0},"=",{"$f":"B372*D372","v":{"$error":"#N/A"}},"x",298,"=",{"$error":"#N/A"},"=",{"$error":"#N/A"}]
["Petroleum Coke",{"$error":"#N/A"},"x",{"$f":"PetCokeNEFutil","v":0},"=",{"$error":"#N/A"},"x",298,"=",{"$error":"#N/A"},"=",{"$error":"#N/A"}]
["Residual Fuel",{"$error":"#N/A"},"x",{"$f":"ResidNEFutil","v":0},"=",{"$error":"#N/A"},"x",298,"=",{"$error":"#N/A"},"=",{"$error":"#N/A"}]
["Natural Gas",{"$error":"#N/A"},"x",{"$f":"NatGasNEFutil","v":0},"=",{"$error":"#N/A"},"x",298,"=",{"$error":"#N/A"},"=",{"$error":"#N/A"}]
["Wood",{"$error":"#N/A"},"x",{"$f":"WoodNEFutil","v":0},"=",{"$error":"#N/A"},"x",298,"=",{"$error":"#N/A"},"=",{"$error":"#N/A"}]
["Other",{"$f":"VLOOKUP($A$2&$C$2&$B$2&$C$2&$A377,ConsumeBlock3,D367-1987,FALSE)","v":0},"x",{"$f":"OtherNEFutil","v":0},"=",0,"x",298,"=",0,"=",0]
[null,null,null,null,null,null,null,"Total","=",{"$f":"SUM(J371:J377)","v":{"$error":"#N/A"}},"=",{"$error":"#N/A"}]
[]
["Electric Power Sector N2O",null,null,{"$f":"D367+1","v":2019}]
[]
[null,"Consumption",null,"Emission Factor",null,"Emissions",null,"GWP",null,"Emissions ",null,"Emissions "]
["Fuel Type","(Billion Btu)",null,"(metric tons N2O/BBtu)",null,"(metric tons N2O)",null,null,null,"(MMTCE)",null,"(MMTCO2E)"]
["Coal",{"$f":"VLOOKUP($A$2&$C$2&$B$2&$C$2&$A384,ConsumeBlock3,32,FALSE)","v":{"$error":"#N/A"}},"x",{"$f":"CoalNEFutil","v":0},"=",{"$f":"B384*D384","v":{"$error":"#N/A"}},"x",{"$f":"GWPN2O","v":298},"=",{"$f":"F384*H384*CO2_C/(10^6)","v":{"$error":"#N/A"}},"=",{"$f":"J384/CO2_C","v":{"$error":"#N/A"}}]
["Distillate Fuel",{"$error":"#N/A"},"x",{"$f":"DistillNEFutil","v":0},"=",{"$f":"B385*D385","v":{"$error":"#N/A"}},"x",298,"=",{"$error":"#N/A"},"=",{"$error":"#N/A"}]
["Petroleum Coke",{"$error":"#N/A"},"x",{"$f":"PetCokeNEFutil","v":0},"=",{"$error":"#N/A"},"x",298,"=",{"$error":"#N/A"},"=",{"$error":"#N/A"}]
["Residual Fuel",{"$error":"#N/A"},"x",{"$f":"ResidNEFutil","v":0},"=",{"$error":"#N/A"},"x",298,"=",{"$error":"#N/A"},"=",{"$error":"#N/A"}]
["Natural Gas",{"$error":"#N/A"},"x",{"$f":"NatGasNEFutil","v":0},"=",{"$error":"#N/A"},"x",298,"=",{"$error":"#N/A"},"=",{"$error":"#N/A"}]
["Wood",{"$error":"#N/A"},"x",{"$f":"WoodNEFutil","v":0},"=",{"$error":"#N/A"},"x",298,"=",{"$error":"#N/A"},"=",{"$error":"#N/A"}]
["Other",{"$f":"VLOOKUP($A$2&$C$2&$B$2&$C$2&$A390,ConsumeBlock3,D380-1987,FALSE)","v":0},"x",{"$f":"OtherNEFutil","v":0},"=",0,"x",298,"=",0,"=",0]
[null,null,null,null,null,null,null,"Total","=",{"$f":"SUM(J384:J390)","v":{"$error":"#N/A"}},"=",{"$error":"#N/A"}]
[]
["Electric Power Sector N2O",null,null,{"$f":"D380+1","v":2020}]
[]
[null,"Consumption",null,"Emission Factor",null,"Emissions",null,"GWP",null,"Emissions ",null,"Emissions "]
["Fuel Type","(Billion Btu)",null,"(metric tons N2O/BBtu)",null,"(metric tons N2O)",null,null,null,"(MMTCE)",null,"(MMTCO2E)"]
["Coal",{"$f":"VLOOKUP($A$2&$C$2&$B$2&$C$2&$A397,ConsumeBlock3,33,FALSE)","v":{"$error":"#N/A"}},"x",{"$f":"CoalNEFutil","v":0},"=",{"$f":"B397*D397","v":{"$error":"#N/A"}},"x",{"$f":"GWPN2O","v":298},"=",{"$f":"F397*H397*CO2_C/(10^6)","v":{"$error":"#N/A"}},"=",{"$f":"J397/CO2_C","v":{"$error":"#N/A"}}]
["Distillate Fuel",{"$error":"#N/A"},"x",{"$f":"DistillNEFutil","v":0},"=",{"$f":"B398*D398","v":{"$error":"#N/A"}},"x",298,"=",{"$error":"#N/A"},"=",{"$error":"#N/A"}]
["Petroleum Coke",{"$error":"#N/A"},"x",{"$f":"PetCokeNEFutil","v":0},"=",{"$error":"#N/A"},"x",298,"=",{"$error":"#N/A"},"=",{"$error":"#N/A"}]
["Residual Fuel",{"$error":"#N/A"},"x",{"$f":"ResidNEFutil","v":0},"=",{"$error":"#N/A"},"x",298,"=",{"$error":"#N/A"},"=",{"$error":"#N/A"}]
["Natural Gas",{"$error":"#N/A"},"x",{"$f":"NatGasNEFutil","v":0},"=",{"$error":"#N/A"},"x",298,"=",{"$error":"#N/A"},"=",{"$error":"#N/A"}]
["Wood",{"$error":"#N/A"},"x",{"$f":"WoodNEFutil","v":0},"=",{"$error":"#N/A"},"x",298,"=",{"$error":"#N/A"},"=",{"$error":"#N/A"}]
["Other",{"$f":"VLOOKUP($A$2&$C$2&$B$2&$C$2&$A403,ConsumeBlock3,D393-1987,FALSE)","v":0},"x",{"$f":"OtherNEFutil","v":0},"=",0,"x",298,"=",0,"=",0]
[null,null,null,null,null,null,null,"Total","=",{"$f":"SUM(J397:J403)","v":{"$error":"#N/A"}},"=",{"$error":"#N/A"}]

{"sheet":"Electric Power CH4","index":7,"n_rows":404,"n_cols":12,"rows_kept":404,"cut":false,"hidden":false,"merged":[]}
[{"$f":"\"4. Electric Power Sector Consumption and CH4 emissions in \"&Constants!G2","v":"4. Electric Power Sector Consumption and CH4 emissions in Select a State . . ."}]
[{"$f":"Constants!H2","v":"xx"},"Electric Utilities"]
["Electric Power Sector CH4",null,null,1990]
[]
[null,"Consumption",null,"Emission Factor",null,"Emissions ",null,"GWP",null,"Emissions ",null,"Emissions "]
["Fuel Type","(Billion Btu)",null,"(metric tons CH4 /BBtu)",null,"(metric tons CH4)",null,null,null,"(MMTCE)",null,"(MMTCO2E)"]
["Coal",{"$f":"'Electric Power N2O'!B7","v":{"$error":"#N/A"}},"x",{"$f":"CoalCEFutil","v":0},"=",{"$f":"B7*D7","v":{"$error":"#N/A"}},"x",{"$f":"GWPCH4","v":25},"=",{"$f":"F7*H7*CO2_C/(10^6)","v":{"$error":"#N/A"}},"=",{"$f":"J7/CO2_C","v":{"$error":"#N/A"}}]
["Distillate Fuel",{"$f":"'Electric Power N2O'!B8","v":{"$error":"#N/A"}},"x",{"$f":"DistillCEFutil","v":0},"=",{"$f":"B8*D8","v":{"$error":"#N/A"}},"x",25,"=",{"$f":"F8*H8*CO2_C/(10^6)","v":{"$error":"#N/A"}},"=",{"$error":"#N/A"}]
["Petroleum Coke",{"$f":"'Electric Power N2O'!B9","v":{"$error":"#N/A"}},"x",{"$f":"PetCokeCEFutil","v":0},"=",{"$error":"#N/A"},"x",25,"=",{"$error":"#N/A"},"=",{"$error":"#N/A"}]
["Residual Fuel",{"$f":"'Electric Power N2O'!B10","v":{"$error":"#N/A"}},"x",{"$f":"ResidCEFutil","v":0},"=",{"$error":"#N/A"},"x",25,"=",{"$error":"#N/A"},"=",{"$error":"#N/A"}]
["Natural Gas",{"$f":"'Electric Power N2O'!B11","v":{"$error":"#N/A"}},"x",{"$f":"NatGasCEFutil","v":0},"=",{"$error":"#N/A"},"x",25,"=",{"$error":"#N/A"},"=",{"$error":"#N/A"}]
["Wood",{"$f":"'Electric Power N2O'!B12","v":{"$error":"#N/A"}},"x",{"$f":"WoodCEFutil","v":0},"=",{"$error":"#N/A"},"x",25,"=",{"$f":"F12*H12*CO2_C/(10^6)","v":{"$error":"#N/A"}},"=",{"$error":"#N/A"}]
["Other",{"$f":"'Electric Power N2O'!B13","v":0},"x",{"$f":"OtherCEFutil","v":0},"=",0,"x",25,"=",0,"=",0]
[null,null,null,null,null,null,null,"Total","=",{"$f":"SUM(J7:J13)","v":{"$error":"#N/A"}},"=",{"$error":"#N/A"}]
[]
["Electric Power Sector CH4",null,null,{"$f":"D3+1","v":1991}]
[]
[null,"Consumption",null,"Emission Factor",null,"Emissions ",null,"GWP",null,"Emissions ",null,"Emissions "]
["Fuel Type","(Billion Btu)",null,"(metric tons CH4 /BBtu)",null,"(metric tons CH4)",null,null,null,"(MMTCE)",null,"(MMTCO2E)"]
["Coal",{"$f":"'Electric Power N2O'!B20","v":{"$error":"#N/A"}},"x",{"$f":"CoalCEFutil","v":0},"=",{"$f":"B20*D20","v":{"$error":"#N/A"}},"x",{"$f":"GWPCH4","v":25},"=",{"$f":"F20*H20*CO2_C/(10^6)","v":{"$error":"#N/A"}},"=",{"$f":"J20/CO2_C","v":{"$error":"#N/A"}}]
["Distillate Fuel",{"$f":"'Electric Power N2O'!B21","v":{"$error":"#N/A"}},"x",{"$f":"DistillCEFutil","v":0},"=",{"$f":"B21*D21","v":{"$error":"#N/A"}},"x",25,"=",{"$error":"#N/A"},"=",{"$error":"#N/A"}]
["Petroleum Coke",{"$f":"'Electric Power N2O'!B22","v":{"$error":"#N/A"}},"x",{"$f":"PetCokeCEFutil","v":0},"=",{"$error":"#N/A"},"x",25,"=",{"$error":"#N/A"},"=",{"$error":"#N/A"}]
["Residual Fuel",{"$f":"'Electric Power N2O'!B23","v":{"$error":"#N/A"}},"x",{"$f":"ResidCEFutil","v":0},"=",{"$error":"#N/A"},"x",25,"=",{"$error":"#N/A"},"=",{"$error":"#N/A"}]
["Natural Gas",{"$f":"'Electric Power N2O'!B24","v":{"$error":"#N/A"}},"x",{"$f":"NatGasCEFutil","v":0},"=",{"$error":"#N/A"},"x",25,"=",{"$error":"#N/A"},"=",{"$error":"#N/A"}]
["Wood",{"$f":"'Electric Power N2O'!B25","v":{"$error":"#N/A"}},"x",{"$f":"WoodCEFutil","v":0},"=",{"$error":"#N/A"},"x",25,"=",{"$error":"#N/A"},"=",{"$error":"#N/A"}]
["Other",{"$f":"'Electric Power N2O'!B26","v":0},"x",{"$f":"OtherCEFutil","v":0},"=",0,"x",25,"=",0,"=",0]
[null,null,null,null,null,null,null,"Total","=",{"$f":"SUM(J20:J26)","v":{"$error":"#N/A"}},"=",{"$error":"#N/A"}]
[]
["Electric Power Sector CH4",null,null,{"$f":"D16+1","v":1992}]
[]
[null,"Consumption",null,"Emission Factor",null,"Emissions ",null,"GWP",null,"Emissions ",null,"Emissions "]
["Fuel Type","(Billion Btu)",null,"(metric tons CH4 /BBtu)",null,"(metric tons CH4)",null,null,null,"(MMTCE)",null,"(MMTCO2E)"]
["Coal",{"$f":"'Electric Power N2O'!B33","v":{"$error":"#N/A"}},"x",{"$f":"CoalCEFutil","v":0},"=",{"$f":"B33*D33","v":{"$error":"#N/A"}},"x",{"$f":"GWPCH4","v":25},"=",{"$f":"F33*H33*CO2_C/(10^6)","v":{"$error":"#N/A"}},"=",{"$f":"J33/CO2_C","v":{"$error":"#N/A"}}]
["Distillate Fuel",{"$f":"'Electric Power N2O'!B34","v":{"$error":"#N/A"}},"x",{"$f":"DistillCEFutil","v":0},"=",{"$f":"B34*D34","v":{"$error":"#N/A"}},"x",25,"=",{"$error":"#N/A"},"=",{"$error":"#N/A"}]
["Petroleum Coke",{"$f":"'Electric Power N2O'!B35","v":{"$error":"#N/A"}},"x",{"$f":"PetCokeCEFutil","v":0},"=",{"$error":"#N/A"},"x",25,"=",{"$error":"#N/A"},"=",{"$error":"#N/A"}]
["Residual Fuel",{"$f":"'Electric Power N2O'!B36","v":{"$error":"#N/A"}},"x",{"$f":"ResidCEFutil","v":0},"=",{"$error":"#N/A"},"x",25,"=",{"$error":"#N/A"},"=",{"$error":"#N/A"}]
["Natural Gas",{"$f":"'Electric Power N2O'!B37","v":{"$error":"#N/A"}},"x",{"$f":"NatGasCEFutil","v":0},"=",{"$error":"#N/A"},"x",25,"=",{"$error":"#N/A"},"=",{"$error":"#N/A"}]
["Wood",{"$f":"'Electric Power N2O'!B38","v":{"$error":"#N/A"}},"x",{"$f":"WoodCEFutil","v":0},"=",{"$error":"#N/A"},"x",25,"=",{"$error":"#N/A"},"=",{"$error":"#N/A"}]
["Other",{"$f":"'Electric Power N2O'!B39","v":0},"x",{"$f":"OtherCEFutil","v":0},"=",0,"x",25,"=",0,"=",0]
[null,null,null,null,null,null,null,"Total","=",{"$f":"SUM(J33:J39)","v":{"$error":"#N/A"}},"=",{"$error":"#N/A"}]
[]
["Electric Power Sector CH4",null,null,{"$f":"D29+1","v":1993}]
[]
[null,"Consumption",null,"Emission Factor",null,"Emissions ",null,"GWP",null,"Emissions ",null,"Emissions "]
["Fuel Type","(Billion Btu)",null,"(metric tons CH4 /BBtu)",null,"(metric tons CH4)",null,null,null,"(MMTCE)",null,"(MMTCO2E)"]
["Coal",{"$f":"'Electric Power N2O'!B46","v":{"$error":"#N/A"}},"x",{"$f":"CoalCEFutil","v":0},"=",{"$f":"B46*D46","v":{"$error":"#N/A"}},"x",{"$f":"GWPCH4","v":25},"=",{"$f":"F46*H46*CO2_C/(10^6)","v":{"$error":"#N/A"}},"=",{"$f":"J46/CO2_C","v":{"$error":"#N/A"}}]
["Distillate Fuel",{"$f":"'Electric Power N2O'!B47","v":{"$error":"#N/A"}},"x",{"$f":"DistillCEFutil","v":0},"=",{"$f":"B47*D47","v":{"$error":"#N/A"}},"x",25,"=",{"$error":"#N/A"},"=",{"$error":"#N/A"}]
["Petroleum Coke",{"$f":"'Electric Power N2O'!B48","v":{"$error":"#N/A"}},"x",{"$f":"PetCokeCEFutil","v":0},"=",{"$error":"#N/A"},"x",25,"=",{"$error":"#N/A"},"=",{"$error":"#N/A"}]
["Residual Fuel",{"$f":"'Electric Power N2O'!B49","v":{"$error":"#N/A"}},"x",{"$f":"ResidCEFutil","v":0},"=",{"$error":"#N/A"},"x",25,"=",{"$error":"#N/A"},"=",{"$error":"#N/A"}]
["Natural Gas",{"$f":"'Electric Power N2O'!B50","v":{"$error":"#N/A"}},"x",{"$f":"NatGasCEFutil","v":0},"=",{"$error":"#N/A"},"x",25,"=",{"$error":"#N/A"},"=",{"$error":"#N/A"}]
["Wood",{"$f":"'Electric Power N2O'!B51","v":{"$error":"#N/A"}},"x",{"$f":"WoodCEFutil","v":0},"=",{"$error":"#N/A"},"x",25,"=",{"$error":"#N/A"},"=",{"$error":"#N/A"}]
["Other",{"$f":"'Electric Power N2O'!B52","v":0},"x",{"$f":"OtherCEFutil","v":0},"=",0,"x",25,"=",0,"=",0]
[null,null,null,null,null,null,null,"Total","=",{"$f":"SUM(J46:J52)","v":{"$error":"#N/A"}},"=",{"$error":"#N/A"}]
[]
["Electric Power Sector CH4",null,null,{"$f":"D42+1","v":1994}]
[]
[null,"Consumption",null,"Emission Factor",null,"Emissions ",null,"GWP",null,"Emissions ",null,"Emissions "]
["Fuel Type","(Billion Btu)",null,"(metric tons CH4 /BBtu)",null,"(metric tons CH4)",null,null,null,"(MMTCE)",null,"(MMTCO2E)"]
["Coal",{"$f":"'Electric Power N2O'!B59","v":{"$error":"#N/A"}},"x",{"$f":"CoalCEFutil","v":0},"=",{"$f":"B59*D59","v":{"$error":"#N/A"}},"x",{"$f":"GWPCH4","v":25},"=",{"$f":"F59*H59*CO2_C/(10^6)","v":{"$error":"#N/A"}},"=",{"$f":"J59/CO2_C","v":{"$error":"#N/A"}}]
["Distillate Fuel",{"$f":"'Electric Power N2O'!B60","v":{"$error":"#N/A"}},"x",{"$f":"DistillCEFutil","v":0},"=",{"$f":"B60*D60","v":{"$error":"#N/A"}},"x",25,"=",{"$error":"#N/A"},"=",{"$error":"#N/A"}]
["Petroleum Coke",{"$f":"'Electric Power N2O'!B61","v":{"$error":"#N/A"}},"x",{"$f":"PetCokeCEFutil","v":0},"=",{"$error":"#N/A"},"x",25,"=",{"$error":"#N/A"},"=",{"$error":"#N/A"}]
["Residual Fuel",{"$f":"'Electric Power N2O'!B62","v":{"$error":"#N/A"}},"x",{"$f":"ResidCEFutil","v":0},"=",{"$error":"#N/A"},"x",25,"=",{"$error":"#N/A"},"=",{"$error":"#N/A"}]
["Natural Gas",{"$f":"'Electric Power N2O'!B63","v":{"$error":"#N/A"}},"x",{"$f":"NatGasCEFutil","v":0},"=",{"$error":"#N/A"},"x",25,"=",{"$error":"#N/A"},"=",{"$error":"#N/A"}]
["Wood",{"$f":"'Electric Power N2O'!B64","v":{"$error":"#N/A"}},"x",{"$f":"WoodCEFutil","v":0},"=",{"$error":"#N/A"},"x",25,"=",{"$error":"#N/A"},"=",{"$error":"#N/A"}]
["Other",{"$f":"'Electric Power N2O'!B65","v":0},"x",{"$f":"OtherCEFutil","v":0},"=",0,"x",25,"=",0,"=",0]
[null,null,null,null,null,null,null,"Total","=",{"$f":"SUM(J59:J65)","v":{"$error":"#N/A"}},"=",{"$error":"#N/A"}]
[]
["Electric Power Sector CH4",null,null,{"$f":"D55+1","v":1995}]
[]
[null,"Consumption",null,"Emission Factor",null,"Emissions ",null,"GWP",null,"Emissions ",null,"Emissions "]
["Fuel Type","(Billion Btu)",null,"(metric tons CH4 /BBtu)",null,"(metric tons CH4)",null,null,null,"(MMTCE)",null,"(MMTCO2E)"]
["Coal",{"$f":"'Electric Power N2O'!B72","v":{"$error":"#N/A"}},"x",{"$f":"CoalCEFutil","v":0},"=",{"$f":"B72*D72","v":{"$error":"#N/A"}},"x",{"$f":"GWPCH4","v":25},"=",{"$f":"F72*H72*CO2_C/(10^6)","v":{"$error":"#N/A"}},"=",{"$f":"J72/CO2_C","v":{"$error":"#N/A"}}]
["Distillate Fuel",{"$f":"'Electric Power N2O'!B73","v":{"$error":"#N/A"}},"x",{"$f":"DistillCEFutil","v":0},"=",{"$f":"B73*D73","v":{"$error":"#N/A"}},"x",25,"=",{"$error":"#N/A"},"=",{"$error":"#N/A"}]
["Petroleum Coke",{"$f":"'Electric Power N2O'!B74","v":{"$error":"#N/A"}},"x",{"$f":"PetCokeCEFutil","v":0},"=",{"$error":"#N/A"},"x",25,"=",{"$error":"#N/A"},"=",{"$error":"#N/A"}]
["Residual Fuel",{"$f":"'Electric Power N2O'!B75","v":{"$error":"#N/A"}},"x",{"$f":"ResidCEFutil","v":0},"=",{"$error":"#N/A"},"x",25,"=",{"$error":"#N/A"},"=",{"$error":"#N/A"}]
["Natural Gas",{"$f":"'Electric Power N2O'!B76","v":{"$error":"#N/A"}},"x",{"$f":"NatGasCEFutil","v":0},"=",{"$error":"#N/A"},"x",25,"=",{"$error":"#N/A"},"=",{"$error":"#N/A"}]
["Wood",{"$f":"'Electric Power N2O'!B77","v":{"$error":"#N/A"}},"x",{"$f":"WoodCEFutil","v":0},"=",{"$error":"#N/A"},"x",25,"=",{"$error":"#N/A"},"=",{"$error":"#N/A"}]
["Other",{"$f":"'Electric Power N2O'!B78","v":0},"x",{"$f":"OtherCEFutil","v":0},"=",0,"x",25,"=",0,"=",0]
[null,null,null,null,null,null,null,"Total","=",{"$f":"SUM(J72:J78)","v":{"$error":"#N/A"}},"=",{"$error":"#N/A"}]
[]
["Electric Power Sector CH4",null,null,{"$f":"D68+1","v":1996}]
[]
[null,"Consumption",null,"Emission Factor",null,"Emissions ",null,"GWP",null,"Emissions ",null,"Emissions "]
["Fuel Type","(Billion Btu)",null,"(metric tons CH4 /BBtu)",null,"(metric tons CH4)",null,null,null,"(MMTCE)",null,"(MMTCO2E)"]
["Coal",{"$f":"'Electric Power N2O'!B85","v":{"$error":"#N/A"}},"x",{"$f":"CoalCEFutil","v":0},"=",{"$f":"B85*D85","v":{"$error":"#N/A"}},"x",{"$f":"GWPCH4","v":25},"=",{"$f":"F85*H85*CO2_C/(10^6)","v":{"$error":"#N/A"}},"=",{"$f":"J85/CO2_C","v":{"$error":"#N/A"}}]
["Distillate Fuel",{"$f":"'Electric Power N2O'!B86","v":{"$error":"#N/A"}},"x",{"$f":"DistillCEFutil","v":0},"=",{"$f":"B86*D86","v":{"$error":"#N/A"}},"x",25,"=",{"$error":"#N/A"},"=",{"$error":"#N/A"}]
["Petroleum Coke",{"$f":"'Electric Power N2O'!B87","v":{"$error":"#N/A"}},"x",{"$f":"PetCokeCEFutil","v":0},"=",{"$error":"#N/A"},"x",25,"=",{"$error":"#N/A"},"=",{"$error":"#N/A"}]
["Residual Fuel",{"$f":"'Electric Power N2O'!B88","v":{"$error":"#N/A"}},"x",{"$f":"ResidCEFutil","v":0},"=",{"$error":"#N/A"},"x",25,"=",{"$error":"#N/A"},"=",{"$error":"#N/A"}]
["Natural Gas",{"$f":"'Electric Power N2O'!B89","v":{"$error":"#N/A"}},"x",{"$f":"NatGasCEFutil","v":0},"=",{"$error":"#N/A"},"x",25,"=",{"$error":"#N/A"},"=",{"$error":"#N/A"}]
["Wood",{"$f":"'Electric Power N2O'!B90","v":{"$error":"#N/A"}},"x",{"$f":"WoodCEFutil","v":0},"=",{"$error":"#N/A"},"x",25,"=",{"$error":"#N/A"},"=",{"$error":"#N/A"}]
["Other",{"$f":"'Electric Power N2O'!B91","v":0},"x",{"$f":"OtherCEFutil","v":0},"=",0,"x",25,"=",0,"=",0]
[null,null,null,null,null,null,null,"Total","=",{"$f":"SUM(J85:J91)","v":{"$error":"#N/A"}},"=",{"$error":"#N/A"}]
[]
["Electric Power Sector CH4",null,null,{"$f":"D81+1","v":1997}]
[]
[null,"Consumption",null,"Emission Factor",null,"Emissions ",null,"GWP",null,"Emissions ",null,"Emissions "]
["Fuel Type","(Billion Btu)",null,"(metric tons CH4 /BBtu)",null,"(metric tons CH4)",null,null,null,"(MMTCE)",null,"(MMTCO2E)"]
["Coal",{"$f":"'Electric Power N2O'!B98","v":{"$error":"#N/A"}},"x",{"$f":"CoalCEFutil","v":0},"=",{"$f":"B98*D98","v":{"$error":"#N/A"}},"x",{"$f":"GWPCH4","v":25},"=",{"$f":"F98*H98*CO2_C/(10^6)","v":{"$error":"#N/A"}},"=",{"$f":"J98/CO2_C","v":{"$error":"#N/A"}}]
["Distillate Fuel",{"$f":"'Electric Power N2O'!B99","v":{"$error":"#N/A"}},"x",{"$f":"DistillCEFutil","v":0},"=",{"$f":"B99*D99","v":{"$error":"#N/A"}},"x",25,"=",{"$error":"#N/A"},"=",{"$error":"#N/A"}]
["Petroleum Coke",{"$f":"'Electric Power N2O'!B100","v":{"$error":"#N/A"}},"x",{"$f":"PetCokeCEFutil","v":0},"=",{"$error":"#N/A"},"x",25,"=",{"$error":"#N/A"},"=",{"$error":"#N/A"}]
["Residual Fuel",{"$f":"'Electric Power N2O'!B101","v":{"$error":"#N/A"}},"x",{"$f":"ResidCEFutil","v":0},"=",{"$error":"#N/A"},"x",25,"=",{"$error":"#N/A"},"=",{"$error":"#N/A"}]
["Natural Gas",{"$f":"'Electric Power N2O'!B102","v":{"$error":"#N/A"}},"x",{"$f":"NatGasCEFutil","v":0},"=",{"$error":"#N/A"},"x",25,"=",{"$error":"#N/A"},"=",{"$error":"#N/A"}]
["Wood",{"$f":"'Electric Power N2O'!B103","v":{"$error":"#N/A"}},"x",{"$f":"WoodCEFutil","v":0},"=",{"$error":"#N/A"},"x",25,"=",{"$error":"#N/A"},"=",{"$error":"#N/A"}]
["Other",{"$f":"'Electric Power N2O'!B104","v":0},"x",{"$f":"OtherCEFutil","v":0},"=",0,"x",25,"=",0,"=",0]
[null,null,null,null,null,null,null,"Total","=",{"$f":"SUM(J98:J104)","v":{"$error":"#N/A"}},"=",{"$error":"#N/A"}]
[]
["Electric Power Sector CH4",null,null,{"$f":"D94+1","v":1998}]
[]
[null,"Consumption",null,"Emission Factor",null,"Emissions ",null,"GWP",null,"Emissions ",null,"Emissions "]
["Fuel Type","(Billion Btu)",null,"(metric tons CH4 /BBtu)",null,"(metric tons CH4)",null,null,null,"(MMTCE)",null,"(MMTCO2E)"]
["Coal",{"$f":"'Electric Power N2O'!B111","v":{"$error":"#N/A"}},"x",{"$f":"CoalCEFutil","v":0},"=",{"$f":"B111*D111","v":{"$error":"#N/A"}},"x",{"$f":"GWPCH4","v":25},"=",{"$f":"F111*H111*CO2_C/(10^6)","v":{"$error":"#N/A"}},"=",{"$f":"J111/CO2_C","v":{"$error":"#N/A"}}]
["Distillate Fuel",{"$f":"'Electric Power N2O'!B112","v":{"$error":"#N/A"}},"x",{"$f":"DistillCEFutil","v":0},"=",{"$f":"B112*D112","v":{"$error":"#N/A"}},"x",25,"=",{"$error":"#N/A"},"=",{"$error":"#N/A"}]
["Petroleum Coke",{"$f":"'Electric Power N2O'!B113","v":{"$error":"#N/A"}},"x",{"$f":"PetCokeCEFutil","v":0},"=",{"$error":"#N/A"},"x",25,"=",{"$error":"#N/A"},"=",{"$error":"#N/A"}]
["Residual Fuel",{"$f":"'Electric Power N2O'!B114","v":{"$error":"#N/A"}},"x",{"$f":"ResidCEFutil","v":0},"=",{"$error":"#N/A"},"x",25,"=",{"$error":"#N/A"},"=",{"$error":"#N/A"}]
["Natural Gas",{"$f":"'Electric Power N2O'!B115","v":{"$error":"#N/A"}},"x",{"$f":"NatGasCEFutil","v":0},"=",{"$error":"#N/A"},"x",25,"=",{"$error":"#N/A"},"=",{"$error":"#N/A"}]
["Wood",{"$f":"'Electric Power N2O'!B116","v":{"$error":"#N/A"}},"x",{"$f":"WoodCEFutil","v":0},"=",{"$error":"#N/A"},"x",25,"=",{"$error":"#N/A"},"=",{"$error":"#N/A"}]
["Other",{"$f":"'Electric Power N2O'!B117","v":0},"x",{"$f":"OtherCEFutil","v":0},"=",0,"x",25,"=",0,"=",0]
[null,null,null,null,null,null,null,"Total","=",{"$f":"SUM(J111:J117)","v":{"$error":"#N/A"}},"=",{"$error":"#N/A"}]
[]
["Electric Power Sector CH4",null,null,{"$f":"D107+1","v":1999}]
[]
[null,"Consumption",null,"Emission Factor",null,"Emissions ",null,"GWP",null,"Emissions ",null,"Emissions "]
["Fuel Type","(Billion Btu)",null,"(metric tons CH4 /BBtu)",null,"(metric tons CH4)",null,null,null,"(MMTCE)",null,"(MMTCO2E)"]
["Coal",{"$f":"'Electric Power N2O'!B124","v":{"$error":"#N/A"}},"x",{"$f":"CoalCEFutil","v":0},"=",{"$f":"B124*D124","v":{"$error":"#N/A"}},"x",{"$f":"GWPCH4","v":25},"=",{"$f":"F124*H124*CO2_C/(10^6)","v":{"$error":"#N/A"}},"=",{"$f":"J124/CO2_C","v":{"$error":"#N/A"}}]
["Distillate Fuel",{"$f":"'Electric Power N2O'!B125","v":{"$error":"#N/A"}},"x",{"$f":"DistillCEFutil","v":0},"=",{"$f":"B125*D125","v":{"$error":"#N/A"}},"x",25,"=",{"$error":"#N/A"},"=",{"$error":"#N/A"}]
["Petroleum Coke",{"$f":"'Electric Power N2O'!B126","v":{"$error":"#N/A"}},"x",{"$f":"PetCokeCEFutil","v":0},"=",{"$error":"#N/A"},"x",25,"=",{"$error":"#N/A"},"=",{"$error":"#N/A"}]
["Residual Fuel",{"$f":"'Electric Power N2O'!B127","v":{"$error":"#N/A"}},"x",{"$f":"ResidCEFutil","v":0},"=",{"$error":"#N/A"},"x",25,"=",{"$error":"#N/A"},"=",{"$error":"#N/A"}]
["Natural Gas",{"$f":"'Electric Power N2O'!B128","v":{"$error":"#N/A"}},"x",{"$f":"NatGasCEFutil","v":0},"=",{"$error":"#N/A"},"x",25,"=",{"$error":"#N/A"},"=",{"$error":"#N/A"}]
["Wood",{"$f":"'Electric Power N2O'!B129","v":{"$error":"#N/A"}},"x",{"$f":"WoodCEFutil","v":0},"=",{"$error":"#N/A"},"x",25,"=",{"$error":"#N/A"},"=",{"$error":"#N/A"}]
["Other",{"$f":"'Electric Power N2O'!B130","v":0},"x",{"$f":"OtherCEFutil","v":0},"=",0,"x",25,"=",0,"=",0]
[null,null,null,null,null,null,null,"Total","=",{"$f":"SUM(J124:J130)","v":{"$error":"#N/A"}},"=",{"$error":"#N/A"}]
[]
["Electric Power Sector CH4",null,null,{"$f":"D120+1","v":2000}]
[]
[null,"Consumption",null,"Emission Factor",null,"Emissions ",null,"GWP",null,"Emissions ",null,"Emissions "]
["Fuel Type","(Billion Btu)",null,"(metric tons CH4 /BBtu)",null,"(metric tons CH4)",null,null,null,"(MMTCE)",null,"(MMTCO2E)"]
["Coal",{"$f":"'Electric Power N2O'!B137","v":{"$error":"#N/A"}},"x",{"$f":"CoalCEFutil","v":0},"=",{"$f":"B137*D137","v":{"$error":"#N/A"}},"x",{"$f":"GWPCH4","v":25},"=",{"$f":"F137*H137*CO2_C/(10^6)","v":{"$error":"#N/A"}},"=",{"$f":"J137/CO2_C","v":{"$error":"#N/A"}}]
["Distillate Fuel",{"$f":"'Electric Power N2O'!B138","v":{"$error":"#N/A"}},"x",{"$f":"DistillCEFutil","v":0},"=",{"$f":"B138*D138","v":{"$error":"#N/A"}},"x",25,"=",{"$error":"#N/A"},"=",{"$error":"#N/A"}]
["Petroleum Coke",{"$f":"'Electric Power N2O'!B139","v":{"$error":"#N/A"}},"x",{"$f":"PetCokeCEFutil","v":0},"=",{"$error":"#N/A"},"x",25,"=",{"$error":"#N/A"},"=",{"$error":"#N/A"}]
["Residual Fuel",{"$f":"'Electric Power N2O'!B140","v":{"$error":"#N/A"}},"x",{"$f":"ResidCEFutil","v":0},"=",{"$error":"#N/A"},"x",25,"=",{"$error":"#N/A"},"=",{"$error":"#N/A"}]
["Natural Gas",{"$f":"'Electric Power N2O'!B141","v":{"$error":"#N/A"}},"x",{"$f":"NatGasCEFutil","v":0},"=",{"$error":"#N/A"},"x",25,"=",{"$error":"#N/A"},"=",{"$error":"#N/A"}]
["Wood",{"$f":"'Electric Power N2O'!B142","v":{"$error":"#N/A"}},"x",{"$f":"WoodCEFutil","v":0},"=",{"$error":"#N/A"},"x",25,"=",{"$error":"#N/A"},"=",{"$error":"#N/A"}]
["Other",{"$f":"'Electric Power N2O'!B143","v":0},"x",{"$f":"OtherCEFutil","v":0},"=",0,"x",25,"=",0,"=",0]
[null,null,null,null,null,null,null,"Total","=",{"$f":"SUM(J137:J143)","v":{"$error":"#N/A"}},"=",{"$error":"#N/A"}]
[]
["Electric Power Sector CH4",null,null,{"$f":"D133+1","v":2001}]
[]
[null,"Consumption",null,"Emission Factor",null,"Emissions ",null,"GWP",null,"Emissions ",null,"Emissions "]
["Fuel Type","(Billion Btu)",null,"(metric tons CH4 /BBtu)",null,"(metric tons CH4)",null,null,null,"(MMTCE)",null,"(MMTCO2E)"]
["Coal",{"$f":"'Electric Power N2O'!B150","v":{"$error":"#N/A"}},"x",{"$f":"CoalCEFutil","v":0},"=",{"$f":"B150*D150","v":{"$error":"#N/A"}},"x",{"$f":"GWPCH4","v":25},"=",{"$f":"F150*H150*CO2_C/(10^6)","v":{"$error":"#N/A"}},"=",{"$f":"J150/CO2_C","v":{"$error":"#N/A"}}]
["Distillate Fuel",{"$f":"'Electric Power N2O'!B151","v":{"$error":"#N/A"}},"x",{"$f":"DistillCEFutil","v":0},"=",{"$f":"B151*D151","v":{"$error":"#N/A"}},"x",25,"=",{"$error":"#N/A"},"=",{"$error":"#N/A"}]
["Petroleum Coke",{"$f":"'Electric Power N2O'!B152","v":{"$error":"#N/A"}},"x",{"$f":"PetCokeCEFutil","v":0},"=",{"$error":"#N/A"},"x",25,"=",{"$error":"#N/A"},"=",{"$error":"#N/A"}]
["Residual Fuel",{"$f":"'Electric Power N2O'!B153","v":{"$error":"#N/A"}},"x",{"$f":"ResidCEFutil","v":0},"=",{"$error":"#N/A"},"x",25,"=",{"$error":"#N/A"},"=",{"$error":"#N/A"}]
["Natural Gas",{"$f":"'Electric Power N2O'!B154","v":{"$error":"#N/A"}},"x",{"$f":"NatGasCEFutil","v":0},"=",{"$error":"#N/A"},"x",25,"=",{"$error":"#N/A"},"=",{"$error":"#N/A"}]
["Wood",{"$f":"'Electric Power N2O'!B155","v":{"$error":"#N/A"}},"x",{"$f":"WoodCEFutil","v":0},"=",{"$error":"#N/A"},"x",25,"=",{"$error":"#N/A"},"=",{"$error":"#N/A"}]
["Other",{"$f":"'Electric Power N2O'!B156","v":0},"x",{"$f":"OtherCEFutil","v":0},"=",0,"x",25,"=",0,"=",0]
[null,null,null,null,null,null,null,"Total","=",{"$f":"SUM(J150:J156)","v":{"$error":"#N/A"}},"=",{"$error":"#N/A"}]
[]
["Electric Power Sector CH4",null,null,{"$f":"D146+1","v":2002}]
[]
[null,"Consumption",null,"Emission Factor",null,"Emissions ",null,"GWP",null,"Emissions ",null,"Emissions "]
["Fuel Type","(Billion Btu)",null,"(metric tons CH4 /BBtu)",null,"(metric tons CH4)",null,null,null,"(MMTCE)",null,"(MMTCO2E)"]
["Coal",{"$f":"'Electric Power N2O'!B163","v":{"$error":"#N/A"}},"x",{"$f":"CoalCEFutil","v":0},"=",{"$f":"B163*D163","v":{"$error":"#N/A"}},"x",{"$f":"GWPCH4","v":25},"=",{"$f":"F163*H163*CO2_C/(10^6)","v":{"$error":"#N/A"}},"=",{"$f":"J163/CO2_C","v":{"$error":"#N/A"}}]
["Distillate Fuel",{"$f":"'Electric Power N2O'!B164","v":{"$error":"#N/A"}},"x",{"$f":"DistillCEFutil","v":0},"=",{"$f":"B164*D164","v":{"$error":"#N/A"}},"x",25,"=",{"$error":"#N/A"},"=",{"$error":"#N/A"}]
["Petroleum Coke",{"$f":"'Electric Power N2O'!B165","v":{"$error":"#N/A"}},"x",{"$f":"PetCokeCEFutil","v":0},"=",{"$error":"#N/A"},"x",25,"=",{"$error":"#N/A"},"=",{"$error":"#N/A"}]
["Residual Fuel",{"$f":"'Electric Power N2O'!B166","v":{"$error":"#N/A"}},"x",{"$f":"ResidCEFutil","v":0},"=",{"$error":"#N/A"},"x",25,"=",{"$error":"#N/A"},"=",{"$error":"#N/A"}]
["Natural Gas",{"$f":"'Electric Power N2O'!B167","v":{"$error":"#N/A"}},"x",{"$f":"NatGasCEFutil","v":0},"=",{"$error":"#N/A"},"x",25,"=",{"$error":"#N/A"},"=",{"$error":"#N/A"}]
["Wood",{"$f":"'Electric Power N2O'!B168","v":{"$error":"#N/A"}},"x",{"$f":"WoodCEFutil","v":0},"=",{"$error":"#N/A"},"x",25,"=",{"$error":"#N/A"},"=",{"$error":"#N/A"}]
["Other",{"$f":"'Electric Power N2O'!B169","v":0},"x",{"$f":"OtherCEFutil","v":0},"=",0,"x",25,"=",0,"=",0]
[null,null,null,null,null,null,null,"Total","=",{"$f":"SUM(J163:J169)","v":{"$error":"#N/A"}},"=",{"$error":"#N/A"}]
[]
["Electric Power Sector CH4",null,null,{"$f":"D159+1","v":2003}]
[]
[null,"Consumption",null,"Emission Factor",null,"Emissions ",null,"GWP",null,"Emissions ",null,"Emissions "]
["Fuel Type","(Billion Btu)",null,"(metric tons CH4 /BBtu)",null,"(metric tons CH4)",null,null,null,"(MMTCE)",null,"(MMTCO2E)"]
["Coal",{"$f":"'Electric Power N2O'!B176","v":{"$error":"#N/A"}},"x",{"$f":"CoalCEFutil","v":0},"=",{"$f":"B176*D176","v":{"$error":"#N/A"}},"x",{"$f":"GWPCH4","v":25},"=",{"$f":"F176*H176*CO2_C/(10^6)","v":{"$error":"#N/A"}},"=",{"$f":"J176/CO2_C","v":{"$error":"#N/A"}}]
["Distillate Fuel",{"$f":"'Electric Power N2O'!B177","v":{"$error":"#N/A"}},"x",{"$f":"DistillCEFutil","v":0},"=",{"$f":"B177*D177","v":{"$error":"#N/A"}},"x",25,"=",{"$error":"#N/A"},"=",{"$error":"#N/A"}]
["Petroleum Coke",{"$f":"'Electric Power N2O'!B178","v":{"$error":"#N/A"}},"x",{"$f":"PetCokeCEFutil","v":0},"=",{"$error":"#N/A"},"x",25,"=",{"$error":"#N/A"},"=",{"$error":"#N/A"}]
["Residual Fuel",{"$f":"'Electric Power N2O'!B179","v":{"$error":"#N/A"}},"x",{"$f":"ResidCEFutil","v":0},"=",{"$error":"#N/A"},"x",25,"=",{"$error":"#N/A"},"=",{"$error":"#N/A"}]
["Natural Gas",{"$f":"'Electric Power N2O'!B180","v":{"$error":"#N/A"}},"x",{"$f":"NatGasCEFutil","v":0},"=",{"$error":"#N/A"},"x",25,"=",{"$error":"#N/A"},"=",{"$error":"#N/A"}]
["Wood",{"$f":"'Electric Power N2O'!B181","v":{"$error":"#N/A"}},"x",{"$f":"WoodCEFutil","v":0},"=",{"$error":"#N/A"},"x",25,"=",{"$error":"#N/A"},"=",{"$error":"#N/A"}]
["Other",{"$f":"'Electric Power N2O'!B182","v":0},"x",{"$f":"OtherCEFutil","v":0},"=",0,"x",25,"=",0,"=",0]
[null,null,null,null,null,null,null,"Total","=",{"$f":"SUM(J176:J182)","v":{"$error":"#N/A"}},"=",{"$error":"#N/A"}]
[]
["Electric Power Sector CH4",null,null,{"$f":"D172+1","v":2004}]
[]
[null,"Consumption",null,"Emission Factor",null,"Emissions ",null,"GWP",null,"Emissions ",null,"Emissions "]
["Fuel Type","(Billion Btu)",null,"(metric tons CH4 /BBtu)",null,"(metric tons CH4)",null,null,null,"(MMTCE)",null,"(MMTCO2E)"]
["Coal",{"$f":"'Electric Power N2O'!B189","v":{"$error":"#N/A"}},"x",{"$f":"CoalCEFutil","v":0},"=",{"$f":"B189*D189","v":{"$error":"#N/A"}},"x",{"$f":"GWPCH4","v":25},"=",{"$f":"F189*H189*CO2_C/(10^6)","v":{"$error":"#N/A"}},"=",{"$f":"J189/CO2_C","v":{"$error":"#N/A"}}]
["Distillate Fuel",{"$f":"'Electric Power N2O'!B190","v":{"$error":"#N/A"}},"x",{"$f":"DistillCEFutil","v":0},"=",{"$f":"B190*D190","v":{"$error":"#N/A"}},"x",25,"=",{"$error":"#N/A"},"=",{"$error":"#N/A"}]
["Petroleum Coke",{"$f":"'Electric Power N2O'!B191","v":{"$error":"#N/A"}},"x",{"$f":"PetCokeCEFutil","v":0},"=",{"$error":"#N/A"},"x",25,"=",{"$error":"#N/A"},"=",{"$error":"#N/A"}]
["Residual Fuel",{"$f":"'Electric Power N2O'!B192","v":{"$error":"#N/A"}},"x",{"$f":"ResidCEFutil","v":0},"=",{"$error":"#N/A"},"x",25,"=",{"$error":"#N/A"},"=",{"$error":"#N/A"}]
["Natural Gas",{"$f":"'Electric Power N2O'!B193","v":{"$error":"#N/A"}},"x",{"$f":"NatGasCEFutil","v":0},"=",{"$error":"#N/A"},"x",25,"=",{"$error":"#N/A"},"=",{"$error":"#N/A"}]
["Wood",{"$f":"'Electric Power N2O'!B194","v":{"$error":"#N/A"}},"x",{"$f":"WoodCEFutil","v":0},"=",{"$error":"#N/A"},"x",25,"=",{"$error":"#N/A"},"=",{"$error":"#N/A"}]
["Other",{"$f":"'Electric Power N2O'!B195","v":0},"x",{"$f":"OtherCEFutil","v":0},"=",0,"x",25,"=",0,"=",0]
[null,null,null,null,null,null,null,"Total","=",{"$f":"SUM(J189:J195)","v":{"$error":"#N/A"}},"=",{"$error":"#N/A"}]
[]
["Electric Power Sector CH4",null,null,{"$f":"D185+1","v":2005}]
[]
[null,"Consumption",null,"Emission Factor",null,"Emissions ",null,"GWP",null,"Emissions ",null,"Emissions "]
["Fuel Type","(Billion Btu)",null,"(metric tons CH4 /BBtu)",null,"(metric tons CH4)",null,null,null,"(MMTCE)",null,"(MMTCO2E)"]
["Coal",{"$f":"'Electric Power N2O'!B202","v":{"$error":"#N/A"}},"x",{"$f":"CoalCEFutil","v":0},"=",{"$f":"B202*D202","v":{"$error":"#N/A"}},"x",{"$f":"GWPCH4","v":25},"=",{"$f":"F202*H202*CO2_C/(10^6)","v":{"$error":"#N/A"}},"=",{"$f":"J202/CO2_C","v":{"$error":"#N/A"}}]
["Distillate Fuel",{"$f":"'Electric Power N2O'!B203","v":{"$error":"#N/A"}},"x",{"$f":"DistillCEFutil","v":0},"=",{"$f":"B203*D203","v":{"$error":"#N/A"}},"x",25,"=",{"$error":"#N/A"},"=",{"$error":"#N/A"}]
["Petroleum Coke",{"$f":"'Electric Power N2O'!B204","v":{"$error":"#N/A"}},"x",{"$f":"PetCokeCEFutil","v":0},"=",{"$error":"#N/A"},"x",25,"=",{"$error":"#N/A"},"=",{"$error":"#N/A"}]
["Residual Fuel",{"$f":"'Electric Power N2O'!B205","v":{"$error":"#N/A"}},"x",{"$f":"ResidCEFutil","v":0},"=",{"$error":"#N/A"},"x",25,"=",{"$error":"#N/A"},"=",{"$error":"#N/A"}]
["Natural Gas",{"$f":"'Electric Power N2O'!B206","v":{"$error":"#N/A"}},"x",{"$f":"NatGasCEFutil","v":0},"=",{"$error":"#N/A"},"x",25,"=",{"$error":"#N/A"},"=",{"$error":"#N/A"}]
["Wood",{"$f":"'Electric Power N2O'!B207","v":{"$error":"#N/A"}},"x",{"$f":"WoodCEFutil","v":0},"=",{"$error":"#N/A"},"x",25,"=",{"$error":"#N/A"},"=",{"$error":"#N/A"}]
["Other",{"$f":"'Electric Power N2O'!B208","v":0},"x",{"$f":"OtherCEFutil","v":0},"=",0,"x",25,"=",0,"=",0]
[null,null,null,null,null,null,null,"Total","=",{"$f":"SUM(J202:J208)","v":{"$error":"#N/A"}},"=",{"$error":"#N/A"}]
[]
["Electric Power Sector CH4",null,null,{"$f":"D198+1","v":2006}]
[]
[null,"Consumption",null,"Emission Factor",null,"Emissions ",null,"GWP",null,"Emissions ",null,"Emissions "]
["Fuel Type","(Billion Btu)",null,"(metric tons CH4 /BBtu)",null,"(metric tons CH4)",null,null,null,"(MMTCE)",null,"(MMTCO2E)"]
["Coal",{"$f":"'Electric Power N2O'!B215","v":{"$error":"#N/A"}},"x",{"$f":"CoalCEFutil","v":0},"=",{"$f":"B215*D215","v":{"$error":"#N/A"}},"x",{"$f":"GWPCH4","v":25},"=",{"$f":"F215*H215*CO2_C/(10^6)","v":{"$error":"#N/A"}},"=",{"$f":"J215/CO2_C","v":{"$error":"#N/A"}}]
["Distillate Fuel",{"$f":"'Electric Power N2O'!B216","v":{"$error":"#N/A"}},"x",{"$f":"DistillCEFutil","v":0},"=",{"$f":"B216*D216","v":{"$error":"#N/A"}},"x",25,"=",{"$error":"#N/A"},"=",{"$error":"#N/A"}]
["Petroleum Coke",{"$f":"'Electric Power N2O'!B217","v":{"$error":"#N/A"}},"x",{"$f":"PetCokeCEFutil","v":0},"=",{"$error":"#N/A"},"x",25,"=",{"$error":"#N/A"},"=",{"$error":"#N/A"}]
["Residual Fuel",{"$f":"'Electric Power N2O'!B218","v":{"$error":"#N/A"}},"x",{"$f":"ResidCEFutil","v":0},"=",{"$error":"#N/A"},"x",25,"=",{"$error":"#N/A"},"=",{"$error":"#N/A"}]
["Natural Gas",{"$f":"'Electric Power N2O'!B219","v":{"$error":"#N/A"}},"x",{"$f":"NatGasCEFutil","v":0},"=",{"$error":"#N/A"},"x",25,"=",{"$error":"#N/A"},"=",{"$error":"#N/A"}]
["Wood",{"$f":"'Electric Power N2O'!B220","v":{"$error":"#N/A"}},"x",{"$f":"WoodCEFutil","v":0},"=",{"$error":"#N/A"},"x",25,"=",{"$error":"#N/A"},"=",{"$error":"#N/A"}]
["Other",{"$f":"'Electric Power N2O'!B221","v":0},"x",{"$f":"OtherCEFutil","v":0},"=",0,"x",25,"=",0,"=",0]
[null,null,null,null,null,null,null,"Total","=",{"$f":"SUM(J215:J221)","v":{"$error":"#N/A"}},"=",{"$error":"#N/A"}]
[]
["Electric Power Sector CH4",null,null,{"$f":"D211+1","v":2007}]
[]
[null,"Consumption",null,"Emission Factor",null,"Emissions ",null,"GWP",null,"Emissions ",null,"Emissions "]
["Fuel Type","(Billion Btu)",null,"(metric tons CH4 /BBtu)",null,"(metric tons CH4)",null,null,null,"(MMTCE)",null,"(MMTCO2E)"]
["Coal",{"$f":"'Electric Power N2O'!B228","v":{"$error":"#N/A"}},"x",{"$f":"CoalCEFutil","v":0},"=",{"$f":"B228*D228","v":{"$error":"#N/A"}},"x",{"$f":"GWPCH4","v":25},"=",{"$f":"F228*H228*CO2_C/(10^6)","v":{"$error":"#N/A"}},"=",{"$f":"J228/CO2_C","v":{"$error":"#N/A"}}]
["Distillate Fuel",{"$f":"'Electric Power N2O'!B229","v":{"$error":"#N/A"}},"x",{"$f":"DistillCEFutil","v":0},"=",{"$f":"B229*D229","v":{"$error":"#N/A"}},"x",25,"=",{"$error":"#N/A"},"=",{"$error":"#N/A"}]
["Petroleum Coke",{"$f":"'Electric Power N2O'!B230","v":{"$error":"#N/A"}},"x",{"$f":"PetCokeCEFutil","v":0},"=",{"$error":"#N/A"},"x",25,"=",{"$error":"#N/A"},"=",{"$error":"#N/A"}]
["Residual Fuel",{"$f":"'Electric Power N2O'!B231","v":{"$error":"#N/A"}},"x",{"$f":"ResidCEFutil","v":0},"=",{"$error":"#N/A"},"x",25,"=",{"$error":"#N/A"},"=",{"$error":"#N/A"}]
["Natural Gas",{"$f":"'Electric Power N2O'!B232","v":{"$error":"#N/A"}},"x",{"$f":"NatGasCEFutil","v":0},"=",{"$error":"#N/A"},"x",25,"=",{"$error":"#N/A"},"=",{"$error":"#N/A"}]
["Wood",{"$f":"'Electric Power N2O'!B233","v":{"$error":"#N/A"}},"x",{"$f":"WoodCEFutil","v":0},"=",{"$error":"#N/A"},"x",25,"=",{"$error":"#N/A"},"=",{"$error":"#N/A"}]
["Other",{"$f":"'Electric Power N2O'!B234","v":0},"x",{"$f":"OtherCEFutil","v":0},"=",0,"x",25,"=",0,"=",0]
[null,null,null,null,null,null,null,"Total","=",{"$f":"SUM(J228:J234)","v":{"$error":"#N/A"}},"=",{"$error":"#N/A"}]
[]
["Electric Power Sector CH4",null,null,{"$f":"D224+1","v":2008}]
[]
[null,"Consumption",null,"Emission Factor",null,"Emissions ",null,"GWP",null,"Emissions ",null,"Emissions "]
["Fuel Type","(Billion Btu)",null,"(metric tons CH4 /BBtu)",null,"(metric tons CH4)",null,null,null,"(MMTCE)",null,"(MMTCO2E)"]
["Coal",{"$f":"'Electric Power N2O'!B241","v":{"$error":"#N/A"}},"x",{"$f":"CoalCEFutil","v":0},"=",{"$f":"B241*D241","v":{"$error":"#N/A"}},"x",{"$f":"GWPCH4","v":25},"=",{"$f":"F241*H241*CO2_C/(10^6)","v":{"$error":"#N/A"}},"=",{"$f":"J241/CO2_C","v":{"$error":"#N/A"}}]
["Distillate Fuel",{"$f":"'Electric Power N2O'!B242","v":{"$error":"#N/A"}},"x",{"$f":"DistillCEFutil","v":0},"=",{"$f":"B242*D242","v":{"$error":"#N/A"}},"x",25,"=",{"$error":"#N/A"},"=",{"$error":"#N/A"}]
["Petroleum Coke",{"$f":"'Electric Power N2O'!B243","v":{"$error":"#N/A"}},"x",{"$f":"PetCokeCEFutil","v":0},"=",{"$error":"#N/A"},"x",25,"=",{"$error":"#N/A"},"=",{"$error":"#N/A"}]
["Residual Fuel",{"$f":"'Electric Power N2O'!B244","v":{"$error":"#N/A"}},"x",{"$f":"ResidCEFutil","v":0},"=",{"$error":"#N/A"},"x",25,"=",{"$error":"#N/A"},"=",{"$error":"#N/A"}]
["Natural Gas",{"$f":"'Electric Power N2O'!B245","v":{"$error":"#N/A"}},"x",{"$f":"NatGasCEFutil","v":0},"=",{"$error":"#N/A"},"x",25,"=",{"$error":"#N/A"},"=",{"$error":"#N/A"}]
["Wood",{"$f":"'Electric Power N2O'!B246","v":{"$error":"#N/A"}},"x",{"$f":"WoodCEFutil","v":0},"=",{"$error":"#N/A"},"x",25,"=",{"$error":"#N/A"},"=",{"$error":"#N/A"}]
["Other",{"$f":"'Electric Power N2O'!B247","v":0},"x",{"$f":"OtherCEFutil","v":0},"=",0,"x",25,"=",0,"=",0]
[null,null,null,null,null,null,null,"Total","=",{"$f":"SUM(J241:J247)","v":{"$error":"#N/A"}},"=",{"$error":"#N/A"}]
[]
["Electric Power Sector CH4",null,null,{"$f":"D237+1","v":2009}]
[]
[null,"Consumption",null,"Emission Factor",null,"Emissions ",null,"GWP",null,"Emissions ",null,"Emissions "]
["Fuel Type","(Billion Btu)",null,"(metric tons CH4 /BBtu)",null,"(metric tons CH4)",null,null,null,"(MMTCE)",null,"(MMTCO2E)"]
["Coal",{"$f":"'Electric Power N2O'!B254","v":{"$error":"#N/A"}},"x",{"$f":"CoalCEFutil","v":0},"=",{"$f":"B254*D254","v":{"$error":"#N/A"}},"x",{"$f":"GWPCH4","v":25},"=",{"$f":"F254*H254*CO2_C/(10^6)","v":{"$error":"#N/A"}},"=",{"$f":"J254/CO2_C","v":{"$error":"#N/A"}}]
["Distillate Fuel",{"$f":"'Electric Power N2O'!B255","v":{"$error":"#N/A"}},"x",{"$f":"DistillCEFutil","v":0},"=",{"$f":"B255*D255","v":{"$error":"#N/A"}},"x",25,"=",{"$error":"#N/A"},"=",{"$error":"#N/A"}]
["Petroleum Coke",{"$f":"'Electric Power N2O'!B256","v":{"$error":"#N/A"}},"x",{"$f":"PetCokeCEFutil","v":0},"=",{"$error":"#N/A"},"x",25,"=",{"$error":"#N/A"},"=",{"$error":"#N/A"}]
["Residual Fuel",{"$f":"'Electric Power N2O'!B257","v":{"$error":"#N/A"}},"x",{"$f":"ResidCEFutil","v":0},"=",{"$error":"#N/A"},"x",25,"=",{"$error":"#N/A"},"=",{"$error":"#N/A"}]
["Natural Gas",{"$f":"'Electric Power N2O'!B258","v":{"$error":"#N/A"}},"x",{"$f":"NatGasCEFutil","v":0},"=",{"$error":"#N/A"},"x",25,"=",{"$error":"#N/A"},"=",{"$error":"#N/A"}]
["Wood",{"$f":"'Electric Power N2O'!B259","v":{"$error":"#N/A"}},"x",{"$f":"WoodCEFutil","v":0},"=",{"$error":"#N/A"},"x",25,"=",{"$error":"#N/A"},"=",{"$error":"#N/A"}]
["Other",{"$f":"'Electric Power N2O'!B260","v":0},"x",{"$f":"OtherCEFutil","v":0},"=",0,"x",25,"=",0,"=",0]
[null,null,null,null,null,null,null,"Total","=",{"$f":"SUM(J254:J260)","v":{"$error":"#N/A"}},"=",{"$error":"#N/A"}]
[]
["Electric Power Sector CH4",null,null,{"$f":"D250+1","v":2010}]
[]
[null,"Consumption",null,"Emission Factor",null,"Emissions ",null,"GWP",null,"Emissions ",null,"Emissions "]
["Fuel Type","(Billion Btu)",null,"(metric tons CH4 /BBtu)",null,"(metric tons CH4)",null,null,null,"(MMTCE)",null,"(MMTCO2E)"]
["Coal",{"$f":"'Electric Power N2O'!B267","v":{"$error":"#N/A"}},"x",{"$f":"CoalCEFutil","v":0},"=",{"$f":"B267*D267","v":{"$error":"#N/A"}},"x",{"$f":"GWPCH4","v":25},"=",{"$f":"F267*H267*CO2_C/(10^6)","v":{"$error":"#N/A"}},"=",{"$f":"J267/CO2_C","v":{"$error":"#N/A"}}]
["Distillate Fuel",{"$f":"'Electric Power N2O'!B268","v":{"$error":"#N/A"}},"x",{"$f":"DistillCEFutil","v":0},"=",{"$f":"B268*D268","v":{"$error":"#N/A"}},"x",25,"=",{"$error":"#N/A"},"=",{"$error":"#N/A"}]
["Petroleum Coke",{"$f":"'Electric Power N2O'!B269","v":{"$error":"#N/A"}},"x",{"$f":"PetCokeCEFutil","v":0},"=",{"$error":"#N/A"},"x",25,"=",{"$error":"#N/A"},"=",{"$error":"#N/A"}]
["Residual Fuel",{"$f":"'Electric Power N2O'!B270","v":{"$error":"#N/A"}},"x",{"$f":"ResidCEFutil","v":0},"=",{"$error":"#N/A"},"x",25,"=",{"$error":"#N/A"},"=",{"$error":"#N/A"}]
["Natural Gas",{"$f":"'Electric Power N2O'!B271","v":{"$error":"#N/A"}},"x",{"$f":"NatGasCEFutil","v":0},"=",{"$error":"#N/A"},"x",25,"=",{"$error":"#N/A"},"=",{"$error":"#N/A"}]
["Wood",{"$f":"'Electric Power N2O'!B272","v":{"$error":"#N/A"}},"x",{"$f":"WoodCEFutil","v":0},"=",{"$error":"#N/A"},"x",25,"=",{"$error":"#N/A"},"=",{"$error":"#N/A"}]
["Other",{"$f":"'Electric Power N2O'!B273","v":0},"x",{"$f":"OtherCEFutil","v":0},"=",0,"x",25,"=",0,"=",0]
[null,null,null,null,null,null,null,"Total","=",{"$f":"SUM(J267:J273)","v":{"$error":"#N/A"}},"=",{"$error":"#N/A"}]
[]
["Electric Power Sector CH4",null,null,{"$f":"D263+1","v":2011}]
[]
[null,"Consumption",null,"Emission Factor",null,"Emissions ",null,"GWP",null,"Emissions ",null,"Emissions "]
["Fuel Type","(Billion Btu)",null,"(metric tons CH4 /BBtu)",null,"(metric tons CH4)",null,null,null,"(MMTCE)",null,"(MMTCO2E)"]
["Coal",{"$f":"'Electric Power N2O'!B280","v":{"$error":"#N/A"}},"x",{"$f":"CoalCEFutil","v":0},"=",{"$f":"B280*D280","v":{"$error":"#N/A"}},"x",{"$f":"GWPCH4","v":25},"=",{"$f":"F280*H280*CO2_C/(10^6)","v":{"$error":"#N/A"}},"=",{"$f":"J280/CO2_C","v":{"$error":"#N/A"}}]
["Distillate Fuel",{"$f":"'Electric Power N2O'!B281","v":{"$error":"#N/A"}},"x",{"$f":"DistillCEFutil","v":0},"=",{"$f":"B281*D281","v":{"$error":"#N/A"}},"x",25,"=",{"$error":"#N/A"},"=",{"$error":"#N/A"}]
["Petroleum Coke",{"$f":"'Electric Power N2O'!B282","v":{"$error":"#N/A"}},"x",{"$f":"PetCokeCEFutil","v":0},"=",{"$error":"#N/A"},"x",25,"=",{"$error":"#N/A"},"=",{"$error":"#N/A"}]
["Residual Fuel",{"$f":"'Electric Power N2O'!B283","v":{"$error":"#N/A"}},"x",{"$f":"ResidCEFutil","v":0},"=",{"$error":"#N/A"},"x",25,"=",{"$error":"#N/A"},"=",{"$error":"#N/A"}]
["Natural Gas",{"$f":"'Electric Power N2O'!B284","v":{"$error":"#N/A"}},"x",{"$f":"NatGasCEFutil","v":0},"=",{"$error":"#N/A"},"x",25,"=",{"$error":"#N/A"},"=",{"$error":"#N/A"}]
["Wood",{"$f":"'Electric Power N2O'!B285","v":{"$error":"#N/A"}},"x",{"$f":"WoodCEFutil","v":0},"=",{"$error":"#N/A"},"x",25,"=",{"$error":"#N/A"},"=",{"$error":"#N/A"}]
["Other",{"$f":"'Electric Power N2O'!B286","v":0},"x",{"$f":"OtherCEFutil","v":0},"=",0,"x",25,"=",0,"=",0]
[null,null,null,null,null,null,null,"Total","=",{"$f":"SUM(J280:J286)","v":{"$error":"#N/A"}},"=",{"$error":"#N/A"}]
[]
["Electric Power Sector CH4",null,null,{"$f":"D276+1","v":2012}]
[]
[null,"Consumption",null,"Emission Factor",null,"Emissions ",null,"GWP",null,"Emissions ",null,"Emissions "]
["Fuel Type","(Billion Btu)",null,"(metric tons CH4 /BBtu)",null,"(metric tons CH4)",null,null,null,"(MMTCE)",null,"(MMTCO2E)"]
["Coal",{"$f":"'Electric Power N2O'!B293","v":{"$error":"#N/A"}},"x",{"$f":"CoalCEFutil","v":0},"=",{"$f":"B293*D293","v":{"$error":"#N/A"}},"x",{"$f":"GWPCH4","v":25},"=",{"$f":"F293*H293*CO2_C/(10^6)","v":{"$error":"#N/A"}},"=",{"$f":"J293/CO2_C","v":{"$error":"#N/A"}}]
["Distillate Fuel",{"$f":"'Electric Power N2O'!B294","v":{"$error":"#N/A"}},"x",{"$f":"DistillCEFutil","v":0},"=",{"$f":"B294*D294","v":{"$error":"#N/A"}},"x",25,"=",{"$error":"#N/A"},"=",{"$error":"#N/A"}]
["Petroleum Coke",{"$f":"'Electric Power N2O'!B295","v":{"$error":"#N/A"}},"x",{"$f":"PetCokeCEFutil","v":0},"=",{"$error":"#N/A"},"x",25,"=",{"$error":"#N/A"},"=",{"$error":"#N/A"}]
["Residual Fuel",{"$f":"'Electric Power N2O'!B296","v":{"$error":"#N/A"}},"x",{"$f":"ResidCEFutil","v":0},"=",{"$error":"#N/A"},"x",25,"=",{"$error":"#N/A"},"=",{"$error":"#N/A"}]
["Natural Gas",{"$f":"'Electric Power N2O'!B297","v":{"$error":"#N/A"}},"x",{"$f":"NatGasCEFutil","v":0},"=",{"$error":"#N/A"},"x",25,"=",{"$error":"#N/A"},"=",{"$error":"#N/A"}]
["Wood",{"$f":"'Electric Power N2O'!B298","v":{"$error":"#N/A"}},"x",{"$f":"WoodCEFutil","v":0},"=",{"$error":"#N/A"},"x",25,"=",{"$error":"#N/A"},"=",{"$error":"#N/A"}]
["Other",{"$f":"'Electric Power N2O'!B299","v":0},"x",{"$f":"OtherCEFutil","v":0},"=",0,"x",25,"=",0,"=",0]
[null,null,null,null,null,null,null,"Total","=",{"$f":"SUM(J293:J299)","v":{"$error":"#N/A"}},"=",{"$error":"#N/A"}]
[]
["Electric Power Sector CH4",null,null,{"$f":"D289+1","v":2013}]
[]
[null,"Consumption",null,"Emission Factor",null,"Emissions ",null,"GWP",null,"Emissions ",null,"Emissions "]
["Fuel Type","(Billion Btu)",null,"(metric tons CH4 /BBtu)",null,"(metric tons CH4)",null,null,null,"(MMTCE)",null,"(MMTCO2E)"]
["Coal",{"$f":"'Electric Power N2O'!B306","v":{"$error":"#N/A"}},"x",{"$f":"CoalCEFutil","v":0},"=",{"$f":"B306*D306","v":{"$error":"#N/A"}},"x",{"$f":"GWPCH4","v":25},"=",{"$f":"F306*H306*CO2_C/(10^6)","v":{"$error":"#N/A"}},"=",{"$f":"J306/CO2_C","v":{"$error":"#N/A"}}]
["Distillate Fuel",{"$f":"'Electric Power N2O'!B307","v":{"$error":"#N/A"}},"x",{"$f":"DistillCEFutil","v":0},"=",{"$f":"B307*D307","v":{"$error":"#N/A"}},"x",25,"=",{"$error":"#N/A"},"=",{"$error":"#N/A"}]
["Petroleum Coke",{"$f":"'Electric Power N2O'!B308","v":{"$error":"#N/A"}},"x",{"$f":"PetCokeCEFutil","v":0},"=",{"$error":"#N/A"},"x",25,"=",{"$error":"#N/A"},"=",{"$error":"#N/A"}]
["Residual Fuel",{"$f":"'Electric Power N2O'!B309","v":{"$error":"#N/A"}},"x",{"$f":"ResidCEFutil","v":0},"=",{"$error":"#N/A"},"x",25,"=",{"$error":"#N/A"},"=",{"$error":"#N/A"}]
["Natural Gas",{"$f":"'Electric Power N2O'!B310","v":{"$error":"#N/A"}},"x",{"$f":"NatGasCEFutil","v":0},"=",{"$error":"#N/A"},"x",25,"=",{"$error":"#N/A"},"=",{"$error":"#N/A"}]
["Wood",{"$f":"'Electric Power N2O'!B311","v":{"$error":"#N/A"}},"x",{"$f":"WoodCEFutil","v":0},"=",{"$error":"#N/A"},"x",25,"=",{"$error":"#N/A"},"=",{"$error":"#N/A"}]
["Other",{"$f":"'Electric Power N2O'!B312","v":0},"x",{"$f":"OtherCEFutil","v":0},"=",0,"x",25,"=",0,"=",0]
[null,null,null,null,null,null,null,"Total","=",{"$f":"SUM(J306:J312)","v":{"$error":"#N/A"}},"=",{"$error":"#N/A"}]
[]
["Electric Power Sector CH4",null,null,{"$f":"D302+1","v":2014}]
[]
[null,"Consumption",null,"Emission Factor",null,"Emissions ",null,"GWP",null,"Emissions ",null,"Emissions "]
["Fuel Type","(Billion Btu)",null,"(metric tons CH4 /BBtu)",null,"(metric tons CH4)",null,null,null,"(MMTCE)",null,"(MMTCO2E)"]
["Coal",{"$f":"'Electric Power N2O'!B319","v":{"$error":"#N/A"}},"x",{"$f":"CoalCEFutil","v":0},"=",{"$f":"B319*D319","v":{"$error":"#N/A"}},"x",{"$f":"GWPCH4","v":25},"=",{"$f":"F319*H319*CO2_C/(10^6)","v":{"$error":"#N/A"}},"=",{"$f":"J319/CO2_C","v":{"$error":"#N/A"}}]
["Distillate Fuel",{"$f":"'Electric Power N2O'!B320","v":{"$error":"#N/A"}},"x",{"$f":"DistillCEFutil","v":0},"=",{"$f":"B320*D320","v":{"$error":"#N/A"}},"x",25,"=",{"$error":"#N/A"},"=",{"$error":"#N/A"}]
["Petroleum Coke",{"$f":"'Electric Power N2O'!B321","v":{"$error":"#N/A"}},"x",{"$f":"PetCokeCEFutil","v":0},"=",{"$error":"#N/A"},"x",25,"=",{"$error":"#N/A"},"=",{"$error":"#N/A"}]
["Residual Fuel",{"$f":"'Electric Power N2O'!B322","v":{"$error":"#N/A"}},"x",{"$f":"ResidCEFutil","v":0},"=",{"$error":"#N/A"},"x",25,"=",{"$error":"#N/A"},"=",{"$error":"#N/A"}]
["Natural Gas",{"$f":"'Electric Power N2O'!B323","v":{"$error":"#N/A"}},"x",{"$f":"NatGasCEFutil","v":0},"=",{"$error":"#N/A"},"x",25,"=",{"$error":"#N/A"},"=",{"$error":"#N/A"}]
["Wood",{"$f":"'Electric Power N2O'!B324","v":{"$error":"#N/A"}},"x",{"$f":"WoodCEFutil","v":0},"=",{"$error":"#N/A"},"x",25,"=",{"$error":"#N/A"},"=",{"$error":"#N/A"}]
["Other",{"$f":"'Electric Power N2O'!B325","v":0},"x",{"$f":"OtherCEFutil","v":0},"=",0,"x",25,"=",0,"=",0]
[null,null,null,null,null,null,null,"Total","=",{"$f":"SUM(J319:J325)","v":{"$error":"#N/A"}},"=",{"$error":"#N/A"}]
[]
["Electric Power Sector CH4",null,null,{"$f":"D315+1","v":2015}]
[]
[null,"Consumption",null,"Emission Factor",null,"Emissions ",null,"GWP",null,"Emissions ",null,"Emissions "]
["Fuel Type","(Billion Btu)",null,"(metric tons CH4 /BBtu)",null,"(metric tons CH4)",null,null,null,"(MMTCE)",null,"(MMTCO2E)"]
["Coal",{"$f":"'Electric Power N2O'!B332","v":{"$error":"#N/A"}},"x",{"$f":"CoalCEFutil","v":0},"=",{"$f":"B332*D332","v":{"$error":"#N/A"}},"x",{"$f":"GWPCH4","v":25},"=",{"$f":"F332*H332*CO2_C/(10^6)","v":{"$error":"#N/A"}},"=",{"$f":"J332/CO2_C","v":{"$error":"#N/A"}}]
["Distillate Fuel",{"$f":"'Electric Power N2O'!B333","v":{"$error":"#N/A"}},"x",{"$f":"DistillCEFutil","v":0},"=",{"$f":"B333*D333","v":{"$error":"#N/A"}},"x",25,"=",{"$error":"#N/A"},"=",{"$error":"#N/A"}]
["Petroleum Coke",{"$f":"'Electric Power N2O'!B334","v":{"$error":"#N/A"}},"x",{"$f":"PetCokeCEFutil","v":0},"=",{"$error":"#N/A"},"x",25,"=",{"$error":"#N/A"},"=",{"$error":"#N/A"}]
["Residual Fuel",{"$f":"'Electric Power N2O'!B335","v":{"$error":"#N/A"}},"x",{"$f":"ResidCEFutil","v":0},"=",{"$error":"#N/A"},"x",25,"=",{"$error":"#N/A"},"=",{"$error":"#N/A"}]
["Natural Gas",{"$f":"'Electric Power N2O'!B336","v":{"$error":"#N/A"}},"x",{"$f":"NatGasCEFutil","v":0},"=",{"$error":"#N/A"},"x",25,"=",{"$error":"#N/A"},"=",{"$error":"#N/A"}]
["Wood",{"$f":"'Electric Power N2O'!B337","v":{"$error":"#N/A"}},"x",{"$f":"WoodCEFutil","v":0},"=",{"$error":"#N/A"},"x",25,"=",{"$error":"#N/A"},"=",{"$error":"#N/A"}]
["Other",{"$f":"'Electric Power N2O'!B338","v":0},"x",{"$f":"OtherCEFutil","v":0},"=",0,"x",25,"=",0,"=",0]
[null,null,null,null,null,null,null,"Total","=",{"$f":"SUM(J332:J338)","v":{"$error":"#N/A"}},"=",{"$error":"#N/A"}]
[]
["Electric Power Sector CH4",null,null,{"$f":"D328+1","v":2016}]
[]
[null,"Consumption",null,"Emission Factor",null,"Emissions ",null,"GWP",null,"Emissions ",null,"Emissions "]
["Fuel Type","(Billion Btu)",null,"(metric tons CH4 /BBtu)",null,"(metric tons CH4)",null,null,null,"(MMTCE)",null,"(MMTCO2E)"]
["Coal",{"$f":"'Electric Power N2O'!B345","v":{"$error":"#N/A"}},"x",{"$f":"CoalCEFutil","v":0},"=",{"$f":"B345*D345","v":{"$error":"#N/A"}},"x",{"$f":"GWPCH4","v":25},"=",{"$f":"F345*H345*CO2_C/(10^6)","v":{"$error":"#N/A"}},"=",{"$f":"J345/CO2_C","v":{"$error":"#N/A"}}]
["Distillate Fuel",{"$f":"'Electric Power N2O'!B346","v":{"$error":"#N/A"}},"x",{"$f":"DistillCEFutil","v":0},"=",{"$f":"B346*D346","v":{"$error":"#N/A"}},"x",25,"=",{"$error":"#N/A"},"=",{"$error":"#N/A"}]
["Petroleum Coke",{"$f":"'Electric Power N2O'!B347","v":{"$error":"#N/A"}},"x",{"$f":"PetCokeCEFutil","v":0},"=",{"$error":"#N/A"},"x",25,"=",{"$error":"#N/A"},"=",{"$error":"#N/A"}]
["Residual Fuel",{"$f":"'Electric Power N2O'!B348","v":{"$error":"#N/A"}},"x",{"$f":"ResidCEFutil","v":0},"=",{"$error":"#N/A"},"x",25,"=",{"$error":"#N/A"},"=",{"$error":"#N/A"}]
["Natural Gas",{"$f":"'Electric Power N2O'!B349","v":{"$error":"#N/A"}},"x",{"$f":"NatGasCEFutil","v":0},"=",{"$error":"#N/A"},"x",25,"=",{"$error":"#N/A"},"=",{"$error":"#N/A"}]
["Wood",{"$f":"'Electric Power N2O'!B350","v":{"$error":"#N/A"}},"x",{"$f":"WoodCEFutil","v":0},"=",{"$error":"#N/A"},"x",25,"=",{"$error":"#N/A"},"=",{"$error":"#N/A"}]
["Other",{"$f":"'Electric Power N2O'!B351","v":0},"x",{"$f":"OtherCEFutil","v":0},"=",0,"x",25,"=",0,"=",0]
[null,null,null,null,null,null,null,"Total","=",{"$f":"SUM(J345:J351)","v":{"$error":"#N/A"}},"=",{"$error":"#N/A"}]
[]
["Electric Power Sector CH4",null,null,{"$f":"D341+1","v":2017}]
[]
[null,"Consumption",null,"Emission Factor",null,"Emissions ",null,"GWP",null,"Emissions ",null,"Emissions "]
["Fuel Type","(Billion Btu)",null,"(metric tons CH4 /BBtu)",null,"(metric tons CH4)",null,null,null,"(MMTCE)",null,"(MMTCO2E)"]
["Coal",{"$f":"'Electric Power N2O'!B358","v":{"$error":"#N/A"}},"x",{"$f":"CoalCEFutil","v":0},"=",{"$f":"B358*D358","v":{"$error":"#N/A"}},"x",{"$f":"GWPCH4","v":25},"=",{"$f":"F358*H358*CO2_C/(10^6)","v":{"$error":"#N/A"}},"=",{"$f":"J358/CO2_C","v":{"$error":"#N/A"}}]
["Distillate Fuel",{"$f":"'Electric Power N2O'!B359","v":{"$error":"#N/A"}},"x",{"$f":"DistillCEFutil","v":0},"=",{"$f":"B359*D359","v":{"$error":"#N/A"}},"x",25,"=",{"$error":"#N/A"},"=",{"$error":"#N/A"}]
["Petroleum Coke",{"$f":"'Electric Power N2O'!B360","v":{"$error":"#N/A"}},"x",{"$f":"PetCokeCEFutil","v":0},"=",{"$error":"#N/A"},"x",25,"=",{"$error":"#N/A"},"=",{"$error":"#N/A"}]
["Residual Fuel",{"$f":"'Electric Power N2O'!B361","v":{"$error":"#N/A"}},"x",{"$f":"ResidCEFutil","v":0},"=",{"$error":"#N/A"},"x",25,"=",{"$error":"#N/A"},"=",{"$error":"#N/A"}]
["Natural Gas",{"$f":"'Electric Power N2O'!B362","v":{"$error":"#N/A"}},"x",{"$f":"NatGasCEFutil","v":0},"=",{"$error":"#N/A"},"x",25,"=",{"$error":"#N/A"},"=",{"$error":"#N/A"}]
["Wood",{"$f":"'Electric Power N2O'!B363","v":{"$error":"#N/A"}},"x",{"$f":"WoodCEFutil","v":0},"=",{"$error":"#N/A"},"x",25,"=",{"$error":"#N/A"},"=",{"$error":"#N/A"}]
["Other",{"$f":"'Electric Power N2O'!B364","v":0},"x",{"$f":"OtherCEFutil","v":0},"=",0,"x",25,"=",0,"=",0]
[null,null,null,null,null,null,null,"Total","=",{"$f":"SUM(J358:J364)","v":{"$error":"#N/A"}},"=",{"$error":"#N/A"}]
[]
["Electric Power Sector CH4",null,null,{"$f":"D354+1","v":2018}]
[]
[null,"Consumption",null,"Emission Factor",null,"Emissions ",null,"GWP",null,"Emissions ",null,"Emissions "]
["Fuel Type","(Billion Btu)",null,"(metric tons CH4 /BBtu)",null,"(metric tons CH4)",null,null,null,"(MMTCE)",null,"(MMTCO2E)"]
["Coal",{"$f":"'Electric Power N2O'!B371","v":{"$error":"#N/A"}},"x",{"$f":"CoalCEFutil","v":0},"=",{"$f":"B371*D371","v":{"$error":"#N/A"}},"x",{"$f":"GWPCH4","v":25},"=",{"$f":"F371*H371*CO2_C/(10^6)","v":{"$error":"#N/A"}},"=",{"$f":"J371/CO2_C","v":{"$error":"#N/A"}}]
["Distillate Fuel",{"$f":"'Electric Power N2O'!B372","v":{"$error":"#N/A"}},"x",{"$f":"DistillCEFutil","v":0},"=",{"$f":"B372*D372","v":{"$error":"#N/A"}},"x",25,"=",{"$error":"#N/A"},"=",{"$error":"#N/A"}]
["Petroleum Coke",{"$f":"'Electric Power N2O'!B373","v":{"$error":"#N/A"}},"x",{"$f":"PetCokeCEFutil","v":0},"=",{"$error":"#N/A"},"x",25,"=",{"$error":"#N/A"},"=",{"$error":"#N/A"}]
["Residual Fuel",{"$f":"'Electric Power N2O'!B374","v":{"$error":"#N/A"}},"x",{"$f":"ResidCEFutil","v":0},"=",{"$error":"#N/A"},"x",25,"=",{"$error":"#N/A"},"=",{"$error":"#N/A"}]
["Natural Gas",{"$f":"'Electric Power N2O'!B375","v":{"$error":"#N/A"}},"x",{"$f":"NatGasCEFutil","v":0},"=",{"$error":"#N/A"},"x",25,"=",{"$error":"#N/A"},"=",{"$error":"#N/A"}]
["Wood",{"$f":"'Electric Power N2O'!B376","v":{"$error":"#N/A"}},"x",{"$f":"WoodCEFutil","v":0},"=",{"$error":"#N/A"},"x",25,"=",{"$error":"#N/A"},"=",{"$error":"#N/A"}]
["Other",{"$f":"'Electric Power N2O'!B377","v":0},"x",{"$f":"OtherCEFutil","v":0},"=",0,"x",25,"=",0,"=",0]
[null,null,null,null,null,null,null,"Total","=",{"$f":"SUM(J371:J377)","v":{"$error":"#N/A"}},"=",{"$error":"#N/A"}]
[]
["Electric Power Sector CH4",null,null,{"$f":"D367+1","v":2019}]
[]
[null,"Consumption",null,"Emission Factor",null,"Emissions ",null,"GWP",null,"Emissions ",null,"Emissions "]
["Fuel Type","(Billion Btu)",null,"(metric tons CH4 /BBtu)",null,"(metric tons CH4)",null,null,null,"(MMTCE)",null,"(MMTCO2E)"]
["Coal",{"$f":"'Electric Power N2O'!B384","v":{"$error":"#N/A"}},"x",{"$f":"CoalCEFutil","v":0},"=",{"$f":"B384*D384","v":{"$error":"#N/A"}},"x",{"$f":"GWPCH4","v":25},"=",{"$f":"F384*H384*CO2_C/(10^6)","v":{"$error":"#N/A"}},"=",{"$f":"J384/CO2_C","v":{"$error":"#N/A"}}]
["Distillate Fuel",{"$f":"'Electric Power N2O'!B385","v":{"$error":"#N/A"}},"x",{"$f":"DistillCEFutil","v":0},"=",{"$f":"B385*D385","v":{"$error":"#N/A"}},"x",25,"=",{"$error":"#N/A"},"=",{"$error":"#N/A"}]
["Petroleum Coke",{"$f":"'Electric Power N2O'!B386","v":{"$error":"#N/A"}},"x",{"$f":"PetCokeCEFutil","v":0},"=",{"$error":"#N/A"},"x",25,"=",{"$error":"#N/A"},"=",{"$error":"#N/A"}]
["Residual Fuel",{"$f":"'Electric Power N2O'!B387","v":{"$error":"#N/A"}},"x",{"$f":"ResidCEFutil","v":0},"=",{"$error":"#N/A"},"x",25,"=",{"$error":"#N/A"},"=",{"$error":"#N/A"}]
["Natural Gas",{"$f":"'Electric Power N2O'!B388","v":{"$error":"#N/A"}},"x",{"$f":"NatGasCEFutil","v":0},"=",{"$error":"#N/A"},"x",25,"=",{"$error":"#N/A"},"=",{"$error":"#N/A"}]
["Wood",{"$f":"'Electric Power N2O'!B389","v":{"$error":"#N/A"}},"x",{"$f":"WoodCEFutil","v":0},"=",{"$error":"#N/A"},"x",25,"=",{"$error":"#N/A"},"=",{"$error":"#N/A"}]
["Other",{"$f":"'Electric Power N2O'!B390","v":0},"x",{"$f":"OtherCEFutil","v":0},"=",0,"x",25,"=",0,"=",0]
[null,null,null,null,null,null,null,"Total","=",{"$f":"SUM(J384:J390)","v":{"$error":"#N/A"}},"=",{"$error":"#N/A"}]
[]
["Electric Power Sector CH4",null,null,{"$f":"D380+1","v":2020}]
[]
[null,"Consumption",null,"Emission Factor",null,"Emissions ",null,"GWP",null,"Emissions ",null,"Emissions "]
["Fuel Type","(Billion Btu)",null,"(metric tons CH4 /BBtu)",null,"(metric tons CH4)",null,null,null,"(MMTCE)",null,"(MMTCO2E)"]
["Coal",{"$f":"'Electric Power N2O'!B397","v":{"$error":"#N/A"}},"x",{"$f":"CoalCEFutil","v":0},"=",{"$f":"B397*D397","v":{"$error":"#N/A"}},"x",{"$f":"GWPCH4","v":25},"=",{"$f":"F397*H397*CO2_C/(10^6)","v":{"$error":"#N/A"}},"=",{"$f":"J397/CO2_C","v":{"$error":"#N/A"}}]
["Distillate Fuel",{"$f":"'Electric Power N2O'!B398","v":{"$error":"#N/A"}},"x",{"$f":"DistillCEFutil","v":0},"=",{"$f":"B398*D398","v":{"$error":"#N/A"}},"x",25,"=",{"$error":"#N/A"},"=",{"$error":"#N/A"}]
["Petroleum Coke",{"$f":"'Electric Power N2O'!B399","v":{"$error":"#N/A"}},"x",{"$f":"PetCokeCEFutil","v":0},"=",{"$error":"#N/A"},"x",25,"=",{"$error":"#N/A"},"=",{"$error":"#N/A"}]
["Residual Fuel",{"$f":"'Electric Power N2O'!B400","v":{"$error":"#N/A"}},"x",{"$f":"ResidCEFutil","v":0},"=",{"$error":"#N/A"},"x",25,"=",{"$error":"#N/A"},"=",{"$error":"#N/A"}]
["Natural Gas",{"$f":"'Electric Power N2O'!B401","v":{"$error":"#N/A"}},"x",{"$f":"NatGasCEFutil","v":0},"=",{"$error":"#N/A"},"x",25,"=",{"$error":"#N/A"},"=",{"$error":"#N/A"}]
["Wood",{"$f":"'Electric Power N2O'!B402","v":{"$error":"#N/A"}},"x",{"$f":"WoodCEFutil","v":0},"=",{"$error":"#N/A"},"x",25,"=",{"$error":"#N/A"},"=",{"$error":"#N/A"}]
["Other",{"$f":"'Electric Power N2O'!B403","v":0},"x",{"$f":"OtherCEFutil","v":0},"=",0,"x",25,"=",0,"=",0]
[null,null,null,null,null,null,null,"Total","=",{"$f":"SUM(J397:J403)","v":{"$error":"#N/A"}},"=",{"$error":"#N/A"}]

{"sheet":"Industrial N2O","index":8,"n_rows":931,"n_cols":15,"rows_kept":931,"cut":false,"hidden":false,"merged":[]}
[null,{"$f":"\"5. Industrial Consumption and N2O emissions in \"&Constants!G2","v":"5. Industrial Consumption and N2O emissions in Select a State . . ."}]
[null,{"$f":"Constants!H2","v":"xx"},"Industrial",{"$f":"\" \"","v":" "},{"$f":"Constants!G2","v":"Select a State . . ."}]
[null,"Industrial Sector N2O",null,null,1990]
[null,null,"Total ",null,"Non-Energy "]
[null,null,"Consumption",null,"Consumption",null,"Emission Factor",null,"Emissions",null,"GWP",null,"Emissions ",null,"Emissions "]
[null,"Fuel Type","(Billion Btu)",null,"(Billion Btu)",null,"(metric tons N2O/BBtu)",null,"(metric tons N2O)",null,null,null,"(MMTCE)",null,"(MMTCO2E)"]
[null,"Coking Coal",{"$f":"VLOOKUP($B$2&$D$2&$C$2&$D$2&$B7,ConsumeBlock3,E3-1987,FALSE)","v":{"$error":"#N/A"}},"-",null,"x",{"$f":"CokeCoalNEFind","v":0},"=",{"$f":"(C7-E7)*G7","v":{"$error":"#N/A"}},"x",{"$f":"GWPN2O","v":298},"=",{"$f":"I7*K7*CO2_C/(10^6)","v":{"$error":"#N/A"}},"=",{"$f":"M7/CO2_C","v":{"$error":"#N/A"}}]
[null,"Other Coal",{"$f":"IF(VLOOKUP($B$2&$D$2&$C$2&$D$2&$B8,ConsumeBlock3,$E3-1987,FALSE)-VLOOKUP($E$2,SyntheticNG,$E3-1988,FALSE)<0,0,VLOOKUP($B$2&$D$2&$C$2&$D$2&$B8,ConsumeBlock3,$E3-1987,FALSE)-VLOOKUP($E$2,SyntheticNG,$E3-1988,FALSE))","v":{"$error":"#N/A"}},"-",null,"x",{"$f":"OtherCoalNEFind","v":0},"=",{"$f":"(C8-E8)*G8","v":{"$error":"#N/A"}},"x",{"$f":"GWPN2O","v":298},"=",{"$f":"I8*K8*CO2_C/(10^6)","v":{"$error":"#N/A"}},"=",{"$error":"#N/A"}]
[null,"Asphalt and Road Oil",{"$f":"VLOOKUP($B$2&$D$2&$C$2&$D$2&$B9,ConsumeBlock3,3,FALSE)","v":{"$error":"#N/A"}},"-",null,"x",{"$f":"AsphaltNEFind","v":0},"=",{"$error":"#N/A"},"x",298,"=",{"$error":"#N/A"},"=",{"$error":"#N/A"}]
[null,"Aviation Gasoline Blending Components",{"$error":"#N/A"},"-",null,"x",{"$f":"AvGasBlendNEFind","v":0},"=",{"$error":"#N/A"},"x",298,"=",{"$error":"#N/A"},"=",{"$error":"#N/A"}]
[null,"Crude Oil",{"$error":"#N/A"},"-",null,"x",{"$f":"CrudeNEFind","v":0},"=",{"$error":"#N/A"},"x",298,"=",{"$error":"#N/A"},"=",{"$error":"#N/A"}]
[null,"Distillate Fuel",{"$error":"#N/A"},"-",null,"x",{"$f":"DistillNEFind","v":0},"=",{"$error":"#N/A"},"x",298,"=",{"$error":"#N/A"},"=",{"$error":"#N/A"}]
[null,"Feedstocks, Naphtha less than 401 F",{"$error":"#N/A"},"-",null,"x",{"$f":"NaphNEFind","v":0},"=",{"$error":"#N/A"},"x",298,"=",{"$error":"#N/A"},"=",{"$error":"#N/A"}]
[null,"Feedstocks, Other Oils greater than 401 F",{"$error":"#N/A"},"-",null,"x",{"$f":"OtherOilNEFind","v":0},"=",{"$error":"#N/A"},"x",298,"=",{"$error":"#N/A"},"=",{"$error":"#N/A"}]
[null,"Kerosene",{"$error":"#N/A"},"-",null,"x",{"$f":"KeroNEFind","v":0},"=",{"$error":"#N/A"},"x",298,"=",{"$error":"#N/A"},"=",{"$error":"#N/A"}]
[null,"LPG",{"$error":"#N/A"},"-",null,"x",{"$f":"LPGNEFind","v":0},"=",{"$error":"#N/A"},"x",298,"=",{"$error":"#N/A"},"=",{"$error":"#N/A"}]
[null,"Lubricants",{"$error":"#N/A"},"-",null,"x",{"$f":"LubeNEFind","v":0},"=",{"$error":"#N/A"},"x",298,"=",{"$error":"#N/A"},"=",{"$error":"#N/A"}]
[null,"Motor Gasoline",{"$error":"#N/A"},"-",null,"x",{"$f":"MotorGasNEFind","v":0},"=",{"$error":"#N/A"},"x",298,"=",{"$error":"#N/A"},"=",{"$error":"#N/A"}]
[null,"Motor Gasoline Blending Components",{"$error":"#N/A"},"-",null,"x",{"$f":"MoGasBlendNEFind","v":0},"=",{"$error":"#N/A"},"x",298,"=",{"$error":"#N/A"},"=",{"$error":"#N/A"}]
[null,"Misc. Petro Products",{"$error":"#N/A"},"-",null,"x",{"$f":"MiscNEFind","v":0},"=",{"$error":"#N/A"},"x",298,"=",{"$error":"#N/A"},"=",{"$error":"#N/A"}]
[null,"Petroleum Coke",{"$error":"#N/A"},"-",null,"x",{"$f":"PetCokeNEFind","v":0},"=",{"$error":"#N/A"},"x",298,"=",{"$error":"#N/A"},"=",{"$error":"#N/A"}]
[null,"Pentanes Plus",{"$error":"#N/A"},"-",null,"x",{"$f":"pentanesNEFind","v":0},"=",{"$error":"#N/A"},"x",298,"=",{"$error":"#N/A"},"=",{"$error":"#N/A"}]
[null,"Residual Fuel",{"$error":"#N/A"},"-",null,"x",{"$f":"ResidNEFind","v":0},"=",{"$error":"#N/A"},"x",298,"=",{"$error":"#N/A"},"=",{"$error":"#N/A"}]
[null,"Still Gas",{"$error":"#N/A"},"-",null,"x",{"$f":"StillNEFind","v":0},"=",{"$error":"#N/A"},"x",298,"=",{"$error":"#N/A"},"=",{"$error":"#N/A"}]
[null,"Special Naphthas",{"$error":"#N/A"},"-",null,"x",{"$f":"SpecialNEFind","v":0},"=",{"$error":"#N/A"},"x",298,"=",{"$error":"#N/A"},"=",{"$error":"#N/A"}]
[null,"Unfinished Oils",{"$error":"#N/A"},"-",null,"x",{"$f":"UnfinNEFind","v":0},"=",{"$error":"#N/A"},"x",298,"=",{"$error":"#N/A"},"=",{"$error":"#N/A"}]
[null,"Waxes",{"$error":"#N/A"},"-",null,"x",{"$f":"WaxesNEFind","v":0},"=",{"$error":"#N/A"},"x",298,"=",{"$error":"#N/A"},"=",{"$error":"#N/A"}]
[null,"Natural Gas",{"$error":"#N/A"},"-",null,"x",{"$f":"NatGasNEFind","v":0},"=",{"$error":"#N/A"},"x",298,"=",{"$error":"#N/A"},"=",{"$error":"#N/A"}]
[null,"Wood",{"$error":"#N/A"},"-","NA","x",{"$f":"WoodNEFind","v":0},"=",{"$f":"C29*G29","v":{"$error":"#N/A"}},"x",298,"=",{"$error":"#N/A"},"=",{"$error":"#N/A"}]
[null,"Other",{"$f":"VLOOKUP($B$2&$D$2&$C$2&$D$2&$B30,ConsumeBlock3,E3-1987,FALSE)","v":0},"-",null,"x",{"$f":"OtherNEFind","v":0},"=",0,"x",298,"=",0,"=",0]
[null,null,null,null,null,null,null,null,null,null,"Total","=",{"$f":"SUM(M7:M30)","v":{"$error":"#N/A"}},"=",{"$error":"#N/A"}]
[]
[null,"Industrial Sector N2O",null,null,{"$f":"E3+1","v":1991}]
[null,null,"Total ",null,"Non-Energy "]
[null,null,"Consumption",null,"Consumption",null,"Emission Factor",null,"Emissions",null,"GWP",null,"Emissions ",null,"Emissions "]
[null,"Fuel Type","(Billion Btu)",null,"(Billion Btu)",null,"(metric tons N2O/BBtu)",null,"(metric tons N2O)",null,null,null,"(MMTCE)",null,"(MMTCO2E)"]
[null,"Coking Coal",{"$f":"VLOOKUP($B$2&$D$2&$C$2&$D$2&$B37,ConsumeBlock3,E33-1987,FALSE)","v":{"$error":"#N/A"}},"-",null,"x",{"$f":"CokeCoalNEFind","v":0},"=",{"$f":"(C37-E37)*G37","v":{"$error":"#N/A"}},"x",{"$f":"GWPN2O","v":298},"=",{"$f":"I37*K37*CO2_C/(10^6)","v":{"$error":"#N/A"}},"=",{"$f":"M37/CO2_C","v":{"$error":"#N/A"}}]
[null,"Other Coal",{"$f":"IF(VLOOKUP($B$2&$D$2&$C$2&$D$2&$B38,ConsumeBlock3,$E33-1987,FALSE)-VLOOKUP($E$2,SyntheticNG,$E33-1988,FALSE)<0,0,VLOOKUP($B$2&$D$2&$C$2&$D$2&$B38,ConsumeBlock3,$E33-1987,FALSE)-VLOOKUP($E$2,SyntheticNG,$E33-1988,FALSE))","v":{"$error":"#N/A"}},"-",null,"x",{"$f":"OtherCoalNEFind","v":0},"=",{"$f":"(C38-E38)*G38","v":{"$error":"#N/A"}},"x",{"$f":"GWPN2O","v":298},"=",{"$f":"I38*K38*CO2_C/(10^6)","v":{"$error":"#N/A"}},"=",{"$error":"#N/A"}]
[null,"Asphalt and Road Oil",{"$f":"VLOOKUP($B$2&$D$2&$C$2&$D$2&$B39,ConsumeBlock3,4,FALSE)","v":{"$error":"#N/A"}},"-",null,"x",{"$f":"AsphaltNEFind","v":0},"=",{"$error":"#N/A"},"x",298,"=",{"$error":"#N/A"},"=",{"$error":"#N/A"}]
[null,"Aviation Gasoline Blending Components",{"$error":"#N/A"},"-",null,"x",{"$f":"AvGasBlendNEFind","v":0},"=",{"$error":"#N/A"},"x",298,"=",{"$error":"#N/A"},"=",{"$error":"#N/A"}]
[null,"Crude Oil",{"$error":"#N/A"},"-",null,"x",{"$f":"CrudeNEFind","v":0},"=",{"$error":"#N/A"},"x",298,"=",{"$error":"#N/A"},"=",{"$error":"#N/A"}]
[null,"Distillate Fuel",{"$error":"#N/A"},"-",null,"x",{"$f":"DistillNEFind","v":0},"=",{"$error":"#N/A"},"x",298,"=",{"$error":"#N/A"},"=",{"$error":"#N/A"}]
[null,"Feedstocks, Naphtha less than 401 F",{"$error":"#N/A"},"-",null,"x",{"$f":"NaphNEFind","v":0},"=",{"$error":"#N/A"},"x",298,"=",{"$error":"#N/A"},"=",{"$error":"#N/A"}]
[null,"Feedstocks, Other Oils greater than 401 F",{"$error":"#N/A"},"-",null,"x",{"$f":"OtherOilNEFind","v":0},"=",{"$error":"#N/A"},"x",298,"=",{"$error":"#N/A"},"=",{"$error":"#N/A"}]
[null,"Kerosene",{"$error":"#N/A"},"-",null,"x",{"$f":"KeroNEFind","v":0},"=",{"$error":"#N/A"},"x",298,"=",{"$error":"#N/A"},"=",{"$error":"#N/A"}]
[null,"LPG",{"$error":"#N/A"},"-",null,"x",{"$f":"LPGNEFind","v":0},"=",{"$error":"#N/A"},"x",298,"=",{"$error":"#N/A"},"=",{"$error":"#N/A"}]
[null,"Lubricants",{"$error":"#N/A"},"-",null,"x",{"$f":"LubeNEFind","v":0},"=",{"$error":"#N/A"},"x",298,"=",{"$error":"#N/A"},"=",{"$error":"#N/A"}]
[null,"Motor Gasoline",{"$error":"#N/A"},"-",null,"x",{"$f":"MotorGasNEFind","v":0},"=",{"$error":"#N/A"},"x",298,"=",{"$error":"#N/A"},"=",{"$error":"#N/A"}]
[null,"Motor Gasoline Blending Components",{"$error":"#N/A"},"-",null,"x",{"$f":"MoGasBlendNEFind","v":0},"=",{"$error":"#N/A"},"x",298,"=",{"$error":"#N/A"},"=",{"$error":"#N/A"}]
[null,"Misc. Petro Products",{"$error":"#N/A"},"-",null,"x",{"$f":"MiscNEFind","v":0},"=",{"$error":"#N/A"},"x",298,"=",{"$error":"#N/A"},"=",{"$error":"#N/A"}]
[null,"Petroleum Coke",{"$error":"#N/A"},"-",null,"x",{"$f":"PetCokeNEFind","v":0},"=",{"$error":"#N/A"},"x",298,"=",{"$error":"#N/A"},"=",{"$error":"#N/A"}]
[null,"Pentanes Plus",{"$error":"#N/A"},"-",null,"x",{"$f":"pentanesNEFind","v":0},"=",{"$error":"#N/A"},"x",298,"=",{"$error":"#N/A"},"=",{"$error":"#N/A"}]
[null,"Residual Fuel",{"$error":"#N/A"},"-",null,"x",{"$f":"ResidNEFind","v":0},"=",{"$error":"#N/A"},"x",298,"=",{"$error":"#N/A"},"=",{"$error":"#N/A"}]
[null,"Still Gas",{"$error":"#N/A"},"-",null,"x",{"$f":"StillNEFind","v":0},"=",{"$error":"#N/A"},"x",298,"=",{"$error":"#N/A"},"=",{"$error":"#N/A"}]
[null,"Special Naphthas",{"$error":"#N/A"},"-",null,"x",{"$f":"SpecialNEFind","v":0},"=",{"$error":"#N/A"},"x",298,"=",{"$error":"#N/A"},"=",{"$error":"#N/A"}]
[null,"Unfinished Oils",{"$error":"#N/A"},"-",null,"x",{"$f":"UnfinNEFind","v":0},"=",{"$error":"#N/A"},"x",298,"=",{"$error":"#N/A"},"=",{"$error":"#N/A"}]
[null,"Waxes",{"$error":"#N/A"},"-",null,"x",{"$f":"WaxesNEFind","v":0},"=",{"$error":"#N/A"},"x",298,"=",{"$error":"#N/A"},"=",{"$error":"#N/A"}]
[null,"Natural Gas",{"$error":"#N/A"},"-",null,"x",{"$f":"NatGasNEFind","v":0},"=",{"$error":"#N/A"},"x",298,"=",{"$error":"#N/A"},"=",{"$error":"#N/A"}]
[null,"Wood",{"$error":"#N/A"},"-","NA","x",{"$f":"WoodNEFind","v":0},"=",{"$f":"C59*G59","v":{"$error":"#N/A"}},"x",298,"=",{"$error":"#N/A"},"=",{"$error":"#N/A"}]
[null,"Other",{"$f":"VLOOKUP($B$2&$D$2&$C$2&$D$2&$B60,ConsumeBlock3,E33-1987,FALSE)","v":0},"-",null,"x",{"$f":"OtherNEFind","v":0},"=",0,"x",298,"=",0,"=",0]
[null,null,null,null,null,null,null,null,null,null,"Total","=",{"$f":"SUM(M37:M60)","v":{"$error":"#N/A"}},"=",{"$error":"#N/A"}]
[]
[null,"Industrial Sector N2O",null,null,{"$f":"E33+1","v":1992}]
[null,null,"Total ",null,"Non-Energy "]
[null,null,"Consumption",null,"Consumption",null,"Emission Factor",null,"Emissions",null,"GWP",null,"Emissions ",null,"Emissions "]
[null,"Fuel Type","(Billion Btu)",null,"(Billion Btu)",null,"(metric tons N2O/BBtu)",null,"(metric tons N2O)",null,null,null,"(MMTCE)",null,"(MMTCO2E)"]
[null,"Coking Coal",{"$f":"VLOOKUP($B$2&$D$2&$C$2&$D$2&$B67,ConsumeBlock3,E63-1987,FALSE)","v":{"$error":"#N/A"}},"-",null,"x",{"$f":"CokeCoalNEFind","v":0},"=",{"$f":"(C67-E67)*G67","v":{"$error":"#N/A"}},"x",{"$f":"GWPN2O","v":298},"=",{"$f":"I67*K67*CO2_C/(10^6)","v":{"$error":"#N/A"}},"=",{"$f":"M67/CO2_C","v":{"$error":"#N/A"}}]
[null,"Other Coal",{"$f":"IF(VLOOKUP($B$2&$D$2&$C$2&$D$2&$B68,ConsumeBlock3,$E63-1987,FALSE)-VLOOKUP($E$2,SyntheticNG,$E63-1988,FALSE)<0,0,VLOOKUP($B$2&$D$2&$C$2&$D$2&$B68,ConsumeBlock3,$E63-1987,FALSE)-VLOOKUP($E$2,SyntheticNG,$E63-1988,FALSE))","v":{"$error":"#N/A"}},"-",null,"x",{"$f":"OtherCoalNEFind","v":0},"=",{"$f":"(C68-E68)*G68","v":{"$error":"#N/A"}},"x",{"$f":"GWPN2O","v":298},"=",{"$f":"I68*K68*CO2_C/(10^6)","v":{"$error":"#N/A"}},"=",{"$error":"#N/A"}]
[null,"Asphalt and Road Oil",{"$f":"VLOOKUP($B$2&$D$2&$C$2&$D$2&$B69,ConsumeBlock3,5,FALSE)","v":{"$error":"#N/A"}},"-",null,"x",{"$f":"AsphaltNEFind","v":0},"=",{"$error":"#N/A"},"x",298,"=",{"$error":"#N/A"},"=",{"$error":"#N/A"}]
[null,"Aviation Gasoline Blending Components",{"$error":"#N/A"},"-",null,"x",{"$f":"AvGasBlendNEFind","v":0},"=",{"$error":"#N/A"},"x",298,"=",{"$error":"#N/A"},"=",{"$error":"#N/A"}]
[null,"Crude Oil",{"$error":"#N/A"},"-",null,"x",{"$f":"CrudeNEFind","v":0},"=",{"$error":"#N/A"},"x",298,"=",{"$error":"#N/A"},"=",{"$error":"#N/A"}]
[null,"Distillate Fuel",{"$error":"#N/A"},"-",null,"x",{"$f":"DistillNEFind","v":0},"=",{"$error":"#N/A"},"x",298,"=",{"$error":"#N/A"},"=",{"$error":"#N/A"}]
[null,"Feedstocks, Naphtha less than 401 F",{"$error":"#N/A"},"-",null,"x",{"$f":"NaphNEFind","v":0},"=",{"$error":"#N/A"},"x",298,"=",{"$error":"#N/A"},"=",{"$error":"#N/A"}]
[null,"Feedstocks, Other Oils greater than 401 F",{"$error":"#N/A"},"-",null,"x",{"$f":"OtherOilNEFind","v":0},"=",{"$error":"#N/A"},"x",298,"=",{"$error":"#N/A"},"=",{"$error":"#N/A"}]
[null,"Kerosene",{"$error":"#N/A"},"-",null,"x",{"$f":"KeroNEFind","v":0},"=",{"$error":"#N/A"},"x",298,"=",{"$error":"#N/A"},"=",{"$error":"#N/A"}]
[null,"LPG",{"$error":"#N/A"},"-",null,"x",{"$f":"LPGNEFind","v":0},"=",{"$error":"#N/A"},"x",298,"=",{"$error":"#N/A"},"=",{"$error":"#N/A"}]
[null,"Lubricants",{"$error":"#N/A"},"-",null,"x",{"$f":"LubeNEFind","v":0},"=",{"$error":"#N/A"},"x",298,"=",{"$error":"#N/A"},"=",{"$error":"#N/A"}]
[null,"Motor Gasoline",{"$error":"#N/A"},"-",null,"x",{"$f":"MotorGasNEFind","v":0},"=",{"$error":"#N/A"},"x",298,"=",{"$error":"#N/A"},"=",{"$error":"#N/A"}]
[null,"Motor Gasoline Blending Components",{"$error":"#N/A"},"-",null,"x",{"$f":"MoGasBlendNEFind","v":0},"=",{"$error":"#N/A"},"x",298,"=",{"$error":"#N/A"},"=",{"$error":"#N/A"}]
[null,"Misc. Petro Products",{"$error":"#N/A"},"-",null,"x",{"$f":"MiscNEFind","v":0},"=",{"$error":"#N/A"},"x",298,"=",{"$error":"#N/A"},"=",{"$error":"#N/A"}]
[null,"Petroleum Coke",{"$error":"#N/A"},"-",null,"x",{"$f":"PetCokeNEFind","v":0},"=",{"$error":"#N/A"},"x",298,"=",{"$error":"#N/A"},"=",{"$error":"#N/A"}]
[null,"Pentanes Plus",{"$error":"#N/A"},"-",null,"x",{"$f":"pentanesNEFind","v":0},"=",{"$error":"#N/A"},"x",298,"=",{"$error":"#N/A"},"=",{"$error":"#N/A"}]
[null,"Residual Fuel",{"$error":"#N/A"},"-",null,"x",{"$f":"ResidNEFind","v":0},"=",{"$error":"#N/A"},"x",298,"=",{"$error":"#N/A"},"=",{"$error":"#N/A"}]
[null,"Still Gas",{"$error":"#N/A"},"-",null,"x",{"$f":"StillNEFind","v":0},"=",{"$error":"#N/A"},"x",298,"=",{"$error":"#N/A"},"=",{"$error":"#N/A"}]
[null,"Special Naphthas",{"$error":"#N/A"},"-",null,"x",{"$f":"SpecialNEFind","v":0},"=",{"$error":"#N/A"},"x",298,"=",{"$error":"#N/A"},"=",{"$error":"#N/A"}]
[null,"Unfinished Oils",{"$error":"#N/A"},"-",null,"x",{"$f":"UnfinNEFind","v":0},"=",{"$error":"#N/A"},"x",298,"=",{"$error":"#N/A"},"=",{"$error":"#N/A"}]
[null,"Waxes",{"$error":"#N/A"},"-",null,"x",{"$f":"WaxesNEFind","v":0},"=",{"$error":"#N/A"},"x",298,"=",{"$error":"#N/A"},"=",{"$error":"#N/A"}]
[null,"Natural Gas",{"$error":"#N/A"},"-",null,"x",{"$f":"NatGasNEFind","v":0},"=",{"$error":"#N/A"},"x",298,"=",{"$error":"#N/A"},"=",{"$error":"#N/A"}]
[null,"Wood",{"$error":"#N/A"},"-","NA","x",{"$f":"WoodNEFind","v":0},"=",{"$f":"C89*G89","v":{"$error":"#N/A"}},"x",298,"=",{"$error":"#N/A"},"=",{"$error":"#N/A"}]
[null,"Other",{"$f":"VLOOKUP($B$2&$D$2&$C$2&$D$2&$B90,ConsumeBlock3,E63-1987,FALSE)","v":0},"-",null,"x",{"$f":"OtherNEFind","v":0},"=",0,"x",298,"=",0,"=",0]
[null,null,null,null,null,null,null,null,null,null,"Total","=",{"$f":"SUM(M67:M90)","v":{"$error":"#N/A"}},"=",{"$error":"#N/A"}]
[]
[null,"Industrial Sector N2O",null,null,{"$f":"E63+1","v":1993}]
[null,null,"Total ",null,"Non-Energy "]
[null,null,"Consumption",null,"Consumption",null,"Emission Factor",null,"Emissions",null,"GWP",null,"Emissions ",null,"Emissions "]
[null,"Fuel Type","(Billion Btu)",null,"(Billion Btu)",null,"(metric tons N2O/BBtu)",null,"(metric tons N2O)",null,null,null,"(MMTCE)",null,"(MMTCO2E)"]
[null,"Coking Coal",{"$f":"VLOOKUP($B$2&$D$2&$C$2&$D$2&$B97,ConsumeBlock3,E93-1987,FALSE)","v":{"$error":"#N/A"}},"-",null,"x",{"$f":"CokeCoalNEFind","v":0},"=",{"$f":"(C97-E97)*G97","v":{"$error":"#N/A"}},"x",{"$f":"GWPN2O","v":298},"=",{"$f":"I97*K97*CO2_C/(10^6)","v":{"$error":"#N/A"}},"=",{"$f":"M97/CO2_C","v":{"$error":"#N/A"}}]
[null,"Other Coal",{"$f":"IF(VLOOKUP($B$2&$D$2&$C$2&$D$2&$B98,ConsumeBlock3,$E93-1987,FALSE)-VLOOKUP($E$2,SyntheticNG,$E93-1988,FALSE)<0,0,VLOOKUP($B$2&$D$2&$C$2&$D$2&$B98,ConsumeBlock3,$E93-1987,FALSE)-VLOOKUP($E$2,SyntheticNG,$E93-1988,FALSE))","v":{"$error":"#N/A"}},"-",null,"x",{"$f":"OtherCoalNEFind","v":0},"=",{"$f":"(C98-E98)*G98","v":{"$error":"#N/A"}},"x",{"$f":"GWPN2O","v":298},"=",{"$f":"I98*K98*CO2_C/(10^6)","v":{"$error":"#N/A"}},"=",{"$error":"#N/A"}]
[null,"Asphalt and Road Oil",{"$f":"VLOOKUP($B$2&$D$2&$C$2&$D$2&$B99,ConsumeBlock3,6,FALSE)","v":{"$error":"#N/A"}},"-",null,"x",{"$f":"AsphaltNEFind","v":0},"=",{"$error":"#N/A"},"x",298,"=",{"$error":"#N/A"},"=",{"$error":"#N/A"}]
[null,"Aviation Gasoline Blending Components",{"$error":"#N/A"},"-",null,"x",{"$f":"AvGasBlendNEFind","v":0},"=",{"$error":"#N/A"},"x",298,"=",{"$error":"#N/A"},"=",{"$error":"#N/A"}]
[null,"Crude Oil",{"$error":"#N/A"},"-",null,"x",{"$f":"CrudeNEFind","v":0},"=",{"$error":"#N/A"},"x",298,"=",{"$error":"#N/A"},"=",{"$error":"#N/A"}]
[null,"Distillate Fuel",{"$error":"#N/A"},"-",null,"x",{"$f":"DistillNEFind","v":0},"=",{"$error":"#N/A"},"x",298,"=",{"$error":"#N/A"},"=",{"$error":"#N/A"}]
[null,"Feedstocks, Naphtha less than 401 F",{"$error":"#N/A"},"-",null,"x",{"$f":"NaphNEFind","v":0},"=",{"$error":"#N/A"},"x",298,"=",{"$error":"#N/A"},"=",{"$error":"#N/A"}]
[null,"Feedstocks, Other Oils greater than 401 F",{"$error":"#N/A"},"-",null,"x",{"$f":"OtherOilNEFind","v":0},"=",{"$error":"#N/A"},"x",298,"=",{"$error":"#N/A"},"=",{"$error":"#N/A"}]
[null,"Kerosene",{"$error":"#N/A"},"-",null,"x",{"$f":"KeroNEFind","v":0},"=",{"$error":"#N/A"},"x",298,"=",{"$error":"#N/A"},"=",{"$error":"#N/A"}]
[null,"LPG",{"$error":"#N/A"},"-",null,"x",{"$f":"LPGNEFind","v":0},"=",{"$error":"#N/A"},"x",298,"=",{"$error":"#N/A"},"=",{"$error":"#N/A"}]
[null,"Lubricants",{"$error":"#N/A"},"-",null,"x",{"$f":"LubeNEFind","v":0},"=",{"$error":"#N/A"},"x",298,"=",{"$error":"#N/A"},"=",{"$error":"#N/A"}]
[null,"Motor Gasoline",{"$error":"#N/A"},"-",null,"x",{"$f":"MotorGasNEFind","v":0},"=",{"$error":"#N/A"},"x",298,"=",{"$error":"#N/A"},"=",{"$error":"#N/A"}]
[null,"Motor Gasoline Blending Components",{"$error":"#N/A"},"-",null,"x",{"$f":"MoGasBlendNEFind","v":0},"=",{"$error":"#N/A"},"x",298,"=",{"$error":"#N/A"},"=",{"$error":"#N/A"}]
[null,"Misc. Petro Products",{"$error":"#N/A"},"-",null,"x",{"$f":"MiscNEFind","v":0},"=",{"$error":"#N/A"},"x",298,"=",{"$error":"#N/A"},"=",{"$error":"#N/A"}]
[null,"Petroleum Coke",{"$error":"#N/A"},"-",null,"x",{"$f":"PetCokeNEFind","v":0},"=",{"$error":"#N/A"},"x",298,"=",{"$error":"#N/A"},"=",{"$error":"#N/A"}]
[null,"Pentanes Plus",{"$error":"#N/A"},"-",null,"x",{"$f":"pentanesNEFind","v":0},"=",{"$error":"#N/A"},"x",298,"=",{"$error":"#N/A"},"=",{"$error":"#N/A"}]
[null,"Residual Fuel",{"$error":"#N/A"},"-",null,"x",{"$f":"ResidNEFind","v":0},"=",{"$error":"#N/A"},"x",298,"=",{"$error":"#N/A"},"=",{"$error":"#N/A"}]
[null,"Still Gas",{"$error":"#N/A"},"-",null,"x",{"$f":"StillNEFind","v":0},"=",{"$error":"#N/A"},"x",298,"=",{"$error":"#N/A"},"=",{"$error":"#N/A"}]
[null,"Special Naphthas",{"$error":"#N/A"},"-",null,"x",{"$f":"SpecialNEFind","v":0},"=",{"$error":"#N/A"},"x",298,"=",{"$error":"#N/A"},"=",{"$error":"#N/A"}]
[null,"Unfinished Oils",{"$error":"#N/A"},"-",null,"x",{"$f":"UnfinNEFind","v":0},"=",{"$error":"#N/A"},"x",298,"=",{"$error":"#N/A"},"=",{"$error":"#N/A"}]
[null,"Waxes",{"$error":"#N/A"},"-",null,"x",{"$f":"WaxesNEFind","v":0},"=",{"$error":"#N/A"},"x",298,"=",{"$error":"#N/A"},"=",{"$error":"#N/A"}]
[null,"Natural Gas",{"$error":"#N/A"},"-",null,"x",{"$f":"NatGasNEFind","v":0},"=",{"$error":"#N/A"},"x",298,"=",{"$error":"#N/A"},"=",{"$error":"#N/A"}]
[null,"Wood",{"$error":"#N/A"},"-","NA","x",{"$f":"WoodNEFind","v":0},"=",{"$f":"C119*G119","v":{"$error":"#N/A"}},"x",298,"=",{"$error":"#N/A"},"=",{"$error":"#N/A"}]
[null,"Other",{"$f":"VLOOKUP($B$2&$D$2&$C$2&$D$2&$B120,ConsumeBlock3,E93-1987,FALSE)","v":0},"-",null,"x",{"$f":"OtherNEFind","v":0},"=",0,"x",298,"=",0,"=",0]
[null,null,null,null,null,null,null,null,null,null,"Total","=",{"$f":"SUM(M97:M120)","v":{"$error":"#N/A"}},"=",{"$error":"#N/A"}]
[]
[null,"Industrial Sector N2O",null,null,{"$f":"E93+1","v":1994}]
[null,null,"Total ",null,"Non-Energy "]
[null,null,"Consumption",null,"Consumption",null,"Emission Factor",null,"Emissions",null,"GWP",null,"Emissions ",null,"Emissions "]
[null,"Fuel Type","(Billion Btu)",null,"(Billion Btu)",null,"(metric tons N2O/BBtu)",null,"(metric tons N2O)",null,null,null,"(MMTCE)",null,"(MMTCO2E)"]
[null,"Coking Coal",{"$f":"VLOOKUP($B$2&$D$2&$C$2&$D$2&$B127,ConsumeBlock3,E123-1987,FALSE)","v":{"$error":"#N/A"}},"-",null,"x",{"$f":"CokeCoalNEFind","v":0},"=",{"$f":"(C127-E127)*G127","v":{"$error":"#N/A"}},"x",{"$f":"GWPN2O","v":298},"=",{"$f":"I127*K127*CO2_C/(10^6)","v":{"$error":"#N/A"}},"=",{"$f":"M127/CO2_C","v":{"$error":"#N/A"}}]
[null,"Other Coal",{"$f":"IF(VLOOKUP($B$2&$D$2&$C$2&$D$2&$B128,ConsumeBlock3,$E123-1987,FALSE)-VLOOKUP($E$2,SyntheticNG,$E123-1988,FALSE)<0,0,VLOOKUP($B$2&$D$2&$C$2&$D$2&$B128,ConsumeBlock3,$E123-1987,FALSE)-VLOOKUP($E$2,SyntheticNG,$E123-1988,FALSE))","v":{"$error":"#N/A"}},"-",null,"x",{"$f":"OtherCoalNEFind","v":0},"=",{"$f":"(C128-E128)*G128","v":{"$error":"#N/A"}},"x",{"$f":"GWPN2O","v":298},"=",{"$f":"I128*K128*CO2_C/(10^6)","v":{"$error":"#N/A"}},"=",{"$error":"#N/A"}]
[null,"Asphalt and Road Oil",{"$f":"VLOOKUP($B$2&$D$2&$C$2&$D$2&$B129,ConsumeBlock3,7,FALSE)","v":{"$error":"#N/A"}},"-",null,"x",{"$f":"AsphaltNEFind","v":0},"=",{"$error":"#N/A"},"x",298,"=",{"$error":"#N/A"},"=",{"$error":"#N/A"}]
[null,"Aviation Gasoline Blending Components",{"$error":"#N/A"},"-",null,"x",{"$f":"AvGasBlendNEFind","v":0},"=",{"$error":"#N/A"},"x",298,"=",{"$error":"#N/A"},"=",{"$error":"#N/A"}]
[null,"Crude Oil",{"$error":"#N/A"},"-",null,"x",{"$f":"CrudeNEFind","v":0},"=",{"$error":"#N/A"},"x",298,"=",{"$error":"#N/A"},"=",{"$error":"#N/A"}]
[null,"Distillate Fuel",{"$error":"#N/A"},"-",null,"x",{"$f":"DistillNEFind","v":0},"=",{"$error":"#N/A"},"x",298,"=",{"$error":"#N/A"},"=",{"$error":"#N/A"}]
[null,"Feedstocks, Naphtha less than 401 F",{"$error":"#N/A"},"-",null,"x",{"$f":"NaphNEFind","v":0},"=",{"$error":"#N/A"},"x",298,"=",{"$error":"#N/A"},"=",{"$error":"#N/A"}]
[null,"Feedstocks, Other Oils greater than 401 F",{"$error":"#N/A"},"-",null,"x",{"$f":"OtherOilNEFind","v":0},"=",{"$error":"#N/A"},"x",298,"=",{"$error":"#N/A"},"=",{"$error":"#N/A"}]
[null,"Kerosene",{"$error":"#N/A"},"-",null,"x",{"$f":"KeroNEFind","v":0},"=",{"$error":"#N/A"},"x",298,"=",{"$error":"#N/A"},"=",{"$error":"#N/A"}]
[null,"LPG",{"$error":"#N/A"},"-",null,"x",{"$f":"LPGNEFind","v":0},"=",{"$error":"#N/A"},"x",298,"=",{"$error":"#N/A"},"=",{"$error":"#N/A"}]
[null,"Lubricants",{"$error":"#N/A"},"-",null,"x",{"$f":"LubeNEFind","v":0},"=",{"$error":"#N/A"},"x",298,"=",{"$error":"#N/A"},"=",{"$error":"#N/A"}]
[null,"Motor Gasoline",{"$error":"#N/A"},"-",null,"x",{"$f":"MotorGasNEFind","v":0},"=",{"$error":"#N/A"},"x",298,"=",{"$error":"#N/A"},"=",{"$error":"#N/A"}]
[null,"Motor Gasoline Blending Components",{"$error":"#N/A"},"-",null,"x",{"$f":"MoGasBlendNEFind","v":0},"=",{"$error":"#N/A"},"x",298,"=",{"$error":"#N/A"},"=",{"$error":"#N/A"}]
[null,"Misc. Petro Products",{"$error":"#N/A"},"-",null,"x",{"$f":"MiscNEFind","v":0},"=",{"$error":"#N/A"},"x",298,"=",{"$error":"#N/A"},"=",{"$error":"#N/A"}]
[null,"Petroleum Coke",{"$error":"#N/A"},"-",null,"x",{"$f":"PetCokeNEFind","v":0},"=",{"$error":"#N/A"},"x",298,"=",{"$error":"#N/A"},"=",{"$error":"#N/A"}]
[null,"Pentanes Plus",{"$error":"#N/A"},"-",null,"x",{"$f":"pentanesNEFind","v":0},"=",{"$error":"#N/A"},"x",298,"=",{"$error":"#N/A"},"=",{"$error":"#N/A"}]
[null,"Residual Fuel",{"$error":"#N/A"},"-",null,"x",{"$f":"ResidNEFind","v":0},"=",{"$error":"#N/A"},"x",298,"=",{"$error":"#N/A"},"=",{"$error":"#N/A"}]
[null,"Still Gas",{"$error":"#N/A"},"-",null,"x",{"$f":"StillNEFind","v":0},"=",{"$error":"#N/A"},"x",298,"=",{"$error":"#N/A"},"=",{"$error":"#N/A"}]
[null,"Special Naphthas",{"$error":"#N/A"},"-",null,"x",{"$f":"SpecialNEFind","v":0},"=",{"$error":"#N/A"},"x",298,"=",{"$error":"#N/A"},"=",{"$error":"#N/A"}]
[null,"Unfinished Oils",{"$error":"#N/A"},"-",null,"x",{"$f":"UnfinNEFind","v":0},"=",{"$error":"#N/A"},"x",298,"=",{"$error":"#N/A"},"=",{"$error":"#N/A"}]
[null,"Waxes",{"$error":"#N/A"},"-",null,"x",{"$f":"WaxesNEFind","v":0},"=",{"$error":"#N/A"},"x",298,"=",{"$error":"#N/A"},"=",{"$error":"#N/A"}]
[null,"Natural Gas",{"$error":"#N/A"},"-",null,"x",{"$f":"NatGasNEFind","v":0},"=",{"$error":"#N/A"},"x",298,"=",{"$error":"#N/A"},"=",{"$error":"#N/A"}]
[null,"Wood",{"$error":"#N/A"},"-","NA","x",{"$f":"WoodNEFind","v":0},"=",{"$f":"C149*G149","v":{"$error":"#N/A"}},"x",298,"=",{"$error":"#N/A"},"=",{"$error":"#N/A"}]
[null,"Other",{"$f":"VLOOKUP($B$2&$D$2&$C$2&$D$2&$B150,ConsumeBlock3,E123-1987,FALSE)","v":0},"-",null,"x",{"$f":"OtherNEFind","v":0},"=",0,"x",298,"=",0,"=",0]
[null,null,null,null,null,null,null,null,null,null,"Total","=",{"$f":"SUM(M127:M150)","v":{"$error":"#N/A"}},"=",{"$error":"#N/A"}]
[]
[null,"Industrial Sector N2O",null,null,{"$f":"E123+1","v":1995}]
[null,null,"Total ",null,"Non-Energy "]
[null,null,"Consumption",null,"Consumption",null,"Emission Factor",null,"Emissions",null,"GWP",null,"Emissions ",null,"Emissions "]
[null,"Fuel Type","(Billion Btu)",null,"(Billion Btu)",null,"(metric tons N2O/BBtu)",null,"(metric tons N2O)",null,null,null,"(MMTCE)",null,"(MMTCO2E)"]
[null,"Coking Coal",{"$f":"VLOOKUP($B$2&$D$2&$C$2&$D$2&$B157,ConsumeBlock3,E153-1987,FALSE)","v":{"$error":"#N/A"}},"-",null,"x",{"$f":"CokeCoalNEFind","v":0},"=",{"$f":"(C157-E157)*G157","v":{"$error":"#N/A"}},"x",{"$f":"GWPN2O","v":298},"=",{"$f":"I157*K157*CO2_C/(10^6)","v":{"$error":"#N/A"}},"=",{"$f":"M157/CO2_C","v":{"$error":"#N/A"}}]
[null,"Other Coal",{"$f":"IF(VLOOKUP($B$2&$D$2&$C$2&$D$2&$B158,ConsumeBlock3,$E153-1987,FALSE)-VLOOKUP($E$2,SyntheticNG,$E153-1988,FALSE)<0,0,VLOOKUP($B$2&$D$2&$C$2&$D$2&$B158,ConsumeBlock3,$E153-1987,FALSE)-VLOOKUP($E$2,SyntheticNG,$E153-1988,FALSE))","v":{"$error":"#N/A"}},"-",null,"x",{"$f":"OtherCoalNEFind","v":0},"=",{"$f":"(C158-E158)*G158","v":{"$error":"#N/A"}},"x",{"$f":"GWPN2O","v":298},"=",{"$f":"I158*K158*CO2_C/(10^6)","v":{"$error":"#N/A"}},"=",{"$error":"#N/A"}]
[null,"Asphalt and Road Oil",{"$f":"VLOOKUP($B$2&$D$2&$C$2&$D$2&$B159,ConsumeBlock3,8,FALSE)","v":{"$error":"#N/A"}},"-",null,"x",{"$f":"AsphaltNEFind","v":0},"=",{"$error":"#N/A"},"x",298,"=",{"$error":"#N/A"},"=",{"$error":"#N/A"}]
[null,"Aviation Gasoline Blending Components",{"$error":"#N/A"},"-",null,"x",{"$f":"AvGasBlendNEFind","v":0},"=",{"$error":"#N/A"},"x",298,"=",{"$error":"#N/A"},"=",{"$error":"#N/A"}]
[null,"Crude Oil",{"$error":"#N/A"},"-",null,"x",{"$f":"CrudeNEFind","v":0},"=",{"$error":"#N/A"},"x",298,"=",{"$error":"#N/A"},"=",{"$error":"#N/A"}]
[null,"Distillate Fuel",{"$error":"#N/A"},"-",null,"x",{"$f":"DistillNEFind","v":0},"=",{"$error":"#N/A"},"x",298,"=",{"$error":"#N/A"},"=",{"$error":"#N/A"}]
[null,"Feedstocks, Naphtha less than 401 F",{"$error":"#N/A"},"-",null,"x",{"$f":"NaphNEFind","v":0},"=",{"$error":"#N/A"},"x",298,"=",{"$error":"#N/A"},"=",{"$error":"#N/A"}]
[null,"Feedstocks, Other Oils greater than 401 F",{"$error":"#N/A"},"-",null,"x",{"$f":"OtherOilNEFind","v":0},"=",{"$error":"#N/A"},"x",298,"=",{"$error":"#N/A"},"=",{"$error":"#N/A"}]
[null,"Kerosene",{"$error":"#N/A"},"-",null,"x",{"$f":"KeroNEFind","v":0},"=",{"$error":"#N/A"},"x",298,"=",{"$error":"#N/A"},"=",{"$error":"#N/A"}]
[null,"LPG",{"$error":"#N/A"},"-",null,"x",{"$f":"LPGNEFind","v":0},"=",{"$error":"#N/A"},"x",298,"=",{"$error":"#N/A"},"=",{"$error":"#N/A"}]
[null,"Lubricants",{"$error":"#N/A"},"-",null,"x",{"$f":"LubeNEFind","v":0},"=",{"$error":"#N/A"},"x",298,"=",{"$error":"#N/A"},"=",{"$error":"#N/A"}]
[null,"Motor Gasoline",{"$error":"#N/A"},"-",null,"x",{"$f":"MotorGasNEFind","v":0},"=",{"$error":"#N/A"},"x",298,"=",{"$error":"#N/A"},"=",{"$error":"#N/A"}]
[null,"Motor Gasoline Blending Components",{"$error":"#N/A"},"-",null,"x",{"$f":"MoGasBlendNEFind","v":0},"=",{"$error":"#N/A"},"x",298,"=",{"$error":"#N/A"},"=",{"$error":"#N/A"}]
[null,"Misc. Petro Products",{"$error":"#N/A"},"-",null,"x",{"$f":"MiscNEFind","v":0},"=",{"$error":"#N/A"},"x",298,"=",{"$error":"#N/A"},"=",{"$error":"#N/A"}]
[null,"Petroleum Coke",{"$error":"#N/A"},"-",null,"x",{"$f":"PetCokeNEFind","v":0},"=",{"$error":"#N/A"},"x",298,"=",{"$error":"#N/A"},"=",{"$error":"#N/A"}]
[null,"Pentanes Plus",{"$error":"#N/A"},"-",null,"x",{"$f":"pentanesNEFind","v":0},"=",{"$error":"#N/A"},"x",298,"=",{"$error":"#N/A"},"=",{"$error":"#N/A"}]
[null,"Residual Fuel",{"$error":"#N/A"},"-",null,"x",{"$f":"ResidNEFind","v":0},"=",{"$error":"#N/A"},"x",298,"=",{"$error":"#N/A"},"=",{"$error":"#N/A"}]
[null,"Still Gas",{"$error":"#N/A"},"-",null,"x",{"$f":"StillNEFind","v":0},"=",{"$error":"#N/A"},"x",298,"=",{"$error":"#N/A"},"=",{"$error":"#N/A"}]
[null,"Special Naphthas",{"$error":"#N/A"},"-",null,"x",{"$f":"SpecialNEFind","v":0},"=",{"$error":"#N/A"},"x",298,"=",{"$error":"#N/A"},"=",{"$error":"#N/A"}]
[null,"Unfinished Oils",{"$error":"#N/A"},"-",null,"x",{"$f":"UnfinNEFind","v":0},"=",{"$error":"#N/A"},"x",298,"=",{"$error":"#N/A"},"=",{"$error":"#N/A"}]
[null,"Waxes",{"$error":"#N/A"},"-",null,"x",{"$f":"WaxesNEFind","v":0},"=",{"$error":"#N/A"},"x",298,"=",{"$error":"#N/A"},"=",{"$error":"#N/A"}]
[null,"Natural Gas",{"$error":"#N/A"},"-",null,"x",{"$f":"NatGasNEFind","v":0},"=",{"$error":"#N/A"},"x",298,"=",{"$error":"#N/A"},"=",{"$error":"#N/A"}]
[null,"Wood",{"$error":"#N/A"},"-","NA","x",{"$f":"WoodNEFind","v":0},"=",{"$f":"C179*G179","v":{"$error":"#N/A"}},"x",298,"=",{"$error":"#N/A"},"=",{"$error":"#N/A"}]
[null,"Other",{"$f":"VLOOKUP($B$2&$D$2&$C$2&$D$2&$B180,ConsumeBlock3,E153-1987,FALSE)","v":0},"-",null,"x",{"$f":"OtherNEFind","v":0},"=",0,"x",298,"=",0,"=",0]
[null,null,null,null,null,null,null,null,null,null,"Total","=",{"$f":"SUM(M157:M180)","v":{"$error":"#N/A"}},"=",{"$error":"#N/A"}]
[]
[null,"Industrial Sector N2O",null,null,{"$f":"E153+1","v":1996}]
[null,null,"Total ",null,"Non-Energy "]
[null,null,"Consumption",null,"Consumption",null,"Emission Factor",null,"Emissions",null,"GWP",null,"Emissions ",null,"Emissions "]
[null,"Fuel Type","(Billion Btu)",null,"(Billion Btu)",null,"(metric tons N2O/BBtu)",null,"(metric tons N2O)",null,null,null,"(MMTCE)",null,"(MMTCO2E)"]
[null,"Coking Coal",{"$f":"VLOOKUP($B$2&$D$2&$C$2&$D$2&$B187,ConsumeBlock3,E183-1987,FALSE)","v":{"$error":"#N/A"}},"-",null,"x",{"$f":"CokeCoalNEFind","v":0},"=",{"$f":"(C187-E187)*G187","v":{"$error":"#N/A"}},"x",{"$f":"GWPN2O","v":298},"=",{"$f":"I187*K187*CO2_C/(10^6)","v":{"$error":"#N/A"}},"=",{"$f":"M187/CO2_C","v":{"$error":"#N/A"}}]
[null,"Other Coal",{"$f":"IF(VLOOKUP($B$2&$D$2&$C$2&$D$2&$B188,ConsumeBlock3,$E183-1987,FALSE)-VLOOKUP($E$2,SyntheticNG,$E183-1988,FALSE)<0,0,VLOOKUP($B$2&$D$2&$C$2&$D$2&$B188,ConsumeBlock3,$E183-1987,FALSE)-VLOOKUP($E$2,SyntheticNG,$E183-1988,FALSE))","v":{"$error":"#N/A"}},"-",null,"x",{"$f":"OtherCoalNEFind","v":0},"=",{"$f":"(C188-E188)*G188","v":{"$error":"#N/A"}},"x",{"$f":"GWPN2O","v":298},"=",{"$f":"I188*K188*CO2_C/(10^6)","v":{"$error":"#N/A"}},"=",{"$error":"#N/A"}]
[null,"Asphalt and Road Oil",{"$f":"VLOOKUP($B$2&$D$2&$C$2&$D$2&$B189,ConsumeBlock3,9,FALSE)","v":{"$error":"#N/A"}},"-",null,"x",{"$f":"AsphaltNEFind","v":0},"=",{"$error":"#N/A"},"x",298,"=",{"$error":"#N/A"},"=",{"$error":"#N/A"}]
[null,"Aviation Gasoline Blending Components",{"$error":"#N/A"},"-",null,"x",{"$f":"AvGasBlendNEFind","v":0},"=",{"$error":"#N/A"},"x",298,"=",{"$error":"#N/A"},"=",{"$error":"#N/A"}]
[null,"Crude Oil",{"$error":"#N/A"},"-",null,"x",{"$f":"CrudeNEFind","v":0},"=",{"$error":"#N/A"},"x",298,"=",{"$error":"#N/A"},"=",{"$error":"#N/A"}]
[null,"Distillate Fuel",{"$error":"#N/A"},"-",null,"x",{"$f":"DistillNEFind","v":0},"=",{"$error":"#N/A"},"x",298,"=",{"$error":"#N/A"},"=",{"$error":"#N/A"}]
[null,"Feedstocks, Naphtha less than 401 F",{"$error":"#N/A"},"-",null,"x",{"$f":"NaphNEFind","v":0},"=",{"$error":"#N/A"},"x",298,"=",{"$error":"#N/A"},"=",{"$error":"#N/A"}]
[null,"Feedstocks, Other Oils greater than 401 F",{"$error":"#N/A"},"-",null,"x",{"$f":"OtherOilNEFind","v":0},"=",{"$error":"#N/A"},"x",298,"=",{"$error":"#N/A"},"=",{"$error":"#N/A"}]
[null,"Kerosene",{"$error":"#N/A"},"-",null,"x",{"$f":"KeroNEFind","v":0},"=",{"$error":"#N/A"},"x",298,"=",{"$error":"#N/A"},"=",{"$error":"#N/A"}]
[null,"LPG",{"$error":"#N/A"},"-",null,"x",{"$f":"LPGNEFind","v":0},"=",{"$error":"#N/A"},"x",298,"=",{"$error":"#N/A"},"=",{"$error":"#N/A"}]
[null,"Lubricants",{"$error":"#N/A"},"-",null,"x",{"$f":"LubeNEFind","v":0},"=",{"$error":"#N/A"},"x",298,"=",{"$error":"#N/A"},"=",{"$error":"#N/A"}]
[null,"Motor Gasoline",{"$error":"#N/A"},"-",null,"x",{"$f":"MotorGasNEFind","v":0},"=",{"$error":"#N/A"},"x",298,"=",{"$error":"#N/A"},"=",{"$error":"#N/A"}]
[null,"Motor Gasoline Blending Components",{"$error":"#N/A"},"-",null,"x",{"$f":"MoGasBlendNEFind","v":0},"=",{"$error":"#N/A"},"x",298,"=",{"$error":"#N/A"},"=",{"$error":"#N/A"}]
[null,"Misc. Petro Products",{"$error":"#N/A"},"-",null,"x",{"$f":"MiscNEFind","v":0},"=",{"$error":"#N/A"},"x",298,"=",{"$error":"#N/A"},"=",{"$error":"#N/A"}]
[null,"Petroleum Coke",{"$error":"#N/A"},"-",null,"x",{"$f":"PetCokeNEFind","v":0},"=",{"$error":"#N/A"},"x",298,"=",{"$error":"#N/A"},"=",{"$error":"#N/A"}]
[null,"Pentanes Plus",{"$error":"#N/A"},"-",null,"x",{"$f":"pentanesNEFind","v":0},"=",{"$error":"#N/A"},"x",298,"=",{"$error":"#N/A"},"=",{"$error":"#N/A"}]
[null,"Residual Fuel",{"$error":"#N/A"},"-",null,"x",{"$f":"ResidNEFind","v":0},"=",{"$error":"#N/A"},"x",298,"=",{"$error":"#N/A"},"=",{"$error":"#N/A"}]
[null,"Still Gas",{"$error":"#N/A"},"-",null,"x",{"$f":"StillNEFind","v":0},"=",{"$error":"#N/A"},"x",298,"=",{"$error":"#N/A"},"=",{"$error":"#N/A"}]
[null,"Special Naphthas",{"$error":"#N/A"},"-",null,"x",{"$f":"SpecialNEFind","v":0},"=",{"$error":"#N/A"},"x",298,"=",{"$error":"#N/A"},"=",{"$error":"#N/A"}]
[null,"Unfinished Oils",{"$error":"#N/A"},"-",null,"x",{"$f":"UnfinNEFind","v":0},"=",{"$error":"#N/A"},"x",298,"=",{"$error":"#N/A"},"=",{"$error":"#N/A"}]
[null,"Waxes",{"$error":"#N/A"},"-",null,"x",{"$f":"WaxesNEFind","v":0},"=",{"$error":"#N/A"},"x",298,"=",{"$error":"#N/A"},"=",{"$error":"#N/A"}]
[null,"Natural Gas",{"$error":"#N/A"},"-",null,"x",{"$f":"NatGasNEFind","v":0},"=",{"$error":"#N/A"},"x",298,"=",{"$error":"#N/A"},"=",{"$error":"#N/A"}]
[null,"Wood",{"$error":"#N/A"},"-","NA","x",{"$f":"WoodNEFind","v":0},"=",{"$f":"C209*G209","v":{"$error":"#N/A"}},"x",298,"=",{"$error":"#N/A"},"=",{"$error":"#N/A"}]
[null,"Other",{"$f":"VLOOKUP($B$2&$D$2&$C$2&$D$2&$B210,ConsumeBlock3,E183-1987,FALSE)","v":0},"-",null,"x",{"$f":"OtherNEFind","v":0},"=",0,"x",298,"=",0,"=",0]
[null,null,null,null,null,null,null,null,null,null,"Total","=",{"$f":"SUM(M187:M210)","v":{"$error":"#N/A"}},"=",{"$error":"#N/A"}]
[]
[null,"Industrial Sector N2O",null,null,{"$f":"E183+1","v":1997}]
[null,null,"Total ",null,"Non-Energy "]
[null,null,"Consumption",null,"Consumption",null,"Emission Factor",null,"Emissions",null,"GWP",null,"Emissions ",null,"Emissions "]
[null,"Fuel Type","(Billion Btu)",null,"(Billion Btu)",null,"(metric tons N2O/BBtu)",null,"(metric tons N2O)",null,null,null,"(MMTCE)",null,"(MMTCO2E)"]
[null,"Coking Coal",{"$f":"VLOOKUP($B$2&$D$2&$C$2&$D$2&$B217,ConsumeBlock3,E213-1987,FALSE)","v":{"$error":"#N/A"}},"-",null,"x",{"$f":"CokeCoalNEFind","v":0},"=",{"$f":"(C217-E217)*G217","v":{"$error":"#N/A"}},"x",{"$f":"GWPN2O","v":298},"=",{"$f":"I217*K217*CO2_C/(10^6)","v":{"$error":"#N/A"}},"=",{"$f":"M217/CO2_C","v":{"$error":"#N/A"}}]
[null,"Other Coal",{"$f":"IF(VLOOKUP($B$2&$D$2&$C$2&$D$2&$B218,ConsumeBlock3,$E213-1987,FALSE)-VLOOKUP($E$2,SyntheticNG,$E213-1988,FALSE)<0,0,VLOOKUP($B$2&$D$2&$C$2&$D$2&$B218,ConsumeBlock3,$E213-1987,FALSE)-VLOOKUP($E$2,SyntheticNG,$E213-1988,FALSE))","v":{"$error":"#N/A"}},"-",null,"x",{"$f":"OtherCoalNEFind","v":0},"=",{"$f":"(C218-E218)*G218","v":{"$error":"#N/A"}},"x",{"$f":"GWPN2O","v":298},"=",{"$f":"I218*K218*CO2_C/(10^6)","v":{"$error":"#N/A"}},"=",{"$error":"#N/A"}]
[null,"Asphalt and Road Oil",{"$f":"VLOOKUP($B$2&$D$2&$C$2&$D$2&$B219,ConsumeBlock3,10,FALSE)","v":{"$error":"#N/A"}},"-",null,"x",{"$f":"AsphaltNEFind","v":0},"=",{"$error":"#N/A"},"x",298,"=",{"$error":"#N/A"},"=",{"$error":"#N/A"}]
[null,"Aviation Gasoline Blending Components",{"$error":"#N/A"},"-",null,"x",{"$f":"AvGasBlendNEFind","v":0},"=",{"$error":"#N/A"},"x",298,"=",{"$error":"#N/A"},"=",{"$error":"#N/A"}]
[null,"Crude Oil",{"$error":"#N/A"},"-",null,"x",{"$f":"CrudeNEFind","v":0},"=",{"$error":"#N/A"},"x",298,"=",{"$error":"#N/A"},"=",{"$error":"#N/A"}]
[null,"Distillate Fuel",{"$error":"#N/A"},"-",null,"x",{"$f":"DistillNEFind","v":0},"=",{"$error":"#N/A"},"x",298,"=",{"$error":"#N/A"},"=",{"$error":"#N/A"}]
[null,"Feedstocks, Naphtha less than 401 F",{"$error":"#N/A"},"-",null,"x",{"$f":"NaphNEFind","v":0},"=",{"$error":"#N/A"},"x",298,"=",{"$error":"#N/A"},"=",{"$error":"#N/A"}]
[null,"Feedstocks, Other Oils greater than 401 F",{"$error":"#N/A"},"-",null,"x",{"$f":"OtherOilNEFind","v":0},"=",{"$error":"#N/A"},"x",298,"=",{"$error":"#N/A"},"=",{"$error":"#N/A"}]
[null,"Kerosene",{"$error":"#N/A"},"-",null,"x",{"$f":"KeroNEFind","v":0},"=",{"$error":"#N/A"},"x",298,"=",{"$error":"#N/A"},"=",{"$error":"#N/A"}]
[null,"LPG",{"$error":"#N/A"},"-",null,"x",{"$f":"LPGNEFind","v":0},"=",{"$error":"#N/A"},"x",298,"=",{"$error":"#N/A"},"=",{"$error":"#N/A"}]
[null,"Lubricants",{"$error":"#N/A"},"-",null,"x",{"$f":"LubeNEFind","v":0},"=",{"$error":"#N/A"},"x",298,"=",{"$error":"#N/A"},"=",{"$error":"#N/A"}]
[null,"Motor Gasoline",{"$error":"#N/A"},"-",null,"x",{"$f":"MotorGasNEFind","v":0},"=",{"$error":"#N/A"},"x",298,"=",{"$error":"#N/A"},"=",{"$error":"#N/A"}]
[null,"Motor Gasoline Blending Components",{"$error":"#N/A"},"-",null,"x",{"$f":"MoGasBlendNEFind","v":0},"=",{"$error":"#N/A"},"x",298,"=",{"$error":"#N/A"},"=",{"$error":"#N/A"}]
[null,"Misc. Petro Products",{"$error":"#N/A"},"-",null,"x",{"$f":"MiscNEFind","v":0},"=",{"$error":"#N/A"},"x",298,"=",{"$error":"#N/A"},"=",{"$error":"#N/A"}]
[null,"Petroleum Coke",{"$error":"#N/A"},"-",null,"x",{"$f":"PetCokeNEFind","v":0},"=",{"$error":"#N/A"},"x",298,"=",{"$error":"#N/A"},"=",{"$error":"#N/A"}]
[null,"Pentanes Plus",{"$error":"#N/A"},"-",null,"x",{"$f":"pentanesNEFind","v":0},"=",{"$error":"#N/A"},"x",298,"=",{"$error":"#N/A"},"=",{"$error":"#N/A"}]
[null,"Residual Fuel",{"$error":"#N/A"},"-",null,"x",{"$f":"ResidNEFind","v":0},"=",{"$error":"#N/A"},"x",298,"=",{"$error":"#N/A"},"=",{"$error":"#N/A"}]
[null,"Still Gas",{"$error":"#N/A"},"-",null,"x",{"$f":"StillNEFind","v":0},"=",{"$error":"#N/A"},"x",298,"=",{"$error":"#N/A"},"=",{"$error":"#N/A"}]
[null,"Special Naphthas",{"$error":"#N/A"},"-",null,"x",{"$f":"SpecialNEFind","v":0},"=",{"$error":"#N/A"},"x",298,"=",{"$error":"#N/A"},"=",{"$error":"#N/A"}]
[null,"Unfinished Oils",{"$error":"#N/A"},"-",null,"x",{"$f":"UnfinNEFind","v":0},"=",{"$error":"#N/A"},"x",298,"=",{"$error":"#N/A"},"=",{"$error":"#N/A"}]
[null,"Waxes",{"$error":"#N/A"},"-",null,"x",{"$f":"WaxesNEFind","v":0},"=",{"$error":"#N/A"},"x",298,"=",{"$error":"#N/A"},"=",{"$error":"#N/A"}]
[null,"Natural Gas",{"$error":"#N/A"},"-",null,"x",{"$f":"NatGasNEFind","v":0},"=",{"$error":"#N/A"},"x",298,"=",{"$error":"#N/A"},"=",{"$error":"#N/A"}]
[null,"Wood",{"$error":"#N/A"},"-","NA","x",{"$f":"WoodNEFind","v":0},"=",{"$f":"C239*G239","v":{"$error":"#N/A"}},"x",298,"=",{"$error":"#N/A"},"=",{"$error":"#N/A"}]
[null,"Other",{"$f":"VLOOKUP($B$2&$D$2&$C$2&$D$2&$B240,ConsumeBlock3,E213-1987,FALSE)","v":0},"-",null,"x",{"$f":"OtherNEFind","v":0},"=",0,"x",298,"=",0,"=",0]
[null,null,null,null,null,null,null,null,null,null,"Total","=",{"$f":"SUM(M217:M240)","v":{"$error":"#N/A"}},"=",{"$error":"#N/A"}]
[]
[null,"Industrial Sector N2O",null,null,{"$f":"E213+1","v":1998}]
[null,null,"Total ",null,"Non-Energy "]
[null,null,"Consumption",null,"Consumption",null,"Emission Factor",null,"Emissions",null,"GWP",null,"Emissions ",null,"Emissions "]
[null,"Fuel Type","(Billion Btu)",null,"(Billion Btu)",null,"(metric tons N2O/BBtu)",null,"(metric tons N2O)",null,null,null,"(MMTCE)",null,"(MMTCO2E)"]
[null,"Coking Coal",{"$f":"VLOOKUP($B$2&$D$2&$C$2&$D$2&$B247,ConsumeBlock3,E243-1987,FALSE)","v":{"$error":"#N/A"}},"-",null,"x",{"$f":"CokeCoalNEFind","v":0},"=",{"$f":"(C247-E247)*G247","v":{"$error":"#N/A"}},"x",{"$f":"GWPN2O","v":298},"=",{"$f":"I247*K247*CO2_C/(10^6)","v":{"$error":"#N/A"}},"=",{"$f":"M247/CO2_C","v":{"$error":"#N/A"}}]
[null,"Other Coal",{"$f":"IF(VLOOKUP($B$2&$D$2&$C$2&$D$2&$B248,ConsumeBlock3,$E243-1987,FALSE)-VLOOKUP($E$2,SyntheticNG,$E243-1988,FALSE)<0,0,VLOOKUP($B$2&$D$2&$C$2&$D$2&$B248,ConsumeBlock3,$E243-1987,FALSE)-VLOOKUP($E$2,SyntheticNG,$E243-1988,FALSE))","v":{"$error":"#N/A"}},"-",null,"x",{"$f":"OtherCoalNEFind","v":0},"=",{"$f":"(C248-E248)*G248","v":{"$error":"#N/A"}},"x",{"$f":"GWPN2O","v":298},"=",{"$f":"I248*K248*CO2_C/(10^6)","v":{"$error":"#N/A"}},"=",{"$error":"#N/A"}]
[null,"Asphalt and Road Oil",{"$f":"VLOOKUP($B$2&$D$2&$C$2&$D$2&$B249,ConsumeBlock3,11,FALSE)","v":{"$error":"#N/A"}},"-",null,"x",{"$f":"AsphaltNEFind","v":0},"=",{"$error":"#N/A"},"x",298,"=",{"$error":"#N/A"},"=",{"$error":"#N/A"}]
[null,"Aviation Gasoline Blending Components",{"$error":"#N/A"},"-",null,"x",{"$f":"AvGasBlendNEFind","v":0},"=",{"$error":"#N/A"},"x",298,"=",{"$error":"#N/A"},"=",{"$error":"#N/A"}]
[null,"Crude Oil",{"$error":"#N/A"},"-",null,"x",{"$f":"CrudeNEFind","v":0},"=",{"$error":"#N/A"},"x",298,"=",{"$error":"#N/A"},"=",{"$error":"#N/A"}]
[null,"Distillate Fuel",{"$error":"#N/A"},"-",null,"x",{"$f":"DistillNEFind","v":0},"=",{"$error":"#N/A"},"x",298,"=",{"$error":"#N/A"},"=",{"$error":"#N/A"}]
[null,"Feedstocks, Naphtha less than 401 F",{"$error":"#N/A"},"-",null,"x",{"$f":"NaphNEFind","v":0},"=",{"$error":"#N/A"},"x",298,"=",{"$error":"#N/A"},"=",{"$error":"#N/A"}]
[null,"Feedstocks, Other Oils greater than 401 F",{"$error":"#N/A"},"-",null,"x",{"$f":"OtherOilNEFind","v":0},"=",{"$error":"#N/A"},"x",298,"=",{"$error":"#N/A"},"=",{"$error":"#N/A"}]
[null,"Kerosene",{"$error":"#N/A"},"-",null,"x",{"$f":"KeroNEFind","v":0},"=",{"$error":"#N/A"},"x",298,"=",{"$error":"#N/A"},"=",{"$error":"#N/A"}]
[null,"LPG",{"$error":"#N/A"},"-",null,"x",{"$f":"LPGNEFind","v":0},"=",{"$error":"#N/A"},"x",298,"=",{"$error":"#N/A"},"=",{"$error":"#N/A"}]
[null,"Lubricants",{"$error":"#N/A"},"-",null,"x",{"$f":"LubeNEFind","v":0},"=",{"$error":"#N/A"},"x",298,"=",{"$error":"#N/A"},"=",{"$error":"#N/A"}]
[null,"Motor Gasoline",{"$error":"#N/A"},"-",null,"x",{"$f":"MotorGasNEFind","v":0},"=",{"$error":"#N/A"},"x",298,"=",{"$error":"#N/A"},"=",{"$error":"#N/A"}]
[null,"Motor Gasoline Blending Components",{"$error":"#N/A"},"-",null,"x",{"$f":"MoGasBlendNEFind","v":0},"=",{"$error":"#N/A"},"x",298,"=",{"$error":"#N/A"},"=",{"$error":"#N/A"}]
[null,"Misc. Petro Products",{"$error":"#N/A"},"-",null,"x",{"$f":"MiscNEFind","v":0},"=",{"$error":"#N/A"},"x",298,"=",{"$error":"#N/A"},"=",{"$error":"#N/A"}]
[null,"Petroleum Coke",{"$error":"#N/A"},"-",null,"x",{"$f":"PetCokeNEFind","v":0},"=",{"$error":"#N/A"},"x",298,"=",{"$error":"#N/A"},"=",{"$error":"#N/A"}]
[null,"Pentanes Plus",{"$error":"#N/A"},"-",null,"x",{"$f":"pentanesNEFind","v":0},"=",{"$error":"#N/A"},"x",298,"=",{"$error":"#N/A"},"=",{"$error":"#N/A"}]
[null,"Residual Fuel",{"$error":"#N/A"},"-",null,"x",{"$f":"ResidNEFind","v":0},"=",{"$error":"#N/A"},"x",298,"=",{"$error":"#N/A"},"=",{"$error":"#N/A"}]
[null,"Still Gas",{"$error":"#N/A"},"-",null,"x",{"$f":"StillNEFind","v":0},"=",{"$error":"#N/A"},"x",298,"=",{"$error":"#N/A"},"=",{"$error":"#N/A"}]
[null,"Special Naphthas",{"$error":"#N/A"},"-",null,"x",{"$f":"SpecialNEFind","v":0},"=",{"$error":"#N/A"},"x",298,"=",{"$error":"#N/A"},"=",{"$error":"#N/A"}]
[null,"Unfinished Oils",{"$error":"#N/A"},"-",null,"x",{"$f":"UnfinNEFind","v":0},"=",{"$error":"#N/A"},"x",298,"=",{"$error":"#N/A"},"=",{"$error":"#N/A"}]
[null,"Waxes",{"$error":"#N/A"},"-",null,"x",{"$f":"WaxesNEFind","v":0},"=",{"$error":"#N/A"},"x",298,"=",{"$error":"#N/A"},"=",{"$error":"#N/A"}]
[null,"Natural Gas",{"$error":"#N/A"},"-",null,"x",{"$f":"NatGasNEFind","v":0},"=",{"$error":"#N/A"},"x",298,"=",{"$error":"#N/A"},"=",{"$error":"#N/A"}]
[null,"Wood",{"$error":"#N/A"},"-","NA","x",{"$f":"WoodNEFind","v":0},"=",{"$f":"C269*G269","v":{"$error":"#N/A"}},"x",298,"=",{"$error":"#N/A"},"=",{"$error":"#N/A"}]
[null,"Other",{"$f":"VLOOKUP($B$2&$D$2&$C$2&$D$2&$B270,ConsumeBlock3,E243-1987,FALSE)","v":0},"-",null,"x",{"$f":"OtherNEFind","v":0},"=",0,"x",298,"=",0,"=",0]
[null,null,null,null,null,null,null,null,null,null,"Total","=",{"$f":"SUM(M247:M270)","v":{"$error":"#N/A"}},"=",{"$error":"#N/A"}]
[]
[null,"Industrial Sector N2O",null,null,{"$f":"E243+1","v":1999}]
[null,null,"Total ",null,"Non-Energy "]
[null,null,"Consumption",null,"Consumption",null,"Emission Factor",null,"Emissions",null,"GWP",null,"Emissions ",null,"Emissions "]
[null,"Fuel Type","(Billion Btu)",null,"(Billion Btu)",null,"(metric tons N2O/BBtu)",null,"(metric tons N2O)",null,null,null,"(MMTCE)",null,"(MMTCO2E)"]
[null,"Coking Coal",{"$f":"VLOOKUP($B$2&$D$2&$C$2&$D$2&$B277,ConsumeBlock3,E273-1987,FALSE)","v":{"$error":"#N/A"}},"-",null,"x",{"$f":"CokeCoalNEFind","v":0},"=",{"$f":"(C277-E277)*G277","v":{"$error":"#N/A"}},"x",{"$f":"GWPN2O","v":298},"=",{"$f":"I277*K277*CO2_C/(10^6)","v":{"$error":"#N/A"}},"=",{"$f":"M277/CO2_C","v":{"$error":"#N/A"}}]
[null,"Other Coal",{"$f":"IF(VLOOKUP($B$2&$D$2&$C$2&$D$2&$B278,ConsumeBlock3,$E273-1987,FALSE)-VLOOKUP($E$2,SyntheticNG,$E273-1988,FALSE)<0,0,VLOOKUP($B$2&$D$2&$C$2&$D$2&$B278,ConsumeBlock3,$E273-1987,FALSE)-VLOOKUP($E$2,SyntheticNG,$E273-1988,FALSE))","v":{"$error":"#N/A"}},"-",null,"x",{"$f":"OtherCoalNEFind","v":0},"=",{"$f":"(C278-E278)*G278","v":{"$error":"#N/A"}},"x",{"$f":"GWPN2O","v":298},"=",{"$f":"I278*K278*CO2_C/(10^6)","v":{"$error":"#N/A"}},"=",{"$error":"#N/A"}]
[null,"Asphalt and Road Oil",{"$f":"VLOOKUP($B$2&$D$2&$C$2&$D$2&$B279,ConsumeBlock3,12,FALSE)","v":{"$error":"#N/A"}},"-",null,"x",{"$f":"AsphaltNEFind","v":0},"=",{"$error":"#N/A"},"x",298,"=",{"$error":"#N/A"},"=",{"$error":"#N/A"}]
[null,"Aviation Gasoline Blending Components",{"$error":"#N/A"},"-",null,"x",{"$f":"AvGasBlendNEFind","v":0},"=",{"$error":"#N/A"},"x",298,"=",{"$error":"#N/A"},"=",{"$error":"#N/A"}]
[null,"Crude Oil",{"$error":"#N/A"},"-",null,"x",{"$f":"CrudeNEFind","v":0},"=",{"$error":"#N/A"},"x",298,"=",{"$error":"#N/A"},"=",{"$error":"#N/A"}]
[null,"Distillate Fuel",{"$error":"#N/A"},"-",null,"x",{"$f":"DistillNEFind","v":0},"=",{"$error":"#N/A"},"x",298,"=",{"$error":"#N/A"},"=",{"$error":"#N/A"}]
[null,"Feedstocks, Naphtha less than 401 F",{"$error":"#N/A"},"-",null,"x",{"$f":"NaphNEFind","v":0},"=",{"$error":"#N/A"},"x",298,"=",{"$error":"#N/A"},"=",{"$error":"#N/A"}]
[null,"Feedstocks, Other Oils greater than 401 F",{"$error":"#N/A"},"-",null,"x",{"$f":"OtherOilNEFind","v":0},"=",{"$error":"#N/A"},"x",298,"=",{"$error":"#N/A"},"=",{"$error":"#N/A"}]
[null,"Kerosene",{"$error":"#N/A"},"-",null,"x",{"$f":"KeroNEFind","v":0},"=",{"$error":"#N/A"},"x",298,"=",{"$error":"#N/A"},"=",{"$error":"#N/A"}]
[null,"LPG",{"$error":"#N/A"},"-",null,"x",{"$f":"LPGNEFind","v":0},"=",{"$error":"#N/A"},"x",298,"=",{"$error":"#N/A"},"=",{"$error":"#N/A"}]
[null,"Lubricants",{"$error":"#N/A"},"-",null,"x",{"$f":"LubeNEFind","v":0},"=",{"$error":"#N/A"},"x",298,"=",{"$error":"#N/A"},"=",{"$error":"#N/A"}]
[null,"Motor Gasoline",{"$error":"#N/A"},"-",null,"x",{"$f":"MotorGasNEFind","v":0},"=",{"$error":"#N/A"},"x",298,"=",{"$error":"#N/A"},"=",{"$error":"#N/A"}]
[null,"Motor Gasoline Blending Components",{"$error":"#N/A"},"-",null,"x",{"$f":"MoGasBlendNEFind","v":0},"=",{"$error":"#N/A"},"x",298,"=",{"$error":"#N/A"},"=",{"$error":"#N/A"}]
[null,"Misc. Petro Products",{"$error":"#N/A"},"-",null,"x",{"$f":"MiscNEFind","v":0},"=",{"$error":"#N/A"},"x",298,"=",{"$error":"#N/A"},"=",{"$error":"#N/A"}]
[null,"Petroleum Coke",{"$error":"#N/A"},"-",null,"x",{"$f":"PetCokeNEFind","v":0},"=",{"$error":"#N/A"},"x",298,"=",{"$error":"#N/A"},"=",{"$error":"#N/A"}]
[null,"Pentanes Plus",{"$error":"#N/A"},"-",null,"x",{"$f":"pentanesNEFind","v":0},"=",{"$error":"#N/A"},"x",298,"=",{"$error":"#N/A"},"=",{"$error":"#N/A"}]
[null,"Residual Fuel",{"$error":"#N/A"},"-",null,"x",{"$f":"ResidNEFind","v":0},"=",{"$error":"#N/A"},"x",298,"=",{"$error":"#N/A"},"=",{"$error":"#N/A"}]
[null,"Still Gas",{"$error":"#N/A"},"-",null,"x",{"$f":"StillNEFind","v":0},"=",{"$error":"#N/A"},"x",298,"=",{"$error":"#N/A"},"=",{"$error":"#N/A"}]
[null,"Special Naphthas",{"$error":"#N/A"},"-",null,"x",{"$f":"SpecialNEFind","v":0},"=",{"$error":"#N/A"},"x",298,"=",{"$error":"#N/A"},"=",{"$error":"#N/A"}]
[null,"Unfinished Oils",{"$error":"#N/A"},"-",null,"x",{"$f":"UnfinNEFind","v":0},"=",{"$error":"#N/A"},"x",298,"=",{"$error":"#N/A"},"=",{"$error":"#N/A"}]
[null,"Waxes",{"$error":"#N/A"},"-",null,"x",{"$f":"WaxesNEFind","v":0},"=",{"$error":"#N/A"},"x",298,"=",{"$error":"#N/A"},"=",{"$error":"#N/A"}]
[null,"Natural Gas",{"$error":"#N/A"},"-",null,"x",{"$f":"NatGasNEFind","v":0},"=",{"$error":"#N/A"},"x",298,"=",{"$error":"#N/A"},"=",{"$error":"#N/A"}]
[null,"Wood",{"$error":"#N/A"},"-","NA","x",{"$f":"WoodNEFind","v":0},"=",{"$f":"C299*G299","v":{"$error":"#N/A"}},"x",298,"=",{"$error":"#N/A"},"=",{"$error":"#N/A"}]
[null,"Other",{"$f":"VLOOKUP($B$2&$D$2&$C$2&$D$2&$B300,ConsumeBlock3,E273-1987,FALSE)","v":0},"-",null,"x",{"$f":"OtherNEFind","v":0},"=",0,"x",298,"=",0,"=",0]
[null,null,null,null,null,null,null,null,null,null,"Total","=",{"$f":"SUM(M277:M300)","v":{"$error":"#N/A"}},"=",{"$error":"#N/A"}]
[]
[null,"Industrial Sector N2O",null,null,{"$f":"E273+1","v":2000}]
[null,null,"Total ",null,"Non-Energy "]
[null,null,"Consumption",null,"Consumption",null,"Emission Factor",null,"Emissions",null,"GWP",null,"Emissions ",null,"Emissions "]
[null,"Fuel Type","(Billion Btu)",null,"(Billion Btu)",null,"(metric tons N2O/BBtu)",null,"(metric tons N2O)",null,null,null,"(MMTCE)",null,"(MMTCO2E)"]
[null,"Coking Coal",{"$f":"VLOOKUP($B$2&$D$2&$C$2&$D$2&$B307,ConsumeBlock3,E303-1987,FALSE)","v":{"$error":"#N/A"}},"-",null,"x",{"$f":"CokeCoalNEFind","v":0},"=",{"$f":"(C307-E307)*G307","v":{"$error":"#N/A"}},"x",{"$f":"GWPN2O","v":298},"=",{"$f":"I307*K307*CO2_C/(10^6)","v":{"$error":"#N/A"}},"=",{"$f":"M307/CO2_C","v":{"$error":"#N/A"}}]
[null,"Other Coal",{"$f":"IF(VLOOKUP($B$2&$D$2&$C$2&$D$2&$B308,ConsumeBlock3,$E303-1987,FALSE)-VLOOKUP($E$2,SyntheticNG,$E303-1988,FALSE)<0,0,VLOOKUP($B$2&$D$2&$C$2&$D$2&$B308,ConsumeBlock3,$E303-1987,FALSE)-VLOOKUP($E$2,SyntheticNG,$E303-1988,FALSE))","v":{"$error":"#N/A"}},"-",null,"x",{"$f":"OtherCoalNEFind","v":0},"=",{"$f":"(C308-E308)*G308","v":{"$error":"#N/A"}},"x",{"$f":"GWPN2O","v":298},"=",{"$f":"I308*K308*CO2_C/(10^6)","v":{"$error":"#N/A"}},"=",{"$error":"#N/A"}]
[null,"Asphalt and Road Oil",{"$f":"VLOOKUP($B$2&$D$2&$C$2&$D$2&$B309,ConsumeBlock3,13,FALSE)","v":{"$error":"#N/A"}},"-",null,"x",{"$f":"AsphaltNEFind","v":0},"=",{"$error":"#N/A"},"x",298,"=",{"$error":"#N/A"},"=",{"$error":"#N/A"}]
[null,"Aviation Gasoline Blending Components",{"$error":"#N/A"},"-",null,"x",{"$f":"AvGasBlendNEFind","v":0},"=",{"$error":"#N/A"},"x",298,"=",{"$error":"#N/A"},"=",{"$error":"#N/A"}]
[null,"Crude Oil",{"$error":"#N/A"},"-",null,"x",{"$f":"CrudeNEFind","v":0},"=",{"$error":"#N/A"},"x",298,"=",{"$error":"#N/A"},"=",{"$error":"#N/A"}]
[null,"Distillate Fuel",{"$error":"#N/A"},"-",null,"x",{"$f":"DistillNEFind","v":0},"=",{"$error":"#N/A"},"x",298,"=",{"$error":"#N/A"},"=",{"$error":"#N/A"}]
[null,"Feedstocks, Naphtha less than 401 F",{"$error":"#N/A"},"-",null,"x",{"$f":"NaphNEFind","v":0},"=",{"$error":"#N/A"},"x",298,"=",{"$error":"#N/A"},"=",{"$error":"#N/A"}]
[null,"Feedstocks, Other Oils greater than 401 F",{"$error":"#N/A"},"-",null,"x",{"$f":"OtherOilNEFind","v":0},"=",{"$error":"#N/A"},"x",298,"=",{"$error":"#N/A"},"=",{"$error":"#N/A"}]
[null,"Kerosene",{"$error":"#N/A"},"-",null,"x",{"$f":"KeroNEFind","v":0},"=",{"$error":"#N/A"},"x",298,"=",{"$error":"#N/A"},"=",{"$error":"#N/A"}]
[null,"LPG",{"$error":"#N/A"},"-",null,"x",{"$f":"LPGNEFind","v":0},"=",{"$error":"#N/A"},"x",298,"=",{"$error":"#N/A"},"=",{"$error":"#N/A"}]
[null,"Lubricants",{"$error":"#N/A"},"-",null,"x",{"$f":"LubeNEFind","v":0},"=",{"$error":"#N/A"},"x",298,"=",{"$error":"#N/A"},"=",{"$error":"#N/A"}]
[null,"Motor Gasoline",{"$error":"#N/A"},"-",null,"x",{"$f":"MotorGasNEFind","v":0},"=",{"$error":"#N/A"},"x",298,"=",{"$error":"#N/A"},"=",{"$error":"#N/A"}]
[null,"Motor Gasoline Blending Components",{"$error":"#N/A"},"-",null,"x",{"$f":"MoGasBlendNEFind","v":0},"=",{"$error":"#N/A"},"x",298,"=",{"$error":"#N/A"},"=",{"$error":"#N/A"}]
[null,"Misc. Petro Products",{"$error":"#N/A"},"-",null,"x",{"$f":"MiscNEFind","v":0},"=",{"$error":"#N/A"},"x",298,"=",{"$error":"#N/A"},"=",{"$error":"#N/A"}]
[null,"Petroleum Coke",{"$error":"#N/A"},"-",null,"x",{"$f":"PetCokeNEFind","v":0},"=",{"$error":"#N/A"},"x",298,"=",{"$error":"#N/A"},"=",{"$error":"#N/A"}]
[null,"Pentanes Plus",{"$error":"#N/A"},"-",null,"x",{"$f":"pentanesNEFind","v":0},"=",{"$error":"#N/A"},"x",298,"=",{"$error":"#N/A"},"=",{"$error":"#N/A"}]
[null,"Residual Fuel",{"$error":"#N/A"},"-",null,"x",{"$f":"ResidNEFind","v":0},"=",{"$error":"#N/A"},"x",298,"=",{"$error":"#N/A"},"=",{"$error":"#N/A"}]
[null,"Still Gas",{"$error":"#N/A"},"-",null,"x",{"$f":"StillNEFind","v":0},"=",{"$error":"#N/A"},"x",298,"=",{"$error":"#N/A"},"=",{"$error":"#N/A"}]
[null,"Special Naphthas",{"$error":"#N/A"},"-",null,"x",{"$f":"SpecialNEFind","v":0},"=",{"$error":"#N/A"},"x",298,"=",{"$error":"#N/A"},"=",{"$error":"#N/A"}]
[null,"Unfinished Oils",{"$error":"#N/A"},"-",null,"x",{"$f":"UnfinNEFind","v":0},"=",{"$error":"#N/A"},"x",298,"=",{"$error":"#N/A"},"=",{"$error":"#N/A"}]
[null,"Waxes",{"$error":"#N/A"},"-",null,"x",{"$f":"WaxesNEFind","v":0},"=",{"$error":"#N/A"},"x",298,"=",{"$error":"#N/A"},"=",{"$error":"#N/A"}]
[null,"Natural Gas",{"$error":"#N/A"},"-",null,"x",{"$f":"NatGasNEFind","v":0},"=",{"$error":"#N/A"},"x",298,"=",{"$error":"#N/A"},"=",{"$error":"#N/A"}]
[null,"Wood",{"$error":"#N/A"},"-","NA","x",{"$f":"WoodNEFind","v":0},"=",{"$f":"C329*G329","v":{"$error":"#N/A"}},"x",298,"=",{"$error":"#N/A"},"=",{"$error":"#N/A"}]
[null,"Other",{"$f":"VLOOKUP($B$2&$D$2&$C$2&$D$2&$B330,ConsumeBlock3,E303-1987,FALSE)","v":0},"-",null,"x",{"$f":"OtherNEFind","v":0},"=",0,"x",298,"=",0,"=",0]
[null,null,null,null,null,null,null,null,null,null,"Total","=",{"$f":"SUM(M307:M330)","v":{"$error":"#N/A"}},"=",{"$error":"#N/A"}]
[]
[null,"Industrial Sector N2O",null,null,{"$f":"E303+1","v":2001}]
[null,null,"Total ",null,"Non-Energy "]
[null,null,"Consumption",null,"Consumption",null,"Emission Factor",null,"Emissions",null,"GWP",null,"Emissions ",null,"Emissions "]
[null,"Fuel Type","(Billion Btu)",null,"(Billion Btu)",null,"(metric tons N2O/BBtu)",null,"(metric tons N2O)",null,null,null,"(MMTCE)",null,"(MMTCO2E)"]
[null,"Coking Coal",{"$f":"VLOOKUP($B$2&$D$2&$C$2&$D$2&$B337,ConsumeBlock3,E333-1987,FALSE)","v":{"$error":"#N/A"}},"-",null,"x",{"$f":"CokeCoalNEFind","v":0},"=",{"$f":"(C337-E337)*G337","v":{"$error":"#N/A"}},"x",{"$f":"GWPN2O","v":298},"=",{"$f":"I337*K337*CO2_C/(10^6)","v":{"$error":"#N/A"}},"=",{"$f":"M337/CO2_C","v":{"$error":"#N/A"}}]
[null,"Other Coal",{"$f":"IF(VLOOKUP($B$2&$D$2&$C$2&$D$2&$B338,ConsumeBlock3,$E333-1987,FALSE)-VLOOKUP($E$2,SyntheticNG,$E333-1988,FALSE)<0,0,VLOOKUP($B$2&$D$2&$C$2&$D$2&$B338,ConsumeBlock3,$E333-1987,FALSE)-VLOOKUP($E$2,SyntheticNG,$E333-1988,FALSE))","v":{"$error":"#N/A"}},"-",null,"x",{"$f":"OtherCoalNEFind","v":0},"=",{"$f":"(C338-E338)*G338","v":{"$error":"#N/A"}},"x",{"$f":"GWPN2O","v":298},"=",{"$f":"I338*K338*CO2_C/(10^6)","v":{"$error":"#N/A"}},"=",{"$error":"#N/A"}]
[null,"Asphalt and Road Oil",{"$f":"VLOOKUP($B$2&$D$2&$C$2&$D$2&$B339,ConsumeBlock3,14,FALSE)","v":{"$error":"#N/A"}},"-",null,"x",{"$f":"AsphaltNEFind","v":0},"=",{"$error":"#N/A"},"x",298,"=",{"$error":"#N/A"},"=",{"$error":"#N/A"}]
[null,"Aviation Gasoline Blending Components",{"$error":"#N/A"},"-",null,"x",{"$f":"AvGasBlendNEFind","v":0},"=",{"$error":"#N/A"},"x",298,"=",{"$error":"#N/A"},"=",{"$error":"#N/A"}]
[null,"Crude Oil",{"$error":"#N/A"},"-",null,"x",{"$f":"CrudeNEFind","v":0},"=",{"$error":"#N/A"},"x",298,"=",{"$error":"#N/A"},"=",{"$error":"#N/A"}]
[null,"Distillate Fuel",{"$error":"#N/A"},"-",null,"x",{"$f":"DistillNEFind","v":0},"=",{"$error":"#N/A"},"x",298,"=",{"$error":"#N/A"},"=",{"$error":"#N/A"}]
[null,"Feedstocks, Naphtha less than 401 F",{"$error":"#N/A"},"-",null,"x",{"$f":"NaphNEFind","v":0},"=",{"$error":"#N/A"},"x",298,"=",{"$error":"#N/A"},"=",{"$error":"#N/A"}]
[null,"Feedstocks, Other Oils greater than 401 F",{"$error":"#N/A"},"-",null,"x",{"$f":"OtherOilNEFind","v":0},"=",{"$error":"#N/A"},"x",298,"=",{"$error":"#N/A"},"=",{"$error":"#N/A"}]
[null,"Kerosene",{"$error":"#N/A"},"-",null,"x",{"$f":"KeroNEFind","v":0},"=",{"$error":"#N/A"},"x",298,"=",{"$error":"#N/A"},"=",{"$error":"#N/A"}]
[null,"LPG",{"$error":"#N/A"},"-",null,"x",{"$f":"LPGNEFind","v":0},"=",{"$error":"#N/A"},"x",298,"=",{"$error":"#N/A"},"=",{"$error":"#N/A"}]
[null,"Lubricants",{"$error":"#N/A"},"-",null,"x",{"$f":"LubeNEFind","v":0},"=",{"$error":"#N/A"},"x",298,"=",{"$error":"#N/A"},"=",{"$error":"#N/A"}]
[null,"Motor Gasoline",{"$error":"#N/A"},"-",null,"x",{"$f":"MotorGasNEFind","v":0},"=",{"$error":"#N/A"},"x",298,"=",{"$error":"#N/A"},"=",{"$error":"#N/A"}]
[null,"Motor Gasoline Blending Components",{"$error":"#N/A"},"-",null,"x",{"$f":"MoGasBlendNEFind","v":0},"=",{"$error":"#N/A"},"x",298,"=",{"$error":"#N/A"},"=",{"$error":"#N/A"}]
[null,"Misc. Petro Products",{"$error":"#N/A"},"-",null,"x",{"$f":"MiscNEFind","v":0},"=",{"$error":"#N/A"},"x",298,"=",{"$error":"#N/A"},"=",{"$error":"#N/A"}]
[null,"Petroleum Coke",{"$error":"#N/A"},"-",null,"x",{"$f":"PetCokeNEFind","v":0},"=",{"$error":"#N/A"},"x",298,"=",{"$error":"#N/A"},"=",{"$error":"#N/A"}]
[null,"Pentanes Plus",{"$error":"#N/A"},"-",null,"x",{"$f":"pentanesNEFind","v":0},"=",{"$error":"#N/A"},"x",298,"=",{"$error":"#N/A"},"=",{"$error":"#N/A"}]
[null,"Residual Fuel",{"$error":"#N/A"},"-",null,"x",{"$f":"ResidNEFind","v":0},"=",{"$error":"#N/A"},"x",298,"=",{"$error":"#N/A"},"=",{"$error":"#N/A"}]
[null,"Still Gas",{"$error":"#N/A"},"-",null,"x",{"$f":"StillNEFind","v":0},"=",{"$error":"#N/A"},"x",298,"=",{"$error":"#N/A"},"=",{"$error":"#N/A"}]
[null,"Special Naphthas",{"$error":"#N/A"},"-",null,"x",{"$f":"SpecialNEFind","v":0},"=",{"$error":"#N/A"},"x",298,"=",{"$error":"#N/A"},"=",{"$error":"#N/A"}]
[null,"Unfinished Oils",{"$error":"#N/A"},"-",null,"x",{"$f":"UnfinNEFind","v":0},"=",{"$error":"#N/A"},"x",298,"=",{"$error":"#N/A"},"=",{"$error":"#N/A"}]
[null,"Waxes",{"$error":"#N/A"},"-",null,"x",{"$f":"WaxesNEFind","v":0},"=",{"$error":"#N/A"},"x",298,"=",{"$error":"#N/A"},"=",{"$error":"#N/A"}]
[null,"Natural Gas",{"$error":"#N/A"},"-",null,"x",{"$f":"NatGasNEFind","v":0},"=",{"$error":"#N/A"},"x",298,"=",{"$error":"#N/A"},"=",{"$error":"#N/A"}]
[null,"Wood",{"$error":"#N/A"},"-","NA","x",{"$f":"WoodNEFind","v":0},"=",{"$f":"C359*G359","v":{"$error":"#N/A"}},"x",298,"=",{"$error":"#N/A"},"=",{"$error":"#N/A"}]
[null,"Other",{"$f":"VLOOKUP($B$2&$D$2&$C$2&$D$2&$B360,ConsumeBlock3,E333-1987,FALSE)","v":0},"-",null,"x",{"$f":"OtherNEFind","v":0},"=",{"$f":"(C360-E360)*G360","v":0},"x",298,"=",0,"=",0]
[null,null,null,null,null,null,null,null,null,null,"Total","=",{"$f":"SUM(M337:M360)","v":{"$error":"#N/A"}},"=",{"$error":"#N/A"}]
[]
[null,"Industrial Sector N2O",null,null,{"$f":"E333+1","v":2002}]
[null,null,"Total ",null,"Non-Energy "]
[null,null,"Consumption",null,"Consumption",null,"Emission Factor",null,"Emissions",null,"GWP",null,"Emissions ",null,"Emissions "]
[null,"Fuel Type","(Billion Btu)",null,"(Billion Btu)",null,"(metric tons N2O/BBtu)",null,"(metric tons N2O)",null,null,null,"(MMTCE)",null,"(MMTCO2E)"]
[null,"Coking Coal",{"$f":"VLOOKUP($B$2&$D$2&$C$2&$D$2&$B367,ConsumeBlock3,E363-1987,FALSE)","v":{"$error":"#N/A"}},"-",null,"x",{"$f":"CokeCoalNEFind","v":0},"=",{"$f":"(C367-E367)*G367","v":{"$error":"#N/A"}},"x",{"$f":"GWPN2O","v":298},"=",{"$f":"I367*K367*CO2_C/(10^6)","v":{"$error":"#N/A"}},"=",{"$f":"M367/CO2_C","v":{"$error":"#N/A"}}]
[null,"Other Coal",{"$f":"IF(VLOOKUP($B$2&$D$2&$C$2&$D$2&$B368,ConsumeBlock3,$E363-1987,FALSE)-VLOOKUP($E$2,SyntheticNG,$E363-1988,FALSE)<0,0,VLOOKUP($B$2&$D$2&$C$2&$D$2&$B368,ConsumeBlock3,$E363-1987,FALSE)-VLOOKUP($E$2,SyntheticNG,$E363-1988,FALSE))","v":{"$error":"#N/A"}},"-",null,"x",{"$f":"OtherCoalNEFind","v":0},"=",{"$f":"(C368-E368)*G368","v":{"$error":"#N/A"}},"x",{"$f":"GWPN2O","v":298},"=",{"$f":"I368*K368*CO2_C/(10^6)","v":{"$error":"#N/A"}},"=",{"$error":"#N/A"}]
[null,"Asphalt and Road Oil",{"$f":"VLOOKUP($B$2&$D$2&$C$2&$D$2&$B369,ConsumeBlock3,15,FALSE)","v":{"$error":"#N/A"}},"-",null,"x",{"$f":"AsphaltNEFind","v":0},"=",{"$error":"#N/A"},"x",298,"=",{"$error":"#N/A"},"=",{"$error":"#N/A"}]
[null,"Aviation Gasoline Blending Components",{"$error":"#N/A"},"-",null,"x",{"$f":"AvGasBlendNEFind","v":0},"=",{"$error":"#N/A"},"x",298,"=",{"$error":"#N/A"},"=",{"$error":"#N/A"}]
[null,"Crude Oil",{"$error":"#N/A"},"-",null,"x",{"$f":"CrudeNEFind","v":0},"=",{"$error":"#N/A"},"x",298,"=",{"$error":"#N/A"},"=",{"$error":"#N/A"}]
[null,"Distillate Fuel",{"$error":"#N/A"},"-",null,"x",{"$f":"DistillNEFind","v":0},"=",{"$error":"#N/A"},"x",298,"=",{"$error":"#N/A"},"=",{"$error":"#N/A"}]
[null,"Feedstocks, Naphtha less than 401 F",{"$error":"#N/A"},"-",null,"x",{"$f":"NaphNEFind","v":0},"=",{"$error":"#N/A"},"x",298,"=",{"$error":"#N/A"},"=",{"$error":"#N/A"}]
[null,"Feedstocks, Other Oils greater than 401 F",{"$error":"#N/A"},"-",null,"x",{"$f":"OtherOilNEFind","v":0},"=",{"$error":"#N/A"},"x",298,"=",{"$error":"#N/A"},"=",{"$error":"#N/A"}]
[null,"Kerosene",{"$error":"#N/A"},"-",null,"x",{"$f":"KeroNEFind","v":0},"=",{"$error":"#N/A"},"x",298,"=",{"$error":"#N/A"},"=",{"$error":"#N/A"}]
[null,"LPG",{"$error":"#N/A"},"-",null,"x",{"$f":"LPGNEFind","v":0},"=",{"$error":"#N/A"},"x",298,"=",{"$error":"#N/A"},"=",{"$error":"#N/A"}]
[null,"Lubricants",{"$error":"#N/A"},"-",null,"x",{"$f":"LubeNEFind","v":0},"=",{"$error":"#N/A"},"x",298,"=",{"$error":"#N/A"},"=",{"$error":"#N/A"}]
[null,"Motor Gasoline",{"$error":"#N/A"},"-",null,"x",{"$f":"MotorGasNEFind","v":0},"=",{"$error":"#N/A"},"x",298,"=",{"$error":"#N/A"},"=",{"$error":"#N/A"}]
[null,"Motor Gasoline Blending Components",{"$error":"#N/A"},"-",null,"x",{"$f":"MoGasBlendNEFind","v":0},"=",{"$error":"#N/A"},"x",298,"=",{"$error":"#N/A"},"=",{"$error":"#N/A"}]
[null,"Misc. Petro Products",{"$error":"#N/A"},"-",null,"x",{"$f":"MiscNEFind","v":0},"=",{"$error":"#N/A"},"x",298,"=",{"$error":"#N/A"},"=",{"$error":"#N/A"}]
[null,"Petroleum Coke",{"$error":"#N/A"},"-",null,"x",{"$f":"PetCokeNEFind","v":0},"=",{"$error":"#N/A"},"x",298,"=",{"$error":"#N/A"},"=",{"$error":"#N/A"}]
[null,"Pentanes Plus",{"$error":"#N/A"},"-",null,"x",{"$f":"pentanesNEFind","v":0},"=",{"$error":"#N/A"},"x",298,"=",{"$error":"#N/A"},"=",{"$error":"#N/A"}]
[null,"Residual Fuel",{"$error":"#N/A"},"-",null,"x",{"$f":"ResidNEFind","v":0},"=",{"$error":"#N/A"},"x",298,"=",{"$error":"#N/A"},"=",{"$error":"#N/A"}]
[null,"Still Gas",{"$error":"#N/A"},"-",null,"x",{"$f":"StillNEFind","v":0},"=",{"$error":"#N/A"},"x",298,"=",{"$error":"#N/A"},"=",{"$error":"#N/A"}]
[null,"Special Naphthas",{"$error":"#N/A"},"-",null,"x",{"$f":"SpecialNEFind","v":0},"=",{"$error":"#N/A"},"x",298,"=",{"$error":"#N/A"},"=",{"$error":"#N/A"}]
[null,"Unfinished Oils",{"$error":"#N/A"},"-",null,"x",{"$f":"UnfinNEFind","v":0},"=",{"$error":"#N/A"},"x",298,"=",{"$error":"#N/A"},"=",{"$error":"#N/A"}]
[null,"Waxes",{"$error":"#N/A"},"-",null,"x",{"$f":"WaxesNEFind","v":0},"=",{"$error":"#N/A"},"x",298,"=",{"$error":"#N/A"},"=",{"$error":"#N/A"}]
[null,"Natural Gas",{"$error":"#N/A"},"-",null,"x",{"$f":"NatGasNEFind","v":0},"=",{"$error":"#N/A"},"x",298,"=",{"$error":"#N/A"},"=",{"$error":"#N/A"}]
[null,"Wood",{"$error":"#N/A"},"-","NA","x",{"$f":"WoodNEFind","v":0},"=",{"$f":"C389*G389","v":{"$error":"#N/A"}},"x",298,"=",{"$error":"#N/A"},"=",{"$error":"#N/A"}]
[null,"Other",{"$f":"VLOOKUP($B$2&$D$2&$C$2&$D$2&$B390,ConsumeBlock3,E363-1987,FALSE)","v":0},"-",null,"x",{"$f":"OtherNEFind","v":0},"=",{"$f":"(C390-E390)*G390","v":0},"x",298,"=",0,"=",0]
[null,null,null,null,null,null,null,null,null,null,"Total","=",{"$f":"SUM(M367:M390)","v":{"$error":"#N/A"}},"=",{"$error":"#N/A"}]
[]
[null,"Industrial Sector N2O",null,null,{"$f":"E363+1","v":2003}]
[null,null,"Total ",null,"Non-Energy "]
[null,null,"Consumption",null,"Consumption",null,"Emission Factor",null,"Emissions",null,"GWP",null,"Emissions ",null,"Emissions "]
[null,"Fuel Type","(Billion Btu)",null,"(Billion Btu)",null,"(metric tons N2O/BBtu)",null,"(metric tons N2O)",null,null,null,"(MMTCE)",null,"(MMTCO2E)"]
[null,"Coking Coal",{"$f":"VLOOKUP($B$2&$D$2&$C$2&$D$2&$B397,ConsumeBlock3,E393-1987,FALSE)","v":{"$error":"#N/A"}},"-",null,"x",{"$f":"CokeCoalNEFind","v":0},"=",{"$f":"(C397-E397)*G397","v":{"$error":"#N/A"}},"x",{"$f":"GWPN2O","v":298},"=",{"$f":"I397*K397*CO2_C/(10^6)","v":{"$error":"#N/A"}},"=",{"$f":"M397/CO2_C","v":{"$error":"#N/A"}}]
[null,"Other Coal",{"$f":"IF(VLOOKUP($B$2&$D$2&$C$2&$D$2&$B398,ConsumeBlock3,$E393-1987,FALSE)-VLOOKUP($E$2,SyntheticNG,$E393-1988,FALSE)<0,0,VLOOKUP($B$2&$D$2&$C$2&$D$2&$B398,ConsumeBlock3,$E393-1987,FALSE)-VLOOKUP($E$2,SyntheticNG,$E393-1988,FALSE))","v":{"$error":"#N/A"}},"-",null,"x",{"$f":"OtherCoalNEFind","v":0},"=",{"$f":"(C398-E398)*G398","v":{"$error":"#N/A"}},"x",{"$f":"GWPN2O","v":298},"=",{"$f":"I398*K398*CO2_C/(10^6)","v":{"$error":"#N/A"}},"=",{"$error":"#N/A"}]
[null,"Asphalt and Road Oil",{"$f":"VLOOKUP($B$2&$D$2&$C$2&$D$2&$B399,ConsumeBlock3,16,FALSE)","v":{"$error":"#N/A"}},"-",null,"x",{"$f":"AsphaltNEFind","v":0},"=",{"$error":"#N/A"},"x",298,"=",{"$error":"#N/A"},"=",{"$error":"#N/A"}]
[null,"Aviation Gasoline Blending Components",{"$error":"#N/A"},"-",null,"x",{"$f":"AvGasBlendNEFind","v":0},"=",{"$error":"#N/A"},"x",298,"=",{"$error":"#N/A"},"=",{"$error":"#N/A"}]
[null,"Crude Oil",{"$error":"#N/A"},"-",null,"x",{"$f":"CrudeNEFind","v":0},"=",{"$error":"#N/A"},"x",298,"=",{"$error":"#N/A"},"=",{"$error":"#N/A"}]
[null,"Distillate Fuel",{"$error":"#N/A"},"-",null,"x",{"$f":"DistillNEFind","v":0},"=",{"$error":"#N/A"},"x",298,"=",{"$error":"#N/A"},"=",{"$error":"#N/A"}]
[null,"Feedstocks, Naphtha less than 401 F",{"$error":"#N/A"},"-",null,"x",{"$f":"NaphNEFind","v":0},"=",{"$error":"#N/A"},"x",298,"=",{"$error":"#N/A"},"=",{"$error":"#N/A"}]
[null,"Feedstocks, Other Oils greater than 401 F",{"$error":"#N/A"},"-",null,"x",{"$f":"OtherOilNEFind","v":0},"=",{"$error":"#N/A"},"x",298,"=",{"$error":"#N/A"},"=",{"$error":"#N/A"}]
[null,"Kerosene",{"$error":"#N/A"},"-",null,"x",{"$f":"KeroNEFind","v":0},"=",{"$error":"#N/A"},"x",298,"=",{"$error":"#N/A"},"=",{"$error":"#N/A"}]
[null,"LPG",{"$error":"#N/A"},"-",null,"x",{"$f":"LPGNEFind","v":0},"=",{"$error":"#N/A"},"x",298,"=",{"$error":"#N/A"},"=",{"$error":"#N/A"}]
[null,"Lubricants",{"$error":"#N/A"},"-",null,"x",{"$f":"LubeNEFind","v":0},"=",{"$error":"#N/A"},"x",298,"=",{"$error":"#N/A"},"=",{"$error":"#N/A"}]
[null,"Motor Gasoline",{"$error":"#N/A"},"-",null,"x",{"$f":"MotorGasNEFind","v":0},"=",{"$error":"#N/A"},"x",298,"=",{"$error":"#N/A"},"=",{"$error":"#N/A"}]
[null,"Motor Gasoline Blending Components",{"$error":"#N/A"},"-",null,"x",{"$f":"MoGasBlendNEFind","v":0},"=",{"$error":"#N/A"},"x",298,"=",{"$error":"#N/A"},"=",{"$error":"#N/A"}]
[null,"Misc. Petro Products",{"$error":"#N/A"},"-",null,"x",{"$f":"MiscNEFind","v":0},"=",{"$error":"#N/A"},"x",298,"=",{"$error":"#N/A"},"=",{"$error":"#N/A"}]
[null,"Petroleum Coke",{"$error":"#N/A"},"-",null,"x",{"$f":"PetCokeNEFind","v":0},"=",{"$error":"#N/A"},"x",298,"=",{"$error":"#N/A"},"=",{"$error":"#N/A"}]
[null,"Pentanes Plus",{"$error":"#N/A"},"-",null,"x",{"$f":"pentanesNEFind","v":0},"=",{"$error":"#N/A"},"x",298,"=",{"$error":"#N/A"},"=",{"$error":"#N/A"}]
[null,"Residual Fuel",{"$error":"#N/A"},"-",null,"x",{"$f":"ResidNEFind","v":0},"=",{"$error":"#N/A"},"x",298,"=",{"$error":"#N/A"},"=",{"$error":"#N/A"}]
[null,"Still Gas",{"$error":"#N/A"},"-",null,"x",{"$f":"StillNEFind","v":0},"=",{"$error":"#N/A"},"x",298,"=",{"$error":"#N/A"},"=",{"$error":"#N/A"}]
[null,"Special Naphthas",{"$error":"#N/A"},"-",null,"x",{"$f":"SpecialNEFind","v":0},"=",{"$error":"#N/A"},"x",298,"=",{"$error":"#N/A"},"=",{"$error":"#N/A"}]
[null,"Unfinished Oils",{"$error":"#N/A"},"-",null,"x",{"$f":"UnfinNEFind","v":0},"=",{"$error":"#N/A"},"x",298,"=",{"$error":"#N/A"},"=",{"$error":"#N/A"}]
[null,"Waxes",{"$error":"#N/A"},"-",null,"x",{"$f":"WaxesNEFind","v":0},"=",{"$error":"#N/A"},"x",298,"=",{"$error":"#N/A"},"=",{"$error":"#N/A"}]
[null,"Natural Gas",{"$error":"#N/A"},"-",null,"x",{"$f":"NatGasNEFind","v":0},"=",{"$error":"#N/A"},"x",298,"=",{"$error":"#N/A"},"=",{"$error":"#N/A"}]
[null,"Wood",{"$error":"#N/A"},"-","NA","x",{"$f":"WoodNEFind","v":0},"=",{"$f":"C419*G419","v":{"$error":"#N/A"}},"x",298,"=",{"$error":"#N/A"},"=",{"$error":"#N/A"}]
[null,"Other",{"$f":"VLOOKUP($B$2&$D$2&$C$2&$D$2&$B420,ConsumeBlock3,E393-1987,FALSE)","v":0},"-",null,"x",{"$f":"OtherNEFind","v":0},"=",{"$f":"(C420-E420)*G420","v":0},"x",298,"=",0,"=",0]
[null,null,null,null,null,null,null,null,null,null,"Total","=",{"$f":"SUM(M397:M420)","v":{"$error":"#N/A"}},"=",{"$error":"#N/A"}]
[]
[null,"Industrial Sector N2O",null,null,{"$f":"E393+1","v":2004}]
[null,null,"Total ",null,"Non-Energy "]
[null,null,"Consumption",null,"Consumption",null,"Emission Factor",null,"Emissions",null,"GWP",null,"Emissions ",null,"Emissions "]
[null,"Fuel Type","(Billion Btu)",null,"(Billion Btu)",null,"(metric tons N2O/BBtu)",null,"(metric tons N2O)",null,null,null,"(MMTCE)",null,"(MMTCO2E)"]
[null,"Coking Coal",{"$f":"VLOOKUP($B$2&$D$2&$C$2&$D$2&$B427,ConsumeBlock3,E423-1987,FALSE)","v":{"$error":"#N/A"}},"-",null,"x",{"$f":"CokeCoalNEFind","v":0},"=",{"$f":"(C427-E427)*G427","v":{"$error":"#N/A"}},"x",{"$f":"GWPN2O","v":298},"=",{"$f":"I427*K427*CO2_C/(10^6)","v":{"$error":"#N/A"}},"=",{"$f":"M427/CO2_C","v":{"$error":"#N/A"}}]
[null,"Other Coal",{"$f":"IF(VLOOKUP($B$2&$D$2&$C$2&$D$2&$B428,ConsumeBlock3,$E423-1987,FALSE)-VLOOKUP($E$2,SyntheticNG,$E423-1988,FALSE)<0,0,VLOOKUP($B$2&$D$2&$C$2&$D$2&$B428,ConsumeBlock3,$E423-1987,FALSE)-VLOOKUP($E$2,SyntheticNG,$E423-1988,FALSE))","v":{"$error":"#N/A"}},"-",null,"x",{"$f":"OtherCoalNEFind","v":0},"=",{"$f":"(C428-E428)*G428","v":{"$error":"#N/A"}},"x",{"$f":"GWPN2O","v":298},"=",{"$f":"I428*K428*CO2_C/(10^6)","v":{"$error":"#N/A"}},"=",{"$error":"#N/A"}]
[null,"Asphalt and Road Oil",{"$f":"VLOOKUP($B$2&$D$2&$C$2&$D$2&$B429,ConsumeBlock3,17,FALSE)","v":{"$error":"#N/A"}},"-",null,"x",{"$f":"AsphaltNEFind","v":0},"=",{"$error":"#N/A"},"x",298,"=",{"$error":"#N/A"},"=",{"$error":"#N/A"}]
[null,"Aviation Gasoline Blending Components",{"$error":"#N/A"},"-",null,"x",{"$f":"AvGasBlendNEFind","v":0},"=",{"$error":"#N/A"},"x",298,"=",{"$error":"#N/A"},"=",{"$error":"#N/A"}]
[null,"Crude Oil",{"$error":"#N/A"},"-",null,"x",{"$f":"CrudeNEFind","v":0},"=",{"$error":"#N/A"},"x",298,"=",{"$error":"#N/A"},"=",{"$error":"#N/A"}]
[null,"Distillate Fuel",{"$error":"#N/A"},"-",null,"x",{"$f":"DistillNEFind","v":0},"=",{"$error":"#N/A"},"x",298,"=",{"$error":"#N/A"},"=",{"$error":"#N/A"}]
[null,"Feedstocks, Naphtha less than 401 F",{"$error":"#N/A"},"-",null,"x",{"$f":"NaphNEFind","v":0},"=",{"$error":"#N/A"},"x",298,"=",{"$error":"#N/A"},"=",{"$error":"#N/A"}]
[null,"Feedstocks, Other Oils greater than 401 F",{"$error":"#N/A"},"-",null,"x",{"$f":"OtherOilNEFind","v":0},"=",{"$error":"#N/A"},"x",298,"=",{"$error":"#N/A"},"=",{"$error":"#N/A"}]
[null,"Kerosene",{"$error":"#N/A"},"-",null,"x",{"$f":"KeroNEFind","v":0},"=",{"$error":"#N/A"},"x",298,"=",{"$error":"#N/A"},"=",{"$error":"#N/A"}]
[null,"LPG",{"$error":"#N/A"},"-",null,"x",{"$f":"LPGNEFind","v":0},"=",{"$error":"#N/A"},"x",298,"=",{"$error":"#N/A"},"=",{"$error":"#N/A"}]
[null,"Lubricants",{"$error":"#N/A"},"-",null,"x",{"$f":"LubeNEFind","v":0},"=",{"$error":"#N/A"},"x",298,"=",{"$error":"#N/A"},"=",{"$error":"#N/A"}]
[null,"Motor Gasoline",{"$error":"#N/A"},"-",null,"x",{"$f":"MotorGasNEFind","v":0},"=",{"$error":"#N/A"},"x",298,"=",{"$error":"#N/A"},"=",{"$error":"#N/A"}]
[null,"Motor Gasoline Blending Components",{"$error":"#N/A"},"-",null,"x",{"$f":"MoGasBlendNEFind","v":0},"=",{"$error":"#N/A"},"x",298,"=",{"$error":"#N/A"},"=",{"$error":"#N/A"}]
[null,"Misc. Petro Products",{"$error":"#N/A"},"-",null,"x",{"$f":"MiscNEFind","v":0},"=",{"$error":"#N/A"},"x",298,"=",{"$error":"#N/A"},"=",{"$error":"#N/A"}]
[null,"Petroleum Coke",{"$error":"#N/A"},"-",null,"x",{"$f":"PetCokeNEFind","v":0},"=",{"$error":"#N/A"},"x",298,"=",{"$error":"#N/A"},"=",{"$error":"#N/A"}]
[null,"Pentanes Plus",{"$error":"#N/A"},"-",null,"x",{"$f":"pentanesNEFind","v":0},"=",{"$error":"#N/A"},"x",298,"=",{"$error":"#N/A"},"=",{"$error":"#N/A"}]
[null,"Residual Fuel",{"$error":"#N/A"},"-",null,"x",{"$f":"ResidNEFind","v":0},"=",{"$error":"#N/A"},"x",298,"=",{"$error":"#N/A"},"=",{"$error":"#N/A"}]
[null,"Still Gas",{"$error":"#N/A"},"-",null,"x",{"$f":"StillNEFind","v":0},"=",{"$error":"#N/A"},"x",298,"=",{"$error":"#N/A"},"=",{"$error":"#N/A"}]
[null,"Special Naphthas",{"$error":"#N/A"},"-",null,"x",{"$f":"SpecialNEFind","v":0},"=",{"$error":"#N/A"},"x",298,"=",{"$error":"#N/A"},"=",{"$error":"#N/A"}]
[null,"Unfinished Oils",{"$error":"#N/A"},"-",null,"x",{"$f":"UnfinNEFind","v":0},"=",{"$error":"#N/A"},"x",298,"=",{"$error":"#N/A"},"=",{"$error":"#N/A"}]
[null,"Waxes",{"$error":"#N/A"},"-",null,"x",{"$f":"WaxesNEFind","v":0},"=",{"$error":"#N/A"},"x",298,"=",{"$error":"#N/A"},"=",{"$error":"#N/A"}]
[null,"Natural Gas",{"$error":"#N/A"},"-",null,"x",{"$f":"NatGasNEFind","v":0},"=",{"$error":"#N/A"},"x",298,"=",{"$error":"#N/A"},"=",{"$error":"#N/A"}]
[null,"Wood",{"$error":"#N/A"},"-","NA","x",{"$f":"WoodNEFind","v":0},"=",{"$f":"C449*G449","v":{"$error":"#N/A"}},"x",298,"=",{"$error":"#N/A"},"=",{"$error":"#N/A"}]
[null,"Other",{"$f":"VLOOKUP($B$2&$D$2&$C$2&$D$2&$B450,ConsumeBlock3,E423-1987,FALSE)","v":0},"-",null,"x",{"$f":"OtherNEFind","v":0},"=",{"$f":"(C450-E450)*G450","v":0},"x",298,"=",0,"=",0]
[null,null,null,null,null,null,null,null,null,null,"Total","=",{"$f":"SUM(M427:M450)","v":{"$error":"#N/A"}},"=",{"$error":"#N/A"}]
[]
[null,"Industrial Sector N2O",null,null,{"$f":"E423+1","v":2005}]
[null,null,"Total ",null,"Non-Energy "]
[null,null,"Consumption",null,"Consumption",null,"Emission Factor",null,"Emissions",null,"GWP",null,"Emissions ",null,"Emissions "]
[null,"Fuel Type","(Billion Btu)",null,"(Billion Btu)",null,"(metric tons N2O/BBtu)",null,"(metric tons N2O)",null,null,null,"(MMTCE)",null,"(MMTCO2E)"]
[null,"Coking Coal",{"$f":"VLOOKUP($B$2&$D$2&$C$2&$D$2&$B457,ConsumeBlock3,E453-1987,FALSE)","v":{"$error":"#N/A"}},"-",null,"x",{"$f":"CokeCoalNEFind","v":0},"=",{"$f":"(C457-E457)*G457","v":{"$error":"#N/A"}},"x",{"$f":"GWPN2O","v":298},"=",{"$f":"I457*K457*CO2_C/(10^6)","v":{"$error":"#N/A"}},"=",{"$f":"M457/CO2_C","v":{"$error":"#N/A"}}]
[null,"Other Coal",{"$f":"IF(VLOOKUP($B$2&$D$2&$C$2&$D$2&$B458,ConsumeBlock3,$E453-1987,FALSE)-VLOOKUP($E$2,SyntheticNG,$E453-1988,FALSE)<0,0,VLOOKUP($B$2&$D$2&$C$2&$D$2&$B458,ConsumeBlock3,$E453-1987,FALSE)-VLOOKUP($E$2,SyntheticNG,$E453-1988,FALSE))","v":{"$error":"#N/A"}},"-",null,"x",{"$f":"OtherCoalNEFind","v":0},"=",{"$f":"(C458-E458)*G458","v":{"$error":"#N/A"}},"x",{"$f":"GWPN2O","v":298},"=",{"$f":"I458*K458*CO2_C/(10^6)","v":{"$error":"#N/A"}},"=",{"$error":"#N/A"}]
[null,"Asphalt and Road Oil",{"$f":"VLOOKUP($B$2&$D$2&$C$2&$D$2&$B459,ConsumeBlock3,18,FALSE)","v":{"$error":"#N/A"}},"-",null,"x",{"$f":"AsphaltNEFind","v":0},"=",{"$error":"#N/A"},"x",298,"=",{"$error":"#N/A"},"=",{"$error":"#N/A"}]
[null,"Aviation Gasoline Blending Components",{"$error":"#N/A"},"-",null,"x",{"$f":"AvGasBlendNEFind","v":0},"=",{"$error":"#N/A"},"x",298,"=",{"$error":"#N/A"},"=",{"$error":"#N/A"}]
[null,"Crude Oil",{"$error":"#N/A"},"-",null,"x",{"$f":"CrudeNEFind","v":0},"=",{"$error":"#N/A"},"x",298,"=",{"$error":"#N/A"},"=",{"$error":"#N/A"}]
[null,"Distillate Fuel",{"$error":"#N/A"},"-",null,"x",{"$f":"DistillNEFind","v":0},"=",{"$error":"#N/A"},"x",298,"=",{"$error":"#N/A"},"=",{"$error":"#N/A"}]
[null,"Feedstocks, Naphtha less than 401 F",{"$error":"#N/A"},"-",null,"x",{"$f":"NaphNEFind","v":0},"=",{"$error":"#N/A"},"x",298,"=",{"$error":"#N/A"},"=",{"$error":"#N/A"}]
[null,"Feedstocks, Other Oils greater than 401 F",{"$error":"#N/A"},"-",null,"x",{"$f":"OtherOilNEFind","v":0},"=",{"$error":"#N/A"},"x",298,"=",{"$error":"#N/A"},"=",{"$error":"#N/A"}]
[null,"Kerosene",{"$error":"#N/A"},"-",null,"x",{"$f":"KeroNEFind","v":0},"=",{"$error":"#N/A"},"x",298,"=",{"$error":"#N/A"},"=",{"$error":"#N/A"}]
[null,"LPG",{"$error":"#N/A"},"-",null,"x",{"$f":"LPGNEFind","v":0},"=",{"$error":"#N/A"},"x",298,"=",{"$error":"#N/A"},"=",{"$error":"#N/A"}]
[null,"Lubricants",{"$error":"#N/A"},"-",null,"x",{"$f":"LubeNEFind","v":0},"=",{"$error":"#N/A"},"x",298,"=",{"$error":"#N/A"},"=",{"$error":"#N/A"}]
[null,"Motor Gasoline",{"$error":"#N/A"},"-",null,"x",{"$f":"MotorGasNEFind","v":0},"=",{"$error":"#N/A"},"x",298,"=",{"$error":"#N/A"},"=",{"$error":"#N/A"}]
[null,"Motor Gasoline Blending Components",{"$error":"#N/A"},"-",null,"x",{"$f":"MoGasBlendNEFind","v":0},"=",{"$error":"#N/A"},"x",298,"=",{"$error":"#N/A"},"=",{"$error":"#N/A"}]
[null,"Misc. Petro Products",{"$error":"#N/A"},"-",null,"x",{"$f":"MiscNEFind","v":0},"=",{"$error":"#N/A"},"x",298,"=",{"$error":"#N/A"},"=",{"$error":"#N/A"}]
[null,"Petroleum Coke",{"$error":"#N/A"},"-",null,"x",{"$f":"PetCokeNEFind","v":0},"=",{"$error":"#N/A"},"x",298,"=",{"$error":"#N/A"},"=",{"$error":"#N/A"}]
[null,"Pentanes Plus",{"$error":"#N/A"},"-",null,"x",{"$f":"pentanesNEFind","v":0},"=",{"$error":"#N/A"},"x",298,"=",{"$error":"#N/A"},"=",{"$error":"#N/A"}]
[null,"Residual Fuel",{"$error":"#N/A"},"-",null,"x",{"$f":"ResidNEFind","v":0},"=",{"$error":"#N/A"},"x",298,"=",{"$error":"#N/A"},"=",{"$error":"#N/A"}]
[null,"Still Gas",{"$error":"#N/A"},"-",null,"x",{"$f":"StillNEFind","v":0},"=",{"$error":"#N/A"},"x",298,"=",{"$error":"#N/A"},"=",{"$error":"#N/A"}]
[null,"Special Naphthas",{"$error":"#N/A"},"-",null,"x",{"$f":"SpecialNEFind","v":0},"=",{"$error":"#N/A"},"x",298,"=",{"$error":"#N/A"},"=",{"$error":"#N/A"}]
[null,"Unfinished Oils",{"$error":"#N/A"},"-",null,"x",{"$f":"UnfinNEFind","v":0},"=",{"$error":"#N/A"},"x",298,"=",{"$error":"#N/A"},"=",{"$error":"#N/A"}]
[null,"Waxes",{"$error":"#N/A"},"-",null,"x",{"$f":"WaxesNEFind","v":0},"=",{"$error":"#N/A"},"x",298,"=",{"$error":"#N/A"},"=",{"$error":"#N/A"}]
[null,"Natural Gas",{"$error":"#N/A"},"-",null,"x",{"$f":"NatGasNEFind","v":0},"=",{"$error":"#N/A"},"x",298,"=",{"$error":"#N/A"},"=",{"$error":"#N/A"}]
[null,"Wood",{"$error":"#N/A"},"-","NA","x",{"$f":"WoodNEFind","v":0},"=",{"$f":"C479*G479","v":{"$error":"#N/A"}},"x",298,"=",{"$error":"#N/A"},"=",{"$error":"#N/A"}]
[null,"Other",{"$f":"VLOOKUP($B$2&$D$2&$C$2&$D$2&$B480,ConsumeBlock3,E453-1987,FALSE)","v":0},"-",null,"x",{"$f":"OtherNEFind","v":0},"=",{"$f":"(C480-E480)*G480","v":0},"x",298,"=",0,"=",0]
[null,null,null,null,null,null,null,null,null,null,"Total","=",{"$f":"SUM(M457:M480)","v":{"$error":"#N/A"}},"=",{"$error":"#N/A"}]
[]
[null,"Industrial Sector N2O",null,null,{"$f":"E453+1","v":2006}]
[null,null,"Total ",null,"Non-Energy "]
[null,null,"Consumption",null,"Consumption",null,"Emission Factor",null,"Emissions",null,"GWP",null,"Emissions ",null,"Emissions "]
[null,"Fuel Type","(Billion Btu)",null,"(Billion Btu)",null,"(metric tons N2O/BBtu)",null,"(metric tons N2O)",null,null,null,"(MMTCE)",null,"(MMTCO2E)"]
[null,"Coking Coal",{"$f":"VLOOKUP($B$2&$D$2&$C$2&$D$2&$B487,ConsumeBlock3,E483-1987,FALSE)","v":{"$error":"#N/A"}},"-",null,"x",{"$f":"CokeCoalNEFind","v":0},"=",{"$f":"(C487-E487)*G487","v":{"$error":"#N/A"}},"x",{"$f":"GWPN2O","v":298},"=",{"$f":"I487*K487*CO2_C/(10^6)","v":{"$error":"#N/A"}},"=",{"$f":"M487/CO2_C","v":{"$error":"#N/A"}}]
[null,"Other Coal",{"$f":"IF(VLOOKUP($B$2&$D$2&$C$2&$D$2&$B488,ConsumeBlock3,$E483-1987,FALSE)-VLOOKUP($E$2,SyntheticNG,$E483-1988,FALSE)<0,0,VLOOKUP($B$2&$D$2&$C$2&$D$2&$B488,ConsumeBlock3,$E483-1987,FALSE)-VLOOKUP($E$2,SyntheticNG,$E483-1988,FALSE))","v":{"$error":"#N/A"}},"-",null,"x",{"$f":"OtherCoalNEFind","v":0},"=",{"$f":"(C488-E488)*G488","v":{"$error":"#N/A"}},"x",{"$f":"GWPN2O","v":298},"=",{"$f":"I488*K488*CO2_C/(10^6)","v":{"$error":"#N/A"}},"=",{"$error":"#N/A"}]
[null,"Asphalt and Road Oil",{"$f":"VLOOKUP($B$2&$D$2&$C$2&$D$2&$B489,ConsumeBlock3,19,FALSE)","v":{"$error":"#N/A"}},"-",null,"x",{"$f":"AsphaltNEFind","v":0},"=",{"$error":"#N/A"},"x",298,"=",{"$error":"#N/A"},"=",{"$error":"#N/A"}]
[null,"Aviation Gasoline Blending Components",{"$error":"#N/A"},"-",null,"x",{"$f":"AvGasBlendNEFind","v":0},"=",{"$error":"#N/A"},"x",298,"=",{"$error":"#N/A"},"=",{"$error":"#N/A"}]
[null,"Crude Oil",{"$error":"#N/A"},"-",null,"x",{"$f":"CrudeNEFind","v":0},"=",{"$error":"#N/A"},"x",298,"=",{"$error":"#N/A"},"=",{"$error":"#N/A"}]
[null,"Distillate Fuel",{"$error":"#N/A"},"-",null,"x",{"$f":"DistillNEFind","v":0},"=",{"$error":"#N/A"},"x",298,"=",{"$error":"#N/A"},"=",{"$error":"#N/A"}]
[null,"Feedstocks, Naphtha less than 401 F",{"$error":"#N/A"},"-",null,"x",{"$f":"NaphNEFind","v":0},"=",{"$error":"#N/A"},"x",298,"=",{"$error":"#N/A"},"=",{"$error":"#N/A"}]
[null,"Feedstocks, Other Oils greater than 401 F",{"$error":"#N/A"},"-",null,"x",{"$f":"OtherOilNEFind","v":0},"=",{"$error":"#N/A"},"x",298,"=",{"$error":"#N/A"},"=",{"$error":"#N/A"}]
[null,"Kerosene",{"$error":"#N/A"},"-",null,"x",{"$f":"KeroNEFind","v":0},"=",{"$error":"#N/A"},"x",298,"=",{"$error":"#N/A"},"=",{"$error":"#N/A"}]
[null,"LPG",{"$error":"#N/A"},"-",null,"x",{"$f":"LPGNEFind","v":0},"=",{"$error":"#N/A"},"x",298,"=",{"$error":"#N/A"},"=",{"$error":"#N/A"}]
[null,"Lubricants",{"$error":"#N/A"},"-",null,"x",{"$f":"LubeNEFind","v":0},"=",{"$error":"#N/A"},"x",298,"=",{"$error":"#N/A"},"=",{"$error":"#N/A"}]
[null,"Motor Gasoline",{"$error":"#N/A"},"-",null,"x",{"$f":"MotorGasNEFind","v":0},"=",{"$error":"#N/A"},"x",298,"=",{"$error":"#N/A"},"=",{"$error":"#N/A"}]
[null,"Motor Gasoline Blending Components",{"$error":"#N/A"},"-",null,"x",{"$f":"MoGasBlendNEFind","v":0},"=",{"$error":"#N/A"},"x",298,"=",{"$error":"#N/A"},"=",{"$error":"#N/A"}]
[null,"Misc. Petro Products",{"$error":"#N/A"},"-",null,"x",{"$f":"MiscNEFind","v":0},"=",{"$error":"#N/A"},"x",298,"=",{"$error":"#N/A"},"=",{"$error":"#N/A"}]
[null,"Petroleum Coke",{"$error":"#N/A"},"-",null,"x",{"$f":"PetCokeNEFind","v":0},"=",{"$error":"#N/A"},"x",298,"=",{"$error":"#N/A"},"=",{"$error":"#N/A"}]
[null,"Pentanes Plus",{"$error":"#N/A"},"-",null,"x",{"$f":"pentanesNEFind","v":0},"=",{"$error":"#N/A"},"x",298,"=",{"$error":"#N/A"},"=",{"$error":"#N/A"}]
[null,"Residual Fuel",{"$error":"#N/A"},"-",null,"x",{"$f":"ResidNEFind","v":0},"=",{"$error":"#N/A"},"x",298,"=",{"$error":"#N/A"},"=",{"$error":"#N/A"}]
[null,"Still Gas",{"$error":"#N/A"},"-",null,"x",{"$f":"StillNEFind","v":0},"=",{"$error":"#N/A"},"x",298,"=",{"$error":"#N/A"},"=",{"$error":"#N/A"}]
[null,"Special Naphthas",{"$error":"#N/A"},"-",null,"x",{"$f":"SpecialNEFind","v":0},"=",{"$error":"#N/A"},"x",298,"=",{"$error":"#N/A"},"=",{"$error":"#N/A"}]
[null,"Unfinished Oils",{"$error":"#N/A"},"-",null,"x",{"$f":"UnfinNEFind","v":0},"=",{"$error":"#N/A"},"x",298,"=",{"$error":"#N/A"},"=",{"$error":"#N/A"}]
[null,"Waxes",{"$error":"#N/A"},"-",null,"x",{"$f":"WaxesNEFind","v":0},"=",{"$error":"#N/A"},"x",298,"=",{"$error":"#N/A"},"=",{"$error":"#N/A"}]
[null,"Natural Gas",{"$error":"#N/A"},"-",null,"x",{"$f":"NatGasNEFind","v":0},"=",{"$error":"#N/A"},"x",298,"=",{"$error":"#N/A"},"=",{"$error":"#N/A"}]
[null,"Wood",{"$error":"#N/A"},"-","NA","x",{"$f":"WoodNEFind","v":0},"=",{"$f":"C509*G509","v":{"$error":"#N/A"}},"x",298,"=",{"$error":"#N/A"},"=",{"$error":"#N/A"}]
[null,"Other",{"$f":"VLOOKUP($B$2&$D$2&$C$2&$D$2&$B510,ConsumeBlock3,E483-1987,FALSE)","v":0},"-",null,"x",{"$f":"OtherNEFind","v":0},"=",{"$f":"(C510-E510)*G510","v":0},"x",298,"=",0,"=",0]
[null,null,null,null,null,null,null,null,null,null,"Total","=",{"$f":"SUM(M487:M510)","v":{"$error":"#N/A"}},"=",{"$error":"#N/A"}]
[]
[null,"Industrial Sector N2O",null,null,{"$f":"E483+1","v":2007}]
[null,null,"Total ",null,"Non-Energy "]
[null,null,"Consumption",null,"Consumption",null,"Emission Factor",null,"Emissions",null,"GWP",null,"Emissions ",null,"Emissions "]
[null,"Fuel Type","(Billion Btu)",null,"(Billion Btu)",null,"(metric tons N2O/BBtu)",null,"(metric tons N2O)",null,null,null,"(MMTCE)",null,"(MMTCO2E)"]
[null,"Coking Coal",{"$f":"VLOOKUP($B$2&$D$2&$C$2&$D$2&$B517,ConsumeBlock3,E513-1987,FALSE)","v":{"$error":"#N/A"}},"-",null,"x",{"$f":"CokeCoalNEFind","v":0},"=",{"$f":"(C517-E517)*G517","v":{"$error":"#N/A"}},"x",{"$f":"GWPN2O","v":298},"=",{"$f":"I517*K517*CO2_C/(10^6)","v":{"$error":"#N/A"}},"=",{"$f":"M517/CO2_C","v":{"$error":"#N/A"}}]
[null,"Other Coal",{"$f":"IF(VLOOKUP($B$2&$D$2&$C$2&$D$2&$B518,ConsumeBlock3,$E513-1987,FALSE)-VLOOKUP($E$2,SyntheticNG,$E513-1988,FALSE)<0,0,VLOOKUP($B$2&$D$2&$C$2&$D$2&$B518,ConsumeBlock3,$E513-1987,FALSE)-VLOOKUP($E$2,SyntheticNG,$E513-1988,FALSE))","v":{"$error":"#N/A"}},"-",null,"x",{"$f":"OtherCoalNEFind","v":0},"=",{"$f":"(C518-E518)*G518","v":{"$error":"#N/A"}},"x",{"$f":"GWPN2O","v":298},"=",{"$f":"I518*K518*CO2_C/(10^6)","v":{"$error":"#N/A"}},"=",{"$error":"#N/A"}]
[null,"Asphalt and Road Oil",{"$f":"VLOOKUP($B$2&$D$2&$C$2&$D$2&$B519,ConsumeBlock3,20,FALSE)","v":{"$error":"#N/A"}},"-",null,"x",{"$f":"AsphaltNEFind","v":0},"=",{"$error":"#N/A"},"x",298,"=",{"$error":"#N/A"},"=",{"$error":"#N/A"}]
[null,"Aviation Gasoline Blending Components",{"$error":"#N/A"},"-",null,"x",{"$f":"AvGasBlendNEFind","v":0},"=",{"$error":"#N/A"},"x",298,"=",{"$error":"#N/A"},"=",{"$error":"#N/A"}]
[null,"Crude Oil",{"$error":"#N/A"},"-",null,"x",{"$f":"CrudeNEFind","v":0},"=",{"$error":"#N/A"},"x",298,"=",{"$error":"#N/A"},"=",{"$error":"#N/A"}]
[null,"Distillate Fuel",{"$error":"#N/A"},"-",null,"x",{"$f":"DistillNEFind","v":0},"=",{"$error":"#N/A"},"x",298,"=",{"$error":"#N/A"},"=",{"$error":"#N/A"}]
[null,"Feedstocks, Naphtha less than 401 F",{"$error":"#N/A"},"-",null,"x",{"$f":"NaphNEFind","v":0},"=",{"$error":"#N/A"},"x",298,"=",{"$error":"#N/A"},"=",{"$error":"#N/A"}]
[null,"Feedstocks, Other Oils greater than 401 F",{"$error":"#N/A"},"-",null,"x",{"$f":"OtherOilNEFind","v":0},"=",{"$error":"#N/A"},"x",298,"=",{"$error":"#N/A"},"=",{"$error":"#N/A"}]
[null,"Kerosene",{"$error":"#N/A"},"-",null,"x",{"$f":"KeroNEFind","v":0},"=",{"$error":"#N/A"},"x",298,"=",{"$error":"#N/A"},"=",{"$error":"#N/A"}]
[null,"LPG",{"$error":"#N/A"},"-",null,"x",{"$f":"LPGNEFind","v":0},"=",{"$error":"#N/A"},"x",298,"=",{"$error":"#N/A"},"=",{"$error":"#N/A"}]
[null,"Lubricants",{"$error":"#N/A"},"-",null,"x",{"$f":"LubeNEFind","v":0},"=",{"$error":"#N/A"},"x",298,"=",{"$error":"#N/A"},"=",{"$error":"#N/A"}]
[null,"Motor Gasoline",{"$error":"#N/A"},"-",null,"x",{"$f":"MotorGasNEFind","v":0},"=",{"$error":"#N/A"},"x",298,"=",{"$error":"#N/A"},"=",{"$error":"#N/A"}]
[null,"Motor Gasoline Blending Components",{"$error":"#N/A"},"-",null,"x",{"$f":"MoGasBlendNEFind","v":0},"=",{"$error":"#N/A"},"x",298,"=",{"$error":"#N/A"},"=",{"$error":"#N/A"}]
[null,"Misc. Petro Products",{"$error":"#N/A"},"-",null,"x",{"$f":"MiscNEFind","v":0},"=",{"$error":"#N/A"},"x",298,"=",{"$error":"#N/A"},"=",{"$error":"#N/A"}]
[null,"Petroleum Coke",{"$error":"#N/A"},"-",null,"x",{"$f":"PetCokeNEFind","v":0},"=",{"$error":"#N/A"},"x",298,"=",{"$error":"#N/A"},"=",{"$error":"#N/A"}]
[null,"Pentanes Plus",{"$error":"#N/A"},"-",null,"x",{"$f":"pentanesNEFind","v":0},"=",{"$error":"#N/A"},"x",298,"=",{"$error":"#N/A"},"=",{"$error":"#N/A"}]
[null,"Residual Fuel",{"$error":"#N/A"},"-",null,"x",{"$f":"ResidNEFind","v":0},"=",{"$error":"#N/A"},"x",298,"=",{"$error":"#N/A"},"=",{"$error":"#N/A"}]
[null,"Still Gas",{"$error":"#N/A"},"-",null,"x",{"$f":"StillNEFind","v":0},"=",{"$error":"#N/A"},"x",298,"=",{"$error":"#N/A"},"=",{"$error":"#N/A"}]
[null,"Special Naphthas",{"$error":"#N/A"},"-",null,"x",{"$f":"SpecialNEFind","v":0},"=",{"$error":"#N/A"},"x",298,"=",{"$error":"#N/A"},"=",{"$error":"#N/A"}]
[null,"Unfinished Oils",{"$error":"#N/A"},"-",null,"x",{"$f":"UnfinNEFind","v":0},"=",{"$error":"#N/A"},"x",298,"=",{"$error":"#N/A"},"=",{"$error":"#N/A"}]
[null,"Waxes",{"$error":"#N/A"},"-",null,"x",{"$f":"WaxesNEFind","v":0},"=",{"$error":"#N/A"},"x",298,"=",{"$error":"#N/A"},"=",{"$error":"#N/A"}]
[null,"Natural Gas",{"$error":"#N/A"},"-",null,"x",{"$f":"NatGasNEFind","v":0},"=",{"$error":"#N/A"},"x",298,"=",{"$error":"#N/A"},"=",{"$error":"#N/A"}]
[null,"Wood",{"$error":"#N/A"},"-","NA","x",{"$f":"WoodNEFind","v":0},"=",{"$f":"C539*G539","v":{"$error":"#N/A"}},"x",298,"=",{"$error":"#N/A"},"=",{"$error":"#N/A"}]
[null,"Other",{"$f":"VLOOKUP($B$2&$D$2&$C$2&$D$2&$B540,ConsumeBlock3,E513-1987,FALSE)","v":0},"-",null,"x",{"$f":"OtherNEFind","v":0},"=",{"$f":"(C540-E540)*G540","v":0},"x",298,"=",0,"=",0]
[null,null,null,null,null,null,null,null,null,null,"Total","=",{"$f":"SUM(M517:M540)","v":{"$error":"#N/A"}},"=",{"$error":"#N/A"}]
[]
[null,"Industrial Sector N2O",null,null,{"$f":"E513+1","v":2008}]
[null,null,"Total ",null,"Non-Energy "]
[null,null,"Consumption",null,"Consumption",null,"Emission Factor",null,"Emissions",null,"GWP",null,"Emissions ",null,"Emissions "]
[null,"Fuel Type","(Billion Btu)",null,"(Billion Btu)",null,"(metric tons N2O/BBtu)",null,"(metric tons N2O)",null,null,null,"(MMTCE)",null,"(MMTCO2E)"]
[null,"Coking Coal",{"$f":"VLOOKUP($B$2&$D$2&$C$2&$D$2&$B547,ConsumeBlock3,E543-1987,FALSE)","v":{"$error":"#N/A"}},"-",null,"x",{"$f":"CokeCoalNEFind","v":0},"=",{"$f":"(C547-E547)*G547","v":{"$error":"#N/A"}},"x",{"$f":"GWPN2O","v":298},"=",{"$f":"I547*K547*CO2_C/(10^6)","v":{"$error":"#N/A"}},"=",{"$f":"M547/CO2_C","v":{"$error":"#N/A"}}]
[null,"Other Coal",{"$f":"IF(VLOOKUP($B$2&$D$2&$C$2&$D$2&$B548,ConsumeBlock3,$E543-1987,FALSE)-VLOOKUP($E$2,SyntheticNG,$E543-1988,FALSE)<0,0,VLOOKUP($B$2&$D$2&$C$2&$D$2&$B548,ConsumeBlock3,$E543-1987,FALSE)-VLOOKUP($E$2,SyntheticNG,$E543-1988,FALSE))","v":{"$error":"#N/A"}},"-",null,"x",{"$f":"OtherCoalNEFind","v":0},"=",{"$f":"(C548-E548)*G548","v":{"$error":"#N/A"}},"x",{"$f":"GWPN2O","v":298},"=",{"$f":"I548*K548*CO2_C/(10^6)","v":{"$error":"#N/A"}},"=",{"$error":"#N/A"}]
[null,"Asphalt and Road Oil",{"$f":"VLOOKUP($B$2&$D$2&$C$2&$D$2&$B549,ConsumeBlock3,21,FALSE)","v":{"$error":"#N/A"}},"-",null,"x",{"$f":"AsphaltNEFind","v":0},"=",{"$error":"#N/A"},"x",298,"=",{"$error":"#N/A"},"=",{"$error":"#N/A"}]
[null,"Aviation Gasoline Blending Components",{"$error":"#N/A"},"-",null,"x",{"$f":"AvGasBlendNEFind","v":0},"=",{"$error":"#N/A"},"x",298,"=",{"$error":"#N/A"},"=",{"$error":"#N/A"}]
[null,"Crude Oil",{"$error":"#N/A"},"-",null,"x",{"$f":"CrudeNEFind","v":0},"=",{"$error":"#N/A"},"x",298,"=",{"$error":"#N/A"},"=",{"$error":"#N/A"}]
[null,"Distillate Fuel",{"$error":"#N/A"},"-",null,"x",{"$f":"DistillNEFind","v":0},"=",{"$error":"#N/A"},"x",298,"=",{"$error":"#N/A"},"=",{"$error":"#N/A"}]
[null,"Feedstocks, Naphtha less than 401 F",{"$error":"#N/A"},"-",null,"x",{"$f":"NaphNEFind","v":0},"=",{"$error":"#N/A"},"x",298,"=",{"$error":"#N/A"},"=",{"$error":"#N/A"}]
[null,"Feedstocks, Other Oils greater than 401 F",{"$error":"#N/A"},"-",null,"x",{"$f":"OtherOilNEFind","v":0},"=",{"$error":"#N/A"},"x",298,"=",{"$error":"#N/A"},"=",{"$error":"#N/A"}]
[null,"Kerosene",{"$error":"#N/A"},"-",null,"x",{"$f":"KeroNEFind","v":0},"=",{"$error":"#N/A"},"x",298,"=",{"$error":"#N/A"},"=",{"$error":"#N/A"}]
[null,"LPG",{"$error":"#N/A"},"-",null,"x",{"$f":"LPGNEFind","v":0},"=",{"$error":"#N/A"},"x",298,"=",{"$error":"#N/A"},"=",{"$error":"#N/A"}]
[null,"Lubricants",{"$error":"#N/A"},"-",null,"x",{"$f":"LubeNEFind","v":0},"=",{"$error":"#N/A"},"x",298,"=",{"$error":"#N/A"},"=",{"$error":"#N/A"}]
[null,"Motor Gasoline",{"$error":"#N/A"},"-",null,"x",{"$f":"MotorGasNEFind","v":0},"=",{"$error":"#N/A"},"x",298,"=",{"$error":"#N/A"},"=",{"$error":"#N/A"}]
[null,"Motor Gasoline Blending Components",{"$error":"#N/A"},"-",null,"x",{"$f":"MoGasBlendNEFind","v":0},"=",{"$error":"#N/A"},"x",298,"=",{"$error":"#N/A"},"=",{"$error":"#N/A"}]
[null,"Misc. Petro Products",{"$error":"#N/A"},"-",null,"x",{"$f":"MiscNEFind","v":0},"=",{"$error":"#N/A"},"x",298,"=",{"$error":"#N/A"},"=",{"$error":"#N/A"}]
[null,"Petroleum Coke",{"$error":"#N/A"},"-",null,"x",{"$f":"PetCokeNEFind","v":0},"=",{"$error":"#N/A"},"x",298,"=",{"$error":"#N/A"},"=",{"$error":"#N/A"}]
[null,"Pentanes Plus",{"$error":"#N/A"},"-",null,"x",{"$f":"pentanesNEFind","v":0},"=",{"$error":"#N/A"},"x",298,"=",{"$error":"#N/A"},"=",{"$error":"#N/A"}]
[null,"Residual Fuel",{"$error":"#N/A"},"-",null,"x",{"$f":"ResidNEFind","v":0},"=",{"$error":"#N/A"},"x",298,"=",{"$error":"#N/A"},"=",{"$error":"#N/A"}]
[null,"Still Gas",{"$error":"#N/A"},"-",null,"x",{"$f":"StillNEFind","v":0},"=",{"$error":"#N/A"},"x",298,"=",{"$error":"#N/A"},"=",{"$error":"#N/A"}]
[null,"Special Naphthas",{"$error":"#N/A"},"-",null,"x",{"$f":"SpecialNEFind","v":0},"=",{"$error":"#N/A"},"x",298,"=",{"$error":"#N/A"},"=",{"$error":"#N/A"}]
[null,"Unfinished Oils",{"$error":"#N/A"},"-",null,"x",{"$f":"UnfinNEFind","v":0},"=",{"$error":"#N/A"},"x",298,"=",{"$error":"#N/A"},"=",{"$error":"#N/A"}]
[null,"Waxes",{"$error":"#N/A"},"-",null,"x",{"$f":"WaxesNEFind","v":0},"=",{"$error":"#N/A"},"x",298,"=",{"$error":"#N/A"},"=",{"$error":"#N/A"}]
[null,"Natural Gas",{"$error":"#N/A"},"-",null,"x",{"$f":"NatGasNEFind","v":0},"=",{"$error":"#N/A"},"x",298,"=",{"$error":"#N/A"},"=",{"$error":"#N/A"}]
[null,"Wood",{"$error":"#N/A"},"-","NA","x",{"$f":"WoodNEFind","v":0},"=",{"$f":"C569*G569","v":{"$error":"#N/A"}},"x",298,"=",{"$error":"#N/A"},"=",{"$error":"#N/A"}]
[null,"Other",{"$f":"VLOOKUP($B$2&$D$2&$C$2&$D$2&$B570,ConsumeBlock3,E543-1987,FALSE)","v":0},"-",null,"x",{"$f":"OtherNEFind","v":0},"=",{"$f":"(C570-E570)*G570","v":0},"x",298,"=",0,"=",0]
[null,null,null,null,null,null,null,null,null,null,"Total","=",{"$f":"SUM(M547:M570)","v":{"$error":"#N/A"}},"=",{"$error":"#N/A"}]
[]
[null,"Industrial Sector N2O",null,null,{"$f":"E543+1","v":2009}]
[null,null,"Total ",null,"Non-Energy "]
[null,null,"Consumption",null,"Consumption",null,"Emission Factor",null,"Emissions",null,"GWP",null,"Emissions ",null,"Emissions "]
[null,"Fuel Type","(Billion Btu)",null,"(Billion Btu)",null,"(metric tons N2O/BBtu)",null,"(metric tons N2O)",null,null,null,"(MMTCE)",null,"(MMTCO2E)"]
[null,"Coking Coal",{"$f":"VLOOKUP($B$2&$D$2&$C$2&$D$2&$B577,ConsumeBlock3,E573-1987,FALSE)","v":{"$error":"#N/A"}},"-",null,"x",{"$f":"CokeCoalNEFind","v":0},"=",{"$f":"(C577-E577)*G577","v":{"$error":"#N/A"}},"x",{"$f":"GWPN2O","v":298},"=",{"$f":"I577*K577*CO2_C/(10^6)","v":{"$error":"#N/A"}},"=",{"$f":"M577/CO2_C","v":{"$error":"#N/A"}}]
[null,"Other Coal",{"$f":"IF(VLOOKUP($B$2&$D$2&$C$2&$D$2&$B578,ConsumeBlock3,$E573-1987,FALSE)-VLOOKUP($E$2,SyntheticNG,$E573-1988,FALSE)<0,0,VLOOKUP($B$2&$D$2&$C$2&$D$2&$B578,ConsumeBlock3,$E573-1987,FALSE)-VLOOKUP($E$2,SyntheticNG,$E573-1988,FALSE))","v":{"$error":"#N/A"}},"-",null,"x",{"$f":"OtherCoalNEFind","v":0},"=",{"$f":"(C578-E578)*G578","v":{"$error":"#N/A"}},"x",{"$f":"GWPN2O","v":298},"=",{"$f":"I578*K578*CO2_C/(10^6)","v":{"$error":"#N/A"}},"=",{"$error":"#N/A"}]
[null,"Asphalt and Road Oil",{"$f":"VLOOKUP($B$2&$D$2&$C$2&$D$2&$B579,ConsumeBlock3,22,FALSE)","v":{"$error":"#N/A"}},"-",null,"x",{"$f":"AsphaltNEFind","v":0},"=",{"$error":"#N/A"},"x",298,"=",{"$error":"#N/A"},"=",{"$error":"#N/A"}]
[null,"Aviation Gasoline Blending Components",{"$error":"#N/A"},"-",null,"x",{"$f":"AvGasBlendNEFind","v":0},"=",{"$error":"#N/A"},"x",298,"=",{"$error":"#N/A"},"=",{"$error":"#N/A"}]
[null,"Crude Oil",{"$error":"#N/A"},"-",null,"x",{"$f":"CrudeNEFind","v":0},"=",{"$error":"#N/A"},"x",298,"=",{"$error":"#N/A"},"=",{"$error":"#N/A"}]
[null,"Distillate Fuel",{"$error":"#N/A"},"-",null,"x",{"$f":"DistillNEFind","v":0},"=",{"$error":"#N/A"},"x",298,"=",{"$error":"#N/A"},"=",{"$error":"#N/A"}]
[null,"Feedstocks, Naphtha less than 401 F",{"$error":"#N/A"},"-",null,"x",{"$f":"NaphNEFind","v":0},"=",{"$error":"#N/A"},"x",298,"=",{"$error":"#N/A"},"=",{"$error":"#N/A"}]
[null,"Feedstocks, Other Oils greater than 401 F",{"$error":"#N/A"},"-",null,"x",{"$f":"OtherOilNEFind","v":0},"=",{"$error":"#N/A"},"x",298,"=",{"$error":"#N/A"},"=",{"$error":"#N/A"}]
[null,"Kerosene",{"$error":"#N/A"},"-",null,"x",{"$f":"KeroNEFind","v":0},"=",{"$error":"#N/A"},"x",298,"=",{"$error":"#N/A"},"=",{"$error":"#N/A"}]
[null,"LPG",{"$error":"#N/A"},"-",null,"x",{"$f":"LPGNEFind","v":0},"=",{"$error":"#N/A"},"x",298,"=",{"$error":"#N/A"},"=",{"$error":"#N/A"}]
[null,"Lubricants",{"$error":"#N/A"},"-",null,"x",{"$f":"LubeNEFind","v":0},"=",{"$error":"#N/A"},"x",298,"=",{"$error":"#N/A"},"=",{"$error":"#N/A"}]
[null,"Motor Gasoline",{"$error":"#N/A"},"-",null,"x",{"$f":"MotorGasNEFind","v":0},"=",{"$error":"#N/A"},"x",298,"=",{"$error":"#N/A"},"=",{"$error":"#N/A"}]
[null,"Motor Gasoline Blending Components",{"$error":"#N/A"},"-",null,"x",{"$f":"MoGasBlendNEFind","v":0},"=",{"$error":"#N/A"},"x",298,"=",{"$error":"#N/A"},"=",{"$error":"#N/A"}]
[null,"Misc. Petro Products",{"$error":"#N/A"},"-",null,"x",{"$f":"MiscNEFind","v":0},"=",{"$error":"#N/A"},"x",298,"=",{"$error":"#N/A"},"=",{"$error":"#N/A"}]
[null,"Petroleum Coke",{"$error":"#N/A"},"-",null,"x",{"$f":"PetCokeNEFind","v":0},"=",{"$error":"#N/A"},"x",298,"=",{"$error":"#N/A"},"=",{"$error":"#N/A"}]
[null,"Pentanes Plus",{"$error":"#N/A"},"-",null,"x",{"$f":"pentanesNEFind","v":0},"=",{"$error":"#N/A"},"x",298,"=",{"$error":"#N/A"},"=",{"$error":"#N/A"}]
[null,"Residual Fuel",{"$error":"#N/A"},"-",null,"x",{"$f":"ResidNEFind","v":0},"=",{"$error":"#N/A"},"x",298,"=",{"$error":"#N/A"},"=",{"$error":"#N/A"}]
[null,"Still Gas",{"$error":"#N/A"},"-",null,"x",{"$f":"StillNEFind","v":0},"=",{"$error":"#N/A"},"x",298,"=",{"$error":"#N/A"},"=",{"$error":"#N/A"}]
[null,"Special Naphthas",{"$error":"#N/A"},"-",null,"x",{"$f":"SpecialNEFind","v":0},"=",{"$error":"#N/A"},"x",298,"=",{"$error":"#N/A"},"=",{"$error":"#N/A"}]
[null,"Unfinished Oils",{"$error":"#N/A"},"-",null,"x",{"$f":"UnfinNEFind","v":0},"=",{"$error":"#N/A"},"x",298,"=",{"$error":"#N/A"},"=",{"$error":"#N/A"}]
[null,"Waxes",{"$error":"#N/A"},"-",null,"x",{"$f":"WaxesNEFind","v":0},"=",{"$error":"#N/A"},"x",298,"=",{"$error":"#N/A"},"=",{"$error":"#N/A"}]
[null,"Natural Gas",{"$error":"#N/A"},"-",null,"x",{"$f":"NatGasNEFind","v":0},"=",{"$error":"#N/A"},"x",298,"=",{"$error":"#N/A"},"=",{"$error":"#N/A"}]
[null,"Wood",{"$error":"#N/A"},"-","NA","x",{"$f":"WoodNEFind","v":0},"=",{"$f":"C599*G599","v":{"$error":"#N/A"}},"x",298,"=",{"$error":"#N/A"},"=",{"$error":"#N/A"}]
[null,"Other",{"$f":"VLOOKUP($B$2&$D$2&$C$2&$D$2&$B600,ConsumeBlock3,E573-1987,FALSE)","v":0},"-",null,"x",{"$f":"OtherNEFind","v":0},"=",{"$f":"(C600-E600)*G600","v":0},"x",298,"=",0,"=",0]
[null,null,null,null,null,null,null,null,null,null,"Total","=",{"$f":"SUM(M577:M600)","v":{"$error":"#N/A"}},"=",{"$error":"#N/A"}]
[]
[null,"Industrial Sector N2O",null,null,{"$f":"E573+1","v":2010}]
[null,null,"Total ",null,"Non-Energy "]
[null,null,"Consumption",null,"Consumption",null,"Emission Factor",null,"Emissions",null,"GWP",null,"Emissions ",null,"Emissions "]
[null,"Fuel Type","(Billion Btu)",null,"(Billion Btu)",null,"(metric tons N2O/BBtu)",null,"(metric tons N2O)",null,null,null,"(MMTCE)",null,"(MMTCO2E)"]
[null,"Coking Coal",{"$f":"VLOOKUP($B$2&$D$2&$C$2&$D$2&$B607,ConsumeBlock3,E603-1987,FALSE)","v":{"$error":"#N/A"}},"-",null,"x",{"$f":"CokeCoalNEFind","v":0},"=",{"$f":"(C607-E607)*G607","v":{"$error":"#N/A"}},"x",{"$f":"GWPN2O","v":298},"=",{"$f":"I607*K607*CO2_C/(10^6)","v":{"$error":"#N/A"}},"=",{"$f":"M607/CO2_C","v":{"$error":"#N/A"}}]
[null,"Other Coal",{"$f":"IF(VLOOKUP($B$2&$D$2&$C$2&$D$2&$B608,ConsumeBlock3,$E603-1987,FALSE)-VLOOKUP($E$2,SyntheticNG,$E603-1988,FALSE)<0,0,VLOOKUP($B$2&$D$2&$C$2&$D$2&$B608,ConsumeBlock3,$E603-1987,FALSE)-VLOOKUP($E$2,SyntheticNG,$E603-1988,FALSE))","v":{"$error":"#N/A"}},"-",null,"x",{"$f":"OtherCoalNEFind","v":0},"=",{"$f":"(C608-E608)*G608","v":{"$error":"#N/A"}},"x",{"$f":"GWPN2O","v":298},"=",{"$f":"I608*K608*CO2_C/(10^6)","v":{"$error":"#N/A"}},"=",{"$error":"#N/A"}]
[null,"Asphalt and Road Oil",{"$f":"VLOOKUP($B$2&$D$2&$C$2&$D$2&$B609,ConsumeBlock3,23,FALSE)","v":{"$error":"#N/A"}},"-",null,"x",{"$f":"AsphaltNEFind","v":0},"=",{"$error":"#N/A"},"x",298,"=",{"$error":"#N/A"},"=",{"$error":"#N/A"}]
[null,"Aviation Gasoline Blending Components",{"$error":"#N/A"},"-",null,"x",{"$f":"AvGasBlendNEFind","v":0},"=",{"$error":"#N/A"},"x",298,"=",{"$error":"#N/A"},"=",{"$error":"#N/A"}]
[null,"Crude Oil",{"$error":"#N/A"},"-",null,"x",{"$f":"CrudeNEFind","v":0},"=",{"$error":"#N/A"},"x",298,"=",{"$error":"#N/A"},"=",{"$error":"#N/A"}]
[null,"Distillate Fuel",{"$error":"#N/A"},"-",null,"x",{"$f":"DistillNEFind","v":0},"=",{"$error":"#N/A"},"x",298,"=",{"$error":"#N/A"},"=",{"$error":"#N/A"}]
[null,"Feedstocks, Naphtha less than 401 F",{"$error":"#N/A"},"-",null,"x",{"$f":"NaphNEFind","v":0},"=",{"$error":"#N/A"},"x",298,"=",{"$error":"#N/A"},"=",{"$error":"#N/A"}]
[null,"Feedstocks, Other Oils greater than 401 F",{"$error":"#N/A"},"-",null,"x",{"$f":"OtherOilNEFind","v":0},"=",{"$error":"#N/A"},"x",298,"=",{"$error":"#N/A"},"=",{"$error":"#N/A"}]
[null,"Kerosene",{"$error":"#N/A"},"-",null,"x",{"$f":"KeroNEFind","v":0},"=",{"$error":"#N/A"},"x",298,"=",{"$error":"#N/A"},"=",{"$error":"#N/A"}]
[null,"LPG",{"$error":"#N/A"},"-",null,"x",{"$f":"LPGNEFind","v":0},"=",{"$error":"#N/A"},"x",298,"=",{"$error":"#N/A"},"=",{"$error":"#N/A"}]
[null,"Lubricants",{"$error":"#N/A"},"-",null,"x",{"$f":"LubeNEFind","v":0},"=",{"$error":"#N/A"},"x",298,"=",{"$error":"#N/A"},"=",{"$error":"#N/A"}]
[null,"Motor Gasoline",{"$error":"#N/A"},"-",null,"x",{"$f":"MotorGasNEFind","v":0},"=",{"$error":"#N/A"},"x",298,"=",{"$error":"#N/A"},"=",{"$error":"#N/A"}]
[null,"Motor Gasoline Blending Components",{"$error":"#N/A"},"-",null,"x",{"$f":"MoGasBlendNEFind","v":0},"=",{"$error":"#N/A"},"x",298,"=",{"$error":"#N/A"},"=",{"$error":"#N/A"}]
[null,"Misc. Petro Products",{"$error":"#N/A"},"-",null,"x",{"$f":"MiscNEFind","v":0},"=",{"$error":"#N/A"},"x",298,"=",{"$error":"#N/A"},"=",{"$error":"#N/A"}]
[null,"Petroleum Coke",{"$error":"#N/A"},"-",null,"x",{"$f":"PetCokeNEFind","v":0},"=",{"$error":"#N/A"},"x",298,"=",{"$error":"#N/A"},"=",{"$error":"#N/A"}]
[null,"Pentanes Plus",{"$error":"#N/A"},"-",null,"x",{"$f":"pentanesNEFind","v":0},"=",{"$error":"#N/A"},"x",298,"=",{"$error":"#N/A"},"=",{"$error":"#N/A"}]
[null,"Residual Fuel",{"$error":"#N/A"},"-",null,"x",{"$f":"ResidNEFind","v":0},"=",{"$error":"#N/A"},"x",298,"=",{"$error":"#N/A"},"=",{"$error":"#N/A"}]
[null,"Still Gas",{"$error":"#N/A"},"-",null,"x",{"$f":"StillNEFind","v":0},"=",{"$error":"#N/A"},"x",298,"=",{"$error":"#N/A"},"=",{"$error":"#N/A"}]
[null,"Special Naphthas",{"$error":"#N/A"},"-",null,"x",{"$f":"SpecialNEFind","v":0},"=",{"$error":"#N/A"},"x",298,"=",{"$error":"#N/A"},"=",{"$error":"#N/A"}]
[null,"Unfinished Oils",{"$error":"#N/A"},"-",null,"x",{"$f":"UnfinNEFind","v":0},"=",{"$error":"#N/A"},"x",298,"=",{"$error":"#N/A"},"=",{"$error":"#N/A"}]
[null,"Waxes",{"$error":"#N/A"},"-",null,"x",{"$f":"WaxesNEFind","v":0},"=",{"$error":"#N/A"},"x",298,"=",{"$error":"#N/A"},"=",{"$error":"#N/A"}]
[null,"Natural Gas",{"$error":"#N/A"},"-",null,"x",{"$f":"NatGasNEFind","v":0},"=",{"$error":"#N/A"},"x",298,"=",{"$error":"#N/A"},"=",{"$error":"#N/A"}]
[null,"Wood",{"$error":"#N/A"},"-","NA","x",{"$f":"WoodNEFind","v":0},"=",{"$f":"C629*G629","v":{"$error":"#N/A"}},"x",298,"=",{"$error":"#N/A"},"=",{"$error":"#N/A"}]
[null,"Other",{"$f":"VLOOKUP($B$2&$D$2&$C$2&$D$2&$B630,ConsumeBlock3,E603-1987,FALSE)","v":0},"-",null,"x",{"$f":"OtherNEFind","v":0},"=",{"$f":"(C630-E630)*G630","v":0},"x",298,"=",0,"=",0]
[null,null,null,null,null,null,null,null,null,null,"Total","=",{"$f":"SUM(M607:M630)","v":{"$error":"#N/A"}},"=",{"$error":"#N/A"}]
[]
[null,"Industrial Sector N2O",null,null,{"$f":"E603+1","v":2011}]
[null,null,"Total ",null,"Non-Energy "]
[null,null,"Consumption",null,"Consumption",null,"Emission Factor",null,"Emissions",null,"GWP",null,"Emissions ",null,"Emissions "]
[null,"Fuel Type","(Billion Btu)",null,"(Billion Btu)",null,"(metric tons N2O/BBtu)",null,"(metric tons N2O)",null,null,null,"(MMTCE)",null,"(MMTCO2E)"]
[null,"Coking Coal",{"$f":"VLOOKUP($B$2&$D$2&$C$2&$D$2&$B637,ConsumeBlock3,E633-1987,FALSE)","v":{"$error":"#N/A"}},"-",null,"x",{"$f":"CokeCoalNEFind","v":0},"=",{"$f":"(C637-E637)*G637","v":{"$error":"#N/A"}},"x",{"$f":"GWPN2O","v":298},"=",{"$f":"I637*K637*CO2_C/(10^6)","v":{"$error":"#N/A"}},"=",{"$f":"M637/CO2_C","v":{"$error":"#N/A"}}]
[null,"Other Coal",{"$f":"IF(VLOOKUP($B$2&$D$2&$C$2&$D$2&$B638,ConsumeBlock3,$E633-1987,FALSE)-VLOOKUP($E$2,SyntheticNG,$E633-1988,FALSE)<0,0,VLOOKUP($B$2&$D$2&$C$2&$D$2&$B638,ConsumeBlock3,$E633-1987,FALSE)-VLOOKUP($E$2,SyntheticNG,$E633-1988,FALSE))","v":{"$error":"#N/A"}},"-",null,"x",{"$f":"OtherCoalNEFind","v":0},"=",{"$f":"(C638-E638)*G638","v":{"$error":"#N/A"}},"x",{"$f":"GWPN2O","v":298},"=",{"$f":"I638*K638*CO2_C/(10^6)","v":{"$error":"#N/A"}},"=",{"$error":"#N/A"}]
[null,"Asphalt and Road Oil",{"$f":"VLOOKUP($B$2&$D$2&$C$2&$D$2&$B639,ConsumeBlock3,24,FALSE)","v":{"$error":"#N/A"}},"-",null,"x",{"$f":"AsphaltNEFind","v":0},"=",{"$error":"#N/A"},"x",298,"=",{"$error":"#N/A"},"=",{"$error":"#N/A"}]
[null,"Aviation Gasoline Blending Components",{"$error":"#N/A"},"-",null,"x",{"$f":"AvGasBlendNEFind","v":0},"=",{"$error":"#N/A"},"x",298,"=",{"$error":"#N/A"},"=",{"$error":"#N/A"}]
[null,"Crude Oil",{"$error":"#N/A"},"-",null,"x",{"$f":"CrudeNEFind","v":0},"=",{"$error":"#N/A"},"x",298,"=",{"$error":"#N/A"},"=",{"$error":"#N/A"}]
[null,"Distillate Fuel",{"$error":"#N/A"},"-",null,"x",{"$f":"DistillNEFind","v":0},"=",{"$error":"#N/A"},"x",298,"=",{"$error":"#N/A"},"=",{"$error":"#N/A"}]
[null,"Feedstocks, Naphtha less than 401 F",{"$error":"#N/A"},"-",null,"x",{"$f":"NaphNEFind","v":0},"=",{"$error":"#N/A"},"x",298,"=",{"$error":"#N/A"},"=",{"$error":"#N/A"}]
[null,"Feedstocks, Other Oils greater than 401 F",{"$error":"#N/A"},"-",null,"x",{"$f":"OtherOilNEFind","v":0},"=",{"$error":"#N/A"},"x",298,"=",{"$error":"#N/A"},"=",{"$error":"#N/A"}]
[null,"Kerosene",{"$error":"#N/A"},"-",null,"x",{"$f":"KeroNEFind","v":0},"=",{"$error":"#N/A"},"x",298,"=",{"$error":"#N/A"},"=",{"$error":"#N/A"}]
[null,"LPG",{"$error":"#N/A"},"-",null,"x",{"$f":"LPGNEFind","v":0},"=",{"$error":"#N/A"},"x",298,"=",{"$error":"#N/A"},"=",{"$error":"#N/A"}]
[null,"Lubricants",{"$error":"#N/A"},"-",null,"x",{"$f":"LubeNEFind","v":0},"=",{"$error":"#N/A"},"x",298,"=",{"$error":"#N/A"},"=",{"$error":"#N/A"}]
[null,"Motor Gasoline",{"$error":"#N/A"},"-",null,"x",{"$f":"MotorGasNEFind","v":0},"=",{"$error":"#N/A"},"x",298,"=",{"$error":"#N/A"},"=",{"$error":"#N/A"}]
[null,"Motor Gasoline Blending Components",{"$error":"#N/A"},"-",null,"x",{"$f":"MoGasBlendNEFind","v":0},"=",{"$error":"#N/A"},"x",298,"=",{"$error":"#N/A"},"=",{"$error":"#N/A"}]
[null,"Misc. Petro Products",{"$error":"#N/A"},"-",null,"x",{"$f":"MiscNEFind","v":0},"=",{"$error":"#N/A"},"x",298,"=",{"$error":"#N/A"},"=",{"$error":"#N/A"}]
[null,"Petroleum Coke",{"$error":"#N/A"},"-",null,"x",{"$f":"PetCokeNEFind","v":0},"=",{"$error":"#N/A"},"x",298,"=",{"$error":"#N/A"},"=",{"$error":"#N/A"}]
[null,"Pentanes Plus",{"$error":"#N/A"},"-",null,"x",{"$f":"pentanesNEFind","v":0},"=",{"$error":"#N/A"},"x",298,"=",{"$error":"#N/A"},"=",{"$error":"#N/A"}]
[null,"Residual Fuel",{"$error":"#N/A"},"-",null,"x",{"$f":"ResidNEFind","v":0},"=",{"$error":"#N/A"},"x",298,"=",{"$error":"#N/A"},"=",{"$error":"#N/A"}]
[null,"Still Gas",{"$error":"#N/A"},"-",null,"x",{"$f":"StillNEFind","v":0},"=",{"$error":"#N/A"},"x",298,"=",{"$error":"#N/A"},"=",{"$error":"#N/A"}]
[null,"Special Naphthas",{"$error":"#N/A"},"-",null,"x",{"$f":"SpecialNEFind","v":0},"=",{"$error":"#N/A"},"x",298,"=",{"$error":"#N/A"},"=",{"$error":"#N/A"}]
[null,"Unfinished Oils",{"$error":"#N/A"},"-",null,"x",{"$f":"UnfinNEFind","v":0},"=",{"$error":"#N/A"},"x",298,"=",{"$error":"#N/A"},"=",{"$error":"#N/A"}]
[null,"Waxes",{"$error":"#N/A"},"-",null,"x",{"$f":"WaxesNEFind","v":0},"=",{"$error":"#N/A"},"x",298,"=",{"$error":"#N/A"},"=",{"$error":"#N/A"}]
[null,"Natural Gas",{"$error":"#N/A"},"-",null,"x",{"$f":"NatGasNEFind","v":0},"=",{"$error":"#N/A"},"x",298,"=",{"$error":"#N/A"},"=",{"$error":"#N/A"}]
[null,"Wood",{"$error":"#N/A"},"-","NA","x",{"$f":"WoodNEFind","v":0},"=",{"$f":"C659*G659","v":{"$error":"#N/A"}},"x",298,"=",{"$error":"#N/A"},"=",{"$error":"#N/A"}]
[null,"Other",{"$f":"VLOOKUP($B$2&$D$2&$C$2&$D$2&$B660,ConsumeBlock3,E633-1987,FALSE)","v":0},"-",null,"x",{"$f":"OtherNEFind","v":0},"=",{"$f":"(C660-E660)*G660","v":0},"x",298,"=",0,"=",0]
[null,null,null,null,null,null,null,null,null,null,"Total","=",{"$f":"SUM(M637:M660)","v":{"$error":"#N/A"}},"=",{"$error":"#N/A"}]
[]
[null,"Industrial Sector N2O",null,null,{"$f":"E633+1","v":2012}]
[null,null,"Total ",null,"Non-Energy "]
[null,null,"Consumption",null,"Consumption",null,"Emission Factor",null,"Emissions",null,"GWP",null,"Emissions ",null,"Emissions "]
[null,"Fuel Type","(Billion Btu)",null,"(Billion Btu)",null,"(metric tons N2O/BBtu)",null,"(metric tons N2O)",null,null,null,"(MMTCE)",null,"(MMTCO2E)"]
[null,"Coking Coal",{"$f":"VLOOKUP($B$2&$D$2&$C$2&$D$2&$B667,ConsumeBlock3,E663-1987,FALSE)","v":{"$error":"#N/A"}},"-",null,"x",{"$f":"CokeCoalNEFind","v":0},"=",{"$f":"(C667-E667)*G667","v":{"$error":"#N/A"}},"x",{"$f":"GWPN2O","v":298},"=",{"$f":"I667*K667*CO2_C/(10^6)","v":{"$error":"#N/A"}},"=",{"$f":"M667/CO2_C","v":{"$error":"#N/A"}}]
[null,"Other Coal",{"$f":"IF(VLOOKUP($B$2&$D$2&$C$2&$D$2&$B668,ConsumeBlock3,$E663-1987,FALSE)-VLOOKUP($E$2,SyntheticNG,$E663-1988,FALSE)<0,0,VLOOKUP($B$2&$D$2&$C$2&$D$2&$B668,ConsumeBlock3,$E663-1987,FALSE)-VLOOKUP($E$2,SyntheticNG,$E663-1988,FALSE))","v":{"$error":"#N/A"}},"-",null,"x",{"$f":"OtherCoalNEFind","v":0},"=",{"$f":"(C668-E668)*G668","v":{"$error":"#N/A"}},"x",{"$f":"GWPN2O","v":298},"=",{"$f":"I668*K668*CO2_C/(10^6)","v":{"$error":"#N/A"}},"=",{"$error":"#N/A"}]
[null,"Asphalt and Road Oil",{"$f":"VLOOKUP($B$2&$D$2&$C$2&$D$2&$B669,ConsumeBlock3,25,FALSE)","v":{"$error":"#N/A"}},"-",null,"x",{"$f":"AsphaltNEFind","v":0},"=",{"$error":"#N/A"},"x",298,"=",{"$error":"#N/A"},"=",{"$error":"#N/A"}]
[null,"Aviation Gasoline Blending Components",{"$error":"#N/A"},"-",null,"x",{"$f":"AvGasBlendNEFind","v":0},"=",{"$error":"#N/A"},"x",298,"=",{"$error":"#N/A"},"=",{"$error":"#N/A"}]
[null,"Crude Oil",{"$error":"#N/A"},"-",null,"x",{"$f":"CrudeNEFind","v":0},"=",{"$error":"#N/A"},"x",298,"=",{"$error":"#N/A"},"=",{"$error":"#N/A"}]
[null,"Distillate Fuel",{"$error":"#N/A"},"-",null,"x",{"$f":"DistillNEFind","v":0},"=",{"$error":"#N/A"},"x",298,"=",{"$error":"#N/A"},"=",{"$error":"#N/A"}]
[null,"Feedstocks, Naphtha less than 401 F",{"$error":"#N/A"},"-",null,"x",{"$f":"NaphNEFind","v":0},"=",{"$error":"#N/A"},"x",298,"=",{"$error":"#N/A"},"=",{"$error":"#N/A"}]
[null,"Feedstocks, Other Oils greater than 401 F",{"$error":"#N/A"},"-",null,"x",{"$f":"OtherOilNEFind","v":0},"=",{"$error":"#N/A"},"x",298,"=",{"$error":"#N/A"},"=",{"$error":"#N/A"}]
[null,"Kerosene",{"$error":"#N/A"},"-",null,"x",{"$f":"KeroNEFind","v":0},"=",{"$error":"#N/A"},"x",298,"=",{"$error":"#N/A"},"=",{"$error":"#N/A"}]
[null,"LPG",{"$error":"#N/A"},"-",null,"x",{"$f":"LPGNEFind","v":0},"=",{"$error":"#N/A"},"x",298,"=",{"$error":"#N/A"},"=",{"$error":"#N/A"}]
[null,"Lubricants",{"$error":"#N/A"},"-",null,"x",{"$f":"LubeNEFind","v":0},"=",{"$error":"#N/A"},"x",298,"=",{"$error":"#N/A"},"=",{"$error":"#N/A"}]
[null,"Motor Gasoline",{"$error":"#N/A"},"-",null,"x",{"$f":"MotorGasNEFind","v":0},"=",{"$error":"#N/A"},"x",298,"=",{"$error":"#N/A"},"=",{"$error":"#N/A"}]
[null,"Motor Gasoline Blending Components",{"$error":"#N/A"},"-",null,"x",{"$f":"MoGasBlendNEFind","v":0},"=",{"$error":"#N/A"},"x",298,"=",{"$error":"#N/A"},"=",{"$error":"#N/A"}]
[null,"Misc. Petro Products",{"$error":"#N/A"},"-",null,"x",{"$f":"MiscNEFind","v":0},"=",{"$error":"#N/A"},"x",298,"=",{"$error":"#N/A"},"=",{"$error":"#N/A"}]
[null,"Petroleum Coke",{"$error":"#N/A"},"-",null,"x",{"$f":"PetCokeNEFind","v":0},"=",{"$error":"#N/A"},"x",298,"=",{"$error":"#N/A"},"=",{"$error":"#N/A"}]
[null,"Pentanes Plus",{"$error":"#N/A"},"-",null,"x",{"$f":"pentanesNEFind","v":0},"=",{"$error":"#N/A"},"x",298,"=",{"$error":"#N/A"},"=",{"$error":"#N/A"}]
[null,"Residual Fuel",{"$error":"#N/A"},"-",null,"x",{"$f":"ResidNEFind","v":0},"=",{"$error":"#N/A"},"x",298,"=",{"$error":"#N/A"},"=",{"$error":"#N/A"}]
[null,"Still Gas",{"$error":"#N/A"},"-",null,"x",{"$f":"StillNEFind","v":0},"=",{"$error":"#N/A"},"x",298,"=",{"$error":"#N/A"},"=",{"$error":"#N/A"}]
[null,"Special Naphthas",{"$error":"#N/A"},"-",null,"x",{"$f":"SpecialNEFind","v":0},"=",{"$error":"#N/A"},"x",298,"=",{"$error":"#N/A"},"=",{"$error":"#N/A"}]
[null,"Unfinished Oils",{"$error":"#N/A"},"-",null,"x",{"$f":"UnfinNEFind","v":0},"=",{"$error":"#N/A"},"x",298,"=",{"$error":"#N/A"},"=",{"$error":"#N/A"}]
[null,"Waxes",{"$error":"#N/A"},"-",null,"x",{"$f":"WaxesNEFind","v":0},"=",{"$error":"#N/A"},"x",298,"=",{"$error":"#N/A"},"=",{"$error":"#N/A"}]
[null,"Natural Gas",{"$error":"#N/A"},"-",null,"x",{"$f":"NatGasNEFind","v":0},"=",{"$error":"#N/A"},"x",298,"=",{"$error":"#N/A"},"=",{"$error":"#N/A"}]
[null,"Wood",{"$error":"#N/A"},"-","NA","x",{"$f":"WoodNEFind","v":0},"=",{"$f":"C689*G689","v":{"$error":"#N/A"}},"x",298,"=",{"$error":"#N/A"},"=",{"$error":"#N/A"}]
[null,"Other",{"$f":"VLOOKUP($B$2&$D$2&$C$2&$D$2&$B690,ConsumeBlock3,E663-1987,FALSE)","v":0},"-",null,"x",{"$f":"OtherNEFind","v":0},"=",{"$f":"(C690-E690)*G690","v":0},"x",298,"=",0,"=",0]
[null,null,null,null,null,null,null,null,null,null,"Total","=",{"$f":"SUM(M667:M690)","v":{"$error":"#N/A"}},"=",{"$error":"#N/A"}]
[]
[null,"Industrial Sector N2O",null,null,{"$f":"E663+1","v":2013}]
[null,null,"Total ",null,"Non-Energy "]
[null,null,"Consumption",null,"Consumption",null,"Emission Factor",null,"Emissions",null,"GWP",null,"Emissions ",null,"Emissions "]
[null,"Fuel Type","(Billion Btu)",null,"(Billion Btu)",null,"(metric tons N2O/BBtu)",null,"(metric tons N2O)",null,null,null,"(MMTCE)",null,"(MMTCO2E)"]
[null,"Coking Coal",{"$f":"VLOOKUP($B$2&$D$2&$C$2&$D$2&$B697,ConsumeBlock3,E693-1987,FALSE)","v":{"$error":"#N/A"}},"-",null,"x",{"$f":"CokeCoalNEFind","v":0},"=",{"$f":"(C697-E697)*G697","v":{"$error":"#N/A"}},"x",{"$f":"GWPN2O","v":298},"=",{"$f":"I697*K697*CO2_C/(10^6)","v":{"$error":"#N/A"}},"=",{"$f":"M697/CO2_C","v":{"$error":"#N/A"}}]
[null,"Other Coal",{"$f":"IF(VLOOKUP($B$2&$D$2&$C$2&$D$2&$B698,ConsumeBlock3,$E693-1987,FALSE)-VLOOKUP($E$2,SyntheticNG,$E693-1988,FALSE)<0,0,VLOOKUP($B$2&$D$2&$C$2&$D$2&$B698,ConsumeBlock3,$E693-1987,FALSE)-VLOOKUP($E$2,SyntheticNG,$E693-1988,FALSE))","v":{"$error":"#N/A"}},"-",null,"x",{"$f":"OtherCoalNEFind","v":0},"=",{"$f":"(C698-E698)*G698","v":{"$error":"#N/A"}},"x",{"$f":"GWPN2O","v":298},"=",{"$f":"I698*K698*CO2_C/(10^6)","v":{"$error":"#N/A"}},"=",{"$error":"#N/A"}]
[null,"Asphalt and Road Oil",{"$f":"VLOOKUP($B$2&$D$2&$C$2&$D$2&$B699,ConsumeBlock3,26,FALSE)","v":{"$error":"#N/A"}},"-",null,"x",{"$f":"AsphaltNEFind","v":0},"=",{"$error":"#N/A"},"x",298,"=",{"$error":"#N/A"},"=",{"$error":"#N/A"}]
[null,"Aviation Gasoline Blending Components",{"$error":"#N/A"},"-",null,"x",{"$f":"AvGasBlendNEFind","v":0},"=",{"$error":"#N/A"},"x",298,"=",{"$error":"#N/A"},"=",{"$error":"#N/A"}]
[null,"Crude Oil",{"$error":"#N/A"},"-",null,"x",{"$f":"CrudeNEFind","v":0},"=",{"$error":"#N/A"},"x",298,"=",{"$error":"#N/A"},"=",{"$error":"#N/A"}]
[null,"Distillate Fuel",{"$error":"#N/A"},"-",null,"x",{"$f":"DistillNEFind","v":0},"=",{"$error":"#N/A"},"x",298,"=",{"$error":"#N/A"},"=",{"$error":"#N/A"}]
[null,"Feedstocks, Naphtha less than 401 F",{"$error":"#N/A"},"-",null,"x",{"$f":"NaphNEFind","v":0},"=",{"$error":"#N/A"},"x",298,"=",{"$error":"#N/A"},"=",{"$error":"#N/A"}]
[null,"Feedstocks, Other Oils greater than 401 F",{"$error":"#N/A"},"-",null,"x",{"$f":"OtherOilNEFind","v":0},"=",{"$error":"#N/A"},"x",298,"=",{"$error":"#N/A"},"=",{"$error":"#N/A"}]
[null,"Kerosene",{"$error":"#N/A"},"-",null,"x",{"$f":"KeroNEFind","v":0},"=",{"$error":"#N/A"},"x",298,"=",{"$error":"#N/A"},"=",{"$error":"#N/A"}]
[null,"LPG",{"$error":"#N/A"},"-",null,"x",{"$f":"LPGNEFind","v":0},"=",{"$error":"#N/A"},"x",298,"=",{"$error":"#N/A"},"=",{"$error":"#N/A"}]
[null,"Lubricants",{"$error":"#N/A"},"-",null,"x",{"$f":"LubeNEFind","v":0},"=",{"$error":"#N/A"},"x",298,"=",{"$error":"#N/A"},"=",{"$error":"#N/A"}]
[null,"Motor Gasoline",{"$error":"#N/A"},"-",null,"x",{"$f":"MotorGasNEFind","v":0},"=",{"$error":"#N/A"},"x",298,"=",{"$error":"#N/A"},"=",{"$error":"#N/A"}]
[null,"Motor Gasoline Blending Components",{"$error":"#N/A"},"-",null,"x",{"$f":"MoGasBlendNEFind","v":0},"=",{"$error":"#N/A"},"x",298,"=",{"$error":"#N/A"},"=",{"$error":"#N/A"}]
[null,"Misc. Petro Products",{"$error":"#N/A"},"-",null,"x",{"$f":"MiscNEFind","v":0},"=",{"$error":"#N/A"},"x",298,"=",{"$error":"#N/A"},"=",{"$error":"#N/A"}]
[null,"Petroleum Coke",{"$error":"#N/A"},"-",null,"x",{"$f":"PetCokeNEFind","v":0},"=",{"$error":"#N/A"},"x",298,"=",{"$error":"#N/A"},"=",{"$error":"#N/A"}]
[null,"Pentanes Plus",{"$error":"#N/A"},"-",null,"x",{"$f":"pentanesNEFind","v":0},"=",{"$error":"#N/A"},"x",298,"=",{"$error":"#N/A"},"=",{"$error":"#N/A"}]
[null,"Residual Fuel",{"$error":"#N/A"},"-",null,"x",{"$f":"ResidNEFind","v":0},"=",{"$error":"#N/A"},"x",298,"=",{"$error":"#N/A"},"=",{"$error":"#N/A"}]
[null,"Still Gas",{"$error":"#N/A"},"-",null,"x",{"$f":"StillNEFind","v":0},"=",{"$error":"#N/A"},"x",298,"=",{"$error":"#N/A"},"=",{"$error":"#N/A"}]
[null,"Special Naphthas",{"$error":"#N/A"},"-",null,"x",{"$f":"SpecialNEFind","v":0},"=",{"$error":"#N/A"},"x",298,"=",{"$error":"#N/A"},"=",{"$error":"#N/A"}]
[null,"Unfinished Oils",{"$error":"#N/A"},"-",null,"x",{"$f":"UnfinNEFind","v":0},"=",{"$error":"#N/A"},"x",298,"=",{"$error":"#N/A"},"=",{"$error":"#N/A"}]
[null,"Waxes",{"$error":"#N/A"},"-",null,"x",{"$f":"WaxesNEFind","v":0},"=",{"$error":"#N/A"},"x",298,"=",{"$error":"#N/A"},"=",{"$error":"#N/A"}]
[null,"Natural Gas",{"$error":"#N/A"},"-",null,"x",{"$f":"NatGasNEFind","v":0},"=",{"$error":"#N/A"},"x",298,"=",{"$error":"#N/A"},"=",{"$error":"#N/A"}]
[null,"Wood",{"$error":"#N/A"},"-","NA","x",{"$f":"WoodNEFind","v":0},"=",{"$f":"C719*G719","v":{"$error":"#N/A"}},"x",298,"=",{"$error":"#N/A"},"=",{"$error":"#N/A"}]
[null,"Other",{"$f":"VLOOKUP($B$2&$D$2&$C$2&$D$2&$B720,ConsumeBlock3,E693-1987,FALSE)","v":0},"-",null,"x",{"$f":"OtherNEFind","v":0},"=",{"$f":"(C720-E720)*G720","v":0},"x",298,"=",0,"=",0]
[null,null,null,null,null,null,null,null,null,null,"Total","=",{"$f":"SUM(M697:M720)","v":{"$error":"#N/A"}},"=",{"$error":"#N/A"}]
[]
[null,"Industrial Sector N2O",null,null,{"$f":"E693+1","v":2014}]
[null,null,"Total ",null,"Non-Energy "]
[null,null,"Consumption",null,"Consumption",null,"Emission Factor",null,"Emissions",null,"GWP",null,"Emissions ",null,"Emissions "]
[null,"Fuel Type","(Billion Btu)",null,"(Billion Btu)",null,"(metric tons N2O/BBtu)",null,"(metric tons N2O)",null,null,null,"(MMTCE)",null,"(MMTCO2E)"]
[null,"Coking Coal",{"$f":"VLOOKUP($B$2&$D$2&$C$2&$D$2&$B727,ConsumeBlock3,E723-1987,FALSE)","v":{"$error":"#N/A"}},"-",null,"x",{"$f":"CokeCoalNEFind","v":0},"=",{"$f":"(C727-E727)*G727","v":{"$error":"#N/A"}},"x",{"$f":"GWPN2O","v":298},"=",{"$f":"I727*K727*CO2_C/(10^6)","v":{"$error":"#N/A"}},"=",{"$f":"M727/CO2_C","v":{"$error":"#N/A"}}]
[null,"Other Coal",{"$f":"IF(VLOOKUP($B$2&$D$2&$C$2&$D$2&$B728,ConsumeBlock3,$E723-1987,FALSE)-VLOOKUP($E$2,SyntheticNG,$E723-1988,FALSE)<0,0,VLOOKUP($B$2&$D$2&$C$2&$D$2&$B728,ConsumeBlock3,$E723-1987,FALSE)-VLOOKUP($E$2,SyntheticNG,$E723-1988,FALSE))","v":{"$error":"#N/A"}},"-",null,"x",{"$f":"OtherCoalNEFind","v":0},"=",{"$f":"(C728-E728)*G728","v":{"$error":"#N/A"}},"x",{"$f":"GWPN2O","v":298},"=",{"$f":"I728*K728*CO2_C/(10^6)","v":{"$error":"#N/A"}},"=",{"$error":"#N/A"}]
[null,"Asphalt and Road Oil",{"$f":"VLOOKUP($B$2&$D$2&$C$2&$D$2&$B729,ConsumeBlock3,27,FALSE)","v":{"$error":"#N/A"}},"-",null,"x",{"$f":"AsphaltNEFind","v":0},"=",{"$error":"#N/A"},"x",298,"=",{"$error":"#N/A"},"=",{"$error":"#N/A"}]
[null,"Aviation Gasoline Blending Components",{"$error":"#N/A"},"-",null,"x",{"$f":"AvGasBlendNEFind","v":0},"=",{"$error":"#N/A"},"x",298,"=",{"$error":"#N/A"},"=",{"$error":"#N/A"}]
[null,"Crude Oil",{"$error":"#N/A"},"-",null,"x",{"$f":"CrudeNEFind","v":0},"=",{"$error":"#N/A"},"x",298,"=",{"$error":"#N/A"},"=",{"$error":"#N/A"}]
[null,"Distillate Fuel",{"$error":"#N/A"},"-",null,"x",{"$f":"DistillNEFind","v":0},"=",{"$error":"#N/A"},"x",298,"=",{"$error":"#N/A"},"=",{"$error":"#N/A"}]
[null,"Feedstocks, Naphtha less than 401 F",{"$error":"#N/A"},"-",null,"x",{"$f":"NaphNEFind","v":0},"=",{"$error":"#N/A"},"x",298,"=",{"$error":"#N/A"},"=",{"$error":"#N/A"}]
[null,"Feedstocks, Other Oils greater than 401 F",{"$error":"#N/A"},"-",null,"x",{"$f":"OtherOilNEFind","v":0},"=",{"$error":"#N/A"},"x",298,"=",{"$error":"#N/A"},"=",{"$error":"#N/A"}]
[null,"Kerosene",{"$error":"#N/A"},"-",null,"x",{"$f":"KeroNEFind","v":0},"=",{"$error":"#N/A"},"x",298,"=",{"$error":"#N/A"},"=",{"$error":"#N/A"}]
[null,"LPG",{"$error":"#N/A"},"-",null,"x",{"$f":"LPGNEFind","v":0},"=",{"$error":"#N/A"},"x",298,"=",{"$error":"#N/A"},"=",{"$error":"#N/A"}]
[null,"Lubricants",{"$error":"#N/A"},"-",null,"x",{"$f":"LubeNEFind","v":0},"=",{"$error":"#N/A"},"x",298,"=",{"$error":"#N/A"},"=",{"$error":"#N/A"}]
[null,"Motor Gasoline",{"$error":"#N/A"},"-",null,"x",{"$f":"MotorGasNEFind","v":0},"=",{"$error":"#N/A"},"x",298,"=",{"$error":"#N/A"},"=",{"$error":"#N/A"}]
[null,"Motor Gasoline Blending Components",{"$error":"#N/A"},"-",null,"x",{"$f":"MoGasBlendNEFind","v":0},"=",{"$error":"#N/A"},"x",298,"=",{"$error":"#N/A"},"=",{"$error":"#N/A"}]
[null,"Misc. Petro Products",{"$error":"#N/A"},"-",null,"x",{"$f":"MiscNEFind","v":0},"=",{"$error":"#N/A"},"x",298,"=",{"$error":"#N/A"},"=",{"$error":"#N/A"}]
[null,"Petroleum Coke",{"$error":"#N/A"},"-",null,"x",{"$f":"PetCokeNEFind","v":0},"=",{"$error":"#N/A"},"x",298,"=",{"$error":"#N/A"},"=",{"$error":"#N/A"}]
[null,"Pentanes Plus",{"$error":"#N/A"},"-",null,"x",{"$f":"pentanesNEFind","v":0},"=",{"$error":"#N/A"},"x",298,"=",{"$error":"#N/A"},"=",{"$error":"#N/A"}]
[null,"Residual Fuel",{"$error":"#N/A"},"-",null,"x",{"$f":"ResidNEFind","v":0},"=",{"$error":"#N/A"},"x",298,"=",{"$error":"#N/A"},"=",{"$error":"#N/A"}]
[null,"Still Gas",{"$error":"#N/A"},"-",null,"x",{"$f":"StillNEFind","v":0},"=",{"$error":"#N/A"},"x",298,"=",{"$error":"#N/A"},"=",{"$error":"#N/A"}]
[null,"Special Naphthas",{"$error":"#N/A"},"-",null,"x",{"$f":"SpecialNEFind","v":0},"=",{"$error":"#N/A"},"x",298,"=",{"$error":"#N/A"},"=",{"$error":"#N/A"}]
[null,"Unfinished Oils",{"$error":"#N/A"},"-",null,"x",{"$f":"UnfinNEFind","v":0},"=",{"$error":"#N/A"},"x",298,"=",{"$error":"#N/A"},"=",{"$error":"#N/A"}]
[null,"Waxes",{"$error":"#N/A"},"-",null,"x",{"$f":"WaxesNEFind","v":0},"=",{"$error":"#N/A"},"x",298,"=",{"$error":"#N/A"},"=",{"$error":"#N/A"}]
[null,"Natural Gas",{"$error":"#N/A"},"-",null,"x",{"$f":"NatGasNEFind","v":0},"=",{"$error":"#N/A"},"x",298,"=",{"$error":"#N/A"},"=",{"$error":"#N/A"}]
[null,"Wood",{"$error":"#N/A"},"-","NA","x",{"$f":"WoodNEFind","v":0},"=",{"$f":"C749*G749","v":{"$error":"#N/A"}},"x",298,"=",{"$error":"#N/A"},"=",{"$error":"#N/A"}]
[null,"Other",{"$f":"VLOOKUP($B$2&$D$2&$C$2&$D$2&$B750,ConsumeBlock3,E723-1987,FALSE)","v":0},"-",null,"x",{"$f":"OtherNEFind","v":0},"=",{"$f":"(C750-E750)*G750","v":0},"x",298,"=",0,"=",0]
[null,null,null,null,null,null,null,null,null,null,"Total","=",{"$f":"SUM(M727:M750)","v":{"$error":"#N/A"}},"=",{"$error":"#N/A"}]
[]
[null,"Industrial Sector N2O",null,null,{"$f":"E723+1","v":2015}]
[null,null,"Total ",null,"Non-Energy "]
[null,null,"Consumption",null,"Consumption",null,"Emission Factor",null,"Emissions",null,"GWP",null,"Emissions ",null,"Emissions "]
[null,"Fuel Type","(Billion Btu)",null,"(Billion Btu)",null,"(metric tons N2O/BBtu)",null,"(metric tons N2O)",null,null,null,"(MMTCE)",null,"(MMTCO2E)"]
[null,"Coking Coal",{"$f":"VLOOKUP($B$2&$D$2&$C$2&$D$2&$B757,ConsumeBlock3,E753-1987,FALSE)","v":{"$error":"#N/A"}},"-",null,"x",{"$f":"CokeCoalNEFind","v":0},"=",{"$f":"(C757-E757)*G757","v":{"$error":"#N/A"}},"x",{"$f":"GWPN2O","v":298},"=",{"$f":"I757*K757*CO2_C/(10^6)","v":{"$error":"#N/A"}},"=",{"$f":"M757/CO2_C","v":{"$error":"#N/A"}}]
[null,"Other Coal",{"$f":"IF(VLOOKUP($B$2&$D$2&$C$2&$D$2&$B758,ConsumeBlock3,$E753-1987,FALSE)-VLOOKUP($E$2,SyntheticNG,$E753-1988,FALSE)<0,0,VLOOKUP($B$2&$D$2&$C$2&$D$2&$B758,ConsumeBlock3,$E753-1987,FALSE)-VLOOKUP($E$2,SyntheticNG,$E753-1988,FALSE))","v":{"$error":"#N/A"}},"-",null,"x",{"$f":"OtherCoalNEFind","v":0},"=",{"$f":"(C758-E758)*G758","v":{"$error":"#N/A"}},"x",{"$f":"GWPN2O","v":298},"=",{"$f":"I758*K758*CO2_C/(10^6)","v":{"$error":"#N/A"}},"=",{"$error":"#N/A"}]
[null,"Asphalt and Road Oil",{"$f":"VLOOKUP($B$2&$D$2&$C$2&$D$2&$B759,ConsumeBlock3,28,FALSE)","v":{"$error":"#N/A"}},"-",null,"x",{"$f":"AsphaltNEFind","v":0},"=",{"$error":"#N/A"},"x",298,"=",{"$error":"#N/A"},"=",{"$error":"#N/A"}]
[null,"Aviation Gasoline Blending Components",{"$error":"#N/A"},"-",null,"x",{"$f":"AvGasBlendNEFind","v":0},"=",{"$error":"#N/A"},"x",298,"=",{"$error":"#N/A"},"=",{"$error":"#N/A"}]
[null,"Crude Oil",{"$error":"#N/A"},"-",null,"x",{"$f":"CrudeNEFind","v":0},"=",{"$error":"#N/A"},"x",298,"=",{"$error":"#N/A"},"=",{"$error":"#N/A"}]
[null,"Distillate Fuel",{"$error":"#N/A"},"-",null,"x",{"$f":"DistillNEFind","v":0},"=",{"$error":"#N/A"},"x",298,"=",{"$error":"#N/A"},"=",{"$error":"#N/A"}]
[null,"Feedstocks, Naphtha less than 401 F",{"$error":"#N/A"},"-",null,"x",{"$f":"NaphNEFind","v":0},"=",{"$error":"#N/A"},"x",298,"=",{"$error":"#N/A"},"=",{"$error":"#N/A"}]
[null,"Feedstocks, Other Oils greater than 401 F",{"$error":"#N/A"},"-",null,"x",{"$f":"OtherOilNEFind","v":0},"=",{"$error":"#N/A"},"x",298,"=",{"$error":"#N/A"},"=",{"$error":"#N/A"}]
[null,"Kerosene",{"$error":"#N/A"},"-",null,"x",{"$f":"KeroNEFind","v":0},"=",{"$error":"#N/A"},"x",298,"=",{"$error":"#N/A"},"=",{"$error":"#N/A"}]
[null,"LPG",{"$error":"#N/A"},"-",null,"x",{"$f":"LPGNEFind","v":0},"=",{"$error":"#N/A"},"x",298,"=",{"$error":"#N/A"},"=",{"$error":"#N/A"}]
[null,"Lubricants",{"$error":"#N/A"},"-",null,"x",{"$f":"LubeNEFind","v":0},"=",{"$error":"#N/A"},"x",298,"=",{"$error":"#N/A"},"=",{"$error":"#N/A"}]
[null,"Motor Gasoline",{"$error":"#N/A"},"-",null,"x",{"$f":"MotorGasNEFind","v":0},"=",{"$error":"#N/A"},"x",298,"=",{"$error":"#N/A"},"=",{"$error":"#N/A"}]
[null,"Motor Gasoline Blending Components",{"$error":"#N/A"},"-",null,"x",{"$f":"MoGasBlendNEFind","v":0},"=",{"$error":"#N/A"},"x",298,"=",{"$error":"#N/A"},"=",{"$error":"#N/A"}]
[null,"Misc. Petro Products",{"$error":"#N/A"},"-",null,"x",{"$f":"MiscNEFind","v":0},"=",{"$error":"#N/A"},"x",298,"=",{"$error":"#N/A"},"=",{"$error":"#N/A"}]
[null,"Petroleum Coke",{"$error":"#N/A"},"-",null,"x",{"$f":"PetCokeNEFind","v":0},"=",{"$error":"#N/A"},"x",298,"=",{"$error":"#N/A"},"=",{"$error":"#N/A"}]
[null,"Pentanes Plus",{"$error":"#N/A"},"-",null,"x",{"$f":"pentanesNEFind","v":0},"=",{"$error":"#N/A"},"x",298,"=",{"$error":"#N/A"},"=",{"$error":"#N/A"}]
[null,"Residual Fuel",{"$error":"#N/A"},"-",null,"x",{"$f":"ResidNEFind","v":0},"=",{"$error":"#N/A"},"x",298,"=",{"$error":"#N/A"},"=",{"$error":"#N/A"}]
[null,"Still Gas",{"$error":"#N/A"},"-",null,"x",{"$f":"StillNEFind","v":0},"=",{"$error":"#N/A"},"x",298,"=",{"$error":"#N/A"},"=",{"$error":"#N/A"}]
[null,"Special Naphthas",{"$error":"#N/A"},"-",null,"x",{"$f":"SpecialNEFind","v":0},"=",{"$error":"#N/A"},"x",298,"=",{"$error":"#N/A"},"=",{"$error":"#N/A"}]
[null,"Unfinished Oils",{"$error":"#N/A"},"-",null,"x",{"$f":"UnfinNEFind","v":0},"=",{"$error":"#N/A"},"x",298,"=",{"$error":"#N/A"},"=",{"$error":"#N/A"}]
[null,"Waxes",{"$error":"#N/A"},"-",null,"x",{"$f":"WaxesNEFind","v":0},"=",{"$error":"#N/A"},"x",298,"=",{"$error":"#N/A"},"=",{"$error":"#N/A"}]
[null,"Natural Gas",{"$error":"#N/A"},"-",null,"x",{"$f":"NatGasNEFind","v":0},"=",{"$error":"#N/A"},"x",298,"=",{"$error":"#N/A"},"=",{"$error":"#N/A"}]
[null,"Wood",{"$error":"#N/A"},"-","NA","x",{"$f":"WoodNEFind","v":0},"=",{"$f":"C779*G779","v":{"$error":"#N/A"}},"x",298,"=",{"$error":"#N/A"},"=",{"$error":"#N/A"}]
[null,"Other",{"$f":"VLOOKUP($B$2&$D$2&$C$2&$D$2&$B780,ConsumeBlock3,E753-1987,FALSE)","v":0},"-",null,"x",{"$f":"OtherNEFind","v":0},"=",{"$f":"(C780-E780)*G780","v":0},"x",298,"=",0,"=",0]
[null,null,null,null,null,null,null,null,null,null,"Total","=",{"$f":"SUM(M757:M780)","v":{"$error":"#N/A"}},"=",{"$error":"#N/A"}]
[]
[null,"Industrial Sector N2O",null,null,{"$f":"E753+1","v":2016}]
[null,null,"Total ",null,"Non-Energy "]
[null,null,"Consumption",null,"Consumption",null,"Emission Factor",null,"Emissions",null,"GWP",null,"Emissions ",null,"Emissions "]
[null,"Fuel Type","(Billion Btu)",null,"(Billion Btu)",null,"(metric tons N2O/BBtu)",null,"(metric tons N2O)",null,null,null,"(MMTCE)",null,"(MMTCO2E)"]
[null,"Coking Coal",{"$f":"VLOOKUP($B$2&$D$2&$C$2&$D$2&$B787,ConsumeBlock3,E783-1987,FALSE)","v":{"$error":"#N/A"}},"-",null,"x",{"$f":"CokeCoalNEFind","v":0},"=",{"$f":"(C787-E787)*G787","v":{"$error":"#N/A"}},"x",{"$f":"GWPN2O","v":298},"=",{"$f":"I787*K787*CO2_C/(10^6)","v":{"$error":"#N/A"}},"=",{"$f":"M787/CO2_C","v":{"$error":"#N/A"}}]
[null,"Other Coal",{"$f":"IF(VLOOKUP($B$2&$D$2&$C$2&$D$2&$B788,ConsumeBlock3,$E783-1987,FALSE)-VLOOKUP($E$2,SyntheticNG,$E783-1988,FALSE)<0,0,VLOOKUP($B$2&$D$2&$C$2&$D$2&$B788,ConsumeBlock3,$E783-1987,FALSE)-VLOOKUP($E$2,SyntheticNG,$E783-1988,FALSE))","v":{"$error":"#N/A"}},"-",null,"x",{"$f":"OtherCoalNEFind","v":0},"=",{"$f":"(C788-E788)*G788","v":{"$error":"#N/A"}},"x",{"$f":"GWPN2O","v":298},"=",{"$f":"I788*K788*CO2_C/(10^6)","v":{"$error":"#N/A"}},"=",{"$error":"#N/A"}]
[null,"Asphalt and Road Oil",{"$f":"VLOOKUP($B$2&$D$2&$C$2&$D$2&$B789,ConsumeBlock3,29,FALSE)","v":{"$error":"#N/A"}},"-",null,"x",{"$f":"AsphaltNEFind","v":0},"=",{"$error":"#N/A"},"x",298,"=",{"$error":"#N/A"},"=",{"$error":"#N/A"}]
[null,"Aviation Gasoline Blending Components",{"$error":"#N/A"},"-",null,"x",{"$f":"AvGasBlendNEFind","v":0},"=",{"$error":"#N/A"},"x",298,"=",{"$error":"#N/A"},"=",{"$error":"#N/A"}]
[null,"Crude Oil",{"$error":"#N/A"},"-",null,"x",{"$f":"CrudeNEFind","v":0},"=",{"$error":"#N/A"},"x",298,"=",{"$error":"#N/A"},"=",{"$error":"#N/A"}]
[null,"Distillate Fuel",{"$error":"#N/A"},"-",null,"x",{"$f":"DistillNEFind","v":0},"=",{"$error":"#N/A"},"x",298,"=",{"$error":"#N/A"},"=",{"$error":"#N/A"}]
[null,"Feedstocks, Naphtha less than 401 F",{"$error":"#N/A"},"-",null,"x",{"$f":"NaphNEFind","v":0},"=",{"$error":"#N/A"},"x",298,"=",{"$error":"#N/A"},"=",{"$error":"#N/A"}]
[null,"Feedstocks, Other Oils greater than 401 F",{"$error":"#N/A"},"-",null,"x",{"$f":"OtherOilNEFind","v":0},"=",{"$error":"#N/A"},"x",298,"=",{"$error":"#N/A"},"=",{"$error":"#N/A"}]
[null,"Kerosene",{"$error":"#N/A"},"-",null,"x",{"$f":"KeroNEFind","v":0},"=",{"$error":"#N/A"},"x",298,"=",{"$error":"#N/A"},"=",{"$error":"#N/A"}]
[null,"LPG",{"$error":"#N/A"},"-",null,"x",{"$f":"LPGNEFind","v":0},"=",{"$error":"#N/A"},"x",298,"=",{"$error":"#N/A"},"=",{"$error":"#N/A"}]
[null,"Lubricants",{"$error":"#N/A"},"-",null,"x",{"$f":"LubeNEFind","v":0},"=",{"$error":"#N/A"},"x",298,"=",{"$error":"#N/A"},"=",{"$error":"#N/A"}]
[null,"Motor Gasoline",{"$error":"#N/A"},"-",null,"x",{"$f":"MotorGasNEFind","v":0},"=",{"$error":"#N/A"},"x",298,"=",{"$error":"#N/A"},"=",{"$error":"#N/A"}]
[null,"Motor Gasoline Blending Components",{"$error":"#N/A"},"-",null,"x",{"$f":"MoGasBlendNEFind","v":0},"=",{"$error":"#N/A"},"x",298,"=",{"$error":"#N/A"},"=",{"$error":"#N/A"}]
[null,"Misc. Petro Products",{"$error":"#N/A"},"-",null,"x",{"$f":"MiscNEFind","v":0},"=",{"$error":"#N/A"},"x",298,"=",{"$error":"#N/A"},"=",{"$error":"#N/A"}]
[null,"Petroleum Coke",{"$error":"#N/A"},"-",null,"x",{"$f":"PetCokeNEFind","v":0},"=",{"$error":"#N/A"},"x",298,"=",{"$error":"#N/A"},"=",{"$error":"#N/A"}]
[null,"Pentanes Plus",{"$error":"#N/A"},"-",null,"x",{"$f":"pentanesNEFind","v":0},"=",{"$error":"#N/A"},"x",298,"=",{"$error":"#N/A"},"=",{"$error":"#N/A"}]
[null,"Residual Fuel",{"$error":"#N/A"},"-",null,"x",{"$f":"ResidNEFind","v":0},"=",{"$error":"#N/A"},"x",298,"=",{"$error":"#N/A"},"=",{"$error":"#N/A"}]
[null,"Still Gas",{"$error":"#N/A"},"-",null,"x",{"$f":"StillNEFind","v":0},"=",{"$error":"#N/A"},"x",298,"=",{"$error":"#N/A"},"=",{"$error":"#N/A"}]
[null,"Special Naphthas",{"$error":"#N/A"},"-",null,"x",{"$f":"SpecialNEFind","v":0},"=",{"$error":"#N/A"},"x",298,"=",{"$error":"#N/A"},"=",{"$error":"#N/A"}]
[null,"Unfinished Oils",{"$error":"#N/A"},"-",null,"x",{"$f":"UnfinNEFind","v":0},"=",{"$error":"#N/A"},"x",298,"=",{"$error":"#N/A"},"=",{"$error":"#N/A"}]
[null,"Waxes",{"$error":"#N/A"},"-",null,"x",{"$f":"WaxesNEFind","v":0},"=",{"$error":"#N/A"},"x",298,"=",{"$error":"#N/A"},"=",{"$error":"#N/A"}]
[null,"Natural Gas",{"$error":"#N/A"},"-",null,"x",{"$f":"NatGasNEFind","v":0},"=",{"$error":"#N/A"},"x",298,"=",{"$error":"#N/A"},"=",{"$error":"#N/A"}]
[null,"Wood",{"$error":"#N/A"},"-","NA","x",{"$f":"WoodNEFind","v":0},"=",{"$f":"C809*G809","v":{"$error":"#N/A"}},"x",298,"=",{"$error":"#N/A"},"=",{"$error":"#N/A"}]
[null,"Other",{"$f":"VLOOKUP($B$2&$D$2&$C$2&$D$2&$B810,ConsumeBlock3,E783-1987,FALSE)","v":0},"-",null,"x",{"$f":"OtherNEFind","v":0},"=",{"$f":"(C810-E810)*G810","v":0},"x",298,"=",0,"=",0]
[null,null,null,null,null,null,null,null,null,null,"Total","=",{"$f":"SUM(M787:M810)","v":{"$error":"#N/A"}},"=",{"$error":"#N/A"}]
[]
[null,"Industrial Sector N2O",null,null,{"$f":"E783+1","v":2017}]
[null,null,"Total ",null,"Non-Energy "]
[null,null,"Consumption",null,"Consumption",null,"Emission Factor",null,"Emissions",null,"GWP",null,"Emissions ",null,"Emissions "]
[null,"Fuel Type","(Billion Btu)",null,"(Billion Btu)",null,"(metric tons N2O/BBtu)",null,"(metric tons N2O)",null,null,null,"(MMTCE)",null,"(MMTCO2E)"]
[null,"Coking Coal",{"$f":"VLOOKUP($B$2&$D$2&$C$2&$D$2&$B817,ConsumeBlock3,E813-1987,FALSE)","v":{"$error":"#N/A"}},"-",null,"x",{"$f":"CokeCoalNEFind","v":0},"=",{"$f":"(C817-E817)*G817","v":{"$error":"#N/A"}},"x",{"$f":"GWPN2O","v":298},"=",{"$f":"I817*K817*CO2_C/(10^6)","v":{"$error":"#N/A"}},"=",{"$f":"M817/CO2_C","v":{"$error":"#N/A"}}]
[null,"Other Coal",{"$f":"IF(VLOOKUP($B$2&$D$2&$C$2&$D$2&$B818,ConsumeBlock3,$E813-1987,FALSE)-VLOOKUP($E$2,SyntheticNG,$E813-1988,FALSE)<0,0,VLOOKUP($B$2&$D$2&$C$2&$D$2&$B818,ConsumeBlock3,$E813-1987,FALSE)-VLOOKUP($E$2,SyntheticNG,$E813-1988,FALSE))","v":{"$error":"#N/A"}},"-",null,"x",{"$f":"OtherCoalNEFind","v":0},"=",{"$f":"(C818-E818)*G818","v":{"$error":"#N/A"}},"x",{"$f":"GWPN2O","v":298},"=",{"$f":"I818*K818*CO2_C/(10^6)","v":{"$error":"#N/A"}},"=",{"$error":"#N/A"}]
[null,"Asphalt and Road Oil",{"$f":"VLOOKUP($B$2&$D$2&$C$2&$D$2&$B819,ConsumeBlock3,30,FALSE)","v":{"$error":"#N/A"}},"-",null,"x",{"$f":"AsphaltNEFind","v":0},"=",{"$error":"#N/A"},"x",298,"=",{"$error":"#N/A"},"=",{"$error":"#N/A"}]
[null,"Aviation Gasoline Blending Components",{"$error":"#N/A"},"-",null,"x",{"$f":"AvGasBlendNEFind","v":0},"=",{"$error":"#N/A"},"x",298,"=",{"$error":"#N/A"},"=",{"$error":"#N/A"}]
[null,"Crude Oil",{"$error":"#N/A"},"-",null,"x",{"$f":"CrudeNEFind","v":0},"=",{"$error":"#N/A"},"x",298,"=",{"$error":"#N/A"},"=",{"$error":"#N/A"}]
[null,"Distillate Fuel",{"$error":"#N/A"},"-",null,"x",{"$f":"DistillNEFind","v":0},"=",{"$error":"#N/A"},"x",298,"=",{"$error":"#N/A"},"=",{"$error":"#N/A"}]
[null,"Feedstocks, Naphtha less than 401 F",{"$error":"#N/A"},"-",null,"x",{"$f":"NaphNEFind","v":0},"=",{"$error":"#N/A"},"x",298,"=",{"$error":"#N/A"},"=",{"$error":"#N/A"}]
[null,"Feedstocks, Other Oils greater than 401 F",{"$error":"#N/A"},"-",null,"x",{"$f":"OtherOilNEFind","v":0},"=",{"$error":"#N/A"},"x",298,"=",{"$error":"#N/A"},"=",{"$error":"#N/A"}]
[null,"Kerosene",{"$error":"#N/A"},"-",null,"x",{"$f":"KeroNEFind","v":0},"=",{"$error":"#N/A"},"x",298,"=",{"$error":"#N/A"},"=",{"$error":"#N/A"}]
[null,"LPG",{"$error":"#N/A"},"-",null,"x",{"$f":"LPGNEFind","v":0},"=",{"$error":"#N/A"},"x",298,"=",{"$error":"#N/A"},"=",{"$error":"#N/A"}]
[null,"Lubricants",{"$error":"#N/A"},"-",null,"x",{"$f":"LubeNEFind","v":0},"=",{"$error":"#N/A"},"x",298,"=",{"$error":"#N/A"},"=",{"$error":"#N/A"}]
[null,"Motor Gasoline",{"$error":"#N/A"},"-",null,"x",{"$f":"MotorGasNEFind","v":0},"=",{"$error":"#N/A"},"x",298,"=",{"$error":"#N/A"},"=",{"$error":"#N/A"}]
[null,"Motor Gasoline Blending Components",{"$error":"#N/A"},"-",null,"x",{"$f":"MoGasBlendNEFind","v":0},"=",{"$error":"#N/A"},"x",298,"=",{"$error":"#N/A"},"=",{"$error":"#N/A"}]
[null,"Misc. Petro Products",{"$error":"#N/A"},"-",null,"x",{"$f":"MiscNEFind","v":0},"=",{"$error":"#N/A"},"x",298,"=",{"$error":"#N/A"},"=",{"$error":"#N/A"}]
[null,"Petroleum Coke",{"$error":"#N/A"},"-",null,"x",{"$f":"PetCokeNEFind","v":0},"=",{"$error":"#N/A"},"x",298,"=",{"$error":"#N/A"},"=",{"$error":"#N/A"}]
[null,"Pentanes Plus",{"$error":"#N/A"},"-",null,"x",{"$f":"pentanesNEFind","v":0},"=",{"$error":"#N/A"},"x",298,"=",{"$error":"#N/A"},"=",{"$error":"#N/A"}]
[null,"Residual Fuel",{"$error":"#N/A"},"-",null,"x",{"$f":"ResidNEFind","v":0},"=",{"$error":"#N/A"},"x",298,"=",{"$error":"#N/A"},"=",{"$error":"#N/A"}]
[null,"Still Gas",{"$error":"#N/A"},"-",null,"x",{"$f":"StillNEFind","v":0},"=",{"$error":"#N/A"},"x",298,"=",{"$error":"#N/A"},"=",{"$error":"#N/A"}]
[null,"Special Naphthas",{"$error":"#N/A"},"-",null,"x",{"$f":"SpecialNEFind","v":0},"=",{"$error":"#N/A"},"x",298,"=",{"$error":"#N/A"},"=",{"$error":"#N/A"}]
[null,"Unfinished Oils",{"$error":"#N/A"},"-",null,"x",{"$f":"UnfinNEFind","v":0},"=",{"$error":"#N/A"},"x",298,"=",{"$error":"#N/A"},"=",{"$error":"#N/A"}]
[null,"Waxes",{"$error":"#N/A"},"-",null,"x",{"$f":"WaxesNEFind","v":0},"=",{"$error":"#N/A"},"x",298,"=",{"$error":"#N/A"},"=",{"$error":"#N/A"}]
[null,"Natural Gas",{"$error":"#N/A"},"-",null,"x",{"$f":"NatGasNEFind","v":0},"=",{"$error":"#N/A"},"x",298,"=",{"$error":"#N/A"},"=",{"$error":"#N/A"}]
[null,"Wood",{"$error":"#N/A"},"-","NA","x",{"$f":"WoodNEFind","v":0},"=",{"$f":"C839*G839","v":{"$error":"#N/A"}},"x",298,"=",{"$error":"#N/A"},"=",{"$error":"#N/A"}]
[null,"Other",{"$f":"VLOOKUP($B$2&$D$2&$C$2&$D$2&$B840,ConsumeBlock3,E813-1987,FALSE)","v":0},"-",null,"x",{"$f":"OtherNEFind","v":0},"=",{"$f":"(C840-E840)*G840","v":0},"x",298,"=",0,"=",0]
[null,null,null,null,null,null,null,null,null,null,"Total","=",{"$f":"SUM(M817:M840)","v":{"$error":"#N/A"}},"=",{"$error":"#N/A"}]
[]
[null,"Industrial Sector N2O",null,null,{"$f":"E813+1","v":2018}]
[null,null,"Total ",null,"Non-Energy "]
[null,null,"Consumption",null,"Consumption",null,"Emission Factor",null,"Emissions",null,"GWP",null,"Emissions ",null,"Emissions "]
[null,"Fuel Type","(Billion Btu)",null,"(Billion Btu)",null,"(metric tons N2O/BBtu)",null,"(metric tons N2O)",null,null,null,"(MMTCE)",null,"(MMTCO2E)"]
[null,"Coking Coal",{"$f":"VLOOKUP($B$2&$D$2&$C$2&$D$2&$B847,ConsumeBlock3,E843-1987,FALSE)","v":{"$error":"#N/A"}},"-",null,"x",{"$f":"CokeCoalNEFind","v":0},"=",{"$f":"(C847-E847)*G847","v":{"$error":"#N/A"}},"x",{"$f":"GWPN2O","v":298},"=",{"$f":"I847*K847*CO2_C/(10^6)","v":{"$error":"#N/A"}},"=",{"$f":"M847/CO2_C","v":{"$error":"#N/A"}}]
[null,"Other Coal",{"$f":"IF(VLOOKUP($B$2&$D$2&$C$2&$D$2&$B848,ConsumeBlock3,$E843-1987,FALSE)-VLOOKUP($E$2,SyntheticNG,$E843-1988,FALSE)<0,0,VLOOKUP($B$2&$D$2&$C$2&$D$2&$B848,ConsumeBlock3,$E843-1987,FALSE)-VLOOKUP($E$2,SyntheticNG,$E843-1988,FALSE))","v":{"$error":"#N/A"}},"-",null,"x",{"$f":"OtherCoalNEFind","v":0},"=",{"$f":"(C848-E848)*G848","v":{"$error":"#N/A"}},"x",{"$f":"GWPN2O","v":298},"=",{"$f":"I848*K848*CO2_C/(10^6)","v":{"$error":"#N/A"}},"=",{"$error":"#N/A"}]
[null,"Asphalt and Road Oil",{"$f":"VLOOKUP($B$2&$D$2&$C$2&$D$2&$B849,ConsumeBlock3,31,FALSE)","v":{"$error":"#N/A"}},"-",null,"x",{"$f":"AsphaltNEFind","v":0},"=",{"$error":"#N/A"},"x",298,"=",{"$error":"#N/A"},"=",{"$error":"#N/A"}]
[null,"Aviation Gasoline Blending Components",{"$error":"#N/A"},"-",null,"x",{"$f":"AvGasBlendNEFind","v":0},"=",{"$error":"#N/A"},"x",298,"=",{"$error":"#N/A"},"=",{"$error":"#N/A"}]
[null,"Crude Oil",{"$error":"#N/A"},"-",null,"x",{"$f":"CrudeNEFind","v":0},"=",{"$error":"#N/A"},"x",298,"=",{"$error":"#N/A"},"=",{"$error":"#N/A"}]
[null,"Distillate Fuel",{"$error":"#N/A"},"-",null,"x",{"$f":"DistillNEFind","v":0},"=",{"$error":"#N/A"},"x",298,"=",{"$error":"#N/A"},"=",{"$error":"#N/A"}]
[null,"Feedstocks, Naphtha less than 401 F",{"$error":"#N/A"},"-",null,"x",{"$f":"NaphNEFind","v":0},"=",{"$error":"#N/A"},"x",298,"=",{"$error":"#N/A"},"=",{"$error":"#N/A"}]
[null,"Feedstocks, Other Oils greater than 401 F",{"$error":"#N/A"},"-",null,"x",{"$f":"OtherOilNEFind","v":0},"=",{"$error":"#N/A"},"x",298,"=",{"$error":"#N/A"},"=",{"$error":"#N/A"}]
[null,"Kerosene",{"$error":"#N/A"},"-",null,"x",{"$f":"KeroNEFind","v":0},"=",{"$error":"#N/A"},"x",298,"=",{"$error":"#N/A"},"=",{"$error":"#N/A"}]
[null,"LPG",{"$error":"#N/A"},"-",null,"x",{"$f":"LPGNEFind","v":0},"=",{"$error":"#N/A"},"x",298,"=",{"$error":"#N/A"},"=",{"$error":"#N/A"}]
[null,"Lubricants",{"$error":"#N/A"},"-",null,"x",{"$f":"LubeNEFind","v":0},"=",{"$error":"#N/A"},"x",298,"=",{"$error":"#N/A"},"=",{"$error":"#N/A"}]
[null,"Motor Gasoline",{"$error":"#N/A"},"-",null,"x",{"$f":"MotorGasNEFind","v":0},"=",{"$error":"#N/A"},"x",298,"=",{"$error":"#N/A"},"=",{"$error":"#N/A"}]
[null,"Motor Gasoline Blending Components",{"$error":"#N/A"},"-",null,"x",{"$f":"MoGasBlendNEFind","v":0},"=",{"$error":"#N/A"},"x",298,"=",{"$error":"#N/A"},"=",{"$error":"#N/A"}]
[null,"Misc. Petro Products",{"$error":"#N/A"},"-",null,"x",{"$f":"MiscNEFind","v":0},"=",{"$error":"#N/A"},"x",298,"=",{"$error":"#N/A"},"=",{"$error":"#N/A"}]
[null,"Petroleum Coke",{"$error":"#N/A"},"-",null,"x",{"$f":"PetCokeNEFind","v":0},"=",{"$error":"#N/A"},"x",298,"=",{"$error":"#N/A"},"=",{"$error":"#N/A"}]
[null,"Pentanes Plus",{"$error":"#N/A"},"-",null,"x",{"$f":"pentanesNEFind","v":0},"=",{"$error":"#N/A"},"x",298,"=",{"$error":"#N/A"},"=",{"$error":"#N/A"}]
[null,"Residual Fuel",{"$error":"#N/A"},"-",null,"x",{"$f":"ResidNEFind","v":0},"=",{"$error":"#N/A"},"x",298,"=",{"$error":"#N/A"},"=",{"$error":"#N/A"}]
[null,"Still Gas",{"$error":"#N/A"},"-",null,"x",{"$f":"StillNEFind","v":0},"=",{"$error":"#N/A"},"x",298,"=",{"$error":"#N/A"},"=",{"$error":"#N/A"}]
[null,"Special Naphthas",{"$error":"#N/A"},"-",null,"x",{"$f":"SpecialNEFind","v":0},"=",{"$error":"#N/A"},"x",298,"=",{"$error":"#N/A"},"=",{"$error":"#N/A"}]
[null,"Unfinished Oils",{"$error":"#N/A"},"-",null,"x",{"$f":"UnfinNEFind","v":0},"=",{"$error":"#N/A"},"x",298,"=",{"$error":"#N/A"},"=",{"$error":"#N/A"}]
[null,"Waxes",{"$error":"#N/A"},"-",null,"x",{"$f":"WaxesNEFind","v":0},"=",{"$error":"#N/A"},"x",298,"=",{"$error":"#N/A"},"=",{"$error":"#N/A"}]
[null,"Natural Gas",{"$error":"#N/A"},"-",null,"x",{"$f":"NatGasNEFind","v":0},"=",{"$error":"#N/A"},"x",298,"=",{"$error":"#N/A"},"=",{"$error":"#N/A"}]
[null,"Wood",{"$error":"#N/A"},"-","NA","x",{"$f":"WoodNEFind","v":0},"=",{"$f":"C869*G869","v":{"$error":"#N/A"}},"x",298,"=",{"$error":"#N/A"},"=",{"$error":"#N/A"}]
[null,"Other",{"$f":"VLOOKUP($B$2&$D$2&$C$2&$D$2&$B870,ConsumeBlock3,E843-1987,FALSE)","v":0},"-",null,"x",{"$f":"OtherNEFind","v":0},"=",{"$f":"(C870-E870)*G870","v":0},"x",298,"=",0,"=",0]
[null,null,null,null,null,null,null,null,null,null,"Total","=",{"$f":"SUM(M847:M870)","v":{"$error":"#N/A"}},"=",{"$error":"#N/A"}]
[]
[null,"Industrial Sector N2O",null,null,{"$f":"E843+1","v":2019}]
[null,null,"Total ",null,"Non-Energy "]
[null,null,"Consumption",null,"Consumption",null,"Emission Factor",null,"Emissions",null,"GWP",null,"Emissions ",null,"Emissions "]
[null,"Fuel Type","(Billion Btu)",null,"(Billion Btu)",null,"(metric tons N2O/BBtu)",null,"(metric tons N2O)",null,null,null,"(MMTCE)",null,"(MMTCO2E)"]
[null,"Coking Coal",{"$f":"VLOOKUP($B$2&$D$2&$C$2&$D$2&$B877,ConsumeBlock3,E873-1987,FALSE)","v":{"$error":"#N/A"}},"-",null,"x",{"$f":"CokeCoalNEFind","v":0},"=",{"$f":"(C877-E877)*G877","v":{"$error":"#N/A"}},"x",{"$f":"GWPN2O","v":298},"=",{"$f":"I877*K877*CO2_C/(10^6)","v":{"$error":"#N/A"}},"=",{"$f":"M877/CO2_C","v":{"$error":"#N/A"}}]
[null,"Other Coal",{"$f":"IF(VLOOKUP($B$2&$D$2&$C$2&$D$2&$B878,ConsumeBlock3,$E873-1987,FALSE)-VLOOKUP($E$2,SyntheticNG,$E873-1988,FALSE)<0,0,VLOOKUP($B$2&$D$2&$C$2&$D$2&$B878,ConsumeBlock3,$E873-1987,FALSE)-VLOOKUP($E$2,SyntheticNG,$E873-1988,FALSE))","v":{"$error":"#N/A"}},"-",null,"x",{"$f":"OtherCoalNEFind","v":0},"=",{"$f":"(C878-E878)*G878","v":{"$error":"#N/A"}},"x",{"$f":"GWPN2O","v":298},"=",{"$f":"I878*K878*CO2_C/(10^6)","v":{"$error":"#N/A"}},"=",{"$error":"#N/A"}]
[null,"Asphalt and Road Oil",{"$f":"VLOOKUP($B$2&$D$2&$C$2&$D$2&$B879,ConsumeBlock3,32,FALSE)","v":{"$error":"#N/A"}},"-",null,"x",{"$f":"AsphaltNEFind","v":0},"=",{"$error":"#N/A"},"x",298,"=",{"$error":"#N/A"},"=",{"$error":"#N/A"}]
[null,"Aviation Gasoline Blending Components",{"$error":"#N/A"},"-",null,"x",{"$f":"AvGasBlendNEFind","v":0},"=",{"$error":"#N/A"},"x",298,"=",{"$error":"#N/A"},"=",{"$error":"#N/A"}]
[null,"Crude Oil",{"$error":"#N/A"},"-",null,"x",{"$f":"CrudeNEFind","v":0},"=",{"$error":"#N/A"},"x",298,"=",{"$error":"#N/A"},"=",{"$error":"#N/A"}]
[null,"Distillate Fuel",{"$error":"#N/A"},"-",null,"x",{"$f":"DistillNEFind","v":0},"=",{"$error":"#N/A"},"x",298,"=",{"$error":"#N/A"},"=",{"$error":"#N/A"}]
[null,"Feedstocks, Naphtha less than 401 F",{"$error":"#N/A"},"-",null,"x",{"$f":"NaphNEFind","v":0},"=",{"$error":"#N/A"},"x",298,"=",{"$error":"#N/A"},"=",{"$error":"#N/A"}]
[null,"Feedstocks, Other Oils greater than 401 F",{"$error":"#N/A"},"-",null,"x",{"$f":"OtherOilNEFind","v":0},"=",{"$error":"#N/A"},"x",298,"=",{"$error":"#N/A"},"=",{"$error":"#N/A"}]
[null,"Kerosene",{"$error":"#N/A"},"-",null,"x",{"$f":"KeroNEFind","v":0},"=",{"$error":"#N/A"},"x",298,"=",{"$error":"#N/A"},"=",{"$error":"#N/A"}]
[null,"LPG",{"$error":"#N/A"},"-",null,"x",{"$f":"LPGNEFind","v":0},"=",{"$error":"#N/A"},"x",298,"=",{"$error":"#N/A"},"=",{"$error":"#N/A"}]
[null,"Lubricants",{"$error":"#N/A"},"-",null,"x",{"$f":"LubeNEFind","v":0},"=",{"$error":"#N/A"},"x",298,"=",{"$error":"#N/A"},"=",{"$error":"#N/A"}]
[null,"Motor Gasoline",{"$error":"#N/A"},"-",null,"x",{"$f":"MotorGasNEFind","v":0},"=",{"$error":"#N/A"},"x",298,"=",{"$error":"#N/A"},"=",{"$error":"#N/A"}]
[null,"Motor Gasoline Blending Components",{"$error":"#N/A"},"-",null,"x",{"$f":"MoGasBlendNEFind","v":0},"=",{"$error":"#N/A"},"x",298,"=",{"$error":"#N/A"},"=",{"$error":"#N/A"}]
[null,"Misc. Petro Products",{"$error":"#N/A"},"-",null,"x",{"$f":"MiscNEFind","v":0},"=",{"$error":"#N/A"},"x",298,"=",{"$error":"#N/A"},"=",{"$error":"#N/A"}]
[null,"Petroleum Coke",{"$error":"#N/A"},"-",null,"x",{"$f":"PetCokeNEFind","v":0},"=",{"$error":"#N/A"},"x",298,"=",{"$error":"#N/A"},"=",{"$error":"#N/A"}]
[null,"Pentanes Plus",{"$error":"#N/A"},"-",null,"x",{"$f":"pentanesNEFind","v":0},"=",{"$error":"#N/A"},"x",298,"=",{"$error":"#N/A"},"=",{"$error":"#N/A"}]
[null,"Residual Fuel",{"$error":"#N/A"},"-",null,"x",{"$f":"ResidNEFind","v":0},"=",{"$error":"#N/A"},"x",298,"=",{"$error":"#N/A"},"=",{"$error":"#N/A"}]
[null,"Still Gas",{"$error":"#N/A"},"-",null,"x",{"$f":"StillNEFind","v":0},"=",{"$error":"#N/A"},"x",298,"=",{"$error":"#N/A"},"=",{"$error":"#N/A"}]
[null,"Special Naphthas",{"$error":"#N/A"},"-",null,"x",{"$f":"SpecialNEFind","v":0},"=",{"$error":"#N/A"},"x",298,"=",{"$error":"#N/A"},"=",{"$error":"#N/A"}]
[null,"Unfinished Oils",{"$error":"#N/A"},"-",null,"x",{"$f":"UnfinNEFind","v":0},"=",{"$error":"#N/A"},"x",298,"=",{"$error":"#N/A"},"=",{"$error":"#N/A"}]
[null,"Waxes",{"$error":"#N/A"},"-",null,"x",{"$f":"WaxesNEFind","v":0},"=",{"$error":"#N/A"},"x",298,"=",{"$error":"#N/A"},"=",{"$error":"#N/A"}]
[null,"Natural Gas",{"$error":"#N/A"},"-",null,"x",{"$f":"NatGasNEFind","v":0},"=",{"$error":"#N/A"},"x",298,"=",{"$error":"#N/A"},"=",{"$error":"#N/A"}]
[null,"Wood",{"$error":"#N/A"},"-","NA","x",{"$f":"WoodNEFind","v":0},"=",{"$f":"C899*G899","v":{"$error":"#N/A"}},"x",298,"=",{"$error":"#N/A"},"=",{"$error":"#N/A"}]
[null,"Other",{"$f":"VLOOKUP($B$2&$D$2&$C$2&$D$2&$B900,ConsumeBlock3,E873-1987,FALSE)","v":0},"-",null,"x",{"$f":"OtherNEFind","v":0},"=",{"$f":"(C900-E900)*G900","v":0},"x",298,"=",0,"=",0]
[null,null,null,null,null,null,null,null,null,null,"Total","=",{"$f":"SUM(M877:M900)","v":{"$error":"#N/A"}},"=",{"$error":"#N/A"}]
[]
[null,"Industrial Sector N2O",null,null,{"$f":"E873+1","v":2020}]
[null,null,"Total ",null,"Non-Energy "]
[null,null,"Consumption",null,"Consumption",null,"Emission Factor",null,"Emissions",null,"GWP",null,"Emissions ",null,"Emissions "]
[null,"Fuel Type","(Billion Btu)",null,"(Billion Btu)",null,"(metric tons N2O/BBtu)",null,"(metric tons N2O)",null,null,null,"(MMTCE)",null,"(MMTCO2E)"]
[null,"Coking Coal",{"$f":"VLOOKUP($B$2&$D$2&$C$2&$D$2&$B907,ConsumeBlock3,E903-1987,FALSE)","v":{"$error":"#N/A"}},"-",null,"x",{"$f":"CokeCoalNEFind","v":0},"=",{"$f":"(C907-E907)*G907","v":{"$error":"#N/A"}},"x",{"$f":"GWPN2O","v":298},"=",{"$f":"I907*K907*CO2_C/(10^6)","v":{"$error":"#N/A"}},"=",{"$f":"M907/CO2_C","v":{"$error":"#N/A"}}]
[null,"Other Coal",{"$f":"IF(VLOOKUP($B$2&$D$2&$C$2&$D$2&$B908,ConsumeBlock3,$E903-1987,FALSE)-VLOOKUP($E$2,SyntheticNG,$E903-1988,FALSE)<0,0,VLOOKUP($B$2&$D$2&$C$2&$D$2&$B908,ConsumeBlock3,$E903-1987,FALSE)-VLOOKUP($E$2,SyntheticNG,$E903-1988,FALSE))","v":{"$error":"#N/A"}},"-",null,"x",{"$f":"OtherCoalNEFind","v":0},"=",{"$f":"(C908-E908)*G908","v":{"$error":"#N/A"}},"x",{"$f":"GWPN2O","v":298},"=",{"$f":"I908*K908*CO2_C/(10^6)","v":{"$error":"#N/A"}},"=",{"$error":"#N/A"}]
[null,"Asphalt and Road Oil",{"$f":"VLOOKUP($B$2&$D$2&$C$2&$D$2&$B909,ConsumeBlock3,33,FALSE)","v":{"$error":"#N/A"}},"-",null,"x",{"$f":"AsphaltNEFind","v":0},"=",{"$error":"#N/A"},"x",298,"=",{"$error":"#N/A"},"=",{"$error":"#N/A"}]
[null,"Aviation Gasoline Blending Components",{"$error":"#N/A"},"-",null,"x",{"$f":"AvGasBlendNEFind","v":0},"=",{"$error":"#N/A"},"x",298,"=",{"$error":"#N/A"},"=",{"$error":"#N/A"}]
[null,"Crude Oil",{"$error":"#N/A"},"-",null,"x",{"$f":"CrudeNEFind","v":0},"=",{"$error":"#N/A"},"x",298,"=",{"$error":"#N/A"},"=",{"$error":"#N/A"}]
[null,"Distillate Fuel",{"$error":"#N/A"},"-",null,"x",{"$f":"DistillNEFind","v":0},"=",{"$error":"#N/A"},"x",298,"=",{"$error":"#N/A"},"=",{"$error":"#N/A"}]
[null,"Feedstocks, Naphtha less than 401 F",{"$error":"#N/A"},"-",null,"x",{"$f":"NaphNEFind","v":0},"=",{"$error":"#N/A"},"x",298,"=",{"$error":"#N/A"},"=",{"$error":"#N/A"}]
[null,"Feedstocks, Other Oils greater than 401 F",{"$error":"#N/A"},"-",null,"x",{"$f":"OtherOilNEFind","v":0},"=",{"$error":"#N/A"},"x",298,"=",{"$error":"#N/A"},"=",{"$error":"#N/A"}]
[null,"Kerosene",{"$error":"#N/A"},"-",null,"x",{"$f":"KeroNEFind","v":0},"=",{"$error":"#N/A"},"x",298,"=",{"$error":"#N/A"},"=",{"$error":"#N/A"}]
[null,"LPG",{"$error":"#N/A"},"-",null,"x",{"$f":"LPGNEFind","v":0},"=",{"$error":"#N/A"},"x",298,"=",{"$error":"#N/A"},"=",{"$error":"#N/A"}]
[null,"Lubricants",{"$error":"#N/A"},"-",null,"x",{"$f":"LubeNEFind","v":0},"=",{"$error":"#N/A"},"x",298,"=",{"$error":"#N/A"},"=",{"$error":"#N/A"}]
[null,"Motor Gasoline",{"$error":"#N/A"},"-",null,"x",{"$f":"MotorGasNEFind","v":0},"=",{"$error":"#N/A"},"x",298,"=",{"$error":"#N/A"},"=",{"$error":"#N/A"}]
[null,"Motor Gasoline Blending Components",{"$error":"#N/A"},"-",null,"x",{"$f":"MoGasBlendNEFind","v":0},"=",{"$error":"#N/A"},"x",298,"=",{"$error":"#N/A"},"=",{"$error":"#N/A"}]
[null,"Misc. Petro Products",{"$error":"#N/A"},"-",null,"x",{"$f":"MiscNEFind","v":0},"=",{"$error":"#N/A"},"x",298,"=",{"$error":"#N/A"},"=",{"$error":"#N/A"}]
[null,"Petroleum Coke",{"$error":"#N/A"},"-",null,"x",{"$f":"PetCokeNEFind","v":0},"=",{"$error":"#N/A"},"x",298,"=",{"$error":"#N/A"},"=",{"$error":"#N/A"}]
[null,"Pentanes Plus",{"$error":"#N/A"},"-",null,"x",{"$f":"pentanesNEFind","v":0},"=",{"$error":"#N/A"},"x",298,"=",{"$error":"#N/A"},"=",{"$error":"#N/A"}]
[null,"Residual Fuel",{"$error":"#N/A"},"-",null,"x",{"$f":"ResidNEFind","v":0},"=",{"$error":"#N/A"},"x",298,"=",{"$error":"#N/A"},"=",{"$error":"#N/A"}]
[null,"Still Gas",{"$error":"#N/A"},"-",null,"x",{"$f":"StillNEFind","v":0},"=",{"$error":"#N/A"},"x",298,"=",{"$error":"#N/A"},"=",{"$error":"#N/A"}]
[null,"Special Naphthas",{"$error":"#N/A"},"-",null,"x",{"$f":"SpecialNEFind","v":0},"=",{"$error":"#N/A"},"x",298,"=",{"$error":"#N/A"},"=",{"$error":"#N/A"}]
[null,"Unfinished Oils",{"$error":"#N/A"},"-",null,"x",{"$f":"UnfinNEFind","v":0},"=",{"$error":"#N/A"},"x",298,"=",{"$error":"#N/A"},"=",{"$error":"#N/A"}]
[null,"Waxes",{"$error":"#N/A"},"-",null,"x",{"$f":"WaxesNEFind","v":0},"=",{"$error":"#N/A"},"x",298,"=",{"$error":"#N/A"},"=",{"$error":"#N/A"}]
[null,"Natural Gas",{"$error":"#N/A"},"-",null,"x",{"$f":"NatGasNEFind","v":0},"=",{"$error":"#N/A"},"x",298,"=",{"$error":"#N/A"},"=",{"$error":"#N/A"}]
[null,"Wood",{"$error":"#N/A"},"-","NA","x",{"$f":"WoodNEFind","v":0},"=",{"$f":"C929*G929","v":{"$error":"#N/A"}},"x",298,"=",{"$error":"#N/A"},"=",{"$error":"#N/A"}]
[null,"Other",{"$f":"VLOOKUP($B$2&$D$2&$C$2&$D$2&$B930,ConsumeBlock3,E903-1987,FALSE)","v":0},"-",null,"x",{"$f":"OtherNEFind","v":0},"=",{"$f":"(C930-E930)*G930","v":0},"x",298,"=",0,"=",0]
[null,null,null,null,null,null,null,null,null,null,"Total","=",{"$f":"SUM(M907:M930)","v":{"$error":"#N/A"}},"=",{"$error":"#N/A"}]

{"sheet":"Industrial CH4","index":9,"n_rows":931,"n_cols":15,"rows_kept":931,"cut":false,"hidden":false,"merged":[]}
[null,{"$f":"\"5. Industrial Consumption and CH4 emissions in \"&Constants!G2","v":"5. Industrial Consumption and CH4 emissions in Select a State . . ."}]
[null,{"$f":"Constants!H2","v":"xx"},"Industrial",{"$f":"\" \"","v":" "}]
[null,"Industrial Sector CH4",null,null,1990]
[null,null,"Total ",null,"Non-Energy "]
[null,null,"Consumption",null,"Consumption",null,"Emission Factor",null,"Emissions ",null,"GWP",null,"Emissions ",null,"Emissions "]
[null,"Fuel Type","(Billion Btu)",null,"(Billion Btu)",null,"(metric tons CH4 /BBtu)",null,"(metric tons CH4)",null,null,null,"(MMTCE)",null,"(MMTCO2E)"]
[null,"Coking Coal",{"$f":"'Industrial N2O'!C7","v":{"$error":"#N/A"}},"-",{"$f":"'Industrial N2O'!E7","v":0},"x",{"$f":"CokeCoalCEFind","v":0},"=",{"$f":"(C7-E7)*G7","v":{"$error":"#N/A"}},"x",{"$f":"GWPCH4","v":25},"=",{"$f":"I7*K7*CO2_C/(10^6)","v":{"$error":"#N/A"}},"=",{"$f":"M7/CO2_C","v":{"$error":"#N/A"}}]
[null,"Other Coal",{"$f":"'Industrial N2O'!C8","v":{"$error":"#N/A"}},"-",{"$f":"'Industrial N2O'!E8","v":0},"x",{"$f":"OtherCoalCEFind","v":0},"=",{"$f":"(C8-E8)*G8","v":{"$error":"#N/A"}},"x",{"$f":"GWPCH4","v":25},"=",{"$f":"I8*K8*CO2_C/(10^6)","v":{"$error":"#N/A"}},"=",{"$error":"#N/A"}]
[null,"Asphalt and Road Oil",{"$f":"'Industrial N2O'!C9","v":{"$error":"#N/A"}},"-",{"$f":"'Industrial N2O'!E9","v":0},"x",{"$f":"AsphaltCEFind","v":0},"=",{"$error":"#N/A"},"x",25,"=",{"$error":"#N/A"},"=",{"$error":"#N/A"}]
[null,"Aviation Gasoline Blending Components",{"$f":"'Industrial N2O'!C10","v":{"$error":"#N/A"}},"-",{"$f":"'Industrial N2O'!E10","v":0},"x",{"$f":"AvGasBlendCEFind","v":0},"=",{"$error":"#N/A"},"x",25,"=",{"$error":"#N/A"},"=",{"$error":"#N/A"}]
[null,"Crude Oil",{"$f":"'Industrial N2O'!C11","v":{"$error":"#N/A"}},"-",{"$f":"'Industrial N2O'!E11","v":0},"x",{"$f":"CrudeCEFind","v":0},"=",{"$error":"#N/A"},"x",25,"=",{"$error":"#N/A"},"=",{"$error":"#N/A"}]
[null,"Distillate Fuel",{"$f":"'Industrial N2O'!C12","v":{"$error":"#N/A"}},"-",{"$f":"'Industrial N2O'!E12","v":0},"x",{"$f":"DistillCEFind","v":0},"=",{"$error":"#N/A"},"x",25,"=",{"$error":"#N/A"},"=",{"$error":"#N/A"}]
[null,"Feedstocks, Naphtha less than 401 F",{"$f":"'Industrial N2O'!C13","v":{"$error":"#N/A"}},"-",{"$f":"'Industrial N2O'!E13","v":0},"x",{"$f":"NaphCEFind","v":0},"=",{"$error":"#N/A"},"x",25,"=",{"$error":"#N/A"},"=",{"$error":"#N/A"}]
[null,"Feedstocks, Other Oils greater than 401 F",{"$f":"'Industrial N2O'!C14","v":{"$error":"#N/A"}},"-",{"$f":"'Industrial N2O'!E14","v":0},"x",{"$f":"OtherOilCEFind","v":0},"=",{"$error":"#N/A"},"x",25,"=",{"$error":"#N/A"},"=",{"$error":"#N/A"}]
[null,"Kerosene",{"$f":"'Industrial N2O'!C15","v":{"$error":"#N/A"}},"-",{"$f":"'Industrial N2O'!E15","v":0},"x",{"$f":"KeroCEFind","v":0},"=",{"$error":"#N/A"},"x",25,"=",{"$error":"#N/A"},"=",{"$error":"#N/A"}]
[null,"LPG",{"$f":"'Industrial N2O'!C16","v":{"$error":"#N/A"}},"-",{"$f":"'Industrial N2O'!E16","v":0},"x",{"$f":"LPGCEFind","v":0},"=",{"$error":"#N/A"},"x",25,"=",{"$error":"#N/A"},"=",{"$error":"#N/A"}]
[null,"Lubricants",{"$f":"'Industrial N2O'!C17","v":{"$error":"#N/A"}},"-",{"$f":"'Industrial N2O'!E17","v":0},"x",{"$f":"LubeCEFind","v":0},"=",{"$error":"#N/A"},"x",25,"=",{"$error":"#N/A"},"=",{"$error":"#N/A"}]
[null,"Motor Gasoline",{"$f":"'Industrial N2O'!C18","v":{"$error":"#N/A"}},"-",{"$f":"'Industrial N2O'!E18","v":0},"x",{"$f":"MotorGasCEFind","v":0},"=",{"$error":"#N/A"},"x",25,"=",{"$error":"#N/A"},"=",{"$error":"#N/A"}]
[null,"Motor Gasoline Blending Components",{"$f":"'Industrial N2O'!C19","v":{"$error":"#N/A"}},"-",{"$f":"'Industrial N2O'!E19","v":0},"x",{"$f":"MoGasBlendCEFind","v":0},"=",{"$error":"#N/A"},"x",25,"=",{"$error":"#N/A"},"=",{"$error":"#N/A"}]
[null,"Misc. Petro Products",{"$f":"'Industrial N2O'!C20","v":{"$error":"#N/A"}},"-",{"$f":"'Industrial N2O'!E20","v":0},"x",{"$f":"MiscCEFind","v":0},"=",{"$error":"#N/A"},"x",25,"=",{"$error":"#N/A"},"=",{"$error":"#N/A"}]
[null,"Petroleum Coke",{"$f":"'Industrial N2O'!C21","v":{"$error":"#N/A"}},"-",{"$f":"'Industrial N2O'!E21","v":0},"x",{"$f":"PetCokeCEFind","v":0},"=",{"$error":"#N/A"},"x",25,"=",{"$error":"#N/A"},"=",{"$error":"#N/A"}]
[null,"Pentanes Plus",{"$f":"'Industrial N2O'!C22","v":{"$error":"#N/A"}},"-",{"$f":"'Industrial N2O'!E22","v":0},"x",{"$f":"pentanesCEFind","v":0},"=",{"$error":"#N/A"},"x",25,"=",{"$error":"#N/A"},"=",{"$error":"#N/A"}]
[null,"Residual Fuel",{"$f":"'Industrial N2O'!C23","v":{"$error":"#N/A"}},"-",{"$f":"'Industrial N2O'!E23","v":0},"x",{"$f":"ResidCEFind","v":0},"=",{"$error":"#N/A"},"x",25,"=",{"$error":"#N/A"},"=",{"$error":"#N/A"}]
[null,"Still Gas",{"$f":"'Industrial N2O'!C24","v":{"$error":"#N/A"}},"-",{"$f":"'Industrial N2O'!E24","v":0},"x",{"$f":"StillCEFind","v":0},"=",{"$error":"#N/A"},"x",25,"=",{"$error":"#N/A"},"=",{"$error":"#N/A"}]
[null,"Special Naphthas",{"$f":"'Industrial N2O'!C25","v":{"$error":"#N/A"}},"-",{"$f":"'Industrial N2O'!E25","v":0},"x",{"$f":"SpecialCEFind","v":0},"=",{"$error":"#N/A"},"x",25,"=",{"$error":"#N/A"},"=",{"$error":"#N/A"}]
[null,"Unfinished Oils",{"$f":"'Industrial N2O'!C26","v":{"$error":"#N/A"}},"-",{"$f":"'Industrial N2O'!E26","v":0},"x",{"$f":"UnfinCEFind","v":0},"=",{"$error":"#N/A"},"x",25,"=",{"$error":"#N/A"},"=",{"$error":"#N/A"}]
[null,"Waxes",{"$f":"'Industrial N2O'!C27","v":{"$error":"#N/A"}},"-",{"$f":"'Industrial N2O'!E27","v":0},"x",{"$f":"WaxesCEFind","v":0},"=",{"$error":"#N/A"},"x",25,"=",{"$error":"#N/A"},"=",{"$error":"#N/A"}]
[null,"Natural Gas",{"$f":"'Industrial N2O'!C28","v":{"$error":"#N/A"}},"-",{"$f":"'Industrial N2O'!E28","v":0},"x",{"$f":"NatGasCEFind","v":0},"=",{"$error":"#N/A"},"x",25,"=",{"$error":"#N/A"},"=",{"$error":"#N/A"}]
[null,"Wood",{"$f":"'Industrial N2O'!C29","v":{"$error":"#N/A"}},null,{"$f":"'Industrial N2O'!E29","v":"NA"},"x",{"$f":"WoodCEFind","v":0},"=",{"$f":"C29*G29","v":{"$error":"#N/A"}},"x",25,"=",{"$error":"#N/A"},"=",{"$error":"#N/A"}]
[null,"Other",{"$f":"'Industrial N2O'!C30","v":0},"-",{"$f":"'Industrial N2O'!E30","v":0},"x",{"$f":"OtherCEFind","v":0},"=",0,"x",25,"=",0,"=",0]
[null,null,null,null,null,null,null,null,null,null,"Total","=",{"$f":"SUM(M7:M30)","v":{"$error":"#N/A"}},"=",{"$error":"#N/A"}]
[]
[null,"Industrial Sector CH4",null,null,{"$f":"E3+1","v":1991}]
[null,null,"Total ",null,"Non-Energy "]
[null,null,"Consumption",null,"Consumption",null,"Emission Factor",null,"Emissions ",null,"GWP",null,"Emissions ",null,"Emissions "]
[null,"Fuel Type","(Billion Btu)",null,"(Billion Btu)",null,"(metric tons CH4 /BBtu)",null,"(metric tons CH4)",null,null,null,"(MMTCE)",null,"(MMTCO2E)"]
[null,"Coking Coal",{"$f":"'Industrial N2O'!C37","v":{"$error":"#N/A"}},"-",{"$f":"'Industrial N2O'!E37","v":0},"x",{"$f":"CokeCoalCEFind","v":0},"=",{"$f":"(C37-E37)*G37","v":{"$error":"#N/A"}},"x",{"$f":"GWPCH4","v":25},"=",{"$f":"I37*K37*CO2_C/(10^6)","v":{"$error":"#N/A"}},"=",{"$f":"M37/CO2_C","v":{"$error":"#N/A"}}]
[null,"Other Coal",{"$f":"'Industrial N2O'!C38","v":{"$error":"#N/A"}},"-",{"$f":"'Industrial N2O'!E38","v":0},"x",{"$f":"OtherCoalCEFind","v":0},"=",{"$f":"(C38-E38)*G38","v":{"$error":"#N/A"}},"x",{"$f":"GWPCH4","v":25},"=",{"$f":"I38*K38*CO2_C/(10^6)","v":{"$error":"#N/A"}},"=",{"$error":"#N/A"}]
[null,"Asphalt and Road Oil",{"$f":"'Industrial N2O'!C39","v":{"$error":"#N/A"}},"-",{"$f":"'Industrial N2O'!E39","v":0},"x",{"$f":"AsphaltCEFind","v":0},"=",{"$error":"#N/A"},"x",25,"=",{"$error":"#N/A"},"=",{"$error":"#N/A"}]
[null,"Aviation Gasoline Blending Components",{"$f":"'Industrial N2O'!C40","v":{"$error":"#N/A"}},"-",{"$f":"'Industrial N2O'!E40","v":0},"x",{"$f":"AvGasBlendCEFind","v":0},"=",{"$error":"#N/A"},"x",25,"=",{"$error":"#N/A"},"=",{"$error":"#N/A"}]
[null,"Crude Oil",{"$f":"'Industrial N2O'!C41","v":{"$error":"#N/A"}},"-",{"$f":"'Industrial N2O'!E41","v":0},"x",{"$f":"CrudeCEFind","v":0},"=",{"$error":"#N/A"},"x",25,"=",{"$error":"#N/A"},"=",{"$error":"#N/A"}]
[null,"Distillate Fuel",{"$f":"'Industrial N2O'!C42","v":{"$error":"#N/A"}},"-",{"$f":"'Industrial N2O'!E42","v":0},"x",{"$f":"DistillCEFind","v":0},"=",{"$error":"#N/A"},"x",25,"=",{"$error":"#N/A"},"=",{"$error":"#N/A"}]
[null,"Feedstocks, Naphtha less than 401 F",{"$f":"'Industrial N2O'!C43","v":{"$error":"#N/A"}},"-",{"$f":"'Industrial N2O'!E43","v":0},"x",{"$f":"NaphCEFind","v":0},"=",{"$error":"#N/A"},"x",25,"=",{"$error":"#N/A"},"=",{"$error":"#N/A"}]
[null,"Feedstocks, Other Oils greater than 401 F",{"$f":"'Industrial N2O'!C44","v":{"$error":"#N/A"}},"-",{"$f":"'Industrial N2O'!E44","v":0},"x",{"$f":"OtherOilCEFind","v":0},"=",{"$error":"#N/A"},"x",25,"=",{"$error":"#N/A"},"=",{"$error":"#N/A"}]
[null,"Kerosene",{"$f":"'Industrial N2O'!C45","v":{"$error":"#N/A"}},"-",{"$f":"'Industrial N2O'!E45","v":0},"x",{"$f":"KeroCEFind","v":0},"=",{"$error":"#N/A"},"x",25,"=",{"$error":"#N/A"},"=",{"$error":"#N/A"}]
[null,"LPG",{"$f":"'Industrial N2O'!C46","v":{"$error":"#N/A"}},"-",{"$f":"'Industrial N2O'!E46","v":0},"x",{"$f":"LPGCEFind","v":0},"=",{"$error":"#N/A"},"x",25,"=",{"$error":"#N/A"},"=",{"$error":"#N/A"}]
[null,"Lubricants",{"$f":"'Industrial N2O'!C47","v":{"$error":"#N/A"}},"-",{"$f":"'Industrial N2O'!E47","v":0},"x",{"$f":"LubeCEFind","v":0},"=",{"$error":"#N/A"},"x",25,"=",{"$error":"#N/A"},"=",{"$error":"#N/A"}]
[null,"Motor Gasoline",{"$f":"'Industrial N2O'!C48","v":{"$error":"#N/A"}},"-",{"$f":"'Industrial N2O'!E48","v":0},"x",{"$f":"MotorGasCEFind","v":0},"=",{"$error":"#N/A"},"x",25,"=",{"$error":"#N/A"},"=",{"$error":"#N/A"}]
[null,"Motor Gasoline Blending Components",{"$f":"'Industrial N2O'!C49","v":{"$error":"#N/A"}},"-",{"$f":"'Industrial N2O'!E49","v":0},"x",{"$f":"MoGasBlendCEFind","v":0},"=",{"$error":"#N/A"},"x",25,"=",{"$error":"#N/A"},"=",{"$error":"#N/A"}]
[null,"Misc. Petro Products",{"$f":"'Industrial N2O'!C50","v":{"$error":"#N/A"}},"-",{"$f":"'Industrial N2O'!E50","v":0},"x",{"$f":"MiscCEFind","v":0},"=",{"$error":"#N/A"},"x",25,"=",{"$error":"#N/A"},"=",{"$error":"#N/A"}]
[null,"Petroleum Coke",{"$f":"'Industrial N2O'!C51","v":{"$error":"#N/A"}},"-",{"$f":"'Industrial N2O'!E51","v":0},"x",{"$f":"PetCokeCEFind","v":0},"=",{"$error":"#N/A"},"x",25,"=",{"$error":"#N/A"},"=",{"$error":"#N/A"}]
[null,"Pentanes Plus",{"$f":"'Industrial N2O'!C52","v":{"$error":"#N/A"}},"-",{"$f":"'Industrial N2O'!E52","v":0},"x",{"$f":"pentanesCEFind","v":0},"=",{"$error":"#N/A"},"x",25,"=",{"$error":"#N/A"},"=",{"$error":"#N/A"}]
[null,"Residual Fuel",{"$f":"'Industrial N2O'!C53","v":{"$error":"#N/A"}},"-",{"$f":"'Industrial N2O'!E53","v":0},"x",{"$f":"ResidCEFind","v":0},"=",{"$error":"#N/A"},"x",25,"=",{"$error":"#N/A"},"=",{"$error":"#N/A"}]
[null,"Still Gas",{"$f":"'Industrial N2O'!C54","v":{"$error":"#N/A"}},"-",{"$f":"'Industrial N2O'!E54","v":0},"x",{"$f":"StillCEFind","v":0},"=",{"$error":"#N/A"},"x",25,"=",{"$error":"#N/A"},"=",{"$error":"#N/A"}]
[null,"Special Naphthas",{"$f":"'Industrial N2O'!C55","v":{"$error":"#N/A"}},"-",{"$f":"'Industrial N2O'!E55","v":0},"x",{"$f":"SpecialCEFind","v":0},"=",{"$error":"#N/A"},"x",25,"=",{"$error":"#N/A"},"=",{"$error":"#N/A"}]
[null,"Unfinished Oils",{"$f":"'Industrial N2O'!C56","v":{"$error":"#N/A"}},"-",{"$f":"'Industrial N2O'!E56","v":0},"x",{"$f":"UnfinCEFind","v":0},"=",{"$error":"#N/A"},"x",25,"=",{"$error":"#N/A"},"=",{"$error":"#N/A"}]
[null,"Waxes",{"$f":"'Industrial N2O'!C57","v":{"$error":"#N/A"}},"-",{"$f":"'Industrial N2O'!E57","v":0},"x",{"$f":"WaxesCEFind","v":0},"=",{"$error":"#N/A"},"x",25,"=",{"$error":"#N/A"},"=",{"$error":"#N/A"}]
[null,"Natural Gas",{"$f":"'Industrial N2O'!C58","v":{"$error":"#N/A"}},"-",{"$f":"'Industrial N2O'!E58","v":0},"x",{"$f":"NatGasCEFind","v":0},"=",{"$error":"#N/A"},"x",25,"=",{"$error":"#N/A"},"=",{"$error":"#N/A"}]
[null,"Wood",{"$f":"'Industrial N2O'!C59","v":{"$error":"#N/A"}},null,{"$f":"'Industrial N2O'!E59","v":"NA"},"x",{"$f":"WoodCEFind","v":0},"=",{"$f":"C59*G59","v":{"$error":"#N/A"}},"x",25,"=",{"$error":"#N/A"},"=",{"$error":"#N/A"}]
[null,"Other",{"$f":"'Industrial N2O'!C60","v":0},"-",{"$f":"'Industrial N2O'!E60","v":0},"x",{"$f":"OtherCEFind","v":0},"=",0,"x",25,"=",0,"=",0]
[null,null,null,null,null,null,null,null,null,null,"Total","=",{"$f":"SUM(M37:M60)","v":{"$error":"#N/A"}},"=",{"$error":"#N/A"}]
[]
[null,"Industrial Sector CH4",null,null,{"$f":"E33+1","v":1992}]
[null,null,"Total ",null,"Non-Energy "]
[null,null,"Consumption",null,"Consumption",null,"Emission Factor",null,"Emissions ",null,"GWP",null,"Emissions ",null,"Emissions "]
[null,"Fuel Type","(Billion Btu)",null,"(Billion Btu)",null,"(metric tons CH4 /BBtu)",null,"(metric tons CH4)",null,null,null,"(MMTCE)",null,"(MMTCO2E)"]
[null,"Coking Coal",{"$f":"'Industrial N2O'!C67","v":{"$error":"#N/A"}},"-",{"$f":"'Industrial N2O'!E67","v":0},"x",{"$f":"CokeCoalCEFind","v":0},"=",{"$f":"(C67-E67)*G67","v":{"$error":"#N/A"}},"x",{"$f":"GWPCH4","v":25},"=",{"$f":"I67*K67*CO2_C/(10^6)","v":{"$error":"#N/A"}},"=",{"$f":"M67/CO2_C","v":{"$error":"#N/A"}}]
[null,"Other Coal",{"$f":"'Industrial N2O'!C68","v":{"$error":"#N/A"}},"-",{"$f":"'Industrial N2O'!E68","v":0},"x",{"$f":"OtherCoalCEFind","v":0},"=",{"$f":"(C68-E68)*G68","v":{"$error":"#N/A"}},"x",{"$f":"GWPCH4","v":25},"=",{"$f":"I68*K68*CO2_C/(10^6)","v":{"$error":"#N/A"}},"=",{"$error":"#N/A"}]
[null,"Asphalt and Road Oil",{"$f":"'Industrial N2O'!C69","v":{"$error":"#N/A"}},"-",{"$f":"'Industrial N2O'!E69","v":0},"x",{"$f":"AsphaltCEFind","v":0},"=",{"$error":"#N/A"},"x",25,"=",{"$error":"#N/A"},"=",{"$error":"#N/A"}]
[null,"Aviation Gasoline Blending Components",{"$f":"'Industrial N2O'!C70","v":{"$error":"#N/A"}},"-",{"$f":"'Industrial N2O'!E70","v":0},"x",{"$f":"AvGasBlendCEFind","v":0},"=",{"$error":"#N/A"},"x",25,"=",{"$error":"#N/A"},"=",{"$error":"#N/A"}]
[null,"Crude Oil",{"$f":"'Industrial N2O'!C71","v":{"$error":"#N/A"}},"-",{"$f":"'Industrial N2O'!E71","v":0},"x",{"$f":"CrudeCEFind","v":0},"=",{"$error":"#N/A"},"x",25,"=",{"$error":"#N/A"},"=",{"$error":"#N/A"}]
[null,"Distillate Fuel",{"$f":"'Industrial N2O'!C72","v":{"$error":"#N/A"}},"-",{"$f":"'Industrial N2O'!E72","v":0},"x",{"$f":"DistillCEFind","v":0},"=",{"$error":"#N/A"},"x",25,"=",{"$error":"#N/A"},"=",{"$error":"#N/A"}]
[null,"Feedstocks, Naphtha less than 401 F",{"$f":"'Industrial N2O'!C73","v":{"$error":"#N/A"}},"-",{"$f":"'Industrial N2O'!E73","v":0},"x",{"$f":"NaphCEFind","v":0},"=",{"$error":"#N/A"},"x",25,"=",{"$error":"#N/A"},"=",{"$error":"#N/A"}]
[null,"Feedstocks, Other Oils greater than 401 F",{"$f":"'Industrial N2O'!C74","v":{"$error":"#N/A"}},"-",{"$f":"'Industrial N2O'!E74","v":0},"x",{"$f":"OtherOilCEFind","v":0},"=",{"$error":"#N/A"},"x",25,"=",{"$error":"#N/A"},"=",{"$error":"#N/A"}]
[null,"Kerosene",{"$f":"'Industrial N2O'!C75","v":{"$error":"#N/A"}},"-",{"$f":"'Industrial N2O'!E75","v":0},"x",{"$f":"KeroCEFind","v":0},"=",{"$error":"#N/A"},"x",25,"=",{"$error":"#N/A"},"=",{"$error":"#N/A"}]
[null,"LPG",{"$f":"'Industrial N2O'!C76","v":{"$error":"#N/A"}},"-",{"$f":"'Industrial N2O'!E76","v":0},"x",{"$f":"LPGCEFind","v":0},"=",{"$error":"#N/A"},"x",25,"=",{"$error":"#N/A"},"=",{"$error":"#N/A"}]
[null,"Lubricants",{"$f":"'Industrial N2O'!C77","v":{"$error":"#N/A"}},"-",{"$f":"'Industrial N2O'!E77","v":0},"x",{"$f":"LubeCEFind","v":0},"=",{"$error":"#N/A"},"x",25,"=",{"$error":"#N/A"},"=",{"$error":"#N/A"}]
[null,"Motor Gasoline",{"$f":"'Industrial N2O'!C78","v":{"$error":"#N/A"}},"-",{"$f":"'Industrial N2O'!E78","v":0},"x",{"$f":"MotorGasCEFind","v":0},"=",{"$error":"#N/A"},"x",25,"=",{"$error":"#N/A"},"=",{"$error":"#N/A"}]
[null,"Motor Gasoline Blending Components",{"$f":"'Industrial N2O'!C79","v":{"$error":"#N/A"}},"-",{"$f":"'Industrial N2O'!E79","v":0},"x",{"$f":"MoGasBlendCEFind","v":0},"=",{"$error":"#N/A"},"x",25,"=",{"$error":"#N/A"},"=",{"$error":"#N/A"}]
[null,"Misc. Petro Products",{"$f":"'Industrial N2O'!C80","v":{"$error":"#N/A"}},"-",{"$f":"'Industrial N2O'!E80","v":0},"x",{"$f":"MiscCEFind","v":0},"=",{"$error":"#N/A"},"x",25,"=",{"$error":"#N/A"},"=",{"$error":"#N/A"}]
[null,"Petroleum Coke",{"$f":"'Industrial N2O'!C81","v":{"$error":"#N/A"}},"-",{"$f":"'Industrial N2O'!E81","v":0},"x",{"$f":"PetCokeCEFind","v":0},"=",{"$error":"#N/A"},"x",25,"=",{"$error":"#N/A"},"=",{"$error":"#N/A"}]
[null,"Pentanes Plus",{"$f":"'Industrial N2O'!C82","v":{"$error":"#N/A"}},"-",{"$f":"'Industrial N2O'!E82","v":0},"x",{"$f":"pentanesCEFind","v":0},"=",{"$error":"#N/A"},"x",25,"=",{"$error":"#N/A"},"=",{"$error":"#N/A"}]
[null,"Residual Fuel",{"$f":"'Industrial N2O'!C83","v":{"$error":"#N/A"}},"-",{"$f":"'Industrial N2O'!E83","v":0},"x",{"$f":"ResidCEFind","v":0},"=",{"$error":"#N/A"},"x",25,"=",{"$error":"#N/A"},"=",{"$error":"#N/A"}]
[null,"Still Gas",{"$f":"'Industrial N2O'!C84","v":{"$error":"#N/A"}},"-",{"$f":"'Industrial N2O'!E84","v":0},"x",{"$f":"StillCEFind","v":0},"=",{"$error":"#N/A"},"x",25,"=",{"$error":"#N/A"},"=",{"$error":"#N/A"}]
[null,"Special Naphthas",{"$f":"'Industrial N2O'!C85","v":{"$error":"#N/A"}},"-",{"$f":"'Industrial N2O'!E85","v":0},"x",{"$f":"SpecialCEFind","v":0},"=",{"$error":"#N/A"},"x",25,"=",{"$error":"#N/A"},"=",{"$error":"#N/A"}]
[null,"Unfinished Oils",{"$f":"'Industrial N2O'!C86","v":{"$error":"#N/A"}},"-",{"$f":"'Industrial N2O'!E86","v":0},"x",{"$f":"UnfinCEFind","v":0},"=",{"$error":"#N/A"},"x",25,"=",{"$error":"#N/A"},"=",{"$error":"#N/A"}]
[null,"Waxes",{"$f":"'Industrial N2O'!C87","v":{"$error":"#N/A"}},"-",{"$f":"'Industrial N2O'!E87","v":0},"x",{"$f":"WaxesCEFind","v":0},"=",{"$error":"#N/A"},"x",25,"=",{"$error":"#N/A"},"=",{"$error":"#N/A"}]
[null,"Natural Gas",{"$f":"'Industrial N2O'!C88","v":{"$error":"#N/A"}},"-",{"$f":"'Industrial N2O'!E88","v":0},"x",{"$f":"NatGasCEFind","v":0},"=",{"$error":"#N/A"},"x",25,"=",{"$error":"#N/A"},"=",{"$error":"#N/A"}]
[null,"Wood",{"$f":"'Industrial N2O'!C89","v":{"$error":"#N/A"}},null,{"$f":"'Industrial N2O'!E89","v":"NA"},"x",{"$f":"WoodCEFind","v":0},"=",{"$f":"C89*G89","v":{"$error":"#N/A"}},"x",25,"=",{"$error":"#N/A"},"=",{"$error":"#N/A"}]
[null,"Other",{"$f":"'Industrial N2O'!C90","v":0},"-",{"$f":"'Industrial N2O'!E90","v":0},"x",{"$f":"OtherCEFind","v":0},"=",0,"x",25,"=",0,"=",0]
[null,null,null,null,null,null,null,null,null,null,"Total","=",{"$f":"SUM(M67:M90)","v":{"$error":"#N/A"}},"=",{"$error":"#N/A"}]
[]
[null,"Industrial Sector CH4",null,null,{"$f":"E63+1","v":1993}]
[null,null,"Total ",null,"Non-Energy "]
[null,null,"Consumption",null,"Consumption",null,"Emission Factor",null,"Emissions ",null,"GWP",null,"Emissions ",null,"Emissions "]
[null,"Fuel Type","(Billion Btu)",null,"(Billion Btu)",null,"(metric tons CH4 /BBtu)",null,"(metric tons CH4)",null,null,null,"(MMTCE)",null,"(MMTCO2E)"]
[null,"Coking Coal",{"$f":"'Industrial N2O'!C97","v":{"$error":"#N/A"}},"-",{"$f":"'Industrial N2O'!E97","v":0},"x",{"$f":"CokeCoalCEFind","v":0},"=",{"$f":"(C97-E97)*G97","v":{"$error":"#N/A"}},"x",{"$f":"GWPCH4","v":25},"=",{"$f":"I97*K97*CO2_C/(10^6)","v":{"$error":"#N/A"}},"=",{"$f":"M97/CO2_C","v":{"$error":"#N/A"}}]
[null,"Other Coal",{"$f":"'Industrial N2O'!C98","v":{"$error":"#N/A"}},"-",{"$f":"'Industrial N2O'!E98","v":0},"x",{"$f":"OtherCoalCEFind","v":0},"=",{"$f":"(C98-E98)*G98","v":{"$error":"#N/A"}},"x",{"$f":"GWPCH4","v":25},"=",{"$f":"I98*K98*CO2_C/(10^6)","v":{"$error":"#N/A"}},"=",{"$error":"#N/A"}]
[null,"Asphalt and Road Oil",{"$f":"'Industrial N2O'!C99","v":{"$error":"#N/A"}},"-",{"$f":"'Industrial N2O'!E99","v":0},"x",{"$f":"AsphaltCEFind","v":0},"=",{"$error":"#N/A"},"x",25,"=",{"$error":"#N/A"},"=",{"$error":"#N/A"}]
[null,"Aviation Gasoline Blending Components",{"$f":"'Industrial N2O'!C100","v":{"$error":"#N/A"}},"-",{"$f":"'Industrial N2O'!E100","v":0},"x",{"$f":"AvGasBlendCEFind","v":0},"=",{"$error":"#N/A"},"x",25,"=",{"$error":"#N/A"},"=",{"$error":"#N/A"}]
[null,"Crude Oil",{"$f":"'Industrial N2O'!C101","v":{"$error":"#N/A"}},"-",{"$f":"'Industrial N2O'!E101","v":0},"x",{"$f":"CrudeCEFind","v":0},"=",{"$error":"#N/A"},"x",25,"=",{"$error":"#N/A"},"=",{"$error":"#N/A"}]
[null,"Distillate Fuel",{"$f":"'Industrial N2O'!C102","v":{"$error":"#N/A"}},"-",{"$f":"'Industrial N2O'!E102","v":0},"x",{"$f":"DistillCEFind","v":0},"=",{"$error":"#N/A"},"x",25,"=",{"$error":"#N/A"},"=",{"$error":"#N/A"}]
[null,"Feedstocks, Naphtha less than 401 F",{"$f":"'Industrial N2O'!C103","v":{"$error":"#N/A"}},"-",{"$f":"'Industrial N2O'!E103","v":0},"x",{"$f":"NaphCEFind","v":0},"=",{"$error":"#N/A"},"x",25,"=",{"$error":"#N/A"},"=",{"$error":"#N/A"}]
[null,"Feedstocks, Other Oils greater than 401 F",{"$f":"'Industrial N2O'!C104","v":{"$error":"#N/A"}},"-",{"$f":"'Industrial N2O'!E104","v":0},"x",{"$f":"OtherOilCEFind","v":0},"=",{"$error":"#N/A"},"x",25,"=",{"$error":"#N/A"},"=",{"$error":"#N/A"}]
[null,"Kerosene",{"$f":"'Industrial N2O'!C105","v":{"$error":"#N/A"}},"-",{"$f":"'Industrial N2O'!E105","v":0},"x",{"$f":"KeroCEFind","v":0},"=",{"$error":"#N/A"},"x",25,"=",{"$error":"#N/A"},"=",{"$error":"#N/A"}]
[null,"LPG",{"$f":"'Industrial N2O'!C106","v":{"$error":"#N/A"}},"-",{"$f":"'Industrial N2O'!E106","v":0},"x",{"$f":"LPGCEFind","v":0},"=",{"$error":"#N/A"},"x",25,"=",{"$error":"#N/A"},"=",{"$error":"#N/A"}]
[null,"Lubricants",{"$f":"'Industrial N2O'!C107","v":{"$error":"#N/A"}},"-",{"$f":"'Industrial N2O'!E107","v":0},"x",{"$f":"LubeCEFind","v":0},"=",{"$error":"#N/A"},"x",25,"=",{"$error":"#N/A"},"=",{"$error":"#N/A"}]
[null,"Motor Gasoline",{"$f":"'Industrial N2O'!C108","v":{"$error":"#N/A"}},"-",{"$f":"'Industrial N2O'!E108","v":0},"x",{"$f":"MotorGasCEFind","v":0},"=",{"$error":"#N/A"},"x",25,"=",{"$error":"#N/A"},"=",{"$error":"#N/A"}]
[null,"Motor Gasoline Blending Components",{"$f":"'Industrial N2O'!C109","v":{"$error":"#N/A"}},"-",{"$f":"'Industrial N2O'!E109","v":0},"x",{"$f":"MoGasBlendCEFind","v":0},"=",{"$error":"#N/A"},"x",25,"=",{"$error":"#N/A"},"=",{"$error":"#N/A"}]
[null,"Misc. Petro Products",{"$f":"'Industrial N2O'!C110","v":{"$error":"#N/A"}},"-",{"$f":"'Industrial N2O'!E110","v":0},"x",{"$f":"MiscCEFind","v":0},"=",{"$error":"#N/A"},"x",25,"=",{"$error":"#N/A"},"=",{"$error":"#N/A"}]
[null,"Petroleum Coke",{"$f":"'Industrial N2O'!C111","v":{"$error":"#N/A"}},"-",{"$f":"'Industrial N2O'!E111","v":0},"x",{"$f":"PetCokeCEFind","v":0},"=",{"$error":"#N/A"},"x",25,"=",{"$error":"#N/A"},"=",{"$error":"#N/A"}]
[null,"Pentanes Plus",{"$f":"'Industrial N2O'!C112","v":{"$error":"#N/A"}},"-",{"$f":"'Industrial N2O'!E112","v":0},"x",{"$f":"pentanesCEFind","v":0},"=",{"$error":"#N/A"},"x",25,"=",{"$error":"#N/A"},"=",{"$error":"#N/A"}]
[null,"Residual Fuel",{"$f":"'Industrial N2O'!C113","v":{"$error":"#N/A"}},"-",{"$f":"'Industrial N2O'!E113","v":0},"x",{"$f":"ResidCEFind","v":0},"=",{"$error":"#N/A"},"x",25,"=",{"$error":"#N/A"},"=",{"$error":"#N/A"}]
[null,"Still Gas",{"$f":"'Industrial N2O'!C114","v":{"$error":"#N/A"}},"-",{"$f":"'Industrial N2O'!E114","v":0},"x",{"$f":"StillCEFind","v":0},"=",{"$error":"#N/A"},"x",25,"=",{"$error":"#N/A"},"=",{"$error":"#N/A"}]
[null,"Special Naphthas",{"$f":"'Industrial N2O'!C115","v":{"$error":"#N/A"}},"-",{"$f":"'Industrial N2O'!E115","v":0},"x",{"$f":"SpecialCEFind","v":0},"=",{"$error":"#N/A"},"x",25,"=",{"$error":"#N/A"},"=",{"$error":"#N/A"}]
[null,"Unfinished Oils",{"$f":"'Industrial N2O'!C116","v":{"$error":"#N/A"}},"-",{"$f":"'Industrial N2O'!E116","v":0},"x",{"$f":"UnfinCEFind","v":0},"=",{"$error":"#N/A"},"x",25,"=",{"$error":"#N/A"},"=",{"$error":"#N/A"}]
[null,"Waxes",{"$f":"'Industrial N2O'!C117","v":{"$error":"#N/A"}},"-",{"$f":"'Industrial N2O'!E117","v":0},"x",{"$f":"WaxesCEFind","v":0},"=",{"$error":"#N/A"},"x",25,"=",{"$error":"#N/A"},"=",{"$error":"#N/A"}]
[null,"Natural Gas",{"$f":"'Industrial N2O'!C118","v":{"$error":"#N/A"}},"-",{"$f":"'Industrial N2O'!E118","v":0},"x",{"$f":"NatGasCEFind","v":0},"=",{"$error":"#N/A"},"x",25,"=",{"$error":"#N/A"},"=",{"$error":"#N/A"}]
[null,"Wood",{"$f":"'Industrial N2O'!C119","v":{"$error":"#N/A"}},null,{"$f":"'Industrial N2O'!E119","v":"NA"},"x",{"$f":"WoodCEFind","v":0},"=",{"$f":"C119*G119","v":{"$error":"#N/A"}},"x",25,"=",{"$error":"#N/A"},"=",{"$error":"#N/A"}]
[null,"Other",{"$f":"'Industrial N2O'!C120","v":0},"-",{"$f":"'Industrial N2O'!E120","v":0},"x",{"$f":"OtherCEFind","v":0},"=",0,"x",25,"=",0,"=",0]
[null,null,null,null,null,null,null,null,null,null,"Total","=",{"$f":"SUM(M97:M120)","v":{"$error":"#N/A"}},"=",{"$error":"#N/A"}]
[]
[null,"Industrial Sector CH4",null,null,{"$f":"E93+1","v":1994}]
[null,null,"Total ",null,"Non-Energy "]
[null,null,"Consumption",null,"Consumption",null,"Emission Factor",null,"Emissions ",null,"GWP",null,"Emissions ",null,"Emissions "]
[null,"Fuel Type","(Billion Btu)",null,"(Billion Btu)",null,"(metric tons CH4 /BBtu)",null,"(metric tons CH4)",null,null,null,"(MMTCE)",null,"(MMTCO2E)"]
[null,"Coking Coal",{"$f":"'Industrial N2O'!C127","v":{"$error":"#N/A"}},"-",{"$f":"'Industrial N2O'!E127","v":0},"x",{"$f":"CokeCoalCEFind","v":0},"=",{"$f":"(C127-E127)*G127","v":{"$error":"#N/A"}},"x",{"$f":"GWPCH4","v":25},"=",{"$f":"I127*K127*CO2_C/(10^6)","v":{"$error":"#N/A"}},"=",{"$f":"M127/CO2_C","v":{"$error":"#N/A"}}]
[null,"Other Coal",{"$f":"'Industrial N2O'!C128","v":{"$error":"#N/A"}},"-",{"$f":"'Industrial N2O'!E128","v":0},"x",{"$f":"OtherCoalCEFind","v":0},"=",{"$f":"(C128-E128)*G128","v":{"$error":"#N/A"}},"x",{"$f":"GWPCH4","v":25},"=",{"$f":"I128*K128*CO2_C/(10^6)","v":{"$error":"#N/A"}},"=",{"$error":"#N/A"}]
[null,"Asphalt and Road Oil",{"$f":"'Industrial N2O'!C129","v":{"$error":"#N/A"}},"-",{"$f":"'Industrial N2O'!E129","v":0},"x",{"$f":"AsphaltCEFind","v":0},"=",{"$error":"#N/A"},"x",25,"=",{"$error":"#N/A"},"=",{"$error":"#N/A"}]
[null,"Aviation Gasoline Blending Components",{"$f":"'Industrial N2O'!C130","v":{"$error":"#N/A"}},"-",{"$f":"'Industrial N2O'!E130","v":0},"x",{"$f":"AvGasBlendCEFind","v":0},"=",{"$error":"#N/A"},"x",25,"=",{"$error":"#N/A"},"=",{"$error":"#N/A"}]
[null,"Crude Oil",{"$f":"'Industrial N2O'!C131","v":{"$error":"#N/A"}},"-",{"$f":"'Industrial N2O'!E131","v":0},"x",{"$f":"CrudeCEFind","v":0},"=",{"$error":"#N/A"},"x",25,"=",{"$error":"#N/A"},"=",{"$error":"#N/A"}]
[null,"Distillate Fuel",{"$f":"'Industrial N2O'!C132","v":{"$error":"#N/A"}},"-",{"$f":"'Industrial N2O'!E132","v":0},"x",{"$f":"DistillCEFind","v":0},"=",{"$error":"#N/A"},"x",25,"=",{"$error":"#N/A"},"=",{"$error":"#N/A"}]
[null,"Feedstocks, Naphtha less than 401 F",{"$f":"'Industrial N2O'!C133","v":{"$error":"#N/A"}},"-",{"$f":"'Industrial N2O'!E133","v":0},"x",{"$f":"NaphCEFind","v":0},"=",{"$error":"#N/A"},"x",25,"=",{"$error":"#N/A"},"=",{"$error":"#N/A"}]
[null,"Feedstocks, Other Oils greater than 401 F",{"$f":"'Industrial N2O'!C134","v":{"$error":"#N/A"}},"-",{"$f":"'Industrial N2O'!E134","v":0},"x",{"$f":"OtherOilCEFind","v":0},"=",{"$error":"#N/A"},"x",25,"=",{"$error":"#N/A"},"=",{"$error":"#N/A"}]
[null,"Kerosene",{"$f":"'Industrial N2O'!C135","v":{"$error":"#N/A"}},"-",{"$f":"'Industrial N2O'!E135","v":0},"x",{"$f":"KeroCEFind","v":0},"=",{"$error":"#N/A"},"x",25,"=",{"$error":"#N/A"},"=",{"$error":"#N/A"}]
[null,"LPG",{"$f":"'Industrial N2O'!C136","v":{"$error":"#N/A"}},"-",{"$f":"'Industrial N2O'!E136","v":0},"x",{"$f":"LPGCEFind","v":0},"=",{"$error":"#N/A"},"x",25,"=",{"$error":"#N/A"},"=",{"$error":"#N/A"}]
[null,"Lubricants",{"$f":"'Industrial N2O'!C137","v":{"$error":"#N/A"}},"-",{"$f":"'Industrial N2O'!E137","v":0},"x",{"$f":"LubeCEFind","v":0},"=",{"$error":"#N/A"},"x",25,"=",{"$error":"#N/A"},"=",{"$error":"#N/A"}]
[null,"Motor Gasoline",{"$f":"'Industrial N2O'!C138","v":{"$error":"#N/A"}},"-",{"$f":"'Industrial N2O'!E138","v":0},"x",{"$f":"MotorGasCEFind","v":0},"=",{"$error":"#N/A"},"x",25,"=",{"$error":"#N/A"},"=",{"$error":"#N/A"}]
[null,"Motor Gasoline Blending Components",{"$f":"'Industrial N2O'!C139","v":{"$error":"#N/A"}},"-",{"$f":"'Industrial N2O'!E139","v":0},"x",{"$f":"MoGasBlendCEFind","v":0},"=",{"$error":"#N/A"},"x",25,"=",{"$error":"#N/A"},"=",{"$error":"#N/A"}]
[null,"Misc. Petro Products",{"$f":"'Industrial N2O'!C140","v":{"$error":"#N/A"}},"-",{"$f":"'Industrial N2O'!E140","v":0},"x",{"$f":"MiscCEFind","v":0},"=",{"$error":"#N/A"},"x",25,"=",{"$error":"#N/A"},"=",{"$error":"#N/A"}]
[null,"Petroleum Coke",{"$f":"'Industrial N2O'!C141","v":{"$error":"#N/A"}},"-",{"$f":"'Industrial N2O'!E141","v":0},"x",{"$f":"PetCokeCEFind","v":0},"=",{"$error":"#N/A"},"x",25,"=",{"$error":"#N/A"},"=",{"$error":"#N/A"}]
[null,"Pentanes Plus",{"$f":"'Industrial N2O'!C142","v":{"$error":"#N/A"}},"-",{"$f":"'Industrial N2O'!E142","v":0},"x",{"$f":"pentanesCEFind","v":0},"=",{"$error":"#N/A"},"x",25,"=",{"$error":"#N/A"},"=",{"$error":"#N/A"}]
[null,"Residual Fuel",{"$f":"'Industrial N2O'!C143","v":{"$error":"#N/A"}},"-",{"$f":"'Industrial N2O'!E143","v":0},"x",{"$f":"ResidCEFind","v":0},"=",{"$error":"#N/A"},"x",25,"=",{"$error":"#N/A"},"=",{"$error":"#N/A"}]
[null,"Still Gas",{"$f":"'Industrial N2O'!C144","v":{"$error":"#N/A"}},"-",{"$f":"'Industrial N2O'!E144","v":0},"x",{"$f":"StillCEFind","v":0},"=",{"$error":"#N/A"},"x",25,"=",{"$error":"#N/A"},"=",{"$error":"#N/A"}]
[null,"Special Naphthas",{"$f":"'Industrial N2O'!C145","v":{"$error":"#N/A"}},"-",{"$f":"'Industrial N2O'!E145","v":0},"x",{"$f":"SpecialCEFind","v":0},"=",{"$error":"#N/A"},"x",25,"=",{"$error":"#N/A"},"=",{"$error":"#N/A"}]
[null,"Unfinished Oils",{"$f":"'Industrial N2O'!C146","v":{"$error":"#N/A"}},"-",{"$f":"'Industrial N2O'!E146","v":0},"x",{"$f":"UnfinCEFind","v":0},"=",{"$error":"#N/A"},"x",25,"=",{"$error":"#N/A"},"=",{"$error":"#N/A"}]
[null,"Waxes",{"$f":"'Industrial N2O'!C147","v":{"$error":"#N/A"}},"-",{"$f":"'Industrial N2O'!E147","v":0},"x",{"$f":"WaxesCEFind","v":0},"=",{"$error":"#N/A"},"x",25,"=",{"$error":"#N/A"},"=",{"$error":"#N/A"}]
[null,"Natural Gas",{"$f":"'Industrial N2O'!C148","v":{"$error":"#N/A"}},"-",{"$f":"'Industrial N2O'!E148","v":0},"x",{"$f":"NatGasCEFind","v":0},"=",{"$error":"#N/A"},"x",25,"=",{"$error":"#N/A"},"=",{"$error":"#N/A"}]
[null,"Wood",{"$f":"'Industrial N2O'!C149","v":{"$error":"#N/A"}},null,{"$f":"'Industrial N2O'!E149","v":"NA"},"x",{"$f":"WoodCEFind","v":0},"=",{"$f":"C149*G149","v":{"$error":"#N/A"}},"x",25,"=",{"$error":"#N/A"},"=",{"$error":"#N/A"}]
[null,"Other",{"$f":"'Industrial N2O'!C150","v":0},"-",{"$f":"'Industrial N2O'!E150","v":0},"x",{"$f":"OtherCEFind","v":0},"=",0,"x",25,"=",0,"=",0]
[null,null,null,null,null,null,null,null,null,null,"Total","=",{"$f":"SUM(M127:M150)","v":{"$error":"#N/A"}},"=",{"$error":"#N/A"}]
[]
[null,"Industrial Sector CH4",null,null,{"$f":"E123+1","v":1995}]
[null,null,"Total ",null,"Non-Energy "]
[null,null,"Consumption",null,"Consumption",null,"Emission Factor",null,"Emissions ",null,"GWP",null,"Emissions ",null,"Emissions "]
[null,"Fuel Type","(Billion Btu)",null,"(Billion Btu)",null,"(metric tons CH4 /BBtu)",null,"(metric tons CH4)",null,null,null,"(MMTCE)",null,"(MMTCO2E)"]
[null,"Coking Coal",{"$f":"'Industrial N2O'!C157","v":{"$error":"#N/A"}},"-",{"$f":"'Industrial N2O'!E157","v":0},"x",{"$f":"CokeCoalCEFind","v":0},"=",{"$f":"(C157-E157)*G157","v":{"$error":"#N/A"}},"x",{"$f":"GWPCH4","v":25},"=",{"$f":"I157*K157*CO2_C/(10^6)","v":{"$error":"#N/A"}},"=",{"$f":"M157/CO2_C","v":{"$error":"#N/A"}}]
[null,"Other Coal",{"$f":"'Industrial N2O'!C158","v":{"$error":"#N/A"}},"-",{"$f":"'Industrial N2O'!E158","v":0},"x",{"$f":"OtherCoalCEFind","v":0},"=",{"$f":"(C158-E158)*G158","v":{"$error":"#N/A"}},"x",{"$f":"GWPCH4","v":25},"=",{"$f":"I158*K158*CO2_C/(10^6)","v":{"$error":"#N/A"}},"=",{"$error":"#N/A"}]
[null,"Asphalt and Road Oil",{"$f":"'Industrial N2O'!C159","v":{"$error":"#N/A"}},"-",{"$f":"'Industrial N2O'!E159","v":0},"x",{"$f":"AsphaltCEFind","v":0},"=",{"$error":"#N/A"},"x",25,"=",{"$error":"#N/A"},"=",{"$error":"#N/A"}]
[null,"Aviation Gasoline Blending Components",{"$f":"'Industrial N2O'!C160","v":{"$error":"#N/A"}},"-",{"$f":"'Industrial N2O'!E160","v":0},"x",{"$f":"AvGasBlendCEFind","v":0},"=",{"$error":"#N/A"},"x",25,"=",{"$error":"#N/A"},"=",{"$error":"#N/A"}]
[null,"Crude Oil",{"$f":"'Industrial N2O'!C161","v":{"$error":"#N/A"}},"-",{"$f":"'Industrial N2O'!E161","v":0},"x",{"$f":"CrudeCEFind","v":0},"=",{"$error":"#N/A"},"x",25,"=",{"$error":"#N/A"},"=",{"$error":"#N/A"}]
[null,"Distillate Fuel",{"$f":"'Industrial N2O'!C162","v":{"$error":"#N/A"}},"-",{"$f":"'Industrial N2O'!E162","v":0},"x",{"$f":"DistillCEFind","v":0},"=",{"$error":"#N/A"},"x",25,"=",{"$error":"#N/A"},"=",{"$error":"#N/A"}]
[null,"Feedstocks, Naphtha less than 401 F",{"$f":"'Industrial N2O'!C163","v":{"$error":"#N/A"}},"-",{"$f":"'Industrial N2O'!E163","v":0},"x",{"$f":"NaphCEFind","v":0},"=",{"$error":"#N/A"},"x",25,"=",{"$error":"#N/A"},"=",{"$error":"#N/A"}]
[null,"Feedstocks, Other Oils greater than 401 F",{"$f":"'Industrial N2O'!C164","v":{"$error":"#N/A"}},"-",{"$f":"'Industrial N2O'!E164","v":0},"x",{"$f":"OtherOilCEFind","v":0},"=",{"$error":"#N/A"},"x",25,"=",{"$error":"#N/A"},"=",{"$error":"#N/A"}]
[null,"Kerosene",{"$f":"'Industrial N2O'!C165","v":{"$error":"#N/A"}},"-",{"$f":"'Industrial N2O'!E165","v":0},"x",{"$f":"KeroCEFind","v":0},"=",{"$error":"#N/A"},"x",25,"=",{"$error":"#N/A"},"=",{"$error":"#N/A"}]
[null,"LPG",{"$f":"'Industrial N2O'!C166","v":{"$error":"#N/A"}},"-",{"$f":"'Industrial N2O'!E166","v":0},"x",{"$f":"LPGCEFind","v":0},"=",{"$error":"#N/A"},"x",25,"=",{"$error":"#N/A"},"=",{"$error":"#N/A"}]
[null,"Lubricants",{"$f":"'Industrial N2O'!C167","v":{"$error":"#N/A"}},"-",{"$f":"'Industrial N2O'!E167","v":0},"x",{"$f":"LubeCEFind","v":0},"=",{"$error":"#N/A"},"x",25,"=",{"$error":"#N/A"},"=",{"$error":"#N/A"}]
[null,"Motor Gasoline",{"$f":"'Industrial N2O'!C168","v":{"$error":"#N/A"}},"-",{"$f":"'Industrial N2O'!E168","v":0},"x",{"$f":"MotorGasCEFind","v":0},"=",{"$error":"#N/A"},"x",25,"=",{"$error":"#N/A"},"=",{"$error":"#N/A"}]
[null,"Motor Gasoline Blending Components",{"$f":"'Industrial N2O'!C169","v":{"$error":"#N/A"}},"-",{"$f":"'Industrial N2O'!E169","v":0},"x",{"$f":"MoGasBlendCEFind","v":0},"=",{"$error":"#N/A"},"x",25,"=",{"$error":"#N/A"},"=",{"$error":"#N/A"}]
[null,"Misc. Petro Products",{"$f":"'Industrial N2O'!C170","v":{"$error":"#N/A"}},"-",{"$f":"'Industrial N2O'!E170","v":0},"x",{"$f":"MiscCEFind","v":0},"=",{"$error":"#N/A"},"x",25,"=",{"$error":"#N/A"},"=",{"$error":"#N/A"}]
[null,"Petroleum Coke",{"$f":"'Industrial N2O'!C171","v":{"$error":"#N/A"}},"-",{"$f":"'Industrial N2O'!E171","v":0},"x",{"$f":"PetCokeCEFind","v":0},"=",{"$error":"#N/A"},"x",25,"=",{"$error":"#N/A"},"=",{"$error":"#N/A"}]
[null,"Pentanes Plus",{"$f":"'Industrial N2O'!C172","v":{"$error":"#N/A"}},"-",{"$f":"'Industrial N2O'!E172","v":0},"x",{"$f":"pentanesCEFind","v":0},"=",{"$error":"#N/A"},"x",25,"=",{"$error":"#N/A"},"=",{"$error":"#N/A"}]
[null,"Residual Fuel",{"$f":"'Industrial N2O'!C173","v":{"$error":"#N/A"}},"-",{"$f":"'Industrial N2O'!E173","v":0},"x",{"$f":"ResidCEFind","v":0},"=",{"$error":"#N/A"},"x",25,"=",{"$error":"#N/A"},"=",{"$error":"#N/A"}]
[null,"Still Gas",{"$f":"'Industrial N2O'!C174","v":{"$error":"#N/A"}},"-",{"$f":"'Industrial N2O'!E174","v":0},"x",{"$f":"StillCEFind","v":0},"=",{"$error":"#N/A"},"x",25,"=",{"$error":"#N/A"},"=",{"$error":"#N/A"}]
[null,"Special Naphthas",{"$f":"'Industrial N2O'!C175","v":{"$error":"#N/A"}},"-",{"$f":"'Industrial N2O'!E175","v":0},"x",{"$f":"SpecialCEFind","v":0},"=",{"$error":"#N/A"},"x",25,"=",{"$error":"#N/A"},"=",{"$error":"#N/A"}]
[null,"Unfinished Oils",{"$f":"'Industrial N2O'!C176","v":{"$error":"#N/A"}},"-",{"$f":"'Industrial N2O'!E176","v":0},"x",{"$f":"UnfinCEFind","v":0},"=",{"$error":"#N/A"},"x",25,"=",{"$error":"#N/A"},"=",{"$error":"#N/A"}]
[null,"Waxes",{"$f":"'Industrial N2O'!C177","v":{"$error":"#N/A"}},"-",{"$f":"'Industrial N2O'!E177","v":0},"x",{"$f":"WaxesCEFind","v":0},"=",{"$error":"#N/A"},"x",25,"=",{"$error":"#N/A"},"=",{"$error":"#N/A"}]
[null,"Natural Gas",{"$f":"'Industrial N2O'!C178","v":{"$error":"#N/A"}},"-",{"$f":"'Industrial N2O'!E178","v":0},"x",{"$f":"NatGasCEFind","v":0},"=",{"$error":"#N/A"},"x",25,"=",{"$error":"#N/A"},"=",{"$error":"#N/A"}]
[null,"Wood",{"$f":"'Industrial N2O'!C179","v":{"$error":"#N/A"}},null,{"$f":"'Industrial N2O'!E179","v":"NA"},"x",{"$f":"WoodCEFind","v":0},"=",{"$f":"C179*G179","v":{"$error":"#N/A"}},"x",25,"=",{"$error":"#N/A"},"=",{"$error":"#N/A"}]
[null,"Other",{"$f":"'Industrial N2O'!C180","v":0},"-",{"$f":"'Industrial N2O'!E180","v":0},"x",{"$f":"OtherCEFind","v":0},"=",0,"x",25,"=",0,"=",0]
[null,null,null,null,null,null,null,null,null,null,"Total","=",{"$f":"SUM(M157:M180)","v":{"$error":"#N/A"}},"=",{"$error":"#N/A"}]
[]
[null,"Industrial Sector CH4",null,null,{"$f":"E153+1","v":1996}]
[null,null,"Total ",null,"Non-Energy "]
[null,null,"Consumption",null,"Consumption",null,"Emission Factor",null,"Emissions ",null,"GWP",null,"Emissions ",null,"Emissions "]
[null,"Fuel Type","(Billion Btu)",null,"(Billion Btu)",null,"(metric tons CH4 /BBtu)",null,"(metric tons CH4)",null,null,null,"(MMTCE)",null,"(MMTCO2E)"]
[null,"Coking Coal",{"$f":"'Industrial N2O'!C187","v":{"$error":"#N/A"}},"-",{"$f":"'Industrial N2O'!E187","v":0},"x",{"$f":"CokeCoalCEFind","v":0},"=",{"$f":"(C187-E187)*G187","v":{"$error":"#N/A"}},"x",{"$f":"GWPCH4","v":25},"=",{"$f":"I187*K187*CO2_C/(10^6)","v":{"$error":"#N/A"}},"=",{"$f":"M187/CO2_C","v":{"$error":"#N/A"}}]
[null,"Other Coal",{"$f":"'Industrial N2O'!C188","v":{"$error":"#N/A"}},"-",{"$f":"'Industrial N2O'!E188","v":0},"x",{"$f":"OtherCoalCEFind","v":0},"=",{"$f":"(C188-E188)*G188","v":{"$error":"#N/A"}},"x",{"$f":"GWPCH4","v":25},"=",{"$f":"I188*K188*CO2_C/(10^6)","v":{"$error":"#N/A"}},"=",{"$error":"#N/A"}]
[null,"Asphalt and Road Oil",{"$f":"'Industrial N2O'!C189","v":{"$error":"#N/A"}},"-",{"$f":"'Industrial N2O'!E189","v":0},"x",{"$f":"AsphaltCEFind","v":0},"=",{"$error":"#N/A"},"x",25,"=",{"$error":"#N/A"},"=",{"$error":"#N/A"}]
[null,"Aviation Gasoline Blending Components",{"$f":"'Industrial N2O'!C190","v":{"$error":"#N/A"}},"-",{"$f":"'Industrial N2O'!E190","v":0},"x",{"$f":"AvGasBlendCEFind","v":0},"=",{"$error":"#N/A"},"x",25,"=",{"$error":"#N/A"},"=",{"$error":"#N/A"}]
[null,"Crude Oil",{"$f":"'Industrial N2O'!C191","v":{"$error":"#N/A"}},"-",{"$f":"'Industrial N2O'!E191","v":0},"x",{"$f":"CrudeCEFind","v":0},"=",{"$error":"#N/A"},"x",25,"=",{"$error":"#N/A"},"=",{"$error":"#N/A"}]
[null,"Distillate Fuel",{"$f":"'Industrial N2O'!C192","v":{"$error":"#N/A"}},"-",{"$f":"'Industrial N2O'!E192","v":0},"x",{"$f":"DistillCEFind","v":0},"=",{"$error":"#N/A"},"x",25,"=",{"$error":"#N/A"},"=",{"$error":"#N/A"}]
[null,"Feedstocks, Naphtha less than 401 F",{"$f":"'Industrial N2O'!C193","v":{"$error":"#N/A"}},"-",{"$f":"'Industrial N2O'!E193","v":0},"x",{"$f":"NaphCEFind","v":0},"=",{"$error":"#N/A"},"x",25,"=",{"$error":"#N/A"},"=",{"$error":"#N/A"}]
[null,"Feedstocks, Other Oils greater than 401 F",{"$f":"'Industrial N2O'!C194","v":{"$error":"#N/A"}},"-",{"$f":"'Industrial N2O'!E194","v":0},"x",{"$f":"OtherOilCEFind","v":0},"=",{"$error":"#N/A"},"x",25,"=",{"$error":"#N/A"},"=",{"$error":"#N/A"}]
[null,"Kerosene",{"$f":"'Industrial N2O'!C195","v":{"$error":"#N/A"}},"-",{"$f":"'Industrial N2O'!E195","v":0},"x",{"$f":"KeroCEFind","v":0},"=",{"$error":"#N/A"},"x",25,"=",{"$error":"#N/A"},"=",{"$error":"#N/A"}]
[null,"LPG",{"$f":"'Industrial N2O'!C196","v":{"$error":"#N/A"}},"-",{"$f":"'Industrial N2O'!E196","v":0},"x",{"$f":"LPGCEFind","v":0},"=",{"$error":"#N/A"},"x",25,"=",{"$error":"#N/A"},"=",{"$error":"#N/A"}]
[null,"Lubricants",{"$f":"'Industrial N2O'!C197","v":{"$error":"#N/A"}},"-",{"$f":"'Industrial N2O'!E197","v":0},"x",{"$f":"LubeCEFind","v":0},"=",{"$error":"#N/A"},"x",25,"=",{"$error":"#N/A"},"=",{"$error":"#N/A"}]
[null,"Motor Gasoline",{"$f":"'Industrial N2O'!C198","v":{"$error":"#N/A"}},"-",{"$f":"'Industrial N2O'!E198","v":0},"x",{"$f":"MotorGasCEFind","v":0},"=",{"$error":"#N/A"},"x",25,"=",{"$error":"#N/A"},"=",{"$error":"#N/A"}]
[null,"Motor Gasoline Blending Components",{"$f":"'Industrial N2O'!C199","v":{"$error":"#N/A"}},"-",{"$f":"'Industrial N2O'!E199","v":0},"x",{"$f":"MoGasBlendCEFind","v":0},"=",{"$error":"#N/A"},"x",25,"=",{"$error":"#N/A"},"=",{"$error":"#N/A"}]
[null,"Misc. Petro Products",{"$f":"'Industrial N2O'!C200","v":{"$error":"#N/A"}},"-",{"$f":"'Industrial N2O'!E200","v":0},"x",{"$f":"MiscCEFind","v":0},"=",{"$error":"#N/A"},"x",25,"=",{"$error":"#N/A"},"=",{"$error":"#N/A"}]
[null,"Petroleum Coke",{"$f":"'Industrial N2O'!C201","v":{"$error":"#N/A"}},"-",{"$f":"'Industrial N2O'!E201","v":0},"x",{"$f":"PetCokeCEFind","v":0},"=",{"$error":"#N/A"},"x",25,"=",{"$error":"#N/A"},"=",{"$error":"#N/A"}]
[null,"Pentanes Plus",{"$f":"'Industrial N2O'!C202","v":{"$error":"#N/A"}},"-",{"$f":"'Industrial N2O'!E202","v":0},"x",{"$f":"pentanesCEFind","v":0},"=",{"$error":"#N/A"},"x",25,"=",{"$error":"#N/A"},"=",{"$error":"#N/A"}]
[null,"Residual Fuel",{"$f":"'Industrial N2O'!C203","v":{"$error":"#N/A"}},"-",{"$f":"'Industrial N2O'!E203","v":0},"x",{"$f":"ResidCEFind","v":0},"=",{"$error":"#N/A"},"x",25,"=",{"$error":"#N/A"},"=",{"$error":"#N/A"}]
[null,"Still Gas",{"$f":"'Industrial N2O'!C204","v":{"$error":"#N/A"}},"-",{"$f":"'Industrial N2O'!E204","v":0},"x",{"$f":"StillCEFind","v":0},"=",{"$error":"#N/A"},"x",25,"=",{"$error":"#N/A"},"=",{"$error":"#N/A"}]
[null,"Special Naphthas",{"$f":"'Industrial N2O'!C205","v":{"$error":"#N/A"}},"-",{"$f":"'Industrial N2O'!E205","v":0},"x",{"$f":"SpecialCEFind","v":0},"=",{"$error":"#N/A"},"x",25,"=",{"$error":"#N/A"},"=",{"$error":"#N/A"}]
[null,"Unfinished Oils",{"$f":"'Industrial N2O'!C206","v":{"$error":"#N/A"}},"-",{"$f":"'Industrial N2O'!E206","v":0},"x",{"$f":"UnfinCEFind","v":0},"=",{"$error":"#N/A"},"x",25,"=",{"$error":"#N/A"},"=",{"$error":"#N/A"}]
[null,"Waxes",{"$f":"'Industrial N2O'!C207","v":{"$error":"#N/A"}},"-",{"$f":"'Industrial N2O'!E207","v":0},"x",{"$f":"WaxesCEFind","v":0},"=",{"$error":"#N/A"},"x",25,"=",{"$error":"#N/A"},"=",{"$error":"#N/A"}]
[null,"Natural Gas",{"$f":"'Industrial N2O'!C208","v":{"$error":"#N/A"}},"-",{"$f":"'Industrial N2O'!E208","v":0},"x",{"$f":"NatGasCEFind","v":0},"=",{"$error":"#N/A"},"x",25,"=",{"$error":"#N/A"},"=",{"$error":"#N/A"}]
[null,"Wood",{"$f":"'Industrial N2O'!C209","v":{"$error":"#N/A"}},null,"NA","x",{"$f":"WoodCEFind","v":0},"=",{"$f":"C209*G209","v":{"$error":"#N/A"}},"x",25,"=",{"$error":"#N/A"},"=",{"$error":"#N/A"}]
[null,"Other",{"$f":"'Industrial N2O'!C210","v":0},"-",{"$f":"'Industrial N2O'!E210","v":0},"x",{"$f":"OtherCEFind","v":0},"=",0,"x",25,"=",0,"=",0]
[null,null,null,null,null,null,null,null,null,null,"Total","=",{"$f":"SUM(M187:M210)","v":{"$error":"#N/A"}},"=",{"$error":"#N/A"}]
[]
[null,"Industrial Sector CH4",null,null,{"$f":"E183+1","v":1997}]
[null,null,"Total ",null,"Non-Energy "]
[null,null,"Consumption",null,"Consumption",null,"Emission Factor",null,"Emissions ",null,"GWP",null,"Emissions ",null,"Emissions "]
[null,"Fuel Type","(Billion Btu)",null,"(Billion Btu)",null,"(metric tons CH4 /BBtu)",null,"(metric tons CH4)",null,null,null,"(MMTCE)",null,"(MMTCO2E)"]
[null,"Coking Coal",{"$f":"'Industrial N2O'!C217","v":{"$error":"#N/A"}},"-",{"$f":"'Industrial N2O'!E217","v":0},"x",{"$f":"CokeCoalCEFind","v":0},"=",{"$f":"(C217-E217)*G217","v":{"$error":"#N/A"}},"x",{"$f":"GWPCH4","v":25},"=",{"$f":"I217*K217*CO2_C/(10^6)","v":{"$error":"#N/A"}},"=",{"$f":"M217/CO2_C","v":{"$error":"#N/A"}}]
[null,"Other Coal",{"$f":"'Industrial N2O'!C218","v":{"$error":"#N/A"}},"-",{"$f":"'Industrial N2O'!E218","v":0},"x",{"$f":"OtherCoalCEFind","v":0},"=",{"$f":"(C218-E218)*G218","v":{"$error":"#N/A"}},"x",{"$f":"GWPCH4","v":25},"=",{"$f":"I218*K218*CO2_C/(10^6)","v":{"$error":"#N/A"}},"=",{"$error":"#N/A"}]
[null,"Asphalt and Road Oil",{"$f":"'Industrial N2O'!C219","v":{"$error":"#N/A"}},"-",{"$f":"'Industrial N2O'!E219","v":0},"x",{"$f":"AsphaltCEFind","v":0},"=",{"$error":"#N/A"},"x",25,"=",{"$error":"#N/A"},"=",{"$error":"#N/A"}]
[null,"Aviation Gasoline Blending Components",{"$f":"'Industrial N2O'!C220","v":{"$error":"#N/A"}},"-",{"$f":"'Industrial N2O'!E220","v":0},"x",{"$f":"AvGasBlendCEFind","v":0},"=",{"$error":"#N/A"},"x",25,"=",{"$error":"#N/A"},"=",{"$error":"#N/A"}]
[null,"Crude Oil",{"$f":"'Industrial N2O'!C221","v":{"$error":"#N/A"}},"-",{"$f":"'Industrial N2O'!E221","v":0},"x",{"$f":"CrudeCEFind","v":0},"=",{"$error":"#N/A"},"x",25,"=",{"$error":"#N/A"},"=",{"$error":"#N/A"}]
[null,"Distillate Fuel",{"$f":"'Industrial N2O'!C222","v":{"$error":"#N/A"}},"-",{"$f":"'Industrial N2O'!E222","v":0},"x",{"$f":"DistillCEFind","v":0},"=",{"$error":"#N/A"},"x",25,"=",{"$error":"#N/A"},"=",{"$error":"#N/A"}]
[null,"Feedstocks, Naphtha less than 401 F",{"$f":"'Industrial N2O'!C223","v":{"$error":"#N/A"}},"-",{"$f":"'Industrial N2O'!E223","v":0},"x",{"$f":"NaphCEFind","v":0},"=",{"$error":"#N/A"},"x",25,"=",{"$error":"#N/A"},"=",{"$error":"#N/A"}]
[null,"Feedstocks, Other Oils greater than 401 F",{"$f":"'Industrial N2O'!C224","v":{"$error":"#N/A"}},"-",{"$f":"'Industrial N2O'!E224","v":0},"x",{"$f":"OtherOilCEFind","v":0},"=",{"$error":"#N/A"},"x",25,"=",{"$error":"#N/A"},"=",{"$error":"#N/A"}]
[null,"Kerosene",{"$f":"'Industrial N2O'!C225","v":{"$error":"#N/A"}},"-",{"$f":"'Industrial N2O'!E225","v":0},"x",{"$f":"KeroCEFind","v":0},"=",{"$error":"#N/A"},"x",25,"=",{"$error":"#N/A"},"=",{"$error":"#N/A"}]
[null,"LPG",{"$f":"'Industrial N2O'!C226","v":{"$error":"#N/A"}},"-",{"$f":"'Industrial N2O'!E226","v":0},"x",{"$f":"LPGCEFind","v":0},"=",{"$error":"#N/A"},"x",25,"=",{"$error":"#N/A"},"=",{"$error":"#N/A"}]
[null,"Lubricants",{"$f":"'Industrial N2O'!C227","v":{"$error":"#N/A"}},"-",{"$f":"'Industrial N2O'!E227","v":0},"x",{"$f":"LubeCEFind","v":0},"=",{"$error":"#N/A"},"x",25,"=",{"$error":"#N/A"},"=",{"$error":"#N/A"}]
[null,"Motor Gasoline",{"$f":"'Industrial N2O'!C228","v":{"$error":"#N/A"}},"-",{"$f":"'Industrial N2O'!E228","v":0},"x",{"$f":"MotorGasCEFind","v":0},"=",{"$error":"#N/A"},"x",25,"=",{"$error":"#N/A"},"=",{"$error":"#N/A"}]
[null,"Motor Gasoline Blending Components",{"$f":"'Industrial N2O'!C229","v":{"$error":"#N/A"}},"-",{"$f":"'Industrial N2O'!E229","v":0},"x",{"$f":"MoGasBlendCEFind","v":0},"=",{"$error":"#N/A"},"x",25,"=",{"$error":"#N/A"},"=",{"$error":"#N/A"}]
[null,"Misc. Petro Products",{"$f":"'Industrial N2O'!C230","v":{"$error":"#N/A"}},"-",{"$f":"'Industrial N2O'!E230","v":0},"x",{"$f":"MiscCEFind","v":0},"=",{"$error":"#N/A"},"x",25,"=",{"$error":"#N/A"},"=",{"$error":"#N/A"}]
[null,"Petroleum Coke",{"$f":"'Industrial N2O'!C231","v":{"$error":"#N/A"}},"-",{"$f":"'Industrial N2O'!E231","v":0},"x",{"$f":"PetCokeCEFind","v":0},"=",{"$error":"#N/A"},"x",25,"=",{"$error":"#N/A"},"=",{"$error":"#N/A"}]
[null,"Pentanes Plus",{"$f":"'Industrial N2O'!C232","v":{"$error":"#N/A"}},"-",{"$f":"'Industrial N2O'!E232","v":0},"x",{"$f":"pentanesCEFind","v":0},"=",{"$error":"#N/A"},"x",25,"=",{"$error":"#N/A"},"=",{"$error":"#N/A"}]
[null,"Residual Fuel",{"$f":"'Industrial N2O'!C233","v":{"$error":"#N/A"}},"-",{"$f":"'Industrial N2O'!E233","v":0},"x",{"$f":"ResidCEFind","v":0},"=",{"$error":"#N/A"},"x",25,"=",{"$error":"#N/A"},"=",{"$error":"#N/A"}]
[null,"Still Gas",{"$f":"'Industrial N2O'!C234","v":{"$error":"#N/A"}},"-",{"$f":"'Industrial N2O'!E234","v":0},"x",{"$f":"StillCEFind","v":0},"=",{"$error":"#N/A"},"x",25,"=",{"$error":"#N/A"},"=",{"$error":"#N/A"}]
[null,"Special Naphthas",{"$f":"'Industrial N2O'!C235","v":{"$error":"#N/A"}},"-",{"$f":"'Industrial N2O'!E235","v":0},"x",{"$f":"SpecialCEFind","v":0},"=",{"$error":"#N/A"},"x",25,"=",{"$error":"#N/A"},"=",{"$error":"#N/A"}]
[null,"Unfinished Oils",{"$f":"'Industrial N2O'!C236","v":{"$error":"#N/A"}},"-",{"$f":"'Industrial N2O'!E236","v":0},"x",{"$f":"UnfinCEFind","v":0},"=",{"$error":"#N/A"},"x",25,"=",{"$error":"#N/A"},"=",{"$error":"#N/A"}]
[null,"Waxes",{"$f":"'Industrial N2O'!C237","v":{"$error":"#N/A"}},"-",{"$f":"'Industrial N2O'!E237","v":0},"x",{"$f":"WaxesCEFind","v":0},"=",{"$error":"#N/A"},"x",25,"=",{"$error":"#N/A"},"=",{"$error":"#N/A"}]
[null,"Natural Gas",{"$f":"'Industrial N2O'!C238","v":{"$error":"#N/A"}},"-",{"$f":"'Industrial N2O'!E238","v":0},"x",{"$f":"NatGasCEFind","v":0},"=",{"$error":"#N/A"},"x",25,"=",{"$error":"#N/A"},"=",{"$error":"#N/A"}]
[null,"Wood",{"$f":"'Industrial N2O'!C239","v":{"$error":"#N/A"}},null,"NA","x",{"$f":"WoodCEFind","v":0},"=",{"$f":"C239*G239","v":{"$error":"#N/A"}},"x",25,"=",{"$error":"#N/A"},"=",{"$error":"#N/A"}]
[null,"Other",{"$f":"'Industrial N2O'!C240","v":0},"-",{"$f":"'Industrial N2O'!E240","v":0},"x",{"$f":"OtherCEFind","v":0},"=",0,"x",25,"=",0,"=",0]
[null,null,null,null,null,null,null,null,null,null,"Total","=",{"$f":"SUM(M217:M240)","v":{"$error":"#N/A"}},"=",{"$error":"#N/A"}]
[]
[null,"Industrial Sector CH4",null,null,{"$f":"E213+1","v":1998}]
[null,null,"Total ",null,"Non-Energy "]
[null,null,"Consumption",null,"Consumption",null,"Emission Factor",null,"Emissions ",null,"GWP",null,"Emissions ",null,"Emissions "]
[null,"Fuel Type","(Billion Btu)",null,"(Billion Btu)",null,"(metric tons CH4 /BBtu)",null,"(metric tons CH4)",null,null,null,"(MMTCE)",null,"(MMTCO2E)"]
[null,"Coking Coal",{"$f":"'Industrial N2O'!C247","v":{"$error":"#N/A"}},"-",{"$f":"'Industrial N2O'!E247","v":0},"x",{"$f":"CokeCoalCEFind","v":0},"=",{"$f":"(C247-E247)*G247","v":{"$error":"#N/A"}},"x",{"$f":"GWPCH4","v":25},"=",{"$f":"I247*K247*CO2_C/(10^6)","v":{"$error":"#N/A"}},"=",{"$f":"M247/CO2_C","v":{"$error":"#N/A"}}]
[null,"Other Coal",{"$f":"'Industrial N2O'!C248","v":{"$error":"#N/A"}},"-",{"$f":"'Industrial N2O'!E248","v":0},"x",{"$f":"OtherCoalCEFind","v":0},"=",{"$f":"(C248-E248)*G248","v":{"$error":"#N/A"}},"x",{"$f":"GWPCH4","v":25},"=",{"$f":"I248*K248*CO2_C/(10^6)","v":{"$error":"#N/A"}},"=",{"$error":"#N/A"}]
[null,"Asphalt and Road Oil",{"$f":"'Industrial N2O'!C249","v":{"$error":"#N/A"}},"-",{"$f":"'Industrial N2O'!E249","v":0},"x",{"$f":"AsphaltCEFind","v":0},"=",{"$error":"#N/A"},"x",25,"=",{"$error":"#N/A"},"=",{"$error":"#N/A"}]
[null,"Aviation Gasoline Blending Components",{"$f":"'Industrial N2O'!C250","v":{"$error":"#N/A"}},"-",{"$f":"'Industrial N2O'!E250","v":0},"x",{"$f":"AvGasBlendCEFind","v":0},"=",{"$error":"#N/A"},"x",25,"=",{"$error":"#N/A"},"=",{"$error":"#N/A"}]
[null,"Crude Oil",{"$f":"'Industrial N2O'!C251","v":{"$error":"#N/A"}},"-",{"$f":"'Industrial N2O'!E251","v":0},"x",{"$f":"CrudeCEFind","v":0},"=",{"$error":"#N/A"},"x",25,"=",{"$error":"#N/A"},"=",{"$error":"#N/A"}]
[null,"Distillate Fuel",{"$f":"'Industrial N2O'!C252","v":{"$error":"#N/A"}},"-",{"$f":"'Industrial N2O'!E252","v":0},"x",{"$f":"DistillCEFind","v":0},"=",{"$error":"#N/A"},"x",25,"=",{"$error":"#N/A"},"=",{"$error":"#N/A"}]
[null,"Feedstocks, Naphtha less than 401 F",{"$f":"'Industrial N2O'!C253","v":{"$error":"#N/A"}},"-",{"$f":"'Industrial N2O'!E253","v":0},"x",{"$f":"NaphCEFind","v":0},"=",{"$error":"#N/A"},"x",25,"=",{"$error":"#N/A"},"=",{"$error":"#N/A"}]
[null,"Feedstocks, Other Oils greater than 401 F",{"$f":"'Industrial N2O'!C254","v":{"$error":"#N/A"}},"-",{"$f":"'Industrial N2O'!E254","v":0},"x",{"$f":"OtherOilCEFind","v":0},"=",{"$error":"#N/A"},"x",25,"=",{"$error":"#N/A"},"=",{"$error":"#N/A"}]
[null,"Kerosene",{"$f":"'Industrial N2O'!C255","v":{"$error":"#N/A"}},"-",{"$f":"'Industrial N2O'!E255","v":0},"x",{"$f":"KeroCEFind","v":0},"=",{"$error":"#N/A"},"x",25,"=",{"$error":"#N/A"},"=",{"$error":"#N/A"}]
[null,"LPG",{"$f":"'Industrial N2O'!C256","v":{"$error":"#N/A"}},"-",{"$f":"'Industrial N2O'!E256","v":0},"x",{"$f":"LPGCEFind","v":0},"=",{"$error":"#N/A"},"x",25,"=",{"$error":"#N/A"},"=",{"$error":"#N/A"}]
[null,"Lubricants",{"$f":"'Industrial N2O'!C257","v":{"$error":"#N/A"}},"-",{"$f":"'Industrial N2O'!E257","v":0},"x",{"$f":"LubeCEFind","v":0},"=",{"$error":"#N/A"},"x",25,"=",{"$error":"#N/A"},"=",{"$error":"#N/A"}]
[null,"Motor Gasoline",{"$f":"'Industrial N2O'!C258","v":{"$error":"#N/A"}},"-",{"$f":"'Industrial N2O'!E258","v":0},"x",{"$f":"MotorGasCEFind","v":0},"=",{"$error":"#N/A"},"x",25,"=",{"$error":"#N/A"},"=",{"$error":"#N/A"}]
[null,"Motor Gasoline Blending Components",{"$f":"'Industrial N2O'!C259","v":{"$error":"#N/A"}},"-",{"$f":"'Industrial N2O'!E259","v":0},"x",{"$f":"MoGasBlendCEFind","v":0},"=",{"$error":"#N/A"},"x",25,"=",{"$error":"#N/A"},"=",{"$error":"#N/A"}]
[null,"Misc. Petro Products",{"$f":"'Industrial N2O'!C260","v":{"$error":"#N/A"}},"-",{"$f":"'Industrial N2O'!E260","v":0},"x",{"$f":"MiscCEFind","v":0},"=",{"$error":"#N/A"},"x",25,"=",{"$error":"#N/A"},"=",{"$error":"#N/A"}]
[null,"Petroleum Coke",{"$f":"'Industrial N2O'!C261","v":{"$error":"#N/A"}},"-",{"$f":"'Industrial N2O'!E261","v":0},"x",{"$f":"PetCokeCEFind","v":0},"=",{"$error":"#N/A"},"x",25,"=",{"$error":"#N/A"},"=",{"$error":"#N/A"}]
[null,"Pentanes Plus",{"$f":"'Industrial N2O'!C262","v":{"$error":"#N/A"}},"-",{"$f":"'Industrial N2O'!E262","v":0},"x",{"$f":"pentanesCEFind","v":0},"=",{"$error":"#N/A"},"x",25,"=",{"$error":"#N/A"},"=",{"$error":"#N/A"}]
[null,"Residual Fuel",{"$f":"'Industrial N2O'!C263","v":{"$error":"#N/A"}},"-",{"$f":"'Industrial N2O'!E263","v":0},"x",{"$f":"ResidCEFind","v":0},"=",{"$error":"#N/A"},"x",25,"=",{"$error":"#N/A"},"=",{"$error":"#N/A"}]
[null,"Still Gas",{"$f":"'Industrial N2O'!C264","v":{"$error":"#N/A"}},"-",{"$f":"'Industrial N2O'!E264","v":0},"x",{"$f":"StillCEFind","v":0},"=",{"$error":"#N/A"},"x",25,"=",{"$error":"#N/A"},"=",{"$error":"#N/A"}]
[null,"Special Naphthas",{"$f":"'Industrial N2O'!C265","v":{"$error":"#N/A"}},"-",{"$f":"'Industrial N2O'!E265","v":0},"x",{"$f":"SpecialCEFind","v":0},"=",{"$error":"#N/A"},"x",25,"=",{"$error":"#N/A"},"=",{"$error":"#N/A"}]
[null,"Unfinished Oils",{"$f":"'Industrial N2O'!C266","v":{"$error":"#N/A"}},"-",{"$f":"'Industrial N2O'!E266","v":0},"x",{"$f":"UnfinCEFind","v":0},"=",{"$error":"#N/A"},"x",25,"=",{"$error":"#N/A"},"=",{"$error":"#N/A"}]
[null,"Waxes",{"$f":"'Industrial N2O'!C267","v":{"$error":"#N/A"}},"-",{"$f":"'Industrial N2O'!E267","v":0},"x",{"$f":"WaxesCEFind","v":0},"=",{"$error":"#N/A"},"x",25,"=",{"$error":"#N/A"},"=",{"$error":"#N/A"}]
[null,"Natural Gas",{"$f":"'Industrial N2O'!C268","v":{"$error":"#N/A"}},"-",{"$f":"'Industrial N2O'!E268","v":0},"x",{"$f":"NatGasCEFind","v":0},"=",{"$error":"#N/A"},"x",25,"=",{"$error":"#N/A"},"=",{"$error":"#N/A"}]
[null,"Wood",{"$f":"'Industrial N2O'!C269","v":{"$error":"#N/A"}},null,"NA","x",{"$f":"WoodCEFind","v":0},"=",{"$f":"C269*G269","v":{"$error":"#N/A"}},"x",25,"=",{"$error":"#N/A"},"=",{"$error":"#N/A"}]
[null,"Other",{"$f":"'Industrial N2O'!C270","v":0},"-",{"$f":"'Industrial N2O'!E270","v":0},"x",{"$f":"OtherCEFind","v":0},"=",0,"x",25,"=",0,"=",0]
[null,null,null,null,null,null,null,null,null,null,"Total","=",{"$f":"SUM(M247:M270)","v":{"$error":"#N/A"}},"=",{"$error":"#N/A"}]
[]
[null,"Industrial Sector CH4",null,null,{"$f":"E243+1","v":1999}]
[null,null,"Total ",null,"Non-Energy "]
[null,null,"Consumption",null,"Consumption",null,"Emission Factor",null,"Emissions ",null,"GWP",null,"Emissions ",null,"Emissions "]
[null,"Fuel Type","(Billion Btu)",null,"(Billion Btu)",null,"(metric tons CH4 /BBtu)",null,"(metric tons CH4)",null,null,null,"(MMTCE)",null,"(MMTCO2E)"]
[null,"Coking Coal",{"$f":"'Industrial N2O'!C277","v":{"$error":"#N/A"}},"-",{"$f":"'Industrial N2O'!E277","v":0},"x",{"$f":"CokeCoalCEFind","v":0},"=",{"$f":"(C277-E277)*G277","v":{"$error":"#N/A"}},"x",{"$f":"GWPCH4","v":25},"=",{"$f":"I277*K277*CO2_C/(10^6)","v":{"$error":"#N/A"}},"=",{"$f":"M277/CO2_C","v":{"$error":"#N/A"}}]
[null,"Other Coal",{"$f":"'Industrial N2O'!C278","v":{"$error":"#N/A"}},"-",{"$f":"'Industrial N2O'!E278","v":0},"x",{"$f":"OtherCoalCEFind","v":0},"=",{"$f":"(C278-E278)*G278","v":{"$error":"#N/A"}},"x",{"$f":"GWPCH4","v":25},"=",{"$f":"I278*K278*CO2_C/(10^6)","v":{"$error":"#N/A"}},"=",{"$error":"#N/A"}]
[null,"Asphalt and Road Oil",{"$f":"'Industrial N2O'!C279","v":{"$error":"#N/A"}},"-",{"$f":"'Industrial N2O'!E279","v":0},"x",{"$f":"AsphaltCEFind","v":0},"=",{"$error":"#N/A"},"x",25,"=",{"$error":"#N/A"},"=",{"$error":"#N/A"}]
[null,"Aviation Gasoline Blending Components",{"$f":"'Industrial N2O'!C280","v":{"$error":"#N/A"}},"-",{"$f":"'Industrial N2O'!E280","v":0},"x",{"$f":"AvGasBlendCEFind","v":0},"=",{"$error":"#N/A"},"x",25,"=",{"$error":"#N/A"},"=",{"$error":"#N/A"}]
[null,"Crude Oil",{"$f":"'Industrial N2O'!C281","v":{"$error":"#N/A"}},"-",{"$f":"'Industrial N2O'!E281","v":0},"x",{"$f":"CrudeCEFind","v":0},"=",{"$error":"#N/A"},"x",25,"=",{"$error":"#N/A"},"=",{"$error":"#N/A"}]
[null,"Distillate Fuel",{"$f":"'Industrial N2O'!C282","v":{"$error":"#N/A"}},"-",{"$f":"'Industrial N2O'!E282","v":0},"x",{"$f":"DistillCEFind","v":0},"=",{"$error":"#N/A"},"x",25,"=",{"$error":"#N/A"},"=",{"$error":"#N/A"}]
[null,"Feedstocks, Naphtha less than 401 F",{"$f":"'Industrial N2O'!C283","v":{"$error":"#N/A"}},"-",{"$f":"'Industrial N2O'!E283","v":0},"x",{"$f":"NaphCEFind","v":0},"=",{"$error":"#N/A"},"x",25,"=",{"$error":"#N/A"},"=",{"$error":"#N/A"}]
[null,"Feedstocks, Other Oils greater than 401 F",{"$f":"'Industrial N2O'!C284","v":{"$error":"#N/A"}},"-",{"$f":"'Industrial N2O'!E284","v":0},"x",{"$f":"OtherOilCEFind","v":0},"=",{"$error":"#N/A"},"x",25,"=",{"$error":"#N/A"},"=",{"$error":"#N/A"}]
[null,"Kerosene",{"$f":"'Industrial N2O'!C285","v":{"$error":"#N/A"}},"-",{"$f":"'Industrial N2O'!E285","v":0},"x",{"$f":"KeroCEFind","v":0},"=",{"$error":"#N/A"},"x",25,"=",{"$error":"#N/A"},"=",{"$error":"#N/A"}]
[null,"LPG",{"$f":"'Industrial N2O'!C286","v":{"$error":"#N/A"}},"-",{"$f":"'Industrial N2O'!E286","v":0},"x",{"$f":"LPGCEFind","v":0},"=",{"$error":"#N/A"},"x",25,"=",{"$error":"#N/A"},"=",{"$error":"#N/A"}]
[null,"Lubricants",{"$f":"'Industrial N2O'!C287","v":{"$error":"#N/A"}},"-",{"$f":"'Industrial N2O'!E287","v":0},"x",{"$f":"LubeCEFind","v":0},"=",{"$error":"#N/A"},"x",25,"=",{"$error":"#N/A"},"=",{"$error":"#N/A"}]
[null,"Motor Gasoline",{"$f":"'Industrial N2O'!C288","v":{"$error":"#N/A"}},"-",{"$f":"'Industrial N2O'!E288","v":0},"x",{"$f":"MotorGasCEFind","v":0},"=",{"$error":"#N/A"},"x",25,"=",{"$error":"#N/A"},"=",{"$error":"#N/A"}]
[null,"Motor Gasoline Blending Components",{"$f":"'Industrial N2O'!C289","v":{"$error":"#N/A"}},"-",{"$f":"'Industrial N2O'!E289","v":0},"x",{"$f":"MoGasBlendCEFind","v":0},"=",{"$error":"#N/A"},"x",25,"=",{"$error":"#N/A"},"=",{"$error":"#N/A"}]
[null,"Misc. Petro Products",{"$f":"'Industrial N2O'!C290","v":{"$error":"#N/A"}},"-",{"$f":"'Industrial N2O'!E290","v":0},"x",{"$f":"MiscCEFind","v":0},"=",{"$error":"#N/A"},"x",25,"=",{"$error":"#N/A"},"=",{"$error":"#N/A"}]
[null,"Petroleum Coke",{"$f":"'Industrial N2O'!C291","v":{"$error":"#N/A"}},"-",{"$f":"'Industrial N2O'!E291","v":0},"x",{"$f":"PetCokeCEFind","v":0},"=",{"$error":"#N/A"},"x",25,"=",{"$error":"#N/A"},"=",{"$error":"#N/A"}]
[null,"Pentanes Plus",{"$f":"'Industrial N2O'!C292","v":{"$error":"#N/A"}},"-",{"$f":"'Industrial N2O'!E292","v":0},"x",{"$f":"pentanesCEFind","v":0},"=",{"$error":"#N/A"},"x",25,"=",{"$error":"#N/A"},"=",{"$error":"#N/A"}]
[null,"Residual Fuel",{"$f":"'Industrial N2O'!C293","v":{"$error":"#N/A"}},"-",{"$f":"'Industrial N2O'!E293","v":0},"x",{"$f":"ResidCEFind","v":0},"=",{"$error":"#N/A"},"x",25,"=",{"$error":"#N/A"},"=",{"$error":"#N/A"}]
[null,"Still Gas",{"$f":"'Industrial N2O'!C294","v":{"$error":"#N/A"}},"-",{"$f":"'Industrial N2O'!E294","v":0},"x",{"$f":"StillCEFind","v":0},"=",{"$error":"#N/A"},"x",25,"=",{"$error":"#N/A"},"=",{"$error":"#N/A"}]
[null,"Special Naphthas",{"$f":"'Industrial N2O'!C295","v":{"$error":"#N/A"}},"-",{"$f":"'Industrial N2O'!E295","v":0},"x",{"$f":"SpecialCEFind","v":0},"=",{"$error":"#N/A"},"x",25,"=",{"$error":"#N/A"},"=",{"$error":"#N/A"}]
[null,"Unfinished Oils",{"$f":"'Industrial N2O'!C296","v":{"$error":"#N/A"}},"-",{"$f":"'Industrial N2O'!E296","v":0},"x",{"$f":"UnfinCEFind","v":0},"=",{"$error":"#N/A"},"x",25,"=",{"$error":"#N/A"},"=",{"$error":"#N/A"}]
[null,"Waxes",{"$f":"'Industrial N2O'!C297","v":{"$error":"#N/A"}},"-",{"$f":"'Industrial N2O'!E297","v":0},"x",{"$f":"WaxesCEFind","v":0},"=",{"$error":"#N/A"},"x",25,"=",{"$error":"#N/A"},"=",{"$error":"#N/A"}]
[null,"Natural Gas",{"$f":"'Industrial N2O'!C298","v":{"$error":"#N/A"}},"-",{"$f":"'Industrial N2O'!E298","v":0},"x",{"$f":"NatGasCEFind","v":0},"=",{"$error":"#N/A"},"x",25,"=",{"$error":"#N/A"},"=",{"$error":"#N/A"}]
[null,"Wood",{"$f":"'Industrial N2O'!C299","v":{"$error":"#N/A"}},null,"NA","x",{"$f":"WoodCEFind","v":0},"=",{"$f":"C299*G299","v":{"$error":"#N/A"}},"x",25,"=",{"$error":"#N/A"},"=",{"$error":"#N/A"}]
[null,"Other",{"$f":"'Industrial N2O'!C300","v":0},"-",{"$f":"'Industrial N2O'!E300","v":0},"x",{"$f":"OtherCEFind","v":0},"=",0,"x",25,"=",0,"=",0]
[null,null,null,null,null,null,null,null,null,null,"Total","=",{"$f":"SUM(M277:M300)","v":{"$error":"#N/A"}},"=",{"$error":"#N/A"}]
[]
[null,"Industrial Sector CH4",null,null,{"$f":"E273+1","v":2000}]
[null,null,"Total ",null,"Non-Energy "]
[null,null,"Consumption",null,"Consumption",null,"Emission Factor",null,"Emissions ",null,"GWP",null,"Emissions ",null,"Emissions "]
[null,"Fuel Type","(Billion Btu)",null,"(Billion Btu)",null,"(metric tons CH4 /BBtu)",null,"(metric tons CH4)",null,null,null,"(MMTCE)",null,"(MMTCO2E)"]
[null,"Coking Coal",{"$f":"'Industrial N2O'!C307","v":{"$error":"#N/A"}},"-",{"$f":"'Industrial N2O'!E307","v":0},"x",{"$f":"CokeCoalCEFind","v":0},"=",{"$f":"(C307-E307)*G307","v":{"$error":"#N/A"}},"x",{"$f":"GWPCH4","v":25},"=",{"$f":"I307*K307*CO2_C/(10^6)","v":{"$error":"#N/A"}},"=",{"$f":"M307/CO2_C","v":{"$error":"#N/A"}}]
[null,"Other Coal",{"$f":"'Industrial N2O'!C308","v":{"$error":"#N/A"}},"-",{"$f":"'Industrial N2O'!E308","v":0},"x",{"$f":"OtherCoalCEFind","v":0},"=",{"$f":"(C308-E308)*G308","v":{"$error":"#N/A"}},"x",{"$f":"GWPCH4","v":25},"=",{"$f":"I308*K308*CO2_C/(10^6)","v":{"$error":"#N/A"}},"=",{"$error":"#N/A"}]
[null,"Asphalt and Road Oil",{"$f":"'Industrial N2O'!C309","v":{"$error":"#N/A"}},"-",{"$f":"'Industrial N2O'!E309","v":0},"x",{"$f":"AsphaltCEFind","v":0},"=",{"$error":"#N/A"},"x",25,"=",{"$error":"#N/A"},"=",{"$error":"#N/A"}]
[null,"Aviation Gasoline Blending Components",{"$f":"'Industrial N2O'!C310","v":{"$error":"#N/A"}},"-",{"$f":"'Industrial N2O'!E310","v":0},"x",{"$f":"AvGasBlendCEFind","v":0},"=",{"$error":"#N/A"},"x",25,"=",{"$error":"#N/A"},"=",{"$error":"#N/A"}]
[null,"Crude Oil",{"$f":"'Industrial N2O'!C311","v":{"$error":"#N/A"}},"-",{"$f":"'Industrial N2O'!E311","v":0},"x",{"$f":"CrudeCEFind","v":0},"=",{"$error":"#N/A"},"x",25,"=",{"$error":"#N/A"},"=",{"$error":"#N/A"}]
[null,"Distillate Fuel",{"$f":"'Industrial N2O'!C312","v":{"$error":"#N/A"}},"-",{"$f":"'Industrial N2O'!E312","v":0},"x",{"$f":"DistillCEFind","v":0},"=",{"$error":"#N/A"},"x",25,"=",{"$error":"#N/A"},"=",{"$error":"#N/A"}]
[null,"Feedstocks, Naphtha less than 401 F",{"$f":"'Industrial N2O'!C313","v":{"$error":"#N/A"}},"-",{"$f":"'Industrial N2O'!E313","v":0},"x",{"$f":"NaphCEFind","v":0},"=",{"$error":"#N/A"},"x",25,"=",{"$error":"#N/A"},"=",{"$error":"#N/A"}]
[null,"Feedstocks, Other Oils greater than 401 F",{"$f":"'Industrial N2O'!C314","v":{"$error":"#N/A"}},"-",{"$f":"'Industrial N2O'!E314","v":0},"x",{"$f":"OtherOilCEFind","v":0},"=",{"$error":"#N/A"},"x",25,"=",{"$error":"#N/A"},"=",{"$error":"#N/A"}]
[null,"Kerosene",{"$f":"'Industrial N2O'!C315","v":{"$error":"#N/A"}},"-",{"$f":"'Industrial N2O'!E315","v":0},"x",{"$f":"KeroCEFind","v":0},"=",{"$error":"#N/A"},"x",25,"=",{"$error":"#N/A"},"=",{"$error":"#N/A"}]
[null,"LPG",{"$f":"'Industrial N2O'!C316","v":{"$error":"#N/A"}},"-",{"$f":"'Industrial N2O'!E316","v":0},"x",{"$f":"LPGCEFind","v":0},"=",{"$error":"#N/A"},"x",25,"=",{"$error":"#N/A"},"=",{"$error":"#N/A"}]
[null,"Lubricants",{"$f":"'Industrial N2O'!C317","v":{"$error":"#N/A"}},"-",{"$f":"'Industrial N2O'!E317","v":0},"x",{"$f":"LubeCEFind","v":0},"=",{"$error":"#N/A"},"x",25,"=",{"$error":"#N/A"},"=",{"$error":"#N/A"}]
[null,"Motor Gasoline",{"$f":"'Industrial N2O'!C318","v":{"$error":"#N/A"}},"-",{"$f":"'Industrial N2O'!E318","v":0},"x",{"$f":"MotorGasCEFind","v":0},"=",{"$error":"#N/A"},"x",25,"=",{"$error":"#N/A"},"=",{"$error":"#N/A"}]
[null,"Motor Gasoline Blending Components",{"$f":"'Industrial N2O'!C319","v":{"$error":"#N/A"}},"-",{"$f":"'Industrial N2O'!E319","v":0},"x",{"$f":"MoGasBlendCEFind","v":0},"=",{"$error":"#N/A"},"x",25,"=",{"$error":"#N/A"},"=",{"$error":"#N/A"}]
[null,"Misc. Petro Products",{"$f":"'Industrial N2O'!C320","v":{"$error":"#N/A"}},"-",{"$f":"'Industrial N2O'!E320","v":0},"x",{"$f":"MiscCEFind","v":0},"=",{"$error":"#N/A"},"x",25,"=",{"$error":"#N/A"},"=",{"$error":"#N/A"}]
[null,"Petroleum Coke",{"$f":"'Industrial N2O'!C321","v":{"$error":"#N/A"}},"-",{"$f":"'Industrial N2O'!E321","v":0},"x",{"$f":"PetCokeCEFind","v":0},"=",{"$error":"#N/A"},"x",25,"=",{"$error":"#N/A"},"=",{"$error":"#N/A"}]
[null,"Pentanes Plus",{"$f":"'Industrial N2O'!C322","v":{"$error":"#N/A"}},"-",{"$f":"'Industrial N2O'!E322","v":0},"x",{"$f":"pentanesCEFind","v":0},"=",{"$error":"#N/A"},"x",25,"=",{"$error":"#N/A"},"=",{"$error":"#N/A"}]
[null,"Residual Fuel",{"$f":"'Industrial N2O'!C323","v":{"$error":"#N/A"}},"-",{"$f":"'Industrial N2O'!E323","v":0},"x",{"$f":"ResidCEFind","v":0},"=",{"$error":"#N/A"},"x",25,"=",{"$error":"#N/A"},"=",{"$error":"#N/A"}]
[null,"Still Gas",{"$f":"'Industrial N2O'!C324","v":{"$error":"#N/A"}},"-",{"$f":"'Industrial N2O'!E324","v":0},"x",{"$f":"StillCEFind","v":0},"=",{"$error":"#N/A"},"x",25,"=",{"$error":"#N/A"},"=",{"$error":"#N/A"}]
[null,"Special Naphthas",{"$f":"'Industrial N2O'!C325","v":{"$error":"#N/A"}},"-",{"$f":"'Industrial N2O'!E325","v":0},"x",{"$f":"SpecialCEFind","v":0},"=",{"$error":"#N/A"},"x",25,"=",{"$error":"#N/A"},"=",{"$error":"#N/A"}]
[null,"Unfinished Oils",{"$f":"'Industrial N2O'!C326","v":{"$error":"#N/A"}},"-",{"$f":"'Industrial N2O'!E326","v":0},"x",{"$f":"UnfinCEFind","v":0},"=",{"$error":"#N/A"},"x",25,"=",{"$error":"#N/A"},"=",{"$error":"#N/A"}]
[null,"Waxes",{"$f":"'Industrial N2O'!C327","v":{"$error":"#N/A"}},"-",{"$f":"'Industrial N2O'!E327","v":0},"x",{"$f":"WaxesCEFind","v":0},"=",{"$error":"#N/A"},"x",25,"=",{"$error":"#N/A"},"=",{"$error":"#N/A"}]
[null,"Natural Gas",{"$f":"'Industrial N2O'!C328","v":{"$error":"#N/A"}},"-",{"$f":"'Industrial N2O'!E328","v":0},"x",{"$f":"NatGasCEFind","v":0},"=",{"$error":"#N/A"},"x",25,"=",{"$error":"#N/A"},"=",{"$error":"#N/A"}]
[null,"Wood",{"$f":"'Industrial N2O'!C329","v":{"$error":"#N/A"}},null,"NA","x",{"$f":"WoodCEFind","v":0},"=",{"$f":"C329*G329","v":{"$error":"#N/A"}},"x",25,"=",{"$error":"#N/A"},"=",{"$error":"#N/A"}]
[null,"Other",{"$f":"'Industrial N2O'!C330","v":0},"-",{"$f":"'Industrial N2O'!E330","v":0},"x",{"$f":"OtherCEFind","v":0},"=",0,"x",25,"=",0,"=",0]
[null,null,null,null,null,null,null,null,null,null,"Total","=",{"$f":"SUM(M307:M330)","v":{"$error":"#N/A"}},"=",{"$error":"#N/A"}]
[]
[null,"Industrial Sector CH4",null,null,{"$f":"E303+1","v":2001}]
[null,null,"Total ",null,"Non-Energy "]
[null,null,"Consumption",null,"Consumption",null,"Emission Factor",null,"Emissions ",null,"GWP",null,"Emissions ",null,"Emissions "]
[null,"Fuel Type","(Billion Btu)",null,"(Billion Btu)",null,"(metric tons CH4 /BBtu)",null,"(metric tons CH4)",null,null,null,"(MMTCE)",null,"(MMTCO2E)"]
[null,"Coking Coal",{"$f":"'Industrial N2O'!C337","v":{"$error":"#N/A"}},"-",{"$f":"'Industrial N2O'!E337","v":0},"x",{"$f":"CokeCoalCEFind","v":0},"=",{"$f":"(C337-E337)*G337","v":{"$error":"#N/A"}},"x",{"$f":"GWPCH4","v":25},"=",{"$f":"I337*K337*CO2_C/(10^6)","v":{"$error":"#N/A"}},"=",{"$f":"M337/CO2_C","v":{"$error":"#N/A"}}]
[null,"Other Coal",{"$f":"'Industrial N2O'!C338","v":{"$error":"#N/A"}},"-",{"$f":"'Industrial N2O'!E338","v":0},"x",{"$f":"OtherCoalCEFind","v":0},"=",{"$f":"(C338-E338)*G338","v":{"$error":"#N/A"}},"x",{"$f":"GWPCH4","v":25},"=",{"$f":"I338*K338*CO2_C/(10^6)","v":{"$error":"#N/A"}},"=",{"$error":"#N/A"}]
[null,"Asphalt and Road Oil",{"$f":"'Industrial N2O'!C339","v":{"$error":"#N/A"}},"-",{"$f":"'Industrial N2O'!E339","v":0},"x",{"$f":"AsphaltCEFind","v":0},"=",{"$error":"#N/A"},"x",25,"=",{"$error":"#N/A"},"=",{"$error":"#N/A"}]
[null,"Aviation Gasoline Blending Components",{"$f":"'Industrial N2O'!C340","v":{"$error":"#N/A"}},"-",{"$f":"'Industrial N2O'!E340","v":0},"x",{"$f":"AvGasBlendCEFind","v":0},"=",{"$error":"#N/A"},"x",25,"=",{"$error":"#N/A"},"=",{"$error":"#N/A"}]
[null,"Crude Oil",{"$f":"'Industrial N2O'!C341","v":{"$error":"#N/A"}},"-",{"$f":"'Industrial N2O'!E341","v":0},"x",{"$f":"CrudeCEFind","v":0},"=",{"$error":"#N/A"},"x",25,"=",{"$error":"#N/A"},"=",{"$error":"#N/A"}]
[null,"Distillate Fuel",{"$f":"'Industrial N2O'!C342","v":{"$error":"#N/A"}},"-",{"$f":"'Industrial N2O'!E342","v":0},"x",{"$f":"DistillCEFind","v":0},"=",{"$error":"#N/A"},"x",25,"=",{"$error":"#N/A"},"=",{"$error":"#N/A"}]
[null,"Feedstocks, Naphtha less than 401 F",{"$f":"'Industrial N2O'!C343","v":{"$error":"#N/A"}},"-",{"$f":"'Industrial N2O'!E343","v":0},"x",{"$f":"NaphCEFind","v":0},"=",{"$error":"#N/A"},"x",25,"=",{"$error":"#N/A"},"=",{"$error":"#N/A"}]
[null,"Feedstocks, Other Oils greater than 401 F",{"$f":"'Industrial N2O'!C344","v":{"$error":"#N/A"}},"-",{"$f":"'Industrial N2O'!E344","v":0},"x",{"$f":"OtherOilCEFind","v":0},"=",{"$error":"#N/A"},"x",25,"=",{"$error":"#N/A"},"=",{"$error":"#N/A"}]
[null,"Kerosene",{"$f":"'Industrial N2O'!C345","v":{"$error":"#N/A"}},"-",{"$f":"'Industrial N2O'!E345","v":0},"x",{"$f":"KeroCEFind","v":0},"=",{"$error":"#N/A"},"x",25,"=",{"$error":"#N/A"},"=",{"$error":"#N/A"}]
[null,"LPG",{"$f":"'Industrial N2O'!C346","v":{"$error":"#N/A"}},"-",{"$f":"'Industrial N2O'!E346","v":0},"x",{"$f":"LPGCEFind","v":0},"=",{"$error":"#N/A"},"x",25,"=",{"$error":"#N/A"},"=",{"$error":"#N/A"}]
[null,"Lubricants",{"$f":"'Industrial N2O'!C347","v":{"$error":"#N/A"}},"-",{"$f":"'Industrial N2O'!E347","v":0},"x",{"$f":"LubeCEFind","v":0},"=",{"$error":"#N/A"},"x",25,"=",{"$error":"#N/A"},"=",{"$error":"#N/A"}]
[null,"Motor Gasoline",{"$f":"'Industrial N2O'!C348","v":{"$error":"#N/A"}},"-",{"$f":"'Industrial N2O'!E348","v":0},"x",{"$f":"MotorGasCEFind","v":0},"=",{"$error":"#N/A"},"x",25,"=",{"$error":"#N/A"},"=",{"$error":"#N/A"}]
[null,"Motor Gasoline Blending Components",{"$f":"'Industrial N2O'!C349","v":{"$error":"#N/A"}},"-",{"$f":"'Industrial N2O'!E349","v":0},"x",{"$f":"MoGasBlendCEFind","v":0},"=",{"$error":"#N/A"},"x",25,"=",{"$error":"#N/A"},"=",{"$error":"#N/A"}]
[null,"Misc. Petro Products",{"$f":"'Industrial N2O'!C350","v":{"$error":"#N/A"}},"-",{"$f":"'Industrial N2O'!E350","v":0},"x",{"$f":"MiscCEFind","v":0},"=",{"$error":"#N/A"},"x",25,"=",{"$error":"#N/A"},"=",{"$error":"#N/A"}]
[null,"Petroleum Coke",{"$f":"'Industrial N2O'!C351","v":{"$error":"#N/A"}},"-",{"$f":"'Industrial N2O'!E351","v":0},"x",{"$f":"PetCokeCEFind","v":0},"=",{"$error":"#N/A"},"x",25,"=",{"$error":"#N/A"},"=",{"$error":"#N/A"}]
[null,"Pentanes Plus",{"$f":"'Industrial N2O'!C352","v":{"$error":"#N/A"}},"-",{"$f":"'Industrial N2O'!E352","v":0},"x",{"$f":"pentanesCEFind","v":0},"=",{"$error":"#N/A"},"x",25,"=",{"$error":"#N/A"},"=",{"$error":"#N/A"}]
[null,"Residual Fuel",{"$f":"'Industrial N2O'!C353","v":{"$error":"#N/A"}},"-",{"$f":"'Industrial N2O'!E353","v":0},"x",{"$f":"ResidCEFind","v":0},"=",{"$error":"#N/A"},"x",25,"=",{"$error":"#N/A"},"=",{"$error":"#N/A"}]
[null,"Still Gas",{"$f":"'Industrial N2O'!C354","v":{"$error":"#N/A"}},"-",{"$f":"'Industrial N2O'!E354","v":0},"x",{"$f":"StillCEFind","v":0},"=",{"$error":"#N/A"},"x",25,"=",{"$error":"#N/A"},"=",{"$error":"#N/A"}]
[null,"Special Naphthas",{"$f":"'Industrial N2O'!C355","v":{"$error":"#N/A"}},"-",{"$f":"'Industrial N2O'!E355","v":0},"x",{"$f":"SpecialCEFind","v":0},"=",{"$error":"#N/A"},"x",25,"=",{"$error":"#N/A"},"=",{"$error":"#N/A"}]
[null,"Unfinished Oils",{"$f":"'Industrial N2O'!C356","v":{"$error":"#N/A"}},"-",{"$f":"'Industrial N2O'!E356","v":0},"x",{"$f":"UnfinCEFind","v":0},"=",{"$error":"#N/A"},"x",25,"=",{"$error":"#N/A"},"=",{"$error":"#N/A"}]
[null,"Waxes",{"$f":"'Industrial N2O'!C357","v":{"$error":"#N/A"}},"-",{"$f":"'Industrial N2O'!E357","v":0},"x",{"$f":"WaxesCEFind","v":0},"=",{"$error":"#N/A"},"x",25,"=",{"$error":"#N/A"},"=",{"$error":"#N/A"}]
[null,"Natural Gas",{"$f":"'Industrial N2O'!C358","v":{"$error":"#N/A"}},"-",{"$f":"'Industrial N2O'!E358","v":0},"x",{"$f":"NatGasCEFind","v":0},"=",{"$error":"#N/A"},"x",25,"=",{"$error":"#N/A"},"=",{"$error":"#N/A"}]
[null,"Wood",{"$f":"'Industrial N2O'!C359","v":{"$error":"#N/A"}},null,"NA","x",{"$f":"WoodCEFind","v":0},"=",{"$f":"C359*G359","v":{"$error":"#N/A"}},"x",25,"=",{"$error":"#N/A"},"=",{"$error":"#N/A"}]
[null,"Other",{"$f":"'Industrial N2O'!C360","v":0},"-",{"$f":"'Industrial N2O'!E360","v":0},"x",{"$f":"OtherCEFind","v":0},"=",{"$f":"(C360-E360)*G360","v":0},"x",25,"=",0,"=",0]
[null,null,null,null,null,null,null,null,null,null,"Total","=",{"$f":"SUM(M337:M360)","v":{"$error":"#N/A"}},"=",{"$error":"#N/A"}]
[]
[null,"Industrial Sector CH4",null,null,{"$f":"E333+1","v":2002}]
[null,null,"Total ",null,"Non-Energy "]
[null,null,"Consumption",null,"Consumption",null,"Emission Factor",null,"Emissions ",null,"GWP",null,"Emissions ",null,"Emissions "]
[null,"Fuel Type","(Billion Btu)",null,"(Billion Btu)",null,"(metric tons CH4 /BBtu)",null,"(metric tons CH4)",null,null,null,"(MMTCE)",null,"(MMTCO2E)"]
[null,"Coking Coal",{"$f":"'Industrial N2O'!C367","v":{"$error":"#N/A"}},"-",{"$f":"'Industrial N2O'!E367","v":0},"x",{"$f":"CokeCoalCEFind","v":0},"=",{"$f":"(C367-E367)*G367","v":{"$error":"#N/A"}},"x",{"$f":"GWPCH4","v":25},"=",{"$f":"I367*K367*CO2_C/(10^6)","v":{"$error":"#N/A"}},"=",{"$f":"M367/CO2_C","v":{"$error":"#N/A"}}]
[null,"Other Coal",{"$f":"'Industrial N2O'!C368","v":{"$error":"#N/A"}},"-",{"$f":"'Industrial N2O'!E368","v":0},"x",{"$f":"OtherCoalCEFind","v":0},"=",{"$f":"(C368-E368)*G368","v":{"$error":"#N/A"}},"x",{"$f":"GWPCH4","v":25},"=",{"$f":"I368*K368*CO2_C/(10^6)","v":{"$error":"#N/A"}},"=",{"$error":"#N/A"}]
[null,"Asphalt and Road Oil",{"$f":"'Industrial N2O'!C369","v":{"$error":"#N/A"}},"-",{"$f":"'Industrial N2O'!E369","v":0},"x",{"$f":"AsphaltCEFind","v":0},"=",{"$error":"#N/A"},"x",25,"=",{"$error":"#N/A"},"=",{"$error":"#N/A"}]
[null,"Aviation Gasoline Blending Components",{"$f":"'Industrial N2O'!C370","v":{"$error":"#N/A"}},"-",{"$f":"'Industrial N2O'!E370","v":0},"x",{"$f":"AvGasBlendCEFind","v":0},"=",{"$error":"#N/A"},"x",25,"=",{"$error":"#N/A"},"=",{"$error":"#N/A"}]
[null,"Crude Oil",{"$f":"'Industrial N2O'!C371","v":{"$error":"#N/A"}},"-",{"$f":"'Industrial N2O'!E371","v":0},"x",{"$f":"CrudeCEFind","v":0},"=",{"$error":"#N/A"},"x",25,"=",{"$error":"#N/A"},"=",{"$error":"#N/A"}]
[null,"Distillate Fuel",{"$f":"'Industrial N2O'!C372","v":{"$error":"#N/A"}},"-",{"$f":"'Industrial N2O'!E372","v":0},"x",{"$f":"DistillCEFind","v":0},"=",{"$error":"#N/A"},"x",25,"=",{"$error":"#N/A"},"=",{"$error":"#N/A"}]
[null,"Feedstocks, Naphtha less than 401 F",{"$f":"'Industrial N2O'!C373","v":{"$error":"#N/A"}},"-",{"$f":"'Industrial N2O'!E373","v":0},"x",{"$f":"NaphCEFind","v":0},"=",{"$error":"#N/A"},"x",25,"=",{"$error":"#N/A"},"=",{"$error":"#N/A"}]
[null,"Feedstocks, Other Oils greater than 401 F",{"$f":"'Industrial N2O'!C374","v":{"$error":"#N/A"}},"-",{"$f":"'Industrial N2O'!E374","v":0},"x",{"$f":"OtherOilCEFind","v":0},"=",{"$error":"#N/A"},"x",25,"=",{"$error":"#N/A"},"=",{"$error":"#N/A"}]
[null,"Kerosene",{"$f":"'Industrial N2O'!C375","v":{"$error":"#N/A"}},"-",{"$f":"'Industrial N2O'!E375","v":0},"x",{"$f":"KeroCEFind","v":0},"=",{"$error":"#N/A"},"x",25,"=",{"$error":"#N/A"},"=",{"$error":"#N/A"}]
[null,"LPG",{"$f":"'Industrial N2O'!C376","v":{"$error":"#N/A"}},"-",{"$f":"'Industrial N2O'!E376","v":0},"x",{"$f":"LPGCEFind","v":0},"=",{"$error":"#N/A"},"x",25,"=",{"$error":"#N/A"},"=",{"$error":"#N/A"}]
[null,"Lubricants",{"$f":"'Industrial N2O'!C377","v":{"$error":"#N/A"}},"-",{"$f":"'Industrial N2O'!E377","v":0},"x",{"$f":"LubeCEFind","v":0},"=",{"$error":"#N/A"},"x",25,"=",{"$error":"#N/A"},"=",{"$error":"#N/A"}]
[null,"Motor Gasoline",{"$f":"'Industrial N2O'!C378","v":{"$error":"#N/A"}},"-",{"$f":"'Industrial N2O'!E378","v":0},"x",{"$f":"MotorGasCEFind","v":0},"=",{"$error":"#N/A"},"x",25,"=",{"$error":"#N/A"},"=",{"$error":"#N/A"}]
[null,"Motor Gasoline Blending Components",{"$f":"'Industrial N2O'!C379","v":{"$error":"#N/A"}},"-",{"$f":"'Industrial N2O'!E379","v":0},"x",{"$f":"MoGasBlendCEFind","v":0},"=",{"$error":"#N/A"},"x",25,"=",{"$error":"#N/A"},"=",{"$error":"#N/A"}]
[null,"Misc. Petro Products",{"$f":"'Industrial N2O'!C380","v":{"$error":"#N/A"}},"-",{"$f":"'Industrial N2O'!E380","v":0},"x",{"$f":"MiscCEFind","v":0},"=",{"$error":"#N/A"},"x",25,"=",{"$error":"#N/A"},"=",{"$error":"#N/A"}]
[null,"Petroleum Coke",{"$f":"'Industrial N2O'!C381","v":{"$error":"#N/A"}},"-",{"$f":"'Industrial N2O'!E381","v":0},"x",{"$f":"PetCokeCEFind","v":0},"=",{"$error":"#N/A"},"x",25,"=",{"$error":"#N/A"},"=",{"$error":"#N/A"}]
[null,"Pentanes Plus",{"$f":"'Industrial N2O'!C382","v":{"$error":"#N/A"}},"-",{"$f":"'Industrial N2O'!E382","v":0},"x",{"$f":"pentanesCEFind","v":0},"=",{"$error":"#N/A"},"x",25,"=",{"$error":"#N/A"},"=",{"$error":"#N/A"}]
[null,"Residual Fuel",{"$f":"'Industrial N2O'!C383","v":{"$error":"#N/A"}},"-",{"$f":"'Industrial N2O'!E383","v":0},"x",{"$f":"ResidCEFind","v":0},"=",{"$error":"#N/A"},"x",25,"=",{"$error":"#N/A"},"=",{"$error":"#N/A"}]
[null,"Still Gas",{"$f":"'Industrial N2O'!C384","v":{"$error":"#N/A"}},"-",{"$f":"'Industrial N2O'!E384","v":0},"x",{"$f":"StillCEFind","v":0},"=",{"$error":"#N/A"},"x",25,"=",{"$error":"#N/A"},"=",{"$error":"#N/A"}]
[null,"Special Naphthas",{"$f":"'Industrial N2O'!C385","v":{"$error":"#N/A"}},"-",{"$f":"'Industrial N2O'!E385","v":0},"x",{"$f":"SpecialCEFind","v":0},"=",{"$error":"#N/A"},"x",25,"=",{"$error":"#N/A"},"=",{"$error":"#N/A"}]
[null,"Unfinished Oils",{"$f":"'Industrial N2O'!C386","v":{"$error":"#N/A"}},"-",{"$f":"'Industrial N2O'!E386","v":0},"x",{"$f":"UnfinCEFind","v":0},"=",{"$error":"#N/A"},"x",25,"=",{"$error":"#N/A"},"=",{"$error":"#N/A"}]
[null,"Waxes",{"$f":"'Industrial N2O'!C387","v":{"$error":"#N/A"}},"-",{"$f":"'Industrial N2O'!E387","v":0},"x",{"$f":"WaxesCEFind","v":0},"=",{"$error":"#N/A"},"x",25,"=",{"$error":"#N/A"},"=",{"$error":"#N/A"}]
[null,"Natural Gas",{"$f":"'Industrial N2O'!C388","v":{"$error":"#N/A"}},"-",{"$f":"'Industrial N2O'!E388","v":0},"x",{"$f":"NatGasCEFind","v":0},"=",{"$error":"#N/A"},"x",25,"=",{"$error":"#N/A"},"=",{"$error":"#N/A"}]
[null,"Wood",{"$f":"'Industrial N2O'!C389","v":{"$error":"#N/A"}},null,"NA","x",{"$f":"WoodCEFind","v":0},"=",{"$f":"C389*G389","v":{"$error":"#N/A"}},"x",25,"=",{"$error":"#N/A"},"=",{"$error":"#N/A"}]
[null,"Other",{"$f":"'Industrial N2O'!C390","v":0},"-",{"$f":"'Industrial N2O'!E390","v":0},"x",{"$f":"OtherCEFind","v":0},"=",{"$f":"(C390-E390)*G390","v":0},"x",25,"=",0,"=",0]
[null,null,null,null,null,null,null,null,null,null,"Total","=",{"$f":"SUM(M367:M390)","v":{"$error":"#N/A"}},"=",{"$error":"#N/A"}]
[]
[null,"Industrial Sector CH4",null,null,{"$f":"E363+1","v":2003}]
[null,null,"Total ",null,"Non-Energy "]
[null,null,"Consumption",null,"Consumption",null,"Emission Factor",null,"Emissions ",null,"GWP",null,"Emissions ",null,"Emissions "]
[null,"Fuel Type","(Billion Btu)",null,"(Billion Btu)",null,"(metric tons CH4 /BBtu)",null,"(metric tons CH4)",null,null,null,"(MMTCE)",null,"(MMTCO2E)"]
[null,"Coking Coal",{"$f":"'Industrial N2O'!C397","v":{"$error":"#N/A"}},"-",{"$f":"'Industrial N2O'!E397","v":0},"x",{"$f":"CokeCoalCEFind","v":0},"=",{"$f":"(C397-E397)*G397","v":{"$error":"#N/A"}},"x",{"$f":"GWPCH4","v":25},"=",{"$f":"I397*K397*CO2_C/(10^6)","v":{"$error":"#N/A"}},"=",{"$f":"M397/CO2_C","v":{"$error":"#N/A"}}]
[null,"Other Coal",{"$f":"'Industrial N2O'!C398","v":{"$error":"#N/A"}},"-",{"$f":"'Industrial N2O'!E398","v":0},"x",{"$f":"OtherCoalCEFind","v":0},"=",{"$f":"(C398-E398)*G398","v":{"$error":"#N/A"}},"x",{"$f":"GWPCH4","v":25},"=",{"$f":"I398*K398*CO2_C/(10^6)","v":{"$error":"#N/A"}},"=",{"$error":"#N/A"}]
[null,"Asphalt and Road Oil",{"$f":"'Industrial N2O'!C399","v":{"$error":"#N/A"}},"-",{"$f":"'Industrial N2O'!E399","v":0},"x",{"$f":"AsphaltCEFind","v":0},"=",{"$error":"#N/A"},"x",25,"=",{"$error":"#N/A"},"=",{"$error":"#N/A"}]
[null,"Aviation Gasoline Blending Components",{"$f":"'Industrial N2O'!C400","v":{"$error":"#N/A"}},"-",{"$f":"'Industrial N2O'!E400","v":0},"x",{"$f":"AvGasBlendCEFind","v":0},"=",{"$error":"#N/A"},"x",25,"=",{"$error":"#N/A"},"=",{"$error":"#N/A"}]
[null,"Crude Oil",{"$f":"'Industrial N2O'!C401","v":{"$error":"#N/A"}},"-",{"$f":"'Industrial N2O'!E401","v":0},"x",{"$f":"CrudeCEFind","v":0},"=",{"$error":"#N/A"},"x",25,"=",{"$error":"#N/A"},"=",{"$error":"#N/A"}]
[null,"Distillate Fuel",{"$f":"'Industrial N2O'!C402","v":{"$error":"#N/A"}},"-",{"$f":"'Industrial N2O'!E402","v":0},"x",{"$f":"DistillCEFind","v":0},"=",{"$error":"#N/A"},"x",25,"=",{"$error":"#N/A"},"=",{"$error":"#N/A"}]
[null,"Feedstocks, Naphtha less than 401 F",{"$f":"'Industrial N2O'!C403","v":{"$error":"#N/A"}},"-",{"$f":"'Industrial N2O'!E403","v":0},"x",{"$f":"NaphCEFind","v":0},"=",{"$error":"#N/A"},"x",25,"=",{"$error":"#N/A"},"=",{"$error":"#N/A"}]
[null,"Feedstocks, Other Oils greater than 401 F",{"$f":"'Industrial N2O'!C404","v":{"$error":"#N/A"}},"-",{"$f":"'Industrial N2O'!E404","v":0},"x",{"$f":"OtherOilCEFind","v":0},"=",{"$error":"#N/A"},"x",25,"=",{"$error":"#N/A"},"=",{"$error":"#N/A"}]
[null,"Kerosene",{"$f":"'Industrial N2O'!C405","v":{"$error":"#N/A"}},"-",{"$f":"'Industrial N2O'!E405","v":0},"x",{"$f":"KeroCEFind","v":0},"=",{"$error":"#N/A"},"x",25,"=",{"$error":"#N/A"},"=",{"$error":"#N/A"}]
[null,"LPG",{"$f":"'Industrial N2O'!C406","v":{"$error":"#N/A"}},"-",{"$f":"'Industrial N2O'!E406","v":0},"x",{"$f":"LPGCEFind","v":0},"=",{"$error":"#N/A"},"x",25,"=",{"$error":"#N/A"},"=",{"$error":"#N/A"}]
[null,"Lubricants",{"$f":"'Industrial N2O'!C407","v":{"$error":"#N/A"}},"-",{"$f":"'Industrial N2O'!E407","v":0},"x",{"$f":"LubeCEFind","v":0},"=",{"$error":"#N/A"},"x",25,"=",{"$error":"#N/A"},"=",{"$error":"#N/A"}]
[null,"Motor Gasoline",{"$f":"'Industrial N2O'!C408","v":{"$error":"#N/A"}},"-",{"$f":"'Industrial N2O'!E408","v":0},"x",{"$f":"MotorGasCEFind","v":0},"=",{"$error":"#N/A"},"x",25,"=",{"$error":"#N/A"},"=",{"$error":"#N/A"}]
[null,"Motor Gasoline Blending Components",{"$f":"'Industrial N2O'!C409","v":{"$error":"#N/A"}},"-",{"$f":"'Industrial N2O'!E409","v":0},"x",{"$f":"MoGasBlendCEFind","v":0},"=",{"$error":"#N/A"},"x",25,"=",{"$error":"#N/A"},"=",{"$error":"#N/A"}]
[null,"Misc. Petro Products",{"$f":"'Industrial N2O'!C410","v":{"$error":"#N/A"}},"-",{"$f":"'Industrial N2O'!E410","v":0},"x",{"$f":"MiscCEFind","v":0},"=",{"$error":"#N/A"},"x",25,"=",{"$error":"#N/A"},"=",{"$error":"#N/A"}]
[null,"Petroleum Coke",{"$f":"'Industrial N2O'!C411","v":{"$error":"#N/A"}},"-",{"$f":"'Industrial N2O'!E411","v":0},"x",{"$f":"PetCokeCEFind","v":0},"=",{"$error":"#N/A"},"x",25,"=",{"$error":"#N/A"},"=",{"$error":"#N/A"}]
[null,"Pentanes Plus",{"$f":"'Industrial N2O'!C412","v":{"$error":"#N/A"}},"-",{"$f":"'Industrial N2O'!E412","v":0},"x",{"$f":"pentanesCEFind","v":0},"=",{"$error":"#N/A"},"x",25,"=",{"$error":"#N/A"},"=",{"$error":"#N/A"}]
[null,"Residual Fuel",{"$f":"'Industrial N2O'!C413","v":{"$error":"#N/A"}},"-",{"$f":"'Industrial N2O'!E413","v":0},"x",{"$f":"ResidCEFind","v":0},"=",{"$error":"#N/A"},"x",25,"=",{"$error":"#N/A"},"=",{"$error":"#N/A"}]
[null,"Still Gas",{"$f":"'Industrial N2O'!C414","v":{"$error":"#N/A"}},"-",{"$f":"'Industrial N2O'!E414","v":0},"x",{"$f":"StillCEFind","v":0},"=",{"$error":"#N/A"},"x",25,"=",{"$error":"#N/A"},"=",{"$error":"#N/A"}]
[null,"Special Naphthas",{"$f":"'Industrial N2O'!C415","v":{"$error":"#N/A"}},"-",{"$f":"'Industrial N2O'!E415","v":0},"x",{"$f":"SpecialCEFind","v":0},"=",{"$error":"#N/A"},"x",25,"=",{"$error":"#N/A"},"=",{"$error":"#N/A"}]
[null,"Unfinished Oils",{"$f":"'Industrial N2O'!C416","v":{"$error":"#N/A"}},"-",{"$f":"'Industrial N2O'!E416","v":0},"x",{"$f":"UnfinCEFind","v":0},"=",{"$error":"#N/A"},"x",25,"=",{"$error":"#N/A"},"=",{"$error":"#N/A"}]
[null,"Waxes",{"$f":"'Industrial N2O'!C417","v":{"$error":"#N/A"}},"-",{"$f":"'Industrial N2O'!E417","v":0},"x",{"$f":"WaxesCEFind","v":0},"=",{"$error":"#N/A"},"x",25,"=",{"$error":"#N/A"},"=",{"$error":"#N/A"}]
[null,"Natural Gas",{"$f":"'Industrial N2O'!C418","v":{"$error":"#N/A"}},"-",{"$f":"'Industrial N2O'!E418","v":0},"x",{"$f":"NatGasCEFind","v":0},"=",{"$error":"#N/A"},"x",25,"=",{"$error":"#N/A"},"=",{"$error":"#N/A"}]
[null,"Wood",{"$f":"'Industrial N2O'!C419","v":{"$error":"#N/A"}},null,"NA","x",{"$f":"WoodCEFind","v":0},"=",{"$f":"C419*G419","v":{"$error":"#N/A"}},"x",25,"=",{"$error":"#N/A"},"=",{"$error":"#N/A"}]
[null,"Other",{"$f":"'Industrial N2O'!C420","v":0},"-",{"$f":"'Industrial N2O'!E420","v":0},"x",{"$f":"OtherCEFind","v":0},"=",{"$f":"(C420-E420)*G420","v":0},"x",25,"=",0,"=",0]
[null,null,null,null,null,null,null,null,null,null,"Total","=",{"$f":"SUM(M397:M420)","v":{"$error":"#N/A"}},"=",{"$error":"#N/A"}]
[]
[null,"Industrial Sector CH4",null,null,{"$f":"E393+1","v":2004}]
[null,null,"Total ",null,"Non-Energy "]
[null,null,"Consumption",null,"Consumption",null,"Emission Factor",null,"Emissions ",null,"GWP",null,"Emissions ",null,"Emissions "]
[null,"Fuel Type","(Billion Btu)",null,"(Billion Btu)",null,"(metric tons CH4 /BBtu)",null,"(metric tons CH4)",null,null,null,"(MMTCE)",null,"(MMTCO2E)"]
[null,"Coking Coal",{"$f":"'Industrial N2O'!C427","v":{"$error":"#N/A"}},"-",{"$f":"'Industrial N2O'!E427","v":0},"x",{"$f":"CokeCoalCEFind","v":0},"=",{"$f":"(C427-E427)*G427","v":{"$error":"#N/A"}},"x",{"$f":"GWPCH4","v":25},"=",{"$f":"I427*K427*CO2_C/(10^6)","v":{"$error":"#N/A"}},"=",{"$f":"M427/CO2_C","v":{"$error":"#N/A"}}]
[null,"Other Coal",{"$f":"'Industrial N2O'!C428","v":{"$error":"#N/A"}},"-",{"$f":"'Industrial N2O'!E428","v":0},"x",{"$f":"OtherCoalCEFind","v":0},"=",{"$f":"(C428-E428)*G428","v":{"$error":"#N/A"}},"x",{"$f":"GWPCH4","v":25},"=",{"$f":"I428*K428*CO2_C/(10^6)","v":{"$error":"#N/A"}},"=",{"$error":"#N/A"}]
[null,"Asphalt and Road Oil",{"$f":"'Industrial N2O'!C429","v":{"$error":"#N/A"}},"-",{"$f":"'Industrial N2O'!E429","v":0},"x",{"$f":"AsphaltCEFind","v":0},"=",{"$error":"#N/A"},"x",25,"=",{"$error":"#N/A"},"=",{"$error":"#N/A"}]
[null,"Aviation Gasoline Blending Components",{"$f":"'Industrial N2O'!C430","v":{"$error":"#N/A"}},"-",{"$f":"'Industrial N2O'!E430","v":0},"x",{"$f":"AvGasBlendCEFind","v":0},"=",{"$error":"#N/A"},"x",25,"=",{"$error":"#N/A"},"=",{"$error":"#N/A"}]
[null,"Crude Oil",{"$f":"'Industrial N2O'!C431","v":{"$error":"#N/A"}},"-",{"$f":"'Industrial N2O'!E431","v":0},"x",{"$f":"CrudeCEFind","v":0},"=",{"$error":"#N/A"},"x",25,"=",{"$error":"#N/A"},"=",{"$error":"#N/A"}]
[null,"Distillate Fuel",{"$f":"'Industrial N2O'!C432","v":{"$error":"#N/A"}},"-",{"$f":"'Industrial N2O'!E432","v":0},"x",{"$f":"DistillCEFind","v":0},"=",{"$error":"#N/A"},"x",25,"=",{"$error":"#N/A"},"=",{"$error":"#N/A"}]
[null,"Feedstocks, Naphtha less than 401 F",{"$f":"'Industrial N2O'!C433","v":{"$error":"#N/A"}},"-",{"$f":"'Industrial N2O'!E433","v":0},"x",{"$f":"NaphCEFind","v":0},"=",{"$error":"#N/A"},"x",25,"=",{"$error":"#N/A"},"=",{"$error":"#N/A"}]
[null,"Feedstocks, Other Oils greater than 401 F",{"$f":"'Industrial N2O'!C434","v":{"$error":"#N/A"}},"-",{"$f":"'Industrial N2O'!E434","v":0},"x",{"$f":"OtherOilCEFind","v":0},"=",{"$error":"#N/A"},"x",25,"=",{"$error":"#N/A"},"=",{"$error":"#N/A"}]
[null,"Kerosene",{"$f":"'Industrial N2O'!C435","v":{"$error":"#N/A"}},"-",{"$f":"'Industrial N2O'!E435","v":0},"x",{"$f":"KeroCEFind","v":0},"=",{"$error":"#N/A"},"x",25,"=",{"$error":"#N/A"},"=",{"$error":"#N/A"}]
[null,"LPG",{"$f":"'Industrial N2O'!C436","v":{"$error":"#N/A"}},"-",{"$f":"'Industrial N2O'!E436","v":0},"x",{"$f":"LPGCEFind","v":0},"=",{"$error":"#N/A"},"x",25,"=",{"$error":"#N/A"},"=",{"$error":"#N/A"}]
[null,"Lubricants",{"$f":"'Industrial N2O'!C437","v":{"$error":"#N/A"}},"-",{"$f":"'Industrial N2O'!E437","v":0},"x",{"$f":"LubeCEFind","v":0},"=",{"$error":"#N/A"},"x",25,"=",{"$error":"#N/A"},"=",{"$error":"#N/A"}]
[null,"Motor Gasoline",{"$f":"'Industrial N2O'!C438","v":{"$error":"#N/A"}},"-",{"$f":"'Industrial N2O'!E438","v":0},"x",{"$f":"MotorGasCEFind","v":0},"=",{"$error":"#N/A"},"x",25,"=",{"$error":"#N/A"},"=",{"$error":"#N/A"}]
[null,"Motor Gasoline Blending Components",{"$f":"'Industrial N2O'!C439","v":{"$error":"#N/A"}},"-",{"$f":"'Industrial N2O'!E439","v":0},"x",{"$f":"MoGasBlendCEFind","v":0},"=",{"$error":"#N/A"},"x",25,"=",{"$error":"#N/A"},"=",{"$error":"#N/A"}]
[null,"Misc. Petro Products",{"$f":"'Industrial N2O'!C440","v":{"$error":"#N/A"}},"-",{"$f":"'Industrial N2O'!E440","v":0},"x",{"$f":"MiscCEFind","v":0},"=",{"$error":"#N/A"},"x",25,"=",{"$error":"#N/A"},"=",{"$error":"#N/A"}]
[null,"Petroleum Coke",{"$f":"'Industrial N2O'!C441","v":{"$error":"#N/A"}},"-",{"$f":"'Industrial N2O'!E441","v":0},"x",{"$f":"PetCokeCEFind","v":0},"=",{"$error":"#N/A"},"x",25,"=",{"$error":"#N/A"},"=",{"$error":"#N/A"}]
[null,"Pentanes Plus",{"$f":"'Industrial N2O'!C442","v":{"$error":"#N/A"}},"-",{"$f":"'Industrial N2O'!E442","v":0},"x",{"$f":"pentanesCEFind","v":0},"=",{"$error":"#N/A"},"x",25,"=",{"$error":"#N/A"},"=",{"$error":"#N/A"}]
[null,"Residual Fuel",{"$f":"'Industrial N2O'!C443","v":{"$error":"#N/A"}},"-",{"$f":"'Industrial N2O'!E443","v":0},"x",{"$f":"ResidCEFind","v":0},"=",{"$error":"#N/A"},"x",25,"=",{"$error":"#N/A"},"=",{"$error":"#N/A"}]
[null,"Still Gas",{"$f":"'Industrial N2O'!C444","v":{"$error":"#N/A"}},"-",{"$f":"'Industrial N2O'!E444","v":0},"x",{"$f":"StillCEFind","v":0},"=",{"$error":"#N/A"},"x",25,"=",{"$error":"#N/A"},"=",{"$error":"#N/A"}]
[null,"Special Naphthas",{"$f":"'Industrial N2O'!C445","v":{"$error":"#N/A"}},"-",{"$f":"'Industrial N2O'!E445","v":0},"x",{"$f":"SpecialCEFind","v":0},"=",{"$error":"#N/A"},"x",25,"=",{"$error":"#N/A"},"=",{"$error":"#N/A"}]
[null,"Unfinished Oils",{"$f":"'Industrial N2O'!C446","v":{"$error":"#N/A"}},"-",{"$f":"'Industrial N2O'!E446","v":0},"x",{"$f":"UnfinCEFind","v":0},"=",{"$error":"#N/A"},"x",25,"=",{"$error":"#N/A"},"=",{"$error":"#N/A"}]
[null,"Waxes",{"$f":"'Industrial N2O'!C447","v":{"$error":"#N/A"}},"-",{"$f":"'Industrial N2O'!E447","v":0},"x",{"$f":"WaxesCEFind","v":0},"=",{"$error":"#N/A"},"x",25,"=",{"$error":"#N/A"},"=",{"$error":"#N/A"}]
[null,"Natural Gas",{"$f":"'Industrial N2O'!C448","v":{"$error":"#N/A"}},"-",{"$f":"'Industrial N2O'!E448","v":0},"x",{"$f":"NatGasCEFind","v":0},"=",{"$error":"#N/A"},"x",25,"=",{"$error":"#N/A"},"=",{"$error":"#N/A"}]
[null,"Wood",{"$f":"'Industrial N2O'!C449","v":{"$error":"#N/A"}},null,"NA","x",{"$f":"WoodCEFind","v":0},"=",{"$f":"C449*G449","v":{"$error":"#N/A"}},"x",25,"=",{"$error":"#N/A"},"=",{"$error":"#N/A"}]
[null,"Other",{"$f":"'Industrial N2O'!C450","v":0},"-",{"$f":"'Industrial N2O'!E450","v":0},"x",{"$f":"OtherCEFind","v":0},"=",{"$f":"(C450-E450)*G450","v":0},"x",25,"=",0,"=",0]
[null,null,null,null,null,null,null,null,null,null,"Total","=",{"$f":"SUM(M427:M450)","v":{"$error":"#N/A"}},"=",{"$error":"#N/A"}]
[]
[null,"Industrial Sector CH4",null,null,{"$f":"E423+1","v":2005}]
[null,null,"Total ",null,"Non-Energy "]
[null,null,"Consumption",null,"Consumption",null,"Emission Factor",null,"Emissions ",null,"GWP",null,"Emissions ",null,"Emissions "]
[null,"Fuel Type","(Billion Btu)",null,"(Billion Btu)",null,"(metric tons CH4 /BBtu)",null,"(metric tons CH4)",null,null,null,"(MMTCE)",null,"(MMTCO2E)"]
[null,"Coking Coal",{"$f":"'Industrial N2O'!C457","v":{"$error":"#N/A"}},"-",{"$f":"'Industrial N2O'!E457","v":0},"x",{"$f":"CokeCoalCEFind","v":0},"=",{"$f":"(C457-E457)*G457","v":{"$error":"#N/A"}},"x",{"$f":"GWPCH4","v":25},"=",{"$f":"I457*K457*CO2_C/(10^6)","v":{"$error":"#N/A"}},"=",{"$f":"M457/CO2_C","v":{"$error":"#N/A"}}]
[null,"Other Coal",{"$f":"'Industrial N2O'!C458","v":{"$error":"#N/A"}},"-",{"$f":"'Industrial N2O'!E458","v":0},"x",{"$f":"OtherCoalCEFind","v":0},"=",{"$f":"(C458-E458)*G458","v":{"$error":"#N/A"}},"x",{"$f":"GWPCH4","v":25},"=",{"$f":"I458*K458*CO2_C/(10^6)","v":{"$error":"#N/A"}},"=",{"$error":"#N/A"}]
[null,"Asphalt and Road Oil",{"$f":"'Industrial N2O'!C459","v":{"$error":"#N/A"}},"-",{"$f":"'Industrial N2O'!E459","v":0},"x",{"$f":"AsphaltCEFind","v":0},"=",{"$error":"#N/A"},"x",25,"=",{"$error":"#N/A"},"=",{"$error":"#N/A"}]
[null,"Aviation Gasoline Blending Components",{"$f":"'Industrial N2O'!C460","v":{"$error":"#N/A"}},"-",{"$f":"'Industrial N2O'!E460","v":0},"x",{"$f":"AvGasBlendCEFind","v":0},"=",{"$error":"#N/A"},"x",25,"=",{"$error":"#N/A"},"=",{"$error":"#N/A"}]
[null,"Crude Oil",{"$f":"'Industrial N2O'!C461","v":{"$error":"#N/A"}},"-",{"$f":"'Industrial N2O'!E461","v":0},"x",{"$f":"CrudeCEFind","v":0},"=",{"$error":"#N/A"},"x",25,"=",{"$error":"#N/A"},"=",{"$error":"#N/A"}]
[null,"Distillate Fuel",{"$f":"'Industrial N2O'!C462","v":{"$error":"#N/A"}},"-",{"$f":"'Industrial N2O'!E462","v":0},"x",{"$f":"DistillCEFind","v":0},"=",{"$error":"#N/A"},"x",25,"=",{"$error":"#N/A"},"=",{"$error":"#N/A"}]
[null,"Feedstocks, Naphtha less than 401 F",{"$f":"'Industrial N2O'!C463","v":{"$error":"#N/A"}},"-",{"$f":"'Industrial N2O'!E463","v":0},"x",{"$f":"NaphCEFind","v":0},"=",{"$error":"#N/A"},"x",25,"=",{"$error":"#N/A"},"=",{"$error":"#N/A"}]
[null,"Feedstocks, Other Oils greater than 401 F",{"$f":"'Industrial N2O'!C464","v":{"$error":"#N/A"}},"-",{"$f":"'Industrial N2O'!E464","v":0},"x",{"$f":"OtherOilCEFind","v":0},"=",{"$error":"#N/A"},"x",25,"=",{"$error":"#N/A"},"=",{"$error":"#N/A"}]
[null,"Kerosene",{"$f":"'Industrial N2O'!C465","v":{"$error":"#N/A"}},"-",{"$f":"'Industrial N2O'!E465","v":0},"x",{"$f":"KeroCEFind","v":0},"=",{"$error":"#N/A"},"x",25,"=",{"$error":"#N/A"},"=",{"$error":"#N/A"}]
[null,"LPG",{"$f":"'Industrial N2O'!C466","v":{"$error":"#N/A"}},"-",{"$f":"'Industrial N2O'!E466","v":0},"x",{"$f":"LPGCEFind","v":0},"=",{"$error":"#N/A"},"x",25,"=",{"$error":"#N/A"},"=",{"$error":"#N/A"}]
[null,"Lubricants",{"$f":"'Industrial N2O'!C467","v":{"$error":"#N/A"}},"-",{"$f":"'Industrial N2O'!E467","v":0},"x",{"$f":"LubeCEFind","v":0},"=",{"$error":"#N/A"},"x",25,"=",{"$error":"#N/A"},"=",{"$error":"#N/A"}]
[null,"Motor Gasoline",{"$f":"'Industrial N2O'!C468","v":{"$error":"#N/A"}},"-",{"$f":"'Industrial N2O'!E468","v":0},"x",{"$f":"MotorGasCEFind","v":0},"=",{"$error":"#N/A"},"x",25,"=",{"$error":"#N/A"},"=",{"$error":"#N/A"}]
[null,"Motor Gasoline Blending Components",{"$f":"'Industrial N2O'!C469","v":{"$error":"#N/A"}},"-",{"$f":"'Industrial N2O'!E469","v":0},"x",{"$f":"MoGasBlendCEFind","v":0},"=",{"$error":"#N/A"},"x",25,"=",{"$error":"#N/A"},"=",{"$error":"#N/A"}]
[null,"Misc. Petro Products",{"$f":"'Industrial N2O'!C470","v":{"$error":"#N/A"}},"-",{"$f":"'Industrial N2O'!E470","v":0},"x",{"$f":"MiscCEFind","v":0},"=",{"$error":"#N/A"},"x",25,"=",{"$error":"#N/A"},"=",{"$error":"#N/A"}]
[null,"Petroleum Coke",{"$f":"'Industrial N2O'!C471","v":{"$error":"#N/A"}},"-",{"$f":"'Industrial N2O'!E471","v":0},"x",{"$f":"PetCokeCEFind","v":0},"=",{"$error":"#N/A"},"x",25,"=",{"$error":"#N/A"},"=",{"$error":"#N/A"}]
[null,"Pentanes Plus",{"$f":"'Industrial N2O'!C472","v":{"$error":"#N/A"}},"-",{"$f":"'Industrial N2O'!E472","v":0},"x",{"$f":"pentanesCEFind","v":0},"=",{"$error":"#N/A"},"x",25,"=",{"$error":"#N/A"},"=",{"$error":"#N/A"}]
[null,"Residual Fuel",{"$f":"'Industrial N2O'!C473","v":{"$error":"#N/A"}},"-",{"$f":"'Industrial N2O'!E473","v":0},"x",{"$f":"ResidCEFind","v":0},"=",{"$error":"#N/A"},"x",25,"=",{"$error":"#N/A"},"=",{"$error":"#N/A"}]
[null,"Still Gas",{"$f":"'Industrial N2O'!C474","v":{"$error":"#N/A"}},"-",{"$f":"'Industrial N2O'!E474","v":0},"x",{"$f":"StillCEFind","v":0},"=",{"$error":"#N/A"},"x",25,"=",{"$error":"#N/A"},"=",{"$error":"#N/A"}]
[null,"Special Naphthas",{"$f":"'Industrial N2O'!C475","v":{"$error":"#N/A"}},"-",{"$f":"'Industrial N2O'!E475","v":0},"x",{"$f":"SpecialCEFind","v":0},"=",{"$error":"#N/A"},"x",25,"=",{"$error":"#N/A"},"=",{"$error":"#N/A"}]
[null,"Unfinished Oils",{"$f":"'Industrial N2O'!C476","v":{"$error":"#N/A"}},"-",{"$f":"'Industrial N2O'!E476","v":0},"x",{"$f":"UnfinCEFind","v":0},"=",{"$error":"#N/A"},"x",25,"=",{"$error":"#N/A"},"=",{"$error":"#N/A"}]
[null,"Waxes",{"$f":"'Industrial N2O'!C477","v":{"$error":"#N/A"}},"-",{"$f":"'Industrial N2O'!E477","v":0},"x",{"$f":"WaxesCEFind","v":0},"=",{"$error":"#N/A"},"x",25,"=",{"$error":"#N/A"},"=",{"$error":"#N/A"}]
[null,"Natural Gas",{"$f":"'Industrial N2O'!C478","v":{"$error":"#N/A"}},"-",{"$f":"'Industrial N2O'!E478","v":0},"x",{"$f":"NatGasCEFind","v":0},"=",{"$error":"#N/A"},"x",25,"=",{"$error":"#N/A"},"=",{"$error":"#N/A"}]
[null,"Wood",{"$f":"'Industrial N2O'!C479","v":{"$error":"#N/A"}},null,"NA","x",{"$f":"WoodCEFind","v":0},"=",{"$f":"C479*G479","v":{"$error":"#N/A"}},"x",25,"=",{"$error":"#N/A"},"=",{"$error":"#N/A"}]
[null,"Other",{"$f":"'Industrial N2O'!C480","v":0},"-",{"$f":"'Industrial N2O'!E480","v":0},"x",{"$f":"OtherCEFind","v":0},"=",{"$f":"(C480-E480)*G480","v":0},"x",25,"=",0,"=",0]
[null,null,null,null,null,null,null,null,null,null,"Total","=",{"$f":"SUM(M457:M480)","v":{"$error":"#N/A"}},"=",{"$error":"#N/A"}]
[]
[null,"Industrial Sector CH4",null,null,{"$f":"E453+1","v":2006}]
[null,null,"Total ",null,"Non-Energy "]
[null,null,"Consumption",null,"Consumption",null,"Emission Factor",null,"Emissions ",null,"GWP",null,"Emissions ",null,"Emissions "]
[null,"Fuel Type","(Billion Btu)",null,"(Billion Btu)",null,"(metric tons CH4 /BBtu)",null,"(metric tons CH4)",null,null,null,"(MMTCE)",null,"(MMTCO2E)"]
[null,"Coking Coal",{"$f":"'Industrial N2O'!C487","v":{"$error":"#N/A"}},"-",{"$f":"'Industrial N2O'!E487","v":0},"x",{"$f":"CokeCoalCEFind","v":0},"=",{"$f":"(C487-E487)*G487","v":{"$error":"#N/A"}},"x",{"$f":"GWPCH4","v":25},"=",{"$f":"I487*K487*CO2_C/(10^6)","v":{"$error":"#N/A"}},"=",{"$f":"M487/CO2_C","v":{"$error":"#N/A"}}]
[null,"Other Coal",{"$f":"'Industrial N2O'!C488","v":{"$error":"#N/A"}},"-",{"$f":"'Industrial N2O'!E488","v":0},"x",{"$f":"OtherCoalCEFind","v":0},"=",{"$f":"(C488-E488)*G488","v":{"$error":"#N/A"}},"x",{"$f":"GWPCH4","v":25},"=",{"$f":"I488*K488*CO2_C/(10^6)","v":{"$error":"#N/A"}},"=",{"$error":"#N/A"}]
[null,"Asphalt and Road Oil",{"$f":"'Industrial N2O'!C489","v":{"$error":"#N/A"}},"-",{"$f":"'Industrial N2O'!E489","v":0},"x",{"$f":"AsphaltCEFind","v":0},"=",{"$error":"#N/A"},"x",25,"=",{"$error":"#N/A"},"=",{"$error":"#N/A"}]
[null,"Aviation Gasoline Blending Components",{"$f":"'Industrial N2O'!C490","v":{"$error":"#N/A"}},"-",{"$f":"'Industrial N2O'!E490","v":0},"x",{"$f":"AvGasBlendCEFind","v":0},"=",{"$error":"#N/A"},"x",25,"=",{"$error":"#N/A"},"=",{"$error":"#N/A"}]
[null,"Crude Oil",{"$f":"'Industrial N2O'!C491","v":{"$error":"#N/A"}},"-",{"$f":"'Industrial N2O'!E491","v":0},"x",{"$f":"CrudeCEFind","v":0},"=",{"$error":"#N/A"},"x",25,"=",{"$error":"#N/A"},"=",{"$error":"#N/A"}]
[null,"Distillate Fuel",{"$f":"'Industrial N2O'!C492","v":{"$error":"#N/A"}},"-",{"$f":"'Industrial N2O'!E492","v":0},"x",{"$f":"DistillCEFind","v":0},"=",{"$error":"#N/A"},"x",25,"=",{"$error":"#N/A"},"=",{"$error":"#N/A"}]
[null,"Feedstocks, Naphtha less than 401 F",{"$f":"'Industrial N2O'!C493","v":{"$error":"#N/A"}},"-",{"$f":"'Industrial N2O'!E493","v":0},"x",{"$f":"NaphCEFind","v":0},"=",{"$error":"#N/A"},"x",25,"=",{"$error":"#N/A"},"=",{"$error":"#N/A"}]
[null,"Feedstocks, Other Oils greater than 401 F",{"$f":"'Industrial N2O'!C494","v":{"$error":"#N/A"}},"-",{"$f":"'Industrial N2O'!E494","v":0},"x",{"$f":"OtherOilCEFind","v":0},"=",{"$error":"#N/A"},"x",25,"=",{"$error":"#N/A"},"=",{"$error":"#N/A"}]
[null,"Kerosene",{"$f":"'Industrial N2O'!C495","v":{"$error":"#N/A"}},"-",{"$f":"'Industrial N2O'!E495","v":0},"x",{"$f":"KeroCEFind","v":0},"=",{"$error":"#N/A"},"x",25,"=",{"$error":"#N/A"},"=",{"$error":"#N/A"}]
[null,"LPG",{"$f":"'Industrial N2O'!C496","v":{"$error":"#N/A"}},"-",{"$f":"'Industrial N2O'!E496","v":0},"x",{"$f":"LPGCEFind","v":0},"=",{"$error":"#N/A"},"x",25,"=",{"$error":"#N/A"},"=",{"$error":"#N/A"}]
[null,"Lubricants",{"$f":"'Industrial N2O'!C497","v":{"$error":"#N/A"}},"-",{"$f":"'Industrial N2O'!E497","v":0},"x",{"$f":"LubeCEFind","v":0},"=",{"$error":"#N/A"},"x",25,"=",{"$error":"#N/A"},"=",{"$error":"#N/A"}]
[null,"Motor Gasoline",{"$f":"'Industrial N2O'!C498","v":{"$error":"#N/A"}},"-",{"$f":"'Industrial N2O'!E498","v":0},"x",{"$f":"MotorGasCEFind","v":0},"=",{"$error":"#N/A"},"x",25,"=",{"$error":"#N/A"},"=",{"$error":"#N/A"}]
[null,"Motor Gasoline Blending Components",{"$f":"'Industrial N2O'!C499","v":{"$error":"#N/A"}},"-",{"$f":"'Industrial N2O'!E499","v":0},"x",{"$f":"MoGasBlendCEFind","v":0},"=",{"$error":"#N/A"},"x",25,"=",{"$error":"#N/A"},"=",{"$error":"#N/A"}]
[null,"Misc. Petro Products",{"$f":"'Industrial N2O'!C500","v":{"$error":"#N/A"}},"-",{"$f":"'Industrial N2O'!E500","v":0},"x",{"$f":"MiscCEFind","v":0},"=",{"$error":"#N/A"},"x",25,"=",{"$error":"#N/A"},"=",{"$error":"#N/A"}]
[null,"Petroleum Coke",{"$f":"'Industrial N2O'!C501","v":{"$error":"#N/A"}},"-",{"$f":"'Industrial N2O'!E501","v":0},"x",{"$f":"PetCokeCEFind","v":0},"=",{"$error":"#N/A"},"x",25,"=",{"$error":"#N/A"},"=",{"$error":"#N/A"}]
[null,"Pentanes Plus",{"$f":"'Industrial N2O'!C502","v":{"$error":"#N/A"}},"-",{"$f":"'Industrial N2O'!E502","v":0},"x",{"$f":"pentanesCEFind","v":0},"=",{"$error":"#N/A"},"x",25,"=",{"$error":"#N/A"},"=",{"$error":"#N/A"}]
[null,"Residual Fuel",{"$f":"'Industrial N2O'!C503","v":{"$error":"#N/A"}},"-",{"$f":"'Industrial N2O'!E503","v":0},"x",{"$f":"ResidCEFind","v":0},"=",{"$error":"#N/A"},"x",25,"=",{"$error":"#N/A"},"=",{"$error":"#N/A"}]
[null,"Still Gas",{"$f":"'Industrial N2O'!C504","v":{"$error":"#N/A"}},"-",{"$f":"'Industrial N2O'!E504","v":0},"x",{"$f":"StillCEFind","v":0},"=",{"$error":"#N/A"},"x",25,"=",{"$error":"#N/A"},"=",{"$error":"#N/A"}]
[null,"Special Naphthas",{"$f":"'Industrial N2O'!C505","v":{"$error":"#N/A"}},"-",{"$f":"'Industrial N2O'!E505","v":0},"x",{"$f":"SpecialCEFind","v":0},"=",{"$error":"#N/A"},"x",25,"=",{"$error":"#N/A"},"=",{"$error":"#N/A"}]
[null,"Unfinished Oils",{"$f":"'Industrial N2O'!C506","v":{"$error":"#N/A"}},"-",{"$f":"'Industrial N2O'!E506","v":0},"x",{"$f":"UnfinCEFind","v":0},"=",{"$error":"#N/A"},"x",25,"=",{"$error":"#N/A"},"=",{"$error":"#N/A"}]
[null,"Waxes",{"$f":"'Industrial N2O'!C507","v":{"$error":"#N/A"}},"-",{"$f":"'Industrial N2O'!E507","v":0},"x",{"$f":"WaxesCEFind","v":0},"=",{"$error":"#N/A"},"x",25,"=",{"$error":"#N/A"},"=",{"$error":"#N/A"}]
[null,"Natural Gas",{"$f":"'Industrial N2O'!C508","v":{"$error":"#N/A"}},"-",{"$f":"'Industrial N2O'!E508","v":0},"x",{"$f":"NatGasCEFind","v":0},"=",{"$error":"#N/A"},"x",25,"=",{"$error":"#N/A"},"=",{"$error":"#N/A"}]
[null,"Wood",{"$f":"'Industrial N2O'!C509","v":{"$error":"#N/A"}},null,"NA","x",{"$f":"WoodCEFind","v":0},"=",{"$f":"C509*G509","v":{"$error":"#N/A"}},"x",25,"=",{"$error":"#N/A"},"=",{"$error":"#N/A"}]
[null,"Other",{"$f":"'Industrial N2O'!C510","v":0},"-",{"$f":"'Industrial N2O'!E510","v":0},"x",{"$f":"OtherCEFind","v":0},"=",{"$f":"(C510-E510)*G510","v":0},"x",25,"=",0,"=",0]
[null,null,null,null,null,null,null,null,null,null,"Total","=",{"$f":"SUM(M487:M510)","v":{"$error":"#N/A"}},"=",{"$error":"#N/A"}]
[]
[null,"Industrial Sector CH4",null,null,{"$f":"E483+1","v":2007}]
[null,null,"Total ",null,"Non-Energy "]
[null,null,"Consumption",null,"Consumption",null,"Emission Factor",null,"Emissions ",null,"GWP",null,"Emissions ",null,"Emissions "]
[null,"Fuel Type","(Billion Btu)",null,"(Billion Btu)",null,"(metric tons CH4 /BBtu)",null,"(metric tons CH4)",null,null,null,"(MMTCE)",null,"(MMTCO2E)"]
[null,"Coking Coal",{"$f":"'Industrial N2O'!C517","v":{"$error":"#N/A"}},"-",{"$f":"'Industrial N2O'!E517","v":0},"x",{"$f":"CokeCoalCEFind","v":0},"=",{"$f":"(C517-E517)*G517","v":{"$error":"#N/A"}},"x",{"$f":"GWPCH4","v":25},"=",{"$f":"I517*K517*CO2_C/(10^6)","v":{"$error":"#N/A"}},"=",{"$f":"M517/CO2_C","v":{"$error":"#N/A"}}]
[null,"Other Coal",{"$f":"'Industrial N2O'!C518","v":{"$error":"#N/A"}},"-",{"$f":"'Industrial N2O'!E518","v":0},"x",{"$f":"OtherCoalCEFind","v":0},"=",{"$f":"(C518-E518)*G518","v":{"$error":"#N/A"}},"x",{"$f":"GWPCH4","v":25},"=",{"$f":"I518*K518*CO2_C/(10^6)","v":{"$error":"#N/A"}},"=",{"$error":"#N/A"}]
[null,"Asphalt and Road Oil",{"$f":"'Industrial N2O'!C519","v":{"$error":"#N/A"}},"-",{"$f":"'Industrial N2O'!E519","v":0},"x",{"$f":"AsphaltCEFind","v":0},"=",{"$error":"#N/A"},"x",25,"=",{"$error":"#N/A"},"=",{"$error":"#N/A"}]
[null,"Aviation Gasoline Blending Components",{"$f":"'Industrial N2O'!C520","v":{"$error":"#N/A"}},"-",{"$f":"'Industrial N2O'!E520","v":0},"x",{"$f":"AvGasBlendCEFind","v":0},"=",{"$error":"#N/A"},"x",25,"=",{"$error":"#N/A"},"=",{"$error":"#N/A"}]
[null,"Crude Oil",{"$f":"'Industrial N2O'!C521","v":{"$error":"#N/A"}},"-",{"$f":"'Industrial N2O'!E521","v":0},"x",{"$f":"CrudeCEFind","v":0},"=",{"$error":"#N/A"},"x",25,"=",{"$error":"#N/A"},"=",{"$error":"#N/A"}]
[null,"Distillate Fuel",{"$f":"'Industrial N2O'!C522","v":{"$error":"#N/A"}},"-",{"$f":"'Industrial N2O'!E522","v":0},"x",{"$f":"DistillCEFind","v":0},"=",{"$error":"#N/A"},"x",25,"=",{"$error":"#N/A"},"=",{"$error":"#N/A"}]
[null,"Feedstocks, Naphtha less than 401 F",{"$f":"'Industrial N2O'!C523","v":{"$error":"#N/A"}},"-",{"$f":"'Industrial N2O'!E523","v":0},"x",{"$f":"NaphCEFind","v":0},"=",{"$error":"#N/A"},"x",25,"=",{"$error":"#N/A"},"=",{"$error":"#N/A"}]
[null,"Feedstocks, Other Oils greater than 401 F",{"$f":"'Industrial N2O'!C524","v":{"$error":"#N/A"}},"-",{"$f":"'Industrial N2O'!E524","v":0},"x",{"$f":"OtherOilCEFind","v":0},"=",{"$error":"#N/A"},"x",25,"=",{"$error":"#N/A"},"=",{"$error":"#N/A"}]
[null,"Kerosene",{"$f":"'Industrial N2O'!C525","v":{"$error":"#N/A"}},"-",{"$f":"'Industrial N2O'!E525","v":0},"x",{"$f":"KeroCEFind","v":0},"=",{"$error":"#N/A"},"x",25,"=",{"$error":"#N/A"},"=",{"$error":"#N/A"}]
[null,"LPG",{"$f":"'Industrial N2O'!C526","v":{"$error":"#N/A"}},"-",{"$f":"'Industrial N2O'!E526","v":0},"x",{"$f":"LPGCEFind","v":0},"=",{"$error":"#N/A"},"x",25,"=",{"$error":"#N/A"},"=",{"$error":"#N/A"}]
[null,"Lubricants",{"$f":"'Industrial N2O'!C527","v":{"$error":"#N/A"}},"-",{"$f":"'Industrial N2O'!E527","v":0},"x",{"$f":"LubeCEFind","v":0},"=",{"$error":"#N/A"},"x",25,"=",{"$error":"#N/A"},"=",{"$error":"#N/A"}]
[null,"Motor Gasoline",{"$f":"'Industrial N2O'!C528","v":{"$error":"#N/A"}},"-",{"$f":"'Industrial N2O'!E528","v":0},"x",{"$f":"MotorGasCEFind","v":0},"=",{"$error":"#N/A"},"x",25,"=",{"$error":"#N/A"},"=",{"$error":"#N/A"}]
[null,"Motor Gasoline Blending Components",{"$f":"'Industrial N2O'!C529","v":{"$error":"#N/A"}},"-",{"$f":"'Industrial N2O'!E529","v":0},"x",{"$f":"MoGasBlendCEFind","v":0},"=",{"$error":"#N/A"},"x",25,"=",{"$error":"#N/A"},"=",{"$error":"#N/A"}]
[null,"Misc. Petro Products",{"$f":"'Industrial N2O'!C530","v":{"$error":"#N/A"}},"-",{"$f":"'Industrial N2O'!E530","v":0},"x",{"$f":"MiscCEFind","v":0},"=",{"$error":"#N/A"},"x",25,"=",{"$error":"#N/A"},"=",{"$error":"#N/A"}]
[null,"Petroleum Coke",{"$f":"'Industrial N2O'!C531","v":{"$error":"#N/A"}},"-",{"$f":"'Industrial N2O'!E531","v":0},"x",{"$f":"PetCokeCEFind","v":0},"=",{"$error":"#N/A"},"x",25,"=",{"$error":"#N/A"},"=",{"$error":"#N/A"}]
[null,"Pentanes Plus",{"$f":"'Industrial N2O'!C532","v":{"$error":"#N/A"}},"-",{"$f":"'Industrial N2O'!E532","v":0},"x",{"$f":"pentanesCEFind","v":0},"=",{"$error":"#N/A"},"x",25,"=",{"$error":"#N/A"},"=",{"$error":"#N/A"}]
[null,"Residual Fuel",{"$f":"'Industrial N2O'!C533","v":{"$error":"#N/A"}},"-",{"$f":"'Industrial N2O'!E533","v":0},"x",{"$f":"ResidCEFind","v":0},"=",{"$error":"#N/A"},"x",25,"=",{"$error":"#N/A"},"=",{"$error":"#N/A"}]
[null,"Still Gas",{"$f":"'Industrial N2O'!C534","v":{"$error":"#N/A"}},"-",{"$f":"'Industrial N2O'!E534","v":0},"x",{"$f":"StillCEFind","v":0},"=",{"$error":"#N/A"},"x",25,"=",{"$error":"#N/A"},"=",{"$error":"#N/A"}]
[null,"Special Naphthas",{"$f":"'Industrial N2O'!C535","v":{"$error":"#N/A"}},"-",{"$f":"'Industrial N2O'!E535","v":0},"x",{"$f":"SpecialCEFind","v":0},"=",{"$error":"#N/A"},"x",25,"=",{"$error":"#N/A"},"=",{"$error":"#N/A"}]
[null,"Unfinished Oils",{"$f":"'Industrial N2O'!C536","v":{"$error":"#N/A"}},"-",{"$f":"'Industrial N2O'!E536","v":0},"x",{"$f":"UnfinCEFind","v":0},"=",{"$error":"#N/A"},"x",25,"=",{"$error":"#N/A"},"=",{"$error":"#N/A"}]
[null,"Waxes",{"$f":"'Industrial N2O'!C537","v":{"$error":"#N/A"}},"-",{"$f":"'Industrial N2O'!E537","v":0},"x",{"$f":"WaxesCEFind","v":0},"=",{"$error":"#N/A"},"x",25,"=",{"$error":"#N/A"},"=",{"$error":"#N/A"}]
[null,"Natural Gas",{"$f":"'Industrial N2O'!C538","v":{"$error":"#N/A"}},"-",{"$f":"'Industrial N2O'!E538","v":0},"x",{"$f":"NatGasCEFind","v":0},"=",{"$error":"#N/A"},"x",25,"=",{"$error":"#N/A"},"=",{"$error":"#N/A"}]
[null,"Wood",{"$f":"'Industrial N2O'!C539","v":{"$error":"#N/A"}},null,"NA","x",{"$f":"WoodCEFind","v":0},"=",{"$f":"C539*G539","v":{"$error":"#N/A"}},"x",25,"=",{"$error":"#N/A"},"=",{"$error":"#N/A"}]
[null,"Other",{"$f":"'Industrial N2O'!C540","v":0},"-",{"$f":"'Industrial N2O'!E540","v":0},"x",{"$f":"OtherCEFind","v":0},"=",{"$f":"(C540-E540)*G540","v":0},"x",25,"=",0,"=",0]
[null,null,null,null,null,null,null,null,null,null,"Total","=",{"$f":"SUM(M517:M540)","v":{"$error":"#N/A"}},"=",{"$error":"#N/A"}]
[]
[null,"Industrial Sector CH4",null,null,{"$f":"E513+1","v":2008}]
[null,null,"Total ",null,"Non-Energy "]
[null,null,"Consumption",null,"Consumption",null,"Emission Factor",null,"Emissions ",null,"GWP",null,"Emissions ",null,"Emissions "]
[null,"Fuel Type","(Billion Btu)",null,"(Billion Btu)",null,"(metric tons CH4 /BBtu)",null,"(metric tons CH4)",null,null,null,"(MMTCE)",null,"(MMTCO2E)"]
[null,"Coking Coal",{"$f":"'Industrial N2O'!C547","v":{"$error":"#N/A"}},"-",{"$f":"'Industrial N2O'!E547","v":0},"x",{"$f":"CokeCoalCEFind","v":0},"=",{"$f":"(C547-E547)*G547","v":{"$error":"#N/A"}},"x",{"$f":"GWPCH4","v":25},"=",{"$f":"I547*K547*CO2_C/(10^6)","v":{"$error":"#N/A"}},"=",{"$f":"M547/CO2_C","v":{"$error":"#N/A"}}]
[null,"Other Coal",{"$f":"'Industrial N2O'!C548","v":{"$error":"#N/A"}},"-",{"$f":"'Industrial N2O'!E548","v":0},"x",{"$f":"OtherCoalCEFind","v":0},"=",{"$f":"(C548-E548)*G548","v":{"$error":"#N/A"}},"x",{"$f":"GWPCH4","v":25},"=",{"$f":"I548*K548*CO2_C/(10^6)","v":{"$error":"#N/A"}},"=",{"$error":"#N/A"}]
[null,"Asphalt and Road Oil",{"$f":"'Industrial N2O'!C549","v":{"$error":"#N/A"}},"-",{"$f":"'Industrial N2O'!E549","v":0},"x",{"$f":"AsphaltCEFind","v":0},"=",{"$error":"#N/A"},"x",25,"=",{"$error":"#N/A"},"=",{"$error":"#N/A"}]
[null,"Aviation Gasoline Blending Components",{"$f":"'Industrial N2O'!C550","v":{"$error":"#N/A"}},"-",{"$f":"'Industrial N2O'!E550","v":0},"x",{"$f":"AvGasBlendCEFind","v":0},"=",{"$error":"#N/A"},"x",25,"=",{"$error":"#N/A"},"=",{"$error":"#N/A"}]
[null,"Crude Oil",{"$f":"'Industrial N2O'!C551","v":{"$error":"#N/A"}},"-",{"$f":"'Industrial N2O'!E551","v":0},"x",{"$f":"CrudeCEFind","v":0},"=",{"$error":"#N/A"},"x",25,"=",{"$error":"#N/A"},"=",{"$error":"#N/A"}]
[null,"Distillate Fuel",{"$f":"'Industrial N2O'!C552","v":{"$error":"#N/A"}},"-",{"$f":"'Industrial N2O'!E552","v":0},"x",{"$f":"DistillCEFind","v":0},"=",{"$error":"#N/A"},"x",25,"=",{"$error":"#N/A"},"=",{"$error":"#N/A"}]
[null,"Feedstocks, Naphtha less than 401 F",{"$f":"'Industrial N2O'!C553","v":{"$error":"#N/A"}},"-",{"$f":"'Industrial N2O'!E553","v":0},"x",{"$f":"NaphCEFind","v":0},"=",{"$error":"#N/A"},"x",25,"=",{"$error":"#N/A"},"=",{"$error":"#N/A"}]
[null,"Feedstocks, Other Oils greater than 401 F",{"$f":"'Industrial N2O'!C554","v":{"$error":"#N/A"}},"-",{"$f":"'Industrial N2O'!E554","v":0},"x",{"$f":"OtherOilCEFind","v":0},"=",{"$error":"#N/A"},"x",25,"=",{"$error":"#N/A"},"=",{"$error":"#N/A"}]
[null,"Kerosene",{"$f":"'Industrial N2O'!C555","v":{"$error":"#N/A"}},"-",{"$f":"'Industrial N2O'!E555","v":0},"x",{"$f":"KeroCEFind","v":0},"=",{"$error":"#N/A"},"x",25,"=",{"$error":"#N/A"},"=",{"$error":"#N/A"}]
[null,"LPG",{"$f":"'Industrial N2O'!C556","v":{"$error":"#N/A"}},"-",{"$f":"'Industrial N2O'!E556","v":0},"x",{"$f":"LPGCEFind","v":0},"=",{"$error":"#N/A"},"x",25,"=",{"$error":"#N/A"},"=",{"$error":"#N/A"}]
[null,"Lubricants",{"$f":"'Industrial N2O'!C557","v":{"$error":"#N/A"}},"-",{"$f":"'Industrial N2O'!E557","v":0},"x",{"$f":"LubeCEFind","v":0},"=",{"$error":"#N/A"},"x",25,"=",{"$error":"#N/A"},"=",{"$error":"#N/A"}]
[null,"Motor Gasoline",{"$f":"'Industrial N2O'!C558","v":{"$error":"#N/A"}},"-",{"$f":"'Industrial N2O'!E558","v":0},"x",{"$f":"MotorGasCEFind","v":0},"=",{"$error":"#N/A"},"x",25,"=",{"$error":"#N/A"},"=",{"$error":"#N/A"}]
[null,"Motor Gasoline Blending Components",{"$f":"'Industrial N2O'!C559","v":{"$error":"#N/A"}},"-",{"$f":"'Industrial N2O'!E559","v":0},"x",{"$f":"MoGasBlendCEFind","v":0},"=",{"$error":"#N/A"},"x",25,"=",{"$error":"#N/A"},"=",{"$error":"#N/A"}]
[null,"Misc. Petro Products",{"$f":"'Industrial N2O'!C560","v":{"$error":"#N/A"}},"-",{"$f":"'Industrial N2O'!E560","v":0},"x",{"$f":"MiscCEFind","v":0},"=",{"$error":"#N/A"},"x",25,"=",{"$error":"#N/A"},"=",{"$error":"#N/A"}]
[null,"Petroleum Coke",{"$f":"'Industrial N2O'!C561","v":{"$error":"#N/A"}},"-",{"$f":"'Industrial N2O'!E561","v":0},"x",{"$f":"PetCokeCEFind","v":0},"=",{"$error":"#N/A"},"x",25,"=",{"$error":"#N/A"},"=",{"$error":"#N/A"}]
[null,"Pentanes Plus",{"$f":"'Industrial N2O'!C562","v":{"$error":"#N/A"}},"-",{"$f":"'Industrial N2O'!E562","v":0},"x",{"$f":"pentanesCEFind","v":0},"=",{"$error":"#N/A"},"x",25,"=",{"$error":"#N/A"},"=",{"$error":"#N/A"}]
[null,"Residual Fuel",{"$f":"'Industrial N2O'!C563","v":{"$error":"#N/A"}},"-",{"$f":"'Industrial N2O'!E563","v":0},"x",{"$f":"ResidCEFind","v":0},"=",{"$error":"#N/A"},"x",25,"=",{"$error":"#N/A"},"=",{"$error":"#N/A"}]
[null,"Still Gas",{"$f":"'Industrial N2O'!C564","v":{"$error":"#N/A"}},"-",{"$f":"'Industrial N2O'!E564","v":0},"x",{"$f":"StillCEFind","v":0},"=",{"$error":"#N/A"},"x",25,"=",{"$error":"#N/A"},"=",{"$error":"#N/A"}]
[null,"Special Naphthas",{"$f":"'Industrial N2O'!C565","v":{"$error":"#N/A"}},"-",{"$f":"'Industrial N2O'!E565","v":0},"x",{"$f":"SpecialCEFind","v":0},"=",{"$error":"#N/A"},"x",25,"=",{"$error":"#N/A"},"=",{"$error":"#N/A"}]
[null,"Unfinished Oils",{"$f":"'Industrial N2O'!C566","v":{"$error":"#N/A"}},"-",{"$f":"'Industrial N2O'!E566","v":0},"x",{"$f":"UnfinCEFind","v":0},"=",{"$error":"#N/A"},"x",25,"=",{"$error":"#N/A"},"=",{"$error":"#N/A"}]
[null,"Waxes",{"$f":"'Industrial N2O'!C567","v":{"$error":"#N/A"}},"-",{"$f":"'Industrial N2O'!E567","v":0},"x",{"$f":"WaxesCEFind","v":0},"=",{"$error":"#N/A"},"x",25,"=",{"$error":"#N/A"},"=",{"$error":"#N/A"}]
[null,"Natural Gas",{"$f":"'Industrial N2O'!C568","v":{"$error":"#N/A"}},"-",{"$f":"'Industrial N2O'!E568","v":0},"x",{"$f":"NatGasCEFind","v":0},"=",{"$error":"#N/A"},"x",25,"=",{"$error":"#N/A"},"=",{"$error":"#N/A"}]
[null,"Wood",{"$f":"'Industrial N2O'!C569","v":{"$error":"#N/A"}},null,"NA","x",{"$f":"WoodCEFind","v":0},"=",{"$f":"C569*G569","v":{"$error":"#N/A"}},"x",25,"=",{"$error":"#N/A"},"=",{"$error":"#N/A"}]
[null,"Other",{"$f":"'Industrial N2O'!C570","v":0},"-",{"$f":"'Industrial N2O'!E570","v":0},"x",{"$f":"OtherCEFind","v":0},"=",{"$f":"(C570-E570)*G570","v":0},"x",25,"=",0,"=",0]
[null,null,null,null,null,null,null,null,null,null,"Total","=",{"$f":"SUM(M547:M570)","v":{"$error":"#N/A"}},"=",{"$error":"#N/A"}]
[]
[null,"Industrial Sector CH4",null,null,{"$f":"E543+1","v":2009}]
[null,null,"Total ",null,"Non-Energy "]
[null,null,"Consumption",null,"Consumption",null,"Emission Factor",null,"Emissions ",null,"GWP",null,"Emissions ",null,"Emissions "]
[null,"Fuel Type","(Billion Btu)",null,"(Billion Btu)",null,"(metric tons CH4 /BBtu)",null,"(metric tons CH4)",null,null,null,"(MMTCE)",null,"(MMTCO2E)"]
[null,"Coking Coal",{"$f":"'Industrial N2O'!C577","v":{"$error":"#N/A"}},"-",{"$f":"'Industrial N2O'!E577","v":0},"x",{"$f":"CokeCoalCEFind","v":0},"=",{"$f":"(C577-E577)*G577","v":{"$error":"#N/A"}},"x",{"$f":"GWPCH4","v":25},"=",{"$f":"I577*K577*CO2_C/(10^6)","v":{"$error":"#N/A"}},"=",{"$f":"M577/CO2_C","v":{"$error":"#N/A"}}]
[null,"Other Coal",{"$f":"'Industrial N2O'!C578","v":{"$error":"#N/A"}},"-",{"$f":"'Industrial N2O'!E578","v":0},"x",{"$f":"OtherCoalCEFind","v":0},"=",{"$f":"(C578-E578)*G578","v":{"$error":"#N/A"}},"x",{"$f":"GWPCH4","v":25},"=",{"$f":"I578*K578*CO2_C/(10^6)","v":{"$error":"#N/A"}},"=",{"$error":"#N/A"}]
[null,"Asphalt and Road Oil",{"$f":"'Industrial N2O'!C579","v":{"$error":"#N/A"}},"-",{"$f":"'Industrial N2O'!E579","v":0},"x",{"$f":"AsphaltCEFind","v":0},"=",{"$error":"#N/A"},"x",25,"=",{"$error":"#N/A"},"=",{"$error":"#N/A"}]
[null,"Aviation Gasoline Blending Components",{"$f":"'Industrial N2O'!C580","v":{"$error":"#N/A"}},"-",{"$f":"'Industrial N2O'!E580","v":0},"x",{"$f":"AvGasBlendCEFind","v":0},"=",{"$error":"#N/A"},"x",25,"=",{"$error":"#N/A"},"=",{"$error":"#N/A"}]
[null,"Crude Oil",{"$f":"'Industrial N2O'!C581","v":{"$error":"#N/A"}},"-",{"$f":"'Industrial N2O'!E581","v":0},"x",{"$f":"CrudeCEFind","v":0},"=",{"$error":"#N/A"},"x",25,"=",{"$error":"#N/A"},"=",{"$error":"#N/A"}]
[null,"Distillate Fuel",{"$f":"'Industrial N2O'!C582","v":{"$error":"#N/A"}},"-",{"$f":"'Industrial N2O'!E582","v":0},"x",{"$f":"DistillCEFind","v":0},"=",{"$error":"#N/A"},"x",25,"=",{"$error":"#N/A"},"=",{"$error":"#N/A"}]
[null,"Feedstocks, Naphtha less than 401 F",{"$f":"'Industrial N2O'!C583","v":{"$error":"#N/A"}},"-",{"$f":"'Industrial N2O'!E583","v":0},"x",{"$f":"NaphCEFind","v":0},"=",{"$error":"#N/A"},"x",25,"=",{"$error":"#N/A"},"=",{"$error":"#N/A"}]
[null,"Feedstocks, Other Oils greater than 401 F",{"$f":"'Industrial N2O'!C584","v":{"$error":"#N/A"}},"-",{"$f":"'Industrial N2O'!E584","v":0},"x",{"$f":"OtherOilCEFind","v":0},"=",{"$error":"#N/A"},"x",25,"=",{"$error":"#N/A"},"=",{"$error":"#N/A"}]
[null,"Kerosene",{"$f":"'Industrial N2O'!C585","v":{"$error":"#N/A"}},"-",{"$f":"'Industrial N2O'!E585","v":0},"x",{"$f":"KeroCEFind","v":0},"=",{"$error":"#N/A"},"x",25,"=",{"$error":"#N/A"},"=",{"$error":"#N/A"}]
[null,"LPG",{"$f":"'Industrial N2O'!C586","v":{"$error":"#N/A"}},"-",{"$f":"'Industrial N2O'!E586","v":0},"x",{"$f":"LPGCEFind","v":0},"=",{"$error":"#N/A"},"x",25,"=",{"$error":"#N/A"},"=",{"$error":"#N/A"}]
[null,"Lubricants",{"$f":"'Industrial N2O'!C587","v":{"$error":"#N/A"}},"-",{"$f":"'Industrial N2O'!E587","v":0},"x",{"$f":"LubeCEFind","v":0},"=",{"$error":"#N/A"},"x",25,"=",{"$error":"#N/A"},"=",{"$error":"#N/A"}]
[null,"Motor Gasoline",{"$f":"'Industrial N2O'!C588","v":{"$error":"#N/A"}},"-",{"$f":"'Industrial N2O'!E588","v":0},"x",{"$f":"MotorGasCEFind","v":0},"=",{"$error":"#N/A"},"x",25,"=",{"$error":"#N/A"},"=",{"$error":"#N/A"}]
[null,"Motor Gasoline Blending Components",{"$f":"'Industrial N2O'!C589","v":{"$error":"#N/A"}},"-",{"$f":"'Industrial N2O'!E589","v":0},"x",{"$f":"MoGasBlendCEFind","v":0},"=",{"$error":"#N/A"},"x",25,"=",{"$error":"#N/A"},"=",{"$error":"#N/A"}]
[null,"Misc. Petro Products",{"$f":"'Industrial N2O'!C590","v":{"$error":"#N/A"}},"-",{"$f":"'Industrial N2O'!E590","v":0},"x",{"$f":"MiscCEFind","v":0},"=",{"$error":"#N/A"},"x",25,"=",{"$error":"#N/A"},"=",{"$error":"#N/A"}]
[null,"Petroleum Coke",{"$f":"'Industrial N2O'!C591","v":{"$error":"#N/A"}},"-",{"$f":"'Industrial N2O'!E591","v":0},"x",{"$f":"PetCokeCEFind","v":0},"=",{"$error":"#N/A"},"x",25,"=",{"$error":"#N/A"},"=",{"$error":"#N/A"}]
[null,"Pentanes Plus",{"$f":"'Industrial N2O'!C592","v":{"$error":"#N/A"}},"-",{"$f":"'Industrial N2O'!E592","v":0},"x",{"$f":"pentanesCEFind","v":0},"=",{"$error":"#N/A"},"x",25,"=",{"$error":"#N/A"},"=",{"$error":"#N/A"}]
[null,"Residual Fuel",{"$f":"'Industrial N2O'!C593","v":{"$error":"#N/A"}},"-",{"$f":"'Industrial N2O'!E593","v":0},"x",{"$f":"ResidCEFind","v":0},"=",{"$error":"#N/A"},"x",25,"=",{"$error":"#N/A"},"=",{"$error":"#N/A"}]
[null,"Still Gas",{"$f":"'Industrial N2O'!C594","v":{"$error":"#N/A"}},"-",{"$f":"'Industrial N2O'!E594","v":0},"x",{"$f":"StillCEFind","v":0},"=",{"$error":"#N/A"},"x",25,"=",{"$error":"#N/A"},"=",{"$error":"#N/A"}]
[null,"Special Naphthas",{"$f":"'Industrial N2O'!C595","v":{"$error":"#N/A"}},"-",{"$f":"'Industrial N2O'!E595","v":0},"x",{"$f":"SpecialCEFind","v":0},"=",{"$error":"#N/A"},"x",25,"=",{"$error":"#N/A"},"=",{"$error":"#N/A"}]
[null,"Unfinished Oils",{"$f":"'Industrial N2O'!C596","v":{"$error":"#N/A"}},"-",{"$f":"'Industrial N2O'!E596","v":0},"x",{"$f":"UnfinCEFind","v":0},"=",{"$error":"#N/A"},"x",25,"=",{"$error":"#N/A"},"=",{"$error":"#N/A"}]
[null,"Waxes",{"$f":"'Industrial N2O'!C597","v":{"$error":"#N/A"}},"-",{"$f":"'Industrial N2O'!E597","v":0},"x",{"$f":"WaxesCEFind","v":0},"=",{"$error":"#N/A"},"x",25,"=",{"$error":"#N/A"},"=",{"$error":"#N/A"}]
[null,"Natural Gas",{"$f":"'Industrial N2O'!C598","v":{"$error":"#N/A"}},"-",{"$f":"'Industrial N2O'!E598","v":0},"x",{"$f":"NatGasCEFind","v":0},"=",{"$error":"#N/A"},"x",25,"=",{"$error":"#N/A"},"=",{"$error":"#N/A"}]
[null,"Wood",{"$f":"'Industrial N2O'!C599","v":{"$error":"#N/A"}},null,"NA","x",{"$f":"WoodCEFind","v":0},"=",{"$f":"C599*G599","v":{"$error":"#N/A"}},"x",25,"=",{"$error":"#N/A"},"=",{"$error":"#N/A"}]
[null,"Other",{"$f":"'Industrial N2O'!C600","v":0},"-",{"$f":"'Industrial N2O'!E600","v":0},"x",{"$f":"OtherCEFind","v":0},"=",{"$f":"(C600-E600)*G600","v":0},"x",25,"=",0,"=",0]
[null,null,null,null,null,null,null,null,null,null,"Total","=",{"$f":"SUM(M577:M600)","v":{"$error":"#N/A"}},"=",{"$error":"#N/A"}]
[]
[null,"Industrial Sector CH4",null,null,{"$f":"E573+1","v":2010}]
[null,null,"Total ",null,"Non-Energy "]
[null,null,"Consumption",null,"Consumption",null,"Emission Factor",null,"Emissions ",null,"GWP",null,"Emissions ",null,"Emissions "]
[null,"Fuel Type","(Billion Btu)",null,"(Billion Btu)",null,"(metric tons CH4 /BBtu)",null,"(metric tons CH4)",null,null,null,"(MMTCE)",null,"(MMTCO2E)"]
[null,"Coking Coal",{"$f":"'Industrial N2O'!C607","v":{"$error":"#N/A"}},"-",{"$f":"'Industrial N2O'!E607","v":0},"x",{"$f":"CokeCoalCEFind","v":0},"=",{"$f":"(C607-E607)*G607","v":{"$error":"#N/A"}},"x",{"$f":"GWPCH4","v":25},"=",{"$f":"I607*K607*CO2_C/(10^6)","v":{"$error":"#N/A"}},"=",{"$f":"M607/CO2_C","v":{"$error":"#N/A"}}]
[null,"Other Coal",{"$f":"'Industrial N2O'!C608","v":{"$error":"#N/A"}},"-",{"$f":"'Industrial N2O'!E608","v":0},"x",{"$f":"OtherCoalCEFind","v":0},"=",{"$f":"(C608-E608)*G608","v":{"$error":"#N/A"}},"x",{"$f":"GWPCH4","v":25},"=",{"$f":"I608*K608*CO2_C/(10^6)","v":{"$error":"#N/A"}},"=",{"$error":"#N/A"}]
[null,"Asphalt and Road Oil",{"$f":"'Industrial N2O'!C609","v":{"$error":"#N/A"}},"-",{"$f":"'Industrial N2O'!E609","v":0},"x",{"$f":"AsphaltCEFind","v":0},"=",{"$error":"#N/A"},"x",25,"=",{"$error":"#N/A"},"=",{"$error":"#N/A"}]
[null,"Aviation Gasoline Blending Components",{"$f":"'Industrial N2O'!C610","v":{"$error":"#N/A"}},"-",{"$f":"'Industrial N2O'!E610","v":0},"x",{"$f":"AvGasBlendCEFind","v":0},"=",{"$error":"#N/A"},"x",25,"=",{"$error":"#N/A"},"=",{"$error":"#N/A"}]
[null,"Crude Oil",{"$f":"'Industrial N2O'!C611","v":{"$error":"#N/A"}},"-",{"$f":"'Industrial N2O'!E611","v":0},"x",{"$f":"CrudeCEFind","v":0},"=",{"$error":"#N/A"},"x",25,"=",{"$error":"#N/A"},"=",{"$error":"#N/A"}]
[null,"Distillate Fuel",{"$f":"'Industrial N2O'!C612","v":{"$error":"#N/A"}},"-",{"$f":"'Industrial N2O'!E612","v":0},"x",{"$f":"DistillCEFind","v":0},"=",{"$error":"#N/A"},"x",25,"=",{"$error":"#N/A"},"=",{"$error":"#N/A"}]
[null,"Feedstocks, Naphtha less than 401 F",{"$f":"'Industrial N2O'!C613","v":{"$error":"#N/A"}},"-",{"$f":"'Industrial N2O'!E613","v":0},"x",{"$f":"NaphCEFind","v":0},"=",{"$error":"#N/A"},"x",25,"=",{"$error":"#N/A"},"=",{"$error":"#N/A"}]
[null,"Feedstocks, Other Oils greater than 401 F",{"$f":"'Industrial N2O'!C614","v":{"$error":"#N/A"}},"-",{"$f":"'Industrial N2O'!E614","v":0},"x",{"$f":"OtherOilCEFind","v":0},"=",{"$error":"#N/A"},"x",25,"=",{"$error":"#N/A"},"=",{"$error":"#N/A"}]
[null,"Kerosene",{"$f":"'Industrial N2O'!C615","v":{"$error":"#N/A"}},"-",{"$f":"'Industrial N2O'!E615","v":0},"x",{"$f":"KeroCEFind","v":0},"=",{"$error":"#N/A"},"x",25,"=",{"$error":"#N/A"},"=",{"$error":"#N/A"}]
[null,"LPG",{"$f":"'Industrial N2O'!C616","v":{"$error":"#N/A"}},"-",{"$f":"'Industrial N2O'!E616","v":0},"x",{"$f":"LPGCEFind","v":0},"=",{"$error":"#N/A"},"x",25,"=",{"$error":"#N/A"},"=",{"$error":"#N/A"}]
[null,"Lubricants",{"$f":"'Industrial N2O'!C617","v":{"$error":"#N/A"}},"-",{"$f":"'Industrial N2O'!E617","v":0},"x",{"$f":"LubeCEFind","v":0},"=",{"$error":"#N/A"},"x",25,"=",{"$error":"#N/A"},"=",{"$error":"#N/A"}]
[null,"Motor Gasoline",{"$f":"'Industrial N2O'!C618","v":{"$error":"#N/A"}},"-",{"$f":"'Industrial N2O'!E618","v":0},"x",{"$f":"MotorGasCEFind","v":0},"=",{"$error":"#N/A"},"x",25,"=",{"$error":"#N/A"},"=",{"$error":"#N/A"}]
[null,"Motor Gasoline Blending Components",{"$f":"'Industrial N2O'!C619","v":{"$error":"#N/A"}},"-",{"$f":"'Industrial N2O'!E619","v":0},"x",{"$f":"MoGasBlendCEFind","v":0},"=",{"$error":"#N/A"},"x",25,"=",{"$error":"#N/A"},"=",{"$error":"#N/A"}]
[null,"Misc. Petro Products",{"$f":"'Industrial N2O'!C620","v":{"$error":"#N/A"}},"-",{"$f":"'Industrial N2O'!E620","v":0},"x",{"$f":"MiscCEFind","v":0},"=",{"$error":"#N/A"},"x",25,"=",{"$error":"#N/A"},"=",{"$error":"#N/A"}]
[null,"Petroleum Coke",{"$f":"'Industrial N2O'!C621","v":{"$error":"#N/A"}},"-",{"$f":"'Industrial N2O'!E621","v":0},"x",{"$f":"PetCokeCEFind","v":0},"=",{"$error":"#N/A"},"x",25,"=",{"$error":"#N/A"},"=",{"$error":"#N/A"}]
[null,"Pentanes Plus",{"$f":"'Industrial N2O'!C622","v":{"$error":"#N/A"}},"-",{"$f":"'Industrial N2O'!E622","v":0},"x",{"$f":"pentanesCEFind","v":0},"=",{"$error":"#N/A"},"x",25,"=",{"$error":"#N/A"},"=",{"$error":"#N/A"}]
[null,"Residual Fuel",{"$f":"'Industrial N2O'!C623","v":{"$error":"#N/A"}},"-",{"$f":"'Industrial N2O'!E623","v":0},"x",{"$f":"ResidCEFind","v":0},"=",{"$error":"#N/A"},"x",25,"=",{"$error":"#N/A"},"=",{"$error":"#N/A"}]
[null,"Still Gas",{"$f":"'Industrial N2O'!C624","v":{"$error":"#N/A"}},"-",{"$f":"'Industrial N2O'!E624","v":0},"x",{"$f":"StillCEFind","v":0},"=",{"$error":"#N/A"},"x",25,"=",{"$error":"#N/A"},"=",{"$error":"#N/A"}]
[null,"Special Naphthas",{"$f":"'Industrial N2O'!C625","v":{"$error":"#N/A"}},"-",{"$f":"'Industrial N2O'!E625","v":0},"x",{"$f":"SpecialCEFind","v":0},"=",{"$error":"#N/A"},"x",25,"=",{"$error":"#N/A"},"=",{"$error":"#N/A"}]
[null,"Unfinished Oils",{"$f":"'Industrial N2O'!C626","v":{"$error":"#N/A"}},"-",{"$f":"'Industrial N2O'!E626","v":0},"x",{"$f":"UnfinCEFind","v":0},"=",{"$error":"#N/A"},"x",25,"=",{"$error":"#N/A"},"=",{"$error":"#N/A"}]
[null,"Waxes",{"$f":"'Industrial N2O'!C627","v":{"$error":"#N/A"}},"-",{"$f":"'Industrial N2O'!E627","v":0},"x",{"$f":"WaxesCEFind","v":0},"=",{"$error":"#N/A"},"x",25,"=",{"$error":"#N/A"},"=",{"$error":"#N/A"}]
[null,"Natural Gas",{"$f":"'Industrial N2O'!C628","v":{"$error":"#N/A"}},"-",{"$f":"'Industrial N2O'!E628","v":0},"x",{"$f":"NatGasCEFind","v":0},"=",{"$error":"#N/A"},"x",25,"=",{"$error":"#N/A"},"=",{"$error":"#N/A"}]
[null,"Wood",{"$f":"'Industrial N2O'!C629","v":{"$error":"#N/A"}},null,"NA","x",{"$f":"WoodCEFind","v":0},"=",{"$f":"C629*G629","v":{"$error":"#N/A"}},"x",25,"=",{"$error":"#N/A"},"=",{"$error":"#N/A"}]
[null,"Other",{"$f":"'Industrial N2O'!C630","v":0},"-",{"$f":"'Industrial N2O'!E630","v":0},"x",{"$f":"OtherCEFind","v":0},"=",{"$f":"(C630-E630)*G630","v":0},"x",25,"=",0,"=",0]
[null,null,null,null,null,null,null,null,null,null,"Total","=",{"$f":"SUM(M607:M630)","v":{"$error":"#N/A"}},"=",{"$error":"#N/A"}]
[]
[null,"Industrial Sector CH4",null,null,{"$f":"E603+1","v":2011}]
[null,null,"Total ",null,"Non-Energy "]
[null,null,"Consumption",null,"Consumption",null,"Emission Factor",null,"Emissions ",null,"GWP",null,"Emissions ",null,"Emissions "]
[null,"Fuel Type","(Billion Btu)",null,"(Billion Btu)",null,"(metric tons CH4 /BBtu)",null,"(metric tons CH4)",null,null,null,"(MMTCE)",null,"(MMTCO2E)"]
[null,"Coking Coal",{"$f":"'Industrial N2O'!C637","v":{"$error":"#N/A"}},"-",{"$f":"'Industrial N2O'!E637","v":0},"x",{"$f":"CokeCoalCEFind","v":0},"=",{"$f":"(C637-E637)*G637","v":{"$error":"#N/A"}},"x",{"$f":"GWPCH4","v":25},"=",{"$f":"I637*K637*CO2_C/(10^6)","v":{"$error":"#N/A"}},"=",{"$f":"M637/CO2_C","v":{"$error":"#N/A"}}]
[null,"Other Coal",{"$f":"'Industrial N2O'!C638","v":{"$error":"#N/A"}},"-",{"$f":"'Industrial N2O'!E638","v":0},"x",{"$f":"OtherCoalCEFind","v":0},"=",{"$f":"(C638-E638)*G638","v":{"$error":"#N/A"}},"x",{"$f":"GWPCH4","v":25},"=",{"$f":"I638*K638*CO2_C/(10^6)","v":{"$error":"#N/A"}},"=",{"$error":"#N/A"}]
[null,"Asphalt and Road Oil",{"$f":"'Industrial N2O'!C639","v":{"$error":"#N/A"}},"-",{"$f":"'Industrial N2O'!E639","v":0},"x",{"$f":"AsphaltCEFind","v":0},"=",{"$error":"#N/A"},"x",25,"=",{"$error":"#N/A"},"=",{"$error":"#N/A"}]
[null,"Aviation Gasoline Blending Components",{"$f":"'Industrial N2O'!C640","v":{"$error":"#N/A"}},"-",{"$f":"'Industrial N2O'!E640","v":0},"x",{"$f":"AvGasBlendCEFind","v":0},"=",{"$error":"#N/A"},"x",25,"=",{"$error":"#N/A"},"=",{"$error":"#N/A"}]
[null,"Crude Oil",{"$f":"'Industrial N2O'!C641","v":{"$error":"#N/A"}},"-",{"$f":"'Industrial N2O'!E641","v":0},"x",{"$f":"CrudeCEFind","v":0},"=",{"$error":"#N/A"},"x",25,"=",{"$error":"#N/A"},"=",{"$error":"#N/A"}]
[null,"Distillate Fuel",{"$f":"'Industrial N2O'!C642","v":{"$error":"#N/A"}},"-",{"$f":"'Industrial N2O'!E642","v":0},"x",{"$f":"DistillCEFind","v":0},"=",{"$error":"#N/A"},"x",25,"=",{"$error":"#N/A"},"=",{"$error":"#N/A"}]
[null,"Feedstocks, Naphtha less than 401 F",{"$f":"'Industrial N2O'!C643","v":{"$error":"#N/A"}},"-",{"$f":"'Industrial N2O'!E643","v":0},"x",{"$f":"NaphCEFind","v":0},"=",{"$error":"#N/A"},"x",25,"=",{"$error":"#N/A"},"=",{"$error":"#N/A"}]
[null,"Feedstocks, Other Oils greater than 401 F",{"$f":"'Industrial N2O'!C644","v":{"$error":"#N/A"}},"-",{"$f":"'Industrial N2O'!E644","v":0},"x",{"$f":"OtherOilCEFind","v":0},"=",{"$error":"#N/A"},"x",25,"=",{"$error":"#N/A"},"=",{"$error":"#N/A"}]
[null,"Kerosene",{"$f":"'Industrial N2O'!C645","v":{"$error":"#N/A"}},"-",{"$f":"'Industrial N2O'!E645","v":0},"x",{"$f":"KeroCEFind","v":0},"=",{"$error":"#N/A"},"x",25,"=",{"$error":"#N/A"},"=",{"$error":"#N/A"}]
[null,"LPG",{"$f":"'Industrial N2O'!C646","v":{"$error":"#N/A"}},"-",{"$f":"'Industrial N2O'!E646","v":0},"x",{"$f":"LPGCEFind","v":0},"=",{"$error":"#N/A"},"x",25,"=",{"$error":"#N/A"},"=",{"$error":"#N/A"}]
[null,"Lubricants",{"$f":"'Industrial N2O'!C647","v":{"$error":"#N/A"}},"-",{"$f":"'Industrial N2O'!E647","v":0},"x",{"$f":"LubeCEFind","v":0},"=",{"$error":"#N/A"},"x",25,"=",{"$error":"#N/A"},"=",{"$error":"#N/A"}]
[null,"Motor Gasoline",{"$f":"'Industrial N2O'!C648","v":{"$error":"#N/A"}},"-",{"$f":"'Industrial N2O'!E648","v":0},"x",{"$f":"MotorGasCEFind","v":0},"=",{"$error":"#N/A"},"x",25,"=",{"$error":"#N/A"},"=",{"$error":"#N/A"}]
[null,"Motor Gasoline Blending Components",{"$f":"'Industrial N2O'!C649","v":{"$error":"#N/A"}},"-",{"$f":"'Industrial N2O'!E649","v":0},"x",{"$f":"MoGasBlendCEFind","v":0},"=",{"$error":"#N/A"},"x",25,"=",{"$error":"#N/A"},"=",{"$error":"#N/A"}]
[null,"Misc. Petro Products",{"$f":"'Industrial N2O'!C650","v":{"$error":"#N/A"}},"-",{"$f":"'Industrial N2O'!E650","v":0},"x",{"$f":"MiscCEFind","v":0},"=",{"$error":"#N/A"},"x",25,"=",{"$error":"#N/A"},"=",{"$error":"#N/A"}]
[null,"Petroleum Coke",{"$f":"'Industrial N2O'!C651","v":{"$error":"#N/A"}},"-",{"$f":"'Industrial N2O'!E651","v":0},"x",{"$f":"PetCokeCEFind","v":0},"=",{"$error":"#N/A"},"x",25,"=",{"$error":"#N/A"},"=",{"$error":"#N/A"}]
[null,"Pentanes Plus",{"$f":"'Industrial N2O'!C652","v":{"$error":"#N/A"}},"-",{"$f":"'Industrial N2O'!E652","v":0},"x",{"$f":"pentanesCEFind","v":0},"=",{"$error":"#N/A"},"x",25,"=",{"$error":"#N/A"},"=",{"$error":"#N/A"}]
[null,"Residual Fuel",{"$f":"'Industrial N2O'!C653","v":{"$error":"#N/A"}},"-",{"$f":"'Industrial N2O'!E653","v":0},"x",{"$f":"ResidCEFind","v":0},"=",{"$error":"#N/A"},"x",25,"=",{"$error":"#N/A"},"=",{"$error":"#N/A"}]
[null,"Still Gas",{"$f":"'Industrial N2O'!C654","v":{"$error":"#N/A"}},"-",{"$f":"'Industrial N2O'!E654","v":0},"x",{"$f":"StillCEFind","v":0},"=",{"$error":"#N/A"},"x",25,"=",{"$error":"#N/A"},"=",{"$error":"#N/A"}]
[null,"Special Naphthas",{"$f":"'Industrial N2O'!C655","v":{"$error":"#N/A"}},"-",{"$f":"'Industrial N2O'!E655","v":0},"x",{"$f":"SpecialCEFind","v":0},"=",{"$error":"#N/A"},"x",25,"=",{"$error":"#N/A"},"=",{"$error":"#N/A"}]
[null,"Unfinished Oils",{"$f":"'Industrial N2O'!C656","v":{"$error":"#N/A"}},"-",{"$f":"'Industrial N2O'!E656","v":0},"x",{"$f":"UnfinCEFind","v":0},"=",{"$error":"#N/A"},"x",25,"=",{"$error":"#N/A"},"=",{"$error":"#N/A"}]
[null,"Waxes",{"$f":"'Industrial N2O'!C657","v":{"$error":"#N/A"}},"-",{"$f":"'Industrial N2O'!E657","v":0},"x",{"$f":"WaxesCEFind","v":0},"=",{"$error":"#N/A"},"x",25,"=",{"$error":"#N/A"},"=",{"$error":"#N/A"}]
[null,"Natural Gas",{"$f":"'Industrial N2O'!C658","v":{"$error":"#N/A"}},"-",{"$f":"'Industrial N2O'!E658","v":0},"x",{"$f":"NatGasCEFind","v":0},"=",{"$error":"#N/A"},"x",25,"=",{"$error":"#N/A"},"=",{"$error":"#N/A"}]
[null,"Wood",{"$f":"'Industrial N2O'!C659","v":{"$error":"#N/A"}},null,"NA","x",{"$f":"WoodCEFind","v":0},"=",{"$f":"C659*G659","v":{"$error":"#N/A"}},"x",25,"=",{"$error":"#N/A"},"=",{"$error":"#N/A"}]
[null,"Other",{"$f":"'Industrial N2O'!C660","v":0},"-",{"$f":"'Industrial N2O'!E660","v":0},"x",{"$f":"OtherCEFind","v":0},"=",{"$f":"(C660-E660)*G660","v":0},"x",25,"=",0,"=",0]
[null,null,null,null,null,null,null,null,null,null,"Total","=",{"$f":"SUM(M637:M660)","v":{"$error":"#N/A"}},"=",{"$error":"#N/A"}]
[]
[null,"Industrial Sector CH4",null,null,{"$f":"E633+1","v":2012}]
[null,null,"Total ",null,"Non-Energy "]
[null,null,"Consumption",null,"Consumption",null,"Emission Factor",null,"Emissions ",null,"GWP",null,"Emissions ",null,"Emissions "]
[null,"Fuel Type","(Billion Btu)",null,"(Billion Btu)",null,"(metric tons CH4 /BBtu)",null,"(metric tons CH4)",null,null,null,"(MMTCE)",null,"(MMTCO2E)"]
[null,"Coking Coal",{"$f":"'Industrial N2O'!C667","v":{"$error":"#N/A"}},"-",{"$f":"'Industrial N2O'!E667","v":0},"x",{"$f":"CokeCoalCEFind","v":0},"=",{"$f":"(C667-E667)*G667","v":{"$error":"#N/A"}},"x",{"$f":"GWPCH4","v":25},"=",{"$f":"I667*K667*CO2_C/(10^6)","v":{"$error":"#N/A"}},"=",{"$f":"M667/CO2_C","v":{"$error":"#N/A"}}]
[null,"Other Coal",{"$f":"'Industrial N2O'!C668","v":{"$error":"#N/A"}},"-",{"$f":"'Industrial N2O'!E668","v":0},"x",{"$f":"OtherCoalCEFind","v":0},"=",{"$f":"(C668-E668)*G668","v":{"$error":"#N/A"}},"x",{"$f":"GWPCH4","v":25},"=",{"$f":"I668*K668*CO2_C/(10^6)","v":{"$error":"#N/A"}},"=",{"$error":"#N/A"}]
[null,"Asphalt and Road Oil",{"$f":"'Industrial N2O'!C669","v":{"$error":"#N/A"}},"-",{"$f":"'Industrial N2O'!E669","v":0},"x",{"$f":"AsphaltCEFind","v":0},"=",{"$error":"#N/A"},"x",25,"=",{"$error":"#N/A"},"=",{"$error":"#N/A"}]
[null,"Aviation Gasoline Blending Components",{"$f":"'Industrial N2O'!C670","v":{"$error":"#N/A"}},"-",{"$f":"'Industrial N2O'!E670","v":0},"x",{"$f":"AvGasBlendCEFind","v":0},"=",{"$error":"#N/A"},"x",25,"=",{"$error":"#N/A"},"=",{"$error":"#N/A"}]
[null,"Crude Oil",{"$f":"'Industrial N2O'!C671","v":{"$error":"#N/A"}},"-",{"$f":"'Industrial N2O'!E671","v":0},"x",{"$f":"CrudeCEFind","v":0},"=",{"$error":"#N/A"},"x",25,"=",{"$error":"#N/A"},"=",{"$error":"#N/A"}]
[null,"Distillate Fuel",{"$f":"'Industrial N2O'!C672","v":{"$error":"#N/A"}},"-",{"$f":"'Industrial N2O'!E672","v":0},"x",{"$f":"DistillCEFind","v":0},"=",{"$error":"#N/A"},"x",25,"=",{"$error":"#N/A"},"=",{"$error":"#N/A"}]
[null,"Feedstocks, Naphtha less than 401 F",{"$f":"'Industrial N2O'!C673","v":{"$error":"#N/A"}},"-",{"$f":"'Industrial N2O'!E673","v":0},"x",{"$f":"NaphCEFind","v":0},"=",{"$error":"#N/A"},"x",25,"=",{"$error":"#N/A"},"=",{"$error":"#N/A"}]
[null,"Feedstocks, Other Oils greater than 401 F",{"$f":"'Industrial N2O'!C674","v":{"$error":"#N/A"}},"-",{"$f":"'Industrial N2O'!E674","v":0},"x",{"$f":"OtherOilCEFind","v":0},"=",{"$error":"#N/A"},"x",25,"=",{"$error":"#N/A"},"=",{"$error":"#N/A"}]
[null,"Kerosene",{"$f":"'Industrial N2O'!C675","v":{"$error":"#N/A"}},"-",{"$f":"'Industrial N2O'!E675","v":0},"x",{"$f":"KeroCEFind","v":0},"=",{"$error":"#N/A"},"x",25,"=",{"$error":"#N/A"},"=",{"$error":"#N/A"}]
[null,"LPG",{"$f":"'Industrial N2O'!C676","v":{"$error":"#N/A"}},"-",{"$f":"'Industrial N2O'!E676","v":0},"x",{"$f":"LPGCEFind","v":0},"=",{"$error":"#N/A"},"x",25,"=",{"$error":"#N/A"},"=",{"$error":"#N/A"}]
[null,"Lubricants",{"$f":"'Industrial N2O'!C677","v":{"$error":"#N/A"}},"-",{"$f":"'Industrial N2O'!E677","v":0},"x",{"$f":"LubeCEFind","v":0},"=",{"$error":"#N/A"},"x",25,"=",{"$error":"#N/A"},"=",{"$error":"#N/A"}]
[null,"Motor Gasoline",{"$f":"'Industrial N2O'!C678","v":{"$error":"#N/A"}},"-",{"$f":"'Industrial N2O'!E678","v":0},"x",{"$f":"MotorGasCEFind","v":0},"=",{"$error":"#N/A"},"x",25,"=",{"$error":"#N/A"},"=",{"$error":"#N/A"}]
[null,"Motor Gasoline Blending Components",{"$f":"'Industrial N2O'!C679","v":{"$error":"#N/A"}},"-",{"$f":"'Industrial N2O'!E679","v":0},"x",{"$f":"MoGasBlendCEFind","v":0},"=",{"$error":"#N/A"},"x",25,"=",{"$error":"#N/A"},"=",{"$error":"#N/A"}]
[null,"Misc. Petro Products",{"$f":"'Industrial N2O'!C680","v":{"$error":"#N/A"}},"-",{"$f":"'Industrial N2O'!E680","v":0},"x",{"$f":"MiscCEFind","v":0},"=",{"$error":"#N/A"},"x",25,"=",{"$error":"#N/A"},"=",{"$error":"#N/A"}]
[null,"Petroleum Coke",{"$f":"'Industrial N2O'!C681","v":{"$error":"#N/A"}},"-",{"$f":"'Industrial N2O'!E681","v":0},"x",{"$f":"PetCokeCEFind","v":0},"=",{"$error":"#N/A"},"x",25,"=",{"$error":"#N/A"},"=",{"$error":"#N/A"}]
[null,"Pentanes Plus",{"$f":"'Industrial N2O'!C682","v":{"$error":"#N/A"}},"-",{"$f":"'Industrial N2O'!E682","v":0},"x",{"$f":"pentanesCEFind","v":0},"=",{"$error":"#N/A"},"x",25,"=",{"$error":"#N/A"},"=",{"$error":"#N/A"}]
[null,"Residual Fuel",{"$f":"'Industrial N2O'!C683","v":{"$error":"#N/A"}},"-",{"$f":"'Industrial N2O'!E683","v":0},"x",{"$f":"ResidCEFind","v":0},"=",{"$error":"#N/A"},"x",25,"=",{"$error":"#N/A"},"=",{"$error":"#N/A"}]
[null,"Still Gas",{"$f":"'Industrial N2O'!C684","v":{"$error":"#N/A"}},"-",{"$f":"'Industrial N2O'!E684","v":0},"x",{"$f":"StillCEFind","v":0},"=",{"$error":"#N/A"},"x",25,"=",{"$error":"#N/A"},"=",{"$error":"#N/A"}]
[null,"Special Naphthas",{"$f":"'Industrial N2O'!C685","v":{"$error":"#N/A"}},"-",{"$f":"'Industrial N2O'!E685","v":0},"x",{"$f":"SpecialCEFind","v":0},"=",{"$error":"#N/A"},"x",25,"=",{"$error":"#N/A"},"=",{"$error":"#N/A"}]
[null,"Unfinished Oils",{"$f":"'Industrial N2O'!C686","v":{"$error":"#N/A"}},"-",{"$f":"'Industrial N2O'!E686","v":0},"x",{"$f":"UnfinCEFind","v":0},"=",{"$error":"#N/A"},"x",25,"=",{"$error":"#N/A"},"=",{"$error":"#N/A"}]
[null,"Waxes",{"$f":"'Industrial N2O'!C687","v":{"$error":"#N/A"}},"-",{"$f":"'Industrial N2O'!E687","v":0},"x",{"$f":"WaxesCEFind","v":0},"=",{"$error":"#N/A"},"x",25,"=",{"$error":"#N/A"},"=",{"$error":"#N/A"}]
[null,"Natural Gas",{"$f":"'Industrial N2O'!C688","v":{"$error":"#N/A"}},"-",{"$f":"'Industrial N2O'!E688","v":0},"x",{"$f":"NatGasCEFind","v":0},"=",{"$error":"#N/A"},"x",25,"=",{"$error":"#N/A"},"=",{"$error":"#N/A"}]
[null,"Wood",{"$f":"'Industrial N2O'!C689","v":{"$error":"#N/A"}},null,"NA","x",{"$f":"WoodCEFind","v":0},"=",{"$f":"C689*G689","v":{"$error":"#N/A"}},"x",25,"=",{"$error":"#N/A"},"=",{"$error":"#N/A"}]
[null,"Other",{"$f":"'Industrial N2O'!C690","v":0},"-",{"$f":"'Industrial N2O'!E690","v":0},"x",{"$f":"OtherCEFind","v":0},"=",{"$f":"(C690-E690)*G690","v":0},"x",25,"=",0,"=",0]
[null,null,null,null,null,null,null,null,null,null,"Total","=",{"$f":"SUM(M667:M690)","v":{"$error":"#N/A"}},"=",{"$error":"#N/A"}]
[]
[null,"Industrial Sector CH4",null,null,{"$f":"E663+1","v":2013}]
[null,null,"Total ",null,"Non-Energy "]
[null,null,"Consumption",null,"Consumption",null,"Emission Factor",null,"Emissions ",null,"GWP",null,"Emissions ",null,"Emissions "]
[null,"Fuel Type","(Billion Btu)",null,"(Billion Btu)",null,"(metric tons CH4 /BBtu)",null,"(metric tons CH4)",null,null,null,"(MMTCE)",null,"(MMTCO2E)"]
[null,"Coking Coal",{"$f":"'Industrial N2O'!C697","v":{"$error":"#N/A"}},"-",{"$f":"'Industrial N2O'!E697","v":0},"x",{"$f":"CokeCoalCEFind","v":0},"=",{"$f":"(C697-E697)*G697","v":{"$error":"#N/A"}},"x",{"$f":"GWPCH4","v":25},"=",{"$f":"I697*K697*CO2_C/(10^6)","v":{"$error":"#N/A"}},"=",{"$f":"M697/CO2_C","v":{"$error":"#N/A"}}]
[null,"Other Coal",{"$f":"'Industrial N2O'!C698","v":{"$error":"#N/A"}},"-",{"$f":"'Industrial N2O'!E698","v":0},"x",{"$f":"OtherCoalCEFind","v":0},"=",{"$f":"(C698-E698)*G698","v":{"$error":"#N/A"}},"x",{"$f":"GWPCH4","v":25},"=",{"$f":"I698*K698*CO2_C/(10^6)","v":{"$error":"#N/A"}},"=",{"$error":"#N/A"}]
[null,"Asphalt and Road Oil",{"$f":"'Industrial N2O'!C699","v":{"$error":"#N/A"}},"-",{"$f":"'Industrial N2O'!E699","v":0},"x",{"$f":"AsphaltCEFind","v":0},"=",{"$error":"#N/A"},"x",25,"=",{"$error":"#N/A"},"=",{"$error":"#N/A"}]
[null,"Aviation Gasoline Blending Components",{"$f":"'Industrial N2O'!C700","v":{"$error":"#N/A"}},"-",{"$f":"'Industrial N2O'!E700","v":0},"x",{"$f":"AvGasBlendCEFind","v":0},"=",{"$error":"#N/A"},"x",25,"=",{"$error":"#N/A"},"=",{"$error":"#N/A"}]
[null,"Crude Oil",{"$f":"'Industrial N2O'!C701","v":{"$error":"#N/A"}},"-",{"$f":"'Industrial N2O'!E701","v":0},"x",{"$f":"CrudeCEFind","v":0},"=",{"$error":"#N/A"},"x",25,"=",{"$error":"#N/A"},"=",{"$error":"#N/A"}]
[null,"Distillate Fuel",{"$f":"'Industrial N2O'!C702","v":{"$error":"#N/A"}},"-",{"$f":"'Industrial N2O'!E702","v":0},"x",{"$f":"DistillCEFind","v":0},"=",{"$error":"#N/A"},"x",25,"=",{"$error":"#N/A"},"=",{"$error":"#N/A"}]
[null,"Feedstocks, Naphtha less than 401 F",{"$f":"'Industrial N2O'!C703","v":{"$error":"#N/A"}},"-",{"$f":"'Industrial N2O'!E703","v":0},"x",{"$f":"NaphCEFind","v":0},"=",{"$error":"#N/A"},"x",25,"=",{"$error":"#N/A"},"=",{"$error":"#N/A"}]
[null,"Feedstocks, Other Oils greater than 401 F",{"$f":"'Industrial N2O'!C704","v":{"$error":"#N/A"}},"-",{"$f":"'Industrial N2O'!E704","v":0},"x",{"$f":"OtherOilCEFind","v":0},"=",{"$error":"#N/A"},"x",25,"=",{"$error":"#N/A"},"=",{"$error":"#N/A"}]
[null,"Kerosene",{"$f":"'Industrial N2O'!C705","v":{"$error":"#N/A"}},"-",{"$f":"'Industrial N2O'!E705","v":0},"x",{"$f":"KeroCEFind","v":0},"=",{"$error":"#N/A"},"x",25,"=",{"$error":"#N/A"},"=",{"$error":"#N/A"}]
[null,"LPG",{"$f":"'Industrial N2O'!C706","v":{"$error":"#N/A"}},"-",{"$f":"'Industrial N2O'!E706","v":0},"x",{"$f":"LPGCEFind","v":0},"=",{"$error":"#N/A"},"x",25,"=",{"$error":"#N/A"},"=",{"$error":"#N/A"}]
[null,"Lubricants",{"$f":"'Industrial N2O'!C707","v":{"$error":"#N/A"}},"-",{"$f":"'Industrial N2O'!E707","v":0},"x",{"$f":"LubeCEFind","v":0},"=",{"$error":"#N/A"},"x",25,"=",{"$error":"#N/A"},"=",{"$error":"#N/A"}]
[null,"Motor Gasoline",{"$f":"'Industrial N2O'!C708","v":{"$error":"#N/A"}},"-",{"$f":"'Industrial N2O'!E708","v":0},"x",{"$f":"MotorGasCEFind","v":0},"=",{"$error":"#N/A"},"x",25,"=",{"$error":"#N/A"},"=",{"$error":"#N/A"}]
[null,"Motor Gasoline Blending Components",{"$f":"'Industrial N2O'!C709","v":{"$error":"#N/A"}},"-",{"$f":"'Industrial N2O'!E709","v":0},"x",{"$f":"MoGasBlendCEFind","v":0},"=",{"$error":"#N/A"},"x",25,"=",{"$error":"#N/A"},"=",{"$error":"#N/A"}]
[null,"Misc. Petro Products",{"$f":"'Industrial N2O'!C710","v":{"$error":"#N/A"}},"-",{"$f":"'Industrial N2O'!E710","v":0},"x",{"$f":"MiscCEFind","v":0},"=",{"$error":"#N/A"},"x",25,"=",{"$error":"#N/A"},"=",{"$error":"#N/A"}]
[null,"Petroleum Coke",{"$f":"'Industrial N2O'!C711","v":{"$error":"#N/A"}},"-",{"$f":"'Industrial N2O'!E711","v":0},"x",{"$f":"PetCokeCEFind","v":0},"=",{"$error":"#N/A"},"x",25,"=",{"$error":"#N/A"},"=",{"$error":"#N/A"}]
[null,"Pentanes Plus",{"$f":"'Industrial N2O'!C712","v":{"$error":"#N/A"}},"-",{"$f":"'Industrial N2O'!E712","v":0},"x",{"$f":"pentanesCEFind","v":0},"=",{"$error":"#N/A"},"x",25,"=",{"$error":"#N/A"},"=",{"$error":"#N/A"}]
[null,"Residual Fuel",{"$f":"'Industrial N2O'!C713","v":{"$error":"#N/A"}},"-",{"$f":"'Industrial N2O'!E713","v":0},"x",{"$f":"ResidCEFind","v":0},"=",{"$error":"#N/A"},"x",25,"=",{"$error":"#N/A"},"=",{"$error":"#N/A"}]
[null,"Still Gas",{"$f":"'Industrial N2O'!C714","v":{"$error":"#N/A"}},"-",{"$f":"'Industrial N2O'!E714","v":0},"x",{"$f":"StillCEFind","v":0},"=",{"$error":"#N/A"},"x",25,"=",{"$error":"#N/A"},"=",{"$error":"#N/A"}]
[null,"Special Naphthas",{"$f":"'Industrial N2O'!C715","v":{"$error":"#N/A"}},"-",{"$f":"'Industrial N2O'!E715","v":0},"x",{"$f":"SpecialCEFind","v":0},"=",{"$error":"#N/A"},"x",25,"=",{"$error":"#N/A"},"=",{"$error":"#N/A"}]
[null,"Unfinished Oils",{"$f":"'Industrial N2O'!C716","v":{"$error":"#N/A"}},"-",{"$f":"'Industrial N2O'!E716","v":0},"x",{"$f":"UnfinCEFind","v":0},"=",{"$error":"#N/A"},"x",25,"=",{"$error":"#N/A"},"=",{"$error":"#N/A"}]
[null,"Waxes",{"$f":"'Industrial N2O'!C717","v":{"$error":"#N/A"}},"-",{"$f":"'Industrial N2O'!E717","v":0},"x",{"$f":"WaxesCEFind","v":0},"=",{"$error":"#N/A"},"x",25,"=",{"$error":"#N/A"},"=",{"$error":"#N/A"}]
[null,"Natural Gas",{"$f":"'Industrial N2O'!C718","v":{"$error":"#N/A"}},"-",{"$f":"'Industrial N2O'!E718","v":0},"x",{"$f":"NatGasCEFind","v":0},"=",{"$error":"#N/A"},"x",25,"=",{"$error":"#N/A"},"=",{"$error":"#N/A"}]
[null,"Wood",{"$f":"'Industrial N2O'!C719","v":{"$error":"#N/A"}},null,"NA","x",{"$f":"WoodCEFind","v":0},"=",{"$f":"C719*G719","v":{"$error":"#N/A"}},"x",25,"=",{"$error":"#N/A"},"=",{"$error":"#N/A"}]
[null,"Other",{"$f":"'Industrial N2O'!C720","v":0},"-",{"$f":"'Industrial N2O'!E720","v":0},"x",{"$f":"OtherCEFind","v":0},"=",{"$f":"(C720-E720)*G720","v":0},"x",25,"=",0,"=",0]
[null,null,null,null,null,null,null,null,null,null,"Total","=",{"$f":"SUM(M697:M720)","v":{"$error":"#N/A"}},"=",{"$error":"#N/A"}]
[]
[null,"Industrial Sector CH4",null,null,{"$f":"E693+1","v":2014}]
[null,null,"Total ",null,"Non-Energy "]
[null,null,"Consumption",null,"Consumption",null,"Emission Factor",null,"Emissions ",null,"GWP",null,"Emissions ",null,"Emissions "]
[null,"Fuel Type","(Billion Btu)",null,"(Billion Btu)",null,"(metric tons CH4 /BBtu)",null,"(metric tons CH4)",null,null,null,"(MMTCE)",null,"(MMTCO2E)"]
[null,"Coking Coal",{"$f":"'Industrial N2O'!C727","v":{"$error":"#N/A"}},"-",{"$f":"'Industrial N2O'!E727","v":0},"x",{"$f":"CokeCoalCEFind","v":0},"=",{"$f":"(C727-E727)*G727","v":{"$error":"#N/A"}},"x",{"$f":"GWPCH4","v":25},"=",{"$f":"I727*K727*CO2_C/(10^6)","v":{"$error":"#N/A"}},"=",{"$f":"M727/CO2_C","v":{"$error":"#N/A"}}]
[null,"Other Coal",{"$f":"'Industrial N2O'!C728","v":{"$error":"#N/A"}},"-",{"$f":"'Industrial N2O'!E728","v":0},"x",{"$f":"OtherCoalCEFind","v":0},"=",{"$f":"(C728-E728)*G728","v":{"$error":"#N/A"}},"x",{"$f":"GWPCH4","v":25},"=",{"$f":"I728*K728*CO2_C/(10^6)","v":{"$error":"#N/A"}},"=",{"$error":"#N/A"}]
[null,"Asphalt and Road Oil",{"$f":"'Industrial N2O'!C729","v":{"$error":"#N/A"}},"-",{"$f":"'Industrial N2O'!E729","v":0},"x",{"$f":"AsphaltCEFind","v":0},"=",{"$error":"#N/A"},"x",25,"=",{"$error":"#N/A"},"=",{"$error":"#N/A"}]
[null,"Aviation Gasoline Blending Components",{"$f":"'Industrial N2O'!C730","v":{"$error":"#N/A"}},"-",{"$f":"'Industrial N2O'!E730","v":0},"x",{"$f":"AvGasBlendCEFind","v":0},"=",{"$error":"#N/A"},"x",25,"=",{"$error":"#N/A"},"=",{"$error":"#N/A"}]
[null,"Crude Oil",{"$f":"'Industrial N2O'!C731","v":{"$error":"#N/A"}},"-",{"$f":"'Industrial N2O'!E731","v":0},"x",{"$f":"CrudeCEFind","v":0},"=",{"$error":"#N/A"},"x",25,"=",{"$error":"#N/A"},"=",{"$error":"#N/A"}]
[null,"Distillate Fuel",{"$f":"'Industrial N2O'!C732","v":{"$error":"#N/A"}},"-",{"$f":"'Industrial N2O'!E732","v":0},"x",{"$f":"DistillCEFind","v":0},"=",{"$error":"#N/A"},"x",25,"=",{"$error":"#N/A"},"=",{"$error":"#N/A"}]
[null,"Feedstocks, Naphtha less than 401 F",{"$f":"'Industrial N2O'!C733","v":{"$error":"#N/A"}},"-",{"$f":"'Industrial N2O'!E733","v":0},"x",{"$f":"NaphCEFind","v":0},"=",{"$error":"#N/A"},"x",25,"=",{"$error":"#N/A"},"=",{"$error":"#N/A"}]
[null,"Feedstocks, Other Oils greater than 401 F",{"$f":"'Industrial N2O'!C734","v":{"$error":"#N/A"}},"-",{"$f":"'Industrial N2O'!E734","v":0},"x",{"$f":"OtherOilCEFind","v":0},"=",{"$error":"#N/A"},"x",25,"=",{"$error":"#N/A"},"=",{"$error":"#N/A"}]
[null,"Kerosene",{"$f":"'Industrial N2O'!C735","v":{"$error":"#N/A"}},"-",{"$f":"'Industrial N2O'!E735","v":0},"x",{"$f":"KeroCEFind","v":0},"=",{"$error":"#N/A"},"x",25,"=",{"$error":"#N/A"},"=",{"$error":"#N/A"}]
[null,"LPG",{"$f":"'Industrial N2O'!C736","v":{"$error":"#N/A"}},"-",{"$f":"'Industrial N2O'!E736","v":0},"x",{"$f":"LPGCEFind","v":0},"=",{"$error":"#N/A"},"x",25,"=",{"$error":"#N/A"},"=",{"$error":"#N/A"}]
[null,"Lubricants",{"$f":"'Industrial N2O'!C737","v":{"$error":"#N/A"}},"-",{"$f":"'Industrial N2O'!E737","v":0},"x",{"$f":"LubeCEFind","v":0},"=",{"$error":"#N/A"},"x",25,"=",{"$error":"#N/A"},"=",{"$error":"#N/A"}]
[null,"Motor Gasoline",{"$f":"'Industrial N2O'!C738","v":{"$error":"#N/A"}},"-",{"$f":"'Industrial N2O'!E738","v":0},"x",{"$f":"MotorGasCEFind","v":0},"=",{"$error":"#N/A"},"x",25,"=",{"$error":"#N/A"},"=",{"$error":"#N/A"}]
[null,"Motor Gasoline Blending Components",{"$f":"'Industrial N2O'!C739","v":{"$error":"#N/A"}},"-",{"$f":"'Industrial N2O'!E739","v":0},"x",{"$f":"MoGasBlendCEFind","v":0},"=",{"$error":"#N/A"},"x",25,"=",{"$error":"#N/A"},"=",{"$error":"#N/A"}]
[null,"Misc. Petro Products",{"$f":"'Industrial N2O'!C740","v":{"$error":"#N/A"}},"-",{"$f":"'Industrial N2O'!E740","v":0},"x",{"$f":"MiscCEFind","v":0},"=",{"$error":"#N/A"},"x",25,"=",{"$error":"#N/A"},"=",{"$error":"#N/A"}]
[null,"Petroleum Coke",{"$f":"'Industrial N2O'!C741","v":{"$error":"#N/A"}},"-",{"$f":"'Industrial N2O'!E741","v":0},"x",{"$f":"PetCokeCEFind","v":0},"=",{"$error":"#N/A"},"x",25,"=",{"$error":"#N/A"},"=",{"$error":"#N/A"}]
[null,"Pentanes Plus",{"$f":"'Industrial N2O'!C742","v":{"$error":"#N/A"}},"-",{"$f":"'Industrial N2O'!E742","v":0},"x",{"$f":"pentanesCEFind","v":0},"=",{"$error":"#N/A"},"x",25,"=",{"$error":"#N/A"},"=",{"$error":"#N/A"}]
[null,"Residual Fuel",{"$f":"'Industrial N2O'!C743","v":{"$error":"#N/A"}},"-",{"$f":"'Industrial N2O'!E743","v":0},"x",{"$f":"ResidCEFind","v":0},"=",{"$error":"#N/A"},"x",25,"=",{"$error":"#N/A"},"=",{"$error":"#N/A"}]
[null,"Still Gas",{"$f":"'Industrial N2O'!C744","v":{"$error":"#N/A"}},"-",{"$f":"'Industrial N2O'!E744","v":0},"x",{"$f":"StillCEFind","v":0},"=",{"$error":"#N/A"},"x",25,"=",{"$error":"#N/A"},"=",{"$error":"#N/A"}]
[null,"Special Naphthas",{"$f":"'Industrial N2O'!C745","v":{"$error":"#N/A"}},"-",{"$f":"'Industrial N2O'!E745","v":0},"x",{"$f":"SpecialCEFind","v":0},"=",{"$error":"#N/A"},"x",25,"=",{"$error":"#N/A"},"=",{"$error":"#N/A"}]
[null,"Unfinished Oils",{"$f":"'Industrial N2O'!C746","v":{"$error":"#N/A"}},"-",{"$f":"'Industrial N2O'!E746","v":0},"x",{"$f":"UnfinCEFind","v":0},"=",{"$error":"#N/A"},"x",25,"=",{"$error":"#N/A"},"=",{"$error":"#N/A"}]
[null,"Waxes",{"$f":"'Industrial N2O'!C747","v":{"$error":"#N/A"}},"-",{"$f":"'Industrial N2O'!E747","v":0},"x",{"$f":"WaxesCEFind","v":0},"=",{"$error":"#N/A"},"x",25,"=",{"$error":"#N/A"},"=",{"$error":"#N/A"}]
[null,"Natural Gas",{"$f":"'Industrial N2O'!C748","v":{"$error":"#N/A"}},"-",{"$f":"'Industrial N2O'!E748","v":0},"x",{"$f":"NatGasCEFind","v":0},"=",{"$error":"#N/A"},"x",25,"=",{"$error":"#N/A"},"=",{"$error":"#N/A"}]
[null,"Wood",{"$f":"'Industrial N2O'!C749","v":{"$error":"#N/A"}},null,"NA","x",{"$f":"WoodCEFind","v":0},"=",{"$f":"C749*G749","v":{"$error":"#N/A"}},"x",25,"=",{"$error":"#N/A"},"=",{"$error":"#N/A"}]
[null,"Other",{"$f":"'Industrial N2O'!C750","v":0},"-",{"$f":"'Industrial N2O'!E750","v":0},"x",{"$f":"OtherCEFind","v":0},"=",{"$f":"(C750-E750)*G750","v":0},"x",25,"=",0,"=",0]
[null,null,null,null,null,null,null,null,null,null,"Total","=",{"$f":"SUM(M727:M750)","v":{"$error":"#N/A"}},"=",{"$error":"#N/A"}]
[]
[null,"Industrial Sector CH4",null,null,{"$f":"E723+1","v":2015}]
[null,null,"Total ",null,"Non-Energy "]
[null,null,"Consumption",null,"Consumption",null,"Emission Factor",null,"Emissions ",null,"GWP",null,"Emissions ",null,"Emissions "]
[null,"Fuel Type","(Billion Btu)",null,"(Billion Btu)",null,"(metric tons CH4 /BBtu)",null,"(metric tons CH4)",null,null,null,"(MMTCE)",null,"(MMTCO2E)"]
[null,"Coking Coal",{"$f":"'Industrial N2O'!C757","v":{"$error":"#N/A"}},"-",{"$f":"'Industrial N2O'!E757","v":0},"x",{"$f":"CokeCoalCEFind","v":0},"=",{"$f":"(C757-E757)*G757","v":{"$error":"#N/A"}},"x",{"$f":"GWPCH4","v":25},"=",{"$f":"I757*K757*CO2_C/(10^6)","v":{"$error":"#N/A"}},"=",{"$f":"M757/CO2_C","v":{"$error":"#N/A"}}]
[null,"Other Coal",{"$f":"'Industrial N2O'!C758","v":{"$error":"#N/A"}},"-",{"$f":"'Industrial N2O'!E758","v":0},"x",{"$f":"OtherCoalCEFind","v":0},"=",{"$f":"(C758-E758)*G758","v":{"$error":"#N/A"}},"x",{"$f":"GWPCH4","v":25},"=",{"$f":"I758*K758*CO2_C/(10^6)","v":{"$error":"#N/A"}},"=",{"$error":"#N/A"}]
[null,"Asphalt and Road Oil",{"$f":"'Industrial N2O'!C759","v":{"$error":"#N/A"}},"-",{"$f":"'Industrial N2O'!E759","v":0},"x",{"$f":"AsphaltCEFind","v":0},"=",{"$error":"#N/A"},"x",25,"=",{"$error":"#N/A"},"=",{"$error":"#N/A"}]
[null,"Aviation Gasoline Blending Components",{"$f":"'Industrial N2O'!C760","v":{"$error":"#N/A"}},"-",{"$f":"'Industrial N2O'!E760","v":0},"x",{"$f":"AvGasBlendCEFind","v":0},"=",{"$error":"#N/A"},"x",25,"=",{"$error":"#N/A"},"=",{"$error":"#N/A"}]
[null,"Crude Oil",{"$f":"'Industrial N2O'!C761","v":{"$error":"#N/A"}},"-",{"$f":"'Industrial N2O'!E761","v":0},"x",{"$f":"CrudeCEFind","v":0},"=",{"$error":"#N/A"},"x",25,"=",{"$error":"#N/A"},"=",{"$error":"#N/A"}]
[null,"Distillate Fuel",{"$f":"'Industrial N2O'!C762","v":{"$error":"#N/A"}},"-",{"$f":"'Industrial N2O'!E762","v":0},"x",{"$f":"DistillCEFind","v":0},"=",{"$error":"#N/A"},"x",25,"=",{"$error":"#N/A"},"=",{"$error":"#N/A"}]
[null,"Feedstocks, Naphtha less than 401 F",{"$f":"'Industrial N2O'!C763","v":{"$error":"#N/A"}},"-",{"$f":"'Industrial N2O'!E763","v":0},"x",{"$f":"NaphCEFind","v":0},"=",{"$error":"#N/A"},"x",25,"=",{"$error":"#N/A"},"=",{"$error":"#N/A"}]
[null,"Feedstocks, Other Oils greater than 401 F",{"$f":"'Industrial N2O'!C764","v":{"$error":"#N/A"}},"-",{"$f":"'Industrial N2O'!E764","v":0},"x",{"$f":"OtherOilCEFind","v":0},"=",{"$error":"#N/A"},"x",25,"=",{"$error":"#N/A"},"=",{"$error":"#N/A"}]
[null,"Kerosene",{"$f":"'Industrial N2O'!C765","v":{"$error":"#N/A"}},"-",{"$f":"'Industrial N2O'!E765","v":0},"x",{"$f":"KeroCEFind","v":0},"=",{"$error":"#N/A"},"x",25,"=",{"$error":"#N/A"},"=",{"$error":"#N/A"}]
[null,"LPG",{"$f":"'Industrial N2O'!C766","v":{"$error":"#N/A"}},"-",{"$f":"'Industrial N2O'!E766","v":0},"x",{"$f":"LPGCEFind","v":0},"=",{"$error":"#N/A"},"x",25,"=",{"$error":"#N/A"},"=",{"$error":"#N/A"}]
[null,"Lubricants",{"$f":"'Industrial N2O'!C767","v":{"$error":"#N/A"}},"-",{"$f":"'Industrial N2O'!E767","v":0},"x",{"$f":"LubeCEFind","v":0},"=",{"$error":"#N/A"},"x",25,"=",{"$error":"#N/A"},"=",{"$error":"#N/A"}]
[null,"Motor Gasoline",{"$f":"'Industrial N2O'!C768","v":{"$error":"#N/A"}},"-",{"$f":"'Industrial N2O'!E768","v":0},"x",{"$f":"MotorGasCEFind","v":0},"=",{"$error":"#N/A"},"x",25,"=",{"$error":"#N/A"},"=",{"$error":"#N/A"}]
[null,"Motor Gasoline Blending Components",{"$f":"'Industrial N2O'!C769","v":{"$error":"#N/A"}},"-",{"$f":"'Industrial N2O'!E769","v":0},"x",{"$f":"MoGasBlendCEFind","v":0},"=",{"$error":"#N/A"},"x",25,"=",{"$error":"#N/A"},"=",{"$error":"#N/A"}]
[null,"Misc. Petro Products",{"$f":"'Industrial N2O'!C770","v":{"$error":"#N/A"}},"-",{"$f":"'Industrial N2O'!E770","v":0},"x",{"$f":"MiscCEFind","v":0},"=",{"$error":"#N/A"},"x",25,"=",{"$error":"#N/A"},"=",{"$error":"#N/A"}]
[null,"Petroleum Coke",{"$f":"'Industrial N2O'!C771","v":{"$error":"#N/A"}},"-",{"$f":"'Industrial N2O'!E771","v":0},"x",{"$f":"PetCokeCEFind","v":0},"=",{"$error":"#N/A"},"x",25,"=",{"$error":"#N/A"},"=",{"$error":"#N/A"}]
[null,"Pentanes Plus",{"$f":"'Industrial N2O'!C772","v":{"$error":"#N/A"}},"-",{"$f":"'Industrial N2O'!E772","v":0},"x",{"$f":"pentanesCEFind","v":0},"=",{"$error":"#N/A"},"x",25,"=",{"$error":"#N/A"},"=",{"$error":"#N/A"}]
[null,"Residual Fuel",{"$f":"'Industrial N2O'!C773","v":{"$error":"#N/A"}},"-",{"$f":"'Industrial N2O'!E773","v":0},"x",{"$f":"ResidCEFind","v":0},"=",{"$error":"#N/A"},"x",25,"=",{"$error":"#N/A"},"=",{"$error":"#N/A"}]
[null,"Still Gas",{"$f":"'Industrial N2O'!C774","v":{"$error":"#N/A"}},"-",{"$f":"'Industrial N2O'!E774","v":0},"x",{"$f":"StillCEFind","v":0},"=",{"$error":"#N/A"},"x",25,"=",{"$error":"#N/A"},"=",{"$error":"#N/A"}]
[null,"Special Naphthas",{"$f":"'Industrial N2O'!C775","v":{"$error":"#N/A"}},"-",{"$f":"'Industrial N2O'!E775","v":0},"x",{"$f":"SpecialCEFind","v":0},"=",{"$error":"#N/A"},"x",25,"=",{"$error":"#N/A"},"=",{"$error":"#N/A"}]
[null,"Unfinished Oils",{"$f":"'Industrial N2O'!C776","v":{"$error":"#N/A"}},"-",{"$f":"'Industrial N2O'!E776","v":0},"x",{"$f":"UnfinCEFind","v":0},"=",{"$error":"#N/A"},"x",25,"=",{"$error":"#N/A"},"=",{"$error":"#N/A"}]
[null,"Waxes",{"$f":"'Industrial N2O'!C777","v":{"$error":"#N/A"}},"-",{"$f":"'Industrial N2O'!E777","v":0},"x",{"$f":"WaxesCEFind","v":0},"=",{"$error":"#N/A"},"x",25,"=",{"$error":"#N/A"},"=",{"$error":"#N/A"}]
[null,"Natural Gas",{"$f":"'Industrial N2O'!C778","v":{"$error":"#N/A"}},"-",{"$f":"'Industrial N2O'!E778","v":0},"x",{"$f":"NatGasCEFind","v":0},"=",{"$error":"#N/A"},"x",25,"=",{"$error":"#N/A"},"=",{"$error":"#N/A"}]
[null,"Wood",{"$f":"'Industrial N2O'!C779","v":{"$error":"#N/A"}},null,"NA","x",{"$f":"WoodCEFind","v":0},"=",{"$f":"C779*G779","v":{"$error":"#N/A"}},"x",25,"=",{"$error":"#N/A"},"=",{"$error":"#N/A"}]
[null,"Other",{"$f":"'Industrial N2O'!C780","v":0},"-",{"$f":"'Industrial N2O'!E780","v":0},"x",{"$f":"OtherCEFind","v":0},"=",{"$f":"(C780-E780)*G780","v":0},"x",25,"=",0,"=",0]
[null,null,null,null,null,null,null,null,null,null,"Total","=",{"$f":"SUM(M757:M780)","v":{"$error":"#N/A"}},"=",{"$error":"#N/A"}]
[]
[null,"Industrial Sector CH4",null,null,{"$f":"E753+1","v":2016}]
[null,null,"Total ",null,"Non-Energy "]
[null,null,"Consumption",null,"Consumption",null,"Emission Factor",null,"Emissions ",null,"GWP",null,"Emissions ",null,"Emissions "]
[null,"Fuel Type","(Billion Btu)",null,"(Billion Btu)",null,"(metric tons CH4 /BBtu)",null,"(metric tons CH4)",null,null,null,"(MMTCE)",null,"(MMTCO2E)"]
[null,"Coking Coal",{"$f":"'Industrial N2O'!C787","v":{"$error":"#N/A"}},"-",{"$f":"'Industrial N2O'!E787","v":0},"x",{"$f":"CokeCoalCEFind","v":0},"=",{"$f":"(C787-E787)*G787","v":{"$error":"#N/A"}},"x",{"$f":"GWPCH4","v":25},"=",{"$f":"I787*K787*CO2_C/(10^6)","v":{"$error":"#N/A"}},"=",{"$f":"M787/CO2_C","v":{"$error":"#N/A"}}]
[null,"Other Coal",{"$f":"'Industrial N2O'!C788","v":{"$error":"#N/A"}},"-",{"$f":"'Industrial N2O'!E788","v":0},"x",{"$f":"OtherCoalCEFind","v":0},"=",{"$f":"(C788-E788)*G788","v":{"$error":"#N/A"}},"x",{"$f":"GWPCH4","v":25},"=",{"$f":"I788*K788*CO2_C/(10^6)","v":{"$error":"#N/A"}},"=",{"$error":"#N/A"}]
[null,"Asphalt and Road Oil",{"$f":"'Industrial N2O'!C789","v":{"$error":"#N/A"}},"-",{"$f":"'Industrial N2O'!E789","v":0},"x",{"$f":"AsphaltCEFind","v":0},"=",{"$error":"#N/A"},"x",25,"=",{"$error":"#N/A"},"=",{"$error":"#N/A"}]
[null,"Aviation Gasoline Blending Components",{"$f":"'Industrial N2O'!C790","v":{"$error":"#N/A"}},"-",{"$f":"'Industrial N2O'!E790","v":0},"x",{"$f":"AvGasBlendCEFind","v":0},"=",{"$error":"#N/A"},"x",25,"=",{"$error":"#N/A"},"=",{"$error":"#N/A"}]
[null,"Crude Oil",{"$f":"'Industrial N2O'!C791","v":{"$error":"#N/A"}},"-",{"$f":"'Industrial N2O'!E791","v":0},"x",{"$f":"CrudeCEFind","v":0},"=",{"$error":"#N/A"},"x",25,"=",{"$error":"#N/A"},"=",{"$error":"#N/A"}]
[null,"Distillate Fuel",{"$f":"'Industrial N2O'!C792","v":{"$error":"#N/A"}},"-",{"$f":"'Industrial N2O'!E792","v":0},"x",{"$f":"DistillCEFind","v":0},"=",{"$error":"#N/A"},"x",25,"=",{"$error":"#N/A"},"=",{"$error":"#N/A"}]
[null,"Feedstocks, Naphtha less than 401 F",{"$f":"'Industrial N2O'!C793","v":{"$error":"#N/A"}},"-",{"$f":"'Industrial N2O'!E793","v":0},"x",{"$f":"NaphCEFind","v":0},"=",{"$error":"#N/A"},"x",25,"=",{"$error":"#N/A"},"=",{"$error":"#N/A"}]
[null,"Feedstocks, Other Oils greater than 401 F",{"$f":"'Industrial N2O'!C794","v":{"$error":"#N/A"}},"-",{"$f":"'Industrial N2O'!E794","v":0},"x",{"$f":"OtherOilCEFind","v":0},"=",{"$error":"#N/A"},"x",25,"=",{"$error":"#N/A"},"=",{"$error":"#N/A"}]
[null,"Kerosene",{"$f":"'Industrial N2O'!C795","v":{"$error":"#N/A"}},"-",{"$f":"'Industrial N2O'!E795","v":0},"x",{"$f":"KeroCEFind","v":0},"=",{"$error":"#N/A"},"x",25,"=",{"$error":"#N/A"},"=",{"$error":"#N/A"}]
[null,"LPG",{"$f":"'Industrial N2O'!C796","v":{"$error":"#N/A"}},"-",{"$f":"'Industrial N2O'!E796","v":0},"x",{"$f":"LPGCEFind","v":0},"=",{"$error":"#N/A"},"x",25,"=",{"$error":"#N/A"},"=",{"$error":"#N/A"}]
[null,"Lubricants",{"$f":"'Industrial N2O'!C797","v":{"$error":"#N/A"}},"-",{"$f":"'Industrial N2O'!E797","v":0},"x",{"$f":"LubeCEFind","v":0},"=",{"$error":"#N/A"},"x",25,"=",{"$error":"#N/A"},"=",{"$error":"#N/A"}]
[null,"Motor Gasoline",{"$f":"'Industrial N2O'!C798","v":{"$error":"#N/A"}},"-",{"$f":"'Industrial N2O'!E798","v":0},"x",{"$f":"MotorGasCEFind","v":0},"=",{"$error":"#N/A"},"x",25,"=",{"$error":"#N/A"},"=",{"$error":"#N/A"}]
[null,"Motor Gasoline Blending Components",{"$f":"'Industrial N2O'!C799","v":{"$error":"#N/A"}},"-",{"$f":"'Industrial N2O'!E799","v":0},"x",{"$f":"MoGasBlendCEFind","v":0},"=",{"$error":"#N/A"},"x",25,"=",{"$error":"#N/A"},"=",{"$error":"#N/A"}]
[null,"Misc. Petro Products",{"$f":"'Industrial N2O'!C800","v":{"$error":"#N/A"}},"-",{"$f":"'Industrial N2O'!E800","v":0},"x",{"$f":"MiscCEFind","v":0},"=",{"$error":"#N/A"},"x",25,"=",{"$error":"#N/A"},"=",{"$error":"#N/A"}]
[null,"Petroleum Coke",{"$f":"'Industrial N2O'!C801","v":{"$error":"#N/A"}},"-",{"$f":"'Industrial N2O'!E801","v":0},"x",{"$f":"PetCokeCEFind","v":0},"=",{"$error":"#N/A"},"x",25,"=",{"$error":"#N/A"},"=",{"$error":"#N/A"}]
[null,"Pentanes Plus",{"$f":"'Industrial N2O'!C802","v":{"$error":"#N/A"}},"-",{"$f":"'Industrial N2O'!E802","v":0},"x",{"$f":"pentanesCEFind","v":0},"=",{"$error":"#N/A"},"x",25,"=",{"$error":"#N/A"},"=",{"$error":"#N/A"}]
[null,"Residual Fuel",{"$f":"'Industrial N2O'!C803","v":{"$error":"#N/A"}},"-",{"$f":"'Industrial N2O'!E803","v":0},"x",{"$f":"ResidCEFind","v":0},"=",{"$error":"#N/A"},"x",25,"=",{"$error":"#N/A"},"=",{"$error":"#N/A"}]
[null,"Still Gas",{"$f":"'Industrial N2O'!C804","v":{"$error":"#N/A"}},"-",{"$f":"'Industrial N2O'!E804","v":0},"x",{"$f":"StillCEFind","v":0},"=",{"$error":"#N/A"},"x",25,"=",{"$error":"#N/A"},"=",{"$error":"#N/A"}]
[null,"Special Naphthas",{"$f":"'Industrial N2O'!C805","v":{"$error":"#N/A"}},"-",{"$f":"'Industrial N2O'!E805","v":0},"x",{"$f":"SpecialCEFind","v":0},"=",{"$error":"#N/A"},"x",25,"=",{"$error":"#N/A"},"=",{"$error":"#N/A"}]
[null,"Unfinished Oils",{"$f":"'Industrial N2O'!C806","v":{"$error":"#N/A"}},"-",{"$f":"'Industrial N2O'!E806","v":0},"x",{"$f":"UnfinCEFind","v":0},"=",{"$error":"#N/A"},"x",25,"=",{"$error":"#N/A"},"=",{"$error":"#N/A"}]
[null,"Waxes",{"$f":"'Industrial N2O'!C807","v":{"$error":"#N/A"}},"-",{"$f":"'Industrial N2O'!E807","v":0},"x",{"$f":"WaxesCEFind","v":0},"=",{"$error":"#N/A"},"x",25,"=",{"$error":"#N/A"},"=",{"$error":"#N/A"}]
[null,"Natural Gas",{"$f":"'Industrial N2O'!C808","v":{"$error":"#N/A"}},"-",{"$f":"'Industrial N2O'!E808","v":0},"x",{"$f":"NatGasCEFind","v":0},"=",{"$error":"#N/A"},"x",25,"=",{"$error":"#N/A"},"=",{"$error":"#N/A"}]
[null,"Wood",{"$f":"'Industrial N2O'!C809","v":{"$error":"#N/A"}},null,"NA","x",{"$f":"WoodCEFind","v":0},"=",{"$f":"C809*G809","v":{"$error":"#N/A"}},"x",25,"=",{"$error":"#N/A"},"=",{"$error":"#N/A"}]
[null,"Other",{"$f":"'Industrial N2O'!C810","v":0},"-",{"$f":"'Industrial N2O'!E810","v":0},"x",{"$f":"OtherCEFind","v":0},"=",{"$f":"(C810-E810)*G810","v":0},"x",25,"=",0,"=",0]
[null,null,null,null,null,null,null,null,null,null,"Total","=",{"$f":"SUM(M787:M810)","v":{"$error":"#N/A"}},"=",{"$error":"#N/A"}]
[]
[null,"Industrial Sector CH4",null,null,{"$f":"E783+1","v":2017}]
[null,null,"Total ",null,"Non-Energy "]
[null,null,"Consumption",null,"Consumption",null,"Emission Factor",null,"Emissions ",null,"GWP",null,"Emissions ",null,"Emissions "]
[null,"Fuel Type","(Billion Btu)",null,"(Billion Btu)",null,"(metric tons CH4 /BBtu)",null,"(metric tons CH4)",null,null,null,"(MMTCE)",null,"(MMTCO2E)"]
[null,"Coking Coal",{"$f":"'Industrial N2O'!C817","v":{"$error":"#N/A"}},"-",{"$f":"'Industrial N2O'!E817","v":0},"x",{"$f":"CokeCoalCEFind","v":0},"=",{"$f":"(C817-E817)*G817","v":{"$error":"#N/A"}},"x",{"$f":"GWPCH4","v":25},"=",{"$f":"I817*K817*CO2_C/(10^6)","v":{"$error":"#N/A"}},"=",{"$f":"M817/CO2_C","v":{"$error":"#N/A"}}]
[null,"Other Coal",{"$f":"'Industrial N2O'!C818","v":{"$error":"#N/A"}},"-",{"$f":"'Industrial N2O'!E818","v":0},"x",{"$f":"OtherCoalCEFind","v":0},"=",{"$f":"(C818-E818)*G818","v":{"$error":"#N/A"}},"x",{"$f":"GWPCH4","v":25},"=",{"$f":"I818*K818*CO2_C/(10^6)","v":{"$error":"#N/A"}},"=",{"$error":"#N/A"}]
[null,"Asphalt and Road Oil",{"$f":"'Industrial N2O'!C819","v":{"$error":"#N/A"}},"-",{"$f":"'Industrial N2O'!E819","v":0},"x",{"$f":"AsphaltCEFind","v":0},"=",{"$error":"#N/A"},"x",25,"=",{"$error":"#N/A"},"=",{"$error":"#N/A"}]
[null,"Aviation Gasoline Blending Components",{"$f":"'Industrial N2O'!C820","v":{"$error":"#N/A"}},"-",{"$f":"'Industrial N2O'!E820","v":0},"x",{"$f":"AvGasBlendCEFind","v":0},"=",{"$error":"#N/A"},"x",25,"=",{"$error":"#N/A"},"=",{"$error":"#N/A"}]
[null,"Crude Oil",{"$f":"'Industrial N2O'!C821","v":{"$error":"#N/A"}},"-",{"$f":"'Industrial N2O'!E821","v":0},"x",{"$f":"CrudeCEFind","v":0},"=",{"$error":"#N/A"},"x",25,"=",{"$error":"#N/A"},"=",{"$error":"#N/A"}]
[null,"Distillate Fuel",{"$f":"'Industrial N2O'!C822","v":{"$error":"#N/A"}},"-",{"$f":"'Industrial N2O'!E822","v":0},"x",{"$f":"DistillCEFind","v":0},"=",{"$error":"#N/A"},"x",25,"=",{"$error":"#N/A"},"=",{"$error":"#N/A"}]
[null,"Feedstocks, Naphtha less than 401 F",{"$f":"'Industrial N2O'!C823","v":{"$error":"#N/A"}},"-",{"$f":"'Industrial N2O'!E823","v":0},"x",{"$f":"NaphCEFind","v":0},"=",{"$error":"#N/A"},"x",25,"=",{"$error":"#N/A"},"=",{"$error":"#N/A"}]
[null,"Feedstocks, Other Oils greater than 401 F",{"$f":"'Industrial N2O'!C824","v":{"$error":"#N/A"}},"-",{"$f":"'Industrial N2O'!E824","v":0},"x",{"$f":"OtherOilCEFind","v":0},"=",{"$error":"#N/A"},"x",25,"=",{"$error":"#N/A"},"=",{"$error":"#N/A"}]
[null,"Kerosene",{"$f":"'Industrial N2O'!C825","v":{"$error":"#N/A"}},"-",{"$f":"'Industrial N2O'!E825","v":0},"x",{"$f":"KeroCEFind","v":0},"=",{"$error":"#N/A"},"x",25,"=",{"$error":"#N/A"},"=",{"$error":"#N/A"}]
[null,"LPG",{"$f":"'Industrial N2O'!C826","v":{"$error":"#N/A"}},"-",{"$f":"'Industrial N2O'!E826","v":0},"x",{"$f":"LPGCEFind","v":0},"=",{"$error":"#N/A"},"x",25,"=",{"$error":"#N/A"},"=",{"$error":"#N/A"}]
[null,"Lubricants",{"$f":"'Industrial N2O'!C827","v":{"$error":"#N/A"}},"-",{"$f":"'Industrial N2O'!E827","v":0},"x",{"$f":"LubeCEFind","v":0},"=",{"$error":"#N/A"},"x",25,"=",{"$error":"#N/A"},"=",{"$error":"#N/A"}]
[null,"Motor Gasoline",{"$f":"'Industrial N2O'!C828","v":{"$error":"#N/A"}},"-",{"$f":"'Industrial N2O'!E828","v":0},"x",{"$f":"MotorGasCEFind","v":0},"=",{"$error":"#N/A"},"x",25,"=",{"$error":"#N/A"},"=",{"$error":"#N/A"}]
[null,"Motor Gasoline Blending Components",{"$f":"'Industrial N2O'!C829","v":{"$error":"#N/A"}},"-",{"$f":"'Industrial N2O'!E829","v":0},"x",{"$f":"MoGasBlendCEFind","v":0},"=",{"$error":"#N/A"},"x",25,"=",{"$error":"#N/A"},"=",{"$error":"#N/A"}]
[null,"Misc. Petro Products",{"$f":"'Industrial N2O'!C830","v":{"$error":"#N/A"}},"-",{"$f":"'Industrial N2O'!E830","v":0},"x",{"$f":"MiscCEFind","v":0},"=",{"$error":"#N/A"},"x",25,"=",{"$error":"#N/A"},"=",{"$error":"#N/A"}]
[null,"Petroleum Coke",{"$f":"'Industrial N2O'!C831","v":{"$error":"#N/A"}},"-",{"$f":"'Industrial N2O'!E831","v":0},"x",{"$f":"PetCokeCEFind","v":0},"=",{"$error":"#N/A"},"x",25,"=",{"$error":"#N/A"},"=",{"$error":"#N/A"}]
[null,"Pentanes Plus",{"$f":"'Industrial N2O'!C832","v":{"$error":"#N/A"}},"-",{"$f":"'Industrial N2O'!E832","v":0},"x",{"$f":"pentanesCEFind","v":0},"=",{"$error":"#N/A"},"x",25,"=",{"$error":"#N/A"},"=",{"$error":"#N/A"}]
[null,"Residual Fuel",{"$f":"'Industrial N2O'!C833","v":{"$error":"#N/A"}},"-",{"$f":"'Industrial N2O'!E833","v":0},"x",{"$f":"ResidCEFind","v":0},"=",{"$error":"#N/A"},"x",25,"=",{"$error":"#N/A"},"=",{"$error":"#N/A"}]
[null,"Still Gas",{"$f":"'Industrial N2O'!C834","v":{"$error":"#N/A"}},"-",{"$f":"'Industrial N2O'!E834","v":0},"x",{"$f":"StillCEFind","v":0},"=",{"$error":"#N/A"},"x",25,"=",{"$error":"#N/A"},"=",{"$error":"#N/A"}]
[null,"Special Naphthas",{"$f":"'Industrial N2O'!C835","v":{"$error":"#N/A"}},"-",{"$f":"'Industrial N2O'!E835","v":0},"x",{"$f":"SpecialCEFind","v":0},"=",{"$error":"#N/A"},"x",25,"=",{"$error":"#N/A"},"=",{"$error":"#N/A"}]
[null,"Unfinished Oils",{"$f":"'Industrial N2O'!C836","v":{"$error":"#N/A"}},"-",{"$f":"'Industrial N2O'!E836","v":0},"x",{"$f":"UnfinCEFind","v":0},"=",{"$error":"#N/A"},"x",25,"=",{"$error":"#N/A"},"=",{"$error":"#N/A"}]
[null,"Waxes",{"$f":"'Industrial N2O'!C837","v":{"$error":"#N/A"}},"-",{"$f":"'Industrial N2O'!E837","v":0},"x",{"$f":"WaxesCEFind","v":0},"=",{"$error":"#N/A"},"x",25,"=",{"$error":"#N/A"},"=",{"$error":"#N/A"}]
[null,"Natural Gas",{"$f":"'Industrial N2O'!C838","v":{"$error":"#N/A"}},"-",{"$f":"'Industrial N2O'!E838","v":0},"x",{"$f":"NatGasCEFind","v":0},"=",{"$error":"#N/A"},"x",25,"=",{"$error":"#N/A"},"=",{"$error":"#N/A"}]
[null,"Wood",{"$f":"'Industrial N2O'!C839","v":{"$error":"#N/A"}},null,"NA","x",{"$f":"WoodCEFind","v":0},"=",{"$f":"C839*G839","v":{"$error":"#N/A"}},"x",25,"=",{"$error":"#N/A"},"=",{"$error":"#N/A"}]
[null,"Other",{"$f":"'Industrial N2O'!C840","v":0},"-",{"$f":"'Industrial N2O'!E840","v":0},"x",{"$f":"OtherCEFind","v":0},"=",{"$f":"(C840-E840)*G840","v":0},"x",25,"=",0,"=",0]
[null,null,null,null,null,null,null,null,null,null,"Total","=",{"$f":"SUM(M817:M840)","v":{"$error":"#N/A"}},"=",{"$error":"#N/A"}]
[]
[null,"Industrial Sector CH4",null,null,{"$f":"E813+1","v":2018}]
[null,null,"Total ",null,"Non-Energy "]
[null,null,"Consumption",null,"Consumption",null,"Emission Factor",null,"Emissions ",null,"GWP",null,"Emissions ",null,"Emissions "]
[null,"Fuel Type","(Billion Btu)",null,"(Billion Btu)",null,"(metric tons CH4 /BBtu)",null,"(metric tons CH4)",null,null,null,"(MMTCE)",null,"(MMTCO2E)"]
[null,"Coking Coal",{"$f":"'Industrial N2O'!C847","v":{"$error":"#N/A"}},"-",{"$f":"'Industrial N2O'!E847","v":0},"x",{"$f":"CokeCoalCEFind","v":0},"=",{"$f":"(C847-E847)*G847","v":{"$error":"#N/A"}},"x",{"$f":"GWPCH4","v":25},"=",{"$f":"I847*K847*CO2_C/(10^6)","v":{"$error":"#N/A"}},"=",{"$f":"M847/CO2_C","v":{"$error":"#N/A"}}]
[null,"Other Coal",{"$f":"'Industrial N2O'!C848","v":{"$error":"#N/A"}},"-",{"$f":"'Industrial N2O'!E848","v":0},"x",{"$f":"OtherCoalCEFind","v":0},"=",{"$f":"(C848-E848)*G848","v":{"$error":"#N/A"}},"x",{"$f":"GWPCH4","v":25},"=",{"$f":"I848*K848*CO2_C/(10^6)","v":{"$error":"#N/A"}},"=",{"$error":"#N/A"}]
[null,"Asphalt and Road Oil",{"$f":"'Industrial N2O'!C849","v":{"$error":"#N/A"}},"-",{"$f":"'Industrial N2O'!E849","v":0},"x",{"$f":"AsphaltCEFind","v":0},"=",{"$error":"#N/A"},"x",25,"=",{"$error":"#N/A"},"=",{"$error":"#N/A"}]
[null,"Aviation Gasoline Blending Components",{"$f":"'Industrial N2O'!C850","v":{"$error":"#N/A"}},"-",{"$f":"'Industrial N2O'!E850","v":0},"x",{"$f":"AvGasBlendCEFind","v":0},"=",{"$error":"#N/A"},"x",25,"=",{"$error":"#N/A"},"=",{"$error":"#N/A"}]
[null,"Crude Oil",{"$f":"'Industrial N2O'!C851","v":{"$error":"#N/A"}},"-",{"$f":"'Industrial N2O'!E851","v":0},"x",{"$f":"CrudeCEFind","v":0},"=",{"$error":"#N/A"},"x",25,"=",{"$error":"#N/A"},"=",{"$error":"#N/A"}]
[null,"Distillate Fuel",{"$f":"'Industrial N2O'!C852","v":{"$error":"#N/A"}},"-",{"$f":"'Industrial N2O'!E852","v":0},"x",{"$f":"DistillCEFind","v":0},"=",{"$error":"#N/A"},"x",25,"=",{"$error":"#N/A"},"=",{"$error":"#N/A"}]
[null,"Feedstocks, Naphtha less than 401 F",{"$f":"'Industrial N2O'!C853","v":{"$error":"#N/A"}},"-",{"$f":"'Industrial N2O'!E853","v":0},"x",{"$f":"NaphCEFind","v":0},"=",{"$error":"#N/A"},"x",25,"=",{"$error":"#N/A"},"=",{"$error":"#N/A"}]
[null,"Feedstocks, Other Oils greater than 401 F",{"$f":"'Industrial N2O'!C854","v":{"$error":"#N/A"}},"-",{"$f":"'Industrial N2O'!E854","v":0},"x",{"$f":"OtherOilCEFind","v":0},"=",{"$error":"#N/A"},"x",25,"=",{"$error":"#N/A"},"=",{"$error":"#N/A"}]
[null,"Kerosene",{"$f":"'Industrial N2O'!C855","v":{"$error":"#N/A"}},"-",{"$f":"'Industrial N2O'!E855","v":0},"x",{"$f":"KeroCEFind","v":0},"=",{"$error":"#N/A"},"x",25,"=",{"$error":"#N/A"},"=",{"$error":"#N/A"}]
[null,"LPG",{"$f":"'Industrial N2O'!C856","v":{"$error":"#N/A"}},"-",{"$f":"'Industrial N2O'!E856","v":0},"x",{"$f":"LPGCEFind","v":0},"=",{"$error":"#N/A"},"x",25,"=",{"$error":"#N/A"},"=",{"$error":"#N/A"}]
[null,"Lubricants",{"$f":"'Industrial N2O'!C857","v":{"$error":"#N/A"}},"-",{"$f":"'Industrial N2O'!E857","v":0},"x",{"$f":"LubeCEFind","v":0},"=",{"$error":"#N/A"},"x",25,"=",{"$error":"#N/A"},"=",{"$error":"#N/A"}]
[null,"Motor Gasoline",{"$f":"'Industrial N2O'!C858","v":{"$error":"#N/A"}},"-",{"$f":"'Industrial N2O'!E858","v":0},"x",{"$f":"MotorGasCEFind","v":0},"=",{"$error":"#N/A"},"x",25,"=",{"$error":"#N/A"},"=",{"$error":"#N/A"}]
[null,"Motor Gasoline Blending Components",{"$f":"'Industrial N2O'!C859","v":{"$error":"#N/A"}},"-",{"$f":"'Industrial N2O'!E859","v":0},"x",{"$f":"MoGasBlendCEFind","v":0},"=",{"$error":"#N/A"},"x",25,"=",{"$error":"#N/A"},"=",{"$error":"#N/A"}]
[null,"Misc. Petro Products",{"$f":"'Industrial N2O'!C860","v":{"$error":"#N/A"}},"-",{"$f":"'Industrial N2O'!E860","v":0},"x",{"$f":"MiscCEFind","v":0},"=",{"$error":"#N/A"},"x",25,"=",{"$error":"#N/A"},"=",{"$error":"#N/A"}]
[null,"Petroleum Coke",{"$f":"'Industrial N2O'!C861","v":{"$error":"#N/A"}},"-",{"$f":"'Industrial N2O'!E861","v":0},"x",{"$f":"PetCokeCEFind","v":0},"=",{"$error":"#N/A"},"x",25,"=",{"$error":"#N/A"},"=",{"$error":"#N/A"}]
[null,"Pentanes Plus",{"$f":"'Industrial N2O'!C862","v":{"$error":"#N/A"}},"-",{"$f":"'Industrial N2O'!E862","v":0},"x",{"$f":"pentanesCEFind","v":0},"=",{"$error":"#N/A"},"x",25,"=",{"$error":"#N/A"},"=",{"$error":"#N/A"}]
[null,"Residual Fuel",{"$f":"'Industrial N2O'!C863","v":{"$error":"#N/A"}},"-",{"$f":"'Industrial N2O'!E863","v":0},"x",{"$f":"ResidCEFind","v":0},"=",{"$error":"#N/A"},"x",25,"=",{"$error":"#N/A"},"=",{"$error":"#N/A"}]
[null,"Still Gas",{"$f":"'Industrial N2O'!C864","v":{"$error":"#N/A"}},"-",{"$f":"'Industrial N2O'!E864","v":0},"x",{"$f":"StillCEFind","v":0},"=",{"$error":"#N/A"},"x",25,"=",{"$error":"#N/A"},"=",{"$error":"#N/A"}]
[null,"Special Naphthas",{"$f":"'Industrial N2O'!C865","v":{"$error":"#N/A"}},"-",{"$f":"'Industrial N2O'!E865","v":0},"x",{"$f":"SpecialCEFind","v":0},"=",{"$error":"#N/A"},"x",25,"=",{"$error":"#N/A"},"=",{"$error":"#N/A"}]
[null,"Unfinished Oils",{"$f":"'Industrial N2O'!C866","v":{"$error":"#N/A"}},"-",{"$f":"'Industrial N2O'!E866","v":0},"x",{"$f":"UnfinCEFind","v":0},"=",{"$error":"#N/A"},"x",25,"=",{"$error":"#N/A"},"=",{"$error":"#N/A"}]
[null,"Waxes",{"$f":"'Industrial N2O'!C867","v":{"$error":"#N/A"}},"-",{"$f":"'Industrial N2O'!E867","v":0},"x",{"$f":"WaxesCEFind","v":0},"=",{"$error":"#N/A"},"x",25,"=",{"$error":"#N/A"},"=",{"$error":"#N/A"}]
[null,"Natural Gas",{"$f":"'Industrial N2O'!C868","v":{"$error":"#N/A"}},"-",{"$f":"'Industrial N2O'!E868","v":0},"x",{"$f":"NatGasCEFind","v":0},"=",{"$error":"#N/A"},"x",25,"=",{"$error":"#N/A"},"=",{"$error":"#N/A"}]
[null,"Wood",{"$f":"'Industrial N2O'!C869","v":{"$error":"#N/A"}},null,"NA","x",{"$f":"WoodCEFind","v":0},"=",{"$f":"C869*G869","v":{"$error":"#N/A"}},"x",25,"=",{"$error":"#N/A"},"=",{"$error":"#N/A"}]
[null,"Other",{"$f":"'Industrial N2O'!C870","v":0},"-",{"$f":"'Industrial N2O'!E870","v":0},"x",{"$f":"OtherCEFind","v":0},"=",{"$f":"(C870-E870)*G870","v":0},"x",25,"=",0,"=",0]
[null,null,null,null,null,null,null,null,null,null,"Total","=",{"$f":"SUM(M847:M870)","v":{"$error":"#N/A"}},"=",{"$error":"#N/A"}]
[]
[null,"Industrial Sector CH4",null,null,{"$f":"E843+1","v":2019}]
[null,null,"Total ",null,"Non-Energy "]
[null,null,"Consumption",null,"Consumption",null,"Emission Factor",null,"Emissions ",null,"GWP",null,"Emissions ",null,"Emissions "]
[null,"Fuel Type","(Billion Btu)",null,"(Billion Btu)",null,"(metric tons CH4 /BBtu)",null,"(metric tons CH4)",null,null,null,"(MMTCE)",null,"(MMTCO2E)"]
[null,"Coking Coal",{"$f":"'Industrial N2O'!C877","v":{"$error":"#N/A"}},"-",{"$f":"'Industrial N2O'!E877","v":0},"x",{"$f":"CokeCoalCEFind","v":0},"=",{"$f":"(C877-E877)*G877","v":{"$error":"#N/A"}},"x",{"$f":"GWPCH4","v":25},"=",{"$f":"I877*K877*CO2_C/(10^6)","v":{"$error":"#N/A"}},"=",{"$f":"M877/CO2_C","v":{"$error":"#N/A"}}]
[null,"Other Coal",{"$f":"'Industrial N2O'!C878","v":{"$error":"#N/A"}},"-",{"$f":"'Industrial N2O'!E878","v":0},"x",{"$f":"OtherCoalCEFind","v":0},"=",{"$f":"(C878-E878)*G878","v":{"$error":"#N/A"}},"x",{"$f":"GWPCH4","v":25},"=",{"$f":"I878*K878*CO2_C/(10^6)","v":{"$error":"#N/A"}},"=",{"$error":"#N/A"}]
[null,"Asphalt and Road Oil",{"$f":"'Industrial N2O'!C879","v":{"$error":"#N/A"}},"-",{"$f":"'Industrial N2O'!E879","v":0},"x",{"$f":"AsphaltCEFind","v":0},"=",{"$error":"#N/A"},"x",25,"=",{"$error":"#N/A"},"=",{"$error":"#N/A"}]
[null,"Aviation Gasoline Blending Components",{"$f":"'Industrial N2O'!C880","v":{"$error":"#N/A"}},"-",{"$f":"'Industrial N2O'!E880","v":0},"x",{"$f":"AvGasBlendCEFind","v":0},"=",{"$error":"#N/A"},"x",25,"=",{"$error":"#N/A"},"=",{"$error":"#N/A"}]
[null,"Crude Oil",{"$f":"'Industrial N2O'!C881","v":{"$error":"#N/A"}},"-",{"$f":"'Industrial N2O'!E881","v":0},"x",{"$f":"CrudeCEFind","v":0},"=",{"$error":"#N/A"},"x",25,"=",{"$error":"#N/A"},"=",{"$error":"#N/A"}]
[null,"Distillate Fuel",{"$f":"'Industrial N2O'!C882","v":{"$error":"#N/A"}},"-",{"$f":"'Industrial N2O'!E882","v":0},"x",{"$f":"DistillCEFind","v":0},"=",{"$error":"#N/A"},"x",25,"=",{"$error":"#N/A"},"=",{"$error":"#N/A"}]
[null,"Feedstocks, Naphtha less than 401 F",{"$f":"'Industrial N2O'!C883","v":{"$error":"#N/A"}},"-",{"$f":"'Industrial N2O'!E883","v":0},"x",{"$f":"NaphCEFind","v":0},"=",{"$error":"#N/A"},"x",25,"=",{"$error":"#N/A"},"=",{"$error":"#N/A"}]
[null,"Feedstocks, Other Oils greater than 401 F",{"$f":"'Industrial N2O'!C884","v":{"$error":"#N/A"}},"-",{"$f":"'Industrial N2O'!E884","v":0},"x",{"$f":"OtherOilCEFind","v":0},"=",{"$error":"#N/A"},"x",25,"=",{"$error":"#N/A"},"=",{"$error":"#N/A"}]
[null,"Kerosene",{"$f":"'Industrial N2O'!C885","v":{"$error":"#N/A"}},"-",{"$f":"'Industrial N2O'!E885","v":0},"x",{"$f":"KeroCEFind","v":0},"=",{"$error":"#N/A"},"x",25,"=",{"$error":"#N/A"},"=",{"$error":"#N/A"}]
[null,"LPG",{"$f":"'Industrial N2O'!C886","v":{"$error":"#N/A"}},"-",{"$f":"'Industrial N2O'!E886","v":0},"x",{"$f":"LPGCEFind","v":0},"=",{"$error":"#N/A"},"x",25,"=",{"$error":"#N/A"},"=",{"$error":"#N/A"}]
[null,"Lubricants",{"$f":"'Industrial N2O'!C887","v":{"$error":"#N/A"}},"-",{"$f":"'Industrial N2O'!E887","v":0},"x",{"$f":"LubeCEFind","v":0},"=",{"$error":"#N/A"},"x",25,"=",{"$error":"#N/A"},"=",{"$error":"#N/A"}]
[null,"Motor Gasoline",{"$f":"'Industrial N2O'!C888","v":{"$error":"#N/A"}},"-",{"$f":"'Industrial N2O'!E888","v":0},"x",{"$f":"MotorGasCEFind","v":0},"=",{"$error":"#N/A"},"x",25,"=",{"$error":"#N/A"},"=",{"$error":"#N/A"}]
[null,"Motor Gasoline Blending Components",{"$f":"'Industrial N2O'!C889","v":{"$error":"#N/A"}},"-",{"$f":"'Industrial N2O'!E889","v":0},"x",{"$f":"MoGasBlendCEFind","v":0},"=",{"$error":"#N/A"},"x",25,"=",{"$error":"#N/A"},"=",{"$error":"#N/A"}]
[null,"Misc. Petro Products",{"$f":"'Industrial N2O'!C890","v":{"$error":"#N/A"}},"-",{"$f":"'Industrial N2O'!E890","v":0},"x",{"$f":"MiscCEFind","v":0},"=",{"$error":"#N/A"},"x",25,"=",{"$error":"#N/A"},"=",{"$error":"#N/A"}]
[null,"Petroleum Coke",{"$f":"'Industrial N2O'!C891","v":{"$error":"#N/A"}},"-",{"$f":"'Industrial N2O'!E891","v":0},"x",{"$f":"PetCokeCEFind","v":0},"=",{"$error":"#N/A"},"x",25,"=",{"$error":"#N/A"},"=",{"$error":"#N/A"}]
[null,"Pentanes Plus",{"$f":"'Industrial N2O'!C892","v":{"$error":"#N/A"}},"-",{"$f":"'Industrial N2O'!E892","v":0},"x",{"$f":"pentanesCEFind","v":0},"=",{"$error":"#N/A"},"x",25,"=",{"$error":"#N/A"},"=",{"$error":"#N/A"}]
[null,"Residual Fuel",{"$f":"'Industrial N2O'!C893","v":{"$error":"#N/A"}},"-",{"$f":"'Industrial N2O'!E893","v":0},"x",{"$f":"ResidCEFind","v":0},"=",{"$error":"#N/A"},"x",25,"=",{"$error":"#N/A"},"=",{"$error":"#N/A"}]
[null,"Still Gas",{"$f":"'Industrial N2O'!C894","v":{"$error":"#N/A"}},"-",{"$f":"'Industrial N2O'!E894","v":0},"x",{"$f":"StillCEFind","v":0},"=",{"$error":"#N/A"},"x",25,"=",{"$error":"#N/A"},"=",{"$error":"#N/A"}]
[null,"Special Naphthas",{"$f":"'Industrial N2O'!C895","v":{"$error":"#N/A"}},"-",{"$f":"'Industrial N2O'!E895","v":0},"x",{"$f":"SpecialCEFind","v":0},"=",{"$error":"#N/A"},"x",25,"=",{"$error":"#N/A"},"=",{"$error":"#N/A"}]
[null,"Unfinished Oils",{"$f":"'Industrial N2O'!C896","v":{"$error":"#N/A"}},"-",{"$f":"'Industrial N2O'!E896","v":0},"x",{"$f":"UnfinCEFind","v":0},"=",{"$error":"#N/A"},"x",25,"=",{"$error":"#N/A"},"=",{"$error":"#N/A"}]
[null,"Waxes",{"$f":"'Industrial N2O'!C897","v":{"$error":"#N/A"}},"-",{"$f":"'Industrial N2O'!E897","v":0},"x",{"$f":"WaxesCEFind","v":0},"=",{"$error":"#N/A"},"x",25,"=",{"$error":"#N/A"},"=",{"$error":"#N/A"}]
[null,"Natural Gas",{"$f":"'Industrial N2O'!C898","v":{"$error":"#N/A"}},"-",{"$f":"'Industrial N2O'!E898","v":0},"x",{"$f":"NatGasCEFind","v":0},"=",{"$error":"#N/A"},"x",25,"=",{"$error":"#N/A"},"=",{"$error":"#N/A"}]
[null,"Wood",{"$f":"'Industrial N2O'!C899","v":{"$error":"#N/A"}},null,"NA","x",{"$f":"WoodCEFind","v":0},"=",{"$f":"C899*G899","v":{"$error":"#N/A"}},"x",25,"=",{"$error":"#N/A"},"=",{"$error":"#N/A"}]
[null,"Other",{"$f":"'Industrial N2O'!C900","v":0},"-",{"$f":"'Industrial N2O'!E900","v":0},"x",{"$f":"OtherCEFind","v":0},"=",{"$f":"(C900-E900)*G900","v":0},"x",25,"=",0,"=",0]
[null,null,null,null,null,null,null,null,null,null,"Total","=",{"$f":"SUM(M877:M900)","v":{"$error":"#N/A"}},"=",{"$error":"#N/A"}]
[]
[null,"Industrial Sector CH4",null,null,{"$f":"E873+1","v":2020}]
[null,null,"Total ",null,"Non-Energy "]
[null,null,"Consumption",null,"Consumption",null,"Emission Factor",null,"Emissions ",null,"GWP",null,"Emissions ",null,"Emissions "]
[null,"Fuel Type","(Billion Btu)",null,"(Billion Btu)",null,"(metric tons CH4 /BBtu)",null,"(metric tons CH4)",null,null,null,"(MMTCE)",null,"(MMTCO2E)"]
[null,"Coking Coal",{"$f":"'Industrial N2O'!C907","v":{"$error":"#N/A"}},"-",{"$f":"'Industrial N2O'!E907","v":0},"x",{"$f":"CokeCoalCEFind","v":0},"=",{"$f":"(C907-E907)*G907","v":{"$error":"#N/A"}},"x",{"$f":"GWPCH4","v":25},"=",{"$f":"I907*K907*CO2_C/(10^6)","v":{"$error":"#N/A"}},"=",{"$f":"M907/CO2_C","v":{"$error":"#N/A"}}]
[null,"Other Coal",{"$f":"'Industrial N2O'!C908","v":{"$error":"#N/A"}},"-",{"$f":"'Industrial N2O'!E908","v":0},"x",{"$f":"OtherCoalCEFind","v":0},"=",{"$f":"(C908-E908)*G908","v":{"$error":"#N/A"}},"x",{"$f":"GWPCH4","v":25},"=",{"$f":"I908*K908*CO2_C/(10^6)","v":{"$error":"#N/A"}},"=",{"$error":"#N/A"}]
[null,"Asphalt and Road Oil",{"$f":"'Industrial N2O'!C909","v":{"$error":"#N/A"}},"-",{"$f":"'Industrial N2O'!E909","v":0},"x",{"$f":"AsphaltCEFind","v":0},"=",{"$error":"#N/A"},"x",25,"=",{"$error":"#N/A"},"=",{"$error":"#N/A"}]
[null,"Aviation Gasoline Blending Components",{"$f":"'Industrial N2O'!C910","v":{"$error":"#N/A"}},"-",{"$f":"'Industrial N2O'!E910","v":0},"x",{"$f":"AvGasBlendCEFind","v":0},"=",{"$error":"#N/A"},"x",25,"=",{"$error":"#N/A"},"=",{"$error":"#N/A"}]
[null,"Crude Oil",{"$f":"'Industrial N2O'!C911","v":{"$error":"#N/A"}},"-",{"$f":"'Industrial N2O'!E911","v":0},"x",{"$f":"CrudeCEFind","v":0},"=",{"$error":"#N/A"},"x",25,"=",{"$error":"#N/A"},"=",{"$error":"#N/A"}]
[null,"Distillate Fuel",{"$f":"'Industrial N2O'!C912","v":{"$error":"#N/A"}},"-",{"$f":"'Industrial N2O'!E912","v":0},"x",{"$f":"DistillCEFind","v":0},"=",{"$error":"#N/A"},"x",25,"=",{"$error":"#N/A"},"=",{"$error":"#N/A"}]
[null,"Feedstocks, Naphtha less than 401 F",{"$f":"'Industrial N2O'!C913","v":{"$error":"#N/A"}},"-",{"$f":"'Industrial N2O'!E913","v":0},"x",{"$f":"NaphCEFind","v":0},"=",{"$error":"#N/A"},"x",25,"=",{"$error":"#N/A"},"=",{"$error":"#N/A"}]
[null,"Feedstocks, Other Oils greater than 401 F",{"$f":"'Industrial N2O'!C914","v":{"$error":"#N/A"}},"-",{"$f":"'Industrial N2O'!E914","v":0},"x",{"$f":"OtherOilCEFind","v":0},"=",{"$error":"#N/A"},"x",25,"=",{"$error":"#N/A"},"=",{"$error":"#N/A"}]
[null,"Kerosene",{"$f":"'Industrial N2O'!C915","v":{"$error":"#N/A"}},"-",{"$f":"'Industrial N2O'!E915","v":0},"x",{"$f":"KeroCEFind","v":0},"=",{"$error":"#N/A"},"x",25,"=",{"$error":"#N/A"},"=",{"$error":"#N/A"}]
[null,"LPG",{"$f":"'Industrial N2O'!C916","v":{"$error":"#N/A"}},"-",{"$f":"'Industrial N2O'!E916","v":0},"x",{"$f":"LPGCEFind","v":0},"=",{"$error":"#N/A"},"x",25,"=",{"$error":"#N/A"},"=",{"$error":"#N/A"}]
[null,"Lubricants",{"$f":"'Industrial N2O'!C917","v":{"$error":"#N/A"}},"-",{"$f":"'Industrial N2O'!E917","v":0},"x",{"$f":"LubeCEFind","v":0},"=",{"$error":"#N/A"},"x",25,"=",{"$error":"#N/A"},"=",{"$error":"#N/A"}]
[null,"Motor Gasoline",{"$f":"'Industrial N2O'!C918","v":{"$error":"#N/A"}},"-",{"$f":"'Industrial N2O'!E918","v":0},"x",{"$f":"MotorGasCEFind","v":0},"=",{"$error":"#N/A"},"x",25,"=",{"$error":"#N/A"},"=",{"$error":"#N/A"}]
[null,"Motor Gasoline Blending Components",{"$f":"'Industrial N2O'!C919","v":{"$error":"#N/A"}},"-",{"$f":"'Industrial N2O'!E919","v":0},"x",{"$f":"MoGasBlendCEFind","v":0},"=",{"$error":"#N/A"},"x",25,"=",{"$error":"#N/A"},"=",{"$error":"#N/A"}]
[null,"Misc. Petro Products",{"$f":"'Industrial N2O'!C920","v":{"$error":"#N/A"}},"-",{"$f":"'Industrial N2O'!E920","v":0},"x",{"$f":"MiscCEFind","v":0},"=",{"$error":"#N/A"},"x",25,"=",{"$error":"#N/A"},"=",{"$error":"#N/A"}]
[null,"Petroleum Coke",{"$f":"'Industrial N2O'!C921","v":{"$error":"#N/A"}},"-",{"$f":"'Industrial N2O'!E921","v":0},"x",{"$f":"PetCokeCEFind","v":0},"=",{"$error":"#N/A"},"x",25,"=",{"$error":"#N/A"},"=",{"$error":"#N/A"}]
[null,"Pentanes Plus",{"$f":"'Industrial N2O'!C922","v":{"$error":"#N/A"}},"-",{"$f":"'Industrial N2O'!E922","v":0},"x",{"$f":"pentanesCEFind","v":0},"=",{"$error":"#N/A"},"x",25,"=",{"$error":"#N/A"},"=",{"$error":"#N/A"}]
[null,"Residual Fuel",{"$f":"'Industrial N2O'!C923","v":{"$error":"#N/A"}},"-",{"$f":"'Industrial N2O'!E923","v":0},"x",{"$f":"ResidCEFind","v":0},"=",{"$error":"#N/A"},"x",25,"=",{"$error":"#N/A"},"=",{"$error":"#N/A"}]
[null,"Still Gas",{"$f":"'Industrial N2O'!C924","v":{"$error":"#N/A"}},"-",{"$f":"'Industrial N2O'!E924","v":0},"x",{"$f":"StillCEFind","v":0},"=",{"$error":"#N/A"},"x",25,"=",{"$error":"#N/A"},"=",{"$error":"#N/A"}]
[null,"Special Naphthas",{"$f":"'Industrial N2O'!C925","v":{"$error":"#N/A"}},"-",{"$f":"'Industrial N2O'!E925","v":0},"x",{"$f":"SpecialCEFind","v":0},"=",{"$error":"#N/A"},"x",25,"=",{"$error":"#N/A"},"=",{"$error":"#N/A"}]
[null,"Unfinished Oils",{"$f":"'Industrial N2O'!C926","v":{"$error":"#N/A"}},"-",{"$f":"'Industrial N2O'!E926","v":0},"x",{"$f":"UnfinCEFind","v":0},"=",{"$error":"#N/A"},"x",25,"=",{"$error":"#N/A"},"=",{"$error":"#N/A"}]
[null,"Waxes",{"$f":"'Industrial N2O'!C927","v":{"$error":"#N/A"}},"-",{"$f":"'Industrial N2O'!E927","v":0},"x",{"$f":"WaxesCEFind","v":0},"=",{"$error":"#N/A"},"x",25,"=",{"$error":"#N/A"},"=",{"$error":"#N/A"}]
[null,"Natural Gas",{"$f":"'Industrial N2O'!C928","v":{"$error":"#N/A"}},"-",{"$f":"'Industrial N2O'!E928","v":0},"x",{"$f":"NatGasCEFind","v":0},"=",{"$error":"#N/A"},"x",25,"=",{"$error":"#N/A"},"=",{"$error":"#N/A"}]
[null,"Wood",{"$f":"'Industrial N2O'!C929","v":{"$error":"#N/A"}},null,"NA","x",{"$f":"WoodCEFind","v":0},"=",{"$f":"C929*G929","v":{"$error":"#N/A"}},"x",25,"=",{"$error":"#N/A"},"=",{"$error":"#N/A"}]
[null,"Other",{"$f":"'Industrial N2O'!C930","v":0},"-",{"$f":"'Industrial N2O'!E930","v":0},"x",{"$f":"OtherCEFind","v":0},"=",{"$f":"(C930-E930)*G930","v":0},"x",25,"=",0,"=",0]
[null,null,null,null,null,null,null,null,null,null,"Total","=",{"$f":"SUM(M907:M930)","v":{"$error":"#N/A"}},"=",{"$error":"#N/A"}]

{"sheet":"Summary N2O","index":10,"n_rows":69,"n_cols":33,"rows_kept":69,"cut":false,"hidden":false,"merged":[[2,1,2,10]]}
[{"$f":"\"N2O Emissions Summary for \"&StateName","v":"N2O Emissions Summary for Select a State . . ."}]
[]
[null,{"$f":"Tracker!B13","v":"Emissions were not calculated for the following sectors: Residential, Commercial, Industrial, and Electric Power."}]
[]
[null,"MMTCO2E",1990,1991,1992,1993,1994,1995,1996,1997,1998,1999,2000,2001,2002,2003,2004,2005,2006,2007,2008,2009,2010,2011,2012,2013,2014,2015,2016,2017,2018,2019,2020]
[null,"Residential",{"$f":"C40*44/12","v":{"$error":"#N/A"}},{"$error":"#N/A"},{"$error":"#N/A"},{"$error":"#N/A"},{"$error":"#N/A"},{"$error":"#N/A"},{"$error":"#N/A"},{"$error":"#N/A"},{"$error":"#N/A"},{"$error":"#N/A"},{"$error":"#N/A"},{"$error":"#N/A"},{"$error":"#N/A"},{"$error":"#N/A"},{"$error":"#N/A"},{"$error":"#N/A"},{"$f":"S40*44/12","v":{"$error":"#N/A"}},{"$error":"#N/A"},{"$error":"#N/A"},{"$error":"#N/A"},{"$error":"#N/A"},{"$error":"#N/A"},{"$error":"#N/A"},{"$error":"#N/A"},{"$error":"#N/A"},{"$error":"#N/A"},{"$error":"#N/A"},{"$error":"#N/A"},{"$error":"#N/A"},{"$error":"#N/A"},{"$error":"#N/A"}]
[null,"Coal",{"$f":"C41*44/12","v":{"$error":"#N/A"}},{"$error":"#N/A"},{"$error":"#N/A"},{"$error":"#N/A"},{"$error":"#N/A"},{"$error":"#N/A"},{"$error":"#N/A"},{"$error":"#N/A"},{"$error":"#N/A"},{"$error":"#N/A"},{"$error":"#N/A"},{"$error":"#N/A"},{"$error":"#N/A"},{"$error":"#N/A"},{"$error":"#N/A"},{"$error":"#N/A"},{"$f":"S41*44/12","v":{"$error":"#N/A"}},{"$error":"#N/A"},{"$error":"#N/A"},{"$error":"#N/A"},{"$error":"#N/A"},{"$error":"#N/A"},{"$error":"#N/A"},{"$error":"#N/A"},{"$error":"#N/A"},{"$error":"#N/A"},{"$error":"#N/A"},{"$error":"#N/A"},{"$error":"#N/A"},{"$error":"#N/A"},{"$error":"#N/A"}]
[null,"Petroleum",{"$f":"C42*44/12","v":{"$error":"#N/A"}},{"$error":"#N/A"},{"$error":"#N/A"},{"$error":"#N/A"},{"$error":"#N/A"},{"$error":"#N/A"},{"$error":"#N/A"},{"$error":"#N/A"},{"$error":"#N/A"},{"$error":"#N/A"},{"$error":"#N/A"},{"$error":"#N/A"},{"$error":"#N/A"},{"$error":"#N/A"},{"$error":"#N/A"},{"$error":"#N/A"},{"$f":"S42*44/12","v":{"$error":"#N/A"}},{"$error":"#N/A"},{"$error":"#N/A"},{"$error":"#N/A"},{"$error":"#N/A"},{"$error":"#N/A"},{"$error":"#N/A"},{"$error":"#N/A"},{"$error":"#N/A"},{"$error":"#N/A"},{"$error":"#N/A"},{"$error":"#N/A"},{"$error":"#N/A"},{"$error":"#N/A"},{"$error":"#N/A"}]
[null,"Natural Gas",{"$f":"C43*44/12","v":{"$error":"#N/A"}},{"$error":"#N/A"},{"$error":"#N/A"},{"$error":"#N/A"},{"$error":"#N/A"},{"$error":"#N/A"},{"$error":"#N/A"},{"$error":"#N/A"},{"$error":"#N/A"},{"$error":"#N/A"},{"$error":"#N/A"},{"$error":"#N/A"},{"$error":"#N/A"},{"$error":"#N/A"},{"$error":"#N/A"},{"$error":"#N/A"},{"$f":"S43*44/12","v":{"$error":"#N/A"}},{"$error":"#N/A"},{"$error":"#N/A"},{"$error":"#N/A"},{"$error":"#N/A"},{"$error":"#N/A"},{"$error":"#N/A"},{"$error":"#N/A"},{"$error":"#N/A"},{"$error":"#N/A"},{"$error":"#N/A"},{"$error":"#N/A"},{"$error":"#N/A"},{"$error":"#N/A"},{"$error":"#N/A"}]
[null,"Wood",{"$f":"C44*44/12","v":{"$error":"#N/A"}},{"$error":"#N/A"},{"$error":"#N/A"},{"$error":"#N/A"},{"$error":"#N/A"},{"$error":"#N/A"},{"$error":"#N/A"},{"$error":"#N/A"},{"$error":"#N/A"},{"$error":"#N/A"},{"$error":"#N/A"},{"$error":"#N/A"},{"$error":"#N/A"},{"$error":"#N/A"},{"$error":"#N/A"},{"$error":"#N/A"},{"$f":"S44*44/12","v":{"$error":"#N/A"}},{"$error":"#N/A"},{"$error":"#N/A"},{"$error":"#N/A"},{"$error":"#N/A"},{"$error":"#N/A"},{"$error":"#N/A"},{"$error":"#N/A"},{"$error":"#N/A"},{"$error":"#N/A"},{"$error":"#N/A"},{"$error":"#N/A"},{"$error":"#N/A"},{"$error":"#N/A"},{"$error":"#N/A"}]
[null,"Other",{"$f":"C45*44/12","v":0},0,0,0,0,0,0,0,0,0,0,0,0,0,0,0,{"$f":"S45*44/12","v":0},0,0,0,0,0,0,0,0,0,0,0,0,0,0]
[null,"Commercial",{"$f":"C46*44/12","v":{"$error":"#N/A"}},{"$error":"#N/A"},{"$error":"#N/A"},{"$error":"#N/A"},{"$error":"#N/A"},{"$error":"#N/A"},{"$error":"#N/A"},{"$error":"#N/A"},{"$error":"#N/A"},{"$error":"#N/A"},{"$error":"#N/A"},{"$error":"#N/A"},{"$error":"#N/A"},{"$error":"#N/A"},{"$error":"#N/A"},{"$error":"#N/A"},{"$f":"S46*44/12","v":{"$error":"#N/A"}},{"$error":"#N/A"},{"$error":"#N/A"},{"$error":"#N/A"},{"$error":"#N/A"},{"$error":"#N/A"},{"$error":"#N/A"},{"$error":"#N/A"},{"$error":"#N/A"},{"$error":"#N/A"},{"$error":"#N/A"},{"$error":"#N/A"},{"$error":"#N/A"},{"$error":"#N/A"},{"$error":"#N/A"}]
[null,"Coal",{"$f":"C47*44/12","v":{"$error":"#N/A"}},{"$error":"#N/A"},{"$error":"#N/A"},{"$error":"#N/A"},{"$error":"#N/A"},{"$error":"#N/A"},{"$error":"#N/A"},{"$error":"#N/A"},{"$error":"#N/A"},{"$error":"#N/A"},{"$error":"#N/A"},{"$error":"#N/A"},{"$error":"#N/A"},{"$error":"#N/A"},{"$error":"#N/A"},{"$error":"#N/A"},{"$f":"S47*44/12","v":{"$error":"#N/A"}},{"$error":"#N/A"},{"$error":"#N/A"},{"$error":"#N/A"},{"$error":"#N/A"},{"$error":"#N/A"},{"$error":"#N/A"},{"$error":"#N/A"},{"$error":"#N/A"},{"$error":"#N/A"},{"$error":"#N/A"},{"$error":"#N/A"},{"$error":"#N/A"},{"$error":"#N/A"},{"$error":"#N/A"}]
[null,"Petroleum",{"$f":"C48*44/12","v":{"$error":"#N/A"}},{"$error":"#N/A"},{"$error":"#N/A"},{"$error":"#N/A"},{"$error":"#N/A"},{"$error":"#N/A"},{"$error":"#N/A"},{"$error":"#N/A"},{"$error":"#N/A"},{"$error":"#N/A"},{"$error":"#N/A"},{"$error":"#N/A"},{"$error":"#N/A"},{"$error":"#N/A"},{"$error":"#N/A"},{"$error":"#N/A"},{"$f":"S48*44/12","v":{"$error":"#N/A"}},{"$error":"#N/A"},{"$error":"#N/A"},{"$error":"#N/A"},{"$error":"#N/A"},{"$error":"#N/A"},{"$error":"#N/A"},{"$error":"#N/A"},{"$error":"#N/A"},{"$error":"#N/A"},{"$error":"#N/A"},{"$error":"#N/A"},{"$error":"#N/A"},{"$error":"#N/A"},{"$error":"#N/A"}]
[null,"Natural Gas",{"$f":"C49*44/12","v":{"$error":"#N/A"}},{"$error":"#N/A"},{"$error":"#N/A"},{"$error":"#N/A"},{"$error":"#N/A"},{"$error":"#N/A"},{"$error":"#N/A"},{"$error":"#N/A"},{"$error":"#N/A"},{"$error":"#N/A"},{"$error":"#N/A"},{"$error":"#N/A"},{"$error":"#N/A"},{"$error":"#N/A"},{"$error":"#N/A"},{"$error":"#N/A"},{"$f":"S49*44/12","v":{"$error":"#N/A"}},{"$error":"#N/A"},{"$error":"#N/A"},{"$error":"#N/A"},{"$error":"#N/A"},{"$error":"#N/A"},{"$error":"#N/A"},{"$error":"#N/A"},{"$error":"#N/A"},{"$error":"#N/A"},{"$error":"#N/A"},{"$error":"#N/A"},{"$error":"#N/A"},{"$error":"#N/A"},{"$error":"#N/A"}]
[null,"Wood",{"$f":"C50*44/12","v":{"$error":"#N/A"}},{"$error":"#N/A"},{"$error":"#N/A"},{"$error":"#N/A"},{"$error":"#N/A"},{"$error":"#N/A"},{"$error":"#N/A"},{"$error":"#N/A"},{"$error":"#N/A"},{"$error":"#N/A"},{"$error":"#N/A"},{"$error":"#N/A"},{"$error":"#N/A"},{"$error":"#N/A"},{"$error":"#N/A"},{"$error":"#N/A"},{"$f":"S50*44/12","v":{"$error":"#N/A"}},{"$error":"#N/A"},{"$error":"#N/A"},{"$error":"#N/A"},{"$error":"#N/A"},{"$error":"#N/A"},{"$error":"#N/A"},{"$error":"#N/A"},{"$error":"#N/A"},{"$error":"#N/A"},{"$error":"#N/A"},{"$error":"#N/A"},{"$error":"#N/A"},{"$error":"#N/A"},{"$error":"#N/A"}]
[null,"Other",{"$f":"C51*44/12","v":0},0,0,0,0,0,0,0,0,0,0,0,0,0,0,0,{"$f":"S51*44/12","v":0},0,0,0,0,0,0,0,0,0,0,0,0,0,0]
[null,"Industrial",{"$f":"C52*44/12","v":{"$error":"#N/A"}},{"$error":"#N/A"},{"$error":"#N/A"},{"$error":"#N/A"},{"$error":"#N/A"},{"$error":"#N/A"},{"$error":"#N/A"},{"$error":"#N/A"},{"$error":"#N/A"},{"$error":"#N/A"},{"$error":"#N/A"},{"$error":"#N/A"},{"$error":"#N/A"},{"$error":"#N/A"},{"$error":"#N/A"},{"$error":"#N/A"},{"$f":"S52*44/12","v":{"$error":"#N/A"}},{"$error":"#N/A"},{"$error":"#N/A"},{"$error":"#N/A"},{"$error":"#N/A"},{"$error":"#N/A"},{"$error":"#N/A"},{"$error":"#N/A"},{"$error":"#N/A"},{"$error":"#N/A"},{"$error":"#N/A"},{"$error":"#N/A"},{"$error":"#N/A"},{"$error":"#N/A"},{"$error":"#N/A"}]
[null,"Coal",{"$f":"C53*44/12","v":{"$error":"#N/A"}},{"$error":"#N/A"},{"$error":"#N/A"},{"$error":"#N/A"},{"$error":"#N/A"},{"$error":"#N/A"},{"$error":"#N/A"},{"$error":"#N/A"},{"$error":"#N/A"},{"$error":"#N/A"},{"$error":"#N/A"},{"$error":"#N/A"},{"$error":"#N/A"},{"$error":"#N/A"},{"$error":"#N/A"},{"$error":"#N/A"},{"$f":"S53*44/12","v":{"$error":"#N/A"}},{"$error":"#N/A"},{"$error":"#N/A"},{"$error":"#N/A"},{"$error":"#N/A"},{"$error":"#N/A"},{"$error":"#N/A"},{"$error":"#N/A"},{"$error":"#N/A"},{"$error":"#N/A"},{"$error":"#N/A"},{"$error":"#N/A"},{"$error":"#N/A"},{"$error":"#N/A"},{"$error":"#N/A"}]
[null,"Petroleum",{"$f":"C54*44/12","v":{"$error":"#N/A"}},{"$error":"#N/A"},{"$error":"#N/A"},{"$error":"#N/A"},{"$error":"#N/A"},{"$error":"#N/A"},{"$error":"#N/A"},{"$error":"#N/A"},{"$error":"#N/A"},{"$error":"#N/A"},{"$error":"#N/A"},{"$error":"#N/A"},{"$error":"#N/A"},{"$error":"#N/A"},{"$error":"#N/A"},{"$error":"#N/A"},{"$f":"S54*44/12","v":{"$error":"#N/A"}},{"$error":"#N/A"},{"$error":"#N/A"},{"$error":"#N/A"},{"$error":"#N/A"},{"$error":"#N/A"},{"$error":"#N/A"},{"$error":"#N/A"},{"$error":"#N/A"},{"$error":"#N/A"},{"$error":"#N/A"},{"$error":"#N/A"},{"$error":"#N/A"},{"$error":"#N/A"},{"$error":"#N/A"}]
[null,"Natural Gas",{"$f":"C55*44/12","v":{"$error":"#N/A"}},{"$error":"#N/A"},{"$error":"#N/A"},{"$error":"#N/A"},{"$error":"#N/A"},{"$error":"#N/A"},{"$error":"#N/A"},{"$error":"#N/A"},{"$error":"#N/A"},{"$error":"#N/A"},{"$error":"#N/A"},{"$error":"#N/A"},{"$error":"#N/A"},{"$error":"#N/A"},{"$error":"#N/A"},{"$error":"#N/A"},{"$f":"S55*44/12","v":{"$error":"#N/A"}},{"$error":"#N/A"},{"$error":"#N/A"},{"$error":"#N/A"},{"$error":"#N/A"},{"$error":"#N/A"},{"$error":"#N/A"},{"$error":"#N/A"},{"$error":"#N/A"},{"$error":"#N/A"},{"$error":"#N/A"},{"$error":"#N/A"},{"$error":"#N/A"},{"$error":"#N/A"},{"$error":"#N/A"}]
[null,"Wood",{"$f":"C56*44/12","v":{"$error":"#N/A"}},{"$error":"#N/A"},{"$error":"#N/A"},{"$error":"#N/A"},{"$error":"#N/A"},{"$error":"#N/A"},{"$error":"#N/A"},{"$error":"#N/A"},{"$error":"#N/A"},{"$error":"#N/A"},{"$error":"#N/A"},{"$error":"#N/A"},{"$error":"#N/A"},{"$error":"#N/A"},{"$error":"#N/A"},{"$error":"#N/A"},{"$f":"S56*44/12","v":{"$error":"#N/A"}},{"$error":"#N/A"},{"$error":"#N/A"},{"$error":"#N/A"},{"$error":"#N/A"},{"$error":"#N/A"},{"$error":"#N/A"},{"$error":"#N/A"},{"$error":"#N/A"},{"$error":"#N/A"},{"$error":"#N/A"},{"$error":"#N/A"},{"$error":"#N/A"},{"$error":"#N/A"},{"$error":"#N/A"}]
[null,"Other",{"$f":"C57*44/12","v":0},0,0,0,0,0,0,0,0,0,0,0,0,0,0,0,{"$f":"S57*44/12","v":0},0,0,0,0,0,0,0,0,0,0,0,0,0,0]
[null,"Electric Power",{"$f":"C58*44/12","v":{"$error":"#N/A"}},{"$error":"#N/A"},{"$error":"#N/A"},{"$error":"#N/A"},{"$error":"#N/A"},{"$error":"#N/A"},{"$error":"#N/A"},{"$error":"#N/A"},{"$error":"#N/A"},{"$error":"#N/A"},{"$error":"#N/A"},{"$error":"#N/A"},{"$error":"#N/A"},{"$error":"#N/A"},{"$error":"#N/A"},{"$error":"#N/A"},{"$f":"S58*44/12","v":{"$error":"#N/A"}},{"$error":"#N/A"},{"$error":"#N/A"},{"$error":"#N/A"},{"$error":"#N/A"},{"$error":"#N/A"},{"$error":"#N/A"},{"$error":"#N/A"},{"$error":"#N/A"},{"$error":"#N/A"},{"$error":"#N/A"},{"$error":"#N/A"},{"$error":"#N/A"},{"$error":"#N/A"},{"$error":"#N/A"}]
[null,"Coal",{"$f":"C59*44/12","v":{"$error":"#N/A"}},{"$error":"#N/A"},{"$error":"#N/A"},{"$error":"#N/A"},{"$error":"#N/A"},{"$error":"#N/A"},{"$error":"#N/A"},{"$error":"#N/A"},{"$error":"#N/A"},{"$error":"#N/A"},{"$error":"#N/A"},{"$error":"#N/A"},{"$error":"#N/A"},{"$error":"#N/A"},{"$error":"#N/A"},{"$error":"#N/A"},{"$f":"S59*44/12","v":{"$error":"#N/A"}},{"$error":"#N/A"},{"$error":"#N/A"},{"$error":"#N/A"},{"$error":"#N/A"},{"$error":"#N/A"},{"$error":"#N/A"},{"$error":"#N/A"},{"$error":"#N/A"},{"$error":"#N/A"},{"$error":"#N/A"},{"$error":"#N/A"},{"$error":"#N/A"},{"$error":"#N/A"},{"$error":"#N/A"}]
[null,"Petroleum",{"$f":"C60*44/12","v":{"$error":"#N/A"}},{"$error":"#N/A"},{"$error":"#N/A"},{"$error":"#N/A"},{"$error":"#N/A"},{"$error":"#N/A"},{"$error":"#N/A"},{"$error":"#N/A"},{"$error":"#N/A"},{"$error":"#N/A"},{"$error":"#N/A"},{"$error":"#N/A"},{"$error":"#N/A"},{"$error":"#N/A"},{"$error":"#N/A"},{"$error":"#N/A"},{"$f":"S60*44/12","v":{"$error":"#N/A"}},{"$error":"#N/A"},{"$error":"#N/A"},{"$error":"#N/A"},{"$error":"#N/A"},{"$error":"#N/A"},{"$error":"#N/A"},{"$error":"#N/A"},{"$error":"#N/A"},{"$error":"#N/A"},{"$error":"#N/A"},{"$error":"#N/A"},{"$error":"#N/A"},{"$error":"#N/A"},{"$error":"#N/A"}]
[null,"Natural Gas",{"$f":"C61*44/12","v":{"$error":"#N/A"}},{"$error":"#N/A"},{"$error":"#N/A"},{"$error":"#N/A"},{"$error":"#N/A"},{"$error":"#N/A"},{"$error":"#N/A"},{"$error":"#N/A"},{"$error":"#N/A"},{"$error":"#N/A"},{"$error":"#N/A"},{"$error":"#N/A"},{"$error":"#N/A"},{"$error":"#N/A"},{"$error":"#N/A"},{"$error":"#N/A"},{"$f":"S61*44/12","v":{"$error":"#N/A"}},{"$error":"#N/A"},{"$error":"#N/A"},{"$error":"#N/A"},{"$error":"#N/A"},{"$error":"#N/A"},{"$error":"#N/A"},{"$error":"#N/A"},{"$error":"#N/A"},{"$error":"#N/A"},{"$error":"#N/A"},{"$error":"#N/A"},{"$error":"#N/A"},{"$error":"#N/A"},{"$error":"#N/A"}]
[null,"Wood",{"$f":"C62*44/12","v":{"$error":"#N/A"}},{"$error":"#N/A"},{"$error":"#N/A"},{"$error":"#N/A"},{"$error":"#N/A"},{"$error":"#N/A"},{"$error":"#N/A"},{"$error":"#N/A"},{"$error":"#N/A"},{"$error":"#N/A"},{"$error":"#N/A"},{"$error":"#N/A"},{"$error":"#N/A"},{"$error":"#N/A"},{"$error":"#N/A"},{"$error":"#N/A"},{"$f":"S62*44/12","v":{"$error":"#N/A"}},{"$error":"#N/A"},{"$error":"#N/A"},{"$error":"#N/A"},{"$error":"#N/A"},{"$error":"#N/A"},{"$error":"#N/A"},{"$error":"#N/A"},{"$error":"#N/A"},{"$error":"#N/A"},{"$error":"#N/A"},{"$error":"#N/A"},{"$error":"#N/A"},{"$error":"#N/A"},{"$error":"#N/A"}]
[null,"Other",{"$f":"C63*44/12","v":0},0,0,0,0,0,0,0,0,0,0,0,0,0,0,0,{"$f":"S63*44/12","v":0},0,0,0,0,0,0,0,0,0,0,0,0,0,0]
[null,"TOTAL",{"$f":"C64*44/12","v":{"$error":"#N/A"}},{"$error":"#N/A"},{"$error":"#N/A"},{"$error":"#N/A"},{"$error":"#N/A"},{"$error":"#N/A"},{"$error":"#N/A"},{"$error":"#N/A"},{"$error":"#N/A"},{"$error":"#N/A"},{"$error":"#N/A"},{"$error":"#N/A"},{"$error":"#N/A"},{"$error":"#N/A"},{"$error":"#N/A"},{"$error":"#N/A"},{"$f":"S64*44/12","v":{"$error":"#N/A"}},{"$error":"#N/A"},{"$error":"#N/A"},{"$error":"#N/A"},{"$error":"#N/A"},{"$error":"#N/A"},{"$error":"#N/A"},{"$error":"#N/A"},{"$error":"#N/A"},{"$error":"#N/A"},{"$error":"#N/A"},{"$error":"#N/A"},{"$error":"#N/A"},{"$error":"#N/A"},{"$error":"#N/A"}]
[null,"Coal",{"$f":"C65*44/12","v":{"$error":"#N/A"}},{"$error":"#N/A"},{"$error":"#N/A"},{"$error":"#N/A"},{"$error":"#N/A"},{"$error":"#N/A"},{"$error":"#N/A"},{"$error":"#N/A"},{"$error":"#N/A"},{"$error":"#N/A"},{"$error":"#N/A"},{"$error":"#N/A"},{"$error":"#N/A"},{"$error":"#N/A"},{"$error":"#N/A"},{"$error":"#N/A"},{"$f":"S65*44/12","v":{"$error":"#N/A"}},{"$error":"#N/A"},{"$error":"#N/A"},{"$error":"#N/A"},{"$error":"#N/A"},{"$error":"#N/A"},{"$error":"#N/A"},{"$error":"#N/A"},{"$error":"#N/A"},{"$error":"#N/A"},{"$error":"#N/A"},{"$error":"#N/A"},{"$error":"#N/A"},{"$error":"#N/A"},{"$error":"#N/A"}]
[null,"Petroleum",{"$f":"C66*44/12","v":{"$error":"#N/A"}},{"$error":"#N/A"},{"$error":"#N/A"},{"$error":"#N/A"},{"$error":"#N/A"},{"$error":"#N/A"},{"$error":"#N/A"},{"$error":"#N/A"},{"$error":"#N/A"},{"$error":"#N/A"},{"$error":"#N/A"},{"$error":"#N/A"},{"$error":"#N/A"},{"$error":"#N/A"},{"$error":"#N/A"},{"$error":"#N/A"},{"$f":"S66*44/12","v":{"$error":"#N/A"}},{"$error":"#N/A"},{"$error":"#N/A"},{"$error":"#N/A"},{"$error":"#N/A"},{"$error":"#N/A"},{"$error":"#N/A"},{"$error":"#N/A"},{"$error":"#N/A"},{"$error":"#N/A"},{"$error":"#N/A"},{"$error":"#N/A"},{"$error":"#N/A"},{"$error":"#N/A"},{"$error":"#N/A"}]
[null,"Natural Gas",{"$f":"C67*44/12","v":{"$error":"#N/A"}},{"$error":"#N/A"},{"$error":"#N/A"},{"$error":"#N/A"},{"$error":"#N/A"},{"$error":"#N/A"},{"$error":"#N/A"},{"$error":"#N/A"},{"$error":"#N/A"},{"$error":"#N/A"},{"$error":"#N/A"},{"$error":"#N/A"},{"$error":"#N/A"},{"$error":"#N/A"},{"$error":"#N/A"},{"$error":"#N/A"},{"$f":"S67*44/12","v":{"$error":"#N/A"}},{"$error":"#N/A"},{"$error":"#N/A"},{"$error":"#N/A"},{"$error":"#N/A"},{"$error":"#N/A"},{"$error":"#N/A"},{"$error":"#N/A"},{"$error":"#N/A"},{"$error":"#N/A"},{"$error":"#N/A"},{"$error":"#N/A"},{"$error":"#N/A"},{"$error":"#N/A"},{"$error":"#N/A"}]
[null,"Wood",{"$f":"C68*44/12","v":{"$error":"#N/A"}},{"$error":"#N/A"},{"$error":"#N/A"},{"$error":"#N/A"},{"$error":"#N/A"},{"$error":"#N/A"},{"$error":"#N/A"},{"$error":"#N/A"},{"$error":"#N/A"},{"$error":"#N/A"},{"$error":"#N/A"},{"$error":"#N/A"},{"$error":"#N/A"},{"$error":"#N/A"},{"$error":"#N/A"},{"$error":"#N/A"},{"$f":"S68*44/12","v":{"$error":"#N/A"}},{"$error":"#N/A"},{"$error":"#N/A"},{"$error":"#N/A"},{"$error":"#N/A"},{"$error":"#N/A"},{"$error":"#N/A"},{"$error":"#N/A"},{"$error":"#N/A"},{"$error":"#N/A"},{"$error":"#N/A"},{"$error":"#N/A"},{"$error":"#N/A"},{"$error":"#N/A"},{"$error":"#N/A"}]
[null,"Other",{"$f":"C69*44/12","v":0},0,0,0,0,0,0,0,0,0,0,0,0,0,0,0,{"$f":"S69*44/12","v":0},0,0,0,0,0,0,0,0,0,0,0,0,0,0]
[]
[null,null,1,{"$f":"IF(ISERROR(IF(D30=0,0,COLUMN()-2)),0,IF(D30=0,0,COLUMN()-2))","v":0},{"$f":"IF(ISERROR(IF(E30=0,0,COLUMN()-2)),0,IF(E30=0,0,COLUMN()-2))","v":0},0,0,0,0,0,0,0,0,0,0,0,0,0,0,0,0,0,0,0,0,0,0,0,0,0,0,0,0]
[null,null,{"$f":"IF(C37=0,0,C5)","v":1990},{"$f":"IF(D37=0,0,D5)","v":0},0,0,0,0,0,0,0,0,0,0,0,0,0,0,0,0,0,0,0,0,0,0,0,0,0,0,0,0,{"$f":"IF(AG37=0,0,AG5)","v":0}]
[null,"MMTCE",1990,1991,1992,1993,1994,1995,1996,1997,1998,1999,2000,2001,2002,2003,2004,2005,2006,2007,2008,2009,2010,2011,2012,2013,2014,2015,2016,2017,2018,2019,2020]
[null,"Residential",{"$f":"SUM(C41:C45)","v":{"$error":"#N/A"}},{"$f":"SUM(D41:D45)","v":{"$error":"#N/A"}},{"$error":"#N/A"},{"$error":"#N/A"},{"$error":"#N/A"},{"$error":"#N/A"},{"$error":"#N/A"},{"$error":"#N/A"},{"$error":"#N/A"},{"$error":"#N/A"},{"$f":"SUM(M41:M45)","v":{"$error":"#N/A"}},{"$error":"#N/A"},{"$error":"#N/A"},{"$error":"#N/A"},{"$error":"#N/A"},{"$error":"#N/A"},{"$error":"#N/A"},{"$error":"#N/A"},{"$error":"#N/A"},{"$error":"#N/A"},{"$error":"#N/A"},{"$error":"#N/A"},{"$error":"#N/A"},{"$error":"#N/A"},{"$error":"#N/A"},{"$error":"#N/A"},{"$error":"#N/A"},{"$error":"#N/A"},{"$error":"#N/A"},{"$error":"#N/A"},{"$error":"#N/A"}]
[null,"Coal",{"$f":"'Residential N2O'!$J7","v":{"$error":"#N/A"}},{"$f":"'Residential N2O'!$J20","v":{"$error":"#N/A"}},{"$f":"'Residential N2O'!$J33","v":{"$error":"#N/A"}},{"$f":"'Residential N2O'!$J46","v":{"$error":"#N/A"}},{"$f":"'Residential N2O'!$J59","v":{"$error":"#N/A"}},{"$f":"'Residential N2O'!$J72","v":{"$error":"#N/A"}},{"$f":"'Residential N2O'!$J85","v":{"$error":"#N/A"}},{"$f":"'Residential N2O'!$J98","v":{"$error":"#N/A"}},{"$f":"'Residential N2O'!$J111","v":{"$error":"#N/A"}},{"$f":"'Residential N2O'!$J124","v":{"$error":"#N/A"}},{"$f":"'Residential N2O'!$J137","v":{"$error":"#N/A"}},{"$f":"'Residential N2O'!$J150","v":{"$error":"#N/A"}},{"$f":"'Residential N2O'!$J163","v":{"$error":"#N/A"}},{"$f":"'Residential N2O'!$J176","v":{"$error":"#N/A"}},{"$f":"'Residential N2O'!$J189","v":{"$error":"#N/A"}},{"$f":"'Residential N2O'!$J202","v":{"$error":"#N/A"}},{"$f":"'Residential N2O'!$J215","v":{"$error":"#N/A"}},{"$f":"'Residential N2O'!$J228","v":{"$error":"#N/A"}},{"$f":"'Residential N2O'!$J241","v":{"$error":"#N/A"}},{"$f":"'Residential N2O'!$J254","v":{"$error":"#N/A"}},{"$f":"'Residential N2O'!$J267","v":{"$error":"#N/A"}},{"$f":"'Residential N2O'!$J280","v":{"$error":"#N/A"}},{"$f":"'Residential N2O'!$J293","v":{"$error":"#N/A"}},{"$f":"'Residential N2O'!$J306","v":{"$error":"#N/A"}},{"$f":"'Residential N2O'!$J319","v":{"$error":"#N/A"}},{"$f":"'Residential N2O'!$J332","v":{"$error":"#N/A"}},{"$f":"'Residential N2O'!$J345","v":{"$error":"#N/A"}},{"$f":"'Residential N2O'!$J358","v":{"$error":"#N/A"}},{"$f":"'Residential N2O'!$J371","v":{"$error":"#N/A"}},{"$f":"'Residential N2O'!$J384","v":{"$error":"#N/A"}},{"$f":"'Residential N2O'!$J397","v":{"$error":"#N/A"}}]
[null,"Petroleum",{"$f":"SUM('Residential N2O'!$J8:$J10)","v":{"$error":"#N/A"}},{"$f":"SUM('Residential N2O'!$J21:$J23)","v":{"$error":"#N/A"}},{"$f":"SUM('Residential N2O'!$J34:$J36)","v":{"$error":"#N/A"}},{"$f":"SUM('Residential N2O'!$J47:$J49)","v":{"$error":"#N/A"}},{"$f":"SUM('Residential N2O'!$J60:$J62)","v":{"$error":"#N/A"}},{"$f":"SUM('Residential N2O'!$J73:$J75)","v":{"$error":"#N/A"}},{"$f":"SUM('Residential N2O'!$J86:$J88)","v":{"$error":"#N/A"}},{"$f":"SUM('Residential N2O'!$J99:$J101)","v":{"$error":"#N/A"}},{"$f":"SUM('Residential N2O'!$J112:$J114)","v":{"$error":"#N/A"}},{"$f":"SUM('Residential N2O'!$J125:$J127)","v":{"$error":"#N/A"}},{"$f":"SUM('Residential N2O'!$J138:$J140)","v":{"$error":"#N/A"}},{"$f":"SUM('Residential N2O'!$J151:$J153)","v":{"$error":"#N/A"}},{"$f":"SUM('Residential N2O'!$J164:$J166)","v":{"$error":"#N/A"}},{"$f":"SUM('Residential N2O'!$J177:$J179)","v":{"$error":"#N/A"}},{"$f":"SUM('Residential N2O'!$J190:$J192)","v":{"$error":"#N/A"}},{"$f":"SUM('Residential N2O'!$J203:$J205)","v":{"$error":"#N/A"}},{"$f":"SUM('Residential N2O'!$J216:$J218)","v":{"$error":"#N/A"}},{"$f":"SUM('Residential N2O'!$J229:$J231)","v":{"$error":"#N/A"}},{"$f":"SUM('Residential N2O'!$J242:$J244)","v":{"$error":"#N/A"}},{"$f":"SUM('Residential N2O'!$J255:$J257)","v":{"$error":"#N/A"}},{"$f":"SUM('Residential N2O'!$J268:$J270)","v":{"$error":"#N/A"}},{"$f":"SUM('Residential N2O'!$J281:$J283)","v":{"$error":"#N/A"}},{"$f":"SUM('Residential N2O'!$J294:$J296)","v":{"$error":"#N/A"}},{"$f":"SUM('Residential N2O'!$J307:$J309)","v":{"$error":"#N/A"}},{"$f":"SUM('Residential N2O'!$J320:$J322)","v":{"$error":"#N/A"}},{"$f":"SUM('Residential N2O'!$J333:$J335)","v":{"$error":"#N/A"}},{"$f":"SUM('Residential N2O'!$J346:$J348)","v":{"$error":"#N/A"}},{"$f":"SUM('Residential N2O'!$J359:$J361)","v":{"$error":"#N/A"}},{"$f":"SUM('Residential N2O'!$J372:$J374)","v":{"$error":"#N/A"}},{"$f":"SUM('Residential N2O'!$J385:$J387)","v":{"$error":"#N/A"}},{"$f":"SUM('Residential N2O'!$J398:$J400)","v":{"$error":"#N/A"}}]
[null,"Natural Gas",{"$f":"'Residential N2O'!$J11","v":{"$error":"#N/A"}},{"$f":"'Residential N2O'!$J24","v":{"$error":"#N/A"}},{"$f":"'Residential N2O'!$J37","v":{"$error":"#N/A"}},{"$f":"'Residential N2O'!$J50","v":{"$error":"#N/A"}},{"$f":"'Residential N2O'!$J63","v":{"$error":"#N/A"}},{"$f":"'Residential N2O'!$J76","v":{"$error":"#N/A"}},{"$f":"'Residential N2O'!$J89","v":{"$error":"#N/A"}},{"$f":"'Residential N2O'!$J102","v":{"$error":"#N/A"}},{"$f":"'Residential N2O'!$J115","v":{"$error":"#N/A"}},{"$f":"'Residential N2O'!$J128","v":{"$error":"#N/A"}},{"$f":"'Residential N2O'!$J141","v":{"$error":"#N/A"}},{"$f":"'Residential N2O'!$J154","v":{"$error":"#N/A"}},{"$f":"'Residential N2O'!$J167","v":{"$error":"#N/A"}},{"$f":"'Residential N2O'!$J180","v":{"$error":"#N/A"}},{"$f":"'Residential N2O'!$J193","v":{"$error":"#N/A"}},{"$f":"'Residential N2O'!$J206","v":{"$error":"#N/A"}},{"$f":"'Residential N2O'!$J219","v":{"$error":"#N/A"}},{"$f":"'Residential N2O'!$J232","v":{"$error":"#N/A"}},{"$f":"'Residential N2O'!$J245","v":{"$error":"#N/A"}},{"$f":"'Residential N2O'!$J258","v":{"$error":"#N/A"}},{"$f":"'Residential N2O'!$J271","v":{"$error":"#N/A"}},{"$f":"'Residential N2O'!$J284","v":{"$error":"#N/A"}},{"$f":"'Residential N2O'!$J297","v":{"$error":"#N/A"}},{"$f":"'Residential N2O'!$J310","v":{"$error":"#N/A"}},{"$f":"'Residential N2O'!$J323","v":{"$error":"#N/A"}},{"$f":"'Residential N2O'!$J336","v":{"$error":"#N/A"}},{"$f":"'Residential N2O'!$J349","v":{"$error":"#N/A"}},{"$f":"'Residential N2O'!$J362","v":{"$error":"#N/A"}},{"$f":"'Residential N2O'!$J375","v":{"$error":"#N/A"}},{"$f":"'Residential N2O'!$J388","v":{"$error":"#N/A"}},{"$f":"'Residential N2O'!$J401","v":{"$error":"#N/A"}}]
[null,"Wood",{"$f":"'Residential N2O'!$J12","v":{"$error":"#N/A"}},{"$f":"'Residential N2O'!$J25","v":{"$error":"#N/A"}},{"$f":"'Residential N2O'!$J38","v":{"$error":"#N/A"}},{"$f":"'Residential N2O'!$J51","v":{"$error":"#N/A"}},{"$f":"'Residential N2O'!$J64","v":{"$error":"#N/A"}},{"$f":"'Residential N2O'!$J77","v":{"$error":"#N/A"}},{"$f":"'Residential N2O'!$J90","v":{"$error":"#N/A"}},{"$f":"'Residential N2O'!$J103","v":{"$error":"#N/A"}},{"$f":"'Residential N2O'!$J116","v":{"$error":"#N/A"}},{"$f":"'Residential N2O'!$J129","v":{"$error":"#N/A"}},{"$f":"'Residential N2O'!$J142","v":{"$error":"#N/A"}},{"$f":"'Residential N2O'!$J155","v":{"$error":"#N/A"}},{"$f":"'Residential N2O'!$J168","v":{"$error":"#N/A"}},{"$f":"'Residential N2O'!$J181","v":{"$error":"#N/A"}},{"$f":"'Residential N2O'!$J194","v":{"$error":"#N/A"}},{"$f":"'Residential N2O'!$J207","v":{"$error":"#N/A"}},{"$f":"'Residential N2O'!$J220","v":{"$error":"#N/A"}},{"$f":"'Residential N2O'!$J233","v":{"$error":"#N/A"}},{"$f":"'Residential N2O'!$J246","v":{"$error":"#N/A"}},{"$f":"'Residential N2O'!$J259","v":{"$error":"#N/A"}},{"$f":"'Residential N2O'!$J272","v":{"$error":"#N/A"}},{"$f":"'Residential N2O'!$J285","v":{"$error":"#N/A"}},{"$f":"'Residential N2O'!$J298","v":{"$error":"#N/A"}},{"$f":"'Residential N2O'!$J311","v":{"$error":"#N/A"}},{"$f":"'Residential N2O'!$J324","v":{"$error":"#N/A"}},{"$f":"'Residential N2O'!$J337","v":{"$error":"#N/A"}},{"$f":"'Residential N2O'!$J350","v":{"$error":"#N/A"}},{"$f":"'Residential N2O'!$J363","v":{"$error":"#N/A"}},{"$f":"'Residential N2O'!$J376","v":{"$error":"#N/A"}},{"$f":"'Residential N2O'!$J389","v":{"$error":"#N/A"}},{"$f":"'Residential N2O'!$J402","v":{"$error":"#N/A"}}]
[null,"Other",{"$f":"'Residential N2O'!$J13","v":0},{"$f":"'Residential N2O'!$J26","v":0},{"$f":"'Residential N2O'!$J39","v":0},{"$f":"'Residential N2O'!$J52","v":0},{"$f":"'Residential N2O'!$J65","v":0},{"$f":"'Residential N2O'!$J78","v":0},{"$f":"'Residential N2O'!$J91","v":0},{"$f":"'Residential N2O'!$J104","v":0},{"$f":"'Residential N2O'!$J117","v":0},{"$f":"'Residential N2O'!$J130","v":0},{"$f":"'Residential N2O'!$J143","v":0},{"$f":"'Residential N2O'!$J156","v":0},{"$f":"'Residential N2O'!$J169","v":0},{"$f":"'Residential N2O'!$J182","v":0},{"$f":"'Residential N2O'!$J195","v":0},{"$f":"'Residential N2O'!$J208","v":0},{"$f":"'Residential N2O'!$J221","v":0},{"$f":"'Residential N2O'!$J234","v":0},{"$f":"'Residential N2O'!$J247","v":0},{"$f":"'Residential N2O'!$J260","v":0},{"$f":"'Residential N2O'!$J273","v":0},{"$f":"'Residential N2O'!$J286","v":0},{"$f":"'Residential N2O'!$J299","v":0},{"$f":"'Residential N2O'!$J312","v":0},{"$f":"'Residential N2O'!$J325","v":0},{"$f":"'Residential N2O'!$J338","v":0},{"$f":"'Residential N2O'!$J351","v":0},{"$f":"'Residential N2O'!$J364","v":0},{"$f":"'Residential N2O'!$J377","v":0},{"$f":"'Residential N2O'!$J390","v":0},{"$f":"'Residential N2O'!$J403","v":0}]
[null,"Commercial",{"$f":"SUM(C47:C51)","v":{"$error":"#N/A"}},{"$f":"SUM(D47:D51)","v":{"$error":"#N/A"}},{"$error":"#N/A"},{"$error":"#N/A"},{"$error":"#N/A"},{"$error":"#N/A"},{"$error":"#N/A"},{"$error":"#N/A"},{"$error":"#N/A"},{"$error":"#N/A"},{"$f":"SUM(M47:M51)","v":{"$error":"#N/A"}},{"$error":"#N/A"},{"$error":"#N/A"},{"$error":"#N/A"},{"$error":"#N/A"},{"$error":"#N/A"},{"$error":"#N/A"},{"$error":"#N/A"},{"$error":"#N/A"},{"$error":"#N/A"},{"$error":"#N/A"},{"$error":"#N/A"},{"$error":"#N/A"},{"$error":"#N/A"},{"$error":"#N/A"},{"$error":"#N/A"},{"$error":"#N/A"},{"$error":"#N/A"},{"$error":"#N/A"},{"$error":"#N/A"},{"$error":"#N/A"}]
[null,"Coal",{"$f":"'Commercial N2O'!J7","v":{"$error":"#N/A"}},{"$f":"'Commercial N2O'!J22","v":{"$error":"#N/A"}},{"$f":"'Commercial N2O'!J37","v":{"$error":"#N/A"}},{"$f":"'Commercial N2O'!J52","v":{"$error":"#N/A"}},{"$f":"'Commercial N2O'!J67","v":{"$error":"#N/A"}},{"$f":"'Commercial N2O'!J82","v":{"$error":"#N/A"}},{"$f":"'Commercial N2O'!J97","v":{"$error":"#N/A"}},{"$f":"'Commercial N2O'!J112","v":{"$error":"#N/A"}},{"$f":"'Commercial N2O'!J127","v":{"$error":"#N/A"}},{"$f":"'Commercial N2O'!J142","v":{"$error":"#N/A"}},{"$f":"'Commercial N2O'!$J157","v":{"$error":"#N/A"}},{"$f":"'Commercial N2O'!$J172","v":{"$error":"#N/A"}},{"$f":"'Commercial N2O'!$J187","v":{"$error":"#N/A"}},{"$f":"'Commercial N2O'!$J202","v":{"$error":"#N/A"}},{"$f":"'Commercial N2O'!$J217","v":{"$error":"#N/A"}},{"$f":"'Commercial N2O'!$J232","v":{"$error":"#N/A"}},{"$f":"'Commercial N2O'!$J247","v":{"$error":"#N/A"}},{"$f":"'Commercial N2O'!$J262","v":{"$error":"#N/A"}},{"$f":"'Commercial N2O'!$J277","v":{"$error":"#N/A"}},{"$f":"'Commercial N2O'!$J292","v":{"$error":"#N/A"}},{"$f":"'Commercial N2O'!$J307","v":{"$error":"#N/A"}},{"$f":"'Commercial N2O'!$J322","v":{"$error":"#N/A"}},{"$f":"'Commercial N2O'!$J337","v":{"$error":"#N/A"}},{"$f":"'Commercial N2O'!$J352","v":{"$error":"#N/A"}},{"$f":"'Commercial N2O'!$J367","v":{"$error":"#N/A"}},{"$f":"'Commercial N2O'!$J382","v":{"$error":"#N/A"}},{"$f":"'Commercial N2O'!$J397","v":{"$error":"#N/A"}},{"$f":"'Commercial N2O'!$J412","v":{"$error":"#N/A"}},{"$f":"'Commercial N2O'!$J427","v":{"$error":"#N/A"}},{"$f":"'Commercial N2O'!$J442","v":{"$error":"#N/A"}},{"$f":"'Commercial N2O'!$J457","v":{"$error":"#N/A"}}]
[null,"Petroleum",{"$f":"SUM('Commercial N2O'!J8:J12)","v":{"$error":"#N/A"}},{"$f":"SUM('Commercial N2O'!J23:J27)","v":{"$error":"#N/A"}},{"$f":"SUM('Commercial N2O'!J38:J42)","v":{"$error":"#N/A"}},{"$f":"SUM('Commercial N2O'!J53:J57)","v":{"$error":"#N/A"}},{"$f":"SUM('Commercial N2O'!J68:J72)","v":{"$error":"#N/A"}},{"$f":"SUM('Commercial N2O'!J83:J87)","v":{"$error":"#N/A"}},{"$f":"SUM('Commercial N2O'!J98:J102)","v":{"$error":"#N/A"}},{"$f":"SUM('Commercial N2O'!J113:J117)","v":{"$error":"#N/A"}},{"$f":"SUM('Commercial N2O'!J128:J132)","v":{"$error":"#N/A"}},{"$f":"SUM('Commercial N2O'!J143:J147)","v":{"$error":"#N/A"}},{"$f":"SUM('Commercial N2O'!$J158:$J162)","v":{"$error":"#N/A"}},{"$f":"SUM('Commercial N2O'!$J173:$J177)","v":{"$error":"#N/A"}},{"$f":"SUM('Commercial N2O'!$J188:$J192)","v":{"$error":"#N/A"}},{"$f":"SUM('Commercial N2O'!$J203:$J207)","v":{"$error":"#N/A"}},{"$f":"SUM('Commercial N2O'!$J218:$J222)","v":{"$error":"#N/A"}},{"$f":"SUM('Commercial N2O'!$J233:$J237)","v":{"$error":"#N/A"}},{"$f":"SUM('Commercial N2O'!$J248:$J252)","v":{"$error":"#N/A"}},{"$f":"SUM('Commercial N2O'!$J263:$J267)","v":{"$error":"#N/A"}},{"$f":"SUM('Commercial N2O'!$J278:$J282)","v":{"$error":"#N/A"}},{"$f":"SUM('Commercial N2O'!$J293:$J297)","v":{"$error":"#N/A"}},{"$f":"SUM('Commercial N2O'!$J308:$J312)","v":{"$error":"#N/A"}},{"$f":"SUM('Commercial N2O'!$J323:$J327)","v":{"$error":"#N/A"}},{"$f":"SUM('Commercial N2O'!$J338:$J342)","v":{"$error":"#N/A"}},{"$f":"SUM('Commercial N2O'!$J353:$J357)","v":{"$error":"#N/A"}},{"$f":"SUM('Commercial N2O'!$J368:$J372)","v":{"$error":"#N/A"}},{"$f":"SUM('Commercial N2O'!$J383:$J387)","v":{"$error":"#N/A"}},{"$f":"SUM('Commercial N2O'!$J398:$J402)","v":{"$error":"#N/A"}},{"$f":"SUM('Commercial N2O'!$J413:$J417)","v":{"$error":"#N/A"}},{"$f":"SUM('Commercial N2O'!$J428:$J432)","v":{"$error":"#N/A"}},{"$f":"SUM('Commercial N2O'!$J443:$J447)","v":{"$error":"#N/A"}},{"$f":"SUM('Commercial N2O'!$J458:$J462)","v":{"$error":"#N/A"}}]
[null,"Natural Gas",{"$f":"'Commercial N2O'!J13","v":{"$error":"#N/A"}},{"$f":"'Commercial N2O'!J28","v":{"$error":"#N/A"}},{"$f":"'Commercial N2O'!J43","v":{"$error":"#N/A"}},{"$f":"'Commercial N2O'!J58","v":{"$error":"#N/A"}},{"$f":"'Commercial N2O'!J73","v":{"$error":"#N/A"}},{"$f":"'Commercial N2O'!J88","v":{"$error":"#N/A"}},{"$f":"'Commercial N2O'!J103","v":{"$error":"#N/A"}},{"$f":"'Commercial N2O'!J118","v":{"$error":"#N/A"}},{"$f":"'Commercial N2O'!J133","v":{"$error":"#N/A"}},{"$f":"'Commercial N2O'!J148","v":{"$error":"#N/A"}},{"$f":"'Commercial N2O'!$J163","v":{"$error":"#N/A"}},{"$f":"'Commercial N2O'!$J178","v":{"$error":"#N/A"}},{"$f":"'Commercial N2O'!$J193","v":{"$error":"#N/A"}},{"$f":"'Commercial N2O'!$J208","v":{"$error":"#N/A"}},{"$f":"'Commercial N2O'!$J223","v":{"$error":"#N/A"}},{"$f":"'Commercial N2O'!$J238","v":{"$error":"#N/A"}},{"$f":"'Commercial N2O'!$J253","v":{"$error":"#N/A"}},{"$f":"'Commercial N2O'!$J268","v":{"$error":"#N/A"}},{"$f":"'Commercial N2O'!$J283","v":{"$error":"#N/A"}},{"$f":"'Commercial N2O'!$J298","v":{"$error":"#N/A"}},{"$f":"'Commercial N2O'!$J313","v":{"$error":"#N/A"}},{"$f":"'Commercial N2O'!$J328","v":{"$error":"#N/A"}},{"$f":"'Commercial N2O'!$J343","v":{"$error":"#N/A"}},{"$f":"'Commercial N2O'!$J358","v":{"$error":"#N/A"}},{"$f":"'Commercial N2O'!$J373","v":{"$error":"#N/A"}},{"$f":"'Commercial N2O'!$J388","v":{"$error":"#N/A"}},{"$f":"'Commercial N2O'!$J403","v":{"$error":"#N/A"}},{"$f":"'Commercial N2O'!$J418","v":{"$error":"#N/A"}},{"$f":"'Commercial N2O'!$J433","v":{"$error":"#N/A"}},{"$f":"'Commercial N2O'!$J448","v":{"$error":"#N/A"}},{"$f":"'Commercial N2O'!$J463","v":{"$error":"#N/A"}}]
[null,"Wood",{"$f":"'Commercial N2O'!J14","v":{"$error":"#N/A"}},{"$f":"'Commercial N2O'!J29","v":{"$error":"#N/A"}},{"$f":"'Commercial N2O'!J44","v":{"$error":"#N/A"}},{"$f":"'Commercial N2O'!J59","v":{"$error":"#N/A"}},{"$f":"'Commercial N2O'!J74","v":{"$error":"#N/A"}},{"$f":"'Commercial N2O'!J89","v":{"$error":"#N/A"}},{"$f":"'Commercial N2O'!J104","v":{"$error":"#N/A"}},{"$f":"'Commercial N2O'!J119","v":{"$error":"#N/A"}},{"$f":"'Commercial N2O'!J134","v":{"$error":"#N/A"}},{"$f":"'Commercial N2O'!J149","v":{"$error":"#N/A"}},{"$f":"'Commercial N2O'!$J164","v":{"$error":"#N/A"}},{"$f":"'Commercial N2O'!$J179","v":{"$error":"#N/A"}},{"$f":"'Commercial N2O'!$J194","v":{"$error":"#N/A"}},{"$f":"'Commercial N2O'!$J209","v":{"$error":"#N/A"}},{"$f":"'Commercial N2O'!$J224","v":{"$error":"#N/A"}},{"$f":"'Commercial N2O'!$J239","v":{"$error":"#N/A"}},{"$f":"'Commercial N2O'!$J254","v":{"$error":"#N/A"}},{"$f":"'Commercial N2O'!$J269","v":{"$error":"#N/A"}},{"$f":"'Commercial N2O'!$J284","v":{"$error":"#N/A"}},{"$f":"'Commercial N2O'!$J299","v":{"$error":"#N/A"}},{"$f":"'Commercial N2O'!$J314","v":{"$error":"#N/A"}},{"$f":"'Commercial N2O'!$J329","v":{"$error":"#N/A"}},{"$f":"'Commercial N2O'!$J344","v":{"$error":"#N/A"}},{"$f":"'Commercial N2O'!$J359","v":{"$error":"#N/A"}},{"$f":"'Commercial N2O'!$J374","v":{"$error":"#N/A"}},{"$f":"'Commercial N2O'!$J389","v":{"$error":"#N/A"}},{"$f":"'Commercial N2O'!$J404","v":{"$error":"#N/A"}},{"$f":"'Commercial N2O'!$J419","v":{"$error":"#N/A"}},{"$f":"'Commercial N2O'!$J434","v":{"$error":"#N/A"}},{"$f":"'Commercial N2O'!$J449","v":{"$error":"#N/A"}},{"$f":"'Commercial N2O'!$J464","v":{"$error":"#N/A"}}]
[null,"Other",{"$f":"'Commercial N2O'!J15","v":0},{"$f":"'Commercial N2O'!J30","v":0},{"$f":"'Commercial N2O'!J45","v":0},{"$f":"'Commercial N2O'!J60","v":0},{"$f":"'Commercial N2O'!J75","v":0},{"$f":"'Commercial N2O'!J90","v":0},{"$f":"'Commercial N2O'!J105","v":0},{"$f":"'Commercial N2O'!J120","v":0},{"$f":"'Commercial N2O'!J135","v":0},{"$f":"'Commercial N2O'!J150","v":0},{"$f":"'Commercial N2O'!$J165","v":0},{"$f":"'Commercial N2O'!$J180","v":0},{"$f":"'Commercial N2O'!$J195","v":0},{"$f":"'Commercial N2O'!$J210","v":0},{"$f":"'Commercial N2O'!$J225","v":0},{"$f":"'Commercial N2O'!$J240","v":0},{"$f":"'Commercial N2O'!$J255","v":0},{"$f":"'Commercial N2O'!$J270","v":0},{"$f":"'Commercial N2O'!$J285","v":0},{"$f":"'Commercial N2O'!$J300","v":0},{"$f":"'Commercial N2O'!$J315","v":0},{"$f":"'Commercial N2O'!$J330","v":0},{"$f":"'Commercial N2O'!$J345","v":0},{"$f":"'Commercial N2O'!$J360","v":0},{"$f":"'Commercial N2O'!$J375","v":0},{"$f":"'Commercial N2O'!$J390","v":0},{"$f":"'Commercial N2O'!$J405","v":0},{"$f":"'Commercial N2O'!$J420","v":0},{"$f":"'Commercial N2O'!$J435","v":0},{"$f":"'Commercial N2O'!$J450","v":0},{"$f":"'Commercial N2O'!$J465","v":0}]
[null,"Industrial",{"$f":"SUM(C53:C57)","v":{"$error":"#N/A"}},{"$f":"SUM(D53:D57)","v":{"$error":"#N/A"}},{"$error":"#N/A"},{"$error":"#N/A"},{"$error":"#N/A"},{"$error":"#N/A"},{"$error":"#N/A"},{"$error":"#N/A"},{"$error":"#N/A"},{"$error":"#N/A"},{"$f":"SUM(M53:M57)","v":{"$error":"#N/A"}},{"$error":"#N/A"},{"$error":"#N/A"},{"$error":"#N/A"},{"$error":"#N/A"},{"$error":"#N/A"},{"$error":"#N/A"},{"$error":"#N/A"},{"$error":"#N/A"},{"$error":"#N/A"},{"$error":"#N/A"},{"$error":"#N/A"},{"$error":"#N/A"},{"$error":"#N/A"},{"$error":"#N/A"},{"$error":"#N/A"},{"$error":"#N/A"},{"$error":"#N/A"},{"$error":"#N/A"},{"$error":"#N/A"},{"$error":"#N/A"}]
[null,"Coal",{"$f":"SUM('Industrial N2O'!M7:M8)","v":{"$error":"#N/A"}},{"$f":"SUM('Industrial N2O'!M37:M38)","v":{"$error":"#N/A"}},{"$f":"SUM('Industrial N2O'!M67:M68)","v":{"$error":"#N/A"}},{"$f":"SUM('Industrial N2O'!M97:M98)","v":{"$error":"#N/A"}},{"$f":"SUM('Industrial N2O'!M127:M128)","v":{"$error":"#N/A"}},{"$f":"SUM('Industrial N2O'!M157:M158)","v":{"$error":"#N/A"}},{"$f":"SUM('Industrial N2O'!M187:M188)","v":{"$error":"#N/A"}},{"$f":"SUM('Industrial N2O'!M217:M218)","v":{"$error":"#N/A"}},{"$f":"SUM('Industrial N2O'!M247:M248)","v":{"$error":"#N/A"}},{"$f":"SUM('Industrial N2O'!M277:M278)","v":{"$error":"#N/A"}},{"$f":"SUM('Industrial N2O'!$M307:$M308)","v":{"$error":"#N/A"}},{"$f":"SUM('Industrial N2O'!M337:M338)","v":{"$error":"#N/A"}},{"$f":"SUM('Industrial N2O'!M367:M368)","v":{"$error":"#N/A"}},{"$f":"SUM('Industrial N2O'!M397:M398)","v":{"$error":"#N/A"}},{"$f":"SUM('Industrial N2O'!M427:M428)","v":{"$error":"#N/A"}},{"$f":"SUM('Industrial N2O'!$M457:$M458)","v":{"$error":"#N/A"}},{"$f":"SUM('Industrial N2O'!$M487:$M488)","v":{"$error":"#N/A"}},{"$f":"SUM('Industrial N2O'!$M517:$M518)","v":{"$error":"#N/A"}},{"$f":"SUM('Industrial N2O'!$M547:$M548)","v":{"$error":"#N/A"}},{"$f":"SUM('Industrial N2O'!$M577:$M578)","v":{"$error":"#N/A"}},{"$f":"SUM('Industrial N2O'!$M607:$M608)","v":{"$error":"#N/A"}},{"$f":"SUM('Industrial N2O'!$M637:$M638)","v":{"$error":"#N/A"}},{"$f":"SUM('Industrial N2O'!$M667:$M668)","v":{"$error":"#N/A"}},{"$f":"SUM('Industrial N2O'!$M697:$M698)","v":{"$error":"#N/A"}},{"$f":"SUM('Industrial N2O'!$M727:$M728)","v":{"$error":"#N/A"}},{"$f":"SUM('Industrial N2O'!$M757:$M758)","v":{"$error":"#N/A"}},{"$f":"SUM('Industrial N2O'!$M787:$M788)","v":{"$error":"#N/A"}},{"$f":"SUM('Industrial N2O'!$M817:$M818)","v":{"$error":"#N/A"}},{"$f":"SUM('Industrial N2O'!$M847:$M848)","v":{"$error":"#N/A"}},{"$f":"SUM('Industrial N2O'!$M877:$M878)","v":{"$error":"#N/A"}},{"$f":"SUM('Industrial N2O'!$M907:$M908)","v":{"$error":"#N/A"}}]
[null,"Petroleum",{"$f":"SUM('Industrial N2O'!M9:M27)","v":{"$error":"#N/A"}},{"$f":"SUM('Industrial N2O'!M39:M57)","v":{"$error":"#N/A"}},{"$f":"SUM('Industrial N2O'!M69:M87)","v":{"$error":"#N/A"}},{"$f":"SUM('Industrial N2O'!M99:M117)","v":{"$error":"#N/A"}},{"$f":"SUM('Industrial N2O'!M129:M147)","v":{"$error":"#N/A"}},{"$f":"SUM('Industrial N2O'!M159:M177)","v":{"$error":"#N/A"}},{"$f":"SUM('Industrial N2O'!M189:M207)","v":{"$error":"#N/A"}},{"$f":"SUM('Industrial N2O'!M219:M237)","v":{"$error":"#N/A"}},{"$f":"SUM('Industrial N2O'!M249:M267)","v":{"$error":"#N/A"}},{"$f":"SUM('Industrial N2O'!M279:M297)","v":{"$error":"#N/A"}},{"$f":"SUM('Industrial N2O'!$M309:$M327)","v":{"$error":"#N/A"}},{"$f":"SUM('Industrial N2O'!M339:M357)","v":{"$error":"#N/A"}},{"$f":"SUM('Industrial N2O'!M369:M387)","v":{"$error":"#N/A"}},{"$f":"SUM('Industrial N2O'!M399:M417)","v":{"$error":"#N/A"}},{"$f":"SUM('Industrial N2O'!M429:M447)","v":{"$error":"#N/A"}},{"$f":"SUM('Industrial N2O'!M459:M477)","v":{"$error":"#N/A"}},{"$f":"SUM('Industrial N2O'!M489:M507)","v":{"$error":"#N/A"}},{"$f":"SUM('Industrial N2O'!M519:M537)","v":{"$error":"#N/A"}},{"$f":"SUM('Industrial N2O'!M549:M567)","v":{"$error":"#N/A"}},{"$f":"SUM('Industrial N2O'!M579:M597)","v":{"$error":"#N/A"}},{"$f":"SUM('Industrial N2O'!M609:M627)","v":{"$error":"#N/A"}},{"$f":"SUM('Industrial N2O'!M639:M657)","v":{"$error":"#N/A"}},{"$f":"SUM('Industrial N2O'!M669:M687)","v":{"$error":"#N/A"}},{"$f":"SUM('Industrial N2O'!M699:M717)","v":{"$error":"#N/A"}},{"$f":"SUM('Industrial N2O'!M729:M747)","v":{"$error":"#N/A"}},{"$f":"SUM('Industrial N2O'!M759:M777)","v":{"$error":"#N/A"}},{"$f":"SUM('Industrial N2O'!M789:M807)","v":{"$error":"#N/A"}},{"$f":"SUM('Industrial N2O'!M819:M837)","v":{"$error":"#N/A"}},{"$f":"SUM('Industrial N2O'!M849:M867)","v":{"$error":"#N/A"}},{"$f":"SUM('Industrial N2O'!M879:M897)","v":{"$error":"#N/A"}},{"$f":"SUM('Industrial N2O'!M909:M927)","v":{"$error":"#N/A"}}]
[null,"Natural Gas",{"$f":"'Industrial N2O'!$M28","v":{"$error":"#N/A"}},{"$f":"'Industrial N2O'!$M58","v":{"$error":"#N/A"}},{"$f":"'Industrial N2O'!$M88","v":{"$error":"#N/A"}},{"$f":"'Industrial N2O'!$M118","v":{"$error":"#N/A"}},{"$f":"'Industrial N2O'!$M148","v":{"$error":"#N/A"}},{"$f":"'Industrial N2O'!$M178","v":{"$error":"#N/A"}},{"$f":"'Industrial N2O'!$M208","v":{"$error":"#N/A"}},{"$f":"'Industrial N2O'!$M238","v":{"$error":"#N/A"}},{"$f":"'Industrial N2O'!$M268","v":{"$error":"#N/A"}},{"$f":"'Industrial N2O'!$M298","v":{"$error":"#N/A"}},{"$f":"'Industrial N2O'!$M328","v":{"$error":"#N/A"}},{"$f":"'Industrial N2O'!$M358","v":{"$error":"#N/A"}},{"$f":"'Industrial N2O'!$M388","v":{"$error":"#N/A"}},{"$f":"'Industrial N2O'!$M418","v":{"$error":"#N/A"}},{"$f":"'Industrial N2O'!$M448","v":{"$error":"#N/A"}},{"$f":"'Industrial N2O'!$M478","v":{"$error":"#N/A"}},{"$f":"'Industrial N2O'!$M508","v":{"$error":"#N/A"}},{"$f":"'Industrial N2O'!$M538","v":{"$error":"#N/A"}},{"$f":"'Industrial N2O'!$M568","v":{"$error":"#N/A"}},{"$f":"'Industrial N2O'!$M598","v":{"$error":"#N/A"}},{"$f":"'Industrial N2O'!$M628","v":{"$error":"#N/A"}},{"$f":"'Industrial N2O'!$M658","v":{"$error":"#N/A"}},{"$f":"'Industrial N2O'!$M688","v":{"$error":"#N/A"}},{"$f":"'Industrial N2O'!$M718","v":{"$error":"#N/A"}},{"$f":"'Industrial N2O'!$M748","v":{"$error":"#N/A"}},{"$f":"'Industrial N2O'!$M778","v":{"$error":"#N/A"}},{"$f":"'Industrial N2O'!$M808","v":{"$error":"#N/A"}},{"$f":"'Industrial N2O'!$M838","v":{"$error":"#N/A"}},{"$f":"'Industrial N2O'!$M868","v":{"$error":"#N/A"}},{"$f":"'Industrial N2O'!$M898","v":{"$error":"#N/A"}},{"$f":"'Industrial N2O'!$M928","v":{"$error":"#N/A"}}]
[null,"Wood",{"$f":"'Industrial N2O'!$M29","v":{"$error":"#N/A"}},{"$f":"'Industrial N2O'!$M59","v":{"$error":"#N/A"}},{"$f":"'Industrial N2O'!$M89","v":{"$error":"#N/A"}},{"$f":"'Industrial N2O'!$M119","v":{"$error":"#N/A"}},{"$f":"'Industrial N2O'!$M149","v":{"$error":"#N/A"}},{"$f":"'Industrial N2O'!$M179","v":{"$error":"#N/A"}},{"$f":"'Industrial N2O'!$M209","v":{"$error":"#N/A"}},{"$f":"'Industrial N2O'!$M239","v":{"$error":"#N/A"}},{"$f":"'Industrial N2O'!$M269","v":{"$error":"#N/A"}},{"$f":"'Industrial N2O'!$M299","v":{"$error":"#N/A"}},{"$f":"'Industrial N2O'!$M329","v":{"$error":"#N/A"}},{"$f":"'Industrial N2O'!$M359","v":{"$error":"#N/A"}},{"$f":"'Industrial N2O'!$M389","v":{"$error":"#N/A"}},{"$f":"'Industrial N2O'!$M419","v":{"$error":"#N/A"}},{"$f":"'Industrial N2O'!$M449","v":{"$error":"#N/A"}},{"$f":"'Industrial N2O'!$M479","v":{"$error":"#N/A"}},{"$f":"'Industrial N2O'!$M509","v":{"$error":"#N/A"}},{"$f":"'Industrial N2O'!$M539","v":{"$error":"#N/A"}},{"$f":"'Industrial N2O'!$M569","v":{"$error":"#N/A"}},{"$f":"'Industrial N2O'!$M599","v":{"$error":"#N/A"}},{"$f":"'Industrial N2O'!$M629","v":{"$error":"#N/A"}},{"$f":"'Industrial N2O'!$M659","v":{"$error":"#N/A"}},{"$f":"'Industrial N2O'!$M689","v":{"$error":"#N/A"}},{"$f":"'Industrial N2O'!$M719","v":{"$error":"#N/A"}},{"$f":"'Industrial N2O'!$M749","v":{"$error":"#N/A"}},{"$f":"'Industrial N2O'!$M779","v":{"$error":"#N/A"}},{"$f":"'Industrial N2O'!$M809","v":{"$error":"#N/A"}},{"$f":"'Industrial N2O'!$M839","v":{"$error":"#N/A"}},{"$f":"'Industrial N2O'!$M869","v":{"$error":"#N/A"}},{"$f":"'Industrial N2O'!$M899","v":{"$error":"#N/A"}},{"$f":"'Industrial N2O'!$M929","v":{"$error":"#N/A"}}]
[null,"Other",{"$f":"'Industrial N2O'!$M30","v":0},{"$f":"'Industrial N2O'!$M60","v":0},{"$f":"'Industrial N2O'!$M90","v":0},{"$f":"'Industrial N2O'!$M120","v":0},{"$f":"'Industrial N2O'!$M150","v":0},{"$f":"'Industrial N2O'!$M180","v":0},{"$f":"'Industrial N2O'!$M210","v":0},{"$f":"'Industrial N2O'!$M240","v":0},{"$f":"'Industrial N2O'!$M270","v":0},{"$f":"'Industrial N2O'!$M300","v":0},{"$f":"'Industrial N2O'!$M330","v":0},{"$f":"'Industrial N2O'!$M360","v":0},{"$f":"'Industrial N2O'!$M390","v":0},{"$f":"'Industrial N2O'!$M420","v":0},{"$f":"'Industrial N2O'!$M450","v":0},{"$f":"'Industrial N2O'!$M480","v":0},{"$f":"'Industrial N2O'!$M510","v":0},{"$f":"'Industrial N2O'!$M540","v":0},{"$f":"'Industrial N2O'!$M570","v":0},{"$f":"'Industrial N2O'!$M600","v":0},{"$f":"'Industrial N2O'!$M630","v":0},{"$f":"'Industrial N2O'!$M660","v":0},{"$f":"'Industrial N2O'!$M690","v":0},{"$f":"'Industrial N2O'!$M720","v":0},{"$f":"'Industrial N2O'!$M750","v":0},{"$f":"'Industrial N2O'!$M780","v":0},{"$f":"'Industrial N2O'!$M810","v":0},{"$f":"'Industrial N2O'!$M840","v":0},{"$f":"'Industrial N2O'!$M870","v":0},{"$f":"'Industrial N2O'!$M900","v":0},{"$f":"'Industrial N2O'!$M930","v":0}]
[null,"Electric Utilities",{"$f":"SUM(C59:C63)","v":{"$error":"#N/A"}},{"$f":"SUM(D59:D63)","v":{"$error":"#N/A"}},{"$error":"#N/A"},{"$error":"#N/A"},{"$error":"#N/A"},{"$error":"#N/A"},{"$error":"#N/A"},{"$error":"#N/A"},{"$error":"#N/A"},{"$error":"#N/A"},{"$f":"SUM(M59:M63)","v":{"$error":"#N/A"}},{"$error":"#N/A"},{"$error":"#N/A"},{"$error":"#N/A"},{"$error":"#N/A"},{"$error":"#N/A"},{"$error":"#N/A"},{"$error":"#N/A"},{"$error":"#N/A"},{"$error":"#N/A"},{"$error":"#N/A"},{"$error":"#N/A"},{"$error":"#N/A"},{"$error":"#N/A"},{"$error":"#N/A"},{"$error":"#N/A"},{"$error":"#N/A"},{"$error":"#N/A"},{"$error":"#N/A"},{"$error":"#N/A"},{"$error":"#N/A"}]
[null,"Coal",{"$f":"'Electric Power N2O'!$J7","v":{"$error":"#N/A"}},{"$f":"'Electric Power N2O'!$J20","v":{"$error":"#N/A"}},{"$f":"'Electric Power N2O'!$J33","v":{"$error":"#N/A"}},{"$f":"'Electric Power N2O'!$J46","v":{"$error":"#N/A"}},{"$f":"'Electric Power N2O'!$J59","v":{"$error":"#N/A"}},{"$f":"'Electric Power N2O'!$J72","v":{"$error":"#N/A"}},{"$f":"'Electric Power N2O'!$J85","v":{"$error":"#N/A"}},{"$f":"'Electric Power N2O'!$J98","v":{"$error":"#N/A"}},{"$f":"'Electric Power N2O'!$J111","v":{"$error":"#N/A"}},{"$f":"'Electric Power N2O'!$J124","v":{"$error":"#N/A"}},{"$f":"'Electric Power N2O'!$J137","v":{"$error":"#N/A"}},{"$f":"'Electric Power N2O'!$J150","v":{"$error":"#N/A"}},{"$f":"'Electric Power N2O'!$J163","v":{"$error":"#N/A"}},{"$f":"'Electric Power N2O'!$J176","v":{"$error":"#N/A"}},{"$f":"'Electric Power N2O'!$J189","v":{"$error":"#N/A"}},{"$f":"'Electric Power N2O'!$J202","v":{"$error":"#N/A"}},{"$f":"'Electric Power N2O'!$J215","v":{"$error":"#N/A"}},{"$f":"'Electric Power N2O'!$J228","v":{"$error":"#N/A"}},{"$f":"'Electric Power N2O'!$J241","v":{"$error":"#N/A"}},{"$f":"'Electric Power N2O'!$J254","v":{"$error":"#N/A"}},{"$f":"'Electric Power N2O'!$J267","v":{"$error":"#N/A"}},{"$f":"'Electric Power N2O'!$J280","v":{"$error":"#N/A"}},{"$f":"'Electric Power N2O'!$J293","v":{"$error":"#N/A"}},{"$f":"'Electric Power N2O'!$J306","v":{"$error":"#N/A"}},{"$f":"'Electric Power N2O'!$J319","v":{"$error":"#N/A"}},{"$f":"'Electric Power N2O'!$J332","v":{"$error":"#N/A"}},{"$f":"'Electric Power N2O'!$J345","v":{"$error":"#N/A"}},{"$f":"'Electric Power N2O'!$J358","v":{"$error":"#N/A"}},{"$f":"'Electric Power N2O'!$J371","v":{"$error":"#N/A"}},{"$f":"'Electric Power N2O'!$J384","v":{"$error":"#N/A"}},{"$f":"'Electric Power N2O'!$J397","v":{"$error":"#N/A"}}]
[null,"Petroleum",{"$f":"SUM('Electric Power N2O'!$J8:$J10)","v":{"$error":"#N/A"}},{"$f":"SUM('Electric Power N2O'!$J21:$J23)","v":{"$error":"#N/A"}},{"$f":"SUM('Electric Power N2O'!$J34:$J36)","v":{"$error":"#N/A"}},{"$f":"SUM('Electric Power N2O'!$J47:$J49)","v":{"$error":"#N/A"}},{"$f":"SUM('Electric Power N2O'!$J60:$J62)","v":{"$error":"#N/A"}},{"$f":"SUM('Electric Power N2O'!$J73:$J75)","v":{"$error":"#N/A"}},{"$f":"SUM('Electric Power N2O'!$J86:$J88)","v":{"$error":"#N/A"}},{"$f":"SUM('Electric Power N2O'!$J99:$J101)","v":{"$error":"#N/A"}},{"$f":"SUM('Electric Power N2O'!$J112:$J114)","v":{"$error":"#N/A"}},{"$f":"SUM('Electric Power N2O'!$J125:$J127)","v":{"$error":"#N/A"}},{"$f":"SUM('Electric Power N2O'!$J138:$J140)","v":{"$error":"#N/A"}},{"$f":"SUM('Electric Power N2O'!$J151:$J153)","v":{"$error":"#N/A"}},{"$f":"SUM('Electric Power N2O'!$J164:$J166)","v":{"$error":"#N/A"}},{"$f":"SUM('Electric Power N2O'!$J177:$J179)","v":{"$error":"#N/A"}},{"$f":"SUM('Electric Power N2O'!$J190:$J192)","v":{"$error":"#N/A"}},{"$f":"SUM('Electric Power N2O'!$J203:$J205)","v":{"$error":"#N/A"}},{"$f":"SUM('Electric Power N2O'!$J216:$J218)","v":{"$error":"#N/A"}},{"$f":"SUM('Electric Power N2O'!$J229:$J231)","v":{"$error":"#N/A"}},{"$f":"SUM('Electric Power N2O'!$J242:$J244)","v":{"$error":"#N/A"}},{"$f":"SUM('Electric Power N2O'!$J255:$J257)","v":{"$error":"#N/A"}},{"$f":"SUM('Electric Power N2O'!$J268:$J270)","v":{"$error":"#N/A"}},{"$f":"SUM('Electric Power N2O'!$J281:$J283)","v":{"$error":"#N/A"}},{"$f":"SUM('Electric Power N2O'!$J294:$J296)","v":{"$error":"#N/A"}},{"$f":"SUM('Electric Power N2O'!$J307:$J309)","v":{"$error":"#N/A"}},{"$f":"SUM('Electric Power N2O'!$J320:$J322)","v":{"$error":"#N/A"}},{"$f":"SUM('Electric Power N2O'!$J333:$J335)","v":{"$error":"#N/A"}},{"$f":"SUM('Electric Power N2O'!$J346:$J348)","v":{"$error":"#N/A"}},{"$f":"SUM('Electric Power N2O'!$J359:$J361)","v":{"$error":"#N/A"}},{"$f":"SUM('Electric Power N2O'!$J372:$J374)","v":{"$error":"#N/A"}},{"$f":"SUM('Electric Power N2O'!$J385:$J387)","v":{"$error":"#N/A"}},{"$f":"SUM('Electric Power N2O'!$J398:$J400)","v":{"$error":"#N/A"}}]
[null,"Natural Gas",{"$f":"'Electric Power N2O'!$J11","v":{"$error":"#N/A"}},{"$f":"'Electric Power N2O'!$J24","v":{"$error":"#N/A"}},{"$f":"'Electric Power N2O'!$J37","v":{"$error":"#N/A"}},{"$f":"'Electric Power N2O'!$J50","v":{"$error":"#N/A"}},{"$f":"'Electric Power N2O'!$J63","v":{"$error":"#N/A"}},{"$f":"'Electric Power N2O'!$J76","v":{"$error":"#N/A"}},{"$f":"'Electric Power N2O'!$J89","v":{"$error":"#N/A"}},{"$f":"'Electric Power N2O'!$J102","v":{"$error":"#N/A"}},{"$f":"'Electric Power N2O'!$J115","v":{"$error":"#N/A"}},{"$f":"'Electric Power N2O'!$J128","v":{"$error":"#N/A"}},{"$f":"'Electric Power N2O'!$J141","v":{"$error":"#N/A"}},{"$f":"'Electric Power N2O'!$J154","v":{"$error":"#N/A"}},{"$f":"'Electric Power N2O'!$J167","v":{"$error":"#N/A"}},{"$f":"'Electric Power N2O'!$J180","v":{"$error":"#N/A"}},{"$f":"'Electric Power N2O'!$J193","v":{"$error":"#N/A"}},{"$f":"'Electric Power N2O'!$J206","v":{"$error":"#N/A"}},{"$f":"'Electric Power N2O'!$J219","v":{"$error":"#N/A"}},{"$f":"'Electric Power N2O'!$J232","v":{"$error":"#N/A"}},{"$f":"'Electric Power N2O'!$J245","v":{"$error":"#N/A"}},{"$f":"'Electric Power N2O'!$J258","v":{"$error":"#N/A"}},{"$f":"'Electric Power N2O'!$J271","v":{"$error":"#N/A"}},{"$f":"'Electric Power N2O'!$J284","v":{"$error":"#N/A"}},{"$f":"'Electric Power N2O'!$J297","v":{"$error":"#N/A"}},{"$f":"'Electric Power N2O'!$J310","v":{"$error":"#N/A"}},{"$f":"'Electric Power N2O'!$J323","v":{"$error":"#N/A"}},{"$f":"'Electric Power N2O'!$J336","v":{"$error":"#N/A"}},{"$f":"'Electric Power N2O'!$J349","v":{"$error":"#N/A"}},{"$f":"'Electric Power N2O'!$J362","v":{"$error":"#N/A"}},{"$f":"'Electric Power N2O'!$J375","v":{"$error":"#N/A"}},{"$f":"'Electric Power N2O'!$J388","v":{"$error":"#N/A"}},{"$f":"'Electric Power N2O'!$J401","v":{"$error":"#N/A"}}]
[null,"Wood",{"$f":"'Electric Power N2O'!$J12","v":{"$error":"#N/A"}},{"$f":"'Electric Power N2O'!$J25","v":{"$error":"#N/A"}},{"$f":"'Electric Power N2O'!$J38","v":{"$error":"#N/A"}},{"$f":"'Electric Power N2O'!$J51","v":{"$error":"#N/A"}},{"$f":"'Electric Power N2O'!$J64","v":{"$error":"#N/A"}},{"$f":"'Electric Power N2O'!$J77","v":{"$error":"#N/A"}},{"$f":"'Electric Power N2O'!$J90","v":{"$error":"#N/A"}},{"$f":"'Electric Power N2O'!$J103","v":{"$error":"#N/A"}},{"$f":"'Electric Power N2O'!$J116","v":{"$error":"#N/A"}},{"$f":"'Electric Power N2O'!$J129","v":{"$error":"#N/A"}},{"$f":"'Electric Power N2O'!$J142","v":{"$error":"#N/A"}},{"$f":"'Electric Power N2O'!$J155","v":{"$error":"#N/A"}},{"$f":"'Electric Power N2O'!$J168","v":{"$error":"#N/A"}},{"$f":"'Electric Power N2O'!$J181","v":{"$error":"#N/A"}},{"$f":"'Electric Power N2O'!$J194","v":{"$error":"#N/A"}},{"$f":"'Electric Power N2O'!$J207","v":{"$error":"#N/A"}},{"$f":"'Electric Power N2O'!$J220","v":{"$error":"#N/A"}},{"$f":"'Electric Power N2O'!$J233","v":{"$error":"#N/A"}},{"$f":"'Electric Power N2O'!$J246","v":{"$error":"#N/A"}},{"$f":"'Electric Power N2O'!$J259","v":{"$error":"#N/A"}},{"$f":"'Electric Power N2O'!$J272","v":{"$error":"#N/A"}},{"$f":"'Electric Power N2O'!$J285","v":{"$error":"#N/A"}},{"$f":"'Electric Power N2O'!$J298","v":{"$error":"#N/A"}},{"$f":"'Electric Power N2O'!$J311","v":{"$error":"#N/A"}},{"$f":"'Electric Power N2O'!$J324","v":{"$error":"#N/A"}},{"$f":"'Electric Power N2O'!$J337","v":{"$error":"#N/A"}},{"$f":"'Electric Power N2O'!$J350","v":{"$error":"#N/A"}},{"$f":"'Electric Power N2O'!$J363","v":{"$error":"#N/A"}},{"$f":"'Electric Power N2O'!$J376","v":{"$error":"#N/A"}},{"$f":"'Electric Power N2O'!$J389","v":{"$error":"#N/A"}},{"$f":"'Electric Power N2O'!$J402","v":{"$error":"#N/A"}}]
[null,"Other",{"$f":"'Electric Power N2O'!$J13","v":0},{"$f":"'Electric Power N2O'!$J26","v":0},{"$f":"'Electric Power N2O'!$J39","v":0},{"$f":"'Electric Power N2O'!$J52","v":0},{"$f":"'Electric Power N2O'!$J65","v":0},{"$f":"'Electric Power N2O'!$J78","v":0},{"$f":"'Electric Power N2O'!$J91","v":0},{"$f":"'Electric Power N2O'!$J104","v":0},{"$f":"'Electric Power N2O'!$J117","v":0},{"$f":"'Electric Power N2O'!$J130","v":0},{"$f":"'Electric Power N2O'!$J143","v":0},{"$f":"'Electric Power N2O'!$J156","v":0},{"$f":"'Electric Power N2O'!$J169","v":0},{"$f":"'Electric Power N2O'!$J182","v":0},{"$f":"'Electric Power N2O'!$J195","v":0},{"$f":"'Electric Power N2O'!$J208","v":0},{"$f":"'Electric Power N2O'!$J221","v":0},{"$f":"'Electric Power N2O'!$J234","v":0},{"$f":"'Electric Power N2O'!$J247","v":0},{"$f":"'Electric Power N2O'!$J260","v":0},{"$f":"'Electric Power N2O'!$J273","v":0},{"$f":"'Electric Power N2O'!$J286","v":0},{"$f":"'Electric Power N2O'!$J299","v":0},{"$f":"'Electric Power N2O'!$J312","v":0},{"$f":"'Electric Power N2O'!$J325","v":0},{"$f":"'Electric Power N2O'!$J338","v":0},{"$f":"'Electric Power N2O'!$J351","v":0},{"$f":"'Electric Power N2O'!$J364","v":0},{"$f":"'Electric Power N2O'!$J377","v":0},{"$f":"'Electric Power N2O'!$J390","v":0},{"$f":"'Electric Power N2O'!$J403","v":0}]
[null,"TOTAL",{"$f":"SUM(C65:C69)","v":{"$error":"#N/A"}},{"$f":"SUM(D65:D69)","v":{"$error":"#N/A"}},{"$error":"#N/A"},{"$error":"#N/A"},{"$error":"#N/A"},{"$error":"#N/A"},{"$error":"#N/A"},{"$error":"#N/A"},{"$error":"#N/A"},{"$error":"#N/A"},{"$f":"SUM(M65:M69)","v":{"$error":"#N/A"}},{"$error":"#N/A"},{"$error":"#N/A"},{"$error":"#N/A"},{"$error":"#N/A"},{"$error":"#N/A"},{"$f":"SUM(S65:S69)","v":{"$error":"#N/A"}},{"$error":"#N/A"},{"$error":"#N/A"},{"$error":"#N/A"},{"$error":"#N/A"},{"$error":"#N/A"},{"$error":"#N/A"},{"$error":"#N/A"},{"$error":"#N/A"},{"$error":"#N/A"},{"$error":"#N/A"},{"$error":"#N/A"},{"$error":"#N/A"},{"$error":"#N/A"},{"$error":"#N/A"}]
[null,"Coal",{"$f":"SUM(C41,C47,C53,C59)","v":{"$error":"#N/A"}},{"$error":"#N/A"},{"$error":"#N/A"},{"$error":"#N/A"},{"$error":"#N/A"},{"$error":"#N/A"},{"$error":"#N/A"},{"$error":"#N/A"},{"$error":"#N/A"},{"$error":"#N/A"},{"$f":"SUM(M41,M47,M53,M59)","v":{"$error":"#N/A"}},{"$error":"#N/A"},{"$error":"#N/A"},{"$error":"#N/A"},{"$error":"#N/A"},{"$error":"#N/A"},{"$f":"SUM(S41,S47,S53,S59)","v":{"$error":"#N/A"}},{"$error":"#N/A"},{"$error":"#N/A"},{"$error":"#N/A"},{"$error":"#N/A"},{"$error":"#N/A"},{"$error":"#N/A"},{"$error":"#N/A"},{"$error":"#N/A"},{"$error":"#N/A"},{"$error":"#N/A"},{"$error":"#N/A"},{"$error":"#N/A"},{"$error":"#N/A"},{"$error":"#N/A"}]
[null,"Petroleum",{"$f":"SUM(C42,C48,C54,C60)","v":{"$error":"#N/A"}},{"$error":"#N/A"},{"$error":"#N/A"},{"$error":"#N/A"},{"$error":"#N/A"},{"$error":"#N/A"},{"$error":"#N/A"},{"$error":"#N/A"},{"$error":"#N/A"},{"$error":"#N/A"},{"$error":"#N/A"},{"$error":"#N/A"},{"$error":"#N/A"},{"$error":"#N/A"},{"$error":"#N/A"},{"$error":"#N/A"},{"$f":"SUM(S42,S48,S54,S60)","v":{"$error":"#N/A"}},{"$error":"#N/A"},{"$error":"#N/A"},{"$error":"#N/A"},{"$error":"#N/A"},{"$error":"#N/A"},{"$error":"#N/A"},{"$error":"#N/A"},{"$error":"#N/A"},{"$error":"#N/A"},{"$error":"#N/A"},{"$error":"#N/A"},{"$error":"#N/A"},{"$error":"#N/A"},{"$error":"#N/A"}]
[null,"Natural Gas",{"$f":"SUM(C43,C49,C55,C61)","v":{"$error":"#N/A"}},{"$f":"SUM(D43,D49,D55,D61)","v":{"$error":"#N/A"}},{"$error":"#N/A"},{"$error":"#N/A"},{"$error":"#N/A"},{"$error":"#N/A"},{"$error":"#N/A"},{"$error":"#N/A"},{"$error":"#N/A"},{"$error":"#N/A"},{"$error":"#N/A"},{"$error":"#N/A"},{"$error":"#N/A"},{"$error":"#N/A"},{"$error":"#N/A"},{"$error":"#N/A"},{"$f":"SUM(S43,S49,S55,S61)","v":{"$error":"#N/A"}},{"$error":"#N/A"},{"$error":"#N/A"},{"$error":"#N/A"},{"$error":"#N/A"},{"$error":"#N/A"},{"$error":"#N/A"},{"$error":"#N/A"},{"$error":"#N/A"},{"$error":"#N/A"},{"$error":"#N/A"},{"$error":"#N/A"},{"$error":"#N/A"},{"$error":"#N/A"},{"$error":"#N/A"}]
[null,"Wood",{"$f":"SUM(C44,C50,C56,C62)","v":{"$error":"#N/A"}},{"$f":"SUM(D44,D50,D56,D62)","v":{"$error":"#N/A"}},{"$error":"#N/A"},{"$error":"#N/A"},{"$error":"#N/A"},{"$error":"#N/A"},{"$error":"#N/A"},{"$error":"#N/A"},{"$error":"#N/A"},{"$error":"#N/A"},{"$error":"#N/A"},{"$error":"#N/A"},{"$error":"#N/A"},{"$error":"#N/A"},{"$error":"#N/A"},{"$error":"#N/A"},{"$f":"SUM(S44,S50,S56,S62)","v":{"$error":"#N/A"}},{"$error":"#N/A"},{"$error":"#N/A"},{"$error":"#N/A"},{"$error":"#N/A"},{"$error":"#N/A"},{"$error":"#N/A"},{"$error":"#N/A"},{"$error":"#N/A"},{"$error":"#N/A"},{"$error":"#N/A"},{"$error":"#N/A"},{"$error":"#N/A"},{"$error":"#N/A"},{"$error":"#N/A"}]
[null,"Other",{"$f":"SUM(C45,C51,C57,C63)","v":0},0,0,0,0,0,0,0,0,0,0,0,0,0,0,0,{"$f":"SUM(S45,S51,S57,S63)","v":0},0,0,0,0,0,0,0,0,0,0,0,0,0,0]

{"sheet":"Summary CH4","index":11,"n_rows":67,"n_cols":33,"rows_kept":67,"cut":false,"hidden":false,"merged":[[2,1,2,10]]}
[{"$f":"\"CH4 Emissions Summary for \"&StateName","v":"CH4 Emissions Summary for Select a State . . ."}]
[]
[null,{"$f":"Tracker!B13","v":"Emissions were not calculated for the following sectors: Residential, Commercial, Industrial, and Electric Power."}]
[]
[null,"MMTCO2E",1990,1991,1992,1993,1994,1995,1996,1997,1998,1999,2000,2001,2002,2003,2004,2005,2006,2007,2008,2009,2010,2011,2012,2013,2014,2015,2016,2017,2018,2019,2020]
[null,"Residential",{"$f":"C38*44/12","v":{"$error":"#N/A"}},{"$error":"#N/A"},{"$error":"#N/A"},{"$error":"#N/A"},{"$error":"#N/A"},{"$error":"#N/A"},{"$error":"#N/A"},{"$error":"#N/A"},{"$error":"#N/A"},{"$error":"#N/A"},{"$error":"#N/A"},{"$error":"#N/A"},{"$error":"#N/A"},{"$error":"#N/A"},{"$error":"#N/A"},{"$error":"#N/A"},{"$error":"#N/A"},{"$error":"#N/A"},{"$error":"#N/A"},{"$error":"#N/A"},{"$error":"#N/A"},{"$error":"#N/A"},{"$error":"#N/A"},{"$error":"#N/A"},{"$error":"#N/A"},{"$error":"#N/A"},{"$error":"#N/A"},{"$error":"#N/A"},{"$error":"#N/A"},{"$error":"#N/A"},{"$error":"#N/A"}]
[null,"Coal",{"$f":"C39*44/12","v":{"$error":"#N/A"}},{"$error":"#N/A"},{"$error":"#N/A"},{"$error":"#N/A"},{"$error":"#N/A"},{"$error":"#N/A"},{"$error":"#N/A"},{"$error":"#N/A"},{"$error":"#N/A"},{"$error":"#N/A"},{"$error":"#N/A"},{"$error":"#N/A"},{"$error":"#N/A"},{"$error":"#N/A"},{"$error":"#N/A"},{"$error":"#N/A"},{"$error":"#N/A"},{"$error":"#N/A"},{"$error":"#N/A"},{"$error":"#N/A"},{"$error":"#N/A"},{"$error":"#N/A"},{"$error":"#N/A"},{"$error":"#N/A"},{"$error":"#N/A"},{"$error":"#N/A"},{"$error":"#N/A"},{"$error":"#N/A"},{"$error":"#N/A"},{"$error":"#N/A"},{"$error":"#N/A"}]
[null,"Petroleum",{"$f":"C40*44/12","v":{"$error":"#N/A"}},{"$error":"#N/A"},{"$error":"#N/A"},{"$error":"#N/A"},{"$error":"#N/A"},{"$error":"#N/A"},{"$error":"#N/A"},{"$error":"#N/A"},{"$error":"#N/A"},{"$error":"#N/A"},{"$error":"#N/A"},{"$error":"#N/A"},{"$error":"#N/A"},{"$error":"#N/A"},{"$error":"#N/A"},{"$error":"#N/A"},{"$error":"#N/A"},{"$error":"#N/A"},{"$error":"#N/A"},{"$error":"#N/A"},{"$error":"#N/A"},{"$error":"#N/A"},{"$error":"#N/A"},{"$error":"#N/A"},{"$error":"#N/A"},{"$error":"#N/A"},{"$error":"#N/A"},{"$error":"#N/A"},{"$error":"#N/A"},{"$error":"#N/A"},{"$error":"#N/A"}]
[null,"Natural Gas",{"$f":"C41*44/12","v":{"$error":"#N/A"}},{"$error":"#N/A"},{"$error":"#N/A"},{"$error":"#N/A"},{"$error":"#N/A"},{"$error":"#N/A"},{"$error":"#N/A"},{"$error":"#N/A"},{"$error":"#N/A"},{"$error":"#N/A"},{"$error":"#N/A"},{"$error":"#N/A"},{"$error":"#N/A"},{"$error":"#N/A"},{"$error":"#N/A"},{"$error":"#N/A"},{"$error":"#N/A"},{"$error":"#N/A"},{"$error":"#N/A"},{"$error":"#N/A"},{"$error":"#N/A"},{"$error":"#N/A"},{"$error":"#N/A"},{"$error":"#N/A"},{"$error":"#N/A"},{"$error":"#N/A"},{"$error":"#N/A"},{"$error":"#N/A"},{"$error":"#N/A"},{"$error":"#N/A"},{"$error":"#N/A"}]
[null,"Wood",{"$f":"C42*44/12","v":{"$error":"#N/A"}},{"$error":"#N/A"},{"$error":"#N/A"},{"$error":"#N/A"},{"$error":"#N/A"},{"$error":"#N/A"},{"$error":"#N/A"},{"$error":"#N/A"},{"$error":"#N/A"},{"$error":"#N/A"},{"$error":"#N/A"},{"$error":"#N/A"},{"$error":"#N/A"},{"$error":"#N/A"},{"$error":"#N/A"},{"$error":"#N/A"},{"$error":"#N/A"},{"$error":"#N/A"},{"$error":"#N/A"},{"$error":"#N/A"},{"$error":"#N/A"},{"$error":"#N/A"},{"$error":"#N/A"},{"$error":"#N/A"},{"$error":"#N/A"},{"$error":"#N/A"},{"$error":"#N/A"},{"$error":"#N/A"},{"$error":"#N/A"},{"$error":"#N/A"},{"$error":"#N/A"}]
[null,"Other",{"$f":"C43*44/12","v":0},0,0,0,0,0,0,0,0,0,0,0,0,0,0,0,0,0,0,0,0,0,0,0,0,0,0,0,0,0,0]
[null,"Commercial",{"$f":"C44*44/12","v":{"$error":"#N/A"}},{"$error":"#N/A"},{"$error":"#N/A"},{"$error":"#N/A"},{"$error":"#N/A"},{"$error":"#N/A"},{"$error":"#N/A"},{"$error":"#N/A"},{"$error":"#N/A"},{"$error":"#N/A"},{"$error":"#N/A"},{"$error":"#N/A"},{"$error":"#N/A"},{"$error":"#N/A"},{"$error":"#N/A"},{"$error":"#N/A"},{"$error":"#N/A"},{"$error":"#N/A"},{"$error":"#N/A"},{"$error":"#N/A"},{"$error":"#N/A"},{"$error":"#N/A"},{"$error":"#N/A"},{"$error":"#N/A"},{"$error":"#N/A"},{"$error":"#N/A"},{"$error":"#N/A"},{"$error":"#N/A"},{"$error":"#N/A"},{"$error":"#N/A"},{"$error":"#N/A"}]
[null,"Coal",{"$f":"C45*44/12","v":{"$error":"#N/A"}},{"$error":"#N/A"},{"$error":"#N/A"},{"$error":"#N/A"},{"$error":"#N/A"},{"$error":"#N/A"},{"$error":"#N/A"},{"$error":"#N/A"},{"$error":"#N/A"},{"$error":"#N/A"},{"$error":"#N/A"},{"$error":"#N/A"},{"$error":"#N/A"},{"$error":"#N/A"},{"$error":"#N/A"},{"$error":"#N/A"},{"$error":"#N/A"},{"$error":"#N/A"},{"$error":"#N/A"},{"$error":"#N/A"},{"$error":"#N/A"},{"$error":"#N/A"},{"$error":"#N/A"},{"$error":"#N/A"},{"$error":"#N/A"},{"$error":"#N/A"},{"$error":"#N/A"},{"$error":"#N/A"},{"$error":"#N/A"},{"$error":"#N/A"},{"$error":"#N/A"}]
[null,"Petroleum",{"$f":"C46*44/12","v":{"$error":"#N/A"}},{"$error":"#N/A"},{"$error":"#N/A"},{"$error":"#N/A"},{"$error":"#N/A"},{"$error":"#N/A"},{"$error":"#N/A"},{"$error":"#N/A"},{"$error":"#N/A"},{"$error":"#N/A"},{"$error":"#N/A"},{"$error":"#N/A"},{"$error":"#N/A"},{"$error":"#N/A"},{"$error":"#N/A"},{"$error":"#N/A"},{"$error":"#N/A"},{"$error":"#N/A"},{"$error":"#N/A"},{"$error":"#N/A"},{"$error":"#N/A"},{"$error":"#N/A"},{"$error":"#N/A"},{"$error":"#N/A"},{"$error":"#N/A"},{"$error":"#N/A"},{"$error":"#N/A"},{"$error":"#N/A"},{"$error":"#N/A"},{"$error":"#N/A"},{"$error":"#N/A"}]
[null,"Natural Gas",{"$f":"C47*44/12","v":{"$error":"#N/A"}},{"$error":"#N/A"},{"$error":"#N/A"},{"$error":"#N/A"},{"$error":"#N/A"},{"$error":"#N/A"},{"$error":"#N/A"},{"$error":"#N/A"},{"$error":"#N/A"},{"$error":"#N/A"},{"$error":"#N/A"},{"$error":"#N/A"},{"$error":"#N/A"},{"$error":"#N/A"},{"$error":"#N/A"},{"$error":"#N/A"},{"$error":"#N/A"},{"$error":"#N/A"},{"$error":"#N/A"},{"$error":"#N/A"},{"$error":"#N/A"},{"$error":"#N/A"},{"$error":"#N/A"},{"$error":"#N/A"},{"$error":"#N/A"},{"$error":"#N/A"},{"$error":"#N/A"},{"$error":"#N/A"},{"$error":"#N/A"},{"$error":"#N/A"},{"$error":"#N/A"}]
[null,"Wood",{"$f":"C48*44/12","v":{"$error":"#N/A"}},{"$error":"#N/A"},{"$error":"#N/A"},{"$error":"#N/A"},{"$error":"#N/A"},{"$error":"#N/A"},{"$error":"#N/A"},{"$error":"#N/A"},{"$error":"#N/A"},{"$error":"#N/A"},{"$error":"#N/A"},{"$error":"#N/A"},{"$error":"#N/A"},{"$error":"#N/A"},{"$error":"#N/A"},{"$error":"#N/A"},{"$error":"#N/A"},{"$error":"#N/A"},{"$error":"#N/A"},{"$error":"#N/A"},{"$error":"#N/A"},{"$error":"#N/A"},{"$error":"#N/A"},{"$error":"#N/A"},{"$error":"#N/A"},{"$error":"#N/A"},{"$error":"#N/A"},{"$error":"#N/A"},{"$error":"#N/A"},{"$error":"#N/A"},{"$error":"#N/A"}]
[null,"Other",{"$f":"C49*44/12","v":0},0,0,0,0,0,0,0,0,0,0,0,0,0,0,0,0,0,0,0,0,0,0,0,0,0,0,0,0,0,0]
[null,"Industrial",{"$f":"C50*44/12","v":{"$error":"#N/A"}},{"$error":"#N/A"},{"$error":"#N/A"},{"$error":"#N/A"},{"$error":"#N/A"},{"$error":"#N/A"},{"$error":"#N/A"},{"$error":"#N/A"},{"$error":"#N/A"},{"$error":"#N/A"},{"$error":"#N/A"},{"$error":"#N/A"},{"$error":"#N/A"},{"$error":"#N/A"},{"$error":"#N/A"},{"$error":"#N/A"},{"$error":"#N/A"},{"$error":"#N/A"},{"$error":"#N/A"},{"$error":"#N/A"},{"$error":"#N/A"},{"$error":"#N/A"},{"$error":"#N/A"},{"$error":"#N/A"},{"$error":"#N/A"},{"$error":"#N/A"},{"$error":"#N/A"},{"$error":"#N/A"},{"$error":"#N/A"},{"$error":"#N/A"},{"$error":"#N/A"}]
[null,"Coal",{"$f":"C51*44/12","v":{"$error":"#N/A"}},{"$error":"#N/A"},{"$error":"#N/A"},{"$error":"#N/A"},{"$error":"#N/A"},{"$error":"#N/A"},{"$error":"#N/A"},{"$error":"#N/A"},{"$error":"#N/A"},{"$error":"#N/A"},{"$error":"#N/A"},{"$error":"#N/A"},{"$error":"#N/A"},{"$error":"#N/A"},{"$error":"#N/A"},{"$error":"#N/A"},{"$error":"#N/A"},{"$error":"#N/A"},{"$error":"#N/A"},{"$error":"#N/A"},{"$error":"#N/A"},{"$error":"#N/A"},{"$error":"#N/A"},{"$error":"#N/A"},{"$error":"#N/A"},{"$error":"#N/A"},{"$error":"#N/A"},{"$error":"#N/A"},{"$error":"#N/A"},{"$error":"#N/A"},{"$error":"#N/A"}]
[null,"Petroleum",{"$f":"C52*44/12","v":{"$error":"#N/A"}},{"$error":"#N/A"},{"$error":"#N/A"},{"$error":"#N/A"},{"$error":"#N/A"},{"$error":"#N/A"},{"$error":"#N/A"},{"$error":"#N/A"},{"$error":"#N/A"},{"$error":"#N/A"},{"$error":"#N/A"},{"$error":"#N/A"},{"$error":"#N/A"},{"$error":"#N/A"},{"$error":"#N/A"},{"$error":"#N/A"},{"$error":"#N/A"},{"$error":"#N/A"},{"$error":"#N/A"},{"$error":"#N/A"},{"$error":"#N/A"},{"$error":"#N/A"},{"$error":"#N/A"},{"$error":"#N/A"},{"$error":"#N/A"},{"$error":"#N/A"},{"$error":"#N/A"},{"$error":"#N/A"},{"$error":"#N/A"},{"$error":"#N/A"},{"$error":"#N/A"}]
[null,"Natural Gas",{"$f":"C53*44/12","v":{"$error":"#N/A"}},{"$error":"#N/A"},{"$error":"#N/A"},{"$error":"#N/A"},{"$error":"#N/A"},{"$error":"#N/A"},{"$error":"#N/A"},{"$error":"#N/A"},{"$error":"#N/A"},{"$error":"#N/A"},{"$error":"#N/A"},{"$error":"#N/A"},{"$error":"#N/A"},{"$error":"#N/A"},{"$error":"#N/A"},{"$error":"#N/A"},{"$error":"#N/A"},{"$error":"#N/A"},{"$error":"#N/A"},{"$error":"#N/A"},{"$error":"#N/A"},{"$error":"#N/A"},{"$error":"#N/A"},{"$error":"#N/A"},{"$error":"#N/A"},{"$error":"#N/A"},{"$error":"#N/A"},{"$error":"#N/A"},{"$error":"#N/A"},{"$error":"#N/A"},{"$error":"#N/A"}]
[null,"Wood",{"$f":"C54*44/12","v":{"$error":"#N/A"}},{"$error":"#N/A"},{"$error":"#N/A"},{"$error":"#N/A"},{"$error":"#N/A"},{"$error":"#N/A"},{"$error":"#N/A"},{"$error":"#N/A"},{"$error":"#N/A"},{"$error":"#N/A"},{"$error":"#N/A"},{"$error":"#N/A"},{"$error":"#N/A"},{"$error":"#N/A"},{"$error":"#N/A"},{"$error":"#N/A"},{"$error":"#N/A"},{"$error":"#N/A"},{"$error":"#N/A"},{"$error":"#N/A"},{"$error":"#N/A"},{"$error":"#N/A"},{"$error":"#N/A"},{"$error":"#N/A"},{"$error":"#N/A"},{"$error":"#N/A"},{"$error":"#N/A"},{"$error":"#N/A"},{"$error":"#N/A"},{"$error":"#N/A"},{"$error":"#N/A"}]
[null,"Other",{"$f":"C55*44/12","v":0},0,0,0,0,0,0,0,0,0,0,0,0,0,0,0,0,0,0,0,0,0,0,0,0,0,0,0,0,0,0]
[null,"Electric Power",{"$f":"C56*44/12","v":{"$error":"#N/A"}},{"$error":"#N/A"},{"$error":"#N/A"},{"$error":"#N/A"},{"$error":"#N/A"},{"$error":"#N/A"},{"$error":"#N/A"},{"$error":"#N/A"},{"$error":"#N/A"},{"$error":"#N/A"},{"$error":"#N/A"},{"$error":"#N/A"},{"$error":"#N/A"},{"$error":"#N/A"},{"$error":"#N/A"},{"$error":"#N/A"},{"$error":"#N/A"},{"$error":"#N/A"},{"$error":"#N/A"},{"$error":"#N/A"},{"$error":"#N/A"},{"$error":"#N/A"},{"$error":"#N/A"},{"$error":"#N/A"},{"$error":"#N/A"},{"$error":"#N/A"},{"$error":"#N/A"},{"$error":"#N/A"},{"$error":"#N/A"},{"$error":"#N/A"},{"$error":"#N/A"}]
[null,"Coal",{"$f":"C57*44/12","v":{"$error":"#N/A"}},{"$error":"#N/A"},{"$error":"#N/A"},{"$error":"#N/A"},{"$error":"#N/A"},{"$error":"#N/A"},{"$error":"#N/A"},{"$error":"#N/A"},{"$error":"#N/A"},{"$error":"#N/A"},{"$error":"#N/A"},{"$error":"#N/A"},{"$error":"#N/A"},{"$error":"#N/A"},{"$error":"#N/A"},{"$error":"#N/A"},{"$error":"#N/A"},{"$error":"#N/A"},{"$error":"#N/A"},{"$error":"#N/A"},{"$error":"#N/A"},{"$error":"#N/A"},{"$error":"#N/A"},{"$error":"#N/A"},{"$error":"#N/A"},{"$error":"#N/A"},{"$error":"#N/A"},{"$error":"#N/A"},{"$error":"#N/A"},{"$error":"#N/A"},{"$error":"#N/A"}]
[null,"Petroleum",{"$f":"C58*44/12","v":{"$error":"#N/A"}},{"$error":"#N/A"},{"$error":"#N/A"},{"$error":"#N/A"},{"$error":"#N/A"},{"$error":"#N/A"},{"$error":"#N/A"},{"$error":"#N/A"},{"$error":"#N/A"},{"$error":"#N/A"},{"$error":"#N/A"},{"$error":"#N/A"},{"$error":"#N/A"},{"$error":"#N/A"},{"$error":"#N/A"},{"$error":"#N/A"},{"$error":"#N/A"},{"$error":"#N/A"},{"$error":"#N/A"},{"$error":"#N/A"},{"$error":"#N/A"},{"$error":"#N/A"},{"$error":"#N/A"},{"$error":"#N/A"},{"$error":"#N/A"},{"$error":"#N/A"},{"$error":"#N/A"},{"$error":"#N/A"},{"$error":"#N/A"},{"$error":"#N/A"},{"$error":"#N/A"}]
[null,"Natural Gas",{"$f":"C59*44/12","v":{"$error":"#N/A"}},{"$error":"#N/A"},{"$error":"#N/A"},{"$error":"#N/A"},{"$error":"#N/A"},{"$error":"#N/A"},{"$error":"#N/A"},{"$error":"#N/A"},{"$error":"#N/A"},{"$error":"#N/A"},{"$error":"#N/A"},{"$error":"#N/A"},{"$error":"#N/A"},{"$error":"#N/A"},{"$error":"#N/A"},{"$error":"#N/A"},{"$error":"#N/A"},{"$error":"#N/A"},{"$error":"#N/A"},{"$error":"#N/A"},{"$error":"#N/A"},{"$error":"#N/A"},{"$error":"#N/A"},{"$error":"#N/A"},{"$error":"#N/A"},{"$error":"#N/A"},{"$error":"#N/A"},{"$error":"#N/A"},{"$error":"#N/A"},{"$error":"#N/A"},{"$error":"#N/A"}]
[null,"Wood",{"$f":"C60*44/12","v":{"$error":"#N/A"}},{"$error":"#N/A"},{"$error":"#N/A"},{"$error":"#N/A"},{"$error":"#N/A"},{"$error":"#N/A"},{"$error":"#N/A"},{"$error":"#N/A"},{"$error":"#N/A"},{"$error":"#N/A"},{"$error":"#N/A"},{"$error":"#N/A"},{"$error":"#N/A"},{"$error":"#N/A"},{"$error":"#N/A"},{"$error":"#N/A"},{"$error":"#N/A"},{"$error":"#N/A"},{"$error":"#N/A"},{"$error":"#N/A"},{"$error":"#N/A"},{"$error":"#N/A"},{"$error":"#N/A"},{"$error":"#N/A"},{"$error":"#N/A"},{"$error":"#N/A"},{"$error":"#N/A"},{"$error":"#N/A"},{"$error":"#N/A"},{"$error":"#N/A"},{"$error":"#N/A"}]
[null,"Other",{"$f":"C61*44/12","v":0},0,0,0,0,0,0,0,0,0,0,0,0,0,0,0,0,0,0,0,0,0,0,0,0,0,0,0,0,0,0]
[null,"TOTAL",{"$f":"C62*44/12","v":{"$error":"#N/A"}},{"$error":"#N/A"},{"$error":"#N/A"},{"$error":"#N/A"},{"$error":"#N/A"},{"$error":"#N/A"},{"$error":"#N/A"},{"$error":"#N/A"},{"$error":"#N/A"},{"$error":"#N/A"},{"$error":"#N/A"},{"$error":"#N/A"},{"$error":"#N/A"},{"$error":"#N/A"},{"$error":"#N/A"},{"$error":"#N/A"},{"$error":"#N/A"},{"$error":"#N/A"},{"$error":"#N/A"},{"$error":"#N/A"},{"$error":"#N/A"},{"$error":"#N/A"},{"$error":"#N/A"},{"$error":"#N/A"},{"$error":"#N/A"},{"$error":"#N/A"},{"$error":"#N/A"},{"$error":"#N/A"},{"$error":"#N/A"},{"$error":"#N/A"},{"$error":"#N/A"}]
[null,"Coal",{"$f":"C63*44/12","v":{"$error":"#N/A"}},{"$error":"#N/A"},{"$error":"#N/A"},{"$error":"#N/A"},{"$error":"#N/A"},{"$error":"#N/A"},{"$error":"#N/A"},{"$error":"#N/A"},{"$error":"#N/A"},{"$error":"#N/A"},{"$error":"#N/A"},{"$error":"#N/A"},{"$error":"#N/A"},{"$error":"#N/A"},{"$error":"#N/A"},{"$error":"#N/A"},{"$error":"#N/A"},{"$error":"#N/A"},{"$error":"#N/A"},{"$error":"#N/A"},{"$error":"#N/A"},{"$error":"#N/A"},{"$error":"#N/A"},{"$error":"#N/A"},{"$error":"#N/A"},{"$error":"#N/A"},{"$error":"#N/A"},{"$error":"#N/A"},{"$error":"#N/A"},{"$error":"#N/A"},{"$error":"#N/A"}]
[null,"Petroleum",{"$f":"C64*44/12","v":{"$error":"#N/A"}},{"$error":"#N/A"},{"$error":"#N/A"},{"$error":"#N/A"},{"$error":"#N/A"},{"$error":"#N/A"},{"$error":"#N/A"},{"$error":"#N/A"},{"$error":"#N/A"},{"$error":"#N/A"},{"$error":"#N/A"},{"$error":"#N/A"},{"$error":"#N/A"},{"$error":"#N/A"},{"$error":"#N/A"},{"$error":"#N/A"},{"$error":"#N/A"},{"$error":"#N/A"},{"$error":"#N/A"},{"$error":"#N/A"},{"$error":"#N/A"},{"$error":"#N/A"},{"$error":"#N/A"},{"$error":"#N/A"},{"$error":"#N/A"},{"$error":"#N/A"},{"$error":"#N/A"},{"$error":"#N/A"},{"$error":"#N/A"},{"$error":"#N/A"},{"$error":"#N/A"}]
[null,"Natural Gas",{"$f":"C65*44/12","v":{"$error":"#N/A"}},{"$error":"#N/A"},{"$error":"#N/A"},{"$error":"#N/A"},{"$error":"#N/A"},{"$error":"#N/A"},{"$error":"#N/A"},{"$error":"#N/A"},{"$error":"#N/A"},{"$error":"#N/A"},{"$error":"#N/A"},{"$error":"#N/A"},{"$error":"#N/A"},{"$error":"#N/A"},{"$error":"#N/A"},{"$error":"#N/A"},{"$error":"#N/A"},{"$error":"#N/A"},{"$error":"#N/A"},{"$error":"#N/A"},{"$error":"#N/A"},{"$error":"#N/A"},{"$error":"#N/A"},{"$error":"#N/A"},{"$error":"#N/A"},{"$error":"#N/A"},{"$error":"#N/A"},{"$error":"#N/A"},{"$error":"#N/A"},{"$error":"#N/A"},{"$error":"#N/A"}]
[null,"Wood",{"$f":"C66*44/12","v":{"$error":"#N/A"}},{"$error":"#N/A"},{"$error":"#N/A"},{"$error":"#N/A"},{"$error":"#N/A"},{"$error":"#N/A"},{"$error":"#N/A"},{"$error":"#N/A"},{"$error":"#N/A"},{"$error":"#N/A"},{"$error":"#N/A"},{"$error":"#N/A"},{"$error":"#N/A"},{"$error":"#N/A"},{"$error":"#N/A"},{"$error":"#N/A"},{"$error":"#N/A"},{"$error":"#N/A"},{"$error":"#N/A"},{"$error":"#N/A"},{"$error":"#N/A"},{"$error":"#N/A"},{"$error":"#N/A"},{"$error":"#N/A"},{"$error":"#N/A"},{"$error":"#N/A"},{"$error":"#N/A"},{"$error":"#N/A"},{"$error":"#N/A"},{"$error":"#N/A"},{"$error":"#N/A"}]
[null,"Other",{"$f":"C67*44/12","v":0},0,0,0,0,0,0,0,0,0,0,0,0,0,0,0,0,0,0,0,0,0,0,0,0,0,0,0,0,0,0]
[null,null,1,{"$f":"IF(ISERROR(IF(D30=0,0,COLUMN()-2)),0,IF(D30=0,0,COLUMN()-2))","v":0},{"$f":"IF(ISERROR(IF(E30=0,0,COLUMN()-2)),0,IF(E30=0,0,COLUMN()-2))","v":0},0,0,0,0,0,0,0,0,0,0,0,0,0,0,0,0,0,0,0,0,0,0,0,0,0,0,0,0]
[null,"MMTCE",1990,1991,1992,1993,1994,1995,1996,1997,1998,1999,2000,2001,2002,2003,2004,2005,2006,2007,2008,2009,2010,2011,2012,2013,2014,2015,2016,2017,2018,2019,2020]
[null,"Residential",{"$f":"SUM(C39:C43)","v":{"$error":"#N/A"}},{"$f":"SUM(D39:D43)","v":{"$error":"#N/A"}},{"$error":"#N/A"},{"$error":"#N/A"},{"$error":"#N/A"},{"$error":"#N/A"},{"$error":"#N/A"},{"$error":"#N/A"},{"$error":"#N/A"},{"$error":"#N/A"},{"$error":"#N/A"},{"$error":"#N/A"},{"$error":"#N/A"},{"$error":"#N/A"},{"$error":"#N/A"},{"$error":"#N/A"},{"$f":"SUM(S39:S43)","v":{"$error":"#N/A"}},{"$error":"#N/A"},{"$error":"#N/A"},{"$error":"#N/A"},{"$error":"#N/A"},{"$error":"#N/A"},{"$error":"#N/A"},{"$error":"#N/A"},{"$error":"#N/A"},{"$error":"#N/A"},{"$error":"#N/A"},{"$error":"#N/A"},{"$f":"SUM(AE39:AE43)","v":{"$error":"#N/A"}},{"$error":"#N/A"},{"$error":"#N/A"}]
[null,"Coal",{"$f":"'Residential CH4'!J7","v":{"$error":"#N/A"}},{"$f":"'Residential CH4'!$J20","v":{"$error":"#N/A"}},{"$f":"'Residential CH4'!$J33","v":{"$error":"#N/A"}},{"$f":"'Residential CH4'!$J46","v":{"$error":"#N/A"}},{"$f":"'Residential CH4'!$J59","v":{"$error":"#N/A"}},{"$f":"'Residential CH4'!$J72","v":{"$error":"#N/A"}},{"$f":"'Residential CH4'!$J85","v":{"$error":"#N/A"}},{"$f":"'Residential CH4'!$J98","v":{"$error":"#N/A"}},{"$f":"'Residential CH4'!$J111","v":{"$error":"#N/A"}},{"$f":"'Residential CH4'!$J124","v":{"$error":"#N/A"}},{"$f":"'Residential CH4'!$J137","v":{"$error":"#N/A"}},{"$f":"'Residential CH4'!$J150","v":{"$error":"#N/A"}},{"$f":"'Residential CH4'!$J163","v":{"$error":"#N/A"}},{"$f":"'Residential CH4'!$J176","v":{"$error":"#N/A"}},{"$f":"'Residential CH4'!$J189","v":{"$error":"#N/A"}},{"$f":"'Residential CH4'!$J202","v":{"$error":"#N/A"}},{"$f":"'Residential CH4'!$J215","v":{"$error":"#N/A"}},{"$f":"'Residential CH4'!$J228","v":{"$error":"#N/A"}},{"$f":"'Residential CH4'!$J241","v":{"$error":"#N/A"}},{"$f":"'Residential CH4'!$J254","v":{"$error":"#N/A"}},{"$f":"'Residential CH4'!$J267","v":{"$error":"#N/A"}},{"$f":"'Residential CH4'!$J280","v":{"$error":"#N/A"}},{"$f":"'Residential CH4'!$J293","v":{"$error":"#N/A"}},{"$f":"'Residential CH4'!$J306","v":{"$error":"#N/A"}},{"$f":"'Residential CH4'!$J319","v":{"$error":"#N/A"}},{"$f":"'Residential CH4'!$J332","v":{"$error":"#N/A"}},{"$f":"'Residential CH4'!$J345","v":{"$error":"#N/A"}},{"$f":"'Residential CH4'!$J358","v":{"$error":"#N/A"}},{"$f":"'Residential CH4'!$J371","v":{"$error":"#N/A"}},{"$f":"'Residential CH4'!$J384","v":{"$error":"#N/A"}},{"$f":"'Residential CH4'!$J397","v":{"$error":"#N/A"}}]
[null,"Petroleum",{"$f":"SUM('Residential CH4'!J8:J10)","v":{"$error":"#N/A"}},{"$f":"SUM('Residential CH4'!$J21:$J23)","v":{"$error":"#N/A"}},{"$f":"SUM('Residential CH4'!$J34:$J36)","v":{"$error":"#N/A"}},{"$f":"SUM('Residential CH4'!$J47:$J49)","v":{"$error":"#N/A"}},{"$f":"SUM('Residential CH4'!$J60:$J62)","v":{"$error":"#N/A"}},{"$f":"SUM('Residential CH4'!$J73:$J75)","v":{"$error":"#N/A"}},{"$f":"SUM('Residential CH4'!$J86:$J88)","v":{"$error":"#N/A"}},{"$f":"SUM('Residential CH4'!$J99:$J101)","v":{"$error":"#N/A"}},{"$f":"SUM('Residential CH4'!$J112:$J114)","v":{"$error":"#N/A"}},{"$f":"SUM('Residential CH4'!$J125:$J127)","v":{"$error":"#N/A"}},{"$f":"SUM('Residential CH4'!$J138:$J140)","v":{"$error":"#N/A"}},{"$f":"SUM('Residential CH4'!$J151:$J153)","v":{"$error":"#N/A"}},{"$f":"SUM('Residential CH4'!$J164:$J166)","v":{"$error":"#N/A"}},{"$f":"SUM('Residential CH4'!$J177:$J179)","v":{"$error":"#N/A"}},{"$f":"SUM('Residential CH4'!$J190:$J192)","v":{"$error":"#N/A"}},{"$f":"SUM('Residential CH4'!$J203:$J205)","v":{"$error":"#N/A"}},{"$f":"SUM('Residential CH4'!$J216:$J218)","v":{"$error":"#N/A"}},{"$f":"SUM('Residential CH4'!$J229:$J231)","v":{"$error":"#N/A"}},{"$f":"SUM('Residential CH4'!$J242:$J244)","v":{"$error":"#N/A"}},{"$f":"SUM('Residential CH4'!$J255:$J257)","v":{"$error":"#N/A"}},{"$f":"SUM('Residential CH4'!$J268:$J270)","v":{"$error":"#N/A"}},{"$f":"SUM('Residential CH4'!$J281:$J283)","v":{"$error":"#N/A"}},{"$f":"SUM('Residential CH4'!$J294:$J296)","v":{"$error":"#N/A"}},{"$f":"SUM('Residential CH4'!$J307:$J309)","v":{"$error":"#N/A"}},{"$f":"SUM('Residential CH4'!$J320:$J322)","v":{"$error":"#N/A"}},{"$f":"SUM('Residential CH4'!$J333:$J335)","v":{"$error":"#N/A"}},{"$f":"SUM('Residential CH4'!$J346:$J348)","v":{"$error":"#N/A"}},{"$f":"SUM('Residential CH4'!$J359:$J361)","v":{"$error":"#N/A"}},{"$f":"SUM('Residential CH4'!$J372:$J374)","v":{"$error":"#N/A"}},{"$f":"SUM('Residential CH4'!$J385:$J387)","v":{"$error":"#N/A"}},{"$f":"SUM('Residential CH4'!$J398:$J400)","v":{"$error":"#N/A"}}]
[null,"Natural Gas",{"$f":"'Residential CH4'!J11","v":{"$error":"#N/A"}},{"$f":"'Residential CH4'!$J24","v":{"$error":"#N/A"}},{"$f":"'Residential CH4'!$J37","v":{"$error":"#N/A"}},{"$f":"'Residential CH4'!$J50","v":{"$error":"#N/A"}},{"$f":"'Residential CH4'!$J63","v":{"$error":"#N/A"}},{"$f":"'Residential CH4'!$J76","v":{"$error":"#N/A"}},{"$f":"'Residential CH4'!$J89","v":{"$error":"#N/A"}},{"$f":"'Residential CH4'!$J102","v":{"$error":"#N/A"}},{"$f":"'Residential CH4'!$J115","v":{"$error":"#N/A"}},{"$f":"'Residential CH4'!$J128","v":{"$error":"#N/A"}},{"$f":"'Residential CH4'!$J141","v":{"$error":"#N/A"}},{"$f":"'Residential CH4'!$J154","v":{"$error":"#N/A"}},{"$f":"'Residential CH4'!$J167","v":{"$error":"#N/A"}},{"$f":"'Residential CH4'!$J180","v":{"$error":"#N/A"}},{"$f":"'Residential CH4'!$J193","v":{"$error":"#N/A"}},{"$f":"'Residential CH4'!$J206","v":{"$error":"#N/A"}},{"$f":"'Residential CH4'!$J219","v":{"$error":"#N/A"}},{"$f":"'Residential CH4'!$J232","v":{"$error":"#N/A"}},{"$f":"'Residential CH4'!$J245","v":{"$error":"#N/A"}},{"$f":"'Residential CH4'!$J258","v":{"$error":"#N/A"}},{"$f":"'Residential CH4'!$J271","v":{"$error":"#N/A"}},{"$f":"'Residential CH4'!$J284","v":{"$error":"#N/A"}},{"$f":"'Residential CH4'!$J297","v":{"$error":"#N/A"}},{"$f":"'Residential CH4'!$J310","v":{"$error":"#N/A"}},{"$f":"'Residential CH4'!$J323","v":{"$error":"#N/A"}},{"$f":"'Residential CH4'!$J336","v":{"$error":"#N/A"}},{"$f":"'Residential CH4'!$J349","v":{"$error":"#N/A"}},{"$f":"'Residential CH4'!$J362","v":{"$error":"#N/A"}},{"$f":"'Residential CH4'!$J375","v":{"$error":"#N/A"}},{"$f":"'Residential CH4'!$J388","v":{"$error":"#N/A"}},{"$f":"'Residential CH4'!$J401","v":{"$error":"#N/A"}}]
[null,"Wood",{"$f":"'Residential CH4'!J12","v":{"$error":"#N/A"}},{"$f":"'Residential CH4'!$J25","v":{"$error":"#N/A"}},{"$f":"'Residential CH4'!$J38","v":{"$error":"#N/A"}},{"$f":"'Residential CH4'!$J51","v":{"$error":"#N/A"}},{"$f":"'Residential CH4'!$J64","v":{"$error":"#N/A"}},{"$f":"'Residential CH4'!$J77","v":{"$error":"#N/A"}},{"$f":"'Residential CH4'!$J90","v":{"$error":"#N/A"}},{"$f":"'Residential CH4'!$J103","v":{"$error":"#N/A"}},{"$f":"'Residential CH4'!$J116","v":{"$error":"#N/A"}},{"$f":"'Residential CH4'!$J129","v":{"$error":"#N/A"}},{"$f":"'Residential CH4'!$J142","v":{"$error":"#N/A"}},{"$f":"'Residential CH4'!$J155","v":{"$error":"#N/A"}},{"$f":"'Residential CH4'!$J168","v":{"$error":"#N/A"}},{"$f":"'Residential CH4'!$J181","v":{"$error":"#N/A"}},{"$f":"'Residential CH4'!$J194","v":{"$error":"#N/A"}},{"$f":"'Residential CH4'!$J207","v":{"$error":"#N/A"}},{"$f":"'Residential CH4'!$J220","v":{"$error":"#N/A"}},{"$f":"'Residential CH4'!$J233","v":{"$error":"#N/A"}},{"$f":"'Residential CH4'!$J246","v":{"$error":"#N/A"}},{"$f":"'Residential CH4'!$J259","v":{"$error":"#N/A"}},{"$f":"'Residential CH4'!$J272","v":{"$error":"#N/A"}},{"$f":"'Residential CH4'!$J285","v":{"$error":"#N/A"}},{"$f":"'Residential CH4'!$J298","v":{"$error":"#N/A"}},{"$f":"'Residential CH4'!$J311","v":{"$error":"#N/A"}},{"$f":"'Residential CH4'!$J324","v":{"$error":"#N/A"}},{"$f":"'Residential CH4'!$J337","v":{"$error":"#N/A"}},{"$f":"'Residential CH4'!$J350","v":{"$error":"#N/A"}},{"$f":"'Residential CH4'!$J363","v":{"$error":"#N/A"}},{"$f":"'Residential CH4'!$J376","v":{"$error":"#N/A"}},{"$f":"'Residential CH4'!$J389","v":{"$error":"#N/A"}},{"$f":"'Residential CH4'!$J402","v":{"$error":"#N/A"}}]
[null,"Other",{"$f":"'Residential CH4'!J13","v":0},{"$f":"'Residential CH4'!$J26","v":0},{"$f":"'Residential CH4'!$J39","v":0},{"$f":"'Residential CH4'!$J52","v":0},{"$f":"'Residential CH4'!$J65","v":0},{"$f":"'Residential CH4'!$J78","v":0},{"$f":"'Residential CH4'!$J91","v":0},{"$f":"'Residential CH4'!$J104","v":0},{"$f":"'Residential CH4'!$J117","v":0},{"$f":"'Residential CH4'!$J130","v":0},{"$f":"'Residential CH4'!$J143","v":0},{"$f":"'Residential CH4'!$J156","v":0},{"$f":"'Residential CH4'!$J169","v":0},{"$f":"'Residential CH4'!$J182","v":0},{"$f":"'Residential CH4'!$J195","v":0},{"$f":"'Residential CH4'!$J208","v":0},{"$f":"'Residential CH4'!$J221","v":0},{"$f":"'Residential CH4'!$J234","v":0},{"$f":"'Residential CH4'!$J247","v":0},{"$f":"'Residential CH4'!$J260","v":0},{"$f":"'Residential CH4'!$J273","v":0},{"$f":"'Residential CH4'!$J286","v":0},{"$f":"'Residential CH4'!$J299","v":0},{"$f":"'Residential CH4'!$J312","v":0},{"$f":"'Residential CH4'!$J325","v":0},{"$f":"'Residential CH4'!$J338","v":0},{"$f":"'Residential CH4'!$J351","v":0},{"$f":"'Residential CH4'!$J364","v":0},{"$f":"'Residential CH4'!$J377","v":0},{"$f":"'Residential CH4'!$J390","v":0},{"$f":"'Residential CH4'!$J403","v":0}]
[null,"Commercial",{"$f":"SUM(C45:C49)","v":{"$error":"#N/A"}},{"$f":"SUM(D45:D49)","v":{"$error":"#N/A"}},{"$error":"#N/A"},{"$error":"#N/A"},{"$error":"#N/A"},{"$error":"#N/A"},{"$error":"#N/A"},{"$error":"#N/A"},{"$error":"#N/A"},{"$error":"#N/A"},{"$error":"#N/A"},{"$error":"#N/A"},{"$error":"#N/A"},{"$error":"#N/A"},{"$error":"#N/A"},{"$error":"#N/A"},{"$f":"SUM(S45:S49)","v":{"$error":"#N/A"}},{"$error":"#N/A"},{"$error":"#N/A"},{"$error":"#N/A"},{"$error":"#N/A"},{"$error":"#N/A"},{"$error":"#N/A"},{"$error":"#N/A"},{"$error":"#N/A"},{"$error":"#N/A"},{"$error":"#N/A"},{"$error":"#N/A"},{"$error":"#N/A"},{"$error":"#N/A"},{"$error":"#N/A"}]
[null,"Coal",{"$f":"'Commercial CH4'!J7","v":{"$error":"#N/A"}},{"$f":"'Commercial CH4'!J22","v":{"$error":"#N/A"}},{"$f":"'Commercial CH4'!J37","v":{"$error":"#N/A"}},{"$f":"'Commercial CH4'!J52","v":{"$error":"#N/A"}},{"$f":"'Commercial CH4'!J67","v":{"$error":"#N/A"}},{"$f":"'Commercial CH4'!J82","v":{"$error":"#N/A"}},{"$f":"'Commercial CH4'!J97","v":{"$error":"#N/A"}},{"$f":"'Commercial CH4'!J112","v":{"$error":"#N/A"}},{"$f":"'Commercial CH4'!J127","v":{"$error":"#N/A"}},{"$f":"'Commercial CH4'!J142","v":{"$error":"#N/A"}},{"$f":"'Commercial CH4'!J157","v":{"$error":"#N/A"}},{"$f":"'Commercial CH4'!$J172","v":{"$error":"#N/A"}},{"$f":"'Commercial CH4'!$J187","v":{"$error":"#N/A"}},{"$f":"'Commercial CH4'!$J202","v":{"$error":"#N/A"}},{"$f":"'Commercial CH4'!$J217","v":{"$error":"#N/A"}},{"$f":"'Commercial CH4'!$J232","v":{"$error":"#N/A"}},{"$f":"'Commercial CH4'!$J247","v":{"$error":"#N/A"}},{"$f":"'Commercial CH4'!$J262","v":{"$error":"#N/A"}},{"$f":"'Commercial CH4'!$J277","v":{"$error":"#N/A"}},{"$f":"'Commercial CH4'!$J292","v":{"$error":"#N/A"}},{"$f":"'Commercial CH4'!$J307","v":{"$error":"#N/A"}},{"$f":"'Commercial CH4'!$J322","v":{"$error":"#N/A"}},{"$f":"'Commercial CH4'!$J337","v":{"$error":"#N/A"}},{"$f":"'Commercial CH4'!$J352","v":{"$error":"#N/A"}},{"$f":"'Commercial CH4'!$J367","v":{"$error":"#N/A"}},{"$f":"'Commercial CH4'!$J382","v":{"$error":"#N/A"}},{"$f":"'Commercial CH4'!$J397","v":{"$error":"#N/A"}},{"$f":"'Commercial CH4'!$J412","v":{"$error":"#N/A"}},{"$f":"'Commercial CH4'!$J427","v":{"$error":"#N/A"}},{"$f":"'Commercial CH4'!$J442","v":{"$error":"#N/A"}},{"$f":"'Commercial CH4'!$J457","v":{"$error":"#N/A"}}]
[null,"Petroleum",{"$f":"SUM('Commercial CH4'!J8:J12)","v":{"$error":"#N/A"}},{"$f":"SUM('Commercial CH4'!J23:J27)","v":{"$error":"#N/A"}},{"$f":"SUM('Commercial CH4'!J38:J42)","v":{"$error":"#N/A"}},{"$f":"SUM('Commercial CH4'!J53:J57)","v":{"$error":"#N/A"}},{"$f":"SUM('Commercial CH4'!J68:J72)","v":{"$error":"#N/A"}},{"$f":"SUM('Commercial CH4'!J83:J87)","v":{"$error":"#N/A"}},{"$f":"SUM('Commercial CH4'!J98:J102)","v":{"$error":"#N/A"}},{"$f":"SUM('Commercial CH4'!J113:J117)","v":{"$error":"#N/A"}},{"$f":"SUM('Commercial CH4'!J128:J132)","v":{"$error":"#N/A"}},{"$f":"SUM('Commercial CH4'!J143:J147)","v":{"$error":"#N/A"}},{"$f":"SUM('Commercial CH4'!J158:J162)","v":{"$error":"#N/A"}},{"$f":"SUM('Commercial CH4'!$J173:$J177)","v":{"$error":"#N/A"}},{"$f":"SUM('Commercial CH4'!$J188:$J192)","v":{"$error":"#N/A"}},{"$f":"SUM('Commercial CH4'!$J203:$J207)","v":{"$error":"#N/A"}},{"$f":"SUM('Commercial CH4'!$J218:$J222)","v":{"$error":"#N/A"}},{"$f":"SUM('Commercial CH4'!$J233:$J237)","v":{"$error":"#N/A"}},{"$f":"SUM('Commercial CH4'!$J248:$J252)","v":{"$error":"#N/A"}},{"$f":"SUM('Commercial CH4'!$J263:$J267)","v":{"$error":"#N/A"}},{"$f":"SUM('Commercial CH4'!$J278:$J282)","v":{"$error":"#N/A"}},{"$f":"SUM('Commercial CH4'!$J293:$J297)","v":{"$error":"#N/A"}},{"$f":"SUM('Commercial CH4'!$J308:$J312)","v":{"$error":"#N/A"}},{"$f":"SUM('Commercial CH4'!$J323:$J327)","v":{"$error":"#N/A"}},{"$f":"SUM('Commercial CH4'!$J338:$J342)","v":{"$error":"#N/A"}},{"$f":"SUM('Commercial CH4'!$J353:$J357)","v":{"$error":"#N/A"}},{"$f":"SUM('Commercial CH4'!$J368:$J372)","v":{"$error":"#N/A"}},{"$f":"SUM('Commercial CH4'!$J383:$J387)","v":{"$error":"#N/A"}},{"$f":"SUM('Commercial CH4'!$J398:$J402)","v":{"$error":"#N/A"}},{"$f":"SUM('Commercial CH4'!$J413:$J417)","v":{"$error":"#N/A"}},{"$f":"SUM('Commercial CH4'!$J428:$J432)","v":{"$error":"#N/A"}},{"$f":"SUM('Commercial CH4'!$J443:$J447)","v":{"$error":"#N/A"}},{"$f":"SUM('Commercial CH4'!$J458:$J462)","v":{"$error":"#N/A"}}]
[null,"Natural Gas",{"$f":"'Commercial CH4'!J13","v":{"$error":"#N/A"}},{"$f":"'Commercial CH4'!J28","v":{"$error":"#N/A"}},{"$f":"'Commercial CH4'!J43","v":{"$error":"#N/A"}},{"$f":"'Commercial CH4'!J58","v":{"$error":"#N/A"}},{"$f":"'Commercial CH4'!J73","v":{"$error":"#N/A"}},{"$f":"'Commercial CH4'!J88","v":{"$error":"#N/A"}},{"$f":"'Commercial CH4'!J103","v":{"$error":"#N/A"}},{"$f":"'Commercial CH4'!J118","v":{"$error":"#N/A"}},{"$f":"'Commercial CH4'!J133","v":{"$error":"#N/A"}},{"$f":"'Commercial CH4'!J148","v":{"$error":"#N/A"}},{"$f":"'Commercial CH4'!J163","v":{"$error":"#N/A"}},{"$f":"'Commercial CH4'!$J178","v":{"$error":"#N/A"}},{"$f":"'Commercial CH4'!$J193","v":{"$error":"#N/A"}},{"$f":"'Commercial CH4'!$J208","v":{"$error":"#N/A"}},{"$f":"'Commercial CH4'!$J223","v":{"$error":"#N/A"}},{"$f":"'Commercial CH4'!$J238","v":{"$error":"#N/A"}},{"$f":"'Commercial CH4'!$J253","v":{"$error":"#N/A"}},{"$f":"'Commercial CH4'!$J268","v":{"$error":"#N/A"}},{"$f":"'Commercial CH4'!$J283","v":{"$error":"#N/A"}},{"$f":"'Commercial CH4'!$J298","v":{"$error":"#N/A"}},{"$f":"'Commercial CH4'!$J313","v":{"$error":"#N/A"}},{"$f":"'Commercial CH4'!$J328","v":{"$error":"#N/A"}},{"$f":"'Commercial CH4'!$J343","v":{"$error":"#N/A"}},{"$f":"'Commercial CH4'!$J358","v":{"$error":"#N/A"}},{"$f":"'Commercial CH4'!$J373","v":{"$error":"#N/A"}},{"$f":"'Commercial CH4'!$J388","v":{"$error":"#N/A"}},{"$f":"'Commercial CH4'!$J403","v":{"$error":"#N/A"}},{"$f":"'Commercial CH4'!$J418","v":{"$error":"#N/A"}},{"$f":"'Commercial CH4'!$J433","v":{"$error":"#N/A"}},{"$f":"'Commercial CH4'!$J448","v":{"$error":"#N/A"}},{"$f":"'Commercial CH4'!$J463","v":{"$error":"#N/A"}}]
[null,"Wood",{"$f":"'Commercial CH4'!J14","v":{"$error":"#N/A"}},{"$f":"'Commercial CH4'!J29","v":{"$error":"#N/A"}},{"$f":"'Commercial CH4'!J44","v":{"$error":"#N/A"}},{"$f":"'Commercial CH4'!J59","v":{"$error":"#N/A"}},{"$f":"'Commercial CH4'!J74","v":{"$error":"#N/A"}},{"$f":"'Commercial CH4'!J89","v":{"$error":"#N/A"}},{"$f":"'Commercial CH4'!J104","v":{"$error":"#N/A"}},{"$f":"'Commercial CH4'!J119","v":{"$error":"#N/A"}},{"$f":"'Commercial CH4'!J134","v":{"$error":"#N/A"}},{"$f":"'Commercial CH4'!J149","v":{"$error":"#N/A"}},{"$f":"'Commercial CH4'!J164","v":{"$error":"#N/A"}},{"$f":"'Commercial CH4'!$J179","v":{"$error":"#N/A"}},{"$f":"'Commercial CH4'!$J194","v":{"$error":"#N/A"}},{"$f":"'Commercial CH4'!$J209","v":{"$error":"#N/A"}},{"$f":"'Commercial CH4'!$J224","v":{"$error":"#N/A"}},{"$f":"'Commercial CH4'!$J239","v":{"$error":"#N/A"}},{"$f":"'Commercial CH4'!$J254","v":{"$error":"#N/A"}},{"$f":"'Commercial CH4'!$J269","v":{"$error":"#N/A"}},{"$f":"'Commercial CH4'!$J284","v":{"$error":"#N/A"}},{"$f":"'Commercial CH4'!$J299","v":{"$error":"#N/A"}},{"$f":"'Commercial CH4'!$J314","v":{"$error":"#N/A"}},{"$f":"'Commercial CH4'!$J329","v":{"$error":"#N/A"}},{"$f":"'Commercial CH4'!$J344","v":{"$error":"#N/A"}},{"$f":"'Commercial CH4'!$J359","v":{"$error":"#N/A"}},{"$f":"'Commercial CH4'!$J374","v":{"$error":"#N/A"}},{"$f":"'Commercial CH4'!$J389","v":{"$error":"#N/A"}},{"$f":"'Commercial CH4'!$J404","v":{"$error":"#N/A"}},{"$f":"'Commercial CH4'!$J419","v":{"$error":"#N/A"}},{"$f":"'Commercial CH4'!$J434","v":{"$error":"#N/A"}},{"$f":"'Commercial CH4'!$J449","v":{"$error":"#N/A"}},{"$f":"'Commercial CH4'!$J464","v":{"$error":"#N/A"}}]
[null,"Other",{"$f":"'Commercial CH4'!J15","v":0},{"$f":"'Commercial CH4'!J30","v":0},{"$f":"'Commercial CH4'!J45","v":0},{"$f":"'Commercial CH4'!J60","v":0},{"$f":"'Commercial CH4'!J75","v":0},{"$f":"'Commercial CH4'!J90","v":0},{"$f":"'Commercial CH4'!J105","v":0},{"$f":"'Commercial CH4'!J120","v":0},{"$f":"'Commercial CH4'!J135","v":0},{"$f":"'Commercial CH4'!J150","v":0},{"$f":"'Commercial CH4'!J165","v":0},{"$f":"'Commercial CH4'!$J180","v":0},{"$f":"'Commercial CH4'!$J195","v":0},{"$f":"'Commercial CH4'!$J210","v":0},{"$f":"'Commercial CH4'!$J225","v":0},{"$f":"'Commercial CH4'!$J240","v":0},{"$f":"'Commercial CH4'!$J255","v":0},{"$f":"'Commercial CH4'!$J270","v":0},{"$f":"'Commercial CH4'!$J285","v":0},{"$f":"'Commercial CH4'!$J300","v":0},{"$f":"'Commercial CH4'!$J315","v":0},{"$f":"'Commercial CH4'!$J330","v":0},{"$f":"'Commercial CH4'!$J345","v":0},{"$f":"'Commercial CH4'!$J360","v":0},{"$f":"'Commercial CH4'!$J375","v":0},{"$f":"'Commercial CH4'!$J390","v":0},{"$f":"'Commercial CH4'!$J405","v":0},{"$f":"'Commercial CH4'!$J420","v":0},{"$f":"'Commercial CH4'!$J435","v":0},{"$f":"'Commercial CH4'!$J450","v":0},{"$f":"'Commercial CH4'!$J465","v":0}]
[null,"Industrial",{"$f":"SUM(C51:C55)","v":{"$error":"#N/A"}},{"$f":"SUM(D51:D55)","v":{"$error":"#N/A"}},{"$error":"#N/A"},{"$error":"#N/A"},{"$error":"#N/A"},{"$error":"#N/A"},{"$error":"#N/A"},{"$error":"#N/A"},{"$error":"#N/A"},{"$error":"#N/A"},{"$error":"#N/A"},{"$error":"#N/A"},{"$error":"#N/A"},{"$error":"#N/A"},{"$error":"#N/A"},{"$error":"#N/A"},{"$f":"SUM(S51:S55)","v":{"$error":"#N/A"}},{"$error":"#N/A"},{"$error":"#N/A"},{"$error":"#N/A"},{"$error":"#N/A"},{"$error":"#N/A"},{"$error":"#N/A"},{"$error":"#N/A"},{"$error":"#N/A"},{"$error":"#N/A"},{"$error":"#N/A"},{"$error":"#N/A"},{"$error":"#N/A"},{"$error":"#N/A"},{"$error":"#N/A"}]
[null,"Coal",{"$f":"SUM('Industrial CH4'!M7:M8)","v":{"$error":"#N/A"}},{"$f":"SUM('Industrial CH4'!M37:M38)","v":{"$error":"#N/A"}},{"$f":"SUM('Industrial CH4'!M67:M68)","v":{"$error":"#N/A"}},{"$f":"SUM('Industrial CH4'!M97:M98)","v":{"$error":"#N/A"}},{"$f":"SUM('Industrial CH4'!M127:M128)","v":{"$error":"#N/A"}},{"$f":"SUM('Industrial CH4'!M157:M158)","v":{"$error":"#N/A"}},{"$f":"SUM('Industrial CH4'!M187:M188)","v":{"$error":"#N/A"}},{"$f":"SUM('Industrial CH4'!M217:M218)","v":{"$error":"#N/A"}},{"$f":"SUM('Industrial CH4'!M247:M248)","v":{"$error":"#N/A"}},{"$f":"SUM('Industrial CH4'!M277:M278)","v":{"$error":"#N/A"}},{"$f":"SUM('Industrial CH4'!M307:M308)","v":{"$error":"#N/A"}},{"$f":"SUM('Industrial CH4'!M337:M338)","v":{"$error":"#N/A"}},{"$f":"SUM('Industrial CH4'!M367:M368)","v":{"$error":"#N/A"}},{"$f":"SUM('Industrial CH4'!M397:M398)","v":{"$error":"#N/A"}},{"$f":"SUM('Industrial CH4'!M427:M428)","v":{"$error":"#N/A"}},{"$f":"SUM('Industrial CH4'!$M457:$M458)","v":{"$error":"#N/A"}},{"$f":"SUM('Industrial CH4'!$M487:$M488)","v":{"$error":"#N/A"}},{"$f":"SUM('Industrial CH4'!$M517:$M518)","v":{"$error":"#N/A"}},{"$f":"SUM('Industrial CH4'!$M547:$M548)","v":{"$error":"#N/A"}},{"$f":"SUM('Industrial CH4'!$M577:$M578)","v":{"$error":"#N/A"}},{"$f":"SUM('Industrial CH4'!$M607:$M608)","v":{"$error":"#N/A"}},{"$f":"SUM('Industrial CH4'!$M637:$M638)","v":{"$error":"#N/A"}},{"$f":"SUM('Industrial CH4'!$M667:$M668)","v":{"$error":"#N/A"}},{"$f":"SUM('Industrial CH4'!$M697:$M698)","v":{"$error":"#N/A"}},{"$f":"SUM('Industrial CH4'!$M727:$M728)","v":{"$error":"#N/A"}},{"$f":"SUM('Industrial CH4'!$M757:$M758)","v":{"$error":"#N/A"}},{"$f":"SUM('Industrial CH4'!$M787:$M788)","v":{"$error":"#N/A"}},{"$f":"SUM('Industrial CH4'!$M817:$M818)","v":{"$error":"#N/A"}},{"$f":"SUM('Industrial CH4'!$M847:$M848)","v":{"$error":"#N/A"}},{"$f":"SUM('Industrial CH4'!$M877:$M878)","v":{"$error":"#N/A"}},{"$f":"SUM('Industrial CH4'!$M907:$M908)","v":{"$error":"#N/A"}}]
[null,"Petroleum",{"$f":"SUM('Industrial CH4'!M9:M27)","v":{"$error":"#N/A"}},{"$f":"SUM('Industrial CH4'!M39:M57)","v":{"$error":"#N/A"}},{"$f":"SUM('Industrial CH4'!M69:M87)","v":{"$error":"#N/A"}},{"$f":"SUM('Industrial CH4'!M99:M117)","v":{"$error":"#N/A"}},{"$f":"SUM('Industrial CH4'!M129:M147)","v":{"$error":"#N/A"}},{"$f":"SUM('Industrial CH4'!M159:M177)","v":{"$error":"#N/A"}},{"$f":"SUM('Industrial CH4'!M189:M207)","v":{"$error":"#N/A"}},{"$f":"SUM('Industrial CH4'!M219:M237)","v":{"$error":"#N/A"}},{"$f":"SUM('Industrial CH4'!M249:M267)","v":{"$error":"#N/A"}},{"$f":"SUM('Industrial CH4'!M279:M297)","v":{"$error":"#N/A"}},{"$f":"SUM('Industrial CH4'!M309:M327)","v":{"$error":"#N/A"}},{"$f":"SUM('Industrial CH4'!M339:M357)","v":{"$error":"#N/A"}},{"$f":"SUM('Industrial CH4'!M369:M387)","v":{"$error":"#N/A"}},{"$f":"SUM('Industrial CH4'!M399:M417)","v":{"$error":"#N/A"}},{"$f":"SUM('Industrial CH4'!M429:M447)","v":{"$error":"#N/A"}},{"$f":"SUM('Industrial CH4'!M459:M477)","v":{"$error":"#N/A"}},{"$f":"SUM('Industrial CH4'!M489:M507)","v":{"$error":"#N/A"}},{"$f":"SUM('Industrial CH4'!M519:M537)","v":{"$error":"#N/A"}},{"$f":"SUM('Industrial CH4'!M549:M567)","v":{"$error":"#N/A"}},{"$f":"SUM('Industrial CH4'!M579:M597)","v":{"$error":"#N/A"}},{"$f":"SUM('Industrial CH4'!M609:M627)","v":{"$error":"#N/A"}},{"$f":"SUM('Industrial CH4'!M639:M657)","v":{"$error":"#N/A"}},{"$f":"SUM('Industrial CH4'!M669:M687)","v":{"$error":"#N/A"}},{"$f":"SUM('Industrial CH4'!M699:M717)","v":{"$error":"#N/A"}},{"$f":"SUM('Industrial CH4'!M729:M747)","v":{"$error":"#N/A"}},{"$f":"SUM('Industrial CH4'!M759:M777)","v":{"$error":"#N/A"}},{"$f":"SUM('Industrial CH4'!M789:M807)","v":{"$error":"#N/A"}},{"$f":"SUM('Industrial CH4'!M819:M837)","v":{"$error":"#N/A"}},{"$f":"SUM('Industrial CH4'!M849:M867)","v":{"$error":"#N/A"}},{"$f":"SUM('Industrial CH4'!M879:M897)","v":{"$error":"#N/A"}},{"$f":"SUM('Industrial CH4'!M909:M927)","v":{"$error":"#N/A"}}]
[null,"Natural Gas",{"$f":"'Industrial CH4'!M28","v":{"$error":"#N/A"}},{"$f":"'Industrial CH4'!$M58","v":{"$error":"#N/A"}},{"$f":"'Industrial CH4'!$M88","v":{"$error":"#N/A"}},{"$f":"'Industrial CH4'!$M118","v":{"$error":"#N/A"}},{"$f":"'Industrial CH4'!$M148","v":{"$error":"#N/A"}},{"$f":"'Industrial CH4'!$M178","v":{"$error":"#N/A"}},{"$f":"'Industrial CH4'!$M208","v":{"$error":"#N/A"}},{"$f":"'Industrial CH4'!$M238","v":{"$error":"#N/A"}},{"$f":"'Industrial CH4'!$M268","v":{"$error":"#N/A"}},{"$f":"'Industrial CH4'!$M298","v":{"$error":"#N/A"}},{"$f":"'Industrial CH4'!$M328","v":{"$error":"#N/A"}},{"$f":"'Industrial CH4'!$M358","v":{"$error":"#N/A"}},{"$f":"'Industrial CH4'!$M388","v":{"$error":"#N/A"}},{"$f":"'Industrial CH4'!$M418","v":{"$error":"#N/A"}},{"$f":"'Industrial CH4'!$M448","v":{"$error":"#N/A"}},{"$f":"'Industrial CH4'!$M478","v":{"$error":"#N/A"}},{"$f":"'Industrial CH4'!$M508","v":{"$error":"#N/A"}},{"$f":"'Industrial CH4'!$M538","v":{"$error":"#N/A"}},{"$f":"'Industrial CH4'!$M568","v":{"$error":"#N/A"}},{"$f":"'Industrial CH4'!$M598","v":{"$error":"#N/A"}},{"$f":"'Industrial CH4'!$M628","v":{"$error":"#N/A"}},{"$f":"'Industrial CH4'!$M658","v":{"$error":"#N/A"}},{"$f":"'Industrial CH4'!$M688","v":{"$error":"#N/A"}},{"$f":"'Industrial CH4'!$M718","v":{"$error":"#N/A"}},{"$f":"'Industrial CH4'!$M748","v":{"$error":"#N/A"}},{"$f":"'Industrial CH4'!$M778","v":{"$error":"#N/A"}},{"$f":"'Industrial CH4'!$M808","v":{"$error":"#N/A"}},{"$f":"'Industrial CH4'!$M838","v":{"$error":"#N/A"}},{"$f":"'Industrial CH4'!$M868","v":{"$error":"#N/A"}},{"$f":"'Industrial CH4'!$M898","v":{"$error":"#N/A"}},{"$f":"'Industrial CH4'!$M928","v":{"$error":"#N/A"}}]
[null,"Wood",{"$f":"'Industrial CH4'!M29","v":{"$error":"#N/A"}},{"$f":"'Industrial CH4'!$M59","v":{"$error":"#N/A"}},{"$f":"'Industrial CH4'!$M89","v":{"$error":"#N/A"}},{"$f":"'Industrial CH4'!$M119","v":{"$error":"#N/A"}},{"$f":"'Industrial CH4'!$M149","v":{"$error":"#N/A"}},{"$f":"'Industrial CH4'!$M179","v":{"$error":"#N/A"}},{"$f":"'Industrial CH4'!$M209","v":{"$error":"#N/A"}},{"$f":"'Industrial CH4'!$M239","v":{"$error":"#N/A"}},{"$f":"'Industrial CH4'!$M269","v":{"$error":"#N/A"}},{"$f":"'Industrial CH4'!$M299","v":{"$error":"#N/A"}},{"$f":"'Industrial CH4'!$M329","v":{"$error":"#N/A"}},{"$f":"'Industrial CH4'!$M359","v":{"$error":"#N/A"}},{"$f":"'Industrial CH4'!$M389","v":{"$error":"#N/A"}},{"$f":"'Industrial CH4'!$M419","v":{"$error":"#N/A"}},{"$f":"'Industrial CH4'!$M449","v":{"$error":"#N/A"}},{"$f":"'Industrial CH4'!$M479","v":{"$error":"#N/A"}},{"$f":"'Industrial CH4'!$M509","v":{"$error":"#N/A"}},{"$f":"'Industrial CH4'!$M539","v":{"$error":"#N/A"}},{"$f":"'Industrial CH4'!$M569","v":{"$error":"#N/A"}},{"$f":"'Industrial CH4'!$M599","v":{"$error":"#N/A"}},{"$f":"'Industrial CH4'!$M629","v":{"$error":"#N/A"}},{"$f":"'Industrial CH4'!$M659","v":{"$error":"#N/A"}},{"$f":"'Industrial CH4'!$M689","v":{"$error":"#N/A"}},{"$f":"'Industrial CH4'!$M719","v":{"$error":"#N/A"}},{"$f":"'Industrial CH4'!$M749","v":{"$error":"#N/A"}},{"$f":"'Industrial CH4'!$M779","v":{"$error":"#N/A"}},{"$f":"'Industrial CH4'!$M809","v":{"$error":"#N/A"}},{"$f":"'Industrial CH4'!$M839","v":{"$error":"#N/A"}},{"$f":"'Industrial CH4'!$M869","v":{"$error":"#N/A"}},{"$f":"'Industrial CH4'!$M899","v":{"$error":"#N/A"}},{"$f":"'Industrial CH4'!$M929","v":{"$error":"#N/A"}}]
[null,"Other",{"$f":"'Industrial CH4'!M30","v":0},{"$f":"'Industrial CH4'!$M60","v":0},{"$f":"'Industrial CH4'!$M90","v":0},{"$f":"'Industrial CH4'!$M120","v":0},{"$f":"'Industrial CH4'!$M150","v":0},{"$f":"'Industrial CH4'!$M180","v":0},{"$f":"'Industrial CH4'!$M210","v":0},{"$f":"'Industrial CH4'!$M240","v":0},{"$f":"'Industrial CH4'!$M270","v":0},{"$f":"'Industrial CH4'!$M300","v":0},{"$f":"'Industrial CH4'!$M330","v":0},{"$f":"'Industrial CH4'!$M360","v":0},{"$f":"'Industrial CH4'!$M390","v":0},{"$f":"'Industrial CH4'!$M420","v":0},{"$f":"'Industrial CH4'!$M450","v":0},{"$f":"'Industrial CH4'!$M480","v":0},{"$f":"'Industrial CH4'!$M510","v":0},{"$f":"'Industrial CH4'!$M540","v":0},{"$f":"'Industrial CH4'!$M570","v":0},{"$f":"'Industrial CH4'!$M600","v":0},{"$f":"'Industrial CH4'!$M630","v":0},{"$f":"'Industrial CH4'!$M660","v":0},{"$f":"'Industrial CH4'!$M690","v":0},{"$f":"'Industrial CH4'!$M720","v":0},{"$f":"'Industrial CH4'!$M750","v":0},{"$f":"'Industrial CH4'!$M780","v":0},{"$f":"'Industrial CH4'!$M810","v":0},{"$f":"'Industrial CH4'!$M840","v":0},{"$f":"'Industrial CH4'!$M870","v":0},{"$f":"'Industrial CH4'!$M900","v":0},{"$f":"'Industrial CH4'!$M930","v":0}]
[null,"Electric Power",{"$f":"SUM(C57:C61)","v":{"$error":"#N/A"}},{"$f":"SUM(D57:D61)","v":{"$error":"#N/A"}},{"$error":"#N/A"},{"$error":"#N/A"},{"$error":"#N/A"},{"$error":"#N/A"},{"$error":"#N/A"},{"$error":"#N/A"},{"$error":"#N/A"},{"$error":"#N/A"},{"$error":"#N/A"},{"$error":"#N/A"},{"$error":"#N/A"},{"$error":"#N/A"},{"$error":"#N/A"},{"$error":"#N/A"},{"$f":"SUM(S57:S61)","v":{"$error":"#N/A"}},{"$error":"#N/A"},{"$error":"#N/A"},{"$error":"#N/A"},{"$error":"#N/A"},{"$error":"#N/A"},{"$error":"#N/A"},{"$error":"#N/A"},{"$error":"#N/A"},{"$error":"#N/A"},{"$error":"#N/A"},{"$error":"#N/A"},{"$error":"#N/A"},{"$error":"#N/A"},{"$error":"#N/A"}]
[null,"Coal",{"$f":"'Electric Power CH4'!J7","v":{"$error":"#N/A"}},{"$f":"'Electric Power CH4'!$J20","v":{"$error":"#N/A"}},{"$f":"'Electric Power CH4'!$J33","v":{"$error":"#N/A"}},{"$f":"'Electric Power CH4'!$J46","v":{"$error":"#N/A"}},{"$f":"'Electric Power CH4'!$J59","v":{"$error":"#N/A"}},{"$f":"'Electric Power CH4'!$J72","v":{"$error":"#N/A"}},{"$f":"'Electric Power CH4'!$J85","v":{"$error":"#N/A"}},{"$f":"'Electric Power CH4'!$J98","v":{"$error":"#N/A"}},{"$f":"'Electric Power CH4'!$J111","v":{"$error":"#N/A"}},{"$f":"'Electric Power CH4'!$J124","v":{"$error":"#N/A"}},{"$f":"'Electric Power CH4'!$J137","v":{"$error":"#N/A"}},{"$f":"'Electric Power CH4'!$J150","v":{"$error":"#N/A"}},{"$f":"'Electric Power CH4'!$J163","v":{"$error":"#N/A"}},{"$f":"'Electric Power CH4'!$J176","v":{"$error":"#N/A"}},{"$f":"'Electric Power CH4'!$J189","v":{"$error":"#N/A"}},{"$f":"'Electric Power CH4'!$J202","v":{"$error":"#N/A"}},{"$f":"'Electric Power CH4'!$J215","v":{"$error":"#N/A"}},{"$f":"'Electric Power CH4'!$J228","v":{"$error":"#N/A"}},{"$f":"'Electric Power CH4'!$J241","v":{"$error":"#N/A"}},{"$f":"'Electric Power CH4'!$J254","v":{"$error":"#N/A"}},{"$f":"'Electric Power CH4'!$J267","v":{"$error":"#N/A"}},{"$f":"'Electric Power CH4'!$J280","v":{"$error":"#N/A"}},{"$f":"'Electric Power CH4'!$J293","v":{"$error":"#N/A"}},{"$f":"'Electric Power CH4'!$J306","v":{"$error":"#N/A"}},{"$f":"'Electric Power CH4'!$J319","v":{"$error":"#N/A"}},{"$f":"'Electric Power CH4'!$J332","v":{"$error":"#N/A"}},{"$f":"'Electric Power CH4'!$J345","v":{"$error":"#N/A"}},{"$f":"'Electric Power CH4'!$J358","v":{"$error":"#N/A"}},{"$f":"'Electric Power CH4'!$J371","v":{"$error":"#N/A"}},{"$f":"'Electric Power CH4'!$J384","v":{"$error":"#N/A"}},{"$f":"'Electric Power CH4'!$J397","v":{"$error":"#N/A"}}]
[null,"Petroleum",{"$f":"SUM('Electric Power CH4'!J8:J10)","v":{"$error":"#N/A"}},{"$f":"SUM('Electric Power CH4'!$J21:$J23)","v":{"$error":"#N/A"}},{"$f":"SUM('Electric Power CH4'!$J34:$J36)","v":{"$error":"#N/A"}},{"$f":"SUM('Electric Power CH4'!$J47:$J49)","v":{"$error":"#N/A"}},{"$f":"SUM('Electric Power CH4'!$J60:$J62)","v":{"$error":"#N/A"}},{"$f":"SUM('Electric Power CH4'!$J73:$J75)","v":{"$error":"#N/A"}},{"$f":"SUM('Electric Power CH4'!$J86:$J88)","v":{"$error":"#N/A"}},{"$f":"SUM('Electric Power CH4'!$J99:$J101)","v":{"$error":"#N/A"}},{"$f":"SUM('Electric Power CH4'!$J112:$J114)","v":{"$error":"#N/A"}},{"$f":"SUM('Electric Power CH4'!$J125:$J127)","v":{"$error":"#N/A"}},{"$f":"SUM('Electric Power CH4'!$J138:$J140)","v":{"$error":"#N/A"}},{"$f":"SUM('Electric Power CH4'!$J151:$J153)","v":{"$error":"#N/A"}},{"$f":"SUM('Electric Power CH4'!$J164:$J166)","v":{"$error":"#N/A"}},{"$f":"SUM('Electric Power CH4'!$J177:$J179)","v":{"$error":"#N/A"}},{"$f":"SUM('Electric Power CH4'!$J190:$J192)","v":{"$error":"#N/A"}},{"$f":"SUM('Electric Power CH4'!$J203:$J205)","v":{"$error":"#N/A"}},{"$f":"SUM('Electric Power CH4'!$J216:$J218)","v":{"$error":"#N/A"}},{"$f":"SUM('Electric Power CH4'!$J229:$J231)","v":{"$error":"#N/A"}},{"$f":"SUM('Electric Power CH4'!$J242:$J244)","v":{"$error":"#N/A"}},{"$f":"SUM('Electric Power CH4'!$J255:$J257)","v":{"$error":"#N/A"}},{"$f":"SUM('Electric Power CH4'!$J268:$J270)","v":{"$error":"#N/A"}},{"$f":"SUM('Electric Power CH4'!$J281:$J283)","v":{"$error":"#N/A"}},{"$f":"SUM('Electric Power CH4'!$J294:$J296)","v":{"$error":"#N/A"}},{"$f":"SUM('Electric Power CH4'!$J307:$J309)","v":{"$error":"#N/A"}},{"$f":"SUM('Electric Power CH4'!$J320:$J322)","v":{"$error":"#N/A"}},{"$f":"SUM('Electric Power CH4'!$J333:$J335)","v":{"$error":"#N/A"}},{"$f":"SUM('Electric Power CH4'!$J346:$J348)","v":{"$error":"#N/A"}},{"$f":"SUM('Electric Power CH4'!$J359:$J361)","v":{"$error":"#N/A"}},{"$f":"SUM('Electric Power CH4'!$J372:$J374)","v":{"$error":"#N/A"}},{"$f":"SUM('Electric Power CH4'!$J385:$J387)","v":{"$error":"#N/A"}},{"$f":"SUM('Electric Power CH4'!$J398:$J400)","v":{"$error":"#N/A"}}]
[null,"Natural Gas",{"$f":"'Electric Power CH4'!J11","v":{"$error":"#N/A"}},{"$f":"'Electric Power CH4'!$J24","v":{"$error":"#N/A"}},{"$f":"'Electric Power CH4'!$J37","v":{"$error":"#N/A"}},{"$f":"'Electric Power CH4'!$J50","v":{"$error":"#N/A"}},{"$f":"'Electric Power CH4'!$J63","v":{"$error":"#N/A"}},{"$f":"'Electric Power CH4'!$J76","v":{"$error":"#N/A"}},{"$f":"'Electric Power CH4'!$J89","v":{"$error":"#N/A"}},{"$f":"'Electric Power CH4'!$J102","v":{"$error":"#N/A"}},{"$f":"'Electric Power CH4'!$J115","v":{"$error":"#N/A"}},{"$f":"'Electric Power CH4'!$J128","v":{"$error":"#N/A"}},{"$f":"'Electric Power CH4'!$J141","v":{"$error":"#N/A"}},{"$f":"'Electric Power CH4'!$J154","v":{"$error":"#N/A"}},{"$f":"'Electric Power CH4'!$J167","v":{"$error":"#N/A"}},{"$f":"'Electric Power CH4'!$J180","v":{"$error":"#N/A"}},{"$f":"'Electric Power CH4'!$J193","v":{"$error":"#N/A"}},{"$f":"'Electric Power CH4'!$J206","v":{"$error":"#N/A"}},{"$f":"'Electric Power CH4'!$J219","v":{"$error":"#N/A"}},{"$f":"'Electric Power CH4'!$J232","v":{"$error":"#N/A"}},{"$f":"'Electric Power CH4'!$J245","v":{"$error":"#N/A"}},{"$f":"'Electric Power CH4'!$J258","v":{"$error":"#N/A"}},{"$f":"'Electric Power CH4'!$J271","v":{"$error":"#N/A"}},{"$f":"'Electric Power CH4'!$J284","v":{"$error":"#N/A"}},{"$f":"'Electric Power CH4'!$J297","v":{"$error":"#N/A"}},{"$f":"'Electric Power CH4'!$J310","v":{"$error":"#N/A"}},{"$f":"'Electric Power CH4'!$J323","v":{"$error":"#N/A"}},{"$f":"'Electric Power CH4'!$J336","v":{"$error":"#N/A"}},{"$f":"'Electric Power CH4'!$J349","v":{"$error":"#N/A"}},{"$f":"'Electric Power CH4'!$J362","v":{"$error":"#N/A"}},{"$f":"'Electric Power CH4'!$J375","v":{"$error":"#N/A"}},{"$f":"'Electric Power CH4'!$J388","v":{"$error":"#N/A"}},{"$f":"'Electric Power CH4'!$J401","v":{"$error":"#N/A"}}]
[null,"Wood",{"$f":"'Electric Power CH4'!J12","v":{"$error":"#N/A"}},{"$f":"'Electric Power CH4'!$J25","v":{"$error":"#N/A"}},{"$f":"'Electric Power CH4'!$J38","v":{"$error":"#N/A"}},{"$f":"'Electric Power CH4'!$J51","v":{"$error":"#N/A"}},{"$f":"'Electric Power CH4'!$J64","v":{"$error":"#N/A"}},{"$f":"'Electric Power CH4'!$J77","v":{"$error":"#N/A"}},{"$f":"'Electric Power CH4'!$J90","v":{"$error":"#N/A"}},{"$f":"'Electric Power CH4'!$J103","v":{"$error":"#N/A"}},{"$f":"'Electric Power CH4'!$J116","v":{"$error":"#N/A"}},{"$f":"'Electric Power CH4'!$J129","v":{"$error":"#N/A"}},{"$f":"'Electric Power CH4'!$J142","v":{"$error":"#N/A"}},{"$f":"'Electric Power CH4'!$J155","v":{"$error":"#N/A"}},{"$f":"'Electric Power CH4'!$J168","v":{"$error":"#N/A"}},{"$f":"'Electric Power CH4'!$J181","v":{"$error":"#N/A"}},{"$f":"'Electric Power CH4'!$J194","v":{"$error":"#N/A"}},{"$f":"'Electric Power CH4'!$J207","v":{"$error":"#N/A"}},{"$f":"'Electric Power CH4'!$J220","v":{"$error":"#N/A"}},{"$f":"'Electric Power CH4'!$J233","v":{"$error":"#N/A"}},{"$f":"'Electric Power CH4'!$J246","v":{"$error":"#N/A"}},{"$f":"'Electric Power CH4'!$J259","v":{"$error":"#N/A"}},{"$f":"'Electric Power CH4'!$J272","v":{"$error":"#N/A"}},{"$f":"'Electric Power CH4'!$J285","v":{"$error":"#N/A"}},{"$f":"'Electric Power CH4'!$J298","v":{"$error":"#N/A"}},{"$f":"'Electric Power CH4'!$J311","v":{"$error":"#N/A"}},{"$f":"'Electric Power CH4'!$J324","v":{"$error":"#N/A"}},{"$f":"'Electric Power CH4'!$J337","v":{"$error":"#N/A"}},{"$f":"'Electric Power CH4'!$J350","v":{"$error":"#N/A"}},{"$f":"'Electric Power CH4'!$J363","v":{"$error":"#N/A"}},{"$f":"'Electric Power CH4'!$J376","v":{"$error":"#N/A"}},{"$f":"'Electric Power CH4'!$J389","v":{"$error":"#N/A"}},{"$f":"'Electric Power CH4'!$J402","v":{"$error":"#N/A"}}]
[null,"Other",{"$f":"'Electric Power CH4'!J13","v":0},{"$f":"'Electric Power CH4'!$J26","v":0},{"$f":"'Electric Power CH4'!$J39","v":0},{"$f":"'Electric Power CH4'!$J52","v":0},{"$f":"'Electric Power CH4'!$J65","v":0},{"$f":"'Electric Power CH4'!$J78","v":0},{"$f":"'Electric Power CH4'!$J91","v":0},{"$f":"'Electric Power CH4'!$J104","v":0},{"$f":"'Electric Power CH4'!$J117","v":0},{"$f":"'Electric Power CH4'!$J130","v":0},{"$f":"'Electric Power CH4'!$J143","v":0},{"$f":"'Electric Power CH4'!$J156","v":0},{"$f":"'Electric Power CH4'!$J169","v":0},{"$f":"'Electric Power CH4'!$J182","v":0},{"$f":"'Electric Power CH4'!$J195","v":0},{"$f":"'Electric Power CH4'!$J208","v":0},{"$f":"'Electric Power CH4'!$J221","v":0},{"$f":"'Electric Power CH4'!$J234","v":0},{"$f":"'Electric Power CH4'!$J247","v":0},{"$f":"'Electric Power CH4'!$J260","v":0},{"$f":"'Electric Power CH4'!$J273","v":0},{"$f":"'Electric Power CH4'!$J286","v":0},{"$f":"'Electric Power CH4'!$J299","v":0},{"$f":"'Electric Power CH4'!$J312","v":0},{"$f":"'Electric Power CH4'!$J325","v":0},{"$f":"'Electric Power CH4'!$J338","v":0},{"$f":"'Electric Power CH4'!$J351","v":0},{"$f":"'Electric Power CH4'!$J364","v":0},{"$f":"'Electric Power CH4'!$J377","v":0},{"$f":"'Electric Power CH4'!$J390","v":0},{"$f":"'Electric Power CH4'!$J403","v":0}]
[null,"TOTAL",{"$f":"SUM(C63:C67)","v":{"$error":"#N/A"}},{"$f":"SUM(D63:D67)","v":{"$error":"#N/A"}},{"$error":"#N/A"},{"$error":"#N/A"},{"$error":"#N/A"},{"$error":"#N/A"},{"$error":"#N/A"},{"$error":"#N/A"},{"$error":"#N/A"},{"$error":"#N/A"},{"$error":"#N/A"},{"$f":"SUM(N63:N67)","v":{"$error":"#N/A"}},{"$f":"SUM(O63:O67)","v":{"$error":"#N/A"}},{"$f":"SUM(P63:P67)","v":{"$error":"#N/A"}},{"$f":"SUM(Q63:Q67)","v":{"$error":"#N/A"}},{"$f":"SUM(R63:R67)","v":{"$error":"#N/A"}},{"$f":"SUM(S63:S67)","v":{"$error":"#N/A"}},{"$error":"#N/A"},{"$error":"#N/A"},{"$error":"#N/A"},{"$error":"#N/A"},{"$error":"#N/A"},{"$error":"#N/A"},{"$error":"#N/A"},{"$error":"#N/A"},{"$error":"#N/A"},{"$error":"#N/A"},{"$error":"#N/A"},{"$error":"#N/A"},{"$error":"#N/A"},{"$error":"#N/A"}]
[null,"Coal",{"$f":"SUM(C39,C45,C51,C57)","v":{"$error":"#N/A"}},{"$error":"#N/A"},{"$error":"#N/A"},{"$error":"#N/A"},{"$error":"#N/A"},{"$error":"#N/A"},{"$error":"#N/A"},{"$error":"#N/A"},{"$error":"#N/A"},{"$error":"#N/A"},{"$error":"#N/A"},{"$error":"#N/A"},{"$error":"#N/A"},{"$error":"#N/A"},{"$error":"#N/A"},{"$error":"#N/A"},{"$f":"SUM(S39,S45,S51,S57)","v":{"$error":"#N/A"}},{"$error":"#N/A"},{"$error":"#N/A"},{"$error":"#N/A"},{"$error":"#N/A"},{"$error":"#N/A"},{"$error":"#N/A"},{"$error":"#N/A"},{"$error":"#N/A"},{"$error":"#N/A"},{"$error":"#N/A"},{"$error":"#N/A"},{"$error":"#N/A"},{"$error":"#N/A"},{"$error":"#N/A"}]
[null,"Petroleum",{"$f":"SUM(C40,C46,C52,C58)","v":{"$error":"#N/A"}},{"$error":"#N/A"},{"$f":"SUM(E40,E46,E52,E58)","v":{"$error":"#N/A"}},{"$error":"#N/A"},{"$error":"#N/A"},{"$error":"#N/A"},{"$error":"#N/A"},{"$error":"#N/A"},{"$error":"#N/A"},{"$error":"#N/A"},{"$f":"SUM(M40,M46,M52,M58)","v":{"$error":"#N/A"}},{"$error":"#N/A"},{"$error":"#N/A"},{"$error":"#N/A"},{"$error":"#N/A"},{"$error":"#N/A"},{"$f":"SUM(S40,S46,S52,S58)","v":{"$error":"#N/A"}},{"$error":"#N/A"},{"$error":"#N/A"},{"$error":"#N/A"},{"$error":"#N/A"},{"$error":"#N/A"},{"$error":"#N/A"},{"$error":"#N/A"},{"$error":"#N/A"},{"$error":"#N/A"},{"$error":"#N/A"},{"$error":"#N/A"},{"$error":"#N/A"},{"$error":"#N/A"},{"$error":"#N/A"}]
[null,"Natural Gas",{"$f":"SUM(C41,C47,C53,C59)","v":{"$error":"#N/A"}},{"$error":"#N/A"},{"$error":"#N/A"},{"$error":"#N/A"},{"$error":"#N/A"},{"$error":"#N/A"},{"$error":"#N/A"},{"$error":"#N/A"},{"$error":"#N/A"},{"$error":"#N/A"},{"$error":"#N/A"},{"$error":"#N/A"},{"$error":"#N/A"},{"$error":"#N/A"},{"$error":"#N/A"},{"$error":"#N/A"},{"$f":"SUM(S41,S47,S53,S59)","v":{"$error":"#N/A"}},{"$error":"#N/A"},{"$error":"#N/A"},{"$error":"#N/A"},{"$error":"#N/A"},{"$error":"#N/A"},{"$error":"#N/A"},{"$error":"#N/A"},{"$error":"#N/A"},{"$error":"#N/A"},{"$error":"#N/A"},{"$error":"#N/A"},{"$error":"#N/A"},{"$error":"#N/A"},{"$error":"#N/A"}]
[null,"Wood",{"$f":"SUM(C42,C48,C54,C60)","v":{"$error":"#N/A"}},{"$error":"#N/A"},{"$error":"#N/A"},{"$error":"#N/A"},{"$error":"#N/A"},{"$error":"#N/A"},{"$error":"#N/A"},{"$error":"#N/A"},{"$error":"#N/A"},{"$error":"#N/A"},{"$error":"#N/A"},{"$error":"#N/A"},{"$error":"#N/A"},{"$error":"#N/A"},{"$error":"#N/A"},{"$error":"#N/A"},{"$f":"SUM(S42,S48,S54,S60)","v":{"$error":"#N/A"}},{"$error":"#N/A"},{"$error":"#N/A"},{"$error":"#N/A"},{"$error":"#N/A"},{"$error":"#N/A"},{"$error":"#N/A"},{"$error":"#N/A"},{"$error":"#N/A"},{"$error":"#N/A"},{"$error":"#N/A"},{"$error":"#N/A"},{"$error":"#N/A"},{"$error":"#N/A"},{"$error":"#N/A"}]
[null,"Other",{"$f":"SUM(C43,C49,C55,C61)","v":0},0,0,0,0,0,0,0,0,0,0,0,0,0,0,0,{"$f":"SUM(S43,S49,S55,S61)","v":0},0,0,0,0,0,0,0,0,0,0,0,0,0,0]

{"sheet":"Total Summary","index":12,"n_rows":38,"n_cols":33,"rows_kept":38,"cut":false,"hidden":false,"merged":[[2,1,2,10]]}
[{"$f":"\"Total Emissions Summary for \" &StateName","v":"Total Emissions Summary for Select a State . . ."}]
[]
[null,{"$f":"Tracker!B13","v":"Emissions were not calculated for the following sectors: Residential, Commercial, Industrial, and Electric Power."}]
[]
[null,"MMTCO2E",1990,1991,1992,1993,1994,1995,1996,1997,1998,1999,2000,2001,2002,2003,2004,2005,2006,2007,2008,2009,2010,2011,2012,2013,2014,2015,2016,2017,2018,2019,2020]
[null,"Residential",{"$f":"C22*44/12","v":{"$error":"#N/A"}},{"$error":"#N/A"},{"$error":"#N/A"},{"$error":"#N/A"},{"$error":"#N/A"},{"$error":"#N/A"},{"$error":"#N/A"},{"$error":"#N/A"},{"$error":"#N/A"},{"$error":"#N/A"},{"$error":"#N/A"},{"$error":"#N/A"},{"$error":"#N/A"},{"$error":"#N/A"},{"$error":"#N/A"},{"$error":"#N/A"},{"$f":"S22*44/12","v":{"$error":"#N/A"}},{"$error":"#N/A"},{"$error":"#N/A"},{"$error":"#N/A"},{"$error":"#N/A"},{"$error":"#N/A"},{"$error":"#N/A"},{"$error":"#N/A"},{"$error":"#N/A"},{"$error":"#N/A"},{"$error":"#N/A"},{"$error":"#N/A"},{"$error":"#N/A"},{"$error":"#N/A"},{"$error":"#N/A"}]
[null,"N2O",{"$f":"C23*44/12","v":{"$error":"#N/A"}},{"$error":"#N/A"},{"$error":"#N/A"},{"$error":"#N/A"},{"$error":"#N/A"},{"$error":"#N/A"},{"$error":"#N/A"},{"$error":"#N/A"},{"$error":"#N/A"},{"$error":"#N/A"},{"$error":"#N/A"},{"$error":"#N/A"},{"$error":"#N/A"},{"$error":"#N/A"},{"$error":"#N/A"},{"$error":"#N/A"},{"$f":"S23*44/12","v":{"$error":"#N/A"}},{"$error":"#N/A"},{"$error":"#N/A"},{"$error":"#N/A"},{"$error":"#N/A"},{"$error":"#N/A"},{"$error":"#N/A"},{"$error":"#N/A"},{"$error":"#N/A"},{"$error":"#N/A"},{"$error":"#N/A"},{"$error":"#N/A"},{"$error":"#N/A"},{"$error":"#N/A"},{"$error":"#N/A"}]
[null,"CH4",{"$f":"C24*44/12","v":{"$error":"#N/A"}},{"$error":"#N/A"},{"$error":"#N/A"},{"$error":"#N/A"},{"$error":"#N/A"},{"$error":"#N/A"},{"$error":"#N/A"},{"$error":"#N/A"},{"$error":"#N/A"},{"$error":"#N/A"},{"$error":"#N/A"},{"$error":"#N/A"},{"$error":"#N/A"},{"$error":"#N/A"},{"$error":"#N/A"},{"$error":"#N/A"},{"$f":"S24*44/12","v":{"$error":"#N/A"}},{"$error":"#N/A"},{"$error":"#N/A"},{"$error":"#N/A"},{"$error":"#N/A"},{"$error":"#N/A"},{"$error":"#N/A"},{"$error":"#N/A"},{"$error":"#N/A"},{"$error":"#N/A"},{"$error":"#N/A"},{"$error":"#N/A"},{"$error":"#N/A"},{"$error":"#N/A"},{"$error":"#N/A"}]
[null,"Commercial",{"$f":"C25*44/12","v":{"$error":"#N/A"}},{"$error":"#N/A"},{"$error":"#N/A"},{"$error":"#N/A"},{"$error":"#N/A"},{"$error":"#N/A"},{"$error":"#N/A"},{"$error":"#N/A"},{"$error":"#N/A"},{"$error":"#N/A"},{"$error":"#N/A"},{"$error":"#N/A"},{"$error":"#N/A"},{"$error":"#N/A"},{"$error":"#N/A"},{"$error":"#N/A"},{"$f":"S25*44/12","v":{"$error":"#N/A"}},{"$error":"#N/A"},{"$error":"#N/A"},{"$error":"#N/A"},{"$error":"#N/A"},{"$error":"#N/A"},{"$error":"#N/A"},{"$error":"#N/A"},{"$error":"#N/A"},{"$error":"#N/A"},{"$error":"#N/A"},{"$error":"#N/A"},{"$error":"#N/A"},{"$error":"#N/A"},{"$error":"#N/A"}]
[null,"N2O",{"$f":"C26*44/12","v":{"$error":"#N/A"}},{"$error":"#N/A"},{"$error":"#N/A"},{"$error":"#N/A"},{"$error":"#N/A"},{"$error":"#N/A"},{"$error":"#N/A"},{"$error":"#N/A"},{"$error":"#N/A"},{"$error":"#N/A"},{"$error":"#N/A"},{"$error":"#N/A"},{"$error":"#N/A"},{"$error":"#N/A"},{"$error":"#N/A"},{"$error":"#N/A"},{"$f":"S26*44/12","v":{"$error":"#N/A"}},{"$error":"#N/A"},{"$error":"#N/A"},{"$error":"#N/A"},{"$error":"#N/A"},{"$error":"#N/A"},{"$error":"#N/A"},{"$error":"#N/A"},{"$error":"#N/A"},{"$error":"#N/A"},{"$error":"#N/A"},{"$error":"#N/A"},{"$error":"#N/A"},{"$error":"#N/A"},{"$error":"#N/A"}]
[null,"CH4",{"$f":"C27*44/12","v":{"$error":"#N/A"}},{"$error":"#N/A"},{"$error":"#N/A"},{"$error":"#N/A"},{"$error":"#N/A"},{"$error":"#N/A"},{"$error":"#N/A"},{"$error":"#N/A"},{"$error":"#N/A"},{"$error":"#N/A"},{"$error":"#N/A"},{"$error":"#N/A"},{"$error":"#N/A"},{"$error":"#N/A"},{"$error":"#N/A"},{"$error":"#N/A"},{"$f":"S27*44/12","v":{"$error":"#N/A"}},{"$error":"#N/A"},{"$error":"#N/A"},{"$error":"#N/A"},{"$error":"#N/A"},{"$error":"#N/A"},{"$error":"#N/A"},{"$error":"#N/A"},{"$error":"#N/A"},{"$error":"#N/A"},{"$error":"#N/A"},{"$error":"#N/A"},{"$error":"#N/A"},{"$error":"#N/A"},{"$error":"#N/A"}]
[null,"Industrial",{"$f":"C28*44/12","v":{"$error":"#N/A"}},{"$error":"#N/A"},{"$error":"#N/A"},{"$error":"#N/A"},{"$error":"#N/A"},{"$error":"#N/A"},{"$error":"#N/A"},{"$error":"#N/A"},{"$error":"#N/A"},{"$error":"#N/A"},{"$error":"#N/A"},{"$error":"#N/A"},{"$error":"#N/A"},{"$error":"#N/A"},{"$error":"#N/A"},{"$error":"#N/A"},{"$f":"S28*44/12","v":{"$error":"#N/A"}},{"$error":"#N/A"},{"$error":"#N/A"},{"$error":"#N/A"},{"$error":"#N/A"},{"$error":"#N/A"},{"$error":"#N/A"},{"$error":"#N/A"},{"$error":"#N/A"},{"$error":"#N/A"},{"$error":"#N/A"},{"$error":"#N/A"},{"$error":"#N/A"},{"$error":"#N/A"},{"$error":"#N/A"}]
[null,"N2O",{"$f":"C29*44/12","v":{"$error":"#N/A"}},{"$error":"#N/A"},{"$error":"#N/A"},{"$error":"#N/A"},{"$error":"#N/A"},{"$error":"#N/A"},{"$error":"#N/A"},{"$error":"#N/A"},{"$error":"#N/A"},{"$error":"#N/A"},{"$error":"#N/A"},{"$error":"#N/A"},{"$error":"#N/A"},{"$error":"#N/A"},{"$error":"#N/A"},{"$error":"#N/A"},{"$f":"S29*44/12","v":{"$error":"#N/A"}},{"$error":"#N/A"},{"$error":"#N/A"},{"$error":"#N/A"},{"$error":"#N/A"},{"$error":"#N/A"},{"$error":"#N/A"},{"$error":"#N/A"},{"$error":"#N/A"},{"$error":"#N/A"},{"$error":"#N/A"},{"$error":"#N/A"},{"$error":"#N/A"},{"$error":"#N/A"},{"$error":"#N/A"}]
[null,"CH4",{"$f":"C30*44/12","v":{"$error":"#N/A"}},{"$error":"#N/A"},{"$error":"#N/A"},{"$error":"#N/A"},{"$error":"#N/A"},{"$error":"#N/A"},{"$error":"#N/A"},{"$error":"#N/A"},{"$error":"#N/A"},{"$error":"#N/A"},{"$error":"#N/A"},{"$error":"#N/A"},{"$error":"#N/A"},{"$error":"#N/A"},{"$error":"#N/A"},{"$error":"#N/A"},{"$f":"S30*44/12","v":{"$error":"#N/A"}},{"$error":"#N/A"},{"$error":"#N/A"},{"$error":"#N/A"},{"$error":"#N/A"},{"$error":"#N/A"},{"$error":"#N/A"},{"$error":"#N/A"},{"$error":"#N/A"},{"$error":"#N/A"},{"$error":"#N/A"},{"$error":"#N/A"},{"$error":"#N/A"},{"$error":"#N/A"},{"$error":"#N/A"}]
[null,"Electric Power",{"$f":"C31*44/12","v":{"$error":"#N/A"}},{"$error":"#N/A"},{"$error":"#N/A"},{"$error":"#N/A"},{"$error":"#N/A"},{"$error":"#N/A"},{"$error":"#N/A"},{"$error":"#N/A"},{"$error":"#N/A"},{"$error":"#N/A"},{"$error":"#N/A"},{"$error":"#N/A"},{"$error":"#N/A"},{"$error":"#N/A"},{"$error":"#N/A"},{"$error":"#N/A"},{"$f":"S31*44/12","v":{"$error":"#N/A"}},{"$error":"#N/A"},{"$error":"#N/A"},{"$error":"#N/A"},{"$error":"#N/A"},{"$error":"#N/A"},{"$error":"#N/A"},{"$error":"#N/A"},{"$error":"#N/A"},{"$error":"#N/A"},{"$error":"#N/A"},{"$error":"#N/A"},{"$error":"#N/A"},{"$error":"#N/A"},{"$error":"#N/A"}]
[null,"N2O",{"$f":"C32*44/12","v":{"$error":"#N/A"}},{"$error":"#N/A"},{"$error":"#N/A"},{"$error":"#N/A"},{"$error":"#N/A"},{"$error":"#N/A"},{"$error":"#N/A"},{"$error":"#N/A"},{"$error":"#N/A"},{"$error":"#N/A"},{"$error":"#N/A"},{"$error":"#N/A"},{"$error":"#N/A"},{"$error":"#N/A"},{"$error":"#N/A"},{"$error":"#N/A"},{"$f":"S32*44/12","v":{"$error":"#N/A"}},{"$error":"#N/A"},{"$error":"#N/A"},{"$error":"#N/A"},{"$error":"#N/A"},{"$error":"#N/A"},{"$error":"#N/A"},{"$error":"#N/A"},{"$error":"#N/A"},{"$error":"#N/A"},{"$error":"#N/A"},{"$error":"#N/A"},{"$error":"#N/A"},{"$error":"#N/A"},{"$error":"#N/A"}]
[null,"CH4",{"$f":"C33*44/12","v":{"$error":"#N/A"}},{"$error":"#N/A"},{"$error":"#N/A"},{"$error":"#N/A"},{"$error":"#N/A"},{"$error":"#N/A"},{"$error":"#N/A"},{"$error":"#N/A"},{"$error":"#N/A"},{"$error":"#N/A"},{"$error":"#N/A"},{"$error":"#N/A"},{"$error":"#N/A"},{"$error":"#N/A"},{"$error":"#N/A"},{"$error":"#N/A"},{"$f":"S33*44/12","v":{"$error":"#N/A"}},{"$error":"#N/A"},{"$error":"#N/A"},{"$error":"#N/A"},{"$error":"#N/A"},{"$error":"#N/A"},{"$error":"#N/A"},{"$error":"#N/A"},{"$error":"#N/A"},{"$error":"#N/A"},{"$error":"#N/A"},{"$error":"#N/A"},{"$error":"#N/A"},{"$error":"#N/A"},{"$error":"#N/A"}]
[null,"TOTAL",{"$f":"C34*44/12","v":{"$error":"#N/A"}},{"$error":"#N/A"},{"$error":"#N/A"},{"$error":"#N/A"},{"$error":"#N/A"},{"$error":"#N/A"},{"$error":"#N/A"},{"$error":"#N/A"},{"$error":"#N/A"},{"$error":"#N/A"},{"$error":"#N/A"},{"$error":"#N/A"},{"$error":"#N/A"},{"$error":"#N/A"},{"$error":"#N/A"},{"$error":"#N/A"},{"$f":"S34*44/12","v":{"$error":"#N/A"}},{"$error":"#N/A"},{"$error":"#N/A"},{"$error":"#N/A"},{"$error":"#N/A"},{"$error":"#N/A"},{"$error":"#N/A"},{"$error":"#N/A"},{"$error":"#N/A"},{"$error":"#N/A"},{"$error":"#N/A"},{"$error":"#N/A"},{"$error":"#N/A"},{"$error":"#N/A"},{"$error":"#N/A"}]
[null,null,1,{"$f":"IF(ISERROR(IF(D18=0,0,COLUMN()-2)),0,IF(D18=0,0,COLUMN()-2))","v":0},{"$f":"IF(ISERROR(IF(E18=0,0,COLUMN()-2)),0,IF(E18=0,0,COLUMN()-2))","v":0},0,0,0,0,0,0,0,0,0,0,0,0,0,0,0,0,0,0,0,0,0,0,0,0,0,0,0,0]
[]
[null,"MMTCE",1990,1991,1992,1993,1994,1995,1996,1997,1998,1999,2000,2001,2002,2003,2004,2005,2006,2007,2008,2009,2010,2011,2012,2013,2014,2015,2016,2017,2018,2019,2020]
[null,"Residential",{"$f":"SUM(C23:C24)","v":{"$error":"#N/A"}},{"$error":"#N/A"},{"$error":"#N/A"},{"$error":"#N/A"},{"$error":"#N/A"},{"$error":"#N/A"},{"$error":"#N/A"},{"$error":"#N/A"},{"$error":"#N/A"},{"$error":"#N/A"},{"$f":"SUM(M23:M24)","v":{"$error":"#N/A"}},{"$error":"#N/A"},{"$error":"#N/A"},{"$error":"#N/A"},{"$error":"#N/A"},{"$error":"#N/A"},{"$f":"SUM(S23:S24)","v":{"$error":"#N/A"}},{"$error":"#N/A"},{"$error":"#N/A"},{"$error":"#N/A"},{"$error":"#N/A"},{"$error":"#N/A"},{"$error":"#N/A"},{"$error":"#N/A"},{"$error":"#N/A"},{"$error":"#N/A"},{"$error":"#N/A"},{"$error":"#N/A"},{"$error":"#N/A"},{"$error":"#N/A"},{"$error":"#N/A"}]
[null,"N2O",{"$f":"'Summary N2O'!C$40","v":{"$error":"#N/A"}},{"$f":"'Summary N2O'!D$40","v":{"$error":"#N/A"}},{"$f":"'Summary N2O'!E$40","v":{"$error":"#N/A"}},{"$f":"'Summary N2O'!F$40","v":{"$error":"#N/A"}},{"$f":"'Summary N2O'!G$40","v":{"$error":"#N/A"}},{"$f":"'Summary N2O'!H$40","v":{"$error":"#N/A"}},{"$f":"'Summary N2O'!I$40","v":{"$error":"#N/A"}},{"$f":"'Summary N2O'!J$40","v":{"$error":"#N/A"}},{"$f":"'Summary N2O'!K$40","v":{"$error":"#N/A"}},{"$f":"'Summary N2O'!L$40","v":{"$error":"#N/A"}},{"$f":"'Summary N2O'!M$40","v":{"$error":"#N/A"}},{"$f":"'Summary N2O'!N$40","v":{"$error":"#N/A"}},{"$f":"'Summary N2O'!O$40","v":{"$error":"#N/A"}},{"$f":"'Summary N2O'!P$40","v":{"$error":"#N/A"}},{"$f":"'Summary N2O'!Q$40","v":{"$error":"#N/A"}},{"$f":"'Summary N2O'!R$40","v":{"$error":"#N/A"}},{"$f":"'Summary N2O'!S$40","v":{"$error":"#N/A"}},{"$f":"'Summary N2O'!T$40","v":{"$error":"#N/A"}},{"$f":"'Summary N2O'!U$40","v":{"$error":"#N/A"}},{"$f":"'Summary N2O'!V$40","v":{"$error":"#N/A"}},{"$f":"'Summary N2O'!W$40","v":{"$error":"#N/A"}},{"$f":"'Summary N2O'!X$40","v":{"$error":"#N/A"}},{"$f":"'Summary N2O'!Y$40","v":{"$error":"#N/A"}},{"$f":"'Summary N2O'!Z$40","v":{"$error":"#N/A"}},{"$f":"'Summary N2O'!AA$40","v":{"$error":"#N/A"}},{"$f":"'Summary N2O'!AB$40","v":{"$error":"#N/A"}},{"$f":"'Summary N2O'!AC$40","v":{"$error":"#N/A"}},{"$f":"'Summary N2O'!AD$40","v":{"$error":"#N/A"}},{"$f":"'Summary N2O'!AE$40","v":{"$error":"#N/A"}},{"$f":"'Summary N2O'!AF$40","v":{"$error":"#N/A"}},{"$f":"'Summary N2O'!AG$40","v":{"$error":"#N/A"}}]
[null,"CH4",{"$f":"'Summary CH4'!C38","v":{"$error":"#N/A"}},{"$f":"'Summary CH4'!D38","v":{"$error":"#N/A"}},{"$f":"'Summary CH4'!E38","v":{"$error":"#N/A"}},{"$f":"'Summary CH4'!F38","v":{"$error":"#N/A"}},{"$f":"'Summary CH4'!G38","v":{"$error":"#N/A"}},{"$f":"'Summary CH4'!H38","v":{"$error":"#N/A"}},{"$f":"'Summary CH4'!I38","v":{"$error":"#N/A"}},{"$f":"'Summary CH4'!J38","v":{"$error":"#N/A"}},{"$f":"'Summary CH4'!K38","v":{"$error":"#N/A"}},{"$f":"'Summary CH4'!L38","v":{"$error":"#N/A"}},{"$f":"'Summary CH4'!M38","v":{"$error":"#N/A"}},{"$f":"'Summary CH4'!N38","v":{"$error":"#N/A"}},{"$f":"'Summary CH4'!O38","v":{"$error":"#N/A"}},{"$f":"'Summary CH4'!P38","v":{"$error":"#N/A"}},{"$f":"'Summary CH4'!Q38","v":{"$error":"#N/A"}},{"$f":"'Summary CH4'!R38","v":{"$error":"#N/A"}},{"$f":"'Summary CH4'!S38","v":{"$error":"#N/A"}},{"$f":"'Summary CH4'!T38","v":{"$error":"#N/A"}},{"$f":"'Summary CH4'!U38","v":{"$error":"#N/A"}},{"$f":"'Summary CH4'!V38","v":{"$error":"#N/A"}},{"$f":"'Summary CH4'!W38","v":{"$error":"#N/A"}},{"$f":"'Summary CH4'!X38","v":{"$error":"#N/A"}},{"$f":"'Summary CH4'!Y38","v":{"$error":"#N/A"}},{"$f":"'Summary CH4'!Z38","v":{"$error":"#N/A"}},{"$f":"'Summary CH4'!AA38","v":{"$error":"#N/A"}},{"$f":"'Summary CH4'!AB38","v":{"$error":"#N/A"}},{"$f":"'Summary CH4'!AC38","v":{"$error":"#N/A"}},{"$f":"'Summary CH4'!AD38","v":{"$error":"#N/A"}},{"$f":"'Summary CH4'!AE38","v":{"$error":"#N/A"}},{"$f":"'Summary CH4'!AF38","v":{"$error":"#N/A"}},{"$f":"'Summary CH4'!AG38","v":{"$error":"#N/A"}}]
[null,"Commercial",{"$f":"SUM(C26:C27)","v":{"$error":"#N/A"}},{"$error":"#N/A"},{"$error":"#N/A"},{"$error":"#N/A"},{"$error":"#N/A"},{"$error":"#N/A"},{"$error":"#N/A"},{"$error":"#N/A"},{"$error":"#N/A"},{"$error":"#N/A"},{"$f":"SUM(M26:M27)","v":{"$error":"#N/A"}},{"$error":"#N/A"},{"$error":"#N/A"},{"$error":"#N/A"},{"$error":"#N/A"},{"$error":"#N/A"},{"$f":"SUM(S26:S27)","v":{"$error":"#N/A"}},{"$error":"#N/A"},{"$error":"#N/A"},{"$error":"#N/A"},{"$error":"#N/A"},{"$error":"#N/A"},{"$error":"#N/A"},{"$error":"#N/A"},{"$error":"#N/A"},{"$error":"#N/A"},{"$error":"#N/A"},{"$error":"#N/A"},{"$error":"#N/A"},{"$error":"#N/A"},{"$error":"#N/A"}]
[null,"N2O",{"$f":"'Summary N2O'!C$46","v":{"$error":"#N/A"}},{"$f":"'Summary N2O'!D$46","v":{"$error":"#N/A"}},{"$f":"'Summary N2O'!E$46","v":{"$error":"#N/A"}},{"$f":"'Summary N2O'!F$46","v":{"$error":"#N/A"}},{"$f":"'Summary N2O'!G$46","v":{"$error":"#N/A"}},{"$f":"'Summary N2O'!H$46","v":{"$error":"#N/A"}},{"$f":"'Summary N2O'!I$46","v":{"$error":"#N/A"}},{"$f":"'Summary N2O'!J$46","v":{"$error":"#N/A"}},{"$f":"'Summary N2O'!K$46","v":{"$error":"#N/A"}},{"$f":"'Summary N2O'!L$46","v":{"$error":"#N/A"}},{"$f":"'Summary N2O'!M$46","v":{"$error":"#N/A"}},{"$f":"'Summary N2O'!N$46","v":{"$error":"#N/A"}},{"$f":"'Summary N2O'!O$46","v":{"$error":"#N/A"}},{"$f":"'Summary N2O'!P$46","v":{"$error":"#N/A"}},{"$f":"'Summary N2O'!Q$46","v":{"$error":"#N/A"}},{"$f":"'Summary N2O'!R$46","v":{"$error":"#N/A"}},{"$f":"'Summary N2O'!S$46","v":{"$error":"#N/A"}},{"$f":"'Summary N2O'!T$46","v":{"$error":"#N/A"}},{"$f":"'Summary N2O'!U$46","v":{"$error":"#N/A"}},{"$f":"'Summary N2O'!V$46","v":{"$error":"#N/A"}},{"$f":"'Summary N2O'!W$46","v":{"$error":"#N/A"}},{"$f":"'Summary N2O'!X$46","v":{"$error":"#N/A"}},{"$f":"'Summary N2O'!Y$46","v":{"$error":"#N/A"}},{"$f":"'Summary N2O'!Z$46","v":{"$error":"#N/A"}},{"$f":"'Summary N2O'!AA$46","v":{"$error":"#N/A"}},{"$f":"'Summary N2O'!AB$46","v":{"$error":"#N/A"}},{"$f":"'Summary N2O'!AC$46","v":{"$error":"#N/A"}},{"$f":"'Summary N2O'!AD$46","v":{"$error":"#N/A"}},{"$f":"'Summary N2O'!AE$46","v":{"$error":"#N/A"}},{"$f":"'Summary N2O'!AF$46","v":{"$error":"#N/A"}},{"$f":"'Summary N2O'!AG$46","v":{"$error":"#N/A"}}]
[null,"CH4",{"$f":"'Summary CH4'!C44","v":{"$error":"#N/A"}},{"$f":"'Summary CH4'!D44","v":{"$error":"#N/A"}},{"$f":"'Summary CH4'!E44","v":{"$error":"#N/A"}},{"$f":"'Summary CH4'!F44","v":{"$error":"#N/A"}},{"$f":"'Summary CH4'!G44","v":{"$error":"#N/A"}},{"$f":"'Summary CH4'!H44","v":{"$error":"#N/A"}},{"$f":"'Summary CH4'!I44","v":{"$error":"#N/A"}},{"$f":"'Summary CH4'!J44","v":{"$error":"#N/A"}},{"$f":"'Summary CH4'!K44","v":{"$error":"#N/A"}},{"$f":"'Summary CH4'!L44","v":{"$error":"#N/A"}},{"$f":"'Summary CH4'!M44","v":{"$error":"#N/A"}},{"$f":"'Summary CH4'!N44","v":{"$error":"#N/A"}},{"$f":"'Summary CH4'!O44","v":{"$error":"#N/A"}},{"$f":"'Summary CH4'!P44","v":{"$error":"#N/A"}},{"$f":"'Summary CH4'!Q44","v":{"$error":"#N/A"}},{"$f":"'Summary CH4'!R44","v":{"$error":"#N/A"}},{"$f":"'Summary CH4'!S44","v":{"$error":"#N/A"}},{"$f":"'Summary CH4'!T44","v":{"$error":"#N/A"}},{"$f":"'Summary CH4'!U44","v":{"$error":"#N/A"}},{"$f":"'Summary CH4'!V44","v":{"$error":"#N/A"}},{"$f":"'Summary CH4'!W44","v":{"$error":"#N/A"}},{"$f":"'Summary CH4'!X44","v":{"$error":"#N/A"}},{"$f":"'Summary CH4'!Y44","v":{"$error":"#N/A"}},{"$f":"'Summary CH4'!Z44","v":{"$error":"#N/A"}},{"$f":"'Summary CH4'!AA44","v":{"$error":"#N/A"}},{"$f":"'Summary CH4'!AB44","v":{"$error":"#N/A"}},{"$f":"'Summary CH4'!AC44","v":{"$error":"#N/A"}},{"$f":"'Summary CH4'!AD44","v":{"$error":"#N/A"}},{"$f":"'Summary CH4'!AE44","v":{"$error":"#N/A"}},{"$f":"'Summary CH4'!AF44","v":{"$error":"#N/A"}},{"$f":"'Summary CH4'!AG44","v":{"$error":"#N/A"}}]
[null,"Industrial",{"$f":"SUM(C29:C30)","v":{"$error":"#N/A"}},{"$error":"#N/A"},{"$error":"#N/A"},{"$error":"#N/A"},{"$error":"#N/A"},{"$error":"#N/A"},{"$error":"#N/A"},{"$error":"#N/A"},{"$error":"#N/A"},{"$error":"#N/A"},{"$f":"SUM(M29:M30)","v":{"$error":"#N/A"}},{"$error":"#N/A"},{"$error":"#N/A"},{"$error":"#N/A"},{"$error":"#N/A"},{"$error":"#N/A"},{"$f":"SUM(S29:S30)","v":{"$error":"#N/A"}},{"$error":"#N/A"},{"$error":"#N/A"},{"$error":"#N/A"},{"$error":"#N/A"},{"$error":"#N/A"},{"$error":"#N/A"},{"$error":"#N/A"},{"$error":"#N/A"},{"$error":"#N/A"},{"$error":"#N/A"},{"$error":"#N/A"},{"$error":"#N/A"},{"$error":"#N/A"},{"$error":"#N/A"}]
[null,"N2O",{"$f":"'Summary N2O'!C$52","v":{"$error":"#N/A"}},{"$f":"'Summary N2O'!D$52","v":{"$error":"#N/A"}},{"$f":"'Summary N2O'!E$52","v":{"$error":"#N/A"}},{"$f":"'Summary N2O'!F$52","v":{"$error":"#N/A"}},{"$f":"'Summary N2O'!G$52","v":{"$error":"#N/A"}},{"$f":"'Summary N2O'!H$52","v":{"$error":"#N/A"}},{"$f":"'Summary N2O'!I$52","v":{"$error":"#N/A"}},{"$f":"'Summary N2O'!J$52","v":{"$error":"#N/A"}},{"$f":"'Summary N2O'!K$52","v":{"$error":"#N/A"}},{"$f":"'Summary N2O'!L$52","v":{"$error":"#N/A"}},{"$f":"'Summary N2O'!M$52","v":{"$error":"#N/A"}},{"$f":"'Summary N2O'!N$52","v":{"$error":"#N/A"}},{"$f":"'Summary N2O'!O$52","v":{"$error":"#N/A"}},{"$f":"'Summary N2O'!P$52","v":{"$error":"#N/A"}},{"$f":"'Summary N2O'!Q$52","v":{"$error":"#N/A"}},{"$f":"'Summary N2O'!R$52","v":{"$error":"#N/A"}},{"$f":"'Summary N2O'!S$52","v":{"$error":"#N/A"}},{"$f":"'Summary N2O'!T$52","v":{"$error":"#N/A"}},{"$f":"'Summary N2O'!U$52","v":{"$error":"#N/A"}},{"$f":"'Summary N2O'!V$52","v":{"$error":"#N/A"}},{"$f":"'Summary N2O'!W$52","v":{"$error":"#N/A"}},{"$f":"'Summary N2O'!X$52","v":{"$error":"#N/A"}},{"$f":"'Summary N2O'!Y$52","v":{"$error":"#N/A"}},{"$f":"'Summary N2O'!Z$52","v":{"$error":"#N/A"}},{"$f":"'Summary N2O'!AA$52","v":{"$error":"#N/A"}},{"$f":"'Summary N2O'!AB$52","v":{"$error":"#N/A"}},{"$f":"'Summary N2O'!AC$52","v":{"$error":"#N/A"}},{"$f":"'Summary N2O'!AD$52","v":{"$error":"#N/A"}},{"$f":"'Summary N2O'!AE$52","v":{"$error":"#N/A"}},{"$f":"'Summary N2O'!AF$52","v":{"$error":"#N/A"}},{"$f":"'Summary N2O'!AG$52","v":{"$error":"#N/A"}}]
[null,"CH4",{"$f":"'Summary CH4'!C50","v":{"$error":"#N/A"}},{"$f":"'Summary CH4'!D50","v":{"$error":"#N/A"}},{"$f":"'Summary CH4'!E50","v":{"$error":"#N/A"}},{"$f":"'Summary CH4'!F50","v":{"$error":"#N/A"}},{"$f":"'Summary CH4'!G50","v":{"$error":"#N/A"}},{"$f":"'Summary CH4'!H50","v":{"$error":"#N/A"}},{"$f":"'Summary CH4'!I50","v":{"$error":"#N/A"}},{"$f":"'Summary CH4'!J50","v":{"$error":"#N/A"}},{"$f":"'Summary CH4'!K50","v":{"$error":"#N/A"}},{"$f":"'Summary CH4'!L50","v":{"$error":"#N/A"}},{"$f":"'Summary CH4'!M50","v":{"$error":"#N/A"}},{"$f":"'Summary CH4'!N50","v":{"$error":"#N/A"}},{"$f":"'Summary CH4'!O50","v":{"$error":"#N/A"}},{"$f":"'Summary CH4'!P50","v":{"$error":"#N/A"}},{"$f":"'Summary CH4'!Q50","v":{"$error":"#N/A"}},{"$f":"'Summary CH4'!R50","v":{"$error":"#N/A"}},{"$f":"'Summary CH4'!S50","v":{"$error":"#N/A"}},{"$f":"'Summary CH4'!T50","v":{"$error":"#N/A"}},{"$f":"'Summary CH4'!U50","v":{"$error":"#N/A"}},{"$f":"'Summary CH4'!V50","v":{"$error":"#N/A"}},{"$f":"'Summary CH4'!W50","v":{"$error":"#N/A"}},{"$f":"'Summary CH4'!X50","v":{"$error":"#N/A"}},{"$f":"'Summary CH4'!Y50","v":{"$error":"#N/A"}},{"$f":"'Summary CH4'!Z50","v":{"$error":"#N/A"}},{"$f":"'Summary CH4'!AA50","v":{"$error":"#N/A"}},{"$f":"'Summary CH4'!AB50","v":{"$error":"#N/A"}},{"$f":"'Summary CH4'!AC50","v":{"$error":"#N/A"}},{"$f":"'Summary CH4'!AD50","v":{"$error":"#N/A"}},{"$f":"'Summary CH4'!AE50","v":{"$error":"#N/A"}},{"$f":"'Summary CH4'!AF50","v":{"$error":"#N/A"}},{"$f":"'Summary CH4'!AG50","v":{"$error":"#N/A"}}]
[null,"Electric Power",{"$f":"SUM(C32:C33)","v":{"$error":"#N/A"}},{"$error":"#N/A"},{"$error":"#N/A"},{"$error":"#N/A"},{"$error":"#N/A"},{"$error":"#N/A"},{"$error":"#N/A"},{"$error":"#N/A"},{"$error":"#N/A"},{"$error":"#N/A"},{"$f":"SUM(M32:M33)","v":{"$error":"#N/A"}},{"$error":"#N/A"},{"$error":"#N/A"},{"$error":"#N/A"},{"$error":"#N/A"},{"$error":"#N/A"},{"$f":"SUM(S32:S33)","v":{"$error":"#N/A"}},{"$error":"#N/A"},{"$error":"#N/A"},{"$error":"#N/A"},{"$error":"#N/A"},{"$error":"#N/A"},{"$error":"#N/A"},{"$error":"#N/A"},{"$error":"#N/A"},{"$error":"#N/A"},{"$error":"#N/A"},{"$error":"#N/A"},{"$error":"#N/A"},{"$error":"#N/A"},{"$error":"#N/A"}]
[null,"N2O",{"$f":"'Summary N2O'!C$58","v":{"$error":"#N/A"}},{"$f":"'Summary N2O'!D$58","v":{"$error":"#N/A"}},{"$f":"'Summary N2O'!E$58","v":{"$error":"#N/A"}},{"$f":"'Summary N2O'!F$58","v":{"$error":"#N/A"}},{"$f":"'Summary N2O'!G$58","v":{"$error":"#N/A"}},{"$f":"'Summary N2O'!H$58","v":{"$error":"#N/A"}},{"$f":"'Summary N2O'!I$58","v":{"$error":"#N/A"}},{"$f":"'Summary N2O'!J$58","v":{"$error":"#N/A"}},{"$f":"'Summary N2O'!K$58","v":{"$error":"#N/A"}},{"$f":"'Summary N2O'!L$58","v":{"$error":"#N/A"}},{"$f":"'Summary N2O'!M$58","v":{"$error":"#N/A"}},{"$f":"'Summary N2O'!N$58","v":{"$error":"#N/A"}},{"$f":"'Summary N2O'!O$58","v":{"$error":"#N/A"}},{"$f":"'Summary N2O'!P$58","v":{"$error":"#N/A"}},{"$f":"'Summary N2O'!Q$58","v":{"$error":"#N/A"}},{"$f":"'Summary N2O'!R$58","v":{"$error":"#N/A"}},{"$f":"'Summary N2O'!S$58","v":{"$error":"#N/A"}},{"$f":"'Summary N2O'!T$58","v":{"$error":"#N/A"}},{"$f":"'Summary N2O'!U$58","v":{"$error":"#N/A"}},{"$f":"'Summary N2O'!V$58","v":{"$error":"#N/A"}},{"$f":"'Summary N2O'!W$58","v":{"$error":"#N/A"}},{"$f":"'Summary N2O'!X$58","v":{"$error":"#N/A"}},{"$f":"'Summary N2O'!Y$58","v":{"$error":"#N/A"}},{"$f":"'Summary N2O'!Z$58","v":{"$error":"#N/A"}},{"$f":"'Summary N2O'!AA$58","v":{"$error":"#N/A"}},{"$f":"'Summary N2O'!AB$58","v":{"$error":"#N/A"}},{"$f":"'Summary N2O'!AC$58","v":{"$error":"#N/A"}},{"$f":"'Summary N2O'!AD$58","v":{"$error":"#N/A"}},{"$f":"'Summary N2O'!AE$58","v":{"$error":"#N/A"}},{"$f":"'Summary N2O'!AF$58","v":{"$error":"#N/A"}},{"$f":"'Summary N2O'!AG$58","v":{"$error":"#N/A"}}]
[null,"CH4",{"$f":"'Summary CH4'!C56","v":{"$error":"#N/A"}},{"$f":"'Summary CH4'!D56","v":{"$error":"#N/A"}},{"$f":"'Summary CH4'!E56","v":{"$error":"#N/A"}},{"$f":"'Summary CH4'!F56","v":{"$error":"#N/A"}},{"$f":"'Summary CH4'!G56","v":{"$error":"#N/A"}},{"$f":"'Summary CH4'!H56","v":{"$error":"#N/A"}},{"$f":"'Summary CH4'!I56","v":{"$error":"#N/A"}},{"$f":"'Summary CH4'!J56","v":{"$error":"#N/A"}},{"$f":"'Summary CH4'!K56","v":{"$error":"#N/A"}},{"$f":"'Summary CH4'!L56","v":{"$error":"#N/A"}},{"$f":"'Summary CH4'!M56","v":{"$error":"#N/A"}},{"$f":"'Summary CH4'!N56","v":{"$error":"#N/A"}},{"$f":"'Summary CH4'!O56","v":{"$error":"#N/A"}},{"$f":"'Summary CH4'!P56","v":{"$error":"#N/A"}},{"$f":"'Summary CH4'!Q56","v":{"$error":"#N/A"}},{"$f":"'Summary CH4'!R56","v":{"$error":"#N/A"}},{"$f":"'Summary CH4'!S56","v":{"$error":"#N/A"}},{"$f":"'Summary CH4'!T56","v":{"$error":"#N/A"}},{"$f":"'Summary CH4'!U56","v":{"$error":"#N/A"}},{"$f":"'Summary CH4'!V56","v":{"$error":"#N/A"}},{"$f":"'Summary CH4'!W56","v":{"$error":"#N/A"}},{"$f":"'Summary CH4'!X56","v":{"$error":"#N/A"}},{"$f":"'Summary CH4'!Y56","v":{"$error":"#N/A"}},{"$f":"'Summary CH4'!Z56","v":{"$error":"#N/A"}},{"$f":"'Summary CH4'!AA56","v":{"$error":"#N/A"}},{"$f":"'Summary CH4'!AB56","v":{"$error":"#N/A"}},{"$f":"'Summary CH4'!AC56","v":{"$error":"#N/A"}},{"$f":"'Summary CH4'!AD56","v":{"$error":"#N/A"}},{"$f":"'Summary CH4'!AE56","v":{"$error":"#N/A"}},{"$f":"'Summary CH4'!AF56","v":{"$error":"#N/A"}},{"$f":"'Summary CH4'!AG56","v":{"$error":"#N/A"}}]
[null,"TOTAL",{"$f":"SUM(C22,C25,C28,C31)","v":{"$error":"#N/A"}},{"$f":"SUM(D22,D25,D28,D31)","v":{"$error":"#N/A"}},{"$error":"#N/A"},{"$error":"#N/A"},{"$error":"#N/A"},{"$error":"#N/A"},{"$error":"#N/A"},{"$error":"#N/A"},{"$error":"#N/A"},{"$error":"#N/A"},{"$f":"SUM(M22,M25,M28,M31)","v":{"$error":"#N/A"}},{"$error":"#N/A"},{"$error":"#N/A"},{"$error":"#N/A"},{"$error":"#N/A"},{"$error":"#N/A"},{"$f":"SUM(S22,S25,S28,S31)","v":{"$error":"#N/A"}},{"$error":"#N/A"},{"$error":"#N/A"},{"$error":"#N/A"},{"$error":"#N/A"},{"$error":"#N/A"},{"$error":"#N/A"},{"$error":"#N/A"},{"$error":"#N/A"},{"$error":"#N/A"},{"$error":"#N/A"},{"$error":"#N/A"},{"$error":"#N/A"},{"$error":"#N/A"},{"$error":"#N/A"}]
[]
[]
[]
[null,null,null,"   Total Non-CO2 Emissions by Sector for",null,null,null,null,null,{"$f":"Constants!G2","v":"Select a State . . ."}]

{"sheet":"Tracker","index":13,"n_rows":13,"n_cols":7,"rows_kept":13,"cut":false,"hidden":true,"merged":[]}
["Sector","Sum","Not included?","Text of missing sector","\"and\"?","Punctuation","Text used"]
["Residential",{"$f":"SUM('Total Summary'!C22:R22)","v":{"$error":"#N/A"}},{"$f":"IF(ISERROR(B2),TRUE,IF(B2=0,TRUE,FALSE))","v":true},{"$f":"IF(C2=TRUE,\" \"&A2,\"\")","v":" Residential"},{"$f":"IF(AND($C$9=A2,$C$8>1),\" and\",\"\")","v":""},{"$f":"IF(C2=TRUE,IF($C$9=A2,\".\",\",\"),\"\")","v":","},{"$f":"E2&D2&F2","v":" Residential,"}]
["Commercial",{"$f":"SUM('Total Summary'!C25:R25)","v":{"$error":"#N/A"}},{"$f":"IF(ISERROR(B3),TRUE,IF(B3=0,TRUE,FALSE))","v":true},{"$f":"IF(C3=TRUE,\" \"&A3,\"\")","v":" Commercial"},{"$f":"IF(AND($C$9=A3,$C$8>1),\" and\",\"\")","v":""},{"$f":"IF(C3=TRUE,IF($C$9=A3,\".\",\",\"),\"\")","v":","},{"$f":"E3&D3&F3","v":" Commercial,"}]
["Industrial",{"$f":"SUM('Total Summary'!C28:R28)","v":{"$error":"#N/A"}},{"$f":"IF(ISERROR(B4),TRUE,IF(B4=0,TRUE,FALSE))","v":true},{"$f":"IF(C4=TRUE,\" \"&A4,\"\")","v":" Industrial"},{"$f":"IF(AND($C$9=A4,$C$8>1),\" and\",\"\")","v":""},{"$f":"IF(C4=TRUE,IF($C$9=A4,\".\",\",\"),\"\")","v":","},{"$f":"E4&D4&F4","v":" Industrial,"}]
["Electric Power",{"$f":"SUM('Total Summary'!C31:R31)","v":{"$error":"#N/A"}},{"$f":"IF(ISERROR(B5),TRUE,IF(B5=0,TRUE,FALSE))","v":true},{"$f":"IF(C5=TRUE,\" \"&A5,\"\")","v":" Electric Power"},{"$f":"IF(AND($C$9=A5,$C$8>1),\" and\",\"\")","v":" and"},{"$f":"IF(C5=TRUE,IF($C$9=A5,\".\",\",\"),\"\")","v":"."},{"$f":"E5&D5&F5","v":" and Electric Power."}]
[]
[]
[null,"Count",{"$f":"COUNTIF(C2:C7,TRUE)","v":4}]
[null,"Last",{"$f":"IF(C7=TRUE,A7,IF(C6=TRUE,A6,IF(C5=TRUE,A5,IF(C4=TRUE,A4,IF(C3=TRUE,A3,IF(C2=TRUE,A2,))))))","v":"Electric Power"}]
[]
["Part A",{"$f":"IF(C8>1,\"Emissions were not calculated for the following sectors:\",\"Emissions were not calculated for the following sector:\")","v":"Emissions were not calculated for the following sectors:"}]
["Part B",{"$f":"G2&G3&G4&G5&G6&G7","v":" Residential, Commercial, Industrial, and Electric Power."}]
["Final",{"$f":"IF(C8=0,0,B11&B12)","v":"Emissions were not calculated for the following sectors: Residential, Commercial, Industrial, and Electric Power."}]

{"sheet":"Uncertainty","index":14,"n_rows":3,"n_cols":2,"rows_kept":3,"cut":false,"hidden":false,"merged":[[1,0,1,6]]}
[]
["Uncertainty Associated With Stationary Combustion Emissions Estimates"]
[null,"Excerpted from EIIP Guidance, Chapter 2."]

{"sheet":"Constants","index":15,"n_rows":55,"n_cols":8,"rows_kept":55,"cut":false,"hidden":false,"merged":[]}
["Constants"]
[null,null,null,null,null,null,"Select a State . . .",{"$f":"VLOOKUP(G2,Constants!G4:H55,2,FALSE)","v":"xx"}]
["Heating Value Conversions"]
["Fuel","GCV-->NCV",null,null,null,null,"Select a State . . .","xx"]
["Coal, Petroleum",0.95,null,null,null,null,"Alabama","AL"]
["Natural Gas, Wood",0.9,null,null,null,null,"Alaska","AK"]
[null,null,null,null,null,null,"Arizona","AZ"]
["Conversion Factors",null,null,null,null,null,"Arkansas","AR"]
["Bbtu to Btu","Multiply by",{"$f":"10^9","v":1000000000},null,null,null,"California","CA"]
["Btu to Joules","Multiply by",{"$f":"1055.05585262","v":1055.05585262},null,null,null,"Colorado","CO"]
["Joules to Giga-joules","Multiply by",{"$f":"1/10^9","v":1.0000000000000001E-9},null,null,null,"Connecticut","CT"]
["Grams to metric tons","Multiply by",{"$f":"10^-6","v":9.9999999999999995E-7},null,null,null,"District of Columbia","DC"]
["CO2 to C","Multiply by",{"$f":"12/44","v":0.27272727272727271},null,null,null,"Delaware","DE"]
[null,null,null,null,null,null,"Florida","FL"]
["Global Warming Potentials",null,null,null,null,null,"Georgia","GA"]
["Nitrous oxide",298,null,null,null,null,"Hawaii","HI"]
["Methane",25,null,null,null,null,"Idaho","ID"]
[null,null,null,null,null,null,"Illinois","IL"]
[null,null,null,null,null,null,"Indiana","IN"]
[null,null,null,null,null,null,"Iowa","IA"]
[null,null,null,null,null,null,"Kansas","KS"]
[null,null,null,null,null,null,"Kentucky","KY"]
["VersionNumber",0,null,null,null,null,"Louisiana","LA"]
["VersionDate","2020-10-06",null,null,null,null,"Maine","ME"]
[null,null,null,null,null,null,"Massachusetts","MA"]
[null,null,null,null,null,null,"Maryland","MD"]
[null,null,null,null,null,null,"Michigan","MI"]
[null,null,null,null,null,null,"Minnesota","MN"]
[null,null,null,null,null,null,"Mississippi","MS"]
[null,null,null,null,null,null,"Missouri","MO"]
[null,null,null,null,null,null,"Montana","MT"]
[null,null,null,null,null,null,"Nebraska","NE"]
[null,null,null,null,null,null,"Nevada","NV"]
[null,null,null,null,null,null,"New Hampshire","NH"]
[null,null,null,null,null,null,"New Jersey","NJ"]
[null,null,null,null,null,null,"New Mexico","NM"]
[null,null,null,null,null,null,"New York","NY"]
[null,null,null,null,null,null,"North Carolina","NC"]
[null,null,null,null,null,null,"North Dakota","ND"]
[null,null,null,null,null,null,"Ohio","OH"]
[null,null,null,null,null,null,"Oklahoma","OK"]
[null,null,null,null,null,null,"Oregon","OR"]
[null,null,null,null,null,null,"Pennsylvania","PA"]
[null,null,null,null,null,null,"Rhode Island","RI"]
[null,null,null,null,null,null,"South Carolina","SC"]
[null,null,null,null,null,null,"South Dakota","SD"]
[null,null,null,null,null,null,"Tennessee","TN"]
[null,null,null,null,null,null,"Texas","TX"]
[null,null,null,null,null,null,"Utah","UT"]
[null,null,null,null,null,null,"Virginia","VA"]
[null,null,null,null,null,null,"Vermont","VT"]
[null,null,null,null,null,null,"Washington","WA"]
[null,null,null,null,null,null,"Wisconsin","WI"]
[null,null,null,null,null,null,"West Virginia","WV"]
[null,null,null,null,null,null,"Wyoming","WY"]

{"sheet":"FF Consumption","index":16,"n_rows":3278,"n_cols":36,"rows_kept":2250,"cut":true,"hidden":false,"merged":[[0,0,0,4]],"bounds":{"rows_first":1000,"rows_last":250,"rows_between":1000,"halvings":1}}
["Fossil Fuel Consumption Data (Bbtu)\nSource: State Energy Data 2018 Consumption Estimates. Energy Information Administration. Available online at: http://www.eia.gov/state/seds/seds-data-fuel-prev.cfm",null,null,null,null,2,3,4,5,6,7,8,9,10,11,12,13,14,15,16,17,18,19,20,21,22,23,24,25,26,27,28,29,30]
["State","Code","Fuel Code","Sector Code","Sector and Fuel",1990,1991,1992,1993,1994,1995,1996,1997,1998,1999,2000,2001,2002,2003,2004,2005,2006,2007,2008,2009,2010,2011,2012,2013,2014,2015,2016,2017,2018,2019,2020]
["AK","ABICB",{"$f":"MID(B3,1,2)","v":"AB"},{"$f":"MID(B3,3,2)","v":"IC"},{"$f":"A3&\" \"&VLOOKUP(D3,SectorCode,2,FALSE)&\" \"&VLOOKUP(C3,FuelCode,2,FALSE)","v":"AK Industrial Aviation Gasoline Blending Components"},4,-1,3,3,107,93,130,165,87,141,84,134,164,165,233,189,14,39,2,-14,-4,0,0,-5,-2,-3,-3,-2,-14]
["AL","ABICB","AB","IC","AL Industrial Aviation Gasoline Blending Components",2,-1,1,1,49,42,57,76,32,51,30,42,59,58,71,69,4,13,1,-6,-2,0,0,-3,-1,-3,-2,-1,-12]
["AR","ABICB","AB","IC","AR Industrial Aviation Gasoline Blending Components",1,0,1,1,26,22,30,38,16,24,14,24,32,31,48,39,3,8,0,-4,-1,0,0,-2,-1,-2,-1,-1,-8]
["AZ","ABICB","AB","IC","AZ Industrial Aviation Gasoline Blending Components",0,0,0,0,0,0,0,0,0,0,0,0,0,0,0,0,0,0,0,0,0,0,0,0,0,0,0,0,0]
["CA","ABICB","AB","IC","CA Industrial Aviation Gasoline Blending Components",33,-10,20,19,769,642,848,1092,475,747,449,739,907,885,1251,1016,76,208,11,-87,-27,1,0,-40,-15,-36,-30,-20,-159]
["CO","ABICB","AB","IC","CO Industrial Aviation Gasoline Blending Components",1,0,1,1,35,30,39,50,21,33,20,33,40,39,54,48,4,10,1,-5,-1,0,0,-2,-1,-2,-2,-1,-9]
["CT","ABICB","AB","IC","CT Industrial Aviation Gasoline Blending Components",0,0,0,0,0,0,0,0,0,0,0,0,0,0,0,0,0,0,0,0,0,0,0,0,0,0,0,0,0]
["DC","ABICB","AB","IC","DC Industrial Aviation Gasoline Blending Components",0,0,0,0,0,0,0,0,0,0,0,0,0,0,0,0,0,0,0,0,0,0,0,0,0,0,0,0,0]
["DE","ABICB","AB","IC","DE Industrial Aviation Gasoline Blending Components",2,-1,1,1,57,49,64,82,39,62,38,65,80,78,109,92,7,19,1,0,0,0,0,-4,-1,-3,-3,-2,-15]
["FL","ABICB","AB","IC","FL Industrial Aviation Gasoline Blending Components",0,0,0,0,0,0,0,0,0,0,0,0,0,0,0,0,0,0,0,0,0,0,0,0,0,0,0,0,0]
["GA","ABICB","AB","IC","GA Industrial Aviation Gasoline Blending Components",0,0,0,0,2,2,3,3,1,8,1,2,2,2,0,0,0,0,0,0,0,0,0,0,0,0,0,0,0]
["HI","ABICB","AB","IC","HI Industrial Aviation Gasoline Blending Components",2,-1,2,1,60,52,68,86,37,58,34,55,67,66,92,75,6,15,1,-7,-2,0,0,-3,-1,-3,-2,-2,-12]
["IA","ABICB","AB","IC","IA Industrial Aviation Gasoline Blending Components",0,0,0,0,0,0,0,0,0,0,0,0,0,0,0,0,0,0,0,0,0,0,0,0,0,0,0,0,0]
["ID","ABICB","AB","IC","ID Industrial Aviation Gasoline Blending Components",0,0,0,0,0,0,0,0,0,0,0,0,0,0,0,0,0,0,0,0,0,0,0,0,0,0,0,0,0]
["IL","ABICB","AB","IC","IL Industrial Aviation Gasoline Blending Components",15,-5,10,10,405,334,434,570,256,404,238,291,400,391,559,458,34,95,5,-43,-13,1,0,-20,-7,-18,-15,-10,-83]
["IN","ABICB","AB","IC","IN Industrial Aviation Gasoline Blending Components",7,-2,5,4,176,146,198,252,108,170,101,162,197,193,270,219,16,45,2,-20,-6,0,0,-9,-3,-8,-7,-5,-38]
["KS","ABICB","AB","IC","KS Industrial Aviation Gasoline Blending Components",6,-2,3,3,119,103,130,166,71,115,69,112,135,132,185,152,11,32,2,-16,-5,0,0,-7,-3,-7,-6,-4,-33]
["KY","ABICB","AB","IC","KY Industrial Aviation Gasoline Blending Components",3,-1,2,2,89,77,103,131,57,89,53,85,104,101,142,115,8,23,1,-10,-3,0,0,-5,-2,-5,-4,-3,-23]
["LA","ABICB","AB","IC","LA Industrial Aviation Gasoline Blending Components",36,-12,25,23,953,843,1114,1419,648,1050,625,993,1240,1227,1731,1284,112,305,16,-142,-45,2,-1,-70,-26,-64,-53,-34,-276]
["MA","ABICB","AB","IC","MA Industrial Aviation Gasoline Blending Components",0,0,0,0,0,0,0,0,0,0,0,0,0,0,0,0,0,0,0,0,0,0,0,0,0,0,0,0,0]
["MD","ABICB","AB","IC","MD Industrial Aviation Gasoline Blending Components",0,0,0,0,0,0,0,0,0,0,0,0,0,0,0,0,0,0,0,0,0,0,0,0,0,0,0,0,0]
["ME","ABICB","AB","IC","ME Industrial Aviation Gasoline Blending Components",0,0,0,0,0,0,0,0,0,0,0,0,0,0,0,0,0,0,0,0,0,0,0,0,0,0,0,0,0]
["MI","ABICB","AB","IC","MI Industrial Aviation Gasoline Blending Components",2,-1,1,1,47,42,55,71,31,29,17,28,34,33,46,51,4,11,1,-5,-2,0,0,-3,-1,-3,-2,-1,-12]
["MN","ABICB","AB","IC","MN Industrial Aviation Gasoline Blending Components",4,-1,3,3,120,104,146,186,82,129,78,125,153,149,209,177,13,37,2,-17,-5,0,0,-8,-3,-7,-6,-4,-35]
["MO","ABICB","AB","IC","MO Industrial Aviation Gasoline Blending Components",0,0,0,0,0,0,0,0,0,0,0,0,0,0,0,0,0,0,0,0,0,0,0,0,0,0,0,0,0]
["MS","ABICB","AB","IC","MS Industrial Aviation Gasoline Blending Components",6,-2,4,4,135,117,153,195,84,132,78,125,166,163,228,185,14,38,2,-17,-5,0,0,-8,-3,-7,-6,-4,-33]
["MT","ABICB","AB","IC","MT Industrial Aviation Gasoline Blending Components",2,-1,1,1,57,50,67,86,38,64,39,67,82,81,113,92,7,19,1,-9,-3,0,0,-4,-1,-4,-3,-2,-17]
["NC","ABICB","AB","IC","NC Industrial Aviation Gasoline Blending Components",0,0,0,0,0,0,0,0,0,0,0,0,0,0,0,0,0,0,0,0,0,0,0,0,0,0,0,0,0]
["ND","ABICB","AB","IC","ND Industrial Aviation Gasoline Blending Components",1,0,1,1,23,20,27,34,14,23,14,22,26,26,36,29,2,6,0,-3,-1,0,0,-1,-1,-2,-1,-1,-7]
["NE","ABICB","AB","IC","NE Industrial Aviation Gasoline Blending Components",0,0,0,0,0,0,0,0,0,0,0,0,0,0,0,0,0,0,0,0,0,0,0,0,0,0,0,0,0]
["NH","ABICB","AB","IC","NH Industrial Aviation Gasoline Blending Components",0,0,0,0,0,0,0,0,0,0,0,0,0,0,0,0,0,0,0,0,0,0,0,0,0,0,0,0,0]
["NJ","ABICB","AB","IC","NJ Industrial Aviation Gasoline Blending Components",5,-2,4,4,205,170,259,330,135,231,128,209,252,288,384,332,23,64,3,-19,-6,0,0,-10,-4,-9,-8,-4,-35]
["NM","ABICB","AB","IC","NM Industrial Aviation Gasoline Blending Components",1,-1,1,1,38,33,43,55,24,37,22,36,44,43,70,57,5,13,1,-6,-2,0,0,-3,-1,-2,-2,-1,-11]
["NV","ABICB","AB","IC","NV Industrial Aviation Gasoline Blending Components",0,0,0,0,3,2,3,4,2,2,1,2,2,1,1,1,0,0,0,0,0,0,0,0,0,0,0,0,0]
["NY","ABICB","AB","IC","NY Industrial Aviation Gasoline Blending Components",1,0,0,0,0,0,0,0,0,0,0,0,0,0,0,0,0,0,0,0,0,0,0,0,0,0,0,0,0]
["OH","ABICB","AB","IC","OH Industrial Aviation Gasoline Blending Components",7,-2,5,5,197,171,233,296,130,206,123,196,242,238,344,259,19,53,3,-24,-8,0,0,-11,-4,-11,-9,-6,-50]
["OK","ABICB","AB","IC","OK Industrial Aviation Gasoline Blending Components",6,-2,4,4,162,144,187,243,109,178,110,180,215,212,303,247,19,54,3,-24,-7,0,0,-11,-4,-10,-8,-5,-43]
["OR","ABICB","AB","IC","OR Industrial Aviation Gasoline Blending Components",0,0,0,0,0,0,0,0,0,0,0,0,0,0,0,0,0,0,0,0,0,0,0,0,0,0,0,0,0]
["PA","ABICB","AB","IC","PA Industrial Aviation Gasoline Blending Components",12,-4,8,7,271,262,264,440,191,303,178,284,347,339,481,390,29,80,4,-36,-11,0,0,-13,-5,-12,-9,-6,-50]
["RI","ABICB","AB","IC","RI Industrial Aviation Gasoline Blending Components",0,0,0,0,0,0,0,0,0,0,0,0,0,0,0,0,0,0,0,0,0,0,0,0,0,0,0,0,0]
["SC","ABICB","AB","IC","SC Industrial Aviation Gasoline Blending Components",0,0,0,0,0,0,0,0,0,0,0,0,0,0,0,0,0,0,0,0,0,0,0,0,0,0,0,0,0]
["SD","ABICB","AB","IC","SD Industrial Aviation Gasoline Blending Components",0,0,0,0,0,0,0,0,0,0,0,0,0,0,0,0,0,0,0,0,0,0,0,0,0,0,0,0,0]
["TN","ABICB","AB","IC","TN Industrial Aviation Gasoline Blending Components",1,0,1,1,36,31,48,61,35,63,40,67,82,80,112,91,7,19,1,-8,-3,0,0,-4,-1,-4,-3,-2,-15]
["TX","ABICB","AB","IC","TX Industrial Aviation Gasoline Blending Components",61,-21,40,37,1582,1373,1805,2363,1036,1665,997,1614,1974,1992,2889,2150,164,466,26,-220,-67,3,-1,-110,-41,-104,-89,-59,-478]
["US","ABICB","AB","IC","US Industrial Aviation Gasoline Blending Components",237,-81,156,146,6098,5290,6951,9056,4003,6396,3816,6073,7516,7471,10616,8324,641,1782,96,-793,-242,10,-5,-379,-141,-348,-293,-192,-1555]
["UT","ABICB","AB","IC","UT Industrial Aviation Gasoline Blending Components",2,-1,2,2,61,53,73,92,39,60,36,59,74,72,104,85,6,17,1,-7,-2,0,0,-4,-1,-3,-3,-2,-17]
["VA","ABICB","AB","IC","VA Industrial Aviation Gasoline Blending Components",1,0,1,1,21,20,26,33,15,23,14,22,27,26,37,0,2,7,0,-3,0,0,0,0,0,0,0,0,0]
["VT","ABICB","AB","IC","VT Industrial Aviation Gasoline Blending Components",0,0,0,0,0,0,0,0,0,0,0,0,0,0,0,0,0,0,0,0,0,0,0,0,0,0,0,0,0]
["WA","ABICB","AB","IC","WA Industrial Aviation Gasoline Blending Components",8,-3,6,5,224,199,262,333,145,232,140,225,277,269,385,316,24,65,3,-30,-9,0,0,-13,-5,-12,-10,-7,-54]
["WI","ABICB","AB","IC","WI Industrial Aviation Gasoline Blending Components",1,0,0,0,13,12,16,21,8,13,8,12,15,15,21,17,1,4,0,-2,0,0,0,-1,0,-1,-1,0,-1]
["WV","ABICB","AB","IC","WV Industrial Aviation Gasoline Blending Components",0,0,0,0,5,4,5,7,3,5,4,7,9,9,12,10,1,2,0,-1,0,0,0,0,0,0,0,0,-2]
["WY","ABICB","AB","IC","WY Industrial Aviation Gasoline Blending Components",3,-1,1,1,52,46,59,76,33,52,33,53,67,68,95,78,6,16,1,-8,-2,0,0,-4,-1,-3,-3,-2,-14]
["AK","ARICB","AR","IC","AK Industrial Asphalt and Road Oil",1782,1718,1750,282,439,548,175,367,431,867,2059,10232,2404,395,1778,1231,329,924,547,10198,12644,14931,14343,12763,12335,12450,12365,13561,4804]
["AL","ARICB","AR","IC","AL Industrial Asphalt and Road Oil",28677,35075,32802,33071,33572,33141,37851,36277,29565,30506,34036,28769,30127,30814,44625,46502,42896,35061,35132,17692,17634,18178,17721,16970,16483,16010,16365,14901,12965]
["AR","ARICB","AR","IC","AR Industrial Asphalt and Road Oil",3288,3540,7793,9642,7072,8266,6470,6716,5702,6787,6747,5893,17304,12009,5868,3153,8852,8188,2318,7984,10974,14494,10746,10293,12504,7719,14355,14901,12446]
["AZ","ARICB","AR","IC","AZ Industrial Asphalt and Road Oil",15705,14472,19801,15447,17083,20823,16324,17945,26355,25312,22752,17039,23431,23017,31934,30780,27373,27034,23059,19000,20002,20563,18436,16386,16284,17082,18776,16588,17373]
["CA","ARICB","AR","IC","CA Industrial Asphalt and Road Oil",98621,94570,89971,82504,81208,81036,82280,76391,103334,135150,135104,125555,118493,90544,91630,87110,80492,99922,82941,52437,33127,60093,53841,60091,57377,61494,61153,59885,60415]
["CO","ARICB","AR","IC","CO Industrial Asphalt and Road Oil",21614,20620,21172,22647,27794,24689,25906,17078,31518,14179,25681,17030,8093,32680,25650,17548,17518,21964,13881,18220,25153,14259,13146,14188,15914,16581,16365,11527,16076]
["CT","ARICB","AR","IC","CT Industrial Asphalt and Road Oil",10521,13116,11137,10467,11125,12679,10430,8078,3666,4420,4456,4665,4490,11025,11619,13822,11060,6502,430,12290,12337,10870,8955,11061,10486,7246,10192,11246,10631]
["DC","ARICB","AR","IC","DC Industrial Asphalt and Road Oil",201,148,141,188,175,170,145,225,187,175,188,173,183,138,127,119,118,169,153,3988,4426,4034,4270,4342,4222,4035,3285,3428,3209]
["DE","ARICB","AR","IC","DE Industrial Asphalt and Road Oil",3560,941,518,741,1084,1166,1975,946,1112,1191,3409,4987,6881,4771,4316,4360,4257,3289,4411,1848,1542,4919,4501,2675,2815,3544,3370,3383,3035]
["FL","ARICB","AR","IC","FL Industrial Asphalt and Road Oil",45148,48510,46006,55359,48467,43998,39286,23340,25391,24364,26697,35533,37485,33275,44488,39224,50899,48821,43322,32481,29382,27344,25747,23091,25576,27416,29284,30083,30078]
["GA","ARICB","AR","IC","GA Industrial Asphalt and Road Oil",42459,34451,32496,35332,34848,36671,36020,32447,36477,49295,37447,39444,37339,35913,43956,42612,44366,44422,33034,30494,26982,21183,17445,14327,10231,11849,20958,31770,27485]
["HI","ARICB","AR","IC","HI Industrial Asphalt and Road Oil",2530,2543,2858,2946,2699,2907,2663,2630,2138,2340,4009,2271,710,732,799,1319,21,19,16,4545,5127,4659,2927,4781,4495,4232,2739,2530,2074]
["IA","ARICB",{"$f":"MID(B67,1,2)","v":"AR"},{"$f":"MID(B67,3,2)","v":"IC"},{"$f":"A67&\" \"&VLOOKUP(D67,SectorCode,2,FALSE)&\" \"&VLOOKUP(C67,FuelCode,2,FALSE)","v":"IA Industrial Asphalt and Road Oil"},10197,10374,9328,8986,13034,10857,13620,17407,14316,19524,16396,12780,15945,15280,20041,21202,17273,13787,13808,12181,8452,8186,10249,9681,8810,8862,9532,9840,8038]
["ID","ARICB","AR","IC","ID Industrial Asphalt and Road Oil",8503,6556,9723,10176,11933,13364,13499,13803,20234,20251,20446,12270,17560,4999,11539,11422,13453,10208,13315,8161,8182,7663,7138,6343,6423,9377,5972,5623,5445]
["IL","ARICB","AR","IC","IL Industrial Asphalt and Road Oil",55336,52538,61671,41876,51750,49484,60568,55408,65424,74869,60038,60547,65572,69874,63273,64201,55312,50473,63736,46174,41758,33835,26942,26986,28418,33734,31007,27272,23336]
["IN","ARICB","AR","IC","IN Industrial Asphalt and Road Oil",56749,46835,41207,63052,67811,47017,56593,61271,47692,49504,40132,36577,40065,43518,46661,43055,35517,31464,23388,21503,17749,20321,21974,18361,18472,21727,22394,25866,24633]
["KS","ARICB","AR","IC","KS Industrial Asphalt and Road Oil",25713,24695,24652,24120,31459,25953,23765,14032,17913,15648,16392,27588,24996,20416,23702,15257,15336,13055,9115,9963,16750,9272,10245,9459,8810,9434,8039,4498,5186]
["KY","ARICB","AR","IC","KY Industrial Asphalt and Road Oil",20119,18587,16836,16919,18863,18432,18012,22677,21227,27810,26369,22122,23161,25332,22073,25731,22719,23068,16916,18539,18817,18367,22963,16692,22166,15724,17226,9278,12705]
["LA","ARICB","AR","IC","LA Industrial Asphalt and Road Oil",11094,9938,11208,12341,11161,10962,11412,35096,11260,10087,9226,10300,11986,13016,7818,15428,17110,16910,16092,14377,14604,14101,12754,13632,13739,9220,6173,17150,15039]
["MA","ARICB","AR","IC","MA Industrial Asphalt and Road Oil",8883,13116,10402,9649,5882,8291,8426,6079,5562,6420,11900,12066,12510,9323,9608,8733,10432,6162,1461,14985,15282,15392,14392,13910,15346,14580,15216,15463,14261]
["MD","ARICB","AR","IC","MD Industrial Asphalt and Road Oil",33233,24573,23288,31086,28950,28109,23953,37285,31053,29030,31195,28631,30265,22929,21005,19765,19576,28066,25417,16941,15112,14193,14485,12519,15346,16581,15791,16869,12965]
["ME","ARICB","AR","IC","ME Industrial Asphalt and Road Oil",4282,6558,7062,7186,3187,3199,2517,3697,1971,2150,2222,3680,3082,3275,4868,2526,167,2224,199,4544,5171,4702,5733,4479,4746,5417,3704,3936,3353]
["MI","ARICB","AR","IC","MI Industrial Asphalt and Road Oil",26212,22989,23530,29553,23864,32883,24572,51610,43057,44258,38925,37351,35254,35591,40163,40216,34407,30291,22279,24435,22364,18528,18924,19474,21882,24586,27275,27834,26448]
["MN","ARICB","AR","IC","MN Industrial Asphalt and Road Oil",40077,33447,35459,31808,31490,42491,44291,44267,45679,51404,49238,43205,37116,41416,43995,49311,46143,45219,36152,30588,31472,29069,29629,29768,28134,30018,29571,15744,19447]
["MO","ARICB","AR","IC","MO Industrial Asphalt and Road Oil",29647,26953,25428,26909,37843,35142,35737,27481,25922,33027,27651,35861,31452,32066,39633,38083,34546,27136,19086,18291,12210,18702,14299,13910,13925,13151,13781,14058,13224]
["MS","ARICB","AR","IC","MS Industrial Asphalt and Road Oil",16652,16794,14406,12906,14005,16126,17305,20178,21387,21949,19148,12806,13282,19508,20922,22096,27695,28508,18757,11251,11761,14165,9250,9181,8241,10578,10967,10965,11409]
["MT","ARICB","AR","IC","MT Industrial Asphalt and Road Oil",9869,8955,8685,11327,13035,8580,11292,9606,10577,17422,14271,5992,6900,2117,6164,4842,9862,6217,5429,10204,10888,12937,12375,10210,10119,10186,9897,10732,9544]
["NC","ARICB","AR","IC","NC Industrial Asphalt and Road Oil",27920,25357,28206,30827,32012,42642,26848,27627,29344,30437,32674,34917,33682,34855,40140,37853,36033,37462,29779,21778,28065,24010,31518,25038,25292,23157,33304,37112,38116]
["ND","ARICB","AR","IC","ND Industrial Asphalt and Road Oil",5402,5163,9724,6070,8311,5250,6045,8237,9556,13916,7352,8832,7373,4410,6803,9066,12134,3763,3492,6263,6608,9957,6991,11462,11119,7075,4962,6748,6166]
["NE","ARICB","AR","IC","NE Industrial Asphalt and Road Oil",9213,9410,5960,5291,6841,6164,11755,9623,9288,12387,6217,5682,5331,8868,8636,8068,6985,5996,5378,7274,7570,6746,7560,6120,6167,6325,5803,6466,5704]
["NH","ARICB","AR","IC","NH Industrial Asphalt and Road Oil",7953,4372,5246,2125,2527,2425,4158,2731,1782,1909,2210,1546,2698,5915,5653,6927,4329,4975,6573,4622,4697,4385,4708,4284,4348,4203,3244,6466,3630]
["NJ","ARICB","AR","IC","NJ Industrial Asphalt and Road Oil",23794,20816,22419,55021,34640,40820,35658,54508,50570,71276,58486,66254,73064,39298,34286,33946,32828,44661,28999,25991,22448,21120,19433,20114,11652,20946,10336,23054,21781]
["NM","ARICB","AR","IC","NM Industrial Asphalt and Road Oil",9626,10117,12434,16179,14031,12337,10936,8180,13593,12625,11778,5250,13234,13126,13206,11943,12826,15602,11727,9282,9405,10541,10257,8710,8472,8145,7666,6748,8038]
["NV","ARICB","AR","IC","NV Industrial Asphalt and Road Oil",7189,7112,5581,7610,8350,9861,9505,2953,9211,5360,5274,6749,6359,12153,12686,14379,14013,8727,8865,8530,9777,11001,10561,9069,8668,8673,7407,8435,7845]
["NY","ARICB","AR","IC","NY Industrial Asphalt and Road Oil",36657,42305,45812,53538,49363,46933,41036,41988,43957,41634,39065,39279,34163,35799,50885,45592,42584,37379,36571,42072,42333,39789,35797,38670,40070,40310,40768,38799,36560]
["OH","ARICB","AR","IC","OH Industrial Asphalt and Road Oil",65564,59677,65763,50980,58709,59547,74711,95399,83864,93509,87401,78367,71433,65413,69465,66058,66732,57905,55191,32446,34093,31546,35349,29211,30408,36022,39620,30083,31634]
["OK","ARICB","AR","IC","OK Industrial Asphalt and Road Oil",23279,22779,19444,24696,23507,21110,18326,9462,17137,11410,13035,29164,25827,20418,27085,24967,21721,28245,16658,14734,15374,12362,16222,13409,10799,14523,12374,11527,10112]
["OR","ARICB","AR","IC","OR Industrial Asphalt and Road Oil",20083,17633,21881,22091,22711,18305,18219,19674,27782,24212,21534,14514,21450,21960,23886,24300,24327,18484,17346,11309,10601,10810,11054,9876,9918,10149,12058,12371,9853]
["PA","ARICB","AR","IC","PA Industrial Asphalt and Road Oil",49541,41093,40052,40391,50502,51814,49583,46200,52358,33153,48874,57696,45661,51908,58282,60964,58308,52365,46844,44282,46840,40761,38137,35053,42343,47228,46510,47515,43561]
["RI","ARICB","AR","IC","RI Industrial Asphalt and Road Oil",10843,3060,9968,5432,8335,6570,2237,1818,1869,2002,1348,1308,1188,2178,1172,2223,2031,0,8355,5376,6192,4591,5223,6712,6804,6414,5372,5558,5360]
["SC","ARICB","AR","IC","SC Industrial Asphalt and Road Oil",13158,12881,13717,15646,13228,17527,15976,24743,16830,14777,21443,16746,14890,16812,21211,21962,20771,17210,13569,15126,14535,13564,11186,11406,11055,12722,14355,16869,15039]
["SD","ARICB","AR","IC","SD Industrial Asphalt and Road Oil",5244,5098,5888,4270,4176,5447,7540,8986,8590,12470,11498,7024,6860,8802,7705,12015,11025,6917,7848,6996,8223,5149,7939,4738,4574,4690,3720,4815,4593]
["TN","ARICB","AR","IC","TN Industrial Asphalt and Road Oil",38473,35497,35043,32660,36150,36060,34312,32628,39341,39278,40261,38213,34245,34624,31823,44492,36596,30990,27868,18581,19347,22332,18203,17721,18074,17039,18776,19962,18928]
["TX","ARICB","AR","IC","TX Industrial Asphalt and Road Oil",92991,62183,78307,84504,72643,78263,79380,69739,74330,55993,52804,77777,87617,92344,86175,114068,104458,100465,71107,38051,44093,34084,38102,40617,43196,50030,59717,47796,37079]
["US","ARICB","AR","IC","US Industrial Asphalt and Road Oil",1170192,1076538,1102220,1149017,1172920,1178175,1175932,1223566,1262552,1324413,1275678,1256865,1239950,1219538,1303848,1323238,1261165,1197041,1011970,873085,877770,859488,826700,783347,792637,831663,853363,849182,792763]
["UT","ARICB","AR","IC","UT Industrial Asphalt and Road Oil",9145,19046,10833,11482,12073,14458,15668,13219,16273,15791,15231,9564,4101,16824,11121,9819,7364,5274,7119,7381,7841,8617,9246,7233,6820,7404,7752,8716,7519]
["VA","ARICB","AR","IC","VA Industrial Asphalt and Road Oil",31193,24781,24944,24535,26113,24147,23308,23056,25805,31653,25766,28214,22440,25271,28609,31994,28726,26359,18810,20832,24734,27957,25369,20309,20319,25444,24691,22773,20743]
["VT","ARICB","AR","IC","VT Industrial Asphalt and Road Oil",177,3497,2224,204,1529,1682,1927,5256,1077,1153,1100,1971,1161,620,3082,960,822,2152,262,3999,4993,4690,4632,5001,4710,4618,3853,4455,3817]
["WA","ARICB","AR","IC","WA Industrial Asphalt and Road Oil",16462,19691,20061,19516,23401,23611,24527,26862,27119,27233,32864,22743,24797,19096,21983,22822,22522,19419,19602,13621,14171,10216,10217,9737,10515,11550,12431,13495,11668]
["WI","ARICB","AR","IC","WI Industrial Asphalt and Road Oil",24451,22111,20607,21585,23363,27565,27381,34212,39897,41091,38376,39623,34950,44096,43784,41709,39024,35149,30787,26027,30057,31384,27461,28377,30098,26301,26987,28396,26707]
["WV","ARICB","AR","IC","WV Industrial Asphalt and Road Oil",4830,3503,3649,2832,4589,4244,6266,7679,8145,5058,5218,4793,8433,4752,4124,3958,5835,5837,10213,7596,7912,9666,8815,7233,6252,8577,10106,5904,7260]
["WY","ARICB","AR","IC","WY Industrial Asphalt and Road Oil",6334,6742,5125,5014,5983,4413,5542,6448,5685,8144,9733,7273,2906,6022,3792,3501,1443,2600,4611,7601,7957,9248,9291,7669,7666,7283,5799,6185,5427]
["AK","AVACB","AV","AC","AK Transportation Aviation Gasoline",2480,3118,2319,2070,865,1965,716,2053,770,2671,2632,1236,905,790,918,1399,1263,1250,1008,1095,854,801,776,701,658,1308,1240,1239,1264]
["AL","AVACB","AV","AC","AL Transportation Aviation Gasoline",585,552,537,522,556,488,470,522,414,513,417,415,273,376,390,388,593,587,306,229,375,352,336,256,284,313,314,317,341]
["AR","AVACB","AV","AC","AR Transportation Aviation Gasoline",631,726,768,679,791,723,613,682,617,596,471,922,598,522,643,339,559,553,440,557,434,407,414,354,196,242,242,243,237]
["AZ","AVACB","AV","AC","AZ Transportation Aviation Gasoline",979,950,798,646,717,703,780,761,965,792,1028,966,925,1177,827,947,893,732,789,640,940,1034,842,701,1036,842,755,841,964]
["CA","AVACB","AV","AC","CA Transportation Aviation Gasoline",5581,5506,5345,4134,4003,4073,3881,4222,2899,4167,3651,2706,3025,3033,2795,2676,2326,2234,2057,1439,1757,1911,1911,1726,2371,2518,2271,2053,2231]
["CO","AVACB","AV","AC","CO Transportation Aviation Gasoline",841,781,686,625,644,624,625,720,726,984,790,1365,799,698,612,655,773,518,492,418,581,644,442,459,512,422,426,408,488]
["CT","AVACB","AV","AC","CT Transportation Aviation Gasoline",474,143,142,151,140,206,187,115,261,163,150,392,261,228,300,944,643,637,494,700,444,417,389,330,132,109,98,93,100]
["DC","AVACB","AV","AC","DC Transportation Aviation Gasoline",0,0,0,9,9,19,0,15,13,15,8,9,11,10,2,20,32,32,21,15,5,4,4,3,13,0,0,0,0]
["DE","AVACB","AV","AC","DE Transportation Aviation Gasoline",391,87,90,257,288,267,263,324,277,74,101,313,456,399,376,689,706,699,532,493,278,261,244,214,343,41,42,47,50]
["FL","AVACB","AV","AC","FL Transportation Aviation Gasoline",4081,3595,2994,2659,2656,3023,2620,2860,2174,2984,3087,2438,2484,2011,1986,2235,2109,1868,1897,1469,2042,2283,2255,2300,2181,2360,2366,2505,2681]
["GA","AVACB","AV","AC","GA Transportation Aviation Gasoline",989,917,838,844,809,790,847,793,695,753,537,467,577,708,1055,1124,929,819,508,473,720,609,754,587,703,587,603,614,684]
["HI","AVACB","AV","AC","HI Transportation Aviation Gasoline",1375,1320,1229,1002,1061,1100,833,609,540,294,226,244,89,77,197,224,208,206,140,149,188,176,155,136,140,47,35,50,109]
["IA","AVACB","AV","AC","IA Transportation Aviation Gasoline",501,415,378,352,349,362,361,395,365,406,396,289,549,480,437,699,261,226,388,465,353,331,294,243,251,242,202,212,212]
["ID","AVACB","AV","AC","ID Transportation Aviation Gasoline",199,199,3,316,275,241,277,364,310,337,138,285,340,288,443,391,388,384,191,371,377,353,326,290,317,219,224,212,250]
["IL","AVACB","AV","AC","IL Transportation Aviation Gasoline",826,889,889,1168,1030,1085,1018,992,846,868,787,570,934,815,892,489,418,395,457,302,532,578,537,424,355,443,399,414,444]
["IN","AVACB","AV","AC","IN Transportation Aviation Gasoline",1526,1525,1274,1016,750,728,863,685,571,600,572,338,614,536,521,819,587,581,466,465,515,483,448,372,337,337,325,351,329]
["KS","AVACB","AV","AC","KS Transportation Aviation Gasoline",689,626,717,762,719,737,892,1249,1006,1212,1083,990,643,517,582,1080,1100,832,927,676,883,772,364,317,295,323,297,284,302]
["KY","AVACB","AV","AC","KY Transportation Aviation Gasoline",256,258,276,202,230,223,235,143,315,169,159,453,350,305,354,353,327,324,244,208,173,163,151,130,150,154,158,176,180]
["LA","AVACB","AV","AC","LA Transportation Aviation Gasoline",547,467,440,1106,666,441,407,494,394,440,423,1444,313,513,278,302,304,127,336,312,446,485,503,449,332,329,315,326,342]
["MA","AVACB","AV","AC","MA Transportation Aviation Gasoline",487,226,225,431,368,426,454,439,439,485,584,403,390,406,482,591,249,439,252,490,283,265,253,217,375,358,349,338,390]
["MD","AVACB","AV","AC","MD Transportation Aviation Gasoline",375,379,485,513,357,240,177,219,281,196,204,529,504,442,415,622,544,538,406,394,225,210,203,175,245,178,186,195,228]
["ME","AVACB","AV","AC","ME Transportation Aviation Gasoline",312,214,208,187,178,175,143,183,128,173,128,292,185,192,166,203,262,260,169,179,113,268,90,78,80,119,113,125,118]
["MI","AVACB","AV","AC","MI Transportation Aviation Gasoline",1085,1037,917,997,1199,1167,1083,993,841,1442,1035,401,843,451,405,423,340,381,372,315,595,558,517,466,333,375,373,376,422]
["MN","AVACB","AV","AC","MN Transportation Aviation Gasoline",1078,948,678,667,632,651,626,692,466,711,684,480,690,469,463,515,434,438,393,711,438,476,476,427,375,422,386,393,393]
["MO","AVACB",{"$f":"MID(B131,1,2)","v":"AV"},{"$f":"MID(B131,3,2)","v":"AC"},{"$f":"A131&\" \"&VLOOKUP(D131,SectorCode,2,FALSE)&\" \"&VLOOKUP(C131,FuelCode,2,FALSE)","v":"MO Transportation Aviation Gasoline"},638,590,579,471,568,548,547,806,687,378,496,737,601,525,625,949,644,638,489,430,515,483,439,398,343,352,348,366,384]
["MS","AVACB","AV","AC","MS Transportation Aviation Gasoline",665,556,475,427,362,504,309,332,499,405,495,533,399,348,574,227,551,545,496,370,371,348,339,314,267,235,217,239,312]
["MT","AVACB","AV","AC","MT Transportation Aviation Gasoline",560,545,381,322,377,394,501,359,517,612,675,548,582,509,213,239,438,351,454,378,237,222,206,187,275,290,250,221,250]
["NC","AVACB","AV","AC","NC Transportation Aviation Gasoline",1074,860,778,596,685,704,747,804,695,942,705,764,460,711,546,648,539,485,596,344,792,742,715,618,426,452,469,494,513]
["ND","AVACB","AV","AC","ND Transportation Aviation Gasoline",143,142,140,315,219,329,255,165,218,199,173,432,294,354,322,333,220,185,192,172,216,241,127,104,213,204,199,206,238]
["NE","AVACB","AV","AC","NE Transportation Aviation Gasoline",418,426,409,361,382,386,381,452,319,358,321,435,469,409,283,416,405,401,334,319,249,234,222,174,194,194,190,183,190]
["NH","AVACB","AV","AC","NH Transportation Aviation Gasoline",104,131,97,217,166,112,99,115,102,140,122,321,251,220,326,347,233,230,141,238,156,146,127,110,103,92,91,89,112]
["NJ","AVACB","AV","AC","NJ Transportation Aviation Gasoline",603,507,615,610,795,733,573,670,664,533,455,306,1083,1088,570,549,445,702,411,255,414,389,351,302,426,220,226,232,256]
["NM","AVACB","AV","AC","NM Transportation Aviation Gasoline",433,473,473,358,312,269,508,514,308,351,370,399,372,325,448,301,245,232,598,437,242,227,210,188,229,203,211,190,195]
["NV","AVACB","AV","AC","NV Transportation Aviation Gasoline",559,559,531,573,544,319,468,386,329,395,411,443,426,372,421,697,698,691,741,594,347,325,287,266,326,195,188,188,221]
["NY","AVACB","AV","AC","NY Transportation Aviation Gasoline",392,328,374,302,498,384,335,342,1202,425,380,1257,883,93,1140,1387,128,935,776,151,200,217,209,185,344,373,369,395,415]
["OH","AVACB","AV","AC","OH Transportation Aviation Gasoline",1205,1080,1129,1044,937,1184,1740,1912,1843,1232,1098,743,711,651,596,552,1670,1653,954,1094,756,709,628,560,534,399,403,464,428]
["OK","AVACB","AV","AC","OK Transportation Aviation Gasoline",738,559,625,527,423,778,593,404,670,513,546,405,610,533,672,324,1320,259,227,1238,1002,940,876,662,266,295,291,304,333]
["OR","AVACB","AV","AC","OR Transportation Aviation Gasoline",611,636,652,553,787,721,964,889,758,810,700,1142,784,685,639,728,1028,1018,935,677,696,652,625,506,461,499,508,493,614]
["PA","AVACB","AV","AC","PA Transportation Aviation Gasoline",730,586,823,757,687,633,613,540,635,1037,780,618,610,479,477,505,1098,487,504,350,537,584,613,536,491,517,366,368,369]
["RI","AVACB","AV","AC","RI Transportation Aviation Gasoline",212,152,151,42,51,112,188,54,46,57,68,73,36,36,58,62,111,110,57,33,25,23,24,19,43,46,45,47,43]
["SC","AVACB","AV","AC","SC Transportation Aviation Gasoline",511,910,1141,853,574,618,300,323,279,507,383,361,439,470,419,490,550,545,358,474,406,355,211,188,261,263,266,283,305]
["SD","AVACB","AV","AC","SD Transportation Aviation Gasoline",470,310,311,266,244,234,266,241,168,297,256,210,147,173,193,154,257,255,174,108,148,161,163,146,166,128,127,118,126]
["TN","AVACB","AV","AC","TN Transportation Aviation Gasoline",877,733,1732,1993,1979,2005,1165,1576,686,552,625,301,757,661,467,515,448,524,601,639,846,575,345,316,314,354,369,384,420]
["TX","AVACB","AV","AC","TX Transportation Aviation Gasoline",4230,3309,3955,3498,3902,3255,3155,3320,2799,4017,3073,2362,2690,2581,2443,2579,2495,2484,2112,1753,3138,3413,3498,3288,2277,1937,2054,2334,2153]
["US","AVACB","AV","AC","US Transportation Aviation Gasoline",44978,41722,41055,38395,38138,39581,37355,39697,35498,39172,36285,34937,33731,30222,31242,35366,33448,31590,28284,26558,27047,27057,25114,22358,21696,21141,20465,20949,22393]
["UT","AVACB","AV","AC","UT Transportation Aviation Gasoline",537,595,669,574,445,322,264,306,257,369,424,382,349,305,395,540,555,392,553,696,330,309,286,246,318,304,280,275,296]
["VA","AVACB","AV","AC","VA Transportation Aviation Gasoline",351,586,510,531,511,431,401,254,457,537,490,832,674,589,698,1126,307,993,907,1080,471,442,421,367,489,321,356,348,407]
["VT","AVACB","AV","AC","VT Transportation Aviation Gasoline",75,78,75,61,57,60,51,61,52,61,204,221,52,46,106,129,83,82,52,57,45,42,42,33,22,37,36,38,46]
["WA","AVACB","AV","AC","WA Transportation Aviation Gasoline",1579,1352,1458,997,1606,1158,1473,1019,1795,1431,1675,747,1302,1137,1020,1322,928,889,668,563,809,880,944,827,371,471,440,434,515]
["WI","AVACB","AV","AC","WI Transportation Aviation Gasoline",615,529,612,602,1438,1886,1853,2453,2291,674,566,1189,635,270,818,418,358,306,321,222,273,297,288,262,302,313,304,299,323]
["WV","AVACB","AV","AC","WV Transportation Aviation Gasoline",181,167,0,129,131,137,161,112,151,113,102,174,137,120,147,451,184,183,108,152,123,116,112,94,66,59,47,57,73]
["WY","AVACB","AV","AC","WY Transportation Aviation Gasoline",178,142,126,101,165,904,1076,764,762,1179,1401,1057,1219,1089,1084,1250,1262,960,1243,1166,150,140,122,108,155,100,98,87,98]
["AK","CLCCB","CL","CC","AK Commercial Coal",6241,6530,6665,7294,6977,7187,6593,7092,7411,7585,7262,6569,6464,6081,6980,7252,7920,6649,8527,8098,8533,9432,9201,8939,8316,8486,6952,7144,6931]
["AL","CLCCB","CL","CC","AL Commercial Coal",2059,336,1759,796,221,154,954,1596,204,524,1194,273,81,61,10,42,570,19,0,0,0,0,0,0,0,0,0,0,0]
["AR","CLCCB","CL","CC","AR Commercial Coal",4,9,42,16,7,0,0,1,1,1,0,0,1,0,1,0,1,24,0,0,0,0,0,0,0,0,0,0,0]
["AZ","CLCCB","CL","CC","AZ Commercial Coal",2,5,65,17,2,96,3,3,7,1,1,11,13,13,16,24,14,13,0,0,0,0,0,0,0,0,0,0,0]
["CA","CLCCB","CL","CC","CA Commercial Coal",465,841,4,2700,3282,2693,3628,2232,2426,576,500,1,1,5,168,410,30,0,0,0,0,0,0,0,0,0,0,0,0]
["CO","CLCCB","CL","CC","CO Commercial Coal",992,1143,1004,675,430,379,259,1076,352,2024,1546,5810,4513,5404,4489,2720,1348,260,6970,6530,6055,3179,240,118,151,76,34,8,0]
["CT","CLCCB","CL","CC","CT Commercial Coal",242,269,407,257,256,518,121,160,154,123,88,90,89,88,91,116,84,76,0,0,0,0,0,0,0,0,0,0,0]
["DC","CLCCB","CL","CC","DC Commercial Coal",1387,1356,1029,1049,994,124,506,875,138,133,158,659,87,150,667,864,0,452,391,331,71,48,77,4,48,44,34,30,37]
["DE","CLCCB","CL","CC","DE Commercial Coal",437,410,6,958,608,21,110,134,168,23,23,22,0,0,0,0,9,12,0,0,0,0,0,0,0,0,0,0,0]
["FL","CLCCB","CL","CC","FL Commercial Coal",92,4,315,324,428,28,22,0,130,148,213,1245,212,167,0,7,11,12,0,0,0,0,0,0,0,0,0,0,0]
["GA","CLCCB","CL","CC","GA Commercial Coal",448,163,793,452,612,1290,67,378,249,376,196,256,117,0,157,1120,0,46,331,182,189,223,189,152,99,60,0,0,0]
["HI","CLCCB","CL","CC","HI Commercial Coal",0,0,0,0,0,0,0,0,0,0,0,0,0,0,0,0,0,0,0,0,0,0,0,0,0,0,0,0,0]
["IA","CLCCB","CL","CC","IA Commercial Coal",4703,4401,1245,1351,813,1904,4791,7836,6067,8895,6064,5926,6658,6058,3729,5942,6465,6797,5942,6106,6127,5691,4910,4798,4778,3943,2979,2783,2404]
["ID","CLCCB","CL","CC","ID Commercial Coal",1089,1262,935,789,767,733,538,609,1010,1017,383,376,360,255,112,245,237,927,211,182,199,159,120,84,45,0,0,0,0]
["IL","CLCCB","CL","CC","IL Commercial Coal",4760,4761,5296,4840,4891,4368,3733,5988,4632,3498,4495,4688,3510,5306,5146,3076,2793,3332,4640,3932,3807,3354,2881,2968,2752,2160,2362,2327,2555]
["IN","CLCCB","CL","CC","IN Commercial Coal",9898,7968,7572,6286,6853,5559,6972,7812,7512,7546,5759,4976,6478,6953,8634,5304,1168,3527,7867,7460,7850,6914,4417,3007,3138,1382,1518,1289,1422]
["KS","CLCCB","CL","CC","KS Commercial Coal",7,7,4,429,675,786,1658,47,1,145,237,8,8,2,0,0,1,0,0,0,0,0,0,0,0,0,0,0,0]
["KY","CLCCB","CL","CC","KY Commercial Coal",2950,3789,4309,5425,6032,2819,2508,7331,5259,9259,4490,4822,5483,4303,5950,6404,2816,2896,1490,1309,1197,1238,858,416,490,391,363,358,142]
["LA","CLCCB","CL","CC","LA Commercial Coal",0,2,0,20,0,109,0,1,0,0,0,0,0,0,0,0,0,2,0,0,0,0,0,0,0,0,0,0,0]
["MA","CLCCB","CL","CC","MA Commercial Coal",1264,548,1182,881,468,583,720,638,633,897,386,362,1908,1109,771,988,365,523,0,0,0,0,0,0,0,0,0,0,0]
["MD","CLCCB","CL","CC","MD Commercial Coal",963,867,274,307,773,6418,905,1231,1194,1026,1864,1676,67,122,1249,718,951,809,900,704,474,617,519,238,198,12,0,0,0]
["ME","CLCCB","CL","CC","ME Commercial Coal",858,269,737,526,128,64,87,87,70,69,69,67,44,44,45,70,65,57,0,0,0,0,0,0,0,0,0,0,0]
["MI","CLCCB","CL","CC","MI Commercial Coal",5314,5387,3861,4801,6041,5450,5905,4116,3201,442,305,187,5527,664,3948,3431,190,3800,4854,6388,4587,4060,2132,1728,1589,1166,345,0,0]
["MN","CLCCB","CL","CC","MN Commercial Coal",2557,1369,361,1616,3811,4645,2406,1726,714,247,91,35,1618,18,3,1295,1471,1105,1074,968,757,648,63,115,189,152,183,142,120]
["MO","CLCCB","CL","CC","MO Commercial Coal",4984,4536,4098,4772,4249,4146,4076,5405,3250,4460,3451,4340,3819,3890,4029,4590,4571,4064,4490,3421,3576,2782,2056,2276,2152,1516,1256,570,276]
["MS","CLCCB","CL","CC","MS Commercial Coal",2,2,6,0,0,0,0,1,0,0,0,0,0,0,0,0,0,0,0,0,0,0,0,0,0,0,0,0,0]
["MT","CLCCB","CL","CC","MT Commercial Coal",856,665,313,170,61,185,72,1320,91,45,43,49,49,32,1761,2419,2302,30,283,243,183,238,120,30,23,53,34,47,66]
["NC","CLCCB","CL","CC","NC Commercial Coal",3150,2017,4179,4697,5579,4898,4494,4273,4761,3565,2722,2850,2881,2867,7853,3482,2663,1024,6692,5527,5070,4349,3343,3569,3954,3875,3134,2754,2009]
["ND","CLCCB","CL","CC","ND Commercial Coal",1500,1546,1444,1659,1763,1485,1931,1862,1499,1607,1697,1909,2070,2409,3837,4332,1684,3750,1776,1668,1577,1521,1266,1515,1279,1238,998,934,1005]
["NE","CLCCB","CL","CC","NE Commercial Coal",68,204,106,89,130,159,22,1821,0,0,0,110,128,104,65,74,109,104,0,0,0,0,0,0,0,0,0,0,0]
["NH","CLCCB","CL","CC","NH Commercial Coal",242,456,325,198,170,173,172,127,104,73,92,90,89,44,45,93,94,78,0,0,0,0,0,0,0,0,0,0,0]
["NJ","CLCCB","CL","CC","NJ Commercial Coal",262,228,304,158,213,150,173,131,112,111,113,90,89,88,113,70,49,57,0,0,0,0,0,0,0,0,0,0,0]
["NM","CLCCB","CL","CC","NM Commercial Coal",75,122,146,159,150,134,136,135,198,133,135,84,83,66,69,69,71,65,0,0,0,0,0,0,0,0,0,0,0]
["NV","CLCCB","CL","CC","NV Commercial Coal",58,38,19,38,20,20,20,21,20,4,0,17,16,16,16,17,37,4,0,0,0,0,0,0,0,0,0,0,0]
["NY","CLCCB","CL","CC","NY Commercial Coal",5429,5717,5579,4639,3939,4777,6184,5616,3330,4041,2286,2524,994,1847,3619,3681,3163,2967,1710,552,77,109,0,0,0,0,0,0,0]
["OH","CLCCB","CL","CC","OH Commercial Coal",12632,9703,11753,11641,10308,8692,13735,6991,8787,4610,4621,4933,7597,4258,8758,7356,2411,3073,6451,5832,6019,5146,3492,3883,3538,2195,1207,20,0]
["OK","CLCCB",{"$f":"MID(B195,1,2)","v":"CL"},{"$f":"MID(B195,3,2)","v":"CC"},{"$f":"A195&\" \"&VLOOKUP(D195,SectorCode,2,FALSE)&\" \"&VLOOKUP(C195,FuelCode,2,FALSE)","v":"OK Commercial Coal"},2,21,20,8,22,248,23,4495,18,35,0,14,21,21,0,19,61,2,0,0,0,0,0,0,0,0,0,0,0]
["OR","CLCCB","CL","CC","OR Commercial Coal",37,19,19,39,20,20,0,21,0,4,0,0,0,0,0,0,0,0,0,0,0,0,0,0,0,0,0,0,0]
["PA","CLCCB","CL","CC","PA Commercial Coal",26279,29068,33164,25206,24629,25669,21628,27303,18912,15450,17427,17557,12961,15294,15376,14407,14269,16210,5224,5026,4729,4343,3286,3073,3082,1963,1031,645,362]
["RI","CLCCB","CL","CC","RI Commercial Coal",101,83,101,59,64,64,71,63,53,36,46,45,67,88,68,70,44,35,0,0,0,0,0,0,0,0,0,0,0]
["SC","CLCCB","CL","CC","SC Commercial Coal",128,457,627,2224,1299,374,412,20,532,5495,0,0,1,0,0,0,1949,0,328,94,51,0,3,0,0,0,0,0,0]
["SD","CLCCB","CL","CC","SD Commercial Coal",44,57,16,14,263,116,30,15,0,18,22,190,22,15,16,16,17,17,238,183,188,0,37,0,0,0,0,0,0]
["TN","CLCCB","CL","CC","TN Commercial Coal",4315,3542,3125,2287,1932,3191,2439,2919,579,2246,2598,3038,1384,2770,1475,738,919,1565,2358,2328,2227,1774,1604,1636,1526,148,0,0,0]
["TX","CLCCB","CL","CC","TX Commercial Coal",216,225,175,94,2,0,0,2,315,119,181,386,1075,2350,252,284,2,0,319,375,287,300,280,241,225,171,0,0,0]
["US","CLCCB","CL","CC","US Commercial Coal",123829,115432,116757,116507,117116,116329,120065,128728,100594,101615,85811,88293,87814,82868,102859,95743,64346,70384,80427,73249,69590,61732,43654,41479,40461,31071,24027,20807,18772]
["UT","CLCCB","CL","CC","UT Commercial Coal",4945,5789,4223,2302,2074,1561,1926,2529,2368,2344,1213,1249,4108,1256,4525,972,761,478,0,0,0,0,0,0,0,0,0,0,0]
["VA","CLCCB","CL","CC","VA Commercial Coal",4736,2864,3957,6353,6694,6198,8728,4039,4043,2887,1935,2883,1703,2285,2084,2763,600,1856,1986,2328,2238,2384,1287,1337,1755,1331,880,942,723]
["VT","CLCCB","CL","CC","VT Commercial Coal",141,104,121,119,106,64,37,55,47,48,23,45,22,22,23,23,25,30,0,0,0,0,0,0,0,0,0,0,0]
["WA","CLCCB","CL","CC","WA Commercial Coal",1147,1470,1661,2103,1641,1535,476,440,325,380,462,460,476,532,487,0,1,1,0,0,0,0,0,0,0,0,0,0,0]
["WI","CLCCB","CL","CC","WI Commercial Coal",100,206,88,750,1095,2824,2315,3594,3127,3701,3996,4122,2713,3338,3343,7279,643,1225,4822,2950,3014,2675,811,869,713,536,567,529,534]
["WV","CLCCB","CL","CC","WV Commercial Coal",3574,1969,1780,2077,1833,1404,2368,2312,3716,3801,4960,1053,730,918,1240,1825,556,1464,0,0,0,0,0,0,0,0,0,0,0]
["WY","CLCCB","CL","CC","WY Commercial Coal",2076,2627,1543,2844,3793,2311,6109,2255,2875,1849,2464,2196,1481,1555,1639,1138,834,944,551,534,510,547,458,485,420,174,149,285,187]
["AK","CLEIB","CL","EI","AK Electric Power Coal",4585,4711,4381,4703,4287,4622,3622,3711,8124,7752,8283,8507,9068,5555,6305,6087,6245,6247,6176,6350,5958,5976,6301,5864,9892,11009,9644,9214,10377]
["AL","CLEIB","CL","EI","AL Electric Power Coal",536617,578024,607891,670402,627361,684013,739554,718690,729588,744481,786188,739969,753149,775843,753426,799611,800642,806975,762110,571352,649866,586053,474066,488625,488647,424833,345578,316065,317234]
["AR","CLEIB","CL","EI","AR Electric Power Coal",206863,209095,213578,192682,213561,229550,251704,239806,247654,259094,257963,263081,244784,243527,260084,237894,247823,265232,269282,256654,286417,300543,291578,322034,333753,222218,241610,262907,300080]
["AZ","CLEIB","CL","EI","AZ Electric Power Coal",330161,333518,356833,376336,387732,329673,329469,356152,373335,390094,416851,409293,392476,391273,409201,412493,415655,423202,445798,404530,447137,449888,411861,450547,442660,380388,319810,329229,324958]
["CA","CLEIB","CL","EI","CA Electric Power Coal",18840,25499,26710,27751,26581,23328,20000,17965,20082,22121,22070,21112,22896,21715,22535,20692,21921,23358,23630,21085,21776,19692,13153,6214,6866,0,0,0,0]
["CO","CLEIB","CL","EI","CO Electric Power Coal",320752,313657,323644,330082,340392,327951,342494,345510,356162,352825,376872,386729,380631,381424,378530,376774,386369,382945,373035,340480,369089,362384,363589,355912,341975,331972,314876,309415,280637]
["CT","CLEIB","CL","EI","CT Electric Power Coal",38183,38179,38371,36246,37550,40192,40982,44802,32396,15091,36147,39890,34105,41763,43896,41877,45629,39846,45188,26265,28711,6081,9290,7679,9097,6536,2340,2507,4023]
["DC","CLEIB","CL","EI","DC Electric Power Coal",0,0,0,0,0,0,0,0,0,0,0,0,0,0,0,0,0,0,0,0,0,0,0,0,0,0,0,0,0]
["DE","CLEIB","CL","EI","DE Electric Power Coal",53595,51137,42527,57915,51990,47536,46531,44046,41250,32169,45452,33831,37971,44423,50487,53625,53921,61108,58693,33373,30253,17881,17384,18254,10238,7149,5859,4804,4296]
["FL","CLEIB","CL","EI","FL Electric Power Coal",603104,621827,615673,621621,630388,653636,713903,717586,717359,686393,728147,694351,688794,695296,672034,644719,667544,692870,665854,557466,615698,540109,470212,490158,541872,451546,413091,393366,314869]
["GA","CLEIB","CL","EI","GA Electric Power Coal",657427,590342,567247,611453,636575,673228,673119,716220,717508,732824,768277,720457,759665,773493,789365,856300,851994,895834,849111,696687,735954,605294,413654,407385,461406,382491,388170,335907,331720]
["HI","CLEIB","CL","EI","HI Electric Power Coal",26,144,5583,13762,13891,15795,16731,16778,14859,14999,15514,15730,15963,16670,16661,15095,14465,15313,15784,15049,15702,14775,15432,13948,15873,14495,16160,14948,14367]
["IA","CLEIB","CL","EI","IA Electric Power Coal",275971,284610,274853,292152,292975,312199,312526,317944,358071,358475,378195,378201,375438,377382,379887,364184,367263,396784,421796,385860,421662,387119,354097,333281,337689,291814,249619,252876,279344]
["ID","CLEIB","CL","EI","ID Electric Power Coal",0,0,0,0,0,0,0,0,0,0,0,0,0,0,0,0,0,0,0,0,0,0,0,0,0,0,0,0,0]
["IL","CLEIB","CL","EI","IL Electric Power Coal",591381,594963,545116,658287,670247,677021,765469,812757,791454,806475,875224,867200,886076,905846,970191,951645,947121,988271,1003201,937124,969140,938266,852802,912524,905508,761523,619807,600607,621910]
["IN","CLEIB","CL","EI","IN Electric Power Coal",1006664,1007661,992327,1030732,1063351,1079554,1097250,1143408,1160506,1192281,1259207,1209591,1190555,1215446,1244488,1271666,1276979,1271192,1276566,1132907,1174354,1092097,973320,984376,1033621,836675,777846,768886,828299]
["KS","CLEIB","CL","EI","KS Electric Power Coal",267931,264902,249426,298816,296874,285468,332514,307497,306667,326457,359291,350776,387378,385618,380456,374808,358530,390566,367795,353604,357256,344017,305586,324784,313624,270652,250840,214311,225138]
["KY","CLEIB","CL","EI","KY Electric Power Coal",712753,724340,736395,823679,806515,831925,855559,886738,882165,914757,932976,944072,888915,882520,894733,920850,958508,953699,965722,892391,958439,961616,879779,886561,886357,769733,715763,616889,635915]
["LA","CLEIB","CL","EI","LA Electric Power Coal",192908,203967,212455,212646,219436,209047,203304,224402,224250,226756,251874,238009,230806,244839,254657,251917,263446,248067,260727,252178,259225,268694,236527,225754,207043,170498,136430,138487,133858]
["MA","CLEIB","CL","EI","MA Electric Power Coal",110609,115130,106744,95640,99573,103635,111930,121264,108298,111777,112735,107146,114994,106550,102735,116390,109747,117364,104675,90740,82097,41329,22372,40594,28327,22962,20016,12304,0]
["MD","CLEIB","CL","EI","MD Electric Power Coal",227902,220903,229356,242866,249201,262939,271711,269025,283308,284088,289747,283345,291706,297613,291315,295546,293181,297200,279847,243998,242944,218918,171407,167590,185394,150952,150828,94697,112277]
["ME","CLEIB","CL","EI","ME Electric Power Coal",3808,6052,6044,6171,6044,3927,3978,4134,3825,3922,4216,4597,5664,4315,4312,3764,3767,3583,3275,856,1418,969,810,967,1328,1846,1773,1704,1577]
["MI","CLEIB","CL","EI","MI Electric Power Coal",663512,665100,626468,631389,686693,671226,682054,681359,725314,712161,694689,690540,660763,672569,691202,718246,693365,721334,712368,682465,677558,620398,559748,588873,554168,554989,432197,445988,452437]
["MN","CLEIB","CL","EI","MN Electric Power Coal",298455,284609,280715,299028,301440,305898,311872,311574,318737,304830,333319,328862,334601,366657,353845,353021,345133,339197,332153,305307,289749,290224,236434,243525,289683,253939,241473,235523,241799]
["MO","CLEIB","CL","EI","MO Electric Power Coal",502966,499627,490687,434180,510354,563417,600580,632551,664129,654537,663267,688182,698313,768079,778548,806682,799819,773971,766074,744467,780636,810422,743444,780146,754299,673709,622575,688946,649090]
["MS","CLEIB","CL","EI","MS Electric Power Coal",97640,89669,81006,93008,90188,96887,122205,126535,120793,133184,143780,194552,150707,175412,181248,173414,186441,181521,174025,139095,145614,104924,79848,94966,114021,69064,61219,53779,60015]
["MT","CLEIB","CL","EI","MT Electric Power Coal",163735,178210,188996,154885,183128,163843,136295,159164,183402,183694,174076,181732,164921,187579,192292,195551,190486,200816,201591,171684,202044,164238,153004,161593,170478,173398,157232,151488,147939]
["NC","CLEIB","CL","EI","NC Electric Power Coal",489813,497112,572317,621434,566089,595673,680406,707046,701776,694460,736387,707528,725486,726244,735839,771247,742789,796726,760150,650382,720963,600651,514196,472300,481875,387313,364715,335149,312335]
["ND","CLEIB","CL","EI","ND Electric Power Coal",286312,292718,304297,306258,306550,298613,311774,297997,318627,321335,327053,324354,328275,323216,309293,334089,317637,324528,331135,327732,312322,300500,310998,303562,304585,311191,299545,302365,311176]
["NE","CLEIB","CL","EI","NE Electric Power Coal",137458,145630,134808,159266,152444,172736,173468,185618,197464,190768,198588,216431,209834,219374,216102,220762,219168,208672,226849,242326,241811,266339,253670,272659,254573,245144,220452,212787,243741]
["NH","CLEIB","CL","EI","NH Electric Power Coal",30544,32940,33169,35271,33380,35363,35946,44385,38506,35325,43929,40024,39744,41583,43396,44069,44704,44812,40241,32844,33827,24489,14191,16778,14867,10989,5277,3617,7798]
["NJ","CLEIB","CL","EI","NJ Electric Power Coal",73507,55701,56924,57332,63016,79429,86237,99491,85873,88673,114406,111970,104616,106576,112422,125109,115922,111735,97671,59563,71961,49592,25589,25910,30731,22925,17455,16488,16732]
["NM","CLEIB","CL","EI","NM Electric Power Coal",274691,233269,266311,268777,276718,273390,277366,286690,288570,296346,303456,295223,282232,303562,307363,315915,314207,294112,282781,304700,266382,284166,262424,255137,213898,214013,195275,197337,135031]
["NV","CLEIB","CL","EI","NV Electric Power Coal",161316,175653,174817,167777,175716,156705,165397,162386,178348,174588,193961,183682,160496,177308,188733,193187,79521,78201,84239,80419,76036,60202,45928,57255,71910,29816,24320,21495,28149]
["NY","CLEIB","CL","EI","NY Electric Power Coal",260388,263094,277917,244378,237057,227355,232312,246198,258550,241817,254784,241066,234280,242113,233566,213027,215801,220585,195649,131840,141573,99186,48742,47152,45942,21957,15631,6270,6984]
["OH","CLEIB","CL","EI","OH Electric Power Coal",1161356,1184815,1204959,1239272,1197948,1206929,1289315,1258183,1300461,1245875,1312458,1243257,1301658,1343783,1287907,1372996,1337193,1349855,1322187,1170171,1230391,1102740,881112,963447,917014,734297,711827,700683,603705]
["OK","CLEIB","CL","EI","OK Electric Power Coal",266109,296622,311701,328960,317306,336611,356662,372025,353772,343782,366888,361643,376767,379431,356966,381975,369332,357793,377093,361213,333641,366516,315553,323738,322770,269221,210623,189466,164264]
["OR","CLEIB","CL","EI","OR Electric Power Coal",14189,30865,38449,34860,41703,17353,18335,14391,35381,38599,38700,43365,36629,43381,35052,35416,24229,43131,39720,31217,40696,33296,26515,36917,31705,24151,19440,17770,15495]
["PA","CLEIB","CL","EI","PA Electric Power Coal",1054707,1052143,1063557,1071266,1018319,1062368,1120748,1148998,1160622,1127767,1210638,1106489,1174928,1170418,1183875,1224911,1243073,1241611,1188571,1071057,1119758,1028374,904245,905843,814266,669244,574070,501784,467959]
["RI","CLEIB","CL","EI","RI Electric Power Coal",0,0,0,0,0,0,0,0,0,0,0,0,0,0,0,0,0,0,0,0,0,0,0,0,0,0,0,0,0]
["SC","CLEIB","CL","EI","SC Electric Power Coal",231034,234606,232718,266441,270749,258954,301978,310888,323666,349329,381956,361309,353822,367719,387239,392255,393028,411139,415401,348711,381051,342946,285684,244053,291282,229897,213420,186015,199882]
["SD","CLEIB","CL","EI","SD Electric Power Coal",30961,33556,31399,30560,33258,30513,26625,35337,33125,37714,38007,37779,34772,36827,39474,32330,34967,28632,39605,35229,36204,29000,32183,30836,29529,16268,23192,22369,24599]
["TN","CLEIB","CL","EI","TN Electric Power Coal",498365,467598,493415,583716,517768,570411,556169,586999,565099,563246,614773,591908,567360,531021,562337,575312,597927,593402,564829,409344,443767,412442,357569,333581,365506,314583,329252,295243,215034]
["TX","CLEIB","CL","EI","TX Electric Power Coal",1271920,1269988,1263384,1359679,1306565,1301126,1411826,1449081,1425307,1467723,1474883,1417079,1477476,1528776,1554811,1557476,1539379,1568721,1566630,1480416,1553945,1675488,1478692,1575503,1558256,1319835,1309306,1439466,1178559]
["US","CLEIB","CL","EI","US Electric Power Coal",16258995,16247935,16463621,17194422,17259079,17465065,18427577,18902863,19215808,19279063,20219797,19613575,19782944,20183337,20303713,20735427,20459989,20805249,20510599,18223766,19133366,18035415,15821257,16450431,16427232,14138235,12996648,12622220,12053020]
["UT","CLEIB","CL","EI","UT Electric Power Coal",311988,293618,315929,324160,332302,312055,317826,328267,336766,343899,347642,339069,352263,363591,366700,371489,366182,370086,376055,348891,339617,332402,308525,340512,330146,314926,255877,263709,264412]
["VA","CLEIB","CL","EI","VA Electric Power Coal",231257,242145,258159,291855,266794,287262,326915,339445,347179,357864,413303,391423,391890,370856,364154,368564,352371,373659,331303,267967,271206,215638,153359,224546,217987,183563,176403,115841,105609]
["VT","CLEIB","CL","EI","VT Electric Power Coal",0,0,0,0,0,0,0,0,0,0,0,0,0,0,0,0,0,0,0,0,0,0,0,0,0,0,0,0,0]
["WA","CLEIB",{"$f":"MID(B259,1,2)","v":"CL"},{"$f":"MID(B259,3,2)","v":"EI"},{"$f":"A259&\" \"&VLOOKUP(D259,SectorCode,2,FALSE)&\" \"&VLOOKUP(C259,FuelCode,2,FALSE)","v":"WA Electric Power Coal"},78940,83016,100691,91730,101078,63795,87380,76749,100421,94260,102906,96033,98008,115504,110151,110802,67143,92545,91650,80536,92205,55119,40559,72944,73840,56352,51421,60314,59785]
["WI","CLEIB","CL","EI","WI Electric Power Coal",347011,359709,350389,358963,375649,391165,411867,440158,427559,436424,454622,450549,448669,444450,454600,475466,422098,423592,437546,388816,420346,410520,341229,422247,384088,380596,337982,368339,341958]
["WV","CLEIB","CL","EI","WV Electric Power Coal",744752,691498,710730,711593,776523,772370,826711,869372,878997,906370,891192,789469,915651,906132,864983,898025,902325,915801,891864,695511,784297,759336,705989,724548,771699,689903,721327,684156,633418]
["WY","CLEIB","CL","EI","WY Electric Power Coal",415990,405763,444555,424442,445819,418379,426959,423541,470503,451663,464905,464170,447748,460066,466314,458152,455002,459416,464953,442913,452671,434569,458606,488808,456946,457661,425087,426707,424234]
["AK","CLICB","CL","IC","AK Industrial Coal",0,0,0,32,82,0,39,39,20,22,13,23,15,7,15,25,33,26,2,57,57,73,19,16,17,17,17,18,17]
["AL","CLICB","CL","IC","AL Industrial Coal",143304,145487,165617,141575,146182,144087,150104,146781,126661,121436,116652,102061,92758,97821,100480,90442,85409,81440,80717,59617,68819,64979,72938,76426,87265,69477,64589,62825,59918]
["AR","CLICB","CL","IC","AR Industrial Coal",5839,6839,7076,7748,8599,7784,8356,6980,7004,7927,9616,10901,10457,10126,10126,9275,9084,9778,9567,7429,7272,5576,5154,5065,5461,4672,4827,4684,4065]
["AZ","CLICB","CL","IC","AZ Industrial Coal",13251,13737,12831,13482,14656,13106,13367,13716,13427,13167,15958,14718,13988,15249,16194,15926,16315,15308,12929,8730,10772,10021,8709,4318,5189,5434,4068,5283,6534]
["CA","CLICB","CL","IC","CA Industrial Coal",64738,62994,64801,53625,54174,57900,56202,62178,43348,46772,47380,46727,47113,47749,46188,46284,45062,43136,39420,31318,33196,35572,30679,31938,32620,30967,32077,33663,33256]
["CO","CLICB","CL","IC","CO Industrial Coal",15383,15558,14784,16328,18477,15814,7923,15704,8331,9111,9270,6770,4720,6528,6669,6939,6498,5352,5410,3213,7479,3307,6256,7502,8400,8059,6565,6412,3836]
["CT","CLICB","CL","IC","CT Industrial Coal",25,75,299,744,733,0,0,0,0,0,0,0,0,0,0,20,0,0,0,0,0,0,0,0,0,0,0,0,0]
["DC","CLICB","CL","IC","DC Industrial Coal",0,0,0,0,0,0,0,0,0,0,0,0,0,0,0,0,0,0,0,0,0,0,0,0,0,0,0,0,0]
["DE","CLICB","CL","IC","DE Industrial Coal",5349,5215,3586,4386,4771,4887,4123,4389,4378,3720,4669,4479,2565,2574,3112,3091,2694,2718,2198,565,0,0,0,0,0,0,2339,0,0]
["FL","CLICB","CL","IC","FL Industrial Coal",30171,28485,33382,32511,32490,33256,31890,33749,31969,29719,32052,30141,30635,28345,27021,27581,28659,27941,27306,24051,21718,12622,12772,14996,16010,14984,13097,14172,12938]
["GA","CLICB","CL","IC","GA Industrial Coal",56141,52821,44925,43170,48461,49106,49886,51325,49607,49366,51033,51277,47323,45538,45451,43492,40739,38888,36407,26580,31763,29239,21703,18647,21152,12114,11109,8366,8431]
["HI","CLICB","CL","IC","HI Industrial Coal",695,919,1167,1813,1849,4119,3640,3735,3364,2692,2139,2044,655,1374,1253,1411,1637,1795,2311,2033,1415,1305,1140,1358,1368,1136,271,0,0]
["IA","CLICB","CL","IC","IA Industrial Coal",53149,59296,52881,50302,55004,57924,65732,64950,59972,63426,60879,59062,58529,60241,59190,59135,60820,60831,57480,52608,66005,70327,63588,64323,58685,52535,45408,44628,43924]
["ID","CLICB","CL","IC","ID Industrial Coal",8724,10733,8480,8820,8761,8103,6700,5726,7648,6820,13302,10972,9785,9926,12211,11019,7952,9232,8393,8261,8328,7687,5066,7881,7427,4249,2432,2615,2823]
["IL","CLICB","CL","IC","IL Industrial Coal",150828,156802,147072,148643,149387,144637,150147,155435,152387,148383,136281,111261,96767,98142,93629,92543,95208,99409,95322,73915,96090,110605,113611,111434,109595,86747,80298,82065,80109]
["IN","CLICB","CL","IC","IN Industrial Coal",342763,321598,289536,281477,225815,258466,269332,271284,279029,276311,329359,354054,349614,347263,360129,316968,308837,296973,273644,225046,267168,234430,215728,211229,184732,169416,169022,159096,155947]
["KS","CLICB","CL","IC","KS Industrial Coal",3801,3627,3873,3232,3287,3337,3915,3357,2714,2686,3240,3862,4277,3843,5042,5015,5681,5767,4009,2475,2652,2504,1999,2032,2948,2765,2281,2436,2528]
["KY","CLICB","CL","IC","KY Industrial Coal",87063,73787,71282,90853,82788,94213,93682,82785,70915,62314,59600,63565,55796,56186,60416,58452,61661,63792,57605,43407,50188,47769,29067,27797,26605,26360,20458,22110,19853]
["LA","CLICB","CL","IC","LA Industrial Coal",15963,10267,11083,10787,11433,7653,2101,1663,1033,931,1389,1981,1303,3139,2058,1601,1768,1731,1743,341,526,1299,2284,2302,2931,3723,4083,3780,3960]
["MA","CLICB","CL","IC","MA Industrial Coal",1816,2119,3859,2864,1631,1057,949,916,853,815,1490,1461,1195,1548,1483,1869,2025,2224,2222,1316,1753,1635,1664,1614,1544,1215,99,103,101]
["MD","CLICB","CL","IC","MD Industrial Coal",57377,52801,17802,18490,18752,19246,19737,19278,19246,19933,20320,33623,34051,31837,34536,32978,30431,29880,28547,22157,22649,21655,20407,15363,15627,15031,12103,12275,11914]
["ME","CLICB","CL","IC","ME Industrial Coal",5533,9029,20557,10564,11437,6993,5751,4734,3390,2864,5687,3203,2286,3115,2973,3219,2780,2937,2633,797,862,573,489,690,815,742,421,465,537]
["MI","CLICB","CL","IC","MI Industrial Coal",117888,92479,76293,78228,107196,109194,107538,95139,97942,119975,104768,98953,72822,74608,78236,77487,80022,75622,82747,47053,67140,66691,59753,67570,62722,61124,38695,53452,53668]
["MN","CLICB","CL","IC","MN Industrial Coal",23818,15197,19618,24851,26924,26735,39965,28123,37491,36365,40354,24403,24382,24014,24927,24686,24065,25783,26131,22403,24932,24732,21378,24055,23202,17480,19594,21929,19611]
["MO","CLICB","CL","IC","MO Industrial Coal",30376,28729,26646,27752,24605,25545,25873,31965,27905,27565,21760,23319,23025,23084,24441,23992,24212,24392,22353,17729,17413,12446,22796,24127,24255,21176,16029,20281,18821]
["MS","CLICB","CL","IC","MS Industrial Coal",6302,5630,5772,6317,7082,6899,5575,5636,5137,4424,3701,3723,3632,3537,3744,2872,3616,3542,3141,2580,2849,2622,2608,2801,2516,2562,0,0,0]
["MT","CLICB","CL","IC","MT Industrial Coal",4043,5192,4715,6810,10489,11249,2375,1920,2595,3024,2655,2614,1346,1365,1371,1315,1292,1630,1386,886,1112,1212,4184,4481,4856,4969,4671,4538,4289]
["NC","CLICB","CL","IC","NC Industrial Coal",74543,67840,71746,62257,60139,61568,58741,54080,47198,43888,46668,45581,42167,42079,38127,36907,32156,30110,27851,22764,23058,19783,17173,17903,15763,14337,13912,12384,10776]
["ND","CLICB","CL","IC","ND Industrial Coal",86330,84332,93130,91638,93828,99437,89983,85899,88914,88162,95604,93502,92182,94847,84824,92336,95351,92024,91705,93867,95785,92750,94081,88116,93331,95662,94036,94577,95082]
["NE","CLICB","CL","IC","NE Industrial Coal",4477,6129,5996,6832,7909,6563,5391,5670,7333,7722,8350,10136,7960,7796,7450,7824,8155,8085,7805,7266,12741,19045,18917,20297,21971,21175,20013,21022,20332]
["NH","CLICB","CL","IC","NH Industrial Coal",698,1288,1114,1973,0,14,0,0,0,0,0,0,0,0,0,0,0,0,0,0,0,0,0,0,0,0,0,0,0]
["NJ","CLICB","CL","IC","NJ Industrial Coal",6965,5912,5446,5608,1805,300,172,251,236,184,200,137,132,181,159,147,117,0,0,0,0,0,0,0,0,0,0,0,0]
["NM","CLICB","CL","IC","NM Industrial Coal",877,883,979,1302,1491,1673,1629,1664,1574,1608,1906,1778,1806,2003,1978,1926,1936,1882,1564,1462,1092,571,1015,1240,1450,1691,1808,1777,1793]
["NV","CLICB","CL","IC","NV Industrial Coal",3918,4560,3996,4547,4531,5769,4050,4257,5872,7023,5378,4870,4261,5227,4883,4594,4663,4666,4380,3393,4192,2500,6922,7583,7320,6820,6445,5802,6848]
["NY","CLICB","CL","IC","NY Industrial Coal",82605,82202,71263,76159,75059,72429,72455,72724,75147,71589,73490,63091,45174,41943,38883,39850,37069,34568,31626,23574,25445,25886,24171,21555,18713,19284,14048,13283,9726]
["OH","CLICB","CL","IC","OH Industrial Coal",248168,216767,197577,178164,176005,162883,142202,141196,139830,131092,110804,114029,86608,94820,93653,100053,110954,110504,109794,91264,118727,114721,134536,137155,136824,129222,112277,110249,114112]
["OK","CLICB","CL","IC","OK Industrial Coal",12695,16099,16611,26859,16113,32993,16405,15361,16272,16776,14201,14454,14588,14335,15127,15383,15018,15422,14595,12058,12406,11805,11536,12188,13311,11527,11220,8843,7016]
["OR","CLICB","CL","IC","OR Industrial Coal",1423,1872,2308,2223,2856,2797,1926,1949,752,0,0,0,1122,1503,1408,209,2667,2329,1688,1933,1860,1839,1744,1982,2534,2364,0,953,1417]
["PA","CLICB","CL","IC","PA Industrial Coal",382150,337637,369153,385016,392353,392218,398394,389967,284170,269634,277873,265987,267693,273988,273350,250265,240538,232284,227296,147854,186183,180267,185646,217202,221812,207622,159737,167111,175734]
["RI","CLICB","CL","IC","RI Industrial Coal",3,0,0,0,0,0,0,0,0,0,0,0,0,0,0,0,0,0,0,0,0,0,0,0,0,0,0,0,0]
["SC","CLICB","CL","IC","SC Industrial Coal",58028,55788,54843,60292,58535,55125,50133,50475,49104,46580,50239,53150,50633,51944,46628,38831,37050,32907,29725,23176,23865,23214,12885,13265,14375,11321,8445,6736,5323]
["SD","CLICB","CL","IC","SD Industrial Coal",3866,5048,4623,5793,7788,6782,6879,7588,7890,8570,12571,6379,5161,6173,4071,4604,4584,4605,3255,2068,2669,3111,3353,3410,3534,3348,3468,3745,3019]
["TN","CLICB","CL","IC","TN Industrial Coal",96767,93480,93079,99169,102658,94949,91820,90329,86088,82544,87368,92031,86973,87220,84029,81597,78238,77625,76609,66041,69470,66911,63912,64551,60478,55919,50523,39324,36801]
["TX","CLICB","CL","IC","TX Industrial Coal",61481,63187,60465,70882,82842,63674,73751,74119,62929,62567,73098,75464,71627,72494,70937,70078,70919,40433,38976,17063,13828,19450,19846,21613,27480,20417,13804,12513,10752]
["US","CLICB","CL","IC","US Industrial Coal",2753900,2600434,2511793,2499623,2506697,2500067,2438143,2396101,2254489,2187568,2259324,2193574,2020119,2044047,2046302,1953954,1913516,1864461,1791789,1394326,1625426,1566710,1516013,1546861,1528884,1379678,1206462,1196605,1178166]
["UT","CLICB","CL","IC","UT Industrial Coal",48673,43686,41976,44015,46124,47575,39969,43997,56702,37497,54064,43980,13620,14150,27976,33001,15739,20770,19823,16103,16531,13779,13531,14718,13908,15117,13139,11106,8705]
["VA","CLICB","CL","IC","VA Industrial Coal",117890,134297,116558,97667,97055,90722,91870,88798,86768,83397,91484,92938,88933,90871,86087,86884,80576,82479,81813,64311,72718,70326,67624,64625,58441,47533,45655,43029,43018]
["VT","CLICB","CL","IC","VT Industrial Coal",25,180,360,0,0,0,0,2633,0,1960,0,0,0,0,0,0,0,0,0,0,0,0,0,0,0,0,0,0,0]
["WA","CLICB","CL","IC","WA Industrial Coal",5201,4276,3370,3509,3875,4231,2980,3223,2690,2183,2815,2891,2284,2091,1847,1482,2006,3192,2950,3513,2729,1832,2097,2011,2707,1920,1881,1418,1381]
["WI","CLICB","CL","IC","WI Industrial Coal",47324,45641,44539,43400,47930,47204,40098,42401,40956,40092,40122,38863,40238,39953,40898,39143,39928,40130,38344,34175,35082,34175,31241,31437,32294,27057,18787,19746,19586]
["WV","CLICB","CL","IC","WV Industrial Coal",124265,108106,99835,107046,112123,97353,84217,65738,95168,82328,81051,75937,76986,71228,70702,59649,55944,65831,63764,47411,63832,63309,50727,46640,44761,41046,30631,26289,28341]
["WY","CLICB","CL","IC","WY Industrial Coal",41188,41804,44888,39862,40609,42497,40175,42275,42528,42404,38473,33180,30930,32043,32390,31552,33407,34489,34605,30465,31058,32555,31064,31406,31935,29342,32079,31505,31327]
["AK","CLKCB","KC","IC",{"$f":"A315&\" \"&VLOOKUP(D315,SectorCode,2,FALSE)&\" \"&VLOOKUP(C315,SectorCode,2,FALSE)","v":"AK Industrial Coking Coal"},0,0,0,0,0,0,0,0,0,0,0,0,0,0,0,0,0,0,0,0,0,0,0,0,0,0,0,0,0]
["AL","CLKCB","KC","IC","AL Industrial Coking Coal",88099,84833,88333,85918,87167,87290,87018,79213,65919,63311,59562,43352,38120,45200,47029,44397,40922,38926,37247,25620,34410,32785,39240,38534,44437,34643,36264,37545,35668]
["AR","CLKCB","KC","IC","AR Industrial Coking Coal",0,0,0,0,0,0,0,0,0,0,0,0,0,0,0,0,0,0,0,0,0,0,0,0,0,0,0,0,0]
["AZ","CLKCB","KC","IC","AZ Industrial Coking Coal",0,0,0,0,0,0,0,0,0,0,0,0,0,0,0,0,0,0,0,0,0,0,0,0,0,0,0,0,0]
["CA","CLKCB","KC","IC","CA Industrial Coking Coal",0,0,0,0,0,0,0,0,0,0,0,0,0,0,0,0,0,0,0,0,0,0,0,0,0,0,0,0,0]
["CO","CLKCB","KC","IC","CO Industrial Coking Coal",0,0,0,0,0,0,0,0,0,0,0,0,0,0,0,0,0,0,0,0,0,0,0,0,0,0,0,0,0]
["CT","CLKCB","KC","IC","CT Industrial Coking Coal",0,0,0,0,0,0,0,0,0,0,0,0,0,0,0,0,0,0,0,0,0,0,0,0,0,0,0,0,0]
["DC","CLKCB","KC","IC","DC Industrial Coking Coal",0,0,0,0,0,0,0,0,0,0,0,0,0,0,0,0,0,0,0,0,0,0,0,0,0,0,0,0,0]
["DE","CLKCB","KC","IC","DE Industrial Coking Coal",0,0,0,0,0,0,0,0,0,0,0,0,0,0,0,0,0,0,0,0,0,0,0,0,0,0,0,0,0]
["FL","CLKCB","KC","IC","FL Industrial Coking Coal",0,0,0,0,0,0,0,0,0,0,0,0,0,0,0,0,0,0,0,0,0,0,0,0,0,0,0,0,0]
["GA","CLKCB","KC","IC","GA Industrial Coking Coal",0,0,0,0,0,0,0,0,0,0,0,0,0,0,0,0,0,0,0,0,0,0,0,0,0,0,0,0,0]
["HI","CLKCB","KC","IC","HI Industrial Coking Coal",0,0,0,0,0,0,0,0,0,0,0,0,0,0,0,0,0,0,0,0,0,0,0,0,0,0,0,0,0]
["IA","CLKCB","KC","IC","IA Industrial Coking Coal",0,0,0,0,0,0,0,0,0,0,0,0,0,0,0,0,0,0,0,0,0,0,0,0,0,0,0,0,0]
["ID","CLKCB","KC","IC","ID Industrial Coking Coal",0,0,0,0,0,0,0,0,0,0,0,0,0,0,0,0,0,0,0,0,0,0,0,0,0,0,0,0,0]
["IL","CLKCB","KC","IC","IL Industrial Coking Coal",63136,60021,62058,57893,54538,61224,64696,65533,63742,64697,57541,33777,24222,23617,18373,16879,17076,20107,18137,13357,26139,39536,45961,45305,43174,30045,28098,28401,27335]
["IN","CLKCB","KC","IC","IN Industrial Coking Coal",237621,220661,191694,176642,129740,157653,156060,153161,176720,179997,226818,222161,221964,219625,219105,192951,178099,162657,147548,113791,145699,150534,164702,154600,137813,130212,110791,105963,109078]
["KS","CLKCB","KC","IC","KS Industrial Coking Coal",0,0,0,0,0,0,0,0,0,0,0,0,0,0,0,0,0,0,0,0,0,0,0,0,0,0,0,0,0]
["KY","CLKCB","KC","IC","KY Industrial Coking Coal",31561,22884,30249,31444,33420,38297,36229,35980,36540,34988,30688,28175,25484,24491,25482,26835,27160,29492,25226,17076,19797,12872,0,0,0,0,0,0,0]
["LA","CLKCB","KC","IC","LA Industrial Coking Coal",0,0,0,0,0,0,0,0,0,0,0,0,0,0,0,0,0,0,0,0,0,0,0,0,0,0,0,0,0]
["MA","CLKCB","KC","IC","MA Industrial Coking Coal",0,0,0,0,0,0,0,0,0,0,0,0,0,0,0,0,0,0,0,0,0,0,0,0,0,0,0,0,0]
["MD","CLKCB","KC","IC","MD Industrial Coking Coal",33634,26639,0,27,0,0,0,0,0,0,0,0,0,0,0,0,0,0,0,0,0,0,0,0,0,0,0,0,0]
["ME","CLKCB","KC","IC","ME Industrial Coking Coal",0,0,0,0,0,0,0,0,0,0,0,0,0,0,0,0,0,0,0,0,0,0,0,0,0,0,0,0,0]
["MI","CLKCB","KC","IC","MI Industrial Coking Coal",28488,15265,0,27,37198,37520,35769,36375,47401,73848,54719,44317,26834,27578,29142,31734,35414,31621,41335,25493,39388,39855,35395,38067,35903,38566,21413,35582,38152]
["MN","CLKCB","KC","IC","MN Industrial Coking Coal",0,0,0,0,0,0,0,0,0,0,0,0,0,0,0,0,0,0,0,0,0,0,0,0,0,0,0,0,0]
["MO","CLKCB","KC","IC","MO Industrial Coking Coal",0,0,0,0,0,0,0,0,0,0,0,0,0,0,0,0,0,0,0,0,0,0,0,0,0,0,0,0,0]
["MS","CLKCB","KC","IC","MS Industrial Coking Coal",0,0,0,0,0,0,0,0,0,0,0,0,0,0,0,0,0,0,0,0,0,0,0,0,0,0,0,0,0]
["MT","CLKCB","KC","IC","MT Industrial Coking Coal",0,0,0,0,0,0,0,0,0,0,0,0,0,0,0,0,0,0,0,0,0,0,0,0,0,0,0,0,0]
["NC","CLKCB","KC","IC","NC Industrial Coking Coal",0,0,0,0,0,0,0,0,0,0,0,0,0,0,0,0,0,0,0,0,0,0,0,0,0,0,0,0,0]
["ND","CLKCB","KC","IC","ND Industrial Coking Coal",0,0,0,0,0,0,0,0,0,0,0,0,0,0,0,0,0,0,0,0,0,0,0,0,0,0,0,0,0]
["NE","CLKCB","KC","IC","NE Industrial Coking Coal",0,0,0,0,0,0,0,0,0,0,0,0,0,0,0,0,0,0,0,0,0,0,0,0,0,0,0,0,0]
["NH","CLKCB","KC","IC","NH Industrial Coking Coal",0,0,0,0,0,0,0,0,0,0,0,0,0,0,0,0,0,0,0,0,0,0,0,0,0,0,0,0,0]
["NJ","CLKCB","KC","IC","NJ Industrial Coking Coal",0,0,0,0,0,0,0,0,0,0,0,0,0,0,0,0,0,0,0,0,0,0,0,0,0,0,0,0,0]
["NM","CLKCB","KC","IC",{"$f":"A347&\" \"&VLOOKUP(D347,SectorCode,2,FALSE)&\" \"&VLOOKUP(C347,SectorCode,2,FALSE)","v":"NM Industrial Coking Coal"},0,0,0,0,0,0,0,0,0,0,0,0,0,0,0,0,0,0,0,0,0,0,0,0,0,0,0,0,0]
["NV","CLKCB","KC","IC","NV Industrial Coking Coal",0,0,0,0,0,0,0,0,0,0,0,0,0,0,0,0,0,0,0,0,0,0,0,0,0,0,0,0,0]
["NY","CLKCB","KC","IC","NY Industrial Coking Coal",36303,32840,30766,33312,35765,37064,36200,35383,35482,33495,30697,22000,15187,13255,8363,8731,8321,7795,7208,4422,4931,5261,4908,4523,3559,4369,3258,3214,2415]
["OH","CLKCB","KC","IC","OH Industrial Coking Coal",132644,99108,100632,77494,82863,74422,49364,49530,50073,49065,44097,55757,32903,42117,43882,51360,62596,63303,63985,55056,77662,76433,101441,105053,104091,103066,95022,96454,101526]
["OK","CLKCB","KC","IC","OK Industrial Coking Coal",0,0,0,0,0,0,0,0,0,0,0,0,0,0,0,0,0,0,0,0,0,0,0,0,0,0,0,0,0]
["OR","CLKCB","KC","IC","OR Industrial Coking Coal",0,0,0,0,0,0,0,0,0,0,0,0,0,0,0,0,0,0,0,0,0,0,0,0,0,0,0,0,0]
["PA","CLKCB","KC","IC","PA Industrial Coking Coal",280218,236151,264464,276911,290763,290997,286465,276940,194923,180404,192244,184394,192435,200749,194212,182475,177191,173635,168822,98453,134939,132701,146749,178615,184922,172216,130860,149838,162218]
["RI","CLKCB","KC","IC","RI Industrial Coking Coal",0,0,0,0,0,0,0,0,0,0,0,0,0,0,0,0,0,0,0,0,0,0,0,0,0,0,0,0,0]
["SC","CLKCB","KC","IC","SC Industrial Coking Coal",0,0,0,0,0,0,0,0,0,0,0,0,0,0,0,0,0,0,0,0,0,0,0,0,0,0,0,0,0]
["SD","CLKCB","KC","IC","SD Industrial Coking Coal",0,0,0,0,0,0,0,0,0,0,0,0,0,0,0,0,0,0,0,0,0,0,0,0,0,0,0,0,0]
["TN","CLKCB","KC","IC","TN Industrial Coking Coal",1790,476,0,0,0,0,0,0,0,0,0,0,0,0,0,0,0,0,0,0,0,0,0,0,0,0,0,0,0]
["TX","CLKCB","KC","IC","TX Industrial Coking Coal",0,0,0,0,0,0,0,0,0,0,0,0,0,0,0,0,0,0,0,0,0,0,0,0,0,0,0,0,0]
["US","CLKCB","KC","IC","US Industrial Coking Coal",1041846,907260,867397,839450,850640,884699,849714,809440,773092,770879,793680,715129,648778,665003,649166,615998,603030,597930,580198,403421,554747,563997,594238,616422,606019,562064,471626,502867,524533]
["UT","CLKCB","KC","IC","UT Industrial Coking Coal",32991,31935,29847,26934,26974,26532,28056,27344,26636,20334,26991,15014,0,0,0,0,0,0,0,0,0,0,0,0,0,0,0,0,0]
["VA","CLKCB","KC","IC","VA Industrial Coking Coal",23718,26068,26046,25808,25958,25889,26287,26435,27898,28022,29536,31368,33723,32429,29739,29532,27664,31858,30248,22106,31408,33275,30381,30377,30426,29670,29609,29691,30056]
["VT","CLKCB","KC","IC","VT Industrial Coking Coal",0,0,0,0,0,0,0,0,0,0,0,0,0,0,0,0,0,0,0,0,0,0,0,0,0,0,0,0,0]
["WA","CLKCB","KC","IC","WA Industrial Coking Coal",0,0,0,0,0,0,0,0,0,0,0,0,0,0,0,0,0,0,0,0,0,0,0,0,0,0,0,0,0]
["WI","CLKCB","KC","IC","WI Industrial Coking Coal",0,0,0,0,0,0,0,0,0,0,0,0,0,0,0,0,0,0,0,0,0,0,0,0,0,0,0,0,0]
["WV","CLKCB","KC","IC","WV Industrial Coking Coal",51644,50379,43309,47039,46254,47811,43572,23546,47760,42718,40786,34814,37905,35941,33838,31103,28588,38536,40443,28045,40375,40745,25461,21348,21694,19276,16311,16179,18085]
["WY","CLKCB","KC","IC","WY Industrial Coking Coal",0,0,0,0,0,0,0,0,0,0,0,0,0,0,0,0,0,0,0,0,0,0,0,0,0,0,0,0,0]
["AK","CLOCB",{"$f":"MID(B367,1,2)","v":"CL"},{"$f":"MID(B367,3,2)","v":"OC"},{"$f":"A367&\" \"&VLOOKUP(D367,SectorCode,2,FALSE)&\" \"&VLOOKUP(C367,FuelCode,2,FALSE)","v":"AK Industrial Other Coal"},0,0,0,32,82,0,39,39,20,22,13,23,15,7,15,25,33,26,2,57,57,73,19,16,17,17,17,18,17]
["AL","CLOCB","CL","OC","AL Industrial Other Coal",55205,60654,77284,55658,59015,56797,63086,67569,60743,58125,57089,58709,54638,52621,53451,46044,44487,42514,43470,33996,34409,32194,33698,37892,42827,34834,28326,25280,24250]
["AR","CLOCB","CL","OC","AR Industrial Other Coal",5839,6839,7076,7748,8599,7784,8356,6980,7004,7927,9616,10901,10457,10126,10126,9275,9084,9778,9567,7429,7272,5576,5154,5065,5461,4672,4827,4684,4065]
["AZ","CLOCB","CL","OC","AZ Industrial Other Coal",13251,13737,12831,13482,14656,13106,13367,13716,13427,13167,15958,14718,13988,15249,16194,15926,16315,15308,12929,8730,10772,10021,8709,4318,5189,5434,4068,5283,6534]
["CA","CLOCB","CL","OC","CA Industrial Other Coal",64738,62994,64801,53625,54174,57900,56202,62178,43348,46772,47380,46727,47113,47749,46188,46284,45062,43136,39420,31318,33196,35572,30679,31938,32620,30967,32077,33663,33256]
["CO","CLOCB","CL","OC","CO Industrial Other Coal",15383,15558,14784,16328,18477,15814,7923,15704,8331,9111,9270,6770,4720,6528,6669,6939,6498,5352,5410,3213,7479,3307,6256,7502,8400,8059,6565,6412,3836]
["CT","CLOCB","CL","OC","CT Industrial Other Coal",25,75,299,744,733,0,0,0,0,0,0,0,0,0,0,20,0,0,0,0,0,0,0,0,0,0,0,0,0]
["DC","CLOCB","CL","OC","DC Industrial Other Coal",0,0,0,0,0,0,0,0,0,0,0,0,0,0,0,0,0,0,0,0,0,0,0,0,0,0,0,0,0]
["DE","CLOCB","CL","OC","DE Industrial Other Coal",5349,5215,3586,4386,4771,4887,4123,4389,4378,3720,4669,4479,2565,2574,3112,3091,2694,2718,2198,565,0,0,0,0,0,0,2339,0,0]
["FL","CLOCB","CL","OC","FL Industrial Other Coal",30171,28485,33382,32511,32490,33256,31890,33749,31969,29719,32052,30141,30635,28345,27021,27581,28659,27941,27306,24051,21718,12622,12772,14996,16010,14984,13097,14172,12938]
["GA","CLOCB","CL","OC","GA Industrial Other Coal",56141,52821,44925,43170,48461,49106,49886,51325,49607,49366,51033,51277,47323,45538,45451,43492,40739,38888,36407,26580,31763,29239,21703,18647,21152,12114,11109,8366,8431]
["HI","CLOCB","CL","OC","HI Industrial Other Coal",695,919,1167,1813,1849,4119,3640,3735,3364,2692,2139,2044,655,1374,1253,1411,1637,1795,2311,2033,1415,1305,1140,1358,1368,1136,271,0,0]
["IA","CLOCB","CL","OC","IA Industrial Other Coal",53149,59296,52881,50302,55004,57924,65732,64950,59972,63426,60879,59062,58529,60241,59190,59135,60820,60831,57480,52608,66005,70327,63588,64323,58685,52535,45408,44628,43924]
["ID","CLOCB","CL","OC","ID Industrial Other Coal",8724,10733,8480,8820,8761,8103,6700,5726,7648,6820,13302,10972,9785,9926,12211,11019,7952,9232,8393,8261,8328,7687,5066,7881,7427,4249,2432,2615,2823]
["IL","CLOCB","CL","OC","IL Industrial Other Coal",87692,96781,85014,90750,94849,83413,85451,89902,88646,83685,78740,77484,72546,74525,75256,75663,78133,79302,77185,60558,69951,71068,67650,66128,66421,56702,52200,53665,52774]
["IN","CLOCB","CL","OC","IN Industrial Other Coal",105142,100937,97843,104835,96076,100814,113272,118122,102309,96314,102541,131893,127650,127637,141023,124017,130738,134316,126097,111255,121469,83896,51026,56628,46919,39203,58231,53132,46869]
["KS","CLOCB","CL","OC","KS Industrial Other Coal",3801,3627,3873,3232,3287,3337,3915,3357,2714,2686,3240,3862,4277,3843,5042,5015,5681,5767,4009,2475,2652,2504,1999,2032,2948,2765,2281,2436,2528]
["KY","CLOCB","CL","OC","KY Industrial Other Coal",55502,50903,41033,59409,49368,55916,57453,46805,34376,27326,28912,35390,30312,31695,34933,31616,34501,34300,32379,26330,30391,34897,29067,27797,26605,26360,20458,22110,19853]
["LA","CLOCB","CL","OC","LA Industrial Other Coal",15963,10267,11083,10787,11433,7653,2101,1663,1033,931,1389,1981,1303,3139,2058,1601,1768,1731,1743,341,526,1299,2284,2302,2931,3723,4083,3780,3960]
["MA","CLOCB","CL","OC","MA Industrial Other Coal",1816,2119,3859,2864,1631,1057,949,916,853,815,1490,1461,1195,1548,1483,1869,2025,2224,2222,1316,1753,1635,1664,1614,1544,1215,99,103,101]
["MD","CLOCB",{"$f":"MID(B387,1,2)","v":"CL"},{"$f":"MID(B387,3,2)","v":"OC"},{"$f":"A387&\" \"&VLOOKUP(D387,SectorCode,2,FALSE)&\" \"&VLOOKUP(C387,FuelCode,2,FALSE)","v":"MD Industrial Other Coal"},23743,26162,17802,18463,18752,19246,19737,19278,19246,19933,20320,33623,34051,31837,34536,32978,30431,29880,28547,22157,22649,21655,20407,15363,15627,15031,12103,12275,11914]
["ME","CLOCB","CL","OC","ME Industrial Other Coal",5533,9029,20557,10564,11437,6993,5751,4734,3390,2864,5687,3203,2286,3115,2973,3219,2780,2937,2633,797,862,573,489,690,815,742,421,465,537]
["MI","CLOCB","CL","OC","MI Industrial Other Coal",89400,77214,76293,78202,69998,71674,71769,58764,50541,46127,50049,54635,45989,47030,49094,45753,44608,44001,41412,21560,27752,26836,24358,29503,26820,22559,17282,17870,15516]
["MN","CLOCB","CL","OC","MN Industrial Other Coal",23818,15197,19618,24851,26924,26735,39965,28123,37491,36365,40354,24403,24382,24014,24927,24686,24065,25783,26131,22403,24932,24732,21378,24055,23202,17480,19594,21929,19611]
["MO","CLOCB","CL","OC","MO Industrial Other Coal",30376,28729,26646,27752,24605,25545,25873,31965,27905,27565,21760,23319,23025,23084,24441,23992,24212,24392,22353,17729,17413,12446,22796,24127,24255,21176,16029,20281,18821]
["MS","CLOCB","CL","OC","MS Industrial Other Coal",6302,5630,5772,6317,7082,6899,5575,5636,5137,4424,3701,3723,3632,3537,3744,2872,3616,3542,3141,2580,2849,2622,2608,2801,2516,2562,0,0,0]
["MT","CLOCB","CL","OC","MT Industrial Other Coal",4043,5192,4715,6810,10489,11249,2375,1920,2595,3024,2655,2614,1346,1365,1371,1315,1292,1630,1386,886,1112,1212,4184,4481,4856,4969,4671,4538,4289]
["NC","CLOCB","CL","OC","NC Industrial Other Coal",74543,67840,71746,62257,60139,61568,58741,54080,47198,43888,46668,45581,42167,42079,38127,36907,32156,30110,27851,22764,23058,19783,17173,17903,15763,14337,13912,12384,10776]
["ND","CLOCB","CL","OC","ND Industrial Other Coal",86330,84332,93130,91638,93828,99437,89983,85899,88914,88162,95604,93502,92182,94847,84824,92336,95351,92024,91705,93867,95785,92750,94081,88116,93331,95662,94036,94577,95082]
["NE","CLOCB","CL","OC","NE Industrial Other Coal",4477,6129,5996,6832,7909,6563,5391,5670,7333,7722,8350,10136,7960,7796,7450,7824,8155,8085,7805,7266,12741,19045,18917,20297,21971,21175,20013,21022,20332]
["NH","CLOCB","CL","OC","NH Industrial Other Coal",698,1288,1114,1973,0,14,0,0,0,0,0,0,0,0,0,0,0,0,0,0,0,0,0,0,0,0,0,0,0]
["NJ","CLOCB","CL","OC","NJ Industrial Other Coal",6965,5912,5446,5608,1805,300,172,251,236,184,200,137,132,181,159,147,117,0,0,0,0,0,0,0,0,0,0,0,0]
["NM","CLOCB","CL","OC","NM Industrial Other Coal",877,883,979,1302,1491,1673,1629,1664,1574,1608,1906,1778,1806,2003,1978,1926,1936,1882,1564,1462,1092,571,1015,1240,1450,1691,1808,1777,1793]
["NV","CLOCB","CL","OC","NV Industrial Other Coal",3918,4560,3996,4547,4531,5769,4050,4257,5872,7023,5378,4870,4261,5227,4883,4594,4663,4666,4380,3393,4192,2500,6922,7583,7320,6820,6445,5802,6848]
["NY","CLOCB","CL","OC","NY Industrial Other Coal",46302,49362,40497,42847,39295,35364,36256,37341,39665,38095,42793,41091,29986,28688,30520,31119,28748,26773,24418,19151,20514,20626,19263,17032,15154,14915,10790,10069,7310]
["OH","CLOCB","CL","OC","OH Industrial Other Coal",115524,117659,96946,100670,93141,88461,92838,91666,89758,82027,66707,58271,53705,52703,49771,48693,48358,47201,45809,36208,41065,38288,33095,32103,32733,26156,17255,13795,12586]
["OK","CLOCB","CL","OC","OK Industrial Other Coal",12695,16099,16611,26859,16113,32993,16405,15361,16272,16776,14201,14454,14588,14335,15127,15383,15018,15422,14595,12058,12406,11805,11536,12188,13311,11527,11220,8843,7016]
["OR","CLOCB","CL","OC","OR Industrial Other Coal",1423,1872,2308,2223,2856,2797,1926,1949,752,0,0,0,1122,1503,1408,209,2667,2329,1688,1933,1860,1839,1744,1982,2534,2364,0,953,1417]
["PA","CLOCB","CL","OC","PA Industrial Other Coal",101932,101486,104689,108105,101589,101221,111929,113027,89248,89230,85629,81593,75258,73240,79138,67791,63347,58649,58475,49401,51244,47566,38897,38587,36890,35406,28876,17273,13516]
["RI","CLOCB","CL","OC","RI Industrial Other Coal",3,0,0,0,0,0,0,0,0,0,0,0,0,0,0,0,0,0,0,0,0,0,0,0,0,0,0,0,0]
["SC","CLOCB","CL","OC","SC Industrial Other Coal",58028,55788,54843,60292,58535,55125,50133,50475,49104,46580,50239,53150,50633,51944,46628,38831,37050,32907,29725,23176,23865,23214,12885,13265,14375,11321,8445,6736,5323]
["SD","CLOCB","CL","OC","SD Industrial Other Coal",3866,5048,4623,5793,7788,6782,6879,7588,7890,8570,12571,6379,5161,6173,4071,4604,4584,4605,3255,2068,2669,3111,3353,3410,3534,3348,3468,3745,3019]
["TN","CLOCB","CL","OC","TN Industrial Other Coal",94977,93004,93079,99169,102658,94949,91820,90329,86088,82544,87368,92031,86973,87220,84029,81597,78238,77625,76609,66041,69470,66911,63912,64551,60478,55919,50523,39324,36801]
["TX","CLOCB","CL","OC","TX Industrial Other Coal",61481,63187,60465,70882,82842,63674,73751,74119,62929,62567,73098,75464,71627,72494,70937,70078,70919,40433,38976,17063,13828,19450,19846,21613,27480,20417,13804,12513,10752]
["US","CLOCB","CL","OC","US Industrial Other Coal",1712054,1693175,1644396,1660172,1656056,1615368,1588428,1586661,1481397,1416689,1465644,1478445,1371341,1379044,1397136,1337956,1310486,1266531,1211592,990905,1070679,1002713,921775,930439,922865,817615,734836,693739,653633]
["UT","CLOCB","CL","OC","UT Industrial Other Coal",15682,11752,12129,17081,19150,21043,11913,16653,30065,17163,27072,28966,13620,14150,27976,33001,15739,20770,19823,16103,16531,13779,13531,14718,13908,15117,13139,11106,8705]
["VA","CLOCB","CL","OC","VA Industrial Other Coal",94172,108229,90512,71859,71097,64833,65583,62363,58871,55375,61947,61570,55210,58441,56348,57352,52912,50621,51566,42204,41310,37051,37243,34248,28014,17864,16046,13338,12962]
["VT","CLOCB","CL","OC","VT Industrial Other Coal",25,180,360,0,0,0,0,2633,0,1960,0,0,0,0,0,0,0,0,0,0,0,0,0,0,0,0,0,0,0]
["WA","CLOCB","CL","OC","WA Industrial Other Coal",5201,4276,3370,3509,3875,4231,2980,3223,2690,2183,2815,2891,2284,2091,1847,1482,2006,3192,2950,3513,2729,1832,2097,2011,2707,1920,1881,1418,1381]
["WI","CLOCB","CL","OC","WI Industrial Other Coal",47324,45641,44539,43400,47930,47204,40098,42401,40956,40092,40122,38863,40238,39953,40898,39143,39928,40130,38344,34175,35082,34175,31241,31437,32294,27057,18787,19746,19586]
["WV","CLOCB","CL","OC","WV Industrial Other Coal",72621,57728,56526,60006,65869,49541,40645,42192,47408,39610,40265,41123,39081,35287,36864,28546,27356,27295,23320,19365,23457,22564,25266,25293,23067,21770,14320,10111,10257]
["WY","CLOCB","CL","OC","WY Industrial Other Coal",41188,41804,44888,39862,40609,42497,40175,42275,42528,42404,38473,33180,30930,32043,32390,31552,33407,34489,34605,30465,31058,32555,31064,31406,31935,29342,32079,31505,31327]
["AK","CLRCB","CL","RC","AK Residential Coal",1560,1433,1463,1601,1231,1074,899,877,916,1034,898,812,881,909,776,631,783,739,0,0,0,0,0,0,0,0,0,0,0]
["AL","CLRCB","CL","RC","AL Residential Coal",515,74,386,175,39,23,130,197,25,71,148,34,11,9,1,4,56,2,0,0,0,0,0,0,0,0,0,0,0]
["AR","CLRCB","CL","RC","AR Residential Coal",1,2,9,4,1,0,0,0,0,0,0,0,0,0,0,0,0,3,0,0,0,0,0,0,0,0,0,0,0]
["AZ","CLRCB","CL","RC","AZ Residential Coal",0,1,14,4,0,14,0,0,1,0,0,1,2,2,2,2,1,1,0,0,0,0,0,0,0,0,0,0,0]
["CA","CLRCB","CL","RC","CA Residential Coal",116,185,1,593,579,402,495,276,300,79,62,0,0,1,19,36,3,0,0,0,0,0,0,0,0,0,0,0,0]
["CO","CLRCB","CL","RC","CO Residential Coal",248,251,220,148,76,57,35,133,43,276,191,718,615,807,499,237,133,29,0,0,0,0,0,0,0,0,0,0,0]
["CT","CLRCB","CL","RC","CT Residential Coal",60,59,89,56,45,77,17,20,19,17,11,11,12,13,10,10,8,8,0,0,0,0,0,0,0,0,0,0,0]
["DC","CLRCB","CL","RC","DC Residential Coal",347,298,226,230,175,19,69,108,17,18,19,82,12,22,74,75,0,50,0,0,0,0,0,0,0,0,0,0,0]
["DE","CLRCB","CL","RC","DE Residential Coal",109,90,1,210,107,3,15,17,21,3,3,3,0,0,0,0,1,1,0,0,0,0,0,0,0,0,0,0,0]
["FL","CLRCB","CL","RC","FL Residential Coal",23,1,69,71,76,4,3,0,16,20,26,154,29,25,0,1,1,1,0,0,0,0,0,0,0,0,0,0,0]
["GA","CLRCB","CL","RC","GA Residential Coal",112,36,174,99,108,193,9,47,31,51,24,32,16,0,17,97,0,5,0,0,0,0,0,0,0,0,0,0,0]
["HI","CLRCB","CL","RC","HI Residential Coal",0,0,0,0,0,0,0,0,0,0,0,0,0,0,0,0,0,0,0,0,0,0,0,0,0,0,0,0,0]
["IA","CLRCB","CL","RC","IA Residential Coal",1176,966,273,297,143,284,653,968,750,1213,749,732,908,905,414,517,639,755,0,0,0,0,0,0,0,0,0,0,0]
["ID","CLRCB","CL","RC","ID Residential Coal",272,277,205,173,135,110,73,75,125,139,47,47,49,38,12,21,23,103,0,0,0,0,0,0,0,0,0,0,0]
["IL","CLRCB","CL","RC","IL Residential Coal",1190,1045,1163,1062,863,653,509,740,573,477,556,579,479,793,572,267,276,370,0,0,0,0,0,0,0,0,0,0,0]
["IN","CLRCB","CL","RC","IN Residential Coal",2475,1749,1662,1380,1209,831,951,965,928,1029,712,615,883,1039,959,461,116,392,0,0,0,0,0,0,0,0,0,0,0]
["KS","CLRCB","CL","RC","KS Residential Coal",2,2,1,94,119,117,226,6,0,20,29,1,1,0,0,0,0,0,0,0,0,0,0,0,0,0,0,0,0]
["KY","CLRCB","CL","RC","KY Residential Coal",737,832,946,1191,1064,421,342,906,650,1263,555,596,748,643,661,557,279,322,0,0,0,0,0,0,0,0,0,0,0]
["LA","CLRCB","CL","RC","LA Residential Coal",0,0,0,4,0,16,0,0,0,0,0,0,0,0,0,0,0,0,0,0,0,0,0,0,0,0,0,0,0]
["MA","CLRCB","CL","RC","MA Residential Coal",316,120,259,193,83,87,98,79,78,122,48,45,260,166,86,86,36,58,0,0,0,0,0,0,0,0,0,0,0]
["MD","CLRCB","CL","RC","MD Residential Coal",241,190,60,67,136,959,123,152,148,140,230,207,9,18,139,62,94,90,0,0,0,0,0,0,0,0,0,0,0]
["ME","CLRCB","CL","RC","ME Residential Coal",214,59,162,115,23,10,12,11,9,9,9,8,6,7,5,6,6,6,0,0,0,0,0,0,0,0,0,0,0]
["MI","CLRCB","CL","RC","MI Residential Coal",1328,1183,848,1054,1066,814,805,509,396,60,38,23,754,99,439,298,19,422,0,0,0,0,0,0,0,0,0,0,0]
["MN","CLRCB","CL","RC","MN Residential Coal",639,301,79,355,673,694,328,213,88,34,11,4,221,3,0,113,145,123,0,0,0,0,0,0,0,0,0,0,0]
["MO","CLRCB","CL","RC","MO Residential Coal",1246,996,900,1048,750,620,556,668,402,608,427,536,521,581,448,399,452,452,0,0,0,0,0,0,0,0,0,0,0]
["MS","CLRCB","CL","RC","MS Residential Coal",0,0,1,0,0,0,0,0,0,0,0,0,0,0,0,0,0,0,0,0,0,0,0,0,0,0,0,0,0]
["MT","CLRCB","CL","RC","MT Residential Coal",214,146,69,37,11,28,10,163,11,6,5,6,7,5,196,210,228,3,0,0,0,0,0,0,0,0,0,0,0]
["NC","CLRCB","CL","RC","NC Residential Coal",788,443,917,1031,985,732,613,528,588,486,336,352,393,428,873,303,263,114,0,0,0,0,0,0,0,0,0,0,0]
["ND","CLRCB","CL","RC","ND Residential Coal",375,339,317,364,311,222,263,230,185,219,210,236,282,360,426,377,167,417,0,0,0,0,0,0,0,0,0,0,0]
["NE","CLRCB","CL","RC","NE Residential Coal",17,45,23,20,23,24,3,225,0,0,0,14,17,16,7,6,11,12,0,0,0,0,0,0,0,0,0,0,0]
["NH","CLRCB","CL","RC","NH Residential Coal",60,100,71,43,30,26,24,16,13,10,11,11,12,7,5,8,9,9,0,0,0,0,0,0,0,0,0,0,0]
["NJ","CLRCB","CL","RC","NJ Residential Coal",65,50,67,35,38,22,24,16,14,15,14,11,12,13,13,6,5,6,0,0,0,0,0,0,0,0,0,0,0]
["NM","CLRCB",{"$f":"MID(B451,1,2)","v":"CL"},{"$f":"MID(B451,3,2)","v":"RC"},{"$f":"A451&\" \"&VLOOKUP(D451,SectorCode,2,FALSE)&\" \"&VLOOKUP(C451,FuelCode,2,FALSE)","v":"NM Residential Coal"},19,27,32,35,26,20,19,17,25,18,17,10,11,10,8,6,7,7,0,0,0,0,0,0,0,0,0,0,0]
["NV","CLRCB","CL","RC","NV Residential Coal",14,8,4,8,3,3,3,3,3,1,0,2,2,2,2,1,4,0,0,0,0,0,0,0,0,0,0,0,0]
["NY","CLRCB","CL","RC","NY Residential Coal",1357,1255,1225,1018,695,714,843,694,412,551,283,312,136,276,402,320,313,330,0,0,0,0,0,0,0,0,0,0,0]
["OH","CLRCB","CL","RC","OH Residential Coal",3158,2130,2580,2555,1819,1299,1873,864,1086,629,571,610,1036,636,973,640,238,341,0,0,0,0,0,0,0,0,0,0,0]
["OK","CLRCB","CL","RC","OK Residential Coal",0,5,4,2,4,37,3,556,2,5,0,2,3,3,0,2,6,0,0,0,0,0,0,0,0,0,0,0,0]
["OR","CLRCB","CL","RC","OR Residential Coal",9,4,4,9,4,3,0,3,0,1,0,0,0,0,0,0,0,0,0,0,0,0,0,0,0,0,0,0,0]
["PA","CLRCB","CL","RC","PA Residential Coal",6570,6381,7280,5533,4346,3836,2949,3375,2337,2107,2154,2170,1767,2285,1708,1253,1411,1801,0,0,0,0,0,0,0,0,0,0,0]
["RI","CLRCB","CL","RC","RI Residential Coal",25,18,22,13,11,10,10,8,6,5,6,6,9,13,8,6,4,4,0,0,0,0,0,0,0,0,0,0,0]
["SC","CLRCB","CL","RC","SC Residential Coal",32,100,138,488,229,56,56,2,66,749,0,0,0,0,0,0,193,0,0,0,0,0,0,0,0,0,0,0,0]
["SD","CLRCB","CL","RC","SD Residential Coal",11,13,3,3,46,17,4,2,0,2,3,24,3,2,2,1,2,2,0,0,0,0,0,0,0,0,0,0,0]
["TN","CLRCB","CL","RC","TN Residential Coal",1079,777,686,502,341,477,333,361,72,306,321,375,189,414,164,64,91,174,0,0,0,0,0,0,0,0,0,0,0]
["TX","CLRCB","CL","RC","TX Residential Coal",54,49,39,21,0,0,0,0,39,16,22,48,147,351,28,25,0,0,0,0,0,0,0,0,0,0,0,0,0]
["US","CLRCB","CL","RC","US Residential Coal",30957,25339,25630,25575,20667,17382,16372,15910,12433,13857,10606,10913,11975,12383,11429,8325,6364,7820,0,0,0,0,0,0,0,0,0,0,0]
["UT","CLRCB","CL","RC","UT Residential Coal",1236,1271,927,505,366,233,263,313,293,320,150,154,560,188,503,84,75,53,0,0,0,0,0,0,0,0,0,0,0]
["VA","CLRCB","CL","RC","VA Residential Coal",1184,629,869,1395,1181,926,1190,499,500,394,239,356,232,341,232,240,59,206,0,0,0,0,0,0,0,0,0,0,0]
["VT","CLRCB","CL","RC","VT Residential Coal",35,23,27,26,19,10,5,7,6,7,3,6,3,3,3,2,2,3,0,0,0,0,0,0,0,0,0,0,0]
["WA","CLRCB","CL","RC","WA Residential Coal",287,323,365,462,290,229,65,54,40,52,57,57,65,80,54,0,0,0,0,0,0,0,0,0,0,0,0,0,0]
["WI","CLRCB","CL","RC","WI Residential Coal",25,45,19,165,193,422,316,444,387,505,494,509,370,499,371,633,64,136,0,0,0,0,0,0,0,0,0,0,0]
["WV","CLRCB","CL","RC","WV Residential Coal",894,432,391,456,323,210,323,286,459,518,613,130,100,137,138,159,55,163,0,0,0,0,0,0,0,0,0,0,0]
["WY","CLRCB","CL","RC","WY Residential Coal",519,577,339,624,669,345,833,279,355,252,305,271,202,232,182,99,83,105,0,0,0,0,0,0,0,0,0,0,0]
["AK","COICB","CO","IC","AK Industrial Crude Oil",8701,0,0,0,0,0,0,0,0,0,0,0,0,0,0,0,0,0,0,0,0,0,0,0,0,0,0,0,0]
["AL","COICB","CO","IC","AL Industrial Crude Oil",0,0,0,0,0,0,0,0,0,0,0,0,0,0,0,0,0,0,0,0,0,0,0,0,0,0,0,0,0]
["AR","COICB","CO","IC","AR Industrial Crude Oil",0,0,0,0,0,0,0,0,0,0,0,0,0,0,0,0,0,0,0,0,0,0,0,0,0,0,0,0,0]
["AZ","COICB","CO","IC","AZ Industrial Crude Oil",0,0,0,0,0,0,0,0,0,0,0,0,0,0,0,0,0,0,0,0,0,0,0,0,0,0,0,0,0]
["CA","COICB","CO","IC","CA Industrial Crude Oil",42182,38947,27364,21153,18682,14535,13729,4623,0,0,0,0,0,0,0,0,0,0,0,0,0,0,0,0,0,0,0,0,0]
["CO","COICB","CO","IC","CO Industrial Crude Oil",0,0,0,0,0,0,0,0,0,0,0,0,0,0,0,0,0,0,0,0,0,0,0,0,0,0,0,0,0]
["CT","COICB","CO","IC","CT Industrial Crude Oil",0,0,0,0,0,0,0,0,0,0,0,0,0,0,0,0,0,0,0,0,0,0,0,0,0,0,0,0,0]
["DC","COICB","CO","IC","DC Industrial Crude Oil",0,0,0,0,0,0,0,0,0,0,0,0,0,0,0,0,0,0,0,0,0,0,0,0,0,0,0,0,0]
["DE","COICB","CO","IC","DE Industrial Crude Oil",0,0,0,0,0,0,0,0,0,0,0,0,0,0,0,0,0,0,0,0,0,0,0,0,0,0,0,0,0]
["FL","COICB","CO","IC","FL Industrial Crude Oil",0,0,0,0,0,0,0,0,0,0,0,0,0,0,0,0,0,0,0,0,0,0,0,0,0,0,0,0,0]
["GA","COICB","CO","IC","GA Industrial Crude Oil",0,0,0,0,0,0,0,0,0,0,0,0,0,0,0,0,0,0,0,0,0,0,0,0,0,0,0,0,0]
["HI","COICB","CO","IC","HI Industrial Crude Oil",0,0,0,0,0,0,0,0,0,0,0,0,0,0,0,0,0,0,0,0,0,0,0,0,0,0,0,0,0]
["IA","COICB","CO","IC","IA Industrial Crude Oil",0,0,0,0,0,0,0,0,0,0,0,0,0,0,0,0,0,0,0,0,0,0,0,0,0,0,0,0,0]
["ID","COICB","CO","IC","ID Industrial Crude Oil",0,0,0,0,0,0,0,0,0,0,0,0,0,0,0,0,0,0,0,0,0,0,0,0,0,0,0,0,0]
["IL","COICB","CO","IC","IL Industrial Crude Oil",0,0,0,0,0,0,0,0,0,0,0,0,0,0,0,0,0,0,0,0,0,0,0,0,0,0,0,0,0]
["IN","COICB","CO","IC","IN Industrial Crude Oil",0,0,0,0,0,0,0,0,0,0,0,0,0,0,0,0,0,0,0,0,0,0,0,0,0,0,0,0,0]
["KS","COICB","CO","IC","KS Industrial Crude Oil",0,0,0,0,0,0,0,0,0,0,0,0,0,0,0,0,0,0,0,0,0,0,0,0,0,0,0,0,0]
["KY","COICB","CO","IC","KY Industrial Crude Oil",0,0,0,0,0,0,0,0,0,0,0,0,0,0,0,0,0,0,0,0,0,0,0,0,0,0,0,0,0]
["LA","COICB","CO","IC","LA Industrial Crude Oil",0,0,0,0,0,0,0,0,0,0,0,0,0,0,0,0,0,0,0,0,0,0,0,0,0,0,0,0,0]
["MA","COICB","CO","IC","MA Industrial Crude Oil",0,0,0,0,0,0,0,0,0,0,0,0,0,0,0,0,0,0,0,0,0,0,0,0,0,0,0,0,0]
["MD","COICB","CO","IC","MD Industrial Crude Oil",0,0,0,0,0,0,0,0,0,0,0,0,0,0,0,0,0,0,0,0,0,0,0,0,0,0,0,0,0]
["ME","COICB","CO","IC","ME Industrial Crude Oil",0,0,0,0,0,0,0,0,0,0,0,0,0,0,0,0,0,0,0,0,0,0,0,0,0,0,0,0,0]
["MI","COICB","CO","IC","MI Industrial Crude Oil",0,0,0,0,0,0,0,0,0,0,0,0,0,0,0,0,0,0,0,0,0,0,0,0,0,0,0,0,0]
["MN","COICB","CO","IC","MN Industrial Crude Oil",0,0,0,0,0,0,0,0,0,0,0,0,0,0,0,0,0,0,0,0,0,0,0,0,0,0,0,0,0]
["MO","COICB","CO","IC","MO Industrial Crude Oil",0,0,0,0,0,0,0,0,0,0,0,0,0,0,0,0,0,0,0,0,0,0,0,0,0,0,0,0,0]
["MS","COICB","CO","IC","MS Industrial Crude Oil",0,0,0,0,0,0,0,0,0,0,0,0,0,0,0,0,0,0,0,0,0,0,0,0,0,0,0,0,0]
["MT","COICB","CO","IC","MT Industrial Crude Oil",0,0,0,0,0,0,0,0,0,0,0,0,0,0,0,0,0,0,0,0,0,0,0,0,0,0,0,0,0]
["NC","COICB","CO","IC","NC Industrial Crude Oil",0,0,0,0,0,0,0,0,0,0,0,0,0,0,0,0,0,0,0,0,0,0,0,0,0,0,0,0,0]
["ND","COICB","CO","IC","ND Industrial Crude Oil",0,0,0,0,0,0,0,0,0,0,0,0,0,0,0,0,0,0,0,0,0,0,0,0,0,0,0,0,0]
["NE","COICB","CO","IC","NE Industrial Crude Oil",0,0,0,0,0,0,0,0,0,0,0,0,0,0,0,0,0,0,0,0,0,0,0,0,0,0,0,0,0]
["NH","COICB","CO","IC","NH Industrial Crude Oil",0,0,0,0,0,0,0,0,0,0,0,0,0,0,0,0,0,0,0,0,0,0,0,0,0,0,0,0,0]
["NJ","COICB","CO","IC","NJ Industrial Crude Oil",0,0,0,0,0,0,0,0,0,0,0,0,0,0,0,0,0,0,0,0,0,0,0,0,0,0,0,0,0]
["NM","COICB","CO","IC","NM Industrial Crude Oil",0,0,0,0,0,0,0,0,0,0,0,0,0,0,0,0,0,0,0,0,0,0,0,0,0,0,0,0,0]
["NV","COICB","CO","IC","NV Industrial Crude Oil",0,0,0,0,0,0,0,0,0,0,0,0,0,0,0,0,0,0,0,0,0,0,0,0,0,0,0,0,0]
["NY","COICB","CO","IC","NY Industrial Crude Oil",0,0,0,0,0,0,0,0,0,0,0,0,0,0,0,0,0,0,0,0,0,0,0,0,0,0,0,0,0]
["OH","COICB","CO","IC","OH Industrial Crude Oil",0,0,0,0,0,0,0,0,0,0,0,0,0,0,0,0,0,0,0,0,0,0,0,0,0,0,0,0,0]
["OK","COICB","CO","IC","OK Industrial Crude Oil",0,0,0,0,0,0,0,0,0,0,0,0,0,0,0,0,0,0,0,0,0,0,0,0,0,0,0,0,0]
["OR","COICB","CO","IC","OR Industrial Crude Oil",0,0,0,0,0,0,0,0,0,0,0,0,0,0,0,0,0,0,0,0,0,0,0,0,0,0,0,0,0]
["PA","COICB","CO","IC","PA Industrial Crude Oil",0,0,0,0,0,0,0,0,0,0,0,0,0,0,0,0,0,0,0,0,0,0,0,0,0,0,0,0,0]
["RI","COICB","CO","IC","RI Industrial Crude Oil",0,0,0,0,0,0,0,0,0,0,0,0,0,0,0,0,0,0,0,0,0,0,0,0,0,0,0,0,0]
["SC","COICB","CO","IC","SC Industrial Crude Oil",0,0,0,0,0,0,0,0,0,0,0,0,0,0,0,0,0,0,0,0,0,0,0,0,0,0,0,0,0]
["SD","COICB","CO","IC","SD Industrial Crude Oil",0,0,0,0,0,0,0,0,0,0,0,0,0,0,0,0,0,0,0,0,0,0,0,0,0,0,0,0,0]
["TN","COICB","CO","IC","TN Industrial Crude Oil",0,0,0,0,0,0,0,0,0,0,0,0,0,0,0,0,0,0,0,0,0,0,0,0,0,0,0,0,0]
["TX","COICB","CO","IC","TX Industrial Crude Oil",0,0,0,0,0,0,0,0,0,0,0,0,0,0,0,0,0,0,0,0,0,0,0,0,0,0,0,0,0]
["US","COICB",{"$f":"MID(B515,1,2)","v":"CO"},{"$f":"MID(B515,3,2)","v":"IC"},{"$f":"A515&\" \"&VLOOKUP(D515,SectorCode,2,FALSE)&\" \"&VLOOKUP(C515,FuelCode,2,FALSE)","v":"US Industrial Crude Oil"},50883,38947,27364,21153,18682,14535,13729,4623,0,0,0,0,0,0,0,0,0,0,0,0,0,0,0,0,0,0,0,0,0]
["UT","COICB","CO","IC","UT Industrial Crude Oil",0,0,0,0,0,0,0,0,0,0,0,0,0,0,0,0,0,0,0,0,0,0,0,0,0,0,0,0,0]
["VA","COICB","CO","IC","VA Industrial Crude Oil",0,0,0,0,0,0,0,0,0,0,0,0,0,0,0,0,0,0,0,0,0,0,0,0,0,0,0,0,0]
["VT","COICB","CO","IC","VT Industrial Crude Oil",0,0,0,0,0,0,0,0,0,0,0,0,0,0,0,0,0,0,0,0,0,0,0,0,0,0,0,0,0]
["WA","COICB","CO","IC","WA Industrial Crude Oil",0,0,0,0,0,0,0,0,0,0,0,0,0,0,0,0,0,0,0,0,0,0,0,0,0,0,0,0,0]
["WI","COICB","CO","IC","WI Industrial Crude Oil",0,0,0,0,0,0,0,0,0,0,0,0,0,0,0,0,0,0,0,0,0,0,0,0,0,0,0,0,0]
["WV","COICB","CO","IC","WV Industrial Crude Oil",0,0,0,0,0,0,0,0,0,0,0,0,0,0,0,0,0,0,0,0,0,0,0,0,0,0,0,0,0]
["WY","COICB","CO","IC","WY Industrial Crude Oil",0,0,0,0,0,0,0,0,0,0,0,0,0,0,0,0,0,0,0,0,0,0,0,0,0,0,0,0,0]
["AK","DFACB","DF","AC","AK Transportation Distillate Fuel",35193,27509,31014,33928,27242,35228,25260,29112,26951,28499,30885,31327,30230,28481,50009,43689,46801,44946,41535,46138,42666,44100,36765,31986,33070,34276,26589,28258,34277]
["AL","DFACB","DF","AC","AL Transportation Distillate Fuel",93843,94009,95652,94663,104012,107209,102871,103840,102627,113196,118941,108868,106250,112743,134620,130136,132016,132820,113591,108517,117233,123579,119078,117059,118527,126697,140956,137809,127745]
["AR","DFACB","DF","AC","AR Transportation Distillate Fuel",56629,57962,57886,62549,71483,73149,76046,79046,83476,80444,83479,90968,97823,96381,100007,97389,95916,97317,94981,94337,97842,99064,90155,91015,89026,88795,89470,92883,97731]
["AZ","DFACB","DF","AC","AZ Transportation Distillate Fuel",46230,42088,48422,65756,61830,64416,73439,75132,80331,87212,84223,93368,88663,100509,110159,119013,125945,123215,107936,106231,107630,110575,105909,106405,106337,109443,112704,113087,119914]
["CA","DFACB","DF","AC","CA Transportation Distillate Fuel",323856,325205,313881,286878,324431,337210,343147,364674,364004,376996,410387,414150,421152,405115,452446,473042,485179,494331,430665,424069,429426,437864,420676,437249,459631,463767,461816,476923,483816]
["CO","DFACB","DF","AC","CO Transportation Distillate Fuel",40100,41290,38793,46423,47520,50454,50128,45527,59231,63698,66538,75877,78590,85725,75483,76952,81134,83219,77130,79216,84312,82647,82520,80248,85613,81875,80903,82835,89134]
["CT","DFACB","DF","AC","CT Transportation Distillate Fuel",27958,25810,27946,27180,25088,27681,29598,30960,30854,32578,31832,38886,31876,31243,41186,43997,44367,44357,40747,38650,38892,39632,38144,38180,38670,38278,37444,37128,39277]
["DC","DFACB","DF","AC","DC Transportation Distillate Fuel",4682,4481,4608,3534,4137,3692,3921,3602,3478,3423,4234,4839,4618,5106,5460,3145,1407,1587,2179,1717,1925,2281,2167,1949,2258,1938,1860,1277,972]
["DE","DFACB","DF","AC","DE Transportation Distillate Fuel",7816,8266,7957,9322,8626,8688,9048,8859,8838,8135,12518,8051,8631,8799,9282,9667,9764,9601,8313,8139,8107,8332,7956,8054,8512,8568,8990,9605,10858]
["FL","DFACB","DF","AC","FL Transportation Distillate Fuel",146530,138018,154368,85171,150452,168284,166736,188108,192860,200695,204487,212041,213030,225572,248842,267803,284164,265672,232979,204911,215220,219516,214648,224747,229982,247996,255928,252785,279743]
["GA","DFACB","DF","AC","GA Transportation Distillate Fuel",128552,130414,132279,145531,149382,158887,192508,174011,174891,186687,196706,206220,197074,209800,222233,248718,238273,224856,189676,180564,191421,183565,166330,180669,184706,200765,182821,210519,178964]
["HI","DFACB","DF","AC","HI Transportation Distillate Fuel",20374,24473,16661,15579,18755,15613,11218,7695,7229,12051,9470,14287,19372,30179,31181,22263,19653,36125,15772,18045,23211,19670,18880,17632,9171,11808,12544,12365,15024]
["IA","DFACB","DF","AC","IA Transportation Distillate Fuel",54476,48708,49776,53707,56930,62634,71442,69338,70978,71814,70113,70474,71730,75123,86517,87928,91410,99904,95686,91634,97148,98396,94222,95663,100324,97369,97565,98778,101161]
["ID","DFACB","DF","AC","ID Transportation Distillate Fuel",20054,20201,20568,24947,25025,26018,29147,31082,29031,31911,33744,34021,33912,34170,35996,38213,40126,41653,34815,33366,40800,40966,38960,41363,42968,52674,54767,53770,60260]
["IL","DFACB","DF","AC","IL Transportation Distillate Fuel",178800,144663,140089,158544,124594,141386,152487,150838,163574,195190,190686,187456,176114,227088,217243,224168,229136,228349,214062,213402,209865,226169,209584,218748,231418,261543,246438,255516,260996]
["IN","DFACB","DF","AC","IN Transportation Distillate Fuel",139798,136409,129903,136842,148344,149330,158752,169537,162484,178730,185061,139345,195609,213591,185547,199447,207217,203621,185539,165025,182536,188797,183579,204989,213477,206775,197106,174199,174981]
["KS","DFACB","DF","AC","KS Transportation Distillate Fuel",67949,61266,56825,58803,53385,73788,64008,60734,60130,58506,55356,55881,64575,65945,64342,74628,75762,81710,82239,83507,79215,78997,79629,97172,109296,99704,87950,88488,95671]
["KY","DFACB","DF","AC","KY Transportation Distillate Fuel",95813,91316,102209,119159,107067,111083,113098,119381,118000,120087,135501,137193,155717,120718,143322,148035,154177,159544,137477,126701,132323,136121,128464,127082,133764,130342,127803,127680,136366]
["LA","DFACB","DF","AC","LA Transportation Distillate Fuel",116588,104183,95891,114049,128624,144917,173336,180302,163979,144552,154688,170857,162968,160940,159529,159857,177772,155635,151230,154902,177449,194339,149771,150461,146639,174718,160794,151962,144173]
["MA","DFACB","DF","AC","MA Transportation Distillate Fuel",43437,43302,43504,45686,47611,51102,50212,52059,51695,54121,58480,60984,60698,60127,68191,71301,69554,68743,62896,62960,63677,66714,61721,80303,61737,66102,66125,60953,65300]
["MD","DFACB","DF","AC","MD Transportation Distillate Fuel",47129,51226,54881,53662,49512,50890,56686,56623,60354,69596,71272,72815,70433,73936,78135,84418,86085,85912,74741,77236,83369,78583,74037,67711,73512,74721,72699,72289,74309]
["ME","DFACB","DF","AC","ME Transportation Distillate Fuel",26062,17534,18135,20157,24496,20940,21091,21150,20783,21049,24007,24021,24606,30100,26562,26622,27474,27313,26508,28403,27717,27174,26922,28353,27387,29085,28317,39434,26790]
["MI","DFACB","DF","AC","MI Transportation Distillate Fuel",76929,78565,81391,102726,104304,105485,110229,115325,123045,126642,127522,124945,131011,134784,139590,135303,137921,135475,119927,115587,122202,122624,121088,133407,136846,138930,138519,127685,148376]
["MN","DFACB","DF","AC","MN Transportation Distillate Fuel",53401,60715,63550,64279,70895,75228,75087,77379,85774,89740,96359,94389,95984,95085,100759,101861,106674,112878,102565,89887,95071,101561,103652,103073,105684,101710,115125,114964,123908]
["MO","DFACB","DF","AC","MO Transportation Distillate Fuel",93484,89883,98981,101658,106591,111712,128561,136510,175921,170637,134764,136799,135286,150644,156997,156546,159946,161427,140557,143453,152100,153621,144961,145382,150950,152872,152355,150865,153873]
["MS","DFACB","DF","AC","MS Transportation Distillate Fuel",51958,53971,55258,57453,59351,57181,61144,67683,72495,77158,75224,75120,84004,95311,97161,96951,106388,107527,102609,102164,96355,93639,92684,88294,91417,100393,104429,102331,106092]
["MT","DFACB","DF","AC","MT Transportation Distillate Fuel",23258,22463,25277,25961,29682,31368,28435,33281,31133,32212,33818,36079,35020,29387,36286,44197,47134,52132,46556,43059,43169,45759,41793,44688,41547,38411,40692,42415,43235]
["NC","DFACB","DF","AC","NC Transportation Distillate Fuel",92060,91292,97889,98621,111747,115555,119536,127508,129414,125893,145000,144465,145831,150267,162696,161296,161328,159412,136172,141931,146783,144601,134351,142498,150021,151082,151781,154179,164842]
["ND","DFACB","DF","AC","ND Transportation Distillate Fuel",17415,18603,18400,20007,22329,23363,24680,25660,21691,25521,24196,26951,27539,28341,29307,31300,31854,42440,34029,29627,35418,47321,58417,61662,67854,59117,49687,54782,59755]
["NE","DFACB","DF","AC","NE Transportation Distillate Fuel",43829,46020,49718,48879,50723,55524,67798,68824,77114,76784,58093,50341,50735,56449,61605,62478,64042,62661,58425,65511,91384,86931,81079,79486,81915,83215,80940,81386,86784]
["NH","DFACB","DF","AC","NH Transportation Distillate Fuel",7175,6738,7225,7394,7601,8571,8289,8694,13823,13762,13459,13960,22520,14381,16271,14745,15068,14295,13969,13806,13574,13472,12924,12884,13677,13942,13271,13475,14202]
["NJ","DFACB","DF","AC","NJ Transportation Distillate Fuel",75620,75325,82898,83380,98522,89101,91402,106150,113366,115031,119497,127852,128243,133043,139067,146205,145788,153668,134208,107493,119233,137426,117251,118836,125529,119542,134798,121228,126577]
["NM","DFACB","DF","AC","NM Transportation Distillate Fuel",35041,35909,40736,34896,31915,16709,45418,49495,54093,52501,54274,57166,57770,61198,66391,68372,76477,75440,64162,61472,67823,71742,71391,72595,77056,79965,78126,84245,92249]
["NV","DFACB","DF","AC","NV Transportation Distillate Fuel",19186,20392,21461,23731,24767,24950,34058,31076,31154,35372,36462,37986,39915,41268,46799,49716,56784,54259,45512,44716,43995,41829,40380,42917,40868,41255,43867,48037,47853]
["NY","DFACB","DF","AC","NY Transportation Distillate Fuel",126401,115496,115945,121927,125163,124057,127002,132924,125445,139821,134095,136863,137565,182898,208922,166074,170539,168581,158863,159848,163115,164642,159118,152114,161665,169003,180884,182258,194357]
["OH","DFACB","DF","AC","OH Transportation Distillate Fuel",142686,138553,142466,150573,159404,162917,190494,209825,208050,212336,223531,224378,227835,232171,251104,248470,261351,272452,246397,220585,234927,243453,228557,236024,245696,244342,234487,235848,243023]
["OK","DFACB","DF","AC","OK Transportation Distillate Fuel",65396,60421,66325,73031,74823,78576,93525,98152,102838,109641,143068,178069,156668,154881,109301,141357,161425,168324,175307,153436,155710,158900,147040,140195,150907,151201,145746,156257,153588]
["OR","DFACB","DF","AC","OR Transportation Distillate Fuel",61313,65584,66749,63046,65953,61836,66312,68568,66121,74301,74687,69560,74488,72610,82515,85971,90470,93317,88192,87324,91807,89955,89694,89747,92449,83373,79610,81964,85903]
["PA","DFACB","DF","AC","PA Transportation Distillate Fuel",135063,138736,143211,154560,163346,170082,165663,175922,181280,187576,197783,206136,202682,190344,213570,225678,236175,228310,198964,200962,208177,216608,220788,215510,220987,214410,198257,198552,210825]
["RI","DFACB","DF","AC","RI Transportation Distillate Fuel",6723,8198,6692,7182,7397,7731,7508,11297,8132,8828,7937,8118,8596,8630,8674,8881,9338,11164,8519,8709,9419,9533,8756,8901,10613,9486,7204,8206,9183]
["SC","DFACB","DF","AC","SC Transportation Distillate Fuel",61231,69382,59636,57937,70257,62293,64642,69222,79190,81336,86068,89284,90312,91021,106297,100550,105331,106494,95438,93233,104060,104611,91152,107242,102075,107170,115363,114905,118225]
["SD","DFACB","DF","AC","SD Transportation Distillate Fuel",13703,14363,15136,15899,18413,18641,19473,19349,19052,20057,19929,21033,26483,23435,25082,26540,27578,29742,28127,28797,31295,30897,33082,31443,33215,33486,31869,31893,33914]
["TN","DFACB","DF","AC","TN Transportation Distillate Fuel",115668,108465,107094,107603,106114,120488,124922,123237,130566,126460,135540,139524,150837,164130,164449,171535,172315,175770,154917,137285,147356,152131,142981,143976,151730,153642,148185,150331,163077]
["TX","DFACB","DF","AC","TX Transportation Distillate Fuel",275924,306723,327288,355099,367366,378048,408509,427327,460070,463049,482095,535027,533226,542106,590562,609750,687151,689893,649283,619110,667266,712464,703803,747785,846367,840235,828191,853295,931930]
["US","DFACB","DF","AC","US Transportation Distillate Fuel",3661134,3600618,3683913,3795822,4028540,4191382,4465494,4668258,4806575,4995878,5159213,5286255,5386829,5583956,5925059,6068261,6390016,6411418,5792125,5537791,5826023,5999681,5738306,5898360,6158652,6255035,6202233,6252857,6554711]
["UT","DFACB","DF","AC","UT Transportation Distillate Fuel",29449,28680,29884,30886,32513,38213,40028,44357,43929,42382,48604,49678,51940,51994,55477,58302,75541,73718,63390,59654,61040,73354,67485,68015,65263,66233,65757,68403,70838]
["VA","DFACB","DF","AC","VA Transportation Distillate Fuel",97565,100903,98813,100469,107549,107193,124674,129633,132918,135098,144542,143250,145066,152144,168875,165382,182149,173034,150859,144530,147624,146715,148291,148343,151560,148349,146567,145659,162866]
["VT","DFACB","DF","AC","VT Transportation Distillate Fuel",6075,6189,8369,9625,9784,11532,12963,10529,10378,11670,7245,9832,8835,9104,8713,8764,9494,9191,8461,8940,9869,9756,9581,9764,9589,10692,10970,10317,10101]
["WA","DFACB","DF","AC","WA Transportation Distillate Fuel",67623,68517,73582,68032,86729,81956,88654,102825,86486,103387,109092,98479,107892,108599,112955,113703,138834,142220,130879,114162,110442,120700,111033,106379,113174,121055,126369,122972,130575]
["WI","DFACB","DF","AC","WI Transportation Distillate Fuel",72159,67358,68878,72453,81195,84532,88345,90936,93642,96722,94767,98885,98401,95785,105579,101813,112060,110622,107570,99773,105555,103642,108246,105179,116643,115398,111153,107850,120779]
["WV","DFACB","DF","AC","WV Transportation Distillate Fuel",34074,34061,36608,38396,38869,39466,28166,37668,47069,44771,48115,46776,44438,47672,52534,53398,52053,49922,44556,40029,43193,42397,42354,41240,38368,45157,61457,55455,71566]
["WY","DFACB","DF","AC","WY Transportation Distillate Fuel",38857,30781,33204,38047,36691,46473,45800,47291,46609,58021,50840,53379,54039,64884,61230,62694,65477,66619,63012,55039,56075,52317,56255,53742,58965,54131,54984,54558,58753]
["AK","DFCCB","DF","CC","AK Commercial Distillate Fuel",6111,5649,9143,10464,10660,6022,6873,5512,6215,7622,6722,9810,7208,5423,6736,5850,6769,5675,7089,6315,11111,10060,8541,6743,7287,8756,5951,6568,7422]
["AL","DFCCB","DF","CC","AL Commercial Distillate Fuel",4305,4312,4522,4465,5467,3748,3236,3127,3300,3318,4351,4871,4557,6352,6427,4359,8894,7315,5729,5642,6569,6981,6471,4236,3900,4327,4860,4841,4950]
["AR","DFCCB","DF","CC","AR Commercial Distillate Fuel",1738,1501,1658,2074,2223,1752,1692,1573,2084,1515,2186,3453,2598,4329,2999,4157,538,521,591,5630,3812,3586,2191,2105,3286,3420,3075,3184,3401]
["AZ","DFCCB","DF","CC","AZ Commercial Distillate Fuel",2655,1757,1499,1447,2277,2062,3443,3810,6527,5499,5047,4456,4841,2857,2014,2751,2661,3705,7086,5016,6928,6727,6606,5861,5910,6277,5001,5026,4533]
["CA","DFCCB",{"$f":"MID(B579,1,2)","v":"DF"},{"$f":"MID(B579,3,2)","v":"CC"},{"$f":"A579&\" \"&VLOOKUP(D579,SectorCode,2,FALSE)&\" \"&VLOOKUP(C579,FuelCode,2,FALSE)","v":"CA Commercial Distillate Fuel"},23846,25793,13247,13748,13550,18413,14896,14476,15463,15975,18063,16515,12744,10453,9676,11451,8594,10606,16453,20282,27279,24180,21730,20122,19282,20982,21149,21509,20776]
["CO","DFCCB","DF","CC","CO Commercial Distillate Fuel",2576,2772,4016,3883,5982,4089,4262,5192,5048,4726,3521,3680,2891,1818,1880,3637,3817,2585,2915,8266,5823,5853,4580,4390,4723,5152,3061,5123,4111]
["CT","DFCCB","DF","CC","CT Commercial Distillate Fuel",20275,20122,19936,15928,15984,17561,17217,17082,15307,15416,17359,19805,16790,20955,20634,17503,15817,15082,14190,11442,12047,12299,9944,11213,10796,12616,8692,8240,8700]
["DC","DFCCB","DF","CC","DC Commercial Distillate Fuel",3470,3959,3731,4970,5877,4829,5593,2944,1852,1950,3266,3151,1721,2227,2662,2349,2022,1758,1164,1726,1046,675,736,645,574,719,642,392,547]
["DE","DFCCB","DF","CC","DE Commercial Distillate Fuel",2338,2966,2362,2066,1675,1638,2228,1970,1685,1883,1592,1765,1974,1758,1748,1385,1642,1383,1097,1557,1278,1057,1068,1019,1336,1659,1171,947,1311]
["FL","DFCCB","DF","CC","FL Commercial Distillate Fuel",22443,20231,20336,19114,14180,17133,12341,10391,8104,10478,15366,17670,14942,15957,23154,20605,21657,13337,16613,17904,16179,14515,14544,15796,15402,15483,14335,15456,14932]
["GA","DFCCB","DF","CC","GA Commercial Distillate Fuel",8793,5815,7030,7043,6702,8455,6727,5056,4166,7047,7202,9376,5973,5477,6268,4908,4719,4828,4362,5386,6193,6272,8584,8932,9179,9426,10075,8855,8094]
["HI","DFCCB","DF","CC","HI Commercial Distillate Fuel",2636,3552,2901,2414,2265,1998,1302,2282,1225,1512,1271,793,1805,1644,2220,2237,2274,1629,1277,1573,1528,1728,1537,1471,1862,1298,904,1181,1361]
["IA","DFCCB","DF","CC","IA Commercial Distillate Fuel",3353,3273,2821,2082,2072,2416,2073,1863,2694,2833,2797,3164,2640,4056,2712,1839,3666,1428,2159,2957,2694,3924,5588,5566,5110,5208,5118,5774,5870]
["ID","DFCCB","DF","CC","ID Commercial Distillate Fuel",2004,2036,1996,1733,2165,2280,2646,2043,2398,2996,2514,2162,1911,1780,2331,1955,1658,1488,1294,1446,2255,2380,2159,2076,2115,1948,2492,2121,2297]
["IL","DFCCB","DF","CC","IL Commercial Distillate Fuel",10478,9817,10411,11652,11737,10885,10580,12833,10835,8531,9324,10563,9546,8327,4869,4846,5354,4301,7082,4908,5145,5400,5821,7391,7588,6880,6630,6163,5849]
["IN","DFCCB","DF","CC","IN Commercial Distillate Fuel",7246,6834,8180,9464,8140,6424,5614,6370,8277,7500,7819,9170,8023,10082,9836,7413,7781,5762,6868,5543,4096,3196,3843,3818,4790,4530,4437,4060,4446]
["KS","DFCCB","DF","CC","KS Commercial Distillate Fuel",1915,2108,2899,3767,2642,3273,3225,2754,2566,2758,3323,4694,3698,3812,3352,1422,1684,1542,1737,1783,1414,1609,2154,1890,1906,2335,2578,2974,2176]
["KY","DFCCB","DF","CC","KY Commercial Distillate Fuel",4441,4158,5075,3871,5238,6481,6943,5436,6160,6382,6297,6533,6212,4591,4676,4496,4346,3821,3189,2364,1910,2256,2314,2600,3004,3887,6782,3594,4255]
["LA","DFCCB","DF","CC","LA Commercial Distillate Fuel",4317,3944,2659,4208,4419,1498,782,1811,1761,3202,1959,1611,2208,2067,1704,2061,2008,3537,3370,8462,5525,5711,5110,2440,2966,3150,3706,3598,3406]
["MA","DFCCB","DF","CC","MA Commercial Distillate Fuel",43159,51312,45278,39353,35921,37705,32807,33044,31447,22289,30290,24543,22313,33388,25085,27413,18945,18816,14068,18296,31402,20729,13068,13464,15211,15511,8476,9713,9197]
["MD","DFCCB","DF","CC","MD Commercial Distillate Fuel",14499,15490,17442,16704,19828,18027,19030,14438,14868,12872,15023,14623,14540,13383,12266,10383,10454,6874,6721,9199,8352,8308,8537,7757,9198,8845,6255,5563,7412]
["ME","DFCCB","DF","CC","ME Commercial Distillate Fuel",11683,9737,11617,14052,14842,13297,14105,13682,15993,16246,18758,14643,15835,22004,20236,16769,15131,16950,15382,12174,12640,13820,10389,8237,10050,8692,8187,8560,8731]
["MI","DFCCB","DF","CC","MI Commercial Distillate Fuel",11709,11262,10215,8606,7615,9532,10278,11154,8763,8155,9176,8873,5623,6891,6182,7370,7756,6527,6097,7844,6523,7154,6760,7705,6692,7695,6517,7702,6170]
["MN","DFCCB","DF","CC","MN Commercial Distillate Fuel",6358,5289,4390,3816,4787,5014,5899,5083,4903,5171,5171,6596,4776,4423,4678,5828,3862,4206,5389,6038,4667,6045,5581,7018,7152,6074,5587,6221,4905]
["MO","DFCCB","DF","CC","MO Commercial Distillate Fuel",5976,6456,6787,6707,6330,6927,7618,6803,6750,5950,6503,9067,5787,4890,4949,3026,2523,2131,3136,3355,3026,2625,3679,3999,4599,5491,4906,4337,4571]
["MS","DFCCB","DF","CC","MS Commercial Distillate Fuel",2330,2666,2242,1601,2207,1850,2312,1920,2127,1512,1516,1930,1525,2590,1204,1121,1163,6575,3675,3777,3386,3799,3660,3332,4030,3752,3892,4172,3866]
["MT","DFCCB","DF","CC","MT Commercial Distillate Fuel",898,955,815,993,928,593,1331,941,663,826,830,1145,799,1004,1713,948,1248,1011,1323,840,604,711,614,602,492,306,742,669,552]
["NC","DFCCB","DF","CC","NC Commercial Distillate Fuel",13412,12280,11104,11719,12681,13648,16435,16652,15037,12578,15588,18014,11589,12743,9774,9711,8537,8685,7855,10470,9448,8780,8591,5517,7073,7383,6806,6917,7413]
["ND","DFCCB","DF","CC","ND Commercial Distillate Fuel",1021,928,910,837,1019,861,1213,1497,1566,1361,1348,1522,824,1068,1047,821,867,926,1321,1142,2431,6105,5187,6484,6964,1763,1255,1879,1816]
["NE","DFCCB","DF","CC","NE Commercial Distillate Fuel",1673,1063,1559,1786,1919,941,1341,960,1290,1273,1151,1415,538,1230,1057,1196,1096,1093,1707,1311,1419,1140,1187,1871,1890,1873,1934,1818,2261]
["NH","DFCCB","DF","CC","NH Commercial Distillate Fuel",8240,7686,7646,6978,8281,6569,7684,7712,7187,8348,11076,10158,9002,11685,10677,8947,6579,6434,5555,6033,5664,6235,4492,4341,5606,5267,4751,4576,4981]
["NJ","DFCCB","DF","CC","NJ Commercial Distillate Fuel",47862,44223,43102,34821,32262,20178,28774,19823,17814,23982,19436,19749,14045,18299,15592,20352,12142,19369,14149,12818,11226,14235,10907,11630,12586,10981,9336,8701,8341]
["NM","DFCCB","DF","CC","NM Commercial Distillate Fuel",2481,2028,1056,1651,1081,1409,1023,983,804,1838,1545,2036,1913,2333,2345,3656,1749,1093,3461,1564,1347,1384,1268,1264,1695,1717,1498,997,730]
["NV","DFCCB","DF","CC","NV Commercial Distillate Fuel",1813,1703,1976,5257,4752,4839,5746,1640,1795,2121,2333,1952,2080,1631,2165,2872,3022,1768,1742,1419,1991,2044,1183,1844,1666,2369,2549,2765,2985]
["NY","DFCCB","DF","CC","NY Commercial Distillate Fuel",89791,86020,94139,93956,94473,91436,90391,83439,69330,81153,88028,98138,87469,115109,115819,105227,90538,84479,77725,69682,58038,59489,49609,53152,48604,55509,46602,45681,46711]
["OH","DFCCB","DF","CC","OH Commercial Distillate Fuel",11182,9386,9726,8088,7955,9946,7770,8161,6540,10535,10127,10973,13127,10510,11238,7389,8902,10211,11290,14201,14057,13243,14517,13015,11410,11812,11855,12031,12301]
["OK","DFCCB","DF","CC","OK Commercial Distillate Fuel",3646,2819,2163,1895,1393,1571,2228,3296,3602,2108,1411,3914,2035,569,1707,1464,1693,2735,3546,4285,3758,3094,3965,3388,3693,4819,5462,5913,3202]
["OR","DFCCB","DF","CC","OR Commercial Distillate Fuel",6946,5766,5096,4738,4617,6177,5302,5536,5786,4850,5783,7007,5976,3079,3446,3002,2766,2726,3405,4160,4291,2984,1782,1609,2077,2217,2291,2356,3006]
["PA","DFCCB","DF","CC","PA Commercial Distillate Fuel",38676,36747,36635,37282,44776,36862,35805,27974,26751,27643,31978,34880,43375,37585,36166,35632,33094,28456,35575,24033,23625,21041,17083,18522,19839,18765,15272,17907,20328]
["RI","DFCCB","DF","CC","RI Commercial Distillate Fuel",4657,5228,4081,3973,5236,4312,4703,4319,3607,2964,3658,3666,3855,5878,4998,3993,3536,3977,3333,4925,3996,3044,2709,3140,4892,3121,2194,2048,2195]
["SC","DFCCB","DF","CC","SC Commercial Distillate Fuel",4199,3523,4545,5275,4217,5833,5609,6106,8741,6068,4414,4476,3893,3512,3215,3615,4028,4004,3705,2954,3489,3201,3036,2868,3070,3200,3561,3532,3472]
["SD","DFCCB","DF","CC","SD Commercial Distillate Fuel",1408,1113,1418,1447,1408,1751,1459,1530,1380,1176,1134,1462,1045,761,1127,1185,917,1302,962,991,1127,1341,1027,972,828,772,694,611,655]
["TN","DFCCB","DF","CC","TN Commercial Distillate Fuel",4303,3498,6020,5474,5334,4298,5271,4812,5523,5583,6272,5443,6017,6394,6231,4536,3773,5509,4195,7017,6865,5942,5856,3866,5008,4769,4524,5434,5423]
["TX","DFCCB","DF","CC","TX Commercial Distillate Fuel",12958,12948,13625,11397,12887,15536,15595,14029,17876,16704,32919,21106,13476,15744,10452,15808,14041,14121,13192,19339,14405,26543,24037,19735,18553,16657,18778,14793,11466]
["US","DFCCB","DF","CC","US Commercial Distillate Fuel",535830,517367,506666,493037,500513,478472,482505,443434,428401,437988,490457,507839,443627,495513,469753,446955,399722,381217,383906,394846,390983,391040,354730,342887,355908,359337,325260,321865,322330]
["UT","DFCCB","DF","CC","UT Commercial Distillate Fuel",2121,2203,2263,1873,2374,2225,2179,2362,3049,3448,2131,4051,3248,3160,2849,1998,2534,2613,2447,3028,2660,3038,3767,3513,3378,2127,3086,2765,2435]
["VA","DFCCB","DF","CC","VA Commercial Distillate Fuel",16400,14378,13240,15048,15952,15461,19776,17306,18024,16666,19329,17220,14296,18884,17611,17338,15620,12080,8953,7701,8519,6656,9858,7936,9208,9224,8599,8999,10485]
["VT","DFCCB","DF","CC","VT Commercial Distillate Fuel",3897,4720,5525,4636,4983,4026,4629,4944,5459,5503,6053,5872,5035,5650,6028,4992,4713,4431,3245,4051,3855,3732,3039,3268,3566,4759,3314,3196,3155]
["WA","DFCCB","DF","CC","WA Commercial Distillate Fuel",10862,9338,5419,5834,6494,7355,5756,6327,4983,5530,5247,7006,6724,6396,4341,6042,5905,4532,7738,5879,8812,6761,6760,6773,7472,7469,7514,4248,7918]
["WI","DFCCB","DF","CC","WI Commercial Distillate Fuel",12397,11387,8965,9040,6920,5717,5691,7316,8062,8422,7823,8339,7042,8490,7695,7202,5193,5844,7305,5694,3820,4814,4437,3577,4048,4142,4111,4523,3733]
["WV","DFCCB","DF","CC","WV Commercial Distillate Fuel",3063,3486,2178,2713,2644,2076,1534,1838,2155,1849,2095,2362,1894,1354,1369,1341,954,935,790,1557,1286,2402,2181,2215,2513,2657,2389,2086,2471]
["WY","DFCCB","DF","CC","WY Commercial Distillate Fuel",1271,1128,1068,1094,1141,1544,1538,1277,859,2121,2331,2418,1647,912,593,555,538,502,653,866,1420,2193,2444,1960,1833,1547,1665,1545,1007]
["AK","DFICB","DF","IC","AK Industrial Distillate Fuel",8233,11328,13107,13595,13565,18038,21724,20851,20918,19172,13188,13315,13600,12772,12157,11125,12692,15563,15657,19020,14180,19095,23392,24346,23176,24013,19902,11403,12271]
["AL","DFICB","DF","IC","AL Industrial Distillate Fuel",26678,23803,23688,22316,26118,25590,29603,25652,21683,21731,17097,18691,19090,40876,39697,37747,32328,28337,31820,24106,22246,23740,30153,23083,19862,21783,22823,20479,22837]
["AR","DFICB","DF","IC","AR Industrial Distillate Fuel",14120,11743,19274,18487,18364,23520,19747,23265,22205,20532,23425,26702,25293,31017,32484,40088,40345,41015,52289,25527,33393,30851,29525,32303,29717,22360,20324,16373,20287]
["AZ","DFICB","DF","IC","AZ Industrial Distillate Fuel",16126,15172,15949,14749,16070,20892,23665,24615,21065,24191,24566,25242,21822,17730,18275,28628,26359,24870,34931,26620,28868,32953,32660,33027,29975,25462,30543,33141,27827]
["CA","DFICB","DF","IC","CA Industrial Distillate Fuel",99470,83076,73742,75855,81300,67887,69056,81686,74767,85923,108733,126275,85211,62549,82722,76972,80437,66288,73512,59572,70470,77184,74834,74453,80077,80541,75647,78061,70291]
["CO","DFICB","DF","IC","CO Industrial Distillate Fuel",15799,16574,20947,18552,15337,15999,17796,17801,19589,18541,19052,19609,19392,17881,19027,21284,24779,27931,34666,20566,21083,22608,22949,24198,28289,24324,19566,26160,31907]
["CT","DFICB","DF","IC","CT Industrial Distillate Fuel",7044,7279,6315,5108,4929,4959,4718,4929,4538,4557,5001,5968,4932,10208,6350,5409,5683,5184,4418,4757,3858,3772,2808,3566,3134,2843,2914,3124,3320]
["DC","DFICB","DF","IC","DC Industrial Distillate Fuel",14,12,87,95,81,91,105,120,101,816,195,209,403,562,274,225,242,285,175,154,53,133,130,93,109,108,227,66,96]
["DE","DFICB","DF","IC","DE Industrial Distillate Fuel",3005,3000,2339,2266,2211,1973,2930,2631,2508,2765,2821,3470,3570,2986,2724,3332,2729,2540,1799,3188,1647,1696,1321,1269,1583,1885,1573,1401,1422]
["FL","DFICB","DF","IC","FL Industrial Distillate Fuel",24162,20785,24508,25860,24446,33709,32878,33409,32092,37014,36253,39686,41403,61126,48878,52007,48068,36797,37459,33407,51528,36417,34521,37850,38082,38721,37739,40875,37766]
["GA","DFICB","DF","IC","GA Industrial Distillate Fuel",28155,23144,18946,23847,22482,29040,31915,28359,30526,36218,37678,45971,38149,37966,35882,39833,34217,33185,27257,27652,28963,27369,30426,30345,31479,28841,32044,31041,31062]
["HI","DFICB","DF","IC","HI Industrial Distillate Fuel",4222,4014,4002,3895,3142,3191,2766,3624,3400,2487,2751,2751,2673,2557,2367,2977,2648,2606,2003,2332,1882,1972,2166,1873,2261,1851,939,1789,1515]
["IA","DFICB","DF","IC","IA Industrial Distillate Fuel",28002,26752,35956,35948,35402,32800,36360,37682,38244,34420,35069,39645,36132,27476,26596,26470,25636,27084,32556,32026,35335,34323,36275,35624,38282,44119,45547,42866,42468]
["ID","DFICB","DF","IC","ID Industrial Distillate Fuel",16051,17577,11839,11712,12371,13180,12624,13685,11864,14259,14048,14754,13886,12454,14779,17292,13901,13345,12310,12949,14766,16050,13608,13362,15183,13045,12774,11633,13415]
["IL","DFICB","DF","IC","IL Industrial Distillate Fuel",51541,44614,49083,41437,40614,45662,44760,47213,55487,42976,45377,43974,43028,41770,46867,47601,48527,50050,52833,31584,34982,35792,35516,39668,44601,44600,42489,41570,44833]
["IN","DFICB","DF","IC","IN Industrial Distillate Fuel",30830,30982,31724,27810,27338,27735,27184,29265,34220,32984,31802,36277,34922,38061,36544,40523,34108,35816,33565,27291,23091,28856,30283,26582,30743,31288,31058,34201,33713]
["KS","DFICB",{"$f":"MID(B643,1,2)","v":"DF"},{"$f":"MID(B643,3,2)","v":"IC"},{"$f":"A643&\" \"&VLOOKUP(D643,SectorCode,2,FALSE)&\" \"&VLOOKUP(C643,FuelCode,2,FALSE)","v":"KS Industrial Distillate Fuel"},26474,26611,26271,29827,28553,28041,28081,30659,28221,28074,26060,28526,26008,28788,31428,28720,31902,28349,31677,26669,29362,26290,25778,25409,27953,26840,28360,28957,31028]
["KY","DFICB","DF","IC","KY Industrial Distillate Fuel",35266,30368,33472,30727,33922,35617,35483,33071,34270,28782,25812,31075,30562,25420,24165,26816,29083,27473,36035,35186,33944,38816,32724,31451,23979,19798,19600,17572,19686]
["LA","DFICB","DF","IC","LA Industrial Distillate Fuel",53258,56301,50004,59602,69063,66045,72894,73128,71344,62380,67016,70944,74066,31322,30725,35375,29431,29391,32626,50574,65448,69003,51254,41396,42169,29613,27131,27482,31937]
["MA","DFICB","DF","IC","MA Industrial Distillate Fuel",15060,8059,12562,8713,7260,7437,7095,6576,5882,7083,5491,7463,5689,11409,11328,11025,9235,7867,9089,5068,7167,7301,3889,3584,4275,5540,4691,5368,4733]
["MD","DFICB","DF","IC","MD Industrial Distillate Fuel",11994,10490,9536,11102,10987,10112,11974,9956,15843,13769,12275,13581,10281,11909,11969,11997,12399,8918,9958,6810,6189,7333,6922,5558,6731,6445,6121,5309,5466]
["ME","DFICB","DF","IC","ME Industrial Distillate Fuel",4901,5248,5094,7818,9163,6991,7773,7290,7869,6011,5641,4642,4762,7545,8637,6161,4758,5494,6366,4972,4930,5435,5250,3378,3420,3984,3406,3518,3937]
["MI","DFICB","DF","IC","MI Industrial Distillate Fuel",23051,26591,26750,26227,25061,20119,22636,23201,23988,28566,23598,20333,16100,18792,21241,20216,17524,18242,19739,17858,18616,18513,16291,19143,18289,21915,22523,20152,21628]
["MN","DFICB","DF","IC","MN Industrial Distillate Fuel",31937,32609,35791,33697,33992,35102,37889,37271,36647,30791,28264,29991,29152,32681,34058,33404,30732,29789,34777,31295,38819,39097,39295,40802,41581,35381,34374,35390,39390]
["MO","DFICB","DF","IC","MO Industrial Distillate Fuel",20353,17125,18828,16381,18456,17564,18513,20663,22023,28334,21190,24024,26923,28499,33591,30796,30102,33571,29108,23730,24269,21743,21507,21389,23736,25842,29494,27808,29964]
["MS","DFICB","DF","IC","MS Industrial Distillate Fuel",22429,21203,19071,18272,21081,22586,22453,27023,23571,22846,19060,21528,20350,19461,24290,18547,16507,18005,16511,12014,14009,13387,18649,19923,18979,14482,13281,16250,15450]
["MT","DFICB","DF","IC","MT Industrial Distillate Fuel",16184,16709,12470,14004,11160,13287,14951,14095,11375,11534,11079,11099,10717,14588,18835,20471,21315,25879,24989,21950,12410,13686,14808,14931,13921,9555,8162,8335,8887]
["NC","DFICB","DF","IC","NC Industrial Distillate Fuel",20197,20075,21705,19498,20179,27004,25443,23388,28059,22900,24479,27210,19849,20584,20266,24854,22710,22689,19471,17056,17381,17312,16809,19358,18553,19420,21740,22188,21488]
["ND","DFICB","DF","IC","ND Industrial Distillate Fuel",17569,17801,16989,17254,17141,17619,16947,15205,14913,13747,16035,19901,16518,16766,20551,21797,21977,22389,29005,22773,35174,49967,55414,64075,71250,45375,32564,43970,46024]
["NE","DFICB","DF","IC","NE Industrial Distillate Fuel",28019,27043,28404,28769,31185,27631,26796,27332,29240,24425,26445,30085,29177,30856,32134,30384,29987,35357,33774,25956,24227,23830,31757,27891,25949,26372,28160,27988,25512]
["NH","DFICB","DF","IC","NH Industrial Distillate Fuel",3012,3010,3389,2628,2364,2520,2289,1810,2176,2729,3376,3695,3604,4340,4510,4557,3557,2836,3596,3355,2726,2471,2252,2789,3223,2281,2001,1806,2061]
["NJ","DFICB","DF","IC","NJ Industrial Distillate Fuel",20116,17054,13555,12887,14423,11608,11213,10411,11651,12082,10447,14163,12505,12520,18239,11389,12944,11434,10622,11324,9802,12109,10962,9470,12016,12314,12715,9715,8972]
["NM","DFICB","DF","IC","NM Industrial Distillate Fuel",8658,10384,8390,7372,6305,11099,11777,12107,11032,12654,13215,12683,12092,13925,13265,11187,12858,13451,13409,8602,9404,9369,11019,11664,14437,8803,11946,13532,13724]
["NV","DFICB","DF","IC","NV Industrial Distillate Fuel",16927,17298,19927,22431,22797,20089,23040,23618,18815,15944,16430,14720,12866,9655,16172,18450,19574,20683,19238,20715,20659,10373,8933,10716,19146,3499,17409,21433,23228]
["NY","DFICB","DF","IC","NY Industrial Distillate Fuel",23724,20517,21109,25145,19853,17872,17769,17006,17550,20022,19116,17345,16812,17746,20252,19610,20095,20965,19705,16930,13135,16207,14428,13105,11533,11701,10778,10961,11248]
["OH","DFICB","DF","IC","OH Industrial Distillate Fuel",34794,30532,36962,38134,37774,34113,32642,33296,31245,30672,28327,31834,31719,37180,38259,35010,34478,34030,36584,30504,34816,29998,34721,34304,37382,35465,33923,36656,37279]
["OK","DFICB","DF","IC","OK Industrial Distillate Fuel",20921,18597,24276,18322,18464,16721,19719,20152,19372,16996,19441,21931,20129,21928,21206,20064,22036,23786,23989,12194,15053,14704,25874,26142,33116,21854,23306,38016,34707]
["OR","DFICB","DF","IC","OR Industrial Distillate Fuel",14776,13282,15081,21020,18831,20695,14860,16373,15320,15822,20962,17572,17159,11657,12898,10729,10787,9687,12446,12056,11667,14684,14568,11717,14241,14378,16256,14755,12992]
["PA","DFICB","DF","IC","PA Industrial Distillate Fuel",43621,36100,42398,37905,33348,25564,25968,24324,23658,29290,32447,34899,30575,28414,31683,33055,42322,45390,50721,31745,34088,40670,45427,50178,57194,51101,36780,41820,43320]
["RI","DFICB","DF","IC","RI Industrial Distillate Fuel",1624,1545,1908,1795,1978,1630,1708,1991,1448,1365,961,698,881,1416,1458,1187,1252,946,557,936,859,714,586,498,664,545,672,939,1106]
["SC","DFICB","DF","IC","SC Industrial Distillate Fuel",13495,14171,12049,9719,8672,11080,12365,11271,11810,12744,13045,14302,13577,13908,15195,17866,14698,13222,12871,9644,8487,8148,9791,6809,8584,9321,10059,11419,11802]
["SD","DFICB","DF","IC","SD Industrial Distillate Fuel",13845,13596,12603,14740,14969,12815,13296,11961,11129,11846,11228,11512,10332,10198,10171,10495,9840,12190,11064,11244,10132,13096,11331,12751,10865,11096,10947,10364,10829]
["TN","DFICB","DF","IC","TN Industrial Distillate Fuel",19799,15703,21148,19807,19855,21432,21724,25219,23146,15401,14215,15248,12901,17819,20582,23537,19921,20641,16691,9779,12105,11000,11578,10998,12288,10963,12454,12686,12746]
["TX","DFICB","DF","IC","TX Industrial Distillate Fuel",102476,101545,101183,108620,96606,116168,134935,127419,138696,124948,123316,121590,114690,113978,98165,116540,117651,130615,153075,114346,128993,175437,197078,188743,228131,158157,172274,176127,195801]
["US","DFICB","DF","IC","US Industrial Distillate Fuel",1150484,1077931,1107068,1116843,1109550,1130029,1185859,1202020,1210213,1185928,1199109,1298523,1203078,1169461,1212961,1262041,1258083,1255986,1348101,1072570,1152735,1234723,1269939,1263985,1363666,1167604,1153827,1202168,1250777]
["UT","DFICB","DF","IC","UT Industrial Distillate Fuel",8855,8880,9379,9354,8768,8047,7917,10496,12735,10375,10065,10485,10584,14392,12187,18921,21373,15311,15329,11067,9100,12097,13415,16379,18424,13676,12715,14929,16625]
["VA","DFICB","DF","IC","VA Industrial Distillate Fuel",21118,19797,17114,18402,16033,21307,25413,29083,25785,24900,28262,29624,26592,34759,39317,41338,39876,41147,39345,17957,13967,14499,16274,17003,17848,15352,16265,14996,14618]
["VT","DFICB","DF","IC","VT Industrial Distillate Fuel",3225,3012,3442,3175,2245,1907,1897,2009,2203,2382,2215,2128,1966,2589,3412,3258,2956,2291,2999,3080,3181,3910,3507,2865,3109,3001,3167,3402,3474]
["WA","DFICB","DF","IC","WA Industrial Distillate Fuel",23161,23104,22614,23071,25844,21674,21535,20074,25018,20992,17185,20865,18581,17303,14162,16872,21511,22961,28619,16385,17273,16886,14720,15030,14347,17944,18731,17899,22514]
["WI","DFICB","DF","IC","WI Industrial Distillate Fuel",24339,23841,24165,27933,26710,23929,27477,26858,26716,40511,48648,56597,52025,30202,32455,32847,32324,32794,30732,21513,21219,22085,22793,25087,26104,25305,23636,25434,25201]
["WV","DFICB","DF","IC","WV Industrial Distillate Fuel",18480,17393,14844,16953,19179,19291,18285,16540,17735,17691,17091,18435,35743,19623,20980,24826,30182,30642,34857,28046,28795,28138,26899,29617,29571,17634,10190,16621,19640]
["WY","DFICB","DF","IC","WY Industrial Distillate Fuel",13373,12481,13083,14012,13559,11044,13273,16362,16523,18733,19611,25259,24080,19292,19551,18226,27486,26656,31279,28482,28983,33611,32868,28189,34107,26866,21887,24192,28730]
["AK","DFRCB","DF","RC","AK Residential Distillate Fuel",9070,9258,10665,11035,11296,11782,11217,10761,9728,11829,10075,10612,8674,8566,9812,9420,11211,8435,7216,8665,8687,8040,7819,6917,6654,7770,7173,7755,6396]
["AL","DFRCB","DF","RC","AL Residential Distillate Fuel",101,80,47,70,66,61,59,233,35,38,71,225,213,44,77,82,54,48,53,563,699,62,104,89,101,120,92,83,69]
["AR","DFRCB","DF","RC","AR Residential Distillate Fuel",2,3,55,3,5,12,5,4,3,5,4,5,50,21,32,9,15,18,9,23,55,58,25,24,31,49,75,48,43]
["AZ","DFRCB","DF","RC","AZ Residential Distillate Fuel",55,29,35,46,32,34,56,42,26,21,23,38,55,55,29,19,20,13,12,19,16,18,22,12,12,6,6,7,5]
["CA","DFRCB","DF","RC","CA Residential Distillate Fuel",1174,1154,1332,1337,1334,1019,860,925,982,996,1403,1708,854,702,829,906,890,554,839,2247,934,628,370,551,543,443,439,412,465]
["CO","DFRCB","DF","RC","CO Residential Distillate Fuel",160,127,104,169,125,203,260,300,108,57,361,327,144,66,95,51,55,44,48,66,61,84,77,78,164,278,64,179,154]
["CT","DFRCB","DF","RC","CT Residential Distillate Fuel",79080,75757,90990,85806,81344,72912,76838,75366,64356,75096,82179,79155,76199,91726,99025,86783,74828,75405,72934,71766,65811,59203,54568,57598,58038,60485,45306,45050,54680]
["DC","DFRCB","DF","RC","DC Residential Distillate Fuel",1034,1113,1151,1021,864,1655,1759,1502,1369,1214,1268,1158,2047,2108,2251,2040,1061,1185,833,1017,1214,206,1061,822,804,1074,108,91,681]
["DE","DFRCB","DF","RC","DE Residential Distillate Fuel",6693,6856,7052,7052,7637,6478,6351,5268,4682,5305,6625,5842,5759,6336,5615,5281,4100,3691,3354,3436,3321,2677,2092,2484,2687,2812,2050,1764,2493]
["FL","DFRCB","DF","RC","FL Residential Distillate Fuel",1616,1601,2095,1985,1612,1326,1240,845,634,586,693,707,544,667,741,574,488,291,163,220,260,156,79,63,102,81,71,52,57]
["GA","DFRCB","DF","RC","GA Residential Distillate Fuel",1729,1203,1203,1463,730,955,878,460,544,318,417,354,320,225,234,242,178,164,187,159,122,141,57,133,73,68,79,61,104]
["HI","DFRCB","DF","RC","HI Residential Distillate Fuel",2,2,2,11,10,10,1,3,2,2,2,2,2,2,2,1,19,19,30,16,1,1,0,0,0,2,0,1,0]
["IA","DFRCB","DF","RC","IA Residential Distillate Fuel",5391,5153,4500,4798,5158,4544,4505,4217,3201,3124,2802,2413,3376,2263,1871,1317,1399,1325,1652,1052,1102,1457,739,739,775,780,623,974,912]
["ID","DFRCB","DF","RC","ID Residential Distillate Fuel",3118,3302,2745,3165,2571,2561,2273,2529,2167,2767,2305,2127,2039,1880,2410,1874,2167,1435,1317,988,905,1051,821,755,730,713,739,651,510]
["IL","DFRCB","DF","RC","IL Residential Distillate Fuel",8120,7133,5774,4332,4279,4429,4342,4121,2431,2955,2397,1860,1536,1475,1768,1233,1043,895,1173,674,675,635,378,444,488,411,426,424,490]
["IN","DFRCB","DF","RC","IN Residential Distillate Fuel",11635,11258,10964,12334,9686,8590,8423,7357,6136,6094,5678,4533,4904,6836,5913,5227,3558,2758,3413,1756,1494,1598,1372,1226,1191,1235,908,944,1151]
["KS","DFRCB","DF","RC","KS Residential Distillate Fuel",164,136,167,159,144,83,101,206,66,80,99,259,209,107,75,21,17,13,21,25,15,42,45,17,6,21,8,19,9]
["KY","DFRCB","DF","RC","KY Residential Distillate Fuel",4360,4086,4443,4553,4327,4206,3855,3828,3404,3045,3068,2655,2358,2910,2560,2152,1478,1419,1335,1854,650,1560,462,611,581,639,537,526,421]
["LA","DFRCB","DF","RC","LA Residential Distillate Fuel",37,8,0,0,64,8,4,1,6,20,8,9,51,25,24,28,33,30,343,147,20,5,7,12,12,37,38,44,8]
["MA","DFRCB","DF","RC","MA Residential Distillate Fuel",119643,112198,127415,127526,127959,116772,106865,106692,98802,103724,118967,129723,128403,121126,112501,107197,90789,91860,91281,82474,84276,81990,68752,74087,84050,83347,64658,70691,76683]
["MD","DFRCB","DF","RC","MD Residential Distillate Fuel",29649,28190,30191,32494,32272,28650,33822,29191,25103,27163,28312,27917,25604,24696,23839,23833,19645,19382,18972,19049,19802,15492,13321,15949,18602,19389,11548,10426,14502]
["ME","DFRCB","DF","RC","ME Residential Distillate Fuel",34872,34773,35773,35547,36530,44389,43935,43111,43948,43312,40483,39861,39271,52945,57485,49036,43124,41952,34618,31205,26971,29244,24252,25426,25972,32314,30611,31488,32098]
["MI","DFRCB","DF","RC","MI Residential Distillate Fuel",28202,26484,24461,24249,21370,22202,22457,21312,15439,17425,16889,15444,12874,13284,11868,11317,8725,7932,6980,5249,3889,3868,2648,3231,4039,2947,2652,2495,2755]
["MN","DFRCB","DF","RC","MN Residential Distillate Fuel",21806,23811,19799,18760,17937,17955,20085,17066,14791,12231,13350,13311,12893,14044,13677,11382,8945,8932,9888,5881,6750,5697,4732,5569,5166,4435,4556,3613,3969]
["MO","DFRCB","DF","RC","MO Residential Distillate Fuel",2400,2498,2069,2419,1873,2540,1923,1809,1710,1783,1794,2352,1688,1199,1120,938,876,827,593,438,367,318,270,255,239,155,113,91,129]
["MS","DFRCB","DF","RC","MS Residential Distillate Fuel",5,8,6,14,6,3,4,2,6,11,8,32,6,6,30,48,1,2,2,1,1,1,1,1,1,1,1,1,0]
["MT","DFRCB","DF","RC","MT Residential Distillate Fuel",1697,1671,1048,1365,928,1266,1894,3986,2352,1310,988,989,713,1138,1086,985,1139,1138,1433,665,628,572,538,459,365,404,388,382,339]
["NC","DFRCB","DF","RC","NC Residential Distillate Fuel",24612,21585,23714,22990,21091,23413,24776,19940,17417,17270,18841,18145,16338,17790,16686,12960,11781,11407,10536,7343,8222,5947,4594,4939,4870,9052,7502,4038,4379]
["ND","DFRCB",{"$f":"MID(B707,1,2)","v":"DF"},{"$f":"MID(B707,3,2)","v":"RC"},{"$f":"A707&\" \"&VLOOKUP(D707,SectorCode,2,FALSE)&\" \"&VLOOKUP(C707,FuelCode,2,FALSE)","v":"ND Residential Distillate Fuel"},5716,5241,3710,4392,3884,4172,4760,3503,3094,2821,3282,2861,2470,3009,3384,2677,2679,2716,3874,1845,1473,1114,806,987,891,742,759,786,741]
["NE","DFRCB","DF","RC","NE Residential Distillate Fuel",1142,1147,840,980,853,512,658,524,376,447,642,473,396,521,560,514,590,304,318,205,160,138,102,114,101,83,76,84,77]
["NH","DFRCB","DF","RC","NH Residential Distillate Fuel",23497,24042,24942,23699,24694,25888,27021,26978,25132,26362,26632,26317,24228,29749,31043,27897,24589,23532,22857,19589,17527,18924,13901,17241,20046,21046,20185,23734,25471]
["NJ","DFRCB","DF","RC","NJ Residential Distillate Fuel",79575,74634,75861,71662,79893,70013,70824,66118,53111,56855,59519,55099,52661,61769,57652,51202,41080,43538,46076,38354,31454,26516,24235,25447,28599,28328,18748,18726,24777]
["NM","DFRCB","DF","RC","NM Residential Distillate Fuel",48,38,63,30,40,17,16,16,12,117,36,27,41,18,23,21,18,21,13,8,7,5,4,10,7,9,6,4,4]
["NV","DFRCB","DF","RC","NV Residential Distillate Fuel",1241,1283,1440,1548,1358,1024,1154,1514,1586,1211,1233,1271,1210,990,992,1187,913,850,923,678,562,428,301,167,147,188,221,241,224]
["NY","DFRCB","DF","RC","NY Residential Distillate Fuel",183602,168711,189622,178348,173253,166594,175995,170915,155002,164950,205000,212407,191404,202941,199339,203942,155503,174107,162643,119904,114236,106482,126543,104880,113428,121811,89296,83584,107668]
["OH","DFRCB","DF","RC","OH Residential Distillate Fuel",27610,24526,26943,26142,25942,23270,21982,19353,16833,19974,17454,16086,18477,19440,19479,16641,12749,14543,13291,10387,9616,9019,7387,7551,8080,8181,7307,7714,8611]
["OK","DFRCB","DF","RC","OK Residential Distillate Fuel",1,0,11,1,1,63,135,21,7,12,14,15,11,6,5,6,6,174,6,17,15,74,42,37,21,6,24,9,12]
["OR","DFRCB","DF","RC","OR Residential Distillate Fuel",9271,8624,7095,8951,8405,7427,7017,6237,5562,6337,5719,6126,5650,5241,4421,3623,3767,3227,3847,3150,2475,2335,2125,2047,1686,1692,1771,1958,1488]
["PA","DFRCB","DF","RC","PA Residential Distillate Fuel",117704,117875,119474,129933,128168,118190,120499,111565,94456,111578,121678,121400,119310,133412,130477,115753,98083,99131,153354,76863,85432,80568,70781,79295,91046,86789,73049,71250,86087]
["RI","DFRCB","DF","RC","RI Residential Distillate Fuel",17676,18123,22150,20376,22771,20171,20250,20994,18999,18395,18981,20729,19525,22215,22646,21718,16655,17138,16461,17591,16921,15568,15332,16229,15810,17271,10893,10336,14411]
["SC","DFRCB","DF","RC","SC Residential Distillate Fuel",6987,6730,4671,5174,4325,4026,4143,3112,2766,2926,2807,2440,2248,2590,1674,1401,1225,992,885,910,859,639,623,444,239,512,488,462,436]
["SD","DFRCB","DF","RC","SD Residential Distillate Fuel",5451,4670,2739,3459,2842,2917,3627,2693,2225,1956,2040,2131,1555,1828,1433,1332,1273,1022,1261,727,735,702,628,533,492,475,422,378,656]
["TN","DFRCB","DF","RC","TN Residential Distillate Fuel",1602,1559,1498,1197,1602,1514,1563,1377,1340,1341,1014,966,668,703,727,592,621,735,924,952,885,262,238,226,223,294,196,227,195]
["TX","DFRCB","DF","RC","TX Residential Distillate Fuel",10,14,10,16,31,36,0,1,2,12,16,5,23,1,844,28,2,2,2,10,4,18,14,2,8,9,6,6,6]
["US","DFRCB","DF","RC","US Residential Distillate Fuel",978128,930367,979662,973803,958978,903979,925213,873693,771112,826903,903867,907389,858949,931078,922678,853158,709397,720971,749804,581780,561211,522150,481746,490509,532068,550275,433539,431255,506421]
["UT","DFRCB","DF","RC","UT Residential Distillate Fuel",807,758,556,757,553,420,434,511,408,459,461,528,480,405,492,151,168,162,99,132,116,136,149,105,117,128,151,130,151]
["VA","DFRCB","DF","RC","VA Residential Distillate Fuel",35350,30968,32382,30805,31813,30040,33582,30346,29215,28811,33047,30182,28419,30843,32589,31358,26254,25208,23079,17502,18566,16283,12079,13569,14042,12958,9854,8912,11330]
["VT","DFRCB","DF","RC","VT Residential Distillate Fuel",13354,13729,14838,14733,14037,13510,13781,13437,11684,11731,14259,12916,12299,13795,15686,13132,12299,12478,10805,11681,9673,10209,8238,9346,10185,10862,10005,10271,10544]
["WA","DFRCB","DF","RC","WA Residential Distillate Fuel",15580,14390,12139,13108,13714,11660,12817,10775,10224,11005,10106,11034,11034,8729,7878,7273,7133,6374,5880,5614,5465,5025,3644,3498,3767,3526,3535,4803,3493]
["WI","DFRCB","DF","RC","WI Residential Distillate Fuel",31365,29797,27469,29998,25432,21297,22517,18852,16302,18855,17614,19441,16612,17629,16980,15357,13724,11454,11907,7181,6343,5439,4143,4597,5334,4481,4111,4064,5002]
["WV","DFRCB","DF","RC","WV Residential Distillate Fuel",3970,3623,3129,3528,3782,2887,3488,3512,3183,2799,3052,3026,2931,2830,2500,2220,2207,1909,1967,1349,1594,1389,1094,1513,1376,1671,1550,1152,1419]
["WY","DFRCB","DF","RC","WY Residential Distillate Fuel",142,408,282,260,336,276,160,261,147,165,152,144,175,171,199,181,220,179,95,134,146,129,132,181,121,146,116,117,114]
["AK","DFEIB","DF","EI","AK Electric Power Distillate Fuel",2833,3085,3541,3136,3336,3444,3815,3481,3123,3661,2413,2873,3217,2974,3079,3130,3400,3664,3761,3432,2825,3275,2943,3226,2922,3347,4645,5068,4859]
["AL","DFEIB","DF","EI","AL Electric Power Distillate Fuel",773,948,821,757,1279,1053,1745,1340,2752,1725,2729,3145,2088,2679,1395,1584,1028,857,1244,1022,1239,1080,815,626,1019,724,363,324,794]
["AR","DFEIB","DF","EI","AR Electric Power Distillate Fuel",818,742,553,732,710,547,567,584,1041,973,389,475,404,413,362,419,278,363,256,371,318,469,305,374,260,564,416,477,321]
["AZ","DFEIB","DF","EI","AZ Electric Power Distillate Fuel",1168,844,717,551,398,621,586,641,679,438,2075,2531,583,556,484,453,762,490,512,599,678,556,437,465,624,532,562,615,546]
["CA","DFEIB","DF","EI","CA Electric Power Distillate Fuel",1538,811,831,722,667,623,842,1649,1727,1621,5232,7981,1303,1481,1354,1404,1168,975,1012,669,436,365,354,357,379,385,375,391,378]
["CO","DFEIB","DF","EI","CO Electric Power Distillate Fuel",291,206,280,163,190,163,204,221,497,411,1105,1967,303,410,177,251,253,373,210,142,214,248,133,105,171,86,95,104,163]
["CT","DFEIB","DF","EI","CT Electric Power Distillate Fuel",1156,824,805,670,897,981,659,730,660,2739,827,595,446,1063,656,590,414,413,399,290,358,265,223,787,861,1289,359,525,1291]
["DC","DFEIB","DF","EI","DC Electric Power Distillate Fuel",422,316,327,203,570,434,284,413,674,625,986,304,3610,1108,755,3140,1341,1141,945,492,2509,1589,147,0,0,0,0,0,0]
["DE","DFEIB","DF","EI","DE Electric Power Distillate Fuel",638,694,736,599,1440,930,1295,707,699,1240,1521,1286,1056,3087,483,561,427,331,500,660,561,300,204,148,411,321,454,145,1302]
["FL","DFEIB","DF","EI","FL Electric Power Distillate Fuel",10931,10559,8996,8453,8511,10793,9902,9267,20273,18964,20723,16441,21518,18137,14224,13805,6774,7075,4344,6025,12403,4621,2349,2573,2831,2918,3450,3184,2904]
["GA","DFEIB","DF","EI","GA Electric Power Distillate Fuel",1271,1129,1162,1959,1728,2246,3253,2668,8149,6196,5870,3158,2568,3574,1453,1670,790,919,950,1097,1154,933,745,748,1977,1376,1040,1098,2501]
["HI","DFEIB","DF","EI","HI Electric Power Distillate Fuel",10562,9958,12657,12640,12618,12870,13520,13398,14042,14867,16148,17312,23199,13367,14464,15035,14236,13377,12712,12999,12971,13062,12592,11980,11845,12297,11726,12053,12407]
["IA","DFEIB","DF","EI","IA Electric Power Distillate Fuel",719,654,534,737,1086,899,813,1274,1598,1791,1297,1271,793,1233,1028,2063,1568,2559,1038,738,1055,911,1174,1056,733,544,945,695,747]
["ID","DFEIB","DF","EI","ID Electric Power Distillate Fuel",9,5,6,1,0,4,3,1,3,2,31,40,1,1,1,0,2,1,1,0,1,0,0,1,1,0,0,0,0]
["IL","DFEIB","DF","EI","IL Electric Power Distillate Fuel",2858,2883,2129,2731,3634,3139,3188,3208,3461,2670,2115,1682,1363,1489,1221,1964,1160,1507,1521,1314,1137,926,787,781,966,615,771,595,610]
["IN","DFEIB","DF","EI","IN Electric Power Distillate Fuel",2465,2046,1536,2291,2395,1989,2057,1876,2598,3227,3084,2241,1876,2074,1631,1879,1551,1643,1780,1442,1480,1667,1202,1420,1780,1519,1101,1147,1236]
["KS","DFEIB","DF","EI","KS Electric Power Distillate Fuel",757,890,600,734,753,874,1022,950,1711,1705,1568,1123,702,855,613,787,710,545,526,496,564,498,451,629,670,634,381,698,681]
["KY","DFEIB","DF","EI","KY Electric Power Distillate Fuel",1236,1329,1138,1247,1846,1643,1794,1546,1701,1530,1800,1312,1949,1804,1482,1336,1120,1400,1476,1622,1327,1438,1306,1277,1407,1405,1220,1102,1038]
["LA","DFEIB","DF","EI","LA Electric Power Distillate Fuel",929,425,437,404,568,452,1154,502,478,299,1982,3800,617,1226,1114,838,287,367,399,442,322,298,315,397,465,651,172,256,236]
["MA","DFEIB","DF","EI","MA Electric Power Distillate Fuel",3578,2974,2639,2734,4216,3945,3512,2681,3251,3448,2185,1892,2563,5540,3532,2217,901,834,1108,1467,800,824,619,1479,2616,1995,389,999,1657]
["MD","DFEIB","DF","EI","MD Electric Power Distillate Fuel",3484,3217,2666,3451,6054,3924,4610,3782,4038,3112,3387,5678,4128,6714,6618,6960,2608,4419,2949,2026,2954,2007,1233,1754,3748,1749,1715,1223,2565]
["ME","DFEIB","DF","EI","ME Electric Power Distillate Fuel",137,159,168,878,111,192,106,124,99,157,240,46,289,761,758,164,98,150,87,70,81,40,21,39,51,242,28,88,92]
["MI","DFEIB","DF","EI","MI Electric Power Distillate Fuel",1987,1673,1817,2006,1910,2388,1746,1815,2724,2937,2177,2150,3112,2817,2284,2164,1752,1705,1660,1484,1475,1851,1286,1283,1503,1121,1231,1029,1214]
["MN","DFEIB","DF","EI","MN Electric Power Distillate Fuel",531,523,364,524,631,780,814,1470,1068,1261,1432,1156,553,1198,753,1350,865,2298,908,706,367,298,341,391,672,335,349,323,439]
["MO","DFEIB","DF","EI","MO Electric Power Distillate Fuel",1206,1426,1077,2139,1484,1649,1325,1598,4081,4088,3443,1822,1283,1398,896,1409,802,804,810,898,1357,835,774,696,1114,911,895,722,1116]
["MS","DFEIB","DF","EI","MS Electric Power Distillate Fuel",289,459,162,204,290,237,518,295,357,362,306,284,181,205,256,524,165,398,231,132,125,175,150,130,174,168,184,136,270]
["MT","DFEIB","DF","EI","MT Electric Power Distillate Fuel",368,260,209,288,259,330,359,290,235,213,238,11,149,162,189,105,144,120,81,101,96,162,81,108,262,69,120,86,139]
["NC","DFEIB","DF","EI","NC Electric Power Distillate Fuel",2271,2185,1851,2365,2725,3105,3476,2964,3821,3908,6800,5114,4730,6738,3773,3191,2746,3039,2757,2794,3052,2199,1970,2257,5065,4558,2747,2717,6940]
["ND","DFEIB","DF","EI","ND Electric Power Distillate Fuel",330,400,336,400,652,574,903,893,520,469,555,373,376,554,428,409,456,558,467,463,396,467,371,367,300,281,341,400,427]
["NE","DFEIB","DF","EI","NE Electric Power Distillate Fuel",178,158,143,247,260,357,274,416,481,379,584,358,247,589,264,257,231,310,418,252,329,397,244,540,568,92,91,94,198]
["NH","DFEIB","DF","EI","NH Electric Power Distillate Fuel",227,225,220,283,324,298,161,213,184,209,172,219,331,386,998,783,1485,484,147,135,153,75,51,297,1355,457,65,568,514]
["NJ","DFEIB","DF","EI","NJ Electric Power Distillate Fuel",3996,3580,2049,3421,4802,7443,3642,2776,3022,4145,6603,7817,1667,4515,4018,2491,735,1309,1268,343,1198,528,250,380,1589,697,352,322,1488]
["NM","DFEIB","DF","EI","NM Electric Power Distillate Fuel",214,332,413,410,269,254,250,240,262,421,392,355,315,510,307,374,425,476,588,493,534,415,506,636,711,727,579,464,240]
["NV","DFEIB","DF","EI","NV Electric Power Distillate Fuel",530,429,388,1043,284,160,204,276,224,203,277,201,210,157,128,221,149,125,163,186,145,162,235,199,167,179,124,108,123]
["NY","DFEIB","DF","EI","NY Electric Power Distillate Fuel",6376,5722,2909,5258,13388,9470,7381,9128,8089,12844,13688,17512,12972,14021,10122,9160,3607,7936,4677,4253,3679,1910,2261,2898,4799,4813,1981,1518,4548]
["OH","DFEIB","DF","EI","OH Electric Power Distillate Fuel",2633,3401,2487,3174,4911,3736,3399,3340,3697,5733,4609,4568,3902,5057,4312,4207,3388,3420,3043,2798,3170,3376,2980,2663,3412,2395,2423,2117,2569]
["OK","DFEIB","DF","EI","OK Electric Power Distillate Fuel",164,152,104,121,109,99,488,119,105,141,451,1493,105,891,183,131,268,339,133,135,139,175,121,105,126,98,178,158,179]
["OR","DFEIB","DF","EI","OR Electric Power Distillate Fuel",326,134,108,324,63,68,60,135,342,89,608,1058,81,584,232,543,66,52,124,33,34,67,71,60,101,61,49,104,50]
["PA","DFEIB","DF","EI","PA Electric Power Distillate Fuel",12463,5652,4820,5771,11490,8139,8813,6143,9047,7712,15088,6793,7207,7833,6234,7406,3778,4845,4591,3421,4243,3874,2892,3294,5778,6008,3369,2985,7787]
["RI","DFEIB","DF","EI","RI Electric Power Distillate Fuel",108,335,98,140,280,139,798,420,271,251,228,249,182,169,130,159,144,205,221,132,131,132,168,350,602,824,245,453,653]
["SC","DFEIB",{"$f":"MID(B771,1,2)","v":"DF"},{"$f":"MID(B771,3,2)","v":"EI"},{"$f":"A771&\" \"&VLOOKUP(D771,SectorCode,2,FALSE)&\" \"&VLOOKUP(C771,FuelCode,2,FALSE)","v":"SC Electric Power Distillate Fuel"},684,772,838,811,1558,1162,1555,2334,3555,3244,3523,2321,1927,2616,2045,1929,1294,1842,964,1037,1302,962,1036,1051,2720,1975,969,1046,3367]
["SD","DFEIB","DF","EI","SD Electric Power Distillate Fuel",187,202,113,185,292,278,191,134,395,342,792,623,105,250,324,302,109,808,290,137,104,120,101,121,134,221,65,86,114]
["TN","DFEIB","DF","EI","TN Electric Power Distillate Fuel",1352,1585,1308,2404,3022,2650,2679,2182,8424,6061,6163,5185,2580,4766,1819,2326,1511,1605,2252,2011,2294,2148,1700,1446,2049,1526,1359,1406,1299]
["TX","DFEIB","DF","EI","TX Electric Power Distillate Fuel",4201,2048,1729,2416,8076,3109,4049,1945,2963,4633,12495,17012,2545,14860,1748,1841,1407,1395,1114,782,1154,1531,1354,1021,1152,1191,871,787,635]
["US","DFEIB","DF","EI","US Electric Power Distillate Fuel",96504,83640,73531,86496,119963,107976,109300,110514,135581,139992,174665,170347,127298,160789,111164,114470,73388,88650,72524,69526,79637,63589,52367,55314,82034,70254,54750,54583,80435]
["UT","DFEIB","DF","EI","UT Electric Power Distillate Fuel",489,477,361,362,333,385,342,336,387,322,590,637,561,357,348,431,731,425,450,365,467,509,398,262,239,193,314,377,367]
["VA","DFEIB","DF","EI","VA Electric Power Distillate Fuel",3220,3081,3366,2528,5053,3975,5100,13145,2701,3729,5622,8358,3134,14895,7118,8177,2672,6448,4366,5766,5399,2700,2034,1982,8765,5779,3387,3496,6729]
["VT","DFEIB","DF","EI","VT Electric Power Distillate Fuel",45,89,48,98,134,224,93,181,625,373,926,508,181,330,261,70,47,51,36,19,27,38,14,46,45,27,45,87,44]
["WA","DFEIB","DF","EI","WA Electric Power Distillate Fuel",177,97,83,367,113,1362,2116,2841,486,119,4553,3018,229,174,312,121,229,158,262,411,211,179,155,142,165,122,136,162,149]
["WI","DFEIB","DF","EI","WI Electric Power Distillate Fuel",662,854,480,729,1281,1127,935,1533,1911,2040,1650,1166,787,1267,1588,1665,1428,1732,947,544,499,483,575,410,712,385,403,419,473]
["WV","DFEIB","DF","EI","WV Electric Power Distillate Fuel",2141,1978,1790,2078,2462,1968,2054,1700,1884,1867,2610,2453,2627,2470,2678,2028,1373,1873,1368,1756,1567,1885,1441,1551,1634,1421,1238,1196,1665]
["WY","DFEIB","DF","EI","WY Electric Power Distillate Fuel",576,713,582,604,500,743,643,609,467,494,383,384,444,473,533,446,509,485,458,527,601,565,454,408,387,430,430,428,371]
["AK","EMACB","EM","AC",{"$f":"A783&\" \"&VLOOKUP(D783,SectorCode,2,FALSE)&\" \"&VLOOKUP(C783,FuelCode,2,FALSE)","v":"AK Transportation Ethanol"},0,0,0,0,3,629,690,578,337,385,168,410,323,219,428,0,0,0,0,0,0,0,0,0,1994,0,0,0,0]
["AL","EMACB","EM","AC",{"$f":"A784&\" \"&VLOOKUP(D784,SectorCode,2,FALSE)&\" \"&VLOOKUP(C784,FuelCode,2,FALSE)","v":"AL Transportation Ethanol"},1597,1593,2556,1351,1451,1989,344,340,281,37,0,1270,865,1247,2465,162,149,466,3676,8980,23015,21752,21086,21684,21870,22433,22882,22766,21305]
["AR","EMACB","EM","AC","AR Transportation Ethanol",498,314,222,155,28,31,2,0,0,0,0,0,0,0,0,93,86,278,2250,5855,12507,11778,11457,11575,12076,12136,12551,12588,11637]
["AZ","EMACB","EM","AC","AZ Transportation Ethanol",0,0,0,273,716,2251,1898,1885,1454,1260,1442,1977,1128,1087,1043,13615,14379,16057,19409,19371,19523,19650,19076,19877,21239,22820,23471,23821,24164]
["CA","EMACB","EM","AC","CA Transportation Ethanol",3863,4858,540,1974,2782,8666,7312,7330,5525,4807,5475,7542,8849,49263,71034,78364,77403,81460,83148,81901,125153,121740,117771,121503,123600,123784,125504,126878,125582]
["CO","EMACB","EM","AC","CO Transportation Ethanol",781,815,1284,2094,2010,3065,5255,5190,5139,4357,4933,6663,5917,6854,6551,3696,3304,5703,7277,8307,10202,12962,13946,14976,14937,18047,19217,19133,19234]
["CT","EMACB","EM","AC","CT Transportation Ethanol",0,109,438,536,367,81,270,284,276,295,325,100,282,1635,12535,3343,9795,11995,9969,11993,12946,12271,11795,12028,12027,12265,12428,12448,12431]
["DC","EMACB","EM","AC","DC Transportation Ethanol",0,3,0,0,0,0,0,0,0,0,0,0,0,0,0,192,533,664,471,546,910,896,783,811,908,921,979,855,988]
["DE","EMACB","EM","AC","DE Transportation Ethanol",0,0,0,0,0,0,0,0,0,0,0,0,0,0,0,917,2706,3364,2783,3007,3841,3586,3466,3591,3615,3896,4024,4165,4286]
["FL","EMACB","EM","AC","FL Transportation Ethanol",624,780,785,450,365,197,69,118,120,82,152,89,36,0,4,4333,6166,8909,46091,57827,58087,59232,62863,64401,63605,63546,66239,69563,72876]
["GA","EMACB","EM","AC","GA Transportation Ethanol",710,772,207,389,111,10,0,0,0,0,0,0,0,0,0,2316,3340,4986,26676,33828,34733,34510,36241,37817,35506,36448,36188,38980,40108]
["HI","EMACB","EM","AC","HI Transportation Ethanol",0,0,0,0,0,0,0,0,0,0,0,0,0,0,0,1176,1343,1699,3146,3604,2745,3190,2895,2990,3235,3769,3788,3822,3719]
["IA","EMACB","EM","AC","IA Transportation Ethanol",2953,3601,4485,5343,6196,6085,3866,4680,5824,6316,7415,7696,7876,8404,8725,2748,2453,4236,7633,7362,12267,12920,12060,11856,13182,14404,15699,14461,14204]
["ID","EMACB","EM","AC","ID Transportation Ethanol",550,605,382,62,54,36,0,0,0,0,0,0,0,0,0,1115,1072,1796,2207,2640,3231,4043,4517,4800,4789,5945,6422,6594,6186]
["IL","EMACB","EM","AC","IL Transportation Ethanol",11172,12345,14219,14075,17581,14764,10714,15584,18487,19700,23706,26797,24708,31940,32977,29608,29209,33466,41045,38052,39605,37851,37622,38612,38837,37840,38710,38790,38117]
["IN","EMACB","EM","AC","IN Transportation Ethanol",5127,6102,5823,6104,6005,7594,3870,5191,4962,8698,9732,8983,10197,10926,11002,12420,13131,15818,21288,23372,23364,23186,23994,25165,24944,24008,24294,24633,23826]
["KS","EMACB","EM","AC","KS Transportation Ethanol",586,572,564,488,459,368,227,227,279,474,208,195,2353,3338,333,2475,2495,4850,8861,8518,8536,8605,8133,8328,9196,9723,10192,9846,9608]
["KY","EMACB","EM","AC","KY Transportation Ethanol",2828,2787,3275,2069,872,438,453,539,321,299,230,323,2110,4698,4090,9146,9438,11669,15045,16580,16957,16873,17489,17811,17506,16940,17361,17522,17367]
["LA","EMACB","EM","AC","LA Transportation Ethanol",313,583,760,753,1059,633,152,64,55,135,22,0,3002,3730,3805,160,152,452,4064,10739,19785,19108,17988,19143,19132,19726,18927,18344,17225]
["MA","EMACB","EM","AC","MA Transportation Ethanol",0,0,0,0,0,0,0,0,0,0,0,0,72,72,684,6018,16266,20911,17439,19322,24151,23263,22634,22984,22872,23217,23339,23072,23102]
["MD","EMACB","EM","AC","MD Transportation Ethanol",0,0,0,0,0,263,222,253,209,213,237,25,3009,19,24,4809,13500,16888,15159,17882,22884,22037,22031,23432,22760,23346,22436,22337,22182]
["ME","EMACB","EM","AC","ME Transportation Ethanol",0,0,0,0,0,0,0,0,0,0,0,0,0,0,0,375,551,789,4054,5154,4766,4897,5014,5762,5892,6073,6405,5307,5300]
["MI","EMACB","EM","AC","MI Transportation Ethanol",4107,5395,4672,5522,6354,4175,1758,2241,2896,3283,7781,4744,10057,12614,13032,17297,18194,22344,30697,34822,33424,34216,36374,38461,36851,35319,36098,36263,35944]
["MN","EMACB","EM","AC","MN Transportation Ethanol",1888,3691,5811,10906,12480,13447,10348,14884,16888,18732,19054,19348,20974,22585,21709,17032,15379,19523,21012,20687,26309,23597,24463,24824,24861,25889,26387,26576,25782]
["MO","EMACB","EM","AC","MO Transportation Ethanol",2159,1951,2302,2599,2911,1946,1024,564,645,1385,2377,2130,5120,7275,7734,9542,9535,13372,19541,18361,22410,22059,21533,21421,23419,25041,25336,25261,24790]
["MS","EMACB","EM","AC","MS Transportation Ethanol",0,0,0,477,336,188,19,0,0,0,0,0,0,0,0,113,105,338,2783,6959,14255,13330,13334,13595,14264,14519,14707,14457,13224]
["MT","EMACB","EM","AC","MT Transportation Ethanol",11,44,43,50,0,55,0,0,35,37,45,117,117,99,123,853,1015,1744,2215,2556,2359,2997,3310,3501,3462,4240,4486,4499,4417]
["NC","EMACB","EM","AC","NC Transportation Ethanol",0,412,266,268,1021,97,2698,2729,3336,2872,3238,4413,5434,7094,7561,2074,2970,4406,23798,30313,31571,31756,32733,33835,33094,33397,35439,36493,37614]
["ND","EMACB","EM","AC","ND Transportation Ethanol",262,397,466,467,551,523,393,390,375,405,488,583,738,881,772,1704,1628,2023,2478,2622,3284,3264,3506,3681,3847,3864,3633,3602,3587]
["NE","EMACB","EM","AC","NE Transportation Ethanol",2314,2732,3250,2687,1810,2154,1393,1588,1655,1973,2626,2161,2731,2974,2769,1419,1386,2571,4636,4521,5413,5452,5453,5407,6132,6666,6771,6834,6823]
["NH","EMACB","EM","AC","NH Transportation Ethanol",0,0,0,0,0,0,0,0,0,0,0,0,0,0,0,1158,2802,3534,3660,4443,5943,5690,5614,5804,5811,5783,5817,5914,5977]
["NJ","EMACB","EM","AC","NJ Transportation Ethanol",0,0,0,92,326,1004,847,961,755,647,765,1019,87,89,494,9530,25615,31968,27056,32022,36335,34729,33128,33940,34523,34097,34712,33269,32308]
["NM","EMACB","EM","AC","NM Transportation Ethanol",1254,1234,978,199,515,1583,1333,1337,2271,1911,2173,713,607,484,536,1010,978,1277,2727,4031,7836,7917,7796,7110,6481,8073,7903,8448,7609]
["NV","EMACB","EM","AC","NV Transportation Ethanol",396,539,650,783,0,1041,0,0,1196,2191,2377,2536,2993,3500,3586,3591,3475,4248,6401,7268,7330,7344,7047,7270,7834,9395,9530,9934,10104]
["NY","EMACB","EM","AC","NY Transportation Ethanol",0,0,0,285,704,2246,1894,1824,1355,1172,1296,366,324,1872,23945,7908,20599,25949,34081,41053,45902,43651,43007,43420,44791,42699,44635,45895,46726]
["OH","EMACB","EM","AC","OH Transportation Ethanol",8618,9083,11138,16058,18810,17599,6944,12403,18422,18998,19397,16929,16558,15307,15059,18452,20120,25216,34870,38922,37215,37937,40157,41800,41245,38098,38541,39118,38330]
["OK","EMACB","EM","AC","OK Transportation Ethanol",0,0,0,0,0,0,0,0,0,0,0,0,0,0,0,3464,3452,6815,12800,11669,12301,12057,12562,11911,13801,14820,14843,14646,14854]
["OR","EMACB","EM","AC","OR Transportation Ethanol",0,0,1738,2989,0,0,0,0,1201,1026,1148,1483,2822,2148,2254,3853,4319,5491,9725,11219,9966,9959,9430,9635,10614,12719,12973,13408,13362]
["PA","EMACB","EM","AC","PA Transportation Ethanol",0,0,0,746,1911,5945,4464,4932,1127,973,1099,1406,469,559,7335,4668,10270,13850,29741,36848,39062,38964,39225,40080,38973,37598,38375,39375,38979]
["RI","EMACB","EM","AC","RI Transportation Ethanol",0,0,0,0,0,0,0,0,0,0,0,0,35,38,678,1022,2740,3524,3275,3780,3405,3124,2961,3037,3107,3152,3085,3094,3212]
["SC","EMACB","EM","AC","SC Transportation Ethanol",501,1,0,0,0,0,0,0,0,0,0,0,0,0,0,1204,1772,2663,14496,18522,18854,18995,20450,20949,20367,20791,21649,22410,22691]
["SD","EMACB","EM","AC","SD Transportation Ethanol",460,1061,1393,1539,1782,1660,1171,1306,1529,1688,1845,1693,1924,1891,1763,2152,2006,2711,3172,3258,3768,3556,3663,3685,3759,3972,4017,3989,3961]
["TN","EMACB","EM","AC","TN Transportation Ethanol",1984,1451,1762,2026,2879,1225,23,24,28,0,0,0,0,0,0,11673,12298,15630,21413,25842,23623,24396,25611,26651,26555,24876,25987,26540,25749]
["TX","EMACB","EM","AC","TX Transportation Ethanol",1960,1957,2217,510,1265,4134,1540,3635,5372,4678,5360,5383,2344,1907,2254,1361,36743,52727,62850,65783,84231,99881,93779,93532,104017,106302,118453,119961,121360]
["US","EMACB","EM","AC","US Transportation Ethanol",60254,69774,79277,93188,104446,112145,80484,101196,112221,117411,134597,140409,167052,227531,286229,327770,442403,557570,785807,893957,1041483,1045041,1044666,1071703,1093418,1109733,1143028,1155526,1152372]
["UT","EMACB","EM","AC","UT Transportation Ethanol",4,2,23,66,0,0,74,0,1018,866,985,1281,340,259,126,2094,1762,3057,3698,4260,4959,6598,7007,7590,7551,9312,9950,10078,10022]
["VA","EMACB","EM","AC","VA Transportation Ethanol",1298,1248,939,177,950,3,3273,2527,3155,2706,3065,2861,5048,6657,6991,5480,14118,18555,23057,29538,32711,30460,31406,31817,32309,31718,32435,33066,33415]
["VT","EMACB","EM","AC","VT Transportation Ethanol",0,0,0,0,0,0,0,0,0,0,0,0,0,0,0,161,228,332,1740,2552,2327,2336,2423,2470,2384,2299,2353,2412,2286]
["WA","EMACB","EM","AC","WA Transportation Ethanol",699,821,3828,6677,7707,2535,1125,2131,2869,2429,2739,1979,5734,5521,1847,7225,7921,10028,17592,20428,17470,18012,17193,18062,19385,23234,22890,23294,24026]
["WI","EMACB","EM","AC","WI Transportation Ethanol",664,1654,1444,1213,1334,2932,4641,5431,2822,2382,2668,6765,10807,8947,8461,13769,12469,15560,19277,19758,22270,20399,20127,20494,21706,21835,21781,21640,22330]
["WV","EMACB","EM","AC","WV Transportation Ethanol",0,0,378,222,165,112,18,16,2,0,26,430,1064,1398,1497,380,538,763,4189,5684,6107,6030,6254,6187,6264,5954,6231,6210,6708]
["WY","EMACB","EM","AC",{"$f":"A834&\" \"&VLOOKUP(D834,SectorCode,2,FALSE)&\" \"&VLOOKUP(C834,FuelCode,2,FALSE)","v":"WY Transportation Ethanol"},73,262,440,513,580,440,158,11,0,0,0,0,0,0,0,498,498,895,1136,1393,1635,1985,2261,2387,2289,2786,2953,2915,2733]
["AK","EMCCB",{"$f":"MID(B835,1,2)","v":"EM"},"CC",{"$f":"A835&\" \"&VLOOKUP(D835,SectorCode,2,FALSE)&\" \"&VLOOKUP(C835,FuelCode,2,FALSE)","v":"AK Commercial Ethanol"},0,0,0,0,0,2,32,7,6,5,2,50,7,0,6,0,0,0,0,0,0,0,0,0,22,0,0,0,0]
["AL","EMCCB","EM","CC",{"$f":"A836&\" \"&VLOOKUP(D836,SectorCode,2,FALSE)&\" \"&VLOOKUP(C836,FuelCode,2,FALSE)","v":"AL Commercial Ethanol"},8,5,7,1,1,2,0,0,0,0,0,1,1,1,2,0,0,0,3,6,16,16,16,16,16,372,472,381,379]
["AR","EMCCB","EM","CC","AR Commercial Ethanol",2,1,1,0,0,0,0,0,0,0,0,0,0,0,0,0,0,1,9,23,59,26,26,20,29,224,196,195,184]
["AZ","EMCCB","EM","CC","AZ Commercial Ethanol",0,0,0,1,1,2,1,1,1,1,1,1,1,1,1,8,9,10,14,35,46,41,34,40,15,646,641,653,660]
["CA","EMCCB","EM","CC","CA Commercial Ethanol",25,27,3,2,2,7,5,5,4,3,4,5,6,36,52,57,58,61,64,62,94,93,90,96,93,3625,3616,3688,3733]
["CO","EMCCB","EM","CC","CO Commercial Ethanol",6,8,6,2,3,4,33,4,4,16,14,6,5,6,5,3,3,5,6,7,9,11,12,13,12,487,512,522,531]
["CT","EMCCB","EM","CC","CT Commercial Ethanol",0,2,22,27,12,1,7,9,6,6,8,1,6,79,45,17,12,13,21,14,14,15,12,13,12,333,320,324,327]
["DC","EMCCB","EM","CC","DC Commercial Ethanol",0,0,0,0,0,0,0,0,0,0,0,0,0,0,0,16,12,5,12,7,83,97,2,3,2,23,27,27,28]
["DE","EMCCB","EM","CC","DE Commercial Ethanol",0,0,0,0,0,0,0,0,0,0,0,0,0,0,0,1,2,2,2,2,2,2,2,2,2,84,84,86,86]
["FL","EMCCB","EM","CC","FL Commercial Ethanol",6,5,5,0,0,0,0,0,0,0,0,0,0,0,0,8,13,29,148,197,552,297,125,240,192,1714,2119,1849,1938]
["GA","EMCCB","EM","CC","GA Commercial Ethanol",5,3,1,0,0,0,0,0,0,0,0,0,0,0,0,1,2,3,17,21,21,22,23,24,23,748,787,820,856]
["HI","EMCCB","EM","CC","HI Commercial Ethanol",0,0,0,0,0,0,0,0,0,0,0,0,0,0,0,1,1,2,4,4,3,4,3,4,4,111,112,115,117]
["IA","EMCCB","EM","CC","IA Commercial Ethanol",14,86,96,109,7,6,27,61,77,77,112,120,140,151,240,55,89,183,308,353,752,738,730,725,742,1061,218,224,225]
["ID","EMCCB","EM","CC","ID Commercial Ethanol",7,19,11,0,0,0,0,0,0,0,0,0,0,0,0,1,4,2,11,5,4,6,12,15,16,121,113,115,118]
["IL","EMCCB","EM","CC","IL Commercial Ethanol",60,48,51,17,26,19,18,31,38,25,44,57,78,97,107,61,102,66,93,296,83,64,87,62,58,915,904,902,909]
["IN","EMCCB","EM","CC","IN Commercial Ethanol",47,36,32,27,24,19,9,13,11,22,12,31,32,36,30,39,37,59,114,234,191,214,213,207,199,526,535,483,486]
["KS","EMCCB","EM","CC","KS Commercial Ethanol",3,3,2,1,1,1,1,1,1,1,1,1,4,11,1,7,11,12,18,21,21,16,26,10,21,212,203,199,196]
["KY","EMCCB","EM","CC","KY Commercial Ethanol",30,21,21,2,1,0,0,0,1,0,0,0,2,4,3,8,8,10,13,14,14,14,15,16,15,246,260,267,267]
["LA","EMCCB","EM","CC","LA Commercial Ethanol",2,4,4,1,1,1,0,0,0,0,1,0,44,147,107,3,0,24,3,9,16,15,15,16,15,282,285,290,279]
["MA","EMCCB","EM","CC","MA Commercial Ethanol",0,0,0,0,0,0,0,0,0,0,0,0,0,0,1,5,18,24,21,24,18,52,15,17,17,502,503,512,506]
["MD","EMCCB","EM","CC","MD Commercial Ethanol",0,0,0,0,0,0,0,0,0,0,0,0,2,0,0,3,7,9,8,9,12,12,12,12,12,599,604,617,627]
["ME","EMCCB","EM","CC","ME Commercial Ethanol",0,0,0,0,0,0,0,0,0,0,0,0,0,0,0,0,1,2,5,11,11,6,6,10,8,105,108,111,113]
["MI","EMCCB","EM","CC","MI Commercial Ethanol",32,32,26,4,22,3,1,2,5,5,11,18,21,22,21,31,14,16,23,41,26,26,28,29,1123,654,663,684,687]
["MN","EMCCB","EM","CC","MN Commercial Ethanol",66,16,14,11,12,13,10,284,299,16,16,17,18,287,18,14,343,295,296,226,303,262,284,262,268,661,677,434,438]
["MO","EMCCB","EM","CC","MO Commercial Ethanol",8,4,4,5,4,3,2,1,1,6,9,10,21,28,24,37,7,10,15,14,17,17,17,17,18,446,448,458,459]
["MS","EMCCB","EM","CC","MS Commercial Ethanol",0,0,0,1,2,0,0,0,0,0,0,0,0,0,0,1,0,0,3,6,12,11,13,13,12,165,170,169,161]
["MT","EMCCB","EM","CC","MT Commercial Ethanol",0,0,0,0,0,0,0,0,0,0,0,0,0,0,0,1,1,2,3,3,3,4,4,4,4,51,54,54,55]
["NC","EMCCB","EM","CC","NC Commercial Ethanol",0,2,1,0,1,0,10,5,12,9,11,12,15,83,108,39,46,48,278,566,296,119,119,106,114,811,887,793,832]
["ND","EMCCB","EM","CC","ND Commercial Ethanol",3,2,2,1,1,1,0,0,1,1,1,1,1,2,1,2,4,4,5,6,7,4,7,8,7,35,36,37,37]
["NE","EMCCB","EM","CC","NE Commercial Ethanol",21,16,18,3,2,2,2,2,2,2,38,23,18,15,29,2,8,15,25,22,6,23,21,16,19,130,127,120,120]
["NH","EMCCB","EM","CC","NH Commercial Ethanol",0,0,0,0,0,0,0,0,0,0,0,0,0,0,0,1,22,10,13,12,19,18,19,20,20,123,126,113,114]
["NJ","EMCCB","EM","CC","NJ Commercial Ethanol",0,0,0,0,0,1,1,1,1,1,1,1,0,0,0,7,17,23,20,22,25,23,23,26,53,779,783,783,784]
["NM","EMCCB","EM","CC","NM Commercial Ethanol",9,7,5,0,0,1,1,1,2,2,2,1,10,12,2,1,1,1,3,4,7,8,8,7,6,138,137,140,129]
["NV","EMCCB","EM","CC","NV Commercial Ethanol",2,3,3,1,0,1,0,0,1,1,1,2,2,2,2,2,2,3,7,5,5,5,5,8,5,301,304,307,310]
["NY","EMCCB","EM","CC","NY Commercial Ethanol",0,0,0,0,1,4,3,3,2,2,2,1,2,4,35,14,43,50,53,65,61,63,60,66,67,1068,1066,1079,1086]
["OH","EMCCB","EM","CC","OH Commercial Ethanol",84,78,71,56,75,67,22,211,116,28,85,30,55,27,23,42,75,95,111,105,87,32,34,36,34,994,998,1030,1035]
["OK","EMCCB","EM","CC","OK Commercial Ethanol",0,0,0,0,0,0,0,0,0,0,0,0,0,0,0,11,10,34,58,47,44,43,46,49,48,318,311,288,290]
["OR","EMCCB","EM","CC","OR Commercial Ethanol",0,0,9,3,0,0,0,0,1,1,1,1,2,2,2,3,8,5,9,10,9,9,9,9,10,320,330,339,343]
["PA","EMCCB","EM","CC","PA Commercial Ethanol",0,0,0,1,2,5,3,12,9,2,1,1,1,1,7,3,8,10,23,28,29,30,30,31,30,922,941,974,1010]
["RI","EMCCB","EM","CC","RI Commercial Ethanol",0,0,0,0,0,0,0,0,0,0,0,0,0,0,1,1,3,4,3,4,4,4,3,4,4,72,72,74,75]
["SC","EMCCB","EM","CC","SC Commercial Ethanol",3,0,0,0,0,0,0,0,0,0,0,0,0,0,0,1,1,2,8,10,10,11,11,12,11,374,400,416,451]
["SD","EMCCB","EM","CC","SD Commercial Ethanol",4,7,9,2,2,2,1,1,2,2,2,5,5,2,2,3,3,3,4,4,4,4,4,4,4,47,47,48,48]
["TN","EMCCB","EM","CC","TN Commercial Ethanol",16,11,11,7,2,1,0,0,0,0,0,0,0,0,0,9,9,12,16,19,17,18,19,20,19,439,443,456,459]
["TX","EMCCB","EM","CC","TX Commercial Ethanol",23,16,16,0,1,3,1,3,4,3,4,4,2,1,1,1,25,69,80,72,96,106,99,100,102,1710,1828,1817,1825]
["US","EMCCB","EM","CC","US Commercial Ethanol",506,483,480,293,218,176,206,672,618,259,402,420,540,1088,903,586,1109,1349,2099,2802,3259,2863,2552,2639,3706,25701,25772,25129,25495]
["UT","EMCCB","EM","CC","UT Commercial Ethanol",0,0,0,0,0,0,0,0,1,1,1,1,0,0,0,2,2,3,4,4,5,7,7,8,7,140,151,154,156]
["VA","EMCCB","EM","CC","VA Commercial Ethanol",9,6,5,0,2,0,5,4,5,5,4,4,7,9,9,7,15,22,25,31,28,36,33,32,34,766,782,794,815]
["VT","EMCCB","EM","CC","VT Commercial Ethanol",0,0,0,0,0,0,0,0,0,0,0,0,0,0,0,0,0,0,2,2,2,2,2,2,2,42,44,45,48]
["WA","EMCCB","EM","CC","WA Commercial Ethanol",4,3,9,6,7,3,1,2,3,12,12,5,17,7,2,15,17,26,45,45,27,30,40,47,43,574,650,564,573]
["WI","EMCCB","EM","CC","WI Commercial Ethanol",4,8,6,1,2,3,7,5,3,3,4,9,15,12,12,20,12,14,18,18,20,19,19,20,19,417,417,425,424]
["WV","EMCCB","EM","CC","WV Commercial Ethanol",0,0,4,0,0,0,0,0,0,0,0,0,1,1,2,1,1,1,7,8,8,9,8,9,8,116,123,123,129]
["WY","EMCCB","EM","CC","WY Commercial Ethanol",1,3,5,1,1,0,1,0,0,0,0,0,0,0,0,21,23,49,50,51,58,160,102,112,90,151,138,31,34]
["AK","EMICB","EM","IC","AK Industrial Ethanol",0,0,0,0,0,6,7,5,4,2,1,6,5,4,7,0,0,0,0,0,0,0,0,0,39,0,0,0,0]
["AL","EMICB","EM","IC","AL Industrial Ethanol",15,13,22,15,18,24,4,4,3,0,0,22,15,24,52,3,3,8,61,145,242,228,171,181,188,305,307,312,302]
["AR","EMICB","EM","IC","AR Industrial Ethanol",7,5,3,2,0,0,0,0,0,0,0,0,0,0,0,3,3,8,46,118,278,274,244,271,234,260,273,276,265]
["AZ","EMICB","EM","IC","AZ Industrial Ethanol",0,0,0,2,6,20,17,18,13,8,9,31,17,18,20,215,258,251,315,310,274,282,294,313,319,615,623,632,632]
["CA","EMICB","EM","IC","CA Industrial Ethanol",41,54,6,17,25,80,64,67,55,28,32,98,117,681,1098,1121,1129,963,907,869,2069,2034,2111,2236,1637,2157,2142,2181,2203]
["CO","EMICB","EM","IC","CO Industrial Ethanol",9,12,18,28,30,41,79,82,73,53,58,161,152,183,186,102,95,90,94,107,192,248,244,251,212,405,434,439,451]
["CT","EMICB","EM","IC","CT Industrial Ethanol",0,1,3,3,2,1,2,2,1,2,2,2,4,24,186,50,153,142,103,118,182,173,169,176,135,134,134,137,138]
["DC","EMICB","EM","IC","DC Industrial Ethanol",0,0,0,0,0,0,0,0,0,0,0,0,0,0,0,7,20,12,13,13,12,12,12,12,16,13,13,13,13]
["DE","EMICB","EM","IC","DE Industrial Ethanol",0,0,0,0,0,0,0,0,0,0,0,0,0,0,0,9,29,60,38,39,62,61,57,61,58,50,50,51,52]
["FL","EMICB","EM","IC","FL Industrial Ethanol",5,5,5,3,2,1,1,1,1,1,1,1,0,0,0,59,86,153,816,973,618,604,662,679,688,1395,1451,1505,1608]
["GA","EMICB","EM","IC","GA Industrial Ethanol",11,11,3,3,1,0,0,0,0,0,0,0,0,0,0,53,80,75,388,469,394,407,418,455,383,395,412,429,450]
["HI","EMICB","EM","IC","HI Industrial Ethanol",0,0,0,0,0,0,0,0,0,0,0,0,0,0,0,14,17,37,75,79,40,43,39,39,52,102,100,103,105]
["IA","EMICB",{"$f":"MID(B899,1,2)","v":"EM"},"IC",{"$f":"A899&\" \"&VLOOKUP(D899,SectorCode,2,FALSE)&\" \"&VLOOKUP(C899,FuelCode,2,FALSE)","v":"IA Industrial Ethanol"},104,137,157,137,210,189,124,150,147,156,164,264,276,307,403,117,112,158,229,231,435,466,336,320,276,299,345,352,345]
["ID","EMICB","EM","IC","ID Industrial Ethanol",18,25,13,2,2,1,0,0,0,0,0,0,0,0,0,53,52,78,91,95,120,159,152,172,153,188,207,205,209]
["IL","EMICB","EM","IC","IL Industrial Ethanol",136,161,165,207,243,202,143,208,222,182,206,471,463,651,729,642,656,491,521,495,730,713,685,719,567,665,715,730,732]
["IN","EMICB","EM","IC","IN Industrial Ethanol",53,72,61,70,76,93,46,64,44,79,79,132,162,171,223,230,255,543,705,752,418,433,472,487,323,332,368,363,363]
["KS","EMICB","EM","IC","KS Industrial Ethanol",16,16,14,16,15,13,8,8,10,10,5,6,87,116,14,110,105,160,234,225,172,180,150,148,121,292,329,335,333]
["KY","EMICB","EM","IC","KY Industrial Ethanol",57,57,65,48,22,11,13,14,5,5,4,11,75,178,169,379,422,253,232,254,246,250,242,249,180,179,189,193,192]
["LA","EMICB","EM","IC","LA Industrial Ethanol",2,5,6,11,19,11,2,1,1,2,0,0,69,90,108,4,3,14,54,130,391,408,376,415,281,268,274,278,267]
["MA","EMICB","EM","IC","MA Industrial Ethanol",0,0,0,0,0,0,0,0,0,0,0,0,1,1,10,82,224,237,189,204,332,340,323,342,275,272,273,279,283]
["MD","EMICB","EM","IC","MD Industrial Ethanol",0,0,0,0,0,2,1,2,1,1,1,0,43,0,0,74,216,270,209,222,275,281,263,280,295,190,199,204,207]
["ME","EMICB","EM","IC","ME Industrial Ethanol",0,0,0,0,0,0,0,0,0,0,0,0,0,0,0,6,10,12,52,63,93,97,95,97,86,75,79,81,82]
["MI","EMICB","EM","IC","MI Industrial Ethanol",41,60,44,55,71,50,23,26,28,28,71,74,162,218,258,330,374,436,528,464,391,394,462,495,337,510,525,538,543]
["MN","EMICB","EM","IC","MN Industrial Ethanol",47,113,171,266,305,302,128,519,375,327,316,467,477,492,480,349,305,463,318,343,575,549,555,613,513,518,563,571,574]
["MO","EMICB","EM","IC","MO Industrial Ethanol",23,23,24,59,72,49,25,14,9,18,29,53,132,190,234,274,286,212,240,251,298,293,167,169,126,325,312,317,322]
["MS","EMICB","EM","IC","MS Industrial Ethanol",0,0,0,6,4,2,0,0,0,0,0,0,0,0,0,4,4,5,31,81,228,223,206,231,203,142,136,137,131]
["MT","EMICB","EM","IC","MT Industrial Ethanol",1,3,2,3,0,3,0,0,1,1,2,6,6,5,7,49,63,76,71,80,60,78,78,86,82,120,122,123,125]
["NC","EMICB","EM","IC","NC Industrial Ethanol",0,5,3,3,11,1,31,32,33,20,27,92,108,118,146,37,56,58,241,326,501,533,521,553,413,415,419,435,459]
["ND","EMICB","EM","IC","ND Industrial Ethanol",29,42,45,40,50,45,28,22,26,21,27,39,51,62,70,132,142,145,134,142,109,109,98,105,91,145,132,134,131]
["NE","EMICB","EM","IC","NE Industrial Ethanol",127,153,157,108,77,88,58,68,90,68,85,107,143,166,187,94,94,95,108,114,175,186,163,151,141,234,213,217,218]
["NH","EMICB","EM","IC","NH Industrial Ethanol",0,0,0,0,0,0,0,0,0,0,0,0,0,0,0,24,60,38,32,38,64,65,63,67,52,62,63,64,66]
["NJ","EMICB","EM","IC","NJ Industrial Ethanol",0,0,0,1,2,7,6,7,4,2,2,11,1,1,6,98,274,358,251,292,416,398,380,394,307,449,450,461,467]
["NM","EMICB","EM","IC","NM Industrial Ethanol",23,24,17,6,15,51,45,45,53,30,36,21,18,15,18,33,33,29,59,81,149,145,134,128,99,205,212,214,206]
["NV","EMICB","EM","IC","NV Industrial Ethanol",5,6,7,7,0,12,0,0,24,14,12,52,61,72,80,83,78,47,100,111,90,84,85,85,111,160,159,162,168]
["NY","EMICB","EM","IC","NY Industrial Ethanol",0,0,0,2,6,19,16,17,11,8,9,5,5,29,380,130,364,411,429,500,791,529,777,787,723,935,943,975,997]
["OH","EMICB","EM","IC","OH Industrial Ethanol",77,81,296,159,185,184,73,133,205,179,114,266,270,263,297,355,404,400,448,489,438,514,545,576,353,520,516,530,535]
["OK","EMICB","EM","IC","OK Industrial Ethanol",0,0,0,0,0,0,0,0,0,0,0,0,0,0,0,127,139,197,325,303,229,243,237,253,214,296,315,321,323]
["OR","EMICB","EM","IC","OR Industrial Ethanol",0,0,14,41,0,0,0,0,23,11,13,34,67,53,66,102,119,129,192,213,217,283,227,245,154,232,228,234,237]
["PA","EMICB","EM","IC","PA Industrial Ethanol",0,0,0,7,16,50,34,39,9,6,7,16,6,7,109,70,180,175,208,255,664,408,698,730,578,498,501,517,535]
["RI","EMICB","EM","IC","RI Industrial Ethanol",0,0,0,0,0,0,0,0,0,0,0,0,0,0,8,12,32,57,53,60,41,40,41,43,43,43,43,44,44]
["SC","EMICB","EM","IC","SC Industrial Ethanol",8,0,0,0,0,0,0,0,0,0,0,0,0,0,0,21,32,31,180,213,156,159,174,183,151,190,195,202,215]
["SD","EMICB","EM","IC","SD Industrial Ethanol",27,60,67,92,88,94,66,77,59,76,78,112,121,136,153,180,181,155,132,132,119,113,107,112,104,102,93,94,94]
["TN","EMICB","EM","IC","TN Industrial Ethanol",20,15,18,24,36,17,0,0,0,0,0,0,0,0,0,193,229,393,444,512,255,279,297,329,215,370,378,387,399]
["TX","EMICB","EM","IC","TX Industrial Ethanol",43,47,49,9,22,78,28,70,115,49,56,99,45,38,50,29,802,845,856,879,1683,2125,1832,1930,1507,1223,1318,1340,1362]
["US","EMICB","EM","IC","US Industrial Ethanol",980,1284,1583,1565,1772,1849,1202,1829,1744,1463,1535,2912,3600,4744,6197,6792,9108,9678,11713,12894,16476,16731,16629,17483,14164,17621,18081,18471,18765]
["UT","EMICB","EM","IC",{"$f":"A932&\" \"&VLOOKUP(D932,SectorCode,2,FALSE)&\" \"&VLOOKUP(C932,FuelCode,2,FALSE)","v":"UT Industrial Ethanol"},0,0,0,1,0,0,1,0,11,9,10,28,7,6,3,51,44,63,73,80,75,103,110,116,90,141,149,151,156]
["VA","EMICB","EM","IC","VA Industrial Ethanol",13,12,9,2,9,0,32,25,31,18,21,44,78,102,131,96,257,205,199,256,333,324,329,347,331,255,256,262,269]
["VT","EMICB","EM","IC","VT Industrial Ethanol",0,0,0,0,0,0,0,0,0,0,0,0,0,0,0,5,7,8,25,37,45,47,42,43,40,30,30,31,32]
["WA","EMICB","EM","IC","WA Industrial Ethanol",9,12,57,62,72,24,10,21,23,20,23,33,100,98,37,143,162,150,245,272,311,328,309,321,310,360,351,361,365]
["WI","EMICB","EM","IC","WI Industrial Ethanol",11,34,24,20,23,51,77,91,33,31,36,139,235,199,239,395,413,431,312,329,383,373,351,361,268,372,364,369,375]
["WV","EMICB","EM","IC","WV Industrial Ethanol",0,0,5,2,2,1,0,0,0,0,0,7,18,25,31,8,11,13,65,80,59,60,63,66,51,90,93,97,98]
["WY","EMICB","EM","IC","WY Industrial Ethanol",5,20,31,28,33,26,10,1,0,0,0,0,0,0,0,33,34,36,42,49,45,53,58,63,39,82,84,85,86]
["AK","FNICB",{"$f":"MID(B939,1,2)","v":"FN"},{"$f":"MID(B939,3,2)","v":"IC"},"AK Industrial Feedstocks, Naphtha less than 401 F",0,0,0,0,0,0,0,0,0,0,0,0,0,0,0,0,0,0,0,0,0,0,0,0,0,0,0,0,0]
["AL","FNICB","FN","IC","AL Industrial Feedstocks, Naphtha less than 401 F",0,0,0,0,0,0,0,0,0,0,0,0,0,0,0,0,0,0,0,0,0,0,0,0,0,0,0,0,0]
["AR","FNICB","FN","IC","AR Industrial Feedstocks, Naphtha less than 401 F",0,0,0,0,0,0,0,0,0,0,0,0,0,0,0,0,0,0,0,0,0,0,0,0,0,0,0,0,0]
["AZ","FNICB","FN","IC","AZ Industrial Feedstocks, Naphtha less than 401 F",0,0,0,0,0,0,0,0,0,0,0,0,0,0,0,0,0,0,0,0,0,0,0,0,0,0,0,0,0]
["CA","FNICB","FN","IC","CA Industrial Feedstocks, Naphtha less than 401 F",0,0,0,0,0,0,0,0,0,0,0,0,0,0,0,0,0,0,0,0,0,0,0,0,0,0,0,0,0]
["CO","FNICB","FN","IC","CO Industrial Feedstocks, Naphtha less than 401 F",0,0,0,0,0,0,0,0,0,0,0,0,0,0,0,0,0,0,0,0,0,0,0,0,0,0,0,0,0]
["CT","FNICB","FN","IC","CT Industrial Feedstocks, Naphtha less than 401 F",0,0,0,0,0,0,0,0,0,0,0,0,0,0,0,0,0,0,0,0,0,0,0,0,0,0,0,0,0]
["DC","FNICB","FN","IC","DC Industrial Feedstocks, Naphtha less than 401 F",0,0,0,0,0,0,0,0,0,0,0,0,0,0,0,0,0,0,0,0,0,0,0,0,0,0,0,0,0]
["DE","FNICB","FN","IC","DE Industrial Feedstocks, Naphtha less than 401 F",0,0,0,0,0,0,0,0,0,0,0,0,0,0,0,0,0,0,0,0,0,0,0,0,0,0,0,0,0]
["FL","FNICB","FN","IC","FL Industrial Feedstocks, Naphtha less than 401 F",0,0,0,0,0,0,0,0,0,0,0,0,0,0,0,0,0,0,0,0,0,0,0,0,0,0,0,0,0]
["GA","FNICB","FN","IC","GA Industrial Feedstocks, Naphtha less than 401 F",0,0,0,0,0,0,0,0,0,0,0,0,0,0,0,0,0,0,0,0,0,0,0,0,0,0,0,0,0]
["HI","FNICB","FN","IC","HI Industrial Feedstocks, Naphtha less than 401 F",0,0,0,0,0,0,0,0,0,0,0,0,0,0,0,0,0,0,0,0,0,0,0,0,0,0,0,0,0]
["IA","FNICB","FN","IC","IA Industrial Feedstocks, Naphtha less than 401 F",0,0,0,0,0,0,0,0,0,0,0,0,0,0,0,0,0,0,0,0,0,0,0,0,0,0,0,0,0]
["ID","FNICB","FN","IC","ID Industrial Feedstocks, Naphtha less than 401 F",0,0,0,0,0,0,0,0,0,0,0,0,0,0,0,0,0,0,0,0,0,0,0,0,0,0,0,0,0]
["IL","FNICB","FN","IC","IL Industrial Feedstocks, Naphtha less than 401 F",0,0,0,0,0,0,0,0,0,0,0,0,0,0,0,0,0,0,0,0,0,0,0,0,0,0,0,0,0]
["IN","FNICB","FN","IC","IN Industrial Feedstocks, Naphtha less than 401 F",0,0,0,0,0,0,0,0,0,0,0,0,0,0,0,0,0,0,0,0,0,0,0,0,0,0,0,0,0]
["KS","FNICB","FN","IC","KS Industrial Feedstocks, Naphtha less than 401 F",0,0,0,0,0,0,0,0,0,0,0,0,0,0,0,0,0,0,0,0,0,0,0,0,0,0,0,0,0]
["KY","FNICB","FN","IC","KY Industrial Feedstocks, Naphtha less than 401 F",0,0,0,0,0,0,0,0,0,0,0,0,0,0,0,0,0,0,0,0,0,0,0,0,0,0,0,0,0]
["LA","FNICB","FN","IC","LA Industrial Feedstocks, Naphtha less than 401 F",135525,116489,146953,136613,155218,145331,186770,209007,222912,185945,192150,128951,125315,126356,147977,132379,114290,98015,79700,71966,68213,67761,63118,72005,65019,62882,61701,64074,65677]
["MA","FNICB","FN","IC","MA Industrial Feedstocks, Naphtha less than 401 F",0,0,0,0,0,0,0,0,0,0,0,0,0,0,0,0,0,0,0,0,0,0,0,0,0,0,0,0,0]
["MD","FNICB","FN","IC","MD Industrial Feedstocks, Naphtha less than 401 F",0,0,0,0,0,0,0,0,0,0,0,0,0,0,0,0,0,0,0,0,0,0,0,0,0,0,0,0,0]
["ME","FNICB","FN","IC","ME Industrial Feedstocks, Naphtha less than 401 F",0,0,0,0,0,0,0,0,0,0,0,0,0,0,0,0,0,0,0,0,0,0,0,0,0,0,0,0,0]
["MI","FNICB","FN","IC","MI Industrial Feedstocks, Naphtha less than 401 F",0,0,0,0,0,0,0,0,0,0,0,0,0,0,0,0,0,0,0,0,0,0,0,0,0,0,0,0,0]
["MN","FNICB","FN","IC","MN Industrial Feedstocks, Naphtha less than 401 F",0,0,0,0,0,0,0,0,0,0,0,0,0,0,0,0,0,0,0,0,0,0,0,0,0,0,0,0,0]
["MO","FNICB","FN","IC",{"$f":"A963&\" \"&VLOOKUP(D963,SectorCode,2,FALSE)&\" \"&VLOOKUP(C963,FuelCode,2,FALSE)","v":"MO Industrial Feedstocks, Naphtha less than 401 F"},0,0,0,0,0,0,0,0,0,0,0,0,0,0,0,0,0,0,0,0,0,0,0,0,0,0,0,0,0]
["MS","FNICB","FN","IC","MS Industrial Feedstocks, Naphtha less than 401 F",0,0,0,0,0,0,0,0,0,0,0,0,0,0,0,0,0,0,0,0,0,0,0,0,0,0,0,0,0]
["MT","FNICB","FN","IC","MT Industrial Feedstocks, Naphtha less than 401 F",0,0,0,0,0,0,0,0,0,0,0,0,0,0,0,0,0,0,0,0,0,0,0,0,0,0,0,0,0]
["NC","FNICB","FN","IC","NC Industrial Feedstocks, Naphtha less than 401 F",0,0,0,0,0,0,0,0,0,0,0,0,0,0,0,0,0,0,0,0,0,0,0,0,0,0,0,0,0]
["ND","FNICB","FN","IC","ND Industrial Feedstocks, Naphtha less than 401 F",0,0,0,0,0,0,0,0,0,0,0,0,0,0,0,0,0,0,0,0,0,0,0,0,0,0,0,0,0]
["NE","FNICB","FN","IC","NE Industrial Feedstocks, Naphtha less than 401 F",0,0,0,0,0,0,0,0,0,0,0,0,0,0,0,0,0,0,0,0,0,0,0,0,0,0,0,0,0]
["NH","FNICB","FN","IC","NH Industrial Feedstocks, Naphtha less than 401 F",0,0,0,0,0,0,0,0,0,0,0,0,0,0,0,0,0,0,0,0,0,0,0,0,0,0,0,0,0]
["NJ","FNICB","FN","IC","NJ Industrial Feedstocks, Naphtha less than 401 F",0,0,0,0,0,0,0,0,0,0,0,0,0,0,0,0,0,0,0,0,0,0,0,0,0,0,0,0,0]
["NM","FNICB","FN","IC","NM Industrial Feedstocks, Naphtha less than 401 F",0,0,0,0,0,0,0,0,0,0,0,0,0,0,0,0,0,0,0,0,0,0,0,0,0,0,0,0,0]
["NV","FNICB","FN","IC","NV Industrial Feedstocks, Naphtha less than 401 F",0,0,0,0,0,0,0,0,0,0,0,0,0,0,0,0,0,0,0,0,0,0,0,0,0,0,0,0,0]
["NY","FNICB","FN","IC","NY Industrial Feedstocks, Naphtha less than 401 F",0,0,0,0,0,0,0,0,0,0,0,0,0,0,0,0,0,0,0,0,0,0,0,0,0,0,0,0,0]
["OH","FNICB","FN","IC","OH Industrial Feedstocks, Naphtha less than 401 F",0,0,0,0,0,0,0,0,0,0,0,0,0,0,0,0,0,0,0,0,0,0,0,0,0,0,0,0,0]
["OK","FNICB","FN","IC","OK Industrial Feedstocks, Naphtha less than 401 F",0,0,0,0,0,0,0,0,0,0,0,0,0,0,0,0,0,0,0,0,0,0,0,0,0,0,0,0,0]
["OR","FNICB","FN","IC","OR Industrial Feedstocks, Naphtha less than 401 F",0,0,0,0,0,0,0,0,0,0,0,0,0,0,0,0,0,0,0,0,0,0,0,0,0,0,0,0,0]
["PA","FNICB","FN","IC","PA Industrial Feedstocks, Naphtha less than 401 F",0,0,0,0,0,0,0,0,0,0,0,0,0,0,0,0,0,0,0,0,0,0,0,0,0,0,0,0,0]
["RI","FNICB","FN","IC","RI Industrial Feedstocks, Naphtha less than 401 F",0,0,0,0,0,0,0,0,0,0,0,0,0,0,0,0,0,0,0,0,0,0,0,0,0,0,0,0,0]
["SC","FNICB","FN","IC","SC Industrial Feedstocks, Naphtha less than 401 F",0,0,0,0,0,0,0,0,0,0,0,0,0,0,0,0,0,0,0,0,0,0,0,0,0,0,0,0,0]
["SD","FNICB","FN","IC","SD Industrial Feedstocks, Naphtha less than 401 F",0,0,0,0,0,0,0,0,0,0,0,0,0,0,0,0,0,0,0,0,0,0,0,0,0,0,0,0,0]
["TN","FNICB","FN","IC","TN Industrial Feedstocks, Naphtha less than 401 F",0,0,0,0,0,0,0,0,0,0,0,0,0,0,0,0,0,0,0,0,0,0,0,0,0,0,0,0,0]
["TX","FNICB","FN","IC","TX Industrial Feedstocks, Naphtha less than 401 F",212275,182458,230174,213979,243121,227634,292540,327370,361080,316131,421383,364765,457240,486600,601453,566287,514562,464440,397474,399903,422359,419558,390803,445831,377587,365177,358322,372103,381410]
["US","FNICB","FN","IC","US Industrial Feedstocks, Naphtha less than 401 F",347801,298947,377127,350593,398339,372965,479310,536377,583992,502076,613533,493716,582554,612956,749430,698666,628852,562454,477174,471869,490573,487319,453921,517836,442606,428058,420024,436177,447088]
["UT","FNICB","FN","IC","UT Industrial Feedstocks, Naphtha less than 401 F",0,0,0,0,0,0,0,0,0,0,0,0,0,0,0,0,0,0,0,0,0,0,0,0,0,0,0,0,0]
["VA","FNICB","FN","IC","VA Industrial Feedstocks, Naphtha less than 401 F",0,0,0,0,0,0,0,0,0,0,0,0,0,0,0,0,0,0,0,0,0,0,0,0,0,0,0,0,0]
["VT","FNICB","FN","IC","VT Industrial Feedstocks, Naphtha less than 401 F",0,0,0,0,0,0,0,0,0,0,0,0,0,0,0,0,0,0,0,0,0,0,0,0,0,0,0,0,0]
["WA","FNICB","FN","IC","WA Industrial Feedstocks, Naphtha less than 401 F",0,0,0,0,0,0,0,0,0,0,0,0,0,0,0,0,0,0,0,0,0,0,0,0,0,0,0,0,0]
["WI","FNICB","FN","IC","WI Industrial Feedstocks, Naphtha less than 401 F",0,0,0,0,0,0,0,0,0,0,0,0,0,0,0,0,0,0,0,0,0,0,0,0,0,0,0,0,0]
["WV","FNICB","FN","IC","WV Industrial Feedstocks, Naphtha less than 401 F",0,0,0,0,0,0,0,0,0,0,0,0,0,0,0,0,0,0,0,0,0,0,0,0,0,0,0,0,0]
["WY","FNICB","FN","IC","WY Industrial Feedstocks, Naphtha less than 401 F",0,0,0,0,0,0,0,0,0,0,0,0,0,0,0,0,0,0,0,0,0,0,0,0,0,0,0,0,0]
["AK","FOICB","FO","IC","AK Industrial Feedstocks, Other Oils greater than 401 F",0,0,0,0,0,0,0,0,0,0,0,0,0,0,0,0,0,0,0,0,0,0,0,0,0,0,0,0,0]
["AL","FOICB","FO","IC","AL Industrial Feedstocks, Other Oils greater than 401 F",0,0,0,0,0,0,0,0,0,0,0,0,0,0,0,0,0,0,0,0,0,0,0,0,0,0,0,0,0]
["AR","FOICB","FO","IC","AR Industrial Feedstocks, Other Oils greater than 401 F",0,0,0,0,0,0,0,0,0,0,0,0,0,0,0,0,0,0,0,0,0,0,0,0,0,0,0,0,0]
["AZ","FOICB","FO","IC","AZ Industrial Feedstocks, Other Oils greater than 401 F",0,0,0,0,0,0,0,0,0,0,0,0,0,0,0,0,0,0,0,0,0,0,0,0,0,0,0,0,0]
["CA","FOICB","FO","IC","CA Industrial Feedstocks, Other Oils greater than 401 F",0,0,0,0,0,0,0,0,0,0,0,0,0,0,0,0,0,0,0,0,0,0,0,0,0,0,0,0,0]
["CO","FOICB","FO","IC","CO Industrial Feedstocks, Other Oils greater than 401 F",0,0,0,0,0,0,0,0,0,0,0,0,0,0,0,0,0,0,0,0,0,0,0,0,0,0,0,0,0]
["CT","FOICB","FO","IC","CT Industrial Feedstocks, Other Oils greater than 401 F",0,0,0,0,0,0,0,0,0,0,0,0,0,0,0,0,0,0,0,0,0,0,0,0,0,0,0,0,0]
["DC","FOICB","FO","IC","DC Industrial Feedstocks, Other Oils greater than 401 F",0,0,0,0,0,0,0,0,0,0,0,0,0,0,0,0,0,0,0,0,0,0,0,0,0,0,0,0,0]
["DE","FOICB","FO","IC","DE Industrial Feedstocks, Other Oils greater than 401 F",0,0,0,0,0,0,0,0,0,0,0,0,0,0,0,0,0,0,0,0,0,0,0,0,0,0,0,0,0]
["FL","FOICB","FO","IC","FL Industrial Feedstocks, Other Oils greater than 401 F",0,0,0,0,0,0,0,0,0,0,0,0,0,0,0,0,0,0,0,0,0,0,0,0,0,0,0,0,0]
["HI","FOICB","FO","IC","HI Industrial Feedstocks, Other Oils greater than 401 F",0,0,0,0,0,0,0,0,0,0,0,0,0,0,0,0,0,0,0,0,0,0,0,0,0,0,0,0,0]
["IA","FOICB",{"$f":"MID(B1003,1,2)","v":"FO"},{"$f":"MID(B1003,3,2)","v":"IC"},"IA Industrial Feedstocks, Other Oils greater than 401 F",0,0,0,0,0,0,0,0,0,0,0,0,0,0,0,0,0,0,0,0,0,0,0,0,0,0,0,0,0]
["IN","FOICB","FO","IC","IN Industrial Feedstocks, Other Oils greater than 401 F",0,0,0,0,0,0,0,0,0,0,0,0,0,0,0,0,0,0,0,0,0,0,0,0,0,0,0,0,0]
["KS","FOICB","FO","IC","KS Industrial Feedstocks, Other Oils greater than 401 F",0,0,0,0,0,0,0,0,0,0,0,0,0,0,0,0,0,0,0,0,0,0,0,0,0,0,0,0,0]
["MA","FOICB","FO","IC","MA Industrial Feedstocks, Other Oils greater than 401 F",0,0,0,0,0,0,0,0,0,0,0,0,0,0,0,0,0,0,0,0,0,0,0,0,0,0,0,0,0]
["MD","FOICB","FO","IC","MD Industrial Feedstocks, Other Oils greater than 401 F",0,0,0,0,0,0,0,0,0,0,0,0,0,0,0,0,0,0,0,0,0,0,0,0,0,0,0,0,0]
["MN","FOICB","FO","IC","MN Industrial Feedstocks, Other Oils greater than 401 F",0,0,0,0,0,0,0,0,0,0,0,0,0,0,0,0,0,0,0,0,0,0,0,0,0,0,0,0,0]
["MO","FOICB","FO","IC","MO Industrial Feedstocks, Other Oils greater than 401 F",0,0,0,0,0,0,0,0,0,0,0,0,0,0,0,0,0,0,0,0,0,0,0,0,0,0,0,0,0]
["NC","FOICB","FO","IC","NC Industrial Feedstocks, Other Oils greater than 401 F",0,0,0,0,0,0,0,0,0,0,0,0,0,0,0,0,0,0,0,0,0,0,0,0,0,0,0,0,0]
["ND","FOICB","FO","IC","ND Industrial Feedstocks, Other Oils greater than 401 F",0,0,0,0,0,0,0,0,0,0,0,0,0,0,0,0,0,0,0,0,0,0,0,0,0,0,0,0,0]
["NJ","FOICB","FO","IC","NJ Industrial Feedstocks, Other Oils greater than 401 F",0,0,0,0,0,0,0,0,0,0,0,0,0,0,0,0,0,0,0,0,0,0,0,0,0,0,0,0,0]
["NM","FOICB","FO","IC","NM Industrial Feedstocks, Other Oils greater than 401 F",0,0,0,0,0,0,0,0,0,0,0,0,0,0,0,0,0,0,0,0,0,0,0,0,0,0,0,0,0]
["OH","FOICB","FO","IC","OH Industrial Feedstocks, Other Oils greater than 401 F",0,0,0,0,0,0,0,0,0,0,0,0,0,0,0,0,0,0,0,0,0,0,0,0,0,0,0,0,0]
["OK","FOICB","FO","IC",{"$f":"A1027&\" \"&VLOOKUP(D1027,SectorCode,2,FALSE)&\" \"&VLOOKUP(C1027,FuelCode,2,FALSE)","v":"OK Industrial Feedstocks, Other Oils greater than 401 F"},0,0,0,0,0,0,0,0,0,0,0,0,0,0,0,0,0,0,0,0,0,0,0,0,0,0,0,0,0]
["RI","FOICB","FO","IC","RI Industrial Feedstocks, Other Oils greater than 401 F",0,0,0,0,0,0,0,0,0,0,0,0,0,0,0,0,0,0,0,0,0,0,0,0,0,0,0,0,0]
["SC","FOICB","FO","IC","SC Industrial Feedstocks, Other Oils greater than 401 F",0,0,0,0,0,0,0,0,0,0,0,0,0,0,0,0,0,0,0,0,0,0,0,0,0,0,0,0,0]
["TX","FOICB","FO","IC","TX Industrial Feedstocks, Other Oils greater than 401 F",530479,582105,573113,593913,590089,563612,513396,605992,579337,547225,439328,356287,294386,286994,278389,237924,249526,91404,0,0,0,0,0,0,0,0,0,0,0]
["US","FOICB","FO","IC","US Industrial Feedstocks, Other Oils greater than 401 F",753924,827296,814516,844077,838643,801013,729645,861244,818669,811143,722154,662454,632065,699379,779490,707982,790639,744091,647763,424776,452521,388528,287242,223919,247225,229039,222457,262929,239081]
["VT","FOICB","FO","IC","VT Industrial Feedstocks, Other Oils greater than 401 F",0,0,0,0,0,0,0,0,0,0,0,0,0,0,0,0,0,0,0,0,0,0,0,0,0,0,0,0,0]
["WA","FOICB","FO","IC","WA Industrial Feedstocks, Other Oils greater than 401 F",0,0,0,0,0,0,0,0,0,0,0,0,0,0,0,0,0,0,0,0,0,0,0,0,0,0,0,0,0]
["WY","FOICB","FO","IC","WY Industrial Feedstocks, Other Oils greater than 401 F",0,0,0,0,0,0,0,0,0,0,0,0,0,0,0,0,0,0,0,0,0,0,0,0,0,0,0,0,0]
["AK","JFACB","JF","AC",{"$f":"A1043&\" \"&VLOOKUP(D1043,SectorCode,2,FALSE)&\" \"&VLOOKUP(C1043,FuelCode,2,FALSE)","v":"AK Transportation Jet Fuel, Total"},97938,96115,82920,83243,91158,95925,105753,119680,124199,134117,146698,137600,143166,155158,175506,181100,180003,164732,135044,106292,128857,118226,113205,107338,96006,102899,104844,100500,99446]
["AZ","JFACB","JF","AC","AZ Transportation Jet Fuel, Total",47306,53729,46426,44237,41933,43015,44912,45232,49197,54588,59156,56211,58649,60388,46810,45463,43776,37490,38348,26569,20903,21530,21615,20964,21498,21835,24912,23687,24059]
["CA","JFACB","JF","AC","CA Transportation Jet Fuel, Total",534666,508108,489548,504728,560139,540351,588383,585074,598083,559477,584018,551216,582624,565418,597665,593148,603307,628200,571739,555575,544252,549718,535670,563067,595279,637636,672597,693019,684780]
["DC","JFACB","JF","AC","DC Transportation Jet Fuel, Total",30,0,0,575,0,0,0,0,0,0,0,0,0,0,0,0,0,0,0,0,0,0,0,0,0,0,0,0,0]
["DE","JFACB","JF","AC","DE Transportation Jet Fuel, Total",7019,12864,7798,7740,3048,429,352,415,491,598,592,734,704,808,944,949,819,640,665,452,542,549,750,724,627,697,663,628,650]
["HI","JFACB","JF","AC","HI Transportation Jet Fuel, Total",71051,62557,56501,50409,53705,56358,57194,57955,56695,53720,53511,50437,57774,72056,75861,92831,86945,72329,60679,52748,55775,62077,64135,64201,73270,76095,74301,73155,85492]
["IA","JFACB","JF","AC","IA Transportation Jet Fuel, Total",5018,5014,4517,4051,5051,5932,4641,4497,6722,5016,4373,4404,4433,4494,5158,5614,5856,5100,4459,2978,2793,3761,6242,6078,5655,5551,5535,5064,5475]
["IN","JFACB","JF","AC","IN Transportation Jet Fuel, Total",101264,97474,90535,92661,97990,98335,71303,62347,54749,63492,79413,66694,61109,53057,48526,39408,44595,42240,35514,42255,43109,51237,48301,46721,46653,46383,50198,55114,62846]
["KS","JFACB","JF","AC","KS Transportation Jet Fuel, Total",20719,18314,23197,20228,11013,13674,11390,12080,12242,19706,18339,12807,12107,18305,17602,9965,9937,8747,9839,13872,17205,16735,15641,10122,9315,9108,8724,7191,9105]
["MA","JFACB","JF","AC","MA Transportation Jet Fuel, Total",55460,52848,44525,43693,42105,37621,38969,41398,43861,45819,46516,39710,31801,36264,46691,51171,47552,46694,62711,35182,36419,39734,37792,35749,33726,36519,60868,58032,56380]
["MD","JFACB","JF","AC","MD Transportation Jet Fuel, Total",20293,18383,17104,16802,18248,19447,22096,23233,22247,22326,23292,16606,9739,13285,17801,24734,23497,19970,21749,18957,16725,15339,11905,11121,6567,7964,8772,9381,11468]
["MN","JFACB","JF","AC","MN Transportation Jet Fuel, Total",28869,28165,37491,53468,55413,56524,60244,61755,60722,71392,75418,65702,62734,67912,70905,71761,66751,63930,58052,52162,51487,53142,50874,33094,30430,28194,27301,20313,20328]
["MO","JFACB","JF","AC","MO Transportation Jet Fuel, Total",37627,42474,42583,51166,60190,64773,68790,69882,72339,72349,27815,42483,54062,45635,22675,37419,37274,35940,31671,20608,17733,20003,19481,18629,19502,18337,16626,16125,18858]
["NC","JFACB","JF","AC","NC Transportation Jet Fuel, Total",30817,24297,25964,27231,24526,28044,51749,40571,38337,38566,41263,34311,27357,29744,30602,41765,30182,40601,29626,10509,9230,10196,22221,57433,48930,20467,14942,15318,18361]
["NH","JFACB","JF","AC","NH Transportation Jet Fuel, Total",3553,2596,2105,2158,1920,1885,2043,2314,3456,4647,5539,4990,4760,5342,5128,2564,919,860,862,1919,3341,3536,2063,1941,2081,1978,2462,3272,2792]
["NM","JFACB","JF","AC",{"$f":"A1075&\" \"&VLOOKUP(D1075,SectorCode,2,FALSE)&\" \"&VLOOKUP(C1075,FuelCode,2,FALSE)","v":"NM Transportation Jet Fuel, Total"},15998,13484,15590,18310,14599,12580,9152,9930,12462,15441,17109,17381,14231,13825,12892,12942,13344,11019,10197,7587,7270,7043,6535,6217,6565,7253,7238,7096,7450]
["NV","JFACB","JF","AC","NV Transportation Jet Fuel, Total",34020,36505,34402,36501,38620,41798,44466,42858,38109,47369,51953,47706,46234,43382,44881,46248,48487,52206,43756,27701,21332,17288,25397,26931,28266,30326,35011,33628,33302]
["OK","JFACB","JF","AC","OK Transportation Jet Fuel, Total",43793,59061,72751,50489,58109,30316,26670,29813,30322,37287,38627,39925,36478,35380,39114,33814,32097,30023,31701,36556,38672,46689,38859,43990,45084,48167,52585,48476,39684]
["OR","JFACB","JF","AC","OR Transportation Jet Fuel, Total",18750,21135,22663,24382,26356,28994,29681,32447,33262,36498,35592,29580,29344,31692,28902,30628,32685,31923,30979,36995,24463,25489,25469,25895,26195,26803,28601,26968,30658]
["SC","JFACB","JF","AC","SC Transportation Jet Fuel, Total",16048,18709,14102,11077,8093,5812,7324,7530,8151,8707,10552,10496,8778,8273,9390,9123,10235,10666,9926,6101,5484,6102,8535,11613,12092,12119,11693,11285,13261]
["SD","JFACB","JF","AC","SD Transportation Jet Fuel, Total",5931,2010,6871,6444,7065,7941,5702,3954,4644,4365,5803,5486,5210,4359,4402,5647,5359,4991,3736,4008,4070,3449,5225,3767,5686,4845,4950,2705,2627]
["US","JFACB","JF","AC","US Transportation Jet Fuel, Total",3129491,3025005,3001330,3028007,3154499,3132195,3274239,3308167,3356783,3461781,3580350,3425975,3340318,3265457,3382535,3474752,3379382,3357610,3192839,2883274,2962870,2949817,2901435,2968557,3042091,3204168,3349876,3481346,3532756]
["UT","JFACB","JF","AC","UT Transportation Jet Fuel, Total",29740,33220,31491,31066,29684,31848,35705,35603,36167,42200,43663,39010,36381,38319,40468,41923,42863,40173,36907,32611,33312,32698,31592,36283,32412,35174,39374,37865,40142]
["WA","JFACB","JF","AC","WA Transportation Jet Fuel, Total",126021,120246,135960,125597,121686,130373,126535,127369,124055,125620,140195,123692,102489,99184,108974,104784,105393,115957,114024,103719,109197,92909,109749,89675,95005,106268,118160,126997,128458]
["WI","JFACB","JF","AC","WI Transportation Jet Fuel, Total",8000,7571,9689,10774,11133,11589,8674,11056,10580,19316,17798,14687,13001,7573,14976,16207,15583,12630,14956,14134,13078,11348,8478,8897,11091,10911,10033,8917,10789]
["AK","JKACB","JK","AC","AK Transportation Jet Fuel, Kerosene",{"$f":"F1043-F1147","v":88866},{"$f":"G1043-G1147","v":80209},73695,82161,90940,95632,105652,119634,126011,138198,146800,138216,156591,156052,175415,181100,180003,164732,135044,106292,128857,118226,113205,107338,96006,102899,104844,100500,99446]
["AL","JKACB","JK","AC","AL Transportation Jet Fuel, Kerosene",{"$f":"F1044-F1148","v":6875},6559,7315,7368,18264,21321,19766,12334,19985,11129,13312,13283,12797,14564,14481,13982,13113,13162,12299,9887,11948,13350,12436,13223,14212,17838,18025,13647,14516]
["CA","JKACB","JK","AC","CA Transportation Jet Fuel, Kerosene",{"$f":"F1047-F1151","v":475899},464661,456033,482909,559814,539923,588261,585026,598083,559477,584018,551216,582624,565418,597665,593148,603307,628200,571739,555575,544252,549718,535670,563067,595279,637636,672597,693019,684780]
["CO","JKACB","JK","AC","CO Transportation Jet Fuel, Kerosene",{"$f":"F1048-F1152","v":33053},36155,39792,48985,43289,40083,43703,40661,38547,44227,42993,43763,40433,32045,70045,69852,73637,76713,74632,61474,63841,58276,60107,53545,52644,52508,52533,59684,61270]
["DE","JKACB","JK","AC","DE Transportation Jet Fuel, Kerosene",{"$f":"F1051-F1155","v":491},516,473,471,349,429,352,415,491,598,592,734,704,808,944,949,819,640,665,452,542,549,750,724,627,697,663,628,650]
["FL","JKACB","JK","AC","FL Transportation Jet Fuel, Kerosene",{"$f":"F1052-F1156","v":151467},119898,119870,137576,158081,158534,166248,172996,161670,164300,199207,173830,153289,145454,165825,158140,156669,176686,218979,178473,199449,202545,188058,180214,186016,198636,155372,162811,147259]
["IA","JKACB","JK","AC",{"$f":"A1107&\" \"&VLOOKUP(D1107,SectorCode,2,FALSE)&\" \"&VLOOKUP(C1107,FuelCode,2,FALSE)","v":"IA Transportation Jet Fuel, Kerosene"},{"$f":"F1055-F1159","v":4486},4233,3925,3484,4493,5922,4639,4497,6722,5016,4373,4404,4433,4494,5158,5614,5856,5100,4459,2978,2793,3761,6242,6078,5655,5551,5535,5064,5475]
["ID","JKACB","JK","AC","ID Transportation Jet Fuel, Kerosene",{"$f":"F1056-F1160","v":2820},2387,2409,2758,3265,3855,4250,4301,4072,4854,4989,4103,4494,3890,4661,4641,5563,5120,4774,3267,3256,3605,4118,4252,4096,4655,5488,5333,6530]
["KS","JKACB","JK","AC","KS Transportation Jet Fuel, Kerosene",{"$f":"F1059-F1163","v":16209},11973,16161,15444,7334,13496,11342,12062,12242,19706,18339,12807,12107,18305,17602,9965,9937,8747,9839,13872,17205,16735,15641,10122,9315,9108,8724,7191,9105]
["KY","JKACB","JK","AC","KY Transportation Jet Fuel, Kerosene",{"$f":"F1060-F1164","v":31110},35005,37623,30980,34812,35358,31585,25798,30343,39477,37711,34027,36021,45619,51268,46969,40283,45239,42101,55814,58591,56333,51032,48539,53116,61398,68015,71976,81582]
["MD","JKACB","JK","AC","MD Transportation Jet Fuel, Kerosene",{"$f":"F1063-F1167","v":14706},13428,12857,13259,17254,19423,22090,23231,22247,22326,23292,16606,9739,13285,17801,24734,23497,19970,21749,18957,16725,15339,11905,11121,6567,7964,8772,9381,11468]
["ME","JKACB","JK","AC","ME Transportation Jet Fuel, Kerosene",{"$f":"F1064-F1168","v":8611},8018,6265,5415,5195,4627,5013,5394,5274,4899,5148,4038,3806,5228,6169,8081,10149,10008,7946,6976,8719,7325,6663,6313,5839,5372,6524,5598,5562]
["MO","JKACB",{"$f":"MID(B1119,1,2)","v":"JK"},{"$f":"MID(B1119,3,2)","v":"AC"},"MO Transportation Jet Fuel, Kerosene",{"$f":"F1067-F1171","v":36551},41044,41412,50156,59439,64618,68751,69868,72339,72349,27815,42483,54062,45635,22675,37419,37274,35940,31671,20608,17733,20003,19481,18629,19502,18337,16626,16125,18858]
["MS","JKACB","JK","AC","MS Transportation Jet Fuel, Kerosene",{"$f":"F1068-F1172","v":34042},40054,58488,43439,36843,42680,40510,44857,43603,54760,51053,47689,40957,52123,34697,33464,40242,24756,23270,27518,32905,35115,38415,56580,64147,59477,97172,113053,90355]
["ND","JKACB","JK","AC","ND Transportation Jet Fuel, Kerosene",{"$f":"F1071-F1175","v":1301},1185,1337,1327,1389,1507,1338,1068,1198,2294,2344,4260,2996,3163,6199,3662,4169,4026,3478,3896,4621,5782,5616,6553,5587,6310,5593,4564,5465]
["NE","JKACB","JK","AC","NE Transportation Jet Fuel, Kerosene",{"$f":"F1072-F1176","v":4514},3875,3752,4010,5151,5641,5702,6093,6132,8870,6981,6312,8656,6834,5206,5297,6013,5489,5036,3950,4678,4682,5112,6071,6116,6479,7516,7920,9744]
["NM","JKACB","JK","AC","NM Transportation Jet Fuel, Kerosene",{"$f":"F1075-F1179","v":7273},7447,7478,11228,14481,12282,9091,9914,12462,15441,17109,17381,14231,13825,12892,12942,13344,11019,10197,7587,7270,7043,6535,6217,6565,7253,7238,7096,7450]
["NV","JKACB","JK","AC","NV Transportation Jet Fuel, Kerosene",{"$f":"F1076-F1180","v":23028},25165,25252,29562,38467,41545,44399,42833,38109,47369,51953,47706,46234,43382,44881,46248,48487,52206,43756,27701,21332,17288,25397,26931,28266,30326,35011,33628,33302]
["OK","JKACB","JK","AC","OK Transportation Jet Fuel, Kerosene",{"$f":"F1079-F1183","v":33358},44317,61459,40174,48781,29163,26380,29713,30322,37287,38627,39925,36478,35380,39114,33814,32097,30023,31701,36556,38672,46689,38859,43990,45084,48167,52585,48476,39684]
["OR","JKACB","JK","AC","OR Transportation Jet Fuel, Kerosene",{"$f":"F1080-F1184","v":17621},19580,21309,23381,26294,28946,29662,32437,33262,36498,35592,29580,29344,31692,28902,30628,32685,31923,30979,36995,24463,25489,25469,25895,26195,26803,28601,26968,30658]
["SC","JKACB","JK","AC","SC Transportation Jet Fuel, Kerosene",{"$f":"F1083-F1187","v":5588},4956,4607,4346,5772,5631,7278,7514,8151,8707,10552,10496,8778,8273,9390,9123,10235,10666,9926,6101,5484,6102,8535,11613,12092,12119,11693,11285,13261]
["SD","JKACB","JK","AC","SD Transportation Jet Fuel, Kerosene",{"$f":"F1084-F1188","v":1031},828,1105,1262,1417,1933,4867,3951,4644,4365,5803,5486,5210,4359,4402,5647,5359,4991,3736,4008,4070,3449,5225,3767,5686,4845,4950,2705,2627]
["US","JKACB","JK","AC",{"$f":"A1139&\" \"&VLOOKUP(D1139,SectorCode,2,FALSE)&\" \"&VLOOKUP(C1139,FuelCode,2,FALSE)","v":"US Transportation Jet Fuel, Kerosene"},{"$f":"F1087-F1191","v":2773849},2681332,2718334,2809303,3062554,3098678,3268086,3307005,3358636,3465862,3580452,3426591,3353743,3266351,3382444,3474752,3379382,3357610,3192839,2883274,2962870,2949817,2901435,2968557,3042091,3204168,3349876,3481346,3532756]
["UT","JKACB","JK","AC","UT Transportation Jet Fuel, Kerosene",{"$f":"F1088-F1192","v":26324},27578,26372,27303,26356,27932,35156,35597,36167,42200,43663,39010,36381,38319,40468,41923,42863,40173,36907,32611,33312,32698,31592,36283,32412,35174,39374,37865,40142]
["WA","JKACB","JK","AC","WA Transportation Jet Fuel, Kerosene",{"$f":"F1091-F1195","v":114716},110775,127585,118363,118708,125957,125890,127343,124055,125620,140195,123692,102489,99184,108974,104784,105393,115957,114024,103719,109197,92909,109749,89675,95005,106268,118160,126997,128458]
["WV","JKACB","JK","AC","WV Transportation Jet Fuel, Kerosene",{"$f":"F1093-F1197","v":1189},875,1016,996,988,906,945,970,992,1045,1070,1085,1412,1485,1431,1351,1312,1336,1286,1125,1155,1149,1117,1190,1225,1174,1185,1149,1229]
["AL","JNACB","JN","AC","AL Transportation Jet Fuel, Naphtha",3676,6082,4380,3607,1344,442,120,45,0,0,0,0,0,0,0,0,0,0,0,0,0,0,0,0,0,0,0,0,0]
["AR","JNACB","JN","AC","AR Transportation Jet Fuel, Naphtha",6007,7203,3844,3347,3312,281,64,20,0,0,0,0,0,0,0,0,0,0,0,0,0,0,0,0,0,0,0,0,0]
["CO","JNACB","JN","AC","CO Transportation Jet Fuel, Naphtha",1498,679,1850,1713,1581,1919,306,31,0,0,0,0,0,0,0,0,0,0,0,0,0,0,0,0,0,0,0,0,0]
["CT","JNACB","JN","AC","CT Transportation Jet Fuel, Naphtha",509,856,593,410,155,43,9,2,0,0,0,0,0,0,0,0,0,0,0,0,0,0,0,0,0,0,0,0,0]
["FL","JNACB","JN","AC","FL Transportation Jet Fuel, Naphtha",28085,20894,17643,12748,4068,453,131,52,-27,0,0,0,0,0,0,0,0,0,0,0,0,0,0,0,0,0,0,0,0]
["GA","JNACB","JN","AC","GA Transportation Jet Fuel, Naphtha",6396,6597,8032,6775,2332,200,55,21,0,0,0,0,0,0,0,0,0,0,0,0,0,0,0,0,0,0,0,0,0]
["ID","JNACB","JN","AC","ID Transportation Jet Fuel, Naphtha",3456,2869,2937,3157,3349,4755,666,7,0,0,0,0,0,0,0,0,0,0,0,0,0,0,0,0,0,0,0,0,0]
["IL","JNACB","JN","AC","IL Transportation Jet Fuel, Naphtha",2513,2675,2389,2321,1734,96,24,8,0,0,0,0,0,0,0,0,0,0,0,0,0,0,0,0,0,0,0,0,0]
["KY","JNACB","JN","AC","KY Transportation Jet Fuel, Naphtha",1211,1039,1320,1293,1088,368,106,42,0,0,0,0,0,0,0,0,0,0,0,0,0,0,0,0,0,0,0,0,0]
["LA","JNACB","JN","AC","LA Transportation Jet Fuel, Naphtha",11051,9930,9123,7525,2625,757,205,77,0,0,0,0,0,0,0,0,0,0,0,0,0,0,0,0,0,0,0,0,0]
["ME","JNACB","JN","AC","ME Transportation Jet Fuel, Naphtha",5404,5142,4278,2853,408,135,38,15,0,0,0,0,0,0,0,0,0,0,0,0,0,0,0,0,0,0,0,0,0]
["MI","JNACB","JN","AC","MI Transportation Jet Fuel, Naphtha",7640,9785,6951,4792,2343,85,21,7,0,0,0,0,0,0,0,0,0,0,0,0,0,0,0,0,0,0,0,0,0]
["MS","JNACB","JN","AC","MS Transportation Jet Fuel, Naphtha",4915,5437,3699,3573,1348,242,65,24,0,0,0,0,0,0,0,0,0,0,0,0,0,0,0,0,0,0,0,0,0]
["MT","JNACB","JN","AC","MT Transportation Jet Fuel, Naphtha",756,181,1531,1356,1258,1405,212,14,0,0,0,0,0,0,0,0,0,0,0,0,0,0,0,0,0,0,0,0,0]
["NE","JNACB","JN","AC","NE Transportation Jet Fuel, Naphtha",3777,2723,2871,2409,1877,30,10,4,0,0,0,0,0,0,0,0,0,0,0,0,0,0,0,0,0,0,0,0,0]
["NH","JNACB","JN","AC","NH Transportation Jet Fuel, Naphtha",1969,970,650,683,322,32,12,6,0,0,0,0,0,0,0,0,0,0,0,0,0,0,0,0,0,0,0,0,0]
["NV","JNACB","JN","AC","NV Transportation Jet Fuel, Naphtha",10992,11340,9150,6939,153,253,67,25,0,0,0,0,0,0,0,0,0,0,0,0,0,0,0,0,0,0,0,0,0]
["NY","JNACB","JN","AC","NY Transportation Jet Fuel, Naphtha",7676,8455,8197,6589,2802,219,47,12,0,0,0,0,0,0,0,0,0,0,0,0,0,0,0,0,0,0,0,0,0]
["OR","JNACB","JN","AC","OR Transportation Jet Fuel, Naphtha",1129,1555,1354,1001,62,48,19,10,0,0,0,0,0,0,0,0,0,0,0,0,0,0,0,0,0,0,0,0,0]
["PA","JNACB","JN","AC","PA Transportation Jet Fuel, Naphtha",1956,1678,1730,2498,1484,79,21,8,0,0,0,0,0,0,0,0,0,0,0,0,0,0,0,0,0,0,0,0,0]
["SD","JNACB","JN","AC","SD Transportation Jet Fuel, Naphtha",4900,1182,5766,5182,5648,6008,835,3,0,0,0,0,0,0,0,0,0,0,0,0,0,0,0,0,0,0,0,0,0]
["TN","JNACB","JN","AC","TN Transportation Jet Fuel, Naphtha",1568,1447,1367,1392,857,396,116,47,-6,0,0,0,0,0,0,0,0,0,0,0,0,0,0,0,0,0,0,0,0]
["UT","JNACB","JN","AC","UT Transportation Jet Fuel, Naphtha",3416,5642,5119,3763,3328,3916,549,6,0,0,0,0,0,0,0,0,0,0,0,0,0,0,0,0,0,0,0,0,0]
["VA","JNACB","JN","AC","VA Transportation Jet Fuel, Naphtha",18565,5618,4514,4576,1683,137,35,12,0,0,0,0,0,0,0,0,0,0,0,0,0,0,0,0,0,0,0,0,0]
["WI","JNACB","JN","AC","WI Transportation Jet Fuel, Naphtha",1264,1651,1167,1178,1075,45,13,5,0,0,0,0,0,0,0,0,0,0,0,0,0,0,0,0,0,0,0,0,0]
["WV","JNACB","JN","AC","WV Transportation Jet Fuel, Naphtha",338,442,493,435,272,78,19,7,0,0,0,0,0,0,0,0,0,0,0,0,0,0,0,0,0,0,0,0,0]
["AL","KSCCB","KS","CC","AL Commercial Kerosene",62,85,99,76,61,54,53,50,119,32,52,145,93,138,145,102,57,27,13,8,12,13,5,14,17,13,14,5,12]
["AR","KSCCB","KS","CC","AR Commercial Kerosene",8,11,29,29,24,26,30,30,39,22,25,53,23,18,94,115,67,50,49,1,6,1,0,1,2,5,5,5,14]
["CO","KSCCB","KS","CC","CO Commercial Kerosene",55,60,38,40,26,26,33,28,49,53,43,58,54,59,67,173,93,26,15,22,26,19,7,10,9,6,7,2,4]
["CT","KSCCB","KS","CC","CT Commercial Kerosene",291,948,256,252,291,154,407,588,996,462,672,1307,749,707,976,1509,1026,192,176,96,46,51,8,5,38,10,21,36,17]
["FL","KSCCB","KS","CC","FL Commercial Kerosene",708,164,168,304,434,540,600,305,370,347,160,141,88,108,116,294,96,71,28,41,88,68,18,11,36,21,15,15,7]
["GA","KSCCB","KS","CC","GA Commercial Kerosene",362,300,207,368,844,199,177,158,155,210,232,347,267,270,121,140,41,74,45,32,138,121,28,54,54,36,124,20,33]
["ID","KSCCB","KS","CC","ID Commercial Kerosene",6,1,1,1,11,17,21,6,19,8,10,26,8,4,24,24,13,3,2,3,3,2,1,1,1,0,1,1,5]
["IL","KSCCB","KS","CC","IL Commercial Kerosene",145,225,195,182,284,456,381,612,221,477,386,367,211,207,254,299,189,202,39,59,57,28,10,16,35,22,32,16,22]
["KY","KSCCB","KS","CC","KY Commercial Kerosene",533,578,328,443,412,665,628,641,740,378,395,329,181,222,181,154,114,59,41,35,40,32,9,11,33,32,51,29,40]
["MD","KSCCB","KS","CC","MD Commercial Kerosene",270,296,238,484,1206,1189,854,1287,1777,1442,2056,1966,971,1108,715,714,353,232,55,178,162,132,28,26,102,50,81,47,36]
["MI","KSCCB","KS","CC","MI Commercial Kerosene",102,97,29,144,185,578,848,315,372,211,186,197,161,107,123,161,149,44,41,45,76,53,19,41,53,50,62,57,30]
["MN","KSCCB","KS","CC","MN Commercial Kerosene",26,20,38,49,79,132,152,145,177,113,305,200,124,81,59,81,66,59,37,18,34,19,5,14,9,6,21,7,9]
["MT","KSCCB","KS","CC","MT Commercial Kerosene",1,1,1,5,5,1,3,1,1,0,0,0,4,14,16,42,0,1,8,0,2,2,0,0,0,0,0,0,0]
["NC","KSCCB","KS","CC","NC Commercial Kerosene",443,529,261,286,1929,834,1012,1163,1477,1047,1326,1091,537,1527,954,919,566,404,211,169,371,151,50,57,126,58,85,38,38]
["NH","KSCCB","KS","CC","NH Commercial Kerosene",141,121,125,196,230,248,236,329,324,237,269,302,197,244,260,351,260,222,66,78,73,60,19,27,47,29,58,44,44]
["NJ","KSCCB","KS","CC","NJ Commercial Kerosene",1008,1087,2207,906,3490,3208,1379,4252,6149,7055,6743,7075,2563,1399,1564,1990,794,610,325,211,59,80,14,12,16,7,35,17,35]
["NY","KSCCB","KS","CC","NY Commercial Kerosene",1525,1208,2315,3493,3052,4051,4260,4544,5565,3866,5374,4955,2797,3770,4223,4305,2009,1386,726,960,874,953,338,159,304,158,326,175,234]
["OH","KSCCB","KS","CC","OH Commercial Kerosene",1072,1022,383,1139,819,503,878,718,1236,731,750,831,525,1152,1461,1268,911,474,234,160,152,72,38,27,52,35,71,37,45]
["PA","KSCCB","KS","CC","PA Commercial Kerosene",851,740,578,982,1896,2992,3150,1833,1608,1953,2307,2843,2199,2236,2320,2610,2379,1055,327,508,755,198,67,58,212,144,222,143,179]
["RI","KSCCB","KS","CC","RI Commercial Kerosene",9,6,18,14,27,173,11,313,382,226,108,556,312,29,39,53,56,3,8,2,3,4,1,1,3,2,3,2,4]
["TN","KSCCB","KS","CC","TN Commercial Kerosene",392,179,389,343,412,454,502,561,697,296,597,510,267,306,243,228,157,137,51,56,50,42,17,22,34,14,28,20,21]
["TX","KSCCB","KS","CC","TX Commercial Kerosene",140,71,387,139,167,262,213,215,297,320,273,474,326,197,195,247,417,244,215,195,130,107,51,28,76,42,66,28,28]
["VA","KSCCB","KS","CC","VA Commercial Kerosene",790,839,719,902,571,1561,1573,2108,2456,1799,1567,1291,498,1106,1373,1150,955,917,143,157,216,145,61,71,118,74,144,54,68]
["VT","KSCCB","KS","CC","VT Commercial Kerosene",71,88,80,192,108,81,76,117,179,200,132,198,91,121,191,175,147,152,33,79,44,49,14,15,34,29,32,21,19]
["WV","KSCCB","KS","CC","WV Commercial Kerosene",260,365,179,207,216,208,208,289,323,364,412,359,365,523,459,359,233,142,72,53,43,18,4,17,17,23,13,10,16]
["WY","KSCCB","KS","CC","WY Commercial Kerosene",5,17,1,1,0,9,7,7,9,2,2,3,4,2,2,3,3,3,2,4,5,1,2,1,0,3,2,1,1]
["AR","KSICB","KS","IC","AR Industrial Kerosene",94,114,52,76,97,115,52,56,98,76,23,105,29,11,6,15,4,6,8,6,7,5,0,1,1,5,21,12,17]
["AZ","KSICB","KS","IC","AZ Industrial Kerosene",97,191,3,7,2,3,9,12,38,12,8,8,3,5,16,19,28,7,2,3,1,1,0,1,1,0,1,0,0]
["CT","KSICB","KS","IC","CT Industrial Kerosene",383,211,46,134,263,538,145,219,300,552,1087,395,64,1265,1398,1527,2129,831,451,830,715,730,203,151,429,221,223,176,127]
["DC","KSICB","KS","IC","DC Industrial Kerosene",0,0,0,0,0,0,0,2,0,0,0,0,0,0,0,0,0,0,0,0,0,0,0,0,0,0,1,0,0]
["GA","KSICB","KS","IC","GA Industrial Kerosene",132,160,55,125,80,196,208,136,261,207,232,133,113,251,599,714,758,506,28,32,111,31,12,9,29,19,32,14,24]
["HI","KSICB","KS","IC","HI Industrial Kerosene",1,1,1,2,3,2,3,2,1,1,0,1,0,1,0,1,1,0,0,0,0,0,0,0,0,0,0,0,0]
["IL","KSICB","KS","IC","IL Industrial Kerosene",266,265,265,361,444,732,1335,849,1075,321,403,408,277,316,397,413,282,469,98,98,121,41,40,168,282,34,32,12,15]
["IN","KSICB","KS","IC","IN Industrial Kerosene",309,269,304,255,494,257,477,398,460,458,282,277,975,208,331,316,183,155,71,141,123,113,30,14,63,56,42,33,22]
["LA","KSICB","KS","IC","LA Industrial Kerosene",265,295,151,165,177,125,169,155,319,86,371,6222,4066,8540,11435,13521,14313,4728,44,235,352,209,177,117,155,30,15,27,41]
["MA","KSICB","KS","IC","MA Industrial Kerosene",101,104,520,87,99,200,82,118,129,127,60,183,52,51,63,424,28,11,3,59,18,3,1,2,7,9,3,4,15]
["MI","KSICB","KS","IC","MI Industrial Kerosene",195,361,232,408,341,180,236,251,281,287,251,256,109,121,183,238,198,88,37,58,113,21,8,5,8,5,6,5,6]
["MN","KSICB","KS","IC","MN Industrial Kerosene",41,58,46,90,425,174,199,142,149,417,380,82,43,71,79,92,55,50,31,23,31,16,12,14,26,12,20,22,17]
["MT","KSICB","KS","IC","MT Industrial Kerosene",39,11,1,0,2,1,1,1,1,2,3,67,52,9,12,6,1,1,3,0,0,1,0,0,0,0,0,0,0]
["NC","KSICB","KS","IC","NC Industrial Kerosene",790,963,828,898,475,652,936,904,824,262,394,204,422,66,225,330,227,49,28,41,87,80,22,13,27,27,28,13,8]
["NH","KSICB","KS","IC","NH Industrial Kerosene",43,178,116,54,80,107,95,147,112,105,80,109,86,128,108,194,113,43,41,2,5,13,1,10,32,1,13,8,1]
["NJ","KSICB","KS","IC","NJ Industrial Kerosene",1452,538,898,773,3385,2348,1783,3734,2534,1198,2438,2655,1624,2492,3869,7522,2922,1471,502,432,527,263,83,13,16,16,18,8,77]
["NY","KSICB","KS","IC","NY Industrial Kerosene",1411,1899,1141,1365,2012,2320,3869,2046,2896,437,854,1023,1350,5049,2111,3797,2392,1219,230,429,3108,928,818,476,868,719,1001,329,702]
["OH","KSICB","KS","IC","OH Industrial Kerosene",496,648,773,1774,1185,1062,1253,1382,1490,583,540,1156,860,869,1086,1003,966,984,350,413,446,54,17,19,62,30,27,38,75]
["PA","KSICB","KS","IC","PA Industrial Kerosene",718,811,803,1289,1438,957,848,853,1053,1142,1223,1587,554,430,450,663,407,464,146,163,281,187,58,63,133,68,82,58,79]
["SC","KSICB","KS","IC","SC Industrial Kerosene",548,618,393,535,430,438,500,385,624,476,644,704,454,422,584,591,546,41,21,20,13,7,3,1,5,2,2,0,1]
["TX","KSICB","KS","IC","TX Industrial Kerosene",842,264,467,550,559,726,913,1598,1970,761,1389,2616,413,1111,1575,1356,1231,750,775,405,219,379,157,145,151,203,245,131,142]
["US","KSICB","KS","IC","US Industrial Kerosene",12275,11382,9790,13053,16912,15444,18301,18812,22071,12840,15640,23222,13806,24115,28219,39076,29576,13422,3830,4399,7318,3615,2008,1477,2830,1728,2265,1115,1624]
["VT","KSICB","KS","IC","VT Industrial Kerosene",97,63,35,46,66,55,127,131,856,330,539,261,87,403,334,292,70,81,42,48,71,42,91,35,84,16,32,20,17]
["WA","KSICB","KS","IC","WA Industrial Kerosene",65,39,33,36,46,120,134,118,187,145,144,140,59,70,157,150,40,16,26,41,37,18,9,7,3,2,1,2,1]
["WY","KSICB","KS","IC","WY Industrial Kerosene",13,20,32,107,126,124,144,127,39,27,24,11,24,1,3,5,7,6,0,0,1,0,0,0,0,0,0,0,0]
["AK","KSRCB","KS","RC","AK Residential Kerosene",15,44,4,3,58,2,2,1,5,95,76,90,0,85,112,176,1561,914,792,77,83,142,41,27,33,38,60,0,0]
["AZ","KSRCB","KS","RC","AZ Residential Kerosene",1,4,11,6,10,11,16,13,15,11,8,5,3,13,6,23,9,2,1,2,0,0,0,0,0,0,0,0,0]
["CA","KSRCB","KS","RC","CA Residential Kerosene",501,452,185,382,382,459,586,764,1344,1059,1591,1985,1227,1109,1567,1721,1625,864,458,973,816,625,269,257,334,248,473,287,287]
["DC","KSRCB","KS","RC","DC Residential Kerosene",19,23,20,28,25,36,35,33,31,30,17,1,0,0,0,0,0,0,0,0,0,0,0,0,0,0,0,0,0]
["DE","KSRCB",{"$f":"MID(B1311,1,2)","v":"KS"},{"$f":"MID(B1311,3,2)","v":"RC"},"DE Residential Kerosene",819,938,815,599,544,680,1022,687,929,707,744,641,371,496,721,758,614,275,141,300,226,141,60,63,104,76,78,39,46]
["HI","KSRCB","KS","RC","HI Residential Kerosene",0,0,0,0,0,0,0,0,0,0,0,0,0,0,0,0,0,0,0,0,0,0,0,0,0,0,0,0,0]
["IA","KSRCB","KS","RC","IA Residential Kerosene",137,191,114,187,107,139,168,160,143,134,148,208,126,112,156,125,86,56,35,82,84,62,10,11,22,15,32,27,14]
["IN","KSRCB","KS","RC","IN Residential Kerosene",1578,1791,1052,1437,1560,1217,1633,1716,1702,7532,2038,2028,1609,1169,1454,1488,985,732,400,733,596,363,104,131,234,162,239,112,103]
["KS","KSRCB","KS","RC","KS Residential Kerosene",63,56,75,111,43,72,109,66,101,1962,112,81,54,62,59,54,26,13,8,15,14,6,2,2,5,2,53,1,3]
["MA","KSRCB","KS","RC","MA Residential Kerosene",923,855,1471,1417,1238,737,840,1075,1115,1013,1081,1116,721,1382,1584,1696,1350,916,356,563,569,349,165,170,297,251,296,206,200]
["MD","KSRCB","KS","RC","MD Residential Kerosene",2181,2246,1793,2886,2227,3031,3365,3387,4081,2968,2865,2668,1728,2292,3119,3499,2477,1276,519,660,829,436,165,179,339,253,265,149,131]
["MN","KSRCB","KS","RC","MN Residential Kerosene",173,230,217,201,256,283,345,293,412,181,186,1065,92,103,157,156,103,63,45,102,113,73,31,51,70,48,73,51,53]
["MO","KSRCB","KS","RC","MO Residential Kerosene",163,210,117,212,136,183,320,254,280,310,390,443,289,408,496,449,377,307,128,142,179,74,22,26,43,34,62,25,28]
["NC","KSRCB","KS","RC","NC Residential Kerosene",7983,9489,10401,10704,7416,11894,14436,14762,16944,11255,11220,11462,6932,10129,10725,9952,6773,4815,2468,2176,3132,1531,599,597,964,850,1239,675,708]
["ND","KSRCB","KS","RC","ND Residential Kerosene",28,42,35,44,32,21,30,30,34,96,16,24,12,16,27,38,17,13,7,15,17,9,3,5,7,4,16,6,5]
["NJ","KSRCB","KS","RC","NJ Residential Kerosene",1673,1864,1547,1264,1651,1340,1608,1658,1747,1529,1693,2322,808,784,880,1043,658,409,309,202,204,145,60,64,95,56,55,29,28]
["NM","KSRCB","KS","RC",{"$f":"A1335&\" \"&VLOOKUP(D1335,SectorCode,2,FALSE)&\" \"&VLOOKUP(C1335,FuelCode,2,FALSE)","v":"NM Residential Kerosene"},24,35,26,23,19,32,37,30,33,128,32,27,15,21,30,26,23,15,6,5,3,2,0,0,1,0,0,0,0]
["OH","KSRCB","KS","RC","OH Residential Kerosene",3541,3836,4128,4754,4021,4243,4641,4388,4391,7341,2377,2505,1864,2093,2747,2504,2065,1378,686,1177,975,671,256,249,536,334,421,248,269]
["OK","KSRCB","KS","RC","OK Residential Kerosene",57,56,61,40,29,21,114,79,71,51,334,37,87,80,95,32,49,46,16,25,27,18,5,6,9,3,3,8,2]
["RI","KSRCB","KS","RC","RI Residential Kerosene",215,201,207,224,217,152,171,194,234,279,366,390,192,263,282,333,224,91,60,135,101,74,35,37,48,29,29,16,19]
["SC","KSRCB","KS","RC","SC Residential Kerosene",3117,4142,2501,3659,2107,2666,3182,3461,3854,3133,2912,2821,1650,2135,3084,2699,2050,1087,451,449,698,309,114,131,224,162,196,91,153]
["TX","KSRCB","KS","RC","TX Residential Kerosene",149,195,129,172,113,125,218,254,173,178,170,327,98,104,65,87,40,54,46,17,28,16,4,7,9,7,7,4,3]
["US","KSRCB","KS","RC","US Residential Kerosene",63911,72342,65004,75614,64924,74295,88781,92883,108317,111164,94572,95081,59929,70308,84759,83803,66350,43918,21263,27693,29104,18526,7738,8260,13750,10118,13649,8414,8243]
["VT","KSRCB","KS","RC","VT Residential Kerosene",1095,1404,1190,1333,1036,1021,1153,1352,1849,1485,1848,1817,1056,1566,2265,2161,2013,1404,616,953,850,590,288,286,449,368,488,342,330]
["WA","KSRCB","KS","RC","WA Residential Kerosene",280,261,167,248,372,487,626,754,698,490,366,573,196,570,393,307,178,72,63,103,120,72,28,22,36,22,39,25,20]
["WY","KSRCB","KS","RC","WY Residential Kerosene",7,17,7,9,4,4,4,9,9,7,8,11,6,6,4,5,7,4,1,1,1,1,1,0,0,1,1,0,0]
["AK","HLACB","HL","AC","AK Transportation Hydrocarbon Gas Liquids",22,17,15,8,15,9,13,7,3,0,0,7,87,14,10,14,16,11,4,5,8,8,12,14,4,4,4,12,12]
["AZ","HLACB","HL","AC","AZ Transportation Hydrocarbon Gas Liquids",211,217,217,223,324,194,136,101,26,70,88,44,71,554,469,779,894,696,1033,778,220,217,226,221,282,324,350,284,252]
["CA","HLACB","HL","AC","CA Transportation Hydrocarbon Gas Liquids",3545,2918,2496,2528,3864,2166,1847,1342,2573,1475,1311,1498,1924,1960,1837,3236,3334,2919,5072,3892,724,708,890,886,764,720,793,608,674]
["DE","HLACB","HL","AC","DE Transportation Hydrocarbon Gas Liquids",22,24,23,20,26,18,16,25,12,6,7,1,12,7,11,15,17,6,50,11,14,14,18,12,18,20,83,106,145]
["FL","HLACB","HL","AC","FL Transportation Hydrocarbon Gas Liquids",817,687,640,629,1072,570,459,397,354,509,530,1206,657,716,1032,1312,1244,756,1267,891,388,376,296,308,286,290,313,518,549]
["IA","HLACB","HL","AC","IA Transportation Hydrocarbon Gas Liquids",162,188,176,208,580,224,376,351,79,14,34,315,40,199,170,237,234,294,517,528,58,49,41,42,33,31,34,106,478]
["ID","HLACB","HL","AC","ID Transportation Hydrocarbon Gas Liquids",184,153,138,132,193,104,81,37,6,38,78,14,7,51,166,127,156,102,177,68,42,41,22,20,16,15,15,5,3]
["KS","HLACB","HL","AC","KS Transportation Hydrocarbon Gas Liquids",545,417,380,384,579,217,89,374,102,87,115,217,192,196,165,295,155,158,270,263,94,58,51,54,47,40,41,25,338]
["KY","HLACB","HL","AC","KY Transportation Hydrocarbon Gas Liquids",249,201,218,217,357,179,190,224,73,98,216,250,534,234,312,354,444,355,534,341,103,116,98,77,73,69,79,38,30]
["MD","HLACB",{"$f":"MID(B1375,1,2)","v":"HL"},{"$f":"MID(B1375,3,2)","v":"AC"},"MD Transportation Hydrocarbon Gas Liquids",198,162,389,440,371,185,187,392,49,48,291,27,45,123,131,177,168,156,291,216,68,69,69,66,65,62,68,88,142]
["ME","HLACB","HL","AC","ME Transportation Hydrocarbon Gas Liquids",66,65,59,50,86,41,28,49,22,18,2,2,2,47,30,35,32,27,46,33,73,73,86,82,79,41,49,18,7]
["MO","HLACB","HL","AC","MO Transportation Hydrocarbon Gas Liquids",450,500,337,350,777,429,375,221,76,226,252,1010,301,481,426,436,620,610,999,1040,276,278,242,231,207,185,182,27,159]
["MS","HLACB","HL","AC","MS Transportation Hydrocarbon Gas Liquids",505,420,353,405,607,277,244,224,26,1311,437,93,276,178,166,174,125,114,300,214,296,198,252,230,140,146,109,5,127]
["ND","HLACB","HL","AC","ND Transportation Hydrocarbon Gas Liquids",53,58,62,67,76,51,81,48,17,36,20,31,38,94,126,87,74,74,128,208,15,14,8,12,12,9,10,5,11]
["NE","HLACB","HL","AC","NE Transportation Hydrocarbon Gas Liquids",235,248,182,184,277,87,82,274,87,53,98,118,158,171,205,88,131,148,110,83,32,33,28,34,33,21,23,12,77]
["NM","HLACB","HL","AC","NM Transportation Hydrocarbon Gas Liquids",452,308,383,374,550,360,328,286,3,66,68,141,72,211,310,283,273,151,430,173,89,89,77,73,63,54,60,21,79]
["NV","HLACB","HL","AC","NV Transportation Hydrocarbon Gas Liquids",86,80,93,101,165,74,85,72,28,0,5,553,8,238,167,341,250,250,453,280,50,49,42,46,126,80,114,121,76]
["OK","HLACB","HL","AC","OK Transportation Hydrocarbon Gas Liquids",372,418,307,362,554,228,158,224,275,185,168,253,188,283,196,240,246,187,302,269,124,133,157,159,154,142,163,581,387]
["OR","HLACB","HL","AC","OR Transportation Hydrocarbon Gas Liquids",702,607,561,552,844,424,381,253,3,90,241,81,89,353,313,659,552,400,825,616,46,43,37,35,35,33,35,188,74]
["SC","HLACB","HL","AC","SC Transportation Hydrocarbon Gas Liquids",333,366,332,318,546,297,170,240,191,101,213,143,120,248,284,424,461,339,635,422,145,155,145,125,77,73,93,137,143]
["SD","HLACB","HL","AC","SD Transportation Hydrocarbon Gas Liquids",87,52,71,99,151,56,54,36,45,20,55,48,95,62,38,52,47,62,156,93,20,37,38,37,34,34,29,9,45]
["US","HLACB","HL","AC",{"$f":"A1399&\" \"&VLOOKUP(D1399,SectorCode,2,FALSE)&\" \"&VLOOKUP(C1399,FuelCode,2,FALSE)","v":"US Transportation Hydrocarbon Gas Liquids"},22915,21159,19437,20270,34046,17753,15656,14241,17667,14290,11899,13738,14300,17894,19129,28235,27502,21973,40197,28070,7452,7252,7121,6922,7154,6576,7105,7147,7696]
["UT","HLACB","HL","AC","UT Transportation Hydrocarbon Gas Liquids",195,169,151,164,218,124,97,60,6,132,164,216,180,100,186,179,245,151,243,140,92,89,92,104,89,61,101,19,11]
["WA","HLACB","HL","AC","WA Transportation Hydrocarbon Gas Liquids",1118,943,795,823,1197,689,568,373,384,51,68,95,105,418,398,917,937,643,1598,880,124,125,113,98,93,85,126,137,118]
["WI","HLACB","HL","AC","WI Transportation Hydrocarbon Gas Liquids",454,536,462,580,1130,471,409,380,677,200,172,377,310,522,455,662,674,614,911,640,159,171,148,141,125,123,138,344,337]
["AK","HLCCB","HL","CC","AK Commercial Hydrocarbon Gas Liquids",588,634,626,377,297,307,382,241,192,418,369,420,414,486,317,375,421,322,502,704,578,627,707,765,751,640,659,681,745]
["AL","HLCCB","HL","CC","AL Commercial Hydrocarbon Gas Liquids",3365,2893,2770,3581,3503,3566,3658,3766,3244,5844,6164,4969,4221,3534,3509,2013,2573,2418,3121,2200,2516,2646,2052,2234,2181,1683,1717,2037,2151]
["CA","HLCCB","HL","CC","CA Commercial Hydrocarbon Gas Liquids",6678,8074,5577,5847,5752,5672,4738,4280,7075,6633,6188,4247,4943,8369,11815,9279,6885,7735,9988,7976,8628,8428,8557,8134,9721,8002,10970,10999,12528]
["CO","HLCCB","HL","CC","CO Commercial Hydrocarbon Gas Liquids",1165,1305,1162,1214,1207,1503,1442,226,118,1381,1938,1812,1843,2959,2902,2522,1439,1727,2254,1718,1899,2843,1979,2015,2396,2219,2486,3204,2665]
["DE","HLCCB","HL","CC","DE Commercial Hydrocarbon Gas Liquids",720,792,776,845,880,1079,1147,1234,1308,1170,923,1175,1252,1033,1546,1139,1044,778,1037,1286,1109,1034,1065,1071,1208,1340,1087,743,1019]
["FL","HLCCB","HL","CC","FL Commercial Hydrocarbon Gas Liquids",12851,13295,13365,13016,11938,10158,10380,10283,11475,11419,11300,9434,10212,10429,14196,10209,9673,9962,9089,7978,8020,6913,8352,7771,8069,7643,8908,7596,8021]
["IA","HLCCB","HL","CC","IA Commercial Hydrocarbon Gas Liquids",1239,1518,1537,1787,1774,1791,2404,2230,1888,2364,2398,1542,1996,1897,1826,1576,2000,2039,2687,3988,2472,3002,2312,2437,2495,1922,1957,2145,3579]
["ID","HLCCB","HL","CC","ID Commercial Hydrocarbon Gas Liquids",390,456,364,401,376,458,550,529,217,898,1788,1463,923,807,1137,1333,1245,1306,1444,909,969,995,1441,1082,1254,1238,1534,1280,1534]
["KS","HLCCB","HL","CC","KS Commercial Hydrocarbon Gas Liquids",588,649,536,543,524,730,980,1184,1261,1661,1291,930,1118,1065,1118,1131,530,1026,1773,1542,1860,1209,833,1123,1704,1510,1182,1188,865]
["KY","HLCCB","HL","CC","KY Commercial Hydrocarbon Gas Liquids",1138,1342,1264,1464,1416,1409,1891,1882,1427,1744,1730,1148,1245,1468,1570,1189,1182,932,1911,1404,1246,1947,1602,1825,1455,1339,1350,1500,1923]
["MD","HLCCB","HL","CC","MD Commercial Hydrocarbon Gas Liquids",1539,1718,1931,1986,2025,2330,2620,2813,2566,2350,1904,2290,2385,3345,2910,2785,2924,2259,3231,3041,3345,3182,2584,2718,2795,2542,2566,3078,2631]
["ME","HLCCB","HL","CC","ME Commercial Hydrocarbon Gas Liquids",1958,2130,1739,2159,2234,2542,2983,2204,2437,2151,2373,2914,1790,3090,2108,4070,3434,5232,5252,6159,4610,5503,5566,7099,6759,6952,6531,7080,6949]
["MO","HLCCB","HL","CC","MO Commercial Hydrocarbon Gas Liquids",3828,5010,5061,5352,5268,5331,7156,6525,4660,6251,5464,8210,6196,5950,5887,3238,4181,3982,6584,4459,3633,3313,3326,4007,4579,3628,3160,3917,5093]
["MS","HLCCB","HL","CC","MS Commercial Hydrocarbon Gas Liquids",2350,2028,1899,2396,2352,2119,2610,2439,2314,2536,4354,4509,3204,2857,2445,1802,2210,1974,2136,2205,2145,2103,1845,2178,2205,1931,1875,1835,1412]
["ND","HLCCB","HL","CC","ND Commercial Hydrocarbon Gas Liquids",484,723,801,565,514,574,700,1126,806,1067,1301,1487,1334,812,735,1316,1265,1403,1874,1607,1061,1548,1777,3204,2016,2294,2384,2408,1352]
["NH","HLCCB","HL","CC","NH Commercial Hydrocarbon Gas Liquids",1945,1649,1725,1986,2057,2231,2462,2157,2420,2524,2414,2375,2380,3740,2883,2574,2649,3174,4403,3251,3314,4218,5882,5897,6954,6382,5788,4401,5663]
["NV","HLCCB","HL","CC","NV Commercial Hydrocarbon Gas Liquids",1126,1011,872,858,885,701,757,804,847,1232,750,715,1041,424,341,1156,927,955,1071,897,749,638,1151,1157,1027,1364,881,1169,1227]
["NY","HLCCB","HL","CC","NY Commercial Hydrocarbon Gas Liquids",4074,5044,4958,4287,4344,4510,4930,4373,4317,4685,6203,4692,5434,5407,7272,4254,4396,4901,6302,6624,6598,6903,5983,6505,6823,7267,7915,7770,8136]
["OR","HLCCB","HL","CC","OR Commercial Hydrocarbon Gas Liquids",566,728,644,720,760,728,690,586,721,811,931,1035,1224,1529,577,997,962,938,1440,1381,1323,1384,1372,1173,1183,1322,1733,3436,3497]
["PA","HLCCB","HL","CC","PA Commercial Hydrocarbon Gas Liquids",3147,3654,3863,3529,3591,3839,4177,4114,4332,4639,5578,4324,4989,6212,6699,5480,6085,6668,6457,6851,6853,8022,6447,7605,8230,7829,8135,7225,8409]
["SD","HLCCB","HL","CC","SD Commercial Hydrocarbon Gas Liquids",1259,772,732,986,930,1007,1351,1308,1055,1015,1211,1001,1162,1488,731,712,782,1110,1312,1631,1377,929,829,829,1222,706,868,1096,922]
["TN","HLCCB","HL","CC","TN Commercial Hydrocarbon Gas Liquids",1536,1732,1874,1969,1889,1904,2556,2310,2176,2726,3084,2417,2872,2875,2535,1875,2583,1726,2090,1437,1690,2594,1542,1744,1642,1503,2016,1948,2352]
["UT","HLCCB","HL","CC","UT Commercial Hydrocarbon Gas Liquids",769,752,605,367,294,380,454,886,269,566,1068,1818,1124,1033,951,2143,1128,1468,1749,1239,1263,2121,1130,1897,1980,1884,1285,987,1592]
["VA","HLCCB","HL","CC","VA Commercial Hydrocarbon Gas Liquids",2841,3103,3250,3199,3263,3844,4264,4599,3510,3915,4681,4252,4092,5385,5043,4843,4199,4506,5549,5218,5810,6021,5430,7052,7610,6980,7290,7568,7481]
["WI","HLCCB","HL","CC","WI Commercial Hydrocarbon Gas Liquids",2081,2605,2460,2771,2723,2764,3710,3278,2946,3477,3275,3099,3702,4446,3924,2545,2333,2516,3645,2835,3423,3120,2593,3237,3506,3362,3271,3920,5513]
["WV","HLCCB","HL","CC","WV Commercial Hydrocarbon Gas Liquids",350,331,382,406,409,349,403,569,430,599,632,831,530,903,862,459,701,614,803,780,828,790,794,1167,691,601,663,726,803]
["AL","LGICB","LG","IC","AL Industrial LPG",3212,3532,4567,5494,5901,5963,4724,2353,665,5389,5478,8795,4574,3669,3544,2821,3394,5141,2535,1842,1805,1613,1814,1542,1190,1215,{"$f":"AE1460","v":1215},1215,1215]
["AR","LGICB","LG","IC","AR Industrial LPG",4287,4484,4240,4961,4625,5058,4680,4166,3253,6946,11571,9716,5347,3950,4062,3110,3425,3767,2969,2724,2577,2430,2080,2172,2594,2186,{"$f":"AE1461","v":2186},2186,2186]
["CO","LGICB","LG","IC","CO Industrial LPG",3475,4274,4018,4550,4245,4619,4822,5465,4221,1911,11000,11856,8473,8372,11075,5690,12845,8680,1892,1135,1861,1151,1478,2012,1776,1792,{"$f":"AE1464","v":1792},1792,1792]
["CT","LGICB","LG","IC","CT Industrial LPG",1954,1163,1489,1469,1185,1267,876,1050,1390,886,1863,2471,960,2742,3543,7390,7570,5449,188,286,322,317,165,186,284,457,{"$f":"AE1465","v":457},457,457]
["FL","LGICB","LG","IC","FL Industrial LPG",5927,6067,6144,6950,6086,10740,11440,3696,3328,6475,7386,9029,4295,5403,3983,6286,7762,5478,3616,2849,2808,4353,2469,2148,1952,2358,{"$f":"AE1468","v":2358},2358,2358]
["GA","LGICB","LG","IC","GA Industrial LPG",6832,8315,8376,9071,8385,8718,9161,8906,6087,6924,12381,9598,10011,6915,6356,8331,8602,7340,5632,5298,5370,4694,4590,4442,4596,4441,{"$f":"AE1469","v":4441},4441,4441]
["ID","LGICB","LG","IC","ID Industrial LPG",667,1193,1013,928,838,1038,7481,111,744,291,1085,304,132,373,272,1003,1120,1509,766,344,331,623,402,454,308,332,{"$f":"AE1472","v":332},332,332]
["IL","LGICB","LG","IC","IL Industrial LPG",29839,34688,28054,59530,70761,74917,66513,65381,36360,51832,47852,47588,48146,34615,43244,52906,52421,51927,43184,45178,40917,40037,41952,45489,42441,40352,{"$f":"AE1473","v":40352},40352,40352]
["KY","LGICB","LG","IC","KY Industrial LPG",14054,14658,14234,10621,10427,10361,12749,18320,17091,21185,23494,27283,29897,21504,24472,26385,26142,26055,23987,19446,22096,20602,23426,38744,26156,22725,{"$f":"AE1476","v":22725},22725,22725]
["LA","LGICB","LG","IC","LA Industrial LPG",165884,180929,189064,193953,238973,236292,233279,164509,160704,258882,383672,259839,282232,159278,181818,170610,204535,196114,389273,463910,485675,512957,563040,610282,614632,625348,{"$f":"AE1477","v":625348},625348,625348]
["ME","LGICB","LG","IC","ME Industrial LPG",1277,1255,1129,834,724,771,988,308,474,40,316,703,1090,306,101,989,1363,1010,201,336,194,359,135,95,109,291,{"$f":"AE1480","v":291},291,291]
["MI","LGICB","LG","IC","MI Industrial LPG",24698,25685,27820,12117,16229,17234,19271,8402,4010,8255,10639,8628,12263,10625,18161,22305,15620,14492,3522,3423,3161,3364,3789,3991,3915,3934,{"$f":"AE1481","v":3934},3934,3934]
["MS","LGICB","LG","IC","MS Industrial LPG",15772,13514,14496,12475,13646,15884,21531,1415,997,7930,6112,9325,7496,13675,4446,3409,4851,3138,1912,1801,1886,1702,1695,1998,1877,1742,{"$f":"AE1484","v":1742},1742,1742]
["MT","LGICB","LG","IC","MT Industrial LPG",2557,633,996,5360,1292,1190,3520,322,384,399,804,973,1269,757,584,1021,1140,2381,1037,108,261,438,129,230,248,295,{"$f":"AE1485","v":295},295,295]
["NE","LGICB","LG","IC","NE Industrial LPG",6063,5897,6115,5525,6187,5775,6952,5591,4652,5813,6204,5913,9146,7386,7580,6198,7403,5417,3166,4969,2879,2502,3185,3686,2590,2069,{"$f":"AE1488","v":2069},2069,2069]
["NH","LGICB","LG","IC","NH Industrial LPG",1434,702,855,1434,1409,1113,1043,1004,1151,689,2323,1303,766,852,765,1452,2191,1376,884,806,363,746,425,485,411,399,{"$f":"AE1489","v":399},399,399]
["NV","LGICB","LG","IC","NV Industrial LPG",1591,970,861,534,2320,703,1071,523,642,1157,2377,2745,780,852,473,300,404,418,934,898,1001,887,843,420,766,417,{"$f":"AE1492","v":417},417,417]
["NY","LGICB","LG","IC","NY Industrial LPG",2342,3933,3899,3406,3399,3146,4056,5141,6001,6297,8169,5526,4062,4897,5547,8588,6216,4380,2643,2019,1745,1917,2274,2230,2089,1931,{"$f":"AE1493","v":1931},1931,1931]
["OR","LGICB","LG","IC","OR Industrial LPG",2691,2936,2770,3009,2163,3035,3492,1317,722,1832,1851,609,1128,542,1696,578,612,751,1897,1729,1605,1749,1800,1704,1620,1670,{"$f":"AE1496","v":1670},1670,1670]
["PA","LGICB","LG","IC","PA Industrial LPG",11330,13996,19033,7875,6716,6022,7024,4525,4353,4222,6252,8476,7636,18389,17804,23620,26129,24431,29899,27207,26755,29146,23876,20029,20538,19312,{"$f":"AE1497","v":19312},19312,19312]
["SD","LGICB","LG","IC","SD Industrial LPG",5819,1890,2599,3443,2708,2328,2518,1791,1540,1210,2212,1560,3963,2433,3514,2745,2901,2925,2078,2479,1138,848,983,1580,1204,1251,{"$f":"AE1500","v":1251},1251,1251]
["TN","LGICB","LG","IC","TN Industrial LPG",2713,2829,7869,2939,2716,2775,2876,3098,1422,3788,4898,4528,6905,2974,4150,4700,5386,4111,1943,914,953,1029,1511,1290,914,1091,{"$f":"AE1501","v":1091},1091,1091]
["UT","LGICB","LG","IC","UT Industrial LPG",1868,763,940,1766,1922,4470,8172,568,904,2173,3778,2664,1784,161,313,1124,1409,1598,584,384,883,547,1277,701,734,453,{"$f":"AE1504","v":453},453,453]
["VA","LGICB","LG","IC","VA Industrial LPG",5441,6440,6309,6755,6726,4778,4791,4000,3144,4015,6885,3820,6126,3846,2723,4419,5157,3810,2341,2317,2196,2074,2105,2410,2462,2713,{"$f":"AE1505","v":2713},2713,2713]
["WV","LGICB","LG","IC","WV Industrial LPG",3933,4763,4055,4364,4922,5154,5772,7392,5531,841,2450,789,880,892,975,848,1483,921,801,470,500,464,497,526,617,349,{"$f":"AE1509","v":349},349,349]
["WY","LGICB","LG","IC","WY Industrial LPG",2364,1703,2005,4222,3754,4516,3891,569,547,691,2161,1417,1033,967,530,1033,1554,1075,836,327,409,460,359,510,409,345,{"$f":"AE1510","v":345},345,345]
["AR","HLRCB","HL","RC","AR Residential Hydrocarbon Gas Liquids",6807,6156,5512,6282,6138,5507,5482,5800,4299,11135,9879,10386,7769,6459,6180,5610,5535,5440,6901,6797,6049,5063,3819,5092,4964,4198,3198,2949,3993]
["AZ","HLRCB","HL","RC","AZ Residential Hydrocarbon Gas Liquids",2644,2987,3214,2832,2891,3326,2687,2466,3523,4875,4281,4045,4110,3270,2840,2959,3211,3008,5172,4879,4574,5306,3118,3967,4084,3508,4014,3934,4986]
["CT","HLRCB","HL","RC","CT Residential Hydrocarbon Gas Liquids",2555,2834,3638,3135,2805,2609,3165,3602,4564,3525,3981,4137,4461,5094,5024,4945,4107,4516,5729,6285,5824,6233,5842,7109,6959,7458,6992,9005,8864]
["DC","HLRCB","HL","RC","DC Residential Hydrocarbon Gas Liquids",3,4,4,4,4,5,6,6,6,5,4,5,5,7,6,6,5,6,7,8,9,0,1,5,10,6,5,5,4]
["GA","HLRCB","HL","RC","GA Residential Hydrocarbon Gas Liquids",11645,12505,13768,14373,14440,13704,13948,15027,12913,14063,16000,11251,11266,12356,13008,10904,9835,9952,11133,10813,12671,9562,11471,7929,9603,8550,8312,7002,8733]
["HI","HLRCB","HL","RC","HI Residential Hydrocarbon Gas Liquids",217,223,704,149,153,147,182,337,959,544,743,754,757,561,572,584,598,480,1007,920,919,854,1254,838,847,505,691,580,455]
["IL","HLRCB","HL","RC","IL Residential Hydrocarbon Gas Liquids",12369,14634,14110,14966,14535,14920,20107,20410,17339,25110,20946,15750,20926,17501,16481,16728,18045,20472,27646,25078,25390,22357,18429,25409,20909,19242,18300,18122,22286]
["IN","HLRCB","HL","RC","IN Residential Hydrocarbon Gas Liquids",13768,13751,13485,14850,14572,14849,19932,19713,14517,17596,19880,14600,20248,21442,17460,15014,13180,16605,20158,19216,17305,16631,11899,14078,14261,11647,11136,10762,13521]
["LA","HLRCB","HL","RC","LA Residential Hydrocarbon Gas Liquids",2516,2680,3436,2313,2220,2034,2571,2829,4127,6137,7298,6822,3612,2896,2643,3183,3264,2054,2411,3140,2798,2671,1712,1779,2095,1785,1679,1699,1748]
["MA","HLRCB","HL","RC","MA Residential Hydrocarbon Gas Liquids",4382,3965,3933,4335,4482,4680,5549,5209,4769,4911,6076,5513,4462,6313,5344,6521,6665,6891,7375,6893,6470,7641,5978,7160,8130,7602,7551,8136,8643]
["MI","HLRCB","HL","RC","MI Residential Hydrocarbon Gas Liquids",27061,30003,30343,33014,32682,33176,44532,42079,39323,44553,45862,57318,61214,60693,52899,59294,36426,41927,39237,38121,35102,33289,27103,36867,39531,32965,34706,34882,42671]
["MN","HLRCB","HL","RC","MN Residential Hydrocarbon Gas Liquids",11569,12569,14045,17276,16984,17543,23547,22290,15493,19145,21446,18783,18073,22602,20626,19962,18798,19631,20385,20651,19428,19493,16933,19728,23479,20422,20280,24956,28094]
["MT","HLRCB","HL","RC","MT Residential Hydrocarbon Gas Liquids",3013,2606,2216,2030,2004,1753,1925,562,317,1269,3418,3482,3569,5371,7154,6651,6630,7643,8565,9072,7550,8025,6290,6168,6948,6997,6182,7241,6894]
["NC","HLRCB","HL","RC","NC Residential Hydrocarbon Gas Liquids",14013,15692,17615,18188,18241,19165,21938,21833,20830,21066,22787,23449,21852,24359,25702,22038,18960,18419,24214,23207,24476,20440,14762,16176,18800,17309,14836,14227,18709]
["NH","HLRCB","HL","RC","NH Residential Hydrocarbon Gas Liquids",4604,3903,4084,4701,4870,5281,5827,5105,5729,5974,5714,5621,5634,7358,7304,6923,6517,8003,9357,9807,8324,8549,8617,9745,12661,11511,10085,9603,10780]
["NJ","HLRCB","HL","RC","NJ Residential Hydrocarbon Gas Liquids",3088,3804,4523,4777,4479,5317,5786,4786,6028,6442,6776,6846,5436,6993,5528,4882,3980,5656,6038,5925,5719,5727,4033,4405,5198,4341,3982,4303,4925]
["NY","HLRCB","HL","RC","NY Residential Hydrocarbon Gas Liquids",14360,17779,17476,15112,15311,15897,17379,15413,15219,16512,21865,16538,19155,18949,19662,17903,15958,18326,22605,22815,22205,19767,16826,19400,24824,22466,21238,21885,27265]
["OH","HLRCB","HL","RC","OH Residential Hydrocarbon Gas Liquids",15924,16855,15097,17876,17507,18853,25306,24491,21181,28337,24494,16323,19930,23821,18904,18698,17748,19344,20342,22773,20117,19536,15161,16739,18258,16563,16879,17187,18907]
["PA","HLRCB","HL","RC","PA Residential Hydrocarbon Gas Liquids",8297,9633,10184,9304,9468,10120,11013,10846,11420,12230,14706,11401,13152,16458,15857,15122,14969,17318,19899,21575,20812,19531,16645,18686,19958,18230,16909,17668,20768]
["RI","HLRCB","HL","RC","RI Residential Hydrocarbon Gas Liquids",834,843,806,962,942,853,1068,958,1121,786,837,733,898,871,663,699,687,803,864,846,726,804,720,801,1135,1061,1182,1216,1845]
["TN","HLRCB","HL","RC","TN Residential Hydrocarbon Gas Liquids",6221,7015,7590,7977,7652,7714,10354,9357,8814,11043,12491,9790,11633,9960,10078,9700,8696,8799,7817,9786,10822,7620,4424,5378,7217,6427,5776,5441,6632]
["TX","HLRCB","HL","RC","TX Residential Hydrocarbon Gas Liquids",21256,14003,11952,12733,12572,11503,8013,12143,15778,31510,37277,42343,37928,32583,25700,30569,23257,25399,24057,20585,20501,18387,14675,17513,18546,19076,19585,15960,16682]
["VA","HLRCB","HL","RC","VA Residential Hydrocarbon Gas Liquids",6757,7381,7729,7608,7761,9143,10142,10937,8347,9311,11133,10112,9732,12098,12777,12271,9797,11193,11900,13484,13270,12632,10149,12139,11732,12295,10505,9852,12123]
["VT","HLRCB","HL","RC","VT Residential Hydrocarbon Gas Liquids",3434,3677,4408,3726,3798,3785,4267,3804,4295,4198,4069,5583,5584,4608,4656,5592,5201,4940,4960,5998,5919,4951,5026,6022,6378,6180,5557,6427,7101]
["WV","HLRCB","HL","RC","WV Residential Hydrocarbon Gas Liquids",1531,1449,1671,1777,1792,1529,1763,2491,1883,2621,2764,3635,2319,2651,4329,2599,3351,2855,3252,3119,3242,3049,2580,3919,2739,3034,2242,1961,2469]
["WY","HLRCB","HL","RC","WY Residential Hydrocarbon Gas Liquids",1536,1877,1597,1427,1325,1868,1446,375,201,753,1599,2236,2200,2030,2103,2320,2092,3613,3585,3944,3339,3597,2651,2870,3067,2176,2597,3505,3275]
["AR","LUACB","LU","AC","AR Transportation Lubricants",2683,2400,2447,2492,2605,2560,2484,2624,2747,2776,2735,2505,2476,2289,2319,2307,2247,2321,2155,1937,2019,1911,1701,1745,1789,1945,1871,1740,1673]
["AZ","LUACB","LU","AC","AZ Transportation Lubricants",2154,1927,1965,2001,2091,2055,1995,2107,2206,2229,2196,2012,1988,1838,1862,1852,1804,1863,1730,1555,2849,2751,2494,2618,2680,2968,2877,2645,2595]
["CT","LUACB","LU","AC","CT Transportation Lubricants",1536,1375,1401,1427,1491,1466,1423,1503,1573,1590,1566,1435,1418,1311,1328,1321,1287,1329,1234,1109,1341,1283,1159,1203,1225,1339,1261,1150,1114]
["DC","LUACB","LU","AC","DC Transportation Lubricants",334,299,305,310,324,319,309,327,342,346,340,312,308,285,289,287,280,289,268,241,83,81,69,70,78,84,83,61,64]
["GA","LUACB","LU","AC","GA Transportation Lubricants",3836,3431,3498,3562,3723,3659,3551,3752,3927,3968,3909,3581,3539,3272,3315,3297,3213,3318,3080,2769,5550,5268,4538,4895,4812,5491,4833,4823,4255]
["HI","LUACB","LU","AC","HI Transportation Lubricants",462,413,421,429,449,441,428,452,473,478,471,431,426,394,399,397,387,400,371,334,464,510,453,477,425,454,420,392,379]
["IL","LUACB","LU","AC","IL Transportation Lubricants",9402,8411,8576,8732,9127,8970,8706,9196,9627,9728,9582,8779,8676,8020,8125,8083,7875,8133,7550,6788,5336,5207,4631,4919,5123,5889,5414,5032,4764]
["KS","LUACB","LU","AC","KS Transportation Lubricants",3746,3352,3417,3479,3637,3574,3469,3664,3836,3876,3818,3498,3457,3196,3238,3221,3138,3241,3008,2705,1697,1592,1490,1672,1795,1849,1664,1478,1451]
["MA","LUACB","LU","AC","MA Transportation Lubricants",2878,2575,2625,2673,2794,2746,2665,2815,2947,2978,2933,2687,2656,2455,2487,2474,2411,2489,2311,2078,2376,2313,2101,2392,2197,2448,2317,2061,1991]
["MD","LUACB","LU","AC","MD Transportation Lubricants",1926,1723,1757,1789,1870,1838,1783,1884,1972,1993,1963,1798,1777,1643,1665,1656,1613,1666,1547,1391,2569,2380,2196,2281,2333,2588,2348,2135,2039]
["MN","LUACB","LU","AC","MN Transportation Lubricants",4943,4422,4509,4591,4799,4716,4577,4835,5062,5115,5038,4616,4561,4217,4272,4250,4140,4276,3969,3569,2615,2515,2394,2464,2538,2742,2777,2539,2458]
["MO","LUACB","LU","AC","MO Transportation Lubricants",5789,5179,5280,5377,5620,5523,5360,5663,5928,5990,5900,5406,5342,4939,5003,4977,4849,5008,4649,4180,3696,3492,3141,3281,3412,3723,3542,3212,3034]
["NC","LUACB","LU","AC","NC Transportation Lubricants",3941,3526,3595,3660,3826,3760,3649,3855,4036,4078,4017,3680,3637,3362,3406,3388,3301,3409,3165,2845,4325,4093,3653,3903,4064,4501,4335,4004,3890]
["ND","LUACB","LU","AC",{"$f":"A1591&\" \"&VLOOKUP(D1591,SectorCode,2,FALSE)&\" \"&VLOOKUP(C1591,FuelCode,2,FALSE)","v":"ND Transportation Lubricants"},941,842,858,874,913,898,871,920,963,973,959,878,868,803,813,809,788,814,755,679,653,773,843,910,991,959,780,755,748]
["NJ","LUACB","LU","AC","NJ Transportation Lubricants",4426,3959,4037,4110,4296,4222,4098,4329,4532,4579,4510,4132,4083,3775,3825,3805,3707,3828,3554,3195,4243,4232,3699,3878,3846,4153,4093,3472,3517]
["NM","LUACB","LU","AC","NM Transportation Lubricants",1325,1185,1208,1230,1286,1264,1227,1296,1357,1371,1350,1237,1222,1130,1145,1139,1110,1146,1064,957,1367,1368,1270,1308,1381,1520,1402,1372,1357]
["OH","LUACB","LU","AC","OH Transportation Lubricants",8851,7918,8073,8220,8592,8444,8195,8657,9063,9158,9021,8265,8167,7550,7649,7609,7414,7656,7108,6390,5713,5486,4973,5248,5448,5888,5466,5032,4795]
["OK","LUACB","LU","AC","OK Transportation Lubricants",4826,4318,4402,4482,4685,4605,4469,4721,4942,4994,4919,4507,4453,4117,4171,4149,4043,4175,3876,3484,2815,2667,2469,2505,2680,2858,2670,2531,2381]
["RI","LUACB","LU","AC","RI Transportation Lubricants",434,388,396,403,421,414,402,425,445,449,443,405,401,370,375,373,364,376,349,313,342,318,279,295,324,339,289,276,279]
["SC","LUACB","LU","AC","SC Transportation Lubricants",1620,1449,1478,1505,1573,1546,1500,1584,1659,1676,1651,1513,1495,1382,1400,1393,1357,1401,1301,1170,2918,2805,2478,2759,2723,3110,3006,2791,2662]
["TX","LUACB","LU","AC","TX Transportation Lubricants",11857,10608,10815,11012,11510,11312,10979,11598,12141,12268,12084,11072,10941,10115,10247,10194,9931,10256,9521,8560,16176,15996,14784,16181,18269,19618,18731,17319,17119]
["US","LUACB","LU","AC","US Transportation Lubricants",175999,157451,160527,163458,170847,167913,162957,172146,180212,182097,179366,164339,162395,150134,152099,151306,147415,152231,141328,127064,154773,148373,135409,143360,149359,162811,154360,141984,137030]
["VT","LUACB","LU","AC","VT Transportation Lubricants",323,289,294,300,313,308,299,316,331,334,329,301,298,275,279,278,270,279,259,233,304,287,261,274,276,308,294,264,237]
["WA","LUACB","LU","AC","WA Transportation Lubricants",3112,2784,2838,2890,3021,2969,2881,3044,3186,3220,3171,2906,2871,2655,2689,2675,2606,2692,2499,2247,3119,3083,3004,3235,3295,3724,3875,3295,3156]
["WY","LUACB","LU","AC","WY Transportation Lubricants",935,837,853,869,908,892,866,915,958,968,953,873,863,798,808,804,783,809,751,675,868,766,778,770,823,848,800,718,706]
["AK","LUICB","LU","IC","AK Industrial Lubricants",128,115,117,119,124,122,119,125,131,132,130,120,118,109,111,110,107,111,103,92,1967,1856,1864,1656,1538,1583,1449,1363,1331]
["AZ","LUICB","LU","IC","AZ Industrial Lubricants",1642,1469,1498,1525,1594,1567,1521,1606,1682,1699,1674,1533,1515,1401,1419,1412,1375,1420,1319,1186,1715,1692,1426,1448,1516,1509,1398,1407,1373]
["CA","LUICB","LU","IC","CA Industrial Lubricants",13060,11683,11912,12129,12677,12460,12092,12774,13372,13512,13310,12194,12050,11140,11286,11227,10939,11296,10487,9429,12509,10884,10310,10833,11001,11804,11476,10663,10411]
["DC","LUICB","LU","IC","DC Industrial Lubricants",45,40,41,41,43,42,41,44,46,46,45,42,41,38,38,38,37,39,36,32,40,42,42,44,41,42,39,38,37]
["DE","LUICB","LU","IC","DE Industrial Lubricants",468,418,427,434,454,446,433,457,479,484,477,437,431,399,404,402,392,404,375,338,260,243,182,192,196,246,198,187,183]
["HI","LUICB","LU","IC","HI Industrial Lubricants",122,110,112,114,119,117,113,120,125,127,125,114,113,104,106,105,103,106,98,88,189,165,148,154,160,178,184,162,159]
["IA","LUICB","LU","IC","IA Industrial Lubricants",1191,1066,1087,1106,1156,1137,1103,1165,1220,1233,1214,1112,1099,1016,1030,1024,998,1030,957,860,1554,1394,1276,1370,1397,1563,1410,1283,1253]
["IN","LUICB","LU","IC","IN Industrial Lubricants",6808,6091,6210,6323,6609,6495,6304,6659,6971,7044,6938,6357,6282,5808,5884,5853,5702,5889,5467,4915,4833,4217,3815,4291,4347,4539,4498,3890,3798]
["KS","LUICB",{"$f":"MID(B1631,1,2)","v":"LU"},{"$f":"MID(B1631,3,2)","v":"IC"},"KS Industrial Lubricants",2533,2266,2310,2352,2459,2417,2345,2477,2594,2621,2581,2365,2337,2161,2189,2178,2122,2191,2034,1829,1148,1109,1002,956,1040,1068,1003,933,911]
["MA","LUICB","LU","IC","MA Industrial Lubricants",2344,2097,2138,2177,2275,2236,2170,2292,2400,2425,2388,2188,2162,1999,2025,2015,1963,2027,1882,1692,2041,1845,1662,1734,1815,1989,1876,1756,1714]
["MD","LUICB","LU","IC","MD Industrial Lubricants",2572,2301,2346,2389,2497,2454,2381,2516,2633,2661,2621,2401,2373,2194,2223,2211,2154,2225,2065,1857,1267,1136,937,970,988,1025,1037,973,950]
["MN","LUICB","LU","IC","MN Industrial Lubricants",2010,1798,1833,1866,1951,1917,1861,1966,2058,2079,2048,1876,1854,1714,1737,1728,1683,1738,1614,1451,2234,2190,1937,2108,2199,2049,2169,1988,1941]
["MO","LUICB","LU","IC","MO Industrial Lubricants",4164,3725,3798,3867,4042,3973,3855,4073,4264,4308,4244,3888,3842,3552,3598,3580,3488,3602,3344,3006,2057,1848,1753,1818,1732,1818,1677,1530,1493]
["NC","LUICB","LU","IC","NC Industrial Lubricants",3546,3172,3234,3293,3442,3383,3283,3468,3631,3669,3614,3311,3272,3025,3064,3049,2970,3067,2847,2560,4934,4692,3881,4125,3971,4274,3945,3608,3522]
["ND","LUICB","LU","IC","ND Industrial Lubricants",161,144,147,150,157,154,149,158,165,167,165,151,149,138,140,139,135,140,130,117,633,922,1256,1365,1586,1312,985,959,936]
["NJ","LUICB","LU","IC","NJ Industrial Lubricants",10299,9213,9393,9565,9997,9825,9535,10073,10545,10655,10496,9616,9502,8785,8900,8854,8626,8908,8270,7435,2795,2308,1998,2096,2154,2260,2326,2038,1990]
["NM","LUICB","LU","IC","NM Industrial Lubricants",735,657,670,682,713,701,680,719,752,760,749,686,678,627,635,632,615,636,590,531,1209,1167,1127,1214,1373,1575,1452,1419,1386]
["OH","LUICB","LU","IC","OH Industrial Lubricants",14874,13307,13567,13815,14439,14191,13772,14549,15230,15390,15159,13889,13725,12688,12854,12788,12459,12866,11944,10739,5152,4980,4410,4772,5416,6506,6566,5985,5844]
["OK","LUICB","LU","IC","OK Industrial Lubricants",3596,3217,3280,3340,3491,3431,3330,3517,3682,3721,3665,3358,3318,3068,3108,3092,3012,3110,2888,2596,3425,3413,3225,3545,4145,5067,4803,4432,4327]
["SC","LUICB","LU","IC",{"$f":"A1655&\" \"&VLOOKUP(D1655,SectorCode,2,FALSE)&\" \"&VLOOKUP(C1655,FuelCode,2,FALSE)","v":"SC Industrial Lubricants"},1754,1569,1599,1629,1702,1673,1624,1715,1796,1814,1787,1637,1618,1496,1515,1508,1469,1517,1408,1266,1641,1535,1420,1430,1465,1691,1680,1574,1537]
["SD","LUICB","LU","IC","SD Industrial Lubricants",22,20,20,21,22,21,21,22,23,23,23,21,21,19,19,19,19,19,18,16,247,243,218,223,230,244,249,231,225]
["US","LUICB","LU","IC","US Industrial Lubricants",186342,166705,169961,173064,180887,177780,172534,182262,190802,192799,189907,173997,171938,158957,161037,160198,156078,161178,149634,134531,135880,127397,118314,125089,130662,142137,135140,124894,121945]
["UT","LUICB","LU","IC","UT Industrial Lubricants",657,588,599,610,638,627,608,642,673,680,669,613,606,560,568,565,550,568,527,474,1897,1732,1315,1354,1397,1372,1283,1176,1148]
["WA","LUICB","LU","IC","WA Industrial Lubricants",1253,1121,1142,1163,1216,1195,1160,1225,1283,1296,1276,1170,1156,1068,1082,1077,1049,1083,1006,904,1937,1758,1613,1745,1822,2028,1909,1746,1705]
["WI","LUICB","LU","IC","WI Industrial Lubricants",3084,2759,2813,2864,2994,2942,2855,3016,3158,3191,3143,2880,2846,2631,2665,2651,2583,2668,2476,2227,2743,2579,2470,2668,2715,3055,2770,2596,2535]
["AK","MBICB","MB","IC","AK Industrial Motor Gasoline Blending Components",860,-385,1313,0,0,0,0,0,0,0,0,0,0,0,0,0,0,0,0,0,0,0,0,0,0,0,0,0,0]
["AL","MBICB","MB","IC","AL Industrial Motor Gasoline Blending Components",407,-243,535,0,0,0,0,0,0,0,0,0,0,0,0,0,0,0,0,0,0,0,0,0,0,0,0,0,0]
["CA","MBICB","MB","IC","CA Industrial Motor Gasoline Blending Components",7517,-3284,9575,0,0,0,0,0,0,0,0,0,0,0,0,0,0,0,0,0,0,0,0,0,0,0,0,0,0]
["CO","MBICB","MB","IC","CO Industrial Motor Gasoline Blending Components",273,-132,438,0,0,0,0,0,0,0,0,0,0,0,0,0,0,0,0,0,0,0,0,0,0,0,0,0,0]
["DE","MBICB","MB","IC","DE Industrial Motor Gasoline Blending Components",503,-242,717,0,0,0,0,0,0,0,0,0,0,0,0,0,0,0,0,0,0,0,0,0,0,0,0,0,0]
["FL","MBICB","MB","IC","FL Industrial Motor Gasoline Blending Components",0,0,0,0,0,0,0,0,0,0,0,0,0,0,0,0,0,0,0,0,0,0,0,0,0,0,0,0,0]
["IA","MBICB","MB","IC","IA Industrial Motor Gasoline Blending Components",0,0,0,0,0,0,0,0,0,0,0,0,0,0,0,0,0,0,0,0,0,0,0,0,0,0,0,0,0]
["ID","MBICB","MB","IC","ID Industrial Motor Gasoline Blending Components",0,0,0,0,0,0,0,0,0,0,0,0,0,0,0,0,0,0,0,0,0,0,0,0,0,0,0,0,0]
["KS","MBICB","MB","IC","KS Industrial Motor Gasoline Blending Components",1262,-567,1521,0,0,0,0,0,0,0,0,0,0,0,0,0,0,0,0,0,0,0,0,0,0,0,0,0,0]
["KY","MBICB","MB","IC","KY Industrial Motor Gasoline Blending Components",786,-379,1121,0,0,0,0,0,0,0,0,0,0,0,0,0,0,0,0,0,0,0,0,0,0,0,0,0,0]
["MD","MBICB","MB","IC","MD Industrial Motor Gasoline Blending Components",0,0,0,0,0,0,0,0,0,0,0,0,0,0,0,0,0,0,0,0,0,0,0,0,0,0,0,0,0]
["ME","MBICB","MB","IC","ME Industrial Motor Gasoline Blending Components",0,0,0,0,0,0,0,0,0,0,0,0,0,0,0,0,0,0,0,0,0,0,0,0,0,0,0,0,0]
["MO","MBICB","MB","IC","MO Industrial Motor Gasoline Blending Components",0,0,0,0,0,0,0,0,0,0,0,0,0,0,0,0,0,0,0,0,0,0,0,0,0,0,0,0,0]
["MS","MBICB","MB","IC","MS Industrial Motor Gasoline Blending Components",1301,-640,1904,0,0,0,0,0,0,0,0,0,0,0,0,0,0,0,0,0,0,0,0,0,0,0,0,0,0]
["ND","MBICB",{"$f":"MID(B1695,1,2)","v":"MB"},{"$f":"MID(B1695,3,2)","v":"IC"},"ND Industrial Motor Gasoline Blending Components",208,-100,297,0,0,0,0,0,0,0,0,0,0,0,0,0,0,0,0,0,0,0,0,0,0,0,0,0,0]
["NE","MBICB","MB","IC","NE Industrial Motor Gasoline Blending Components",0,0,0,0,0,0,0,0,0,0,0,0,0,0,0,0,0,0,0,0,0,0,0,0,0,0,0,0,0]
["NM","MBICB","MB","IC","NM Industrial Motor Gasoline Blending Components",269,-169,485,0,0,0,0,0,0,0,0,0,0,0,0,0,0,0,0,0,0,0,0,0,0,0,0,0,0]
["NV","MBICB","MB","IC","NV Industrial Motor Gasoline Blending Components",0,-12,36,0,0,0,0,0,0,0,0,0,0,0,0,0,0,0,0,0,0,0,0,0,0,0,0,0,0]
["OK","MBICB","MB","IC","OK Industrial Motor Gasoline Blending Components",1420,-690,2031,0,0,0,0,0,0,0,0,0,0,0,0,0,0,0,0,0,0,0,0,0,0,0,0,0,0]
["OR","MBICB","MB","IC","OR Industrial Motor Gasoline Blending Components",0,0,0,0,0,0,0,0,0,0,0,0,0,0,0,0,0,0,0,0,0,0,0,0,0,0,0,0,0]
["SC","MBICB","MB","IC","SC Industrial Motor Gasoline Blending Components",0,0,0,0,0,0,0,0,0,0,0,0,0,0,0,0,0,0,0,0,0,0,0,0,0,0,0,0,0]
["SD","MBICB","MB","IC","SD Industrial Motor Gasoline Blending Components",0,0,0,0,0,0,0,0,0,0,0,0,0,0,0,0,0,0,0,0,0,0,0,0,0,0,0,0,0]
["US","MBICB","MB","IC","US Industrial Motor Gasoline Blending Components",53696,-25918,75685,0,0,0,0,0,0,0,0,0,0,0,0,0,0,0,0,0,0,0,0,0,0,0,0,0,0]
["UT","MBICB","MB","IC","UT Industrial Motor Gasoline Blending Components",555,-268,791,0,0,0,0,0,0,0,0,0,0,0,0,0,0,0,0,0,0,0,0,0,0,0,0,0,0]
["WA","MBICB","MB","IC","WA Industrial Motor Gasoline Blending Components",1781,-908,2757,0,0,0,0,0,0,0,0,0,0,0,0,0,0,0,0,0,0,0,0,0,0,0,0,0,0]
["WI","MBICB","MB","IC","WI Industrial Motor Gasoline Blending Components",119,-57,170,0,0,0,0,0,0,0,0,0,0,0,0,0,0,0,0,0,0,0,0,0,0,0,0,0,0]
["AK","MGACB","MG","AC",{"$f":"A1719&\" \"&VLOOKUP(D1719,SectorCode,2,FALSE)&\" \"&VLOOKUP(C1719,FuelCode,2,FALSE)","v":"AK Transportation Motor Gasoline"},30191,26072,30289,30928,33762,36765,33232,32206,34043,32837,30605,29266,29703,30127,35022,34177,33859,34372,33282,33464,33029,32004,32171,31214,33205,32774,33944,33221,32778]
["AL","MGACB","MG","AC","AL Transportation Motor Gasoline",254759,257184,262814,267802,273999,284952,282849,285931,295821,297475,294781,294756,314521,301586,315897,319905,322118,324629,313809,313420,317007,307341,304337,306987,306780,313543,321497,317880,315920]
["CA","MGACB","MG","AC","CA Transportation Motor Gasoline",1580590,1543225,1632955,1595361,1588542,1615212,1642948,1664181,1698416,1745965,1771884,1805796,1894997,1883419,1922955,1950383,1956765,1933662,1839493,1795258,1769073,1720109,1699855,1720194,1733780,1730139,1763335,1771602,1764394]
["DC","MGACB","MG","AC","DC Transportation Motor Gasoline",20394,20643,20677,21477,20663,20800,19820,20623,19943,20485,20767,18262,17263,16073,17041,15613,15608,15314,12501,13185,12531,12658,11330,11479,12732,12877,13764,11934,13880]
["FL","MGACB","MG","AC","FL Transportation Motor Gasoline",734739,733042,742667,778469,788412,813956,822237,835362,869182,895905,920023,928113,963027,980431,1031660,1060745,1071666,1051848,999021,997917,975381,958028,958503,977883,989996,1005096,1022610,1044537,1061292]
["GA","MGACB","MG","AC","GA Transportation Motor Gasoline",427282,431853,432154,481320,482527,503648,521590,520783,550222,565953,571672,578011,594867,600880,612461,620523,609552,612995,580769,589592,583220,558164,553457,574215,552642,576497,558686,585314,584099]
["ID","MGACB","MG","AC","ID Transportation Motor Gasoline",57530,56866,59077,64660,65233,68084,70845,72857,77143,80691,78281,75439,77488,73236,74045,73291,77282,79615,76217,77851,80448,78029,80879,82135,83850,87056,90368,92314,86906]
["IL","MGACB","MG","AC","IL Transportation Motor Gasoline",546959,539157,550040,562733,571344,570202,572721,581034,583425,611601,617517,617792,624057,623311,638289,632168,633709,628570,602561,588552,579581,553174,543397,546655,549938,547785,561077,557227,551956]
["KY","MGACB","MG","AC","KY Transportation Motor Gasoline",219301,223687,229285,233063,234772,244037,220442,254546,256620,260571,249881,257481,254990,263702,275544,268508,267275,272220,260932,266932,264509,255544,252448,252163,250767,255661,261637,260507,261139]
["LA","MGACB","MG","AC","LA Transportation Motor Gasoline",227519,222681,233899,236730,233538,241645,260848,239706,257078,255451,268974,267165,275862,280765,274222,282336,321737,274696,259438,276839,272514,269987,262075,271014,268369,275714,265918,256141,254205]
["ME","MGACB","MG","AC","ME Transportation Motor Gasoline",73181,73390,73391,74255,74754,73831,76971,82220,79033,83549,84407,73137,86466,93600,86766,88472,86452,84658,79687,80016,80034,79205,76603,87494,91701,91624,93440,76181,75509]
["MI","MGACB","MG","AC","MI Transportation Motor Gasoline",515671,523612,524607,542006,543375,568061,568128,577974,591103,623403,608209,609579,621631,607000,605166,608185,599578,584952,558819,550403,542672,529522,524718,544519,530991,545401,555443,548905,549917]
["MS","MGACB","MG","AC","MS Transportation Motor Gasoline",148855,152564,156146,164204,168418,174545,175560,181438,188814,195824,189268,183883,191328,194377,196165,198270,200049,205030,198654,190307,196349,188344,194271,192467,200085,202939,206637,201868,196093]
["MT","MGACB","MG","AC","MT Transportation Motor Gasoline",50586,50884,53053,54364,54635,55524,57688,56121,57988,58961,57936,57624,58697,58444,58689,57719,58336,59458,57445,58387,58756,57841,58708,59906,60611,62079,63125,62990,62058]
["NE","MGACB","MG","AC","NE Transportation Motor Gasoline",91116,88040,89479,90317,90141,96383,97339,98865,100091,102900,101644,100021,102362,101298,100453,97984,97342,100274,100342,98203,99824,96220,97019,99547,104192,101283,104038,103666,104376]
["NH","MGACB","MG","AC","NH Transportation Motor Gasoline",61191,63192,63099,64654,66226,69608,72014,75679,78051,80612,82058,82089,85306,85944,86765,85887,87294,89846,87762,86550,85544,83201,82210,83554,83573,83177,83474,84027,84646]
["NV","MGACB","MG","AC","NV Transportation Motor Gasoline",77156,79298,82990,83891,88783,92646,97669,102227,112503,111514,114100,116532,120053,126517,132320,137623,143113,144410,136730,132635,130473,128008,127414,130329,130428,131855,135116,138715,141955]
["NY","MGACB","MG","AC","NY Transportation Motor Gasoline",718791,690760,668563,680965,662012,683254,675684,674333,677570,689375,684960,685306,695755,704737,701714,700432,711949,702981,685255,682440,686939,652968,635083,632530,655932,627516,652057,659778,666515]
["OR","MGACB","MG","AC","OR Transportation Motor Gasoline",163001,165267,165479,172392,173659,174207,180105,171661,185424,187717,184934,183700,187196,185102,185739,189445,191189,189790,182137,184175,180967,173661,170416,172743,176730,178500,183938,187214,187736]
["PA","MGACB","MG","AC","PA Transportation Motor Gasoline",554641,552994,555396,568258,565915,579000,587262,591332,598689,605987,609478,618751,630436,628354,636689,632789,624789,629056,611313,616810,610650,599436,589459,592952,585152,570267,574332,578552,561383]
["SD","MGACB","MG","AC","SD Transportation Motor Gasoline",44227,45078,46556,47031,48828,49239,50007,49907,52256,51395,51357,49634,51701,49912,49610,49169,48530,50192,49333,52610,51895,51997,53707,52730,53960,55517,56432,55696,55646]
["TN","MGACB","MG","AC","TN Transportation Motor Gasoline",299180,289898,302926,314512,323593,332570,333129,339170,347781,359725,354976,350468,369174,371685,372544,379562,381024,381305,368171,378975,383541,377555,373023,377312,382633,384136,399868,401736,393936]
["UT","MGACB","MG","AC","UT Transportation Motor Gasoline",86306,89837,92592,96876,99569,106306,108484,112791,116890,119042,122918,116866,122791,123433,125376,124953,127943,131147,125304,126386,123482,127330,125598,129870,132208,136348,140014,141091,140807]
["VA","MGACB","MG","AC","VA Transportation Motor Gasoline",363243,365154,370445,381210,387108,405800,407854,419016,422897,437370,441758,464408,468064,475516,482998,485749,493837,503009,482731,475179,483198,452364,463619,464073,474425,467685,474461,476795,477130]
["WI","MGACB","MG","AC","WI Transportation Motor Gasoline",251564,255583,258746,264808,271362,281370,288236,284876,301871,302431,298197,299602,306668,309202,308457,309291,303494,311307,302267,302885,306756,295157,293488,292326,309425,305185,306030,302164,313728]
["WV","MGACB","MG","AC","WV Transportation Motor Gasoline",100140,98864,101864,101509,103024,107606,97397,101671,101347,100317,99885,100800,98502,99905,103403,102712,103043,102012,93219,100458,102555,97532,95342,93949,97494,94173,96198,93245,97694]
["AL","MGCCB","MG","CC","AL Commercial Motor Gasoline",1354,839,727,215,215,218,217,213,214,213,215,224,225,225,227,230,232,232,229,227,224,225,224,231,221,5193,6634,5314,5620]
["AR","MGCCB","MG","CC","AR Commercial Motor Gasoline",748,424,374,148,149,151,150,148,149,148,149,157,570,514,538,729,753,632,653,697,812,361,385,286,403,3127,2753,2720,2728]
["CO","MGCCB","MG","CC","CO Commercial Motor Gasoline",1392,1763,846,183,268,304,1380,190,200,865,667,210,212,214,212,214,220,222,220,217,214,217,219,226,213,7137,7205,7310,7466]
["CT","MGCCB","MG","CC","CT Commercial Motor Gasoline",1072,3444,8277,8287,5425,1303,4290,5117,3772,4048,4290,1506,4267,9613,791,985,239,204,388,211,196,206,178,178,169,4652,4495,4523,4601]
["FL","MGCCB","MG","CC","FL Commercial Motor Gasoline",7418,4872,4295,501,508,520,520,1256,1286,1305,1575,1262,2063,1352,1459,1989,2312,3477,3203,3392,9263,4797,1907,3646,2990,27109,32721,27762,28230]
["GA","MGCCB","MG","CC","GA Commercial Motor Gasoline",2728,1736,2179,336,894,322,325,3289,809,741,1159,405,354,352,354,358,368,372,368,365,360,359,356,367,353,11826,12154,12315,12473]
["ID","MGCCB","MG","CC","ID Commercial Motor Gasoline",779,1812,1640,197,197,200,871,204,172,206,167,167,133,81,82,84,268,107,364,137,111,120,215,257,278,1775,1591,1616,1653]
["IL","MGCCB","MG","CC","IL Commercial Motor Gasoline",2944,2098,1967,687,839,717,961,1165,1185,790,1158,1318,1969,1896,2062,1292,2216,1234,1368,4572,1219,939,1261,872,824,13249,13099,12956,13166]
["KY","MGCCB","MG","CC","KY Commercial Motor Gasoline",2335,1676,1454,207,207,221,209,206,416,205,207,217,218,216,218,220,224,224,222,220,217,216,215,222,213,3715,3916,3969,4021]
["LA","MGCCB","MG","CC","LA Commercial Motor Gasoline",1669,1354,1287,213,212,215,214,211,212,211,11265,4947,4076,11030,7707,5486,225,14400,220,219,218,216,217,224,211,3943,3999,4055,4122]
["ME","MGCCB","MG","CC","ME Commercial Motor Gasoline",530,282,264,60,61,62,62,61,61,61,61,61,62,101,127,73,161,247,104,171,188,97,87,153,119,1591,1575,1596,1615]
["MI","MGCCB","MG","CC","MI Commercial Motor Gasoline",4045,3078,2903,399,1891,403,402,395,1083,887,825,2252,1284,1054,993,1077,470,422,427,644,417,402,397,409,16186,10105,10195,10349,10516]
["MO","MGCCB","MG","CC","MO Commercial Motor Gasoline",1255,671,633,586,529,513,603,756,636,1589,1368,1727,1505,1489,1224,1504,298,298,296,293,289,288,290,299,283,6574,6664,6759,6831]
["NC","MGCCB","MG","CC","NC Commercial Motor Gasoline",4105,1968,1698,310,408,317,1626,914,1804,1616,1718,1367,1430,6046,7592,10066,8316,5927,6659,9854,4978,1921,1831,1613,1781,12833,13696,11913,12116]
["NH","MGCCB","MG","CC","NH Commercial Motor Gasoline",388,290,252,55,55,57,57,56,57,57,71,106,58,58,61,86,671,242,312,243,271,270,278,289,288,1766,1811,1602,1616]
["NJ","MGCCB","MG","CC","NJ Commercial Motor Gasoline",3963,3633,3221,400,439,408,403,410,398,390,383,398,378,385,374,367,361,392,379,346,349,331,330,364,748,10890,11012,10935,11009]
["NY","MGCCB","MG","CC","NY Commercial Motor Gasoline",6307,3760,3580,1031,938,1080,1044,1015,1103,1042,1051,1135,4446,1525,1021,1220,1473,1354,1065,1078,914,942,882,957,976,15688,15571,15511,15488]
["OH","MGCCB","MG","CC","OH Commercial Motor Gasoline",5563,4861,3534,2052,2334,2279,1899,10179,3873,911,2728,1110,2095,1103,980,1428,2355,2354,1941,1629,1406,498,500,515,489,15348,15351,15586,15831]
["PA","MGCCB","MG","CC","PA Commercial Motor Gasoline",3683,2914,1757,453,452,457,455,1476,4835,976,760,660,820,820,574,465,472,470,466,462,457,455,451,465,447,13984,14083,14305,14543]
["RI","MGCCB","MG","CC","RI Commercial Motor Gasoline",203,192,168,50,50,51,50,59,50,50,50,226,307,306,61,61,53,52,52,52,51,50,50,51,49,1013,1014,1032,1049]
["TN","MGCCB","MG","CC","TN Commercial Motor Gasoline",2435,2196,1815,1059,255,258,258,254,255,254,256,273,274,274,277,281,283,285,283,280,277,277,279,287,272,6778,6821,6904,7029]
["TX","MGCCB","MG","CC","TX Commercial Motor Gasoline",12048,8527,7597,830,836,853,851,848,851,856,868,917,927,920,925,933,970,1911,1842,1580,1654,1518,1536,1593,1535,26049,25690,25372,25644]
["VA","MGCCB","MG","CC","VA Commercial Motor Gasoline",2510,1791,1810,633,716,685,678,714,643,863,634,645,659,641,642,595,517,597,532,499,406,537,483,471,506,11298,11439,11448,11637]
["VT","MGCCB","MG","CC","VT Commercial Motor Gasoline",214,144,176,34,34,35,35,34,34,34,35,35,35,35,35,36,36,36,36,35,35,35,34,35,34,663,673,682,705]
["WV","MGCCB","MG","CC","WV Commercial Motor Gasoline",1736,1379,1151,102,102,103,102,100,101,100,101,102,102,102,143,145,149,152,148,137,134,139,129,132,126,1842,1901,1847,1881]
["WY","MGCCB","MG","CC","WY Commercial Motor Gasoline",391,455,411,39,39,40,189,39,39,40,40,243,614,770,1245,1588,1802,2205,1716,1494,1437,3083,1855,1917,1572,2210,1935,439,482]
["AR","MGICB","MG","IC","AR Industrial Motor Gasoline",2186,2381,2305,2050,2216,2335,2363,2457,3370,2855,2860,4867,5192,5565,6532,6326,6927,4886,3514,3501,3828,3877,3558,3837,3286,3633,3842,3859,3936]
["AZ","MGICB","MG","IC","AZ Industrial Motor Gasoline",2643,1935,1817,1764,1910,2133,2280,2380,2460,1737,1761,4747,4736,5133,6244,5444,6328,5528,5356,5076,4416,4435,4722,4925,4744,8610,8789,8828,8878]
["CT","MGICB","MG","IC","CT Industrial Motor Gasoline",1379,1253,1263,1024,1015,1014,1163,1208,716,1092,1211,2787,2593,2909,3293,2911,2995,2286,1883,1795,2509,2438,2433,2492,1889,1876,1886,1912,1941]
["DC","MGICB","MG","IC","DC Industrial Motor Gasoline",471,307,308,189,362,230,202,289,143,95,121,653,500,836,689,584,581,282,336,317,163,174,174,176,227,183,184,186,189]
["GA","MGICB","MG","IC","GA Industrial Motor Gasoline",6764,6163,6423,3713,4053,4313,4725,4630,4962,5110,5101,12158,12412,13281,14605,14072,14559,9172,8445,8168,6616,6585,6391,6908,5956,6252,6355,6437,6553]
["HI","MGICB","MG","IC","HI Industrial Motor Gasoline",701,788,796,1258,1275,1274,1348,1261,1383,808,832,635,754,714,878,690,733,1253,1262,1189,724,746,710,699,865,1437,1420,1432,1478]
["IL","MGICB","MG","IC","IL Industrial Motor Gasoline",6641,7052,6369,8295,7898,7805,7627,7750,7007,5656,5368,10866,11687,12707,14104,13704,14235,9227,7652,7652,10686,10414,9900,10186,8027,9625,10367,10485,10593]
["IN","MGICB","MG","IC","IN Industrial Motor Gasoline",3282,3722,3356,3858,4356,4420,4211,4410,3384,3409,3075,5649,6029,6137,7950,7236,7597,13025,12071,11652,6624,6603,6904,6889,4641,5055,5582,5436,5491]
["LA","MGICB","MG","IC","LA Industrial Motor Gasoline",1769,1868,1812,3422,4148,4014,4028,4292,3407,2964,3158,6046,6344,6788,7779,7323,7250,8451,3447,3360,5380,5765,5485,5876,3940,3748,3850,3888,3942]
["MA","MGICB","MG","IC","MA Industrial Motor Gasoline",2174,1743,1755,912,1812,1941,1940,2038,1645,1545,1594,4748,4765,4872,5035,4718,4815,4070,3714,3523,4578,4808,4661,4835,3852,3803,3838,3894,3978]
["MI","MGICB","MG","IC","MI Industrial Motor Gasoline",5129,5835,4988,5394,6082,6817,7388,6618,5706,5292,5515,9541,10039,10485,11994,11616,12331,11403,9613,7341,6354,6104,6660,7006,4852,7882,8077,8144,8305]
["MN","MGICB","MG","IC","MN Industrial Motor Gasoline",5867,7577,7442,6374,6536,6206,3493,9608,6451,5335,5179,7617,7342,7068,7272,6745,6368,7591,4717,5026,6599,6687,6745,7306,6139,6039,6597,6647,6724]
["MT","MGICB","MG","IC","MT Industrial Motor Gasoline",3228,3209,3006,2957,3145,3364,3453,3571,2274,2186,2110,2839,2942,3042,3538,3314,3597,2576,1831,1818,1494,1500,1389,1468,1439,1759,1715,1725,1755]
["NC","MGICB","MG","IC","NC Industrial Motor Gasoline",4237,4517,4300,4407,4641,5083,5225,5421,4800,3417,4182,10500,10176,8661,10213,9506,10065,7124,5774,5673,8420,8619,8022,8397,6431,6569,6473,6539,6691]
["NH","MGICB","MG","IC","NH Industrial Motor Gasoline",289,261,266,473,517,565,562,602,385,787,838,1551,1653,1789,1891,1813,1869,968,773,741,917,949,922,959,747,897,900,911,930]
["NJ","MGICB","MG","IC","NJ Industrial Motor Gasoline",2414,2208,2223,2826,2900,3133,3110,3269,2647,1261,1350,5002,5156,5584,6291,5470,5685,6044,4864,4633,5736,5618,5502,5577,4307,6282,6329,6434,6562]
["NY","MGICB","MG","IC","NY Industrial Motor Gasoline",6016,5764,5829,5135,5628,5859,5804,6108,5361,4678,4840,9057,10313,10977,11146,11493,12581,11125,8633,8320,11836,7917,11473,11465,10591,13745,13781,14010,14224]
["OH","MGICB","MG","IC","OH Industrial Motor Gasoline",5111,5061,14675,5859,5730,6245,6270,6408,6822,5857,3677,9745,10273,10904,12511,12195,12651,9935,7848,7588,7107,7949,7949,8157,5085,8023,7937,8023,8191]
["PA","MGICB","MG","IC","PA Industrial Motor Gasoline",6201,6586,7051,5004,4733,4861,4453,4619,4537,3856,3655,7089,7445,7848,9472,9556,10950,7927,4272,4277,10376,6281,10494,10794,8680,7553,7505,7596,7698]
["RI","MGICB","MG","IC","RI Industrial Motor Gasoline",182,138,138,256,253,282,246,266,232,127,174,427,541,538,539,545,595,793,796,753,571,559,585,612,596,601,606,614,625]
["TN","MGICB","MG","IC","TN Industrial Motor Gasoline",3064,2925,3019,3779,4094,4503,4638,4877,3280,2960,2918,4964,4690,5092,6322,6292,7101,9594,7642,7502,4143,4314,4328,4660,3093,5711,5816,5855,6102]
["TX","MGICB","MG","IC","TX Industrial Motor Gasoline",22776,24258,22790,17936,19555,20527,21055,22048,25813,13012,13399,24092,26022,27252,31295,29938,31610,23548,19746,19351,29138,30553,28346,30855,22709,18622,18514,18712,19135]
["VT","MGICB","MG","IC","VT Industrial Motor Gasoline",425,463,472,395,438,461,471,496,394,429,409,883,931,1089,1230,1221,1367,1018,588,580,753,753,643,651,627,482,460,464,468]
["WA","MGICB","MG","IC","WA Industrial Motor Gasoline",3456,4170,4235,2743,2774,2888,2942,3088,2556,2633,2771,5408,5733,5793,6611,6549,6796,4981,4473,4315,5645,5725,5596,5762,5156,5057,4980,5039,5124]
["WY","MGICB","MG","IC","WY Industrial Motor Gasoline",2191,2636,2573,2017,2170,2306,2352,2448,1297,1230,1250,2216,2343,2477,2765,2556,2658,1622,1438,1420,1116,1022,1065,1076,686,1200,1184,1187,1205]
["AK","MSICB","MS","IC","AK Industrial Misc. Petro Products",0,0,0,0,0,0,0,0,0,0,0,0,0,0,0,0,0,0,0,0,0,0,0,0,0,0,0,0,0]
["AZ","MSICB","MS","IC","AZ Industrial Misc. Petro Products",0,0,0,0,0,0,447,491,598,562,599,114,122,115,103,103,204,200,213,227,238,247,242,253,270,279,282,293,292]
["CA","MSICB","MS","IC","CA Industrial Misc. Petro Products",3288,2273,1490,1411,1577,1447,729,801,975,917,977,1717,1844,1731,1559,1550,1107,1087,1156,1236,1292,1341,1315,2787,2976,3076,3116,3237,3224]
["DC","MSICB","MS","IC","DC Industrial Misc. Petro Products",0,0,0,0,0,0,0,0,0,0,0,0,0,0,0,0,0,0,0,0,0,0,0,0,0,0,0,0,0]
["DE","MSICB","MS","IC","DE Industrial Misc. Petro Products",439,681,447,423,473,434,456,501,609,573,611,571,613,576,518,516,195,192,204,218,228,237,232,127,135,140,142,147,147]
["HI","MSICB","MS","IC","HI Industrial Misc. Petro Products",0,0,0,0,0,0,0,0,0,0,0,0,0,0,0,0,0,0,0,0,0,0,0,0,0,0,0,0,0]
["IA","MSICB",{"$f":"MID(B1887,1,2)","v":"MS"},{"$f":"MID(B1887,3,2)","v":"IC"},"IA Industrial Misc. Petro Products",355,151,99,93,104,96,552,606,737,693,739,448,481,452,407,404,527,517,550,588,615,638,626,1333,1423,1471,1490,1548,1541]
["IN","MSICB","MS","IC","IN Industrial Misc. Petro Products",1592,2723,1785,1690,1889,1733,2039,2239,2725,2563,2730,1038,1115,1046,942,937,833,817,870,929,972,1009,989,712,760,786,796,827,823]
["KS","MSICB","MS","IC","KS Industrial Misc. Petro Products",393,420,276,261,292,268,723,794,967,909,969,745,801,752,677,673,256,251,267,285,298,310,304,575,614,635,643,668,665]
["MA","MSICB","MS","IC","MA Industrial Misc. Petro Products",875,898,589,557,623,572,1287,1413,1720,1618,1724,497,534,502,452,449,393,386,410,439,459,476,467,949,1013,1047,1061,1102,1097]
["MD","MSICB","MS","IC","MD Industrial Misc. Petro Products",496,955,626,592,662,607,569,624,760,715,761,368,395,371,334,332,414,406,432,462,483,501,491,253,270,279,282,293,292]
["MN","MSICB","MS","IC","MN Industrial Misc. Petro Products",0,422,277,262,293,268,65,72,88,82,88,196,210,197,178,177,237,233,248,265,277,287,282,240,256,264,268,278,277]
["MO","MSICB","MS","IC","MO Industrial Misc. Petro Products",3303,1229,806,763,852,782,373,410,499,469,500,397,426,400,360,358,483,474,504,539,563,585,573,716,764,790,800,832,828]
["NC","MSICB","MS","IC","NC Industrial Misc. Petro Products",1781,1888,1238,1172,1310,1202,2755,3025,3682,3463,3689,2751,2955,2774,2498,2484,3389,3325,3538,3782,3953,4104,4025,2407,2570,2657,2691,2796,2784]
["ND","MSICB","MS","IC","ND Industrial Misc. Petro Products",0,0,0,0,0,0,0,0,0,0,0,0,0,0,0,0,0,0,0,0,0,0,0,0,0,0,0,0,0]
["NJ","MSICB","MS","IC","NJ Industrial Misc. Petro Products",10832,9989,6549,6199,6928,6357,3111,3415,4157,3910,4165,5247,5637,5291,4765,4738,4258,4178,4446,4752,4967,5156,5058,5249,5604,5794,5868,6097,6071]
["NM","MSICB","MS","IC","NM Industrial Misc. Petro Products",64,167,109,104,116,106,736,808,983,925,985,253,272,256,230,229,0,0,0,0,0,0,0,72,77,79,80,83,83]
["OH","MSICB","MS","IC","OH Industrial Misc. Petro Products",3522,3505,2298,2175,2431,2230,2381,2615,3183,2993,3189,2475,2658,2495,2247,2234,2323,2280,2426,2593,2710,2813,2759,3120,3331,3443,3487,3623,3608]
["OK","MSICB","MS","IC",{"$f":"A1911&\" \"&VLOOKUP(D1911,SectorCode,2,FALSE)&\" \"&VLOOKUP(C1911,FuelCode,2,FALSE)","v":"OK Industrial Misc. Petro Products"},156,296,194,184,206,189,338,371,451,424,452,244,262,246,221,220,263,259,275,294,307,319,313,491,525,542,549,571,568]
["RI","MSICB","MS","IC","RI Industrial Misc. Petro Products",0,0,0,0,0,0,0,0,0,0,0,0,0,0,0,0,0,0,0,0,0,0,0,0,0,0,0,0,0]
["SC","MSICB","MS","IC","SC Industrial Misc. Petro Products",1733,2650,1737,1644,1838,1686,157,173,210,198,211,2100,2256,2118,1907,1897,2369,2324,2473,2644,2763,2868,2813,7389,7889,8156,8261,8583,8547]
["TX","MSICB","MS","IC","TX Industrial Misc. Petro Products",50594,57939,37985,35956,40183,36869,37193,40835,49706,46750,49798,51131,54927,51561,46429,46170,69765,68454,72842,77865,81391,84488,82868,72316,77209,79822,80843,83997,83642]
["US","MSICB","MS","IC","US Industrial Misc. Petro Products",137835,152626,100062,94718,105852,97124,89032,97750,118986,111909,119206,124910,134183,125959,113422,112790,136032,133476,142031,151826,158700,164740,161581,171162,182742,188926,191343,198809,197968]
["VT","MSICB","MS","IC","VT Industrial Misc. Petro Products",0,0,0,0,0,0,0,0,0,0,0,0,0,0,0,0,0,0,0,0,0,0,0,0,0,0,0,0,0]
["WA","MSICB","MS","IC","WA Industrial Misc. Petro Products",0,813,533,505,564,518,127,140,170,160,170,363,390,366,330,328,377,370,394,421,440,457,448,445,475,491,497,516,514]
["WY","MSICB","MS","IC","WY Industrial Misc. Petro Products",0,0,0,0,0,0,33,37,45,42,45,229,246,231,208,207,251,246,262,280,292,304,298,272,290,300,304,316,315]
["AK","NGACB","NG","AC","AK Transportation Natural Gas",1616,2602,2870,2840,3027,2440,1990,4945,5566,7258,7575,5136,4391,4096,3830,2665,2866,2156,2086,2351,3320,3464,4032,554,337,626,454,349,551]
["AZ","NGACB","NG","AC","AZ Transportation Natural Gas",26094,24149,24254,18013,25815,19318,17794,19395,20528,19606,21667,23232,21535,19629,17494,19900,23030,22983,24832,23361,17754,15063,14369,14724,16170,18208,16851,14841,14582]
["CA","NGACB","NG","AC","CA Transportation Natural Gas",20780,19006,15611,12826,12969,20001,20060,24434,10867,11611,11527,13837,12648,12330,17144,20653,17297,20595,19987,19706,23814,25415,28136,25234,39631,36827,42655,45543,44773]
["DC","NGACB","NG","AC","DC Transportation Natural Gas",255,267,268,277,245,279,273,297,311,309,317,317,324,575,583,578,543,306,255,1042,1111,2623,1994,2364,2198,1701,1943,1567,1806]
["DE","NGACB","NG","AC","DE Transportation Natural Gas",4,4,4,4,14,20,25,37,48,87,106,71,98,94,105,51,24,22,23,24,144,479,1076,1016,1100,1186,998,911,768]
["HI","NGACB","NG","AC","HI Transportation Natural Gas",0,0,0,0,0,0,0,0,0,0,0,0,0,0,2,3,2,3,2,2,2,2,3,11,1,2,2,2,2]
["IA","NGACB","NG","AC","IA Transportation Natural Gas",9213,6701,6976,7364,10833,11121,12746,11442,8899,7937,8348,9061,11048,9976,10283,11697,12685,12446,14242,13942,11106,10907,10282,11746,13237,11527,9427,11084,12990]
["IN","NGACB","NG","AC","IN Transportation Natural Gas",8623,4732,4837,6919,7037,7786,12697,11098,7674,7682,6066,7502,5621,7722,7393,6867,6554,7329,7276,6775,8837,10401,7311,7557,7494,7331,9430,9510,8320]
["KY","NGACB","NG","AC","KY Transportation Natural Gas",25610,20923,16781,19948,24343,27442,27829,24052,16343,17234,14456,15547,12517,14912,10614,8519,6711,12216,13423,13021,14132,12796,8874,7359,9607,11742,5776,7769,14952]
["MD","NGACB","NG","AC","MD Transportation Natural Gas",2468,2582,2484,2534,2590,2954,2776,3311,3202,3469,3514,3062,2797,3087,2843,2906,3355,3373,3536,2825,6704,6461,7906,4513,6932,7827,7976,8736,24270]
["ME","NGACB","NG","AC","ME Transportation Natural Gas",5,3,9,11,19,111,18,123,0,0,932,1370,914,898,685,612,520,806,1007,873,1821,2500,785,871,1350,1030,673,704,851]
["MO","NGACB",{"$f":"MID(B1951,1,2)","v":"NG"},{"$f":"MID(B1951,3,2)","v":"AC"},"MO Transportation Natural Gas",5360,2585,2313,9884,2920,7205,7581,7573,5627,6922,7773,2043,2704,3187,3462,2686,2525,2831,7320,3917,5858,7112,5020,5748,6499,6514,6986,7132,9969]
["MS","NGACB","NG","AC","MS Transportation Natural Gas",38967,35696,35031,38367,40383,42565,50648,46653,38230,32929,32242,30950,27989,26964,22522,22117,22674,28112,29466,29608,28670,29305,49251,23987,21200,22491,20921,20059,27246]
["ND","NGACB","NG","AC","ND Transportation Natural Gas",1828,2105,2881,4533,4531,4953,5072,5319,474,9990,10998,14025,14341,14320,14425,13788,13598,13930,11967,9358,14502,14567,16635,15959,16767,15543,15652,20205,22254]
["NE","NGACB","NG","AC","NE Transportation Natural Gas",3479,2333,2519,2479,3256,3365,4641,4289,2889,2952,3193,3116,2677,5410,4083,4500,4587,5498,10063,7064,7389,9410,7783,7250,7453,7518,6812,7882,9992]
["NM","NGACB","NG","AC","NM Transportation Natural Gas",80384,74822,52510,64986,59189,58015,27998,63780,51402,47474,44488,44454,40615,30140,28034,20427,18115,14050,14102,12157,9081,7479,7891,9211,9014,9148,8897,9298,10475]
["NV","NGACB","NG","AC","NV Transportation Natural Gas",816,362,553,738,772,875,908,675,1131,1195,1323,1354,1364,2343,2994,2816,3297,3506,3566,3793,3972,4867,7092,5744,6084,5906,5986,5103,5329]
["OK","NGACB","NG","AC","OK Transportation Natural Gas",26577,25422,26305,27296,26967,31284,34612,26315,24907,24961,21863,24952,24840,32307,32417,32610,32561,29503,28778,30081,31802,32123,34170,43650,49224,49589,52664,53747,60206]
["OR","NGACB","NG","AC","OR Transportation Natural Gas",9219,9090,7094,5102,6085,7620,8339,13331,14057,10914,12202,11379,9421,7235,9886,7731,8719,10020,7727,8463,6629,5303,4803,4289,3975,5016,5411,5740,6872]
["SC","NGACB","NG","AC","SC Transportation Natural Gas",2939,2884,2978,2835,2750,3020,3241,3043,3283,3708,3578,3052,3280,2936,2620,2525,2387,2714,2702,2946,3537,3490,3492,2593,2507,2653,2946,2439,2893]
["SD","NGACB","NG","AC","SD Transportation Natural Gas",112,347,1772,2603,2572,2771,2939,3010,2839,6061,6302,5759,6075,6354,6252,5791,5437,5704,4699,3247,5835,6726,6516,7102,5436,6188,6761,6908,6950]
["US","NGACB","NG","AC","US Transportation Natural Gas",682744,621810,610580,646010,709703,727798,740468,789878,666552,675002,673616,655507,698694,627336,602590,624976,626779,665156,693744,716864,720931,736007,781761,888140,762235,747400,758188,800769,948440]
["UT","NGACB","NG","AC","UT Transportation Natural Gas",953,934,1547,2921,3215,3315,4148,3345,3583,3643,3703,4879,6855,8467,9443,9532,11990,12860,12472,10872,11046,12122,13789,14343,15057,14954,13306,11771,13196]
["WA","NGACB","NG","AC",{"$f":"A1975&\" \"&VLOOKUP(D1975,SectorCode,2,FALSE)&\" \"&VLOOKUP(C1975,FuelCode,2,FALSE)","v":"WA Transportation Natural Gas"},5256,5321,3217,4450,6777,9090,7255,9404,9703,8296,6554,9661,6841,7060,9474,8957,7266,8108,7312,8249,8286,7363,9981,10912,9919,13257,13441,13510,14723]
["WI","NGACB","NG","AC","WI Transportation Natural Gas",4440,4454,4047,3705,10009,4297,4321,4601,4463,4365,4280,3099,4054,3813,3612,3810,3214,2965,2750,1738,3059,2704,1875,2982,3969,3668,3861,4146,4572]
["AK","NGCCB","NG","CC","AK Commercial Natural Gas",20451,20937,21343,19872,20719,25134,27017,26903,27045,27662,27201,16015,15747,17338,18442,16968,18633,18867,17128,16701,15998,19647,20135,18711,17942,18491,15970,15355,14100]
["AL","NGCCB","NG","CC","AL Commercial Natural Gas",24992,24353,25941,26499,26297,26993,29961,33701,26721,28570,26706,27247,25745,26106,27119,25791,25067,24035,25793,24946,27492,25555,21896,25734,28124,25856,24172,23558,27359]
["CA","NGCCB","NG","CC","CA Commercial Natural Gas",294207,295187,292581,259816,267027,281816,243122,258267,298056,248298,235677,249600,242898,237552,236222,238473,250003,258379,257986,254462,253329,250867,258277,261502,244411,244468,245346,245783,256345]
["CO","NGCCB","NG","CC","CO Commercial Natural Gas",66489,70965,67702,72293,65872,67585,69960,69708,63528,59367,60753,65358,67429,63225,62356,63809,61661,64973,66817,63362,58642,57579,53756,60782,60625,56980,57378,55874,59892]
["DE","NGCCB","NG","CC","DE Commercial Natural Gas",4079,4281,5149,5380,5654,5947,6933,6841,5935,6533,5336,5867,7750,8756,8769,8693,8436,8951,9158,12053,12495,10784,10319,11691,12541,12350,12977,14022,16276]
["FL","NGCCB","NG","CC","FL Commercial Natural Gas",39349,43126,45884,45224,45064,43199,46671,38831,39707,37941,53090,52490,57802,56545,58332,59867,52221,52915,52508,51919,55374,54342,55683,61035,64460,61734,64199,63320,65590]
["IA","NGCCB","NG","CC","IA Commercial Natural Gas",44255,46978,46278,50480,48302,50572,54899,50643,43499,45759,45834,46064,46558,48219,46214,45435,43974,46838,56658,57093,51976,52338,44360,58243,59724,51756,52177,52468,60178]
["ID","NGCCB","NG","CC","ID Commercial Natural Gas",8774,9898,9200,11080,10472,10671,11851,11786,12122,13094,13745,13862,13999,12390,13528,13930,14204,14614,16727,16107,15360,17152,16084,18955,17266,17310,18386,20684,19892]
["KS","NGCCB","NG","CC","KS Commercial Natural Gas",55995,59168,53279,55303,52179,53285,57049,41575,41525,38764,40603,37730,39135,38252,37270,30039,28038,31090,34733,33151,32412,32769,26019,33792,37031,38326,35931,35791,41789]
["KY","NGCCB","NG","CC","KY Commercial Natural Gas",33080,35285,37475,39634,39025,42328,42989,40570,33579,36956,40231,36568,37264,39634,38291,37954,33537,35315,38484,36731,37948,35548,31734,38345,41022,36190,34497,34306,40433]
["MD","NGCCB","NG","CC","MD Commercial Natural Gas",24705,39070,43607,44834,45468,48049,47169,51484,59480,60056,57498,62041,66321,73239,72776,73060,65184,73484,72903,71600,69298,69374,66569,74228,78848,74110,74088,75700,80732]
["ME","NGCCB","NG","CC","ME Commercial Natural Gas",1686,1870,2238,2344,2415,2465,2607,2751,2497,2597,3194,3109,5382,5000,5012,5019,4954,6157,6270,5778,6055,6867,7525,8398,9327,10380,8814,9247,9938]
["MO","NGCCB","NG","CC","MO Commercial Natural Gas",60034,63741,61078,69940,66595,65538,73598,70518,62653,63920,63620,65332,62664,62363,62977,61565,57881,60376,65405,61781,61520,62811,55186,65433,73892,61929,58281,58224,70706]
["MS","NGCCB","NG","CC","MS Commercial Natural Gas",18121,18282,18888,19642,19828,20324,22877,22861,22469,21053,22607,22059,21985,23759,22764,21479,19899,21376,20734,19523,21593,20581,18111,19729,22816,20235,18628,18262,21575]
["ND","NGCCB","NG","CC","ND Commercial Natural Gas",10564,11226,10198,11281,11408,12226,12770,11414,10465,10474,11447,10760,11710,11050,10693,10260,9767,10769,11567,11591,10869,11774,11038,14147,15196,13385,12846,14027,15627]
["NE","NGCCB","NG","CC","NE Commercial Natural Gas",35899,39687,33766,33867,38353,39218,41116,33777,28992,27547,29039,28260,28419,28579,30147,27670,28436,30613,35204,32180,32122,32470,27003,33383,33773,31140,28556,30783,37471]
["NM","NGCCB","NG","CC","NM Commercial Natural Gas",25030,26049,29080,29080,24956,24418,27383,28017,26631,26431,26137,26411,24769,24288,26109,24780,23904,25527,25888,25398,25675,25591,25458,27607,26574,25999,26048,24591,26852]
["OH","NGCCB","NG","CC","OH Commercial Natural Gas",149250,156977,166431,170284,172977,181837,197194,192129,162923,173810,185436,179856,169540,186088,177962,173942,152699,166559,173786,167268,161791,166465,150404,174535,194152,178307,163844,168456,190846]
["OR","NGCCB","NG","CC","OR Commercial Natural Gas",20913,23014,20318,25023,24024,23417,26712,26751,27285,30229,29481,28690,28417,26294,26438,28627,28840,29960,31202,30504,27461,31034,29451,30832,29185,26962,28570,33987,30969]
["PA","NGCCB","NG","CC","PA Commercial Natural Gas",130622,129949,139103,136658,143466,148806,159911,149163,135755,148410,150410,143941,141340,155445,148204,150849,135369,151481,150241,149830,146902,146752,132519,156594,167738,159442,148851,152220,171616]
["SD","NGCCB","NG","CC","SD Commercial Natural Gas",8690,9644,9259,10835,10377,10834,11760,10609,9346,9612,10154,9664,10254,10408,9986,9886,9552,10362,11395,11587,11080,11157,9496,12528,12816,10995,11020,11403,13413]
["TN","NGCCB","NG","CC","TN Commercial Natural Gas",45077,47470,47975,52534,52386,52828,60371,56830,53976,53996,55344,54970,55434,58444,55993,56179,53512,53017,56105,53331,57501,52937,45611,54912,59054,54934,51734,50988,60951]
["UT","NGCCB","NG","CC","UT Commercial Natural Gas",17655,20697,17894,24426,28325,28537,30802,32449,32391,32056,32892,32543,35517,33067,32913,36297,35997,36370,39957,38749,40268,42032,36965,43452,39874,37439,40826,43053,44159]
["VA","NGCCB","NG","CC","VA Commercial Natural Gas",42788,45951,52751,55345,55031,58697,61590,64602,60837,63836,68386,62090,64926,66391,66496,68620,64554,68912,69507,70099,70669,65967,62327,70638,75749,72417,70953,71924,78566]
["WI","NGCCB","NG","CC","WI Commercial Natural Gas",66731,72012,71954,77925,79548,85812,95032,89683,82198,82646,81942,76744,86567,87950,82808,87244,87286,90222,98496,92728,83024,88287,78464,102141,110962,94398,92739,94094,104847]
["WV","NGCCB","NG","CC","WV Commercial Natural Gas",22912,22581,26009,25968,26580,27454,29738,27677,26565,28807,27952,29617,26271,28446,26637,26778,26279,24334,27159,25717,26809,26120,24462,26112,26320,25315,24935,24293,27361]
["AL","NGEIB","NG","EI","AL Electric Power Natural Gas",5656,5262,4953,6270,5664,9013,7772,12184,28573,25950,43363,71622,115193,88485,119970,107631,149728,181500,168893,232717,287408,349434,407721,339804,355113,410109,425641,391987,443242]
["AR","NGEIB","NG","EI","AR Electric Power Natural Gas",32657,28456,27691,21790,25574,33377,34795,25425,41357,41082,35292,27070,43124,58174,41334,50404,73045,65218,66231,85317,98514,109196,131825,95845,74137,113099,139024,130272,155902]
["CO","NGEIB","NG","EI","CO Electric Power Natural Gas",13432,13473,13445,12967,20407,24085,29075,27936,34736,43107,66799,89962,79516,80516,86787,95866,96532,128437,110429,119160,95210,88084,90079,93978,101851,99410,104972,105741,138525]
["CT","NGEIB","NG","EI","CT Electric Power Natural Gas",13074,15617,13914,11921,18847,29547,18328,24946,20948,31990,34829,32601,66423,42890,59727,64618,76747,74500,60155,71720,86627,110514,117541,109999,102964,123181,126241,111655,139856]
["FL","NGEIB","NG","EI","FL Electric Power Natural Gas",191639,204152,205664,190425,215022,374454,341069,353280,339674,380704,377526,389950,535170,553485,604037,652071,762892,794434,820012,935701,999482,1059418,1155145,1050503,1058227,1184190,1207869,1213640,1294916]
["GA","NGEIB","NG","EI","GA Electric Power Natural Gas",1979,859,1190,3096,1377,11395,5916,17215,34220,33374,42704,35330,57825,33045,47306,75567,99238,126607,99700,147456,179090,199891,312656,284247,297025,366509,391261,381812,384379]
["ID","NGEIB","NG","EI","ID Electric Power Natural Gas",0,0,0,0,0,0,189,1843,1822,1837,1780,10780,2662,9618,12230,11667,9869,12815,12731,12754,12583,8392,13761,25131,18619,28076,23635,21344,24228]
["IL","NGEIB","NG","EI","IL Electric Power Natural Gas",9425,13257,9611,16436,35443,39890,26320,45408,57645,54936,48119,47839,82819,32645,31383,59598,43690,63987,35245,33841,46576,48384,90330,52996,43145,85521,148834,145446,142826]
["KY","NGEIB","NG","EI","KY Electric Power Natural Gas",289,232,274,274,357,884,1870,2238,5908,5796,4286,4542,14037,3752,4956,17738,12631,19896,9824,8603,19715,15860,31877,14973,27657,53010,68524,84936,117730]
["LA","NGEIB","NG","EI","LA Electric Power Natural Gas",298620,282376,271417,255012,291545,338437,264714,288909,333578,334729,315288,252900,332550,244060,252476,293470,203256,231730,244048,229178,276781,299598,328476,273312,272974,352436,340719,287063,308929]
["ME","NGEIB","NG","EI","ME Electric Power Natural Gas",196,184,128,144,133,104,50,43,55,518,27758,82730,94229,62893,65737,51177,42588,35835,38703,38543,42371,35342,29488,21362,24397,18398,22833,13989,14450]
["MI","NGEIB","NG","EI","MI Electric Power Natural Gas",69139,72778,82615,88141,92412,105085,122096,124548,131386,134100,125972,131702,147296,104634,135474,132625,110391,125463,94815,85127,114841,114498,184389,113033,114280,170740,251612,220925,266003]
["MS","NGEIB","NG","EI","MS Electric Power Natural Gas",67383,63968,55666,40878,85691,115066,85950,75317,78975,108962,103452,153729,167833,99268,110894,139860,144440,188667,171430,186212,237415,245260,294122,238228,243158,341453,379093,351191,377458]
["MT","NGEIB","NG","EI","MT Electric Power Natural Gas",484,288,246,292,663,403,489,432,540,300,195,163,116,249,198,215,549,1045,524,668,718,4756,5503,7434,5775,6706,5546,4850,5343]
["NE","NGEIB","NG","EI","NE Electric Power Natural Gas",3613,3517,1862,1863,3044,3081,2335,2713,5119,4626,5604,4383,4830,4578,3296,8047,7829,11082,7273,3326,3961,4261,7865,4723,4340,4516,6171,6570,9745]
["NH","NGEIB","NG","EI","NH Electric Power Natural Gas",0,0,644,138,1296,2289,3,574,154,584,837,566,1148,29933,39471,47967,43122,41170,51080,39422,40480,48752,52017,30521,32214,43955,34795,26738,22213]
["NV","NGEIB","NG","EI","NV Electric Power Natural Gas",25103,23491,35659,41005,56963,63655,73493,77710,87085,93891,123932,111338,111780,118693,141092,153146,171759,176598,188184,198127,181286,166667,194179,187416,172458,218703,218506,204142,207309]
["NY","NGEIB","NG","EI","NY Electric Power Natural Gas",236776,235665,261582,247591,297020,440396,326937,422897,386314,442966,380101,364136,372540,267121,264240,310587,395505,416890,407253,375594,433703,443569,513642,469493,466028,485977,486453,397383,428066]
["OR","NGEIB","NG","EI","OR Electric Power Natural Gas",7586,11743,14937,17489,27068,19721,26857,24558,53887,50471,70669,84261,56793,75977,90544,89761,77038,104874,119029,111098,111386,61347,83180,104571,92780,118345,111722,109689,129964]
["PA","NGEIB","NG","EI","PA Electric Power Natural Gas",13972,7534,13303,23750,29903,40618,26449,20974,31126,32496,21298,23390,51662,42848,79010,83531,104400,148313,145766,216642,252182,314973,406963,378099,404325,456219,520118,544924,557750]
["SD","NGEIB","NG","EI","SD Electric Power Natural Gas",242,179,49,190,161,947,737,1764,2927,2575,3678,4615,1240,2174,1648,3597,3363,4277,2648,913,1611,1591,2527,4195,4018,6473,7852,6063,9815]
["TN","NGEIB","NG","EI","TN Electric Power Natural Gas",580,216,298,1567,1043,2094,581,1667,6347,6013,5423,2577,2655,5800,2320,5758,6877,7481,4534,3775,22608,26451,63585,37308,45989,70184,88257,75779,103093]
["UT","NGEIB","NG","EI","UT Electric Power Natural Gas",931,5479,6976,6629,9260,9132,4164,4184,6158,6708,11012,15844,15521,14546,9426,12781,30396,58750,58074,51758,50240,41435,48759,51128,60454,58477,61638,42298,63190]
["VA","NGEIB","NG","EI","VA Electric Power Natural Gas",10068,16493,24671,41520,41890,46418,32685,19936,39251,42864,38075,34110,35786,36230,50096,69103,62092,93255,80060,98400,144255,146309,196074,177551,165522,256877,310799,327393,374014]
["WI","NGEIB","NG","EI","WI Electric Power Natural Gas",2726,2747,2920,3647,4462,10081,7485,16042,24697,21620,21472,22722,20025,23804,21238,59222,44484,55074,41713,41624,43076,48280,88409,62314,61589,102997,121819,109165,131826]
["WV","NGEIB","NG","EI","WV Electric Power Natural Gas",139,172,589,378,558,749,323,590,517,502,519,2688,1954,2202,1491,2377,3834,4005,1970,1164,1550,2673,2453,2960,6984,14117,10901,11204,11531]
["AL","NGICB","NG","IC","AL Industrial Natural Gas",160019,167875,187025,200942,200735,224703,221847,219460,217509,227420,225183,173593,178701,178393,183460,171080,172666,172511,164045,152140,164057,173454,193790,201987,207914,209554,214096,216675,238425]
["AZ","NGICB","NG","IC","AZ Industrial Natural Gas",19046,19722,20433,21812,26657,28773,27310,28550,28673,27498,21470,21401,17513,15489,21095,17395,18816,19872,20734,18293,19586,22024,23135,22736,23225,21312,20589,20140,19933]
["CT","NGICB","NG","IC","CT Industrial Natural Gas",26296,33673,37392,37836,31604,33125,33382,35519,33343,32805,33077,26212,29753,24168,21028,20987,22243,23339,23001,25158,24730,26981,27778,30550,29159,26296,24947,25259,25303]
["DC","NGICB","NG","IC","DC Industrial Natural Gas",0,0,0,0,0,0,0,0,0,0,0,0,0,0,0,0,0,0,0,0,0,0,0,0,0,0,0,0,0]
["GA","NGICB","NG","IC","GA Industrial Natural Gas",166369,171611,176533,171913,179056,188450,185944,179611,168956,158026,169155,142659,146808,164098,165193,161694,164340,157087,154289,143614,149901,147610,148708,160386,163502,161639,156602,154378,162764]
["HI","NGICB","NG","IC","HI Industrial Natural Gas",0,0,0,0,0,0,0,352,393,488,561,551,504,465,467,455,472,521,450,358,353,379,371,390,385,434,81,83,87]
["IL","NGICB","NG","IC","IL Industrial Natural Gas",281825,308581,305873,311550,311595,327422,328228,324410,309751,311946,307773,282872,294361,274390,267144,264419,249385,258646,267748,238153,288206,286530,280108,298649,301473,274511,263680,267326,270671]
["IN","NGICB","NG","IC","IN Industrial Natural Gas",232298,231027,248266,266711,273479,278650,292056,293278,292192,317327,306086,256851,260867,271212,265246,268876,268431,278809,275888,248910,293194,330979,349388,362336,382762,381682,384616,394814,438706]
["LA","NGICB","NG","IC","LA Industrial Natural Gas",1216419,1174259,1204264,1239061,1211573,1252940,1266022,1398034,1203198,1100544,1176360,969451,1013385,985673,1024459,961172,1035795,1081722,1008196,972783,1084100,1117156,1149063,1125949,1145069,1136076,1229675,1271319,1341378]
["MA","NGICB","NG","IC","MA Industrial Natural Gas",45888,56920,73653,73972,67036,65167,63429,66078,63994,82775,78191,84867,88957,45370,44781,48475,43738,47057,45279,40606,45722,48958,45418,48202,46671,45859,47103,48408,48978]
["MI","NGICB","NG","IC","MI Industrial Natural Gas",302560,291581,323612,255826,248201,264397,268800,265691,234924,258573,256154,240483,254735,229012,224177,225447,202382,159710,152200,140000,154139,160427,170015,182911,191322,184259,186112,184301,190845]
["MN","NGICB","NG","IC","MN Industrial Natural Gas",88694,93353,94044,98842,95504,107575,104313,109264,106572,106172,107454,93531,96346,95547,97785,96152,104729,115784,147233,132232,160037,159371,162975,164365,179200,163426,168510,170999,167423]
["MT","NGICB","NG","IC","MT Industrial Natural Gas",11998,11885,14407,15336,16567,20984,21118,21695,24023,24645,27054,24491,25759,24813,25672,28302,33676,32599,33177,25028,22812,22964,23346,24655,26036,26417,25485,27812,29904]
["NC","NGICB","NG","IC","NC Industrial Natural Gas",88950,87579,94079,95548,98256,110273,107888,115559,110858,111122,109823,92615,101908,92191,93332,90008,90180,91356,91970,84392,93943,100453,103612,111214,110588,108798,109145,111220,120207]
["NH","NGICB","NG","IC","NH Industrial Natural Gas",3322,3481,3861,3843,4528,4653,5010,5894,5942,5963,9030,9221,8458,8198,7707,7028,6082,6495,5479,4848,6216,7346,7233,8106,8716,8637,8709,9790,10230]
["NJ","NGICB","NG","IC","NJ Industrial Natural Gas",92576,103283,179050,196306,198620,216166,202829,199716,206260,205073,91550,89403,83625,80449,80042,77863,68012,65293,55786,49868,50552,51162,56312,64388,64258,58007,63588,56551,66738]
["NY","NGICB","NG","IC","NY Industrial Natural Gas",105117,123278,152833,146524,166305,221206,221398,212108,177783,105175,100233,87898,95443,85843,81061,83635,80185,79799,82400,74754,77834,77677,76960,82933,87403,86068,83640,85731,94622]
["OH","NGICB","NG","IC","OH Industrial Natural Gas",294946,293642,306926,314138,322072,344541,358132,351232,345597,339134,354461,309127,318671,301945,316677,307652,298631,305830,295078,243188,279355,277237,274345,285614,326791,306111,310674,317025,327675]
["PA","NGICB","NG","IC","PA Industrial Natural Gas",250883,243114,248761,254729,248267,261387,254568,248313,240513,244249,243571,214556,220452,208221,207870,197525,202477,203700,205203,193069,228806,257116,294905,357302,419645,404961,418060,432717,472312]
["RI","NGICB","NG","IC","RI Industrial Natural Gas",4498,27593,48714,9712,42300,36049,28385,25351,43424,35570,8417,6307,4590,4566,5679,6014,6505,6883,6940,7924,8218,7640,8079,8416,8237,8867,8736,8812,9080]
["TN","NGICB","NG","IC","TN Industrial Natural Gas",113621,119653,130184,128697,122724,129760,130620,143225,148956,148483,134555,122999,122118,116208,102012,98318,97255,95567,95416,85888,96883,108498,107135,113060,120594,119161,127998,140140,153070]
["TX","NGICB","NG","IC","TX Industrial Natural Gas",2194146,2152804,2129380,2177425,2157411,2280599,2531930,2421834,2445036,2226967,2477371,2370531,2320655,2195620,2157514,1673595,1632320,1654258,1696930,1574577,1800506,1831177,1928322,1981145,2055927,2094772,2129154,2153454,2312619]
["VA","NGICB","NG","IC","VA Industrial Natural Gas",78356,62853,72190,77522,90290,101829,88900,90382,98165,100306,80786,69423,79707,73854,77873,79722,76850,77660,69550,65414,70108,75276,82693,87518,92305,99041,100127,106156,109020]
["VT","NGICB","NG","IC","VT Industrial Natural Gas",1845,1696,1950,2041,2015,2150,1982,2362,2130,2935,3996,2628,3097,2494,2794,2639,2765,2990,3015,2904,2929,2834,2743,1323,1890,2091,2224,2257,2362]
["WV","NGICB","NG","IC","WV Industrial Natural Gas",61720,52189,55680,57757,58377,63971,60006,68989,60284,53572,60700,51600,58532,50714,48993,42994,45813,45257,41312,39481,41097,45712,54370,63407,84090,92361,104796,118633,134271]
["WY","NGICB","NG","IC","WY Industrial Natural Gas",73787,72416,102252,79051,83617,72629,74180,71232,79240,63978,66382,65620,75431,79966,75236,75822,75612,106190,104207,102336,107882,117021,118077,112905,98946,85417,90063,114439,128022]
["AR","NGRCB","NG","RC","AR Residential Natural Gas",39486,41312,39743,46117,42431,44579,47509,43019,39139,36894,43159,37695,40085,39161,35078,33927,32467,33041,36028,33635,36509,34241,26454,35663,38558,33463,27469,26080,35466]
["AZ","NGRCB","NG","RC","AZ Residential Natural Gas",31301,32122,29273,28955,30516,27915,27990,31765,36702,33466,35089,36475,35921,36265,38864,36602,36732,39305,39461,35367,38445,39094,35693,40729,33442,36047,36579,34332,36517]
["CT","NGRCB","NG","RC","CT Residential Natural Gas",38694,38334,43570,43353,42899,42036,45019,41694,36248,39281,42716,41968,41250,46819,45252,45650,40103,44385,43815,45020,43815,45951,42340,47716,52615,52337,47327,49815,54702]
["DC","NGRCB","NG","RC","DC Residential Natural Gas",15258,15377,16703,16705,16039,15784,17446,16138,13607,14444,15854,13283,14591,15565,14661,14573,11698,13732,13592,13937,13799,12583,11587,13610,14854,14088,11880,12368,13584]
["GA","NGRCB","NG","RC","GA Residential Natural Gas",92702,99272,110920,118781,108601,117648,129982,117568,110308,101447,143406,124111,129902,133730,130142,128939,113510,115129,122159,121368,141661,115423,99148,123480,136706,120795,119188,114364,136713]
["HI","NGRCB","NG","RC","HI Residential Natural Gas",605,589,592,592,607,601,571,533,565,552,560,557,571,562,549,535,542,528,520,530,529,509,503,585,559,562,560,558,568]
["IL","NGRCB","NG","RC","IL Residential Natural Gas",451886,475833,483903,505733,483714,510877,548974,507791,418897,455021,477379,435642,465427,480558,449459,443991,404471,439314,472366,445693,419761,422588,364839,459893,490661,412894,399189,388810,451040]
["IN","NGRCB","NG","RC","IN Residential Natural Gas",143053,148537,154395,166075,159485,162971,181906,170987,142506,154254,165287,150897,157872,171596,149882,151334,129833,145762,154674,141866,140134,133699,116929,146575,159397,136142,129516,128855,150829]
["LA","NGRCB","NG","RC","LA Residential Natural Gas",55601,57228,57667,58649,55036,54350,59135,59818,51242,47044,52919,50174,50728,48840,44132,42972,34709,38423,38554,37562,46617,40136,32286,39491,45679,37738,32084,29680,38629]
["MA","NGRCB","NG","RC","MA Residential Natural Gas",110572,107035,124366,126147,122539,108528,117338,114486,103617,112073,119146,111474,113101,129420,115980,120356,104894,116997,134537,136952,129812,132932,119220,120685,129937,130373,115469,124802,134282]
["MI","NGRCB","NG","RC","MI Residential Natural Gas",341919,349179,370596,382718,377458,395386,413154,395146,334743,365309,381088,354353,375477,397104,371133,363974,321453,335707,350007,334202,309303,322392,281450,341223,361293,322444,306724,312803,342460]
["MN","NGRCB","NG","RC","MN Residential Natural Gas",107372,118548,114804,124754,123590,130416,144898,131205,112520,121204,131740,126349,136168,139082,133826,130201,119109,131429,142782,137340,124219,126425,111168,143059,151404,122089,121709,127705,147880]
["NC","NGRCB","NG","RC","NC Residential Natural Gas",36126,39192,44037,48757,49161,51017,60938,54813,52866,54743,65864,59227,61063,68180,65030,66209,58471,60316,65810,67349,75829,62479,57319,70640,77048,66792,66775,62080,75414]
["ND","NGRCB","NG","RC","ND Residential Natural Gas",9477,10813,10129,11360,11279,11769,13233,11939,10475,11049,11346,10876,11760,11983,11366,11077,10069,11190,11983,12151,11115,11735,10218,12917,13574,11467,10941,11925,13710]
["NJ","NGRCB","NG","RC","NJ Residential Natural Gas",175838,181049,203557,203249,226049,201166,230905,224526,203964,217754,227796,223251,218030,253196,241581,240343,204354,236069,227801,232559,224850,219187,196706,236942,258878,248407,224984,230803,257503]
["NM","NGRCB","NG","RC",{"$f":"A2167&\" \"&VLOOKUP(D2167,SectorCode,2,FALSE)&\" \"&VLOOKUP(C2167,FuelCode,2,FALSE)","v":"NM Residential Natural Gas"},29733,31025,32782,33191,30859,29352,34856,37444,35119,34667,34762,33825,32570,32342,35217,34059,31086,34346,34947,33319,35982,35060,33247,37122,33484,34402,34005,31221,35637]
["OH","NGRCB","NG","RC","OH Residential Natural Gas",320670,335928,352897,367580,356048,371392,389086,370533,308493,330058,358454,321588,333649,355407,335375,336731,282950,310730,318851,304547,293468,295097,259358,308500,339908,305352,274895,277612,321286]
["OK","NGRCB","NG","RC","OK Residential Natural Gas",66998,70112,67205,80009,71002,69706,78360,72183,66964,62882,67406,66330,69149,67674,61281,61145,54493,61616,68531,64331,67438,63194,50645,68448,71692,62142,53010,53248,69520]
["RI","NGRCB","NG","RC","RI Residential Natural Gas",18198,17836,20333,20293,17972,17840,20718,18814,16907,17105,19530,18464,18075,20703,19995,19482,17158,18142,18122,18343,17332,17267,16364,18789,20287,20606,17732,18983,21136]
["SC","NGRCB","NG","RC","SC Residential Natural Gas",18915,20144,22998,25053,24218,25847,30291,26544,26299,26412,29885,28532,28531,30228,30349,29614,25870,26075,28002,28011,33165,27428,23280,29158,32652,29277,28430,25352,31525]
["TX","NGRCB","NG","RC","TX Residential Natural Gas",219535,231096,225431,238378,222559,215150,237724,242059,209377,182537,200025,213389,216915,212686,197423,190300,170587,205049,197875,196905,233911,205559,174830,212250,242475,218847,180599,168814,233397]
["US","NGRCB","NG","RC","US Residential Natural Gas",4519056,4683709,4819689,5097770,4981010,4983520,5390535,5124955,4671034,4856823,5104047,4901935,5006146,5223765,4992951,4957655,4482650,4848708,5017569,4899378,4887375,4817368,4252794,5037081,5257900,4794495,4525157,4591884,5200349]
["VT","NGRCB","NG","RC","VT Residential Natural Gas",2112,2177,2510,2525,2428,2290,2561,2662,2484,2595,2877,2752,2772,3137,3124,3102,2877,3210,3090,3199,3100,3240,3048,3466,3891,3929,3602,3614,4220]
["WA","NGRCB","NG","RC","WA Residential Natural Gas",41556,47656,44471,55294,55426,54988,65107,64828,64826,75553,74824,87354,75519,72983,72909,75802,77752,82188,87054,86682,78028,87884,82237,86129,82249,76475,82329,98296,90806]
["WY","NGRCB","NG","RC","WY Residential Natural Gas",12622,12712,11527,13371,12212,12918,14360,13897,13554,12724,12742,11588,13917,12708,12641,12157,12156,12831,13711,13053,13317,13736,11895,14217,13803,12273,12891,13307,13985]
["AK","PCEIB","PC","EI","AK Electric Power Petroleum Coke",0,0,0,0,0,0,0,0,0,0,0,0,0,0,0,0,0,0,0,0,0,0,0,0,0,0,0,0,0]
["AZ","PCEIB","PC","EI","AZ Electric Power Petroleum Coke",0,0,0,0,0,0,0,0,0,0,0,0,0,0,0,0,0,0,0,0,0,0,0,0,0,0,0,0,0]
["CA","PCEIB","PC","EI","CA Electric Power Petroleum Coke",4931,7590,8934,9075,11755,15736,17460,16479,20545,18275,19995,19273,20192,21872,19869,22093,20349,20340,17473,16824,12344,10566,2067,272,244,0,0,0,0]
["DC","PCEIB","PC","EI","DC Electric Power Petroleum Coke",0,0,0,0,0,0,0,0,0,0,0,0,0,0,0,0,0,0,0,0,0,0,0,0,0,0,0,0,0]
["DE","PCEIB","PC","EI","DE Electric Power Petroleum Coke",8492,7914,10188,0,0,0,0,0,0,0,0,0,0,0,0,0,0,0,0,0,0,0,0,0,0,0,0,0,0]
["HI","PCEIB","PC","EI","HI Electric Power Petroleum Coke",0,0,0,0,0,0,0,0,0,0,0,0,0,0,0,0,0,0,0,0,0,0,0,0,0,0,0,0,0]
["IA","PCEIB","PC","EI","IA Electric Power Petroleum Coke",0,0,0,0,0,0,0,0,0,0,0,0,0,0,355,0,1140,1465,870,300,767,792,135,0,0,0,0,0,0]
["IN","PCEIB","PC","EI","IN Electric Power Petroleum Coke",5760,2087,1815,0,0,495,1797,5470,7392,6476,7070,2090,3737,2750,2877,1088,0,0,0,102,0,8187,5846,9808,10591,11054,4538,0,0]
["KS","PCEIB","PC","EI","KS Electric Power Petroleum Coke",0,0,0,0,0,0,0,0,0,0,0,0,0,0,0,0,0,2150,1476,1530,1136,378,0,0,0,0,0,0,0]
["MA","PCEIB","PC","EI","MA Electric Power Petroleum Coke",0,0,0,0,0,0,0,0,0,0,0,0,0,0,0,0,0,0,0,0,0,0,0,0,0,0,0,0,0]
["MD","PCEIB",{"$f":"MID(B2207,1,2)","v":"PC"},{"$f":"MID(B2207,3,2)","v":"EI"},"MD Electric Power Petroleum Coke",0,0,0,0,0,0,0,0,0,0,0,0,0,0,0,0,0,0,0,0,0,0,0,0,0,0,0,0,0]
["MN","PCEIB","PC","EI","MN Electric Power Petroleum Coke",4380,5796,6409,6487,5981,4639,6353,7477,6272,7597,6504,5903,6351,7899,6891,6343,4332,1923,1583,0,0,0,0,0,0,0,0,0,0]
["MO","PCEIB","PC","EI","MO Electric Power Petroleum Coke",0,0,0,5511,7251,6713,0,0,0,0,0,5538,4615,538,1263,646,0,0,16,404,107,0,0,0,0,0,0,0,0]
["NC","PCEIB","PC","EI","NC Electric Power Petroleum Coke",0,0,0,0,0,0,0,36,595,0,0,0,0,0,0,0,0,0,0,0,0,0,0,0,0,0,0,0,0]
["ND","PCEIB","PC","EI","ND Electric Power Petroleum Coke",0,0,0,0,0,0,0,0,0,0,0,0,0,0,0,0,0,0,0,0,0,0,0,0,0,0,0,0,0]
["NJ","PCEIB","PC","EI","NJ Electric Power Petroleum Coke",0,0,0,0,0,0,0,0,0,0,0,0,0,0,0,0,0,0,0,0,0,0,0,0,0,0,0,0,0]
["NM","PCEIB","PC","EI","NM Electric Power Petroleum Coke",0,0,0,0,0,0,0,0,0,0,0,0,0,0,0,0,0,0,0,0,0,0,0,0,0,0,0,0,0]
["OH","PCEIB","PC","EI","OH Electric Power Petroleum Coke",0,0,0,0,0,0,0,0,0,0,0,0,0,0,10827,10557,10502,8580,10864,10121,11051,11533,13375,14881,11895,13497,12293,10872,15719]
["OK","PCEIB","PC","EI","OK Electric Power Petroleum Coke",0,0,0,0,0,0,0,0,0,0,0,0,0,0,0,0,0,0,0,0,0,0,0,0,0,0,0,0,0]
["RI","PCEIB","PC","EI","RI Electric Power Petroleum Coke",0,0,0,0,0,0,0,0,0,0,0,0,0,0,0,0,0,0,0,0,0,0,0,0,0,0,0,0,0]
["SC","PCEIB","PC","EI","SC Electric Power Petroleum Coke",0,0,0,0,0,0,0,0,0,0,0,0,0,479,4599,2531,139,0,529,3600,255,0,0,0,0,0,0,0,0]
["TX","PCEIB","PC","EI","TX Electric Power Petroleum Coke",0,0,0,17292,14126,14816,15284,14891,15186,14657,17087,12356,17465,7617,15029,15587,16734,11826,10548,14582,5398,6426,719,1331,0,0,0,0,0]
["UT","PCEIB","PC","EI","UT Electric Power Petroleum Coke",0,0,0,0,0,0,0,0,0,0,0,0,0,0,0,0,0,0,0,0,0,0,0,0,0,0,0,0,0]
["WA","PCEIB","PC","EI","WA Electric Power Petroleum Coke",0,0,0,0,0,0,0,0,0,0,2,0,0,0,0,0,0,0,0,0,0,0,0,0,0,0,0,0,0]
["WI","PCEIB","PC","EI","WI Electric Power Petroleum Coke",0,0,256,663,969,866,798,1072,1093,1211,1159,1194,1389,1709,4896,4826,7281,7780,7429,5561,5681,4342,900,885,1282,1043,1215,1674,1578]
["AK","PCICB","PC","IC","AK Industrial Petroleum Coke",0,0,0,0,0,0,0,0,0,0,0,0,0,0,0,0,0,0,0,0,0,0,0,0,0,0,0,0,0]
["AL","PCICB","PC","IC","AL Industrial Petroleum Coke",0,0,0,0,0,0,0,0,0,0,0,0,0,0,0,0,0,0,0,0,0,0,0,0,0,0,0,0,0]
["CA","PCICB","PC","IC","CA Industrial Petroleum Coke",74601,77486,78431,73671,84213,87077,96548,94662,90638,92359,79107,81196,92524,78061,85926,86829,82754,80556,65810,59833,53436,60066,63918,62795,63027,52075,62562,62637,68245]
["CO","PCICB","PC","IC","CO Industrial Petroleum Coke",1792,1948,1810,1885,2036,1986,2053,2079,2389,2580,2423,2615,2513,2312,2654,2662,2664,2871,2674,3119,3138,3250,3156,3571,3351,3288,3043,3263,3263]
["DE","PCICB","PC","IC","DE Industrial Petroleum Coke",16634,7248,18034,17540,17732,17352,17911,18164,16409,16719,10254,9056,9706,10924,8866,9385,8049,8508,8580,0,7021,10145,8488,7978,8645,8840,8909,8921,8299]
["FL","PCICB","PC","IC","FL Industrial Petroleum Coke",0,0,0,0,0,0,0,0,0,0,0,0,0,0,0,0,0,0,0,0,0,0,0,0,0,0,0,0,0]
["IA","PCICB","PC","IC","IA Industrial Petroleum Coke",0,0,0,0,0,0,0,0,0,0,0,0,0,0,0,0,0,0,0,0,0,0,0,3228,3557,1690,1978,1460,1899]
["ID","PCICB","PC","IC","ID Industrial Petroleum Coke",0,0,0,0,0,0,0,0,0,0,0,0,0,0,0,0,0,0,0,0,0,0,0,0,0,0,0,0,0]
["KS","PCICB","PC","IC","KS Industrial Petroleum Coke",10577,10127,10571,8796,8462,8404,7115,6971,7139,7866,7756,7412,7455,7425,7252,8101,7890,7519,7239,7470,7991,8151,8581,7243,7387,7815,8085,8022,7871]
["KY","PCICB","PC","IC","KY Industrial Petroleum Coke",23299,21282,28893,23373,22875,22033,22711,18160,31831,38280,31269,56440,51146,48438,64308,60915,70204,62789,60619,64774,38558,28351,35631,25468,26596,35672,38443,29222,31578]
["MD","PCICB","PC","IC","MD Industrial Petroleum Coke",7487,6547,9479,6843,8469,8012,8441,5878,12303,13692,9337,19223,18810,17982,25135,20965,0,0,0,0,0,0,0,0,0,0,0,0,0]
["ME","PCICB","PC","IC","ME Industrial Petroleum Coke",0,0,0,0,0,0,0,0,0,0,0,0,0,0,0,0,0,0,0,0,0,0,0,0,0,0,0,0,0]
["MO","PCICB","PC","IC","MO Industrial Petroleum Coke",9008,7878,12014,8654,10465,9900,10430,7263,15555,19411,13237,25586,22043,23054,32225,29864,35260,31210,30187,21607,20223,13336,15806,9859,10990,15609,2430,0,3796]
["MS","PCICB","PC","IC","MS Industrial Petroleum Coke",6640,6488,7118,8210,5729,5610,5854,5855,5734,5712,5776,5684,5569,5502,5830,5522,7249,7465,6854,7128,7578,7385,7439,6784,6331,6450,6639,6017,5627]
["ND","PCICB","PC","IC","ND Industrial Petroleum Coke",2357,2309,2468,2558,2460,2444,2449,2399,2415,2573,2537,2424,2460,2450,2420,2582,2444,2312,2204,2275,2386,2433,2562,2452,2207,2288,2364,2351,2307]
["NE","PCICB","PC","IC","NE Industrial Petroleum Coke",0,0,0,0,0,0,0,0,0,0,0,0,0,0,0,0,0,0,0,0,0,0,0,0,0,0,0,0,0]
["NM","PCICB",{"$f":"MID(B2271,1,2)","v":"PC"},{"$f":"MID(B2271,3,2)","v":"IC"},"NM Industrial Petroleum Coke",2923,2792,3119,3518,3286,3217,3357,3358,3289,3276,3313,3160,3096,3531,3742,3709,4078,3817,3505,3645,3875,3777,3255,2967,2773,2823,2905,3131,2697]
["NV","PCICB","PC","IC","NV Industrial Petroleum Coke",0,0,0,0,0,0,0,0,0,0,0,0,0,0,0,0,0,0,0,0,0,0,0,0,0,0,0,0,0]
["OK","PCICB","PC","IC","OK Industrial Petroleum Coke",12265,12093,12922,13480,10057,9989,10135,9930,10611,11221,11526,11089,11441,11758,11605,12535,11764,11131,10607,10946,11667,11706,12282,11241,9921,10694,10644,10927,11229]
["OR","PCICB","PC","IC","OR Industrial Petroleum Coke",8944,7822,11325,3268,3952,3739,3939,2743,8612,14200,6052,0,0,0,0,0,0,0,0,0,0,0,0,0,0,0,0,0,0]
["SC","PCICB","PC","IC","SC Industrial Petroleum Coke",8208,7178,10392,6666,7165,7626,8951,6925,14495,18799,12819,23584,20769,20656,28874,26758,31593,27964,27047,32987,17608,11612,13762,8585,9569,13710,10673,7456,8336]
["SD","PCICB","PC","IC","SD Industrial Petroleum Coke",0,0,0,0,0,0,0,0,0,0,0,0,0,0,0,0,0,0,0,0,0,0,0,0,0,0,0,0,0]
["US","PCICB","PC","IC","US Industrial Petroleum Coke",714218,692647,797709,725298,723159,721294,756838,727410,858485,935764,796069,857569,842088,824694,937790,894996,938164,909986,870294,805147,694485,663238,717010,663707,653829,663572,652905,610404,628897]
["UT","PCICB","PC","IC","UT Industrial Petroleum Coke",4111,4410,4097,3804,3787,3693,3933,3983,4366,4629,4470,4520,4771,4537,5007,5244,5206,5611,5208,5977,6215,6435,6298,4916,5551,5162,5665,5589,4954]
["WA","PCICB","PC","IC","WA Industrial Petroleum Coke",65998,62160,82771,58463,67009,65004,68612,51627,97547,110946,73145,28276,25648,25471,34680,41661,45705,42837,48401,48119,34868,28700,35518,28742,29862,39238,31668,26377,27000]
["WI","PCICB","PC","IC","WI Industrial Petroleum Coke",2299,2752,2612,4878,5218,5233,5310,4868,4753,5561,4557,5662,6543,6193,5557,5640,6200,6014,5994,5969,5767,5661,5626,5608,4761,3689,2137,868,855]
["AK","PPICB","PP","IC","AK Industrial Pentanes Plus",0,0,0,0,0,0,0,0,0,0,0,0,0,0,0,0,0,0,0,0,0,0,0,0,0,0,0,0,0]
["AL","PPICB","PP","IC","AL Industrial Pentanes Plus",0,0,0,0,0,0,0,0,0,0,0,0,0,0,0,0,0,0,0,0,0,0,0,0,0,0,0,0,0]
["CA","PPICB","PP","IC",{"$f":"A2295&\" \"&VLOOKUP(D2295,SectorCode,2,FALSE)&\" \"&VLOOKUP(C2295,FuelCode,2,FALSE)","v":"CA Industrial Pentanes Plus"},0,0,0,0,0,0,0,0,0,0,0,0,0,0,0,0,0,0,0,0,0,0,0,0,0,0,0,0,0]
["CO","PPICB","PP","IC","CO Industrial Pentanes Plus",0,0,0,0,0,0,0,0,0,0,0,0,0,0,0,0,0,0,0,0,0,0,0,0,0,0,0,0,0]
["DE","PPICB","PP","IC","DE Industrial Pentanes Plus",0,0,0,0,0,0,0,0,0,0,0,0,0,0,0,0,0,0,0,0,0,0,0,0,0,0,0,0,0]
["FL","PPICB","PP","IC","FL Industrial Pentanes Plus",0,0,0,0,0,0,0,0,0,0,0,0,0,0,0,0,0,0,0,0,0,0,0,0,0,0,0,0,0]
["HI","PPICB","PP","IC","HI Industrial Pentanes Plus",0,0,0,0,0,0,0,0,0,0,0,0,0,0,0,0,0,0,0,0,0,0,0,0,0,0,0,0,0]
["IL","PPICB","PP","IC","IL Industrial Pentanes Plus",0,0,0,0,0,0,0,0,0,0,0,0,0,0,0,0,0,0,0,0,0,0,0,0,0,0,0,0,0]
["KY","PPICB","PP","IC","KY Industrial Pentanes Plus",0,0,0,0,0,0,0,0,0,0,0,0,0,0,0,0,0,0,0,0,0,0,0,0,0,0,0,0,0]
["LA","PPICB","PP","IC","LA Industrial Pentanes Plus",97919,115014,126174,129984,132505,132190,138866,128666,112663,135696,107892,69006,48339,45701,44093,37327,25563,31378,25662,19526,21706,7632,11785,13152,13035,23664,16540,25475,32988]
["ME","PPICB","PP","IC","ME Industrial Pentanes Plus",0,0,0,0,0,0,0,0,0,0,0,0,0,0,0,0,0,0,0,0,0,0,0,0,0,0,0,0,0]
["MI","PPICB","PP","IC","MI Industrial Pentanes Plus",0,0,0,0,0,0,0,0,0,0,0,0,0,0,0,0,0,0,0,0,0,0,0,0,0,0,0,0,0]
["MS","PPICB","PP","IC","MS Industrial Pentanes Plus",0,0,0,0,0,0,0,0,0,0,0,0,0,0,0,0,0,0,0,0,0,0,0,0,0,0,0,0,0]
["MT","PPICB","PP","IC","MT Industrial Pentanes Plus",0,0,0,0,0,0,0,0,0,0,0,0,0,0,0,0,0,0,0,0,0,0,0,0,0,0,0,0,0]
["NE","PPICB","PP","IC","NE Industrial Pentanes Plus",0,0,0,0,0,0,0,0,0,0,0,0,0,0,0,0,0,0,0,0,0,0,0,0,0,0,0,0,0]
["NH","PPICB","PP","IC","NH Industrial Pentanes Plus",0,0,0,0,0,0,0,0,0,0,0,0,0,0,0,0,0,0,0,0,0,0,0,0,0,0,0,0,0]
["NV","PPICB","PP","IC","NV Industrial Pentanes Plus",0,0,0,0,0,0,0,0,0,0,0,0,0,0,0,0,0,0,0,0,0,0,0,0,0,0,0,0,0]
["NY","PPICB","PP","IC","NY Industrial Pentanes Plus",0,0,0,0,0,0,0,0,0,0,0,0,0,0,0,0,0,0,0,0,0,0,0,0,0,0,0,0,0]
["OR","PPICB","PP","IC","OR Industrial Pentanes Plus",0,0,0,0,0,0,0,0,0,0,0,0,0,0,0,0,0,0,0,0,0,0,0,0,0,0,0,0,0]
["PA","PPICB","PP","IC","PA Industrial Pentanes Plus",0,0,0,0,0,0,0,0,0,0,0,0,0,0,0,0,0,0,0,0,0,0,0,0,0,0,0,0,0]
["SD","PPICB","PP","IC","SD Industrial Pentanes Plus",0,0,0,0,0,0,0,0,0,0,0,0,0,0,0,0,0,0,0,0,0,0,0,0,0,0,0,0,0]
["TN","PPICB","PP","IC","TN Industrial Pentanes Plus",0,0,0,0,0,0,0,0,0,0,0,0,0,0,0,0,0,0,0,0,0,0,0,0,0,0,0,0,0]
["UT","PPICB","PP","IC","UT Industrial Pentanes Plus",0,0,0,0,0,0,0,0,0,0,0,0,0,0,0,0,0,0,0,0,0,0,0,0,0,0,0,0,0]
["VA","PPICB","PP","IC","VA Industrial Pentanes Plus",0,0,0,0,0,0,0,0,0,0,0,0,0,0,0,0,0,0,0,0,0,0,0,0,0,0,0,0,0]
["WI","PPICB","PP","IC","WI Industrial Pentanes Plus",0,0,0,0,0,0,0,0,0,0,0,0,0,0,0,0,0,0,0,0,0,0,0,0,0,0,0,0,0]
["WV","PPICB","PP","IC","WV Industrial Pentanes Plus",0,0,0,0,0,0,0,0,0,0,0,0,0,0,0,0,0,0,0,0,0,0,0,0,0,0,0,0,0]
["AL","RFACB","RF","AC","AL Transportation Residual Fuel",18015,20158,21983,20374,14566,16367,15393,12210,5194,5455,18177,4532,13319,6352,7972,6426,9378,8465,7093,5069,5836,6655,6587,5028,5530,3385,5939,6404,4328]
["AR","RFACB","RF","AC","AR Transportation Residual Fuel",0,0,0,0,0,0,0,0,0,0,0,0,0,0,0,7,0,0,0,0,0,0,0,0,0,0,0,0,0]
["CO","RFACB","RF","AC","CO Transportation Residual Fuel",0,0,0,0,8,0,1,0,0,0,0,0,0,0,0,0,0,0,0,0,0,0,0,0,0,0,0,0,0]
["CT","RFACB","RF","AC","CT Transportation Residual Fuel",531,572,275,195,140,72,226,154,88,77,137,64,7,14,139,139,31,94,128,153,372,410,163,0,0,0,0,0,0]
["FL","RFACB","RF","AC","FL Transportation Residual Fuel",62532,52170,64545,73060,63318,53033,51090,53344,48183,47836,62726,53364,65620,28446,80170,84422,88205,83363,26707,19498,89523,84860,66494,57359,55667,51174,51929,57890,86801]
["GA","RFACB","RF","AC","GA Transportation Residual Fuel",8215,7284,20986,15932,11601,8698,7778,6951,5733,4747,5172,4087,11282,12518,23967,27986,50098,35537,44552,42134,53499,67144,39062,26914,11979,9536,7427,5866,9707]
["ID","RFACB","RF","AC","ID Transportation Residual Fuel",0,0,0,0,0,0,0,0,0,0,0,0,0,0,0,0,0,0,0,0,0,0,0,0,0,0,0,0,0]
["IL","RFACB","RF","AC","IL Transportation Residual Fuel",321,84,196,232,314,223,190,297,231,190,580,842,466,752,100,145,293,233,216,151,0,0,135,136,8,10,6,0,134]
["KY","RFACB","RF","AC","KY Transportation Residual Fuel",0,0,0,0,0,0,0,0,0,0,0,4,10,20,38,17,0,0,0,0,37,0,0,0,0,0,0,0,0]
["LA","RFACB","RF","AC","LA Transportation Residual Fuel",136662,155224,181698,167120,148551,142487,160252,122577,127341,127855,170815,64397,65385,60792,68373,65739,84152,92932,91769,89159,88025,83398,81274,70759,40429,25454,32639,78496,21971]
["ME","RFACB","RF","AC","ME Transportation Residual Fuel",926,725,970,1767,1461,1282,1268,675,1766,1174,4379,3418,5229,16,172,5975,5139,1247,369,5016,2752,3388,3081,4103,2016,1004,1251,379,417]
["MI","RFACB","RF","AC","MI Transportation Residual Fuel",577,313,610,461,610,591,772,325,516,226,301,445,297,1243,1575,1238,1457,1808,1373,840,1544,2064,1415,1509,1139,1009,2881,4258,4910]
["MS","RFACB","RF","AC","MS Transportation Residual Fuel",9634,24612,16275,20092,22221,15838,10531,7864,6537,5756,8589,8114,7698,5162,10568,3770,4420,4301,4114,4489,4882,5480,6669,4348,906,3067,3635,3950,1345]
["MT","RFACB","RF","AC","MT Transportation Residual Fuel",0,0,0,0,0,0,0,0,0,0,0,0,0,0,0,0,190,0,0,0,0,0,0,0,0,0,0,0,0]
["NE","RFACB","RF","AC","NE Transportation Residual Fuel",0,0,0,0,0,0,0,0,0,0,0,0,0,0,0,0,0,0,0,0,0,0,0,0,0,0,0,0,0]
["NH","RFACB","RF","AC","NH Transportation Residual Fuel",514,1252,759,8,60,0,31,18,38,4,0,0,0,0,0,0,0,0,0,0,0,0,11,5,13,0,0,0,0]
["NV","RFACB","RF","AC","NV Transportation Residual Fuel",0,0,0,0,0,0,0,0,0,0,0,0,0,0,0,0,0,1,0,0,0,0,0,0,0,0,0,0,0]
["OH","RFACB","RF","AC","OH Transportation Residual Fuel",32,49,340,102,396,354,518,368,362,45,77,429,644,103,7,0,4,21,0,0,0,0,0,0,3,41,7,0,46]
["PA","RFACB","RF","AC","PA Transportation Residual Fuel",35105,35706,43480,37737,37118,29984,20912,28786,34460,31454,29543,15377,18096,18602,25164,28923,26318,21496,22232,15070,5015,2817,7494,6316,3574,2074,2645,1235,1272]
["RI","RFACB","RF","AC","RI Transportation Residual Fuel",215,56,368,137,60,11,13,8,8,21,34,0,0,0,0,0,27,10,16,1060,512,256,6,36,20,1,11,67,13]
["TN","RFACB","RF","AC","TN Transportation Residual Fuel",31,315,275,96,16,12,13,25,0,0,0,27,18,52,265,368,77,30,281,0,0,0,326,323,30,74,0,92,0]
["TX","RFACB","RF","AC","TX Transportation Residual Fuel",162615,169875,186027,124648,118770,125890,112322,127126,154912,109840,132070,101161,101143,104669,127505,141207,150767,185407,157743,137438,174956,166957,120303,118275,121624,120797,178684,178516,144701]
["VA","RFACB","RF","AC","VA Transportation Residual Fuel",20845,23624,17855,14866,12245,12088,7652,9134,7911,7668,26564,6589,5265,9843,11501,12136,10657,8345,6233,3758,5083,6858,6720,4106,3376,1618,2899,4934,1624]
["VT","RFACB","RF","AC","VT Transportation Residual Fuel",20,16,28,0,0,0,0,0,0,0,0,0,0,0,0,0,0,0,0,0,0,0,0,0,0,0,30,46,0]
["WV","RFACB","RF","AC","WV Transportation Residual Fuel",0,0,0,0,0,0,25,0,0,0,0,0,0,0,0,0,0,0,0,0,0,0,0,0,0,0,0,0,0]
["WY","RFACB","RF","AC","WY Transportation Residual Fuel",0,0,0,0,0,0,0,0,0,0,0,0,0,0,0,0,0,0,0,0,0,0,0,0,0,0,0,0,0]
["AR","RFCCB","RF","CC","AR Commercial Residual Fuel",0,0,25,4,0,0,1,0,0,0,0,0,0,0,2,0,0,0,0,0,0,0,0,0,0,0,0,0,0]
["AZ","RFCCB","RF","CC","AZ Commercial Residual Fuel",0,69,0,0,0,0,30,0,0,0,0,0,0,0,0,0,0,0,0,0,0,0,0,0,0,0,0,0,0]
["CT","RFCCB","RF","CC","CT Commercial Residual Fuel",6502,3308,5553,2563,4061,2811,2858,2019,1006,1320,1371,1038,2018,4430,2070,2218,1991,1195,665,596,567,48,48,60,117,182,221,275,165]
["DC","RFCCB","RF","CC","DC Commercial Residual Fuel",1373,1388,1673,1288,1053,818,602,217,26,11,3,9,0,0,0,0,0,0,0,0,0,0,0,0,0,0,0,0,0]
["GA","RFCCB","RF","CC","GA Commercial Residual Fuel",427,135,39,39,42,72,66,37,7,1,30,1,0,68,0,0,0,0,0,0,201,0,0,0,10,0,4,0,0]
["HI","RFCCB","RF","CC","HI Commercial Residual Fuel",5189,116,6612,214,2719,392,79,69,10711,36,52,34,0,0,27,18,5,3,0,0,0,0,0,0,0,0,0,0,0]
["IL","RFCCB","RF","CC","IL Commercial Residual Fuel",1284,245,270,347,414,282,1192,813,726,492,88,367,81,44,309,379,7,0,21,0,136,123,0,0,2,0,0,0,0]
["IN","RFCCB","RF","CC","IN Commercial Residual Fuel",389,1280,112,235,252,199,85,55,760,15,10,3,4,399,718,702,0,23,11,54,0,0,0,0,2,3,0,0,48]
["LA","RFCCB","RF","CC","LA Commercial Residual Fuel",249,756,38,1,0,0,4,0,0,0,0,0,2,448,385,340,0,0,0,0,0,0,0,0,0,0,0,0,0]
["MA","RFCCB","RF","CC","MA Commercial Residual Fuel",28119,28515,23070,16085,18568,19296,15280,14078,8906,7446,8724,3285,4038,11385,17424,16740,7356,5251,5988,4425,3473,2139,1383,1395,841,319,196,152,83]
["MI","RFCCB","RF","CC","MI Commercial Residual Fuel",448,30,74,50,21,30,29,348,10,17,30,107,403,568,310,28,12,0,353,78,476,618,295,3,24,17,2,4,46]
["MN","RFCCB","RF","CC","MN Commercial Residual Fuel",1629,1842,1227,835,997,701,870,1003,1013,974,862,1373,1229,2148,2826,1921,1477,553,1171,1196,1145,830,95,28,50,4,24,32,27]
["MT","RFCCB","RF","CC","MT Commercial Residual Fuel",69,21,24,31,21,21,16,7,4,14,4,0,0,3,0,0,0,0,0,203,4,27,1,4,17,0,0,0,0]
["NC","RFCCB","RF","CC","NC Commercial Residual Fuel",1401,736,698,1787,1657,1164,1381,1062,717,630,708,802,468,1309,1735,1438,1014,192,285,16,4,8,3,10,36,7,12,0,7]
["NH","RFCCB","RF","CC","NH Commercial Residual Fuel",4072,4221,2026,2359,2803,2740,2811,2980,1739,791,783,516,775,964,5093,7863,2569,2778,2238,2048,1589,1558,1005,851,421,541,1055,1109,994]
["NJ","RFCCB","RF","CC","NJ Commercial Residual Fuel",9179,10043,8526,12393,13061,7780,8055,4990,3076,3713,3009,2418,1754,2776,2182,1769,1362,1466,2978,2611,885,787,269,222,43,64,106,0,17]
["NY","RFCCB","RF","CC","NY Commercial Residual Fuel",109393,106890,99165,108782,100953,85222,80417,63528,42534,46771,59280,45223,54559,67798,71929,63283,49923,54842,48318,53884,49262,44569,26636,19734,5321,1961,1960,1791,984]
["OH","RFCCB","RF","CC","OH Commercial Residual Fuel",138,252,460,167,47,29,11,13,4,0,0,4,28,13,633,681,177,6,51,8,36,34,1,0,0,0,0,0,0]
["PA","RFCCB","RF","CC","PA Commercial Residual Fuel",4992,3953,5504,6981,8577,7679,8195,6470,3758,3395,3985,3144,2365,3543,3826,3934,1802,2445,1515,1541,570,254,163,66,79,53,127,3,5]
["RI","RFCCB","RF","CC","RI Commercial Residual Fuel",3754,3678,3254,3985,3923,3135,4195,3822,2439,2335,2632,2697,2265,2345,2486,2744,1611,1473,1022,944,399,278,155,160,205,187,153,6,0]
["TN","RFCCB","RF","CC","TN Commercial Residual Fuel",206,103,357,209,202,89,174,278,9,0,0,0,0,0,82,0,0,50,28,22,0,0,0,11,0,0,0,0,0]
["TX","RFCCB","RF","CC","TX Commercial Residual Fuel",446,1358,98,0,5,0,0,0,0,0,0,70,145,0,0,0,0,87,46,23,90,275,152,184,58,0,43,0,0]
["VA","RFCCB","RF","CC","VA Commercial Residual Fuel",1367,718,1394,1129,975,1290,1593,802,706,1141,2708,1774,465,2549,1988,523,233,115,123,136,182,73,38,24,24,0,1,0,5]
["VT","RFCCB","RF","CC","VT Commercial Residual Fuel",749,822,660,1078,539,444,456,698,671,448,637,577,759,951,922,909,814,547,683,557,374,331,227,232,153,108,119,169,68]
["WV","RFCCB","RF","CC","WV Commercial Residual Fuel",408,319,346,121,31,0,0,0,0,0,0,0,0,0,0,0,0,0,0,0,0,0,0,2,0,0,0,0,0]
["WY","RFCCB","RF","CC","WY Commercial Residual Fuel",4,7,0,0,5,2,1,1,0,0,1,0,0,0,0,0,0,0,0,0,0,0,9,0,0,0,0,0,0]
["AL","RFEIB","RF","EI","AL Electric Power Residual Fuel",0,0,0,0,0,0,0,0,0,0,0,0,0,0,0,0,0,0,0,0,0,0,0,0,0,0,0,0,0]
["CA","RFEIB","RF","EI","CA Electric Power Residual Fuel",45071,5863,3029,20289,17946,4617,6183,280,63,14,539,3094,250,66,0,24,96,109,56,59,53,7,0,0,0,4,0,0,0]
["DC","RFEIB","RF","EI","DC Electric Power Residual Fuel",5019,2781,1220,2781,3561,2528,1518,790,2829,2766,1315,1784,0,0,0,0,0,0,0,0,0,0,0,0,0,0,0,0,0]
["DE","RFEIB","RF","EI","DE Electric Power Residual Fuel",12514,16905,16231,20712,15586,8393,10980,8257,12516,11606,5479,13581,6654,10431,5973,7503,771,1664,583,456,40,76,66,55,431,404,111,160,681]
["HI","RFEIB","RF","EI","HI Electric Power Residual Fuel",87038,70373,73505,63509,66437,67329,69130,68356,68222,68518,68202,66725,68247,67907,70527,71070,72295,71832,69217,67297,65157,64471,59686,57940,55115,54987,53197,52777,52790]
["IA","RFEIB","RF","EI","IA Electric Power Residual Fuel",0,0,0,0,0,0,0,0,0,0,0,0,0,0,0,0,0,0,0,0,0,0,0,0,0,0,0,0,0]
["IN","RFEIB","RF","EI","IN Electric Power Residual Fuel",0,0,0,0,0,0,0,0,0,0,0,4,6,4,6,0,0,0,0,0,0,0,0,0,0,0,0,0,0]
["KS","RFEIB",{"$f":"MID(B2463,1,2)","v":"RF"},{"$f":"MID(B2463,3,2)","v":"EI"},"KS Electric Power Residual Fuel",137,22,10,253,77,4,975,561,25,2133,3352,6138,5044,9605,9490,10827,0,0,0,0,0,0,0,0,0,0,0,0,0]
["MA","RFEIB","RF","EI","MA Electric Power Residual Fuel",147778,151701,132408,112430,94186,57479,58301,107152,141030,107774,85675,84146,63841,68999,67008,64781,24168,30979,21198,7597,2071,1198,913,2614,6947,5800,3195,1878,2986]
["MD","RFEIB","RF","EI","MD Electric Power Residual Fuel",43665,47251,31917,48465,44372,14376,14416,16346,36170,46915,23472,28855,21385,31573,28394,33496,3736,6567,1909,1758,872,732,263,331,1525,914,386,178,628]
["MN","RFEIB","RF","EI","MN Electric Power Residual Fuel",9,14,2,6,0,0,10,43,5,11,7,317,30,259,389,492,135,438,155,34,0,0,0,0,0,0,0,0,0]
["MO","RFEIB","RF","EI","MO Electric Power Residual Fuel",48,267,151,141,172,79,177,158,81,1,1,1,4,0,0,0,0,0,0,0,0,0,0,0,0,0,0,0,0]
["NC","RFEIB","RF","EI","NC Electric Power Residual Fuel",0,0,0,0,0,0,26,1,0,0,0,0,0,0,0,0,0,0,0,0,0,0,0,0,0,0,0,0,0]
["ND","RFEIB","RF","EI","ND Electric Power Residual Fuel",0,0,0,0,0,0,0,0,0,0,0,0,20,0,0,0,0,0,0,0,0,0,0,0,0,0,0,0,0]
["NJ","RFEIB","RF","EI","NJ Electric Power Residual Fuel",17848,17097,11158,10775,16309,8416,4771,2216,4197,4346,4636,7927,5354,7619,5281,5494,1286,1445,623,479,359,276,92,90,126,125,21,0,0]
["NM","RFEIB","RF","EI","NM Electric Power Residual Fuel",203,65,12,9,3,4,2,2,0,0,0,59,0,0,0,0,0,0,0,0,0,0,0,0,0,0,0,0,0]
["OH","RFEIB","RF","EI","OH Electric Power Residual Fuel",852,1064,388,129,177,0,0,0,72,131,79,81,48,0,0,0,0,0,0,0,0,0,0,0,0,0,0,0,0]
["OK","RFEIB","RF","EI","OK Electric Power Residual Fuel",366,76,62,38,39,707,837,60,0,0,0,7,14,221,69,19,1,1197,0,0,0,0,0,0,0,0,0,0,0]
["RI","RFEIB","RF","EI","RI Electric Power Residual Fuel",2136,771,1016,343,410,397,0,0,0,0,0,0,0,0,0,0,0,0,0,0,0,0,0,0,0,0,0,0,0]
["SC","RFEIB","RF","EI",{"$f":"A2487&\" \"&VLOOKUP(D2487,SectorCode,2,FALSE)&\" \"&VLOOKUP(C2487,FuelCode,2,FALSE)","v":"SC Electric Power Residual Fuel"},50,70,95,378,58,429,244,352,1244,1570,1046,530,425,232,424,450,179,284,28,219,70,0,0,0,0,0,0,0,0]
["TX","RFEIB","RF","EI","TX Electric Power Residual Fuel",1595,652,1111,2060,2158,388,2104,150,72,62,2523,3877,541,3131,1194,184,346,287,40,0,0,1,163,0,0,0,0,0,0]
["US","RFEIB","RF","EI","US Electric Power Residual Fuel",1162562,1085292,872170,958645,869000,565973,628391,714634,1046960,958723,870834,1002803,658710,869363,879022,876462,360527,396624,240421,180955,154052,93065,76720,77225,95138,93861,70680,65788,78251]
["VT","RFEIB","RF","EI","VT Electric Power Residual Fuel",0,0,0,0,0,0,0,0,0,0,0,0,0,0,0,0,0,0,7,4,4,4,3,0,0,0,0,0,0]
["WA","RFEIB","RF","EI","WA Electric Power Residual Fuel",5,4,6,4,0,0,0,0,0,0,0,0,0,0,0,0,0,0,0,0,0,0,0,0,0,0,0,0,0]
["WY","RFEIB","RF","EI","WY Electric Power Residual Fuel",0,0,0,0,0,0,0,0,0,0,0,0,0,0,0,0,0,0,0,0,0,0,0,0,0,0,0,0,0]
["AK","RFICB","RF","IC","AK Industrial Residual Fuel",730,1749,1876,1880,2140,2358,2433,871,0,0,0,115,0,0,0,0,0,0,5,21,23,0,0,0,0,0,0,0,1]
["AZ","RFICB","RF","IC","AZ Industrial Residual Fuel",114,1102,585,1094,280,433,500,88,123,172,145,172,183,0,206,131,108,136,0,0,0,41,0,0,0,0,0,0,0]
["CA","RFICB","RF","IC","CA Industrial Residual Fuel",11555,11011,11744,9548,8376,9221,1912,640,194,3582,677,2092,1220,331,88,70,638,66,2490,40,64,44,34,38,33,290,360,119,65]
["DC","RFICB","RF","IC","DC Industrial Residual Fuel",5,8,12,0,5,1,1,0,0,0,1,0,0,0,0,0,0,0,0,0,0,0,0,0,0,0,0,0,0]
["DE","RFICB","RF","IC","DE Industrial Residual Fuel",4627,5936,7698,10893,11228,9868,9178,7642,6146,7352,9035,8436,7287,4070,4870,4490,3828,3265,3062,2159,2224,1634,1088,480,0,3,2,8,0]
["HI","RFICB","RF","IC","HI Industrial Residual Fuel",10942,11274,8528,6640,7447,6441,6016,5310,1918,2090,2751,50,2805,2287,2481,4912,5102,2690,2730,2930,2834,2852,2051,1780,1614,1876,2565,3233,2797]
["IA","RFICB","RF","IC","IA Industrial Residual Fuel",590,546,433,991,1121,579,586,449,550,630,881,273,377,941,1771,1202,280,278,1071,412,127,201,50,37,40,0,0,105,71]
["IN","RFICB","RF","IC","IN Industrial Residual Fuel",22447,18403,24161,15803,17207,9850,6423,6759,4642,1972,2916,2466,1077,1962,3347,3483,5805,1977,2301,812,484,243,501,290,298,423,531,795,591]
["KS","RFICB","RF","IC","KS Industrial Residual Fuel",1138,738,976,1879,1086,115,834,1053,1156,1404,2522,1991,1084,3924,4191,2092,3893,2919,7668,2794,2269,1721,1570,1105,1133,1529,3612,3774,2249]
["MA","RFICB","RF","IC","MA Industrial Residual Fuel",16371,8790,13551,21945,16910,9166,10626,10831,11190,5659,6912,13535,10891,6091,4529,4823,7011,6083,2434,1857,747,1438,719,165,110,161,95,119,132]
["MI","RFICB","RF","IC","MI Industrial Residual Fuel",8900,4691,4744,5990,6021,2525,2607,2607,2513,2088,3911,2215,2161,4482,4318,5715,4629,6081,6172,2149,969,1368,1185,865,460,452,161,115,166]
["MO","RFICB","RF","IC","MO Industrial Residual Fuel",3264,2976,3863,6299,2880,2007,1940,1129,1146,686,452,678,445,525,795,497,322,185,264,158,146,118,39,25,14,12,109,18,2]
["MS","RFICB","RF","IC","MS Industrial Residual Fuel",5951,1489,1192,1602,1071,506,706,193,961,72,44,1225,759,1060,1949,1851,413,720,772,335,123,298,208,109,3,36,1,2,1]
["ND","RFICB",{"$f":"MID(B2527,1,2)","v":"RF"},{"$f":"MID(B2527,3,2)","v":"IC"},"ND Industrial Residual Fuel",1910,1865,1732,2378,2030,911,814,1116,173,290,412,208,24,269,280,1321,594,427,504,375,239,248,44,0,3,4,0,0,0]
["NE","RFICB","RF","IC","NE Industrial Residual Fuel",1483,1064,907,1608,1212,756,1052,632,616,437,725,663,777,798,1134,645,218,295,241,1,0,0,0,0,2,0,0,0,0]
["NM","RFICB","RF","IC","NM Industrial Residual Fuel",725,741,795,1132,1106,1123,1223,993,854,887,853,542,826,987,660,544,868,994,1437,61,214,0,0,0,0,0,0,0,0]
["NV","RFICB","RF","IC","NV Industrial Residual Fuel",48,511,497,630,873,6803,811,1295,487,119,0,0,41,5,2,1,14,0,0,0,0,0,0,0,0,0,0,0,0]
["OK","RFICB","RF","IC","OK Industrial Residual Fuel",3045,962,3571,4390,3409,2069,1626,1629,629,698,1489,2147,2823,3004,3844,1392,1546,817,2641,1919,3405,3683,3838,3231,3035,1963,2582,3181,2308]
["OR","RFICB","RF","IC","OR Industrial Residual Fuel",2810,2178,3130,4200,2598,2043,840,1044,873,903,870,840,2981,2298,1898,1673,2943,2063,1384,1010,604,1024,688,748,378,399,752,133,90]
["SC","RFICB","RF","IC","SC Industrial Residual Fuel",11872,10038,11147,19167,15208,13269,14117,12413,9991,7043,10904,10690,9284,19913,21581,20921,11494,10081,6502,5780,4196,3296,2065,1101,1149,415,1136,319,915]
["SD","RFICB","RF","IC","SD Industrial Residual Fuel",224,202,676,720,511,71,251,347,600,504,398,638,650,288,505,388,173,141,225,121,0,242,0,8,24,31,50,57,0]
["US","RFICB","RF","IC","US Industrial Residual Fuel",411445,333899,386916,445909,418924,336729,335233,290639,229841,207473,240638,203252,190107,220441,248707,281385,239267,193240,194348,130139,120199,134927,69887,48227,40579,33857,52412,49935,43338]
["UT","RFICB","RF","IC","UT Industrial Residual Fuel",1543,1116,1413,1448,2037,1771,460,871,589,317,343,0,517,698,1073,1364,1523,1943,2771,820,86,9,4,14,23,28,0,0,20]
["WA","RFICB","RF","IC","WA Industrial Residual Fuel",12508,8375,6194,5333,5619,4050,2030,1904,1601,2206,5583,865,980,519,120,77,46,21,43,1669,1567,1647,1107,969,0,0,0,63,34]
["WI","RFICB","RF","IC","WI Industrial Residual Fuel",5601,4199,3818,6555,6867,4393,5392,5791,4237,5251,5793,4491,4269,3362,5664,6734,4017,4652,4494,1536,666,761,633,426,316,512,895,1047,1066]
["AK","SGICB","SG","IC",{"$f":"A2551&\" \"&VLOOKUP(D2551,SectorCode,2,FALSE)&\" \"&VLOOKUP(C2551,FuelCode,2,FALSE)","v":"AK Industrial Still Gas"},23591,21209,25097,25414,25149,24857,26846,26356,31270,31671,31803,32266,31819,33952,33957,34052,34270,33264,27980,25822,25638,25431,21761,21139,18517,13075,13814,13504,14152]
["AL","SGICB","SG","IC","AL Industrial Still Gas",11178,13355,10233,11769,11548,11371,11843,12107,11633,11451,11536,10246,11523,11935,10319,12335,10838,11044,10709,10371,10437,10456,10680,10413,10205,10848,11447,12078,12210]
["CA","SGICB","SG","IC","CA Industrial Still Gas",206242,180742,183053,183078,181547,172137,175403,174521,170538,167804,170298,178561,176372,181888,182266,182803,184799,177913,169353,160587,162916,162631,144522,162673,161656,156343,165715,161332,164586]
["CO","SGICB","SG","IC","CO Industrial Still Gas",7485,7245,8372,8316,8160,8035,8101,7963,7651,7443,7498,8034,7711,7975,7910,8570,8590,8332,8662,8808,8951,8968,9159,8931,8752,8486,8954,8781,8877]
["DE","SGICB","SG","IC","DE Industrial Still Gas",13788,13345,13709,13616,13362,13157,13264,13039,14049,13829,14375,15798,15512,16042,15910,16547,16651,16150,15473,0,0,15863,16202,15798,15482,15011,15840,15532,15703]
["FL","SGICB","SG","IC","FL Industrial Still Gas",0,0,0,0,0,0,0,0,0,0,0,0,0,0,0,0,0,0,0,0,0,0,0,0,0,0,0,0,0]
["IA","SGICB","SG","IC","IA Industrial Still Gas",0,0,0,0,0,0,0,0,0,0,0,0,0,0,0,0,0,0,0,0,0,0,0,0,0,0,0,0,0]
["ID","SGICB","SG","IC","ID Industrial Still Gas",0,0,0,0,0,0,0,0,0,0,0,0,0,0,0,0,0,0,0,0,0,0,0,0,0,0,0,0,0]
["KS","SGICB","SG","IC","KS Industrial Still Gas",34637,31199,29073,26581,28136,27705,26941,26482,25615,25933,26124,27100,26255,27152,26929,27278,27480,27114,28126,28599,29476,29532,30208,29393,28805,27930,31384,33241,33934]
["KY","SGICB","SG","IC","KY Industrial Still Gas",21558,20866,21435,21290,20892,20572,21299,20936,20357,20040,20187,20537,20165,20855,20683,20741,20288,20032,19192,18781,18423,20286,21831,21459,21031,22945,24212,24083,23933]
["MD","SGICB","SG","IC","MD Industrial Still Gas",0,0,0,0,0,0,0,0,0,0,0,0,0,0,0,0,0,0,0,0,0,0,0,0,0,0,0,0,0]
["ME","SGICB","SG","IC","ME Industrial Still Gas",0,0,0,0,0,0,0,0,0,0,0,0,0,0,0,0,0,0,0,0,0,0,0,0,0,0,0,0,0]
["MO","SGICB","SG","IC","MO Industrial Still Gas",0,0,0,0,0,0,0,0,0,0,0,0,0,0,0,0,0,0,0,0,0,0,0,0,0,0,0,0,0]
["MS","SGICB","SG","IC","MS Industrial Still Gas",35691,35212,36407,36161,31954,31464,31721,31181,30048,29579,29709,30223,32335,33441,33166,33186,33264,32264,30912,31431,31631,31691,32369,31561,30930,29989,32818,33205,33952]
["ND","SGICB","SG","IC","ND Industrial Still Gas",5712,5529,5679,5641,5536,5451,5495,5402,5190,5109,5147,5236,5141,5317,5273,5288,5300,5141,4925,5008,5040,5224,6047,6069,6276,7692,8111,7954,7757]
["NE","SGICB","SG","IC","NE Industrial Still Gas",0,0,0,0,0,0,0,0,0,0,0,0,0,0,0,0,0,0,0,0,0,0,0,0,0,0,0,0,0]
["NM","SGICB","SG","IC","NM Industrial Still Gas",7367,9323,9263,9201,9029,8890,8963,8810,8465,8421,8483,8630,8474,8764,10237,10266,11113,10778,11261,10863,10958,10979,11258,11332,10834,10505,10737,11645,11721]
["NV","SGICB","SG","IC","NV Industrial Still Gas",0,667,685,681,668,658,663,652,626,440,444,451,443,176,155,182,183,177,170,173,174,174,178,173,170,165,174,170,172]
["OK","SGICB","SG","IC","OK Industrial Still Gas",38951,37986,38825,39283,38224,38578,38656,38836,39194,40034,41626,43516,41828,43681,44090,44394,44843,46127,43404,44134,44206,44289,45236,44332,43446,42125,44450,44483,45058]
["OR","SGICB","SG","IC","OR Industrial Still Gas",0,0,0,0,0,0,0,0,0,0,0,0,0,0,0,0,0,0,0,0,0,0,0,0,0,0,0,0,0]
["SC","SGICB",{"$f":"MID(B2591,1,2)","v":"SG"},{"$f":"MID(B2591,3,2)","v":"IC"},"SC Industrial Still Gas",0,0,0,0,0,0,0,0,0,0,0,0,0,0,0,0,0,0,0,0,0,0,0,0,0,0,0,0,0]
["SD","SGICB","SG","IC","SD Industrial Still Gas",0,0,0,0,0,0,0,0,0,0,0,0,0,0,0,0,0,0,0,0,0,0,0,0,0,0,0,0,0]
["UT","SGICB","SG","IC","UT Industrial Still Gas",15216,14727,15129,15027,14364,14144,15017,14761,14138,13389,13488,14236,14421,14846,15215,15257,15293,14865,14241,13596,14530,14557,15291,15004,15129,14916,17112,16754,17284]
["VA","SGICB","SG","IC","VA Industrial Still Gas",5584,5634,5190,5155,5058,5385,5372,5281,5244,5241,5298,5290,5194,5372,5328,0,5426,5642,5477,5725,0,0,0,0,0,0,0,0,0]
["WI","SGICB","SG","IC","WI Industrial Still Gas",3270,3165,3251,3229,3169,3120,3411,3353,2953,2907,2928,2979,2925,3025,3000,3127,3135,3040,2913,2962,2981,3308,3379,3295,3229,3131,3304,3239,1092]
["WV","SGICB","SG","IC","WV Industrial Still Gas",1231,1525,1518,1118,1098,1081,1090,1118,1056,1172,1402,1679,1720,1778,1764,1823,1828,1773,1698,1727,1738,1741,1779,1934,1895,1837,1939,1901,1922]
["AL","SNICB","SN","IC","AL Industrial Special Naphthas",852,918,1091,1091,846,739,848,822,1220,1654,1107,1551,2023,1590,1008,1235,1620,1805,1964,1068,604,523,340,1882,1997,1868,1761,1888,1732]
["AR","SNICB","SN","IC","AR Industrial Special Naphthas",1501,250,297,297,230,201,1098,1064,1580,2141,1434,617,805,633,401,491,270,300,327,178,101,87,57,448,475,444,419,449,412]
["CO","SNICB","SN","IC","CO Industrial Special Naphthas",398,265,316,316,245,214,491,476,706,957,641,134,175,138,87,107,0,0,0,0,0,0,0,178,189,177,167,179,164]
["CT","SNICB","SN","IC","CT Industrial Special Naphthas",742,498,592,592,459,401,587,569,845,1145,767,194,253,199,126,155,385,429,467,254,144,124,81,306,325,304,286,307,282]
["FL","SNICB","SN","IC","FL Industrial Special Naphthas",2338,1823,2166,2167,1679,1467,1790,1735,2575,3491,2338,1760,2297,1805,1145,1402,1717,1913,2081,1132,640,554,361,1781,1890,1768,1667,1787,1639]
["GA","SNICB","SN","IC","GA Industrial Special Naphthas",3374,3300,3922,3923,3040,2656,2789,2704,4014,5440,3643,4013,5235,4115,2609,3196,3196,3560,3873,2106,1191,1032,671,5173,5489,5134,4840,5190,4761]
["ID","SNICB","SN","IC","ID Industrial Special Naphthas",0,0,0,0,0,0,0,0,0,0,0,0,0,0,0,0,0,0,0,0,0,0,0,0,0,0,0,0,0]
["IL","SNICB","SN","IC","IL Industrial Special Naphthas",10687,9849,11705,11706,9072,7927,8753,8486,12597,17073,11435,7624,9946,7818,4957,6072,6857,7639,8309,4520,2555,2214,1440,11085,11761,11002,10371,11120,10202]
["KY","SNICB","SN","IC","KY Industrial Special Naphthas",5180,4592,5457,5458,4230,3696,3079,2985,4431,6006,4022,3115,4064,3194,2026,2481,2545,2835,3084,1678,948,822,535,2348,2492,2331,2197,2356,2161]
["LA","SNICB","SN","IC","LA Industrial Special Naphthas",0,368,437,437,339,296,450,436,647,877,587,640,835,657,416,510,410,457,497,270,153,132,86,1421,1508,1410,1329,1426,1308]
["ME","SNICB","SN","IC","ME Industrial Special Naphthas",0,0,0,0,0,0,0,0,0,0,0,0,0,0,0,0,0,0,0,0,0,0,0,0,0,0,0,0,0]
["MI","SNICB","SN","IC","MI Industrial Special Naphthas",7668,4693,5577,5578,4323,3777,4377,4243,6299,8538,5718,3874,5054,3972,2519,3086,3588,3997,4348,2365,1337,1158,754,5137,5450,5098,4806,5153,4727]
["MS","SNICB","SN","IC","MS Industrial Special Naphthas",210,197,234,234,181,158,939,911,1352,1832,1227,558,727,572,363,444,578,644,700,381,215,187,121,520,552,516,487,522,479]
["MT","SNICB","SN","IC","MT Industrial Special Naphthas",0,0,0,0,0,0,0,0,0,0,0,0,0,0,0,0,0,0,0,0,0,0,0,0,0,0,0,0,0]
["NE","SNICB","SN","IC","NE Industrial Special Naphthas",0,0,0,0,0,0,0,0,0,0,0,0,0,0,0,0,0,0,0,0,0,0,0,30,32,30,28,30,27]
["NH","SNICB","SN","IC","NH Industrial Special Naphthas",0,0,0,0,0,0,0,0,0,0,0,154,201,158,100,123,193,215,233,127,72,62,40,386,410,384,362,388,356]
["NV","SNICB","SN","IC","NV Industrial Special Naphthas",0,0,0,0,0,0,106,103,153,207,139,224,292,229,145,178,314,350,381,207,117,102,66,520,552,516,487,522,479]
["NY","SNICB","SN","IC","NY Industrial Special Naphthas",3246,1785,2121,2121,1644,1436,887,860,1276,1730,1158,1692,2207,1735,1100,1348,1400,1560,1697,923,522,452,294,2607,2766,2588,2439,2615,2399]
["OR","SNICB","SN","IC","OR Industrial Special Naphthas",811,542,644,644,499,436,457,443,658,892,597,547,713,561,356,435,708,789,858,467,264,229,149,1287,1366,1278,1204,1291,1185]
["PA","SNICB","SN","IC","PA Industrial Special Naphthas",5008,5446,6472,6473,5017,4384,3975,3853,5720,7753,5192,4099,5347,4203,2665,3265,4436,4942,5376,2924,1653,1432,932,6943,7367,6891,6496,6965,6390]
["SD","SNICB","SN","IC","SD Industrial Special Naphthas",0,0,0,0,0,0,0,0,0,0,0,0,0,0,0,0,0,0,0,0,0,0,0,0,0,0,0,0,0]
["TN","SNICB","SN","IC","TN Industrial Special Naphthas",1055,780,928,928,719,628,704,683,1013,1374,920,1139,1486,1168,741,907,1062,1183,1287,700,396,343,223,1974,2094,1959,1847,1980,1817]
["UT","SNICB","SN","IC","UT Industrial Special Naphthas",0,0,0,0,0,0,0,0,0,0,0,89,117,92,58,71,270,300,327,178,101,87,57,520,552,516,487,522,479]
["VA","SNICB","SN","IC","VA Industrial Special Naphthas",2989,1335,1586,1587,1230,1074,1881,1823,2707,3668,2457,2576,3361,2642,1675,2052,2457,2737,2978,1620,916,793,516,1662,1763,1649,1555,1667,1529]
["WI","SNICB","SN","IC","WI Industrial Special Naphthas",2501,2675,3178,3179,2464,2153,3026,2934,4355,5903,3953,2506,3269,2570,1629,1996,2090,2328,2532,1377,779,675,439,3202,3397,3178,2995,3212,2947]
["WV","SNICB","SN","IC","WV Industrial Special Naphthas",0,0,0,0,0,0,132,128,189,257,172,190,248,195,124,152,0,0,0,0,0,0,0,0,0,0,0,0,0]
["AL","UOICB","UO","IC","AL Industrial Unfinished Oils",-2800,-4215,-2509,-3259,-2240,-2574,-930,-861,-2541,-2294,-3195,-527,-1070,-392,-504,23,491,472,-391,-554,198,395,433,113,-542,-129,61,583,234]
["AR","UOICB","UO","IC","AR Industrial Unfinished Oils",-1329,-1826,-1482,-1694,-1183,-1360,-483,-430,-1269,-1063,-1511,-301,-575,-210,-341,13,319,293,-240,-381,136,297,327,85,-409,-89,42,372,149]
["CO","UOICB","UO","IC","CO Industrial Unfinished Oils",-1875,-2286,-2053,-2303,-1583,-1819,-636,-566,-1671,-1491,-2077,-413,-716,-262,-386,16,389,356,-316,-471,170,338,372,97,-465,-101,48,424,170]
["CT","UOICB","UO","IC","CT Industrial Unfinished Oils",0,0,0,0,0,0,0,0,0,0,0,0,0,0,0,0,0,0,0,0,0,0,0,0,0,0,0,0,0]
["FL","UOICB","UO","IC","FL Industrial Unfinished Oils",0,0,0,0,0,0,0,0,0,0,0,0,0,0,0,0,0,0,0,0,0,0,0,0,0,0,0,0,0]
["IA","UOICB","UO","IC","IA Industrial Unfinished Oils",0,0,0,0,0,0,0,0,0,0,0,0,0,0,0,0,0,0,0,0,0,0,0,0,0,0,0,0,0]
["IL","UOICB","UO","IC","IL Industrial Unfinished Oils",-23126,-28658,-23186,-25743,-18547,-20244,-7050,-6473,-20071,-18168,-25020,-3620,-7229,-2641,-3980,153,3739,3465,-2841,-4236,1515,3015,3356,883,-4246,-922,446,4018,1645]
["IN","UOICB","UO","IC","IN Industrial Unfinished Oils",-10604,-13535,-11404,-11343,-8043,-8872,-3214,-2860,-8464,-7641,-10643,-2010,-3564,-1302,-1924,73,1792,1639,-1339,-1992,712,1194,693,415,-1989,-432,205,1819,757]
["LA","UOICB","UO","IC","LA Industrial Unfinished Oils",-56402,-69603,-56643,-63549,-43630,-51113,-18079,-16123,-50826,-47269,-65683,-12330,-22379,-8280,-12318,430,12295,11169,-9206,-13933,5224,10486,11810,3086,-15001,-3283,1554,13583,5487]
["MA","UOICB","UO","IC","MA Industrial Unfinished Oils",0,0,0,0,0,0,0,0,0,0,0,0,0,0,0,0,0,0,0,0,0,0,0,0,0,0,0,0,0]
["MI","UOICB","UO","IC","MI Industrial Unfinished Oils",-2925,-3568,-2776,-3113,-2140,-2574,-900,-801,-2463,-1306,-1819,-344,-609,-223,-329,17,414,386,-316,-489,175,348,433,116,-587,-129,61,572,231]
["MN","UOICB","UO","IC","MN Industrial Unfinished Oils",-6588,-8036,-6414,-7732,-5501,-6321,-2373,-2112,-6450,-5824,-8234,-1555,-2757,-1007,-1488,59,1445,1370,-1100,-1637,555,1154,1257,339,-1627,-371,181,1680,690]
["MT","UOICB","UO","IC","MT Industrial Unfinished Oils",-3444,-4201,-3353,-3766,-2628,-3020,-1089,-976,-2970,-2860,-4095,-836,-1482,-545,-805,31,755,708,-581,-866,310,616,681,178,-851,-200,95,844,338]
["NC","UOICB","UO","IC","NC Industrial Unfinished Oils",-74,0,0,0,0,0,0,0,0,0,0,0,0,0,0,0,0,0,0,0,0,0,0,0,0,0,0,0,0]
["NH","UOICB","UO","IC","NH Industrial Unfinished Oils",0,0,0,0,0,0,0,0,0,0,0,0,0,0,0,0,0,0,0,0,0,0,0,0,0,0,0,0,0]
["NJ","UOICB","UO","IC","NJ Industrial Unfinished Oils",-8251,-13673,-9785,-11580,-9368,-10319,-4203,-3754,-10594,-10377,-13445,-2595,-4546,-1940,-2732,111,2578,2358,-1685,-1837,657,1308,1689,441,-2113,-463,221,1719,690]
["NY","UOICB","UO","IC","NY Industrial Unfinished Oils",-1032,0,0,0,0,0,0,0,0,0,0,0,0,0,0,0,0,0,0,0,0,0,0,0,0,0,0,0,0]
["OH","UOICB","UO","IC","OH Industrial Unfinished Oils",-11274,-13902,-11096,-12445,-9035,-10383,-3783,-3367,-10174,-9274,-12917,-2440,-4375,-1607,-2450,87,2111,1950,-1582,-2372,866,1735,1912,500,-2514,-547,271,2459,986]
["PA","UOICB","UO","IC","PA Industrial Unfinished Oils",-18359,-22070,-17563,-17631,-12418,-15908,-4283,-5003,-15008,-13638,-18681,-3528,-6255,-2285,-3421,131,3199,2925,-2398,-3569,1276,2439,1702,562,-2690,-589,268,2472,992]
["RI","UOICB","UO","IC","RI Industrial Unfinished Oils",0,0,0,0,0,0,0,0,0,0,0,0,0,0,0,0,0,0,0,0,0,0,0,0,0,0,0,0,0]
["TN","UOICB","UO","IC","TN Industrial Unfinished Oils",-1480,-2286,-1825,-2047,-1648,-1894,-781,-695,-2736,-2824,-4179,-836,-1482,-541,-800,31,745,681,-558,-831,297,591,649,170,-813,-186,88,740,297]
["TX","UOICB","UO","IC","TX Industrial Unfinished Oils",-95590,-117532,-89589,-101365,-72429,-83303,-29306,-26848,-81242,-74931,-104844,-20048,-35630,-13435,-20558,719,17947,17064,-14549,-21613,7691,15301,17156,4877,-23437,-5295,2617,23450,9491]
["VA","UOICB","UO","IC","VA Industrial Unfinished Oils",-1399,-1778,-1273,-1427,-981,-1219,-422,-375,-1145,-1050,-1467,-272,-482,-176,-260,0,246,241,-200,-306,0,0,0,0,0,0,0,0,0]
["VT","UOICB","UO","IC","VT Industrial Unfinished Oils",0,0,0,0,0,0,0,0,0,0,0,0,0,0,0,0,0,0,0,0,0,0,0,0,0,0,0,0,0]
["WV","UOICB","UO","IC","WV Industrial Unfinished Oils",-308,-481,-372,-310,-213,-245,-86,-79,-231,-235,-388,-86,-160,-58,-86,3,83,76,-62,-92,33,66,72,21,-101,-22,10,92,37]
["WY","UOICB","UO","IC","WY Industrial Unfinished Oils",-4186,-3903,-3115,-3494,-2402,-2760,-965,-859,-2593,-2332,-3451,-653,-1218,-457,-675,26,639,585,-504,-750,268,544,600,157,-800,-174,83,693,278]
["AR","WDCCB","WD","CC","AR Commercial Wood",345,361,380,650,623,628,653,392,343,360,385,392,401,418,409,899,834,886,935,1353,1336,1286,1126,1306,1360,937,918,800,1029]
["AZ","WDCCB","WD","CC","AZ Commercial Wood",898,938,989,1165,1115,1126,1169,1619,1414,1487,1592,1000,1024,1066,1042,1339,1242,1319,1392,405,400,385,337,391,407,573,574,564,650]
["CT","WDCCB","WD","CC","CT Commercial Wood",1055,1102,1162,1483,1420,1434,1489,1303,1138,1196,1280,1069,1095,1140,1115,397,369,392,413,833,822,792,693,856,900,1109,940,1018,946]
["DC","WDCCB","WD","CC","DC Commercial Wood",126,132,139,231,221,223,232,197,172,181,194,129,132,138,135,6,5,6,6,3,3,3,3,3,3,0,1,1,0]
["GA","WDCCB","WD","CC","GA Commercial Wood",1197,1249,1318,2352,2252,2273,2361,2291,2001,2104,2252,1595,1634,1701,1663,1043,968,1028,1084,1718,1696,1633,1430,1658,1727,511,589,450,500]
["HI","WDCCB","WD","CC","HI Commercial Wood",0,0,0,0,0,0,0,0,0,0,0,0,0,0,0,28,26,28,29,48,48,46,40,47,49,2,2,6,3]
["IL","WDCCB","WD","CC","IL Commercial Wood",3515,3670,3870,2442,2338,2360,2451,1935,1690,1777,1902,2726,2792,2906,2842,1015,942,1000,1055,1978,1952,1880,1646,1908,1988,864,929,840,886]
["IN","WDCCB","WD","CC","IN Commercial Wood",1752,1829,1929,1235,1182,1193,1240,1007,879,925,989,1424,1458,1518,1484,2045,1898,2015,2127,1712,1690,1627,1425,1651,1721,1828,2137,1863,1981]
["LA","WDCCB","WD","CC","LA Commercial Wood",592,619,652,1100,1053,1063,1104,650,568,597,639,614,629,655,640,238,221,235,248,333,329,316,277,321,335,110,90,77,86]
["MA","WDCCB","WD","CC","MA Commercial Wood",1976,2063,2175,2769,2652,2677,2780,2427,2120,2230,2386,2023,2072,2157,2109,574,533,566,597,1441,1423,1370,1200,1391,1449,1541,1488,1524,1245]
["MI","WDCCB","WD","CC","MI Commercial Wood",3002,3133,3305,2097,2008,2027,2106,1681,1468,1544,1652,2368,2425,2525,2738,4336,4055,4254,4531,2986,2961,2818,2420,2543,2694,5532,5326,5473,5444]
["MN","WDCCB","WD","CC","MN Commercial Wood",1229,1283,1353,1413,1353,1366,1419,1349,1178,1239,1326,1405,1439,1498,1465,1711,1587,1686,1779,1980,1954,1881,1648,1910,4467,4751,5288,5434,5909]
["MT","WDCCB","WD","CC","MT Commercial Wood",196,204,215,245,234,237,246,317,276,291,311,184,188,196,192,968,898,954,1007,449,444,427,374,433,452,1587,1970,1985,2168]
["NC","WDCCB","WD","CC","NC Commercial Wood",1279,1335,1408,2510,2404,2426,2520,2424,2117,2226,2382,1704,1745,1817,1776,2471,2292,2435,2569,2376,2346,2258,1978,2292,2388,1488,1519,1379,1526]
["NH","WDCCB","WD","CC","NH Commercial Wood",403,420,443,571,547,552,573,507,443,466,498,425,436,454,444,533,494,525,554,1166,1151,1108,971,1125,1172,2038,1802,2056,1899]
["NM","WDCCB","WD","CC","NM Commercial Wood",342,357,377,440,421,425,442,607,530,557,596,352,360,375,367,1445,1341,1424,1502,975,963,927,812,941,981,1289,1600,1440,1655]
["OH","WDCCB","WD","CC","OH Commercial Wood",3410,3560,3755,2378,2277,2298,2521,2622,2193,2190,2402,2948,3517,3542,3477,3455,3119,4049,3495,2999,2961,2850,2496,2893,3015,3160,3342,3303,3241]
["OK","WDCCB","WD","CC",{"$f":"A2743&\" \"&VLOOKUP(D2743,SectorCode,2,FALSE)&\" \"&VLOOKUP(C2743,FuelCode,2,FALSE)","v":"OK Commercial Wood"},486,507,535,899,861,869,902,526,460,483,517,504,516,537,525,509,473,502,530,777,767,739,647,750,781,580,538,475,629]
["RI","WDCCB","WD","CC","RI Commercial Wood",331,346,365,466,446,450,468,407,356,374,400,339,347,361,353,97,90,96,101,198,195,188,165,191,199,268,247,247,187]
["SC","WDCCB","WD","CC","SC Commercial Wood",646,674,711,1266,1212,1223,1271,1214,1060,1115,1193,844,865,900,880,616,571,607,640,553,546,526,460,534,556,271,283,239,260]
["TX","WDCCB","WD","CC","TX Commercial Wood",2420,2526,2664,1952,1869,1887,1960,1815,1585,1667,1784,2069,2119,2206,2156,2937,2725,2895,3054,1725,1703,1639,1436,1664,1734,415,366,295,391]
["US","WDCCB","WD","CC","US Commercial Wood",65738,68440,72027,75597,71715,72379,75668,73386,64014,66621,71469,66788,68658,71435,70328,69995,65106,69796,72903,72595,71617,69159,60683,70164,76289,79288,83740,83730,84073]
["VT","WDCCB","WD","CC","VT Commercial Wood",217,226,239,307,294,297,309,273,238,250,268,228,234,243,238,628,583,619,653,1207,1191,1306,1195,1359,1424,2347,2345,2429,2513]
["WA","WDCCB","WD","CC","WA Commercial Wood",1453,1517,1600,2421,2318,2340,2431,2504,2187,2300,2461,4186,4287,4463,4363,1820,1689,1794,1893,2478,2447,2355,2063,2391,2491,3373,4462,4778,4190]
["WY","WDCCB","WD","CC","WY Commercial Wood",110,115,121,137,131,132,137,176,154,162,173,100,102,107,104,312,290,308,325,159,157,151,133,154,160,612,638,769,632]
["AK","WDEIB","WD","EI","AK Electric Power Wood",0,0,0,0,0,0,0,0,22,0,0,0,36,0,0,0,0,0,0,0,0,0,0,0,0,0,0,0,0]
["AZ","WDEIB","WD","EI","AZ Electric Power Wood",0,0,0,0,0,0,0,0,0,0,0,0,0,0,0,289,198,0,1463,1524,1675,1812,2136,1597,2823,3275,3429,2600,3037]
["CA","WDEIB","WD","EI","CA Electric Power Wood",42109,36430,40771,38854,46501,28130,32675,33228,34801,39182,39474,34111,45474,48470,47567,49125,48899,45229,46652,49778,51036,46859,53082,50232,53281,50496,40211,40347,41271]
["DC","WDEIB","WD","EI","DC Electric Power Wood",0,0,0,0,0,0,0,0,0,0,0,0,0,0,0,0,0,0,0,0,0,0,0,0,0,0,0,0,0]
["DE","WDEIB","WD","EI","DE Electric Power Wood",0,0,0,0,0,0,0,0,0,0,0,0,0,0,0,0,0,0,0,0,0,0,0,0,0,0,0,0,0]
["HI","WDEIB","WD","EI","HI Electric Power Wood",0,0,0,0,0,0,0,0,0,0,0,0,0,0,0,0,0,0,0,0,0,0,0,0,0,0,0,0,0]
["IA","WDEIB","WD","EI","IA Electric Power Wood",0,0,0,0,0,0,0,0,0,0,0,0,0,0,0,0,0,0,1,3,0,0,0,0,0,0,0,0,0]
["IN","WDEIB","WD","EI","IN Electric Power Wood",0,0,0,0,0,0,0,0,0,0,0,0,0,0,0,0,0,0,0,0,0,0,0,0,0,0,0,0,0]
["KS","WDEIB","WD","EI","KS Electric Power Wood",0,0,0,0,0,0,0,0,0,0,0,0,0,0,0,0,0,0,0,0,0,0,0,0,0,0,0,0,0]
["MA","WDEIB","WD","EI","MA Electric Power Wood",0,0,1243,1366,1585,1754,1805,1847,2504,1390,1708,1693,1544,1888,1774,1876,1894,1784,1834,1647,1505,1546,1531,1367,2295,2030,2261,2279,1988]
["MD","WDEIB","WD","EI","MD Electric Power Wood",0,0,0,0,0,0,0,0,0,0,0,0,0,0,0,0,0,0,0,0,0,21,0,0,0,0,0,0,0]
["MN","WDEIB","WD","EI","MN Electric Power Wood",1536,1476,1509,1425,395,223,273,40,0,0,0,0,0,2769,2420,2234,2076,7921,5507,6487,9110,5581,6786,9709,11312,11534,11142,11731,8395]
["MO","WDEIB",{"$f":"MID(B2783,1,2)","v":"WD"},{"$f":"MID(B2783,3,2)","v":"EI"},"MO Electric Power Wood",0,0,0,0,0,0,0,0,0,0,0,0,5,5,4,0,2,2,0,0,0,0,0,0,46,0,0,0,0]
["NC","WDEIB","WD","EI","NC Electric Power Wood",839,5127,5214,5107,6899,5038,4701,4724,5322,5099,4934,4737,4758,4731,5029,5478,6819,6976,6196,8553,9440,9679,14320,13842,14218,11036,11358,13543,11775]
["ND","WDEIB","WD","EI","ND Electric Power Wood",0,0,0,0,0,0,0,0,0,0,0,0,0,0,0,0,0,0,0,0,0,0,0,0,0,0,0,0,0]
["NJ","WDEIB","WD","EI","NJ Electric Power Wood",0,0,0,0,0,0,0,0,0,0,0,0,0,0,0,0,0,0,0,0,0,0,0,0,0,0,0,0,0]
["NM","WDEIB","WD","EI","NM Electric Power Wood",0,0,0,0,0,0,0,0,0,0,0,0,0,0,0,0,0,0,0,0,0,0,0,0,0,0,0,0,0]
["OH","WDEIB","WD","EI","OH Electric Power Wood",0,0,0,0,0,0,706,741,677,755,741,707,726,938,833,841,795,887,899,913,832,752,930,910,1003,995,1047,1006,968]
["OK","WDEIB","WD","EI","OK Electric Power Wood",0,0,0,0,0,0,0,0,0,0,0,0,0,0,0,0,0,0,0,0,0,0,0,0,0,0,0,0,22]
["RI","WDEIB","WD","EI","RI Electric Power Wood",0,0,0,0,0,0,0,0,0,0,0,0,0,0,0,0,0,0,0,0,0,0,0,0,0,0,0,0,0]
["SC","WDEIB","WD","EI","SC Electric Power Wood",0,0,0,0,0,0,0,0,0,0,0,0,0,0,2805,6438,6183,5630,5808,7161,7134,6979,9041,9801,14297,15213,14631,15416,14778]
["TX","WDEIB","WD","EI","TX Electric Power Wood",0,0,0,0,0,0,0,0,0,0,0,0,0,0,0,0,0,0,0,0,0,293,1881,1231,3320,3268,1962,1218,2277]
["US","WDEIB","WD","EI","US Electric Power Wood",128515,125796,140219,149832,152334,125411,137860,136991,136709,138026,134320,126401,150190,167290,165189,184973,181815,185956,177348,180046,195597,182159,190191,207426,251253,243857,224407,229324,221063]
["VT","WDEIB","WD","EI","VT Electric Power Wood",980,1141,1392,2837,2958,3446,3616,3893,3672,4164,3920,3940,8395,9411,6821,5298,5848,6036,5630,5332,6200,5276,4681,6527,6105,6316,6439,6030,5932]
["WA","WDEIB","WD","EI",{"$f":"A2807&\" \"&VLOOKUP(D2807,SectorCode,2,FALSE)&\" \"&VLOOKUP(C2807,FuelCode,2,FALSE)","v":"WA Electric Power Wood"},3467,2860,3730,4074,4082,2692,3724,3608,3441,4203,5408,4743,6410,10560,8344,8545,8264,8901,5371,5540,7594,6741,3078,4071,3887,4683,4910,4300,4909]
["AK","WDICB","WD","IC","AK Industrial Wood",6466,6171,6126,4088,6745,5521,5263,1647,242,104,101,19,11,11,12,12,27,28,26,23,39,111,111,111,114,114,114,114,114]
["AL","WDICB","WD","IC","AL Industrial Wood",97693,96537,102814,133378,172844,182925,169464,151270,180514,187415,188946,151625,150095,142074,170943,166032,181100,173222,157636,124240,138556,155192,158929,173097,163385,156844,155844,157667,158816]
["CA","WDICB","WD","IC","CA Industrial Wood",62908,56335,54717,44441,40644,37883,32728,39677,32653,35743,39641,44694,27437,26680,26939,29671,27311,27817,24662,22666,25807,28507,27877,27486,24505,23107,24783,25859,25991]
["CO","WDICB","WD","IC","CO Industrial Wood",331,349,314,328,287,344,371,404,340,352,339,314,162,165,175,177,162,168,161,141,240,354,354,354,361,361,361,361,361]
["DE","WDICB","WD","IC","DE Industrial Wood",229,242,217,227,247,296,396,431,354,366,353,98,48,49,52,52,24,25,24,21,36,30,30,30,28,28,28,28,28]
["FL","WDICB","WD","IC","FL Industrial Wood",91418,90368,96677,99368,96973,96719,100140,99296,81806,77161,73897,73754,76533,85627,81663,79588,82596,80260,87511,88516,100060,102315,98073,98412,89496,96667,90402,89461,86778]
["IA","WDICB","WD","IC","IA Industrial Wood",1537,1618,1457,1523,864,1038,2477,2689,1784,1827,1740,1174,640,650,690,697,676,701,673,589,1004,508,508,508,972,972,972,972,972]
["ID","WDICB","WD","IC","ID Industrial Wood",19846,19223,20879,20406,18924,20562,21675,23379,22907,24171,23784,25548,18799,19016,22244,22890,21035,21358,19324,18780,22293,18234,17755,17336,17660,17109,16546,16554,17970]
["KS","WDICB","WD","IC","KS Industrial Wood",426,449,404,422,362,433,426,463,351,363,350,759,509,519,551,557,418,433,416,364,621,88,88,88,91,91,91,91,91]
["KY","WDICB","WD","IC","KY Industrial Wood",2114,2225,2003,2094,2208,2798,5134,5645,4762,4887,4757,6854,15162,18357,19055,19613,18148,18984,17381,12633,18306,19378,17538,18829,20929,21105,21744,22114,21609]
["MD","WDICB","WD","IC","MD Industrial Wood",9632,10113,9765,9904,10125,11013,12017,11605,10883,11524,11146,5560,5650,11367,11479,11594,9732,9314,9048,8371,9734,7456,7545,7370,7503,6822,7655,6971,6846]
["ME","WDICB","WD","IC","ME Industrial Wood",76963,83398,84919,80375,82365,94127,91125,95333,71591,86200,90083,80315,74562,62535,63707,66375,59496,66270,91862,53863,63441,68156,69683,69071,63199,56059,48253,48378,49359]
["MO","WDICB","WD","IC","MO Industrial Wood",840,885,797,833,707,846,777,845,790,817,788,5448,3741,3819,4051,4094,3219,3334,3266,2891,4782,616,614,615,631,631,631,631,631]
["MS","WDICB","WD","IC","MS Industrial Wood",74315,78470,79270,83430,85407,84670,76215,78921,59374,60192,70228,51763,45210,40553,56246,55921,56338,56272,38786,37825,48693,49255,62167,49297,50512,49879,49546,47392,48440]
["ND","WDICB","WD","IC","ND Industrial Wood",33,34,31,32,17,21,173,188,161,167,161,261,147,150,160,161,84,87,84,73,125,226,226,226,269,269,269,269,269]
["NE","WDICB","WD","IC","NE Industrial Wood",0,0,0,0,1,1,97,105,50,52,50,175,72,73,78,79,162,168,161,141,241,202,202,202,206,206,206,206,206]
["NM","WDICB","WD","IC","NM Industrial Wood",238,251,226,236,239,286,193,210,178,185,178,348,238,243,258,260,362,375,360,315,538,35,35,35,36,36,36,36,36]
["NV","WDICB","WD","IC","NV Industrial Wood",0,0,0,0,0,0,227,247,205,212,205,755,492,502,533,539,345,358,343,300,512,151,151,151,155,155,155,155,155]
["OK","WDICB",{"$f":"MID(B2847,1,2)","v":"WD"},{"$f":"MID(B2847,3,2)","v":"IC"},"OK Industrial Wood",16403,15848,14170,15321,16698,17101,21416,21292,21129,19066,20205,20532,17025,19366,20932,21094,21528,20475,4988,5769,17580,17997,19248,18464,18369,17686,18643,18342,18932]
["OR","WDICB","WD","IC","OR Industrial Wood",40184,38110,28702,24752,26056,25790,31936,34372,29021,25212,28704,28743,23111,17260,25254,25760,26402,27356,23624,22636,27155,26813,32644,37489,36593,41433,37192,36457,36059]
["SC","WDICB","WD","IC","SC Industrial Wood",62047,64946,65803,65822,67593,73193,83133,87595,80792,67253,64095,49400,59784,58285,61640,61256,66560,65338,65822,63777,75854,84827,86095,82825,87103,81572,82423,83759,82098]
["SD","WDICB","WD","IC","SD Industrial Wood",223,235,212,221,223,266,287,313,271,280,270,307,167,171,181,183,204,212,203,178,303,222,222,222,228,228,228,228,228]
["US","WDICB","WD","IC","US Industrial Wood",1441912,1409847,1461223,1484345,1579770,1652078,1683499,1730613,1603440,1619520,1635925,1442644,1396434,1363315,1475735,1451729,1472398,1413023,1338734,1178370,1409000,1437638,1462245,1489011,1495000,1475888,1473776,1442324,1438030]
["UT","WDICB","WD","IC","UT Industrial Wood",130,137,123,129,124,148,195,212,190,196,189,238,130,133,141,142,198,205,197,172,294,183,183,183,188,188,188,188,188]
["WA","WDICB","WD","IC","WA Industrial Wood",74366,53234,71989,64893,64672,61161,58854,64594,61426,62571,59451,53865,47178,49742,47980,53669,77755,51172,51569,52644,72004,70137,73447,73051,73153,73782,79782,75531,73509]
["WI","WDICB","WD","IC","WI Industrial Wood",59597,59732,60287,62814,66072,68944,78021,82417,75433,80429,79136,84808,56488,65755,52419,63212,58408,50401,48002,44458,63382,60514,60049,59500,54029,53164,54655,52394,53907]
["AK","WDRCB","WD","RC","AK Residential Wood",1522,1596,1674,1947,1848,1848,1919,1568,1394,1430,1540,2513,2550,2685,2752,920,816,902,1009,2146,2302,2232,1865,2434,2463,5889,6355,5379,5862]
["AL","WDRCB","WD","RC","AL Residential Wood",15130,15862,16642,12681,12037,12037,12500,6570,5839,5992,6453,5318,5398,5682,5824,4589,4070,4498,5033,6666,7149,6934,5794,7561,7652,2123,1740,1470,2011]
["CA","WDRCB","WD","RC","CA Residential Wood",73171,76709,80481,59668,56637,56637,58816,37668,33473,34354,36997,35550,36085,37985,38934,25879,22952,25368,28388,37284,39988,38785,32410,42291,42800,22025,20480,19842,21879]
["CO","WDRCB","WD","RC","CO Residential Wood",7318,7671,8049,7576,7191,7191,7468,8364,7433,7629,8215,4716,4787,5039,5165,6832,6059,6697,7494,9310,9985,9684,8093,10560,10687,11707,10668,10571,11159]
["DE","WDRCB","WD","RC",{"$f":"A2871&\" \"&VLOOKUP(D2871,SectorCode,2,FALSE)&\" \"&VLOOKUP(C2871,FuelCode,2,FALSE)","v":"DE Residential Wood"},1204,1262,1324,1907,1810,1810,1880,1425,1266,1300,1399,930,944,994,1019,590,523,578,647,1298,1392,1350,1128,1472,1490,886,674,607,614]
["FL","WDRCB","WD","RC","FL Residential Wood",25325,26549,27855,10256,9735,9735,10110,6381,5670,5820,6267,4762,4834,5088,5215,2207,1957,2164,2421,14587,15644,15174,12680,16545,16744,267,271,198,284]
["IA","WDRCB","WD","RC","IA Residential Wood",6955,7291,7650,6381,6056,6056,6289,4846,4306,4419,4759,4725,4796,5049,5175,4326,3837,4241,4746,5534,5935,5756,4810,6277,6352,5155,4295,4156,5084]
["ID","WDRCB","WD","RC","ID Residential Wood",2047,2146,2252,2181,2070,2070,2150,2450,2178,2235,2407,1362,1382,1455,1491,8120,7201,7959,8907,3861,4141,4017,3356,4380,4432,12015,11118,12521,13954]
["KS","WDRCB","WD","RC","KS Residential Wood",6349,6656,6984,5859,5561,5561,5775,4506,4005,4110,4426,4350,4416,4648,4765,3968,3519,3889,4352,4516,4843,4697,3925,5122,5183,3834,3280,2898,4092]
["KY","WDRCB","WD","RC","KY Residential Wood",13651,14311,15014,11430,10849,10849,11266,5874,5220,5358,5770,4744,4815,5069,5196,10168,9018,9967,11153,14017,15034,14581,12185,15900,16091,8606,7463,7485,9157]
["MD","WDRCB","WD","RC","MD Residential Wood",7853,8233,8638,12388,11759,11759,12211,9152,8133,8347,8989,5801,5888,6198,6353,4578,4060,4488,5022,9983,10706,10384,8678,11323,11459,5790,4703,4700,5802]
["MI","WDRCB","WD","RC","MI Residential Wood",27464,28791,30207,15580,14788,14788,15357,10062,8941,9176,9882,13459,13662,14381,14740,25399,22526,24897,27861,18659,20012,19410,16219,21164,21419,37613,29869,29552,35763]
["MS","WDRCB","WD","RC","MS Residential Wood",9153,9596,10067,7594,7208,7208,7486,3906,3471,3563,3837,3152,3200,3368,3452,4837,4290,4741,5306,5512,5912,5734,4791,6252,6327,1395,1264,784,1451]
["MT","WDRCB","WD","RC","MT Residential Wood",1789,1875,1968,1818,1726,1726,1792,1895,1684,1728,1861,1045,1061,1117,1145,6033,5350,5914,6618,3181,3411,3309,2765,3608,3651,10838,11061,10719,14244]
["NE","WDRCB","WD","RC","NE Residential Wood",4017,4212,4419,3709,3520,3520,3656,2839,2523,2589,2788,2782,2824,2972,3046,2277,2019,2232,2497,2590,2778,2694,2252,2938,2973,2401,2228,1810,2766]
["NH","WDRCB","WD","RC","NH Residential Wood",3684,3862,4052,4242,4026,4026,4181,3036,2698,2769,2982,2418,2454,2584,2648,3321,2946,3256,3643,8256,8855,8589,7177,9365,9478,13918,10117,11100,12478]
["NV","WDRCB","WD","RC","NV Residential Wood",2570,2694,2826,2969,2818,2818,2926,3634,3229,3314,3569,2179,2212,2329,2387,1948,1728,1910,2137,1803,1933,1875,1567,2045,2069,1911,1805,1844,2708]
["NY","WDRCB","WD","RC","NY Residential Wood",38039,39878,41839,55167,52364,52364,54378,84039,74680,76646,82541,55095,55925,58869,60341,50364,44668,49369,55247,19343,20746,20121,16814,21940,22204,36979,29423,28310,34317]
["OR","WDRCB","WD","RC","OR Residential Wood",7810,8188,8590,10435,9905,9905,10286,8763,7787,7992,8607,14065,14276,15028,15403,9906,8785,9710,10866,15912,17066,16553,13832,18049,18266,20627,20785,22030,23845]
["PA","WDRCB","WD","RC","PA Residential Wood",25992,27248,28588,24690,23436,23436,24337,13815,12277,12600,13569,12494,12682,13349,13683,15425,13680,15120,16920,24104,25852,25074,20953,27341,27670,34969,28225,27618,34850]
["SD","WDRCB","WD","RC","SD Residential Wood",1778,1864,1956,1648,1565,1565,1625,1284,1141,1171,1262,1248,1267,1333,1367,1159,1028,1137,1272,1670,1791,1737,1452,1894,1917,2020,1620,1523,2484]
["TN","WDRCB","WD","RC","TN Residential Wood",18353,19241,20187,15532,14743,14743,15310,8140,7233,7424,7995,6625,6725,7079,7256,11489,10189,11262,12603,7665,8221,7973,6663,8694,8799,7666,6773,5364,7063]
["UT","WDRCB","WD","RC","UT Residential Wood",2964,3107,3260,3153,2993,2993,3108,3541,3146,3229,3478,1989,2019,2125,2178,1928,1710,1890,2115,1043,1118,1085,906,1183,1197,3120,3204,3141,4121]
["VA","WDRCB","WD","RC","VA Residential Wood",10364,10865,11399,16417,15583,15583,16183,12357,10981,11270,12137,7901,8020,8442,8653,15207,13487,14906,16681,16159,17331,16809,14047,18329,18549,14223,12679,10811,13595]
["WI","WDRCB","WD","RC","WI Residential Wood",14672,15382,16138,8418,7990,7990,8298,5504,4891,5019,5406,7399,7511,7906,8104,24994,22167,24500,27417,20366,21843,21186,17704,23101,23379,29291,24981,24260,29335]
["WV","WDRCB","WD","RC","WV Residential Wood",3243,3400,3567,4893,4645,4645,4823,3502,3112,3193,3439,2270,2305,2426,2486,9304,8251,9120,10206,17911,19210,18632,15570,20316,20561,9508,8482,8124,9578]
["AL","WSCCB","WS","CC","AL Commercial Waste Energy",0,0,0,0,0,0,0,0,0,0,0,0,0,0,0,0,0,0,0,0,0,0,0,0,0,0,0,0,0]
["AR","WSCCB","WS","CC","AR Commercial Waste Energy",177,177,177,184,184,198,184,160,156,218,206,201,171,167,133,85,71,60,70,44,54,61,67,59,40,62,55,77,59]
["CO","WSCCB","WS","CC","CO Commercial Waste Energy",292,292,292,292,351,414,400,306,340,626,168,462,0,0,0,0,0,0,0,0,0,0,0,0,0,0,0,0,0]
["CT","WSCCB","WS","CC","CT Commercial Waste Energy",0,0,0,0,0,0,7657,7587,7901,7962,0,0,0,0,0,0,0,0,0,0,0,0,0,673,608,138,0,0,0]
["FL","WSCCB","WS","CC","FL Commercial Waste Energy",430,326,488,443,476,360,371,369,504,450,451,407,486,240,499,495,496,602,577,593,555,527,480,438,494,525,581,484,488]
["GA","WSCCB","WS","CC","GA Commercial Waste Energy",0,0,0,0,0,0,0,0,0,0,0,0,0,0,0,0,0,0,0,228,201,244,273,234,264,84,40,3,0]
["ID","WSCCB","WS","CC","ID Commercial Waste Energy",0,0,0,0,0,0,0,0,0,0,0,0,0,0,0,0,0,0,0,0,0,0,0,0,60,93,103,115,112]
["IL","WSCCB","WS","CC","IL Commercial Waste Energy",0,120,120,34,112,59,2,7,40,74,106,109,70,3,4,5,4,6,1,4,0,0,2,0,0,0,0,0,0]
["KY","WSCCB","WS","CC","KY Commercial Waste Energy",0,0,0,0,0,0,0,0,0,0,0,0,0,0,0,0,0,0,0,0,0,0,0,0,0,0,0,0,0]
["LA","WSCCB","WS","CC","LA Commercial Waste Energy",0,0,0,0,0,0,0,0,0,0,0,0,0,0,0,0,0,0,0,0,0,0,0,0,0,0,0,0,0]
["ME","WSCCB","WS","CC","ME Commercial Waste Energy",2177,1685,2277,2711,2778,2782,2690,2904,2972,2938,2757,1554,1785,1820,1712,1774,1722,1729,1933,1961,2061,1867,1655,1710,1627,1780,1648,1847,1496]
["MI","WSCCB","WS","CC","MI Commercial Waste Energy",4277,6822,7108,7059,6795,7019,8703,9332,7970,7884,6994,214,4046,4009,4281,3922,4281,4397,4532,4342,4492,4701,5363,4621,4839,5067,5954,5494,5021]
["MS","WSCCB","WS","CC","MS Commercial Waste Energy",0,0,0,0,0,0,0,0,0,0,0,0,0,0,0,0,0,0,0,0,0,0,0,0,0,0,0,0,0]
["MT","WSCCB","WS","CC","MT Commercial Waste Energy",0,0,0,0,0,0,0,0,0,0,0,0,0,0,0,0,0,0,0,0,0,0,0,0,0,0,0,0,0]
["NE","WSCCB","WS","CC","NE Commercial Waste Energy",0,0,0,0,0,0,0,102,116,121,181,96,76,130,152,130,138,146,147,102,122,148,201,184,188,163,212,213,195]
["NH","WSCCB","WS","CC","NH Commercial Waste Energy",0,0,0,0,0,0,0,0,0,0,0,0,0,0,0,0,0,0,0,0,0,0,260,508,487,450,459,620,562]
["NV","WSCCB","WS","CC","NV Commercial Waste Energy",0,0,0,0,0,0,0,0,0,0,0,0,0,0,0,0,0,0,0,0,0,0,0,0,0,0,0,0,0]
["NY","WSCCB","WS","CC","NY Commercial Waste Energy",209,209,209,184,1063,3436,3570,3680,3590,3869,4291,2488,2494,2437,2537,2587,2601,2546,2526,2346,2318,2129,4852,4872,4841,4779,4860,5015,4976]
["OR","WSCCB","WS","CC","OR Commercial Waste Energy",0,0,0,0,0,0,0,0,0,0,0,0,0,0,0,0,0,137,270,253,248,257,243,235,254,288,362,351,331]
["PA","WSCCB","WS","CC","PA Commercial Waste Energy",0,0,3812,3959,3815,3921,3878,3771,3842,3801,3790,2218,2251,2369,2112,2173,2064,2086,2087,2066,2112,2057,2181,2099,2498,2420,2280,2396,2201]
["SC","WSCCB","WS","CC","SC Commercial Waste Energy",2173,2343,2338,2330,2244,2327,2330,2236,2389,2389,2275,1233,0,1280,1230,1269,1266,1226,1140,890,0,0,0,0,0,0,0,0,0]
["TX","WSCCB","WS","CC","TX Commercial Waste Energy",45,45,45,86,99,43,109,85,116,127,134,97,147,575,387,385,454,504,486,474,541,464,440,577,588,553,485,484,415]
["VA","WSCCB","WS","CC","VA Commercial Waste Energy",6165,3231,3484,3096,3069,3297,6902,7401,7944,7379,8049,4762,3972,4930,5780,6024,5909,5196,5001,4653,4825,4441,4994,5211,5141,5080,5143,5170,4711]
["VT","WSCCB","WS","CC","VT Commercial Waste Energy",0,0,0,0,0,0,0,0,0,0,0,0,0,0,0,0,0,0,0,0,0,0,0,0,0,0,0,0,0]
["WV","WSCCB","WS","CC","WV Commercial Waste Energy",0,0,0,0,0,0,0,0,0,0,0,0,0,0,0,0,0,0,0,0,0,0,0,0,0,0,0,0,0]
["WY","WSCCB","WS","CC","WY Commercial Waste Energy",0,0,0,0,0,0,0,0,0,0,0,0,0,0,0,0,0,0,0,0,0,0,0,0,0,0,0,0,0]
["AR","WSEIB","WS","EI","AR Electric Power Waste Energy",0,0,0,0,0,0,0,0,0,0,0,0,0,7075,2423,2111,798,1744,1904,550,1088,1323,1313,1381,2640,2670,3978,3261,2895]
["AZ","WSEIB","WS","EI","AZ Electric Power Waste Energy",0,0,0,0,0,0,0,0,0,0,0,341,381,327,361,355,327,214,237,221,359,562,657,857,782,633,441,478,462]
["CT","WSEIB","WS","EI","CT Electric Power Waste Energy",15864,16836,20665,20147,21000,27450,23619,23133,23331,23180,30995,14341,13706,13843,13385,13483,13438,13079,13216,13503,13223,12499,12214,11211,11479,10863,11419,10527,9565]
["DC","WSEIB","WS","EI","DC Electric Power Waste Energy",0,0,0,0,0,0,0,0,0,0,0,0,0,0,0,0,0,0,0,0,0,0,0,0,0,498,784,0,0]
["GA","WSEIB","WS","EI","GA Electric Power Waste Energy",0,0,0,51,178,242,243,353,237,242,96,245,239,209,216,209,202,155,409,412,790,694,1174,1363,1802,2124,2281,3432,3494]
["HI","WSEIB","WS","EI","HI Electric Power Waste Energy",7765,7656,7223,7631,6560,6547,4921,5608,5423,5410,5325,2830,2398,2561,0,0,0,0,0,44,40,579,403,519,609,853,1076,1762,1456]
["IL","WSEIB","WS","EI","IL Electric Power Waste Energy",2363,2541,2524,3152,3618,4273,5630,9967,8696,11201,10882,9040,10007,9700,9609,8146,7980,8336,9498,9416,9472,8248,8235,8068,8148,7095,6737,6104,6464]
["IN","WSEIB","WS","EI","IN Electric Power Waste Energy",0,0,0,0,0,534,850,1024,1033,1032,1088,1105,1084,995,1025,242,2169,2255,3104,3029,3202,3600,3459,3820,3746,4128,3964,4359,4382]
["LA","WSEIB","WS","EI","LA Electric Power Waste Energy",1347,1250,1111,1124,1124,1286,1144,1208,1212,1293,1043,907,984,1051,1193,1135,1018,1254,1177,1126,1234,1174,985,1195,1397,1455,1327,1445,1316]
["MA","WSEIB","WS","EI","MA Electric Power Waste Energy",24387,25906,26359,27930,30859,29658,31158,32447,31105,30322,32405,19495,17999,18553,18790,19224,19086,18313,19853,19300,19424,18061,17781,18013,18537,18091,17943,17703,17948]
["MI","WSEIB","WS","EI","MI Electric Power Waste Energy",2638,2925,3570,4321,4867,5841,7553,8388,8324,7566,10841,8611,8703,8169,7285,7554,7486,7500,9192,9213,7636,8517,9484,10588,10733,10058,10084,10488,10202]
["MN","WSEIB","WS","EI","MN Electric Power Waste Energy",6188,5000,6604,6705,7740,8391,8537,9406,8525,8188,8783,5464,7762,7607,5488,7061,6782,9281,12237,14395,15168,15859,17454,10321,10820,10934,11613,10950,9437]
["MT","WSEIB","WS","EI","MT Electric Power Waste Energy",0,0,0,0,0,0,0,0,0,0,0,0,0,0,0,0,0,0,0,0,0,0,0,0,0,0,0,0,0]
["NC","WSEIB","WS","EI","NC Electric Power Waste Energy",925,1477,1178,1228,1297,1442,1241,1564,1553,1537,1731,1747,1578,1448,1604,1758,1619,1536,1749,2480,3943,5834,3646,4302,5827,5522,6468,7372,7540]
["NH","WSEIB","WS","EI","NH Electric Power Waste Energy",2548,2514,2650,2776,2918,2836,2999,3161,3507,3739,3833,2820,2994,2744,2753,2733,2781,2635,2889,2875,2508,2159,2054,1874,1653,1561,1617,1686,1708]
["NJ","WSEIB","WS","EI","NJ Electric Power Waste Energy",4281,13259,15228,15885,20496,21426,16752,21679,23470,23944,24043,15077,15462,12713,12207,13109,13537,11860,14062,10666,9831,10465,12301,12215,13448,12664,13116,12755,12471]
["NY","WSEIB","WS","EI","NY Electric Power Waste Energy",27736,28929,32354,29962,34302,33597,35616,36666,34703,36648,35813,21152,21451,20940,21601,22611,23152,23323,24420,27477,27042,25456,23143,23650,24011,23213,23452,24300,23746]
["OH","WSEIB","WS","EI","OH Electric Power Waste Energy",3642,3860,4002,1311,650,589,154,0,0,0,291,295,265,282,289,265,271,153,2599,2082,3215,3089,5151,5743,5557,5731,5295,5579,5761]
["PA","WSEIB","WS","EI","PA Electric Power Waste Energy",5861,12625,17748,20316,21781,24955,26266,26046,27907,28498,28141,21609,20205,20562,20281,21131,22552,23101,23909,24977,26513,25545,26233,26841,26887,27183,27298,27452,26728]
["RI","WSEIB","WS","EI","RI Electric Power Waste Energy",995,916,995,1115,1027,1032,1233,1129,1302,1450,1414,1349,1255,1204,1226,0,1824,1920,1998,1769,1774,1555,1176,470,2013,2082,2021,1950,2048]
["TN","WSEIB","WS","EI","TN Electric Power Waste Energy",0,0,202,224,233,247,292,299,279,263,371,449,442,375,218,321,293,235,325,329,301,363,631,842,904,851,923,910,891]
["TX","WSEIB","WS","EI","TX Electric Power Waste Energy",3256,3235,3260,3374,3461,394,573,702,719,714,915,888,2176,3445,2906,2733,2725,4221,4857,4409,5108,6024,6651,6909,7175,7577,6973,6302,5507]
["VA","WSEIB","WS","EI","VA Electric Power Waste Energy",6396,9873,10846,9862,10177,10628,11796,11090,10764,11691,1212,6434,7248,7020,7165,7158,7274,8056,8585,8666,9712,9594,11822,11045,12753,12399,12541,8513,13953]
["VT","WSEIB","WS","EI","VT Electric Power Waste Energy",0,0,0,0,0,0,0,0,0,0,0,0,0,0,0,0,0,0,0,331,288,274,289,282,254,220,183,122,121]
["WV","WSEIB","WS","EI","WV Electric Power Waste Energy",0,0,0,0,0,0,0,0,0,0,147,145,34,28,13,2,0,0,0,0,0,135,118,45,54,66,0,0,0]
["WY","WSEIB","WS","EI","WY Electric Power Waste Energy",0,0,0,0,0,0,0,0,0,0,0,0,0,0,0,0,0,0,0,0,0,0,0,0,0,0,0,0,0]
["AR","WSICB","WS","IC","AR Industrial Waste Energy",788,849,782,1349,2375,1928,1823,1142,1100,991,866,621,566,545,540,619,1078,1231,1202,1349,1241,1289,1157,1015,1075,1067,1085,1082,1325]
["AZ","WSICB","WS","IC","AZ Industrial Waste Energy",112,109,103,100,201,200,307,238,280,283,223,162,236,228,225,238,571,648,639,707,722,31,28,31,24,24,24,24,24]
["CT","WSICB","WS","IC","CT Industrial Waste Energy",67,66,62,60,253,252,465,360,321,325,255,223,199,192,190,201,453,515,507,561,574,76,69,75,66,66,66,66,203]
["DE","WSICB","WS","IC","DE Industrial Waste Energy",5,5,5,4,27,27,10,8,5,5,4,15,30,29,28,30,5,6,6,6,6,3,3,3,175,83,84,140,163]
["GA","WSICB","WS","IC","GA Industrial Waste Energy",7870,2041,2407,3409,5939,6001,9379,6600,5637,5505,5506,3671,8054,7540,4746,4627,5750,6410,6520,5881,6219,9231,9102,22976,28577,26214,8534,7814,6701]
["HI","WSICB","WS","IC","HI Industrial Waste Energy",18022,17646,17537,16618,14095,13142,14090,11801,11125,11571,9869,5080,5061,6722,6771,5919,5732,5425,5330,5137,4360,3637,3756,4014,3389,3146,3337,2,2]
["IA","WSICB","WS","IC","IA Industrial Waste Energy",38385,37372,35497,34372,32271,32055,37762,29285,29098,29429,23177,19677,23151,22306,22080,23370,13722,15587,15603,17785,18484,10668,9700,10180,12483,11813,11568,11266,10847]
["ID","WSICB","WS","IC","ID Industrial Waste Energy",159,567,479,543,958,995,695,852,336,338,266,248,307,295,292,309,846,961,947,1047,1070,399,299,367,379,296,355,496,158]
["IL","WSICB","WS","IC","IL Industrial Waste Energy",28962,28354,27545,26905,25543,25619,30687,25694,23817,23809,18667,11989,13974,13629,13594,14316,8431,9576,9438,10435,10666,3465,3178,3457,3643,4131,4258,4256,4481]
["IN","WSICB","WS","IC","IN Industrial Waste Energy",18063,17591,16704,16173,15243,15149,16715,12963,12661,12896,10137,14267,16699,16202,16640,17126,6770,7629,7491,8275,8349,8120,7471,8259,8688,8837,8789,8667,8662]
["KS","WSICB","WS","IC","KS Industrial Waste Energy",4281,4169,3959,3833,3613,3590,3466,2688,2661,2691,2118,2096,2409,2321,2298,2432,164,186,184,203,208,2685,2392,1821,1787,1933,1729,1982,2409]
["KY","WSICB","WS","IC","KY Industrial Waste Energy",105,103,98,94,366,364,586,454,310,314,247,219,318,315,496,370,671,766,817,887,824,363,365,351,377,375,273,272,1200]
["LA","WSICB","WS","IC","LA Industrial Waste Energy",4829,4702,4482,4626,5969,6357,8228,6469,8558,7728,6393,5294,4393,7921,4207,4492,6249,6101,8939,9898,9687,10475,10770,12172,11389,11535,11043,10598,12208]
["MA","WSICB","WS","IC","MA Industrial Waste Energy",2245,1923,2786,2207,2869,2713,2897,2689,497,503,396,374,216,208,206,218,688,781,770,851,870,761,681,722,685,680,798,677,577]
["MD","WSICB",{"$f":"MID(B3039,1,2)","v":"WS"},{"$f":"MID(B3039,3,2)","v":"IC"},"MD Industrial Waste Energy",102,100,95,92,311,309,253,196,172,174,137,125,144,138,137,145,146,166,163,181,185,853,760,921,873,865,883,880,643]
["ME","WSICB","WS","IC","ME Industrial Waste Energy",3131,3780,3080,4216,5175,4239,3723,2276,11896,2736,2758,2368,2076,1518,1696,1382,1469,1806,1654,1596,1625,758,801,733,799,658,510,316,440]
["MI","WSICB","WS","IC","MI Industrial Waste Energy",471,452,452,486,1248,1243,1796,1399,1454,1459,1148,1359,1430,1436,1443,1569,1884,2071,2080,2405,2554,5373,4703,5738,6176,6140,6298,6308,7424]
["MN","WSICB","WS","IC","MN Industrial Waste Energy",2566,3158,2029,1964,2365,2351,4098,3645,3064,3095,2724,2892,3403,3358,3335,3489,3875,4580,4472,4902,5167,2563,2170,2381,2269,2391,2231,2193,2198]
["MO","WSICB","WS","IC","MO Industrial Waste Energy",2274,2215,2106,2075,1822,1810,2010,1740,1743,1809,1440,1343,1592,1486,1531,1581,1339,1431,1419,1457,1451,1727,1576,1548,1459,1427,1453,3163,2391]
["MS","WSICB","WS","IC","MS Industrial Waste Energy",372,362,344,333,1156,1198,853,633,528,504,409,307,332,412,501,590,1135,1179,1233,1350,1091,1380,2434,2165,2095,1916,1978,2253,1446]
["MT","WSICB","WS","IC","MT Industrial Waste Energy",90,88,83,81,291,289,358,277,260,263,207,204,199,191,189,201,378,430,424,468,479,758,675,410,387,383,392,390,419]
["NC","WSICB","WS","IC","NC Industrial Waste Energy",4034,4066,3731,3719,6516,6707,5920,4718,3680,3699,2967,2861,1488,1991,1622,1316,1435,1529,1466,1821,1839,3173,2664,2880,2958,2976,2405,2054,1441]
["ND","WSICB","WS","IC","ND Industrial Waste Energy",42,41,39,38,631,923,519,696,847,931,1043,1952,1171,1152,1706,2330,1943,1548,1370,1400,1463,2132,1758,2001,2019,1971,1928,1915,1135]
["NE","WSICB","WS","IC","NE Industrial Waste Energy",0,0,0,0,4,4,3400,2637,2602,2632,2071,3998,4672,4502,4456,4717,3188,3622,3569,3947,4034,221,197,272,257,324,585,476,745]
["NH","WSICB","WS","IC","NH Industrial Waste Energy",189,113,181,163,375,358,326,282,172,174,137,100,108,104,103,109,133,151,149,164,168,2320,2309,2513,2389,2366,2339,2331,1494]
["NJ","WSICB","WS","IC","NJ Industrial Waste Energy",102,99,94,91,494,732,1130,896,718,845,708,530,515,211,578,523,684,520,538,547,559,211,190,323,302,300,305,304,374]
["NM","WSICB","WS","IC","NM Industrial Waste Energy",20,20,19,18,60,60,1,1,3,3,2,54,62,59,59,62,230,261,257,285,291,25,23,59,78,77,79,79,84]
["NV","WSICB","WS","IC","NV Industrial Waste Energy",0,0,0,0,0,0,0,0,0,0,0,15,37,36,36,38,136,154,152,168,172,4,4,4,3,3,3,3,3]
["NY","WSICB","WS","IC","NY Industrial Waste Energy",1037,1077,1041,798,1327,1196,1945,1474,1354,1369,1238,552,498,480,475,503,1186,1348,1328,1468,1501,5896,5298,4194,4973,5418,5424,6432,5799]
["OH","WSICB","WS","IC","OH Industrial Waste Energy",4824,4698,4461,4320,4650,4621,4581,3556,3550,3581,2818,1428,1749,1840,1739,1838,3695,4121,3949,4525,6582,9070,8102,8775,8835,8767,9575,9107,8392]
["OK","WSICB","WS","IC","OK Industrial Waste Energy",89,53,85,49,198,229,376,300,345,350,281,203,194,186,1878,1744,2308,1600,3793,6293,6002,5649,6379,8109,6269,5657,7528,5252,5551]
["OR","WSICB","WS","IC","OR Industrial Waste Energy",579,564,536,519,1717,1707,1740,1350,1093,1106,870,792,962,927,917,1149,2390,3020,2485,2748,2809,1392,1244,978,776,1769,1441,1503,1445]
["PA","WSICB","WS","IC","PA Industrial Waste Energy",569,554,526,509,1527,1518,2510,2154,1612,2008,2710,655,867,849,946,915,1608,1794,1766,1952,1991,10181,9226,12123,11454,11366,11203,11258,10612]
["RI","WSICB","WS","IC","RI Industrial Waste Energy",0,0,0,0,133,132,229,178,111,112,88,78,39,37,37,39,5,5,5,6,6,90,81,91,89,88,89,89,94]
["SC","WSICB","WS","IC","SC Industrial Waste Energy",925,933,947,874,3239,3267,4227,3326,2721,2172,1964,1465,649,625,619,655,1634,1856,1829,2022,2067,2312,3195,3610,3236,2773,2845,2498,2946]
["SD","WSICB","WS","IC","SD Industrial Waste Energy",23,22,21,20,57,57,56,44,28,28,22,30,18,17,17,18,3,3,3,4,4,447,398,452,428,424,519,517,556]
["TN","WSICB","WS","IC","TN Industrial Waste Energy",9461,8791,8348,8239,8575,8373,8800,6980,7011,6815,5294,5095,5952,6646,6589,7607,5888,6542,5605,6114,6327,4388,3901,4278,4167,4623,4488,4745,4651]
["TX","WSICB","WS","IC","TX Industrial Waste Energy",6644,6227,6970,8414,8595,8376,8053,6577,6851,6478,7433,6159,7781,5035,4972,5002,5486,5931,5887,5692,10723,16597,16857,17683,17732,18899,20209,18509,21442]
["US","WSICB","WS","IC",{"$f":"A3063&\" \"&VLOOKUP(D3063,SectorCode,2,FALSE)&\" \"&VLOOKUP(C3063,FuelCode,2,FALSE)","v":"US Industrial Waste Energy"},192323,184674,178514,181157,199247,195026,223549,184014,180344,171042,145111,128595,146345,147513,136918,152480,134015,148919,147082,157708,168178,164682,158904,187174,190025,190320,174425,167536,165402]
["UT","WSICB","WS","IC","UT Industrial Waste Energy",24,23,22,21,29,29,68,53,36,36,28,26,65,63,62,66,155,176,174,192,196,20,19,20,15,15,15,15,41]
["VA","WSICB","WS","IC","VA Industrial Waste Energy",1091,1169,1123,1329,2164,2106,2936,3731,2272,2241,1925,1550,2531,3224,3364,3461,4224,4484,3132,3200,3224,2808,2435,3027,2831,2892,1636,1808,1690]
["VT","WSICB","WS","IC","VT Industrial Waste Energy",142,138,131,127,170,169,116,90,99,100,79,58,64,62,61,65,307,349,344,380,388,101,87,98,88,87,36,36,13]
["WA","WSICB","WS","IC","WA Industrial Waste Energy",594,1501,549,3911,4894,3588,4094,5506,3442,3061,2722,3415,2959,3261,3163,3265,3362,3744,3685,3910,4018,4531,4255,4914,4834,4665,4736,4029,4586]
["WI","WSICB","WS","IC","WI Industrial Waste Energy",1727,1432,1877,1902,3406,3020,1764,1601,1200,836,864,962,1472,3726,2231,2698,4361,4300,4106,4677,4841,2401,1788,2097,2246,2179,2200,2140,2062]
["WV","WSICB","WS","IC","WV Industrial Waste Energy",80,78,74,71,233,232,336,260,166,168,132,118,258,259,184,195,517,533,526,581,594,119,109,119,90,89,90,90,251]
["WY","WSICB","WS","IC","WY Industrial Waste Energy",16,16,15,15,50,50,0,0,0,0,0,5,13,13,13,13,0,0,0,0,0,2,2,2,2,2,2,2,2]
["AK","WWCCB","WW","CC","AK Commercial Wood and Waste",166,174,183,262,251,253,263,303,229,241,258,442,453,498,475,160,154,146,154,303,299,288,252,743,851,1432,1536,1416,1319]
["AL","WWCCB","WW","CC","AL Commercial Wood and Waste",1654,1726,1821,1707,1634,1650,1714,1098,959,1008,1079,936,958,998,975,736,683,726,766,941,929,895,784,908,946,311,310,272,306]
["AR","WWCCB","WW","CC","AR Commercial Wood and Waste",522,538,557,834,807,826,837,552,499,578,591,593,572,585,542,984,905,946,1005,1397,1390,1347,1193,1365,1400,998,973,877,1088]
["AZ","WWCCB","WW","CC","AZ Commercial Wood and Waste",898,938,989,1165,1115,1126,1169,1619,1414,1555,1656,1069,1070,1113,1042,1394,1307,1386,1450,454,456,457,382,391,407,573,574,564,650]
["CA","WWCCB","WW","CC","CA Commercial Wood and Waste",8380,8731,9188,8757,9200,11402,11233,9831,8610,8992,10771,9069,9858,10883,10969,9599,10400,9450,9485,10574,10462,17369,16807,17423,17328,14846,14285,13076,13063]
["CO","WWCCB","WW","CC","CO Commercial Wood and Waste",1092,1127,1173,1312,1328,1400,1424,1703,1561,1910,1542,1292,850,885,865,1096,1017,1080,1140,1315,1298,1250,1095,1269,1322,1714,1900,1958,1699]
["CT","WWCCB","WW","CC","CT Commercial Wood and Waste",1055,1102,1162,1483,1420,1434,9146,8890,9039,9158,1280,1069,1095,1140,1115,397,369,392,413,833,822,792,693,1529,1508,1248,940,1018,946]
["DC","WWCCB","WW","CC","DC Commercial Wood and Waste",126,132,139,231,221,223,232,197,172,181,194,129,132,138,135,6,5,6,6,3,3,3,3,3,3,0,1,806,931]
["DE","WWCCB","WW","CC","DE Commercial Wood and Waste",132,137,145,257,246,248,258,238,208,219,234,164,168,175,171,95,88,93,98,183,181,174,153,177,184,130,120,112,93]
["FL","WWCCB","WW","CC","FL Commercial Wood and Waste",3198,3215,3536,1824,1798,1694,1757,1435,1435,1429,1499,1245,1344,1133,1372,850,825,951,946,2653,2589,2485,2195,2426,2565,564,629,521,531]
["GA","WWCCB","WW","CC","GA Commercial Wood and Waste",1197,1249,1318,2352,2252,2273,2361,2291,2001,2104,2252,1595,1634,1701,1663,1043,968,1028,1084,1946,1897,1877,1704,1892,1992,596,629,453,500]
["HI","WWCCB","WW","CC","HI Commercial Wood and Waste",0,0,0,0,0,0,0,0,0,0,0,0,0,0,2541,2264,2616,2350,3066,3045,2945,2785,2213,3214,3295,3185,3734,3553,3805]
["IA","WWCCB","WW","CC","IA Commercial Wood and Waste",760,862,905,964,973,981,1022,2839,1283,1001,1046,1061,1188,1483,1621,1615,1554,1449,1227,1358,1348,1417,1208,1277,1467,1625,1725,1546,2062]
["ID","WWCCB","WW","CC","ID Commercial Wood and Waste",224,234,246,294,281,284,295,409,358,376,402,240,245,255,250,1303,1209,1284,1355,545,538,518,454,526,608,1852,2083,2434,2236]
["IL","WWCCB","WW","CC","IL Commercial Wood and Waste",3515,3790,3990,2476,2450,2419,2453,1942,1730,1851,2008,2835,2862,2909,2845,1020,945,1006,1057,1982,1953,1880,1648,1908,1988,864,929,840,886]
["IN","WWCCB","WW","CC","IN Commercial Wood and Waste",8938,8335,9004,8931,8796,8522,8645,8478,8176,7899,7885,5496,5453,5612,5543,6045,5933,2771,6829,6280,6313,5594,5435,5012,4717,5402,5762,5346,5570]
["KS","WWCCB","WW","CC","KS Commercial Wood and Waste",694,724,764,789,755,762,792,753,658,692,740,765,784,816,798,637,591,627,662,638,630,606,531,615,641,561,584,537,623]
["KY","WWCCB","WW","CC","KY Commercial Wood and Waste",1492,1557,1643,1539,1473,1487,1545,981,857,901,965,835,855,890,870,1632,1514,1608,1697,1980,1955,1882,1648,1910,1990,1260,1329,1386,1394]
["LA","WWCCB","WW","CC","LA Commercial Wood and Waste",592,619,652,1100,1053,1063,1104,650,568,597,639,614,629,655,640,238,221,235,248,333,329,316,277,321,335,110,90,77,86]
["MA","WWCCB","WW","CC","MA Commercial Wood and Waste",1976,2280,2360,2978,2855,2678,2780,2427,2166,2787,3117,2679,2939,2912,3843,1494,1550,1608,598,1442,1424,1371,1201,1392,1457,1542,2452,2529,2274]
["MD","WWCCB","WW","CC","MD Commercial Wood and Waste",1589,1101,1676,2369,2321,3605,3838,3855,3294,3161,3443,2325,1984,2278,2769,2680,2832,2635,2816,3413,3358,3556,3665,3881,3010,2255,2250,1816,1969]
["ME","WWCCB","WW","CC","ME Commercial Wood and Waste",3110,3107,3452,3832,3996,4007,3925,3864,3808,3567,3508,2143,2341,2361,2241,2743,2621,2709,2948,3999,4053,3809,3341,3668,3701,5395,4647,5006,4594]
["MI","WWCCB","WW","CC","MI Commercial Wood and Waste",7279,9955,10413,9156,8803,9046,10809,11013,9438,9428,8646,2583,6472,6534,7019,8258,8336,8651,9063,7327,7453,7520,7783,7164,7533,10599,11280,10967,10465]
["MN","WWCCB","WW","CC","MN Commercial Wood and Waste",1877,1931,2001,2073,1979,2024,2095,2034,1853,1930,2020,1822,1826,1869,1860,2100,2176,2230,2360,2541,2566,2457,2275,2552,5184,5555,6164,6338,6801]
["MO","WWCCB","WW","CC","MO Commercial Wood and Waste",1462,1526,1609,1662,1592,1618,1687,1710,1454,1500,1624,1652,1694,1764,1724,2966,2752,2923,3084,3690,3643,3507,3071,3760,4530,3398,3886,4011,4286]
["MS","WWCCB","WW","CC","MS Commercial Wood and Waste",1000,1044,1101,1022,979,988,1026,653,570,599,641,555,568,591,578,776,720,765,807,779,769,740,648,751,783,204,225,145,221]
["MT","WWCCB","WW","CC","MT Commercial Wood and Waste",196,204,215,245,234,237,246,317,276,291,311,184,188,196,192,968,898,954,1007,449,444,427,374,433,452,1587,1970,1985,2168]
["NC","WWCCB","WW","CC","NC Commercial Wood and Waste",1279,1335,1408,2510,2404,2426,2520,2424,2117,2226,2382,1704,1745,1817,1776,2471,2292,2435,2569,2376,2346,2258,1999,2776,3071,2122,2118,2044,2149]
["ND","WWCCB","WW","CC","ND Commercial Wood and Waste",184,192,202,207,198,200,208,196,171,180,193,195,200,208,203,58,54,57,60,65,64,62,54,63,65,76,113,107,86]
["NE","WWCCB","WW","CC","NE Commercial Wood and Waste",439,458,483,499,478,483,501,576,530,557,647,585,577,652,663,495,477,506,527,468,483,496,505,537,556,514,609,548,616]
["NH","WWCCB","WW","CC","NH Commercial Wood and Waste",403,420,443,571,547,552,573,507,443,466,498,425,436,454,444,533,494,525,554,1166,1151,1108,1231,1634,1660,2488,2260,2676,2461]
["NJ","WWCCB","WW","CC","NJ Commercial Wood and Waste",1802,1880,1981,2096,2033,2047,2119,1558,1281,1354,1442,1429,1465,1512,1491,228,243,234,260,4480,4468,5313,3971,4226,4445,3334,3362,3320,3218]
["NM","WWCCB",{"$f":"MID(B3103,1,2)","v":"WW"},{"$f":"MID(B3103,3,2)","v":"CC"},"NM Commercial Wood and Waste",342,357,377,440,421,425,442,607,530,557,596,352,360,375,367,1445,1341,1424,1502,975,963,927,812,941,981,1289,1600,1440,1655]
["NV","WWCCB","WW","CC","NV Commercial Wood and Waste",281,293,309,400,383,386,401,607,530,558,597,383,393,409,400,313,290,308,325,255,251,242,212,246,256,280,321,342,412]
["NY","WWCCB","WW","CC","NY Commercial Wood and Waste",4366,4549,4787,7610,8174,10613,11026,17721,15853,16765,18091,12183,12423,12773,12643,10670,10100,10511,10929,5078,5015,4725,7126,7508,7588,10193,10100,10258,10200]
["OH","WWCCB","WW","CC","OH Commercial Wood and Waste",3638,3560,3983,2553,2437,2458,2521,2622,2193,2190,2402,2948,3517,3542,3477,3455,3119,4049,3495,2999,2961,2850,2496,2893,3119,3506,3459,3430,3363]
["OK","WWCCB","WW","CC","OK Commercial Wood and Waste",486,507,535,899,861,869,902,526,460,483,517,504,516,537,525,509,473,502,530,777,767,739,647,750,781,580,538,475,629]
["OR","WWCCB","WW","CC","OR Commercial Wood and Waste",1982,2011,1733,2285,1345,1358,1410,1464,1279,1345,1439,2475,2535,2639,2580,1590,1475,1704,1923,2500,2467,2393,2114,2403,2513,3308,4063,4431,3961]
["PA","WWCCB","WW","CC","PA Commercial Wood and Waste",2841,2966,6940,7282,6997,7133,7215,6079,5858,5921,6059,4416,4502,4713,4404,4649,4360,4526,4661,5471,5473,5293,5015,5384,5920,7539,7306,7511,7505]
["RI","WWCCB","WW","CC","RI Commercial Wood and Waste",331,346,365,466,446,450,468,407,356,374,400,339,347,361,353,97,90,96,101,198,195,188,165,191,199,268,247,247,187]
["SC","WWCCB","WW","CC","SC Commercial Wood and Waste",2819,3017,3049,3596,3456,3550,3601,3450,3449,3504,3468,2077,865,2180,2110,1885,1837,1833,1780,1443,546,526,460,534,556,271,283,239,260]
["SD","WWCCB","WW","CC","SD Commercial Wood and Waste",194,203,214,222,212,214,223,215,187,197,211,220,225,234,229,186,173,183,193,236,233,224,196,228,237,296,289,282,378]
["TN","WWCCB","WW","CC","TN Commercial Wood and Waste",4870,4995,5212,5057,4838,4723,5079,5111,4027,3997,3853,2470,1590,1243,1215,1844,1711,1817,1917,1083,1069,1029,901,1045,1088,1122,1206,993,1075]
["TX","WWCCB","WW","CC","TX Commercial Wood and Waste",2465,2571,2709,2038,1968,1930,2069,1900,1701,1794,1918,2166,2266,2781,2543,3322,3179,3399,3540,2198,2244,2104,1876,2241,2322,968,851,780,807]
["US","WWCCB","WW","CC","US Commercial Wood and Waste",93503,94924,104478,108987,106237,112578,128696,130996,118174,120538,118724,91332,94538,100462,104565,104244,101415,100756,107117,108950,107576,111702,105930,117240,123252,126317,131871,131236,130997]
["UT","WWCCB","WW","CC","UT Commercial Wood and Waste",324,338,357,424,406,410,426,592,517,543,581,350,358,373,365,309,380,445,322,147,145,140,123,142,148,625,736,686,774]
["VA","WWCCB","WW","CC","VA Commercial Wood and Waste",7298,4413,4731,5306,5185,5433,9121,9466,9747,9275,10078,6153,5396,6413,7229,8465,8173,7601,7539,6936,7078,6610,6894,7413,7436,7163,7401,7173,6780]
["VT","WWCCB","WW","CC","VT Commercial Wood and Waste",217,226,239,307,294,297,309,273,238,250,268,228,234,243,238,628,583,619,653,1207,1191,1306,1195,1359,1424,2347,2345,2429,2513]
["WA","WWCCB","WW","CC","WA Commercial Wood and Waste",1453,1517,1600,2421,2318,2340,2431,2504,2187,2300,2461,4186,4287,4463,4363,1820,1689,1794,1893,2478,2447,2355,2065,2451,2661,3537,4630,4880,4324]
["WI","WWCCB","WW","CC","WI Commercial Wood and Waste",1904,1947,2066,1393,1261,1261,1677,1350,1238,1050,1525,1654,1629,1634,1768,4365,4020,4400,4595,3321,3315,2940,2600,3174,3322,4681,4878,5087,4989]
["WV","WWCCB","WW","CC","WV Commercial Wood and Waste",354,370,390,659,631,637,661,585,511,537,575,399,409,426,416,1493,1385,1471,1552,2530,2498,2404,2106,2441,2543,1392,1511,1505,1458]
["WY","WWCCB","WW","CC","WY Commercial Wood and Waste",110,115,121,137,131,132,137,176,154,162,173,100,102,107,104,312,290,308,325,159,157,151,133,154,160,612,638,769,632]
["AK","WWEIB","WW","EI","AK Electric Power Wood and Waste",0,0,0,0,0,0,0,0,22,0,0,0,36,0,0,0,0,0,0,0,0,0,0,0,0,0,0,0,0]
["AL","WWEIB","WW","EI","AL Electric Power Wood and Waste",26014,25904,24696,24569,23161,20558,20071,18537,18181,12184,3264,3529,3103,3033,3211,3371,3654,3664,3588,4870,5215,4603,3890,4098,5041,4550,4810,4711,3384]
["AR","WWEIB","WW","EI","AR Electric Power Wood and Waste",0,0,0,0,0,0,0,0,0,0,0,0,0,7075,2423,2111,798,1744,1904,550,1088,1323,1313,1381,2640,2670,3978,3261,2895]
["AZ","WWEIB","WW","EI","AZ Electric Power Wood and Waste",0,0,0,0,0,0,0,0,0,0,0,341,381,327,361,644,524,214,1700,1745,2034,2374,2794,2455,3604,3908,3870,3078,3499]
["CA","WWEIB","WW","EI",{"$f":"A3127&\" \"&VLOOKUP(D3127,SectorCode,2,FALSE)&\" \"&VLOOKUP(C3127,FuelCode,2,FALSE)","v":"CA Electric Power Wood and Waste"},71541,70025,78994,76560,82057,62599,61973,61676,64305,69624,69416,60668,81194,72621,71865,73098,74876,71470,74627,77484,79022,69000,75213,74270,78215,75669,65909,64914,65681]
["CO","WWEIB","WW","EI","CO Electric Power Wood and Waste",140,1275,98,87,94,97,55,63,0,0,214,463,460,438,1017,498,508,553,706,837,862,893,850,1157,1827,1124,2312,2383,2318]
["CT","WWEIB","WW","EI","CT Electric Power Wood and Waste",15864,16836,20665,20147,21000,27450,23619,23133,23331,23180,30995,14341,13706,13843,13488,13621,13603,13120,13258,13520,13235,12526,12237,11252,13106,13653,15911,13061,12719]
["DC","WWEIB","WW","EI","DC Electric Power Wood and Waste",0,0,0,0,0,0,0,0,0,0,0,0,0,0,0,0,0,0,0,0,0,0,0,0,0,498,784,0,0]
["DE","WWEIB","WW","EI","DE Electric Power Wood and Waste",0,0,0,0,0,0,0,0,0,0,191,0,0,0,0,0,5,538,1832,1617,1660,1783,1196,639,681,682,583,551,516]
["FL","WWEIB","WW","EI","FL Electric Power Wood and Waste",30801,42232,51908,54171,56706,61932,73763,71827,64838,68457,66076,33406,44953,51131,51237,50420,50442,51695,50292,53472,53214,50251,50413,51266,57709,59593,55126,63369,62165]
["GA","WWEIB","WW","EI","GA Electric Power Wood and Waste",0,0,0,51,178,242,243,1528,237,242,96,245,239,209,216,209,202,155,409,412,3378,2880,3572,7322,8752,9358,9566,13530,11587]
["HI","WWEIB","WW","EI","HI Electric Power Wood and Waste",7765,7656,7223,7631,6560,6547,4921,5608,5423,5410,5325,2830,2398,2561,0,0,0,0,0,44,40,579,403,519,609,853,1076,1762,1456]
["IA","WWEIB","WW","EI","IA Electric Power Wood and Waste",181,206,147,241,654,695,730,724,784,863,836,1022,1014,1015,1000,1012,1074,1499,1680,1457,1536,1434,1392,1384,1704,1860,1941,1932,1796]
["ID","WWEIB","WW","EI","ID Electric Power Wood and Waste",1193,1242,1207,1388,1390,1325,1208,1269,1296,715,694,721,1274,1447,1430,1515,1496,1399,1279,1533,1723,1762,2336,3431,9263,8313,2384,2400,2242]
["IL","WWEIB","WW","EI","IL Electric Power Wood and Waste",2363,2541,2524,3152,3618,4282,5632,9975,8696,11201,10882,9040,10007,9700,9609,8146,7980,8336,9498,9416,9472,8248,8235,8068,8148,7095,6737,6104,6464]
["IN","WWEIB","WW","EI","IN Electric Power Wood and Waste",0,0,0,0,0,534,850,1024,1033,1032,1088,1105,1084,995,1025,242,2169,2255,3104,3029,3202,3600,3459,3820,3746,4128,3964,4359,4382]
["KS","WWEIB","WW","EI","KS Electric Power Wood and Waste",0,0,0,0,0,0,0,0,0,0,0,0,0,0,0,0,0,0,0,0,583,692,638,854,774,738,690,683,770]
["KY","WWEIB","WW","EI","KY Electric Power Wood and Waste",0,0,0,0,0,0,0,0,0,0,0,0,0,0,790,802,1050,1132,1276,838,575,625,1199,1230,1148,1100,1241,1356,1282]
["LA","WWEIB","WW","EI","LA Electric Power Wood and Waste",1347,1250,1111,1124,1124,1286,1144,1208,1212,1293,1043,907,984,1051,1193,1135,1018,1254,1177,1126,1234,1174,985,1195,1397,1455,1327,1445,1316]
["MA","WWEIB","WW","EI","MA Electric Power Wood and Waste",24387,25906,27602,29296,32444,31412,32963,34294,33609,31712,34113,21188,19543,20441,20564,21100,20981,20097,21687,20947,20929,19608,19312,19380,20832,20121,20203,19982,19937]
["MD","WWEIB","WW","EI","MD Electric Power Wood and Waste",7343,7323,7499,7275,7610,10116,12132,11739,12076,12741,12334,7034,7317,7128,7306,7311,7608,7497,7679,7409,7602,6961,7373,7684,7862,7760,7597,7792,7691]
["ME","WWEIB","WW","EI","ME Electric Power Wood and Waste",21499,22551,26446,31225,24178,19117,20467,19445,22793,24928,26457,31008,30231,30640,31517,42124,40842,40859,34093,30248,32292,28227,26847,27678,28062,30961,28013,28524,27031]
["MI","WWEIB","WW","EI","MI Electric Power Wood and Waste",9010,9297,10670,15999,17722,19653,23384,22558,22469,21653,25622,25034,24836,24816,25277,23201,23206,22076,22723,22032,21936,22942,22325,23236,24726,21219,21796,22737,22493]
["MN","WWEIB","WW","EI","MN Electric Power Wood and Waste",7724,6476,8113,8130,8135,8614,8810,9446,8525,8188,8783,5464,7762,10376,7907,9295,8857,17202,17744,20882,24278,21440,24240,20030,22132,22469,22755,22681,17832]
["MO","WWEIB","WW","EI","MO Electric Power Wood and Waste",0,0,0,13,70,258,324,426,793,510,746,0,5,5,4,0,130,189,324,752,653,600,723,722,898,990,988,1070,973]
["MS","WWEIB","WW","EI","MS Electric Power Wood and Waste",0,0,0,0,0,0,0,0,0,0,0,0,0,0,0,0,0,0,0,0,17,4,29,123,135,126,103,122,128]
["MT","WWEIB","WW","EI","MT Electric Power Wood and Waste",785,651,818,806,433,0,0,0,0,0,0,0,0,0,0,0,0,0,0,0,0,0,0,0,0,0,0,0,0]
["NC","WWEIB","WW","EI","NC Electric Power Wood and Waste",1764,6604,6392,6335,8196,6480,5942,6288,6875,6636,6665,6484,6336,6179,6634,7236,8438,8512,7944,11033,13383,15513,17966,18144,20045,16558,17826,20915,19315]
["ND","WWEIB","WW","EI","ND Electric Power Wood and Waste",0,0,0,0,0,0,0,0,0,0,0,0,0,0,0,0,0,0,0,0,0,0,0,0,0,0,0,0,0]
["NE","WWEIB","WW","EI","NE Electric Power Wood and Waste",0,0,67,59,96,168,119,160,98,107,106,107,93,429,333,475,526,615,600,645,731,649,582,619,642,716,865,894,869]
["NH","WWEIB","WW","EI","NH Electric Power Wood and Waste",15321,15420,15603,15958,14894,13701,14042,14203,14622,14722,14695,13562,12913,11869,12002,12601,12643,16680,17701,17304,17499,15965,18040,19952,22854,24519,24293,23591,20069]
["NJ","WWEIB","WW","EI","NJ Electric Power Wood and Waste",4281,13259,15228,15885,20496,21426,16752,21679,23470,23944,24043,15077,15462,12713,12207,13109,13537,11860,14062,10666,9831,10465,12301,12215,13448,12664,13116,12755,12471]
["NM","WWEIB","WW","EI","NM Electric Power Wood and Waste",156,156,156,128,121,110,154,84,107,108,87,209,224,0,0,44,212,336,488,476,339,189,338,433,322,483,328,347,388]
["NV","WWEIB","WW","EI","NV Electric Power Wood and Waste",0,0,0,0,0,0,0,0,0,0,0,0,0,0,0,0,0,0,0,10,0,0,209,266,270,282,769,839,795]
["NY","WWEIB","WW","EI","NY Electric Power Wood and Waste",28379,29833,37683,34889,40120,38709,41208,41379,39568,41350,41389,26131,25029,24661,26009,27258,27814,27496,29563,31500,31229,29033,26689,29749,32302,29838,31024,32110,30098]
["OH","WWEIB","WW","EI","OH Electric Power Wood and Waste",3642,3860,4002,1311,650,589,860,741,677,755,1032,1002,991,1220,1122,1106,1067,1040,3497,2995,4047,3841,6081,6653,6560,6726,6342,6585,6729]
["OK","WWEIB","WW","EI","OK Electric Power Wood and Waste",0,0,0,0,0,0,0,0,0,0,0,0,0,0,0,0,0,0,45,0,0,0,0,186,194,154,184,227,262]
["OR","WWEIB","WW","EI","OR Electric Power Wood and Waste",7161,6209,5828,5613,6031,7123,6743,6625,6967,5265,6152,5460,4293,5897,1320,7126,7414,6700,4474,5163,5405,4915,5267,6506,7719,6835,6864,6157,6925]
["PA","WWEIB","WW","EI","PA Electric Power Wood and Waste",8831,15330,20817,23548,24641,27726,29096,29040,30877,31335,31506,25090,25103,24606,24044,24965,25457,26422,28590,28548,30136,28672,27573,27492,26929,27220,27315,27453,26731]
["RI","WWEIB","WW","EI","RI Electric Power Wood and Waste",995,916,995,1115,1027,1032,1233,1129,1302,1450,1414,1349,1255,1204,1226,0,1824,1920,1998,1769,1774,1555,1176,470,2013,2082,2021,1950,2048]
["SC","WWEIB","WW","EI","SC Electric Power Wood and Waste",0,0,0,0,0,0,0,0,0,0,0,0,147,232,3048,6909,6927,6434,6826,8488,8775,8863,10658,11698,16113,17138,16271,17070,16218]
["SD","WWEIB","WW","EI","SD Electric Power Wood and Waste",0,0,0,0,0,0,0,0,0,0,0,0,0,0,0,0,0,0,18,62,0,0,0,0,0,0,0,0,0]
["TN","WWEIB","WW","EI","TN Electric Power Wood and Waste",0,0,202,224,233,247,292,302,284,270,378,461,450,375,218,321,293,235,325,329,301,363,631,842,904,851,923,910,891]
["TX","WWEIB","WW","EI","TX Electric Power Wood and Waste",3256,3235,3260,3374,3461,394,573,702,719,714,915,888,2176,3445,2906,2733,2725,4221,4857,4409,5108,6316,8532,8139,10495,10845,8935,7520,7784]
["US","WWEIB",{"$f":"MID(B3167,1,2)","v":"WW"},{"$f":"MID(B3167,3,2)","v":"EI"},"US Electric Power Wood and Waste",316505,354354,402453,414626,433887,421662,438272,445968,444497,453225,452757,337141,379971,392098,383079,401464,408051,419312,431315,437670,459372,436727,452644,469611,530143,524879,505069,509541,496085]
["UT","WWEIB","WW","EI","UT Electric Power Wood and Waste",0,0,0,0,0,0,0,0,0,1361,1385,754,797,713,758,779,754,623,987,1139,1242,1302,1314,1421,1515,1247,1343,1085,770]
["VA","WWEIB","WW","EI","VA Electric Power Wood and Waste",6638,10115,11092,10109,11761,12923,13495,12656,12228,13980,5687,6591,11607,12023,14140,13770,12539,13146,16249,15686,16299,15920,17174,22098,32981,33579,33594,28407,35738]
["VT","WWEIB","WW","EI","VT Electric Power Wood and Waste",980,1141,1392,2837,2958,3446,3616,3893,3672,4164,3920,3940,8395,9411,6821,5298,5848,6036,5630,5663,6488,5549,4970,6809,6359,6535,6622,6152,6054]
["WA","WWEIB","WW","EI","WA Electric Power Wood and Waste",3717,3696,6608,7253,7338,5970,6556,6567,6750,7467,9849,7402,9066,12787,10992,11155,10868,11250,7684,7755,10286,9163,6297,7663,7770,8273,8446,8266,7761]
["WI","WWEIB","WW","EI","WI Electric Power Wood and Waste",3427,3209,3407,4123,4730,4901,5302,6040,6658,5664,5212,4130,5072,5453,7838,6716,8142,8841,9195,9814,10720,14787,15753,15017,17642,17373,14325,14498,13615]
["WV","WWEIB","WW","EI","WV Electric Power Wood and Waste",0,0,0,0,0,0,0,0,0,0,147,157,35,30,20,7,0,0,0,0,0,138,118,45,54,66,0,0,0]
["WY","WWEIB","WW","EI","WY Electric Power Wood and Waste",0,0,0,0,0,0,0,0,0,0,0,0,0,0,0,0,0,0,0,0,0,0,0,0,0,0,0,0,0]
["AK","WWICB","WW","IC","AK Industrial Wood and Waste",6480,6184,6896,4858,7557,6203,5863,1847,242,104,101,19,154,78,97,52,95,129,70,94,104,155,145,180,208,167,121,130,144]
["AL","WWICB","WW","IC","AL Industrial Wood and Waste",100885,99669,105583,135893,177630,187712,174338,155654,184205,191472,192986,155232,153307,145353,174133,169338,185668,178230,163345,129478,143825,156899,160622,174621,164530,157894,156903,158725,159906]
["AR","WWICB","WW","IC","AR Industrial Wood and Waste",66909,67561,72222,80091,77087,77522,82171,83985,79375,79428,80569,63996,70105,70339,70473,72492,77443,80024,67752,70995,75926,78962,78901,76729,75321,69150,65769,66248,65990]
["AZ","WWICB","WW","IC","AZ Industrial Wood and Waste",4623,5031,5065,3778,4132,5042,3093,3206,807,829,749,1276,935,941,982,1004,1218,1319,1283,1270,1683,257,254,257,262,262,262,262,262]
["CA","WWICB","WW","IC","CA Industrial Wood and Waste",65331,58544,57073,46715,44821,42268,35567,42050,34671,37611,41117,50862,34921,33812,33983,37033,30569,31519,28310,26700,29930,32639,31652,31637,28451,27021,28779,29966,29912]
["CO","WWICB","WW","IC","CO Industrial Wood and Waste",2358,2322,2188,2142,2014,2059,2000,1667,1584,1610,1329,366,283,282,291,299,341,371,362,363,467,399,395,399,392,392,392,392,392]
["CT","WWICB","WW","IC","CT Industrial Wood and Waste",2135,2242,2022,2109,2466,2898,5770,6130,5087,5257,5012,5060,3567,3630,3837,3887,3403,3571,3441,3129,4952,4405,4399,4404,4262,4262,4262,4262,4399]
["DC","WWICB","WW","IC","DC Industrial Wood and Waste",0,0,0,0,0,0,0,0,0,0,0,0,0,0,0,0,0,0,0,0,0,0,0,0,0,0,0,0,0]
["DE","WWICB","WW","IC","DE Industrial Wood and Waste",234,246,222,232,274,323,406,438,359,371,357,113,78,78,80,83,29,31,30,27,42,34,33,33,203,111,112,168,191]
["FL","WWICB","WW","IC","FL Industrial Wood and Waste",110974,110450,115999,118463,113583,112896,120419,117271,99762,95849,90160,87885,93003,100247,91175,99688,102303,105085,109039,109185,122925,122365,118818,121837,111438,120226,114366,113749,107778]
["GA","WWICB","WW","IC","GA Industrial Wood and Waste",175470,169860,170118,173996,176940,186533,188432,200997,188514,187821,180747,153997,244662,167786,177578,167517,174352,170392,139400,133576,155195,162475,159370,179835,197293,210927,194288,179298,181454]
["HI","WWICB","WW","IC","HI Industrial Wood and Waste",18159,17790,17678,16757,14164,13256,14145,11825,11125,11571,9869,5117,5083,6745,6795,5943,5753,5447,5351,5155,4392,3659,3778,4036,3412,3169,3360,24,24]
["IA","WWICB","WW","IC","IA Industrial Wood and Waste",39922,38989,36954,35894,33134,33093,40239,31974,30881,31257,24917,20852,23791,22956,22770,24067,14398,16287,16276,18373,19488,11176,10208,10688,13455,12785,12540,12238,11819]
["ID","WWICB","WW","IC","ID Industrial Wood and Waste",20005,19790,21358,20949,19881,21556,22370,24231,23243,24509,24050,25796,19106,19311,22537,23200,21881,22319,20271,19827,23363,18633,18055,17703,18039,17405,16900,17050,18128]
["IL","WWICB","WW","IC","IL Industrial Wood and Waste",31593,31118,30031,29509,27724,28272,33303,29660,25845,25879,20654,14594,15539,15227,15288,16029,10718,11946,11731,12442,14065,4757,4454,4732,5064,5553,5679,5677,5902]
["IN","WWICB","WW","IC","IN Industrial Wood and Waste",21920,21651,20359,19995,18832,19440,20082,16625,15599,15937,13069,18052,19033,18585,19168,19680,8847,9781,9556,10082,11431,11662,11014,11801,12432,12581,12534,12412,12407]
["KS","WWICB","WW","IC",{"$f":"A3191&\" \"&VLOOKUP(D3191,SectorCode,2,FALSE)&\" \"&VLOOKUP(C3191,FuelCode,2,FALSE)","v":"KS Industrial Wood and Waste"},4708,4618,4363,4256,3975,4023,3893,3152,3012,3055,2468,2855,2918,2840,2849,2989,582,620,600,567,829,2773,2480,1909,1878,2025,1820,2073,2501]
["KY","WWICB","WW","IC","KY Industrial Wood and Waste",2219,2328,2101,2188,2574,3162,5720,6099,5072,5200,5004,7073,15480,18671,19551,19984,18820,19750,18197,13520,19130,19741,17903,19180,21306,21480,22017,22386,22808]
["LA","WWICB","WW","IC","LA Industrial Wood and Waste",110824,112906,116072,114174,126980,131340,131799,132900,130947,134149,130881,122950,126113,133382,168135,139376,138768,137692,94379,89454,96393,95703,96927,109315,131654,117259,132925,115715,113839]
["MA","WWICB","WW","IC","MA Industrial Wood and Waste",7615,7576,7876,7528,8660,9638,9754,10146,6798,7024,6683,4966,3241,3297,3482,3530,4118,4335,4180,3837,5961,7730,7651,7692,7465,7459,7577,7456,7357]
["MD","WWICB","WW","IC","MD Industrial Wood and Waste",9734,10212,9859,9996,10436,11322,12269,11801,11055,11698,11283,5684,5793,11506,11616,11739,9878,9479,9212,8552,9918,8309,8306,8292,8375,7686,8538,7852,7489]
["ME","WWICB","WW","IC","ME Industrial Wood and Waste",80094,87178,87998,84591,87540,98366,94848,97609,83487,88935,92841,82682,76638,64054,65403,67757,60965,68076,93516,55458,65066,68914,70484,69803,63998,56717,48763,48694,49799]
["MI","WWICB","WW","IC","MI Industrial Wood and Waste",36495,38183,37852,40631,43003,44671,53304,51395,49553,51370,50408,35480,25693,35384,37250,36252,34083,34685,35152,32496,39996,51184,51250,52744,52253,50050,49280,48677,50358]
["MN","WWICB","WW","IC","MN Industrial Wood and Waste",28006,29216,30370,31443,33373,35603,35898,36082,33310,33014,35663,39143,28578,23124,34244,35067,33032,33585,32857,32063,37563,35895,34604,34545,37347,33746,34316,34587,35085]
["MO","WWICB","WW","IC","MO Industrial Wood and Waste",3115,3100,2903,2908,2530,2656,2787,2585,2533,2626,2229,6791,5333,5305,5582,5675,4558,4765,4685,4348,6234,2343,2190,2162,2090,2059,2084,3795,3022]
["MS","WWICB","WW","IC","MS Industrial Wood and Waste",74686,78832,79614,83763,86564,85868,77067,79554,59902,60696,70637,52070,45543,40965,56746,56511,57473,57450,40019,39175,49784,50634,64601,51462,52607,51795,51524,49644,49886]
["MT","WWICB","WW","IC","MT Industrial Wood and Waste",8884,14322,7000,6872,7671,14437,13692,13963,12741,13304,13088,10651,9724,10641,11186,10828,10889,13124,10828,9070,9691,1518,1435,1307,1617,1717,1714,1745,1768]
["NC","WWICB","WW","IC","NC Industrial Wood and Waste",82759,55732,79066,78084,84005,84860,82657,83816,78903,79622,80602,82318,71445,89894,65905,65702,73543,56425,84476,66631,75764,81021,79789,80705,76851,81880,77487,80696,76057]
["ND","WWICB","WW","IC","ND Industrial Wood and Waste",75,75,70,70,648,943,692,884,1008,1097,1204,2213,1319,1302,1866,2492,2027,1635,1454,1473,1588,2358,1985,2227,2289,2240,2197,2185,1404]
["NE","WWICB","WW","IC","NE Industrial Wood and Waste",0,0,0,0,5,5,3497,2742,2652,2683,2121,4173,4744,4575,4534,4795,3351,3790,3731,4088,4275,423,399,474,462,530,791,681,951]
["NH","WWICB","WW","IC","NH Industrial Wood and Waste",7822,4620,7672,7107,5785,7035,8953,7937,6503,6477,5847,3507,1451,1429,6605,6795,1795,1769,1710,1537,2376,4113,4015,4218,4074,4051,4024,4016,3179]
["NJ","WWICB","WW","IC","NJ Industrial Wood and Waste",3082,3169,2858,2980,3655,4512,6443,6674,5576,5872,5556,3690,2561,2299,2793,2761,4064,4022,3899,3490,5576,3063,3042,3175,3082,3080,3085,3084,3154]
["NM","WWICB","WW","IC","NM Industrial Wood and Waste",259,271,245,254,299,346,194,211,181,187,180,402,299,302,316,323,592,636,617,600,828,60,58,94,114,113,115,115,120]
["NV","WWICB","WW","IC","NV Industrial Wood and Waste",0,0,0,0,0,0,227,247,205,212,205,770,529,538,568,576,481,512,495,469,684,155,155,155,158,158,158,158,158]
["NY","WWICB","WW","IC","NY Industrial Wood and Waste",26603,20837,20207,19628,21333,20912,32595,34544,28928,30399,32114,17717,14014,13867,17221,16945,16611,16046,13598,13039,17868,24391,24367,22976,23564,23931,24147,24712,24179]
["OH","WWICB","WW","IC","OH Industrial Wood and Waste",27629,30647,24352,22639,49156,45468,53423,53611,49324,55862,57937,25766,12249,20491,21271,21776,23894,24284,23973,23119,29973,30441,28464,29546,29576,28491,28213,27741,25676]
["OK","WWICB","WW","IC","OK Industrial Wood and Waste",16492,15901,14256,15370,16896,17330,21792,21592,21474,19416,20487,20735,17218,19552,22810,22837,23836,22076,8781,12062,23582,23646,25627,26573,24638,23343,26170,23594,24483]
["OR","WWICB","WW","IC","OR Industrial Wood and Waste",40763,38674,29238,25271,27774,27497,33676,35722,30114,26318,29574,29534,24072,18186,26171,26910,28792,30376,26109,25384,29963,28205,33888,38467,37369,43202,38633,37960,37504]
["PA","WWICB","WW","IC","PA Industrial Wood and Waste",23699,23974,23854,23980,27881,33231,38401,41832,36283,38504,38044,35610,30247,31111,32291,32554,30287,30518,30343,28931,38128,52215,52217,59829,54885,53127,54657,54712,52177]
["RI","WWICB","WW","IC","RI Industrial Wood and Waste",0,0,0,0,169,175,302,257,247,253,224,217,73,72,74,76,57,59,57,51,84,122,113,123,134,133,135,134,139]
["SC","WWICB","WW","IC","SC Industrial Wood and Waste",62972,65878,66750,66696,70832,76459,87360,90921,83513,69425,66059,50865,60433,58910,62258,61911,68193,67194,67651,65799,77921,87139,89290,86435,90339,84345,85268,86257,85043]
["SD","WWICB","WW","IC","SD Industrial Wood and Waste",246,257,232,241,280,323,344,356,299,309,293,337,185,188,198,201,207,215,206,181,307,669,620,674,656,652,747,746,784]
["TN","WWICB","WW","IC","TN Industrial Wood and Waste",33276,36695,35642,34321,36800,40727,35286,33709,34948,38338,40592,54799,54757,49594,62891,51387,44963,43107,51387,46089,53083,50447,55308,54917,57349,57314,55096,55911,57495]
["TX","WWICB","WW","IC","TX Industrial Wood and Waste",68113,67346,75461,78127,78312,83389,81909,89141,81582,65721,67985,55871,64974,60127,56510,55804,55561,58925,71534,45338,64988,69887,68741,71036,68004,66747,69022,67870,73007]
["US","WWICB","WW","IC","US Industrial Wood and Waste",1634235,1594521,1639737,1665502,1779017,1847104,1907048,1914627,1783784,1790562,1781036,1571239,1542779,1510828,1612653,1604209,1606413,1561942,1485816,1336078,1577178,1602320,1621149,1676185,1685025,1666208,1648201,1609860,1603432]
["UT","WWICB","WW","IC","UT Industrial Wood and Waste",154,160,145,150,153,177,263,265,225,232,218,264,195,196,203,208,353,382,371,365,490,203,201,203,203,203,203,203,229]
["VA","WWICB","WW","IC","VA Industrial Wood and Waste",66142,69123,70877,72970,77362,81423,82202,77983,76265,77998,78193,60970,42424,58378,64012,73438,69933,67360,65341,59783,53116,51269,51738,55806,59968,63288,58211,60127,59231]
["VT","WWICB","WW","IC","VT Industrial Wood and Waste",2099,2871,2666,2686,2920,3209,2938,3226,2729,2497,2982,2580,1285,1178,1510,2209,2460,1591,1536,1424,2168,449,435,446,448,447,396,396,373]
["WA","WWICB","WW","IC","WA Industrial Wood and Waste",74960,54735,72538,68803,69565,64748,62948,70100,64868,65631,62173,57280,50137,53003,51143,56934,81118,54916,55254,56555,76022,74667,77702,77966,77987,78447,84518,79560,78095]
["WI","WWICB","WW","IC","WI Industrial Wood and Waste",61324,61164,62165,64716,69478,71964,79786,84018,76633,81266,80000,85770,57961,69481,54649,65910,62770,54701,52108,49135,68223,62915,61837,61597,56275,55343,56855,54534,55969]
["WV","WWICB","WW","IC","WV Industrial Wood and Waste",1411,1479,1336,1390,1574,1835,1772,1823,1470,1517,1433,2019,1415,1440,1437,1461,1256,1299,1261,1225,1692,1128,1117,1128,1130,1130,1131,1131,1291]
["WY","WWICB","WW","IC","WY Industrial Wood and Waste",978,992,332,287,590,377,158,172,143,148,143,271,171,174,184,186,85,88,85,74,126,112,112,112,115,115,115,115,115]
["AK","WXICB","WX","IC","AK Industrial Waxes",0,0,0,0,0,0,0,0,0,0,0,0,0,0,0,0,0,0,0,0,0,0,0,0,0,0,0,0,0]
["AL","WXICB","WX","IC","AL Industrial Waxes",0,447,474,509,516,516,574,516,500,442,390,582,516,497,493,503,420,352,308,197,275,242,246,291,261,218,227,180,219]
["AR","WXICB","WX","IC","AR Industrial Waxes",884,647,686,737,747,748,1029,925,896,791,699,613,543,524,519,529,375,314,274,175,245,216,219,224,201,168,175,138,169]
["AZ","WXICB","WX","IC","AZ Industrial Waxes",0,265,281,302,306,306,354,319,309,273,241,254,225,217,215,220,209,175,153,97,136,120,122,163,146,122,127,100,122]
["CA","WXICB",{"$f":"MID(B3231,1,2)","v":"WX"},{"$f":"MID(B3231,3,2)","v":"IC"},"CA Industrial Waxes",3248,4016,4260,4576,4640,4641,5389,4844,4692,4145,3663,4603,4075,3932,3896,3973,3436,2876,2516,1606,2245,1981,2010,2225,1995,1668,1734,1371,1675]
["CO","WXICB","WX","IC","CO Industrial Waxes",0,376,399,428,434,434,601,540,523,462,408,276,245,236,234,239,200,168,147,94,131,115,117,149,133,111,116,92,112]
["CT","WXICB","WX","IC","CT Industrial Waxes",236,450,477,513,520,520,690,620,600,531,469,346,306,295,292,298,260,217,190,121,170,150,152,149,134,112,116,92,112]
["DC","WXICB","WX","IC","DC Industrial Waxes",0,0,0,0,0,0,0,0,0,0,0,0,0,0,0,0,0,0,0,0,0,0,0,0,0,0,0,0,0]
["DE","WXICB","WX","IC","DE Industrial Waxes",0,50,53,57,58,58,68,61,59,53,46,138,122,118,117,119,53,44,39,25,34,30,31,0,0,0,0,0,0]
["FL","WXICB","WX","IC","FL Industrial Waxes",236,920,975,1048,1062,1063,1049,943,913,807,713,880,779,751,744,759,581,486,425,271,379,335,340,305,274,229,238,188,230]
["GA","WXICB","WX","IC","GA Industrial Waxes",2491,1440,1528,1641,1664,1664,2053,1845,1787,1579,1396,1425,1262,1217,1206,1230,1136,951,832,531,742,655,665,674,604,505,525,415,507]
["HI","WXICB","WX","IC","HI Industrial Waxes",0,50,53,57,58,58,68,61,59,53,46,0,0,0,0,0,53,44,39,25,34,30,31,0,0,0,0,0,0]
["IA","WXICB","WX","IC","IA Industrial Waxes",236,492,522,561,569,569,551,496,480,424,375,484,428,413,410,418,449,376,329,210,293,259,262,214,192,160,167,132,161]
["ID","WXICB","WX","IC","ID Industrial Waxes",0,100,106,114,116,116,146,132,127,113,100,138,122,118,117,119,113,95,83,53,74,65,66,81,73,61,63,50,61]
["IL","WXICB","WX","IC","IL Industrial Waxes",4468,2753,2920,3137,3181,3181,4303,3868,3746,3310,2925,2523,2234,2155,2136,2178,1631,1365,1194,762,1065,940,954,1076,964,806,838,663,810]
["IN","WXICB","WX","IC","IN Industrial Waxes",330,1130,1198,1287,1305,1305,1667,1498,1451,1282,1133,1376,1218,1175,1165,1188,1218,1019,891,569,796,702,712,698,626,523,544,430,525]
["KS","WXICB","WX","IC","KS Industrial Waxes",1416,274,291,312,317,317,340,306,296,262,231,300,266,257,254,259,238,199,174,111,155,137,139,110,99,83,86,68,83]
["KY","WXICB","WX","IC","KY Industrial Waxes",442,555,589,633,641,642,847,762,738,652,576,637,564,544,539,550,305,255,223,143,199,176,178,194,174,146,151,120,146]
["LA","WXICB","WX","IC","LA Industrial Waxes",236,422,448,481,488,488,425,382,370,327,289,335,297,286,284,289,338,283,248,158,221,195,198,195,175,146,152,120,147]
["MA","WXICB","WX","IC","MA Industrial Waxes",881,769,816,877,889,889,1104,992,961,849,750,771,682,658,652,665,531,445,389,248,347,306,311,308,277,231,240,190,232]
["MD","WXICB","WX","IC","MD Industrial Waxes",3538,415,440,473,479,480,507,456,442,390,345,346,307,296,293,299,184,154,135,86,120,106,108,163,146,122,127,100,122]
["ME","WXICB","WX","IC","ME Industrial Waxes",0,129,137,147,149,149,156,140,136,120,106,76,67,65,64,66,53,44,39,25,34,30,31,0,0,0,0,0,0]
["MI","WXICB","WX","IC","MI Industrial Waxes",442,1283,1361,1462,1482,1482,1983,1782,1726,1525,1348,1251,1108,1069,1059,1080,886,742,649,414,579,511,518,579,520,434,452,357,436]
["MN","WXICB","WX","IC","MN Industrial Waxes",0,972,1031,1108,1123,1123,1317,1184,1147,1013,896,944,835,806,799,815,752,630,551,352,492,434,440,482,432,361,376,297,363]
["MO","WXICB","WX","IC","MO Industrial Waxes",3281,861,913,981,995,995,976,877,849,751,663,1007,891,860,852,869,797,667,583,372,520,459,466,389,349,292,303,240,293]
["MS","WXICB","WX","IC","MS Industrial Waxes",0,543,576,618,627,627,723,649,629,556,491,478,423,408,405,413,385,322,282,180,252,222,225,207,186,155,161,128,156]
["MT","WXICB","WX","IC","MT Industrial Waxes",0,0,0,0,0,0,0,0,0,0,0,0,0,0,0,0,0,0,0,0,0,0,0,0,0,0,0,0,0]
["NC","WXICB","WX","IC","NC Industrial Waxes",720,1232,1307,1404,1423,1423,2051,1844,1786,1578,1394,1595,1412,1363,1350,1377,1162,973,851,543,759,670,680,765,686,573,596,471,576]
["ND","WXICB","WX","IC",{"$f":"A3255&\" \"&VLOOKUP(D3255,SectorCode,2,FALSE)&\" \"&VLOOKUP(C3255,FuelCode,2,FALSE)","v":"ND Industrial Waxes"},0,0,0,0,0,0,0,0,0,0,0,65,57,55,55,56,53,44,39,25,34,30,31,0,0,0,0,0,0]
["NE","WXICB","WX","IC","NE Industrial Waxes",442,146,155,167,169,169,156,140,136,120,106,170,150,145,144,147,137,115,100,64,89,79,80,83,74,62,64,51,62]
["NH","WXICB","WX","IC","NH Industrial Waxes",442,50,53,57,58,58,68,61,59,53,46,31,28,27,26,27,32,26,23,15,21,18,18,13,12,10,10,8,10]
["NJ","WXICB","WX","IC","NJ Industrial Waxes",442,1545,1638,1760,1785,1785,1933,1737,1683,1487,1314,1112,984,950,941,960,660,552,483,308,431,380,386,461,413,345,359,284,347]
["NM","WXICB","WX","IC","NM Industrial Waxes",0,0,0,0,0,0,0,0,0,0,0,0,0,0,0,0,53,44,39,25,34,30,31,18,16,13,14,11,13]
["NV","WXICB","WX","IC","NV Industrial Waxes",0,0,0,0,0,0,0,0,0,0,0,0,0,0,0,0,0,0,0,0,0,0,0,0,0,0,0,0,0]
["NY","WXICB","WX","IC","NY Industrial Waxes",1077,1482,1571,1688,1712,1712,1717,1543,1495,1321,1167,1192,1055,1018,1009,1029,686,575,503,321,448,396,402,403,361,302,314,248,303]
["OH","WXICB","WX","IC","OH Industrial Waxes",766,2063,2188,2351,2383,2384,3145,2827,2738,2419,2138,2412,2135,2060,2041,2082,1456,1219,1066,681,951,840,852,1011,907,758,788,623,761]
["OK","WXICB","WX","IC","OK Industrial Waxes",0,250,266,285,289,289,293,263,255,225,199,116,103,99,98,100,160,134,117,75,104,92,93,123,110,92,95,75,92]
["OR","WXICB","WX","IC","OR Industrial Waxes",0,275,292,314,318,318,427,384,372,328,290,311,276,266,264,269,292,245,214,137,191,169,171,173,156,130,135,107,131]
["PA","WXICB","WX","IC","PA Industrial Waxes",2230,1983,2103,2260,2291,2292,2675,2404,2329,2058,1818,2167,1918,1851,1834,1871,1368,1146,1002,640,894,789,800,964,864,722,751,594,726]
["RI","WXICB","WX","IC","RI Industrial Waxes",0,72,76,82,83,83,105,95,92,81,72,90,80,77,76,78,75,63,55,35,49,43,44,0,0,0,0,0,0]
["SC","WXICB","WX","IC","SC Industrial Waxes",884,617,655,703,713,713,952,856,829,733,647,685,607,585,580,591,530,443,388,248,346,305,310,361,323,270,281,222,272]
["SD","WXICB","WX","IC","SD Industrial Waxes",0,100,106,114,116,116,68,61,59,53,46,138,122,118,117,119,53,44,39,25,34,30,31,34,31,26,27,21,26]
["TN","WXICB","WX","IC","TN Industrial Waxes",0,962,1020,1096,1111,1111,1384,1244,1205,1065,941,1098,972,938,929,947,816,683,598,382,533,471,477,633,568,475,494,390,477]
["TX","WXICB","WX","IC","TX Industrial Waxes",2367,1923,2040,2191,2222,2222,2789,2507,2429,2146,1896,2203,1950,1881,1864,1901,1720,1440,1259,804,1124,992,1006,1100,987,825,858,678,828]
["US","WXICB","WX","IC","US Industrial Waxes",33300,35127,37258,40027,40586,40592,48665,43742,42369,37436,33084,36339,32170,31040,30758,31367,26146,21888,19141,12220,17082,15077,15293,16489,14784,12359,12851,10160,12414]
["UT","WXICB","WX","IC","UT Industrial Waxes",0,107,113,122,123,123,156,140,136,120,106,219,194,187,185,189,121,101,89,57,79,70,71,123,110,92,96,76,93]
["VA","WXICB","WX","IC","VA Industrial Waxes",0,858,910,978,991,992,1099,988,957,845,747,796,704,680,673,687,384,321,281,179,251,221,225,168,151,126,131,104,127]
["VT","WXICB","WX","IC","VT Industrial Waxes",442,0,0,0,0,0,0,0,0,0,0,0,0,0,0,0,0,0,0,0,0,0,0,0,0,0,0,0,0]
["WA","WXICB","WX","IC","WA Industrial Waxes",236,540,573,615,624,624,857,770,746,659,582,719,636,614,608,621,634,531,464,296,414,366,371,422,378,316,329,260,318]
["WI","WXICB","WX","IC","WI Industrial Waxes",884,1517,1609,1729,1753,1753,1791,1609,1559,1377,1217,1372,1215,1172,1161,1184,1153,965,844,539,753,665,674,759,680,569,591,467,571]
["WV","WXICB","WX","IC","WV Industrial Waxes",0,45,48,52,52,52,78,70,68,60,53,65,57,55,55,56,0,0,0,0,0,0,0,0,0,0,0,0,0]
["WY","WXICB","WX","IC","WY Industrial Waxes",0,0,0,0,0,0,0,0,0,0,0,0,0,0,0,0,0,0,0,0,0,0,0,0,0,0,0,0,0]

{"sheet":"Non-Energy Consump.","index":17,"n_rows":100,"n_cols":32,"rows_kept":100,"cut":false,"hidden":false,"merged":[]}
[]
["Non-Energy (Non-Fuel) Use"]
["Source: DOE/EIA, Perry Lindstrom, 202/586-0934, EIA inputs to EPA1990-2018.xls/Non-Energy Use, March 2020. "]
[]
[]
["Petrochemical Feedstock Consumption Data (TBtu). Data below are adjusted for exports."]
["Sector/Fuel Type",1990,1991,1992,1993,1994,1995,1996,1997,1998,1999,2000,2001,2002,2003,2004,2005,2006,2007,2008,2009,2010,2011,2012,2013,2014,2015,2016,2017,2018,2019,2020]
["Natural Gas to Chemical Plants (Other Uses)",275.96958375546063,275.13820003594014,238.72991403700524,266.64917155567178,329.78621332855158,330.38100783527346,338.58505857979731,360.84319567869051,408.30270297215446,419.36339242893405,421.1151383227845,407.80441644834747,364.57816083048721,352.02682768083855,360.18828565000831,390.31209325139696,403.20824288738515]
["LPG (non-energy use)",1118.9930579322961,1275.9509135634373,1295.5780224688049,1248.5927344682887,1455.2092931564293,1484.7027635873455,1566.704239537002,1574.4221073230835,1680.1668873426897,1755.9582239690774,1604.5912772797208,1539.0339273068219,1565.3680980102379,1437.7720658108715,1436.7159817115639,1441.981507725199,1491.8433626813494]
["Pentanes Plus",77.339853397176967,41.712824455929585,57.628992481296933,256.62464010194867,243.92242241495833,285.32390362014098,301.36455470720483,283.02598116170969,197.35360958513252,252.8693593819477,228.73408916310007,199.84553873829438,166.08024685906992,158.29196549229169,156.45549226037207,146.009685311731,105.0533688717275]
["Naphtha (<401 deg. F)",325.66430808804631,278.4205610505071,353.17735972315057,325.96772712750112,376.62482367041355,350.6270540138247,456.30623147903066,507.73181499281816,563.98920575714112,485.51284699599069,592.78067429032455,489.44440648898029,564.22846689746052,573.42525163412108,687.87802019405831,678.60671197588294,592.8503425582785]
["Other Oil (>401 deg. F)",677.18514018199619,757.20490759636186,681.67874895513023,675.89320998098242,661.23235900788291,612.73566844473487,546.45188034976309,667.06133232757838,638.2947972429281,658.96468432881181,554.34740569901908,525.92149861809139,456.20690236739449,501.02285548189502,547.79917072192563,518.71821407477194,573.4040923302864]
["Total",{"$f":"SUM(B8:B12)","v":2475.1519433549761},{"$f":"SUM(C8:C12)","v":2628.4274067021761},{"$f":"SUM(D8:D12)","v":2626.7930376653881},2773.7274832343928,3066.7751115782357,3063.7703975013201,3209.4119646527979,3393.0844314838805,3488.1072029000452,3572.6685071047614,{"$f":"SUM(L8:L12)","v":3401.5685847549489},3162.0497876005352,3116.4618749646502,3022.5389661000177,3189.0369505379281,3175.6282123389819,{"$f":"SUM(R8:R12)","v":3166.3594093290267},0,0,0,0,0,0,0,0,0,0,0,0,0,0]
[]
[]
["Source: CO2 from Fossil Fuel Combustion 90-18.xls, in the \"Consumption Input\" worksheet."]
["U.S. Industrial Sector fuel consumption (Tbtu)"]
["Fuel Type",1990,1991,1992,1993,1994,1995,1996,1997,1998,1999,2000,2001,2002,2003,2004,2005,2006,2007,2008,2009,2010,2011,2012,2013,2014,2015,2016,2017,2018,2019,2020]
["Coking Coal",0,0,0,0.99005191520268454,8.9173041849727497,37.763361390527734,24.077376524524198,0,10.911311877562298,40.077270031991247,53.543709066435099,24.764394990510937,40.297952859316297,51.888657662241599,167.7675714419388,80.441129905107346,62.874654862045077,2.3203149182869538,29.160207416902495,6.3849143400174171,64.75700410595033,60.841185085936445,132.48279136693179,119.34756081281455,48.776321747920178,121.81752645425303,88.62264778274556,111.82861537790899,124.72760867513603]
["Other Coal",1648.6628762070834,1611.1821027390595,1564.1114476936957,1594.9489209730889,1605.7762751951582,1538.2370080894791,1466.3103571698482,1468.7949755023619,1481.1890098070976,1383.8555776870021,1361.1419731200533,1369.7441496184474,1255.7028503270635,1260.6870259158402,1273.9281683294128,1231.0485061138163,1200.6698382758495,1142.7094327734778,1093.3669094706881,889.17412202967296,961.90783049911317,876.42723048489199,792.63784904856664,810.30619946874447,809.35121023626084,705.9710267771045,630.55805079756226,580.12329765822392,531.12270520913489]
["Coke Imports"]
["Natural Gas",8013.7068174117776,8128.445618984475,8443.7674615462602,8599.2966426157018,8643.9641029493141,9093.4224890709174,9408.9449720873436,9438.8520236555632,9252.0955042745136,8837.9321710832464,9057.6771814347103,8340.5910780937302,8467.0682607871822,8190.1809797358128,8220.0148773280689,7599.8893205765971,7556.3523910280164,7754.7589311839138,7804.8321355714806,7358.6408924508896,7995.0968583234899,8185.3068279154286,8514.7764426185458,8836.9714562696026,9148.2249481526851,9110.1214949522164,9306.4460390801833,9511.9584174151678,10059.70265152512]
["Asphalt and Road Oil",1170.193,1076.5350000000001,1102.22,1149.02,1172.9169999999999,1178.175,1175.932,1223.5659999999998,1262.5519999999999,1324.413,1275.6780000000001,1256.8649999999998,1239.9570000000001,1219.538,1303.848,1323.2380000000001,1261.1659999999999,1197.039,1011.9709999999999,873.08299999999997,877.76800000000003,859.48900000000003,826.697,783.34699999999998,792.63599999999997,831.66,853.36599999999999,849.18200000000002,792.76300000000003]
["Aviation Gasoline",44.978000000000002,41.722000000000001,41.055,38.395000000000003,38.137999999999998,39.581000000000003,37.354999999999997,39.697000000000003,35.497999999999998,39.171999999999997,36.284999999999997,34.936999999999998,33.731000000000002,30.222000000000001,31.242000000000001,35.366,33.448,31.59,28.283999999999999,26.557999999999996,27.047000000000001,27.056999999999999,25.114000000000001,22.358000000000001,21.695999999999998,21.140999999999995,20.465,20.949000000000002,22.393000000000001]
["Distillate Fuel",3712.8010494047617,3598.9672351190475,3811.6465839285711,4036.0364017857146,4304.447195714286,4505.1285557142855,4709.0484685714291,4923.4327414285717,5108.7113851190479,5359.3628704523808,5522.5669780295311,5483.6967507142863,5672.5648649999985,5808.7801734285722,6053.9678292380941,6313.1037656190474,6453.4693233333328,6504.9458537142846,6180.9809902061916,5563.3784782957864,5810.0557446012854,5833.7854431424767,5801.6243566956673,5828.0988391632372,6030.6227700948275,6227.8530260522157,6190.9352030128857,6384.827773802921,6550.7930545973722]
["Jet Fuel",3129.4879999999998,3025.0039999999999,3001.3290000000002,3028.0059999999999,3154.4989999999998,3132.1959999999999,3274.2370000000001,3308.1669999999999,3356.7829999999999,3461.7829999999999,3580.3499999999995,3425.9859999999999,3340.3180000000002,3265.4569999999999,3382.5299999999997,3474.7539999999999,3379.3809999999999,3357.6089999999999,3192.8389999999995,2883.277,2962.8689999999997,2949.8180000000002,2901.4340000000002,2968.5590000000002,3042.0889999999999,3204.165,3349.8769999999995,3481.3459999999995,3532.7570000000001]
["Kerosene",12.273999999999997,11.382,9.7899999999999974,13.053000000000001,16.911999999999999,15.444000000000001,18.300999999999998,18.812000000000001,22.071000000000002,12.84,15.64,23.222999999999999,13.807999999999998,24.113,28.219000000000001,39.076000000000001,29.576000000000001,13.421999999999999,3.83,4.399,7.3179999999999996,3.6150000000000002,2.0079999999999996,1.4770000000000001,2.8290000000000002,1.728,2.266,1.1149999999999998,1.165]
["LPG",1529.3263026540001,1662.5429146240001,1774.584744773,1703.870114736,1911.1828129390001,1929.459552923,1987.1319279320001,2035.4176398889997,1953.9419755939998,2145.6808347430001,2153.0463699279999,1947.4696663549998,2088.4931587649999,1963.4302249479999,2068.8134216240001,1941.3347836830001,2030.245257243,2026.8967288409997,1750.339128134,1863.969982933,2051.4405211110002,2101.7013536959998,2269.8835610420001,2449.713053127,2320.173564055,2462.7145455089999,2478.0990422619998,2513.5866810849998,2813.7653474570002]
["Lubricants",186.34299999999999,166.70299999999997,169.96,173.06399999999999,180.886,177.78,172.53399999999999,182.262,190.80199999999999,192.79900000000001,189.90700000000001,173.99700000000001,171.935,158.95699999999999,161.04,160.19900000000001,156.078,161.17699999999999,149.63499999999999,134.53299999999999,135.87899999999999,127.396,118.313,125.09100000000001,130.66300000000001,142.136,135.13999999999999,124.89400000000001,121.19399999999999]
["Motor Gasoline",254.77981476903344,366.90618988159531,247.26107679968845,249.92829102092841,247.59738393084251,373.19313169734608,319.96685262010988,290.63139394080889,300.09570202604954,150.34083529119908,252.68788184447126,381.98782639292335,455.54678990417352,464.33844433564917,574.31866941729822,697.14679861125501,930.26756296583108,862.81563306330452,755.88619240998719,635.50063233555386,559.73985114268851,455.91847006021754,432.15794286408527,606.17238763628575,205.64554894962833,321.37598283383244,287.24978024334735,295.73139898136952,205.12175129325666]
["Residual Fuel",364.14793428817552,270.89068600000002,323.90768600000001,382.90068600000001,368.358946,286.16894600000001,284.67294600000002,240.07894600000003,173.25800000000001,150.89000000000001,184.05500000000001,146.66900000000001,146.09800000000001,176.43,204.69799999999998,237.37799999999999,176.39400000000001,130.36899999999997,131.477,67.269000000000005,32.182999999999979,46.907000000000011,0,0,0,0,0,0,0]
["Other Petroleum"]
["AvGas Blend Components",0.23725599999999999,-8.0768000000000006E-2,0.15648799999999999,0.14639199999999999,6.0979839999999994,5.2903039999999999,6.9510959999999997,9.0561119999999988,4.0030639999999993,6.3958159999999999,3.8162880000000001,6.0727439999999993,7.5164720000000003,7.4710399999999995,10.615944000000001,8.3241519999999998,0.641096,1.781944,9.5911999999999997E-2,-0.80263200000000001,-0.24230399999999999,1.0096000000000001E-2,-5.0480000000000004E-3,-0.37859999999999999,-0.141344,-0.34831200000000001,-0.29278399999999999,-0.19182399999999999,-1.5547839999999999]
["Crude Oil",50.883400000000002,38.947000000000003,27.3644,21.1526,18.681799999999999,14.534800000000001,13.7286,4.6226000000000003,0,0,0,0,0,0,0,0,0,0,0,0,0,0,0,0,0,0,0,0,0]
["MoGas Blend Components",53.696165999999998,-25.918302000000001,75.685224000000005,0,0,0,0,0,0,0,0,0,0,0,0,0,0,0,0,0,0,0,0,0,0,0,0,0,0]
["Misc. Petro Products",137.83467599999997,152.626068,100.062144,94.718232,105.85234800000001,97.123571999999996,89.032355999999993,97.749539999999996,118.98608400000001,111.90916799999999,119.20633199999999,124.9038,134.17740000000001,125.964468,113.421924,112.79127862799999,136.03287348000001,133.47382356,142.028916624,151.82563460399999,158.69992823999999,164.74156271999999,161.582447124,171.16153109999999,182.74043793600001,188.926108812,191.34131360399999,198.81032320799997,197.967787668]
["Feedstocks, Naphtha less than 401 F",347.800704,298.94707199999999,377.12652800000001,350.59264000000002,398.33894400000003,372.96486399999992,479.31033600000001,536.37708799999996,583.99219200000005,502.07615999999996,613.53318400000001,493.71609599999999,582.55423999999994,612.95590400000003,749.43014400000004,698.66624000000002,628.85209599999985,562.45439999999985,477.17439999999999,471.868672,490.57254399999999,487.31878399999999,453.92051199999997,517.83590400000003,442.60582399999998,428.05836799999997,420.02368000000001,436.17702400000002,447.08761600000003]
["Feedstocks, Other Oils greater than 401 F",753.92392500000005,827.29562499999997,814.51557500000001,844.07745,838.64272500000004,801.01322500000003,729.64532499999996,861.24372500000004,818.66880000000003,811.14289999999994,722.15437499999985,662.45394999999996,632.06492500000002,699.37862500000006,779.48985000000005,707.98215000000005,790.63890000000004,744.09132499999998,647.76329999999996,424.776475,452.52095000000003,388.52749999999997,287.24239999999998,223.91882499999997,247.22465,229.03899999999999,222.45675,262.92885000000001,239.0813]
["Pentanes Plus",251.29147799899997,295.16232000100001,323.80196999999998,333.578873999,340.04888399999999,339.241872,356.374643999,330.19777200099998,295.15768200100001,366.39736199899994,344.49672600000002,264.20366999999999,224.71573799999999,221.69640000000001,223.31042400000001,197.00591887799999,140.65054558200001,180.06334662,153.64088324400001,128.031011382,156.10362413999997,54.890164163999998,84.751528296000004,94.586564988000006,88.736298461999993,161.092586238,112.59575665799998,173.416777236,224.56171001999999]
["Petroleum Coke",714.21500000000003,692.649,797.70600000000002,725.29600000000005,723.1579999999999,721.29399999999998,756.83799999999997,727.41,858.48500000000001,935.76400000000001,796.06899999999985,857.57500000000005,842.08199999999999,824.68799999999999,936.76400000000001,893.53300000000002,937.85,909.53599999999983,870.15,804.67499999999995,693.9849999999999,662.69600000000003,716.74699999999984,663.26099999999997,653.46400000000006,663.28599999999994,652.68799999999987,610.07100000000003,628.62300000000005]
["Still Gas",1473.21,1426.5540000000001,1446.96,1430.19,1439.4059999999999,1417.452,1437.09,1447.1039999999998,1437.2339999999999,1437.12,1448.19,1466.5920000000001,1461.1020000000001,1536.3059999999998,1546.134,1497.0840000000001,1553.3579999999999,1526.856,1470.3,1455.0179999999998,1471.8119999999999,1486.9739999999999,1480.818,1537.296,1516.944,1495.0259999999998,1604.700167,1582.8214069999999,1612.156549]
["Special Naphthas",107.090688,87.987967999999995,104.5664,104.582144,81.050111999999999,70.821759999999998,74.542591999999999,72.264960000000002,107.274368,145.39583999999999,97.376639999999995,78.489087999999995,102.38848,80.483328,51.042048000000001,62.512239487999999,70.050487680000003,78.037613055999998,84.885061759999999,46.170030464,26.102455167999999,22.614177792,14.715166335999998,100.016384,106.11980800000001,99.265919999999994,93.577088000000003,100.336512,92.049919999999986]
["Unfinished Oils",-368.96132499999999,-450.22590000000002,-354.82987500000002,-396.0068,-279.22719999999998,-320.89924999999994,-112.83607499999999,-102.875325,-313.94420000000002,-287.91227499999997,-401.15027499999997,-75.4221,-135.67590000000001,-50.3979,-75.550249999999991,2.7843499999999994,70.336875000000006,65.187574999999995,-53.718150000000001,-77.792874999999995,27.96,56.123874999999998,60.084874999999997,16.713066699999999,-80.589975925000005,-17.7906917,8.5789784499999993,76.367841174999995,30.862160625000001]
["Waxes",33.299517999999999,35.126728,37.258473000000002,40.026972999999998,40.586210000000001,40.591746999999998,48.664693,43.7423,42.369123999999999,37.435656999999999,33.083575000000003,36.333793999999997,32.169969999999999,31.045959,30.769109,31.367453831000002,26.145730610999998,21.886576082000001,19.142239549999999,12.222667260999998,17.082724715000001,15.074953145,15.291095477000001,16.488781799000002,14.783479928,12.357388007999999,12.84910683,10.161640824999997,12.411722589]
["U.S. Transportation Sector fuel consumption (TBtu)"]
["Fuel Type",1990,1991,1992,1993,1994,1995,1996,1997,1998,1999,2000,2001,2002,2003,2004,2005,2006,2007,2008,2009,2010,2011,2012,2013,2014,2015,2016,2017,2018,2019,2020]
["Lubricants",176,157.44999999999999,160.52699999999996,163.458,170.846,167.91300000000001,162.95699999999999,172.14599999999999,180.21199999999999,182.09700000000001,179.36600000000001,164.33899999999997,162.392,150.13399999999999,152.102,151.30699999999999,147.41399999999999,152.23099999999999,141.33000000000001,127.06500000000001,154.773,148.37200000000001,135.40799999999999,143.36099999999999,149.36099999999999,162.81,154.36000000000001,141.98499999999999,137.77899999999997]
[]
["Source: CO2 from Fossil Fuel Combustion 90-18.xls, in the \"Non-Energy Use\" worksheet, adjusted non-energy consumption"]
["U.S. Non-Energy Consumption Industrial Sector (Tbtu)"]
["Fuel Type",1990,1991,1992,1993,1994,1995,1996,1997,1998,1999,2000,2001,2002,2003,2004,2005,2006,2007,2008,2009,2010,2011,2012,2013,2014,2015,2016,2017,2018,2019,2020]
["Coking Coal",0,0,0,0.99005191520268454,8.9173041849727497,37.763361390527734,24.077376524524198,0,10.911311877562298,40.077270031991247,53.543709066435099,24.764394990510937,40.297952859316297,51.888657662241599,167.7675714419388,80.441129905107346,62.874654862045077,2.3203149182869538,29.160207416902495,6.3849143400174171,64.75700410595033,60.841185085936445,132.48279136693179,119.34756081281455,48.776321747920178,121.81752645425303,88.62264778274556,111.82861537790899,124.72760867513603]
["Other Coal",8.2141403178327064,8.493790796050904,9.5412951297156621,9.97262044357762,10.920588166351161,11.29503541684671,11.437230575262738,11.157580097044544,10.42764495050892,11.100702033678132,12.385198298036279,11.29503541684671,12.043929917837804,11.90647459803564,11.90647459803564,11.90647459803564,11.90647459803564,11.90647459803564,11.90647459803564,11.90647459803564,10.332848178231568,10.332848178231568,10.332848178231568,10.332848178231568,10.332848178231568,10.332848178231568,10.332848178231568,10.332848178231568,10.332848178231568]
["Natural Gas",281.59469123795611,275.76451108655954,294.68376621153237,305.41776634686562,328.85322589327211,348.04144940000623,364.90160307353887,378.70153799649893,408.3828513578776,396.39396150708399,385.00829925367793,387.9072873561164,366.05284885724149,318.13808303375328,275.57712185100291,260.85501112180918,228.24038520592146,222.39063501351933,226.80667480612993,219.45268622118346,296.96465289047592,295.06178301192648,291.55076205556696,296.75875340784648,323.4871446060215,321.94620612282188,308.9325876192342,307.60509834528244,304.66267926562682]
["Asphalt and Road Oil",1170.193,1076.5350000000001,1102.22,1149.02,1172.9169999999999,1178.175,1175.932,1223.5659999999998,1262.5519999999999,1324.413,1275.6780000000001,1256.8649999999998,1239.9570000000001,1219.538,1303.848,1323.2380000000001,1261.1659999999999,1197.039,1011.9709999999999,873.08299999999997,877.76800000000003,859.48900000000003,826.697,783.34699999999998,792.63599999999997,831.66,853.36599999999999,849.18200000000002,792.76300000000003]
["LPG",1120.5351712445101,1279.9150276479561,1301.2108560821835,1247.4691187368744,1452.9274211337465,1503.7301794060322,1566.4212901274548,1573.8811711843664,1681.2904084383129,1756.8265936554562,1697.4519066835651,1628.5796497752904,1708.6099545705492,1588.3967227009446,1617.0307817753107,1609.9915139346574,1702.3575125437751,1659.2866445706129,1559.8788639838954,1663.7550451118739,1833.8947605612432,1865.5717475035519,1883.3121771824137,2062.8677473453822,2109.7709982853717,2157.4784571552468,2119.020264580482,2187.6621560717422,2485.5403590514393]
["Lubricants",186.34299999999999,166.70299999999997,169.96,173.06399999999999,180.886,177.78,172.53399999999999,182.262,190.80199999999999,192.79900000000001,189.90700000000001,173.99700000000001,171.935,158.95699999999999,161.04,160.19900000000001,156.078,161.17699999999999,149.63499999999999,134.53299999999999,135.87899999999999,127.396,118.313,125.09100000000001,130.66300000000001,142.136,135.13999999999999,124.89400000000001,121.19399999999999]
["Pentanes Plus",117.62789618910492,137.6636358869803,151.99687396116599,154.75392737573392,160.26379348336638,161.04142879084662,169.25783431530019,155.95780940857932,142.24925438202538,176.7664933823965,166.18469229824609,130.60137437380135,108.65213083632393,103.8463380008499,102.70748074621369,95.50525093964778,68.890357691444279,86.552847028965417,74.951785576942441,61.022045506967132,75.277472861341352,26.361312611988051,40.251206300930889,45.423570173111919,43.479635256187827,78.369171843126239,53.078979932023579,81.545617554500836,104.84834756022616]
["Feedstocks, Naphtha less than 401 F",326.2589763553753,279.38466640678877,354.79705993452438,325.85376369565188,376.30405496244242,354.96494339861289,456.40959952989357,507.83718957324578,564.53896652959509,485.8720694105798,593.67318422861081,489.90089632170151,565.0344641696588,575.40102760472985,690.36970108869173,679.50282710349927,618.1074601891271,542.25706634510925,467.08599458074406,450.95427560838959,474.51266498958609,469.38103059900004,432.2290865104988,498.7512692318972,435.231444270861,417.82049033787132,396.88606308650458,411.09169263271343,418.29362411162981]
["Feedstocks, Other Oils greater than 401 F",662.11891839636712,742.89200044344352,671.98247245315679,666.07505278874135,641.04946937993054,599.67361193939394,523.24873300884155,641.16062043520355,617.32691071572629,637.55753367177101,533.75204039961886,506.66064444062363,436.53737126029273,482.9261227337704,528.97793356894067,499.45047126299085,573.36769897068609,668.75941828190923,598.93319279810714,392.7338733667255,433.15409053015276,368.1530131508066,267.39668662001998,209.1076007198142,236.21493788381215,216.77953368119466,203.96490408262164,241.80003402477206,217.69850524945642]
["Still Gas",36.726000000000091,40.632000000000005,28.54200000000003,45.630000000000088,35.37000000000004,47.903999999999805,2.159999999999985,12.113999999999985,6.2039999999999154,23.022000000000041,16.980000000000114,49.265999999999934,61.722000000000023,59.015999999999899,62.856000000000094,67.668000000000077,57.209999999999781,44.219999999999949,47.334000000000017,133.87199999999984,147.77069312812213,163.56713999999999,160.61969674331783,166.74568875089008,164.53817096807006,162.16079406339975,166.11115754857593,163.84636925723936,166.88300781108319]
["Petroleum Coke",27.154515653048421,10.925098702395701,75.395141593762318,21.216427916170034,42.151078937822675,33.519694729299133,27.519224212002257,0,55.993489620057872,120.5327943552705,7.191659836500321,96.41743051335763,65.581347045222813,40.443911905060872,135.07909561389093,105.18385842927239,134.24703079940008,117.82600186953734,138.92023671704663,108.3972635357017,0,0,0,0,0,0,0,0,0]
["Special Naphthas",100.85662487672116,82.576430705174559,98.747339617232427,97.646223157078666,76.836242010372146,67.609292095323781,71.195200125869306,68.651032928216878,103.91583239168781,140.98545547394804,94.414092108662203,77.919030475933454,99.494385646254329,75.848726014184749,47.261427835766426,60.900712551420845,68.925562176846285,75.403829321300435,83.19832980613964,44.246700649259672,25.299317857153994,21.831820540277128,14.054255498511754,96.551950288373874,104.45802527094135,97.034524622859806,88.732199465960193,94.912939255532677,86.478036008024631]
["Distillate Fuel",7.0441517976514909,7.0831999999999997,7.0831999999999997,7.0831999999999997,6.8443749999999994,6.8443749999999994,6.8443749999999994,6.8443749999999994,11.65,11.65,11.65,11.65,11.65,11.65,11.65,11.65,17.475000000000001,17.475000000000001,17.475000000000001,17.475000000000001,5.8250000000000002,5.8250000000000002,5.8250000000000002,5.8250000000000002,5.8250000000000002,5.8250000000000002,5.8250000000000002,5.8250000000000002,5.8250000000000002]
["Residual Fuel"]
["Waxes",33.299517999999999,35.126728,37.258473000000002,40.026972999999998,40.586210000000001,40.591746999999998,48.664693,43.7423,42.369123999999999,37.435656999999999,33.083575000000003,36.333793999999997,32.169969999999999,31.045959,30.769109,31.367453831000002,26.145730610999998,21.886576082000001,19.142239549999999,12.222667260999998,17.082724715000001,15.074953145,15.291095477000001,16.488781799000002,14.783479928,12.357388007999999,12.84910683,10.161640824999997,12.411722589]
["Misc. Petro Products",137.83467599999997,152.626068,100.062144,94.718232,105.85234800000001,97.123571999999996,89.032355999999993,97.749539999999996,118.98608400000001,111.90916799999999,119.20633199999999,124.9038,134.17740000000001,125.964468,113.421924,112.79127862799999,136.03287348000001,133.47382356,142.028916624,151.82563460399999,158.69992823999999,164.74156271999999,161.582447124,171.16153109999999,182.74043793600001,188.926108812,191.34131360399999,198.81032320799997,197.967787668]
["U.S. Non-Energy Consumption Transportation Sector (Tbtu)"]
["Fuel Type",1990,1991,1992,1993,1994,1995,1996,1997,1998,1999,2000,2001,2002,2003,2004,2005,2006,2007,2008,2009,2010,2011,2012,2013,2014,2015,2016,2017,2018,2019,2020]
["Lubricants",176,157.44999999999999,160.52699999999996,163.458,170.846,167.91300000000001,162.95699999999999,172.14599999999999,180.21199999999999,182.09700000000001,179.36600000000001,164.33899999999997,162.392,150.13399999999999,152.102,151.30699999999999,147.41399999999999,152.23099999999999,141.33000000000001,127.06500000000001,154.773,148.37200000000001,135.40799999999999,143.36099999999999,149.36099999999999,162.81,154.36000000000001,141.98499999999999,137.77899999999997]
["Taken from CO2 from Fossil Fuel Combustion.xls used in the Inventory of U.S. Greenhouse Gas Emissions and Sinks: 1990-2018."]
[]
["National Non-Energy Consumption %'s",2,3,4,5,6,7,8,9,10,11,12,13,14,15,16,17,18,19,20,21,22,23,24,25,26,27,28,29,30,31,32]
[null,1990,1991,1992,1993,1994,1995,1996,1997,1998,1999,2000,2001,2002,2003,2004,2005,2006,2007,2008,2009,2010,2011,2012,2013,2014,2015,2016,2017,2018,2019,2020]
["Industrial Sector"]
["Coking Coal",{"$f":"IF(ISERROR(VLOOKUP($A76,NonEConsump,B$73,FALSE)/VLOOKUP($A76,IndCons,B$73,FALSE)),0,VLOOKUP($A76,NonEConsump,B$73,FALSE)/VLOOKUP($A76,IndCons,B$73,FALSE))","v":0},0,0,1,1,1,1,0,1,1,1,1,1,1,1,1,{"$f":"IF(ISERROR(VLOOKUP($A76,NonEConsump,R$73,FALSE)/VLOOKUP($A76,IndCons,R$73,FALSE)),0,VLOOKUP($A76,NonEConsump,R$73,FALSE)/VLOOKUP($A76,IndCons,R$73,FALSE))","v":1},1,1,1,1,1,1,1,1,1,1,1,1]
["Other Coal",4.9823044094558441E-3,5.2717757859966274E-3,6.1001376492605024E-3,6.2526268474436524E-3,6.8008154903297013E-3,7.3428446705201614E-3,7.8000066761704807E-3,7.5964176642341749E-3,7.0400501768960351E-3,8.0215755261340352E-3,9.0991230471326439E-3,8.2460913740664832E-3,9.5913853462232818E-3,9.4444333552064982E-3,9.3462684113888445E-3,9.6718159673676012E-3,9.9165267740324217E-3,1.0419511956891224E-2,1.088973380747338E-2,1.3390487085765981E-2,1.0742035619847358E-2,1.1789738861165711E-2,1.3036026718424409E-2,1.2751782209004477E-2,1.2766828599929154E-2,1.4636362947362071E-2,1.6386830943101987E-2,1.7811469078973453E-2,1.945472877903592E-2]
["Natural Gas",3.5139130698682589E-2,3.3925860368985539E-2,3.4899559651962342E-2,3.5516598512638914E-2,3.8044260940540885E-2,3.8273977682033986E-2,3.8782414410548589E-2,4.0121567437162976E-2,4.4139498037952883E-2,4.4851437398902197E-2,4.2506295106522408E-2,4.6508368978182051E-2,4.323253782569713E-2,3.8843840425613563E-2,3.3525136628533667E-2,3.432352763553382E-2,3.0205100741056111E-2,2.8677955947699216E-2,2.9059776157443627E-2,2.982244811624337E-2,3.714334649758666E-2,3.604773641540699E-2,3.4240565682533232E-2,3.3581499598180076E-2,3.5360646074990072E-2,3.5339397647024519E-2,3.3195549227056823E-2,3.2338776605887722E-2,3.0285455725616091E-2]
["Asphalt and Road Oil",1,1,1,1,1,1,1,1,1,1,1,1,1,1,1,1,1,1,1,1,1,1,1,1,1,1,1,1,1]
["LPG",0.73269855445494403,0.76985382836714389,0.73324807953797144,0.73213862250888706,0.76022419796641405,0.779353045845394,0.78828248296408931,0.7732472885860403,0.86046076569249164,0.81877349380616571,0.7883954244516943,0.83625418044299349,0.81810656041646357,0.80899066466342706,0.78162233716849927,0.82932193224306461,0.83849845552921787,0.8186340334760962,0.89118665001041808,0.89258682293473246,0.89395463416509846,0.88764835414070786,0.82969550046781737,0.84208546168792342,0.90931602315048154,0.87605705707533954,0.85509910154609803,0.87033487746180649,0.883350262770774]
["Lubricants",1,1,1,1,1,1,1,1,1,1,1,1,1,1,1,1,1,1,1,1,1,1,1,1,1,1,1,1,1]
["Pentanes Plus",0.46809345516115364,0.46639976229524788,0.4694130612027036,0.4639200484146902,0.47129633715653185,0.47470976339514664,0.47494353811483603,0.47231635896109869,0.48194325628815393,0.48244477639792333,0.48239846638846162,0.4943208183815212,0.48350921837225275,0.46841688904668677,0.4599314215005641,0.48478366276290102,0.48979801255929606,0.48067998653620392,0.48783750779348284,0.47661925691501861,0.48222757976348779,0.48025567081975057,0.4749319228834557,0.48023279182275741,0.48998702909393205,0.4864852795108941,0.47141190314344134,0.47022911424265929,0.46690216043905314]
["Feedstocks, Naphtha less than 401 F",0.93806301310814855,0.93456231077181706,0.94079051350777521,0.92943697761496613,0.94468306609368924,0.95173829403568955,0.95222148418241825,0.94679135431908279,0.96668923705335263,0.96772583149652003,0.96763011310666258,0.99227248268952839,0.9699259319950343,0.93873152024444784,0.92119286449290683,0.97257143425664772,0.98291389043748567,0.96409071801217916,0.97885803299746188,0.95567750598282908,0.96726298850835424,0.96319092555028629,0.95221316306256465,0.96314540065552734,0.98333871962530028,0.97608298674322691,0.94491354174722852,0.94248818716483662,0.93559653441984358]
["Feedstocks, Other Oils greater than 401 F",0.87823041084200515,0.89797646451163515,0.82500874517121026,0.78911603762041194,0.76438923306695417,0.74864383411321822,0.7171275071334714,0.74445897464762778,0.75406185103881607,0.78599903133192817,0.73911072047388615,0.76482394654092356,0.69065273834059482,0.6905074096792283,0.6786206819356797,0.70545630460173436,0.72519540712035047,0.89875986429744925,0.92461736069040523,0.92456596935300028,0.95720229202681717,0.94755973039439068,0.930909526657694,0.93385449267078924,0.95546677033949545,0.94647432830738287,0.91687442202864888,0.91964055684559554,0.91056266320057833]
["Still Gas",2.4929236157777975E-2,2.8482623160427156E-2,1.9725493448333076E-2,3.1904851802907364E-2,2.457263621243766E-2,3.3795853404559595E-2,1.5030373880550176E-3,8.3712020697890317E-3,4.3166248502330973E-3,1.6019539078156342E-2,1.172498083814977E-2,3.3592164692020636E-2,4.2243457335627503E-2,3.841422216667767E-2,4.0653656151407376E-2,4.5199868544450461E-2,3.6829887250717334E-2,2.8961473773558181E-2,3.2193429912262816E-2,9.200710919040167E-2,0.10040052202871165,0.11,0.10846687219045004,0.10846687219045004,0.10846687219045005,0.10846687219045004,0.10351538621643076,0.10351538621643078,0.10351538621643076]
["Petroleum Coke",{"$f":"IF(ISERROR(VLOOKUP($A86,NonEConsump,B$73,FALSE)/VLOOKUP($A86,IndCons,B$73,FALSE)),0,VLOOKUP($A86,NonEConsump,B$73,FALSE)/VLOOKUP($A86,IndCons,B$73,FALSE))","v":3.8020085902772165E-2},1.5772922075099654E-2,9.451494860733442E-2,2.925209558052165E-2,5.82875096974972E-2,4.6471611755122232E-2,3.6360785547240308E-2,0,6.5223608589617607E-2,0.12880682987940389,9.0339654433225294E-3,0.11243031864659957,7.7880001051231135E-2,4.9041470113619784E-2,0.14419757336307856,0.11771681452086537,0.14314339265276971,0.12954517673796018,0.15965090698965309,0.13470937152975015,0,0,0,0,0,0,0,0,0]
["Special Naphthas",0.9417870662734108,0.93849684885522711,0.94435057166769087,0.93367968395330148,0.9480090787582397,0.95464010066007654,0.95509423828285056,0.9499906030283124,0.96869209606238671,0.96966636372779336,0.96957640054803917,0.99273711112471408,0.97173417992194366,0.94241537842700474,0.92593126035550977,0.97422061743782984,0.983941218106967,0.96624981683115352,0.98012922510877887,0.95834246164857961,0.96923134986050652,0.96540412572507328,0.95508641748266521,0.96536133808210733,0.98434050381000826,0.97752103262489087,0.94822569672140455,0.94594617017913363,0.93946888827306574]
["Distillate Fuel",1.8972607753331716E-3,1.968120168164215E-3,1.8583045001773271E-3,1.7549891266753913E-3,1.5900706150640174E-3,1.5192407753422761E-3,1.4534518057480004E-3,1.3901631969921156E-3,2.2804185090460971E-3,2.1737658526967086E-3,2.1095262486353324E-3,2.1244792572606272E-3,2.053744695257884E-3,2.0055845895651631E-3,1.9243577647927773E-3,1.8453680523113705E-3,2.7078458305855634E-3,2.6864174418949056E-3,2.8272211203511648E-3,3.1410769675610972E-3,1.0025721363194494E-3,9.9849404075139526E-4,1.0040291549171664E-3,9.9946829330648727E-4,9.6590355956030158E-4,9.3531430103327591E-4,9.4089177304992639E-4,9.1231904858892117E-4,8.8920531475375985E-4]
["Residual Fuel",0,0,0,0,0,0,0,0,0,0,0,0,0,0,0,0,0,0,0,0,0,0,0,0,0,0,0,0,0]
["Waxes",1,1,1,1,1,1,1,1,1,1,1,1,1,1,1,1,1,1,1,1,1,1,1,1,1,1,1,1,1]
["Misc. Petro Products",1,1,1,1,1,1,1,1,1,1,1,1,1,1,1,1,1,1,1,1,1,1,1,1,1,1,1,1,1]
["Other Coal",4.9823044094558441E-3,5.2717757859966274E-3,6.1001376492605024E-3,6.2526268474436524E-3,6.8008154903297013E-3,7.3428446705201614E-3,7.8000066761704807E-3,7.5964176642341749E-3,7.0400501768960351E-3,8.0215755261340352E-3,9.0991230471326439E-3,8.2460913740664832E-3,9.5913853462232818E-3,9.4444333552064982E-3,9.3462684113888445E-3,9.6718159673676012E-3,9.9165267740324217E-3,1.0419511956891224E-2,1.088973380747338E-2,1.3390487085765981E-2,{"$f":"IF(ISERROR(VLOOKUP($A92,NonEConsump,V$73,FALSE)/VLOOKUP($A92,IndCons,V$73,FALSE)),0,VLOOKUP($A92,NonEConsump,V$73,FALSE)/VLOOKUP($A92,IndCons,V$73,FALSE))","v":1.0742035619847358E-2},1.1789738861165711E-2,1.3036026718424409E-2,1.2751782209004477E-2,1.2766828599929154E-2,1.4636362947362071E-2,1.6386830943101987E-2,1.7811469078973453E-2,1.945472877903592E-2]
["Aviation Gasoline Blending Components",0,0,0,0,0,0,0,0,0,0,0,0,0,0,0,0,0,0,0,0,0,0,0,0,0,0,0,0,0]
["Crude Oil",0,0,0,0,0,0,0,0,0,0,0,0,0,0,0,0,0,0,0,0,0,0,0,0,0,0,0,0,0]
["Kerosene",0,0,0,0,0,0,0,0,0,0,0,0,0,0,0,0,0,0,0,0,0,0,0,0,0,0,0,0,0]
["Motor Gasoline",0,0,0,0,0,0,0,0,0,0,0,0,0,0,0,0,0,0,0,0,0,0,0,0,0,0,0,0,0]
["Motor Gasoline Blending Components",0,0,0,0,0,0,0,0,0,0,0,0,0,0,0,0,0,0,0,0,0,0,0,0,0,0,0,0,0]
["Unfinished Oils",0,0,0,0,0,0,0,0,0,0,0,0,0,0,0,0,0,0,0,0,0,0,0,0,0,0,0,0,0]
["Transportation",1990,1991,1992,1993,1994,1995,1996,1997,1998,1999,2000,2001,2002,2003,2004,2005,2006,2007,2008,2009,2010,2011,2012,2013,2014,2015,2016,2017,2018,2019,2020]
["Lubricants",{"$f":"B47/B70","v":1},{"$f":"C47/C70","v":1},1,1,1,1,1,1,1,1,1,1,1,1,1,1,{"$f":"R47/R70","v":1},1,1,1,1,1,1,1,1,{"$f":"AA47/AA70","v":1},{"$f":"AB47/AB70","v":1},{"$f":"AC47/AC70","v":1},{"$f":"AD47/AD70","v":1}]

{"sheet":"Synthetic NG","index":18,"n_rows":60,"n_cols":99,"rows_kept":60,"cut":false,"hidden":false,"merged":[]}
["Synthetic Natural Gas ",null,null,null,null,null,null,null,null,null,null,null,null,null,null,null,null,null,null,null,null,null,null,null,null,null,null,null,null,null,null,null,null,null,null,null,null,null,null,null,null,null,null,null,null,null,null,null,null,null,null,null,null,null,null,null,null,null,null,null,null,null,null,null,null,null,"Natural Gas Conversion Factors"]
["EIA’s data also includes industrial coal used to make synthetic natural gas, which is accounted for under both industrial \"other\" coal and natural gas consumption data. Therefore, the energy content of "]
["synthetic natural gas should be subtracted from industrial coal to prevent double-counting of emissions. "]
["Source:  EIA 2019, Natural Gas Data, Supplemental Gas Supplies by State, http://www.eia.gov/naturalgas/annual/"]
[null,null,null,null,null,null,null,null,null,null,null,null,null,null,null,null,null,null,null,null,null,null,null,null,null,null,null,null,null,null,null,null,null,null,null,null,null,null,null,null,null,null,null,null,null,null,null,null,null,null,null,null,null,null,null,null,null,null,null,null,null,null,null,null,null,null,"Source:  EIA 2020, State Energy Data 2018: Consumption Estimates, Appendix B: Thermal Conversion Factors."]
["BBtu",null,null,null,null,null,null,null,null,null,null,null,null,null,null,null,null,null,null,null,null,null,null,null,null,null,null,null,null,null,null,null,null,"million cubic feet",null,null,null,null,null,null,null,null,null,null,null,null,null,null,null,null,null,null,null,null,null,null,null,null,null,null,null,null,null,null,null,null,"MBtu per cubic foot",null,2,3,4,5,6,7,8,9,10,11,12,13,14,15,16,17,18,19,20,21,22,23,24,25,26,27,28,29,30,31,32]
["State",1990,1991,1992,1993,1994,1995,1996,1997,1998,1999,2000,2001,2002,2003,2004,2005,2006,2007,2008,2009,2010,2011,2012,2013,2014,2015,2016,2017,2018,2019,2020,null,"State",1990,1991,1992,1993,1994,1995,1996,1997,1998,1999,2000,2001,2002,2003,2004,2005,2006,2007,2008,2009,2010,2011,2012,2013,2014,2015,2016,2017,2018,2019,2020,null,"State","MSN",1990,1991,1992,1993,1994,1995,1996,1997,1998,1999,2000,2001,2002,2003,2004,2005,2006,2007,2008,2009,2010,2011,2012,2013,2014,2015,2016,2017,2018,2019,2020]
["Alabama",{"$f":"AI8*BQ8","v":329.28},{"$f":"AJ8*BR8","v":340.964},{"$f":"AK8*BS8","v":175.78800000000001},{"$f":"AL8*BT8","v":422.3},{"$f":"AM8*BU8","v":71.070000000000007},{"$f":"AN8*BV8","v":0},{"$f":"AO8*BW8","v":18.593999999999998},{"$f":"AP8*BX8","v":21.860999999999997},{"$f":"AQ8*BY8","v":2.0779999999999998},{"$f":"AR8*BZ8","v":4.1399999999999997},{"$f":"AS8*CA8","v":0},{"$f":"AT8*CB8","v":0},{"$f":"AU8*CC8","v":0},{"$f":"AV8*CD8","v":22.637999999999998},{"$f":"AW8*CE8","v":0},{"$f":"AX8*CF8","v":0},{"$f":"AY8*CG8","v":0},{"$f":"AZ8*CH8","v":0},{"$f":"BA8*CI8","v":0},{"$f":"BB8*CJ8","v":0},{"$f":"BC8*CK8","v":0},{"$f":"BD8*CL8","v":0},{"$f":"BE8*CM8","v":0},{"$f":"BF8*CN8","v":0},{"$f":"BG8*CO8","v":0},{"$f":"BH8*CP8","v":0},0,{"$f":"BJ8*CR8","v":0},0,{"$f":"BL8*CT8","v":0},{"$f":"BM8*CU8","v":0},null,"Alabama",320,332,171,410,69,0,18,21,2,4,0,0,0,22,0,0,0,0,0,0,0,0,0,0,0,0,0,0,0,null,null,null,"Alabama","NGTCK",1.0289999999999999,1.0269999999999999,1.028,1.03,1.03,1.0289999999999999,1.0329999999999999,1.0409999999999999,1.0389999999999999,1.0349999999999999,1.042,1.034,1.028,1.0289999999999999,1.0249999999999999,1.0289999999999999,1.028,1.0289999999999999,1.0249999999999999,1.026,1.018,1.018,1.016,1.0169999999999999,1.024,1.03,1.0289999999999999,1.03,1.028,{"$f":"CS8","v":1.028},{"$f":"CT8","v":1.028}]
["Alaska",{"$f":"AI9*BQ9","v":0},0,0,0,0,0,0,0,0,0,0,0,0,0,0,0,0,0,0,0,0,0,0,0,0,0,0,0,0,0,0,null,"Alaska",0,0,0,0,0,0,0,0,0,0,0,0,0,0,0,0,0,0,0,0,0,0,0,0,0,0,0,0,0,null,null,null,"Alaska","NGTCK",0.95399999999999996,1.002,1.002,0.99399999999999999,1.0009999999999999,1.006,0.99,1,0.999,1,1.0249999999999999,1.01,1.004,1.004,1.004,1.004,1.0049999999999999,1.006,1.006,1.0049999999999999,1.0049999999999999,1.0129999999999999,1.012,1.0009999999999999,1.0009999999999999,1.0009999999999999,1.0009999999999999,0.98899999999999999,0.97499999999999998,{"$f":"CS9","v":0.97499999999999998},0.97499999999999998]
["Arizona",0,0,0,0,0,0,0,0,0,0,0,0,0,0,0,0,0,0,0,0,0,0,0,0,0,0,0,0,0,0,0,null,"Arizona",0,0,0,0,0,0,0,0,0,0,0,0,0,0,0,0,0,0,0,0,0,0,0,0,0,0,0,0,0,null,null,null,"Arizona","NGTCK",1.032,1.0249999999999999,1.0309999999999999,1.028,1.0269999999999999,1.0349999999999999,1.0109999999999999,1.0209999999999999,1.016,1.0149999999999999,1.0129999999999999,1.0149999999999999,1.018,1.01,1.0189999999999999,1.024,1.02,1.0229999999999999,1.0269999999999999,1.0209999999999999,1.016,1.0149999999999999,1.0209999999999999,1.0249999999999999,1.03,1.04,1.0369999999999999,1.0409999999999999,1.0409999999999999,1.0409999999999999,1.0409999999999999]
["Arkansas",0,0,0,0,0,0,0,0,0,0,0,0,0,0,0,0,0,0,0,0,0,0,0,0,0,0,0,0,0,0,0,null,"Arkansas",0,0,0,0,0,0,0,0,0,0,0,0,0,0,0,0,0,0,0,0,0,0,0,0,0,0,0,0,0,null,null,null,"Arkansas","NGTCK",1.0089999999999999,1.0169999999999999,1.0089999999999999,1.014,1.022,1.0760000000000001,1.026,1.0149999999999999,1.024,1.0189999999999999,1.0189999999999999,1.016,1.0229999999999999,1.0309999999999999,1.0129999999999999,1.014,1.03,1.014,1.0149999999999999,1.016,1.012,1.0169999999999999,1.0149999999999999,1.0209999999999999,1.0169999999999999,1.02,1.0189999999999999,1.0189999999999999,1.0169999999999999,1.0169999999999999,1.0169999999999999]
["California",0,0,0,0,0,0,0,0,0,0,0,0,0,0,0,0,0,0,0,0,0,0,0,0,0,0,0,0,0,0,0,null,"California",0,0,0,0,0,0,0,0,0,0,0,0,0,0,0,0,0,0,0,0,0,0,0,0,0,0,0,0,0,null,null,null,"California","NGTCK",1.032,1.0269999999999999,1.0289999999999999,1.036,1.0229999999999999,1.016,1.032,1.018,1.0469999999999999,1.0169999999999999,0.97899999999999998,1.02,1.02,1.0209999999999999,1.0229999999999999,1.0249999999999999,1.026,1.03,1.028,1.0269999999999999,1.0229999999999999,1.02,1.022,1.0269999999999999,1.03,1.036,1.0349999999999999,1.0349999999999999,1.0329999999999999,1.0329999999999999,1.0329999999999999]
["Colorado",15455.894999999999,6974.561999999999,7322.6339999999991,8549.0159999999996,8208.8399999999983,7299.06,6949.8879999999999,6389.768,5355.5039999999999,4557.6819999999998,4810.1760000000004,5698.1249999999991,5822.9389999999994,5484.7259999999997,5377.0039999999999,5438.2649999999994,6345.768,7075.0700000000006,6383.16,7670.012999999999,5245.8119999999999,4404.576,4584.0679999999993,4227.8489999999993,4313.6399999999994,4273.92,4048.9669999999996,{"$f":"BJ13*CR13","v":4475.13},5525.8280000000004,0,0,null,"Colorado",15379,6778,7158,8456,8168,7170,6787,6314,5292,4526,4772,5625,5771,5409,5308,5285,6149,6869,6258,7527,5148,4268,4412,4077,4120,4032,3809,4202,5126,null,null,null,"Colorado","NGTCK",1.0049999999999999,1.0289999999999999,1.0229999999999999,1.0109999999999999,1.0049999999999999,1.018,1.024,1.012,1.012,1.0069999999999999,1.008,1.0129999999999999,1.0089999999999999,1.014,1.0129999999999999,1.0289999999999999,1.032,1.03,1.02,1.0189999999999999,1.0189999999999999,1.032,1.0389999999999999,1.0369999999999999,1.0469999999999999,1.06,1.0629999999999999,1.0649999999999999,1.0780000000000001,1.0780000000000001,1.0780000000000001]
["Connecticut",114.663,150.52599999999998,41.120000000000005,96.537999999999997,29.87,69.903999999999996,49.344000000000001,37.998999999999995,33.858000000000004,31.744,20.5,6.1259999999999994,6.1379999999999999,58.196999999999996,195.011,278.45999999999998,92.728999999999985,0,0,1.0189999999999999,0,0,0,0,0,0,0,0,0,0,0,null,"Connecticut",111,146,40,94,29,68,48,37,33,31,20,6,6,57,191,273,91,0,0,1,0,0,0,0,0,0,0,0,0,null,null,null,"Connecticut","NGTCK",1.0329999999999999,1.0309999999999999,1.028,1.0269999999999999,1.03,1.028,1.028,1.0269999999999999,1.026,1.024,1.0249999999999999,1.0209999999999999,1.0229999999999999,1.0209999999999999,1.0209999999999999,1.02,1.0189999999999999,1.0189999999999999,1.018,1.0189999999999999,1.022,1.026,1.0309999999999999,1.024,1.0269999999999999,1.0269999999999999,1.0269999999999999,1.028,1.0289999999999999,1.0289999999999999,1.0289999999999999]
["Delaware",4524.66,4406.9080000000004,3793.2749999999996,3722.8949999999995,3141.152,1.034,1.0349999999999999,2.0699999999999998,0,0,6.2219999999999995,0,0,7.2729999999999997,17.594999999999999,0,0,5.1849999999999996,2.0659999999999998,2.06,1.0229999999999999,0,0,0,6.3360000000000003,8.4,3.1379999999999999,2.0840000000000001,16.655999999999999,0,0,null,"Delaware",4410,4262,3665,3597,3032,1,1,2,0,0,6,0,0,7,17,0,0,5,2,2,1,0,0,0,6,8,3,2,16,null,null,null,"Delaware","NGTCK",1.026,1.034,1.0349999999999999,1.0349999999999999,1.036,1.034,1.0349999999999999,1.0349999999999999,1.0369999999999999,1.0369999999999999,1.0369999999999999,1.034,1.03,1.0389999999999999,1.0349999999999999,1.0369999999999999,1.0369999999999999,1.0369999999999999,1.0329999999999999,1.03,1.0229999999999999,1.0249999999999999,1.0269999999999999,1.0489999999999999,1.056,1.05,1.046,1.042,1.0409999999999999,1.0409999999999999,1.0409999999999999]
["District of Columbia",0,0,0,0,0,0,0,0,0,0,0,0,0,0,0,0,0,0,0,0,0,0,0,0,0,0,0,0,0,0,0,null,"District of Columbia",0,0,0,0,0,0,0,0,0,0,0,0,0,0,0,0,0,0,0,0,0,0,0,0,0,0,0,0,0,null,null,null,"District of Columbia","NGTCK",1.008,1.006,1.0069999999999999,1.0069999999999999,1.0109999999999999,1.006,1.0089999999999999,1.0209999999999999,1.0269999999999999,1.0209999999999999,1.0269999999999999,1.026,1.024,1.0269999999999999,1.0269999999999999,1.052,1.0249999999999999,1.0269999999999999,1.028,1.0349999999999999,1.014,1.016,1.0289999999999999,1.03,1.0429999999999999,1.044,1.044,1.0389999999999999,1.036,1.036,1.036]
["Florida",0,0,0,0,0,0,0,0,0,0,0,0,0,0,0,0,0,0,0,0,0,0,0,0,0,0,0,0,0,0,0,null,"Florida",0,0,0,0,0,0,0,0,0,0,0,0,0,0,0,0,0,0,0,0,0,0,0,0,0,0,0,0,0,null,null,null,"Florida","NGTCK",1.0429999999999999,1.0489999999999999,1.0489999999999999,1.052,1.0680000000000001,1.0329999999999999,1.05,1.048,1.0509999999999999,1.0429999999999999,1.06,1.0489999999999999,1.028,1.036,1.032,1.0349999999999999,1.0289999999999999,1.0289999999999999,1.0289999999999999,1.0249999999999999,1.0189999999999999,1.0149999999999999,1.0149999999999999,1.016,1.022,1.024,1.0229999999999999,1.024,1.0229999999999999,1.0229999999999999,1.0229999999999999]
["Georgia",214.64299999999997,189.99499999999998,170.14999999999998,204.37299999999999,126.69,133.38,96.161999999999992,14.377999999999998,16.431999999999999,12.323999999999998,74.314000000000007,52.682999999999993,7.1749999999999989,14.405999999999999,5.1449999999999996,0,3.0960000000000001,2.0640000000000001,0,53.403999999999996,748.10400000000004,713.61800000000005,669.9,652.27200000000005,647.70000000000005,568.95799999999997,552.08000000000004,515,472.88,0,0,null,"Georgia",209,185,166,199,123,130,94,14,16,12,73,51,7,14,5,0,3,2,0,52,732,701,660,642,635,554,536,500,460,null,null,null,"Georgia","NGTCK",1.0269999999999999,1.0269999999999999,1.0249999999999999,1.0269999999999999,1.03,1.026,1.0229999999999999,1.0269999999999999,1.0269999999999999,1.0269999999999999,1.018,1.0329999999999999,1.0249999999999999,1.0289999999999999,1.0289999999999999,1.0369999999999999,1.032,1.032,1.026,1.0269999999999999,1.022,1.018,1.0149999999999999,1.016,1.02,1.0269999999999999,1.03,1.03,1.028,1.028,1.028]
["Hawaii",{"$f":"AI19*BQ19","v":3014.19},{"$f":"AJ19*BR19","v":2943},{"$f":"AK19*BS19","v":2908.9029999999998},2872.71,2975.3809999999999,2927.0640000000003,2918.377,2695.51,2867.04,2903.3599999999997,2899.143,2785.8040000000001,2758.1200000000003,2724.2939999999999,2752.0480000000002,2702.4219999999996,2735.8109999999997,2782.2709999999997,2669.0369999999998,2544.88,2570.88,2585.4160000000002,2625.46,2673.9479999999999,2629.578,2674.9679999999998,2820.375,2864.5499999999997,2965.846,0,0,null,"Hawaii",2817,2725,2711,2705,2831,2793,2761,2617,2715,2752,2769,2689,2602,2602,2626,2606,2613,2683,2559,2447,2472,2467,2510,2658,2742,2724,2875,2938,3083,null,null,null,"Hawaii","NGTCK",1.07,1.08,1.073,1.0620000000000001,1.0509999999999999,1.048,1.0569999999999999,1.03,1.056,1.0549999999999999,1.0469999999999999,1.036,1.06,1.0469999999999999,1.048,1.0369999999999999,1.0469999999999999,1.0369999999999999,1.0429999999999999,1.04,1.04,1.048,1.046,1.006,0.95899999999999996,0.98199999999999998,0.98099999999999998,0.97499999999999998,0.96199999999999997,0.96199999999999997,0.96199999999999997]
["Idaho",0,0,0,0,0,0,0,0,0,0,0,0,0,0,0,0,0,0,0,0,0,0,0,0,0,0,0,0,0,0,0,null,"Idaho",0,0,0,0,0,0,0,0,0,0,0,0,0,0,0,0,0,0,0,0,0,0,0,0,0,0,0,0,0,null,null,null,"Idaho","NGTCK",1.028,1.0329999999999999,1.03,1.038,1.038,1.03,1.03,1.0309999999999999,1.038,1.038,1.0249999999999999,1.0189999999999999,1.028,1.0269999999999999,1.0389999999999999,1.048,1.044,1.024,1.0229999999999999,1.022,1.0209999999999999,1.0169999999999999,1.0149999999999999,1.022,1.0169999999999999,1.03,1.038,1.0409999999999999,1.0369999999999999,1.0369999999999999,1.0369999999999999]
["Illinois",8319.08,6999.5109999999995,8186.7560000000003,9964.9599999999991,8036.2909999999993,6381.12,3986.3279999999995,4252.4649999999992,2796.192,2582.5940000000001,1998.01,778.26,461.92799999999994,52.779999999999994,14.196,15.224999999999998,13.208,11.164999999999999,15.21,20.259999999999998,17.135999999999999,1.0109999999999999,1.0109999999999999,0,64.448999999999998,1.0289999999999999,2.0619999999999998,2.0579999999999998,2.0579999999999998,0,0,null,"Illinois",8140,6869,8042,9760,7871,6256,3912,4165,2736,2527,1955,763,456,52,14,15,13,11,15,20,17,1,1,0,63,1,2,2,2,null,null,null,"Illinois","NGTCK",1.022,1.0189999999999999,1.018,1.0209999999999999,1.0209999999999999,1.02,1.0189999999999999,1.0209999999999999,1.022,1.022,1.022,1.02,1.0129999999999999,1.0149999999999999,1.014,1.0149999999999999,1.016,1.0149999999999999,1.014,1.0129999999999999,1.008,1.0109999999999999,1.0109999999999999,1.016,1.0229999999999999,1.0289999999999999,1.0309999999999999,1.0289999999999999,1.0289999999999999,1.0289999999999999,1.0289999999999999]
["Indiana",3069.27,3120.078,3545.5769999999998,3274.0159999999996,2488.9409999999998,3237.3879999999999,3229.1339999999996,3619.3799999999997,3202.5329999999999,5539.9560000000001,5722.5749999999998,5344.2560000000003,1761.9839999999999,2582.712,2183.4759999999997,2023.7840000000001,1669.9139999999998,648.97,30.389999999999997,1.0149999999999999,1.012,5.0600000000000005,1.012,6.09,70.310999999999993,80.105999999999995,1.038,2.0859999999999999,34.550999999999995,0,0,null,"Indiana",3015,3077,3507,3232,2457,3199,3194,3580,3149,5442,5583,5219,1748,2376,2164,1988,1642,635,30,1,1,5,1,6,69,78,1,2,33,null,null,null,"Indiana","NGTCK",1.018,1.014,1.0109999999999999,1.0129999999999999,1.0129999999999999,1.012,1.0109999999999999,1.0109999999999999,1.0169999999999999,1.018,1.0249999999999999,1.024,1.008,1.087,1.0089999999999999,1.018,1.0169999999999999,1.022,1.0129999999999999,1.0149999999999999,1.012,1.012,1.012,1.0149999999999999,1.0189999999999999,1.0269999999999999,1.038,1.0429999999999999,1.0469999999999999,1.0469999999999999,1.0469999999999999]
["Iowa",81.566999999999993,46.368000000000002,45.18,84.251999999999995,123.98399999999999,96.47999999999999,302.80599999999998,138.23299999999998,17.186999999999998,12.227999999999998,44.22,39.155999999999999,23.068999999999999,143.42899999999997,30.089999999999996,31.186,46.552,40.4,27.27,3.0209999999999999,2.012,1.0089999999999999,0,0,1.04,0,2.1120000000000001,0,0,0,0,null,"Iowa",81,46,45,84,123,96,301,137,17,12,44,39,23,143,30,31,46,40,27,3,2,1,0,0,1,0,2,0,0,null,null,null,"Iowa","NGTCK",1.0069999999999999,1.008,1.004,1.0029999999999999,1.008,1.0049999999999999,1.006,1.0089999999999999,1.0109999999999999,1.0189999999999999,1.0049999999999999,1.004,1.0029999999999999,1.0029999999999999,1.0029999999999999,1.006,1.012,1.01,1.01,1.0069999999999999,1.006,1.0089999999999999,1.014,1.0289999999999999,1.04,1.0529999999999999,1.056,1.056,1.0609999999999999,1.0609999999999999,1.0609999999999999]
["Kansas",0,0,0,0,0,0,0,0,0,0,0,0,0,0,0,0,0,0,0,0,0,0,0,0,0,0,0,0,0,0,0,null,"Kansas",0,0,0,0,0,0,0,0,0,0,0,0,0,0,0,0,0,0,0,0,0,0,0,0,0,0,0,0,0,null,null,null,"Kansas","NGTCK",0.999,1.0069999999999999,0.98699999999999999,0.98699999999999999,0.998,1.002,0.996,1.0009999999999999,0.995,0.997,1.008,1.0049999999999999,1.008,1.012,1.0129999999999999,1.014,1.0189999999999999,1.018,1.034,1.0189999999999999,1.0189999999999999,1.02,1.022,1.018,1.024,1.0349999999999999,1.034,1.034,1.038,1.038,1.038]
["Kentucky",2.08,2.0939999999999999,5.29,16.768000000000001,53.1,6.5760000000000005,47.204999999999998,25.200000000000003,2.0680000000000001,3.0960000000000001,10.4,2.0739999999999998,1.036,101.62599999999999,0,15.434999999999999,3.0869999999999997,127.34799999999998,15.524999999999999,18.648,5.15,8.2159999999999993,1.03,29.724999999999998,53.403999999999996,52.122,66.95,53.346000000000004,116.43899999999999,0,0,null,"Kentucky",2,2,5,16,50,6,45,24,2,3,10,2,1,98,0,15,3,124,15,18,5,8,1,29,52,51,65,51,111,null,null,null,"Kentucky","NGTCK",1.04,1.0469999999999999,1.0580000000000001,1.048,1.0620000000000001,1.0960000000000001,1.0489999999999999,1.05,1.034,1.032,1.04,1.0369999999999999,1.036,1.0369999999999999,1.0349999999999999,1.0289999999999999,1.0289999999999999,1.0269999999999999,1.0349999999999999,1.036,1.03,1.0269999999999999,1.03,1.0249999999999999,1.0269999999999999,1.022,1.03,1.046,1.0489999999999999,1.0489999999999999,1.0489999999999999]
["Louisiana",0,0,0,0,0,0,0,0,0,0,0,0,0,0,0,0,0,0,0,0,254.976,443.26499999999999,561.29499999999996,570.08000000000004,530.95899999999995,489.94999999999993,447.488,0,0,0,0,null,"Louisiana",0,0,0,0,0,0,0,0,0,0,0,0,0,0,0,0,0,0,0,0,249,435,553,560,517,478,437,0,0,null,null,null,"Louisiana","NGTCK",1.042,1.0469999999999999,1.044,1.0369999999999999,1.04,1.0349999999999999,1.044,1.1180000000000001,1.07,1.042,1.0580000000000001,1.0269999999999999,1.0309999999999999,1.032,1.032,1.0409999999999999,1.038,1.034,1.0349999999999999,1.0289999999999999,1.024,1.0189999999999999,1.0149999999999999,1.018,1.0269999999999999,1.0249999999999999,1.024,1.022,1.022,1.022,1.022]
["Maine",0,0,0,0,0,97.536000000000001,61.975999999999999,31.434000000000001,24.407999999999998,43.774000000000001,6.4379999999999997,0,5.1949999999999994,6.2279999999999998,0,0,0,0,0,0,0,0,0,0,0,0,0,0,0,0,0,null,"Maine",0,0,0,0,0,96,61,31,24,43,6,0,5,6,0,0,0,0,0,0,0,0,0,0,0,0,0,0,0,null,null,null,"Maine","NGTCK",1.0049999999999999,1.006,1.0129999999999999,1.014,1.014,1.016,1.016,1.014,1.0169999999999999,1.018,1.073,1.0569999999999999,1.0389999999999999,1.038,1.04,1.0509999999999999,1.0549999999999999,1.0640000000000001,1.0620000000000001,1.046,1.044,1.0469999999999999,1.032,1.028,1.0289999999999999,1.0269999999999999,1.026,1.03,1.0409999999999999,1.0409999999999999,1.0409999999999999]
["Maryland",24.672000000000001,73.943999999999988,129.52799999999999,429.70400000000001,1017.5969999999999,624.83400000000006,907.57799999999997,184.05199999999999,82.96,514.93200000000002,329.846,192.88199999999998,49.775999999999996,166.08,128.58799999999999,400.33600000000001,42.558,254.31,187.33499999999998,176.29,118.10499999999999,91.402999999999992,120.29199999999999,111.815,851.87699999999995,862.9899999999999,685.25199999999995,634.48199999999997,439.72399999999999,0,0,null,"Maryland",24,72,126,418,987,609,882,178,80,498,319,186,48,160,124,382,41,245,181,170,115,89,116,107,809,818,652,606,422,null,null,null,"Maryland","NGTCK",1.028,1.0269999999999999,1.028,1.028,1.0309999999999999,1.026,1.0289999999999999,1.034,1.0369999999999999,1.034,1.034,1.0369999999999999,1.0369999999999999,1.038,1.0369999999999999,1.048,1.038,1.038,1.0349999999999999,1.0369999999999999,1.0269999999999999,1.0269999999999999,1.0369999999999999,1.0449999999999999,1.0529999999999999,1.0549999999999999,1.0509999999999999,1.0469999999999999,1.042,1.042,1.042]
["Massachusetts",329.04599999999999,124.67999999999999,108.88499999999999,63.318000000000005,158.00399999999999,430.92,437.50199999999995,150.23400000000001,69.563999999999993,140.43200000000002,27.092000000000002,16.687999999999999,140.97299999999998,333.072,82.4,47.012,52.02,15.374999999999998,13.273,10.32,0,0,0,3.1020000000000003,110.80800000000001,92.609999999999985,58.71,56.65,79.387,0,0,null,"Massachusetts",317,120,105,61,154,420,426,147,68,134,26,16,137,324,80,46,51,15,13,10,0,0,0,3,108,90,57,55,77,null,null,null,"Massachusetts","NGTCK",1.038,1.0389999999999999,1.0369999999999999,1.038,1.026,1.026,1.0269999999999999,1.022,1.0229999999999999,1.048,1.042,1.0429999999999999,1.0289999999999999,1.028,1.03,1.022,1.02,1.0249999999999999,1.0209999999999999,1.032,1.0349999999999999,1.0329999999999999,1.0349999999999999,1.034,1.026,1.0289999999999999,1.03,1.03,1.0309999999999999,1.0309999999999999,1.0309999999999999]
["Michigan",19526.332000000002,15316.32,14987.880000000001,13063.695,13975.447999999999,21741.425999999999,22110.175999999999,22593.808000000001,22406.34,21272.128000000001,12696.306,4155.3499999999995,0,0,0,0,0,0,0,0,0,0,0,0,0,0,0,0,0,0,0,null,"Michigan",19106,15016,14694,12795,13688,21378,21848,22238,21967,20896,12423,4054,0,0,0,0,0,0,0,0,0,0,0,0,0,0,0,0,0,null,null,null,"Michigan","NGTCK",1.022,1.02,1.02,1.0209999999999999,1.0209999999999999,1.0169999999999999,1.012,1.016,1.02,1.018,1.022,1.0249999999999999,1.0189999999999999,1.028,1.024,1.0149999999999999,1.0169999999999999,1.0209999999999999,1.0229999999999999,1.0209999999999999,1.016,1.014,1.0169999999999999,1.0209999999999999,1.0189999999999999,1.032,1.0409999999999999,1.0429999999999999,1.0469999999999999,1.0469999999999999,1.0469999999999999]
["Minnesota",56.224000000000004,49.588000000000001,52.571999999999996,78.85799999999999,292.17899999999997,196.52199999999999,721.76200000000006,175.096,51,65.215999999999994,102.51499999999999,119.416,13.090999999999999,42.335999999999999,71.496999999999986,155.84800000000001,13.208,55.025999999999996,47.057999999999993,48.363,12.120000000000001,20.2,9.1709999999999994,22.505999999999997,68.177999999999997,10.4,60.145999999999994,10.329999999999998,15.734999999999999,0,0,null,"Minnesota",56,49,52,78,289,194,709,172,50,64,101,118,13,42,71,154,13,54,46,47,12,20,9,22,66,10,58,10,15,null,null,null,"Minnesota","NGTCK",1.004,1.012,1.0109999999999999,1.0109999999999999,1.0109999999999999,1.0129999999999999,1.018,1.018,1.02,1.0189999999999999,1.0149999999999999,1.012,1.0069999999999999,1.008,1.0069999999999999,1.012,1.016,1.0189999999999999,1.0229999999999999,1.0289999999999999,1.01,1.01,1.0189999999999999,1.0229999999999999,1.0329999999999999,1.04,1.0369999999999999,1.0329999999999999,1.0489999999999999,1.0489999999999999,1.0489999999999999]
["Mississippi",0,0,0,0,0,0,0,0,0,0,0,0,0,0,0,0,0,0,0,0,0,0,0,0,0,0,0,0,0,0,0,null,"Mississippi",0,0,0,0,0,0,0,0,0,0,0,0,0,0,0,0,0,0,0,0,0,0,0,0,0,0,0,0,0,null,null,null,"Mississippi","NGTCK",1.0329999999999999,1.0289999999999999,1.0469999999999999,1.0229999999999999,1.0329999999999999,1.026,1.03,1.034,1.046,1.036,1.038,1.0249999999999999,1.0309999999999999,1.0349999999999999,1.03,1.03,1.028,1.03,1.026,1.0189999999999999,1.014,1.01,1.012,1.0149999999999999,1.028,1.03,1.0309999999999999,1.032,1.026,1.026,1.026]
["Missouri",0,0,0,0,373.226,4.0279999999999996,793.63499999999988,726.19,40.44,209.69099999999997,986.57999999999993,31.526999999999997,62.744,1070.7840000000001,935.34,15.3,79.637999999999991,67.320000000000007,6.048,10.069999999999999,18.125999999999998,0,0,0,174.57999999999998,0,0,0,0,0,0,null,"Missouri",0,0,0,0,371,4,785,719,40,207,972,31,62,1056,917,15,78,66,6,10,18,0,0,0,172,0,0,0,0,null,null,null,"Missouri","NGTCK",1.0109999999999999,1.0089999999999999,1.002,1.004,1.006,1.0069999999999999,1.0109999999999999,1.01,1.0109999999999999,1.0129999999999999,1.0149999999999999,1.0169999999999999,1.012,1.014,1.02,1.02,1.0209999999999999,1.02,1.008,1.0069999999999999,1.0069999999999999,1.01,1.012,1.016,1.0149999999999999,1.012,1.024,1.01,1.024,1.024,1.024]
["Montana",0,0,0,0,0,0,0,0,0,0,0,0,0,0,0,0,0,0,0,0,0,0,0,0,0,0,0,0,0,0,0,null,"Montana",0,0,0,0,0,0,0,0,0,0,0,0,0,0,0,0,0,0,0,0,0,0,0,0,0,0,0,0,0,null,null,null,"Montana","NGTCK",1.028,1.0289999999999999,1.0229999999999999,1.018,1.024,1.03,1.03,1.0309999999999999,1.026,1.024,1.024,1.022,1.0209999999999999,1.0229999999999999,1.026,1.04,1.0169999999999999,1.0169999999999999,1.016,1.0109999999999999,1.012,1.016,1.0249999999999999,1.0329999999999999,1.0249999999999999,1.032,1.034,1.0409999999999999,1.0429999999999999,1.0429999999999999,1.0429999999999999]
["Nebraska",2320.8629999999998,1999.4880000000001,1406.8229999999999,771.22500000000002,876.65,14.7,317.20499999999998,133.732,11.032999999999999,3.996,340.69499999999994,6.1019999999999994,1.0069999999999999,13.090999999999999,39.350999999999999,16.143999999999998,19.228000000000002,33.594000000000001,28.307999999999996,18.216000000000001,12.048,9.0989999999999984,4.0759999999999996,2.0720000000000001,391.79200000000003,30.652999999999999,72.012,816.96999999999991,659.32,0,0,null,"Nebraska",2361,2032,1437,791,890,15,315,134,11,4,339,6,1,13,39,16,19,33,28,18,12,9,4,2,376,29,68,770,622,null,null,null,"Nebraska","NGTCK",0.98299999999999998,0.98399999999999999,0.97899999999999998,0.97499999999999998,0.98499999999999999,0.98,1.0069999999999999,0.998,1.0029999999999999,0.999,1.0049999999999999,1.0169999999999999,1.0069999999999999,1.0069999999999999,1.0089999999999999,1.0089999999999999,1.012,1.018,1.0109999999999999,1.012,1.004,1.0109999999999999,1.0189999999999999,1.036,1.042,1.0569999999999999,1.0589999999999999,1.0609999999999999,1.06,1.06,1.06]
["Nevada",128.875,0,30.929999999999996,39.292000000000002,9.3149999999999995,0,0,0,0,0,0,0,0,0,0,0,0,0,0,0,0,0,0,0,0,0,0,0,0,0,0,null,"Nevada",125,0,30,38,9,0,0,0,0,0,0,0,0,0,0,0,0,0,0,0,0,0,0,0,0,0,0,0,0,null,null,null,"Nevada","NGTCK",1.0309999999999999,1.032,1.0309999999999999,1.034,1.0349999999999999,1.0329999999999999,1.036,1.0269999999999999,1.0409999999999999,1.034,1.026,1.0249999999999999,1.0249999999999999,1.028,1.0309999999999999,1.0389999999999999,1.032,1.032,1.0389999999999999,1.0309999999999999,1.0329999999999999,1.024,1.0289999999999999,1.034,1.034,1.042,1.0409999999999999,1.0389999999999999,1.0369999999999999,1.0369999999999999,1.0369999999999999]
["New Hampshire",207.87,128.89599999999999,96.86399999999999,155.54,162.07999999999998,90.99,149.79299999999998,103.12199999999999,104.133,111.999,190.44,91.332000000000008,69.3,60.493999999999993,95.094999999999999,87.024000000000001,95.22,9.3960000000000008,0,0,0,0,0,0,0,0,0,0,0,0,0,null,"New Hampshire",205,128,96,154,160,90,147,102,103,111,180,86,66,58,91,84,92,9,0,0,0,0,0,0,0,0,0,0,0,null,null,null,"New Hampshire","NGTCK",1.014,1.0069999999999999,1.0089999999999999,1.01,1.0129999999999999,1.0109999999999999,1.0189999999999999,1.0109999999999999,1.0109999999999999,1.0089999999999999,1.0580000000000001,1.0620000000000001,1.05,1.0429999999999999,1.0449999999999999,1.036,1.0349999999999999,1.044,1.04,1.0349999999999999,1.0369999999999999,1.04,1.032,1.03,1.0309999999999999,1.03,1.0289999999999999,1.03,1.0309999999999999,1.0309999999999999,1.0309999999999999]
["New Jersey",10221.012000000001,15173.514000000001,14735.412,15488.2,8038.7429999999995,7538.8940000000002,7022.0079999999998,6690.24,9427.116,5985.6789999999992,8586.3599999999988,12786.21,3656.4619999999995,490.97399999999999,550.66999999999996,451.96499999999997,181.3,392.26499999999999,505.13699999999994,467.16599999999994,468.88200000000001,402.19200000000001,143.03099999999998,266.22000000000003,552.26,483.83499999999998,311.25899999999996,0,0,0,0,null,"New Jersey",9962,14789,14362,14950,7737,7291,6778,6464,9082,5761,8296,12330,3526,473,530,435,175,379,489,454,457,392,139,255,530,463,299,0,0,null,null,null,"New Jersey","NGTCK",1.026,1.026,1.026,1.036,1.0389999999999999,1.034,1.036,1.0349999999999999,1.038,1.0389999999999999,1.0349999999999999,1.0369999999999999,1.0369999999999999,1.038,1.0389999999999999,1.0389999999999999,1.036,1.0349999999999999,1.0329999999999999,1.0289999999999999,1.026,1.026,1.0289999999999999,1.044,1.042,1.0449999999999999,1.0409999999999999,1.0389999999999999,1.038,1.038,1.038]
["New Mexico",0,0,0,0,0,0,0,0,0,0,0,0,0,0,0,0,0,0,0,0,0,0,0,0,0,0,0,0,0,0,0,null,"New Mexico",0,0,0,0,0,0,0,0,0,0,0,0,0,0,0,0,0,0,0,0,0,0,0,0,0,0,0,0,0,null,null,null,"New Mexico","NGTCK",1.054,1.0389999999999999,1.04,1.0389999999999999,1.0029999999999999,1.02,1.0289999999999999,1.0189999999999999,0.98199999999999998,0.97899999999999998,0.97199999999999998,0.97499999999999998,0.97699999999999998,1.0189999999999999,1.0249999999999999,1.0209999999999999,1.018,1.024,1.0249999999999999,1.028,1.0209999999999999,1.022,1.024,1.03,1.034,1.038,1.046,1.042,1.036,1.036,1.036]
["New York",396.55,696.98400000000004,1224.51,1685.502,1500.88,1531.72,1291.7339999999999,903.90600000000006,718.572,471.39299999999997,882.024,998.12999999999988,1.0229999999999999,18.485999999999997,8.2080000000000002,14.349999999999998,4.0839999999999996,13.298999999999999,7.1469999999999994,6.1259999999999994,2.044,0,0,0,0,0,0,0,0,0,0,null,"New York",385,678,1190,1638,1460,1490,1259,881,699,459,858,970,1,18,8,14,4,13,7,6,2,0,0,0,0,0,0,0,0,null,null,null,"New York","NGTCK",1.03,1.028,1.0289999999999999,1.0289999999999999,1.028,1.028,1.026,1.026,1.028,1.0269999999999999,1.028,1.0289999999999999,1.0229999999999999,1.0269999999999999,1.026,1.0249999999999999,1.0209999999999999,1.0229999999999999,1.0209999999999999,1.0209999999999999,1.022,1.0249999999999999,1.0309999999999999,1.0329999999999999,1.032,1.032,1.0309999999999999,1.032,1.032,1.032,1.032]
["North Carolina",0,0,2.0680000000000001,4.1399999999999997,3.1080000000000001,0,0,0,0,21.734999999999999,2.06,0,1.0329999999999999,1.04,0,0,0,0,0,0,0,0,0,0,0,0,0,0,0,0,0,null,"North Carolina",0,0,2,4,3,0,0,0,0,21,2,0,1,1,0,0,0,0,0,0,0,0,0,0,0,0,0,0,0,null,null,null,"North Carolina","NGTCK",1.032,1.032,1.034,1.0349999999999999,1.036,1.0329999999999999,1.036,1.036,1.04,1.0349999999999999,1.03,1.0409999999999999,1.0329999999999999,1.04,1.0329999999999999,1.034,1.032,1.03,1.0269999999999999,1.0229999999999999,1.0149999999999999,1.0109999999999999,1.0109999999999999,1.0109999999999999,1.0209999999999999,1.0349999999999999,1.0349999999999999,1.036,1.0289999999999999,1.0289999999999999,1.0289999999999999]
["North Dakota",54844.608,54974.622000000003,61128.319999999992,61140.800000000003,60440.366000000002,60262.65,58716.216999999997,55837.950000000004,56749.536,55578.324999999997,50911.649999999994,52483.115999999995,53343.551999999996,53670.727999999996,48356.601999999999,53176.844000000005,56752.884000000005,53453.738000000005,52658.512000000002,56437.224999999999,57827.714999999997,55048.118999999999,55956.164999999994,48891.784,52555.884000000005,52780.686000000002,52040.315999999999,60595.560000000005,63523.44,0,0,null,"North Dakota",53144,52557,58496,57680,57127,57393,55867,53179,54672,53185,49190,51004,53184,53192,47362,51329,54361,51103,50536,53495,54813,51303,52541,45736,48394,48601,48052,56107,58818,null,null,null,"North Dakota","NGTCK",1.032,1.046,1.0449999999999999,1.06,1.0580000000000001,1.05,1.0509999999999999,1.05,1.038,1.0449999999999999,1.0349999999999999,1.0289999999999999,1.0029999999999999,1.0089999999999999,1.0209999999999999,1.036,1.044,1.046,1.042,1.0549999999999999,1.0549999999999999,1.073,1.0649999999999999,1.069,1.0860000000000001,1.0860000000000001,1.083,1.08,1.08,1.08,1.08]
["Ohio",882.96,930.20400000000006,1088.836,1029.6960000000001,1484.9839999999999,938.35199999999998,1897.4640000000002,1487.0349999999999,1241.76,1244.3999999999999,1502.5640000000001,1197.258,82.00200000000001,1038.0720000000001,514.14,603.89699999999993,439.49699999999996,630.49599999999998,478.40000000000003,543.40199999999993,365.00200000000001,305.17599999999999,377.71199999999999,431.39199999999994,677.53699999999992,498.75600000000003,252.756,411.95000000000005,412.83199999999999,0,0,null,"Ohio",849,891,1051,992,1432,904,1828,1423,1194,1200,1442,1149,79,1002,492,579,423,608,460,522,353,296,366,416,641,467,236,385,388,null,null,null,"Ohio","NGTCK",1.04,1.044,1.036,1.038,1.0369999999999999,1.038,1.038,1.0449999999999999,1.04,1.0369999999999999,1.042,1.042,1.038,1.036,1.0449999999999999,1.0429999999999999,1.0389999999999999,1.0369999999999999,1.04,1.0409999999999999,1.034,1.0309999999999999,1.032,1.0369999999999999,1.0569999999999999,1.0680000000000001,1.071,1.07,1.0640000000000001,1.0640000000000001,1.0640000000000001]
["Oklahoma",0,0,0,0,0,0,0,0,0,0,0,0,0,0,0,0,0,0,0,0,0,0,0,0,0,0,0,0,0,0,0,null,"Oklahoma",0,0,0,0,0,0,0,0,0,0,0,0,0,0,0,0,0,0,0,0,0,0,0,0,0,0,0,0,0,null,null,null,"Oklahoma","NGTCK",1.0269999999999999,1.0209999999999999,1.026,1.026,1.028,1.02,1.024,1.012,1.014,1.0229999999999999,1.0149999999999999,1.028,1.028,1.03,1.0309999999999999,1.03,1.032,1.0289999999999999,1.034,1.0329999999999999,1.032,1.032,1.03,1.036,1.0389999999999999,1.0469999999999999,1.0489999999999999,1.042,1.032,1.032,1.032]
["Oregon",3.069,4.1159999999999997,2.0699999999999998,3.1109999999999998,2.08,2.08,2.08,2.0920000000000001,2.0859999999999999,3.1529999999999996,2.0539999999999998,2.052,5.1149999999999993,5.0600000000000005,2.0259999999999998,0,0,0,0,0,0,0,0,0,0,0,0,0,0,0,0,null,"Oregon",3,4,2,3,2,2,2,2,2,3,2,2,5,5,2,0,0,0,0,0,0,0,0,0,0,0,0,0,0,null,null,null,"Oregon","NGTCK",1.0229999999999999,1.0289999999999999,1.0349999999999999,1.0369999999999999,1.04,1.04,1.04,1.046,1.0429999999999999,1.0509999999999999,1.0269999999999999,1.026,1.0229999999999999,1.012,1.0129999999999999,1.03,1.032,1.0329999999999999,1.0229999999999999,1.024,1.0149999999999999,1.0209999999999999,1.022,1.016,1.0289999999999999,1.048,1.0589999999999999,1.0620000000000001,1.0609999999999999,1.0609999999999999,1.0609999999999999]
["Pennsylvania",228.14,229.76999999999998,136.75200000000001,114.07,261.072,77.625,275.04399999999998,139.72499999999999,82.88,123.28400000000001,270.13499999999999,112.77800000000001,106.81099999999999,131.04,136.10899999999998,137.28,128.71200000000002,150.36499999999998,127.67400000000001,212.58499999999998,4.1360000000000001,2.0720000000000001,2.08,3.1440000000000001,20.96,29.288,0,15.600000000000001,42.558,0,0,null,"Pennsylvania",220,222,132,110,252,75,266,135,80,119,261,107,103,126,131,132,124,145,123,205,4,2,2,3,20,28,0,15,41,null,null,null,"Pennsylvania","NGTCK",1.0369999999999999,1.0349999999999999,1.036,1.0369999999999999,1.036,1.0349999999999999,1.034,1.0349999999999999,1.036,1.036,1.0349999999999999,1.054,1.0369999999999999,1.04,1.0389999999999999,1.04,1.038,1.0369999999999999,1.038,1.0369999999999999,1.034,1.036,1.04,1.048,1.048,1.046,1.0409999999999999,1.04,1.038,1.038,1.038]
["Rhode Island",52.428000000000004,94.576000000000008,157.79,129.654,0,27.702000000000002,44.52,18.432000000000002,1.0249999999999999,1.0229999999999999,0,0,0,0,0,0,0,0,0,0,0,0,0,0,0,0,0,0,0,0,0,null,"Rhode Island",51,92,155,126,0,27,42,18,1,1,0,0,0,0,0,0,0,0,0,0,0,0,0,0,0,0,0,0,0,null,null,null,"Rhode Island","NGTCK",1.028,1.028,1.018,1.0289999999999999,1.0289999999999999,1.026,1.06,1.024,1.0249999999999999,1.0229999999999999,1.038,1.0309999999999999,1.0229999999999999,1.024,1.024,1.0209999999999999,1.0169999999999999,1.026,1.022,1.0229999999999999,1.0169999999999999,1.02,1.0309999999999999,1.032,1.028,1.028,1.0289999999999999,1.0289999999999999,1.0289999999999999,1.0289999999999999,1.0289999999999999]
["South Carolina",17.475999999999999,48.268999999999998,26.701999999999998,34.985999999999997,158.774,63.673999999999992,183.34,10.309999999999999,0,18.558,64.826999999999998,6.2279999999999998,3.0960000000000001,15.540000000000001,2.0699999999999998,89.181999999999988,78.074999999999989,0,0,0,0,0,0,0,17.408000000000001,9.27,0,0,0,0,0,null,"South Carolina",17,47,26,34,154,62,178,10,0,18,63,6,3,15,2,86,75,0,0,0,0,0,0,0,17,9,0,0,0,null,null,null,"South Carolina","NGTCK",1.028,1.0269999999999999,1.0269999999999999,1.0289999999999999,1.0309999999999999,1.0269999999999999,1.03,1.0309999999999999,1.034,1.0309999999999999,1.0289999999999999,1.038,1.032,1.036,1.0349999999999999,1.0369999999999999,1.0409999999999999,1.0369999999999999,1.034,1.034,1.026,1.026,1.0229999999999999,1.02,1.024,1.03,1.03,1.0309999999999999,1.026,1.026,1.026]
["South Dakota",10.16,3.0540000000000003,10.149999999999999,9.1169999999999991,61.61,37.518000000000001,88.218000000000004,30.54,4.04,5.03,13.064999999999998,4.9950000000000001,2.9969999999999999,57.056999999999995,5.01,4.0279999999999996,0,1.0029999999999999,0,0,0,0,0,0,0,0,0,0,0,0,0,null,"South Dakota",10,3,10,9,61,37,87,30,4,5,13,5,3,57,5,4,0,1,0,0,0,0,0,0,0,0,0,0,0,null,null,null,"South Dakota","NGTCK",1.016,1.018,1.0149999999999999,1.0129999999999999,1.01,1.014,1.014,1.018,1.01,1.006,1.0049999999999999,0.999,0.999,1.0009999999999999,1.002,1.0069999999999999,1.0029999999999999,1.0029999999999999,1.0029999999999999,1.002,1.0049999999999999,1.0049999999999999,1.018,1.0309999999999999,1.0409999999999999,1.054,1.056,1.0549999999999999,1.0680000000000001,1.0680000000000001,1.0680000000000001]
["Tennessee",3.1049999999999995,8.2639999999999993,12.372,13.454999999999998,86.688000000000002,34.022999999999996,75.335999999999999,19.588999999999999,4.12,11.296999999999999,13.480999999999998,0,1.032,1.0329999999999999,0,0,0,0,0,0,0,0,0,0,0,0,0,0,0,0,0,null,"Tennessee",3,8,12,13,84,33,73,19,4,11,13,0,1,1,0,0,0,0,0,0,0,0,0,0,0,0,0,0,0,null,null,null,"Tennessee","NGTCK",1.0349999999999999,1.0329999999999999,1.0309999999999999,1.0349999999999999,1.032,1.0309999999999999,1.032,1.0309999999999999,1.03,1.0269999999999999,1.0369999999999999,1.0369999999999999,1.032,1.0329999999999999,1.0329999999999999,1.0349999999999999,1.038,1.038,1.0369999999999999,1.028,1.0229999999999999,1.014,1.014,1.0189999999999999,1.0269999999999999,1.0289999999999999,1.03,1.0309999999999999,1.03,1.03,1.03]
["Texas",1289.6000000000001,1115.8119999999999,1.0429999999999999,3.0840000000000001,1.0369999999999999,1.0369999999999999,0,0,0,17.544,0,1544.13,2.056,0,0,0,0,0,0,0,0,0,0,0,0,0,0,0,0,0,0,null,"Texas",1240,1076,1,3,1,1,0,0,0,17,0,1505,2,0,0,0,0,0,0,0,0,0,0,0,0,0,0,0,0,null,null,null,"Texas","NGTCK",1.04,1.0369999999999999,1.0429999999999999,1.028,1.0369999999999999,1.0369999999999999,1.0329999999999999,1.028,1.0409999999999999,1.032,1.0289999999999999,1.026,1.028,1.026,1.028,1.028,1.026,1.0249999999999999,1.0249999999999999,1.0229999999999999,1.028,1.0249999999999999,1.026,1.024,1.0309999999999999,1.034,1.03,1.0289999999999999,1.028,1.028,1.028]
["Utah",0,0,0,0,0,0,0,0,0,0,0,0,0,0,0,0,0,0,0,0,0,0,0,0,0,0,0,0,0,0,0,null,"Utah",0,0,0,0,0,0,0,0,0,0,0,0,0,0,0,0,0,0,0,0,0,0,0,0,0,0,0,0,0,null,null,null,"Utah","NGTCK",1.0880000000000001,1.073,1.0780000000000001,1.08,1.0669999999999999,1.0629999999999999,1.042,1.042,1.046,1.0549999999999999,1.0509999999999999,1.052,1.0549999999999999,1.0609999999999999,1.0529999999999999,1.0529999999999999,1.056,1.052,1.0589999999999999,1.044,1.0449999999999999,1.038,1.0429999999999999,1.046,1.0409999999999999,1.044,1.042,1.042,1.04,1.04,1.04]
["Vermont",0,5.9279999999999999,2.9849999999999999,3.992,8.9640000000000004,3.984,5.0749999999999993,6.0720000000000001,0,1.012,7.0839999999999996,105.248,2.008,10.06,12.048,9.0359999999999996,2.0019999999999998,2.0019999999999998,1.0049999999999999,2.0099999999999998,1.0069999999999999,2.016,3.036,3.0449999999999999,5.0849999999999991,3.0749999999999997,1.024,2.06,1.034,0,0,null,"Vermont",0,6,3,4,9,4,5,6,0,1,7,104,2,10,12,9,2,2,1,2,1,2,3,3,5,3,1,2,1,null,null,null,"Vermont","NGTCK",0.98699999999999999,0.98799999999999999,0.995,0.998,0.996,0.996,1.0149999999999999,1.012,1.012,1.012,1.012,1.012,1.004,1.006,1.004,1.004,1.0009999999999999,1.0009999999999999,1.0049999999999999,1.0049999999999999,1.0069999999999999,1.008,1.012,1.0149999999999999,1.0169999999999999,1.0249999999999999,1.024,1.03,1.034,1.034,1.034]
["Virginia",61.478000000000002,250.08,254.55499999999998,561.67200000000003,1240.4100000000001,458.79499999999996,743.92399999999998,365.40000000000003,154.36399999999998,185.80199999999999,510.25499999999994,247.84299999999999,128.21600000000001,381.24799999999999,149.35,199.68,40.326000000000001,92.114999999999995,92.382000000000005,255.892,163.452,91.402999999999992,49.632000000000005,134.68,314.846,189.36,37.908000000000001,51.596999999999994,134.65600000000001,0,0,null,"Virginia",59,240,245,538,1195,445,716,350,148,179,493,239,124,368,145,192,39,89,89,247,159,89,48,130,301,180,36,49,128,null,null,null,"Virginia","NGTCK",1.042,1.042,1.0389999999999999,1.044,1.038,1.0309999999999999,1.0389999999999999,1.044,1.0429999999999999,1.038,1.0349999999999999,1.0369999999999999,1.034,1.036,1.03,1.04,1.034,1.0349999999999999,1.038,1.036,1.028,1.0269999999999999,1.034,1.036,1.046,1.052,1.0529999999999999,1.0529999999999999,1.052,1.052,1.052]
["Washington",186.43,158.774,185.94,4.1479999999999997,0,0,0,0,0,0,0,0,0,0,0,0,0,0,0,0,0,0,0,0,0,0,0,0,0,0,0,null,"Washington",181,154,180,4,0,0,0,0,0,0,0,0,0,0,0,0,0,0,0,0,0,0,0,0,0,0,0,0,0,null,null,null,"Washington","NGTCK",1.03,1.0309999999999999,1.0329999999999999,1.0369999999999999,1.0409999999999999,1.04,1.0369999999999999,1.046,1.0449999999999999,1.052,1.038,1.0329999999999999,1.0289999999999999,1.0249999999999999,1.0269999999999999,1.028,1.0289999999999999,1.0249999999999999,1.03,1.03,1.032,1.0289999999999999,1.028,1.03,1.044,1.0649999999999999,1.0780000000000001,1.08,1.087,1.087,1.087]
["West Virginia",0,0,0,0,0,0,0,0,0,0,0,0,0,0,0,0,0,0,0,0,0,0,0,0,0,0,0,0,0,0,0,null,"West Virginia",0,0,0,0,0,0,0,0,0,0,0,0,0,0,0,0,0,0,0,0,0,0,0,0,0,0,0,0,0,null,null,null,"West Virginia","NGTCK",1.071,1.073,1.0649999999999999,1.0649999999999999,1.0640000000000001,1.0609999999999999,1.0609999999999999,1.0680000000000001,1.0629999999999999,1.0549999999999999,1.0680000000000001,1.0669999999999999,1.0620000000000001,1.0660000000000001,1.0580000000000001,1.0669999999999999,1.117,1.0740000000000001,1.073,1.0820000000000001,1.0760000000000001,1.083,1.08,1.0760000000000001,1.0900000000000001,1.097,1.097,1.083,1.091,1.091,1.091]
["Wisconsin",1.006,1.0069999999999999,1.0089999999999999,3.0329999999999995,5.0600000000000005,2.0219999999999998,21.272999999999996,5.0549999999999997,21.230999999999998,0,0,0,0,0,0,0,0,0,0,0,0,0,0,0,0,0,0,0,0,0,0,null,"Wisconsin",1,1,1,3,5,2,21,5,21,0,0,0,0,0,0,0,0,0,0,0,0,0,0,0,0,0,0,0,0,null,null,null,"Wisconsin","NGTCK",1.006,1.0069999999999999,1.0089999999999999,1.0109999999999999,1.012,1.0109999999999999,1.0129999999999999,1.0109999999999999,1.0109999999999999,1.012,1.01,1.0089999999999999,1.0069999999999999,1.008,1.0069999999999999,1.0129999999999999,1.0109999999999999,1.014,1.014,1.014,1.01,1.014,1.0189999999999999,1.026,1.0349999999999999,1.042,1.0389999999999999,1.0349999999999999,1.0409999999999999,1.0409999999999999,1.0409999999999999]
["Wyoming",0,0,0,0,0,0,0,0,0,0,0,0,0,0,0,0,0,0,0,0,0,0,0,0,0,0,0,0,0,0,0,null,"Wyoming",0,0,0,0,0,0,0,0,0,0,0,0,0,0,0,0,0,0,0,0,0,0,0,0,0,0,0,0,0,null,null,null,"Wyoming","NGTCK",1.099,1.06,1.0580000000000001,1.056,1.056,1.0629999999999999,1.0609999999999999,1.069,1.0669999999999999,1.0509999999999999,1.046,1.0549999999999999,1.04,1.044,1.0449999999999999,1.042,1.0409999999999999,1.036,1.0309999999999999,1.0309999999999999,1.0309999999999999,1.034,1.034,1.042,1.04,1.06,1.0740000000000001,1.06,1.0640000000000001,1.0640000000000001,1.0640000000000001]
["United States ",126490.18000000001,115984.18000000001,121456.57,122330.97200000001,114039.95399999998,113378.12000000001,112629.19499999999,106557.04899999998,105765.61499999999,100999.97200000001,92249.999999999985,88642.423999999999,69611.520000000004,69601.767999999996,61934.49,65474.347999999998,67841.565999999992,64836.563999999991,62533.002999999997,66890.474999999991,66060.224999999991,61409.936000000002,62777.417999999998,56070.9,61550.544000000002,60794.124999999993,59303.955999999998,68061.055999999997,71839.347999999998,0,0,null,"United States",122806,112606,117919,118999,110826,110290,109455,103153,102189,98249,90000,86312,67980,67706,60365,63691,66058,63132,60889,65259,64575,60088,61366,54650,59642,58625,57188,65696,69343,null,null,null,"United States","NGTCK",1.03,1.03,1.03,1.028,1.0289999999999999,1.028,1.0289999999999999,1.0329999999999999,1.0349999999999999,1.028,1.0249999999999999,1.0269999999999999,1.024,1.028,1.026,1.028,1.0269999999999999,1.0269999999999999,1.0269999999999999,1.0249999999999999,1.0229999999999999,1.022,1.0229999999999999,1.026,1.032,1.0369999999999999,1.0369999999999999,1.036,1.036,1.036,1.036]
["Note: Totals may not sum due to independent rounding.",null,null,null,null,null,null,null,null,null,null,null,null,null,null,null,null,null,null,null,null,null,null,null,null,null,null,null,null,null,null,null,null,"Note: Totals may not sum due to independent rounding."]

{"sheet":"Emission Factors","index":19,"n_rows":25,"n_cols":10,"rows_kept":25,"cut":false,"hidden":false,"merged":[[1,2,1,3],[1,5,1,6]]}
[]
[null,null,"IPCC Units (g/GJ)",null,null,"mt/BBtu",null,null,{"$f":"10^-9","v":1.0000000000000001E-9},"GJ/J"]
[null,"Fuel/End-Use Sector","N2O","CH4",null,"N2O","CH4",null,1055.05585262,"J/Btu"]
[null,"Coal",null,null,null,null,null,null,{"$f":"10^9","v":1000000000},"Btu/BBtu"]
[null,"Residential",1.5,300,null,{"$f":"FIXED(C5*$I$2*$I$3*$I$4*$I$6*$I$10,5)","v":"0.00150"},"0.30069"]
[null,"Commercial",1.5,10,null,"0.00150","0.01002",null,{"$f":"10^-6","v":9.9999999999999995E-7},"mt/g"]
[null,"Industrial",1.5,10,null,"0.00150","0.01002",null,{"$f":"10^-3","v":1E-3},"kg/g"]
[null,"Electric Utilities",1.5,1,null,"0.00150","0.00100"]
[null,"Petroleum",null,null,null,null,null,null,"HHV-->LHV"]
[null,"Residential",0.6,10,null,{"$f":"FIXED(C10*$I$2*$I$3*$I$4*$I$6*$I$10,5)","v":"0.00060"},"0.01002",null,0.95,"Coal, oil"]
[null,"Commercial",0.6,10,null,"0.00060","0.01002",null,0.9,"nat gas, wood"]
[null,"Industrial",0.6,3,null,"0.00060","0.00301"]
[null,"Electric Utilities",0.6,3,null,"0.00060","0.00301"]
[null,"Natural Gas"]
[null,"Residential",0.1,5,null,{"$f":"FIXED(C15*$I$2*$I$3*$I$4*$I$6*$I$11,5)","v":"0.00009"},"0.00475"]
[null,"Commercial",0.1,5,null,"0.00009","0.00475"]
[null,"Industrial",0.1,1,null,"0.00009","0.00095"]
[null,"Electric Utilities",0.1,1,null,"0.00009","0.00095"]
[null,"Wood"]
[null,"Residential",4,300,null,{"$f":"FIXED(C20*$I$2*$I$3*$I$4*$I$6*$I$11,5)","v":"0.00380"},"0.28487"]
[null,"Commercial",4,300,null,"0.00380","0.28487"]
[null,"Industrial",4,30,null,"0.00380","0.02849"]
[null,"Electric Utilities",4,30,null,"0.00380","0.02849"]
[]
[null,null,null,null,null,"Use 5 digits for guidance"]

{"sheet":"Ethanol","index":20,"n_rows":118,"n_cols":32,"rows_kept":118,"cut":false,"hidden":false,"merged":[]}
["Adjustment for Ethanol added to Motor Gasoline"]
["Since the reported values for gasoline consumption include ethanol fuel consumption, and ethanol is a biofuel, carbon emissions from combustion should not be counted as greenhouse gas emissions. "]
["Thus, transportation gasoline consumption is adjusted by subtracting out the consumption (Btu) of ethanol. "]
[]
["Source: State Energy Data 2018: Consumption Estimates. U.S. Dept. of Energy, Energy Information Administration, 2020."]
["Commercial Ethanol"]
["BBtu",2,3,4,5,6,7,8,9,10,11,12,13,14,15,16,17,18,19,20,21,22,23,24,25,26,27,28,29,30,31,32]
["State",1990,1991,1992,1993,1994,1995,1996,1997,1998,1999,2000,2001,2002,2003,2004,2005,2006,2007,2008,2009,2010,2011,2012,2013,2014,2015,2016,2017,2018,2019,2020]
["AL",{"$f":"VLOOKUP(Ethanol!$A9&\" Commercial Ethanol\",ConsumeBlock,Ethanol!B$7,FALSE)","v":8},{"$f":"VLOOKUP(Ethanol!$A9&\" Commercial Ethanol\",ConsumeBlock,Ethanol!C$7,FALSE)","v":5},{"$f":"VLOOKUP(Ethanol!$A9&\" Commercial Ethanol\",ConsumeBlock,Ethanol!D$7,FALSE)","v":7},{"$f":"VLOOKUP(Ethanol!$A9&\" Commercial Ethanol\",ConsumeBlock,Ethanol!E$7,FALSE)","v":1},{"$f":"VLOOKUP(Ethanol!$A9&\" Commercial Ethanol\",ConsumeBlock,Ethanol!F$7,FALSE)","v":1},{"$f":"VLOOKUP(Ethanol!$A9&\" Commercial Ethanol\",ConsumeBlock,Ethanol!G$7,FALSE)","v":2},{"$f":"VLOOKUP(Ethanol!$A9&\" Commercial Ethanol\",ConsumeBlock,Ethanol!H$7,FALSE)","v":0},{"$f":"VLOOKUP(Ethanol!$A9&\" Commercial Ethanol\",ConsumeBlock,Ethanol!I$7,FALSE)","v":0},{"$f":"VLOOKUP(Ethanol!$A9&\" Commercial Ethanol\",ConsumeBlock,Ethanol!J$7,FALSE)","v":0},{"$f":"VLOOKUP(Ethanol!$A9&\" Commercial Ethanol\",ConsumeBlock,Ethanol!K$7,FALSE)","v":0},{"$f":"VLOOKUP(Ethanol!$A9&\" Commercial Ethanol\",ConsumeBlock,Ethanol!L$7,FALSE)","v":0},{"$f":"VLOOKUP(Ethanol!$A9&\" Commercial Ethanol\",ConsumeBlock,Ethanol!M$7,FALSE)","v":1},{"$f":"VLOOKUP(Ethanol!$A9&\" Commercial Ethanol\",ConsumeBlock,Ethanol!N$7,FALSE)","v":1},{"$f":"VLOOKUP(Ethanol!$A9&\" Commercial Ethanol\",ConsumeBlock,Ethanol!O$7,FALSE)","v":1},{"$f":"VLOOKUP(Ethanol!$A9&\" Commercial Ethanol\",ConsumeBlock,Ethanol!P$7,FALSE)","v":2},{"$f":"VLOOKUP(Ethanol!$A9&\" Commercial Ethanol\",ConsumeBlock,Ethanol!Q$7,FALSE)","v":0},{"$f":"VLOOKUP(Ethanol!$A9&\" Commercial Ethanol\",ConsumeBlock,Ethanol!R$7,FALSE)","v":0},{"$f":"VLOOKUP(Ethanol!$A9&\" Commercial Ethanol\",ConsumeBlock,Ethanol!S$7,FALSE)","v":0},{"$f":"VLOOKUP(Ethanol!$A9&\" Commercial Ethanol\",ConsumeBlock,Ethanol!T$7,FALSE)","v":3},{"$f":"VLOOKUP(Ethanol!$A9&\" Commercial Ethanol\",ConsumeBlock,Ethanol!U$7,FALSE)","v":6},{"$f":"VLOOKUP(Ethanol!$A9&\" Commercial Ethanol\",ConsumeBlock,Ethanol!V$7,FALSE)","v":16},{"$f":"VLOOKUP(Ethanol!$A9&\" Commercial Ethanol\",ConsumeBlock,Ethanol!W$7,FALSE)","v":16},{"$f":"VLOOKUP(Ethanol!$A9&\" Commercial Ethanol\",ConsumeBlock,Ethanol!X$7,FALSE)","v":16},{"$f":"VLOOKUP(Ethanol!$A9&\" Commercial Ethanol\",ConsumeBlock,Ethanol!Y$7,FALSE)","v":16},{"$f":"VLOOKUP(Ethanol!$A9&\" Commercial Ethanol\",ConsumeBlock,Ethanol!Z$7,FALSE)","v":16},{"$f":"VLOOKUP(Ethanol!$A9&\" Commercial Ethanol\",ConsumeBlock,Ethanol!AA$7,FALSE)","v":372},{"$f":"VLOOKUP(Ethanol!$A9&\" Commercial Ethanol\",ConsumeBlock,Ethanol!AB$7,FALSE)","v":472},{"$f":"VLOOKUP(Ethanol!$A9&\" Commercial Ethanol\",ConsumeBlock,Ethanol!AC$7,FALSE)","v":381},{"$f":"VLOOKUP(Ethanol!$A9&\" Commercial Ethanol\",ConsumeBlock,Ethanol!AD$7,FALSE)","v":379}]
["AK",{"$f":"VLOOKUP(Ethanol!$A10&\" Commercial Ethanol\",ConsumeBlock,Ethanol!B$7,FALSE)","v":0},{"$f":"VLOOKUP(Ethanol!$A10&\" Commercial Ethanol\",ConsumeBlock,Ethanol!C$7,FALSE)","v":0},{"$f":"VLOOKUP(Ethanol!$A10&\" Commercial Ethanol\",ConsumeBlock,Ethanol!D$7,FALSE)","v":0},{"$f":"VLOOKUP(Ethanol!$A10&\" Commercial Ethanol\",ConsumeBlock,Ethanol!E$7,FALSE)","v":0},{"$f":"VLOOKUP(Ethanol!$A10&\" Commercial Ethanol\",ConsumeBlock,Ethanol!F$7,FALSE)","v":0},{"$f":"VLOOKUP(Ethanol!$A10&\" Commercial Ethanol\",ConsumeBlock,Ethanol!G$7,FALSE)","v":2},{"$f":"VLOOKUP(Ethanol!$A10&\" Commercial Ethanol\",ConsumeBlock,Ethanol!H$7,FALSE)","v":32},{"$f":"VLOOKUP(Ethanol!$A10&\" Commercial Ethanol\",ConsumeBlock,Ethanol!I$7,FALSE)","v":7},{"$f":"VLOOKUP(Ethanol!$A10&\" Commercial Ethanol\",ConsumeBlock,Ethanol!J$7,FALSE)","v":6},{"$f":"VLOOKUP(Ethanol!$A10&\" Commercial Ethanol\",ConsumeBlock,Ethanol!K$7,FALSE)","v":5},{"$f":"VLOOKUP(Ethanol!$A10&\" Commercial Ethanol\",ConsumeBlock,Ethanol!L$7,FALSE)","v":2},{"$f":"VLOOKUP(Ethanol!$A10&\" Commercial Ethanol\",ConsumeBlock,Ethanol!M$7,FALSE)","v":50},{"$f":"VLOOKUP(Ethanol!$A10&\" Commercial Ethanol\",ConsumeBlock,Ethanol!N$7,FALSE)","v":7},{"$f":"VLOOKUP(Ethanol!$A10&\" Commercial Ethanol\",ConsumeBlock,Ethanol!O$7,FALSE)","v":0},{"$f":"VLOOKUP(Ethanol!$A10&\" Commercial Ethanol\",ConsumeBlock,Ethanol!P$7,FALSE)","v":6},{"$f":"VLOOKUP(Ethanol!$A10&\" Commercial Ethanol\",ConsumeBlock,Ethanol!Q$7,FALSE)","v":0},{"$f":"VLOOKUP(Ethanol!$A10&\" Commercial Ethanol\",ConsumeBlock,Ethanol!R$7,FALSE)","v":0},{"$f":"VLOOKUP(Ethanol!$A10&\" Commercial Ethanol\",ConsumeBlock,Ethanol!S$7,FALSE)","v":0},{"$f":"VLOOKUP(Ethanol!$A10&\" Commercial Ethanol\",ConsumeBlock,Ethanol!T$7,FALSE)","v":0},{"$f":"VLOOKUP(Ethanol!$A10&\" Commercial Ethanol\",ConsumeBlock,Ethanol!U$7,FALSE)","v":0},{"$f":"VLOOKUP(Ethanol!$A10&\" Commercial Ethanol\",ConsumeBlock,Ethanol!V$7,FALSE)","v":0},{"$f":"VLOOKUP(Ethanol!$A10&\" Commercial Ethanol\",ConsumeBlock,Ethanol!W$7,FALSE)","v":0},{"$f":"VLOOKUP(Ethanol!$A10&\" Commercial Ethanol\",ConsumeBlock,Ethanol!X$7,FALSE)","v":0},{"$f":"VLOOKUP(Ethanol!$A10&\" Commercial Ethanol\",ConsumeBlock,Ethanol!Y$7,FALSE)","v":0},{"$f":"VLOOKUP(Ethanol!$A10&\" Commercial Ethanol\",ConsumeBlock,Ethanol!Z$7,FALSE)","v":22},{"$f":"VLOOKUP(Ethanol!$A10&\" Commercial Ethanol\",ConsumeBlock,Ethanol!AA$7,FALSE)","v":0},{"$f":"VLOOKUP(Ethanol!$A10&\" Commercial Ethanol\",ConsumeBlock,Ethanol!AB$7,FALSE)","v":0},{"$f":"VLOOKUP(Ethanol!$A10&\" Commercial Ethanol\",ConsumeBlock,Ethanol!AC$7,FALSE)","v":0},{"$f":"VLOOKUP(Ethanol!$A10&\" Commercial Ethanol\",ConsumeBlock,Ethanol!AD$7,FALSE)","v":0}]
["AZ",{"$f":"VLOOKUP(Ethanol!$A11&\" Commercial Ethanol\",ConsumeBlock,Ethanol!B$7,FALSE)","v":0},{"$f":"VLOOKUP(Ethanol!$A11&\" Commercial Ethanol\",ConsumeBlock,Ethanol!C$7,FALSE)","v":0},{"$f":"VLOOKUP(Ethanol!$A11&\" Commercial Ethanol\",ConsumeBlock,Ethanol!D$7,FALSE)","v":0},{"$f":"VLOOKUP(Ethanol!$A11&\" Commercial Ethanol\",ConsumeBlock,Ethanol!E$7,FALSE)","v":1},{"$f":"VLOOKUP(Ethanol!$A11&\" Commercial Ethanol\",ConsumeBlock,Ethanol!F$7,FALSE)","v":1},{"$f":"VLOOKUP(Ethanol!$A11&\" Commercial Ethanol\",ConsumeBlock,Ethanol!G$7,FALSE)","v":2},{"$f":"VLOOKUP(Ethanol!$A11&\" Commercial Ethanol\",ConsumeBlock,Ethanol!H$7,FALSE)","v":1},{"$f":"VLOOKUP(Ethanol!$A11&\" Commercial Ethanol\",ConsumeBlock,Ethanol!I$7,FALSE)","v":1},{"$f":"VLOOKUP(Ethanol!$A11&\" Commercial Ethanol\",ConsumeBlock,Ethanol!J$7,FALSE)","v":1},{"$f":"VLOOKUP(Ethanol!$A11&\" Commercial Ethanol\",ConsumeBlock,Ethanol!K$7,FALSE)","v":1},{"$f":"VLOOKUP(Ethanol!$A11&\" Commercial Ethanol\",ConsumeBlock,Ethanol!L$7,FALSE)","v":1},{"$f":"VLOOKUP(Ethanol!$A11&\" Commercial Ethanol\",ConsumeBlock,Ethanol!M$7,FALSE)","v":1},{"$f":"VLOOKUP(Ethanol!$A11&\" Commercial Ethanol\",ConsumeBlock,Ethanol!N$7,FALSE)","v":1},{"$f":"VLOOKUP(Ethanol!$A11&\" Commercial Ethanol\",ConsumeBlock,Ethanol!O$7,FALSE)","v":1},{"$f":"VLOOKUP(Ethanol!$A11&\" Commercial Ethanol\",ConsumeBlock,Ethanol!P$7,FALSE)","v":1},{"$f":"VLOOKUP(Ethanol!$A11&\" Commercial Ethanol\",ConsumeBlock,Ethanol!Q$7,FALSE)","v":8},{"$f":"VLOOKUP(Ethanol!$A11&\" Commercial Ethanol\",ConsumeBlock,Ethanol!R$7,FALSE)","v":9},{"$f":"VLOOKUP(Ethanol!$A11&\" Commercial Ethanol\",ConsumeBlock,Ethanol!S$7,FALSE)","v":10},{"$f":"VLOOKUP(Ethanol!$A11&\" Commercial Ethanol\",ConsumeBlock,Ethanol!T$7,FALSE)","v":14},{"$f":"VLOOKUP(Ethanol!$A11&\" Commercial Ethanol\",ConsumeBlock,Ethanol!U$7,FALSE)","v":35},{"$f":"VLOOKUP(Ethanol!$A11&\" Commercial Ethanol\",ConsumeBlock,Ethanol!V$7,FALSE)","v":46},{"$f":"VLOOKUP(Ethanol!$A11&\" Commercial Ethanol\",ConsumeBlock,Ethanol!W$7,FALSE)","v":41},{"$f":"VLOOKUP(Ethanol!$A11&\" Commercial Ethanol\",ConsumeBlock,Ethanol!X$7,FALSE)","v":34},{"$f":"VLOOKUP(Ethanol!$A11&\" Commercial Ethanol\",ConsumeBlock,Ethanol!Y$7,FALSE)","v":40},{"$f":"VLOOKUP(Ethanol!$A11&\" Commercial Ethanol\",ConsumeBlock,Ethanol!Z$7,FALSE)","v":15},{"$f":"VLOOKUP(Ethanol!$A11&\" Commercial Ethanol\",ConsumeBlock,Ethanol!AA$7,FALSE)","v":646},{"$f":"VLOOKUP(Ethanol!$A11&\" Commercial Ethanol\",ConsumeBlock,Ethanol!AB$7,FALSE)","v":641},{"$f":"VLOOKUP(Ethanol!$A11&\" Commercial Ethanol\",ConsumeBlock,Ethanol!AC$7,FALSE)","v":653},{"$f":"VLOOKUP(Ethanol!$A11&\" Commercial Ethanol\",ConsumeBlock,Ethanol!AD$7,FALSE)","v":660}]
["AR",{"$f":"VLOOKUP(Ethanol!$A12&\" Commercial Ethanol\",ConsumeBlock,Ethanol!B$7,FALSE)","v":2},{"$f":"VLOOKUP(Ethanol!$A12&\" Commercial Ethanol\",ConsumeBlock,Ethanol!C$7,FALSE)","v":1},{"$f":"VLOOKUP(Ethanol!$A12&\" Commercial Ethanol\",ConsumeBlock,Ethanol!D$7,FALSE)","v":1},{"$f":"VLOOKUP(Ethanol!$A12&\" Commercial Ethanol\",ConsumeBlock,Ethanol!E$7,FALSE)","v":0},{"$f":"VLOOKUP(Ethanol!$A12&\" Commercial Ethanol\",ConsumeBlock,Ethanol!F$7,FALSE)","v":0},{"$f":"VLOOKUP(Ethanol!$A12&\" Commercial Ethanol\",ConsumeBlock,Ethanol!G$7,FALSE)","v":0},{"$f":"VLOOKUP(Ethanol!$A12&\" Commercial Ethanol\",ConsumeBlock,Ethanol!H$7,FALSE)","v":0},{"$f":"VLOOKUP(Ethanol!$A12&\" Commercial Ethanol\",ConsumeBlock,Ethanol!I$7,FALSE)","v":0},{"$f":"VLOOKUP(Ethanol!$A12&\" Commercial Ethanol\",ConsumeBlock,Ethanol!J$7,FALSE)","v":0},{"$f":"VLOOKUP(Ethanol!$A12&\" Commercial Ethanol\",ConsumeBlock,Ethanol!K$7,FALSE)","v":0},{"$f":"VLOOKUP(Ethanol!$A12&\" Commercial Ethanol\",ConsumeBlock,Ethanol!L$7,FALSE)","v":0},{"$f":"VLOOKUP(Ethanol!$A12&\" Commercial Ethanol\",ConsumeBlock,Ethanol!M$7,FALSE)","v":0},{"$f":"VLOOKUP(Ethanol!$A12&\" Commercial Ethanol\",ConsumeBlock,Ethanol!N$7,FALSE)","v":0},{"$f":"VLOOKUP(Ethanol!$A12&\" Commercial Ethanol\",ConsumeBlock,Ethanol!O$7,FALSE)","v":0},{"$f":"VLOOKUP(Ethanol!$A12&\" Commercial Ethanol\",ConsumeBlock,Ethanol!P$7,FALSE)","v":0},{"$f":"VLOOKUP(Ethanol!$A12&\" Commercial Ethanol\",ConsumeBlock,Ethanol!Q$7,FALSE)","v":0},{"$f":"VLOOKUP(Ethanol!$A12&\" Commercial Ethanol\",ConsumeBlock,Ethanol!R$7,FALSE)","v":0},{"$f":"VLOOKUP(Ethanol!$A12&\" Commercial Ethanol\",ConsumeBlock,Ethanol!S$7,FALSE)","v":1},{"$f":"VLOOKUP(Ethanol!$A12&\" Commercial Ethanol\",ConsumeBlock,Ethanol!T$7,FALSE)","v":9},{"$f":"VLOOKUP(Ethanol!$A12&\" Commercial Ethanol\",ConsumeBlock,Ethanol!U$7,FALSE)","v":23},{"$f":"VLOOKUP(Ethanol!$A12&\" Commercial Ethanol\",ConsumeBlock,Ethanol!V$7,FALSE)","v":59},{"$f":"VLOOKUP(Ethanol!$A12&\" Commercial Ethanol\",ConsumeBlock,Ethanol!W$7,FALSE)","v":26},{"$f":"VLOOKUP(Ethanol!$A12&\" Commercial Ethanol\",ConsumeBlock,Ethanol!X$7,FALSE)","v":26},{"$f":"VLOOKUP(Ethanol!$A12&\" Commercial Ethanol\",ConsumeBlock,Ethanol!Y$7,FALSE)","v":20},{"$f":"VLOOKUP(Ethanol!$A12&\" Commercial Ethanol\",ConsumeBlock,Ethanol!Z$7,FALSE)","v":29},{"$f":"VLOOKUP(Ethanol!$A12&\" Commercial Ethanol\",ConsumeBlock,Ethanol!AA$7,FALSE)","v":224},{"$f":"VLOOKUP(Ethanol!$A12&\" Commercial Ethanol\",ConsumeBlock,Ethanol!AB$7,FALSE)","v":196},{"$f":"VLOOKUP(Ethanol!$A12&\" Commercial Ethanol\",ConsumeBlock,Ethanol!AC$7,FALSE)","v":195},{"$f":"VLOOKUP(Ethanol!$A12&\" Commercial Ethanol\",ConsumeBlock,Ethanol!AD$7,FALSE)","v":184}]
["CA",{"$f":"VLOOKUP(Ethanol!$A13&\" Commercial Ethanol\",ConsumeBlock,Ethanol!B$7,FALSE)","v":25},{"$f":"VLOOKUP(Ethanol!$A13&\" Commercial Ethanol\",ConsumeBlock,Ethanol!C$7,FALSE)","v":27},{"$f":"VLOOKUP(Ethanol!$A13&\" Commercial Ethanol\",ConsumeBlock,Ethanol!D$7,FALSE)","v":3},{"$f":"VLOOKUP(Ethanol!$A13&\" Commercial Ethanol\",ConsumeBlock,Ethanol!E$7,FALSE)","v":2},{"$f":"VLOOKUP(Ethanol!$A13&\" Commercial Ethanol\",ConsumeBlock,Ethanol!F$7,FALSE)","v":2},{"$f":"VLOOKUP(Ethanol!$A13&\" Commercial Ethanol\",ConsumeBlock,Ethanol!G$7,FALSE)","v":7},{"$f":"VLOOKUP(Ethanol!$A13&\" Commercial Ethanol\",ConsumeBlock,Ethanol!H$7,FALSE)","v":5},{"$f":"VLOOKUP(Ethanol!$A13&\" Commercial Ethanol\",ConsumeBlock,Ethanol!I$7,FALSE)","v":5},{"$f":"VLOOKUP(Ethanol!$A13&\" Commercial Ethanol\",ConsumeBlock,Ethanol!J$7,FALSE)","v":4},{"$f":"VLOOKUP(Ethanol!$A13&\" Commercial Ethanol\",ConsumeBlock,Ethanol!K$7,FALSE)","v":3},{"$f":"VLOOKUP(Ethanol!$A13&\" Commercial Ethanol\",ConsumeBlock,Ethanol!L$7,FALSE)","v":4},{"$f":"VLOOKUP(Ethanol!$A13&\" Commercial Ethanol\",ConsumeBlock,Ethanol!M$7,FALSE)","v":5},{"$f":"VLOOKUP(Ethanol!$A13&\" Commercial Ethanol\",ConsumeBlock,Ethanol!N$7,FALSE)","v":6},{"$f":"VLOOKUP(Ethanol!$A13&\" Commercial Ethanol\",ConsumeBlock,Ethanol!O$7,FALSE)","v":36},{"$f":"VLOOKUP(Ethanol!$A13&\" Commercial Ethanol\",ConsumeBlock,Ethanol!P$7,FALSE)","v":52},{"$f":"VLOOKUP(Ethanol!$A13&\" Commercial Ethanol\",ConsumeBlock,Ethanol!Q$7,FALSE)","v":57},{"$f":"VLOOKUP(Ethanol!$A13&\" Commercial Ethanol\",ConsumeBlock,Ethanol!R$7,FALSE)","v":58},{"$f":"VLOOKUP(Ethanol!$A13&\" Commercial Ethanol\",ConsumeBlock,Ethanol!S$7,FALSE)","v":61},{"$f":"VLOOKUP(Ethanol!$A13&\" Commercial Ethanol\",ConsumeBlock,Ethanol!T$7,FALSE)","v":64},{"$f":"VLOOKUP(Ethanol!$A13&\" Commercial Ethanol\",ConsumeBlock,Ethanol!U$7,FALSE)","v":62},{"$f":"VLOOKUP(Ethanol!$A13&\" Commercial Ethanol\",ConsumeBlock,Ethanol!V$7,FALSE)","v":94},{"$f":"VLOOKUP(Ethanol!$A13&\" Commercial Ethanol\",ConsumeBlock,Ethanol!W$7,FALSE)","v":93},{"$f":"VLOOKUP(Ethanol!$A13&\" Commercial Ethanol\",ConsumeBlock,Ethanol!X$7,FALSE)","v":90},{"$f":"VLOOKUP(Ethanol!$A13&\" Commercial Ethanol\",ConsumeBlock,Ethanol!Y$7,FALSE)","v":96},{"$f":"VLOOKUP(Ethanol!$A13&\" Commercial Ethanol\",ConsumeBlock,Ethanol!Z$7,FALSE)","v":93},{"$f":"VLOOKUP(Ethanol!$A13&\" Commercial Ethanol\",ConsumeBlock,Ethanol!AA$7,FALSE)","v":3625},{"$f":"VLOOKUP(Ethanol!$A13&\" Commercial Ethanol\",ConsumeBlock,Ethanol!AB$7,FALSE)","v":3616},{"$f":"VLOOKUP(Ethanol!$A13&\" Commercial Ethanol\",ConsumeBlock,Ethanol!AC$7,FALSE)","v":3688},{"$f":"VLOOKUP(Ethanol!$A13&\" Commercial Ethanol\",ConsumeBlock,Ethanol!AD$7,FALSE)","v":3733}]
["CO",{"$f":"VLOOKUP(Ethanol!$A14&\" Commercial Ethanol\",ConsumeBlock,Ethanol!B$7,FALSE)","v":6},{"$f":"VLOOKUP(Ethanol!$A14&\" Commercial Ethanol\",ConsumeBlock,Ethanol!C$7,FALSE)","v":8},{"$f":"VLOOKUP(Ethanol!$A14&\" Commercial Ethanol\",ConsumeBlock,Ethanol!D$7,FALSE)","v":6},{"$f":"VLOOKUP(Ethanol!$A14&\" Commercial Ethanol\",ConsumeBlock,Ethanol!E$7,FALSE)","v":2},{"$f":"VLOOKUP(Ethanol!$A14&\" Commercial Ethanol\",ConsumeBlock,Ethanol!F$7,FALSE)","v":3},{"$f":"VLOOKUP(Ethanol!$A14&\" Commercial Ethanol\",ConsumeBlock,Ethanol!G$7,FALSE)","v":4},{"$f":"VLOOKUP(Ethanol!$A14&\" Commercial Ethanol\",ConsumeBlock,Ethanol!H$7,FALSE)","v":33},{"$f":"VLOOKUP(Ethanol!$A14&\" Commercial Ethanol\",ConsumeBlock,Ethanol!I$7,FALSE)","v":4},{"$f":"VLOOKUP(Ethanol!$A14&\" Commercial Ethanol\",ConsumeBlock,Ethanol!J$7,FALSE)","v":4},{"$f":"VLOOKUP(Ethanol!$A14&\" Commercial Ethanol\",ConsumeBlock,Ethanol!K$7,FALSE)","v":16},{"$f":"VLOOKUP(Ethanol!$A14&\" Commercial Ethanol\",ConsumeBlock,Ethanol!L$7,FALSE)","v":14},{"$f":"VLOOKUP(Ethanol!$A14&\" Commercial Ethanol\",ConsumeBlock,Ethanol!M$7,FALSE)","v":6},{"$f":"VLOOKUP(Ethanol!$A14&\" Commercial Ethanol\",ConsumeBlock,Ethanol!N$7,FALSE)","v":5},{"$f":"VLOOKUP(Ethanol!$A14&\" Commercial Ethanol\",ConsumeBlock,Ethanol!O$7,FALSE)","v":6},{"$f":"VLOOKUP(Ethanol!$A14&\" Commercial Ethanol\",ConsumeBlock,Ethanol!P$7,FALSE)","v":5},{"$f":"VLOOKUP(Ethanol!$A14&\" Commercial Ethanol\",ConsumeBlock,Ethanol!Q$7,FALSE)","v":3},{"$f":"VLOOKUP(Ethanol!$A14&\" Commercial Ethanol\",ConsumeBlock,Ethanol!R$7,FALSE)","v":3},{"$f":"VLOOKUP(Ethanol!$A14&\" Commercial Ethanol\",ConsumeBlock,Ethanol!S$7,FALSE)","v":5},{"$f":"VLOOKUP(Ethanol!$A14&\" Commercial Ethanol\",ConsumeBlock,Ethanol!T$7,FALSE)","v":6},{"$f":"VLOOKUP(Ethanol!$A14&\" Commercial Ethanol\",ConsumeBlock,Ethanol!U$7,FALSE)","v":7},{"$f":"VLOOKUP(Ethanol!$A14&\" Commercial Ethanol\",ConsumeBlock,Ethanol!V$7,FALSE)","v":9},{"$f":"VLOOKUP(Ethanol!$A14&\" Commercial Ethanol\",ConsumeBlock,Ethanol!W$7,FALSE)","v":11},{"$f":"VLOOKUP(Ethanol!$A14&\" Commercial Ethanol\",ConsumeBlock,Ethanol!X$7,FALSE)","v":12},{"$f":"VLOOKUP(Ethanol!$A14&\" Commercial Ethanol\",ConsumeBlock,Ethanol!Y$7,FALSE)","v":13},{"$f":"VLOOKUP(Ethanol!$A14&\" Commercial Ethanol\",ConsumeBlock,Ethanol!Z$7,FALSE)","v":12},{"$f":"VLOOKUP(Ethanol!$A14&\" Commercial Ethanol\",ConsumeBlock,Ethanol!AA$7,FALSE)","v":487},{"$f":"VLOOKUP(Ethanol!$A14&\" Commercial Ethanol\",ConsumeBlock,Ethanol!AB$7,FALSE)","v":512},{"$f":"VLOOKUP(Ethanol!$A14&\" Commercial Ethanol\",ConsumeBlock,Ethanol!AC$7,FALSE)","v":522},{"$f":"VLOOKUP(Ethanol!$A14&\" Commercial Ethanol\",ConsumeBlock,Ethanol!AD$7,FALSE)","v":531}]
["CT",{"$f":"VLOOKUP(Ethanol!$A15&\" Commercial Ethanol\",ConsumeBlock,Ethanol!B$7,FALSE)","v":0},{"$f":"VLOOKUP(Ethanol!$A15&\" Commercial Ethanol\",ConsumeBlock,Ethanol!C$7,FALSE)","v":2},{"$f":"VLOOKUP(Ethanol!$A15&\" Commercial Ethanol\",ConsumeBlock,Ethanol!D$7,FALSE)","v":22},{"$f":"VLOOKUP(Ethanol!$A15&\" Commercial Ethanol\",ConsumeBlock,Ethanol!E$7,FALSE)","v":27},{"$f":"VLOOKUP(Ethanol!$A15&\" Commercial Ethanol\",ConsumeBlock,Ethanol!F$7,FALSE)","v":12},{"$f":"VLOOKUP(Ethanol!$A15&\" Commercial Ethanol\",ConsumeBlock,Ethanol!G$7,FALSE)","v":1},{"$f":"VLOOKUP(Ethanol!$A15&\" Commercial Ethanol\",ConsumeBlock,Ethanol!H$7,FALSE)","v":7},{"$f":"VLOOKUP(Ethanol!$A15&\" Commercial Ethanol\",ConsumeBlock,Ethanol!I$7,FALSE)","v":9},{"$f":"VLOOKUP(Ethanol!$A15&\" Commercial Ethanol\",ConsumeBlock,Ethanol!J$7,FALSE)","v":6},{"$f":"VLOOKUP(Ethanol!$A15&\" Commercial Ethanol\",ConsumeBlock,Ethanol!K$7,FALSE)","v":6},{"$f":"VLOOKUP(Ethanol!$A15&\" Commercial Ethanol\",ConsumeBlock,Ethanol!L$7,FALSE)","v":8},{"$f":"VLOOKUP(Ethanol!$A15&\" Commercial Ethanol\",ConsumeBlock,Ethanol!M$7,FALSE)","v":1},{"$f":"VLOOKUP(Ethanol!$A15&\" Commercial Ethanol\",ConsumeBlock,Ethanol!N$7,FALSE)","v":6},{"$f":"VLOOKUP(Ethanol!$A15&\" Commercial Ethanol\",ConsumeBlock,Ethanol!O$7,FALSE)","v":79},{"$f":"VLOOKUP(Ethanol!$A15&\" Commercial Ethanol\",ConsumeBlock,Ethanol!P$7,FALSE)","v":45},{"$f":"VLOOKUP(Ethanol!$A15&\" Commercial Ethanol\",ConsumeBlock,Ethanol!Q$7,FALSE)","v":17},{"$f":"VLOOKUP(Ethanol!$A15&\" Commercial Ethanol\",ConsumeBlock,Ethanol!R$7,FALSE)","v":12},{"$f":"VLOOKUP(Ethanol!$A15&\" Commercial Ethanol\",ConsumeBlock,Ethanol!S$7,FALSE)","v":13},{"$f":"VLOOKUP(Ethanol!$A15&\" Commercial Ethanol\",ConsumeBlock,Ethanol!T$7,FALSE)","v":21},{"$f":"VLOOKUP(Ethanol!$A15&\" Commercial Ethanol\",ConsumeBlock,Ethanol!U$7,FALSE)","v":14},{"$f":"VLOOKUP(Ethanol!$A15&\" Commercial Ethanol\",ConsumeBlock,Ethanol!V$7,FALSE)","v":14},{"$f":"VLOOKUP(Ethanol!$A15&\" Commercial Ethanol\",ConsumeBlock,Ethanol!W$7,FALSE)","v":15},{"$f":"VLOOKUP(Ethanol!$A15&\" Commercial Ethanol\",ConsumeBlock,Ethanol!X$7,FALSE)","v":12},{"$f":"VLOOKUP(Ethanol!$A15&\" Commercial Ethanol\",ConsumeBlock,Ethanol!Y$7,FALSE)","v":13},{"$f":"VLOOKUP(Ethanol!$A15&\" Commercial Ethanol\",ConsumeBlock,Ethanol!Z$7,FALSE)","v":12},{"$f":"VLOOKUP(Ethanol!$A15&\" Commercial Ethanol\",ConsumeBlock,Ethanol!AA$7,FALSE)","v":333},{"$f":"VLOOKUP(Ethanol!$A15&\" Commercial Ethanol\",ConsumeBlock,Ethanol!AB$7,FALSE)","v":320},{"$f":"VLOOKUP(Ethanol!$A15&\" Commercial Ethanol\",ConsumeBlock,Ethanol!AC$7,FALSE)","v":324},{"$f":"VLOOKUP(Ethanol!$A15&\" Commercial Ethanol\",ConsumeBlock,Ethanol!AD$7,FALSE)","v":327}]
["DE",{"$f":"VLOOKUP(Ethanol!$A16&\" Commercial Ethanol\",ConsumeBlock,Ethanol!B$7,FALSE)","v":0},{"$f":"VLOOKUP(Ethanol!$A16&\" Commercial Ethanol\",ConsumeBlock,Ethanol!C$7,FALSE)","v":0},{"$f":"VLOOKUP(Ethanol!$A16&\" Commercial Ethanol\",ConsumeBlock,Ethanol!D$7,FALSE)","v":0},{"$f":"VLOOKUP(Ethanol!$A16&\" Commercial Ethanol\",ConsumeBlock,Ethanol!E$7,FALSE)","v":0},{"$f":"VLOOKUP(Ethanol!$A16&\" Commercial Ethanol\",ConsumeBlock,Ethanol!F$7,FALSE)","v":0},{"$f":"VLOOKUP(Ethanol!$A16&\" Commercial Ethanol\",ConsumeBlock,Ethanol!G$7,FALSE)","v":0},{"$f":"VLOOKUP(Ethanol!$A16&\" Commercial Ethanol\",ConsumeBlock,Ethanol!H$7,FALSE)","v":0},{"$f":"VLOOKUP(Ethanol!$A16&\" Commercial Ethanol\",ConsumeBlock,Ethanol!I$7,FALSE)","v":0},{"$f":"VLOOKUP(Ethanol!$A16&\" Commercial Ethanol\",ConsumeBlock,Ethanol!J$7,FALSE)","v":0},{"$f":"VLOOKUP(Ethanol!$A16&\" Commercial Ethanol\",ConsumeBlock,Ethanol!K$7,FALSE)","v":0},{"$f":"VLOOKUP(Ethanol!$A16&\" Commercial Ethanol\",ConsumeBlock,Ethanol!L$7,FALSE)","v":0},{"$f":"VLOOKUP(Ethanol!$A16&\" Commercial Ethanol\",ConsumeBlock,Ethanol!M$7,FALSE)","v":0},{"$f":"VLOOKUP(Ethanol!$A16&\" Commercial Ethanol\",ConsumeBlock,Ethanol!N$7,FALSE)","v":0},{"$f":"VLOOKUP(Ethanol!$A16&\" Commercial Ethanol\",ConsumeBlock,Ethanol!O$7,FALSE)","v":0},{"$f":"VLOOKUP(Ethanol!$A16&\" Commercial Ethanol\",ConsumeBlock,Ethanol!P$7,FALSE)","v":0},{"$f":"VLOOKUP(Ethanol!$A16&\" Commercial Ethanol\",ConsumeBlock,Ethanol!Q$7,FALSE)","v":1},{"$f":"VLOOKUP(Ethanol!$A16&\" Commercial Ethanol\",ConsumeBlock,Ethanol!R$7,FALSE)","v":2},{"$f":"VLOOKUP(Ethanol!$A16&\" Commercial Ethanol\",ConsumeBlock,Ethanol!S$7,FALSE)","v":2},{"$f":"VLOOKUP(Ethanol!$A16&\" Commercial Ethanol\",ConsumeBlock,Ethanol!T$7,FALSE)","v":2},{"$f":"VLOOKUP(Ethanol!$A16&\" Commercial Ethanol\",ConsumeBlock,Ethanol!U$7,FALSE)","v":2},{"$f":"VLOOKUP(Ethanol!$A16&\" Commercial Ethanol\",ConsumeBlock,Ethanol!V$7,FALSE)","v":2},{"$f":"VLOOKUP(Ethanol!$A16&\" Commercial Ethanol\",ConsumeBlock,Ethanol!W$7,FALSE)","v":2},{"$f":"VLOOKUP(Ethanol!$A16&\" Commercial Ethanol\",ConsumeBlock,Ethanol!X$7,FALSE)","v":2},{"$f":"VLOOKUP(Ethanol!$A16&\" Commercial Ethanol\",ConsumeBlock,Ethanol!Y$7,FALSE)","v":2},{"$f":"VLOOKUP(Ethanol!$A16&\" Commercial Ethanol\",ConsumeBlock,Ethanol!Z$7,FALSE)","v":2},{"$f":"VLOOKUP(Ethanol!$A16&\" Commercial Ethanol\",ConsumeBlock,Ethanol!AA$7,FALSE)","v":84},{"$f":"VLOOKUP(Ethanol!$A16&\" Commercial Ethanol\",ConsumeBlock,Ethanol!AB$7,FALSE)","v":84},{"$f":"VLOOKUP(Ethanol!$A16&\" Commercial Ethanol\",ConsumeBlock,Ethanol!AC$7,FALSE)","v":86},{"$f":"VLOOKUP(Ethanol!$A16&\" Commercial Ethanol\",ConsumeBlock,Ethanol!AD$7,FALSE)","v":86}]
["DC",{"$f":"VLOOKUP(Ethanol!$A17&\" Commercial Ethanol\",ConsumeBlock,Ethanol!B$7,FALSE)","v":0},{"$f":"VLOOKUP(Ethanol!$A17&\" Commercial Ethanol\",ConsumeBlock,Ethanol!C$7,FALSE)","v":0},{"$f":"VLOOKUP(Ethanol!$A17&\" Commercial Ethanol\",ConsumeBlock,Ethanol!D$7,FALSE)","v":0},{"$f":"VLOOKUP(Ethanol!$A17&\" Commercial Ethanol\",ConsumeBlock,Ethanol!E$7,FALSE)","v":0},{"$f":"VLOOKUP(Ethanol!$A17&\" Commercial Ethanol\",ConsumeBlock,Ethanol!F$7,FALSE)","v":0},{"$f":"VLOOKUP(Ethanol!$A17&\" Commercial Ethanol\",ConsumeBlock,Ethanol!G$7,FALSE)","v":0},{"$f":"VLOOKUP(Ethanol!$A17&\" Commercial Ethanol\",ConsumeBlock,Ethanol!H$7,FALSE)","v":0},{"$f":"VLOOKUP(Ethanol!$A17&\" Commercial Ethanol\",ConsumeBlock,Ethanol!I$7,FALSE)","v":0},{"$f":"VLOOKUP(Ethanol!$A17&\" Commercial Ethanol\",ConsumeBlock,Ethanol!J$7,FALSE)","v":0},{"$f":"VLOOKUP(Ethanol!$A17&\" Commercial Ethanol\",ConsumeBlock,Ethanol!K$7,FALSE)","v":0},{"$f":"VLOOKUP(Ethanol!$A17&\" Commercial Ethanol\",ConsumeBlock,Ethanol!L$7,FALSE)","v":0},{"$f":"VLOOKUP(Ethanol!$A17&\" Commercial Ethanol\",ConsumeBlock,Ethanol!M$7,FALSE)","v":0},{"$f":"VLOOKUP(Ethanol!$A17&\" Commercial Ethanol\",ConsumeBlock,Ethanol!N$7,FALSE)","v":0},{"$f":"VLOOKUP(Ethanol!$A17&\" Commercial Ethanol\",ConsumeBlock,Ethanol!O$7,FALSE)","v":0},{"$f":"VLOOKUP(Ethanol!$A17&\" Commercial Ethanol\",ConsumeBlock,Ethanol!P$7,FALSE)","v":0},{"$f":"VLOOKUP(Ethanol!$A17&\" Commercial Ethanol\",ConsumeBlock,Ethanol!Q$7,FALSE)","v":16},{"$f":"VLOOKUP(Ethanol!$A17&\" Commercial Ethanol\",ConsumeBlock,Ethanol!R$7,FALSE)","v":12},{"$f":"VLOOKUP(Ethanol!$A17&\" Commercial Ethanol\",ConsumeBlock,Ethanol!S$7,FALSE)","v":5},{"$f":"VLOOKUP(Ethanol!$A17&\" Commercial Ethanol\",ConsumeBlock,Ethanol!T$7,FALSE)","v":12},{"$f":"VLOOKUP(Ethanol!$A17&\" Commercial Ethanol\",ConsumeBlock,Ethanol!U$7,FALSE)","v":7},{"$f":"VLOOKUP(Ethanol!$A17&\" Commercial Ethanol\",ConsumeBlock,Ethanol!V$7,FALSE)","v":83},{"$f":"VLOOKUP(Ethanol!$A17&\" Commercial Ethanol\",ConsumeBlock,Ethanol!W$7,FALSE)","v":97},{"$f":"VLOOKUP(Ethanol!$A17&\" Commercial Ethanol\",ConsumeBlock,Ethanol!X$7,FALSE)","v":2},{"$f":"VLOOKUP(Ethanol!$A17&\" Commercial Ethanol\",ConsumeBlock,Ethanol!Y$7,FALSE)","v":3},{"$f":"VLOOKUP(Ethanol!$A17&\" Commercial Ethanol\",ConsumeBlock,Ethanol!Z$7,FALSE)","v":2},{"$f":"VLOOKUP(Ethanol!$A17&\" Commercial Ethanol\",ConsumeBlock,Ethanol!AA$7,FALSE)","v":23},{"$f":"VLOOKUP(Ethanol!$A17&\" Commercial Ethanol\",ConsumeBlock,Ethanol!AB$7,FALSE)","v":27},{"$f":"VLOOKUP(Ethanol!$A17&\" Commercial Ethanol\",ConsumeBlock,Ethanol!AC$7,FALSE)","v":27},{"$f":"VLOOKUP(Ethanol!$A17&\" Commercial Ethanol\",ConsumeBlock,Ethanol!AD$7,FALSE)","v":28}]
["FL",{"$f":"VLOOKUP(Ethanol!$A18&\" Commercial Ethanol\",ConsumeBlock,Ethanol!B$7,FALSE)","v":6},{"$f":"VLOOKUP(Ethanol!$A18&\" Commercial Ethanol\",ConsumeBlock,Ethanol!C$7,FALSE)","v":5},{"$f":"VLOOKUP(Ethanol!$A18&\" Commercial Ethanol\",ConsumeBlock,Ethanol!D$7,FALSE)","v":5},{"$f":"VLOOKUP(Ethanol!$A18&\" Commercial Ethanol\",ConsumeBlock,Ethanol!E$7,FALSE)","v":0},{"$f":"VLOOKUP(Ethanol!$A18&\" Commercial Ethanol\",ConsumeBlock,Ethanol!F$7,FALSE)","v":0},{"$f":"VLOOKUP(Ethanol!$A18&\" Commercial Ethanol\",ConsumeBlock,Ethanol!G$7,FALSE)","v":0},{"$f":"VLOOKUP(Ethanol!$A18&\" Commercial Ethanol\",ConsumeBlock,Ethanol!H$7,FALSE)","v":0},{"$f":"VLOOKUP(Ethanol!$A18&\" Commercial Ethanol\",ConsumeBlock,Ethanol!I$7,FALSE)","v":0},{"$f":"VLOOKUP(Ethanol!$A18&\" Commercial Ethanol\",ConsumeBlock,Ethanol!J$7,FALSE)","v":0},{"$f":"VLOOKUP(Ethanol!$A18&\" Commercial Ethanol\",ConsumeBlock,Ethanol!K$7,FALSE)","v":0},{"$f":"VLOOKUP(Ethanol!$A18&\" Commercial Ethanol\",ConsumeBlock,Ethanol!L$7,FALSE)","v":0},{"$f":"VLOOKUP(Ethanol!$A18&\" Commercial Ethanol\",ConsumeBlock,Ethanol!M$7,FALSE)","v":0},{"$f":"VLOOKUP(Ethanol!$A18&\" Commercial Ethanol\",ConsumeBlock,Ethanol!N$7,FALSE)","v":0},{"$f":"VLOOKUP(Ethanol!$A18&\" Commercial Ethanol\",ConsumeBlock,Ethanol!O$7,FALSE)","v":0},{"$f":"VLOOKUP(Ethanol!$A18&\" Commercial Ethanol\",ConsumeBlock,Ethanol!P$7,FALSE)","v":0},{"$f":"VLOOKUP(Ethanol!$A18&\" Commercial Ethanol\",ConsumeBlock,Ethanol!Q$7,FALSE)","v":8},{"$f":"VLOOKUP(Ethanol!$A18&\" Commercial Ethanol\",ConsumeBlock,Ethanol!R$7,FALSE)","v":13},{"$f":"VLOOKUP(Ethanol!$A18&\" Commercial Ethanol\",ConsumeBlock,Ethanol!S$7,FALSE)","v":29},{"$f":"VLOOKUP(Ethanol!$A18&\" Commercial Ethanol\",ConsumeBlock,Ethanol!T$7,FALSE)","v":148},{"$f":"VLOOKUP(Ethanol!$A18&\" Commercial Ethanol\",ConsumeBlock,Ethanol!U$7,FALSE)","v":197},{"$f":"VLOOKUP(Ethanol!$A18&\" Commercial Ethanol\",ConsumeBlock,Ethanol!V$7,FALSE)","v":552},{"$f":"VLOOKUP(Ethanol!$A18&\" Commercial Ethanol\",ConsumeBlock,Ethanol!W$7,FALSE)","v":297},{"$f":"VLOOKUP(Ethanol!$A18&\" Commercial Ethanol\",ConsumeBlock,Ethanol!X$7,FALSE)","v":125},{"$f":"VLOOKUP(Ethanol!$A18&\" Commercial Ethanol\",ConsumeBlock,Ethanol!Y$7,FALSE)","v":240},{"$f":"VLOOKUP(Ethanol!$A18&\" Commercial Ethanol\",ConsumeBlock,Ethanol!Z$7,FALSE)","v":192},{"$f":"VLOOKUP(Ethanol!$A18&\" Commercial Ethanol\",ConsumeBlock,Ethanol!AA$7,FALSE)","v":1714},{"$f":"VLOOKUP(Ethanol!$A18&\" Commercial Ethanol\",ConsumeBlock,Ethanol!AB$7,FALSE)","v":2119},{"$f":"VLOOKUP(Ethanol!$A18&\" Commercial Ethanol\",ConsumeBlock,Ethanol!AC$7,FALSE)","v":1849},{"$f":"VLOOKUP(Ethanol!$A18&\" Commercial Ethanol\",ConsumeBlock,Ethanol!AD$7,FALSE)","v":1938}]
["GA",{"$f":"VLOOKUP(Ethanol!$A19&\" Commercial Ethanol\",ConsumeBlock,Ethanol!B$7,FALSE)","v":5},{"$f":"VLOOKUP(Ethanol!$A19&\" Commercial Ethanol\",ConsumeBlock,Ethanol!C$7,FALSE)","v":3},{"$f":"VLOOKUP(Ethanol!$A19&\" Commercial Ethanol\",ConsumeBlock,Ethanol!D$7,FALSE)","v":1},{"$f":"VLOOKUP(Ethanol!$A19&\" Commercial Ethanol\",ConsumeBlock,Ethanol!E$7,FALSE)","v":0},{"$f":"VLOOKUP(Ethanol!$A19&\" Commercial Ethanol\",ConsumeBlock,Ethanol!F$7,FALSE)","v":0},{"$f":"VLOOKUP(Ethanol!$A19&\" Commercial Ethanol\",ConsumeBlock,Ethanol!G$7,FALSE)","v":0},{"$f":"VLOOKUP(Ethanol!$A19&\" Commercial Ethanol\",ConsumeBlock,Ethanol!H$7,FALSE)","v":0},{"$f":"VLOOKUP(Ethanol!$A19&\" Commercial Ethanol\",ConsumeBlock,Ethanol!I$7,FALSE)","v":0},{"$f":"VLOOKUP(Ethanol!$A19&\" Commercial Ethanol\",ConsumeBlock,Ethanol!J$7,FALSE)","v":0},{"$f":"VLOOKUP(Ethanol!$A19&\" Commercial Ethanol\",ConsumeBlock,Ethanol!K$7,FALSE)","v":0},{"$f":"VLOOKUP(Ethanol!$A19&\" Commercial Ethanol\",ConsumeBlock,Ethanol!L$7,FALSE)","v":0},{"$f":"VLOOKUP(Ethanol!$A19&\" Commercial Ethanol\",ConsumeBlock,Ethanol!M$7,FALSE)","v":0},{"$f":"VLOOKUP(Ethanol!$A19&\" Commercial Ethanol\",ConsumeBlock,Ethanol!N$7,FALSE)","v":0},{"$f":"VLOOKUP(Ethanol!$A19&\" Commercial Ethanol\",ConsumeBlock,Ethanol!O$7,FALSE)","v":0},{"$f":"VLOOKUP(Ethanol!$A19&\" Commercial Ethanol\",ConsumeBlock,Ethanol!P$7,FALSE)","v":0},{"$f":"VLOOKUP(Ethanol!$A19&\" Commercial Ethanol\",ConsumeBlock,Ethanol!Q$7,FALSE)","v":1},{"$f":"VLOOKUP(Ethanol!$A19&\" Commercial Ethanol\",ConsumeBlock,Ethanol!R$7,FALSE)","v":2},{"$f":"VLOOKUP(Ethanol!$A19&\" Commercial Ethanol\",ConsumeBlock,Ethanol!S$7,FALSE)","v":3},{"$f":"VLOOKUP(Ethanol!$A19&\" Commercial Ethanol\",ConsumeBlock,Ethanol!T$7,FALSE)","v":17},{"$f":"VLOOKUP(Ethanol!$A19&\" Commercial Ethanol\",ConsumeBlock,Ethanol!U$7,FALSE)","v":21},{"$f":"VLOOKUP(Ethanol!$A19&\" Commercial Ethanol\",ConsumeBlock,Ethanol!V$7,FALSE)","v":21},{"$f":"VLOOKUP(Ethanol!$A19&\" Commercial Ethanol\",ConsumeBlock,Ethanol!W$7,FALSE)","v":22},{"$f":"VLOOKUP(Ethanol!$A19&\" Commercial Ethanol\",ConsumeBlock,Ethanol!X$7,FALSE)","v":23},{"$f":"VLOOKUP(Ethanol!$A19&\" Commercial Ethanol\",ConsumeBlock,Ethanol!Y$7,FALSE)","v":24},{"$f":"VLOOKUP(Ethanol!$A19&\" Commercial Ethanol\",ConsumeBlock,Ethanol!Z$7,FALSE)","v":23},{"$f":"VLOOKUP(Ethanol!$A19&\" Commercial Ethanol\",ConsumeBlock,Ethanol!AA$7,FALSE)","v":748},{"$f":"VLOOKUP(Ethanol!$A19&\" Commercial Ethanol\",ConsumeBlock,Ethanol!AB$7,FALSE)","v":787},{"$f":"VLOOKUP(Ethanol!$A19&\" Commercial Ethanol\",ConsumeBlock,Ethanol!AC$7,FALSE)","v":820},{"$f":"VLOOKUP(Ethanol!$A19&\" Commercial Ethanol\",ConsumeBlock,Ethanol!AD$7,FALSE)","v":856}]
["HI",{"$f":"VLOOKUP(Ethanol!$A20&\" Commercial Ethanol\",ConsumeBlock,Ethanol!B$7,FALSE)","v":0},{"$f":"VLOOKUP(Ethanol!$A20&\" Commercial Ethanol\",ConsumeBlock,Ethanol!C$7,FALSE)","v":0},{"$f":"VLOOKUP(Ethanol!$A20&\" Commercial Ethanol\",ConsumeBlock,Ethanol!D$7,FALSE)","v":0},{"$f":"VLOOKUP(Ethanol!$A20&\" Commercial Ethanol\",ConsumeBlock,Ethanol!E$7,FALSE)","v":0},{"$f":"VLOOKUP(Ethanol!$A20&\" Commercial Ethanol\",ConsumeBlock,Ethanol!F$7,FALSE)","v":0},{"$f":"VLOOKUP(Ethanol!$A20&\" Commercial Ethanol\",ConsumeBlock,Ethanol!G$7,FALSE)","v":0},{"$f":"VLOOKUP(Ethanol!$A20&\" Commercial Ethanol\",ConsumeBlock,Ethanol!H$7,FALSE)","v":0},{"$f":"VLOOKUP(Ethanol!$A20&\" Commercial Ethanol\",ConsumeBlock,Ethanol!I$7,FALSE)","v":0},{"$f":"VLOOKUP(Ethanol!$A20&\" Commercial Ethanol\",ConsumeBlock,Ethanol!J$7,FALSE)","v":0},{"$f":"VLOOKUP(Ethanol!$A20&\" Commercial Ethanol\",ConsumeBlock,Ethanol!K$7,FALSE)","v":0},{"$f":"VLOOKUP(Ethanol!$A20&\" Commercial Ethanol\",ConsumeBlock,Ethanol!L$7,FALSE)","v":0},{"$f":"VLOOKUP(Ethanol!$A20&\" Commercial Ethanol\",ConsumeBlock,Ethanol!M$7,FALSE)","v":0},{"$f":"VLOOKUP(Ethanol!$A20&\" Commercial Ethanol\",ConsumeBlock,Ethanol!N$7,FALSE)","v":0},{"$f":"VLOOKUP(Ethanol!$A20&\" Commercial Ethanol\",ConsumeBlock,Ethanol!O$7,FALSE)","v":0},{"$f":"VLOOKUP(Ethanol!$A20&\" Commercial Ethanol\",ConsumeBlock,Ethanol!P$7,FALSE)","v":0},{"$f":"VLOOKUP(Ethanol!$A20&\" Commercial Ethanol\",ConsumeBlock,Ethanol!Q$7,FALSE)","v":1},{"$f":"VLOOKUP(Ethanol!$A20&\" Commercial Ethanol\",ConsumeBlock,Ethanol!R$7,FALSE)","v":1},{"$f":"VLOOKUP(Ethanol!$A20&\" Commercial Ethanol\",ConsumeBlock,Ethanol!S$7,FALSE)","v":2},{"$f":"VLOOKUP(Ethanol!$A20&\" Commercial Ethanol\",ConsumeBlock,Ethanol!T$7,FALSE)","v":4},{"$f":"VLOOKUP(Ethanol!$A20&\" Commercial Ethanol\",ConsumeBlock,Ethanol!U$7,FALSE)","v":4},{"$f":"VLOOKUP(Ethanol!$A20&\" Commercial Ethanol\",ConsumeBlock,Ethanol!V$7,FALSE)","v":3},{"$f":"VLOOKUP(Ethanol!$A20&\" Commercial Ethanol\",ConsumeBlock,Ethanol!W$7,FALSE)","v":4},{"$f":"VLOOKUP(Ethanol!$A20&\" Commercial Ethanol\",ConsumeBlock,Ethanol!X$7,FALSE)","v":3},{"$f":"VLOOKUP(Ethanol!$A20&\" Commercial Ethanol\",ConsumeBlock,Ethanol!Y$7,FALSE)","v":4},{"$f":"VLOOKUP(Ethanol!$A20&\" Commercial Ethanol\",ConsumeBlock,Ethanol!Z$7,FALSE)","v":4},{"$f":"VLOOKUP(Ethanol!$A20&\" Commercial Ethanol\",ConsumeBlock,Ethanol!AA$7,FALSE)","v":111},{"$f":"VLOOKUP(Ethanol!$A20&\" Commercial Ethanol\",ConsumeBlock,Ethanol!AB$7,FALSE)","v":112},{"$f":"VLOOKUP(Ethanol!$A20&\" Commercial Ethanol\",ConsumeBlock,Ethanol!AC$7,FALSE)","v":115},{"$f":"VLOOKUP(Ethanol!$A20&\" Commercial Ethanol\",ConsumeBlock,Ethanol!AD$7,FALSE)","v":117}]
["ID",{"$f":"VLOOKUP(Ethanol!$A21&\" Commercial Ethanol\",ConsumeBlock,Ethanol!B$7,FALSE)","v":7},{"$f":"VLOOKUP(Ethanol!$A21&\" Commercial Ethanol\",ConsumeBlock,Ethanol!C$7,FALSE)","v":19},{"$f":"VLOOKUP(Ethanol!$A21&\" Commercial Ethanol\",ConsumeBlock,Ethanol!D$7,FALSE)","v":11},{"$f":"VLOOKUP(Ethanol!$A21&\" Commercial Ethanol\",ConsumeBlock,Ethanol!E$7,FALSE)","v":0},{"$f":"VLOOKUP(Ethanol!$A21&\" Commercial Ethanol\",ConsumeBlock,Ethanol!F$7,FALSE)","v":0},{"$f":"VLOOKUP(Ethanol!$A21&\" Commercial Ethanol\",ConsumeBlock,Ethanol!G$7,FALSE)","v":0},{"$f":"VLOOKUP(Ethanol!$A21&\" Commercial Ethanol\",ConsumeBlock,Ethanol!H$7,FALSE)","v":0},{"$f":"VLOOKUP(Ethanol!$A21&\" Commercial Ethanol\",ConsumeBlock,Ethanol!I$7,FALSE)","v":0},{"$f":"VLOOKUP(Ethanol!$A21&\" Commercial Ethanol\",ConsumeBlock,Ethanol!J$7,FALSE)","v":0},{"$f":"VLOOKUP(Ethanol!$A21&\" Commercial Ethanol\",ConsumeBlock,Ethanol!K$7,FALSE)","v":0},{"$f":"VLOOKUP(Ethanol!$A21&\" Commercial Ethanol\",ConsumeBlock,Ethanol!L$7,FALSE)","v":0},{"$f":"VLOOKUP(Ethanol!$A21&\" Commercial Ethanol\",ConsumeBlock,Ethanol!M$7,FALSE)","v":0},{"$f":"VLOOKUP(Ethanol!$A21&\" Commercial Ethanol\",ConsumeBlock,Ethanol!N$7,FALSE)","v":0},{"$f":"VLOOKUP(Ethanol!$A21&\" Commercial Ethanol\",ConsumeBlock,Ethanol!O$7,FALSE)","v":0},{"$f":"VLOOKUP(Ethanol!$A21&\" Commercial Ethanol\",ConsumeBlock,Ethanol!P$7,FALSE)","v":0},{"$f":"VLOOKUP(Ethanol!$A21&\" Commercial Ethanol\",ConsumeBlock,Ethanol!Q$7,FALSE)","v":1},{"$f":"VLOOKUP(Ethanol!$A21&\" Commercial Ethanol\",ConsumeBlock,Ethanol!R$7,FALSE)","v":4},{"$f":"VLOOKUP(Ethanol!$A21&\" Commercial Ethanol\",ConsumeBlock,Ethanol!S$7,FALSE)","v":2},{"$f":"VLOOKUP(Ethanol!$A21&\" Commercial Ethanol\",ConsumeBlock,Ethanol!T$7,FALSE)","v":11},{"$f":"VLOOKUP(Ethanol!$A21&\" Commercial Ethanol\",ConsumeBlock,Ethanol!U$7,FALSE)","v":5},{"$f":"VLOOKUP(Ethanol!$A21&\" Commercial Ethanol\",ConsumeBlock,Ethanol!V$7,FALSE)","v":4},{"$f":"VLOOKUP(Ethanol!$A21&\" Commercial Ethanol\",ConsumeBlock,Ethanol!W$7,FALSE)","v":6},{"$f":"VLOOKUP(Ethanol!$A21&\" Commercial Ethanol\",ConsumeBlock,Ethanol!X$7,FALSE)","v":12},{"$f":"VLOOKUP(Ethanol!$A21&\" Commercial Ethanol\",ConsumeBlock,Ethanol!Y$7,FALSE)","v":15},{"$f":"VLOOKUP(Ethanol!$A21&\" Commercial Ethanol\",ConsumeBlock,Ethanol!Z$7,FALSE)","v":16},{"$f":"VLOOKUP(Ethanol!$A21&\" Commercial Ethanol\",ConsumeBlock,Ethanol!AA$7,FALSE)","v":121},{"$f":"VLOOKUP(Ethanol!$A21&\" Commercial Ethanol\",ConsumeBlock,Ethanol!AB$7,FALSE)","v":113},{"$f":"VLOOKUP(Ethanol!$A21&\" Commercial Ethanol\",ConsumeBlock,Ethanol!AC$7,FALSE)","v":115},{"$f":"VLOOKUP(Ethanol!$A21&\" Commercial Ethanol\",ConsumeBlock,Ethanol!AD$7,FALSE)","v":118}]
["IA",{"$f":"VLOOKUP(Ethanol!$A22&\" Commercial Ethanol\",ConsumeBlock,Ethanol!B$7,FALSE)","v":14},{"$f":"VLOOKUP(Ethanol!$A22&\" Commercial Ethanol\",ConsumeBlock,Ethanol!C$7,FALSE)","v":86},{"$f":"VLOOKUP(Ethanol!$A22&\" Commercial Ethanol\",ConsumeBlock,Ethanol!D$7,FALSE)","v":96},{"$f":"VLOOKUP(Ethanol!$A22&\" Commercial Ethanol\",ConsumeBlock,Ethanol!E$7,FALSE)","v":109},{"$f":"VLOOKUP(Ethanol!$A22&\" Commercial Ethanol\",ConsumeBlock,Ethanol!F$7,FALSE)","v":7},{"$f":"VLOOKUP(Ethanol!$A22&\" Commercial Ethanol\",ConsumeBlock,Ethanol!G$7,FALSE)","v":6},{"$f":"VLOOKUP(Ethanol!$A22&\" Commercial Ethanol\",ConsumeBlock,Ethanol!H$7,FALSE)","v":27},{"$f":"VLOOKUP(Ethanol!$A22&\" Commercial Ethanol\",ConsumeBlock,Ethanol!I$7,FALSE)","v":61},{"$f":"VLOOKUP(Ethanol!$A22&\" Commercial Ethanol\",ConsumeBlock,Ethanol!J$7,FALSE)","v":77},{"$f":"VLOOKUP(Ethanol!$A22&\" Commercial Ethanol\",ConsumeBlock,Ethanol!K$7,FALSE)","v":77},{"$f":"VLOOKUP(Ethanol!$A22&\" Commercial Ethanol\",ConsumeBlock,Ethanol!L$7,FALSE)","v":112},{"$f":"VLOOKUP(Ethanol!$A22&\" Commercial Ethanol\",ConsumeBlock,Ethanol!M$7,FALSE)","v":120},{"$f":"VLOOKUP(Ethanol!$A22&\" Commercial Ethanol\",ConsumeBlock,Ethanol!N$7,FALSE)","v":140},{"$f":"VLOOKUP(Ethanol!$A22&\" Commercial Ethanol\",ConsumeBlock,Ethanol!O$7,FALSE)","v":151},{"$f":"VLOOKUP(Ethanol!$A22&\" Commercial Ethanol\",ConsumeBlock,Ethanol!P$7,FALSE)","v":240},{"$f":"VLOOKUP(Ethanol!$A22&\" Commercial Ethanol\",ConsumeBlock,Ethanol!Q$7,FALSE)","v":55},{"$f":"VLOOKUP(Ethanol!$A22&\" Commercial Ethanol\",ConsumeBlock,Ethanol!R$7,FALSE)","v":89},{"$f":"VLOOKUP(Ethanol!$A22&\" Commercial Ethanol\",ConsumeBlock,Ethanol!S$7,FALSE)","v":183},{"$f":"VLOOKUP(Ethanol!$A22&\" Commercial Ethanol\",ConsumeBlock,Ethanol!T$7,FALSE)","v":308},{"$f":"VLOOKUP(Ethanol!$A22&\" Commercial Ethanol\",ConsumeBlock,Ethanol!U$7,FALSE)","v":353},{"$f":"VLOOKUP(Ethanol!$A22&\" Commercial Ethanol\",ConsumeBlock,Ethanol!V$7,FALSE)","v":752},{"$f":"VLOOKUP(Ethanol!$A22&\" Commercial Ethanol\",ConsumeBlock,Ethanol!W$7,FALSE)","v":738},{"$f":"VLOOKUP(Ethanol!$A22&\" Commercial Ethanol\",ConsumeBlock,Ethanol!X$7,FALSE)","v":730},{"$f":"VLOOKUP(Ethanol!$A22&\" Commercial Ethanol\",ConsumeBlock,Ethanol!Y$7,FALSE)","v":725},{"$f":"VLOOKUP(Ethanol!$A22&\" Commercial Ethanol\",ConsumeBlock,Ethanol!Z$7,FALSE)","v":742},{"$f":"VLOOKUP(Ethanol!$A22&\" Commercial Ethanol\",ConsumeBlock,Ethanol!AA$7,FALSE)","v":1061},{"$f":"VLOOKUP(Ethanol!$A22&\" Commercial Ethanol\",ConsumeBlock,Ethanol!AB$7,FALSE)","v":218},{"$f":"VLOOKUP(Ethanol!$A22&\" Commercial Ethanol\",ConsumeBlock,Ethanol!AC$7,FALSE)","v":224},{"$f":"VLOOKUP(Ethanol!$A22&\" Commercial Ethanol\",ConsumeBlock,Ethanol!AD$7,FALSE)","v":225}]
["IN",{"$f":"VLOOKUP(Ethanol!$A23&\" Commercial Ethanol\",ConsumeBlock,Ethanol!B$7,FALSE)","v":47},{"$f":"VLOOKUP(Ethanol!$A23&\" Commercial Ethanol\",ConsumeBlock,Ethanol!C$7,FALSE)","v":36},{"$f":"VLOOKUP(Ethanol!$A23&\" Commercial Ethanol\",ConsumeBlock,Ethanol!D$7,FALSE)","v":32},{"$f":"VLOOKUP(Ethanol!$A23&\" Commercial Ethanol\",ConsumeBlock,Ethanol!E$7,FALSE)","v":27},{"$f":"VLOOKUP(Ethanol!$A23&\" Commercial Ethanol\",ConsumeBlock,Ethanol!F$7,FALSE)","v":24},{"$f":"VLOOKUP(Ethanol!$A23&\" Commercial Ethanol\",ConsumeBlock,Ethanol!G$7,FALSE)","v":19},{"$f":"VLOOKUP(Ethanol!$A23&\" Commercial Ethanol\",ConsumeBlock,Ethanol!H$7,FALSE)","v":9},{"$f":"VLOOKUP(Ethanol!$A23&\" Commercial Ethanol\",ConsumeBlock,Ethanol!I$7,FALSE)","v":13},{"$f":"VLOOKUP(Ethanol!$A23&\" Commercial Ethanol\",ConsumeBlock,Ethanol!J$7,FALSE)","v":11},{"$f":"VLOOKUP(Ethanol!$A23&\" Commercial Ethanol\",ConsumeBlock,Ethanol!K$7,FALSE)","v":22},{"$f":"VLOOKUP(Ethanol!$A23&\" Commercial Ethanol\",ConsumeBlock,Ethanol!L$7,FALSE)","v":12},{"$f":"VLOOKUP(Ethanol!$A23&\" Commercial Ethanol\",ConsumeBlock,Ethanol!M$7,FALSE)","v":31},{"$f":"VLOOKUP(Ethanol!$A23&\" Commercial Ethanol\",ConsumeBlock,Ethanol!N$7,FALSE)","v":32},{"$f":"VLOOKUP(Ethanol!$A23&\" Commercial Ethanol\",ConsumeBlock,Ethanol!O$7,FALSE)","v":36},{"$f":"VLOOKUP(Ethanol!$A23&\" Commercial Ethanol\",ConsumeBlock,Ethanol!P$7,FALSE)","v":30},{"$f":"VLOOKUP(Ethanol!$A23&\" Commercial Ethanol\",ConsumeBlock,Ethanol!Q$7,FALSE)","v":39},{"$f":"VLOOKUP(Ethanol!$A23&\" Commercial Ethanol\",ConsumeBlock,Ethanol!R$7,FALSE)","v":37},{"$f":"VLOOKUP(Ethanol!$A23&\" Commercial Ethanol\",ConsumeBlock,Ethanol!S$7,FALSE)","v":59},{"$f":"VLOOKUP(Ethanol!$A23&\" Commercial Ethanol\",ConsumeBlock,Ethanol!T$7,FALSE)","v":114},{"$f":"VLOOKUP(Ethanol!$A23&\" Commercial Ethanol\",ConsumeBlock,Ethanol!U$7,FALSE)","v":234},{"$f":"VLOOKUP(Ethanol!$A23&\" Commercial Ethanol\",ConsumeBlock,Ethanol!V$7,FALSE)","v":191},{"$f":"VLOOKUP(Ethanol!$A23&\" Commercial Ethanol\",ConsumeBlock,Ethanol!W$7,FALSE)","v":214},{"$f":"VLOOKUP(Ethanol!$A23&\" Commercial Ethanol\",ConsumeBlock,Ethanol!X$7,FALSE)","v":213},{"$f":"VLOOKUP(Ethanol!$A23&\" Commercial Ethanol\",ConsumeBlock,Ethanol!Y$7,FALSE)","v":207},{"$f":"VLOOKUP(Ethanol!$A23&\" Commercial Ethanol\",ConsumeBlock,Ethanol!Z$7,FALSE)","v":199},{"$f":"VLOOKUP(Ethanol!$A23&\" Commercial Ethanol\",ConsumeBlock,Ethanol!AA$7,FALSE)","v":526},{"$f":"VLOOKUP(Ethanol!$A23&\" Commercial Ethanol\",ConsumeBlock,Ethanol!AB$7,FALSE)","v":535},{"$f":"VLOOKUP(Ethanol!$A23&\" Commercial Ethanol\",ConsumeBlock,Ethanol!AC$7,FALSE)","v":483},{"$f":"VLOOKUP(Ethanol!$A23&\" Commercial Ethanol\",ConsumeBlock,Ethanol!AD$7,FALSE)","v":486}]
["IL",{"$f":"VLOOKUP(Ethanol!$A24&\" Commercial Ethanol\",ConsumeBlock,Ethanol!B$7,FALSE)","v":60},{"$f":"VLOOKUP(Ethanol!$A24&\" Commercial Ethanol\",ConsumeBlock,Ethanol!C$7,FALSE)","v":48},{"$f":"VLOOKUP(Ethanol!$A24&\" Commercial Ethanol\",ConsumeBlock,Ethanol!D$7,FALSE)","v":51},{"$f":"VLOOKUP(Ethanol!$A24&\" Commercial Ethanol\",ConsumeBlock,Ethanol!E$7,FALSE)","v":17},{"$f":"VLOOKUP(Ethanol!$A24&\" Commercial Ethanol\",ConsumeBlock,Ethanol!F$7,FALSE)","v":26},{"$f":"VLOOKUP(Ethanol!$A24&\" Commercial Ethanol\",ConsumeBlock,Ethanol!G$7,FALSE)","v":19},{"$f":"VLOOKUP(Ethanol!$A24&\" Commercial Ethanol\",ConsumeBlock,Ethanol!H$7,FALSE)","v":18},{"$f":"VLOOKUP(Ethanol!$A24&\" Commercial Ethanol\",ConsumeBlock,Ethanol!I$7,FALSE)","v":31},{"$f":"VLOOKUP(Ethanol!$A24&\" Commercial Ethanol\",ConsumeBlock,Ethanol!J$7,FALSE)","v":38},{"$f":"VLOOKUP(Ethanol!$A24&\" Commercial Ethanol\",ConsumeBlock,Ethanol!K$7,FALSE)","v":25},{"$f":"VLOOKUP(Ethanol!$A24&\" Commercial Ethanol\",ConsumeBlock,Ethanol!L$7,FALSE)","v":44},{"$f":"VLOOKUP(Ethanol!$A24&\" Commercial Ethanol\",ConsumeBlock,Ethanol!M$7,FALSE)","v":57},{"$f":"VLOOKUP(Ethanol!$A24&\" Commercial Ethanol\",ConsumeBlock,Ethanol!N$7,FALSE)","v":78},{"$f":"VLOOKUP(Ethanol!$A24&\" Commercial Ethanol\",ConsumeBlock,Ethanol!O$7,FALSE)","v":97},{"$f":"VLOOKUP(Ethanol!$A24&\" Commercial Ethanol\",ConsumeBlock,Ethanol!P$7,FALSE)","v":107},{"$f":"VLOOKUP(Ethanol!$A24&\" Commercial Ethanol\",ConsumeBlock,Ethanol!Q$7,FALSE)","v":61},{"$f":"VLOOKUP(Ethanol!$A24&\" Commercial Ethanol\",ConsumeBlock,Ethanol!R$7,FALSE)","v":102},{"$f":"VLOOKUP(Ethanol!$A24&\" Commercial Ethanol\",ConsumeBlock,Ethanol!S$7,FALSE)","v":66},{"$f":"VLOOKUP(Ethanol!$A24&\" Commercial Ethanol\",ConsumeBlock,Ethanol!T$7,FALSE)","v":93},{"$f":"VLOOKUP(Ethanol!$A24&\" Commercial Ethanol\",ConsumeBlock,Ethanol!U$7,FALSE)","v":296},{"$f":"VLOOKUP(Ethanol!$A24&\" Commercial Ethanol\",ConsumeBlock,Ethanol!V$7,FALSE)","v":83},{"$f":"VLOOKUP(Ethanol!$A24&\" Commercial Ethanol\",ConsumeBlock,Ethanol!W$7,FALSE)","v":64},{"$f":"VLOOKUP(Ethanol!$A24&\" Commercial Ethanol\",ConsumeBlock,Ethanol!X$7,FALSE)","v":87},{"$f":"VLOOKUP(Ethanol!$A24&\" Commercial Ethanol\",ConsumeBlock,Ethanol!Y$7,FALSE)","v":62},{"$f":"VLOOKUP(Ethanol!$A24&\" Commercial Ethanol\",ConsumeBlock,Ethanol!Z$7,FALSE)","v":58},{"$f":"VLOOKUP(Ethanol!$A24&\" Commercial Ethanol\",ConsumeBlock,Ethanol!AA$7,FALSE)","v":915},{"$f":"VLOOKUP(Ethanol!$A24&\" Commercial Ethanol\",ConsumeBlock,Ethanol!AB$7,FALSE)","v":904},{"$f":"VLOOKUP(Ethanol!$A24&\" Commercial Ethanol\",ConsumeBlock,Ethanol!AC$7,FALSE)","v":902},{"$f":"VLOOKUP(Ethanol!$A24&\" Commercial Ethanol\",ConsumeBlock,Ethanol!AD$7,FALSE)","v":909}]
["KS",{"$f":"VLOOKUP(Ethanol!$A25&\" Commercial Ethanol\",ConsumeBlock,Ethanol!B$7,FALSE)","v":3},{"$f":"VLOOKUP(Ethanol!$A25&\" Commercial Ethanol\",ConsumeBlock,Ethanol!C$7,FALSE)","v":3},{"$f":"VLOOKUP(Ethanol!$A25&\" Commercial Ethanol\",ConsumeBlock,Ethanol!D$7,FALSE)","v":2},{"$f":"VLOOKUP(Ethanol!$A25&\" Commercial Ethanol\",ConsumeBlock,Ethanol!E$7,FALSE)","v":1},{"$f":"VLOOKUP(Ethanol!$A25&\" Commercial Ethanol\",ConsumeBlock,Ethanol!F$7,FALSE)","v":1},{"$f":"VLOOKUP(Ethanol!$A25&\" Commercial Ethanol\",ConsumeBlock,Ethanol!G$7,FALSE)","v":1},{"$f":"VLOOKUP(Ethanol!$A25&\" Commercial Ethanol\",ConsumeBlock,Ethanol!H$7,FALSE)","v":1},{"$f":"VLOOKUP(Ethanol!$A25&\" Commercial Ethanol\",ConsumeBlock,Ethanol!I$7,FALSE)","v":1},{"$f":"VLOOKUP(Ethanol!$A25&\" Commercial Ethanol\",ConsumeBlock,Ethanol!J$7,FALSE)","v":1},{"$f":"VLOOKUP(Ethanol!$A25&\" Commercial Ethanol\",ConsumeBlock,Ethanol!K$7,FALSE)","v":1},{"$f":"VLOOKUP(Ethanol!$A25&\" Commercial Ethanol\",ConsumeBlock,Ethanol!L$7,FALSE)","v":1},{"$f":"VLOOKUP(Ethanol!$A25&\" Commercial Ethanol\",ConsumeBlock,Ethanol!M$7,FALSE)","v":1},{"$f":"VLOOKUP(Ethanol!$A25&\" Commercial Ethanol\",ConsumeBlock,Ethanol!N$7,FALSE)","v":4},{"$f":"VLOOKUP(Ethanol!$A25&\" Commercial Ethanol\",ConsumeBlock,Ethanol!O$7,FALSE)","v":11},{"$f":"VLOOKUP(Ethanol!$A25&\" Commercial Ethanol\",ConsumeBlock,Ethanol!P$7,FALSE)","v":1},{"$f":"VLOOKUP(Ethanol!$A25&\" Commercial Ethanol\",ConsumeBlock,Ethanol!Q$7,FALSE)","v":7},{"$f":"VLOOKUP(Ethanol!$A25&\" Commercial Ethanol\",ConsumeBlock,Ethanol!R$7,FALSE)","v":11},{"$f":"VLOOKUP(Ethanol!$A25&\" Commercial Ethanol\",ConsumeBlock,Ethanol!S$7,FALSE)","v":12},{"$f":"VLOOKUP(Ethanol!$A25&\" Commercial Ethanol\",ConsumeBlock,Ethanol!T$7,FALSE)","v":18},{"$f":"VLOOKUP(Ethanol!$A25&\" Commercial Ethanol\",ConsumeBlock,Ethanol!U$7,FALSE)","v":21},{"$f":"VLOOKUP(Ethanol!$A25&\" Commercial Ethanol\",ConsumeBlock,Ethanol!V$7,FALSE)","v":21},{"$f":"VLOOKUP(Ethanol!$A25&\" Commercial Ethanol\",ConsumeBlock,Ethanol!W$7,FALSE)","v":16},{"$f":"VLOOKUP(Ethanol!$A25&\" Commercial Ethanol\",ConsumeBlock,Ethanol!X$7,FALSE)","v":26},{"$f":"VLOOKUP(Ethanol!$A25&\" Commercial Ethanol\",ConsumeBlock,Ethanol!Y$7,FALSE)","v":10},{"$f":"VLOOKUP(Ethanol!$A25&\" Commercial Ethanol\",ConsumeBlock,Ethanol!Z$7,FALSE)","v":21},{"$f":"VLOOKUP(Ethanol!$A25&\" Commercial Ethanol\",ConsumeBlock,Ethanol!AA$7,FALSE)","v":212},{"$f":"VLOOKUP(Ethanol!$A25&\" Commercial Ethanol\",ConsumeBlock,Ethanol!AB$7,FALSE)","v":203},{"$f":"VLOOKUP(Ethanol!$A25&\" Commercial Ethanol\",ConsumeBlock,Ethanol!AC$7,FALSE)","v":199},{"$f":"VLOOKUP(Ethanol!$A25&\" Commercial Ethanol\",ConsumeBlock,Ethanol!AD$7,FALSE)","v":196}]
["KY",{"$f":"VLOOKUP(Ethanol!$A26&\" Commercial Ethanol\",ConsumeBlock,Ethanol!B$7,FALSE)","v":30},{"$f":"VLOOKUP(Ethanol!$A26&\" Commercial Ethanol\",ConsumeBlock,Ethanol!C$7,FALSE)","v":21},{"$f":"VLOOKUP(Ethanol!$A26&\" Commercial Ethanol\",ConsumeBlock,Ethanol!D$7,FALSE)","v":21},{"$f":"VLOOKUP(Ethanol!$A26&\" Commercial Ethanol\",ConsumeBlock,Ethanol!E$7,FALSE)","v":2},{"$f":"VLOOKUP(Ethanol!$A26&\" Commercial Ethanol\",ConsumeBlock,Ethanol!F$7,FALSE)","v":1},{"$f":"VLOOKUP(Ethanol!$A26&\" Commercial Ethanol\",ConsumeBlock,Ethanol!G$7,FALSE)","v":0},{"$f":"VLOOKUP(Ethanol!$A26&\" Commercial Ethanol\",ConsumeBlock,Ethanol!H$7,FALSE)","v":0},{"$f":"VLOOKUP(Ethanol!$A26&\" Commercial Ethanol\",ConsumeBlock,Ethanol!I$7,FALSE)","v":0},{"$f":"VLOOKUP(Ethanol!$A26&\" Commercial Ethanol\",ConsumeBlock,Ethanol!J$7,FALSE)","v":1},{"$f":"VLOOKUP(Ethanol!$A26&\" Commercial Ethanol\",ConsumeBlock,Ethanol!K$7,FALSE)","v":0},{"$f":"VLOOKUP(Ethanol!$A26&\" Commercial Ethanol\",ConsumeBlock,Ethanol!L$7,FALSE)","v":0},{"$f":"VLOOKUP(Ethanol!$A26&\" Commercial Ethanol\",ConsumeBlock,Ethanol!M$7,FALSE)","v":0},{"$f":"VLOOKUP(Ethanol!$A26&\" Commercial Ethanol\",ConsumeBlock,Ethanol!N$7,FALSE)","v":2},{"$f":"VLOOKUP(Ethanol!$A26&\" Commercial Ethanol\",ConsumeBlock,Ethanol!O$7,FALSE)","v":4},{"$f":"VLOOKUP(Ethanol!$A26&\" Commercial Ethanol\",ConsumeBlock,Ethanol!P$7,FALSE)","v":3},{"$f":"VLOOKUP(Ethanol!$A26&\" Commercial Ethanol\",ConsumeBlock,Ethanol!Q$7,FALSE)","v":8},{"$f":"VLOOKUP(Ethanol!$A26&\" Commercial Ethanol\",ConsumeBlock,Ethanol!R$7,FALSE)","v":8},{"$f":"VLOOKUP(Ethanol!$A26&\" Commercial Ethanol\",ConsumeBlock,Ethanol!S$7,FALSE)","v":10},{"$f":"VLOOKUP(Ethanol!$A26&\" Commercial Ethanol\",ConsumeBlock,Ethanol!T$7,FALSE)","v":13},{"$f":"VLOOKUP(Ethanol!$A26&\" Commercial Ethanol\",ConsumeBlock,Ethanol!U$7,FALSE)","v":14},{"$f":"VLOOKUP(Ethanol!$A26&\" Commercial Ethanol\",ConsumeBlock,Ethanol!V$7,FALSE)","v":14},{"$f":"VLOOKUP(Ethanol!$A26&\" Commercial Ethanol\",ConsumeBlock,Ethanol!W$7,FALSE)","v":14},{"$f":"VLOOKUP(Ethanol!$A26&\" Commercial Ethanol\",ConsumeBlock,Ethanol!X$7,FALSE)","v":15},{"$f":"VLOOKUP(Ethanol!$A26&\" Commercial Ethanol\",ConsumeBlock,Ethanol!Y$7,FALSE)","v":16},{"$f":"VLOOKUP(Ethanol!$A26&\" Commercial Ethanol\",ConsumeBlock,Ethanol!Z$7,FALSE)","v":15},{"$f":"VLOOKUP(Ethanol!$A26&\" Commercial Ethanol\",ConsumeBlock,Ethanol!AA$7,FALSE)","v":246},{"$f":"VLOOKUP(Ethanol!$A26&\" Commercial Ethanol\",ConsumeBlock,Ethanol!AB$7,FALSE)","v":260},{"$f":"VLOOKUP(Ethanol!$A26&\" Commercial Ethanol\",ConsumeBlock,Ethanol!AC$7,FALSE)","v":267},{"$f":"VLOOKUP(Ethanol!$A26&\" Commercial Ethanol\",ConsumeBlock,Ethanol!AD$7,FALSE)","v":267}]
["LA",{"$f":"VLOOKUP(Ethanol!$A27&\" Commercial Ethanol\",ConsumeBlock,Ethanol!B$7,FALSE)","v":2},{"$f":"VLOOKUP(Ethanol!$A27&\" Commercial Ethanol\",ConsumeBlock,Ethanol!C$7,FALSE)","v":4},{"$f":"VLOOKUP(Ethanol!$A27&\" Commercial Ethanol\",ConsumeBlock,Ethanol!D$7,FALSE)","v":4},{"$f":"VLOOKUP(Ethanol!$A27&\" Commercial Ethanol\",ConsumeBlock,Ethanol!E$7,FALSE)","v":1},{"$f":"VLOOKUP(Ethanol!$A27&\" Commercial Ethanol\",ConsumeBlock,Ethanol!F$7,FALSE)","v":1},{"$f":"VLOOKUP(Ethanol!$A27&\" Commercial Ethanol\",ConsumeBlock,Ethanol!G$7,FALSE)","v":1},{"$f":"VLOOKUP(Ethanol!$A27&\" Commercial Ethanol\",ConsumeBlock,Ethanol!H$7,FALSE)","v":0},{"$f":"VLOOKUP(Ethanol!$A27&\" Commercial Ethanol\",ConsumeBlock,Ethanol!I$7,FALSE)","v":0},{"$f":"VLOOKUP(Ethanol!$A27&\" Commercial Ethanol\",ConsumeBlock,Ethanol!J$7,FALSE)","v":0},{"$f":"VLOOKUP(Ethanol!$A27&\" Commercial Ethanol\",ConsumeBlock,Ethanol!K$7,FALSE)","v":0},{"$f":"VLOOKUP(Ethanol!$A27&\" Commercial Ethanol\",ConsumeBlock,Ethanol!L$7,FALSE)","v":1},{"$f":"VLOOKUP(Ethanol!$A27&\" Commercial Ethanol\",ConsumeBlock,Ethanol!M$7,FALSE)","v":0},{"$f":"VLOOKUP(Ethanol!$A27&\" Commercial Ethanol\",ConsumeBlock,Ethanol!N$7,FALSE)","v":44},{"$f":"VLOOKUP(Ethanol!$A27&\" Commercial Ethanol\",ConsumeBlock,Ethanol!O$7,FALSE)","v":147},{"$f":"VLOOKUP(Ethanol!$A27&\" Commercial Ethanol\",ConsumeBlock,Ethanol!P$7,FALSE)","v":107},{"$f":"VLOOKUP(Ethanol!$A27&\" Commercial Ethanol\",ConsumeBlock,Ethanol!Q$7,FALSE)","v":3},{"$f":"VLOOKUP(Ethanol!$A27&\" Commercial Ethanol\",ConsumeBlock,Ethanol!R$7,FALSE)","v":0},{"$f":"VLOOKUP(Ethanol!$A27&\" Commercial Ethanol\",ConsumeBlock,Ethanol!S$7,FALSE)","v":24},{"$f":"VLOOKUP(Ethanol!$A27&\" Commercial Ethanol\",ConsumeBlock,Ethanol!T$7,FALSE)","v":3},{"$f":"VLOOKUP(Ethanol!$A27&\" Commercial Ethanol\",ConsumeBlock,Ethanol!U$7,FALSE)","v":9},{"$f":"VLOOKUP(Ethanol!$A27&\" Commercial Ethanol\",ConsumeBlock,Ethanol!V$7,FALSE)","v":16},{"$f":"VLOOKUP(Ethanol!$A27&\" Commercial Ethanol\",ConsumeBlock,Ethanol!W$7,FALSE)","v":15},{"$f":"VLOOKUP(Ethanol!$A27&\" Commercial Ethanol\",ConsumeBlock,Ethanol!X$7,FALSE)","v":15},{"$f":"VLOOKUP(Ethanol!$A27&\" Commercial Ethanol\",ConsumeBlock,Ethanol!Y$7,FALSE)","v":16},{"$f":"VLOOKUP(Ethanol!$A27&\" Commercial Ethanol\",ConsumeBlock,Ethanol!Z$7,FALSE)","v":15},{"$f":"VLOOKUP(Ethanol!$A27&\" Commercial Ethanol\",ConsumeBlock,Ethanol!AA$7,FALSE)","v":282},{"$f":"VLOOKUP(Ethanol!$A27&\" Commercial Ethanol\",ConsumeBlock,Ethanol!AB$7,FALSE)","v":285},{"$f":"VLOOKUP(Ethanol!$A27&\" Commercial Ethanol\",ConsumeBlock,Ethanol!AC$7,FALSE)","v":290},{"$f":"VLOOKUP(Ethanol!$A27&\" Commercial Ethanol\",ConsumeBlock,Ethanol!AD$7,FALSE)","v":279}]
["ME",{"$f":"VLOOKUP(Ethanol!$A28&\" Commercial Ethanol\",ConsumeBlock,Ethanol!B$7,FALSE)","v":0},{"$f":"VLOOKUP(Ethanol!$A28&\" Commercial Ethanol\",ConsumeBlock,Ethanol!C$7,FALSE)","v":0},{"$f":"VLOOKUP(Ethanol!$A28&\" Commercial Ethanol\",ConsumeBlock,Ethanol!D$7,FALSE)","v":0},{"$f":"VLOOKUP(Ethanol!$A28&\" Commercial Ethanol\",ConsumeBlock,Ethanol!E$7,FALSE)","v":0},{"$f":"VLOOKUP(Ethanol!$A28&\" Commercial Ethanol\",ConsumeBlock,Ethanol!F$7,FALSE)","v":0},{"$f":"VLOOKUP(Ethanol!$A28&\" Commercial Ethanol\",ConsumeBlock,Ethanol!G$7,FALSE)","v":0},{"$f":"VLOOKUP(Ethanol!$A28&\" Commercial Ethanol\",ConsumeBlock,Ethanol!H$7,FALSE)","v":0},{"$f":"VLOOKUP(Ethanol!$A28&\" Commercial Ethanol\",ConsumeBlock,Ethanol!I$7,FALSE)","v":0},{"$f":"VLOOKUP(Ethanol!$A28&\" Commercial Ethanol\",ConsumeBlock,Ethanol!J$7,FALSE)","v":0},{"$f":"VLOOKUP(Ethanol!$A28&\" Commercial Ethanol\",ConsumeBlock,Ethanol!K$7,FALSE)","v":0},{"$f":"VLOOKUP(Ethanol!$A28&\" Commercial Ethanol\",ConsumeBlock,Ethanol!L$7,FALSE)","v":0},{"$f":"VLOOKUP(Ethanol!$A28&\" Commercial Ethanol\",ConsumeBlock,Ethanol!M$7,FALSE)","v":0},{"$f":"VLOOKUP(Ethanol!$A28&\" Commercial Ethanol\",ConsumeBlock,Ethanol!N$7,FALSE)","v":0},{"$f":"VLOOKUP(Ethanol!$A28&\" Commercial Ethanol\",ConsumeBlock,Ethanol!O$7,FALSE)","v":0},{"$f":"VLOOKUP(Ethanol!$A28&\" Commercial Ethanol\",ConsumeBlock,Ethanol!P$7,FALSE)","v":0},{"$f":"VLOOKUP(Ethanol!$A28&\" Commercial Ethanol\",ConsumeBlock,Ethanol!Q$7,FALSE)","v":0},{"$f":"VLOOKUP(Ethanol!$A28&\" Commercial Ethanol\",ConsumeBlock,Ethanol!R$7,FALSE)","v":1},{"$f":"VLOOKUP(Ethanol!$A28&\" Commercial Ethanol\",ConsumeBlock,Ethanol!S$7,FALSE)","v":2},{"$f":"VLOOKUP(Ethanol!$A28&\" Commercial Ethanol\",ConsumeBlock,Ethanol!T$7,FALSE)","v":5},{"$f":"VLOOKUP(Ethanol!$A28&\" Commercial Ethanol\",ConsumeBlock,Ethanol!U$7,FALSE)","v":11},{"$f":"VLOOKUP(Ethanol!$A28&\" Commercial Ethanol\",ConsumeBlock,Ethanol!V$7,FALSE)","v":11},{"$f":"VLOOKUP(Ethanol!$A28&\" Commercial Ethanol\",ConsumeBlock,Ethanol!W$7,FALSE)","v":6},{"$f":"VLOOKUP(Ethanol!$A28&\" Commercial Ethanol\",ConsumeBlock,Ethanol!X$7,FALSE)","v":6},{"$f":"VLOOKUP(Ethanol!$A28&\" Commercial Ethanol\",ConsumeBlock,Ethanol!Y$7,FALSE)","v":10},{"$f":"VLOOKUP(Ethanol!$A28&\" Commercial Ethanol\",ConsumeBlock,Ethanol!Z$7,FALSE)","v":8},{"$f":"VLOOKUP(Ethanol!$A28&\" Commercial Ethanol\",ConsumeBlock,Ethanol!AA$7,FALSE)","v":105},{"$f":"VLOOKUP(Ethanol!$A28&\" Commercial Ethanol\",ConsumeBlock,Ethanol!AB$7,FALSE)","v":108},{"$f":"VLOOKUP(Ethanol!$A28&\" Commercial Ethanol\",ConsumeBlock,Ethanol!AC$7,FALSE)","v":111},{"$f":"VLOOKUP(Ethanol!$A28&\" Commercial Ethanol\",ConsumeBlock,Ethanol!AD$7,FALSE)","v":113}]
["MD",{"$f":"VLOOKUP(Ethanol!$A29&\" Commercial Ethanol\",ConsumeBlock,Ethanol!B$7,FALSE)","v":0},{"$f":"VLOOKUP(Ethanol!$A29&\" Commercial Ethanol\",ConsumeBlock,Ethanol!C$7,FALSE)","v":0},{"$f":"VLOOKUP(Ethanol!$A29&\" Commercial Ethanol\",ConsumeBlock,Ethanol!D$7,FALSE)","v":0},{"$f":"VLOOKUP(Ethanol!$A29&\" Commercial Ethanol\",ConsumeBlock,Ethanol!E$7,FALSE)","v":0},{"$f":"VLOOKUP(Ethanol!$A29&\" Commercial Ethanol\",ConsumeBlock,Ethanol!F$7,FALSE)","v":0},{"$f":"VLOOKUP(Ethanol!$A29&\" Commercial Ethanol\",ConsumeBlock,Ethanol!G$7,FALSE)","v":0},{"$f":"VLOOKUP(Ethanol!$A29&\" Commercial Ethanol\",ConsumeBlock,Ethanol!H$7,FALSE)","v":0},{"$f":"VLOOKUP(Ethanol!$A29&\" Commercial Ethanol\",ConsumeBlock,Ethanol!I$7,FALSE)","v":0},{"$f":"VLOOKUP(Ethanol!$A29&\" Commercial Ethanol\",ConsumeBlock,Ethanol!J$7,FALSE)","v":0},{"$f":"VLOOKUP(Ethanol!$A29&\" Commercial Ethanol\",ConsumeBlock,Ethanol!K$7,FALSE)","v":0},{"$f":"VLOOKUP(Ethanol!$A29&\" Commercial Ethanol\",ConsumeBlock,Ethanol!L$7,FALSE)","v":0},{"$f":"VLOOKUP(Ethanol!$A29&\" Commercial Ethanol\",ConsumeBlock,Ethanol!M$7,FALSE)","v":0},{"$f":"VLOOKUP(Ethanol!$A29&\" Commercial Ethanol\",ConsumeBlock,Ethanol!N$7,FALSE)","v":2},{"$f":"VLOOKUP(Ethanol!$A29&\" Commercial Ethanol\",ConsumeBlock,Ethanol!O$7,FALSE)","v":0},{"$f":"VLOOKUP(Ethanol!$A29&\" Commercial Ethanol\",ConsumeBlock,Ethanol!P$7,FALSE)","v":0},{"$f":"VLOOKUP(Ethanol!$A29&\" Commercial Ethanol\",ConsumeBlock,Ethanol!Q$7,FALSE)","v":3},{"$f":"VLOOKUP(Ethanol!$A29&\" Commercial Ethanol\",ConsumeBlock,Ethanol!R$7,FALSE)","v":7},{"$f":"VLOOKUP(Ethanol!$A29&\" Commercial Ethanol\",ConsumeBlock,Ethanol!S$7,FALSE)","v":9},{"$f":"VLOOKUP(Ethanol!$A29&\" Commercial Ethanol\",ConsumeBlock,Ethanol!T$7,FALSE)","v":8},{"$f":"VLOOKUP(Ethanol!$A29&\" Commercial Ethanol\",ConsumeBlock,Ethanol!U$7,FALSE)","v":9},{"$f":"VLOOKUP(Ethanol!$A29&\" Commercial Ethanol\",ConsumeBlock,Ethanol!V$7,FALSE)","v":12},{"$f":"VLOOKUP(Ethanol!$A29&\" Commercial Ethanol\",ConsumeBlock,Ethanol!W$7,FALSE)","v":12},{"$f":"VLOOKUP(Ethanol!$A29&\" Commercial Ethanol\",ConsumeBlock,Ethanol!X$7,FALSE)","v":12},{"$f":"VLOOKUP(Ethanol!$A29&\" Commercial Ethanol\",ConsumeBlock,Ethanol!Y$7,FALSE)","v":12},{"$f":"VLOOKUP(Ethanol!$A29&\" Commercial Ethanol\",ConsumeBlock,Ethanol!Z$7,FALSE)","v":12},{"$f":"VLOOKUP(Ethanol!$A29&\" Commercial Ethanol\",ConsumeBlock,Ethanol!AA$7,FALSE)","v":599},{"$f":"VLOOKUP(Ethanol!$A29&\" Commercial Ethanol\",ConsumeBlock,Ethanol!AB$7,FALSE)","v":604},{"$f":"VLOOKUP(Ethanol!$A29&\" Commercial Ethanol\",ConsumeBlock,Ethanol!AC$7,FALSE)","v":617},{"$f":"VLOOKUP(Ethanol!$A29&\" Commercial Ethanol\",ConsumeBlock,Ethanol!AD$7,FALSE)","v":627}]
["MA",{"$f":"VLOOKUP(Ethanol!$A30&\" Commercial Ethanol\",ConsumeBlock,Ethanol!B$7,FALSE)","v":0},{"$f":"VLOOKUP(Ethanol!$A30&\" Commercial Ethanol\",ConsumeBlock,Ethanol!C$7,FALSE)","v":0},{"$f":"VLOOKUP(Ethanol!$A30&\" Commercial Ethanol\",ConsumeBlock,Ethanol!D$7,FALSE)","v":0},{"$f":"VLOOKUP(Ethanol!$A30&\" Commercial Ethanol\",ConsumeBlock,Ethanol!E$7,FALSE)","v":0},{"$f":"VLOOKUP(Ethanol!$A30&\" Commercial Ethanol\",ConsumeBlock,Ethanol!F$7,FALSE)","v":0},{"$f":"VLOOKUP(Ethanol!$A30&\" Commercial Ethanol\",ConsumeBlock,Ethanol!G$7,FALSE)","v":0},{"$f":"VLOOKUP(Ethanol!$A30&\" Commercial Ethanol\",ConsumeBlock,Ethanol!H$7,FALSE)","v":0},{"$f":"VLOOKUP(Ethanol!$A30&\" Commercial Ethanol\",ConsumeBlock,Ethanol!I$7,FALSE)","v":0},{"$f":"VLOOKUP(Ethanol!$A30&\" Commercial Ethanol\",ConsumeBlock,Ethanol!J$7,FALSE)","v":0},{"$f":"VLOOKUP(Ethanol!$A30&\" Commercial Ethanol\",ConsumeBlock,Ethanol!K$7,FALSE)","v":0},{"$f":"VLOOKUP(Ethanol!$A30&\" Commercial Ethanol\",ConsumeBlock,Ethanol!L$7,FALSE)","v":0},{"$f":"VLOOKUP(Ethanol!$A30&\" Commercial Ethanol\",ConsumeBlock,Ethanol!M$7,FALSE)","v":0},{"$f":"VLOOKUP(Ethanol!$A30&\" Commercial Ethanol\",ConsumeBlock,Ethanol!N$7,FALSE)","v":0},{"$f":"VLOOKUP(Ethanol!$A30&\" Commercial Ethanol\",ConsumeBlock,Ethanol!O$7,FALSE)","v":0},{"$f":"VLOOKUP(Ethanol!$A30&\" Commercial Ethanol\",ConsumeBlock,Ethanol!P$7,FALSE)","v":1},{"$f":"VLOOKUP(Ethanol!$A30&\" Commercial Ethanol\",ConsumeBlock,Ethanol!Q$7,FALSE)","v":5},{"$f":"VLOOKUP(Ethanol!$A30&\" Commercial Ethanol\",ConsumeBlock,Ethanol!R$7,FALSE)","v":18},{"$f":"VLOOKUP(Ethanol!$A30&\" Commercial Ethanol\",ConsumeBlock,Ethanol!S$7,FALSE)","v":24},{"$f":"VLOOKUP(Ethanol!$A30&\" Commercial Ethanol\",ConsumeBlock,Ethanol!T$7,FALSE)","v":21},{"$f":"VLOOKUP(Ethanol!$A30&\" Commercial Ethanol\",ConsumeBlock,Ethanol!U$7,FALSE)","v":24},{"$f":"VLOOKUP(Ethanol!$A30&\" Commercial Ethanol\",ConsumeBlock,Ethanol!V$7,FALSE)","v":18},{"$f":"VLOOKUP(Ethanol!$A30&\" Commercial Ethanol\",ConsumeBlock,Ethanol!W$7,FALSE)","v":52},{"$f":"VLOOKUP(Ethanol!$A30&\" Commercial Ethanol\",ConsumeBlock,Ethanol!X$7,FALSE)","v":15},{"$f":"VLOOKUP(Ethanol!$A30&\" Commercial Ethanol\",ConsumeBlock,Ethanol!Y$7,FALSE)","v":17},{"$f":"VLOOKUP(Ethanol!$A30&\" Commercial Ethanol\",ConsumeBlock,Ethanol!Z$7,FALSE)","v":17},{"$f":"VLOOKUP(Ethanol!$A30&\" Commercial Ethanol\",ConsumeBlock,Ethanol!AA$7,FALSE)","v":502},{"$f":"VLOOKUP(Ethanol!$A30&\" Commercial Ethanol\",ConsumeBlock,Ethanol!AB$7,FALSE)","v":503},{"$f":"VLOOKUP(Ethanol!$A30&\" Commercial Ethanol\",ConsumeBlock,Ethanol!AC$7,FALSE)","v":512},{"$f":"VLOOKUP(Ethanol!$A30&\" Commercial Ethanol\",ConsumeBlock,Ethanol!AD$7,FALSE)","v":506}]
["MI",{"$f":"VLOOKUP(Ethanol!$A31&\" Commercial Ethanol\",ConsumeBlock,Ethanol!B$7,FALSE)","v":32},{"$f":"VLOOKUP(Ethanol!$A31&\" Commercial Ethanol\",ConsumeBlock,Ethanol!C$7,FALSE)","v":32},{"$f":"VLOOKUP(Ethanol!$A31&\" Commercial Ethanol\",ConsumeBlock,Ethanol!D$7,FALSE)","v":26},{"$f":"VLOOKUP(Ethanol!$A31&\" Commercial Ethanol\",ConsumeBlock,Ethanol!E$7,FALSE)","v":4},{"$f":"VLOOKUP(Ethanol!$A31&\" Commercial Ethanol\",ConsumeBlock,Ethanol!F$7,FALSE)","v":22},{"$f":"VLOOKUP(Ethanol!$A31&\" Commercial Ethanol\",ConsumeBlock,Ethanol!G$7,FALSE)","v":3},{"$f":"VLOOKUP(Ethanol!$A31&\" Commercial Ethanol\",ConsumeBlock,Ethanol!H$7,FALSE)","v":1},{"$f":"VLOOKUP(Ethanol!$A31&\" Commercial Ethanol\",ConsumeBlock,Ethanol!I$7,FALSE)","v":2},{"$f":"VLOOKUP(Ethanol!$A31&\" Commercial Ethanol\",ConsumeBlock,Ethanol!J$7,FALSE)","v":5},{"$f":"VLOOKUP(Ethanol!$A31&\" Commercial Ethanol\",ConsumeBlock,Ethanol!K$7,FALSE)","v":5},{"$f":"VLOOKUP(Ethanol!$A31&\" Commercial Ethanol\",ConsumeBlock,Ethanol!L$7,FALSE)","v":11},{"$f":"VLOOKUP(Ethanol!$A31&\" Commercial Ethanol\",ConsumeBlock,Ethanol!M$7,FALSE)","v":18},{"$f":"VLOOKUP(Ethanol!$A31&\" Commercial Ethanol\",ConsumeBlock,Ethanol!N$7,FALSE)","v":21},{"$f":"VLOOKUP(Ethanol!$A31&\" Commercial Ethanol\",ConsumeBlock,Ethanol!O$7,FALSE)","v":22},{"$f":"VLOOKUP(Ethanol!$A31&\" Commercial Ethanol\",ConsumeBlock,Ethanol!P$7,FALSE)","v":21},{"$f":"VLOOKUP(Ethanol!$A31&\" Commercial Ethanol\",ConsumeBlock,Ethanol!Q$7,FALSE)","v":31},{"$f":"VLOOKUP(Ethanol!$A31&\" Commercial Ethanol\",ConsumeBlock,Ethanol!R$7,FALSE)","v":14},{"$f":"VLOOKUP(Ethanol!$A31&\" Commercial Ethanol\",ConsumeBlock,Ethanol!S$7,FALSE)","v":16},{"$f":"VLOOKUP(Ethanol!$A31&\" Commercial Ethanol\",ConsumeBlock,Ethanol!T$7,FALSE)","v":23},{"$f":"VLOOKUP(Ethanol!$A31&\" Commercial Ethanol\",ConsumeBlock,Ethanol!U$7,FALSE)","v":41},{"$f":"VLOOKUP(Ethanol!$A31&\" Commercial Ethanol\",ConsumeBlock,Ethanol!V$7,FALSE)","v":26},{"$f":"VLOOKUP(Ethanol!$A31&\" Commercial Ethanol\",ConsumeBlock,Ethanol!W$7,FALSE)","v":26},{"$f":"VLOOKUP(Ethanol!$A31&\" Commercial Ethanol\",ConsumeBlock,Ethanol!X$7,FALSE)","v":28},{"$f":"VLOOKUP(Ethanol!$A31&\" Commercial Ethanol\",ConsumeBlock,Ethanol!Y$7,FALSE)","v":29},{"$f":"VLOOKUP(Ethanol!$A31&\" Commercial Ethanol\",ConsumeBlock,Ethanol!Z$7,FALSE)","v":1123},{"$f":"VLOOKUP(Ethanol!$A31&\" Commercial Ethanol\",ConsumeBlock,Ethanol!AA$7,FALSE)","v":654},{"$f":"VLOOKUP(Ethanol!$A31&\" Commercial Ethanol\",ConsumeBlock,Ethanol!AB$7,FALSE)","v":663},{"$f":"VLOOKUP(Ethanol!$A31&\" Commercial Ethanol\",ConsumeBlock,Ethanol!AC$7,FALSE)","v":684},{"$f":"VLOOKUP(Ethanol!$A31&\" Commercial Ethanol\",ConsumeBlock,Ethanol!AD$7,FALSE)","v":687}]
["MN",{"$f":"VLOOKUP(Ethanol!$A32&\" Commercial Ethanol\",ConsumeBlock,Ethanol!B$7,FALSE)","v":66},{"$f":"VLOOKUP(Ethanol!$A32&\" Commercial Ethanol\",ConsumeBlock,Ethanol!C$7,FALSE)","v":16},{"$f":"VLOOKUP(Ethanol!$A32&\" Commercial Ethanol\",ConsumeBlock,Ethanol!D$7,FALSE)","v":14},{"$f":"VLOOKUP(Ethanol!$A32&\" Commercial Ethanol\",ConsumeBlock,Ethanol!E$7,FALSE)","v":11},{"$f":"VLOOKUP(Ethanol!$A32&\" Commercial Ethanol\",ConsumeBlock,Ethanol!F$7,FALSE)","v":12},{"$f":"VLOOKUP(Ethanol!$A32&\" Commercial Ethanol\",ConsumeBlock,Ethanol!G$7,FALSE)","v":13},{"$f":"VLOOKUP(Ethanol!$A32&\" Commercial Ethanol\",ConsumeBlock,Ethanol!H$7,FALSE)","v":10},{"$f":"VLOOKUP(Ethanol!$A32&\" Commercial Ethanol\",ConsumeBlock,Ethanol!I$7,FALSE)","v":284},{"$f":"VLOOKUP(Ethanol!$A32&\" Commercial Ethanol\",ConsumeBlock,Ethanol!J$7,FALSE)","v":299},{"$f":"VLOOKUP(Ethanol!$A32&\" Commercial Ethanol\",ConsumeBlock,Ethanol!K$7,FALSE)","v":16},{"$f":"VLOOKUP(Ethanol!$A32&\" Commercial Ethanol\",ConsumeBlock,Ethanol!L$7,FALSE)","v":16},{"$f":"VLOOKUP(Ethanol!$A32&\" Commercial Ethanol\",ConsumeBlock,Ethanol!M$7,FALSE)","v":17},{"$f":"VLOOKUP(Ethanol!$A32&\" Commercial Ethanol\",ConsumeBlock,Ethanol!N$7,FALSE)","v":18},{"$f":"VLOOKUP(Ethanol!$A32&\" Commercial Ethanol\",ConsumeBlock,Ethanol!O$7,FALSE)","v":287},{"$f":"VLOOKUP(Ethanol!$A32&\" Commercial Ethanol\",ConsumeBlock,Ethanol!P$7,FALSE)","v":18},{"$f":"VLOOKUP(Ethanol!$A32&\" Commercial Ethanol\",ConsumeBlock,Ethanol!Q$7,FALSE)","v":14},{"$f":"VLOOKUP(Ethanol!$A32&\" Commercial Ethanol\",ConsumeBlock,Ethanol!R$7,FALSE)","v":343},{"$f":"VLOOKUP(Ethanol!$A32&\" Commercial Ethanol\",ConsumeBlock,Ethanol!S$7,FALSE)","v":295},{"$f":"VLOOKUP(Ethanol!$A32&\" Commercial Ethanol\",ConsumeBlock,Ethanol!T$7,FALSE)","v":296},{"$f":"VLOOKUP(Ethanol!$A32&\" Commercial Ethanol\",ConsumeBlock,Ethanol!U$7,FALSE)","v":226},{"$f":"VLOOKUP(Ethanol!$A32&\" Commercial Ethanol\",ConsumeBlock,Ethanol!V$7,FALSE)","v":303},{"$f":"VLOOKUP(Ethanol!$A32&\" Commercial Ethanol\",ConsumeBlock,Ethanol!W$7,FALSE)","v":262},{"$f":"VLOOKUP(Ethanol!$A32&\" Commercial Ethanol\",ConsumeBlock,Ethanol!X$7,FALSE)","v":284},{"$f":"VLOOKUP(Ethanol!$A32&\" Commercial Ethanol\",ConsumeBlock,Ethanol!Y$7,FALSE)","v":262},{"$f":"VLOOKUP(Ethanol!$A32&\" Commercial Ethanol\",ConsumeBlock,Ethanol!Z$7,FALSE)","v":268},{"$f":"VLOOKUP(Ethanol!$A32&\" Commercial Ethanol\",ConsumeBlock,Ethanol!AA$7,FALSE)","v":661},{"$f":"VLOOKUP(Ethanol!$A32&\" Commercial Ethanol\",ConsumeBlock,Ethanol!AB$7,FALSE)","v":677},{"$f":"VLOOKUP(Ethanol!$A32&\" Commercial Ethanol\",ConsumeBlock,Ethanol!AC$7,FALSE)","v":434},{"$f":"VLOOKUP(Ethanol!$A32&\" Commercial Ethanol\",ConsumeBlock,Ethanol!AD$7,FALSE)","v":438}]
["MS",{"$f":"VLOOKUP(Ethanol!$A33&\" Commercial Ethanol\",ConsumeBlock,Ethanol!B$7,FALSE)","v":0},{"$f":"VLOOKUP(Ethanol!$A33&\" Commercial Ethanol\",ConsumeBlock,Ethanol!C$7,FALSE)","v":0},{"$f":"VLOOKUP(Ethanol!$A33&\" Commercial Ethanol\",ConsumeBlock,Ethanol!D$7,FALSE)","v":0},{"$f":"VLOOKUP(Ethanol!$A33&\" Commercial Ethanol\",ConsumeBlock,Ethanol!E$7,FALSE)","v":1},{"$f":"VLOOKUP(Ethanol!$A33&\" Commercial Ethanol\",ConsumeBlock,Ethanol!F$7,FALSE)","v":2},{"$f":"VLOOKUP(Ethanol!$A33&\" Commercial Ethanol\",ConsumeBlock,Ethanol!G$7,FALSE)","v":0},{"$f":"VLOOKUP(Ethanol!$A33&\" Commercial Ethanol\",ConsumeBlock,Ethanol!H$7,FALSE)","v":0},{"$f":"VLOOKUP(Ethanol!$A33&\" Commercial Ethanol\",ConsumeBlock,Ethanol!I$7,FALSE)","v":0},{"$f":"VLOOKUP(Ethanol!$A33&\" Commercial Ethanol\",ConsumeBlock,Ethanol!J$7,FALSE)","v":0},{"$f":"VLOOKUP(Ethanol!$A33&\" Commercial Ethanol\",ConsumeBlock,Ethanol!K$7,FALSE)","v":0},{"$f":"VLOOKUP(Ethanol!$A33&\" Commercial Ethanol\",ConsumeBlock,Ethanol!L$7,FALSE)","v":0},{"$f":"VLOOKUP(Ethanol!$A33&\" Commercial Ethanol\",ConsumeBlock,Ethanol!M$7,FALSE)","v":0},{"$f":"VLOOKUP(Ethanol!$A33&\" Commercial Ethanol\",ConsumeBlock,Ethanol!N$7,FALSE)","v":0},{"$f":"VLOOKUP(Ethanol!$A33&\" Commercial Ethanol\",ConsumeBlock,Ethanol!O$7,FALSE)","v":0},{"$f":"VLOOKUP(Ethanol!$A33&\" Commercial Ethanol\",ConsumeBlock,Ethanol!P$7,FALSE)","v":0},{"$f":"VLOOKUP(Ethanol!$A33&\" Commercial Ethanol\",ConsumeBlock,Ethanol!Q$7,FALSE)","v":1},{"$f":"VLOOKUP(Ethanol!$A33&\" Commercial Ethanol\",ConsumeBlock,Ethanol!R$7,FALSE)","v":0},{"$f":"VLOOKUP(Ethanol!$A33&\" Commercial Ethanol\",ConsumeBlock,Ethanol!S$7,FALSE)","v":0},{"$f":"VLOOKUP(Ethanol!$A33&\" Commercial Ethanol\",ConsumeBlock,Ethanol!T$7,FALSE)","v":3},{"$f":"VLOOKUP(Ethanol!$A33&\" Commercial Ethanol\",ConsumeBlock,Ethanol!U$7,FALSE)","v":6},{"$f":"VLOOKUP(Ethanol!$A33&\" Commercial Ethanol\",ConsumeBlock,Ethanol!V$7,FALSE)","v":12},{"$f":"VLOOKUP(Ethanol!$A33&\" Commercial Ethanol\",ConsumeBlock,Ethanol!W$7,FALSE)","v":11},{"$f":"VLOOKUP(Ethanol!$A33&\" Commercial Ethanol\",ConsumeBlock,Ethanol!X$7,FALSE)","v":13},{"$f":"VLOOKUP(Ethanol!$A33&\" Commercial Ethanol\",ConsumeBlock,Ethanol!Y$7,FALSE)","v":13},{"$f":"VLOOKUP(Ethanol!$A33&\" Commercial Ethanol\",ConsumeBlock,Ethanol!Z$7,FALSE)","v":12},{"$f":"VLOOKUP(Ethanol!$A33&\" Commercial Ethanol\",ConsumeBlock,Ethanol!AA$7,FALSE)","v":165},{"$f":"VLOOKUP(Ethanol!$A33&\" Commercial Ethanol\",ConsumeBlock,Ethanol!AB$7,FALSE)","v":170},{"$f":"VLOOKUP(Ethanol!$A33&\" Commercial Ethanol\",ConsumeBlock,Ethanol!AC$7,FALSE)","v":169},{"$f":"VLOOKUP(Ethanol!$A33&\" Commercial Ethanol\",ConsumeBlock,Ethanol!AD$7,FALSE)","v":161}]
["MO",{"$f":"VLOOKUP(Ethanol!$A34&\" Commercial Ethanol\",ConsumeBlock,Ethanol!B$7,FALSE)","v":8},{"$f":"VLOOKUP(Ethanol!$A34&\" Commercial Ethanol\",ConsumeBlock,Ethanol!C$7,FALSE)","v":4},{"$f":"VLOOKUP(Ethanol!$A34&\" Commercial Ethanol\",ConsumeBlock,Ethanol!D$7,FALSE)","v":4},{"$f":"VLOOKUP(Ethanol!$A34&\" Commercial Ethanol\",ConsumeBlock,Ethanol!E$7,FALSE)","v":5},{"$f":"VLOOKUP(Ethanol!$A34&\" Commercial Ethanol\",ConsumeBlock,Ethanol!F$7,FALSE)","v":4},{"$f":"VLOOKUP(Ethanol!$A34&\" Commercial Ethanol\",ConsumeBlock,Ethanol!G$7,FALSE)","v":3},{"$f":"VLOOKUP(Ethanol!$A34&\" Commercial Ethanol\",ConsumeBlock,Ethanol!H$7,FALSE)","v":2},{"$f":"VLOOKUP(Ethanol!$A34&\" Commercial Ethanol\",ConsumeBlock,Ethanol!I$7,FALSE)","v":1},{"$f":"VLOOKUP(Ethanol!$A34&\" Commercial Ethanol\",ConsumeBlock,Ethanol!J$7,FALSE)","v":1},{"$f":"VLOOKUP(Ethanol!$A34&\" Commercial Ethanol\",ConsumeBlock,Ethanol!K$7,FALSE)","v":6},{"$f":"VLOOKUP(Ethanol!$A34&\" Commercial Ethanol\",ConsumeBlock,Ethanol!L$7,FALSE)","v":9},{"$f":"VLOOKUP(Ethanol!$A34&\" Commercial Ethanol\",ConsumeBlock,Ethanol!M$7,FALSE)","v":10},{"$f":"VLOOKUP(Ethanol!$A34&\" Commercial Ethanol\",ConsumeBlock,Ethanol!N$7,FALSE)","v":21},{"$f":"VLOOKUP(Ethanol!$A34&\" Commercial Ethanol\",ConsumeBlock,Ethanol!O$7,FALSE)","v":28},{"$f":"VLOOKUP(Ethanol!$A34&\" Commercial Ethanol\",ConsumeBlock,Ethanol!P$7,FALSE)","v":24},{"$f":"VLOOKUP(Ethanol!$A34&\" Commercial Ethanol\",ConsumeBlock,Ethanol!Q$7,FALSE)","v":37},{"$f":"VLOOKUP(Ethanol!$A34&\" Commercial Ethanol\",ConsumeBlock,Ethanol!R$7,FALSE)","v":7},{"$f":"VLOOKUP(Ethanol!$A34&\" Commercial Ethanol\",ConsumeBlock,Ethanol!S$7,FALSE)","v":10},{"$f":"VLOOKUP(Ethanol!$A34&\" Commercial Ethanol\",ConsumeBlock,Ethanol!T$7,FALSE)","v":15},{"$f":"VLOOKUP(Ethanol!$A34&\" Commercial Ethanol\",ConsumeBlock,Ethanol!U$7,FALSE)","v":14},{"$f":"VLOOKUP(Ethanol!$A34&\" Commercial Ethanol\",ConsumeBlock,Ethanol!V$7,FALSE)","v":17},{"$f":"VLOOKUP(Ethanol!$A34&\" Commercial Ethanol\",ConsumeBlock,Ethanol!W$7,FALSE)","v":17},{"$f":"VLOOKUP(Ethanol!$A34&\" Commercial Ethanol\",ConsumeBlock,Ethanol!X$7,FALSE)","v":17},{"$f":"VLOOKUP(Ethanol!$A34&\" Commercial Ethanol\",ConsumeBlock,Ethanol!Y$7,FALSE)","v":17},{"$f":"VLOOKUP(Ethanol!$A34&\" Commercial Ethanol\",ConsumeBlock,Ethanol!Z$7,FALSE)","v":18},{"$f":"VLOOKUP(Ethanol!$A34&\" Commercial Ethanol\",ConsumeBlock,Ethanol!AA$7,FALSE)","v":446},{"$f":"VLOOKUP(Ethanol!$A34&\" Commercial Ethanol\",ConsumeBlock,Ethanol!AB$7,FALSE)","v":448},{"$f":"VLOOKUP(Ethanol!$A34&\" Commercial Ethanol\",ConsumeBlock,Ethanol!AC$7,FALSE)","v":458},{"$f":"VLOOKUP(Ethanol!$A34&\" Commercial Ethanol\",ConsumeBlock,Ethanol!AD$7,FALSE)","v":459}]
["MT",{"$f":"VLOOKUP(Ethanol!$A35&\" Commercial Ethanol\",ConsumeBlock,Ethanol!B$7,FALSE)","v":0},{"$f":"VLOOKUP(Ethanol!$A35&\" Commercial Ethanol\",ConsumeBlock,Ethanol!C$7,FALSE)","v":0},{"$f":"VLOOKUP(Ethanol!$A35&\" Commercial Ethanol\",ConsumeBlock,Ethanol!D$7,FALSE)","v":0},{"$f":"VLOOKUP(Ethanol!$A35&\" Commercial Ethanol\",ConsumeBlock,Ethanol!E$7,FALSE)","v":0},{"$f":"VLOOKUP(Ethanol!$A35&\" Commercial Ethanol\",ConsumeBlock,Ethanol!F$7,FALSE)","v":0},{"$f":"VLOOKUP(Ethanol!$A35&\" Commercial Ethanol\",ConsumeBlock,Ethanol!G$7,FALSE)","v":0},{"$f":"VLOOKUP(Ethanol!$A35&\" Commercial Ethanol\",ConsumeBlock,Ethanol!H$7,FALSE)","v":0},{"$f":"VLOOKUP(Ethanol!$A35&\" Commercial Ethanol\",ConsumeBlock,Ethanol!I$7,FALSE)","v":0},{"$f":"VLOOKUP(Ethanol!$A35&\" Commercial Ethanol\",ConsumeBlock,Ethanol!J$7,FALSE)","v":0},{"$f":"VLOOKUP(Ethanol!$A35&\" Commercial Ethanol\",ConsumeBlock,Ethanol!K$7,FALSE)","v":0},{"$f":"VLOOKUP(Ethanol!$A35&\" Commercial Ethanol\",ConsumeBlock,Ethanol!L$7,FALSE)","v":0},{"$f":"VLOOKUP(Ethanol!$A35&\" Commercial Ethanol\",ConsumeBlock,Ethanol!M$7,FALSE)","v":0},{"$f":"VLOOKUP(Ethanol!$A35&\" Commercial Ethanol\",ConsumeBlock,Ethanol!N$7,FALSE)","v":0},{"$f":"VLOOKUP(Ethanol!$A35&\" Commercial Ethanol\",ConsumeBlock,Ethanol!O$7,FALSE)","v":0},{"$f":"VLOOKUP(Ethanol!$A35&\" Commercial Ethanol\",ConsumeBlock,Ethanol!P$7,FALSE)","v":0},{"$f":"VLOOKUP(Ethanol!$A35&\" Commercial Ethanol\",ConsumeBlock,Ethanol!Q$7,FALSE)","v":1},{"$f":"VLOOKUP(Ethanol!$A35&\" Commercial Ethanol\",ConsumeBlock,Ethanol!R$7,FALSE)","v":1},{"$f":"VLOOKUP(Ethanol!$A35&\" Commercial Ethanol\",ConsumeBlock,Ethanol!S$7,FALSE)","v":2},{"$f":"VLOOKUP(Ethanol!$A35&\" Commercial Ethanol\",ConsumeBlock,Ethanol!T$7,FALSE)","v":3},{"$f":"VLOOKUP(Ethanol!$A35&\" Commercial Ethanol\",ConsumeBlock,Ethanol!U$7,FALSE)","v":3},{"$f":"VLOOKUP(Ethanol!$A35&\" Commercial Ethanol\",ConsumeBlock,Ethanol!V$7,FALSE)","v":3},{"$f":"VLOOKUP(Ethanol!$A35&\" Commercial Ethanol\",ConsumeBlock,Ethanol!W$7,FALSE)","v":4},{"$f":"VLOOKUP(Ethanol!$A35&\" Commercial Ethanol\",ConsumeBlock,Ethanol!X$7,FALSE)","v":4},{"$f":"VLOOKUP(Ethanol!$A35&\" Commercial Ethanol\",ConsumeBlock,Ethanol!Y$7,FALSE)","v":4},{"$f":"VLOOKUP(Ethanol!$A35&\" Commercial Ethanol\",ConsumeBlock,Ethanol!Z$7,FALSE)","v":4},{"$f":"VLOOKUP(Ethanol!$A35&\" Commercial Ethanol\",ConsumeBlock,Ethanol!AA$7,FALSE)","v":51},{"$f":"VLOOKUP(Ethanol!$A35&\" Commercial Ethanol\",ConsumeBlock,Ethanol!AB$7,FALSE)","v":54},{"$f":"VLOOKUP(Ethanol!$A35&\" Commercial Ethanol\",ConsumeBlock,Ethanol!AC$7,FALSE)","v":54},{"$f":"VLOOKUP(Ethanol!$A35&\" Commercial Ethanol\",ConsumeBlock,Ethanol!AD$7,FALSE)","v":55}]
["NE",{"$f":"VLOOKUP(Ethanol!$A36&\" Commercial Ethanol\",ConsumeBlock,Ethanol!B$7,FALSE)","v":21},{"$f":"VLOOKUP(Ethanol!$A36&\" Commercial Ethanol\",ConsumeBlock,Ethanol!C$7,FALSE)","v":16},{"$f":"VLOOKUP(Ethanol!$A36&\" Commercial Ethanol\",ConsumeBlock,Ethanol!D$7,FALSE)","v":18},{"$f":"VLOOKUP(Ethanol!$A36&\" Commercial Ethanol\",ConsumeBlock,Ethanol!E$7,FALSE)","v":3},{"$f":"VLOOKUP(Ethanol!$A36&\" Commercial Ethanol\",ConsumeBlock,Ethanol!F$7,FALSE)","v":2},{"$f":"VLOOKUP(Ethanol!$A36&\" Commercial Ethanol\",ConsumeBlock,Ethanol!G$7,FALSE)","v":2},{"$f":"VLOOKUP(Ethanol!$A36&\" Commercial Ethanol\",ConsumeBlock,Ethanol!H$7,FALSE)","v":2},{"$f":"VLOOKUP(Ethanol!$A36&\" Commercial Ethanol\",ConsumeBlock,Ethanol!I$7,FALSE)","v":2},{"$f":"VLOOKUP(Ethanol!$A36&\" Commercial Ethanol\",ConsumeBlock,Ethanol!J$7,FALSE)","v":2},{"$f":"VLOOKUP(Ethanol!$A36&\" Commercial Ethanol\",ConsumeBlock,Ethanol!K$7,FALSE)","v":2},{"$f":"VLOOKUP(Ethanol!$A36&\" Commercial Ethanol\",ConsumeBlock,Ethanol!L$7,FALSE)","v":38},{"$f":"VLOOKUP(Ethanol!$A36&\" Commercial Ethanol\",ConsumeBlock,Ethanol!M$7,FALSE)","v":23},{"$f":"VLOOKUP(Ethanol!$A36&\" Commercial Ethanol\",ConsumeBlock,Ethanol!N$7,FALSE)","v":18},{"$f":"VLOOKUP(Ethanol!$A36&\" Commercial Ethanol\",ConsumeBlock,Ethanol!O$7,FALSE)","v":15},{"$f":"VLOOKUP(Ethanol!$A36&\" Commercial Ethanol\",ConsumeBlock,Ethanol!P$7,FALSE)","v":29},{"$f":"VLOOKUP(Ethanol!$A36&\" Commercial Ethanol\",ConsumeBlock,Ethanol!Q$7,FALSE)","v":2},{"$f":"VLOOKUP(Ethanol!$A36&\" Commercial Ethanol\",ConsumeBlock,Ethanol!R$7,FALSE)","v":8},{"$f":"VLOOKUP(Ethanol!$A36&\" Commercial Ethanol\",ConsumeBlock,Ethanol!S$7,FALSE)","v":15},{"$f":"VLOOKUP(Ethanol!$A36&\" Commercial Ethanol\",ConsumeBlock,Ethanol!T$7,FALSE)","v":25},{"$f":"VLOOKUP(Ethanol!$A36&\" Commercial Ethanol\",ConsumeBlock,Ethanol!U$7,FALSE)","v":22},{"$f":"VLOOKUP(Ethanol!$A36&\" Commercial Ethanol\",ConsumeBlock,Ethanol!V$7,FALSE)","v":6},{"$f":"VLOOKUP(Ethanol!$A36&\" Commercial Ethanol\",ConsumeBlock,Ethanol!W$7,FALSE)","v":23},{"$f":"VLOOKUP(Ethanol!$A36&\" Commercial Ethanol\",ConsumeBlock,Ethanol!X$7,FALSE)","v":21},{"$f":"VLOOKUP(Ethanol!$A36&\" Commercial Ethanol\",ConsumeBlock,Ethanol!Y$7,FALSE)","v":16},{"$f":"VLOOKUP(Ethanol!$A36&\" Commercial Ethanol\",ConsumeBlock,Ethanol!Z$7,FALSE)","v":19},{"$f":"VLOOKUP(Ethanol!$A36&\" Commercial Ethanol\",ConsumeBlock,Ethanol!AA$7,FALSE)","v":130},{"$f":"VLOOKUP(Ethanol!$A36&\" Commercial Ethanol\",ConsumeBlock,Ethanol!AB$7,FALSE)","v":127},{"$f":"VLOOKUP(Ethanol!$A36&\" Commercial Ethanol\",ConsumeBlock,Ethanol!AC$7,FALSE)","v":120},{"$f":"VLOOKUP(Ethanol!$A36&\" Commercial Ethanol\",ConsumeBlock,Ethanol!AD$7,FALSE)","v":120}]
["NV",{"$f":"VLOOKUP(Ethanol!$A37&\" Commercial Ethanol\",ConsumeBlock,Ethanol!B$7,FALSE)","v":2},{"$f":"VLOOKUP(Ethanol!$A37&\" Commercial Ethanol\",ConsumeBlock,Ethanol!C$7,FALSE)","v":3},{"$f":"VLOOKUP(Ethanol!$A37&\" Commercial Ethanol\",ConsumeBlock,Ethanol!D$7,FALSE)","v":3},{"$f":"VLOOKUP(Ethanol!$A37&\" Commercial Ethanol\",ConsumeBlock,Ethanol!E$7,FALSE)","v":1},{"$f":"VLOOKUP(Ethanol!$A37&\" Commercial Ethanol\",ConsumeBlock,Ethanol!F$7,FALSE)","v":0},{"$f":"VLOOKUP(Ethanol!$A37&\" Commercial Ethanol\",ConsumeBlock,Ethanol!G$7,FALSE)","v":1},{"$f":"VLOOKUP(Ethanol!$A37&\" Commercial Ethanol\",ConsumeBlock,Ethanol!H$7,FALSE)","v":0},{"$f":"VLOOKUP(Ethanol!$A37&\" Commercial Ethanol\",ConsumeBlock,Ethanol!I$7,FALSE)","v":0},{"$f":"VLOOKUP(Ethanol!$A37&\" Commercial Ethanol\",ConsumeBlock,Ethanol!J$7,FALSE)","v":1},{"$f":"VLOOKUP(Ethanol!$A37&\" Commercial Ethanol\",ConsumeBlock,Ethanol!K$7,FALSE)","v":1},{"$f":"VLOOKUP(Ethanol!$A37&\" Commercial Ethanol\",ConsumeBlock,Ethanol!L$7,FALSE)","v":1},{"$f":"VLOOKUP(Ethanol!$A37&\" Commercial Ethanol\",ConsumeBlock,Ethanol!M$7,FALSE)","v":2},{"$f":"VLOOKUP(Ethanol!$A37&\" Commercial Ethanol\",ConsumeBlock,Ethanol!N$7,FALSE)","v":2},{"$f":"VLOOKUP(Ethanol!$A37&\" Commercial Ethanol\",ConsumeBlock,Ethanol!O$7,FALSE)","v":2},{"$f":"VLOOKUP(Ethanol!$A37&\" Commercial Ethanol\",ConsumeBlock,Ethanol!P$7,FALSE)","v":2},{"$f":"VLOOKUP(Ethanol!$A37&\" Commercial Ethanol\",ConsumeBlock,Ethanol!Q$7,FALSE)","v":2},{"$f":"VLOOKUP(Ethanol!$A37&\" Commercial Ethanol\",ConsumeBlock,Ethanol!R$7,FALSE)","v":2},{"$f":"VLOOKUP(Ethanol!$A37&\" Commercial Ethanol\",ConsumeBlock,Ethanol!S$7,FALSE)","v":3},{"$f":"VLOOKUP(Ethanol!$A37&\" Commercial Ethanol\",ConsumeBlock,Ethanol!T$7,FALSE)","v":7},{"$f":"VLOOKUP(Ethanol!$A37&\" Commercial Ethanol\",ConsumeBlock,Ethanol!U$7,FALSE)","v":5},{"$f":"VLOOKUP(Ethanol!$A37&\" Commercial Ethanol\",ConsumeBlock,Ethanol!V$7,FALSE)","v":5},{"$f":"VLOOKUP(Ethanol!$A37&\" Commercial Ethanol\",ConsumeBlock,Ethanol!W$7,FALSE)","v":5},{"$f":"VLOOKUP(Ethanol!$A37&\" Commercial Ethanol\",ConsumeBlock,Ethanol!X$7,FALSE)","v":5},{"$f":"VLOOKUP(Ethanol!$A37&\" Commercial Ethanol\",ConsumeBlock,Ethanol!Y$7,FALSE)","v":8},{"$f":"VLOOKUP(Ethanol!$A37&\" Commercial Ethanol\",ConsumeBlock,Ethanol!Z$7,FALSE)","v":5},{"$f":"VLOOKUP(Ethanol!$A37&\" Commercial Ethanol\",ConsumeBlock,Ethanol!AA$7,FALSE)","v":301},{"$f":"VLOOKUP(Ethanol!$A37&\" Commercial Ethanol\",ConsumeBlock,Ethanol!AB$7,FALSE)","v":304},{"$f":"VLOOKUP(Ethanol!$A37&\" Commercial Ethanol\",ConsumeBlock,Ethanol!AC$7,FALSE)","v":307},{"$f":"VLOOKUP(Ethanol!$A37&\" Commercial Ethanol\",ConsumeBlock,Ethanol!AD$7,FALSE)","v":310}]
["NH",{"$f":"VLOOKUP(Ethanol!$A38&\" Commercial Ethanol\",ConsumeBlock,Ethanol!B$7,FALSE)","v":0},{"$f":"VLOOKUP(Ethanol!$A38&\" Commercial Ethanol\",ConsumeBlock,Ethanol!C$7,FALSE)","v":0},{"$f":"VLOOKUP(Ethanol!$A38&\" Commercial Ethanol\",ConsumeBlock,Ethanol!D$7,FALSE)","v":0},{"$f":"VLOOKUP(Ethanol!$A38&\" Commercial Ethanol\",ConsumeBlock,Ethanol!E$7,FALSE)","v":0},{"$f":"VLOOKUP(Ethanol!$A38&\" Commercial Ethanol\",ConsumeBlock,Ethanol!F$7,FALSE)","v":0},{"$f":"VLOOKUP(Ethanol!$A38&\" Commercial Ethanol\",ConsumeBlock,Ethanol!G$7,FALSE)","v":0},{"$f":"VLOOKUP(Ethanol!$A38&\" Commercial Ethanol\",ConsumeBlock,Ethanol!H$7,FALSE)","v":0},{"$f":"VLOOKUP(Ethanol!$A38&\" Commercial Ethanol\",ConsumeBlock,Ethanol!I$7,FALSE)","v":0},{"$f":"VLOOKUP(Ethanol!$A38&\" Commercial Ethanol\",ConsumeBlock,Ethanol!J$7,FALSE)","v":0},{"$f":"VLOOKUP(Ethanol!$A38&\" Commercial Ethanol\",ConsumeBlock,Ethanol!K$7,FALSE)","v":0},{"$f":"VLOOKUP(Ethanol!$A38&\" Commercial Ethanol\",ConsumeBlock,Ethanol!L$7,FALSE)","v":0},{"$f":"VLOOKUP(Ethanol!$A38&\" Commercial Ethanol\",ConsumeBlock,Ethanol!M$7,FALSE)","v":0},{"$f":"VLOOKUP(Ethanol!$A38&\" Commercial Ethanol\",ConsumeBlock,Ethanol!N$7,FALSE)","v":0},{"$f":"VLOOKUP(Ethanol!$A38&\" Commercial Ethanol\",ConsumeBlock,Ethanol!O$7,FALSE)","v":0},{"$f":"VLOOKUP(Ethanol!$A38&\" Commercial Ethanol\",ConsumeBlock,Ethanol!P$7,FALSE)","v":0},{"$f":"VLOOKUP(Ethanol!$A38&\" Commercial Ethanol\",ConsumeBlock,Ethanol!Q$7,FALSE)","v":1},{"$f":"VLOOKUP(Ethanol!$A38&\" Commercial Ethanol\",ConsumeBlock,Ethanol!R$7,FALSE)","v":22},{"$f":"VLOOKUP(Ethanol!$A38&\" Commercial Ethanol\",ConsumeBlock,Ethanol!S$7,FALSE)","v":10},{"$f":"VLOOKUP(Ethanol!$A38&\" Commercial Ethanol\",ConsumeBlock,Ethanol!T$7,FALSE)","v":13},{"$f":"VLOOKUP(Ethanol!$A38&\" Commercial Ethanol\",ConsumeBlock,Ethanol!U$7,FALSE)","v":12},{"$f":"VLOOKUP(Ethanol!$A38&\" Commercial Ethanol\",ConsumeBlock,Ethanol!V$7,FALSE)","v":19},{"$f":"VLOOKUP(Ethanol!$A38&\" Commercial Ethanol\",ConsumeBlock,Ethanol!W$7,FALSE)","v":18},{"$f":"VLOOKUP(Ethanol!$A38&\" Commercial Ethanol\",ConsumeBlock,Ethanol!X$7,FALSE)","v":19},{"$f":"VLOOKUP(Ethanol!$A38&\" Commercial Ethanol\",ConsumeBlock,Ethanol!Y$7,FALSE)","v":20},{"$f":"VLOOKUP(Ethanol!$A38&\" Commercial Ethanol\",ConsumeBlock,Ethanol!Z$7,FALSE)","v":20},{"$f":"VLOOKUP(Ethanol!$A38&\" Commercial Ethanol\",ConsumeBlock,Ethanol!AA$7,FALSE)","v":123},{"$f":"VLOOKUP(Ethanol!$A38&\" Commercial Ethanol\",ConsumeBlock,Ethanol!AB$7,FALSE)","v":126},{"$f":"VLOOKUP(Ethanol!$A38&\" Commercial Ethanol\",ConsumeBlock,Ethanol!AC$7,FALSE)","v":113},{"$f":"VLOOKUP(Ethanol!$A38&\" Commercial Ethanol\",ConsumeBlock,Ethanol!AD$7,FALSE)","v":114}]
["NJ",{"$f":"VLOOKUP(Ethanol!$A39&\" Commercial Ethanol\",ConsumeBlock,Ethanol!B$7,FALSE)","v":0},{"$f":"VLOOKUP(Ethanol!$A39&\" Commercial Ethanol\",ConsumeBlock,Ethanol!C$7,FALSE)","v":0},{"$f":"VLOOKUP(Ethanol!$A39&\" Commercial Ethanol\",ConsumeBlock,Ethanol!D$7,FALSE)","v":0},{"$f":"VLOOKUP(Ethanol!$A39&\" Commercial Ethanol\",ConsumeBlock,Ethanol!E$7,FALSE)","v":0},{"$f":"VLOOKUP(Ethanol!$A39&\" Commercial Ethanol\",ConsumeBlock,Ethanol!F$7,FALSE)","v":0},{"$f":"VLOOKUP(Ethanol!$A39&\" Commercial Ethanol\",ConsumeBlock,Ethanol!G$7,FALSE)","v":1},{"$f":"VLOOKUP(Ethanol!$A39&\" Commercial Ethanol\",ConsumeBlock,Ethanol!H$7,FALSE)","v":1},{"$f":"VLOOKUP(Ethanol!$A39&\" Commercial Ethanol\",ConsumeBlock,Ethanol!I$7,FALSE)","v":1},{"$f":"VLOOKUP(Ethanol!$A39&\" Commercial Ethanol\",ConsumeBlock,Ethanol!J$7,FALSE)","v":1},{"$f":"VLOOKUP(Ethanol!$A39&\" Commercial Ethanol\",ConsumeBlock,Ethanol!K$7,FALSE)","v":1},{"$f":"VLOOKUP(Ethanol!$A39&\" Commercial Ethanol\",ConsumeBlock,Ethanol!L$7,FALSE)","v":1},{"$f":"VLOOKUP(Ethanol!$A39&\" Commercial Ethanol\",ConsumeBlock,Ethanol!M$7,FALSE)","v":1},{"$f":"VLOOKUP(Ethanol!$A39&\" Commercial Ethanol\",ConsumeBlock,Ethanol!N$7,FALSE)","v":0},{"$f":"VLOOKUP(Ethanol!$A39&\" Commercial Ethanol\",ConsumeBlock,Ethanol!O$7,FALSE)","v":0},{"$f":"VLOOKUP(Ethanol!$A39&\" Commercial Ethanol\",ConsumeBlock,Ethanol!P$7,FALSE)","v":0},{"$f":"VLOOKUP(Ethanol!$A39&\" Commercial Ethanol\",ConsumeBlock,Ethanol!Q$7,FALSE)","v":7},{"$f":"VLOOKUP(Ethanol!$A39&\" Commercial Ethanol\",ConsumeBlock,Ethanol!R$7,FALSE)","v":17},{"$f":"VLOOKUP(Ethanol!$A39&\" Commercial Ethanol\",ConsumeBlock,Ethanol!S$7,FALSE)","v":23},{"$f":"VLOOKUP(Ethanol!$A39&\" Commercial Ethanol\",ConsumeBlock,Ethanol!T$7,FALSE)","v":20},{"$f":"VLOOKUP(Ethanol!$A39&\" Commercial Ethanol\",ConsumeBlock,Ethanol!U$7,FALSE)","v":22},{"$f":"VLOOKUP(Ethanol!$A39&\" Commercial Ethanol\",ConsumeBlock,Ethanol!V$7,FALSE)","v":25},{"$f":"VLOOKUP(Ethanol!$A39&\" Commercial Ethanol\",ConsumeBlock,Ethanol!W$7,FALSE)","v":23},{"$f":"VLOOKUP(Ethanol!$A39&\" Commercial Ethanol\",ConsumeBlock,Ethanol!X$7,FALSE)","v":23},{"$f":"VLOOKUP(Ethanol!$A39&\" Commercial Ethanol\",ConsumeBlock,Ethanol!Y$7,FALSE)","v":26},{"$f":"VLOOKUP(Ethanol!$A39&\" Commercial Ethanol\",ConsumeBlock,Ethanol!Z$7,FALSE)","v":53},{"$f":"VLOOKUP(Ethanol!$A39&\" Commercial Ethanol\",ConsumeBlock,Ethanol!AA$7,FALSE)","v":779},{"$f":"VLOOKUP(Ethanol!$A39&\" Commercial Ethanol\",ConsumeBlock,Ethanol!AB$7,FALSE)","v":783},{"$f":"VLOOKUP(Ethanol!$A39&\" Commercial Ethanol\",ConsumeBlock,Ethanol!AC$7,FALSE)","v":783},{"$f":"VLOOKUP(Ethanol!$A39&\" Commercial Ethanol\",ConsumeBlock,Ethanol!AD$7,FALSE)","v":784}]
["NM",{"$f":"VLOOKUP(Ethanol!$A40&\" Commercial Ethanol\",ConsumeBlock,Ethanol!B$7,FALSE)","v":9},{"$f":"VLOOKUP(Ethanol!$A40&\" Commercial Ethanol\",ConsumeBlock,Ethanol!C$7,FALSE)","v":7},{"$f":"VLOOKUP(Ethanol!$A40&\" Commercial Ethanol\",ConsumeBlock,Ethanol!D$7,FALSE)","v":5},{"$f":"VLOOKUP(Ethanol!$A40&\" Commercial Ethanol\",ConsumeBlock,Ethanol!E$7,FALSE)","v":0},{"$f":"VLOOKUP(Ethanol!$A40&\" Commercial Ethanol\",ConsumeBlock,Ethanol!F$7,FALSE)","v":0},{"$f":"VLOOKUP(Ethanol!$A40&\" Commercial Ethanol\",ConsumeBlock,Ethanol!G$7,FALSE)","v":1},{"$f":"VLOOKUP(Ethanol!$A40&\" Commercial Ethanol\",ConsumeBlock,Ethanol!H$7,FALSE)","v":1},{"$f":"VLOOKUP(Ethanol!$A40&\" Commercial Ethanol\",ConsumeBlock,Ethanol!I$7,FALSE)","v":1},{"$f":"VLOOKUP(Ethanol!$A40&\" Commercial Ethanol\",ConsumeBlock,Ethanol!J$7,FALSE)","v":2},{"$f":"VLOOKUP(Ethanol!$A40&\" Commercial Ethanol\",ConsumeBlock,Ethanol!K$7,FALSE)","v":2},{"$f":"VLOOKUP(Ethanol!$A40&\" Commercial Ethanol\",ConsumeBlock,Ethanol!L$7,FALSE)","v":2},{"$f":"VLOOKUP(Ethanol!$A40&\" Commercial Ethanol\",ConsumeBlock,Ethanol!M$7,FALSE)","v":1},{"$f":"VLOOKUP(Ethanol!$A40&\" Commercial Ethanol\",ConsumeBlock,Ethanol!N$7,FALSE)","v":10},{"$f":"VLOOKUP(Ethanol!$A40&\" Commercial Ethanol\",ConsumeBlock,Ethanol!O$7,FALSE)","v":12},{"$f":"VLOOKUP(Ethanol!$A40&\" Commercial Ethanol\",ConsumeBlock,Ethanol!P$7,FALSE)","v":2},{"$f":"VLOOKUP(Ethanol!$A40&\" Commercial Ethanol\",ConsumeBlock,Ethanol!Q$7,FALSE)","v":1},{"$f":"VLOOKUP(Ethanol!$A40&\" Commercial Ethanol\",ConsumeBlock,Ethanol!R$7,FALSE)","v":1},{"$f":"VLOOKUP(Ethanol!$A40&\" Commercial Ethanol\",ConsumeBlock,Ethanol!S$7,FALSE)","v":1},{"$f":"VLOOKUP(Ethanol!$A40&\" Commercial Ethanol\",ConsumeBlock,Ethanol!T$7,FALSE)","v":3},{"$f":"VLOOKUP(Ethanol!$A40&\" Commercial Ethanol\",ConsumeBlock,Ethanol!U$7,FALSE)","v":4},{"$f":"VLOOKUP(Ethanol!$A40&\" Commercial Ethanol\",ConsumeBlock,Ethanol!V$7,FALSE)","v":7},{"$f":"VLOOKUP(Ethanol!$A40&\" Commercial Ethanol\",ConsumeBlock,Ethanol!W$7,FALSE)","v":8},{"$f":"VLOOKUP(Ethanol!$A40&\" Commercial Ethanol\",ConsumeBlock,Ethanol!X$7,FALSE)","v":8},{"$f":"VLOOKUP(Ethanol!$A40&\" Commercial Ethanol\",ConsumeBlock,Ethanol!Y$7,FALSE)","v":7},{"$f":"VLOOKUP(Ethanol!$A40&\" Commercial Ethanol\",ConsumeBlock,Ethanol!Z$7,FALSE)","v":6},{"$f":"VLOOKUP(Ethanol!$A40&\" Commercial Ethanol\",ConsumeBlock,Ethanol!AA$7,FALSE)","v":138},{"$f":"VLOOKUP(Ethanol!$A40&\" Commercial Ethanol\",ConsumeBlock,Ethanol!AB$7,FALSE)","v":137},{"$f":"VLOOKUP(Ethanol!$A40&\" Commercial Ethanol\",ConsumeBlock,Ethanol!AC$7,FALSE)","v":140},{"$f":"VLOOKUP(Ethanol!$A40&\" Commercial Ethanol\",ConsumeBlock,Ethanol!AD$7,FALSE)","v":129}]
["NY",{"$f":"VLOOKUP(Ethanol!$A41&\" Commercial Ethanol\",ConsumeBlock,Ethanol!B$7,FALSE)","v":0},{"$f":"VLOOKUP(Ethanol!$A41&\" Commercial Ethanol\",ConsumeBlock,Ethanol!C$7,FALSE)","v":0},{"$f":"VLOOKUP(Ethanol!$A41&\" Commercial Ethanol\",ConsumeBlock,Ethanol!D$7,FALSE)","v":0},{"$f":"VLOOKUP(Ethanol!$A41&\" Commercial Ethanol\",ConsumeBlock,Ethanol!E$7,FALSE)","v":0},{"$f":"VLOOKUP(Ethanol!$A41&\" Commercial Ethanol\",ConsumeBlock,Ethanol!F$7,FALSE)","v":1},{"$f":"VLOOKUP(Ethanol!$A41&\" Commercial Ethanol\",ConsumeBlock,Ethanol!G$7,FALSE)","v":4},{"$f":"VLOOKUP(Ethanol!$A41&\" Commercial Ethanol\",ConsumeBlock,Ethanol!H$7,FALSE)","v":3},{"$f":"VLOOKUP(Ethanol!$A41&\" Commercial Ethanol\",ConsumeBlock,Ethanol!I$7,FALSE)","v":3},{"$f":"VLOOKUP(Ethanol!$A41&\" Commercial Ethanol\",ConsumeBlock,Ethanol!J$7,FALSE)","v":2},{"$f":"VLOOKUP(Ethanol!$A41&\" Commercial Ethanol\",ConsumeBlock,Ethanol!K$7,FALSE)","v":2},{"$f":"VLOOKUP(Ethanol!$A41&\" Commercial Ethanol\",ConsumeBlock,Ethanol!L$7,FALSE)","v":2},{"$f":"VLOOKUP(Ethanol!$A41&\" Commercial Ethanol\",ConsumeBlock,Ethanol!M$7,FALSE)","v":1},{"$f":"VLOOKUP(Ethanol!$A41&\" Commercial Ethanol\",ConsumeBlock,Ethanol!N$7,FALSE)","v":2},{"$f":"VLOOKUP(Ethanol!$A41&\" Commercial Ethanol\",ConsumeBlock,Ethanol!O$7,FALSE)","v":4},{"$f":"VLOOKUP(Ethanol!$A41&\" Commercial Ethanol\",ConsumeBlock,Ethanol!P$7,FALSE)","v":35},{"$f":"VLOOKUP(Ethanol!$A41&\" Commercial Ethanol\",ConsumeBlock,Ethanol!Q$7,FALSE)","v":14},{"$f":"VLOOKUP(Ethanol!$A41&\" Commercial Ethanol\",ConsumeBlock,Ethanol!R$7,FALSE)","v":43},{"$f":"VLOOKUP(Ethanol!$A41&\" Commercial Ethanol\",ConsumeBlock,Ethanol!S$7,FALSE)","v":50},{"$f":"VLOOKUP(Ethanol!$A41&\" Commercial Ethanol\",ConsumeBlock,Ethanol!T$7,FALSE)","v":53},{"$f":"VLOOKUP(Ethanol!$A41&\" Commercial Ethanol\",ConsumeBlock,Ethanol!U$7,FALSE)","v":65},{"$f":"VLOOKUP(Ethanol!$A41&\" Commercial Ethanol\",ConsumeBlock,Ethanol!V$7,FALSE)","v":61},{"$f":"VLOOKUP(Ethanol!$A41&\" Commercial Ethanol\",ConsumeBlock,Ethanol!W$7,FALSE)","v":63},{"$f":"VLOOKUP(Ethanol!$A41&\" Commercial Ethanol\",ConsumeBlock,Ethanol!X$7,FALSE)","v":60},{"$f":"VLOOKUP(Ethanol!$A41&\" Commercial Ethanol\",ConsumeBlock,Ethanol!Y$7,FALSE)","v":66},{"$f":"VLOOKUP(Ethanol!$A41&\" Commercial Ethanol\",ConsumeBlock,Ethanol!Z$7,FALSE)","v":67},{"$f":"VLOOKUP(Ethanol!$A41&\" Commercial Ethanol\",ConsumeBlock,Ethanol!AA$7,FALSE)","v":1068},{"$f":"VLOOKUP(Ethanol!$A41&\" Commercial Ethanol\",ConsumeBlock,Ethanol!AB$7,FALSE)","v":1066},{"$f":"VLOOKUP(Ethanol!$A41&\" Commercial Ethanol\",ConsumeBlock,Ethanol!AC$7,FALSE)","v":1079},{"$f":"VLOOKUP(Ethanol!$A41&\" Commercial Ethanol\",ConsumeBlock,Ethanol!AD$7,FALSE)","v":1086}]
["NC",{"$f":"VLOOKUP(Ethanol!$A42&\" Commercial Ethanol\",ConsumeBlock,Ethanol!B$7,FALSE)","v":0},{"$f":"VLOOKUP(Ethanol!$A42&\" Commercial Ethanol\",ConsumeBlock,Ethanol!C$7,FALSE)","v":2},{"$f":"VLOOKUP(Ethanol!$A42&\" Commercial Ethanol\",ConsumeBlock,Ethanol!D$7,FALSE)","v":1},{"$f":"VLOOKUP(Ethanol!$A42&\" Commercial Ethanol\",ConsumeBlock,Ethanol!E$7,FALSE)","v":0},{"$f":"VLOOKUP(Ethanol!$A42&\" Commercial Ethanol\",ConsumeBlock,Ethanol!F$7,FALSE)","v":1},{"$f":"VLOOKUP(Ethanol!$A42&\" Commercial Ethanol\",ConsumeBlock,Ethanol!G$7,FALSE)","v":0},{"$f":"VLOOKUP(Ethanol!$A42&\" Commercial Ethanol\",ConsumeBlock,Ethanol!H$7,FALSE)","v":10},{"$f":"VLOOKUP(Ethanol!$A42&\" Commercial Ethanol\",ConsumeBlock,Ethanol!I$7,FALSE)","v":5},{"$f":"VLOOKUP(Ethanol!$A42&\" Commercial Ethanol\",ConsumeBlock,Ethanol!J$7,FALSE)","v":12},{"$f":"VLOOKUP(Ethanol!$A42&\" Commercial Ethanol\",ConsumeBlock,Ethanol!K$7,FALSE)","v":9},{"$f":"VLOOKUP(Ethanol!$A42&\" Commercial Ethanol\",ConsumeBlock,Ethanol!L$7,FALSE)","v":11},{"$f":"VLOOKUP(Ethanol!$A42&\" Commercial Ethanol\",ConsumeBlock,Ethanol!M$7,FALSE)","v":12},{"$f":"VLOOKUP(Ethanol!$A42&\" Commercial Ethanol\",ConsumeBlock,Ethanol!N$7,FALSE)","v":15},{"$f":"VLOOKUP(Ethanol!$A42&\" Commercial Ethanol\",ConsumeBlock,Ethanol!O$7,FALSE)","v":83},{"$f":"VLOOKUP(Ethanol!$A42&\" Commercial Ethanol\",ConsumeBlock,Ethanol!P$7,FALSE)","v":108},{"$f":"VLOOKUP(Ethanol!$A42&\" Commercial Ethanol\",ConsumeBlock,Ethanol!Q$7,FALSE)","v":39},{"$f":"VLOOKUP(Ethanol!$A42&\" Commercial Ethanol\",ConsumeBlock,Ethanol!R$7,FALSE)","v":46},{"$f":"VLOOKUP(Ethanol!$A42&\" Commercial Ethanol\",ConsumeBlock,Ethanol!S$7,FALSE)","v":48},{"$f":"VLOOKUP(Ethanol!$A42&\" Commercial Ethanol\",ConsumeBlock,Ethanol!T$7,FALSE)","v":278},{"$f":"VLOOKUP(Ethanol!$A42&\" Commercial Ethanol\",ConsumeBlock,Ethanol!U$7,FALSE)","v":566},{"$f":"VLOOKUP(Ethanol!$A42&\" Commercial Ethanol\",ConsumeBlock,Ethanol!V$7,FALSE)","v":296},{"$f":"VLOOKUP(Ethanol!$A42&\" Commercial Ethanol\",ConsumeBlock,Ethanol!W$7,FALSE)","v":119},{"$f":"VLOOKUP(Ethanol!$A42&\" Commercial Ethanol\",ConsumeBlock,Ethanol!X$7,FALSE)","v":119},{"$f":"VLOOKUP(Ethanol!$A42&\" Commercial Ethanol\",ConsumeBlock,Ethanol!Y$7,FALSE)","v":106},{"$f":"VLOOKUP(Ethanol!$A42&\" Commercial Ethanol\",ConsumeBlock,Ethanol!Z$7,FALSE)","v":114},{"$f":"VLOOKUP(Ethanol!$A42&\" Commercial Ethanol\",ConsumeBlock,Ethanol!AA$7,FALSE)","v":811},{"$f":"VLOOKUP(Ethanol!$A42&\" Commercial Ethanol\",ConsumeBlock,Ethanol!AB$7,FALSE)","v":887},{"$f":"VLOOKUP(Ethanol!$A42&\" Commercial Ethanol\",ConsumeBlock,Ethanol!AC$7,FALSE)","v":793},{"$f":"VLOOKUP(Ethanol!$A42&\" Commercial Ethanol\",ConsumeBlock,Ethanol!AD$7,FALSE)","v":832}]
["ND",{"$f":"VLOOKUP(Ethanol!$A43&\" Commercial Ethanol\",ConsumeBlock,Ethanol!B$7,FALSE)","v":3},{"$f":"VLOOKUP(Ethanol!$A43&\" Commercial Ethanol\",ConsumeBlock,Ethanol!C$7,FALSE)","v":2},{"$f":"VLOOKUP(Ethanol!$A43&\" Commercial Ethanol\",ConsumeBlock,Ethanol!D$7,FALSE)","v":2},{"$f":"VLOOKUP(Ethanol!$A43&\" Commercial Ethanol\",ConsumeBlock,Ethanol!E$7,FALSE)","v":1},{"$f":"VLOOKUP(Ethanol!$A43&\" Commercial Ethanol\",ConsumeBlock,Ethanol!F$7,FALSE)","v":1},{"$f":"VLOOKUP(Ethanol!$A43&\" Commercial Ethanol\",ConsumeBlock,Ethanol!G$7,FALSE)","v":1},{"$f":"VLOOKUP(Ethanol!$A43&\" Commercial Ethanol\",ConsumeBlock,Ethanol!H$7,FALSE)","v":0},{"$f":"VLOOKUP(Ethanol!$A43&\" Commercial Ethanol\",ConsumeBlock,Ethanol!I$7,FALSE)","v":0},{"$f":"VLOOKUP(Ethanol!$A43&\" Commercial Ethanol\",ConsumeBlock,Ethanol!J$7,FALSE)","v":1},{"$f":"VLOOKUP(Ethanol!$A43&\" Commercial Ethanol\",ConsumeBlock,Ethanol!K$7,FALSE)","v":1},{"$f":"VLOOKUP(Ethanol!$A43&\" Commercial Ethanol\",ConsumeBlock,Ethanol!L$7,FALSE)","v":1},{"$f":"VLOOKUP(Ethanol!$A43&\" Commercial Ethanol\",ConsumeBlock,Ethanol!M$7,FALSE)","v":1},{"$f":"VLOOKUP(Ethanol!$A43&\" Commercial Ethanol\",ConsumeBlock,Ethanol!N$7,FALSE)","v":1},{"$f":"VLOOKUP(Ethanol!$A43&\" Commercial Ethanol\",ConsumeBlock,Ethanol!O$7,FALSE)","v":2},{"$f":"VLOOKUP(Ethanol!$A43&\" Commercial Ethanol\",ConsumeBlock,Ethanol!P$7,FALSE)","v":1},{"$f":"VLOOKUP(Ethanol!$A43&\" Commercial Ethanol\",ConsumeBlock,Ethanol!Q$7,FALSE)","v":2},{"$f":"VLOOKUP(Ethanol!$A43&\" Commercial Ethanol\",ConsumeBlock,Ethanol!R$7,FALSE)","v":4},{"$f":"VLOOKUP(Ethanol!$A43&\" Commercial Ethanol\",ConsumeBlock,Ethanol!S$7,FALSE)","v":4},{"$f":"VLOOKUP(Ethanol!$A43&\" Commercial Ethanol\",ConsumeBlock,Ethanol!T$7,FALSE)","v":5},{"$f":"VLOOKUP(Ethanol!$A43&\" Commercial Ethanol\",ConsumeBlock,Ethanol!U$7,FALSE)","v":6},{"$f":"VLOOKUP(Ethanol!$A43&\" Commercial Ethanol\",ConsumeBlock,Ethanol!V$7,FALSE)","v":7},{"$f":"VLOOKUP(Ethanol!$A43&\" Commercial Ethanol\",ConsumeBlock,Ethanol!W$7,FALSE)","v":4},{"$f":"VLOOKUP(Ethanol!$A43&\" Commercial Ethanol\",ConsumeBlock,Ethanol!X$7,FALSE)","v":7},{"$f":"VLOOKUP(Ethanol!$A43&\" Commercial Ethanol\",ConsumeBlock,Ethanol!Y$7,FALSE)","v":8},{"$f":"VLOOKUP(Ethanol!$A43&\" Commercial Ethanol\",ConsumeBlock,Ethanol!Z$7,FALSE)","v":7},{"$f":"VLOOKUP(Ethanol!$A43&\" Commercial Ethanol\",ConsumeBlock,Ethanol!AA$7,FALSE)","v":35},{"$f":"VLOOKUP(Ethanol!$A43&\" Commercial Ethanol\",ConsumeBlock,Ethanol!AB$7,FALSE)","v":36},{"$f":"VLOOKUP(Ethanol!$A43&\" Commercial Ethanol\",ConsumeBlock,Ethanol!AC$7,FALSE)","v":37},{"$f":"VLOOKUP(Ethanol!$A43&\" Commercial Ethanol\",ConsumeBlock,Ethanol!AD$7,FALSE)","v":37}]
["OH",{"$f":"VLOOKUP(Ethanol!$A44&\" Commercial Ethanol\",ConsumeBlock,Ethanol!B$7,FALSE)","v":84},{"$f":"VLOOKUP(Ethanol!$A44&\" Commercial Ethanol\",ConsumeBlock,Ethanol!C$7,FALSE)","v":78},{"$f":"VLOOKUP(Ethanol!$A44&\" Commercial Ethanol\",ConsumeBlock,Ethanol!D$7,FALSE)","v":71},{"$f":"VLOOKUP(Ethanol!$A44&\" Commercial Ethanol\",ConsumeBlock,Ethanol!E$7,FALSE)","v":56},{"$f":"VLOOKUP(Ethanol!$A44&\" Commercial Ethanol\",ConsumeBlock,Ethanol!F$7,FALSE)","v":75},{"$f":"VLOOKUP(Ethanol!$A44&\" Commercial Ethanol\",ConsumeBlock,Ethanol!G$7,FALSE)","v":67},{"$f":"VLOOKUP(Ethanol!$A44&\" Commercial Ethanol\",ConsumeBlock,Ethanol!H$7,FALSE)","v":22},{"$f":"VLOOKUP(Ethanol!$A44&\" Commercial Ethanol\",ConsumeBlock,Ethanol!I$7,FALSE)","v":211},{"$f":"VLOOKUP(Ethanol!$A44&\" Commercial Ethanol\",ConsumeBlock,Ethanol!J$7,FALSE)","v":116},{"$f":"VLOOKUP(Ethanol!$A44&\" Commercial Ethanol\",ConsumeBlock,Ethanol!K$7,FALSE)","v":28},{"$f":"VLOOKUP(Ethanol!$A44&\" Commercial Ethanol\",ConsumeBlock,Ethanol!L$7,FALSE)","v":85},{"$f":"VLOOKUP(Ethanol!$A44&\" Commercial Ethanol\",ConsumeBlock,Ethanol!M$7,FALSE)","v":30},{"$f":"VLOOKUP(Ethanol!$A44&\" Commercial Ethanol\",ConsumeBlock,Ethanol!N$7,FALSE)","v":55},{"$f":"VLOOKUP(Ethanol!$A44&\" Commercial Ethanol\",ConsumeBlock,Ethanol!O$7,FALSE)","v":27},{"$f":"VLOOKUP(Ethanol!$A44&\" Commercial Ethanol\",ConsumeBlock,Ethanol!P$7,FALSE)","v":23},{"$f":"VLOOKUP(Ethanol!$A44&\" Commercial Ethanol\",ConsumeBlock,Ethanol!Q$7,FALSE)","v":42},{"$f":"VLOOKUP(Ethanol!$A44&\" Commercial Ethanol\",ConsumeBlock,Ethanol!R$7,FALSE)","v":75},{"$f":"VLOOKUP(Ethanol!$A44&\" Commercial Ethanol\",ConsumeBlock,Ethanol!S$7,FALSE)","v":95},{"$f":"VLOOKUP(Ethanol!$A44&\" Commercial Ethanol\",ConsumeBlock,Ethanol!T$7,FALSE)","v":111},{"$f":"VLOOKUP(Ethanol!$A44&\" Commercial Ethanol\",ConsumeBlock,Ethanol!U$7,FALSE)","v":105},{"$f":"VLOOKUP(Ethanol!$A44&\" Commercial Ethanol\",ConsumeBlock,Ethanol!V$7,FALSE)","v":87},{"$f":"VLOOKUP(Ethanol!$A44&\" Commercial Ethanol\",ConsumeBlock,Ethanol!W$7,FALSE)","v":32},{"$f":"VLOOKUP(Ethanol!$A44&\" Commercial Ethanol\",ConsumeBlock,Ethanol!X$7,FALSE)","v":34},{"$f":"VLOOKUP(Ethanol!$A44&\" Commercial Ethanol\",ConsumeBlock,Ethanol!Y$7,FALSE)","v":36},{"$f":"VLOOKUP(Ethanol!$A44&\" Commercial Ethanol\",ConsumeBlock,Ethanol!Z$7,FALSE)","v":34},{"$f":"VLOOKUP(Ethanol!$A44&\" Commercial Ethanol\",ConsumeBlock,Ethanol!AA$7,FALSE)","v":994},{"$f":"VLOOKUP(Ethanol!$A44&\" Commercial Ethanol\",ConsumeBlock,Ethanol!AB$7,FALSE)","v":998},{"$f":"VLOOKUP(Ethanol!$A44&\" Commercial Ethanol\",ConsumeBlock,Ethanol!AC$7,FALSE)","v":1030},{"$f":"VLOOKUP(Ethanol!$A44&\" Commercial Ethanol\",ConsumeBlock,Ethanol!AD$7,FALSE)","v":1035}]
["OK",{"$f":"VLOOKUP(Ethanol!$A45&\" Commercial Ethanol\",ConsumeBlock,Ethanol!B$7,FALSE)","v":0},{"$f":"VLOOKUP(Ethanol!$A45&\" Commercial Ethanol\",ConsumeBlock,Ethanol!C$7,FALSE)","v":0},{"$f":"VLOOKUP(Ethanol!$A45&\" Commercial Ethanol\",ConsumeBlock,Ethanol!D$7,FALSE)","v":0},{"$f":"VLOOKUP(Ethanol!$A45&\" Commercial Ethanol\",ConsumeBlock,Ethanol!E$7,FALSE)","v":0},{"$f":"VLOOKUP(Ethanol!$A45&\" Commercial Ethanol\",ConsumeBlock,Ethanol!F$7,FALSE)","v":0},{"$f":"VLOOKUP(Ethanol!$A45&\" Commercial Ethanol\",ConsumeBlock,Ethanol!G$7,FALSE)","v":0},{"$f":"VLOOKUP(Ethanol!$A45&\" Commercial Ethanol\",ConsumeBlock,Ethanol!H$7,FALSE)","v":0},{"$f":"VLOOKUP(Ethanol!$A45&\" Commercial Ethanol\",ConsumeBlock,Ethanol!I$7,FALSE)","v":0},{"$f":"VLOOKUP(Ethanol!$A45&\" Commercial Ethanol\",ConsumeBlock,Ethanol!J$7,FALSE)","v":0},{"$f":"VLOOKUP(Ethanol!$A45&\" Commercial Ethanol\",ConsumeBlock,Ethanol!K$7,FALSE)","v":0},{"$f":"VLOOKUP(Ethanol!$A45&\" Commercial Ethanol\",ConsumeBlock,Ethanol!L$7,FALSE)","v":0},{"$f":"VLOOKUP(Ethanol!$A45&\" Commercial Ethanol\",ConsumeBlock,Ethanol!M$7,FALSE)","v":0},{"$f":"VLOOKUP(Ethanol!$A45&\" Commercial Ethanol\",ConsumeBlock,Ethanol!N$7,FALSE)","v":0},{"$f":"VLOOKUP(Ethanol!$A45&\" Commercial Ethanol\",ConsumeBlock,Ethanol!O$7,FALSE)","v":0},{"$f":"VLOOKUP(Ethanol!$A45&\" Commercial Ethanol\",ConsumeBlock,Ethanol!P$7,FALSE)","v":0},{"$f":"VLOOKUP(Ethanol!$A45&\" Commercial Ethanol\",ConsumeBlock,Ethanol!Q$7,FALSE)","v":11},{"$f":"VLOOKUP(Ethanol!$A45&\" Commercial Ethanol\",ConsumeBlock,Ethanol!R$7,FALSE)","v":10},{"$f":"VLOOKUP(Ethanol!$A45&\" Commercial Ethanol\",ConsumeBlock,Ethanol!S$7,FALSE)","v":34},{"$f":"VLOOKUP(Ethanol!$A45&\" Commercial Ethanol\",ConsumeBlock,Ethanol!T$7,FALSE)","v":58},{"$f":"VLOOKUP(Ethanol!$A45&\" Commercial Ethanol\",ConsumeBlock,Ethanol!U$7,FALSE)","v":47},{"$f":"VLOOKUP(Ethanol!$A45&\" Commercial Ethanol\",ConsumeBlock,Ethanol!V$7,FALSE)","v":44},{"$f":"VLOOKUP(Ethanol!$A45&\" Commercial Ethanol\",ConsumeBlock,Ethanol!W$7,FALSE)","v":43},{"$f":"VLOOKUP(Ethanol!$A45&\" Commercial Ethanol\",ConsumeBlock,Ethanol!X$7,FALSE)","v":46},{"$f":"VLOOKUP(Ethanol!$A45&\" Commercial Ethanol\",ConsumeBlock,Ethanol!Y$7,FALSE)","v":49},{"$f":"VLOOKUP(Ethanol!$A45&\" Commercial Ethanol\",ConsumeBlock,Ethanol!Z$7,FALSE)","v":48},{"$f":"VLOOKUP(Ethanol!$A45&\" Commercial Ethanol\",ConsumeBlock,Ethanol!AA$7,FALSE)","v":318},{"$f":"VLOOKUP(Ethanol!$A45&\" Commercial Ethanol\",ConsumeBlock,Ethanol!AB$7,FALSE)","v":311},{"$f":"VLOOKUP(Ethanol!$A45&\" Commercial Ethanol\",ConsumeBlock,Ethanol!AC$7,FALSE)","v":288},{"$f":"VLOOKUP(Ethanol!$A45&\" Commercial Ethanol\",ConsumeBlock,Ethanol!AD$7,FALSE)","v":290}]
["OR",{"$f":"VLOOKUP(Ethanol!$A46&\" Commercial Ethanol\",ConsumeBlock,Ethanol!B$7,FALSE)","v":0},{"$f":"VLOOKUP(Ethanol!$A46&\" Commercial Ethanol\",ConsumeBlock,Ethanol!C$7,FALSE)","v":0},{"$f":"VLOOKUP(Ethanol!$A46&\" Commercial Ethanol\",ConsumeBlock,Ethanol!D$7,FALSE)","v":9},{"$f":"VLOOKUP(Ethanol!$A46&\" Commercial Ethanol\",ConsumeBlock,Ethanol!E$7,FALSE)","v":3},{"$f":"VLOOKUP(Ethanol!$A46&\" Commercial Ethanol\",ConsumeBlock,Ethanol!F$7,FALSE)","v":0},{"$f":"VLOOKUP(Ethanol!$A46&\" Commercial Ethanol\",ConsumeBlock,Ethanol!G$7,FALSE)","v":0},{"$f":"VLOOKUP(Ethanol!$A46&\" Commercial Ethanol\",ConsumeBlock,Ethanol!H$7,FALSE)","v":0},{"$f":"VLOOKUP(Ethanol!$A46&\" Commercial Ethanol\",ConsumeBlock,Ethanol!I$7,FALSE)","v":0},{"$f":"VLOOKUP(Ethanol!$A46&\" Commercial Ethanol\",ConsumeBlock,Ethanol!J$7,FALSE)","v":1},{"$f":"VLOOKUP(Ethanol!$A46&\" Commercial Ethanol\",ConsumeBlock,Ethanol!K$7,FALSE)","v":1},{"$f":"VLOOKUP(Ethanol!$A46&\" Commercial Ethanol\",ConsumeBlock,Ethanol!L$7,FALSE)","v":1},{"$f":"VLOOKUP(Ethanol!$A46&\" Commercial Ethanol\",ConsumeBlock,Ethanol!M$7,FALSE)","v":1},{"$f":"VLOOKUP(Ethanol!$A46&\" Commercial Ethanol\",ConsumeBlock,Ethanol!N$7,FALSE)","v":2},{"$f":"VLOOKUP(Ethanol!$A46&\" Commercial Ethanol\",ConsumeBlock,Ethanol!O$7,FALSE)","v":2},{"$f":"VLOOKUP(Ethanol!$A46&\" Commercial Ethanol\",ConsumeBlock,Ethanol!P$7,FALSE)","v":2},{"$f":"VLOOKUP(Ethanol!$A46&\" Commercial Ethanol\",ConsumeBlock,Ethanol!Q$7,FALSE)","v":3},{"$f":"VLOOKUP(Ethanol!$A46&\" Commercial Ethanol\",ConsumeBlock,Ethanol!R$7,FALSE)","v":8},{"$f":"VLOOKUP(Ethanol!$A46&\" Commercial Ethanol\",ConsumeBlock,Ethanol!S$7,FALSE)","v":5},{"$f":"VLOOKUP(Ethanol!$A46&\" Commercial Ethanol\",ConsumeBlock,Ethanol!T$7,FALSE)","v":9},{"$f":"VLOOKUP(Ethanol!$A46&\" Commercial Ethanol\",ConsumeBlock,Ethanol!U$7,FALSE)","v":10},{"$f":"VLOOKUP(Ethanol!$A46&\" Commercial Ethanol\",ConsumeBlock,Ethanol!V$7,FALSE)","v":9},{"$f":"VLOOKUP(Ethanol!$A46&\" Commercial Ethanol\",ConsumeBlock,Ethanol!W$7,FALSE)","v":9},{"$f":"VLOOKUP(Ethanol!$A46&\" Commercial Ethanol\",ConsumeBlock,Ethanol!X$7,FALSE)","v":9},{"$f":"VLOOKUP(Ethanol!$A46&\" Commercial Ethanol\",ConsumeBlock,Ethanol!Y$7,FALSE)","v":9},{"$f":"VLOOKUP(Ethanol!$A46&\" Commercial Ethanol\",ConsumeBlock,Ethanol!Z$7,FALSE)","v":10},{"$f":"VLOOKUP(Ethanol!$A46&\" Commercial Ethanol\",ConsumeBlock,Ethanol!AA$7,FALSE)","v":320},{"$f":"VLOOKUP(Ethanol!$A46&\" Commercial Ethanol\",ConsumeBlock,Ethanol!AB$7,FALSE)","v":330},{"$f":"VLOOKUP(Ethanol!$A46&\" Commercial Ethanol\",ConsumeBlock,Ethanol!AC$7,FALSE)","v":339},{"$f":"VLOOKUP(Ethanol!$A46&\" Commercial Ethanol\",ConsumeBlock,Ethanol!AD$7,FALSE)","v":343}]
["PA",{"$f":"VLOOKUP(Ethanol!$A47&\" Commercial Ethanol\",ConsumeBlock,Ethanol!B$7,FALSE)","v":0},{"$f":"VLOOKUP(Ethanol!$A47&\" Commercial Ethanol\",ConsumeBlock,Ethanol!C$7,FALSE)","v":0},{"$f":"VLOOKUP(Ethanol!$A47&\" Commercial Ethanol\",ConsumeBlock,Ethanol!D$7,FALSE)","v":0},{"$f":"VLOOKUP(Ethanol!$A47&\" Commercial Ethanol\",ConsumeBlock,Ethanol!E$7,FALSE)","v":1},{"$f":"VLOOKUP(Ethanol!$A47&\" Commercial Ethanol\",ConsumeBlock,Ethanol!F$7,FALSE)","v":2},{"$f":"VLOOKUP(Ethanol!$A47&\" Commercial Ethanol\",ConsumeBlock,Ethanol!G$7,FALSE)","v":5},{"$f":"VLOOKUP(Ethanol!$A47&\" Commercial Ethanol\",ConsumeBlock,Ethanol!H$7,FALSE)","v":3},{"$f":"VLOOKUP(Ethanol!$A47&\" Commercial Ethanol\",ConsumeBlock,Ethanol!I$7,FALSE)","v":12},{"$f":"VLOOKUP(Ethanol!$A47&\" Commercial Ethanol\",ConsumeBlock,Ethanol!J$7,FALSE)","v":9},{"$f":"VLOOKUP(Ethanol!$A47&\" Commercial Ethanol\",ConsumeBlock,Ethanol!K$7,FALSE)","v":2},{"$f":"VLOOKUP(Ethanol!$A47&\" Commercial Ethanol\",ConsumeBlock,Ethanol!L$7,FALSE)","v":1},{"$f":"VLOOKUP(Ethanol!$A47&\" Commercial Ethanol\",ConsumeBlock,Ethanol!M$7,FALSE)","v":1},{"$f":"VLOOKUP(Ethanol!$A47&\" Commercial Ethanol\",ConsumeBlock,Ethanol!N$7,FALSE)","v":1},{"$f":"VLOOKUP(Ethanol!$A47&\" Commercial Ethanol\",ConsumeBlock,Ethanol!O$7,FALSE)","v":1},{"$f":"VLOOKUP(Ethanol!$A47&\" Commercial Ethanol\",ConsumeBlock,Ethanol!P$7,FALSE)","v":7},{"$f":"VLOOKUP(Ethanol!$A47&\" Commercial Ethanol\",ConsumeBlock,Ethanol!Q$7,FALSE)","v":3},{"$f":"VLOOKUP(Ethanol!$A47&\" Commercial Ethanol\",ConsumeBlock,Ethanol!R$7,FALSE)","v":8},{"$f":"VLOOKUP(Ethanol!$A47&\" Commercial Ethanol\",ConsumeBlock,Ethanol!S$7,FALSE)","v":10},{"$f":"VLOOKUP(Ethanol!$A47&\" Commercial Ethanol\",ConsumeBlock,Ethanol!T$7,FALSE)","v":23},{"$f":"VLOOKUP(Ethanol!$A47&\" Commercial Ethanol\",ConsumeBlock,Ethanol!U$7,FALSE)","v":28},{"$f":"VLOOKUP(Ethanol!$A47&\" Commercial Ethanol\",ConsumeBlock,Ethanol!V$7,FALSE)","v":29},{"$f":"VLOOKUP(Ethanol!$A47&\" Commercial Ethanol\",ConsumeBlock,Ethanol!W$7,FALSE)","v":30},{"$f":"VLOOKUP(Ethanol!$A47&\" Commercial Ethanol\",ConsumeBlock,Ethanol!X$7,FALSE)","v":30},{"$f":"VLOOKUP(Ethanol!$A47&\" Commercial Ethanol\",ConsumeBlock,Ethanol!Y$7,FALSE)","v":31},{"$f":"VLOOKUP(Ethanol!$A47&\" Commercial Ethanol\",ConsumeBlock,Ethanol!Z$7,FALSE)","v":30},{"$f":"VLOOKUP(Ethanol!$A47&\" Commercial Ethanol\",ConsumeBlock,Ethanol!AA$7,FALSE)","v":922},{"$f":"VLOOKUP(Ethanol!$A47&\" Commercial Ethanol\",ConsumeBlock,Ethanol!AB$7,FALSE)","v":941},{"$f":"VLOOKUP(Ethanol!$A47&\" Commercial Ethanol\",ConsumeBlock,Ethanol!AC$7,FALSE)","v":974},{"$f":"VLOOKUP(Ethanol!$A47&\" Commercial Ethanol\",ConsumeBlock,Ethanol!AD$7,FALSE)","v":1010}]
["RI",{"$f":"VLOOKUP(Ethanol!$A48&\" Commercial Ethanol\",ConsumeBlock,Ethanol!B$7,FALSE)","v":0},{"$f":"VLOOKUP(Ethanol!$A48&\" Commercial Ethanol\",ConsumeBlock,Ethanol!C$7,FALSE)","v":0},{"$f":"VLOOKUP(Ethanol!$A48&\" Commercial Ethanol\",ConsumeBlock,Ethanol!D$7,FALSE)","v":0},{"$f":"VLOOKUP(Ethanol!$A48&\" Commercial Ethanol\",ConsumeBlock,Ethanol!E$7,FALSE)","v":0},{"$f":"VLOOKUP(Ethanol!$A48&\" Commercial Ethanol\",ConsumeBlock,Ethanol!F$7,FALSE)","v":0},{"$f":"VLOOKUP(Ethanol!$A48&\" Commercial Ethanol\",ConsumeBlock,Ethanol!G$7,FALSE)","v":0},{"$f":"VLOOKUP(Ethanol!$A48&\" Commercial Ethanol\",ConsumeBlock,Ethanol!H$7,FALSE)","v":0},{"$f":"VLOOKUP(Ethanol!$A48&\" Commercial Ethanol\",ConsumeBlock,Ethanol!I$7,FALSE)","v":0},{"$f":"VLOOKUP(Ethanol!$A48&\" Commercial Ethanol\",ConsumeBlock,Ethanol!J$7,FALSE)","v":0},{"$f":"VLOOKUP(Ethanol!$A48&\" Commercial Ethanol\",ConsumeBlock,Ethanol!K$7,FALSE)","v":0},{"$f":"VLOOKUP(Ethanol!$A48&\" Commercial Ethanol\",ConsumeBlock,Ethanol!L$7,FALSE)","v":0},{"$f":"VLOOKUP(Ethanol!$A48&\" Commercial Ethanol\",ConsumeBlock,Ethanol!M$7,FALSE)","v":0},{"$f":"VLOOKUP(Ethanol!$A48&\" Commercial Ethanol\",ConsumeBlock,Ethanol!N$7,FALSE)","v":0},{"$f":"VLOOKUP(Ethanol!$A48&\" Commercial Ethanol\",ConsumeBlock,Ethanol!O$7,FALSE)","v":0},{"$f":"VLOOKUP(Ethanol!$A48&\" Commercial Ethanol\",ConsumeBlock,Ethanol!P$7,FALSE)","v":1},{"$f":"VLOOKUP(Ethanol!$A48&\" Commercial Ethanol\",ConsumeBlock,Ethanol!Q$7,FALSE)","v":1},{"$f":"VLOOKUP(Ethanol!$A48&\" Commercial Ethanol\",ConsumeBlock,Ethanol!R$7,FALSE)","v":3},{"$f":"VLOOKUP(Ethanol!$A48&\" Commercial Ethanol\",ConsumeBlock,Ethanol!S$7,FALSE)","v":4},{"$f":"VLOOKUP(Ethanol!$A48&\" Commercial Ethanol\",ConsumeBlock,Ethanol!T$7,FALSE)","v":3},{"$f":"VLOOKUP(Ethanol!$A48&\" Commercial Ethanol\",ConsumeBlock,Ethanol!U$7,FALSE)","v":4},{"$f":"VLOOKUP(Ethanol!$A48&\" Commercial Ethanol\",ConsumeBlock,Ethanol!V$7,FALSE)","v":4},{"$f":"VLOOKUP(Ethanol!$A48&\" Commercial Ethanol\",ConsumeBlock,Ethanol!W$7,FALSE)","v":4},{"$f":"VLOOKUP(Ethanol!$A48&\" Commercial Ethanol\",ConsumeBlock,Ethanol!X$7,FALSE)","v":3},{"$f":"VLOOKUP(Ethanol!$A48&\" Commercial Ethanol\",ConsumeBlock,Ethanol!Y$7,FALSE)","v":4},{"$f":"VLOOKUP(Ethanol!$A48&\" Commercial Ethanol\",ConsumeBlock,Ethanol!Z$7,FALSE)","v":4},{"$f":"VLOOKUP(Ethanol!$A48&\" Commercial Ethanol\",ConsumeBlock,Ethanol!AA$7,FALSE)","v":72},{"$f":"VLOOKUP(Ethanol!$A48&\" Commercial Ethanol\",ConsumeBlock,Ethanol!AB$7,FALSE)","v":72},{"$f":"VLOOKUP(Ethanol!$A48&\" Commercial Ethanol\",ConsumeBlock,Ethanol!AC$7,FALSE)","v":74},{"$f":"VLOOKUP(Ethanol!$A48&\" Commercial Ethanol\",ConsumeBlock,Ethanol!AD$7,FALSE)","v":75}]
["SC",{"$f":"VLOOKUP(Ethanol!$A49&\" Commercial Ethanol\",ConsumeBlock,Ethanol!B$7,FALSE)","v":3},{"$f":"VLOOKUP(Ethanol!$A49&\" Commercial Ethanol\",ConsumeBlock,Ethanol!C$7,FALSE)","v":0},{"$f":"VLOOKUP(Ethanol!$A49&\" Commercial Ethanol\",ConsumeBlock,Ethanol!D$7,FALSE)","v":0},{"$f":"VLOOKUP(Ethanol!$A49&\" Commercial Ethanol\",ConsumeBlock,Ethanol!E$7,FALSE)","v":0},{"$f":"VLOOKUP(Ethanol!$A49&\" Commercial Ethanol\",ConsumeBlock,Ethanol!F$7,FALSE)","v":0},{"$f":"VLOOKUP(Ethanol!$A49&\" Commercial Ethanol\",ConsumeBlock,Ethanol!G$7,FALSE)","v":0},{"$f":"VLOOKUP(Ethanol!$A49&\" Commercial Ethanol\",ConsumeBlock,Ethanol!H$7,FALSE)","v":0},{"$f":"VLOOKUP(Ethanol!$A49&\" Commercial Ethanol\",ConsumeBlock,Ethanol!I$7,FALSE)","v":0},{"$f":"VLOOKUP(Ethanol!$A49&\" Commercial Ethanol\",ConsumeBlock,Ethanol!J$7,FALSE)","v":0},{"$f":"VLOOKUP(Ethanol!$A49&\" Commercial Ethanol\",ConsumeBlock,Ethanol!K$7,FALSE)","v":0},{"$f":"VLOOKUP(Ethanol!$A49&\" Commercial Ethanol\",ConsumeBlock,Ethanol!L$7,FALSE)","v":0},{"$f":"VLOOKUP(Ethanol!$A49&\" Commercial Ethanol\",ConsumeBlock,Ethanol!M$7,FALSE)","v":0},{"$f":"VLOOKUP(Ethanol!$A49&\" Commercial Ethanol\",ConsumeBlock,Ethanol!N$7,FALSE)","v":0},{"$f":"VLOOKUP(Ethanol!$A49&\" Commercial Ethanol\",ConsumeBlock,Ethanol!O$7,FALSE)","v":0},{"$f":"VLOOKUP(Ethanol!$A49&\" Commercial Ethanol\",ConsumeBlock,Ethanol!P$7,FALSE)","v":0},{"$f":"VLOOKUP(Ethanol!$A49&\" Commercial Ethanol\",ConsumeBlock,Ethanol!Q$7,FALSE)","v":1},{"$f":"VLOOKUP(Ethanol!$A49&\" Commercial Ethanol\",ConsumeBlock,Ethanol!R$7,FALSE)","v":1},{"$f":"VLOOKUP(Ethanol!$A49&\" Commercial Ethanol\",ConsumeBlock,Ethanol!S$7,FALSE)","v":2},{"$f":"VLOOKUP(Ethanol!$A49&\" Commercial Ethanol\",ConsumeBlock,Ethanol!T$7,FALSE)","v":8},{"$f":"VLOOKUP(Ethanol!$A49&\" Commercial Ethanol\",ConsumeBlock,Ethanol!U$7,FALSE)","v":10},{"$f":"VLOOKUP(Ethanol!$A49&\" Commercial Ethanol\",ConsumeBlock,Ethanol!V$7,FALSE)","v":10},{"$f":"VLOOKUP(Ethanol!$A49&\" Commercial Ethanol\",ConsumeBlock,Ethanol!W$7,FALSE)","v":11},{"$f":"VLOOKUP(Ethanol!$A49&\" Commercial Ethanol\",ConsumeBlock,Ethanol!X$7,FALSE)","v":11},{"$f":"VLOOKUP(Ethanol!$A49&\" Commercial Ethanol\",ConsumeBlock,Ethanol!Y$7,FALSE)","v":12},{"$f":"VLOOKUP(Ethanol!$A49&\" Commercial Ethanol\",ConsumeBlock,Ethanol!Z$7,FALSE)","v":11},{"$f":"VLOOKUP(Ethanol!$A49&\" Commercial Ethanol\",ConsumeBlock,Ethanol!AA$7,FALSE)","v":374},{"$f":"VLOOKUP(Ethanol!$A49&\" Commercial Ethanol\",ConsumeBlock,Ethanol!AB$7,FALSE)","v":400},{"$f":"VLOOKUP(Ethanol!$A49&\" Commercial Ethanol\",ConsumeBlock,Ethanol!AC$7,FALSE)","v":416},{"$f":"VLOOKUP(Ethanol!$A49&\" Commercial Ethanol\",ConsumeBlock,Ethanol!AD$7,FALSE)","v":451}]
["SD",{"$f":"VLOOKUP(Ethanol!$A50&\" Commercial Ethanol\",ConsumeBlock,Ethanol!B$7,FALSE)","v":4},{"$f":"VLOOKUP(Ethanol!$A50&\" Commercial Ethanol\",ConsumeBlock,Ethanol!C$7,FALSE)","v":7},{"$f":"VLOOKUP(Ethanol!$A50&\" Commercial Ethanol\",ConsumeBlock,Ethanol!D$7,FALSE)","v":9},{"$f":"VLOOKUP(Ethanol!$A50&\" Commercial Ethanol\",ConsumeBlock,Ethanol!E$7,FALSE)","v":2},{"$f":"VLOOKUP(Ethanol!$A50&\" Commercial Ethanol\",ConsumeBlock,Ethanol!F$7,FALSE)","v":2},{"$f":"VLOOKUP(Ethanol!$A50&\" Commercial Ethanol\",ConsumeBlock,Ethanol!G$7,FALSE)","v":2},{"$f":"VLOOKUP(Ethanol!$A50&\" Commercial Ethanol\",ConsumeBlock,Ethanol!H$7,FALSE)","v":1},{"$f":"VLOOKUP(Ethanol!$A50&\" Commercial Ethanol\",ConsumeBlock,Ethanol!I$7,FALSE)","v":1},{"$f":"VLOOKUP(Ethanol!$A50&\" Commercial Ethanol\",ConsumeBlock,Ethanol!J$7,FALSE)","v":2},{"$f":"VLOOKUP(Ethanol!$A50&\" Commercial Ethanol\",ConsumeBlock,Ethanol!K$7,FALSE)","v":2},{"$f":"VLOOKUP(Ethanol!$A50&\" Commercial Ethanol\",ConsumeBlock,Ethanol!L$7,FALSE)","v":2},{"$f":"VLOOKUP(Ethanol!$A50&\" Commercial Ethanol\",ConsumeBlock,Ethanol!M$7,FALSE)","v":5},{"$f":"VLOOKUP(Ethanol!$A50&\" Commercial Ethanol\",ConsumeBlock,Ethanol!N$7,FALSE)","v":5},{"$f":"VLOOKUP(Ethanol!$A50&\" Commercial Ethanol\",ConsumeBlock,Ethanol!O$7,FALSE)","v":2},{"$f":"VLOOKUP(Ethanol!$A50&\" Commercial Ethanol\",ConsumeBlock,Ethanol!P$7,FALSE)","v":2},{"$f":"VLOOKUP(Ethanol!$A50&\" Commercial Ethanol\",ConsumeBlock,Ethanol!Q$7,FALSE)","v":3},{"$f":"VLOOKUP(Ethanol!$A50&\" Commercial Ethanol\",ConsumeBlock,Ethanol!R$7,FALSE)","v":3},{"$f":"VLOOKUP(Ethanol!$A50&\" Commercial Ethanol\",ConsumeBlock,Ethanol!S$7,FALSE)","v":3},{"$f":"VLOOKUP(Ethanol!$A50&\" Commercial Ethanol\",ConsumeBlock,Ethanol!T$7,FALSE)","v":4},{"$f":"VLOOKUP(Ethanol!$A50&\" Commercial Ethanol\",ConsumeBlock,Ethanol!U$7,FALSE)","v":4},{"$f":"VLOOKUP(Ethanol!$A50&\" Commercial Ethanol\",ConsumeBlock,Ethanol!V$7,FALSE)","v":4},{"$f":"VLOOKUP(Ethanol!$A50&\" Commercial Ethanol\",ConsumeBlock,Ethanol!W$7,FALSE)","v":4},{"$f":"VLOOKUP(Ethanol!$A50&\" Commercial Ethanol\",ConsumeBlock,Ethanol!X$7,FALSE)","v":4},{"$f":"VLOOKUP(Ethanol!$A50&\" Commercial Ethanol\",ConsumeBlock,Ethanol!Y$7,FALSE)","v":4},{"$f":"VLOOKUP(Ethanol!$A50&\" Commercial Ethanol\",ConsumeBlock,Ethanol!Z$7,FALSE)","v":4},{"$f":"VLOOKUP(Ethanol!$A50&\" Commercial Ethanol\",ConsumeBlock,Ethanol!AA$7,FALSE)","v":47},{"$f":"VLOOKUP(Ethanol!$A50&\" Commercial Ethanol\",ConsumeBlock,Ethanol!AB$7,FALSE)","v":47},{"$f":"VLOOKUP(Ethanol!$A50&\" Commercial Ethanol\",ConsumeBlock,Ethanol!AC$7,FALSE)","v":48},{"$f":"VLOOKUP(Ethanol!$A50&\" Commercial Ethanol\",ConsumeBlock,Ethanol!AD$7,FALSE)","v":48}]
["TN",{"$f":"VLOOKUP(Ethanol!$A51&\" Commercial Ethanol\",ConsumeBlock,Ethanol!B$7,FALSE)","v":16},{"$f":"VLOOKUP(Ethanol!$A51&\" Commercial Ethanol\",ConsumeBlock,Ethanol!C$7,FALSE)","v":11},{"$f":"VLOOKUP(Ethanol!$A51&\" Commercial Ethanol\",ConsumeBlock,Ethanol!D$7,FALSE)","v":11},{"$f":"VLOOKUP(Ethanol!$A51&\" Commercial Ethanol\",ConsumeBlock,Ethanol!E$7,FALSE)","v":7},{"$f":"VLOOKUP(Ethanol!$A51&\" Commercial Ethanol\",ConsumeBlock,Ethanol!F$7,FALSE)","v":2},{"$f":"VLOOKUP(Ethanol!$A51&\" Commercial Ethanol\",ConsumeBlock,Ethanol!G$7,FALSE)","v":1},{"$f":"VLOOKUP(Ethanol!$A51&\" Commercial Ethanol\",ConsumeBlock,Ethanol!H$7,FALSE)","v":0},{"$f":"VLOOKUP(Ethanol!$A51&\" Commercial Ethanol\",ConsumeBlock,Ethanol!I$7,FALSE)","v":0},{"$f":"VLOOKUP(Ethanol!$A51&\" Commercial Ethanol\",ConsumeBlock,Ethanol!J$7,FALSE)","v":0},{"$f":"VLOOKUP(Ethanol!$A51&\" Commercial Ethanol\",ConsumeBlock,Ethanol!K$7,FALSE)","v":0},{"$f":"VLOOKUP(Ethanol!$A51&\" Commercial Ethanol\",ConsumeBlock,Ethanol!L$7,FALSE)","v":0},{"$f":"VLOOKUP(Ethanol!$A51&\" Commercial Ethanol\",ConsumeBlock,Ethanol!M$7,FALSE)","v":0},{"$f":"VLOOKUP(Ethanol!$A51&\" Commercial Ethanol\",ConsumeBlock,Ethanol!N$7,FALSE)","v":0},{"$f":"VLOOKUP(Ethanol!$A51&\" Commercial Ethanol\",ConsumeBlock,Ethanol!O$7,FALSE)","v":0},{"$f":"VLOOKUP(Ethanol!$A51&\" Commercial Ethanol\",ConsumeBlock,Ethanol!P$7,FALSE)","v":0},{"$f":"VLOOKUP(Ethanol!$A51&\" Commercial Ethanol\",ConsumeBlock,Ethanol!Q$7,FALSE)","v":9},{"$f":"VLOOKUP(Ethanol!$A51&\" Commercial Ethanol\",ConsumeBlock,Ethanol!R$7,FALSE)","v":9},{"$f":"VLOOKUP(Ethanol!$A51&\" Commercial Ethanol\",ConsumeBlock,Ethanol!S$7,FALSE)","v":12},{"$f":"VLOOKUP(Ethanol!$A51&\" Commercial Ethanol\",ConsumeBlock,Ethanol!T$7,FALSE)","v":16},{"$f":"VLOOKUP(Ethanol!$A51&\" Commercial Ethanol\",ConsumeBlock,Ethanol!U$7,FALSE)","v":19},{"$f":"VLOOKUP(Ethanol!$A51&\" Commercial Ethanol\",ConsumeBlock,Ethanol!V$7,FALSE)","v":17},{"$f":"VLOOKUP(Ethanol!$A51&\" Commercial Ethanol\",ConsumeBlock,Ethanol!W$7,FALSE)","v":18},{"$f":"VLOOKUP(Ethanol!$A51&\" Commercial Ethanol\",ConsumeBlock,Ethanol!X$7,FALSE)","v":19},{"$f":"VLOOKUP(Ethanol!$A51&\" Commercial Ethanol\",ConsumeBlock,Ethanol!Y$7,FALSE)","v":20},{"$f":"VLOOKUP(Ethanol!$A51&\" Commercial Ethanol\",ConsumeBlock,Ethanol!Z$7,FALSE)","v":19},{"$f":"VLOOKUP(Ethanol!$A51&\" Commercial Ethanol\",ConsumeBlock,Ethanol!AA$7,FALSE)","v":439},{"$f":"VLOOKUP(Ethanol!$A51&\" Commercial Ethanol\",ConsumeBlock,Ethanol!AB$7,FALSE)","v":443},{"$f":"VLOOKUP(Ethanol!$A51&\" Commercial Ethanol\",ConsumeBlock,Ethanol!AC$7,FALSE)","v":456},{"$f":"VLOOKUP(Ethanol!$A51&\" Commercial Ethanol\",ConsumeBlock,Ethanol!AD$7,FALSE)","v":459}]
["TX",{"$f":"VLOOKUP(Ethanol!$A52&\" Commercial Ethanol\",ConsumeBlock,Ethanol!B$7,FALSE)","v":23},{"$f":"VLOOKUP(Ethanol!$A52&\" Commercial Ethanol\",ConsumeBlock,Ethanol!C$7,FALSE)","v":16},{"$f":"VLOOKUP(Ethanol!$A52&\" Commercial Ethanol\",ConsumeBlock,Ethanol!D$7,FALSE)","v":16},{"$f":"VLOOKUP(Ethanol!$A52&\" Commercial Ethanol\",ConsumeBlock,Ethanol!E$7,FALSE)","v":0},{"$f":"VLOOKUP(Ethanol!$A52&\" Commercial Ethanol\",ConsumeBlock,Ethanol!F$7,FALSE)","v":1},{"$f":"VLOOKUP(Ethanol!$A52&\" Commercial Ethanol\",ConsumeBlock,Ethanol!G$7,FALSE)","v":3},{"$f":"VLOOKUP(Ethanol!$A52&\" Commercial Ethanol\",ConsumeBlock,Ethanol!H$7,FALSE)","v":1},{"$f":"VLOOKUP(Ethanol!$A52&\" Commercial Ethanol\",ConsumeBlock,Ethanol!I$7,FALSE)","v":3},{"$f":"VLOOKUP(Ethanol!$A52&\" Commercial Ethanol\",ConsumeBlock,Ethanol!J$7,FALSE)","v":4},{"$f":"VLOOKUP(Ethanol!$A52&\" Commercial Ethanol\",ConsumeBlock,Ethanol!K$7,FALSE)","v":3},{"$f":"VLOOKUP(Ethanol!$A52&\" Commercial Ethanol\",ConsumeBlock,Ethanol!L$7,FALSE)","v":4},{"$f":"VLOOKUP(Ethanol!$A52&\" Commercial Ethanol\",ConsumeBlock,Ethanol!M$7,FALSE)","v":4},{"$f":"VLOOKUP(Ethanol!$A52&\" Commercial Ethanol\",ConsumeBlock,Ethanol!N$7,FALSE)","v":2},{"$f":"VLOOKUP(Ethanol!$A52&\" Commercial Ethanol\",ConsumeBlock,Ethanol!O$7,FALSE)","v":1},{"$f":"VLOOKUP(Ethanol!$A52&\" Commercial Ethanol\",ConsumeBlock,Ethanol!P$7,FALSE)","v":1},{"$f":"VLOOKUP(Ethanol!$A52&\" Commercial Ethanol\",ConsumeBlock,Ethanol!Q$7,FALSE)","v":1},{"$f":"VLOOKUP(Ethanol!$A52&\" Commercial Ethanol\",ConsumeBlock,Ethanol!R$7,FALSE)","v":25},{"$f":"VLOOKUP(Ethanol!$A52&\" Commercial Ethanol\",ConsumeBlock,Ethanol!S$7,FALSE)","v":69},{"$f":"VLOOKUP(Ethanol!$A52&\" Commercial Ethanol\",ConsumeBlock,Ethanol!T$7,FALSE)","v":80},{"$f":"VLOOKUP(Ethanol!$A52&\" Commercial Ethanol\",ConsumeBlock,Ethanol!U$7,FALSE)","v":72},{"$f":"VLOOKUP(Ethanol!$A52&\" Commercial Ethanol\",ConsumeBlock,Ethanol!V$7,FALSE)","v":96},{"$f":"VLOOKUP(Ethanol!$A52&\" Commercial Ethanol\",ConsumeBlock,Ethanol!W$7,FALSE)","v":106},{"$f":"VLOOKUP(Ethanol!$A52&\" Commercial Ethanol\",ConsumeBlock,Ethanol!X$7,FALSE)","v":99},{"$f":"VLOOKUP(Ethanol!$A52&\" Commercial Ethanol\",ConsumeBlock,Ethanol!Y$7,FALSE)","v":100},{"$f":"VLOOKUP(Ethanol!$A52&\" Commercial Ethanol\",ConsumeBlock,Ethanol!Z$7,FALSE)","v":102},{"$f":"VLOOKUP(Ethanol!$A52&\" Commercial Ethanol\",ConsumeBlock,Ethanol!AA$7,FALSE)","v":1710},{"$f":"VLOOKUP(Ethanol!$A52&\" Commercial Ethanol\",ConsumeBlock,Ethanol!AB$7,FALSE)","v":1828},{"$f":"VLOOKUP(Ethanol!$A52&\" Commercial Ethanol\",ConsumeBlock,Ethanol!AC$7,FALSE)","v":1817},{"$f":"VLOOKUP(Ethanol!$A52&\" Commercial Ethanol\",ConsumeBlock,Ethanol!AD$7,FALSE)","v":1825}]
["UT",{"$f":"VLOOKUP(Ethanol!$A53&\" Commercial Ethanol\",ConsumeBlock,Ethanol!B$7,FALSE)","v":0},{"$f":"VLOOKUP(Ethanol!$A53&\" Commercial Ethanol\",ConsumeBlock,Ethanol!C$7,FALSE)","v":0},{"$f":"VLOOKUP(Ethanol!$A53&\" Commercial Ethanol\",ConsumeBlock,Ethanol!D$7,FALSE)","v":0},{"$f":"VLOOKUP(Ethanol!$A53&\" Commercial Ethanol\",ConsumeBlock,Ethanol!E$7,FALSE)","v":0},{"$f":"VLOOKUP(Ethanol!$A53&\" Commercial Ethanol\",ConsumeBlock,Ethanol!F$7,FALSE)","v":0},{"$f":"VLOOKUP(Ethanol!$A53&\" Commercial Ethanol\",ConsumeBlock,Ethanol!G$7,FALSE)","v":0},{"$f":"VLOOKUP(Ethanol!$A53&\" Commercial Ethanol\",ConsumeBlock,Ethanol!H$7,FALSE)","v":0},{"$f":"VLOOKUP(Ethanol!$A53&\" Commercial Ethanol\",ConsumeBlock,Ethanol!I$7,FALSE)","v":0},{"$f":"VLOOKUP(Ethanol!$A53&\" Commercial Ethanol\",ConsumeBlock,Ethanol!J$7,FALSE)","v":1},{"$f":"VLOOKUP(Ethanol!$A53&\" Commercial Ethanol\",ConsumeBlock,Ethanol!K$7,FALSE)","v":1},{"$f":"VLOOKUP(Ethanol!$A53&\" Commercial Ethanol\",ConsumeBlock,Ethanol!L$7,FALSE)","v":1},{"$f":"VLOOKUP(Ethanol!$A53&\" Commercial Ethanol\",ConsumeBlock,Ethanol!M$7,FALSE)","v":1},{"$f":"VLOOKUP(Ethanol!$A53&\" Commercial Ethanol\",ConsumeBlock,Ethanol!N$7,FALSE)","v":0},{"$f":"VLOOKUP(Ethanol!$A53&\" Commercial Ethanol\",ConsumeBlock,Ethanol!O$7,FALSE)","v":0},{"$f":"VLOOKUP(Ethanol!$A53&\" Commercial Ethanol\",ConsumeBlock,Ethanol!P$7,FALSE)","v":0},{"$f":"VLOOKUP(Ethanol!$A53&\" Commercial Ethanol\",ConsumeBlock,Ethanol!Q$7,FALSE)","v":2},{"$f":"VLOOKUP(Ethanol!$A53&\" Commercial Ethanol\",ConsumeBlock,Ethanol!R$7,FALSE)","v":2},{"$f":"VLOOKUP(Ethanol!$A53&\" Commercial Ethanol\",ConsumeBlock,Ethanol!S$7,FALSE)","v":3},{"$f":"VLOOKUP(Ethanol!$A53&\" Commercial Ethanol\",ConsumeBlock,Ethanol!T$7,FALSE)","v":4},{"$f":"VLOOKUP(Ethanol!$A53&\" Commercial Ethanol\",ConsumeBlock,Ethanol!U$7,FALSE)","v":4},{"$f":"VLOOKUP(Ethanol!$A53&\" Commercial Ethanol\",ConsumeBlock,Ethanol!V$7,FALSE)","v":5},{"$f":"VLOOKUP(Ethanol!$A53&\" Commercial Ethanol\",ConsumeBlock,Ethanol!W$7,FALSE)","v":7},{"$f":"VLOOKUP(Ethanol!$A53&\" Commercial Ethanol\",ConsumeBlock,Ethanol!X$7,FALSE)","v":7},{"$f":"VLOOKUP(Ethanol!$A53&\" Commercial Ethanol\",ConsumeBlock,Ethanol!Y$7,FALSE)","v":8},{"$f":"VLOOKUP(Ethanol!$A53&\" Commercial Ethanol\",ConsumeBlock,Ethanol!Z$7,FALSE)","v":7},{"$f":"VLOOKUP(Ethanol!$A53&\" Commercial Ethanol\",ConsumeBlock,Ethanol!AA$7,FALSE)","v":140},{"$f":"VLOOKUP(Ethanol!$A53&\" Commercial Ethanol\",ConsumeBlock,Ethanol!AB$7,FALSE)","v":151},{"$f":"VLOOKUP(Ethanol!$A53&\" Commercial Ethanol\",ConsumeBlock,Ethanol!AC$7,FALSE)","v":154},{"$f":"VLOOKUP(Ethanol!$A53&\" Commercial Ethanol\",ConsumeBlock,Ethanol!AD$7,FALSE)","v":156}]
["VT",{"$f":"VLOOKUP(Ethanol!$A54&\" Commercial Ethanol\",ConsumeBlock,Ethanol!B$7,FALSE)","v":0},{"$f":"VLOOKUP(Ethanol!$A54&\" Commercial Ethanol\",ConsumeBlock,Ethanol!C$7,FALSE)","v":0},{"$f":"VLOOKUP(Ethanol!$A54&\" Commercial Ethanol\",ConsumeBlock,Ethanol!D$7,FALSE)","v":0},{"$f":"VLOOKUP(Ethanol!$A54&\" Commercial Ethanol\",ConsumeBlock,Ethanol!E$7,FALSE)","v":0},{"$f":"VLOOKUP(Ethanol!$A54&\" Commercial Ethanol\",ConsumeBlock,Ethanol!F$7,FALSE)","v":0},{"$f":"VLOOKUP(Ethanol!$A54&\" Commercial Ethanol\",ConsumeBlock,Ethanol!G$7,FALSE)","v":0},{"$f":"VLOOKUP(Ethanol!$A54&\" Commercial Ethanol\",ConsumeBlock,Ethanol!H$7,FALSE)","v":0},{"$f":"VLOOKUP(Ethanol!$A54&\" Commercial Ethanol\",ConsumeBlock,Ethanol!I$7,FALSE)","v":0},{"$f":"VLOOKUP(Ethanol!$A54&\" Commercial Ethanol\",ConsumeBlock,Ethanol!J$7,FALSE)","v":0},{"$f":"VLOOKUP(Ethanol!$A54&\" Commercial Ethanol\",ConsumeBlock,Ethanol!K$7,FALSE)","v":0},{"$f":"VLOOKUP(Ethanol!$A54&\" Commercial Ethanol\",ConsumeBlock,Ethanol!L$7,FALSE)","v":0},{"$f":"VLOOKUP(Ethanol!$A54&\" Commercial Ethanol\",ConsumeBlock,Ethanol!M$7,FALSE)","v":0},{"$f":"VLOOKUP(Ethanol!$A54&\" Commercial Ethanol\",ConsumeBlock,Ethanol!N$7,FALSE)","v":0},{"$f":"VLOOKUP(Ethanol!$A54&\" Commercial Ethanol\",ConsumeBlock,Ethanol!O$7,FALSE)","v":0},{"$f":"VLOOKUP(Ethanol!$A54&\" Commercial Ethanol\",ConsumeBlock,Ethanol!P$7,FALSE)","v":0},{"$f":"VLOOKUP(Ethanol!$A54&\" Commercial Ethanol\",ConsumeBlock,Ethanol!Q$7,FALSE)","v":0},{"$f":"VLOOKUP(Ethanol!$A54&\" Commercial Ethanol\",ConsumeBlock,Ethanol!R$7,FALSE)","v":0},{"$f":"VLOOKUP(Ethanol!$A54&\" Commercial Ethanol\",ConsumeBlock,Ethanol!S$7,FALSE)","v":0},{"$f":"VLOOKUP(Ethanol!$A54&\" Commercial Ethanol\",ConsumeBlock,Ethanol!T$7,FALSE)","v":2},{"$f":"VLOOKUP(Ethanol!$A54&\" Commercial Ethanol\",ConsumeBlock,Ethanol!U$7,FALSE)","v":2},{"$f":"VLOOKUP(Ethanol!$A54&\" Commercial Ethanol\",ConsumeBlock,Ethanol!V$7,FALSE)","v":2},{"$f":"VLOOKUP(Ethanol!$A54&\" Commercial Ethanol\",ConsumeBlock,Ethanol!W$7,FALSE)","v":2},{"$f":"VLOOKUP(Ethanol!$A54&\" Commercial Ethanol\",ConsumeBlock,Ethanol!X$7,FALSE)","v":2},{"$f":"VLOOKUP(Ethanol!$A54&\" Commercial Ethanol\",ConsumeBlock,Ethanol!Y$7,FALSE)","v":2},{"$f":"VLOOKUP(Ethanol!$A54&\" Commercial Ethanol\",ConsumeBlock,Ethanol!Z$7,FALSE)","v":2},{"$f":"VLOOKUP(Ethanol!$A54&\" Commercial Ethanol\",ConsumeBlock,Ethanol!AA$7,FALSE)","v":42},{"$f":"VLOOKUP(Ethanol!$A54&\" Commercial Ethanol\",ConsumeBlock,Ethanol!AB$7,FALSE)","v":44},{"$f":"VLOOKUP(Ethanol!$A54&\" Commercial Ethanol\",ConsumeBlock,Ethanol!AC$7,FALSE)","v":45},{"$f":"VLOOKUP(Ethanol!$A54&\" Commercial Ethanol\",ConsumeBlock,Ethanol!AD$7,FALSE)","v":48}]
["VA",{"$f":"VLOOKUP(Ethanol!$A55&\" Commercial Ethanol\",ConsumeBlock,Ethanol!B$7,FALSE)","v":9},{"$f":"VLOOKUP(Ethanol!$A55&\" Commercial Ethanol\",ConsumeBlock,Ethanol!C$7,FALSE)","v":6},{"$f":"VLOOKUP(Ethanol!$A55&\" Commercial Ethanol\",ConsumeBlock,Ethanol!D$7,FALSE)","v":5},{"$f":"VLOOKUP(Ethanol!$A55&\" Commercial Ethanol\",ConsumeBlock,Ethanol!E$7,FALSE)","v":0},{"$f":"VLOOKUP(Ethanol!$A55&\" Commercial Ethanol\",ConsumeBlock,Ethanol!F$7,FALSE)","v":2},{"$f":"VLOOKUP(Ethanol!$A55&\" Commercial Ethanol\",ConsumeBlock,Ethanol!G$7,FALSE)","v":0},{"$f":"VLOOKUP(Ethanol!$A55&\" Commercial Ethanol\",ConsumeBlock,Ethanol!H$7,FALSE)","v":5},{"$f":"VLOOKUP(Ethanol!$A55&\" Commercial Ethanol\",ConsumeBlock,Ethanol!I$7,FALSE)","v":4},{"$f":"VLOOKUP(Ethanol!$A55&\" Commercial Ethanol\",ConsumeBlock,Ethanol!J$7,FALSE)","v":5},{"$f":"VLOOKUP(Ethanol!$A55&\" Commercial Ethanol\",ConsumeBlock,Ethanol!K$7,FALSE)","v":5},{"$f":"VLOOKUP(Ethanol!$A55&\" Commercial Ethanol\",ConsumeBlock,Ethanol!L$7,FALSE)","v":4},{"$f":"VLOOKUP(Ethanol!$A55&\" Commercial Ethanol\",ConsumeBlock,Ethanol!M$7,FALSE)","v":4},{"$f":"VLOOKUP(Ethanol!$A55&\" Commercial Ethanol\",ConsumeBlock,Ethanol!N$7,FALSE)","v":7},{"$f":"VLOOKUP(Ethanol!$A55&\" Commercial Ethanol\",ConsumeBlock,Ethanol!O$7,FALSE)","v":9},{"$f":"VLOOKUP(Ethanol!$A55&\" Commercial Ethanol\",ConsumeBlock,Ethanol!P$7,FALSE)","v":9},{"$f":"VLOOKUP(Ethanol!$A55&\" Commercial Ethanol\",ConsumeBlock,Ethanol!Q$7,FALSE)","v":7},{"$f":"VLOOKUP(Ethanol!$A55&\" Commercial Ethanol\",ConsumeBlock,Ethanol!R$7,FALSE)","v":15},{"$f":"VLOOKUP(Ethanol!$A55&\" Commercial Ethanol\",ConsumeBlock,Ethanol!S$7,FALSE)","v":22},{"$f":"VLOOKUP(Ethanol!$A55&\" Commercial Ethanol\",ConsumeBlock,Ethanol!T$7,FALSE)","v":25},{"$f":"VLOOKUP(Ethanol!$A55&\" Commercial Ethanol\",ConsumeBlock,Ethanol!U$7,FALSE)","v":31},{"$f":"VLOOKUP(Ethanol!$A55&\" Commercial Ethanol\",ConsumeBlock,Ethanol!V$7,FALSE)","v":28},{"$f":"VLOOKUP(Ethanol!$A55&\" Commercial Ethanol\",ConsumeBlock,Ethanol!W$7,FALSE)","v":36},{"$f":"VLOOKUP(Ethanol!$A55&\" Commercial Ethanol\",ConsumeBlock,Ethanol!X$7,FALSE)","v":33},{"$f":"VLOOKUP(Ethanol!$A55&\" Commercial Ethanol\",ConsumeBlock,Ethanol!Y$7,FALSE)","v":32},{"$f":"VLOOKUP(Ethanol!$A55&\" Commercial Ethanol\",ConsumeBlock,Ethanol!Z$7,FALSE)","v":34},{"$f":"VLOOKUP(Ethanol!$A55&\" Commercial Ethanol\",ConsumeBlock,Ethanol!AA$7,FALSE)","v":766},{"$f":"VLOOKUP(Ethanol!$A55&\" Commercial Ethanol\",ConsumeBlock,Ethanol!AB$7,FALSE)","v":782},{"$f":"VLOOKUP(Ethanol!$A55&\" Commercial Ethanol\",ConsumeBlock,Ethanol!AC$7,FALSE)","v":794},{"$f":"VLOOKUP(Ethanol!$A55&\" Commercial Ethanol\",ConsumeBlock,Ethanol!AD$7,FALSE)","v":815}]
["WA",{"$f":"VLOOKUP(Ethanol!$A56&\" Commercial Ethanol\",ConsumeBlock,Ethanol!B$7,FALSE)","v":4},{"$f":"VLOOKUP(Ethanol!$A56&\" Commercial Ethanol\",ConsumeBlock,Ethanol!C$7,FALSE)","v":3},{"$f":"VLOOKUP(Ethanol!$A56&\" Commercial Ethanol\",ConsumeBlock,Ethanol!D$7,FALSE)","v":9},{"$f":"VLOOKUP(Ethanol!$A56&\" Commercial Ethanol\",ConsumeBlock,Ethanol!E$7,FALSE)","v":6},{"$f":"VLOOKUP(Ethanol!$A56&\" Commercial Ethanol\",ConsumeBlock,Ethanol!F$7,FALSE)","v":7},{"$f":"VLOOKUP(Ethanol!$A56&\" Commercial Ethanol\",ConsumeBlock,Ethanol!G$7,FALSE)","v":3},{"$f":"VLOOKUP(Ethanol!$A56&\" Commercial Ethanol\",ConsumeBlock,Ethanol!H$7,FALSE)","v":1},{"$f":"VLOOKUP(Ethanol!$A56&\" Commercial Ethanol\",ConsumeBlock,Ethanol!I$7,FALSE)","v":2},{"$f":"VLOOKUP(Ethanol!$A56&\" Commercial Ethanol\",ConsumeBlock,Ethanol!J$7,FALSE)","v":3},{"$f":"VLOOKUP(Ethanol!$A56&\" Commercial Ethanol\",ConsumeBlock,Ethanol!K$7,FALSE)","v":12},{"$f":"VLOOKUP(Ethanol!$A56&\" Commercial Ethanol\",ConsumeBlock,Ethanol!L$7,FALSE)","v":12},{"$f":"VLOOKUP(Ethanol!$A56&\" Commercial Ethanol\",ConsumeBlock,Ethanol!M$7,FALSE)","v":5},{"$f":"VLOOKUP(Ethanol!$A56&\" Commercial Ethanol\",ConsumeBlock,Ethanol!N$7,FALSE)","v":17},{"$f":"VLOOKUP(Ethanol!$A56&\" Commercial Ethanol\",ConsumeBlock,Ethanol!O$7,FALSE)","v":7},{"$f":"VLOOKUP(Ethanol!$A56&\" Commercial Ethanol\",ConsumeBlock,Ethanol!P$7,FALSE)","v":2},{"$f":"VLOOKUP(Ethanol!$A56&\" Commercial Ethanol\",ConsumeBlock,Ethanol!Q$7,FALSE)","v":15},{"$f":"VLOOKUP(Ethanol!$A56&\" Commercial Ethanol\",ConsumeBlock,Ethanol!R$7,FALSE)","v":17},{"$f":"VLOOKUP(Ethanol!$A56&\" Commercial Ethanol\",ConsumeBlock,Ethanol!S$7,FALSE)","v":26},{"$f":"VLOOKUP(Ethanol!$A56&\" Commercial Ethanol\",ConsumeBlock,Ethanol!T$7,FALSE)","v":45},{"$f":"VLOOKUP(Ethanol!$A56&\" Commercial Ethanol\",ConsumeBlock,Ethanol!U$7,FALSE)","v":45},{"$f":"VLOOKUP(Ethanol!$A56&\" Commercial Ethanol\",ConsumeBlock,Ethanol!V$7,FALSE)","v":27},{"$f":"VLOOKUP(Ethanol!$A56&\" Commercial Ethanol\",ConsumeBlock,Ethanol!W$7,FALSE)","v":30},{"$f":"VLOOKUP(Ethanol!$A56&\" Commercial Ethanol\",ConsumeBlock,Ethanol!X$7,FALSE)","v":40},{"$f":"VLOOKUP(Ethanol!$A56&\" Commercial Ethanol\",ConsumeBlock,Ethanol!Y$7,FALSE)","v":47},{"$f":"VLOOKUP(Ethanol!$A56&\" Commercial Ethanol\",ConsumeBlock,Ethanol!Z$7,FALSE)","v":43},{"$f":"VLOOKUP(Ethanol!$A56&\" Commercial Ethanol\",ConsumeBlock,Ethanol!AA$7,FALSE)","v":574},{"$f":"VLOOKUP(Ethanol!$A56&\" Commercial Ethanol\",ConsumeBlock,Ethanol!AB$7,FALSE)","v":650},{"$f":"VLOOKUP(Ethanol!$A56&\" Commercial Ethanol\",ConsumeBlock,Ethanol!AC$7,FALSE)","v":564},{"$f":"VLOOKUP(Ethanol!$A56&\" Commercial Ethanol\",ConsumeBlock,Ethanol!AD$7,FALSE)","v":573}]
["WV",{"$f":"VLOOKUP(Ethanol!$A57&\" Commercial Ethanol\",ConsumeBlock,Ethanol!B$7,FALSE)","v":0},{"$f":"VLOOKUP(Ethanol!$A57&\" Commercial Ethanol\",ConsumeBlock,Ethanol!C$7,FALSE)","v":0},{"$f":"VLOOKUP(Ethanol!$A57&\" Commercial Ethanol\",ConsumeBlock,Ethanol!D$7,FALSE)","v":4},{"$f":"VLOOKUP(Ethanol!$A57&\" Commercial Ethanol\",ConsumeBlock,Ethanol!E$7,FALSE)","v":0},{"$f":"VLOOKUP(Ethanol!$A57&\" Commercial Ethanol\",ConsumeBlock,Ethanol!F$7,FALSE)","v":0},{"$f":"VLOOKUP(Ethanol!$A57&\" Commercial Ethanol\",ConsumeBlock,Ethanol!G$7,FALSE)","v":0},{"$f":"VLOOKUP(Ethanol!$A57&\" Commercial Ethanol\",ConsumeBlock,Ethanol!H$7,FALSE)","v":0},{"$f":"VLOOKUP(Ethanol!$A57&\" Commercial Ethanol\",ConsumeBlock,Ethanol!I$7,FALSE)","v":0},{"$f":"VLOOKUP(Ethanol!$A57&\" Commercial Ethanol\",ConsumeBlock,Ethanol!J$7,FALSE)","v":0},{"$f":"VLOOKUP(Ethanol!$A57&\" Commercial Ethanol\",ConsumeBlock,Ethanol!K$7,FALSE)","v":0},{"$f":"VLOOKUP(Ethanol!$A57&\" Commercial Ethanol\",ConsumeBlock,Ethanol!L$7,FALSE)","v":0},{"$f":"VLOOKUP(Ethanol!$A57&\" Commercial Ethanol\",ConsumeBlock,Ethanol!M$7,FALSE)","v":0},{"$f":"VLOOKUP(Ethanol!$A57&\" Commercial Ethanol\",ConsumeBlock,Ethanol!N$7,FALSE)","v":1},{"$f":"VLOOKUP(Ethanol!$A57&\" Commercial Ethanol\",ConsumeBlock,Ethanol!O$7,FALSE)","v":1},{"$f":"VLOOKUP(Ethanol!$A57&\" Commercial Ethanol\",ConsumeBlock,Ethanol!P$7,FALSE)","v":2},{"$f":"VLOOKUP(Ethanol!$A57&\" Commercial Ethanol\",ConsumeBlock,Ethanol!Q$7,FALSE)","v":1},{"$f":"VLOOKUP(Ethanol!$A57&\" Commercial Ethanol\",ConsumeBlock,Ethanol!R$7,FALSE)","v":1},{"$f":"VLOOKUP(Ethanol!$A57&\" Commercial Ethanol\",ConsumeBlock,Ethanol!S$7,FALSE)","v":1},{"$f":"VLOOKUP(Ethanol!$A57&\" Commercial Ethanol\",ConsumeBlock,Ethanol!T$7,FALSE)","v":7},{"$f":"VLOOKUP(Ethanol!$A57&\" Commercial Ethanol\",ConsumeBlock,Ethanol!U$7,FALSE)","v":8},{"$f":"VLOOKUP(Ethanol!$A57&\" Commercial Ethanol\",ConsumeBlock,Ethanol!V$7,FALSE)","v":8},{"$f":"VLOOKUP(Ethanol!$A57&\" Commercial Ethanol\",ConsumeBlock,Ethanol!W$7,FALSE)","v":9},{"$f":"VLOOKUP(Ethanol!$A57&\" Commercial Ethanol\",ConsumeBlock,Ethanol!X$7,FALSE)","v":8},{"$f":"VLOOKUP(Ethanol!$A57&\" Commercial Ethanol\",ConsumeBlock,Ethanol!Y$7,FALSE)","v":9},{"$f":"VLOOKUP(Ethanol!$A57&\" Commercial Ethanol\",ConsumeBlock,Ethanol!Z$7,FALSE)","v":8},{"$f":"VLOOKUP(Ethanol!$A57&\" Commercial Ethanol\",ConsumeBlock,Ethanol!AA$7,FALSE)","v":116},{"$f":"VLOOKUP(Ethanol!$A57&\" Commercial Ethanol\",ConsumeBlock,Ethanol!AB$7,FALSE)","v":123},{"$f":"VLOOKUP(Ethanol!$A57&\" Commercial Ethanol\",ConsumeBlock,Ethanol!AC$7,FALSE)","v":123},{"$f":"VLOOKUP(Ethanol!$A57&\" Commercial Ethanol\",ConsumeBlock,Ethanol!AD$7,FALSE)","v":129}]
["WI",{"$f":"VLOOKUP(Ethanol!$A58&\" Commercial Ethanol\",ConsumeBlock,Ethanol!B$7,FALSE)","v":4},{"$f":"VLOOKUP(Ethanol!$A58&\" Commercial Ethanol\",ConsumeBlock,Ethanol!C$7,FALSE)","v":8},{"$f":"VLOOKUP(Ethanol!$A58&\" Commercial Ethanol\",ConsumeBlock,Ethanol!D$7,FALSE)","v":6},{"$f":"VLOOKUP(Ethanol!$A58&\" Commercial Ethanol\",ConsumeBlock,Ethanol!E$7,FALSE)","v":1},{"$f":"VLOOKUP(Ethanol!$A58&\" Commercial Ethanol\",ConsumeBlock,Ethanol!F$7,FALSE)","v":2},{"$f":"VLOOKUP(Ethanol!$A58&\" Commercial Ethanol\",ConsumeBlock,Ethanol!G$7,FALSE)","v":3},{"$f":"VLOOKUP(Ethanol!$A58&\" Commercial Ethanol\",ConsumeBlock,Ethanol!H$7,FALSE)","v":7},{"$f":"VLOOKUP(Ethanol!$A58&\" Commercial Ethanol\",ConsumeBlock,Ethanol!I$7,FALSE)","v":5},{"$f":"VLOOKUP(Ethanol!$A58&\" Commercial Ethanol\",ConsumeBlock,Ethanol!J$7,FALSE)","v":3},{"$f":"VLOOKUP(Ethanol!$A58&\" Commercial Ethanol\",ConsumeBlock,Ethanol!K$7,FALSE)","v":3},{"$f":"VLOOKUP(Ethanol!$A58&\" Commercial Ethanol\",ConsumeBlock,Ethanol!L$7,FALSE)","v":4},{"$f":"VLOOKUP(Ethanol!$A58&\" Commercial Ethanol\",ConsumeBlock,Ethanol!M$7,FALSE)","v":9},{"$f":"VLOOKUP(Ethanol!$A58&\" Commercial Ethanol\",ConsumeBlock,Ethanol!N$7,FALSE)","v":15},{"$f":"VLOOKUP(Ethanol!$A58&\" Commercial Ethanol\",ConsumeBlock,Ethanol!O$7,FALSE)","v":12},{"$f":"VLOOKUP(Ethanol!$A58&\" Commercial Ethanol\",ConsumeBlock,Ethanol!P$7,FALSE)","v":12},{"$f":"VLOOKUP(Ethanol!$A58&\" Commercial Ethanol\",ConsumeBlock,Ethanol!Q$7,FALSE)","v":20},{"$f":"VLOOKUP(Ethanol!$A58&\" Commercial Ethanol\",ConsumeBlock,Ethanol!R$7,FALSE)","v":12},{"$f":"VLOOKUP(Ethanol!$A58&\" Commercial Ethanol\",ConsumeBlock,Ethanol!S$7,FALSE)","v":14},{"$f":"VLOOKUP(Ethanol!$A58&\" Commercial Ethanol\",ConsumeBlock,Ethanol!T$7,FALSE)","v":18},{"$f":"VLOOKUP(Ethanol!$A58&\" Commercial Ethanol\",ConsumeBlock,Ethanol!U$7,FALSE)","v":18},{"$f":"VLOOKUP(Ethanol!$A58&\" Commercial Ethanol\",ConsumeBlock,Ethanol!V$7,FALSE)","v":20},{"$f":"VLOOKUP(Ethanol!$A58&\" Commercial Ethanol\",ConsumeBlock,Ethanol!W$7,FALSE)","v":19},{"$f":"VLOOKUP(Ethanol!$A58&\" Commercial Ethanol\",ConsumeBlock,Ethanol!X$7,FALSE)","v":19},{"$f":"VLOOKUP(Ethanol!$A58&\" Commercial Ethanol\",ConsumeBlock,Ethanol!Y$7,FALSE)","v":20},{"$f":"VLOOKUP(Ethanol!$A58&\" Commercial Ethanol\",ConsumeBlock,Ethanol!Z$7,FALSE)","v":19},{"$f":"VLOOKUP(Ethanol!$A58&\" Commercial Ethanol\",ConsumeBlock,Ethanol!AA$7,FALSE)","v":417},{"$f":"VLOOKUP(Ethanol!$A58&\" Commercial Ethanol\",ConsumeBlock,Ethanol!AB$7,FALSE)","v":417},{"$f":"VLOOKUP(Ethanol!$A58&\" Commercial Ethanol\",ConsumeBlock,Ethanol!AC$7,FALSE)","v":425},{"$f":"VLOOKUP(Ethanol!$A58&\" Commercial Ethanol\",ConsumeBlock,Ethanol!AD$7,FALSE)","v":424}]
["WY",{"$f":"VLOOKUP(Ethanol!$A59&\" Commercial Ethanol\",ConsumeBlock,Ethanol!B$7,FALSE)","v":1},{"$f":"VLOOKUP(Ethanol!$A59&\" Commercial Ethanol\",ConsumeBlock,Ethanol!C$7,FALSE)","v":3},{"$f":"VLOOKUP(Ethanol!$A59&\" Commercial Ethanol\",ConsumeBlock,Ethanol!D$7,FALSE)","v":5},{"$f":"VLOOKUP(Ethanol!$A59&\" Commercial Ethanol\",ConsumeBlock,Ethanol!E$7,FALSE)","v":1},{"$f":"VLOOKUP(Ethanol!$A59&\" Commercial Ethanol\",ConsumeBlock,Ethanol!F$7,FALSE)","v":1},{"$f":"VLOOKUP(Ethanol!$A59&\" Commercial Ethanol\",ConsumeBlock,Ethanol!G$7,FALSE)","v":0},{"$f":"VLOOKUP(Ethanol!$A59&\" Commercial Ethanol\",ConsumeBlock,Ethanol!H$7,FALSE)","v":1},{"$f":"VLOOKUP(Ethanol!$A59&\" Commercial Ethanol\",ConsumeBlock,Ethanol!I$7,FALSE)","v":0},{"$f":"VLOOKUP(Ethanol!$A59&\" Commercial Ethanol\",ConsumeBlock,Ethanol!J$7,FALSE)","v":0},{"$f":"VLOOKUP(Ethanol!$A59&\" Commercial Ethanol\",ConsumeBlock,Ethanol!K$7,FALSE)","v":0},{"$f":"VLOOKUP(Ethanol!$A59&\" Commercial Ethanol\",ConsumeBlock,Ethanol!L$7,FALSE)","v":0},{"$f":"VLOOKUP(Ethanol!$A59&\" Commercial Ethanol\",ConsumeBlock,Ethanol!M$7,FALSE)","v":0},{"$f":"VLOOKUP(Ethanol!$A59&\" Commercial Ethanol\",ConsumeBlock,Ethanol!N$7,FALSE)","v":0},{"$f":"VLOOKUP(Ethanol!$A59&\" Commercial Ethanol\",ConsumeBlock,Ethanol!O$7,FALSE)","v":0},{"$f":"VLOOKUP(Ethanol!$A59&\" Commercial Ethanol\",ConsumeBlock,Ethanol!P$7,FALSE)","v":0},{"$f":"VLOOKUP(Ethanol!$A59&\" Commercial Ethanol\",ConsumeBlock,Ethanol!Q$7,FALSE)","v":21},{"$f":"VLOOKUP(Ethanol!$A59&\" Commercial Ethanol\",ConsumeBlock,Ethanol!R$7,FALSE)","v":23},{"$f":"VLOOKUP(Ethanol!$A59&\" Commercial Ethanol\",ConsumeBlock,Ethanol!S$7,FALSE)","v":49},{"$f":"VLOOKUP(Ethanol!$A59&\" Commercial Ethanol\",ConsumeBlock,Ethanol!T$7,FALSE)","v":50},{"$f":"VLOOKUP(Ethanol!$A59&\" Commercial Ethanol\",ConsumeBlock,Ethanol!U$7,FALSE)","v":51},{"$f":"VLOOKUP(Ethanol!$A59&\" Commercial Ethanol\",ConsumeBlock,Ethanol!V$7,FALSE)","v":58},{"$f":"VLOOKUP(Ethanol!$A59&\" Commercial Ethanol\",ConsumeBlock,Ethanol!W$7,FALSE)","v":160},{"$f":"VLOOKUP(Ethanol!$A59&\" Commercial Ethanol\",ConsumeBlock,Ethanol!X$7,FALSE)","v":102},{"$f":"VLOOKUP(Ethanol!$A59&\" Commercial Ethanol\",ConsumeBlock,Ethanol!Y$7,FALSE)","v":112},{"$f":"VLOOKUP(Ethanol!$A59&\" Commercial Ethanol\",ConsumeBlock,Ethanol!Z$7,FALSE)","v":90},{"$f":"VLOOKUP(Ethanol!$A59&\" Commercial Ethanol\",ConsumeBlock,Ethanol!AA$7,FALSE)","v":151},{"$f":"VLOOKUP(Ethanol!$A59&\" Commercial Ethanol\",ConsumeBlock,Ethanol!AB$7,FALSE)","v":138},{"$f":"VLOOKUP(Ethanol!$A59&\" Commercial Ethanol\",ConsumeBlock,Ethanol!AC$7,FALSE)","v":31},{"$f":"VLOOKUP(Ethanol!$A59&\" Commercial Ethanol\",ConsumeBlock,Ethanol!AD$7,FALSE)","v":34}]
["US",{"$f":"VLOOKUP(Ethanol!$A60&\" Commercial Ethanol\",ConsumeBlock,Ethanol!B$7,FALSE)","v":506},{"$f":"VLOOKUP(Ethanol!$A60&\" Commercial Ethanol\",ConsumeBlock,Ethanol!C$7,FALSE)","v":483},{"$f":"VLOOKUP(Ethanol!$A60&\" Commercial Ethanol\",ConsumeBlock,Ethanol!D$7,FALSE)","v":480},{"$f":"VLOOKUP(Ethanol!$A60&\" Commercial Ethanol\",ConsumeBlock,Ethanol!E$7,FALSE)","v":293},{"$f":"VLOOKUP(Ethanol!$A60&\" Commercial Ethanol\",ConsumeBlock,Ethanol!F$7,FALSE)","v":218},{"$f":"VLOOKUP(Ethanol!$A60&\" Commercial Ethanol\",ConsumeBlock,Ethanol!G$7,FALSE)","v":176},{"$f":"VLOOKUP(Ethanol!$A60&\" Commercial Ethanol\",ConsumeBlock,Ethanol!H$7,FALSE)","v":206},{"$f":"VLOOKUP(Ethanol!$A60&\" Commercial Ethanol\",ConsumeBlock,Ethanol!I$7,FALSE)","v":672},{"$f":"VLOOKUP(Ethanol!$A60&\" Commercial Ethanol\",ConsumeBlock,Ethanol!J$7,FALSE)","v":618},{"$f":"VLOOKUP(Ethanol!$A60&\" Commercial Ethanol\",ConsumeBlock,Ethanol!K$7,FALSE)","v":259},{"$f":"VLOOKUP(Ethanol!$A60&\" Commercial Ethanol\",ConsumeBlock,Ethanol!L$7,FALSE)","v":402},{"$f":"VLOOKUP(Ethanol!$A60&\" Commercial Ethanol\",ConsumeBlock,Ethanol!M$7,FALSE)","v":420},{"$f":"VLOOKUP(Ethanol!$A60&\" Commercial Ethanol\",ConsumeBlock,Ethanol!N$7,FALSE)","v":540},{"$f":"VLOOKUP(Ethanol!$A60&\" Commercial Ethanol\",ConsumeBlock,Ethanol!O$7,FALSE)","v":1088},{"$f":"VLOOKUP(Ethanol!$A60&\" Commercial Ethanol\",ConsumeBlock,Ethanol!P$7,FALSE)","v":903},{"$f":"VLOOKUP(Ethanol!$A60&\" Commercial Ethanol\",ConsumeBlock,Ethanol!Q$7,FALSE)","v":586},{"$f":"VLOOKUP(Ethanol!$A60&\" Commercial Ethanol\",ConsumeBlock,Ethanol!R$7,FALSE)","v":1109},{"$f":"VLOOKUP(Ethanol!$A60&\" Commercial Ethanol\",ConsumeBlock,Ethanol!S$7,FALSE)","v":1349},{"$f":"VLOOKUP(Ethanol!$A60&\" Commercial Ethanol\",ConsumeBlock,Ethanol!T$7,FALSE)","v":2099},{"$f":"VLOOKUP(Ethanol!$A60&\" Commercial Ethanol\",ConsumeBlock,Ethanol!U$7,FALSE)","v":2802},{"$f":"VLOOKUP(Ethanol!$A60&\" Commercial Ethanol\",ConsumeBlock,Ethanol!V$7,FALSE)","v":3259},{"$f":"VLOOKUP(Ethanol!$A60&\" Commercial Ethanol\",ConsumeBlock,Ethanol!W$7,FALSE)","v":2863},{"$f":"VLOOKUP(Ethanol!$A60&\" Commercial Ethanol\",ConsumeBlock,Ethanol!X$7,FALSE)","v":2552},{"$f":"VLOOKUP(Ethanol!$A60&\" Commercial Ethanol\",ConsumeBlock,Ethanol!Y$7,FALSE)","v":2639},{"$f":"VLOOKUP(Ethanol!$A60&\" Commercial Ethanol\",ConsumeBlock,Ethanol!Z$7,FALSE)","v":3706},{"$f":"VLOOKUP(Ethanol!$A60&\" Commercial Ethanol\",ConsumeBlock,Ethanol!AA$7,FALSE)","v":25701},{"$f":"VLOOKUP(Ethanol!$A60&\" Commercial Ethanol\",ConsumeBlock,Ethanol!AB$7,FALSE)","v":25772},{"$f":"VLOOKUP(Ethanol!$A60&\" Commercial Ethanol\",ConsumeBlock,Ethanol!AC$7,FALSE)","v":25129},{"$f":"VLOOKUP(Ethanol!$A60&\" Commercial Ethanol\",ConsumeBlock,Ethanol!AD$7,FALSE)","v":25495}]
[]
[]
[]
["Industrial Ethanol"]
["BBtu",2,3,4,5,6,7,8,9,10,11,12,13,14,15,16,17,18,19,20,21,22,23,24,25,26,27,28,29,30,31,32]
["State",1990,1991,1992,1993,1994,1995,1996,1997,1998,1999,2000,2001,2002,2003,2004,2005,2006,2007,2008,2009,2010,2011,2012,2013,2014,2015,2016,2017,2018,2019,2020]
["AL",{"$f":"VLOOKUP(Ethanol!$A67&\" Industrial Ethanol\",ConsumeBlock,Ethanol!B$65,FALSE)","v":15},{"$f":"VLOOKUP(Ethanol!$A67&\" Industrial Ethanol\",ConsumeBlock,Ethanol!C$65,FALSE)","v":13},{"$f":"VLOOKUP(Ethanol!$A67&\" Industrial Ethanol\",ConsumeBlock,Ethanol!D$65,FALSE)","v":22},{"$f":"VLOOKUP(Ethanol!$A67&\" Industrial Ethanol\",ConsumeBlock,Ethanol!E$65,FALSE)","v":15},{"$f":"VLOOKUP(Ethanol!$A67&\" Industrial Ethanol\",ConsumeBlock,Ethanol!F$65,FALSE)","v":18},{"$f":"VLOOKUP(Ethanol!$A67&\" Industrial Ethanol\",ConsumeBlock,Ethanol!G$65,FALSE)","v":24},{"$f":"VLOOKUP(Ethanol!$A67&\" Industrial Ethanol\",ConsumeBlock,Ethanol!H$65,FALSE)","v":4},{"$f":"VLOOKUP(Ethanol!$A67&\" Industrial Ethanol\",ConsumeBlock,Ethanol!I$65,FALSE)","v":4},{"$f":"VLOOKUP(Ethanol!$A67&\" Industrial Ethanol\",ConsumeBlock,Ethanol!J$65,FALSE)","v":3},{"$f":"VLOOKUP(Ethanol!$A67&\" Industrial Ethanol\",ConsumeBlock,Ethanol!K$65,FALSE)","v":0},{"$f":"VLOOKUP(Ethanol!$A67&\" Industrial Ethanol\",ConsumeBlock,Ethanol!L$65,FALSE)","v":0},{"$f":"VLOOKUP(Ethanol!$A67&\" Industrial Ethanol\",ConsumeBlock,Ethanol!M$65,FALSE)","v":22},{"$f":"VLOOKUP(Ethanol!$A67&\" Industrial Ethanol\",ConsumeBlock,Ethanol!N$65,FALSE)","v":15},{"$f":"VLOOKUP(Ethanol!$A67&\" Industrial Ethanol\",ConsumeBlock,Ethanol!O$65,FALSE)","v":24},{"$f":"VLOOKUP(Ethanol!$A67&\" Industrial Ethanol\",ConsumeBlock,Ethanol!P$65,FALSE)","v":52},{"$f":"VLOOKUP(Ethanol!$A67&\" Industrial Ethanol\",ConsumeBlock,Ethanol!Q$65,FALSE)","v":3},{"$f":"VLOOKUP(Ethanol!$A67&\" Industrial Ethanol\",ConsumeBlock,Ethanol!R$65,FALSE)","v":3},{"$f":"VLOOKUP(Ethanol!$A67&\" Industrial Ethanol\",ConsumeBlock,Ethanol!S$65,FALSE)","v":8},{"$f":"VLOOKUP(Ethanol!$A67&\" Industrial Ethanol\",ConsumeBlock,Ethanol!T$65,FALSE)","v":61},{"$f":"VLOOKUP(Ethanol!$A67&\" Industrial Ethanol\",ConsumeBlock,Ethanol!U$65,FALSE)","v":145},{"$f":"VLOOKUP(Ethanol!$A67&\" Industrial Ethanol\",ConsumeBlock,Ethanol!V$65,FALSE)","v":242},{"$f":"VLOOKUP(Ethanol!$A67&\" Industrial Ethanol\",ConsumeBlock,Ethanol!W$65,FALSE)","v":228},{"$f":"VLOOKUP(Ethanol!$A67&\" Industrial Ethanol\",ConsumeBlock,Ethanol!X$65,FALSE)","v":171},{"$f":"VLOOKUP(Ethanol!$A67&\" Industrial Ethanol\",ConsumeBlock,Ethanol!Y$65,FALSE)","v":181},{"$f":"VLOOKUP(Ethanol!$A67&\" Industrial Ethanol\",ConsumeBlock,Ethanol!Z$65,FALSE)","v":188},{"$f":"VLOOKUP(Ethanol!$A67&\" Industrial Ethanol\",ConsumeBlock,Ethanol!AA$65,FALSE)","v":305},{"$f":"VLOOKUP(Ethanol!$A67&\" Industrial Ethanol\",ConsumeBlock,Ethanol!AB$65,FALSE)","v":307},{"$f":"VLOOKUP(Ethanol!$A67&\" Industrial Ethanol\",ConsumeBlock,Ethanol!AC$65,FALSE)","v":312},{"$f":"VLOOKUP(Ethanol!$A67&\" Industrial Ethanol\",ConsumeBlock,Ethanol!AD$65,FALSE)","v":302}]
["AK",{"$f":"VLOOKUP(Ethanol!$A68&\" Industrial Ethanol\",ConsumeBlock,Ethanol!B$65,FALSE)","v":0},{"$f":"VLOOKUP(Ethanol!$A68&\" Industrial Ethanol\",ConsumeBlock,Ethanol!C$65,FALSE)","v":0},{"$f":"VLOOKUP(Ethanol!$A68&\" Industrial Ethanol\",ConsumeBlock,Ethanol!D$65,FALSE)","v":0},{"$f":"VLOOKUP(Ethanol!$A68&\" Industrial Ethanol\",ConsumeBlock,Ethanol!E$65,FALSE)","v":0},{"$f":"VLOOKUP(Ethanol!$A68&\" Industrial Ethanol\",ConsumeBlock,Ethanol!F$65,FALSE)","v":0},{"$f":"VLOOKUP(Ethanol!$A68&\" Industrial Ethanol\",ConsumeBlock,Ethanol!G$65,FALSE)","v":6},{"$f":"VLOOKUP(Ethanol!$A68&\" Industrial Ethanol\",ConsumeBlock,Ethanol!H$65,FALSE)","v":7},{"$f":"VLOOKUP(Ethanol!$A68&\" Industrial Ethanol\",ConsumeBlock,Ethanol!I$65,FALSE)","v":5},{"$f":"VLOOKUP(Ethanol!$A68&\" Industrial Ethanol\",ConsumeBlock,Ethanol!J$65,FALSE)","v":4},{"$f":"VLOOKUP(Ethanol!$A68&\" Industrial Ethanol\",ConsumeBlock,Ethanol!K$65,FALSE)","v":2},{"$f":"VLOOKUP(Ethanol!$A68&\" Industrial Ethanol\",ConsumeBlock,Ethanol!L$65,FALSE)","v":1},{"$f":"VLOOKUP(Ethanol!$A68&\" Industrial Ethanol\",ConsumeBlock,Ethanol!M$65,FALSE)","v":6},{"$f":"VLOOKUP(Ethanol!$A68&\" Industrial Ethanol\",ConsumeBlock,Ethanol!N$65,FALSE)","v":5},{"$f":"VLOOKUP(Ethanol!$A68&\" Industrial Ethanol\",ConsumeBlock,Ethanol!O$65,FALSE)","v":4},{"$f":"VLOOKUP(Ethanol!$A68&\" Industrial Ethanol\",ConsumeBlock,Ethanol!P$65,FALSE)","v":7},{"$f":"VLOOKUP(Ethanol!$A68&\" Industrial Ethanol\",ConsumeBlock,Ethanol!Q$65,FALSE)","v":0},{"$f":"VLOOKUP(Ethanol!$A68&\" Industrial Ethanol\",ConsumeBlock,Ethanol!R$65,FALSE)","v":0},{"$f":"VLOOKUP(Ethanol!$A68&\" Industrial Ethanol\",ConsumeBlock,Ethanol!S$65,FALSE)","v":0},{"$f":"VLOOKUP(Ethanol!$A68&\" Industrial Ethanol\",ConsumeBlock,Ethanol!T$65,FALSE)","v":0},{"$f":"VLOOKUP(Ethanol!$A68&\" Industrial Ethanol\",ConsumeBlock,Ethanol!U$65,FALSE)","v":0},{"$f":"VLOOKUP(Ethanol!$A68&\" Industrial Ethanol\",ConsumeBlock,Ethanol!V$65,FALSE)","v":0},{"$f":"VLOOKUP(Ethanol!$A68&\" Industrial Ethanol\",ConsumeBlock,Ethanol!W$65,FALSE)","v":0},{"$f":"VLOOKUP(Ethanol!$A68&\" Industrial Ethanol\",ConsumeBlock,Ethanol!X$65,FALSE)","v":0},{"$f":"VLOOKUP(Ethanol!$A68&\" Industrial Ethanol\",ConsumeBlock,Ethanol!Y$65,FALSE)","v":0},{"$f":"VLOOKUP(Ethanol!$A68&\" Industrial Ethanol\",ConsumeBlock,Ethanol!Z$65,FALSE)","v":39},{"$f":"VLOOKUP(Ethanol!$A68&\" Industrial Ethanol\",ConsumeBlock,Ethanol!AA$65,FALSE)","v":0},{"$f":"VLOOKUP(Ethanol!$A68&\" Industrial Ethanol\",ConsumeBlock,Ethanol!AB$65,FALSE)","v":0},{"$f":"VLOOKUP(Ethanol!$A68&\" Industrial Ethanol\",ConsumeBlock,Ethanol!AC$65,FALSE)","v":0},{"$f":"VLOOKUP(Ethanol!$A68&\" Industrial Ethanol\",ConsumeBlock,Ethanol!AD$65,FALSE)","v":0}]
["AZ",{"$f":"VLOOKUP(Ethanol!$A69&\" Industrial Ethanol\",ConsumeBlock,Ethanol!B$65,FALSE)","v":0},{"$f":"VLOOKUP(Ethanol!$A69&\" Industrial Ethanol\",ConsumeBlock,Ethanol!C$65,FALSE)","v":0},{"$f":"VLOOKUP(Ethanol!$A69&\" Industrial Ethanol\",ConsumeBlock,Ethanol!D$65,FALSE)","v":0},{"$f":"VLOOKUP(Ethanol!$A69&\" Industrial Ethanol\",ConsumeBlock,Ethanol!E$65,FALSE)","v":2},{"$f":"VLOOKUP(Ethanol!$A69&\" Industrial Ethanol\",ConsumeBlock,Ethanol!F$65,FALSE)","v":6},{"$f":"VLOOKUP(Ethanol!$A69&\" Industrial Ethanol\",ConsumeBlock,Ethanol!G$65,FALSE)","v":20},{"$f":"VLOOKUP(Ethanol!$A69&\" Industrial Ethanol\",ConsumeBlock,Ethanol!H$65,FALSE)","v":17},{"$f":"VLOOKUP(Ethanol!$A69&\" Industrial Ethanol\",ConsumeBlock,Ethanol!I$65,FALSE)","v":18},{"$f":"VLOOKUP(Ethanol!$A69&\" Industrial Ethanol\",ConsumeBlock,Ethanol!J$65,FALSE)","v":13},{"$f":"VLOOKUP(Ethanol!$A69&\" Industrial Ethanol\",ConsumeBlock,Ethanol!K$65,FALSE)","v":8},{"$f":"VLOOKUP(Ethanol!$A69&\" Industrial Ethanol\",ConsumeBlock,Ethanol!L$65,FALSE)","v":9},{"$f":"VLOOKUP(Ethanol!$A69&\" Industrial Ethanol\",ConsumeBlock,Ethanol!M$65,FALSE)","v":31},{"$f":"VLOOKUP(Ethanol!$A69&\" Industrial Ethanol\",ConsumeBlock,Ethanol!N$65,FALSE)","v":17},{"$f":"VLOOKUP(Ethanol!$A69&\" Industrial Ethanol\",ConsumeBlock,Ethanol!O$65,FALSE)","v":18},{"$f":"VLOOKUP(Ethanol!$A69&\" Industrial Ethanol\",ConsumeBlock,Ethanol!P$65,FALSE)","v":20},{"$f":"VLOOKUP(Ethanol!$A69&\" Industrial Ethanol\",ConsumeBlock,Ethanol!Q$65,FALSE)","v":215},{"$f":"VLOOKUP(Ethanol!$A69&\" Industrial Ethanol\",ConsumeBlock,Ethanol!R$65,FALSE)","v":258},{"$f":"VLOOKUP(Ethanol!$A69&\" Industrial Ethanol\",ConsumeBlock,Ethanol!S$65,FALSE)","v":251},{"$f":"VLOOKUP(Ethanol!$A69&\" Industrial Ethanol\",ConsumeBlock,Ethanol!T$65,FALSE)","v":315},{"$f":"VLOOKUP(Ethanol!$A69&\" Industrial Ethanol\",ConsumeBlock,Ethanol!U$65,FALSE)","v":310},{"$f":"VLOOKUP(Ethanol!$A69&\" Industrial Ethanol\",ConsumeBlock,Ethanol!V$65,FALSE)","v":274},{"$f":"VLOOKUP(Ethanol!$A69&\" Industrial Ethanol\",ConsumeBlock,Ethanol!W$65,FALSE)","v":282},{"$f":"VLOOKUP(Ethanol!$A69&\" Industrial Ethanol\",ConsumeBlock,Ethanol!X$65,FALSE)","v":294},{"$f":"VLOOKUP(Ethanol!$A69&\" Industrial Ethanol\",ConsumeBlock,Ethanol!Y$65,FALSE)","v":313},{"$f":"VLOOKUP(Ethanol!$A69&\" Industrial Ethanol\",ConsumeBlock,Ethanol!Z$65,FALSE)","v":319},{"$f":"VLOOKUP(Ethanol!$A69&\" Industrial Ethanol\",ConsumeBlock,Ethanol!AA$65,FALSE)","v":615},{"$f":"VLOOKUP(Ethanol!$A69&\" Industrial Ethanol\",ConsumeBlock,Ethanol!AB$65,FALSE)","v":623},{"$f":"VLOOKUP(Ethanol!$A69&\" Industrial Ethanol\",ConsumeBlock,Ethanol!AC$65,FALSE)","v":632},{"$f":"VLOOKUP(Ethanol!$A69&\" Industrial Ethanol\",ConsumeBlock,Ethanol!AD$65,FALSE)","v":632}]
["AR",{"$f":"VLOOKUP(Ethanol!$A70&\" Industrial Ethanol\",ConsumeBlock,Ethanol!B$65,FALSE)","v":7},{"$f":"VLOOKUP(Ethanol!$A70&\" Industrial Ethanol\",ConsumeBlock,Ethanol!C$65,FALSE)","v":5},{"$f":"VLOOKUP(Ethanol!$A70&\" Industrial Ethanol\",ConsumeBlock,Ethanol!D$65,FALSE)","v":3},{"$f":"VLOOKUP(Ethanol!$A70&\" Industrial Ethanol\",ConsumeBlock,Ethanol!E$65,FALSE)","v":2},{"$f":"VLOOKUP(Ethanol!$A70&\" Industrial Ethanol\",ConsumeBlock,Ethanol!F$65,FALSE)","v":0},{"$f":"VLOOKUP(Ethanol!$A70&\" Industrial Ethanol\",ConsumeBlock,Ethanol!G$65,FALSE)","v":0},{"$f":"VLOOKUP(Ethanol!$A70&\" Industrial Ethanol\",ConsumeBlock,Ethanol!H$65,FALSE)","v":0},{"$f":"VLOOKUP(Ethanol!$A70&\" Industrial Ethanol\",ConsumeBlock,Ethanol!I$65,FALSE)","v":0},{"$f":"VLOOKUP(Ethanol!$A70&\" Industrial Ethanol\",ConsumeBlock,Ethanol!J$65,FALSE)","v":0},{"$f":"VLOOKUP(Ethanol!$A70&\" Industrial Ethanol\",ConsumeBlock,Ethanol!K$65,FALSE)","v":0},{"$f":"VLOOKUP(Ethanol!$A70&\" Industrial Ethanol\",ConsumeBlock,Ethanol!L$65,FALSE)","v":0},{"$f":"VLOOKUP(Ethanol!$A70&\" Industrial Ethanol\",ConsumeBlock,Ethanol!M$65,FALSE)","v":0},{"$f":"VLOOKUP(Ethanol!$A70&\" Industrial Ethanol\",ConsumeBlock,Ethanol!N$65,FALSE)","v":0},{"$f":"VLOOKUP(Ethanol!$A70&\" Industrial Ethanol\",ConsumeBlock,Ethanol!O$65,FALSE)","v":0},{"$f":"VLOOKUP(Ethanol!$A70&\" Industrial Ethanol\",ConsumeBlock,Ethanol!P$65,FALSE)","v":0},{"$f":"VLOOKUP(Ethanol!$A70&\" Industrial Ethanol\",ConsumeBlock,Ethanol!Q$65,FALSE)","v":3},{"$f":"VLOOKUP(Ethanol!$A70&\" Industrial Ethanol\",ConsumeBlock,Ethanol!R$65,FALSE)","v":3},{"$f":"VLOOKUP(Ethanol!$A70&\" Industrial Ethanol\",ConsumeBlock,Ethanol!S$65,FALSE)","v":8},{"$f":"VLOOKUP(Ethanol!$A70&\" Industrial Ethanol\",ConsumeBlock,Ethanol!T$65,FALSE)","v":46},{"$f":"VLOOKUP(Ethanol!$A70&\" Industrial Ethanol\",ConsumeBlock,Ethanol!U$65,FALSE)","v":118},{"$f":"VLOOKUP(Ethanol!$A70&\" Industrial Ethanol\",ConsumeBlock,Ethanol!V$65,FALSE)","v":278},{"$f":"VLOOKUP(Ethanol!$A70&\" Industrial Ethanol\",ConsumeBlock,Ethanol!W$65,FALSE)","v":274},{"$f":"VLOOKUP(Ethanol!$A70&\" Industrial Ethanol\",ConsumeBlock,Ethanol!X$65,FALSE)","v":244},{"$f":"VLOOKUP(Ethanol!$A70&\" Industrial Ethanol\",ConsumeBlock,Ethanol!Y$65,FALSE)","v":271},{"$f":"VLOOKUP(Ethanol!$A70&\" Industrial Ethanol\",ConsumeBlock,Ethanol!Z$65,FALSE)","v":234},{"$f":"VLOOKUP(Ethanol!$A70&\" Industrial Ethanol\",ConsumeBlock,Ethanol!AA$65,FALSE)","v":260},{"$f":"VLOOKUP(Ethanol!$A70&\" Industrial Ethanol\",ConsumeBlock,Ethanol!AB$65,FALSE)","v":273},{"$f":"VLOOKUP(Ethanol!$A70&\" Industrial Ethanol\",ConsumeBlock,Ethanol!AC$65,FALSE)","v":276},{"$f":"VLOOKUP(Ethanol!$A70&\" Industrial Ethanol\",ConsumeBlock,Ethanol!AD$65,FALSE)","v":265}]
["CA",{"$f":"VLOOKUP(Ethanol!$A71&\" Industrial Ethanol\",ConsumeBlock,Ethanol!B$65,FALSE)","v":41},{"$f":"VLOOKUP(Ethanol!$A71&\" Industrial Ethanol\",ConsumeBlock,Ethanol!C$65,FALSE)","v":54},{"$f":"VLOOKUP(Ethanol!$A71&\" Industrial Ethanol\",ConsumeBlock,Ethanol!D$65,FALSE)","v":6},{"$f":"VLOOKUP(Ethanol!$A71&\" Industrial Ethanol\",ConsumeBlock,Ethanol!E$65,FALSE)","v":17},{"$f":"VLOOKUP(Ethanol!$A71&\" Industrial Ethanol\",ConsumeBlock,Ethanol!F$65,FALSE)","v":25},{"$f":"VLOOKUP(Ethanol!$A71&\" Industrial Ethanol\",ConsumeBlock,Ethanol!G$65,FALSE)","v":80},{"$f":"VLOOKUP(Ethanol!$A71&\" Industrial Ethanol\",ConsumeBlock,Ethanol!H$65,FALSE)","v":64},{"$f":"VLOOKUP(Ethanol!$A71&\" Industrial Ethanol\",ConsumeBlock,Ethanol!I$65,FALSE)","v":67},{"$f":"VLOOKUP(Ethanol!$A71&\" Industrial Ethanol\",ConsumeBlock,Ethanol!J$65,FALSE)","v":55},{"$f":"VLOOKUP(Ethanol!$A71&\" Industrial Ethanol\",ConsumeBlock,Ethanol!K$65,FALSE)","v":28},{"$f":"VLOOKUP(Ethanol!$A71&\" Industrial Ethanol\",ConsumeBlock,Ethanol!L$65,FALSE)","v":32},{"$f":"VLOOKUP(Ethanol!$A71&\" Industrial Ethanol\",ConsumeBlock,Ethanol!M$65,FALSE)","v":98},{"$f":"VLOOKUP(Ethanol!$A71&\" Industrial Ethanol\",ConsumeBlock,Ethanol!N$65,FALSE)","v":117},{"$f":"VLOOKUP(Ethanol!$A71&\" Industrial Ethanol\",ConsumeBlock,Ethanol!O$65,FALSE)","v":681},{"$f":"VLOOKUP(Ethanol!$A71&\" Industrial Ethanol\",ConsumeBlock,Ethanol!P$65,FALSE)","v":1098},{"$f":"VLOOKUP(Ethanol!$A71&\" Industrial Ethanol\",ConsumeBlock,Ethanol!Q$65,FALSE)","v":1121},{"$f":"VLOOKUP(Ethanol!$A71&\" Industrial Ethanol\",ConsumeBlock,Ethanol!R$65,FALSE)","v":1129},{"$f":"VLOOKUP(Ethanol!$A71&\" Industrial Ethanol\",ConsumeBlock,Ethanol!S$65,FALSE)","v":963},{"$f":"VLOOKUP(Ethanol!$A71&\" Industrial Ethanol\",ConsumeBlock,Ethanol!T$65,FALSE)","v":907},{"$f":"VLOOKUP(Ethanol!$A71&\" Industrial Ethanol\",ConsumeBlock,Ethanol!U$65,FALSE)","v":869},{"$f":"VLOOKUP(Ethanol!$A71&\" Industrial Ethanol\",ConsumeBlock,Ethanol!V$65,FALSE)","v":2069},{"$f":"VLOOKUP(Ethanol!$A71&\" Industrial Ethanol\",ConsumeBlock,Ethanol!W$65,FALSE)","v":2034},{"$f":"VLOOKUP(Ethanol!$A71&\" Industrial Ethanol\",ConsumeBlock,Ethanol!X$65,FALSE)","v":2111},{"$f":"VLOOKUP(Ethanol!$A71&\" Industrial Ethanol\",ConsumeBlock,Ethanol!Y$65,FALSE)","v":2236},{"$f":"VLOOKUP(Ethanol!$A71&\" Industrial Ethanol\",ConsumeBlock,Ethanol!Z$65,FALSE)","v":1637},{"$f":"VLOOKUP(Ethanol!$A71&\" Industrial Ethanol\",ConsumeBlock,Ethanol!AA$65,FALSE)","v":2157},{"$f":"VLOOKUP(Ethanol!$A71&\" Industrial Ethanol\",ConsumeBlock,Ethanol!AB$65,FALSE)","v":2142},{"$f":"VLOOKUP(Ethanol!$A71&\" Industrial Ethanol\",ConsumeBlock,Ethanol!AC$65,FALSE)","v":2181},{"$f":"VLOOKUP(Ethanol!$A71&\" Industrial Ethanol\",ConsumeBlock,Ethanol!AD$65,FALSE)","v":2203}]
["CO",{"$f":"VLOOKUP(Ethanol!$A72&\" Industrial Ethanol\",ConsumeBlock,Ethanol!B$65,FALSE)","v":9},{"$f":"VLOOKUP(Ethanol!$A72&\" Industrial Ethanol\",ConsumeBlock,Ethanol!C$65,FALSE)","v":12},{"$f":"VLOOKUP(Ethanol!$A72&\" Industrial Ethanol\",ConsumeBlock,Ethanol!D$65,FALSE)","v":18},{"$f":"VLOOKUP(Ethanol!$A72&\" Industrial Ethanol\",ConsumeBlock,Ethanol!E$65,FALSE)","v":28},{"$f":"VLOOKUP(Ethanol!$A72&\" Industrial Ethanol\",ConsumeBlock,Ethanol!F$65,FALSE)","v":30},{"$f":"VLOOKUP(Ethanol!$A72&\" Industrial Ethanol\",ConsumeBlock,Ethanol!G$65,FALSE)","v":41},{"$f":"VLOOKUP(Ethanol!$A72&\" Industrial Ethanol\",ConsumeBlock,Ethanol!H$65,FALSE)","v":79},{"$f":"VLOOKUP(Ethanol!$A72&\" Industrial Ethanol\",ConsumeBlock,Ethanol!I$65,FALSE)","v":82},{"$f":"VLOOKUP(Ethanol!$A72&\" Industrial Ethanol\",ConsumeBlock,Ethanol!J$65,FALSE)","v":73},{"$f":"VLOOKUP(Ethanol!$A72&\" Industrial Ethanol\",ConsumeBlock,Ethanol!K$65,FALSE)","v":53},{"$f":"VLOOKUP(Ethanol!$A72&\" Industrial Ethanol\",ConsumeBlock,Ethanol!L$65,FALSE)","v":58},{"$f":"VLOOKUP(Ethanol!$A72&\" Industrial Ethanol\",ConsumeBlock,Ethanol!M$65,FALSE)","v":161},{"$f":"VLOOKUP(Ethanol!$A72&\" Industrial Ethanol\",ConsumeBlock,Ethanol!N$65,FALSE)","v":152},{"$f":"VLOOKUP(Ethanol!$A72&\" Industrial Ethanol\",ConsumeBlock,Ethanol!O$65,FALSE)","v":183},{"$f":"VLOOKUP(Ethanol!$A72&\" Industrial Ethanol\",ConsumeBlock,Ethanol!P$65,FALSE)","v":186},{"$f":"VLOOKUP(Ethanol!$A72&\" Industrial Ethanol\",ConsumeBlock,Ethanol!Q$65,FALSE)","v":102},{"$f":"VLOOKUP(Ethanol!$A72&\" Industrial Ethanol\",ConsumeBlock,Ethanol!R$65,FALSE)","v":95},{"$f":"VLOOKUP(Ethanol!$A72&\" Industrial Ethanol\",ConsumeBlock,Ethanol!S$65,FALSE)","v":90},{"$f":"VLOOKUP(Ethanol!$A72&\" Industrial Ethanol\",ConsumeBlock,Ethanol!T$65,FALSE)","v":94},{"$f":"VLOOKUP(Ethanol!$A72&\" Industrial Ethanol\",ConsumeBlock,Ethanol!U$65,FALSE)","v":107},{"$f":"VLOOKUP(Ethanol!$A72&\" Industrial Ethanol\",ConsumeBlock,Ethanol!V$65,FALSE)","v":192},{"$f":"VLOOKUP(Ethanol!$A72&\" Industrial Ethanol\",ConsumeBlock,Ethanol!W$65,FALSE)","v":248},{"$f":"VLOOKUP(Ethanol!$A72&\" Industrial Ethanol\",ConsumeBlock,Ethanol!X$65,FALSE)","v":244},{"$f":"VLOOKUP(Ethanol!$A72&\" Industrial Ethanol\",ConsumeBlock,Ethanol!Y$65,FALSE)","v":251},{"$f":"VLOOKUP(Ethanol!$A72&\" Industrial Ethanol\",ConsumeBlock,Ethanol!Z$65,FALSE)","v":212},{"$f":"VLOOKUP(Ethanol!$A72&\" Industrial Ethanol\",ConsumeBlock,Ethanol!AA$65,FALSE)","v":405},{"$f":"VLOOKUP(Ethanol!$A72&\" Industrial Ethanol\",ConsumeBlock,Ethanol!AB$65,FALSE)","v":434},{"$f":"VLOOKUP(Ethanol!$A72&\" Industrial Ethanol\",ConsumeBlock,Ethanol!AC$65,FALSE)","v":439},{"$f":"VLOOKUP(Ethanol!$A72&\" Industrial Ethanol\",ConsumeBlock,Ethanol!AD$65,FALSE)","v":451}]
["CT",{"$f":"VLOOKUP(Ethanol!$A73&\" Industrial Ethanol\",ConsumeBlock,Ethanol!B$65,FALSE)","v":0},{"$f":"VLOOKUP(Ethanol!$A73&\" Industrial Ethanol\",ConsumeBlock,Ethanol!C$65,FALSE)","v":1},{"$f":"VLOOKUP(Ethanol!$A73&\" Industrial Ethanol\",ConsumeBlock,Ethanol!D$65,FALSE)","v":3},{"$f":"VLOOKUP(Ethanol!$A73&\" Industrial Ethanol\",ConsumeBlock,Ethanol!E$65,FALSE)","v":3},{"$f":"VLOOKUP(Ethanol!$A73&\" Industrial Ethanol\",ConsumeBlock,Ethanol!F$65,FALSE)","v":2},{"$f":"VLOOKUP(Ethanol!$A73&\" Industrial Ethanol\",ConsumeBlock,Ethanol!G$65,FALSE)","v":1},{"$f":"VLOOKUP(Ethanol!$A73&\" Industrial Ethanol\",ConsumeBlock,Ethanol!H$65,FALSE)","v":2},{"$f":"VLOOKUP(Ethanol!$A73&\" Industrial Ethanol\",ConsumeBlock,Ethanol!I$65,FALSE)","v":2},{"$f":"VLOOKUP(Ethanol!$A73&\" Industrial Ethanol\",ConsumeBlock,Ethanol!J$65,FALSE)","v":1},{"$f":"VLOOKUP(Ethanol!$A73&\" Industrial Ethanol\",ConsumeBlock,Ethanol!K$65,FALSE)","v":2},{"$f":"VLOOKUP(Ethanol!$A73&\" Industrial Ethanol\",ConsumeBlock,Ethanol!L$65,FALSE)","v":2},{"$f":"VLOOKUP(Ethanol!$A73&\" Industrial Ethanol\",ConsumeBlock,Ethanol!M$65,FALSE)","v":2},{"$f":"VLOOKUP(Ethanol!$A73&\" Industrial Ethanol\",ConsumeBlock,Ethanol!N$65,FALSE)","v":4},{"$f":"VLOOKUP(Ethanol!$A73&\" Industrial Ethanol\",ConsumeBlock,Ethanol!O$65,FALSE)","v":24},{"$f":"VLOOKUP(Ethanol!$A73&\" Industrial Ethanol\",ConsumeBlock,Ethanol!P$65,FALSE)","v":186},{"$f":"VLOOKUP(Ethanol!$A73&\" Industrial Ethanol\",ConsumeBlock,Ethanol!Q$65,FALSE)","v":50},{"$f":"VLOOKUP(Ethanol!$A73&\" Industrial Ethanol\",ConsumeBlock,Ethanol!R$65,FALSE)","v":153},{"$f":"VLOOKUP(Ethanol!$A73&\" Industrial Ethanol\",ConsumeBlock,Ethanol!S$65,FALSE)","v":142},{"$f":"VLOOKUP(Ethanol!$A73&\" Industrial Ethanol\",ConsumeBlock,Ethanol!T$65,FALSE)","v":103},{"$f":"VLOOKUP(Ethanol!$A73&\" Industrial Ethanol\",ConsumeBlock,Ethanol!U$65,FALSE)","v":118},{"$f":"VLOOKUP(Ethanol!$A73&\" Industrial Ethanol\",ConsumeBlock,Ethanol!V$65,FALSE)","v":182},{"$f":"VLOOKUP(Ethanol!$A73&\" Industrial Ethanol\",ConsumeBlock,Ethanol!W$65,FALSE)","v":173},{"$f":"VLOOKUP(Ethanol!$A73&\" Industrial Ethanol\",ConsumeBlock,Ethanol!X$65,FALSE)","v":169},{"$f":"VLOOKUP(Ethanol!$A73&\" Industrial Ethanol\",ConsumeBlock,Ethanol!Y$65,FALSE)","v":176},{"$f":"VLOOKUP(Ethanol!$A73&\" Industrial Ethanol\",ConsumeBlock,Ethanol!Z$65,FALSE)","v":135},{"$f":"VLOOKUP(Ethanol!$A73&\" Industrial Ethanol\",ConsumeBlock,Ethanol!AA$65,FALSE)","v":134},{"$f":"VLOOKUP(Ethanol!$A73&\" Industrial Ethanol\",ConsumeBlock,Ethanol!AB$65,FALSE)","v":134},{"$f":"VLOOKUP(Ethanol!$A73&\" Industrial Ethanol\",ConsumeBlock,Ethanol!AC$65,FALSE)","v":137},{"$f":"VLOOKUP(Ethanol!$A73&\" Industrial Ethanol\",ConsumeBlock,Ethanol!AD$65,FALSE)","v":138}]
["DE",{"$f":"VLOOKUP(Ethanol!$A74&\" Industrial Ethanol\",ConsumeBlock,Ethanol!B$65,FALSE)","v":0},{"$f":"VLOOKUP(Ethanol!$A74&\" Industrial Ethanol\",ConsumeBlock,Ethanol!C$65,FALSE)","v":0},{"$f":"VLOOKUP(Ethanol!$A74&\" Industrial Ethanol\",ConsumeBlock,Ethanol!D$65,FALSE)","v":0},{"$f":"VLOOKUP(Ethanol!$A74&\" Industrial Ethanol\",ConsumeBlock,Ethanol!E$65,FALSE)","v":0},{"$f":"VLOOKUP(Ethanol!$A74&\" Industrial Ethanol\",ConsumeBlock,Ethanol!F$65,FALSE)","v":0},{"$f":"VLOOKUP(Ethanol!$A74&\" Industrial Ethanol\",ConsumeBlock,Ethanol!G$65,FALSE)","v":0},{"$f":"VLOOKUP(Ethanol!$A74&\" Industrial Ethanol\",ConsumeBlock,Ethanol!H$65,FALSE)","v":0},{"$f":"VLOOKUP(Ethanol!$A74&\" Industrial Ethanol\",ConsumeBlock,Ethanol!I$65,FALSE)","v":0},{"$f":"VLOOKUP(Ethanol!$A74&\" Industrial Ethanol\",ConsumeBlock,Ethanol!J$65,FALSE)","v":0},{"$f":"VLOOKUP(Ethanol!$A74&\" Industrial Ethanol\",ConsumeBlock,Ethanol!K$65,FALSE)","v":0},{"$f":"VLOOKUP(Ethanol!$A74&\" Industrial Ethanol\",ConsumeBlock,Ethanol!L$65,FALSE)","v":0},{"$f":"VLOOKUP(Ethanol!$A74&\" Industrial Ethanol\",ConsumeBlock,Ethanol!M$65,FALSE)","v":0},{"$f":"VLOOKUP(Ethanol!$A74&\" Industrial Ethanol\",ConsumeBlock,Ethanol!N$65,FALSE)","v":0},{"$f":"VLOOKUP(Ethanol!$A74&\" Industrial Ethanol\",ConsumeBlock,Ethanol!O$65,FALSE)","v":0},{"$f":"VLOOKUP(Ethanol!$A74&\" Industrial Ethanol\",ConsumeBlock,Ethanol!P$65,FALSE)","v":0},{"$f":"VLOOKUP(Ethanol!$A74&\" Industrial Ethanol\",ConsumeBlock,Ethanol!Q$65,FALSE)","v":9},{"$f":"VLOOKUP(Ethanol!$A74&\" Industrial Ethanol\",ConsumeBlock,Ethanol!R$65,FALSE)","v":29},{"$f":"VLOOKUP(Ethanol!$A74&\" Industrial Ethanol\",ConsumeBlock,Ethanol!S$65,FALSE)","v":60},{"$f":"VLOOKUP(Ethanol!$A74&\" Industrial Ethanol\",ConsumeBlock,Ethanol!T$65,FALSE)","v":38},{"$f":"VLOOKUP(Ethanol!$A74&\" Industrial Ethanol\",ConsumeBlock,Ethanol!U$65,FALSE)","v":39},{"$f":"VLOOKUP(Ethanol!$A74&\" Industrial Ethanol\",ConsumeBlock,Ethanol!V$65,FALSE)","v":62},{"$f":"VLOOKUP(Ethanol!$A74&\" Industrial Ethanol\",ConsumeBlock,Ethanol!W$65,FALSE)","v":61},{"$f":"VLOOKUP(Ethanol!$A74&\" Industrial Ethanol\",ConsumeBlock,Ethanol!X$65,FALSE)","v":57},{"$f":"VLOOKUP(Ethanol!$A74&\" Industrial Ethanol\",ConsumeBlock,Ethanol!Y$65,FALSE)","v":61},{"$f":"VLOOKUP(Ethanol!$A74&\" Industrial Ethanol\",ConsumeBlock,Ethanol!Z$65,FALSE)","v":58},{"$f":"VLOOKUP(Ethanol!$A74&\" Industrial Ethanol\",ConsumeBlock,Ethanol!AA$65,FALSE)","v":50},{"$f":"VLOOKUP(Ethanol!$A74&\" Industrial Ethanol\",ConsumeBlock,Ethanol!AB$65,FALSE)","v":50},{"$f":"VLOOKUP(Ethanol!$A74&\" Industrial Ethanol\",ConsumeBlock,Ethanol!AC$65,FALSE)","v":51},{"$f":"VLOOKUP(Ethanol!$A74&\" Industrial Ethanol\",ConsumeBlock,Ethanol!AD$65,FALSE)","v":52}]
["DC",{"$f":"VLOOKUP(Ethanol!$A75&\" Industrial Ethanol\",ConsumeBlock,Ethanol!B$65,FALSE)","v":0},{"$f":"VLOOKUP(Ethanol!$A75&\" Industrial Ethanol\",ConsumeBlock,Ethanol!C$65,FALSE)","v":0},{"$f":"VLOOKUP(Ethanol!$A75&\" Industrial Ethanol\",ConsumeBlock,Ethanol!D$65,FALSE)","v":0},{"$f":"VLOOKUP(Ethanol!$A75&\" Industrial Ethanol\",ConsumeBlock,Ethanol!E$65,FALSE)","v":0},{"$f":"VLOOKUP(Ethanol!$A75&\" Industrial Ethanol\",ConsumeBlock,Ethanol!F$65,FALSE)","v":0},{"$f":"VLOOKUP(Ethanol!$A75&\" Industrial Ethanol\",ConsumeBlock,Ethanol!G$65,FALSE)","v":0},{"$f":"VLOOKUP(Ethanol!$A75&\" Industrial Ethanol\",ConsumeBlock,Ethanol!H$65,FALSE)","v":0},{"$f":"VLOOKUP(Ethanol!$A75&\" Industrial Ethanol\",ConsumeBlock,Ethanol!I$65,FALSE)","v":0},{"$f":"VLOOKUP(Ethanol!$A75&\" Industrial Ethanol\",ConsumeBlock,Ethanol!J$65,FALSE)","v":0},{"$f":"VLOOKUP(Ethanol!$A75&\" Industrial Ethanol\",ConsumeBlock,Ethanol!K$65,FALSE)","v":0},{"$f":"VLOOKUP(Ethanol!$A75&\" Industrial Ethanol\",ConsumeBlock,Ethanol!L$65,FALSE)","v":0},{"$f":"VLOOKUP(Ethanol!$A75&\" Industrial Ethanol\",ConsumeBlock,Ethanol!M$65,FALSE)","v":0},{"$f":"VLOOKUP(Ethanol!$A75&\" Industrial Ethanol\",ConsumeBlock,Ethanol!N$65,FALSE)","v":0},{"$f":"VLOOKUP(Ethanol!$A75&\" Industrial Ethanol\",ConsumeBlock,Ethanol!O$65,FALSE)","v":0},{"$f":"VLOOKUP(Ethanol!$A75&\" Industrial Ethanol\",ConsumeBlock,Ethanol!P$65,FALSE)","v":0},{"$f":"VLOOKUP(Ethanol!$A75&\" Industrial Ethanol\",ConsumeBlock,Ethanol!Q$65,FALSE)","v":7},{"$f":"VLOOKUP(Ethanol!$A75&\" Industrial Ethanol\",ConsumeBlock,Ethanol!R$65,FALSE)","v":20},{"$f":"VLOOKUP(Ethanol!$A75&\" Industrial Ethanol\",ConsumeBlock,Ethanol!S$65,FALSE)","v":12},{"$f":"VLOOKUP(Ethanol!$A75&\" Industrial Ethanol\",ConsumeBlock,Ethanol!T$65,FALSE)","v":13},{"$f":"VLOOKUP(Ethanol!$A75&\" Industrial Ethanol\",ConsumeBlock,Ethanol!U$65,FALSE)","v":13},{"$f":"VLOOKUP(Ethanol!$A75&\" Industrial Ethanol\",ConsumeBlock,Ethanol!V$65,FALSE)","v":12},{"$f":"VLOOKUP(Ethanol!$A75&\" Industrial Ethanol\",ConsumeBlock,Ethanol!W$65,FALSE)","v":12},{"$f":"VLOOKUP(Ethanol!$A75&\" Industrial Ethanol\",ConsumeBlock,Ethanol!X$65,FALSE)","v":12},{"$f":"VLOOKUP(Ethanol!$A75&\" Industrial Ethanol\",ConsumeBlock,Ethanol!Y$65,FALSE)","v":12},{"$f":"VLOOKUP(Ethanol!$A75&\" Industrial Ethanol\",ConsumeBlock,Ethanol!Z$65,FALSE)","v":16},{"$f":"VLOOKUP(Ethanol!$A75&\" Industrial Ethanol\",ConsumeBlock,Ethanol!AA$65,FALSE)","v":13},{"$f":"VLOOKUP(Ethanol!$A75&\" Industrial Ethanol\",ConsumeBlock,Ethanol!AB$65,FALSE)","v":13},{"$f":"VLOOKUP(Ethanol!$A75&\" Industrial Ethanol\",ConsumeBlock,Ethanol!AC$65,FALSE)","v":13},{"$f":"VLOOKUP(Ethanol!$A75&\" Industrial Ethanol\",ConsumeBlock,Ethanol!AD$65,FALSE)","v":13}]
["FL",{"$f":"VLOOKUP(Ethanol!$A76&\" Industrial Ethanol\",ConsumeBlock,Ethanol!B$65,FALSE)","v":5},{"$f":"VLOOKUP(Ethanol!$A76&\" Industrial Ethanol\",ConsumeBlock,Ethanol!C$65,FALSE)","v":5},{"$f":"VLOOKUP(Ethanol!$A76&\" Industrial Ethanol\",ConsumeBlock,Ethanol!D$65,FALSE)","v":5},{"$f":"VLOOKUP(Ethanol!$A76&\" Industrial Ethanol\",ConsumeBlock,Ethanol!E$65,FALSE)","v":3},{"$f":"VLOOKUP(Ethanol!$A76&\" Industrial Ethanol\",ConsumeBlock,Ethanol!F$65,FALSE)","v":2},{"$f":"VLOOKUP(Ethanol!$A76&\" Industrial Ethanol\",ConsumeBlock,Ethanol!G$65,FALSE)","v":1},{"$f":"VLOOKUP(Ethanol!$A76&\" Industrial Ethanol\",ConsumeBlock,Ethanol!H$65,FALSE)","v":1},{"$f":"VLOOKUP(Ethanol!$A76&\" Industrial Ethanol\",ConsumeBlock,Ethanol!I$65,FALSE)","v":1},{"$f":"VLOOKUP(Ethanol!$A76&\" Industrial Ethanol\",ConsumeBlock,Ethanol!J$65,FALSE)","v":1},{"$f":"VLOOKUP(Ethanol!$A76&\" Industrial Ethanol\",ConsumeBlock,Ethanol!K$65,FALSE)","v":1},{"$f":"VLOOKUP(Ethanol!$A76&\" Industrial Ethanol\",ConsumeBlock,Ethanol!L$65,FALSE)","v":1},{"$f":"VLOOKUP(Ethanol!$A76&\" Industrial Ethanol\",ConsumeBlock,Ethanol!M$65,FALSE)","v":1},{"$f":"VLOOKUP(Ethanol!$A76&\" Industrial Ethanol\",ConsumeBlock,Ethanol!N$65,FALSE)","v":0},{"$f":"VLOOKUP(Ethanol!$A76&\" Industrial Ethanol\",ConsumeBlock,Ethanol!O$65,FALSE)","v":0},{"$f":"VLOOKUP(Ethanol!$A76&\" Industrial Ethanol\",ConsumeBlock,Ethanol!P$65,FALSE)","v":0},{"$f":"VLOOKUP(Ethanol!$A76&\" Industrial Ethanol\",ConsumeBlock,Ethanol!Q$65,FALSE)","v":59},{"$f":"VLOOKUP(Ethanol!$A76&\" Industrial Ethanol\",ConsumeBlock,Ethanol!R$65,FALSE)","v":86},{"$f":"VLOOKUP(Ethanol!$A76&\" Industrial Ethanol\",ConsumeBlock,Ethanol!S$65,FALSE)","v":153},{"$f":"VLOOKUP(Ethanol!$A76&\" Industrial Ethanol\",ConsumeBlock,Ethanol!T$65,FALSE)","v":816},{"$f":"VLOOKUP(Ethanol!$A76&\" Industrial Ethanol\",ConsumeBlock,Ethanol!U$65,FALSE)","v":973},{"$f":"VLOOKUP(Ethanol!$A76&\" Industrial Ethanol\",ConsumeBlock,Ethanol!V$65,FALSE)","v":618},{"$f":"VLOOKUP(Ethanol!$A76&\" Industrial Ethanol\",ConsumeBlock,Ethanol!W$65,FALSE)","v":604},{"$f":"VLOOKUP(Ethanol!$A76&\" Industrial Ethanol\",ConsumeBlock,Ethanol!X$65,FALSE)","v":662},{"$f":"VLOOKUP(Ethanol!$A76&\" Industrial Ethanol\",ConsumeBlock,Ethanol!Y$65,FALSE)","v":679},{"$f":"VLOOKUP(Ethanol!$A76&\" Industrial Ethanol\",ConsumeBlock,Ethanol!Z$65,FALSE)","v":688},{"$f":"VLOOKUP(Ethanol!$A76&\" Industrial Ethanol\",ConsumeBlock,Ethanol!AA$65,FALSE)","v":1395},{"$f":"VLOOKUP(Ethanol!$A76&\" Industrial Ethanol\",ConsumeBlock,Ethanol!AB$65,FALSE)","v":1451},{"$f":"VLOOKUP(Ethanol!$A76&\" Industrial Ethanol\",ConsumeBlock,Ethanol!AC$65,FALSE)","v":1505},{"$f":"VLOOKUP(Ethanol!$A76&\" Industrial Ethanol\",ConsumeBlock,Ethanol!AD$65,FALSE)","v":1608}]
["GA",{"$f":"VLOOKUP(Ethanol!$A77&\" Industrial Ethanol\",ConsumeBlock,Ethanol!B$65,FALSE)","v":11},{"$f":"VLOOKUP(Ethanol!$A77&\" Industrial Ethanol\",ConsumeBlock,Ethanol!C$65,FALSE)","v":11},{"$f":"VLOOKUP(Ethanol!$A77&\" Industrial Ethanol\",ConsumeBlock,Ethanol!D$65,FALSE)","v":3},{"$f":"VLOOKUP(Ethanol!$A77&\" Industrial Ethanol\",ConsumeBlock,Ethanol!E$65,FALSE)","v":3},{"$f":"VLOOKUP(Ethanol!$A77&\" Industrial Ethanol\",ConsumeBlock,Ethanol!F$65,FALSE)","v":1},{"$f":"VLOOKUP(Ethanol!$A77&\" Industrial Ethanol\",ConsumeBlock,Ethanol!G$65,FALSE)","v":0},{"$f":"VLOOKUP(Ethanol!$A77&\" Industrial Ethanol\",ConsumeBlock,Ethanol!H$65,FALSE)","v":0},{"$f":"VLOOKUP(Ethanol!$A77&\" Industrial Ethanol\",ConsumeBlock,Ethanol!I$65,FALSE)","v":0},{"$f":"VLOOKUP(Ethanol!$A77&\" Industrial Ethanol\",ConsumeBlock,Ethanol!J$65,FALSE)","v":0},{"$f":"VLOOKUP(Ethanol!$A77&\" Industrial Ethanol\",ConsumeBlock,Ethanol!K$65,FALSE)","v":0},{"$f":"VLOOKUP(Ethanol!$A77&\" Industrial Ethanol\",ConsumeBlock,Ethanol!L$65,FALSE)","v":0},{"$f":"VLOOKUP(Ethanol!$A77&\" Industrial Ethanol\",ConsumeBlock,Ethanol!M$65,FALSE)","v":0},{"$f":"VLOOKUP(Ethanol!$A77&\" Industrial Ethanol\",ConsumeBlock,Ethanol!N$65,FALSE)","v":0},{"$f":"VLOOKUP(Ethanol!$A77&\" Industrial Ethanol\",ConsumeBlock,Ethanol!O$65,FALSE)","v":0},{"$f":"VLOOKUP(Ethanol!$A77&\" Industrial Ethanol\",ConsumeBlock,Ethanol!P$65,FALSE)","v":0},{"$f":"VLOOKUP(Ethanol!$A77&\" Industrial Ethanol\",ConsumeBlock,Ethanol!Q$65,FALSE)","v":53},{"$f":"VLOOKUP(Ethanol!$A77&\" Industrial Ethanol\",ConsumeBlock,Ethanol!R$65,FALSE)","v":80},{"$f":"VLOOKUP(Ethanol!$A77&\" Industrial Ethanol\",ConsumeBlock,Ethanol!S$65,FALSE)","v":75},{"$f":"VLOOKUP(Ethanol!$A77&\" Industrial Ethanol\",ConsumeBlock,Ethanol!T$65,FALSE)","v":388},{"$f":"VLOOKUP(Ethanol!$A77&\" Industrial Ethanol\",ConsumeBlock,Ethanol!U$65,FALSE)","v":469},{"$f":"VLOOKUP(Ethanol!$A77&\" Industrial Ethanol\",ConsumeBlock,Ethanol!V$65,FALSE)","v":394},{"$f":"VLOOKUP(Ethanol!$A77&\" Industrial Ethanol\",ConsumeBlock,Ethanol!W$65,FALSE)","v":407},{"$f":"VLOOKUP(Ethanol!$A77&\" Industrial Ethanol\",ConsumeBlock,Ethanol!X$65,FALSE)","v":418},{"$f":"VLOOKUP(Ethanol!$A77&\" Industrial Ethanol\",ConsumeBlock,Ethanol!Y$65,FALSE)","v":455},{"$f":"VLOOKUP(Ethanol!$A77&\" Industrial Ethanol\",ConsumeBlock,Ethanol!Z$65,FALSE)","v":383},{"$f":"VLOOKUP(Ethanol!$A77&\" Industrial Ethanol\",ConsumeBlock,Ethanol!AA$65,FALSE)","v":395},{"$f":"VLOOKUP(Ethanol!$A77&\" Industrial Ethanol\",ConsumeBlock,Ethanol!AB$65,FALSE)","v":412},{"$f":"VLOOKUP(Ethanol!$A77&\" Industrial Ethanol\",ConsumeBlock,Ethanol!AC$65,FALSE)","v":429},{"$f":"VLOOKUP(Ethanol!$A77&\" Industrial Ethanol\",ConsumeBlock,Ethanol!AD$65,FALSE)","v":450}]
["HI",{"$f":"VLOOKUP(Ethanol!$A78&\" Industrial Ethanol\",ConsumeBlock,Ethanol!B$65,FALSE)","v":0},{"$f":"VLOOKUP(Ethanol!$A78&\" Industrial Ethanol\",ConsumeBlock,Ethanol!C$65,FALSE)","v":0},{"$f":"VLOOKUP(Ethanol!$A78&\" Industrial Ethanol\",ConsumeBlock,Ethanol!D$65,FALSE)","v":0},{"$f":"VLOOKUP(Ethanol!$A78&\" Industrial Ethanol\",ConsumeBlock,Ethanol!E$65,FALSE)","v":0},{"$f":"VLOOKUP(Ethanol!$A78&\" Industrial Ethanol\",ConsumeBlock,Ethanol!F$65,FALSE)","v":0},{"$f":"VLOOKUP(Ethanol!$A78&\" Industrial Ethanol\",ConsumeBlock,Ethanol!G$65,FALSE)","v":0},{"$f":"VLOOKUP(Ethanol!$A78&\" Industrial Ethanol\",ConsumeBlock,Ethanol!H$65,FALSE)","v":0},{"$f":"VLOOKUP(Ethanol!$A78&\" Industrial Ethanol\",ConsumeBlock,Ethanol!I$65,FALSE)","v":0},{"$f":"VLOOKUP(Ethanol!$A78&\" Industrial Ethanol\",ConsumeBlock,Ethanol!J$65,FALSE)","v":0},{"$f":"VLOOKUP(Ethanol!$A78&\" Industrial Ethanol\",ConsumeBlock,Ethanol!K$65,FALSE)","v":0},{"$f":"VLOOKUP(Ethanol!$A78&\" Industrial Ethanol\",ConsumeBlock,Ethanol!L$65,FALSE)","v":0},{"$f":"VLOOKUP(Ethanol!$A78&\" Industrial Ethanol\",ConsumeBlock,Ethanol!M$65,FALSE)","v":0},{"$f":"VLOOKUP(Ethanol!$A78&\" Industrial Ethanol\",ConsumeBlock,Ethanol!N$65,FALSE)","v":0},{"$f":"VLOOKUP(Ethanol!$A78&\" Industrial Ethanol\",ConsumeBlock,Ethanol!O$65,FALSE)","v":0},{"$f":"VLOOKUP(Ethanol!$A78&\" Industrial Ethanol\",ConsumeBlock,Ethanol!P$65,FALSE)","v":0},{"$f":"VLOOKUP(Ethanol!$A78&\" Industrial Ethanol\",ConsumeBlock,Ethanol!Q$65,FALSE)","v":14},{"$f":"VLOOKUP(Ethanol!$A78&\" Industrial Ethanol\",ConsumeBlock,Ethanol!R$65,FALSE)","v":17},{"$f":"VLOOKUP(Ethanol!$A78&\" Industrial Ethanol\",ConsumeBlock,Ethanol!S$65,FALSE)","v":37},{"$f":"VLOOKUP(Ethanol!$A78&\" Industrial Ethanol\",ConsumeBlock,Ethanol!T$65,FALSE)","v":75},{"$f":"VLOOKUP(Ethanol!$A78&\" Industrial Ethanol\",ConsumeBlock,Ethanol!U$65,FALSE)","v":79},{"$f":"VLOOKUP(Ethanol!$A78&\" Industrial Ethanol\",ConsumeBlock,Ethanol!V$65,FALSE)","v":40},{"$f":"VLOOKUP(Ethanol!$A78&\" Industrial Ethanol\",ConsumeBlock,Ethanol!W$65,FALSE)","v":43},{"$f":"VLOOKUP(Ethanol!$A78&\" Industrial Ethanol\",ConsumeBlock,Ethanol!X$65,FALSE)","v":39},{"$f":"VLOOKUP(Ethanol!$A78&\" Industrial Ethanol\",ConsumeBlock,Ethanol!Y$65,FALSE)","v":39},{"$f":"VLOOKUP(Ethanol!$A78&\" Industrial Ethanol\",ConsumeBlock,Ethanol!Z$65,FALSE)","v":52},{"$f":"VLOOKUP(Ethanol!$A78&\" Industrial Ethanol\",ConsumeBlock,Ethanol!AA$65,FALSE)","v":102},{"$f":"VLOOKUP(Ethanol!$A78&\" Industrial Ethanol\",ConsumeBlock,Ethanol!AB$65,FALSE)","v":100},{"$f":"VLOOKUP(Ethanol!$A78&\" Industrial Ethanol\",ConsumeBlock,Ethanol!AC$65,FALSE)","v":103},{"$f":"VLOOKUP(Ethanol!$A78&\" Industrial Ethanol\",ConsumeBlock,Ethanol!AD$65,FALSE)","v":105}]
["ID",{"$f":"VLOOKUP(Ethanol!$A79&\" Industrial Ethanol\",ConsumeBlock,Ethanol!B$65,FALSE)","v":18},{"$f":"VLOOKUP(Ethanol!$A79&\" Industrial Ethanol\",ConsumeBlock,Ethanol!C$65,FALSE)","v":25},{"$f":"VLOOKUP(Ethanol!$A79&\" Industrial Ethanol\",ConsumeBlock,Ethanol!D$65,FALSE)","v":13},{"$f":"VLOOKUP(Ethanol!$A79&\" Industrial Ethanol\",ConsumeBlock,Ethanol!E$65,FALSE)","v":2},{"$f":"VLOOKUP(Ethanol!$A79&\" Industrial Ethanol\",ConsumeBlock,Ethanol!F$65,FALSE)","v":2},{"$f":"VLOOKUP(Ethanol!$A79&\" Industrial Ethanol\",ConsumeBlock,Ethanol!G$65,FALSE)","v":1},{"$f":"VLOOKUP(Ethanol!$A79&\" Industrial Ethanol\",ConsumeBlock,Ethanol!H$65,FALSE)","v":0},{"$f":"VLOOKUP(Ethanol!$A79&\" Industrial Ethanol\",ConsumeBlock,Ethanol!I$65,FALSE)","v":0},{"$f":"VLOOKUP(Ethanol!$A79&\" Industrial Ethanol\",ConsumeBlock,Ethanol!J$65,FALSE)","v":0},{"$f":"VLOOKUP(Ethanol!$A79&\" Industrial Ethanol\",ConsumeBlock,Ethanol!K$65,FALSE)","v":0},{"$f":"VLOOKUP(Ethanol!$A79&\" Industrial Ethanol\",ConsumeBlock,Ethanol!L$65,FALSE)","v":0},{"$f":"VLOOKUP(Ethanol!$A79&\" Industrial Ethanol\",ConsumeBlock,Ethanol!M$65,FALSE)","v":0},{"$f":"VLOOKUP(Ethanol!$A79&\" Industrial Ethanol\",ConsumeBlock,Ethanol!N$65,FALSE)","v":0},{"$f":"VLOOKUP(Ethanol!$A79&\" Industrial Ethanol\",ConsumeBlock,Ethanol!O$65,FALSE)","v":0},{"$f":"VLOOKUP(Ethanol!$A79&\" Industrial Ethanol\",ConsumeBlock,Ethanol!P$65,FALSE)","v":0},{"$f":"VLOOKUP(Ethanol!$A79&\" Industrial Ethanol\",ConsumeBlock,Ethanol!Q$65,FALSE)","v":53},{"$f":"VLOOKUP(Ethanol!$A79&\" Industrial Ethanol\",ConsumeBlock,Ethanol!R$65,FALSE)","v":52},{"$f":"VLOOKUP(Ethanol!$A79&\" Industrial Ethanol\",ConsumeBlock,Ethanol!S$65,FALSE)","v":78},{"$f":"VLOOKUP(Ethanol!$A79&\" Industrial Ethanol\",ConsumeBlock,Ethanol!T$65,FALSE)","v":91},{"$f":"VLOOKUP(Ethanol!$A79&\" Industrial Ethanol\",ConsumeBlock,Ethanol!U$65,FALSE)","v":95},{"$f":"VLOOKUP(Ethanol!$A79&\" Industrial Ethanol\",ConsumeBlock,Ethanol!V$65,FALSE)","v":120},{"$f":"VLOOKUP(Ethanol!$A79&\" Industrial Ethanol\",ConsumeBlock,Ethanol!W$65,FALSE)","v":159},{"$f":"VLOOKUP(Ethanol!$A79&\" Industrial Ethanol\",ConsumeBlock,Ethanol!X$65,FALSE)","v":152},{"$f":"VLOOKUP(Ethanol!$A79&\" Industrial Ethanol\",ConsumeBlock,Ethanol!Y$65,FALSE)","v":172},{"$f":"VLOOKUP(Ethanol!$A79&\" Industrial Ethanol\",ConsumeBlock,Ethanol!Z$65,FALSE)","v":153},{"$f":"VLOOKUP(Ethanol!$A79&\" Industrial Ethanol\",ConsumeBlock,Ethanol!AA$65,FALSE)","v":188},{"$f":"VLOOKUP(Ethanol!$A79&\" Industrial Ethanol\",ConsumeBlock,Ethanol!AB$65,FALSE)","v":207},{"$f":"VLOOKUP(Ethanol!$A79&\" Industrial Ethanol\",ConsumeBlock,Ethanol!AC$65,FALSE)","v":205},{"$f":"VLOOKUP(Ethanol!$A79&\" Industrial Ethanol\",ConsumeBlock,Ethanol!AD$65,FALSE)","v":209}]
["IA",{"$f":"VLOOKUP(Ethanol!$A80&\" Industrial Ethanol\",ConsumeBlock,Ethanol!B$65,FALSE)","v":104},{"$f":"VLOOKUP(Ethanol!$A80&\" Industrial Ethanol\",ConsumeBlock,Ethanol!C$65,FALSE)","v":137},{"$f":"VLOOKUP(Ethanol!$A80&\" Industrial Ethanol\",ConsumeBlock,Ethanol!D$65,FALSE)","v":157},{"$f":"VLOOKUP(Ethanol!$A80&\" Industrial Ethanol\",ConsumeBlock,Ethanol!E$65,FALSE)","v":137},{"$f":"VLOOKUP(Ethanol!$A80&\" Industrial Ethanol\",ConsumeBlock,Ethanol!F$65,FALSE)","v":210},{"$f":"VLOOKUP(Ethanol!$A80&\" Industrial Ethanol\",ConsumeBlock,Ethanol!G$65,FALSE)","v":189},{"$f":"VLOOKUP(Ethanol!$A80&\" Industrial Ethanol\",ConsumeBlock,Ethanol!H$65,FALSE)","v":124},{"$f":"VLOOKUP(Ethanol!$A80&\" Industrial Ethanol\",ConsumeBlock,Ethanol!I$65,FALSE)","v":150},{"$f":"VLOOKUP(Ethanol!$A80&\" Industrial Ethanol\",ConsumeBlock,Ethanol!J$65,FALSE)","v":147},{"$f":"VLOOKUP(Ethanol!$A80&\" Industrial Ethanol\",ConsumeBlock,Ethanol!K$65,FALSE)","v":156},{"$f":"VLOOKUP(Ethanol!$A80&\" Industrial Ethanol\",ConsumeBlock,Ethanol!L$65,FALSE)","v":164},{"$f":"VLOOKUP(Ethanol!$A80&\" Industrial Ethanol\",ConsumeBlock,Ethanol!M$65,FALSE)","v":264},{"$f":"VLOOKUP(Ethanol!$A80&\" Industrial Ethanol\",ConsumeBlock,Ethanol!N$65,FALSE)","v":276},{"$f":"VLOOKUP(Ethanol!$A80&\" Industrial Ethanol\",ConsumeBlock,Ethanol!O$65,FALSE)","v":307},{"$f":"VLOOKUP(Ethanol!$A80&\" Industrial Ethanol\",ConsumeBlock,Ethanol!P$65,FALSE)","v":403},{"$f":"VLOOKUP(Ethanol!$A80&\" Industrial Ethanol\",ConsumeBlock,Ethanol!Q$65,FALSE)","v":117},{"$f":"VLOOKUP(Ethanol!$A80&\" Industrial Ethanol\",ConsumeBlock,Ethanol!R$65,FALSE)","v":112},{"$f":"VLOOKUP(Ethanol!$A80&\" Industrial Ethanol\",ConsumeBlock,Ethanol!S$65,FALSE)","v":158},{"$f":"VLOOKUP(Ethanol!$A80&\" Industrial Ethanol\",ConsumeBlock,Ethanol!T$65,FALSE)","v":229},{"$f":"VLOOKUP(Ethanol!$A80&\" Industrial Ethanol\",ConsumeBlock,Ethanol!U$65,FALSE)","v":231},{"$f":"VLOOKUP(Ethanol!$A80&\" Industrial Ethanol\",ConsumeBlock,Ethanol!V$65,FALSE)","v":435},{"$f":"VLOOKUP(Ethanol!$A80&\" Industrial Ethanol\",ConsumeBlock,Ethanol!W$65,FALSE)","v":466},{"$f":"VLOOKUP(Ethanol!$A80&\" Industrial Ethanol\",ConsumeBlock,Ethanol!X$65,FALSE)","v":336},{"$f":"VLOOKUP(Ethanol!$A80&\" Industrial Ethanol\",ConsumeBlock,Ethanol!Y$65,FALSE)","v":320},{"$f":"VLOOKUP(Ethanol!$A80&\" Industrial Ethanol\",ConsumeBlock,Ethanol!Z$65,FALSE)","v":276},{"$f":"VLOOKUP(Ethanol!$A80&\" Industrial Ethanol\",ConsumeBlock,Ethanol!AA$65,FALSE)","v":299},{"$f":"VLOOKUP(Ethanol!$A80&\" Industrial Ethanol\",ConsumeBlock,Ethanol!AB$65,FALSE)","v":345},{"$f":"VLOOKUP(Ethanol!$A80&\" Industrial Ethanol\",ConsumeBlock,Ethanol!AC$65,FALSE)","v":352},{"$f":"VLOOKUP(Ethanol!$A80&\" Industrial Ethanol\",ConsumeBlock,Ethanol!AD$65,FALSE)","v":345}]
["IN",{"$f":"VLOOKUP(Ethanol!$A81&\" Industrial Ethanol\",ConsumeBlock,Ethanol!B$65,FALSE)","v":53},{"$f":"VLOOKUP(Ethanol!$A81&\" Industrial Ethanol\",ConsumeBlock,Ethanol!C$65,FALSE)","v":72},{"$f":"VLOOKUP(Ethanol!$A81&\" Industrial Ethanol\",ConsumeBlock,Ethanol!D$65,FALSE)","v":61},{"$f":"VLOOKUP(Ethanol!$A81&\" Industrial Ethanol\",ConsumeBlock,Ethanol!E$65,FALSE)","v":70},{"$f":"VLOOKUP(Ethanol!$A81&\" Industrial Ethanol\",ConsumeBlock,Ethanol!F$65,FALSE)","v":76},{"$f":"VLOOKUP(Ethanol!$A81&\" Industrial Ethanol\",ConsumeBlock,Ethanol!G$65,FALSE)","v":93},{"$f":"VLOOKUP(Ethanol!$A81&\" Industrial Ethanol\",ConsumeBlock,Ethanol!H$65,FALSE)","v":46},{"$f":"VLOOKUP(Ethanol!$A81&\" Industrial Ethanol\",ConsumeBlock,Ethanol!I$65,FALSE)","v":64},{"$f":"VLOOKUP(Ethanol!$A81&\" Industrial Ethanol\",ConsumeBlock,Ethanol!J$65,FALSE)","v":44},{"$f":"VLOOKUP(Ethanol!$A81&\" Industrial Ethanol\",ConsumeBlock,Ethanol!K$65,FALSE)","v":79},{"$f":"VLOOKUP(Ethanol!$A81&\" Industrial Ethanol\",ConsumeBlock,Ethanol!L$65,FALSE)","v":79},{"$f":"VLOOKUP(Ethanol!$A81&\" Industrial Ethanol\",ConsumeBlock,Ethanol!M$65,FALSE)","v":132},{"$f":"VLOOKUP(Ethanol!$A81&\" Industrial Ethanol\",ConsumeBlock,Ethanol!N$65,FALSE)","v":162},{"$f":"VLOOKUP(Ethanol!$A81&\" Industrial Ethanol\",ConsumeBlock,Ethanol!O$65,FALSE)","v":171},{"$f":"VLOOKUP(Ethanol!$A81&\" Industrial Ethanol\",ConsumeBlock,Ethanol!P$65,FALSE)","v":223},{"$f":"VLOOKUP(Ethanol!$A81&\" Industrial Ethanol\",ConsumeBlock,Ethanol!Q$65,FALSE)","v":230},{"$f":"VLOOKUP(Ethanol!$A81&\" Industrial Ethanol\",ConsumeBlock,Ethanol!R$65,FALSE)","v":255},{"$f":"VLOOKUP(Ethanol!$A81&\" Industrial Ethanol\",ConsumeBlock,Ethanol!S$65,FALSE)","v":543},{"$f":"VLOOKUP(Ethanol!$A81&\" Industrial Ethanol\",ConsumeBlock,Ethanol!T$65,FALSE)","v":705},{"$f":"VLOOKUP(Ethanol!$A81&\" Industrial Ethanol\",ConsumeBlock,Ethanol!U$65,FALSE)","v":752},{"$f":"VLOOKUP(Ethanol!$A81&\" Industrial Ethanol\",ConsumeBlock,Ethanol!V$65,FALSE)","v":418},{"$f":"VLOOKUP(Ethanol!$A81&\" Industrial Ethanol\",ConsumeBlock,Ethanol!W$65,FALSE)","v":433},{"$f":"VLOOKUP(Ethanol!$A81&\" Industrial Ethanol\",ConsumeBlock,Ethanol!X$65,FALSE)","v":472},{"$f":"VLOOKUP(Ethanol!$A81&\" Industrial Ethanol\",ConsumeBlock,Ethanol!Y$65,FALSE)","v":487},{"$f":"VLOOKUP(Ethanol!$A81&\" Industrial Ethanol\",ConsumeBlock,Ethanol!Z$65,FALSE)","v":323},{"$f":"VLOOKUP(Ethanol!$A81&\" Industrial Ethanol\",ConsumeBlock,Ethanol!AA$65,FALSE)","v":332},{"$f":"VLOOKUP(Ethanol!$A81&\" Industrial Ethanol\",ConsumeBlock,Ethanol!AB$65,FALSE)","v":368},{"$f":"VLOOKUP(Ethanol!$A81&\" Industrial Ethanol\",ConsumeBlock,Ethanol!AC$65,FALSE)","v":363},{"$f":"VLOOKUP(Ethanol!$A81&\" Industrial Ethanol\",ConsumeBlock,Ethanol!AD$65,FALSE)","v":363}]
["IL",{"$f":"VLOOKUP(Ethanol!$A82&\" Industrial Ethanol\",ConsumeBlock,Ethanol!B$65,FALSE)","v":136},{"$f":"VLOOKUP(Ethanol!$A82&\" Industrial Ethanol\",ConsumeBlock,Ethanol!C$65,FALSE)","v":161},{"$f":"VLOOKUP(Ethanol!$A82&\" Industrial Ethanol\",ConsumeBlock,Ethanol!D$65,FALSE)","v":165},{"$f":"VLOOKUP(Ethanol!$A82&\" Industrial Ethanol\",ConsumeBlock,Ethanol!E$65,FALSE)","v":207},{"$f":"VLOOKUP(Ethanol!$A82&\" Industrial Ethanol\",ConsumeBlock,Ethanol!F$65,FALSE)","v":243},{"$f":"VLOOKUP(Ethanol!$A82&\" Industrial Ethanol\",ConsumeBlock,Ethanol!G$65,FALSE)","v":202},{"$f":"VLOOKUP(Ethanol!$A82&\" Industrial Ethanol\",ConsumeBlock,Ethanol!H$65,FALSE)","v":143},{"$f":"VLOOKUP(Ethanol!$A82&\" Industrial Ethanol\",ConsumeBlock,Ethanol!I$65,FALSE)","v":208},{"$f":"VLOOKUP(Ethanol!$A82&\" Industrial Ethanol\",ConsumeBlock,Ethanol!J$65,FALSE)","v":222},{"$f":"VLOOKUP(Ethanol!$A82&\" Industrial Ethanol\",ConsumeBlock,Ethanol!K$65,FALSE)","v":182},{"$f":"VLOOKUP(Ethanol!$A82&\" Industrial Ethanol\",ConsumeBlock,Ethanol!L$65,FALSE)","v":206},{"$f":"VLOOKUP(Ethanol!$A82&\" Industrial Ethanol\",ConsumeBlock,Ethanol!M$65,FALSE)","v":471},{"$f":"VLOOKUP(Ethanol!$A82&\" Industrial Ethanol\",ConsumeBlock,Ethanol!N$65,FALSE)","v":463},{"$f":"VLOOKUP(Ethanol!$A82&\" Industrial Ethanol\",ConsumeBlock,Ethanol!O$65,FALSE)","v":651},{"$f":"VLOOKUP(Ethanol!$A82&\" Industrial Ethanol\",ConsumeBlock,Ethanol!P$65,FALSE)","v":729},{"$f":"VLOOKUP(Ethanol!$A82&\" Industrial Ethanol\",ConsumeBlock,Ethanol!Q$65,FALSE)","v":642},{"$f":"VLOOKUP(Ethanol!$A82&\" Industrial Ethanol\",ConsumeBlock,Ethanol!R$65,FALSE)","v":656},{"$f":"VLOOKUP(Ethanol!$A82&\" Industrial Ethanol\",ConsumeBlock,Ethanol!S$65,FALSE)","v":491},{"$f":"VLOOKUP(Ethanol!$A82&\" Industrial Ethanol\",ConsumeBlock,Ethanol!T$65,FALSE)","v":521},{"$f":"VLOOKUP(Ethanol!$A82&\" Industrial Ethanol\",ConsumeBlock,Ethanol!U$65,FALSE)","v":495},{"$f":"VLOOKUP(Ethanol!$A82&\" Industrial Ethanol\",ConsumeBlock,Ethanol!V$65,FALSE)","v":730},{"$f":"VLOOKUP(Ethanol!$A82&\" Industrial Ethanol\",ConsumeBlock,Ethanol!W$65,FALSE)","v":713},{"$f":"VLOOKUP(Ethanol!$A82&\" Industrial Ethanol\",ConsumeBlock,Ethanol!X$65,FALSE)","v":685},{"$f":"VLOOKUP(Ethanol!$A82&\" Industrial Ethanol\",ConsumeBlock,Ethanol!Y$65,FALSE)","v":719},{"$f":"VLOOKUP(Ethanol!$A82&\" Industrial Ethanol\",ConsumeBlock,Ethanol!Z$65,FALSE)","v":567},{"$f":"VLOOKUP(Ethanol!$A82&\" Industrial Ethanol\",ConsumeBlock,Ethanol!AA$65,FALSE)","v":665},{"$f":"VLOOKUP(Ethanol!$A82&\" Industrial Ethanol\",ConsumeBlock,Ethanol!AB$65,FALSE)","v":715},{"$f":"VLOOKUP(Ethanol!$A82&\" Industrial Ethanol\",ConsumeBlock,Ethanol!AC$65,FALSE)","v":730},{"$f":"VLOOKUP(Ethanol!$A82&\" Industrial Ethanol\",ConsumeBlock,Ethanol!AD$65,FALSE)","v":732}]
["KS",{"$f":"VLOOKUP(Ethanol!$A83&\" Industrial Ethanol\",ConsumeBlock,Ethanol!B$65,FALSE)","v":16},{"$f":"VLOOKUP(Ethanol!$A83&\" Industrial Ethanol\",ConsumeBlock,Ethanol!C$65,FALSE)","v":16},{"$f":"VLOOKUP(Ethanol!$A83&\" Industrial Ethanol\",ConsumeBlock,Ethanol!D$65,FALSE)","v":14},{"$f":"VLOOKUP(Ethanol!$A83&\" Industrial Ethanol\",ConsumeBlock,Ethanol!E$65,FALSE)","v":16},{"$f":"VLOOKUP(Ethanol!$A83&\" Industrial Ethanol\",ConsumeBlock,Ethanol!F$65,FALSE)","v":15},{"$f":"VLOOKUP(Ethanol!$A83&\" Industrial Ethanol\",ConsumeBlock,Ethanol!G$65,FALSE)","v":13},{"$f":"VLOOKUP(Ethanol!$A83&\" Industrial Ethanol\",ConsumeBlock,Ethanol!H$65,FALSE)","v":8},{"$f":"VLOOKUP(Ethanol!$A83&\" Industrial Ethanol\",ConsumeBlock,Ethanol!I$65,FALSE)","v":8},{"$f":"VLOOKUP(Ethanol!$A83&\" Industrial Ethanol\",ConsumeBlock,Ethanol!J$65,FALSE)","v":10},{"$f":"VLOOKUP(Ethanol!$A83&\" Industrial Ethanol\",ConsumeBlock,Ethanol!K$65,FALSE)","v":10},{"$f":"VLOOKUP(Ethanol!$A83&\" Industrial Ethanol\",ConsumeBlock,Ethanol!L$65,FALSE)","v":5},{"$f":"VLOOKUP(Ethanol!$A83&\" Industrial Ethanol\",ConsumeBlock,Ethanol!M$65,FALSE)","v":6},{"$f":"VLOOKUP(Ethanol!$A83&\" Industrial Ethanol\",ConsumeBlock,Ethanol!N$65,FALSE)","v":87},{"$f":"VLOOKUP(Ethanol!$A83&\" Industrial Ethanol\",ConsumeBlock,Ethanol!O$65,FALSE)","v":116},{"$f":"VLOOKUP(Ethanol!$A83&\" Industrial Ethanol\",ConsumeBlock,Ethanol!P$65,FALSE)","v":14},{"$f":"VLOOKUP(Ethanol!$A83&\" Industrial Ethanol\",ConsumeBlock,Ethanol!Q$65,FALSE)","v":110},{"$f":"VLOOKUP(Ethanol!$A83&\" Industrial Ethanol\",ConsumeBlock,Ethanol!R$65,FALSE)","v":105},{"$f":"VLOOKUP(Ethanol!$A83&\" Industrial Ethanol\",ConsumeBlock,Ethanol!S$65,FALSE)","v":160},{"$f":"VLOOKUP(Ethanol!$A83&\" Industrial Ethanol\",ConsumeBlock,Ethanol!T$65,FALSE)","v":234},{"$f":"VLOOKUP(Ethanol!$A83&\" Industrial Ethanol\",ConsumeBlock,Ethanol!U$65,FALSE)","v":225},{"$f":"VLOOKUP(Ethanol!$A83&\" Industrial Ethanol\",ConsumeBlock,Ethanol!V$65,FALSE)","v":172},{"$f":"VLOOKUP(Ethanol!$A83&\" Industrial Ethanol\",ConsumeBlock,Ethanol!W$65,FALSE)","v":180},{"$f":"VLOOKUP(Ethanol!$A83&\" Industrial Ethanol\",ConsumeBlock,Ethanol!X$65,FALSE)","v":150},{"$f":"VLOOKUP(Ethanol!$A83&\" Industrial Ethanol\",ConsumeBlock,Ethanol!Y$65,FALSE)","v":148},{"$f":"VLOOKUP(Ethanol!$A83&\" Industrial Ethanol\",ConsumeBlock,Ethanol!Z$65,FALSE)","v":121},{"$f":"VLOOKUP(Ethanol!$A83&\" Industrial Ethanol\",ConsumeBlock,Ethanol!AA$65,FALSE)","v":292},{"$f":"VLOOKUP(Ethanol!$A83&\" Industrial Ethanol\",ConsumeBlock,Ethanol!AB$65,FALSE)","v":329},{"$f":"VLOOKUP(Ethanol!$A83&\" Industrial Ethanol\",ConsumeBlock,Ethanol!AC$65,FALSE)","v":335},{"$f":"VLOOKUP(Ethanol!$A83&\" Industrial Ethanol\",ConsumeBlock,Ethanol!AD$65,FALSE)","v":333}]
["KY",{"$f":"VLOOKUP(Ethanol!$A84&\" Industrial Ethanol\",ConsumeBlock,Ethanol!B$65,FALSE)","v":57},{"$f":"VLOOKUP(Ethanol!$A84&\" Industrial Ethanol\",ConsumeBlock,Ethanol!C$65,FALSE)","v":57},{"$f":"VLOOKUP(Ethanol!$A84&\" Industrial Ethanol\",ConsumeBlock,Ethanol!D$65,FALSE)","v":65},{"$f":"VLOOKUP(Ethanol!$A84&\" Industrial Ethanol\",ConsumeBlock,Ethanol!E$65,FALSE)","v":48},{"$f":"VLOOKUP(Ethanol!$A84&\" Industrial Ethanol\",ConsumeBlock,Ethanol!F$65,FALSE)","v":22},{"$f":"VLOOKUP(Ethanol!$A84&\" Industrial Ethanol\",ConsumeBlock,Ethanol!G$65,FALSE)","v":11},{"$f":"VLOOKUP(Ethanol!$A84&\" Industrial Ethanol\",ConsumeBlock,Ethanol!H$65,FALSE)","v":13},{"$f":"VLOOKUP(Ethanol!$A84&\" Industrial Ethanol\",ConsumeBlock,Ethanol!I$65,FALSE)","v":14},{"$f":"VLOOKUP(Ethanol!$A84&\" Industrial Ethanol\",ConsumeBlock,Ethanol!J$65,FALSE)","v":5},{"$f":"VLOOKUP(Ethanol!$A84&\" Industrial Ethanol\",ConsumeBlock,Ethanol!K$65,FALSE)","v":5},{"$f":"VLOOKUP(Ethanol!$A84&\" Industrial Ethanol\",ConsumeBlock,Ethanol!L$65,FALSE)","v":4},{"$f":"VLOOKUP(Ethanol!$A84&\" Industrial Ethanol\",ConsumeBlock,Ethanol!M$65,FALSE)","v":11},{"$f":"VLOOKUP(Ethanol!$A84&\" Industrial Ethanol\",ConsumeBlock,Ethanol!N$65,FALSE)","v":75},{"$f":"VLOOKUP(Ethanol!$A84&\" Industrial Ethanol\",ConsumeBlock,Ethanol!O$65,FALSE)","v":178},{"$f":"VLOOKUP(Ethanol!$A84&\" Industrial Ethanol\",ConsumeBlock,Ethanol!P$65,FALSE)","v":169},{"$f":"VLOOKUP(Ethanol!$A84&\" Industrial Ethanol\",ConsumeBlock,Ethanol!Q$65,FALSE)","v":379},{"$f":"VLOOKUP(Ethanol!$A84&\" Industrial Ethanol\",ConsumeBlock,Ethanol!R$65,FALSE)","v":422},{"$f":"VLOOKUP(Ethanol!$A84&\" Industrial Ethanol\",ConsumeBlock,Ethanol!S$65,FALSE)","v":253},{"$f":"VLOOKUP(Ethanol!$A84&\" Industrial Ethanol\",ConsumeBlock,Ethanol!T$65,FALSE)","v":232},{"$f":"VLOOKUP(Ethanol!$A84&\" Industrial Ethanol\",ConsumeBlock,Ethanol!U$65,FALSE)","v":254},{"$f":"VLOOKUP(Ethanol!$A84&\" Industrial Ethanol\",ConsumeBlock,Ethanol!V$65,FALSE)","v":246},{"$f":"VLOOKUP(Ethanol!$A84&\" Industrial Ethanol\",ConsumeBlock,Ethanol!W$65,FALSE)","v":250},{"$f":"VLOOKUP(Ethanol!$A84&\" Industrial Ethanol\",ConsumeBlock,Ethanol!X$65,FALSE)","v":242},{"$f":"VLOOKUP(Ethanol!$A84&\" Industrial Ethanol\",ConsumeBlock,Ethanol!Y$65,FALSE)","v":249},{"$f":"VLOOKUP(Ethanol!$A84&\" Industrial Ethanol\",ConsumeBlock,Ethanol!Z$65,FALSE)","v":180},{"$f":"VLOOKUP(Ethanol!$A84&\" Industrial Ethanol\",ConsumeBlock,Ethanol!AA$65,FALSE)","v":179},{"$f":"VLOOKUP(Ethanol!$A84&\" Industrial Ethanol\",ConsumeBlock,Ethanol!AB$65,FALSE)","v":189},{"$f":"VLOOKUP(Ethanol!$A84&\" Industrial Ethanol\",ConsumeBlock,Ethanol!AC$65,FALSE)","v":193},{"$f":"VLOOKUP(Ethanol!$A84&\" Industrial Ethanol\",ConsumeBlock,Ethanol!AD$65,FALSE)","v":192}]
["LA",{"$f":"VLOOKUP(Ethanol!$A85&\" Industrial Ethanol\",ConsumeBlock,Ethanol!B$65,FALSE)","v":2},{"$f":"VLOOKUP(Ethanol!$A85&\" Industrial Ethanol\",ConsumeBlock,Ethanol!C$65,FALSE)","v":5},{"$f":"VLOOKUP(Ethanol!$A85&\" Industrial Ethanol\",ConsumeBlock,Ethanol!D$65,FALSE)","v":6},{"$f":"VLOOKUP(Ethanol!$A85&\" Industrial Ethanol\",ConsumeBlock,Ethanol!E$65,FALSE)","v":11},{"$f":"VLOOKUP(Ethanol!$A85&\" Industrial Ethanol\",ConsumeBlock,Ethanol!F$65,FALSE)","v":19},{"$f":"VLOOKUP(Ethanol!$A85&\" Industrial Ethanol\",ConsumeBlock,Ethanol!G$65,FALSE)","v":11},{"$f":"VLOOKUP(Ethanol!$A85&\" Industrial Ethanol\",ConsumeBlock,Ethanol!H$65,FALSE)","v":2},{"$f":"VLOOKUP(Ethanol!$A85&\" Industrial Ethanol\",ConsumeBlock,Ethanol!I$65,FALSE)","v":1},{"$f":"VLOOKUP(Ethanol!$A85&\" Industrial Ethanol\",ConsumeBlock,Ethanol!J$65,FALSE)","v":1},{"$f":"VLOOKUP(Ethanol!$A85&\" Industrial Ethanol\",ConsumeBlock,Ethanol!K$65,FALSE)","v":2},{"$f":"VLOOKUP(Ethanol!$A85&\" Industrial Ethanol\",ConsumeBlock,Ethanol!L$65,FALSE)","v":0},{"$f":"VLOOKUP(Ethanol!$A85&\" Industrial Ethanol\",ConsumeBlock,Ethanol!M$65,FALSE)","v":0},{"$f":"VLOOKUP(Ethanol!$A85&\" Industrial Ethanol\",ConsumeBlock,Ethanol!N$65,FALSE)","v":69},{"$f":"VLOOKUP(Ethanol!$A85&\" Industrial Ethanol\",ConsumeBlock,Ethanol!O$65,FALSE)","v":90},{"$f":"VLOOKUP(Ethanol!$A85&\" Industrial Ethanol\",ConsumeBlock,Ethanol!P$65,FALSE)","v":108},{"$f":"VLOOKUP(Ethanol!$A85&\" Industrial Ethanol\",ConsumeBlock,Ethanol!Q$65,FALSE)","v":4},{"$f":"VLOOKUP(Ethanol!$A85&\" Industrial Ethanol\",ConsumeBlock,Ethanol!R$65,FALSE)","v":3},{"$f":"VLOOKUP(Ethanol!$A85&\" Industrial Ethanol\",ConsumeBlock,Ethanol!S$65,FALSE)","v":14},{"$f":"VLOOKUP(Ethanol!$A85&\" Industrial Ethanol\",ConsumeBlock,Ethanol!T$65,FALSE)","v":54},{"$f":"VLOOKUP(Ethanol!$A85&\" Industrial Ethanol\",ConsumeBlock,Ethanol!U$65,FALSE)","v":130},{"$f":"VLOOKUP(Ethanol!$A85&\" Industrial Ethanol\",ConsumeBlock,Ethanol!V$65,FALSE)","v":391},{"$f":"VLOOKUP(Ethanol!$A85&\" Industrial Ethanol\",ConsumeBlock,Ethanol!W$65,FALSE)","v":408},{"$f":"VLOOKUP(Ethanol!$A85&\" Industrial Ethanol\",ConsumeBlock,Ethanol!X$65,FALSE)","v":376},{"$f":"VLOOKUP(Ethanol!$A85&\" Industrial Ethanol\",ConsumeBlock,Ethanol!Y$65,FALSE)","v":415},{"$f":"VLOOKUP(Ethanol!$A85&\" Industrial Ethanol\",ConsumeBlock,Ethanol!Z$65,FALSE)","v":281},{"$f":"VLOOKUP(Ethanol!$A85&\" Industrial Ethanol\",ConsumeBlock,Ethanol!AA$65,FALSE)","v":268},{"$f":"VLOOKUP(Ethanol!$A85&\" Industrial Ethanol\",ConsumeBlock,Ethanol!AB$65,FALSE)","v":274},{"$f":"VLOOKUP(Ethanol!$A85&\" Industrial Ethanol\",ConsumeBlock,Ethanol!AC$65,FALSE)","v":278},{"$f":"VLOOKUP(Ethanol!$A85&\" Industrial Ethanol\",ConsumeBlock,Ethanol!AD$65,FALSE)","v":267}]
["ME",{"$f":"VLOOKUP(Ethanol!$A86&\" Industrial Ethanol\",ConsumeBlock,Ethanol!B$65,FALSE)","v":0},{"$f":"VLOOKUP(Ethanol!$A86&\" Industrial Ethanol\",ConsumeBlock,Ethanol!C$65,FALSE)","v":0},{"$f":"VLOOKUP(Ethanol!$A86&\" Industrial Ethanol\",ConsumeBlock,Ethanol!D$65,FALSE)","v":0},{"$f":"VLOOKUP(Ethanol!$A86&\" Industrial Ethanol\",ConsumeBlock,Ethanol!E$65,FALSE)","v":0},{"$f":"VLOOKUP(Ethanol!$A86&\" Industrial Ethanol\",ConsumeBlock,Ethanol!F$65,FALSE)","v":0},{"$f":"VLOOKUP(Ethanol!$A86&\" Industrial Ethanol\",ConsumeBlock,Ethanol!G$65,FALSE)","v":0},{"$f":"VLOOKUP(Ethanol!$A86&\" Industrial Ethanol\",ConsumeBlock,Ethanol!H$65,FALSE)","v":0},{"$f":"VLOOKUP(Ethanol!$A86&\" Industrial Ethanol\",ConsumeBlock,Ethanol!I$65,FALSE)","v":0},{"$f":"VLOOKUP(Ethanol!$A86&\" Industrial Ethanol\",ConsumeBlock,Ethanol!J$65,FALSE)","v":0},{"$f":"VLOOKUP(Ethanol!$A86&\" Industrial Ethanol\",ConsumeBlock,Ethanol!K$65,FALSE)","v":0},{"$f":"VLOOKUP(Ethanol!$A86&\" Industrial Ethanol\",ConsumeBlock,Ethanol!L$65,FALSE)","v":0},{"$f":"VLOOKUP(Ethanol!$A86&\" Industrial Ethanol\",ConsumeBlock,Ethanol!M$65,FALSE)","v":0},{"$f":"VLOOKUP(Ethanol!$A86&\" Industrial Ethanol\",ConsumeBlock,Ethanol!N$65,FALSE)","v":0},{"$f":"VLOOKUP(Ethanol!$A86&\" Industrial Ethanol\",ConsumeBlock,Ethanol!O$65,FALSE)","v":0},{"$f":"VLOOKUP(Ethanol!$A86&\" Industrial Ethanol\",ConsumeBlock,Ethanol!P$65,FALSE)","v":0},{"$f":"VLOOKUP(Ethanol!$A86&\" Industrial Ethanol\",ConsumeBlock,Ethanol!Q$65,FALSE)","v":6},{"$f":"VLOOKUP(Ethanol!$A86&\" Industrial Ethanol\",ConsumeBlock,Ethanol!R$65,FALSE)","v":10},{"$f":"VLOOKUP(Ethanol!$A86&\" Industrial Ethanol\",ConsumeBlock,Ethanol!S$65,FALSE)","v":12},{"$f":"VLOOKUP(Ethanol!$A86&\" Industrial Ethanol\",ConsumeBlock,Ethanol!T$65,FALSE)","v":52},{"$f":"VLOOKUP(Ethanol!$A86&\" Industrial Ethanol\",ConsumeBlock,Ethanol!U$65,FALSE)","v":63},{"$f":"VLOOKUP(Ethanol!$A86&\" Industrial Ethanol\",ConsumeBlock,Ethanol!V$65,FALSE)","v":93},{"$f":"VLOOKUP(Ethanol!$A86&\" Industrial Ethanol\",ConsumeBlock,Ethanol!W$65,FALSE)","v":97},{"$f":"VLOOKUP(Ethanol!$A86&\" Industrial Ethanol\",ConsumeBlock,Ethanol!X$65,FALSE)","v":95},{"$f":"VLOOKUP(Ethanol!$A86&\" Industrial Ethanol\",ConsumeBlock,Ethanol!Y$65,FALSE)","v":97},{"$f":"VLOOKUP(Ethanol!$A86&\" Industrial Ethanol\",ConsumeBlock,Ethanol!Z$65,FALSE)","v":86},{"$f":"VLOOKUP(Ethanol!$A86&\" Industrial Ethanol\",ConsumeBlock,Ethanol!AA$65,FALSE)","v":75},{"$f":"VLOOKUP(Ethanol!$A86&\" Industrial Ethanol\",ConsumeBlock,Ethanol!AB$65,FALSE)","v":79},{"$f":"VLOOKUP(Ethanol!$A86&\" Industrial Ethanol\",ConsumeBlock,Ethanol!AC$65,FALSE)","v":81},{"$f":"VLOOKUP(Ethanol!$A86&\" Industrial Ethanol\",ConsumeBlock,Ethanol!AD$65,FALSE)","v":82}]
["MD",{"$f":"VLOOKUP(Ethanol!$A87&\" Industrial Ethanol\",ConsumeBlock,Ethanol!B$65,FALSE)","v":0},{"$f":"VLOOKUP(Ethanol!$A87&\" Industrial Ethanol\",ConsumeBlock,Ethanol!C$65,FALSE)","v":0},{"$f":"VLOOKUP(Ethanol!$A87&\" Industrial Ethanol\",ConsumeBlock,Ethanol!D$65,FALSE)","v":0},{"$f":"VLOOKUP(Ethanol!$A87&\" Industrial Ethanol\",ConsumeBlock,Ethanol!E$65,FALSE)","v":0},{"$f":"VLOOKUP(Ethanol!$A87&\" Industrial Ethanol\",ConsumeBlock,Ethanol!F$65,FALSE)","v":0},{"$f":"VLOOKUP(Ethanol!$A87&\" Industrial Ethanol\",ConsumeBlock,Ethanol!G$65,FALSE)","v":2},{"$f":"VLOOKUP(Ethanol!$A87&\" Industrial Ethanol\",ConsumeBlock,Ethanol!H$65,FALSE)","v":1},{"$f":"VLOOKUP(Ethanol!$A87&\" Industrial Ethanol\",ConsumeBlock,Ethanol!I$65,FALSE)","v":2},{"$f":"VLOOKUP(Ethanol!$A87&\" Industrial Ethanol\",ConsumeBlock,Ethanol!J$65,FALSE)","v":1},{"$f":"VLOOKUP(Ethanol!$A87&\" Industrial Ethanol\",ConsumeBlock,Ethanol!K$65,FALSE)","v":1},{"$f":"VLOOKUP(Ethanol!$A87&\" Industrial Ethanol\",ConsumeBlock,Ethanol!L$65,FALSE)","v":1},{"$f":"VLOOKUP(Ethanol!$A87&\" Industrial Ethanol\",ConsumeBlock,Ethanol!M$65,FALSE)","v":0},{"$f":"VLOOKUP(Ethanol!$A87&\" Industrial Ethanol\",ConsumeBlock,Ethanol!N$65,FALSE)","v":43},{"$f":"VLOOKUP(Ethanol!$A87&\" Industrial Ethanol\",ConsumeBlock,Ethanol!O$65,FALSE)","v":0},{"$f":"VLOOKUP(Ethanol!$A87&\" Industrial Ethanol\",ConsumeBlock,Ethanol!P$65,FALSE)","v":0},{"$f":"VLOOKUP(Ethanol!$A87&\" Industrial Ethanol\",ConsumeBlock,Ethanol!Q$65,FALSE)","v":74},{"$f":"VLOOKUP(Ethanol!$A87&\" Industrial Ethanol\",ConsumeBlock,Ethanol!R$65,FALSE)","v":216},{"$f":"VLOOKUP(Ethanol!$A87&\" Industrial Ethanol\",ConsumeBlock,Ethanol!S$65,FALSE)","v":270},{"$f":"VLOOKUP(Ethanol!$A87&\" Industrial Ethanol\",ConsumeBlock,Ethanol!T$65,FALSE)","v":209},{"$f":"VLOOKUP(Ethanol!$A87&\" Industrial Ethanol\",ConsumeBlock,Ethanol!U$65,FALSE)","v":222},{"$f":"VLOOKUP(Ethanol!$A87&\" Industrial Ethanol\",ConsumeBlock,Ethanol!V$65,FALSE)","v":275},{"$f":"VLOOKUP(Ethanol!$A87&\" Industrial Ethanol\",ConsumeBlock,Ethanol!W$65,FALSE)","v":281},{"$f":"VLOOKUP(Ethanol!$A87&\" Industrial Ethanol\",ConsumeBlock,Ethanol!X$65,FALSE)","v":263},{"$f":"VLOOKUP(Ethanol!$A87&\" Industrial Ethanol\",ConsumeBlock,Ethanol!Y$65,FALSE)","v":280},{"$f":"VLOOKUP(Ethanol!$A87&\" Industrial Ethanol\",ConsumeBlock,Ethanol!Z$65,FALSE)","v":295},{"$f":"VLOOKUP(Ethanol!$A87&\" Industrial Ethanol\",ConsumeBlock,Ethanol!AA$65,FALSE)","v":190},{"$f":"VLOOKUP(Ethanol!$A87&\" Industrial Ethanol\",ConsumeBlock,Ethanol!AB$65,FALSE)","v":199},{"$f":"VLOOKUP(Ethanol!$A87&\" Industrial Ethanol\",ConsumeBlock,Ethanol!AC$65,FALSE)","v":204},{"$f":"VLOOKUP(Ethanol!$A87&\" Industrial Ethanol\",ConsumeBlock,Ethanol!AD$65,FALSE)","v":207}]
["MA",{"$f":"VLOOKUP(Ethanol!$A88&\" Industrial Ethanol\",ConsumeBlock,Ethanol!B$65,FALSE)","v":0},{"$f":"VLOOKUP(Ethanol!$A88&\" Industrial Ethanol\",ConsumeBlock,Ethanol!C$65,FALSE)","v":0},{"$f":"VLOOKUP(Ethanol!$A88&\" Industrial Ethanol\",ConsumeBlock,Ethanol!D$65,FALSE)","v":0},{"$f":"VLOOKUP(Ethanol!$A88&\" Industrial Ethanol\",ConsumeBlock,Ethanol!E$65,FALSE)","v":0},{"$f":"VLOOKUP(Ethanol!$A88&\" Industrial Ethanol\",ConsumeBlock,Ethanol!F$65,FALSE)","v":0},{"$f":"VLOOKUP(Ethanol!$A88&\" Industrial Ethanol\",ConsumeBlock,Ethanol!G$65,FALSE)","v":0},{"$f":"VLOOKUP(Ethanol!$A88&\" Industrial Ethanol\",ConsumeBlock,Ethanol!H$65,FALSE)","v":0},{"$f":"VLOOKUP(Ethanol!$A88&\" Industrial Ethanol\",ConsumeBlock,Ethanol!I$65,FALSE)","v":0},{"$f":"VLOOKUP(Ethanol!$A88&\" Industrial Ethanol\",ConsumeBlock,Ethanol!J$65,FALSE)","v":0},{"$f":"VLOOKUP(Ethanol!$A88&\" Industrial Ethanol\",ConsumeBlock,Ethanol!K$65,FALSE)","v":0},{"$f":"VLOOKUP(Ethanol!$A88&\" Industrial Ethanol\",ConsumeBlock,Ethanol!L$65,FALSE)","v":0},{"$f":"VLOOKUP(Ethanol!$A88&\" Industrial Ethanol\",ConsumeBlock,Ethanol!M$65,FALSE)","v":0},{"$f":"VLOOKUP(Ethanol!$A88&\" Industrial Ethanol\",ConsumeBlock,Ethanol!N$65,FALSE)","v":1},{"$f":"VLOOKUP(Ethanol!$A88&\" Industrial Ethanol\",ConsumeBlock,Ethanol!O$65,FALSE)","v":1},{"$f":"VLOOKUP(Ethanol!$A88&\" Industrial Ethanol\",ConsumeBlock,Ethanol!P$65,FALSE)","v":10},{"$f":"VLOOKUP(Ethanol!$A88&\" Industrial Ethanol\",ConsumeBlock,Ethanol!Q$65,FALSE)","v":82},{"$f":"VLOOKUP(Ethanol!$A88&\" Industrial Ethanol\",ConsumeBlock,Ethanol!R$65,FALSE)","v":224},{"$f":"VLOOKUP(Ethanol!$A88&\" Industrial Ethanol\",ConsumeBlock,Ethanol!S$65,FALSE)","v":237},{"$f":"VLOOKUP(Ethanol!$A88&\" Industrial Ethanol\",ConsumeBlock,Ethanol!T$65,FALSE)","v":189},{"$f":"VLOOKUP(Ethanol!$A88&\" Industrial Ethanol\",ConsumeBlock,Ethanol!U$65,FALSE)","v":204},{"$f":"VLOOKUP(Ethanol!$A88&\" Industrial Ethanol\",ConsumeBlock,Ethanol!V$65,FALSE)","v":332},{"$f":"VLOOKUP(Ethanol!$A88&\" Industrial Ethanol\",ConsumeBlock,Ethanol!W$65,FALSE)","v":340},{"$f":"VLOOKUP(Ethanol!$A88&\" Industrial Ethanol\",ConsumeBlock,Ethanol!X$65,FALSE)","v":323},{"$f":"VLOOKUP(Ethanol!$A88&\" Industrial Ethanol\",ConsumeBlock,Ethanol!Y$65,FALSE)","v":342},{"$f":"VLOOKUP(Ethanol!$A88&\" Industrial Ethanol\",ConsumeBlock,Ethanol!Z$65,FALSE)","v":275},{"$f":"VLOOKUP(Ethanol!$A88&\" Industrial Ethanol\",ConsumeBlock,Ethanol!AA$65,FALSE)","v":272},{"$f":"VLOOKUP(Ethanol!$A88&\" Industrial Ethanol\",ConsumeBlock,Ethanol!AB$65,FALSE)","v":273},{"$f":"VLOOKUP(Ethanol!$A88&\" Industrial Ethanol\",ConsumeBlock,Ethanol!AC$65,FALSE)","v":279},{"$f":"VLOOKUP(Ethanol!$A88&\" Industrial Ethanol\",ConsumeBlock,Ethanol!AD$65,FALSE)","v":283}]
["MI",{"$f":"VLOOKUP(Ethanol!$A89&\" Industrial Ethanol\",ConsumeBlock,Ethanol!B$65,FALSE)","v":41},{"$f":"VLOOKUP(Ethanol!$A89&\" Industrial Ethanol\",ConsumeBlock,Ethanol!C$65,FALSE)","v":60},{"$f":"VLOOKUP(Ethanol!$A89&\" Industrial Ethanol\",ConsumeBlock,Ethanol!D$65,FALSE)","v":44},{"$f":"VLOOKUP(Ethanol!$A89&\" Industrial Ethanol\",ConsumeBlock,Ethanol!E$65,FALSE)","v":55},{"$f":"VLOOKUP(Ethanol!$A89&\" Industrial Ethanol\",ConsumeBlock,Ethanol!F$65,FALSE)","v":71},{"$f":"VLOOKUP(Ethanol!$A89&\" Industrial Ethanol\",ConsumeBlock,Ethanol!G$65,FALSE)","v":50},{"$f":"VLOOKUP(Ethanol!$A89&\" Industrial Ethanol\",ConsumeBlock,Ethanol!H$65,FALSE)","v":23},{"$f":"VLOOKUP(Ethanol!$A89&\" Industrial Ethanol\",ConsumeBlock,Ethanol!I$65,FALSE)","v":26},{"$f":"VLOOKUP(Ethanol!$A89&\" Industrial Ethanol\",ConsumeBlock,Ethanol!J$65,FALSE)","v":28},{"$f":"VLOOKUP(Ethanol!$A89&\" Industrial Ethanol\",ConsumeBlock,Ethanol!K$65,FALSE)","v":28},{"$f":"VLOOKUP(Ethanol!$A89&\" Industrial Ethanol\",ConsumeBlock,Ethanol!L$65,FALSE)","v":71},{"$f":"VLOOKUP(Ethanol!$A89&\" Industrial Ethanol\",ConsumeBlock,Ethanol!M$65,FALSE)","v":74},{"$f":"VLOOKUP(Ethanol!$A89&\" Industrial Ethanol\",ConsumeBlock,Ethanol!N$65,FALSE)","v":162},{"$f":"VLOOKUP(Ethanol!$A89&\" Industrial Ethanol\",ConsumeBlock,Ethanol!O$65,FALSE)","v":218},{"$f":"VLOOKUP(Ethanol!$A89&\" Industrial Ethanol\",ConsumeBlock,Ethanol!P$65,FALSE)","v":258},{"$f":"VLOOKUP(Ethanol!$A89&\" Industrial Ethanol\",ConsumeBlock,Ethanol!Q$65,FALSE)","v":330},{"$f":"VLOOKUP(Ethanol!$A89&\" Industrial Ethanol\",ConsumeBlock,Ethanol!R$65,FALSE)","v":374},{"$f":"VLOOKUP(Ethanol!$A89&\" Industrial Ethanol\",ConsumeBlock,Ethanol!S$65,FALSE)","v":436},{"$f":"VLOOKUP(Ethanol!$A89&\" Industrial Ethanol\",ConsumeBlock,Ethanol!T$65,FALSE)","v":528},{"$f":"VLOOKUP(Ethanol!$A89&\" Industrial Ethanol\",ConsumeBlock,Ethanol!U$65,FALSE)","v":464},{"$f":"VLOOKUP(Ethanol!$A89&\" Industrial Ethanol\",ConsumeBlock,Ethanol!V$65,FALSE)","v":391},{"$f":"VLOOKUP(Ethanol!$A89&\" Industrial Ethanol\",ConsumeBlock,Ethanol!W$65,FALSE)","v":394},{"$f":"VLOOKUP(Ethanol!$A89&\" Industrial Ethanol\",ConsumeBlock,Ethanol!X$65,FALSE)","v":462},{"$f":"VLOOKUP(Ethanol!$A89&\" Industrial Ethanol\",ConsumeBlock,Ethanol!Y$65,FALSE)","v":495},{"$f":"VLOOKUP(Ethanol!$A89&\" Industrial Ethanol\",ConsumeBlock,Ethanol!Z$65,FALSE)","v":337},{"$f":"VLOOKUP(Ethanol!$A89&\" Industrial Ethanol\",ConsumeBlock,Ethanol!AA$65,FALSE)","v":510},{"$f":"VLOOKUP(Ethanol!$A89&\" Industrial Ethanol\",ConsumeBlock,Ethanol!AB$65,FALSE)","v":525},{"$f":"VLOOKUP(Ethanol!$A89&\" Industrial Ethanol\",ConsumeBlock,Ethanol!AC$65,FALSE)","v":538},{"$f":"VLOOKUP(Ethanol!$A89&\" Industrial Ethanol\",ConsumeBlock,Ethanol!AD$65,FALSE)","v":543}]
["MN",{"$f":"VLOOKUP(Ethanol!$A90&\" Industrial Ethanol\",ConsumeBlock,Ethanol!B$65,FALSE)","v":47},{"$f":"VLOOKUP(Ethanol!$A90&\" Industrial Ethanol\",ConsumeBlock,Ethanol!C$65,FALSE)","v":113},{"$f":"VLOOKUP(Ethanol!$A90&\" Industrial Ethanol\",ConsumeBlock,Ethanol!D$65,FALSE)","v":171},{"$f":"VLOOKUP(Ethanol!$A90&\" Industrial Ethanol\",ConsumeBlock,Ethanol!E$65,FALSE)","v":266},{"$f":"VLOOKUP(Ethanol!$A90&\" Industrial Ethanol\",ConsumeBlock,Ethanol!F$65,FALSE)","v":305},{"$f":"VLOOKUP(Ethanol!$A90&\" Industrial Ethanol\",ConsumeBlock,Ethanol!G$65,FALSE)","v":302},{"$f":"VLOOKUP(Ethanol!$A90&\" Industrial Ethanol\",ConsumeBlock,Ethanol!H$65,FALSE)","v":128},{"$f":"VLOOKUP(Ethanol!$A90&\" Industrial Ethanol\",ConsumeBlock,Ethanol!I$65,FALSE)","v":519},{"$f":"VLOOKUP(Ethanol!$A90&\" Industrial Ethanol\",ConsumeBlock,Ethanol!J$65,FALSE)","v":375},{"$f":"VLOOKUP(Ethanol!$A90&\" Industrial Ethanol\",ConsumeBlock,Ethanol!K$65,FALSE)","v":327},{"$f":"VLOOKUP(Ethanol!$A90&\" Industrial Ethanol\",ConsumeBlock,Ethanol!L$65,FALSE)","v":316},{"$f":"VLOOKUP(Ethanol!$A90&\" Industrial Ethanol\",ConsumeBlock,Ethanol!M$65,FALSE)","v":467},{"$f":"VLOOKUP(Ethanol!$A90&\" Industrial Ethanol\",ConsumeBlock,Ethanol!N$65,FALSE)","v":477},{"$f":"VLOOKUP(Ethanol!$A90&\" Industrial Ethanol\",ConsumeBlock,Ethanol!O$65,FALSE)","v":492},{"$f":"VLOOKUP(Ethanol!$A90&\" Industrial Ethanol\",ConsumeBlock,Ethanol!P$65,FALSE)","v":480},{"$f":"VLOOKUP(Ethanol!$A90&\" Industrial Ethanol\",ConsumeBlock,Ethanol!Q$65,FALSE)","v":349},{"$f":"VLOOKUP(Ethanol!$A90&\" Industrial Ethanol\",ConsumeBlock,Ethanol!R$65,FALSE)","v":305},{"$f":"VLOOKUP(Ethanol!$A90&\" Industrial Ethanol\",ConsumeBlock,Ethanol!S$65,FALSE)","v":463},{"$f":"VLOOKUP(Ethanol!$A90&\" Industrial Ethanol\",ConsumeBlock,Ethanol!T$65,FALSE)","v":318},{"$f":"VLOOKUP(Ethanol!$A90&\" Industrial Ethanol\",ConsumeBlock,Ethanol!U$65,FALSE)","v":343},{"$f":"VLOOKUP(Ethanol!$A90&\" Industrial Ethanol\",ConsumeBlock,Ethanol!V$65,FALSE)","v":575},{"$f":"VLOOKUP(Ethanol!$A90&\" Industrial Ethanol\",ConsumeBlock,Ethanol!W$65,FALSE)","v":549},{"$f":"VLOOKUP(Ethanol!$A90&\" Industrial Ethanol\",ConsumeBlock,Ethanol!X$65,FALSE)","v":555},{"$f":"VLOOKUP(Ethanol!$A90&\" Industrial Ethanol\",ConsumeBlock,Ethanol!Y$65,FALSE)","v":613},{"$f":"VLOOKUP(Ethanol!$A90&\" Industrial Ethanol\",ConsumeBlock,Ethanol!Z$65,FALSE)","v":513},{"$f":"VLOOKUP(Ethanol!$A90&\" Industrial Ethanol\",ConsumeBlock,Ethanol!AA$65,FALSE)","v":518},{"$f":"VLOOKUP(Ethanol!$A90&\" Industrial Ethanol\",ConsumeBlock,Ethanol!AB$65,FALSE)","v":563},{"$f":"VLOOKUP(Ethanol!$A90&\" Industrial Ethanol\",ConsumeBlock,Ethanol!AC$65,FALSE)","v":571},{"$f":"VLOOKUP(Ethanol!$A90&\" Industrial Ethanol\",ConsumeBlock,Ethanol!AD$65,FALSE)","v":574}]
["MS",{"$f":"VLOOKUP(Ethanol!$A91&\" Industrial Ethanol\",ConsumeBlock,Ethanol!B$65,FALSE)","v":0},{"$f":"VLOOKUP(Ethanol!$A91&\" Industrial Ethanol\",ConsumeBlock,Ethanol!C$65,FALSE)","v":0},{"$f":"VLOOKUP(Ethanol!$A91&\" Industrial Ethanol\",ConsumeBlock,Ethanol!D$65,FALSE)","v":0},{"$f":"VLOOKUP(Ethanol!$A91&\" Industrial Ethanol\",ConsumeBlock,Ethanol!E$65,FALSE)","v":6},{"$f":"VLOOKUP(Ethanol!$A91&\" Industrial Ethanol\",ConsumeBlock,Ethanol!F$65,FALSE)","v":4},{"$f":"VLOOKUP(Ethanol!$A91&\" Industrial Ethanol\",ConsumeBlock,Ethanol!G$65,FALSE)","v":2},{"$f":"VLOOKUP(Ethanol!$A91&\" Industrial Ethanol\",ConsumeBlock,Ethanol!H$65,FALSE)","v":0},{"$f":"VLOOKUP(Ethanol!$A91&\" Industrial Ethanol\",ConsumeBlock,Ethanol!I$65,FALSE)","v":0},{"$f":"VLOOKUP(Ethanol!$A91&\" Industrial Ethanol\",ConsumeBlock,Ethanol!J$65,FALSE)","v":0},{"$f":"VLOOKUP(Ethanol!$A91&\" Industrial Ethanol\",ConsumeBlock,Ethanol!K$65,FALSE)","v":0},{"$f":"VLOOKUP(Ethanol!$A91&\" Industrial Ethanol\",ConsumeBlock,Ethanol!L$65,FALSE)","v":0},{"$f":"VLOOKUP(Ethanol!$A91&\" Industrial Ethanol\",ConsumeBlock,Ethanol!M$65,FALSE)","v":0},{"$f":"VLOOKUP(Ethanol!$A91&\" Industrial Ethanol\",ConsumeBlock,Ethanol!N$65,FALSE)","v":0},{"$f":"VLOOKUP(Ethanol!$A91&\" Industrial Ethanol\",ConsumeBlock,Ethanol!O$65,FALSE)","v":0},{"$f":"VLOOKUP(Ethanol!$A91&\" Industrial Ethanol\",ConsumeBlock,Ethanol!P$65,FALSE)","v":0},{"$f":"VLOOKUP(Ethanol!$A91&\" Industrial Ethanol\",ConsumeBlock,Ethanol!Q$65,FALSE)","v":4},{"$f":"VLOOKUP(Ethanol!$A91&\" Industrial Ethanol\",ConsumeBlock,Ethanol!R$65,FALSE)","v":4},{"$f":"VLOOKUP(Ethanol!$A91&\" Industrial Ethanol\",ConsumeBlock,Ethanol!S$65,FALSE)","v":5},{"$f":"VLOOKUP(Ethanol!$A91&\" Industrial Ethanol\",ConsumeBlock,Ethanol!T$65,FALSE)","v":31},{"$f":"VLOOKUP(Ethanol!$A91&\" Industrial Ethanol\",ConsumeBlock,Ethanol!U$65,FALSE)","v":81},{"$f":"VLOOKUP(Ethanol!$A91&\" Industrial Ethanol\",ConsumeBlock,Ethanol!V$65,FALSE)","v":228},{"$f":"VLOOKUP(Ethanol!$A91&\" Industrial Ethanol\",ConsumeBlock,Ethanol!W$65,FALSE)","v":223},{"$f":"VLOOKUP(Ethanol!$A91&\" Industrial Ethanol\",ConsumeBlock,Ethanol!X$65,FALSE)","v":206},{"$f":"VLOOKUP(Ethanol!$A91&\" Industrial Ethanol\",ConsumeBlock,Ethanol!Y$65,FALSE)","v":231},{"$f":"VLOOKUP(Ethanol!$A91&\" Industrial Ethanol\",ConsumeBlock,Ethanol!Z$65,FALSE)","v":203},{"$f":"VLOOKUP(Ethanol!$A91&\" Industrial Ethanol\",ConsumeBlock,Ethanol!AA$65,FALSE)","v":142},{"$f":"VLOOKUP(Ethanol!$A91&\" Industrial Ethanol\",ConsumeBlock,Ethanol!AB$65,FALSE)","v":136},{"$f":"VLOOKUP(Ethanol!$A91&\" Industrial Ethanol\",ConsumeBlock,Ethanol!AC$65,FALSE)","v":137},{"$f":"VLOOKUP(Ethanol!$A91&\" Industrial Ethanol\",ConsumeBlock,Ethanol!AD$65,FALSE)","v":131}]
["MO",{"$f":"VLOOKUP(Ethanol!$A92&\" Industrial Ethanol\",ConsumeBlock,Ethanol!B$65,FALSE)","v":23},{"$f":"VLOOKUP(Ethanol!$A92&\" Industrial Ethanol\",ConsumeBlock,Ethanol!C$65,FALSE)","v":23},{"$f":"VLOOKUP(Ethanol!$A92&\" Industrial Ethanol\",ConsumeBlock,Ethanol!D$65,FALSE)","v":24},{"$f":"VLOOKUP(Ethanol!$A92&\" Industrial Ethanol\",ConsumeBlock,Ethanol!E$65,FALSE)","v":59},{"$f":"VLOOKUP(Ethanol!$A92&\" Industrial Ethanol\",ConsumeBlock,Ethanol!F$65,FALSE)","v":72},{"$f":"VLOOKUP(Ethanol!$A92&\" Industrial Ethanol\",ConsumeBlock,Ethanol!G$65,FALSE)","v":49},{"$f":"VLOOKUP(Ethanol!$A92&\" Industrial Ethanol\",ConsumeBlock,Ethanol!H$65,FALSE)","v":25},{"$f":"VLOOKUP(Ethanol!$A92&\" Industrial Ethanol\",ConsumeBlock,Ethanol!I$65,FALSE)","v":14},{"$f":"VLOOKUP(Ethanol!$A92&\" Industrial Ethanol\",ConsumeBlock,Ethanol!J$65,FALSE)","v":9},{"$f":"VLOOKUP(Ethanol!$A92&\" Industrial Ethanol\",ConsumeBlock,Ethanol!K$65,FALSE)","v":18},{"$f":"VLOOKUP(Ethanol!$A92&\" Industrial Ethanol\",ConsumeBlock,Ethanol!L$65,FALSE)","v":29},{"$f":"VLOOKUP(Ethanol!$A92&\" Industrial Ethanol\",ConsumeBlock,Ethanol!M$65,FALSE)","v":53},{"$f":"VLOOKUP(Ethanol!$A92&\" Industrial Ethanol\",ConsumeBlock,Ethanol!N$65,FALSE)","v":132},{"$f":"VLOOKUP(Ethanol!$A92&\" Industrial Ethanol\",ConsumeBlock,Ethanol!O$65,FALSE)","v":190},{"$f":"VLOOKUP(Ethanol!$A92&\" Industrial Ethanol\",ConsumeBlock,Ethanol!P$65,FALSE)","v":234},{"$f":"VLOOKUP(Ethanol!$A92&\" Industrial Ethanol\",ConsumeBlock,Ethanol!Q$65,FALSE)","v":274},{"$f":"VLOOKUP(Ethanol!$A92&\" Industrial Ethanol\",ConsumeBlock,Ethanol!R$65,FALSE)","v":286},{"$f":"VLOOKUP(Ethanol!$A92&\" Industrial Ethanol\",ConsumeBlock,Ethanol!S$65,FALSE)","v":212},{"$f":"VLOOKUP(Ethanol!$A92&\" Industrial Ethanol\",ConsumeBlock,Ethanol!T$65,FALSE)","v":240},{"$f":"VLOOKUP(Ethanol!$A92&\" Industrial Ethanol\",ConsumeBlock,Ethanol!U$65,FALSE)","v":251},{"$f":"VLOOKUP(Ethanol!$A92&\" Industrial Ethanol\",ConsumeBlock,Ethanol!V$65,FALSE)","v":298},{"$f":"VLOOKUP(Ethanol!$A92&\" Industrial Ethanol\",ConsumeBlock,Ethanol!W$65,FALSE)","v":293},{"$f":"VLOOKUP(Ethanol!$A92&\" Industrial Ethanol\",ConsumeBlock,Ethanol!X$65,FALSE)","v":167},{"$f":"VLOOKUP(Ethanol!$A92&\" Industrial Ethanol\",ConsumeBlock,Ethanol!Y$65,FALSE)","v":169},{"$f":"VLOOKUP(Ethanol!$A92&\" Industrial Ethanol\",ConsumeBlock,Ethanol!Z$65,FALSE)","v":126},{"$f":"VLOOKUP(Ethanol!$A92&\" Industrial Ethanol\",ConsumeBlock,Ethanol!AA$65,FALSE)","v":325},{"$f":"VLOOKUP(Ethanol!$A92&\" Industrial Ethanol\",ConsumeBlock,Ethanol!AB$65,FALSE)","v":312},{"$f":"VLOOKUP(Ethanol!$A92&\" Industrial Ethanol\",ConsumeBlock,Ethanol!AC$65,FALSE)","v":317},{"$f":"VLOOKUP(Ethanol!$A92&\" Industrial Ethanol\",ConsumeBlock,Ethanol!AD$65,FALSE)","v":322}]
["MT",{"$f":"VLOOKUP(Ethanol!$A93&\" Industrial Ethanol\",ConsumeBlock,Ethanol!B$65,FALSE)","v":1},{"$f":"VLOOKUP(Ethanol!$A93&\" Industrial Ethanol\",ConsumeBlock,Ethanol!C$65,FALSE)","v":3},{"$f":"VLOOKUP(Ethanol!$A93&\" Industrial Ethanol\",ConsumeBlock,Ethanol!D$65,FALSE)","v":2},{"$f":"VLOOKUP(Ethanol!$A93&\" Industrial Ethanol\",ConsumeBlock,Ethanol!E$65,FALSE)","v":3},{"$f":"VLOOKUP(Ethanol!$A93&\" Industrial Ethanol\",ConsumeBlock,Ethanol!F$65,FALSE)","v":0},{"$f":"VLOOKUP(Ethanol!$A93&\" Industrial Ethanol\",ConsumeBlock,Ethanol!G$65,FALSE)","v":3},{"$f":"VLOOKUP(Ethanol!$A93&\" Industrial Ethanol\",ConsumeBlock,Ethanol!H$65,FALSE)","v":0},{"$f":"VLOOKUP(Ethanol!$A93&\" Industrial Ethanol\",ConsumeBlock,Ethanol!I$65,FALSE)","v":0},{"$f":"VLOOKUP(Ethanol!$A93&\" Industrial Ethanol\",ConsumeBlock,Ethanol!J$65,FALSE)","v":1},{"$f":"VLOOKUP(Ethanol!$A93&\" Industrial Ethanol\",ConsumeBlock,Ethanol!K$65,FALSE)","v":1},{"$f":"VLOOKUP(Ethanol!$A93&\" Industrial Ethanol\",ConsumeBlock,Ethanol!L$65,FALSE)","v":2},{"$f":"VLOOKUP(Ethanol!$A93&\" Industrial Ethanol\",ConsumeBlock,Ethanol!M$65,FALSE)","v":6},{"$f":"VLOOKUP(Ethanol!$A93&\" Industrial Ethanol\",ConsumeBlock,Ethanol!N$65,FALSE)","v":6},{"$f":"VLOOKUP(Ethanol!$A93&\" Industrial Ethanol\",ConsumeBlock,Ethanol!O$65,FALSE)","v":5},{"$f":"VLOOKUP(Ethanol!$A93&\" Industrial Ethanol\",ConsumeBlock,Ethanol!P$65,FALSE)","v":7},{"$f":"VLOOKUP(Ethanol!$A93&\" Industrial Ethanol\",ConsumeBlock,Ethanol!Q$65,FALSE)","v":49},{"$f":"VLOOKUP(Ethanol!$A93&\" Industrial Ethanol\",ConsumeBlock,Ethanol!R$65,FALSE)","v":63},{"$f":"VLOOKUP(Ethanol!$A93&\" Industrial Ethanol\",ConsumeBlock,Ethanol!S$65,FALSE)","v":76},{"$f":"VLOOKUP(Ethanol!$A93&\" Industrial Ethanol\",ConsumeBlock,Ethanol!T$65,FALSE)","v":71},{"$f":"VLOOKUP(Ethanol!$A93&\" Industrial Ethanol\",ConsumeBlock,Ethanol!U$65,FALSE)","v":80},{"$f":"VLOOKUP(Ethanol!$A93&\" Industrial Ethanol\",ConsumeBlock,Ethanol!V$65,FALSE)","v":60},{"$f":"VLOOKUP(Ethanol!$A93&\" Industrial Ethanol\",ConsumeBlock,Ethanol!W$65,FALSE)","v":78},{"$f":"VLOOKUP(Ethanol!$A93&\" Industrial Ethanol\",ConsumeBlock,Ethanol!X$65,FALSE)","v":78},{"$f":"VLOOKUP(Ethanol!$A93&\" Industrial Ethanol\",ConsumeBlock,Ethanol!Y$65,FALSE)","v":86},{"$f":"VLOOKUP(Ethanol!$A93&\" Industrial Ethanol\",ConsumeBlock,Ethanol!Z$65,FALSE)","v":82},{"$f":"VLOOKUP(Ethanol!$A93&\" Industrial Ethanol\",ConsumeBlock,Ethanol!AA$65,FALSE)","v":120},{"$f":"VLOOKUP(Ethanol!$A93&\" Industrial Ethanol\",ConsumeBlock,Ethanol!AB$65,FALSE)","v":122},{"$f":"VLOOKUP(Ethanol!$A93&\" Industrial Ethanol\",ConsumeBlock,Ethanol!AC$65,FALSE)","v":123},{"$f":"VLOOKUP(Ethanol!$A93&\" Industrial Ethanol\",ConsumeBlock,Ethanol!AD$65,FALSE)","v":125}]
["NE",{"$f":"VLOOKUP(Ethanol!$A94&\" Industrial Ethanol\",ConsumeBlock,Ethanol!B$65,FALSE)","v":127},{"$f":"VLOOKUP(Ethanol!$A94&\" Industrial Ethanol\",ConsumeBlock,Ethanol!C$65,FALSE)","v":153},{"$f":"VLOOKUP(Ethanol!$A94&\" Industrial Ethanol\",ConsumeBlock,Ethanol!D$65,FALSE)","v":157},{"$f":"VLOOKUP(Ethanol!$A94&\" Industrial Ethanol\",ConsumeBlock,Ethanol!E$65,FALSE)","v":108},{"$f":"VLOOKUP(Ethanol!$A94&\" Industrial Ethanol\",ConsumeBlock,Ethanol!F$65,FALSE)","v":77},{"$f":"VLOOKUP(Ethanol!$A94&\" Industrial Ethanol\",ConsumeBlock,Ethanol!G$65,FALSE)","v":88},{"$f":"VLOOKUP(Ethanol!$A94&\" Industrial Ethanol\",ConsumeBlock,Ethanol!H$65,FALSE)","v":58},{"$f":"VLOOKUP(Ethanol!$A94&\" Industrial Ethanol\",ConsumeBlock,Ethanol!I$65,FALSE)","v":68},{"$f":"VLOOKUP(Ethanol!$A94&\" Industrial Ethanol\",ConsumeBlock,Ethanol!J$65,FALSE)","v":90},{"$f":"VLOOKUP(Ethanol!$A94&\" Industrial Ethanol\",ConsumeBlock,Ethanol!K$65,FALSE)","v":68},{"$f":"VLOOKUP(Ethanol!$A94&\" Industrial Ethanol\",ConsumeBlock,Ethanol!L$65,FALSE)","v":85},{"$f":"VLOOKUP(Ethanol!$A94&\" Industrial Ethanol\",ConsumeBlock,Ethanol!M$65,FALSE)","v":107},{"$f":"VLOOKUP(Ethanol!$A94&\" Industrial Ethanol\",ConsumeBlock,Ethanol!N$65,FALSE)","v":143},{"$f":"VLOOKUP(Ethanol!$A94&\" Industrial Ethanol\",ConsumeBlock,Ethanol!O$65,FALSE)","v":166},{"$f":"VLOOKUP(Ethanol!$A94&\" Industrial Ethanol\",ConsumeBlock,Ethanol!P$65,FALSE)","v":187},{"$f":"VLOOKUP(Ethanol!$A94&\" Industrial Ethanol\",ConsumeBlock,Ethanol!Q$65,FALSE)","v":94},{"$f":"VLOOKUP(Ethanol!$A94&\" Industrial Ethanol\",ConsumeBlock,Ethanol!R$65,FALSE)","v":94},{"$f":"VLOOKUP(Ethanol!$A94&\" Industrial Ethanol\",ConsumeBlock,Ethanol!S$65,FALSE)","v":95},{"$f":"VLOOKUP(Ethanol!$A94&\" Industrial Ethanol\",ConsumeBlock,Ethanol!T$65,FALSE)","v":108},{"$f":"VLOOKUP(Ethanol!$A94&\" Industrial Ethanol\",ConsumeBlock,Ethanol!U$65,FALSE)","v":114},{"$f":"VLOOKUP(Ethanol!$A94&\" Industrial Ethanol\",ConsumeBlock,Ethanol!V$65,FALSE)","v":175},{"$f":"VLOOKUP(Ethanol!$A94&\" Industrial Ethanol\",ConsumeBlock,Ethanol!W$65,FALSE)","v":186},{"$f":"VLOOKUP(Ethanol!$A94&\" Industrial Ethanol\",ConsumeBlock,Ethanol!X$65,FALSE)","v":163},{"$f":"VLOOKUP(Ethanol!$A94&\" Industrial Ethanol\",ConsumeBlock,Ethanol!Y$65,FALSE)","v":151},{"$f":"VLOOKUP(Ethanol!$A94&\" Industrial Ethanol\",ConsumeBlock,Ethanol!Z$65,FALSE)","v":141},{"$f":"VLOOKUP(Ethanol!$A94&\" Industrial Ethanol\",ConsumeBlock,Ethanol!AA$65,FALSE)","v":234},{"$f":"VLOOKUP(Ethanol!$A94&\" Industrial Ethanol\",ConsumeBlock,Ethanol!AB$65,FALSE)","v":213},{"$f":"VLOOKUP(Ethanol!$A94&\" Industrial Ethanol\",ConsumeBlock,Ethanol!AC$65,FALSE)","v":217},{"$f":"VLOOKUP(Ethanol!$A94&\" Industrial Ethanol\",ConsumeBlock,Ethanol!AD$65,FALSE)","v":218}]
["NV",{"$f":"VLOOKUP(Ethanol!$A95&\" Industrial Ethanol\",ConsumeBlock,Ethanol!B$65,FALSE)","v":5},{"$f":"VLOOKUP(Ethanol!$A95&\" Industrial Ethanol\",ConsumeBlock,Ethanol!C$65,FALSE)","v":6},{"$f":"VLOOKUP(Ethanol!$A95&\" Industrial Ethanol\",ConsumeBlock,Ethanol!D$65,FALSE)","v":7},{"$f":"VLOOKUP(Ethanol!$A95&\" Industrial Ethanol\",ConsumeBlock,Ethanol!E$65,FALSE)","v":7},{"$f":"VLOOKUP(Ethanol!$A95&\" Industrial Ethanol\",ConsumeBlock,Ethanol!F$65,FALSE)","v":0},{"$f":"VLOOKUP(Ethanol!$A95&\" Industrial Ethanol\",ConsumeBlock,Ethanol!G$65,FALSE)","v":12},{"$f":"VLOOKUP(Ethanol!$A95&\" Industrial Ethanol\",ConsumeBlock,Ethanol!H$65,FALSE)","v":0},{"$f":"VLOOKUP(Ethanol!$A95&\" Industrial Ethanol\",ConsumeBlock,Ethanol!I$65,FALSE)","v":0},{"$f":"VLOOKUP(Ethanol!$A95&\" Industrial Ethanol\",ConsumeBlock,Ethanol!J$65,FALSE)","v":24},{"$f":"VLOOKUP(Ethanol!$A95&\" Industrial Ethanol\",ConsumeBlock,Ethanol!K$65,FALSE)","v":14},{"$f":"VLOOKUP(Ethanol!$A95&\" Industrial Ethanol\",ConsumeBlock,Ethanol!L$65,FALSE)","v":12},{"$f":"VLOOKUP(Ethanol!$A95&\" Industrial Ethanol\",ConsumeBlock,Ethanol!M$65,FALSE)","v":52},{"$f":"VLOOKUP(Ethanol!$A95&\" Industrial Ethanol\",ConsumeBlock,Ethanol!N$65,FALSE)","v":61},{"$f":"VLOOKUP(Ethanol!$A95&\" Industrial Ethanol\",ConsumeBlock,Ethanol!O$65,FALSE)","v":72},{"$f":"VLOOKUP(Ethanol!$A95&\" Industrial Ethanol\",ConsumeBlock,Ethanol!P$65,FALSE)","v":80},{"$f":"VLOOKUP(Ethanol!$A95&\" Industrial Ethanol\",ConsumeBlock,Ethanol!Q$65,FALSE)","v":83},{"$f":"VLOOKUP(Ethanol!$A95&\" Industrial Ethanol\",ConsumeBlock,Ethanol!R$65,FALSE)","v":78},{"$f":"VLOOKUP(Ethanol!$A95&\" Industrial Ethanol\",ConsumeBlock,Ethanol!S$65,FALSE)","v":47},{"$f":"VLOOKUP(Ethanol!$A95&\" Industrial Ethanol\",ConsumeBlock,Ethanol!T$65,FALSE)","v":100},{"$f":"VLOOKUP(Ethanol!$A95&\" Industrial Ethanol\",ConsumeBlock,Ethanol!U$65,FALSE)","v":111},{"$f":"VLOOKUP(Ethanol!$A95&\" Industrial Ethanol\",ConsumeBlock,Ethanol!V$65,FALSE)","v":90},{"$f":"VLOOKUP(Ethanol!$A95&\" Industrial Ethanol\",ConsumeBlock,Ethanol!W$65,FALSE)","v":84},{"$f":"VLOOKUP(Ethanol!$A95&\" Industrial Ethanol\",ConsumeBlock,Ethanol!X$65,FALSE)","v":85},{"$f":"VLOOKUP(Ethanol!$A95&\" Industrial Ethanol\",ConsumeBlock,Ethanol!Y$65,FALSE)","v":85},{"$f":"VLOOKUP(Ethanol!$A95&\" Industrial Ethanol\",ConsumeBlock,Ethanol!Z$65,FALSE)","v":111},{"$f":"VLOOKUP(Ethanol!$A95&\" Industrial Ethanol\",ConsumeBlock,Ethanol!AA$65,FALSE)","v":160},{"$f":"VLOOKUP(Ethanol!$A95&\" Industrial Ethanol\",ConsumeBlock,Ethanol!AB$65,FALSE)","v":159},{"$f":"VLOOKUP(Ethanol!$A95&\" Industrial Ethanol\",ConsumeBlock,Ethanol!AC$65,FALSE)","v":162},{"$f":"VLOOKUP(Ethanol!$A95&\" Industrial Ethanol\",ConsumeBlock,Ethanol!AD$65,FALSE)","v":168}]
["NH",{"$f":"VLOOKUP(Ethanol!$A96&\" Industrial Ethanol\",ConsumeBlock,Ethanol!B$65,FALSE)","v":0},{"$f":"VLOOKUP(Ethanol!$A96&\" Industrial Ethanol\",ConsumeBlock,Ethanol!C$65,FALSE)","v":0},{"$f":"VLOOKUP(Ethanol!$A96&\" Industrial Ethanol\",ConsumeBlock,Ethanol!D$65,FALSE)","v":0},{"$f":"VLOOKUP(Ethanol!$A96&\" Industrial Ethanol\",ConsumeBlock,Ethanol!E$65,FALSE)","v":0},{"$f":"VLOOKUP(Ethanol!$A96&\" Industrial Ethanol\",ConsumeBlock,Ethanol!F$65,FALSE)","v":0},{"$f":"VLOOKUP(Ethanol!$A96&\" Industrial Ethanol\",ConsumeBlock,Ethanol!G$65,FALSE)","v":0},{"$f":"VLOOKUP(Ethanol!$A96&\" Industrial Ethanol\",ConsumeBlock,Ethanol!H$65,FALSE)","v":0},{"$f":"VLOOKUP(Ethanol!$A96&\" Industrial Ethanol\",ConsumeBlock,Ethanol!I$65,FALSE)","v":0},{"$f":"VLOOKUP(Ethanol!$A96&\" Industrial Ethanol\",ConsumeBlock,Ethanol!J$65,FALSE)","v":0},{"$f":"VLOOKUP(Ethanol!$A96&\" Industrial Ethanol\",ConsumeBlock,Ethanol!K$65,FALSE)","v":0},{"$f":"VLOOKUP(Ethanol!$A96&\" Industrial Ethanol\",ConsumeBlock,Ethanol!L$65,FALSE)","v":0},{"$f":"VLOOKUP(Ethanol!$A96&\" Industrial Ethanol\",ConsumeBlock,Ethanol!M$65,FALSE)","v":0},{"$f":"VLOOKUP(Ethanol!$A96&\" Industrial Ethanol\",ConsumeBlock,Ethanol!N$65,FALSE)","v":0},{"$f":"VLOOKUP(Ethanol!$A96&\" Industrial Ethanol\",ConsumeBlock,Ethanol!O$65,FALSE)","v":0},{"$f":"VLOOKUP(Ethanol!$A96&\" Industrial Ethanol\",ConsumeBlock,Ethanol!P$65,FALSE)","v":0},{"$f":"VLOOKUP(Ethanol!$A96&\" Industrial Ethanol\",ConsumeBlock,Ethanol!Q$65,FALSE)","v":24},{"$f":"VLOOKUP(Ethanol!$A96&\" Industrial Ethanol\",ConsumeBlock,Ethanol!R$65,FALSE)","v":60},{"$f":"VLOOKUP(Ethanol!$A96&\" Industrial Ethanol\",ConsumeBlock,Ethanol!S$65,FALSE)","v":38},{"$f":"VLOOKUP(Ethanol!$A96&\" Industrial Ethanol\",ConsumeBlock,Ethanol!T$65,FALSE)","v":32},{"$f":"VLOOKUP(Ethanol!$A96&\" Industrial Ethanol\",ConsumeBlock,Ethanol!U$65,FALSE)","v":38},{"$f":"VLOOKUP(Ethanol!$A96&\" Industrial Ethanol\",ConsumeBlock,Ethanol!V$65,FALSE)","v":64},{"$f":"VLOOKUP(Ethanol!$A96&\" Industrial Ethanol\",ConsumeBlock,Ethanol!W$65,FALSE)","v":65},{"$f":"VLOOKUP(Ethanol!$A96&\" Industrial Ethanol\",ConsumeBlock,Ethanol!X$65,FALSE)","v":63},{"$f":"VLOOKUP(Ethanol!$A96&\" Industrial Ethanol\",ConsumeBlock,Ethanol!Y$65,FALSE)","v":67},{"$f":"VLOOKUP(Ethanol!$A96&\" Industrial Ethanol\",ConsumeBlock,Ethanol!Z$65,FALSE)","v":52},{"$f":"VLOOKUP(Ethanol!$A96&\" Industrial Ethanol\",ConsumeBlock,Ethanol!AA$65,FALSE)","v":62},{"$f":"VLOOKUP(Ethanol!$A96&\" Industrial Ethanol\",ConsumeBlock,Ethanol!AB$65,FALSE)","v":63},{"$f":"VLOOKUP(Ethanol!$A96&\" Industrial Ethanol\",ConsumeBlock,Ethanol!AC$65,FALSE)","v":64},{"$f":"VLOOKUP(Ethanol!$A96&\" Industrial Ethanol\",ConsumeBlock,Ethanol!AD$65,FALSE)","v":66}]
["NJ",{"$f":"VLOOKUP(Ethanol!$A97&\" Industrial Ethanol\",ConsumeBlock,Ethanol!B$65,FALSE)","v":0},{"$f":"VLOOKUP(Ethanol!$A97&\" Industrial Ethanol\",ConsumeBlock,Ethanol!C$65,FALSE)","v":0},{"$f":"VLOOKUP(Ethanol!$A97&\" Industrial Ethanol\",ConsumeBlock,Ethanol!D$65,FALSE)","v":0},{"$f":"VLOOKUP(Ethanol!$A97&\" Industrial Ethanol\",ConsumeBlock,Ethanol!E$65,FALSE)","v":1},{"$f":"VLOOKUP(Ethanol!$A97&\" Industrial Ethanol\",ConsumeBlock,Ethanol!F$65,FALSE)","v":2},{"$f":"VLOOKUP(Ethanol!$A97&\" Industrial Ethanol\",ConsumeBlock,Ethanol!G$65,FALSE)","v":7},{"$f":"VLOOKUP(Ethanol!$A97&\" Industrial Ethanol\",ConsumeBlock,Ethanol!H$65,FALSE)","v":6},{"$f":"VLOOKUP(Ethanol!$A97&\" Industrial Ethanol\",ConsumeBlock,Ethanol!I$65,FALSE)","v":7},{"$f":"VLOOKUP(Ethanol!$A97&\" Industrial Ethanol\",ConsumeBlock,Ethanol!J$65,FALSE)","v":4},{"$f":"VLOOKUP(Ethanol!$A97&\" Industrial Ethanol\",ConsumeBlock,Ethanol!K$65,FALSE)","v":2},{"$f":"VLOOKUP(Ethanol!$A97&\" Industrial Ethanol\",ConsumeBlock,Ethanol!L$65,FALSE)","v":2},{"$f":"VLOOKUP(Ethanol!$A97&\" Industrial Ethanol\",ConsumeBlock,Ethanol!M$65,FALSE)","v":11},{"$f":"VLOOKUP(Ethanol!$A97&\" Industrial Ethanol\",ConsumeBlock,Ethanol!N$65,FALSE)","v":1},{"$f":"VLOOKUP(Ethanol!$A97&\" Industrial Ethanol\",ConsumeBlock,Ethanol!O$65,FALSE)","v":1},{"$f":"VLOOKUP(Ethanol!$A97&\" Industrial Ethanol\",ConsumeBlock,Ethanol!P$65,FALSE)","v":6},{"$f":"VLOOKUP(Ethanol!$A97&\" Industrial Ethanol\",ConsumeBlock,Ethanol!Q$65,FALSE)","v":98},{"$f":"VLOOKUP(Ethanol!$A97&\" Industrial Ethanol\",ConsumeBlock,Ethanol!R$65,FALSE)","v":274},{"$f":"VLOOKUP(Ethanol!$A97&\" Industrial Ethanol\",ConsumeBlock,Ethanol!S$65,FALSE)","v":358},{"$f":"VLOOKUP(Ethanol!$A97&\" Industrial Ethanol\",ConsumeBlock,Ethanol!T$65,FALSE)","v":251},{"$f":"VLOOKUP(Ethanol!$A97&\" Industrial Ethanol\",ConsumeBlock,Ethanol!U$65,FALSE)","v":292},{"$f":"VLOOKUP(Ethanol!$A97&\" Industrial Ethanol\",ConsumeBlock,Ethanol!V$65,FALSE)","v":416},{"$f":"VLOOKUP(Ethanol!$A97&\" Industrial Ethanol\",ConsumeBlock,Ethanol!W$65,FALSE)","v":398},{"$f":"VLOOKUP(Ethanol!$A97&\" Industrial Ethanol\",ConsumeBlock,Ethanol!X$65,FALSE)","v":380},{"$f":"VLOOKUP(Ethanol!$A97&\" Industrial Ethanol\",ConsumeBlock,Ethanol!Y$65,FALSE)","v":394},{"$f":"VLOOKUP(Ethanol!$A97&\" Industrial Ethanol\",ConsumeBlock,Ethanol!Z$65,FALSE)","v":307},{"$f":"VLOOKUP(Ethanol!$A97&\" Industrial Ethanol\",ConsumeBlock,Ethanol!AA$65,FALSE)","v":449},{"$f":"VLOOKUP(Ethanol!$A97&\" Industrial Ethanol\",ConsumeBlock,Ethanol!AB$65,FALSE)","v":450},{"$f":"VLOOKUP(Ethanol!$A97&\" Industrial Ethanol\",ConsumeBlock,Ethanol!AC$65,FALSE)","v":461},{"$f":"VLOOKUP(Ethanol!$A97&\" Industrial Ethanol\",ConsumeBlock,Ethanol!AD$65,FALSE)","v":467}]
["NM",{"$f":"VLOOKUP(Ethanol!$A98&\" Industrial Ethanol\",ConsumeBlock,Ethanol!B$65,FALSE)","v":23},{"$f":"VLOOKUP(Ethanol!$A98&\" Industrial Ethanol\",ConsumeBlock,Ethanol!C$65,FALSE)","v":24},{"$f":"VLOOKUP(Ethanol!$A98&\" Industrial Ethanol\",ConsumeBlock,Ethanol!D$65,FALSE)","v":17},{"$f":"VLOOKUP(Ethanol!$A98&\" Industrial Ethanol\",ConsumeBlock,Ethanol!E$65,FALSE)","v":6},{"$f":"VLOOKUP(Ethanol!$A98&\" Industrial Ethanol\",ConsumeBlock,Ethanol!F$65,FALSE)","v":15},{"$f":"VLOOKUP(Ethanol!$A98&\" Industrial Ethanol\",ConsumeBlock,Ethanol!G$65,FALSE)","v":51},{"$f":"VLOOKUP(Ethanol!$A98&\" Industrial Ethanol\",ConsumeBlock,Ethanol!H$65,FALSE)","v":45},{"$f":"VLOOKUP(Ethanol!$A98&\" Industrial Ethanol\",ConsumeBlock,Ethanol!I$65,FALSE)","v":45},{"$f":"VLOOKUP(Ethanol!$A98&\" Industrial Ethanol\",ConsumeBlock,Ethanol!J$65,FALSE)","v":53},{"$f":"VLOOKUP(Ethanol!$A98&\" Industrial Ethanol\",ConsumeBlock,Ethanol!K$65,FALSE)","v":30},{"$f":"VLOOKUP(Ethanol!$A98&\" Industrial Ethanol\",ConsumeBlock,Ethanol!L$65,FALSE)","v":36},{"$f":"VLOOKUP(Ethanol!$A98&\" Industrial Ethanol\",ConsumeBlock,Ethanol!M$65,FALSE)","v":21},{"$f":"VLOOKUP(Ethanol!$A98&\" Industrial Ethanol\",ConsumeBlock,Ethanol!N$65,FALSE)","v":18},{"$f":"VLOOKUP(Ethanol!$A98&\" Industrial Ethanol\",ConsumeBlock,Ethanol!O$65,FALSE)","v":15},{"$f":"VLOOKUP(Ethanol!$A98&\" Industrial Ethanol\",ConsumeBlock,Ethanol!P$65,FALSE)","v":18},{"$f":"VLOOKUP(Ethanol!$A98&\" Industrial Ethanol\",ConsumeBlock,Ethanol!Q$65,FALSE)","v":33},{"$f":"VLOOKUP(Ethanol!$A98&\" Industrial Ethanol\",ConsumeBlock,Ethanol!R$65,FALSE)","v":33},{"$f":"VLOOKUP(Ethanol!$A98&\" Industrial Ethanol\",ConsumeBlock,Ethanol!S$65,FALSE)","v":29},{"$f":"VLOOKUP(Ethanol!$A98&\" Industrial Ethanol\",ConsumeBlock,Ethanol!T$65,FALSE)","v":59},{"$f":"VLOOKUP(Ethanol!$A98&\" Industrial Ethanol\",ConsumeBlock,Ethanol!U$65,FALSE)","v":81},{"$f":"VLOOKUP(Ethanol!$A98&\" Industrial Ethanol\",ConsumeBlock,Ethanol!V$65,FALSE)","v":149},{"$f":"VLOOKUP(Ethanol!$A98&\" Industrial Ethanol\",ConsumeBlock,Ethanol!W$65,FALSE)","v":145},{"$f":"VLOOKUP(Ethanol!$A98&\" Industrial Ethanol\",ConsumeBlock,Ethanol!X$65,FALSE)","v":134},{"$f":"VLOOKUP(Ethanol!$A98&\" Industrial Ethanol\",ConsumeBlock,Ethanol!Y$65,FALSE)","v":128},{"$f":"VLOOKUP(Ethanol!$A98&\" Industrial Ethanol\",ConsumeBlock,Ethanol!Z$65,FALSE)","v":99},{"$f":"VLOOKUP(Ethanol!$A98&\" Industrial Ethanol\",ConsumeBlock,Ethanol!AA$65,FALSE)","v":205},{"$f":"VLOOKUP(Ethanol!$A98&\" Industrial Ethanol\",ConsumeBlock,Ethanol!AB$65,FALSE)","v":212},{"$f":"VLOOKUP(Ethanol!$A98&\" Industrial Ethanol\",ConsumeBlock,Ethanol!AC$65,FALSE)","v":214},{"$f":"VLOOKUP(Ethanol!$A98&\" Industrial Ethanol\",ConsumeBlock,Ethanol!AD$65,FALSE)","v":206}]
["NY",{"$f":"VLOOKUP(Ethanol!$A99&\" Industrial Ethanol\",ConsumeBlock,Ethanol!B$65,FALSE)","v":0},{"$f":"VLOOKUP(Ethanol!$A99&\" Industrial Ethanol\",ConsumeBlock,Ethanol!C$65,FALSE)","v":0},{"$f":"VLOOKUP(Ethanol!$A99&\" Industrial Ethanol\",ConsumeBlock,Ethanol!D$65,FALSE)","v":0},{"$f":"VLOOKUP(Ethanol!$A99&\" Industrial Ethanol\",ConsumeBlock,Ethanol!E$65,FALSE)","v":2},{"$f":"VLOOKUP(Ethanol!$A99&\" Industrial Ethanol\",ConsumeBlock,Ethanol!F$65,FALSE)","v":6},{"$f":"VLOOKUP(Ethanol!$A99&\" Industrial Ethanol\",ConsumeBlock,Ethanol!G$65,FALSE)","v":19},{"$f":"VLOOKUP(Ethanol!$A99&\" Industrial Ethanol\",ConsumeBlock,Ethanol!H$65,FALSE)","v":16},{"$f":"VLOOKUP(Ethanol!$A99&\" Industrial Ethanol\",ConsumeBlock,Ethanol!I$65,FALSE)","v":17},{"$f":"VLOOKUP(Ethanol!$A99&\" Industrial Ethanol\",ConsumeBlock,Ethanol!J$65,FALSE)","v":11},{"$f":"VLOOKUP(Ethanol!$A99&\" Industrial Ethanol\",ConsumeBlock,Ethanol!K$65,FALSE)","v":8},{"$f":"VLOOKUP(Ethanol!$A99&\" Industrial Ethanol\",ConsumeBlock,Ethanol!L$65,FALSE)","v":9},{"$f":"VLOOKUP(Ethanol!$A99&\" Industrial Ethanol\",ConsumeBlock,Ethanol!M$65,FALSE)","v":5},{"$f":"VLOOKUP(Ethanol!$A99&\" Industrial Ethanol\",ConsumeBlock,Ethanol!N$65,FALSE)","v":5},{"$f":"VLOOKUP(Ethanol!$A99&\" Industrial Ethanol\",ConsumeBlock,Ethanol!O$65,FALSE)","v":29},{"$f":"VLOOKUP(Ethanol!$A99&\" Industrial Ethanol\",ConsumeBlock,Ethanol!P$65,FALSE)","v":380},{"$f":"VLOOKUP(Ethanol!$A99&\" Industrial Ethanol\",ConsumeBlock,Ethanol!Q$65,FALSE)","v":130},{"$f":"VLOOKUP(Ethanol!$A99&\" Industrial Ethanol\",ConsumeBlock,Ethanol!R$65,FALSE)","v":364},{"$f":"VLOOKUP(Ethanol!$A99&\" Industrial Ethanol\",ConsumeBlock,Ethanol!S$65,FALSE)","v":411},{"$f":"VLOOKUP(Ethanol!$A99&\" Industrial Ethanol\",ConsumeBlock,Ethanol!T$65,FALSE)","v":429},{"$f":"VLOOKUP(Ethanol!$A99&\" Industrial Ethanol\",ConsumeBlock,Ethanol!U$65,FALSE)","v":500},{"$f":"VLOOKUP(Ethanol!$A99&\" Industrial Ethanol\",ConsumeBlock,Ethanol!V$65,FALSE)","v":791},{"$f":"VLOOKUP(Ethanol!$A99&\" Industrial Ethanol\",ConsumeBlock,Ethanol!W$65,FALSE)","v":529},{"$f":"VLOOKUP(Ethanol!$A99&\" Industrial Ethanol\",ConsumeBlock,Ethanol!X$65,FALSE)","v":777},{"$f":"VLOOKUP(Ethanol!$A99&\" Industrial Ethanol\",ConsumeBlock,Ethanol!Y$65,FALSE)","v":787},{"$f":"VLOOKUP(Ethanol!$A99&\" Industrial Ethanol\",ConsumeBlock,Ethanol!Z$65,FALSE)","v":723},{"$f":"VLOOKUP(Ethanol!$A99&\" Industrial Ethanol\",ConsumeBlock,Ethanol!AA$65,FALSE)","v":935},{"$f":"VLOOKUP(Ethanol!$A99&\" Industrial Ethanol\",ConsumeBlock,Ethanol!AB$65,FALSE)","v":943},{"$f":"VLOOKUP(Ethanol!$A99&\" Industrial Ethanol\",ConsumeBlock,Ethanol!AC$65,FALSE)","v":975},{"$f":"VLOOKUP(Ethanol!$A99&\" Industrial Ethanol\",ConsumeBlock,Ethanol!AD$65,FALSE)","v":997}]
["NC",{"$f":"VLOOKUP(Ethanol!$A100&\" Industrial Ethanol\",ConsumeBlock,Ethanol!B$65,FALSE)","v":0},{"$f":"VLOOKUP(Ethanol!$A100&\" Industrial Ethanol\",ConsumeBlock,Ethanol!C$65,FALSE)","v":5},{"$f":"VLOOKUP(Ethanol!$A100&\" Industrial Ethanol\",ConsumeBlock,Ethanol!D$65,FALSE)","v":3},{"$f":"VLOOKUP(Ethanol!$A100&\" Industrial Ethanol\",ConsumeBlock,Ethanol!E$65,FALSE)","v":3},{"$f":"VLOOKUP(Ethanol!$A100&\" Industrial Ethanol\",ConsumeBlock,Ethanol!F$65,FALSE)","v":11},{"$f":"VLOOKUP(Ethanol!$A100&\" Industrial Ethanol\",ConsumeBlock,Ethanol!G$65,FALSE)","v":1},{"$f":"VLOOKUP(Ethanol!$A100&\" Industrial Ethanol\",ConsumeBlock,Ethanol!H$65,FALSE)","v":31},{"$f":"VLOOKUP(Ethanol!$A100&\" Industrial Ethanol\",ConsumeBlock,Ethanol!I$65,FALSE)","v":32},{"$f":"VLOOKUP(Ethanol!$A100&\" Industrial Ethanol\",ConsumeBlock,Ethanol!J$65,FALSE)","v":33},{"$f":"VLOOKUP(Ethanol!$A100&\" Industrial Ethanol\",ConsumeBlock,Ethanol!K$65,FALSE)","v":20},{"$f":"VLOOKUP(Ethanol!$A100&\" Industrial Ethanol\",ConsumeBlock,Ethanol!L$65,FALSE)","v":27},{"$f":"VLOOKUP(Ethanol!$A100&\" Industrial Ethanol\",ConsumeBlock,Ethanol!M$65,FALSE)","v":92},{"$f":"VLOOKUP(Ethanol!$A100&\" Industrial Ethanol\",ConsumeBlock,Ethanol!N$65,FALSE)","v":108},{"$f":"VLOOKUP(Ethanol!$A100&\" Industrial Ethanol\",ConsumeBlock,Ethanol!O$65,FALSE)","v":118},{"$f":"VLOOKUP(Ethanol!$A100&\" Industrial Ethanol\",ConsumeBlock,Ethanol!P$65,FALSE)","v":146},{"$f":"VLOOKUP(Ethanol!$A100&\" Industrial Ethanol\",ConsumeBlock,Ethanol!Q$65,FALSE)","v":37},{"$f":"VLOOKUP(Ethanol!$A100&\" Industrial Ethanol\",ConsumeBlock,Ethanol!R$65,FALSE)","v":56},{"$f":"VLOOKUP(Ethanol!$A100&\" Industrial Ethanol\",ConsumeBlock,Ethanol!S$65,FALSE)","v":58},{"$f":"VLOOKUP(Ethanol!$A100&\" Industrial Ethanol\",ConsumeBlock,Ethanol!T$65,FALSE)","v":241},{"$f":"VLOOKUP(Ethanol!$A100&\" Industrial Ethanol\",ConsumeBlock,Ethanol!U$65,FALSE)","v":326},{"$f":"VLOOKUP(Ethanol!$A100&\" Industrial Ethanol\",ConsumeBlock,Ethanol!V$65,FALSE)","v":501},{"$f":"VLOOKUP(Ethanol!$A100&\" Industrial Ethanol\",ConsumeBlock,Ethanol!W$65,FALSE)","v":533},{"$f":"VLOOKUP(Ethanol!$A100&\" Industrial Ethanol\",ConsumeBlock,Ethanol!X$65,FALSE)","v":521},{"$f":"VLOOKUP(Ethanol!$A100&\" Industrial Ethanol\",ConsumeBlock,Ethanol!Y$65,FALSE)","v":553},{"$f":"VLOOKUP(Ethanol!$A100&\" Industrial Ethanol\",ConsumeBlock,Ethanol!Z$65,FALSE)","v":413},{"$f":"VLOOKUP(Ethanol!$A100&\" Industrial Ethanol\",ConsumeBlock,Ethanol!AA$65,FALSE)","v":415},{"$f":"VLOOKUP(Ethanol!$A100&\" Industrial Ethanol\",ConsumeBlock,Ethanol!AB$65,FALSE)","v":419},{"$f":"VLOOKUP(Ethanol!$A100&\" Industrial Ethanol\",ConsumeBlock,Ethanol!AC$65,FALSE)","v":435},{"$f":"VLOOKUP(Ethanol!$A100&\" Industrial Ethanol\",ConsumeBlock,Ethanol!AD$65,FALSE)","v":459}]
["ND",{"$f":"VLOOKUP(Ethanol!$A101&\" Industrial Ethanol\",ConsumeBlock,Ethanol!B$65,FALSE)","v":29},{"$f":"VLOOKUP(Ethanol!$A101&\" Industrial Ethanol\",ConsumeBlock,Ethanol!C$65,FALSE)","v":42},{"$f":"VLOOKUP(Ethanol!$A101&\" Industrial Ethanol\",ConsumeBlock,Ethanol!D$65,FALSE)","v":45},{"$f":"VLOOKUP(Ethanol!$A101&\" Industrial Ethanol\",ConsumeBlock,Ethanol!E$65,FALSE)","v":40},{"$f":"VLOOKUP(Ethanol!$A101&\" Industrial Ethanol\",ConsumeBlock,Ethanol!F$65,FALSE)","v":50},{"$f":"VLOOKUP(Ethanol!$A101&\" Industrial Ethanol\",ConsumeBlock,Ethanol!G$65,FALSE)","v":45},{"$f":"VLOOKUP(Ethanol!$A101&\" Industrial Ethanol\",ConsumeBlock,Ethanol!H$65,FALSE)","v":28},{"$f":"VLOOKUP(Ethanol!$A101&\" Industrial Ethanol\",ConsumeBlock,Ethanol!I$65,FALSE)","v":22},{"$f":"VLOOKUP(Ethanol!$A101&\" Industrial Ethanol\",ConsumeBlock,Ethanol!J$65,FALSE)","v":26},{"$f":"VLOOKUP(Ethanol!$A101&\" Industrial Ethanol\",ConsumeBlock,Ethanol!K$65,FALSE)","v":21},{"$f":"VLOOKUP(Ethanol!$A101&\" Industrial Ethanol\",ConsumeBlock,Ethanol!L$65,FALSE)","v":27},{"$f":"VLOOKUP(Ethanol!$A101&\" Industrial Ethanol\",ConsumeBlock,Ethanol!M$65,FALSE)","v":39},{"$f":"VLOOKUP(Ethanol!$A101&\" Industrial Ethanol\",ConsumeBlock,Ethanol!N$65,FALSE)","v":51},{"$f":"VLOOKUP(Ethanol!$A101&\" Industrial Ethanol\",ConsumeBlock,Ethanol!O$65,FALSE)","v":62},{"$f":"VLOOKUP(Ethanol!$A101&\" Industrial Ethanol\",ConsumeBlock,Ethanol!P$65,FALSE)","v":70},{"$f":"VLOOKUP(Ethanol!$A101&\" Industrial Ethanol\",ConsumeBlock,Ethanol!Q$65,FALSE)","v":132},{"$f":"VLOOKUP(Ethanol!$A101&\" Industrial Ethanol\",ConsumeBlock,Ethanol!R$65,FALSE)","v":142},{"$f":"VLOOKUP(Ethanol!$A101&\" Industrial Ethanol\",ConsumeBlock,Ethanol!S$65,FALSE)","v":145},{"$f":"VLOOKUP(Ethanol!$A101&\" Industrial Ethanol\",ConsumeBlock,Ethanol!T$65,FALSE)","v":134},{"$f":"VLOOKUP(Ethanol!$A101&\" Industrial Ethanol\",ConsumeBlock,Ethanol!U$65,FALSE)","v":142},{"$f":"VLOOKUP(Ethanol!$A101&\" Industrial Ethanol\",ConsumeBlock,Ethanol!V$65,FALSE)","v":109},{"$f":"VLOOKUP(Ethanol!$A101&\" Industrial Ethanol\",ConsumeBlock,Ethanol!W$65,FALSE)","v":109},{"$f":"VLOOKUP(Ethanol!$A101&\" Industrial Ethanol\",ConsumeBlock,Ethanol!X$65,FALSE)","v":98},{"$f":"VLOOKUP(Ethanol!$A101&\" Industrial Ethanol\",ConsumeBlock,Ethanol!Y$65,FALSE)","v":105},{"$f":"VLOOKUP(Ethanol!$A101&\" Industrial Ethanol\",ConsumeBlock,Ethanol!Z$65,FALSE)","v":91},{"$f":"VLOOKUP(Ethanol!$A101&\" Industrial Ethanol\",ConsumeBlock,Ethanol!AA$65,FALSE)","v":145},{"$f":"VLOOKUP(Ethanol!$A101&\" Industrial Ethanol\",ConsumeBlock,Ethanol!AB$65,FALSE)","v":132},{"$f":"VLOOKUP(Ethanol!$A101&\" Industrial Ethanol\",ConsumeBlock,Ethanol!AC$65,FALSE)","v":134},{"$f":"VLOOKUP(Ethanol!$A101&\" Industrial Ethanol\",ConsumeBlock,Ethanol!AD$65,FALSE)","v":131}]
["OH",{"$f":"VLOOKUP(Ethanol!$A102&\" Industrial Ethanol\",ConsumeBlock,Ethanol!B$65,FALSE)","v":77},{"$f":"VLOOKUP(Ethanol!$A102&\" Industrial Ethanol\",ConsumeBlock,Ethanol!C$65,FALSE)","v":81},{"$f":"VLOOKUP(Ethanol!$A102&\" Industrial Ethanol\",ConsumeBlock,Ethanol!D$65,FALSE)","v":296},{"$f":"VLOOKUP(Ethanol!$A102&\" Industrial Ethanol\",ConsumeBlock,Ethanol!E$65,FALSE)","v":159},{"$f":"VLOOKUP(Ethanol!$A102&\" Industrial Ethanol\",ConsumeBlock,Ethanol!F$65,FALSE)","v":185},{"$f":"VLOOKUP(Ethanol!$A102&\" Industrial Ethanol\",ConsumeBlock,Ethanol!G$65,FALSE)","v":184},{"$f":"VLOOKUP(Ethanol!$A102&\" Industrial Ethanol\",ConsumeBlock,Ethanol!H$65,FALSE)","v":73},{"$f":"VLOOKUP(Ethanol!$A102&\" Industrial Ethanol\",ConsumeBlock,Ethanol!I$65,FALSE)","v":133},{"$f":"VLOOKUP(Ethanol!$A102&\" Industrial Ethanol\",ConsumeBlock,Ethanol!J$65,FALSE)","v":205},{"$f":"VLOOKUP(Ethanol!$A102&\" Industrial Ethanol\",ConsumeBlock,Ethanol!K$65,FALSE)","v":179},{"$f":"VLOOKUP(Ethanol!$A102&\" Industrial Ethanol\",ConsumeBlock,Ethanol!L$65,FALSE)","v":114},{"$f":"VLOOKUP(Ethanol!$A102&\" Industrial Ethanol\",ConsumeBlock,Ethanol!M$65,FALSE)","v":266},{"$f":"VLOOKUP(Ethanol!$A102&\" Industrial Ethanol\",ConsumeBlock,Ethanol!N$65,FALSE)","v":270},{"$f":"VLOOKUP(Ethanol!$A102&\" Industrial Ethanol\",ConsumeBlock,Ethanol!O$65,FALSE)","v":263},{"$f":"VLOOKUP(Ethanol!$A102&\" Industrial Ethanol\",ConsumeBlock,Ethanol!P$65,FALSE)","v":297},{"$f":"VLOOKUP(Ethanol!$A102&\" Industrial Ethanol\",ConsumeBlock,Ethanol!Q$65,FALSE)","v":355},{"$f":"VLOOKUP(Ethanol!$A102&\" Industrial Ethanol\",ConsumeBlock,Ethanol!R$65,FALSE)","v":404},{"$f":"VLOOKUP(Ethanol!$A102&\" Industrial Ethanol\",ConsumeBlock,Ethanol!S$65,FALSE)","v":400},{"$f":"VLOOKUP(Ethanol!$A102&\" Industrial Ethanol\",ConsumeBlock,Ethanol!T$65,FALSE)","v":448},{"$f":"VLOOKUP(Ethanol!$A102&\" Industrial Ethanol\",ConsumeBlock,Ethanol!U$65,FALSE)","v":489},{"$f":"VLOOKUP(Ethanol!$A102&\" Industrial Ethanol\",ConsumeBlock,Ethanol!V$65,FALSE)","v":438},{"$f":"VLOOKUP(Ethanol!$A102&\" Industrial Ethanol\",ConsumeBlock,Ethanol!W$65,FALSE)","v":514},{"$f":"VLOOKUP(Ethanol!$A102&\" Industrial Ethanol\",ConsumeBlock,Ethanol!X$65,FALSE)","v":545},{"$f":"VLOOKUP(Ethanol!$A102&\" Industrial Ethanol\",ConsumeBlock,Ethanol!Y$65,FALSE)","v":576},{"$f":"VLOOKUP(Ethanol!$A102&\" Industrial Ethanol\",ConsumeBlock,Ethanol!Z$65,FALSE)","v":353},{"$f":"VLOOKUP(Ethanol!$A102&\" Industrial Ethanol\",ConsumeBlock,Ethanol!AA$65,FALSE)","v":520},{"$f":"VLOOKUP(Ethanol!$A102&\" Industrial Ethanol\",ConsumeBlock,Ethanol!AB$65,FALSE)","v":516},{"$f":"VLOOKUP(Ethanol!$A102&\" Industrial Ethanol\",ConsumeBlock,Ethanol!AC$65,FALSE)","v":530},{"$f":"VLOOKUP(Ethanol!$A102&\" Industrial Ethanol\",ConsumeBlock,Ethanol!AD$65,FALSE)","v":535}]
["OK",{"$f":"VLOOKUP(Ethanol!$A103&\" Industrial Ethanol\",ConsumeBlock,Ethanol!B$65,FALSE)","v":0},{"$f":"VLOOKUP(Ethanol!$A103&\" Industrial Ethanol\",ConsumeBlock,Ethanol!C$65,FALSE)","v":0},{"$f":"VLOOKUP(Ethanol!$A103&\" Industrial Ethanol\",ConsumeBlock,Ethanol!D$65,FALSE)","v":0},{"$f":"VLOOKUP(Ethanol!$A103&\" Industrial Ethanol\",ConsumeBlock,Ethanol!E$65,FALSE)","v":0},{"$f":"VLOOKUP(Ethanol!$A103&\" Industrial Ethanol\",ConsumeBlock,Ethanol!F$65,FALSE)","v":0},{"$f":"VLOOKUP(Ethanol!$A103&\" Industrial Ethanol\",ConsumeBlock,Ethanol!G$65,FALSE)","v":0},{"$f":"VLOOKUP(Ethanol!$A103&\" Industrial Ethanol\",ConsumeBlock,Ethanol!H$65,FALSE)","v":0},{"$f":"VLOOKUP(Ethanol!$A103&\" Industrial Ethanol\",ConsumeBlock,Ethanol!I$65,FALSE)","v":0},{"$f":"VLOOKUP(Ethanol!$A103&\" Industrial Ethanol\",ConsumeBlock,Ethanol!J$65,FALSE)","v":0},{"$f":"VLOOKUP(Ethanol!$A103&\" Industrial Ethanol\",ConsumeBlock,Ethanol!K$65,FALSE)","v":0},{"$f":"VLOOKUP(Ethanol!$A103&\" Industrial Ethanol\",ConsumeBlock,Ethanol!L$65,FALSE)","v":0},{"$f":"VLOOKUP(Ethanol!$A103&\" Industrial Ethanol\",ConsumeBlock,Ethanol!M$65,FALSE)","v":0},{"$f":"VLOOKUP(Ethanol!$A103&\" Industrial Ethanol\",ConsumeBlock,Ethanol!N$65,FALSE)","v":0},{"$f":"VLOOKUP(Ethanol!$A103&\" Industrial Ethanol\",ConsumeBlock,Ethanol!O$65,FALSE)","v":0},{"$f":"VLOOKUP(Ethanol!$A103&\" Industrial Ethanol\",ConsumeBlock,Ethanol!P$65,FALSE)","v":0},{"$f":"VLOOKUP(Ethanol!$A103&\" Industrial Ethanol\",ConsumeBlock,Ethanol!Q$65,FALSE)","v":127},{"$f":"VLOOKUP(Ethanol!$A103&\" Industrial Ethanol\",ConsumeBlock,Ethanol!R$65,FALSE)","v":139},{"$f":"VLOOKUP(Ethanol!$A103&\" Industrial Ethanol\",ConsumeBlock,Ethanol!S$65,FALSE)","v":197},{"$f":"VLOOKUP(Ethanol!$A103&\" Industrial Ethanol\",ConsumeBlock,Ethanol!T$65,FALSE)","v":325},{"$f":"VLOOKUP(Ethanol!$A103&\" Industrial Ethanol\",ConsumeBlock,Ethanol!U$65,FALSE)","v":303},{"$f":"VLOOKUP(Ethanol!$A103&\" Industrial Ethanol\",ConsumeBlock,Ethanol!V$65,FALSE)","v":229},{"$f":"VLOOKUP(Ethanol!$A103&\" Industrial Ethanol\",ConsumeBlock,Ethanol!W$65,FALSE)","v":243},{"$f":"VLOOKUP(Ethanol!$A103&\" Industrial Ethanol\",ConsumeBlock,Ethanol!X$65,FALSE)","v":237},{"$f":"VLOOKUP(Ethanol!$A103&\" Industrial Ethanol\",ConsumeBlock,Ethanol!Y$65,FALSE)","v":253},{"$f":"VLOOKUP(Ethanol!$A103&\" Industrial Ethanol\",ConsumeBlock,Ethanol!Z$65,FALSE)","v":214},{"$f":"VLOOKUP(Ethanol!$A103&\" Industrial Ethanol\",ConsumeBlock,Ethanol!AA$65,FALSE)","v":296},{"$f":"VLOOKUP(Ethanol!$A103&\" Industrial Ethanol\",ConsumeBlock,Ethanol!AB$65,FALSE)","v":315},{"$f":"VLOOKUP(Ethanol!$A103&\" Industrial Ethanol\",ConsumeBlock,Ethanol!AC$65,FALSE)","v":321},{"$f":"VLOOKUP(Ethanol!$A103&\" Industrial Ethanol\",ConsumeBlock,Ethanol!AD$65,FALSE)","v":323}]
["OR",{"$f":"VLOOKUP(Ethanol!$A104&\" Industrial Ethanol\",ConsumeBlock,Ethanol!B$65,FALSE)","v":0},{"$f":"VLOOKUP(Ethanol!$A104&\" Industrial Ethanol\",ConsumeBlock,Ethanol!C$65,FALSE)","v":0},{"$f":"VLOOKUP(Ethanol!$A104&\" Industrial Ethanol\",ConsumeBlock,Ethanol!D$65,FALSE)","v":14},{"$f":"VLOOKUP(Ethanol!$A104&\" Industrial Ethanol\",ConsumeBlock,Ethanol!E$65,FALSE)","v":41},{"$f":"VLOOKUP(Ethanol!$A104&\" Industrial Ethanol\",ConsumeBlock,Ethanol!F$65,FALSE)","v":0},{"$f":"VLOOKUP(Ethanol!$A104&\" Industrial Ethanol\",ConsumeBlock,Ethanol!G$65,FALSE)","v":0},{"$f":"VLOOKUP(Ethanol!$A104&\" Industrial Ethanol\",ConsumeBlock,Ethanol!H$65,FALSE)","v":0},{"$f":"VLOOKUP(Ethanol!$A104&\" Industrial Ethanol\",ConsumeBlock,Ethanol!I$65,FALSE)","v":0},{"$f":"VLOOKUP(Ethanol!$A104&\" Industrial Ethanol\",ConsumeBlock,Ethanol!J$65,FALSE)","v":23},{"$f":"VLOOKUP(Ethanol!$A104&\" Industrial Ethanol\",ConsumeBlock,Ethanol!K$65,FALSE)","v":11},{"$f":"VLOOKUP(Ethanol!$A104&\" Industrial Ethanol\",ConsumeBlock,Ethanol!L$65,FALSE)","v":13},{"$f":"VLOOKUP(Ethanol!$A104&\" Industrial Ethanol\",ConsumeBlock,Ethanol!M$65,FALSE)","v":34},{"$f":"VLOOKUP(Ethanol!$A104&\" Industrial Ethanol\",ConsumeBlock,Ethanol!N$65,FALSE)","v":67},{"$f":"VLOOKUP(Ethanol!$A104&\" Industrial Ethanol\",ConsumeBlock,Ethanol!O$65,FALSE)","v":53},{"$f":"VLOOKUP(Ethanol!$A104&\" Industrial Ethanol\",ConsumeBlock,Ethanol!P$65,FALSE)","v":66},{"$f":"VLOOKUP(Ethanol!$A104&\" Industrial Ethanol\",ConsumeBlock,Ethanol!Q$65,FALSE)","v":102},{"$f":"VLOOKUP(Ethanol!$A104&\" Industrial Ethanol\",ConsumeBlock,Ethanol!R$65,FALSE)","v":119},{"$f":"VLOOKUP(Ethanol!$A104&\" Industrial Ethanol\",ConsumeBlock,Ethanol!S$65,FALSE)","v":129},{"$f":"VLOOKUP(Ethanol!$A104&\" Industrial Ethanol\",ConsumeBlock,Ethanol!T$65,FALSE)","v":192},{"$f":"VLOOKUP(Ethanol!$A104&\" Industrial Ethanol\",ConsumeBlock,Ethanol!U$65,FALSE)","v":213},{"$f":"VLOOKUP(Ethanol!$A104&\" Industrial Ethanol\",ConsumeBlock,Ethanol!V$65,FALSE)","v":217},{"$f":"VLOOKUP(Ethanol!$A104&\" Industrial Ethanol\",ConsumeBlock,Ethanol!W$65,FALSE)","v":283},{"$f":"VLOOKUP(Ethanol!$A104&\" Industrial Ethanol\",ConsumeBlock,Ethanol!X$65,FALSE)","v":227},{"$f":"VLOOKUP(Ethanol!$A104&\" Industrial Ethanol\",ConsumeBlock,Ethanol!Y$65,FALSE)","v":245},{"$f":"VLOOKUP(Ethanol!$A104&\" Industrial Ethanol\",ConsumeBlock,Ethanol!Z$65,FALSE)","v":154},{"$f":"VLOOKUP(Ethanol!$A104&\" Industrial Ethanol\",ConsumeBlock,Ethanol!AA$65,FALSE)","v":232},{"$f":"VLOOKUP(Ethanol!$A104&\" Industrial Ethanol\",ConsumeBlock,Ethanol!AB$65,FALSE)","v":228},{"$f":"VLOOKUP(Ethanol!$A104&\" Industrial Ethanol\",ConsumeBlock,Ethanol!AC$65,FALSE)","v":234},{"$f":"VLOOKUP(Ethanol!$A104&\" Industrial Ethanol\",ConsumeBlock,Ethanol!AD$65,FALSE)","v":237}]
["PA",{"$f":"VLOOKUP(Ethanol!$A105&\" Industrial Ethanol\",ConsumeBlock,Ethanol!B$65,FALSE)","v":0},{"$f":"VLOOKUP(Ethanol!$A105&\" Industrial Ethanol\",ConsumeBlock,Ethanol!C$65,FALSE)","v":0},{"$f":"VLOOKUP(Ethanol!$A105&\" Industrial Ethanol\",ConsumeBlock,Ethanol!D$65,FALSE)","v":0},{"$f":"VLOOKUP(Ethanol!$A105&\" Industrial Ethanol\",ConsumeBlock,Ethanol!E$65,FALSE)","v":7},{"$f":"VLOOKUP(Ethanol!$A105&\" Industrial Ethanol\",ConsumeBlock,Ethanol!F$65,FALSE)","v":16},{"$f":"VLOOKUP(Ethanol!$A105&\" Industrial Ethanol\",ConsumeBlock,Ethanol!G$65,FALSE)","v":50},{"$f":"VLOOKUP(Ethanol!$A105&\" Industrial Ethanol\",ConsumeBlock,Ethanol!H$65,FALSE)","v":34},{"$f":"VLOOKUP(Ethanol!$A105&\" Industrial Ethanol\",ConsumeBlock,Ethanol!I$65,FALSE)","v":39},{"$f":"VLOOKUP(Ethanol!$A105&\" Industrial Ethanol\",ConsumeBlock,Ethanol!J$65,FALSE)","v":9},{"$f":"VLOOKUP(Ethanol!$A105&\" Industrial Ethanol\",ConsumeBlock,Ethanol!K$65,FALSE)","v":6},{"$f":"VLOOKUP(Ethanol!$A105&\" Industrial Ethanol\",ConsumeBlock,Ethanol!L$65,FALSE)","v":7},{"$f":"VLOOKUP(Ethanol!$A105&\" Industrial Ethanol\",ConsumeBlock,Ethanol!M$65,FALSE)","v":16},{"$f":"VLOOKUP(Ethanol!$A105&\" Industrial Ethanol\",ConsumeBlock,Ethanol!N$65,FALSE)","v":6},{"$f":"VLOOKUP(Ethanol!$A105&\" Industrial Ethanol\",ConsumeBlock,Ethanol!O$65,FALSE)","v":7},{"$f":"VLOOKUP(Ethanol!$A105&\" Industrial Ethanol\",ConsumeBlock,Ethanol!P$65,FALSE)","v":109},{"$f":"VLOOKUP(Ethanol!$A105&\" Industrial Ethanol\",ConsumeBlock,Ethanol!Q$65,FALSE)","v":70},{"$f":"VLOOKUP(Ethanol!$A105&\" Industrial Ethanol\",ConsumeBlock,Ethanol!R$65,FALSE)","v":180},{"$f":"VLOOKUP(Ethanol!$A105&\" Industrial Ethanol\",ConsumeBlock,Ethanol!S$65,FALSE)","v":175},{"$f":"VLOOKUP(Ethanol!$A105&\" Industrial Ethanol\",ConsumeBlock,Ethanol!T$65,FALSE)","v":208},{"$f":"VLOOKUP(Ethanol!$A105&\" Industrial Ethanol\",ConsumeBlock,Ethanol!U$65,FALSE)","v":255},{"$f":"VLOOKUP(Ethanol!$A105&\" Industrial Ethanol\",ConsumeBlock,Ethanol!V$65,FALSE)","v":664},{"$f":"VLOOKUP(Ethanol!$A105&\" Industrial Ethanol\",ConsumeBlock,Ethanol!W$65,FALSE)","v":408},{"$f":"VLOOKUP(Ethanol!$A105&\" Industrial Ethanol\",ConsumeBlock,Ethanol!X$65,FALSE)","v":698},{"$f":"VLOOKUP(Ethanol!$A105&\" Industrial Ethanol\",ConsumeBlock,Ethanol!Y$65,FALSE)","v":730},{"$f":"VLOOKUP(Ethanol!$A105&\" Industrial Ethanol\",ConsumeBlock,Ethanol!Z$65,FALSE)","v":578},{"$f":"VLOOKUP(Ethanol!$A105&\" Industrial Ethanol\",ConsumeBlock,Ethanol!AA$65,FALSE)","v":498},{"$f":"VLOOKUP(Ethanol!$A105&\" Industrial Ethanol\",ConsumeBlock,Ethanol!AB$65,FALSE)","v":501},{"$f":"VLOOKUP(Ethanol!$A105&\" Industrial Ethanol\",ConsumeBlock,Ethanol!AC$65,FALSE)","v":517},{"$f":"VLOOKUP(Ethanol!$A105&\" Industrial Ethanol\",ConsumeBlock,Ethanol!AD$65,FALSE)","v":535}]
["RI",{"$f":"VLOOKUP(Ethanol!$A106&\" Industrial Ethanol\",ConsumeBlock,Ethanol!B$65,FALSE)","v":0},{"$f":"VLOOKUP(Ethanol!$A106&\" Industrial Ethanol\",ConsumeBlock,Ethanol!C$65,FALSE)","v":0},{"$f":"VLOOKUP(Ethanol!$A106&\" Industrial Ethanol\",ConsumeBlock,Ethanol!D$65,FALSE)","v":0},{"$f":"VLOOKUP(Ethanol!$A106&\" Industrial Ethanol\",ConsumeBlock,Ethanol!E$65,FALSE)","v":0},{"$f":"VLOOKUP(Ethanol!$A106&\" Industrial Ethanol\",ConsumeBlock,Ethanol!F$65,FALSE)","v":0},{"$f":"VLOOKUP(Ethanol!$A106&\" Industrial Ethanol\",ConsumeBlock,Ethanol!G$65,FALSE)","v":0},{"$f":"VLOOKUP(Ethanol!$A106&\" Industrial Ethanol\",ConsumeBlock,Ethanol!H$65,FALSE)","v":0},{"$f":"VLOOKUP(Ethanol!$A106&\" Industrial Ethanol\",ConsumeBlock,Ethanol!I$65,FALSE)","v":0},{"$f":"VLOOKUP(Ethanol!$A106&\" Industrial Ethanol\",ConsumeBlock,Ethanol!J$65,FALSE)","v":0},{"$f":"VLOOKUP(Ethanol!$A106&\" Industrial Ethanol\",ConsumeBlock,Ethanol!K$65,FALSE)","v":0},{"$f":"VLOOKUP(Ethanol!$A106&\" Industrial Ethanol\",ConsumeBlock,Ethanol!L$65,FALSE)","v":0},{"$f":"VLOOKUP(Ethanol!$A106&\" Industrial Ethanol\",ConsumeBlock,Ethanol!M$65,FALSE)","v":0},{"$f":"VLOOKUP(Ethanol!$A106&\" Industrial Ethanol\",ConsumeBlock,Ethanol!N$65,FALSE)","v":0},{"$f":"VLOOKUP(Ethanol!$A106&\" Industrial Ethanol\",ConsumeBlock,Ethanol!O$65,FALSE)","v":0},{"$f":"VLOOKUP(Ethanol!$A106&\" Industrial Ethanol\",ConsumeBlock,Ethanol!P$65,FALSE)","v":8},{"$f":"VLOOKUP(Ethanol!$A106&\" Industrial Ethanol\",ConsumeBlock,Ethanol!Q$65,FALSE)","v":12},{"$f":"VLOOKUP(Ethanol!$A106&\" Industrial Ethanol\",ConsumeBlock,Ethanol!R$65,FALSE)","v":32},{"$f":"VLOOKUP(Ethanol!$A106&\" Industrial Ethanol\",ConsumeBlock,Ethanol!S$65,FALSE)","v":57},{"$f":"VLOOKUP(Ethanol!$A106&\" Industrial Ethanol\",ConsumeBlock,Ethanol!T$65,FALSE)","v":53},{"$f":"VLOOKUP(Ethanol!$A106&\" Industrial Ethanol\",ConsumeBlock,Ethanol!U$65,FALSE)","v":60},{"$f":"VLOOKUP(Ethanol!$A106&\" Industrial Ethanol\",ConsumeBlock,Ethanol!V$65,FALSE)","v":41},{"$f":"VLOOKUP(Ethanol!$A106&\" Industrial Ethanol\",ConsumeBlock,Ethanol!W$65,FALSE)","v":40},{"$f":"VLOOKUP(Ethanol!$A106&\" Industrial Ethanol\",ConsumeBlock,Ethanol!X$65,FALSE)","v":41},{"$f":"VLOOKUP(Ethanol!$A106&\" Industrial Ethanol\",ConsumeBlock,Ethanol!Y$65,FALSE)","v":43},{"$f":"VLOOKUP(Ethanol!$A106&\" Industrial Ethanol\",ConsumeBlock,Ethanol!Z$65,FALSE)","v":43},{"$f":"VLOOKUP(Ethanol!$A106&\" Industrial Ethanol\",ConsumeBlock,Ethanol!AA$65,FALSE)","v":43},{"$f":"VLOOKUP(Ethanol!$A106&\" Industrial Ethanol\",ConsumeBlock,Ethanol!AB$65,FALSE)","v":43},{"$f":"VLOOKUP(Ethanol!$A106&\" Industrial Ethanol\",ConsumeBlock,Ethanol!AC$65,FALSE)","v":44},{"$f":"VLOOKUP(Ethanol!$A106&\" Industrial Ethanol\",ConsumeBlock,Ethanol!AD$65,FALSE)","v":44}]
["SC",{"$f":"VLOOKUP(Ethanol!$A107&\" Industrial Ethanol\",ConsumeBlock,Ethanol!B$65,FALSE)","v":8},{"$f":"VLOOKUP(Ethanol!$A107&\" Industrial Ethanol\",ConsumeBlock,Ethanol!C$65,FALSE)","v":0},{"$f":"VLOOKUP(Ethanol!$A107&\" Industrial Ethanol\",ConsumeBlock,Ethanol!D$65,FALSE)","v":0},{"$f":"VLOOKUP(Ethanol!$A107&\" Industrial Ethanol\",ConsumeBlock,Ethanol!E$65,FALSE)","v":0},{"$f":"VLOOKUP(Ethanol!$A107&\" Industrial Ethanol\",ConsumeBlock,Ethanol!F$65,FALSE)","v":0},{"$f":"VLOOKUP(Ethanol!$A107&\" Industrial Ethanol\",ConsumeBlock,Ethanol!G$65,FALSE)","v":0},{"$f":"VLOOKUP(Ethanol!$A107&\" Industrial Ethanol\",ConsumeBlock,Ethanol!H$65,FALSE)","v":0},{"$f":"VLOOKUP(Ethanol!$A107&\" Industrial Ethanol\",ConsumeBlock,Ethanol!I$65,FALSE)","v":0},{"$f":"VLOOKUP(Ethanol!$A107&\" Industrial Ethanol\",ConsumeBlock,Ethanol!J$65,FALSE)","v":0},{"$f":"VLOOKUP(Ethanol!$A107&\" Industrial Ethanol\",ConsumeBlock,Ethanol!K$65,FALSE)","v":0},{"$f":"VLOOKUP(Ethanol!$A107&\" Industrial Ethanol\",ConsumeBlock,Ethanol!L$65,FALSE)","v":0},{"$f":"VLOOKUP(Ethanol!$A107&\" Industrial Ethanol\",ConsumeBlock,Ethanol!M$65,FALSE)","v":0},{"$f":"VLOOKUP(Ethanol!$A107&\" Industrial Ethanol\",ConsumeBlock,Ethanol!N$65,FALSE)","v":0},{"$f":"VLOOKUP(Ethanol!$A107&\" Industrial Ethanol\",ConsumeBlock,Ethanol!O$65,FALSE)","v":0},{"$f":"VLOOKUP(Ethanol!$A107&\" Industrial Ethanol\",ConsumeBlock,Ethanol!P$65,FALSE)","v":0},{"$f":"VLOOKUP(Ethanol!$A107&\" Industrial Ethanol\",ConsumeBlock,Ethanol!Q$65,FALSE)","v":21},{"$f":"VLOOKUP(Ethanol!$A107&\" Industrial Ethanol\",ConsumeBlock,Ethanol!R$65,FALSE)","v":32},{"$f":"VLOOKUP(Ethanol!$A107&\" Industrial Ethanol\",ConsumeBlock,Ethanol!S$65,FALSE)","v":31},{"$f":"VLOOKUP(Ethanol!$A107&\" Industrial Ethanol\",ConsumeBlock,Ethanol!T$65,FALSE)","v":180},{"$f":"VLOOKUP(Ethanol!$A107&\" Industrial Ethanol\",ConsumeBlock,Ethanol!U$65,FALSE)","v":213},{"$f":"VLOOKUP(Ethanol!$A107&\" Industrial Ethanol\",ConsumeBlock,Ethanol!V$65,FALSE)","v":156},{"$f":"VLOOKUP(Ethanol!$A107&\" Industrial Ethanol\",ConsumeBlock,Ethanol!W$65,FALSE)","v":159},{"$f":"VLOOKUP(Ethanol!$A107&\" Industrial Ethanol\",ConsumeBlock,Ethanol!X$65,FALSE)","v":174},{"$f":"VLOOKUP(Ethanol!$A107&\" Industrial Ethanol\",ConsumeBlock,Ethanol!Y$65,FALSE)","v":183},{"$f":"VLOOKUP(Ethanol!$A107&\" Industrial Ethanol\",ConsumeBlock,Ethanol!Z$65,FALSE)","v":151},{"$f":"VLOOKUP(Ethanol!$A107&\" Industrial Ethanol\",ConsumeBlock,Ethanol!AA$65,FALSE)","v":190},{"$f":"VLOOKUP(Ethanol!$A107&\" Industrial Ethanol\",ConsumeBlock,Ethanol!AB$65,FALSE)","v":195},{"$f":"VLOOKUP(Ethanol!$A107&\" Industrial Ethanol\",ConsumeBlock,Ethanol!AC$65,FALSE)","v":202},{"$f":"VLOOKUP(Ethanol!$A107&\" Industrial Ethanol\",ConsumeBlock,Ethanol!AD$65,FALSE)","v":215}]
["SD",{"$f":"VLOOKUP(Ethanol!$A108&\" Industrial Ethanol\",ConsumeBlock,Ethanol!B$65,FALSE)","v":27},{"$f":"VLOOKUP(Ethanol!$A108&\" Industrial Ethanol\",ConsumeBlock,Ethanol!C$65,FALSE)","v":60},{"$f":"VLOOKUP(Ethanol!$A108&\" Industrial Ethanol\",ConsumeBlock,Ethanol!D$65,FALSE)","v":67},{"$f":"VLOOKUP(Ethanol!$A108&\" Industrial Ethanol\",ConsumeBlock,Ethanol!E$65,FALSE)","v":92},{"$f":"VLOOKUP(Ethanol!$A108&\" Industrial Ethanol\",ConsumeBlock,Ethanol!F$65,FALSE)","v":88},{"$f":"VLOOKUP(Ethanol!$A108&\" Industrial Ethanol\",ConsumeBlock,Ethanol!G$65,FALSE)","v":94},{"$f":"VLOOKUP(Ethanol!$A108&\" Industrial Ethanol\",ConsumeBlock,Ethanol!H$65,FALSE)","v":66},{"$f":"VLOOKUP(Ethanol!$A108&\" Industrial Ethanol\",ConsumeBlock,Ethanol!I$65,FALSE)","v":77},{"$f":"VLOOKUP(Ethanol!$A108&\" Industrial Ethanol\",ConsumeBlock,Ethanol!J$65,FALSE)","v":59},{"$f":"VLOOKUP(Ethanol!$A108&\" Industrial Ethanol\",ConsumeBlock,Ethanol!K$65,FALSE)","v":76},{"$f":"VLOOKUP(Ethanol!$A108&\" Industrial Ethanol\",ConsumeBlock,Ethanol!L$65,FALSE)","v":78},{"$f":"VLOOKUP(Ethanol!$A108&\" Industrial Ethanol\",ConsumeBlock,Ethanol!M$65,FALSE)","v":112},{"$f":"VLOOKUP(Ethanol!$A108&\" Industrial Ethanol\",ConsumeBlock,Ethanol!N$65,FALSE)","v":121},{"$f":"VLOOKUP(Ethanol!$A108&\" Industrial Ethanol\",ConsumeBlock,Ethanol!O$65,FALSE)","v":136},{"$f":"VLOOKUP(Ethanol!$A108&\" Industrial Ethanol\",ConsumeBlock,Ethanol!P$65,FALSE)","v":153},{"$f":"VLOOKUP(Ethanol!$A108&\" Industrial Ethanol\",ConsumeBlock,Ethanol!Q$65,FALSE)","v":180},{"$f":"VLOOKUP(Ethanol!$A108&\" Industrial Ethanol\",ConsumeBlock,Ethanol!R$65,FALSE)","v":181},{"$f":"VLOOKUP(Ethanol!$A108&\" Industrial Ethanol\",ConsumeBlock,Ethanol!S$65,FALSE)","v":155},{"$f":"VLOOKUP(Ethanol!$A108&\" Industrial Ethanol\",ConsumeBlock,Ethanol!T$65,FALSE)","v":132},{"$f":"VLOOKUP(Ethanol!$A108&\" Industrial Ethanol\",ConsumeBlock,Ethanol!U$65,FALSE)","v":132},{"$f":"VLOOKUP(Ethanol!$A108&\" Industrial Ethanol\",ConsumeBlock,Ethanol!V$65,FALSE)","v":119},{"$f":"VLOOKUP(Ethanol!$A108&\" Industrial Ethanol\",ConsumeBlock,Ethanol!W$65,FALSE)","v":113},{"$f":"VLOOKUP(Ethanol!$A108&\" Industrial Ethanol\",ConsumeBlock,Ethanol!X$65,FALSE)","v":107},{"$f":"VLOOKUP(Ethanol!$A108&\" Industrial Ethanol\",ConsumeBlock,Ethanol!Y$65,FALSE)","v":112},{"$f":"VLOOKUP(Ethanol!$A108&\" Industrial Ethanol\",ConsumeBlock,Ethanol!Z$65,FALSE)","v":104},{"$f":"VLOOKUP(Ethanol!$A108&\" Industrial Ethanol\",ConsumeBlock,Ethanol!AA$65,FALSE)","v":102},{"$f":"VLOOKUP(Ethanol!$A108&\" Industrial Ethanol\",ConsumeBlock,Ethanol!AB$65,FALSE)","v":93},{"$f":"VLOOKUP(Ethanol!$A108&\" Industrial Ethanol\",ConsumeBlock,Ethanol!AC$65,FALSE)","v":94},{"$f":"VLOOKUP(Ethanol!$A108&\" Industrial Ethanol\",ConsumeBlock,Ethanol!AD$65,FALSE)","v":94}]
["TN",{"$f":"VLOOKUP(Ethanol!$A109&\" Industrial Ethanol\",ConsumeBlock,Ethanol!B$65,FALSE)","v":20},{"$f":"VLOOKUP(Ethanol!$A109&\" Industrial Ethanol\",ConsumeBlock,Ethanol!C$65,FALSE)","v":15},{"$f":"VLOOKUP(Ethanol!$A109&\" Industrial Ethanol\",ConsumeBlock,Ethanol!D$65,FALSE)","v":18},{"$f":"VLOOKUP(Ethanol!$A109&\" Industrial Ethanol\",ConsumeBlock,Ethanol!E$65,FALSE)","v":24},{"$f":"VLOOKUP(Ethanol!$A109&\" Industrial Ethanol\",ConsumeBlock,Ethanol!F$65,FALSE)","v":36},{"$f":"VLOOKUP(Ethanol!$A109&\" Industrial Ethanol\",ConsumeBlock,Ethanol!G$65,FALSE)","v":17},{"$f":"VLOOKUP(Ethanol!$A109&\" Industrial Ethanol\",ConsumeBlock,Ethanol!H$65,FALSE)","v":0},{"$f":"VLOOKUP(Ethanol!$A109&\" Industrial Ethanol\",ConsumeBlock,Ethanol!I$65,FALSE)","v":0},{"$f":"VLOOKUP(Ethanol!$A109&\" Industrial Ethanol\",ConsumeBlock,Ethanol!J$65,FALSE)","v":0},{"$f":"VLOOKUP(Ethanol!$A109&\" Industrial Ethanol\",ConsumeBlock,Ethanol!K$65,FALSE)","v":0},{"$f":"VLOOKUP(Ethanol!$A109&\" Industrial Ethanol\",ConsumeBlock,Ethanol!L$65,FALSE)","v":0},{"$f":"VLOOKUP(Ethanol!$A109&\" Industrial Ethanol\",ConsumeBlock,Ethanol!M$65,FALSE)","v":0},{"$f":"VLOOKUP(Ethanol!$A109&\" Industrial Ethanol\",ConsumeBlock,Ethanol!N$65,FALSE)","v":0},{"$f":"VLOOKUP(Ethanol!$A109&\" Industrial Ethanol\",ConsumeBlock,Ethanol!O$65,FALSE)","v":0},{"$f":"VLOOKUP(Ethanol!$A109&\" Industrial Ethanol\",ConsumeBlock,Ethanol!P$65,FALSE)","v":0},{"$f":"VLOOKUP(Ethanol!$A109&\" Industrial Ethanol\",ConsumeBlock,Ethanol!Q$65,FALSE)","v":193},{"$f":"VLOOKUP(Ethanol!$A109&\" Industrial Ethanol\",ConsumeBlock,Ethanol!R$65,FALSE)","v":229},{"$f":"VLOOKUP(Ethanol!$A109&\" Industrial Ethanol\",ConsumeBlock,Ethanol!S$65,FALSE)","v":393},{"$f":"VLOOKUP(Ethanol!$A109&\" Industrial Ethanol\",ConsumeBlock,Ethanol!T$65,FALSE)","v":444},{"$f":"VLOOKUP(Ethanol!$A109&\" Industrial Ethanol\",ConsumeBlock,Ethanol!U$65,FALSE)","v":512},{"$f":"VLOOKUP(Ethanol!$A109&\" Industrial Ethanol\",ConsumeBlock,Ethanol!V$65,FALSE)","v":255},{"$f":"VLOOKUP(Ethanol!$A109&\" Industrial Ethanol\",ConsumeBlock,Ethanol!W$65,FALSE)","v":279},{"$f":"VLOOKUP(Ethanol!$A109&\" Industrial Ethanol\",ConsumeBlock,Ethanol!X$65,FALSE)","v":297},{"$f":"VLOOKUP(Ethanol!$A109&\" Industrial Ethanol\",ConsumeBlock,Ethanol!Y$65,FALSE)","v":329},{"$f":"VLOOKUP(Ethanol!$A109&\" Industrial Ethanol\",ConsumeBlock,Ethanol!Z$65,FALSE)","v":215},{"$f":"VLOOKUP(Ethanol!$A109&\" Industrial Ethanol\",ConsumeBlock,Ethanol!AA$65,FALSE)","v":370},{"$f":"VLOOKUP(Ethanol!$A109&\" Industrial Ethanol\",ConsumeBlock,Ethanol!AB$65,FALSE)","v":378},{"$f":"VLOOKUP(Ethanol!$A109&\" Industrial Ethanol\",ConsumeBlock,Ethanol!AC$65,FALSE)","v":387},{"$f":"VLOOKUP(Ethanol!$A109&\" Industrial Ethanol\",ConsumeBlock,Ethanol!AD$65,FALSE)","v":399}]
["TX",{"$f":"VLOOKUP(Ethanol!$A110&\" Industrial Ethanol\",ConsumeBlock,Ethanol!B$65,FALSE)","v":43},{"$f":"VLOOKUP(Ethanol!$A110&\" Industrial Ethanol\",ConsumeBlock,Ethanol!C$65,FALSE)","v":47},{"$f":"VLOOKUP(Ethanol!$A110&\" Industrial Ethanol\",ConsumeBlock,Ethanol!D$65,FALSE)","v":49},{"$f":"VLOOKUP(Ethanol!$A110&\" Industrial Ethanol\",ConsumeBlock,Ethanol!E$65,FALSE)","v":9},{"$f":"VLOOKUP(Ethanol!$A110&\" Industrial Ethanol\",ConsumeBlock,Ethanol!F$65,FALSE)","v":22},{"$f":"VLOOKUP(Ethanol!$A110&\" Industrial Ethanol\",ConsumeBlock,Ethanol!G$65,FALSE)","v":78},{"$f":"VLOOKUP(Ethanol!$A110&\" Industrial Ethanol\",ConsumeBlock,Ethanol!H$65,FALSE)","v":28},{"$f":"VLOOKUP(Ethanol!$A110&\" Industrial Ethanol\",ConsumeBlock,Ethanol!I$65,FALSE)","v":70},{"$f":"VLOOKUP(Ethanol!$A110&\" Industrial Ethanol\",ConsumeBlock,Ethanol!J$65,FALSE)","v":115},{"$f":"VLOOKUP(Ethanol!$A110&\" Industrial Ethanol\",ConsumeBlock,Ethanol!K$65,FALSE)","v":49},{"$f":"VLOOKUP(Ethanol!$A110&\" Industrial Ethanol\",ConsumeBlock,Ethanol!L$65,FALSE)","v":56},{"$f":"VLOOKUP(Ethanol!$A110&\" Industrial Ethanol\",ConsumeBlock,Ethanol!M$65,FALSE)","v":99},{"$f":"VLOOKUP(Ethanol!$A110&\" Industrial Ethanol\",ConsumeBlock,Ethanol!N$65,FALSE)","v":45},{"$f":"VLOOKUP(Ethanol!$A110&\" Industrial Ethanol\",ConsumeBlock,Ethanol!O$65,FALSE)","v":38},{"$f":"VLOOKUP(Ethanol!$A110&\" Industrial Ethanol\",ConsumeBlock,Ethanol!P$65,FALSE)","v":50},{"$f":"VLOOKUP(Ethanol!$A110&\" Industrial Ethanol\",ConsumeBlock,Ethanol!Q$65,FALSE)","v":29},{"$f":"VLOOKUP(Ethanol!$A110&\" Industrial Ethanol\",ConsumeBlock,Ethanol!R$65,FALSE)","v":802},{"$f":"VLOOKUP(Ethanol!$A110&\" Industrial Ethanol\",ConsumeBlock,Ethanol!S$65,FALSE)","v":845},{"$f":"VLOOKUP(Ethanol!$A110&\" Industrial Ethanol\",ConsumeBlock,Ethanol!T$65,FALSE)","v":856},{"$f":"VLOOKUP(Ethanol!$A110&\" Industrial Ethanol\",ConsumeBlock,Ethanol!U$65,FALSE)","v":879},{"$f":"VLOOKUP(Ethanol!$A110&\" Industrial Ethanol\",ConsumeBlock,Ethanol!V$65,FALSE)","v":1683},{"$f":"VLOOKUP(Ethanol!$A110&\" Industrial Ethanol\",ConsumeBlock,Ethanol!W$65,FALSE)","v":2125},{"$f":"VLOOKUP(Ethanol!$A110&\" Industrial Ethanol\",ConsumeBlock,Ethanol!X$65,FALSE)","v":1832},{"$f":"VLOOKUP(Ethanol!$A110&\" Industrial Ethanol\",ConsumeBlock,Ethanol!Y$65,FALSE)","v":1930},{"$f":"VLOOKUP(Ethanol!$A110&\" Industrial Ethanol\",ConsumeBlock,Ethanol!Z$65,FALSE)","v":1507},{"$f":"VLOOKUP(Ethanol!$A110&\" Industrial Ethanol\",ConsumeBlock,Ethanol!AA$65,FALSE)","v":1223},{"$f":"VLOOKUP(Ethanol!$A110&\" Industrial Ethanol\",ConsumeBlock,Ethanol!AB$65,FALSE)","v":1318},{"$f":"VLOOKUP(Ethanol!$A110&\" Industrial Ethanol\",ConsumeBlock,Ethanol!AC$65,FALSE)","v":1340},{"$f":"VLOOKUP(Ethanol!$A110&\" Industrial Ethanol\",ConsumeBlock,Ethanol!AD$65,FALSE)","v":1362}]
["UT",{"$f":"VLOOKUP(Ethanol!$A111&\" Industrial Ethanol\",ConsumeBlock,Ethanol!B$65,FALSE)","v":0},{"$f":"VLOOKUP(Ethanol!$A111&\" Industrial Ethanol\",ConsumeBlock,Ethanol!C$65,FALSE)","v":0},{"$f":"VLOOKUP(Ethanol!$A111&\" Industrial Ethanol\",ConsumeBlock,Ethanol!D$65,FALSE)","v":0},{"$f":"VLOOKUP(Ethanol!$A111&\" Industrial Ethanol\",ConsumeBlock,Ethanol!E$65,FALSE)","v":1},{"$f":"VLOOKUP(Ethanol!$A111&\" Industrial Ethanol\",ConsumeBlock,Ethanol!F$65,FALSE)","v":0},{"$f":"VLOOKUP(Ethanol!$A111&\" Industrial Ethanol\",ConsumeBlock,Ethanol!G$65,FALSE)","v":0},{"$f":"VLOOKUP(Ethanol!$A111&\" Industrial Ethanol\",ConsumeBlock,Ethanol!H$65,FALSE)","v":1},{"$f":"VLOOKUP(Ethanol!$A111&\" Industrial Ethanol\",ConsumeBlock,Ethanol!I$65,FALSE)","v":0},{"$f":"VLOOKUP(Ethanol!$A111&\" Industrial Ethanol\",ConsumeBlock,Ethanol!J$65,FALSE)","v":11},{"$f":"VLOOKUP(Ethanol!$A111&\" Industrial Ethanol\",ConsumeBlock,Ethanol!K$65,FALSE)","v":9},{"$f":"VLOOKUP(Ethanol!$A111&\" Industrial Ethanol\",ConsumeBlock,Ethanol!L$65,FALSE)","v":10},{"$f":"VLOOKUP(Ethanol!$A111&\" Industrial Ethanol\",ConsumeBlock,Ethanol!M$65,FALSE)","v":28},{"$f":"VLOOKUP(Ethanol!$A111&\" Industrial Ethanol\",ConsumeBlock,Ethanol!N$65,FALSE)","v":7},{"$f":"VLOOKUP(Ethanol!$A111&\" Industrial Ethanol\",ConsumeBlock,Ethanol!O$65,FALSE)","v":6},{"$f":"VLOOKUP(Ethanol!$A111&\" Industrial Ethanol\",ConsumeBlock,Ethanol!P$65,FALSE)","v":3},{"$f":"VLOOKUP(Ethanol!$A111&\" Industrial Ethanol\",ConsumeBlock,Ethanol!Q$65,FALSE)","v":51},{"$f":"VLOOKUP(Ethanol!$A111&\" Industrial Ethanol\",ConsumeBlock,Ethanol!R$65,FALSE)","v":44},{"$f":"VLOOKUP(Ethanol!$A111&\" Industrial Ethanol\",ConsumeBlock,Ethanol!S$65,FALSE)","v":63},{"$f":"VLOOKUP(Ethanol!$A111&\" Industrial Ethanol\",ConsumeBlock,Ethanol!T$65,FALSE)","v":73},{"$f":"VLOOKUP(Ethanol!$A111&\" Industrial Ethanol\",ConsumeBlock,Ethanol!U$65,FALSE)","v":80},{"$f":"VLOOKUP(Ethanol!$A111&\" Industrial Ethanol\",ConsumeBlock,Ethanol!V$65,FALSE)","v":75},{"$f":"VLOOKUP(Ethanol!$A111&\" Industrial Ethanol\",ConsumeBlock,Ethanol!W$65,FALSE)","v":103},{"$f":"VLOOKUP(Ethanol!$A111&\" Industrial Ethanol\",ConsumeBlock,Ethanol!X$65,FALSE)","v":110},{"$f":"VLOOKUP(Ethanol!$A111&\" Industrial Ethanol\",ConsumeBlock,Ethanol!Y$65,FALSE)","v":116},{"$f":"VLOOKUP(Ethanol!$A111&\" Industrial Ethanol\",ConsumeBlock,Ethanol!Z$65,FALSE)","v":90},{"$f":"VLOOKUP(Ethanol!$A111&\" Industrial Ethanol\",ConsumeBlock,Ethanol!AA$65,FALSE)","v":141},{"$f":"VLOOKUP(Ethanol!$A111&\" Industrial Ethanol\",ConsumeBlock,Ethanol!AB$65,FALSE)","v":149},{"$f":"VLOOKUP(Ethanol!$A111&\" Industrial Ethanol\",ConsumeBlock,Ethanol!AC$65,FALSE)","v":151},{"$f":"VLOOKUP(Ethanol!$A111&\" Industrial Ethanol\",ConsumeBlock,Ethanol!AD$65,FALSE)","v":156}]
["VT",{"$f":"VLOOKUP(Ethanol!$A112&\" Industrial Ethanol\",ConsumeBlock,Ethanol!B$65,FALSE)","v":0},{"$f":"VLOOKUP(Ethanol!$A112&\" Industrial Ethanol\",ConsumeBlock,Ethanol!C$65,FALSE)","v":0},{"$f":"VLOOKUP(Ethanol!$A112&\" Industrial Ethanol\",ConsumeBlock,Ethanol!D$65,FALSE)","v":0},{"$f":"VLOOKUP(Ethanol!$A112&\" Industrial Ethanol\",ConsumeBlock,Ethanol!E$65,FALSE)","v":0},{"$f":"VLOOKUP(Ethanol!$A112&\" Industrial Ethanol\",ConsumeBlock,Ethanol!F$65,FALSE)","v":0},{"$f":"VLOOKUP(Ethanol!$A112&\" Industrial Ethanol\",ConsumeBlock,Ethanol!G$65,FALSE)","v":0},{"$f":"VLOOKUP(Ethanol!$A112&\" Industrial Ethanol\",ConsumeBlock,Ethanol!H$65,FALSE)","v":0},{"$f":"VLOOKUP(Ethanol!$A112&\" Industrial Ethanol\",ConsumeBlock,Ethanol!I$65,FALSE)","v":0},{"$f":"VLOOKUP(Ethanol!$A112&\" Industrial Ethanol\",ConsumeBlock,Ethanol!J$65,FALSE)","v":0},{"$f":"VLOOKUP(Ethanol!$A112&\" Industrial Ethanol\",ConsumeBlock,Ethanol!K$65,FALSE)","v":0},{"$f":"VLOOKUP(Ethanol!$A112&\" Industrial Ethanol\",ConsumeBlock,Ethanol!L$65,FALSE)","v":0},{"$f":"VLOOKUP(Ethanol!$A112&\" Industrial Ethanol\",ConsumeBlock,Ethanol!M$65,FALSE)","v":0},{"$f":"VLOOKUP(Ethanol!$A112&\" Industrial Ethanol\",ConsumeBlock,Ethanol!N$65,FALSE)","v":0},{"$f":"VLOOKUP(Ethanol!$A112&\" Industrial Ethanol\",ConsumeBlock,Ethanol!O$65,FALSE)","v":0},{"$f":"VLOOKUP(Ethanol!$A112&\" Industrial Ethanol\",ConsumeBlock,Ethanol!P$65,FALSE)","v":0},{"$f":"VLOOKUP(Ethanol!$A112&\" Industrial Ethanol\",ConsumeBlock,Ethanol!Q$65,FALSE)","v":5},{"$f":"VLOOKUP(Ethanol!$A112&\" Industrial Ethanol\",ConsumeBlock,Ethanol!R$65,FALSE)","v":7},{"$f":"VLOOKUP(Ethanol!$A112&\" Industrial Ethanol\",ConsumeBlock,Ethanol!S$65,FALSE)","v":8},{"$f":"VLOOKUP(Ethanol!$A112&\" Industrial Ethanol\",ConsumeBlock,Ethanol!T$65,FALSE)","v":25},{"$f":"VLOOKUP(Ethanol!$A112&\" Industrial Ethanol\",ConsumeBlock,Ethanol!U$65,FALSE)","v":37},{"$f":"VLOOKUP(Ethanol!$A112&\" Industrial Ethanol\",ConsumeBlock,Ethanol!V$65,FALSE)","v":45},{"$f":"VLOOKUP(Ethanol!$A112&\" Industrial Ethanol\",ConsumeBlock,Ethanol!W$65,FALSE)","v":47},{"$f":"VLOOKUP(Ethanol!$A112&\" Industrial Ethanol\",ConsumeBlock,Ethanol!X$65,FALSE)","v":42},{"$f":"VLOOKUP(Ethanol!$A112&\" Industrial Ethanol\",ConsumeBlock,Ethanol!Y$65,FALSE)","v":43},{"$f":"VLOOKUP(Ethanol!$A112&\" Industrial Ethanol\",ConsumeBlock,Ethanol!Z$65,FALSE)","v":40},{"$f":"VLOOKUP(Ethanol!$A112&\" Industrial Ethanol\",ConsumeBlock,Ethanol!AA$65,FALSE)","v":30},{"$f":"VLOOKUP(Ethanol!$A112&\" Industrial Ethanol\",ConsumeBlock,Ethanol!AB$65,FALSE)","v":30},{"$f":"VLOOKUP(Ethanol!$A112&\" Industrial Ethanol\",ConsumeBlock,Ethanol!AC$65,FALSE)","v":31},{"$f":"VLOOKUP(Ethanol!$A112&\" Industrial Ethanol\",ConsumeBlock,Ethanol!AD$65,FALSE)","v":32}]
["VA",{"$f":"VLOOKUP(Ethanol!$A113&\" Industrial Ethanol\",ConsumeBlock,Ethanol!B$65,FALSE)","v":13},{"$f":"VLOOKUP(Ethanol!$A113&\" Industrial Ethanol\",ConsumeBlock,Ethanol!C$65,FALSE)","v":12},{"$f":"VLOOKUP(Ethanol!$A113&\" Industrial Ethanol\",ConsumeBlock,Ethanol!D$65,FALSE)","v":9},{"$f":"VLOOKUP(Ethanol!$A113&\" Industrial Ethanol\",ConsumeBlock,Ethanol!E$65,FALSE)","v":2},{"$f":"VLOOKUP(Ethanol!$A113&\" Industrial Ethanol\",ConsumeBlock,Ethanol!F$65,FALSE)","v":9},{"$f":"VLOOKUP(Ethanol!$A113&\" Industrial Ethanol\",ConsumeBlock,Ethanol!G$65,FALSE)","v":0},{"$f":"VLOOKUP(Ethanol!$A113&\" Industrial Ethanol\",ConsumeBlock,Ethanol!H$65,FALSE)","v":32},{"$f":"VLOOKUP(Ethanol!$A113&\" Industrial Ethanol\",ConsumeBlock,Ethanol!I$65,FALSE)","v":25},{"$f":"VLOOKUP(Ethanol!$A113&\" Industrial Ethanol\",ConsumeBlock,Ethanol!J$65,FALSE)","v":31},{"$f":"VLOOKUP(Ethanol!$A113&\" Industrial Ethanol\",ConsumeBlock,Ethanol!K$65,FALSE)","v":18},{"$f":"VLOOKUP(Ethanol!$A113&\" Industrial Ethanol\",ConsumeBlock,Ethanol!L$65,FALSE)","v":21},{"$f":"VLOOKUP(Ethanol!$A113&\" Industrial Ethanol\",ConsumeBlock,Ethanol!M$65,FALSE)","v":44},{"$f":"VLOOKUP(Ethanol!$A113&\" Industrial Ethanol\",ConsumeBlock,Ethanol!N$65,FALSE)","v":78},{"$f":"VLOOKUP(Ethanol!$A113&\" Industrial Ethanol\",ConsumeBlock,Ethanol!O$65,FALSE)","v":102},{"$f":"VLOOKUP(Ethanol!$A113&\" Industrial Ethanol\",ConsumeBlock,Ethanol!P$65,FALSE)","v":131},{"$f":"VLOOKUP(Ethanol!$A113&\" Industrial Ethanol\",ConsumeBlock,Ethanol!Q$65,FALSE)","v":96},{"$f":"VLOOKUP(Ethanol!$A113&\" Industrial Ethanol\",ConsumeBlock,Ethanol!R$65,FALSE)","v":257},{"$f":"VLOOKUP(Ethanol!$A113&\" Industrial Ethanol\",ConsumeBlock,Ethanol!S$65,FALSE)","v":205},{"$f":"VLOOKUP(Ethanol!$A113&\" Industrial Ethanol\",ConsumeBlock,Ethanol!T$65,FALSE)","v":199},{"$f":"VLOOKUP(Ethanol!$A113&\" Industrial Ethanol\",ConsumeBlock,Ethanol!U$65,FALSE)","v":256},{"$f":"VLOOKUP(Ethanol!$A113&\" Industrial Ethanol\",ConsumeBlock,Ethanol!V$65,FALSE)","v":333},{"$f":"VLOOKUP(Ethanol!$A113&\" Industrial Ethanol\",ConsumeBlock,Ethanol!W$65,FALSE)","v":324},{"$f":"VLOOKUP(Ethanol!$A113&\" Industrial Ethanol\",ConsumeBlock,Ethanol!X$65,FALSE)","v":329},{"$f":"VLOOKUP(Ethanol!$A113&\" Industrial Ethanol\",ConsumeBlock,Ethanol!Y$65,FALSE)","v":347},{"$f":"VLOOKUP(Ethanol!$A113&\" Industrial Ethanol\",ConsumeBlock,Ethanol!Z$65,FALSE)","v":331},{"$f":"VLOOKUP(Ethanol!$A113&\" Industrial Ethanol\",ConsumeBlock,Ethanol!AA$65,FALSE)","v":255},{"$f":"VLOOKUP(Ethanol!$A113&\" Industrial Ethanol\",ConsumeBlock,Ethanol!AB$65,FALSE)","v":256},{"$f":"VLOOKUP(Ethanol!$A113&\" Industrial Ethanol\",ConsumeBlock,Ethanol!AC$65,FALSE)","v":262},{"$f":"VLOOKUP(Ethanol!$A113&\" Industrial Ethanol\",ConsumeBlock,Ethanol!AD$65,FALSE)","v":269}]
["WA",{"$f":"VLOOKUP(Ethanol!$A114&\" Industrial Ethanol\",ConsumeBlock,Ethanol!B$65,FALSE)","v":9},{"$f":"VLOOKUP(Ethanol!$A114&\" Industrial Ethanol\",ConsumeBlock,Ethanol!C$65,FALSE)","v":12},{"$f":"VLOOKUP(Ethanol!$A114&\" Industrial Ethanol\",ConsumeBlock,Ethanol!D$65,FALSE)","v":57},{"$f":"VLOOKUP(Ethanol!$A114&\" Industrial Ethanol\",ConsumeBlock,Ethanol!E$65,FALSE)","v":62},{"$f":"VLOOKUP(Ethanol!$A114&\" Industrial Ethanol\",ConsumeBlock,Ethanol!F$65,FALSE)","v":72},{"$f":"VLOOKUP(Ethanol!$A114&\" Industrial Ethanol\",ConsumeBlock,Ethanol!G$65,FALSE)","v":24},{"$f":"VLOOKUP(Ethanol!$A114&\" Industrial Ethanol\",ConsumeBlock,Ethanol!H$65,FALSE)","v":10},{"$f":"VLOOKUP(Ethanol!$A114&\" Industrial Ethanol\",ConsumeBlock,Ethanol!I$65,FALSE)","v":21},{"$f":"VLOOKUP(Ethanol!$A114&\" Industrial Ethanol\",ConsumeBlock,Ethanol!J$65,FALSE)","v":23},{"$f":"VLOOKUP(Ethanol!$A114&\" Industrial Ethanol\",ConsumeBlock,Ethanol!K$65,FALSE)","v":20},{"$f":"VLOOKUP(Ethanol!$A114&\" Industrial Ethanol\",ConsumeBlock,Ethanol!L$65,FALSE)","v":23},{"$f":"VLOOKUP(Ethanol!$A114&\" Industrial Ethanol\",ConsumeBlock,Ethanol!M$65,FALSE)","v":33},{"$f":"VLOOKUP(Ethanol!$A114&\" Industrial Ethanol\",ConsumeBlock,Ethanol!N$65,FALSE)","v":100},{"$f":"VLOOKUP(Ethanol!$A114&\" Industrial Ethanol\",ConsumeBlock,Ethanol!O$65,FALSE)","v":98},{"$f":"VLOOKUP(Ethanol!$A114&\" Industrial Ethanol\",ConsumeBlock,Ethanol!P$65,FALSE)","v":37},{"$f":"VLOOKUP(Ethanol!$A114&\" Industrial Ethanol\",ConsumeBlock,Ethanol!Q$65,FALSE)","v":143},{"$f":"VLOOKUP(Ethanol!$A114&\" Industrial Ethanol\",ConsumeBlock,Ethanol!R$65,FALSE)","v":162},{"$f":"VLOOKUP(Ethanol!$A114&\" Industrial Ethanol\",ConsumeBlock,Ethanol!S$65,FALSE)","v":150},{"$f":"VLOOKUP(Ethanol!$A114&\" Industrial Ethanol\",ConsumeBlock,Ethanol!T$65,FALSE)","v":245},{"$f":"VLOOKUP(Ethanol!$A114&\" Industrial Ethanol\",ConsumeBlock,Ethanol!U$65,FALSE)","v":272},{"$f":"VLOOKUP(Ethanol!$A114&\" Industrial Ethanol\",ConsumeBlock,Ethanol!V$65,FALSE)","v":311},{"$f":"VLOOKUP(Ethanol!$A114&\" Industrial Ethanol\",ConsumeBlock,Ethanol!W$65,FALSE)","v":328},{"$f":"VLOOKUP(Ethanol!$A114&\" Industrial Ethanol\",ConsumeBlock,Ethanol!X$65,FALSE)","v":309},{"$f":"VLOOKUP(Ethanol!$A114&\" Industrial Ethanol\",ConsumeBlock,Ethanol!Y$65,FALSE)","v":321},{"$f":"VLOOKUP(Ethanol!$A114&\" Industrial Ethanol\",ConsumeBlock,Ethanol!Z$65,FALSE)","v":310},{"$f":"VLOOKUP(Ethanol!$A114&\" Industrial Ethanol\",ConsumeBlock,Ethanol!AA$65,FALSE)","v":360},{"$f":"VLOOKUP(Ethanol!$A114&\" Industrial Ethanol\",ConsumeBlock,Ethanol!AB$65,FALSE)","v":351},{"$f":"VLOOKUP(Ethanol!$A114&\" Industrial Ethanol\",ConsumeBlock,Ethanol!AC$65,FALSE)","v":361},{"$f":"VLOOKUP(Ethanol!$A114&\" Industrial Ethanol\",ConsumeBlock,Ethanol!AD$65,FALSE)","v":365}]
["WV",{"$f":"VLOOKUP(Ethanol!$A115&\" Industrial Ethanol\",ConsumeBlock,Ethanol!B$65,FALSE)","v":0},{"$f":"VLOOKUP(Ethanol!$A115&\" Industrial Ethanol\",ConsumeBlock,Ethanol!C$65,FALSE)","v":0},{"$f":"VLOOKUP(Ethanol!$A115&\" Industrial Ethanol\",ConsumeBlock,Ethanol!D$65,FALSE)","v":5},{"$f":"VLOOKUP(Ethanol!$A115&\" Industrial Ethanol\",ConsumeBlock,Ethanol!E$65,FALSE)","v":2},{"$f":"VLOOKUP(Ethanol!$A115&\" Industrial Ethanol\",ConsumeBlock,Ethanol!F$65,FALSE)","v":2},{"$f":"VLOOKUP(Ethanol!$A115&\" Industrial Ethanol\",ConsumeBlock,Ethanol!G$65,FALSE)","v":1},{"$f":"VLOOKUP(Ethanol!$A115&\" Industrial Ethanol\",ConsumeBlock,Ethanol!H$65,FALSE)","v":0},{"$f":"VLOOKUP(Ethanol!$A115&\" Industrial Ethanol\",ConsumeBlock,Ethanol!I$65,FALSE)","v":0},{"$f":"VLOOKUP(Ethanol!$A115&\" Industrial Ethanol\",ConsumeBlock,Ethanol!J$65,FALSE)","v":0},{"$f":"VLOOKUP(Ethanol!$A115&\" Industrial Ethanol\",ConsumeBlock,Ethanol!K$65,FALSE)","v":0},{"$f":"VLOOKUP(Ethanol!$A115&\" Industrial Ethanol\",ConsumeBlock,Ethanol!L$65,FALSE)","v":0},{"$f":"VLOOKUP(Ethanol!$A115&\" Industrial Ethanol\",ConsumeBlock,Ethanol!M$65,FALSE)","v":7},{"$f":"VLOOKUP(Ethanol!$A115&\" Industrial Ethanol\",ConsumeBlock,Ethanol!N$65,FALSE)","v":18},{"$f":"VLOOKUP(Ethanol!$A115&\" Industrial Ethanol\",ConsumeBlock,Ethanol!O$65,FALSE)","v":25},{"$f":"VLOOKUP(Ethanol!$A115&\" Industrial Ethanol\",ConsumeBlock,Ethanol!P$65,FALSE)","v":31},{"$f":"VLOOKUP(Ethanol!$A115&\" Industrial Ethanol\",ConsumeBlock,Ethanol!Q$65,FALSE)","v":8},{"$f":"VLOOKUP(Ethanol!$A115&\" Industrial Ethanol\",ConsumeBlock,Ethanol!R$65,FALSE)","v":11},{"$f":"VLOOKUP(Ethanol!$A115&\" Industrial Ethanol\",ConsumeBlock,Ethanol!S$65,FALSE)","v":13},{"$f":"VLOOKUP(Ethanol!$A115&\" Industrial Ethanol\",ConsumeBlock,Ethanol!T$65,FALSE)","v":65},{"$f":"VLOOKUP(Ethanol!$A115&\" Industrial Ethanol\",ConsumeBlock,Ethanol!U$65,FALSE)","v":80},{"$f":"VLOOKUP(Ethanol!$A115&\" Industrial Ethanol\",ConsumeBlock,Ethanol!V$65,FALSE)","v":59},{"$f":"VLOOKUP(Ethanol!$A115&\" Industrial Ethanol\",ConsumeBlock,Ethanol!W$65,FALSE)","v":60},{"$f":"VLOOKUP(Ethanol!$A115&\" Industrial Ethanol\",ConsumeBlock,Ethanol!X$65,FALSE)","v":63},{"$f":"VLOOKUP(Ethanol!$A115&\" Industrial Ethanol\",ConsumeBlock,Ethanol!Y$65,FALSE)","v":66},{"$f":"VLOOKUP(Ethanol!$A115&\" Industrial Ethanol\",ConsumeBlock,Ethanol!Z$65,FALSE)","v":51},{"$f":"VLOOKUP(Ethanol!$A115&\" Industrial Ethanol\",ConsumeBlock,Ethanol!AA$65,FALSE)","v":90},{"$f":"VLOOKUP(Ethanol!$A115&\" Industrial Ethanol\",ConsumeBlock,Ethanol!AB$65,FALSE)","v":93},{"$f":"VLOOKUP(Ethanol!$A115&\" Industrial Ethanol\",ConsumeBlock,Ethanol!AC$65,FALSE)","v":97},{"$f":"VLOOKUP(Ethanol!$A115&\" Industrial Ethanol\",ConsumeBlock,Ethanol!AD$65,FALSE)","v":98}]
["WI",{"$f":"VLOOKUP(Ethanol!$A116&\" Industrial Ethanol\",ConsumeBlock,Ethanol!B$65,FALSE)","v":11},{"$f":"VLOOKUP(Ethanol!$A116&\" Industrial Ethanol\",ConsumeBlock,Ethanol!C$65,FALSE)","v":34},{"$f":"VLOOKUP(Ethanol!$A116&\" Industrial Ethanol\",ConsumeBlock,Ethanol!D$65,FALSE)","v":24},{"$f":"VLOOKUP(Ethanol!$A116&\" Industrial Ethanol\",ConsumeBlock,Ethanol!E$65,FALSE)","v":20},{"$f":"VLOOKUP(Ethanol!$A116&\" Industrial Ethanol\",ConsumeBlock,Ethanol!F$65,FALSE)","v":23},{"$f":"VLOOKUP(Ethanol!$A116&\" Industrial Ethanol\",ConsumeBlock,Ethanol!G$65,FALSE)","v":51},{"$f":"VLOOKUP(Ethanol!$A116&\" Industrial Ethanol\",ConsumeBlock,Ethanol!H$65,FALSE)","v":77},{"$f":"VLOOKUP(Ethanol!$A116&\" Industrial Ethanol\",ConsumeBlock,Ethanol!I$65,FALSE)","v":91},{"$f":"VLOOKUP(Ethanol!$A116&\" Industrial Ethanol\",ConsumeBlock,Ethanol!J$65,FALSE)","v":33},{"$f":"VLOOKUP(Ethanol!$A116&\" Industrial Ethanol\",ConsumeBlock,Ethanol!K$65,FALSE)","v":31},{"$f":"VLOOKUP(Ethanol!$A116&\" Industrial Ethanol\",ConsumeBlock,Ethanol!L$65,FALSE)","v":36},{"$f":"VLOOKUP(Ethanol!$A116&\" Industrial Ethanol\",ConsumeBlock,Ethanol!M$65,FALSE)","v":139},{"$f":"VLOOKUP(Ethanol!$A116&\" Industrial Ethanol\",ConsumeBlock,Ethanol!N$65,FALSE)","v":235},{"$f":"VLOOKUP(Ethanol!$A116&\" Industrial Ethanol\",ConsumeBlock,Ethanol!O$65,FALSE)","v":199},{"$f":"VLOOKUP(Ethanol!$A116&\" Industrial Ethanol\",ConsumeBlock,Ethanol!P$65,FALSE)","v":239},{"$f":"VLOOKUP(Ethanol!$A116&\" Industrial Ethanol\",ConsumeBlock,Ethanol!Q$65,FALSE)","v":395},{"$f":"VLOOKUP(Ethanol!$A116&\" Industrial Ethanol\",ConsumeBlock,Ethanol!R$65,FALSE)","v":413},{"$f":"VLOOKUP(Ethanol!$A116&\" Industrial Ethanol\",ConsumeBlock,Ethanol!S$65,FALSE)","v":431},{"$f":"VLOOKUP(Ethanol!$A116&\" Industrial Ethanol\",ConsumeBlock,Ethanol!T$65,FALSE)","v":312},{"$f":"VLOOKUP(Ethanol!$A116&\" Industrial Ethanol\",ConsumeBlock,Ethanol!U$65,FALSE)","v":329},{"$f":"VLOOKUP(Ethanol!$A116&\" Industrial Ethanol\",ConsumeBlock,Ethanol!V$65,FALSE)","v":383},{"$f":"VLOOKUP(Ethanol!$A116&\" Industrial Ethanol\",ConsumeBlock,Ethanol!W$65,FALSE)","v":373},{"$f":"VLOOKUP(Ethanol!$A116&\" Industrial Ethanol\",ConsumeBlock,Ethanol!X$65,FALSE)","v":351},{"$f":"VLOOKUP(Ethanol!$A116&\" Industrial Ethanol\",ConsumeBlock,Ethanol!Y$65,FALSE)","v":361},{"$f":"VLOOKUP(Ethanol!$A116&\" Industrial Ethanol\",ConsumeBlock,Ethanol!Z$65,FALSE)","v":268},{"$f":"VLOOKUP(Ethanol!$A116&\" Industrial Ethanol\",ConsumeBlock,Ethanol!AA$65,FALSE)","v":372},{"$f":"VLOOKUP(Ethanol!$A116&\" Industrial Ethanol\",ConsumeBlock,Ethanol!AB$65,FALSE)","v":364},{"$f":"VLOOKUP(Ethanol!$A116&\" Industrial Ethanol\",ConsumeBlock,Ethanol!AC$65,FALSE)","v":369},{"$f":"VLOOKUP(Ethanol!$A116&\" Industrial Ethanol\",ConsumeBlock,Ethanol!AD$65,FALSE)","v":375}]
["WY",{"$f":"VLOOKUP(Ethanol!$A117&\" Industrial Ethanol\",ConsumeBlock,Ethanol!B$65,FALSE)","v":5},{"$f":"VLOOKUP(Ethanol!$A117&\" Industrial Ethanol\",ConsumeBlock,Ethanol!C$65,FALSE)","v":20},{"$f":"VLOOKUP(Ethanol!$A117&\" Industrial Ethanol\",ConsumeBlock,Ethanol!D$65,FALSE)","v":31},{"$f":"VLOOKUP(Ethanol!$A117&\" Industrial Ethanol\",ConsumeBlock,Ethanol!E$65,FALSE)","v":28},{"$f":"VLOOKUP(Ethanol!$A117&\" Industrial Ethanol\",ConsumeBlock,Ethanol!F$65,FALSE)","v":33},{"$f":"VLOOKUP(Ethanol!$A117&\" Industrial Ethanol\",ConsumeBlock,Ethanol!G$65,FALSE)","v":26},{"$f":"VLOOKUP(Ethanol!$A117&\" Industrial Ethanol\",ConsumeBlock,Ethanol!H$65,FALSE)","v":10},{"$f":"VLOOKUP(Ethanol!$A117&\" Industrial Ethanol\",ConsumeBlock,Ethanol!I$65,FALSE)","v":1},{"$f":"VLOOKUP(Ethanol!$A117&\" Industrial Ethanol\",ConsumeBlock,Ethanol!J$65,FALSE)","v":0},{"$f":"VLOOKUP(Ethanol!$A117&\" Industrial Ethanol\",ConsumeBlock,Ethanol!K$65,FALSE)","v":0},{"$f":"VLOOKUP(Ethanol!$A117&\" Industrial Ethanol\",ConsumeBlock,Ethanol!L$65,FALSE)","v":0},{"$f":"VLOOKUP(Ethanol!$A117&\" Industrial Ethanol\",ConsumeBlock,Ethanol!M$65,FALSE)","v":0},{"$f":"VLOOKUP(Ethanol!$A117&\" Industrial Ethanol\",ConsumeBlock,Ethanol!N$65,FALSE)","v":0},{"$f":"VLOOKUP(Ethanol!$A117&\" Industrial Ethanol\",ConsumeBlock,Ethanol!O$65,FALSE)","v":0},{"$f":"VLOOKUP(Ethanol!$A117&\" Industrial Ethanol\",ConsumeBlock,Ethanol!P$65,FALSE)","v":0},{"$f":"VLOOKUP(Ethanol!$A117&\" Industrial Ethanol\",ConsumeBlock,Ethanol!Q$65,FALSE)","v":33},{"$f":"VLOOKUP(Ethanol!$A117&\" Industrial Ethanol\",ConsumeBlock,Ethanol!R$65,FALSE)","v":34},{"$f":"VLOOKUP(Ethanol!$A117&\" Industrial Ethanol\",ConsumeBlock,Ethanol!S$65,FALSE)","v":36},{"$f":"VLOOKUP(Ethanol!$A117&\" Industrial Ethanol\",ConsumeBlock,Ethanol!T$65,FALSE)","v":42},{"$f":"VLOOKUP(Ethanol!$A117&\" Industrial Ethanol\",ConsumeBlock,Ethanol!U$65,FALSE)","v":49},{"$f":"VLOOKUP(Ethanol!$A117&\" Industrial Ethanol\",ConsumeBlock,Ethanol!V$65,FALSE)","v":45},{"$f":"VLOOKUP(Ethanol!$A117&\" Industrial Ethanol\",ConsumeBlock,Ethanol!W$65,FALSE)","v":53},{"$f":"VLOOKUP(Ethanol!$A117&\" Industrial Ethanol\",ConsumeBlock,Ethanol!X$65,FALSE)","v":58},{"$f":"VLOOKUP(Ethanol!$A117&\" Industrial Ethanol\",ConsumeBlock,Ethanol!Y$65,FALSE)","v":63},{"$f":"VLOOKUP(Ethanol!$A117&\" Industrial Ethanol\",ConsumeBlock,Ethanol!Z$65,FALSE)","v":39},{"$f":"VLOOKUP(Ethanol!$A117&\" Industrial Ethanol\",ConsumeBlock,Ethanol!AA$65,FALSE)","v":82},{"$f":"VLOOKUP(Ethanol!$A117&\" Industrial Ethanol\",ConsumeBlock,Ethanol!AB$65,FALSE)","v":84},{"$f":"VLOOKUP(Ethanol!$A117&\" Industrial Ethanol\",ConsumeBlock,Ethanol!AC$65,FALSE)","v":85},{"$f":"VLOOKUP(Ethanol!$A117&\" Industrial Ethanol\",ConsumeBlock,Ethanol!AD$65,FALSE)","v":86}]
["US",{"$f":"VLOOKUP(Ethanol!$A118&\" Industrial Ethanol\",ConsumeBlock,Ethanol!B$65,FALSE)","v":980},{"$f":"VLOOKUP(Ethanol!$A118&\" Industrial Ethanol\",ConsumeBlock,Ethanol!C$65,FALSE)","v":1284},{"$f":"VLOOKUP(Ethanol!$A118&\" Industrial Ethanol\",ConsumeBlock,Ethanol!D$65,FALSE)","v":1583},{"$f":"VLOOKUP(Ethanol!$A118&\" Industrial Ethanol\",ConsumeBlock,Ethanol!E$65,FALSE)","v":1565},{"$f":"VLOOKUP(Ethanol!$A118&\" Industrial Ethanol\",ConsumeBlock,Ethanol!F$65,FALSE)","v":1772},{"$f":"VLOOKUP(Ethanol!$A118&\" Industrial Ethanol\",ConsumeBlock,Ethanol!G$65,FALSE)","v":1849},{"$f":"VLOOKUP(Ethanol!$A118&\" Industrial Ethanol\",ConsumeBlock,Ethanol!H$65,FALSE)","v":1202},{"$f":"VLOOKUP(Ethanol!$A118&\" Industrial Ethanol\",ConsumeBlock,Ethanol!I$65,FALSE)","v":1829},{"$f":"VLOOKUP(Ethanol!$A118&\" Industrial Ethanol\",ConsumeBlock,Ethanol!J$65,FALSE)","v":1744},{"$f":"VLOOKUP(Ethanol!$A118&\" Industrial Ethanol\",ConsumeBlock,Ethanol!K$65,FALSE)","v":1463},{"$f":"VLOOKUP(Ethanol!$A118&\" Industrial Ethanol\",ConsumeBlock,Ethanol!L$65,FALSE)","v":1535},{"$f":"VLOOKUP(Ethanol!$A118&\" Industrial Ethanol\",ConsumeBlock,Ethanol!M$65,FALSE)","v":2912},{"$f":"VLOOKUP(Ethanol!$A118&\" Industrial Ethanol\",ConsumeBlock,Ethanol!N$65,FALSE)","v":3600},{"$f":"VLOOKUP(Ethanol!$A118&\" Industrial Ethanol\",ConsumeBlock,Ethanol!O$65,FALSE)","v":4744},{"$f":"VLOOKUP(Ethanol!$A118&\" Industrial Ethanol\",ConsumeBlock,Ethanol!P$65,FALSE)","v":6197},{"$f":"VLOOKUP(Ethanol!$A118&\" Industrial Ethanol\",ConsumeBlock,Ethanol!Q$65,FALSE)","v":6792},{"$f":"VLOOKUP(Ethanol!$A118&\" Industrial Ethanol\",ConsumeBlock,Ethanol!R$65,FALSE)","v":9108},{"$f":"VLOOKUP(Ethanol!$A118&\" Industrial Ethanol\",ConsumeBlock,Ethanol!S$65,FALSE)","v":9678},{"$f":"VLOOKUP(Ethanol!$A118&\" Industrial Ethanol\",ConsumeBlock,Ethanol!T$65,FALSE)","v":11713},{"$f":"VLOOKUP(Ethanol!$A118&\" Industrial Ethanol\",ConsumeBlock,Ethanol!U$65,FALSE)","v":12894},{"$f":"VLOOKUP(Ethanol!$A118&\" Industrial Ethanol\",ConsumeBlock,Ethanol!V$65,FALSE)","v":16476},{"$f":"VLOOKUP(Ethanol!$A118&\" Industrial Ethanol\",ConsumeBlock,Ethanol!W$65,FALSE)","v":16731},{"$f":"VLOOKUP(Ethanol!$A118&\" Industrial Ethanol\",ConsumeBlock,Ethanol!X$65,FALSE)","v":16629},{"$f":"VLOOKUP(Ethanol!$A118&\" Industrial Ethanol\",ConsumeBlock,Ethanol!Y$65,FALSE)","v":17483},{"$f":"VLOOKUP(Ethanol!$A118&\" Industrial Ethanol\",ConsumeBlock,Ethanol!Z$65,FALSE)","v":14164},{"$f":"VLOOKUP(Ethanol!$A118&\" Industrial Ethanol\",ConsumeBlock,Ethanol!AA$65,FALSE)","v":17621},{"$f":"VLOOKUP(Ethanol!$A118&\" Industrial Ethanol\",ConsumeBlock,Ethanol!AB$65,FALSE)","v":18081},{"$f":"VLOOKUP(Ethanol!$A118&\" Industrial Ethanol\",ConsumeBlock,Ethanol!AC$65,FALSE)","v":18471},{"$f":"VLOOKUP(Ethanol!$A118&\" Industrial Ethanol\",ConsumeBlock,Ethanol!AD$65,FALSE)","v":18765}]

{"sheet":"Code Key","index":21,"n_rows":73,"n_cols":7,"rows_kept":73,"cut":false,"hidden":false,"merged":[]}
[]
["Sectors"]
["AC","Transportation"]
["CC","Commercial",null,null,"Fuel Types"]
["EI","Electric Power",null,null,"AB","Aviation Gasoline Blending Components","Aviation Gasoline Blending Components"]
["ET","total energy output",null,null,"AC","Anthracite Coal","Anthracite Coal"]
["HC","Res + Comm",null,null,"AR","Asphalt and Road Oil","Asphalt and Road Oil"]
["KC","Coking Coal",null,null,"AV","Aviation Gasoline","Aviation Gasoline"]
["OC","Industrial Other",null,null,"BC","Bituminous Coal and Lignite","Bituminous Coal and Lignite"]
["IC","Industrial",null,null,"BM","Biomass","Biomass"]
["RC","Residential",null,null,"CC","Coal Coke","Coal Coke"]
["TC","Total Consumption",null,null,"CD","Coal CC","Coal CC"]
[null,null,null,null,"CL","Coal","Coal"]
[null,null,null,null,"CK","Coking Coal"]
["Totally Deletable Sectors",null,null,null,"CO","Crude Oil","Crude Oil"]
["AT","Energy Output by Non-Utility Producers",null,null,"DF","Distillate Fuel","Distillate Fuel"]
["ET","Total Energy Output",null,null,"DK","Distillate Fuel","Distillate Fuel"]
["EN","Energy Output at Utilities + Net Imports",null,null,"EM","Ethanol","Ethanol"]
["EO","Electrical output at Utilities",null,null,"EN","Ethanol"]
["ET","Total Energy Output",null,null,"ES","Electricity Sales","Electricity Sales"]
["IS","Interstate Sales of Electricity",null,null,"EX","Non-Renewable Energy","Non-Renewable Energy"]
["NI","Net Imports",null,null,"FF","Fossil Fuels","Fossil Fuels"]
["EX","Exports out of the US",null,null,"FN","Feedstocks, Naphtha less than 401 F","Feedstocks, Naphtha less than 401 F"]
["IM","Imports into the US",null,null,"FO","Feedstocks, Other Oils greater than 401 F","Feedstocks, Other Oils greater than 401 F"]
["LP","Natural Gas consumption at the Lease Condensate Plant",null,null,"FS","Feedstocks, Still Gas","Feedstocks, Still Gas"]
["NU","All Sectors Other than Elec. Utilites",null,null,"GE","Geothermal","Geothermal"]
["TP","Total Per Capita",null,null,"GO","Geothermal, Wind, Solar Thermal, and Photovoltaic","Geothermal, Wind, Solar Thermal, and Photovoltaic"]
[null,null,null,null,"HL","Hydrocarbon Gas Liquids"]
[null,null,null,null,"HY","Hydroelectric","Hydroelectric"]
[null,null,null,null,"JF","Jet Fuel, Total","Jet Fuel, Total"]
[null,null,null,null,"JK","Jet Fuel, Kerosene","Jet Fuel, Kerosene"]
[null,null,null,null,"JN","Jet Fuel, Naphtha","Jet Fuel, Naphtha"]
[null,null,null,null,"KS","Kerosene","Kerosene"]
[null,null,null,null,"LG","LPG","LPG"]
[null,null,null,null,"LO","Electrical System Losses","Electrical System Losses"]
[null,null,null,null,"LU","Lubricants","Lubricants"]
[null,null,null,null,"MB","Motor Gasoline Blending Components","Motor Gasoline Blending Components"]
[null,null,null,null,"MG","Motor Gasoline","Motor Gasoline"]
[null,null,null,null,"MS","Misc. Petro Products","Misc. Petro Products"]
[null,null,null,null,"NA","Natural Gasoline","Natural Gasoline"]
[null,null,null,null,"NG","Natural Gas","Natural Gas"]
[null,null,null,null,"NU","Nuclear","Nuclear"]
[null,null,null,null,"OC","Other Coal","Petro Total"]
[null,null,null,null,"PA","Petro Total","Petroleum Coke"]
[null,null,null,null,"PC","Petroleum Coke","Plant Condensate"]
[null,null,null,null,"PL","Plant Condensate","Other Petro Products, Total"]
[null,null,null,null,"PO","Other Petro Products, Total","Pentanes Plus"]
[null,null,null,null,"PP","Pentanes Plus","Residual Fuel"]
[null,null,null,null,"RF","Residual Fuel","Still Gas"]
[null,null,null,null,"SG","Still Gas","Special Naphthas"]
[null,null,null,null,"SN","Special Naphthas","Solar Thermal and Photovoltaic"]
[null,null,null,null,"SO","Solar Thermal and Photovoltaic","Total Energy"]
[null,null,null,null,"TE","Total Energy","Total Net Energy"]
[null,null,null,null,"TN","Total Net Energy","Resident Population"]
[null,null,null,null,"TP","Resident Population","Unfinished Oils"]
[null,null,null,null,"UO","Unfinished Oils","Unfractionated Steam"]
[null,null,null,null,"US","Unfractionated Steam","Wood"]
[null,null,null,null,"WD","Wood","Wood and Waste"]
[null,null,null,null,"WW","Wood and Waste","Waxes"]
[null,null,null,null,"WX","Waxes","Wind"]
[null,null,null,null,"WY","Wind"]
[null,null,null,null,"WS","Waste Energy"]
[]
[]
[null,null,null,null,"Red Fuels can be deleted.  They eiter dobule-count (e.g., total coal) or are unimportant for our calculations (e.g., Wind, Hydro, Elec. Losses)"]
[null,null,null,null,"Blue Fuels have zero consumption for all states during the 1990s."]
[null,"WDEIB","WD","EI","Anthracite and Bituminous no longer appear separately in the 1999 SEDR."]
[null,"WDICB","WD","IC"]
[null,"WSCCB","WS","CC","Electric Power Wood"]
[null,"WSEIB","WS","EI","Industrial Wood"]
[null,"WSICB","WS","IC","Commercial Waste Energy"]
[null,null,null,null,"Electric Power Waste Energy"]
[null,null,null,null,"Industrial Waste Energy"]

{"sheet":"Documentation","index":22,"n_rows":15,"n_cols":1,"rows_kept":15,"cut":false,"hidden":true,"merged":[[2,0,4,12],[8,0,9,12],[14,0,16,12]]}
[]
["Sources:"]
["Default nitrous oxide and methane emission factors are from: IPCC/UNEP/OECD/IEA (1997) Revised 1996 IPCC Guidelines for National Greenhouse Gas Inventories, IPCC, United Nations Environment Programme, Organization for Economic Co-Operaton and Development, International Energy Agency, Paris."]
[]
[]
[]
["Heating value conversions are the International Energy Agency’s simple convention; consistent with the U.S. Inventory (EPA 2008)"]
[]
["Global Warming Potentials (GWP) are from: IPCC (1996) Climate Change 1995: The Science of Climate Change. Intergovernmental Panel on Climate Change; J.T. Houghton, L.G. Meira Filho, B.A. Callander, N. Harris, A. Kattenberg, and K. Maskell, eds.; Cambridge University Press. Cambridge, U.K."]
[]
[]
["Fuel Consumption Data is from: EIA (2008), State Energy Data 2005: Consumption Estimates"]
[]
["Methods:"]
["Nitrous oxide and methane emissions are calculated using the Tier 1 methodology from the Revised 1996 IPCC Guidelines for National Greenhouse Gas Inventories (IPCC/UNEP/OECD/IEA 1997) and is similar to the \"simple\" method described in the EIIP Guidelines (EIIP 1999).  "]

{"sheet":"Data Sources","index":23,"n_rows":50,"n_cols":14,"rows_kept":50,"cut":false,"hidden":false,"merged":[[4,2,4,10],[12,3,12,9],[15,3,15,9],[16,3,16,9],[13,3,13,9],[14,3,14,9]]}
[null,null,null,null,null,null,null,null,null,null,null,null,null,"Industrial N2O"]
[]
[]
[]
[null,null,"Recommended Data Sources for Energy Consumption Data"]
[]
[]
[]
[null,null,"Methane and Nitrous Oxide Emissions from Stationary Combustion"]
[]
[null,null,null,"- In-state agencies"]
[]
[null,null,null,"- Default state-level data derived from EIA’s State Energy Data 2018: Consumption Estimates. (EIA 2020)  Appendix B: Thermal Conversion Factors."]
[null,null,null,"- Default state synthetic natural gas data is obtained from Table 7 of EIA’s Historical Natural Gas Annual (EIA 2020), and Table 8 of Natural Gas Annual publications from 2001-2018. The energy content of synthetic natural gas is subtracted from industrial coal to prevent double-counting of emissions. "]
[null,null,null,"http://www.eia.doe.gov/oil_gas/natural_gas/data_publications/natural_gas_annual/nga.html"]
[null,null,null,"Default state energy consumption derived from EIA’s State Energy Data. Expand “Data Files” and access “All Consumption Estimates in Btu.” Energy consumption codes used in the Stationary Combustion module are as follows:"]
[null,null,null,"http://www.eia.gov/state/seds/seds-data-complete.cfm?sid=US#CompleteDataFile"]
[null,null,null,"EIA Code","Definition",null,null,"EIA Code","Definition"]
[null,null,null,"CLCCB","Commercial Coal",null,null,"MGICB","Industrial Motor Gasoline"]
[null,null,null,"DFCCB","Commercial Distillate Fuel",null,null,"MBICB","Industrial Motor Gasoline Blending Components"]
[null,null,null,"EMCCB","Commercial Ethanol",null,null,"NGICB","Industrial Natural Gas"]
[null,null,null,"KSCCB","Commercial Kerosene",null,null,"NAICB","Industrial Natural Gasoline"]
[null,null,null,"LGCCB","Commercial LPG",null,null,"CLOCB","Industrial Other Coal"]
[null,null,null,"MGCCB","Commercial Motor Gasoline",null,null,"PPICB","Industrial Pentanes Plus"]
[null,null,null,"NGCCB","Commercial Natural Gas",null,null,"PCICB","Industrial Petroleum Coke"]
[null,null,null,"PCCCB","Commercial Petroleum Coke",null,null,"RFICB","Industrial Residual Fuel"]
[null,null,null,"RFCCB","Commercial Residual Fuel",null,null,"SNICB","Industrial Special Naphthas"]
[null,null,null,"WDCCB","Commercial Wood",null,null,"SGICB","Industrial Still Gas"]
[null,null,null,"WWCCB","Commercial Wood and Waste",null,null,"UOICB","Industrial Unfinished Oils"]
[null,null,null,"CLEIB","Electric Power Coal",null,null,"WXICB","Industrial Waxes"]
[null,null,null,"DKEIB","Electric Power Distillate Fuel",null,null,"WDICB","Industrial Wood"]
[null,null,null,"NGEIB","Electric Power Natural Gas",null,null,"WWICB","Industrial Wood and Waste"]
[null,null,null,"PCEIB","Electric Power Petroleum Coke",null,null,"CLRCB","Residential Coal"]
[null,null,null,"RFEIB","Electric Power Residual Fuel",null,null,"DFRCB","Residential Distillate Fuel"]
[null,null,null,"WDEIB","Electric Power Wood",null,null,"KSRCB","Residential Kerosene"]
[null,null,null,"WWEIB","Electric Power Wood and Waste",null,null,"LGRCB","Residential LPG"]
[null,null,null,"ARICB","Industrial Asphalt and Road Oil",null,null,"NGRCB","Residential Natural Gas"]
[null,null,null,"ABICB","Industrial Aviation Gasoline Blending Components",null,null,"WDRCB","Residential Wood"]
[null,null,null,"CLICB","Industrial Coal",null,null,"AVACB","Transportation Aviation Gasoline"]
[null,null,null,"CLKCB","Industrial Coking Coal",null,null,"CLACB","Transportation Coal"]
[null,null,null,"COICB","Industrial Crude Oil",null,null,"DFACB","Transportation Distillate Fuel"]
[null,null,null,"DFICB","Industrial Distillate Fuel",null,null,"EMACB","Transportation Ethanol"]
[null,null,null,"EMICB","Industrial Ethanol",null,null,"JKACB","Transportation Jet Fuel, Kerosene"]
[null,null,null,"FNICB","Industrial Feedstocks, Naphtha less than 401 F",null,null,"JNACB","Transportation Jet Fuel, Naphtha"]
[null,null,null,"FOICB","Industrial Feedstocks, Other Oils greater than 401 F",null,null,"LGACB","Transportation LPG"]
[null,null,null,"FSICB","Industrial Feedstocks, Still Gas",null,null,"LUACB","Transportation Lubricants"]
[null,null,null,"KSICB","Industrial Kerosene",null,null,"MGACB","Transportation Motor Gasoline"]
[null,null,null,"LGICB","Industrial LPG",null,null,"NGACB","Transportation Natural Gas"]
[null,null,null,"LUICB","Industrial Lubricants",null,null,"RFACB","Transportation Residual Fuel"]
[null,null,null,"MSICB","Industrial Misc. Petro Products"]

{"sheet":"Notes","index":24,"n_rows":4,"n_cols":26,"rows_kept":4,"cut":false,"hidden":false,"merged":[]}
[null,null,null,null,null,null,null,null,null,null,null,null,null,null,null,null,null,null,null,null,null,null,null,null,null,"Control"]
[null,null,null,null,null,null,null,null,null,null,null,null,null,null,null,null,null,null,null,null,null,null,null,null,null,"$A$1"]
["Notes and Comments"]
["Use this sheet to keep a record of data sources, edits, or any other useful notes about the use of this tool."]