{"text_format":"1","workbook":"xlsx","n_sheets":21,"sheets":["Lists","Welcome","Company_Information","Compliance_Options","Semiannual_Report","Deviation_Compliant_Coating","Deviation_Without_Addon","Deviation_w_Addon_Malfunction","Deviation_w_Addon_EmLimits","Deviation_w_Addon_CPMS1","Deviation_w_Addon_CPMS2","Deviation_w_Addon_CPMSSummary","Deviation_w_Addon_OpLimit","Deviation_w_Addon_OpLimSummary","Deviation_w_Addon_WorkPrac","Deviation_Equiv_ER","Description_of_Changes","Number_of_Deviations","Semiannual_Certification","Revisions","Worksheet Map"],"not_rendered":{"charts":0,"images":1,"macros":0,"external_links":0,"defined_names":16,"comments":0,"pivot_tables":0},"unopened":[],"bounds":{"document_bytes":16777216,"sheet_cells":100000,"rows_first":2000,"rows_last":500,"rows_between":2000,"halvings":0,"cell_chars":16384,"cell_head_chars":4096},"cells_cut":0,"cells_raw":0,"read":"whole","date_system":"1900"}

{"sheet":"Lists","index":0,"n_rows":501,"n_cols":31,"rows_kept":501,"cut":false,"hidden":true,"merged":[]}
["Rank","Company Name","Company List","Column1",null,"Rank","Operation Name","Operation List","Column1",null,"Rank","CPMS Name","CPMS List","Column1",null,null,null,"Column5","Column1","Column2","Column22","Column3","Column4","Column42","Column43","Column44","Company ID","Process Name","Column6",null,"State"]
[{"$f":"+IF(D2=\"\",\"\",MAX(A1:A$1)+1)","v":""},{"$f":"IF(Company_Information!B24=\"\",\"\",Company_Information!B24)","v":""},{"$f":"+IFERROR(INDEX($B$2:$B$101,MATCH(ROW()-ROW($C$1),$A$2:$A$101,0)),\"\")","v":""},{"$f":"IF(COUNTIF(B$2:B2,B2)=1,B2,\"\")","v":""},null,{"$f":"+IF(I2=\"\",\"\",MAX(F1:F$1)+1)","v":""},{"$f":"IF(Compliance_Options!C24=\"\",\"\",Compliance_Options!C24)","v":""},{"$f":"+IFERROR(INDEX($G$2:$G$191,MATCH(ROW()-ROW($H$1),$F$2:$F$191,0)),\"\")","v":""},{"$f":"IF(COUNTIF(G$2:G2,G2)=1,G2,\"\")","v":""},null,{"$f":"+IF(N2=\"\",\"\",MAX(K1:K$1)+1)","v":""},{"$f":"IF(Deviation_w_Addon_CPMS1!D24=\"\",\"\",Deviation_w_Addon_CPMS1!D24)","v":""},{"$f":"+IFERROR(INDEX($L$2:$L$501,MATCH(ROW()-ROW($M$1),$K$2:$K$501,0)),\"\")","v":""},{"$f":"IF(COUNTIF(L$2:L2,L2)=1,L2,\"\")","v":""},null,"WebCoatingandPrinting",null,{"$f":"+IF(W2=\"\",\"\",MAX(R1:R$1)+1)","v":""},{"$f":"IF(Compliance_Options!B24=\"\",\"\",Compliance_Options!B24)","v":""},{"$f":"IF(Compliance_Options!C24=\"\",\"\",Compliance_Options!C24)","v":""},{"$f":"IF(Compliance_Options!E24=\"\",\"\",Compliance_Options!E24)","v":""},{"$f":"S2&T2&Table29[[#This Row],[Column22]]","v":""},{"$f":"IF(COUNTIF(V$2:V2,V2)=1,V2,\"\")","v":""},{"$f":"IF(R2=\"\",\"\",S2)","v":""},{"$f":"IF(R2=\"\",\"\",T2)","v":""},{"$f":"IF(S2=\"\",\"\",U2)","v":""},{"$f":"IFERROR(INDEX($X$2:$X$78,MATCH(ROW()-ROW($AA$1),$R$2:$R$78,0)),\"\")","v":""},{"$f":"IFERROR(INDEX($Y$2:$Y$78,MATCH(ROW()-ROW($AA$1),$R$2:$R$78,0)),\"\")","v":""},{"$f":"IFERROR(INDEX($Z$2:$Z$78,MATCH(ROW()-ROW($AA$1),$R$2:$R$78,0)),\"\")","v":""},null,"AK"]
[{"$f":"+IF(D3=\"\",\"\",MAX(A$1:A2)+1)","v":""},{"$f":"IF(Company_Information!B25=\"\",\"\",Company_Information!B25)","v":""},"",{"$f":"IF(COUNTIF(B$2:B3,B3)=1,B3,\"\")","v":""},null,{"$f":"+IF(I3=\"\",\"\",MAX(F$1:F2)+1)","v":""},{"$f":"IF(Compliance_Options!C25=\"\",\"\",Compliance_Options!C25)","v":""},{"$f":"+IFERROR(INDEX($G$2:$G$191,MATCH(ROW()-ROW($H$1),$F$2:$F$191,0)),\"\")","v":""},{"$f":"IF(COUNTIF(G$2:G3,G3)=1,G3,\"\")","v":""},null,{"$f":"+IF(N3=\"\",\"\",MAX(K$1:K2)+1)","v":""},{"$f":"IF(Deviation_w_Addon_CPMS1!D25=\"\",\"\",Deviation_w_Addon_CPMS1!D25)","v":""},"",{"$f":"IF(COUNTIF(L$2:L3,L3)=1,L3,\"\")","v":""},null,"Compliant Material 63.4291(a)(1)",null,{"$f":"+IF(W3=\"\",\"\",MAX(R$1:R2)+1)","v":""},{"$f":"IF(Compliance_Options!B25=\"\",\"\",Compliance_Options!B25)","v":""},{"$f":"IF(Compliance_Options!C25=\"\",\"\",Compliance_Options!C25)","v":""},{"$f":"IF(Compliance_Options!E25=\"\",\"\",Compliance_Options!E25)","v":""},{"$f":"S3&T3&Table29[[#This Row],[Column22]]","v":""},{"$f":"IF(COUNTIF(V$2:V3,V3)=1,V3,\"\")","v":""},{"$f":"IF(R3=\"\",\"\",S3)","v":""},{"$f":"IF(R3=\"\",\"\",T3)","v":""},{"$f":"IF(S3=\"\",\"\",U3)","v":""},{"$f":"IFERROR(INDEX($X$2:$X$78,MATCH(ROW()-ROW($AA$1),$R$2:$R$78,0)),\"\")","v":""},{"$f":"IFERROR(INDEX($Y$2:$Y$78,MATCH(ROW()-ROW($AA$1),$R$2:$R$78,0)),\"\")","v":""},"",null,"AL"]
[{"$f":"+IF(D4=\"\",\"\",MAX(A$1:A3)+1)","v":""},{"$f":"IF(Company_Information!B26=\"\",\"\",Company_Information!B26)","v":""},"",{"$f":"IF(COUNTIF(B$2:B4,B4)=1,B4,\"\")","v":""},null,{"$f":"+IF(I4=\"\",\"\",MAX(F$1:F3)+1)","v":""},{"$f":"IF(Compliance_Options!C26=\"\",\"\",Compliance_Options!C26)","v":""},"",{"$f":"IF(COUNTIF(G$2:G4,G4)=1,G4,\"\")","v":""},null,{"$f":"+IF(N4=\"\",\"\",MAX(K$1:K3)+1)","v":""},{"$f":"IF(Deviation_w_Addon_CPMS1!D26=\"\",\"\",Deviation_w_Addon_CPMS1!D26)","v":""},"",{"$f":"IF(COUNTIF(L$2:L4,L4)=1,L4,\"\")","v":""},null,"Emission Rate Without Add-on Controls 63.4291(a)(2)",null,{"$f":"+IF(W4=\"\",\"\",MAX(R$1:R3)+1)","v":""},{"$f":"IF(Compliance_Options!B26=\"\",\"\",Compliance_Options!B26)","v":""},{"$f":"IF(Compliance_Options!C26=\"\",\"\",Compliance_Options!C26)","v":""},{"$f":"IF(Compliance_Options!E26=\"\",\"\",Compliance_Options!E26)","v":""},{"$f":"S4&T4&Table29[[#This Row],[Column22]]","v":""},{"$f":"IF(COUNTIF(V$2:V4,V4)=1,V4,\"\")","v":""},"","","","","","",null,"AR"]
[{"$f":"+IF(D5=\"\",\"\",MAX(A$1:A4)+1)","v":""},{"$f":"IF(Company_Information!B27=\"\",\"\",Company_Information!B27)","v":""},"",{"$f":"IF(COUNTIF(B$2:B5,B5)=1,B5,\"\")","v":""},null,{"$f":"+IF(I5=\"\",\"\",MAX(F$1:F4)+1)","v":""},{"$f":"IF(Compliance_Options!C27=\"\",\"\",Compliance_Options!C27)","v":""},"",{"$f":"IF(COUNTIF(G$2:G5,G5)=1,G5,\"\")","v":""},null,{"$f":"+IF(N5=\"\",\"\",MAX(K$1:K4)+1)","v":""},{"$f":"IF(Deviation_w_Addon_CPMS1!D27=\"\",\"\",Deviation_w_Addon_CPMS1!D27)","v":""},"",{"$f":"IF(COUNTIF(L$2:L5,L5)=1,L5,\"\")","v":""},null,"Emission Rate With Add-on Controls 63.4291(a)(3)",null,{"$f":"+IF(W5=\"\",\"\",MAX(R$1:R4)+1)","v":""},{"$f":"IF(Compliance_Options!B27=\"\",\"\",Compliance_Options!B27)","v":""},{"$f":"IF(Compliance_Options!C27=\"\",\"\",Compliance_Options!C27)","v":""},{"$f":"IF(Compliance_Options!E27=\"\",\"\",Compliance_Options!E27)","v":""},{"$f":"S5&T5&Table29[[#This Row],[Column22]]","v":""},{"$f":"IF(COUNTIF(V$2:V5,V5)=1,V5,\"\")","v":""},"","","","","","",null,"AS"]
[{"$f":"+IF(D6=\"\",\"\",MAX(A$1:A5)+1)","v":""},{"$f":"IF(Company_Information!B28=\"\",\"\",Company_Information!B28)","v":""},"",{"$f":"IF(COUNTIF(B$2:B6,B6)=1,B6,\"\")","v":""},null,{"$f":"+IF(I6=\"\",\"\",MAX(F$1:F5)+1)","v":""},{"$f":"IF(Compliance_Options!C28=\"\",\"\",Compliance_Options!C28)","v":""},"",{"$f":"IF(COUNTIF(G$2:G6,G6)=1,G6,\"\")","v":""},null,{"$f":"+IF(N6=\"\",\"\",MAX(K$1:K5)+1)","v":""},{"$f":"IF(Deviation_w_Addon_CPMS1!D28=\"\",\"\",Deviation_w_Addon_CPMS1!D28)","v":""},"",{"$f":"IF(COUNTIF(L$2:L6,L6)=1,L6,\"\")","v":""},null,"Organic HAP Overall Control Efficiency 63.4291(a)(4)",null,{"$f":"+IF(W6=\"\",\"\",MAX(R$1:R5)+1)","v":""},{"$f":"IF(Compliance_Options!B28=\"\",\"\",Compliance_Options!B28)","v":""},{"$f":"IF(Compliance_Options!C28=\"\",\"\",Compliance_Options!C28)","v":""},{"$f":"IF(Compliance_Options!E28=\"\",\"\",Compliance_Options!E28)","v":""},{"$f":"S6&T6&Table29[[#This Row],[Column22]]","v":""},{"$f":"IF(COUNTIF(V$2:V6,V6)=1,V6,\"\")","v":""},"","","","","","",null,"AZ"]
[{"$f":"+IF(D7=\"\",\"\",MAX(A$1:A6)+1)","v":""},{"$f":"IF(Company_Information!B29=\"\",\"\",Company_Information!B29)","v":""},"",{"$f":"IF(COUNTIF(B$2:B7,B7)=1,B7,\"\")","v":""},null,{"$f":"+IF(I7=\"\",\"\",MAX(F$1:F6)+1)","v":""},{"$f":"IF(Compliance_Options!C29=\"\",\"\",Compliance_Options!C29)","v":""},"",{"$f":"IF(COUNTIF(G$2:G7,G7)=1,G7,\"\")","v":""},null,{"$f":"+IF(N7=\"\",\"\",MAX(K$1:K6)+1)","v":""},{"$f":"IF(Deviation_w_Addon_CPMS1!D29=\"\",\"\",Deviation_w_Addon_CPMS1!D29)","v":""},"",{"$f":"IF(COUNTIF(L$2:L7,L7)=1,L7,\"\")","v":""},null,"Oxidizer Outlet Organic HAP Concentration Limit 63.4291(a)(5)",null,{"$f":"+IF(W7=\"\",\"\",MAX(R$1:R6)+1)","v":""},{"$f":"IF(Compliance_Options!B29=\"\",\"\",Compliance_Options!B29)","v":""},{"$f":"IF(Compliance_Options!C29=\"\",\"\",Compliance_Options!C29)","v":""},{"$f":"IF(Compliance_Options!E29=\"\",\"\",Compliance_Options!E29)","v":""},{"$f":"S7&T7&Table29[[#This Row],[Column22]]","v":""},{"$f":"IF(COUNTIF(V$2:V7,V7)=1,V7,\"\")","v":""},"","","","","","",null,"CA"]
[{"$f":"+IF(D8=\"\",\"\",MAX(A$1:A7)+1)","v":""},{"$f":"IF(Company_Information!B30=\"\",\"\",Company_Information!B30)","v":""},"",{"$f":"IF(COUNTIF(B$2:B8,B8)=1,B8,\"\")","v":""},null,{"$f":"+IF(I8=\"\",\"\",MAX(F$1:F7)+1)","v":""},{"$f":"IF(Compliance_Options!C30=\"\",\"\",Compliance_Options!C30)","v":""},"",{"$f":"IF(COUNTIF(G$2:G8,G8)=1,G8,\"\")","v":""},null,{"$f":"+IF(N8=\"\",\"\",MAX(K$1:K7)+1)","v":""},{"$f":"IF(Deviation_w_Addon_CPMS1!D30=\"\",\"\",Deviation_w_Addon_CPMS1!D30)","v":""},"",{"$f":"IF(COUNTIF(L$2:L8,L8)=1,L8,\"\")","v":""},null,null,null,{"$f":"+IF(W8=\"\",\"\",MAX(R$1:R7)+1)","v":""},{"$f":"IF(Compliance_Options!B30=\"\",\"\",Compliance_Options!B30)","v":""},{"$f":"IF(Compliance_Options!C30=\"\",\"\",Compliance_Options!C30)","v":""},{"$f":"IF(Compliance_Options!E30=\"\",\"\",Compliance_Options!E30)","v":""},{"$f":"S8&T8&Table29[[#This Row],[Column22]]","v":""},{"$f":"IF(COUNTIF(V$2:V8,V8)=1,V8,\"\")","v":""},"","","","","","",null,"CO"]
[{"$f":"+IF(D9=\"\",\"\",MAX(A$1:A8)+1)","v":""},{"$f":"IF(Company_Information!B31=\"\",\"\",Company_Information!B31)","v":""},"",{"$f":"IF(COUNTIF(B$2:B9,B9)=1,B9,\"\")","v":""},null,{"$f":"+IF(I9=\"\",\"\",MAX(F$1:F8)+1)","v":""},{"$f":"IF(Compliance_Options!C31=\"\",\"\",Compliance_Options!C31)","v":""},"",{"$f":"IF(COUNTIF(G$2:G9,G9)=1,G9,\"\")","v":""},null,{"$f":"+IF(N9=\"\",\"\",MAX(K$1:K8)+1)","v":""},{"$f":"IF(Deviation_w_Addon_CPMS1!D31=\"\",\"\",Deviation_w_Addon_CPMS1!D31)","v":""},"",{"$f":"IF(COUNTIF(L$2:L9,L9)=1,L9,\"\")","v":""},null,"Slashing",null,{"$f":"+IF(W9=\"\",\"\",MAX(R$1:R8)+1)","v":""},{"$f":"IF(Compliance_Options!B31=\"\",\"\",Compliance_Options!B31)","v":""},{"$f":"IF(Compliance_Options!C31=\"\",\"\",Compliance_Options!C31)","v":""},{"$f":"IF(Compliance_Options!E31=\"\",\"\",Compliance_Options!E31)","v":""},{"$f":"S9&T9&Table29[[#This Row],[Column22]]","v":""},{"$f":"IF(COUNTIF(V$2:V9,V9)=1,V9,\"\")","v":""},"","","","","","",null,"CT"]
[{"$f":"+IF(D10=\"\",\"\",MAX(A$1:A9)+1)","v":""},{"$f":"IF(Company_Information!B32=\"\",\"\",Company_Information!B32)","v":""},"",{"$f":"IF(COUNTIF(B$2:B10,B10)=1,B10,\"\")","v":""},null,{"$f":"+IF(I10=\"\",\"\",MAX(F$1:F9)+1)","v":""},{"$f":"IF(Compliance_Options!C32=\"\",\"\",Compliance_Options!C32)","v":""},"",{"$f":"IF(COUNTIF(G$2:G10,G10)=1,G10,\"\")","v":""},null,{"$f":"+IF(N10=\"\",\"\",MAX(K$1:K9)+1)","v":""},{"$f":"IF(Deviation_w_Addon_CPMS1!D32=\"\",\"\",Deviation_w_Addon_CPMS1!D32)","v":""},"",{"$f":"IF(COUNTIF(L$2:L10,L10)=1,L10,\"\")","v":""},null,"Compliant Material 63.4291(b)",null,{"$f":"+IF(W10=\"\",\"\",MAX(R$1:R9)+1)","v":""},{"$f":"IF(Compliance_Options!B32=\"\",\"\",Compliance_Options!B32)","v":""},{"$f":"IF(Compliance_Options!C32=\"\",\"\",Compliance_Options!C32)","v":""},{"$f":"IF(Compliance_Options!E32=\"\",\"\",Compliance_Options!E32)","v":""},{"$f":"S10&T10&Table29[[#This Row],[Column22]]","v":""},{"$f":"IF(COUNTIF(V$2:V10,V10)=1,V10,\"\")","v":""},"","","","","","",null,"DC"]
[{"$f":"+IF(D11=\"\",\"\",MAX(A$1:A10)+1)","v":""},{"$f":"IF(Company_Information!B33=\"\",\"\",Company_Information!B33)","v":""},"",{"$f":"IF(COUNTIF(B$2:B11,B11)=1,B11,\"\")","v":""},null,{"$f":"+IF(I11=\"\",\"\",MAX(F$1:F10)+1)","v":""},{"$f":"IF(Compliance_Options!C33=\"\",\"\",Compliance_Options!C33)","v":""},"",{"$f":"IF(COUNTIF(G$2:G11,G11)=1,G11,\"\")","v":""},null,{"$f":"+IF(N11=\"\",\"\",MAX(K$1:K10)+1)","v":""},{"$f":"IF(Deviation_w_Addon_CPMS1!D33=\"\",\"\",Deviation_w_Addon_CPMS1!D33)","v":""},"",{"$f":"IF(COUNTIF(L$2:L11,L11)=1,L11,\"\")","v":""},null,null,null,{"$f":"+IF(W11=\"\",\"\",MAX(R$1:R10)+1)","v":""},{"$f":"IF(Compliance_Options!B33=\"\",\"\",Compliance_Options!B33)","v":""},{"$f":"IF(Compliance_Options!C33=\"\",\"\",Compliance_Options!C33)","v":""},{"$f":"IF(Compliance_Options!E33=\"\",\"\",Compliance_Options!E33)","v":""},{"$f":"S11&T11&Table29[[#This Row],[Column22]]","v":""},{"$f":"IF(COUNTIF(V$2:V11,V11)=1,V11,\"\")","v":""},"","","","","","",null,"DE"]
[null,null,null,null,null,{"$f":"+IF(I12=\"\",\"\",MAX(F$1:F11)+1)","v":""},{"$f":"IF(Compliance_Options!C34=\"\",\"\",Compliance_Options!C34)","v":""},"",{"$f":"IF(COUNTIF(G$2:G12,G12)=1,G12,\"\")","v":""},null,{"$f":"+IF(N12=\"\",\"\",MAX(K$1:K11)+1)","v":""},{"$f":"IF(Deviation_w_Addon_CPMS1!D34=\"\",\"\",Deviation_w_Addon_CPMS1!D34)","v":""},"",{"$f":"IF(COUNTIF(L$2:L12,L12)=1,L12,\"\")","v":""},null,"Dyeing and Finishing",null,{"$f":"+IF(W12=\"\",\"\",MAX(R$1:R11)+1)","v":""},{"$f":"IF(Compliance_Options!B34=\"\",\"\",Compliance_Options!B34)","v":""},{"$f":"IF(Compliance_Options!C34=\"\",\"\",Compliance_Options!C34)","v":""},{"$f":"IF(Compliance_Options!E34=\"\",\"\",Compliance_Options!E34)","v":""},{"$f":"S12&T12&Table29[[#This Row],[Column22]]","v":""},{"$f":"IF(COUNTIF(V$2:V12,V12)=1,V12,\"\")","v":""},"","","","","","",null,"FL"]
[null,null,null,null,null,{"$f":"+IF(I13=\"\",\"\",MAX(F$1:F12)+1)","v":""},{"$f":"IF(Compliance_Options!C35=\"\",\"\",Compliance_Options!C35)","v":""},"",{"$f":"IF(COUNTIF(G$2:G13,G13)=1,G13,\"\")","v":""},null,{"$f":"+IF(N13=\"\",\"\",MAX(K$1:K12)+1)","v":""},{"$f":"IF(Deviation_w_Addon_CPMS1!D35=\"\",\"\",Deviation_w_Addon_CPMS1!D35)","v":""},"",{"$f":"IF(COUNTIF(L$2:L13,L13)=1,L13,\"\")","v":""},null,"Compliant Material 63.4291(c)(1)",null,{"$f":"+IF(W13=\"\",\"\",MAX(R$1:R12)+1)","v":""},{"$f":"IF(Compliance_Options!B35=\"\",\"\",Compliance_Options!B35)","v":""},{"$f":"IF(Compliance_Options!C35=\"\",\"\",Compliance_Options!C35)","v":""},{"$f":"IF(Compliance_Options!E35=\"\",\"\",Compliance_Options!E35)","v":""},{"$f":"S13&T13&Table29[[#This Row],[Column22]]","v":""},{"$f":"IF(COUNTIF(V$2:V13,V13)=1,V13,\"\")","v":""},"","","","","","",null,"GA"]
[null,null,null,null,null,{"$f":"+IF(I14=\"\",\"\",MAX(F$1:F13)+1)","v":""},{"$f":"IF(Compliance_Options!C36=\"\",\"\",Compliance_Options!C36)","v":""},"",{"$f":"IF(COUNTIF(G$2:G14,G14)=1,G14,\"\")","v":""},null,{"$f":"+IF(N14=\"\",\"\",MAX(K$1:K13)+1)","v":""},{"$f":"IF(Deviation_w_Addon_CPMS1!D36=\"\",\"\",Deviation_w_Addon_CPMS1!D36)","v":""},"",{"$f":"IF(COUNTIF(L$2:L14,L14)=1,L14,\"\")","v":""},null,"Emission Rate Without Add-on Controls 63.4291(c)(2)",null,{"$f":"+IF(W14=\"\",\"\",MAX(R$1:R13)+1)","v":""},{"$f":"IF(Compliance_Options!B36=\"\",\"\",Compliance_Options!B36)","v":""},{"$f":"IF(Compliance_Options!C36=\"\",\"\",Compliance_Options!C36)","v":""},{"$f":"IF(Compliance_Options!E36=\"\",\"\",Compliance_Options!E36)","v":""},{"$f":"S14&T14&Table29[[#This Row],[Column22]]","v":""},{"$f":"IF(COUNTIF(V$2:V14,V14)=1,V14,\"\")","v":""},"","","","","","",null,"GU"]
[null,null,null,null,null,{"$f":"+IF(I15=\"\",\"\",MAX(F$1:F14)+1)","v":""},{"$f":"IF(Compliance_Options!C37=\"\",\"\",Compliance_Options!C37)","v":""},"",{"$f":"IF(COUNTIF(G$2:G15,G15)=1,G15,\"\")","v":""},null,{"$f":"+IF(N15=\"\",\"\",MAX(K$1:K14)+1)","v":""},{"$f":"IF(Deviation_w_Addon_CPMS1!D37=\"\",\"\",Deviation_w_Addon_CPMS1!D37)","v":""},"",{"$f":"IF(COUNTIF(L$2:L15,L15)=1,L15,\"\")","v":""},null,"Emission Rate With Add-on Controls 63.4291(c)(3)",null,{"$f":"+IF(W15=\"\",\"\",MAX(R$1:R14)+1)","v":""},{"$f":"IF(Compliance_Options!B37=\"\",\"\",Compliance_Options!B37)","v":""},{"$f":"IF(Compliance_Options!C37=\"\",\"\",Compliance_Options!C37)","v":""},{"$f":"IF(Compliance_Options!E37=\"\",\"\",Compliance_Options!E37)","v":""},{"$f":"S15&T15&Table29[[#This Row],[Column22]]","v":""},{"$f":"IF(COUNTIF(V$2:V15,V15)=1,V15,\"\")","v":""},"","","","","","",null,"HI"]
[null,null,null,null,null,{"$f":"+IF(I16=\"\",\"\",MAX(F$1:F15)+1)","v":""},{"$f":"IF(Compliance_Options!C38=\"\",\"\",Compliance_Options!C38)","v":""},"",{"$f":"IF(COUNTIF(G$2:G16,G16)=1,G16,\"\")","v":""},null,{"$f":"+IF(N16=\"\",\"\",MAX(K$1:K15)+1)","v":""},{"$f":"IF(Deviation_w_Addon_CPMS1!D38=\"\",\"\",Deviation_w_Addon_CPMS1!D38)","v":""},"",{"$f":"IF(COUNTIF(L$2:L16,L16)=1,L16,\"\")","v":""},null,"Equivalent Emission Rate 63.4291(c)(4)",null,{"$f":"+IF(W16=\"\",\"\",MAX(R$1:R15)+1)","v":""},{"$f":"IF(Compliance_Options!B38=\"\",\"\",Compliance_Options!B38)","v":""},{"$f":"IF(Compliance_Options!C38=\"\",\"\",Compliance_Options!C38)","v":""},{"$f":"IF(Compliance_Options!E38=\"\",\"\",Compliance_Options!E38)","v":""},{"$f":"S16&T16&Table29[[#This Row],[Column22]]","v":""},{"$f":"IF(COUNTIF(V$2:V16,V16)=1,V16,\"\")","v":""},"","","","","","",null,"IA"]
[null,null,null,null,null,{"$f":"+IF(I17=\"\",\"\",MAX(F$1:F16)+1)","v":""},{"$f":"IF(Compliance_Options!C39=\"\",\"\",Compliance_Options!C39)","v":""},"",{"$f":"IF(COUNTIF(G$2:G17,G17)=1,G17,\"\")","v":""},null,{"$f":"+IF(N17=\"\",\"\",MAX(K$1:K16)+1)","v":""},{"$f":"IF(Deviation_w_Addon_CPMS1!D39=\"\",\"\",Deviation_w_Addon_CPMS1!D39)","v":""},"",{"$f":"IF(COUNTIF(L$2:L17,L17)=1,L17,\"\")","v":""},null,null,null,{"$f":"+IF(W17=\"\",\"\",MAX(R$1:R16)+1)","v":""},{"$f":"IF(Compliance_Options!B39=\"\",\"\",Compliance_Options!B39)","v":""},{"$f":"IF(Compliance_Options!C39=\"\",\"\",Compliance_Options!C39)","v":""},{"$f":"IF(Compliance_Options!E39=\"\",\"\",Compliance_Options!E39)","v":""},{"$f":"S17&T17&Table29[[#This Row],[Column22]]","v":""},{"$f":"IF(COUNTIF(V$2:V17,V17)=1,V17,\"\")","v":""},"","","","","","",null,"ID"]
[null,null,null,null,null,{"$f":"+IF(I18=\"\",\"\",MAX(F$1:F17)+1)","v":""},{"$f":"IF(Compliance_Options!C40=\"\",\"\",Compliance_Options!C40)","v":""},"",{"$f":"IF(COUNTIF(G$2:G18,G18)=1,G18,\"\")","v":""},null,{"$f":"+IF(N18=\"\",\"\",MAX(K$1:K17)+1)","v":""},{"$f":"IF(Deviation_w_Addon_CPMS1!D40=\"\",\"\",Deviation_w_Addon_CPMS1!D40)","v":""},"",{"$f":"IF(COUNTIF(L$2:L18,L18)=1,L18,\"\")","v":""},null,"Causes",null,{"$f":"+IF(W18=\"\",\"\",MAX(R$1:R17)+1)","v":""},{"$f":"IF(Compliance_Options!B40=\"\",\"\",Compliance_Options!B40)","v":""},{"$f":"IF(Compliance_Options!C40=\"\",\"\",Compliance_Options!C40)","v":""},{"$f":"IF(Compliance_Options!E40=\"\",\"\",Compliance_Options!E40)","v":""},{"$f":"S18&T18&Table29[[#This Row],[Column22]]","v":""},{"$f":"IF(COUNTIF(V$2:V18,V18)=1,V18,\"\")","v":""},"","","","","","",null,"IL"]
[null,null,null,null,null,{"$f":"+IF(I19=\"\",\"\",MAX(F$1:F18)+1)","v":""},{"$f":"IF(Compliance_Options!C41=\"\",\"\",Compliance_Options!C41)","v":""},"",{"$f":"IF(COUNTIF(G$2:G19,G19)=1,G19,\"\")","v":""},null,{"$f":"+IF(N19=\"\",\"\",MAX(K$1:K18)+1)","v":""},{"$f":"IF(Deviation_w_Addon_CPMS1!D41=\"\",\"\",Deviation_w_Addon_CPMS1!D41)","v":""},"",{"$f":"IF(COUNTIF(L$2:L19,L19)=1,L19,\"\")","v":""},null,"Control Equipment Problems",null,{"$f":"+IF(W19=\"\",\"\",MAX(R$1:R18)+1)","v":""},{"$f":"IF(Compliance_Options!B41=\"\",\"\",Compliance_Options!B41)","v":""},{"$f":"IF(Compliance_Options!C41=\"\",\"\",Compliance_Options!C41)","v":""},{"$f":"IF(Compliance_Options!E41=\"\",\"\",Compliance_Options!E41)","v":""},{"$f":"S19&T19&Table29[[#This Row],[Column22]]","v":""},{"$f":"IF(COUNTIF(V$2:V19,V19)=1,V19,\"\")","v":""},"","","","","","",null,"IN"]
[null,null,null,null,null,{"$f":"+IF(I20=\"\",\"\",MAX(F$1:F19)+1)","v":""},{"$f":"IF(Compliance_Options!C42=\"\",\"\",Compliance_Options!C42)","v":""},"",{"$f":"IF(COUNTIF(G$2:G20,G20)=1,G20,\"\")","v":""},null,{"$f":"+IF(N20=\"\",\"\",MAX(K$1:K19)+1)","v":""},{"$f":"IF(Deviation_w_Addon_CPMS1!D42=\"\",\"\",Deviation_w_Addon_CPMS1!D42)","v":""},"",{"$f":"IF(COUNTIF(L$2:L20,L20)=1,L20,\"\")","v":""},null,"Process Problems",null,{"$f":"+IF(W20=\"\",\"\",MAX(R$1:R19)+1)","v":""},{"$f":"IF(Compliance_Options!B42=\"\",\"\",Compliance_Options!B42)","v":""},{"$f":"IF(Compliance_Options!C42=\"\",\"\",Compliance_Options!C42)","v":""},{"$f":"IF(Compliance_Options!E42=\"\",\"\",Compliance_Options!E42)","v":""},{"$f":"S20&T20&Table29[[#This Row],[Column22]]","v":""},{"$f":"IF(COUNTIF(V$2:V20,V20)=1,V20,\"\")","v":""},"","","","","","",null,"KS"]
[null,null,null,null,null,{"$f":"+IF(I21=\"\",\"\",MAX(F$1:F20)+1)","v":""},{"$f":"IF(Compliance_Options!C43=\"\",\"\",Compliance_Options!C43)","v":""},"",{"$f":"IF(COUNTIF(G$2:G21,G21)=1,G21,\"\")","v":""},null,{"$f":"+IF(N21=\"\",\"\",MAX(K$1:K20)+1)","v":""},{"$f":"IF(Deviation_w_Addon_CPMS1!D43=\"\",\"\",Deviation_w_Addon_CPMS1!D43)","v":""},"",{"$f":"IF(COUNTIF(L$2:L21,L21)=1,L21,\"\")","v":""},null,"Other Known Causes",null,{"$f":"+IF(W21=\"\",\"\",MAX(R$1:R20)+1)","v":""},{"$f":"IF(Compliance_Options!B43=\"\",\"\",Compliance_Options!B43)","v":""},{"$f":"IF(Compliance_Options!C43=\"\",\"\",Compliance_Options!C43)","v":""},{"$f":"IF(Compliance_Options!E43=\"\",\"\",Compliance_Options!E43)","v":""},{"$f":"S21&T21&Table29[[#This Row],[Column22]]","v":""},{"$f":"IF(COUNTIF(V$2:V21,V21)=1,V21,\"\")","v":""},"","","","","","",null,"KY"]
[null,null,null,null,null,{"$f":"+IF(I22=\"\",\"\",MAX(F$1:F21)+1)","v":""},{"$f":"IF(Compliance_Options!C44=\"\",\"\",Compliance_Options!C44)","v":""},"",{"$f":"IF(COUNTIF(G$2:G22,G22)=1,G22,\"\")","v":""},null,{"$f":"+IF(N22=\"\",\"\",MAX(K$1:K21)+1)","v":""},{"$f":"IF(Deviation_w_Addon_CPMS1!D44=\"\",\"\",Deviation_w_Addon_CPMS1!D44)","v":""},"",{"$f":"IF(COUNTIF(L$2:L22,L22)=1,L22,\"\")","v":""},null,"Other Unknown Causes",null,{"$f":"+IF(W22=\"\",\"\",MAX(R$1:R21)+1)","v":""},{"$f":"IF(Compliance_Options!B44=\"\",\"\",Compliance_Options!B44)","v":""},{"$f":"IF(Compliance_Options!C44=\"\",\"\",Compliance_Options!C44)","v":""},{"$f":"IF(Compliance_Options!E44=\"\",\"\",Compliance_Options!E44)","v":""},{"$f":"S22&T22&Table29[[#This Row],[Column22]]","v":""},{"$f":"IF(COUNTIF(V$2:V22,V22)=1,V22,\"\")","v":""},"","","","","","",null,"LA"]
[null,null,null,null,null,{"$f":"+IF(I23=\"\",\"\",MAX(F$1:F22)+1)","v":""},{"$f":"IF(Compliance_Options!C45=\"\",\"\",Compliance_Options!C45)","v":""},"",{"$f":"IF(COUNTIF(G$2:G23,G23)=1,G23,\"\")","v":""},null,{"$f":"+IF(N23=\"\",\"\",MAX(K$1:K22)+1)","v":""},{"$f":"IF(Deviation_w_Addon_CPMS1!D45=\"\",\"\",Deviation_w_Addon_CPMS1!D45)","v":""},"",{"$f":"IF(COUNTIF(L$2:L23,L23)=1,L23,\"\")","v":""},null,null,null,{"$f":"+IF(W23=\"\",\"\",MAX(R$1:R22)+1)","v":""},{"$f":"IF(Compliance_Options!B45=\"\",\"\",Compliance_Options!B45)","v":""},{"$f":"IF(Compliance_Options!C45=\"\",\"\",Compliance_Options!C45)","v":""},{"$f":"IF(Compliance_Options!E45=\"\",\"\",Compliance_Options!E45)","v":""},{"$f":"S23&T23&Table29[[#This Row],[Column22]]","v":""},{"$f":"IF(COUNTIF(V$2:V23,V23)=1,V23,\"\")","v":""},"","","","","","",null,"MA"]
[null,null,null,null,null,{"$f":"+IF(I24=\"\",\"\",MAX(F$1:F23)+1)","v":""},{"$f":"IF(Compliance_Options!C46=\"\",\"\",Compliance_Options!C46)","v":""},"",{"$f":"IF(COUNTIF(G$2:G24,G24)=1,G24,\"\")","v":""},null,{"$f":"+IF(N24=\"\",\"\",MAX(K$1:K23)+1)","v":""},{"$f":"IF(Deviation_w_Addon_CPMS1!D46=\"\",\"\",Deviation_w_Addon_CPMS1!D46)","v":""},"",{"$f":"IF(COUNTIF(L$2:L24,L24)=1,L24,\"\")","v":""},null,"NOCS?",null,{"$f":"+IF(W24=\"\",\"\",MAX(R$1:R23)+1)","v":""},{"$f":"IF(Compliance_Options!B46=\"\",\"\",Compliance_Options!B46)","v":""},{"$f":"IF(Compliance_Options!C46=\"\",\"\",Compliance_Options!C46)","v":""},{"$f":"IF(Compliance_Options!E46=\"\",\"\",Compliance_Options!E46)","v":""},{"$f":"S24&T24&Table29[[#This Row],[Column22]]","v":""},{"$f":"IF(COUNTIF(V$2:V24,V24)=1,V24,\"\")","v":""},"","","","","","",null,"MD"]
[null,null,null,null,null,{"$f":"+IF(I25=\"\",\"\",MAX(F$1:F24)+1)","v":""},{"$f":"IF(Compliance_Options!C47=\"\",\"\",Compliance_Options!C47)","v":""},"",{"$f":"IF(COUNTIF(G$2:G25,G25)=1,G25,\"\")","v":""},null,{"$f":"+IF(N25=\"\",\"\",MAX(K$1:K24)+1)","v":""},{"$f":"IF(Deviation_w_Addon_CPMS1!D47=\"\",\"\",Deviation_w_Addon_CPMS1!D47)","v":""},"",{"$f":"IF(COUNTIF(L$2:L25,L25)=1,L25,\"\")","v":""},null,{"$f":"IF(COUNTIF(Company_Information!#REF!,\"Yes\")>0,\"Yes\",\"No\")","v":{"$error":"#REF!"}},null,{"$f":"+IF(W25=\"\",\"\",MAX(R$1:R24)+1)","v":""},{"$f":"IF(Compliance_Options!B47=\"\",\"\",Compliance_Options!B47)","v":""},{"$f":"IF(Compliance_Options!C47=\"\",\"\",Compliance_Options!C47)","v":""},{"$f":"IF(Compliance_Options!E47=\"\",\"\",Compliance_Options!E47)","v":""},{"$f":"S25&T25&Table29[[#This Row],[Column22]]","v":""},{"$f":"IF(COUNTIF(V$2:V25,V25)=1,V25,\"\")","v":""},"","","","","","",null,"ME"]
[null,null,null,null,null,{"$f":"+IF(I26=\"\",\"\",MAX(F$1:F25)+1)","v":""},{"$f":"IF(Compliance_Options!C48=\"\",\"\",Compliance_Options!C48)","v":""},"",{"$f":"IF(COUNTIF(G$2:G26,G26)=1,G26,\"\")","v":""},null,{"$f":"+IF(N26=\"\",\"\",MAX(K$1:K25)+1)","v":""},{"$f":"IF(Deviation_w_Addon_CPMS1!D48=\"\",\"\",Deviation_w_Addon_CPMS1!D48)","v":""},"",{"$f":"IF(COUNTIF(L$2:L26,L26)=1,L26,\"\")","v":""},null,null,null,{"$f":"+IF(W26=\"\",\"\",MAX(R$1:R25)+1)","v":""},{"$f":"IF(Compliance_Options!B48=\"\",\"\",Compliance_Options!B48)","v":""},{"$f":"IF(Compliance_Options!C48=\"\",\"\",Compliance_Options!C48)","v":""},{"$f":"IF(Compliance_Options!E48=\"\",\"\",Compliance_Options!E48)","v":""},{"$f":"S26&T26&Table29[[#This Row],[Column22]]","v":""},{"$f":"IF(COUNTIF(V$2:V26,V26)=1,V26,\"\")","v":""},"","","","","","",null,"MI"]
[null,null,null,null,null,{"$f":"+IF(I27=\"\",\"\",MAX(F$1:F26)+1)","v":""},{"$f":"IF(Compliance_Options!C49=\"\",\"\",Compliance_Options!C49)","v":""},"",{"$f":"IF(COUNTIF(G$2:G27,G27)=1,G27,\"\")","v":""},null,{"$f":"+IF(N27=\"\",\"\",MAX(K$1:K26)+1)","v":""},{"$f":"IF(Deviation_w_Addon_CPMS1!D49=\"\",\"\",Deviation_w_Addon_CPMS1!D49)","v":""},"",{"$f":"IF(COUNTIF(L$2:L27,L27)=1,L27,\"\")","v":""},null,"Operating Limits",null,{"$f":"+IF(W27=\"\",\"\",MAX(R$1:R26)+1)","v":""},{"$f":"IF(Compliance_Options!B49=\"\",\"\",Compliance_Options!B49)","v":""},{"$f":"IF(Compliance_Options!C49=\"\",\"\",Compliance_Options!C49)","v":""},{"$f":"IF(Compliance_Options!E49=\"\",\"\",Compliance_Options!E49)","v":""},{"$f":"S27&T27&Table29[[#This Row],[Column22]]","v":""},{"$f":"IF(COUNTIF(V$2:V27,V27)=1,V27,\"\")","v":""},"","","","","","",null,"MN"]
[null,null,null,null,null,{"$f":"+IF(I28=\"\",\"\",MAX(F$1:F27)+1)","v":""},{"$f":"IF(Compliance_Options!C50=\"\",\"\",Compliance_Options!C50)","v":""},"",{"$f":"IF(COUNTIF(G$2:G28,G28)=1,G28,\"\")","v":""},null,{"$f":"+IF(N28=\"\",\"\",MAX(K$1:K27)+1)","v":""},{"$f":"IF(Deviation_w_Addon_CPMS1!D50=\"\",\"\",Deviation_w_Addon_CPMS1!D50)","v":""},"",{"$f":"IF(COUNTIF(L$2:L28,L28)=1,L28,\"\")","v":""},null,"Bypass of Control Device",null,{"$f":"+IF(W28=\"\",\"\",MAX(R$1:R27)+1)","v":""},{"$f":"IF(Compliance_Options!B50=\"\",\"\",Compliance_Options!B50)","v":""},{"$f":"IF(Compliance_Options!C50=\"\",\"\",Compliance_Options!C50)","v":""},{"$f":"IF(Compliance_Options!E50=\"\",\"\",Compliance_Options!E50)","v":""},{"$f":"S28&T28&Table29[[#This Row],[Column22]]","v":""},{"$f":"IF(COUNTIF(V$2:V28,V28)=1,V28,\"\")","v":""},"","","","","","",null,"MO"]
[null,null,null,null,null,{"$f":"+IF(I29=\"\",\"\",MAX(F$1:F28)+1)","v":""},{"$f":"IF(Compliance_Options!C51=\"\",\"\",Compliance_Options!C51)","v":""},"",{"$f":"IF(COUNTIF(G$2:G29,G29)=1,G29,\"\")","v":""},null,{"$f":"+IF(N29=\"\",\"\",MAX(K$1:K28)+1)","v":""},{"$f":"IF(Deviation_w_Addon_CPMS1!D51=\"\",\"\",Deviation_w_Addon_CPMS1!D51)","v":""},"",{"$f":"IF(COUNTIF(L$2:L29,L29)=1,L29,\"\")","v":""},null,"Combustion Temperature",null,{"$f":"+IF(W29=\"\",\"\",MAX(R$1:R28)+1)","v":""},{"$f":"IF(Compliance_Options!B51=\"\",\"\",Compliance_Options!B51)","v":""},{"$f":"IF(Compliance_Options!C51=\"\",\"\",Compliance_Options!C51)","v":""},{"$f":"IF(Compliance_Options!E51=\"\",\"\",Compliance_Options!E51)","v":""},{"$f":"S29&T29&Table29[[#This Row],[Column22]]","v":""},{"$f":"IF(COUNTIF(V$2:V29,V29)=1,V29,\"\")","v":""},"","","","","","",null,"MP"]
[null,null,null,null,null,{"$f":"+IF(I30=\"\",\"\",MAX(F$1:F29)+1)","v":""},{"$f":"IF(Compliance_Options!C52=\"\",\"\",Compliance_Options!C52)","v":""},"",{"$f":"IF(COUNTIF(G$2:G30,G30)=1,G30,\"\")","v":""},null,{"$f":"+IF(N30=\"\",\"\",MAX(K$1:K29)+1)","v":""},{"$f":"IF(Deviation_w_Addon_CPMS1!D52=\"\",\"\",Deviation_w_Addon_CPMS1!D52)","v":""},"",{"$f":"IF(COUNTIF(L$2:L30,L30)=1,L30,\"\")","v":""},null,"Inlet to Catalyst Bed Temperature",null,{"$f":"+IF(W30=\"\",\"\",MAX(R$1:R29)+1)","v":""},{"$f":"IF(Compliance_Options!B52=\"\",\"\",Compliance_Options!B52)","v":""},{"$f":"IF(Compliance_Options!C52=\"\",\"\",Compliance_Options!C52)","v":""},{"$f":"IF(Compliance_Options!E52=\"\",\"\",Compliance_Options!E52)","v":""},{"$f":"S30&T30&Table29[[#This Row],[Column22]]","v":""},{"$f":"IF(COUNTIF(V$2:V30,V30)=1,V30,\"\")","v":""},"","","","","","",null,"MS"]
[null,null,null,null,null,{"$f":"+IF(I31=\"\",\"\",MAX(F$1:F30)+1)","v":""},{"$f":"IF(Compliance_Options!C53=\"\",\"\",Compliance_Options!C53)","v":""},"",{"$f":"IF(COUNTIF(G$2:G31,G31)=1,G31,\"\")","v":""},null,{"$f":"+IF(N31=\"\",\"\",MAX(K$1:K30)+1)","v":""},{"$f":"IF(Deviation_w_Addon_CPMS1!D53=\"\",\"\",Deviation_w_Addon_CPMS1!D53)","v":""},"",{"$f":"IF(COUNTIF(L$2:L31,L31)=1,L31,\"\")","v":""},null,"Temperature Difference Across Catalyst Bed",null,{"$f":"+IF(W31=\"\",\"\",MAX(R$1:R30)+1)","v":""},{"$f":"IF(Compliance_Options!B53=\"\",\"\",Compliance_Options!B53)","v":""},{"$f":"IF(Compliance_Options!C53=\"\",\"\",Compliance_Options!C53)","v":""},{"$f":"IF(Compliance_Options!E53=\"\",\"\",Compliance_Options!E53)","v":""},{"$f":"S31&T31&Table29[[#This Row],[Column22]]","v":""},{"$f":"IF(COUNTIF(V$2:V31,V31)=1,V31,\"\")","v":""},"","","","","","",null,"MT"]
[null,null,null,null,null,{"$f":"+IF(I32=\"\",\"\",MAX(F$1:F31)+1)","v":""},{"$f":"IF(Compliance_Options!C54=\"\",\"\",Compliance_Options!C54)","v":""},"",{"$f":"IF(COUNTIF(G$2:G32,G32)=1,G32,\"\")","v":""},null,{"$f":"+IF(N32=\"\",\"\",MAX(K$1:K31)+1)","v":""},{"$f":"IF(Deviation_w_Addon_CPMS1!D54=\"\",\"\",Deviation_w_Addon_CPMS1!D54)","v":""},"",{"$f":"IF(COUNTIF(L$2:L32,L32)=1,L32,\"\")","v":""},null,"Inspection and Maintenance Plan",null,{"$f":"+IF(W32=\"\",\"\",MAX(R$1:R31)+1)","v":""},{"$f":"IF(Compliance_Options!B54=\"\",\"\",Compliance_Options!B54)","v":""},{"$f":"IF(Compliance_Options!C54=\"\",\"\",Compliance_Options!C54)","v":""},{"$f":"IF(Compliance_Options!E54=\"\",\"\",Compliance_Options!E54)","v":""},{"$f":"S32&T32&Table29[[#This Row],[Column22]]","v":""},{"$f":"IF(COUNTIF(V$2:V32,V32)=1,V32,\"\")","v":""},"","","","","","",null,"NC"]
[null,null,null,null,null,{"$f":"+IF(I33=\"\",\"\",MAX(F$1:F32)+1)","v":""},{"$f":"IF(Compliance_Options!C55=\"\",\"\",Compliance_Options!C55)","v":""},"",{"$f":"IF(COUNTIF(G$2:G33,G33)=1,G33,\"\")","v":""},null,{"$f":"+IF(N33=\"\",\"\",MAX(K$1:K32)+1)","v":""},{"$f":"IF(Deviation_w_Addon_CPMS1!D55=\"\",\"\",Deviation_w_Addon_CPMS1!D55)","v":""},"",{"$f":"IF(COUNTIF(L$2:L33,L33)=1,L33,\"\")","v":""},null,"Monitoring According to Monitoring Plan",null,{"$f":"+IF(W33=\"\",\"\",MAX(R$1:R32)+1)","v":""},{"$f":"IF(Compliance_Options!B55=\"\",\"\",Compliance_Options!B55)","v":""},{"$f":"IF(Compliance_Options!C55=\"\",\"\",Compliance_Options!C55)","v":""},{"$f":"IF(Compliance_Options!E55=\"\",\"\",Compliance_Options!E55)","v":""},{"$f":"S33&T33&Table29[[#This Row],[Column22]]","v":""},{"$f":"IF(COUNTIF(V$2:V33,V33)=1,V33,\"\")","v":""},"","","","","","",null,"ND"]
[null,null,null,null,null,{"$f":"+IF(I34=\"\",\"\",MAX(F$1:F33)+1)","v":""},{"$f":"IF(Compliance_Options!C56=\"\",\"\",Compliance_Options!C56)","v":""},"",{"$f":"IF(COUNTIF(G$2:G34,G34)=1,G34,\"\")","v":""},null,{"$f":"+IF(N34=\"\",\"\",MAX(K$1:K33)+1)","v":""},{"$f":"IF(Deviation_w_Addon_CPMS1!D56=\"\",\"\",Deviation_w_Addon_CPMS1!D56)","v":""},"",{"$f":"IF(COUNTIF(L$2:L34,L34)=1,L34,\"\")","v":""},null,null,null,{"$f":"+IF(W34=\"\",\"\",MAX(R$1:R33)+1)","v":""},{"$f":"IF(Compliance_Options!B56=\"\",\"\",Compliance_Options!B56)","v":""},{"$f":"IF(Compliance_Options!C56=\"\",\"\",Compliance_Options!C56)","v":""},{"$f":"IF(Compliance_Options!E56=\"\",\"\",Compliance_Options!E56)","v":""},{"$f":"S34&T34&Table29[[#This Row],[Column22]]","v":""},{"$f":"IF(COUNTIF(V$2:V34,V34)=1,V34,\"\")","v":""},"","","","","","",null,"NE"]
[null,null,null,null,null,{"$f":"+IF(I35=\"\",\"\",MAX(F$1:F34)+1)","v":""},{"$f":"IF(Compliance_Options!C57=\"\",\"\",Compliance_Options!C57)","v":""},"",{"$f":"IF(COUNTIF(G$2:G35,G35)=1,G35,\"\")","v":""},null,{"$f":"+IF(N35=\"\",\"\",MAX(K$1:K34)+1)","v":""},{"$f":"IF(Deviation_w_Addon_CPMS1!D57=\"\",\"\",Deviation_w_Addon_CPMS1!D57)","v":""},"",{"$f":"IF(COUNTIF(L$2:L35,L35)=1,L35,\"\")","v":""},null,"Emission Limits with addon",null,{"$f":"+IF(W35=\"\",\"\",MAX(R$1:R34)+1)","v":""},{"$f":"IF(Compliance_Options!B57=\"\",\"\",Compliance_Options!B57)","v":""},{"$f":"IF(Compliance_Options!C57=\"\",\"\",Compliance_Options!C57)","v":""},{"$f":"IF(Compliance_Options!E57=\"\",\"\",Compliance_Options!E57)","v":""},{"$f":"S35&T35&Table29[[#This Row],[Column22]]","v":""},{"$f":"IF(COUNTIF(V$2:V35,V35)=1,V35,\"\")","v":""},"","","","","","",null,"NH"]
[null,null,null,null,null,{"$f":"+IF(I36=\"\",\"\",MAX(F$1:F35)+1)","v":""},{"$f":"IF(Compliance_Options!C58=\"\",\"\",Compliance_Options!C58)","v":""},"",{"$f":"IF(COUNTIF(G$2:G36,G36)=1,G36,\"\")","v":""},null,{"$f":"+IF(N36=\"\",\"\",MAX(K$1:K35)+1)","v":""},{"$f":"IF(Deviation_w_Addon_CPMS1!D58=\"\",\"\",Deviation_w_Addon_CPMS1!D58)","v":""},"",{"$f":"IF(COUNTIF(L$2:L36,L36)=1,L36,\"\")","v":""},null,"98% Organic HAP Removal Efficiency",null,{"$f":"+IF(W36=\"\",\"\",MAX(R$1:R35)+1)","v":""},{"$f":"IF(Compliance_Options!B58=\"\",\"\",Compliance_Options!B58)","v":""},{"$f":"IF(Compliance_Options!C58=\"\",\"\",Compliance_Options!C58)","v":""},{"$f":"IF(Compliance_Options!E58=\"\",\"\",Compliance_Options!E58)","v":""},{"$f":"S36&T36&Table29[[#This Row],[Column22]]","v":""},{"$f":"IF(COUNTIF(V$2:V36,V36)=1,V36,\"\")","v":""},"","","","","","",null,"NJ"]
[null,null,null,null,null,{"$f":"+IF(I37=\"\",\"\",MAX(F$1:F36)+1)","v":""},{"$f":"IF(Compliance_Options!C59=\"\",\"\",Compliance_Options!C59)","v":""},"",{"$f":"IF(COUNTIF(G$2:G37,G37)=1,G37,\"\")","v":""},null,{"$f":"+IF(N37=\"\",\"\",MAX(K$1:K36)+1)","v":""},{"$f":"IF(Deviation_w_Addon_CPMS1!D59=\"\",\"\",Deviation_w_Addon_CPMS1!D59)","v":""},"",{"$f":"IF(COUNTIF(L$2:L37,L37)=1,L37,\"\")","v":""},null,"Organic HAP Emissions No More Than 0.08 kg/kg Solids Applied",null,{"$f":"+IF(W37=\"\",\"\",MAX(R$1:R36)+1)","v":""},{"$f":"IF(Compliance_Options!B59=\"\",\"\",Compliance_Options!B59)","v":""},{"$f":"IF(Compliance_Options!C59=\"\",\"\",Compliance_Options!C59)","v":""},{"$f":"IF(Compliance_Options!E59=\"\",\"\",Compliance_Options!E59)","v":""},{"$f":"S37&T37&Table29[[#This Row],[Column22]]","v":""},{"$f":"IF(COUNTIF(V$2:V37,V37)=1,V37,\"\")","v":""},"","","","","","",null,"NM"]
[null,null,null,null,null,{"$f":"+IF(I38=\"\",\"\",MAX(F$1:F37)+1)","v":""},{"$f":"IF(Compliance_Options!C60=\"\",\"\",Compliance_Options!C60)","v":""},"",{"$f":"IF(COUNTIF(G$2:G38,G38)=1,G38,\"\")","v":""},null,{"$f":"+IF(N38=\"\",\"\",MAX(K$1:K37)+1)","v":""},{"$f":"IF(Deviation_w_Addon_CPMS1!D60=\"\",\"\",Deviation_w_Addon_CPMS1!D60)","v":""},"",{"$f":"IF(COUNTIF(L$2:L38,L38)=1,L38,\"\")","v":""},null,"Organic HAP Emissions No More Than 20 ppmvd and 100% Capture Efficiency",null,{"$f":"+IF(W38=\"\",\"\",MAX(R$1:R37)+1)","v":""},{"$f":"IF(Compliance_Options!B60=\"\",\"\",Compliance_Options!B60)","v":""},{"$f":"IF(Compliance_Options!C60=\"\",\"\",Compliance_Options!C60)","v":""},{"$f":"IF(Compliance_Options!E60=\"\",\"\",Compliance_Options!E60)","v":""},{"$f":"S38&T38&Table29[[#This Row],[Column22]]","v":""},{"$f":"IF(COUNTIF(V$2:V38,V38)=1,V38,\"\")","v":""},"","","","","","",null,"NV"]
[null,null,null,null,null,{"$f":"+IF(I39=\"\",\"\",MAX(F$1:F38)+1)","v":""},{"$f":"IF(Compliance_Options!C61=\"\",\"\",Compliance_Options!C61)","v":""},"",{"$f":"IF(COUNTIF(G$2:G39,G39)=1,G39,\"\")","v":""},null,{"$f":"+IF(N39=\"\",\"\",MAX(K$1:K38)+1)","v":""},{"$f":"IF(Deviation_w_Addon_CPMS1!D61=\"\",\"\",Deviation_w_Addon_CPMS1!D61)","v":""},"",{"$f":"IF(COUNTIF(L$2:L39,L39)=1,L39,\"\")","v":""},null,"97% Organic HAP Removal Efficiency",null,{"$f":"+IF(W39=\"\",\"\",MAX(R$1:R38)+1)","v":""},{"$f":"IF(Compliance_Options!B61=\"\",\"\",Compliance_Options!B61)","v":""},{"$f":"IF(Compliance_Options!C61=\"\",\"\",Compliance_Options!C61)","v":""},{"$f":"IF(Compliance_Options!E61=\"\",\"\",Compliance_Options!E61)","v":""},{"$f":"S39&T39&Table29[[#This Row],[Column22]]","v":""},{"$f":"IF(COUNTIF(V$2:V39,V39)=1,V39,\"\")","v":""},"","","","","","",null,"NY"]
[null,null,null,null,null,{"$f":"+IF(I40=\"\",\"\",MAX(F$1:F39)+1)","v":""},{"$f":"IF(Compliance_Options!C62=\"\",\"\",Compliance_Options!C62)","v":""},"",{"$f":"IF(COUNTIF(G$2:G40,G40)=1,G40,\"\")","v":""},null,{"$f":"+IF(N40=\"\",\"\",MAX(K$1:K39)+1)","v":""},{"$f":"IF(Deviation_w_Addon_CPMS1!D62=\"\",\"\",Deviation_w_Addon_CPMS1!D62)","v":""},"",{"$f":"IF(COUNTIF(L$2:L40,L40)=1,L40,\"\")","v":""},null,"Organic HAP Emissions No More Than 0.12 kg/kg Solids Applied",null,{"$f":"+IF(W40=\"\",\"\",MAX(R$1:R39)+1)","v":""},{"$f":"IF(Compliance_Options!B62=\"\",\"\",Compliance_Options!B62)","v":""},{"$f":"IF(Compliance_Options!C62=\"\",\"\",Compliance_Options!C62)","v":""},{"$f":"IF(Compliance_Options!E62=\"\",\"\",Compliance_Options!E62)","v":""},{"$f":"S40&T40&Table29[[#This Row],[Column22]]","v":""},{"$f":"IF(COUNTIF(V$2:V40,V40)=1,V40,\"\")","v":""},"","","","","","",null,"OH"]
[null,null,null,null,null,{"$f":"+IF(I41=\"\",\"\",MAX(F$1:F40)+1)","v":""},{"$f":"IF(Compliance_Options!C63=\"\",\"\",Compliance_Options!C63)","v":""},"",{"$f":"IF(COUNTIF(G$2:G41,G41)=1,G41,\"\")","v":""},null,{"$f":"+IF(N41=\"\",\"\",MAX(K$1:K40)+1)","v":""},{"$f":"IF(Deviation_w_Addon_CPMS1!D63=\"\",\"\",Deviation_w_Addon_CPMS1!D63)","v":""},"",{"$f":"IF(COUNTIF(L$2:L41,L41)=1,L41,\"\")","v":""},null,"Organic HAP Emissions No More Than 0.16 kg/kg Dyeing Material",null,{"$f":"+IF(W41=\"\",\"\",MAX(R$1:R40)+1)","v":""},{"$f":"IF(Compliance_Options!B63=\"\",\"\",Compliance_Options!B63)","v":""},{"$f":"IF(Compliance_Options!C63=\"\",\"\",Compliance_Options!C63)","v":""},{"$f":"IF(Compliance_Options!E63=\"\",\"\",Compliance_Options!E63)","v":""},{"$f":"S41&T41&Table29[[#This Row],[Column22]]","v":""},{"$f":"IF(COUNTIF(V$2:V41,V41)=1,V41,\"\")","v":""},"","","","","","",null,"OK"]
[null,null,null,null,null,{"$f":"+IF(I42=\"\",\"\",MAX(F$1:F41)+1)","v":""},{"$f":"IF(Compliance_Options!C64=\"\",\"\",Compliance_Options!C64)","v":""},"",{"$f":"IF(COUNTIF(G$2:G42,G42)=1,G42,\"\")","v":""},null,{"$f":"+IF(N42=\"\",\"\",MAX(K$1:K41)+1)","v":""},{"$f":"IF(Deviation_w_Addon_CPMS1!D64=\"\",\"\",Deviation_w_Addon_CPMS1!D64)","v":""},"",{"$f":"IF(COUNTIF(L$2:L42,L42)=1,L42,\"\")","v":""},null,"Organic HAP Emissions No More Than 0.0003 kg/kg Finishing Material",null,{"$f":"+IF(W42=\"\",\"\",MAX(R$1:R41)+1)","v":""},{"$f":"IF(Compliance_Options!B64=\"\",\"\",Compliance_Options!B64)","v":""},{"$f":"IF(Compliance_Options!C64=\"\",\"\",Compliance_Options!C64)","v":""},{"$f":"IF(Compliance_Options!E64=\"\",\"\",Compliance_Options!E64)","v":""},{"$f":"S42&T42&Table29[[#This Row],[Column22]]","v":""},{"$f":"IF(COUNTIF(V$2:V42,V42)=1,V42,\"\")","v":""},"","","","","","",null,"OR"]
[null,null,null,null,null,{"$f":"+IF(I43=\"\",\"\",MAX(F$1:F42)+1)","v":""},{"$f":"IF(Compliance_Options!C65=\"\",\"\",Compliance_Options!C65)","v":""},"",{"$f":"IF(COUNTIF(G$2:G43,G43)=1,G43,\"\")","v":""},null,{"$f":"+IF(N43=\"\",\"\",MAX(K$1:K42)+1)","v":""},{"$f":"IF(Deviation_w_Addon_CPMS1!D65=\"\",\"\",Deviation_w_Addon_CPMS1!D65)","v":""},"",{"$f":"IF(COUNTIF(L$2:L43,L43)=1,L43,\"\")","v":""},null,"Organic HAP Emissions No More Than Zero kg/kg Slashing Material",null,{"$f":"+IF(W43=\"\",\"\",MAX(R$1:R42)+1)","v":""},{"$f":"IF(Compliance_Options!B65=\"\",\"\",Compliance_Options!B65)","v":""},{"$f":"IF(Compliance_Options!C65=\"\",\"\",Compliance_Options!C65)","v":""},{"$f":"IF(Compliance_Options!E65=\"\",\"\",Compliance_Options!E65)","v":""},{"$f":"S43&T43&Table29[[#This Row],[Column22]]","v":""},{"$f":"IF(COUNTIF(V$2:V43,V43)=1,V43,\"\")","v":""},"","","","","","",null,"PA"]
[null,null,null,null,null,{"$f":"+IF(I44=\"\",\"\",MAX(F$1:F43)+1)","v":""},{"$f":"IF(Compliance_Options!C66=\"\",\"\",Compliance_Options!C66)","v":""},"",{"$f":"IF(COUNTIF(G$2:G44,G44)=1,G44,\"\")","v":""},null,{"$f":"+IF(N44=\"\",\"\",MAX(K$1:K43)+1)","v":""},{"$f":"IF(Deviation_w_Addon_CPMS1!D66=\"\",\"\",Deviation_w_Addon_CPMS1!D66)","v":""},"",{"$f":"IF(COUNTIF(L$2:L44,L44)=1,L44,\"\")","v":""},null,null,null,{"$f":"+IF(W44=\"\",\"\",MAX(R$1:R43)+1)","v":""},{"$f":"IF(Compliance_Options!B66=\"\",\"\",Compliance_Options!B66)","v":""},{"$f":"IF(Compliance_Options!C66=\"\",\"\",Compliance_Options!C66)","v":""},{"$f":"IF(Compliance_Options!E66=\"\",\"\",Compliance_Options!E66)","v":""},{"$f":"S44&T44&Table29[[#This Row],[Column22]]","v":""},{"$f":"IF(COUNTIF(V$2:V44,V44)=1,V44,\"\")","v":""},"","","","","","",null,"PR"]
[null,null,null,null,null,{"$f":"+IF(I45=\"\",\"\",MAX(F$1:F44)+1)","v":""},{"$f":"IF(Compliance_Options!C67=\"\",\"\",Compliance_Options!C67)","v":""},"",{"$f":"IF(COUNTIF(G$2:G45,G45)=1,G45,\"\")","v":""},null,{"$f":"+IF(N45=\"\",\"\",MAX(K$1:K44)+1)","v":""},{"$f":"IF(Deviation_w_Addon_CPMS1!D67=\"\",\"\",Deviation_w_Addon_CPMS1!D67)","v":""},"",{"$f":"IF(COUNTIF(L$2:L45,L45)=1,L45,\"\")","v":""},null,"CMSCauseList",null,{"$f":"+IF(W45=\"\",\"\",MAX(R$1:R44)+1)","v":""},{"$f":"IF(Compliance_Options!B67=\"\",\"\",Compliance_Options!B67)","v":""},{"$f":"IF(Compliance_Options!C67=\"\",\"\",Compliance_Options!C67)","v":""},{"$f":"IF(Compliance_Options!E67=\"\",\"\",Compliance_Options!E67)","v":""},{"$f":"S45&T45&Table29[[#This Row],[Column22]]","v":""},{"$f":"IF(COUNTIF(V$2:V45,V45)=1,V45,\"\")","v":""},"","","","","","",null,"RI"]
[null,null,null,null,null,{"$f":"+IF(I46=\"\",\"\",MAX(F$1:F45)+1)","v":""},{"$f":"IF(Compliance_Options!C68=\"\",\"\",Compliance_Options!C68)","v":""},"",{"$f":"IF(COUNTIF(G$2:G46,G46)=1,G46,\"\")","v":""},null,{"$f":"+IF(N46=\"\",\"\",MAX(K$1:K45)+1)","v":""},{"$f":"IF(Deviation_w_Addon_CPMS1!D68=\"\",\"\",Deviation_w_Addon_CPMS1!D68)","v":""},"",{"$f":"IF(COUNTIF(L$2:L46,L46)=1,L46,\"\")","v":""},null,"Monitoring Equipment Malfunctions",null,{"$f":"+IF(W46=\"\",\"\",MAX(R$1:R45)+1)","v":""},{"$f":"IF(Compliance_Options!B68=\"\",\"\",Compliance_Options!B68)","v":""},{"$f":"IF(Compliance_Options!C68=\"\",\"\",Compliance_Options!C68)","v":""},{"$f":"IF(Compliance_Options!E68=\"\",\"\",Compliance_Options!E68)","v":""},{"$f":"S46&T46&Table29[[#This Row],[Column22]]","v":""},{"$f":"IF(COUNTIF(V$2:V46,V46)=1,V46,\"\")","v":""},"","","","","","",null,"SC"]
[null,null,null,null,null,{"$f":"+IF(I47=\"\",\"\",MAX(F$1:F46)+1)","v":""},{"$f":"IF(Compliance_Options!C69=\"\",\"\",Compliance_Options!C69)","v":""},"",{"$f":"IF(COUNTIF(G$2:G47,G47)=1,G47,\"\")","v":""},null,{"$f":"+IF(N47=\"\",\"\",MAX(K$1:K46)+1)","v":""},{"$f":"IF(Deviation_w_Addon_CPMS1!D69=\"\",\"\",Deviation_w_Addon_CPMS1!D69)","v":""},"",{"$f":"IF(COUNTIF(L$2:L47,L47)=1,L47,\"\")","v":""},null,"Nonmonitoring Equipment Malfunctions",null,{"$f":"+IF(W47=\"\",\"\",MAX(R$1:R46)+1)","v":""},{"$f":"IF(Compliance_Options!B69=\"\",\"\",Compliance_Options!B69)","v":""},{"$f":"IF(Compliance_Options!C69=\"\",\"\",Compliance_Options!C69)","v":""},{"$f":"IF(Compliance_Options!E69=\"\",\"\",Compliance_Options!E69)","v":""},{"$f":"S47&T47&Table29[[#This Row],[Column22]]","v":""},{"$f":"IF(COUNTIF(V$2:V47,V47)=1,V47,\"\")","v":""},"","","","","","",null,"SD"]
[null,null,null,null,null,{"$f":"+IF(I48=\"\",\"\",MAX(F$1:F47)+1)","v":""},{"$f":"IF(Compliance_Options!C70=\"\",\"\",Compliance_Options!C70)","v":""},"",{"$f":"IF(COUNTIF(G$2:G48,G48)=1,G48,\"\")","v":""},null,{"$f":"+IF(N48=\"\",\"\",MAX(K$1:K47)+1)","v":""},{"$f":"IF(Deviation_w_Addon_CPMS1!D70=\"\",\"\",Deviation_w_Addon_CPMS1!D70)","v":""},"",{"$f":"IF(COUNTIF(L$2:L48,L48)=1,L48,\"\")","v":""},null,"Quality Assurance/Quality Control Calibrations",null,{"$f":"+IF(W48=\"\",\"\",MAX(R$1:R47)+1)","v":""},{"$f":"IF(Compliance_Options!B70=\"\",\"\",Compliance_Options!B70)","v":""},{"$f":"IF(Compliance_Options!C70=\"\",\"\",Compliance_Options!C70)","v":""},{"$f":"IF(Compliance_Options!E70=\"\",\"\",Compliance_Options!E70)","v":""},{"$f":"S48&T48&Table29[[#This Row],[Column22]]","v":""},{"$f":"IF(COUNTIF(V$2:V48,V48)=1,V48,\"\")","v":""},"","","","","","",null,"TN"]
[null,null,null,null,null,{"$f":"+IF(I49=\"\",\"\",MAX(F$1:F48)+1)","v":""},{"$f":"IF(Compliance_Options!C71=\"\",\"\",Compliance_Options!C71)","v":""},"",{"$f":"IF(COUNTIF(G$2:G49,G49)=1,G49,\"\")","v":""},null,{"$f":"+IF(N49=\"\",\"\",MAX(K$1:K48)+1)","v":""},{"$f":"IF(Deviation_w_Addon_CPMS1!D71=\"\",\"\",Deviation_w_Addon_CPMS1!D71)","v":""},"",{"$f":"IF(COUNTIF(L$2:L49,L49)=1,L49,\"\")","v":""},null,"Other Known Causes",null,{"$f":"+IF(W49=\"\",\"\",MAX(R$1:R48)+1)","v":""},{"$f":"IF(Compliance_Options!B71=\"\",\"\",Compliance_Options!B71)","v":""},{"$f":"IF(Compliance_Options!C71=\"\",\"\",Compliance_Options!C71)","v":""},{"$f":"IF(Compliance_Options!E71=\"\",\"\",Compliance_Options!E71)","v":""},{"$f":"S49&T49&Table29[[#This Row],[Column22]]","v":""},{"$f":"IF(COUNTIF(V$2:V49,V49)=1,V49,\"\")","v":""},"","","","","","",null,"TX"]
[null,null,null,null,null,{"$f":"+IF(I50=\"\",\"\",MAX(F$1:F49)+1)","v":""},{"$f":"IF(Compliance_Options!C72=\"\",\"\",Compliance_Options!C72)","v":""},"",{"$f":"IF(COUNTIF(G$2:G50,G50)=1,G50,\"\")","v":""},null,{"$f":"+IF(N50=\"\",\"\",MAX(K$1:K49)+1)","v":""},{"$f":"IF(Deviation_w_Addon_CPMS1!D72=\"\",\"\",Deviation_w_Addon_CPMS1!D72)","v":""},"",{"$f":"IF(COUNTIF(L$2:L50,L50)=1,L50,\"\")","v":""},null,"Other Unknown Causes",null,{"$f":"+IF(W50=\"\",\"\",MAX(R$1:R49)+1)","v":""},{"$f":"IF(Compliance_Options!B72=\"\",\"\",Compliance_Options!B72)","v":""},{"$f":"IF(Compliance_Options!C72=\"\",\"\",Compliance_Options!C72)","v":""},{"$f":"IF(Compliance_Options!E72=\"\",\"\",Compliance_Options!E72)","v":""},{"$f":"S50&T50&Table29[[#This Row],[Column22]]","v":""},{"$f":"IF(COUNTIF(V$2:V50,V50)=1,V50,\"\")","v":""},"","","","","","",null,"UT"]
[null,null,null,null,null,{"$f":"+IF(I51=\"\",\"\",MAX(F$1:F50)+1)","v":""},{"$f":"IF(Compliance_Options!C73=\"\",\"\",Compliance_Options!C73)","v":""},"",{"$f":"IF(COUNTIF(G$2:G51,G51)=1,G51,\"\")","v":""},null,{"$f":"+IF(N51=\"\",\"\",MAX(K$1:K50)+1)","v":""},{"$f":"IF(Deviation_w_Addon_CPMS1!D73=\"\",\"\",Deviation_w_Addon_CPMS1!D73)","v":""},"",{"$f":"IF(COUNTIF(L$2:L51,L51)=1,L51,\"\")","v":""},null,null,null,{"$f":"+IF(W51=\"\",\"\",MAX(R$1:R50)+1)","v":""},{"$f":"IF(Compliance_Options!B73=\"\",\"\",Compliance_Options!B73)","v":""},{"$f":"IF(Compliance_Options!C73=\"\",\"\",Compliance_Options!C73)","v":""},{"$f":"IF(Compliance_Options!E73=\"\",\"\",Compliance_Options!E73)","v":""},{"$f":"S51&T51&Table29[[#This Row],[Column22]]","v":""},{"$f":"IF(COUNTIF(V$2:V51,V51)=1,V51,\"\")","v":""},"","","","","","",null,"VA"]
[null,null,null,null,null,{"$f":"+IF(I52=\"\",\"\",MAX(F$1:F51)+1)","v":""},{"$f":"IF(Compliance_Options!C74=\"\",\"\",Compliance_Options!C74)","v":""},"",{"$f":"IF(COUNTIF(G$2:G52,G52)=1,G52,\"\")","v":""},null,{"$f":"+IF(N52=\"\",\"\",MAX(K$1:K51)+1)","v":""},{"$f":"IF(Deviation_w_Addon_CPMS1!D74=\"\",\"\",Deviation_w_Addon_CPMS1!D74)","v":""},"",{"$f":"IF(COUNTIF(L$2:L52,L52)=1,L52,\"\")","v":""},null,null,null,{"$f":"+IF(W52=\"\",\"\",MAX(R$1:R51)+1)","v":""},{"$f":"IF(Compliance_Options!B74=\"\",\"\",Compliance_Options!B74)","v":""},{"$f":"IF(Compliance_Options!C74=\"\",\"\",Compliance_Options!C74)","v":""},{"$f":"IF(Compliance_Options!E74=\"\",\"\",Compliance_Options!E74)","v":""},{"$f":"S52&T52&Table29[[#This Row],[Column22]]","v":""},{"$f":"IF(COUNTIF(V$2:V52,V52)=1,V52,\"\")","v":""},"","","","","","",null,"VI"]
[null,null,null,null,null,{"$f":"+IF(I53=\"\",\"\",MAX(F$1:F52)+1)","v":""},{"$f":"IF(Compliance_Options!C75=\"\",\"\",Compliance_Options!C75)","v":""},"",{"$f":"IF(COUNTIF(G$2:G53,G53)=1,G53,\"\")","v":""},null,{"$f":"+IF(N53=\"\",\"\",MAX(K$1:K52)+1)","v":""},{"$f":"IF(Deviation_w_Addon_CPMS1!D75=\"\",\"\",Deviation_w_Addon_CPMS1!D75)","v":""},"",{"$f":"IF(COUNTIF(L$2:L53,L53)=1,L53,\"\")","v":""},null,null,null,{"$f":"+IF(W53=\"\",\"\",MAX(R$1:R52)+1)","v":""},{"$f":"IF(Compliance_Options!B75=\"\",\"\",Compliance_Options!B75)","v":""},{"$f":"IF(Compliance_Options!C75=\"\",\"\",Compliance_Options!C75)","v":""},{"$f":"IF(Compliance_Options!E75=\"\",\"\",Compliance_Options!E75)","v":""},{"$f":"S53&T53&Table29[[#This Row],[Column22]]","v":""},{"$f":"IF(COUNTIF(V$2:V53,V53)=1,V53,\"\")","v":""},"","","","","","",null,"VT"]
[null,null,null,null,null,{"$f":"+IF(I54=\"\",\"\",MAX(F$1:F53)+1)","v":""},{"$f":"IF(Compliance_Options!C76=\"\",\"\",Compliance_Options!C76)","v":""},"",{"$f":"IF(COUNTIF(G$2:G54,G54)=1,G54,\"\")","v":""},null,{"$f":"+IF(N54=\"\",\"\",MAX(K$1:K53)+1)","v":""},{"$f":"IF(Deviation_w_Addon_CPMS1!D76=\"\",\"\",Deviation_w_Addon_CPMS1!D76)","v":""},"",{"$f":"IF(COUNTIF(L$2:L54,L54)=1,L54,\"\")","v":""},null,null,null,{"$f":"+IF(W54=\"\",\"\",MAX(R$1:R53)+1)","v":""},{"$f":"IF(Compliance_Options!B76=\"\",\"\",Compliance_Options!B76)","v":""},{"$f":"IF(Compliance_Options!C76=\"\",\"\",Compliance_Options!C76)","v":""},{"$f":"IF(Compliance_Options!E76=\"\",\"\",Compliance_Options!E76)","v":""},{"$f":"S54&T54&Table29[[#This Row],[Column22]]","v":""},{"$f":"IF(COUNTIF(V$2:V54,V54)=1,V54,\"\")","v":""},"","","","","","",null,"WA"]
[null,null,null,null,null,{"$f":"+IF(I55=\"\",\"\",MAX(F$1:F54)+1)","v":""},{"$f":"IF(Compliance_Options!C77=\"\",\"\",Compliance_Options!C77)","v":""},"",{"$f":"IF(COUNTIF(G$2:G55,G55)=1,G55,\"\")","v":""},null,{"$f":"+IF(N55=\"\",\"\",MAX(K$1:K54)+1)","v":""},{"$f":"IF(Deviation_w_Addon_CPMS1!D77=\"\",\"\",Deviation_w_Addon_CPMS1!D77)","v":""},"",{"$f":"IF(COUNTIF(L$2:L55,L55)=1,L55,\"\")","v":""},null,null,null,{"$f":"+IF(W55=\"\",\"\",MAX(R$1:R54)+1)","v":""},{"$f":"IF(Compliance_Options!B77=\"\",\"\",Compliance_Options!B77)","v":""},{"$f":"IF(Compliance_Options!C77=\"\",\"\",Compliance_Options!C77)","v":""},{"$f":"IF(Compliance_Options!E77=\"\",\"\",Compliance_Options!E77)","v":""},{"$f":"S55&T55&Table29[[#This Row],[Column22]]","v":""},{"$f":"IF(COUNTIF(V$2:V55,V55)=1,V55,\"\")","v":""},"","","","","","",null,"WI"]
[null,null,null,null,null,{"$f":"+IF(I56=\"\",\"\",MAX(F$1:F55)+1)","v":""},{"$f":"IF(Compliance_Options!C78=\"\",\"\",Compliance_Options!C78)","v":""},"",{"$f":"IF(COUNTIF(G$2:G56,G56)=1,G56,\"\")","v":""},null,{"$f":"+IF(N56=\"\",\"\",MAX(K$1:K55)+1)","v":""},{"$f":"IF(Deviation_w_Addon_CPMS1!D78=\"\",\"\",Deviation_w_Addon_CPMS1!D78)","v":""},"",{"$f":"IF(COUNTIF(L$2:L56,L56)=1,L56,\"\")","v":""},null,null,null,{"$f":"+IF(W56=\"\",\"\",MAX(R$1:R55)+1)","v":""},{"$f":"IF(Compliance_Options!B78=\"\",\"\",Compliance_Options!B78)","v":""},{"$f":"IF(Compliance_Options!C78=\"\",\"\",Compliance_Options!C78)","v":""},{"$f":"IF(Compliance_Options!E78=\"\",\"\",Compliance_Options!E78)","v":""},{"$f":"S56&T56&Table29[[#This Row],[Column22]]","v":""},{"$f":"IF(COUNTIF(V$2:V56,V56)=1,V56,\"\")","v":""},"","","","","","",null,"WV"]
[null,null,null,null,null,{"$f":"+IF(I57=\"\",\"\",MAX(F$1:F56)+1)","v":""},{"$f":"IF(Compliance_Options!C79=\"\",\"\",Compliance_Options!C79)","v":""},"",{"$f":"IF(COUNTIF(G$2:G57,G57)=1,G57,\"\")","v":""},null,{"$f":"+IF(N57=\"\",\"\",MAX(K$1:K56)+1)","v":""},{"$f":"IF(Deviation_w_Addon_CPMS1!D79=\"\",\"\",Deviation_w_Addon_CPMS1!D79)","v":""},"",{"$f":"IF(COUNTIF(L$2:L57,L57)=1,L57,\"\")","v":""},null,null,null,{"$f":"+IF(W57=\"\",\"\",MAX(R$1:R56)+1)","v":""},{"$f":"IF(Compliance_Options!B79=\"\",\"\",Compliance_Options!B79)","v":""},{"$f":"IF(Compliance_Options!C79=\"\",\"\",Compliance_Options!C79)","v":""},{"$f":"IF(Compliance_Options!E79=\"\",\"\",Compliance_Options!E79)","v":""},{"$f":"S57&T57&Table29[[#This Row],[Column22]]","v":""},{"$f":"IF(COUNTIF(V$2:V57,V57)=1,V57,\"\")","v":""},"","","","","","",null,"WY"]
[null,null,null,null,null,{"$f":"+IF(I58=\"\",\"\",MAX(F$1:F57)+1)","v":""},{"$f":"IF(Compliance_Options!C80=\"\",\"\",Compliance_Options!C80)","v":""},"",{"$f":"IF(COUNTIF(G$2:G58,G58)=1,G58,\"\")","v":""},null,{"$f":"+IF(N58=\"\",\"\",MAX(K$1:K57)+1)","v":""},{"$f":"IF(Deviation_w_Addon_CPMS1!D80=\"\",\"\",Deviation_w_Addon_CPMS1!D80)","v":""},"",{"$f":"IF(COUNTIF(L$2:L58,L58)=1,L58,\"\")","v":""},null,null,null,{"$f":"+IF(W58=\"\",\"\",MAX(R$1:R57)+1)","v":""},{"$f":"IF(Compliance_Options!B80=\"\",\"\",Compliance_Options!B80)","v":""},{"$f":"IF(Compliance_Options!C80=\"\",\"\",Compliance_Options!C80)","v":""},{"$f":"IF(Compliance_Options!E80=\"\",\"\",Compliance_Options!E80)","v":""},{"$f":"S58&T58&Table29[[#This Row],[Column22]]","v":""},{"$f":"IF(COUNTIF(V$2:V58,V58)=1,V58,\"\")","v":""},"","","","","",""]
[null,null,null,null,null,{"$f":"+IF(I59=\"\",\"\",MAX(F$1:F58)+1)","v":""},{"$f":"IF(Compliance_Options!C81=\"\",\"\",Compliance_Options!C81)","v":""},"",{"$f":"IF(COUNTIF(G$2:G59,G59)=1,G59,\"\")","v":""},null,{"$f":"+IF(N59=\"\",\"\",MAX(K$1:K58)+1)","v":""},{"$f":"IF(Deviation_w_Addon_CPMS1!D81=\"\",\"\",Deviation_w_Addon_CPMS1!D81)","v":""},"",{"$f":"IF(COUNTIF(L$2:L59,L59)=1,L59,\"\")","v":""},null,null,null,{"$f":"+IF(W59=\"\",\"\",MAX(R$1:R58)+1)","v":""},{"$f":"IF(Compliance_Options!B81=\"\",\"\",Compliance_Options!B81)","v":""},{"$f":"IF(Compliance_Options!C81=\"\",\"\",Compliance_Options!C81)","v":""},{"$f":"IF(Compliance_Options!E81=\"\",\"\",Compliance_Options!E81)","v":""},{"$f":"S59&T59&Table29[[#This Row],[Column22]]","v":""},{"$f":"IF(COUNTIF(V$2:V59,V59)=1,V59,\"\")","v":""},"","","","","",""]
[null,null,null,null,null,{"$f":"+IF(I60=\"\",\"\",MAX(F$1:F59)+1)","v":""},{"$f":"IF(Compliance_Options!C82=\"\",\"\",Compliance_Options!C82)","v":""},"",{"$f":"IF(COUNTIF(G$2:G60,G60)=1,G60,\"\")","v":""},null,{"$f":"+IF(N60=\"\",\"\",MAX(K$1:K59)+1)","v":""},{"$f":"IF(Deviation_w_Addon_CPMS1!D82=\"\",\"\",Deviation_w_Addon_CPMS1!D82)","v":""},"",{"$f":"IF(COUNTIF(L$2:L60,L60)=1,L60,\"\")","v":""},null,null,null,{"$f":"+IF(W60=\"\",\"\",MAX(R$1:R59)+1)","v":""},{"$f":"IF(Compliance_Options!B82=\"\",\"\",Compliance_Options!B82)","v":""},{"$f":"IF(Compliance_Options!C82=\"\",\"\",Compliance_Options!C82)","v":""},{"$f":"IF(Compliance_Options!E82=\"\",\"\",Compliance_Options!E82)","v":""},{"$f":"S60&T60&Table29[[#This Row],[Column22]]","v":""},{"$f":"IF(COUNTIF(V$2:V60,V60)=1,V60,\"\")","v":""},"","","","","",""]
[null,null,null,null,null,{"$f":"+IF(I61=\"\",\"\",MAX(F$1:F60)+1)","v":""},{"$f":"IF(Compliance_Options!C83=\"\",\"\",Compliance_Options!C83)","v":""},"",{"$f":"IF(COUNTIF(G$2:G61,G61)=1,G61,\"\")","v":""},null,{"$f":"+IF(N61=\"\",\"\",MAX(K$1:K60)+1)","v":""},{"$f":"IF(Deviation_w_Addon_CPMS1!D83=\"\",\"\",Deviation_w_Addon_CPMS1!D83)","v":""},"",{"$f":"IF(COUNTIF(L$2:L61,L61)=1,L61,\"\")","v":""},null,null,null,{"$f":"+IF(W61=\"\",\"\",MAX(R$1:R60)+1)","v":""},{"$f":"IF(Compliance_Options!B83=\"\",\"\",Compliance_Options!B83)","v":""},{"$f":"IF(Compliance_Options!C83=\"\",\"\",Compliance_Options!C83)","v":""},{"$f":"IF(Compliance_Options!E83=\"\",\"\",Compliance_Options!E83)","v":""},{"$f":"S61&T61&Table29[[#This Row],[Column22]]","v":""},{"$f":"IF(COUNTIF(V$2:V61,V61)=1,V61,\"\")","v":""},"","","","","",""]
[null,null,null,null,null,{"$f":"+IF(I62=\"\",\"\",MAX(F$1:F61)+1)","v":""},{"$f":"IF(Compliance_Options!C84=\"\",\"\",Compliance_Options!C84)","v":""},"",{"$f":"IF(COUNTIF(G$2:G62,G62)=1,G62,\"\")","v":""},null,{"$f":"+IF(N62=\"\",\"\",MAX(K$1:K61)+1)","v":""},{"$f":"IF(Deviation_w_Addon_CPMS1!D84=\"\",\"\",Deviation_w_Addon_CPMS1!D84)","v":""},"",{"$f":"IF(COUNTIF(L$2:L62,L62)=1,L62,\"\")","v":""},null,null,null,{"$f":"+IF(W62=\"\",\"\",MAX(R$1:R61)+1)","v":""},{"$f":"IF(Compliance_Options!B84=\"\",\"\",Compliance_Options!B84)","v":""},{"$f":"IF(Compliance_Options!C84=\"\",\"\",Compliance_Options!C84)","v":""},{"$f":"IF(Compliance_Options!E84=\"\",\"\",Compliance_Options!E84)","v":""},{"$f":"S62&T62&Table29[[#This Row],[Column22]]","v":""},{"$f":"IF(COUNTIF(V$2:V62,V62)=1,V62,\"\")","v":""},"","","","","",""]
[null,null,null,null,null,{"$f":"+IF(I63=\"\",\"\",MAX(F$1:F62)+1)","v":""},{"$f":"IF(Compliance_Options!C85=\"\",\"\",Compliance_Options!C85)","v":""},"",{"$f":"IF(COUNTIF(G$2:G63,G63)=1,G63,\"\")","v":""},null,{"$f":"+IF(N63=\"\",\"\",MAX(K$1:K62)+1)","v":""},{"$f":"IF(Deviation_w_Addon_CPMS1!D85=\"\",\"\",Deviation_w_Addon_CPMS1!D85)","v":""},"",{"$f":"IF(COUNTIF(L$2:L63,L63)=1,L63,\"\")","v":""},null,null,null,{"$f":"+IF(W63=\"\",\"\",MAX(R$1:R62)+1)","v":""},{"$f":"IF(Compliance_Options!B85=\"\",\"\",Compliance_Options!B85)","v":""},{"$f":"IF(Compliance_Options!C85=\"\",\"\",Compliance_Options!C85)","v":""},{"$f":"IF(Compliance_Options!E85=\"\",\"\",Compliance_Options!E85)","v":""},{"$f":"S63&T63&Table29[[#This Row],[Column22]]","v":""},{"$f":"IF(COUNTIF(V$2:V63,V63)=1,V63,\"\")","v":""},"","","","","",""]
[null,null,null,null,null,{"$f":"+IF(I64=\"\",\"\",MAX(F$1:F63)+1)","v":""},{"$f":"IF(Compliance_Options!C86=\"\",\"\",Compliance_Options!C86)","v":""},"",{"$f":"IF(COUNTIF(G$2:G64,G64)=1,G64,\"\")","v":""},null,{"$f":"+IF(N64=\"\",\"\",MAX(K$1:K63)+1)","v":""},{"$f":"IF(Deviation_w_Addon_CPMS1!D86=\"\",\"\",Deviation_w_Addon_CPMS1!D86)","v":""},"",{"$f":"IF(COUNTIF(L$2:L64,L64)=1,L64,\"\")","v":""},null,null,null,{"$f":"+IF(W64=\"\",\"\",MAX(R$1:R63)+1)","v":""},{"$f":"IF(Compliance_Options!B86=\"\",\"\",Compliance_Options!B86)","v":""},{"$f":"IF(Compliance_Options!C86=\"\",\"\",Compliance_Options!C86)","v":""},{"$f":"IF(Compliance_Options!E86=\"\",\"\",Compliance_Options!E86)","v":""},{"$f":"S64&T64&Table29[[#This Row],[Column22]]","v":""},{"$f":"IF(COUNTIF(V$2:V64,V64)=1,V64,\"\")","v":""},"","","","","",""]
[null,null,null,null,null,{"$f":"+IF(I65=\"\",\"\",MAX(F$1:F64)+1)","v":""},{"$f":"IF(Compliance_Options!C87=\"\",\"\",Compliance_Options!C87)","v":""},"",{"$f":"IF(COUNTIF(G$2:G65,G65)=1,G65,\"\")","v":""},null,{"$f":"+IF(N65=\"\",\"\",MAX(K$1:K64)+1)","v":""},{"$f":"IF(Deviation_w_Addon_CPMS1!D87=\"\",\"\",Deviation_w_Addon_CPMS1!D87)","v":""},"",{"$f":"IF(COUNTIF(L$2:L65,L65)=1,L65,\"\")","v":""},null,null,null,{"$f":"+IF(W65=\"\",\"\",MAX(R$1:R64)+1)","v":""},{"$f":"IF(Compliance_Options!B87=\"\",\"\",Compliance_Options!B87)","v":""},{"$f":"IF(Compliance_Options!C87=\"\",\"\",Compliance_Options!C87)","v":""},{"$f":"IF(Compliance_Options!E87=\"\",\"\",Compliance_Options!E87)","v":""},{"$f":"S65&T65&Table29[[#This Row],[Column22]]","v":""},{"$f":"IF(COUNTIF(V$2:V65,V65)=1,V65,\"\")","v":""},"","","","","",""]
[null,null,null,null,null,{"$f":"+IF(I66=\"\",\"\",MAX(F$1:F65)+1)","v":""},{"$f":"IF(Compliance_Options!C88=\"\",\"\",Compliance_Options!C88)","v":""},"",{"$f":"IF(COUNTIF(G$2:G66,G66)=1,G66,\"\")","v":""},null,{"$f":"+IF(N66=\"\",\"\",MAX(K$1:K65)+1)","v":""},{"$f":"IF(Deviation_w_Addon_CPMS1!D88=\"\",\"\",Deviation_w_Addon_CPMS1!D88)","v":""},{"$f":"+IFERROR(INDEX($L$2:$L$501,MATCH(ROW()-ROW($M$1),$K$2:$K$501,0)),\"\")","v":""},{"$f":"IF(COUNTIF(L$2:L66,L66)=1,L66,\"\")","v":""},null,null,null,{"$f":"+IF(W66=\"\",\"\",MAX(R$1:R65)+1)","v":""},{"$f":"IF(Compliance_Options!B88=\"\",\"\",Compliance_Options!B88)","v":""},{"$f":"IF(Compliance_Options!C88=\"\",\"\",Compliance_Options!C88)","v":""},{"$f":"IF(Compliance_Options!E88=\"\",\"\",Compliance_Options!E88)","v":""},{"$f":"S66&T66&Table29[[#This Row],[Column22]]","v":""},{"$f":"IF(COUNTIF(V$2:V66,V66)=1,V66,\"\")","v":""},"","","","","",{"$f":"IFERROR(INDEX($Z$2:$Z$78,MATCH(ROW()-ROW($AA$1),$R$2:$R$78,0)),\"\")","v":""}]
[null,null,null,null,null,{"$f":"+IF(I67=\"\",\"\",MAX(F$1:F66)+1)","v":""},{"$f":"IF(Compliance_Options!C89=\"\",\"\",Compliance_Options!C89)","v":""},{"$f":"+IFERROR(INDEX($G$2:$G$191,MATCH(ROW()-ROW($H$1),$F$2:$F$191,0)),\"\")","v":""},{"$f":"IF(COUNTIF(G$2:G67,G67)=1,G67,\"\")","v":""},null,{"$f":"+IF(N67=\"\",\"\",MAX(K$1:K66)+1)","v":""},{"$f":"IF(Deviation_w_Addon_CPMS1!D89=\"\",\"\",Deviation_w_Addon_CPMS1!D89)","v":""},"",{"$f":"IF(COUNTIF(L$2:L67,L67)=1,L67,\"\")","v":""},null,null,null,{"$f":"+IF(W67=\"\",\"\",MAX(R$1:R66)+1)","v":""},{"$f":"IF(Compliance_Options!B89=\"\",\"\",Compliance_Options!B89)","v":""},{"$f":"IF(Compliance_Options!C89=\"\",\"\",Compliance_Options!C89)","v":""},{"$f":"IF(Compliance_Options!E89=\"\",\"\",Compliance_Options!E89)","v":""},{"$f":"S67&T67&Table29[[#This Row],[Column22]]","v":""},{"$f":"IF(COUNTIF(V$2:V67,V67)=1,V67,\"\")","v":""},{"$f":"IF(R67=\"\",\"\",S67)","v":""},{"$f":"IF(R67=\"\",\"\",T67)","v":""},{"$f":"IF(S67=\"\",\"\",U67)","v":""},{"$f":"IFERROR(INDEX($X$2:$X$78,MATCH(ROW()-ROW($AA$1),$R$2:$R$78,0)),\"\")","v":""},{"$f":"IFERROR(INDEX($Y$2:$Y$78,MATCH(ROW()-ROW($AA$1),$R$2:$R$78,0)),\"\")","v":""},""]
[null,null,null,null,null,{"$f":"+IF(I68=\"\",\"\",MAX(F$1:F67)+1)","v":""},{"$f":"IF(Compliance_Options!C90=\"\",\"\",Compliance_Options!C90)","v":""},"",{"$f":"IF(COUNTIF(G$2:G68,G68)=1,G68,\"\")","v":""},null,{"$f":"+IF(N68=\"\",\"\",MAX(K$1:K67)+1)","v":""},{"$f":"IF(Deviation_w_Addon_CPMS1!D90=\"\",\"\",Deviation_w_Addon_CPMS1!D90)","v":""},"",{"$f":"IF(COUNTIF(L$2:L68,L68)=1,L68,\"\")","v":""},null,null,null,{"$f":"+IF(W68=\"\",\"\",MAX(R$1:R67)+1)","v":""},{"$f":"IF(Compliance_Options!B90=\"\",\"\",Compliance_Options!B90)","v":""},{"$f":"IF(Compliance_Options!C90=\"\",\"\",Compliance_Options!C90)","v":""},{"$f":"IF(Compliance_Options!E90=\"\",\"\",Compliance_Options!E90)","v":""},{"$f":"S68&T68&Table29[[#This Row],[Column22]]","v":""},{"$f":"IF(COUNTIF(V$2:V68,V68)=1,V68,\"\")","v":""},"","","","","",""]
[null,null,null,null,null,{"$f":"+IF(I69=\"\",\"\",MAX(F$1:F68)+1)","v":""},{"$f":"IF(Compliance_Options!C91=\"\",\"\",Compliance_Options!C91)","v":""},"",{"$f":"IF(COUNTIF(G$2:G69,G69)=1,G69,\"\")","v":""},null,{"$f":"+IF(N69=\"\",\"\",MAX(K$1:K68)+1)","v":""},{"$f":"IF(Deviation_w_Addon_CPMS1!D91=\"\",\"\",Deviation_w_Addon_CPMS1!D91)","v":""},"",{"$f":"IF(COUNTIF(L$2:L69,L69)=1,L69,\"\")","v":""},null,null,null,{"$f":"+IF(W69=\"\",\"\",MAX(R$1:R68)+1)","v":""},{"$f":"IF(Compliance_Options!B91=\"\",\"\",Compliance_Options!B91)","v":""},{"$f":"IF(Compliance_Options!C91=\"\",\"\",Compliance_Options!C91)","v":""},{"$f":"IF(Compliance_Options!E91=\"\",\"\",Compliance_Options!E91)","v":""},{"$f":"S69&T69&Table29[[#This Row],[Column22]]","v":""},{"$f":"IF(COUNTIF(V$2:V69,V69)=1,V69,\"\")","v":""},"","","","","",""]
[null,null,null,null,null,{"$f":"+IF(I70=\"\",\"\",MAX(F$1:F69)+1)","v":""},{"$f":"IF(Compliance_Options!C92=\"\",\"\",Compliance_Options!C92)","v":""},"",{"$f":"IF(COUNTIF(G$2:G70,G70)=1,G70,\"\")","v":""},null,{"$f":"+IF(N70=\"\",\"\",MAX(K$1:K69)+1)","v":""},{"$f":"IF(Deviation_w_Addon_CPMS1!D92=\"\",\"\",Deviation_w_Addon_CPMS1!D92)","v":""},"",{"$f":"IF(COUNTIF(L$2:L70,L70)=1,L70,\"\")","v":""},null,null,null,{"$f":"+IF(W70=\"\",\"\",MAX(R$1:R69)+1)","v":""},{"$f":"IF(Compliance_Options!B92=\"\",\"\",Compliance_Options!B92)","v":""},{"$f":"IF(Compliance_Options!C92=\"\",\"\",Compliance_Options!C92)","v":""},{"$f":"IF(Compliance_Options!E92=\"\",\"\",Compliance_Options!E92)","v":""},{"$f":"S70&T70&Table29[[#This Row],[Column22]]","v":""},{"$f":"IF(COUNTIF(V$2:V70,V70)=1,V70,\"\")","v":""},"","","","","",""]
[null,null,null,null,null,{"$f":"+IF(I71=\"\",\"\",MAX(F$1:F70)+1)","v":""},{"$f":"IF(Compliance_Options!C93=\"\",\"\",Compliance_Options!C93)","v":""},"",{"$f":"IF(COUNTIF(G$2:G71,G71)=1,G71,\"\")","v":""},null,{"$f":"+IF(N71=\"\",\"\",MAX(K$1:K70)+1)","v":""},{"$f":"IF(Deviation_w_Addon_CPMS1!D93=\"\",\"\",Deviation_w_Addon_CPMS1!D93)","v":""},"",{"$f":"IF(COUNTIF(L$2:L71,L71)=1,L71,\"\")","v":""},null,null,null,{"$f":"+IF(W71=\"\",\"\",MAX(R$1:R70)+1)","v":""},{"$f":"IF(Compliance_Options!B93=\"\",\"\",Compliance_Options!B93)","v":""},{"$f":"IF(Compliance_Options!C93=\"\",\"\",Compliance_Options!C93)","v":""},{"$f":"IF(Compliance_Options!E93=\"\",\"\",Compliance_Options!E93)","v":""},{"$f":"S71&T71&Table29[[#This Row],[Column22]]","v":""},{"$f":"IF(COUNTIF(V$2:V71,V71)=1,V71,\"\")","v":""},"","","","","",""]
[null,null,null,null,null,{"$f":"+IF(I72=\"\",\"\",MAX(F$1:F71)+1)","v":""},{"$f":"IF(Compliance_Options!C94=\"\",\"\",Compliance_Options!C94)","v":""},"",{"$f":"IF(COUNTIF(G$2:G72,G72)=1,G72,\"\")","v":""},null,{"$f":"+IF(N72=\"\",\"\",MAX(K$1:K71)+1)","v":""},{"$f":"IF(Deviation_w_Addon_CPMS1!D94=\"\",\"\",Deviation_w_Addon_CPMS1!D94)","v":""},"",{"$f":"IF(COUNTIF(L$2:L72,L72)=1,L72,\"\")","v":""},null,null,null,{"$f":"+IF(W72=\"\",\"\",MAX(R$1:R71)+1)","v":""},{"$f":"IF(Compliance_Options!B94=\"\",\"\",Compliance_Options!B94)","v":""},{"$f":"IF(Compliance_Options!C94=\"\",\"\",Compliance_Options!C94)","v":""},{"$f":"IF(Compliance_Options!E94=\"\",\"\",Compliance_Options!E94)","v":""},{"$f":"S72&T72&Table29[[#This Row],[Column22]]","v":""},{"$f":"IF(COUNTIF(V$2:V72,V72)=1,V72,\"\")","v":""},"","","","","",""]
[null,null,null,null,null,{"$f":"+IF(I73=\"\",\"\",MAX(F$1:F72)+1)","v":""},{"$f":"IF(Compliance_Options!C95=\"\",\"\",Compliance_Options!C95)","v":""},"",{"$f":"IF(COUNTIF(G$2:G73,G73)=1,G73,\"\")","v":""},null,{"$f":"+IF(N73=\"\",\"\",MAX(K$1:K72)+1)","v":""},{"$f":"IF(Deviation_w_Addon_CPMS1!D95=\"\",\"\",Deviation_w_Addon_CPMS1!D95)","v":""},"",{"$f":"IF(COUNTIF(L$2:L73,L73)=1,L73,\"\")","v":""},null,null,null,{"$f":"+IF(W73=\"\",\"\",MAX(R$1:R72)+1)","v":""},{"$f":"IF(Compliance_Options!B95=\"\",\"\",Compliance_Options!B95)","v":""},{"$f":"IF(Compliance_Options!C95=\"\",\"\",Compliance_Options!C95)","v":""},{"$f":"IF(Compliance_Options!E95=\"\",\"\",Compliance_Options!E95)","v":""},{"$f":"S73&T73&Table29[[#This Row],[Column22]]","v":""},{"$f":"IF(COUNTIF(V$2:V73,V73)=1,V73,\"\")","v":""},"","","","","",""]
[null,null,null,null,null,{"$f":"+IF(I74=\"\",\"\",MAX(F$1:F73)+1)","v":""},{"$f":"IF(Compliance_Options!C96=\"\",\"\",Compliance_Options!C96)","v":""},"",{"$f":"IF(COUNTIF(G$2:G74,G74)=1,G74,\"\")","v":""},null,{"$f":"+IF(N74=\"\",\"\",MAX(K$1:K73)+1)","v":""},{"$f":"IF(Deviation_w_Addon_CPMS1!D96=\"\",\"\",Deviation_w_Addon_CPMS1!D96)","v":""},"",{"$f":"IF(COUNTIF(L$2:L74,L74)=1,L74,\"\")","v":""},null,null,null,{"$f":"+IF(W74=\"\",\"\",MAX(R$1:R73)+1)","v":""},{"$f":"IF(Compliance_Options!B96=\"\",\"\",Compliance_Options!B96)","v":""},{"$f":"IF(Compliance_Options!C96=\"\",\"\",Compliance_Options!C96)","v":""},{"$f":"IF(Compliance_Options!E96=\"\",\"\",Compliance_Options!E96)","v":""},{"$f":"S74&T74&Table29[[#This Row],[Column22]]","v":""},{"$f":"IF(COUNTIF(V$2:V74,V74)=1,V74,\"\")","v":""},"","","","","",""]
[null,null,null,null,null,{"$f":"+IF(I75=\"\",\"\",MAX(F$1:F74)+1)","v":""},{"$f":"IF(Compliance_Options!C97=\"\",\"\",Compliance_Options!C97)","v":""},"",{"$f":"IF(COUNTIF(G$2:G75,G75)=1,G75,\"\")","v":""},null,{"$f":"+IF(N75=\"\",\"\",MAX(K$1:K74)+1)","v":""},{"$f":"IF(Deviation_w_Addon_CPMS1!D97=\"\",\"\",Deviation_w_Addon_CPMS1!D97)","v":""},"",{"$f":"IF(COUNTIF(L$2:L75,L75)=1,L75,\"\")","v":""},null,null,null,{"$f":"+IF(W75=\"\",\"\",MAX(R$1:R74)+1)","v":""},{"$f":"IF(Compliance_Options!B97=\"\",\"\",Compliance_Options!B97)","v":""},{"$f":"IF(Compliance_Options!C97=\"\",\"\",Compliance_Options!C97)","v":""},{"$f":"IF(Compliance_Options!E97=\"\",\"\",Compliance_Options!E97)","v":""},{"$f":"S75&T75&Table29[[#This Row],[Column22]]","v":""},{"$f":"IF(COUNTIF(V$2:V75,V75)=1,V75,\"\")","v":""},"","","","","",""]
[null,null,null,null,null,{"$f":"+IF(I76=\"\",\"\",MAX(F$1:F75)+1)","v":""},{"$f":"IF(Compliance_Options!C98=\"\",\"\",Compliance_Options!C98)","v":""},"",{"$f":"IF(COUNTIF(G$2:G76,G76)=1,G76,\"\")","v":""},null,{"$f":"+IF(N76=\"\",\"\",MAX(K$1:K75)+1)","v":""},{"$f":"IF(Deviation_w_Addon_CPMS1!D98=\"\",\"\",Deviation_w_Addon_CPMS1!D98)","v":""},"",{"$f":"IF(COUNTIF(L$2:L76,L76)=1,L76,\"\")","v":""},null,null,null,{"$f":"+IF(W76=\"\",\"\",MAX(R$1:R75)+1)","v":""},{"$f":"IF(Compliance_Options!B98=\"\",\"\",Compliance_Options!B98)","v":""},{"$f":"IF(Compliance_Options!C98=\"\",\"\",Compliance_Options!C98)","v":""},{"$f":"IF(Compliance_Options!E98=\"\",\"\",Compliance_Options!E98)","v":""},{"$f":"S76&T76&Table29[[#This Row],[Column22]]","v":""},{"$f":"IF(COUNTIF(V$2:V76,V76)=1,V76,\"\")","v":""},{"$f":"IF(R76=\"\",\"\",S76)","v":""},{"$f":"IF(R76=\"\",\"\",T76)","v":""},"","","",""]
[null,null,null,null,null,{"$f":"+IF(I77=\"\",\"\",MAX(F$1:F76)+1)","v":""},{"$f":"IF(Compliance_Options!C99=\"\",\"\",Compliance_Options!C99)","v":""},"",{"$f":"IF(COUNTIF(G$2:G77,G77)=1,G77,\"\")","v":""},null,{"$f":"+IF(N77=\"\",\"\",MAX(K$1:K76)+1)","v":""},{"$f":"IF(Deviation_w_Addon_CPMS1!D99=\"\",\"\",Deviation_w_Addon_CPMS1!D99)","v":""},"",{"$f":"IF(COUNTIF(L$2:L77,L77)=1,L77,\"\")","v":""},null,null,null,{"$f":"+IF(W77=\"\",\"\",MAX(R$1:R76)+1)","v":""},{"$f":"IF(Compliance_Options!B99=\"\",\"\",Compliance_Options!B99)","v":""},{"$f":"IF(Compliance_Options!C99=\"\",\"\",Compliance_Options!C99)","v":""},{"$f":"IF(Compliance_Options!E99=\"\",\"\",Compliance_Options!E99)","v":""},{"$f":"S77&T77&Table29[[#This Row],[Column22]]","v":""},{"$f":"IF(COUNTIF(V$2:V77,V77)=1,V77,\"\")","v":""},"","","","","",""]
[null,null,null,null,null,{"$f":"+IF(I78=\"\",\"\",MAX(F$1:F77)+1)","v":""},{"$f":"IF(Compliance_Options!C100=\"\",\"\",Compliance_Options!C100)","v":""},"",{"$f":"IF(COUNTIF(G$2:G78,G78)=1,G78,\"\")","v":""},null,{"$f":"+IF(N78=\"\",\"\",MAX(K$1:K77)+1)","v":""},{"$f":"IF(Deviation_w_Addon_CPMS1!D100=\"\",\"\",Deviation_w_Addon_CPMS1!D100)","v":""},"",{"$f":"IF(COUNTIF(L$2:L78,L78)=1,L78,\"\")","v":""},null,null,null,{"$f":"+IF(W78=\"\",\"\",MAX(R$1:R77)+1)","v":""},{"$f":"IF(Compliance_Options!B100=\"\",\"\",Compliance_Options!B100)","v":""},{"$f":"IF(Compliance_Options!C100=\"\",\"\",Compliance_Options!C100)","v":""},{"$f":"IF(Compliance_Options!E100=\"\",\"\",Compliance_Options!E100)","v":""},{"$f":"S78&T78&Table29[[#This Row],[Column22]]","v":""},{"$f":"IF(COUNTIF(V$2:V78,V78)=1,V78,\"\")","v":""},"","","","","",""]
[null,null,null,null,null,{"$f":"+IF(I79=\"\",\"\",MAX(F$1:F78)+1)","v":""},{"$f":"IF(Compliance_Options!C101=\"\",\"\",Compliance_Options!C101)","v":""},"",{"$f":"IF(COUNTIF(G$2:G79,G79)=1,G79,\"\")","v":""},null,{"$f":"+IF(N79=\"\",\"\",MAX(K$1:K78)+1)","v":""},{"$f":"IF(Deviation_w_Addon_CPMS1!D101=\"\",\"\",Deviation_w_Addon_CPMS1!D101)","v":""},"",{"$f":"IF(COUNTIF(L$2:L79,L79)=1,L79,\"\")","v":""}]
[null,null,null,null,null,{"$f":"+IF(I80=\"\",\"\",MAX(F$1:F79)+1)","v":""},{"$f":"IF(Compliance_Options!C102=\"\",\"\",Compliance_Options!C102)","v":""},"",{"$f":"IF(COUNTIF(G$2:G80,G80)=1,G80,\"\")","v":""},null,{"$f":"+IF(N80=\"\",\"\",MAX(K$1:K79)+1)","v":""},{"$f":"IF(Deviation_w_Addon_CPMS1!D102=\"\",\"\",Deviation_w_Addon_CPMS1!D102)","v":""},"",{"$f":"IF(COUNTIF(L$2:L80,L80)=1,L80,\"\")","v":""}]
[null,null,null,null,null,{"$f":"+IF(I81=\"\",\"\",MAX(F$1:F80)+1)","v":""},{"$f":"IF(Compliance_Options!C103=\"\",\"\",Compliance_Options!C103)","v":""},"",{"$f":"IF(COUNTIF(G$2:G81,G81)=1,G81,\"\")","v":""},null,{"$f":"+IF(N81=\"\",\"\",MAX(K$1:K80)+1)","v":""},{"$f":"IF(Deviation_w_Addon_CPMS1!D103=\"\",\"\",Deviation_w_Addon_CPMS1!D103)","v":""},"",{"$f":"IF(COUNTIF(L$2:L81,L81)=1,L81,\"\")","v":""}]
[null,null,null,null,null,{"$f":"+IF(I82=\"\",\"\",MAX(F$1:F81)+1)","v":""},{"$f":"IF(Compliance_Options!C104=\"\",\"\",Compliance_Options!C104)","v":""},"",{"$f":"IF(COUNTIF(G$2:G82,G82)=1,G82,\"\")","v":""},null,{"$f":"+IF(N82=\"\",\"\",MAX(K$1:K81)+1)","v":""},{"$f":"IF(Deviation_w_Addon_CPMS1!D104=\"\",\"\",Deviation_w_Addon_CPMS1!D104)","v":""},"",{"$f":"IF(COUNTIF(L$2:L82,L82)=1,L82,\"\")","v":""}]
[null,null,null,null,null,{"$f":"+IF(I83=\"\",\"\",MAX(F$1:F82)+1)","v":""},{"$f":"IF(Compliance_Options!C105=\"\",\"\",Compliance_Options!C105)","v":""},"",{"$f":"IF(COUNTIF(G$2:G83,G83)=1,G83,\"\")","v":""},null,{"$f":"+IF(N83=\"\",\"\",MAX(K$1:K82)+1)","v":""},{"$f":"IF(Deviation_w_Addon_CPMS1!D105=\"\",\"\",Deviation_w_Addon_CPMS1!D105)","v":""},"",{"$f":"IF(COUNTIF(L$2:L83,L83)=1,L83,\"\")","v":""}]
[null,null,null,null,null,{"$f":"+IF(I84=\"\",\"\",MAX(F$1:F83)+1)","v":""},{"$f":"IF(Compliance_Options!C106=\"\",\"\",Compliance_Options!C106)","v":""},"",{"$f":"IF(COUNTIF(G$2:G84,G84)=1,G84,\"\")","v":""},null,{"$f":"+IF(N84=\"\",\"\",MAX(K$1:K83)+1)","v":""},{"$f":"IF(Deviation_w_Addon_CPMS1!D106=\"\",\"\",Deviation_w_Addon_CPMS1!D106)","v":""},"",{"$f":"IF(COUNTIF(L$2:L84,L84)=1,L84,\"\")","v":""}]
[null,null,null,null,null,{"$f":"+IF(I85=\"\",\"\",MAX(F$1:F84)+1)","v":""},{"$f":"IF(Compliance_Options!C107=\"\",\"\",Compliance_Options!C107)","v":""},"",{"$f":"IF(COUNTIF(G$2:G85,G85)=1,G85,\"\")","v":""},null,{"$f":"+IF(N85=\"\",\"\",MAX(K$1:K84)+1)","v":""},{"$f":"IF(Deviation_w_Addon_CPMS1!D107=\"\",\"\",Deviation_w_Addon_CPMS1!D107)","v":""},"",{"$f":"IF(COUNTIF(L$2:L85,L85)=1,L85,\"\")","v":""}]
[null,null,null,null,null,{"$f":"+IF(I86=\"\",\"\",MAX(F$1:F85)+1)","v":""},{"$f":"IF(Compliance_Options!C108=\"\",\"\",Compliance_Options!C108)","v":""},"",{"$f":"IF(COUNTIF(G$2:G86,G86)=1,G86,\"\")","v":""},null,{"$f":"+IF(N86=\"\",\"\",MAX(K$1:K85)+1)","v":""},{"$f":"IF(Deviation_w_Addon_CPMS1!D108=\"\",\"\",Deviation_w_Addon_CPMS1!D108)","v":""},"",{"$f":"IF(COUNTIF(L$2:L86,L86)=1,L86,\"\")","v":""}]
[null,null,null,null,null,{"$f":"+IF(I87=\"\",\"\",MAX(F$1:F86)+1)","v":""},{"$f":"IF(Compliance_Options!C109=\"\",\"\",Compliance_Options!C109)","v":""},"",{"$f":"IF(COUNTIF(G$2:G87,G87)=1,G87,\"\")","v":""},null,{"$f":"+IF(N87=\"\",\"\",MAX(K$1:K86)+1)","v":""},{"$f":"IF(Deviation_w_Addon_CPMS1!D109=\"\",\"\",Deviation_w_Addon_CPMS1!D109)","v":""},"",{"$f":"IF(COUNTIF(L$2:L87,L87)=1,L87,\"\")","v":""}]
[null,null,null,null,null,{"$f":"+IF(I88=\"\",\"\",MAX(F$1:F87)+1)","v":""},{"$f":"IF(Compliance_Options!C110=\"\",\"\",Compliance_Options!C110)","v":""},"",{"$f":"IF(COUNTIF(G$2:G88,G88)=1,G88,\"\")","v":""},null,{"$f":"+IF(N88=\"\",\"\",MAX(K$1:K87)+1)","v":""},{"$f":"IF(Deviation_w_Addon_CPMS1!D110=\"\",\"\",Deviation_w_Addon_CPMS1!D110)","v":""},"",{"$f":"IF(COUNTIF(L$2:L88,L88)=1,L88,\"\")","v":""}]
[null,null,null,null,null,{"$f":"+IF(I89=\"\",\"\",MAX(F$1:F88)+1)","v":""},{"$f":"IF(Compliance_Options!C111=\"\",\"\",Compliance_Options!C111)","v":""},"",{"$f":"IF(COUNTIF(G$2:G89,G89)=1,G89,\"\")","v":""},null,{"$f":"+IF(N89=\"\",\"\",MAX(K$1:K88)+1)","v":""},{"$f":"IF(Deviation_w_Addon_CPMS1!D111=\"\",\"\",Deviation_w_Addon_CPMS1!D111)","v":""},"",{"$f":"IF(COUNTIF(L$2:L89,L89)=1,L89,\"\")","v":""}]
[null,null,null,null,null,{"$f":"+IF(I90=\"\",\"\",MAX(F$1:F89)+1)","v":""},{"$f":"IF(Compliance_Options!C112=\"\",\"\",Compliance_Options!C112)","v":""},"",{"$f":"IF(COUNTIF(G$2:G90,G90)=1,G90,\"\")","v":""},null,{"$f":"+IF(N90=\"\",\"\",MAX(K$1:K89)+1)","v":""},{"$f":"IF(Deviation_w_Addon_CPMS1!D112=\"\",\"\",Deviation_w_Addon_CPMS1!D112)","v":""},"",{"$f":"IF(COUNTIF(L$2:L90,L90)=1,L90,\"\")","v":""}]
[null,null,null,null,null,{"$f":"+IF(I91=\"\",\"\",MAX(F$1:F90)+1)","v":""},{"$f":"IF(Compliance_Options!C113=\"\",\"\",Compliance_Options!C113)","v":""},"",{"$f":"IF(COUNTIF(G$2:G91,G91)=1,G91,\"\")","v":""},null,{"$f":"+IF(N91=\"\",\"\",MAX(K$1:K90)+1)","v":""},{"$f":"IF(Deviation_w_Addon_CPMS1!D113=\"\",\"\",Deviation_w_Addon_CPMS1!D113)","v":""},"",{"$f":"IF(COUNTIF(L$2:L91,L91)=1,L91,\"\")","v":""}]
[null,null,null,null,null,{"$f":"+IF(I92=\"\",\"\",MAX(F$1:F91)+1)","v":""},{"$f":"IF(Compliance_Options!C114=\"\",\"\",Compliance_Options!C114)","v":""},"",{"$f":"IF(COUNTIF(G$2:G92,G92)=1,G92,\"\")","v":""},null,{"$f":"+IF(N92=\"\",\"\",MAX(K$1:K91)+1)","v":""},{"$f":"IF(Deviation_w_Addon_CPMS1!D114=\"\",\"\",Deviation_w_Addon_CPMS1!D114)","v":""},"",{"$f":"IF(COUNTIF(L$2:L92,L92)=1,L92,\"\")","v":""}]
[null,null,null,null,null,{"$f":"+IF(I93=\"\",\"\",MAX(F$1:F92)+1)","v":""},{"$f":"IF(Compliance_Options!C115=\"\",\"\",Compliance_Options!C115)","v":""},"",{"$f":"IF(COUNTIF(G$2:G93,G93)=1,G93,\"\")","v":""},null,{"$f":"+IF(N93=\"\",\"\",MAX(K$1:K92)+1)","v":""},{"$f":"IF(Deviation_w_Addon_CPMS1!D115=\"\",\"\",Deviation_w_Addon_CPMS1!D115)","v":""},"",{"$f":"IF(COUNTIF(L$2:L93,L93)=1,L93,\"\")","v":""}]
[null,null,null,null,null,{"$f":"+IF(I94=\"\",\"\",MAX(F$1:F93)+1)","v":""},{"$f":"IF(Compliance_Options!C116=\"\",\"\",Compliance_Options!C116)","v":""},"",{"$f":"IF(COUNTIF(G$2:G94,G94)=1,G94,\"\")","v":""},null,{"$f":"+IF(N94=\"\",\"\",MAX(K$1:K93)+1)","v":""},{"$f":"IF(Deviation_w_Addon_CPMS1!D116=\"\",\"\",Deviation_w_Addon_CPMS1!D116)","v":""},"",{"$f":"IF(COUNTIF(L$2:L94,L94)=1,L94,\"\")","v":""}]
[null,null,null,null,null,{"$f":"+IF(I95=\"\",\"\",MAX(F$1:F94)+1)","v":""},{"$f":"IF(Compliance_Options!C117=\"\",\"\",Compliance_Options!C117)","v":""},"",{"$f":"IF(COUNTIF(G$2:G95,G95)=1,G95,\"\")","v":""},null,{"$f":"+IF(N95=\"\",\"\",MAX(K$1:K94)+1)","v":""},{"$f":"IF(Deviation_w_Addon_CPMS1!D117=\"\",\"\",Deviation_w_Addon_CPMS1!D117)","v":""},"",{"$f":"IF(COUNTIF(L$2:L95,L95)=1,L95,\"\")","v":""}]
[null,null,null,null,null,{"$f":"+IF(I96=\"\",\"\",MAX(F$1:F95)+1)","v":""},{"$f":"IF(Compliance_Options!C118=\"\",\"\",Compliance_Options!C118)","v":""},"",{"$f":"IF(COUNTIF(G$2:G96,G96)=1,G96,\"\")","v":""},null,{"$f":"+IF(N96=\"\",\"\",MAX(K$1:K95)+1)","v":""},{"$f":"IF(Deviation_w_Addon_CPMS1!D118=\"\",\"\",Deviation_w_Addon_CPMS1!D118)","v":""},"",{"$f":"IF(COUNTIF(L$2:L96,L96)=1,L96,\"\")","v":""}]
[null,null,null,null,null,{"$f":"+IF(I97=\"\",\"\",MAX(F$1:F96)+1)","v":""},{"$f":"IF(Compliance_Options!C119=\"\",\"\",Compliance_Options!C119)","v":""},"",{"$f":"IF(COUNTIF(G$2:G97,G97)=1,G97,\"\")","v":""},null,{"$f":"+IF(N97=\"\",\"\",MAX(K$1:K96)+1)","v":""},{"$f":"IF(Deviation_w_Addon_CPMS1!D119=\"\",\"\",Deviation_w_Addon_CPMS1!D119)","v":""},"",{"$f":"IF(COUNTIF(L$2:L97,L97)=1,L97,\"\")","v":""}]
[null,null,null,null,null,{"$f":"+IF(I98=\"\",\"\",MAX(F$1:F97)+1)","v":""},{"$f":"IF(Compliance_Options!C120=\"\",\"\",Compliance_Options!C120)","v":""},"",{"$f":"IF(COUNTIF(G$2:G98,G98)=1,G98,\"\")","v":""},null,{"$f":"+IF(N98=\"\",\"\",MAX(K$1:K97)+1)","v":""},{"$f":"IF(Deviation_w_Addon_CPMS1!D120=\"\",\"\",Deviation_w_Addon_CPMS1!D120)","v":""},"",{"$f":"IF(COUNTIF(L$2:L98,L98)=1,L98,\"\")","v":""}]
[null,null,null,null,null,{"$f":"+IF(I99=\"\",\"\",MAX(F$1:F98)+1)","v":""},{"$f":"IF(Compliance_Options!C121=\"\",\"\",Compliance_Options!C121)","v":""},"",{"$f":"IF(COUNTIF(G$2:G99,G99)=1,G99,\"\")","v":""},null,{"$f":"+IF(N99=\"\",\"\",MAX(K$1:K98)+1)","v":""},{"$f":"IF(Deviation_w_Addon_CPMS1!D121=\"\",\"\",Deviation_w_Addon_CPMS1!D121)","v":""},"",{"$f":"IF(COUNTIF(L$2:L99,L99)=1,L99,\"\")","v":""}]
[null,null,null,null,null,{"$f":"+IF(I100=\"\",\"\",MAX(F$1:F99)+1)","v":""},{"$f":"IF(Compliance_Options!C122=\"\",\"\",Compliance_Options!C122)","v":""},"",{"$f":"IF(COUNTIF(G$2:G100,G100)=1,G100,\"\")","v":""},null,{"$f":"+IF(N100=\"\",\"\",MAX(K$1:K99)+1)","v":""},{"$f":"IF(Deviation_w_Addon_CPMS1!D122=\"\",\"\",Deviation_w_Addon_CPMS1!D122)","v":""},"",{"$f":"IF(COUNTIF(L$2:L100,L100)=1,L100,\"\")","v":""}]
[null,null,null,null,null,{"$f":"+IF(I101=\"\",\"\",MAX(F$1:F100)+1)","v":""},{"$f":"IF(Compliance_Options!C123=\"\",\"\",Compliance_Options!C123)","v":""},"",{"$f":"IF(COUNTIF(G$2:G101,G101)=1,G101,\"\")","v":""},null,{"$f":"+IF(N101=\"\",\"\",MAX(K$1:K100)+1)","v":""},{"$f":"IF(Deviation_w_Addon_CPMS1!D123=\"\",\"\",Deviation_w_Addon_CPMS1!D123)","v":""},"",{"$f":"IF(COUNTIF(L$2:L101,L101)=1,L101,\"\")","v":""}]
[null,null,null,null,null,null,null,null,null,null,{"$f":"+IF(N102=\"\",\"\",MAX(K$1:K101)+1)","v":""},{"$f":"IF(Deviation_w_Addon_CPMS1!D124=\"\",\"\",Deviation_w_Addon_CPMS1!D124)","v":""},"",{"$f":"IF(COUNTIF(L$2:L102,L102)=1,L102,\"\")","v":""}]
[null,null,null,null,null,null,null,null,null,null,{"$f":"+IF(N103=\"\",\"\",MAX(K$1:K102)+1)","v":""},{"$f":"IF(Deviation_w_Addon_CPMS1!D125=\"\",\"\",Deviation_w_Addon_CPMS1!D125)","v":""},"",{"$f":"IF(COUNTIF(L$2:L103,L103)=1,L103,\"\")","v":""}]
[null,null,null,null,null,null,null,null,null,null,{"$f":"+IF(N104=\"\",\"\",MAX(K$1:K103)+1)","v":""},{"$f":"IF(Deviation_w_Addon_CPMS1!D126=\"\",\"\",Deviation_w_Addon_CPMS1!D126)","v":""},"",{"$f":"IF(COUNTIF(L$2:L104,L104)=1,L104,\"\")","v":""}]
[null,null,null,null,null,null,null,null,null,null,{"$f":"+IF(N105=\"\",\"\",MAX(K$1:K104)+1)","v":""},{"$f":"IF(Deviation_w_Addon_CPMS1!D127=\"\",\"\",Deviation_w_Addon_CPMS1!D127)","v":""},"",{"$f":"IF(COUNTIF(L$2:L105,L105)=1,L105,\"\")","v":""}]
[null,null,null,null,null,null,null,null,null,null,{"$f":"+IF(N106=\"\",\"\",MAX(K$1:K105)+1)","v":""},{"$f":"IF(Deviation_w_Addon_CPMS1!D128=\"\",\"\",Deviation_w_Addon_CPMS1!D128)","v":""},"",{"$f":"IF(COUNTIF(L$2:L106,L106)=1,L106,\"\")","v":""}]
[null,null,null,null,null,null,null,null,null,null,{"$f":"+IF(N107=\"\",\"\",MAX(K$1:K106)+1)","v":""},{"$f":"IF(Deviation_w_Addon_CPMS1!D129=\"\",\"\",Deviation_w_Addon_CPMS1!D129)","v":""},"",{"$f":"IF(COUNTIF(L$2:L107,L107)=1,L107,\"\")","v":""}]
[null,null,null,null,null,null,null,null,null,null,{"$f":"+IF(N108=\"\",\"\",MAX(K$1:K107)+1)","v":""},{"$f":"IF(Deviation_w_Addon_CPMS1!D130=\"\",\"\",Deviation_w_Addon_CPMS1!D130)","v":""},"",{"$f":"IF(COUNTIF(L$2:L108,L108)=1,L108,\"\")","v":""}]
[null,null,null,null,null,null,null,null,null,null,{"$f":"+IF(N109=\"\",\"\",MAX(K$1:K108)+1)","v":""},{"$f":"IF(Deviation_w_Addon_CPMS1!D131=\"\",\"\",Deviation_w_Addon_CPMS1!D131)","v":""},"",{"$f":"IF(COUNTIF(L$2:L109,L109)=1,L109,\"\")","v":""}]
[null,null,null,null,null,null,null,null,null,null,{"$f":"+IF(N110=\"\",\"\",MAX(K$1:K109)+1)","v":""},{"$f":"IF(Deviation_w_Addon_CPMS1!D132=\"\",\"\",Deviation_w_Addon_CPMS1!D132)","v":""},"",{"$f":"IF(COUNTIF(L$2:L110,L110)=1,L110,\"\")","v":""}]
[null,null,null,null,null,null,null,null,null,null,{"$f":"+IF(N111=\"\",\"\",MAX(K$1:K110)+1)","v":""},{"$f":"IF(Deviation_w_Addon_CPMS1!D133=\"\",\"\",Deviation_w_Addon_CPMS1!D133)","v":""},"",{"$f":"IF(COUNTIF(L$2:L111,L111)=1,L111,\"\")","v":""}]
[null,null,null,null,null,null,null,null,null,null,{"$f":"+IF(N112=\"\",\"\",MAX(K$1:K111)+1)","v":""},{"$f":"IF(Deviation_w_Addon_CPMS1!D134=\"\",\"\",Deviation_w_Addon_CPMS1!D134)","v":""},"",{"$f":"IF(COUNTIF(L$2:L112,L112)=1,L112,\"\")","v":""}]
[null,null,null,null,null,null,null,null,null,null,{"$f":"+IF(N113=\"\",\"\",MAX(K$1:K112)+1)","v":""},{"$f":"IF(Deviation_w_Addon_CPMS1!D135=\"\",\"\",Deviation_w_Addon_CPMS1!D135)","v":""},"",{"$f":"IF(COUNTIF(L$2:L113,L113)=1,L113,\"\")","v":""}]
[null,null,null,null,null,null,null,null,null,null,{"$f":"+IF(N114=\"\",\"\",MAX(K$1:K113)+1)","v":""},{"$f":"IF(Deviation_w_Addon_CPMS1!D136=\"\",\"\",Deviation_w_Addon_CPMS1!D136)","v":""},"",{"$f":"IF(COUNTIF(L$2:L114,L114)=1,L114,\"\")","v":""}]
[null,null,null,null,null,null,null,null,null,null,{"$f":"+IF(N115=\"\",\"\",MAX(K$1:K114)+1)","v":""},{"$f":"IF(Deviation_w_Addon_CPMS1!D137=\"\",\"\",Deviation_w_Addon_CPMS1!D137)","v":""},"",{"$f":"IF(COUNTIF(L$2:L115,L115)=1,L115,\"\")","v":""}]
[null,null,null,null,null,null,null,null,null,null,{"$f":"+IF(N116=\"\",\"\",MAX(K$1:K115)+1)","v":""},{"$f":"IF(Deviation_w_Addon_CPMS1!D138=\"\",\"\",Deviation_w_Addon_CPMS1!D138)","v":""},"",{"$f":"IF(COUNTIF(L$2:L116,L116)=1,L116,\"\")","v":""}]
[null,null,null,null,null,null,null,null,null,null,{"$f":"+IF(N117=\"\",\"\",MAX(K$1:K116)+1)","v":""},{"$f":"IF(Deviation_w_Addon_CPMS1!D139=\"\",\"\",Deviation_w_Addon_CPMS1!D139)","v":""},"",{"$f":"IF(COUNTIF(L$2:L117,L117)=1,L117,\"\")","v":""}]
[null,null,null,null,null,null,null,null,null,null,{"$f":"+IF(N118=\"\",\"\",MAX(K$1:K117)+1)","v":""},{"$f":"IF(Deviation_w_Addon_CPMS1!D140=\"\",\"\",Deviation_w_Addon_CPMS1!D140)","v":""},"",{"$f":"IF(COUNTIF(L$2:L118,L118)=1,L118,\"\")","v":""}]
[null,null,null,null,null,null,null,null,null,null,{"$f":"+IF(N119=\"\",\"\",MAX(K$1:K118)+1)","v":""},{"$f":"IF(Deviation_w_Addon_CPMS1!D141=\"\",\"\",Deviation_w_Addon_CPMS1!D141)","v":""},"",{"$f":"IF(COUNTIF(L$2:L119,L119)=1,L119,\"\")","v":""}]
[null,null,null,null,null,null,null,null,null,null,{"$f":"+IF(N120=\"\",\"\",MAX(K$1:K119)+1)","v":""},{"$f":"IF(Deviation_w_Addon_CPMS1!D142=\"\",\"\",Deviation_w_Addon_CPMS1!D142)","v":""},"",{"$f":"IF(COUNTIF(L$2:L120,L120)=1,L120,\"\")","v":""}]
[null,null,null,null,null,null,null,null,null,null,{"$f":"+IF(N121=\"\",\"\",MAX(K$1:K120)+1)","v":""},{"$f":"IF(Deviation_w_Addon_CPMS1!D143=\"\",\"\",Deviation_w_Addon_CPMS1!D143)","v":""},"",{"$f":"IF(COUNTIF(L$2:L121,L121)=1,L121,\"\")","v":""}]
[null,null,null,null,null,null,null,null,null,null,{"$f":"+IF(N122=\"\",\"\",MAX(K$1:K121)+1)","v":""},{"$f":"IF(Deviation_w_Addon_CPMS1!D144=\"\",\"\",Deviation_w_Addon_CPMS1!D144)","v":""},"",{"$f":"IF(COUNTIF(L$2:L122,L122)=1,L122,\"\")","v":""}]
[null,null,null,null,null,null,null,null,null,null,{"$f":"+IF(N123=\"\",\"\",MAX(K$1:K122)+1)","v":""},{"$f":"IF(Deviation_w_Addon_CPMS1!D145=\"\",\"\",Deviation_w_Addon_CPMS1!D145)","v":""},"",{"$f":"IF(COUNTIF(L$2:L123,L123)=1,L123,\"\")","v":""}]
[null,null,null,null,null,null,null,null,null,null,{"$f":"+IF(N124=\"\",\"\",MAX(K$1:K123)+1)","v":""},{"$f":"IF(Deviation_w_Addon_CPMS1!D146=\"\",\"\",Deviation_w_Addon_CPMS1!D146)","v":""},"",{"$f":"IF(COUNTIF(L$2:L124,L124)=1,L124,\"\")","v":""}]
[null,null,null,null,null,null,null,null,null,null,{"$f":"+IF(N125=\"\",\"\",MAX(K$1:K124)+1)","v":""},{"$f":"IF(Deviation_w_Addon_CPMS1!D147=\"\",\"\",Deviation_w_Addon_CPMS1!D147)","v":""},"",{"$f":"IF(COUNTIF(L$2:L125,L125)=1,L125,\"\")","v":""}]
[null,null,null,null,null,null,null,null,null,null,{"$f":"+IF(N126=\"\",\"\",MAX(K$1:K125)+1)","v":""},{"$f":"IF(Deviation_w_Addon_CPMS1!D148=\"\",\"\",Deviation_w_Addon_CPMS1!D148)","v":""},"",{"$f":"IF(COUNTIF(L$2:L126,L126)=1,L126,\"\")","v":""}]
[null,null,null,null,null,null,null,null,null,null,{"$f":"+IF(N127=\"\",\"\",MAX(K$1:K126)+1)","v":""},{"$f":"IF(Deviation_w_Addon_CPMS1!D149=\"\",\"\",Deviation_w_Addon_CPMS1!D149)","v":""},"",{"$f":"IF(COUNTIF(L$2:L127,L127)=1,L127,\"\")","v":""}]
[null,null,null,null,null,null,null,null,null,null,{"$f":"+IF(N128=\"\",\"\",MAX(K$1:K127)+1)","v":""},{"$f":"IF(Deviation_w_Addon_CPMS1!D150=\"\",\"\",Deviation_w_Addon_CPMS1!D150)","v":""},"",{"$f":"IF(COUNTIF(L$2:L128,L128)=1,L128,\"\")","v":""}]
[null,null,null,null,null,null,null,null,null,null,{"$f":"+IF(N129=\"\",\"\",MAX(K$1:K128)+1)","v":""},{"$f":"IF(Deviation_w_Addon_CPMS1!D151=\"\",\"\",Deviation_w_Addon_CPMS1!D151)","v":""},"",{"$f":"IF(COUNTIF(L$2:L129,L129)=1,L129,\"\")","v":""}]
[null,null,null,null,null,null,null,null,null,null,{"$f":"+IF(N130=\"\",\"\",MAX(K$1:K129)+1)","v":""},{"$f":"IF(Deviation_w_Addon_CPMS1!D152=\"\",\"\",Deviation_w_Addon_CPMS1!D152)","v":""},{"$f":"+IFERROR(INDEX($L$2:$L$501,MATCH(ROW()-ROW($M$1),$K$2:$K$501,0)),\"\")","v":""},{"$f":"IF(COUNTIF(L$2:L130,L130)=1,L130,\"\")","v":""}]
[null,null,null,null,null,null,null,null,null,null,{"$f":"+IF(N131=\"\",\"\",MAX(K$1:K130)+1)","v":""},{"$f":"IF(Deviation_w_Addon_CPMS1!D153=\"\",\"\",Deviation_w_Addon_CPMS1!D153)","v":""},"",{"$f":"IF(COUNTIF(L$2:L131,L131)=1,L131,\"\")","v":""}]
[null,null,null,null,null,null,null,null,null,null,{"$f":"+IF(N132=\"\",\"\",MAX(K$1:K131)+1)","v":""},{"$f":"IF(Deviation_w_Addon_CPMS1!D154=\"\",\"\",Deviation_w_Addon_CPMS1!D154)","v":""},"",{"$f":"IF(COUNTIF(L$2:L132,L132)=1,L132,\"\")","v":""}]
[null,null,null,null,null,null,null,null,null,null,{"$f":"+IF(N133=\"\",\"\",MAX(K$1:K132)+1)","v":""},{"$f":"IF(Deviation_w_Addon_CPMS1!D155=\"\",\"\",Deviation_w_Addon_CPMS1!D155)","v":""},"",{"$f":"IF(COUNTIF(L$2:L133,L133)=1,L133,\"\")","v":""}]
[null,null,null,null,null,null,null,null,null,null,{"$f":"+IF(N134=\"\",\"\",MAX(K$1:K133)+1)","v":""},{"$f":"IF(Deviation_w_Addon_CPMS1!D156=\"\",\"\",Deviation_w_Addon_CPMS1!D156)","v":""},"",{"$f":"IF(COUNTIF(L$2:L134,L134)=1,L134,\"\")","v":""}]
[null,null,null,null,null,null,null,null,null,null,{"$f":"+IF(N135=\"\",\"\",MAX(K$1:K134)+1)","v":""},{"$f":"IF(Deviation_w_Addon_CPMS1!D157=\"\",\"\",Deviation_w_Addon_CPMS1!D157)","v":""},"",{"$f":"IF(COUNTIF(L$2:L135,L135)=1,L135,\"\")","v":""}]
[null,null,null,null,null,null,null,null,null,null,{"$f":"+IF(N136=\"\",\"\",MAX(K$1:K135)+1)","v":""},{"$f":"IF(Deviation_w_Addon_CPMS1!D158=\"\",\"\",Deviation_w_Addon_CPMS1!D158)","v":""},"",{"$f":"IF(COUNTIF(L$2:L136,L136)=1,L136,\"\")","v":""}]
[null,null,null,null,null,null,null,null,null,null,{"$f":"+IF(N137=\"\",\"\",MAX(K$1:K136)+1)","v":""},{"$f":"IF(Deviation_w_Addon_CPMS1!D159=\"\",\"\",Deviation_w_Addon_CPMS1!D159)","v":""},"",{"$f":"IF(COUNTIF(L$2:L137,L137)=1,L137,\"\")","v":""}]
[null,null,null,null,null,null,null,null,null,null,{"$f":"+IF(N138=\"\",\"\",MAX(K$1:K137)+1)","v":""},{"$f":"IF(Deviation_w_Addon_CPMS1!D160=\"\",\"\",Deviation_w_Addon_CPMS1!D160)","v":""},"",{"$f":"IF(COUNTIF(L$2:L138,L138)=1,L138,\"\")","v":""}]
[null,null,null,null,null,null,null,null,null,null,{"$f":"+IF(N139=\"\",\"\",MAX(K$1:K138)+1)","v":""},{"$f":"IF(Deviation_w_Addon_CPMS1!D161=\"\",\"\",Deviation_w_Addon_CPMS1!D161)","v":""},"",{"$f":"IF(COUNTIF(L$2:L139,L139)=1,L139,\"\")","v":""}]
[null,null,null,null,null,null,null,null,null,null,{"$f":"+IF(N140=\"\",\"\",MAX(K$1:K139)+1)","v":""},{"$f":"IF(Deviation_w_Addon_CPMS1!D162=\"\",\"\",Deviation_w_Addon_CPMS1!D162)","v":""},"",{"$f":"IF(COUNTIF(L$2:L140,L140)=1,L140,\"\")","v":""}]
[null,null,null,null,null,null,null,null,null,null,{"$f":"+IF(N141=\"\",\"\",MAX(K$1:K140)+1)","v":""},{"$f":"IF(Deviation_w_Addon_CPMS1!D163=\"\",\"\",Deviation_w_Addon_CPMS1!D163)","v":""},"",{"$f":"IF(COUNTIF(L$2:L141,L141)=1,L141,\"\")","v":""}]
[null,null,null,null,null,null,null,null,null,null,{"$f":"+IF(N142=\"\",\"\",MAX(K$1:K141)+1)","v":""},{"$f":"IF(Deviation_w_Addon_CPMS1!D164=\"\",\"\",Deviation_w_Addon_CPMS1!D164)","v":""},"",{"$f":"IF(COUNTIF(L$2:L142,L142)=1,L142,\"\")","v":""}]
[null,null,null,null,null,null,null,null,null,null,{"$f":"+IF(N143=\"\",\"\",MAX(K$1:K142)+1)","v":""},{"$f":"IF(Deviation_w_Addon_CPMS1!D165=\"\",\"\",Deviation_w_Addon_CPMS1!D165)","v":""},"",{"$f":"IF(COUNTIF(L$2:L143,L143)=1,L143,\"\")","v":""}]
[null,null,null,null,null,null,null,null,null,null,{"$f":"+IF(N144=\"\",\"\",MAX(K$1:K143)+1)","v":""},{"$f":"IF(Deviation_w_Addon_CPMS1!D166=\"\",\"\",Deviation_w_Addon_CPMS1!D166)","v":""},"",{"$f":"IF(COUNTIF(L$2:L144,L144)=1,L144,\"\")","v":""}]
[null,null,null,null,null,null,null,null,null,null,{"$f":"+IF(N145=\"\",\"\",MAX(K$1:K144)+1)","v":""},{"$f":"IF(Deviation_w_Addon_CPMS1!D167=\"\",\"\",Deviation_w_Addon_CPMS1!D167)","v":""},"",{"$f":"IF(COUNTIF(L$2:L145,L145)=1,L145,\"\")","v":""}]
[null,null,null,null,null,null,null,null,null,null,{"$f":"+IF(N146=\"\",\"\",MAX(K$1:K145)+1)","v":""},{"$f":"IF(Deviation_w_Addon_CPMS1!D168=\"\",\"\",Deviation_w_Addon_CPMS1!D168)","v":""},"",{"$f":"IF(COUNTIF(L$2:L146,L146)=1,L146,\"\")","v":""}]
[null,null,null,null,null,null,null,null,null,null,{"$f":"+IF(N147=\"\",\"\",MAX(K$1:K146)+1)","v":""},{"$f":"IF(Deviation_w_Addon_CPMS1!D169=\"\",\"\",Deviation_w_Addon_CPMS1!D169)","v":""},"",{"$f":"IF(COUNTIF(L$2:L147,L147)=1,L147,\"\")","v":""}]
[null,null,null,null,null,null,null,null,null,null,{"$f":"+IF(N148=\"\",\"\",MAX(K$1:K147)+1)","v":""},{"$f":"IF(Deviation_w_Addon_CPMS1!D170=\"\",\"\",Deviation_w_Addon_CPMS1!D170)","v":""},"",{"$f":"IF(COUNTIF(L$2:L148,L148)=1,L148,\"\")","v":""}]
[null,null,null,null,null,null,null,null,null,null,{"$f":"+IF(N149=\"\",\"\",MAX(K$1:K148)+1)","v":""},{"$f":"IF(Deviation_w_Addon_CPMS1!D171=\"\",\"\",Deviation_w_Addon_CPMS1!D171)","v":""},"",{"$f":"IF(COUNTIF(L$2:L149,L149)=1,L149,\"\")","v":""}]
[null,null,null,null,null,null,null,null,null,null,{"$f":"+IF(N150=\"\",\"\",MAX(K$1:K149)+1)","v":""},{"$f":"IF(Deviation_w_Addon_CPMS1!D172=\"\",\"\",Deviation_w_Addon_CPMS1!D172)","v":""},"",{"$f":"IF(COUNTIF(L$2:L150,L150)=1,L150,\"\")","v":""}]
[null,null,null,null,null,null,null,null,null,null,{"$f":"+IF(N151=\"\",\"\",MAX(K$1:K150)+1)","v":""},{"$f":"IF(Deviation_w_Addon_CPMS1!D173=\"\",\"\",Deviation_w_Addon_CPMS1!D173)","v":""},"",{"$f":"IF(COUNTIF(L$2:L151,L151)=1,L151,\"\")","v":""}]
[null,null,null,null,null,null,null,null,null,null,{"$f":"+IF(N152=\"\",\"\",MAX(K$1:K151)+1)","v":""},{"$f":"IF(Deviation_w_Addon_CPMS1!D174=\"\",\"\",Deviation_w_Addon_CPMS1!D174)","v":""},"",{"$f":"IF(COUNTIF(L$2:L152,L152)=1,L152,\"\")","v":""}]
[null,null,null,null,null,null,null,null,null,null,{"$f":"+IF(N153=\"\",\"\",MAX(K$1:K152)+1)","v":""},{"$f":"IF(Deviation_w_Addon_CPMS1!D175=\"\",\"\",Deviation_w_Addon_CPMS1!D175)","v":""},"",{"$f":"IF(COUNTIF(L$2:L153,L153)=1,L153,\"\")","v":""}]
[null,null,null,null,null,null,null,null,null,null,{"$f":"+IF(N154=\"\",\"\",MAX(K$1:K153)+1)","v":""},{"$f":"IF(Deviation_w_Addon_CPMS1!D176=\"\",\"\",Deviation_w_Addon_CPMS1!D176)","v":""},"",{"$f":"IF(COUNTIF(L$2:L154,L154)=1,L154,\"\")","v":""}]
[null,null,null,null,null,null,null,null,null,null,{"$f":"+IF(N155=\"\",\"\",MAX(K$1:K154)+1)","v":""},{"$f":"IF(Deviation_w_Addon_CPMS1!D177=\"\",\"\",Deviation_w_Addon_CPMS1!D177)","v":""},"",{"$f":"IF(COUNTIF(L$2:L155,L155)=1,L155,\"\")","v":""}]
[null,null,null,null,null,null,null,null,null,null,{"$f":"+IF(N156=\"\",\"\",MAX(K$1:K155)+1)","v":""},{"$f":"IF(Deviation_w_Addon_CPMS1!D178=\"\",\"\",Deviation_w_Addon_CPMS1!D178)","v":""},"",{"$f":"IF(COUNTIF(L$2:L156,L156)=1,L156,\"\")","v":""}]
[null,null,null,null,null,null,null,null,null,null,{"$f":"+IF(N157=\"\",\"\",MAX(K$1:K156)+1)","v":""},{"$f":"IF(Deviation_w_Addon_CPMS1!D179=\"\",\"\",Deviation_w_Addon_CPMS1!D179)","v":""},"",{"$f":"IF(COUNTIF(L$2:L157,L157)=1,L157,\"\")","v":""}]
[null,null,null,null,null,null,null,null,null,null,{"$f":"+IF(N158=\"\",\"\",MAX(K$1:K157)+1)","v":""},{"$f":"IF(Deviation_w_Addon_CPMS1!D180=\"\",\"\",Deviation_w_Addon_CPMS1!D180)","v":""},"",{"$f":"IF(COUNTIF(L$2:L158,L158)=1,L158,\"\")","v":""}]
[null,null,null,null,null,null,null,null,null,null,{"$f":"+IF(N159=\"\",\"\",MAX(K$1:K158)+1)","v":""},{"$f":"IF(Deviation_w_Addon_CPMS1!D181=\"\",\"\",Deviation_w_Addon_CPMS1!D181)","v":""},"",{"$f":"IF(COUNTIF(L$2:L159,L159)=1,L159,\"\")","v":""}]
[null,null,null,null,null,null,null,null,null,null,{"$f":"+IF(N160=\"\",\"\",MAX(K$1:K159)+1)","v":""},{"$f":"IF(Deviation_w_Addon_CPMS1!D182=\"\",\"\",Deviation_w_Addon_CPMS1!D182)","v":""},"",{"$f":"IF(COUNTIF(L$2:L160,L160)=1,L160,\"\")","v":""}]
[null,null,null,null,null,null,null,null,null,null,{"$f":"+IF(N161=\"\",\"\",MAX(K$1:K160)+1)","v":""},{"$f":"IF(Deviation_w_Addon_CPMS1!D183=\"\",\"\",Deviation_w_Addon_CPMS1!D183)","v":""},"",{"$f":"IF(COUNTIF(L$2:L161,L161)=1,L161,\"\")","v":""}]
[null,null,null,null,null,null,null,null,null,null,{"$f":"+IF(N162=\"\",\"\",MAX(K$1:K161)+1)","v":""},{"$f":"IF(Deviation_w_Addon_CPMS1!D184=\"\",\"\",Deviation_w_Addon_CPMS1!D184)","v":""},"",{"$f":"IF(COUNTIF(L$2:L162,L162)=1,L162,\"\")","v":""}]
[null,null,null,null,null,null,null,null,null,null,{"$f":"+IF(N163=\"\",\"\",MAX(K$1:K162)+1)","v":""},{"$f":"IF(Deviation_w_Addon_CPMS1!D185=\"\",\"\",Deviation_w_Addon_CPMS1!D185)","v":""},"",{"$f":"IF(COUNTIF(L$2:L163,L163)=1,L163,\"\")","v":""}]
[null,null,null,null,null,null,null,null,null,null,{"$f":"+IF(N164=\"\",\"\",MAX(K$1:K163)+1)","v":""},{"$f":"IF(Deviation_w_Addon_CPMS1!D186=\"\",\"\",Deviation_w_Addon_CPMS1!D186)","v":""},"",{"$f":"IF(COUNTIF(L$2:L164,L164)=1,L164,\"\")","v":""}]
[null,null,null,null,null,null,null,null,null,null,{"$f":"+IF(N165=\"\",\"\",MAX(K$1:K164)+1)","v":""},{"$f":"IF(Deviation_w_Addon_CPMS1!D187=\"\",\"\",Deviation_w_Addon_CPMS1!D187)","v":""},"",{"$f":"IF(COUNTIF(L$2:L165,L165)=1,L165,\"\")","v":""}]
[null,null,null,null,null,null,null,null,null,null,{"$f":"+IF(N166=\"\",\"\",MAX(K$1:K165)+1)","v":""},{"$f":"IF(Deviation_w_Addon_CPMS1!D188=\"\",\"\",Deviation_w_Addon_CPMS1!D188)","v":""},"",{"$f":"IF(COUNTIF(L$2:L166,L166)=1,L166,\"\")","v":""}]
[null,null,null,null,null,null,null,null,null,null,{"$f":"+IF(N167=\"\",\"\",MAX(K$1:K166)+1)","v":""},{"$f":"IF(Deviation_w_Addon_CPMS1!D189=\"\",\"\",Deviation_w_Addon_CPMS1!D189)","v":""},"",{"$f":"IF(COUNTIF(L$2:L167,L167)=1,L167,\"\")","v":""}]
[null,null,null,null,null,null,null,null,null,null,{"$f":"+IF(N168=\"\",\"\",MAX(K$1:K167)+1)","v":""},{"$f":"IF(Deviation_w_Addon_CPMS1!D190=\"\",\"\",Deviation_w_Addon_CPMS1!D190)","v":""},"",{"$f":"IF(COUNTIF(L$2:L168,L168)=1,L168,\"\")","v":""}]
[null,null,null,null,null,null,null,null,null,null,{"$f":"+IF(N169=\"\",\"\",MAX(K$1:K168)+1)","v":""},{"$f":"IF(Deviation_w_Addon_CPMS1!D191=\"\",\"\",Deviation_w_Addon_CPMS1!D191)","v":""},"",{"$f":"IF(COUNTIF(L$2:L169,L169)=1,L169,\"\")","v":""}]
[null,null,null,null,null,null,null,null,null,null,{"$f":"+IF(N170=\"\",\"\",MAX(K$1:K169)+1)","v":""},{"$f":"IF(Deviation_w_Addon_CPMS1!D192=\"\",\"\",Deviation_w_Addon_CPMS1!D192)","v":""},"",{"$f":"IF(COUNTIF(L$2:L170,L170)=1,L170,\"\")","v":""}]
[null,null,null,null,null,null,null,null,null,null,{"$f":"+IF(N171=\"\",\"\",MAX(K$1:K170)+1)","v":""},{"$f":"IF(Deviation_w_Addon_CPMS1!D193=\"\",\"\",Deviation_w_Addon_CPMS1!D193)","v":""},"",{"$f":"IF(COUNTIF(L$2:L171,L171)=1,L171,\"\")","v":""}]
[null,null,null,null,null,null,null,null,null,null,{"$f":"+IF(N172=\"\",\"\",MAX(K$1:K171)+1)","v":""},{"$f":"IF(Deviation_w_Addon_CPMS1!D194=\"\",\"\",Deviation_w_Addon_CPMS1!D194)","v":""},"",{"$f":"IF(COUNTIF(L$2:L172,L172)=1,L172,\"\")","v":""}]
[null,null,null,null,null,null,null,null,null,null,{"$f":"+IF(N173=\"\",\"\",MAX(K$1:K172)+1)","v":""},{"$f":"IF(Deviation_w_Addon_CPMS1!D195=\"\",\"\",Deviation_w_Addon_CPMS1!D195)","v":""},"",{"$f":"IF(COUNTIF(L$2:L173,L173)=1,L173,\"\")","v":""}]
[null,null,null,null,null,null,null,null,null,null,{"$f":"+IF(N174=\"\",\"\",MAX(K$1:K173)+1)","v":""},{"$f":"IF(Deviation_w_Addon_CPMS1!D196=\"\",\"\",Deviation_w_Addon_CPMS1!D196)","v":""},"",{"$f":"IF(COUNTIF(L$2:L174,L174)=1,L174,\"\")","v":""}]
[null,null,null,null,null,null,null,null,null,null,{"$f":"+IF(N175=\"\",\"\",MAX(K$1:K174)+1)","v":""},{"$f":"IF(Deviation_w_Addon_CPMS1!D197=\"\",\"\",Deviation_w_Addon_CPMS1!D197)","v":""},"",{"$f":"IF(COUNTIF(L$2:L175,L175)=1,L175,\"\")","v":""}]
[null,null,null,null,null,null,null,null,null,null,{"$f":"+IF(N176=\"\",\"\",MAX(K$1:K175)+1)","v":""},{"$f":"IF(Deviation_w_Addon_CPMS1!D198=\"\",\"\",Deviation_w_Addon_CPMS1!D198)","v":""},"",{"$f":"IF(COUNTIF(L$2:L176,L176)=1,L176,\"\")","v":""}]
[null,null,null,null,null,null,null,null,null,null,{"$f":"+IF(N177=\"\",\"\",MAX(K$1:K176)+1)","v":""},{"$f":"IF(Deviation_w_Addon_CPMS1!D199=\"\",\"\",Deviation_w_Addon_CPMS1!D199)","v":""},"",{"$f":"IF(COUNTIF(L$2:L177,L177)=1,L177,\"\")","v":""}]
[null,null,null,null,null,null,null,null,null,null,{"$f":"+IF(N178=\"\",\"\",MAX(K$1:K177)+1)","v":""},{"$f":"IF(Deviation_w_Addon_CPMS1!D200=\"\",\"\",Deviation_w_Addon_CPMS1!D200)","v":""},"",{"$f":"IF(COUNTIF(L$2:L178,L178)=1,L178,\"\")","v":""}]
[null,null,null,null,null,null,null,null,null,null,{"$f":"+IF(N179=\"\",\"\",MAX(K$1:K178)+1)","v":""},{"$f":"IF(Deviation_w_Addon_CPMS1!D201=\"\",\"\",Deviation_w_Addon_CPMS1!D201)","v":""},"",{"$f":"IF(COUNTIF(L$2:L179,L179)=1,L179,\"\")","v":""}]
[null,null,null,null,null,null,null,null,null,null,{"$f":"+IF(N180=\"\",\"\",MAX(K$1:K179)+1)","v":""},{"$f":"IF(Deviation_w_Addon_CPMS1!D202=\"\",\"\",Deviation_w_Addon_CPMS1!D202)","v":""},"",{"$f":"IF(COUNTIF(L$2:L180,L180)=1,L180,\"\")","v":""}]
[null,null,null,null,null,null,null,null,null,null,{"$f":"+IF(N181=\"\",\"\",MAX(K$1:K180)+1)","v":""},{"$f":"IF(Deviation_w_Addon_CPMS1!D203=\"\",\"\",Deviation_w_Addon_CPMS1!D203)","v":""},"",{"$f":"IF(COUNTIF(L$2:L181,L181)=1,L181,\"\")","v":""}]
[null,null,null,null,null,null,null,null,null,null,{"$f":"+IF(N182=\"\",\"\",MAX(K$1:K181)+1)","v":""},{"$f":"IF(Deviation_w_Addon_CPMS1!D204=\"\",\"\",Deviation_w_Addon_CPMS1!D204)","v":""},"",{"$f":"IF(COUNTIF(L$2:L182,L182)=1,L182,\"\")","v":""}]
[null,null,null,null,null,null,null,null,null,null,{"$f":"+IF(N183=\"\",\"\",MAX(K$1:K182)+1)","v":""},{"$f":"IF(Deviation_w_Addon_CPMS1!D205=\"\",\"\",Deviation_w_Addon_CPMS1!D205)","v":""},"",{"$f":"IF(COUNTIF(L$2:L183,L183)=1,L183,\"\")","v":""}]
[null,null,null,null,null,null,null,null,null,null,{"$f":"+IF(N184=\"\",\"\",MAX(K$1:K183)+1)","v":""},{"$f":"IF(Deviation_w_Addon_CPMS1!D206=\"\",\"\",Deviation_w_Addon_CPMS1!D206)","v":""},"",{"$f":"IF(COUNTIF(L$2:L184,L184)=1,L184,\"\")","v":""}]
[null,null,null,null,null,null,null,null,null,null,{"$f":"+IF(N185=\"\",\"\",MAX(K$1:K184)+1)","v":""},{"$f":"IF(Deviation_w_Addon_CPMS1!D207=\"\",\"\",Deviation_w_Addon_CPMS1!D207)","v":""},"",{"$f":"IF(COUNTIF(L$2:L185,L185)=1,L185,\"\")","v":""}]
[null,null,null,null,null,null,null,null,null,null,{"$f":"+IF(N186=\"\",\"\",MAX(K$1:K185)+1)","v":""},{"$f":"IF(Deviation_w_Addon_CPMS1!D208=\"\",\"\",Deviation_w_Addon_CPMS1!D208)","v":""},"",{"$f":"IF(COUNTIF(L$2:L186,L186)=1,L186,\"\")","v":""}]
[null,null,null,null,null,null,null,null,null,null,{"$f":"+IF(N187=\"\",\"\",MAX(K$1:K186)+1)","v":""},{"$f":"IF(Deviation_w_Addon_CPMS1!D209=\"\",\"\",Deviation_w_Addon_CPMS1!D209)","v":""},"",{"$f":"IF(COUNTIF(L$2:L187,L187)=1,L187,\"\")","v":""}]
[null,null,null,null,null,null,null,null,null,null,{"$f":"+IF(N188=\"\",\"\",MAX(K$1:K187)+1)","v":""},{"$f":"IF(Deviation_w_Addon_CPMS1!D210=\"\",\"\",Deviation_w_Addon_CPMS1!D210)","v":""},"",{"$f":"IF(COUNTIF(L$2:L188,L188)=1,L188,\"\")","v":""}]
[null,null,null,null,null,null,null,null,null,null,{"$f":"+IF(N189=\"\",\"\",MAX(K$1:K188)+1)","v":""},{"$f":"IF(Deviation_w_Addon_CPMS1!D211=\"\",\"\",Deviation_w_Addon_CPMS1!D211)","v":""},"",{"$f":"IF(COUNTIF(L$2:L189,L189)=1,L189,\"\")","v":""}]
[null,null,null,null,null,null,null,null,null,null,{"$f":"+IF(N190=\"\",\"\",MAX(K$1:K189)+1)","v":""},{"$f":"IF(Deviation_w_Addon_CPMS1!D212=\"\",\"\",Deviation_w_Addon_CPMS1!D212)","v":""},"",{"$f":"IF(COUNTIF(L$2:L190,L190)=1,L190,\"\")","v":""}]
[null,null,null,null,null,null,null,null,null,null,{"$f":"+IF(N191=\"\",\"\",MAX(K$1:K190)+1)","v":""},{"$f":"IF(Deviation_w_Addon_CPMS1!D213=\"\",\"\",Deviation_w_Addon_CPMS1!D213)","v":""},"",{"$f":"IF(COUNTIF(L$2:L191,L191)=1,L191,\"\")","v":""}]
[null,null,null,null,null,null,null,null,null,null,{"$f":"+IF(N192=\"\",\"\",MAX(K$1:K191)+1)","v":""},{"$f":"IF(Deviation_w_Addon_CPMS1!D214=\"\",\"\",Deviation_w_Addon_CPMS1!D214)","v":""},"",{"$f":"IF(COUNTIF(L$2:L192,L192)=1,L192,\"\")","v":""}]
[null,null,null,null,null,null,null,null,null,null,{"$f":"+IF(N193=\"\",\"\",MAX(K$1:K192)+1)","v":""},{"$f":"IF(Deviation_w_Addon_CPMS1!D215=\"\",\"\",Deviation_w_Addon_CPMS1!D215)","v":""},"",{"$f":"IF(COUNTIF(L$2:L193,L193)=1,L193,\"\")","v":""}]
[null,null,null,null,null,null,null,null,null,null,{"$f":"+IF(N194=\"\",\"\",MAX(K$1:K193)+1)","v":""},{"$f":"IF(Deviation_w_Addon_CPMS1!D216=\"\",\"\",Deviation_w_Addon_CPMS1!D216)","v":""},{"$f":"+IFERROR(INDEX($L$2:$L$501,MATCH(ROW()-ROW($M$1),$K$2:$K$501,0)),\"\")","v":""},{"$f":"IF(COUNTIF(L$2:L194,L194)=1,L194,\"\")","v":""}]
[null,null,null,null,null,null,null,null,null,null,{"$f":"+IF(N195=\"\",\"\",MAX(K$1:K194)+1)","v":""},{"$f":"IF(Deviation_w_Addon_CPMS1!D217=\"\",\"\",Deviation_w_Addon_CPMS1!D217)","v":""},"",{"$f":"IF(COUNTIF(L$2:L195,L195)=1,L195,\"\")","v":""}]
[null,null,null,null,null,null,null,null,null,null,{"$f":"+IF(N196=\"\",\"\",MAX(K$1:K195)+1)","v":""},{"$f":"IF(Deviation_w_Addon_CPMS1!D218=\"\",\"\",Deviation_w_Addon_CPMS1!D218)","v":""},"",{"$f":"IF(COUNTIF(L$2:L196,L196)=1,L196,\"\")","v":""}]
[null,null,null,null,null,null,null,null,null,null,{"$f":"+IF(N197=\"\",\"\",MAX(K$1:K196)+1)","v":""},{"$f":"IF(Deviation_w_Addon_CPMS1!D219=\"\",\"\",Deviation_w_Addon_CPMS1!D219)","v":""},"",{"$f":"IF(COUNTIF(L$2:L197,L197)=1,L197,\"\")","v":""}]
[null,null,null,null,null,null,null,null,null,null,{"$f":"+IF(N198=\"\",\"\",MAX(K$1:K197)+1)","v":""},{"$f":"IF(Deviation_w_Addon_CPMS1!D220=\"\",\"\",Deviation_w_Addon_CPMS1!D220)","v":""},"",{"$f":"IF(COUNTIF(L$2:L198,L198)=1,L198,\"\")","v":""}]
[null,null,null,null,null,null,null,null,null,null,{"$f":"+IF(N199=\"\",\"\",MAX(K$1:K198)+1)","v":""},{"$f":"IF(Deviation_w_Addon_CPMS1!D221=\"\",\"\",Deviation_w_Addon_CPMS1!D221)","v":""},"",{"$f":"IF(COUNTIF(L$2:L199,L199)=1,L199,\"\")","v":""}]
[null,null,null,null,null,null,null,null,null,null,{"$f":"+IF(N200=\"\",\"\",MAX(K$1:K199)+1)","v":""},{"$f":"IF(Deviation_w_Addon_CPMS1!D222=\"\",\"\",Deviation_w_Addon_CPMS1!D222)","v":""},"",{"$f":"IF(COUNTIF(L$2:L200,L200)=1,L200,\"\")","v":""}]
[null,null,null,null,null,null,null,null,null,null,{"$f":"+IF(N201=\"\",\"\",MAX(K$1:K200)+1)","v":""},{"$f":"IF(Deviation_w_Addon_CPMS1!D223=\"\",\"\",Deviation_w_Addon_CPMS1!D223)","v":""},"",{"$f":"IF(COUNTIF(L$2:L201,L201)=1,L201,\"\")","v":""}]
[null,null,null,null,null,null,null,null,null,null,{"$f":"+IF(N202=\"\",\"\",MAX(K$1:K201)+1)","v":""},{"$f":"IF(Deviation_w_Addon_CPMS1!D224=\"\",\"\",Deviation_w_Addon_CPMS1!D224)","v":""},"",{"$f":"IF(COUNTIF(L$2:L202,L202)=1,L202,\"\")","v":""}]
[null,null,null,null,null,null,null,null,null,null,{"$f":"+IF(N203=\"\",\"\",MAX(K$1:K202)+1)","v":""},{"$f":"IF(Deviation_w_Addon_CPMS1!D225=\"\",\"\",Deviation_w_Addon_CPMS1!D225)","v":""},"",{"$f":"IF(COUNTIF(L$2:L203,L203)=1,L203,\"\")","v":""}]
[null,null,null,null,null,null,null,null,null,null,{"$f":"+IF(N204=\"\",\"\",MAX(K$1:K203)+1)","v":""},{"$f":"IF(Deviation_w_Addon_CPMS1!D226=\"\",\"\",Deviation_w_Addon_CPMS1!D226)","v":""},"",{"$f":"IF(COUNTIF(L$2:L204,L204)=1,L204,\"\")","v":""}]
[null,null,null,null,null,null,null,null,null,null,{"$f":"+IF(N205=\"\",\"\",MAX(K$1:K204)+1)","v":""},{"$f":"IF(Deviation_w_Addon_CPMS1!D227=\"\",\"\",Deviation_w_Addon_CPMS1!D227)","v":""},"",{"$f":"IF(COUNTIF(L$2:L205,L205)=1,L205,\"\")","v":""}]
[null,null,null,null,null,null,null,null,null,null,{"$f":"+IF(N206=\"\",\"\",MAX(K$1:K205)+1)","v":""},{"$f":"IF(Deviation_w_Addon_CPMS1!D228=\"\",\"\",Deviation_w_Addon_CPMS1!D228)","v":""},"",{"$f":"IF(COUNTIF(L$2:L206,L206)=1,L206,\"\")","v":""}]
[null,null,null,null,null,null,null,null,null,null,{"$f":"+IF(N207=\"\",\"\",MAX(K$1:K206)+1)","v":""},{"$f":"IF(Deviation_w_Addon_CPMS1!D229=\"\",\"\",Deviation_w_Addon_CPMS1!D229)","v":""},"",{"$f":"IF(COUNTIF(L$2:L207,L207)=1,L207,\"\")","v":""}]
[null,null,null,null,null,null,null,null,null,null,{"$f":"+IF(N208=\"\",\"\",MAX(K$1:K207)+1)","v":""},{"$f":"IF(Deviation_w_Addon_CPMS1!D230=\"\",\"\",Deviation_w_Addon_CPMS1!D230)","v":""},"",{"$f":"IF(COUNTIF(L$2:L208,L208)=1,L208,\"\")","v":""}]
[null,null,null,null,null,null,null,null,null,null,{"$f":"+IF(N209=\"\",\"\",MAX(K$1:K208)+1)","v":""},{"$f":"IF(Deviation_w_Addon_CPMS1!D231=\"\",\"\",Deviation_w_Addon_CPMS1!D231)","v":""},"",{"$f":"IF(COUNTIF(L$2:L209,L209)=1,L209,\"\")","v":""}]
[null,null,null,null,null,null,null,null,null,null,{"$f":"+IF(N210=\"\",\"\",MAX(K$1:K209)+1)","v":""},{"$f":"IF(Deviation_w_Addon_CPMS1!D232=\"\",\"\",Deviation_w_Addon_CPMS1!D232)","v":""},"",{"$f":"IF(COUNTIF(L$2:L210,L210)=1,L210,\"\")","v":""}]
[null,null,null,null,null,null,null,null,null,null,{"$f":"+IF(N211=\"\",\"\",MAX(K$1:K210)+1)","v":""},{"$f":"IF(Deviation_w_Addon_CPMS1!D233=\"\",\"\",Deviation_w_Addon_CPMS1!D233)","v":""},"",{"$f":"IF(COUNTIF(L$2:L211,L211)=1,L211,\"\")","v":""}]
[null,null,null,null,null,null,null,null,null,null,{"$f":"+IF(N212=\"\",\"\",MAX(K$1:K211)+1)","v":""},{"$f":"IF(Deviation_w_Addon_CPMS1!D234=\"\",\"\",Deviation_w_Addon_CPMS1!D234)","v":""},"",{"$f":"IF(COUNTIF(L$2:L212,L212)=1,L212,\"\")","v":""}]
[null,null,null,null,null,null,null,null,null,null,{"$f":"+IF(N213=\"\",\"\",MAX(K$1:K212)+1)","v":""},{"$f":"IF(Deviation_w_Addon_CPMS1!D235=\"\",\"\",Deviation_w_Addon_CPMS1!D235)","v":""},"",{"$f":"IF(COUNTIF(L$2:L213,L213)=1,L213,\"\")","v":""}]
[null,null,null,null,null,null,null,null,null,null,{"$f":"+IF(N214=\"\",\"\",MAX(K$1:K213)+1)","v":""},{"$f":"IF(Deviation_w_Addon_CPMS1!D236=\"\",\"\",Deviation_w_Addon_CPMS1!D236)","v":""},"",{"$f":"IF(COUNTIF(L$2:L214,L214)=1,L214,\"\")","v":""}]
[null,null,null,null,null,null,null,null,null,null,{"$f":"+IF(N215=\"\",\"\",MAX(K$1:K214)+1)","v":""},{"$f":"IF(Deviation_w_Addon_CPMS1!D237=\"\",\"\",Deviation_w_Addon_CPMS1!D237)","v":""},"",{"$f":"IF(COUNTIF(L$2:L215,L215)=1,L215,\"\")","v":""}]
[null,null,null,null,null,null,null,null,null,null,{"$f":"+IF(N216=\"\",\"\",MAX(K$1:K215)+1)","v":""},{"$f":"IF(Deviation_w_Addon_CPMS1!D238=\"\",\"\",Deviation_w_Addon_CPMS1!D238)","v":""},"",{"$f":"IF(COUNTIF(L$2:L216,L216)=1,L216,\"\")","v":""}]
[null,null,null,null,null,null,null,null,null,null,{"$f":"+IF(N217=\"\",\"\",MAX(K$1:K216)+1)","v":""},{"$f":"IF(Deviation_w_Addon_CPMS1!D239=\"\",\"\",Deviation_w_Addon_CPMS1!D239)","v":""},"",{"$f":"IF(COUNTIF(L$2:L217,L217)=1,L217,\"\")","v":""}]
[null,null,null,null,null,null,null,null,null,null,{"$f":"+IF(N218=\"\",\"\",MAX(K$1:K217)+1)","v":""},{"$f":"IF(Deviation_w_Addon_CPMS1!D240=\"\",\"\",Deviation_w_Addon_CPMS1!D240)","v":""},"",{"$f":"IF(COUNTIF(L$2:L218,L218)=1,L218,\"\")","v":""}]
[null,null,null,null,null,null,null,null,null,null,{"$f":"+IF(N219=\"\",\"\",MAX(K$1:K218)+1)","v":""},{"$f":"IF(Deviation_w_Addon_CPMS1!D241=\"\",\"\",Deviation_w_Addon_CPMS1!D241)","v":""},"",{"$f":"IF(COUNTIF(L$2:L219,L219)=1,L219,\"\")","v":""}]
[null,null,null,null,null,null,null,null,null,null,{"$f":"+IF(N220=\"\",\"\",MAX(K$1:K219)+1)","v":""},{"$f":"IF(Deviation_w_Addon_CPMS1!D242=\"\",\"\",Deviation_w_Addon_CPMS1!D242)","v":""},"",{"$f":"IF(COUNTIF(L$2:L220,L220)=1,L220,\"\")","v":""}]
[null,null,null,null,null,null,null,null,null,null,{"$f":"+IF(N221=\"\",\"\",MAX(K$1:K220)+1)","v":""},{"$f":"IF(Deviation_w_Addon_CPMS1!D243=\"\",\"\",Deviation_w_Addon_CPMS1!D243)","v":""},"",{"$f":"IF(COUNTIF(L$2:L221,L221)=1,L221,\"\")","v":""}]
[null,null,null,null,null,null,null,null,null,null,{"$f":"+IF(N222=\"\",\"\",MAX(K$1:K221)+1)","v":""},{"$f":"IF(Deviation_w_Addon_CPMS1!D244=\"\",\"\",Deviation_w_Addon_CPMS1!D244)","v":""},"",{"$f":"IF(COUNTIF(L$2:L222,L222)=1,L222,\"\")","v":""}]
[null,null,null,null,null,null,null,null,null,null,{"$f":"+IF(N223=\"\",\"\",MAX(K$1:K222)+1)","v":""},{"$f":"IF(Deviation_w_Addon_CPMS1!D245=\"\",\"\",Deviation_w_Addon_CPMS1!D245)","v":""},"",{"$f":"IF(COUNTIF(L$2:L223,L223)=1,L223,\"\")","v":""}]
[null,null,null,null,null,null,null,null,null,null,{"$f":"+IF(N224=\"\",\"\",MAX(K$1:K223)+1)","v":""},{"$f":"IF(Deviation_w_Addon_CPMS1!D246=\"\",\"\",Deviation_w_Addon_CPMS1!D246)","v":""},"",{"$f":"IF(COUNTIF(L$2:L224,L224)=1,L224,\"\")","v":""}]
[null,null,null,null,null,null,null,null,null,null,{"$f":"+IF(N225=\"\",\"\",MAX(K$1:K224)+1)","v":""},{"$f":"IF(Deviation_w_Addon_CPMS1!D247=\"\",\"\",Deviation_w_Addon_CPMS1!D247)","v":""},"",{"$f":"IF(COUNTIF(L$2:L225,L225)=1,L225,\"\")","v":""}]
[null,null,null,null,null,null,null,null,null,null,{"$f":"+IF(N226=\"\",\"\",MAX(K$1:K225)+1)","v":""},{"$f":"IF(Deviation_w_Addon_CPMS1!D248=\"\",\"\",Deviation_w_Addon_CPMS1!D248)","v":""},"",{"$f":"IF(COUNTIF(L$2:L226,L226)=1,L226,\"\")","v":""}]
[null,null,null,null,null,null,null,null,null,null,{"$f":"+IF(N227=\"\",\"\",MAX(K$1:K226)+1)","v":""},{"$f":"IF(Deviation_w_Addon_CPMS1!D249=\"\",\"\",Deviation_w_Addon_CPMS1!D249)","v":""},"",{"$f":"IF(COUNTIF(L$2:L227,L227)=1,L227,\"\")","v":""}]
[null,null,null,null,null,null,null,null,null,null,{"$f":"+IF(N228=\"\",\"\",MAX(K$1:K227)+1)","v":""},{"$f":"IF(Deviation_w_Addon_CPMS1!D250=\"\",\"\",Deviation_w_Addon_CPMS1!D250)","v":""},"",{"$f":"IF(COUNTIF(L$2:L228,L228)=1,L228,\"\")","v":""}]
[null,null,null,null,null,null,null,null,null,null,{"$f":"+IF(N229=\"\",\"\",MAX(K$1:K228)+1)","v":""},{"$f":"IF(Deviation_w_Addon_CPMS1!D251=\"\",\"\",Deviation_w_Addon_CPMS1!D251)","v":""},"",{"$f":"IF(COUNTIF(L$2:L229,L229)=1,L229,\"\")","v":""}]
[null,null,null,null,null,null,null,null,null,null,{"$f":"+IF(N230=\"\",\"\",MAX(K$1:K229)+1)","v":""},{"$f":"IF(Deviation_w_Addon_CPMS1!D252=\"\",\"\",Deviation_w_Addon_CPMS1!D252)","v":""},"",{"$f":"IF(COUNTIF(L$2:L230,L230)=1,L230,\"\")","v":""}]
[null,null,null,null,null,null,null,null,null,null,{"$f":"+IF(N231=\"\",\"\",MAX(K$1:K230)+1)","v":""},{"$f":"IF(Deviation_w_Addon_CPMS1!D253=\"\",\"\",Deviation_w_Addon_CPMS1!D253)","v":""},"",{"$f":"IF(COUNTIF(L$2:L231,L231)=1,L231,\"\")","v":""}]
[null,null,null,null,null,null,null,null,null,null,{"$f":"+IF(N232=\"\",\"\",MAX(K$1:K231)+1)","v":""},{"$f":"IF(Deviation_w_Addon_CPMS1!D254=\"\",\"\",Deviation_w_Addon_CPMS1!D254)","v":""},"",{"$f":"IF(COUNTIF(L$2:L232,L232)=1,L232,\"\")","v":""}]
[null,null,null,null,null,null,null,null,null,null,{"$f":"+IF(N233=\"\",\"\",MAX(K$1:K232)+1)","v":""},{"$f":"IF(Deviation_w_Addon_CPMS1!D255=\"\",\"\",Deviation_w_Addon_CPMS1!D255)","v":""},"",{"$f":"IF(COUNTIF(L$2:L233,L233)=1,L233,\"\")","v":""}]
[null,null,null,null,null,null,null,null,null,null,{"$f":"+IF(N234=\"\",\"\",MAX(K$1:K233)+1)","v":""},{"$f":"IF(Deviation_w_Addon_CPMS1!D256=\"\",\"\",Deviation_w_Addon_CPMS1!D256)","v":""},"",{"$f":"IF(COUNTIF(L$2:L234,L234)=1,L234,\"\")","v":""}]
[null,null,null,null,null,null,null,null,null,null,{"$f":"+IF(N235=\"\",\"\",MAX(K$1:K234)+1)","v":""},{"$f":"IF(Deviation_w_Addon_CPMS1!D257=\"\",\"\",Deviation_w_Addon_CPMS1!D257)","v":""},"",{"$f":"IF(COUNTIF(L$2:L235,L235)=1,L235,\"\")","v":""}]
[null,null,null,null,null,null,null,null,null,null,{"$f":"+IF(N236=\"\",\"\",MAX(K$1:K235)+1)","v":""},{"$f":"IF(Deviation_w_Addon_CPMS1!D258=\"\",\"\",Deviation_w_Addon_CPMS1!D258)","v":""},"",{"$f":"IF(COUNTIF(L$2:L236,L236)=1,L236,\"\")","v":""}]
[null,null,null,null,null,null,null,null,null,null,{"$f":"+IF(N237=\"\",\"\",MAX(K$1:K236)+1)","v":""},{"$f":"IF(Deviation_w_Addon_CPMS1!D259=\"\",\"\",Deviation_w_Addon_CPMS1!D259)","v":""},"",{"$f":"IF(COUNTIF(L$2:L237,L237)=1,L237,\"\")","v":""}]
[null,null,null,null,null,null,null,null,null,null,{"$f":"+IF(N238=\"\",\"\",MAX(K$1:K237)+1)","v":""},{"$f":"IF(Deviation_w_Addon_CPMS1!D260=\"\",\"\",Deviation_w_Addon_CPMS1!D260)","v":""},"",{"$f":"IF(COUNTIF(L$2:L238,L238)=1,L238,\"\")","v":""}]
[null,null,null,null,null,null,null,null,null,null,{"$f":"+IF(N239=\"\",\"\",MAX(K$1:K238)+1)","v":""},{"$f":"IF(Deviation_w_Addon_CPMS1!D261=\"\",\"\",Deviation_w_Addon_CPMS1!D261)","v":""},"",{"$f":"IF(COUNTIF(L$2:L239,L239)=1,L239,\"\")","v":""}]
[null,null,null,null,null,null,null,null,null,null,{"$f":"+IF(N240=\"\",\"\",MAX(K$1:K239)+1)","v":""},{"$f":"IF(Deviation_w_Addon_CPMS1!D262=\"\",\"\",Deviation_w_Addon_CPMS1!D262)","v":""},"",{"$f":"IF(COUNTIF(L$2:L240,L240)=1,L240,\"\")","v":""}]
[null,null,null,null,null,null,null,null,null,null,{"$f":"+IF(N241=\"\",\"\",MAX(K$1:K240)+1)","v":""},{"$f":"IF(Deviation_w_Addon_CPMS1!D263=\"\",\"\",Deviation_w_Addon_CPMS1!D263)","v":""},"",{"$f":"IF(COUNTIF(L$2:L241,L241)=1,L241,\"\")","v":""}]
[null,null,null,null,null,null,null,null,null,null,{"$f":"+IF(N242=\"\",\"\",MAX(K$1:K241)+1)","v":""},{"$f":"IF(Deviation_w_Addon_CPMS1!D264=\"\",\"\",Deviation_w_Addon_CPMS1!D264)","v":""},"",{"$f":"IF(COUNTIF(L$2:L242,L242)=1,L242,\"\")","v":""}]
[null,null,null,null,null,null,null,null,null,null,{"$f":"+IF(N243=\"\",\"\",MAX(K$1:K242)+1)","v":""},{"$f":"IF(Deviation_w_Addon_CPMS1!D265=\"\",\"\",Deviation_w_Addon_CPMS1!D265)","v":""},"",{"$f":"IF(COUNTIF(L$2:L243,L243)=1,L243,\"\")","v":""}]
[null,null,null,null,null,null,null,null,null,null,{"$f":"+IF(N244=\"\",\"\",MAX(K$1:K243)+1)","v":""},{"$f":"IF(Deviation_w_Addon_CPMS1!D266=\"\",\"\",Deviation_w_Addon_CPMS1!D266)","v":""},"",{"$f":"IF(COUNTIF(L$2:L244,L244)=1,L244,\"\")","v":""}]
[null,null,null,null,null,null,null,null,null,null,{"$f":"+IF(N245=\"\",\"\",MAX(K$1:K244)+1)","v":""},{"$f":"IF(Deviation_w_Addon_CPMS1!D267=\"\",\"\",Deviation_w_Addon_CPMS1!D267)","v":""},"",{"$f":"IF(COUNTIF(L$2:L245,L245)=1,L245,\"\")","v":""}]
[null,null,null,null,null,null,null,null,null,null,{"$f":"+IF(N246=\"\",\"\",MAX(K$1:K245)+1)","v":""},{"$f":"IF(Deviation_w_Addon_CPMS1!D268=\"\",\"\",Deviation_w_Addon_CPMS1!D268)","v":""},"",{"$f":"IF(COUNTIF(L$2:L246,L246)=1,L246,\"\")","v":""}]
[null,null,null,null,null,null,null,null,null,null,{"$f":"+IF(N247=\"\",\"\",MAX(K$1:K246)+1)","v":""},{"$f":"IF(Deviation_w_Addon_CPMS1!D269=\"\",\"\",Deviation_w_Addon_CPMS1!D269)","v":""},"",{"$f":"IF(COUNTIF(L$2:L247,L247)=1,L247,\"\")","v":""}]
[null,null,null,null,null,null,null,null,null,null,{"$f":"+IF(N248=\"\",\"\",MAX(K$1:K247)+1)","v":""},{"$f":"IF(Deviation_w_Addon_CPMS1!D270=\"\",\"\",Deviation_w_Addon_CPMS1!D270)","v":""},"",{"$f":"IF(COUNTIF(L$2:L248,L248)=1,L248,\"\")","v":""}]
[null,null,null,null,null,null,null,null,null,null,{"$f":"+IF(N249=\"\",\"\",MAX(K$1:K248)+1)","v":""},{"$f":"IF(Deviation_w_Addon_CPMS1!D271=\"\",\"\",Deviation_w_Addon_CPMS1!D271)","v":""},"",{"$f":"IF(COUNTIF(L$2:L249,L249)=1,L249,\"\")","v":""}]
[null,null,null,null,null,null,null,null,null,null,{"$f":"+IF(N250=\"\",\"\",MAX(K$1:K249)+1)","v":""},{"$f":"IF(Deviation_w_Addon_CPMS1!D272=\"\",\"\",Deviation_w_Addon_CPMS1!D272)","v":""},"",{"$f":"IF(COUNTIF(L$2:L250,L250)=1,L250,\"\")","v":""}]
[null,null,null,null,null,null,null,null,null,null,{"$f":"+IF(N251=\"\",\"\",MAX(K$1:K250)+1)","v":""},{"$f":"IF(Deviation_w_Addon_CPMS1!D273=\"\",\"\",Deviation_w_Addon_CPMS1!D273)","v":""},"",{"$f":"IF(COUNTIF(L$2:L251,L251)=1,L251,\"\")","v":""}]
[null,null,null,null,null,null,null,null,null,null,{"$f":"+IF(N252=\"\",\"\",MAX(K$1:K251)+1)","v":""},{"$f":"IF(Deviation_w_Addon_CPMS1!D274=\"\",\"\",Deviation_w_Addon_CPMS1!D274)","v":""},"",{"$f":"IF(COUNTIF(L$2:L252,L252)=1,L252,\"\")","v":""}]
[null,null,null,null,null,null,null,null,null,null,{"$f":"+IF(N253=\"\",\"\",MAX(K$1:K252)+1)","v":""},{"$f":"IF(Deviation_w_Addon_CPMS1!D275=\"\",\"\",Deviation_w_Addon_CPMS1!D275)","v":""},"",{"$f":"IF(COUNTIF(L$2:L253,L253)=1,L253,\"\")","v":""}]
[null,null,null,null,null,null,null,null,null,null,{"$f":"+IF(N254=\"\",\"\",MAX(K$1:K253)+1)","v":""},{"$f":"IF(Deviation_w_Addon_CPMS1!D276=\"\",\"\",Deviation_w_Addon_CPMS1!D276)","v":""},"",{"$f":"IF(COUNTIF(L$2:L254,L254)=1,L254,\"\")","v":""}]
[null,null,null,null,null,null,null,null,null,null,{"$f":"+IF(N255=\"\",\"\",MAX(K$1:K254)+1)","v":""},{"$f":"IF(Deviation_w_Addon_CPMS1!D277=\"\",\"\",Deviation_w_Addon_CPMS1!D277)","v":""},"",{"$f":"IF(COUNTIF(L$2:L255,L255)=1,L255,\"\")","v":""}]
[null,null,null,null,null,null,null,null,null,null,{"$f":"+IF(N256=\"\",\"\",MAX(K$1:K255)+1)","v":""},{"$f":"IF(Deviation_w_Addon_CPMS1!D278=\"\",\"\",Deviation_w_Addon_CPMS1!D278)","v":""},"",{"$f":"IF(COUNTIF(L$2:L256,L256)=1,L256,\"\")","v":""}]
[null,null,null,null,null,null,null,null,null,null,{"$f":"+IF(N257=\"\",\"\",MAX(K$1:K256)+1)","v":""},{"$f":"IF(Deviation_w_Addon_CPMS1!D279=\"\",\"\",Deviation_w_Addon_CPMS1!D279)","v":""},"",{"$f":"IF(COUNTIF(L$2:L257,L257)=1,L257,\"\")","v":""}]
[null,null,null,null,null,null,null,null,null,null,{"$f":"+IF(N258=\"\",\"\",MAX(K$1:K257)+1)","v":""},{"$f":"IF(Deviation_w_Addon_CPMS1!D280=\"\",\"\",Deviation_w_Addon_CPMS1!D280)","v":""},{"$f":"+IFERROR(INDEX($L$2:$L$501,MATCH(ROW()-ROW($M$1),$K$2:$K$501,0)),\"\")","v":""},{"$f":"IF(COUNTIF(L$2:L258,L258)=1,L258,\"\")","v":""}]
[null,null,null,null,null,null,null,null,null,null,{"$f":"+IF(N259=\"\",\"\",MAX(K$1:K258)+1)","v":""},{"$f":"IF(Deviation_w_Addon_CPMS1!D281=\"\",\"\",Deviation_w_Addon_CPMS1!D281)","v":""},"",{"$f":"IF(COUNTIF(L$2:L259,L259)=1,L259,\"\")","v":""}]
[null,null,null,null,null,null,null,null,null,null,{"$f":"+IF(N260=\"\",\"\",MAX(K$1:K259)+1)","v":""},{"$f":"IF(Deviation_w_Addon_CPMS1!D282=\"\",\"\",Deviation_w_Addon_CPMS1!D282)","v":""},"",{"$f":"IF(COUNTIF(L$2:L260,L260)=1,L260,\"\")","v":""}]
[null,null,null,null,null,null,null,null,null,null,{"$f":"+IF(N261=\"\",\"\",MAX(K$1:K260)+1)","v":""},{"$f":"IF(Deviation_w_Addon_CPMS1!D283=\"\",\"\",Deviation_w_Addon_CPMS1!D283)","v":""},"",{"$f":"IF(COUNTIF(L$2:L261,L261)=1,L261,\"\")","v":""}]
[null,null,null,null,null,null,null,null,null,null,{"$f":"+IF(N262=\"\",\"\",MAX(K$1:K261)+1)","v":""},{"$f":"IF(Deviation_w_Addon_CPMS1!D284=\"\",\"\",Deviation_w_Addon_CPMS1!D284)","v":""},"",{"$f":"IF(COUNTIF(L$2:L262,L262)=1,L262,\"\")","v":""}]
[null,null,null,null,null,null,null,null,null,null,{"$f":"+IF(N263=\"\",\"\",MAX(K$1:K262)+1)","v":""},{"$f":"IF(Deviation_w_Addon_CPMS1!D285=\"\",\"\",Deviation_w_Addon_CPMS1!D285)","v":""},"",{"$f":"IF(COUNTIF(L$2:L263,L263)=1,L263,\"\")","v":""}]
[null,null,null,null,null,null,null,null,null,null,{"$f":"+IF(N264=\"\",\"\",MAX(K$1:K263)+1)","v":""},{"$f":"IF(Deviation_w_Addon_CPMS1!D286=\"\",\"\",Deviation_w_Addon_CPMS1!D286)","v":""},"",{"$f":"IF(COUNTIF(L$2:L264,L264)=1,L264,\"\")","v":""}]
[null,null,null,null,null,null,null,null,null,null,{"$f":"+IF(N265=\"\",\"\",MAX(K$1:K264)+1)","v":""},{"$f":"IF(Deviation_w_Addon_CPMS1!D287=\"\",\"\",Deviation_w_Addon_CPMS1!D287)","v":""},"",{"$f":"IF(COUNTIF(L$2:L265,L265)=1,L265,\"\")","v":""}]
[null,null,null,null,null,null,null,null,null,null,{"$f":"+IF(N266=\"\",\"\",MAX(K$1:K265)+1)","v":""},{"$f":"IF(Deviation_w_Addon_CPMS1!D288=\"\",\"\",Deviation_w_Addon_CPMS1!D288)","v":""},"",{"$f":"IF(COUNTIF(L$2:L266,L266)=1,L266,\"\")","v":""}]
[null,null,null,null,null,null,null,null,null,null,{"$f":"+IF(N267=\"\",\"\",MAX(K$1:K266)+1)","v":""},{"$f":"IF(Deviation_w_Addon_CPMS1!D289=\"\",\"\",Deviation_w_Addon_CPMS1!D289)","v":""},"",{"$f":"IF(COUNTIF(L$2:L267,L267)=1,L267,\"\")","v":""}]
[null,null,null,null,null,null,null,null,null,null,{"$f":"+IF(N268=\"\",\"\",MAX(K$1:K267)+1)","v":""},{"$f":"IF(Deviation_w_Addon_CPMS1!D290=\"\",\"\",Deviation_w_Addon_CPMS1!D290)","v":""},"",{"$f":"IF(COUNTIF(L$2:L268,L268)=1,L268,\"\")","v":""}]
[null,null,null,null,null,null,null,null,null,null,{"$f":"+IF(N269=\"\",\"\",MAX(K$1:K268)+1)","v":""},{"$f":"IF(Deviation_w_Addon_CPMS1!D291=\"\",\"\",Deviation_w_Addon_CPMS1!D291)","v":""},"",{"$f":"IF(COUNTIF(L$2:L269,L269)=1,L269,\"\")","v":""}]
[null,null,null,null,null,null,null,null,null,null,{"$f":"+IF(N270=\"\",\"\",MAX(K$1:K269)+1)","v":""},{"$f":"IF(Deviation_w_Addon_CPMS1!D292=\"\",\"\",Deviation_w_Addon_CPMS1!D292)","v":""},"",{"$f":"IF(COUNTIF(L$2:L270,L270)=1,L270,\"\")","v":""}]
[null,null,null,null,null,null,null,null,null,null,{"$f":"+IF(N271=\"\",\"\",MAX(K$1:K270)+1)","v":""},{"$f":"IF(Deviation_w_Addon_CPMS1!D293=\"\",\"\",Deviation_w_Addon_CPMS1!D293)","v":""},"",{"$f":"IF(COUNTIF(L$2:L271,L271)=1,L271,\"\")","v":""}]
[null,null,null,null,null,null,null,null,null,null,{"$f":"+IF(N272=\"\",\"\",MAX(K$1:K271)+1)","v":""},{"$f":"IF(Deviation_w_Addon_CPMS1!D294=\"\",\"\",Deviation_w_Addon_CPMS1!D294)","v":""},"",{"$f":"IF(COUNTIF(L$2:L272,L272)=1,L272,\"\")","v":""}]
[null,null,null,null,null,null,null,null,null,null,{"$f":"+IF(N273=\"\",\"\",MAX(K$1:K272)+1)","v":""},{"$f":"IF(Deviation_w_Addon_CPMS1!D295=\"\",\"\",Deviation_w_Addon_CPMS1!D295)","v":""},"",{"$f":"IF(COUNTIF(L$2:L273,L273)=1,L273,\"\")","v":""}]
[null,null,null,null,null,null,null,null,null,null,{"$f":"+IF(N274=\"\",\"\",MAX(K$1:K273)+1)","v":""},{"$f":"IF(Deviation_w_Addon_CPMS1!D296=\"\",\"\",Deviation_w_Addon_CPMS1!D296)","v":""},"",{"$f":"IF(COUNTIF(L$2:L274,L274)=1,L274,\"\")","v":""}]
[null,null,null,null,null,null,null,null,null,null,{"$f":"+IF(N275=\"\",\"\",MAX(K$1:K274)+1)","v":""},{"$f":"IF(Deviation_w_Addon_CPMS1!D297=\"\",\"\",Deviation_w_Addon_CPMS1!D297)","v":""},"",{"$f":"IF(COUNTIF(L$2:L275,L275)=1,L275,\"\")","v":""}]
[null,null,null,null,null,null,null,null,null,null,{"$f":"+IF(N276=\"\",\"\",MAX(K$1:K275)+1)","v":""},{"$f":"IF(Deviation_w_Addon_CPMS1!D298=\"\",\"\",Deviation_w_Addon_CPMS1!D298)","v":""},"",{"$f":"IF(COUNTIF(L$2:L276,L276)=1,L276,\"\")","v":""}]
[null,null,null,null,null,null,null,null,null,null,{"$f":"+IF(N277=\"\",\"\",MAX(K$1:K276)+1)","v":""},{"$f":"IF(Deviation_w_Addon_CPMS1!D299=\"\",\"\",Deviation_w_Addon_CPMS1!D299)","v":""},"",{"$f":"IF(COUNTIF(L$2:L277,L277)=1,L277,\"\")","v":""}]
[null,null,null,null,null,null,null,null,null,null,{"$f":"+IF(N278=\"\",\"\",MAX(K$1:K277)+1)","v":""},{"$f":"IF(Deviation_w_Addon_CPMS1!D300=\"\",\"\",Deviation_w_Addon_CPMS1!D300)","v":""},"",{"$f":"IF(COUNTIF(L$2:L278,L278)=1,L278,\"\")","v":""}]
[null,null,null,null,null,null,null,null,null,null,{"$f":"+IF(N279=\"\",\"\",MAX(K$1:K278)+1)","v":""},{"$f":"IF(Deviation_w_Addon_CPMS1!D301=\"\",\"\",Deviation_w_Addon_CPMS1!D301)","v":""},"",{"$f":"IF(COUNTIF(L$2:L279,L279)=1,L279,\"\")","v":""}]
[null,null,null,null,null,null,null,null,null,null,{"$f":"+IF(N280=\"\",\"\",MAX(K$1:K279)+1)","v":""},{"$f":"IF(Deviation_w_Addon_CPMS1!D302=\"\",\"\",Deviation_w_Addon_CPMS1!D302)","v":""},"",{"$f":"IF(COUNTIF(L$2:L280,L280)=1,L280,\"\")","v":""}]
[null,null,null,null,null,null,null,null,null,null,{"$f":"+IF(N281=\"\",\"\",MAX(K$1:K280)+1)","v":""},{"$f":"IF(Deviation_w_Addon_CPMS1!D303=\"\",\"\",Deviation_w_Addon_CPMS1!D303)","v":""},"",{"$f":"IF(COUNTIF(L$2:L281,L281)=1,L281,\"\")","v":""}]
[null,null,null,null,null,null,null,null,null,null,{"$f":"+IF(N282=\"\",\"\",MAX(K$1:K281)+1)","v":""},{"$f":"IF(Deviation_w_Addon_CPMS1!D304=\"\",\"\",Deviation_w_Addon_CPMS1!D304)","v":""},"",{"$f":"IF(COUNTIF(L$2:L282,L282)=1,L282,\"\")","v":""}]
[null,null,null,null,null,null,null,null,null,null,{"$f":"+IF(N283=\"\",\"\",MAX(K$1:K282)+1)","v":""},{"$f":"IF(Deviation_w_Addon_CPMS1!D305=\"\",\"\",Deviation_w_Addon_CPMS1!D305)","v":""},"",{"$f":"IF(COUNTIF(L$2:L283,L283)=1,L283,\"\")","v":""}]
[null,null,null,null,null,null,null,null,null,null,{"$f":"+IF(N284=\"\",\"\",MAX(K$1:K283)+1)","v":""},{"$f":"IF(Deviation_w_Addon_CPMS1!D306=\"\",\"\",Deviation_w_Addon_CPMS1!D306)","v":""},"",{"$f":"IF(COUNTIF(L$2:L284,L284)=1,L284,\"\")","v":""}]
[null,null,null,null,null,null,null,null,null,null,{"$f":"+IF(N285=\"\",\"\",MAX(K$1:K284)+1)","v":""},{"$f":"IF(Deviation_w_Addon_CPMS1!D307=\"\",\"\",Deviation_w_Addon_CPMS1!D307)","v":""},"",{"$f":"IF(COUNTIF(L$2:L285,L285)=1,L285,\"\")","v":""}]
[null,null,null,null,null,null,null,null,null,null,{"$f":"+IF(N286=\"\",\"\",MAX(K$1:K285)+1)","v":""},{"$f":"IF(Deviation_w_Addon_CPMS1!D308=\"\",\"\",Deviation_w_Addon_CPMS1!D308)","v":""},"",{"$f":"IF(COUNTIF(L$2:L286,L286)=1,L286,\"\")","v":""}]
[null,null,null,null,null,null,null,null,null,null,{"$f":"+IF(N287=\"\",\"\",MAX(K$1:K286)+1)","v":""},{"$f":"IF(Deviation_w_Addon_CPMS1!D309=\"\",\"\",Deviation_w_Addon_CPMS1!D309)","v":""},"",{"$f":"IF(COUNTIF(L$2:L287,L287)=1,L287,\"\")","v":""}]
[null,null,null,null,null,null,null,null,null,null,{"$f":"+IF(N288=\"\",\"\",MAX(K$1:K287)+1)","v":""},{"$f":"IF(Deviation_w_Addon_CPMS1!D310=\"\",\"\",Deviation_w_Addon_CPMS1!D310)","v":""},"",{"$f":"IF(COUNTIF(L$2:L288,L288)=1,L288,\"\")","v":""}]
[null,null,null,null,null,null,null,null,null,null,{"$f":"+IF(N289=\"\",\"\",MAX(K$1:K288)+1)","v":""},{"$f":"IF(Deviation_w_Addon_CPMS1!D311=\"\",\"\",Deviation_w_Addon_CPMS1!D311)","v":""},"",{"$f":"IF(COUNTIF(L$2:L289,L289)=1,L289,\"\")","v":""}]
[null,null,null,null,null,null,null,null,null,null,{"$f":"+IF(N290=\"\",\"\",MAX(K$1:K289)+1)","v":""},{"$f":"IF(Deviation_w_Addon_CPMS1!D312=\"\",\"\",Deviation_w_Addon_CPMS1!D312)","v":""},"",{"$f":"IF(COUNTIF(L$2:L290,L290)=1,L290,\"\")","v":""}]
[null,null,null,null,null,null,null,null,null,null,{"$f":"+IF(N291=\"\",\"\",MAX(K$1:K290)+1)","v":""},{"$f":"IF(Deviation_w_Addon_CPMS1!D313=\"\",\"\",Deviation_w_Addon_CPMS1!D313)","v":""},"",{"$f":"IF(COUNTIF(L$2:L291,L291)=1,L291,\"\")","v":""}]
[null,null,null,null,null,null,null,null,null,null,{"$f":"+IF(N292=\"\",\"\",MAX(K$1:K291)+1)","v":""},{"$f":"IF(Deviation_w_Addon_CPMS1!D314=\"\",\"\",Deviation_w_Addon_CPMS1!D314)","v":""},"",{"$f":"IF(COUNTIF(L$2:L292,L292)=1,L292,\"\")","v":""}]
[null,null,null,null,null,null,null,null,null,null,{"$f":"+IF(N293=\"\",\"\",MAX(K$1:K292)+1)","v":""},{"$f":"IF(Deviation_w_Addon_CPMS1!D315=\"\",\"\",Deviation_w_Addon_CPMS1!D315)","v":""},"",{"$f":"IF(COUNTIF(L$2:L293,L293)=1,L293,\"\")","v":""}]
[null,null,null,null,null,null,null,null,null,null,{"$f":"+IF(N294=\"\",\"\",MAX(K$1:K293)+1)","v":""},{"$f":"IF(Deviation_w_Addon_CPMS1!D316=\"\",\"\",Deviation_w_Addon_CPMS1!D316)","v":""},"",{"$f":"IF(COUNTIF(L$2:L294,L294)=1,L294,\"\")","v":""}]
[null,null,null,null,null,null,null,null,null,null,{"$f":"+IF(N295=\"\",\"\",MAX(K$1:K294)+1)","v":""},{"$f":"IF(Deviation_w_Addon_CPMS1!D317=\"\",\"\",Deviation_w_Addon_CPMS1!D317)","v":""},"",{"$f":"IF(COUNTIF(L$2:L295,L295)=1,L295,\"\")","v":""}]
[null,null,null,null,null,null,null,null,null,null,{"$f":"+IF(N296=\"\",\"\",MAX(K$1:K295)+1)","v":""},{"$f":"IF(Deviation_w_Addon_CPMS1!D318=\"\",\"\",Deviation_w_Addon_CPMS1!D318)","v":""},"",{"$f":"IF(COUNTIF(L$2:L296,L296)=1,L296,\"\")","v":""}]
[null,null,null,null,null,null,null,null,null,null,{"$f":"+IF(N297=\"\",\"\",MAX(K$1:K296)+1)","v":""},{"$f":"IF(Deviation_w_Addon_CPMS1!D319=\"\",\"\",Deviation_w_Addon_CPMS1!D319)","v":""},"",{"$f":"IF(COUNTIF(L$2:L297,L297)=1,L297,\"\")","v":""}]
[null,null,null,null,null,null,null,null,null,null,{"$f":"+IF(N298=\"\",\"\",MAX(K$1:K297)+1)","v":""},{"$f":"IF(Deviation_w_Addon_CPMS1!D320=\"\",\"\",Deviation_w_Addon_CPMS1!D320)","v":""},"",{"$f":"IF(COUNTIF(L$2:L298,L298)=1,L298,\"\")","v":""}]
[null,null,null,null,null,null,null,null,null,null,{"$f":"+IF(N299=\"\",\"\",MAX(K$1:K298)+1)","v":""},{"$f":"IF(Deviation_w_Addon_CPMS1!D321=\"\",\"\",Deviation_w_Addon_CPMS1!D321)","v":""},"",{"$f":"IF(COUNTIF(L$2:L299,L299)=1,L299,\"\")","v":""}]
[null,null,null,null,null,null,null,null,null,null,{"$f":"+IF(N300=\"\",\"\",MAX(K$1:K299)+1)","v":""},{"$f":"IF(Deviation_w_Addon_CPMS1!D322=\"\",\"\",Deviation_w_Addon_CPMS1!D322)","v":""},"",{"$f":"IF(COUNTIF(L$2:L300,L300)=1,L300,\"\")","v":""}]
[null,null,null,null,null,null,null,null,null,null,{"$f":"+IF(N301=\"\",\"\",MAX(K$1:K300)+1)","v":""},{"$f":"IF(Deviation_w_Addon_CPMS1!D323=\"\",\"\",Deviation_w_Addon_CPMS1!D323)","v":""},"",{"$f":"IF(COUNTIF(L$2:L301,L301)=1,L301,\"\")","v":""}]
[null,null,null,null,null,null,null,null,null,null,{"$f":"+IF(N302=\"\",\"\",MAX(K$1:K301)+1)","v":""},{"$f":"IF(Deviation_w_Addon_CPMS1!D324=\"\",\"\",Deviation_w_Addon_CPMS1!D324)","v":""},"",{"$f":"IF(COUNTIF(L$2:L302,L302)=1,L302,\"\")","v":""}]
[null,null,null,null,null,null,null,null,null,null,{"$f":"+IF(N303=\"\",\"\",MAX(K$1:K302)+1)","v":""},{"$f":"IF(Deviation_w_Addon_CPMS1!D325=\"\",\"\",Deviation_w_Addon_CPMS1!D325)","v":""},"",{"$f":"IF(COUNTIF(L$2:L303,L303)=1,L303,\"\")","v":""}]
[null,null,null,null,null,null,null,null,null,null,{"$f":"+IF(N304=\"\",\"\",MAX(K$1:K303)+1)","v":""},{"$f":"IF(Deviation_w_Addon_CPMS1!D326=\"\",\"\",Deviation_w_Addon_CPMS1!D326)","v":""},"",{"$f":"IF(COUNTIF(L$2:L304,L304)=1,L304,\"\")","v":""}]
[null,null,null,null,null,null,null,null,null,null,{"$f":"+IF(N305=\"\",\"\",MAX(K$1:K304)+1)","v":""},{"$f":"IF(Deviation_w_Addon_CPMS1!D327=\"\",\"\",Deviation_w_Addon_CPMS1!D327)","v":""},"",{"$f":"IF(COUNTIF(L$2:L305,L305)=1,L305,\"\")","v":""}]
[null,null,null,null,null,null,null,null,null,null,{"$f":"+IF(N306=\"\",\"\",MAX(K$1:K305)+1)","v":""},{"$f":"IF(Deviation_w_Addon_CPMS1!D328=\"\",\"\",Deviation_w_Addon_CPMS1!D328)","v":""},"",{"$f":"IF(COUNTIF(L$2:L306,L306)=1,L306,\"\")","v":""}]
[null,null,null,null,null,null,null,null,null,null,{"$f":"+IF(N307=\"\",\"\",MAX(K$1:K306)+1)","v":""},{"$f":"IF(Deviation_w_Addon_CPMS1!D329=\"\",\"\",Deviation_w_Addon_CPMS1!D329)","v":""},"",{"$f":"IF(COUNTIF(L$2:L307,L307)=1,L307,\"\")","v":""}]
[null,null,null,null,null,null,null,null,null,null,{"$f":"+IF(N308=\"\",\"\",MAX(K$1:K307)+1)","v":""},{"$f":"IF(Deviation_w_Addon_CPMS1!D330=\"\",\"\",Deviation_w_Addon_CPMS1!D330)","v":""},"",{"$f":"IF(COUNTIF(L$2:L308,L308)=1,L308,\"\")","v":""}]
[null,null,null,null,null,null,null,null,null,null,{"$f":"+IF(N309=\"\",\"\",MAX(K$1:K308)+1)","v":""},{"$f":"IF(Deviation_w_Addon_CPMS1!D331=\"\",\"\",Deviation_w_Addon_CPMS1!D331)","v":""},"",{"$f":"IF(COUNTIF(L$2:L309,L309)=1,L309,\"\")","v":""}]
[null,null,null,null,null,null,null,null,null,null,{"$f":"+IF(N310=\"\",\"\",MAX(K$1:K309)+1)","v":""},{"$f":"IF(Deviation_w_Addon_CPMS1!D332=\"\",\"\",Deviation_w_Addon_CPMS1!D332)","v":""},"",{"$f":"IF(COUNTIF(L$2:L310,L310)=1,L310,\"\")","v":""}]
[null,null,null,null,null,null,null,null,null,null,{"$f":"+IF(N311=\"\",\"\",MAX(K$1:K310)+1)","v":""},{"$f":"IF(Deviation_w_Addon_CPMS1!D333=\"\",\"\",Deviation_w_Addon_CPMS1!D333)","v":""},"",{"$f":"IF(COUNTIF(L$2:L311,L311)=1,L311,\"\")","v":""}]
[null,null,null,null,null,null,null,null,null,null,{"$f":"+IF(N312=\"\",\"\",MAX(K$1:K311)+1)","v":""},{"$f":"IF(Deviation_w_Addon_CPMS1!D334=\"\",\"\",Deviation_w_Addon_CPMS1!D334)","v":""},"",{"$f":"IF(COUNTIF(L$2:L312,L312)=1,L312,\"\")","v":""}]
[null,null,null,null,null,null,null,null,null,null,{"$f":"+IF(N313=\"\",\"\",MAX(K$1:K312)+1)","v":""},{"$f":"IF(Deviation_w_Addon_CPMS1!D335=\"\",\"\",Deviation_w_Addon_CPMS1!D335)","v":""},"",{"$f":"IF(COUNTIF(L$2:L313,L313)=1,L313,\"\")","v":""}]
[null,null,null,null,null,null,null,null,null,null,{"$f":"+IF(N314=\"\",\"\",MAX(K$1:K313)+1)","v":""},{"$f":"IF(Deviation_w_Addon_CPMS1!D336=\"\",\"\",Deviation_w_Addon_CPMS1!D336)","v":""},"",{"$f":"IF(COUNTIF(L$2:L314,L314)=1,L314,\"\")","v":""}]
[null,null,null,null,null,null,null,null,null,null,{"$f":"+IF(N315=\"\",\"\",MAX(K$1:K314)+1)","v":""},{"$f":"IF(Deviation_w_Addon_CPMS1!D337=\"\",\"\",Deviation_w_Addon_CPMS1!D337)","v":""},"",{"$f":"IF(COUNTIF(L$2:L315,L315)=1,L315,\"\")","v":""}]
[null,null,null,null,null,null,null,null,null,null,{"$f":"+IF(N316=\"\",\"\",MAX(K$1:K315)+1)","v":""},{"$f":"IF(Deviation_w_Addon_CPMS1!D338=\"\",\"\",Deviation_w_Addon_CPMS1!D338)","v":""},"",{"$f":"IF(COUNTIF(L$2:L316,L316)=1,L316,\"\")","v":""}]
[null,null,null,null,null,null,null,null,null,null,{"$f":"+IF(N317=\"\",\"\",MAX(K$1:K316)+1)","v":""},{"$f":"IF(Deviation_w_Addon_CPMS1!D339=\"\",\"\",Deviation_w_Addon_CPMS1!D339)","v":""},"",{"$f":"IF(COUNTIF(L$2:L317,L317)=1,L317,\"\")","v":""}]
[null,null,null,null,null,null,null,null,null,null,{"$f":"+IF(N318=\"\",\"\",MAX(K$1:K317)+1)","v":""},{"$f":"IF(Deviation_w_Addon_CPMS1!D340=\"\",\"\",Deviation_w_Addon_CPMS1!D340)","v":""},"",{"$f":"IF(COUNTIF(L$2:L318,L318)=1,L318,\"\")","v":""}]
[null,null,null,null,null,null,null,null,null,null,{"$f":"+IF(N319=\"\",\"\",MAX(K$1:K318)+1)","v":""},{"$f":"IF(Deviation_w_Addon_CPMS1!D341=\"\",\"\",Deviation_w_Addon_CPMS1!D341)","v":""},"",{"$f":"IF(COUNTIF(L$2:L319,L319)=1,L319,\"\")","v":""}]
[null,null,null,null,null,null,null,null,null,null,{"$f":"+IF(N320=\"\",\"\",MAX(K$1:K319)+1)","v":""},{"$f":"IF(Deviation_w_Addon_CPMS1!D342=\"\",\"\",Deviation_w_Addon_CPMS1!D342)","v":""},"",{"$f":"IF(COUNTIF(L$2:L320,L320)=1,L320,\"\")","v":""}]
[null,null,null,null,null,null,null,null,null,null,{"$f":"+IF(N321=\"\",\"\",MAX(K$1:K320)+1)","v":""},{"$f":"IF(Deviation_w_Addon_CPMS1!D343=\"\",\"\",Deviation_w_Addon_CPMS1!D343)","v":""},"",{"$f":"IF(COUNTIF(L$2:L321,L321)=1,L321,\"\")","v":""}]
[null,null,null,null,null,null,null,null,null,null,{"$f":"+IF(N322=\"\",\"\",MAX(K$1:K321)+1)","v":""},{"$f":"IF(Deviation_w_Addon_CPMS1!D344=\"\",\"\",Deviation_w_Addon_CPMS1!D344)","v":""},{"$f":"+IFERROR(INDEX($L$2:$L$501,MATCH(ROW()-ROW($M$1),$K$2:$K$501,0)),\"\")","v":""},{"$f":"IF(COUNTIF(L$2:L322,L322)=1,L322,\"\")","v":""}]
[null,null,null,null,null,null,null,null,null,null,{"$f":"+IF(N323=\"\",\"\",MAX(K$1:K322)+1)","v":""},{"$f":"IF(Deviation_w_Addon_CPMS1!D345=\"\",\"\",Deviation_w_Addon_CPMS1!D345)","v":""},"",{"$f":"IF(COUNTIF(L$2:L323,L323)=1,L323,\"\")","v":""}]
[null,null,null,null,null,null,null,null,null,null,{"$f":"+IF(N324=\"\",\"\",MAX(K$1:K323)+1)","v":""},{"$f":"IF(Deviation_w_Addon_CPMS1!D346=\"\",\"\",Deviation_w_Addon_CPMS1!D346)","v":""},"",{"$f":"IF(COUNTIF(L$2:L324,L324)=1,L324,\"\")","v":""}]
[null,null,null,null,null,null,null,null,null,null,{"$f":"+IF(N325=\"\",\"\",MAX(K$1:K324)+1)","v":""},{"$f":"IF(Deviation_w_Addon_CPMS1!D347=\"\",\"\",Deviation_w_Addon_CPMS1!D347)","v":""},"",{"$f":"IF(COUNTIF(L$2:L325,L325)=1,L325,\"\")","v":""}]
[null,null,null,null,null,null,null,null,null,null,{"$f":"+IF(N326=\"\",\"\",MAX(K$1:K325)+1)","v":""},{"$f":"IF(Deviation_w_Addon_CPMS1!D348=\"\",\"\",Deviation_w_Addon_CPMS1!D348)","v":""},"",{"$f":"IF(COUNTIF(L$2:L326,L326)=1,L326,\"\")","v":""}]
[null,null,null,null,null,null,null,null,null,null,{"$f":"+IF(N327=\"\",\"\",MAX(K$1:K326)+1)","v":""},{"$f":"IF(Deviation_w_Addon_CPMS1!D349=\"\",\"\",Deviation_w_Addon_CPMS1!D349)","v":""},"",{"$f":"IF(COUNTIF(L$2:L327,L327)=1,L327,\"\")","v":""}]
[null,null,null,null,null,null,null,null,null,null,{"$f":"+IF(N328=\"\",\"\",MAX(K$1:K327)+1)","v":""},{"$f":"IF(Deviation_w_Addon_CPMS1!D350=\"\",\"\",Deviation_w_Addon_CPMS1!D350)","v":""},"",{"$f":"IF(COUNTIF(L$2:L328,L328)=1,L328,\"\")","v":""}]
[null,null,null,null,null,null,null,null,null,null,{"$f":"+IF(N329=\"\",\"\",MAX(K$1:K328)+1)","v":""},{"$f":"IF(Deviation_w_Addon_CPMS1!D351=\"\",\"\",Deviation_w_Addon_CPMS1!D351)","v":""},"",{"$f":"IF(COUNTIF(L$2:L329,L329)=1,L329,\"\")","v":""}]
[null,null,null,null,null,null,null,null,null,null,{"$f":"+IF(N330=\"\",\"\",MAX(K$1:K329)+1)","v":""},{"$f":"IF(Deviation_w_Addon_CPMS1!D352=\"\",\"\",Deviation_w_Addon_CPMS1!D352)","v":""},"",{"$f":"IF(COUNTIF(L$2:L330,L330)=1,L330,\"\")","v":""}]
[null,null,null,null,null,null,null,null,null,null,{"$f":"+IF(N331=\"\",\"\",MAX(K$1:K330)+1)","v":""},{"$f":"IF(Deviation_w_Addon_CPMS1!D353=\"\",\"\",Deviation_w_Addon_CPMS1!D353)","v":""},"",{"$f":"IF(COUNTIF(L$2:L331,L331)=1,L331,\"\")","v":""}]
[null,null,null,null,null,null,null,null,null,null,{"$f":"+IF(N332=\"\",\"\",MAX(K$1:K331)+1)","v":""},{"$f":"IF(Deviation_w_Addon_CPMS1!D354=\"\",\"\",Deviation_w_Addon_CPMS1!D354)","v":""},"",{"$f":"IF(COUNTIF(L$2:L332,L332)=1,L332,\"\")","v":""}]
[null,null,null,null,null,null,null,null,null,null,{"$f":"+IF(N333=\"\",\"\",MAX(K$1:K332)+1)","v":""},{"$f":"IF(Deviation_w_Addon_CPMS1!D355=\"\",\"\",Deviation_w_Addon_CPMS1!D355)","v":""},"",{"$f":"IF(COUNTIF(L$2:L333,L333)=1,L333,\"\")","v":""}]
[null,null,null,null,null,null,null,null,null,null,{"$f":"+IF(N334=\"\",\"\",MAX(K$1:K333)+1)","v":""},{"$f":"IF(Deviation_w_Addon_CPMS1!D356=\"\",\"\",Deviation_w_Addon_CPMS1!D356)","v":""},"",{"$f":"IF(COUNTIF(L$2:L334,L334)=1,L334,\"\")","v":""}]
[null,null,null,null,null,null,null,null,null,null,{"$f":"+IF(N335=\"\",\"\",MAX(K$1:K334)+1)","v":""},{"$f":"IF(Deviation_w_Addon_CPMS1!D357=\"\",\"\",Deviation_w_Addon_CPMS1!D357)","v":""},"",{"$f":"IF(COUNTIF(L$2:L335,L335)=1,L335,\"\")","v":""}]
[null,null,null,null,null,null,null,null,null,null,{"$f":"+IF(N336=\"\",\"\",MAX(K$1:K335)+1)","v":""},{"$f":"IF(Deviation_w_Addon_CPMS1!D358=\"\",\"\",Deviation_w_Addon_CPMS1!D358)","v":""},"",{"$f":"IF(COUNTIF(L$2:L336,L336)=1,L336,\"\")","v":""}]
[null,null,null,null,null,null,null,null,null,null,{"$f":"+IF(N337=\"\",\"\",MAX(K$1:K336)+1)","v":""},{"$f":"IF(Deviation_w_Addon_CPMS1!D359=\"\",\"\",Deviation_w_Addon_CPMS1!D359)","v":""},"",{"$f":"IF(COUNTIF(L$2:L337,L337)=1,L337,\"\")","v":""}]
[null,null,null,null,null,null,null,null,null,null,{"$f":"+IF(N338=\"\",\"\",MAX(K$1:K337)+1)","v":""},{"$f":"IF(Deviation_w_Addon_CPMS1!D360=\"\",\"\",Deviation_w_Addon_CPMS1!D360)","v":""},"",{"$f":"IF(COUNTIF(L$2:L338,L338)=1,L338,\"\")","v":""}]
[null,null,null,null,null,null,null,null,null,null,{"$f":"+IF(N339=\"\",\"\",MAX(K$1:K338)+1)","v":""},{"$f":"IF(Deviation_w_Addon_CPMS1!D361=\"\",\"\",Deviation_w_Addon_CPMS1!D361)","v":""},"",{"$f":"IF(COUNTIF(L$2:L339,L339)=1,L339,\"\")","v":""}]
[null,null,null,null,null,null,null,null,null,null,{"$f":"+IF(N340=\"\",\"\",MAX(K$1:K339)+1)","v":""},{"$f":"IF(Deviation_w_Addon_CPMS1!D362=\"\",\"\",Deviation_w_Addon_CPMS1!D362)","v":""},"",{"$f":"IF(COUNTIF(L$2:L340,L340)=1,L340,\"\")","v":""}]
[null,null,null,null,null,null,null,null,null,null,{"$f":"+IF(N341=\"\",\"\",MAX(K$1:K340)+1)","v":""},{"$f":"IF(Deviation_w_Addon_CPMS1!D363=\"\",\"\",Deviation_w_Addon_CPMS1!D363)","v":""},"",{"$f":"IF(COUNTIF(L$2:L341,L341)=1,L341,\"\")","v":""}]
[null,null,null,null,null,null,null,null,null,null,{"$f":"+IF(N342=\"\",\"\",MAX(K$1:K341)+1)","v":""},{"$f":"IF(Deviation_w_Addon_CPMS1!D364=\"\",\"\",Deviation_w_Addon_CPMS1!D364)","v":""},"",{"$f":"IF(COUNTIF(L$2:L342,L342)=1,L342,\"\")","v":""}]
[null,null,null,null,null,null,null,null,null,null,{"$f":"+IF(N343=\"\",\"\",MAX(K$1:K342)+1)","v":""},{"$f":"IF(Deviation_w_Addon_CPMS1!D365=\"\",\"\",Deviation_w_Addon_CPMS1!D365)","v":""},"",{"$f":"IF(COUNTIF(L$2:L343,L343)=1,L343,\"\")","v":""}]
[null,null,null,null,null,null,null,null,null,null,{"$f":"+IF(N344=\"\",\"\",MAX(K$1:K343)+1)","v":""},{"$f":"IF(Deviation_w_Addon_CPMS1!D366=\"\",\"\",Deviation_w_Addon_CPMS1!D366)","v":""},"",{"$f":"IF(COUNTIF(L$2:L344,L344)=1,L344,\"\")","v":""}]
[null,null,null,null,null,null,null,null,null,null,{"$f":"+IF(N345=\"\",\"\",MAX(K$1:K344)+1)","v":""},{"$f":"IF(Deviation_w_Addon_CPMS1!D367=\"\",\"\",Deviation_w_Addon_CPMS1!D367)","v":""},"",{"$f":"IF(COUNTIF(L$2:L345,L345)=1,L345,\"\")","v":""}]
[null,null,null,null,null,null,null,null,null,null,{"$f":"+IF(N346=\"\",\"\",MAX(K$1:K345)+1)","v":""},{"$f":"IF(Deviation_w_Addon_CPMS1!D368=\"\",\"\",Deviation_w_Addon_CPMS1!D368)","v":""},"",{"$f":"IF(COUNTIF(L$2:L346,L346)=1,L346,\"\")","v":""}]
[null,null,null,null,null,null,null,null,null,null,{"$f":"+IF(N347=\"\",\"\",MAX(K$1:K346)+1)","v":""},{"$f":"IF(Deviation_w_Addon_CPMS1!D369=\"\",\"\",Deviation_w_Addon_CPMS1!D369)","v":""},"",{"$f":"IF(COUNTIF(L$2:L347,L347)=1,L347,\"\")","v":""}]
[null,null,null,null,null,null,null,null,null,null,{"$f":"+IF(N348=\"\",\"\",MAX(K$1:K347)+1)","v":""},{"$f":"IF(Deviation_w_Addon_CPMS1!D370=\"\",\"\",Deviation_w_Addon_CPMS1!D370)","v":""},"",{"$f":"IF(COUNTIF(L$2:L348,L348)=1,L348,\"\")","v":""}]
[null,null,null,null,null,null,null,null,null,null,{"$f":"+IF(N349=\"\",\"\",MAX(K$1:K348)+1)","v":""},{"$f":"IF(Deviation_w_Addon_CPMS1!D371=\"\",\"\",Deviation_w_Addon_CPMS1!D371)","v":""},"",{"$f":"IF(COUNTIF(L$2:L349,L349)=1,L349,\"\")","v":""}]
[null,null,null,null,null,null,null,null,null,null,{"$f":"+IF(N350=\"\",\"\",MAX(K$1:K349)+1)","v":""},{"$f":"IF(Deviation_w_Addon_CPMS1!D372=\"\",\"\",Deviation_w_Addon_CPMS1!D372)","v":""},"",{"$f":"IF(COUNTIF(L$2:L350,L350)=1,L350,\"\")","v":""}]
[null,null,null,null,null,null,null,null,null,null,{"$f":"+IF(N351=\"\",\"\",MAX(K$1:K350)+1)","v":""},{"$f":"IF(Deviation_w_Addon_CPMS1!D373=\"\",\"\",Deviation_w_Addon_CPMS1!D373)","v":""},"",{"$f":"IF(COUNTIF(L$2:L351,L351)=1,L351,\"\")","v":""}]
[null,null,null,null,null,null,null,null,null,null,{"$f":"+IF(N352=\"\",\"\",MAX(K$1:K351)+1)","v":""},{"$f":"IF(Deviation_w_Addon_CPMS1!D374=\"\",\"\",Deviation_w_Addon_CPMS1!D374)","v":""},"",{"$f":"IF(COUNTIF(L$2:L352,L352)=1,L352,\"\")","v":""}]
[null,null,null,null,null,null,null,null,null,null,{"$f":"+IF(N353=\"\",\"\",MAX(K$1:K352)+1)","v":""},{"$f":"IF(Deviation_w_Addon_CPMS1!D375=\"\",\"\",Deviation_w_Addon_CPMS1!D375)","v":""},"",{"$f":"IF(COUNTIF(L$2:L353,L353)=1,L353,\"\")","v":""}]
[null,null,null,null,null,null,null,null,null,null,{"$f":"+IF(N354=\"\",\"\",MAX(K$1:K353)+1)","v":""},{"$f":"IF(Deviation_w_Addon_CPMS1!D376=\"\",\"\",Deviation_w_Addon_CPMS1!D376)","v":""},"",{"$f":"IF(COUNTIF(L$2:L354,L354)=1,L354,\"\")","v":""}]
[null,null,null,null,null,null,null,null,null,null,{"$f":"+IF(N355=\"\",\"\",MAX(K$1:K354)+1)","v":""},{"$f":"IF(Deviation_w_Addon_CPMS1!D377=\"\",\"\",Deviation_w_Addon_CPMS1!D377)","v":""},"",{"$f":"IF(COUNTIF(L$2:L355,L355)=1,L355,\"\")","v":""}]
[null,null,null,null,null,null,null,null,null,null,{"$f":"+IF(N356=\"\",\"\",MAX(K$1:K355)+1)","v":""},{"$f":"IF(Deviation_w_Addon_CPMS1!D378=\"\",\"\",Deviation_w_Addon_CPMS1!D378)","v":""},"",{"$f":"IF(COUNTIF(L$2:L356,L356)=1,L356,\"\")","v":""}]
[null,null,null,null,null,null,null,null,null,null,{"$f":"+IF(N357=\"\",\"\",MAX(K$1:K356)+1)","v":""},{"$f":"IF(Deviation_w_Addon_CPMS1!D379=\"\",\"\",Deviation_w_Addon_CPMS1!D379)","v":""},"",{"$f":"IF(COUNTIF(L$2:L357,L357)=1,L357,\"\")","v":""}]
[null,null,null,null,null,null,null,null,null,null,{"$f":"+IF(N358=\"\",\"\",MAX(K$1:K357)+1)","v":""},{"$f":"IF(Deviation_w_Addon_CPMS1!D380=\"\",\"\",Deviation_w_Addon_CPMS1!D380)","v":""},"",{"$f":"IF(COUNTIF(L$2:L358,L358)=1,L358,\"\")","v":""}]
[null,null,null,null,null,null,null,null,null,null,{"$f":"+IF(N359=\"\",\"\",MAX(K$1:K358)+1)","v":""},{"$f":"IF(Deviation_w_Addon_CPMS1!D381=\"\",\"\",Deviation_w_Addon_CPMS1!D381)","v":""},"",{"$f":"IF(COUNTIF(L$2:L359,L359)=1,L359,\"\")","v":""}]
[null,null,null,null,null,null,null,null,null,null,{"$f":"+IF(N360=\"\",\"\",MAX(K$1:K359)+1)","v":""},{"$f":"IF(Deviation_w_Addon_CPMS1!D382=\"\",\"\",Deviation_w_Addon_CPMS1!D382)","v":""},"",{"$f":"IF(COUNTIF(L$2:L360,L360)=1,L360,\"\")","v":""}]
[null,null,null,null,null,null,null,null,null,null,{"$f":"+IF(N361=\"\",\"\",MAX(K$1:K360)+1)","v":""},{"$f":"IF(Deviation_w_Addon_CPMS1!D383=\"\",\"\",Deviation_w_Addon_CPMS1!D383)","v":""},"",{"$f":"IF(COUNTIF(L$2:L361,L361)=1,L361,\"\")","v":""}]
[null,null,null,null,null,null,null,null,null,null,{"$f":"+IF(N362=\"\",\"\",MAX(K$1:K361)+1)","v":""},{"$f":"IF(Deviation_w_Addon_CPMS1!D384=\"\",\"\",Deviation_w_Addon_CPMS1!D384)","v":""},"",{"$f":"IF(COUNTIF(L$2:L362,L362)=1,L362,\"\")","v":""}]
[null,null,null,null,null,null,null,null,null,null,{"$f":"+IF(N363=\"\",\"\",MAX(K$1:K362)+1)","v":""},{"$f":"IF(Deviation_w_Addon_CPMS1!D385=\"\",\"\",Deviation_w_Addon_CPMS1!D385)","v":""},"",{"$f":"IF(COUNTIF(L$2:L363,L363)=1,L363,\"\")","v":""}]
[null,null,null,null,null,null,null,null,null,null,{"$f":"+IF(N364=\"\",\"\",MAX(K$1:K363)+1)","v":""},{"$f":"IF(Deviation_w_Addon_CPMS1!D386=\"\",\"\",Deviation_w_Addon_CPMS1!D386)","v":""},"",{"$f":"IF(COUNTIF(L$2:L364,L364)=1,L364,\"\")","v":""}]
[null,null,null,null,null,null,null,null,null,null,{"$f":"+IF(N365=\"\",\"\",MAX(K$1:K364)+1)","v":""},{"$f":"IF(Deviation_w_Addon_CPMS1!D387=\"\",\"\",Deviation_w_Addon_CPMS1!D387)","v":""},"",{"$f":"IF(COUNTIF(L$2:L365,L365)=1,L365,\"\")","v":""}]
[null,null,null,null,null,null,null,null,null,null,{"$f":"+IF(N366=\"\",\"\",MAX(K$1:K365)+1)","v":""},{"$f":"IF(Deviation_w_Addon_CPMS1!D388=\"\",\"\",Deviation_w_Addon_CPMS1!D388)","v":""},"",{"$f":"IF(COUNTIF(L$2:L366,L366)=1,L366,\"\")","v":""}]
[null,null,null,null,null,null,null,null,null,null,{"$f":"+IF(N367=\"\",\"\",MAX(K$1:K366)+1)","v":""},{"$f":"IF(Deviation_w_Addon_CPMS1!D389=\"\",\"\",Deviation_w_Addon_CPMS1!D389)","v":""},"",{"$f":"IF(COUNTIF(L$2:L367,L367)=1,L367,\"\")","v":""}]
[null,null,null,null,null,null,null,null,null,null,{"$f":"+IF(N368=\"\",\"\",MAX(K$1:K367)+1)","v":""},{"$f":"IF(Deviation_w_Addon_CPMS1!D390=\"\",\"\",Deviation_w_Addon_CPMS1!D390)","v":""},"",{"$f":"IF(COUNTIF(L$2:L368,L368)=1,L368,\"\")","v":""}]
[null,null,null,null,null,null,null,null,null,null,{"$f":"+IF(N369=\"\",\"\",MAX(K$1:K368)+1)","v":""},{"$f":"IF(Deviation_w_Addon_CPMS1!D391=\"\",\"\",Deviation_w_Addon_CPMS1!D391)","v":""},"",{"$f":"IF(COUNTIF(L$2:L369,L369)=1,L369,\"\")","v":""}]
[null,null,null,null,null,null,null,null,null,null,{"$f":"+IF(N370=\"\",\"\",MAX(K$1:K369)+1)","v":""},{"$f":"IF(Deviation_w_Addon_CPMS1!D392=\"\",\"\",Deviation_w_Addon_CPMS1!D392)","v":""},"",{"$f":"IF(COUNTIF(L$2:L370,L370)=1,L370,\"\")","v":""}]
[null,null,null,null,null,null,null,null,null,null,{"$f":"+IF(N371=\"\",\"\",MAX(K$1:K370)+1)","v":""},{"$f":"IF(Deviation_w_Addon_CPMS1!D393=\"\",\"\",Deviation_w_Addon_CPMS1!D393)","v":""},"",{"$f":"IF(COUNTIF(L$2:L371,L371)=1,L371,\"\")","v":""}]
[null,null,null,null,null,null,null,null,null,null,{"$f":"+IF(N372=\"\",\"\",MAX(K$1:K371)+1)","v":""},{"$f":"IF(Deviation_w_Addon_CPMS1!D394=\"\",\"\",Deviation_w_Addon_CPMS1!D394)","v":""},"",{"$f":"IF(COUNTIF(L$2:L372,L372)=1,L372,\"\")","v":""}]
[null,null,null,null,null,null,null,null,null,null,{"$f":"+IF(N373=\"\",\"\",MAX(K$1:K372)+1)","v":""},{"$f":"IF(Deviation_w_Addon_CPMS1!D395=\"\",\"\",Deviation_w_Addon_CPMS1!D395)","v":""},"",{"$f":"IF(COUNTIF(L$2:L373,L373)=1,L373,\"\")","v":""}]
[null,null,null,null,null,null,null,null,null,null,{"$f":"+IF(N374=\"\",\"\",MAX(K$1:K373)+1)","v":""},{"$f":"IF(Deviation_w_Addon_CPMS1!D396=\"\",\"\",Deviation_w_Addon_CPMS1!D396)","v":""},"",{"$f":"IF(COUNTIF(L$2:L374,L374)=1,L374,\"\")","v":""}]
[null,null,null,null,null,null,null,null,null,null,{"$f":"+IF(N375=\"\",\"\",MAX(K$1:K374)+1)","v":""},{"$f":"IF(Deviation_w_Addon_CPMS1!D397=\"\",\"\",Deviation_w_Addon_CPMS1!D397)","v":""},"",{"$f":"IF(COUNTIF(L$2:L375,L375)=1,L375,\"\")","v":""}]
[null,null,null,null,null,null,null,null,null,null,{"$f":"+IF(N376=\"\",\"\",MAX(K$1:K375)+1)","v":""},{"$f":"IF(Deviation_w_Addon_CPMS1!D398=\"\",\"\",Deviation_w_Addon_CPMS1!D398)","v":""},"",{"$f":"IF(COUNTIF(L$2:L376,L376)=1,L376,\"\")","v":""}]
[null,null,null,null,null,null,null,null,null,null,{"$f":"+IF(N377=\"\",\"\",MAX(K$1:K376)+1)","v":""},{"$f":"IF(Deviation_w_Addon_CPMS1!D399=\"\",\"\",Deviation_w_Addon_CPMS1!D399)","v":""},"",{"$f":"IF(COUNTIF(L$2:L377,L377)=1,L377,\"\")","v":""}]
[null,null,null,null,null,null,null,null,null,null,{"$f":"+IF(N378=\"\",\"\",MAX(K$1:K377)+1)","v":""},{"$f":"IF(Deviation_w_Addon_CPMS1!D400=\"\",\"\",Deviation_w_Addon_CPMS1!D400)","v":""},"",{"$f":"IF(COUNTIF(L$2:L378,L378)=1,L378,\"\")","v":""}]
[null,null,null,null,null,null,null,null,null,null,{"$f":"+IF(N379=\"\",\"\",MAX(K$1:K378)+1)","v":""},{"$f":"IF(Deviation_w_Addon_CPMS1!D401=\"\",\"\",Deviation_w_Addon_CPMS1!D401)","v":""},"",{"$f":"IF(COUNTIF(L$2:L379,L379)=1,L379,\"\")","v":""}]
[null,null,null,null,null,null,null,null,null,null,{"$f":"+IF(N380=\"\",\"\",MAX(K$1:K379)+1)","v":""},{"$f":"IF(Deviation_w_Addon_CPMS1!D402=\"\",\"\",Deviation_w_Addon_CPMS1!D402)","v":""},"",{"$f":"IF(COUNTIF(L$2:L380,L380)=1,L380,\"\")","v":""}]
[null,null,null,null,null,null,null,null,null,null,{"$f":"+IF(N381=\"\",\"\",MAX(K$1:K380)+1)","v":""},{"$f":"IF(Deviation_w_Addon_CPMS1!D403=\"\",\"\",Deviation_w_Addon_CPMS1!D403)","v":""},"",{"$f":"IF(COUNTIF(L$2:L381,L381)=1,L381,\"\")","v":""}]
[null,null,null,null,null,null,null,null,null,null,{"$f":"+IF(N382=\"\",\"\",MAX(K$1:K381)+1)","v":""},{"$f":"IF(Deviation_w_Addon_CPMS1!D404=\"\",\"\",Deviation_w_Addon_CPMS1!D404)","v":""},"",{"$f":"IF(COUNTIF(L$2:L382,L382)=1,L382,\"\")","v":""}]
[null,null,null,null,null,null,null,null,null,null,{"$f":"+IF(N383=\"\",\"\",MAX(K$1:K382)+1)","v":""},{"$f":"IF(Deviation_w_Addon_CPMS1!D405=\"\",\"\",Deviation_w_Addon_CPMS1!D405)","v":""},"",{"$f":"IF(COUNTIF(L$2:L383,L383)=1,L383,\"\")","v":""}]
[null,null,null,null,null,null,null,null,null,null,{"$f":"+IF(N384=\"\",\"\",MAX(K$1:K383)+1)","v":""},{"$f":"IF(Deviation_w_Addon_CPMS1!D406=\"\",\"\",Deviation_w_Addon_CPMS1!D406)","v":""},"",{"$f":"IF(COUNTIF(L$2:L384,L384)=1,L384,\"\")","v":""}]
[null,null,null,null,null,null,null,null,null,null,{"$f":"+IF(N385=\"\",\"\",MAX(K$1:K384)+1)","v":""},{"$f":"IF(Deviation_w_Addon_CPMS1!D407=\"\",\"\",Deviation_w_Addon_CPMS1!D407)","v":""},"",{"$f":"IF(COUNTIF(L$2:L385,L385)=1,L385,\"\")","v":""}]
[null,null,null,null,null,null,null,null,null,null,{"$f":"+IF(N386=\"\",\"\",MAX(K$1:K385)+1)","v":""},{"$f":"IF(Deviation_w_Addon_CPMS1!D408=\"\",\"\",Deviation_w_Addon_CPMS1!D408)","v":""},{"$f":"+IFERROR(INDEX($L$2:$L$501,MATCH(ROW()-ROW($M$1),$K$2:$K$501,0)),\"\")","v":""},{"$f":"IF(COUNTIF(L$2:L386,L386)=1,L386,\"\")","v":""}]
[null,null,null,null,null,null,null,null,null,null,{"$f":"+IF(N387=\"\",\"\",MAX(K$1:K386)+1)","v":""},{"$f":"IF(Deviation_w_Addon_CPMS1!D409=\"\",\"\",Deviation_w_Addon_CPMS1!D409)","v":""},"",{"$f":"IF(COUNTIF(L$2:L387,L387)=1,L387,\"\")","v":""}]
[null,null,null,null,null,null,null,null,null,null,{"$f":"+IF(N388=\"\",\"\",MAX(K$1:K387)+1)","v":""},{"$f":"IF(Deviation_w_Addon_CPMS1!D410=\"\",\"\",Deviation_w_Addon_CPMS1!D410)","v":""},"",{"$f":"IF(COUNTIF(L$2:L388,L388)=1,L388,\"\")","v":""}]
[null,null,null,null,null,null,null,null,null,null,{"$f":"+IF(N389=\"\",\"\",MAX(K$1:K388)+1)","v":""},{"$f":"IF(Deviation_w_Addon_CPMS1!D411=\"\",\"\",Deviation_w_Addon_CPMS1!D411)","v":""},"",{"$f":"IF(COUNTIF(L$2:L389,L389)=1,L389,\"\")","v":""}]
[null,null,null,null,null,null,null,null,null,null,{"$f":"+IF(N390=\"\",\"\",MAX(K$1:K389)+1)","v":""},{"$f":"IF(Deviation_w_Addon_CPMS1!D412=\"\",\"\",Deviation_w_Addon_CPMS1!D412)","v":""},"",{"$f":"IF(COUNTIF(L$2:L390,L390)=1,L390,\"\")","v":""}]
[null,null,null,null,null,null,null,null,null,null,{"$f":"+IF(N391=\"\",\"\",MAX(K$1:K390)+1)","v":""},{"$f":"IF(Deviation_w_Addon_CPMS1!D413=\"\",\"\",Deviation_w_Addon_CPMS1!D413)","v":""},"",{"$f":"IF(COUNTIF(L$2:L391,L391)=1,L391,\"\")","v":""}]
[null,null,null,null,null,null,null,null,null,null,{"$f":"+IF(N392=\"\",\"\",MAX(K$1:K391)+1)","v":""},{"$f":"IF(Deviation_w_Addon_CPMS1!D414=\"\",\"\",Deviation_w_Addon_CPMS1!D414)","v":""},"",{"$f":"IF(COUNTIF(L$2:L392,L392)=1,L392,\"\")","v":""}]
[null,null,null,null,null,null,null,null,null,null,{"$f":"+IF(N393=\"\",\"\",MAX(K$1:K392)+1)","v":""},{"$f":"IF(Deviation_w_Addon_CPMS1!D415=\"\",\"\",Deviation_w_Addon_CPMS1!D415)","v":""},"",{"$f":"IF(COUNTIF(L$2:L393,L393)=1,L393,\"\")","v":""}]
[null,null,null,null,null,null,null,null,null,null,{"$f":"+IF(N394=\"\",\"\",MAX(K$1:K393)+1)","v":""},{"$f":"IF(Deviation_w_Addon_CPMS1!D416=\"\",\"\",Deviation_w_Addon_CPMS1!D416)","v":""},"",{"$f":"IF(COUNTIF(L$2:L394,L394)=1,L394,\"\")","v":""}]
[null,null,null,null,null,null,null,null,null,null,{"$f":"+IF(N395=\"\",\"\",MAX(K$1:K394)+1)","v":""},{"$f":"IF(Deviation_w_Addon_CPMS1!D417=\"\",\"\",Deviation_w_Addon_CPMS1!D417)","v":""},"",{"$f":"IF(COUNTIF(L$2:L395,L395)=1,L395,\"\")","v":""}]
[null,null,null,null,null,null,null,null,null,null,{"$f":"+IF(N396=\"\",\"\",MAX(K$1:K395)+1)","v":""},{"$f":"IF(Deviation_w_Addon_CPMS1!D418=\"\",\"\",Deviation_w_Addon_CPMS1!D418)","v":""},"",{"$f":"IF(COUNTIF(L$2:L396,L396)=1,L396,\"\")","v":""}]
[null,null,null,null,null,null,null,null,null,null,{"$f":"+IF(N397=\"\",\"\",MAX(K$1:K396)+1)","v":""},{"$f":"IF(Deviation_w_Addon_CPMS1!D419=\"\",\"\",Deviation_w_Addon_CPMS1!D419)","v":""},"",{"$f":"IF(COUNTIF(L$2:L397,L397)=1,L397,\"\")","v":""}]
[null,null,null,null,null,null,null,null,null,null,{"$f":"+IF(N398=\"\",\"\",MAX(K$1:K397)+1)","v":""},{"$f":"IF(Deviation_w_Addon_CPMS1!D420=\"\",\"\",Deviation_w_Addon_CPMS1!D420)","v":""},"",{"$f":"IF(COUNTIF(L$2:L398,L398)=1,L398,\"\")","v":""}]
[null,null,null,null,null,null,null,null,null,null,{"$f":"+IF(N399=\"\",\"\",MAX(K$1:K398)+1)","v":""},{"$f":"IF(Deviation_w_Addon_CPMS1!D421=\"\",\"\",Deviation_w_Addon_CPMS1!D421)","v":""},"",{"$f":"IF(COUNTIF(L$2:L399,L399)=1,L399,\"\")","v":""}]
[null,null,null,null,null,null,null,null,null,null,{"$f":"+IF(N400=\"\",\"\",MAX(K$1:K399)+1)","v":""},{"$f":"IF(Deviation_w_Addon_CPMS1!D422=\"\",\"\",Deviation_w_Addon_CPMS1!D422)","v":""},"",{"$f":"IF(COUNTIF(L$2:L400,L400)=1,L400,\"\")","v":""}]
[null,null,null,null,null,null,null,null,null,null,{"$f":"+IF(N401=\"\",\"\",MAX(K$1:K400)+1)","v":""},{"$f":"IF(Deviation_w_Addon_CPMS1!D423=\"\",\"\",Deviation_w_Addon_CPMS1!D423)","v":""},"",{"$f":"IF(COUNTIF(L$2:L401,L401)=1,L401,\"\")","v":""}]
[null,null,null,null,null,null,null,null,null,null,{"$f":"+IF(N402=\"\",\"\",MAX(K$1:K401)+1)","v":""},{"$f":"IF(Deviation_w_Addon_CPMS1!D424=\"\",\"\",Deviation_w_Addon_CPMS1!D424)","v":""},"",{"$f":"IF(COUNTIF(L$2:L402,L402)=1,L402,\"\")","v":""}]
[null,null,null,null,null,null,null,null,null,null,{"$f":"+IF(N403=\"\",\"\",MAX(K$1:K402)+1)","v":""},{"$f":"IF(Deviation_w_Addon_CPMS1!D425=\"\",\"\",Deviation_w_Addon_CPMS1!D425)","v":""},"",{"$f":"IF(COUNTIF(L$2:L403,L403)=1,L403,\"\")","v":""}]
[null,null,null,null,null,null,null,null,null,null,{"$f":"+IF(N404=\"\",\"\",MAX(K$1:K403)+1)","v":""},{"$f":"IF(Deviation_w_Addon_CPMS1!D426=\"\",\"\",Deviation_w_Addon_CPMS1!D426)","v":""},"",{"$f":"IF(COUNTIF(L$2:L404,L404)=1,L404,\"\")","v":""}]
[null,null,null,null,null,null,null,null,null,null,{"$f":"+IF(N405=\"\",\"\",MAX(K$1:K404)+1)","v":""},{"$f":"IF(Deviation_w_Addon_CPMS1!D427=\"\",\"\",Deviation_w_Addon_CPMS1!D427)","v":""},"",{"$f":"IF(COUNTIF(L$2:L405,L405)=1,L405,\"\")","v":""}]
[null,null,null,null,null,null,null,null,null,null,{"$f":"+IF(N406=\"\",\"\",MAX(K$1:K405)+1)","v":""},{"$f":"IF(Deviation_w_Addon_CPMS1!D428=\"\",\"\",Deviation_w_Addon_CPMS1!D428)","v":""},"",{"$f":"IF(COUNTIF(L$2:L406,L406)=1,L406,\"\")","v":""}]
[null,null,null,null,null,null,null,null,null,null,{"$f":"+IF(N407=\"\",\"\",MAX(K$1:K406)+1)","v":""},{"$f":"IF(Deviation_w_Addon_CPMS1!D429=\"\",\"\",Deviation_w_Addon_CPMS1!D429)","v":""},"",{"$f":"IF(COUNTIF(L$2:L407,L407)=1,L407,\"\")","v":""}]
[null,null,null,null,null,null,null,null,null,null,{"$f":"+IF(N408=\"\",\"\",MAX(K$1:K407)+1)","v":""},{"$f":"IF(Deviation_w_Addon_CPMS1!D430=\"\",\"\",Deviation_w_Addon_CPMS1!D430)","v":""},"",{"$f":"IF(COUNTIF(L$2:L408,L408)=1,L408,\"\")","v":""}]
[null,null,null,null,null,null,null,null,null,null,{"$f":"+IF(N409=\"\",\"\",MAX(K$1:K408)+1)","v":""},{"$f":"IF(Deviation_w_Addon_CPMS1!D431=\"\",\"\",Deviation_w_Addon_CPMS1!D431)","v":""},"",{"$f":"IF(COUNTIF(L$2:L409,L409)=1,L409,\"\")","v":""}]
[null,null,null,null,null,null,null,null,null,null,{"$f":"+IF(N410=\"\",\"\",MAX(K$1:K409)+1)","v":""},{"$f":"IF(Deviation_w_Addon_CPMS1!D432=\"\",\"\",Deviation_w_Addon_CPMS1!D432)","v":""},"",{"$f":"IF(COUNTIF(L$2:L410,L410)=1,L410,\"\")","v":""}]
[null,null,null,null,null,null,null,null,null,null,{"$f":"+IF(N411=\"\",\"\",MAX(K$1:K410)+1)","v":""},{"$f":"IF(Deviation_w_Addon_CPMS1!D433=\"\",\"\",Deviation_w_Addon_CPMS1!D433)","v":""},"",{"$f":"IF(COUNTIF(L$2:L411,L411)=1,L411,\"\")","v":""}]
[null,null,null,null,null,null,null,null,null,null,{"$f":"+IF(N412=\"\",\"\",MAX(K$1:K411)+1)","v":""},{"$f":"IF(Deviation_w_Addon_CPMS1!D434=\"\",\"\",Deviation_w_Addon_CPMS1!D434)","v":""},"",{"$f":"IF(COUNTIF(L$2:L412,L412)=1,L412,\"\")","v":""}]
[null,null,null,null,null,null,null,null,null,null,{"$f":"+IF(N413=\"\",\"\",MAX(K$1:K412)+1)","v":""},{"$f":"IF(Deviation_w_Addon_CPMS1!D435=\"\",\"\",Deviation_w_Addon_CPMS1!D435)","v":""},"",{"$f":"IF(COUNTIF(L$2:L413,L413)=1,L413,\"\")","v":""}]
[null,null,null,null,null,null,null,null,null,null,{"$f":"+IF(N414=\"\",\"\",MAX(K$1:K413)+1)","v":""},{"$f":"IF(Deviation_w_Addon_CPMS1!D436=\"\",\"\",Deviation_w_Addon_CPMS1!D436)","v":""},"",{"$f":"IF(COUNTIF(L$2:L414,L414)=1,L414,\"\")","v":""}]
[null,null,null,null,null,null,null,null,null,null,{"$f":"+IF(N415=\"\",\"\",MAX(K$1:K414)+1)","v":""},{"$f":"IF(Deviation_w_Addon_CPMS1!D437=\"\",\"\",Deviation_w_Addon_CPMS1!D437)","v":""},"",{"$f":"IF(COUNTIF(L$2:L415,L415)=1,L415,\"\")","v":""}]
[null,null,null,null,null,null,null,null,null,null,{"$f":"+IF(N416=\"\",\"\",MAX(K$1:K415)+1)","v":""},{"$f":"IF(Deviation_w_Addon_CPMS1!D438=\"\",\"\",Deviation_w_Addon_CPMS1!D438)","v":""},"",{"$f":"IF(COUNTIF(L$2:L416,L416)=1,L416,\"\")","v":""}]
[null,null,null,null,null,null,null,null,null,null,{"$f":"+IF(N417=\"\",\"\",MAX(K$1:K416)+1)","v":""},{"$f":"IF(Deviation_w_Addon_CPMS1!D439=\"\",\"\",Deviation_w_Addon_CPMS1!D439)","v":""},"",{"$f":"IF(COUNTIF(L$2:L417,L417)=1,L417,\"\")","v":""}]
[null,null,null,null,null,null,null,null,null,null,{"$f":"+IF(N418=\"\",\"\",MAX(K$1:K417)+1)","v":""},{"$f":"IF(Deviation_w_Addon_CPMS1!D440=\"\",\"\",Deviation_w_Addon_CPMS1!D440)","v":""},"",{"$f":"IF(COUNTIF(L$2:L418,L418)=1,L418,\"\")","v":""}]
[null,null,null,null,null,null,null,null,null,null,{"$f":"+IF(N419=\"\",\"\",MAX(K$1:K418)+1)","v":""},{"$f":"IF(Deviation_w_Addon_CPMS1!D441=\"\",\"\",Deviation_w_Addon_CPMS1!D441)","v":""},"",{"$f":"IF(COUNTIF(L$2:L419,L419)=1,L419,\"\")","v":""}]
[null,null,null,null,null,null,null,null,null,null,{"$f":"+IF(N420=\"\",\"\",MAX(K$1:K419)+1)","v":""},{"$f":"IF(Deviation_w_Addon_CPMS1!D442=\"\",\"\",Deviation_w_Addon_CPMS1!D442)","v":""},"",{"$f":"IF(COUNTIF(L$2:L420,L420)=1,L420,\"\")","v":""}]
[null,null,null,null,null,null,null,null,null,null,{"$f":"+IF(N421=\"\",\"\",MAX(K$1:K420)+1)","v":""},{"$f":"IF(Deviation_w_Addon_CPMS1!D443=\"\",\"\",Deviation_w_Addon_CPMS1!D443)","v":""},"",{"$f":"IF(COUNTIF(L$2:L421,L421)=1,L421,\"\")","v":""}]
[null,null,null,null,null,null,null,null,null,null,{"$f":"+IF(N422=\"\",\"\",MAX(K$1:K421)+1)","v":""},{"$f":"IF(Deviation_w_Addon_CPMS1!D444=\"\",\"\",Deviation_w_Addon_CPMS1!D444)","v":""},"",{"$f":"IF(COUNTIF(L$2:L422,L422)=1,L422,\"\")","v":""}]
[null,null,null,null,null,null,null,null,null,null,{"$f":"+IF(N423=\"\",\"\",MAX(K$1:K422)+1)","v":""},{"$f":"IF(Deviation_w_Addon_CPMS1!D445=\"\",\"\",Deviation_w_Addon_CPMS1!D445)","v":""},"",{"$f":"IF(COUNTIF(L$2:L423,L423)=1,L423,\"\")","v":""}]
[null,null,null,null,null,null,null,null,null,null,{"$f":"+IF(N424=\"\",\"\",MAX(K$1:K423)+1)","v":""},{"$f":"IF(Deviation_w_Addon_CPMS1!D446=\"\",\"\",Deviation_w_Addon_CPMS1!D446)","v":""},"",{"$f":"IF(COUNTIF(L$2:L424,L424)=1,L424,\"\")","v":""}]
[null,null,null,null,null,null,null,null,null,null,{"$f":"+IF(N425=\"\",\"\",MAX(K$1:K424)+1)","v":""},{"$f":"IF(Deviation_w_Addon_CPMS1!D447=\"\",\"\",Deviation_w_Addon_CPMS1!D447)","v":""},"",{"$f":"IF(COUNTIF(L$2:L425,L425)=1,L425,\"\")","v":""}]
[null,null,null,null,null,null,null,null,null,null,{"$f":"+IF(N426=\"\",\"\",MAX(K$1:K425)+1)","v":""},{"$f":"IF(Deviation_w_Addon_CPMS1!D448=\"\",\"\",Deviation_w_Addon_CPMS1!D448)","v":""},"",{"$f":"IF(COUNTIF(L$2:L426,L426)=1,L426,\"\")","v":""}]
[null,null,null,null,null,null,null,null,null,null,{"$f":"+IF(N427=\"\",\"\",MAX(K$1:K426)+1)","v":""},{"$f":"IF(Deviation_w_Addon_CPMS1!D449=\"\",\"\",Deviation_w_Addon_CPMS1!D449)","v":""},"",{"$f":"IF(COUNTIF(L$2:L427,L427)=1,L427,\"\")","v":""}]
[null,null,null,null,null,null,null,null,null,null,{"$f":"+IF(N428=\"\",\"\",MAX(K$1:K427)+1)","v":""},{"$f":"IF(Deviation_w_Addon_CPMS1!D450=\"\",\"\",Deviation_w_Addon_CPMS1!D450)","v":""},"",{"$f":"IF(COUNTIF(L$2:L428,L428)=1,L428,\"\")","v":""}]
[null,null,null,null,null,null,null,null,null,null,{"$f":"+IF(N429=\"\",\"\",MAX(K$1:K428)+1)","v":""},{"$f":"IF(Deviation_w_Addon_CPMS1!D451=\"\",\"\",Deviation_w_Addon_CPMS1!D451)","v":""},"",{"$f":"IF(COUNTIF(L$2:L429,L429)=1,L429,\"\")","v":""}]
[null,null,null,null,null,null,null,null,null,null,{"$f":"+IF(N430=\"\",\"\",MAX(K$1:K429)+1)","v":""},{"$f":"IF(Deviation_w_Addon_CPMS1!D452=\"\",\"\",Deviation_w_Addon_CPMS1!D452)","v":""},"",{"$f":"IF(COUNTIF(L$2:L430,L430)=1,L430,\"\")","v":""}]
[null,null,null,null,null,null,null,null,null,null,{"$f":"+IF(N431=\"\",\"\",MAX(K$1:K430)+1)","v":""},{"$f":"IF(Deviation_w_Addon_CPMS1!D453=\"\",\"\",Deviation_w_Addon_CPMS1!D453)","v":""},"",{"$f":"IF(COUNTIF(L$2:L431,L431)=1,L431,\"\")","v":""}]
[null,null,null,null,null,null,null,null,null,null,{"$f":"+IF(N432=\"\",\"\",MAX(K$1:K431)+1)","v":""},{"$f":"IF(Deviation_w_Addon_CPMS1!D454=\"\",\"\",Deviation_w_Addon_CPMS1!D454)","v":""},"",{"$f":"IF(COUNTIF(L$2:L432,L432)=1,L432,\"\")","v":""}]
[null,null,null,null,null,null,null,null,null,null,{"$f":"+IF(N433=\"\",\"\",MAX(K$1:K432)+1)","v":""},{"$f":"IF(Deviation_w_Addon_CPMS1!D455=\"\",\"\",Deviation_w_Addon_CPMS1!D455)","v":""},"",{"$f":"IF(COUNTIF(L$2:L433,L433)=1,L433,\"\")","v":""}]
[null,null,null,null,null,null,null,null,null,null,{"$f":"+IF(N434=\"\",\"\",MAX(K$1:K433)+1)","v":""},{"$f":"IF(Deviation_w_Addon_CPMS1!D456=\"\",\"\",Deviation_w_Addon_CPMS1!D456)","v":""},"",{"$f":"IF(COUNTIF(L$2:L434,L434)=1,L434,\"\")","v":""}]
[null,null,null,null,null,null,null,null,null,null,{"$f":"+IF(N435=\"\",\"\",MAX(K$1:K434)+1)","v":""},{"$f":"IF(Deviation_w_Addon_CPMS1!D457=\"\",\"\",Deviation_w_Addon_CPMS1!D457)","v":""},"",{"$f":"IF(COUNTIF(L$2:L435,L435)=1,L435,\"\")","v":""}]
[null,null,null,null,null,null,null,null,null,null,{"$f":"+IF(N436=\"\",\"\",MAX(K$1:K435)+1)","v":""},{"$f":"IF(Deviation_w_Addon_CPMS1!D458=\"\",\"\",Deviation_w_Addon_CPMS1!D458)","v":""},"",{"$f":"IF(COUNTIF(L$2:L436,L436)=1,L436,\"\")","v":""}]
[null,null,null,null,null,null,null,null,null,null,{"$f":"+IF(N437=\"\",\"\",MAX(K$1:K436)+1)","v":""},{"$f":"IF(Deviation_w_Addon_CPMS1!D459=\"\",\"\",Deviation_w_Addon_CPMS1!D459)","v":""},"",{"$f":"IF(COUNTIF(L$2:L437,L437)=1,L437,\"\")","v":""}]
[null,null,null,null,null,null,null,null,null,null,{"$f":"+IF(N438=\"\",\"\",MAX(K$1:K437)+1)","v":""},{"$f":"IF(Deviation_w_Addon_CPMS1!D460=\"\",\"\",Deviation_w_Addon_CPMS1!D460)","v":""},"",{"$f":"IF(COUNTIF(L$2:L438,L438)=1,L438,\"\")","v":""}]
[null,null,null,null,null,null,null,null,null,null,{"$f":"+IF(N439=\"\",\"\",MAX(K$1:K438)+1)","v":""},{"$f":"IF(Deviation_w_Addon_CPMS1!D461=\"\",\"\",Deviation_w_Addon_CPMS1!D461)","v":""},"",{"$f":"IF(COUNTIF(L$2:L439,L439)=1,L439,\"\")","v":""}]
[null,null,null,null,null,null,null,null,null,null,{"$f":"+IF(N440=\"\",\"\",MAX(K$1:K439)+1)","v":""},{"$f":"IF(Deviation_w_Addon_CPMS1!D462=\"\",\"\",Deviation_w_Addon_CPMS1!D462)","v":""},"",{"$f":"IF(COUNTIF(L$2:L440,L440)=1,L440,\"\")","v":""}]
[null,null,null,null,null,null,null,null,null,null,{"$f":"+IF(N441=\"\",\"\",MAX(K$1:K440)+1)","v":""},{"$f":"IF(Deviation_w_Addon_CPMS1!D463=\"\",\"\",Deviation_w_Addon_CPMS1!D463)","v":""},"",{"$f":"IF(COUNTIF(L$2:L441,L441)=1,L441,\"\")","v":""}]
[null,null,null,null,null,null,null,null,null,null,{"$f":"+IF(N442=\"\",\"\",MAX(K$1:K441)+1)","v":""},{"$f":"IF(Deviation_w_Addon_CPMS1!D464=\"\",\"\",Deviation_w_Addon_CPMS1!D464)","v":""},"",{"$f":"IF(COUNTIF(L$2:L442,L442)=1,L442,\"\")","v":""}]
[null,null,null,null,null,null,null,null,null,null,{"$f":"+IF(N443=\"\",\"\",MAX(K$1:K442)+1)","v":""},{"$f":"IF(Deviation_w_Addon_CPMS1!D465=\"\",\"\",Deviation_w_Addon_CPMS1!D465)","v":""},"",{"$f":"IF(COUNTIF(L$2:L443,L443)=1,L443,\"\")","v":""}]
[null,null,null,null,null,null,null,null,null,null,{"$f":"+IF(N444=\"\",\"\",MAX(K$1:K443)+1)","v":""},{"$f":"IF(Deviation_w_Addon_CPMS1!D466=\"\",\"\",Deviation_w_Addon_CPMS1!D466)","v":""},"",{"$f":"IF(COUNTIF(L$2:L444,L444)=1,L444,\"\")","v":""}]
[null,null,null,null,null,null,null,null,null,null,{"$f":"+IF(N445=\"\",\"\",MAX(K$1:K444)+1)","v":""},{"$f":"IF(Deviation_w_Addon_CPMS1!D467=\"\",\"\",Deviation_w_Addon_CPMS1!D467)","v":""},"",{"$f":"IF(COUNTIF(L$2:L445,L445)=1,L445,\"\")","v":""}]
[null,null,null,null,null,null,null,null,null,null,{"$f":"+IF(N446=\"\",\"\",MAX(K$1:K445)+1)","v":""},{"$f":"IF(Deviation_w_Addon_CPMS1!D468=\"\",\"\",Deviation_w_Addon_CPMS1!D468)","v":""},"",{"$f":"IF(COUNTIF(L$2:L446,L446)=1,L446,\"\")","v":""}]
[null,null,null,null,null,null,null,null,null,null,{"$f":"+IF(N447=\"\",\"\",MAX(K$1:K446)+1)","v":""},{"$f":"IF(Deviation_w_Addon_CPMS1!D469=\"\",\"\",Deviation_w_Addon_CPMS1!D469)","v":""},"",{"$f":"IF(COUNTIF(L$2:L447,L447)=1,L447,\"\")","v":""}]
[null,null,null,null,null,null,null,null,null,null,{"$f":"+IF(N448=\"\",\"\",MAX(K$1:K447)+1)","v":""},{"$f":"IF(Deviation_w_Addon_CPMS1!D470=\"\",\"\",Deviation_w_Addon_CPMS1!D470)","v":""},"",{"$f":"IF(COUNTIF(L$2:L448,L448)=1,L448,\"\")","v":""}]
[null,null,null,null,null,null,null,null,null,null,{"$f":"+IF(N449=\"\",\"\",MAX(K$1:K448)+1)","v":""},{"$f":"IF(Deviation_w_Addon_CPMS1!D471=\"\",\"\",Deviation_w_Addon_CPMS1!D471)","v":""},"",{"$f":"IF(COUNTIF(L$2:L449,L449)=1,L449,\"\")","v":""}]
[null,null,null,null,null,null,null,null,null,null,{"$f":"+IF(N450=\"\",\"\",MAX(K$1:K449)+1)","v":""},{"$f":"IF(Deviation_w_Addon_CPMS1!D472=\"\",\"\",Deviation_w_Addon_CPMS1!D472)","v":""},{"$f":"+IFERROR(INDEX($L$2:$L$501,MATCH(ROW()-ROW($M$1),$K$2:$K$501,0)),\"\")","v":""},{"$f":"IF(COUNTIF(L$2:L450,L450)=1,L450,\"\")","v":""}]
[null,null,null,null,null,null,null,null,null,null,{"$f":"+IF(N451=\"\",\"\",MAX(K$1:K450)+1)","v":""},{"$f":"IF(Deviation_w_Addon_CPMS1!D473=\"\",\"\",Deviation_w_Addon_CPMS1!D473)","v":""},"",{"$f":"IF(COUNTIF(L$2:L451,L451)=1,L451,\"\")","v":""}]
[null,null,null,null,null,null,null,null,null,null,{"$f":"+IF(N452=\"\",\"\",MAX(K$1:K451)+1)","v":""},{"$f":"IF(Deviation_w_Addon_CPMS1!D474=\"\",\"\",Deviation_w_Addon_CPMS1!D474)","v":""},"",{"$f":"IF(COUNTIF(L$2:L452,L452)=1,L452,\"\")","v":""}]
[null,null,null,null,null,null,null,null,null,null,{"$f":"+IF(N453=\"\",\"\",MAX(K$1:K452)+1)","v":""},{"$f":"IF(Deviation_w_Addon_CPMS1!D475=\"\",\"\",Deviation_w_Addon_CPMS1!D475)","v":""},"",{"$f":"IF(COUNTIF(L$2:L453,L453)=1,L453,\"\")","v":""}]
[null,null,null,null,null,null,null,null,null,null,{"$f":"+IF(N454=\"\",\"\",MAX(K$1:K453)+1)","v":""},{"$f":"IF(Deviation_w_Addon_CPMS1!D476=\"\",\"\",Deviation_w_Addon_CPMS1!D476)","v":""},"",{"$f":"IF(COUNTIF(L$2:L454,L454)=1,L454,\"\")","v":""}]
[null,null,null,null,null,null,null,null,null,null,{"$f":"+IF(N455=\"\",\"\",MAX(K$1:K454)+1)","v":""},{"$f":"IF(Deviation_w_Addon_CPMS1!D477=\"\",\"\",Deviation_w_Addon_CPMS1!D477)","v":""},"",{"$f":"IF(COUNTIF(L$2:L455,L455)=1,L455,\"\")","v":""}]
[null,null,null,null,null,null,null,null,null,null,{"$f":"+IF(N456=\"\",\"\",MAX(K$1:K455)+1)","v":""},{"$f":"IF(Deviation_w_Addon_CPMS1!D478=\"\",\"\",Deviation_w_Addon_CPMS1!D478)","v":""},"",{"$f":"IF(COUNTIF(L$2:L456,L456)=1,L456,\"\")","v":""}]
[null,null,null,null,null,null,null,null,null,null,{"$f":"+IF(N457=\"\",\"\",MAX(K$1:K456)+1)","v":""},{"$f":"IF(Deviation_w_Addon_CPMS1!D479=\"\",\"\",Deviation_w_Addon_CPMS1!D479)","v":""},"",{"$f":"IF(COUNTIF(L$2:L457,L457)=1,L457,\"\")","v":""}]
[null,null,null,null,null,null,null,null,null,null,{"$f":"+IF(N458=\"\",\"\",MAX(K$1:K457)+1)","v":""},{"$f":"IF(Deviation_w_Addon_CPMS1!D480=\"\",\"\",Deviation_w_Addon_CPMS1!D480)","v":""},"",{"$f":"IF(COUNTIF(L$2:L458,L458)=1,L458,\"\")","v":""}]
[null,null,null,null,null,null,null,null,null,null,{"$f":"+IF(N459=\"\",\"\",MAX(K$1:K458)+1)","v":""},{"$f":"IF(Deviation_w_Addon_CPMS1!D481=\"\",\"\",Deviation_w_Addon_CPMS1!D481)","v":""},"",{"$f":"IF(COUNTIF(L$2:L459,L459)=1,L459,\"\")","v":""}]
[null,null,null,null,null,null,null,null,null,null,{"$f":"+IF(N460=\"\",\"\",MAX(K$1:K459)+1)","v":""},{"$f":"IF(Deviation_w_Addon_CPMS1!D482=\"\",\"\",Deviation_w_Addon_CPMS1!D482)","v":""},"",{"$f":"IF(COUNTIF(L$2:L460,L460)=1,L460,\"\")","v":""}]
[null,null,null,null,null,null,null,null,null,null,{"$f":"+IF(N461=\"\",\"\",MAX(K$1:K460)+1)","v":""},{"$f":"IF(Deviation_w_Addon_CPMS1!D483=\"\",\"\",Deviation_w_Addon_CPMS1!D483)","v":""},"",{"$f":"IF(COUNTIF(L$2:L461,L461)=1,L461,\"\")","v":""}]
[null,null,null,null,null,null,null,null,null,null,{"$f":"+IF(N462=\"\",\"\",MAX(K$1:K461)+1)","v":""},{"$f":"IF(Deviation_w_Addon_CPMS1!D484=\"\",\"\",Deviation_w_Addon_CPMS1!D484)","v":""},"",{"$f":"IF(COUNTIF(L$2:L462,L462)=1,L462,\"\")","v":""}]
[null,null,null,null,null,null,null,null,null,null,{"$f":"+IF(N463=\"\",\"\",MAX(K$1:K462)+1)","v":""},{"$f":"IF(Deviation_w_Addon_CPMS1!D485=\"\",\"\",Deviation_w_Addon_CPMS1!D485)","v":""},"",{"$f":"IF(COUNTIF(L$2:L463,L463)=1,L463,\"\")","v":""}]
[null,null,null,null,null,null,null,null,null,null,{"$f":"+IF(N464=\"\",\"\",MAX(K$1:K463)+1)","v":""},{"$f":"IF(Deviation_w_Addon_CPMS1!D486=\"\",\"\",Deviation_w_Addon_CPMS1!D486)","v":""},"",{"$f":"IF(COUNTIF(L$2:L464,L464)=1,L464,\"\")","v":""}]
[null,null,null,null,null,null,null,null,null,null,{"$f":"+IF(N465=\"\",\"\",MAX(K$1:K464)+1)","v":""},{"$f":"IF(Deviation_w_Addon_CPMS1!D487=\"\",\"\",Deviation_w_Addon_CPMS1!D487)","v":""},"",{"$f":"IF(COUNTIF(L$2:L465,L465)=1,L465,\"\")","v":""}]
[null,null,null,null,null,null,null,null,null,null,{"$f":"+IF(N466=\"\",\"\",MAX(K$1:K465)+1)","v":""},{"$f":"IF(Deviation_w_Addon_CPMS1!D488=\"\",\"\",Deviation_w_Addon_CPMS1!D488)","v":""},"",{"$f":"IF(COUNTIF(L$2:L466,L466)=1,L466,\"\")","v":""}]
[null,null,null,null,null,null,null,null,null,null,{"$f":"+IF(N467=\"\",\"\",MAX(K$1:K466)+1)","v":""},{"$f":"IF(Deviation_w_Addon_CPMS1!D489=\"\",\"\",Deviation_w_Addon_CPMS1!D489)","v":""},"",{"$f":"IF(COUNTIF(L$2:L467,L467)=1,L467,\"\")","v":""}]
[null,null,null,null,null,null,null,null,null,null,{"$f":"+IF(N468=\"\",\"\",MAX(K$1:K467)+1)","v":""},{"$f":"IF(Deviation_w_Addon_CPMS1!D490=\"\",\"\",Deviation_w_Addon_CPMS1!D490)","v":""},"",{"$f":"IF(COUNTIF(L$2:L468,L468)=1,L468,\"\")","v":""}]
[null,null,null,null,null,null,null,null,null,null,{"$f":"+IF(N469=\"\",\"\",MAX(K$1:K468)+1)","v":""},{"$f":"IF(Deviation_w_Addon_CPMS1!D491=\"\",\"\",Deviation_w_Addon_CPMS1!D491)","v":""},"",{"$f":"IF(COUNTIF(L$2:L469,L469)=1,L469,\"\")","v":""}]
[null,null,null,null,null,null,null,null,null,null,{"$f":"+IF(N470=\"\",\"\",MAX(K$1:K469)+1)","v":""},{"$f":"IF(Deviation_w_Addon_CPMS1!D492=\"\",\"\",Deviation_w_Addon_CPMS1!D492)","v":""},"",{"$f":"IF(COUNTIF(L$2:L470,L470)=1,L470,\"\")","v":""}]
[null,null,null,null,null,null,null,null,null,null,{"$f":"+IF(N471=\"\",\"\",MAX(K$1:K470)+1)","v":""},{"$f":"IF(Deviation_w_Addon_CPMS1!D493=\"\",\"\",Deviation_w_Addon_CPMS1!D493)","v":""},"",{"$f":"IF(COUNTIF(L$2:L471,L471)=1,L471,\"\")","v":""}]
[null,null,null,null,null,null,null,null,null,null,{"$f":"+IF(N472=\"\",\"\",MAX(K$1:K471)+1)","v":""},{"$f":"IF(Deviation_w_Addon_CPMS1!D494=\"\",\"\",Deviation_w_Addon_CPMS1!D494)","v":""},"",{"$f":"IF(COUNTIF(L$2:L472,L472)=1,L472,\"\")","v":""}]
[null,null,null,null,null,null,null,null,null,null,{"$f":"+IF(N473=\"\",\"\",MAX(K$1:K472)+1)","v":""},{"$f":"IF(Deviation_w_Addon_CPMS1!D495=\"\",\"\",Deviation_w_Addon_CPMS1!D495)","v":""},"",{"$f":"IF(COUNTIF(L$2:L473,L473)=1,L473,\"\")","v":""}]
[null,null,null,null,null,null,null,null,null,null,{"$f":"+IF(N474=\"\",\"\",MAX(K$1:K473)+1)","v":""},{"$f":"IF(Deviation_w_Addon_CPMS1!D496=\"\",\"\",Deviation_w_Addon_CPMS1!D496)","v":""},"",{"$f":"IF(COUNTIF(L$2:L474,L474)=1,L474,\"\")","v":""}]
[null,null,null,null,null,null,null,null,null,null,{"$f":"+IF(N475=\"\",\"\",MAX(K$1:K474)+1)","v":""},{"$f":"IF(Deviation_w_Addon_CPMS1!D497=\"\",\"\",Deviation_w_Addon_CPMS1!D497)","v":""},"",{"$f":"IF(COUNTIF(L$2:L475,L475)=1,L475,\"\")","v":""}]
[null,null,null,null,null,null,null,null,null,null,{"$f":"+IF(N476=\"\",\"\",MAX(K$1:K475)+1)","v":""},{"$f":"IF(Deviation_w_Addon_CPMS1!D498=\"\",\"\",Deviation_w_Addon_CPMS1!D498)","v":""},"",{"$f":"IF(COUNTIF(L$2:L476,L476)=1,L476,\"\")","v":""}]
[null,null,null,null,null,null,null,null,null,null,{"$f":"+IF(N477=\"\",\"\",MAX(K$1:K476)+1)","v":""},{"$f":"IF(Deviation_w_Addon_CPMS1!D499=\"\",\"\",Deviation_w_Addon_CPMS1!D499)","v":""},"",{"$f":"IF(COUNTIF(L$2:L477,L477)=1,L477,\"\")","v":""}]
[null,null,null,null,null,null,null,null,null,null,{"$f":"+IF(N478=\"\",\"\",MAX(K$1:K477)+1)","v":""},{"$f":"IF(Deviation_w_Addon_CPMS1!D500=\"\",\"\",Deviation_w_Addon_CPMS1!D500)","v":""},"",{"$f":"IF(COUNTIF(L$2:L478,L478)=1,L478,\"\")","v":""}]
[null,null,null,null,null,null,null,null,null,null,{"$f":"+IF(N479=\"\",\"\",MAX(K$1:K478)+1)","v":""},{"$f":"IF(Deviation_w_Addon_CPMS1!D501=\"\",\"\",Deviation_w_Addon_CPMS1!D501)","v":""},"",{"$f":"IF(COUNTIF(L$2:L479,L479)=1,L479,\"\")","v":""}]
[null,null,null,null,null,null,null,null,null,null,{"$f":"+IF(N480=\"\",\"\",MAX(K$1:K479)+1)","v":""},{"$f":"IF(Deviation_w_Addon_CPMS1!D502=\"\",\"\",Deviation_w_Addon_CPMS1!D502)","v":""},"",{"$f":"IF(COUNTIF(L$2:L480,L480)=1,L480,\"\")","v":""}]
[null,null,null,null,null,null,null,null,null,null,{"$f":"+IF(N481=\"\",\"\",MAX(K$1:K480)+1)","v":""},{"$f":"IF(Deviation_w_Addon_CPMS1!D503=\"\",\"\",Deviation_w_Addon_CPMS1!D503)","v":""},"",{"$f":"IF(COUNTIF(L$2:L481,L481)=1,L481,\"\")","v":""}]
[null,null,null,null,null,null,null,null,null,null,{"$f":"+IF(N482=\"\",\"\",MAX(K$1:K481)+1)","v":""},{"$f":"IF(Deviation_w_Addon_CPMS1!D504=\"\",\"\",Deviation_w_Addon_CPMS1!D504)","v":""},"",{"$f":"IF(COUNTIF(L$2:L482,L482)=1,L482,\"\")","v":""}]
[null,null,null,null,null,null,null,null,null,null,{"$f":"+IF(N483=\"\",\"\",MAX(K$1:K482)+1)","v":""},{"$f":"IF(Deviation_w_Addon_CPMS1!D505=\"\",\"\",Deviation_w_Addon_CPMS1!D505)","v":""},"",{"$f":"IF(COUNTIF(L$2:L483,L483)=1,L483,\"\")","v":""}]
[null,null,null,null,null,null,null,null,null,null,{"$f":"+IF(N484=\"\",\"\",MAX(K$1:K483)+1)","v":""},{"$f":"IF(Deviation_w_Addon_CPMS1!D506=\"\",\"\",Deviation_w_Addon_CPMS1!D506)","v":""},"",{"$f":"IF(COUNTIF(L$2:L484,L484)=1,L484,\"\")","v":""}]
[null,null,null,null,null,null,null,null,null,null,{"$f":"+IF(N485=\"\",\"\",MAX(K$1:K484)+1)","v":""},{"$f":"IF(Deviation_w_Addon_CPMS1!D507=\"\",\"\",Deviation_w_Addon_CPMS1!D507)","v":""},"",{"$f":"IF(COUNTIF(L$2:L485,L485)=1,L485,\"\")","v":""}]
[null,null,null,null,null,null,null,null,null,null,{"$f":"+IF(N486=\"\",\"\",MAX(K$1:K485)+1)","v":""},{"$f":"IF(Deviation_w_Addon_CPMS1!D508=\"\",\"\",Deviation_w_Addon_CPMS1!D508)","v":""},"",{"$f":"IF(COUNTIF(L$2:L486,L486)=1,L486,\"\")","v":""}]
[null,null,null,null,null,null,null,null,null,null,{"$f":"+IF(N487=\"\",\"\",MAX(K$1:K486)+1)","v":""},{"$f":"IF(Deviation_w_Addon_CPMS1!D509=\"\",\"\",Deviation_w_Addon_CPMS1!D509)","v":""},"",{"$f":"IF(COUNTIF(L$2:L487,L487)=1,L487,\"\")","v":""}]
[null,null,null,null,null,null,null,null,null,null,{"$f":"+IF(N488=\"\",\"\",MAX(K$1:K487)+1)","v":""},{"$f":"IF(Deviation_w_Addon_CPMS1!D510=\"\",\"\",Deviation_w_Addon_CPMS1!D510)","v":""},"",{"$f":"IF(COUNTIF(L$2:L488,L488)=1,L488,\"\")","v":""}]
[null,null,null,null,null,null,null,null,null,null,{"$f":"+IF(N489=\"\",\"\",MAX(K$1:K488)+1)","v":""},{"$f":"IF(Deviation_w_Addon_CPMS1!D511=\"\",\"\",Deviation_w_Addon_CPMS1!D511)","v":""},"",{"$f":"IF(COUNTIF(L$2:L489,L489)=1,L489,\"\")","v":""}]
[null,null,null,null,null,null,null,null,null,null,{"$f":"+IF(N490=\"\",\"\",MAX(K$1:K489)+1)","v":""},{"$f":"IF(Deviation_w_Addon_CPMS1!D512=\"\",\"\",Deviation_w_Addon_CPMS1!D512)","v":""},"",{"$f":"IF(COUNTIF(L$2:L490,L490)=1,L490,\"\")","v":""}]
[null,null,null,null,null,null,null,null,null,null,{"$f":"+IF(N491=\"\",\"\",MAX(K$1:K490)+1)","v":""},{"$f":"IF(Deviation_w_Addon_CPMS1!D513=\"\",\"\",Deviation_w_Addon_CPMS1!D513)","v":""},"",{"$f":"IF(COUNTIF(L$2:L491,L491)=1,L491,\"\")","v":""}]
[null,null,null,null,null,null,null,null,null,null,{"$f":"+IF(N492=\"\",\"\",MAX(K$1:K491)+1)","v":""},{"$f":"IF(Deviation_w_Addon_CPMS1!D514=\"\",\"\",Deviation_w_Addon_CPMS1!D514)","v":""},"",{"$f":"IF(COUNTIF(L$2:L492,L492)=1,L492,\"\")","v":""}]
[null,null,null,null,null,null,null,null,null,null,{"$f":"+IF(N493=\"\",\"\",MAX(K$1:K492)+1)","v":""},{"$f":"IF(Deviation_w_Addon_CPMS1!D515=\"\",\"\",Deviation_w_Addon_CPMS1!D515)","v":""},"",{"$f":"IF(COUNTIF(L$2:L493,L493)=1,L493,\"\")","v":""}]
[null,null,null,null,null,null,null,null,null,null,{"$f":"+IF(N494=\"\",\"\",MAX(K$1:K493)+1)","v":""},{"$f":"IF(Deviation_w_Addon_CPMS1!D516=\"\",\"\",Deviation_w_Addon_CPMS1!D516)","v":""},"",{"$f":"IF(COUNTIF(L$2:L494,L494)=1,L494,\"\")","v":""}]
[null,null,null,null,null,null,null,null,null,null,{"$f":"+IF(N495=\"\",\"\",MAX(K$1:K494)+1)","v":""},{"$f":"IF(Deviation_w_Addon_CPMS1!D517=\"\",\"\",Deviation_w_Addon_CPMS1!D517)","v":""},"",{"$f":"IF(COUNTIF(L$2:L495,L495)=1,L495,\"\")","v":""}]
[null,null,null,null,null,null,null,null,null,null,{"$f":"+IF(N496=\"\",\"\",MAX(K$1:K495)+1)","v":""},{"$f":"IF(Deviation_w_Addon_CPMS1!D518=\"\",\"\",Deviation_w_Addon_CPMS1!D518)","v":""},"",{"$f":"IF(COUNTIF(L$2:L496,L496)=1,L496,\"\")","v":""}]
[null,null,null,null,null,null,null,null,null,null,{"$f":"+IF(N497=\"\",\"\",MAX(K$1:K496)+1)","v":""},{"$f":"IF(Deviation_w_Addon_CPMS1!D519=\"\",\"\",Deviation_w_Addon_CPMS1!D519)","v":""},"",{"$f":"IF(COUNTIF(L$2:L497,L497)=1,L497,\"\")","v":""}]
[null,null,null,null,null,null,null,null,null,null,{"$f":"+IF(N498=\"\",\"\",MAX(K$1:K497)+1)","v":""},{"$f":"IF(Deviation_w_Addon_CPMS1!D520=\"\",\"\",Deviation_w_Addon_CPMS1!D520)","v":""},"",{"$f":"IF(COUNTIF(L$2:L498,L498)=1,L498,\"\")","v":""}]
[null,null,null,null,null,null,null,null,null,null,{"$f":"+IF(N499=\"\",\"\",MAX(K$1:K498)+1)","v":""},{"$f":"IF(Deviation_w_Addon_CPMS1!D521=\"\",\"\",Deviation_w_Addon_CPMS1!D521)","v":""},"",{"$f":"IF(COUNTIF(L$2:L499,L499)=1,L499,\"\")","v":""}]
[null,null,null,null,null,null,null,null,null,null,{"$f":"+IF(N500=\"\",\"\",MAX(K$1:K499)+1)","v":""},{"$f":"IF(Deviation_w_Addon_CPMS1!D522=\"\",\"\",Deviation_w_Addon_CPMS1!D522)","v":""},"",{"$f":"IF(COUNTIF(L$2:L500,L500)=1,L500,\"\")","v":""}]
[null,null,null,null,null,null,null,null,null,null,{"$f":"+IF(N501=\"\",\"\",MAX(K$1:K500)+1)","v":""},{"$f":"IF(Deviation_w_Addon_CPMS1!D523=\"\",\"\",Deviation_w_Addon_CPMS1!D523)","v":""},"",{"$f":"IF(COUNTIF(L$2:L501,L501)=1,L501,\"\")","v":""}]

{"sheet":"Welcome","index":1,"n_rows":23,"n_cols":3,"rows_kept":23,"cut":false,"hidden":false,"merged":[]}
["DO NOT REMOVE OR EDIT INFORMATION IN THIS SECTION\nFOR INTERNAL USE ONLY"]
["Template Name","63.4311(a) Semiannual Compliance Report (Spreadsheet Template)"]
["CitationID","63.4311(a)"]
["Template Version","v2.01"]
["Last Updated Date",43963]
[null,"OMB Control Number: 2060-0522, Expiration: March 31, 2019","WSemiannualAddonEmisLimit"]
[null,"40 CFR Part 63, Subpart OOOO National Emission Standards for Hazardous Air Pollutants: Printing, Coating,"]
[null," and Dyeing of Fabrics and Other Textiles - "]
[null,"§63.4311(a) Semiannual Compliance Report Spreadsheet Template"]
[null,"Welcome and Instructions"]
[null,"Purpose:"]
[null,"This spreadsheet template was designed by the U.S. EPA to facilitate Semianuual Compliance reporting for facilities subject under the 40 CFR part 63, subpart OOOO regulation.  CEDRI is accessed through the EPA's Central Data Exchange (https://cdx.epa.gov)\n"]
[null,"Electronic reporting:"]
[null,"Electronic submission of Semiannual Compliance reports through the EPA's Compliance and Emissions Data Reporting (CEDRI) is required under §63.4311(e) and (f).\n"]
[null,"CEDRI is accessed through the EPA's Central Data Exchange: https://cdx.epa.gov\n"]
[null,"This spreadsheet template may be uploaded to CEDRI to fulfill the electronic reporting requirement under §63.4311.\n"]
[null,"Do not submit information you claim as confidential business information (CBI) to EPA via CEDRI. EPA will make all the information submitted through CEDRI available to the public without further notice to you. Anything submitted using CEDRI cannot later be claimed to be CBI. Furthermore, under CAA section 114(c) emissions data is not entitled to confidential treatment and requires EPA to make emissions data available to the public. Thus, emissions data will not be protected as CBI and will be made publicly available.\n\nAlthough we do not expect persons to assert a claim of CBI, if persons wish to assert a CBI claim, you must submit the report via CEDRI with the CBI omitted and mail a complete report, including any information claimed to be CBI, to EPA on a compact disc, flash drive, or other commonly used electronic storage media via U.S. postal service. You must mark the outside of the digital storage media as CBI and then identify electronically within the digital storage media the specific information that is claimed as CBI. Mail the media to the address in the referencing federal regulation. If no address is specified, mail the media to:\n\nU.S. EPA/OAQPS/CORE CBI Office Attention: Group Leader, \nMeasurement Policy Group MD C404-02\n4930 Old Page Rd\nDurham, North Carolina 27703\n"]
[null,"IMPORTANT: The spreadsheet must be uploaded into CEDRI as a single ZIP file, which must include this Excel workbook and any related attachments that were referenced in the workbook (i.e., additional information file found in the \"Gen_requirements\" tab).\n\nNote: If you are uploading file attachments for your report, the uploaded files may be in any format (e.g., zip, docx, PDF). If you would like to include an Excel file(s) as an attachment, you must first zip the excel file(s) into a separate ZIP file to the master ZIP file that will be uploaded into CEDRI.\n\nOnce all data have been entered in the worksheet, combine this Excel workbook and all attachment files (including any ZIP file containing separate excel file(s), if applicable) into a single ZIP file for upload to CEDRI."]
[null,"Template Navigation and Tabs to Complete:"]
[null,"Gray Tabs:  The gray tabs (Company_Information and Compliance_Options) contain general information that is applicable to the Semiannual Compliance Report.  After completing the gray tabs, the spreadsheet may be saved as a site specific template to use in subsequent reports to limit subsequent data entry.  The information in the gray tab varies very little from one reporting period to the next.  You can complete the gray tabs once and save the workbook for subsequent reporting periods in which you would only need to review the data provided and update it if needed.\n"]
[null,"Green Tabs:  Green tabs (Semiannual_Report, Deviation_Compliant_Coating, Deviation_Without_Addon, Deviation_w_Addon_Malfunction, Deviation_w_Addon_OpLimit, Deviation_w_Addon_OpLimSummary, Deviation_w_Addon_CPMS1, Deviation_w_Addon_CPMS2, Deviation_w_Addon_CPMSSummary, Deviation_w_Addon_EmLimits, Deviation_Equiv_ER, Decription_of_Changes) are to be completed as necessary depending upon the compliance options to complete the Semiannual report.   Some cells are linked to previous tabs or are calculations dependant upon data entry.  \n\nThe Semiannual_Certification tab must be completed for every report.\n"]
[null,"Within the tabs, example rows are colored light red (rows 14 through 23), and the XML tags (row 13) are colored green.  These rows are locked; no data entry is made in these rows. \n"]
[null,"Certification:\nComplete the Semiannual_Certification tab to answer the certification statements of  §63.4311(a)(4).  "]

{"sheet":"Company_Information","index":2,"n_rows":33,"n_cols":15,"rows_kept":33,"cut":false,"hidden":false,"merged":[]}
[null,"DO NOT REMOVE OR EDIT INFORMATION IN THIS SECTION FOR INTERNAL USE ONLY"]
[null,"Template Name",{"$f":"+Welcome!B2","v":"63.4311(a) Semiannual Compliance Report (Spreadsheet Template)"}]
[null,"CitationID",{"$f":"+Welcome!B3","v":"63.4311(a)"}]
[null,"Template Version",{"$f":"+Welcome!B4","v":"v2.01"}]
[null,"Last Updated Date",{"$f":"+Welcome!B5","v":43963}]
[null,{"$f":"+Welcome!B6","v":"OMB Control Number: 2060-0522, Expiration: March 31, 2019"}]
[null,"40 CFR Part 63, Subpart OOOO National Emission Standards for Hazardous Air Pollutants: Printing, Coating, and Dyeing of Fabrics and Other Textiles - §63.4311(a) Semiannual Compliance Report Spreadsheet Template"]
[null,"\n"]
[]
[]
[null,null,"SITE INFORMATION",null,null,null,null,null,null,null,"REPORTING PERIOD",null,null,"ADDITIONAL INFORMATION"]
[null,"Company Record No. *\n(Field value will automatically generate if a value is not entered.)","Company Name * \n(§63.4310(c)(1) and \n§63.4311(a)(3)(i))","Address * \n(§63.4310(c)(1) and\n§63.4311(a)(3)(i))","Address 2 ","City *\n(§63.4310(c)(1) and\n§63.4311(a)(3)(i))","County","State Abbreviation *\n(§63.4310(c)(1) and\n§63.4311(a)(3)(i))","Zip Code *\n(§63.4310(c)(1) and\n§63.4311(a)(3)(i))","Responsible Agency Facility ID (State Facility Identifier)","Date of Report *\n(§63.4310(c)(3) and\n§63.4311(a)(3)(iii))","Beginning Date of Reporting Period  *\n(§63.4310(c)(3) and\n§63.4311(a)(3)(iii))","Ending Date of Reporting Period  * (§63.4310(c)(3)) and\n(§63.4311(a)(3)(iii))","Please enter any additional information.","Enter associated file name reference. "]
[null,"RecordId","FacilityName","AddressLine1","AddressLine2","CityName","CountyName","StateName","ZIPCode","StateFacID","ReportDate","PeriodStartDate","PeriodEndDate","AddInfo","AddFile"]
[null,"e.g.: 1","e.g.: ABC Company","e.g.: 123 Main Street","e.g.: Suite 100","e.g.: Brooklyn","e.g.: Kings","e.g.: NY","e.g.: 11221","eg: 9145555555","e.g.: 7/15/2020","e.g.: 01/01/2020","e.g.: 6/30/2020",null,"e.g.: addlinfo.zip "]
[]
[]
[]
[]
[]
[]
[]
[]
[]
[null,{"$f":"IF(ISBLANK(C24),\"\",ROW(B24)-23)","v":""}]
[null,{"$f":"IF(ISBLANK(C25),\"\",ROW(B25)-23)","v":""}]
[null,""]
[null,""]
[null,""]
[null,""]
[null,""]
[null,""]
[null,""]
[null,""]

{"sheet":"Compliance_Options","index":3,"n_rows":15,"n_cols":7,"rows_kept":15,"cut":false,"hidden":false,"merged":[]}
[null,"DO NOT REMOVE OR EDIT INFORMATION IN THIS SECTION\nFOR INTERNAL USE ONLY"]
[null,"Template Name",{"$f":"+Welcome!B2","v":"63.4311(a) Semiannual Compliance Report (Spreadsheet Template)"}]
[null,"CitationID",{"$f":"+Welcome!B3","v":"63.4311(a)"}]
[null,"Template Version",{"$f":"+Welcome!B4","v":"v2.01"}]
[null,"Last Updated Date",{"$f":"+Welcome!B5","v":43963}]
[null,{"$f":"+Welcome!B6","v":"OMB Control Number: 2060-0522, Expiration: March 31, 2019"}]
[null,"40 CFR Part 63, Subpart OOOO National Emission Standards for Hazardous Air Pollutants: Printing, Coating, and Dyeing of Fabrics and Other Textiles -"]
[null,"§63.4311(a) Semiannual Compliance Report Spreadsheet Template"]
[]
[]
[]
[null,"Company Record No. *\n(Select from dropdown)","Name of Operation \n(§63. 4310(c)(4) and\n§63. 4311(a)(3)(iv))","Type of Operation\n(§63. 4310(c)(4) and\n§63. 4311(a)(3)(iv))\n(Select from dropdown)","Identification of the compliance option or options used on each web coating / printing and dyeing / finishing operation during the reporting period (§63. 4310(c)(4) and §63. 4311(a)(3)(iv))\n(Select from dropdown)","If options switched during reporting period, provide beginning date * (§63.4311(a)(3)(iv))","If options switched during reporting period, provide ending date* (§63.4311(a)(3)(iv))"]
[null,"RecordId","OperationName","OperationType","ComplianceOptions","SwitchStartDate","SwitchEndDate"]
[null,"e.g.: 1","e.g.: West Web Coating","e.g.: Web Coating and Printing","e.g.: Emission Rate Without Add-on Controls 63.4291(c)(2)","e.g.:1/1/2020","e.g.:3/1/2020"]
[null,"e.g.: 1","e.g.: West Web Coating","e.g.: Web Coating and Printing","e.g.: Emission Rate With Add-on Controls 63.4291(c)(3)","e.g.:3/1/2017","e.g.:6/30/2017"]

{"sheet":"Semiannual_Report","index":4,"n_rows":14,"n_cols":9,"rows_kept":14,"cut":false,"hidden":false,"merged":[]}
[null,"DO NOT REMOVE OR EDIT INFORMATION IN THIS SECTION\nFOR INTERNAL USE ONLY"]
[null,"Template Name",{"$f":"+Welcome!B2","v":"63.4311(a) Semiannual Compliance Report (Spreadsheet Template)"}]
[null,"CitationID",{"$f":"+Welcome!B3","v":"63.4311(a)"}]
[null,"Template Version",{"$f":"+Welcome!B4","v":"v2.01"}]
[null,"Last Updated Date",{"$f":"+Welcome!B5","v":43963}]
[null,{"$f":"+Welcome!B6","v":"OMB Control Number: 2060-0522, Expiration: March 31, 2019"}]
[null,"40 CFR Part 63, Subpart OOOO National Emission Standards for Hazardous Air Pollutants: Printing, Coating, and Dyeing of Fabrics and Other Textiles - §63.4311(a) Semiannual Compliance Report Spreadsheet Template"]
[null,"\n"]
[]
[]
[]
[null,"Company Record No. *\n(Select from dropdown)","Name of Operation \n(§63. 4311(a)(3)(iv))\n(Select from dropdown)","The calculation results for each compliance period ending each month during the reporting period* \n(kg OHAP/kg)\n(§63.4311(a)(3)(v)) \nMonth 1","The calculation results for each compliance period ending each month during the reporting period* \n(kg OHAP/kg)\n(§63.4311(a)(3)(v)) \nMonth 2","The calculation results for each compliance period ending each month during the reporting period* \n(kg OHAP/kg)\n(§63.4311(a)(3)(v)) \nMonth 3","The calculation results for each compliance period ending each month during the reporting period* \n(kg OHAP/kg)\n(§63.4311(a)(3)(v)) \nMonth 4","The calculation results for each compliance period ending each month during the reporting period* \n(kg OHAP/kg)\n(§63.4311(a)(3)(v)) \nMonth 5","The calculation results for each compliance period ending each month during the reporting period* \n(kg OHAP/kg)\n(§63.4311(a)(3)(v)) \nMonth 6"]
[null,"RecordId","OperationName","CalcResultMonOne","CalcResultMonTwo","CalcResultMonThree","CalcResultMonFour","CalcResultMonFive","CalcResultMonSix"]
[null,"e.g.: 1","e.g.: West Web Coating","e.g.: 1.12","e.g.: 1.12","e.g.: 1.12","e.g.: 1.12","e.g.: 1.12","e.g.: 1.12"]

{"sheet":"Deviation_Compliant_Coating","index":5,"n_rows":23,"n_cols":12,"rows_kept":23,"cut":false,"hidden":false,"merged":[]}
[null,"DO NOT REMOVE OR EDIT INFORMATION IN THIS SECTION\nFOR INTERNAL USE ONLY"]
[null,"Template Name",{"$f":"+Welcome!B2","v":"63.4311(a) Semiannual Compliance Report (Spreadsheet Template)"}]
[null,"CitationID",{"$f":"+Welcome!B3","v":"63.4311(a)"}]
[null,"Template Version",{"$f":"+Welcome!B4","v":"v2.01"}]
[null,"Last Updated Date",{"$f":"+Welcome!B5","v":43963}]
[null,{"$f":"+Welcome!B6","v":"OMB Control Number: 2060-0522, Expiration: March 31, 2019"}]
[null,"40 CFR Part 63, Subpart OOOO National Emission Standards for Hazardous Air Pollutants: Printing, Coating, and Dyeing of Fabrics and Other Textiles - §63.4311(a) Semiannual Compliance Report Spreadsheet Template"]
[null,"\n"]
[]
[]
[]
[null,"Company Record No. *\n(Select from dropdown)","Affected Source\n(§63. 4311(a)(5)(ii)(E))\n(Select from dropdown)","HAP Containing Material \n(§63.4311(a)(5)(ii)(A))","Starting Date of Deviation \n(§63.4311(a)(5)(ii)(A))","Starting Time of Deviation \n(§63.4311(a)(5)(ii)(A))","Duration of Deviation (hours) \n(§63.4311(a)(5)(ii)(A))","Calculation of Total HAP using Equation 1 of §63.4321 (kg)\n(§63.4311(a)(5)(ii)(B))","Determination of Mass Fraction of HAP \n(§63.4311(a)(5)(ii)(C))","Cause of Deviation  \n(§63.4311(a)(5)(ii)(D))","Estimate of amount emitted over emission limit (kg) \n(§63.4311(a)(5)(ii)(E))","Method of estimation used \n(§63.4311(a)(5)(ii)(E))"]
[null,"RecordId","OperationName","HapMaterial","DeviationStartDate","DeviationStartTime","DeviationDuration","TotalHapContent","HapMassFraction","DeviationCause","EmissionQuantity","EstimationMethod"]
[null,"e.g.: 1","e.g.: East Web Coating","e.g.: Coating 351","e.g.: 2/1/2020","e.g.: 13:05","e.g.: 36","e.g.: 150","e.g.: 0.6","e.g.: Process Problems","e.g.: 1.2","e.g.: Mass balance"]
[null,{"$f":"IF(ISBLANK(D15),\"\",ROW(B15)-23)","v":""}]
[null,{"$f":"IF(ISBLANK(D16),\"\",ROW(B16)-23)","v":""}]
[null,{"$f":"IF(ISBLANK(D17),\"\",ROW(B17)-23)","v":""}]
[null,{"$f":"IF(ISBLANK(D18),\"\",ROW(B18)-23)","v":""}]
[null,""]
[null,""]
[null,""]
[null,""]
[null,""]

{"sheet":"Deviation_Without_Addon","index":6,"n_rows":708,"n_cols":9,"rows_kept":708,"cut":false,"hidden":false,"merged":[]}
[null,"DO NOT REMOVE OR EDIT INFORMATION IN THIS SECTION\nFOR INTERNAL USE ONLY"]
[null,"Template Name",{"$f":"+Welcome!B2","v":"63.4311(a) Semiannual Compliance Report (Spreadsheet Template)"}]
[null,"CitationID",{"$f":"+Welcome!B3","v":"63.4311(a)"}]
[null,"Template Version",{"$f":"+Welcome!B4","v":"v2.01"}]
[null,"Last Updated Date",{"$f":"+Welcome!B5","v":43963}]
[null,{"$f":"+Welcome!B6","v":"OMB Control Number: 2060-0522, Expiration: March 31, 2019"}]
[null,"40 CFR Part 63, Subpart OOOO National Emission Standards for Hazardous Air Pollutants: Printing, Coating, and Dyeing of Fabrics and Other Textiles - §63.4311(a) Semiannual Compliance Report Spreadsheet Template"]
[null,"\n"]
[]
[]
[]
[null,"Company Record No. *\n(Select from dropdown)","Affected Source\n(§63. 4311(a)(6)(ii)(D))\n(Select from dropdown)","Starting Date Compliance Period with Deviation \n(§63.4311(a)(6)(ii)(A))","Ending Date Compliance Period with Deviation \n(§63.4311(a)(6)(ii)(A))","Filename of attachment containing calculations required by (§63.411(a)(6)(ii)(B))","Cause of Deviation  \n(§63.4311(a)(6)(ii)(C))\n(Select from dropdown)","Estimate of amount emitted over emission limit (kg) \n(§63.4311(a)(6)(ii)(D))","Method of estimation used \n(§63.4311(a)(6)(ii)(D))"]
[null,"RecordId","OperationName","DeviationStartDate","DeviationEndDate","CalculationAttachment","DeviationCause","EmissionEstimate","EstimationMethod"]
[null,"e.g.: 1","e.g.: West Web Coating","e.g.: 2/1/2020","e.g.: 2/28/2020","e.g,: West_Web_Calc.pdf","e.g.: Other Unknown Causes","e.g.: 1.2","e.g.: Mass balance"]
[]
[]
[]
[]
[]
[]
[]
[]
[]
[]
[]
[]
[]
[]
[]
[]
[]
[]
[]
[]
[]
[]
[]
[]
[]
[]
[]
[]
[]
[]
[]
[]
[]
[]
[]
[]
[]
[]
[]
[]
[]
[]
[]
[]
[]
[]
[]
[]
[]
[]
[]
[]
[]
[]
[]
[]
[]
[]
[]
[]
[]
[]
[]
[]
[]
[]
[]
[]
[]
[]
[]
[]
[]
[]
[]
[]
[]
[]
[]
[]
[]
[]
[]
[]
[]
[]
[]
[]
[]
[]
[]
[]
[]
[]
[]
[]
[]
[]
[]
[]
[]
[]
[]
[]
[]
[]
[]
[]
[]
[]
[]
[]
[]
[]
[]
[]
[]
[]
[]
[]
[]
[]
[]
[]
[]
[]
[]
[]
[]
[]
[]
[]
[]
[]
[]
[]
[]
[]
[]
[]
[]
[]
[]
[]
[]
[]
[]
[]
[]
[]
[]
[]
[]
[]
[]
[]
[]
[]
[]
[]
[]
[]
[]
[]
[]
[]
[]
[]
[]
[]
[]
[]
[]
[]
[]
[]
[]
[]
[]
[]
[]
[]
[]
[]
[]
[]
[]
[]
[]
[]
[]
[]
[]
[]
[]
[]
[]
[]
[]
[]
[]
[]
[]
[]
[]
[]
[]
[]
[]
[]
[]
[]
[]
[]
[]
[]
[]
[]
[]
[]
[]
[]
[]
[]
[]
[]
[]
[]
[]
[]
[]
[]
[]
[]
[]
[]
[]
[]
[]
[]
[]
[]
[]
[]
[]
[]
[]
[]
[]
[]
[]
[]
[]
[]
[]
[]
[]
[]
[]
[]
[]
[]
[]
[]
[]
[]
[]
[]
[]
[]
[]
[]
[]
[]
[]
[]
[]
[]
[]
[]
[]
[]
[]
[]
[]
[]
[]
[]
[]
[]
[]
[]
[]
[]
[]
[]
[]
[]
[]
[]
[]
[]
[]
[]
[]
[]
[]
[]
[]
[]
[]
[]
[]
[]
[]
[]
[]
[]
[]
[]
[]
[]
[]
[]
[]
[]
[]
[]
[]
[]
[]
[]
[]
[]
[]
[]
[]
[]
[]
[]
[]
[]
[]
[]
[]
[]
[]
[]
[]
[]
[]
[]
[]
[]
[]
[]
[]
[]
[]
[]
[]
[]
[]
[]
[]
[]
[]
[]
[]
[]
[]
[]
[]
[]
[]
[]
[]
[]
[]
[]
[]
[]
[]
[]
[]
[]
[]
[]
[]
[]
[]
[]
[]
[]
[]
[]
[]
[]
[]
[]
[]
[]
[]
[]
[]
[]
[]
[]
[]
[]
[]
[]
[]
[]
[]
[]
[]
[]
[]
[]
[]
[]
[]
[]
[]
[]
[]
[]
[]
[]
[]
[]
[]
[]
[]
[]
[]
[]
[]
[]
[]
[]
[]
[]
[]
[]
[]
[]
[]
[]
[]
[]
[]
[]
[]
[]
[]
[]
[]
[]
[]
[]
[]
[]
[]
[]
[]
[]
[]
[]
[]
[]
[]
[]
[]
[]
[]
[]
[]
[]
[]
[]
[]
[]
[]
[]
[null,{"$f":"IF(D501=\"\",\"\",COUNT($D$24:$D$453)-COUNT(D$453:$D502))","v":""}]
[null,{"$f":"IF(D502=\"\",\"\",COUNT($D$24:$D$453)-COUNT(D$453:$D503))","v":""}]
[null,{"$f":"IF(D503=\"\",\"\",COUNT($D$24:$D$453)-COUNT(D$453:$D504))","v":""}]
[null,{"$f":"IF(D504=\"\",\"\",COUNT($D$24:$D$453)-COUNT(D$453:$D505))","v":""}]
[null,{"$f":"IF(D505=\"\",\"\",COUNT($D$24:$D$453)-COUNT(D$453:$D506))","v":""}]
[null,{"$f":"IF(D506=\"\",\"\",COUNT($D$24:$D$453)-COUNT(D$453:$D507))","v":""}]
[null,{"$f":"IF(D507=\"\",\"\",COUNT($D$24:$D$453)-COUNT(D$453:$D508))","v":""}]
[null,{"$f":"IF(D508=\"\",\"\",COUNT($D$24:$D$453)-COUNT(D$453:$D509))","v":""}]
[null,{"$f":"IF(D509=\"\",\"\",COUNT($D$24:$D$453)-COUNT(D$453:$D510))","v":""}]
[null,{"$f":"IF(D510=\"\",\"\",COUNT($D$24:$D$453)-COUNT(D$453:$D511))","v":""}]
[null,{"$f":"IF(D511=\"\",\"\",COUNT($D$24:$D$453)-COUNT(D$453:$D512))","v":""}]
[null,{"$f":"IF(D512=\"\",\"\",COUNT($D$24:$D$453)-COUNT(D$453:$D513))","v":""}]
[null,{"$f":"IF(D513=\"\",\"\",COUNT($D$24:$D$453)-COUNT(D$453:$D514))","v":""}]
[null,{"$f":"IF(D514=\"\",\"\",COUNT($D$24:$D$453)-COUNT(D$453:$D515))","v":""}]
[null,{"$f":"IF(D515=\"\",\"\",COUNT($D$24:$D$453)-COUNT(D$453:$D516))","v":""}]
[null,{"$f":"IF(D516=\"\",\"\",COUNT($D$24:$D$453)-COUNT(D$453:$D517))","v":""}]
[null,{"$f":"IF(D517=\"\",\"\",COUNT($D$24:$D$453)-COUNT(D$453:$D518))","v":""}]
[null,{"$f":"IF(D518=\"\",\"\",COUNT($D$24:$D$453)-COUNT(D$453:$D519))","v":""}]
[null,{"$f":"IF(D519=\"\",\"\",COUNT($D$24:$D$453)-COUNT(D$453:$D520))","v":""}]
[null,{"$f":"IF(D520=\"\",\"\",COUNT($D$24:$D$453)-COUNT(D$453:$D521))","v":""}]
[null,{"$f":"IF(D521=\"\",\"\",COUNT($D$24:$D$453)-COUNT(D$453:$D522))","v":""}]
[null,{"$f":"IF(D522=\"\",\"\",COUNT($D$24:$D$453)-COUNT(D$453:$D523))","v":""}]
[null,{"$f":"IF(D523=\"\",\"\",COUNT($D$24:$D$453)-COUNT(D$453:$D524))","v":""}]
[null,{"$f":"IF(D524=\"\",\"\",COUNT($D$24:$D$453)-COUNT(D$453:$D525))","v":""}]
[null,{"$f":"IF(D525=\"\",\"\",COUNT($D$24:$D$453)-COUNT(D$453:$D526))","v":""}]
[null,{"$f":"IF(D526=\"\",\"\",COUNT($D$24:$D$453)-COUNT(D$453:$D527))","v":""}]
[null,{"$f":"IF(D527=\"\",\"\",COUNT($D$24:$D$453)-COUNT(D$453:$D528))","v":""}]
[null,{"$f":"IF(D528=\"\",\"\",COUNT($D$24:$D$453)-COUNT(D$453:$D529))","v":""}]
[null,{"$f":"IF(D529=\"\",\"\",COUNT($D$24:$D$453)-COUNT(D$453:$D530))","v":""}]
[null,{"$f":"IF(D530=\"\",\"\",COUNT($D$24:$D$453)-COUNT(D$453:$D531))","v":""}]
[null,{"$f":"IF(D531=\"\",\"\",COUNT($D$24:$D$453)-COUNT(D$453:$D532))","v":""}]
[null,{"$f":"IF(D532=\"\",\"\",COUNT($D$24:$D$453)-COUNT(D$453:$D533))","v":""}]
[null,{"$f":"IF(D533=\"\",\"\",COUNT($D$24:$D$453)-COUNT(D$453:$D534))","v":""}]
[null,{"$f":"IF(D534=\"\",\"\",COUNT($D$24:$D$453)-COUNT(D$453:$D535))","v":""}]
[null,{"$f":"IF(D535=\"\",\"\",COUNT($D$24:$D$453)-COUNT(D$453:$D536))","v":""}]
[null,{"$f":"IF(D536=\"\",\"\",COUNT($D$24:$D$453)-COUNT(D$453:$D537))","v":""}]
[null,{"$f":"IF(D537=\"\",\"\",COUNT($D$24:$D$453)-COUNT(D$453:$D538))","v":""}]
[null,{"$f":"IF(D538=\"\",\"\",COUNT($D$24:$D$453)-COUNT(D$453:$D539))","v":""}]
[null,{"$f":"IF(D539=\"\",\"\",COUNT($D$24:$D$453)-COUNT(D$453:$D540))","v":""}]
[null,{"$f":"IF(D540=\"\",\"\",COUNT($D$24:$D$453)-COUNT(D$453:$D541))","v":""}]
[null,{"$f":"IF(D541=\"\",\"\",COUNT($D$24:$D$453)-COUNT(D$453:$D542))","v":""}]
[null,{"$f":"IF(D542=\"\",\"\",COUNT($D$24:$D$453)-COUNT(D$453:$D543))","v":""}]
[null,{"$f":"IF(D543=\"\",\"\",COUNT($D$24:$D$453)-COUNT(D$453:$D544))","v":""}]
[null,{"$f":"IF(D544=\"\",\"\",COUNT($D$24:$D$453)-COUNT(D$453:$D545))","v":""}]
[null,{"$f":"IF(D545=\"\",\"\",COUNT($D$24:$D$453)-COUNT(D$453:$D546))","v":""}]
[null,{"$f":"IF(D546=\"\",\"\",COUNT($D$24:$D$453)-COUNT(D$453:$D547))","v":""}]
[null,{"$f":"IF(D547=\"\",\"\",COUNT($D$24:$D$453)-COUNT(D$453:$D548))","v":""}]
[null,{"$f":"IF(D548=\"\",\"\",COUNT($D$24:$D$453)-COUNT(D$453:$D549))","v":""}]
[null,{"$f":"IF(D549=\"\",\"\",COUNT($D$24:$D$453)-COUNT(D$453:$D550))","v":""}]
[null,{"$f":"IF(D550=\"\",\"\",COUNT($D$24:$D$453)-COUNT(D$453:$D551))","v":""}]
[null,{"$f":"IF(D551=\"\",\"\",COUNT($D$24:$D$453)-COUNT(D$453:$D552))","v":""}]
[null,{"$f":"IF(D552=\"\",\"\",COUNT($D$24:$D$453)-COUNT(D$453:$D553))","v":""}]
[null,{"$f":"IF(D553=\"\",\"\",COUNT($D$24:$D$453)-COUNT(D$453:$D554))","v":""}]
[null,{"$f":"IF(D554=\"\",\"\",COUNT($D$24:$D$453)-COUNT(D$453:$D555))","v":""}]
[null,{"$f":"IF(D555=\"\",\"\",COUNT($D$24:$D$453)-COUNT(D$453:$D556))","v":""}]
[null,{"$f":"IF(D556=\"\",\"\",COUNT($D$24:$D$453)-COUNT(D$453:$D557))","v":""}]
[null,{"$f":"IF(D557=\"\",\"\",COUNT($D$24:$D$453)-COUNT(D$453:$D558))","v":""}]
[null,{"$f":"IF(D558=\"\",\"\",COUNT($D$24:$D$453)-COUNT(D$453:$D559))","v":""}]
[null,{"$f":"IF(D559=\"\",\"\",COUNT($D$24:$D$453)-COUNT(D$453:$D560))","v":""}]
[null,{"$f":"IF(D560=\"\",\"\",COUNT($D$24:$D$453)-COUNT(D$453:$D561))","v":""}]
[null,{"$f":"IF(D561=\"\",\"\",COUNT($D$24:$D$453)-COUNT(D$453:$D562))","v":""}]
[null,{"$f":"IF(D562=\"\",\"\",COUNT($D$24:$D$453)-COUNT(D$453:$D563))","v":""}]
[null,{"$f":"IF(D563=\"\",\"\",COUNT($D$24:$D$453)-COUNT(D$453:$D564))","v":""}]
[null,{"$f":"IF(D564=\"\",\"\",COUNT($D$24:$D$453)-COUNT(D$453:$D565))","v":""}]
[null,{"$f":"IF(D565=\"\",\"\",COUNT($D$24:$D$453)-COUNT(D$453:$D566))","v":""}]
[null,{"$f":"IF(D566=\"\",\"\",COUNT($D$24:$D$453)-COUNT(D$453:$D567))","v":""}]
[null,{"$f":"IF(D567=\"\",\"\",COUNT($D$24:$D$453)-COUNT(D$453:$D568))","v":""}]
[null,{"$f":"IF(D568=\"\",\"\",COUNT($D$24:$D$453)-COUNT(D$453:$D569))","v":""}]
[null,{"$f":"IF(D569=\"\",\"\",COUNT($D$24:$D$453)-COUNT(D$453:$D570))","v":""}]
[null,{"$f":"IF(D570=\"\",\"\",COUNT($D$24:$D$453)-COUNT(D$453:$D571))","v":""}]
[null,{"$f":"IF(D571=\"\",\"\",COUNT($D$24:$D$453)-COUNT(D$453:$D572))","v":""}]
[null,{"$f":"IF(D572=\"\",\"\",COUNT($D$24:$D$453)-COUNT(D$453:$D573))","v":""}]
[null,{"$f":"IF(D573=\"\",\"\",COUNT($D$24:$D$453)-COUNT(D$453:$D574))","v":""}]
[null,{"$f":"IF(D574=\"\",\"\",COUNT($D$24:$D$453)-COUNT(D$453:$D575))","v":""}]
[null,{"$f":"IF(D575=\"\",\"\",COUNT($D$24:$D$453)-COUNT(D$453:$D576))","v":""}]
[null,{"$f":"IF(D576=\"\",\"\",COUNT($D$24:$D$453)-COUNT(D$453:$D577))","v":""}]
[null,{"$f":"IF(D577=\"\",\"\",COUNT($D$24:$D$453)-COUNT(D$453:$D578))","v":""}]
[null,{"$f":"IF(D578=\"\",\"\",COUNT($D$24:$D$453)-COUNT(D$453:$D579))","v":""}]
[null,{"$f":"IF(D579=\"\",\"\",COUNT($D$24:$D$453)-COUNT(D$453:$D580))","v":""}]
[null,{"$f":"IF(D580=\"\",\"\",COUNT($D$24:$D$453)-COUNT(D$453:$D581))","v":""}]
[null,{"$f":"IF(D581=\"\",\"\",COUNT($D$24:$D$453)-COUNT(D$453:$D582))","v":""}]
[null,{"$f":"IF(D582=\"\",\"\",COUNT($D$24:$D$453)-COUNT(D$453:$D583))","v":""}]
[null,{"$f":"IF(D583=\"\",\"\",COUNT($D$24:$D$453)-COUNT(D$453:$D584))","v":""}]
[null,{"$f":"IF(D584=\"\",\"\",COUNT($D$24:$D$453)-COUNT(D$453:$D585))","v":""}]
[null,{"$f":"IF(D585=\"\",\"\",COUNT($D$24:$D$453)-COUNT(D$453:$D586))","v":""}]
[null,{"$f":"IF(D586=\"\",\"\",COUNT($D$24:$D$453)-COUNT(D$453:$D587))","v":""}]
[null,{"$f":"IF(D587=\"\",\"\",COUNT($D$24:$D$453)-COUNT(D$453:$D588))","v":""}]
[null,{"$f":"IF(D588=\"\",\"\",COUNT($D$24:$D$453)-COUNT(D$453:$D589))","v":""}]
[null,{"$f":"IF(D589=\"\",\"\",COUNT($D$24:$D$453)-COUNT(D$453:$D590))","v":""}]
[null,{"$f":"IF(D590=\"\",\"\",COUNT($D$24:$D$453)-COUNT(D$453:$D591))","v":""}]
[null,{"$f":"IF(D591=\"\",\"\",COUNT($D$24:$D$453)-COUNT(D$453:$D592))","v":""}]
[null,{"$f":"IF(D592=\"\",\"\",COUNT($D$24:$D$453)-COUNT(D$453:$D593))","v":""}]
[null,{"$f":"IF(D593=\"\",\"\",COUNT($D$24:$D$453)-COUNT(D$453:$D594))","v":""}]
[null,{"$f":"IF(D594=\"\",\"\",COUNT($D$24:$D$453)-COUNT(D$453:$D595))","v":""}]
[null,{"$f":"IF(D595=\"\",\"\",COUNT($D$24:$D$453)-COUNT(D$453:$D596))","v":""}]
[null,{"$f":"IF(D596=\"\",\"\",COUNT($D$24:$D$453)-COUNT(D$453:$D597))","v":""}]
[null,{"$f":"IF(D597=\"\",\"\",COUNT($D$24:$D$453)-COUNT(D$453:$D598))","v":""}]
[null,{"$f":"IF(D598=\"\",\"\",COUNT($D$24:$D$453)-COUNT(D$453:$D599))","v":""}]
[null,{"$f":"IF(D599=\"\",\"\",COUNT($D$24:$D$453)-COUNT(D$453:$D600))","v":""}]
[null,{"$f":"IF(D600=\"\",\"\",COUNT($D$24:$D$453)-COUNT(D$453:$D601))","v":""}]
[null,{"$f":"IF(D601=\"\",\"\",COUNT($D$24:$D$453)-COUNT(D$453:$D602))","v":""}]
[null,{"$f":"IF(D602=\"\",\"\",COUNT($D$24:$D$453)-COUNT(D$453:$D603))","v":""}]
[null,{"$f":"IF(D603=\"\",\"\",COUNT($D$24:$D$453)-COUNT(D$453:$D604))","v":""}]
[null,{"$f":"IF(D604=\"\",\"\",COUNT($D$24:$D$453)-COUNT(D$453:$D605))","v":""}]
[null,{"$f":"IF(D605=\"\",\"\",COUNT($D$24:$D$453)-COUNT(D$453:$D606))","v":""}]
[null,{"$f":"IF(D606=\"\",\"\",COUNT($D$24:$D$453)-COUNT(D$453:$D607))","v":""}]
[null,{"$f":"IF(D607=\"\",\"\",COUNT($D$24:$D$453)-COUNT(D$453:$D608))","v":""}]
[null,{"$f":"IF(D608=\"\",\"\",COUNT($D$24:$D$453)-COUNT(D$453:$D609))","v":""}]
[null,{"$f":"IF(D609=\"\",\"\",COUNT($D$24:$D$453)-COUNT(D$453:$D610))","v":""}]
[null,{"$f":"IF(D610=\"\",\"\",COUNT($D$24:$D$453)-COUNT(D$453:$D611))","v":""}]
[null,{"$f":"IF(D611=\"\",\"\",COUNT($D$24:$D$453)-COUNT(D$453:$D612))","v":""}]
[null,{"$f":"IF(D612=\"\",\"\",COUNT($D$24:$D$453)-COUNT(D$453:$D613))","v":""}]
[null,{"$f":"IF(D613=\"\",\"\",COUNT($D$24:$D$453)-COUNT(D$453:$D614))","v":""}]
[null,{"$f":"IF(D614=\"\",\"\",COUNT($D$24:$D$453)-COUNT(D$453:$D615))","v":""}]
[null,{"$f":"IF(D615=\"\",\"\",COUNT($D$24:$D$453)-COUNT(D$453:$D616))","v":""}]
[null,{"$f":"IF(D616=\"\",\"\",COUNT($D$24:$D$453)-COUNT(D$453:$D617))","v":""}]
[null,{"$f":"IF(D617=\"\",\"\",COUNT($D$24:$D$453)-COUNT(D$453:$D618))","v":""}]
[null,{"$f":"IF(D618=\"\",\"\",COUNT($D$24:$D$453)-COUNT(D$453:$D619))","v":""}]
[null,{"$f":"IF(D619=\"\",\"\",COUNT($D$24:$D$453)-COUNT(D$453:$D620))","v":""}]
[null,{"$f":"IF(D620=\"\",\"\",COUNT($D$24:$D$453)-COUNT(D$453:$D621))","v":""}]
[null,{"$f":"IF(D621=\"\",\"\",COUNT($D$24:$D$453)-COUNT(D$453:$D622))","v":""}]
[null,{"$f":"IF(D622=\"\",\"\",COUNT($D$24:$D$453)-COUNT(D$453:$D623))","v":""}]
[null,{"$f":"IF(D623=\"\",\"\",COUNT($D$24:$D$453)-COUNT(D$453:$D624))","v":""}]
[null,{"$f":"IF(D624=\"\",\"\",COUNT($D$24:$D$453)-COUNT(D$453:$D625))","v":""}]
[null,{"$f":"IF(D625=\"\",\"\",COUNT($D$24:$D$453)-COUNT(D$453:$D626))","v":""}]
[null,{"$f":"IF(D626=\"\",\"\",COUNT($D$24:$D$453)-COUNT(D$453:$D627))","v":""}]
[null,{"$f":"IF(D627=\"\",\"\",COUNT($D$24:$D$453)-COUNT(D$453:$D628))","v":""}]
[null,{"$f":"IF(D628=\"\",\"\",COUNT($D$24:$D$453)-COUNT(D$453:$D629))","v":""}]
[null,{"$f":"IF(D629=\"\",\"\",COUNT($D$24:$D$453)-COUNT(D$453:$D630))","v":""}]
[null,{"$f":"IF(D630=\"\",\"\",COUNT($D$24:$D$453)-COUNT(D$453:$D631))","v":""}]
[null,{"$f":"IF(D631=\"\",\"\",COUNT($D$24:$D$453)-COUNT(D$453:$D632))","v":""}]
[null,{"$f":"IF(D632=\"\",\"\",COUNT($D$24:$D$453)-COUNT(D$453:$D633))","v":""}]
[null,{"$f":"IF(D633=\"\",\"\",COUNT($D$24:$D$453)-COUNT(D$453:$D634))","v":""}]
[null,{"$f":"IF(D634=\"\",\"\",COUNT($D$24:$D$453)-COUNT(D$453:$D635))","v":""}]
[null,{"$f":"IF(D635=\"\",\"\",COUNT($D$24:$D$453)-COUNT(D$453:$D636))","v":""}]
[null,{"$f":"IF(D636=\"\",\"\",COUNT($D$24:$D$453)-COUNT(D$453:$D637))","v":""}]
[null,{"$f":"IF(D637=\"\",\"\",COUNT($D$24:$D$453)-COUNT(D$453:$D638))","v":""}]
[null,{"$f":"IF(D638=\"\",\"\",COUNT($D$24:$D$453)-COUNT(D$453:$D639))","v":""}]
[null,{"$f":"IF(D639=\"\",\"\",COUNT($D$24:$D$453)-COUNT(D$453:$D640))","v":""}]
[null,{"$f":"IF(D640=\"\",\"\",COUNT($D$24:$D$453)-COUNT(D$453:$D641))","v":""}]
[null,{"$f":"IF(D641=\"\",\"\",COUNT($D$24:$D$453)-COUNT(D$453:$D642))","v":""}]
[null,{"$f":"IF(D642=\"\",\"\",COUNT($D$24:$D$453)-COUNT(D$453:$D643))","v":""}]
[null,{"$f":"IF(D643=\"\",\"\",COUNT($D$24:$D$453)-COUNT(D$453:$D644))","v":""}]
[null,{"$f":"IF(D644=\"\",\"\",COUNT($D$24:$D$453)-COUNT(D$453:$D645))","v":""}]
[null,{"$f":"IF(D645=\"\",\"\",COUNT($D$24:$D$453)-COUNT(D$453:$D646))","v":""}]
[null,{"$f":"IF(D646=\"\",\"\",COUNT($D$24:$D$453)-COUNT(D$453:$D647))","v":""}]
[null,{"$f":"IF(D647=\"\",\"\",COUNT($D$24:$D$453)-COUNT(D$453:$D648))","v":""}]
[null,{"$f":"IF(D648=\"\",\"\",COUNT($D$24:$D$453)-COUNT(D$453:$D649))","v":""}]
[null,{"$f":"IF(D649=\"\",\"\",COUNT($D$24:$D$453)-COUNT(D$453:$D650))","v":""}]
[null,{"$f":"IF(D650=\"\",\"\",COUNT($D$24:$D$453)-COUNT(D$453:$D651))","v":""}]
[null,{"$f":"IF(D651=\"\",\"\",COUNT($D$24:$D$453)-COUNT(D$453:$D652))","v":""}]
[null,{"$f":"IF(D652=\"\",\"\",COUNT($D$24:$D$453)-COUNT(D$453:$D653))","v":""}]
[null,{"$f":"IF(D653=\"\",\"\",COUNT($D$24:$D$453)-COUNT(D$453:$D654))","v":""}]
[null,{"$f":"IF(D654=\"\",\"\",COUNT($D$24:$D$453)-COUNT(D$453:$D655))","v":""}]
[null,{"$f":"IF(D655=\"\",\"\",COUNT($D$24:$D$453)-COUNT(D$453:$D656))","v":""}]
[null,{"$f":"IF(D656=\"\",\"\",COUNT($D$24:$D$453)-COUNT(D$453:$D657))","v":""}]
[null,{"$f":"IF(D657=\"\",\"\",COUNT($D$24:$D$453)-COUNT(D$453:$D658))","v":""}]
[null,{"$f":"IF(D658=\"\",\"\",COUNT($D$24:$D$453)-COUNT(D$453:$D659))","v":""}]
[null,{"$f":"IF(D659=\"\",\"\",COUNT($D$24:$D$453)-COUNT(D$453:$D660))","v":""}]
[null,{"$f":"IF(D660=\"\",\"\",COUNT($D$24:$D$453)-COUNT(D$453:$D661))","v":""}]
[null,{"$f":"IF(D661=\"\",\"\",COUNT($D$24:$D$453)-COUNT(D$453:$D662))","v":""}]
[null,{"$f":"IF(D662=\"\",\"\",COUNT($D$24:$D$453)-COUNT(D$453:$D663))","v":""}]
[null,{"$f":"IF(D663=\"\",\"\",COUNT($D$24:$D$453)-COUNT(D$453:$D664))","v":""}]
[null,{"$f":"IF(D664=\"\",\"\",COUNT($D$24:$D$453)-COUNT(D$453:$D665))","v":""}]
[null,{"$f":"IF(D665=\"\",\"\",COUNT($D$24:$D$453)-COUNT(D$453:$D666))","v":""}]
[null,{"$f":"IF(D666=\"\",\"\",COUNT($D$24:$D$453)-COUNT(D$453:$D667))","v":""}]
[null,{"$f":"IF(D667=\"\",\"\",COUNT($D$24:$D$453)-COUNT(D$453:$D668))","v":""}]
[null,{"$f":"IF(D668=\"\",\"\",COUNT($D$24:$D$453)-COUNT(D$453:$D669))","v":""}]
[null,{"$f":"IF(D669=\"\",\"\",COUNT($D$24:$D$453)-COUNT(D$453:$D670))","v":""}]
[null,{"$f":"IF(D670=\"\",\"\",COUNT($D$24:$D$453)-COUNT(D$453:$D671))","v":""}]
[null,{"$f":"IF(D671=\"\",\"\",COUNT($D$24:$D$453)-COUNT(D$453:$D672))","v":""}]
[null,{"$f":"IF(D672=\"\",\"\",COUNT($D$24:$D$453)-COUNT(D$453:$D673))","v":""}]
[null,{"$f":"IF(D673=\"\",\"\",COUNT($D$24:$D$453)-COUNT(D$453:$D674))","v":""}]
[null,{"$f":"IF(D674=\"\",\"\",COUNT($D$24:$D$453)-COUNT(D$453:$D675))","v":""}]
[null,{"$f":"IF(D675=\"\",\"\",COUNT($D$24:$D$453)-COUNT(D$453:$D676))","v":""}]
[null,{"$f":"IF(D676=\"\",\"\",COUNT($D$24:$D$453)-COUNT(D$453:$D677))","v":""}]
[null,{"$f":"IF(D677=\"\",\"\",COUNT($D$24:$D$453)-COUNT(D$453:$D678))","v":""}]
[null,{"$f":"IF(D678=\"\",\"\",COUNT($D$24:$D$453)-COUNT(D$453:$D679))","v":""}]
[null,{"$f":"IF(D679=\"\",\"\",COUNT($D$24:$D$453)-COUNT(D$453:$D680))","v":""}]
[null,{"$f":"IF(D680=\"\",\"\",COUNT($D$24:$D$453)-COUNT(D$453:$D681))","v":""}]
[null,{"$f":"IF(D681=\"\",\"\",COUNT($D$24:$D$453)-COUNT(D$453:$D682))","v":""}]
[null,{"$f":"IF(D682=\"\",\"\",COUNT($D$24:$D$453)-COUNT(D$453:$D683))","v":""}]
[null,{"$f":"IF(D683=\"\",\"\",COUNT($D$24:$D$453)-COUNT(D$453:$D684))","v":""}]
[null,{"$f":"IF(D684=\"\",\"\",COUNT($D$24:$D$453)-COUNT(D$453:$D685))","v":""}]
[null,{"$f":"IF(D685=\"\",\"\",COUNT($D$24:$D$453)-COUNT(D$453:$D686))","v":""}]
[null,{"$f":"IF(D686=\"\",\"\",COUNT($D$24:$D$453)-COUNT(D$453:$D687))","v":""}]
[null,{"$f":"IF(D687=\"\",\"\",COUNT($D$24:$D$453)-COUNT(D$453:$D688))","v":""}]
[null,{"$f":"IF(D688=\"\",\"\",COUNT($D$24:$D$453)-COUNT(D$453:$D689))","v":""}]
[null,{"$f":"IF(D689=\"\",\"\",COUNT($D$24:$D$453)-COUNT(D$453:$D690))","v":""}]
[null,{"$f":"IF(D690=\"\",\"\",COUNT($D$24:$D$453)-COUNT(D$453:$D691))","v":""}]
[null,{"$f":"IF(D691=\"\",\"\",COUNT($D$24:$D$453)-COUNT(D$453:$D692))","v":""}]
[null,{"$f":"IF(D692=\"\",\"\",COUNT($D$24:$D$453)-COUNT(D$453:$D693))","v":""}]
[null,{"$f":"IF(D693=\"\",\"\",COUNT($D$24:$D$453)-COUNT(D$453:$D694))","v":""}]
[null,{"$f":"IF(D694=\"\",\"\",COUNT($D$24:$D$453)-COUNT(D$453:$D695))","v":""}]
[null,{"$f":"IF(D695=\"\",\"\",COUNT($D$24:$D$453)-COUNT(D$453:$D696))","v":""}]
[null,{"$f":"IF(D696=\"\",\"\",COUNT($D$24:$D$453)-COUNT(D$453:$D697))","v":""}]
[null,{"$f":"IF(D697=\"\",\"\",COUNT($D$24:$D$453)-COUNT(D$453:$D698))","v":""}]
[null,{"$f":"IF(D698=\"\",\"\",COUNT($D$24:$D$453)-COUNT(D$453:$D699))","v":""}]
[null,{"$f":"IF(D699=\"\",\"\",COUNT($D$24:$D$453)-COUNT(D$453:$D700))","v":""}]
[null,{"$f":"IF(D700=\"\",\"\",COUNT($D$24:$D$453)-COUNT(D$453:$D701))","v":""}]
[null,{"$f":"IF(D701=\"\",\"\",COUNT($D$24:$D$453)-COUNT(D$453:$D702))","v":""}]
[null,{"$f":"IF(D702=\"\",\"\",COUNT($D$24:$D$453)-COUNT(D$453:$D703))","v":""}]
[null,{"$f":"IF(D703=\"\",\"\",COUNT($D$24:$D$453)-COUNT(D$453:$D704))","v":""}]
[null,{"$f":"IF(D704=\"\",\"\",COUNT($D$24:$D$453)-COUNT(D$453:$D705))","v":""}]
[null,{"$f":"IF(D705=\"\",\"\",COUNT($D$24:$D$453)-COUNT(D$453:$D706))","v":""}]
[null,{"$f":"IF(D706=\"\",\"\",COUNT($D$24:$D$453)-COUNT(D$453:$D707))","v":""}]
[null,{"$f":"IF(D707=\"\",\"\",COUNT($D$24:$D$453)-COUNT(D$453:$D708))","v":""}]
[null,{"$f":"IF(D708=\"\",\"\",COUNT($D$24:$D$453)-COUNT(D$453:$D709))","v":""}]

{"sheet":"Deviation_w_Addon_Malfunction","index":7,"n_rows":14,"n_cols":7,"rows_kept":14,"cut":false,"hidden":false,"merged":[]}
[null,"DO NOT REMOVE OR EDIT INFORMATION IN THIS SECTION\nFOR INTERNAL USE ONLY"]
[null,"Template Name",{"$f":"+Welcome!B2","v":"63.4311(a) Semiannual Compliance Report (Spreadsheet Template)"}]
[null,"CitationID",{"$f":"+Welcome!B3","v":"63.4311(a)"}]
[null,"Template Version",{"$f":"+Welcome!B4","v":"v2.01"}]
[null,"Last Updated Date",{"$f":"+Welcome!B5","v":43963}]
[null,{"$f":"+Welcome!B6","v":"OMB Control Number: 2060-0522, Expiration: March 31, 2019"}]
["R","40 CFR Part 63, Subpart OOOO National Emission Standards for Hazardous Air Pollutants: Printing, Coating, and Dyeing of Fabrics and Other Textiles "]
[null,"§63.4311(a) Semiannual Compliance Report Spreadsheet Template"]
[]
[]
[]
[null,"Company Record No. *\n(Select from dropdown)","Name of Operation \n(§63. 4311(a)(3)(iv))\n(Select from dropdown)","Starting Date of Capture System or Control Device Malfunction \n(§63.4311(a)(7)(ii)(D))","Starting Time of  Capture System or Control Device Malfunction \n(§63.4311(a)(7)(ii)(D))","Ending Date of  Capture System or Control Device Malfunction \n(§63.4311(a)(7)(ii)(D))","Ending Time of  Capture System or Control Device Malfunction \n(§63.4311(a)(7)(ii)(D))"]
[null,"RecordId","OperationName","MalfunctionStartDate","MalfunctionStartTime","MalfunctionEndDate","MalfunctionEndTime"]
[null,"e.g.: 1","e.g.: West Web Coating","e.g.: 2/1/2020","e.g.: 13:15","e.g.: 2/3/2020","e.g.: 08:02"]

{"sheet":"Deviation_w_Addon_EmLimits","index":8,"n_rows":708,"n_cols":10,"rows_kept":708,"cut":false,"hidden":false,"merged":[]}
[null,"DO NOT REMOVE OR EDIT INFORMATION IN THIS SECTION FOR INTERNAL USE ONLY"]
[null,"Template Name",{"$f":"+Welcome!B2","v":"63.4311(a) Semiannual Compliance Report (Spreadsheet Template)"}]
[null,"CitationID",{"$f":"+Welcome!B3","v":"63.4311(a)"}]
[null,"Template Version",{"$f":"+Welcome!B4","v":"v2.01"}]
[null,"Last Updated Date",{"$f":"+Welcome!B5","v":43963}]
[null,{"$f":"+Welcome!B6","v":"OMB Control Number: 2060-0522, Expiration: March 31, 2019"}]
[null,"40 CFR Part 63, Subpart OOOO National Emission Standards for Hazardous Air Pollutants: Printing, Coating, and Dyeing of Fabrics and Other Textiles - §63.4311(a) Semiannual Compliance Report Spreadsheet Template"]
[null,"\n"]
[]
[]
[]
[null,"Company Record No. *\n(Select from dropdown)","Emission Limit Deviated from \n(§63.4311(a)(7))\n(Select from dropdown)","Starting Date Compliance Period with Deviation \n(§63.4311(a)(7)(ii(A)))","Ending Date Compliance Period with Deviation \n(§63.4311(a)(7)(ii)(A))","Cause of Deviation \n(§63.4311(a)(7)(ii)(O)) \n(Select from dropdown)","List of Affected Source(s) \n(§63.4311(a)(7)(ii)(P))","Filename of Attached File Containing the Calculations used to determine the Emission Rate and Control Efficiency\n(§63.4311(a)(7)(ii)(A) and (B))","Estimate of Quantity Emitted Over Emission Limit (kg/kg)\n(§63.4311(a)(7)(ii)(P))","Method of Estimation \n(§63.4311(a)(7)(ii)(P))"]
[null,"RecordId","EmissionOperatingLimit","PeriodStartDate","PeriodEndDate","DeviationCause","AffectedSource","CalculationAttachment","EmissionQuantity","EstimationMethod"]
[null,"e.g.: 1","e.g.:  Organic HAP Emissions No More Than 0.12 kg/kg Solids Applied","e.g.: 2/1/2020","e.g.: 2/28/2020","e.g.: Other known causes","e.g.: South Web Coating","e.g.: South_Web_Addon_Calculations.pdf","e.g.: 0.14","e.g.: Laboratory analysis"]
[]
[]
[]
[]
[]
[]
[]
[]
[]
[]
[]
[]
[]
[]
[]
[]
[]
[]
[]
[]
[]
[]
[]
[]
[]
[]
[]
[]
[]
[]
[]
[]
[]
[]
[]
[]
[]
[]
[]
[]
[]
[]
[]
[]
[]
[]
[]
[]
[]
[]
[]
[]
[]
[]
[]
[]
[]
[]
[]
[]
[]
[]
[]
[]
[]
[]
[]
[]
[]
[]
[]
[]
[]
[]
[]
[]
[]
[]
[]
[]
[]
[]
[]
[]
[]
[]
[]
[]
[]
[]
[]
[]
[]
[]
[]
[]
[]
[]
[]
[]
[]
[]
[]
[]
[]
[]
[]
[]
[]
[]
[]
[]
[]
[]
[]
[]
[]
[]
[]
[]
[]
[]
[]
[]
[]
[]
[]
[]
[]
[]
[]
[]
[]
[]
[]
[]
[]
[]
[]
[]
[]
[]
[]
[]
[]
[]
[]
[]
[]
[]
[]
[]
[]
[]
[]
[]
[]
[]
[]
[]
[]
[]
[]
[]
[]
[]
[]
[]
[]
[]
[]
[]
[]
[]
[]
[]
[]
[]
[]
[]
[]
[]
[]
[]
[]
[]
[]
[]
[]
[]
[]
[]
[]
[]
[]
[]
[]
[]
[]
[]
[]
[]
[]
[]
[]
[]
[]
[]
[]
[]
[]
[]
[]
[]
[]
[]
[]
[]
[]
[]
[]
[]
[]
[]
[]
[]
[]
[]
[]
[]
[]
[]
[]
[]
[]
[]
[]
[]
[]
[]
[]
[]
[]
[]
[]
[]
[]
[]
[]
[]
[]
[]
[]
[]
[]
[]
[]
[]
[]
[]
[]
[]
[]
[]
[]
[]
[]
[]
[]
[]
[]
[]
[]
[]
[]
[]
[]
[]
[]
[]
[]
[]
[]
[]
[]
[]
[]
[]
[]
[]
[]
[]
[]
[]
[]
[]
[]
[]
[]
[]
[]
[]
[]
[]
[]
[]
[]
[]
[]
[]
[]
[]
[]
[]
[]
[]
[]
[]
[]
[]
[]
[]
[]
[]
[]
[]
[]
[]
[]
[]
[]
[]
[]
[]
[]
[]
[]
[]
[]
[]
[]
[]
[]
[]
[]
[]
[]
[]
[]
[]
[]
[]
[]
[]
[]
[]
[]
[]
[]
[]
[]
[]
[]
[]
[]
[]
[]
[]
[]
[]
[]
[]
[]
[]
[]
[]
[]
[]
[]
[]
[]
[]
[]
[]
[]
[]
[]
[]
[]
[]
[]
[]
[]
[]
[]
[]
[]
[]
[]
[]
[]
[]
[]
[]
[]
[]
[]
[]
[]
[]
[]
[]
[]
[]
[]
[]
[]
[]
[]
[]
[]
[]
[]
[]
[]
[]
[]
[]
[]
[]
[]
[]
[]
[]
[]
[]
[]
[]
[]
[]
[]
[]
[]
[]
[]
[]
[]
[]
[]
[]
[]
[]
[]
[]
[]
[]
[]
[]
[]
[]
[]
[]
[]
[]
[]
[]
[]
[]
[]
[]
[]
[]
[]
[]
[]
[]
[]
[]
[]
[]
[]
[]
[]
[]
[]
[]
[null,{"$f":"IF(F501=\"\",\"\",COUNT($F$24:$F$453)-COUNT(F$453:$F502))","v":""}]
[null,{"$f":"IF(F502=\"\",\"\",COUNT($F$24:$F$453)-COUNT(F$453:$F503))","v":""}]
[null,{"$f":"IF(F503=\"\",\"\",COUNT($F$24:$F$453)-COUNT(F$453:$F504))","v":""}]
[null,{"$f":"IF(F504=\"\",\"\",COUNT($F$24:$F$453)-COUNT(F$453:$F505))","v":""}]
[null,{"$f":"IF(F505=\"\",\"\",COUNT($F$24:$F$453)-COUNT(F$453:$F506))","v":""}]
[null,{"$f":"IF(F506=\"\",\"\",COUNT($F$24:$F$453)-COUNT(F$453:$F507))","v":""}]
[null,{"$f":"IF(F507=\"\",\"\",COUNT($F$24:$F$453)-COUNT(F$453:$F508))","v":""}]
[null,{"$f":"IF(F508=\"\",\"\",COUNT($F$24:$F$453)-COUNT(F$453:$F509))","v":""}]
[null,{"$f":"IF(F509=\"\",\"\",COUNT($F$24:$F$453)-COUNT(F$453:$F510))","v":""}]
[null,{"$f":"IF(F510=\"\",\"\",COUNT($F$24:$F$453)-COUNT(F$453:$F511))","v":""}]
[null,{"$f":"IF(F511=\"\",\"\",COUNT($F$24:$F$453)-COUNT(F$453:$F512))","v":""}]
[null,{"$f":"IF(F512=\"\",\"\",COUNT($F$24:$F$453)-COUNT(F$453:$F513))","v":""}]
[null,{"$f":"IF(F513=\"\",\"\",COUNT($F$24:$F$453)-COUNT(F$453:$F514))","v":""}]
[null,{"$f":"IF(F514=\"\",\"\",COUNT($F$24:$F$453)-COUNT(F$453:$F515))","v":""}]
[null,{"$f":"IF(F515=\"\",\"\",COUNT($F$24:$F$453)-COUNT(F$453:$F516))","v":""}]
[null,{"$f":"IF(F516=\"\",\"\",COUNT($F$24:$F$453)-COUNT(F$453:$F517))","v":""}]
[null,{"$f":"IF(F517=\"\",\"\",COUNT($F$24:$F$453)-COUNT(F$453:$F518))","v":""}]
[null,{"$f":"IF(F518=\"\",\"\",COUNT($F$24:$F$453)-COUNT(F$453:$F519))","v":""}]
[null,{"$f":"IF(F519=\"\",\"\",COUNT($F$24:$F$453)-COUNT(F$453:$F520))","v":""}]
[null,{"$f":"IF(F520=\"\",\"\",COUNT($F$24:$F$453)-COUNT(F$453:$F521))","v":""}]
[null,{"$f":"IF(F521=\"\",\"\",COUNT($F$24:$F$453)-COUNT(F$453:$F522))","v":""}]
[null,{"$f":"IF(F522=\"\",\"\",COUNT($F$24:$F$453)-COUNT(F$453:$F523))","v":""}]
[null,{"$f":"IF(F523=\"\",\"\",COUNT($F$24:$F$453)-COUNT(F$453:$F524))","v":""}]
[null,{"$f":"IF(F524=\"\",\"\",COUNT($F$24:$F$453)-COUNT(F$453:$F525))","v":""}]
[null,{"$f":"IF(F525=\"\",\"\",COUNT($F$24:$F$453)-COUNT(F$453:$F526))","v":""}]
[null,{"$f":"IF(F526=\"\",\"\",COUNT($F$24:$F$453)-COUNT(F$453:$F527))","v":""}]
[null,{"$f":"IF(F527=\"\",\"\",COUNT($F$24:$F$453)-COUNT(F$453:$F528))","v":""}]
[null,{"$f":"IF(F528=\"\",\"\",COUNT($F$24:$F$453)-COUNT(F$453:$F529))","v":""}]
[null,{"$f":"IF(F529=\"\",\"\",COUNT($F$24:$F$453)-COUNT(F$453:$F530))","v":""}]
[null,{"$f":"IF(F530=\"\",\"\",COUNT($F$24:$F$453)-COUNT(F$453:$F531))","v":""}]
[null,{"$f":"IF(F531=\"\",\"\",COUNT($F$24:$F$453)-COUNT(F$453:$F532))","v":""}]
[null,{"$f":"IF(F532=\"\",\"\",COUNT($F$24:$F$453)-COUNT(F$453:$F533))","v":""}]
[null,{"$f":"IF(F533=\"\",\"\",COUNT($F$24:$F$453)-COUNT(F$453:$F534))","v":""}]
[null,{"$f":"IF(F534=\"\",\"\",COUNT($F$24:$F$453)-COUNT(F$453:$F535))","v":""}]
[null,{"$f":"IF(F535=\"\",\"\",COUNT($F$24:$F$453)-COUNT(F$453:$F536))","v":""}]
[null,{"$f":"IF(F536=\"\",\"\",COUNT($F$24:$F$453)-COUNT(F$453:$F537))","v":""}]
[null,{"$f":"IF(F537=\"\",\"\",COUNT($F$24:$F$453)-COUNT(F$453:$F538))","v":""}]
[null,{"$f":"IF(F538=\"\",\"\",COUNT($F$24:$F$453)-COUNT(F$453:$F539))","v":""}]
[null,{"$f":"IF(F539=\"\",\"\",COUNT($F$24:$F$453)-COUNT(F$453:$F540))","v":""}]
[null,{"$f":"IF(F540=\"\",\"\",COUNT($F$24:$F$453)-COUNT(F$453:$F541))","v":""}]
[null,{"$f":"IF(F541=\"\",\"\",COUNT($F$24:$F$453)-COUNT(F$453:$F542))","v":""}]
[null,{"$f":"IF(F542=\"\",\"\",COUNT($F$24:$F$453)-COUNT(F$453:$F543))","v":""}]
[null,{"$f":"IF(F543=\"\",\"\",COUNT($F$24:$F$453)-COUNT(F$453:$F544))","v":""}]
[null,{"$f":"IF(F544=\"\",\"\",COUNT($F$24:$F$453)-COUNT(F$453:$F545))","v":""}]
[null,{"$f":"IF(F545=\"\",\"\",COUNT($F$24:$F$453)-COUNT(F$453:$F546))","v":""}]
[null,{"$f":"IF(F546=\"\",\"\",COUNT($F$24:$F$453)-COUNT(F$453:$F547))","v":""}]
[null,{"$f":"IF(F547=\"\",\"\",COUNT($F$24:$F$453)-COUNT(F$453:$F548))","v":""}]
[null,{"$f":"IF(F548=\"\",\"\",COUNT($F$24:$F$453)-COUNT(F$453:$F549))","v":""}]
[null,{"$f":"IF(F549=\"\",\"\",COUNT($F$24:$F$453)-COUNT(F$453:$F550))","v":""}]
[null,{"$f":"IF(F550=\"\",\"\",COUNT($F$24:$F$453)-COUNT(F$453:$F551))","v":""}]
[null,{"$f":"IF(F551=\"\",\"\",COUNT($F$24:$F$453)-COUNT(F$453:$F552))","v":""}]
[null,{"$f":"IF(F552=\"\",\"\",COUNT($F$24:$F$453)-COUNT(F$453:$F553))","v":""}]
[null,{"$f":"IF(F553=\"\",\"\",COUNT($F$24:$F$453)-COUNT(F$453:$F554))","v":""}]
[null,{"$f":"IF(F554=\"\",\"\",COUNT($F$24:$F$453)-COUNT(F$453:$F555))","v":""}]
[null,{"$f":"IF(F555=\"\",\"\",COUNT($F$24:$F$453)-COUNT(F$453:$F556))","v":""}]
[null,{"$f":"IF(F556=\"\",\"\",COUNT($F$24:$F$453)-COUNT(F$453:$F557))","v":""}]
[null,{"$f":"IF(F557=\"\",\"\",COUNT($F$24:$F$453)-COUNT(F$453:$F558))","v":""}]
[null,{"$f":"IF(F558=\"\",\"\",COUNT($F$24:$F$453)-COUNT(F$453:$F559))","v":""}]
[null,{"$f":"IF(F559=\"\",\"\",COUNT($F$24:$F$453)-COUNT(F$453:$F560))","v":""}]
[null,{"$f":"IF(F560=\"\",\"\",COUNT($F$24:$F$453)-COUNT(F$453:$F561))","v":""}]
[null,{"$f":"IF(F561=\"\",\"\",COUNT($F$24:$F$453)-COUNT(F$453:$F562))","v":""}]
[null,{"$f":"IF(F562=\"\",\"\",COUNT($F$24:$F$453)-COUNT(F$453:$F563))","v":""}]
[null,{"$f":"IF(F563=\"\",\"\",COUNT($F$24:$F$453)-COUNT(F$453:$F564))","v":""}]
[null,{"$f":"IF(F564=\"\",\"\",COUNT($F$24:$F$453)-COUNT(F$453:$F565))","v":""}]
[null,{"$f":"IF(F565=\"\",\"\",COUNT($F$24:$F$453)-COUNT(F$453:$F566))","v":""}]
[null,{"$f":"IF(F566=\"\",\"\",COUNT($F$24:$F$453)-COUNT(F$453:$F567))","v":""}]
[null,{"$f":"IF(F567=\"\",\"\",COUNT($F$24:$F$453)-COUNT(F$453:$F568))","v":""}]
[null,{"$f":"IF(F568=\"\",\"\",COUNT($F$24:$F$453)-COUNT(F$453:$F569))","v":""}]
[null,{"$f":"IF(F569=\"\",\"\",COUNT($F$24:$F$453)-COUNT(F$453:$F570))","v":""}]
[null,{"$f":"IF(F570=\"\",\"\",COUNT($F$24:$F$453)-COUNT(F$453:$F571))","v":""}]
[null,{"$f":"IF(F571=\"\",\"\",COUNT($F$24:$F$453)-COUNT(F$453:$F572))","v":""}]
[null,{"$f":"IF(F572=\"\",\"\",COUNT($F$24:$F$453)-COUNT(F$453:$F573))","v":""}]
[null,{"$f":"IF(F573=\"\",\"\",COUNT($F$24:$F$453)-COUNT(F$453:$F574))","v":""}]
[null,{"$f":"IF(F574=\"\",\"\",COUNT($F$24:$F$453)-COUNT(F$453:$F575))","v":""}]
[null,{"$f":"IF(F575=\"\",\"\",COUNT($F$24:$F$453)-COUNT(F$453:$F576))","v":""}]
[null,{"$f":"IF(F576=\"\",\"\",COUNT($F$24:$F$453)-COUNT(F$453:$F577))","v":""}]
[null,{"$f":"IF(F577=\"\",\"\",COUNT($F$24:$F$453)-COUNT(F$453:$F578))","v":""}]
[null,{"$f":"IF(F578=\"\",\"\",COUNT($F$24:$F$453)-COUNT(F$453:$F579))","v":""}]
[null,{"$f":"IF(F579=\"\",\"\",COUNT($F$24:$F$453)-COUNT(F$453:$F580))","v":""}]
[null,{"$f":"IF(F580=\"\",\"\",COUNT($F$24:$F$453)-COUNT(F$453:$F581))","v":""}]
[null,{"$f":"IF(F581=\"\",\"\",COUNT($F$24:$F$453)-COUNT(F$453:$F582))","v":""}]
[null,{"$f":"IF(F582=\"\",\"\",COUNT($F$24:$F$453)-COUNT(F$453:$F583))","v":""}]
[null,{"$f":"IF(F583=\"\",\"\",COUNT($F$24:$F$453)-COUNT(F$453:$F584))","v":""}]
[null,{"$f":"IF(F584=\"\",\"\",COUNT($F$24:$F$453)-COUNT(F$453:$F585))","v":""}]
[null,{"$f":"IF(F585=\"\",\"\",COUNT($F$24:$F$453)-COUNT(F$453:$F586))","v":""}]
[null,{"$f":"IF(F586=\"\",\"\",COUNT($F$24:$F$453)-COUNT(F$453:$F587))","v":""}]
[null,{"$f":"IF(F587=\"\",\"\",COUNT($F$24:$F$453)-COUNT(F$453:$F588))","v":""}]
[null,{"$f":"IF(F588=\"\",\"\",COUNT($F$24:$F$453)-COUNT(F$453:$F589))","v":""}]
[null,{"$f":"IF(F589=\"\",\"\",COUNT($F$24:$F$453)-COUNT(F$453:$F590))","v":""}]
[null,{"$f":"IF(F590=\"\",\"\",COUNT($F$24:$F$453)-COUNT(F$453:$F591))","v":""}]
[null,{"$f":"IF(F591=\"\",\"\",COUNT($F$24:$F$453)-COUNT(F$453:$F592))","v":""}]
[null,{"$f":"IF(F592=\"\",\"\",COUNT($F$24:$F$453)-COUNT(F$453:$F593))","v":""}]
[null,{"$f":"IF(F593=\"\",\"\",COUNT($F$24:$F$453)-COUNT(F$453:$F594))","v":""}]
[null,{"$f":"IF(F594=\"\",\"\",COUNT($F$24:$F$453)-COUNT(F$453:$F595))","v":""}]
[null,{"$f":"IF(F595=\"\",\"\",COUNT($F$24:$F$453)-COUNT(F$453:$F596))","v":""}]
[null,{"$f":"IF(F596=\"\",\"\",COUNT($F$24:$F$453)-COUNT(F$453:$F597))","v":""}]
[null,{"$f":"IF(F597=\"\",\"\",COUNT($F$24:$F$453)-COUNT(F$453:$F598))","v":""}]
[null,{"$f":"IF(F598=\"\",\"\",COUNT($F$24:$F$453)-COUNT(F$453:$F599))","v":""}]
[null,{"$f":"IF(F599=\"\",\"\",COUNT($F$24:$F$453)-COUNT(F$453:$F600))","v":""}]
[null,{"$f":"IF(F600=\"\",\"\",COUNT($F$24:$F$453)-COUNT(F$453:$F601))","v":""}]
[null,{"$f":"IF(F601=\"\",\"\",COUNT($F$24:$F$453)-COUNT(F$453:$F602))","v":""}]
[null,{"$f":"IF(F602=\"\",\"\",COUNT($F$24:$F$453)-COUNT(F$453:$F603))","v":""}]
[null,{"$f":"IF(F603=\"\",\"\",COUNT($F$24:$F$453)-COUNT(F$453:$F604))","v":""}]
[null,{"$f":"IF(F604=\"\",\"\",COUNT($F$24:$F$453)-COUNT(F$453:$F605))","v":""}]
[null,{"$f":"IF(F605=\"\",\"\",COUNT($F$24:$F$453)-COUNT(F$453:$F606))","v":""}]
[null,{"$f":"IF(F606=\"\",\"\",COUNT($F$24:$F$453)-COUNT(F$453:$F607))","v":""}]
[null,{"$f":"IF(F607=\"\",\"\",COUNT($F$24:$F$453)-COUNT(F$453:$F608))","v":""}]
[null,{"$f":"IF(F608=\"\",\"\",COUNT($F$24:$F$453)-COUNT(F$453:$F609))","v":""}]
[null,{"$f":"IF(F609=\"\",\"\",COUNT($F$24:$F$453)-COUNT(F$453:$F610))","v":""}]
[null,{"$f":"IF(F610=\"\",\"\",COUNT($F$24:$F$453)-COUNT(F$453:$F611))","v":""}]
[null,{"$f":"IF(F611=\"\",\"\",COUNT($F$24:$F$453)-COUNT(F$453:$F612))","v":""}]
[null,{"$f":"IF(F612=\"\",\"\",COUNT($F$24:$F$453)-COUNT(F$453:$F613))","v":""}]
[null,{"$f":"IF(F613=\"\",\"\",COUNT($F$24:$F$453)-COUNT(F$453:$F614))","v":""}]
[null,{"$f":"IF(F614=\"\",\"\",COUNT($F$24:$F$453)-COUNT(F$453:$F615))","v":""}]
[null,{"$f":"IF(F615=\"\",\"\",COUNT($F$24:$F$453)-COUNT(F$453:$F616))","v":""}]
[null,{"$f":"IF(F616=\"\",\"\",COUNT($F$24:$F$453)-COUNT(F$453:$F617))","v":""}]
[null,{"$f":"IF(F617=\"\",\"\",COUNT($F$24:$F$453)-COUNT(F$453:$F618))","v":""}]
[null,{"$f":"IF(F618=\"\",\"\",COUNT($F$24:$F$453)-COUNT(F$453:$F619))","v":""}]
[null,{"$f":"IF(F619=\"\",\"\",COUNT($F$24:$F$453)-COUNT(F$453:$F620))","v":""}]
[null,{"$f":"IF(F620=\"\",\"\",COUNT($F$24:$F$453)-COUNT(F$453:$F621))","v":""}]
[null,{"$f":"IF(F621=\"\",\"\",COUNT($F$24:$F$453)-COUNT(F$453:$F622))","v":""}]
[null,{"$f":"IF(F622=\"\",\"\",COUNT($F$24:$F$453)-COUNT(F$453:$F623))","v":""}]
[null,{"$f":"IF(F623=\"\",\"\",COUNT($F$24:$F$453)-COUNT(F$453:$F624))","v":""}]
[null,{"$f":"IF(F624=\"\",\"\",COUNT($F$24:$F$453)-COUNT(F$453:$F625))","v":""}]
[null,{"$f":"IF(F625=\"\",\"\",COUNT($F$24:$F$453)-COUNT(F$453:$F626))","v":""}]
[null,{"$f":"IF(F626=\"\",\"\",COUNT($F$24:$F$453)-COUNT(F$453:$F627))","v":""}]
[null,{"$f":"IF(F627=\"\",\"\",COUNT($F$24:$F$453)-COUNT(F$453:$F628))","v":""}]
[null,{"$f":"IF(F628=\"\",\"\",COUNT($F$24:$F$453)-COUNT(F$453:$F629))","v":""}]
[null,{"$f":"IF(F629=\"\",\"\",COUNT($F$24:$F$453)-COUNT(F$453:$F630))","v":""}]
[null,{"$f":"IF(F630=\"\",\"\",COUNT($F$24:$F$453)-COUNT(F$453:$F631))","v":""}]
[null,{"$f":"IF(F631=\"\",\"\",COUNT($F$24:$F$453)-COUNT(F$453:$F632))","v":""}]
[null,{"$f":"IF(F632=\"\",\"\",COUNT($F$24:$F$453)-COUNT(F$453:$F633))","v":""}]
[null,{"$f":"IF(F633=\"\",\"\",COUNT($F$24:$F$453)-COUNT(F$453:$F634))","v":""}]
[null,{"$f":"IF(F634=\"\",\"\",COUNT($F$24:$F$453)-COUNT(F$453:$F635))","v":""}]
[null,{"$f":"IF(F635=\"\",\"\",COUNT($F$24:$F$453)-COUNT(F$453:$F636))","v":""}]
[null,{"$f":"IF(F636=\"\",\"\",COUNT($F$24:$F$453)-COUNT(F$453:$F637))","v":""}]
[null,{"$f":"IF(F637=\"\",\"\",COUNT($F$24:$F$453)-COUNT(F$453:$F638))","v":""}]
[null,{"$f":"IF(F638=\"\",\"\",COUNT($F$24:$F$453)-COUNT(F$453:$F639))","v":""}]
[null,{"$f":"IF(F639=\"\",\"\",COUNT($F$24:$F$453)-COUNT(F$453:$F640))","v":""}]
[null,{"$f":"IF(F640=\"\",\"\",COUNT($F$24:$F$453)-COUNT(F$453:$F641))","v":""}]
[null,{"$f":"IF(F641=\"\",\"\",COUNT($F$24:$F$453)-COUNT(F$453:$F642))","v":""}]
[null,{"$f":"IF(F642=\"\",\"\",COUNT($F$24:$F$453)-COUNT(F$453:$F643))","v":""}]
[null,{"$f":"IF(F643=\"\",\"\",COUNT($F$24:$F$453)-COUNT(F$453:$F644))","v":""}]
[null,{"$f":"IF(F644=\"\",\"\",COUNT($F$24:$F$453)-COUNT(F$453:$F645))","v":""}]
[null,{"$f":"IF(F645=\"\",\"\",COUNT($F$24:$F$453)-COUNT(F$453:$F646))","v":""}]
[null,{"$f":"IF(F646=\"\",\"\",COUNT($F$24:$F$453)-COUNT(F$453:$F647))","v":""}]
[null,{"$f":"IF(F647=\"\",\"\",COUNT($F$24:$F$453)-COUNT(F$453:$F648))","v":""}]
[null,{"$f":"IF(F648=\"\",\"\",COUNT($F$24:$F$453)-COUNT(F$453:$F649))","v":""}]
[null,{"$f":"IF(F649=\"\",\"\",COUNT($F$24:$F$453)-COUNT(F$453:$F650))","v":""}]
[null,{"$f":"IF(F650=\"\",\"\",COUNT($F$24:$F$453)-COUNT(F$453:$F651))","v":""}]
[null,{"$f":"IF(F651=\"\",\"\",COUNT($F$24:$F$453)-COUNT(F$453:$F652))","v":""}]
[null,{"$f":"IF(F652=\"\",\"\",COUNT($F$24:$F$453)-COUNT(F$453:$F653))","v":""}]
[null,{"$f":"IF(F653=\"\",\"\",COUNT($F$24:$F$453)-COUNT(F$453:$F654))","v":""}]
[null,{"$f":"IF(F654=\"\",\"\",COUNT($F$24:$F$453)-COUNT(F$453:$F655))","v":""}]
[null,{"$f":"IF(F655=\"\",\"\",COUNT($F$24:$F$453)-COUNT(F$453:$F656))","v":""}]
[null,{"$f":"IF(F656=\"\",\"\",COUNT($F$24:$F$453)-COUNT(F$453:$F657))","v":""}]
[null,{"$f":"IF(F657=\"\",\"\",COUNT($F$24:$F$453)-COUNT(F$453:$F658))","v":""}]
[null,{"$f":"IF(F658=\"\",\"\",COUNT($F$24:$F$453)-COUNT(F$453:$F659))","v":""}]
[null,{"$f":"IF(F659=\"\",\"\",COUNT($F$24:$F$453)-COUNT(F$453:$F660))","v":""}]
[null,{"$f":"IF(F660=\"\",\"\",COUNT($F$24:$F$453)-COUNT(F$453:$F661))","v":""}]
[null,{"$f":"IF(F661=\"\",\"\",COUNT($F$24:$F$453)-COUNT(F$453:$F662))","v":""}]
[null,{"$f":"IF(F662=\"\",\"\",COUNT($F$24:$F$453)-COUNT(F$453:$F663))","v":""}]
[null,{"$f":"IF(F663=\"\",\"\",COUNT($F$24:$F$453)-COUNT(F$453:$F664))","v":""}]
[null,{"$f":"IF(F664=\"\",\"\",COUNT($F$24:$F$453)-COUNT(F$453:$F665))","v":""}]
[null,{"$f":"IF(F665=\"\",\"\",COUNT($F$24:$F$453)-COUNT(F$453:$F666))","v":""}]
[null,{"$f":"IF(F666=\"\",\"\",COUNT($F$24:$F$453)-COUNT(F$453:$F667))","v":""}]
[null,{"$f":"IF(F667=\"\",\"\",COUNT($F$24:$F$453)-COUNT(F$453:$F668))","v":""}]
[null,{"$f":"IF(F668=\"\",\"\",COUNT($F$24:$F$453)-COUNT(F$453:$F669))","v":""}]
[null,{"$f":"IF(F669=\"\",\"\",COUNT($F$24:$F$453)-COUNT(F$453:$F670))","v":""}]
[null,{"$f":"IF(F670=\"\",\"\",COUNT($F$24:$F$453)-COUNT(F$453:$F671))","v":""}]
[null,{"$f":"IF(F671=\"\",\"\",COUNT($F$24:$F$453)-COUNT(F$453:$F672))","v":""}]
[null,{"$f":"IF(F672=\"\",\"\",COUNT($F$24:$F$453)-COUNT(F$453:$F673))","v":""}]
[null,{"$f":"IF(F673=\"\",\"\",COUNT($F$24:$F$453)-COUNT(F$453:$F674))","v":""}]
[null,{"$f":"IF(F674=\"\",\"\",COUNT($F$24:$F$453)-COUNT(F$453:$F675))","v":""}]
[null,{"$f":"IF(F675=\"\",\"\",COUNT($F$24:$F$453)-COUNT(F$453:$F676))","v":""}]
[null,{"$f":"IF(F676=\"\",\"\",COUNT($F$24:$F$453)-COUNT(F$453:$F677))","v":""}]
[null,{"$f":"IF(F677=\"\",\"\",COUNT($F$24:$F$453)-COUNT(F$453:$F678))","v":""}]
[null,{"$f":"IF(F678=\"\",\"\",COUNT($F$24:$F$453)-COUNT(F$453:$F679))","v":""}]
[null,{"$f":"IF(F679=\"\",\"\",COUNT($F$24:$F$453)-COUNT(F$453:$F680))","v":""}]
[null,{"$f":"IF(F680=\"\",\"\",COUNT($F$24:$F$453)-COUNT(F$453:$F681))","v":""}]
[null,{"$f":"IF(F681=\"\",\"\",COUNT($F$24:$F$453)-COUNT(F$453:$F682))","v":""}]
[null,{"$f":"IF(F682=\"\",\"\",COUNT($F$24:$F$453)-COUNT(F$453:$F683))","v":""}]
[null,{"$f":"IF(F683=\"\",\"\",COUNT($F$24:$F$453)-COUNT(F$453:$F684))","v":""}]
[null,{"$f":"IF(F684=\"\",\"\",COUNT($F$24:$F$453)-COUNT(F$453:$F685))","v":""}]
[null,{"$f":"IF(F685=\"\",\"\",COUNT($F$24:$F$453)-COUNT(F$453:$F686))","v":""}]
[null,{"$f":"IF(F686=\"\",\"\",COUNT($F$24:$F$453)-COUNT(F$453:$F687))","v":""}]
[null,{"$f":"IF(F687=\"\",\"\",COUNT($F$24:$F$453)-COUNT(F$453:$F688))","v":""}]
[null,{"$f":"IF(F688=\"\",\"\",COUNT($F$24:$F$453)-COUNT(F$453:$F689))","v":""}]
[null,{"$f":"IF(F689=\"\",\"\",COUNT($F$24:$F$453)-COUNT(F$453:$F690))","v":""}]
[null,{"$f":"IF(F690=\"\",\"\",COUNT($F$24:$F$453)-COUNT(F$453:$F691))","v":""}]
[null,{"$f":"IF(F691=\"\",\"\",COUNT($F$24:$F$453)-COUNT(F$453:$F692))","v":""}]
[null,{"$f":"IF(F692=\"\",\"\",COUNT($F$24:$F$453)-COUNT(F$453:$F693))","v":""}]
[null,{"$f":"IF(F693=\"\",\"\",COUNT($F$24:$F$453)-COUNT(F$453:$F694))","v":""}]
[null,{"$f":"IF(F694=\"\",\"\",COUNT($F$24:$F$453)-COUNT(F$453:$F695))","v":""}]
[null,{"$f":"IF(F695=\"\",\"\",COUNT($F$24:$F$453)-COUNT(F$453:$F696))","v":""}]
[null,{"$f":"IF(F696=\"\",\"\",COUNT($F$24:$F$453)-COUNT(F$453:$F697))","v":""}]
[null,{"$f":"IF(F697=\"\",\"\",COUNT($F$24:$F$453)-COUNT(F$453:$F698))","v":""}]
[null,{"$f":"IF(F698=\"\",\"\",COUNT($F$24:$F$453)-COUNT(F$453:$F699))","v":""}]
[null,{"$f":"IF(F699=\"\",\"\",COUNT($F$24:$F$453)-COUNT(F$453:$F700))","v":""}]
[null,{"$f":"IF(F700=\"\",\"\",COUNT($F$24:$F$453)-COUNT(F$453:$F701))","v":""}]
[null,{"$f":"IF(F701=\"\",\"\",COUNT($F$24:$F$453)-COUNT(F$453:$F702))","v":""}]
[null,{"$f":"IF(F702=\"\",\"\",COUNT($F$24:$F$453)-COUNT(F$453:$F703))","v":""}]
[null,{"$f":"IF(F703=\"\",\"\",COUNT($F$24:$F$453)-COUNT(F$453:$F704))","v":""}]
[null,{"$f":"IF(F704=\"\",\"\",COUNT($F$24:$F$453)-COUNT(F$453:$F705))","v":""}]
[null,{"$f":"IF(F705=\"\",\"\",COUNT($F$24:$F$453)-COUNT(F$453:$F706))","v":""}]
[null,{"$f":"IF(F706=\"\",\"\",COUNT($F$24:$F$453)-COUNT(F$453:$F707))","v":""}]
[null,{"$f":"IF(F707=\"\",\"\",COUNT($F$24:$F$453)-COUNT(F$453:$F708))","v":""}]
[null,{"$f":"IF(F708=\"\",\"\",COUNT($F$24:$F$453)-COUNT(F$453:$F709))","v":""}]

{"sheet":"Deviation_w_Addon_CPMS1","index":9,"n_rows":14,"n_cols":5,"rows_kept":14,"cut":false,"hidden":false,"merged":[]}
[null,"DO NOT REMOVE OR EDIT INFORMATION IN THIS SECTION\nFOR INTERNAL USE ONLY"]
[null,"Template Name",{"$f":"+Welcome!B2","v":"63.4311(a) Semiannual Compliance Report (Spreadsheet Template)"}]
[null,"CitationID",{"$f":"+Welcome!B3","v":"63.4311(a)"}]
[null,"Template Version",{"$f":"+Welcome!B4","v":"v2.01"}]
[null,"Last Updated Date",{"$f":"+Welcome!B5","v":43963}]
[null,{"$f":"+Welcome!B6","v":"OMB Control Number: 2060-0522, Expiration: March 31, 2019"}]
[null,"40 CFR Part 63, Subpart OOOO National Emission Standards for Hazardous Air Pollutants: Printing, Coating,"]
[null," and Dyeing of Fabrics and Other Textiles - §63.4311(a) Semiannual Compliance Report Spreadsheet Template"]
[]
[]
[]
[null,"Company Record No. *\n(Select from dropdown)","Name of Operation \n(§63. 4311(a)(3)(iv))\n(Select from dropdown)","Description of CPMS \n(§63.4311(a)(7)(ii)(E))","Date of Last CPMS Certification or Audit \n(§63.4311(a)(7)(ii(F)))"]
[null,"RecordId","OperationName","CpmsDescription","CpmsAuditDate"]
[null,"e.g.: 1","e.g.: South Web Coating","e.g.: Combustion temperature","e.g.: 2/2/2020"]

{"sheet":"Deviation_w_Addon_CPMS2","index":10,"n_rows":14,"n_cols":10,"rows_kept":14,"cut":false,"hidden":false,"merged":[]}
[null,"DO NOT REMOVE OR EDIT INFORMATION IN THIS SECTION\nFOR INTERNAL USE ONLY"]
[null,"Template Name",{"$f":"+Welcome!B2","v":"63.4311(a) Semiannual Compliance Report (Spreadsheet Template)"}]
[null,"CitationID",{"$f":"+Welcome!B3","v":"63.4311(a)"}]
[null,"Template Version",{"$f":"+Welcome!B4","v":"v2.01"}]
[null,"Last Updated Date",{"$f":"+Welcome!B5","v":43963}]
[null,{"$f":"+Welcome!B6","v":"OMB Control Number: 2060-0522, Expiration: March 31, 2019"}]
[null,"40 CFR Part 63, Subpart OOOO National Emission Standards for Hazardous Air Pollutants: Printing, Coating, and Dyeing of Fabrics and Other Textiles - §63.4311(a) Semiannual Compliance Report Spreadsheet Template"]
[null,"\n"]
[]
[]
[]
[null,"Company Record No. *\n(Select from dropdown)","Name of Operation \n(§63. 4311(a)(3)(iv))\n(Select from dropdown)","Description of CPMS \n(§63.4311(a)(7)(ii)(E))\n(Select from dropdown)","CPMS Inoperative or \nOut of Control\n(Select from dropdown)","Starting Date CPMS Inoperative or \nOut of Control \n(§63.4311(a)(7)(ii)(G) or (H))","Starting Time CPMS Inoperative or \nOut of Control \n(§63.4311(a)(7)(ii)(G) or (H))","Duration CPMS Inoperative or Out of Control (hours) \n(§63.4311(a)(7)(ii)(G) or (H))","Cause of CPMS Being Inoperative or Out of Control \n(§63.4311(a)(7)(ii)(G) or (H))\n(Select from dropdown)","Corrective Action Taken \n(§63.4311(a)(7)(ii)(G) or (H))"]
[null,"RecordId","OperationName","CpmsDescription","CpmsOutageDescription","CpmsOutageStartDate","CpmsOutageStartTime","CpmsOutageDuration","CpmsOutageCause","CorrectiveAction"]
[null,"e.g.: 1","e.g.: South Web Coating","e.g.: Combustion temperature","e.g. Inoperative","e.g.: 3/2/2020","e.g.: 15:52","e.g.: 72.0","e.g.: Other known causes","e.g.: replaced thermocouple"]

{"sheet":"Deviation_w_Addon_CPMSSummary","index":11,"n_rows":100,"n_cols":7,"rows_kept":100,"cut":false,"hidden":false,"merged":[]}
[null,"DO NOT REMOVE OR EDIT INFORMATION IN THIS SECTION FOR INTERNAL USE ONLY"]
[null,"Template Name",{"$f":"+Welcome!B2","v":"63.4311(a) Semiannual Compliance Report (Spreadsheet Template)"}]
[null,"CitationID",{"$f":"+Welcome!B3","v":"63.4311(a)"}]
[null,"Template Version",{"$f":"+Welcome!B4","v":"v2.01"}]
[null,"Last Updated Date",{"$f":"+Welcome!B5","v":43963}]
[null,{"$f":"+Welcome!B6","v":"OMB Control Number: 2060-0522, Expiration: March 31, 2019"}]
[null,"40 CFR Part 63, Subpart OOOO National Emission Standards for Hazardous Air Pollutants: Printing, Coating, and Dyeing of Fabrics and Other Textiles - §63.4311(a) Semiannual Compliance Report Spreadsheet Template"]
[null,"\n"]
[]
[]
[]
[null,"Company Record No. *\n(Select from dropdown)","Name of Operation \n(§63. 4311(a)(3)(iv))\n(Select from dropdown)","Description of CPMS \n(§63.4311(a)(7)(ii)(E))\n(Select from dropdown)","Total Source Operating Time (hours)\n(Optional for autocalculation of % Total Source Operating Time)","Total Duration of CPMS Downtime (hours) \n(§63.4311(a)(7)(xii))","Total Duration of CPMS Downtime as a per cent of Total Source Operating Time (hours)   (§63.4311(a)(7)(xii))\n(Autocalulation or manual entry)"]
[null,"RecordId","OperationName","CpmsDescription","TotalOperatingTime","CpmsDowntimeDuration","CpmsDowntimePercent"]
[null,"e.g.: 1","e.g.: South Web Coating","e.g.: Combustion temperature","e.g.: 6240","e.g.: 0","e.g.: N/A"]
[null,null,null,null,null,{"$f":"IF($C15=\"\",\"\",SUMIFS(Deviation_w_Addon_CPMS2!$H$24:$H$5000,Deviation_w_Addon_CPMS2!$C$24:$C$5000,Deviation_w_Addon_CPMSSummary!C15))","v":""},{"$f":"IF($C15=\"\",\"\",SUMIFS(Deviation_w_Addon_CPMS2!$H$24:$H$5000,Deviation_w_Addon_CPMS2!$C$24:$C$5000,Deviation_w_Addon_CPMSSummary!C15,Deviation_w_Addon_CPMS2!$I$24:$I$5000,\"Other Unknown Causes\"))","v":""}]
[null,null,null,null,null,{"$f":"IF($C16=\"\",\"\",SUMIFS(Deviation_w_Addon_CPMS2!$H$24:$H$5000,Deviation_w_Addon_CPMS2!$C$24:$C$5000,Deviation_w_Addon_CPMSSummary!C16))","v":""},{"$f":"IF($C16=\"\",\"\",SUMIFS(Deviation_w_Addon_CPMS2!$H$24:$H$5000,Deviation_w_Addon_CPMS2!$C$24:$C$5000,Deviation_w_Addon_CPMSSummary!C16,Deviation_w_Addon_CPMS2!$I$24:$I$5000,\"Other Unknown Causes\"))","v":""}]
[null,null,null,null,null,{"$f":"IF($C17=\"\",\"\",SUMIFS(Deviation_w_Addon_CPMS2!$H$24:$H$5000,Deviation_w_Addon_CPMS2!$C$24:$C$5000,Deviation_w_Addon_CPMSSummary!C17))","v":""},{"$f":"IF($C17=\"\",\"\",SUMIFS(Deviation_w_Addon_CPMS2!$H$24:$H$5000,Deviation_w_Addon_CPMS2!$C$24:$C$5000,Deviation_w_Addon_CPMSSummary!C17,Deviation_w_Addon_CPMS2!$I$24:$I$5000,\"Other Unknown Causes\"))","v":""}]
[null,null,null,null,null,{"$f":"IF($C18=\"\",\"\",SUMIFS(Deviation_w_Addon_CPMS2!$H$24:$H$5000,Deviation_w_Addon_CPMS2!$C$24:$C$5000,Deviation_w_Addon_CPMSSummary!C18))","v":""},{"$f":"IF($C18=\"\",\"\",SUMIFS(Deviation_w_Addon_CPMS2!$H$24:$H$5000,Deviation_w_Addon_CPMS2!$C$24:$C$5000,Deviation_w_Addon_CPMSSummary!C18,Deviation_w_Addon_CPMS2!$I$24:$I$5000,\"Other Unknown Causes\"))","v":""}]
[null,null,null,null,null,{"$f":"IF($C19=\"\",\"\",SUMIFS(Deviation_w_Addon_CPMS2!$H$24:$H$5000,Deviation_w_Addon_CPMS2!$C$24:$C$5000,Deviation_w_Addon_CPMSSummary!C19))","v":""},{"$f":"IF($C19=\"\",\"\",SUMIFS(Deviation_w_Addon_CPMS2!$H$24:$H$5000,Deviation_w_Addon_CPMS2!$C$24:$C$5000,Deviation_w_Addon_CPMSSummary!C19,Deviation_w_Addon_CPMS2!$I$24:$I$5000,\"Other Unknown Causes\"))","v":""}]
[null,null,null,null,null,{"$f":"IF($C20=\"\",\"\",SUMIFS(Deviation_w_Addon_CPMS2!$H$24:$H$5000,Deviation_w_Addon_CPMS2!$C$24:$C$5000,Deviation_w_Addon_CPMSSummary!C20))","v":""},{"$f":"IF($C20=\"\",\"\",SUMIFS(Deviation_w_Addon_CPMS2!$H$24:$H$5000,Deviation_w_Addon_CPMS2!$C$24:$C$5000,Deviation_w_Addon_CPMSSummary!C20,Deviation_w_Addon_CPMS2!$I$24:$I$5000,\"Other Unknown Causes\"))","v":""}]
[null,null,null,null,null,{"$f":"IF($C21=\"\",\"\",SUMIFS(Deviation_w_Addon_CPMS2!$H$24:$H$5000,Deviation_w_Addon_CPMS2!$C$24:$C$5000,Deviation_w_Addon_CPMSSummary!C21))","v":""},{"$f":"IF($C21=\"\",\"\",SUMIFS(Deviation_w_Addon_CPMS2!$H$24:$H$5000,Deviation_w_Addon_CPMS2!$C$24:$C$5000,Deviation_w_Addon_CPMSSummary!C21,Deviation_w_Addon_CPMS2!$I$24:$I$5000,\"Other Unknown Causes\"))","v":""}]
[null,null,null,null,null,{"$f":"IF($C22=\"\",\"\",SUMIFS(Deviation_w_Addon_CPMS2!$H$24:$H$5000,Deviation_w_Addon_CPMS2!$C$24:$C$5000,Deviation_w_Addon_CPMSSummary!C22))","v":""},{"$f":"IF($C22=\"\",\"\",SUMIFS(Deviation_w_Addon_CPMS2!$H$24:$H$5000,Deviation_w_Addon_CPMS2!$C$24:$C$5000,Deviation_w_Addon_CPMSSummary!C22,Deviation_w_Addon_CPMS2!$I$24:$I$5000,\"Other Unknown Causes\"))","v":""}]
[null,null,null,null,null,{"$f":"IF($C23=\"\",\"\",SUMIFS(Deviation_w_Addon_CPMS2!$H$24:$H$5000,Deviation_w_Addon_CPMS2!$C$24:$C$5000,Deviation_w_Addon_CPMSSummary!C23))","v":""},{"$f":"IF($C23=\"\",\"\",SUMIFS(Deviation_w_Addon_CPMS2!$H$24:$H$5000,Deviation_w_Addon_CPMS2!$C$24:$C$5000,Deviation_w_Addon_CPMSSummary!C23,Deviation_w_Addon_CPMS2!$I$24:$I$5000,\"Other Unknown Causes\"))","v":""}]
[null,null,null,null,null,{"$f":"IF($C24=\"\",\"\",SUMIFS(Deviation_w_Addon_CPMS2!$H$24:$H$5000,Deviation_w_Addon_CPMS2!$B$24:$B$5000,Deviation_w_Addon_CPMSSummary!$B24,Deviation_w_Addon_CPMS2!$C$24:$C$5000,Deviation_w_Addon_CPMSSummary!$C24,Deviation_w_Addon_CPMS2!$D$24:$D$5000,Deviation_w_Addon_CPMSSummary!$D24))","v":""},{"$f":"+IF($C24=\"\",\"\",IF(F24=0,\"N/A\",F24/$E24))","v":""}]
[null,null,null,null,null,{"$f":"IF($C25=\"\",\"\",SUMIFS(Deviation_w_Addon_CPMS2!$H$24:$H$5000,Deviation_w_Addon_CPMS2!$B$24:$B$5000,Deviation_w_Addon_CPMSSummary!$B25,Deviation_w_Addon_CPMS2!$C$24:$C$5000,Deviation_w_Addon_CPMSSummary!$C25,Deviation_w_Addon_CPMS2!$D$24:$D$5000,Deviation_w_Addon_CPMSSummary!$D25))","v":""},{"$f":"+IF($C25=\"\",\"\",IF(F25=0,\"N/A\",F25/$E25))","v":""}]
[null,null,null,null,null,{"$f":"IF($C26=\"\",\"\",SUMIFS(Deviation_w_Addon_CPMS2!$H$24:$H$5000,Deviation_w_Addon_CPMS2!$B$24:$B$5000,Deviation_w_Addon_CPMSSummary!$B26,Deviation_w_Addon_CPMS2!$C$24:$C$5000,Deviation_w_Addon_CPMSSummary!$C26,Deviation_w_Addon_CPMS2!$D$24:$D$5000,Deviation_w_Addon_CPMSSummary!$D26))","v":""},""]
[null,null,null,null,null,{"$f":"IF($C27=\"\",\"\",SUMIFS(Deviation_w_Addon_CPMS2!$H$24:$H$5000,Deviation_w_Addon_CPMS2!$B$24:$B$5000,Deviation_w_Addon_CPMSSummary!$B27,Deviation_w_Addon_CPMS2!$C$24:$C$5000,Deviation_w_Addon_CPMSSummary!$C27,Deviation_w_Addon_CPMS2!$D$24:$D$5000,Deviation_w_Addon_CPMSSummary!$D27))","v":""},""]
[null,null,null,null,null,{"$f":"IF($C28=\"\",\"\",SUMIFS(Deviation_w_Addon_CPMS2!$H$24:$H$5000,Deviation_w_Addon_CPMS2!$B$24:$B$5000,Deviation_w_Addon_CPMSSummary!$B28,Deviation_w_Addon_CPMS2!$C$24:$C$5000,Deviation_w_Addon_CPMSSummary!$C28,Deviation_w_Addon_CPMS2!$D$24:$D$5000,Deviation_w_Addon_CPMSSummary!$D28))","v":""},""]
[null,null,null,null,null,{"$f":"IF($C29=\"\",\"\",SUMIFS(Deviation_w_Addon_CPMS2!$H$24:$H$5000,Deviation_w_Addon_CPMS2!$B$24:$B$5000,Deviation_w_Addon_CPMSSummary!$B29,Deviation_w_Addon_CPMS2!$C$24:$C$5000,Deviation_w_Addon_CPMSSummary!$C29,Deviation_w_Addon_CPMS2!$D$24:$D$5000,Deviation_w_Addon_CPMSSummary!$D29))","v":""},""]
[null,null,null,null,null,{"$f":"IF($C30=\"\",\"\",SUMIFS(Deviation_w_Addon_CPMS2!$H$24:$H$5000,Deviation_w_Addon_CPMS2!$B$24:$B$5000,Deviation_w_Addon_CPMSSummary!$B30,Deviation_w_Addon_CPMS2!$C$24:$C$5000,Deviation_w_Addon_CPMSSummary!$C30,Deviation_w_Addon_CPMS2!$D$24:$D$5000,Deviation_w_Addon_CPMSSummary!$D30))","v":""},""]
[null,null,null,null,null,{"$f":"IF($C31=\"\",\"\",SUMIFS(Deviation_w_Addon_CPMS2!$H$24:$H$5000,Deviation_w_Addon_CPMS2!$B$24:$B$5000,Deviation_w_Addon_CPMSSummary!$B31,Deviation_w_Addon_CPMS2!$C$24:$C$5000,Deviation_w_Addon_CPMSSummary!$C31,Deviation_w_Addon_CPMS2!$D$24:$D$5000,Deviation_w_Addon_CPMSSummary!$D31))","v":""},""]
[null,null,null,null,null,{"$f":"IF($C32=\"\",\"\",SUMIFS(Deviation_w_Addon_CPMS2!$H$24:$H$5000,Deviation_w_Addon_CPMS2!$B$24:$B$5000,Deviation_w_Addon_CPMSSummary!$B32,Deviation_w_Addon_CPMS2!$C$24:$C$5000,Deviation_w_Addon_CPMSSummary!$C32,Deviation_w_Addon_CPMS2!$D$24:$D$5000,Deviation_w_Addon_CPMSSummary!$D32))","v":""},""]
[null,null,null,null,null,{"$f":"IF($C33=\"\",\"\",SUMIFS(Deviation_w_Addon_CPMS2!$H$24:$H$5000,Deviation_w_Addon_CPMS2!$B$24:$B$5000,Deviation_w_Addon_CPMSSummary!$B33,Deviation_w_Addon_CPMS2!$C$24:$C$5000,Deviation_w_Addon_CPMSSummary!$C33,Deviation_w_Addon_CPMS2!$D$24:$D$5000,Deviation_w_Addon_CPMSSummary!$D33))","v":""},""]
[null,null,null,null,null,{"$f":"IF($C34=\"\",\"\",SUMIFS(Deviation_w_Addon_CPMS2!$H$24:$H$5000,Deviation_w_Addon_CPMS2!$B$24:$B$5000,Deviation_w_Addon_CPMSSummary!$B34,Deviation_w_Addon_CPMS2!$C$24:$C$5000,Deviation_w_Addon_CPMSSummary!$C34,Deviation_w_Addon_CPMS2!$D$24:$D$5000,Deviation_w_Addon_CPMSSummary!$D34))","v":""},""]
[null,null,null,null,null,{"$f":"IF($C35=\"\",\"\",SUMIFS(Deviation_w_Addon_CPMS2!$H$24:$H$5000,Deviation_w_Addon_CPMS2!$B$24:$B$5000,Deviation_w_Addon_CPMSSummary!$B35,Deviation_w_Addon_CPMS2!$C$24:$C$5000,Deviation_w_Addon_CPMSSummary!$C35,Deviation_w_Addon_CPMS2!$D$24:$D$5000,Deviation_w_Addon_CPMSSummary!$D35))","v":""},""]
[null,null,null,null,null,{"$f":"IF($C36=\"\",\"\",SUMIFS(Deviation_w_Addon_CPMS2!$H$24:$H$5000,Deviation_w_Addon_CPMS2!$B$24:$B$5000,Deviation_w_Addon_CPMSSummary!$B36,Deviation_w_Addon_CPMS2!$C$24:$C$5000,Deviation_w_Addon_CPMSSummary!$C36,Deviation_w_Addon_CPMS2!$D$24:$D$5000,Deviation_w_Addon_CPMSSummary!$D36))","v":""},""]
[null,null,null,null,null,{"$f":"IF($C37=\"\",\"\",SUMIFS(Deviation_w_Addon_CPMS2!$H$24:$H$5000,Deviation_w_Addon_CPMS2!$B$24:$B$5000,Deviation_w_Addon_CPMSSummary!$B37,Deviation_w_Addon_CPMS2!$C$24:$C$5000,Deviation_w_Addon_CPMSSummary!$C37,Deviation_w_Addon_CPMS2!$D$24:$D$5000,Deviation_w_Addon_CPMSSummary!$D37))","v":""},""]
[null,null,null,null,null,{"$f":"IF($C38=\"\",\"\",SUMIFS(Deviation_w_Addon_CPMS2!$H$24:$H$5000,Deviation_w_Addon_CPMS2!$B$24:$B$5000,Deviation_w_Addon_CPMSSummary!$B38,Deviation_w_Addon_CPMS2!$C$24:$C$5000,Deviation_w_Addon_CPMSSummary!$C38,Deviation_w_Addon_CPMS2!$D$24:$D$5000,Deviation_w_Addon_CPMSSummary!$D38))","v":""},""]
[null,null,null,null,null,{"$f":"IF($C39=\"\",\"\",SUMIFS(Deviation_w_Addon_CPMS2!$H$24:$H$5000,Deviation_w_Addon_CPMS2!$B$24:$B$5000,Deviation_w_Addon_CPMSSummary!$B39,Deviation_w_Addon_CPMS2!$C$24:$C$5000,Deviation_w_Addon_CPMSSummary!$C39,Deviation_w_Addon_CPMS2!$D$24:$D$5000,Deviation_w_Addon_CPMSSummary!$D39))","v":""},""]
[null,null,null,null,null,{"$f":"IF($C40=\"\",\"\",SUMIFS(Deviation_w_Addon_CPMS2!$H$24:$H$5000,Deviation_w_Addon_CPMS2!$B$24:$B$5000,Deviation_w_Addon_CPMSSummary!$B40,Deviation_w_Addon_CPMS2!$C$24:$C$5000,Deviation_w_Addon_CPMSSummary!$C40,Deviation_w_Addon_CPMS2!$D$24:$D$5000,Deviation_w_Addon_CPMSSummary!$D40))","v":""},""]
[null,null,null,null,null,{"$f":"IF($C41=\"\",\"\",SUMIFS(Deviation_w_Addon_CPMS2!$H$24:$H$5000,Deviation_w_Addon_CPMS2!$B$24:$B$5000,Deviation_w_Addon_CPMSSummary!$B41,Deviation_w_Addon_CPMS2!$C$24:$C$5000,Deviation_w_Addon_CPMSSummary!$C41,Deviation_w_Addon_CPMS2!$D$24:$D$5000,Deviation_w_Addon_CPMSSummary!$D41))","v":""},""]
[null,null,null,null,null,{"$f":"IF($C42=\"\",\"\",SUMIFS(Deviation_w_Addon_CPMS2!$H$24:$H$5000,Deviation_w_Addon_CPMS2!$B$24:$B$5000,Deviation_w_Addon_CPMSSummary!$B42,Deviation_w_Addon_CPMS2!$C$24:$C$5000,Deviation_w_Addon_CPMSSummary!$C42,Deviation_w_Addon_CPMS2!$D$24:$D$5000,Deviation_w_Addon_CPMSSummary!$D42))","v":""},""]
[null,null,null,null,null,{"$f":"IF($C43=\"\",\"\",SUMIFS(Deviation_w_Addon_CPMS2!$H$24:$H$5000,Deviation_w_Addon_CPMS2!$B$24:$B$5000,Deviation_w_Addon_CPMSSummary!$B43,Deviation_w_Addon_CPMS2!$C$24:$C$5000,Deviation_w_Addon_CPMSSummary!$C43,Deviation_w_Addon_CPMS2!$D$24:$D$5000,Deviation_w_Addon_CPMSSummary!$D43))","v":""},""]
[null,null,null,null,null,{"$f":"IF($C44=\"\",\"\",SUMIFS(Deviation_w_Addon_CPMS2!$H$24:$H$5000,Deviation_w_Addon_CPMS2!$B$24:$B$5000,Deviation_w_Addon_CPMSSummary!$B44,Deviation_w_Addon_CPMS2!$C$24:$C$5000,Deviation_w_Addon_CPMSSummary!$C44,Deviation_w_Addon_CPMS2!$D$24:$D$5000,Deviation_w_Addon_CPMSSummary!$D44))","v":""},""]
[null,null,null,null,null,{"$f":"IF($C45=\"\",\"\",SUMIFS(Deviation_w_Addon_CPMS2!$H$24:$H$5000,Deviation_w_Addon_CPMS2!$B$24:$B$5000,Deviation_w_Addon_CPMSSummary!$B45,Deviation_w_Addon_CPMS2!$C$24:$C$5000,Deviation_w_Addon_CPMSSummary!$C45,Deviation_w_Addon_CPMS2!$D$24:$D$5000,Deviation_w_Addon_CPMSSummary!$D45))","v":""},""]
[null,null,null,null,null,{"$f":"IF($C46=\"\",\"\",SUMIFS(Deviation_w_Addon_CPMS2!$H$24:$H$5000,Deviation_w_Addon_CPMS2!$B$24:$B$5000,Deviation_w_Addon_CPMSSummary!$B46,Deviation_w_Addon_CPMS2!$C$24:$C$5000,Deviation_w_Addon_CPMSSummary!$C46,Deviation_w_Addon_CPMS2!$D$24:$D$5000,Deviation_w_Addon_CPMSSummary!$D46))","v":""},""]
[null,null,null,null,null,{"$f":"IF($C47=\"\",\"\",SUMIFS(Deviation_w_Addon_CPMS2!$H$24:$H$5000,Deviation_w_Addon_CPMS2!$B$24:$B$5000,Deviation_w_Addon_CPMSSummary!$B47,Deviation_w_Addon_CPMS2!$C$24:$C$5000,Deviation_w_Addon_CPMSSummary!$C47,Deviation_w_Addon_CPMS2!$D$24:$D$5000,Deviation_w_Addon_CPMSSummary!$D47))","v":""},""]
[null,null,null,null,null,{"$f":"IF($C48=\"\",\"\",SUMIFS(Deviation_w_Addon_CPMS2!$H$24:$H$5000,Deviation_w_Addon_CPMS2!$B$24:$B$5000,Deviation_w_Addon_CPMSSummary!$B48,Deviation_w_Addon_CPMS2!$C$24:$C$5000,Deviation_w_Addon_CPMSSummary!$C48,Deviation_w_Addon_CPMS2!$D$24:$D$5000,Deviation_w_Addon_CPMSSummary!$D48))","v":""},""]
[null,null,null,null,null,{"$f":"IF($C49=\"\",\"\",SUMIFS(Deviation_w_Addon_CPMS2!$H$24:$H$5000,Deviation_w_Addon_CPMS2!$B$24:$B$5000,Deviation_w_Addon_CPMSSummary!$B49,Deviation_w_Addon_CPMS2!$C$24:$C$5000,Deviation_w_Addon_CPMSSummary!$C49,Deviation_w_Addon_CPMS2!$D$24:$D$5000,Deviation_w_Addon_CPMSSummary!$D49))","v":""},""]
[null,null,null,null,null,{"$f":"IF($C50=\"\",\"\",SUMIFS(Deviation_w_Addon_CPMS2!$H$24:$H$5000,Deviation_w_Addon_CPMS2!$B$24:$B$5000,Deviation_w_Addon_CPMSSummary!$B50,Deviation_w_Addon_CPMS2!$C$24:$C$5000,Deviation_w_Addon_CPMSSummary!$C50,Deviation_w_Addon_CPMS2!$D$24:$D$5000,Deviation_w_Addon_CPMSSummary!$D50))","v":""},""]
[null,null,null,null,null,{"$f":"IF($C51=\"\",\"\",SUMIFS(Deviation_w_Addon_CPMS2!$H$24:$H$5000,Deviation_w_Addon_CPMS2!$B$24:$B$5000,Deviation_w_Addon_CPMSSummary!$B51,Deviation_w_Addon_CPMS2!$C$24:$C$5000,Deviation_w_Addon_CPMSSummary!$C51,Deviation_w_Addon_CPMS2!$D$24:$D$5000,Deviation_w_Addon_CPMSSummary!$D51))","v":""},""]
[null,null,null,null,null,{"$f":"IF($C52=\"\",\"\",SUMIFS(Deviation_w_Addon_CPMS2!$H$24:$H$5000,Deviation_w_Addon_CPMS2!$B$24:$B$5000,Deviation_w_Addon_CPMSSummary!$B52,Deviation_w_Addon_CPMS2!$C$24:$C$5000,Deviation_w_Addon_CPMSSummary!$C52,Deviation_w_Addon_CPMS2!$D$24:$D$5000,Deviation_w_Addon_CPMSSummary!$D52))","v":""},""]
[null,null,null,null,null,{"$f":"IF($C53=\"\",\"\",SUMIFS(Deviation_w_Addon_CPMS2!$H$24:$H$5000,Deviation_w_Addon_CPMS2!$B$24:$B$5000,Deviation_w_Addon_CPMSSummary!$B53,Deviation_w_Addon_CPMS2!$C$24:$C$5000,Deviation_w_Addon_CPMSSummary!$C53,Deviation_w_Addon_CPMS2!$D$24:$D$5000,Deviation_w_Addon_CPMSSummary!$D53))","v":""},""]
[null,null,null,null,null,{"$f":"IF($C54=\"\",\"\",SUMIFS(Deviation_w_Addon_CPMS2!$H$24:$H$5000,Deviation_w_Addon_CPMS2!$B$24:$B$5000,Deviation_w_Addon_CPMSSummary!$B54,Deviation_w_Addon_CPMS2!$C$24:$C$5000,Deviation_w_Addon_CPMSSummary!$C54,Deviation_w_Addon_CPMS2!$D$24:$D$5000,Deviation_w_Addon_CPMSSummary!$D54))","v":""},""]
[null,null,null,null,null,{"$f":"IF($C55=\"\",\"\",SUMIFS(Deviation_w_Addon_CPMS2!$H$24:$H$5000,Deviation_w_Addon_CPMS2!$B$24:$B$5000,Deviation_w_Addon_CPMSSummary!$B55,Deviation_w_Addon_CPMS2!$C$24:$C$5000,Deviation_w_Addon_CPMSSummary!$C55,Deviation_w_Addon_CPMS2!$D$24:$D$5000,Deviation_w_Addon_CPMSSummary!$D55))","v":""},""]
[null,null,null,null,null,{"$f":"IF($C56=\"\",\"\",SUMIFS(Deviation_w_Addon_CPMS2!$H$24:$H$5000,Deviation_w_Addon_CPMS2!$B$24:$B$5000,Deviation_w_Addon_CPMSSummary!$B56,Deviation_w_Addon_CPMS2!$C$24:$C$5000,Deviation_w_Addon_CPMSSummary!$C56,Deviation_w_Addon_CPMS2!$D$24:$D$5000,Deviation_w_Addon_CPMSSummary!$D56))","v":""},""]
[null,null,null,null,null,{"$f":"IF($C57=\"\",\"\",SUMIFS(Deviation_w_Addon_CPMS2!$H$24:$H$5000,Deviation_w_Addon_CPMS2!$B$24:$B$5000,Deviation_w_Addon_CPMSSummary!$B57,Deviation_w_Addon_CPMS2!$C$24:$C$5000,Deviation_w_Addon_CPMSSummary!$C57,Deviation_w_Addon_CPMS2!$D$24:$D$5000,Deviation_w_Addon_CPMSSummary!$D57))","v":""},""]
[null,null,null,null,null,{"$f":"IF($C58=\"\",\"\",SUMIFS(Deviation_w_Addon_CPMS2!$H$24:$H$5000,Deviation_w_Addon_CPMS2!$B$24:$B$5000,Deviation_w_Addon_CPMSSummary!$B58,Deviation_w_Addon_CPMS2!$C$24:$C$5000,Deviation_w_Addon_CPMSSummary!$C58,Deviation_w_Addon_CPMS2!$D$24:$D$5000,Deviation_w_Addon_CPMSSummary!$D58))","v":""},""]
[null,null,null,null,null,{"$f":"IF($C59=\"\",\"\",SUMIFS(Deviation_w_Addon_CPMS2!$H$24:$H$5000,Deviation_w_Addon_CPMS2!$B$24:$B$5000,Deviation_w_Addon_CPMSSummary!$B59,Deviation_w_Addon_CPMS2!$C$24:$C$5000,Deviation_w_Addon_CPMSSummary!$C59,Deviation_w_Addon_CPMS2!$D$24:$D$5000,Deviation_w_Addon_CPMSSummary!$D59))","v":""},""]
[null,null,null,null,null,{"$f":"IF($C60=\"\",\"\",SUMIFS(Deviation_w_Addon_CPMS2!$H$24:$H$5000,Deviation_w_Addon_CPMS2!$B$24:$B$5000,Deviation_w_Addon_CPMSSummary!$B60,Deviation_w_Addon_CPMS2!$C$24:$C$5000,Deviation_w_Addon_CPMSSummary!$C60,Deviation_w_Addon_CPMS2!$D$24:$D$5000,Deviation_w_Addon_CPMSSummary!$D60))","v":""},""]
[null,null,null,null,null,{"$f":"IF($C61=\"\",\"\",SUMIFS(Deviation_w_Addon_CPMS2!$H$24:$H$5000,Deviation_w_Addon_CPMS2!$B$24:$B$5000,Deviation_w_Addon_CPMSSummary!$B61,Deviation_w_Addon_CPMS2!$C$24:$C$5000,Deviation_w_Addon_CPMSSummary!$C61,Deviation_w_Addon_CPMS2!$D$24:$D$5000,Deviation_w_Addon_CPMSSummary!$D61))","v":""},""]
[null,null,null,null,null,{"$f":"IF($C62=\"\",\"\",SUMIFS(Deviation_w_Addon_CPMS2!$H$24:$H$5000,Deviation_w_Addon_CPMS2!$B$24:$B$5000,Deviation_w_Addon_CPMSSummary!$B62,Deviation_w_Addon_CPMS2!$C$24:$C$5000,Deviation_w_Addon_CPMSSummary!$C62,Deviation_w_Addon_CPMS2!$D$24:$D$5000,Deviation_w_Addon_CPMSSummary!$D62))","v":""},""]
[null,null,null,null,null,{"$f":"IF($C63=\"\",\"\",SUMIFS(Deviation_w_Addon_CPMS2!$H$24:$H$5000,Deviation_w_Addon_CPMS2!$B$24:$B$5000,Deviation_w_Addon_CPMSSummary!$B63,Deviation_w_Addon_CPMS2!$C$24:$C$5000,Deviation_w_Addon_CPMSSummary!$C63,Deviation_w_Addon_CPMS2!$D$24:$D$5000,Deviation_w_Addon_CPMSSummary!$D63))","v":""},""]
[null,null,null,null,null,{"$f":"IF($C64=\"\",\"\",SUMIFS(Deviation_w_Addon_CPMS2!$H$24:$H$5000,Deviation_w_Addon_CPMS2!$B$24:$B$5000,Deviation_w_Addon_CPMSSummary!$B64,Deviation_w_Addon_CPMS2!$C$24:$C$5000,Deviation_w_Addon_CPMSSummary!$C64,Deviation_w_Addon_CPMS2!$D$24:$D$5000,Deviation_w_Addon_CPMSSummary!$D64))","v":""},""]
[null,null,null,null,null,{"$f":"IF($C65=\"\",\"\",SUMIFS(Deviation_w_Addon_CPMS2!$H$24:$H$5000,Deviation_w_Addon_CPMS2!$B$24:$B$5000,Deviation_w_Addon_CPMSSummary!$B65,Deviation_w_Addon_CPMS2!$C$24:$C$5000,Deviation_w_Addon_CPMSSummary!$C65,Deviation_w_Addon_CPMS2!$D$24:$D$5000,Deviation_w_Addon_CPMSSummary!$D65))","v":""},""]
[null,null,null,null,null,{"$f":"IF($C66=\"\",\"\",SUMIFS(Deviation_w_Addon_CPMS2!$H$24:$H$5000,Deviation_w_Addon_CPMS2!$B$24:$B$5000,Deviation_w_Addon_CPMSSummary!$B66,Deviation_w_Addon_CPMS2!$C$24:$C$5000,Deviation_w_Addon_CPMSSummary!$C66,Deviation_w_Addon_CPMS2!$D$24:$D$5000,Deviation_w_Addon_CPMSSummary!$D66))","v":""},""]
[null,null,null,null,null,{"$f":"IF($C67=\"\",\"\",SUMIFS(Deviation_w_Addon_CPMS2!$H$24:$H$5000,Deviation_w_Addon_CPMS2!$B$24:$B$5000,Deviation_w_Addon_CPMSSummary!$B67,Deviation_w_Addon_CPMS2!$C$24:$C$5000,Deviation_w_Addon_CPMSSummary!$C67,Deviation_w_Addon_CPMS2!$D$24:$D$5000,Deviation_w_Addon_CPMSSummary!$D67))","v":""},""]
[null,null,null,null,null,{"$f":"IF($C68=\"\",\"\",SUMIFS(Deviation_w_Addon_CPMS2!$H$24:$H$5000,Deviation_w_Addon_CPMS2!$B$24:$B$5000,Deviation_w_Addon_CPMSSummary!$B68,Deviation_w_Addon_CPMS2!$C$24:$C$5000,Deviation_w_Addon_CPMSSummary!$C68,Deviation_w_Addon_CPMS2!$D$24:$D$5000,Deviation_w_Addon_CPMSSummary!$D68))","v":""},""]
[null,null,null,null,null,{"$f":"IF($C69=\"\",\"\",SUMIFS(Deviation_w_Addon_CPMS2!$H$24:$H$5000,Deviation_w_Addon_CPMS2!$B$24:$B$5000,Deviation_w_Addon_CPMSSummary!$B69,Deviation_w_Addon_CPMS2!$C$24:$C$5000,Deviation_w_Addon_CPMSSummary!$C69,Deviation_w_Addon_CPMS2!$D$24:$D$5000,Deviation_w_Addon_CPMSSummary!$D69))","v":""},""]
[null,null,null,null,null,{"$f":"IF($C70=\"\",\"\",SUMIFS(Deviation_w_Addon_CPMS2!$H$24:$H$5000,Deviation_w_Addon_CPMS2!$B$24:$B$5000,Deviation_w_Addon_CPMSSummary!$B70,Deviation_w_Addon_CPMS2!$C$24:$C$5000,Deviation_w_Addon_CPMSSummary!$C70,Deviation_w_Addon_CPMS2!$D$24:$D$5000,Deviation_w_Addon_CPMSSummary!$D70))","v":""},""]
[null,null,null,null,null,{"$f":"IF($C71=\"\",\"\",SUMIFS(Deviation_w_Addon_CPMS2!$H$24:$H$5000,Deviation_w_Addon_CPMS2!$B$24:$B$5000,Deviation_w_Addon_CPMSSummary!$B71,Deviation_w_Addon_CPMS2!$C$24:$C$5000,Deviation_w_Addon_CPMSSummary!$C71,Deviation_w_Addon_CPMS2!$D$24:$D$5000,Deviation_w_Addon_CPMSSummary!$D71))","v":""},""]
[null,null,null,null,null,{"$f":"IF($C72=\"\",\"\",SUMIFS(Deviation_w_Addon_CPMS2!$H$24:$H$5000,Deviation_w_Addon_CPMS2!$B$24:$B$5000,Deviation_w_Addon_CPMSSummary!$B72,Deviation_w_Addon_CPMS2!$C$24:$C$5000,Deviation_w_Addon_CPMSSummary!$C72,Deviation_w_Addon_CPMS2!$D$24:$D$5000,Deviation_w_Addon_CPMSSummary!$D72))","v":""},""]
[null,null,null,null,null,{"$f":"IF($C73=\"\",\"\",SUMIFS(Deviation_w_Addon_CPMS2!$H$24:$H$5000,Deviation_w_Addon_CPMS2!$B$24:$B$5000,Deviation_w_Addon_CPMSSummary!$B73,Deviation_w_Addon_CPMS2!$C$24:$C$5000,Deviation_w_Addon_CPMSSummary!$C73,Deviation_w_Addon_CPMS2!$D$24:$D$5000,Deviation_w_Addon_CPMSSummary!$D73))","v":""},""]
[null,null,null,null,null,{"$f":"IF($C74=\"\",\"\",SUMIFS(Deviation_w_Addon_CPMS2!$H$24:$H$5000,Deviation_w_Addon_CPMS2!$B$24:$B$5000,Deviation_w_Addon_CPMSSummary!$B74,Deviation_w_Addon_CPMS2!$C$24:$C$5000,Deviation_w_Addon_CPMSSummary!$C74,Deviation_w_Addon_CPMS2!$D$24:$D$5000,Deviation_w_Addon_CPMSSummary!$D74))","v":""},""]
[null,null,null,null,null,{"$f":"IF($C75=\"\",\"\",SUMIFS(Deviation_w_Addon_CPMS2!$H$24:$H$5000,Deviation_w_Addon_CPMS2!$B$24:$B$5000,Deviation_w_Addon_CPMSSummary!$B75,Deviation_w_Addon_CPMS2!$C$24:$C$5000,Deviation_w_Addon_CPMSSummary!$C75,Deviation_w_Addon_CPMS2!$D$24:$D$5000,Deviation_w_Addon_CPMSSummary!$D75))","v":""},""]
[null,null,null,null,null,{"$f":"IF($C76=\"\",\"\",SUMIFS(Deviation_w_Addon_CPMS2!$H$24:$H$5000,Deviation_w_Addon_CPMS2!$B$24:$B$5000,Deviation_w_Addon_CPMSSummary!$B76,Deviation_w_Addon_CPMS2!$C$24:$C$5000,Deviation_w_Addon_CPMSSummary!$C76,Deviation_w_Addon_CPMS2!$D$24:$D$5000,Deviation_w_Addon_CPMSSummary!$D76))","v":""},""]
[null,null,null,null,null,{"$f":"IF($C77=\"\",\"\",SUMIFS(Deviation_w_Addon_CPMS2!$H$24:$H$5000,Deviation_w_Addon_CPMS2!$B$24:$B$5000,Deviation_w_Addon_CPMSSummary!$B77,Deviation_w_Addon_CPMS2!$C$24:$C$5000,Deviation_w_Addon_CPMSSummary!$C77,Deviation_w_Addon_CPMS2!$D$24:$D$5000,Deviation_w_Addon_CPMSSummary!$D77))","v":""},""]
[null,null,null,null,null,{"$f":"IF($C78=\"\",\"\",SUMIFS(Deviation_w_Addon_CPMS2!$H$24:$H$5000,Deviation_w_Addon_CPMS2!$B$24:$B$5000,Deviation_w_Addon_CPMSSummary!$B78,Deviation_w_Addon_CPMS2!$C$24:$C$5000,Deviation_w_Addon_CPMSSummary!$C78,Deviation_w_Addon_CPMS2!$D$24:$D$5000,Deviation_w_Addon_CPMSSummary!$D78))","v":""},""]
[null,null,null,null,null,{"$f":"IF($C79=\"\",\"\",SUMIFS(Deviation_w_Addon_CPMS2!$H$24:$H$5000,Deviation_w_Addon_CPMS2!$B$24:$B$5000,Deviation_w_Addon_CPMSSummary!$B79,Deviation_w_Addon_CPMS2!$C$24:$C$5000,Deviation_w_Addon_CPMSSummary!$C79,Deviation_w_Addon_CPMS2!$D$24:$D$5000,Deviation_w_Addon_CPMSSummary!$D79))","v":""},""]
[null,null,null,null,null,{"$f":"IF($C80=\"\",\"\",SUMIFS(Deviation_w_Addon_CPMS2!$H$24:$H$5000,Deviation_w_Addon_CPMS2!$B$24:$B$5000,Deviation_w_Addon_CPMSSummary!$B80,Deviation_w_Addon_CPMS2!$C$24:$C$5000,Deviation_w_Addon_CPMSSummary!$C80,Deviation_w_Addon_CPMS2!$D$24:$D$5000,Deviation_w_Addon_CPMSSummary!$D80))","v":""},""]
[null,null,null,null,null,{"$f":"IF($C81=\"\",\"\",SUMIFS(Deviation_w_Addon_CPMS2!$H$24:$H$5000,Deviation_w_Addon_CPMS2!$B$24:$B$5000,Deviation_w_Addon_CPMSSummary!$B81,Deviation_w_Addon_CPMS2!$C$24:$C$5000,Deviation_w_Addon_CPMSSummary!$C81,Deviation_w_Addon_CPMS2!$D$24:$D$5000,Deviation_w_Addon_CPMSSummary!$D81))","v":""},""]
[null,null,null,null,null,{"$f":"IF($C82=\"\",\"\",SUMIFS(Deviation_w_Addon_CPMS2!$H$24:$H$5000,Deviation_w_Addon_CPMS2!$B$24:$B$5000,Deviation_w_Addon_CPMSSummary!$B82,Deviation_w_Addon_CPMS2!$C$24:$C$5000,Deviation_w_Addon_CPMSSummary!$C82,Deviation_w_Addon_CPMS2!$D$24:$D$5000,Deviation_w_Addon_CPMSSummary!$D82))","v":""},""]
[null,null,null,null,null,{"$f":"IF($C83=\"\",\"\",SUMIFS(Deviation_w_Addon_CPMS2!$H$24:$H$5000,Deviation_w_Addon_CPMS2!$B$24:$B$5000,Deviation_w_Addon_CPMSSummary!$B83,Deviation_w_Addon_CPMS2!$C$24:$C$5000,Deviation_w_Addon_CPMSSummary!$C83,Deviation_w_Addon_CPMS2!$D$24:$D$5000,Deviation_w_Addon_CPMSSummary!$D83))","v":""},""]
[null,null,null,null,null,{"$f":"IF($C84=\"\",\"\",SUMIFS(Deviation_w_Addon_CPMS2!$H$24:$H$5000,Deviation_w_Addon_CPMS2!$B$24:$B$5000,Deviation_w_Addon_CPMSSummary!$B84,Deviation_w_Addon_CPMS2!$C$24:$C$5000,Deviation_w_Addon_CPMSSummary!$C84,Deviation_w_Addon_CPMS2!$D$24:$D$5000,Deviation_w_Addon_CPMSSummary!$D84))","v":""},""]
[null,null,null,null,null,{"$f":"IF($C85=\"\",\"\",SUMIFS(Deviation_w_Addon_CPMS2!$H$24:$H$5000,Deviation_w_Addon_CPMS2!$B$24:$B$5000,Deviation_w_Addon_CPMSSummary!$B85,Deviation_w_Addon_CPMS2!$C$24:$C$5000,Deviation_w_Addon_CPMSSummary!$C85,Deviation_w_Addon_CPMS2!$D$24:$D$5000,Deviation_w_Addon_CPMSSummary!$D85))","v":""},""]
[null,null,null,null,null,{"$f":"IF($C86=\"\",\"\",SUMIFS(Deviation_w_Addon_CPMS2!$H$24:$H$5000,Deviation_w_Addon_CPMS2!$B$24:$B$5000,Deviation_w_Addon_CPMSSummary!$B86,Deviation_w_Addon_CPMS2!$C$24:$C$5000,Deviation_w_Addon_CPMSSummary!$C86,Deviation_w_Addon_CPMS2!$D$24:$D$5000,Deviation_w_Addon_CPMSSummary!$D86))","v":""},""]
[null,null,null,null,null,{"$f":"IF($C87=\"\",\"\",SUMIFS(Deviation_w_Addon_CPMS2!$H$24:$H$5000,Deviation_w_Addon_CPMS2!$B$24:$B$5000,Deviation_w_Addon_CPMSSummary!$B87,Deviation_w_Addon_CPMS2!$C$24:$C$5000,Deviation_w_Addon_CPMSSummary!$C87,Deviation_w_Addon_CPMS2!$D$24:$D$5000,Deviation_w_Addon_CPMSSummary!$D87))","v":""},""]
[null,null,null,null,null,{"$f":"IF($C88=\"\",\"\",SUMIFS(Deviation_w_Addon_CPMS2!$H$24:$H$5000,Deviation_w_Addon_CPMS2!$B$24:$B$5000,Deviation_w_Addon_CPMSSummary!$B88,Deviation_w_Addon_CPMS2!$C$24:$C$5000,Deviation_w_Addon_CPMSSummary!$C88,Deviation_w_Addon_CPMS2!$D$24:$D$5000,Deviation_w_Addon_CPMSSummary!$D88))","v":""},""]
[null,null,null,null,null,{"$f":"IF($C89=\"\",\"\",SUMIFS(Deviation_w_Addon_CPMS2!$H$24:$H$5000,Deviation_w_Addon_CPMS2!$B$24:$B$5000,Deviation_w_Addon_CPMSSummary!$B89,Deviation_w_Addon_CPMS2!$C$24:$C$5000,Deviation_w_Addon_CPMSSummary!$C89,Deviation_w_Addon_CPMS2!$D$24:$D$5000,Deviation_w_Addon_CPMSSummary!$D89))","v":""},{"$f":"+IF($C89=\"\",\"\",IF(F89=0,\"N/A\",F89/$E89))","v":""}]
[null,null,null,null,null,{"$f":"IF($C90=\"\",\"\",SUMIFS(Deviation_w_Addon_CPMS2!$H$24:$H$5000,Deviation_w_Addon_CPMS2!$B$24:$B$5000,Deviation_w_Addon_CPMSSummary!$B90,Deviation_w_Addon_CPMS2!$C$24:$C$5000,Deviation_w_Addon_CPMSSummary!$C90,Deviation_w_Addon_CPMS2!$D$24:$D$5000,Deviation_w_Addon_CPMSSummary!$D90))","v":""},""]
[null,null,null,null,null,{"$f":"IF($C91=\"\",\"\",SUMIFS(Deviation_w_Addon_CPMS2!$H$24:$H$5000,Deviation_w_Addon_CPMS2!$B$24:$B$5000,Deviation_w_Addon_CPMSSummary!$B91,Deviation_w_Addon_CPMS2!$C$24:$C$5000,Deviation_w_Addon_CPMSSummary!$C91,Deviation_w_Addon_CPMS2!$D$24:$D$5000,Deviation_w_Addon_CPMSSummary!$D91))","v":""},""]
[null,null,null,null,null,{"$f":"IF($C92=\"\",\"\",SUMIFS(Deviation_w_Addon_CPMS2!$H$24:$H$5000,Deviation_w_Addon_CPMS2!$B$24:$B$5000,Deviation_w_Addon_CPMSSummary!$B92,Deviation_w_Addon_CPMS2!$C$24:$C$5000,Deviation_w_Addon_CPMSSummary!$C92,Deviation_w_Addon_CPMS2!$D$24:$D$5000,Deviation_w_Addon_CPMSSummary!$D92))","v":""},""]
[null,null,null,null,null,{"$f":"IF($C93=\"\",\"\",SUMIFS(Deviation_w_Addon_CPMS2!$H$24:$H$5000,Deviation_w_Addon_CPMS2!$B$24:$B$5000,Deviation_w_Addon_CPMSSummary!$B93,Deviation_w_Addon_CPMS2!$C$24:$C$5000,Deviation_w_Addon_CPMSSummary!$C93,Deviation_w_Addon_CPMS2!$D$24:$D$5000,Deviation_w_Addon_CPMSSummary!$D93))","v":""},""]
[null,null,null,null,null,{"$f":"IF($C94=\"\",\"\",SUMIFS(Deviation_w_Addon_CPMS2!$H$24:$H$5000,Deviation_w_Addon_CPMS2!$B$24:$B$5000,Deviation_w_Addon_CPMSSummary!$B94,Deviation_w_Addon_CPMS2!$C$24:$C$5000,Deviation_w_Addon_CPMSSummary!$C94,Deviation_w_Addon_CPMS2!$D$24:$D$5000,Deviation_w_Addon_CPMSSummary!$D94))","v":""},""]
[null,null,null,null,null,{"$f":"IF($C95=\"\",\"\",SUMIFS(Deviation_w_Addon_CPMS2!$H$24:$H$5000,Deviation_w_Addon_CPMS2!$B$24:$B$5000,Deviation_w_Addon_CPMSSummary!$B95,Deviation_w_Addon_CPMS2!$C$24:$C$5000,Deviation_w_Addon_CPMSSummary!$C95,Deviation_w_Addon_CPMS2!$D$24:$D$5000,Deviation_w_Addon_CPMSSummary!$D95))","v":""},""]
[null,null,null,null,null,{"$f":"IF($C96=\"\",\"\",SUMIFS(Deviation_w_Addon_CPMS2!$H$24:$H$5000,Deviation_w_Addon_CPMS2!$B$24:$B$5000,Deviation_w_Addon_CPMSSummary!$B96,Deviation_w_Addon_CPMS2!$C$24:$C$5000,Deviation_w_Addon_CPMSSummary!$C96,Deviation_w_Addon_CPMS2!$D$24:$D$5000,Deviation_w_Addon_CPMSSummary!$D96))","v":""},""]
[null,null,null,null,null,{"$f":"IF($C97=\"\",\"\",SUMIFS(Deviation_w_Addon_CPMS2!$H$24:$H$5000,Deviation_w_Addon_CPMS2!$B$24:$B$5000,Deviation_w_Addon_CPMSSummary!$B97,Deviation_w_Addon_CPMS2!$C$24:$C$5000,Deviation_w_Addon_CPMSSummary!$C97,Deviation_w_Addon_CPMS2!$D$24:$D$5000,Deviation_w_Addon_CPMSSummary!$D97))","v":""},""]
[null,null,null,null,null,{"$f":"IF($C98=\"\",\"\",SUMIFS(Deviation_w_Addon_CPMS2!$H$24:$H$5000,Deviation_w_Addon_CPMS2!$B$24:$B$5000,Deviation_w_Addon_CPMSSummary!$B98,Deviation_w_Addon_CPMS2!$C$24:$C$5000,Deviation_w_Addon_CPMSSummary!$C98,Deviation_w_Addon_CPMS2!$D$24:$D$5000,Deviation_w_Addon_CPMSSummary!$D98))","v":""},""]
[null,null,null,null,null,{"$f":"IF($C99=\"\",\"\",SUMIFS(Deviation_w_Addon_CPMS2!$H$24:$H$5000,Deviation_w_Addon_CPMS2!$B$24:$B$5000,Deviation_w_Addon_CPMSSummary!$B99,Deviation_w_Addon_CPMS2!$C$24:$C$5000,Deviation_w_Addon_CPMSSummary!$C99,Deviation_w_Addon_CPMS2!$D$24:$D$5000,Deviation_w_Addon_CPMSSummary!$D99))","v":""},""]
[null,null,null,null,null,{"$f":"IF($C100=\"\",\"\",SUMIFS(Deviation_w_Addon_CPMS2!$H$24:$H$5000,Deviation_w_Addon_CPMS2!$B$24:$B$5000,Deviation_w_Addon_CPMSSummary!$B100,Deviation_w_Addon_CPMS2!$C$24:$C$5000,Deviation_w_Addon_CPMSSummary!$C100,Deviation_w_Addon_CPMS2!$D$24:$D$5000,Deviation_w_Addon_CPMSSummary!$D100))","v":""},""]

{"sheet":"Deviation_w_Addon_OpLimit","index":12,"n_rows":14,"n_cols":8,"rows_kept":14,"cut":false,"hidden":false,"merged":[]}
[null,"DO NOT REMOVE OR EDIT INFORMATION IN THIS SECTION\nFOR INTERNAL USE ONLY"]
[null,"Template Name",{"$f":"+Welcome!B2","v":"63.4311(a) Semiannual Compliance Report (Spreadsheet Template)"}]
[null,"CitationID",{"$f":"+Welcome!B3","v":"63.4311(a)"}]
[null,"Template Version",{"$f":"+Welcome!B4","v":"v2.01"}]
[null,"Last Updated Date",{"$f":"+Welcome!B5","v":43963}]
[null,{"$f":"+Welcome!B6","v":"OMB Control Number: 2060-0522, Expiration: March 31, 2019"}]
[null,"40 CFR Part 63, Subpart OOOO National Emission Standards for Hazardous Air Pollutants: Printing, Coating, and Dyeing of Fabrics and Other Textiles - §63.4311(a) Semiannual Compliance Report Spreadsheet Template"]
[null,"\n"]
[]
[]
[]
[null,"Company Record No. *\n(Select from dropdown)","Name of Operation \n(§63. 4311(a)(3)(iv))\n(Select from dropdown)","Deviation from Operating Limit or Bypass of Control Device\n(§63.4311(a)(7)(ii)(I))\n(Select from dropdown)","Starting Date Deviation from Operating Limit or Bypass of Control Device \n(§63.4311(a)(7)(ii)(I))","Starting Time Deviation from Operating Limit or Bypass of Control Device \n(§63.4311(a)(7)(ii)(I))","Duration Deviation from Operating Limit or Bypass of Control Device (hours) \n(§63.4311(a)(7)(ii)I))","Cause of Deviation from Operating Limit or Bypass of Control Device \n(§63.4311(a)(7)(ii)(K))"]
[null,"RecordId","OperationName","DeviceDeviationBypass","DeviationStartDate","DeviationStartTime","DeviationDuration","DeviationCause"]
[null,"e.g.: 1","e.g.: South Web Coating","e.g.: Deviation from Operating Limit","e.g.: 3/2/2020","e.g.: 15:00","e.g. 36.2","e.g.: Control Equipment Problems"]

{"sheet":"Deviation_w_Addon_OpLimSummary","index":13,"n_rows":100,"n_cols":11,"rows_kept":100,"cut":false,"hidden":false,"merged":[]}
[null,"DO NOT REMOVE OR EDIT INFORMATION IN THIS SECTION FOR INTERNAL USE ONLY"]
[null,"Template Name",{"$f":"+Welcome!B2","v":"63.4311(a) Semiannual Compliance Report (Spreadsheet Template)"}]
[null,"CitationID",{"$f":"+Welcome!B3","v":"63.4311(a)"}]
[null,"Template Version",{"$f":"+Welcome!B4","v":"v2.01"}]
[null,"Last Updated Date",{"$f":"+Welcome!B5","v":43963}]
[null,{"$f":"+Welcome!B6","v":"OMB Control Number: 2060-0522, Expiration: March 31, 2019"}]
[null,"40 CFR Part 63, Subpart OOOO National Emission Standards for Hazardous Air Pollutants: Printing, Coating, and Dyeing of Fabrics and Other Textiles - §63.4311(a) Semiannual Compliance Report Spreadsheet Template"]
[null,"\n"]
[]
[]
[]
[null,"Company Record No. *\n(Select from dropdown)","Name of Operation \n(§63. 4311(a)(3)(iv))\n(Select from dropdown)","Deviation from Operating Limit or Bypass of Control Device\n(§63.4311(a)(7)(ii)(I))\n(Select from dropdown)","Total Source Operating Time (hours)\n(Optional for autocalculation of % Total Source Operating Time)","Total Duration of Deviations from Operating Limit or Bypass of Control Device (hours) (§63.4311(a)(7)(ii)(J))","Total Duration of Deviations from Operating Limit or Bypass of Control Device as a per cent of Total Source Operating Time  \n(§63.4311(a)(7)(ii)(J))\n(Autocalculation or manual entry)","Total Duration of Deviations from Operating Limit or Bypass of Control Device Due to Control Equipment Problems (hours)  (§63.4311(a)(7)(ii)(K))","Total Duration of Deviations from Operating Limit or Bypass of Control Device Due to Process Problems (hours)  (§63.4311(a)(7)(ii)(K))","Total Duration of Deviations from Operating Limit or Bypass of Control Device Due to Other Known Causes (hours)  \n(§63.4311(a)(7)(ii)(K))","Total Duration of Deviations from Operating Limit or Bypass of Control Device Due to Other Unknown Causes (hours)  \n(§63.4311(a)(7)(ii)(K))"]
[null,"RecordId","OperationName","DeviceDeviationBypass","TotalOperatingTime","TotalDeviationDuration","TotalDeviationPercent","EquipmentCausedDeviation","ProcessCausedDeviation","OtherCausedDeviation","UnknownCausedDeviation"]
[null,"e.g.: 1","e.g.: South Web Coating","e.g.: Combustion Temperature","e.g.: 6240","e.g.: 36.2","e.g.: 0.58%","e.g.: 36.2","e.g.: 0","e.g.: 0","e.g.: 0"]
[null,null,null,null,null,null,{"$f":"IF($C15=\"\",\"\",F15/$E15)","v":""},{"$f":"IF($C15=\"\",\"\",SUMIFS(Deviation_w_Addon_OpLimit!$G$24:$G$5000,Deviation_w_Addon_OpLimit!$C$24:$C$5000,Deviation_w_Addon_OpLimSummary!$C15,Deviation_w_Addon_OpLimit!$D$24:$D$5000,\"Deviation from Operating Limit\",Deviation_w_Addon_OpLimit!$H$24:$H$5000,\"Control Equipment Problems\"))","v":""},{"$f":"IF($C15=\"\",\"\",SUMIFS(Deviation_w_Addon_OpLimit!$G$24:$G$5000,Deviation_w_Addon_OpLimit!$C$24:$C$5000,Deviation_w_Addon_OpLimSummary!$C15,Deviation_w_Addon_OpLimit!$D$24:$D$5000,\"Deviation from Operating Limit\",Deviation_w_Addon_OpLimit!$H$24:$H$5000,\"Process Problems\"))","v":""},{"$f":"IF($C15=\"\",\"\",SUMIFS(Deviation_w_Addon_OpLimit!$G$24:$G$5000,Deviation_w_Addon_OpLimit!$C$24:$C$5000,Deviation_w_Addon_OpLimSummary!$C15,Deviation_w_Addon_OpLimit!$D$24:$D$5000,\"Deviation from Operating Limit\",Deviation_w_Addon_OpLimit!$H$24:$H$5000,\"Other Known Problems\"))","v":""},{"$f":"IF($C15=\"\",\"\",SUMIFS(Deviation_w_Addon_OpLimit!$G$24:$G$5000,Deviation_w_Addon_OpLimit!$C$24:$C$5000,Deviation_w_Addon_OpLimSummary!$C15,Deviation_w_Addon_OpLimit!$D$24:$D$5000,\"Deviation from Operating Limit\",Deviation_w_Addon_OpLimit!$H$24:$H$5000,\"Other Unknown Causes\"))","v":""}]
[null,null,null,null,null,null,"",{"$f":"IF($C16=\"\",\"\",SUMIFS(Deviation_w_Addon_OpLimit!$G$24:$G$5000,Deviation_w_Addon_OpLimit!$C$24:$C$5000,Deviation_w_Addon_OpLimSummary!$C16,Deviation_w_Addon_OpLimit!$D$24:$D$5000,\"Deviation from Operating Limit\",Deviation_w_Addon_OpLimit!$H$24:$H$5000,\"Control Equipment Problems\"))","v":""},{"$f":"IF($C16=\"\",\"\",SUMIFS(Deviation_w_Addon_OpLimit!$G$24:$G$5000,Deviation_w_Addon_OpLimit!$C$24:$C$5000,Deviation_w_Addon_OpLimSummary!$C16,Deviation_w_Addon_OpLimit!$D$24:$D$5000,\"Deviation from Operating Limit\",Deviation_w_Addon_OpLimit!$H$24:$H$5000,\"Process Problems\"))","v":""},{"$f":"IF($C16=\"\",\"\",SUMIFS(Deviation_w_Addon_OpLimit!$G$24:$G$5000,Deviation_w_Addon_OpLimit!$C$24:$C$5000,Deviation_w_Addon_OpLimSummary!$C16,Deviation_w_Addon_OpLimit!$D$24:$D$5000,\"Deviation from Operating Limit\",Deviation_w_Addon_OpLimit!$H$24:$H$5000,\"Other Known Problems\"))","v":""},{"$f":"IF($C16=\"\",\"\",SUMIFS(Deviation_w_Addon_OpLimit!$G$24:$G$5000,Deviation_w_Addon_OpLimit!$C$24:$C$5000,Deviation_w_Addon_OpLimSummary!$C16,Deviation_w_Addon_OpLimit!$D$24:$D$5000,\"Deviation from Operating Limit\",Deviation_w_Addon_OpLimit!$H$24:$H$5000,\"Other Unknown Causes\"))","v":""}]
[null,null,null,null,null,null,"",{"$f":"IF($C17=\"\",\"\",SUMIFS(Deviation_w_Addon_OpLimit!$G$24:$G$5000,Deviation_w_Addon_OpLimit!$C$24:$C$5000,Deviation_w_Addon_OpLimSummary!$C17,Deviation_w_Addon_OpLimit!$D$24:$D$5000,\"Deviation from Operating Limit\",Deviation_w_Addon_OpLimit!$H$24:$H$5000,\"Control Equipment Problems\"))","v":""},{"$f":"IF($C17=\"\",\"\",SUMIFS(Deviation_w_Addon_OpLimit!$G$24:$G$5000,Deviation_w_Addon_OpLimit!$C$24:$C$5000,Deviation_w_Addon_OpLimSummary!$C17,Deviation_w_Addon_OpLimit!$D$24:$D$5000,\"Deviation from Operating Limit\",Deviation_w_Addon_OpLimit!$H$24:$H$5000,\"Process Problems\"))","v":""},{"$f":"IF($C17=\"\",\"\",SUMIFS(Deviation_w_Addon_OpLimit!$G$24:$G$5000,Deviation_w_Addon_OpLimit!$C$24:$C$5000,Deviation_w_Addon_OpLimSummary!$C17,Deviation_w_Addon_OpLimit!$D$24:$D$5000,\"Deviation from Operating Limit\",Deviation_w_Addon_OpLimit!$H$24:$H$5000,\"Other Known Problems\"))","v":""},{"$f":"IF($C17=\"\",\"\",SUMIFS(Deviation_w_Addon_OpLimit!$G$24:$G$5000,Deviation_w_Addon_OpLimit!$C$24:$C$5000,Deviation_w_Addon_OpLimSummary!$C17,Deviation_w_Addon_OpLimit!$D$24:$D$5000,\"Deviation from Operating Limit\",Deviation_w_Addon_OpLimit!$H$24:$H$5000,\"Other Unknown Causes\"))","v":""}]
[null,null,null,null,null,null,"",{"$f":"IF($C18=\"\",\"\",SUMIFS(Deviation_w_Addon_OpLimit!$G$24:$G$5000,Deviation_w_Addon_OpLimit!$C$24:$C$5000,Deviation_w_Addon_OpLimSummary!$C18,Deviation_w_Addon_OpLimit!$D$24:$D$5000,\"Deviation from Operating Limit\",Deviation_w_Addon_OpLimit!$H$24:$H$5000,\"Control Equipment Problems\"))","v":""},{"$f":"IF($C18=\"\",\"\",SUMIFS(Deviation_w_Addon_OpLimit!$G$24:$G$5000,Deviation_w_Addon_OpLimit!$C$24:$C$5000,Deviation_w_Addon_OpLimSummary!$C18,Deviation_w_Addon_OpLimit!$D$24:$D$5000,\"Deviation from Operating Limit\",Deviation_w_Addon_OpLimit!$H$24:$H$5000,\"Process Problems\"))","v":""},{"$f":"IF($C18=\"\",\"\",SUMIFS(Deviation_w_Addon_OpLimit!$G$24:$G$5000,Deviation_w_Addon_OpLimit!$C$24:$C$5000,Deviation_w_Addon_OpLimSummary!$C18,Deviation_w_Addon_OpLimit!$D$24:$D$5000,\"Deviation from Operating Limit\",Deviation_w_Addon_OpLimit!$H$24:$H$5000,\"Other Known Problems\"))","v":""},{"$f":"IF($C18=\"\",\"\",SUMIFS(Deviation_w_Addon_OpLimit!$G$24:$G$5000,Deviation_w_Addon_OpLimit!$C$24:$C$5000,Deviation_w_Addon_OpLimSummary!$C18,Deviation_w_Addon_OpLimit!$D$24:$D$5000,\"Deviation from Operating Limit\",Deviation_w_Addon_OpLimit!$H$24:$H$5000,\"Other Unknown Causes\"))","v":""}]
[null,null,null,null,null,null,"",{"$f":"IF($C19=\"\",\"\",SUMIFS(Deviation_w_Addon_OpLimit!$G$24:$G$5000,Deviation_w_Addon_OpLimit!$C$24:$C$5000,Deviation_w_Addon_OpLimSummary!$C19,Deviation_w_Addon_OpLimit!$D$24:$D$5000,\"Deviation from Operating Limit\",Deviation_w_Addon_OpLimit!$H$24:$H$5000,\"Control Equipment Problems\"))","v":""},{"$f":"IF($C19=\"\",\"\",SUMIFS(Deviation_w_Addon_OpLimit!$G$24:$G$5000,Deviation_w_Addon_OpLimit!$C$24:$C$5000,Deviation_w_Addon_OpLimSummary!$C19,Deviation_w_Addon_OpLimit!$D$24:$D$5000,\"Deviation from Operating Limit\",Deviation_w_Addon_OpLimit!$H$24:$H$5000,\"Process Problems\"))","v":""},{"$f":"IF($C19=\"\",\"\",SUMIFS(Deviation_w_Addon_OpLimit!$G$24:$G$5000,Deviation_w_Addon_OpLimit!$C$24:$C$5000,Deviation_w_Addon_OpLimSummary!$C19,Deviation_w_Addon_OpLimit!$D$24:$D$5000,\"Deviation from Operating Limit\",Deviation_w_Addon_OpLimit!$H$24:$H$5000,\"Other Known Problems\"))","v":""},{"$f":"IF($C19=\"\",\"\",SUMIFS(Deviation_w_Addon_OpLimit!$G$24:$G$5000,Deviation_w_Addon_OpLimit!$C$24:$C$5000,Deviation_w_Addon_OpLimSummary!$C19,Deviation_w_Addon_OpLimit!$D$24:$D$5000,\"Deviation from Operating Limit\",Deviation_w_Addon_OpLimit!$H$24:$H$5000,\"Other Unknown Causes\"))","v":""}]
[null,null,null,null,null,null,"",{"$f":"IF($C20=\"\",\"\",SUMIFS(Deviation_w_Addon_OpLimit!$G$24:$G$5000,Deviation_w_Addon_OpLimit!$C$24:$C$5000,Deviation_w_Addon_OpLimSummary!$C20,Deviation_w_Addon_OpLimit!$D$24:$D$5000,\"Deviation from Operating Limit\",Deviation_w_Addon_OpLimit!$H$24:$H$5000,\"Control Equipment Problems\"))","v":""},{"$f":"IF($C20=\"\",\"\",SUMIFS(Deviation_w_Addon_OpLimit!$G$24:$G$5000,Deviation_w_Addon_OpLimit!$C$24:$C$5000,Deviation_w_Addon_OpLimSummary!$C20,Deviation_w_Addon_OpLimit!$D$24:$D$5000,\"Deviation from Operating Limit\",Deviation_w_Addon_OpLimit!$H$24:$H$5000,\"Process Problems\"))","v":""},{"$f":"IF($C20=\"\",\"\",SUMIFS(Deviation_w_Addon_OpLimit!$G$24:$G$5000,Deviation_w_Addon_OpLimit!$C$24:$C$5000,Deviation_w_Addon_OpLimSummary!$C20,Deviation_w_Addon_OpLimit!$D$24:$D$5000,\"Deviation from Operating Limit\",Deviation_w_Addon_OpLimit!$H$24:$H$5000,\"Other Known Problems\"))","v":""},{"$f":"IF($C20=\"\",\"\",SUMIFS(Deviation_w_Addon_OpLimit!$G$24:$G$5000,Deviation_w_Addon_OpLimit!$C$24:$C$5000,Deviation_w_Addon_OpLimSummary!$C20,Deviation_w_Addon_OpLimit!$D$24:$D$5000,\"Deviation from Operating Limit\",Deviation_w_Addon_OpLimit!$H$24:$H$5000,\"Other Unknown Causes\"))","v":""}]
[null,null,null,null,null,null,"",{"$f":"IF($C21=\"\",\"\",SUMIFS(Deviation_w_Addon_OpLimit!$G$24:$G$5000,Deviation_w_Addon_OpLimit!$C$24:$C$5000,Deviation_w_Addon_OpLimSummary!$C21,Deviation_w_Addon_OpLimit!$D$24:$D$5000,\"Deviation from Operating Limit\",Deviation_w_Addon_OpLimit!$H$24:$H$5000,\"Control Equipment Problems\"))","v":""},{"$f":"IF($C21=\"\",\"\",SUMIFS(Deviation_w_Addon_OpLimit!$G$24:$G$5000,Deviation_w_Addon_OpLimit!$C$24:$C$5000,Deviation_w_Addon_OpLimSummary!$C21,Deviation_w_Addon_OpLimit!$D$24:$D$5000,\"Deviation from Operating Limit\",Deviation_w_Addon_OpLimit!$H$24:$H$5000,\"Process Problems\"))","v":""},{"$f":"IF($C21=\"\",\"\",SUMIFS(Deviation_w_Addon_OpLimit!$G$24:$G$5000,Deviation_w_Addon_OpLimit!$C$24:$C$5000,Deviation_w_Addon_OpLimSummary!$C21,Deviation_w_Addon_OpLimit!$D$24:$D$5000,\"Deviation from Operating Limit\",Deviation_w_Addon_OpLimit!$H$24:$H$5000,\"Other Known Problems\"))","v":""},{"$f":"IF($C21=\"\",\"\",SUMIFS(Deviation_w_Addon_OpLimit!$G$24:$G$5000,Deviation_w_Addon_OpLimit!$C$24:$C$5000,Deviation_w_Addon_OpLimSummary!$C21,Deviation_w_Addon_OpLimit!$D$24:$D$5000,\"Deviation from Operating Limit\",Deviation_w_Addon_OpLimit!$H$24:$H$5000,\"Other Unknown Causes\"))","v":""}]
[null,null,null,null,null,null,"",{"$f":"IF($C22=\"\",\"\",SUMIFS(Deviation_w_Addon_OpLimit!$G$24:$G$5000,Deviation_w_Addon_OpLimit!$C$24:$C$5000,Deviation_w_Addon_OpLimSummary!$C22,Deviation_w_Addon_OpLimit!$D$24:$D$5000,\"Deviation from Operating Limit\",Deviation_w_Addon_OpLimit!$H$24:$H$5000,\"Control Equipment Problems\"))","v":""},{"$f":"IF($C22=\"\",\"\",SUMIFS(Deviation_w_Addon_OpLimit!$G$24:$G$5000,Deviation_w_Addon_OpLimit!$C$24:$C$5000,Deviation_w_Addon_OpLimSummary!$C22,Deviation_w_Addon_OpLimit!$D$24:$D$5000,\"Deviation from Operating Limit\",Deviation_w_Addon_OpLimit!$H$24:$H$5000,\"Process Problems\"))","v":""},{"$f":"IF($C22=\"\",\"\",SUMIFS(Deviation_w_Addon_OpLimit!$G$24:$G$5000,Deviation_w_Addon_OpLimit!$C$24:$C$5000,Deviation_w_Addon_OpLimSummary!$C22,Deviation_w_Addon_OpLimit!$D$24:$D$5000,\"Deviation from Operating Limit\",Deviation_w_Addon_OpLimit!$H$24:$H$5000,\"Other Known Problems\"))","v":""},{"$f":"IF($C22=\"\",\"\",SUMIFS(Deviation_w_Addon_OpLimit!$G$24:$G$5000,Deviation_w_Addon_OpLimit!$C$24:$C$5000,Deviation_w_Addon_OpLimSummary!$C22,Deviation_w_Addon_OpLimit!$D$24:$D$5000,\"Deviation from Operating Limit\",Deviation_w_Addon_OpLimit!$H$24:$H$5000,\"Other Unknown Causes\"))","v":""}]
[null,null,null,null,null,null,"",{"$f":"IF($C23=\"\",\"\",SUMIFS(Deviation_w_Addon_OpLimit!$G$24:$G$5000,Deviation_w_Addon_OpLimit!$C$24:$C$5000,Deviation_w_Addon_OpLimSummary!$C23,Deviation_w_Addon_OpLimit!$D$24:$D$5000,\"Deviation from Operating Limit\",Deviation_w_Addon_OpLimit!$H$24:$H$5000,\"Control Equipment Problems\"))","v":""},{"$f":"IF($C23=\"\",\"\",SUMIFS(Deviation_w_Addon_OpLimit!$G$24:$G$5000,Deviation_w_Addon_OpLimit!$C$24:$C$5000,Deviation_w_Addon_OpLimSummary!$C23,Deviation_w_Addon_OpLimit!$D$24:$D$5000,\"Deviation from Operating Limit\",Deviation_w_Addon_OpLimit!$H$24:$H$5000,\"Process Problems\"))","v":""},{"$f":"IF($C23=\"\",\"\",SUMIFS(Deviation_w_Addon_OpLimit!$G$24:$G$5000,Deviation_w_Addon_OpLimit!$C$24:$C$5000,Deviation_w_Addon_OpLimSummary!$C23,Deviation_w_Addon_OpLimit!$D$24:$D$5000,\"Deviation from Operating Limit\",Deviation_w_Addon_OpLimit!$H$24:$H$5000,\"Other Known Problems\"))","v":""},{"$f":"IF($C23=\"\",\"\",SUMIFS(Deviation_w_Addon_OpLimit!$G$24:$G$5000,Deviation_w_Addon_OpLimit!$C$24:$C$5000,Deviation_w_Addon_OpLimSummary!$C23,Deviation_w_Addon_OpLimit!$D$24:$D$5000,\"Deviation from Operating Limit\",Deviation_w_Addon_OpLimit!$H$24:$H$5000,\"Other Unknown Causes\"))","v":""}]
[null,null,null,null,null,{"$f":"IF($C24=\"\",\"\",SUM(H24:K24))","v":""},{"$f":"IF($C24=\"\",\"\",IF(F24=0,\"N/A\",F24/$E24))","v":""},{"$f":"IF($C24=\"\",\"\",SUMIFS(Deviation_w_Addon_OpLimit!$G$24:$G$5000,Deviation_w_Addon_OpLimit!$B$24:$B$5000,Deviation_w_Addon_OpLimSummary!$B24,Deviation_w_Addon_OpLimit!$C$24:$C$5000,Deviation_w_Addon_OpLimSummary!$C24,Deviation_w_Addon_OpLimit!$D$24:$D$5000,D24,Deviation_w_Addon_OpLimit!$H$24:$H$5000,\"Control Equipment Problems\"))","v":""},{"$f":"IF($C24=\"\",\"\",SUMIFS(Deviation_w_Addon_OpLimit!$G$24:$G$5000,Deviation_w_Addon_OpLimit!$B$24:$B$5000,Deviation_w_Addon_OpLimSummary!$B24,Deviation_w_Addon_OpLimit!$C$24:$C$5000,Deviation_w_Addon_OpLimSummary!$C24,Deviation_w_Addon_OpLimit!$D$24:$D$5000,D24,Deviation_w_Addon_OpLimit!$H$24:$H$5000,\"Process Problems\"))","v":""},{"$f":"IF($C24=\"\",\"\",SUMIFS(Deviation_w_Addon_OpLimit!$G$24:$G$5000,Deviation_w_Addon_OpLimit!$B$24:$B$5000,Deviation_w_Addon_OpLimSummary!$B24,Deviation_w_Addon_OpLimit!$C$24:$C$5000,Deviation_w_Addon_OpLimSummary!$C24,Deviation_w_Addon_OpLimit!$D$24:$D$5000,D24,Deviation_w_Addon_OpLimit!$H$24:$H$5000,\"Other Known Problems\"))","v":""},{"$f":"IF($C24=\"\",\"\",SUMIFS(Deviation_w_Addon_OpLimit!$G$24:$G$5000,Deviation_w_Addon_OpLimit!$B$24:$B$5000,Deviation_w_Addon_OpLimSummary!$B24,Deviation_w_Addon_OpLimit!$C$24:$C$5000,Deviation_w_Addon_OpLimSummary!$C24,Deviation_w_Addon_OpLimit!$D$24:$D$5000,D24,Deviation_w_Addon_OpLimit!$H$24:$H$5000,\"Other Unknown Causes\"))","v":""}]
[null,null,null,null,null,{"$f":"IF($C25=\"\",\"\",SUM(H25:K25))","v":""},{"$f":"IF($C25=\"\",\"\",IF(F25=0,\"N/A\",F25/$E25))","v":""},{"$f":"IF($C25=\"\",\"\",SUMIFS(Deviation_w_Addon_OpLimit!$G$24:$G$5000,Deviation_w_Addon_OpLimit!$B$24:$B$5000,Deviation_w_Addon_OpLimSummary!$B25,Deviation_w_Addon_OpLimit!$C$24:$C$5000,Deviation_w_Addon_OpLimSummary!$C25,Deviation_w_Addon_OpLimit!$D$24:$D$5000,D25,Deviation_w_Addon_OpLimit!$H$24:$H$5000,\"Control Equipment Problems\"))","v":""},{"$f":"IF($C25=\"\",\"\",SUMIFS(Deviation_w_Addon_OpLimit!$G$24:$G$5000,Deviation_w_Addon_OpLimit!$B$24:$B$5000,Deviation_w_Addon_OpLimSummary!$B25,Deviation_w_Addon_OpLimit!$C$24:$C$5000,Deviation_w_Addon_OpLimSummary!$C25,Deviation_w_Addon_OpLimit!$D$24:$D$5000,D25,Deviation_w_Addon_OpLimit!$H$24:$H$5000,\"Process Problems\"))","v":""},{"$f":"IF($C25=\"\",\"\",SUMIFS(Deviation_w_Addon_OpLimit!$G$24:$G$5000,Deviation_w_Addon_OpLimit!$B$24:$B$5000,Deviation_w_Addon_OpLimSummary!$B25,Deviation_w_Addon_OpLimit!$C$24:$C$5000,Deviation_w_Addon_OpLimSummary!$C25,Deviation_w_Addon_OpLimit!$D$24:$D$5000,D25,Deviation_w_Addon_OpLimit!$H$24:$H$5000,\"Other Known Problems\"))","v":""},{"$f":"IF($C25=\"\",\"\",SUMIFS(Deviation_w_Addon_OpLimit!$G$24:$G$5000,Deviation_w_Addon_OpLimit!$B$24:$B$5000,Deviation_w_Addon_OpLimSummary!$B25,Deviation_w_Addon_OpLimit!$C$24:$C$5000,Deviation_w_Addon_OpLimSummary!$C25,Deviation_w_Addon_OpLimit!$D$24:$D$5000,D25,Deviation_w_Addon_OpLimit!$H$24:$H$5000,\"Other Unknown Causes\"))","v":""}]
[null,null,null,null,null,"","",{"$f":"IF($C26=\"\",\"\",SUMIFS(Deviation_w_Addon_OpLimit!$G$24:$G$5000,Deviation_w_Addon_OpLimit!$B$24:$B$5000,Deviation_w_Addon_OpLimSummary!$B26,Deviation_w_Addon_OpLimit!$C$24:$C$5000,Deviation_w_Addon_OpLimSummary!$C26,Deviation_w_Addon_OpLimit!$D$24:$D$5000,D26,Deviation_w_Addon_OpLimit!$H$24:$H$5000,\"Control Equipment Problems\"))","v":""},{"$f":"IF($C26=\"\",\"\",SUMIFS(Deviation_w_Addon_OpLimit!$G$24:$G$5000,Deviation_w_Addon_OpLimit!$B$24:$B$5000,Deviation_w_Addon_OpLimSummary!$B26,Deviation_w_Addon_OpLimit!$C$24:$C$5000,Deviation_w_Addon_OpLimSummary!$C26,Deviation_w_Addon_OpLimit!$D$24:$D$5000,D26,Deviation_w_Addon_OpLimit!$H$24:$H$5000,\"Process Problems\"))","v":""},{"$f":"IF($C26=\"\",\"\",SUMIFS(Deviation_w_Addon_OpLimit!$G$24:$G$5000,Deviation_w_Addon_OpLimit!$B$24:$B$5000,Deviation_w_Addon_OpLimSummary!$B26,Deviation_w_Addon_OpLimit!$C$24:$C$5000,Deviation_w_Addon_OpLimSummary!$C26,Deviation_w_Addon_OpLimit!$D$24:$D$5000,D26,Deviation_w_Addon_OpLimit!$H$24:$H$5000,\"Other Known Problems\"))","v":""},{"$f":"IF($C26=\"\",\"\",SUMIFS(Deviation_w_Addon_OpLimit!$G$24:$G$5000,Deviation_w_Addon_OpLimit!$B$24:$B$5000,Deviation_w_Addon_OpLimSummary!$B26,Deviation_w_Addon_OpLimit!$C$24:$C$5000,Deviation_w_Addon_OpLimSummary!$C26,Deviation_w_Addon_OpLimit!$D$24:$D$5000,D26,Deviation_w_Addon_OpLimit!$H$24:$H$5000,\"Other Unknown Causes\"))","v":""}]
[null,null,null,null,null,"","",{"$f":"IF($C27=\"\",\"\",SUMIFS(Deviation_w_Addon_OpLimit!$G$24:$G$5000,Deviation_w_Addon_OpLimit!$B$24:$B$5000,Deviation_w_Addon_OpLimSummary!$B27,Deviation_w_Addon_OpLimit!$C$24:$C$5000,Deviation_w_Addon_OpLimSummary!$C27,Deviation_w_Addon_OpLimit!$D$24:$D$5000,D27,Deviation_w_Addon_OpLimit!$H$24:$H$5000,\"Control Equipment Problems\"))","v":""},{"$f":"IF($C27=\"\",\"\",SUMIFS(Deviation_w_Addon_OpLimit!$G$24:$G$5000,Deviation_w_Addon_OpLimit!$B$24:$B$5000,Deviation_w_Addon_OpLimSummary!$B27,Deviation_w_Addon_OpLimit!$C$24:$C$5000,Deviation_w_Addon_OpLimSummary!$C27,Deviation_w_Addon_OpLimit!$D$24:$D$5000,D27,Deviation_w_Addon_OpLimit!$H$24:$H$5000,\"Process Problems\"))","v":""},{"$f":"IF($C27=\"\",\"\",SUMIFS(Deviation_w_Addon_OpLimit!$G$24:$G$5000,Deviation_w_Addon_OpLimit!$B$24:$B$5000,Deviation_w_Addon_OpLimSummary!$B27,Deviation_w_Addon_OpLimit!$C$24:$C$5000,Deviation_w_Addon_OpLimSummary!$C27,Deviation_w_Addon_OpLimit!$D$24:$D$5000,D27,Deviation_w_Addon_OpLimit!$H$24:$H$5000,\"Other Known Problems\"))","v":""},{"$f":"IF($C27=\"\",\"\",SUMIFS(Deviation_w_Addon_OpLimit!$G$24:$G$5000,Deviation_w_Addon_OpLimit!$B$24:$B$5000,Deviation_w_Addon_OpLimSummary!$B27,Deviation_w_Addon_OpLimit!$C$24:$C$5000,Deviation_w_Addon_OpLimSummary!$C27,Deviation_w_Addon_OpLimit!$D$24:$D$5000,D27,Deviation_w_Addon_OpLimit!$H$24:$H$5000,\"Other Unknown Causes\"))","v":""}]
[null,null,null,null,null,"","",{"$f":"IF($C28=\"\",\"\",SUMIFS(Deviation_w_Addon_OpLimit!$G$24:$G$5000,Deviation_w_Addon_OpLimit!$B$24:$B$5000,Deviation_w_Addon_OpLimSummary!$B28,Deviation_w_Addon_OpLimit!$C$24:$C$5000,Deviation_w_Addon_OpLimSummary!$C28,Deviation_w_Addon_OpLimit!$D$24:$D$5000,D28,Deviation_w_Addon_OpLimit!$H$24:$H$5000,\"Control Equipment Problems\"))","v":""},{"$f":"IF($C28=\"\",\"\",SUMIFS(Deviation_w_Addon_OpLimit!$G$24:$G$5000,Deviation_w_Addon_OpLimit!$B$24:$B$5000,Deviation_w_Addon_OpLimSummary!$B28,Deviation_w_Addon_OpLimit!$C$24:$C$5000,Deviation_w_Addon_OpLimSummary!$C28,Deviation_w_Addon_OpLimit!$D$24:$D$5000,D28,Deviation_w_Addon_OpLimit!$H$24:$H$5000,\"Process Problems\"))","v":""},{"$f":"IF($C28=\"\",\"\",SUMIFS(Deviation_w_Addon_OpLimit!$G$24:$G$5000,Deviation_w_Addon_OpLimit!$B$24:$B$5000,Deviation_w_Addon_OpLimSummary!$B28,Deviation_w_Addon_OpLimit!$C$24:$C$5000,Deviation_w_Addon_OpLimSummary!$C28,Deviation_w_Addon_OpLimit!$D$24:$D$5000,D28,Deviation_w_Addon_OpLimit!$H$24:$H$5000,\"Other Known Problems\"))","v":""},{"$f":"IF($C28=\"\",\"\",SUMIFS(Deviation_w_Addon_OpLimit!$G$24:$G$5000,Deviation_w_Addon_OpLimit!$B$24:$B$5000,Deviation_w_Addon_OpLimSummary!$B28,Deviation_w_Addon_OpLimit!$C$24:$C$5000,Deviation_w_Addon_OpLimSummary!$C28,Deviation_w_Addon_OpLimit!$D$24:$D$5000,D28,Deviation_w_Addon_OpLimit!$H$24:$H$5000,\"Other Unknown Causes\"))","v":""}]
[null,null,null,null,null,"","",{"$f":"IF($C29=\"\",\"\",SUMIFS(Deviation_w_Addon_OpLimit!$G$24:$G$5000,Deviation_w_Addon_OpLimit!$B$24:$B$5000,Deviation_w_Addon_OpLimSummary!$B29,Deviation_w_Addon_OpLimit!$C$24:$C$5000,Deviation_w_Addon_OpLimSummary!$C29,Deviation_w_Addon_OpLimit!$D$24:$D$5000,D29,Deviation_w_Addon_OpLimit!$H$24:$H$5000,\"Control Equipment Problems\"))","v":""},{"$f":"IF($C29=\"\",\"\",SUMIFS(Deviation_w_Addon_OpLimit!$G$24:$G$5000,Deviation_w_Addon_OpLimit!$B$24:$B$5000,Deviation_w_Addon_OpLimSummary!$B29,Deviation_w_Addon_OpLimit!$C$24:$C$5000,Deviation_w_Addon_OpLimSummary!$C29,Deviation_w_Addon_OpLimit!$D$24:$D$5000,D29,Deviation_w_Addon_OpLimit!$H$24:$H$5000,\"Process Problems\"))","v":""},{"$f":"IF($C29=\"\",\"\",SUMIFS(Deviation_w_Addon_OpLimit!$G$24:$G$5000,Deviation_w_Addon_OpLimit!$B$24:$B$5000,Deviation_w_Addon_OpLimSummary!$B29,Deviation_w_Addon_OpLimit!$C$24:$C$5000,Deviation_w_Addon_OpLimSummary!$C29,Deviation_w_Addon_OpLimit!$D$24:$D$5000,D29,Deviation_w_Addon_OpLimit!$H$24:$H$5000,\"Other Known Problems\"))","v":""},{"$f":"IF($C29=\"\",\"\",SUMIFS(Deviation_w_Addon_OpLimit!$G$24:$G$5000,Deviation_w_Addon_OpLimit!$B$24:$B$5000,Deviation_w_Addon_OpLimSummary!$B29,Deviation_w_Addon_OpLimit!$C$24:$C$5000,Deviation_w_Addon_OpLimSummary!$C29,Deviation_w_Addon_OpLimit!$D$24:$D$5000,D29,Deviation_w_Addon_OpLimit!$H$24:$H$5000,\"Other Unknown Causes\"))","v":""}]
[null,null,null,null,null,"","",{"$f":"IF($C30=\"\",\"\",SUMIFS(Deviation_w_Addon_OpLimit!$G$24:$G$5000,Deviation_w_Addon_OpLimit!$B$24:$B$5000,Deviation_w_Addon_OpLimSummary!$B30,Deviation_w_Addon_OpLimit!$C$24:$C$5000,Deviation_w_Addon_OpLimSummary!$C30,Deviation_w_Addon_OpLimit!$D$24:$D$5000,D30,Deviation_w_Addon_OpLimit!$H$24:$H$5000,\"Control Equipment Problems\"))","v":""},{"$f":"IF($C30=\"\",\"\",SUMIFS(Deviation_w_Addon_OpLimit!$G$24:$G$5000,Deviation_w_Addon_OpLimit!$B$24:$B$5000,Deviation_w_Addon_OpLimSummary!$B30,Deviation_w_Addon_OpLimit!$C$24:$C$5000,Deviation_w_Addon_OpLimSummary!$C30,Deviation_w_Addon_OpLimit!$D$24:$D$5000,D30,Deviation_w_Addon_OpLimit!$H$24:$H$5000,\"Process Problems\"))","v":""},{"$f":"IF($C30=\"\",\"\",SUMIFS(Deviation_w_Addon_OpLimit!$G$24:$G$5000,Deviation_w_Addon_OpLimit!$B$24:$B$5000,Deviation_w_Addon_OpLimSummary!$B30,Deviation_w_Addon_OpLimit!$C$24:$C$5000,Deviation_w_Addon_OpLimSummary!$C30,Deviation_w_Addon_OpLimit!$D$24:$D$5000,D30,Deviation_w_Addon_OpLimit!$H$24:$H$5000,\"Other Known Problems\"))","v":""},{"$f":"IF($C30=\"\",\"\",SUMIFS(Deviation_w_Addon_OpLimit!$G$24:$G$5000,Deviation_w_Addon_OpLimit!$B$24:$B$5000,Deviation_w_Addon_OpLimSummary!$B30,Deviation_w_Addon_OpLimit!$C$24:$C$5000,Deviation_w_Addon_OpLimSummary!$C30,Deviation_w_Addon_OpLimit!$D$24:$D$5000,D30,Deviation_w_Addon_OpLimit!$H$24:$H$5000,\"Other Unknown Causes\"))","v":""}]
[null,null,null,null,null,"","",{"$f":"IF($C31=\"\",\"\",SUMIFS(Deviation_w_Addon_OpLimit!$G$24:$G$5000,Deviation_w_Addon_OpLimit!$B$24:$B$5000,Deviation_w_Addon_OpLimSummary!$B31,Deviation_w_Addon_OpLimit!$C$24:$C$5000,Deviation_w_Addon_OpLimSummary!$C31,Deviation_w_Addon_OpLimit!$D$24:$D$5000,D31,Deviation_w_Addon_OpLimit!$H$24:$H$5000,\"Control Equipment Problems\"))","v":""},{"$f":"IF($C31=\"\",\"\",SUMIFS(Deviation_w_Addon_OpLimit!$G$24:$G$5000,Deviation_w_Addon_OpLimit!$B$24:$B$5000,Deviation_w_Addon_OpLimSummary!$B31,Deviation_w_Addon_OpLimit!$C$24:$C$5000,Deviation_w_Addon_OpLimSummary!$C31,Deviation_w_Addon_OpLimit!$D$24:$D$5000,D31,Deviation_w_Addon_OpLimit!$H$24:$H$5000,\"Process Problems\"))","v":""},{"$f":"IF($C31=\"\",\"\",SUMIFS(Deviation_w_Addon_OpLimit!$G$24:$G$5000,Deviation_w_Addon_OpLimit!$B$24:$B$5000,Deviation_w_Addon_OpLimSummary!$B31,Deviation_w_Addon_OpLimit!$C$24:$C$5000,Deviation_w_Addon_OpLimSummary!$C31,Deviation_w_Addon_OpLimit!$D$24:$D$5000,D31,Deviation_w_Addon_OpLimit!$H$24:$H$5000,\"Other Known Problems\"))","v":""},{"$f":"IF($C31=\"\",\"\",SUMIFS(Deviation_w_Addon_OpLimit!$G$24:$G$5000,Deviation_w_Addon_OpLimit!$B$24:$B$5000,Deviation_w_Addon_OpLimSummary!$B31,Deviation_w_Addon_OpLimit!$C$24:$C$5000,Deviation_w_Addon_OpLimSummary!$C31,Deviation_w_Addon_OpLimit!$D$24:$D$5000,D31,Deviation_w_Addon_OpLimit!$H$24:$H$5000,\"Other Unknown Causes\"))","v":""}]
[null,null,null,null,null,"","",{"$f":"IF($C32=\"\",\"\",SUMIFS(Deviation_w_Addon_OpLimit!$G$24:$G$5000,Deviation_w_Addon_OpLimit!$B$24:$B$5000,Deviation_w_Addon_OpLimSummary!$B32,Deviation_w_Addon_OpLimit!$C$24:$C$5000,Deviation_w_Addon_OpLimSummary!$C32,Deviation_w_Addon_OpLimit!$D$24:$D$5000,D32,Deviation_w_Addon_OpLimit!$H$24:$H$5000,\"Control Equipment Problems\"))","v":""},{"$f":"IF($C32=\"\",\"\",SUMIFS(Deviation_w_Addon_OpLimit!$G$24:$G$5000,Deviation_w_Addon_OpLimit!$B$24:$B$5000,Deviation_w_Addon_OpLimSummary!$B32,Deviation_w_Addon_OpLimit!$C$24:$C$5000,Deviation_w_Addon_OpLimSummary!$C32,Deviation_w_Addon_OpLimit!$D$24:$D$5000,D32,Deviation_w_Addon_OpLimit!$H$24:$H$5000,\"Process Problems\"))","v":""},{"$f":"IF($C32=\"\",\"\",SUMIFS(Deviation_w_Addon_OpLimit!$G$24:$G$5000,Deviation_w_Addon_OpLimit!$B$24:$B$5000,Deviation_w_Addon_OpLimSummary!$B32,Deviation_w_Addon_OpLimit!$C$24:$C$5000,Deviation_w_Addon_OpLimSummary!$C32,Deviation_w_Addon_OpLimit!$D$24:$D$5000,D32,Deviation_w_Addon_OpLimit!$H$24:$H$5000,\"Other Known Problems\"))","v":""},{"$f":"IF($C32=\"\",\"\",SUMIFS(Deviation_w_Addon_OpLimit!$G$24:$G$5000,Deviation_w_Addon_OpLimit!$B$24:$B$5000,Deviation_w_Addon_OpLimSummary!$B32,Deviation_w_Addon_OpLimit!$C$24:$C$5000,Deviation_w_Addon_OpLimSummary!$C32,Deviation_w_Addon_OpLimit!$D$24:$D$5000,D32,Deviation_w_Addon_OpLimit!$H$24:$H$5000,\"Other Unknown Causes\"))","v":""}]
[null,null,null,null,null,"","",{"$f":"IF($C33=\"\",\"\",SUMIFS(Deviation_w_Addon_OpLimit!$G$24:$G$5000,Deviation_w_Addon_OpLimit!$B$24:$B$5000,Deviation_w_Addon_OpLimSummary!$B33,Deviation_w_Addon_OpLimit!$C$24:$C$5000,Deviation_w_Addon_OpLimSummary!$C33,Deviation_w_Addon_OpLimit!$D$24:$D$5000,D33,Deviation_w_Addon_OpLimit!$H$24:$H$5000,\"Control Equipment Problems\"))","v":""},{"$f":"IF($C33=\"\",\"\",SUMIFS(Deviation_w_Addon_OpLimit!$G$24:$G$5000,Deviation_w_Addon_OpLimit!$B$24:$B$5000,Deviation_w_Addon_OpLimSummary!$B33,Deviation_w_Addon_OpLimit!$C$24:$C$5000,Deviation_w_Addon_OpLimSummary!$C33,Deviation_w_Addon_OpLimit!$D$24:$D$5000,D33,Deviation_w_Addon_OpLimit!$H$24:$H$5000,\"Process Problems\"))","v":""},{"$f":"IF($C33=\"\",\"\",SUMIFS(Deviation_w_Addon_OpLimit!$G$24:$G$5000,Deviation_w_Addon_OpLimit!$B$24:$B$5000,Deviation_w_Addon_OpLimSummary!$B33,Deviation_w_Addon_OpLimit!$C$24:$C$5000,Deviation_w_Addon_OpLimSummary!$C33,Deviation_w_Addon_OpLimit!$D$24:$D$5000,D33,Deviation_w_Addon_OpLimit!$H$24:$H$5000,\"Other Known Problems\"))","v":""},{"$f":"IF($C33=\"\",\"\",SUMIFS(Deviation_w_Addon_OpLimit!$G$24:$G$5000,Deviation_w_Addon_OpLimit!$B$24:$B$5000,Deviation_w_Addon_OpLimSummary!$B33,Deviation_w_Addon_OpLimit!$C$24:$C$5000,Deviation_w_Addon_OpLimSummary!$C33,Deviation_w_Addon_OpLimit!$D$24:$D$5000,D33,Deviation_w_Addon_OpLimit!$H$24:$H$5000,\"Other Unknown Causes\"))","v":""}]
[null,null,null,null,null,"","",{"$f":"IF($C34=\"\",\"\",SUMIFS(Deviation_w_Addon_OpLimit!$G$24:$G$5000,Deviation_w_Addon_OpLimit!$B$24:$B$5000,Deviation_w_Addon_OpLimSummary!$B34,Deviation_w_Addon_OpLimit!$C$24:$C$5000,Deviation_w_Addon_OpLimSummary!$C34,Deviation_w_Addon_OpLimit!$D$24:$D$5000,D34,Deviation_w_Addon_OpLimit!$H$24:$H$5000,\"Control Equipment Problems\"))","v":""},{"$f":"IF($C34=\"\",\"\",SUMIFS(Deviation_w_Addon_OpLimit!$G$24:$G$5000,Deviation_w_Addon_OpLimit!$B$24:$B$5000,Deviation_w_Addon_OpLimSummary!$B34,Deviation_w_Addon_OpLimit!$C$24:$C$5000,Deviation_w_Addon_OpLimSummary!$C34,Deviation_w_Addon_OpLimit!$D$24:$D$5000,D34,Deviation_w_Addon_OpLimit!$H$24:$H$5000,\"Process Problems\"))","v":""},{"$f":"IF($C34=\"\",\"\",SUMIFS(Deviation_w_Addon_OpLimit!$G$24:$G$5000,Deviation_w_Addon_OpLimit!$B$24:$B$5000,Deviation_w_Addon_OpLimSummary!$B34,Deviation_w_Addon_OpLimit!$C$24:$C$5000,Deviation_w_Addon_OpLimSummary!$C34,Deviation_w_Addon_OpLimit!$D$24:$D$5000,D34,Deviation_w_Addon_OpLimit!$H$24:$H$5000,\"Other Known Problems\"))","v":""},{"$f":"IF($C34=\"\",\"\",SUMIFS(Deviation_w_Addon_OpLimit!$G$24:$G$5000,Deviation_w_Addon_OpLimit!$B$24:$B$5000,Deviation_w_Addon_OpLimSummary!$B34,Deviation_w_Addon_OpLimit!$C$24:$C$5000,Deviation_w_Addon_OpLimSummary!$C34,Deviation_w_Addon_OpLimit!$D$24:$D$5000,D34,Deviation_w_Addon_OpLimit!$H$24:$H$5000,\"Other Unknown Causes\"))","v":""}]
[null,null,null,null,null,"","",{"$f":"IF($C35=\"\",\"\",SUMIFS(Deviation_w_Addon_OpLimit!$G$24:$G$5000,Deviation_w_Addon_OpLimit!$B$24:$B$5000,Deviation_w_Addon_OpLimSummary!$B35,Deviation_w_Addon_OpLimit!$C$24:$C$5000,Deviation_w_Addon_OpLimSummary!$C35,Deviation_w_Addon_OpLimit!$D$24:$D$5000,D35,Deviation_w_Addon_OpLimit!$H$24:$H$5000,\"Control Equipment Problems\"))","v":""},{"$f":"IF($C35=\"\",\"\",SUMIFS(Deviation_w_Addon_OpLimit!$G$24:$G$5000,Deviation_w_Addon_OpLimit!$B$24:$B$5000,Deviation_w_Addon_OpLimSummary!$B35,Deviation_w_Addon_OpLimit!$C$24:$C$5000,Deviation_w_Addon_OpLimSummary!$C35,Deviation_w_Addon_OpLimit!$D$24:$D$5000,D35,Deviation_w_Addon_OpLimit!$H$24:$H$5000,\"Process Problems\"))","v":""},{"$f":"IF($C35=\"\",\"\",SUMIFS(Deviation_w_Addon_OpLimit!$G$24:$G$5000,Deviation_w_Addon_OpLimit!$B$24:$B$5000,Deviation_w_Addon_OpLimSummary!$B35,Deviation_w_Addon_OpLimit!$C$24:$C$5000,Deviation_w_Addon_OpLimSummary!$C35,Deviation_w_Addon_OpLimit!$D$24:$D$5000,D35,Deviation_w_Addon_OpLimit!$H$24:$H$5000,\"Other Known Problems\"))","v":""},{"$f":"IF($C35=\"\",\"\",SUMIFS(Deviation_w_Addon_OpLimit!$G$24:$G$5000,Deviation_w_Addon_OpLimit!$B$24:$B$5000,Deviation_w_Addon_OpLimSummary!$B35,Deviation_w_Addon_OpLimit!$C$24:$C$5000,Deviation_w_Addon_OpLimSummary!$C35,Deviation_w_Addon_OpLimit!$D$24:$D$5000,D35,Deviation_w_Addon_OpLimit!$H$24:$H$5000,\"Other Unknown Causes\"))","v":""}]
[null,null,null,null,null,"","",{"$f":"IF($C36=\"\",\"\",SUMIFS(Deviation_w_Addon_OpLimit!$G$24:$G$5000,Deviation_w_Addon_OpLimit!$B$24:$B$5000,Deviation_w_Addon_OpLimSummary!$B36,Deviation_w_Addon_OpLimit!$C$24:$C$5000,Deviation_w_Addon_OpLimSummary!$C36,Deviation_w_Addon_OpLimit!$D$24:$D$5000,D36,Deviation_w_Addon_OpLimit!$H$24:$H$5000,\"Control Equipment Problems\"))","v":""},{"$f":"IF($C36=\"\",\"\",SUMIFS(Deviation_w_Addon_OpLimit!$G$24:$G$5000,Deviation_w_Addon_OpLimit!$B$24:$B$5000,Deviation_w_Addon_OpLimSummary!$B36,Deviation_w_Addon_OpLimit!$C$24:$C$5000,Deviation_w_Addon_OpLimSummary!$C36,Deviation_w_Addon_OpLimit!$D$24:$D$5000,D36,Deviation_w_Addon_OpLimit!$H$24:$H$5000,\"Process Problems\"))","v":""},{"$f":"IF($C36=\"\",\"\",SUMIFS(Deviation_w_Addon_OpLimit!$G$24:$G$5000,Deviation_w_Addon_OpLimit!$B$24:$B$5000,Deviation_w_Addon_OpLimSummary!$B36,Deviation_w_Addon_OpLimit!$C$24:$C$5000,Deviation_w_Addon_OpLimSummary!$C36,Deviation_w_Addon_OpLimit!$D$24:$D$5000,D36,Deviation_w_Addon_OpLimit!$H$24:$H$5000,\"Other Known Problems\"))","v":""},{"$f":"IF($C36=\"\",\"\",SUMIFS(Deviation_w_Addon_OpLimit!$G$24:$G$5000,Deviation_w_Addon_OpLimit!$B$24:$B$5000,Deviation_w_Addon_OpLimSummary!$B36,Deviation_w_Addon_OpLimit!$C$24:$C$5000,Deviation_w_Addon_OpLimSummary!$C36,Deviation_w_Addon_OpLimit!$D$24:$D$5000,D36,Deviation_w_Addon_OpLimit!$H$24:$H$5000,\"Other Unknown Causes\"))","v":""}]
[null,null,null,null,null,"","",{"$f":"IF($C37=\"\",\"\",SUMIFS(Deviation_w_Addon_OpLimit!$G$24:$G$5000,Deviation_w_Addon_OpLimit!$B$24:$B$5000,Deviation_w_Addon_OpLimSummary!$B37,Deviation_w_Addon_OpLimit!$C$24:$C$5000,Deviation_w_Addon_OpLimSummary!$C37,Deviation_w_Addon_OpLimit!$D$24:$D$5000,D37,Deviation_w_Addon_OpLimit!$H$24:$H$5000,\"Control Equipment Problems\"))","v":""},{"$f":"IF($C37=\"\",\"\",SUMIFS(Deviation_w_Addon_OpLimit!$G$24:$G$5000,Deviation_w_Addon_OpLimit!$B$24:$B$5000,Deviation_w_Addon_OpLimSummary!$B37,Deviation_w_Addon_OpLimit!$C$24:$C$5000,Deviation_w_Addon_OpLimSummary!$C37,Deviation_w_Addon_OpLimit!$D$24:$D$5000,D37,Deviation_w_Addon_OpLimit!$H$24:$H$5000,\"Process Problems\"))","v":""},{"$f":"IF($C37=\"\",\"\",SUMIFS(Deviation_w_Addon_OpLimit!$G$24:$G$5000,Deviation_w_Addon_OpLimit!$B$24:$B$5000,Deviation_w_Addon_OpLimSummary!$B37,Deviation_w_Addon_OpLimit!$C$24:$C$5000,Deviation_w_Addon_OpLimSummary!$C37,Deviation_w_Addon_OpLimit!$D$24:$D$5000,D37,Deviation_w_Addon_OpLimit!$H$24:$H$5000,\"Other Known Problems\"))","v":""},{"$f":"IF($C37=\"\",\"\",SUMIFS(Deviation_w_Addon_OpLimit!$G$24:$G$5000,Deviation_w_Addon_OpLimit!$B$24:$B$5000,Deviation_w_Addon_OpLimSummary!$B37,Deviation_w_Addon_OpLimit!$C$24:$C$5000,Deviation_w_Addon_OpLimSummary!$C37,Deviation_w_Addon_OpLimit!$D$24:$D$5000,D37,Deviation_w_Addon_OpLimit!$H$24:$H$5000,\"Other Unknown Causes\"))","v":""}]
[null,null,null,null,null,"","",{"$f":"IF($C38=\"\",\"\",SUMIFS(Deviation_w_Addon_OpLimit!$G$24:$G$5000,Deviation_w_Addon_OpLimit!$B$24:$B$5000,Deviation_w_Addon_OpLimSummary!$B38,Deviation_w_Addon_OpLimit!$C$24:$C$5000,Deviation_w_Addon_OpLimSummary!$C38,Deviation_w_Addon_OpLimit!$D$24:$D$5000,D38,Deviation_w_Addon_OpLimit!$H$24:$H$5000,\"Control Equipment Problems\"))","v":""},{"$f":"IF($C38=\"\",\"\",SUMIFS(Deviation_w_Addon_OpLimit!$G$24:$G$5000,Deviation_w_Addon_OpLimit!$B$24:$B$5000,Deviation_w_Addon_OpLimSummary!$B38,Deviation_w_Addon_OpLimit!$C$24:$C$5000,Deviation_w_Addon_OpLimSummary!$C38,Deviation_w_Addon_OpLimit!$D$24:$D$5000,D38,Deviation_w_Addon_OpLimit!$H$24:$H$5000,\"Process Problems\"))","v":""},{"$f":"IF($C38=\"\",\"\",SUMIFS(Deviation_w_Addon_OpLimit!$G$24:$G$5000,Deviation_w_Addon_OpLimit!$B$24:$B$5000,Deviation_w_Addon_OpLimSummary!$B38,Deviation_w_Addon_OpLimit!$C$24:$C$5000,Deviation_w_Addon_OpLimSummary!$C38,Deviation_w_Addon_OpLimit!$D$24:$D$5000,D38,Deviation_w_Addon_OpLimit!$H$24:$H$5000,\"Other Known Problems\"))","v":""},{"$f":"IF($C38=\"\",\"\",SUMIFS(Deviation_w_Addon_OpLimit!$G$24:$G$5000,Deviation_w_Addon_OpLimit!$B$24:$B$5000,Deviation_w_Addon_OpLimSummary!$B38,Deviation_w_Addon_OpLimit!$C$24:$C$5000,Deviation_w_Addon_OpLimSummary!$C38,Deviation_w_Addon_OpLimit!$D$24:$D$5000,D38,Deviation_w_Addon_OpLimit!$H$24:$H$5000,\"Other Unknown Causes\"))","v":""}]
[null,null,null,null,null,"","",{"$f":"IF($C39=\"\",\"\",SUMIFS(Deviation_w_Addon_OpLimit!$G$24:$G$5000,Deviation_w_Addon_OpLimit!$B$24:$B$5000,Deviation_w_Addon_OpLimSummary!$B39,Deviation_w_Addon_OpLimit!$C$24:$C$5000,Deviation_w_Addon_OpLimSummary!$C39,Deviation_w_Addon_OpLimit!$D$24:$D$5000,D39,Deviation_w_Addon_OpLimit!$H$24:$H$5000,\"Control Equipment Problems\"))","v":""},{"$f":"IF($C39=\"\",\"\",SUMIFS(Deviation_w_Addon_OpLimit!$G$24:$G$5000,Deviation_w_Addon_OpLimit!$B$24:$B$5000,Deviation_w_Addon_OpLimSummary!$B39,Deviation_w_Addon_OpLimit!$C$24:$C$5000,Deviation_w_Addon_OpLimSummary!$C39,Deviation_w_Addon_OpLimit!$D$24:$D$5000,D39,Deviation_w_Addon_OpLimit!$H$24:$H$5000,\"Process Problems\"))","v":""},{"$f":"IF($C39=\"\",\"\",SUMIFS(Deviation_w_Addon_OpLimit!$G$24:$G$5000,Deviation_w_Addon_OpLimit!$B$24:$B$5000,Deviation_w_Addon_OpLimSummary!$B39,Deviation_w_Addon_OpLimit!$C$24:$C$5000,Deviation_w_Addon_OpLimSummary!$C39,Deviation_w_Addon_OpLimit!$D$24:$D$5000,D39,Deviation_w_Addon_OpLimit!$H$24:$H$5000,\"Other Known Problems\"))","v":""},{"$f":"IF($C39=\"\",\"\",SUMIFS(Deviation_w_Addon_OpLimit!$G$24:$G$5000,Deviation_w_Addon_OpLimit!$B$24:$B$5000,Deviation_w_Addon_OpLimSummary!$B39,Deviation_w_Addon_OpLimit!$C$24:$C$5000,Deviation_w_Addon_OpLimSummary!$C39,Deviation_w_Addon_OpLimit!$D$24:$D$5000,D39,Deviation_w_Addon_OpLimit!$H$24:$H$5000,\"Other Unknown Causes\"))","v":""}]
[null,null,null,null,null,"","",{"$f":"IF($C40=\"\",\"\",SUMIFS(Deviation_w_Addon_OpLimit!$G$24:$G$5000,Deviation_w_Addon_OpLimit!$B$24:$B$5000,Deviation_w_Addon_OpLimSummary!$B40,Deviation_w_Addon_OpLimit!$C$24:$C$5000,Deviation_w_Addon_OpLimSummary!$C40,Deviation_w_Addon_OpLimit!$D$24:$D$5000,D40,Deviation_w_Addon_OpLimit!$H$24:$H$5000,\"Control Equipment Problems\"))","v":""},{"$f":"IF($C40=\"\",\"\",SUMIFS(Deviation_w_Addon_OpLimit!$G$24:$G$5000,Deviation_w_Addon_OpLimit!$B$24:$B$5000,Deviation_w_Addon_OpLimSummary!$B40,Deviation_w_Addon_OpLimit!$C$24:$C$5000,Deviation_w_Addon_OpLimSummary!$C40,Deviation_w_Addon_OpLimit!$D$24:$D$5000,D40,Deviation_w_Addon_OpLimit!$H$24:$H$5000,\"Process Problems\"))","v":""},{"$f":"IF($C40=\"\",\"\",SUMIFS(Deviation_w_Addon_OpLimit!$G$24:$G$5000,Deviation_w_Addon_OpLimit!$B$24:$B$5000,Deviation_w_Addon_OpLimSummary!$B40,Deviation_w_Addon_OpLimit!$C$24:$C$5000,Deviation_w_Addon_OpLimSummary!$C40,Deviation_w_Addon_OpLimit!$D$24:$D$5000,D40,Deviation_w_Addon_OpLimit!$H$24:$H$5000,\"Other Known Problems\"))","v":""},{"$f":"IF($C40=\"\",\"\",SUMIFS(Deviation_w_Addon_OpLimit!$G$24:$G$5000,Deviation_w_Addon_OpLimit!$B$24:$B$5000,Deviation_w_Addon_OpLimSummary!$B40,Deviation_w_Addon_OpLimit!$C$24:$C$5000,Deviation_w_Addon_OpLimSummary!$C40,Deviation_w_Addon_OpLimit!$D$24:$D$5000,D40,Deviation_w_Addon_OpLimit!$H$24:$H$5000,\"Other Unknown Causes\"))","v":""}]
[null,null,null,null,null,"","",{"$f":"IF($C41=\"\",\"\",SUMIFS(Deviation_w_Addon_OpLimit!$G$24:$G$5000,Deviation_w_Addon_OpLimit!$B$24:$B$5000,Deviation_w_Addon_OpLimSummary!$B41,Deviation_w_Addon_OpLimit!$C$24:$C$5000,Deviation_w_Addon_OpLimSummary!$C41,Deviation_w_Addon_OpLimit!$D$24:$D$5000,D41,Deviation_w_Addon_OpLimit!$H$24:$H$5000,\"Control Equipment Problems\"))","v":""},{"$f":"IF($C41=\"\",\"\",SUMIFS(Deviation_w_Addon_OpLimit!$G$24:$G$5000,Deviation_w_Addon_OpLimit!$B$24:$B$5000,Deviation_w_Addon_OpLimSummary!$B41,Deviation_w_Addon_OpLimit!$C$24:$C$5000,Deviation_w_Addon_OpLimSummary!$C41,Deviation_w_Addon_OpLimit!$D$24:$D$5000,D41,Deviation_w_Addon_OpLimit!$H$24:$H$5000,\"Process Problems\"))","v":""},{"$f":"IF($C41=\"\",\"\",SUMIFS(Deviation_w_Addon_OpLimit!$G$24:$G$5000,Deviation_w_Addon_OpLimit!$B$24:$B$5000,Deviation_w_Addon_OpLimSummary!$B41,Deviation_w_Addon_OpLimit!$C$24:$C$5000,Deviation_w_Addon_OpLimSummary!$C41,Deviation_w_Addon_OpLimit!$D$24:$D$5000,D41,Deviation_w_Addon_OpLimit!$H$24:$H$5000,\"Other Known Problems\"))","v":""},{"$f":"IF($C41=\"\",\"\",SUMIFS(Deviation_w_Addon_OpLimit!$G$24:$G$5000,Deviation_w_Addon_OpLimit!$B$24:$B$5000,Deviation_w_Addon_OpLimSummary!$B41,Deviation_w_Addon_OpLimit!$C$24:$C$5000,Deviation_w_Addon_OpLimSummary!$C41,Deviation_w_Addon_OpLimit!$D$24:$D$5000,D41,Deviation_w_Addon_OpLimit!$H$24:$H$5000,\"Other Unknown Causes\"))","v":""}]
[null,null,null,null,null,"","",{"$f":"IF($C42=\"\",\"\",SUMIFS(Deviation_w_Addon_OpLimit!$G$24:$G$5000,Deviation_w_Addon_OpLimit!$B$24:$B$5000,Deviation_w_Addon_OpLimSummary!$B42,Deviation_w_Addon_OpLimit!$C$24:$C$5000,Deviation_w_Addon_OpLimSummary!$C42,Deviation_w_Addon_OpLimit!$D$24:$D$5000,D42,Deviation_w_Addon_OpLimit!$H$24:$H$5000,\"Control Equipment Problems\"))","v":""},{"$f":"IF($C42=\"\",\"\",SUMIFS(Deviation_w_Addon_OpLimit!$G$24:$G$5000,Deviation_w_Addon_OpLimit!$B$24:$B$5000,Deviation_w_Addon_OpLimSummary!$B42,Deviation_w_Addon_OpLimit!$C$24:$C$5000,Deviation_w_Addon_OpLimSummary!$C42,Deviation_w_Addon_OpLimit!$D$24:$D$5000,D42,Deviation_w_Addon_OpLimit!$H$24:$H$5000,\"Process Problems\"))","v":""},{"$f":"IF($C42=\"\",\"\",SUMIFS(Deviation_w_Addon_OpLimit!$G$24:$G$5000,Deviation_w_Addon_OpLimit!$B$24:$B$5000,Deviation_w_Addon_OpLimSummary!$B42,Deviation_w_Addon_OpLimit!$C$24:$C$5000,Deviation_w_Addon_OpLimSummary!$C42,Deviation_w_Addon_OpLimit!$D$24:$D$5000,D42,Deviation_w_Addon_OpLimit!$H$24:$H$5000,\"Other Known Problems\"))","v":""},{"$f":"IF($C42=\"\",\"\",SUMIFS(Deviation_w_Addon_OpLimit!$G$24:$G$5000,Deviation_w_Addon_OpLimit!$B$24:$B$5000,Deviation_w_Addon_OpLimSummary!$B42,Deviation_w_Addon_OpLimit!$C$24:$C$5000,Deviation_w_Addon_OpLimSummary!$C42,Deviation_w_Addon_OpLimit!$D$24:$D$5000,D42,Deviation_w_Addon_OpLimit!$H$24:$H$5000,\"Other Unknown Causes\"))","v":""}]
[null,null,null,null,null,"","",{"$f":"IF($C43=\"\",\"\",SUMIFS(Deviation_w_Addon_OpLimit!$G$24:$G$5000,Deviation_w_Addon_OpLimit!$B$24:$B$5000,Deviation_w_Addon_OpLimSummary!$B43,Deviation_w_Addon_OpLimit!$C$24:$C$5000,Deviation_w_Addon_OpLimSummary!$C43,Deviation_w_Addon_OpLimit!$D$24:$D$5000,D43,Deviation_w_Addon_OpLimit!$H$24:$H$5000,\"Control Equipment Problems\"))","v":""},{"$f":"IF($C43=\"\",\"\",SUMIFS(Deviation_w_Addon_OpLimit!$G$24:$G$5000,Deviation_w_Addon_OpLimit!$B$24:$B$5000,Deviation_w_Addon_OpLimSummary!$B43,Deviation_w_Addon_OpLimit!$C$24:$C$5000,Deviation_w_Addon_OpLimSummary!$C43,Deviation_w_Addon_OpLimit!$D$24:$D$5000,D43,Deviation_w_Addon_OpLimit!$H$24:$H$5000,\"Process Problems\"))","v":""},{"$f":"IF($C43=\"\",\"\",SUMIFS(Deviation_w_Addon_OpLimit!$G$24:$G$5000,Deviation_w_Addon_OpLimit!$B$24:$B$5000,Deviation_w_Addon_OpLimSummary!$B43,Deviation_w_Addon_OpLimit!$C$24:$C$5000,Deviation_w_Addon_OpLimSummary!$C43,Deviation_w_Addon_OpLimit!$D$24:$D$5000,D43,Deviation_w_Addon_OpLimit!$H$24:$H$5000,\"Other Known Problems\"))","v":""},{"$f":"IF($C43=\"\",\"\",SUMIFS(Deviation_w_Addon_OpLimit!$G$24:$G$5000,Deviation_w_Addon_OpLimit!$B$24:$B$5000,Deviation_w_Addon_OpLimSummary!$B43,Deviation_w_Addon_OpLimit!$C$24:$C$5000,Deviation_w_Addon_OpLimSummary!$C43,Deviation_w_Addon_OpLimit!$D$24:$D$5000,D43,Deviation_w_Addon_OpLimit!$H$24:$H$5000,\"Other Unknown Causes\"))","v":""}]
[null,null,null,null,null,"","",{"$f":"IF($C44=\"\",\"\",SUMIFS(Deviation_w_Addon_OpLimit!$G$24:$G$5000,Deviation_w_Addon_OpLimit!$B$24:$B$5000,Deviation_w_Addon_OpLimSummary!$B44,Deviation_w_Addon_OpLimit!$C$24:$C$5000,Deviation_w_Addon_OpLimSummary!$C44,Deviation_w_Addon_OpLimit!$D$24:$D$5000,D44,Deviation_w_Addon_OpLimit!$H$24:$H$5000,\"Control Equipment Problems\"))","v":""},{"$f":"IF($C44=\"\",\"\",SUMIFS(Deviation_w_Addon_OpLimit!$G$24:$G$5000,Deviation_w_Addon_OpLimit!$B$24:$B$5000,Deviation_w_Addon_OpLimSummary!$B44,Deviation_w_Addon_OpLimit!$C$24:$C$5000,Deviation_w_Addon_OpLimSummary!$C44,Deviation_w_Addon_OpLimit!$D$24:$D$5000,D44,Deviation_w_Addon_OpLimit!$H$24:$H$5000,\"Process Problems\"))","v":""},{"$f":"IF($C44=\"\",\"\",SUMIFS(Deviation_w_Addon_OpLimit!$G$24:$G$5000,Deviation_w_Addon_OpLimit!$B$24:$B$5000,Deviation_w_Addon_OpLimSummary!$B44,Deviation_w_Addon_OpLimit!$C$24:$C$5000,Deviation_w_Addon_OpLimSummary!$C44,Deviation_w_Addon_OpLimit!$D$24:$D$5000,D44,Deviation_w_Addon_OpLimit!$H$24:$H$5000,\"Other Known Problems\"))","v":""},{"$f":"IF($C44=\"\",\"\",SUMIFS(Deviation_w_Addon_OpLimit!$G$24:$G$5000,Deviation_w_Addon_OpLimit!$B$24:$B$5000,Deviation_w_Addon_OpLimSummary!$B44,Deviation_w_Addon_OpLimit!$C$24:$C$5000,Deviation_w_Addon_OpLimSummary!$C44,Deviation_w_Addon_OpLimit!$D$24:$D$5000,D44,Deviation_w_Addon_OpLimit!$H$24:$H$5000,\"Other Unknown Causes\"))","v":""}]
[null,null,null,null,null,"","",{"$f":"IF($C45=\"\",\"\",SUMIFS(Deviation_w_Addon_OpLimit!$G$24:$G$5000,Deviation_w_Addon_OpLimit!$B$24:$B$5000,Deviation_w_Addon_OpLimSummary!$B45,Deviation_w_Addon_OpLimit!$C$24:$C$5000,Deviation_w_Addon_OpLimSummary!$C45,Deviation_w_Addon_OpLimit!$D$24:$D$5000,D45,Deviation_w_Addon_OpLimit!$H$24:$H$5000,\"Control Equipment Problems\"))","v":""},{"$f":"IF($C45=\"\",\"\",SUMIFS(Deviation_w_Addon_OpLimit!$G$24:$G$5000,Deviation_w_Addon_OpLimit!$B$24:$B$5000,Deviation_w_Addon_OpLimSummary!$B45,Deviation_w_Addon_OpLimit!$C$24:$C$5000,Deviation_w_Addon_OpLimSummary!$C45,Deviation_w_Addon_OpLimit!$D$24:$D$5000,D45,Deviation_w_Addon_OpLimit!$H$24:$H$5000,\"Process Problems\"))","v":""},{"$f":"IF($C45=\"\",\"\",SUMIFS(Deviation_w_Addon_OpLimit!$G$24:$G$5000,Deviation_w_Addon_OpLimit!$B$24:$B$5000,Deviation_w_Addon_OpLimSummary!$B45,Deviation_w_Addon_OpLimit!$C$24:$C$5000,Deviation_w_Addon_OpLimSummary!$C45,Deviation_w_Addon_OpLimit!$D$24:$D$5000,D45,Deviation_w_Addon_OpLimit!$H$24:$H$5000,\"Other Known Problems\"))","v":""},{"$f":"IF($C45=\"\",\"\",SUMIFS(Deviation_w_Addon_OpLimit!$G$24:$G$5000,Deviation_w_Addon_OpLimit!$B$24:$B$5000,Deviation_w_Addon_OpLimSummary!$B45,Deviation_w_Addon_OpLimit!$C$24:$C$5000,Deviation_w_Addon_OpLimSummary!$C45,Deviation_w_Addon_OpLimit!$D$24:$D$5000,D45,Deviation_w_Addon_OpLimit!$H$24:$H$5000,\"Other Unknown Causes\"))","v":""}]
[null,null,null,null,null,"","",{"$f":"IF($C46=\"\",\"\",SUMIFS(Deviation_w_Addon_OpLimit!$G$24:$G$5000,Deviation_w_Addon_OpLimit!$B$24:$B$5000,Deviation_w_Addon_OpLimSummary!$B46,Deviation_w_Addon_OpLimit!$C$24:$C$5000,Deviation_w_Addon_OpLimSummary!$C46,Deviation_w_Addon_OpLimit!$D$24:$D$5000,D46,Deviation_w_Addon_OpLimit!$H$24:$H$5000,\"Control Equipment Problems\"))","v":""},{"$f":"IF($C46=\"\",\"\",SUMIFS(Deviation_w_Addon_OpLimit!$G$24:$G$5000,Deviation_w_Addon_OpLimit!$B$24:$B$5000,Deviation_w_Addon_OpLimSummary!$B46,Deviation_w_Addon_OpLimit!$C$24:$C$5000,Deviation_w_Addon_OpLimSummary!$C46,Deviation_w_Addon_OpLimit!$D$24:$D$5000,D46,Deviation_w_Addon_OpLimit!$H$24:$H$5000,\"Process Problems\"))","v":""},{"$f":"IF($C46=\"\",\"\",SUMIFS(Deviation_w_Addon_OpLimit!$G$24:$G$5000,Deviation_w_Addon_OpLimit!$B$24:$B$5000,Deviation_w_Addon_OpLimSummary!$B46,Deviation_w_Addon_OpLimit!$C$24:$C$5000,Deviation_w_Addon_OpLimSummary!$C46,Deviation_w_Addon_OpLimit!$D$24:$D$5000,D46,Deviation_w_Addon_OpLimit!$H$24:$H$5000,\"Other Known Problems\"))","v":""},{"$f":"IF($C46=\"\",\"\",SUMIFS(Deviation_w_Addon_OpLimit!$G$24:$G$5000,Deviation_w_Addon_OpLimit!$B$24:$B$5000,Deviation_w_Addon_OpLimSummary!$B46,Deviation_w_Addon_OpLimit!$C$24:$C$5000,Deviation_w_Addon_OpLimSummary!$C46,Deviation_w_Addon_OpLimit!$D$24:$D$5000,D46,Deviation_w_Addon_OpLimit!$H$24:$H$5000,\"Other Unknown Causes\"))","v":""}]
[null,null,null,null,null,"","",{"$f":"IF($C47=\"\",\"\",SUMIFS(Deviation_w_Addon_OpLimit!$G$24:$G$5000,Deviation_w_Addon_OpLimit!$B$24:$B$5000,Deviation_w_Addon_OpLimSummary!$B47,Deviation_w_Addon_OpLimit!$C$24:$C$5000,Deviation_w_Addon_OpLimSummary!$C47,Deviation_w_Addon_OpLimit!$D$24:$D$5000,D47,Deviation_w_Addon_OpLimit!$H$24:$H$5000,\"Control Equipment Problems\"))","v":""},{"$f":"IF($C47=\"\",\"\",SUMIFS(Deviation_w_Addon_OpLimit!$G$24:$G$5000,Deviation_w_Addon_OpLimit!$B$24:$B$5000,Deviation_w_Addon_OpLimSummary!$B47,Deviation_w_Addon_OpLimit!$C$24:$C$5000,Deviation_w_Addon_OpLimSummary!$C47,Deviation_w_Addon_OpLimit!$D$24:$D$5000,D47,Deviation_w_Addon_OpLimit!$H$24:$H$5000,\"Process Problems\"))","v":""},{"$f":"IF($C47=\"\",\"\",SUMIFS(Deviation_w_Addon_OpLimit!$G$24:$G$5000,Deviation_w_Addon_OpLimit!$B$24:$B$5000,Deviation_w_Addon_OpLimSummary!$B47,Deviation_w_Addon_OpLimit!$C$24:$C$5000,Deviation_w_Addon_OpLimSummary!$C47,Deviation_w_Addon_OpLimit!$D$24:$D$5000,D47,Deviation_w_Addon_OpLimit!$H$24:$H$5000,\"Other Known Problems\"))","v":""},{"$f":"IF($C47=\"\",\"\",SUMIFS(Deviation_w_Addon_OpLimit!$G$24:$G$5000,Deviation_w_Addon_OpLimit!$B$24:$B$5000,Deviation_w_Addon_OpLimSummary!$B47,Deviation_w_Addon_OpLimit!$C$24:$C$5000,Deviation_w_Addon_OpLimSummary!$C47,Deviation_w_Addon_OpLimit!$D$24:$D$5000,D47,Deviation_w_Addon_OpLimit!$H$24:$H$5000,\"Other Unknown Causes\"))","v":""}]
[null,null,null,null,null,"","",{"$f":"IF($C48=\"\",\"\",SUMIFS(Deviation_w_Addon_OpLimit!$G$24:$G$5000,Deviation_w_Addon_OpLimit!$B$24:$B$5000,Deviation_w_Addon_OpLimSummary!$B48,Deviation_w_Addon_OpLimit!$C$24:$C$5000,Deviation_w_Addon_OpLimSummary!$C48,Deviation_w_Addon_OpLimit!$D$24:$D$5000,D48,Deviation_w_Addon_OpLimit!$H$24:$H$5000,\"Control Equipment Problems\"))","v":""},{"$f":"IF($C48=\"\",\"\",SUMIFS(Deviation_w_Addon_OpLimit!$G$24:$G$5000,Deviation_w_Addon_OpLimit!$B$24:$B$5000,Deviation_w_Addon_OpLimSummary!$B48,Deviation_w_Addon_OpLimit!$C$24:$C$5000,Deviation_w_Addon_OpLimSummary!$C48,Deviation_w_Addon_OpLimit!$D$24:$D$5000,D48,Deviation_w_Addon_OpLimit!$H$24:$H$5000,\"Process Problems\"))","v":""},{"$f":"IF($C48=\"\",\"\",SUMIFS(Deviation_w_Addon_OpLimit!$G$24:$G$5000,Deviation_w_Addon_OpLimit!$B$24:$B$5000,Deviation_w_Addon_OpLimSummary!$B48,Deviation_w_Addon_OpLimit!$C$24:$C$5000,Deviation_w_Addon_OpLimSummary!$C48,Deviation_w_Addon_OpLimit!$D$24:$D$5000,D48,Deviation_w_Addon_OpLimit!$H$24:$H$5000,\"Other Known Problems\"))","v":""},{"$f":"IF($C48=\"\",\"\",SUMIFS(Deviation_w_Addon_OpLimit!$G$24:$G$5000,Deviation_w_Addon_OpLimit!$B$24:$B$5000,Deviation_w_Addon_OpLimSummary!$B48,Deviation_w_Addon_OpLimit!$C$24:$C$5000,Deviation_w_Addon_OpLimSummary!$C48,Deviation_w_Addon_OpLimit!$D$24:$D$5000,D48,Deviation_w_Addon_OpLimit!$H$24:$H$5000,\"Other Unknown Causes\"))","v":""}]
[null,null,null,null,null,"","",{"$f":"IF($C49=\"\",\"\",SUMIFS(Deviation_w_Addon_OpLimit!$G$24:$G$5000,Deviation_w_Addon_OpLimit!$B$24:$B$5000,Deviation_w_Addon_OpLimSummary!$B49,Deviation_w_Addon_OpLimit!$C$24:$C$5000,Deviation_w_Addon_OpLimSummary!$C49,Deviation_w_Addon_OpLimit!$D$24:$D$5000,D49,Deviation_w_Addon_OpLimit!$H$24:$H$5000,\"Control Equipment Problems\"))","v":""},{"$f":"IF($C49=\"\",\"\",SUMIFS(Deviation_w_Addon_OpLimit!$G$24:$G$5000,Deviation_w_Addon_OpLimit!$B$24:$B$5000,Deviation_w_Addon_OpLimSummary!$B49,Deviation_w_Addon_OpLimit!$C$24:$C$5000,Deviation_w_Addon_OpLimSummary!$C49,Deviation_w_Addon_OpLimit!$D$24:$D$5000,D49,Deviation_w_Addon_OpLimit!$H$24:$H$5000,\"Process Problems\"))","v":""},{"$f":"IF($C49=\"\",\"\",SUMIFS(Deviation_w_Addon_OpLimit!$G$24:$G$5000,Deviation_w_Addon_OpLimit!$B$24:$B$5000,Deviation_w_Addon_OpLimSummary!$B49,Deviation_w_Addon_OpLimit!$C$24:$C$5000,Deviation_w_Addon_OpLimSummary!$C49,Deviation_w_Addon_OpLimit!$D$24:$D$5000,D49,Deviation_w_Addon_OpLimit!$H$24:$H$5000,\"Other Known Problems\"))","v":""},{"$f":"IF($C49=\"\",\"\",SUMIFS(Deviation_w_Addon_OpLimit!$G$24:$G$5000,Deviation_w_Addon_OpLimit!$B$24:$B$5000,Deviation_w_Addon_OpLimSummary!$B49,Deviation_w_Addon_OpLimit!$C$24:$C$5000,Deviation_w_Addon_OpLimSummary!$C49,Deviation_w_Addon_OpLimit!$D$24:$D$5000,D49,Deviation_w_Addon_OpLimit!$H$24:$H$5000,\"Other Unknown Causes\"))","v":""}]
[null,null,null,null,null,"","",{"$f":"IF($C50=\"\",\"\",SUMIFS(Deviation_w_Addon_OpLimit!$G$24:$G$5000,Deviation_w_Addon_OpLimit!$B$24:$B$5000,Deviation_w_Addon_OpLimSummary!$B50,Deviation_w_Addon_OpLimit!$C$24:$C$5000,Deviation_w_Addon_OpLimSummary!$C50,Deviation_w_Addon_OpLimit!$D$24:$D$5000,D50,Deviation_w_Addon_OpLimit!$H$24:$H$5000,\"Control Equipment Problems\"))","v":""},{"$f":"IF($C50=\"\",\"\",SUMIFS(Deviation_w_Addon_OpLimit!$G$24:$G$5000,Deviation_w_Addon_OpLimit!$B$24:$B$5000,Deviation_w_Addon_OpLimSummary!$B50,Deviation_w_Addon_OpLimit!$C$24:$C$5000,Deviation_w_Addon_OpLimSummary!$C50,Deviation_w_Addon_OpLimit!$D$24:$D$5000,D50,Deviation_w_Addon_OpLimit!$H$24:$H$5000,\"Process Problems\"))","v":""},{"$f":"IF($C50=\"\",\"\",SUMIFS(Deviation_w_Addon_OpLimit!$G$24:$G$5000,Deviation_w_Addon_OpLimit!$B$24:$B$5000,Deviation_w_Addon_OpLimSummary!$B50,Deviation_w_Addon_OpLimit!$C$24:$C$5000,Deviation_w_Addon_OpLimSummary!$C50,Deviation_w_Addon_OpLimit!$D$24:$D$5000,D50,Deviation_w_Addon_OpLimit!$H$24:$H$5000,\"Other Known Problems\"))","v":""},{"$f":"IF($C50=\"\",\"\",SUMIFS(Deviation_w_Addon_OpLimit!$G$24:$G$5000,Deviation_w_Addon_OpLimit!$B$24:$B$5000,Deviation_w_Addon_OpLimSummary!$B50,Deviation_w_Addon_OpLimit!$C$24:$C$5000,Deviation_w_Addon_OpLimSummary!$C50,Deviation_w_Addon_OpLimit!$D$24:$D$5000,D50,Deviation_w_Addon_OpLimit!$H$24:$H$5000,\"Other Unknown Causes\"))","v":""}]
[null,null,null,null,null,"","",{"$f":"IF($C51=\"\",\"\",SUMIFS(Deviation_w_Addon_OpLimit!$G$24:$G$5000,Deviation_w_Addon_OpLimit!$B$24:$B$5000,Deviation_w_Addon_OpLimSummary!$B51,Deviation_w_Addon_OpLimit!$C$24:$C$5000,Deviation_w_Addon_OpLimSummary!$C51,Deviation_w_Addon_OpLimit!$D$24:$D$5000,D51,Deviation_w_Addon_OpLimit!$H$24:$H$5000,\"Control Equipment Problems\"))","v":""},{"$f":"IF($C51=\"\",\"\",SUMIFS(Deviation_w_Addon_OpLimit!$G$24:$G$5000,Deviation_w_Addon_OpLimit!$B$24:$B$5000,Deviation_w_Addon_OpLimSummary!$B51,Deviation_w_Addon_OpLimit!$C$24:$C$5000,Deviation_w_Addon_OpLimSummary!$C51,Deviation_w_Addon_OpLimit!$D$24:$D$5000,D51,Deviation_w_Addon_OpLimit!$H$24:$H$5000,\"Process Problems\"))","v":""},{"$f":"IF($C51=\"\",\"\",SUMIFS(Deviation_w_Addon_OpLimit!$G$24:$G$5000,Deviation_w_Addon_OpLimit!$B$24:$B$5000,Deviation_w_Addon_OpLimSummary!$B51,Deviation_w_Addon_OpLimit!$C$24:$C$5000,Deviation_w_Addon_OpLimSummary!$C51,Deviation_w_Addon_OpLimit!$D$24:$D$5000,D51,Deviation_w_Addon_OpLimit!$H$24:$H$5000,\"Other Known Problems\"))","v":""},{"$f":"IF($C51=\"\",\"\",SUMIFS(Deviation_w_Addon_OpLimit!$G$24:$G$5000,Deviation_w_Addon_OpLimit!$B$24:$B$5000,Deviation_w_Addon_OpLimSummary!$B51,Deviation_w_Addon_OpLimit!$C$24:$C$5000,Deviation_w_Addon_OpLimSummary!$C51,Deviation_w_Addon_OpLimit!$D$24:$D$5000,D51,Deviation_w_Addon_OpLimit!$H$24:$H$5000,\"Other Unknown Causes\"))","v":""}]
[null,null,null,null,null,"","",{"$f":"IF($C52=\"\",\"\",SUMIFS(Deviation_w_Addon_OpLimit!$G$24:$G$5000,Deviation_w_Addon_OpLimit!$B$24:$B$5000,Deviation_w_Addon_OpLimSummary!$B52,Deviation_w_Addon_OpLimit!$C$24:$C$5000,Deviation_w_Addon_OpLimSummary!$C52,Deviation_w_Addon_OpLimit!$D$24:$D$5000,D52,Deviation_w_Addon_OpLimit!$H$24:$H$5000,\"Control Equipment Problems\"))","v":""},{"$f":"IF($C52=\"\",\"\",SUMIFS(Deviation_w_Addon_OpLimit!$G$24:$G$5000,Deviation_w_Addon_OpLimit!$B$24:$B$5000,Deviation_w_Addon_OpLimSummary!$B52,Deviation_w_Addon_OpLimit!$C$24:$C$5000,Deviation_w_Addon_OpLimSummary!$C52,Deviation_w_Addon_OpLimit!$D$24:$D$5000,D52,Deviation_w_Addon_OpLimit!$H$24:$H$5000,\"Process Problems\"))","v":""},{"$f":"IF($C52=\"\",\"\",SUMIFS(Deviation_w_Addon_OpLimit!$G$24:$G$5000,Deviation_w_Addon_OpLimit!$B$24:$B$5000,Deviation_w_Addon_OpLimSummary!$B52,Deviation_w_Addon_OpLimit!$C$24:$C$5000,Deviation_w_Addon_OpLimSummary!$C52,Deviation_w_Addon_OpLimit!$D$24:$D$5000,D52,Deviation_w_Addon_OpLimit!$H$24:$H$5000,\"Other Known Problems\"))","v":""},{"$f":"IF($C52=\"\",\"\",SUMIFS(Deviation_w_Addon_OpLimit!$G$24:$G$5000,Deviation_w_Addon_OpLimit!$B$24:$B$5000,Deviation_w_Addon_OpLimSummary!$B52,Deviation_w_Addon_OpLimit!$C$24:$C$5000,Deviation_w_Addon_OpLimSummary!$C52,Deviation_w_Addon_OpLimit!$D$24:$D$5000,D52,Deviation_w_Addon_OpLimit!$H$24:$H$5000,\"Other Unknown Causes\"))","v":""}]
[null,null,null,null,null,"","",{"$f":"IF($C53=\"\",\"\",SUMIFS(Deviation_w_Addon_OpLimit!$G$24:$G$5000,Deviation_w_Addon_OpLimit!$B$24:$B$5000,Deviation_w_Addon_OpLimSummary!$B53,Deviation_w_Addon_OpLimit!$C$24:$C$5000,Deviation_w_Addon_OpLimSummary!$C53,Deviation_w_Addon_OpLimit!$D$24:$D$5000,D53,Deviation_w_Addon_OpLimit!$H$24:$H$5000,\"Control Equipment Problems\"))","v":""},{"$f":"IF($C53=\"\",\"\",SUMIFS(Deviation_w_Addon_OpLimit!$G$24:$G$5000,Deviation_w_Addon_OpLimit!$B$24:$B$5000,Deviation_w_Addon_OpLimSummary!$B53,Deviation_w_Addon_OpLimit!$C$24:$C$5000,Deviation_w_Addon_OpLimSummary!$C53,Deviation_w_Addon_OpLimit!$D$24:$D$5000,D53,Deviation_w_Addon_OpLimit!$H$24:$H$5000,\"Process Problems\"))","v":""},{"$f":"IF($C53=\"\",\"\",SUMIFS(Deviation_w_Addon_OpLimit!$G$24:$G$5000,Deviation_w_Addon_OpLimit!$B$24:$B$5000,Deviation_w_Addon_OpLimSummary!$B53,Deviation_w_Addon_OpLimit!$C$24:$C$5000,Deviation_w_Addon_OpLimSummary!$C53,Deviation_w_Addon_OpLimit!$D$24:$D$5000,D53,Deviation_w_Addon_OpLimit!$H$24:$H$5000,\"Other Known Problems\"))","v":""},{"$f":"IF($C53=\"\",\"\",SUMIFS(Deviation_w_Addon_OpLimit!$G$24:$G$5000,Deviation_w_Addon_OpLimit!$B$24:$B$5000,Deviation_w_Addon_OpLimSummary!$B53,Deviation_w_Addon_OpLimit!$C$24:$C$5000,Deviation_w_Addon_OpLimSummary!$C53,Deviation_w_Addon_OpLimit!$D$24:$D$5000,D53,Deviation_w_Addon_OpLimit!$H$24:$H$5000,\"Other Unknown Causes\"))","v":""}]
[null,null,null,null,null,"","",{"$f":"IF($C54=\"\",\"\",SUMIFS(Deviation_w_Addon_OpLimit!$G$24:$G$5000,Deviation_w_Addon_OpLimit!$B$24:$B$5000,Deviation_w_Addon_OpLimSummary!$B54,Deviation_w_Addon_OpLimit!$C$24:$C$5000,Deviation_w_Addon_OpLimSummary!$C54,Deviation_w_Addon_OpLimit!$D$24:$D$5000,D54,Deviation_w_Addon_OpLimit!$H$24:$H$5000,\"Control Equipment Problems\"))","v":""},{"$f":"IF($C54=\"\",\"\",SUMIFS(Deviation_w_Addon_OpLimit!$G$24:$G$5000,Deviation_w_Addon_OpLimit!$B$24:$B$5000,Deviation_w_Addon_OpLimSummary!$B54,Deviation_w_Addon_OpLimit!$C$24:$C$5000,Deviation_w_Addon_OpLimSummary!$C54,Deviation_w_Addon_OpLimit!$D$24:$D$5000,D54,Deviation_w_Addon_OpLimit!$H$24:$H$5000,\"Process Problems\"))","v":""},{"$f":"IF($C54=\"\",\"\",SUMIFS(Deviation_w_Addon_OpLimit!$G$24:$G$5000,Deviation_w_Addon_OpLimit!$B$24:$B$5000,Deviation_w_Addon_OpLimSummary!$B54,Deviation_w_Addon_OpLimit!$C$24:$C$5000,Deviation_w_Addon_OpLimSummary!$C54,Deviation_w_Addon_OpLimit!$D$24:$D$5000,D54,Deviation_w_Addon_OpLimit!$H$24:$H$5000,\"Other Known Problems\"))","v":""},{"$f":"IF($C54=\"\",\"\",SUMIFS(Deviation_w_Addon_OpLimit!$G$24:$G$5000,Deviation_w_Addon_OpLimit!$B$24:$B$5000,Deviation_w_Addon_OpLimSummary!$B54,Deviation_w_Addon_OpLimit!$C$24:$C$5000,Deviation_w_Addon_OpLimSummary!$C54,Deviation_w_Addon_OpLimit!$D$24:$D$5000,D54,Deviation_w_Addon_OpLimit!$H$24:$H$5000,\"Other Unknown Causes\"))","v":""}]
[null,null,null,null,null,"","",{"$f":"IF($C55=\"\",\"\",SUMIFS(Deviation_w_Addon_OpLimit!$G$24:$G$5000,Deviation_w_Addon_OpLimit!$B$24:$B$5000,Deviation_w_Addon_OpLimSummary!$B55,Deviation_w_Addon_OpLimit!$C$24:$C$5000,Deviation_w_Addon_OpLimSummary!$C55,Deviation_w_Addon_OpLimit!$D$24:$D$5000,D55,Deviation_w_Addon_OpLimit!$H$24:$H$5000,\"Control Equipment Problems\"))","v":""},{"$f":"IF($C55=\"\",\"\",SUMIFS(Deviation_w_Addon_OpLimit!$G$24:$G$5000,Deviation_w_Addon_OpLimit!$B$24:$B$5000,Deviation_w_Addon_OpLimSummary!$B55,Deviation_w_Addon_OpLimit!$C$24:$C$5000,Deviation_w_Addon_OpLimSummary!$C55,Deviation_w_Addon_OpLimit!$D$24:$D$5000,D55,Deviation_w_Addon_OpLimit!$H$24:$H$5000,\"Process Problems\"))","v":""},{"$f":"IF($C55=\"\",\"\",SUMIFS(Deviation_w_Addon_OpLimit!$G$24:$G$5000,Deviation_w_Addon_OpLimit!$B$24:$B$5000,Deviation_w_Addon_OpLimSummary!$B55,Deviation_w_Addon_OpLimit!$C$24:$C$5000,Deviation_w_Addon_OpLimSummary!$C55,Deviation_w_Addon_OpLimit!$D$24:$D$5000,D55,Deviation_w_Addon_OpLimit!$H$24:$H$5000,\"Other Known Problems\"))","v":""},{"$f":"IF($C55=\"\",\"\",SUMIFS(Deviation_w_Addon_OpLimit!$G$24:$G$5000,Deviation_w_Addon_OpLimit!$B$24:$B$5000,Deviation_w_Addon_OpLimSummary!$B55,Deviation_w_Addon_OpLimit!$C$24:$C$5000,Deviation_w_Addon_OpLimSummary!$C55,Deviation_w_Addon_OpLimit!$D$24:$D$5000,D55,Deviation_w_Addon_OpLimit!$H$24:$H$5000,\"Other Unknown Causes\"))","v":""}]
[null,null,null,null,null,"","",{"$f":"IF($C56=\"\",\"\",SUMIFS(Deviation_w_Addon_OpLimit!$G$24:$G$5000,Deviation_w_Addon_OpLimit!$B$24:$B$5000,Deviation_w_Addon_OpLimSummary!$B56,Deviation_w_Addon_OpLimit!$C$24:$C$5000,Deviation_w_Addon_OpLimSummary!$C56,Deviation_w_Addon_OpLimit!$D$24:$D$5000,D56,Deviation_w_Addon_OpLimit!$H$24:$H$5000,\"Control Equipment Problems\"))","v":""},{"$f":"IF($C56=\"\",\"\",SUMIFS(Deviation_w_Addon_OpLimit!$G$24:$G$5000,Deviation_w_Addon_OpLimit!$B$24:$B$5000,Deviation_w_Addon_OpLimSummary!$B56,Deviation_w_Addon_OpLimit!$C$24:$C$5000,Deviation_w_Addon_OpLimSummary!$C56,Deviation_w_Addon_OpLimit!$D$24:$D$5000,D56,Deviation_w_Addon_OpLimit!$H$24:$H$5000,\"Process Problems\"))","v":""},{"$f":"IF($C56=\"\",\"\",SUMIFS(Deviation_w_Addon_OpLimit!$G$24:$G$5000,Deviation_w_Addon_OpLimit!$B$24:$B$5000,Deviation_w_Addon_OpLimSummary!$B56,Deviation_w_Addon_OpLimit!$C$24:$C$5000,Deviation_w_Addon_OpLimSummary!$C56,Deviation_w_Addon_OpLimit!$D$24:$D$5000,D56,Deviation_w_Addon_OpLimit!$H$24:$H$5000,\"Other Known Problems\"))","v":""},{"$f":"IF($C56=\"\",\"\",SUMIFS(Deviation_w_Addon_OpLimit!$G$24:$G$5000,Deviation_w_Addon_OpLimit!$B$24:$B$5000,Deviation_w_Addon_OpLimSummary!$B56,Deviation_w_Addon_OpLimit!$C$24:$C$5000,Deviation_w_Addon_OpLimSummary!$C56,Deviation_w_Addon_OpLimit!$D$24:$D$5000,D56,Deviation_w_Addon_OpLimit!$H$24:$H$5000,\"Other Unknown Causes\"))","v":""}]
[null,null,null,null,null,"","",{"$f":"IF($C57=\"\",\"\",SUMIFS(Deviation_w_Addon_OpLimit!$G$24:$G$5000,Deviation_w_Addon_OpLimit!$B$24:$B$5000,Deviation_w_Addon_OpLimSummary!$B57,Deviation_w_Addon_OpLimit!$C$24:$C$5000,Deviation_w_Addon_OpLimSummary!$C57,Deviation_w_Addon_OpLimit!$D$24:$D$5000,D57,Deviation_w_Addon_OpLimit!$H$24:$H$5000,\"Control Equipment Problems\"))","v":""},{"$f":"IF($C57=\"\",\"\",SUMIFS(Deviation_w_Addon_OpLimit!$G$24:$G$5000,Deviation_w_Addon_OpLimit!$B$24:$B$5000,Deviation_w_Addon_OpLimSummary!$B57,Deviation_w_Addon_OpLimit!$C$24:$C$5000,Deviation_w_Addon_OpLimSummary!$C57,Deviation_w_Addon_OpLimit!$D$24:$D$5000,D57,Deviation_w_Addon_OpLimit!$H$24:$H$5000,\"Process Problems\"))","v":""},{"$f":"IF($C57=\"\",\"\",SUMIFS(Deviation_w_Addon_OpLimit!$G$24:$G$5000,Deviation_w_Addon_OpLimit!$B$24:$B$5000,Deviation_w_Addon_OpLimSummary!$B57,Deviation_w_Addon_OpLimit!$C$24:$C$5000,Deviation_w_Addon_OpLimSummary!$C57,Deviation_w_Addon_OpLimit!$D$24:$D$5000,D57,Deviation_w_Addon_OpLimit!$H$24:$H$5000,\"Other Known Problems\"))","v":""},{"$f":"IF($C57=\"\",\"\",SUMIFS(Deviation_w_Addon_OpLimit!$G$24:$G$5000,Deviation_w_Addon_OpLimit!$B$24:$B$5000,Deviation_w_Addon_OpLimSummary!$B57,Deviation_w_Addon_OpLimit!$C$24:$C$5000,Deviation_w_Addon_OpLimSummary!$C57,Deviation_w_Addon_OpLimit!$D$24:$D$5000,D57,Deviation_w_Addon_OpLimit!$H$24:$H$5000,\"Other Unknown Causes\"))","v":""}]
[null,null,null,null,null,"","",{"$f":"IF($C58=\"\",\"\",SUMIFS(Deviation_w_Addon_OpLimit!$G$24:$G$5000,Deviation_w_Addon_OpLimit!$B$24:$B$5000,Deviation_w_Addon_OpLimSummary!$B58,Deviation_w_Addon_OpLimit!$C$24:$C$5000,Deviation_w_Addon_OpLimSummary!$C58,Deviation_w_Addon_OpLimit!$D$24:$D$5000,D58,Deviation_w_Addon_OpLimit!$H$24:$H$5000,\"Control Equipment Problems\"))","v":""},{"$f":"IF($C58=\"\",\"\",SUMIFS(Deviation_w_Addon_OpLimit!$G$24:$G$5000,Deviation_w_Addon_OpLimit!$B$24:$B$5000,Deviation_w_Addon_OpLimSummary!$B58,Deviation_w_Addon_OpLimit!$C$24:$C$5000,Deviation_w_Addon_OpLimSummary!$C58,Deviation_w_Addon_OpLimit!$D$24:$D$5000,D58,Deviation_w_Addon_OpLimit!$H$24:$H$5000,\"Process Problems\"))","v":""},{"$f":"IF($C58=\"\",\"\",SUMIFS(Deviation_w_Addon_OpLimit!$G$24:$G$5000,Deviation_w_Addon_OpLimit!$B$24:$B$5000,Deviation_w_Addon_OpLimSummary!$B58,Deviation_w_Addon_OpLimit!$C$24:$C$5000,Deviation_w_Addon_OpLimSummary!$C58,Deviation_w_Addon_OpLimit!$D$24:$D$5000,D58,Deviation_w_Addon_OpLimit!$H$24:$H$5000,\"Other Known Problems\"))","v":""},{"$f":"IF($C58=\"\",\"\",SUMIFS(Deviation_w_Addon_OpLimit!$G$24:$G$5000,Deviation_w_Addon_OpLimit!$B$24:$B$5000,Deviation_w_Addon_OpLimSummary!$B58,Deviation_w_Addon_OpLimit!$C$24:$C$5000,Deviation_w_Addon_OpLimSummary!$C58,Deviation_w_Addon_OpLimit!$D$24:$D$5000,D58,Deviation_w_Addon_OpLimit!$H$24:$H$5000,\"Other Unknown Causes\"))","v":""}]
[null,null,null,null,null,"","",{"$f":"IF($C59=\"\",\"\",SUMIFS(Deviation_w_Addon_OpLimit!$G$24:$G$5000,Deviation_w_Addon_OpLimit!$B$24:$B$5000,Deviation_w_Addon_OpLimSummary!$B59,Deviation_w_Addon_OpLimit!$C$24:$C$5000,Deviation_w_Addon_OpLimSummary!$C59,Deviation_w_Addon_OpLimit!$D$24:$D$5000,D59,Deviation_w_Addon_OpLimit!$H$24:$H$5000,\"Control Equipment Problems\"))","v":""},{"$f":"IF($C59=\"\",\"\",SUMIFS(Deviation_w_Addon_OpLimit!$G$24:$G$5000,Deviation_w_Addon_OpLimit!$B$24:$B$5000,Deviation_w_Addon_OpLimSummary!$B59,Deviation_w_Addon_OpLimit!$C$24:$C$5000,Deviation_w_Addon_OpLimSummary!$C59,Deviation_w_Addon_OpLimit!$D$24:$D$5000,D59,Deviation_w_Addon_OpLimit!$H$24:$H$5000,\"Process Problems\"))","v":""},{"$f":"IF($C59=\"\",\"\",SUMIFS(Deviation_w_Addon_OpLimit!$G$24:$G$5000,Deviation_w_Addon_OpLimit!$B$24:$B$5000,Deviation_w_Addon_OpLimSummary!$B59,Deviation_w_Addon_OpLimit!$C$24:$C$5000,Deviation_w_Addon_OpLimSummary!$C59,Deviation_w_Addon_OpLimit!$D$24:$D$5000,D59,Deviation_w_Addon_OpLimit!$H$24:$H$5000,\"Other Known Problems\"))","v":""},{"$f":"IF($C59=\"\",\"\",SUMIFS(Deviation_w_Addon_OpLimit!$G$24:$G$5000,Deviation_w_Addon_OpLimit!$B$24:$B$5000,Deviation_w_Addon_OpLimSummary!$B59,Deviation_w_Addon_OpLimit!$C$24:$C$5000,Deviation_w_Addon_OpLimSummary!$C59,Deviation_w_Addon_OpLimit!$D$24:$D$5000,D59,Deviation_w_Addon_OpLimit!$H$24:$H$5000,\"Other Unknown Causes\"))","v":""}]
[null,null,null,null,null,"","",{"$f":"IF($C60=\"\",\"\",SUMIFS(Deviation_w_Addon_OpLimit!$G$24:$G$5000,Deviation_w_Addon_OpLimit!$B$24:$B$5000,Deviation_w_Addon_OpLimSummary!$B60,Deviation_w_Addon_OpLimit!$C$24:$C$5000,Deviation_w_Addon_OpLimSummary!$C60,Deviation_w_Addon_OpLimit!$D$24:$D$5000,D60,Deviation_w_Addon_OpLimit!$H$24:$H$5000,\"Control Equipment Problems\"))","v":""},{"$f":"IF($C60=\"\",\"\",SUMIFS(Deviation_w_Addon_OpLimit!$G$24:$G$5000,Deviation_w_Addon_OpLimit!$B$24:$B$5000,Deviation_w_Addon_OpLimSummary!$B60,Deviation_w_Addon_OpLimit!$C$24:$C$5000,Deviation_w_Addon_OpLimSummary!$C60,Deviation_w_Addon_OpLimit!$D$24:$D$5000,D60,Deviation_w_Addon_OpLimit!$H$24:$H$5000,\"Process Problems\"))","v":""},{"$f":"IF($C60=\"\",\"\",SUMIFS(Deviation_w_Addon_OpLimit!$G$24:$G$5000,Deviation_w_Addon_OpLimit!$B$24:$B$5000,Deviation_w_Addon_OpLimSummary!$B60,Deviation_w_Addon_OpLimit!$C$24:$C$5000,Deviation_w_Addon_OpLimSummary!$C60,Deviation_w_Addon_OpLimit!$D$24:$D$5000,D60,Deviation_w_Addon_OpLimit!$H$24:$H$5000,\"Other Known Problems\"))","v":""},{"$f":"IF($C60=\"\",\"\",SUMIFS(Deviation_w_Addon_OpLimit!$G$24:$G$5000,Deviation_w_Addon_OpLimit!$B$24:$B$5000,Deviation_w_Addon_OpLimSummary!$B60,Deviation_w_Addon_OpLimit!$C$24:$C$5000,Deviation_w_Addon_OpLimSummary!$C60,Deviation_w_Addon_OpLimit!$D$24:$D$5000,D60,Deviation_w_Addon_OpLimit!$H$24:$H$5000,\"Other Unknown Causes\"))","v":""}]
[null,null,null,null,null,"","",{"$f":"IF($C61=\"\",\"\",SUMIFS(Deviation_w_Addon_OpLimit!$G$24:$G$5000,Deviation_w_Addon_OpLimit!$B$24:$B$5000,Deviation_w_Addon_OpLimSummary!$B61,Deviation_w_Addon_OpLimit!$C$24:$C$5000,Deviation_w_Addon_OpLimSummary!$C61,Deviation_w_Addon_OpLimit!$D$24:$D$5000,D61,Deviation_w_Addon_OpLimit!$H$24:$H$5000,\"Control Equipment Problems\"))","v":""},{"$f":"IF($C61=\"\",\"\",SUMIFS(Deviation_w_Addon_OpLimit!$G$24:$G$5000,Deviation_w_Addon_OpLimit!$B$24:$B$5000,Deviation_w_Addon_OpLimSummary!$B61,Deviation_w_Addon_OpLimit!$C$24:$C$5000,Deviation_w_Addon_OpLimSummary!$C61,Deviation_w_Addon_OpLimit!$D$24:$D$5000,D61,Deviation_w_Addon_OpLimit!$H$24:$H$5000,\"Process Problems\"))","v":""},{"$f":"IF($C61=\"\",\"\",SUMIFS(Deviation_w_Addon_OpLimit!$G$24:$G$5000,Deviation_w_Addon_OpLimit!$B$24:$B$5000,Deviation_w_Addon_OpLimSummary!$B61,Deviation_w_Addon_OpLimit!$C$24:$C$5000,Deviation_w_Addon_OpLimSummary!$C61,Deviation_w_Addon_OpLimit!$D$24:$D$5000,D61,Deviation_w_Addon_OpLimit!$H$24:$H$5000,\"Other Known Problems\"))","v":""},{"$f":"IF($C61=\"\",\"\",SUMIFS(Deviation_w_Addon_OpLimit!$G$24:$G$5000,Deviation_w_Addon_OpLimit!$B$24:$B$5000,Deviation_w_Addon_OpLimSummary!$B61,Deviation_w_Addon_OpLimit!$C$24:$C$5000,Deviation_w_Addon_OpLimSummary!$C61,Deviation_w_Addon_OpLimit!$D$24:$D$5000,D61,Deviation_w_Addon_OpLimit!$H$24:$H$5000,\"Other Unknown Causes\"))","v":""}]
[null,null,null,null,null,"","",{"$f":"IF($C62=\"\",\"\",SUMIFS(Deviation_w_Addon_OpLimit!$G$24:$G$5000,Deviation_w_Addon_OpLimit!$B$24:$B$5000,Deviation_w_Addon_OpLimSummary!$B62,Deviation_w_Addon_OpLimit!$C$24:$C$5000,Deviation_w_Addon_OpLimSummary!$C62,Deviation_w_Addon_OpLimit!$D$24:$D$5000,D62,Deviation_w_Addon_OpLimit!$H$24:$H$5000,\"Control Equipment Problems\"))","v":""},{"$f":"IF($C62=\"\",\"\",SUMIFS(Deviation_w_Addon_OpLimit!$G$24:$G$5000,Deviation_w_Addon_OpLimit!$B$24:$B$5000,Deviation_w_Addon_OpLimSummary!$B62,Deviation_w_Addon_OpLimit!$C$24:$C$5000,Deviation_w_Addon_OpLimSummary!$C62,Deviation_w_Addon_OpLimit!$D$24:$D$5000,D62,Deviation_w_Addon_OpLimit!$H$24:$H$5000,\"Process Problems\"))","v":""},{"$f":"IF($C62=\"\",\"\",SUMIFS(Deviation_w_Addon_OpLimit!$G$24:$G$5000,Deviation_w_Addon_OpLimit!$B$24:$B$5000,Deviation_w_Addon_OpLimSummary!$B62,Deviation_w_Addon_OpLimit!$C$24:$C$5000,Deviation_w_Addon_OpLimSummary!$C62,Deviation_w_Addon_OpLimit!$D$24:$D$5000,D62,Deviation_w_Addon_OpLimit!$H$24:$H$5000,\"Other Known Problems\"))","v":""},{"$f":"IF($C62=\"\",\"\",SUMIFS(Deviation_w_Addon_OpLimit!$G$24:$G$5000,Deviation_w_Addon_OpLimit!$B$24:$B$5000,Deviation_w_Addon_OpLimSummary!$B62,Deviation_w_Addon_OpLimit!$C$24:$C$5000,Deviation_w_Addon_OpLimSummary!$C62,Deviation_w_Addon_OpLimit!$D$24:$D$5000,D62,Deviation_w_Addon_OpLimit!$H$24:$H$5000,\"Other Unknown Causes\"))","v":""}]
[null,null,null,null,null,"","",{"$f":"IF($C63=\"\",\"\",SUMIFS(Deviation_w_Addon_OpLimit!$G$24:$G$5000,Deviation_w_Addon_OpLimit!$B$24:$B$5000,Deviation_w_Addon_OpLimSummary!$B63,Deviation_w_Addon_OpLimit!$C$24:$C$5000,Deviation_w_Addon_OpLimSummary!$C63,Deviation_w_Addon_OpLimit!$D$24:$D$5000,D63,Deviation_w_Addon_OpLimit!$H$24:$H$5000,\"Control Equipment Problems\"))","v":""},{"$f":"IF($C63=\"\",\"\",SUMIFS(Deviation_w_Addon_OpLimit!$G$24:$G$5000,Deviation_w_Addon_OpLimit!$B$24:$B$5000,Deviation_w_Addon_OpLimSummary!$B63,Deviation_w_Addon_OpLimit!$C$24:$C$5000,Deviation_w_Addon_OpLimSummary!$C63,Deviation_w_Addon_OpLimit!$D$24:$D$5000,D63,Deviation_w_Addon_OpLimit!$H$24:$H$5000,\"Process Problems\"))","v":""},{"$f":"IF($C63=\"\",\"\",SUMIFS(Deviation_w_Addon_OpLimit!$G$24:$G$5000,Deviation_w_Addon_OpLimit!$B$24:$B$5000,Deviation_w_Addon_OpLimSummary!$B63,Deviation_w_Addon_OpLimit!$C$24:$C$5000,Deviation_w_Addon_OpLimSummary!$C63,Deviation_w_Addon_OpLimit!$D$24:$D$5000,D63,Deviation_w_Addon_OpLimit!$H$24:$H$5000,\"Other Known Problems\"))","v":""},{"$f":"IF($C63=\"\",\"\",SUMIFS(Deviation_w_Addon_OpLimit!$G$24:$G$5000,Deviation_w_Addon_OpLimit!$B$24:$B$5000,Deviation_w_Addon_OpLimSummary!$B63,Deviation_w_Addon_OpLimit!$C$24:$C$5000,Deviation_w_Addon_OpLimSummary!$C63,Deviation_w_Addon_OpLimit!$D$24:$D$5000,D63,Deviation_w_Addon_OpLimit!$H$24:$H$5000,\"Other Unknown Causes\"))","v":""}]
[null,null,null,null,null,"","",{"$f":"IF($C64=\"\",\"\",SUMIFS(Deviation_w_Addon_OpLimit!$G$24:$G$5000,Deviation_w_Addon_OpLimit!$B$24:$B$5000,Deviation_w_Addon_OpLimSummary!$B64,Deviation_w_Addon_OpLimit!$C$24:$C$5000,Deviation_w_Addon_OpLimSummary!$C64,Deviation_w_Addon_OpLimit!$D$24:$D$5000,D64,Deviation_w_Addon_OpLimit!$H$24:$H$5000,\"Control Equipment Problems\"))","v":""},{"$f":"IF($C64=\"\",\"\",SUMIFS(Deviation_w_Addon_OpLimit!$G$24:$G$5000,Deviation_w_Addon_OpLimit!$B$24:$B$5000,Deviation_w_Addon_OpLimSummary!$B64,Deviation_w_Addon_OpLimit!$C$24:$C$5000,Deviation_w_Addon_OpLimSummary!$C64,Deviation_w_Addon_OpLimit!$D$24:$D$5000,D64,Deviation_w_Addon_OpLimit!$H$24:$H$5000,\"Process Problems\"))","v":""},{"$f":"IF($C64=\"\",\"\",SUMIFS(Deviation_w_Addon_OpLimit!$G$24:$G$5000,Deviation_w_Addon_OpLimit!$B$24:$B$5000,Deviation_w_Addon_OpLimSummary!$B64,Deviation_w_Addon_OpLimit!$C$24:$C$5000,Deviation_w_Addon_OpLimSummary!$C64,Deviation_w_Addon_OpLimit!$D$24:$D$5000,D64,Deviation_w_Addon_OpLimit!$H$24:$H$5000,\"Other Known Problems\"))","v":""},{"$f":"IF($C64=\"\",\"\",SUMIFS(Deviation_w_Addon_OpLimit!$G$24:$G$5000,Deviation_w_Addon_OpLimit!$B$24:$B$5000,Deviation_w_Addon_OpLimSummary!$B64,Deviation_w_Addon_OpLimit!$C$24:$C$5000,Deviation_w_Addon_OpLimSummary!$C64,Deviation_w_Addon_OpLimit!$D$24:$D$5000,D64,Deviation_w_Addon_OpLimit!$H$24:$H$5000,\"Other Unknown Causes\"))","v":""}]
[null,null,null,null,null,"","",{"$f":"IF($C65=\"\",\"\",SUMIFS(Deviation_w_Addon_OpLimit!$G$24:$G$5000,Deviation_w_Addon_OpLimit!$B$24:$B$5000,Deviation_w_Addon_OpLimSummary!$B65,Deviation_w_Addon_OpLimit!$C$24:$C$5000,Deviation_w_Addon_OpLimSummary!$C65,Deviation_w_Addon_OpLimit!$D$24:$D$5000,D65,Deviation_w_Addon_OpLimit!$H$24:$H$5000,\"Control Equipment Problems\"))","v":""},{"$f":"IF($C65=\"\",\"\",SUMIFS(Deviation_w_Addon_OpLimit!$G$24:$G$5000,Deviation_w_Addon_OpLimit!$B$24:$B$5000,Deviation_w_Addon_OpLimSummary!$B65,Deviation_w_Addon_OpLimit!$C$24:$C$5000,Deviation_w_Addon_OpLimSummary!$C65,Deviation_w_Addon_OpLimit!$D$24:$D$5000,D65,Deviation_w_Addon_OpLimit!$H$24:$H$5000,\"Process Problems\"))","v":""},{"$f":"IF($C65=\"\",\"\",SUMIFS(Deviation_w_Addon_OpLimit!$G$24:$G$5000,Deviation_w_Addon_OpLimit!$B$24:$B$5000,Deviation_w_Addon_OpLimSummary!$B65,Deviation_w_Addon_OpLimit!$C$24:$C$5000,Deviation_w_Addon_OpLimSummary!$C65,Deviation_w_Addon_OpLimit!$D$24:$D$5000,D65,Deviation_w_Addon_OpLimit!$H$24:$H$5000,\"Other Known Problems\"))","v":""},{"$f":"IF($C65=\"\",\"\",SUMIFS(Deviation_w_Addon_OpLimit!$G$24:$G$5000,Deviation_w_Addon_OpLimit!$B$24:$B$5000,Deviation_w_Addon_OpLimSummary!$B65,Deviation_w_Addon_OpLimit!$C$24:$C$5000,Deviation_w_Addon_OpLimSummary!$C65,Deviation_w_Addon_OpLimit!$D$24:$D$5000,D65,Deviation_w_Addon_OpLimit!$H$24:$H$5000,\"Other Unknown Causes\"))","v":""}]
[null,null,null,null,null,"","",{"$f":"IF($C66=\"\",\"\",SUMIFS(Deviation_w_Addon_OpLimit!$G$24:$G$5000,Deviation_w_Addon_OpLimit!$B$24:$B$5000,Deviation_w_Addon_OpLimSummary!$B66,Deviation_w_Addon_OpLimit!$C$24:$C$5000,Deviation_w_Addon_OpLimSummary!$C66,Deviation_w_Addon_OpLimit!$D$24:$D$5000,D66,Deviation_w_Addon_OpLimit!$H$24:$H$5000,\"Control Equipment Problems\"))","v":""},{"$f":"IF($C66=\"\",\"\",SUMIFS(Deviation_w_Addon_OpLimit!$G$24:$G$5000,Deviation_w_Addon_OpLimit!$B$24:$B$5000,Deviation_w_Addon_OpLimSummary!$B66,Deviation_w_Addon_OpLimit!$C$24:$C$5000,Deviation_w_Addon_OpLimSummary!$C66,Deviation_w_Addon_OpLimit!$D$24:$D$5000,D66,Deviation_w_Addon_OpLimit!$H$24:$H$5000,\"Process Problems\"))","v":""},{"$f":"IF($C66=\"\",\"\",SUMIFS(Deviation_w_Addon_OpLimit!$G$24:$G$5000,Deviation_w_Addon_OpLimit!$B$24:$B$5000,Deviation_w_Addon_OpLimSummary!$B66,Deviation_w_Addon_OpLimit!$C$24:$C$5000,Deviation_w_Addon_OpLimSummary!$C66,Deviation_w_Addon_OpLimit!$D$24:$D$5000,D66,Deviation_w_Addon_OpLimit!$H$24:$H$5000,\"Other Known Problems\"))","v":""},{"$f":"IF($C66=\"\",\"\",SUMIFS(Deviation_w_Addon_OpLimit!$G$24:$G$5000,Deviation_w_Addon_OpLimit!$B$24:$B$5000,Deviation_w_Addon_OpLimSummary!$B66,Deviation_w_Addon_OpLimit!$C$24:$C$5000,Deviation_w_Addon_OpLimSummary!$C66,Deviation_w_Addon_OpLimit!$D$24:$D$5000,D66,Deviation_w_Addon_OpLimit!$H$24:$H$5000,\"Other Unknown Causes\"))","v":""}]
[null,null,null,null,null,"","",{"$f":"IF($C67=\"\",\"\",SUMIFS(Deviation_w_Addon_OpLimit!$G$24:$G$5000,Deviation_w_Addon_OpLimit!$B$24:$B$5000,Deviation_w_Addon_OpLimSummary!$B67,Deviation_w_Addon_OpLimit!$C$24:$C$5000,Deviation_w_Addon_OpLimSummary!$C67,Deviation_w_Addon_OpLimit!$D$24:$D$5000,D67,Deviation_w_Addon_OpLimit!$H$24:$H$5000,\"Control Equipment Problems\"))","v":""},{"$f":"IF($C67=\"\",\"\",SUMIFS(Deviation_w_Addon_OpLimit!$G$24:$G$5000,Deviation_w_Addon_OpLimit!$B$24:$B$5000,Deviation_w_Addon_OpLimSummary!$B67,Deviation_w_Addon_OpLimit!$C$24:$C$5000,Deviation_w_Addon_OpLimSummary!$C67,Deviation_w_Addon_OpLimit!$D$24:$D$5000,D67,Deviation_w_Addon_OpLimit!$H$24:$H$5000,\"Process Problems\"))","v":""},{"$f":"IF($C67=\"\",\"\",SUMIFS(Deviation_w_Addon_OpLimit!$G$24:$G$5000,Deviation_w_Addon_OpLimit!$B$24:$B$5000,Deviation_w_Addon_OpLimSummary!$B67,Deviation_w_Addon_OpLimit!$C$24:$C$5000,Deviation_w_Addon_OpLimSummary!$C67,Deviation_w_Addon_OpLimit!$D$24:$D$5000,D67,Deviation_w_Addon_OpLimit!$H$24:$H$5000,\"Other Known Problems\"))","v":""},{"$f":"IF($C67=\"\",\"\",SUMIFS(Deviation_w_Addon_OpLimit!$G$24:$G$5000,Deviation_w_Addon_OpLimit!$B$24:$B$5000,Deviation_w_Addon_OpLimSummary!$B67,Deviation_w_Addon_OpLimit!$C$24:$C$5000,Deviation_w_Addon_OpLimSummary!$C67,Deviation_w_Addon_OpLimit!$D$24:$D$5000,D67,Deviation_w_Addon_OpLimit!$H$24:$H$5000,\"Other Unknown Causes\"))","v":""}]
[null,null,null,null,null,"","",{"$f":"IF($C68=\"\",\"\",SUMIFS(Deviation_w_Addon_OpLimit!$G$24:$G$5000,Deviation_w_Addon_OpLimit!$B$24:$B$5000,Deviation_w_Addon_OpLimSummary!$B68,Deviation_w_Addon_OpLimit!$C$24:$C$5000,Deviation_w_Addon_OpLimSummary!$C68,Deviation_w_Addon_OpLimit!$D$24:$D$5000,D68,Deviation_w_Addon_OpLimit!$H$24:$H$5000,\"Control Equipment Problems\"))","v":""},{"$f":"IF($C68=\"\",\"\",SUMIFS(Deviation_w_Addon_OpLimit!$G$24:$G$5000,Deviation_w_Addon_OpLimit!$B$24:$B$5000,Deviation_w_Addon_OpLimSummary!$B68,Deviation_w_Addon_OpLimit!$C$24:$C$5000,Deviation_w_Addon_OpLimSummary!$C68,Deviation_w_Addon_OpLimit!$D$24:$D$5000,D68,Deviation_w_Addon_OpLimit!$H$24:$H$5000,\"Process Problems\"))","v":""},{"$f":"IF($C68=\"\",\"\",SUMIFS(Deviation_w_Addon_OpLimit!$G$24:$G$5000,Deviation_w_Addon_OpLimit!$B$24:$B$5000,Deviation_w_Addon_OpLimSummary!$B68,Deviation_w_Addon_OpLimit!$C$24:$C$5000,Deviation_w_Addon_OpLimSummary!$C68,Deviation_w_Addon_OpLimit!$D$24:$D$5000,D68,Deviation_w_Addon_OpLimit!$H$24:$H$5000,\"Other Known Problems\"))","v":""},{"$f":"IF($C68=\"\",\"\",SUMIFS(Deviation_w_Addon_OpLimit!$G$24:$G$5000,Deviation_w_Addon_OpLimit!$B$24:$B$5000,Deviation_w_Addon_OpLimSummary!$B68,Deviation_w_Addon_OpLimit!$C$24:$C$5000,Deviation_w_Addon_OpLimSummary!$C68,Deviation_w_Addon_OpLimit!$D$24:$D$5000,D68,Deviation_w_Addon_OpLimit!$H$24:$H$5000,\"Other Unknown Causes\"))","v":""}]
[null,null,null,null,null,"","",{"$f":"IF($C69=\"\",\"\",SUMIFS(Deviation_w_Addon_OpLimit!$G$24:$G$5000,Deviation_w_Addon_OpLimit!$B$24:$B$5000,Deviation_w_Addon_OpLimSummary!$B69,Deviation_w_Addon_OpLimit!$C$24:$C$5000,Deviation_w_Addon_OpLimSummary!$C69,Deviation_w_Addon_OpLimit!$D$24:$D$5000,D69,Deviation_w_Addon_OpLimit!$H$24:$H$5000,\"Control Equipment Problems\"))","v":""},{"$f":"IF($C69=\"\",\"\",SUMIFS(Deviation_w_Addon_OpLimit!$G$24:$G$5000,Deviation_w_Addon_OpLimit!$B$24:$B$5000,Deviation_w_Addon_OpLimSummary!$B69,Deviation_w_Addon_OpLimit!$C$24:$C$5000,Deviation_w_Addon_OpLimSummary!$C69,Deviation_w_Addon_OpLimit!$D$24:$D$5000,D69,Deviation_w_Addon_OpLimit!$H$24:$H$5000,\"Process Problems\"))","v":""},{"$f":"IF($C69=\"\",\"\",SUMIFS(Deviation_w_Addon_OpLimit!$G$24:$G$5000,Deviation_w_Addon_OpLimit!$B$24:$B$5000,Deviation_w_Addon_OpLimSummary!$B69,Deviation_w_Addon_OpLimit!$C$24:$C$5000,Deviation_w_Addon_OpLimSummary!$C69,Deviation_w_Addon_OpLimit!$D$24:$D$5000,D69,Deviation_w_Addon_OpLimit!$H$24:$H$5000,\"Other Known Problems\"))","v":""},{"$f":"IF($C69=\"\",\"\",SUMIFS(Deviation_w_Addon_OpLimit!$G$24:$G$5000,Deviation_w_Addon_OpLimit!$B$24:$B$5000,Deviation_w_Addon_OpLimSummary!$B69,Deviation_w_Addon_OpLimit!$C$24:$C$5000,Deviation_w_Addon_OpLimSummary!$C69,Deviation_w_Addon_OpLimit!$D$24:$D$5000,D69,Deviation_w_Addon_OpLimit!$H$24:$H$5000,\"Other Unknown Causes\"))","v":""}]
[null,null,null,null,null,"","",{"$f":"IF($C70=\"\",\"\",SUMIFS(Deviation_w_Addon_OpLimit!$G$24:$G$5000,Deviation_w_Addon_OpLimit!$B$24:$B$5000,Deviation_w_Addon_OpLimSummary!$B70,Deviation_w_Addon_OpLimit!$C$24:$C$5000,Deviation_w_Addon_OpLimSummary!$C70,Deviation_w_Addon_OpLimit!$D$24:$D$5000,D70,Deviation_w_Addon_OpLimit!$H$24:$H$5000,\"Control Equipment Problems\"))","v":""},{"$f":"IF($C70=\"\",\"\",SUMIFS(Deviation_w_Addon_OpLimit!$G$24:$G$5000,Deviation_w_Addon_OpLimit!$B$24:$B$5000,Deviation_w_Addon_OpLimSummary!$B70,Deviation_w_Addon_OpLimit!$C$24:$C$5000,Deviation_w_Addon_OpLimSummary!$C70,Deviation_w_Addon_OpLimit!$D$24:$D$5000,D70,Deviation_w_Addon_OpLimit!$H$24:$H$5000,\"Process Problems\"))","v":""},{"$f":"IF($C70=\"\",\"\",SUMIFS(Deviation_w_Addon_OpLimit!$G$24:$G$5000,Deviation_w_Addon_OpLimit!$B$24:$B$5000,Deviation_w_Addon_OpLimSummary!$B70,Deviation_w_Addon_OpLimit!$C$24:$C$5000,Deviation_w_Addon_OpLimSummary!$C70,Deviation_w_Addon_OpLimit!$D$24:$D$5000,D70,Deviation_w_Addon_OpLimit!$H$24:$H$5000,\"Other Known Problems\"))","v":""},{"$f":"IF($C70=\"\",\"\",SUMIFS(Deviation_w_Addon_OpLimit!$G$24:$G$5000,Deviation_w_Addon_OpLimit!$B$24:$B$5000,Deviation_w_Addon_OpLimSummary!$B70,Deviation_w_Addon_OpLimit!$C$24:$C$5000,Deviation_w_Addon_OpLimSummary!$C70,Deviation_w_Addon_OpLimit!$D$24:$D$5000,D70,Deviation_w_Addon_OpLimit!$H$24:$H$5000,\"Other Unknown Causes\"))","v":""}]
[null,null,null,null,null,"","",{"$f":"IF($C71=\"\",\"\",SUMIFS(Deviation_w_Addon_OpLimit!$G$24:$G$5000,Deviation_w_Addon_OpLimit!$B$24:$B$5000,Deviation_w_Addon_OpLimSummary!$B71,Deviation_w_Addon_OpLimit!$C$24:$C$5000,Deviation_w_Addon_OpLimSummary!$C71,Deviation_w_Addon_OpLimit!$D$24:$D$5000,D71,Deviation_w_Addon_OpLimit!$H$24:$H$5000,\"Control Equipment Problems\"))","v":""},{"$f":"IF($C71=\"\",\"\",SUMIFS(Deviation_w_Addon_OpLimit!$G$24:$G$5000,Deviation_w_Addon_OpLimit!$B$24:$B$5000,Deviation_w_Addon_OpLimSummary!$B71,Deviation_w_Addon_OpLimit!$C$24:$C$5000,Deviation_w_Addon_OpLimSummary!$C71,Deviation_w_Addon_OpLimit!$D$24:$D$5000,D71,Deviation_w_Addon_OpLimit!$H$24:$H$5000,\"Process Problems\"))","v":""},{"$f":"IF($C71=\"\",\"\",SUMIFS(Deviation_w_Addon_OpLimit!$G$24:$G$5000,Deviation_w_Addon_OpLimit!$B$24:$B$5000,Deviation_w_Addon_OpLimSummary!$B71,Deviation_w_Addon_OpLimit!$C$24:$C$5000,Deviation_w_Addon_OpLimSummary!$C71,Deviation_w_Addon_OpLimit!$D$24:$D$5000,D71,Deviation_w_Addon_OpLimit!$H$24:$H$5000,\"Other Known Problems\"))","v":""},{"$f":"IF($C71=\"\",\"\",SUMIFS(Deviation_w_Addon_OpLimit!$G$24:$G$5000,Deviation_w_Addon_OpLimit!$B$24:$B$5000,Deviation_w_Addon_OpLimSummary!$B71,Deviation_w_Addon_OpLimit!$C$24:$C$5000,Deviation_w_Addon_OpLimSummary!$C71,Deviation_w_Addon_OpLimit!$D$24:$D$5000,D71,Deviation_w_Addon_OpLimit!$H$24:$H$5000,\"Other Unknown Causes\"))","v":""}]
[null,null,null,null,null,"","",{"$f":"IF($C72=\"\",\"\",SUMIFS(Deviation_w_Addon_OpLimit!$G$24:$G$5000,Deviation_w_Addon_OpLimit!$B$24:$B$5000,Deviation_w_Addon_OpLimSummary!$B72,Deviation_w_Addon_OpLimit!$C$24:$C$5000,Deviation_w_Addon_OpLimSummary!$C72,Deviation_w_Addon_OpLimit!$D$24:$D$5000,D72,Deviation_w_Addon_OpLimit!$H$24:$H$5000,\"Control Equipment Problems\"))","v":""},{"$f":"IF($C72=\"\",\"\",SUMIFS(Deviation_w_Addon_OpLimit!$G$24:$G$5000,Deviation_w_Addon_OpLimit!$B$24:$B$5000,Deviation_w_Addon_OpLimSummary!$B72,Deviation_w_Addon_OpLimit!$C$24:$C$5000,Deviation_w_Addon_OpLimSummary!$C72,Deviation_w_Addon_OpLimit!$D$24:$D$5000,D72,Deviation_w_Addon_OpLimit!$H$24:$H$5000,\"Process Problems\"))","v":""},{"$f":"IF($C72=\"\",\"\",SUMIFS(Deviation_w_Addon_OpLimit!$G$24:$G$5000,Deviation_w_Addon_OpLimit!$B$24:$B$5000,Deviation_w_Addon_OpLimSummary!$B72,Deviation_w_Addon_OpLimit!$C$24:$C$5000,Deviation_w_Addon_OpLimSummary!$C72,Deviation_w_Addon_OpLimit!$D$24:$D$5000,D72,Deviation_w_Addon_OpLimit!$H$24:$H$5000,\"Other Known Problems\"))","v":""},{"$f":"IF($C72=\"\",\"\",SUMIFS(Deviation_w_Addon_OpLimit!$G$24:$G$5000,Deviation_w_Addon_OpLimit!$B$24:$B$5000,Deviation_w_Addon_OpLimSummary!$B72,Deviation_w_Addon_OpLimit!$C$24:$C$5000,Deviation_w_Addon_OpLimSummary!$C72,Deviation_w_Addon_OpLimit!$D$24:$D$5000,D72,Deviation_w_Addon_OpLimit!$H$24:$H$5000,\"Other Unknown Causes\"))","v":""}]
[null,null,null,null,null,"","",{"$f":"IF($C73=\"\",\"\",SUMIFS(Deviation_w_Addon_OpLimit!$G$24:$G$5000,Deviation_w_Addon_OpLimit!$B$24:$B$5000,Deviation_w_Addon_OpLimSummary!$B73,Deviation_w_Addon_OpLimit!$C$24:$C$5000,Deviation_w_Addon_OpLimSummary!$C73,Deviation_w_Addon_OpLimit!$D$24:$D$5000,D73,Deviation_w_Addon_OpLimit!$H$24:$H$5000,\"Control Equipment Problems\"))","v":""},{"$f":"IF($C73=\"\",\"\",SUMIFS(Deviation_w_Addon_OpLimit!$G$24:$G$5000,Deviation_w_Addon_OpLimit!$B$24:$B$5000,Deviation_w_Addon_OpLimSummary!$B73,Deviation_w_Addon_OpLimit!$C$24:$C$5000,Deviation_w_Addon_OpLimSummary!$C73,Deviation_w_Addon_OpLimit!$D$24:$D$5000,D73,Deviation_w_Addon_OpLimit!$H$24:$H$5000,\"Process Problems\"))","v":""},{"$f":"IF($C73=\"\",\"\",SUMIFS(Deviation_w_Addon_OpLimit!$G$24:$G$5000,Deviation_w_Addon_OpLimit!$B$24:$B$5000,Deviation_w_Addon_OpLimSummary!$B73,Deviation_w_Addon_OpLimit!$C$24:$C$5000,Deviation_w_Addon_OpLimSummary!$C73,Deviation_w_Addon_OpLimit!$D$24:$D$5000,D73,Deviation_w_Addon_OpLimit!$H$24:$H$5000,\"Other Known Problems\"))","v":""},{"$f":"IF($C73=\"\",\"\",SUMIFS(Deviation_w_Addon_OpLimit!$G$24:$G$5000,Deviation_w_Addon_OpLimit!$B$24:$B$5000,Deviation_w_Addon_OpLimSummary!$B73,Deviation_w_Addon_OpLimit!$C$24:$C$5000,Deviation_w_Addon_OpLimSummary!$C73,Deviation_w_Addon_OpLimit!$D$24:$D$5000,D73,Deviation_w_Addon_OpLimit!$H$24:$H$5000,\"Other Unknown Causes\"))","v":""}]
[null,null,null,null,null,"","",{"$f":"IF($C74=\"\",\"\",SUMIFS(Deviation_w_Addon_OpLimit!$G$24:$G$5000,Deviation_w_Addon_OpLimit!$B$24:$B$5000,Deviation_w_Addon_OpLimSummary!$B74,Deviation_w_Addon_OpLimit!$C$24:$C$5000,Deviation_w_Addon_OpLimSummary!$C74,Deviation_w_Addon_OpLimit!$D$24:$D$5000,D74,Deviation_w_Addon_OpLimit!$H$24:$H$5000,\"Control Equipment Problems\"))","v":""},{"$f":"IF($C74=\"\",\"\",SUMIFS(Deviation_w_Addon_OpLimit!$G$24:$G$5000,Deviation_w_Addon_OpLimit!$B$24:$B$5000,Deviation_w_Addon_OpLimSummary!$B74,Deviation_w_Addon_OpLimit!$C$24:$C$5000,Deviation_w_Addon_OpLimSummary!$C74,Deviation_w_Addon_OpLimit!$D$24:$D$5000,D74,Deviation_w_Addon_OpLimit!$H$24:$H$5000,\"Process Problems\"))","v":""},{"$f":"IF($C74=\"\",\"\",SUMIFS(Deviation_w_Addon_OpLimit!$G$24:$G$5000,Deviation_w_Addon_OpLimit!$B$24:$B$5000,Deviation_w_Addon_OpLimSummary!$B74,Deviation_w_Addon_OpLimit!$C$24:$C$5000,Deviation_w_Addon_OpLimSummary!$C74,Deviation_w_Addon_OpLimit!$D$24:$D$5000,D74,Deviation_w_Addon_OpLimit!$H$24:$H$5000,\"Other Known Problems\"))","v":""},{"$f":"IF($C74=\"\",\"\",SUMIFS(Deviation_w_Addon_OpLimit!$G$24:$G$5000,Deviation_w_Addon_OpLimit!$B$24:$B$5000,Deviation_w_Addon_OpLimSummary!$B74,Deviation_w_Addon_OpLimit!$C$24:$C$5000,Deviation_w_Addon_OpLimSummary!$C74,Deviation_w_Addon_OpLimit!$D$24:$D$5000,D74,Deviation_w_Addon_OpLimit!$H$24:$H$5000,\"Other Unknown Causes\"))","v":""}]
[null,null,null,null,null,"","",{"$f":"IF($C75=\"\",\"\",SUMIFS(Deviation_w_Addon_OpLimit!$G$24:$G$5000,Deviation_w_Addon_OpLimit!$B$24:$B$5000,Deviation_w_Addon_OpLimSummary!$B75,Deviation_w_Addon_OpLimit!$C$24:$C$5000,Deviation_w_Addon_OpLimSummary!$C75,Deviation_w_Addon_OpLimit!$D$24:$D$5000,D75,Deviation_w_Addon_OpLimit!$H$24:$H$5000,\"Control Equipment Problems\"))","v":""},{"$f":"IF($C75=\"\",\"\",SUMIFS(Deviation_w_Addon_OpLimit!$G$24:$G$5000,Deviation_w_Addon_OpLimit!$B$24:$B$5000,Deviation_w_Addon_OpLimSummary!$B75,Deviation_w_Addon_OpLimit!$C$24:$C$5000,Deviation_w_Addon_OpLimSummary!$C75,Deviation_w_Addon_OpLimit!$D$24:$D$5000,D75,Deviation_w_Addon_OpLimit!$H$24:$H$5000,\"Process Problems\"))","v":""},{"$f":"IF($C75=\"\",\"\",SUMIFS(Deviation_w_Addon_OpLimit!$G$24:$G$5000,Deviation_w_Addon_OpLimit!$B$24:$B$5000,Deviation_w_Addon_OpLimSummary!$B75,Deviation_w_Addon_OpLimit!$C$24:$C$5000,Deviation_w_Addon_OpLimSummary!$C75,Deviation_w_Addon_OpLimit!$D$24:$D$5000,D75,Deviation_w_Addon_OpLimit!$H$24:$H$5000,\"Other Known Problems\"))","v":""},{"$f":"IF($C75=\"\",\"\",SUMIFS(Deviation_w_Addon_OpLimit!$G$24:$G$5000,Deviation_w_Addon_OpLimit!$B$24:$B$5000,Deviation_w_Addon_OpLimSummary!$B75,Deviation_w_Addon_OpLimit!$C$24:$C$5000,Deviation_w_Addon_OpLimSummary!$C75,Deviation_w_Addon_OpLimit!$D$24:$D$5000,D75,Deviation_w_Addon_OpLimit!$H$24:$H$5000,\"Other Unknown Causes\"))","v":""}]
[null,null,null,null,null,"","",{"$f":"IF($C76=\"\",\"\",SUMIFS(Deviation_w_Addon_OpLimit!$G$24:$G$5000,Deviation_w_Addon_OpLimit!$B$24:$B$5000,Deviation_w_Addon_OpLimSummary!$B76,Deviation_w_Addon_OpLimit!$C$24:$C$5000,Deviation_w_Addon_OpLimSummary!$C76,Deviation_w_Addon_OpLimit!$D$24:$D$5000,D76,Deviation_w_Addon_OpLimit!$H$24:$H$5000,\"Control Equipment Problems\"))","v":""},{"$f":"IF($C76=\"\",\"\",SUMIFS(Deviation_w_Addon_OpLimit!$G$24:$G$5000,Deviation_w_Addon_OpLimit!$B$24:$B$5000,Deviation_w_Addon_OpLimSummary!$B76,Deviation_w_Addon_OpLimit!$C$24:$C$5000,Deviation_w_Addon_OpLimSummary!$C76,Deviation_w_Addon_OpLimit!$D$24:$D$5000,D76,Deviation_w_Addon_OpLimit!$H$24:$H$5000,\"Process Problems\"))","v":""},{"$f":"IF($C76=\"\",\"\",SUMIFS(Deviation_w_Addon_OpLimit!$G$24:$G$5000,Deviation_w_Addon_OpLimit!$B$24:$B$5000,Deviation_w_Addon_OpLimSummary!$B76,Deviation_w_Addon_OpLimit!$C$24:$C$5000,Deviation_w_Addon_OpLimSummary!$C76,Deviation_w_Addon_OpLimit!$D$24:$D$5000,D76,Deviation_w_Addon_OpLimit!$H$24:$H$5000,\"Other Known Problems\"))","v":""},{"$f":"IF($C76=\"\",\"\",SUMIFS(Deviation_w_Addon_OpLimit!$G$24:$G$5000,Deviation_w_Addon_OpLimit!$B$24:$B$5000,Deviation_w_Addon_OpLimSummary!$B76,Deviation_w_Addon_OpLimit!$C$24:$C$5000,Deviation_w_Addon_OpLimSummary!$C76,Deviation_w_Addon_OpLimit!$D$24:$D$5000,D76,Deviation_w_Addon_OpLimit!$H$24:$H$5000,\"Other Unknown Causes\"))","v":""}]
[null,null,null,null,null,"","",{"$f":"IF($C77=\"\",\"\",SUMIFS(Deviation_w_Addon_OpLimit!$G$24:$G$5000,Deviation_w_Addon_OpLimit!$B$24:$B$5000,Deviation_w_Addon_OpLimSummary!$B77,Deviation_w_Addon_OpLimit!$C$24:$C$5000,Deviation_w_Addon_OpLimSummary!$C77,Deviation_w_Addon_OpLimit!$D$24:$D$5000,D77,Deviation_w_Addon_OpLimit!$H$24:$H$5000,\"Control Equipment Problems\"))","v":""},{"$f":"IF($C77=\"\",\"\",SUMIFS(Deviation_w_Addon_OpLimit!$G$24:$G$5000,Deviation_w_Addon_OpLimit!$B$24:$B$5000,Deviation_w_Addon_OpLimSummary!$B77,Deviation_w_Addon_OpLimit!$C$24:$C$5000,Deviation_w_Addon_OpLimSummary!$C77,Deviation_w_Addon_OpLimit!$D$24:$D$5000,D77,Deviation_w_Addon_OpLimit!$H$24:$H$5000,\"Process Problems\"))","v":""},{"$f":"IF($C77=\"\",\"\",SUMIFS(Deviation_w_Addon_OpLimit!$G$24:$G$5000,Deviation_w_Addon_OpLimit!$B$24:$B$5000,Deviation_w_Addon_OpLimSummary!$B77,Deviation_w_Addon_OpLimit!$C$24:$C$5000,Deviation_w_Addon_OpLimSummary!$C77,Deviation_w_Addon_OpLimit!$D$24:$D$5000,D77,Deviation_w_Addon_OpLimit!$H$24:$H$5000,\"Other Known Problems\"))","v":""},{"$f":"IF($C77=\"\",\"\",SUMIFS(Deviation_w_Addon_OpLimit!$G$24:$G$5000,Deviation_w_Addon_OpLimit!$B$24:$B$5000,Deviation_w_Addon_OpLimSummary!$B77,Deviation_w_Addon_OpLimit!$C$24:$C$5000,Deviation_w_Addon_OpLimSummary!$C77,Deviation_w_Addon_OpLimit!$D$24:$D$5000,D77,Deviation_w_Addon_OpLimit!$H$24:$H$5000,\"Other Unknown Causes\"))","v":""}]
[null,null,null,null,null,"","",{"$f":"IF($C78=\"\",\"\",SUMIFS(Deviation_w_Addon_OpLimit!$G$24:$G$5000,Deviation_w_Addon_OpLimit!$B$24:$B$5000,Deviation_w_Addon_OpLimSummary!$B78,Deviation_w_Addon_OpLimit!$C$24:$C$5000,Deviation_w_Addon_OpLimSummary!$C78,Deviation_w_Addon_OpLimit!$D$24:$D$5000,D78,Deviation_w_Addon_OpLimit!$H$24:$H$5000,\"Control Equipment Problems\"))","v":""},{"$f":"IF($C78=\"\",\"\",SUMIFS(Deviation_w_Addon_OpLimit!$G$24:$G$5000,Deviation_w_Addon_OpLimit!$B$24:$B$5000,Deviation_w_Addon_OpLimSummary!$B78,Deviation_w_Addon_OpLimit!$C$24:$C$5000,Deviation_w_Addon_OpLimSummary!$C78,Deviation_w_Addon_OpLimit!$D$24:$D$5000,D78,Deviation_w_Addon_OpLimit!$H$24:$H$5000,\"Process Problems\"))","v":""},{"$f":"IF($C78=\"\",\"\",SUMIFS(Deviation_w_Addon_OpLimit!$G$24:$G$5000,Deviation_w_Addon_OpLimit!$B$24:$B$5000,Deviation_w_Addon_OpLimSummary!$B78,Deviation_w_Addon_OpLimit!$C$24:$C$5000,Deviation_w_Addon_OpLimSummary!$C78,Deviation_w_Addon_OpLimit!$D$24:$D$5000,D78,Deviation_w_Addon_OpLimit!$H$24:$H$5000,\"Other Known Problems\"))","v":""},{"$f":"IF($C78=\"\",\"\",SUMIFS(Deviation_w_Addon_OpLimit!$G$24:$G$5000,Deviation_w_Addon_OpLimit!$B$24:$B$5000,Deviation_w_Addon_OpLimSummary!$B78,Deviation_w_Addon_OpLimit!$C$24:$C$5000,Deviation_w_Addon_OpLimSummary!$C78,Deviation_w_Addon_OpLimit!$D$24:$D$5000,D78,Deviation_w_Addon_OpLimit!$H$24:$H$5000,\"Other Unknown Causes\"))","v":""}]
[null,null,null,null,null,"","",{"$f":"IF($C79=\"\",\"\",SUMIFS(Deviation_w_Addon_OpLimit!$G$24:$G$5000,Deviation_w_Addon_OpLimit!$B$24:$B$5000,Deviation_w_Addon_OpLimSummary!$B79,Deviation_w_Addon_OpLimit!$C$24:$C$5000,Deviation_w_Addon_OpLimSummary!$C79,Deviation_w_Addon_OpLimit!$D$24:$D$5000,D79,Deviation_w_Addon_OpLimit!$H$24:$H$5000,\"Control Equipment Problems\"))","v":""},{"$f":"IF($C79=\"\",\"\",SUMIFS(Deviation_w_Addon_OpLimit!$G$24:$G$5000,Deviation_w_Addon_OpLimit!$B$24:$B$5000,Deviation_w_Addon_OpLimSummary!$B79,Deviation_w_Addon_OpLimit!$C$24:$C$5000,Deviation_w_Addon_OpLimSummary!$C79,Deviation_w_Addon_OpLimit!$D$24:$D$5000,D79,Deviation_w_Addon_OpLimit!$H$24:$H$5000,\"Process Problems\"))","v":""},{"$f":"IF($C79=\"\",\"\",SUMIFS(Deviation_w_Addon_OpLimit!$G$24:$G$5000,Deviation_w_Addon_OpLimit!$B$24:$B$5000,Deviation_w_Addon_OpLimSummary!$B79,Deviation_w_Addon_OpLimit!$C$24:$C$5000,Deviation_w_Addon_OpLimSummary!$C79,Deviation_w_Addon_OpLimit!$D$24:$D$5000,D79,Deviation_w_Addon_OpLimit!$H$24:$H$5000,\"Other Known Problems\"))","v":""},{"$f":"IF($C79=\"\",\"\",SUMIFS(Deviation_w_Addon_OpLimit!$G$24:$G$5000,Deviation_w_Addon_OpLimit!$B$24:$B$5000,Deviation_w_Addon_OpLimSummary!$B79,Deviation_w_Addon_OpLimit!$C$24:$C$5000,Deviation_w_Addon_OpLimSummary!$C79,Deviation_w_Addon_OpLimit!$D$24:$D$5000,D79,Deviation_w_Addon_OpLimit!$H$24:$H$5000,\"Other Unknown Causes\"))","v":""}]
[null,null,null,null,null,"","",{"$f":"IF($C80=\"\",\"\",SUMIFS(Deviation_w_Addon_OpLimit!$G$24:$G$5000,Deviation_w_Addon_OpLimit!$B$24:$B$5000,Deviation_w_Addon_OpLimSummary!$B80,Deviation_w_Addon_OpLimit!$C$24:$C$5000,Deviation_w_Addon_OpLimSummary!$C80,Deviation_w_Addon_OpLimit!$D$24:$D$5000,D80,Deviation_w_Addon_OpLimit!$H$24:$H$5000,\"Control Equipment Problems\"))","v":""},{"$f":"IF($C80=\"\",\"\",SUMIFS(Deviation_w_Addon_OpLimit!$G$24:$G$5000,Deviation_w_Addon_OpLimit!$B$24:$B$5000,Deviation_w_Addon_OpLimSummary!$B80,Deviation_w_Addon_OpLimit!$C$24:$C$5000,Deviation_w_Addon_OpLimSummary!$C80,Deviation_w_Addon_OpLimit!$D$24:$D$5000,D80,Deviation_w_Addon_OpLimit!$H$24:$H$5000,\"Process Problems\"))","v":""},{"$f":"IF($C80=\"\",\"\",SUMIFS(Deviation_w_Addon_OpLimit!$G$24:$G$5000,Deviation_w_Addon_OpLimit!$B$24:$B$5000,Deviation_w_Addon_OpLimSummary!$B80,Deviation_w_Addon_OpLimit!$C$24:$C$5000,Deviation_w_Addon_OpLimSummary!$C80,Deviation_w_Addon_OpLimit!$D$24:$D$5000,D80,Deviation_w_Addon_OpLimit!$H$24:$H$5000,\"Other Known Problems\"))","v":""},{"$f":"IF($C80=\"\",\"\",SUMIFS(Deviation_w_Addon_OpLimit!$G$24:$G$5000,Deviation_w_Addon_OpLimit!$B$24:$B$5000,Deviation_w_Addon_OpLimSummary!$B80,Deviation_w_Addon_OpLimit!$C$24:$C$5000,Deviation_w_Addon_OpLimSummary!$C80,Deviation_w_Addon_OpLimit!$D$24:$D$5000,D80,Deviation_w_Addon_OpLimit!$H$24:$H$5000,\"Other Unknown Causes\"))","v":""}]
[null,null,null,null,null,"","",{"$f":"IF($C81=\"\",\"\",SUMIFS(Deviation_w_Addon_OpLimit!$G$24:$G$5000,Deviation_w_Addon_OpLimit!$B$24:$B$5000,Deviation_w_Addon_OpLimSummary!$B81,Deviation_w_Addon_OpLimit!$C$24:$C$5000,Deviation_w_Addon_OpLimSummary!$C81,Deviation_w_Addon_OpLimit!$D$24:$D$5000,D81,Deviation_w_Addon_OpLimit!$H$24:$H$5000,\"Control Equipment Problems\"))","v":""},{"$f":"IF($C81=\"\",\"\",SUMIFS(Deviation_w_Addon_OpLimit!$G$24:$G$5000,Deviation_w_Addon_OpLimit!$B$24:$B$5000,Deviation_w_Addon_OpLimSummary!$B81,Deviation_w_Addon_OpLimit!$C$24:$C$5000,Deviation_w_Addon_OpLimSummary!$C81,Deviation_w_Addon_OpLimit!$D$24:$D$5000,D81,Deviation_w_Addon_OpLimit!$H$24:$H$5000,\"Process Problems\"))","v":""},{"$f":"IF($C81=\"\",\"\",SUMIFS(Deviation_w_Addon_OpLimit!$G$24:$G$5000,Deviation_w_Addon_OpLimit!$B$24:$B$5000,Deviation_w_Addon_OpLimSummary!$B81,Deviation_w_Addon_OpLimit!$C$24:$C$5000,Deviation_w_Addon_OpLimSummary!$C81,Deviation_w_Addon_OpLimit!$D$24:$D$5000,D81,Deviation_w_Addon_OpLimit!$H$24:$H$5000,\"Other Known Problems\"))","v":""},{"$f":"IF($C81=\"\",\"\",SUMIFS(Deviation_w_Addon_OpLimit!$G$24:$G$5000,Deviation_w_Addon_OpLimit!$B$24:$B$5000,Deviation_w_Addon_OpLimSummary!$B81,Deviation_w_Addon_OpLimit!$C$24:$C$5000,Deviation_w_Addon_OpLimSummary!$C81,Deviation_w_Addon_OpLimit!$D$24:$D$5000,D81,Deviation_w_Addon_OpLimit!$H$24:$H$5000,\"Other Unknown Causes\"))","v":""}]
[null,null,null,null,null,"","",{"$f":"IF($C82=\"\",\"\",SUMIFS(Deviation_w_Addon_OpLimit!$G$24:$G$5000,Deviation_w_Addon_OpLimit!$B$24:$B$5000,Deviation_w_Addon_OpLimSummary!$B82,Deviation_w_Addon_OpLimit!$C$24:$C$5000,Deviation_w_Addon_OpLimSummary!$C82,Deviation_w_Addon_OpLimit!$D$24:$D$5000,D82,Deviation_w_Addon_OpLimit!$H$24:$H$5000,\"Control Equipment Problems\"))","v":""},{"$f":"IF($C82=\"\",\"\",SUMIFS(Deviation_w_Addon_OpLimit!$G$24:$G$5000,Deviation_w_Addon_OpLimit!$B$24:$B$5000,Deviation_w_Addon_OpLimSummary!$B82,Deviation_w_Addon_OpLimit!$C$24:$C$5000,Deviation_w_Addon_OpLimSummary!$C82,Deviation_w_Addon_OpLimit!$D$24:$D$5000,D82,Deviation_w_Addon_OpLimit!$H$24:$H$5000,\"Process Problems\"))","v":""},{"$f":"IF($C82=\"\",\"\",SUMIFS(Deviation_w_Addon_OpLimit!$G$24:$G$5000,Deviation_w_Addon_OpLimit!$B$24:$B$5000,Deviation_w_Addon_OpLimSummary!$B82,Deviation_w_Addon_OpLimit!$C$24:$C$5000,Deviation_w_Addon_OpLimSummary!$C82,Deviation_w_Addon_OpLimit!$D$24:$D$5000,D82,Deviation_w_Addon_OpLimit!$H$24:$H$5000,\"Other Known Problems\"))","v":""},{"$f":"IF($C82=\"\",\"\",SUMIFS(Deviation_w_Addon_OpLimit!$G$24:$G$5000,Deviation_w_Addon_OpLimit!$B$24:$B$5000,Deviation_w_Addon_OpLimSummary!$B82,Deviation_w_Addon_OpLimit!$C$24:$C$5000,Deviation_w_Addon_OpLimSummary!$C82,Deviation_w_Addon_OpLimit!$D$24:$D$5000,D82,Deviation_w_Addon_OpLimit!$H$24:$H$5000,\"Other Unknown Causes\"))","v":""}]
[null,null,null,null,null,"","",{"$f":"IF($C83=\"\",\"\",SUMIFS(Deviation_w_Addon_OpLimit!$G$24:$G$5000,Deviation_w_Addon_OpLimit!$B$24:$B$5000,Deviation_w_Addon_OpLimSummary!$B83,Deviation_w_Addon_OpLimit!$C$24:$C$5000,Deviation_w_Addon_OpLimSummary!$C83,Deviation_w_Addon_OpLimit!$D$24:$D$5000,D83,Deviation_w_Addon_OpLimit!$H$24:$H$5000,\"Control Equipment Problems\"))","v":""},{"$f":"IF($C83=\"\",\"\",SUMIFS(Deviation_w_Addon_OpLimit!$G$24:$G$5000,Deviation_w_Addon_OpLimit!$B$24:$B$5000,Deviation_w_Addon_OpLimSummary!$B83,Deviation_w_Addon_OpLimit!$C$24:$C$5000,Deviation_w_Addon_OpLimSummary!$C83,Deviation_w_Addon_OpLimit!$D$24:$D$5000,D83,Deviation_w_Addon_OpLimit!$H$24:$H$5000,\"Process Problems\"))","v":""},{"$f":"IF($C83=\"\",\"\",SUMIFS(Deviation_w_Addon_OpLimit!$G$24:$G$5000,Deviation_w_Addon_OpLimit!$B$24:$B$5000,Deviation_w_Addon_OpLimSummary!$B83,Deviation_w_Addon_OpLimit!$C$24:$C$5000,Deviation_w_Addon_OpLimSummary!$C83,Deviation_w_Addon_OpLimit!$D$24:$D$5000,D83,Deviation_w_Addon_OpLimit!$H$24:$H$5000,\"Other Known Problems\"))","v":""},{"$f":"IF($C83=\"\",\"\",SUMIFS(Deviation_w_Addon_OpLimit!$G$24:$G$5000,Deviation_w_Addon_OpLimit!$B$24:$B$5000,Deviation_w_Addon_OpLimSummary!$B83,Deviation_w_Addon_OpLimit!$C$24:$C$5000,Deviation_w_Addon_OpLimSummary!$C83,Deviation_w_Addon_OpLimit!$D$24:$D$5000,D83,Deviation_w_Addon_OpLimit!$H$24:$H$5000,\"Other Unknown Causes\"))","v":""}]
[null,null,null,null,null,"","",{"$f":"IF($C84=\"\",\"\",SUMIFS(Deviation_w_Addon_OpLimit!$G$24:$G$5000,Deviation_w_Addon_OpLimit!$B$24:$B$5000,Deviation_w_Addon_OpLimSummary!$B84,Deviation_w_Addon_OpLimit!$C$24:$C$5000,Deviation_w_Addon_OpLimSummary!$C84,Deviation_w_Addon_OpLimit!$D$24:$D$5000,D84,Deviation_w_Addon_OpLimit!$H$24:$H$5000,\"Control Equipment Problems\"))","v":""},{"$f":"IF($C84=\"\",\"\",SUMIFS(Deviation_w_Addon_OpLimit!$G$24:$G$5000,Deviation_w_Addon_OpLimit!$B$24:$B$5000,Deviation_w_Addon_OpLimSummary!$B84,Deviation_w_Addon_OpLimit!$C$24:$C$5000,Deviation_w_Addon_OpLimSummary!$C84,Deviation_w_Addon_OpLimit!$D$24:$D$5000,D84,Deviation_w_Addon_OpLimit!$H$24:$H$5000,\"Process Problems\"))","v":""},{"$f":"IF($C84=\"\",\"\",SUMIFS(Deviation_w_Addon_OpLimit!$G$24:$G$5000,Deviation_w_Addon_OpLimit!$B$24:$B$5000,Deviation_w_Addon_OpLimSummary!$B84,Deviation_w_Addon_OpLimit!$C$24:$C$5000,Deviation_w_Addon_OpLimSummary!$C84,Deviation_w_Addon_OpLimit!$D$24:$D$5000,D84,Deviation_w_Addon_OpLimit!$H$24:$H$5000,\"Other Known Problems\"))","v":""},{"$f":"IF($C84=\"\",\"\",SUMIFS(Deviation_w_Addon_OpLimit!$G$24:$G$5000,Deviation_w_Addon_OpLimit!$B$24:$B$5000,Deviation_w_Addon_OpLimSummary!$B84,Deviation_w_Addon_OpLimit!$C$24:$C$5000,Deviation_w_Addon_OpLimSummary!$C84,Deviation_w_Addon_OpLimit!$D$24:$D$5000,D84,Deviation_w_Addon_OpLimit!$H$24:$H$5000,\"Other Unknown Causes\"))","v":""}]
[null,null,null,null,null,"","",{"$f":"IF($C85=\"\",\"\",SUMIFS(Deviation_w_Addon_OpLimit!$G$24:$G$5000,Deviation_w_Addon_OpLimit!$B$24:$B$5000,Deviation_w_Addon_OpLimSummary!$B85,Deviation_w_Addon_OpLimit!$C$24:$C$5000,Deviation_w_Addon_OpLimSummary!$C85,Deviation_w_Addon_OpLimit!$D$24:$D$5000,D85,Deviation_w_Addon_OpLimit!$H$24:$H$5000,\"Control Equipment Problems\"))","v":""},{"$f":"IF($C85=\"\",\"\",SUMIFS(Deviation_w_Addon_OpLimit!$G$24:$G$5000,Deviation_w_Addon_OpLimit!$B$24:$B$5000,Deviation_w_Addon_OpLimSummary!$B85,Deviation_w_Addon_OpLimit!$C$24:$C$5000,Deviation_w_Addon_OpLimSummary!$C85,Deviation_w_Addon_OpLimit!$D$24:$D$5000,D85,Deviation_w_Addon_OpLimit!$H$24:$H$5000,\"Process Problems\"))","v":""},{"$f":"IF($C85=\"\",\"\",SUMIFS(Deviation_w_Addon_OpLimit!$G$24:$G$5000,Deviation_w_Addon_OpLimit!$B$24:$B$5000,Deviation_w_Addon_OpLimSummary!$B85,Deviation_w_Addon_OpLimit!$C$24:$C$5000,Deviation_w_Addon_OpLimSummary!$C85,Deviation_w_Addon_OpLimit!$D$24:$D$5000,D85,Deviation_w_Addon_OpLimit!$H$24:$H$5000,\"Other Known Problems\"))","v":""},{"$f":"IF($C85=\"\",\"\",SUMIFS(Deviation_w_Addon_OpLimit!$G$24:$G$5000,Deviation_w_Addon_OpLimit!$B$24:$B$5000,Deviation_w_Addon_OpLimSummary!$B85,Deviation_w_Addon_OpLimit!$C$24:$C$5000,Deviation_w_Addon_OpLimSummary!$C85,Deviation_w_Addon_OpLimit!$D$24:$D$5000,D85,Deviation_w_Addon_OpLimit!$H$24:$H$5000,\"Other Unknown Causes\"))","v":""}]
[null,null,null,null,null,"","",{"$f":"IF($C86=\"\",\"\",SUMIFS(Deviation_w_Addon_OpLimit!$G$24:$G$5000,Deviation_w_Addon_OpLimit!$B$24:$B$5000,Deviation_w_Addon_OpLimSummary!$B86,Deviation_w_Addon_OpLimit!$C$24:$C$5000,Deviation_w_Addon_OpLimSummary!$C86,Deviation_w_Addon_OpLimit!$D$24:$D$5000,D86,Deviation_w_Addon_OpLimit!$H$24:$H$5000,\"Control Equipment Problems\"))","v":""},{"$f":"IF($C86=\"\",\"\",SUMIFS(Deviation_w_Addon_OpLimit!$G$24:$G$5000,Deviation_w_Addon_OpLimit!$B$24:$B$5000,Deviation_w_Addon_OpLimSummary!$B86,Deviation_w_Addon_OpLimit!$C$24:$C$5000,Deviation_w_Addon_OpLimSummary!$C86,Deviation_w_Addon_OpLimit!$D$24:$D$5000,D86,Deviation_w_Addon_OpLimit!$H$24:$H$5000,\"Process Problems\"))","v":""},{"$f":"IF($C86=\"\",\"\",SUMIFS(Deviation_w_Addon_OpLimit!$G$24:$G$5000,Deviation_w_Addon_OpLimit!$B$24:$B$5000,Deviation_w_Addon_OpLimSummary!$B86,Deviation_w_Addon_OpLimit!$C$24:$C$5000,Deviation_w_Addon_OpLimSummary!$C86,Deviation_w_Addon_OpLimit!$D$24:$D$5000,D86,Deviation_w_Addon_OpLimit!$H$24:$H$5000,\"Other Known Problems\"))","v":""},{"$f":"IF($C86=\"\",\"\",SUMIFS(Deviation_w_Addon_OpLimit!$G$24:$G$5000,Deviation_w_Addon_OpLimit!$B$24:$B$5000,Deviation_w_Addon_OpLimSummary!$B86,Deviation_w_Addon_OpLimit!$C$24:$C$5000,Deviation_w_Addon_OpLimSummary!$C86,Deviation_w_Addon_OpLimit!$D$24:$D$5000,D86,Deviation_w_Addon_OpLimit!$H$24:$H$5000,\"Other Unknown Causes\"))","v":""}]
[null,null,null,null,null,"","",{"$f":"IF($C87=\"\",\"\",SUMIFS(Deviation_w_Addon_OpLimit!$G$24:$G$5000,Deviation_w_Addon_OpLimit!$B$24:$B$5000,Deviation_w_Addon_OpLimSummary!$B87,Deviation_w_Addon_OpLimit!$C$24:$C$5000,Deviation_w_Addon_OpLimSummary!$C87,Deviation_w_Addon_OpLimit!$D$24:$D$5000,D87,Deviation_w_Addon_OpLimit!$H$24:$H$5000,\"Control Equipment Problems\"))","v":""},{"$f":"IF($C87=\"\",\"\",SUMIFS(Deviation_w_Addon_OpLimit!$G$24:$G$5000,Deviation_w_Addon_OpLimit!$B$24:$B$5000,Deviation_w_Addon_OpLimSummary!$B87,Deviation_w_Addon_OpLimit!$C$24:$C$5000,Deviation_w_Addon_OpLimSummary!$C87,Deviation_w_Addon_OpLimit!$D$24:$D$5000,D87,Deviation_w_Addon_OpLimit!$H$24:$H$5000,\"Process Problems\"))","v":""},{"$f":"IF($C87=\"\",\"\",SUMIFS(Deviation_w_Addon_OpLimit!$G$24:$G$5000,Deviation_w_Addon_OpLimit!$B$24:$B$5000,Deviation_w_Addon_OpLimSummary!$B87,Deviation_w_Addon_OpLimit!$C$24:$C$5000,Deviation_w_Addon_OpLimSummary!$C87,Deviation_w_Addon_OpLimit!$D$24:$D$5000,D87,Deviation_w_Addon_OpLimit!$H$24:$H$5000,\"Other Known Problems\"))","v":""},{"$f":"IF($C87=\"\",\"\",SUMIFS(Deviation_w_Addon_OpLimit!$G$24:$G$5000,Deviation_w_Addon_OpLimit!$B$24:$B$5000,Deviation_w_Addon_OpLimSummary!$B87,Deviation_w_Addon_OpLimit!$C$24:$C$5000,Deviation_w_Addon_OpLimSummary!$C87,Deviation_w_Addon_OpLimit!$D$24:$D$5000,D87,Deviation_w_Addon_OpLimit!$H$24:$H$5000,\"Other Unknown Causes\"))","v":""}]
[null,null,null,null,null,"","",{"$f":"IF($C88=\"\",\"\",SUMIFS(Deviation_w_Addon_OpLimit!$G$24:$G$5000,Deviation_w_Addon_OpLimit!$B$24:$B$5000,Deviation_w_Addon_OpLimSummary!$B88,Deviation_w_Addon_OpLimit!$C$24:$C$5000,Deviation_w_Addon_OpLimSummary!$C88,Deviation_w_Addon_OpLimit!$D$24:$D$5000,D88,Deviation_w_Addon_OpLimit!$H$24:$H$5000,\"Control Equipment Problems\"))","v":""},{"$f":"IF($C88=\"\",\"\",SUMIFS(Deviation_w_Addon_OpLimit!$G$24:$G$5000,Deviation_w_Addon_OpLimit!$B$24:$B$5000,Deviation_w_Addon_OpLimSummary!$B88,Deviation_w_Addon_OpLimit!$C$24:$C$5000,Deviation_w_Addon_OpLimSummary!$C88,Deviation_w_Addon_OpLimit!$D$24:$D$5000,D88,Deviation_w_Addon_OpLimit!$H$24:$H$5000,\"Process Problems\"))","v":""},{"$f":"IF($C88=\"\",\"\",SUMIFS(Deviation_w_Addon_OpLimit!$G$24:$G$5000,Deviation_w_Addon_OpLimit!$B$24:$B$5000,Deviation_w_Addon_OpLimSummary!$B88,Deviation_w_Addon_OpLimit!$C$24:$C$5000,Deviation_w_Addon_OpLimSummary!$C88,Deviation_w_Addon_OpLimit!$D$24:$D$5000,D88,Deviation_w_Addon_OpLimit!$H$24:$H$5000,\"Other Known Problems\"))","v":""},{"$f":"IF($C88=\"\",\"\",SUMIFS(Deviation_w_Addon_OpLimit!$G$24:$G$5000,Deviation_w_Addon_OpLimit!$B$24:$B$5000,Deviation_w_Addon_OpLimSummary!$B88,Deviation_w_Addon_OpLimit!$C$24:$C$5000,Deviation_w_Addon_OpLimSummary!$C88,Deviation_w_Addon_OpLimit!$D$24:$D$5000,D88,Deviation_w_Addon_OpLimit!$H$24:$H$5000,\"Other Unknown Causes\"))","v":""}]
[null,null,null,null,null,{"$f":"IF($C89=\"\",\"\",SUM(H89:K89))","v":""},{"$f":"IF($C89=\"\",\"\",IF(F89=0,\"N/A\",F89/$E89))","v":""},{"$f":"IF($C89=\"\",\"\",SUMIFS(Deviation_w_Addon_OpLimit!$G$24:$G$5000,Deviation_w_Addon_OpLimit!$B$24:$B$5000,Deviation_w_Addon_OpLimSummary!$B89,Deviation_w_Addon_OpLimit!$C$24:$C$5000,Deviation_w_Addon_OpLimSummary!$C89,Deviation_w_Addon_OpLimit!$D$24:$D$5000,D89,Deviation_w_Addon_OpLimit!$H$24:$H$5000,\"Control Equipment Problems\"))","v":""},{"$f":"IF($C89=\"\",\"\",SUMIFS(Deviation_w_Addon_OpLimit!$G$24:$G$5000,Deviation_w_Addon_OpLimit!$B$24:$B$5000,Deviation_w_Addon_OpLimSummary!$B89,Deviation_w_Addon_OpLimit!$C$24:$C$5000,Deviation_w_Addon_OpLimSummary!$C89,Deviation_w_Addon_OpLimit!$D$24:$D$5000,D89,Deviation_w_Addon_OpLimit!$H$24:$H$5000,\"Process Problems\"))","v":""},{"$f":"IF($C89=\"\",\"\",SUMIFS(Deviation_w_Addon_OpLimit!$G$24:$G$5000,Deviation_w_Addon_OpLimit!$B$24:$B$5000,Deviation_w_Addon_OpLimSummary!$B89,Deviation_w_Addon_OpLimit!$C$24:$C$5000,Deviation_w_Addon_OpLimSummary!$C89,Deviation_w_Addon_OpLimit!$D$24:$D$5000,D89,Deviation_w_Addon_OpLimit!$H$24:$H$5000,\"Other Known Problems\"))","v":""},{"$f":"IF($C89=\"\",\"\",SUMIFS(Deviation_w_Addon_OpLimit!$G$24:$G$5000,Deviation_w_Addon_OpLimit!$B$24:$B$5000,Deviation_w_Addon_OpLimSummary!$B89,Deviation_w_Addon_OpLimit!$C$24:$C$5000,Deviation_w_Addon_OpLimSummary!$C89,Deviation_w_Addon_OpLimit!$D$24:$D$5000,D89,Deviation_w_Addon_OpLimit!$H$24:$H$5000,\"Other Unknown Causes\"))","v":""}]
[null,null,null,null,null,"","",{"$f":"IF($C90=\"\",\"\",SUMIFS(Deviation_w_Addon_OpLimit!$G$24:$G$5000,Deviation_w_Addon_OpLimit!$B$24:$B$5000,Deviation_w_Addon_OpLimSummary!$B90,Deviation_w_Addon_OpLimit!$C$24:$C$5000,Deviation_w_Addon_OpLimSummary!$C90,Deviation_w_Addon_OpLimit!$D$24:$D$5000,D90,Deviation_w_Addon_OpLimit!$H$24:$H$5000,\"Control Equipment Problems\"))","v":""},{"$f":"IF($C90=\"\",\"\",SUMIFS(Deviation_w_Addon_OpLimit!$G$24:$G$5000,Deviation_w_Addon_OpLimit!$B$24:$B$5000,Deviation_w_Addon_OpLimSummary!$B90,Deviation_w_Addon_OpLimit!$C$24:$C$5000,Deviation_w_Addon_OpLimSummary!$C90,Deviation_w_Addon_OpLimit!$D$24:$D$5000,D90,Deviation_w_Addon_OpLimit!$H$24:$H$5000,\"Process Problems\"))","v":""},{"$f":"IF($C90=\"\",\"\",SUMIFS(Deviation_w_Addon_OpLimit!$G$24:$G$5000,Deviation_w_Addon_OpLimit!$B$24:$B$5000,Deviation_w_Addon_OpLimSummary!$B90,Deviation_w_Addon_OpLimit!$C$24:$C$5000,Deviation_w_Addon_OpLimSummary!$C90,Deviation_w_Addon_OpLimit!$D$24:$D$5000,D90,Deviation_w_Addon_OpLimit!$H$24:$H$5000,\"Other Known Problems\"))","v":""},{"$f":"IF($C90=\"\",\"\",SUMIFS(Deviation_w_Addon_OpLimit!$G$24:$G$5000,Deviation_w_Addon_OpLimit!$B$24:$B$5000,Deviation_w_Addon_OpLimSummary!$B90,Deviation_w_Addon_OpLimit!$C$24:$C$5000,Deviation_w_Addon_OpLimSummary!$C90,Deviation_w_Addon_OpLimit!$D$24:$D$5000,D90,Deviation_w_Addon_OpLimit!$H$24:$H$5000,\"Other Unknown Causes\"))","v":""}]
[null,null,null,null,null,"","",{"$f":"IF($C91=\"\",\"\",SUMIFS(Deviation_w_Addon_OpLimit!$G$24:$G$5000,Deviation_w_Addon_OpLimit!$B$24:$B$5000,Deviation_w_Addon_OpLimSummary!$B91,Deviation_w_Addon_OpLimit!$C$24:$C$5000,Deviation_w_Addon_OpLimSummary!$C91,Deviation_w_Addon_OpLimit!$D$24:$D$5000,D91,Deviation_w_Addon_OpLimit!$H$24:$H$5000,\"Control Equipment Problems\"))","v":""},{"$f":"IF($C91=\"\",\"\",SUMIFS(Deviation_w_Addon_OpLimit!$G$24:$G$5000,Deviation_w_Addon_OpLimit!$B$24:$B$5000,Deviation_w_Addon_OpLimSummary!$B91,Deviation_w_Addon_OpLimit!$C$24:$C$5000,Deviation_w_Addon_OpLimSummary!$C91,Deviation_w_Addon_OpLimit!$D$24:$D$5000,D91,Deviation_w_Addon_OpLimit!$H$24:$H$5000,\"Process Problems\"))","v":""},{"$f":"IF($C91=\"\",\"\",SUMIFS(Deviation_w_Addon_OpLimit!$G$24:$G$5000,Deviation_w_Addon_OpLimit!$B$24:$B$5000,Deviation_w_Addon_OpLimSummary!$B91,Deviation_w_Addon_OpLimit!$C$24:$C$5000,Deviation_w_Addon_OpLimSummary!$C91,Deviation_w_Addon_OpLimit!$D$24:$D$5000,D91,Deviation_w_Addon_OpLimit!$H$24:$H$5000,\"Other Known Problems\"))","v":""},{"$f":"IF($C91=\"\",\"\",SUMIFS(Deviation_w_Addon_OpLimit!$G$24:$G$5000,Deviation_w_Addon_OpLimit!$B$24:$B$5000,Deviation_w_Addon_OpLimSummary!$B91,Deviation_w_Addon_OpLimit!$C$24:$C$5000,Deviation_w_Addon_OpLimSummary!$C91,Deviation_w_Addon_OpLimit!$D$24:$D$5000,D91,Deviation_w_Addon_OpLimit!$H$24:$H$5000,\"Other Unknown Causes\"))","v":""}]
[null,null,null,null,null,"","",{"$f":"IF($C92=\"\",\"\",SUMIFS(Deviation_w_Addon_OpLimit!$G$24:$G$5000,Deviation_w_Addon_OpLimit!$B$24:$B$5000,Deviation_w_Addon_OpLimSummary!$B92,Deviation_w_Addon_OpLimit!$C$24:$C$5000,Deviation_w_Addon_OpLimSummary!$C92,Deviation_w_Addon_OpLimit!$D$24:$D$5000,D92,Deviation_w_Addon_OpLimit!$H$24:$H$5000,\"Control Equipment Problems\"))","v":""},{"$f":"IF($C92=\"\",\"\",SUMIFS(Deviation_w_Addon_OpLimit!$G$24:$G$5000,Deviation_w_Addon_OpLimit!$B$24:$B$5000,Deviation_w_Addon_OpLimSummary!$B92,Deviation_w_Addon_OpLimit!$C$24:$C$5000,Deviation_w_Addon_OpLimSummary!$C92,Deviation_w_Addon_OpLimit!$D$24:$D$5000,D92,Deviation_w_Addon_OpLimit!$H$24:$H$5000,\"Process Problems\"))","v":""},{"$f":"IF($C92=\"\",\"\",SUMIFS(Deviation_w_Addon_OpLimit!$G$24:$G$5000,Deviation_w_Addon_OpLimit!$B$24:$B$5000,Deviation_w_Addon_OpLimSummary!$B92,Deviation_w_Addon_OpLimit!$C$24:$C$5000,Deviation_w_Addon_OpLimSummary!$C92,Deviation_w_Addon_OpLimit!$D$24:$D$5000,D92,Deviation_w_Addon_OpLimit!$H$24:$H$5000,\"Other Known Problems\"))","v":""},{"$f":"IF($C92=\"\",\"\",SUMIFS(Deviation_w_Addon_OpLimit!$G$24:$G$5000,Deviation_w_Addon_OpLimit!$B$24:$B$5000,Deviation_w_Addon_OpLimSummary!$B92,Deviation_w_Addon_OpLimit!$C$24:$C$5000,Deviation_w_Addon_OpLimSummary!$C92,Deviation_w_Addon_OpLimit!$D$24:$D$5000,D92,Deviation_w_Addon_OpLimit!$H$24:$H$5000,\"Other Unknown Causes\"))","v":""}]
[null,null,null,null,null,"","",{"$f":"IF($C93=\"\",\"\",SUMIFS(Deviation_w_Addon_OpLimit!$G$24:$G$5000,Deviation_w_Addon_OpLimit!$B$24:$B$5000,Deviation_w_Addon_OpLimSummary!$B93,Deviation_w_Addon_OpLimit!$C$24:$C$5000,Deviation_w_Addon_OpLimSummary!$C93,Deviation_w_Addon_OpLimit!$D$24:$D$5000,D93,Deviation_w_Addon_OpLimit!$H$24:$H$5000,\"Control Equipment Problems\"))","v":""},{"$f":"IF($C93=\"\",\"\",SUMIFS(Deviation_w_Addon_OpLimit!$G$24:$G$5000,Deviation_w_Addon_OpLimit!$B$24:$B$5000,Deviation_w_Addon_OpLimSummary!$B93,Deviation_w_Addon_OpLimit!$C$24:$C$5000,Deviation_w_Addon_OpLimSummary!$C93,Deviation_w_Addon_OpLimit!$D$24:$D$5000,D93,Deviation_w_Addon_OpLimit!$H$24:$H$5000,\"Process Problems\"))","v":""},{"$f":"IF($C93=\"\",\"\",SUMIFS(Deviation_w_Addon_OpLimit!$G$24:$G$5000,Deviation_w_Addon_OpLimit!$B$24:$B$5000,Deviation_w_Addon_OpLimSummary!$B93,Deviation_w_Addon_OpLimit!$C$24:$C$5000,Deviation_w_Addon_OpLimSummary!$C93,Deviation_w_Addon_OpLimit!$D$24:$D$5000,D93,Deviation_w_Addon_OpLimit!$H$24:$H$5000,\"Other Known Problems\"))","v":""},{"$f":"IF($C93=\"\",\"\",SUMIFS(Deviation_w_Addon_OpLimit!$G$24:$G$5000,Deviation_w_Addon_OpLimit!$B$24:$B$5000,Deviation_w_Addon_OpLimSummary!$B93,Deviation_w_Addon_OpLimit!$C$24:$C$5000,Deviation_w_Addon_OpLimSummary!$C93,Deviation_w_Addon_OpLimit!$D$24:$D$5000,D93,Deviation_w_Addon_OpLimit!$H$24:$H$5000,\"Other Unknown Causes\"))","v":""}]
[null,null,null,null,null,"","",{"$f":"IF($C94=\"\",\"\",SUMIFS(Deviation_w_Addon_OpLimit!$G$24:$G$5000,Deviation_w_Addon_OpLimit!$B$24:$B$5000,Deviation_w_Addon_OpLimSummary!$B94,Deviation_w_Addon_OpLimit!$C$24:$C$5000,Deviation_w_Addon_OpLimSummary!$C94,Deviation_w_Addon_OpLimit!$D$24:$D$5000,D94,Deviation_w_Addon_OpLimit!$H$24:$H$5000,\"Control Equipment Problems\"))","v":""},{"$f":"IF($C94=\"\",\"\",SUMIFS(Deviation_w_Addon_OpLimit!$G$24:$G$5000,Deviation_w_Addon_OpLimit!$B$24:$B$5000,Deviation_w_Addon_OpLimSummary!$B94,Deviation_w_Addon_OpLimit!$C$24:$C$5000,Deviation_w_Addon_OpLimSummary!$C94,Deviation_w_Addon_OpLimit!$D$24:$D$5000,D94,Deviation_w_Addon_OpLimit!$H$24:$H$5000,\"Process Problems\"))","v":""},{"$f":"IF($C94=\"\",\"\",SUMIFS(Deviation_w_Addon_OpLimit!$G$24:$G$5000,Deviation_w_Addon_OpLimit!$B$24:$B$5000,Deviation_w_Addon_OpLimSummary!$B94,Deviation_w_Addon_OpLimit!$C$24:$C$5000,Deviation_w_Addon_OpLimSummary!$C94,Deviation_w_Addon_OpLimit!$D$24:$D$5000,D94,Deviation_w_Addon_OpLimit!$H$24:$H$5000,\"Other Known Problems\"))","v":""},{"$f":"IF($C94=\"\",\"\",SUMIFS(Deviation_w_Addon_OpLimit!$G$24:$G$5000,Deviation_w_Addon_OpLimit!$B$24:$B$5000,Deviation_w_Addon_OpLimSummary!$B94,Deviation_w_Addon_OpLimit!$C$24:$C$5000,Deviation_w_Addon_OpLimSummary!$C94,Deviation_w_Addon_OpLimit!$D$24:$D$5000,D94,Deviation_w_Addon_OpLimit!$H$24:$H$5000,\"Other Unknown Causes\"))","v":""}]
[null,null,null,null,null,"","",{"$f":"IF($C95=\"\",\"\",SUMIFS(Deviation_w_Addon_OpLimit!$G$24:$G$5000,Deviation_w_Addon_OpLimit!$B$24:$B$5000,Deviation_w_Addon_OpLimSummary!$B95,Deviation_w_Addon_OpLimit!$C$24:$C$5000,Deviation_w_Addon_OpLimSummary!$C95,Deviation_w_Addon_OpLimit!$D$24:$D$5000,D95,Deviation_w_Addon_OpLimit!$H$24:$H$5000,\"Control Equipment Problems\"))","v":""},{"$f":"IF($C95=\"\",\"\",SUMIFS(Deviation_w_Addon_OpLimit!$G$24:$G$5000,Deviation_w_Addon_OpLimit!$B$24:$B$5000,Deviation_w_Addon_OpLimSummary!$B95,Deviation_w_Addon_OpLimit!$C$24:$C$5000,Deviation_w_Addon_OpLimSummary!$C95,Deviation_w_Addon_OpLimit!$D$24:$D$5000,D95,Deviation_w_Addon_OpLimit!$H$24:$H$5000,\"Process Problems\"))","v":""},{"$f":"IF($C95=\"\",\"\",SUMIFS(Deviation_w_Addon_OpLimit!$G$24:$G$5000,Deviation_w_Addon_OpLimit!$B$24:$B$5000,Deviation_w_Addon_OpLimSummary!$B95,Deviation_w_Addon_OpLimit!$C$24:$C$5000,Deviation_w_Addon_OpLimSummary!$C95,Deviation_w_Addon_OpLimit!$D$24:$D$5000,D95,Deviation_w_Addon_OpLimit!$H$24:$H$5000,\"Other Known Problems\"))","v":""},{"$f":"IF($C95=\"\",\"\",SUMIFS(Deviation_w_Addon_OpLimit!$G$24:$G$5000,Deviation_w_Addon_OpLimit!$B$24:$B$5000,Deviation_w_Addon_OpLimSummary!$B95,Deviation_w_Addon_OpLimit!$C$24:$C$5000,Deviation_w_Addon_OpLimSummary!$C95,Deviation_w_Addon_OpLimit!$D$24:$D$5000,D95,Deviation_w_Addon_OpLimit!$H$24:$H$5000,\"Other Unknown Causes\"))","v":""}]
[null,null,null,null,null,"","",{"$f":"IF($C96=\"\",\"\",SUMIFS(Deviation_w_Addon_OpLimit!$G$24:$G$5000,Deviation_w_Addon_OpLimit!$B$24:$B$5000,Deviation_w_Addon_OpLimSummary!$B96,Deviation_w_Addon_OpLimit!$C$24:$C$5000,Deviation_w_Addon_OpLimSummary!$C96,Deviation_w_Addon_OpLimit!$D$24:$D$5000,D96,Deviation_w_Addon_OpLimit!$H$24:$H$5000,\"Control Equipment Problems\"))","v":""},{"$f":"IF($C96=\"\",\"\",SUMIFS(Deviation_w_Addon_OpLimit!$G$24:$G$5000,Deviation_w_Addon_OpLimit!$B$24:$B$5000,Deviation_w_Addon_OpLimSummary!$B96,Deviation_w_Addon_OpLimit!$C$24:$C$5000,Deviation_w_Addon_OpLimSummary!$C96,Deviation_w_Addon_OpLimit!$D$24:$D$5000,D96,Deviation_w_Addon_OpLimit!$H$24:$H$5000,\"Process Problems\"))","v":""},{"$f":"IF($C96=\"\",\"\",SUMIFS(Deviation_w_Addon_OpLimit!$G$24:$G$5000,Deviation_w_Addon_OpLimit!$B$24:$B$5000,Deviation_w_Addon_OpLimSummary!$B96,Deviation_w_Addon_OpLimit!$C$24:$C$5000,Deviation_w_Addon_OpLimSummary!$C96,Deviation_w_Addon_OpLimit!$D$24:$D$5000,D96,Deviation_w_Addon_OpLimit!$H$24:$H$5000,\"Other Known Problems\"))","v":""},{"$f":"IF($C96=\"\",\"\",SUMIFS(Deviation_w_Addon_OpLimit!$G$24:$G$5000,Deviation_w_Addon_OpLimit!$B$24:$B$5000,Deviation_w_Addon_OpLimSummary!$B96,Deviation_w_Addon_OpLimit!$C$24:$C$5000,Deviation_w_Addon_OpLimSummary!$C96,Deviation_w_Addon_OpLimit!$D$24:$D$5000,D96,Deviation_w_Addon_OpLimit!$H$24:$H$5000,\"Other Unknown Causes\"))","v":""}]
[null,null,null,null,null,"","",{"$f":"IF($C97=\"\",\"\",SUMIFS(Deviation_w_Addon_OpLimit!$G$24:$G$5000,Deviation_w_Addon_OpLimit!$B$24:$B$5000,Deviation_w_Addon_OpLimSummary!$B97,Deviation_w_Addon_OpLimit!$C$24:$C$5000,Deviation_w_Addon_OpLimSummary!$C97,Deviation_w_Addon_OpLimit!$D$24:$D$5000,D97,Deviation_w_Addon_OpLimit!$H$24:$H$5000,\"Control Equipment Problems\"))","v":""},{"$f":"IF($C97=\"\",\"\",SUMIFS(Deviation_w_Addon_OpLimit!$G$24:$G$5000,Deviation_w_Addon_OpLimit!$B$24:$B$5000,Deviation_w_Addon_OpLimSummary!$B97,Deviation_w_Addon_OpLimit!$C$24:$C$5000,Deviation_w_Addon_OpLimSummary!$C97,Deviation_w_Addon_OpLimit!$D$24:$D$5000,D97,Deviation_w_Addon_OpLimit!$H$24:$H$5000,\"Process Problems\"))","v":""},{"$f":"IF($C97=\"\",\"\",SUMIFS(Deviation_w_Addon_OpLimit!$G$24:$G$5000,Deviation_w_Addon_OpLimit!$B$24:$B$5000,Deviation_w_Addon_OpLimSummary!$B97,Deviation_w_Addon_OpLimit!$C$24:$C$5000,Deviation_w_Addon_OpLimSummary!$C97,Deviation_w_Addon_OpLimit!$D$24:$D$5000,D97,Deviation_w_Addon_OpLimit!$H$24:$H$5000,\"Other Known Problems\"))","v":""},{"$f":"IF($C97=\"\",\"\",SUMIFS(Deviation_w_Addon_OpLimit!$G$24:$G$5000,Deviation_w_Addon_OpLimit!$B$24:$B$5000,Deviation_w_Addon_OpLimSummary!$B97,Deviation_w_Addon_OpLimit!$C$24:$C$5000,Deviation_w_Addon_OpLimSummary!$C97,Deviation_w_Addon_OpLimit!$D$24:$D$5000,D97,Deviation_w_Addon_OpLimit!$H$24:$H$5000,\"Other Unknown Causes\"))","v":""}]
[null,null,null,null,null,"","",{"$f":"IF($C98=\"\",\"\",SUMIFS(Deviation_w_Addon_OpLimit!$G$24:$G$5000,Deviation_w_Addon_OpLimit!$B$24:$B$5000,Deviation_w_Addon_OpLimSummary!$B98,Deviation_w_Addon_OpLimit!$C$24:$C$5000,Deviation_w_Addon_OpLimSummary!$C98,Deviation_w_Addon_OpLimit!$D$24:$D$5000,D98,Deviation_w_Addon_OpLimit!$H$24:$H$5000,\"Control Equipment Problems\"))","v":""},{"$f":"IF($C98=\"\",\"\",SUMIFS(Deviation_w_Addon_OpLimit!$G$24:$G$5000,Deviation_w_Addon_OpLimit!$B$24:$B$5000,Deviation_w_Addon_OpLimSummary!$B98,Deviation_w_Addon_OpLimit!$C$24:$C$5000,Deviation_w_Addon_OpLimSummary!$C98,Deviation_w_Addon_OpLimit!$D$24:$D$5000,D98,Deviation_w_Addon_OpLimit!$H$24:$H$5000,\"Process Problems\"))","v":""},{"$f":"IF($C98=\"\",\"\",SUMIFS(Deviation_w_Addon_OpLimit!$G$24:$G$5000,Deviation_w_Addon_OpLimit!$B$24:$B$5000,Deviation_w_Addon_OpLimSummary!$B98,Deviation_w_Addon_OpLimit!$C$24:$C$5000,Deviation_w_Addon_OpLimSummary!$C98,Deviation_w_Addon_OpLimit!$D$24:$D$5000,D98,Deviation_w_Addon_OpLimit!$H$24:$H$5000,\"Other Known Problems\"))","v":""},{"$f":"IF($C98=\"\",\"\",SUMIFS(Deviation_w_Addon_OpLimit!$G$24:$G$5000,Deviation_w_Addon_OpLimit!$B$24:$B$5000,Deviation_w_Addon_OpLimSummary!$B98,Deviation_w_Addon_OpLimit!$C$24:$C$5000,Deviation_w_Addon_OpLimSummary!$C98,Deviation_w_Addon_OpLimit!$D$24:$D$5000,D98,Deviation_w_Addon_OpLimit!$H$24:$H$5000,\"Other Unknown Causes\"))","v":""}]
[null,null,null,null,null,"","",{"$f":"IF($C99=\"\",\"\",SUMIFS(Deviation_w_Addon_OpLimit!$G$24:$G$5000,Deviation_w_Addon_OpLimit!$B$24:$B$5000,Deviation_w_Addon_OpLimSummary!$B99,Deviation_w_Addon_OpLimit!$C$24:$C$5000,Deviation_w_Addon_OpLimSummary!$C99,Deviation_w_Addon_OpLimit!$D$24:$D$5000,D99,Deviation_w_Addon_OpLimit!$H$24:$H$5000,\"Control Equipment Problems\"))","v":""},{"$f":"IF($C99=\"\",\"\",SUMIFS(Deviation_w_Addon_OpLimit!$G$24:$G$5000,Deviation_w_Addon_OpLimit!$B$24:$B$5000,Deviation_w_Addon_OpLimSummary!$B99,Deviation_w_Addon_OpLimit!$C$24:$C$5000,Deviation_w_Addon_OpLimSummary!$C99,Deviation_w_Addon_OpLimit!$D$24:$D$5000,D99,Deviation_w_Addon_OpLimit!$H$24:$H$5000,\"Process Problems\"))","v":""},{"$f":"IF($C99=\"\",\"\",SUMIFS(Deviation_w_Addon_OpLimit!$G$24:$G$5000,Deviation_w_Addon_OpLimit!$B$24:$B$5000,Deviation_w_Addon_OpLimSummary!$B99,Deviation_w_Addon_OpLimit!$C$24:$C$5000,Deviation_w_Addon_OpLimSummary!$C99,Deviation_w_Addon_OpLimit!$D$24:$D$5000,D99,Deviation_w_Addon_OpLimit!$H$24:$H$5000,\"Other Known Problems\"))","v":""},{"$f":"IF($C99=\"\",\"\",SUMIFS(Deviation_w_Addon_OpLimit!$G$24:$G$5000,Deviation_w_Addon_OpLimit!$B$24:$B$5000,Deviation_w_Addon_OpLimSummary!$B99,Deviation_w_Addon_OpLimit!$C$24:$C$5000,Deviation_w_Addon_OpLimSummary!$C99,Deviation_w_Addon_OpLimit!$D$24:$D$5000,D99,Deviation_w_Addon_OpLimit!$H$24:$H$5000,\"Other Unknown Causes\"))","v":""}]
[null,null,null,null,null,"","",{"$f":"IF($C100=\"\",\"\",SUMIFS(Deviation_w_Addon_OpLimit!$G$24:$G$5000,Deviation_w_Addon_OpLimit!$B$24:$B$5000,Deviation_w_Addon_OpLimSummary!$B100,Deviation_w_Addon_OpLimit!$C$24:$C$5000,Deviation_w_Addon_OpLimSummary!$C100,Deviation_w_Addon_OpLimit!$D$24:$D$5000,D100,Deviation_w_Addon_OpLimit!$H$24:$H$5000,\"Control Equipment Problems\"))","v":""},{"$f":"IF($C100=\"\",\"\",SUMIFS(Deviation_w_Addon_OpLimit!$G$24:$G$5000,Deviation_w_Addon_OpLimit!$B$24:$B$5000,Deviation_w_Addon_OpLimSummary!$B100,Deviation_w_Addon_OpLimit!$C$24:$C$5000,Deviation_w_Addon_OpLimSummary!$C100,Deviation_w_Addon_OpLimit!$D$24:$D$5000,D100,Deviation_w_Addon_OpLimit!$H$24:$H$5000,\"Process Problems\"))","v":""},{"$f":"IF($C100=\"\",\"\",SUMIFS(Deviation_w_Addon_OpLimit!$G$24:$G$5000,Deviation_w_Addon_OpLimit!$B$24:$B$5000,Deviation_w_Addon_OpLimSummary!$B100,Deviation_w_Addon_OpLimit!$C$24:$C$5000,Deviation_w_Addon_OpLimSummary!$C100,Deviation_w_Addon_OpLimit!$D$24:$D$5000,D100,Deviation_w_Addon_OpLimit!$H$24:$H$5000,\"Other Known Problems\"))","v":""},{"$f":"IF($C100=\"\",\"\",SUMIFS(Deviation_w_Addon_OpLimit!$G$24:$G$5000,Deviation_w_Addon_OpLimit!$B$24:$B$5000,Deviation_w_Addon_OpLimSummary!$B100,Deviation_w_Addon_OpLimit!$C$24:$C$5000,Deviation_w_Addon_OpLimSummary!$C100,Deviation_w_Addon_OpLimit!$D$24:$D$5000,D100,Deviation_w_Addon_OpLimit!$H$24:$H$5000,\"Other Unknown Causes\"))","v":""}]

{"sheet":"Deviation_w_Addon_WorkPrac","index":14,"n_rows":14,"n_cols":10,"rows_kept":14,"cut":false,"hidden":false,"merged":[]}
[null,"DO NOT REMOVE OR EDIT INFORMATION IN THIS SECTION FOR INTERNAL USE ONLY"]
[null,"Template Name",{"$f":"+Welcome!B2","v":"63.4311(a) Semiannual Compliance Report (Spreadsheet Template)"}]
[null,"CitationID",{"$f":"+Welcome!B3","v":"63.4311(a)"}]
[null,"Template Version",{"$f":"+Welcome!B4","v":"v2.01"}]
[null,"Last Updated Date",{"$f":"+Welcome!B5","v":43963}]
[null,{"$f":"+Welcome!B6","v":"OMB Control Number: 2060-0522, Expiration: March 31, 2019"}]
[null,"40 CFR Part 63, Subpart OOOO National Emission Standards for Hazardous Air Pollutants: Printing, Coating, and Dyeing of Fabrics and Other Textiles - §63.4311(a) Semiannual Compliance Report Spreadsheet Template"]
[null,"\n"]
[]
[]
[]
[null,"Company Record No. *\n(Select from dropdown)","Work Practice Standard\n(§63.4311(a)(7)(ii)(N))","Description of Deviation \n(§63.4311(a)(7)(ii)(N))","Starting Date of Deviation from Work Practice Standard \n(§63.4311(a)(7)(ii)(N))","Starting Time of Deviation from Work Practice Standard \n(§63.4311(a)(7)(ii)(N)","Duration of Deviation from Work Practice Standard (hours) (§63.4311(a)(7)(ii)(N))","Cause of Deviation from Work Practice Standard \n(§63.4311(a)(7)(ii)(N))\n(Select from dropdown)","Action(s) Taken to Minimize Emissions \n(§63.4311(a)(7)(ii)(N))","Affected Source\n(§63.4311(a)(7)(ii)(N))\n(Select from dropdown)"]
[null,"RecordId","WorkPracticeStandard","DeviationDescription","WPDeviationStartDate","WPDeviationStartTime","WPDeviationDuration","WPDeviationCause","ActionTaken","AffectedSource"]
[null,"e.g.: 1","e.g.: Organic HAP and waste stored in closed containers","e.g.: Container left open","e.g.: 3/2/2020","e.g.: 15:30","e.g.: 12.5","e.g.: Other known causes","e.g.: replaced lid","e.g. South and west web coating"]

{"sheet":"Deviation_Equiv_ER","index":15,"n_rows":14,"n_cols":14,"rows_kept":14,"cut":false,"hidden":false,"merged":[]}
[null,"DO NOT REMOVE OR EDIT INFORMATION IN THIS SECTION \nFOR INTERNAL USE ONLY"]
[null,"Template Name",{"$f":"+Welcome!B2","v":"63.4311(a) Semiannual Compliance Report (Spreadsheet Template)"}]
[null,"CitationID",{"$f":"+Welcome!B3","v":"63.4311(a)"}]
[null,"Template Version",{"$f":"+Welcome!B4","v":"v2.01"}]
[null,"Last Updated Date",{"$f":"+Welcome!B5","v":43963}]
[null,{"$f":"+Welcome!B6","v":"OMB Control Number: 2060-0522, Expiration: March 31, 2019"}]
[null,"40 CFR Part 63, Subpart OOOO National Emission Standards for Hazardous Air Pollutants: Printing, Coating, and Dyeing of Fabrics and Other Textiles - §63.4311(a) Semiannual Compliance Report Spreadsheet Template"]
[null,"\n"]
[]
[]
[]
[null,"Company Record No. *\n(Select from dropdown)","Name of Operation \n(§63. 4311(a)(3)(iv))\n(Select from dropdown)","Starting Date of Compliance Period with Deviation from Operating Scenario\n(§63.4311(a)(8)(i))","Ending Date of Compliance Period with Deviation from Operating Scenario (§63.4311(a)(8)(i))","Starting Date of Deviation from Operating Scenario (§63.4311(a)(8)(i))","Starting Time of Deviation from Operating Scenario (§63.4311(a)(8)(i))","Duration of Deviation from Operating Scenario (hours) (§63.4311(a)(8)(i))","Affected Source \n(§63.4311(a)(8)(i))\n(Select from dropdown)","Cause of Deviation  (§63.4311(a)(8)(i))\n(Select from dropdown)","If Deviation is a failure to treat organic HAP containing watewater; explanation of deviation \n(§63.4311(a)(8)(ii))","If Deviation is a failure to treat organic HAP containing watewater; Mass of Organic HAP discharged that was not treated (kg) \n(§63.4311(a)(8)(ii))","Fraction of organic HAP applied in dyeing/finishing affected source discharged to wastewater \n(§63.4311(a)(8)(ii))","Total organic HAP emissions from Dyeing/Finishing Affected Source by Equation 4 of §63.4331 (kg) (§63.4311(a)(8)(iv))"]
[null,"RecordId","OperationName","PeriodStartDate","PeriodEndDate","DeviationStartDate","DeviationStartTime","DeviationDuration","AffectedSource","DeviationCause","DeviationWastewaterExplanation","WastewaterHapMass","WastewaterHapFraction","TotalHapEmissions"]
[null,"e.g.: 1","e.g.: East Dyeing","e.g.: 3/1/2020","e.g.: 3/30/2020","e.g.: 3/2/2020","e.g.: 13:50","e.g.: 22.5","e.g.: East Dyeing ","e.g.: Other Known Causes","e.g.: HAP containing material poured in drain not leading to WWTP","e.g.: 2.0","e.g.: 0.5","e.g.: 6.0"]

{"sheet":"Description_of_Changes","index":16,"n_rows":14,"n_cols":3,"rows_kept":14,"cut":false,"hidden":false,"merged":[]}
[null,"DO NOT REMOVE OR EDIT INFORMATION IN THIS SECTION \nFOR INTERNAL USE ONLY"]
[null,"Template Name",{"$f":"+Welcome!B2","v":"63.4311(a) Semiannual Compliance Report (Spreadsheet Template)"}]
[null,"CitationID",{"$f":"+Welcome!B3","v":"63.4311(a)"}]
[null,"Template Version",{"$f":"+Welcome!B4","v":"v2.01"}]
[null,"Last Updated Date",{"$f":"+Welcome!B5","v":43963}]
[null,{"$f":"+Welcome!B6","v":"OMB Control Number: 2060-0522, Expiration: March 31, 2019"}]
[null,"40 CFR Part 63, Subpart OOOO National Emission Standards for Hazardous Air Pollutants: Printing, Coating, and Dyeing of Fabrics and Other Textiles - "]
[null,"§63.4311(a) Semiannual Compliance Report Spreadsheet Template"]
[]
[]
[]
[null,"Company Record No. *\n(Select from dropdown)","Describe any changes in the CPMS, web coating/printing or dyeing/finishing operation, emission capture system, or add-on control device since the last semiannual reporting period. (§63.4311(a)(7)(ii)(M))"]
[null,"RecordId","PeriodChangeDesc"]
[null,"e.g.: 1"]

{"sheet":"Number_of_Deviations","index":17,"n_rows":100,"n_cols":8,"rows_kept":100,"cut":false,"hidden":false,"merged":[]}
[null,"DO NOT REMOVE OR EDIT INFORMATION IN THIS SECTION\nFOR INTERNAL USE ONLY"]
[null,"Template Name",{"$f":"+Welcome!B2","v":"63.4311(a) Semiannual Compliance Report (Spreadsheet Template)"}]
[null,"CitationID",{"$f":"+Welcome!B3","v":"63.4311(a)"}]
[null,"Template Version",{"$f":"+Welcome!B4","v":"v2.01"}]
[null,"Last Updated Date",{"$f":"+Welcome!B5","v":43963}]
[null,{"$f":"+Welcome!B6","v":"OMB Control Number: 2060-0522, Expiration: March 31, 2019"}]
[null,"40 CFR Part 63, Subpart OOOO National Emission Standards for Hazardous Air Pollutants: Printing, Coating, and Dyeing of Fabrics and Other Textiles -"]
[null,"§63.4311(a) Semiannual Compliance Report Spreadsheet Template"]
[]
[]
[]
[null,"Company Record No. *\n(Autofilled)","Name of Operation \n(§63. 4310(c)(4) and\n§63. 4311(a)(3)(iv))\n(Autofilled)","Identification of the compliance option or options used on each web coating / printing and dyeing / finishing operation during the reporting period (§63. 4310(c)(4) and §63. 4311(a)(3)(iv))\n(Autofilled)","Number of Deviations, Compliant Material Option\n(§63.4311(a)(5)(ii)(E))\n(Autofilled)","Number of Deviations, Emission Rate Without Addon Controls\n(§63.4311(a)(6)(ii)(D))\n(Autofilled)","Number of Deviations, Emission Rate With Addon Controls Workpractice Standards\n(§63.4311(a)(7)(ii)(N))\n(Autofilled)","Number of Deviations, Equivalent Emission Rate Option\n(§63.4311(a)(8))\n(Autofilled)"]
[null,"RecordId","OperationName","ComplianceOptions","DeviationMaterialCount","DeviationNoAddonCount","DeviationAddonCount","DeviationEquivalentCount"]
[null,"e.g.: 1","e.g.: West Web Coating","e.g.: Emission Rate Without Add-on Controls 63.4291(c)(2)","e.g.: 0","e.g.: 0","e.g.: 0","e.g.: 0"]
[null,"e.g.: 1","e.g.: West Web Coating","e.g.: Emission Rate With Add-on Controls 63.4291(c)(3)","e.g.: 0","e.g.: 0","e.g.: 0","e.g.: 0"]
[]
[]
[]
[]
[]
[]
[]
[]
[null,{"$f":"IF(Lists!AA2=\"\",\"\",Lists!AA2)","v":""},{"$f":"IF(Lists!AB2=\"\",\"\",Lists!AB2)","v":""},{"$f":"IF(Lists!AC2=\"\",\"\",Lists!AC2)","v":""},{"$f":"IF($C24=\"\",\"\",IF(OR($D24=\"Compliant Material 63.4291(a)(1)\",$D24=\"Compliant Material 63.4291(b)\",$D24=\"Compliant Material 63.4291(c)(1)\"),COUNTIFS(Deviation_Compliant_Coating!$B$24:$B$500,$B24,Deviation_Compliant_Coating!$C$24:$C$500,$C24),\"N/A\"))","v":""},{"$f":"IF($C24=\"\",\"\",IF(OR($D24=\"Emission Rate Without Add-On Controls 63.4291(a)(2)\",$D24=\"Emission Rate Without Add-On Controls 63.4291(c)(2)\"),COUNTIFS(Deviation_Without_Addon!$B$24:$B$500,$B24,Deviation_Without_Addon!$C$24:$C$500,$C24),\"N/A\"))","v":""},{"$f":"IF($C24=\"\",\"\",IF(OR($D24=\"Emission Rate With Add-on Controls 63.4291(a)(3)\",$D24=\"Emission Rate With Add-On Controls 63.4291(c)(3)\",$D24=\"Organic HAP Overall Control Efficiency 63.4291(a)(4)\",$D24=\"Oxidizer Outlet Organic HAP Concentration Limit 63.4291(a)(5)\"),COUNTIFS(Deviation_w_Addon_WorkPrac!$B$24:$B$500,$B24,Deviation_w_Addon_WorkPrac!$J$24:$J$500,$C24),\"N/A\"))","v":""},{"$f":"IF($C24=\"\",\"\",IF($D24=\"Equivalent Emissions Rate 63.4291(c)(4)\",COUNTIFS(Deviation_Equiv_ER!$B$24:$B$500,$B24,Deviation_Equiv_ER!$I$24:$I$500,$C24),\"N/A\"))","v":""}]
[null,{"$f":"IF(Lists!AA3=\"\",\"\",Lists!AA3)","v":""},{"$f":"IF(Lists!AB3=\"\",\"\",Lists!AB3)","v":""},{"$f":"IF(Lists!AC3=\"\",\"\",Lists!AC3)","v":""},{"$f":"IF($C25=\"\",\"\",IF(OR($D25=\"Compliant Material 63.4291(a)(1)\",$D25=\"Compliant Material 63.4291(b)\",$D25=\"Compliant Material 63.4291(c)(1)\"),COUNTIFS(Deviation_Compliant_Coating!$B$24:$B$500,$B25,Deviation_Compliant_Coating!$C$24:$C$500,$C25),\"N/A\"))","v":""},{"$f":"IF($C25=\"\",\"\",IF(OR($D25=\"Emission Rate Without Add-On Controls 63.4291(a)(2)\",$D25=\"Emission Rate Without Add-On Controls 63.4291(c)(2)\"),COUNTIFS(Deviation_Without_Addon!$B$24:$B$500,$B25,Deviation_Without_Addon!$C$24:$C$500,$C25),\"N/A\"))","v":""},{"$f":"IF($C25=\"\",\"\",IF(OR($D25=\"Emission Rate With Add-on Controls 63.4291(a)(3)\",$D25=\"Emission Rate With Add-On Controls 63.4291(c)(3)\",$D25=\"Organic HAP Overall Control Efficiency 63.4291(a)(4)\",$D25=\"Oxidizer Outlet Organic HAP Concentration Limit 63.4291(a)(5)\"),COUNTIFS(Deviation_w_Addon_WorkPrac!$B$24:$B$500,$B25,Deviation_w_Addon_WorkPrac!$J$24:$J$500,$C25),\"N/A\"))","v":""},{"$f":"IF($C25=\"\",\"\",IF($D25=\"Equivalent Emissions Rate 63.4291(c)(4)\",COUNTIFS(Deviation_Equiv_ER!$B$24:$B$500,$B25,Deviation_Equiv_ER!$I$24:$I$500,$C25),\"N/A\"))","v":""}]
[null,{"$f":"IF(Lists!AA4=\"\",\"\",Lists!AA4)","v":""},{"$f":"IF(Lists!AB4=\"\",\"\",Lists!AB4)","v":""},{"$f":"IF(Lists!AC4=\"\",\"\",Lists!AC4)","v":""},{"$f":"IF($C26=\"\",\"\",IF(OR($D26=\"Compliant Material 63.4291(a)(1)\",$D26=\"Compliant Material 63.4291(b)\",$D26=\"Compliant Material 63.4291(c)(1)\"),COUNTIFS(Deviation_Compliant_Coating!$B$24:$B$500,$B26,Deviation_Compliant_Coating!$C$24:$C$500,$C26),\"N/A\"))","v":""},{"$f":"IF($C26=\"\",\"\",IF(OR($D26=\"Emission Rate Without Add-On Controls 63.4291(a)(2)\",$D26=\"Emission Rate Without Add-On Controls 63.4291(c)(2)\"),COUNTIFS(Deviation_Without_Addon!$B$24:$B$500,$B26,Deviation_Without_Addon!$C$24:$C$500,$C26),\"N/A\"))","v":""},{"$f":"IF($C26=\"\",\"\",IF(OR($D26=\"Emission Rate With Add-on Controls 63.4291(a)(3)\",$D26=\"Emission Rate With Add-On Controls 63.4291(c)(3)\",$D26=\"Organic HAP Overall Control Efficiency 63.4291(a)(4)\",$D26=\"Oxidizer Outlet Organic HAP Concentration Limit 63.4291(a)(5)\"),COUNTIFS(Deviation_w_Addon_WorkPrac!$B$24:$B$500,$B26,Deviation_w_Addon_WorkPrac!$J$24:$J$500,$C26),\"N/A\"))","v":""},{"$f":"IF($C26=\"\",\"\",IF($D26=\"Equivalent Emissions Rate 63.4291(c)(4)\",COUNTIFS(Deviation_Equiv_ER!$B$24:$B$500,$B26,Deviation_Equiv_ER!$I$24:$I$500,$C26),\"N/A\"))","v":""}]
[null,{"$f":"IF(Lists!AA5=\"\",\"\",Lists!AA5)","v":""},{"$f":"IF(Lists!AB5=\"\",\"\",Lists!AB5)","v":""},{"$f":"IF(Lists!AC5=\"\",\"\",Lists!AC5)","v":""},{"$f":"IF($C27=\"\",\"\",IF(OR($D27=\"Compliant Material 63.4291(a)(1)\",$D27=\"Compliant Material 63.4291(b)\",$D27=\"Compliant Material 63.4291(c)(1)\"),COUNTIFS(Deviation_Compliant_Coating!$B$24:$B$500,$B27,Deviation_Compliant_Coating!$C$24:$C$500,$C27),\"N/A\"))","v":""},{"$f":"IF($C27=\"\",\"\",IF(OR($D27=\"Emission Rate Without Add-On Controls 63.4291(a)(2)\",$D27=\"Emission Rate Without Add-On Controls 63.4291(c)(2)\"),COUNTIFS(Deviation_Without_Addon!$B$24:$B$500,$B27,Deviation_Without_Addon!$C$24:$C$500,$C27),\"N/A\"))","v":""},{"$f":"IF($C27=\"\",\"\",IF(OR($D27=\"Emission Rate With Add-on Controls 63.4291(a)(3)\",$D27=\"Emission Rate With Add-On Controls 63.4291(c)(3)\",$D27=\"Organic HAP Overall Control Efficiency 63.4291(a)(4)\",$D27=\"Oxidizer Outlet Organic HAP Concentration Limit 63.4291(a)(5)\"),COUNTIFS(Deviation_w_Addon_WorkPrac!$B$24:$B$500,$B27,Deviation_w_Addon_WorkPrac!$J$24:$J$500,$C27),\"N/A\"))","v":""},{"$f":"IF($C27=\"\",\"\",IF($D27=\"Equivalent Emissions Rate 63.4291(c)(4)\",COUNTIFS(Deviation_Equiv_ER!$B$24:$B$500,$B27,Deviation_Equiv_ER!$I$24:$I$500,$C27),\"N/A\"))","v":""}]
[null,{"$f":"IF(Lists!AA6=\"\",\"\",Lists!AA6)","v":""},{"$f":"IF(Lists!AB6=\"\",\"\",Lists!AB6)","v":""},{"$f":"IF(Lists!AC6=\"\",\"\",Lists!AC6)","v":""},{"$f":"IF($C28=\"\",\"\",IF(OR($D28=\"Compliant Material 63.4291(a)(1)\",$D28=\"Compliant Material 63.4291(b)\",$D28=\"Compliant Material 63.4291(c)(1)\"),COUNTIFS(Deviation_Compliant_Coating!$B$24:$B$500,$B28,Deviation_Compliant_Coating!$C$24:$C$500,$C28),\"N/A\"))","v":""},{"$f":"IF($C28=\"\",\"\",IF(OR($D28=\"Emission Rate Without Add-On Controls 63.4291(a)(2)\",$D28=\"Emission Rate Without Add-On Controls 63.4291(c)(2)\"),COUNTIFS(Deviation_Without_Addon!$B$24:$B$500,$B28,Deviation_Without_Addon!$C$24:$C$500,$C28),\"N/A\"))","v":""},{"$f":"IF($C28=\"\",\"\",IF(OR($D28=\"Emission Rate With Add-on Controls 63.4291(a)(3)\",$D28=\"Emission Rate With Add-On Controls 63.4291(c)(3)\",$D28=\"Organic HAP Overall Control Efficiency 63.4291(a)(4)\",$D28=\"Oxidizer Outlet Organic HAP Concentration Limit 63.4291(a)(5)\"),COUNTIFS(Deviation_w_Addon_WorkPrac!$B$24:$B$500,$B28,Deviation_w_Addon_WorkPrac!$J$24:$J$500,$C28),\"N/A\"))","v":""},{"$f":"IF($C28=\"\",\"\",IF($D28=\"Equivalent Emissions Rate 63.4291(c)(4)\",COUNTIFS(Deviation_Equiv_ER!$B$24:$B$500,$B28,Deviation_Equiv_ER!$I$24:$I$500,$C28),\"N/A\"))","v":""}]
[null,{"$f":"IF(Lists!AA7=\"\",\"\",Lists!AA7)","v":""},{"$f":"IF(Lists!AB7=\"\",\"\",Lists!AB7)","v":""},{"$f":"IF(Lists!AC7=\"\",\"\",Lists!AC7)","v":""},{"$f":"IF($C29=\"\",\"\",IF(OR($D29=\"Compliant Material 63.4291(a)(1)\",$D29=\"Compliant Material 63.4291(b)\",$D29=\"Compliant Material 63.4291(c)(1)\"),COUNTIFS(Deviation_Compliant_Coating!$B$24:$B$500,$B29,Deviation_Compliant_Coating!$C$24:$C$500,$C29),\"N/A\"))","v":""},{"$f":"IF($C29=\"\",\"\",IF(OR($D29=\"Emission Rate Without Add-On Controls 63.4291(a)(2)\",$D29=\"Emission Rate Without Add-On Controls 63.4291(c)(2)\"),COUNTIFS(Deviation_Without_Addon!$B$24:$B$500,$B29,Deviation_Without_Addon!$C$24:$C$500,$C29),\"N/A\"))","v":""},{"$f":"IF($C29=\"\",\"\",IF(OR($D29=\"Emission Rate With Add-on Controls 63.4291(a)(3)\",$D29=\"Emission Rate With Add-On Controls 63.4291(c)(3)\",$D29=\"Organic HAP Overall Control Efficiency 63.4291(a)(4)\",$D29=\"Oxidizer Outlet Organic HAP Concentration Limit 63.4291(a)(5)\"),COUNTIFS(Deviation_w_Addon_WorkPrac!$B$24:$B$500,$B29,Deviation_w_Addon_WorkPrac!$J$24:$J$500,$C29),\"N/A\"))","v":""},{"$f":"IF($C29=\"\",\"\",IF($D29=\"Equivalent Emissions Rate 63.4291(c)(4)\",COUNTIFS(Deviation_Equiv_ER!$B$24:$B$500,$B29,Deviation_Equiv_ER!$I$24:$I$500,$C29),\"N/A\"))","v":""}]
[null,{"$f":"IF(Lists!AA8=\"\",\"\",Lists!AA8)","v":""},{"$f":"IF(Lists!AB8=\"\",\"\",Lists!AB8)","v":""},{"$f":"IF(Lists!AC8=\"\",\"\",Lists!AC8)","v":""},{"$f":"IF($C30=\"\",\"\",IF(OR($D30=\"Compliant Material 63.4291(a)(1)\",$D30=\"Compliant Material 63.4291(b)\",$D30=\"Compliant Material 63.4291(c)(1)\"),COUNTIFS(Deviation_Compliant_Coating!$B$24:$B$500,$B30,Deviation_Compliant_Coating!$C$24:$C$500,$C30),\"N/A\"))","v":""},{"$f":"IF($C30=\"\",\"\",IF(OR($D30=\"Emission Rate Without Add-On Controls 63.4291(a)(2)\",$D30=\"Emission Rate Without Add-On Controls 63.4291(c)(2)\"),COUNTIFS(Deviation_Without_Addon!$B$24:$B$500,$B30,Deviation_Without_Addon!$C$24:$C$500,$C30),\"N/A\"))","v":""},{"$f":"IF($C30=\"\",\"\",IF(OR($D30=\"Emission Rate With Add-on Controls 63.4291(a)(3)\",$D30=\"Emission Rate With Add-On Controls 63.4291(c)(3)\",$D30=\"Organic HAP Overall Control Efficiency 63.4291(a)(4)\",$D30=\"Oxidizer Outlet Organic HAP Concentration Limit 63.4291(a)(5)\"),COUNTIFS(Deviation_w_Addon_WorkPrac!$B$24:$B$500,$B30,Deviation_w_Addon_WorkPrac!$J$24:$J$500,$C30),\"N/A\"))","v":""},{"$f":"IF($C30=\"\",\"\",IF($D30=\"Equivalent Emissions Rate 63.4291(c)(4)\",COUNTIFS(Deviation_Equiv_ER!$B$24:$B$500,$B30,Deviation_Equiv_ER!$I$24:$I$500,$C30),\"N/A\"))","v":""}]
[null,{"$f":"IF(Lists!AA9=\"\",\"\",Lists!AA9)","v":""},{"$f":"IF(Lists!AB9=\"\",\"\",Lists!AB9)","v":""},{"$f":"IF(Lists!AC9=\"\",\"\",Lists!AC9)","v":""},{"$f":"IF($C31=\"\",\"\",IF(OR($D31=\"Compliant Material 63.4291(a)(1)\",$D31=\"Compliant Material 63.4291(b)\",$D31=\"Compliant Material 63.4291(c)(1)\"),COUNTIFS(Deviation_Compliant_Coating!$B$24:$B$500,$B31,Deviation_Compliant_Coating!$C$24:$C$500,$C31),\"N/A\"))","v":""},{"$f":"IF($C31=\"\",\"\",IF(OR($D31=\"Emission Rate Without Add-On Controls 63.4291(a)(2)\",$D31=\"Emission Rate Without Add-On Controls 63.4291(c)(2)\"),COUNTIFS(Deviation_Without_Addon!$B$24:$B$500,$B31,Deviation_Without_Addon!$C$24:$C$500,$C31),\"N/A\"))","v":""},{"$f":"IF($C31=\"\",\"\",IF(OR($D31=\"Emission Rate With Add-on Controls 63.4291(a)(3)\",$D31=\"Emission Rate With Add-On Controls 63.4291(c)(3)\",$D31=\"Organic HAP Overall Control Efficiency 63.4291(a)(4)\",$D31=\"Oxidizer Outlet Organic HAP Concentration Limit 63.4291(a)(5)\"),COUNTIFS(Deviation_w_Addon_WorkPrac!$B$24:$B$500,$B31,Deviation_w_Addon_WorkPrac!$J$24:$J$500,$C31),\"N/A\"))","v":""},{"$f":"IF($C31=\"\",\"\",IF($D31=\"Equivalent Emissions Rate 63.4291(c)(4)\",COUNTIFS(Deviation_Equiv_ER!$B$24:$B$500,$B31,Deviation_Equiv_ER!$I$24:$I$500,$C31),\"N/A\"))","v":""}]
[null,{"$f":"IF(Lists!AA10=\"\",\"\",Lists!AA10)","v":""},{"$f":"IF(Lists!AB10=\"\",\"\",Lists!AB10)","v":""},{"$f":"IF(Lists!AC10=\"\",\"\",Lists!AC10)","v":""},{"$f":"IF($C32=\"\",\"\",IF(OR($D32=\"Compliant Material 63.4291(a)(1)\",$D32=\"Compliant Material 63.4291(b)\",$D32=\"Compliant Material 63.4291(c)(1)\"),COUNTIFS(Deviation_Compliant_Coating!$B$24:$B$500,$B32,Deviation_Compliant_Coating!$C$24:$C$500,$C32),\"N/A\"))","v":""},{"$f":"IF($C32=\"\",\"\",IF(OR($D32=\"Emission Rate Without Add-On Controls 63.4291(a)(2)\",$D32=\"Emission Rate Without Add-On Controls 63.4291(c)(2)\"),COUNTIFS(Deviation_Without_Addon!$B$24:$B$500,$B32,Deviation_Without_Addon!$C$24:$C$500,$C32),\"N/A\"))","v":""},{"$f":"IF($C32=\"\",\"\",IF(OR($D32=\"Emission Rate With Add-on Controls 63.4291(a)(3)\",$D32=\"Emission Rate With Add-On Controls 63.4291(c)(3)\",$D32=\"Organic HAP Overall Control Efficiency 63.4291(a)(4)\",$D32=\"Oxidizer Outlet Organic HAP Concentration Limit 63.4291(a)(5)\"),COUNTIFS(Deviation_w_Addon_WorkPrac!$B$24:$B$500,$B32,Deviation_w_Addon_WorkPrac!$J$24:$J$500,$C32),\"N/A\"))","v":""},{"$f":"IF($C32=\"\",\"\",IF($D32=\"Equivalent Emissions Rate 63.4291(c)(4)\",COUNTIFS(Deviation_Equiv_ER!$B$24:$B$500,$B32,Deviation_Equiv_ER!$I$24:$I$500,$C32),\"N/A\"))","v":""}]
[null,{"$f":"IF(Lists!AA11=\"\",\"\",Lists!AA11)","v":""},{"$f":"IF(Lists!AB11=\"\",\"\",Lists!AB11)","v":""},{"$f":"IF(Lists!AC11=\"\",\"\",Lists!AC11)","v":""},{"$f":"IF($C33=\"\",\"\",IF(OR($D33=\"Compliant Material 63.4291(a)(1)\",$D33=\"Compliant Material 63.4291(b)\",$D33=\"Compliant Material 63.4291(c)(1)\"),COUNTIFS(Deviation_Compliant_Coating!$B$24:$B$500,$B33,Deviation_Compliant_Coating!$C$24:$C$500,$C33),\"N/A\"))","v":""},{"$f":"IF($C33=\"\",\"\",IF(OR($D33=\"Emission Rate Without Add-On Controls 63.4291(a)(2)\",$D33=\"Emission Rate Without Add-On Controls 63.4291(c)(2)\"),COUNTIFS(Deviation_Without_Addon!$B$24:$B$500,$B33,Deviation_Without_Addon!$C$24:$C$500,$C33),\"N/A\"))","v":""},{"$f":"IF($C33=\"\",\"\",IF(OR($D33=\"Emission Rate With Add-on Controls 63.4291(a)(3)\",$D33=\"Emission Rate With Add-On Controls 63.4291(c)(3)\",$D33=\"Organic HAP Overall Control Efficiency 63.4291(a)(4)\",$D33=\"Oxidizer Outlet Organic HAP Concentration Limit 63.4291(a)(5)\"),COUNTIFS(Deviation_w_Addon_WorkPrac!$B$24:$B$500,$B33,Deviation_w_Addon_WorkPrac!$J$24:$J$500,$C33),\"N/A\"))","v":""},{"$f":"IF($C33=\"\",\"\",IF($D33=\"Equivalent Emissions Rate 63.4291(c)(4)\",COUNTIFS(Deviation_Equiv_ER!$B$24:$B$500,$B33,Deviation_Equiv_ER!$I$24:$I$500,$C33),\"N/A\"))","v":""}]
[null,{"$f":"IF(Lists!AA12=\"\",\"\",Lists!AA12)","v":""},{"$f":"IF(Lists!AB12=\"\",\"\",Lists!AB12)","v":""},{"$f":"IF(Lists!AC12=\"\",\"\",Lists!AC12)","v":""},{"$f":"IF($C34=\"\",\"\",IF(OR($D34=\"Compliant Material 63.4291(a)(1)\",$D34=\"Compliant Material 63.4291(b)\",$D34=\"Compliant Material 63.4291(c)(1)\"),COUNTIFS(Deviation_Compliant_Coating!$B$24:$B$500,$B34,Deviation_Compliant_Coating!$C$24:$C$500,$C34),\"N/A\"))","v":""},{"$f":"IF($C34=\"\",\"\",IF(OR($D34=\"Emission Rate Without Add-On Controls 63.4291(a)(2)\",$D34=\"Emission Rate Without Add-On Controls 63.4291(c)(2)\"),COUNTIFS(Deviation_Without_Addon!$B$24:$B$500,$B34,Deviation_Without_Addon!$C$24:$C$500,$C34),\"N/A\"))","v":""},{"$f":"IF($C34=\"\",\"\",IF(OR($D34=\"Emission Rate With Add-on Controls 63.4291(a)(3)\",$D34=\"Emission Rate With Add-On Controls 63.4291(c)(3)\",$D34=\"Organic HAP Overall Control Efficiency 63.4291(a)(4)\",$D34=\"Oxidizer Outlet Organic HAP Concentration Limit 63.4291(a)(5)\"),COUNTIFS(Deviation_w_Addon_WorkPrac!$B$24:$B$500,$B34,Deviation_w_Addon_WorkPrac!$J$24:$J$500,$C34),\"N/A\"))","v":""},{"$f":"IF($C34=\"\",\"\",IF($D34=\"Equivalent Emissions Rate 63.4291(c)(4)\",COUNTIFS(Deviation_Equiv_ER!$B$24:$B$500,$B34,Deviation_Equiv_ER!$I$24:$I$500,$C34),\"N/A\"))","v":""}]
[null,{"$f":"IF(Lists!AA13=\"\",\"\",Lists!AA13)","v":""},{"$f":"IF(Lists!AB13=\"\",\"\",Lists!AB13)","v":""},{"$f":"IF(Lists!AC13=\"\",\"\",Lists!AC13)","v":""},{"$f":"IF($C35=\"\",\"\",IF(OR($D35=\"Compliant Material 63.4291(a)(1)\",$D35=\"Compliant Material 63.4291(b)\",$D35=\"Compliant Material 63.4291(c)(1)\"),COUNTIFS(Deviation_Compliant_Coating!$B$24:$B$500,$B35,Deviation_Compliant_Coating!$C$24:$C$500,$C35),\"N/A\"))","v":""},{"$f":"IF($C35=\"\",\"\",IF(OR($D35=\"Emission Rate Without Add-On Controls 63.4291(a)(2)\",$D35=\"Emission Rate Without Add-On Controls 63.4291(c)(2)\"),COUNTIFS(Deviation_Without_Addon!$B$24:$B$500,$B35,Deviation_Without_Addon!$C$24:$C$500,$C35),\"N/A\"))","v":""},{"$f":"IF($C35=\"\",\"\",IF(OR($D35=\"Emission Rate With Add-on Controls 63.4291(a)(3)\",$D35=\"Emission Rate With Add-On Controls 63.4291(c)(3)\",$D35=\"Organic HAP Overall Control Efficiency 63.4291(a)(4)\",$D35=\"Oxidizer Outlet Organic HAP Concentration Limit 63.4291(a)(5)\"),COUNTIFS(Deviation_w_Addon_WorkPrac!$B$24:$B$500,$B35,Deviation_w_Addon_WorkPrac!$J$24:$J$500,$C35),\"N/A\"))","v":""},{"$f":"IF($C35=\"\",\"\",IF($D35=\"Equivalent Emissions Rate 63.4291(c)(4)\",COUNTIFS(Deviation_Equiv_ER!$B$24:$B$500,$B35,Deviation_Equiv_ER!$I$24:$I$500,$C35),\"N/A\"))","v":""}]
[null,{"$f":"IF(Lists!AA14=\"\",\"\",Lists!AA14)","v":""},{"$f":"IF(Lists!AB14=\"\",\"\",Lists!AB14)","v":""},{"$f":"IF(Lists!AC14=\"\",\"\",Lists!AC14)","v":""},{"$f":"IF($C36=\"\",\"\",IF(OR($D36=\"Compliant Material 63.4291(a)(1)\",$D36=\"Compliant Material 63.4291(b)\",$D36=\"Compliant Material 63.4291(c)(1)\"),COUNTIFS(Deviation_Compliant_Coating!$B$24:$B$500,$B36,Deviation_Compliant_Coating!$C$24:$C$500,$C36),\"N/A\"))","v":""},{"$f":"IF($C36=\"\",\"\",IF(OR($D36=\"Emission Rate Without Add-On Controls 63.4291(a)(2)\",$D36=\"Emission Rate Without Add-On Controls 63.4291(c)(2)\"),COUNTIFS(Deviation_Without_Addon!$B$24:$B$500,$B36,Deviation_Without_Addon!$C$24:$C$500,$C36),\"N/A\"))","v":""},{"$f":"IF($C36=\"\",\"\",IF(OR($D36=\"Emission Rate With Add-on Controls 63.4291(a)(3)\",$D36=\"Emission Rate With Add-On Controls 63.4291(c)(3)\",$D36=\"Organic HAP Overall Control Efficiency 63.4291(a)(4)\",$D36=\"Oxidizer Outlet Organic HAP Concentration Limit 63.4291(a)(5)\"),COUNTIFS(Deviation_w_Addon_WorkPrac!$B$24:$B$500,$B36,Deviation_w_Addon_WorkPrac!$J$24:$J$500,$C36),\"N/A\"))","v":""},{"$f":"IF($C36=\"\",\"\",IF($D36=\"Equivalent Emissions Rate 63.4291(c)(4)\",COUNTIFS(Deviation_Equiv_ER!$B$24:$B$500,$B36,Deviation_Equiv_ER!$I$24:$I$500,$C36),\"N/A\"))","v":""}]
[null,{"$f":"IF(Lists!AA15=\"\",\"\",Lists!AA15)","v":""},{"$f":"IF(Lists!AB15=\"\",\"\",Lists!AB15)","v":""},{"$f":"IF(Lists!AC15=\"\",\"\",Lists!AC15)","v":""},{"$f":"IF($C37=\"\",\"\",IF(OR($D37=\"Compliant Material 63.4291(a)(1)\",$D37=\"Compliant Material 63.4291(b)\",$D37=\"Compliant Material 63.4291(c)(1)\"),COUNTIFS(Deviation_Compliant_Coating!$B$24:$B$500,$B37,Deviation_Compliant_Coating!$C$24:$C$500,$C37),\"N/A\"))","v":""},{"$f":"IF($C37=\"\",\"\",IF(OR($D37=\"Emission Rate Without Add-On Controls 63.4291(a)(2)\",$D37=\"Emission Rate Without Add-On Controls 63.4291(c)(2)\"),COUNTIFS(Deviation_Without_Addon!$B$24:$B$500,$B37,Deviation_Without_Addon!$C$24:$C$500,$C37),\"N/A\"))","v":""},{"$f":"IF($C37=\"\",\"\",IF(OR($D37=\"Emission Rate With Add-on Controls 63.4291(a)(3)\",$D37=\"Emission Rate With Add-On Controls 63.4291(c)(3)\",$D37=\"Organic HAP Overall Control Efficiency 63.4291(a)(4)\",$D37=\"Oxidizer Outlet Organic HAP Concentration Limit 63.4291(a)(5)\"),COUNTIFS(Deviation_w_Addon_WorkPrac!$B$24:$B$500,$B37,Deviation_w_Addon_WorkPrac!$J$24:$J$500,$C37),\"N/A\"))","v":""},{"$f":"IF($C37=\"\",\"\",IF($D37=\"Equivalent Emissions Rate 63.4291(c)(4)\",COUNTIFS(Deviation_Equiv_ER!$B$24:$B$500,$B37,Deviation_Equiv_ER!$I$24:$I$500,$C37),\"N/A\"))","v":""}]
[null,{"$f":"IF(Lists!AA16=\"\",\"\",Lists!AA16)","v":""},{"$f":"IF(Lists!AB16=\"\",\"\",Lists!AB16)","v":""},{"$f":"IF(Lists!AC16=\"\",\"\",Lists!AC16)","v":""},{"$f":"IF($C38=\"\",\"\",IF(OR($D38=\"Compliant Material 63.4291(a)(1)\",$D38=\"Compliant Material 63.4291(b)\",$D38=\"Compliant Material 63.4291(c)(1)\"),COUNTIFS(Deviation_Compliant_Coating!$B$24:$B$500,$B38,Deviation_Compliant_Coating!$C$24:$C$500,$C38),\"N/A\"))","v":""},{"$f":"IF($C38=\"\",\"\",IF(OR($D38=\"Emission Rate Without Add-On Controls 63.4291(a)(2)\",$D38=\"Emission Rate Without Add-On Controls 63.4291(c)(2)\"),COUNTIFS(Deviation_Without_Addon!$B$24:$B$500,$B38,Deviation_Without_Addon!$C$24:$C$500,$C38),\"N/A\"))","v":""},{"$f":"IF($C38=\"\",\"\",IF(OR($D38=\"Emission Rate With Add-on Controls 63.4291(a)(3)\",$D38=\"Emission Rate With Add-On Controls 63.4291(c)(3)\",$D38=\"Organic HAP Overall Control Efficiency 63.4291(a)(4)\",$D38=\"Oxidizer Outlet Organic HAP Concentration Limit 63.4291(a)(5)\"),COUNTIFS(Deviation_w_Addon_WorkPrac!$B$24:$B$500,$B38,Deviation_w_Addon_WorkPrac!$J$24:$J$500,$C38),\"N/A\"))","v":""},{"$f":"IF($C38=\"\",\"\",IF($D38=\"Equivalent Emissions Rate 63.4291(c)(4)\",COUNTIFS(Deviation_Equiv_ER!$B$24:$B$500,$B38,Deviation_Equiv_ER!$I$24:$I$500,$C38),\"N/A\"))","v":""}]
[null,{"$f":"IF(Lists!AA17=\"\",\"\",Lists!AA17)","v":""},{"$f":"IF(Lists!AB17=\"\",\"\",Lists!AB17)","v":""},{"$f":"IF(Lists!AC17=\"\",\"\",Lists!AC17)","v":""},{"$f":"IF($C39=\"\",\"\",IF(OR($D39=\"Compliant Material 63.4291(a)(1)\",$D39=\"Compliant Material 63.4291(b)\",$D39=\"Compliant Material 63.4291(c)(1)\"),COUNTIFS(Deviation_Compliant_Coating!$B$24:$B$500,$B39,Deviation_Compliant_Coating!$C$24:$C$500,$C39),\"N/A\"))","v":""},{"$f":"IF($C39=\"\",\"\",IF(OR($D39=\"Emission Rate Without Add-On Controls 63.4291(a)(2)\",$D39=\"Emission Rate Without Add-On Controls 63.4291(c)(2)\"),COUNTIFS(Deviation_Without_Addon!$B$24:$B$500,$B39,Deviation_Without_Addon!$C$24:$C$500,$C39),\"N/A\"))","v":""},{"$f":"IF($C39=\"\",\"\",IF(OR($D39=\"Emission Rate With Add-on Controls 63.4291(a)(3)\",$D39=\"Emission Rate With Add-On Controls 63.4291(c)(3)\",$D39=\"Organic HAP Overall Control Efficiency 63.4291(a)(4)\",$D39=\"Oxidizer Outlet Organic HAP Concentration Limit 63.4291(a)(5)\"),COUNTIFS(Deviation_w_Addon_WorkPrac!$B$24:$B$500,$B39,Deviation_w_Addon_WorkPrac!$J$24:$J$500,$C39),\"N/A\"))","v":""},{"$f":"IF($C39=\"\",\"\",IF($D39=\"Equivalent Emissions Rate 63.4291(c)(4)\",COUNTIFS(Deviation_Equiv_ER!$B$24:$B$500,$B39,Deviation_Equiv_ER!$I$24:$I$500,$C39),\"N/A\"))","v":""}]
[null,{"$f":"IF(Lists!AA18=\"\",\"\",Lists!AA18)","v":""},{"$f":"IF(Lists!AB18=\"\",\"\",Lists!AB18)","v":""},{"$f":"IF(Lists!AC18=\"\",\"\",Lists!AC18)","v":""},{"$f":"IF($C40=\"\",\"\",IF(OR($D40=\"Compliant Material 63.4291(a)(1)\",$D40=\"Compliant Material 63.4291(b)\",$D40=\"Compliant Material 63.4291(c)(1)\"),COUNTIFS(Deviation_Compliant_Coating!$B$24:$B$500,$B40,Deviation_Compliant_Coating!$C$24:$C$500,$C40),\"N/A\"))","v":""},{"$f":"IF($C40=\"\",\"\",IF(OR($D40=\"Emission Rate Without Add-On Controls 63.4291(a)(2)\",$D40=\"Emission Rate Without Add-On Controls 63.4291(c)(2)\"),COUNTIFS(Deviation_Without_Addon!$B$24:$B$500,$B40,Deviation_Without_Addon!$C$24:$C$500,$C40),\"N/A\"))","v":""},{"$f":"IF($C40=\"\",\"\",IF(OR($D40=\"Emission Rate With Add-on Controls 63.4291(a)(3)\",$D40=\"Emission Rate With Add-On Controls 63.4291(c)(3)\",$D40=\"Organic HAP Overall Control Efficiency 63.4291(a)(4)\",$D40=\"Oxidizer Outlet Organic HAP Concentration Limit 63.4291(a)(5)\"),COUNTIFS(Deviation_w_Addon_WorkPrac!$B$24:$B$500,$B40,Deviation_w_Addon_WorkPrac!$J$24:$J$500,$C40),\"N/A\"))","v":""},{"$f":"IF($C40=\"\",\"\",IF($D40=\"Equivalent Emissions Rate 63.4291(c)(4)\",COUNTIFS(Deviation_Equiv_ER!$B$24:$B$500,$B40,Deviation_Equiv_ER!$I$24:$I$500,$C40),\"N/A\"))","v":""}]
[null,{"$f":"IF(Lists!AA19=\"\",\"\",Lists!AA19)","v":""},{"$f":"IF(Lists!AB19=\"\",\"\",Lists!AB19)","v":""},{"$f":"IF(Lists!AC19=\"\",\"\",Lists!AC19)","v":""},{"$f":"IF($C41=\"\",\"\",IF(OR($D41=\"Compliant Material 63.4291(a)(1)\",$D41=\"Compliant Material 63.4291(b)\",$D41=\"Compliant Material 63.4291(c)(1)\"),COUNTIFS(Deviation_Compliant_Coating!$B$24:$B$500,$B41,Deviation_Compliant_Coating!$C$24:$C$500,$C41),\"N/A\"))","v":""},{"$f":"IF($C41=\"\",\"\",IF(OR($D41=\"Emission Rate Without Add-On Controls 63.4291(a)(2)\",$D41=\"Emission Rate Without Add-On Controls 63.4291(c)(2)\"),COUNTIFS(Deviation_Without_Addon!$B$24:$B$500,$B41,Deviation_Without_Addon!$C$24:$C$500,$C41),\"N/A\"))","v":""},{"$f":"IF($C41=\"\",\"\",IF(OR($D41=\"Emission Rate With Add-on Controls 63.4291(a)(3)\",$D41=\"Emission Rate With Add-On Controls 63.4291(c)(3)\",$D41=\"Organic HAP Overall Control Efficiency 63.4291(a)(4)\",$D41=\"Oxidizer Outlet Organic HAP Concentration Limit 63.4291(a)(5)\"),COUNTIFS(Deviation_w_Addon_WorkPrac!$B$24:$B$500,$B41,Deviation_w_Addon_WorkPrac!$J$24:$J$500,$C41),\"N/A\"))","v":""},{"$f":"IF($C41=\"\",\"\",IF($D41=\"Equivalent Emissions Rate 63.4291(c)(4)\",COUNTIFS(Deviation_Equiv_ER!$B$24:$B$500,$B41,Deviation_Equiv_ER!$I$24:$I$500,$C41),\"N/A\"))","v":""}]
[null,{"$f":"IF(Lists!AA20=\"\",\"\",Lists!AA20)","v":""},{"$f":"IF(Lists!AB20=\"\",\"\",Lists!AB20)","v":""},{"$f":"IF(Lists!AC20=\"\",\"\",Lists!AC20)","v":""},{"$f":"IF($C42=\"\",\"\",IF(OR($D42=\"Compliant Material 63.4291(a)(1)\",$D42=\"Compliant Material 63.4291(b)\",$D42=\"Compliant Material 63.4291(c)(1)\"),COUNTIFS(Deviation_Compliant_Coating!$B$24:$B$500,$B42,Deviation_Compliant_Coating!$C$24:$C$500,$C42),\"N/A\"))","v":""},{"$f":"IF($C42=\"\",\"\",IF(OR($D42=\"Emission Rate Without Add-On Controls 63.4291(a)(2)\",$D42=\"Emission Rate Without Add-On Controls 63.4291(c)(2)\"),COUNTIFS(Deviation_Without_Addon!$B$24:$B$500,$B42,Deviation_Without_Addon!$C$24:$C$500,$C42),\"N/A\"))","v":""},{"$f":"IF($C42=\"\",\"\",IF(OR($D42=\"Emission Rate With Add-on Controls 63.4291(a)(3)\",$D42=\"Emission Rate With Add-On Controls 63.4291(c)(3)\",$D42=\"Organic HAP Overall Control Efficiency 63.4291(a)(4)\",$D42=\"Oxidizer Outlet Organic HAP Concentration Limit 63.4291(a)(5)\"),COUNTIFS(Deviation_w_Addon_WorkPrac!$B$24:$B$500,$B42,Deviation_w_Addon_WorkPrac!$J$24:$J$500,$C42),\"N/A\"))","v":""},{"$f":"IF($C42=\"\",\"\",IF($D42=\"Equivalent Emissions Rate 63.4291(c)(4)\",COUNTIFS(Deviation_Equiv_ER!$B$24:$B$500,$B42,Deviation_Equiv_ER!$I$24:$I$500,$C42),\"N/A\"))","v":""}]
[null,{"$f":"IF(Lists!AA21=\"\",\"\",Lists!AA21)","v":""},{"$f":"IF(Lists!AB21=\"\",\"\",Lists!AB21)","v":""},{"$f":"IF(Lists!AC21=\"\",\"\",Lists!AC21)","v":""},{"$f":"IF($C43=\"\",\"\",IF(OR($D43=\"Compliant Material 63.4291(a)(1)\",$D43=\"Compliant Material 63.4291(b)\",$D43=\"Compliant Material 63.4291(c)(1)\"),COUNTIFS(Deviation_Compliant_Coating!$B$24:$B$500,$B43,Deviation_Compliant_Coating!$C$24:$C$500,$C43),\"N/A\"))","v":""},{"$f":"IF($C43=\"\",\"\",IF(OR($D43=\"Emission Rate Without Add-On Controls 63.4291(a)(2)\",$D43=\"Emission Rate Without Add-On Controls 63.4291(c)(2)\"),COUNTIFS(Deviation_Without_Addon!$B$24:$B$500,$B43,Deviation_Without_Addon!$C$24:$C$500,$C43),\"N/A\"))","v":""},{"$f":"IF($C43=\"\",\"\",IF(OR($D43=\"Emission Rate With Add-on Controls 63.4291(a)(3)\",$D43=\"Emission Rate With Add-On Controls 63.4291(c)(3)\",$D43=\"Organic HAP Overall Control Efficiency 63.4291(a)(4)\",$D43=\"Oxidizer Outlet Organic HAP Concentration Limit 63.4291(a)(5)\"),COUNTIFS(Deviation_w_Addon_WorkPrac!$B$24:$B$500,$B43,Deviation_w_Addon_WorkPrac!$J$24:$J$500,$C43),\"N/A\"))","v":""},{"$f":"IF($C43=\"\",\"\",IF($D43=\"Equivalent Emissions Rate 63.4291(c)(4)\",COUNTIFS(Deviation_Equiv_ER!$B$24:$B$500,$B43,Deviation_Equiv_ER!$I$24:$I$500,$C43),\"N/A\"))","v":""}]
[null,{"$f":"IF(Lists!AA22=\"\",\"\",Lists!AA22)","v":""},{"$f":"IF(Lists!AB22=\"\",\"\",Lists!AB22)","v":""},{"$f":"IF(Lists!AC22=\"\",\"\",Lists!AC22)","v":""},{"$f":"IF($C44=\"\",\"\",IF(OR($D44=\"Compliant Material 63.4291(a)(1)\",$D44=\"Compliant Material 63.4291(b)\",$D44=\"Compliant Material 63.4291(c)(1)\"),COUNTIFS(Deviation_Compliant_Coating!$B$24:$B$500,$B44,Deviation_Compliant_Coating!$C$24:$C$500,$C44),\"N/A\"))","v":""},{"$f":"IF($C44=\"\",\"\",IF(OR($D44=\"Emission Rate Without Add-On Controls 63.4291(a)(2)\",$D44=\"Emission Rate Without Add-On Controls 63.4291(c)(2)\"),COUNTIFS(Deviation_Without_Addon!$B$24:$B$500,$B44,Deviation_Without_Addon!$C$24:$C$500,$C44),\"N/A\"))","v":""},{"$f":"IF($C44=\"\",\"\",IF(OR($D44=\"Emission Rate With Add-on Controls 63.4291(a)(3)\",$D44=\"Emission Rate With Add-On Controls 63.4291(c)(3)\",$D44=\"Organic HAP Overall Control Efficiency 63.4291(a)(4)\",$D44=\"Oxidizer Outlet Organic HAP Concentration Limit 63.4291(a)(5)\"),COUNTIFS(Deviation_w_Addon_WorkPrac!$B$24:$B$500,$B44,Deviation_w_Addon_WorkPrac!$J$24:$J$500,$C44),\"N/A\"))","v":""},{"$f":"IF($C44=\"\",\"\",IF($D44=\"Equivalent Emissions Rate 63.4291(c)(4)\",COUNTIFS(Deviation_Equiv_ER!$B$24:$B$500,$B44,Deviation_Equiv_ER!$I$24:$I$500,$C44),\"N/A\"))","v":""}]
[null,{"$f":"IF(Lists!AA23=\"\",\"\",Lists!AA23)","v":""},{"$f":"IF(Lists!AB23=\"\",\"\",Lists!AB23)","v":""},{"$f":"IF(Lists!AC23=\"\",\"\",Lists!AC23)","v":""},{"$f":"IF($C45=\"\",\"\",IF(OR($D45=\"Compliant Material 63.4291(a)(1)\",$D45=\"Compliant Material 63.4291(b)\",$D45=\"Compliant Material 63.4291(c)(1)\"),COUNTIFS(Deviation_Compliant_Coating!$B$24:$B$500,$B45,Deviation_Compliant_Coating!$C$24:$C$500,$C45),\"N/A\"))","v":""},{"$f":"IF($C45=\"\",\"\",IF(OR($D45=\"Emission Rate Without Add-On Controls 63.4291(a)(2)\",$D45=\"Emission Rate Without Add-On Controls 63.4291(c)(2)\"),COUNTIFS(Deviation_Without_Addon!$B$24:$B$500,$B45,Deviation_Without_Addon!$C$24:$C$500,$C45),\"N/A\"))","v":""},{"$f":"IF($C45=\"\",\"\",IF(OR($D45=\"Emission Rate With Add-on Controls 63.4291(a)(3)\",$D45=\"Emission Rate With Add-On Controls 63.4291(c)(3)\",$D45=\"Organic HAP Overall Control Efficiency 63.4291(a)(4)\",$D45=\"Oxidizer Outlet Organic HAP Concentration Limit 63.4291(a)(5)\"),COUNTIFS(Deviation_w_Addon_WorkPrac!$B$24:$B$500,$B45,Deviation_w_Addon_WorkPrac!$J$24:$J$500,$C45),\"N/A\"))","v":""},{"$f":"IF($C45=\"\",\"\",IF($D45=\"Equivalent Emissions Rate 63.4291(c)(4)\",COUNTIFS(Deviation_Equiv_ER!$B$24:$B$500,$B45,Deviation_Equiv_ER!$I$24:$I$500,$C45),\"N/A\"))","v":""}]
[null,{"$f":"IF(Lists!AA24=\"\",\"\",Lists!AA24)","v":""},{"$f":"IF(Lists!AB24=\"\",\"\",Lists!AB24)","v":""},{"$f":"IF(Lists!AC24=\"\",\"\",Lists!AC24)","v":""},{"$f":"IF($C46=\"\",\"\",IF(OR($D46=\"Compliant Material 63.4291(a)(1)\",$D46=\"Compliant Material 63.4291(b)\",$D46=\"Compliant Material 63.4291(c)(1)\"),COUNTIFS(Deviation_Compliant_Coating!$B$24:$B$500,$B46,Deviation_Compliant_Coating!$C$24:$C$500,$C46),\"N/A\"))","v":""},{"$f":"IF($C46=\"\",\"\",IF(OR($D46=\"Emission Rate Without Add-On Controls 63.4291(a)(2)\",$D46=\"Emission Rate Without Add-On Controls 63.4291(c)(2)\"),COUNTIFS(Deviation_Without_Addon!$B$24:$B$500,$B46,Deviation_Without_Addon!$C$24:$C$500,$C46),\"N/A\"))","v":""},{"$f":"IF($C46=\"\",\"\",IF(OR($D46=\"Emission Rate With Add-on Controls 63.4291(a)(3)\",$D46=\"Emission Rate With Add-On Controls 63.4291(c)(3)\",$D46=\"Organic HAP Overall Control Efficiency 63.4291(a)(4)\",$D46=\"Oxidizer Outlet Organic HAP Concentration Limit 63.4291(a)(5)\"),COUNTIFS(Deviation_w_Addon_WorkPrac!$B$24:$B$500,$B46,Deviation_w_Addon_WorkPrac!$J$24:$J$500,$C46),\"N/A\"))","v":""},{"$f":"IF($C46=\"\",\"\",IF($D46=\"Equivalent Emissions Rate 63.4291(c)(4)\",COUNTIFS(Deviation_Equiv_ER!$B$24:$B$500,$B46,Deviation_Equiv_ER!$I$24:$I$500,$C46),\"N/A\"))","v":""}]
[null,{"$f":"IF(Lists!AA25=\"\",\"\",Lists!AA25)","v":""},{"$f":"IF(Lists!AB25=\"\",\"\",Lists!AB25)","v":""},{"$f":"IF(Lists!AC25=\"\",\"\",Lists!AC25)","v":""},{"$f":"IF($C47=\"\",\"\",IF(OR($D47=\"Compliant Material 63.4291(a)(1)\",$D47=\"Compliant Material 63.4291(b)\",$D47=\"Compliant Material 63.4291(c)(1)\"),COUNTIFS(Deviation_Compliant_Coating!$B$24:$B$500,$B47,Deviation_Compliant_Coating!$C$24:$C$500,$C47),\"N/A\"))","v":""},{"$f":"IF($C47=\"\",\"\",IF(OR($D47=\"Emission Rate Without Add-On Controls 63.4291(a)(2)\",$D47=\"Emission Rate Without Add-On Controls 63.4291(c)(2)\"),COUNTIFS(Deviation_Without_Addon!$B$24:$B$500,$B47,Deviation_Without_Addon!$C$24:$C$500,$C47),\"N/A\"))","v":""},{"$f":"IF($C47=\"\",\"\",IF(OR($D47=\"Emission Rate With Add-on Controls 63.4291(a)(3)\",$D47=\"Emission Rate With Add-On Controls 63.4291(c)(3)\",$D47=\"Organic HAP Overall Control Efficiency 63.4291(a)(4)\",$D47=\"Oxidizer Outlet Organic HAP Concentration Limit 63.4291(a)(5)\"),COUNTIFS(Deviation_w_Addon_WorkPrac!$B$24:$B$500,$B47,Deviation_w_Addon_WorkPrac!$J$24:$J$500,$C47),\"N/A\"))","v":""},{"$f":"IF($C47=\"\",\"\",IF($D47=\"Equivalent Emissions Rate 63.4291(c)(4)\",COUNTIFS(Deviation_Equiv_ER!$B$24:$B$500,$B47,Deviation_Equiv_ER!$I$24:$I$500,$C47),\"N/A\"))","v":""}]
[null,{"$f":"IF(Lists!AA26=\"\",\"\",Lists!AA26)","v":""},{"$f":"IF(Lists!AB26=\"\",\"\",Lists!AB26)","v":""},{"$f":"IF(Lists!AC26=\"\",\"\",Lists!AC26)","v":""},{"$f":"IF($C48=\"\",\"\",IF(OR($D48=\"Compliant Material 63.4291(a)(1)\",$D48=\"Compliant Material 63.4291(b)\",$D48=\"Compliant Material 63.4291(c)(1)\"),COUNTIFS(Deviation_Compliant_Coating!$B$24:$B$500,$B48,Deviation_Compliant_Coating!$C$24:$C$500,$C48),\"N/A\"))","v":""},{"$f":"IF($C48=\"\",\"\",IF(OR($D48=\"Emission Rate Without Add-On Controls 63.4291(a)(2)\",$D48=\"Emission Rate Without Add-On Controls 63.4291(c)(2)\"),COUNTIFS(Deviation_Without_Addon!$B$24:$B$500,$B48,Deviation_Without_Addon!$C$24:$C$500,$C48),\"N/A\"))","v":""},{"$f":"IF($C48=\"\",\"\",IF(OR($D48=\"Emission Rate With Add-on Controls 63.4291(a)(3)\",$D48=\"Emission Rate With Add-On Controls 63.4291(c)(3)\",$D48=\"Organic HAP Overall Control Efficiency 63.4291(a)(4)\",$D48=\"Oxidizer Outlet Organic HAP Concentration Limit 63.4291(a)(5)\"),COUNTIFS(Deviation_w_Addon_WorkPrac!$B$24:$B$500,$B48,Deviation_w_Addon_WorkPrac!$J$24:$J$500,$C48),\"N/A\"))","v":""},{"$f":"IF($C48=\"\",\"\",IF($D48=\"Equivalent Emissions Rate 63.4291(c)(4)\",COUNTIFS(Deviation_Equiv_ER!$B$24:$B$500,$B48,Deviation_Equiv_ER!$I$24:$I$500,$C48),\"N/A\"))","v":""}]
[null,{"$f":"IF(Lists!AA27=\"\",\"\",Lists!AA27)","v":""},{"$f":"IF(Lists!AB27=\"\",\"\",Lists!AB27)","v":""},{"$f":"IF(Lists!AC27=\"\",\"\",Lists!AC27)","v":""},{"$f":"IF($C49=\"\",\"\",IF(OR($D49=\"Compliant Material 63.4291(a)(1)\",$D49=\"Compliant Material 63.4291(b)\",$D49=\"Compliant Material 63.4291(c)(1)\"),COUNTIFS(Deviation_Compliant_Coating!$B$24:$B$500,$B49,Deviation_Compliant_Coating!$C$24:$C$500,$C49),\"N/A\"))","v":""},{"$f":"IF($C49=\"\",\"\",IF(OR($D49=\"Emission Rate Without Add-On Controls 63.4291(a)(2)\",$D49=\"Emission Rate Without Add-On Controls 63.4291(c)(2)\"),COUNTIFS(Deviation_Without_Addon!$B$24:$B$500,$B49,Deviation_Without_Addon!$C$24:$C$500,$C49),\"N/A\"))","v":""},{"$f":"IF($C49=\"\",\"\",IF(OR($D49=\"Emission Rate With Add-on Controls 63.4291(a)(3)\",$D49=\"Emission Rate With Add-On Controls 63.4291(c)(3)\",$D49=\"Organic HAP Overall Control Efficiency 63.4291(a)(4)\",$D49=\"Oxidizer Outlet Organic HAP Concentration Limit 63.4291(a)(5)\"),COUNTIFS(Deviation_w_Addon_WorkPrac!$B$24:$B$500,$B49,Deviation_w_Addon_WorkPrac!$J$24:$J$500,$C49),\"N/A\"))","v":""},{"$f":"IF($C49=\"\",\"\",IF($D49=\"Equivalent Emissions Rate 63.4291(c)(4)\",COUNTIFS(Deviation_Equiv_ER!$B$24:$B$500,$B49,Deviation_Equiv_ER!$I$24:$I$500,$C49),\"N/A\"))","v":""}]
[null,{"$f":"IF(Lists!AA28=\"\",\"\",Lists!AA28)","v":""},{"$f":"IF(Lists!AB28=\"\",\"\",Lists!AB28)","v":""},{"$f":"IF(Lists!AC28=\"\",\"\",Lists!AC28)","v":""},{"$f":"IF($C50=\"\",\"\",IF(OR($D50=\"Compliant Material 63.4291(a)(1)\",$D50=\"Compliant Material 63.4291(b)\",$D50=\"Compliant Material 63.4291(c)(1)\"),COUNTIFS(Deviation_Compliant_Coating!$B$24:$B$500,$B50,Deviation_Compliant_Coating!$C$24:$C$500,$C50),\"N/A\"))","v":""},{"$f":"IF($C50=\"\",\"\",IF(OR($D50=\"Emission Rate Without Add-On Controls 63.4291(a)(2)\",$D50=\"Emission Rate Without Add-On Controls 63.4291(c)(2)\"),COUNTIFS(Deviation_Without_Addon!$B$24:$B$500,$B50,Deviation_Without_Addon!$C$24:$C$500,$C50),\"N/A\"))","v":""},{"$f":"IF($C50=\"\",\"\",IF(OR($D50=\"Emission Rate With Add-on Controls 63.4291(a)(3)\",$D50=\"Emission Rate With Add-On Controls 63.4291(c)(3)\",$D50=\"Organic HAP Overall Control Efficiency 63.4291(a)(4)\",$D50=\"Oxidizer Outlet Organic HAP Concentration Limit 63.4291(a)(5)\"),COUNTIFS(Deviation_w_Addon_WorkPrac!$B$24:$B$500,$B50,Deviation_w_Addon_WorkPrac!$J$24:$J$500,$C50),\"N/A\"))","v":""},{"$f":"IF($C50=\"\",\"\",IF($D50=\"Equivalent Emissions Rate 63.4291(c)(4)\",COUNTIFS(Deviation_Equiv_ER!$B$24:$B$500,$B50,Deviation_Equiv_ER!$I$24:$I$500,$C50),\"N/A\"))","v":""}]
[null,{"$f":"IF(Lists!AA29=\"\",\"\",Lists!AA29)","v":""},{"$f":"IF(Lists!AB29=\"\",\"\",Lists!AB29)","v":""},{"$f":"IF(Lists!AC29=\"\",\"\",Lists!AC29)","v":""},{"$f":"IF($C51=\"\",\"\",IF(OR($D51=\"Compliant Material 63.4291(a)(1)\",$D51=\"Compliant Material 63.4291(b)\",$D51=\"Compliant Material 63.4291(c)(1)\"),COUNTIFS(Deviation_Compliant_Coating!$B$24:$B$500,$B51,Deviation_Compliant_Coating!$C$24:$C$500,$C51),\"N/A\"))","v":""},{"$f":"IF($C51=\"\",\"\",IF(OR($D51=\"Emission Rate Without Add-On Controls 63.4291(a)(2)\",$D51=\"Emission Rate Without Add-On Controls 63.4291(c)(2)\"),COUNTIFS(Deviation_Without_Addon!$B$24:$B$500,$B51,Deviation_Without_Addon!$C$24:$C$500,$C51),\"N/A\"))","v":""},{"$f":"IF($C51=\"\",\"\",IF(OR($D51=\"Emission Rate With Add-on Controls 63.4291(a)(3)\",$D51=\"Emission Rate With Add-On Controls 63.4291(c)(3)\",$D51=\"Organic HAP Overall Control Efficiency 63.4291(a)(4)\",$D51=\"Oxidizer Outlet Organic HAP Concentration Limit 63.4291(a)(5)\"),COUNTIFS(Deviation_w_Addon_WorkPrac!$B$24:$B$500,$B51,Deviation_w_Addon_WorkPrac!$J$24:$J$500,$C51),\"N/A\"))","v":""},{"$f":"IF($C51=\"\",\"\",IF($D51=\"Equivalent Emissions Rate 63.4291(c)(4)\",COUNTIFS(Deviation_Equiv_ER!$B$24:$B$500,$B51,Deviation_Equiv_ER!$I$24:$I$500,$C51),\"N/A\"))","v":""}]
[null,{"$f":"IF(Lists!AA30=\"\",\"\",Lists!AA30)","v":""},{"$f":"IF(Lists!AB30=\"\",\"\",Lists!AB30)","v":""},{"$f":"IF(Lists!AC30=\"\",\"\",Lists!AC30)","v":""},{"$f":"IF($C52=\"\",\"\",IF(OR($D52=\"Compliant Material 63.4291(a)(1)\",$D52=\"Compliant Material 63.4291(b)\",$D52=\"Compliant Material 63.4291(c)(1)\"),COUNTIFS(Deviation_Compliant_Coating!$B$24:$B$500,$B52,Deviation_Compliant_Coating!$C$24:$C$500,$C52),\"N/A\"))","v":""},{"$f":"IF($C52=\"\",\"\",IF(OR($D52=\"Emission Rate Without Add-On Controls 63.4291(a)(2)\",$D52=\"Emission Rate Without Add-On Controls 63.4291(c)(2)\"),COUNTIFS(Deviation_Without_Addon!$B$24:$B$500,$B52,Deviation_Without_Addon!$C$24:$C$500,$C52),\"N/A\"))","v":""},{"$f":"IF($C52=\"\",\"\",IF(OR($D52=\"Emission Rate With Add-on Controls 63.4291(a)(3)\",$D52=\"Emission Rate With Add-On Controls 63.4291(c)(3)\",$D52=\"Organic HAP Overall Control Efficiency 63.4291(a)(4)\",$D52=\"Oxidizer Outlet Organic HAP Concentration Limit 63.4291(a)(5)\"),COUNTIFS(Deviation_w_Addon_WorkPrac!$B$24:$B$500,$B52,Deviation_w_Addon_WorkPrac!$J$24:$J$500,$C52),\"N/A\"))","v":""},{"$f":"IF($C52=\"\",\"\",IF($D52=\"Equivalent Emissions Rate 63.4291(c)(4)\",COUNTIFS(Deviation_Equiv_ER!$B$24:$B$500,$B52,Deviation_Equiv_ER!$I$24:$I$500,$C52),\"N/A\"))","v":""}]
[null,{"$f":"IF(Lists!AA31=\"\",\"\",Lists!AA31)","v":""},{"$f":"IF(Lists!AB31=\"\",\"\",Lists!AB31)","v":""},{"$f":"IF(Lists!AC31=\"\",\"\",Lists!AC31)","v":""},{"$f":"IF($C53=\"\",\"\",IF(OR($D53=\"Compliant Material 63.4291(a)(1)\",$D53=\"Compliant Material 63.4291(b)\",$D53=\"Compliant Material 63.4291(c)(1)\"),COUNTIFS(Deviation_Compliant_Coating!$B$24:$B$500,$B53,Deviation_Compliant_Coating!$C$24:$C$500,$C53),\"N/A\"))","v":""},{"$f":"IF($C53=\"\",\"\",IF(OR($D53=\"Emission Rate Without Add-On Controls 63.4291(a)(2)\",$D53=\"Emission Rate Without Add-On Controls 63.4291(c)(2)\"),COUNTIFS(Deviation_Without_Addon!$B$24:$B$500,$B53,Deviation_Without_Addon!$C$24:$C$500,$C53),\"N/A\"))","v":""},{"$f":"IF($C53=\"\",\"\",IF(OR($D53=\"Emission Rate With Add-on Controls 63.4291(a)(3)\",$D53=\"Emission Rate With Add-On Controls 63.4291(c)(3)\",$D53=\"Organic HAP Overall Control Efficiency 63.4291(a)(4)\",$D53=\"Oxidizer Outlet Organic HAP Concentration Limit 63.4291(a)(5)\"),COUNTIFS(Deviation_w_Addon_WorkPrac!$B$24:$B$500,$B53,Deviation_w_Addon_WorkPrac!$J$24:$J$500,$C53),\"N/A\"))","v":""},{"$f":"IF($C53=\"\",\"\",IF($D53=\"Equivalent Emissions Rate 63.4291(c)(4)\",COUNTIFS(Deviation_Equiv_ER!$B$24:$B$500,$B53,Deviation_Equiv_ER!$I$24:$I$500,$C53),\"N/A\"))","v":""}]
[null,{"$f":"IF(Lists!AA32=\"\",\"\",Lists!AA32)","v":""},{"$f":"IF(Lists!AB32=\"\",\"\",Lists!AB32)","v":""},{"$f":"IF(Lists!AC32=\"\",\"\",Lists!AC32)","v":""},{"$f":"IF($C54=\"\",\"\",IF(OR($D54=\"Compliant Material 63.4291(a)(1)\",$D54=\"Compliant Material 63.4291(b)\",$D54=\"Compliant Material 63.4291(c)(1)\"),COUNTIFS(Deviation_Compliant_Coating!$B$24:$B$500,$B54,Deviation_Compliant_Coating!$C$24:$C$500,$C54),\"N/A\"))","v":""},{"$f":"IF($C54=\"\",\"\",IF(OR($D54=\"Emission Rate Without Add-On Controls 63.4291(a)(2)\",$D54=\"Emission Rate Without Add-On Controls 63.4291(c)(2)\"),COUNTIFS(Deviation_Without_Addon!$B$24:$B$500,$B54,Deviation_Without_Addon!$C$24:$C$500,$C54),\"N/A\"))","v":""},{"$f":"IF($C54=\"\",\"\",IF(OR($D54=\"Emission Rate With Add-on Controls 63.4291(a)(3)\",$D54=\"Emission Rate With Add-On Controls 63.4291(c)(3)\",$D54=\"Organic HAP Overall Control Efficiency 63.4291(a)(4)\",$D54=\"Oxidizer Outlet Organic HAP Concentration Limit 63.4291(a)(5)\"),COUNTIFS(Deviation_w_Addon_WorkPrac!$B$24:$B$500,$B54,Deviation_w_Addon_WorkPrac!$J$24:$J$500,$C54),\"N/A\"))","v":""},{"$f":"IF($C54=\"\",\"\",IF($D54=\"Equivalent Emissions Rate 63.4291(c)(4)\",COUNTIFS(Deviation_Equiv_ER!$B$24:$B$500,$B54,Deviation_Equiv_ER!$I$24:$I$500,$C54),\"N/A\"))","v":""}]
[null,{"$f":"IF(Lists!AA33=\"\",\"\",Lists!AA33)","v":""},{"$f":"IF(Lists!AB33=\"\",\"\",Lists!AB33)","v":""},{"$f":"IF(Lists!AC33=\"\",\"\",Lists!AC33)","v":""},{"$f":"IF($C55=\"\",\"\",IF(OR($D55=\"Compliant Material 63.4291(a)(1)\",$D55=\"Compliant Material 63.4291(b)\",$D55=\"Compliant Material 63.4291(c)(1)\"),COUNTIFS(Deviation_Compliant_Coating!$B$24:$B$500,$B55,Deviation_Compliant_Coating!$C$24:$C$500,$C55),\"N/A\"))","v":""},{"$f":"IF($C55=\"\",\"\",IF(OR($D55=\"Emission Rate Without Add-On Controls 63.4291(a)(2)\",$D55=\"Emission Rate Without Add-On Controls 63.4291(c)(2)\"),COUNTIFS(Deviation_Without_Addon!$B$24:$B$500,$B55,Deviation_Without_Addon!$C$24:$C$500,$C55),\"N/A\"))","v":""},{"$f":"IF($C55=\"\",\"\",IF(OR($D55=\"Emission Rate With Add-on Controls 63.4291(a)(3)\",$D55=\"Emission Rate With Add-On Controls 63.4291(c)(3)\",$D55=\"Organic HAP Overall Control Efficiency 63.4291(a)(4)\",$D55=\"Oxidizer Outlet Organic HAP Concentration Limit 63.4291(a)(5)\"),COUNTIFS(Deviation_w_Addon_WorkPrac!$B$24:$B$500,$B55,Deviation_w_Addon_WorkPrac!$J$24:$J$500,$C55),\"N/A\"))","v":""},{"$f":"IF($C55=\"\",\"\",IF($D55=\"Equivalent Emissions Rate 63.4291(c)(4)\",COUNTIFS(Deviation_Equiv_ER!$B$24:$B$500,$B55,Deviation_Equiv_ER!$I$24:$I$500,$C55),\"N/A\"))","v":""}]
[null,{"$f":"IF(Lists!AA34=\"\",\"\",Lists!AA34)","v":""},{"$f":"IF(Lists!AB34=\"\",\"\",Lists!AB34)","v":""},{"$f":"IF(Lists!AC34=\"\",\"\",Lists!AC34)","v":""},{"$f":"IF($C56=\"\",\"\",IF(OR($D56=\"Compliant Material 63.4291(a)(1)\",$D56=\"Compliant Material 63.4291(b)\",$D56=\"Compliant Material 63.4291(c)(1)\"),COUNTIFS(Deviation_Compliant_Coating!$B$24:$B$500,$B56,Deviation_Compliant_Coating!$C$24:$C$500,$C56),\"N/A\"))","v":""},{"$f":"IF($C56=\"\",\"\",IF(OR($D56=\"Emission Rate Without Add-On Controls 63.4291(a)(2)\",$D56=\"Emission Rate Without Add-On Controls 63.4291(c)(2)\"),COUNTIFS(Deviation_Without_Addon!$B$24:$B$500,$B56,Deviation_Without_Addon!$C$24:$C$500,$C56),\"N/A\"))","v":""},{"$f":"IF($C56=\"\",\"\",IF(OR($D56=\"Emission Rate With Add-on Controls 63.4291(a)(3)\",$D56=\"Emission Rate With Add-On Controls 63.4291(c)(3)\",$D56=\"Organic HAP Overall Control Efficiency 63.4291(a)(4)\",$D56=\"Oxidizer Outlet Organic HAP Concentration Limit 63.4291(a)(5)\"),COUNTIFS(Deviation_w_Addon_WorkPrac!$B$24:$B$500,$B56,Deviation_w_Addon_WorkPrac!$J$24:$J$500,$C56),\"N/A\"))","v":""},{"$f":"IF($C56=\"\",\"\",IF($D56=\"Equivalent Emissions Rate 63.4291(c)(4)\",COUNTIFS(Deviation_Equiv_ER!$B$24:$B$500,$B56,Deviation_Equiv_ER!$I$24:$I$500,$C56),\"N/A\"))","v":""}]
[null,{"$f":"IF(Lists!AA35=\"\",\"\",Lists!AA35)","v":""},{"$f":"IF(Lists!AB35=\"\",\"\",Lists!AB35)","v":""},{"$f":"IF(Lists!AC35=\"\",\"\",Lists!AC35)","v":""},{"$f":"IF($C57=\"\",\"\",IF(OR($D57=\"Compliant Material 63.4291(a)(1)\",$D57=\"Compliant Material 63.4291(b)\",$D57=\"Compliant Material 63.4291(c)(1)\"),COUNTIFS(Deviation_Compliant_Coating!$B$24:$B$500,$B57,Deviation_Compliant_Coating!$C$24:$C$500,$C57),\"N/A\"))","v":""},{"$f":"IF($C57=\"\",\"\",IF(OR($D57=\"Emission Rate Without Add-On Controls 63.4291(a)(2)\",$D57=\"Emission Rate Without Add-On Controls 63.4291(c)(2)\"),COUNTIFS(Deviation_Without_Addon!$B$24:$B$500,$B57,Deviation_Without_Addon!$C$24:$C$500,$C57),\"N/A\"))","v":""},{"$f":"IF($C57=\"\",\"\",IF(OR($D57=\"Emission Rate With Add-on Controls 63.4291(a)(3)\",$D57=\"Emission Rate With Add-On Controls 63.4291(c)(3)\",$D57=\"Organic HAP Overall Control Efficiency 63.4291(a)(4)\",$D57=\"Oxidizer Outlet Organic HAP Concentration Limit 63.4291(a)(5)\"),COUNTIFS(Deviation_w_Addon_WorkPrac!$B$24:$B$500,$B57,Deviation_w_Addon_WorkPrac!$J$24:$J$500,$C57),\"N/A\"))","v":""},{"$f":"IF($C57=\"\",\"\",IF($D57=\"Equivalent Emissions Rate 63.4291(c)(4)\",COUNTIFS(Deviation_Equiv_ER!$B$24:$B$500,$B57,Deviation_Equiv_ER!$I$24:$I$500,$C57),\"N/A\"))","v":""}]
[null,{"$f":"IF(Lists!AA36=\"\",\"\",Lists!AA36)","v":""},{"$f":"IF(Lists!AB36=\"\",\"\",Lists!AB36)","v":""},{"$f":"IF(Lists!AC36=\"\",\"\",Lists!AC36)","v":""},{"$f":"IF($C58=\"\",\"\",IF(OR($D58=\"Compliant Material 63.4291(a)(1)\",$D58=\"Compliant Material 63.4291(b)\",$D58=\"Compliant Material 63.4291(c)(1)\"),COUNTIFS(Deviation_Compliant_Coating!$B$24:$B$500,$B58,Deviation_Compliant_Coating!$C$24:$C$500,$C58),\"N/A\"))","v":""},{"$f":"IF($C58=\"\",\"\",IF(OR($D58=\"Emission Rate Without Add-On Controls 63.4291(a)(2)\",$D58=\"Emission Rate Without Add-On Controls 63.4291(c)(2)\"),COUNTIFS(Deviation_Without_Addon!$B$24:$B$500,$B58,Deviation_Without_Addon!$C$24:$C$500,$C58),\"N/A\"))","v":""},{"$f":"IF($C58=\"\",\"\",IF(OR($D58=\"Emission Rate With Add-on Controls 63.4291(a)(3)\",$D58=\"Emission Rate With Add-On Controls 63.4291(c)(3)\",$D58=\"Organic HAP Overall Control Efficiency 63.4291(a)(4)\",$D58=\"Oxidizer Outlet Organic HAP Concentration Limit 63.4291(a)(5)\"),COUNTIFS(Deviation_w_Addon_WorkPrac!$B$24:$B$500,$B58,Deviation_w_Addon_WorkPrac!$J$24:$J$500,$C58),\"N/A\"))","v":""},{"$f":"IF($C58=\"\",\"\",IF($D58=\"Equivalent Emissions Rate 63.4291(c)(4)\",COUNTIFS(Deviation_Equiv_ER!$B$24:$B$500,$B58,Deviation_Equiv_ER!$I$24:$I$500,$C58),\"N/A\"))","v":""}]
[null,{"$f":"IF(Lists!AA37=\"\",\"\",Lists!AA37)","v":""},{"$f":"IF(Lists!AB37=\"\",\"\",Lists!AB37)","v":""},{"$f":"IF(Lists!AC37=\"\",\"\",Lists!AC37)","v":""},{"$f":"IF($C59=\"\",\"\",IF(OR($D59=\"Compliant Material 63.4291(a)(1)\",$D59=\"Compliant Material 63.4291(b)\",$D59=\"Compliant Material 63.4291(c)(1)\"),COUNTIFS(Deviation_Compliant_Coating!$B$24:$B$500,$B59,Deviation_Compliant_Coating!$C$24:$C$500,$C59),\"N/A\"))","v":""},{"$f":"IF($C59=\"\",\"\",IF(OR($D59=\"Emission Rate Without Add-On Controls 63.4291(a)(2)\",$D59=\"Emission Rate Without Add-On Controls 63.4291(c)(2)\"),COUNTIFS(Deviation_Without_Addon!$B$24:$B$500,$B59,Deviation_Without_Addon!$C$24:$C$500,$C59),\"N/A\"))","v":""},{"$f":"IF($C59=\"\",\"\",IF(OR($D59=\"Emission Rate With Add-on Controls 63.4291(a)(3)\",$D59=\"Emission Rate With Add-On Controls 63.4291(c)(3)\",$D59=\"Organic HAP Overall Control Efficiency 63.4291(a)(4)\",$D59=\"Oxidizer Outlet Organic HAP Concentration Limit 63.4291(a)(5)\"),COUNTIFS(Deviation_w_Addon_WorkPrac!$B$24:$B$500,$B59,Deviation_w_Addon_WorkPrac!$J$24:$J$500,$C59),\"N/A\"))","v":""},{"$f":"IF($C59=\"\",\"\",IF($D59=\"Equivalent Emissions Rate 63.4291(c)(4)\",COUNTIFS(Deviation_Equiv_ER!$B$24:$B$500,$B59,Deviation_Equiv_ER!$I$24:$I$500,$C59),\"N/A\"))","v":""}]
[null,{"$f":"IF(Lists!AA38=\"\",\"\",Lists!AA38)","v":""},{"$f":"IF(Lists!AB38=\"\",\"\",Lists!AB38)","v":""},{"$f":"IF(Lists!AC38=\"\",\"\",Lists!AC38)","v":""},{"$f":"IF($C60=\"\",\"\",IF(OR($D60=\"Compliant Material 63.4291(a)(1)\",$D60=\"Compliant Material 63.4291(b)\",$D60=\"Compliant Material 63.4291(c)(1)\"),COUNTIFS(Deviation_Compliant_Coating!$B$24:$B$500,$B60,Deviation_Compliant_Coating!$C$24:$C$500,$C60),\"N/A\"))","v":""},{"$f":"IF($C60=\"\",\"\",IF(OR($D60=\"Emission Rate Without Add-On Controls 63.4291(a)(2)\",$D60=\"Emission Rate Without Add-On Controls 63.4291(c)(2)\"),COUNTIFS(Deviation_Without_Addon!$B$24:$B$500,$B60,Deviation_Without_Addon!$C$24:$C$500,$C60),\"N/A\"))","v":""},{"$f":"IF($C60=\"\",\"\",IF(OR($D60=\"Emission Rate With Add-on Controls 63.4291(a)(3)\",$D60=\"Emission Rate With Add-On Controls 63.4291(c)(3)\",$D60=\"Organic HAP Overall Control Efficiency 63.4291(a)(4)\",$D60=\"Oxidizer Outlet Organic HAP Concentration Limit 63.4291(a)(5)\"),COUNTIFS(Deviation_w_Addon_WorkPrac!$B$24:$B$500,$B60,Deviation_w_Addon_WorkPrac!$J$24:$J$500,$C60),\"N/A\"))","v":""},{"$f":"IF($C60=\"\",\"\",IF($D60=\"Equivalent Emissions Rate 63.4291(c)(4)\",COUNTIFS(Deviation_Equiv_ER!$B$24:$B$500,$B60,Deviation_Equiv_ER!$I$24:$I$500,$C60),\"N/A\"))","v":""}]
[null,{"$f":"IF(Lists!AA39=\"\",\"\",Lists!AA39)","v":""},{"$f":"IF(Lists!AB39=\"\",\"\",Lists!AB39)","v":""},{"$f":"IF(Lists!AC39=\"\",\"\",Lists!AC39)","v":""},{"$f":"IF($C61=\"\",\"\",IF(OR($D61=\"Compliant Material 63.4291(a)(1)\",$D61=\"Compliant Material 63.4291(b)\",$D61=\"Compliant Material 63.4291(c)(1)\"),COUNTIFS(Deviation_Compliant_Coating!$B$24:$B$500,$B61,Deviation_Compliant_Coating!$C$24:$C$500,$C61),\"N/A\"))","v":""},{"$f":"IF($C61=\"\",\"\",IF(OR($D61=\"Emission Rate Without Add-On Controls 63.4291(a)(2)\",$D61=\"Emission Rate Without Add-On Controls 63.4291(c)(2)\"),COUNTIFS(Deviation_Without_Addon!$B$24:$B$500,$B61,Deviation_Without_Addon!$C$24:$C$500,$C61),\"N/A\"))","v":""},{"$f":"IF($C61=\"\",\"\",IF(OR($D61=\"Emission Rate With Add-on Controls 63.4291(a)(3)\",$D61=\"Emission Rate With Add-On Controls 63.4291(c)(3)\",$D61=\"Organic HAP Overall Control Efficiency 63.4291(a)(4)\",$D61=\"Oxidizer Outlet Organic HAP Concentration Limit 63.4291(a)(5)\"),COUNTIFS(Deviation_w_Addon_WorkPrac!$B$24:$B$500,$B61,Deviation_w_Addon_WorkPrac!$J$24:$J$500,$C61),\"N/A\"))","v":""},{"$f":"IF($C61=\"\",\"\",IF($D61=\"Equivalent Emissions Rate 63.4291(c)(4)\",COUNTIFS(Deviation_Equiv_ER!$B$24:$B$500,$B61,Deviation_Equiv_ER!$I$24:$I$500,$C61),\"N/A\"))","v":""}]
[null,{"$f":"IF(Lists!AA40=\"\",\"\",Lists!AA40)","v":""},{"$f":"IF(Lists!AB40=\"\",\"\",Lists!AB40)","v":""},{"$f":"IF(Lists!AC40=\"\",\"\",Lists!AC40)","v":""},{"$f":"IF($C62=\"\",\"\",IF(OR($D62=\"Compliant Material 63.4291(a)(1)\",$D62=\"Compliant Material 63.4291(b)\",$D62=\"Compliant Material 63.4291(c)(1)\"),COUNTIFS(Deviation_Compliant_Coating!$B$24:$B$500,$B62,Deviation_Compliant_Coating!$C$24:$C$500,$C62),\"N/A\"))","v":""},{"$f":"IF($C62=\"\",\"\",IF(OR($D62=\"Emission Rate Without Add-On Controls 63.4291(a)(2)\",$D62=\"Emission Rate Without Add-On Controls 63.4291(c)(2)\"),COUNTIFS(Deviation_Without_Addon!$B$24:$B$500,$B62,Deviation_Without_Addon!$C$24:$C$500,$C62),\"N/A\"))","v":""},{"$f":"IF($C62=\"\",\"\",IF(OR($D62=\"Emission Rate With Add-on Controls 63.4291(a)(3)\",$D62=\"Emission Rate With Add-On Controls 63.4291(c)(3)\",$D62=\"Organic HAP Overall Control Efficiency 63.4291(a)(4)\",$D62=\"Oxidizer Outlet Organic HAP Concentration Limit 63.4291(a)(5)\"),COUNTIFS(Deviation_w_Addon_WorkPrac!$B$24:$B$500,$B62,Deviation_w_Addon_WorkPrac!$J$24:$J$500,$C62),\"N/A\"))","v":""},{"$f":"IF($C62=\"\",\"\",IF($D62=\"Equivalent Emissions Rate 63.4291(c)(4)\",COUNTIFS(Deviation_Equiv_ER!$B$24:$B$500,$B62,Deviation_Equiv_ER!$I$24:$I$500,$C62),\"N/A\"))","v":""}]
[null,{"$f":"IF(Lists!AA41=\"\",\"\",Lists!AA41)","v":""},{"$f":"IF(Lists!AB41=\"\",\"\",Lists!AB41)","v":""},{"$f":"IF(Lists!AC41=\"\",\"\",Lists!AC41)","v":""},{"$f":"IF($C63=\"\",\"\",IF(OR($D63=\"Compliant Material 63.4291(a)(1)\",$D63=\"Compliant Material 63.4291(b)\",$D63=\"Compliant Material 63.4291(c)(1)\"),COUNTIFS(Deviation_Compliant_Coating!$B$24:$B$500,$B63,Deviation_Compliant_Coating!$C$24:$C$500,$C63),\"N/A\"))","v":""},{"$f":"IF($C63=\"\",\"\",IF(OR($D63=\"Emission Rate Without Add-On Controls 63.4291(a)(2)\",$D63=\"Emission Rate Without Add-On Controls 63.4291(c)(2)\"),COUNTIFS(Deviation_Without_Addon!$B$24:$B$500,$B63,Deviation_Without_Addon!$C$24:$C$500,$C63),\"N/A\"))","v":""},{"$f":"IF($C63=\"\",\"\",IF(OR($D63=\"Emission Rate With Add-on Controls 63.4291(a)(3)\",$D63=\"Emission Rate With Add-On Controls 63.4291(c)(3)\",$D63=\"Organic HAP Overall Control Efficiency 63.4291(a)(4)\",$D63=\"Oxidizer Outlet Organic HAP Concentration Limit 63.4291(a)(5)\"),COUNTIFS(Deviation_w_Addon_WorkPrac!$B$24:$B$500,$B63,Deviation_w_Addon_WorkPrac!$J$24:$J$500,$C63),\"N/A\"))","v":""},{"$f":"IF($C63=\"\",\"\",IF($D63=\"Equivalent Emissions Rate 63.4291(c)(4)\",COUNTIFS(Deviation_Equiv_ER!$B$24:$B$500,$B63,Deviation_Equiv_ER!$I$24:$I$500,$C63),\"N/A\"))","v":""}]
[null,{"$f":"IF(Lists!AA42=\"\",\"\",Lists!AA42)","v":""},{"$f":"IF(Lists!AB42=\"\",\"\",Lists!AB42)","v":""},{"$f":"IF(Lists!AC42=\"\",\"\",Lists!AC42)","v":""},{"$f":"IF($C64=\"\",\"\",IF(OR($D64=\"Compliant Material 63.4291(a)(1)\",$D64=\"Compliant Material 63.4291(b)\",$D64=\"Compliant Material 63.4291(c)(1)\"),COUNTIFS(Deviation_Compliant_Coating!$B$24:$B$500,$B64,Deviation_Compliant_Coating!$C$24:$C$500,$C64),\"N/A\"))","v":""},{"$f":"IF($C64=\"\",\"\",IF(OR($D64=\"Emission Rate Without Add-On Controls 63.4291(a)(2)\",$D64=\"Emission Rate Without Add-On Controls 63.4291(c)(2)\"),COUNTIFS(Deviation_Without_Addon!$B$24:$B$500,$B64,Deviation_Without_Addon!$C$24:$C$500,$C64),\"N/A\"))","v":""},{"$f":"IF($C64=\"\",\"\",IF(OR($D64=\"Emission Rate With Add-on Controls 63.4291(a)(3)\",$D64=\"Emission Rate With Add-On Controls 63.4291(c)(3)\",$D64=\"Organic HAP Overall Control Efficiency 63.4291(a)(4)\",$D64=\"Oxidizer Outlet Organic HAP Concentration Limit 63.4291(a)(5)\"),COUNTIFS(Deviation_w_Addon_WorkPrac!$B$24:$B$500,$B64,Deviation_w_Addon_WorkPrac!$J$24:$J$500,$C64),\"N/A\"))","v":""},{"$f":"IF($C64=\"\",\"\",IF($D64=\"Equivalent Emissions Rate 63.4291(c)(4)\",COUNTIFS(Deviation_Equiv_ER!$B$24:$B$500,$B64,Deviation_Equiv_ER!$I$24:$I$500,$C64),\"N/A\"))","v":""}]
[null,{"$f":"IF(Lists!AA43=\"\",\"\",Lists!AA43)","v":""},{"$f":"IF(Lists!AB43=\"\",\"\",Lists!AB43)","v":""},{"$f":"IF(Lists!AC43=\"\",\"\",Lists!AC43)","v":""},{"$f":"IF($C65=\"\",\"\",IF(OR($D65=\"Compliant Material 63.4291(a)(1)\",$D65=\"Compliant Material 63.4291(b)\",$D65=\"Compliant Material 63.4291(c)(1)\"),COUNTIFS(Deviation_Compliant_Coating!$B$24:$B$500,$B65,Deviation_Compliant_Coating!$C$24:$C$500,$C65),\"N/A\"))","v":""},{"$f":"IF($C65=\"\",\"\",IF(OR($D65=\"Emission Rate Without Add-On Controls 63.4291(a)(2)\",$D65=\"Emission Rate Without Add-On Controls 63.4291(c)(2)\"),COUNTIFS(Deviation_Without_Addon!$B$24:$B$500,$B65,Deviation_Without_Addon!$C$24:$C$500,$C65),\"N/A\"))","v":""},{"$f":"IF($C65=\"\",\"\",IF(OR($D65=\"Emission Rate With Add-on Controls 63.4291(a)(3)\",$D65=\"Emission Rate With Add-On Controls 63.4291(c)(3)\",$D65=\"Organic HAP Overall Control Efficiency 63.4291(a)(4)\",$D65=\"Oxidizer Outlet Organic HAP Concentration Limit 63.4291(a)(5)\"),COUNTIFS(Deviation_w_Addon_WorkPrac!$B$24:$B$500,$B65,Deviation_w_Addon_WorkPrac!$J$24:$J$500,$C65),\"N/A\"))","v":""},{"$f":"IF($C65=\"\",\"\",IF($D65=\"Equivalent Emissions Rate 63.4291(c)(4)\",COUNTIFS(Deviation_Equiv_ER!$B$24:$B$500,$B65,Deviation_Equiv_ER!$I$24:$I$500,$C65),\"N/A\"))","v":""}]
[null,{"$f":"IF(Lists!AA44=\"\",\"\",Lists!AA44)","v":""},{"$f":"IF(Lists!AB44=\"\",\"\",Lists!AB44)","v":""},{"$f":"IF(Lists!AC44=\"\",\"\",Lists!AC44)","v":""},{"$f":"IF($C66=\"\",\"\",IF(OR($D66=\"Compliant Material 63.4291(a)(1)\",$D66=\"Compliant Material 63.4291(b)\",$D66=\"Compliant Material 63.4291(c)(1)\"),COUNTIFS(Deviation_Compliant_Coating!$B$24:$B$500,$B66,Deviation_Compliant_Coating!$C$24:$C$500,$C66),\"N/A\"))","v":""},{"$f":"IF($C66=\"\",\"\",IF(OR($D66=\"Emission Rate Without Add-On Controls 63.4291(a)(2)\",$D66=\"Emission Rate Without Add-On Controls 63.4291(c)(2)\"),COUNTIFS(Deviation_Without_Addon!$B$24:$B$500,$B66,Deviation_Without_Addon!$C$24:$C$500,$C66),\"N/A\"))","v":""},{"$f":"IF($C66=\"\",\"\",IF(OR($D66=\"Emission Rate With Add-on Controls 63.4291(a)(3)\",$D66=\"Emission Rate With Add-On Controls 63.4291(c)(3)\",$D66=\"Organic HAP Overall Control Efficiency 63.4291(a)(4)\",$D66=\"Oxidizer Outlet Organic HAP Concentration Limit 63.4291(a)(5)\"),COUNTIFS(Deviation_w_Addon_WorkPrac!$B$24:$B$500,$B66,Deviation_w_Addon_WorkPrac!$J$24:$J$500,$C66),\"N/A\"))","v":""},{"$f":"IF($C66=\"\",\"\",IF($D66=\"Equivalent Emissions Rate 63.4291(c)(4)\",COUNTIFS(Deviation_Equiv_ER!$B$24:$B$500,$B66,Deviation_Equiv_ER!$I$24:$I$500,$C66),\"N/A\"))","v":""}]
[null,{"$f":"IF(Lists!AA45=\"\",\"\",Lists!AA45)","v":""},{"$f":"IF(Lists!AB45=\"\",\"\",Lists!AB45)","v":""},{"$f":"IF(Lists!AC45=\"\",\"\",Lists!AC45)","v":""},{"$f":"IF($C67=\"\",\"\",IF(OR($D67=\"Compliant Material 63.4291(a)(1)\",$D67=\"Compliant Material 63.4291(b)\",$D67=\"Compliant Material 63.4291(c)(1)\"),COUNTIFS(Deviation_Compliant_Coating!$B$24:$B$500,$B67,Deviation_Compliant_Coating!$C$24:$C$500,$C67),\"N/A\"))","v":""},{"$f":"IF($C67=\"\",\"\",IF(OR($D67=\"Emission Rate Without Add-On Controls 63.4291(a)(2)\",$D67=\"Emission Rate Without Add-On Controls 63.4291(c)(2)\"),COUNTIFS(Deviation_Without_Addon!$B$24:$B$500,$B67,Deviation_Without_Addon!$C$24:$C$500,$C67),\"N/A\"))","v":""},{"$f":"IF($C67=\"\",\"\",IF(OR($D67=\"Emission Rate With Add-on Controls 63.4291(a)(3)\",$D67=\"Emission Rate With Add-On Controls 63.4291(c)(3)\",$D67=\"Organic HAP Overall Control Efficiency 63.4291(a)(4)\",$D67=\"Oxidizer Outlet Organic HAP Concentration Limit 63.4291(a)(5)\"),COUNTIFS(Deviation_w_Addon_WorkPrac!$B$24:$B$500,$B67,Deviation_w_Addon_WorkPrac!$J$24:$J$500,$C67),\"N/A\"))","v":""},{"$f":"IF($C67=\"\",\"\",IF($D67=\"Equivalent Emissions Rate 63.4291(c)(4)\",COUNTIFS(Deviation_Equiv_ER!$B$24:$B$500,$B67,Deviation_Equiv_ER!$I$24:$I$500,$C67),\"N/A\"))","v":""}]
[null,{"$f":"IF(Lists!AA46=\"\",\"\",Lists!AA46)","v":""},{"$f":"IF(Lists!AB46=\"\",\"\",Lists!AB46)","v":""},{"$f":"IF(Lists!AC46=\"\",\"\",Lists!AC46)","v":""},{"$f":"IF($C68=\"\",\"\",IF(OR($D68=\"Compliant Material 63.4291(a)(1)\",$D68=\"Compliant Material 63.4291(b)\",$D68=\"Compliant Material 63.4291(c)(1)\"),COUNTIFS(Deviation_Compliant_Coating!$B$24:$B$500,$B68,Deviation_Compliant_Coating!$C$24:$C$500,$C68),\"N/A\"))","v":""},{"$f":"IF($C68=\"\",\"\",IF(OR($D68=\"Emission Rate Without Add-On Controls 63.4291(a)(2)\",$D68=\"Emission Rate Without Add-On Controls 63.4291(c)(2)\"),COUNTIFS(Deviation_Without_Addon!$B$24:$B$500,$B68,Deviation_Without_Addon!$C$24:$C$500,$C68),\"N/A\"))","v":""},{"$f":"IF($C68=\"\",\"\",IF(OR($D68=\"Emission Rate With Add-on Controls 63.4291(a)(3)\",$D68=\"Emission Rate With Add-On Controls 63.4291(c)(3)\",$D68=\"Organic HAP Overall Control Efficiency 63.4291(a)(4)\",$D68=\"Oxidizer Outlet Organic HAP Concentration Limit 63.4291(a)(5)\"),COUNTIFS(Deviation_w_Addon_WorkPrac!$B$24:$B$500,$B68,Deviation_w_Addon_WorkPrac!$J$24:$J$500,$C68),\"N/A\"))","v":""},{"$f":"IF($C68=\"\",\"\",IF($D68=\"Equivalent Emissions Rate 63.4291(c)(4)\",COUNTIFS(Deviation_Equiv_ER!$B$24:$B$500,$B68,Deviation_Equiv_ER!$I$24:$I$500,$C68),\"N/A\"))","v":""}]
[null,{"$f":"IF(Lists!AA47=\"\",\"\",Lists!AA47)","v":""},{"$f":"IF(Lists!AB47=\"\",\"\",Lists!AB47)","v":""},{"$f":"IF(Lists!AC47=\"\",\"\",Lists!AC47)","v":""},{"$f":"IF($C69=\"\",\"\",IF(OR($D69=\"Compliant Material 63.4291(a)(1)\",$D69=\"Compliant Material 63.4291(b)\",$D69=\"Compliant Material 63.4291(c)(1)\"),COUNTIFS(Deviation_Compliant_Coating!$B$24:$B$500,$B69,Deviation_Compliant_Coating!$C$24:$C$500,$C69),\"N/A\"))","v":""},{"$f":"IF($C69=\"\",\"\",IF(OR($D69=\"Emission Rate Without Add-On Controls 63.4291(a)(2)\",$D69=\"Emission Rate Without Add-On Controls 63.4291(c)(2)\"),COUNTIFS(Deviation_Without_Addon!$B$24:$B$500,$B69,Deviation_Without_Addon!$C$24:$C$500,$C69),\"N/A\"))","v":""},{"$f":"IF($C69=\"\",\"\",IF(OR($D69=\"Emission Rate With Add-on Controls 63.4291(a)(3)\",$D69=\"Emission Rate With Add-On Controls 63.4291(c)(3)\",$D69=\"Organic HAP Overall Control Efficiency 63.4291(a)(4)\",$D69=\"Oxidizer Outlet Organic HAP Concentration Limit 63.4291(a)(5)\"),COUNTIFS(Deviation_w_Addon_WorkPrac!$B$24:$B$500,$B69,Deviation_w_Addon_WorkPrac!$J$24:$J$500,$C69),\"N/A\"))","v":""},{"$f":"IF($C69=\"\",\"\",IF($D69=\"Equivalent Emissions Rate 63.4291(c)(4)\",COUNTIFS(Deviation_Equiv_ER!$B$24:$B$500,$B69,Deviation_Equiv_ER!$I$24:$I$500,$C69),\"N/A\"))","v":""}]
[null,{"$f":"IF(Lists!AA48=\"\",\"\",Lists!AA48)","v":""},{"$f":"IF(Lists!AB48=\"\",\"\",Lists!AB48)","v":""},{"$f":"IF(Lists!AC48=\"\",\"\",Lists!AC48)","v":""},{"$f":"IF($C70=\"\",\"\",IF(OR($D70=\"Compliant Material 63.4291(a)(1)\",$D70=\"Compliant Material 63.4291(b)\",$D70=\"Compliant Material 63.4291(c)(1)\"),COUNTIFS(Deviation_Compliant_Coating!$B$24:$B$500,$B70,Deviation_Compliant_Coating!$C$24:$C$500,$C70),\"N/A\"))","v":""},{"$f":"IF($C70=\"\",\"\",IF(OR($D70=\"Emission Rate Without Add-On Controls 63.4291(a)(2)\",$D70=\"Emission Rate Without Add-On Controls 63.4291(c)(2)\"),COUNTIFS(Deviation_Without_Addon!$B$24:$B$500,$B70,Deviation_Without_Addon!$C$24:$C$500,$C70),\"N/A\"))","v":""},{"$f":"IF($C70=\"\",\"\",IF(OR($D70=\"Emission Rate With Add-on Controls 63.4291(a)(3)\",$D70=\"Emission Rate With Add-On Controls 63.4291(c)(3)\",$D70=\"Organic HAP Overall Control Efficiency 63.4291(a)(4)\",$D70=\"Oxidizer Outlet Organic HAP Concentration Limit 63.4291(a)(5)\"),COUNTIFS(Deviation_w_Addon_WorkPrac!$B$24:$B$500,$B70,Deviation_w_Addon_WorkPrac!$J$24:$J$500,$C70),\"N/A\"))","v":""},{"$f":"IF($C70=\"\",\"\",IF($D70=\"Equivalent Emissions Rate 63.4291(c)(4)\",COUNTIFS(Deviation_Equiv_ER!$B$24:$B$500,$B70,Deviation_Equiv_ER!$I$24:$I$500,$C70),\"N/A\"))","v":""}]
[null,{"$f":"IF(Lists!AA49=\"\",\"\",Lists!AA49)","v":""},{"$f":"IF(Lists!AB49=\"\",\"\",Lists!AB49)","v":""},{"$f":"IF(Lists!AC49=\"\",\"\",Lists!AC49)","v":""},{"$f":"IF($C71=\"\",\"\",IF(OR($D71=\"Compliant Material 63.4291(a)(1)\",$D71=\"Compliant Material 63.4291(b)\",$D71=\"Compliant Material 63.4291(c)(1)\"),COUNTIFS(Deviation_Compliant_Coating!$B$24:$B$500,$B71,Deviation_Compliant_Coating!$C$24:$C$500,$C71),\"N/A\"))","v":""},{"$f":"IF($C71=\"\",\"\",IF(OR($D71=\"Emission Rate Without Add-On Controls 63.4291(a)(2)\",$D71=\"Emission Rate Without Add-On Controls 63.4291(c)(2)\"),COUNTIFS(Deviation_Without_Addon!$B$24:$B$500,$B71,Deviation_Without_Addon!$C$24:$C$500,$C71),\"N/A\"))","v":""},{"$f":"IF($C71=\"\",\"\",IF(OR($D71=\"Emission Rate With Add-on Controls 63.4291(a)(3)\",$D71=\"Emission Rate With Add-On Controls 63.4291(c)(3)\",$D71=\"Organic HAP Overall Control Efficiency 63.4291(a)(4)\",$D71=\"Oxidizer Outlet Organic HAP Concentration Limit 63.4291(a)(5)\"),COUNTIFS(Deviation_w_Addon_WorkPrac!$B$24:$B$500,$B71,Deviation_w_Addon_WorkPrac!$J$24:$J$500,$C71),\"N/A\"))","v":""},{"$f":"IF($C71=\"\",\"\",IF($D71=\"Equivalent Emissions Rate 63.4291(c)(4)\",COUNTIFS(Deviation_Equiv_ER!$B$24:$B$500,$B71,Deviation_Equiv_ER!$I$24:$I$500,$C71),\"N/A\"))","v":""}]
[null,{"$f":"IF(Lists!AA50=\"\",\"\",Lists!AA50)","v":""},{"$f":"IF(Lists!AB50=\"\",\"\",Lists!AB50)","v":""},{"$f":"IF(Lists!AC50=\"\",\"\",Lists!AC50)","v":""},{"$f":"IF($C72=\"\",\"\",IF(OR($D72=\"Compliant Material 63.4291(a)(1)\",$D72=\"Compliant Material 63.4291(b)\",$D72=\"Compliant Material 63.4291(c)(1)\"),COUNTIFS(Deviation_Compliant_Coating!$B$24:$B$500,$B72,Deviation_Compliant_Coating!$C$24:$C$500,$C72),\"N/A\"))","v":""},{"$f":"IF($C72=\"\",\"\",IF(OR($D72=\"Emission Rate Without Add-On Controls 63.4291(a)(2)\",$D72=\"Emission Rate Without Add-On Controls 63.4291(c)(2)\"),COUNTIFS(Deviation_Without_Addon!$B$24:$B$500,$B72,Deviation_Without_Addon!$C$24:$C$500,$C72),\"N/A\"))","v":""},{"$f":"IF($C72=\"\",\"\",IF(OR($D72=\"Emission Rate With Add-on Controls 63.4291(a)(3)\",$D72=\"Emission Rate With Add-On Controls 63.4291(c)(3)\",$D72=\"Organic HAP Overall Control Efficiency 63.4291(a)(4)\",$D72=\"Oxidizer Outlet Organic HAP Concentration Limit 63.4291(a)(5)\"),COUNTIFS(Deviation_w_Addon_WorkPrac!$B$24:$B$500,$B72,Deviation_w_Addon_WorkPrac!$J$24:$J$500,$C72),\"N/A\"))","v":""},{"$f":"IF($C72=\"\",\"\",IF($D72=\"Equivalent Emissions Rate 63.4291(c)(4)\",COUNTIFS(Deviation_Equiv_ER!$B$24:$B$500,$B72,Deviation_Equiv_ER!$I$24:$I$500,$C72),\"N/A\"))","v":""}]
[null,{"$f":"IF(Lists!AA51=\"\",\"\",Lists!AA51)","v":""},{"$f":"IF(Lists!AB51=\"\",\"\",Lists!AB51)","v":""},{"$f":"IF(Lists!AC51=\"\",\"\",Lists!AC51)","v":""},{"$f":"IF($C73=\"\",\"\",IF(OR($D73=\"Compliant Material 63.4291(a)(1)\",$D73=\"Compliant Material 63.4291(b)\",$D73=\"Compliant Material 63.4291(c)(1)\"),COUNTIFS(Deviation_Compliant_Coating!$B$24:$B$500,$B73,Deviation_Compliant_Coating!$C$24:$C$500,$C73),\"N/A\"))","v":""},{"$f":"IF($C73=\"\",\"\",IF(OR($D73=\"Emission Rate Without Add-On Controls 63.4291(a)(2)\",$D73=\"Emission Rate Without Add-On Controls 63.4291(c)(2)\"),COUNTIFS(Deviation_Without_Addon!$B$24:$B$500,$B73,Deviation_Without_Addon!$C$24:$C$500,$C73),\"N/A\"))","v":""},{"$f":"IF($C73=\"\",\"\",IF(OR($D73=\"Emission Rate With Add-on Controls 63.4291(a)(3)\",$D73=\"Emission Rate With Add-On Controls 63.4291(c)(3)\",$D73=\"Organic HAP Overall Control Efficiency 63.4291(a)(4)\",$D73=\"Oxidizer Outlet Organic HAP Concentration Limit 63.4291(a)(5)\"),COUNTIFS(Deviation_w_Addon_WorkPrac!$B$24:$B$500,$B73,Deviation_w_Addon_WorkPrac!$J$24:$J$500,$C73),\"N/A\"))","v":""},{"$f":"IF($C73=\"\",\"\",IF($D73=\"Equivalent Emissions Rate 63.4291(c)(4)\",COUNTIFS(Deviation_Equiv_ER!$B$24:$B$500,$B73,Deviation_Equiv_ER!$I$24:$I$500,$C73),\"N/A\"))","v":""}]
[null,{"$f":"IF(Lists!AA52=\"\",\"\",Lists!AA52)","v":""},{"$f":"IF(Lists!AB52=\"\",\"\",Lists!AB52)","v":""},{"$f":"IF(Lists!AC52=\"\",\"\",Lists!AC52)","v":""},{"$f":"IF($C74=\"\",\"\",IF(OR($D74=\"Compliant Material 63.4291(a)(1)\",$D74=\"Compliant Material 63.4291(b)\",$D74=\"Compliant Material 63.4291(c)(1)\"),COUNTIFS(Deviation_Compliant_Coating!$B$24:$B$500,$B74,Deviation_Compliant_Coating!$C$24:$C$500,$C74),\"N/A\"))","v":""},{"$f":"IF($C74=\"\",\"\",IF(OR($D74=\"Emission Rate Without Add-On Controls 63.4291(a)(2)\",$D74=\"Emission Rate Without Add-On Controls 63.4291(c)(2)\"),COUNTIFS(Deviation_Without_Addon!$B$24:$B$500,$B74,Deviation_Without_Addon!$C$24:$C$500,$C74),\"N/A\"))","v":""},{"$f":"IF($C74=\"\",\"\",IF(OR($D74=\"Emission Rate With Add-on Controls 63.4291(a)(3)\",$D74=\"Emission Rate With Add-On Controls 63.4291(c)(3)\",$D74=\"Organic HAP Overall Control Efficiency 63.4291(a)(4)\",$D74=\"Oxidizer Outlet Organic HAP Concentration Limit 63.4291(a)(5)\"),COUNTIFS(Deviation_w_Addon_WorkPrac!$B$24:$B$500,$B74,Deviation_w_Addon_WorkPrac!$J$24:$J$500,$C74),\"N/A\"))","v":""},{"$f":"IF($C74=\"\",\"\",IF($D74=\"Equivalent Emissions Rate 63.4291(c)(4)\",COUNTIFS(Deviation_Equiv_ER!$B$24:$B$500,$B74,Deviation_Equiv_ER!$I$24:$I$500,$C74),\"N/A\"))","v":""}]
[null,{"$f":"IF(Lists!AA53=\"\",\"\",Lists!AA53)","v":""},{"$f":"IF(Lists!AB53=\"\",\"\",Lists!AB53)","v":""},{"$f":"IF(Lists!AC53=\"\",\"\",Lists!AC53)","v":""},{"$f":"IF($C75=\"\",\"\",IF(OR($D75=\"Compliant Material 63.4291(a)(1)\",$D75=\"Compliant Material 63.4291(b)\",$D75=\"Compliant Material 63.4291(c)(1)\"),COUNTIFS(Deviation_Compliant_Coating!$B$24:$B$500,$B75,Deviation_Compliant_Coating!$C$24:$C$500,$C75),\"N/A\"))","v":""},{"$f":"IF($C75=\"\",\"\",IF(OR($D75=\"Emission Rate Without Add-On Controls 63.4291(a)(2)\",$D75=\"Emission Rate Without Add-On Controls 63.4291(c)(2)\"),COUNTIFS(Deviation_Without_Addon!$B$24:$B$500,$B75,Deviation_Without_Addon!$C$24:$C$500,$C75),\"N/A\"))","v":""},{"$f":"IF($C75=\"\",\"\",IF(OR($D75=\"Emission Rate With Add-on Controls 63.4291(a)(3)\",$D75=\"Emission Rate With Add-On Controls 63.4291(c)(3)\",$D75=\"Organic HAP Overall Control Efficiency 63.4291(a)(4)\",$D75=\"Oxidizer Outlet Organic HAP Concentration Limit 63.4291(a)(5)\"),COUNTIFS(Deviation_w_Addon_WorkPrac!$B$24:$B$500,$B75,Deviation_w_Addon_WorkPrac!$J$24:$J$500,$C75),\"N/A\"))","v":""},{"$f":"IF($C75=\"\",\"\",IF($D75=\"Equivalent Emissions Rate 63.4291(c)(4)\",COUNTIFS(Deviation_Equiv_ER!$B$24:$B$500,$B75,Deviation_Equiv_ER!$I$24:$I$500,$C75),\"N/A\"))","v":""}]
[null,{"$f":"IF(Lists!AA54=\"\",\"\",Lists!AA54)","v":""},{"$f":"IF(Lists!AB54=\"\",\"\",Lists!AB54)","v":""},{"$f":"IF(Lists!AC54=\"\",\"\",Lists!AC54)","v":""},{"$f":"IF($C76=\"\",\"\",IF(OR($D76=\"Compliant Material 63.4291(a)(1)\",$D76=\"Compliant Material 63.4291(b)\",$D76=\"Compliant Material 63.4291(c)(1)\"),COUNTIFS(Deviation_Compliant_Coating!$B$24:$B$500,$B76,Deviation_Compliant_Coating!$C$24:$C$500,$C76),\"N/A\"))","v":""},{"$f":"IF($C76=\"\",\"\",IF(OR($D76=\"Emission Rate Without Add-On Controls 63.4291(a)(2)\",$D76=\"Emission Rate Without Add-On Controls 63.4291(c)(2)\"),COUNTIFS(Deviation_Without_Addon!$B$24:$B$500,$B76,Deviation_Without_Addon!$C$24:$C$500,$C76),\"N/A\"))","v":""},{"$f":"IF($C76=\"\",\"\",IF(OR($D76=\"Emission Rate With Add-on Controls 63.4291(a)(3)\",$D76=\"Emission Rate With Add-On Controls 63.4291(c)(3)\",$D76=\"Organic HAP Overall Control Efficiency 63.4291(a)(4)\",$D76=\"Oxidizer Outlet Organic HAP Concentration Limit 63.4291(a)(5)\"),COUNTIFS(Deviation_w_Addon_WorkPrac!$B$24:$B$500,$B76,Deviation_w_Addon_WorkPrac!$J$24:$J$500,$C76),\"N/A\"))","v":""},{"$f":"IF($C76=\"\",\"\",IF($D76=\"Equivalent Emissions Rate 63.4291(c)(4)\",COUNTIFS(Deviation_Equiv_ER!$B$24:$B$500,$B76,Deviation_Equiv_ER!$I$24:$I$500,$C76),\"N/A\"))","v":""}]
[null,{"$f":"IF(Lists!AA55=\"\",\"\",Lists!AA55)","v":""},{"$f":"IF(Lists!AB55=\"\",\"\",Lists!AB55)","v":""},{"$f":"IF(Lists!AC55=\"\",\"\",Lists!AC55)","v":""},{"$f":"IF($C77=\"\",\"\",IF(OR($D77=\"Compliant Material 63.4291(a)(1)\",$D77=\"Compliant Material 63.4291(b)\",$D77=\"Compliant Material 63.4291(c)(1)\"),COUNTIFS(Deviation_Compliant_Coating!$B$24:$B$500,$B77,Deviation_Compliant_Coating!$C$24:$C$500,$C77),\"N/A\"))","v":""},{"$f":"IF($C77=\"\",\"\",IF(OR($D77=\"Emission Rate Without Add-On Controls 63.4291(a)(2)\",$D77=\"Emission Rate Without Add-On Controls 63.4291(c)(2)\"),COUNTIFS(Deviation_Without_Addon!$B$24:$B$500,$B77,Deviation_Without_Addon!$C$24:$C$500,$C77),\"N/A\"))","v":""},{"$f":"IF($C77=\"\",\"\",IF(OR($D77=\"Emission Rate With Add-on Controls 63.4291(a)(3)\",$D77=\"Emission Rate With Add-On Controls 63.4291(c)(3)\",$D77=\"Organic HAP Overall Control Efficiency 63.4291(a)(4)\",$D77=\"Oxidizer Outlet Organic HAP Concentration Limit 63.4291(a)(5)\"),COUNTIFS(Deviation_w_Addon_WorkPrac!$B$24:$B$500,$B77,Deviation_w_Addon_WorkPrac!$J$24:$J$500,$C77),\"N/A\"))","v":""},{"$f":"IF($C77=\"\",\"\",IF($D77=\"Equivalent Emissions Rate 63.4291(c)(4)\",COUNTIFS(Deviation_Equiv_ER!$B$24:$B$500,$B77,Deviation_Equiv_ER!$I$24:$I$500,$C77),\"N/A\"))","v":""}]
[null,{"$f":"IF(Lists!AA56=\"\",\"\",Lists!AA56)","v":""},{"$f":"IF(Lists!AB56=\"\",\"\",Lists!AB56)","v":""},{"$f":"IF(Lists!AC56=\"\",\"\",Lists!AC56)","v":""},{"$f":"IF($C78=\"\",\"\",IF(OR($D78=\"Compliant Material 63.4291(a)(1)\",$D78=\"Compliant Material 63.4291(b)\",$D78=\"Compliant Material 63.4291(c)(1)\"),COUNTIFS(Deviation_Compliant_Coating!$B$24:$B$500,$B78,Deviation_Compliant_Coating!$C$24:$C$500,$C78),\"N/A\"))","v":""},{"$f":"IF($C78=\"\",\"\",IF(OR($D78=\"Emission Rate Without Add-On Controls 63.4291(a)(2)\",$D78=\"Emission Rate Without Add-On Controls 63.4291(c)(2)\"),COUNTIFS(Deviation_Without_Addon!$B$24:$B$500,$B78,Deviation_Without_Addon!$C$24:$C$500,$C78),\"N/A\"))","v":""},{"$f":"IF($C78=\"\",\"\",IF(OR($D78=\"Emission Rate With Add-on Controls 63.4291(a)(3)\",$D78=\"Emission Rate With Add-On Controls 63.4291(c)(3)\",$D78=\"Organic HAP Overall Control Efficiency 63.4291(a)(4)\",$D78=\"Oxidizer Outlet Organic HAP Concentration Limit 63.4291(a)(5)\"),COUNTIFS(Deviation_w_Addon_WorkPrac!$B$24:$B$500,$B78,Deviation_w_Addon_WorkPrac!$J$24:$J$500,$C78),\"N/A\"))","v":""},{"$f":"IF($C78=\"\",\"\",IF($D78=\"Equivalent Emissions Rate 63.4291(c)(4)\",COUNTIFS(Deviation_Equiv_ER!$B$24:$B$500,$B78,Deviation_Equiv_ER!$I$24:$I$500,$C78),\"N/A\"))","v":""}]
[null,{"$f":"IF(Lists!AA57=\"\",\"\",Lists!AA57)","v":""},{"$f":"IF(Lists!AB57=\"\",\"\",Lists!AB57)","v":""},{"$f":"IF(Lists!AC57=\"\",\"\",Lists!AC57)","v":""},{"$f":"IF($C79=\"\",\"\",IF(OR($D79=\"Compliant Material 63.4291(a)(1)\",$D79=\"Compliant Material 63.4291(b)\",$D79=\"Compliant Material 63.4291(c)(1)\"),COUNTIFS(Deviation_Compliant_Coating!$B$24:$B$500,$B79,Deviation_Compliant_Coating!$C$24:$C$500,$C79),\"N/A\"))","v":""},{"$f":"IF($C79=\"\",\"\",IF(OR($D79=\"Emission Rate Without Add-On Controls 63.4291(a)(2)\",$D79=\"Emission Rate Without Add-On Controls 63.4291(c)(2)\"),COUNTIFS(Deviation_Without_Addon!$B$24:$B$500,$B79,Deviation_Without_Addon!$C$24:$C$500,$C79),\"N/A\"))","v":""},{"$f":"IF($C79=\"\",\"\",IF(OR($D79=\"Emission Rate With Add-on Controls 63.4291(a)(3)\",$D79=\"Emission Rate With Add-On Controls 63.4291(c)(3)\",$D79=\"Organic HAP Overall Control Efficiency 63.4291(a)(4)\",$D79=\"Oxidizer Outlet Organic HAP Concentration Limit 63.4291(a)(5)\"),COUNTIFS(Deviation_w_Addon_WorkPrac!$B$24:$B$500,$B79,Deviation_w_Addon_WorkPrac!$J$24:$J$500,$C79),\"N/A\"))","v":""},{"$f":"IF($C79=\"\",\"\",IF($D79=\"Equivalent Emissions Rate 63.4291(c)(4)\",COUNTIFS(Deviation_Equiv_ER!$B$24:$B$500,$B79,Deviation_Equiv_ER!$I$24:$I$500,$C79),\"N/A\"))","v":""}]
[null,{"$f":"IF(Lists!AA58=\"\",\"\",Lists!AA58)","v":""},{"$f":"IF(Lists!AB58=\"\",\"\",Lists!AB58)","v":""},{"$f":"IF(Lists!AC58=\"\",\"\",Lists!AC58)","v":""},{"$f":"IF($C80=\"\",\"\",IF(OR($D80=\"Compliant Material 63.4291(a)(1)\",$D80=\"Compliant Material 63.4291(b)\",$D80=\"Compliant Material 63.4291(c)(1)\"),COUNTIFS(Deviation_Compliant_Coating!$B$24:$B$500,$B80,Deviation_Compliant_Coating!$C$24:$C$500,$C80),\"N/A\"))","v":""},{"$f":"IF($C80=\"\",\"\",IF(OR($D80=\"Emission Rate Without Add-On Controls 63.4291(a)(2)\",$D80=\"Emission Rate Without Add-On Controls 63.4291(c)(2)\"),COUNTIFS(Deviation_Without_Addon!$B$24:$B$500,$B80,Deviation_Without_Addon!$C$24:$C$500,$C80),\"N/A\"))","v":""},{"$f":"IF($C80=\"\",\"\",IF(OR($D80=\"Emission Rate With Add-on Controls 63.4291(a)(3)\",$D80=\"Emission Rate With Add-On Controls 63.4291(c)(3)\",$D80=\"Organic HAP Overall Control Efficiency 63.4291(a)(4)\",$D80=\"Oxidizer Outlet Organic HAP Concentration Limit 63.4291(a)(5)\"),COUNTIFS(Deviation_w_Addon_WorkPrac!$B$24:$B$500,$B80,Deviation_w_Addon_WorkPrac!$J$24:$J$500,$C80),\"N/A\"))","v":""},{"$f":"IF($C80=\"\",\"\",IF($D80=\"Equivalent Emissions Rate 63.4291(c)(4)\",COUNTIFS(Deviation_Equiv_ER!$B$24:$B$500,$B80,Deviation_Equiv_ER!$I$24:$I$500,$C80),\"N/A\"))","v":""}]
[null,{"$f":"IF(Lists!AA59=\"\",\"\",Lists!AA59)","v":""},{"$f":"IF(Lists!AB59=\"\",\"\",Lists!AB59)","v":""},{"$f":"IF(Lists!AC59=\"\",\"\",Lists!AC59)","v":""},{"$f":"IF($C81=\"\",\"\",IF(OR($D81=\"Compliant Material 63.4291(a)(1)\",$D81=\"Compliant Material 63.4291(b)\",$D81=\"Compliant Material 63.4291(c)(1)\"),COUNTIFS(Deviation_Compliant_Coating!$B$24:$B$500,$B81,Deviation_Compliant_Coating!$C$24:$C$500,$C81),\"N/A\"))","v":""},{"$f":"IF($C81=\"\",\"\",IF(OR($D81=\"Emission Rate Without Add-On Controls 63.4291(a)(2)\",$D81=\"Emission Rate Without Add-On Controls 63.4291(c)(2)\"),COUNTIFS(Deviation_Without_Addon!$B$24:$B$500,$B81,Deviation_Without_Addon!$C$24:$C$500,$C81),\"N/A\"))","v":""},{"$f":"IF($C81=\"\",\"\",IF(OR($D81=\"Emission Rate With Add-on Controls 63.4291(a)(3)\",$D81=\"Emission Rate With Add-On Controls 63.4291(c)(3)\",$D81=\"Organic HAP Overall Control Efficiency 63.4291(a)(4)\",$D81=\"Oxidizer Outlet Organic HAP Concentration Limit 63.4291(a)(5)\"),COUNTIFS(Deviation_w_Addon_WorkPrac!$B$24:$B$500,$B81,Deviation_w_Addon_WorkPrac!$J$24:$J$500,$C81),\"N/A\"))","v":""},{"$f":"IF($C81=\"\",\"\",IF($D81=\"Equivalent Emissions Rate 63.4291(c)(4)\",COUNTIFS(Deviation_Equiv_ER!$B$24:$B$500,$B81,Deviation_Equiv_ER!$I$24:$I$500,$C81),\"N/A\"))","v":""}]
[null,{"$f":"IF(Lists!AA60=\"\",\"\",Lists!AA60)","v":""},{"$f":"IF(Lists!AB60=\"\",\"\",Lists!AB60)","v":""},{"$f":"IF(Lists!AC60=\"\",\"\",Lists!AC60)","v":""},{"$f":"IF($C82=\"\",\"\",IF(OR($D82=\"Compliant Material 63.4291(a)(1)\",$D82=\"Compliant Material 63.4291(b)\",$D82=\"Compliant Material 63.4291(c)(1)\"),COUNTIFS(Deviation_Compliant_Coating!$B$24:$B$500,$B82,Deviation_Compliant_Coating!$C$24:$C$500,$C82),\"N/A\"))","v":""},{"$f":"IF($C82=\"\",\"\",IF(OR($D82=\"Emission Rate Without Add-On Controls 63.4291(a)(2)\",$D82=\"Emission Rate Without Add-On Controls 63.4291(c)(2)\"),COUNTIFS(Deviation_Without_Addon!$B$24:$B$500,$B82,Deviation_Without_Addon!$C$24:$C$500,$C82),\"N/A\"))","v":""},{"$f":"IF($C82=\"\",\"\",IF(OR($D82=\"Emission Rate With Add-on Controls 63.4291(a)(3)\",$D82=\"Emission Rate With Add-On Controls 63.4291(c)(3)\",$D82=\"Organic HAP Overall Control Efficiency 63.4291(a)(4)\",$D82=\"Oxidizer Outlet Organic HAP Concentration Limit 63.4291(a)(5)\"),COUNTIFS(Deviation_w_Addon_WorkPrac!$B$24:$B$500,$B82,Deviation_w_Addon_WorkPrac!$J$24:$J$500,$C82),\"N/A\"))","v":""},{"$f":"IF($C82=\"\",\"\",IF($D82=\"Equivalent Emissions Rate 63.4291(c)(4)\",COUNTIFS(Deviation_Equiv_ER!$B$24:$B$500,$B82,Deviation_Equiv_ER!$I$24:$I$500,$C82),\"N/A\"))","v":""}]
[null,{"$f":"IF(Lists!AA61=\"\",\"\",Lists!AA61)","v":""},{"$f":"IF(Lists!AB61=\"\",\"\",Lists!AB61)","v":""},{"$f":"IF(Lists!AC61=\"\",\"\",Lists!AC61)","v":""},{"$f":"IF($C83=\"\",\"\",IF(OR($D83=\"Compliant Material 63.4291(a)(1)\",$D83=\"Compliant Material 63.4291(b)\",$D83=\"Compliant Material 63.4291(c)(1)\"),COUNTIFS(Deviation_Compliant_Coating!$B$24:$B$500,$B83,Deviation_Compliant_Coating!$C$24:$C$500,$C83),\"N/A\"))","v":""},{"$f":"IF($C83=\"\",\"\",IF(OR($D83=\"Emission Rate Without Add-On Controls 63.4291(a)(2)\",$D83=\"Emission Rate Without Add-On Controls 63.4291(c)(2)\"),COUNTIFS(Deviation_Without_Addon!$B$24:$B$500,$B83,Deviation_Without_Addon!$C$24:$C$500,$C83),\"N/A\"))","v":""},{"$f":"IF($C83=\"\",\"\",IF(OR($D83=\"Emission Rate With Add-on Controls 63.4291(a)(3)\",$D83=\"Emission Rate With Add-On Controls 63.4291(c)(3)\",$D83=\"Organic HAP Overall Control Efficiency 63.4291(a)(4)\",$D83=\"Oxidizer Outlet Organic HAP Concentration Limit 63.4291(a)(5)\"),COUNTIFS(Deviation_w_Addon_WorkPrac!$B$24:$B$500,$B83,Deviation_w_Addon_WorkPrac!$J$24:$J$500,$C83),\"N/A\"))","v":""},{"$f":"IF($C83=\"\",\"\",IF($D83=\"Equivalent Emissions Rate 63.4291(c)(4)\",COUNTIFS(Deviation_Equiv_ER!$B$24:$B$500,$B83,Deviation_Equiv_ER!$I$24:$I$500,$C83),\"N/A\"))","v":""}]
[null,{"$f":"IF(Lists!AA62=\"\",\"\",Lists!AA62)","v":""},{"$f":"IF(Lists!AB62=\"\",\"\",Lists!AB62)","v":""},{"$f":"IF(Lists!AC62=\"\",\"\",Lists!AC62)","v":""},{"$f":"IF($C84=\"\",\"\",IF(OR($D84=\"Compliant Material 63.4291(a)(1)\",$D84=\"Compliant Material 63.4291(b)\",$D84=\"Compliant Material 63.4291(c)(1)\"),COUNTIFS(Deviation_Compliant_Coating!$B$24:$B$500,$B84,Deviation_Compliant_Coating!$C$24:$C$500,$C84),\"N/A\"))","v":""},{"$f":"IF($C84=\"\",\"\",IF(OR($D84=\"Emission Rate Without Add-On Controls 63.4291(a)(2)\",$D84=\"Emission Rate Without Add-On Controls 63.4291(c)(2)\"),COUNTIFS(Deviation_Without_Addon!$B$24:$B$500,$B84,Deviation_Without_Addon!$C$24:$C$500,$C84),\"N/A\"))","v":""},{"$f":"IF($C84=\"\",\"\",IF(OR($D84=\"Emission Rate With Add-on Controls 63.4291(a)(3)\",$D84=\"Emission Rate With Add-On Controls 63.4291(c)(3)\",$D84=\"Organic HAP Overall Control Efficiency 63.4291(a)(4)\",$D84=\"Oxidizer Outlet Organic HAP Concentration Limit 63.4291(a)(5)\"),COUNTIFS(Deviation_w_Addon_WorkPrac!$B$24:$B$500,$B84,Deviation_w_Addon_WorkPrac!$J$24:$J$500,$C84),\"N/A\"))","v":""},{"$f":"IF($C84=\"\",\"\",IF($D84=\"Equivalent Emissions Rate 63.4291(c)(4)\",COUNTIFS(Deviation_Equiv_ER!$B$24:$B$500,$B84,Deviation_Equiv_ER!$I$24:$I$500,$C84),\"N/A\"))","v":""}]
[null,{"$f":"IF(Lists!AA63=\"\",\"\",Lists!AA63)","v":""},{"$f":"IF(Lists!AB63=\"\",\"\",Lists!AB63)","v":""},{"$f":"IF(Lists!AC63=\"\",\"\",Lists!AC63)","v":""},{"$f":"IF($C85=\"\",\"\",IF(OR($D85=\"Compliant Material 63.4291(a)(1)\",$D85=\"Compliant Material 63.4291(b)\",$D85=\"Compliant Material 63.4291(c)(1)\"),COUNTIFS(Deviation_Compliant_Coating!$B$24:$B$500,$B85,Deviation_Compliant_Coating!$C$24:$C$500,$C85),\"N/A\"))","v":""},{"$f":"IF($C85=\"\",\"\",IF(OR($D85=\"Emission Rate Without Add-On Controls 63.4291(a)(2)\",$D85=\"Emission Rate Without Add-On Controls 63.4291(c)(2)\"),COUNTIFS(Deviation_Without_Addon!$B$24:$B$500,$B85,Deviation_Without_Addon!$C$24:$C$500,$C85),\"N/A\"))","v":""},{"$f":"IF($C85=\"\",\"\",IF(OR($D85=\"Emission Rate With Add-on Controls 63.4291(a)(3)\",$D85=\"Emission Rate With Add-On Controls 63.4291(c)(3)\",$D85=\"Organic HAP Overall Control Efficiency 63.4291(a)(4)\",$D85=\"Oxidizer Outlet Organic HAP Concentration Limit 63.4291(a)(5)\"),COUNTIFS(Deviation_w_Addon_WorkPrac!$B$24:$B$500,$B85,Deviation_w_Addon_WorkPrac!$J$24:$J$500,$C85),\"N/A\"))","v":""},{"$f":"IF($C85=\"\",\"\",IF($D85=\"Equivalent Emissions Rate 63.4291(c)(4)\",COUNTIFS(Deviation_Equiv_ER!$B$24:$B$500,$B85,Deviation_Equiv_ER!$I$24:$I$500,$C85),\"N/A\"))","v":""}]
[null,{"$f":"IF(Lists!AA64=\"\",\"\",Lists!AA64)","v":""},{"$f":"IF(Lists!AB64=\"\",\"\",Lists!AB64)","v":""},{"$f":"IF(Lists!AC64=\"\",\"\",Lists!AC64)","v":""},{"$f":"IF($C86=\"\",\"\",IF(OR($D86=\"Compliant Material 63.4291(a)(1)\",$D86=\"Compliant Material 63.4291(b)\",$D86=\"Compliant Material 63.4291(c)(1)\"),COUNTIFS(Deviation_Compliant_Coating!$B$24:$B$500,$B86,Deviation_Compliant_Coating!$C$24:$C$500,$C86),\"N/A\"))","v":""},{"$f":"IF($C86=\"\",\"\",IF(OR($D86=\"Emission Rate Without Add-On Controls 63.4291(a)(2)\",$D86=\"Emission Rate Without Add-On Controls 63.4291(c)(2)\"),COUNTIFS(Deviation_Without_Addon!$B$24:$B$500,$B86,Deviation_Without_Addon!$C$24:$C$500,$C86),\"N/A\"))","v":""},{"$f":"IF($C86=\"\",\"\",IF(OR($D86=\"Emission Rate With Add-on Controls 63.4291(a)(3)\",$D86=\"Emission Rate With Add-On Controls 63.4291(c)(3)\",$D86=\"Organic HAP Overall Control Efficiency 63.4291(a)(4)\",$D86=\"Oxidizer Outlet Organic HAP Concentration Limit 63.4291(a)(5)\"),COUNTIFS(Deviation_w_Addon_WorkPrac!$B$24:$B$500,$B86,Deviation_w_Addon_WorkPrac!$J$24:$J$500,$C86),\"N/A\"))","v":""},{"$f":"IF($C86=\"\",\"\",IF($D86=\"Equivalent Emissions Rate 63.4291(c)(4)\",COUNTIFS(Deviation_Equiv_ER!$B$24:$B$500,$B86,Deviation_Equiv_ER!$I$24:$I$500,$C86),\"N/A\"))","v":""}]
[null,{"$f":"IF(Lists!AA65=\"\",\"\",Lists!AA65)","v":""},{"$f":"IF(Lists!AB65=\"\",\"\",Lists!AB65)","v":""},{"$f":"IF(Lists!AC65=\"\",\"\",Lists!AC65)","v":""},{"$f":"IF($C87=\"\",\"\",IF(OR($D87=\"Compliant Material 63.4291(a)(1)\",$D87=\"Compliant Material 63.4291(b)\",$D87=\"Compliant Material 63.4291(c)(1)\"),COUNTIFS(Deviation_Compliant_Coating!$B$24:$B$500,$B87,Deviation_Compliant_Coating!$C$24:$C$500,$C87),\"N/A\"))","v":""},{"$f":"IF($C87=\"\",\"\",IF(OR($D87=\"Emission Rate Without Add-On Controls 63.4291(a)(2)\",$D87=\"Emission Rate Without Add-On Controls 63.4291(c)(2)\"),COUNTIFS(Deviation_Without_Addon!$B$24:$B$500,$B87,Deviation_Without_Addon!$C$24:$C$500,$C87),\"N/A\"))","v":""},{"$f":"IF($C87=\"\",\"\",IF(OR($D87=\"Emission Rate With Add-on Controls 63.4291(a)(3)\",$D87=\"Emission Rate With Add-On Controls 63.4291(c)(3)\",$D87=\"Organic HAP Overall Control Efficiency 63.4291(a)(4)\",$D87=\"Oxidizer Outlet Organic HAP Concentration Limit 63.4291(a)(5)\"),COUNTIFS(Deviation_w_Addon_WorkPrac!$B$24:$B$500,$B87,Deviation_w_Addon_WorkPrac!$J$24:$J$500,$C87),\"N/A\"))","v":""},{"$f":"IF($C87=\"\",\"\",IF($D87=\"Equivalent Emissions Rate 63.4291(c)(4)\",COUNTIFS(Deviation_Equiv_ER!$B$24:$B$500,$B87,Deviation_Equiv_ER!$I$24:$I$500,$C87),\"N/A\"))","v":""}]
[null,{"$f":"IF(Lists!AA66=\"\",\"\",Lists!AA66)","v":""},{"$f":"IF(Lists!AB66=\"\",\"\",Lists!AB66)","v":""},{"$f":"IF(Lists!AC66=\"\",\"\",Lists!AC66)","v":""},{"$f":"IF($C88=\"\",\"\",IF(OR($D88=\"Compliant Material 63.4291(a)(1)\",$D88=\"Compliant Material 63.4291(b)\",$D88=\"Compliant Material 63.4291(c)(1)\"),COUNTIFS(Deviation_Compliant_Coating!$B$24:$B$500,$B88,Deviation_Compliant_Coating!$C$24:$C$500,$C88),\"N/A\"))","v":""},{"$f":"IF($C88=\"\",\"\",IF(OR($D88=\"Emission Rate Without Add-On Controls 63.4291(a)(2)\",$D88=\"Emission Rate Without Add-On Controls 63.4291(c)(2)\"),COUNTIFS(Deviation_Without_Addon!$B$24:$B$500,$B88,Deviation_Without_Addon!$C$24:$C$500,$C88),\"N/A\"))","v":""},{"$f":"IF($C88=\"\",\"\",IF(OR($D88=\"Emission Rate With Add-on Controls 63.4291(a)(3)\",$D88=\"Emission Rate With Add-On Controls 63.4291(c)(3)\",$D88=\"Organic HAP Overall Control Efficiency 63.4291(a)(4)\",$D88=\"Oxidizer Outlet Organic HAP Concentration Limit 63.4291(a)(5)\"),COUNTIFS(Deviation_w_Addon_WorkPrac!$B$24:$B$500,$B88,Deviation_w_Addon_WorkPrac!$J$24:$J$500,$C88),\"N/A\"))","v":""},{"$f":"IF($C88=\"\",\"\",IF($D88=\"Equivalent Emissions Rate 63.4291(c)(4)\",COUNTIFS(Deviation_Equiv_ER!$B$24:$B$500,$B88,Deviation_Equiv_ER!$I$24:$I$500,$C88),\"N/A\"))","v":""}]
[null,{"$f":"IF(Lists!AA67=\"\",\"\",Lists!AA67)","v":""},{"$f":"IF(Lists!AB67=\"\",\"\",Lists!AB67)","v":""},{"$f":"IF(Lists!AC67=\"\",\"\",Lists!AC67)","v":""},{"$f":"IF($C89=\"\",\"\",IF(OR($D89=\"Compliant Material 63.4291(a)(1)\",$D89=\"Compliant Material 63.4291(b)\",$D89=\"Compliant Material 63.4291(c)(1)\"),COUNTIFS(Deviation_Compliant_Coating!$B$24:$B$500,$B89,Deviation_Compliant_Coating!$C$24:$C$500,$C89),\"N/A\"))","v":""},{"$f":"IF($C89=\"\",\"\",IF(OR($D89=\"Emission Rate Without Add-On Controls 63.4291(a)(2)\",$D89=\"Emission Rate Without Add-On Controls 63.4291(c)(2)\"),COUNTIFS(Deviation_Without_Addon!$B$24:$B$500,$B89,Deviation_Without_Addon!$C$24:$C$500,$C89),\"N/A\"))","v":""},{"$f":"IF($C89=\"\",\"\",IF(OR($D89=\"Emission Rate With Add-on Controls 63.4291(a)(3)\",$D89=\"Emission Rate With Add-On Controls 63.4291(c)(3)\",$D89=\"Organic HAP Overall Control Efficiency 63.4291(a)(4)\",$D89=\"Oxidizer Outlet Organic HAP Concentration Limit 63.4291(a)(5)\"),COUNTIFS(Deviation_w_Addon_WorkPrac!$B$24:$B$500,$B89,Deviation_w_Addon_WorkPrac!$J$24:$J$500,$C89),\"N/A\"))","v":""},{"$f":"IF($C89=\"\",\"\",IF($D89=\"Equivalent Emissions Rate 63.4291(c)(4)\",COUNTIFS(Deviation_Equiv_ER!$B$24:$B$500,$B89,Deviation_Equiv_ER!$I$24:$I$500,$C89),\"N/A\"))","v":""}]
[null,{"$f":"IF(Lists!AA68=\"\",\"\",Lists!AA68)","v":""},{"$f":"IF(Lists!AB68=\"\",\"\",Lists!AB68)","v":""},{"$f":"IF(Lists!AC68=\"\",\"\",Lists!AC68)","v":""},{"$f":"IF($C90=\"\",\"\",IF(OR($D90=\"Compliant Material 63.4291(a)(1)\",$D90=\"Compliant Material 63.4291(b)\",$D90=\"Compliant Material 63.4291(c)(1)\"),COUNTIFS(Deviation_Compliant_Coating!$B$24:$B$500,$B90,Deviation_Compliant_Coating!$C$24:$C$500,$C90),\"N/A\"))","v":""},{"$f":"IF($C90=\"\",\"\",IF(OR($D90=\"Emission Rate Without Add-On Controls 63.4291(a)(2)\",$D90=\"Emission Rate Without Add-On Controls 63.4291(c)(2)\"),COUNTIFS(Deviation_Without_Addon!$B$24:$B$500,$B90,Deviation_Without_Addon!$C$24:$C$500,$C90),\"N/A\"))","v":""},{"$f":"IF($C90=\"\",\"\",IF(OR($D90=\"Emission Rate With Add-on Controls 63.4291(a)(3)\",$D90=\"Emission Rate With Add-On Controls 63.4291(c)(3)\",$D90=\"Organic HAP Overall Control Efficiency 63.4291(a)(4)\",$D90=\"Oxidizer Outlet Organic HAP Concentration Limit 63.4291(a)(5)\"),COUNTIFS(Deviation_w_Addon_WorkPrac!$B$24:$B$500,$B90,Deviation_w_Addon_WorkPrac!$J$24:$J$500,$C90),\"N/A\"))","v":""},{"$f":"IF($C90=\"\",\"\",IF($D90=\"Equivalent Emissions Rate 63.4291(c)(4)\",COUNTIFS(Deviation_Equiv_ER!$B$24:$B$500,$B90,Deviation_Equiv_ER!$I$24:$I$500,$C90),\"N/A\"))","v":""}]
[null,{"$f":"IF(Lists!AA69=\"\",\"\",Lists!AA69)","v":""},{"$f":"IF(Lists!AB69=\"\",\"\",Lists!AB69)","v":""},{"$f":"IF(Lists!AC69=\"\",\"\",Lists!AC69)","v":""},{"$f":"IF($C91=\"\",\"\",IF(OR($D91=\"Compliant Material 63.4291(a)(1)\",$D91=\"Compliant Material 63.4291(b)\",$D91=\"Compliant Material 63.4291(c)(1)\"),COUNTIFS(Deviation_Compliant_Coating!$B$24:$B$500,$B91,Deviation_Compliant_Coating!$C$24:$C$500,$C91),\"N/A\"))","v":""},{"$f":"IF($C91=\"\",\"\",IF(OR($D91=\"Emission Rate Without Add-On Controls 63.4291(a)(2)\",$D91=\"Emission Rate Without Add-On Controls 63.4291(c)(2)\"),COUNTIFS(Deviation_Without_Addon!$B$24:$B$500,$B91,Deviation_Without_Addon!$C$24:$C$500,$C91),\"N/A\"))","v":""},{"$f":"IF($C91=\"\",\"\",IF(OR($D91=\"Emission Rate With Add-on Controls 63.4291(a)(3)\",$D91=\"Emission Rate With Add-On Controls 63.4291(c)(3)\",$D91=\"Organic HAP Overall Control Efficiency 63.4291(a)(4)\",$D91=\"Oxidizer Outlet Organic HAP Concentration Limit 63.4291(a)(5)\"),COUNTIFS(Deviation_w_Addon_WorkPrac!$B$24:$B$500,$B91,Deviation_w_Addon_WorkPrac!$J$24:$J$500,$C91),\"N/A\"))","v":""},{"$f":"IF($C91=\"\",\"\",IF($D91=\"Equivalent Emissions Rate 63.4291(c)(4)\",COUNTIFS(Deviation_Equiv_ER!$B$24:$B$500,$B91,Deviation_Equiv_ER!$I$24:$I$500,$C91),\"N/A\"))","v":""}]
[null,{"$f":"IF(Lists!AA70=\"\",\"\",Lists!AA70)","v":""},{"$f":"IF(Lists!AB70=\"\",\"\",Lists!AB70)","v":""},{"$f":"IF(Lists!AC70=\"\",\"\",Lists!AC70)","v":""},{"$f":"IF($C92=\"\",\"\",IF(OR($D92=\"Compliant Material 63.4291(a)(1)\",$D92=\"Compliant Material 63.4291(b)\",$D92=\"Compliant Material 63.4291(c)(1)\"),COUNTIFS(Deviation_Compliant_Coating!$B$24:$B$500,$B92,Deviation_Compliant_Coating!$C$24:$C$500,$C92),\"N/A\"))","v":""},{"$f":"IF($C92=\"\",\"\",IF(OR($D92=\"Emission Rate Without Add-On Controls 63.4291(a)(2)\",$D92=\"Emission Rate Without Add-On Controls 63.4291(c)(2)\"),COUNTIFS(Deviation_Without_Addon!$B$24:$B$500,$B92,Deviation_Without_Addon!$C$24:$C$500,$C92),\"N/A\"))","v":""},{"$f":"IF($C92=\"\",\"\",IF(OR($D92=\"Emission Rate With Add-on Controls 63.4291(a)(3)\",$D92=\"Emission Rate With Add-On Controls 63.4291(c)(3)\",$D92=\"Organic HAP Overall Control Efficiency 63.4291(a)(4)\",$D92=\"Oxidizer Outlet Organic HAP Concentration Limit 63.4291(a)(5)\"),COUNTIFS(Deviation_w_Addon_WorkPrac!$B$24:$B$500,$B92,Deviation_w_Addon_WorkPrac!$J$24:$J$500,$C92),\"N/A\"))","v":""},{"$f":"IF($C92=\"\",\"\",IF($D92=\"Equivalent Emissions Rate 63.4291(c)(4)\",COUNTIFS(Deviation_Equiv_ER!$B$24:$B$500,$B92,Deviation_Equiv_ER!$I$24:$I$500,$C92),\"N/A\"))","v":""}]
[null,{"$f":"IF(Lists!AA71=\"\",\"\",Lists!AA71)","v":""},{"$f":"IF(Lists!AB71=\"\",\"\",Lists!AB71)","v":""},{"$f":"IF(Lists!AC71=\"\",\"\",Lists!AC71)","v":""},{"$f":"IF($C93=\"\",\"\",IF(OR($D93=\"Compliant Material 63.4291(a)(1)\",$D93=\"Compliant Material 63.4291(b)\",$D93=\"Compliant Material 63.4291(c)(1)\"),COUNTIFS(Deviation_Compliant_Coating!$B$24:$B$500,$B93,Deviation_Compliant_Coating!$C$24:$C$500,$C93),\"N/A\"))","v":""},{"$f":"IF($C93=\"\",\"\",IF(OR($D93=\"Emission Rate Without Add-On Controls 63.4291(a)(2)\",$D93=\"Emission Rate Without Add-On Controls 63.4291(c)(2)\"),COUNTIFS(Deviation_Without_Addon!$B$24:$B$500,$B93,Deviation_Without_Addon!$C$24:$C$500,$C93),\"N/A\"))","v":""},{"$f":"IF($C93=\"\",\"\",IF(OR($D93=\"Emission Rate With Add-on Controls 63.4291(a)(3)\",$D93=\"Emission Rate With Add-On Controls 63.4291(c)(3)\",$D93=\"Organic HAP Overall Control Efficiency 63.4291(a)(4)\",$D93=\"Oxidizer Outlet Organic HAP Concentration Limit 63.4291(a)(5)\"),COUNTIFS(Deviation_w_Addon_WorkPrac!$B$24:$B$500,$B93,Deviation_w_Addon_WorkPrac!$J$24:$J$500,$C93),\"N/A\"))","v":""},{"$f":"IF($C93=\"\",\"\",IF($D93=\"Equivalent Emissions Rate 63.4291(c)(4)\",COUNTIFS(Deviation_Equiv_ER!$B$24:$B$500,$B93,Deviation_Equiv_ER!$I$24:$I$500,$C93),\"N/A\"))","v":""}]
[null,{"$f":"IF(Lists!AA72=\"\",\"\",Lists!AA72)","v":""},{"$f":"IF(Lists!AB72=\"\",\"\",Lists!AB72)","v":""},{"$f":"IF(Lists!AC72=\"\",\"\",Lists!AC72)","v":""},{"$f":"IF($C94=\"\",\"\",IF(OR($D94=\"Compliant Material 63.4291(a)(1)\",$D94=\"Compliant Material 63.4291(b)\",$D94=\"Compliant Material 63.4291(c)(1)\"),COUNTIFS(Deviation_Compliant_Coating!$B$24:$B$500,$B94,Deviation_Compliant_Coating!$C$24:$C$500,$C94),\"N/A\"))","v":""},{"$f":"IF($C94=\"\",\"\",IF(OR($D94=\"Emission Rate Without Add-On Controls 63.4291(a)(2)\",$D94=\"Emission Rate Without Add-On Controls 63.4291(c)(2)\"),COUNTIFS(Deviation_Without_Addon!$B$24:$B$500,$B94,Deviation_Without_Addon!$C$24:$C$500,$C94),\"N/A\"))","v":""},{"$f":"IF($C94=\"\",\"\",IF(OR($D94=\"Emission Rate With Add-on Controls 63.4291(a)(3)\",$D94=\"Emission Rate With Add-On Controls 63.4291(c)(3)\",$D94=\"Organic HAP Overall Control Efficiency 63.4291(a)(4)\",$D94=\"Oxidizer Outlet Organic HAP Concentration Limit 63.4291(a)(5)\"),COUNTIFS(Deviation_w_Addon_WorkPrac!$B$24:$B$500,$B94,Deviation_w_Addon_WorkPrac!$J$24:$J$500,$C94),\"N/A\"))","v":""},{"$f":"IF($C94=\"\",\"\",IF($D94=\"Equivalent Emissions Rate 63.4291(c)(4)\",COUNTIFS(Deviation_Equiv_ER!$B$24:$B$500,$B94,Deviation_Equiv_ER!$I$24:$I$500,$C94),\"N/A\"))","v":""}]
[null,{"$f":"IF(Lists!AA73=\"\",\"\",Lists!AA73)","v":""},{"$f":"IF(Lists!AB73=\"\",\"\",Lists!AB73)","v":""},{"$f":"IF(Lists!AC73=\"\",\"\",Lists!AC73)","v":""},{"$f":"IF($C95=\"\",\"\",IF(OR($D95=\"Compliant Material 63.4291(a)(1)\",$D95=\"Compliant Material 63.4291(b)\",$D95=\"Compliant Material 63.4291(c)(1)\"),COUNTIFS(Deviation_Compliant_Coating!$B$24:$B$500,$B95,Deviation_Compliant_Coating!$C$24:$C$500,$C95),\"N/A\"))","v":""},{"$f":"IF($C95=\"\",\"\",IF(OR($D95=\"Emission Rate Without Add-On Controls 63.4291(a)(2)\",$D95=\"Emission Rate Without Add-On Controls 63.4291(c)(2)\"),COUNTIFS(Deviation_Without_Addon!$B$24:$B$500,$B95,Deviation_Without_Addon!$C$24:$C$500,$C95),\"N/A\"))","v":""},{"$f":"IF($C95=\"\",\"\",IF(OR($D95=\"Emission Rate With Add-on Controls 63.4291(a)(3)\",$D95=\"Emission Rate With Add-On Controls 63.4291(c)(3)\",$D95=\"Organic HAP Overall Control Efficiency 63.4291(a)(4)\",$D95=\"Oxidizer Outlet Organic HAP Concentration Limit 63.4291(a)(5)\"),COUNTIFS(Deviation_w_Addon_WorkPrac!$B$24:$B$500,$B95,Deviation_w_Addon_WorkPrac!$J$24:$J$500,$C95),\"N/A\"))","v":""},{"$f":"IF($C95=\"\",\"\",IF($D95=\"Equivalent Emissions Rate 63.4291(c)(4)\",COUNTIFS(Deviation_Equiv_ER!$B$24:$B$500,$B95,Deviation_Equiv_ER!$I$24:$I$500,$C95),\"N/A\"))","v":""}]
[null,{"$f":"IF(Lists!AA74=\"\",\"\",Lists!AA74)","v":""},{"$f":"IF(Lists!AB74=\"\",\"\",Lists!AB74)","v":""},{"$f":"IF(Lists!AC74=\"\",\"\",Lists!AC74)","v":""},{"$f":"IF($C96=\"\",\"\",IF(OR($D96=\"Compliant Material 63.4291(a)(1)\",$D96=\"Compliant Material 63.4291(b)\",$D96=\"Compliant Material 63.4291(c)(1)\"),COUNTIFS(Deviation_Compliant_Coating!$B$24:$B$500,$B96,Deviation_Compliant_Coating!$C$24:$C$500,$C96),\"N/A\"))","v":""},{"$f":"IF($C96=\"\",\"\",IF(OR($D96=\"Emission Rate Without Add-On Controls 63.4291(a)(2)\",$D96=\"Emission Rate Without Add-On Controls 63.4291(c)(2)\"),COUNTIFS(Deviation_Without_Addon!$B$24:$B$500,$B96,Deviation_Without_Addon!$C$24:$C$500,$C96),\"N/A\"))","v":""},{"$f":"IF($C96=\"\",\"\",IF(OR($D96=\"Emission Rate With Add-on Controls 63.4291(a)(3)\",$D96=\"Emission Rate With Add-On Controls 63.4291(c)(3)\",$D96=\"Organic HAP Overall Control Efficiency 63.4291(a)(4)\",$D96=\"Oxidizer Outlet Organic HAP Concentration Limit 63.4291(a)(5)\"),COUNTIFS(Deviation_w_Addon_WorkPrac!$B$24:$B$500,$B96,Deviation_w_Addon_WorkPrac!$J$24:$J$500,$C96),\"N/A\"))","v":""},{"$f":"IF($C96=\"\",\"\",IF($D96=\"Equivalent Emissions Rate 63.4291(c)(4)\",COUNTIFS(Deviation_Equiv_ER!$B$24:$B$500,$B96,Deviation_Equiv_ER!$I$24:$I$500,$C96),\"N/A\"))","v":""}]
[null,{"$f":"IF(Lists!AA75=\"\",\"\",Lists!AA75)","v":""},{"$f":"IF(Lists!AB75=\"\",\"\",Lists!AB75)","v":""},{"$f":"IF(Lists!AC75=\"\",\"\",Lists!AC75)","v":""},{"$f":"IF($C97=\"\",\"\",IF(OR($D97=\"Compliant Material 63.4291(a)(1)\",$D97=\"Compliant Material 63.4291(b)\",$D97=\"Compliant Material 63.4291(c)(1)\"),COUNTIFS(Deviation_Compliant_Coating!$B$24:$B$500,$B97,Deviation_Compliant_Coating!$C$24:$C$500,$C97),\"N/A\"))","v":""},{"$f":"IF($C97=\"\",\"\",IF(OR($D97=\"Emission Rate Without Add-On Controls 63.4291(a)(2)\",$D97=\"Emission Rate Without Add-On Controls 63.4291(c)(2)\"),COUNTIFS(Deviation_Without_Addon!$B$24:$B$500,$B97,Deviation_Without_Addon!$C$24:$C$500,$C97),\"N/A\"))","v":""},{"$f":"IF($C97=\"\",\"\",IF(OR($D97=\"Emission Rate With Add-on Controls 63.4291(a)(3)\",$D97=\"Emission Rate With Add-On Controls 63.4291(c)(3)\",$D97=\"Organic HAP Overall Control Efficiency 63.4291(a)(4)\",$D97=\"Oxidizer Outlet Organic HAP Concentration Limit 63.4291(a)(5)\"),COUNTIFS(Deviation_w_Addon_WorkPrac!$B$24:$B$500,$B97,Deviation_w_Addon_WorkPrac!$J$24:$J$500,$C97),\"N/A\"))","v":""},{"$f":"IF($C97=\"\",\"\",IF($D97=\"Equivalent Emissions Rate 63.4291(c)(4)\",COUNTIFS(Deviation_Equiv_ER!$B$24:$B$500,$B97,Deviation_Equiv_ER!$I$24:$I$500,$C97),\"N/A\"))","v":""}]
[null,{"$f":"IF(Lists!AA76=\"\",\"\",Lists!AA76)","v":""},{"$f":"IF(Lists!AB76=\"\",\"\",Lists!AB76)","v":""},{"$f":"IF(Lists!AC76=\"\",\"\",Lists!AC76)","v":""},{"$f":"IF($C98=\"\",\"\",IF(OR($D98=\"Compliant Material 63.4291(a)(1)\",$D98=\"Compliant Material 63.4291(b)\",$D98=\"Compliant Material 63.4291(c)(1)\"),COUNTIFS(Deviation_Compliant_Coating!$B$24:$B$500,$B98,Deviation_Compliant_Coating!$C$24:$C$500,$C98),\"N/A\"))","v":""},{"$f":"IF($C98=\"\",\"\",IF(OR($D98=\"Emission Rate Without Add-On Controls 63.4291(a)(2)\",$D98=\"Emission Rate Without Add-On Controls 63.4291(c)(2)\"),COUNTIFS(Deviation_Without_Addon!$B$24:$B$500,$B98,Deviation_Without_Addon!$C$24:$C$500,$C98),\"N/A\"))","v":""},{"$f":"IF($C98=\"\",\"\",IF(OR($D98=\"Emission Rate With Add-on Controls 63.4291(a)(3)\",$D98=\"Emission Rate With Add-On Controls 63.4291(c)(3)\",$D98=\"Organic HAP Overall Control Efficiency 63.4291(a)(4)\",$D98=\"Oxidizer Outlet Organic HAP Concentration Limit 63.4291(a)(5)\"),COUNTIFS(Deviation_w_Addon_WorkPrac!$B$24:$B$500,$B98,Deviation_w_Addon_WorkPrac!$J$24:$J$500,$C98),\"N/A\"))","v":""},{"$f":"IF($C98=\"\",\"\",IF($D98=\"Equivalent Emissions Rate 63.4291(c)(4)\",COUNTIFS(Deviation_Equiv_ER!$B$24:$B$500,$B98,Deviation_Equiv_ER!$I$24:$I$500,$C98),\"N/A\"))","v":""}]
[null,{"$f":"IF(Lists!AA77=\"\",\"\",Lists!AA77)","v":""},{"$f":"IF(Lists!AB77=\"\",\"\",Lists!AB77)","v":""},{"$f":"IF(Lists!AC77=\"\",\"\",Lists!AC77)","v":""},{"$f":"IF($C99=\"\",\"\",IF(OR($D99=\"Compliant Material 63.4291(a)(1)\",$D99=\"Compliant Material 63.4291(b)\",$D99=\"Compliant Material 63.4291(c)(1)\"),COUNTIFS(Deviation_Compliant_Coating!$B$24:$B$500,$B99,Deviation_Compliant_Coating!$C$24:$C$500,$C99),\"N/A\"))","v":""},{"$f":"IF($C99=\"\",\"\",IF(OR($D99=\"Emission Rate Without Add-On Controls 63.4291(a)(2)\",$D99=\"Emission Rate Without Add-On Controls 63.4291(c)(2)\"),COUNTIFS(Deviation_Without_Addon!$B$24:$B$500,$B99,Deviation_Without_Addon!$C$24:$C$500,$C99),\"N/A\"))","v":""},{"$f":"IF($C99=\"\",\"\",IF(OR($D99=\"Emission Rate With Add-on Controls 63.4291(a)(3)\",$D99=\"Emission Rate With Add-On Controls 63.4291(c)(3)\",$D99=\"Organic HAP Overall Control Efficiency 63.4291(a)(4)\",$D99=\"Oxidizer Outlet Organic HAP Concentration Limit 63.4291(a)(5)\"),COUNTIFS(Deviation_w_Addon_WorkPrac!$B$24:$B$500,$B99,Deviation_w_Addon_WorkPrac!$J$24:$J$500,$C99),\"N/A\"))","v":""},{"$f":"IF($C99=\"\",\"\",IF($D99=\"Equivalent Emissions Rate 63.4291(c)(4)\",COUNTIFS(Deviation_Equiv_ER!$B$24:$B$500,$B99,Deviation_Equiv_ER!$I$24:$I$500,$C99),\"N/A\"))","v":""}]
[null,{"$f":"IF(Lists!AA78=\"\",\"\",Lists!AA78)","v":""},{"$f":"IF(Lists!AB78=\"\",\"\",Lists!AB78)","v":""},{"$f":"IF(Lists!AC78=\"\",\"\",Lists!AC78)","v":""},{"$f":"IF($C100=\"\",\"\",IF(OR($D100=\"Compliant Material 63.4291(a)(1)\",$D100=\"Compliant Material 63.4291(b)\",$D100=\"Compliant Material 63.4291(c)(1)\"),COUNTIFS(Deviation_Compliant_Coating!$B$24:$B$500,$B100,Deviation_Compliant_Coating!$C$24:$C$500,$C100),\"N/A\"))","v":""},{"$f":"IF($C100=\"\",\"\",IF(OR($D100=\"Emission Rate Without Add-On Controls 63.4291(a)(2)\",$D100=\"Emission Rate Without Add-On Controls 63.4291(c)(2)\"),COUNTIFS(Deviation_Without_Addon!$B$24:$B$500,$B100,Deviation_Without_Addon!$C$24:$C$500,$C100),\"N/A\"))","v":""},{"$f":"IF($C100=\"\",\"\",IF(OR($D100=\"Emission Rate With Add-on Controls 63.4291(a)(3)\",$D100=\"Emission Rate With Add-On Controls 63.4291(c)(3)\",$D100=\"Organic HAP Overall Control Efficiency 63.4291(a)(4)\",$D100=\"Oxidizer Outlet Organic HAP Concentration Limit 63.4291(a)(5)\"),COUNTIFS(Deviation_w_Addon_WorkPrac!$B$24:$B$500,$B100,Deviation_w_Addon_WorkPrac!$J$24:$J$500,$C100),\"N/A\"))","v":""},{"$f":"IF($C100=\"\",\"\",IF($D100=\"Equivalent Emissions Rate 63.4291(c)(4)\",COUNTIFS(Deviation_Equiv_ER!$B$24:$B$500,$B100,Deviation_Equiv_ER!$I$24:$I$500,$C100),\"N/A\"))","v":""}]

{"sheet":"Semiannual_Certification","index":18,"n_rows":14,"n_cols":4,"rows_kept":14,"cut":false,"hidden":false,"merged":[]}
[null,"DO NOT REMOVE OR EDIT INFORMATION IN THIS SECTION\nFOR INTERNAL USE ONLY"]
[null,"Template Name",{"$f":"+Welcome!B2","v":"63.4311(a) Semiannual Compliance Report (Spreadsheet Template)"}]
[null,"CitationID",{"$f":"+Welcome!B3","v":"63.4311(a)"}]
[null,"Template Version",{"$f":"+Welcome!B4","v":"v2.01"}]
[null,"Last Updated Date",{"$f":"+Welcome!B5","v":43963}]
[null,{"$f":"+Welcome!B6","v":"OMB Control Number: 2060-0522, Expiration: March 31, 2019"}]
[null,"40 CFR Part 63, Subpart OOOO National Emission Standards for Hazardous Air Pollutants: "]
[null,"Printing, Coating, and Dyeing of Fabrics and Other Textiles "]
[null,"§63.4311(a) Semiannual Compliance Report Spreadsheet Template"]
[null,"Complete this form when you have completed the semiannual compliance report."]
[]
[null,"Company Record No. *\n(Select from dropdown)","No deviations occurred during this reporting period. *  \n§63.4311(a)(4)","No CPMS out-of-control periods [per §63.8(c)(7)] and emissions rate with add-on controls option was used. * \n§63.4311(a)(4)"]
[null,"RecordId","PeriodDeviationFlag","CpmsControlFlag"]
[null,"e.g.: 1"]

{"sheet":"Revisions","index":19,"n_rows":6,"n_cols":3,"rows_kept":6,"cut":false,"hidden":false,"merged":[]}
["Revision Number","Date","Revisions"]
[1,43518,"Initial Release Version"]
[1.01,43537,"Updated the State dropdown to include VI, PR, AS, MP, and GU."]
[1.02,43914,"Removed all NOCS records from template; added filtering to tables"]
[2,43917,"Added hidden mapping sheet and hidden column A to allow for parsing by CEDRI EXCEL JSON Parser"]
[2.0099999999999998,43963,"Updated CBI Disclaimer."]

{"sheet":"Worksheet Map","index":20,"n_rows":18,"n_cols":5,"rows_kept":18,"cut":false,"hidden":true,"merged":[]}
["Worksheet Name","Parent","JSON Key","Parent Primary Key","Child Foreign Key"]
["Company_Information",null,"records"]
["Compliance_Options","records","ComplianceOptions","RecordId","RecordId"]
["Semiannual_Report","records","SemiannualReport","RecordId","RecordId"]
["Deviation_Compliant_Coating","records","DeviationCompliantCoating","RecordId","RecordId"]
["Deviation_Without_Addon","records","DeviationWithoutAddon","RecordId","RecordId"]
["Deviation_w_Addon_Malfunction","records","DeviationWAddonMalfunction","RecordId","RecordId"]
["Deviation_w_Addon_EmLimits","records","DeviationWAddonEmLimits","RecordId","RecordId"]
["Deviation_w_Addon_CPMS1","records","DeviationWAddonCPMS1","RecordId","RecordId"]
["Deviation_w_Addon_CPMS2","records","DeviationWAddonCPMS2","RecordId","RecordId"]
["Deviation_w_Addon_CPMSSummary","records","DeviationWAddonCPMSSummary","RecordId","RecordId"]
["Deviation_w_Addon_OpLimit","records","DeviationWAddonOpLimit","RecordId","RecordId"]
["Deviation_w_Addon_OpLimSummary","records","DeviationWAddonOpLimSummary","RecordId","RecordId"]
["Deviation_w_Addon_WorkPrac","records","DeviationWAddonWorkPrac","RecordId","RecordId"]
["Deviation_Equiv_ER","records","DeviationEquivER","RecordId","RecordId"]
["Description_of_Changes","records","DescriptionOfChanges","RecordId","RecordId"]
["Number_of_Deviations","records","NumberOfDeviations","RecordId","RecordId"]
["Semiannual_Certification","records","SemiannualCertification","RecordId","RecordId"]