{"text_format":"1","workbook":"xlsx","n_sheets":17,"sheets":["Sheet1","Lists","Welcome","Company_Information","Compliance_Options","NoticeOfComplianceStatus","NOCS_TireProduction","NOCS_TireCordProd","NOCS_PunctureSealantApp","NOCS_Certification","Compliance Rpt - Tire Prod","Compliance Rpt - Tire Cord","Compliance Rpt - Puncture Seal","Compliance Rpt - Deviations","Compliance Rpt - Certification","Revisions","Worksheet Map"],"not_rendered":{"charts":0,"images":1,"macros":1,"external_links":0,"defined_names":39,"comments":0,"pivot_tables":0},"unopened":[],"bounds":{"document_bytes":16777216,"sheet_cells":100000,"rows_first":2000,"rows_last":500,"rows_between":2000,"halvings":0,"cell_chars":16384,"cell_head_chars":4096},"cells_cut":0,"cells_raw":0,"read":"whole","date_system":"1900"}

{"sheet":"Sheet1","index":0,"n_rows":18,"n_cols":3,"rows_kept":18,"cut":false,"hidden":true,"merged":[]}
["Subcategory","Notice of Compliance Status","Semiannual Compliance Report"]
["Tire Production","For each tire production affected source, provide the emission limit option in §63.5984 that you have chosen to meet * (§63.6009(f))","For each tire production affected source, provide the emission limit option in §63.5984 that you have chosen to meet * (§63.6010(c)(7))"]
["Tire Production","For each tire production affected source, provide the compliance alternative in §63.5985 that you have chosen to meet * (§63.6009(f))","For each tire production affected source, provide the compliance alternative in §63.5985 that you have chosen to meet * (§63.6010(c)(7))"]
["Tire Production","For each tire production affected source complying with the purchase compliance alternative in §63.5985(a),  provide list of each cement and solvent, as purchased * (§63.6009(g)(1))"]
["Tire Production",null,"For each tire production affected source complying with the purchase compliance alternative in §63.5985(a), not listed in NOCS in 63.6009(g), provide updated list of all cements and solvents used, as purchased at affected source *\n(§63.6010(c)(8))"]
["Tire Production","For each tire production affected source complying with the purchase compliance alternative in §63.5985(a),  provide list manufacturer or supplier for each cement or solvent listed in column F * (§63.6009(g)(1))"]
["Tire Production","For each tire production affected source complying with the purchase compliance alternative in §63.5985(a), provide the individual HAP content (percent by mass) of each cement and solvent that is used * (§63.6009(g)(2))"]
["Tire Production/Tire Cord Production","For each tire prod. or tire cord prod. affected source using control device, provide the operating param. found in §§63.5994(e)(1) and 63.5997(e)(1) that applies to you * (§63.6009(h)(1))"]
["Tire Production/Tire Cord Production","For each tire prod. or tire cord prod. affected source using control device, provide the operating param. found in §§63.5994(e)(1) and 63.5997(e)(1) that applies to you * (§63.6009(h)(1))"]
["Tire Production/Tire Cord Production","For each tire prod. or tire cord prod. affected source using control device, for each operating param. in §§63.5994(e)(1) and 63.5997(e)(1) that applies to you, provide operating parameter value avg over full period of the perform. test * (§63.6009(h)(1))"]
["Tire Production/Tire Cord Production","For each tire prod. or tire cord prod. affected source using control device, for each operating param. in §§63.5994(e)(1) and 63.5997(e)(1) that applies to you, provide operating parameter range w/in which HAP emissions are reduced * (§63.6009(h)(2))"]
["Tire Cord Production",null,"For each tire cord production affected source, provide the emission limit option in §63.5986 that you have chosen to meet * (§63.6010(c)(9))"]
["Tire Cord Production",null,"For each tire cord production affected source, provide the compliance alternative in §63.5987 that you have chosen to meet *\n(§63.6010(c)(9))"]
["Puncture Sealant Application","For each punct. sealant app. affect. source using a control device, for each operating lmt in §63.6000(b)(3) and each operating param. in §63.6000(f), provide operating lmt or oper. param. value avg over full period of the perform. test * (§63.6009(i)(1))"]
["Puncture Sealant Application","For each punct. sealant app. affect. source, the operating lmt or operating param. range w/in which HAP emissions are reduc. to the levels correspond. to meet the appl. emission lmts in table 3 to this subpart * (§63.6009(i)(2))"]
["Puncture Sealant Application",null,"For each puncture sealant application affected source, provide the emission limit option in §63.5988 that you have chosen to meet * (§63.6010(c)(10))"]
["Puncture Sealant Application",null,"For each puncture sealant application affected source, provide the compliance alternative in §63.5989 that you have chosen to meet * (§63.6010(c)(10))"]
["Rubber Processing","There are no emission limitations or other requirements for the rubber processing affected source.","There are no emission limitations or other requirements for the rubber processing affected source."]

{"sheet":"Lists","index":1,"n_rows":956,"n_cols":103,"rows_kept":956,"cut":false,"hidden":true,"merged":[]}
["Rank","Company","CompanyName","Column1",null,"Rank","Operation","OperationName","Column1",null,"Rank","Affected Source","Subcategory","Compliance Reqts","Limits","NOCS",null,null,null,null,null,"State","Subcategory","Tire Production","Tire Cord Production","Puncture Sealant Application","Rubber Processing","TireProductionOption1—H","TireProductionOption2—p","TireProductionPurchasea","TireProductionWithoutus","TireProductionUsingana","TireCordProductionOption1.a","TireCordProductionOption1.b","TireCordProductionOption2","TireCordProductionWithoutus","TireCordProductionUsingana","PunctureSealantApplicationOption1.a","PunctureSealantApplicationOption1.b","PunctureSealantApplicationOption2","PunctureSealantApplicationThermalox","PunctureSealantApplicationCarbonads","PunctureSealantApplicationOthertype","PunctureSealantApplicationPermanent","PunctureSealantApplicationOthercapt","RubberProcessingThereare",null,"Rank","facilityname","OperationName","Subcategory","ComplianceOptions","EmissionLimit","uniquename","RemoveDup","RankedUnique",{"$f":"\"Ranked\"&AW1","v":"Rankedfacilityname"},{"$f":"\"Ranked\"&AX1","v":"RankedOperationName"},{"$f":"\"Ranked\"&AY1","v":"RankedSubcategory"},{"$f":"\"Ranked\"&AZ1","v":"RankedComplianceOptions"},{"$f":"\"Ranked\"&BA1","v":"RankedEmissionLimit"},"Tire Production",null,null,null,null,null,null,null,"Tire Cord Production",null,null,null,null,null,null,null,"Puncture Sealant Application",null,null,null,null,null,null,null,"Rubber Processing",null,null,null,null,null,null,"All","Rank","facilityname","OperationName","Subcategory","uniquename","RemoveDup","RankedUnique","ranked facility","rankedoperation","rankedsub"]
[{"$f":"+IF(B2=\"\",\"\",MAX(A1:A$1)+1)","v":""},{"$f":"IF(Company_Information!B24=\"\",\"\",Company_Information!B24)","v":""},{"$f":"+IFERROR(INDEX($B$2:$B$11,MATCH(ROW()-ROW($C$1),$A$2:$A$11,0)),\"\")","v":""},{"$f":"IF(COUNTIF(B$2:B2,B2)=1,B2,\"\")","v":""},null,{"$f":"+IF(I2=\"\",\"\",MAX(F1:F$1)+1)","v":""},{"$f":"IF(Compliance_Options!C24=\"\",\"\",Compliance_Options!C24)","v":""},{"$f":"+IFERROR(INDEX($G$2:$G$78,MATCH(ROW()-ROW($H$1),$F$2:$F$78,0)),\"\")","v":""},{"$f":"IF(COUNTIF(G$2:G2,G2)=1,G2,\"\")","v":""},null,{"$f":"+IF(I2=\"\",\"\",MAX(F1:F$1)+1)","v":""},null,null,null,null,{"$f":"+IF(COUNTIF(Company_Information!$Q$24:$Q$33,\"yes\")>0,\"Yes\",\"No\")","v":"No"},null,"complianceoptions",null,null,null,"AK","Rubber Processing","Option 1—HAP constituent option","Option 1.a (production-based option)—Existing tire cord production affected source","Option 1.a (percent reduction option)—Existing puncture sealant application spray booth","There are no emission limitations or other requirements for the rubber processing affected source.","a. Emissions of each HAP in Table 16 to this subpart must not exceed 1,000 grams HAP per megagram (2 pounds per ton) of total cements and solvents used at the tire production affected source, and b. Emissions of each HAP not in Table 16 to this subpart must not exceed 10,000 grams HAP per megagram (20 pounds per ton) of total cements and solvents used at the tire production affected source.","Emissions of HAP must not exceed 0.024 grams per megagram (0.00005 pounds per ton) of rubber used at the tire production affected source.","a. Emissions of each HAP in Table 16 to this subpart must not exceed 1,000 grams HAP per megagram (2 pounds per ton) of total cements and solvents used at the tire production affected source, and b. Emissions of each HAP not in Table 16 to this subpart must not exceed 10,000 grams HAP per megagram (20 pounds per ton) of total cements and solvents used at the tire production affected source.","a. Emissions of each HAP in Table 16 to this subpart must not exceed 1,000 grams HAP per megagram (2 pounds per ton) of total cements and solvents used at the tire production affected source, and b. Emissions of each HAP not in Table 16 to this subpart must not exceed 10,000 grams HAP per megagram (20 pounds per ton) of total cements and solvents used at the tire production affected source.\n","a. Emissions of each HAP in Table 16 to this subpart must not exceed 1,000 grams HAP per megagram (2 pounds per ton) of total cements and solvents used at the tire production affected source, and b. Emissions of each HAP not in Table 16 to this subpart must not exceed 10,000 grams HAP per megagram (20 pounds per ton) of total cements and solvents used at the tire production affected source.\n","Emissions must not exceed 280 grams HAP per megagram (0.56 pounds per ton) of fabric processed at the tire cord production affected source.","Emissions must not exceed 220 grams HAP per megagram (0.43 pounds per ton) of fabric processed at the tire cord production affected source.","a. Emissions of each HAP in Table 16 to this subpart must not exceed 1,000 grams HAP per megagram (2 pounds per ton) of total coatings used at the tire cord production affected source, and\nb. Emissions of each HAP not in Table 16 to this subpart must not exceed 10,000 grams HAP per megagram (20 pounds per ton) of total coatings used at the tire cord production affected source.","Emissions must not exceed 280 grams HAP per megagram (0.56 pounds per ton) of fabric processed at the tire cord production affected source.\n","Emissions must not exceed 280 grams HAP per megagram (0.56 pounds per ton) of fabric processed at the tire cord production affected source.\n","Reduce spray booth HAP (measured as volatile organic compounds (VOC)) emissions by at least 86 percent by weight.","Reduce spray booth HAP (measured as VOC) emissions by at least 95 percent by weight.","a. Emissions of each HAP in Table 16 to this subpart must not exceed 1,000 grams HAP per megagram (2 pounds per ton) of total puncture sealants used at the puncture sealant affected source, and\nb. Emissions of each HAP not in Table 16 to this subpart must not exceed 10,000 grams HAP per megagram (20 pounds per ton) of total puncture sealants used at the puncture sealant affected source.","Maintain the daily average firebox secondary chamber temperature within the operating range established during the performance test.","a. Maintain the total regeneration mass, volumetric flow, and carbon bed temperature at the operating range established during the performance test.","Maintain your operating parameter(s) within the range(s) established during the performance test and according to your monitoring plan.","a. Maintain the face velocity across any NDO at least at the levels established during the performance test.","Maintain the operating parameters within the range(s) established during the performance test and according to your monitoring plan.","There are no emission limitations or other requirements for the rubber processing affected source.",null,{"$f":"+IF(AW2=\"\",\"\",MAX(AV$1:AV1)+1)","v":""},{"$f":"IF(Compliance_Options!B24=\"\",\"\",Compliance_Options!B24)","v":""},{"$f":"IF(Compliance_Options!C24=\"\",\"\",Compliance_Options!C24)","v":""},{"$f":"IF(Compliance_Options!D24=\"\",\"\",Compliance_Options!D24)","v":""},{"$f":"IF(Compliance_Options!E24=\"\",\"\",Compliance_Options!E24)","v":""},{"$f":"IF(Compliance_Options!F24=\"\",\"\",Compliance_Options!F24)","v":""},{"$f":"AW2&\" \"&AX2&\" \"&AY2&\" \"&AZ2&\" \"&BA2","v":"    "},{"$f":"IF(COUNTIF(BB$2:BB2,BB2)=1,BB2,\"\")","v":"    "},{"$f":"IF(BE2=\"\",\"\",BE2&\" \"&BF2&\" \"&BG2)","v":""},{"$f":"IFERROR(INDEX(AW$2:AW$78,MATCH(ROW()-ROW($BC$1),$AV$2:$AV$78,0)),\"\")","v":""},{"$f":"IFERROR(INDEX(AX$2:AX$78,MATCH(ROW()-ROW($BC$1),$AV$2:$AV$78,0)),\"\")","v":""},{"$f":"IFERROR(INDEX(AY$2:AY$78,MATCH(ROW()-ROW($BC$1),$AV$2:$AV$78,0)),\"\")","v":""},{"$f":"IFERROR(INDEX(AZ$2:AZ$78,MATCH(ROW()-ROW($BC$1),$AV$2:$AV$78,0)),\"\")","v":""},{"$f":"IFERROR(INDEX(BA$2:BA$78,MATCH(ROW()-ROW($BC$1),$AV$2:$AV$78,0)),\"\")","v":""},{"$f":"IF($AY2=\"Tire Production\",$BB2,\"\")","v":""},{"$f":"+IF(BJ2=\"\",\"\",MAX(BK1:BK$1)+1)","v":""},{"$f":"IF(BM2=\"\",\"\",BM2&\" \"&BN2&\" \"&BO2&\" \"&BP2&\" \"&BQ2)","v":""},{"$f":"IFERROR(INDEX(AW$2:AW$78,MATCH(ROW()-ROW($BC$1),$BK$2:$BK$78,0)),\"\")","v":""},{"$f":"IFERROR(INDEX(AX$2:AX$78,MATCH(ROW()-ROW($BC$1),$BK$2:$BK$78,0)),\"\")","v":""},{"$f":"IFERROR(INDEX(AY$2:AY$78,MATCH(ROW()-ROW($BC$1),$BK$2:$BK$78,0)),\"\")","v":""},{"$f":"IFERROR(INDEX(AZ$2:AZ$78,MATCH(ROW()-ROW($BC$1),$BK$2:$BK$78,0)),\"\")","v":""},{"$f":"IFERROR(INDEX(BA$2:BA$78,MATCH(ROW()-ROW($BC$1),$BK$2:$BK$78,0)),\"\")","v":""},{"$f":"IF($AY2=\"Tire Cord Production\",$BB2,\"\")","v":""},{"$f":"+IF(BR2=\"\",\"\",MAX(BS1:BS$1)+1)","v":""},{"$f":"IF(BU2=\"\",\"\",BU2&\" \"&BV2&\" \"&BW2)","v":""},{"$f":"IFERROR(INDEX(AW$2:AW$78,MATCH(ROW()-ROW($BS$1),$BS$2:$BS$78,0)),\"\")","v":""},{"$f":"IFERROR(INDEX(AX$2:AX$78,MATCH(ROW()-ROW($BS$1),$BS$2:$BS$78,0)),\"\")","v":""},{"$f":"IFERROR(INDEX(AY$2:AY$78,MATCH(ROW()-ROW($BS$1),$BS$2:$BS$78,0)),\"\")","v":""},{"$f":"IFERROR(INDEX(AZ$2:AZ$78,MATCH(ROW()-ROW($BS$1),$BS$2:$BS$78,0)),\"\")","v":""},{"$f":"IFERROR(INDEX(BA$2:BA$78,MATCH(ROW()-ROW($BS$1),$BS$2:$BS$78,0)),\"\")","v":""},{"$f":"IF($AY2=\"Puncture Sealant Application\",$BB2,\"\")","v":""},{"$f":"+IF(BZ2=\"\",\"\",MAX(CA1:CA$1)+1)","v":""},{"$f":"IF(CC2=\"\",\"\",CC2&\" \"&CD2&\" \"&CE2)","v":""},{"$f":"IFERROR(INDEX(AW$2:AW$78,MATCH(ROW()-ROW($CA$1),$CA$2:$CA$78,0)),\"\")","v":""},{"$f":"IFERROR(INDEX(AX$2:AX$78,MATCH(ROW()-ROW($CA$1),$CA$2:$CA$78,0)),\"\")","v":""},{"$f":"IFERROR(INDEX(AY$2:AY$78,MATCH(ROW()-ROW($CA$1),$CA$2:$CA$78,0)),\"\")","v":""},{"$f":"IFERROR(INDEX(AZ$2:AZ$78,MATCH(ROW()-ROW($CA$1),$CA$2:$CA$78,0)),\"\")","v":""},{"$f":"IFERROR(INDEX(BA$2:BA$78,MATCH(ROW()-ROW($CA$1),$CA$2:$CA$78,0)),\"\")","v":""},{"$f":"IF($AY2=\"Rubber Processing\",$BB2,\"\")","v":""},{"$f":"+IF(CH2=\"\",\"\",MAX(CI1:CI$1)+1)","v":""},{"$f":"IFERROR(INDEX(AW$2:AW$78,MATCH(ROW()-ROW($CI$1),$CI$2:$CI$78,0)),\"\")","v":""},{"$f":"IFERROR(INDEX(AX$2:AX$78,MATCH(ROW()-ROW($CI$1),$CI$2:$CI$78,0)),\"\")","v":""},{"$f":"IFERROR(INDEX(AY$2:AY$78,MATCH(ROW()-ROW($CI$1),$CI$2:$CI$78,0)),\"\")","v":""},{"$f":"IFERROR(INDEX(AZ$2:AZ$78,MATCH(ROW()-ROW($CI$1),$CI$2:$CI$78,0)),\"\")","v":""},{"$f":"IFERROR(INDEX(BA$2:BA$78,MATCH(ROW()-ROW($CI$1),$CI$2:$CI$78,0)),\"\")","v":""},null,{"$f":"+IF(CQ2=\"\",\"\",MAX(CP$1:CP1)+1)","v":""},{"$f":"IF(Compliance_Options!B24=\"\",\"\",Compliance_Options!B24)","v":""},{"$f":"IF(Compliance_Options!C24=\"\",\"\",Compliance_Options!C24)","v":""},{"$f":"IF(Compliance_Options!D24=\"\",\"\",Compliance_Options!D24)","v":""},{"$f":"CQ2&\" \"&CR2&\" \"&CS2","v":"  "},{"$f":"IF(COUNTIF(CT$2:CT2,CT2)=1,CT2,\"\")","v":"  "},{"$f":"IFERROR(INDEX(CU$2:CU$78,MATCH(ROW()-ROW($CU$1),$CP$2:$CP$78,0)),\"\")","v":""},{"$f":"IFERROR(INDEX(CQ$2:CQ$78,MATCH(ROW()-ROW($CU$1),$CP$2:$CP$78,0)),\"\")","v":""},{"$f":"IFERROR(INDEX(CR$2:CR$78,MATCH(ROW()-ROW($CU$1),$CP$2:$CP$78,0)),\"\")","v":""},""]
[{"$f":"+IF(B3=\"\",\"\",MAX(A$1:A2)+1)","v":""},{"$f":"IF(Company_Information!B25=\"\",\"\",Company_Information!B25)","v":""},{"$f":"+IFERROR(INDEX($B$2:$B$11,MATCH(ROW()-ROW($C$1),$A$2:$A$11,0)),\"\")","v":""},{"$f":"IF(COUNTIF(B$2:B3,B3)=1,B3,\"\")","v":""},null,{"$f":"+IF(I3=\"\",\"\",MAX(F$1:F2)+1)","v":""},{"$f":"IF(Compliance_Options!C25=\"\",\"\",Compliance_Options!C25)","v":""},"",{"$f":"IF(COUNTIF(G$2:G3,G3)=1,G3,\"\")","v":""},null,null,null,null,null,null,null,null,"Compliant Material 63.3491(a)",null,null,null,"AL","Tire Production","Option 2—production-based option","Option 1.b (production-based option)—New or reconstructed tire cord production affected source","Option 1.b (percent reduction option)—New or reconstructed puncture sealant application spray booth",null,null,null,null,"Emissions of HAP must not exceed 0.024 grams per megagram (0.00005 pounds per ton) of rubber used at the tire production affected source.","Emissions of HAP must not exceed 0.024 grams per megagram (0.00005 pounds per ton) of rubber used at the tire production affected source.",null,null,null,"Emissions must not exceed 220 grams HAP per megagram (0.43 pounds per ton) of fabric processed at the tire cord production affected source.","Emissions must not exceed 220 grams HAP per megagram (0.43 pounds per ton) of fabric processed at the tire cord production affected source.",null,null,null,null,"b. Reestablish the carbon bed temperature to the levels established during the performance test within 15 minutes of each cooling cycle.",null,"b. Maintain the size of NDO, the number of NDO, and their proximity to HAP emission sources consistent with the parameters established during the performance test.",null,null,null,{"$f":"+IF(AW3=\"\",\"\",MAX(AV$1:AV2)+1)","v":""},{"$f":"IF(Compliance_Options!B25=\"\",\"\",Compliance_Options!B25)","v":""},{"$f":"IF(Compliance_Options!C25=\"\",\"\",Compliance_Options!C25)","v":""},{"$f":"IF(Compliance_Options!D25=\"\",\"\",Compliance_Options!D25)","v":""},{"$f":"IF(Compliance_Options!E25=\"\",\"\",Compliance_Options!E25)","v":""},{"$f":"IF(Compliance_Options!F25=\"\",\"\",Compliance_Options!F25)","v":""},{"$f":"AW3&\" \"&AX3&\" \"&AY3&\" \"&AZ3&\" \"&BA3","v":"    "},{"$f":"IF(COUNTIF(BB$2:BB3,BB3)=1,BB3,\"\")","v":""},{"$f":"IF(BE3=\"\",\"\",BE3&\" \"&BF3&\" \"&BG3)","v":""},{"$f":"IFERROR(INDEX(AW$2:AW$78,MATCH(ROW()-ROW($BC$1),$AV$2:$AV$78,0)),\"\")","v":""},{"$f":"IFERROR(INDEX(AX$2:AX$78,MATCH(ROW()-ROW($BC$1),$AV$2:$AV$78,0)),\"\")","v":""},{"$f":"IFERROR(INDEX(AY$2:AY$78,MATCH(ROW()-ROW($BC$1),$AV$2:$AV$78,0)),\"\")","v":""},{"$f":"IFERROR(INDEX(AZ$2:AZ$78,MATCH(ROW()-ROW($BC$1),$AV$2:$AV$78,0)),\"\")","v":""},{"$f":"IFERROR(INDEX(BA$2:BA$78,MATCH(ROW()-ROW($BC$1),$AV$2:$AV$78,0)),\"\")","v":""},{"$f":"IF($AY3=\"Tire Production\",$BB3,\"\")","v":""},{"$f":"+IF(BJ3=\"\",\"\",MAX(BK$1:BK2)+1)","v":""},{"$f":"IF(BM3=\"\",\"\",BM3&\" \"&BN3&\" \"&BO3&\" \"&BP3&\" \"&BQ3)","v":""},{"$f":"IFERROR(INDEX(AW$2:AW$78,MATCH(ROW()-ROW($BC$1),$BK$2:$BK$78,0)),\"\")","v":""},{"$f":"IFERROR(INDEX(AX$2:AX$78,MATCH(ROW()-ROW($BC$1),$BK$2:$BK$78,0)),\"\")","v":""},{"$f":"IFERROR(INDEX(AY$2:AY$78,MATCH(ROW()-ROW($BC$1),$BK$2:$BK$78,0)),\"\")","v":""},{"$f":"IFERROR(INDEX(AZ$2:AZ$78,MATCH(ROW()-ROW($BC$1),$BK$2:$BK$78,0)),\"\")","v":""},{"$f":"IFERROR(INDEX(BA$2:BA$78,MATCH(ROW()-ROW($BC$1),$BK$2:$BK$78,0)),\"\")","v":""},{"$f":"IF($AY3=\"Tire Cord Production\",$BB3,\"\")","v":""},{"$f":"+IF(BR3=\"\",\"\",MAX(BS$1:BS2)+1)","v":""},{"$f":"IF(BU3=\"\",\"\",BU3&\" \"&BV3&\" \"&BW3)","v":""},{"$f":"IFERROR(INDEX(AW$2:AW$78,MATCH(ROW()-ROW($BS$1),$BS$2:$BS$78,0)),\"\")","v":""},{"$f":"IFERROR(INDEX(AX$2:AX$78,MATCH(ROW()-ROW($BS$1),$BS$2:$BS$78,0)),\"\")","v":""},{"$f":"IFERROR(INDEX(AY$2:AY$78,MATCH(ROW()-ROW($BS$1),$BS$2:$BS$78,0)),\"\")","v":""},{"$f":"IFERROR(INDEX(AZ$2:AZ$78,MATCH(ROW()-ROW($BS$1),$BS$2:$BS$78,0)),\"\")","v":""},{"$f":"IFERROR(INDEX(BA$2:BA$78,MATCH(ROW()-ROW($BS$1),$BS$2:$BS$78,0)),\"\")","v":""},{"$f":"IF($AY3=\"Puncture Sealant Application\",$BB3,\"\")","v":""},{"$f":"+IF(BZ3=\"\",\"\",MAX(CA$1:CA2)+1)","v":""},{"$f":"IF(CC3=\"\",\"\",CC3&\" \"&CD3&\" \"&CE3)","v":""},{"$f":"IFERROR(INDEX(AW$2:AW$78,MATCH(ROW()-ROW($CA$1),$CA$2:$CA$78,0)),\"\")","v":""},{"$f":"IFERROR(INDEX(AX$2:AX$78,MATCH(ROW()-ROW($CA$1),$CA$2:$CA$78,0)),\"\")","v":""},{"$f":"IFERROR(INDEX(AY$2:AY$78,MATCH(ROW()-ROW($CA$1),$CA$2:$CA$78,0)),\"\")","v":""},{"$f":"IFERROR(INDEX(AZ$2:AZ$78,MATCH(ROW()-ROW($CA$1),$CA$2:$CA$78,0)),\"\")","v":""},{"$f":"IFERROR(INDEX(BA$2:BA$78,MATCH(ROW()-ROW($CA$1),$CA$2:$CA$78,0)),\"\")","v":""},{"$f":"IF($AY3=\"Rubber Processing\",$BB3,\"\")","v":""},{"$f":"+IF(CH3=\"\",\"\",MAX(CI$1:CI2)+1)","v":""},{"$f":"IFERROR(INDEX(AW$2:AW$78,MATCH(ROW()-ROW($CI$1),$CI$2:$CI$78,0)),\"\")","v":""},{"$f":"IFERROR(INDEX(AX$2:AX$78,MATCH(ROW()-ROW($CI$1),$CI$2:$CI$78,0)),\"\")","v":""},{"$f":"IFERROR(INDEX(AY$2:AY$78,MATCH(ROW()-ROW($CI$1),$CI$2:$CI$78,0)),\"\")","v":""},{"$f":"IFERROR(INDEX(AZ$2:AZ$78,MATCH(ROW()-ROW($CI$1),$CI$2:$CI$78,0)),\"\")","v":""},{"$f":"IFERROR(INDEX(BA$2:BA$78,MATCH(ROW()-ROW($CI$1),$CI$2:$CI$78,0)),\"\")","v":""},null,{"$f":"+IF(CQ3=\"\",\"\",MAX(CP$1:CP2)+1)","v":""},{"$f":"IF(Compliance_Options!B25=\"\",\"\",Compliance_Options!B25)","v":""},{"$f":"IF(Compliance_Options!C25=\"\",\"\",Compliance_Options!C25)","v":""},{"$f":"IF(Compliance_Options!D25=\"\",\"\",Compliance_Options!D25)","v":""},{"$f":"CQ3&\" \"&CR3&\" \"&CS3","v":"  "},{"$f":"IF(COUNTIF(CT$2:CT3,CT3)=1,CT3,\"\")","v":""},{"$f":"IFERROR(INDEX(CU$2:CU$78,MATCH(ROW()-ROW($CU$1),$CP$2:$CP$78,0)),\"\")","v":""},{"$f":"IFERROR(INDEX(CQ$2:CQ$78,MATCH(ROW()-ROW($CU$1),$CP$2:$CP$78,0)),\"\")","v":""},{"$f":"IFERROR(INDEX(CR$2:CR$78,MATCH(ROW()-ROW($CU$1),$CP$2:$CP$78,0)),\"\")","v":""},{"$f":"IFERROR(INDEX(CS$2:CS$78,MATCH(ROW()-ROW($CU$1),$CP$2:$CP$78,0)),\"\")","v":""}]
[{"$f":"+IF(B4=\"\",\"\",MAX(A$1:A3)+1)","v":""},{"$f":"IF(Company_Information!B26=\"\",\"\",Company_Information!B26)","v":""},"",{"$f":"IF(COUNTIF(B$2:B4,B4)=1,B4,\"\")","v":""},null,{"$f":"+IF(I4=\"\",\"\",MAX(F$1:F3)+1)","v":""},{"$f":"IF(Compliance_Options!C26=\"\",\"\",Compliance_Options!C26)","v":""},"",{"$f":"IF(COUNTIF(G$2:G4,G4)=1,G4,\"\")","v":""},null,null,null,null,null,null,null,null,"Emission Rate Without Add-on Controls 63.3491(b)",null,null,null,"AR","Tire Cord Production",null,"Option 2 (HAP constituent option)—Existing, new or reconstructed tire cord production affected source","Option 2 (HAP constituent option) Existing, new or reconstructed puncture sealant application spray booth\t",null,null,null,null,null,null,null,null,null,"a. Emissions of each HAP in Table 16 to this subpart must not exceed 1,000 grams HAP per megagram (2 pounds per ton) of total coatings used at the tire cord production affected source, and\nb. Emissions of each HAP not in Table 16 to this subpart must not exceed 10,000 grams HAP per megagram (20 pounds per ton) of total coatings used at the tire cord production affected source.","a. Emissions of each HAP in Table 16 to this subpart must not exceed 1,000 grams HAP per megagram (2 pounds per ton) of total coatings used at the tire cord production affected source, and\nb. Emissions of each HAP not in Table 16 to this subpart must not exceed 10,000 grams HAP per megagram (20 pounds per ton) of total coatings used at the tire cord production affected source.",null,null,null,null,null,null,null,null,null,null,{"$f":"+IF(AW4=\"\",\"\",MAX(AV$1:AV3)+1)","v":""},{"$f":"IF(Compliance_Options!B26=\"\",\"\",Compliance_Options!B26)","v":""},{"$f":"IF(Compliance_Options!C26=\"\",\"\",Compliance_Options!C26)","v":""},{"$f":"IF(Compliance_Options!D26=\"\",\"\",Compliance_Options!D26)","v":""},{"$f":"IF(Compliance_Options!E26=\"\",\"\",Compliance_Options!E26)","v":""},{"$f":"IF(Compliance_Options!F26=\"\",\"\",Compliance_Options!F26)","v":""},"    ",{"$f":"IF(COUNTIF(BB$2:BB4,BB4)=1,BB4,\"\")","v":""},"","","","","","","",{"$f":"+IF(BJ4=\"\",\"\",MAX(BK$1:BK3)+1)","v":""},"","","","","","","",{"$f":"+IF(BR4=\"\",\"\",MAX(BS$1:BS3)+1)","v":""},"","","","","","","",{"$f":"+IF(BZ4=\"\",\"\",MAX(CA$1:CA3)+1)","v":""},"","","","","","","",{"$f":"+IF(CH4=\"\",\"\",MAX(CI$1:CI3)+1)","v":""},"","","","","",null,{"$f":"+IF(CQ4=\"\",\"\",MAX(CP$1:CP3)+1)","v":""},{"$f":"IF(Compliance_Options!B26=\"\",\"\",Compliance_Options!B26)","v":""},{"$f":"IF(Compliance_Options!C26=\"\",\"\",Compliance_Options!C26)","v":""},{"$f":"IF(Compliance_Options!D26=\"\",\"\",Compliance_Options!D26)","v":""},"  ",{"$f":"IF(COUNTIF(CT$2:CT4,CT4)=1,CT4,\"\")","v":""},"","","",""]
[{"$f":"+IF(B5=\"\",\"\",MAX(A$1:A4)+1)","v":""},{"$f":"IF(Company_Information!B27=\"\",\"\",Company_Information!B27)","v":""},"",{"$f":"IF(COUNTIF(B$2:B5,B5)=1,B5,\"\")","v":""},null,{"$f":"+IF(I5=\"\",\"\",MAX(F$1:F4)+1)","v":""},{"$f":"IF(Compliance_Options!C27=\"\",\"\",Compliance_Options!C27)","v":""},"",{"$f":"IF(COUNTIF(G$2:G5,G5)=1,G5,\"\")","v":""},null,null,null,null,null,null,null,null,"Emission Rate With Add-on Controls 63.3491(c)",null,null,null,"AS","Puncture Sealant Application",null,null,null,null,null,null,null,null,null,null,null,null,null,null,null,null,null,null,null,null,null,null,null,null,{"$f":"+IF(AW5=\"\",\"\",MAX(AV$1:AV4)+1)","v":""},{"$f":"IF(Compliance_Options!B27=\"\",\"\",Compliance_Options!B27)","v":""},{"$f":"IF(Compliance_Options!C27=\"\",\"\",Compliance_Options!C27)","v":""},{"$f":"IF(Compliance_Options!D27=\"\",\"\",Compliance_Options!D27)","v":""},{"$f":"IF(Compliance_Options!E27=\"\",\"\",Compliance_Options!E27)","v":""},{"$f":"IF(Compliance_Options!F27=\"\",\"\",Compliance_Options!F27)","v":""},"    ",{"$f":"IF(COUNTIF(BB$2:BB5,BB5)=1,BB5,\"\")","v":""},"","","","","","","",{"$f":"+IF(BJ5=\"\",\"\",MAX(BK$1:BK4)+1)","v":""},"","","","","","","",{"$f":"+IF(BR5=\"\",\"\",MAX(BS$1:BS4)+1)","v":""},"","","","","","","",{"$f":"+IF(BZ5=\"\",\"\",MAX(CA$1:CA4)+1)","v":""},"","","","","","","",{"$f":"+IF(CH5=\"\",\"\",MAX(CI$1:CI4)+1)","v":""},"","","","","",null,{"$f":"+IF(CQ5=\"\",\"\",MAX(CP$1:CP4)+1)","v":""},{"$f":"IF(Compliance_Options!B27=\"\",\"\",Compliance_Options!B27)","v":""},{"$f":"IF(Compliance_Options!C27=\"\",\"\",Compliance_Options!C27)","v":""},{"$f":"IF(Compliance_Options!D27=\"\",\"\",Compliance_Options!D27)","v":""},"  ",{"$f":"IF(COUNTIF(CT$2:CT5,CT5)=1,CT5,\"\")","v":""},"","","",""]
[{"$f":"+IF(B6=\"\",\"\",MAX(A$1:A5)+1)","v":""},{"$f":"IF(Company_Information!B28=\"\",\"\",Company_Information!B28)","v":""},"",{"$f":"IF(COUNTIF(B$2:B6,B6)=1,B6,\"\")","v":""},null,{"$f":"+IF(I6=\"\",\"\",MAX(F$1:F5)+1)","v":""},{"$f":"IF(Compliance_Options!C28=\"\",\"\",Compliance_Options!C28)","v":""},"",{"$f":"IF(COUNTIF(G$2:G6,G6)=1,G6,\"\")","v":""},null,null,null,null,null,null,null,null,"Control Efficiency/Outlet Concentration 63.3491(d)",null,null,null,"AZ",null,null,null,null,null,null,null,null,null,null,null,null,null,null,null,null,null,null,null,null,null,null,null,null,null,{"$f":"+IF(AW6=\"\",\"\",MAX(AV$1:AV5)+1)","v":""},{"$f":"IF(Compliance_Options!B28=\"\",\"\",Compliance_Options!B28)","v":""},{"$f":"IF(Compliance_Options!C28=\"\",\"\",Compliance_Options!C28)","v":""},{"$f":"IF(Compliance_Options!D28=\"\",\"\",Compliance_Options!D28)","v":""},{"$f":"IF(Compliance_Options!E28=\"\",\"\",Compliance_Options!E28)","v":""},{"$f":"IF(Compliance_Options!F28=\"\",\"\",Compliance_Options!F28)","v":""},"    ",{"$f":"IF(COUNTIF(BB$2:BB6,BB6)=1,BB6,\"\")","v":""},"","","","","","","",{"$f":"+IF(BJ6=\"\",\"\",MAX(BK$1:BK5)+1)","v":""},"","","","","","","",{"$f":"+IF(BR6=\"\",\"\",MAX(BS$1:BS5)+1)","v":""},"","","","","","","",{"$f":"+IF(BZ6=\"\",\"\",MAX(CA$1:CA5)+1)","v":""},"","","","","","","",{"$f":"+IF(CH6=\"\",\"\",MAX(CI$1:CI5)+1)","v":""},"","","","","",null,{"$f":"+IF(CQ6=\"\",\"\",MAX(CP$1:CP5)+1)","v":""},{"$f":"IF(Compliance_Options!B28=\"\",\"\",Compliance_Options!B28)","v":""},{"$f":"IF(Compliance_Options!C28=\"\",\"\",Compliance_Options!C28)","v":""},{"$f":"IF(Compliance_Options!D28=\"\",\"\",Compliance_Options!D28)","v":""},"  ",{"$f":"IF(COUNTIF(CT$2:CT6,CT6)=1,CT6,\"\")","v":""},"","","",""]
[{"$f":"+IF(B7=\"\",\"\",MAX(A$1:A6)+1)","v":""},{"$f":"IF(Company_Information!B29=\"\",\"\",Company_Information!B29)","v":""},"",{"$f":"IF(COUNTIF(B$2:B7,B7)=1,B7,\"\")","v":""},null,{"$f":"+IF(I7=\"\",\"\",MAX(F$1:F6)+1)","v":""},{"$f":"IF(Compliance_Options!C29=\"\",\"\",Compliance_Options!C29)","v":""},"",{"$f":"IF(COUNTIF(G$2:G7,G7)=1,G7,\"\")","v":""},null,null,null,null,null,null,null,null,null,null,null,null,"CA",null,null,null,null,null,null,null,null,null,null,null,null,null,null,null,null,null,null,null,null,null,null,null,null,null,{"$f":"+IF(AW7=\"\",\"\",MAX(AV$1:AV6)+1)","v":""},{"$f":"IF(Compliance_Options!B29=\"\",\"\",Compliance_Options!B29)","v":""},{"$f":"IF(Compliance_Options!C29=\"\",\"\",Compliance_Options!C29)","v":""},{"$f":"IF(Compliance_Options!D29=\"\",\"\",Compliance_Options!D29)","v":""},{"$f":"IF(Compliance_Options!E29=\"\",\"\",Compliance_Options!E29)","v":""},{"$f":"IF(Compliance_Options!F29=\"\",\"\",Compliance_Options!F29)","v":""},"    ",{"$f":"IF(COUNTIF(BB$2:BB7,BB7)=1,BB7,\"\")","v":""},"","","","","","","",{"$f":"+IF(BJ7=\"\",\"\",MAX(BK$1:BK6)+1)","v":""},"","","","","","","",{"$f":"+IF(BR7=\"\",\"\",MAX(BS$1:BS6)+1)","v":""},"","","","","","","",{"$f":"+IF(BZ7=\"\",\"\",MAX(CA$1:CA6)+1)","v":""},"","","","","","","",{"$f":"+IF(CH7=\"\",\"\",MAX(CI$1:CI6)+1)","v":""},"","","","","",null,{"$f":"+IF(CQ7=\"\",\"\",MAX(CP$1:CP6)+1)","v":""},{"$f":"IF(Compliance_Options!B29=\"\",\"\",Compliance_Options!B29)","v":""},{"$f":"IF(Compliance_Options!C29=\"\",\"\",Compliance_Options!C29)","v":""},{"$f":"IF(Compliance_Options!D29=\"\",\"\",Compliance_Options!D29)","v":""},"  ",{"$f":"IF(COUNTIF(CT$2:CT7,CT7)=1,CT7,\"\")","v":""},"","","",""]
[{"$f":"+IF(B8=\"\",\"\",MAX(A$1:A7)+1)","v":""},{"$f":"IF(Company_Information!B30=\"\",\"\",Company_Information!B30)","v":""},"",{"$f":"IF(COUNTIF(B$2:B8,B8)=1,B8,\"\")","v":""},null,{"$f":"+IF(I8=\"\",\"\",MAX(F$1:F7)+1)","v":""},{"$f":"IF(Compliance_Options!C30=\"\",\"\",Compliance_Options!C30)","v":""},"",{"$f":"IF(COUNTIF(G$2:G8,G8)=1,G8,\"\")","v":""},null,null,null,null,null,null,null,null,"NOCS",null,null,null,"CO",null,null,null,null,null,null,null,null,null,null,null,null,null,null,null,null,null,null,null,null,null,null,null,null,null,{"$f":"+IF(AW8=\"\",\"\",MAX(AV$1:AV7)+1)","v":""},{"$f":"IF(Compliance_Options!B30=\"\",\"\",Compliance_Options!B30)","v":""},{"$f":"IF(Compliance_Options!C30=\"\",\"\",Compliance_Options!C30)","v":""},{"$f":"IF(Compliance_Options!D30=\"\",\"\",Compliance_Options!D30)","v":""},{"$f":"IF(Compliance_Options!E30=\"\",\"\",Compliance_Options!E30)","v":""},{"$f":"IF(Compliance_Options!F30=\"\",\"\",Compliance_Options!F30)","v":""},"    ",{"$f":"IF(COUNTIF(BB$2:BB8,BB8)=1,BB8,\"\")","v":""},"","","","","","","",{"$f":"+IF(BJ8=\"\",\"\",MAX(BK$1:BK7)+1)","v":""},"","","","","","","",{"$f":"+IF(BR8=\"\",\"\",MAX(BS$1:BS7)+1)","v":""},"","","","","","","",{"$f":"+IF(BZ8=\"\",\"\",MAX(CA$1:CA7)+1)","v":""},"","","","","","","",{"$f":"+IF(CH8=\"\",\"\",MAX(CI$1:CI7)+1)","v":""},"","","","","",null,{"$f":"+IF(CQ8=\"\",\"\",MAX(CP$1:CP7)+1)","v":""},{"$f":"IF(Compliance_Options!B30=\"\",\"\",Compliance_Options!B30)","v":""},{"$f":"IF(Compliance_Options!C30=\"\",\"\",Compliance_Options!C30)","v":""},{"$f":"IF(Compliance_Options!D30=\"\",\"\",Compliance_Options!D30)","v":""},"  ",{"$f":"IF(COUNTIF(CT$2:CT8,CT8)=1,CT8,\"\")","v":""},"","","",""]
[{"$f":"+IF(B9=\"\",\"\",MAX(A$1:A8)+1)","v":""},{"$f":"IF(Company_Information!B31=\"\",\"\",Company_Information!B31)","v":""},"",{"$f":"IF(COUNTIF(B$2:B9,B9)=1,B9,\"\")","v":""},null,{"$f":"+IF(I9=\"\",\"\",MAX(F$1:F8)+1)","v":""},{"$f":"IF(Compliance_Options!C31=\"\",\"\",Compliance_Options!C31)","v":""},"",{"$f":"IF(COUNTIF(G$2:G9,G9)=1,G9,\"\")","v":""},null,null,null,null,null,null,null,null,{"$f":"+IF(COUNTIF(Company_Information!$Q$24:$Q$33,\"yes\")>0,\"Yes\",\"No\")","v":"No"},null,null,null,"CT",null,null,null,null,null,null,null,null,null,null,null,null,null,null,null,null,null,null,null,null,null,null,null,null,null,{"$f":"+IF(AW9=\"\",\"\",MAX(AV$1:AV8)+1)","v":""},{"$f":"IF(Compliance_Options!B31=\"\",\"\",Compliance_Options!B31)","v":""},{"$f":"IF(Compliance_Options!C31=\"\",\"\",Compliance_Options!C31)","v":""},{"$f":"IF(Compliance_Options!D31=\"\",\"\",Compliance_Options!D31)","v":""},{"$f":"IF(Compliance_Options!E31=\"\",\"\",Compliance_Options!E31)","v":""},{"$f":"IF(Compliance_Options!F31=\"\",\"\",Compliance_Options!F31)","v":""},"    ",{"$f":"IF(COUNTIF(BB$2:BB9,BB9)=1,BB9,\"\")","v":""},"","","","","","","",{"$f":"+IF(BJ9=\"\",\"\",MAX(BK$1:BK8)+1)","v":""},"","","","","","","",{"$f":"+IF(BR9=\"\",\"\",MAX(BS$1:BS8)+1)","v":""},"","","","","","","",{"$f":"+IF(BZ9=\"\",\"\",MAX(CA$1:CA8)+1)","v":""},"","","","","","","",{"$f":"+IF(CH9=\"\",\"\",MAX(CI$1:CI8)+1)","v":""},"","","","","",null,{"$f":"+IF(CQ9=\"\",\"\",MAX(CP$1:CP8)+1)","v":""},{"$f":"IF(Compliance_Options!B31=\"\",\"\",Compliance_Options!B31)","v":""},{"$f":"IF(Compliance_Options!C31=\"\",\"\",Compliance_Options!C31)","v":""},{"$f":"IF(Compliance_Options!D31=\"\",\"\",Compliance_Options!D31)","v":""},"  ",{"$f":"IF(COUNTIF(CT$2:CT9,CT9)=1,CT9,\"\")","v":""},"","","",""]
[{"$f":"+IF(B10=\"\",\"\",MAX(A$1:A9)+1)","v":""},{"$f":"IF(Company_Information!B32=\"\",\"\",Company_Information!B32)","v":""},"",{"$f":"IF(COUNTIF(B$2:B10,B10)=1,B10,\"\")","v":""},null,{"$f":"+IF(I10=\"\",\"\",MAX(F$1:F9)+1)","v":""},{"$f":"IF(Compliance_Options!C32=\"\",\"\",Compliance_Options!C32)","v":""},"",{"$f":"IF(COUNTIF(G$2:G10,G10)=1,G10,\"\")","v":""},null,null,null,null,null,null,null,null,null,null,null,null,"DC",null,null,null,null,null,null,null,null,null,{"$f":"+LEFT(Y10,12)","v":""},null,null,null,null,null,null,null,null,null,null,null,null,null,null,null,{"$f":"+IF(AW10=\"\",\"\",MAX(AV$1:AV9)+1)","v":""},{"$f":"IF(Compliance_Options!B32=\"\",\"\",Compliance_Options!B32)","v":""},{"$f":"IF(Compliance_Options!C32=\"\",\"\",Compliance_Options!C32)","v":""},{"$f":"IF(Compliance_Options!D32=\"\",\"\",Compliance_Options!D32)","v":""},{"$f":"IF(Compliance_Options!E32=\"\",\"\",Compliance_Options!E32)","v":""},{"$f":"IF(Compliance_Options!F32=\"\",\"\",Compliance_Options!F32)","v":""},"    ",{"$f":"IF(COUNTIF(BB$2:BB10,BB10)=1,BB10,\"\")","v":""},"","","","","","","",{"$f":"+IF(BJ10=\"\",\"\",MAX(BK$1:BK9)+1)","v":""},"","","","","","","",{"$f":"+IF(BR10=\"\",\"\",MAX(BS$1:BS9)+1)","v":""},"","","","","","","",{"$f":"+IF(BZ10=\"\",\"\",MAX(CA$1:CA9)+1)","v":""},"","","","","","","",{"$f":"+IF(CH10=\"\",\"\",MAX(CI$1:CI9)+1)","v":""},"","","","","",null,{"$f":"+IF(CQ10=\"\",\"\",MAX(CP$1:CP9)+1)","v":""},{"$f":"IF(Compliance_Options!B32=\"\",\"\",Compliance_Options!B32)","v":""},{"$f":"IF(Compliance_Options!C32=\"\",\"\",Compliance_Options!C32)","v":""},{"$f":"IF(Compliance_Options!D32=\"\",\"\",Compliance_Options!D32)","v":""},"  ",{"$f":"IF(COUNTIF(CT$2:CT10,CT10)=1,CT10,\"\")","v":""},"","","",""]
[{"$f":"+IF(B11=\"\",\"\",MAX(A$1:A10)+1)","v":""},{"$f":"IF(Company_Information!B33=\"\",\"\",Company_Information!B33)","v":""},"",{"$f":"IF(COUNTIF(B$2:B11,B11)=1,B11,\"\")","v":""},null,{"$f":"+IF(I11=\"\",\"\",MAX(F$1:F10)+1)","v":""},{"$f":"IF(Compliance_Options!C33=\"\",\"\",Compliance_Options!C33)","v":""},"",{"$f":"IF(COUNTIF(G$2:G11,G11)=1,G11,\"\")","v":""},null,null,null,null,null,null,null,null,"Deviation Causes",null,null,null,"DE",null,null,null,null,"Not Applicable",null,null,null,null,{"$f":"+LEFT(Y11,12)","v":""},null,null,null,null,null,null,null,null,null,null,null,null,null,null,null,{"$f":"+IF(AW11=\"\",\"\",MAX(AV$1:AV10)+1)","v":""},{"$f":"IF(Compliance_Options!B33=\"\",\"\",Compliance_Options!B33)","v":""},{"$f":"IF(Compliance_Options!C33=\"\",\"\",Compliance_Options!C33)","v":""},{"$f":"IF(Compliance_Options!D33=\"\",\"\",Compliance_Options!D33)","v":""},{"$f":"IF(Compliance_Options!E33=\"\",\"\",Compliance_Options!E33)","v":""},{"$f":"IF(Compliance_Options!F33=\"\",\"\",Compliance_Options!F33)","v":""},"    ",{"$f":"IF(COUNTIF(BB$2:BB11,BB11)=1,BB11,\"\")","v":""},"","","","","","","",{"$f":"+IF(BJ11=\"\",\"\",MAX(BK$1:BK10)+1)","v":""},"","","","","","","",{"$f":"+IF(BR11=\"\",\"\",MAX(BS$1:BS10)+1)","v":""},"","","","","","","",{"$f":"+IF(BZ11=\"\",\"\",MAX(CA$1:CA10)+1)","v":""},"","","","","","","",{"$f":"+IF(CH11=\"\",\"\",MAX(CI$1:CI10)+1)","v":""},"","","","","",null,{"$f":"+IF(CQ11=\"\",\"\",MAX(CP$1:CP10)+1)","v":""},{"$f":"IF(Compliance_Options!B33=\"\",\"\",Compliance_Options!B33)","v":""},{"$f":"IF(Compliance_Options!C33=\"\",\"\",Compliance_Options!C33)","v":""},{"$f":"IF(Compliance_Options!D33=\"\",\"\",Compliance_Options!D33)","v":""},"  ",{"$f":"IF(COUNTIF(CT$2:CT11,CT11)=1,CT11,\"\")","v":""},"","","",""]
[null,null,null,null,null,{"$f":"+IF(I12=\"\",\"\",MAX(F$1:F11)+1)","v":""},{"$f":"IF(Compliance_Options!C34=\"\",\"\",Compliance_Options!C34)","v":""},"",{"$f":"IF(COUNTIF(G$2:G12,G12)=1,G12,\"\")","v":""},null,null,null,null,null,null,null,null,"Control Equipment Problems",null,null,null,"FL",null,null,null,null,null,null,null,null,null,null,null,null,null,null,null,null,null,null,null,null,null,null,null,null,null,{"$f":"+IF(AW12=\"\",\"\",MAX(AV$1:AV11)+1)","v":""},{"$f":"IF(Compliance_Options!B34=\"\",\"\",Compliance_Options!B34)","v":""},{"$f":"IF(Compliance_Options!C34=\"\",\"\",Compliance_Options!C34)","v":""},{"$f":"IF(Compliance_Options!D34=\"\",\"\",Compliance_Options!D34)","v":""},{"$f":"IF(Compliance_Options!E34=\"\",\"\",Compliance_Options!E34)","v":""},{"$f":"IF(Compliance_Options!F34=\"\",\"\",Compliance_Options!F34)","v":""},"    ",{"$f":"IF(COUNTIF(BB$2:BB12,BB12)=1,BB12,\"\")","v":""},"","","","","","","",{"$f":"+IF(BJ12=\"\",\"\",MAX(BK$1:BK11)+1)","v":""},"","","","","","","",{"$f":"+IF(BR12=\"\",\"\",MAX(BS$1:BS11)+1)","v":""},"","","","","","","",{"$f":"+IF(BZ12=\"\",\"\",MAX(CA$1:CA11)+1)","v":""},"","","","","","","",{"$f":"+IF(CH12=\"\",\"\",MAX(CI$1:CI11)+1)","v":""},"","","","","",null,{"$f":"+IF(CQ12=\"\",\"\",MAX(CP$1:CP11)+1)","v":""},{"$f":"IF(Compliance_Options!B34=\"\",\"\",Compliance_Options!B34)","v":""},{"$f":"IF(Compliance_Options!C34=\"\",\"\",Compliance_Options!C34)","v":""},{"$f":"IF(Compliance_Options!D34=\"\",\"\",Compliance_Options!D34)","v":""},"  ",{"$f":"IF(COUNTIF(CT$2:CT12,CT12)=1,CT12,\"\")","v":""},"","","",""]
[null,null,null,null,null,{"$f":"+IF(I13=\"\",\"\",MAX(F$1:F12)+1)","v":""},{"$f":"IF(Compliance_Options!C35=\"\",\"\",Compliance_Options!C35)","v":""},"",{"$f":"IF(COUNTIF(G$2:G13,G13)=1,G13,\"\")","v":""},null,null,null,null,null,null,null,null,"Process Problems",null,null,null,"GA",null,null,null,null,null,null,null,null,null,null,null,null,null,null,null,null,null,null,null,null,null,null,null,null,null,{"$f":"+IF(AW13=\"\",\"\",MAX(AV$1:AV12)+1)","v":""},{"$f":"IF(Compliance_Options!B35=\"\",\"\",Compliance_Options!B35)","v":""},{"$f":"IF(Compliance_Options!C35=\"\",\"\",Compliance_Options!C35)","v":""},{"$f":"IF(Compliance_Options!D35=\"\",\"\",Compliance_Options!D35)","v":""},{"$f":"IF(Compliance_Options!E35=\"\",\"\",Compliance_Options!E35)","v":""},{"$f":"IF(Compliance_Options!F35=\"\",\"\",Compliance_Options!F35)","v":""},"    ",{"$f":"IF(COUNTIF(BB$2:BB13,BB13)=1,BB13,\"\")","v":""},"","","","","","","",{"$f":"+IF(BJ13=\"\",\"\",MAX(BK$1:BK12)+1)","v":""},"","","","","","","",{"$f":"+IF(BR13=\"\",\"\",MAX(BS$1:BS12)+1)","v":""},"","","","","","","",{"$f":"+IF(BZ13=\"\",\"\",MAX(CA$1:CA12)+1)","v":""},"","","","","","","",{"$f":"+IF(CH13=\"\",\"\",MAX(CI$1:CI12)+1)","v":""},"","","","","",null,{"$f":"+IF(CQ13=\"\",\"\",MAX(CP$1:CP12)+1)","v":""},{"$f":"IF(Compliance_Options!B35=\"\",\"\",Compliance_Options!B35)","v":""},{"$f":"IF(Compliance_Options!C35=\"\",\"\",Compliance_Options!C35)","v":""},{"$f":"IF(Compliance_Options!D35=\"\",\"\",Compliance_Options!D35)","v":""},"  ",{"$f":"IF(COUNTIF(CT$2:CT13,CT13)=1,CT13,\"\")","v":""},"","","",""]
[null,null,null,null,null,{"$f":"+IF(I14=\"\",\"\",MAX(F$1:F13)+1)","v":""},{"$f":"IF(Compliance_Options!C36=\"\",\"\",Compliance_Options!C36)","v":""},"",{"$f":"IF(COUNTIF(G$2:G14,G14)=1,G14,\"\")","v":""},null,null,null,null,null,null,null,null,"Other Known Causes",null,null,null,"GU",null,"TireProductionOption1—H","TireCordProductionOption1.a","PunctureSealantApplicationOption1.a","RubberProcessingThereare",null,null,null,null,null,null,null,null,null,null,null,null,null,null,null,null,null,null,null,null,{"$f":"+IF(AW14=\"\",\"\",MAX(AV$1:AV13)+1)","v":""},{"$f":"IF(Compliance_Options!B36=\"\",\"\",Compliance_Options!B36)","v":""},{"$f":"IF(Compliance_Options!C36=\"\",\"\",Compliance_Options!C36)","v":""},{"$f":"IF(Compliance_Options!D36=\"\",\"\",Compliance_Options!D36)","v":""},{"$f":"IF(Compliance_Options!E36=\"\",\"\",Compliance_Options!E36)","v":""},{"$f":"IF(Compliance_Options!F36=\"\",\"\",Compliance_Options!F36)","v":""},"    ",{"$f":"IF(COUNTIF(BB$2:BB14,BB14)=1,BB14,\"\")","v":""},"","","","","","","",{"$f":"+IF(BJ14=\"\",\"\",MAX(BK$1:BK13)+1)","v":""},"","","","","","","",{"$f":"+IF(BR14=\"\",\"\",MAX(BS$1:BS13)+1)","v":""},"","","","","","","",{"$f":"+IF(BZ14=\"\",\"\",MAX(CA$1:CA13)+1)","v":""},"","","","","","","",{"$f":"+IF(CH14=\"\",\"\",MAX(CI$1:CI13)+1)","v":""},"","","","","",null,{"$f":"+IF(CQ14=\"\",\"\",MAX(CP$1:CP13)+1)","v":""},{"$f":"IF(Compliance_Options!B36=\"\",\"\",Compliance_Options!B36)","v":""},{"$f":"IF(Compliance_Options!C36=\"\",\"\",Compliance_Options!C36)","v":""},{"$f":"IF(Compliance_Options!D36=\"\",\"\",Compliance_Options!D36)","v":""},"  ",{"$f":"IF(COUNTIF(CT$2:CT14,CT14)=1,CT14,\"\")","v":""},"","","",""]
[null,null,null,null,null,{"$f":"+IF(I15=\"\",\"\",MAX(F$1:F14)+1)","v":""},{"$f":"IF(Compliance_Options!C37=\"\",\"\",Compliance_Options!C37)","v":""},"",{"$f":"IF(COUNTIF(G$2:G15,G15)=1,G15,\"\")","v":""},null,null,null,null,null,null,null,null,"Other Unknown Causes",null,null,null,"HI",null,"TireProductionOption2—p","TireCordProductionOption1.b","PunctureSealantApplicationOption1.b",null,null,null,null,null,null,null,null,null,null,null,null,null,null,null,null,null,null,null,null,null,{"$f":"+IF(AW15=\"\",\"\",MAX(AV$1:AV14)+1)","v":""},{"$f":"IF(Compliance_Options!B37=\"\",\"\",Compliance_Options!B37)","v":""},{"$f":"IF(Compliance_Options!C37=\"\",\"\",Compliance_Options!C37)","v":""},{"$f":"IF(Compliance_Options!D37=\"\",\"\",Compliance_Options!D37)","v":""},{"$f":"IF(Compliance_Options!E37=\"\",\"\",Compliance_Options!E37)","v":""},{"$f":"IF(Compliance_Options!F37=\"\",\"\",Compliance_Options!F37)","v":""},"    ",{"$f":"IF(COUNTIF(BB$2:BB15,BB15)=1,BB15,\"\")","v":""},"","","","","","","",{"$f":"+IF(BJ15=\"\",\"\",MAX(BK$1:BK14)+1)","v":""},"","","","","","","",{"$f":"+IF(BR15=\"\",\"\",MAX(BS$1:BS14)+1)","v":""},"","","","","","","",{"$f":"+IF(BZ15=\"\",\"\",MAX(CA$1:CA14)+1)","v":""},"","","","","","","",{"$f":"+IF(CH15=\"\",\"\",MAX(CI$1:CI14)+1)","v":""},"","","","","",null,{"$f":"+IF(CQ15=\"\",\"\",MAX(CP$1:CP14)+1)","v":""},{"$f":"IF(Compliance_Options!B37=\"\",\"\",Compliance_Options!B37)","v":""},{"$f":"IF(Compliance_Options!C37=\"\",\"\",Compliance_Options!C37)","v":""},{"$f":"IF(Compliance_Options!D37=\"\",\"\",Compliance_Options!D37)","v":""},"  ",{"$f":"IF(COUNTIF(CT$2:CT15,CT15)=1,CT15,\"\")","v":""},"","","",""]
[null,null,null,null,null,{"$f":"+IF(I16=\"\",\"\",MAX(F$1:F15)+1)","v":""},{"$f":"IF(Compliance_Options!C38=\"\",\"\",Compliance_Options!C38)","v":""},"",{"$f":"IF(COUNTIF(G$2:G16,G16)=1,G16,\"\")","v":""},null,null,null,null,null,null,null,null,"Switch Coatings",null,null,null,"IA",null,"TireProductionPurchasea","TireCordProductionOption2(","PunctureSealantApplicationOption2(",null,null,null,null,null,null,null,null,null,null,null,null,null,null,null,null,null,null,null,null,null,{"$f":"+IF(AW16=\"\",\"\",MAX(AV$1:AV15)+1)","v":""},{"$f":"IF(Compliance_Options!B38=\"\",\"\",Compliance_Options!B38)","v":""},{"$f":"IF(Compliance_Options!C38=\"\",\"\",Compliance_Options!C38)","v":""},{"$f":"IF(Compliance_Options!D38=\"\",\"\",Compliance_Options!D38)","v":""},{"$f":"IF(Compliance_Options!E38=\"\",\"\",Compliance_Options!E38)","v":""},{"$f":"IF(Compliance_Options!F38=\"\",\"\",Compliance_Options!F38)","v":""},"    ",{"$f":"IF(COUNTIF(BB$2:BB16,BB16)=1,BB16,\"\")","v":""},"","","","","","","",{"$f":"+IF(BJ16=\"\",\"\",MAX(BK$1:BK15)+1)","v":""},"","","","","","","",{"$f":"+IF(BR16=\"\",\"\",MAX(BS$1:BS15)+1)","v":""},"","","","","","","",{"$f":"+IF(BZ16=\"\",\"\",MAX(CA$1:CA15)+1)","v":""},"","","","","","","",{"$f":"+IF(CH16=\"\",\"\",MAX(CI$1:CI15)+1)","v":""},"","","","","",null,{"$f":"+IF(CQ16=\"\",\"\",MAX(CP$1:CP15)+1)","v":""},{"$f":"IF(Compliance_Options!B38=\"\",\"\",Compliance_Options!B38)","v":""},{"$f":"IF(Compliance_Options!C38=\"\",\"\",Compliance_Options!C38)","v":""},{"$f":"IF(Compliance_Options!D38=\"\",\"\",Compliance_Options!D38)","v":""},"  ",{"$f":"IF(COUNTIF(CT$2:CT16,CT16)=1,CT16,\"\")","v":""},"","","",""]
[null,null,null,null,null,{"$f":"+IF(I17=\"\",\"\",MAX(F$1:F16)+1)","v":""},{"$f":"IF(Compliance_Options!C39=\"\",\"\",Compliance_Options!C39)","v":""},"",{"$f":"IF(COUNTIF(G$2:G17,G17)=1,G17,\"\")","v":""},null,null,null,null,null,null,null,null,null,null,null,null,"ID",null,"TireProductionWithoutus","TireCordProductionWithoutus","PunctureSealantApplicationThermalox",null,null,null,null,null,null,null,null,null,null,null,null,null,null,null,null,null,null,null,null,null,{"$f":"+IF(AW17=\"\",\"\",MAX(AV$1:AV16)+1)","v":""},{"$f":"IF(Compliance_Options!B39=\"\",\"\",Compliance_Options!B39)","v":""},{"$f":"IF(Compliance_Options!C39=\"\",\"\",Compliance_Options!C39)","v":""},{"$f":"IF(Compliance_Options!D39=\"\",\"\",Compliance_Options!D39)","v":""},{"$f":"IF(Compliance_Options!E39=\"\",\"\",Compliance_Options!E39)","v":""},{"$f":"IF(Compliance_Options!F39=\"\",\"\",Compliance_Options!F39)","v":""},"    ",{"$f":"IF(COUNTIF(BB$2:BB17,BB17)=1,BB17,\"\")","v":""},"","","","","","","",{"$f":"+IF(BJ17=\"\",\"\",MAX(BK$1:BK16)+1)","v":""},"","","","","","","",{"$f":"+IF(BR17=\"\",\"\",MAX(BS$1:BS16)+1)","v":""},"","","","","","","",{"$f":"+IF(BZ17=\"\",\"\",MAX(CA$1:CA16)+1)","v":""},"","","","","","","",{"$f":"+IF(CH17=\"\",\"\",MAX(CI$1:CI16)+1)","v":""},"","","","","",null,{"$f":"+IF(CQ17=\"\",\"\",MAX(CP$1:CP16)+1)","v":""},{"$f":"IF(Compliance_Options!B39=\"\",\"\",Compliance_Options!B39)","v":""},{"$f":"IF(Compliance_Options!C39=\"\",\"\",Compliance_Options!C39)","v":""},{"$f":"IF(Compliance_Options!D39=\"\",\"\",Compliance_Options!D39)","v":""},"  ",{"$f":"IF(COUNTIF(CT$2:CT17,CT17)=1,CT17,\"\")","v":""},"","","",""]
[null,null,null,null,null,{"$f":"+IF(I18=\"\",\"\",MAX(F$1:F17)+1)","v":""},{"$f":"IF(Compliance_Options!C40=\"\",\"\",Compliance_Options!C40)","v":""},"",{"$f":"IF(COUNTIF(G$2:G18,G18)=1,G18,\"\")","v":""},null,null,null,null,null,null,null,null,"CMSCauseList",null,null,null,"IL",null,"TireProductionUsingana","TireCordProductionUsingana","PunctureSealantApplicationCarbonads",null,null,null,null,null,null,null,null,null,null,null,null,null,null,null,null,null,null,null,null,null,{"$f":"+IF(AW18=\"\",\"\",MAX(AV$1:AV17)+1)","v":""},{"$f":"IF(Compliance_Options!B40=\"\",\"\",Compliance_Options!B40)","v":""},{"$f":"IF(Compliance_Options!C40=\"\",\"\",Compliance_Options!C40)","v":""},{"$f":"IF(Compliance_Options!D40=\"\",\"\",Compliance_Options!D40)","v":""},{"$f":"IF(Compliance_Options!E40=\"\",\"\",Compliance_Options!E40)","v":""},{"$f":"IF(Compliance_Options!F40=\"\",\"\",Compliance_Options!F40)","v":""},"    ",{"$f":"IF(COUNTIF(BB$2:BB18,BB18)=1,BB18,\"\")","v":""},"","","","","","","",{"$f":"+IF(BJ18=\"\",\"\",MAX(BK$1:BK17)+1)","v":""},"","","","","","","",{"$f":"+IF(BR18=\"\",\"\",MAX(BS$1:BS17)+1)","v":""},"","","","","","","",{"$f":"+IF(BZ18=\"\",\"\",MAX(CA$1:CA17)+1)","v":""},"","","","","","","",{"$f":"+IF(CH18=\"\",\"\",MAX(CI$1:CI17)+1)","v":""},"","","","","",null,{"$f":"+IF(CQ18=\"\",\"\",MAX(CP$1:CP17)+1)","v":""},{"$f":"IF(Compliance_Options!B40=\"\",\"\",Compliance_Options!B40)","v":""},{"$f":"IF(Compliance_Options!C40=\"\",\"\",Compliance_Options!C40)","v":""},{"$f":"IF(Compliance_Options!D40=\"\",\"\",Compliance_Options!D40)","v":""},"  ",{"$f":"IF(COUNTIF(CT$2:CT18,CT18)=1,CT18,\"\")","v":""},"","","",""]
[null,null,null,null,null,{"$f":"+IF(I19=\"\",\"\",MAX(F$1:F18)+1)","v":""},{"$f":"IF(Compliance_Options!C41=\"\",\"\",Compliance_Options!C41)","v":""},"",{"$f":"IF(COUNTIF(G$2:G19,G19)=1,G19,\"\")","v":""},null,null,null,null,null,null,null,null,"Monitoring Equipment Malfunctions",null,null,null,"IN",null,null,null,"PunctureSealantApplicationOthertype",null,null,null,null,null,null,null,null,null,null,null,null,null,null,null,null,null,null,null,null,null,{"$f":"+IF(AW19=\"\",\"\",MAX(AV$1:AV18)+1)","v":""},{"$f":"IF(Compliance_Options!B41=\"\",\"\",Compliance_Options!B41)","v":""},{"$f":"IF(Compliance_Options!C41=\"\",\"\",Compliance_Options!C41)","v":""},{"$f":"IF(Compliance_Options!D41=\"\",\"\",Compliance_Options!D41)","v":""},{"$f":"IF(Compliance_Options!E41=\"\",\"\",Compliance_Options!E41)","v":""},{"$f":"IF(Compliance_Options!F41=\"\",\"\",Compliance_Options!F41)","v":""},"    ",{"$f":"IF(COUNTIF(BB$2:BB19,BB19)=1,BB19,\"\")","v":""},"","","","","","","",{"$f":"+IF(BJ19=\"\",\"\",MAX(BK$1:BK18)+1)","v":""},"","","","","","","",{"$f":"+IF(BR19=\"\",\"\",MAX(BS$1:BS18)+1)","v":""},"","","","","","","",{"$f":"+IF(BZ19=\"\",\"\",MAX(CA$1:CA18)+1)","v":""},"","","","","","","",{"$f":"+IF(CH19=\"\",\"\",MAX(CI$1:CI18)+1)","v":""},"","","","","",null,{"$f":"+IF(CQ19=\"\",\"\",MAX(CP$1:CP18)+1)","v":""},{"$f":"IF(Compliance_Options!B41=\"\",\"\",Compliance_Options!B41)","v":""},{"$f":"IF(Compliance_Options!C41=\"\",\"\",Compliance_Options!C41)","v":""},{"$f":"IF(Compliance_Options!D41=\"\",\"\",Compliance_Options!D41)","v":""},"  ",{"$f":"IF(COUNTIF(CT$2:CT19,CT19)=1,CT19,\"\")","v":""},"","","",""]
["Rank","Company","CompanyName","Column1",null,{"$f":"+IF(I20=\"\",\"\",MAX(F$1:F19)+1)","v":""},{"$f":"IF(Compliance_Options!C42=\"\",\"\",Compliance_Options!C42)","v":""},"",{"$f":"IF(COUNTIF(G$2:G20,G20)=1,G20,\"\")","v":""},null,null,null,null,null,null,null,null,"Nonmonitoring Equipment Malfunctions",null,null,null,"KS",null,null,null,"PunctureSealantApplicationPermanent",null,null,null,null,null,null,null,null,null,null,null,null,null,null,null,null,null,null,null,null,null,{"$f":"+IF(AW20=\"\",\"\",MAX(AV$1:AV19)+1)","v":""},{"$f":"IF(Compliance_Options!B42=\"\",\"\",Compliance_Options!B42)","v":""},{"$f":"IF(Compliance_Options!C42=\"\",\"\",Compliance_Options!C42)","v":""},{"$f":"IF(Compliance_Options!D42=\"\",\"\",Compliance_Options!D42)","v":""},{"$f":"IF(Compliance_Options!E42=\"\",\"\",Compliance_Options!E42)","v":""},{"$f":"IF(Compliance_Options!F42=\"\",\"\",Compliance_Options!F42)","v":""},"    ",{"$f":"IF(COUNTIF(BB$2:BB20,BB20)=1,BB20,\"\")","v":""},"","","","","","","",{"$f":"+IF(BJ20=\"\",\"\",MAX(BK$1:BK19)+1)","v":""},"","","","","","","",{"$f":"+IF(BR20=\"\",\"\",MAX(BS$1:BS19)+1)","v":""},"","","","","","","",{"$f":"+IF(BZ20=\"\",\"\",MAX(CA$1:CA19)+1)","v":""},"","","","","","","",{"$f":"+IF(CH20=\"\",\"\",MAX(CI$1:CI19)+1)","v":""},"","","","","",null,{"$f":"+IF(CQ20=\"\",\"\",MAX(CP$1:CP19)+1)","v":""},{"$f":"IF(Compliance_Options!B42=\"\",\"\",Compliance_Options!B42)","v":""},{"$f":"IF(Compliance_Options!C42=\"\",\"\",Compliance_Options!C42)","v":""},{"$f":"IF(Compliance_Options!D42=\"\",\"\",Compliance_Options!D42)","v":""},"  ",{"$f":"IF(COUNTIF(CT$2:CT20,CT20)=1,CT20,\"\")","v":""},"","","",""]
[{"$f":"+IF(B21=\"\",\"\",MAX(A$20:A20)+1)","v":""},{"$f":"IF(Company_Information!Q24=\"Yes\",Company_Information!B24,\"\")","v":""},{"$f":"+IFERROR(INDEX($B$21:$B$30,MATCH(ROW()-ROW($C$20),$A$21:$A$30,0)),\"\")","v":""},{"$f":"IF(COUNTIF(B21:B$221,B21)=1,B21,\"\")","v":""},null,{"$f":"+IF(I21=\"\",\"\",MAX(F$1:F20)+1)","v":""},{"$f":"IF(Compliance_Options!C43=\"\",\"\",Compliance_Options!C43)","v":""},"",{"$f":"IF(COUNTIF(G$2:G21,G21)=1,G21,\"\")","v":""},null,null,null,null,null,null,null,null,"Quality Assurance/Quality Control Calibrations",null,null,null,"KY",null,null,null,"PunctureSealantApplicationOthercapt",null,null,null,null,null,null,null,null,null,null,null,null,null,null,null,null,null,null,null,null,null,{"$f":"+IF(AW21=\"\",\"\",MAX(AV$1:AV20)+1)","v":""},{"$f":"IF(Compliance_Options!B43=\"\",\"\",Compliance_Options!B43)","v":""},{"$f":"IF(Compliance_Options!C43=\"\",\"\",Compliance_Options!C43)","v":""},{"$f":"IF(Compliance_Options!D43=\"\",\"\",Compliance_Options!D43)","v":""},{"$f":"IF(Compliance_Options!E43=\"\",\"\",Compliance_Options!E43)","v":""},{"$f":"IF(Compliance_Options!F43=\"\",\"\",Compliance_Options!F43)","v":""},"    ",{"$f":"IF(COUNTIF(BB$2:BB21,BB21)=1,BB21,\"\")","v":""},"","","","","","","",{"$f":"+IF(BJ21=\"\",\"\",MAX(BK$1:BK20)+1)","v":""},"","","","","","","",{"$f":"+IF(BR21=\"\",\"\",MAX(BS$1:BS20)+1)","v":""},"","","","","","","",{"$f":"+IF(BZ21=\"\",\"\",MAX(CA$1:CA20)+1)","v":""},"","","","","","","",{"$f":"+IF(CH21=\"\",\"\",MAX(CI$1:CI20)+1)","v":""},"","","","","",null,{"$f":"+IF(CQ21=\"\",\"\",MAX(CP$1:CP20)+1)","v":""},{"$f":"IF(Compliance_Options!B43=\"\",\"\",Compliance_Options!B43)","v":""},{"$f":"IF(Compliance_Options!C43=\"\",\"\",Compliance_Options!C43)","v":""},{"$f":"IF(Compliance_Options!D43=\"\",\"\",Compliance_Options!D43)","v":""},"  ",{"$f":"IF(COUNTIF(CT$2:CT21,CT21)=1,CT21,\"\")","v":""},"","","",""]
[{"$f":"+IF(B22=\"\",\"\",MAX(A$20:A21)+1)","v":""},{"$f":"IF(Company_Information!Q25=\"Yes\",Company_Information!B25,\"\")","v":""},"",{"$f":"IF(COUNTIF(B22:B$221,B22)=1,B22,\"\")","v":""},null,{"$f":"+IF(I22=\"\",\"\",MAX(F$1:F21)+1)","v":""},{"$f":"IF(Compliance_Options!C44=\"\",\"\",Compliance_Options!C44)","v":""},"",{"$f":"IF(COUNTIF(G$2:G22,G22)=1,G22,\"\")","v":""},null,null,null,null,null,null,null,null,"Other Known Causes",null,null,null,"LA",null,null,null,null,null,null,null,null,null,null,null,null,null,null,null,null,null,null,null,null,null,null,null,null,null,{"$f":"+IF(AW22=\"\",\"\",MAX(AV$1:AV21)+1)","v":""},{"$f":"IF(Compliance_Options!B44=\"\",\"\",Compliance_Options!B44)","v":""},{"$f":"IF(Compliance_Options!C44=\"\",\"\",Compliance_Options!C44)","v":""},{"$f":"IF(Compliance_Options!D44=\"\",\"\",Compliance_Options!D44)","v":""},{"$f":"IF(Compliance_Options!E44=\"\",\"\",Compliance_Options!E44)","v":""},{"$f":"IF(Compliance_Options!F44=\"\",\"\",Compliance_Options!F44)","v":""},"    ",{"$f":"IF(COUNTIF(BB$2:BB22,BB22)=1,BB22,\"\")","v":""},"","","","","","","",{"$f":"+IF(BJ22=\"\",\"\",MAX(BK$1:BK21)+1)","v":""},"","","","","","","",{"$f":"+IF(BR22=\"\",\"\",MAX(BS$1:BS21)+1)","v":""},"","","","","","","",{"$f":"+IF(BZ22=\"\",\"\",MAX(CA$1:CA21)+1)","v":""},"","","","","","","",{"$f":"+IF(CH22=\"\",\"\",MAX(CI$1:CI21)+1)","v":""},"","","","","",null,{"$f":"+IF(CQ22=\"\",\"\",MAX(CP$1:CP21)+1)","v":""},{"$f":"IF(Compliance_Options!B44=\"\",\"\",Compliance_Options!B44)","v":""},{"$f":"IF(Compliance_Options!C44=\"\",\"\",Compliance_Options!C44)","v":""},{"$f":"IF(Compliance_Options!D44=\"\",\"\",Compliance_Options!D44)","v":""},"  ",{"$f":"IF(COUNTIF(CT$2:CT22,CT22)=1,CT22,\"\")","v":""},"","","",""]
[{"$f":"+IF(B23=\"\",\"\",MAX(A$20:A22)+1)","v":""},{"$f":"IF(Company_Information!Q26=\"Yes\",Company_Information!B26,\"\")","v":""},"",{"$f":"IF(COUNTIF(B23:B$221,B23)=1,B23,\"\")","v":""},null,{"$f":"+IF(I23=\"\",\"\",MAX(F$1:F22)+1)","v":""},{"$f":"IF(Compliance_Options!C45=\"\",\"\",Compliance_Options!C45)","v":""},"",{"$f":"IF(COUNTIF(G$2:G23,G23)=1,G23,\"\")","v":""},null,null,null,null,null,null,null,null,"Other Unknown Causes",null,null,null,"MA",null,null,null,null,null,null,null,null,null,null,null,null,null,null,null,null,null,null,null,null,null,null,null,null,null,{"$f":"+IF(AW23=\"\",\"\",MAX(AV$1:AV22)+1)","v":""},{"$f":"IF(Compliance_Options!B45=\"\",\"\",Compliance_Options!B45)","v":""},{"$f":"IF(Compliance_Options!C45=\"\",\"\",Compliance_Options!C45)","v":""},{"$f":"IF(Compliance_Options!D45=\"\",\"\",Compliance_Options!D45)","v":""},{"$f":"IF(Compliance_Options!E45=\"\",\"\",Compliance_Options!E45)","v":""},{"$f":"IF(Compliance_Options!F45=\"\",\"\",Compliance_Options!F45)","v":""},"    ",{"$f":"IF(COUNTIF(BB$2:BB23,BB23)=1,BB23,\"\")","v":""},"","","","","","","",{"$f":"+IF(BJ23=\"\",\"\",MAX(BK$1:BK22)+1)","v":""},"","","","","","","",{"$f":"+IF(BR23=\"\",\"\",MAX(BS$1:BS22)+1)","v":""},"","","","","","","",{"$f":"+IF(BZ23=\"\",\"\",MAX(CA$1:CA22)+1)","v":""},"","","","","","","",{"$f":"+IF(CH23=\"\",\"\",MAX(CI$1:CI22)+1)","v":""},"","","","","",null,{"$f":"+IF(CQ23=\"\",\"\",MAX(CP$1:CP22)+1)","v":""},{"$f":"IF(Compliance_Options!B45=\"\",\"\",Compliance_Options!B45)","v":""},{"$f":"IF(Compliance_Options!C45=\"\",\"\",Compliance_Options!C45)","v":""},{"$f":"IF(Compliance_Options!D45=\"\",\"\",Compliance_Options!D45)","v":""},"  ",{"$f":"IF(COUNTIF(CT$2:CT23,CT23)=1,CT23,\"\")","v":""},"","","",""]
[{"$f":"+IF(B24=\"\",\"\",MAX(A$20:A23)+1)","v":""},{"$f":"IF(Company_Information!Q27=\"Yes\",Company_Information!B27,\"\")","v":""},"",{"$f":"IF(COUNTIF(B24:B$221,B24)=1,B24,\"\")","v":""},null,{"$f":"+IF(I24=\"\",\"\",MAX(F$1:F23)+1)","v":""},{"$f":"IF(Compliance_Options!C46=\"\",\"\",Compliance_Options!C46)","v":""},"",{"$f":"IF(COUNTIF(G$2:G24,G24)=1,G24,\"\")","v":""},null,null,null,null,null,null,null,null,null,null,null,null,"MD",null,null,null,null,null,null,null,null,null,null,null,null,null,null,null,null,null,null,null,null,null,null,null,null,null,{"$f":"+IF(AW24=\"\",\"\",MAX(AV$1:AV23)+1)","v":""},{"$f":"IF(Compliance_Options!B46=\"\",\"\",Compliance_Options!B46)","v":""},{"$f":"IF(Compliance_Options!C46=\"\",\"\",Compliance_Options!C46)","v":""},{"$f":"IF(Compliance_Options!D46=\"\",\"\",Compliance_Options!D46)","v":""},{"$f":"IF(Compliance_Options!E46=\"\",\"\",Compliance_Options!E46)","v":""},{"$f":"IF(Compliance_Options!F46=\"\",\"\",Compliance_Options!F46)","v":""},"    ",{"$f":"IF(COUNTIF(BB$2:BB24,BB24)=1,BB24,\"\")","v":""},"","","","","","","",{"$f":"+IF(BJ24=\"\",\"\",MAX(BK$1:BK23)+1)","v":""},"","","","","","","",{"$f":"+IF(BR24=\"\",\"\",MAX(BS$1:BS23)+1)","v":""},"","","","","","","",{"$f":"+IF(BZ24=\"\",\"\",MAX(CA$1:CA23)+1)","v":""},"","","","","","","",{"$f":"+IF(CH24=\"\",\"\",MAX(CI$1:CI23)+1)","v":""},"","","","","",null,{"$f":"+IF(CQ24=\"\",\"\",MAX(CP$1:CP23)+1)","v":""},{"$f":"IF(Compliance_Options!B46=\"\",\"\",Compliance_Options!B46)","v":""},{"$f":"IF(Compliance_Options!C46=\"\",\"\",Compliance_Options!C46)","v":""},{"$f":"IF(Compliance_Options!D46=\"\",\"\",Compliance_Options!D46)","v":""},"  ",{"$f":"IF(COUNTIF(CT$2:CT24,CT24)=1,CT24,\"\")","v":""},"","","",""]
[{"$f":"+IF(B25=\"\",\"\",MAX(A$20:A24)+1)","v":""},{"$f":"IF(Company_Information!Q28=\"Yes\",Company_Information!B28,\"\")","v":""},"",{"$f":"IF(COUNTIF(B25:B$221,B25)=1,B25,\"\")","v":""},null,{"$f":"+IF(I25=\"\",\"\",MAX(F$1:F24)+1)","v":""},{"$f":"IF(Compliance_Options!C47=\"\",\"\",Compliance_Options!C47)","v":""},"",{"$f":"IF(COUNTIF(G$2:G25,G25)=1,G25,\"\")","v":""},null,null,null,null,null,null,null,null,"Operating Limits",null,null,null,"ME",null,null,null,null,null,null,null,null,null,null,null,null,null,null,null,null,null,null,null,null,null,null,null,null,null,{"$f":"+IF(AW25=\"\",\"\",MAX(AV$1:AV24)+1)","v":""},{"$f":"IF(Compliance_Options!B47=\"\",\"\",Compliance_Options!B47)","v":""},{"$f":"IF(Compliance_Options!C47=\"\",\"\",Compliance_Options!C47)","v":""},{"$f":"IF(Compliance_Options!D47=\"\",\"\",Compliance_Options!D47)","v":""},{"$f":"IF(Compliance_Options!E47=\"\",\"\",Compliance_Options!E47)","v":""},{"$f":"IF(Compliance_Options!F47=\"\",\"\",Compliance_Options!F47)","v":""},"    ",{"$f":"IF(COUNTIF(BB$2:BB25,BB25)=1,BB25,\"\")","v":""},"","","","","","","",{"$f":"+IF(BJ25=\"\",\"\",MAX(BK$1:BK24)+1)","v":""},"","","","","","","",{"$f":"+IF(BR25=\"\",\"\",MAX(BS$1:BS24)+1)","v":""},"","","","","","","",{"$f":"+IF(BZ25=\"\",\"\",MAX(CA$1:CA24)+1)","v":""},"","","","","","","",{"$f":"+IF(CH25=\"\",\"\",MAX(CI$1:CI24)+1)","v":""},"","","","","",null,{"$f":"+IF(CQ25=\"\",\"\",MAX(CP$1:CP24)+1)","v":""},{"$f":"IF(Compliance_Options!B47=\"\",\"\",Compliance_Options!B47)","v":""},{"$f":"IF(Compliance_Options!C47=\"\",\"\",Compliance_Options!C47)","v":""},{"$f":"IF(Compliance_Options!D47=\"\",\"\",Compliance_Options!D47)","v":""},"  ",{"$f":"IF(COUNTIF(CT$2:CT25,CT25)=1,CT25,\"\")","v":""},"","","",""]
[{"$f":"+IF(B26=\"\",\"\",MAX(A$20:A25)+1)","v":""},{"$f":"IF(Company_Information!Q29=\"Yes\",Company_Information!B29,\"\")","v":""},"",{"$f":"IF(COUNTIF(B26:B$221,B26)=1,B26,\"\")","v":""},null,{"$f":"+IF(I26=\"\",\"\",MAX(F$1:F25)+1)","v":""},{"$f":"IF(Compliance_Options!C48=\"\",\"\",Compliance_Options!C48)","v":""},"",{"$f":"IF(COUNTIF(G$2:G26,G26)=1,G26,\"\")","v":""},null,null,null,null,null,null,null,null,"Bypass of Control Device",null,null,null,"MI",null,10,null,null,null,null,null,null,null,null,null,null,null,null,null,null,null,null,null,null,null,null,null,null,null,{"$f":"+IF(AW26=\"\",\"\",MAX(AV$1:AV25)+1)","v":""},{"$f":"IF(Compliance_Options!B48=\"\",\"\",Compliance_Options!B48)","v":""},{"$f":"IF(Compliance_Options!C48=\"\",\"\",Compliance_Options!C48)","v":""},{"$f":"IF(Compliance_Options!D48=\"\",\"\",Compliance_Options!D48)","v":""},{"$f":"IF(Compliance_Options!E48=\"\",\"\",Compliance_Options!E48)","v":""},{"$f":"IF(Compliance_Options!F48=\"\",\"\",Compliance_Options!F48)","v":""},"    ",{"$f":"IF(COUNTIF(BB$2:BB26,BB26)=1,BB26,\"\")","v":""},"","","","","","","",{"$f":"+IF(BJ26=\"\",\"\",MAX(BK$1:BK25)+1)","v":""},"","","","","","","",{"$f":"+IF(BR26=\"\",\"\",MAX(BS$1:BS25)+1)","v":""},"","","","","","","",{"$f":"+IF(BZ26=\"\",\"\",MAX(CA$1:CA25)+1)","v":""},"","","","","","","",{"$f":"+IF(CH26=\"\",\"\",MAX(CI$1:CI25)+1)","v":""},"","","","","",null,{"$f":"+IF(CQ26=\"\",\"\",MAX(CP$1:CP25)+1)","v":""},{"$f":"IF(Compliance_Options!B48=\"\",\"\",Compliance_Options!B48)","v":""},{"$f":"IF(Compliance_Options!C48=\"\",\"\",Compliance_Options!C48)","v":""},{"$f":"IF(Compliance_Options!D48=\"\",\"\",Compliance_Options!D48)","v":""},"  ",{"$f":"IF(COUNTIF(CT$2:CT26,CT26)=1,CT26,\"\")","v":""},"","","",""]
[{"$f":"+IF(B27=\"\",\"\",MAX(A$20:A26)+1)","v":""},{"$f":"IF(Company_Information!Q30=\"Yes\",Company_Information!B30,\"\")","v":""},"",{"$f":"IF(COUNTIF(B27:B$221,B27)=1,B27,\"\")","v":""},null,{"$f":"+IF(I27=\"\",\"\",MAX(F$1:F26)+1)","v":""},{"$f":"IF(Compliance_Options!C49=\"\",\"\",Compliance_Options!C49)","v":""},"",{"$f":"IF(COUNTIF(G$2:G27,G27)=1,G27,\"\")","v":""},null,null,null,null,null,null,null,null,"Combustion Temperature",null,null,null,"MN",null,null,null,null,null,null,null,null,null,null,null,null,null,null,null,null,null,null,null,null,null,null,null,null,null,{"$f":"+IF(AW27=\"\",\"\",MAX(AV$1:AV26)+1)","v":""},{"$f":"IF(Compliance_Options!B49=\"\",\"\",Compliance_Options!B49)","v":""},{"$f":"IF(Compliance_Options!C49=\"\",\"\",Compliance_Options!C49)","v":""},{"$f":"IF(Compliance_Options!D49=\"\",\"\",Compliance_Options!D49)","v":""},{"$f":"IF(Compliance_Options!E49=\"\",\"\",Compliance_Options!E49)","v":""},{"$f":"IF(Compliance_Options!F49=\"\",\"\",Compliance_Options!F49)","v":""},"    ",{"$f":"IF(COUNTIF(BB$2:BB27,BB27)=1,BB27,\"\")","v":""},"","","","","","","",{"$f":"+IF(BJ27=\"\",\"\",MAX(BK$1:BK26)+1)","v":""},"","","","","","","",{"$f":"+IF(BR27=\"\",\"\",MAX(BS$1:BS26)+1)","v":""},"","","","","","","",{"$f":"+IF(BZ27=\"\",\"\",MAX(CA$1:CA26)+1)","v":""},"","","","","","","",{"$f":"+IF(CH27=\"\",\"\",MAX(CI$1:CI26)+1)","v":""},"","","","","",null,{"$f":"+IF(CQ27=\"\",\"\",MAX(CP$1:CP26)+1)","v":""},{"$f":"IF(Compliance_Options!B49=\"\",\"\",Compliance_Options!B49)","v":""},{"$f":"IF(Compliance_Options!C49=\"\",\"\",Compliance_Options!C49)","v":""},{"$f":"IF(Compliance_Options!D49=\"\",\"\",Compliance_Options!D49)","v":""},"  ",{"$f":"IF(COUNTIF(CT$2:CT27,CT27)=1,CT27,\"\")","v":""},"","","",""]
[{"$f":"+IF(B28=\"\",\"\",MAX(A$20:A27)+1)","v":""},{"$f":"IF(Company_Information!Q31=\"Yes\",Company_Information!B31,\"\")","v":""},"",{"$f":"IF(COUNTIF(B28:B$221,B28)=1,B28,\"\")","v":""},null,{"$f":"+IF(I28=\"\",\"\",MAX(F$1:F27)+1)","v":""},{"$f":"IF(Compliance_Options!C50=\"\",\"\",Compliance_Options!C50)","v":""},"",{"$f":"IF(COUNTIF(G$2:G28,G28)=1,G28,\"\")","v":""},null,null,null,null,null,null,null,null,"Inlet to Catalyst Bed Temperature",null,null,null,"MO",null,{"$f":"+SUBSTITUTE(X$1,\" \", \"\")&SUBSTITUTE(LEFT(X2,$X$26),\" \",\"\")","v":"TireProductionOption1—H"},{"$f":"+SUBSTITUTE(Y$1,\" \", \"\")&SUBSTITUTE(LEFT(Y2,$X$26),\" \",\"\")","v":"TireCordProductionOption1.a"},{"$f":"+SUBSTITUTE(Z$1,\" \", \"\")&SUBSTITUTE(LEFT(Z2,$X$26),\" \",\"\")","v":"PunctureSealantApplicationOption1.a"},{"$f":"+SUBSTITUTE(AA$1,\" \", \"\")&SUBSTITUTE(LEFT(AA2,$X$26),\" \",\"\")","v":"RubberProcessingThereare"},null,null,null,null,null,null,null,null,null,null,null,null,null,null,null,null,null,null,null,null,{"$f":"+IF(AW28=\"\",\"\",MAX(AV$1:AV27)+1)","v":""},{"$f":"IF(Compliance_Options!B50=\"\",\"\",Compliance_Options!B50)","v":""},{"$f":"IF(Compliance_Options!C50=\"\",\"\",Compliance_Options!C50)","v":""},{"$f":"IF(Compliance_Options!D50=\"\",\"\",Compliance_Options!D50)","v":""},{"$f":"IF(Compliance_Options!E50=\"\",\"\",Compliance_Options!E50)","v":""},{"$f":"IF(Compliance_Options!F50=\"\",\"\",Compliance_Options!F50)","v":""},"    ",{"$f":"IF(COUNTIF(BB$2:BB28,BB28)=1,BB28,\"\")","v":""},"","","","","","","",{"$f":"+IF(BJ28=\"\",\"\",MAX(BK$1:BK27)+1)","v":""},"","","","","","","",{"$f":"+IF(BR28=\"\",\"\",MAX(BS$1:BS27)+1)","v":""},"","","","","","","",{"$f":"+IF(BZ28=\"\",\"\",MAX(CA$1:CA27)+1)","v":""},"","","","","","","",{"$f":"+IF(CH28=\"\",\"\",MAX(CI$1:CI27)+1)","v":""},"","","","","",null,{"$f":"+IF(CQ28=\"\",\"\",MAX(CP$1:CP27)+1)","v":""},{"$f":"IF(Compliance_Options!B50=\"\",\"\",Compliance_Options!B50)","v":""},{"$f":"IF(Compliance_Options!C50=\"\",\"\",Compliance_Options!C50)","v":""},{"$f":"IF(Compliance_Options!D50=\"\",\"\",Compliance_Options!D50)","v":""},"  ",{"$f":"IF(COUNTIF(CT$2:CT28,CT28)=1,CT28,\"\")","v":""},"","","",""]
[{"$f":"+IF(B29=\"\",\"\",MAX(A$20:A28)+1)","v":""},{"$f":"IF(Company_Information!Q32=\"Yes\",Company_Information!B32,\"\")","v":""},"",{"$f":"IF(COUNTIF(B29:B$221,B29)=1,B29,\"\")","v":""},null,{"$f":"+IF(I29=\"\",\"\",MAX(F$1:F28)+1)","v":""},{"$f":"IF(Compliance_Options!C51=\"\",\"\",Compliance_Options!C51)","v":""},"",{"$f":"IF(COUNTIF(G$2:G29,G29)=1,G29,\"\")","v":""},null,null,null,null,null,null,null,null,"Temperature Difference Across Catalyst Bed",null,null,null,"MP",null,{"$f":"+SUBSTITUTE(X$1,\" \", \"\")&SUBSTITUTE(LEFT(X3,$X$26),\" \",\"\")","v":"TireProductionOption2—p"},"TireCordProductionOption1.b","PunctureSealantApplicationOption1.b",null,null,null,null,null,null,null,null,null,null,null,null,null,null,null,null,null,null,null,null,null,{"$f":"+IF(AW29=\"\",\"\",MAX(AV$1:AV28)+1)","v":""},{"$f":"IF(Compliance_Options!B51=\"\",\"\",Compliance_Options!B51)","v":""},{"$f":"IF(Compliance_Options!C51=\"\",\"\",Compliance_Options!C51)","v":""},{"$f":"IF(Compliance_Options!D51=\"\",\"\",Compliance_Options!D51)","v":""},{"$f":"IF(Compliance_Options!E51=\"\",\"\",Compliance_Options!E51)","v":""},{"$f":"IF(Compliance_Options!F51=\"\",\"\",Compliance_Options!F51)","v":""},"    ",{"$f":"IF(COUNTIF(BB$2:BB29,BB29)=1,BB29,\"\")","v":""},"","","","","","","",{"$f":"+IF(BJ29=\"\",\"\",MAX(BK$1:BK28)+1)","v":""},"","","","","","","",{"$f":"+IF(BR29=\"\",\"\",MAX(BS$1:BS28)+1)","v":""},"","","","","","","",{"$f":"+IF(BZ29=\"\",\"\",MAX(CA$1:CA28)+1)","v":""},"","","","","","","",{"$f":"+IF(CH29=\"\",\"\",MAX(CI$1:CI28)+1)","v":""},"","","","","",null,{"$f":"+IF(CQ29=\"\",\"\",MAX(CP$1:CP28)+1)","v":""},{"$f":"IF(Compliance_Options!B51=\"\",\"\",Compliance_Options!B51)","v":""},{"$f":"IF(Compliance_Options!C51=\"\",\"\",Compliance_Options!C51)","v":""},{"$f":"IF(Compliance_Options!D51=\"\",\"\",Compliance_Options!D51)","v":""},"  ",{"$f":"IF(COUNTIF(CT$2:CT29,CT29)=1,CT29,\"\")","v":""},"","","",""]
[{"$f":"+IF(B30=\"\",\"\",MAX(A$20:A29)+1)","v":""},{"$f":"IF(Company_Information!Q33=\"Yes\",Company_Information!B33,\"\")","v":""},"",{"$f":"IF(COUNTIF(B30:B$221,B30)=1,B30,\"\")","v":""},null,{"$f":"+IF(I30=\"\",\"\",MAX(F$1:F29)+1)","v":""},{"$f":"IF(Compliance_Options!C52=\"\",\"\",Compliance_Options!C52)","v":""},"",{"$f":"IF(COUNTIF(G$2:G30,G30)=1,G30,\"\")","v":""},null,null,null,null,null,null,null,null,"Inspection and Maintenance Plan",null,null,null,"MS",null,"TireProduction","TireCordProductionOption2(","PunctureSealantApplicationOption2(",null,null,null,null,null,null,null,null,null,null,null,null,null,null,null,null,null,null,null,null,null,{"$f":"+IF(AW30=\"\",\"\",MAX(AV$1:AV29)+1)","v":""},{"$f":"IF(Compliance_Options!B52=\"\",\"\",Compliance_Options!B52)","v":""},{"$f":"IF(Compliance_Options!C52=\"\",\"\",Compliance_Options!C52)","v":""},{"$f":"IF(Compliance_Options!D52=\"\",\"\",Compliance_Options!D52)","v":""},{"$f":"IF(Compliance_Options!E52=\"\",\"\",Compliance_Options!E52)","v":""},{"$f":"IF(Compliance_Options!F52=\"\",\"\",Compliance_Options!F52)","v":""},"    ",{"$f":"IF(COUNTIF(BB$2:BB30,BB30)=1,BB30,\"\")","v":""},"","","","","","","",{"$f":"+IF(BJ30=\"\",\"\",MAX(BK$1:BK29)+1)","v":""},"","","","","","","",{"$f":"+IF(BR30=\"\",\"\",MAX(BS$1:BS29)+1)","v":""},"","","","","","","",{"$f":"+IF(BZ30=\"\",\"\",MAX(CA$1:CA29)+1)","v":""},"","","","","","","",{"$f":"+IF(CH30=\"\",\"\",MAX(CI$1:CI29)+1)","v":""},"","","","","",null,{"$f":"+IF(CQ30=\"\",\"\",MAX(CP$1:CP29)+1)","v":""},{"$f":"IF(Compliance_Options!B52=\"\",\"\",Compliance_Options!B52)","v":""},{"$f":"IF(Compliance_Options!C52=\"\",\"\",Compliance_Options!C52)","v":""},{"$f":"IF(Compliance_Options!D52=\"\",\"\",Compliance_Options!D52)","v":""},"  ",{"$f":"IF(COUNTIF(CT$2:CT30,CT30)=1,CT30,\"\")","v":""},"","","",""]
[null,null,null,null,null,{"$f":"+IF(I31=\"\",\"\",MAX(F$1:F30)+1)","v":""},{"$f":"IF(Compliance_Options!C53=\"\",\"\",Compliance_Options!C53)","v":""},"",{"$f":"IF(COUNTIF(G$2:G31,G31)=1,G31,\"\")","v":""},null,null,null,null,null,null,null,null,"Regeneration Desorbing Gas Flow",null,null,null,"MT",null,"TireProduction","TireCordProduction","PunctureSealantApplication",null,null,null,null,null,null,null,null,null,null,null,null,null,null,null,null,null,null,null,null,null,{"$f":"+IF(AW31=\"\",\"\",MAX(AV$1:AV30)+1)","v":""},{"$f":"IF(Compliance_Options!B53=\"\",\"\",Compliance_Options!B53)","v":""},{"$f":"IF(Compliance_Options!C53=\"\",\"\",Compliance_Options!C53)","v":""},{"$f":"IF(Compliance_Options!D53=\"\",\"\",Compliance_Options!D53)","v":""},{"$f":"IF(Compliance_Options!E53=\"\",\"\",Compliance_Options!E53)","v":""},{"$f":"IF(Compliance_Options!F53=\"\",\"\",Compliance_Options!F53)","v":""},"    ",{"$f":"IF(COUNTIF(BB$2:BB31,BB31)=1,BB31,\"\")","v":""},"","","","","","","",{"$f":"+IF(BJ31=\"\",\"\",MAX(BK$1:BK30)+1)","v":""},"","","","","","","",{"$f":"+IF(BR31=\"\",\"\",MAX(BS$1:BS30)+1)","v":""},"","","","","","","",{"$f":"+IF(BZ31=\"\",\"\",MAX(CA$1:CA30)+1)","v":""},"","","","","","","",{"$f":"+IF(CH31=\"\",\"\",MAX(CI$1:CI30)+1)","v":""},"","","","","",null,{"$f":"+IF(CQ31=\"\",\"\",MAX(CP$1:CP30)+1)","v":""},{"$f":"IF(Compliance_Options!B53=\"\",\"\",Compliance_Options!B53)","v":""},{"$f":"IF(Compliance_Options!C53=\"\",\"\",Compliance_Options!C53)","v":""},{"$f":"IF(Compliance_Options!D53=\"\",\"\",Compliance_Options!D53)","v":""},"  ",{"$f":"IF(COUNTIF(CT$2:CT31,CT31)=1,CT31,\"\")","v":""},"","","",""]
[null,null,null,null,null,{"$f":"+IF(I32=\"\",\"\",MAX(F$1:F31)+1)","v":""},{"$f":"IF(Compliance_Options!C54=\"\",\"\",Compliance_Options!C54)","v":""},"",{"$f":"IF(COUNTIF(G$2:G32,G32)=1,G32,\"\")","v":""},null,null,null,null,null,null,null,null,"Carbon Bed Temperature",null,null,null,"NC",null,"TireProduction","TireCordProduction","PunctureSealantApplication",null,null,null,null,null,null,null,null,null,null,null,null,null,null,null,null,null,null,null,null,null,{"$f":"+IF(AW32=\"\",\"\",MAX(AV$1:AV31)+1)","v":""},{"$f":"IF(Compliance_Options!B54=\"\",\"\",Compliance_Options!B54)","v":""},{"$f":"IF(Compliance_Options!C54=\"\",\"\",Compliance_Options!C54)","v":""},{"$f":"IF(Compliance_Options!D54=\"\",\"\",Compliance_Options!D54)","v":""},{"$f":"IF(Compliance_Options!E54=\"\",\"\",Compliance_Options!E54)","v":""},{"$f":"IF(Compliance_Options!F54=\"\",\"\",Compliance_Options!F54)","v":""},"    ",{"$f":"IF(COUNTIF(BB$2:BB32,BB32)=1,BB32,\"\")","v":""},"","","","","","","",{"$f":"+IF(BJ32=\"\",\"\",MAX(BK$1:BK31)+1)","v":""},"","","","","","","",{"$f":"+IF(BR32=\"\",\"\",MAX(BS$1:BS31)+1)","v":""},"","","","","","","",{"$f":"+IF(BZ32=\"\",\"\",MAX(CA$1:CA31)+1)","v":""},"","","","","","","",{"$f":"+IF(CH32=\"\",\"\",MAX(CI$1:CI31)+1)","v":""},"","","","","",null,{"$f":"+IF(CQ32=\"\",\"\",MAX(CP$1:CP31)+1)","v":""},{"$f":"IF(Compliance_Options!B54=\"\",\"\",Compliance_Options!B54)","v":""},{"$f":"IF(Compliance_Options!C54=\"\",\"\",Compliance_Options!C54)","v":""},{"$f":"IF(Compliance_Options!D54=\"\",\"\",Compliance_Options!D54)","v":""},"  ",{"$f":"IF(COUNTIF(CT$2:CT32,CT32)=1,CT32,\"\")","v":""},"","","",""]
[null,null,null,null,null,{"$f":"+IF(I33=\"\",\"\",MAX(F$1:F32)+1)","v":""},{"$f":"IF(Compliance_Options!C55=\"\",\"\",Compliance_Options!C55)","v":""},"",{"$f":"IF(COUNTIF(G$2:G33,G33)=1,G33,\"\")","v":""},null,null,null,null,null,null,null,null,"Condenser Outlet Temperature",null,null,null,"ND",null,null,null,"PunctureSealantApplication",null,null,null,null,null,null,null,null,null,null,null,null,null,null,null,null,null,null,null,null,null,{"$f":"+IF(AW33=\"\",\"\",MAX(AV$1:AV32)+1)","v":""},{"$f":"IF(Compliance_Options!B55=\"\",\"\",Compliance_Options!B55)","v":""},{"$f":"IF(Compliance_Options!C55=\"\",\"\",Compliance_Options!C55)","v":""},{"$f":"IF(Compliance_Options!D55=\"\",\"\",Compliance_Options!D55)","v":""},{"$f":"IF(Compliance_Options!E55=\"\",\"\",Compliance_Options!E55)","v":""},{"$f":"IF(Compliance_Options!F55=\"\",\"\",Compliance_Options!F55)","v":""},"    ",{"$f":"IF(COUNTIF(BB$2:BB33,BB33)=1,BB33,\"\")","v":""},"","","","","","","",{"$f":"+IF(BJ33=\"\",\"\",MAX(BK$1:BK32)+1)","v":""},"","","","","","","",{"$f":"+IF(BR33=\"\",\"\",MAX(BS$1:BS32)+1)","v":""},"","","","","","","",{"$f":"+IF(BZ33=\"\",\"\",MAX(CA$1:CA32)+1)","v":""},"","","","","","","",{"$f":"+IF(CH33=\"\",\"\",MAX(CI$1:CI32)+1)","v":""},"","","","","",null,{"$f":"+IF(CQ33=\"\",\"\",MAX(CP$1:CP32)+1)","v":""},{"$f":"IF(Compliance_Options!B55=\"\",\"\",Compliance_Options!B55)","v":""},{"$f":"IF(Compliance_Options!C55=\"\",\"\",Compliance_Options!C55)","v":""},{"$f":"IF(Compliance_Options!D55=\"\",\"\",Compliance_Options!D55)","v":""},"  ",{"$f":"IF(COUNTIF(CT$2:CT33,CT33)=1,CT33,\"\")","v":""},"","","",""]
[null,null,null,null,null,{"$f":"+IF(I34=\"\",\"\",MAX(F$1:F33)+1)","v":""},{"$f":"IF(Compliance_Options!C56=\"\",\"\",Compliance_Options!C56)","v":""},"",{"$f":"IF(COUNTIF(G$2:G34,G34)=1,G34,\"\")","v":""},null,null,null,null,null,null,null,null,"PTE Air Flow Direction",null,null,null,"NE",null,null,null,"PunctureSealantApplication",null,null,null,null,null,null,null,null,null,null,null,null,null,null,null,null,null,null,null,null,null,{"$f":"+IF(AW34=\"\",\"\",MAX(AV$1:AV33)+1)","v":""},{"$f":"IF(Compliance_Options!B56=\"\",\"\",Compliance_Options!B56)","v":""},{"$f":"IF(Compliance_Options!C56=\"\",\"\",Compliance_Options!C56)","v":""},{"$f":"IF(Compliance_Options!D56=\"\",\"\",Compliance_Options!D56)","v":""},{"$f":"IF(Compliance_Options!E56=\"\",\"\",Compliance_Options!E56)","v":""},{"$f":"IF(Compliance_Options!F56=\"\",\"\",Compliance_Options!F56)","v":""},"    ",{"$f":"IF(COUNTIF(BB$2:BB34,BB34)=1,BB34,\"\")","v":""},"","","","","","","",{"$f":"+IF(BJ34=\"\",\"\",MAX(BK$1:BK33)+1)","v":""},"","","","","","","",{"$f":"+IF(BR34=\"\",\"\",MAX(BS$1:BS33)+1)","v":""},"","","","","","","",{"$f":"+IF(BZ34=\"\",\"\",MAX(CA$1:CA33)+1)","v":""},"","","","","","","",{"$f":"+IF(CH34=\"\",\"\",MAX(CI$1:CI33)+1)","v":""},"","","","","",null,{"$f":"+IF(CQ34=\"\",\"\",MAX(CP$1:CP33)+1)","v":""},{"$f":"IF(Compliance_Options!B56=\"\",\"\",Compliance_Options!B56)","v":""},{"$f":"IF(Compliance_Options!C56=\"\",\"\",Compliance_Options!C56)","v":""},{"$f":"IF(Compliance_Options!D56=\"\",\"\",Compliance_Options!D56)","v":""},"  ",{"$f":"IF(COUNTIF(CT$2:CT34,CT34)=1,CT34,\"\")","v":""},"","","",""]
[null,null,null,null,null,{"$f":"+IF(I35=\"\",\"\",MAX(F$1:F34)+1)","v":""},{"$f":"IF(Compliance_Options!C57=\"\",\"\",Compliance_Options!C57)","v":""},"",{"$f":"IF(COUNTIF(G$2:G35,G35)=1,G35,\"\")","v":""},null,null,null,null,null,null,null,null,"PTE Facial Velocity",null,null,null,"NH",null,null,null,"PunctureSealantApplication",null,null,null,null,null,null,null,null,null,null,null,null,null,null,null,null,null,null,null,null,null,{"$f":"+IF(AW35=\"\",\"\",MAX(AV$1:AV34)+1)","v":""},{"$f":"IF(Compliance_Options!B57=\"\",\"\",Compliance_Options!B57)","v":""},{"$f":"IF(Compliance_Options!C57=\"\",\"\",Compliance_Options!C57)","v":""},{"$f":"IF(Compliance_Options!D57=\"\",\"\",Compliance_Options!D57)","v":""},{"$f":"IF(Compliance_Options!E57=\"\",\"\",Compliance_Options!E57)","v":""},{"$f":"IF(Compliance_Options!F57=\"\",\"\",Compliance_Options!F57)","v":""},"    ",{"$f":"IF(COUNTIF(BB$2:BB35,BB35)=1,BB35,\"\")","v":""},"","","","","","","",{"$f":"+IF(BJ35=\"\",\"\",MAX(BK$1:BK34)+1)","v":""},"","","","","","","",{"$f":"+IF(BR35=\"\",\"\",MAX(BS$1:BS34)+1)","v":""},"","","","","","","",{"$f":"+IF(BZ35=\"\",\"\",MAX(CA$1:CA34)+1)","v":""},"","","","","","","",{"$f":"+IF(CH35=\"\",\"\",MAX(CI$1:CI34)+1)","v":""},"","","","","",null,{"$f":"+IF(CQ35=\"\",\"\",MAX(CP$1:CP34)+1)","v":""},{"$f":"IF(Compliance_Options!B57=\"\",\"\",Compliance_Options!B57)","v":""},{"$f":"IF(Compliance_Options!C57=\"\",\"\",Compliance_Options!C57)","v":""},{"$f":"IF(Compliance_Options!D57=\"\",\"\",Compliance_Options!D57)","v":""},"  ",{"$f":"IF(COUNTIF(CT$2:CT35,CT35)=1,CT35,\"\")","v":""},"","","",""]
[null,null,null,null,null,{"$f":"+IF(I36=\"\",\"\",MAX(F$1:F35)+1)","v":""},{"$f":"IF(Compliance_Options!C58=\"\",\"\",Compliance_Options!C58)","v":""},"",{"$f":"IF(COUNTIF(G$2:G36,G36)=1,G36,\"\")","v":""},null,null,null,null,null,null,null,null,"PTE Pressure Drop Across Enclosure",null,null,null,"NJ",null,null,null,null,null,null,null,null,null,null,null,null,null,null,null,null,null,null,null,null,null,null,null,null,null,{"$f":"+IF(AW36=\"\",\"\",MAX(AV$1:AV35)+1)","v":""},{"$f":"IF(Compliance_Options!B58=\"\",\"\",Compliance_Options!B58)","v":""},{"$f":"IF(Compliance_Options!C58=\"\",\"\",Compliance_Options!C58)","v":""},{"$f":"IF(Compliance_Options!D58=\"\",\"\",Compliance_Options!D58)","v":""},{"$f":"IF(Compliance_Options!E58=\"\",\"\",Compliance_Options!E58)","v":""},{"$f":"IF(Compliance_Options!F58=\"\",\"\",Compliance_Options!F58)","v":""},"    ",{"$f":"IF(COUNTIF(BB$2:BB36,BB36)=1,BB36,\"\")","v":""},"","","","","","","",{"$f":"+IF(BJ36=\"\",\"\",MAX(BK$1:BK35)+1)","v":""},"","","","","","","",{"$f":"+IF(BR36=\"\",\"\",MAX(BS$1:BS35)+1)","v":""},"","","","","","","",{"$f":"+IF(BZ36=\"\",\"\",MAX(CA$1:CA35)+1)","v":""},"","","","","","","",{"$f":"+IF(CH36=\"\",\"\",MAX(CI$1:CI35)+1)","v":""},"","","","","",null,{"$f":"+IF(CQ36=\"\",\"\",MAX(CP$1:CP35)+1)","v":""},{"$f":"IF(Compliance_Options!B58=\"\",\"\",Compliance_Options!B58)","v":""},{"$f":"IF(Compliance_Options!C58=\"\",\"\",Compliance_Options!C58)","v":""},{"$f":"IF(Compliance_Options!D58=\"\",\"\",Compliance_Options!D58)","v":""},"  ",{"$f":"IF(COUNTIF(CT$2:CT36,CT36)=1,CT36,\"\")","v":""},"","","",""]
[null,null,null,null,null,{"$f":"+IF(I37=\"\",\"\",MAX(F$1:F36)+1)","v":""},{"$f":"IF(Compliance_Options!C59=\"\",\"\",Compliance_Options!C59)","v":""},"",{"$f":"IF(COUNTIF(G$2:G37,G37)=1,G37,\"\")","v":""},null,null,null,null,null,null,null,null,"Non-PTE Gas Flow Rate",null,null,null,"NM",null,null,null,null,null,null,null,null,null,null,null,null,null,null,null,null,null,null,null,null,null,null,null,null,null,{"$f":"+IF(AW37=\"\",\"\",MAX(AV$1:AV36)+1)","v":""},{"$f":"IF(Compliance_Options!B59=\"\",\"\",Compliance_Options!B59)","v":""},{"$f":"IF(Compliance_Options!C59=\"\",\"\",Compliance_Options!C59)","v":""},{"$f":"IF(Compliance_Options!D59=\"\",\"\",Compliance_Options!D59)","v":""},{"$f":"IF(Compliance_Options!E59=\"\",\"\",Compliance_Options!E59)","v":""},{"$f":"IF(Compliance_Options!F59=\"\",\"\",Compliance_Options!F59)","v":""},"    ",{"$f":"IF(COUNTIF(BB$2:BB37,BB37)=1,BB37,\"\")","v":""},"","","","","","","",{"$f":"+IF(BJ37=\"\",\"\",MAX(BK$1:BK36)+1)","v":""},"","","","","","","",{"$f":"+IF(BR37=\"\",\"\",MAX(BS$1:BS36)+1)","v":""},"","","","","","","",{"$f":"+IF(BZ37=\"\",\"\",MAX(CA$1:CA36)+1)","v":""},"","","","","","","",{"$f":"+IF(CH37=\"\",\"\",MAX(CI$1:CI36)+1)","v":""},"","","","","",null,{"$f":"+IF(CQ37=\"\",\"\",MAX(CP$1:CP36)+1)","v":""},{"$f":"IF(Compliance_Options!B59=\"\",\"\",Compliance_Options!B59)","v":""},{"$f":"IF(Compliance_Options!C59=\"\",\"\",Compliance_Options!C59)","v":""},{"$f":"IF(Compliance_Options!D59=\"\",\"\",Compliance_Options!D59)","v":""},"  ",{"$f":"IF(COUNTIF(CT$2:CT37,CT37)=1,CT37,\"\")","v":""},"","","",""]
[null,null,null,null,null,{"$f":"+IF(I38=\"\",\"\",MAX(F$1:F37)+1)","v":""},{"$f":"IF(Compliance_Options!C60=\"\",\"\",Compliance_Options!C60)","v":""},"",{"$f":"IF(COUNTIF(G$2:G38,G38)=1,G38,\"\")","v":""},null,null,null,null,null,null,null,null,"Non-PTE Duct Static Pressure",null,null,null,"NV",null,null,null,null,null,null,null,null,null,null,null,null,null,null,null,null,null,null,null,null,null,null,null,null,null,{"$f":"+IF(AW38=\"\",\"\",MAX(AV$1:AV37)+1)","v":""},{"$f":"IF(Compliance_Options!B60=\"\",\"\",Compliance_Options!B60)","v":""},{"$f":"IF(Compliance_Options!C60=\"\",\"\",Compliance_Options!C60)","v":""},{"$f":"IF(Compliance_Options!D60=\"\",\"\",Compliance_Options!D60)","v":""},{"$f":"IF(Compliance_Options!E60=\"\",\"\",Compliance_Options!E60)","v":""},{"$f":"IF(Compliance_Options!F60=\"\",\"\",Compliance_Options!F60)","v":""},"    ",{"$f":"IF(COUNTIF(BB$2:BB38,BB38)=1,BB38,\"\")","v":""},"","","","","","","",{"$f":"+IF(BJ38=\"\",\"\",MAX(BK$1:BK37)+1)","v":""},"","","","","","","",{"$f":"+IF(BR38=\"\",\"\",MAX(BS$1:BS37)+1)","v":""},"","","","","","","",{"$f":"+IF(BZ38=\"\",\"\",MAX(CA$1:CA37)+1)","v":""},"","","","","","","",{"$f":"+IF(CH38=\"\",\"\",MAX(CI$1:CI37)+1)","v":""},"","","","","",null,{"$f":"+IF(CQ38=\"\",\"\",MAX(CP$1:CP37)+1)","v":""},{"$f":"IF(Compliance_Options!B60=\"\",\"\",Compliance_Options!B60)","v":""},{"$f":"IF(Compliance_Options!C60=\"\",\"\",Compliance_Options!C60)","v":""},{"$f":"IF(Compliance_Options!D60=\"\",\"\",Compliance_Options!D60)","v":""},"  ",{"$f":"IF(COUNTIF(CT$2:CT38,CT38)=1,CT38,\"\")","v":""},"","","",""]
[null,null,null,null,null,{"$f":"+IF(I39=\"\",\"\",MAX(F$1:F38)+1)","v":""},{"$f":"IF(Compliance_Options!C61=\"\",\"\",Compliance_Options!C61)","v":""},"",{"$f":"IF(COUNTIF(G$2:G39,G39)=1,G39,\"\")","v":""},null,null,null,null,null,null,null,null,"Desorption Concentrate Stream Temperature",null,null,null,"NY",null,"Purchase alternative, Monthly average alternative without using an add-on control device, Monthly average alternative using an add-on control device",null,null,null,null,null,null,null,null,null,null,null,null,null,null,null,null,null,null,null,null,null,null,null,{"$f":"+IF(AW39=\"\",\"\",MAX(AV$1:AV38)+1)","v":""},{"$f":"IF(Compliance_Options!B61=\"\",\"\",Compliance_Options!B61)","v":""},{"$f":"IF(Compliance_Options!C61=\"\",\"\",Compliance_Options!C61)","v":""},{"$f":"IF(Compliance_Options!D61=\"\",\"\",Compliance_Options!D61)","v":""},{"$f":"IF(Compliance_Options!E61=\"\",\"\",Compliance_Options!E61)","v":""},{"$f":"IF(Compliance_Options!F61=\"\",\"\",Compliance_Options!F61)","v":""},"    ",{"$f":"IF(COUNTIF(BB$2:BB39,BB39)=1,BB39,\"\")","v":""},"","","","","","","",{"$f":"+IF(BJ39=\"\",\"\",MAX(BK$1:BK38)+1)","v":""},"","","","","","","",{"$f":"+IF(BR39=\"\",\"\",MAX(BS$1:BS38)+1)","v":""},"","","","","","","",{"$f":"+IF(BZ39=\"\",\"\",MAX(CA$1:CA38)+1)","v":""},"","","","","","","",{"$f":"+IF(CH39=\"\",\"\",MAX(CI$1:CI38)+1)","v":""},"","","","","",null,{"$f":"+IF(CQ39=\"\",\"\",MAX(CP$1:CP38)+1)","v":""},{"$f":"IF(Compliance_Options!B61=\"\",\"\",Compliance_Options!B61)","v":""},{"$f":"IF(Compliance_Options!C61=\"\",\"\",Compliance_Options!C61)","v":""},{"$f":"IF(Compliance_Options!D61=\"\",\"\",Compliance_Options!D61)","v":""},"  ",{"$f":"IF(COUNTIF(CT$2:CT39,CT39)=1,CT39,\"\")","v":""},"","","",""]
[null,null,null,null,null,{"$f":"+IF(I40=\"\",\"\",MAX(F$1:F39)+1)","v":""},{"$f":"IF(Compliance_Options!C62=\"\",\"\",Compliance_Options!C62)","v":""},"",{"$f":"IF(COUNTIF(G$2:G40,G40)=1,G40,\"\")","v":""},null,null,null,null,null,null,null,null,"Pressure Drop Across Concentrator",null,null,null,"OH",null,null,null,null,null,null,null,null,null,null,null,null,null,null,null,null,null,null,null,null,null,null,null,null,null,{"$f":"+IF(AW40=\"\",\"\",MAX(AV$1:AV39)+1)","v":""},{"$f":"IF(Compliance_Options!B62=\"\",\"\",Compliance_Options!B62)","v":""},{"$f":"IF(Compliance_Options!C62=\"\",\"\",Compliance_Options!C62)","v":""},{"$f":"IF(Compliance_Options!D62=\"\",\"\",Compliance_Options!D62)","v":""},{"$f":"IF(Compliance_Options!E62=\"\",\"\",Compliance_Options!E62)","v":""},{"$f":"IF(Compliance_Options!F62=\"\",\"\",Compliance_Options!F62)","v":""},"    ",{"$f":"IF(COUNTIF(BB$2:BB40,BB40)=1,BB40,\"\")","v":""},"","","","","","","",{"$f":"+IF(BJ40=\"\",\"\",MAX(BK$1:BK39)+1)","v":""},"","","","","","","",{"$f":"+IF(BR40=\"\",\"\",MAX(BS$1:BS39)+1)","v":""},"","","","","","","",{"$f":"+IF(BZ40=\"\",\"\",MAX(CA$1:CA39)+1)","v":""},"","","","","","","",{"$f":"+IF(CH40=\"\",\"\",MAX(CI$1:CI39)+1)","v":""},"","","","","",null,{"$f":"+IF(CQ40=\"\",\"\",MAX(CP$1:CP39)+1)","v":""},{"$f":"IF(Compliance_Options!B62=\"\",\"\",Compliance_Options!B62)","v":""},{"$f":"IF(Compliance_Options!C62=\"\",\"\",Compliance_Options!C62)","v":""},{"$f":"IF(Compliance_Options!D62=\"\",\"\",Compliance_Options!D62)","v":""},"  ",{"$f":"IF(COUNTIF(CT$2:CT40,CT40)=1,CT40,\"\")","v":""},"","","",""]
[null,null,null,null,null,{"$f":"+IF(I41=\"\",\"\",MAX(F$1:F40)+1)","v":""},{"$f":"IF(Compliance_Options!C63=\"\",\"\",Compliance_Options!C63)","v":""},"",{"$f":"IF(COUNTIF(G$2:G41,G41)=1,G41,\"\")","v":""},null,null,null,null,null,null,null,null,"Bioreactor Alternative Monitoring",null,null,null,"OK",null,"Tire Production","Tire Cord Production","Puncture Sealant Application","Rubber Processing",null,null,null,null,null,null,null,null,null,null,null,null,null,null,null,null,null,null,null,null,{"$f":"+IF(AW41=\"\",\"\",MAX(AV$1:AV40)+1)","v":""},{"$f":"IF(Compliance_Options!B63=\"\",\"\",Compliance_Options!B63)","v":""},{"$f":"IF(Compliance_Options!C63=\"\",\"\",Compliance_Options!C63)","v":""},{"$f":"IF(Compliance_Options!D63=\"\",\"\",Compliance_Options!D63)","v":""},{"$f":"IF(Compliance_Options!E63=\"\",\"\",Compliance_Options!E63)","v":""},{"$f":"IF(Compliance_Options!F63=\"\",\"\",Compliance_Options!F63)","v":""},"    ",{"$f":"IF(COUNTIF(BB$2:BB41,BB41)=1,BB41,\"\")","v":""},"","","","","","","",{"$f":"+IF(BJ41=\"\",\"\",MAX(BK$1:BK40)+1)","v":""},"","","","","","","",{"$f":"+IF(BR41=\"\",\"\",MAX(BS$1:BS40)+1)","v":""},"","","","","","","",{"$f":"+IF(BZ41=\"\",\"\",MAX(CA$1:CA40)+1)","v":""},"","","","","","","",{"$f":"+IF(CH41=\"\",\"\",MAX(CI$1:CI40)+1)","v":""},"","","","","",null,{"$f":"+IF(CQ41=\"\",\"\",MAX(CP$1:CP40)+1)","v":""},{"$f":"IF(Compliance_Options!B63=\"\",\"\",Compliance_Options!B63)","v":""},{"$f":"IF(Compliance_Options!C63=\"\",\"\",Compliance_Options!C63)","v":""},{"$f":"IF(Compliance_Options!D63=\"\",\"\",Compliance_Options!D63)","v":""},"  ",{"$f":"IF(COUNTIF(CT$2:CT41,CT41)=1,CT41,\"\")","v":""},"","","",""]
[null,null,null,null,null,{"$f":"+IF(I42=\"\",\"\",MAX(F$1:F41)+1)","v":""},{"$f":"IF(Compliance_Options!C64=\"\",\"\",Compliance_Options!C64)","v":""},"",{"$f":"IF(COUNTIF(G$2:G42,G42)=1,G42,\"\")","v":""},null,null,null,null,null,null,null,null,null,null,null,null,"OR",null,"Purchase alternative","Monthly average alternative without using an add-on control device","Thermal oxidizer to which puncture sealant application spray booth emissions are ducted","There are no emission limitations or other requirements for the rubber processing affected source.",null,null,null,null,null,null,null,null,null,null,null,null,null,null,null,null,null,null,null,null,{"$f":"+IF(AW42=\"\",\"\",MAX(AV$1:AV41)+1)","v":""},{"$f":"IF(Compliance_Options!B64=\"\",\"\",Compliance_Options!B64)","v":""},{"$f":"IF(Compliance_Options!C64=\"\",\"\",Compliance_Options!C64)","v":""},{"$f":"IF(Compliance_Options!D64=\"\",\"\",Compliance_Options!D64)","v":""},{"$f":"IF(Compliance_Options!E64=\"\",\"\",Compliance_Options!E64)","v":""},{"$f":"IF(Compliance_Options!F64=\"\",\"\",Compliance_Options!F64)","v":""},"    ",{"$f":"IF(COUNTIF(BB$2:BB42,BB42)=1,BB42,\"\")","v":""},"","","","","","","",{"$f":"+IF(BJ42=\"\",\"\",MAX(BK$1:BK41)+1)","v":""},"","","","","","","",{"$f":"+IF(BR42=\"\",\"\",MAX(BS$1:BS41)+1)","v":""},"","","","","","","",{"$f":"+IF(BZ42=\"\",\"\",MAX(CA$1:CA41)+1)","v":""},"","","","","","","",{"$f":"+IF(CH42=\"\",\"\",MAX(CI$1:CI41)+1)","v":""},"","","","","",null,{"$f":"+IF(CQ42=\"\",\"\",MAX(CP$1:CP41)+1)","v":""},{"$f":"IF(Compliance_Options!B64=\"\",\"\",Compliance_Options!B64)","v":""},{"$f":"IF(Compliance_Options!C64=\"\",\"\",Compliance_Options!C64)","v":""},{"$f":"IF(Compliance_Options!D64=\"\",\"\",Compliance_Options!D64)","v":""},"  ",{"$f":"IF(COUNTIF(CT$2:CT42,CT42)=1,CT42,\"\")","v":""},"","","",""]
[null,null,null,null,null,{"$f":"+IF(I43=\"\",\"\",MAX(F$1:F42)+1)","v":""},{"$f":"IF(Compliance_Options!C65=\"\",\"\",Compliance_Options!C65)","v":""},"",{"$f":"IF(COUNTIF(G$2:G43,G43)=1,G43,\"\")","v":""},null,null,null,null,null,null,null,null,"63.6000 Limits",null,null,null,"PA",null,"Monthly average alternative without using an add-on control device","Monthly average alternative using an add-on control device","Carbon adsorber (regenerative) to which puncture sealant application spray booth emissions are ducted",null,null,null,null,null,null,null,null,null,null,null,null,null,null,null,null,null,null,null,null,null,{"$f":"+IF(AW43=\"\",\"\",MAX(AV$1:AV42)+1)","v":""},{"$f":"IF(Compliance_Options!B65=\"\",\"\",Compliance_Options!B65)","v":""},{"$f":"IF(Compliance_Options!C65=\"\",\"\",Compliance_Options!C65)","v":""},{"$f":"IF(Compliance_Options!D65=\"\",\"\",Compliance_Options!D65)","v":""},{"$f":"IF(Compliance_Options!E65=\"\",\"\",Compliance_Options!E65)","v":""},{"$f":"IF(Compliance_Options!F65=\"\",\"\",Compliance_Options!F65)","v":""},"    ",{"$f":"IF(COUNTIF(BB$2:BB43,BB43)=1,BB43,\"\")","v":""},"","","","","","","",{"$f":"+IF(BJ43=\"\",\"\",MAX(BK$1:BK42)+1)","v":""},"","","","","","","",{"$f":"+IF(BR43=\"\",\"\",MAX(BS$1:BS42)+1)","v":""},"","","","","","","",{"$f":"+IF(BZ43=\"\",\"\",MAX(CA$1:CA42)+1)","v":""},"","","","","","","",{"$f":"+IF(CH43=\"\",\"\",MAX(CI$1:CI42)+1)","v":""},"","","","","",null,{"$f":"+IF(CQ43=\"\",\"\",MAX(CP$1:CP42)+1)","v":""},{"$f":"IF(Compliance_Options!B65=\"\",\"\",Compliance_Options!B65)","v":""},{"$f":"IF(Compliance_Options!C65=\"\",\"\",Compliance_Options!C65)","v":""},{"$f":"IF(Compliance_Options!D65=\"\",\"\",Compliance_Options!D65)","v":""},"  ",{"$f":"IF(COUNTIF(CT$2:CT43,CT43)=1,CT43,\"\")","v":""},"","","",""]
[null,null,null,null,null,{"$f":"+IF(I44=\"\",\"\",MAX(F$1:F43)+1)","v":""},{"$f":"IF(Compliance_Options!C66=\"\",\"\",Compliance_Options!C66)","v":""},"",{"$f":"IF(COUNTIF(G$2:G44,G44)=1,G44,\"\")","v":""},null,null,null,null,null,null,null,null,"Firebox secondary chamber temperature",null,null,null,"PR",null,"Monthly average alternative using an add-on control device",null,"Other type of control device to which puncture sealant application spray booth emissions are ducted",null,null,null,null,null,null,null,null,null,null,null,null,null,null,null,null,null,null,null,null,null,{"$f":"+IF(AW44=\"\",\"\",MAX(AV$1:AV43)+1)","v":""},{"$f":"IF(Compliance_Options!B66=\"\",\"\",Compliance_Options!B66)","v":""},{"$f":"IF(Compliance_Options!C66=\"\",\"\",Compliance_Options!C66)","v":""},{"$f":"IF(Compliance_Options!D66=\"\",\"\",Compliance_Options!D66)","v":""},{"$f":"IF(Compliance_Options!E66=\"\",\"\",Compliance_Options!E66)","v":""},{"$f":"IF(Compliance_Options!F66=\"\",\"\",Compliance_Options!F66)","v":""},"    ",{"$f":"IF(COUNTIF(BB$2:BB44,BB44)=1,BB44,\"\")","v":""},"","","","","","","",{"$f":"+IF(BJ44=\"\",\"\",MAX(BK$1:BK43)+1)","v":""},"","","","","","","",{"$f":"+IF(BR44=\"\",\"\",MAX(BS$1:BS43)+1)","v":""},"","","","","","","",{"$f":"+IF(BZ44=\"\",\"\",MAX(CA$1:CA43)+1)","v":""},"","","","","","","",{"$f":"+IF(CH44=\"\",\"\",MAX(CI$1:CI43)+1)","v":""},"","","","","",null,{"$f":"+IF(CQ44=\"\",\"\",MAX(CP$1:CP43)+1)","v":""},{"$f":"IF(Compliance_Options!B66=\"\",\"\",Compliance_Options!B66)","v":""},{"$f":"IF(Compliance_Options!C66=\"\",\"\",Compliance_Options!C66)","v":""},{"$f":"IF(Compliance_Options!D66=\"\",\"\",Compliance_Options!D66)","v":""},"  ",{"$f":"IF(COUNTIF(CT$2:CT44,CT44)=1,CT44,\"\")","v":""},"","","",""]
[null,null,null,null,null,{"$f":"+IF(I45=\"\",\"\",MAX(F$1:F44)+1)","v":""},{"$f":"IF(Compliance_Options!C67=\"\",\"\",Compliance_Options!C67)","v":""},"",{"$f":"IF(COUNTIF(G$2:G45,G45)=1,G45,\"\")","v":""},null,null,null,null,null,null,null,null,"Total regeneration stream mass flow",null,null,null,"RI",null,null,null,"Permanent total enclosure capture system",null,null,null,null,null,null,null,null,null,null,null,null,null,null,null,null,null,null,null,null,null,{"$f":"+IF(AW45=\"\",\"\",MAX(AV$1:AV44)+1)","v":""},{"$f":"IF(Compliance_Options!B67=\"\",\"\",Compliance_Options!B67)","v":""},{"$f":"IF(Compliance_Options!C67=\"\",\"\",Compliance_Options!C67)","v":""},{"$f":"IF(Compliance_Options!D67=\"\",\"\",Compliance_Options!D67)","v":""},{"$f":"IF(Compliance_Options!E67=\"\",\"\",Compliance_Options!E67)","v":""},{"$f":"IF(Compliance_Options!F67=\"\",\"\",Compliance_Options!F67)","v":""},"    ",{"$f":"IF(COUNTIF(BB$2:BB45,BB45)=1,BB45,\"\")","v":""},"","","","","","","",{"$f":"+IF(BJ45=\"\",\"\",MAX(BK$1:BK44)+1)","v":""},"","","","","","","",{"$f":"+IF(BR45=\"\",\"\",MAX(BS$1:BS44)+1)","v":""},"","","","","","","",{"$f":"+IF(BZ45=\"\",\"\",MAX(CA$1:CA44)+1)","v":""},"","","","","","","",{"$f":"+IF(CH45=\"\",\"\",MAX(CI$1:CI44)+1)","v":""},"","","","","",null,{"$f":"+IF(CQ45=\"\",\"\",MAX(CP$1:CP44)+1)","v":""},{"$f":"IF(Compliance_Options!B67=\"\",\"\",Compliance_Options!B67)","v":""},{"$f":"IF(Compliance_Options!C67=\"\",\"\",Compliance_Options!C67)","v":""},{"$f":"IF(Compliance_Options!D67=\"\",\"\",Compliance_Options!D67)","v":""},"  ",{"$f":"IF(COUNTIF(CT$2:CT45,CT45)=1,CT45,\"\")","v":""},"","","",""]
[null,null,null,null,null,{"$f":"+IF(I46=\"\",\"\",MAX(F$1:F45)+1)","v":""},{"$f":"IF(Compliance_Options!C68=\"\",\"\",Compliance_Options!C68)","v":""},"",{"$f":"IF(COUNTIF(G$2:G46,G46)=1,G46,\"\")","v":""},null,null,null,null,null,null,null,null,"Total regeneration stream volumatric flow",null,null,null,"SC",null,null,null,"Other capture system",null,null,null,null,null,null,null,null,null,null,null,null,null,null,null,null,null,null,null,null,null,{"$f":"+IF(AW46=\"\",\"\",MAX(AV$1:AV45)+1)","v":""},{"$f":"IF(Compliance_Options!B68=\"\",\"\",Compliance_Options!B68)","v":""},{"$f":"IF(Compliance_Options!C68=\"\",\"\",Compliance_Options!C68)","v":""},{"$f":"IF(Compliance_Options!D68=\"\",\"\",Compliance_Options!D68)","v":""},{"$f":"IF(Compliance_Options!E68=\"\",\"\",Compliance_Options!E68)","v":""},{"$f":"IF(Compliance_Options!F68=\"\",\"\",Compliance_Options!F68)","v":""},"    ",{"$f":"IF(COUNTIF(BB$2:BB46,BB46)=1,BB46,\"\")","v":""},"","","","","","","",{"$f":"+IF(BJ46=\"\",\"\",MAX(BK$1:BK45)+1)","v":""},"","","","","","","",{"$f":"+IF(BR46=\"\",\"\",MAX(BS$1:BS45)+1)","v":""},"","","","","","","",{"$f":"+IF(BZ46=\"\",\"\",MAX(CA$1:CA45)+1)","v":""},"","","","","","","",{"$f":"+IF(CH46=\"\",\"\",MAX(CI$1:CI45)+1)","v":""},"","","","","",null,{"$f":"+IF(CQ46=\"\",\"\",MAX(CP$1:CP45)+1)","v":""},{"$f":"IF(Compliance_Options!B68=\"\",\"\",Compliance_Options!B68)","v":""},{"$f":"IF(Compliance_Options!C68=\"\",\"\",Compliance_Options!C68)","v":""},{"$f":"IF(Compliance_Options!D68=\"\",\"\",Compliance_Options!D68)","v":""},"  ",{"$f":"IF(COUNTIF(CT$2:CT46,CT46)=1,CT46,\"\")","v":""},"","","",""]
[null,null,null,null,null,{"$f":"+IF(I47=\"\",\"\",MAX(F$1:F46)+1)","v":""},{"$f":"IF(Compliance_Options!C69=\"\",\"\",Compliance_Options!C69)","v":""},"",{"$f":"IF(COUNTIF(G$2:G47,G47)=1,G47,\"\")","v":""},null,null,null,null,null,null,null,null,"Carbon bed temperature",null,null,null,"SD",null,null,null,null,null,null,null,null,null,null,null,null,null,null,null,null,null,null,null,null,null,null,null,null,null,{"$f":"+IF(AW47=\"\",\"\",MAX(AV$1:AV46)+1)","v":""},{"$f":"IF(Compliance_Options!B69=\"\",\"\",Compliance_Options!B69)","v":""},{"$f":"IF(Compliance_Options!C69=\"\",\"\",Compliance_Options!C69)","v":""},{"$f":"IF(Compliance_Options!D69=\"\",\"\",Compliance_Options!D69)","v":""},{"$f":"IF(Compliance_Options!E69=\"\",\"\",Compliance_Options!E69)","v":""},{"$f":"IF(Compliance_Options!F69=\"\",\"\",Compliance_Options!F69)","v":""},"    ",{"$f":"IF(COUNTIF(BB$2:BB47,BB47)=1,BB47,\"\")","v":""},"","","","","","","",{"$f":"+IF(BJ47=\"\",\"\",MAX(BK$1:BK46)+1)","v":""},"","","","","","","",{"$f":"+IF(BR47=\"\",\"\",MAX(BS$1:BS46)+1)","v":""},"","","","","","","",{"$f":"+IF(BZ47=\"\",\"\",MAX(CA$1:CA46)+1)","v":""},"","","","","","","",{"$f":"+IF(CH47=\"\",\"\",MAX(CI$1:CI46)+1)","v":""},"","","","","",null,{"$f":"+IF(CQ47=\"\",\"\",MAX(CP$1:CP46)+1)","v":""},{"$f":"IF(Compliance_Options!B69=\"\",\"\",Compliance_Options!B69)","v":""},{"$f":"IF(Compliance_Options!C69=\"\",\"\",Compliance_Options!C69)","v":""},{"$f":"IF(Compliance_Options!D69=\"\",\"\",Compliance_Options!D69)","v":""},"  ",{"$f":"IF(COUNTIF(CT$2:CT47,CT47)=1,CT47,\"\")","v":""},"","","",""]
[null,null,null,null,null,{"$f":"+IF(I48=\"\",\"\",MAX(F$1:F47)+1)","v":""},{"$f":"IF(Compliance_Options!C70=\"\",\"\",Compliance_Options!C70)","v":""},"",{"$f":"IF(COUNTIF(G$2:G48,G48)=1,G48,\"\")","v":""},null,null,null,null,null,null,null,null,"Continuous parameter monitoring system (using other control device) (Insert name here)",null,null,null,"TN",null,null,null,null,null,null,null,null,null,null,null,null,null,null,null,null,null,null,null,null,null,null,null,null,null,{"$f":"+IF(AW48=\"\",\"\",MAX(AV$1:AV47)+1)","v":""},{"$f":"IF(Compliance_Options!B70=\"\",\"\",Compliance_Options!B70)","v":""},{"$f":"IF(Compliance_Options!C70=\"\",\"\",Compliance_Options!C70)","v":""},{"$f":"IF(Compliance_Options!D70=\"\",\"\",Compliance_Options!D70)","v":""},{"$f":"IF(Compliance_Options!E70=\"\",\"\",Compliance_Options!E70)","v":""},{"$f":"IF(Compliance_Options!F70=\"\",\"\",Compliance_Options!F70)","v":""},"    ",{"$f":"IF(COUNTIF(BB$2:BB48,BB48)=1,BB48,\"\")","v":""},"","","","","","","",{"$f":"+IF(BJ48=\"\",\"\",MAX(BK$1:BK47)+1)","v":""},"","","","","","","",{"$f":"+IF(BR48=\"\",\"\",MAX(BS$1:BS47)+1)","v":""},"","","","","","","",{"$f":"+IF(BZ48=\"\",\"\",MAX(CA$1:CA47)+1)","v":""},"","","","","","","",{"$f":"+IF(CH48=\"\",\"\",MAX(CI$1:CI47)+1)","v":""},"","","","","",null,{"$f":"+IF(CQ48=\"\",\"\",MAX(CP$1:CP47)+1)","v":""},{"$f":"IF(Compliance_Options!B70=\"\",\"\",Compliance_Options!B70)","v":""},{"$f":"IF(Compliance_Options!C70=\"\",\"\",Compliance_Options!C70)","v":""},{"$f":"IF(Compliance_Options!D70=\"\",\"\",Compliance_Options!D70)","v":""},"  ",{"$f":"IF(COUNTIF(CT$2:CT48,CT48)=1,CT48,\"\")","v":""},"","","",""]
[null,null,null,null,null,{"$f":"+IF(I49=\"\",\"\",MAX(F$1:F48)+1)","v":""},{"$f":"IF(Compliance_Options!C71=\"\",\"\",Compliance_Options!C71)","v":""},"",{"$f":"IF(COUNTIF(G$2:G49,G49)=1,G49,\"\")","v":""},null,null,null,null,null,null,null,null,"Face velocity across the NDO for permanent total enclosure",null,null,null,"TX",null,null,null,null,null,null,null,null,null,null,null,null,null,null,null,null,null,null,null,null,null,null,null,null,null,{"$f":"+IF(AW49=\"\",\"\",MAX(AV$1:AV48)+1)","v":""},{"$f":"IF(Compliance_Options!B71=\"\",\"\",Compliance_Options!B71)","v":""},{"$f":"IF(Compliance_Options!C71=\"\",\"\",Compliance_Options!C71)","v":""},{"$f":"IF(Compliance_Options!D71=\"\",\"\",Compliance_Options!D71)","v":""},{"$f":"IF(Compliance_Options!E71=\"\",\"\",Compliance_Options!E71)","v":""},{"$f":"IF(Compliance_Options!F71=\"\",\"\",Compliance_Options!F71)","v":""},"    ",{"$f":"IF(COUNTIF(BB$2:BB49,BB49)=1,BB49,\"\")","v":""},"","","","","","","",{"$f":"+IF(BJ49=\"\",\"\",MAX(BK$1:BK48)+1)","v":""},"","","","","","","",{"$f":"+IF(BR49=\"\",\"\",MAX(BS$1:BS48)+1)","v":""},"","","","","","","",{"$f":"+IF(BZ49=\"\",\"\",MAX(CA$1:CA48)+1)","v":""},"","","","","","","",{"$f":"+IF(CH49=\"\",\"\",MAX(CI$1:CI48)+1)","v":""},"","","","","",null,{"$f":"+IF(CQ49=\"\",\"\",MAX(CP$1:CP48)+1)","v":""},{"$f":"IF(Compliance_Options!B71=\"\",\"\",Compliance_Options!B71)","v":""},{"$f":"IF(Compliance_Options!C71=\"\",\"\",Compliance_Options!C71)","v":""},{"$f":"IF(Compliance_Options!D71=\"\",\"\",Compliance_Options!D71)","v":""},"  ",{"$f":"IF(COUNTIF(CT$2:CT49,CT49)=1,CT49,\"\")","v":""},"","","",""]
[null,null,null,null,null,{"$f":"+IF(I50=\"\",\"\",MAX(F$1:F49)+1)","v":""},{"$f":"IF(Compliance_Options!C72=\"\",\"\",Compliance_Options!C72)","v":""},"",{"$f":"IF(COUNTIF(G$2:G50,G50)=1,G50,\"\")","v":""},null,null,null,null,null,null,null,null,"Parameters in monitoring plan (using other capture systems) (Describe here)",null,null,null,"UT",null,null,null,null,null,null,null,null,null,null,null,null,null,null,null,null,null,null,null,null,null,null,null,null,null,{"$f":"+IF(AW50=\"\",\"\",MAX(AV$1:AV49)+1)","v":""},{"$f":"IF(Compliance_Options!B72=\"\",\"\",Compliance_Options!B72)","v":""},{"$f":"IF(Compliance_Options!C72=\"\",\"\",Compliance_Options!C72)","v":""},{"$f":"IF(Compliance_Options!D72=\"\",\"\",Compliance_Options!D72)","v":""},{"$f":"IF(Compliance_Options!E72=\"\",\"\",Compliance_Options!E72)","v":""},{"$f":"IF(Compliance_Options!F72=\"\",\"\",Compliance_Options!F72)","v":""},"    ",{"$f":"IF(COUNTIF(BB$2:BB50,BB50)=1,BB50,\"\")","v":""},"","","","","","","",{"$f":"+IF(BJ50=\"\",\"\",MAX(BK$1:BK49)+1)","v":""},"","","","","","","",{"$f":"+IF(BR50=\"\",\"\",MAX(BS$1:BS49)+1)","v":""},"","","","","","","",{"$f":"+IF(BZ50=\"\",\"\",MAX(CA$1:CA49)+1)","v":""},"","","","","","","",{"$f":"+IF(CH50=\"\",\"\",MAX(CI$1:CI49)+1)","v":""},"","","","","",null,{"$f":"+IF(CQ50=\"\",\"\",MAX(CP$1:CP49)+1)","v":""},{"$f":"IF(Compliance_Options!B72=\"\",\"\",Compliance_Options!B72)","v":""},{"$f":"IF(Compliance_Options!C72=\"\",\"\",Compliance_Options!C72)","v":""},{"$f":"IF(Compliance_Options!D72=\"\",\"\",Compliance_Options!D72)","v":""},"  ",{"$f":"IF(COUNTIF(CT$2:CT50,CT50)=1,CT50,\"\")","v":""},"","","",""]
[null,null,null,null,null,{"$f":"+IF(I51=\"\",\"\",MAX(F$1:F50)+1)","v":""},{"$f":"IF(Compliance_Options!C73=\"\",\"\",Compliance_Options!C73)","v":""},"",{"$f":"IF(COUNTIF(G$2:G51,G51)=1,G51,\"\")","v":""},null,null,null,null,null,null,null,null,null,null,null,null,"VA",null,null,null,null,null,null,null,null,null,null,null,null,null,null,null,null,null,null,null,null,null,null,null,null,null,{"$f":"+IF(AW51=\"\",\"\",MAX(AV$1:AV50)+1)","v":""},{"$f":"IF(Compliance_Options!B73=\"\",\"\",Compliance_Options!B73)","v":""},{"$f":"IF(Compliance_Options!C73=\"\",\"\",Compliance_Options!C73)","v":""},{"$f":"IF(Compliance_Options!D73=\"\",\"\",Compliance_Options!D73)","v":""},{"$f":"IF(Compliance_Options!E73=\"\",\"\",Compliance_Options!E73)","v":""},{"$f":"IF(Compliance_Options!F73=\"\",\"\",Compliance_Options!F73)","v":""},"    ",{"$f":"IF(COUNTIF(BB$2:BB51,BB51)=1,BB51,\"\")","v":""},"","","","","","","",{"$f":"+IF(BJ51=\"\",\"\",MAX(BK$1:BK50)+1)","v":""},"","","","","","","",{"$f":"+IF(BR51=\"\",\"\",MAX(BS$1:BS50)+1)","v":""},"","","","","","","",{"$f":"+IF(BZ51=\"\",\"\",MAX(CA$1:CA50)+1)","v":""},"","","","","","","",{"$f":"+IF(CH51=\"\",\"\",MAX(CI$1:CI50)+1)","v":""},"","","","","",null,{"$f":"+IF(CQ51=\"\",\"\",MAX(CP$1:CP50)+1)","v":""},{"$f":"IF(Compliance_Options!B73=\"\",\"\",Compliance_Options!B73)","v":""},{"$f":"IF(Compliance_Options!C73=\"\",\"\",Compliance_Options!C73)","v":""},{"$f":"IF(Compliance_Options!D73=\"\",\"\",Compliance_Options!D73)","v":""},"  ",{"$f":"IF(COUNTIF(CT$2:CT51,CT51)=1,CT51,\"\")","v":""},"","","",""]
[null,null,null,null,null,{"$f":"+IF(I52=\"\",\"\",MAX(F$1:F51)+1)","v":""},{"$f":"IF(Compliance_Options!C74=\"\",\"\",Compliance_Options!C74)","v":""},"",{"$f":"IF(COUNTIF(G$2:G52,G52)=1,G52,\"\")","v":""},null,null,null,null,null,null,null,null,null,null,null,null,"VI",null,null,null,null,null,null,null,null,null,null,null,null,null,null,null,null,null,null,null,null,null,null,null,null,null,{"$f":"+IF(AW52=\"\",\"\",MAX(AV$1:AV51)+1)","v":""},{"$f":"IF(Compliance_Options!B74=\"\",\"\",Compliance_Options!B74)","v":""},{"$f":"IF(Compliance_Options!C74=\"\",\"\",Compliance_Options!C74)","v":""},{"$f":"IF(Compliance_Options!D74=\"\",\"\",Compliance_Options!D74)","v":""},{"$f":"IF(Compliance_Options!E74=\"\",\"\",Compliance_Options!E74)","v":""},{"$f":"IF(Compliance_Options!F74=\"\",\"\",Compliance_Options!F74)","v":""},"    ",{"$f":"IF(COUNTIF(BB$2:BB52,BB52)=1,BB52,\"\")","v":""},"","","","","","","",{"$f":"+IF(BJ52=\"\",\"\",MAX(BK$1:BK51)+1)","v":""},"","","","","","","",{"$f":"+IF(BR52=\"\",\"\",MAX(BS$1:BS51)+1)","v":""},"","","","","","","",{"$f":"+IF(BZ52=\"\",\"\",MAX(CA$1:CA51)+1)","v":""},"","","","","","","",{"$f":"+IF(CH52=\"\",\"\",MAX(CI$1:CI51)+1)","v":""},"","","","","",null,{"$f":"+IF(CQ52=\"\",\"\",MAX(CP$1:CP51)+1)","v":""},{"$f":"IF(Compliance_Options!B74=\"\",\"\",Compliance_Options!B74)","v":""},{"$f":"IF(Compliance_Options!C74=\"\",\"\",Compliance_Options!C74)","v":""},{"$f":"IF(Compliance_Options!D74=\"\",\"\",Compliance_Options!D74)","v":""},"  ",{"$f":"IF(COUNTIF(CT$2:CT52,CT52)=1,CT52,\"\")","v":""},"","","",""]
[null,null,null,null,null,{"$f":"+IF(I53=\"\",\"\",MAX(F$1:F52)+1)","v":""},{"$f":"IF(Compliance_Options!C75=\"\",\"\",Compliance_Options!C75)","v":""},"",{"$f":"IF(COUNTIF(G$2:G53,G53)=1,G53,\"\")","v":""},null,null,null,null,null,null,null,null,null,null,null,null,"VT",null,null,null,null,null,null,null,null,null,null,null,null,null,null,null,null,null,null,null,null,null,null,null,null,null,{"$f":"+IF(AW53=\"\",\"\",MAX(AV$1:AV52)+1)","v":""},{"$f":"IF(Compliance_Options!B75=\"\",\"\",Compliance_Options!B75)","v":""},{"$f":"IF(Compliance_Options!C75=\"\",\"\",Compliance_Options!C75)","v":""},{"$f":"IF(Compliance_Options!D75=\"\",\"\",Compliance_Options!D75)","v":""},{"$f":"IF(Compliance_Options!E75=\"\",\"\",Compliance_Options!E75)","v":""},{"$f":"IF(Compliance_Options!F75=\"\",\"\",Compliance_Options!F75)","v":""},"    ",{"$f":"IF(COUNTIF(BB$2:BB53,BB53)=1,BB53,\"\")","v":""},"","","","","","","",{"$f":"+IF(BJ53=\"\",\"\",MAX(BK$1:BK52)+1)","v":""},"","","","","","","",{"$f":"+IF(BR53=\"\",\"\",MAX(BS$1:BS52)+1)","v":""},"","","","","","","",{"$f":"+IF(BZ53=\"\",\"\",MAX(CA$1:CA52)+1)","v":""},"","","","","","","",{"$f":"+IF(CH53=\"\",\"\",MAX(CI$1:CI52)+1)","v":""},"","","","","",null,{"$f":"+IF(CQ53=\"\",\"\",MAX(CP$1:CP52)+1)","v":""},{"$f":"IF(Compliance_Options!B75=\"\",\"\",Compliance_Options!B75)","v":""},{"$f":"IF(Compliance_Options!C75=\"\",\"\",Compliance_Options!C75)","v":""},{"$f":"IF(Compliance_Options!D75=\"\",\"\",Compliance_Options!D75)","v":""},"  ",{"$f":"IF(COUNTIF(CT$2:CT53,CT53)=1,CT53,\"\")","v":""},"","","",""]
[null,null,null,null,null,{"$f":"+IF(I54=\"\",\"\",MAX(F$1:F53)+1)","v":""},{"$f":"IF(Compliance_Options!C76=\"\",\"\",Compliance_Options!C76)","v":""},"",{"$f":"IF(COUNTIF(G$2:G54,G54)=1,G54,\"\")","v":""},null,null,null,null,null,null,null,null,null,null,null,null,"WA",null,null,null,null,null,null,null,null,null,null,null,null,null,null,null,null,null,null,null,null,null,null,null,null,null,{"$f":"+IF(AW54=\"\",\"\",MAX(AV$1:AV53)+1)","v":""},{"$f":"IF(Compliance_Options!B76=\"\",\"\",Compliance_Options!B76)","v":""},{"$f":"IF(Compliance_Options!C76=\"\",\"\",Compliance_Options!C76)","v":""},{"$f":"IF(Compliance_Options!D76=\"\",\"\",Compliance_Options!D76)","v":""},{"$f":"IF(Compliance_Options!E76=\"\",\"\",Compliance_Options!E76)","v":""},{"$f":"IF(Compliance_Options!F76=\"\",\"\",Compliance_Options!F76)","v":""},"    ",{"$f":"IF(COUNTIF(BB$2:BB54,BB54)=1,BB54,\"\")","v":""},"","","","","","","",{"$f":"+IF(BJ54=\"\",\"\",MAX(BK$1:BK53)+1)","v":""},"","","","","","","",{"$f":"+IF(BR54=\"\",\"\",MAX(BS$1:BS53)+1)","v":""},"","","","","","","",{"$f":"+IF(BZ54=\"\",\"\",MAX(CA$1:CA53)+1)","v":""},"","","","","","","",{"$f":"+IF(CH54=\"\",\"\",MAX(CI$1:CI53)+1)","v":""},"","","","","",null,{"$f":"+IF(CQ54=\"\",\"\",MAX(CP$1:CP53)+1)","v":""},{"$f":"IF(Compliance_Options!B76=\"\",\"\",Compliance_Options!B76)","v":""},{"$f":"IF(Compliance_Options!C76=\"\",\"\",Compliance_Options!C76)","v":""},{"$f":"IF(Compliance_Options!D76=\"\",\"\",Compliance_Options!D76)","v":""},"  ",{"$f":"IF(COUNTIF(CT$2:CT54,CT54)=1,CT54,\"\")","v":""},"","","",""]
[null,null,null,null,null,{"$f":"+IF(I55=\"\",\"\",MAX(F$1:F54)+1)","v":""},{"$f":"IF(Compliance_Options!C77=\"\",\"\",Compliance_Options!C77)","v":""},"",{"$f":"IF(COUNTIF(G$2:G55,G55)=1,G55,\"\")","v":""},null,null,null,null,null,null,null,null,null,null,null,null,"WI",null,null,null,null,null,null,null,null,null,null,null,null,null,null,null,null,null,null,null,null,null,null,null,null,null,{"$f":"+IF(AW55=\"\",\"\",MAX(AV$1:AV54)+1)","v":""},{"$f":"IF(Compliance_Options!B77=\"\",\"\",Compliance_Options!B77)","v":""},{"$f":"IF(Compliance_Options!C77=\"\",\"\",Compliance_Options!C77)","v":""},{"$f":"IF(Compliance_Options!D77=\"\",\"\",Compliance_Options!D77)","v":""},{"$f":"IF(Compliance_Options!E77=\"\",\"\",Compliance_Options!E77)","v":""},{"$f":"IF(Compliance_Options!F77=\"\",\"\",Compliance_Options!F77)","v":""},"    ",{"$f":"IF(COUNTIF(BB$2:BB55,BB55)=1,BB55,\"\")","v":""},"","","","","","","",{"$f":"+IF(BJ55=\"\",\"\",MAX(BK$1:BK54)+1)","v":""},"","","","","","","",{"$f":"+IF(BR55=\"\",\"\",MAX(BS$1:BS54)+1)","v":""},"","","","","","","",{"$f":"+IF(BZ55=\"\",\"\",MAX(CA$1:CA54)+1)","v":""},"","","","","","","",{"$f":"+IF(CH55=\"\",\"\",MAX(CI$1:CI54)+1)","v":""},"","","","","",null,{"$f":"+IF(CQ55=\"\",\"\",MAX(CP$1:CP54)+1)","v":""},{"$f":"IF(Compliance_Options!B77=\"\",\"\",Compliance_Options!B77)","v":""},{"$f":"IF(Compliance_Options!C77=\"\",\"\",Compliance_Options!C77)","v":""},{"$f":"IF(Compliance_Options!D77=\"\",\"\",Compliance_Options!D77)","v":""},"  ",{"$f":"IF(COUNTIF(CT$2:CT55,CT55)=1,CT55,\"\")","v":""},"","","",""]
[null,null,null,null,null,{"$f":"+IF(I56=\"\",\"\",MAX(F$1:F55)+1)","v":""},{"$f":"IF(Compliance_Options!C78=\"\",\"\",Compliance_Options!C78)","v":""},"",{"$f":"IF(COUNTIF(G$2:G56,G56)=1,G56,\"\")","v":""},null,null,null,null,null,null,null,null,null,null,null,null,"WV",null,null,null,null,null,null,null,null,null,null,null,null,null,null,null,null,null,null,null,null,null,null,null,null,null,{"$f":"+IF(AW56=\"\",\"\",MAX(AV$1:AV55)+1)","v":""},{"$f":"IF(Compliance_Options!B78=\"\",\"\",Compliance_Options!B78)","v":""},{"$f":"IF(Compliance_Options!C78=\"\",\"\",Compliance_Options!C78)","v":""},{"$f":"IF(Compliance_Options!D78=\"\",\"\",Compliance_Options!D78)","v":""},{"$f":"IF(Compliance_Options!E78=\"\",\"\",Compliance_Options!E78)","v":""},{"$f":"IF(Compliance_Options!F78=\"\",\"\",Compliance_Options!F78)","v":""},"    ",{"$f":"IF(COUNTIF(BB$2:BB56,BB56)=1,BB56,\"\")","v":""},"","","","","","","",{"$f":"+IF(BJ56=\"\",\"\",MAX(BK$1:BK55)+1)","v":""},"","","","","","","",{"$f":"+IF(BR56=\"\",\"\",MAX(BS$1:BS55)+1)","v":""},"","","","","","","",{"$f":"+IF(BZ56=\"\",\"\",MAX(CA$1:CA55)+1)","v":""},"","","","","","","",{"$f":"+IF(CH56=\"\",\"\",MAX(CI$1:CI55)+1)","v":""},"","","","","",null,{"$f":"+IF(CQ56=\"\",\"\",MAX(CP$1:CP55)+1)","v":""},{"$f":"IF(Compliance_Options!B78=\"\",\"\",Compliance_Options!B78)","v":""},{"$f":"IF(Compliance_Options!C78=\"\",\"\",Compliance_Options!C78)","v":""},{"$f":"IF(Compliance_Options!D78=\"\",\"\",Compliance_Options!D78)","v":""},"  ",{"$f":"IF(COUNTIF(CT$2:CT56,CT56)=1,CT56,\"\")","v":""},"","","",""]
[null,null,null,null,null,{"$f":"+IF(I57=\"\",\"\",MAX(F$1:F56)+1)","v":""},{"$f":"IF(Compliance_Options!C79=\"\",\"\",Compliance_Options!C79)","v":""},"",{"$f":"IF(COUNTIF(G$2:G57,G57)=1,G57,\"\")","v":""},null,null,null,null,null,null,null,null,null,null,null,null,"WY",null,null,null,null,null,null,null,null,null,null,null,null,null,null,null,null,null,null,null,null,null,null,null,null,null,{"$f":"+IF(AW57=\"\",\"\",MAX(AV$1:AV56)+1)","v":""},{"$f":"IF(Compliance_Options!B79=\"\",\"\",Compliance_Options!B79)","v":""},{"$f":"IF(Compliance_Options!C79=\"\",\"\",Compliance_Options!C79)","v":""},{"$f":"IF(Compliance_Options!D79=\"\",\"\",Compliance_Options!D79)","v":""},{"$f":"IF(Compliance_Options!E79=\"\",\"\",Compliance_Options!E79)","v":""},{"$f":"IF(Compliance_Options!F79=\"\",\"\",Compliance_Options!F79)","v":""},"    ",{"$f":"IF(COUNTIF(BB$2:BB57,BB57)=1,BB57,\"\")","v":""},"","","","","","","",{"$f":"+IF(BJ57=\"\",\"\",MAX(BK$1:BK56)+1)","v":""},"","","","","","","",{"$f":"+IF(BR57=\"\",\"\",MAX(BS$1:BS56)+1)","v":""},"","","","","","","",{"$f":"+IF(BZ57=\"\",\"\",MAX(CA$1:CA56)+1)","v":""},"","","","","","","",{"$f":"+IF(CH57=\"\",\"\",MAX(CI$1:CI56)+1)","v":""},"","","","","",null,{"$f":"+IF(CQ57=\"\",\"\",MAX(CP$1:CP56)+1)","v":""},{"$f":"IF(Compliance_Options!B79=\"\",\"\",Compliance_Options!B79)","v":""},{"$f":"IF(Compliance_Options!C79=\"\",\"\",Compliance_Options!C79)","v":""},{"$f":"IF(Compliance_Options!D79=\"\",\"\",Compliance_Options!D79)","v":""},"  ",{"$f":"IF(COUNTIF(CT$2:CT57,CT57)=1,CT57,\"\")","v":""},"","","",""]
[null,null,null,null,null,{"$f":"+IF(I58=\"\",\"\",MAX(F$1:F57)+1)","v":""},{"$f":"IF(Compliance_Options!C80=\"\",\"\",Compliance_Options!C80)","v":""},"",{"$f":"IF(COUNTIF(G$2:G58,G58)=1,G58,\"\")","v":""},null,null,null,null,null,null,null,null,null,null,null,null,null,null,null,null,null,null,null,null,null,null,null,null,null,null,null,null,null,null,null,null,null,null,null,null,null,null,{"$f":"+IF(AW58=\"\",\"\",MAX(AV$1:AV57)+1)","v":""},{"$f":"IF(Compliance_Options!B80=\"\",\"\",Compliance_Options!B80)","v":""},{"$f":"IF(Compliance_Options!C80=\"\",\"\",Compliance_Options!C80)","v":""},{"$f":"IF(Compliance_Options!D80=\"\",\"\",Compliance_Options!D80)","v":""},{"$f":"IF(Compliance_Options!E80=\"\",\"\",Compliance_Options!E80)","v":""},{"$f":"IF(Compliance_Options!F80=\"\",\"\",Compliance_Options!F80)","v":""},"    ",{"$f":"IF(COUNTIF(BB$2:BB58,BB58)=1,BB58,\"\")","v":""},"","","","","","","",{"$f":"+IF(BJ58=\"\",\"\",MAX(BK$1:BK57)+1)","v":""},"","","","","","","",{"$f":"+IF(BR58=\"\",\"\",MAX(BS$1:BS57)+1)","v":""},"","","","","","","",{"$f":"+IF(BZ58=\"\",\"\",MAX(CA$1:CA57)+1)","v":""},"","","","","","","",{"$f":"+IF(CH58=\"\",\"\",MAX(CI$1:CI57)+1)","v":""},"","","","","",null,{"$f":"+IF(CQ58=\"\",\"\",MAX(CP$1:CP57)+1)","v":""},{"$f":"IF(Compliance_Options!B80=\"\",\"\",Compliance_Options!B80)","v":""},{"$f":"IF(Compliance_Options!C80=\"\",\"\",Compliance_Options!C80)","v":""},{"$f":"IF(Compliance_Options!D80=\"\",\"\",Compliance_Options!D80)","v":""},"  ",{"$f":"IF(COUNTIF(CT$2:CT58,CT58)=1,CT58,\"\")","v":""},"","","",""]
[null,null,null,null,null,{"$f":"+IF(I59=\"\",\"\",MAX(F$1:F58)+1)","v":""},{"$f":"IF(Compliance_Options!C81=\"\",\"\",Compliance_Options!C81)","v":""},"",{"$f":"IF(COUNTIF(G$2:G59,G59)=1,G59,\"\")","v":""},null,null,null,null,null,null,null,null,null,null,null,null,null,null,null,null,null,null,null,null,null,null,null,null,null,null,null,null,null,null,null,null,null,null,null,null,null,null,{"$f":"+IF(AW59=\"\",\"\",MAX(AV$1:AV58)+1)","v":""},{"$f":"IF(Compliance_Options!B81=\"\",\"\",Compliance_Options!B81)","v":""},{"$f":"IF(Compliance_Options!C81=\"\",\"\",Compliance_Options!C81)","v":""},{"$f":"IF(Compliance_Options!D81=\"\",\"\",Compliance_Options!D81)","v":""},{"$f":"IF(Compliance_Options!E81=\"\",\"\",Compliance_Options!E81)","v":""},{"$f":"IF(Compliance_Options!F81=\"\",\"\",Compliance_Options!F81)","v":""},"    ",{"$f":"IF(COUNTIF(BB$2:BB59,BB59)=1,BB59,\"\")","v":""},"","","","","","","",{"$f":"+IF(BJ59=\"\",\"\",MAX(BK$1:BK58)+1)","v":""},"","","","","","","",{"$f":"+IF(BR59=\"\",\"\",MAX(BS$1:BS58)+1)","v":""},"","","","","","","",{"$f":"+IF(BZ59=\"\",\"\",MAX(CA$1:CA58)+1)","v":""},"","","","","","","",{"$f":"+IF(CH59=\"\",\"\",MAX(CI$1:CI58)+1)","v":""},"","","","","",null,{"$f":"+IF(CQ59=\"\",\"\",MAX(CP$1:CP58)+1)","v":""},{"$f":"IF(Compliance_Options!B81=\"\",\"\",Compliance_Options!B81)","v":""},{"$f":"IF(Compliance_Options!C81=\"\",\"\",Compliance_Options!C81)","v":""},{"$f":"IF(Compliance_Options!D81=\"\",\"\",Compliance_Options!D81)","v":""},"  ",{"$f":"IF(COUNTIF(CT$2:CT59,CT59)=1,CT59,\"\")","v":""},"","","",""]
[null,null,null,null,null,{"$f":"+IF(I60=\"\",\"\",MAX(F$1:F59)+1)","v":""},{"$f":"IF(Compliance_Options!C82=\"\",\"\",Compliance_Options!C82)","v":""},"",{"$f":"IF(COUNTIF(G$2:G60,G60)=1,G60,\"\")","v":""},null,null,null,null,null,null,null,null,null,null,null,null,null,null,null,null,null,null,null,null,null,null,null,null,null,null,null,null,null,null,null,null,null,null,null,null,null,null,{"$f":"+IF(AW60=\"\",\"\",MAX(AV$1:AV59)+1)","v":""},{"$f":"IF(Compliance_Options!B82=\"\",\"\",Compliance_Options!B82)","v":""},{"$f":"IF(Compliance_Options!C82=\"\",\"\",Compliance_Options!C82)","v":""},{"$f":"IF(Compliance_Options!D82=\"\",\"\",Compliance_Options!D82)","v":""},{"$f":"IF(Compliance_Options!E82=\"\",\"\",Compliance_Options!E82)","v":""},{"$f":"IF(Compliance_Options!F82=\"\",\"\",Compliance_Options!F82)","v":""},"    ",{"$f":"IF(COUNTIF(BB$2:BB60,BB60)=1,BB60,\"\")","v":""},"","","","","","","",{"$f":"+IF(BJ60=\"\",\"\",MAX(BK$1:BK59)+1)","v":""},"","","","","","","",{"$f":"+IF(BR60=\"\",\"\",MAX(BS$1:BS59)+1)","v":""},"","","","","","","",{"$f":"+IF(BZ60=\"\",\"\",MAX(CA$1:CA59)+1)","v":""},"","","","","","","",{"$f":"+IF(CH60=\"\",\"\",MAX(CI$1:CI59)+1)","v":""},"","","","","",null,{"$f":"+IF(CQ60=\"\",\"\",MAX(CP$1:CP59)+1)","v":""},{"$f":"IF(Compliance_Options!B82=\"\",\"\",Compliance_Options!B82)","v":""},{"$f":"IF(Compliance_Options!C82=\"\",\"\",Compliance_Options!C82)","v":""},{"$f":"IF(Compliance_Options!D82=\"\",\"\",Compliance_Options!D82)","v":""},"  ",{"$f":"IF(COUNTIF(CT$2:CT60,CT60)=1,CT60,\"\")","v":""},"","","",""]
[null,null,null,null,null,{"$f":"+IF(I61=\"\",\"\",MAX(F$1:F60)+1)","v":""},{"$f":"IF(Compliance_Options!C83=\"\",\"\",Compliance_Options!C83)","v":""},"",{"$f":"IF(COUNTIF(G$2:G61,G61)=1,G61,\"\")","v":""},null,null,null,null,null,null,null,null,null,null,null,null,null,null,null,null,null,null,null,null,null,null,null,null,null,null,null,null,null,null,null,null,null,null,null,null,null,null,{"$f":"+IF(AW61=\"\",\"\",MAX(AV$1:AV60)+1)","v":""},{"$f":"IF(Compliance_Options!B83=\"\",\"\",Compliance_Options!B83)","v":""},{"$f":"IF(Compliance_Options!C83=\"\",\"\",Compliance_Options!C83)","v":""},{"$f":"IF(Compliance_Options!D83=\"\",\"\",Compliance_Options!D83)","v":""},{"$f":"IF(Compliance_Options!E83=\"\",\"\",Compliance_Options!E83)","v":""},{"$f":"IF(Compliance_Options!F83=\"\",\"\",Compliance_Options!F83)","v":""},"    ",{"$f":"IF(COUNTIF(BB$2:BB61,BB61)=1,BB61,\"\")","v":""},"","","","","","","",{"$f":"+IF(BJ61=\"\",\"\",MAX(BK$1:BK60)+1)","v":""},"","","","","","","",{"$f":"+IF(BR61=\"\",\"\",MAX(BS$1:BS60)+1)","v":""},"","","","","","","",{"$f":"+IF(BZ61=\"\",\"\",MAX(CA$1:CA60)+1)","v":""},"","","","","","","",{"$f":"+IF(CH61=\"\",\"\",MAX(CI$1:CI60)+1)","v":""},"","","","","",null,{"$f":"+IF(CQ61=\"\",\"\",MAX(CP$1:CP60)+1)","v":""},{"$f":"IF(Compliance_Options!B83=\"\",\"\",Compliance_Options!B83)","v":""},{"$f":"IF(Compliance_Options!C83=\"\",\"\",Compliance_Options!C83)","v":""},{"$f":"IF(Compliance_Options!D83=\"\",\"\",Compliance_Options!D83)","v":""},"  ",{"$f":"IF(COUNTIF(CT$2:CT61,CT61)=1,CT61,\"\")","v":""},"","","",""]
[null,null,null,null,null,{"$f":"+IF(I62=\"\",\"\",MAX(F$1:F61)+1)","v":""},{"$f":"IF(Compliance_Options!C84=\"\",\"\",Compliance_Options!C84)","v":""},"",{"$f":"IF(COUNTIF(G$2:G62,G62)=1,G62,\"\")","v":""},null,null,null,null,null,null,null,null,null,null,null,null,null,null,null,null,null,null,null,null,null,null,null,null,null,null,null,null,null,null,null,null,null,null,null,null,null,null,{"$f":"+IF(AW62=\"\",\"\",MAX(AV$1:AV61)+1)","v":""},{"$f":"IF(Compliance_Options!B84=\"\",\"\",Compliance_Options!B84)","v":""},{"$f":"IF(Compliance_Options!C84=\"\",\"\",Compliance_Options!C84)","v":""},{"$f":"IF(Compliance_Options!D84=\"\",\"\",Compliance_Options!D84)","v":""},{"$f":"IF(Compliance_Options!E84=\"\",\"\",Compliance_Options!E84)","v":""},{"$f":"IF(Compliance_Options!F84=\"\",\"\",Compliance_Options!F84)","v":""},"    ",{"$f":"IF(COUNTIF(BB$2:BB62,BB62)=1,BB62,\"\")","v":""},"","","","","","","",{"$f":"+IF(BJ62=\"\",\"\",MAX(BK$1:BK61)+1)","v":""},"","","","","","","",{"$f":"+IF(BR62=\"\",\"\",MAX(BS$1:BS61)+1)","v":""},"","","","","","","",{"$f":"+IF(BZ62=\"\",\"\",MAX(CA$1:CA61)+1)","v":""},"","","","","","","",{"$f":"+IF(CH62=\"\",\"\",MAX(CI$1:CI61)+1)","v":""},"","","","","",null,{"$f":"+IF(CQ62=\"\",\"\",MAX(CP$1:CP61)+1)","v":""},{"$f":"IF(Compliance_Options!B84=\"\",\"\",Compliance_Options!B84)","v":""},{"$f":"IF(Compliance_Options!C84=\"\",\"\",Compliance_Options!C84)","v":""},{"$f":"IF(Compliance_Options!D84=\"\",\"\",Compliance_Options!D84)","v":""},"  ",{"$f":"IF(COUNTIF(CT$2:CT62,CT62)=1,CT62,\"\")","v":""},"","","",""]
[null,null,null,null,null,{"$f":"+IF(I63=\"\",\"\",MAX(F$1:F62)+1)","v":""},{"$f":"IF(Compliance_Options!C85=\"\",\"\",Compliance_Options!C85)","v":""},"",{"$f":"IF(COUNTIF(G$2:G63,G63)=1,G63,\"\")","v":""},null,null,null,null,null,null,null,null,null,null,null,null,null,null,null,null,null,null,null,null,null,null,null,null,null,null,null,null,null,null,null,null,null,null,null,null,null,null,{"$f":"+IF(AW63=\"\",\"\",MAX(AV$1:AV62)+1)","v":""},{"$f":"IF(Compliance_Options!B85=\"\",\"\",Compliance_Options!B85)","v":""},{"$f":"IF(Compliance_Options!C85=\"\",\"\",Compliance_Options!C85)","v":""},{"$f":"IF(Compliance_Options!D85=\"\",\"\",Compliance_Options!D85)","v":""},{"$f":"IF(Compliance_Options!E85=\"\",\"\",Compliance_Options!E85)","v":""},{"$f":"IF(Compliance_Options!F85=\"\",\"\",Compliance_Options!F85)","v":""},"    ",{"$f":"IF(COUNTIF(BB$2:BB63,BB63)=1,BB63,\"\")","v":""},"","","","","","","",{"$f":"+IF(BJ63=\"\",\"\",MAX(BK$1:BK62)+1)","v":""},"","","","","","","",{"$f":"+IF(BR63=\"\",\"\",MAX(BS$1:BS62)+1)","v":""},"","","","","","","",{"$f":"+IF(BZ63=\"\",\"\",MAX(CA$1:CA62)+1)","v":""},"","","","","","","",{"$f":"+IF(CH63=\"\",\"\",MAX(CI$1:CI62)+1)","v":""},"","","","","",null,{"$f":"+IF(CQ63=\"\",\"\",MAX(CP$1:CP62)+1)","v":""},{"$f":"IF(Compliance_Options!B85=\"\",\"\",Compliance_Options!B85)","v":""},{"$f":"IF(Compliance_Options!C85=\"\",\"\",Compliance_Options!C85)","v":""},{"$f":"IF(Compliance_Options!D85=\"\",\"\",Compliance_Options!D85)","v":""},"  ",{"$f":"IF(COUNTIF(CT$2:CT63,CT63)=1,CT63,\"\")","v":""},"","","",""]
[null,null,null,null,null,{"$f":"+IF(I64=\"\",\"\",MAX(F$1:F63)+1)","v":""},{"$f":"IF(Compliance_Options!C86=\"\",\"\",Compliance_Options!C86)","v":""},"",{"$f":"IF(COUNTIF(G$2:G64,G64)=1,G64,\"\")","v":""},null,null,null,null,null,null,null,null,null,null,null,null,null,null,null,null,null,null,null,null,null,null,null,null,null,null,null,null,null,null,null,null,null,null,null,null,null,null,{"$f":"+IF(AW64=\"\",\"\",MAX(AV$1:AV63)+1)","v":""},{"$f":"IF(Compliance_Options!B86=\"\",\"\",Compliance_Options!B86)","v":""},{"$f":"IF(Compliance_Options!C86=\"\",\"\",Compliance_Options!C86)","v":""},{"$f":"IF(Compliance_Options!D86=\"\",\"\",Compliance_Options!D86)","v":""},{"$f":"IF(Compliance_Options!E86=\"\",\"\",Compliance_Options!E86)","v":""},{"$f":"IF(Compliance_Options!F86=\"\",\"\",Compliance_Options!F86)","v":""},"    ",{"$f":"IF(COUNTIF(BB$2:BB64,BB64)=1,BB64,\"\")","v":""},"","","","","","","",{"$f":"+IF(BJ64=\"\",\"\",MAX(BK$1:BK63)+1)","v":""},"","","","","","","",{"$f":"+IF(BR64=\"\",\"\",MAX(BS$1:BS63)+1)","v":""},"","","","","","","",{"$f":"+IF(BZ64=\"\",\"\",MAX(CA$1:CA63)+1)","v":""},"","","","","","","",{"$f":"+IF(CH64=\"\",\"\",MAX(CI$1:CI63)+1)","v":""},"","","","","",null,{"$f":"+IF(CQ64=\"\",\"\",MAX(CP$1:CP63)+1)","v":""},{"$f":"IF(Compliance_Options!B86=\"\",\"\",Compliance_Options!B86)","v":""},{"$f":"IF(Compliance_Options!C86=\"\",\"\",Compliance_Options!C86)","v":""},{"$f":"IF(Compliance_Options!D86=\"\",\"\",Compliance_Options!D86)","v":""},"  ",{"$f":"IF(COUNTIF(CT$2:CT64,CT64)=1,CT64,\"\")","v":""},"","","",""]
[null,null,null,null,null,{"$f":"+IF(I65=\"\",\"\",MAX(F$1:F64)+1)","v":""},{"$f":"IF(Compliance_Options!C87=\"\",\"\",Compliance_Options!C87)","v":""},"",{"$f":"IF(COUNTIF(G$2:G65,G65)=1,G65,\"\")","v":""},null,null,null,null,null,null,null,null,null,null,null,null,null,null,null,null,null,null,null,null,null,null,null,null,null,null,null,null,null,null,null,null,null,null,null,null,null,null,{"$f":"+IF(AW65=\"\",\"\",MAX(AV$1:AV64)+1)","v":""},{"$f":"IF(Compliance_Options!B87=\"\",\"\",Compliance_Options!B87)","v":""},{"$f":"IF(Compliance_Options!C87=\"\",\"\",Compliance_Options!C87)","v":""},{"$f":"IF(Compliance_Options!D87=\"\",\"\",Compliance_Options!D87)","v":""},{"$f":"IF(Compliance_Options!E87=\"\",\"\",Compliance_Options!E87)","v":""},{"$f":"IF(Compliance_Options!F87=\"\",\"\",Compliance_Options!F87)","v":""},"    ",{"$f":"IF(COUNTIF(BB$2:BB65,BB65)=1,BB65,\"\")","v":""},"","","","","","","",{"$f":"+IF(BJ65=\"\",\"\",MAX(BK$1:BK64)+1)","v":""},"","","","","","","",{"$f":"+IF(BR65=\"\",\"\",MAX(BS$1:BS64)+1)","v":""},"","","","","","","",{"$f":"+IF(BZ65=\"\",\"\",MAX(CA$1:CA64)+1)","v":""},"","","","","","","",{"$f":"+IF(CH65=\"\",\"\",MAX(CI$1:CI64)+1)","v":""},"","","","","",null,{"$f":"+IF(CQ65=\"\",\"\",MAX(CP$1:CP64)+1)","v":""},{"$f":"IF(Compliance_Options!B87=\"\",\"\",Compliance_Options!B87)","v":""},{"$f":"IF(Compliance_Options!C87=\"\",\"\",Compliance_Options!C87)","v":""},{"$f":"IF(Compliance_Options!D87=\"\",\"\",Compliance_Options!D87)","v":""},"  ",{"$f":"IF(COUNTIF(CT$2:CT65,CT65)=1,CT65,\"\")","v":""},"","","",""]
[null,null,null,null,null,{"$f":"+IF(I66=\"\",\"\",MAX(F$1:F65)+1)","v":""},{"$f":"IF(Compliance_Options!C88=\"\",\"\",Compliance_Options!C88)","v":""},{"$f":"+IFERROR(INDEX($G$2:$G$78,MATCH(ROW()-ROW($H$1),$F$2:$F$78,0)),\"\")","v":""},{"$f":"IF(COUNTIF(G$2:G66,G66)=1,G66,\"\")","v":""},null,null,null,null,null,null,null,null,null,null,null,null,null,null,null,null,null,null,null,null,null,null,null,null,null,null,null,null,null,null,null,null,null,null,null,null,null,null,{"$f":"+IF(AW66=\"\",\"\",MAX(AV$1:AV65)+1)","v":""},{"$f":"IF(Compliance_Options!B88=\"\",\"\",Compliance_Options!B88)","v":""},{"$f":"IF(Compliance_Options!C88=\"\",\"\",Compliance_Options!C88)","v":""},{"$f":"IF(Compliance_Options!D88=\"\",\"\",Compliance_Options!D88)","v":""},{"$f":"IF(Compliance_Options!E88=\"\",\"\",Compliance_Options!E88)","v":""},{"$f":"IF(Compliance_Options!F88=\"\",\"\",Compliance_Options!F88)","v":""},"    ",{"$f":"IF(COUNTIF(BB$2:BB66,BB66)=1,BB66,\"\")","v":""},"","","","","","","",{"$f":"+IF(BJ66=\"\",\"\",MAX(BK$1:BK65)+1)","v":""},"","","","","","","",{"$f":"+IF(BR66=\"\",\"\",MAX(BS$1:BS65)+1)","v":""},"","","","","","","",{"$f":"+IF(BZ66=\"\",\"\",MAX(CA$1:CA65)+1)","v":""},"","","","","","","",{"$f":"+IF(CH66=\"\",\"\",MAX(CI$1:CI65)+1)","v":""},"","","","","",null,{"$f":"+IF(CQ66=\"\",\"\",MAX(CP$1:CP65)+1)","v":""},{"$f":"IF(Compliance_Options!B88=\"\",\"\",Compliance_Options!B88)","v":""},{"$f":"IF(Compliance_Options!C88=\"\",\"\",Compliance_Options!C88)","v":""},{"$f":"IF(Compliance_Options!D88=\"\",\"\",Compliance_Options!D88)","v":""},"  ",{"$f":"IF(COUNTIF(CT$2:CT66,CT66)=1,CT66,\"\")","v":""},"","","",""]
[null,null,null,null,null,{"$f":"+IF(I67=\"\",\"\",MAX(F$1:F66)+1)","v":""},{"$f":"IF(Compliance_Options!C89=\"\",\"\",Compliance_Options!C89)","v":""},"",{"$f":"IF(COUNTIF(G$2:G67,G67)=1,G67,\"\")","v":""},null,null,null,null,null,null,null,null,null,null,null,null,null,null,null,null,null,null,null,null,null,null,null,null,null,null,null,null,null,null,null,null,null,null,null,null,null,null,{"$f":"+IF(AW67=\"\",\"\",MAX(AV$1:AV66)+1)","v":""},{"$f":"IF(Compliance_Options!B89=\"\",\"\",Compliance_Options!B89)","v":""},{"$f":"IF(Compliance_Options!C89=\"\",\"\",Compliance_Options!C89)","v":""},{"$f":"IF(Compliance_Options!D89=\"\",\"\",Compliance_Options!D89)","v":""},{"$f":"IF(Compliance_Options!E89=\"\",\"\",Compliance_Options!E89)","v":""},{"$f":"IF(Compliance_Options!F89=\"\",\"\",Compliance_Options!F89)","v":""},{"$f":"AW67&\" \"&AX67&\" \"&AY67&\" \"&AZ67&\" \"&BA67","v":"    "},{"$f":"IF(COUNTIF(BB$2:BB67,BB67)=1,BB67,\"\")","v":""},{"$f":"IF(BE67=\"\",\"\",BE67&\" \"&BF67&\" \"&BG67)","v":""},{"$f":"IFERROR(INDEX(AW$2:AW$78,MATCH(ROW()-ROW($BC$1),$AV$2:$AV$78,0)),\"\")","v":""},{"$f":"IFERROR(INDEX(AX$2:AX$78,MATCH(ROW()-ROW($BC$1),$AV$2:$AV$78,0)),\"\")","v":""},{"$f":"IFERROR(INDEX(AY$2:AY$78,MATCH(ROW()-ROW($BC$1),$AV$2:$AV$78,0)),\"\")","v":""},{"$f":"IFERROR(INDEX(AZ$2:AZ$78,MATCH(ROW()-ROW($BC$1),$AV$2:$AV$78,0)),\"\")","v":""},{"$f":"IFERROR(INDEX(BA$2:BA$78,MATCH(ROW()-ROW($BC$1),$AV$2:$AV$78,0)),\"\")","v":""},{"$f":"IF($AY67=\"Tire Production\",$BB67,\"\")","v":""},{"$f":"+IF(BJ67=\"\",\"\",MAX(BK$1:BK66)+1)","v":""},{"$f":"IF(BM67=\"\",\"\",BM67&\" \"&BN67&\" \"&BO67&\" \"&BP67&\" \"&BQ67)","v":""},{"$f":"IFERROR(INDEX(AW$2:AW$78,MATCH(ROW()-ROW($BC$1),$BK$2:$BK$78,0)),\"\")","v":""},{"$f":"IFERROR(INDEX(AX$2:AX$78,MATCH(ROW()-ROW($BC$1),$BK$2:$BK$78,0)),\"\")","v":""},{"$f":"IFERROR(INDEX(AY$2:AY$78,MATCH(ROW()-ROW($BC$1),$BK$2:$BK$78,0)),\"\")","v":""},{"$f":"IFERROR(INDEX(AZ$2:AZ$78,MATCH(ROW()-ROW($BC$1),$BK$2:$BK$78,0)),\"\")","v":""},{"$f":"IFERROR(INDEX(BA$2:BA$78,MATCH(ROW()-ROW($BC$1),$BK$2:$BK$78,0)),\"\")","v":""},{"$f":"IF($AY67=\"Tire Cord Production\",$BB67,\"\")","v":""},{"$f":"+IF(BR67=\"\",\"\",MAX(BS$1:BS66)+1)","v":""},{"$f":"IF(BU67=\"\",\"\",BU67&\" \"&BV67&\" \"&BW67)","v":""},{"$f":"IFERROR(INDEX(AW$2:AW$78,MATCH(ROW()-ROW($BS$1),$BS$2:$BS$78,0)),\"\")","v":""},{"$f":"IFERROR(INDEX(AX$2:AX$78,MATCH(ROW()-ROW($BS$1),$BS$2:$BS$78,0)),\"\")","v":""},{"$f":"IFERROR(INDEX(AY$2:AY$78,MATCH(ROW()-ROW($BS$1),$BS$2:$BS$78,0)),\"\")","v":""},{"$f":"IFERROR(INDEX(AZ$2:AZ$78,MATCH(ROW()-ROW($BS$1),$BS$2:$BS$78,0)),\"\")","v":""},{"$f":"IFERROR(INDEX(BA$2:BA$78,MATCH(ROW()-ROW($BS$1),$BS$2:$BS$78,0)),\"\")","v":""},{"$f":"IF($AY67=\"Puncture Sealant Application\",$BB67,\"\")","v":""},{"$f":"+IF(BZ67=\"\",\"\",MAX(CA$1:CA66)+1)","v":""},{"$f":"IF(CC67=\"\",\"\",CC67&\" \"&CD67&\" \"&CE67)","v":""},{"$f":"IFERROR(INDEX(AW$2:AW$78,MATCH(ROW()-ROW($CA$1),$CA$2:$CA$78,0)),\"\")","v":""},{"$f":"IFERROR(INDEX(AX$2:AX$78,MATCH(ROW()-ROW($CA$1),$CA$2:$CA$78,0)),\"\")","v":""},{"$f":"IFERROR(INDEX(AY$2:AY$78,MATCH(ROW()-ROW($CA$1),$CA$2:$CA$78,0)),\"\")","v":""},{"$f":"IFERROR(INDEX(AZ$2:AZ$78,MATCH(ROW()-ROW($CA$1),$CA$2:$CA$78,0)),\"\")","v":""},{"$f":"IFERROR(INDEX(BA$2:BA$78,MATCH(ROW()-ROW($CA$1),$CA$2:$CA$78,0)),\"\")","v":""},{"$f":"IF($AY67=\"Rubber Processing\",$BB67,\"\")","v":""},{"$f":"+IF(CH67=\"\",\"\",MAX(CI$1:CI66)+1)","v":""},{"$f":"IFERROR(INDEX(AW$2:AW$78,MATCH(ROW()-ROW($CI$1),$CI$2:$CI$78,0)),\"\")","v":""},{"$f":"IFERROR(INDEX(AX$2:AX$78,MATCH(ROW()-ROW($CI$1),$CI$2:$CI$78,0)),\"\")","v":""},{"$f":"IFERROR(INDEX(AY$2:AY$78,MATCH(ROW()-ROW($CI$1),$CI$2:$CI$78,0)),\"\")","v":""},{"$f":"IFERROR(INDEX(AZ$2:AZ$78,MATCH(ROW()-ROW($CI$1),$CI$2:$CI$78,0)),\"\")","v":""},{"$f":"IFERROR(INDEX(BA$2:BA$78,MATCH(ROW()-ROW($CI$1),$CI$2:$CI$78,0)),\"\")","v":""},null,{"$f":"+IF(CQ67=\"\",\"\",MAX(CP$1:CP66)+1)","v":""},{"$f":"IF(Compliance_Options!B89=\"\",\"\",Compliance_Options!B89)","v":""},{"$f":"IF(Compliance_Options!C89=\"\",\"\",Compliance_Options!C89)","v":""},{"$f":"IF(Compliance_Options!D89=\"\",\"\",Compliance_Options!D89)","v":""},{"$f":"CQ67&\" \"&CR67&\" \"&CS67","v":"  "},{"$f":"IF(COUNTIF(CT$2:CT67,CT67)=1,CT67,\"\")","v":""},{"$f":"IFERROR(INDEX(CU$2:CU$78,MATCH(ROW()-ROW($CU$1),$CP$2:$CP$78,0)),\"\")","v":""},{"$f":"IFERROR(INDEX(CQ$2:CQ$78,MATCH(ROW()-ROW($CU$1),$CP$2:$CP$78,0)),\"\")","v":""},{"$f":"IFERROR(INDEX(CR$2:CR$78,MATCH(ROW()-ROW($CU$1),$CP$2:$CP$78,0)),\"\")","v":""},{"$f":"IFERROR(INDEX(CS$2:CS$78,MATCH(ROW()-ROW($CU$1),$CP$2:$CP$78,0)),\"\")","v":""}]
[null,null,null,null,null,{"$f":"+IF(I68=\"\",\"\",MAX(F$1:F67)+1)","v":""},{"$f":"IF(Compliance_Options!C90=\"\",\"\",Compliance_Options!C90)","v":""},"",{"$f":"IF(COUNTIF(G$2:G68,G68)=1,G68,\"\")","v":""},null,null,null,null,null,null,null,null,null,null,null,null,null,null,null,null,null,null,null,null,null,null,null,null,null,null,null,null,null,null,null,null,null,null,null,null,null,null,{"$f":"+IF(AW68=\"\",\"\",MAX(AV$1:AV67)+1)","v":""},{"$f":"IF(Compliance_Options!B90=\"\",\"\",Compliance_Options!B90)","v":""},{"$f":"IF(Compliance_Options!C90=\"\",\"\",Compliance_Options!C90)","v":""},{"$f":"IF(Compliance_Options!D90=\"\",\"\",Compliance_Options!D90)","v":""},{"$f":"IF(Compliance_Options!E90=\"\",\"\",Compliance_Options!E90)","v":""},{"$f":"IF(Compliance_Options!F90=\"\",\"\",Compliance_Options!F90)","v":""},"    ",{"$f":"IF(COUNTIF(BB$2:BB68,BB68)=1,BB68,\"\")","v":""},"","","","","","","",{"$f":"+IF(BJ68=\"\",\"\",MAX(BK$1:BK67)+1)","v":""},"","","","","","","",{"$f":"+IF(BR68=\"\",\"\",MAX(BS$1:BS67)+1)","v":""},"","","","","","","",{"$f":"+IF(BZ68=\"\",\"\",MAX(CA$1:CA67)+1)","v":""},"","","","","","","",{"$f":"+IF(CH68=\"\",\"\",MAX(CI$1:CI67)+1)","v":""},"","","","","",null,{"$f":"+IF(CQ68=\"\",\"\",MAX(CP$1:CP67)+1)","v":""},{"$f":"IF(Compliance_Options!B90=\"\",\"\",Compliance_Options!B90)","v":""},{"$f":"IF(Compliance_Options!C90=\"\",\"\",Compliance_Options!C90)","v":""},{"$f":"IF(Compliance_Options!D90=\"\",\"\",Compliance_Options!D90)","v":""},"  ",{"$f":"IF(COUNTIF(CT$2:CT68,CT68)=1,CT68,\"\")","v":""},"","","",""]
[null,null,null,null,null,{"$f":"+IF(I69=\"\",\"\",MAX(F$1:F68)+1)","v":""},{"$f":"IF(Compliance_Options!C91=\"\",\"\",Compliance_Options!C91)","v":""},"",{"$f":"IF(COUNTIF(G$2:G69,G69)=1,G69,\"\")","v":""},null,null,null,null,null,null,null,null,null,null,null,null,null,null,null,null,null,null,null,null,null,null,null,null,null,null,null,null,null,null,null,null,null,null,null,null,null,null,{"$f":"+IF(AW69=\"\",\"\",MAX(AV$1:AV68)+1)","v":""},{"$f":"IF(Compliance_Options!B91=\"\",\"\",Compliance_Options!B91)","v":""},{"$f":"IF(Compliance_Options!C91=\"\",\"\",Compliance_Options!C91)","v":""},{"$f":"IF(Compliance_Options!D91=\"\",\"\",Compliance_Options!D91)","v":""},{"$f":"IF(Compliance_Options!E91=\"\",\"\",Compliance_Options!E91)","v":""},{"$f":"IF(Compliance_Options!F91=\"\",\"\",Compliance_Options!F91)","v":""},"    ",{"$f":"IF(COUNTIF(BB$2:BB69,BB69)=1,BB69,\"\")","v":""},"","","","","","","",{"$f":"+IF(BJ69=\"\",\"\",MAX(BK$1:BK68)+1)","v":""},"","","","","","","",{"$f":"+IF(BR69=\"\",\"\",MAX(BS$1:BS68)+1)","v":""},"","","","","","","",{"$f":"+IF(BZ69=\"\",\"\",MAX(CA$1:CA68)+1)","v":""},"","","","","","","",{"$f":"+IF(CH69=\"\",\"\",MAX(CI$1:CI68)+1)","v":""},"","","","","",null,{"$f":"+IF(CQ69=\"\",\"\",MAX(CP$1:CP68)+1)","v":""},{"$f":"IF(Compliance_Options!B91=\"\",\"\",Compliance_Options!B91)","v":""},{"$f":"IF(Compliance_Options!C91=\"\",\"\",Compliance_Options!C91)","v":""},{"$f":"IF(Compliance_Options!D91=\"\",\"\",Compliance_Options!D91)","v":""},"  ",{"$f":"IF(COUNTIF(CT$2:CT69,CT69)=1,CT69,\"\")","v":""},"","","",""]
[null,null,null,null,null,{"$f":"+IF(I70=\"\",\"\",MAX(F$1:F69)+1)","v":""},{"$f":"IF(Compliance_Options!C92=\"\",\"\",Compliance_Options!C92)","v":""},"",{"$f":"IF(COUNTIF(G$2:G70,G70)=1,G70,\"\")","v":""},null,null,null,null,null,null,null,null,null,null,null,null,null,null,null,null,null,null,null,null,null,null,null,null,null,null,null,null,null,null,null,null,null,null,null,null,null,null,{"$f":"+IF(AW70=\"\",\"\",MAX(AV$1:AV69)+1)","v":""},{"$f":"IF(Compliance_Options!B92=\"\",\"\",Compliance_Options!B92)","v":""},{"$f":"IF(Compliance_Options!C92=\"\",\"\",Compliance_Options!C92)","v":""},{"$f":"IF(Compliance_Options!D92=\"\",\"\",Compliance_Options!D92)","v":""},{"$f":"IF(Compliance_Options!E92=\"\",\"\",Compliance_Options!E92)","v":""},{"$f":"IF(Compliance_Options!F92=\"\",\"\",Compliance_Options!F92)","v":""},"    ",{"$f":"IF(COUNTIF(BB$2:BB70,BB70)=1,BB70,\"\")","v":""},"","","","","","","",{"$f":"+IF(BJ70=\"\",\"\",MAX(BK$1:BK69)+1)","v":""},"","","","","","","",{"$f":"+IF(BR70=\"\",\"\",MAX(BS$1:BS69)+1)","v":""},"","","","","","","",{"$f":"+IF(BZ70=\"\",\"\",MAX(CA$1:CA69)+1)","v":""},"","","","","","","",{"$f":"+IF(CH70=\"\",\"\",MAX(CI$1:CI69)+1)","v":""},"","","","","",null,{"$f":"+IF(CQ70=\"\",\"\",MAX(CP$1:CP69)+1)","v":""},{"$f":"IF(Compliance_Options!B92=\"\",\"\",Compliance_Options!B92)","v":""},{"$f":"IF(Compliance_Options!C92=\"\",\"\",Compliance_Options!C92)","v":""},{"$f":"IF(Compliance_Options!D92=\"\",\"\",Compliance_Options!D92)","v":""},"  ",{"$f":"IF(COUNTIF(CT$2:CT70,CT70)=1,CT70,\"\")","v":""},"","","",""]
[null,null,null,null,null,{"$f":"+IF(I71=\"\",\"\",MAX(F$1:F70)+1)","v":""},{"$f":"IF(Compliance_Options!C93=\"\",\"\",Compliance_Options!C93)","v":""},"",{"$f":"IF(COUNTIF(G$2:G71,G71)=1,G71,\"\")","v":""},null,null,null,null,null,null,null,null,null,null,null,null,null,null,null,null,null,null,null,null,null,null,null,null,null,null,null,null,null,null,null,null,null,null,null,null,null,null,{"$f":"+IF(AW71=\"\",\"\",MAX(AV$1:AV70)+1)","v":""},{"$f":"IF(Compliance_Options!B93=\"\",\"\",Compliance_Options!B93)","v":""},{"$f":"IF(Compliance_Options!C93=\"\",\"\",Compliance_Options!C93)","v":""},{"$f":"IF(Compliance_Options!D93=\"\",\"\",Compliance_Options!D93)","v":""},{"$f":"IF(Compliance_Options!E93=\"\",\"\",Compliance_Options!E93)","v":""},{"$f":"IF(Compliance_Options!F93=\"\",\"\",Compliance_Options!F93)","v":""},"    ",{"$f":"IF(COUNTIF(BB$2:BB71,BB71)=1,BB71,\"\")","v":""},"","","","","","","",{"$f":"+IF(BJ71=\"\",\"\",MAX(BK$1:BK70)+1)","v":""},"","","","","","","",{"$f":"+IF(BR71=\"\",\"\",MAX(BS$1:BS70)+1)","v":""},"","","","","","","",{"$f":"+IF(BZ71=\"\",\"\",MAX(CA$1:CA70)+1)","v":""},"","","","","","","",{"$f":"+IF(CH71=\"\",\"\",MAX(CI$1:CI70)+1)","v":""},"","","","","",null,{"$f":"+IF(CQ71=\"\",\"\",MAX(CP$1:CP70)+1)","v":""},{"$f":"IF(Compliance_Options!B93=\"\",\"\",Compliance_Options!B93)","v":""},{"$f":"IF(Compliance_Options!C93=\"\",\"\",Compliance_Options!C93)","v":""},{"$f":"IF(Compliance_Options!D93=\"\",\"\",Compliance_Options!D93)","v":""},"  ",{"$f":"IF(COUNTIF(CT$2:CT71,CT71)=1,CT71,\"\")","v":""},"","","",""]
[null,null,null,null,null,{"$f":"+IF(I72=\"\",\"\",MAX(F$1:F71)+1)","v":""},{"$f":"IF(Compliance_Options!C94=\"\",\"\",Compliance_Options!C94)","v":""},"",{"$f":"IF(COUNTIF(G$2:G72,G72)=1,G72,\"\")","v":""},null,null,null,null,null,null,null,null,null,null,null,null,null,null,null,null,null,null,null,null,null,null,null,null,null,null,null,null,null,null,null,null,null,null,null,null,null,null,{"$f":"+IF(AW72=\"\",\"\",MAX(AV$1:AV71)+1)","v":""},{"$f":"IF(Compliance_Options!B94=\"\",\"\",Compliance_Options!B94)","v":""},{"$f":"IF(Compliance_Options!C94=\"\",\"\",Compliance_Options!C94)","v":""},{"$f":"IF(Compliance_Options!D94=\"\",\"\",Compliance_Options!D94)","v":""},{"$f":"IF(Compliance_Options!E94=\"\",\"\",Compliance_Options!E94)","v":""},{"$f":"IF(Compliance_Options!F94=\"\",\"\",Compliance_Options!F94)","v":""},"    ",{"$f":"IF(COUNTIF(BB$2:BB72,BB72)=1,BB72,\"\")","v":""},"","","","","","","",{"$f":"+IF(BJ72=\"\",\"\",MAX(BK$1:BK71)+1)","v":""},"","","","","","","",{"$f":"+IF(BR72=\"\",\"\",MAX(BS$1:BS71)+1)","v":""},"","","","","","","",{"$f":"+IF(BZ72=\"\",\"\",MAX(CA$1:CA71)+1)","v":""},"","","","","","","",{"$f":"+IF(CH72=\"\",\"\",MAX(CI$1:CI71)+1)","v":""},"","","","","",null,{"$f":"+IF(CQ72=\"\",\"\",MAX(CP$1:CP71)+1)","v":""},{"$f":"IF(Compliance_Options!B94=\"\",\"\",Compliance_Options!B94)","v":""},{"$f":"IF(Compliance_Options!C94=\"\",\"\",Compliance_Options!C94)","v":""},{"$f":"IF(Compliance_Options!D94=\"\",\"\",Compliance_Options!D94)","v":""},"  ",{"$f":"IF(COUNTIF(CT$2:CT72,CT72)=1,CT72,\"\")","v":""},"","","",""]
[null,null,null,null,null,{"$f":"+IF(I73=\"\",\"\",MAX(F$1:F72)+1)","v":""},{"$f":"IF(Compliance_Options!C95=\"\",\"\",Compliance_Options!C95)","v":""},"",{"$f":"IF(COUNTIF(G$2:G73,G73)=1,G73,\"\")","v":""},null,null,null,null,null,null,null,null,null,null,null,null,null,null,null,null,null,null,null,null,null,null,null,null,null,null,null,null,null,null,null,null,null,null,null,null,null,null,{"$f":"+IF(AW73=\"\",\"\",MAX(AV$1:AV72)+1)","v":""},{"$f":"IF(Compliance_Options!B95=\"\",\"\",Compliance_Options!B95)","v":""},{"$f":"IF(Compliance_Options!C95=\"\",\"\",Compliance_Options!C95)","v":""},{"$f":"IF(Compliance_Options!D95=\"\",\"\",Compliance_Options!D95)","v":""},{"$f":"IF(Compliance_Options!E95=\"\",\"\",Compliance_Options!E95)","v":""},{"$f":"IF(Compliance_Options!F95=\"\",\"\",Compliance_Options!F95)","v":""},"    ",{"$f":"IF(COUNTIF(BB$2:BB73,BB73)=1,BB73,\"\")","v":""},"","","","","","","",{"$f":"+IF(BJ73=\"\",\"\",MAX(BK$1:BK72)+1)","v":""},"","","","","","","",{"$f":"+IF(BR73=\"\",\"\",MAX(BS$1:BS72)+1)","v":""},"","","","","","","",{"$f":"+IF(BZ73=\"\",\"\",MAX(CA$1:CA72)+1)","v":""},"","","","","","","",{"$f":"+IF(CH73=\"\",\"\",MAX(CI$1:CI72)+1)","v":""},"","","","","",null,{"$f":"+IF(CQ73=\"\",\"\",MAX(CP$1:CP72)+1)","v":""},{"$f":"IF(Compliance_Options!B95=\"\",\"\",Compliance_Options!B95)","v":""},{"$f":"IF(Compliance_Options!C95=\"\",\"\",Compliance_Options!C95)","v":""},{"$f":"IF(Compliance_Options!D95=\"\",\"\",Compliance_Options!D95)","v":""},"  ",{"$f":"IF(COUNTIF(CT$2:CT73,CT73)=1,CT73,\"\")","v":""},"","","",""]
[null,null,null,null,null,{"$f":"+IF(I74=\"\",\"\",MAX(F$1:F73)+1)","v":""},{"$f":"IF(Compliance_Options!C96=\"\",\"\",Compliance_Options!C96)","v":""},"",{"$f":"IF(COUNTIF(G$2:G74,G74)=1,G74,\"\")","v":""},null,null,null,null,null,null,null,null,null,null,null,null,null,null,null,null,null,null,null,null,null,null,null,null,null,null,null,null,null,null,null,null,null,null,null,null,null,null,{"$f":"+IF(AW74=\"\",\"\",MAX(AV$1:AV73)+1)","v":""},{"$f":"IF(Compliance_Options!B96=\"\",\"\",Compliance_Options!B96)","v":""},{"$f":"IF(Compliance_Options!C96=\"\",\"\",Compliance_Options!C96)","v":""},{"$f":"IF(Compliance_Options!D96=\"\",\"\",Compliance_Options!D96)","v":""},{"$f":"IF(Compliance_Options!E96=\"\",\"\",Compliance_Options!E96)","v":""},{"$f":"IF(Compliance_Options!F96=\"\",\"\",Compliance_Options!F96)","v":""},"    ",{"$f":"IF(COUNTIF(BB$2:BB74,BB74)=1,BB74,\"\")","v":""},"","","","","","","",{"$f":"+IF(BJ74=\"\",\"\",MAX(BK$1:BK73)+1)","v":""},"","","","","","","",{"$f":"+IF(BR74=\"\",\"\",MAX(BS$1:BS73)+1)","v":""},"","","","","","","",{"$f":"+IF(BZ74=\"\",\"\",MAX(CA$1:CA73)+1)","v":""},"","","","","","","",{"$f":"+IF(CH74=\"\",\"\",MAX(CI$1:CI73)+1)","v":""},"","","","","",null,{"$f":"+IF(CQ74=\"\",\"\",MAX(CP$1:CP73)+1)","v":""},{"$f":"IF(Compliance_Options!B96=\"\",\"\",Compliance_Options!B96)","v":""},{"$f":"IF(Compliance_Options!C96=\"\",\"\",Compliance_Options!C96)","v":""},{"$f":"IF(Compliance_Options!D96=\"\",\"\",Compliance_Options!D96)","v":""},"  ",{"$f":"IF(COUNTIF(CT$2:CT74,CT74)=1,CT74,\"\")","v":""},"","","",""]
[null,null,null,null,null,{"$f":"+IF(I75=\"\",\"\",MAX(F$1:F74)+1)","v":""},{"$f":"IF(Compliance_Options!C97=\"\",\"\",Compliance_Options!C97)","v":""},"",{"$f":"IF(COUNTIF(G$2:G75,G75)=1,G75,\"\")","v":""},null,null,null,null,null,null,null,null,null,null,null,null,null,null,null,null,null,null,null,null,null,null,null,null,null,null,null,null,null,null,null,null,null,null,null,null,null,null,{"$f":"+IF(AW75=\"\",\"\",MAX(AV$1:AV74)+1)","v":""},{"$f":"IF(Compliance_Options!B97=\"\",\"\",Compliance_Options!B97)","v":""},{"$f":"IF(Compliance_Options!C97=\"\",\"\",Compliance_Options!C97)","v":""},{"$f":"IF(Compliance_Options!D97=\"\",\"\",Compliance_Options!D97)","v":""},{"$f":"IF(Compliance_Options!E97=\"\",\"\",Compliance_Options!E97)","v":""},{"$f":"IF(Compliance_Options!F97=\"\",\"\",Compliance_Options!F97)","v":""},"    ",{"$f":"IF(COUNTIF(BB$2:BB75,BB75)=1,BB75,\"\")","v":""},"","","","","","","",{"$f":"+IF(BJ75=\"\",\"\",MAX(BK$1:BK74)+1)","v":""},"","","","","","","",{"$f":"+IF(BR75=\"\",\"\",MAX(BS$1:BS74)+1)","v":""},"","","","","","","",{"$f":"+IF(BZ75=\"\",\"\",MAX(CA$1:CA74)+1)","v":""},"","","","","","","",{"$f":"+IF(CH75=\"\",\"\",MAX(CI$1:CI74)+1)","v":""},"","","","","",null,{"$f":"+IF(CQ75=\"\",\"\",MAX(CP$1:CP74)+1)","v":""},{"$f":"IF(Compliance_Options!B97=\"\",\"\",Compliance_Options!B97)","v":""},{"$f":"IF(Compliance_Options!C97=\"\",\"\",Compliance_Options!C97)","v":""},{"$f":"IF(Compliance_Options!D97=\"\",\"\",Compliance_Options!D97)","v":""},"  ",{"$f":"IF(COUNTIF(CT$2:CT75,CT75)=1,CT75,\"\")","v":""},"","","",""]
[null,null,null,null,null,{"$f":"+IF(I76=\"\",\"\",MAX(F$1:F75)+1)","v":""},{"$f":"IF(Compliance_Options!C98=\"\",\"\",Compliance_Options!C98)","v":""},"",{"$f":"IF(COUNTIF(G$2:G76,G76)=1,G76,\"\")","v":""},null,null,null,null,null,null,null,null,null,null,null,null,null,null,null,null,null,null,null,null,null,null,null,null,null,null,null,null,null,null,null,null,null,null,null,null,null,null,{"$f":"+IF(AW76=\"\",\"\",MAX(AV$1:AV75)+1)","v":""},{"$f":"IF(Compliance_Options!B98=\"\",\"\",Compliance_Options!B98)","v":""},{"$f":"IF(Compliance_Options!C98=\"\",\"\",Compliance_Options!C98)","v":""},{"$f":"IF(Compliance_Options!D98=\"\",\"\",Compliance_Options!D98)","v":""},{"$f":"IF(Compliance_Options!E98=\"\",\"\",Compliance_Options!E98)","v":""},{"$f":"IF(Compliance_Options!F98=\"\",\"\",Compliance_Options!F98)","v":""},"    ",{"$f":"IF(COUNTIF(BB$2:BB76,BB76)=1,BB76,\"\")","v":""},"","","","","","","",{"$f":"+IF(BJ76=\"\",\"\",MAX(BK$1:BK75)+1)","v":""},"","","","","","","",{"$f":"+IF(BR76=\"\",\"\",MAX(BS$1:BS75)+1)","v":""},"","","","","","","",{"$f":"+IF(BZ76=\"\",\"\",MAX(CA$1:CA75)+1)","v":""},"","","","","","","",{"$f":"+IF(CH76=\"\",\"\",MAX(CI$1:CI75)+1)","v":""},"","","","","",null,{"$f":"+IF(CQ76=\"\",\"\",MAX(CP$1:CP75)+1)","v":""},{"$f":"IF(Compliance_Options!B98=\"\",\"\",Compliance_Options!B98)","v":""},{"$f":"IF(Compliance_Options!C98=\"\",\"\",Compliance_Options!C98)","v":""},{"$f":"IF(Compliance_Options!D98=\"\",\"\",Compliance_Options!D98)","v":""},"  ",{"$f":"IF(COUNTIF(CT$2:CT76,CT76)=1,CT76,\"\")","v":""},"","","",""]
[null,null,null,null,null,{"$f":"+IF(I77=\"\",\"\",MAX(F$1:F76)+1)","v":""},{"$f":"IF(Compliance_Options!C99=\"\",\"\",Compliance_Options!C99)","v":""},"",{"$f":"IF(COUNTIF(G$2:G77,G77)=1,G77,\"\")","v":""},null,null,null,null,null,null,null,null,null,null,null,null,null,null,null,null,null,null,null,null,null,null,null,null,null,null,null,null,null,null,null,null,null,null,null,null,null,null,{"$f":"+IF(AW77=\"\",\"\",MAX(AV$1:AV76)+1)","v":""},{"$f":"IF(Compliance_Options!B99=\"\",\"\",Compliance_Options!B99)","v":""},{"$f":"IF(Compliance_Options!C99=\"\",\"\",Compliance_Options!C99)","v":""},{"$f":"IF(Compliance_Options!D99=\"\",\"\",Compliance_Options!D99)","v":""},{"$f":"IF(Compliance_Options!E99=\"\",\"\",Compliance_Options!E99)","v":""},{"$f":"IF(Compliance_Options!F99=\"\",\"\",Compliance_Options!F99)","v":""},"    ",{"$f":"IF(COUNTIF(BB$2:BB77,BB77)=1,BB77,\"\")","v":""},"","","","","","","",{"$f":"+IF(BJ77=\"\",\"\",MAX(BK$1:BK76)+1)","v":""},"","","","","","","",{"$f":"+IF(BR77=\"\",\"\",MAX(BS$1:BS76)+1)","v":""},"","","","","","","",{"$f":"+IF(BZ77=\"\",\"\",MAX(CA$1:CA76)+1)","v":""},"","","","","","","",{"$f":"+IF(CH77=\"\",\"\",MAX(CI$1:CI76)+1)","v":""},"","","","","",null,{"$f":"+IF(CQ77=\"\",\"\",MAX(CP$1:CP76)+1)","v":""},{"$f":"IF(Compliance_Options!B99=\"\",\"\",Compliance_Options!B99)","v":""},{"$f":"IF(Compliance_Options!C99=\"\",\"\",Compliance_Options!C99)","v":""},{"$f":"IF(Compliance_Options!D99=\"\",\"\",Compliance_Options!D99)","v":""},"  ",{"$f":"IF(COUNTIF(CT$2:CT77,CT77)=1,CT77,\"\")","v":""},"","","",""]
[null,null,null,null,null,{"$f":"+IF(I78=\"\",\"\",MAX(F$1:F77)+1)","v":""},{"$f":"IF(Compliance_Options!C100=\"\",\"\",Compliance_Options!C100)","v":""},"",{"$f":"IF(COUNTIF(G$2:G78,G78)=1,G78,\"\")","v":""},null,null,null,null,null,null,null,null,null,null,null,null,null,null,null,null,null,null,null,null,null,null,null,null,null,null,null,null,null,null,null,null,null,null,null,null,null,null,{"$f":"+IF(AW78=\"\",\"\",MAX(AV$1:AV77)+1)","v":""},{"$f":"IF(Compliance_Options!B100=\"\",\"\",Compliance_Options!B100)","v":""},{"$f":"IF(Compliance_Options!C100=\"\",\"\",Compliance_Options!C100)","v":""},{"$f":"IF(Compliance_Options!D100=\"\",\"\",Compliance_Options!D100)","v":""},{"$f":"IF(Compliance_Options!E100=\"\",\"\",Compliance_Options!E100)","v":""},{"$f":"IF(Compliance_Options!F100=\"\",\"\",Compliance_Options!F100)","v":""},"    ",{"$f":"IF(COUNTIF(BB$2:BB78,BB78)=1,BB78,\"\")","v":""},"","","","","","","",{"$f":"+IF(BJ78=\"\",\"\",MAX(BK$1:BK77)+1)","v":""},"","","","","","","",{"$f":"+IF(BR78=\"\",\"\",MAX(BS$1:BS77)+1)","v":""},"","","","","","","",{"$f":"+IF(BZ78=\"\",\"\",MAX(CA$1:CA77)+1)","v":""},"","","","","","","",{"$f":"+IF(CH78=\"\",\"\",MAX(CI$1:CI77)+1)","v":""},"","","","","",null,{"$f":"+IF(CQ78=\"\",\"\",MAX(CP$1:CP77)+1)","v":""},{"$f":"IF(Compliance_Options!B100=\"\",\"\",Compliance_Options!B100)","v":""},{"$f":"IF(Compliance_Options!C100=\"\",\"\",Compliance_Options!C100)","v":""},{"$f":"IF(Compliance_Options!D100=\"\",\"\",Compliance_Options!D100)","v":""},"  ",{"$f":"IF(COUNTIF(CT$2:CT78,CT78)=1,CT78,\"\")","v":""},"","","",""]
[null,null,null,null,null,null,null,null,null,null,null,null,null,null,null,null,null,null,null,null,null,null,null,null,null,null,null,null,null,null,null,null,null,null,null,null,null,null,null,null,null,null,null,null,null,null,null,{"$f":"+IF(AW79=\"\",\"\",MAX(AV$1:AV78)+1)","v":""},{"$f":"IF(Compliance_Options!B101=\"\",\"\",Compliance_Options!B101)","v":""},{"$f":"IF(Compliance_Options!C101=\"\",\"\",Compliance_Options!C101)","v":""},{"$f":"IF(Compliance_Options!D101=\"\",\"\",Compliance_Options!D101)","v":""},{"$f":"IF(Compliance_Options!E101=\"\",\"\",Compliance_Options!E101)","v":""},{"$f":"IF(Compliance_Options!F101=\"\",\"\",Compliance_Options!F101)","v":""},"    ",{"$f":"IF(COUNTIF(BB$2:BB79,BB79)=1,BB79,\"\")","v":""},"","","","","","","",{"$f":"+IF(BJ79=\"\",\"\",MAX(BK$1:BK78)+1)","v":""},"","","","","","","",{"$f":"+IF(BR79=\"\",\"\",MAX(BS$1:BS78)+1)","v":""},"","","","","","","",{"$f":"+IF(BZ79=\"\",\"\",MAX(CA$1:CA78)+1)","v":""},"","","","","","","",{"$f":"+IF(CH79=\"\",\"\",MAX(CI$1:CI78)+1)","v":""},"","","","","",null,{"$f":"+IF(CQ79=\"\",\"\",MAX(CP$1:CP78)+1)","v":""},{"$f":"IF(Compliance_Options!B101=\"\",\"\",Compliance_Options!B101)","v":""},{"$f":"IF(Compliance_Options!C101=\"\",\"\",Compliance_Options!C101)","v":""},{"$f":"IF(Compliance_Options!D101=\"\",\"\",Compliance_Options!D101)","v":""},"  ",{"$f":"IF(COUNTIF(CT$2:CT79,CT79)=1,CT79,\"\")","v":""},"","","",""]
[null,null,null,null,null,null,null,null,null,null,null,null,null,null,null,null,null,null,null,null,null,null,null,null,null,null,null,null,null,null,null,null,null,null,null,null,null,null,null,null,null,null,null,null,null,null,null,{"$f":"+IF(AW80=\"\",\"\",MAX(AV$1:AV79)+1)","v":""},{"$f":"IF(Compliance_Options!B102=\"\",\"\",Compliance_Options!B102)","v":""},{"$f":"IF(Compliance_Options!C102=\"\",\"\",Compliance_Options!C102)","v":""},{"$f":"IF(Compliance_Options!D102=\"\",\"\",Compliance_Options!D102)","v":""},{"$f":"IF(Compliance_Options!E102=\"\",\"\",Compliance_Options!E102)","v":""},{"$f":"IF(Compliance_Options!F102=\"\",\"\",Compliance_Options!F102)","v":""},"    ",{"$f":"IF(COUNTIF(BB$2:BB80,BB80)=1,BB80,\"\")","v":""},"","","","","","","",{"$f":"+IF(BJ80=\"\",\"\",MAX(BK$1:BK79)+1)","v":""},"","","","","","","",{"$f":"+IF(BR80=\"\",\"\",MAX(BS$1:BS79)+1)","v":""},"","","","","","","",{"$f":"+IF(BZ80=\"\",\"\",MAX(CA$1:CA79)+1)","v":""},"","","","","","","",{"$f":"+IF(CH80=\"\",\"\",MAX(CI$1:CI79)+1)","v":""},"","","","","",null,{"$f":"+IF(CQ80=\"\",\"\",MAX(CP$1:CP79)+1)","v":""},{"$f":"IF(Compliance_Options!B102=\"\",\"\",Compliance_Options!B102)","v":""},{"$f":"IF(Compliance_Options!C102=\"\",\"\",Compliance_Options!C102)","v":""},{"$f":"IF(Compliance_Options!D102=\"\",\"\",Compliance_Options!D102)","v":""},"  ",{"$f":"IF(COUNTIF(CT$2:CT80,CT80)=1,CT80,\"\")","v":""},"","","",""]
[null,null,null,null,null,null,null,null,null,null,null,null,null,null,null,null,null,null,null,null,null,null,null,null,null,null,null,null,null,null,null,null,null,null,null,null,null,null,null,null,null,null,null,null,null,null,null,{"$f":"+IF(AW81=\"\",\"\",MAX(AV$1:AV80)+1)","v":""},{"$f":"IF(Compliance_Options!B103=\"\",\"\",Compliance_Options!B103)","v":""},{"$f":"IF(Compliance_Options!C103=\"\",\"\",Compliance_Options!C103)","v":""},{"$f":"IF(Compliance_Options!D103=\"\",\"\",Compliance_Options!D103)","v":""},{"$f":"IF(Compliance_Options!E103=\"\",\"\",Compliance_Options!E103)","v":""},{"$f":"IF(Compliance_Options!F103=\"\",\"\",Compliance_Options!F103)","v":""},"    ",{"$f":"IF(COUNTIF(BB$2:BB81,BB81)=1,BB81,\"\")","v":""},"","","","","","","",{"$f":"+IF(BJ81=\"\",\"\",MAX(BK$1:BK80)+1)","v":""},"","","","","","","",{"$f":"+IF(BR81=\"\",\"\",MAX(BS$1:BS80)+1)","v":""},"","","","","","","",{"$f":"+IF(BZ81=\"\",\"\",MAX(CA$1:CA80)+1)","v":""},"","","","","","","",{"$f":"+IF(CH81=\"\",\"\",MAX(CI$1:CI80)+1)","v":""},"","","","","",null,{"$f":"+IF(CQ81=\"\",\"\",MAX(CP$1:CP80)+1)","v":""},{"$f":"IF(Compliance_Options!B103=\"\",\"\",Compliance_Options!B103)","v":""},{"$f":"IF(Compliance_Options!C103=\"\",\"\",Compliance_Options!C103)","v":""},{"$f":"IF(Compliance_Options!D103=\"\",\"\",Compliance_Options!D103)","v":""},"  ",{"$f":"IF(COUNTIF(CT$2:CT81,CT81)=1,CT81,\"\")","v":""},"","","",""]
[null,null,null,null,null,null,null,null,null,null,null,null,null,null,null,null,null,null,null,null,null,null,null,null,null,null,null,null,null,null,null,null,null,null,null,null,null,null,null,null,null,null,null,null,null,null,null,{"$f":"+IF(AW82=\"\",\"\",MAX(AV$1:AV81)+1)","v":""},{"$f":"IF(Compliance_Options!B104=\"\",\"\",Compliance_Options!B104)","v":""},{"$f":"IF(Compliance_Options!C104=\"\",\"\",Compliance_Options!C104)","v":""},{"$f":"IF(Compliance_Options!D104=\"\",\"\",Compliance_Options!D104)","v":""},{"$f":"IF(Compliance_Options!E104=\"\",\"\",Compliance_Options!E104)","v":""},{"$f":"IF(Compliance_Options!F104=\"\",\"\",Compliance_Options!F104)","v":""},"    ",{"$f":"IF(COUNTIF(BB$2:BB82,BB82)=1,BB82,\"\")","v":""},"","","","","","","",{"$f":"+IF(BJ82=\"\",\"\",MAX(BK$1:BK81)+1)","v":""},"","","","","","","",{"$f":"+IF(BR82=\"\",\"\",MAX(BS$1:BS81)+1)","v":""},"","","","","","","",{"$f":"+IF(BZ82=\"\",\"\",MAX(CA$1:CA81)+1)","v":""},"","","","","","","",{"$f":"+IF(CH82=\"\",\"\",MAX(CI$1:CI81)+1)","v":""},"","","","","",null,{"$f":"+IF(CQ82=\"\",\"\",MAX(CP$1:CP81)+1)","v":""},{"$f":"IF(Compliance_Options!B104=\"\",\"\",Compliance_Options!B104)","v":""},{"$f":"IF(Compliance_Options!C104=\"\",\"\",Compliance_Options!C104)","v":""},{"$f":"IF(Compliance_Options!D104=\"\",\"\",Compliance_Options!D104)","v":""},"  ",{"$f":"IF(COUNTIF(CT$2:CT82,CT82)=1,CT82,\"\")","v":""},"","","",""]
[null,null,null,null,null,null,null,null,null,null,null,null,null,null,null,null,null,null,null,null,null,null,null,null,null,null,null,null,null,null,null,null,null,null,null,null,null,null,null,null,null,null,null,null,null,null,null,{"$f":"+IF(AW83=\"\",\"\",MAX(AV$1:AV82)+1)","v":""},{"$f":"IF(Compliance_Options!B105=\"\",\"\",Compliance_Options!B105)","v":""},{"$f":"IF(Compliance_Options!C105=\"\",\"\",Compliance_Options!C105)","v":""},{"$f":"IF(Compliance_Options!D105=\"\",\"\",Compliance_Options!D105)","v":""},{"$f":"IF(Compliance_Options!E105=\"\",\"\",Compliance_Options!E105)","v":""},{"$f":"IF(Compliance_Options!F105=\"\",\"\",Compliance_Options!F105)","v":""},"    ",{"$f":"IF(COUNTIF(BB$2:BB83,BB83)=1,BB83,\"\")","v":""},"","","","","","","",{"$f":"+IF(BJ83=\"\",\"\",MAX(BK$1:BK82)+1)","v":""},"","","","","","","",{"$f":"+IF(BR83=\"\",\"\",MAX(BS$1:BS82)+1)","v":""},"","","","","","","",{"$f":"+IF(BZ83=\"\",\"\",MAX(CA$1:CA82)+1)","v":""},"","","","","","","",{"$f":"+IF(CH83=\"\",\"\",MAX(CI$1:CI82)+1)","v":""},"","","","","",null,{"$f":"+IF(CQ83=\"\",\"\",MAX(CP$1:CP82)+1)","v":""},{"$f":"IF(Compliance_Options!B105=\"\",\"\",Compliance_Options!B105)","v":""},{"$f":"IF(Compliance_Options!C105=\"\",\"\",Compliance_Options!C105)","v":""},{"$f":"IF(Compliance_Options!D105=\"\",\"\",Compliance_Options!D105)","v":""},"  ",{"$f":"IF(COUNTIF(CT$2:CT83,CT83)=1,CT83,\"\")","v":""},"","","",""]
[null,null,null,null,null,null,null,null,null,null,null,null,null,null,null,null,null,null,null,null,null,null,null,null,null,null,null,null,null,null,null,null,null,null,null,null,null,null,null,null,null,null,null,null,null,null,null,{"$f":"+IF(AW84=\"\",\"\",MAX(AV$1:AV83)+1)","v":""},{"$f":"IF(Compliance_Options!B106=\"\",\"\",Compliance_Options!B106)","v":""},{"$f":"IF(Compliance_Options!C106=\"\",\"\",Compliance_Options!C106)","v":""},{"$f":"IF(Compliance_Options!D106=\"\",\"\",Compliance_Options!D106)","v":""},{"$f":"IF(Compliance_Options!E106=\"\",\"\",Compliance_Options!E106)","v":""},{"$f":"IF(Compliance_Options!F106=\"\",\"\",Compliance_Options!F106)","v":""},"    ",{"$f":"IF(COUNTIF(BB$2:BB84,BB84)=1,BB84,\"\")","v":""},"","","","","","","",{"$f":"+IF(BJ84=\"\",\"\",MAX(BK$1:BK83)+1)","v":""},"","","","","","","",{"$f":"+IF(BR84=\"\",\"\",MAX(BS$1:BS83)+1)","v":""},"","","","","","","",{"$f":"+IF(BZ84=\"\",\"\",MAX(CA$1:CA83)+1)","v":""},"","","","","","","",{"$f":"+IF(CH84=\"\",\"\",MAX(CI$1:CI83)+1)","v":""},"","","","","",null,{"$f":"+IF(CQ84=\"\",\"\",MAX(CP$1:CP83)+1)","v":""},{"$f":"IF(Compliance_Options!B106=\"\",\"\",Compliance_Options!B106)","v":""},{"$f":"IF(Compliance_Options!C106=\"\",\"\",Compliance_Options!C106)","v":""},{"$f":"IF(Compliance_Options!D106=\"\",\"\",Compliance_Options!D106)","v":""},"  ",{"$f":"IF(COUNTIF(CT$2:CT84,CT84)=1,CT84,\"\")","v":""},"","","",""]
[null,null,null,null,null,null,null,null,null,null,null,null,null,null,null,null,null,null,null,null,null,null,null,null,null,null,null,null,null,null,null,null,null,null,null,null,null,null,null,null,null,null,null,null,null,null,null,{"$f":"+IF(AW85=\"\",\"\",MAX(AV$1:AV84)+1)","v":""},{"$f":"IF(Compliance_Options!B107=\"\",\"\",Compliance_Options!B107)","v":""},{"$f":"IF(Compliance_Options!C107=\"\",\"\",Compliance_Options!C107)","v":""},{"$f":"IF(Compliance_Options!D107=\"\",\"\",Compliance_Options!D107)","v":""},{"$f":"IF(Compliance_Options!E107=\"\",\"\",Compliance_Options!E107)","v":""},{"$f":"IF(Compliance_Options!F107=\"\",\"\",Compliance_Options!F107)","v":""},"    ",{"$f":"IF(COUNTIF(BB$2:BB85,BB85)=1,BB85,\"\")","v":""},"","","","","","","",{"$f":"+IF(BJ85=\"\",\"\",MAX(BK$1:BK84)+1)","v":""},"","","","","","","",{"$f":"+IF(BR85=\"\",\"\",MAX(BS$1:BS84)+1)","v":""},"","","","","","","",{"$f":"+IF(BZ85=\"\",\"\",MAX(CA$1:CA84)+1)","v":""},"","","","","","","",{"$f":"+IF(CH85=\"\",\"\",MAX(CI$1:CI84)+1)","v":""},"","","","","",null,{"$f":"+IF(CQ85=\"\",\"\",MAX(CP$1:CP84)+1)","v":""},{"$f":"IF(Compliance_Options!B107=\"\",\"\",Compliance_Options!B107)","v":""},{"$f":"IF(Compliance_Options!C107=\"\",\"\",Compliance_Options!C107)","v":""},{"$f":"IF(Compliance_Options!D107=\"\",\"\",Compliance_Options!D107)","v":""},"  ",{"$f":"IF(COUNTIF(CT$2:CT85,CT85)=1,CT85,\"\")","v":""},"","","",""]
[null,null,null,null,null,null,null,null,null,null,null,null,null,null,null,null,null,null,null,null,null,null,null,null,null,null,null,null,null,null,null,null,null,null,null,null,null,null,null,null,null,null,null,null,null,null,null,{"$f":"+IF(AW86=\"\",\"\",MAX(AV$1:AV85)+1)","v":""},{"$f":"IF(Compliance_Options!B108=\"\",\"\",Compliance_Options!B108)","v":""},{"$f":"IF(Compliance_Options!C108=\"\",\"\",Compliance_Options!C108)","v":""},{"$f":"IF(Compliance_Options!D108=\"\",\"\",Compliance_Options!D108)","v":""},{"$f":"IF(Compliance_Options!E108=\"\",\"\",Compliance_Options!E108)","v":""},{"$f":"IF(Compliance_Options!F108=\"\",\"\",Compliance_Options!F108)","v":""},"    ",{"$f":"IF(COUNTIF(BB$2:BB86,BB86)=1,BB86,\"\")","v":""},"","","","","","","",{"$f":"+IF(BJ86=\"\",\"\",MAX(BK$1:BK85)+1)","v":""},"","","","","","","",{"$f":"+IF(BR86=\"\",\"\",MAX(BS$1:BS85)+1)","v":""},"","","","","","","",{"$f":"+IF(BZ86=\"\",\"\",MAX(CA$1:CA85)+1)","v":""},"","","","","","","",{"$f":"+IF(CH86=\"\",\"\",MAX(CI$1:CI85)+1)","v":""},"","","","","",null,{"$f":"+IF(CQ86=\"\",\"\",MAX(CP$1:CP85)+1)","v":""},{"$f":"IF(Compliance_Options!B108=\"\",\"\",Compliance_Options!B108)","v":""},{"$f":"IF(Compliance_Options!C108=\"\",\"\",Compliance_Options!C108)","v":""},{"$f":"IF(Compliance_Options!D108=\"\",\"\",Compliance_Options!D108)","v":""},"  ",{"$f":"IF(COUNTIF(CT$2:CT86,CT86)=1,CT86,\"\")","v":""},"","","",""]
[null,null,null,null,null,null,null,null,null,null,null,null,null,null,null,null,null,null,null,null,null,null,null,null,null,null,null,null,null,null,null,null,null,null,null,null,null,null,null,null,null,null,null,null,null,null,null,{"$f":"+IF(AW87=\"\",\"\",MAX(AV$1:AV86)+1)","v":""},{"$f":"IF(Compliance_Options!B109=\"\",\"\",Compliance_Options!B109)","v":""},{"$f":"IF(Compliance_Options!C109=\"\",\"\",Compliance_Options!C109)","v":""},{"$f":"IF(Compliance_Options!D109=\"\",\"\",Compliance_Options!D109)","v":""},{"$f":"IF(Compliance_Options!E109=\"\",\"\",Compliance_Options!E109)","v":""},{"$f":"IF(Compliance_Options!F109=\"\",\"\",Compliance_Options!F109)","v":""},"    ",{"$f":"IF(COUNTIF(BB$2:BB87,BB87)=1,BB87,\"\")","v":""},"","","","","","","",{"$f":"+IF(BJ87=\"\",\"\",MAX(BK$1:BK86)+1)","v":""},"","","","","","","",{"$f":"+IF(BR87=\"\",\"\",MAX(BS$1:BS86)+1)","v":""},"","","","","","","",{"$f":"+IF(BZ87=\"\",\"\",MAX(CA$1:CA86)+1)","v":""},"","","","","","","",{"$f":"+IF(CH87=\"\",\"\",MAX(CI$1:CI86)+1)","v":""},"","","","","",null,{"$f":"+IF(CQ87=\"\",\"\",MAX(CP$1:CP86)+1)","v":""},{"$f":"IF(Compliance_Options!B109=\"\",\"\",Compliance_Options!B109)","v":""},{"$f":"IF(Compliance_Options!C109=\"\",\"\",Compliance_Options!C109)","v":""},{"$f":"IF(Compliance_Options!D109=\"\",\"\",Compliance_Options!D109)","v":""},"  ",{"$f":"IF(COUNTIF(CT$2:CT87,CT87)=1,CT87,\"\")","v":""},"","","",""]
[null,null,null,null,null,null,null,null,null,null,null,null,null,null,null,null,null,null,null,null,null,null,null,null,null,null,null,null,null,null,null,null,null,null,null,null,null,null,null,null,null,null,null,null,null,null,null,{"$f":"+IF(AW88=\"\",\"\",MAX(AV$1:AV87)+1)","v":""},{"$f":"IF(Compliance_Options!B110=\"\",\"\",Compliance_Options!B110)","v":""},{"$f":"IF(Compliance_Options!C110=\"\",\"\",Compliance_Options!C110)","v":""},{"$f":"IF(Compliance_Options!D110=\"\",\"\",Compliance_Options!D110)","v":""},{"$f":"IF(Compliance_Options!E110=\"\",\"\",Compliance_Options!E110)","v":""},{"$f":"IF(Compliance_Options!F110=\"\",\"\",Compliance_Options!F110)","v":""},"    ",{"$f":"IF(COUNTIF(BB$2:BB88,BB88)=1,BB88,\"\")","v":""},"","","","","","","",{"$f":"+IF(BJ88=\"\",\"\",MAX(BK$1:BK87)+1)","v":""},"","","","","","","",{"$f":"+IF(BR88=\"\",\"\",MAX(BS$1:BS87)+1)","v":""},"","","","","","","",{"$f":"+IF(BZ88=\"\",\"\",MAX(CA$1:CA87)+1)","v":""},"","","","","","","",{"$f":"+IF(CH88=\"\",\"\",MAX(CI$1:CI87)+1)","v":""},"","","","","",null,{"$f":"+IF(CQ88=\"\",\"\",MAX(CP$1:CP87)+1)","v":""},{"$f":"IF(Compliance_Options!B110=\"\",\"\",Compliance_Options!B110)","v":""},{"$f":"IF(Compliance_Options!C110=\"\",\"\",Compliance_Options!C110)","v":""},{"$f":"IF(Compliance_Options!D110=\"\",\"\",Compliance_Options!D110)","v":""},"  ",{"$f":"IF(COUNTIF(CT$2:CT88,CT88)=1,CT88,\"\")","v":""},"","","",""]
[null,null,null,null,null,null,null,null,null,null,null,null,null,null,null,null,null,null,null,null,null,null,null,null,null,null,null,null,null,null,null,null,null,null,null,null,null,null,null,null,null,null,null,null,null,null,null,{"$f":"+IF(AW89=\"\",\"\",MAX(AV$1:AV88)+1)","v":""},{"$f":"IF(Compliance_Options!B111=\"\",\"\",Compliance_Options!B111)","v":""},{"$f":"IF(Compliance_Options!C111=\"\",\"\",Compliance_Options!C111)","v":""},{"$f":"IF(Compliance_Options!D111=\"\",\"\",Compliance_Options!D111)","v":""},{"$f":"IF(Compliance_Options!E111=\"\",\"\",Compliance_Options!E111)","v":""},{"$f":"IF(Compliance_Options!F111=\"\",\"\",Compliance_Options!F111)","v":""},"    ",{"$f":"IF(COUNTIF(BB$2:BB89,BB89)=1,BB89,\"\")","v":""},"","","","","","","",{"$f":"+IF(BJ89=\"\",\"\",MAX(BK$1:BK88)+1)","v":""},"","","","","","","",{"$f":"+IF(BR89=\"\",\"\",MAX(BS$1:BS88)+1)","v":""},"","","","","","","",{"$f":"+IF(BZ89=\"\",\"\",MAX(CA$1:CA88)+1)","v":""},"","","","","","","",{"$f":"+IF(CH89=\"\",\"\",MAX(CI$1:CI88)+1)","v":""},"","","","","",null,{"$f":"+IF(CQ89=\"\",\"\",MAX(CP$1:CP88)+1)","v":""},{"$f":"IF(Compliance_Options!B111=\"\",\"\",Compliance_Options!B111)","v":""},{"$f":"IF(Compliance_Options!C111=\"\",\"\",Compliance_Options!C111)","v":""},{"$f":"IF(Compliance_Options!D111=\"\",\"\",Compliance_Options!D111)","v":""},"  ",{"$f":"IF(COUNTIF(CT$2:CT89,CT89)=1,CT89,\"\")","v":""},"","","",""]
[null,null,null,null,null,null,null,null,null,null,null,null,null,null,null,null,null,null,null,null,null,null,null,null,null,null,null,null,null,null,null,null,null,null,null,null,null,null,null,null,null,null,null,null,null,null,null,{"$f":"+IF(AW90=\"\",\"\",MAX(AV$1:AV89)+1)","v":""},{"$f":"IF(Compliance_Options!B112=\"\",\"\",Compliance_Options!B112)","v":""},{"$f":"IF(Compliance_Options!C112=\"\",\"\",Compliance_Options!C112)","v":""},{"$f":"IF(Compliance_Options!D112=\"\",\"\",Compliance_Options!D112)","v":""},{"$f":"IF(Compliance_Options!E112=\"\",\"\",Compliance_Options!E112)","v":""},{"$f":"IF(Compliance_Options!F112=\"\",\"\",Compliance_Options!F112)","v":""},"    ",{"$f":"IF(COUNTIF(BB$2:BB90,BB90)=1,BB90,\"\")","v":""},"","","","","","","",{"$f":"+IF(BJ90=\"\",\"\",MAX(BK$1:BK89)+1)","v":""},"","","","","","","",{"$f":"+IF(BR90=\"\",\"\",MAX(BS$1:BS89)+1)","v":""},"","","","","","","",{"$f":"+IF(BZ90=\"\",\"\",MAX(CA$1:CA89)+1)","v":""},"","","","","","","",{"$f":"+IF(CH90=\"\",\"\",MAX(CI$1:CI89)+1)","v":""},"","","","","",null,{"$f":"+IF(CQ90=\"\",\"\",MAX(CP$1:CP89)+1)","v":""},{"$f":"IF(Compliance_Options!B112=\"\",\"\",Compliance_Options!B112)","v":""},{"$f":"IF(Compliance_Options!C112=\"\",\"\",Compliance_Options!C112)","v":""},{"$f":"IF(Compliance_Options!D112=\"\",\"\",Compliance_Options!D112)","v":""},"  ",{"$f":"IF(COUNTIF(CT$2:CT90,CT90)=1,CT90,\"\")","v":""},"","","",""]
[null,null,null,null,null,null,null,null,null,null,null,null,null,null,null,null,null,null,null,null,null,null,null,null,null,null,null,null,null,null,null,null,null,null,null,null,null,null,null,null,null,null,null,null,null,null,null,{"$f":"+IF(AW91=\"\",\"\",MAX(AV$1:AV90)+1)","v":""},{"$f":"IF(Compliance_Options!B113=\"\",\"\",Compliance_Options!B113)","v":""},{"$f":"IF(Compliance_Options!C113=\"\",\"\",Compliance_Options!C113)","v":""},{"$f":"IF(Compliance_Options!D113=\"\",\"\",Compliance_Options!D113)","v":""},{"$f":"IF(Compliance_Options!E113=\"\",\"\",Compliance_Options!E113)","v":""},{"$f":"IF(Compliance_Options!F113=\"\",\"\",Compliance_Options!F113)","v":""},"    ",{"$f":"IF(COUNTIF(BB$2:BB91,BB91)=1,BB91,\"\")","v":""},"","","","","","","",{"$f":"+IF(BJ91=\"\",\"\",MAX(BK$1:BK90)+1)","v":""},"","","","","","","",{"$f":"+IF(BR91=\"\",\"\",MAX(BS$1:BS90)+1)","v":""},"","","","","","","",{"$f":"+IF(BZ91=\"\",\"\",MAX(CA$1:CA90)+1)","v":""},"","","","","","","",{"$f":"+IF(CH91=\"\",\"\",MAX(CI$1:CI90)+1)","v":""},"","","","","",null,{"$f":"+IF(CQ91=\"\",\"\",MAX(CP$1:CP90)+1)","v":""},{"$f":"IF(Compliance_Options!B113=\"\",\"\",Compliance_Options!B113)","v":""},{"$f":"IF(Compliance_Options!C113=\"\",\"\",Compliance_Options!C113)","v":""},{"$f":"IF(Compliance_Options!D113=\"\",\"\",Compliance_Options!D113)","v":""},"  ",{"$f":"IF(COUNTIF(CT$2:CT91,CT91)=1,CT91,\"\")","v":""},"","","",""]
[null,null,null,null,null,null,null,null,null,null,null,null,null,null,null,null,null,null,null,null,null,null,null,null,null,null,null,null,null,null,null,null,null,null,null,null,null,null,null,null,null,null,null,null,null,null,null,{"$f":"+IF(AW92=\"\",\"\",MAX(AV$1:AV91)+1)","v":""},{"$f":"IF(Compliance_Options!B114=\"\",\"\",Compliance_Options!B114)","v":""},{"$f":"IF(Compliance_Options!C114=\"\",\"\",Compliance_Options!C114)","v":""},{"$f":"IF(Compliance_Options!D114=\"\",\"\",Compliance_Options!D114)","v":""},{"$f":"IF(Compliance_Options!E114=\"\",\"\",Compliance_Options!E114)","v":""},{"$f":"IF(Compliance_Options!F114=\"\",\"\",Compliance_Options!F114)","v":""},"    ",{"$f":"IF(COUNTIF(BB$2:BB92,BB92)=1,BB92,\"\")","v":""},"","","","","","","",{"$f":"+IF(BJ92=\"\",\"\",MAX(BK$1:BK91)+1)","v":""},"","","","","","","",{"$f":"+IF(BR92=\"\",\"\",MAX(BS$1:BS91)+1)","v":""},"","","","","","","",{"$f":"+IF(BZ92=\"\",\"\",MAX(CA$1:CA91)+1)","v":""},"","","","","","","",{"$f":"+IF(CH92=\"\",\"\",MAX(CI$1:CI91)+1)","v":""},"","","","","",null,{"$f":"+IF(CQ92=\"\",\"\",MAX(CP$1:CP91)+1)","v":""},{"$f":"IF(Compliance_Options!B114=\"\",\"\",Compliance_Options!B114)","v":""},{"$f":"IF(Compliance_Options!C114=\"\",\"\",Compliance_Options!C114)","v":""},{"$f":"IF(Compliance_Options!D114=\"\",\"\",Compliance_Options!D114)","v":""},"  ",{"$f":"IF(COUNTIF(CT$2:CT92,CT92)=1,CT92,\"\")","v":""},"","","",""]
[null,null,null,null,null,null,null,null,null,null,null,null,null,null,null,null,null,null,null,null,null,null,null,null,null,null,null,null,null,null,null,null,null,null,null,null,null,null,null,null,null,null,null,null,null,null,null,{"$f":"+IF(AW93=\"\",\"\",MAX(AV$1:AV92)+1)","v":""},{"$f":"IF(Compliance_Options!B115=\"\",\"\",Compliance_Options!B115)","v":""},{"$f":"IF(Compliance_Options!C115=\"\",\"\",Compliance_Options!C115)","v":""},{"$f":"IF(Compliance_Options!D115=\"\",\"\",Compliance_Options!D115)","v":""},{"$f":"IF(Compliance_Options!E115=\"\",\"\",Compliance_Options!E115)","v":""},{"$f":"IF(Compliance_Options!F115=\"\",\"\",Compliance_Options!F115)","v":""},"    ",{"$f":"IF(COUNTIF(BB$2:BB93,BB93)=1,BB93,\"\")","v":""},"","","","","","","",{"$f":"+IF(BJ93=\"\",\"\",MAX(BK$1:BK92)+1)","v":""},"","","","","","","",{"$f":"+IF(BR93=\"\",\"\",MAX(BS$1:BS92)+1)","v":""},"","","","","","","",{"$f":"+IF(BZ93=\"\",\"\",MAX(CA$1:CA92)+1)","v":""},"","","","","","","",{"$f":"+IF(CH93=\"\",\"\",MAX(CI$1:CI92)+1)","v":""},"","","","","",null,{"$f":"+IF(CQ93=\"\",\"\",MAX(CP$1:CP92)+1)","v":""},{"$f":"IF(Compliance_Options!B115=\"\",\"\",Compliance_Options!B115)","v":""},{"$f":"IF(Compliance_Options!C115=\"\",\"\",Compliance_Options!C115)","v":""},{"$f":"IF(Compliance_Options!D115=\"\",\"\",Compliance_Options!D115)","v":""},"  ",{"$f":"IF(COUNTIF(CT$2:CT93,CT93)=1,CT93,\"\")","v":""},"","","",""]
[null,null,null,null,null,null,null,null,null,null,null,null,null,null,null,null,null,null,null,null,null,null,null,null,null,null,null,null,null,null,null,null,null,null,null,null,null,null,null,null,null,null,null,null,null,null,null,{"$f":"+IF(AW94=\"\",\"\",MAX(AV$1:AV93)+1)","v":""},{"$f":"IF(Compliance_Options!B116=\"\",\"\",Compliance_Options!B116)","v":""},{"$f":"IF(Compliance_Options!C116=\"\",\"\",Compliance_Options!C116)","v":""},{"$f":"IF(Compliance_Options!D116=\"\",\"\",Compliance_Options!D116)","v":""},{"$f":"IF(Compliance_Options!E116=\"\",\"\",Compliance_Options!E116)","v":""},{"$f":"IF(Compliance_Options!F116=\"\",\"\",Compliance_Options!F116)","v":""},"    ",{"$f":"IF(COUNTIF(BB$2:BB94,BB94)=1,BB94,\"\")","v":""},"","","","","","","",{"$f":"+IF(BJ94=\"\",\"\",MAX(BK$1:BK93)+1)","v":""},"","","","","","","",{"$f":"+IF(BR94=\"\",\"\",MAX(BS$1:BS93)+1)","v":""},"","","","","","","",{"$f":"+IF(BZ94=\"\",\"\",MAX(CA$1:CA93)+1)","v":""},"","","","","","","",{"$f":"+IF(CH94=\"\",\"\",MAX(CI$1:CI93)+1)","v":""},"","","","","",null,{"$f":"+IF(CQ94=\"\",\"\",MAX(CP$1:CP93)+1)","v":""},{"$f":"IF(Compliance_Options!B116=\"\",\"\",Compliance_Options!B116)","v":""},{"$f":"IF(Compliance_Options!C116=\"\",\"\",Compliance_Options!C116)","v":""},{"$f":"IF(Compliance_Options!D116=\"\",\"\",Compliance_Options!D116)","v":""},"  ",{"$f":"IF(COUNTIF(CT$2:CT94,CT94)=1,CT94,\"\")","v":""},"","","",""]
[null,null,null,null,null,null,null,null,null,null,null,null,null,null,null,null,null,null,null,null,null,null,null,null,null,null,null,null,null,null,null,null,null,null,null,null,null,null,null,null,null,null,null,null,null,null,null,{"$f":"+IF(AW95=\"\",\"\",MAX(AV$1:AV94)+1)","v":""},{"$f":"IF(Compliance_Options!B117=\"\",\"\",Compliance_Options!B117)","v":""},{"$f":"IF(Compliance_Options!C117=\"\",\"\",Compliance_Options!C117)","v":""},{"$f":"IF(Compliance_Options!D117=\"\",\"\",Compliance_Options!D117)","v":""},{"$f":"IF(Compliance_Options!E117=\"\",\"\",Compliance_Options!E117)","v":""},{"$f":"IF(Compliance_Options!F117=\"\",\"\",Compliance_Options!F117)","v":""},"    ",{"$f":"IF(COUNTIF(BB$2:BB95,BB95)=1,BB95,\"\")","v":""},"","","","","","","",{"$f":"+IF(BJ95=\"\",\"\",MAX(BK$1:BK94)+1)","v":""},"","","","","","","",{"$f":"+IF(BR95=\"\",\"\",MAX(BS$1:BS94)+1)","v":""},"","","","","","","",{"$f":"+IF(BZ95=\"\",\"\",MAX(CA$1:CA94)+1)","v":""},"","","","","","","",{"$f":"+IF(CH95=\"\",\"\",MAX(CI$1:CI94)+1)","v":""},"","","","","",null,{"$f":"+IF(CQ95=\"\",\"\",MAX(CP$1:CP94)+1)","v":""},{"$f":"IF(Compliance_Options!B117=\"\",\"\",Compliance_Options!B117)","v":""},{"$f":"IF(Compliance_Options!C117=\"\",\"\",Compliance_Options!C117)","v":""},{"$f":"IF(Compliance_Options!D117=\"\",\"\",Compliance_Options!D117)","v":""},"  ",{"$f":"IF(COUNTIF(CT$2:CT95,CT95)=1,CT95,\"\")","v":""},"","","",""]
[null,null,null,null,null,null,null,null,null,null,null,null,null,null,null,null,null,null,null,null,null,null,null,null,null,null,null,null,null,null,null,null,null,null,null,null,null,null,null,null,null,null,null,null,null,null,null,{"$f":"+IF(AW96=\"\",\"\",MAX(AV$1:AV95)+1)","v":""},{"$f":"IF(Compliance_Options!B118=\"\",\"\",Compliance_Options!B118)","v":""},{"$f":"IF(Compliance_Options!C118=\"\",\"\",Compliance_Options!C118)","v":""},{"$f":"IF(Compliance_Options!D118=\"\",\"\",Compliance_Options!D118)","v":""},{"$f":"IF(Compliance_Options!E118=\"\",\"\",Compliance_Options!E118)","v":""},{"$f":"IF(Compliance_Options!F118=\"\",\"\",Compliance_Options!F118)","v":""},"    ",{"$f":"IF(COUNTIF(BB$2:BB96,BB96)=1,BB96,\"\")","v":""},"","","","","","","",{"$f":"+IF(BJ96=\"\",\"\",MAX(BK$1:BK95)+1)","v":""},"","","","","","","",{"$f":"+IF(BR96=\"\",\"\",MAX(BS$1:BS95)+1)","v":""},"","","","","","","",{"$f":"+IF(BZ96=\"\",\"\",MAX(CA$1:CA95)+1)","v":""},"","","","","","","",{"$f":"+IF(CH96=\"\",\"\",MAX(CI$1:CI95)+1)","v":""},"","","","","",null,{"$f":"+IF(CQ96=\"\",\"\",MAX(CP$1:CP95)+1)","v":""},{"$f":"IF(Compliance_Options!B118=\"\",\"\",Compliance_Options!B118)","v":""},{"$f":"IF(Compliance_Options!C118=\"\",\"\",Compliance_Options!C118)","v":""},{"$f":"IF(Compliance_Options!D118=\"\",\"\",Compliance_Options!D118)","v":""},"  ",{"$f":"IF(COUNTIF(CT$2:CT96,CT96)=1,CT96,\"\")","v":""},"","","",""]
[null,null,null,null,null,null,null,null,null,null,null,null,null,null,null,null,null,null,null,null,null,null,null,null,null,null,null,null,null,null,null,null,null,null,null,null,null,null,null,null,null,null,null,null,null,null,null,{"$f":"+IF(AW97=\"\",\"\",MAX(AV$1:AV96)+1)","v":""},{"$f":"IF(Compliance_Options!B119=\"\",\"\",Compliance_Options!B119)","v":""},{"$f":"IF(Compliance_Options!C119=\"\",\"\",Compliance_Options!C119)","v":""},{"$f":"IF(Compliance_Options!D119=\"\",\"\",Compliance_Options!D119)","v":""},{"$f":"IF(Compliance_Options!E119=\"\",\"\",Compliance_Options!E119)","v":""},{"$f":"IF(Compliance_Options!F119=\"\",\"\",Compliance_Options!F119)","v":""},"    ",{"$f":"IF(COUNTIF(BB$2:BB97,BB97)=1,BB97,\"\")","v":""},"","","","","","","",{"$f":"+IF(BJ97=\"\",\"\",MAX(BK$1:BK96)+1)","v":""},"","","","","","","",{"$f":"+IF(BR97=\"\",\"\",MAX(BS$1:BS96)+1)","v":""},"","","","","","","",{"$f":"+IF(BZ97=\"\",\"\",MAX(CA$1:CA96)+1)","v":""},"","","","","","","",{"$f":"+IF(CH97=\"\",\"\",MAX(CI$1:CI96)+1)","v":""},"","","","","",null,{"$f":"+IF(CQ97=\"\",\"\",MAX(CP$1:CP96)+1)","v":""},{"$f":"IF(Compliance_Options!B119=\"\",\"\",Compliance_Options!B119)","v":""},{"$f":"IF(Compliance_Options!C119=\"\",\"\",Compliance_Options!C119)","v":""},{"$f":"IF(Compliance_Options!D119=\"\",\"\",Compliance_Options!D119)","v":""},"  ",{"$f":"IF(COUNTIF(CT$2:CT97,CT97)=1,CT97,\"\")","v":""},"","","",""]
[null,null,null,null,null,null,null,null,null,null,null,null,null,null,null,null,null,null,null,null,null,null,null,null,null,null,null,null,null,null,null,null,null,null,null,null,null,null,null,null,null,null,null,null,null,null,null,{"$f":"+IF(AW98=\"\",\"\",MAX(AV$1:AV97)+1)","v":""},{"$f":"IF(Compliance_Options!B120=\"\",\"\",Compliance_Options!B120)","v":""},{"$f":"IF(Compliance_Options!C120=\"\",\"\",Compliance_Options!C120)","v":""},{"$f":"IF(Compliance_Options!D120=\"\",\"\",Compliance_Options!D120)","v":""},{"$f":"IF(Compliance_Options!E120=\"\",\"\",Compliance_Options!E120)","v":""},{"$f":"IF(Compliance_Options!F120=\"\",\"\",Compliance_Options!F120)","v":""},"    ",{"$f":"IF(COUNTIF(BB$2:BB98,BB98)=1,BB98,\"\")","v":""},"","","","","","","",{"$f":"+IF(BJ98=\"\",\"\",MAX(BK$1:BK97)+1)","v":""},"","","","","","","",{"$f":"+IF(BR98=\"\",\"\",MAX(BS$1:BS97)+1)","v":""},"","","","","","","",{"$f":"+IF(BZ98=\"\",\"\",MAX(CA$1:CA97)+1)","v":""},"","","","","","","",{"$f":"+IF(CH98=\"\",\"\",MAX(CI$1:CI97)+1)","v":""},"","","","","",null,{"$f":"+IF(CQ98=\"\",\"\",MAX(CP$1:CP97)+1)","v":""},{"$f":"IF(Compliance_Options!B120=\"\",\"\",Compliance_Options!B120)","v":""},{"$f":"IF(Compliance_Options!C120=\"\",\"\",Compliance_Options!C120)","v":""},{"$f":"IF(Compliance_Options!D120=\"\",\"\",Compliance_Options!D120)","v":""},"  ",{"$f":"IF(COUNTIF(CT$2:CT98,CT98)=1,CT98,\"\")","v":""},"","","",""]
[null,null,null,null,null,null,null,null,null,null,null,null,null,null,null,null,null,null,null,null,null,null,null,null,null,null,null,null,null,null,null,null,null,null,null,null,null,null,null,null,null,null,null,null,null,null,null,{"$f":"+IF(AW99=\"\",\"\",MAX(AV$1:AV98)+1)","v":""},{"$f":"IF(Compliance_Options!B121=\"\",\"\",Compliance_Options!B121)","v":""},{"$f":"IF(Compliance_Options!C121=\"\",\"\",Compliance_Options!C121)","v":""},{"$f":"IF(Compliance_Options!D121=\"\",\"\",Compliance_Options!D121)","v":""},{"$f":"IF(Compliance_Options!E121=\"\",\"\",Compliance_Options!E121)","v":""},{"$f":"IF(Compliance_Options!F121=\"\",\"\",Compliance_Options!F121)","v":""},"    ",{"$f":"IF(COUNTIF(BB$2:BB99,BB99)=1,BB99,\"\")","v":""},"","","","","","","",{"$f":"+IF(BJ99=\"\",\"\",MAX(BK$1:BK98)+1)","v":""},"","","","","","","",{"$f":"+IF(BR99=\"\",\"\",MAX(BS$1:BS98)+1)","v":""},"","","","","","","",{"$f":"+IF(BZ99=\"\",\"\",MAX(CA$1:CA98)+1)","v":""},"","","","","","","",{"$f":"+IF(CH99=\"\",\"\",MAX(CI$1:CI98)+1)","v":""},"","","","","",null,{"$f":"+IF(CQ99=\"\",\"\",MAX(CP$1:CP98)+1)","v":""},{"$f":"IF(Compliance_Options!B121=\"\",\"\",Compliance_Options!B121)","v":""},{"$f":"IF(Compliance_Options!C121=\"\",\"\",Compliance_Options!C121)","v":""},{"$f":"IF(Compliance_Options!D121=\"\",\"\",Compliance_Options!D121)","v":""},"  ",{"$f":"IF(COUNTIF(CT$2:CT99,CT99)=1,CT99,\"\")","v":""},"","","",""]
[null,null,null,null,null,null,null,null,null,null,null,null,null,null,null,null,null,null,null,null,null,null,null,null,null,null,null,null,null,null,null,null,null,null,null,null,null,null,null,null,null,null,null,null,null,null,null,{"$f":"+IF(AW100=\"\",\"\",MAX(AV$1:AV99)+1)","v":""},{"$f":"IF(Compliance_Options!B122=\"\",\"\",Compliance_Options!B122)","v":""},{"$f":"IF(Compliance_Options!C122=\"\",\"\",Compliance_Options!C122)","v":""},{"$f":"IF(Compliance_Options!D122=\"\",\"\",Compliance_Options!D122)","v":""},{"$f":"IF(Compliance_Options!E122=\"\",\"\",Compliance_Options!E122)","v":""},{"$f":"IF(Compliance_Options!F122=\"\",\"\",Compliance_Options!F122)","v":""},"    ",{"$f":"IF(COUNTIF(BB$2:BB100,BB100)=1,BB100,\"\")","v":""},"","","","","","","",{"$f":"+IF(BJ100=\"\",\"\",MAX(BK$1:BK99)+1)","v":""},"","","","","","","",{"$f":"+IF(BR100=\"\",\"\",MAX(BS$1:BS99)+1)","v":""},"","","","","","","",{"$f":"+IF(BZ100=\"\",\"\",MAX(CA$1:CA99)+1)","v":""},"","","","","","","",{"$f":"+IF(CH100=\"\",\"\",MAX(CI$1:CI99)+1)","v":""},"","","","","",null,{"$f":"+IF(CQ100=\"\",\"\",MAX(CP$1:CP99)+1)","v":""},{"$f":"IF(Compliance_Options!B122=\"\",\"\",Compliance_Options!B122)","v":""},{"$f":"IF(Compliance_Options!C122=\"\",\"\",Compliance_Options!C122)","v":""},{"$f":"IF(Compliance_Options!D122=\"\",\"\",Compliance_Options!D122)","v":""},"  ",{"$f":"IF(COUNTIF(CT$2:CT100,CT100)=1,CT100,\"\")","v":""},"","","",""]
[null,null,null,null,null,null,null,null,null,null,null,null,null,null,null,null,null,null,null,null,null,null,null,null,null,null,null,null,null,null,null,null,null,null,null,null,null,null,null,null,null,null,null,null,null,null,null,{"$f":"+IF(AW101=\"\",\"\",MAX(AV$1:AV100)+1)","v":""},{"$f":"IF(Compliance_Options!B123=\"\",\"\",Compliance_Options!B123)","v":""},{"$f":"IF(Compliance_Options!C123=\"\",\"\",Compliance_Options!C123)","v":""},{"$f":"IF(Compliance_Options!D123=\"\",\"\",Compliance_Options!D123)","v":""},{"$f":"IF(Compliance_Options!E123=\"\",\"\",Compliance_Options!E123)","v":""},{"$f":"IF(Compliance_Options!F123=\"\",\"\",Compliance_Options!F123)","v":""},"    ",{"$f":"IF(COUNTIF(BB$2:BB101,BB101)=1,BB101,\"\")","v":""},"","","","","","","",{"$f":"+IF(BJ101=\"\",\"\",MAX(BK$1:BK100)+1)","v":""},"","","","","","","",{"$f":"+IF(BR101=\"\",\"\",MAX(BS$1:BS100)+1)","v":""},"","","","","","","",{"$f":"+IF(BZ101=\"\",\"\",MAX(CA$1:CA100)+1)","v":""},"","","","","","","",{"$f":"+IF(CH101=\"\",\"\",MAX(CI$1:CI100)+1)","v":""},"","","","","",null,{"$f":"+IF(CQ101=\"\",\"\",MAX(CP$1:CP100)+1)","v":""},{"$f":"IF(Compliance_Options!B123=\"\",\"\",Compliance_Options!B123)","v":""},{"$f":"IF(Compliance_Options!C123=\"\",\"\",Compliance_Options!C123)","v":""},{"$f":"IF(Compliance_Options!D123=\"\",\"\",Compliance_Options!D123)","v":""},"  ",{"$f":"IF(COUNTIF(CT$2:CT101,CT101)=1,CT101,\"\")","v":""},"","","",""]
[null,null,null,null,null,null,null,null,null,null,null,null,null,null,null,null,null,null,null,null,null,null,null,null,null,null,null,null,null,null,null,null,null,null,null,null,null,null,null,null,null,null,null,null,null,null,null,{"$f":"+IF(AW102=\"\",\"\",MAX(AV$1:AV101)+1)","v":""},{"$f":"IF(Compliance_Options!B124=\"\",\"\",Compliance_Options!B124)","v":""},{"$f":"IF(Compliance_Options!C124=\"\",\"\",Compliance_Options!C124)","v":""},{"$f":"IF(Compliance_Options!D124=\"\",\"\",Compliance_Options!D124)","v":""},{"$f":"IF(Compliance_Options!E124=\"\",\"\",Compliance_Options!E124)","v":""},{"$f":"IF(Compliance_Options!F124=\"\",\"\",Compliance_Options!F124)","v":""},"    ",{"$f":"IF(COUNTIF(BB$2:BB102,BB102)=1,BB102,\"\")","v":""},"","","","","","","",{"$f":"+IF(BJ102=\"\",\"\",MAX(BK$1:BK101)+1)","v":""},"","","","","","","",{"$f":"+IF(BR102=\"\",\"\",MAX(BS$1:BS101)+1)","v":""},"","","","","","","",{"$f":"+IF(BZ102=\"\",\"\",MAX(CA$1:CA101)+1)","v":""},"","","","","","","",{"$f":"+IF(CH102=\"\",\"\",MAX(CI$1:CI101)+1)","v":""},"","","","","",null,{"$f":"+IF(CQ102=\"\",\"\",MAX(CP$1:CP101)+1)","v":""},{"$f":"IF(Compliance_Options!B124=\"\",\"\",Compliance_Options!B124)","v":""},{"$f":"IF(Compliance_Options!C124=\"\",\"\",Compliance_Options!C124)","v":""},{"$f":"IF(Compliance_Options!D124=\"\",\"\",Compliance_Options!D124)","v":""},"  ",{"$f":"IF(COUNTIF(CT$2:CT102,CT102)=1,CT102,\"\")","v":""},"","","",""]
[null,null,null,null,null,null,null,null,null,null,null,null,null,null,null,null,null,null,null,null,null,null,null,null,null,null,null,null,null,null,null,null,null,null,null,null,null,null,null,null,null,null,null,null,null,null,null,{"$f":"+IF(AW103=\"\",\"\",MAX(AV$1:AV102)+1)","v":""},{"$f":"IF(Compliance_Options!B125=\"\",\"\",Compliance_Options!B125)","v":""},{"$f":"IF(Compliance_Options!C125=\"\",\"\",Compliance_Options!C125)","v":""},{"$f":"IF(Compliance_Options!D125=\"\",\"\",Compliance_Options!D125)","v":""},{"$f":"IF(Compliance_Options!E125=\"\",\"\",Compliance_Options!E125)","v":""},{"$f":"IF(Compliance_Options!F125=\"\",\"\",Compliance_Options!F125)","v":""},"    ",{"$f":"IF(COUNTIF(BB$2:BB103,BB103)=1,BB103,\"\")","v":""},"","","","","","","",{"$f":"+IF(BJ103=\"\",\"\",MAX(BK$1:BK102)+1)","v":""},"","","","","","","",{"$f":"+IF(BR103=\"\",\"\",MAX(BS$1:BS102)+1)","v":""},"","","","","","","",{"$f":"+IF(BZ103=\"\",\"\",MAX(CA$1:CA102)+1)","v":""},"","","","","","","",{"$f":"+IF(CH103=\"\",\"\",MAX(CI$1:CI102)+1)","v":""},"","","","","",null,{"$f":"+IF(CQ103=\"\",\"\",MAX(CP$1:CP102)+1)","v":""},{"$f":"IF(Compliance_Options!B125=\"\",\"\",Compliance_Options!B125)","v":""},{"$f":"IF(Compliance_Options!C125=\"\",\"\",Compliance_Options!C125)","v":""},{"$f":"IF(Compliance_Options!D125=\"\",\"\",Compliance_Options!D125)","v":""},"  ",{"$f":"IF(COUNTIF(CT$2:CT103,CT103)=1,CT103,\"\")","v":""},"","","",""]
[null,null,null,null,null,null,null,null,null,null,null,null,null,null,null,null,null,null,null,null,null,null,null,null,null,null,null,null,null,null,null,null,null,null,null,null,null,null,null,null,null,null,null,null,null,null,null,{"$f":"+IF(AW104=\"\",\"\",MAX(AV$1:AV103)+1)","v":""},{"$f":"IF(Compliance_Options!B126=\"\",\"\",Compliance_Options!B126)","v":""},{"$f":"IF(Compliance_Options!C126=\"\",\"\",Compliance_Options!C126)","v":""},{"$f":"IF(Compliance_Options!D126=\"\",\"\",Compliance_Options!D126)","v":""},{"$f":"IF(Compliance_Options!E126=\"\",\"\",Compliance_Options!E126)","v":""},{"$f":"IF(Compliance_Options!F126=\"\",\"\",Compliance_Options!F126)","v":""},"    ",{"$f":"IF(COUNTIF(BB$2:BB104,BB104)=1,BB104,\"\")","v":""},"","","","","","","",{"$f":"+IF(BJ104=\"\",\"\",MAX(BK$1:BK103)+1)","v":""},"","","","","","","",{"$f":"+IF(BR104=\"\",\"\",MAX(BS$1:BS103)+1)","v":""},"","","","","","","",{"$f":"+IF(BZ104=\"\",\"\",MAX(CA$1:CA103)+1)","v":""},"","","","","","","",{"$f":"+IF(CH104=\"\",\"\",MAX(CI$1:CI103)+1)","v":""},"","","","","",null,{"$f":"+IF(CQ104=\"\",\"\",MAX(CP$1:CP103)+1)","v":""},{"$f":"IF(Compliance_Options!B126=\"\",\"\",Compliance_Options!B126)","v":""},{"$f":"IF(Compliance_Options!C126=\"\",\"\",Compliance_Options!C126)","v":""},{"$f":"IF(Compliance_Options!D126=\"\",\"\",Compliance_Options!D126)","v":""},"  ",{"$f":"IF(COUNTIF(CT$2:CT104,CT104)=1,CT104,\"\")","v":""},"","","",""]
[null,null,null,null,null,null,null,null,null,null,null,null,null,null,null,null,null,null,null,null,null,null,null,null,null,null,null,null,null,null,null,null,null,null,null,null,null,null,null,null,null,null,null,null,null,null,null,{"$f":"+IF(AW105=\"\",\"\",MAX(AV$1:AV104)+1)","v":""},{"$f":"IF(Compliance_Options!B127=\"\",\"\",Compliance_Options!B127)","v":""},{"$f":"IF(Compliance_Options!C127=\"\",\"\",Compliance_Options!C127)","v":""},{"$f":"IF(Compliance_Options!D127=\"\",\"\",Compliance_Options!D127)","v":""},{"$f":"IF(Compliance_Options!E127=\"\",\"\",Compliance_Options!E127)","v":""},{"$f":"IF(Compliance_Options!F127=\"\",\"\",Compliance_Options!F127)","v":""},"    ",{"$f":"IF(COUNTIF(BB$2:BB105,BB105)=1,BB105,\"\")","v":""},"","","","","","","",{"$f":"+IF(BJ105=\"\",\"\",MAX(BK$1:BK104)+1)","v":""},"","","","","","","",{"$f":"+IF(BR105=\"\",\"\",MAX(BS$1:BS104)+1)","v":""},"","","","","","","",{"$f":"+IF(BZ105=\"\",\"\",MAX(CA$1:CA104)+1)","v":""},"","","","","","","",{"$f":"+IF(CH105=\"\",\"\",MAX(CI$1:CI104)+1)","v":""},"","","","","",null,{"$f":"+IF(CQ105=\"\",\"\",MAX(CP$1:CP104)+1)","v":""},{"$f":"IF(Compliance_Options!B127=\"\",\"\",Compliance_Options!B127)","v":""},{"$f":"IF(Compliance_Options!C127=\"\",\"\",Compliance_Options!C127)","v":""},{"$f":"IF(Compliance_Options!D127=\"\",\"\",Compliance_Options!D127)","v":""},"  ",{"$f":"IF(COUNTIF(CT$2:CT105,CT105)=1,CT105,\"\")","v":""},"","","",""]
[null,null,null,null,null,null,null,null,null,null,null,null,null,null,null,null,null,null,null,null,null,null,null,null,null,null,null,null,null,null,null,null,null,null,null,null,null,null,null,null,null,null,null,null,null,null,null,{"$f":"+IF(AW106=\"\",\"\",MAX(AV$1:AV105)+1)","v":""},{"$f":"IF(Compliance_Options!B128=\"\",\"\",Compliance_Options!B128)","v":""},{"$f":"IF(Compliance_Options!C128=\"\",\"\",Compliance_Options!C128)","v":""},{"$f":"IF(Compliance_Options!D128=\"\",\"\",Compliance_Options!D128)","v":""},{"$f":"IF(Compliance_Options!E128=\"\",\"\",Compliance_Options!E128)","v":""},{"$f":"IF(Compliance_Options!F128=\"\",\"\",Compliance_Options!F128)","v":""},"    ",{"$f":"IF(COUNTIF(BB$2:BB106,BB106)=1,BB106,\"\")","v":""},"","","","","","","",{"$f":"+IF(BJ106=\"\",\"\",MAX(BK$1:BK105)+1)","v":""},"","","","","","","",{"$f":"+IF(BR106=\"\",\"\",MAX(BS$1:BS105)+1)","v":""},"","","","","","","",{"$f":"+IF(BZ106=\"\",\"\",MAX(CA$1:CA105)+1)","v":""},"","","","","","","",{"$f":"+IF(CH106=\"\",\"\",MAX(CI$1:CI105)+1)","v":""},"","","","","",null,{"$f":"+IF(CQ106=\"\",\"\",MAX(CP$1:CP105)+1)","v":""},{"$f":"IF(Compliance_Options!B128=\"\",\"\",Compliance_Options!B128)","v":""},{"$f":"IF(Compliance_Options!C128=\"\",\"\",Compliance_Options!C128)","v":""},{"$f":"IF(Compliance_Options!D128=\"\",\"\",Compliance_Options!D128)","v":""},"  ",{"$f":"IF(COUNTIF(CT$2:CT106,CT106)=1,CT106,\"\")","v":""},"","","",""]
[null,null,null,null,null,null,null,null,null,null,null,null,null,null,null,null,null,null,null,null,null,null,null,null,null,null,null,null,null,null,null,null,null,null,null,null,null,null,null,null,null,null,null,null,null,null,null,{"$f":"+IF(AW107=\"\",\"\",MAX(AV$1:AV106)+1)","v":""},{"$f":"IF(Compliance_Options!B129=\"\",\"\",Compliance_Options!B129)","v":""},{"$f":"IF(Compliance_Options!C129=\"\",\"\",Compliance_Options!C129)","v":""},{"$f":"IF(Compliance_Options!D129=\"\",\"\",Compliance_Options!D129)","v":""},{"$f":"IF(Compliance_Options!E129=\"\",\"\",Compliance_Options!E129)","v":""},{"$f":"IF(Compliance_Options!F129=\"\",\"\",Compliance_Options!F129)","v":""},"    ",{"$f":"IF(COUNTIF(BB$2:BB107,BB107)=1,BB107,\"\")","v":""},"","","","","","","",{"$f":"+IF(BJ107=\"\",\"\",MAX(BK$1:BK106)+1)","v":""},"","","","","","","",{"$f":"+IF(BR107=\"\",\"\",MAX(BS$1:BS106)+1)","v":""},"","","","","","","",{"$f":"+IF(BZ107=\"\",\"\",MAX(CA$1:CA106)+1)","v":""},"","","","","","","",{"$f":"+IF(CH107=\"\",\"\",MAX(CI$1:CI106)+1)","v":""},"","","","","",null,{"$f":"+IF(CQ107=\"\",\"\",MAX(CP$1:CP106)+1)","v":""},{"$f":"IF(Compliance_Options!B129=\"\",\"\",Compliance_Options!B129)","v":""},{"$f":"IF(Compliance_Options!C129=\"\",\"\",Compliance_Options!C129)","v":""},{"$f":"IF(Compliance_Options!D129=\"\",\"\",Compliance_Options!D129)","v":""},"  ",{"$f":"IF(COUNTIF(CT$2:CT107,CT107)=1,CT107,\"\")","v":""},"","","",""]
[null,null,null,null,null,null,null,null,null,null,null,null,null,null,null,null,null,null,null,null,null,null,null,null,null,null,null,null,null,null,null,null,null,null,null,null,null,null,null,null,null,null,null,null,null,null,null,{"$f":"+IF(AW108=\"\",\"\",MAX(AV$1:AV107)+1)","v":""},{"$f":"IF(Compliance_Options!B130=\"\",\"\",Compliance_Options!B130)","v":""},{"$f":"IF(Compliance_Options!C130=\"\",\"\",Compliance_Options!C130)","v":""},{"$f":"IF(Compliance_Options!D130=\"\",\"\",Compliance_Options!D130)","v":""},{"$f":"IF(Compliance_Options!E130=\"\",\"\",Compliance_Options!E130)","v":""},{"$f":"IF(Compliance_Options!F130=\"\",\"\",Compliance_Options!F130)","v":""},"    ",{"$f":"IF(COUNTIF(BB$2:BB108,BB108)=1,BB108,\"\")","v":""},"","","","","","","",{"$f":"+IF(BJ108=\"\",\"\",MAX(BK$1:BK107)+1)","v":""},"","","","","","","",{"$f":"+IF(BR108=\"\",\"\",MAX(BS$1:BS107)+1)","v":""},"","","","","","","",{"$f":"+IF(BZ108=\"\",\"\",MAX(CA$1:CA107)+1)","v":""},"","","","","","","",{"$f":"+IF(CH108=\"\",\"\",MAX(CI$1:CI107)+1)","v":""},"","","","","",null,{"$f":"+IF(CQ108=\"\",\"\",MAX(CP$1:CP107)+1)","v":""},{"$f":"IF(Compliance_Options!B130=\"\",\"\",Compliance_Options!B130)","v":""},{"$f":"IF(Compliance_Options!C130=\"\",\"\",Compliance_Options!C130)","v":""},{"$f":"IF(Compliance_Options!D130=\"\",\"\",Compliance_Options!D130)","v":""},"  ",{"$f":"IF(COUNTIF(CT$2:CT108,CT108)=1,CT108,\"\")","v":""},"","","",""]
[null,null,null,null,null,null,null,null,null,null,null,null,null,null,null,null,null,null,null,null,null,null,null,null,null,null,null,null,null,null,null,null,null,null,null,null,null,null,null,null,null,null,null,null,null,null,null,{"$f":"+IF(AW109=\"\",\"\",MAX(AV$1:AV108)+1)","v":""},{"$f":"IF(Compliance_Options!B131=\"\",\"\",Compliance_Options!B131)","v":""},{"$f":"IF(Compliance_Options!C131=\"\",\"\",Compliance_Options!C131)","v":""},{"$f":"IF(Compliance_Options!D131=\"\",\"\",Compliance_Options!D131)","v":""},{"$f":"IF(Compliance_Options!E131=\"\",\"\",Compliance_Options!E131)","v":""},{"$f":"IF(Compliance_Options!F131=\"\",\"\",Compliance_Options!F131)","v":""},"    ",{"$f":"IF(COUNTIF(BB$2:BB109,BB109)=1,BB109,\"\")","v":""},"","","","","","","",{"$f":"+IF(BJ109=\"\",\"\",MAX(BK$1:BK108)+1)","v":""},"","","","","","","",{"$f":"+IF(BR109=\"\",\"\",MAX(BS$1:BS108)+1)","v":""},"","","","","","","",{"$f":"+IF(BZ109=\"\",\"\",MAX(CA$1:CA108)+1)","v":""},"","","","","","","",{"$f":"+IF(CH109=\"\",\"\",MAX(CI$1:CI108)+1)","v":""},"","","","","",null,{"$f":"+IF(CQ109=\"\",\"\",MAX(CP$1:CP108)+1)","v":""},{"$f":"IF(Compliance_Options!B131=\"\",\"\",Compliance_Options!B131)","v":""},{"$f":"IF(Compliance_Options!C131=\"\",\"\",Compliance_Options!C131)","v":""},{"$f":"IF(Compliance_Options!D131=\"\",\"\",Compliance_Options!D131)","v":""},"  ",{"$f":"IF(COUNTIF(CT$2:CT109,CT109)=1,CT109,\"\")","v":""},"","","",""]
[null,null,null,null,null,null,null,null,null,null,null,null,null,null,null,null,null,null,null,null,null,null,null,null,null,null,null,null,null,null,null,null,null,null,null,null,null,null,null,null,null,null,null,null,null,null,null,{"$f":"+IF(AW110=\"\",\"\",MAX(AV$1:AV109)+1)","v":""},{"$f":"IF(Compliance_Options!B132=\"\",\"\",Compliance_Options!B132)","v":""},{"$f":"IF(Compliance_Options!C132=\"\",\"\",Compliance_Options!C132)","v":""},{"$f":"IF(Compliance_Options!D132=\"\",\"\",Compliance_Options!D132)","v":""},{"$f":"IF(Compliance_Options!E132=\"\",\"\",Compliance_Options!E132)","v":""},{"$f":"IF(Compliance_Options!F132=\"\",\"\",Compliance_Options!F132)","v":""},"    ",{"$f":"IF(COUNTIF(BB$2:BB110,BB110)=1,BB110,\"\")","v":""},"","","","","","","",{"$f":"+IF(BJ110=\"\",\"\",MAX(BK$1:BK109)+1)","v":""},"","","","","","","",{"$f":"+IF(BR110=\"\",\"\",MAX(BS$1:BS109)+1)","v":""},"","","","","","","",{"$f":"+IF(BZ110=\"\",\"\",MAX(CA$1:CA109)+1)","v":""},"","","","","","","",{"$f":"+IF(CH110=\"\",\"\",MAX(CI$1:CI109)+1)","v":""},"","","","","",null,{"$f":"+IF(CQ110=\"\",\"\",MAX(CP$1:CP109)+1)","v":""},{"$f":"IF(Compliance_Options!B132=\"\",\"\",Compliance_Options!B132)","v":""},{"$f":"IF(Compliance_Options!C132=\"\",\"\",Compliance_Options!C132)","v":""},{"$f":"IF(Compliance_Options!D132=\"\",\"\",Compliance_Options!D132)","v":""},"  ",{"$f":"IF(COUNTIF(CT$2:CT110,CT110)=1,CT110,\"\")","v":""},"","","",""]
[null,null,null,null,null,null,null,null,null,null,null,null,null,null,null,null,null,null,null,null,null,null,null,null,null,null,null,null,null,null,null,null,null,null,null,null,null,null,null,null,null,null,null,null,null,null,null,{"$f":"+IF(AW111=\"\",\"\",MAX(AV$1:AV110)+1)","v":""},{"$f":"IF(Compliance_Options!B133=\"\",\"\",Compliance_Options!B133)","v":""},{"$f":"IF(Compliance_Options!C133=\"\",\"\",Compliance_Options!C133)","v":""},{"$f":"IF(Compliance_Options!D133=\"\",\"\",Compliance_Options!D133)","v":""},{"$f":"IF(Compliance_Options!E133=\"\",\"\",Compliance_Options!E133)","v":""},{"$f":"IF(Compliance_Options!F133=\"\",\"\",Compliance_Options!F133)","v":""},"    ",{"$f":"IF(COUNTIF(BB$2:BB111,BB111)=1,BB111,\"\")","v":""},"","","","","","","",{"$f":"+IF(BJ111=\"\",\"\",MAX(BK$1:BK110)+1)","v":""},"","","","","","","",{"$f":"+IF(BR111=\"\",\"\",MAX(BS$1:BS110)+1)","v":""},"","","","","","","",{"$f":"+IF(BZ111=\"\",\"\",MAX(CA$1:CA110)+1)","v":""},"","","","","","","",{"$f":"+IF(CH111=\"\",\"\",MAX(CI$1:CI110)+1)","v":""},"","","","","",null,{"$f":"+IF(CQ111=\"\",\"\",MAX(CP$1:CP110)+1)","v":""},{"$f":"IF(Compliance_Options!B133=\"\",\"\",Compliance_Options!B133)","v":""},{"$f":"IF(Compliance_Options!C133=\"\",\"\",Compliance_Options!C133)","v":""},{"$f":"IF(Compliance_Options!D133=\"\",\"\",Compliance_Options!D133)","v":""},"  ",{"$f":"IF(COUNTIF(CT$2:CT111,CT111)=1,CT111,\"\")","v":""},"","","",""]
[null,null,null,null,null,null,null,null,null,null,null,null,null,null,null,null,null,null,null,null,null,null,null,null,null,null,null,null,null,null,null,null,null,null,null,null,null,null,null,null,null,null,null,null,null,null,null,{"$f":"+IF(AW112=\"\",\"\",MAX(AV$1:AV111)+1)","v":""},{"$f":"IF(Compliance_Options!B134=\"\",\"\",Compliance_Options!B134)","v":""},{"$f":"IF(Compliance_Options!C134=\"\",\"\",Compliance_Options!C134)","v":""},{"$f":"IF(Compliance_Options!D134=\"\",\"\",Compliance_Options!D134)","v":""},{"$f":"IF(Compliance_Options!E134=\"\",\"\",Compliance_Options!E134)","v":""},{"$f":"IF(Compliance_Options!F134=\"\",\"\",Compliance_Options!F134)","v":""},"    ",{"$f":"IF(COUNTIF(BB$2:BB112,BB112)=1,BB112,\"\")","v":""},"","","","","","","",{"$f":"+IF(BJ112=\"\",\"\",MAX(BK$1:BK111)+1)","v":""},"","","","","","","",{"$f":"+IF(BR112=\"\",\"\",MAX(BS$1:BS111)+1)","v":""},"","","","","","","",{"$f":"+IF(BZ112=\"\",\"\",MAX(CA$1:CA111)+1)","v":""},"","","","","","","",{"$f":"+IF(CH112=\"\",\"\",MAX(CI$1:CI111)+1)","v":""},"","","","","",null,{"$f":"+IF(CQ112=\"\",\"\",MAX(CP$1:CP111)+1)","v":""},{"$f":"IF(Compliance_Options!B134=\"\",\"\",Compliance_Options!B134)","v":""},{"$f":"IF(Compliance_Options!C134=\"\",\"\",Compliance_Options!C134)","v":""},{"$f":"IF(Compliance_Options!D134=\"\",\"\",Compliance_Options!D134)","v":""},"  ",{"$f":"IF(COUNTIF(CT$2:CT112,CT112)=1,CT112,\"\")","v":""},"","","",""]
[null,null,null,null,null,null,null,null,null,null,null,null,null,null,null,null,null,null,null,null,null,null,null,null,null,null,null,null,null,null,null,null,null,null,null,null,null,null,null,null,null,null,null,null,null,null,null,{"$f":"+IF(AW113=\"\",\"\",MAX(AV$1:AV112)+1)","v":""},{"$f":"IF(Compliance_Options!B135=\"\",\"\",Compliance_Options!B135)","v":""},{"$f":"IF(Compliance_Options!C135=\"\",\"\",Compliance_Options!C135)","v":""},{"$f":"IF(Compliance_Options!D135=\"\",\"\",Compliance_Options!D135)","v":""},{"$f":"IF(Compliance_Options!E135=\"\",\"\",Compliance_Options!E135)","v":""},{"$f":"IF(Compliance_Options!F135=\"\",\"\",Compliance_Options!F135)","v":""},"    ",{"$f":"IF(COUNTIF(BB$2:BB113,BB113)=1,BB113,\"\")","v":""},"","","","","","","",{"$f":"+IF(BJ113=\"\",\"\",MAX(BK$1:BK112)+1)","v":""},"","","","","","","",{"$f":"+IF(BR113=\"\",\"\",MAX(BS$1:BS112)+1)","v":""},"","","","","","","",{"$f":"+IF(BZ113=\"\",\"\",MAX(CA$1:CA112)+1)","v":""},"","","","","","","",{"$f":"+IF(CH113=\"\",\"\",MAX(CI$1:CI112)+1)","v":""},"","","","","",null,{"$f":"+IF(CQ113=\"\",\"\",MAX(CP$1:CP112)+1)","v":""},{"$f":"IF(Compliance_Options!B135=\"\",\"\",Compliance_Options!B135)","v":""},{"$f":"IF(Compliance_Options!C135=\"\",\"\",Compliance_Options!C135)","v":""},{"$f":"IF(Compliance_Options!D135=\"\",\"\",Compliance_Options!D135)","v":""},"  ",{"$f":"IF(COUNTIF(CT$2:CT113,CT113)=1,CT113,\"\")","v":""},"","","",""]
[null,null,null,null,null,null,null,null,null,null,null,null,null,null,null,null,null,null,null,null,null,null,null,null,null,null,null,null,null,null,null,null,null,null,null,null,null,null,null,null,null,null,null,null,null,null,null,{"$f":"+IF(AW114=\"\",\"\",MAX(AV$1:AV113)+1)","v":""},{"$f":"IF(Compliance_Options!B136=\"\",\"\",Compliance_Options!B136)","v":""},{"$f":"IF(Compliance_Options!C136=\"\",\"\",Compliance_Options!C136)","v":""},{"$f":"IF(Compliance_Options!D136=\"\",\"\",Compliance_Options!D136)","v":""},{"$f":"IF(Compliance_Options!E136=\"\",\"\",Compliance_Options!E136)","v":""},{"$f":"IF(Compliance_Options!F136=\"\",\"\",Compliance_Options!F136)","v":""},"    ",{"$f":"IF(COUNTIF(BB$2:BB114,BB114)=1,BB114,\"\")","v":""},"","","","","","","",{"$f":"+IF(BJ114=\"\",\"\",MAX(BK$1:BK113)+1)","v":""},"","","","","","","",{"$f":"+IF(BR114=\"\",\"\",MAX(BS$1:BS113)+1)","v":""},"","","","","","","",{"$f":"+IF(BZ114=\"\",\"\",MAX(CA$1:CA113)+1)","v":""},"","","","","","","",{"$f":"+IF(CH114=\"\",\"\",MAX(CI$1:CI113)+1)","v":""},"","","","","",null,{"$f":"+IF(CQ114=\"\",\"\",MAX(CP$1:CP113)+1)","v":""},{"$f":"IF(Compliance_Options!B136=\"\",\"\",Compliance_Options!B136)","v":""},{"$f":"IF(Compliance_Options!C136=\"\",\"\",Compliance_Options!C136)","v":""},{"$f":"IF(Compliance_Options!D136=\"\",\"\",Compliance_Options!D136)","v":""},"  ",{"$f":"IF(COUNTIF(CT$2:CT114,CT114)=1,CT114,\"\")","v":""},"","","",""]
[null,null,null,null,null,null,null,null,null,null,null,null,null,null,null,null,null,null,null,null,null,null,null,null,null,null,null,null,null,null,null,null,null,null,null,null,null,null,null,null,null,null,null,null,null,null,null,{"$f":"+IF(AW115=\"\",\"\",MAX(AV$1:AV114)+1)","v":""},{"$f":"IF(Compliance_Options!B137=\"\",\"\",Compliance_Options!B137)","v":""},{"$f":"IF(Compliance_Options!C137=\"\",\"\",Compliance_Options!C137)","v":""},{"$f":"IF(Compliance_Options!D137=\"\",\"\",Compliance_Options!D137)","v":""},{"$f":"IF(Compliance_Options!E137=\"\",\"\",Compliance_Options!E137)","v":""},{"$f":"IF(Compliance_Options!F137=\"\",\"\",Compliance_Options!F137)","v":""},"    ",{"$f":"IF(COUNTIF(BB$2:BB115,BB115)=1,BB115,\"\")","v":""},"","","","","","","",{"$f":"+IF(BJ115=\"\",\"\",MAX(BK$1:BK114)+1)","v":""},"","","","","","","",{"$f":"+IF(BR115=\"\",\"\",MAX(BS$1:BS114)+1)","v":""},"","","","","","","",{"$f":"+IF(BZ115=\"\",\"\",MAX(CA$1:CA114)+1)","v":""},"","","","","","","",{"$f":"+IF(CH115=\"\",\"\",MAX(CI$1:CI114)+1)","v":""},"","","","","",null,{"$f":"+IF(CQ115=\"\",\"\",MAX(CP$1:CP114)+1)","v":""},{"$f":"IF(Compliance_Options!B137=\"\",\"\",Compliance_Options!B137)","v":""},{"$f":"IF(Compliance_Options!C137=\"\",\"\",Compliance_Options!C137)","v":""},{"$f":"IF(Compliance_Options!D137=\"\",\"\",Compliance_Options!D137)","v":""},"  ",{"$f":"IF(COUNTIF(CT$2:CT115,CT115)=1,CT115,\"\")","v":""},"","","",""]
[null,null,null,null,null,null,null,null,null,null,null,null,null,null,null,null,null,null,null,null,null,null,null,null,null,null,null,null,null,null,null,null,null,null,null,null,null,null,null,null,null,null,null,null,null,null,null,{"$f":"+IF(AW116=\"\",\"\",MAX(AV$1:AV115)+1)","v":""},{"$f":"IF(Compliance_Options!B138=\"\",\"\",Compliance_Options!B138)","v":""},{"$f":"IF(Compliance_Options!C138=\"\",\"\",Compliance_Options!C138)","v":""},{"$f":"IF(Compliance_Options!D138=\"\",\"\",Compliance_Options!D138)","v":""},{"$f":"IF(Compliance_Options!E138=\"\",\"\",Compliance_Options!E138)","v":""},{"$f":"IF(Compliance_Options!F138=\"\",\"\",Compliance_Options!F138)","v":""},"    ",{"$f":"IF(COUNTIF(BB$2:BB116,BB116)=1,BB116,\"\")","v":""},"","","","","","","",{"$f":"+IF(BJ116=\"\",\"\",MAX(BK$1:BK115)+1)","v":""},"","","","","","","",{"$f":"+IF(BR116=\"\",\"\",MAX(BS$1:BS115)+1)","v":""},"","","","","","","",{"$f":"+IF(BZ116=\"\",\"\",MAX(CA$1:CA115)+1)","v":""},"","","","","","","",{"$f":"+IF(CH116=\"\",\"\",MAX(CI$1:CI115)+1)","v":""},"","","","","",null,{"$f":"+IF(CQ116=\"\",\"\",MAX(CP$1:CP115)+1)","v":""},{"$f":"IF(Compliance_Options!B138=\"\",\"\",Compliance_Options!B138)","v":""},{"$f":"IF(Compliance_Options!C138=\"\",\"\",Compliance_Options!C138)","v":""},{"$f":"IF(Compliance_Options!D138=\"\",\"\",Compliance_Options!D138)","v":""},"  ",{"$f":"IF(COUNTIF(CT$2:CT116,CT116)=1,CT116,\"\")","v":""},"","","",""]
[null,null,null,null,null,null,null,null,null,null,null,null,null,null,null,null,null,null,null,null,null,null,null,null,null,null,null,null,null,null,null,null,null,null,null,null,null,null,null,null,null,null,null,null,null,null,null,{"$f":"+IF(AW117=\"\",\"\",MAX(AV$1:AV116)+1)","v":""},{"$f":"IF(Compliance_Options!B139=\"\",\"\",Compliance_Options!B139)","v":""},{"$f":"IF(Compliance_Options!C139=\"\",\"\",Compliance_Options!C139)","v":""},{"$f":"IF(Compliance_Options!D139=\"\",\"\",Compliance_Options!D139)","v":""},{"$f":"IF(Compliance_Options!E139=\"\",\"\",Compliance_Options!E139)","v":""},{"$f":"IF(Compliance_Options!F139=\"\",\"\",Compliance_Options!F139)","v":""},"    ",{"$f":"IF(COUNTIF(BB$2:BB117,BB117)=1,BB117,\"\")","v":""},"","","","","","","",{"$f":"+IF(BJ117=\"\",\"\",MAX(BK$1:BK116)+1)","v":""},"","","","","","","",{"$f":"+IF(BR117=\"\",\"\",MAX(BS$1:BS116)+1)","v":""},"","","","","","","",{"$f":"+IF(BZ117=\"\",\"\",MAX(CA$1:CA116)+1)","v":""},"","","","","","","",{"$f":"+IF(CH117=\"\",\"\",MAX(CI$1:CI116)+1)","v":""},"","","","","",null,{"$f":"+IF(CQ117=\"\",\"\",MAX(CP$1:CP116)+1)","v":""},{"$f":"IF(Compliance_Options!B139=\"\",\"\",Compliance_Options!B139)","v":""},{"$f":"IF(Compliance_Options!C139=\"\",\"\",Compliance_Options!C139)","v":""},{"$f":"IF(Compliance_Options!D139=\"\",\"\",Compliance_Options!D139)","v":""},"  ",{"$f":"IF(COUNTIF(CT$2:CT117,CT117)=1,CT117,\"\")","v":""},"","","",""]
[null,null,null,null,null,null,null,null,null,null,null,null,null,null,null,null,null,null,null,null,null,null,null,null,null,null,null,null,null,null,null,null,null,null,null,null,null,null,null,null,null,null,null,null,null,null,null,{"$f":"+IF(AW118=\"\",\"\",MAX(AV$1:AV117)+1)","v":""},{"$f":"IF(Compliance_Options!B140=\"\",\"\",Compliance_Options!B140)","v":""},{"$f":"IF(Compliance_Options!C140=\"\",\"\",Compliance_Options!C140)","v":""},{"$f":"IF(Compliance_Options!D140=\"\",\"\",Compliance_Options!D140)","v":""},{"$f":"IF(Compliance_Options!E140=\"\",\"\",Compliance_Options!E140)","v":""},{"$f":"IF(Compliance_Options!F140=\"\",\"\",Compliance_Options!F140)","v":""},"    ",{"$f":"IF(COUNTIF(BB$2:BB118,BB118)=1,BB118,\"\")","v":""},"","","","","","","",{"$f":"+IF(BJ118=\"\",\"\",MAX(BK$1:BK117)+1)","v":""},"","","","","","","",{"$f":"+IF(BR118=\"\",\"\",MAX(BS$1:BS117)+1)","v":""},"","","","","","","",{"$f":"+IF(BZ118=\"\",\"\",MAX(CA$1:CA117)+1)","v":""},"","","","","","","",{"$f":"+IF(CH118=\"\",\"\",MAX(CI$1:CI117)+1)","v":""},"","","","","",null,{"$f":"+IF(CQ118=\"\",\"\",MAX(CP$1:CP117)+1)","v":""},{"$f":"IF(Compliance_Options!B140=\"\",\"\",Compliance_Options!B140)","v":""},{"$f":"IF(Compliance_Options!C140=\"\",\"\",Compliance_Options!C140)","v":""},{"$f":"IF(Compliance_Options!D140=\"\",\"\",Compliance_Options!D140)","v":""},"  ",{"$f":"IF(COUNTIF(CT$2:CT118,CT118)=1,CT118,\"\")","v":""},"","","",""]
[null,null,null,null,null,null,null,null,null,null,null,null,null,null,null,null,null,null,null,null,null,null,null,null,null,null,null,null,null,null,null,null,null,null,null,null,null,null,null,null,null,null,null,null,null,null,null,{"$f":"+IF(AW119=\"\",\"\",MAX(AV$1:AV118)+1)","v":""},{"$f":"IF(Compliance_Options!B141=\"\",\"\",Compliance_Options!B141)","v":""},{"$f":"IF(Compliance_Options!C141=\"\",\"\",Compliance_Options!C141)","v":""},{"$f":"IF(Compliance_Options!D141=\"\",\"\",Compliance_Options!D141)","v":""},{"$f":"IF(Compliance_Options!E141=\"\",\"\",Compliance_Options!E141)","v":""},{"$f":"IF(Compliance_Options!F141=\"\",\"\",Compliance_Options!F141)","v":""},"    ",{"$f":"IF(COUNTIF(BB$2:BB119,BB119)=1,BB119,\"\")","v":""},"","","","","","","",{"$f":"+IF(BJ119=\"\",\"\",MAX(BK$1:BK118)+1)","v":""},"","","","","","","",{"$f":"+IF(BR119=\"\",\"\",MAX(BS$1:BS118)+1)","v":""},"","","","","","","",{"$f":"+IF(BZ119=\"\",\"\",MAX(CA$1:CA118)+1)","v":""},"","","","","","","",{"$f":"+IF(CH119=\"\",\"\",MAX(CI$1:CI118)+1)","v":""},"","","","","",null,{"$f":"+IF(CQ119=\"\",\"\",MAX(CP$1:CP118)+1)","v":""},{"$f":"IF(Compliance_Options!B141=\"\",\"\",Compliance_Options!B141)","v":""},{"$f":"IF(Compliance_Options!C141=\"\",\"\",Compliance_Options!C141)","v":""},{"$f":"IF(Compliance_Options!D141=\"\",\"\",Compliance_Options!D141)","v":""},"  ",{"$f":"IF(COUNTIF(CT$2:CT119,CT119)=1,CT119,\"\")","v":""},"","","",""]
[null,null,null,null,null,null,null,null,null,null,null,null,null,null,null,null,null,null,null,null,null,null,null,null,null,null,null,null,null,null,null,null,null,null,null,null,null,null,null,null,null,null,null,null,null,null,null,{"$f":"+IF(AW120=\"\",\"\",MAX(AV$1:AV119)+1)","v":""},{"$f":"IF(Compliance_Options!B142=\"\",\"\",Compliance_Options!B142)","v":""},{"$f":"IF(Compliance_Options!C142=\"\",\"\",Compliance_Options!C142)","v":""},{"$f":"IF(Compliance_Options!D142=\"\",\"\",Compliance_Options!D142)","v":""},{"$f":"IF(Compliance_Options!E142=\"\",\"\",Compliance_Options!E142)","v":""},{"$f":"IF(Compliance_Options!F142=\"\",\"\",Compliance_Options!F142)","v":""},"    ",{"$f":"IF(COUNTIF(BB$2:BB120,BB120)=1,BB120,\"\")","v":""},"","","","","","","",{"$f":"+IF(BJ120=\"\",\"\",MAX(BK$1:BK119)+1)","v":""},"","","","","","","",{"$f":"+IF(BR120=\"\",\"\",MAX(BS$1:BS119)+1)","v":""},"","","","","","","",{"$f":"+IF(BZ120=\"\",\"\",MAX(CA$1:CA119)+1)","v":""},"","","","","","","",{"$f":"+IF(CH120=\"\",\"\",MAX(CI$1:CI119)+1)","v":""},"","","","","",null,{"$f":"+IF(CQ120=\"\",\"\",MAX(CP$1:CP119)+1)","v":""},{"$f":"IF(Compliance_Options!B142=\"\",\"\",Compliance_Options!B142)","v":""},{"$f":"IF(Compliance_Options!C142=\"\",\"\",Compliance_Options!C142)","v":""},{"$f":"IF(Compliance_Options!D142=\"\",\"\",Compliance_Options!D142)","v":""},"  ",{"$f":"IF(COUNTIF(CT$2:CT120,CT120)=1,CT120,\"\")","v":""},"","","",""]
[null,null,null,null,null,null,null,null,null,null,null,null,null,null,null,null,null,null,null,null,null,null,null,null,null,null,null,null,null,null,null,null,null,null,null,null,null,null,null,null,null,null,null,null,null,null,null,{"$f":"+IF(AW121=\"\",\"\",MAX(AV$1:AV120)+1)","v":""},{"$f":"IF(Compliance_Options!B143=\"\",\"\",Compliance_Options!B143)","v":""},{"$f":"IF(Compliance_Options!C143=\"\",\"\",Compliance_Options!C143)","v":""},{"$f":"IF(Compliance_Options!D143=\"\",\"\",Compliance_Options!D143)","v":""},{"$f":"IF(Compliance_Options!E143=\"\",\"\",Compliance_Options!E143)","v":""},{"$f":"IF(Compliance_Options!F143=\"\",\"\",Compliance_Options!F143)","v":""},"    ",{"$f":"IF(COUNTIF(BB$2:BB121,BB121)=1,BB121,\"\")","v":""},"","","","","","","",{"$f":"+IF(BJ121=\"\",\"\",MAX(BK$1:BK120)+1)","v":""},"","","","","","","",{"$f":"+IF(BR121=\"\",\"\",MAX(BS$1:BS120)+1)","v":""},"","","","","","","",{"$f":"+IF(BZ121=\"\",\"\",MAX(CA$1:CA120)+1)","v":""},"","","","","","","",{"$f":"+IF(CH121=\"\",\"\",MAX(CI$1:CI120)+1)","v":""},"","","","","",null,{"$f":"+IF(CQ121=\"\",\"\",MAX(CP$1:CP120)+1)","v":""},{"$f":"IF(Compliance_Options!B143=\"\",\"\",Compliance_Options!B143)","v":""},{"$f":"IF(Compliance_Options!C143=\"\",\"\",Compliance_Options!C143)","v":""},{"$f":"IF(Compliance_Options!D143=\"\",\"\",Compliance_Options!D143)","v":""},"  ",{"$f":"IF(COUNTIF(CT$2:CT121,CT121)=1,CT121,\"\")","v":""},"","","",""]
[null,null,null,null,null,null,null,null,null,null,null,null,null,null,null,null,null,null,null,null,null,null,null,null,null,null,null,null,null,null,null,null,null,null,null,null,null,null,null,null,null,null,null,null,null,null,null,{"$f":"+IF(AW122=\"\",\"\",MAX(AV$1:AV121)+1)","v":""},{"$f":"IF(Compliance_Options!B144=\"\",\"\",Compliance_Options!B144)","v":""},{"$f":"IF(Compliance_Options!C144=\"\",\"\",Compliance_Options!C144)","v":""},{"$f":"IF(Compliance_Options!D144=\"\",\"\",Compliance_Options!D144)","v":""},{"$f":"IF(Compliance_Options!E144=\"\",\"\",Compliance_Options!E144)","v":""},{"$f":"IF(Compliance_Options!F144=\"\",\"\",Compliance_Options!F144)","v":""},"    ",{"$f":"IF(COUNTIF(BB$2:BB122,BB122)=1,BB122,\"\")","v":""},"","","","","","","",{"$f":"+IF(BJ122=\"\",\"\",MAX(BK$1:BK121)+1)","v":""},"","","","","","","",{"$f":"+IF(BR122=\"\",\"\",MAX(BS$1:BS121)+1)","v":""},"","","","","","","",{"$f":"+IF(BZ122=\"\",\"\",MAX(CA$1:CA121)+1)","v":""},"","","","","","","",{"$f":"+IF(CH122=\"\",\"\",MAX(CI$1:CI121)+1)","v":""},"","","","","",null,{"$f":"+IF(CQ122=\"\",\"\",MAX(CP$1:CP121)+1)","v":""},{"$f":"IF(Compliance_Options!B144=\"\",\"\",Compliance_Options!B144)","v":""},{"$f":"IF(Compliance_Options!C144=\"\",\"\",Compliance_Options!C144)","v":""},{"$f":"IF(Compliance_Options!D144=\"\",\"\",Compliance_Options!D144)","v":""},"  ",{"$f":"IF(COUNTIF(CT$2:CT122,CT122)=1,CT122,\"\")","v":""},"","","",""]
[null,null,null,null,null,null,null,null,null,null,null,null,null,null,null,null,null,null,null,null,null,null,null,null,null,null,null,null,null,null,null,null,null,null,null,null,null,null,null,null,null,null,null,null,null,null,null,{"$f":"+IF(AW123=\"\",\"\",MAX(AV$1:AV122)+1)","v":""},{"$f":"IF(Compliance_Options!B145=\"\",\"\",Compliance_Options!B145)","v":""},{"$f":"IF(Compliance_Options!C145=\"\",\"\",Compliance_Options!C145)","v":""},{"$f":"IF(Compliance_Options!D145=\"\",\"\",Compliance_Options!D145)","v":""},{"$f":"IF(Compliance_Options!E145=\"\",\"\",Compliance_Options!E145)","v":""},{"$f":"IF(Compliance_Options!F145=\"\",\"\",Compliance_Options!F145)","v":""},"    ",{"$f":"IF(COUNTIF(BB$2:BB123,BB123)=1,BB123,\"\")","v":""},"","","","","","","",{"$f":"+IF(BJ123=\"\",\"\",MAX(BK$1:BK122)+1)","v":""},"","","","","","","",{"$f":"+IF(BR123=\"\",\"\",MAX(BS$1:BS122)+1)","v":""},"","","","","","","",{"$f":"+IF(BZ123=\"\",\"\",MAX(CA$1:CA122)+1)","v":""},"","","","","","","",{"$f":"+IF(CH123=\"\",\"\",MAX(CI$1:CI122)+1)","v":""},"","","","","",null,{"$f":"+IF(CQ123=\"\",\"\",MAX(CP$1:CP122)+1)","v":""},{"$f":"IF(Compliance_Options!B145=\"\",\"\",Compliance_Options!B145)","v":""},{"$f":"IF(Compliance_Options!C145=\"\",\"\",Compliance_Options!C145)","v":""},{"$f":"IF(Compliance_Options!D145=\"\",\"\",Compliance_Options!D145)","v":""},"  ",{"$f":"IF(COUNTIF(CT$2:CT123,CT123)=1,CT123,\"\")","v":""},"","","",""]
[null,null,null,null,null,null,null,null,null,null,null,null,null,null,null,null,null,null,null,null,null,null,null,null,null,null,null,null,null,null,null,null,null,null,null,null,null,null,null,null,null,null,null,null,null,null,null,{"$f":"+IF(AW124=\"\",\"\",MAX(AV$1:AV123)+1)","v":""},{"$f":"IF(Compliance_Options!B146=\"\",\"\",Compliance_Options!B146)","v":""},{"$f":"IF(Compliance_Options!C146=\"\",\"\",Compliance_Options!C146)","v":""},{"$f":"IF(Compliance_Options!D146=\"\",\"\",Compliance_Options!D146)","v":""},{"$f":"IF(Compliance_Options!E146=\"\",\"\",Compliance_Options!E146)","v":""},{"$f":"IF(Compliance_Options!F146=\"\",\"\",Compliance_Options!F146)","v":""},"    ",{"$f":"IF(COUNTIF(BB$2:BB124,BB124)=1,BB124,\"\")","v":""},"","","","","","","",{"$f":"+IF(BJ124=\"\",\"\",MAX(BK$1:BK123)+1)","v":""},"","","","","","","",{"$f":"+IF(BR124=\"\",\"\",MAX(BS$1:BS123)+1)","v":""},"","","","","","","",{"$f":"+IF(BZ124=\"\",\"\",MAX(CA$1:CA123)+1)","v":""},"","","","","","","",{"$f":"+IF(CH124=\"\",\"\",MAX(CI$1:CI123)+1)","v":""},"","","","","",null,{"$f":"+IF(CQ124=\"\",\"\",MAX(CP$1:CP123)+1)","v":""},{"$f":"IF(Compliance_Options!B146=\"\",\"\",Compliance_Options!B146)","v":""},{"$f":"IF(Compliance_Options!C146=\"\",\"\",Compliance_Options!C146)","v":""},{"$f":"IF(Compliance_Options!D146=\"\",\"\",Compliance_Options!D146)","v":""},"  ",{"$f":"IF(COUNTIF(CT$2:CT124,CT124)=1,CT124,\"\")","v":""},"","","",""]
[null,null,null,null,null,null,null,null,null,null,null,null,null,null,null,null,null,null,null,null,null,null,null,null,null,null,null,null,null,null,null,null,null,null,null,null,null,null,null,null,null,null,null,null,null,null,null,{"$f":"+IF(AW125=\"\",\"\",MAX(AV$1:AV124)+1)","v":""},{"$f":"IF(Compliance_Options!B147=\"\",\"\",Compliance_Options!B147)","v":""},{"$f":"IF(Compliance_Options!C147=\"\",\"\",Compliance_Options!C147)","v":""},{"$f":"IF(Compliance_Options!D147=\"\",\"\",Compliance_Options!D147)","v":""},{"$f":"IF(Compliance_Options!E147=\"\",\"\",Compliance_Options!E147)","v":""},{"$f":"IF(Compliance_Options!F147=\"\",\"\",Compliance_Options!F147)","v":""},"    ",{"$f":"IF(COUNTIF(BB$2:BB125,BB125)=1,BB125,\"\")","v":""},"","","","","","","",{"$f":"+IF(BJ125=\"\",\"\",MAX(BK$1:BK124)+1)","v":""},"","","","","","","",{"$f":"+IF(BR125=\"\",\"\",MAX(BS$1:BS124)+1)","v":""},"","","","","","","",{"$f":"+IF(BZ125=\"\",\"\",MAX(CA$1:CA124)+1)","v":""},"","","","","","","",{"$f":"+IF(CH125=\"\",\"\",MAX(CI$1:CI124)+1)","v":""},"","","","","",null,{"$f":"+IF(CQ125=\"\",\"\",MAX(CP$1:CP124)+1)","v":""},{"$f":"IF(Compliance_Options!B147=\"\",\"\",Compliance_Options!B147)","v":""},{"$f":"IF(Compliance_Options!C147=\"\",\"\",Compliance_Options!C147)","v":""},{"$f":"IF(Compliance_Options!D147=\"\",\"\",Compliance_Options!D147)","v":""},"  ",{"$f":"IF(COUNTIF(CT$2:CT125,CT125)=1,CT125,\"\")","v":""},"","","",""]
[null,null,null,null,null,null,null,null,null,null,null,null,null,null,null,null,null,null,null,null,null,null,null,null,null,null,null,null,null,null,null,null,null,null,null,null,null,null,null,null,null,null,null,null,null,null,null,{"$f":"+IF(AW126=\"\",\"\",MAX(AV$1:AV125)+1)","v":""},{"$f":"IF(Compliance_Options!B148=\"\",\"\",Compliance_Options!B148)","v":""},{"$f":"IF(Compliance_Options!C148=\"\",\"\",Compliance_Options!C148)","v":""},{"$f":"IF(Compliance_Options!D148=\"\",\"\",Compliance_Options!D148)","v":""},{"$f":"IF(Compliance_Options!E148=\"\",\"\",Compliance_Options!E148)","v":""},{"$f":"IF(Compliance_Options!F148=\"\",\"\",Compliance_Options!F148)","v":""},"    ",{"$f":"IF(COUNTIF(BB$2:BB126,BB126)=1,BB126,\"\")","v":""},"","","","","","","",{"$f":"+IF(BJ126=\"\",\"\",MAX(BK$1:BK125)+1)","v":""},"","","","","","","",{"$f":"+IF(BR126=\"\",\"\",MAX(BS$1:BS125)+1)","v":""},"","","","","","","",{"$f":"+IF(BZ126=\"\",\"\",MAX(CA$1:CA125)+1)","v":""},"","","","","","","",{"$f":"+IF(CH126=\"\",\"\",MAX(CI$1:CI125)+1)","v":""},"","","","","",null,{"$f":"+IF(CQ126=\"\",\"\",MAX(CP$1:CP125)+1)","v":""},{"$f":"IF(Compliance_Options!B148=\"\",\"\",Compliance_Options!B148)","v":""},{"$f":"IF(Compliance_Options!C148=\"\",\"\",Compliance_Options!C148)","v":""},{"$f":"IF(Compliance_Options!D148=\"\",\"\",Compliance_Options!D148)","v":""},"  ",{"$f":"IF(COUNTIF(CT$2:CT126,CT126)=1,CT126,\"\")","v":""},"","","",""]
[null,null,null,null,null,null,null,null,null,null,null,null,null,null,null,null,null,null,null,null,null,null,null,null,null,null,null,null,null,null,null,null,null,null,null,null,null,null,null,null,null,null,null,null,null,null,null,{"$f":"+IF(AW127=\"\",\"\",MAX(AV$1:AV126)+1)","v":""},{"$f":"IF(Compliance_Options!B149=\"\",\"\",Compliance_Options!B149)","v":""},{"$f":"IF(Compliance_Options!C149=\"\",\"\",Compliance_Options!C149)","v":""},{"$f":"IF(Compliance_Options!D149=\"\",\"\",Compliance_Options!D149)","v":""},{"$f":"IF(Compliance_Options!E149=\"\",\"\",Compliance_Options!E149)","v":""},{"$f":"IF(Compliance_Options!F149=\"\",\"\",Compliance_Options!F149)","v":""},"    ",{"$f":"IF(COUNTIF(BB$2:BB127,BB127)=1,BB127,\"\")","v":""},"","","","","","","",{"$f":"+IF(BJ127=\"\",\"\",MAX(BK$1:BK126)+1)","v":""},"","","","","","","",{"$f":"+IF(BR127=\"\",\"\",MAX(BS$1:BS126)+1)","v":""},"","","","","","","",{"$f":"+IF(BZ127=\"\",\"\",MAX(CA$1:CA126)+1)","v":""},"","","","","","","",{"$f":"+IF(CH127=\"\",\"\",MAX(CI$1:CI126)+1)","v":""},"","","","","",null,{"$f":"+IF(CQ127=\"\",\"\",MAX(CP$1:CP126)+1)","v":""},{"$f":"IF(Compliance_Options!B149=\"\",\"\",Compliance_Options!B149)","v":""},{"$f":"IF(Compliance_Options!C149=\"\",\"\",Compliance_Options!C149)","v":""},{"$f":"IF(Compliance_Options!D149=\"\",\"\",Compliance_Options!D149)","v":""},"  ",{"$f":"IF(COUNTIF(CT$2:CT127,CT127)=1,CT127,\"\")","v":""},"","","",""]
[null,null,null,null,null,null,null,null,null,null,null,null,null,null,null,null,null,null,null,null,null,null,null,null,null,null,null,null,null,null,null,null,null,null,null,null,null,null,null,null,null,null,null,null,null,null,null,{"$f":"+IF(AW128=\"\",\"\",MAX(AV$1:AV127)+1)","v":""},{"$f":"IF(Compliance_Options!B150=\"\",\"\",Compliance_Options!B150)","v":""},{"$f":"IF(Compliance_Options!C150=\"\",\"\",Compliance_Options!C150)","v":""},{"$f":"IF(Compliance_Options!D150=\"\",\"\",Compliance_Options!D150)","v":""},{"$f":"IF(Compliance_Options!E150=\"\",\"\",Compliance_Options!E150)","v":""},{"$f":"IF(Compliance_Options!F150=\"\",\"\",Compliance_Options!F150)","v":""},"    ",{"$f":"IF(COUNTIF(BB$2:BB128,BB128)=1,BB128,\"\")","v":""},"","","","","","","",{"$f":"+IF(BJ128=\"\",\"\",MAX(BK$1:BK127)+1)","v":""},"","","","","","","",{"$f":"+IF(BR128=\"\",\"\",MAX(BS$1:BS127)+1)","v":""},"","","","","","","",{"$f":"+IF(BZ128=\"\",\"\",MAX(CA$1:CA127)+1)","v":""},"","","","","","","",{"$f":"+IF(CH128=\"\",\"\",MAX(CI$1:CI127)+1)","v":""},"","","","","",null,{"$f":"+IF(CQ128=\"\",\"\",MAX(CP$1:CP127)+1)","v":""},{"$f":"IF(Compliance_Options!B150=\"\",\"\",Compliance_Options!B150)","v":""},{"$f":"IF(Compliance_Options!C150=\"\",\"\",Compliance_Options!C150)","v":""},{"$f":"IF(Compliance_Options!D150=\"\",\"\",Compliance_Options!D150)","v":""},"  ",{"$f":"IF(COUNTIF(CT$2:CT128,CT128)=1,CT128,\"\")","v":""},"","","",""]
[null,null,null,null,null,null,null,null,null,null,null,null,null,null,null,null,null,null,null,null,null,null,null,null,null,null,null,null,null,null,null,null,null,null,null,null,null,null,null,null,null,null,null,null,null,null,null,{"$f":"+IF(AW129=\"\",\"\",MAX(AV$1:AV128)+1)","v":""},{"$f":"IF(Compliance_Options!B151=\"\",\"\",Compliance_Options!B151)","v":""},{"$f":"IF(Compliance_Options!C151=\"\",\"\",Compliance_Options!C151)","v":""},{"$f":"IF(Compliance_Options!D151=\"\",\"\",Compliance_Options!D151)","v":""},{"$f":"IF(Compliance_Options!E151=\"\",\"\",Compliance_Options!E151)","v":""},{"$f":"IF(Compliance_Options!F151=\"\",\"\",Compliance_Options!F151)","v":""},"    ",{"$f":"IF(COUNTIF(BB$2:BB129,BB129)=1,BB129,\"\")","v":""},"","","","","","","",{"$f":"+IF(BJ129=\"\",\"\",MAX(BK$1:BK128)+1)","v":""},"","","","","","","",{"$f":"+IF(BR129=\"\",\"\",MAX(BS$1:BS128)+1)","v":""},"","","","","","","",{"$f":"+IF(BZ129=\"\",\"\",MAX(CA$1:CA128)+1)","v":""},"","","","","","","",{"$f":"+IF(CH129=\"\",\"\",MAX(CI$1:CI128)+1)","v":""},"","","","","",null,{"$f":"+IF(CQ129=\"\",\"\",MAX(CP$1:CP128)+1)","v":""},{"$f":"IF(Compliance_Options!B151=\"\",\"\",Compliance_Options!B151)","v":""},{"$f":"IF(Compliance_Options!C151=\"\",\"\",Compliance_Options!C151)","v":""},{"$f":"IF(Compliance_Options!D151=\"\",\"\",Compliance_Options!D151)","v":""},"  ",{"$f":"IF(COUNTIF(CT$2:CT129,CT129)=1,CT129,\"\")","v":""},"","","",""]
[null,null,null,null,null,null,null,null,null,null,null,null,null,null,null,null,null,null,null,null,null,null,null,null,null,null,null,null,null,null,null,null,null,null,null,null,null,null,null,null,null,null,null,null,null,null,null,{"$f":"+IF(AW130=\"\",\"\",MAX(AV$1:AV129)+1)","v":""},{"$f":"IF(Compliance_Options!B152=\"\",\"\",Compliance_Options!B152)","v":""},{"$f":"IF(Compliance_Options!C152=\"\",\"\",Compliance_Options!C152)","v":""},{"$f":"IF(Compliance_Options!D152=\"\",\"\",Compliance_Options!D152)","v":""},{"$f":"IF(Compliance_Options!E152=\"\",\"\",Compliance_Options!E152)","v":""},{"$f":"IF(Compliance_Options!F152=\"\",\"\",Compliance_Options!F152)","v":""},"    ",{"$f":"IF(COUNTIF(BB$2:BB130,BB130)=1,BB130,\"\")","v":""},"","","","","","","",{"$f":"+IF(BJ130=\"\",\"\",MAX(BK$1:BK129)+1)","v":""},"","","","","","","",{"$f":"+IF(BR130=\"\",\"\",MAX(BS$1:BS129)+1)","v":""},"","","","","","","",{"$f":"+IF(BZ130=\"\",\"\",MAX(CA$1:CA129)+1)","v":""},"","","","","","","",{"$f":"+IF(CH130=\"\",\"\",MAX(CI$1:CI129)+1)","v":""},"","","","","",null,{"$f":"+IF(CQ130=\"\",\"\",MAX(CP$1:CP129)+1)","v":""},{"$f":"IF(Compliance_Options!B152=\"\",\"\",Compliance_Options!B152)","v":""},{"$f":"IF(Compliance_Options!C152=\"\",\"\",Compliance_Options!C152)","v":""},{"$f":"IF(Compliance_Options!D152=\"\",\"\",Compliance_Options!D152)","v":""},"  ",{"$f":"IF(COUNTIF(CT$2:CT130,CT130)=1,CT130,\"\")","v":""},"","","",""]
[null,null,null,null,null,null,null,null,null,null,null,null,null,null,null,null,null,null,null,null,null,null,null,null,null,null,null,null,null,null,null,null,null,null,null,null,null,null,null,null,null,null,null,null,null,null,null,{"$f":"+IF(AW131=\"\",\"\",MAX(AV$1:AV130)+1)","v":""},{"$f":"IF(Compliance_Options!B153=\"\",\"\",Compliance_Options!B153)","v":""},{"$f":"IF(Compliance_Options!C153=\"\",\"\",Compliance_Options!C153)","v":""},{"$f":"IF(Compliance_Options!D153=\"\",\"\",Compliance_Options!D153)","v":""},{"$f":"IF(Compliance_Options!E153=\"\",\"\",Compliance_Options!E153)","v":""},{"$f":"IF(Compliance_Options!F153=\"\",\"\",Compliance_Options!F153)","v":""},{"$f":"AW131&\" \"&AX131&\" \"&AY131&\" \"&AZ131&\" \"&BA131","v":"    "},{"$f":"IF(COUNTIF(BB$2:BB131,BB131)=1,BB131,\"\")","v":""},{"$f":"IF(BE131=\"\",\"\",BE131&\" \"&BF131&\" \"&BG131)","v":""},{"$f":"IFERROR(INDEX(AW$2:AW$78,MATCH(ROW()-ROW($BC$1),$AV$2:$AV$78,0)),\"\")","v":""},{"$f":"IFERROR(INDEX(AX$2:AX$78,MATCH(ROW()-ROW($BC$1),$AV$2:$AV$78,0)),\"\")","v":""},{"$f":"IFERROR(INDEX(AY$2:AY$78,MATCH(ROW()-ROW($BC$1),$AV$2:$AV$78,0)),\"\")","v":""},{"$f":"IFERROR(INDEX(AZ$2:AZ$78,MATCH(ROW()-ROW($BC$1),$AV$2:$AV$78,0)),\"\")","v":""},{"$f":"IFERROR(INDEX(BA$2:BA$78,MATCH(ROW()-ROW($BC$1),$AV$2:$AV$78,0)),\"\")","v":""},{"$f":"IF($AY131=\"Tire Production\",$BB131,\"\")","v":""},{"$f":"+IF(BJ131=\"\",\"\",MAX(BK$1:BK130)+1)","v":""},{"$f":"IF(BM131=\"\",\"\",BM131&\" \"&BN131&\" \"&BO131&\" \"&BP131&\" \"&BQ131)","v":""},{"$f":"IFERROR(INDEX(AW$2:AW$78,MATCH(ROW()-ROW($BC$1),$BK$2:$BK$78,0)),\"\")","v":""},{"$f":"IFERROR(INDEX(AX$2:AX$78,MATCH(ROW()-ROW($BC$1),$BK$2:$BK$78,0)),\"\")","v":""},{"$f":"IFERROR(INDEX(AY$2:AY$78,MATCH(ROW()-ROW($BC$1),$BK$2:$BK$78,0)),\"\")","v":""},{"$f":"IFERROR(INDEX(AZ$2:AZ$78,MATCH(ROW()-ROW($BC$1),$BK$2:$BK$78,0)),\"\")","v":""},{"$f":"IFERROR(INDEX(BA$2:BA$78,MATCH(ROW()-ROW($BC$1),$BK$2:$BK$78,0)),\"\")","v":""},{"$f":"IF($AY131=\"Tire Cord Production\",$BB131,\"\")","v":""},{"$f":"+IF(BR131=\"\",\"\",MAX(BS$1:BS130)+1)","v":""},{"$f":"IF(BU131=\"\",\"\",BU131&\" \"&BV131&\" \"&BW131)","v":""},{"$f":"IFERROR(INDEX(AW$2:AW$78,MATCH(ROW()-ROW($BS$1),$BS$2:$BS$78,0)),\"\")","v":""},{"$f":"IFERROR(INDEX(AX$2:AX$78,MATCH(ROW()-ROW($BS$1),$BS$2:$BS$78,0)),\"\")","v":""},{"$f":"IFERROR(INDEX(AY$2:AY$78,MATCH(ROW()-ROW($BS$1),$BS$2:$BS$78,0)),\"\")","v":""},{"$f":"IFERROR(INDEX(AZ$2:AZ$78,MATCH(ROW()-ROW($BS$1),$BS$2:$BS$78,0)),\"\")","v":""},{"$f":"IFERROR(INDEX(BA$2:BA$78,MATCH(ROW()-ROW($BS$1),$BS$2:$BS$78,0)),\"\")","v":""},{"$f":"IF($AY131=\"Puncture Sealant Application\",$BB131,\"\")","v":""},{"$f":"+IF(BZ131=\"\",\"\",MAX(CA$1:CA130)+1)","v":""},{"$f":"IF(CC131=\"\",\"\",CC131&\" \"&CD131&\" \"&CE131)","v":""},{"$f":"IFERROR(INDEX(AW$2:AW$78,MATCH(ROW()-ROW($CA$1),$CA$2:$CA$78,0)),\"\")","v":""},{"$f":"IFERROR(INDEX(AX$2:AX$78,MATCH(ROW()-ROW($CA$1),$CA$2:$CA$78,0)),\"\")","v":""},{"$f":"IFERROR(INDEX(AY$2:AY$78,MATCH(ROW()-ROW($CA$1),$CA$2:$CA$78,0)),\"\")","v":""},{"$f":"IFERROR(INDEX(AZ$2:AZ$78,MATCH(ROW()-ROW($CA$1),$CA$2:$CA$78,0)),\"\")","v":""},{"$f":"IFERROR(INDEX(BA$2:BA$78,MATCH(ROW()-ROW($CA$1),$CA$2:$CA$78,0)),\"\")","v":""},{"$f":"IF($AY131=\"Rubber Processing\",$BB131,\"\")","v":""},{"$f":"+IF(CH131=\"\",\"\",MAX(CI$1:CI130)+1)","v":""},{"$f":"IFERROR(INDEX(AW$2:AW$78,MATCH(ROW()-ROW($CI$1),$CI$2:$CI$78,0)),\"\")","v":""},{"$f":"IFERROR(INDEX(AX$2:AX$78,MATCH(ROW()-ROW($CI$1),$CI$2:$CI$78,0)),\"\")","v":""},{"$f":"IFERROR(INDEX(AY$2:AY$78,MATCH(ROW()-ROW($CI$1),$CI$2:$CI$78,0)),\"\")","v":""},{"$f":"IFERROR(INDEX(AZ$2:AZ$78,MATCH(ROW()-ROW($CI$1),$CI$2:$CI$78,0)),\"\")","v":""},{"$f":"IFERROR(INDEX(BA$2:BA$78,MATCH(ROW()-ROW($CI$1),$CI$2:$CI$78,0)),\"\")","v":""},null,{"$f":"+IF(CQ131=\"\",\"\",MAX(CP$1:CP130)+1)","v":""},{"$f":"IF(Compliance_Options!B153=\"\",\"\",Compliance_Options!B153)","v":""},{"$f":"IF(Compliance_Options!C153=\"\",\"\",Compliance_Options!C153)","v":""},{"$f":"IF(Compliance_Options!D153=\"\",\"\",Compliance_Options!D153)","v":""},{"$f":"CQ131&\" \"&CR131&\" \"&CS131","v":"  "},{"$f":"IF(COUNTIF(CT$2:CT131,CT131)=1,CT131,\"\")","v":""},{"$f":"IFERROR(INDEX(CU$2:CU$78,MATCH(ROW()-ROW($CU$1),$CP$2:$CP$78,0)),\"\")","v":""},{"$f":"IFERROR(INDEX(CQ$2:CQ$78,MATCH(ROW()-ROW($CU$1),$CP$2:$CP$78,0)),\"\")","v":""},{"$f":"IFERROR(INDEX(CR$2:CR$78,MATCH(ROW()-ROW($CU$1),$CP$2:$CP$78,0)),\"\")","v":""},{"$f":"IFERROR(INDEX(CS$2:CS$78,MATCH(ROW()-ROW($CU$1),$CP$2:$CP$78,0)),\"\")","v":""}]
[null,null,null,null,null,null,null,null,null,null,null,null,null,null,null,null,null,null,null,null,null,null,null,null,null,null,null,null,null,null,null,null,null,null,null,null,null,null,null,null,null,null,null,null,null,null,null,{"$f":"+IF(AW132=\"\",\"\",MAX(AV$1:AV131)+1)","v":""},{"$f":"IF(Compliance_Options!B154=\"\",\"\",Compliance_Options!B154)","v":""},{"$f":"IF(Compliance_Options!C154=\"\",\"\",Compliance_Options!C154)","v":""},{"$f":"IF(Compliance_Options!D154=\"\",\"\",Compliance_Options!D154)","v":""},{"$f":"IF(Compliance_Options!E154=\"\",\"\",Compliance_Options!E154)","v":""},{"$f":"IF(Compliance_Options!F154=\"\",\"\",Compliance_Options!F154)","v":""},"    ",{"$f":"IF(COUNTIF(BB$2:BB132,BB132)=1,BB132,\"\")","v":""},"","","","","","","",{"$f":"+IF(BJ132=\"\",\"\",MAX(BK$1:BK131)+1)","v":""},"","","","","","","",{"$f":"+IF(BR132=\"\",\"\",MAX(BS$1:BS131)+1)","v":""},"","","","","","","",{"$f":"+IF(BZ132=\"\",\"\",MAX(CA$1:CA131)+1)","v":""},"","","","","","","",{"$f":"+IF(CH132=\"\",\"\",MAX(CI$1:CI131)+1)","v":""},"","","","","",null,{"$f":"+IF(CQ132=\"\",\"\",MAX(CP$1:CP131)+1)","v":""},{"$f":"IF(Compliance_Options!B154=\"\",\"\",Compliance_Options!B154)","v":""},{"$f":"IF(Compliance_Options!C154=\"\",\"\",Compliance_Options!C154)","v":""},{"$f":"IF(Compliance_Options!D154=\"\",\"\",Compliance_Options!D154)","v":""},"  ",{"$f":"IF(COUNTIF(CT$2:CT132,CT132)=1,CT132,\"\")","v":""},"","","",""]
[null,null,null,null,null,null,null,null,null,null,null,null,null,null,null,null,null,null,null,null,null,null,null,null,null,null,null,null,null,null,null,null,null,null,null,null,null,null,null,null,null,null,null,null,null,null,null,{"$f":"+IF(AW133=\"\",\"\",MAX(AV$1:AV132)+1)","v":""},{"$f":"IF(Compliance_Options!B155=\"\",\"\",Compliance_Options!B155)","v":""},{"$f":"IF(Compliance_Options!C155=\"\",\"\",Compliance_Options!C155)","v":""},{"$f":"IF(Compliance_Options!D155=\"\",\"\",Compliance_Options!D155)","v":""},{"$f":"IF(Compliance_Options!E155=\"\",\"\",Compliance_Options!E155)","v":""},{"$f":"IF(Compliance_Options!F155=\"\",\"\",Compliance_Options!F155)","v":""},"    ",{"$f":"IF(COUNTIF(BB$2:BB133,BB133)=1,BB133,\"\")","v":""},"","","","","","","",{"$f":"+IF(BJ133=\"\",\"\",MAX(BK$1:BK132)+1)","v":""},"","","","","","","",{"$f":"+IF(BR133=\"\",\"\",MAX(BS$1:BS132)+1)","v":""},"","","","","","","",{"$f":"+IF(BZ133=\"\",\"\",MAX(CA$1:CA132)+1)","v":""},"","","","","","","",{"$f":"+IF(CH133=\"\",\"\",MAX(CI$1:CI132)+1)","v":""},"","","","","",null,{"$f":"+IF(CQ133=\"\",\"\",MAX(CP$1:CP132)+1)","v":""},{"$f":"IF(Compliance_Options!B155=\"\",\"\",Compliance_Options!B155)","v":""},{"$f":"IF(Compliance_Options!C155=\"\",\"\",Compliance_Options!C155)","v":""},{"$f":"IF(Compliance_Options!D155=\"\",\"\",Compliance_Options!D155)","v":""},"  ",{"$f":"IF(COUNTIF(CT$2:CT133,CT133)=1,CT133,\"\")","v":""},"","","",""]
[null,null,null,null,null,null,null,null,null,null,null,null,null,null,null,null,null,null,null,null,null,null,null,null,null,null,null,null,null,null,null,null,null,null,null,null,null,null,null,null,null,null,null,null,null,null,null,{"$f":"+IF(AW134=\"\",\"\",MAX(AV$1:AV133)+1)","v":""},{"$f":"IF(Compliance_Options!B156=\"\",\"\",Compliance_Options!B156)","v":""},{"$f":"IF(Compliance_Options!C156=\"\",\"\",Compliance_Options!C156)","v":""},{"$f":"IF(Compliance_Options!D156=\"\",\"\",Compliance_Options!D156)","v":""},{"$f":"IF(Compliance_Options!E156=\"\",\"\",Compliance_Options!E156)","v":""},{"$f":"IF(Compliance_Options!F156=\"\",\"\",Compliance_Options!F156)","v":""},"    ",{"$f":"IF(COUNTIF(BB$2:BB134,BB134)=1,BB134,\"\")","v":""},"","","","","","","",{"$f":"+IF(BJ134=\"\",\"\",MAX(BK$1:BK133)+1)","v":""},"","","","","","","",{"$f":"+IF(BR134=\"\",\"\",MAX(BS$1:BS133)+1)","v":""},"","","","","","","",{"$f":"+IF(BZ134=\"\",\"\",MAX(CA$1:CA133)+1)","v":""},"","","","","","","",{"$f":"+IF(CH134=\"\",\"\",MAX(CI$1:CI133)+1)","v":""},"","","","","",null,{"$f":"+IF(CQ134=\"\",\"\",MAX(CP$1:CP133)+1)","v":""},{"$f":"IF(Compliance_Options!B156=\"\",\"\",Compliance_Options!B156)","v":""},{"$f":"IF(Compliance_Options!C156=\"\",\"\",Compliance_Options!C156)","v":""},{"$f":"IF(Compliance_Options!D156=\"\",\"\",Compliance_Options!D156)","v":""},"  ",{"$f":"IF(COUNTIF(CT$2:CT134,CT134)=1,CT134,\"\")","v":""},"","","",""]
[null,null,null,null,null,null,null,null,null,null,null,null,null,null,null,null,null,null,null,null,null,null,null,null,null,null,null,null,null,null,null,null,null,null,null,null,null,null,null,null,null,null,null,null,null,null,null,{"$f":"+IF(AW135=\"\",\"\",MAX(AV$1:AV134)+1)","v":""},{"$f":"IF(Compliance_Options!B157=\"\",\"\",Compliance_Options!B157)","v":""},{"$f":"IF(Compliance_Options!C157=\"\",\"\",Compliance_Options!C157)","v":""},{"$f":"IF(Compliance_Options!D157=\"\",\"\",Compliance_Options!D157)","v":""},{"$f":"IF(Compliance_Options!E157=\"\",\"\",Compliance_Options!E157)","v":""},{"$f":"IF(Compliance_Options!F157=\"\",\"\",Compliance_Options!F157)","v":""},"    ",{"$f":"IF(COUNTIF(BB$2:BB135,BB135)=1,BB135,\"\")","v":""},"","","","","","","",{"$f":"+IF(BJ135=\"\",\"\",MAX(BK$1:BK134)+1)","v":""},"","","","","","","",{"$f":"+IF(BR135=\"\",\"\",MAX(BS$1:BS134)+1)","v":""},"","","","","","","",{"$f":"+IF(BZ135=\"\",\"\",MAX(CA$1:CA134)+1)","v":""},"","","","","","","",{"$f":"+IF(CH135=\"\",\"\",MAX(CI$1:CI134)+1)","v":""},"","","","","",null,{"$f":"+IF(CQ135=\"\",\"\",MAX(CP$1:CP134)+1)","v":""},{"$f":"IF(Compliance_Options!B157=\"\",\"\",Compliance_Options!B157)","v":""},{"$f":"IF(Compliance_Options!C157=\"\",\"\",Compliance_Options!C157)","v":""},{"$f":"IF(Compliance_Options!D157=\"\",\"\",Compliance_Options!D157)","v":""},"  ",{"$f":"IF(COUNTIF(CT$2:CT135,CT135)=1,CT135,\"\")","v":""},"","","",""]
[null,null,null,null,null,null,null,null,null,null,null,null,null,null,null,null,null,null,null,null,null,null,null,null,null,null,null,null,null,null,null,null,null,null,null,null,null,null,null,null,null,null,null,null,null,null,null,{"$f":"+IF(AW136=\"\",\"\",MAX(AV$1:AV135)+1)","v":""},{"$f":"IF(Compliance_Options!B158=\"\",\"\",Compliance_Options!B158)","v":""},{"$f":"IF(Compliance_Options!C158=\"\",\"\",Compliance_Options!C158)","v":""},{"$f":"IF(Compliance_Options!D158=\"\",\"\",Compliance_Options!D158)","v":""},{"$f":"IF(Compliance_Options!E158=\"\",\"\",Compliance_Options!E158)","v":""},{"$f":"IF(Compliance_Options!F158=\"\",\"\",Compliance_Options!F158)","v":""},"    ",{"$f":"IF(COUNTIF(BB$2:BB136,BB136)=1,BB136,\"\")","v":""},"","","","","","","",{"$f":"+IF(BJ136=\"\",\"\",MAX(BK$1:BK135)+1)","v":""},"","","","","","","",{"$f":"+IF(BR136=\"\",\"\",MAX(BS$1:BS135)+1)","v":""},"","","","","","","",{"$f":"+IF(BZ136=\"\",\"\",MAX(CA$1:CA135)+1)","v":""},"","","","","","","",{"$f":"+IF(CH136=\"\",\"\",MAX(CI$1:CI135)+1)","v":""},"","","","","",null,{"$f":"+IF(CQ136=\"\",\"\",MAX(CP$1:CP135)+1)","v":""},{"$f":"IF(Compliance_Options!B158=\"\",\"\",Compliance_Options!B158)","v":""},{"$f":"IF(Compliance_Options!C158=\"\",\"\",Compliance_Options!C158)","v":""},{"$f":"IF(Compliance_Options!D158=\"\",\"\",Compliance_Options!D158)","v":""},"  ",{"$f":"IF(COUNTIF(CT$2:CT136,CT136)=1,CT136,\"\")","v":""},"","","",""]
[null,null,null,null,null,null,null,null,null,null,null,null,null,null,null,null,null,null,null,null,null,null,null,null,null,null,null,null,null,null,null,null,null,null,null,null,null,null,null,null,null,null,null,null,null,null,null,{"$f":"+IF(AW137=\"\",\"\",MAX(AV$1:AV136)+1)","v":""},{"$f":"IF(Compliance_Options!B159=\"\",\"\",Compliance_Options!B159)","v":""},{"$f":"IF(Compliance_Options!C159=\"\",\"\",Compliance_Options!C159)","v":""},{"$f":"IF(Compliance_Options!D159=\"\",\"\",Compliance_Options!D159)","v":""},{"$f":"IF(Compliance_Options!E159=\"\",\"\",Compliance_Options!E159)","v":""},{"$f":"IF(Compliance_Options!F159=\"\",\"\",Compliance_Options!F159)","v":""},"    ",{"$f":"IF(COUNTIF(BB$2:BB137,BB137)=1,BB137,\"\")","v":""},"","","","","","","",{"$f":"+IF(BJ137=\"\",\"\",MAX(BK$1:BK136)+1)","v":""},"","","","","","","",{"$f":"+IF(BR137=\"\",\"\",MAX(BS$1:BS136)+1)","v":""},"","","","","","","",{"$f":"+IF(BZ137=\"\",\"\",MAX(CA$1:CA136)+1)","v":""},"","","","","","","",{"$f":"+IF(CH137=\"\",\"\",MAX(CI$1:CI136)+1)","v":""},"","","","","",null,{"$f":"+IF(CQ137=\"\",\"\",MAX(CP$1:CP136)+1)","v":""},{"$f":"IF(Compliance_Options!B159=\"\",\"\",Compliance_Options!B159)","v":""},{"$f":"IF(Compliance_Options!C159=\"\",\"\",Compliance_Options!C159)","v":""},{"$f":"IF(Compliance_Options!D159=\"\",\"\",Compliance_Options!D159)","v":""},"  ",{"$f":"IF(COUNTIF(CT$2:CT137,CT137)=1,CT137,\"\")","v":""},"","","",""]
[null,null,null,null,null,null,null,null,null,null,null,null,null,null,null,null,null,null,null,null,null,null,null,null,null,null,null,null,null,null,null,null,null,null,null,null,null,null,null,null,null,null,null,null,null,null,null,{"$f":"+IF(AW138=\"\",\"\",MAX(AV$1:AV137)+1)","v":""},{"$f":"IF(Compliance_Options!B160=\"\",\"\",Compliance_Options!B160)","v":""},{"$f":"IF(Compliance_Options!C160=\"\",\"\",Compliance_Options!C160)","v":""},{"$f":"IF(Compliance_Options!D160=\"\",\"\",Compliance_Options!D160)","v":""},{"$f":"IF(Compliance_Options!E160=\"\",\"\",Compliance_Options!E160)","v":""},{"$f":"IF(Compliance_Options!F160=\"\",\"\",Compliance_Options!F160)","v":""},"    ",{"$f":"IF(COUNTIF(BB$2:BB138,BB138)=1,BB138,\"\")","v":""},"","","","","","","",{"$f":"+IF(BJ138=\"\",\"\",MAX(BK$1:BK137)+1)","v":""},"","","","","","","",{"$f":"+IF(BR138=\"\",\"\",MAX(BS$1:BS137)+1)","v":""},"","","","","","","",{"$f":"+IF(BZ138=\"\",\"\",MAX(CA$1:CA137)+1)","v":""},"","","","","","","",{"$f":"+IF(CH138=\"\",\"\",MAX(CI$1:CI137)+1)","v":""},"","","","","",null,{"$f":"+IF(CQ138=\"\",\"\",MAX(CP$1:CP137)+1)","v":""},{"$f":"IF(Compliance_Options!B160=\"\",\"\",Compliance_Options!B160)","v":""},{"$f":"IF(Compliance_Options!C160=\"\",\"\",Compliance_Options!C160)","v":""},{"$f":"IF(Compliance_Options!D160=\"\",\"\",Compliance_Options!D160)","v":""},"  ",{"$f":"IF(COUNTIF(CT$2:CT138,CT138)=1,CT138,\"\")","v":""},"","","",""]
[null,null,null,null,null,null,null,null,null,null,null,null,null,null,null,null,null,null,null,null,null,null,null,null,null,null,null,null,null,null,null,null,null,null,null,null,null,null,null,null,null,null,null,null,null,null,null,{"$f":"+IF(AW139=\"\",\"\",MAX(AV$1:AV138)+1)","v":""},{"$f":"IF(Compliance_Options!B161=\"\",\"\",Compliance_Options!B161)","v":""},{"$f":"IF(Compliance_Options!C161=\"\",\"\",Compliance_Options!C161)","v":""},{"$f":"IF(Compliance_Options!D161=\"\",\"\",Compliance_Options!D161)","v":""},{"$f":"IF(Compliance_Options!E161=\"\",\"\",Compliance_Options!E161)","v":""},{"$f":"IF(Compliance_Options!F161=\"\",\"\",Compliance_Options!F161)","v":""},"    ",{"$f":"IF(COUNTIF(BB$2:BB139,BB139)=1,BB139,\"\")","v":""},"","","","","","","",{"$f":"+IF(BJ139=\"\",\"\",MAX(BK$1:BK138)+1)","v":""},"","","","","","","",{"$f":"+IF(BR139=\"\",\"\",MAX(BS$1:BS138)+1)","v":""},"","","","","","","",{"$f":"+IF(BZ139=\"\",\"\",MAX(CA$1:CA138)+1)","v":""},"","","","","","","",{"$f":"+IF(CH139=\"\",\"\",MAX(CI$1:CI138)+1)","v":""},"","","","","",null,{"$f":"+IF(CQ139=\"\",\"\",MAX(CP$1:CP138)+1)","v":""},{"$f":"IF(Compliance_Options!B161=\"\",\"\",Compliance_Options!B161)","v":""},{"$f":"IF(Compliance_Options!C161=\"\",\"\",Compliance_Options!C161)","v":""},{"$f":"IF(Compliance_Options!D161=\"\",\"\",Compliance_Options!D161)","v":""},"  ",{"$f":"IF(COUNTIF(CT$2:CT139,CT139)=1,CT139,\"\")","v":""},"","","",""]
[null,null,null,null,null,null,null,null,null,null,null,null,null,null,null,null,null,null,null,null,null,null,null,null,null,null,null,null,null,null,null,null,null,null,null,null,null,null,null,null,null,null,null,null,null,null,null,{"$f":"+IF(AW140=\"\",\"\",MAX(AV$1:AV139)+1)","v":""},{"$f":"IF(Compliance_Options!B162=\"\",\"\",Compliance_Options!B162)","v":""},{"$f":"IF(Compliance_Options!C162=\"\",\"\",Compliance_Options!C162)","v":""},{"$f":"IF(Compliance_Options!D162=\"\",\"\",Compliance_Options!D162)","v":""},{"$f":"IF(Compliance_Options!E162=\"\",\"\",Compliance_Options!E162)","v":""},{"$f":"IF(Compliance_Options!F162=\"\",\"\",Compliance_Options!F162)","v":""},"    ",{"$f":"IF(COUNTIF(BB$2:BB140,BB140)=1,BB140,\"\")","v":""},"","","","","","","",{"$f":"+IF(BJ140=\"\",\"\",MAX(BK$1:BK139)+1)","v":""},"","","","","","","",{"$f":"+IF(BR140=\"\",\"\",MAX(BS$1:BS139)+1)","v":""},"","","","","","","",{"$f":"+IF(BZ140=\"\",\"\",MAX(CA$1:CA139)+1)","v":""},"","","","","","","",{"$f":"+IF(CH140=\"\",\"\",MAX(CI$1:CI139)+1)","v":""},"","","","","",null,{"$f":"+IF(CQ140=\"\",\"\",MAX(CP$1:CP139)+1)","v":""},{"$f":"IF(Compliance_Options!B162=\"\",\"\",Compliance_Options!B162)","v":""},{"$f":"IF(Compliance_Options!C162=\"\",\"\",Compliance_Options!C162)","v":""},{"$f":"IF(Compliance_Options!D162=\"\",\"\",Compliance_Options!D162)","v":""},"  ",{"$f":"IF(COUNTIF(CT$2:CT140,CT140)=1,CT140,\"\")","v":""},"","","",""]
[null,null,null,null,null,null,null,null,null,null,null,null,null,null,null,null,null,null,null,null,null,null,null,null,null,null,null,null,null,null,null,null,null,null,null,null,null,null,null,null,null,null,null,null,null,null,null,{"$f":"+IF(AW141=\"\",\"\",MAX(AV$1:AV140)+1)","v":""},{"$f":"IF(Compliance_Options!B163=\"\",\"\",Compliance_Options!B163)","v":""},{"$f":"IF(Compliance_Options!C163=\"\",\"\",Compliance_Options!C163)","v":""},{"$f":"IF(Compliance_Options!D163=\"\",\"\",Compliance_Options!D163)","v":""},{"$f":"IF(Compliance_Options!E163=\"\",\"\",Compliance_Options!E163)","v":""},{"$f":"IF(Compliance_Options!F163=\"\",\"\",Compliance_Options!F163)","v":""},"    ",{"$f":"IF(COUNTIF(BB$2:BB141,BB141)=1,BB141,\"\")","v":""},"","","","","","","",{"$f":"+IF(BJ141=\"\",\"\",MAX(BK$1:BK140)+1)","v":""},"","","","","","","",{"$f":"+IF(BR141=\"\",\"\",MAX(BS$1:BS140)+1)","v":""},"","","","","","","",{"$f":"+IF(BZ141=\"\",\"\",MAX(CA$1:CA140)+1)","v":""},"","","","","","","",{"$f":"+IF(CH141=\"\",\"\",MAX(CI$1:CI140)+1)","v":""},"","","","","",null,{"$f":"+IF(CQ141=\"\",\"\",MAX(CP$1:CP140)+1)","v":""},{"$f":"IF(Compliance_Options!B163=\"\",\"\",Compliance_Options!B163)","v":""},{"$f":"IF(Compliance_Options!C163=\"\",\"\",Compliance_Options!C163)","v":""},{"$f":"IF(Compliance_Options!D163=\"\",\"\",Compliance_Options!D163)","v":""},"  ",{"$f":"IF(COUNTIF(CT$2:CT141,CT141)=1,CT141,\"\")","v":""},"","","",""]
[null,null,null,null,null,null,null,null,null,null,null,null,null,null,null,null,null,null,null,null,null,null,null,null,null,null,null,null,null,null,null,null,null,null,null,null,null,null,null,null,null,null,null,null,null,null,null,{"$f":"+IF(AW142=\"\",\"\",MAX(AV$1:AV141)+1)","v":""},{"$f":"IF(Compliance_Options!B164=\"\",\"\",Compliance_Options!B164)","v":""},{"$f":"IF(Compliance_Options!C164=\"\",\"\",Compliance_Options!C164)","v":""},{"$f":"IF(Compliance_Options!D164=\"\",\"\",Compliance_Options!D164)","v":""},{"$f":"IF(Compliance_Options!E164=\"\",\"\",Compliance_Options!E164)","v":""},{"$f":"IF(Compliance_Options!F164=\"\",\"\",Compliance_Options!F164)","v":""},"    ",{"$f":"IF(COUNTIF(BB$2:BB142,BB142)=1,BB142,\"\")","v":""},"","","","","","","",{"$f":"+IF(BJ142=\"\",\"\",MAX(BK$1:BK141)+1)","v":""},"","","","","","","",{"$f":"+IF(BR142=\"\",\"\",MAX(BS$1:BS141)+1)","v":""},"","","","","","","",{"$f":"+IF(BZ142=\"\",\"\",MAX(CA$1:CA141)+1)","v":""},"","","","","","","",{"$f":"+IF(CH142=\"\",\"\",MAX(CI$1:CI141)+1)","v":""},"","","","","",null,{"$f":"+IF(CQ142=\"\",\"\",MAX(CP$1:CP141)+1)","v":""},{"$f":"IF(Compliance_Options!B164=\"\",\"\",Compliance_Options!B164)","v":""},{"$f":"IF(Compliance_Options!C164=\"\",\"\",Compliance_Options!C164)","v":""},{"$f":"IF(Compliance_Options!D164=\"\",\"\",Compliance_Options!D164)","v":""},"  ",{"$f":"IF(COUNTIF(CT$2:CT142,CT142)=1,CT142,\"\")","v":""},"","","",""]
[null,null,null,null,null,null,null,null,null,null,null,null,null,null,null,null,null,null,null,null,null,null,null,null,null,null,null,null,null,null,null,null,null,null,null,null,null,null,null,null,null,null,null,null,null,null,null,{"$f":"+IF(AW143=\"\",\"\",MAX(AV$1:AV142)+1)","v":""},{"$f":"IF(Compliance_Options!B165=\"\",\"\",Compliance_Options!B165)","v":""},{"$f":"IF(Compliance_Options!C165=\"\",\"\",Compliance_Options!C165)","v":""},{"$f":"IF(Compliance_Options!D165=\"\",\"\",Compliance_Options!D165)","v":""},{"$f":"IF(Compliance_Options!E165=\"\",\"\",Compliance_Options!E165)","v":""},{"$f":"IF(Compliance_Options!F165=\"\",\"\",Compliance_Options!F165)","v":""},"    ",{"$f":"IF(COUNTIF(BB$2:BB143,BB143)=1,BB143,\"\")","v":""},"","","","","","","",{"$f":"+IF(BJ143=\"\",\"\",MAX(BK$1:BK142)+1)","v":""},"","","","","","","",{"$f":"+IF(BR143=\"\",\"\",MAX(BS$1:BS142)+1)","v":""},"","","","","","","",{"$f":"+IF(BZ143=\"\",\"\",MAX(CA$1:CA142)+1)","v":""},"","","","","","","",{"$f":"+IF(CH143=\"\",\"\",MAX(CI$1:CI142)+1)","v":""},"","","","","",null,{"$f":"+IF(CQ143=\"\",\"\",MAX(CP$1:CP142)+1)","v":""},{"$f":"IF(Compliance_Options!B165=\"\",\"\",Compliance_Options!B165)","v":""},{"$f":"IF(Compliance_Options!C165=\"\",\"\",Compliance_Options!C165)","v":""},{"$f":"IF(Compliance_Options!D165=\"\",\"\",Compliance_Options!D165)","v":""},"  ",{"$f":"IF(COUNTIF(CT$2:CT143,CT143)=1,CT143,\"\")","v":""},"","","",""]
[null,null,null,null,null,null,null,null,null,null,null,null,null,null,null,null,null,null,null,null,null,null,null,null,null,null,null,null,null,null,null,null,null,null,null,null,null,null,null,null,null,null,null,null,null,null,null,{"$f":"+IF(AW144=\"\",\"\",MAX(AV$1:AV143)+1)","v":""},{"$f":"IF(Compliance_Options!B166=\"\",\"\",Compliance_Options!B166)","v":""},{"$f":"IF(Compliance_Options!C166=\"\",\"\",Compliance_Options!C166)","v":""},{"$f":"IF(Compliance_Options!D166=\"\",\"\",Compliance_Options!D166)","v":""},{"$f":"IF(Compliance_Options!E166=\"\",\"\",Compliance_Options!E166)","v":""},{"$f":"IF(Compliance_Options!F166=\"\",\"\",Compliance_Options!F166)","v":""},"    ",{"$f":"IF(COUNTIF(BB$2:BB144,BB144)=1,BB144,\"\")","v":""},"","","","","","","",{"$f":"+IF(BJ144=\"\",\"\",MAX(BK$1:BK143)+1)","v":""},"","","","","","","",{"$f":"+IF(BR144=\"\",\"\",MAX(BS$1:BS143)+1)","v":""},"","","","","","","",{"$f":"+IF(BZ144=\"\",\"\",MAX(CA$1:CA143)+1)","v":""},"","","","","","","",{"$f":"+IF(CH144=\"\",\"\",MAX(CI$1:CI143)+1)","v":""},"","","","","",null,{"$f":"+IF(CQ144=\"\",\"\",MAX(CP$1:CP143)+1)","v":""},{"$f":"IF(Compliance_Options!B166=\"\",\"\",Compliance_Options!B166)","v":""},{"$f":"IF(Compliance_Options!C166=\"\",\"\",Compliance_Options!C166)","v":""},{"$f":"IF(Compliance_Options!D166=\"\",\"\",Compliance_Options!D166)","v":""},"  ",{"$f":"IF(COUNTIF(CT$2:CT144,CT144)=1,CT144,\"\")","v":""},"","","",""]
[null,null,null,null,null,null,null,null,null,null,null,null,null,null,null,null,null,null,null,null,null,null,null,null,null,null,null,null,null,null,null,null,null,null,null,null,null,null,null,null,null,null,null,null,null,null,null,{"$f":"+IF(AW145=\"\",\"\",MAX(AV$1:AV144)+1)","v":""},{"$f":"IF(Compliance_Options!B167=\"\",\"\",Compliance_Options!B167)","v":""},{"$f":"IF(Compliance_Options!C167=\"\",\"\",Compliance_Options!C167)","v":""},{"$f":"IF(Compliance_Options!D167=\"\",\"\",Compliance_Options!D167)","v":""},{"$f":"IF(Compliance_Options!E167=\"\",\"\",Compliance_Options!E167)","v":""},{"$f":"IF(Compliance_Options!F167=\"\",\"\",Compliance_Options!F167)","v":""},"    ",{"$f":"IF(COUNTIF(BB$2:BB145,BB145)=1,BB145,\"\")","v":""},"","","","","","","",{"$f":"+IF(BJ145=\"\",\"\",MAX(BK$1:BK144)+1)","v":""},"","","","","","","",{"$f":"+IF(BR145=\"\",\"\",MAX(BS$1:BS144)+1)","v":""},"","","","","","","",{"$f":"+IF(BZ145=\"\",\"\",MAX(CA$1:CA144)+1)","v":""},"","","","","","","",{"$f":"+IF(CH145=\"\",\"\",MAX(CI$1:CI144)+1)","v":""},"","","","","",null,{"$f":"+IF(CQ145=\"\",\"\",MAX(CP$1:CP144)+1)","v":""},{"$f":"IF(Compliance_Options!B167=\"\",\"\",Compliance_Options!B167)","v":""},{"$f":"IF(Compliance_Options!C167=\"\",\"\",Compliance_Options!C167)","v":""},{"$f":"IF(Compliance_Options!D167=\"\",\"\",Compliance_Options!D167)","v":""},"  ",{"$f":"IF(COUNTIF(CT$2:CT145,CT145)=1,CT145,\"\")","v":""},"","","",""]
[null,null,null,null,null,null,null,null,null,null,null,null,null,null,null,null,null,null,null,null,null,null,null,null,null,null,null,null,null,null,null,null,null,null,null,null,null,null,null,null,null,null,null,null,null,null,null,{"$f":"+IF(AW146=\"\",\"\",MAX(AV$1:AV145)+1)","v":""},{"$f":"IF(Compliance_Options!B168=\"\",\"\",Compliance_Options!B168)","v":""},{"$f":"IF(Compliance_Options!C168=\"\",\"\",Compliance_Options!C168)","v":""},{"$f":"IF(Compliance_Options!D168=\"\",\"\",Compliance_Options!D168)","v":""},{"$f":"IF(Compliance_Options!E168=\"\",\"\",Compliance_Options!E168)","v":""},{"$f":"IF(Compliance_Options!F168=\"\",\"\",Compliance_Options!F168)","v":""},"    ",{"$f":"IF(COUNTIF(BB$2:BB146,BB146)=1,BB146,\"\")","v":""},"","","","","","","",{"$f":"+IF(BJ146=\"\",\"\",MAX(BK$1:BK145)+1)","v":""},"","","","","","","",{"$f":"+IF(BR146=\"\",\"\",MAX(BS$1:BS145)+1)","v":""},"","","","","","","",{"$f":"+IF(BZ146=\"\",\"\",MAX(CA$1:CA145)+1)","v":""},"","","","","","","",{"$f":"+IF(CH146=\"\",\"\",MAX(CI$1:CI145)+1)","v":""},"","","","","",null,{"$f":"+IF(CQ146=\"\",\"\",MAX(CP$1:CP145)+1)","v":""},{"$f":"IF(Compliance_Options!B168=\"\",\"\",Compliance_Options!B168)","v":""},{"$f":"IF(Compliance_Options!C168=\"\",\"\",Compliance_Options!C168)","v":""},{"$f":"IF(Compliance_Options!D168=\"\",\"\",Compliance_Options!D168)","v":""},"  ",{"$f":"IF(COUNTIF(CT$2:CT146,CT146)=1,CT146,\"\")","v":""},"","","",""]
[null,null,null,null,null,null,null,null,null,null,null,null,null,null,null,null,null,null,null,null,null,null,null,null,null,null,null,null,null,null,null,null,null,null,null,null,null,null,null,null,null,null,null,null,null,null,null,{"$f":"+IF(AW147=\"\",\"\",MAX(AV$1:AV146)+1)","v":""},{"$f":"IF(Compliance_Options!B169=\"\",\"\",Compliance_Options!B169)","v":""},{"$f":"IF(Compliance_Options!C169=\"\",\"\",Compliance_Options!C169)","v":""},{"$f":"IF(Compliance_Options!D169=\"\",\"\",Compliance_Options!D169)","v":""},{"$f":"IF(Compliance_Options!E169=\"\",\"\",Compliance_Options!E169)","v":""},{"$f":"IF(Compliance_Options!F169=\"\",\"\",Compliance_Options!F169)","v":""},"    ",{"$f":"IF(COUNTIF(BB$2:BB147,BB147)=1,BB147,\"\")","v":""},"","","","","","","",{"$f":"+IF(BJ147=\"\",\"\",MAX(BK$1:BK146)+1)","v":""},"","","","","","","",{"$f":"+IF(BR147=\"\",\"\",MAX(BS$1:BS146)+1)","v":""},"","","","","","","",{"$f":"+IF(BZ147=\"\",\"\",MAX(CA$1:CA146)+1)","v":""},"","","","","","","",{"$f":"+IF(CH147=\"\",\"\",MAX(CI$1:CI146)+1)","v":""},"","","","","",null,{"$f":"+IF(CQ147=\"\",\"\",MAX(CP$1:CP146)+1)","v":""},{"$f":"IF(Compliance_Options!B169=\"\",\"\",Compliance_Options!B169)","v":""},{"$f":"IF(Compliance_Options!C169=\"\",\"\",Compliance_Options!C169)","v":""},{"$f":"IF(Compliance_Options!D169=\"\",\"\",Compliance_Options!D169)","v":""},"  ",{"$f":"IF(COUNTIF(CT$2:CT147,CT147)=1,CT147,\"\")","v":""},"","","",""]
[null,null,null,null,null,null,null,null,null,null,null,null,null,null,null,null,null,null,null,null,null,null,null,null,null,null,null,null,null,null,null,null,null,null,null,null,null,null,null,null,null,null,null,null,null,null,null,{"$f":"+IF(AW148=\"\",\"\",MAX(AV$1:AV147)+1)","v":""},{"$f":"IF(Compliance_Options!B170=\"\",\"\",Compliance_Options!B170)","v":""},{"$f":"IF(Compliance_Options!C170=\"\",\"\",Compliance_Options!C170)","v":""},{"$f":"IF(Compliance_Options!D170=\"\",\"\",Compliance_Options!D170)","v":""},{"$f":"IF(Compliance_Options!E170=\"\",\"\",Compliance_Options!E170)","v":""},{"$f":"IF(Compliance_Options!F170=\"\",\"\",Compliance_Options!F170)","v":""},"    ",{"$f":"IF(COUNTIF(BB$2:BB148,BB148)=1,BB148,\"\")","v":""},"","","","","","","",{"$f":"+IF(BJ148=\"\",\"\",MAX(BK$1:BK147)+1)","v":""},"","","","","","","",{"$f":"+IF(BR148=\"\",\"\",MAX(BS$1:BS147)+1)","v":""},"","","","","","","",{"$f":"+IF(BZ148=\"\",\"\",MAX(CA$1:CA147)+1)","v":""},"","","","","","","",{"$f":"+IF(CH148=\"\",\"\",MAX(CI$1:CI147)+1)","v":""},"","","","","",null,{"$f":"+IF(CQ148=\"\",\"\",MAX(CP$1:CP147)+1)","v":""},{"$f":"IF(Compliance_Options!B170=\"\",\"\",Compliance_Options!B170)","v":""},{"$f":"IF(Compliance_Options!C170=\"\",\"\",Compliance_Options!C170)","v":""},{"$f":"IF(Compliance_Options!D170=\"\",\"\",Compliance_Options!D170)","v":""},"  ",{"$f":"IF(COUNTIF(CT$2:CT148,CT148)=1,CT148,\"\")","v":""},"","","",""]
[null,null,null,null,null,null,null,null,null,null,null,null,null,null,null,null,null,null,null,null,null,null,null,null,null,null,null,null,null,null,null,null,null,null,null,null,null,null,null,null,null,null,null,null,null,null,null,{"$f":"+IF(AW149=\"\",\"\",MAX(AV$1:AV148)+1)","v":""},{"$f":"IF(Compliance_Options!B171=\"\",\"\",Compliance_Options!B171)","v":""},{"$f":"IF(Compliance_Options!C171=\"\",\"\",Compliance_Options!C171)","v":""},{"$f":"IF(Compliance_Options!D171=\"\",\"\",Compliance_Options!D171)","v":""},{"$f":"IF(Compliance_Options!E171=\"\",\"\",Compliance_Options!E171)","v":""},{"$f":"IF(Compliance_Options!F171=\"\",\"\",Compliance_Options!F171)","v":""},"    ",{"$f":"IF(COUNTIF(BB$2:BB149,BB149)=1,BB149,\"\")","v":""},"","","","","","","",{"$f":"+IF(BJ149=\"\",\"\",MAX(BK$1:BK148)+1)","v":""},"","","","","","","",{"$f":"+IF(BR149=\"\",\"\",MAX(BS$1:BS148)+1)","v":""},"","","","","","","",{"$f":"+IF(BZ149=\"\",\"\",MAX(CA$1:CA148)+1)","v":""},"","","","","","","",{"$f":"+IF(CH149=\"\",\"\",MAX(CI$1:CI148)+1)","v":""},"","","","","",null,{"$f":"+IF(CQ149=\"\",\"\",MAX(CP$1:CP148)+1)","v":""},{"$f":"IF(Compliance_Options!B171=\"\",\"\",Compliance_Options!B171)","v":""},{"$f":"IF(Compliance_Options!C171=\"\",\"\",Compliance_Options!C171)","v":""},{"$f":"IF(Compliance_Options!D171=\"\",\"\",Compliance_Options!D171)","v":""},"  ",{"$f":"IF(COUNTIF(CT$2:CT149,CT149)=1,CT149,\"\")","v":""},"","","",""]
[null,null,null,null,null,null,null,null,null,null,null,null,null,null,null,null,null,null,null,null,null,null,null,null,null,null,null,null,null,null,null,null,null,null,null,null,null,null,null,null,null,null,null,null,null,null,null,{"$f":"+IF(AW150=\"\",\"\",MAX(AV$1:AV149)+1)","v":""},{"$f":"IF(Compliance_Options!B172=\"\",\"\",Compliance_Options!B172)","v":""},{"$f":"IF(Compliance_Options!C172=\"\",\"\",Compliance_Options!C172)","v":""},{"$f":"IF(Compliance_Options!D172=\"\",\"\",Compliance_Options!D172)","v":""},{"$f":"IF(Compliance_Options!E172=\"\",\"\",Compliance_Options!E172)","v":""},{"$f":"IF(Compliance_Options!F172=\"\",\"\",Compliance_Options!F172)","v":""},"    ",{"$f":"IF(COUNTIF(BB$2:BB150,BB150)=1,BB150,\"\")","v":""},"","","","","","","",{"$f":"+IF(BJ150=\"\",\"\",MAX(BK$1:BK149)+1)","v":""},"","","","","","","",{"$f":"+IF(BR150=\"\",\"\",MAX(BS$1:BS149)+1)","v":""},"","","","","","","",{"$f":"+IF(BZ150=\"\",\"\",MAX(CA$1:CA149)+1)","v":""},"","","","","","","",{"$f":"+IF(CH150=\"\",\"\",MAX(CI$1:CI149)+1)","v":""},"","","","","",null,{"$f":"+IF(CQ150=\"\",\"\",MAX(CP$1:CP149)+1)","v":""},{"$f":"IF(Compliance_Options!B172=\"\",\"\",Compliance_Options!B172)","v":""},{"$f":"IF(Compliance_Options!C172=\"\",\"\",Compliance_Options!C172)","v":""},{"$f":"IF(Compliance_Options!D172=\"\",\"\",Compliance_Options!D172)","v":""},"  ",{"$f":"IF(COUNTIF(CT$2:CT150,CT150)=1,CT150,\"\")","v":""},"","","",""]
[null,null,null,null,null,null,null,null,null,null,null,null,null,null,null,null,null,null,null,null,null,null,null,null,null,null,null,null,null,null,null,null,null,null,null,null,null,null,null,null,null,null,null,null,null,null,null,{"$f":"+IF(AW151=\"\",\"\",MAX(AV$1:AV150)+1)","v":""},{"$f":"IF(Compliance_Options!B173=\"\",\"\",Compliance_Options!B173)","v":""},{"$f":"IF(Compliance_Options!C173=\"\",\"\",Compliance_Options!C173)","v":""},{"$f":"IF(Compliance_Options!D173=\"\",\"\",Compliance_Options!D173)","v":""},{"$f":"IF(Compliance_Options!E173=\"\",\"\",Compliance_Options!E173)","v":""},{"$f":"IF(Compliance_Options!F173=\"\",\"\",Compliance_Options!F173)","v":""},"    ",{"$f":"IF(COUNTIF(BB$2:BB151,BB151)=1,BB151,\"\")","v":""},"","","","","","","",{"$f":"+IF(BJ151=\"\",\"\",MAX(BK$1:BK150)+1)","v":""},"","","","","","","",{"$f":"+IF(BR151=\"\",\"\",MAX(BS$1:BS150)+1)","v":""},"","","","","","","",{"$f":"+IF(BZ151=\"\",\"\",MAX(CA$1:CA150)+1)","v":""},"","","","","","","",{"$f":"+IF(CH151=\"\",\"\",MAX(CI$1:CI150)+1)","v":""},"","","","","",null,{"$f":"+IF(CQ151=\"\",\"\",MAX(CP$1:CP150)+1)","v":""},{"$f":"IF(Compliance_Options!B173=\"\",\"\",Compliance_Options!B173)","v":""},{"$f":"IF(Compliance_Options!C173=\"\",\"\",Compliance_Options!C173)","v":""},{"$f":"IF(Compliance_Options!D173=\"\",\"\",Compliance_Options!D173)","v":""},"  ",{"$f":"IF(COUNTIF(CT$2:CT151,CT151)=1,CT151,\"\")","v":""},"","","",""]
[null,null,null,null,null,null,null,null,null,null,null,null,null,null,null,null,null,null,null,null,null,null,null,null,null,null,null,null,null,null,null,null,null,null,null,null,null,null,null,null,null,null,null,null,null,null,null,{"$f":"+IF(AW152=\"\",\"\",MAX(AV$1:AV151)+1)","v":""},{"$f":"IF(Compliance_Options!B174=\"\",\"\",Compliance_Options!B174)","v":""},{"$f":"IF(Compliance_Options!C174=\"\",\"\",Compliance_Options!C174)","v":""},{"$f":"IF(Compliance_Options!D174=\"\",\"\",Compliance_Options!D174)","v":""},{"$f":"IF(Compliance_Options!E174=\"\",\"\",Compliance_Options!E174)","v":""},{"$f":"IF(Compliance_Options!F174=\"\",\"\",Compliance_Options!F174)","v":""},"    ",{"$f":"IF(COUNTIF(BB$2:BB152,BB152)=1,BB152,\"\")","v":""},"","","","","","","",{"$f":"+IF(BJ152=\"\",\"\",MAX(BK$1:BK151)+1)","v":""},"","","","","","","",{"$f":"+IF(BR152=\"\",\"\",MAX(BS$1:BS151)+1)","v":""},"","","","","","","",{"$f":"+IF(BZ152=\"\",\"\",MAX(CA$1:CA151)+1)","v":""},"","","","","","","",{"$f":"+IF(CH152=\"\",\"\",MAX(CI$1:CI151)+1)","v":""},"","","","","",null,{"$f":"+IF(CQ152=\"\",\"\",MAX(CP$1:CP151)+1)","v":""},{"$f":"IF(Compliance_Options!B174=\"\",\"\",Compliance_Options!B174)","v":""},{"$f":"IF(Compliance_Options!C174=\"\",\"\",Compliance_Options!C174)","v":""},{"$f":"IF(Compliance_Options!D174=\"\",\"\",Compliance_Options!D174)","v":""},"  ",{"$f":"IF(COUNTIF(CT$2:CT152,CT152)=1,CT152,\"\")","v":""},"","","",""]
[null,null,null,null,null,null,null,null,null,null,null,null,null,null,null,null,null,null,null,null,null,null,null,null,null,null,null,null,null,null,null,null,null,null,null,null,null,null,null,null,null,null,null,null,null,null,null,{"$f":"+IF(AW153=\"\",\"\",MAX(AV$1:AV152)+1)","v":""},{"$f":"IF(Compliance_Options!B175=\"\",\"\",Compliance_Options!B175)","v":""},{"$f":"IF(Compliance_Options!C175=\"\",\"\",Compliance_Options!C175)","v":""},{"$f":"IF(Compliance_Options!D175=\"\",\"\",Compliance_Options!D175)","v":""},{"$f":"IF(Compliance_Options!E175=\"\",\"\",Compliance_Options!E175)","v":""},{"$f":"IF(Compliance_Options!F175=\"\",\"\",Compliance_Options!F175)","v":""},"    ",{"$f":"IF(COUNTIF(BB$2:BB153,BB153)=1,BB153,\"\")","v":""},"","","","","","","",{"$f":"+IF(BJ153=\"\",\"\",MAX(BK$1:BK152)+1)","v":""},"","","","","","","",{"$f":"+IF(BR153=\"\",\"\",MAX(BS$1:BS152)+1)","v":""},"","","","","","","",{"$f":"+IF(BZ153=\"\",\"\",MAX(CA$1:CA152)+1)","v":""},"","","","","","","",{"$f":"+IF(CH153=\"\",\"\",MAX(CI$1:CI152)+1)","v":""},"","","","","",null,{"$f":"+IF(CQ153=\"\",\"\",MAX(CP$1:CP152)+1)","v":""},{"$f":"IF(Compliance_Options!B175=\"\",\"\",Compliance_Options!B175)","v":""},{"$f":"IF(Compliance_Options!C175=\"\",\"\",Compliance_Options!C175)","v":""},{"$f":"IF(Compliance_Options!D175=\"\",\"\",Compliance_Options!D175)","v":""},"  ",{"$f":"IF(COUNTIF(CT$2:CT153,CT153)=1,CT153,\"\")","v":""},"","","",""]
[null,null,null,null,null,null,null,null,null,null,null,null,null,null,null,null,null,null,null,null,null,null,null,null,null,null,null,null,null,null,null,null,null,null,null,null,null,null,null,null,null,null,null,null,null,null,null,{"$f":"+IF(AW154=\"\",\"\",MAX(AV$1:AV153)+1)","v":""},{"$f":"IF(Compliance_Options!B176=\"\",\"\",Compliance_Options!B176)","v":""},{"$f":"IF(Compliance_Options!C176=\"\",\"\",Compliance_Options!C176)","v":""},{"$f":"IF(Compliance_Options!D176=\"\",\"\",Compliance_Options!D176)","v":""},{"$f":"IF(Compliance_Options!E176=\"\",\"\",Compliance_Options!E176)","v":""},{"$f":"IF(Compliance_Options!F176=\"\",\"\",Compliance_Options!F176)","v":""},"    ",{"$f":"IF(COUNTIF(BB$2:BB154,BB154)=1,BB154,\"\")","v":""},"","","","","","","",{"$f":"+IF(BJ154=\"\",\"\",MAX(BK$1:BK153)+1)","v":""},"","","","","","","",{"$f":"+IF(BR154=\"\",\"\",MAX(BS$1:BS153)+1)","v":""},"","","","","","","",{"$f":"+IF(BZ154=\"\",\"\",MAX(CA$1:CA153)+1)","v":""},"","","","","","","",{"$f":"+IF(CH154=\"\",\"\",MAX(CI$1:CI153)+1)","v":""},"","","","","",null,{"$f":"+IF(CQ154=\"\",\"\",MAX(CP$1:CP153)+1)","v":""},{"$f":"IF(Compliance_Options!B176=\"\",\"\",Compliance_Options!B176)","v":""},{"$f":"IF(Compliance_Options!C176=\"\",\"\",Compliance_Options!C176)","v":""},{"$f":"IF(Compliance_Options!D176=\"\",\"\",Compliance_Options!D176)","v":""},"  ",{"$f":"IF(COUNTIF(CT$2:CT154,CT154)=1,CT154,\"\")","v":""},"","","",""]
[null,null,null,null,null,null,null,null,null,null,null,null,null,null,null,null,null,null,null,null,null,null,null,null,null,null,null,null,null,null,null,null,null,null,null,null,null,null,null,null,null,null,null,null,null,null,null,{"$f":"+IF(AW155=\"\",\"\",MAX(AV$1:AV154)+1)","v":""},{"$f":"IF(Compliance_Options!B177=\"\",\"\",Compliance_Options!B177)","v":""},{"$f":"IF(Compliance_Options!C177=\"\",\"\",Compliance_Options!C177)","v":""},{"$f":"IF(Compliance_Options!D177=\"\",\"\",Compliance_Options!D177)","v":""},{"$f":"IF(Compliance_Options!E177=\"\",\"\",Compliance_Options!E177)","v":""},{"$f":"IF(Compliance_Options!F177=\"\",\"\",Compliance_Options!F177)","v":""},"    ",{"$f":"IF(COUNTIF(BB$2:BB155,BB155)=1,BB155,\"\")","v":""},"","","","","","","",{"$f":"+IF(BJ155=\"\",\"\",MAX(BK$1:BK154)+1)","v":""},"","","","","","","",{"$f":"+IF(BR155=\"\",\"\",MAX(BS$1:BS154)+1)","v":""},"","","","","","","",{"$f":"+IF(BZ155=\"\",\"\",MAX(CA$1:CA154)+1)","v":""},"","","","","","","",{"$f":"+IF(CH155=\"\",\"\",MAX(CI$1:CI154)+1)","v":""},"","","","","",null,{"$f":"+IF(CQ155=\"\",\"\",MAX(CP$1:CP154)+1)","v":""},{"$f":"IF(Compliance_Options!B177=\"\",\"\",Compliance_Options!B177)","v":""},{"$f":"IF(Compliance_Options!C177=\"\",\"\",Compliance_Options!C177)","v":""},{"$f":"IF(Compliance_Options!D177=\"\",\"\",Compliance_Options!D177)","v":""},"  ",{"$f":"IF(COUNTIF(CT$2:CT155,CT155)=1,CT155,\"\")","v":""},"","","",""]
[null,null,null,null,null,null,null,null,null,null,null,null,null,null,null,null,null,null,null,null,null,null,null,null,null,null,null,null,null,null,null,null,null,null,null,null,null,null,null,null,null,null,null,null,null,null,null,{"$f":"+IF(AW156=\"\",\"\",MAX(AV$1:AV155)+1)","v":""},{"$f":"IF(Compliance_Options!B178=\"\",\"\",Compliance_Options!B178)","v":""},{"$f":"IF(Compliance_Options!C178=\"\",\"\",Compliance_Options!C178)","v":""},{"$f":"IF(Compliance_Options!D178=\"\",\"\",Compliance_Options!D178)","v":""},{"$f":"IF(Compliance_Options!E178=\"\",\"\",Compliance_Options!E178)","v":""},{"$f":"IF(Compliance_Options!F178=\"\",\"\",Compliance_Options!F178)","v":""},"    ",{"$f":"IF(COUNTIF(BB$2:BB156,BB156)=1,BB156,\"\")","v":""},"","","","","","","",{"$f":"+IF(BJ156=\"\",\"\",MAX(BK$1:BK155)+1)","v":""},"","","","","","","",{"$f":"+IF(BR156=\"\",\"\",MAX(BS$1:BS155)+1)","v":""},"","","","","","","",{"$f":"+IF(BZ156=\"\",\"\",MAX(CA$1:CA155)+1)","v":""},"","","","","","","",{"$f":"+IF(CH156=\"\",\"\",MAX(CI$1:CI155)+1)","v":""},"","","","","",null,{"$f":"+IF(CQ156=\"\",\"\",MAX(CP$1:CP155)+1)","v":""},{"$f":"IF(Compliance_Options!B178=\"\",\"\",Compliance_Options!B178)","v":""},{"$f":"IF(Compliance_Options!C178=\"\",\"\",Compliance_Options!C178)","v":""},{"$f":"IF(Compliance_Options!D178=\"\",\"\",Compliance_Options!D178)","v":""},"  ",{"$f":"IF(COUNTIF(CT$2:CT156,CT156)=1,CT156,\"\")","v":""},"","","",""]
[null,null,null,null,null,null,null,null,null,null,null,null,null,null,null,null,null,null,null,null,null,null,null,null,null,null,null,null,null,null,null,null,null,null,null,null,null,null,null,null,null,null,null,null,null,null,null,{"$f":"+IF(AW157=\"\",\"\",MAX(AV$1:AV156)+1)","v":""},{"$f":"IF(Compliance_Options!B179=\"\",\"\",Compliance_Options!B179)","v":""},{"$f":"IF(Compliance_Options!C179=\"\",\"\",Compliance_Options!C179)","v":""},{"$f":"IF(Compliance_Options!D179=\"\",\"\",Compliance_Options!D179)","v":""},{"$f":"IF(Compliance_Options!E179=\"\",\"\",Compliance_Options!E179)","v":""},{"$f":"IF(Compliance_Options!F179=\"\",\"\",Compliance_Options!F179)","v":""},"    ",{"$f":"IF(COUNTIF(BB$2:BB157,BB157)=1,BB157,\"\")","v":""},"","","","","","","",{"$f":"+IF(BJ157=\"\",\"\",MAX(BK$1:BK156)+1)","v":""},"","","","","","","",{"$f":"+IF(BR157=\"\",\"\",MAX(BS$1:BS156)+1)","v":""},"","","","","","","",{"$f":"+IF(BZ157=\"\",\"\",MAX(CA$1:CA156)+1)","v":""},"","","","","","","",{"$f":"+IF(CH157=\"\",\"\",MAX(CI$1:CI156)+1)","v":""},"","","","","",null,{"$f":"+IF(CQ157=\"\",\"\",MAX(CP$1:CP156)+1)","v":""},{"$f":"IF(Compliance_Options!B179=\"\",\"\",Compliance_Options!B179)","v":""},{"$f":"IF(Compliance_Options!C179=\"\",\"\",Compliance_Options!C179)","v":""},{"$f":"IF(Compliance_Options!D179=\"\",\"\",Compliance_Options!D179)","v":""},"  ",{"$f":"IF(COUNTIF(CT$2:CT157,CT157)=1,CT157,\"\")","v":""},"","","",""]
[null,null,null,null,null,null,null,null,null,null,null,null,null,null,null,null,null,null,null,null,null,null,null,null,null,null,null,null,null,null,null,null,null,null,null,null,null,null,null,null,null,null,null,null,null,null,null,{"$f":"+IF(AW158=\"\",\"\",MAX(AV$1:AV157)+1)","v":""},{"$f":"IF(Compliance_Options!B180=\"\",\"\",Compliance_Options!B180)","v":""},{"$f":"IF(Compliance_Options!C180=\"\",\"\",Compliance_Options!C180)","v":""},{"$f":"IF(Compliance_Options!D180=\"\",\"\",Compliance_Options!D180)","v":""},{"$f":"IF(Compliance_Options!E180=\"\",\"\",Compliance_Options!E180)","v":""},{"$f":"IF(Compliance_Options!F180=\"\",\"\",Compliance_Options!F180)","v":""},"    ",{"$f":"IF(COUNTIF(BB$2:BB158,BB158)=1,BB158,\"\")","v":""},"","","","","","","",{"$f":"+IF(BJ158=\"\",\"\",MAX(BK$1:BK157)+1)","v":""},"","","","","","","",{"$f":"+IF(BR158=\"\",\"\",MAX(BS$1:BS157)+1)","v":""},"","","","","","","",{"$f":"+IF(BZ158=\"\",\"\",MAX(CA$1:CA157)+1)","v":""},"","","","","","","",{"$f":"+IF(CH158=\"\",\"\",MAX(CI$1:CI157)+1)","v":""},"","","","","",null,{"$f":"+IF(CQ158=\"\",\"\",MAX(CP$1:CP157)+1)","v":""},{"$f":"IF(Compliance_Options!B180=\"\",\"\",Compliance_Options!B180)","v":""},{"$f":"IF(Compliance_Options!C180=\"\",\"\",Compliance_Options!C180)","v":""},{"$f":"IF(Compliance_Options!D180=\"\",\"\",Compliance_Options!D180)","v":""},"  ",{"$f":"IF(COUNTIF(CT$2:CT158,CT158)=1,CT158,\"\")","v":""},"","","",""]
[null,null,null,null,null,null,null,null,null,null,null,null,null,null,null,null,null,null,null,null,null,null,null,null,null,null,null,null,null,null,null,null,null,null,null,null,null,null,null,null,null,null,null,null,null,null,null,{"$f":"+IF(AW159=\"\",\"\",MAX(AV$1:AV158)+1)","v":""},{"$f":"IF(Compliance_Options!B181=\"\",\"\",Compliance_Options!B181)","v":""},{"$f":"IF(Compliance_Options!C181=\"\",\"\",Compliance_Options!C181)","v":""},{"$f":"IF(Compliance_Options!D181=\"\",\"\",Compliance_Options!D181)","v":""},{"$f":"IF(Compliance_Options!E181=\"\",\"\",Compliance_Options!E181)","v":""},{"$f":"IF(Compliance_Options!F181=\"\",\"\",Compliance_Options!F181)","v":""},"    ",{"$f":"IF(COUNTIF(BB$2:BB159,BB159)=1,BB159,\"\")","v":""},"","","","","","","",{"$f":"+IF(BJ159=\"\",\"\",MAX(BK$1:BK158)+1)","v":""},"","","","","","","",{"$f":"+IF(BR159=\"\",\"\",MAX(BS$1:BS158)+1)","v":""},"","","","","","","",{"$f":"+IF(BZ159=\"\",\"\",MAX(CA$1:CA158)+1)","v":""},"","","","","","","",{"$f":"+IF(CH159=\"\",\"\",MAX(CI$1:CI158)+1)","v":""},"","","","","",null,{"$f":"+IF(CQ159=\"\",\"\",MAX(CP$1:CP158)+1)","v":""},{"$f":"IF(Compliance_Options!B181=\"\",\"\",Compliance_Options!B181)","v":""},{"$f":"IF(Compliance_Options!C181=\"\",\"\",Compliance_Options!C181)","v":""},{"$f":"IF(Compliance_Options!D181=\"\",\"\",Compliance_Options!D181)","v":""},"  ",{"$f":"IF(COUNTIF(CT$2:CT159,CT159)=1,CT159,\"\")","v":""},"","","",""]
[null,null,null,null,null,null,null,null,null,null,null,null,null,null,null,null,null,null,null,null,null,null,null,null,null,null,null,null,null,null,null,null,null,null,null,null,null,null,null,null,null,null,null,null,null,null,null,{"$f":"+IF(AW160=\"\",\"\",MAX(AV$1:AV159)+1)","v":""},{"$f":"IF(Compliance_Options!B182=\"\",\"\",Compliance_Options!B182)","v":""},{"$f":"IF(Compliance_Options!C182=\"\",\"\",Compliance_Options!C182)","v":""},{"$f":"IF(Compliance_Options!D182=\"\",\"\",Compliance_Options!D182)","v":""},{"$f":"IF(Compliance_Options!E182=\"\",\"\",Compliance_Options!E182)","v":""},{"$f":"IF(Compliance_Options!F182=\"\",\"\",Compliance_Options!F182)","v":""},"    ",{"$f":"IF(COUNTIF(BB$2:BB160,BB160)=1,BB160,\"\")","v":""},"","","","","","","",{"$f":"+IF(BJ160=\"\",\"\",MAX(BK$1:BK159)+1)","v":""},"","","","","","","",{"$f":"+IF(BR160=\"\",\"\",MAX(BS$1:BS159)+1)","v":""},"","","","","","","",{"$f":"+IF(BZ160=\"\",\"\",MAX(CA$1:CA159)+1)","v":""},"","","","","","","",{"$f":"+IF(CH160=\"\",\"\",MAX(CI$1:CI159)+1)","v":""},"","","","","",null,{"$f":"+IF(CQ160=\"\",\"\",MAX(CP$1:CP159)+1)","v":""},{"$f":"IF(Compliance_Options!B182=\"\",\"\",Compliance_Options!B182)","v":""},{"$f":"IF(Compliance_Options!C182=\"\",\"\",Compliance_Options!C182)","v":""},{"$f":"IF(Compliance_Options!D182=\"\",\"\",Compliance_Options!D182)","v":""},"  ",{"$f":"IF(COUNTIF(CT$2:CT160,CT160)=1,CT160,\"\")","v":""},"","","",""]
[null,null,null,null,null,null,null,null,null,null,null,null,null,null,null,null,null,null,null,null,null,null,null,null,null,null,null,null,null,null,null,null,null,null,null,null,null,null,null,null,null,null,null,null,null,null,null,{"$f":"+IF(AW161=\"\",\"\",MAX(AV$1:AV160)+1)","v":""},{"$f":"IF(Compliance_Options!B183=\"\",\"\",Compliance_Options!B183)","v":""},{"$f":"IF(Compliance_Options!C183=\"\",\"\",Compliance_Options!C183)","v":""},{"$f":"IF(Compliance_Options!D183=\"\",\"\",Compliance_Options!D183)","v":""},{"$f":"IF(Compliance_Options!E183=\"\",\"\",Compliance_Options!E183)","v":""},{"$f":"IF(Compliance_Options!F183=\"\",\"\",Compliance_Options!F183)","v":""},"    ",{"$f":"IF(COUNTIF(BB$2:BB161,BB161)=1,BB161,\"\")","v":""},"","","","","","","",{"$f":"+IF(BJ161=\"\",\"\",MAX(BK$1:BK160)+1)","v":""},"","","","","","","",{"$f":"+IF(BR161=\"\",\"\",MAX(BS$1:BS160)+1)","v":""},"","","","","","","",{"$f":"+IF(BZ161=\"\",\"\",MAX(CA$1:CA160)+1)","v":""},"","","","","","","",{"$f":"+IF(CH161=\"\",\"\",MAX(CI$1:CI160)+1)","v":""},"","","","","",null,{"$f":"+IF(CQ161=\"\",\"\",MAX(CP$1:CP160)+1)","v":""},{"$f":"IF(Compliance_Options!B183=\"\",\"\",Compliance_Options!B183)","v":""},{"$f":"IF(Compliance_Options!C183=\"\",\"\",Compliance_Options!C183)","v":""},{"$f":"IF(Compliance_Options!D183=\"\",\"\",Compliance_Options!D183)","v":""},"  ",{"$f":"IF(COUNTIF(CT$2:CT161,CT161)=1,CT161,\"\")","v":""},"","","",""]
[null,null,null,null,null,null,null,null,null,null,null,null,null,null,null,null,null,null,null,null,null,null,null,null,null,null,null,null,null,null,null,null,null,null,null,null,null,null,null,null,null,null,null,null,null,null,null,{"$f":"+IF(AW162=\"\",\"\",MAX(AV$1:AV161)+1)","v":""},{"$f":"IF(Compliance_Options!B184=\"\",\"\",Compliance_Options!B184)","v":""},{"$f":"IF(Compliance_Options!C184=\"\",\"\",Compliance_Options!C184)","v":""},{"$f":"IF(Compliance_Options!D184=\"\",\"\",Compliance_Options!D184)","v":""},{"$f":"IF(Compliance_Options!E184=\"\",\"\",Compliance_Options!E184)","v":""},{"$f":"IF(Compliance_Options!F184=\"\",\"\",Compliance_Options!F184)","v":""},"    ",{"$f":"IF(COUNTIF(BB$2:BB162,BB162)=1,BB162,\"\")","v":""},"","","","","","","",{"$f":"+IF(BJ162=\"\",\"\",MAX(BK$1:BK161)+1)","v":""},"","","","","","","",{"$f":"+IF(BR162=\"\",\"\",MAX(BS$1:BS161)+1)","v":""},"","","","","","","",{"$f":"+IF(BZ162=\"\",\"\",MAX(CA$1:CA161)+1)","v":""},"","","","","","","",{"$f":"+IF(CH162=\"\",\"\",MAX(CI$1:CI161)+1)","v":""},"","","","","",null,{"$f":"+IF(CQ162=\"\",\"\",MAX(CP$1:CP161)+1)","v":""},{"$f":"IF(Compliance_Options!B184=\"\",\"\",Compliance_Options!B184)","v":""},{"$f":"IF(Compliance_Options!C184=\"\",\"\",Compliance_Options!C184)","v":""},{"$f":"IF(Compliance_Options!D184=\"\",\"\",Compliance_Options!D184)","v":""},"  ",{"$f":"IF(COUNTIF(CT$2:CT162,CT162)=1,CT162,\"\")","v":""},"","","",""]
[null,null,null,null,null,null,null,null,null,null,null,null,null,null,null,null,null,null,null,null,null,null,null,null,null,null,null,null,null,null,null,null,null,null,null,null,null,null,null,null,null,null,null,null,null,null,null,{"$f":"+IF(AW163=\"\",\"\",MAX(AV$1:AV162)+1)","v":""},{"$f":"IF(Compliance_Options!B185=\"\",\"\",Compliance_Options!B185)","v":""},{"$f":"IF(Compliance_Options!C185=\"\",\"\",Compliance_Options!C185)","v":""},{"$f":"IF(Compliance_Options!D185=\"\",\"\",Compliance_Options!D185)","v":""},{"$f":"IF(Compliance_Options!E185=\"\",\"\",Compliance_Options!E185)","v":""},{"$f":"IF(Compliance_Options!F185=\"\",\"\",Compliance_Options!F185)","v":""},"    ",{"$f":"IF(COUNTIF(BB$2:BB163,BB163)=1,BB163,\"\")","v":""},"","","","","","","",{"$f":"+IF(BJ163=\"\",\"\",MAX(BK$1:BK162)+1)","v":""},"","","","","","","",{"$f":"+IF(BR163=\"\",\"\",MAX(BS$1:BS162)+1)","v":""},"","","","","","","",{"$f":"+IF(BZ163=\"\",\"\",MAX(CA$1:CA162)+1)","v":""},"","","","","","","",{"$f":"+IF(CH163=\"\",\"\",MAX(CI$1:CI162)+1)","v":""},"","","","","",null,{"$f":"+IF(CQ163=\"\",\"\",MAX(CP$1:CP162)+1)","v":""},{"$f":"IF(Compliance_Options!B185=\"\",\"\",Compliance_Options!B185)","v":""},{"$f":"IF(Compliance_Options!C185=\"\",\"\",Compliance_Options!C185)","v":""},{"$f":"IF(Compliance_Options!D185=\"\",\"\",Compliance_Options!D185)","v":""},"  ",{"$f":"IF(COUNTIF(CT$2:CT163,CT163)=1,CT163,\"\")","v":""},"","","",""]
[null,null,null,null,null,null,null,null,null,null,null,null,null,null,null,null,null,null,null,null,null,null,null,null,null,null,null,null,null,null,null,null,null,null,null,null,null,null,null,null,null,null,null,null,null,null,null,{"$f":"+IF(AW164=\"\",\"\",MAX(AV$1:AV163)+1)","v":""},{"$f":"IF(Compliance_Options!B186=\"\",\"\",Compliance_Options!B186)","v":""},{"$f":"IF(Compliance_Options!C186=\"\",\"\",Compliance_Options!C186)","v":""},{"$f":"IF(Compliance_Options!D186=\"\",\"\",Compliance_Options!D186)","v":""},{"$f":"IF(Compliance_Options!E186=\"\",\"\",Compliance_Options!E186)","v":""},{"$f":"IF(Compliance_Options!F186=\"\",\"\",Compliance_Options!F186)","v":""},"    ",{"$f":"IF(COUNTIF(BB$2:BB164,BB164)=1,BB164,\"\")","v":""},"","","","","","","",{"$f":"+IF(BJ164=\"\",\"\",MAX(BK$1:BK163)+1)","v":""},"","","","","","","",{"$f":"+IF(BR164=\"\",\"\",MAX(BS$1:BS163)+1)","v":""},"","","","","","","",{"$f":"+IF(BZ164=\"\",\"\",MAX(CA$1:CA163)+1)","v":""},"","","","","","","",{"$f":"+IF(CH164=\"\",\"\",MAX(CI$1:CI163)+1)","v":""},"","","","","",null,{"$f":"+IF(CQ164=\"\",\"\",MAX(CP$1:CP163)+1)","v":""},{"$f":"IF(Compliance_Options!B186=\"\",\"\",Compliance_Options!B186)","v":""},{"$f":"IF(Compliance_Options!C186=\"\",\"\",Compliance_Options!C186)","v":""},{"$f":"IF(Compliance_Options!D186=\"\",\"\",Compliance_Options!D186)","v":""},"  ",{"$f":"IF(COUNTIF(CT$2:CT164,CT164)=1,CT164,\"\")","v":""},"","","",""]
[null,null,null,null,null,null,null,null,null,null,null,null,null,null,null,null,null,null,null,null,null,null,null,null,null,null,null,null,null,null,null,null,null,null,null,null,null,null,null,null,null,null,null,null,null,null,null,{"$f":"+IF(AW165=\"\",\"\",MAX(AV$1:AV164)+1)","v":""},{"$f":"IF(Compliance_Options!B187=\"\",\"\",Compliance_Options!B187)","v":""},{"$f":"IF(Compliance_Options!C187=\"\",\"\",Compliance_Options!C187)","v":""},{"$f":"IF(Compliance_Options!D187=\"\",\"\",Compliance_Options!D187)","v":""},{"$f":"IF(Compliance_Options!E187=\"\",\"\",Compliance_Options!E187)","v":""},{"$f":"IF(Compliance_Options!F187=\"\",\"\",Compliance_Options!F187)","v":""},"    ",{"$f":"IF(COUNTIF(BB$2:BB165,BB165)=1,BB165,\"\")","v":""},"","","","","","","",{"$f":"+IF(BJ165=\"\",\"\",MAX(BK$1:BK164)+1)","v":""},"","","","","","","",{"$f":"+IF(BR165=\"\",\"\",MAX(BS$1:BS164)+1)","v":""},"","","","","","","",{"$f":"+IF(BZ165=\"\",\"\",MAX(CA$1:CA164)+1)","v":""},"","","","","","","",{"$f":"+IF(CH165=\"\",\"\",MAX(CI$1:CI164)+1)","v":""},"","","","","",null,{"$f":"+IF(CQ165=\"\",\"\",MAX(CP$1:CP164)+1)","v":""},{"$f":"IF(Compliance_Options!B187=\"\",\"\",Compliance_Options!B187)","v":""},{"$f":"IF(Compliance_Options!C187=\"\",\"\",Compliance_Options!C187)","v":""},{"$f":"IF(Compliance_Options!D187=\"\",\"\",Compliance_Options!D187)","v":""},"  ",{"$f":"IF(COUNTIF(CT$2:CT165,CT165)=1,CT165,\"\")","v":""},"","","",""]
[null,null,null,null,null,null,null,null,null,null,null,null,null,null,null,null,null,null,null,null,null,null,null,null,null,null,null,null,null,null,null,null,null,null,null,null,null,null,null,null,null,null,null,null,null,null,null,{"$f":"+IF(AW166=\"\",\"\",MAX(AV$1:AV165)+1)","v":""},{"$f":"IF(Compliance_Options!B188=\"\",\"\",Compliance_Options!B188)","v":""},{"$f":"IF(Compliance_Options!C188=\"\",\"\",Compliance_Options!C188)","v":""},{"$f":"IF(Compliance_Options!D188=\"\",\"\",Compliance_Options!D188)","v":""},{"$f":"IF(Compliance_Options!E188=\"\",\"\",Compliance_Options!E188)","v":""},{"$f":"IF(Compliance_Options!F188=\"\",\"\",Compliance_Options!F188)","v":""},"    ",{"$f":"IF(COUNTIF(BB$2:BB166,BB166)=1,BB166,\"\")","v":""},"","","","","","","",{"$f":"+IF(BJ166=\"\",\"\",MAX(BK$1:BK165)+1)","v":""},"","","","","","","",{"$f":"+IF(BR166=\"\",\"\",MAX(BS$1:BS165)+1)","v":""},"","","","","","","",{"$f":"+IF(BZ166=\"\",\"\",MAX(CA$1:CA165)+1)","v":""},"","","","","","","",{"$f":"+IF(CH166=\"\",\"\",MAX(CI$1:CI165)+1)","v":""},"","","","","",null,{"$f":"+IF(CQ166=\"\",\"\",MAX(CP$1:CP165)+1)","v":""},{"$f":"IF(Compliance_Options!B188=\"\",\"\",Compliance_Options!B188)","v":""},{"$f":"IF(Compliance_Options!C188=\"\",\"\",Compliance_Options!C188)","v":""},{"$f":"IF(Compliance_Options!D188=\"\",\"\",Compliance_Options!D188)","v":""},"  ",{"$f":"IF(COUNTIF(CT$2:CT166,CT166)=1,CT166,\"\")","v":""},"","","",""]
[null,null,null,null,null,null,null,null,null,null,null,null,null,null,null,null,null,null,null,null,null,null,null,null,null,null,null,null,null,null,null,null,null,null,null,null,null,null,null,null,null,null,null,null,null,null,null,{"$f":"+IF(AW167=\"\",\"\",MAX(AV$1:AV166)+1)","v":""},{"$f":"IF(Compliance_Options!B189=\"\",\"\",Compliance_Options!B189)","v":""},{"$f":"IF(Compliance_Options!C189=\"\",\"\",Compliance_Options!C189)","v":""},{"$f":"IF(Compliance_Options!D189=\"\",\"\",Compliance_Options!D189)","v":""},{"$f":"IF(Compliance_Options!E189=\"\",\"\",Compliance_Options!E189)","v":""},{"$f":"IF(Compliance_Options!F189=\"\",\"\",Compliance_Options!F189)","v":""},"    ",{"$f":"IF(COUNTIF(BB$2:BB167,BB167)=1,BB167,\"\")","v":""},"","","","","","","",{"$f":"+IF(BJ167=\"\",\"\",MAX(BK$1:BK166)+1)","v":""},"","","","","","","",{"$f":"+IF(BR167=\"\",\"\",MAX(BS$1:BS166)+1)","v":""},"","","","","","","",{"$f":"+IF(BZ167=\"\",\"\",MAX(CA$1:CA166)+1)","v":""},"","","","","","","",{"$f":"+IF(CH167=\"\",\"\",MAX(CI$1:CI166)+1)","v":""},"","","","","",null,{"$f":"+IF(CQ167=\"\",\"\",MAX(CP$1:CP166)+1)","v":""},{"$f":"IF(Compliance_Options!B189=\"\",\"\",Compliance_Options!B189)","v":""},{"$f":"IF(Compliance_Options!C189=\"\",\"\",Compliance_Options!C189)","v":""},{"$f":"IF(Compliance_Options!D189=\"\",\"\",Compliance_Options!D189)","v":""},"  ",{"$f":"IF(COUNTIF(CT$2:CT167,CT167)=1,CT167,\"\")","v":""},"","","",""]
[null,null,null,null,null,null,null,null,null,null,null,null,null,null,null,null,null,null,null,null,null,null,null,null,null,null,null,null,null,null,null,null,null,null,null,null,null,null,null,null,null,null,null,null,null,null,null,{"$f":"+IF(AW168=\"\",\"\",MAX(AV$1:AV167)+1)","v":""},{"$f":"IF(Compliance_Options!B190=\"\",\"\",Compliance_Options!B190)","v":""},{"$f":"IF(Compliance_Options!C190=\"\",\"\",Compliance_Options!C190)","v":""},{"$f":"IF(Compliance_Options!D190=\"\",\"\",Compliance_Options!D190)","v":""},{"$f":"IF(Compliance_Options!E190=\"\",\"\",Compliance_Options!E190)","v":""},{"$f":"IF(Compliance_Options!F190=\"\",\"\",Compliance_Options!F190)","v":""},"    ",{"$f":"IF(COUNTIF(BB$2:BB168,BB168)=1,BB168,\"\")","v":""},"","","","","","","",{"$f":"+IF(BJ168=\"\",\"\",MAX(BK$1:BK167)+1)","v":""},"","","","","","","",{"$f":"+IF(BR168=\"\",\"\",MAX(BS$1:BS167)+1)","v":""},"","","","","","","",{"$f":"+IF(BZ168=\"\",\"\",MAX(CA$1:CA167)+1)","v":""},"","","","","","","",{"$f":"+IF(CH168=\"\",\"\",MAX(CI$1:CI167)+1)","v":""},"","","","","",null,{"$f":"+IF(CQ168=\"\",\"\",MAX(CP$1:CP167)+1)","v":""},{"$f":"IF(Compliance_Options!B190=\"\",\"\",Compliance_Options!B190)","v":""},{"$f":"IF(Compliance_Options!C190=\"\",\"\",Compliance_Options!C190)","v":""},{"$f":"IF(Compliance_Options!D190=\"\",\"\",Compliance_Options!D190)","v":""},"  ",{"$f":"IF(COUNTIF(CT$2:CT168,CT168)=1,CT168,\"\")","v":""},"","","",""]
[null,null,null,null,null,null,null,null,null,null,null,null,null,null,null,null,null,null,null,null,null,null,null,null,null,null,null,null,null,null,null,null,null,null,null,null,null,null,null,null,null,null,null,null,null,null,null,{"$f":"+IF(AW169=\"\",\"\",MAX(AV$1:AV168)+1)","v":""},{"$f":"IF(Compliance_Options!B191=\"\",\"\",Compliance_Options!B191)","v":""},{"$f":"IF(Compliance_Options!C191=\"\",\"\",Compliance_Options!C191)","v":""},{"$f":"IF(Compliance_Options!D191=\"\",\"\",Compliance_Options!D191)","v":""},{"$f":"IF(Compliance_Options!E191=\"\",\"\",Compliance_Options!E191)","v":""},{"$f":"IF(Compliance_Options!F191=\"\",\"\",Compliance_Options!F191)","v":""},"    ",{"$f":"IF(COUNTIF(BB$2:BB169,BB169)=1,BB169,\"\")","v":""},"","","","","","","",{"$f":"+IF(BJ169=\"\",\"\",MAX(BK$1:BK168)+1)","v":""},"","","","","","","",{"$f":"+IF(BR169=\"\",\"\",MAX(BS$1:BS168)+1)","v":""},"","","","","","","",{"$f":"+IF(BZ169=\"\",\"\",MAX(CA$1:CA168)+1)","v":""},"","","","","","","",{"$f":"+IF(CH169=\"\",\"\",MAX(CI$1:CI168)+1)","v":""},"","","","","",null,{"$f":"+IF(CQ169=\"\",\"\",MAX(CP$1:CP168)+1)","v":""},{"$f":"IF(Compliance_Options!B191=\"\",\"\",Compliance_Options!B191)","v":""},{"$f":"IF(Compliance_Options!C191=\"\",\"\",Compliance_Options!C191)","v":""},{"$f":"IF(Compliance_Options!D191=\"\",\"\",Compliance_Options!D191)","v":""},"  ",{"$f":"IF(COUNTIF(CT$2:CT169,CT169)=1,CT169,\"\")","v":""},"","","",""]
[null,null,null,null,null,null,null,null,null,null,null,null,null,null,null,null,null,null,null,null,null,null,null,null,null,null,null,null,null,null,null,null,null,null,null,null,null,null,null,null,null,null,null,null,null,null,null,{"$f":"+IF(AW170=\"\",\"\",MAX(AV$1:AV169)+1)","v":""},{"$f":"IF(Compliance_Options!B192=\"\",\"\",Compliance_Options!B192)","v":""},{"$f":"IF(Compliance_Options!C192=\"\",\"\",Compliance_Options!C192)","v":""},{"$f":"IF(Compliance_Options!D192=\"\",\"\",Compliance_Options!D192)","v":""},{"$f":"IF(Compliance_Options!E192=\"\",\"\",Compliance_Options!E192)","v":""},{"$f":"IF(Compliance_Options!F192=\"\",\"\",Compliance_Options!F192)","v":""},"    ",{"$f":"IF(COUNTIF(BB$2:BB170,BB170)=1,BB170,\"\")","v":""},"","","","","","","",{"$f":"+IF(BJ170=\"\",\"\",MAX(BK$1:BK169)+1)","v":""},"","","","","","","",{"$f":"+IF(BR170=\"\",\"\",MAX(BS$1:BS169)+1)","v":""},"","","","","","","",{"$f":"+IF(BZ170=\"\",\"\",MAX(CA$1:CA169)+1)","v":""},"","","","","","","",{"$f":"+IF(CH170=\"\",\"\",MAX(CI$1:CI169)+1)","v":""},"","","","","",null,{"$f":"+IF(CQ170=\"\",\"\",MAX(CP$1:CP169)+1)","v":""},{"$f":"IF(Compliance_Options!B192=\"\",\"\",Compliance_Options!B192)","v":""},{"$f":"IF(Compliance_Options!C192=\"\",\"\",Compliance_Options!C192)","v":""},{"$f":"IF(Compliance_Options!D192=\"\",\"\",Compliance_Options!D192)","v":""},"  ",{"$f":"IF(COUNTIF(CT$2:CT170,CT170)=1,CT170,\"\")","v":""},"","","",""]
[null,null,null,null,null,null,null,null,null,null,null,null,null,null,null,null,null,null,null,null,null,null,null,null,null,null,null,null,null,null,null,null,null,null,null,null,null,null,null,null,null,null,null,null,null,null,null,{"$f":"+IF(AW171=\"\",\"\",MAX(AV$1:AV170)+1)","v":""},{"$f":"IF(Compliance_Options!B193=\"\",\"\",Compliance_Options!B193)","v":""},{"$f":"IF(Compliance_Options!C193=\"\",\"\",Compliance_Options!C193)","v":""},{"$f":"IF(Compliance_Options!D193=\"\",\"\",Compliance_Options!D193)","v":""},{"$f":"IF(Compliance_Options!E193=\"\",\"\",Compliance_Options!E193)","v":""},{"$f":"IF(Compliance_Options!F193=\"\",\"\",Compliance_Options!F193)","v":""},"    ",{"$f":"IF(COUNTIF(BB$2:BB171,BB171)=1,BB171,\"\")","v":""},"","","","","","","",{"$f":"+IF(BJ171=\"\",\"\",MAX(BK$1:BK170)+1)","v":""},"","","","","","","",{"$f":"+IF(BR171=\"\",\"\",MAX(BS$1:BS170)+1)","v":""},"","","","","","","",{"$f":"+IF(BZ171=\"\",\"\",MAX(CA$1:CA170)+1)","v":""},"","","","","","","",{"$f":"+IF(CH171=\"\",\"\",MAX(CI$1:CI170)+1)","v":""},"","","","","",null,{"$f":"+IF(CQ171=\"\",\"\",MAX(CP$1:CP170)+1)","v":""},{"$f":"IF(Compliance_Options!B193=\"\",\"\",Compliance_Options!B193)","v":""},{"$f":"IF(Compliance_Options!C193=\"\",\"\",Compliance_Options!C193)","v":""},{"$f":"IF(Compliance_Options!D193=\"\",\"\",Compliance_Options!D193)","v":""},"  ",{"$f":"IF(COUNTIF(CT$2:CT171,CT171)=1,CT171,\"\")","v":""},"","","",""]
[null,null,null,null,null,null,null,null,null,null,null,null,null,null,null,null,null,null,null,null,null,null,null,null,null,null,null,null,null,null,null,null,null,null,null,null,null,null,null,null,null,null,null,null,null,null,null,{"$f":"+IF(AW172=\"\",\"\",MAX(AV$1:AV171)+1)","v":""},{"$f":"IF(Compliance_Options!B194=\"\",\"\",Compliance_Options!B194)","v":""},{"$f":"IF(Compliance_Options!C194=\"\",\"\",Compliance_Options!C194)","v":""},{"$f":"IF(Compliance_Options!D194=\"\",\"\",Compliance_Options!D194)","v":""},{"$f":"IF(Compliance_Options!E194=\"\",\"\",Compliance_Options!E194)","v":""},{"$f":"IF(Compliance_Options!F194=\"\",\"\",Compliance_Options!F194)","v":""},"    ",{"$f":"IF(COUNTIF(BB$2:BB172,BB172)=1,BB172,\"\")","v":""},"","","","","","","",{"$f":"+IF(BJ172=\"\",\"\",MAX(BK$1:BK171)+1)","v":""},"","","","","","","",{"$f":"+IF(BR172=\"\",\"\",MAX(BS$1:BS171)+1)","v":""},"","","","","","","",{"$f":"+IF(BZ172=\"\",\"\",MAX(CA$1:CA171)+1)","v":""},"","","","","","","",{"$f":"+IF(CH172=\"\",\"\",MAX(CI$1:CI171)+1)","v":""},"","","","","",null,{"$f":"+IF(CQ172=\"\",\"\",MAX(CP$1:CP171)+1)","v":""},{"$f":"IF(Compliance_Options!B194=\"\",\"\",Compliance_Options!B194)","v":""},{"$f":"IF(Compliance_Options!C194=\"\",\"\",Compliance_Options!C194)","v":""},{"$f":"IF(Compliance_Options!D194=\"\",\"\",Compliance_Options!D194)","v":""},"  ",{"$f":"IF(COUNTIF(CT$2:CT172,CT172)=1,CT172,\"\")","v":""},"","","",""]
[null,null,null,null,null,null,null,null,null,null,null,null,null,null,null,null,null,null,null,null,null,null,null,null,null,null,null,null,null,null,null,null,null,null,null,null,null,null,null,null,null,null,null,null,null,null,null,{"$f":"+IF(AW173=\"\",\"\",MAX(AV$1:AV172)+1)","v":""},{"$f":"IF(Compliance_Options!B195=\"\",\"\",Compliance_Options!B195)","v":""},{"$f":"IF(Compliance_Options!C195=\"\",\"\",Compliance_Options!C195)","v":""},{"$f":"IF(Compliance_Options!D195=\"\",\"\",Compliance_Options!D195)","v":""},{"$f":"IF(Compliance_Options!E195=\"\",\"\",Compliance_Options!E195)","v":""},{"$f":"IF(Compliance_Options!F195=\"\",\"\",Compliance_Options!F195)","v":""},"    ",{"$f":"IF(COUNTIF(BB$2:BB173,BB173)=1,BB173,\"\")","v":""},"","","","","","","",{"$f":"+IF(BJ173=\"\",\"\",MAX(BK$1:BK172)+1)","v":""},"","","","","","","",{"$f":"+IF(BR173=\"\",\"\",MAX(BS$1:BS172)+1)","v":""},"","","","","","","",{"$f":"+IF(BZ173=\"\",\"\",MAX(CA$1:CA172)+1)","v":""},"","","","","","","",{"$f":"+IF(CH173=\"\",\"\",MAX(CI$1:CI172)+1)","v":""},"","","","","",null,{"$f":"+IF(CQ173=\"\",\"\",MAX(CP$1:CP172)+1)","v":""},{"$f":"IF(Compliance_Options!B195=\"\",\"\",Compliance_Options!B195)","v":""},{"$f":"IF(Compliance_Options!C195=\"\",\"\",Compliance_Options!C195)","v":""},{"$f":"IF(Compliance_Options!D195=\"\",\"\",Compliance_Options!D195)","v":""},"  ",{"$f":"IF(COUNTIF(CT$2:CT173,CT173)=1,CT173,\"\")","v":""},"","","",""]
[null,null,null,null,null,null,null,null,null,null,null,null,null,null,null,null,null,null,null,null,null,null,null,null,null,null,null,null,null,null,null,null,null,null,null,null,null,null,null,null,null,null,null,null,null,null,null,{"$f":"+IF(AW174=\"\",\"\",MAX(AV$1:AV173)+1)","v":""},{"$f":"IF(Compliance_Options!B196=\"\",\"\",Compliance_Options!B196)","v":""},{"$f":"IF(Compliance_Options!C196=\"\",\"\",Compliance_Options!C196)","v":""},{"$f":"IF(Compliance_Options!D196=\"\",\"\",Compliance_Options!D196)","v":""},{"$f":"IF(Compliance_Options!E196=\"\",\"\",Compliance_Options!E196)","v":""},{"$f":"IF(Compliance_Options!F196=\"\",\"\",Compliance_Options!F196)","v":""},"    ",{"$f":"IF(COUNTIF(BB$2:BB174,BB174)=1,BB174,\"\")","v":""},"","","","","","","",{"$f":"+IF(BJ174=\"\",\"\",MAX(BK$1:BK173)+1)","v":""},"","","","","","","",{"$f":"+IF(BR174=\"\",\"\",MAX(BS$1:BS173)+1)","v":""},"","","","","","","",{"$f":"+IF(BZ174=\"\",\"\",MAX(CA$1:CA173)+1)","v":""},"","","","","","","",{"$f":"+IF(CH174=\"\",\"\",MAX(CI$1:CI173)+1)","v":""},"","","","","",null,{"$f":"+IF(CQ174=\"\",\"\",MAX(CP$1:CP173)+1)","v":""},{"$f":"IF(Compliance_Options!B196=\"\",\"\",Compliance_Options!B196)","v":""},{"$f":"IF(Compliance_Options!C196=\"\",\"\",Compliance_Options!C196)","v":""},{"$f":"IF(Compliance_Options!D196=\"\",\"\",Compliance_Options!D196)","v":""},"  ",{"$f":"IF(COUNTIF(CT$2:CT174,CT174)=1,CT174,\"\")","v":""},"","","",""]
[null,null,null,null,null,null,null,null,null,null,null,null,null,null,null,null,null,null,null,null,null,null,null,null,null,null,null,null,null,null,null,null,null,null,null,null,null,null,null,null,null,null,null,null,null,null,null,{"$f":"+IF(AW175=\"\",\"\",MAX(AV$1:AV174)+1)","v":""},{"$f":"IF(Compliance_Options!B197=\"\",\"\",Compliance_Options!B197)","v":""},{"$f":"IF(Compliance_Options!C197=\"\",\"\",Compliance_Options!C197)","v":""},{"$f":"IF(Compliance_Options!D197=\"\",\"\",Compliance_Options!D197)","v":""},{"$f":"IF(Compliance_Options!E197=\"\",\"\",Compliance_Options!E197)","v":""},{"$f":"IF(Compliance_Options!F197=\"\",\"\",Compliance_Options!F197)","v":""},"    ",{"$f":"IF(COUNTIF(BB$2:BB175,BB175)=1,BB175,\"\")","v":""},"","","","","","","",{"$f":"+IF(BJ175=\"\",\"\",MAX(BK$1:BK174)+1)","v":""},"","","","","","","",{"$f":"+IF(BR175=\"\",\"\",MAX(BS$1:BS174)+1)","v":""},"","","","","","","",{"$f":"+IF(BZ175=\"\",\"\",MAX(CA$1:CA174)+1)","v":""},"","","","","","","",{"$f":"+IF(CH175=\"\",\"\",MAX(CI$1:CI174)+1)","v":""},"","","","","",null,{"$f":"+IF(CQ175=\"\",\"\",MAX(CP$1:CP174)+1)","v":""},{"$f":"IF(Compliance_Options!B197=\"\",\"\",Compliance_Options!B197)","v":""},{"$f":"IF(Compliance_Options!C197=\"\",\"\",Compliance_Options!C197)","v":""},{"$f":"IF(Compliance_Options!D197=\"\",\"\",Compliance_Options!D197)","v":""},"  ",{"$f":"IF(COUNTIF(CT$2:CT175,CT175)=1,CT175,\"\")","v":""},"","","",""]
[null,null,null,null,null,null,null,null,null,null,null,null,null,null,null,null,null,null,null,null,null,null,null,null,null,null,null,null,null,null,null,null,null,null,null,null,null,null,null,null,null,null,null,null,null,null,null,{"$f":"+IF(AW176=\"\",\"\",MAX(AV$1:AV175)+1)","v":""},{"$f":"IF(Compliance_Options!B198=\"\",\"\",Compliance_Options!B198)","v":""},{"$f":"IF(Compliance_Options!C198=\"\",\"\",Compliance_Options!C198)","v":""},{"$f":"IF(Compliance_Options!D198=\"\",\"\",Compliance_Options!D198)","v":""},{"$f":"IF(Compliance_Options!E198=\"\",\"\",Compliance_Options!E198)","v":""},{"$f":"IF(Compliance_Options!F198=\"\",\"\",Compliance_Options!F198)","v":""},"    ",{"$f":"IF(COUNTIF(BB$2:BB176,BB176)=1,BB176,\"\")","v":""},"","","","","","","",{"$f":"+IF(BJ176=\"\",\"\",MAX(BK$1:BK175)+1)","v":""},"","","","","","","",{"$f":"+IF(BR176=\"\",\"\",MAX(BS$1:BS175)+1)","v":""},"","","","","","","",{"$f":"+IF(BZ176=\"\",\"\",MAX(CA$1:CA175)+1)","v":""},"","","","","","","",{"$f":"+IF(CH176=\"\",\"\",MAX(CI$1:CI175)+1)","v":""},"","","","","",null,{"$f":"+IF(CQ176=\"\",\"\",MAX(CP$1:CP175)+1)","v":""},{"$f":"IF(Compliance_Options!B198=\"\",\"\",Compliance_Options!B198)","v":""},{"$f":"IF(Compliance_Options!C198=\"\",\"\",Compliance_Options!C198)","v":""},{"$f":"IF(Compliance_Options!D198=\"\",\"\",Compliance_Options!D198)","v":""},"  ",{"$f":"IF(COUNTIF(CT$2:CT176,CT176)=1,CT176,\"\")","v":""},"","","",""]
[null,null,null,null,null,null,null,null,null,null,null,null,null,null,null,null,null,null,null,null,null,null,null,null,null,null,null,null,null,null,null,null,null,null,null,null,null,null,null,null,null,null,null,null,null,null,null,{"$f":"+IF(AW177=\"\",\"\",MAX(AV$1:AV176)+1)","v":""},{"$f":"IF(Compliance_Options!B199=\"\",\"\",Compliance_Options!B199)","v":""},{"$f":"IF(Compliance_Options!C199=\"\",\"\",Compliance_Options!C199)","v":""},{"$f":"IF(Compliance_Options!D199=\"\",\"\",Compliance_Options!D199)","v":""},{"$f":"IF(Compliance_Options!E199=\"\",\"\",Compliance_Options!E199)","v":""},{"$f":"IF(Compliance_Options!F199=\"\",\"\",Compliance_Options!F199)","v":""},"    ",{"$f":"IF(COUNTIF(BB$2:BB177,BB177)=1,BB177,\"\")","v":""},"","","","","","","",{"$f":"+IF(BJ177=\"\",\"\",MAX(BK$1:BK176)+1)","v":""},"","","","","","","",{"$f":"+IF(BR177=\"\",\"\",MAX(BS$1:BS176)+1)","v":""},"","","","","","","",{"$f":"+IF(BZ177=\"\",\"\",MAX(CA$1:CA176)+1)","v":""},"","","","","","","",{"$f":"+IF(CH177=\"\",\"\",MAX(CI$1:CI176)+1)","v":""},"","","","","",null,{"$f":"+IF(CQ177=\"\",\"\",MAX(CP$1:CP176)+1)","v":""},{"$f":"IF(Compliance_Options!B199=\"\",\"\",Compliance_Options!B199)","v":""},{"$f":"IF(Compliance_Options!C199=\"\",\"\",Compliance_Options!C199)","v":""},{"$f":"IF(Compliance_Options!D199=\"\",\"\",Compliance_Options!D199)","v":""},"  ",{"$f":"IF(COUNTIF(CT$2:CT177,CT177)=1,CT177,\"\")","v":""},"","","",""]
[null,null,null,null,null,null,null,null,null,null,null,null,null,null,null,null,null,null,null,null,null,null,null,null,null,null,null,null,null,null,null,null,null,null,null,null,null,null,null,null,null,null,null,null,null,null,null,{"$f":"+IF(AW178=\"\",\"\",MAX(AV$1:AV177)+1)","v":""},{"$f":"IF(Compliance_Options!B200=\"\",\"\",Compliance_Options!B200)","v":""},{"$f":"IF(Compliance_Options!C200=\"\",\"\",Compliance_Options!C200)","v":""},{"$f":"IF(Compliance_Options!D200=\"\",\"\",Compliance_Options!D200)","v":""},{"$f":"IF(Compliance_Options!E200=\"\",\"\",Compliance_Options!E200)","v":""},{"$f":"IF(Compliance_Options!F200=\"\",\"\",Compliance_Options!F200)","v":""},"    ",{"$f":"IF(COUNTIF(BB$2:BB178,BB178)=1,BB178,\"\")","v":""},"","","","","","","",{"$f":"+IF(BJ178=\"\",\"\",MAX(BK$1:BK177)+1)","v":""},"","","","","","","",{"$f":"+IF(BR178=\"\",\"\",MAX(BS$1:BS177)+1)","v":""},"","","","","","","",{"$f":"+IF(BZ178=\"\",\"\",MAX(CA$1:CA177)+1)","v":""},"","","","","","","",{"$f":"+IF(CH178=\"\",\"\",MAX(CI$1:CI177)+1)","v":""},"","","","","",null,{"$f":"+IF(CQ178=\"\",\"\",MAX(CP$1:CP177)+1)","v":""},{"$f":"IF(Compliance_Options!B200=\"\",\"\",Compliance_Options!B200)","v":""},{"$f":"IF(Compliance_Options!C200=\"\",\"\",Compliance_Options!C200)","v":""},{"$f":"IF(Compliance_Options!D200=\"\",\"\",Compliance_Options!D200)","v":""},"  ",{"$f":"IF(COUNTIF(CT$2:CT178,CT178)=1,CT178,\"\")","v":""},"","","",""]
[null,null,null,null,null,null,null,null,null,null,null,null,null,null,null,null,null,null,null,null,null,null,null,null,null,null,null,null,null,null,null,null,null,null,null,null,null,null,null,null,null,null,null,null,null,null,null,{"$f":"+IF(AW179=\"\",\"\",MAX(AV$1:AV178)+1)","v":""},{"$f":"IF(Compliance_Options!B201=\"\",\"\",Compliance_Options!B201)","v":""},{"$f":"IF(Compliance_Options!C201=\"\",\"\",Compliance_Options!C201)","v":""},{"$f":"IF(Compliance_Options!D201=\"\",\"\",Compliance_Options!D201)","v":""},{"$f":"IF(Compliance_Options!E201=\"\",\"\",Compliance_Options!E201)","v":""},{"$f":"IF(Compliance_Options!F201=\"\",\"\",Compliance_Options!F201)","v":""},"    ",{"$f":"IF(COUNTIF(BB$2:BB179,BB179)=1,BB179,\"\")","v":""},"","","","","","","",{"$f":"+IF(BJ179=\"\",\"\",MAX(BK$1:BK178)+1)","v":""},"","","","","","","",{"$f":"+IF(BR179=\"\",\"\",MAX(BS$1:BS178)+1)","v":""},"","","","","","","",{"$f":"+IF(BZ179=\"\",\"\",MAX(CA$1:CA178)+1)","v":""},"","","","","","","",{"$f":"+IF(CH179=\"\",\"\",MAX(CI$1:CI178)+1)","v":""},"","","","","",null,{"$f":"+IF(CQ179=\"\",\"\",MAX(CP$1:CP178)+1)","v":""},{"$f":"IF(Compliance_Options!B201=\"\",\"\",Compliance_Options!B201)","v":""},{"$f":"IF(Compliance_Options!C201=\"\",\"\",Compliance_Options!C201)","v":""},{"$f":"IF(Compliance_Options!D201=\"\",\"\",Compliance_Options!D201)","v":""},"  ",{"$f":"IF(COUNTIF(CT$2:CT179,CT179)=1,CT179,\"\")","v":""},"","","",""]
[null,null,null,null,null,null,null,null,null,null,null,null,null,null,null,null,null,null,null,null,null,null,null,null,null,null,null,null,null,null,null,null,null,null,null,null,null,null,null,null,null,null,null,null,null,null,null,{"$f":"+IF(AW180=\"\",\"\",MAX(AV$1:AV179)+1)","v":""},{"$f":"IF(Compliance_Options!B202=\"\",\"\",Compliance_Options!B202)","v":""},{"$f":"IF(Compliance_Options!C202=\"\",\"\",Compliance_Options!C202)","v":""},{"$f":"IF(Compliance_Options!D202=\"\",\"\",Compliance_Options!D202)","v":""},{"$f":"IF(Compliance_Options!E202=\"\",\"\",Compliance_Options!E202)","v":""},{"$f":"IF(Compliance_Options!F202=\"\",\"\",Compliance_Options!F202)","v":""},"    ",{"$f":"IF(COUNTIF(BB$2:BB180,BB180)=1,BB180,\"\")","v":""},"","","","","","","",{"$f":"+IF(BJ180=\"\",\"\",MAX(BK$1:BK179)+1)","v":""},"","","","","","","",{"$f":"+IF(BR180=\"\",\"\",MAX(BS$1:BS179)+1)","v":""},"","","","","","","",{"$f":"+IF(BZ180=\"\",\"\",MAX(CA$1:CA179)+1)","v":""},"","","","","","","",{"$f":"+IF(CH180=\"\",\"\",MAX(CI$1:CI179)+1)","v":""},"","","","","",null,{"$f":"+IF(CQ180=\"\",\"\",MAX(CP$1:CP179)+1)","v":""},{"$f":"IF(Compliance_Options!B202=\"\",\"\",Compliance_Options!B202)","v":""},{"$f":"IF(Compliance_Options!C202=\"\",\"\",Compliance_Options!C202)","v":""},{"$f":"IF(Compliance_Options!D202=\"\",\"\",Compliance_Options!D202)","v":""},"  ",{"$f":"IF(COUNTIF(CT$2:CT180,CT180)=1,CT180,\"\")","v":""},"","","",""]
[null,null,null,null,null,null,null,null,null,null,null,null,null,null,null,null,null,null,null,null,null,null,null,null,null,null,null,null,null,null,null,null,null,null,null,null,null,null,null,null,null,null,null,null,null,null,null,{"$f":"+IF(AW181=\"\",\"\",MAX(AV$1:AV180)+1)","v":""},{"$f":"IF(Compliance_Options!B203=\"\",\"\",Compliance_Options!B203)","v":""},{"$f":"IF(Compliance_Options!C203=\"\",\"\",Compliance_Options!C203)","v":""},{"$f":"IF(Compliance_Options!D203=\"\",\"\",Compliance_Options!D203)","v":""},{"$f":"IF(Compliance_Options!E203=\"\",\"\",Compliance_Options!E203)","v":""},{"$f":"IF(Compliance_Options!F203=\"\",\"\",Compliance_Options!F203)","v":""},"    ",{"$f":"IF(COUNTIF(BB$2:BB181,BB181)=1,BB181,\"\")","v":""},"","","","","","","",{"$f":"+IF(BJ181=\"\",\"\",MAX(BK$1:BK180)+1)","v":""},"","","","","","","",{"$f":"+IF(BR181=\"\",\"\",MAX(BS$1:BS180)+1)","v":""},"","","","","","","",{"$f":"+IF(BZ181=\"\",\"\",MAX(CA$1:CA180)+1)","v":""},"","","","","","","",{"$f":"+IF(CH181=\"\",\"\",MAX(CI$1:CI180)+1)","v":""},"","","","","",null,{"$f":"+IF(CQ181=\"\",\"\",MAX(CP$1:CP180)+1)","v":""},{"$f":"IF(Compliance_Options!B203=\"\",\"\",Compliance_Options!B203)","v":""},{"$f":"IF(Compliance_Options!C203=\"\",\"\",Compliance_Options!C203)","v":""},{"$f":"IF(Compliance_Options!D203=\"\",\"\",Compliance_Options!D203)","v":""},"  ",{"$f":"IF(COUNTIF(CT$2:CT181,CT181)=1,CT181,\"\")","v":""},"","","",""]
[null,null,null,null,null,null,null,null,null,null,null,null,null,null,null,null,null,null,null,null,null,null,null,null,null,null,null,null,null,null,null,null,null,null,null,null,null,null,null,null,null,null,null,null,null,null,null,{"$f":"+IF(AW182=\"\",\"\",MAX(AV$1:AV181)+1)","v":""},{"$f":"IF(Compliance_Options!B204=\"\",\"\",Compliance_Options!B204)","v":""},{"$f":"IF(Compliance_Options!C204=\"\",\"\",Compliance_Options!C204)","v":""},{"$f":"IF(Compliance_Options!D204=\"\",\"\",Compliance_Options!D204)","v":""},{"$f":"IF(Compliance_Options!E204=\"\",\"\",Compliance_Options!E204)","v":""},{"$f":"IF(Compliance_Options!F204=\"\",\"\",Compliance_Options!F204)","v":""},"    ",{"$f":"IF(COUNTIF(BB$2:BB182,BB182)=1,BB182,\"\")","v":""},"","","","","","","",{"$f":"+IF(BJ182=\"\",\"\",MAX(BK$1:BK181)+1)","v":""},"","","","","","","",{"$f":"+IF(BR182=\"\",\"\",MAX(BS$1:BS181)+1)","v":""},"","","","","","","",{"$f":"+IF(BZ182=\"\",\"\",MAX(CA$1:CA181)+1)","v":""},"","","","","","","",{"$f":"+IF(CH182=\"\",\"\",MAX(CI$1:CI181)+1)","v":""},"","","","","",null,{"$f":"+IF(CQ182=\"\",\"\",MAX(CP$1:CP181)+1)","v":""},{"$f":"IF(Compliance_Options!B204=\"\",\"\",Compliance_Options!B204)","v":""},{"$f":"IF(Compliance_Options!C204=\"\",\"\",Compliance_Options!C204)","v":""},{"$f":"IF(Compliance_Options!D204=\"\",\"\",Compliance_Options!D204)","v":""},"  ",{"$f":"IF(COUNTIF(CT$2:CT182,CT182)=1,CT182,\"\")","v":""},"","","",""]
[null,null,null,null,null,null,null,null,null,null,null,null,null,null,null,null,null,null,null,null,null,null,null,null,null,null,null,null,null,null,null,null,null,null,null,null,null,null,null,null,null,null,null,null,null,null,null,{"$f":"+IF(AW183=\"\",\"\",MAX(AV$1:AV182)+1)","v":""},{"$f":"IF(Compliance_Options!B205=\"\",\"\",Compliance_Options!B205)","v":""},{"$f":"IF(Compliance_Options!C205=\"\",\"\",Compliance_Options!C205)","v":""},{"$f":"IF(Compliance_Options!D205=\"\",\"\",Compliance_Options!D205)","v":""},{"$f":"IF(Compliance_Options!E205=\"\",\"\",Compliance_Options!E205)","v":""},{"$f":"IF(Compliance_Options!F205=\"\",\"\",Compliance_Options!F205)","v":""},"    ",{"$f":"IF(COUNTIF(BB$2:BB183,BB183)=1,BB183,\"\")","v":""},"","","","","","","",{"$f":"+IF(BJ183=\"\",\"\",MAX(BK$1:BK182)+1)","v":""},"","","","","","","",{"$f":"+IF(BR183=\"\",\"\",MAX(BS$1:BS182)+1)","v":""},"","","","","","","",{"$f":"+IF(BZ183=\"\",\"\",MAX(CA$1:CA182)+1)","v":""},"","","","","","","",{"$f":"+IF(CH183=\"\",\"\",MAX(CI$1:CI182)+1)","v":""},"","","","","",null,{"$f":"+IF(CQ183=\"\",\"\",MAX(CP$1:CP182)+1)","v":""},{"$f":"IF(Compliance_Options!B205=\"\",\"\",Compliance_Options!B205)","v":""},{"$f":"IF(Compliance_Options!C205=\"\",\"\",Compliance_Options!C205)","v":""},{"$f":"IF(Compliance_Options!D205=\"\",\"\",Compliance_Options!D205)","v":""},"  ",{"$f":"IF(COUNTIF(CT$2:CT183,CT183)=1,CT183,\"\")","v":""},"","","",""]
[null,null,null,null,null,null,null,null,null,null,null,null,null,null,null,null,null,null,null,null,null,null,null,null,null,null,null,null,null,null,null,null,null,null,null,null,null,null,null,null,null,null,null,null,null,null,null,{"$f":"+IF(AW184=\"\",\"\",MAX(AV$1:AV183)+1)","v":""},{"$f":"IF(Compliance_Options!B206=\"\",\"\",Compliance_Options!B206)","v":""},{"$f":"IF(Compliance_Options!C206=\"\",\"\",Compliance_Options!C206)","v":""},{"$f":"IF(Compliance_Options!D206=\"\",\"\",Compliance_Options!D206)","v":""},{"$f":"IF(Compliance_Options!E206=\"\",\"\",Compliance_Options!E206)","v":""},{"$f":"IF(Compliance_Options!F206=\"\",\"\",Compliance_Options!F206)","v":""},"    ",{"$f":"IF(COUNTIF(BB$2:BB184,BB184)=1,BB184,\"\")","v":""},"","","","","","","",{"$f":"+IF(BJ184=\"\",\"\",MAX(BK$1:BK183)+1)","v":""},"","","","","","","",{"$f":"+IF(BR184=\"\",\"\",MAX(BS$1:BS183)+1)","v":""},"","","","","","","",{"$f":"+IF(BZ184=\"\",\"\",MAX(CA$1:CA183)+1)","v":""},"","","","","","","",{"$f":"+IF(CH184=\"\",\"\",MAX(CI$1:CI183)+1)","v":""},"","","","","",null,{"$f":"+IF(CQ184=\"\",\"\",MAX(CP$1:CP183)+1)","v":""},{"$f":"IF(Compliance_Options!B206=\"\",\"\",Compliance_Options!B206)","v":""},{"$f":"IF(Compliance_Options!C206=\"\",\"\",Compliance_Options!C206)","v":""},{"$f":"IF(Compliance_Options!D206=\"\",\"\",Compliance_Options!D206)","v":""},"  ",{"$f":"IF(COUNTIF(CT$2:CT184,CT184)=1,CT184,\"\")","v":""},"","","",""]
[null,null,null,null,null,null,null,null,null,null,null,null,null,null,null,null,null,null,null,null,null,null,null,null,null,null,null,null,null,null,null,null,null,null,null,null,null,null,null,null,null,null,null,null,null,null,null,{"$f":"+IF(AW185=\"\",\"\",MAX(AV$1:AV184)+1)","v":""},{"$f":"IF(Compliance_Options!B207=\"\",\"\",Compliance_Options!B207)","v":""},{"$f":"IF(Compliance_Options!C207=\"\",\"\",Compliance_Options!C207)","v":""},{"$f":"IF(Compliance_Options!D207=\"\",\"\",Compliance_Options!D207)","v":""},{"$f":"IF(Compliance_Options!E207=\"\",\"\",Compliance_Options!E207)","v":""},{"$f":"IF(Compliance_Options!F207=\"\",\"\",Compliance_Options!F207)","v":""},"    ",{"$f":"IF(COUNTIF(BB$2:BB185,BB185)=1,BB185,\"\")","v":""},"","","","","","","",{"$f":"+IF(BJ185=\"\",\"\",MAX(BK$1:BK184)+1)","v":""},"","","","","","","",{"$f":"+IF(BR185=\"\",\"\",MAX(BS$1:BS184)+1)","v":""},"","","","","","","",{"$f":"+IF(BZ185=\"\",\"\",MAX(CA$1:CA184)+1)","v":""},"","","","","","","",{"$f":"+IF(CH185=\"\",\"\",MAX(CI$1:CI184)+1)","v":""},"","","","","",null,{"$f":"+IF(CQ185=\"\",\"\",MAX(CP$1:CP184)+1)","v":""},{"$f":"IF(Compliance_Options!B207=\"\",\"\",Compliance_Options!B207)","v":""},{"$f":"IF(Compliance_Options!C207=\"\",\"\",Compliance_Options!C207)","v":""},{"$f":"IF(Compliance_Options!D207=\"\",\"\",Compliance_Options!D207)","v":""},"  ",{"$f":"IF(COUNTIF(CT$2:CT185,CT185)=1,CT185,\"\")","v":""},"","","",""]
[null,null,null,null,null,null,null,null,null,null,null,null,null,null,null,null,null,null,null,null,null,null,null,null,null,null,null,null,null,null,null,null,null,null,null,null,null,null,null,null,null,null,null,null,null,null,null,{"$f":"+IF(AW186=\"\",\"\",MAX(AV$1:AV185)+1)","v":""},{"$f":"IF(Compliance_Options!B208=\"\",\"\",Compliance_Options!B208)","v":""},{"$f":"IF(Compliance_Options!C208=\"\",\"\",Compliance_Options!C208)","v":""},{"$f":"IF(Compliance_Options!D208=\"\",\"\",Compliance_Options!D208)","v":""},{"$f":"IF(Compliance_Options!E208=\"\",\"\",Compliance_Options!E208)","v":""},{"$f":"IF(Compliance_Options!F208=\"\",\"\",Compliance_Options!F208)","v":""},"    ",{"$f":"IF(COUNTIF(BB$2:BB186,BB186)=1,BB186,\"\")","v":""},"","","","","","","",{"$f":"+IF(BJ186=\"\",\"\",MAX(BK$1:BK185)+1)","v":""},"","","","","","","",{"$f":"+IF(BR186=\"\",\"\",MAX(BS$1:BS185)+1)","v":""},"","","","","","","",{"$f":"+IF(BZ186=\"\",\"\",MAX(CA$1:CA185)+1)","v":""},"","","","","","","",{"$f":"+IF(CH186=\"\",\"\",MAX(CI$1:CI185)+1)","v":""},"","","","","",null,{"$f":"+IF(CQ186=\"\",\"\",MAX(CP$1:CP185)+1)","v":""},{"$f":"IF(Compliance_Options!B208=\"\",\"\",Compliance_Options!B208)","v":""},{"$f":"IF(Compliance_Options!C208=\"\",\"\",Compliance_Options!C208)","v":""},{"$f":"IF(Compliance_Options!D208=\"\",\"\",Compliance_Options!D208)","v":""},"  ",{"$f":"IF(COUNTIF(CT$2:CT186,CT186)=1,CT186,\"\")","v":""},"","","",""]
[null,null,null,null,null,null,null,null,null,null,null,null,null,null,null,null,null,null,null,null,null,null,null,null,null,null,null,null,null,null,null,null,null,null,null,null,null,null,null,null,null,null,null,null,null,null,null,{"$f":"+IF(AW187=\"\",\"\",MAX(AV$1:AV186)+1)","v":""},{"$f":"IF(Compliance_Options!B209=\"\",\"\",Compliance_Options!B209)","v":""},{"$f":"IF(Compliance_Options!C209=\"\",\"\",Compliance_Options!C209)","v":""},{"$f":"IF(Compliance_Options!D209=\"\",\"\",Compliance_Options!D209)","v":""},{"$f":"IF(Compliance_Options!E209=\"\",\"\",Compliance_Options!E209)","v":""},{"$f":"IF(Compliance_Options!F209=\"\",\"\",Compliance_Options!F209)","v":""},"    ",{"$f":"IF(COUNTIF(BB$2:BB187,BB187)=1,BB187,\"\")","v":""},"","","","","","","",{"$f":"+IF(BJ187=\"\",\"\",MAX(BK$1:BK186)+1)","v":""},"","","","","","","",{"$f":"+IF(BR187=\"\",\"\",MAX(BS$1:BS186)+1)","v":""},"","","","","","","",{"$f":"+IF(BZ187=\"\",\"\",MAX(CA$1:CA186)+1)","v":""},"","","","","","","",{"$f":"+IF(CH187=\"\",\"\",MAX(CI$1:CI186)+1)","v":""},"","","","","",null,{"$f":"+IF(CQ187=\"\",\"\",MAX(CP$1:CP186)+1)","v":""},{"$f":"IF(Compliance_Options!B209=\"\",\"\",Compliance_Options!B209)","v":""},{"$f":"IF(Compliance_Options!C209=\"\",\"\",Compliance_Options!C209)","v":""},{"$f":"IF(Compliance_Options!D209=\"\",\"\",Compliance_Options!D209)","v":""},"  ",{"$f":"IF(COUNTIF(CT$2:CT187,CT187)=1,CT187,\"\")","v":""},"","","",""]
[null,null,null,null,null,null,null,null,null,null,null,null,null,null,null,null,null,null,null,null,null,null,null,null,null,null,null,null,null,null,null,null,null,null,null,null,null,null,null,null,null,null,null,null,null,null,null,{"$f":"+IF(AW188=\"\",\"\",MAX(AV$1:AV187)+1)","v":""},{"$f":"IF(Compliance_Options!B210=\"\",\"\",Compliance_Options!B210)","v":""},{"$f":"IF(Compliance_Options!C210=\"\",\"\",Compliance_Options!C210)","v":""},{"$f":"IF(Compliance_Options!D210=\"\",\"\",Compliance_Options!D210)","v":""},{"$f":"IF(Compliance_Options!E210=\"\",\"\",Compliance_Options!E210)","v":""},{"$f":"IF(Compliance_Options!F210=\"\",\"\",Compliance_Options!F210)","v":""},"    ",{"$f":"IF(COUNTIF(BB$2:BB188,BB188)=1,BB188,\"\")","v":""},"","","","","","","",{"$f":"+IF(BJ188=\"\",\"\",MAX(BK$1:BK187)+1)","v":""},"","","","","","","",{"$f":"+IF(BR188=\"\",\"\",MAX(BS$1:BS187)+1)","v":""},"","","","","","","",{"$f":"+IF(BZ188=\"\",\"\",MAX(CA$1:CA187)+1)","v":""},"","","","","","","",{"$f":"+IF(CH188=\"\",\"\",MAX(CI$1:CI187)+1)","v":""},"","","","","",null,{"$f":"+IF(CQ188=\"\",\"\",MAX(CP$1:CP187)+1)","v":""},{"$f":"IF(Compliance_Options!B210=\"\",\"\",Compliance_Options!B210)","v":""},{"$f":"IF(Compliance_Options!C210=\"\",\"\",Compliance_Options!C210)","v":""},{"$f":"IF(Compliance_Options!D210=\"\",\"\",Compliance_Options!D210)","v":""},"  ",{"$f":"IF(COUNTIF(CT$2:CT188,CT188)=1,CT188,\"\")","v":""},"","","",""]
[null,null,null,null,null,null,null,null,null,null,null,null,null,null,null,null,null,null,null,null,null,null,null,null,null,null,null,null,null,null,null,null,null,null,null,null,null,null,null,null,null,null,null,null,null,null,null,{"$f":"+IF(AW189=\"\",\"\",MAX(AV$1:AV188)+1)","v":""},{"$f":"IF(Compliance_Options!B211=\"\",\"\",Compliance_Options!B211)","v":""},{"$f":"IF(Compliance_Options!C211=\"\",\"\",Compliance_Options!C211)","v":""},{"$f":"IF(Compliance_Options!D211=\"\",\"\",Compliance_Options!D211)","v":""},{"$f":"IF(Compliance_Options!E211=\"\",\"\",Compliance_Options!E211)","v":""},{"$f":"IF(Compliance_Options!F211=\"\",\"\",Compliance_Options!F211)","v":""},"    ",{"$f":"IF(COUNTIF(BB$2:BB189,BB189)=1,BB189,\"\")","v":""},"","","","","","","",{"$f":"+IF(BJ189=\"\",\"\",MAX(BK$1:BK188)+1)","v":""},"","","","","","","",{"$f":"+IF(BR189=\"\",\"\",MAX(BS$1:BS188)+1)","v":""},"","","","","","","",{"$f":"+IF(BZ189=\"\",\"\",MAX(CA$1:CA188)+1)","v":""},"","","","","","","",{"$f":"+IF(CH189=\"\",\"\",MAX(CI$1:CI188)+1)","v":""},"","","","","",null,{"$f":"+IF(CQ189=\"\",\"\",MAX(CP$1:CP188)+1)","v":""},{"$f":"IF(Compliance_Options!B211=\"\",\"\",Compliance_Options!B211)","v":""},{"$f":"IF(Compliance_Options!C211=\"\",\"\",Compliance_Options!C211)","v":""},{"$f":"IF(Compliance_Options!D211=\"\",\"\",Compliance_Options!D211)","v":""},"  ",{"$f":"IF(COUNTIF(CT$2:CT189,CT189)=1,CT189,\"\")","v":""},"","","",""]
[null,null,null,null,null,null,null,null,null,null,null,null,null,null,null,null,null,null,null,null,null,null,null,null,null,null,null,null,null,null,null,null,null,null,null,null,null,null,null,null,null,null,null,null,null,null,null,{"$f":"+IF(AW190=\"\",\"\",MAX(AV$1:AV189)+1)","v":""},{"$f":"IF(Compliance_Options!B212=\"\",\"\",Compliance_Options!B212)","v":""},{"$f":"IF(Compliance_Options!C212=\"\",\"\",Compliance_Options!C212)","v":""},{"$f":"IF(Compliance_Options!D212=\"\",\"\",Compliance_Options!D212)","v":""},{"$f":"IF(Compliance_Options!E212=\"\",\"\",Compliance_Options!E212)","v":""},{"$f":"IF(Compliance_Options!F212=\"\",\"\",Compliance_Options!F212)","v":""},"    ",{"$f":"IF(COUNTIF(BB$2:BB190,BB190)=1,BB190,\"\")","v":""},"","","","","","","",{"$f":"+IF(BJ190=\"\",\"\",MAX(BK$1:BK189)+1)","v":""},"","","","","","","",{"$f":"+IF(BR190=\"\",\"\",MAX(BS$1:BS189)+1)","v":""},"","","","","","","",{"$f":"+IF(BZ190=\"\",\"\",MAX(CA$1:CA189)+1)","v":""},"","","","","","","",{"$f":"+IF(CH190=\"\",\"\",MAX(CI$1:CI189)+1)","v":""},"","","","","",null,{"$f":"+IF(CQ190=\"\",\"\",MAX(CP$1:CP189)+1)","v":""},{"$f":"IF(Compliance_Options!B212=\"\",\"\",Compliance_Options!B212)","v":""},{"$f":"IF(Compliance_Options!C212=\"\",\"\",Compliance_Options!C212)","v":""},{"$f":"IF(Compliance_Options!D212=\"\",\"\",Compliance_Options!D212)","v":""},"  ",{"$f":"IF(COUNTIF(CT$2:CT190,CT190)=1,CT190,\"\")","v":""},"","","",""]
[null,null,null,null,null,null,null,null,null,null,null,null,null,null,null,null,null,null,null,null,null,null,null,null,null,null,null,null,null,null,null,null,null,null,null,null,null,null,null,null,null,null,null,null,null,null,null,{"$f":"+IF(AW191=\"\",\"\",MAX(AV$1:AV190)+1)","v":""},{"$f":"IF(Compliance_Options!B213=\"\",\"\",Compliance_Options!B213)","v":""},{"$f":"IF(Compliance_Options!C213=\"\",\"\",Compliance_Options!C213)","v":""},{"$f":"IF(Compliance_Options!D213=\"\",\"\",Compliance_Options!D213)","v":""},{"$f":"IF(Compliance_Options!E213=\"\",\"\",Compliance_Options!E213)","v":""},{"$f":"IF(Compliance_Options!F213=\"\",\"\",Compliance_Options!F213)","v":""},"    ",{"$f":"IF(COUNTIF(BB$2:BB191,BB191)=1,BB191,\"\")","v":""},"","","","","","","",{"$f":"+IF(BJ191=\"\",\"\",MAX(BK$1:BK190)+1)","v":""},"","","","","","","",{"$f":"+IF(BR191=\"\",\"\",MAX(BS$1:BS190)+1)","v":""},"","","","","","","",{"$f":"+IF(BZ191=\"\",\"\",MAX(CA$1:CA190)+1)","v":""},"","","","","","","",{"$f":"+IF(CH191=\"\",\"\",MAX(CI$1:CI190)+1)","v":""},"","","","","",null,{"$f":"+IF(CQ191=\"\",\"\",MAX(CP$1:CP190)+1)","v":""},{"$f":"IF(Compliance_Options!B213=\"\",\"\",Compliance_Options!B213)","v":""},{"$f":"IF(Compliance_Options!C213=\"\",\"\",Compliance_Options!C213)","v":""},{"$f":"IF(Compliance_Options!D213=\"\",\"\",Compliance_Options!D213)","v":""},"  ",{"$f":"IF(COUNTIF(CT$2:CT191,CT191)=1,CT191,\"\")","v":""},"","","",""]
[null,null,null,null,null,null,null,null,null,null,null,null,null,null,null,null,null,null,null,null,null,null,null,null,null,null,null,null,null,null,null,null,null,null,null,null,null,null,null,null,null,null,null,null,null,null,null,{"$f":"+IF(AW192=\"\",\"\",MAX(AV$1:AV191)+1)","v":""},{"$f":"IF(Compliance_Options!B214=\"\",\"\",Compliance_Options!B214)","v":""},{"$f":"IF(Compliance_Options!C214=\"\",\"\",Compliance_Options!C214)","v":""},{"$f":"IF(Compliance_Options!D214=\"\",\"\",Compliance_Options!D214)","v":""},{"$f":"IF(Compliance_Options!E214=\"\",\"\",Compliance_Options!E214)","v":""},{"$f":"IF(Compliance_Options!F214=\"\",\"\",Compliance_Options!F214)","v":""},"    ",{"$f":"IF(COUNTIF(BB$2:BB192,BB192)=1,BB192,\"\")","v":""},"","","","","","","",{"$f":"+IF(BJ192=\"\",\"\",MAX(BK$1:BK191)+1)","v":""},"","","","","","","",{"$f":"+IF(BR192=\"\",\"\",MAX(BS$1:BS191)+1)","v":""},"","","","","","","",{"$f":"+IF(BZ192=\"\",\"\",MAX(CA$1:CA191)+1)","v":""},"","","","","","","",{"$f":"+IF(CH192=\"\",\"\",MAX(CI$1:CI191)+1)","v":""},"","","","","",null,{"$f":"+IF(CQ192=\"\",\"\",MAX(CP$1:CP191)+1)","v":""},{"$f":"IF(Compliance_Options!B214=\"\",\"\",Compliance_Options!B214)","v":""},{"$f":"IF(Compliance_Options!C214=\"\",\"\",Compliance_Options!C214)","v":""},{"$f":"IF(Compliance_Options!D214=\"\",\"\",Compliance_Options!D214)","v":""},"  ",{"$f":"IF(COUNTIF(CT$2:CT192,CT192)=1,CT192,\"\")","v":""},"","","",""]
[null,null,null,null,null,null,null,null,null,null,null,null,null,null,null,null,null,null,null,null,null,null,null,null,null,null,null,null,null,null,null,null,null,null,null,null,null,null,null,null,null,null,null,null,null,null,null,{"$f":"+IF(AW193=\"\",\"\",MAX(AV$1:AV192)+1)","v":""},{"$f":"IF(Compliance_Options!B215=\"\",\"\",Compliance_Options!B215)","v":""},{"$f":"IF(Compliance_Options!C215=\"\",\"\",Compliance_Options!C215)","v":""},{"$f":"IF(Compliance_Options!D215=\"\",\"\",Compliance_Options!D215)","v":""},{"$f":"IF(Compliance_Options!E215=\"\",\"\",Compliance_Options!E215)","v":""},{"$f":"IF(Compliance_Options!F215=\"\",\"\",Compliance_Options!F215)","v":""},"    ",{"$f":"IF(COUNTIF(BB$2:BB193,BB193)=1,BB193,\"\")","v":""},"","","","","","","",{"$f":"+IF(BJ193=\"\",\"\",MAX(BK$1:BK192)+1)","v":""},"","","","","","","",{"$f":"+IF(BR193=\"\",\"\",MAX(BS$1:BS192)+1)","v":""},"","","","","","","",{"$f":"+IF(BZ193=\"\",\"\",MAX(CA$1:CA192)+1)","v":""},"","","","","","","",{"$f":"+IF(CH193=\"\",\"\",MAX(CI$1:CI192)+1)","v":""},"","","","","",null,{"$f":"+IF(CQ193=\"\",\"\",MAX(CP$1:CP192)+1)","v":""},{"$f":"IF(Compliance_Options!B215=\"\",\"\",Compliance_Options!B215)","v":""},{"$f":"IF(Compliance_Options!C215=\"\",\"\",Compliance_Options!C215)","v":""},{"$f":"IF(Compliance_Options!D215=\"\",\"\",Compliance_Options!D215)","v":""},"  ",{"$f":"IF(COUNTIF(CT$2:CT193,CT193)=1,CT193,\"\")","v":""},"","","",""]
[null,null,null,null,null,null,null,null,null,null,null,null,null,null,null,null,null,null,null,null,null,null,null,null,null,null,null,null,null,null,null,null,null,null,null,null,null,null,null,null,null,null,null,null,null,null,null,{"$f":"+IF(AW194=\"\",\"\",MAX(AV$1:AV193)+1)","v":""},{"$f":"IF(Compliance_Options!B216=\"\",\"\",Compliance_Options!B216)","v":""},{"$f":"IF(Compliance_Options!C216=\"\",\"\",Compliance_Options!C216)","v":""},{"$f":"IF(Compliance_Options!D216=\"\",\"\",Compliance_Options!D216)","v":""},{"$f":"IF(Compliance_Options!E216=\"\",\"\",Compliance_Options!E216)","v":""},{"$f":"IF(Compliance_Options!F216=\"\",\"\",Compliance_Options!F216)","v":""},"    ",{"$f":"IF(COUNTIF(BB$2:BB194,BB194)=1,BB194,\"\")","v":""},"","","","","","","",{"$f":"+IF(BJ194=\"\",\"\",MAX(BK$1:BK193)+1)","v":""},"","","","","","","",{"$f":"+IF(BR194=\"\",\"\",MAX(BS$1:BS193)+1)","v":""},"","","","","","","",{"$f":"+IF(BZ194=\"\",\"\",MAX(CA$1:CA193)+1)","v":""},"","","","","","","",{"$f":"+IF(CH194=\"\",\"\",MAX(CI$1:CI193)+1)","v":""},"","","","","",null,{"$f":"+IF(CQ194=\"\",\"\",MAX(CP$1:CP193)+1)","v":""},{"$f":"IF(Compliance_Options!B216=\"\",\"\",Compliance_Options!B216)","v":""},{"$f":"IF(Compliance_Options!C216=\"\",\"\",Compliance_Options!C216)","v":""},{"$f":"IF(Compliance_Options!D216=\"\",\"\",Compliance_Options!D216)","v":""},"  ",{"$f":"IF(COUNTIF(CT$2:CT194,CT194)=1,CT194,\"\")","v":""},"","","",""]
[null,null,null,null,null,null,null,null,null,null,null,null,null,null,null,null,null,null,null,null,null,null,null,null,null,null,null,null,null,null,null,null,null,null,null,null,null,null,null,null,null,null,null,null,null,null,null,{"$f":"+IF(AW195=\"\",\"\",MAX(AV$1:AV194)+1)","v":""},{"$f":"IF(Compliance_Options!B217=\"\",\"\",Compliance_Options!B217)","v":""},{"$f":"IF(Compliance_Options!C217=\"\",\"\",Compliance_Options!C217)","v":""},{"$f":"IF(Compliance_Options!D217=\"\",\"\",Compliance_Options!D217)","v":""},{"$f":"IF(Compliance_Options!E217=\"\",\"\",Compliance_Options!E217)","v":""},{"$f":"IF(Compliance_Options!F217=\"\",\"\",Compliance_Options!F217)","v":""},{"$f":"AW195&\" \"&AX195&\" \"&AY195&\" \"&AZ195&\" \"&BA195","v":"    "},{"$f":"IF(COUNTIF(BB$2:BB195,BB195)=1,BB195,\"\")","v":""},{"$f":"IF(BE195=\"\",\"\",BE195&\" \"&BF195&\" \"&BG195)","v":""},{"$f":"IFERROR(INDEX(AW$2:AW$78,MATCH(ROW()-ROW($BC$1),$AV$2:$AV$78,0)),\"\")","v":""},{"$f":"IFERROR(INDEX(AX$2:AX$78,MATCH(ROW()-ROW($BC$1),$AV$2:$AV$78,0)),\"\")","v":""},{"$f":"IFERROR(INDEX(AY$2:AY$78,MATCH(ROW()-ROW($BC$1),$AV$2:$AV$78,0)),\"\")","v":""},{"$f":"IFERROR(INDEX(AZ$2:AZ$78,MATCH(ROW()-ROW($BC$1),$AV$2:$AV$78,0)),\"\")","v":""},{"$f":"IFERROR(INDEX(BA$2:BA$78,MATCH(ROW()-ROW($BC$1),$AV$2:$AV$78,0)),\"\")","v":""},{"$f":"IF($AY195=\"Tire Production\",$BB195,\"\")","v":""},{"$f":"+IF(BJ195=\"\",\"\",MAX(BK$1:BK194)+1)","v":""},{"$f":"IF(BM195=\"\",\"\",BM195&\" \"&BN195&\" \"&BO195&\" \"&BP195&\" \"&BQ195)","v":""},{"$f":"IFERROR(INDEX(AW$2:AW$78,MATCH(ROW()-ROW($BC$1),$BK$2:$BK$78,0)),\"\")","v":""},{"$f":"IFERROR(INDEX(AX$2:AX$78,MATCH(ROW()-ROW($BC$1),$BK$2:$BK$78,0)),\"\")","v":""},{"$f":"IFERROR(INDEX(AY$2:AY$78,MATCH(ROW()-ROW($BC$1),$BK$2:$BK$78,0)),\"\")","v":""},{"$f":"IFERROR(INDEX(AZ$2:AZ$78,MATCH(ROW()-ROW($BC$1),$BK$2:$BK$78,0)),\"\")","v":""},{"$f":"IFERROR(INDEX(BA$2:BA$78,MATCH(ROW()-ROW($BC$1),$BK$2:$BK$78,0)),\"\")","v":""},{"$f":"IF($AY195=\"Tire Cord Production\",$BB195,\"\")","v":""},{"$f":"+IF(BR195=\"\",\"\",MAX(BS$1:BS194)+1)","v":""},{"$f":"IF(BU195=\"\",\"\",BU195&\" \"&BV195&\" \"&BW195)","v":""},{"$f":"IFERROR(INDEX(AW$2:AW$78,MATCH(ROW()-ROW($BS$1),$BS$2:$BS$78,0)),\"\")","v":""},{"$f":"IFERROR(INDEX(AX$2:AX$78,MATCH(ROW()-ROW($BS$1),$BS$2:$BS$78,0)),\"\")","v":""},{"$f":"IFERROR(INDEX(AY$2:AY$78,MATCH(ROW()-ROW($BS$1),$BS$2:$BS$78,0)),\"\")","v":""},{"$f":"IFERROR(INDEX(AZ$2:AZ$78,MATCH(ROW()-ROW($BS$1),$BS$2:$BS$78,0)),\"\")","v":""},{"$f":"IFERROR(INDEX(BA$2:BA$78,MATCH(ROW()-ROW($BS$1),$BS$2:$BS$78,0)),\"\")","v":""},{"$f":"IF($AY195=\"Puncture Sealant Application\",$BB195,\"\")","v":""},{"$f":"+IF(BZ195=\"\",\"\",MAX(CA$1:CA194)+1)","v":""},{"$f":"IF(CC195=\"\",\"\",CC195&\" \"&CD195&\" \"&CE195)","v":""},{"$f":"IFERROR(INDEX(AW$2:AW$78,MATCH(ROW()-ROW($CA$1),$CA$2:$CA$78,0)),\"\")","v":""},{"$f":"IFERROR(INDEX(AX$2:AX$78,MATCH(ROW()-ROW($CA$1),$CA$2:$CA$78,0)),\"\")","v":""},{"$f":"IFERROR(INDEX(AY$2:AY$78,MATCH(ROW()-ROW($CA$1),$CA$2:$CA$78,0)),\"\")","v":""},{"$f":"IFERROR(INDEX(AZ$2:AZ$78,MATCH(ROW()-ROW($CA$1),$CA$2:$CA$78,0)),\"\")","v":""},{"$f":"IFERROR(INDEX(BA$2:BA$78,MATCH(ROW()-ROW($CA$1),$CA$2:$CA$78,0)),\"\")","v":""},{"$f":"IF($AY195=\"Rubber Processing\",$BB195,\"\")","v":""},{"$f":"+IF(CH195=\"\",\"\",MAX(CI$1:CI194)+1)","v":""},{"$f":"IFERROR(INDEX(AW$2:AW$78,MATCH(ROW()-ROW($CI$1),$CI$2:$CI$78,0)),\"\")","v":""},{"$f":"IFERROR(INDEX(AX$2:AX$78,MATCH(ROW()-ROW($CI$1),$CI$2:$CI$78,0)),\"\")","v":""},{"$f":"IFERROR(INDEX(AY$2:AY$78,MATCH(ROW()-ROW($CI$1),$CI$2:$CI$78,0)),\"\")","v":""},{"$f":"IFERROR(INDEX(AZ$2:AZ$78,MATCH(ROW()-ROW($CI$1),$CI$2:$CI$78,0)),\"\")","v":""},{"$f":"IFERROR(INDEX(BA$2:BA$78,MATCH(ROW()-ROW($CI$1),$CI$2:$CI$78,0)),\"\")","v":""},null,{"$f":"+IF(CQ195=\"\",\"\",MAX(CP$1:CP194)+1)","v":""},{"$f":"IF(Compliance_Options!B217=\"\",\"\",Compliance_Options!B217)","v":""},{"$f":"IF(Compliance_Options!C217=\"\",\"\",Compliance_Options!C217)","v":""},{"$f":"IF(Compliance_Options!D217=\"\",\"\",Compliance_Options!D217)","v":""},{"$f":"CQ195&\" \"&CR195&\" \"&CS195","v":"  "},{"$f":"IF(COUNTIF(CT$2:CT195,CT195)=1,CT195,\"\")","v":""},{"$f":"IFERROR(INDEX(CU$2:CU$78,MATCH(ROW()-ROW($CU$1),$CP$2:$CP$78,0)),\"\")","v":""},{"$f":"IFERROR(INDEX(CQ$2:CQ$78,MATCH(ROW()-ROW($CU$1),$CP$2:$CP$78,0)),\"\")","v":""},{"$f":"IFERROR(INDEX(CR$2:CR$78,MATCH(ROW()-ROW($CU$1),$CP$2:$CP$78,0)),\"\")","v":""},{"$f":"IFERROR(INDEX(CS$2:CS$78,MATCH(ROW()-ROW($CU$1),$CP$2:$CP$78,0)),\"\")","v":""}]
[null,null,null,null,null,null,null,null,null,null,null,null,null,null,null,null,null,null,null,null,null,null,null,null,null,null,null,null,null,null,null,null,null,null,null,null,null,null,null,null,null,null,null,null,null,null,null,{"$f":"+IF(AW196=\"\",\"\",MAX(AV$1:AV195)+1)","v":""},{"$f":"IF(Compliance_Options!B218=\"\",\"\",Compliance_Options!B218)","v":""},{"$f":"IF(Compliance_Options!C218=\"\",\"\",Compliance_Options!C218)","v":""},{"$f":"IF(Compliance_Options!D218=\"\",\"\",Compliance_Options!D218)","v":""},{"$f":"IF(Compliance_Options!E218=\"\",\"\",Compliance_Options!E218)","v":""},{"$f":"IF(Compliance_Options!F218=\"\",\"\",Compliance_Options!F218)","v":""},"    ",{"$f":"IF(COUNTIF(BB$2:BB196,BB196)=1,BB196,\"\")","v":""},"","","","","","","",{"$f":"+IF(BJ196=\"\",\"\",MAX(BK$1:BK195)+1)","v":""},"","","","","","","",{"$f":"+IF(BR196=\"\",\"\",MAX(BS$1:BS195)+1)","v":""},"","","","","","","",{"$f":"+IF(BZ196=\"\",\"\",MAX(CA$1:CA195)+1)","v":""},"","","","","","","",{"$f":"+IF(CH196=\"\",\"\",MAX(CI$1:CI195)+1)","v":""},"","","","","",null,{"$f":"+IF(CQ196=\"\",\"\",MAX(CP$1:CP195)+1)","v":""},{"$f":"IF(Compliance_Options!B218=\"\",\"\",Compliance_Options!B218)","v":""},{"$f":"IF(Compliance_Options!C218=\"\",\"\",Compliance_Options!C218)","v":""},{"$f":"IF(Compliance_Options!D218=\"\",\"\",Compliance_Options!D218)","v":""},"  ",{"$f":"IF(COUNTIF(CT$2:CT196,CT196)=1,CT196,\"\")","v":""},"","","",""]
[null,null,null,null,null,null,null,null,null,null,null,null,null,null,null,null,null,null,null,null,null,null,null,null,null,null,null,null,null,null,null,null,null,null,null,null,null,null,null,null,null,null,null,null,null,null,null,{"$f":"+IF(AW197=\"\",\"\",MAX(AV$1:AV196)+1)","v":""},{"$f":"IF(Compliance_Options!B219=\"\",\"\",Compliance_Options!B219)","v":""},{"$f":"IF(Compliance_Options!C219=\"\",\"\",Compliance_Options!C219)","v":""},{"$f":"IF(Compliance_Options!D219=\"\",\"\",Compliance_Options!D219)","v":""},{"$f":"IF(Compliance_Options!E219=\"\",\"\",Compliance_Options!E219)","v":""},{"$f":"IF(Compliance_Options!F219=\"\",\"\",Compliance_Options!F219)","v":""},"    ",{"$f":"IF(COUNTIF(BB$2:BB197,BB197)=1,BB197,\"\")","v":""},"","","","","","","",{"$f":"+IF(BJ197=\"\",\"\",MAX(BK$1:BK196)+1)","v":""},"","","","","","","",{"$f":"+IF(BR197=\"\",\"\",MAX(BS$1:BS196)+1)","v":""},"","","","","","","",{"$f":"+IF(BZ197=\"\",\"\",MAX(CA$1:CA196)+1)","v":""},"","","","","","","",{"$f":"+IF(CH197=\"\",\"\",MAX(CI$1:CI196)+1)","v":""},"","","","","",null,{"$f":"+IF(CQ197=\"\",\"\",MAX(CP$1:CP196)+1)","v":""},{"$f":"IF(Compliance_Options!B219=\"\",\"\",Compliance_Options!B219)","v":""},{"$f":"IF(Compliance_Options!C219=\"\",\"\",Compliance_Options!C219)","v":""},{"$f":"IF(Compliance_Options!D219=\"\",\"\",Compliance_Options!D219)","v":""},"  ",{"$f":"IF(COUNTIF(CT$2:CT197,CT197)=1,CT197,\"\")","v":""},"","","",""]
[null,null,null,null,null,null,null,null,null,null,null,null,null,null,null,null,null,null,null,null,null,null,null,null,null,null,null,null,null,null,null,null,null,null,null,null,null,null,null,null,null,null,null,null,null,null,null,{"$f":"+IF(AW198=\"\",\"\",MAX(AV$1:AV197)+1)","v":""},{"$f":"IF(Compliance_Options!B220=\"\",\"\",Compliance_Options!B220)","v":""},{"$f":"IF(Compliance_Options!C220=\"\",\"\",Compliance_Options!C220)","v":""},{"$f":"IF(Compliance_Options!D220=\"\",\"\",Compliance_Options!D220)","v":""},{"$f":"IF(Compliance_Options!E220=\"\",\"\",Compliance_Options!E220)","v":""},{"$f":"IF(Compliance_Options!F220=\"\",\"\",Compliance_Options!F220)","v":""},"    ",{"$f":"IF(COUNTIF(BB$2:BB198,BB198)=1,BB198,\"\")","v":""},"","","","","","","",{"$f":"+IF(BJ198=\"\",\"\",MAX(BK$1:BK197)+1)","v":""},"","","","","","","",{"$f":"+IF(BR198=\"\",\"\",MAX(BS$1:BS197)+1)","v":""},"","","","","","","",{"$f":"+IF(BZ198=\"\",\"\",MAX(CA$1:CA197)+1)","v":""},"","","","","","","",{"$f":"+IF(CH198=\"\",\"\",MAX(CI$1:CI197)+1)","v":""},"","","","","",null,{"$f":"+IF(CQ198=\"\",\"\",MAX(CP$1:CP197)+1)","v":""},{"$f":"IF(Compliance_Options!B220=\"\",\"\",Compliance_Options!B220)","v":""},{"$f":"IF(Compliance_Options!C220=\"\",\"\",Compliance_Options!C220)","v":""},{"$f":"IF(Compliance_Options!D220=\"\",\"\",Compliance_Options!D220)","v":""},"  ",{"$f":"IF(COUNTIF(CT$2:CT198,CT198)=1,CT198,\"\")","v":""},"","","",""]
[null,null,null,null,null,null,null,null,null,null,null,null,null,null,null,null,null,null,null,null,null,null,null,null,null,null,null,null,null,null,null,null,null,null,null,null,null,null,null,null,null,null,null,null,null,null,null,{"$f":"+IF(AW199=\"\",\"\",MAX(AV$1:AV198)+1)","v":""},{"$f":"IF(Compliance_Options!B221=\"\",\"\",Compliance_Options!B221)","v":""},{"$f":"IF(Compliance_Options!C221=\"\",\"\",Compliance_Options!C221)","v":""},{"$f":"IF(Compliance_Options!D221=\"\",\"\",Compliance_Options!D221)","v":""},{"$f":"IF(Compliance_Options!E221=\"\",\"\",Compliance_Options!E221)","v":""},{"$f":"IF(Compliance_Options!F221=\"\",\"\",Compliance_Options!F221)","v":""},"    ",{"$f":"IF(COUNTIF(BB$2:BB199,BB199)=1,BB199,\"\")","v":""},"","","","","","","",{"$f":"+IF(BJ199=\"\",\"\",MAX(BK$1:BK198)+1)","v":""},"","","","","","","",{"$f":"+IF(BR199=\"\",\"\",MAX(BS$1:BS198)+1)","v":""},"","","","","","","",{"$f":"+IF(BZ199=\"\",\"\",MAX(CA$1:CA198)+1)","v":""},"","","","","","","",{"$f":"+IF(CH199=\"\",\"\",MAX(CI$1:CI198)+1)","v":""},"","","","","",null,{"$f":"+IF(CQ199=\"\",\"\",MAX(CP$1:CP198)+1)","v":""},{"$f":"IF(Compliance_Options!B221=\"\",\"\",Compliance_Options!B221)","v":""},{"$f":"IF(Compliance_Options!C221=\"\",\"\",Compliance_Options!C221)","v":""},{"$f":"IF(Compliance_Options!D221=\"\",\"\",Compliance_Options!D221)","v":""},"  ",{"$f":"IF(COUNTIF(CT$2:CT199,CT199)=1,CT199,\"\")","v":""},"","","",""]
[null,null,null,null,null,null,null,null,null,null,null,null,null,null,null,null,null,null,null,null,null,null,null,null,null,null,null,null,null,null,null,null,null,null,null,null,null,null,null,null,null,null,null,null,null,null,null,{"$f":"+IF(AW200=\"\",\"\",MAX(AV$1:AV199)+1)","v":""},{"$f":"IF(Compliance_Options!B222=\"\",\"\",Compliance_Options!B222)","v":""},{"$f":"IF(Compliance_Options!C222=\"\",\"\",Compliance_Options!C222)","v":""},{"$f":"IF(Compliance_Options!D222=\"\",\"\",Compliance_Options!D222)","v":""},{"$f":"IF(Compliance_Options!E222=\"\",\"\",Compliance_Options!E222)","v":""},{"$f":"IF(Compliance_Options!F222=\"\",\"\",Compliance_Options!F222)","v":""},"    ",{"$f":"IF(COUNTIF(BB$2:BB200,BB200)=1,BB200,\"\")","v":""},"","","","","","","",{"$f":"+IF(BJ200=\"\",\"\",MAX(BK$1:BK199)+1)","v":""},"","","","","","","",{"$f":"+IF(BR200=\"\",\"\",MAX(BS$1:BS199)+1)","v":""},"","","","","","","",{"$f":"+IF(BZ200=\"\",\"\",MAX(CA$1:CA199)+1)","v":""},"","","","","","","",{"$f":"+IF(CH200=\"\",\"\",MAX(CI$1:CI199)+1)","v":""},"","","","","",null,{"$f":"+IF(CQ200=\"\",\"\",MAX(CP$1:CP199)+1)","v":""},{"$f":"IF(Compliance_Options!B222=\"\",\"\",Compliance_Options!B222)","v":""},{"$f":"IF(Compliance_Options!C222=\"\",\"\",Compliance_Options!C222)","v":""},{"$f":"IF(Compliance_Options!D222=\"\",\"\",Compliance_Options!D222)","v":""},"  ",{"$f":"IF(COUNTIF(CT$2:CT200,CT200)=1,CT200,\"\")","v":""},"","","",""]
[null,null,null,null,null,null,null,null,null,null,null,null,null,null,null,null,null,null,null,null,null,null,null,null,null,null,null,null,null,null,null,null,null,null,null,null,null,null,null,null,null,null,null,null,null,null,null,{"$f":"+IF(AW201=\"\",\"\",MAX(AV$1:AV200)+1)","v":""},{"$f":"IF(Compliance_Options!B223=\"\",\"\",Compliance_Options!B223)","v":""},{"$f":"IF(Compliance_Options!C223=\"\",\"\",Compliance_Options!C223)","v":""},{"$f":"IF(Compliance_Options!D223=\"\",\"\",Compliance_Options!D223)","v":""},{"$f":"IF(Compliance_Options!E223=\"\",\"\",Compliance_Options!E223)","v":""},{"$f":"IF(Compliance_Options!F223=\"\",\"\",Compliance_Options!F223)","v":""},"    ",{"$f":"IF(COUNTIF(BB$2:BB201,BB201)=1,BB201,\"\")","v":""},"","","","","","","",{"$f":"+IF(BJ201=\"\",\"\",MAX(BK$1:BK200)+1)","v":""},"","","","","","","",{"$f":"+IF(BR201=\"\",\"\",MAX(BS$1:BS200)+1)","v":""},"","","","","","","",{"$f":"+IF(BZ201=\"\",\"\",MAX(CA$1:CA200)+1)","v":""},"","","","","","","",{"$f":"+IF(CH201=\"\",\"\",MAX(CI$1:CI200)+1)","v":""},"","","","","",null,{"$f":"+IF(CQ201=\"\",\"\",MAX(CP$1:CP200)+1)","v":""},{"$f":"IF(Compliance_Options!B223=\"\",\"\",Compliance_Options!B223)","v":""},{"$f":"IF(Compliance_Options!C223=\"\",\"\",Compliance_Options!C223)","v":""},{"$f":"IF(Compliance_Options!D223=\"\",\"\",Compliance_Options!D223)","v":""},"  ",{"$f":"IF(COUNTIF(CT$2:CT201,CT201)=1,CT201,\"\")","v":""},"","","",""]
[null,null,null,null,null,null,null,null,null,null,null,null,null,null,null,null,null,null,null,null,null,null,null,null,null,null,null,null,null,null,null,null,null,null,null,null,null,null,null,null,null,null,null,null,null,null,null,{"$f":"+IF(AW202=\"\",\"\",MAX(AV$1:AV201)+1)","v":""},{"$f":"IF(Compliance_Options!B224=\"\",\"\",Compliance_Options!B224)","v":""},{"$f":"IF(Compliance_Options!C224=\"\",\"\",Compliance_Options!C224)","v":""},{"$f":"IF(Compliance_Options!D224=\"\",\"\",Compliance_Options!D224)","v":""},{"$f":"IF(Compliance_Options!E224=\"\",\"\",Compliance_Options!E224)","v":""},{"$f":"IF(Compliance_Options!F224=\"\",\"\",Compliance_Options!F224)","v":""},"    ",{"$f":"IF(COUNTIF(BB$2:BB202,BB202)=1,BB202,\"\")","v":""},"","","","","","","",{"$f":"+IF(BJ202=\"\",\"\",MAX(BK$1:BK201)+1)","v":""},"","","","","","","",{"$f":"+IF(BR202=\"\",\"\",MAX(BS$1:BS201)+1)","v":""},"","","","","","","",{"$f":"+IF(BZ202=\"\",\"\",MAX(CA$1:CA201)+1)","v":""},"","","","","","","",{"$f":"+IF(CH202=\"\",\"\",MAX(CI$1:CI201)+1)","v":""},"","","","","",null,{"$f":"+IF(CQ202=\"\",\"\",MAX(CP$1:CP201)+1)","v":""},{"$f":"IF(Compliance_Options!B224=\"\",\"\",Compliance_Options!B224)","v":""},{"$f":"IF(Compliance_Options!C224=\"\",\"\",Compliance_Options!C224)","v":""},{"$f":"IF(Compliance_Options!D224=\"\",\"\",Compliance_Options!D224)","v":""},"  ",{"$f":"IF(COUNTIF(CT$2:CT202,CT202)=1,CT202,\"\")","v":""},"","","",""]
[null,null,null,null,null,null,null,null,null,null,null,null,null,null,null,null,null,null,null,null,null,null,null,null,null,null,null,null,null,null,null,null,null,null,null,null,null,null,null,null,null,null,null,null,null,null,null,{"$f":"+IF(AW203=\"\",\"\",MAX(AV$1:AV202)+1)","v":""},{"$f":"IF(Compliance_Options!B225=\"\",\"\",Compliance_Options!B225)","v":""},{"$f":"IF(Compliance_Options!C225=\"\",\"\",Compliance_Options!C225)","v":""},{"$f":"IF(Compliance_Options!D225=\"\",\"\",Compliance_Options!D225)","v":""},{"$f":"IF(Compliance_Options!E225=\"\",\"\",Compliance_Options!E225)","v":""},{"$f":"IF(Compliance_Options!F225=\"\",\"\",Compliance_Options!F225)","v":""},"    ",{"$f":"IF(COUNTIF(BB$2:BB203,BB203)=1,BB203,\"\")","v":""},"","","","","","","",{"$f":"+IF(BJ203=\"\",\"\",MAX(BK$1:BK202)+1)","v":""},"","","","","","","",{"$f":"+IF(BR203=\"\",\"\",MAX(BS$1:BS202)+1)","v":""},"","","","","","","",{"$f":"+IF(BZ203=\"\",\"\",MAX(CA$1:CA202)+1)","v":""},"","","","","","","",{"$f":"+IF(CH203=\"\",\"\",MAX(CI$1:CI202)+1)","v":""},"","","","","",null,{"$f":"+IF(CQ203=\"\",\"\",MAX(CP$1:CP202)+1)","v":""},{"$f":"IF(Compliance_Options!B225=\"\",\"\",Compliance_Options!B225)","v":""},{"$f":"IF(Compliance_Options!C225=\"\",\"\",Compliance_Options!C225)","v":""},{"$f":"IF(Compliance_Options!D225=\"\",\"\",Compliance_Options!D225)","v":""},"  ",{"$f":"IF(COUNTIF(CT$2:CT203,CT203)=1,CT203,\"\")","v":""},"","","",""]
[null,null,null,null,null,null,null,null,null,null,null,null,null,null,null,null,null,null,null,null,null,null,null,null,null,null,null,null,null,null,null,null,null,null,null,null,null,null,null,null,null,null,null,null,null,null,null,{"$f":"+IF(AW204=\"\",\"\",MAX(AV$1:AV203)+1)","v":""},{"$f":"IF(Compliance_Options!B226=\"\",\"\",Compliance_Options!B226)","v":""},{"$f":"IF(Compliance_Options!C226=\"\",\"\",Compliance_Options!C226)","v":""},{"$f":"IF(Compliance_Options!D226=\"\",\"\",Compliance_Options!D226)","v":""},{"$f":"IF(Compliance_Options!E226=\"\",\"\",Compliance_Options!E226)","v":""},{"$f":"IF(Compliance_Options!F226=\"\",\"\",Compliance_Options!F226)","v":""},"    ",{"$f":"IF(COUNTIF(BB$2:BB204,BB204)=1,BB204,\"\")","v":""},"","","","","","","",{"$f":"+IF(BJ204=\"\",\"\",MAX(BK$1:BK203)+1)","v":""},"","","","","","","",{"$f":"+IF(BR204=\"\",\"\",MAX(BS$1:BS203)+1)","v":""},"","","","","","","",{"$f":"+IF(BZ204=\"\",\"\",MAX(CA$1:CA203)+1)","v":""},"","","","","","","",{"$f":"+IF(CH204=\"\",\"\",MAX(CI$1:CI203)+1)","v":""},"","","","","",null,{"$f":"+IF(CQ204=\"\",\"\",MAX(CP$1:CP203)+1)","v":""},{"$f":"IF(Compliance_Options!B226=\"\",\"\",Compliance_Options!B226)","v":""},{"$f":"IF(Compliance_Options!C226=\"\",\"\",Compliance_Options!C226)","v":""},{"$f":"IF(Compliance_Options!D226=\"\",\"\",Compliance_Options!D226)","v":""},"  ",{"$f":"IF(COUNTIF(CT$2:CT204,CT204)=1,CT204,\"\")","v":""},"","","",""]
[null,null,null,null,null,null,null,null,null,null,null,null,null,null,null,null,null,null,null,null,null,null,null,null,null,null,null,null,null,null,null,null,null,null,null,null,null,null,null,null,null,null,null,null,null,null,null,{"$f":"+IF(AW205=\"\",\"\",MAX(AV$1:AV204)+1)","v":""},{"$f":"IF(Compliance_Options!B227=\"\",\"\",Compliance_Options!B227)","v":""},{"$f":"IF(Compliance_Options!C227=\"\",\"\",Compliance_Options!C227)","v":""},{"$f":"IF(Compliance_Options!D227=\"\",\"\",Compliance_Options!D227)","v":""},{"$f":"IF(Compliance_Options!E227=\"\",\"\",Compliance_Options!E227)","v":""},{"$f":"IF(Compliance_Options!F227=\"\",\"\",Compliance_Options!F227)","v":""},"    ",{"$f":"IF(COUNTIF(BB$2:BB205,BB205)=1,BB205,\"\")","v":""},"","","","","","","",{"$f":"+IF(BJ205=\"\",\"\",MAX(BK$1:BK204)+1)","v":""},"","","","","","","",{"$f":"+IF(BR205=\"\",\"\",MAX(BS$1:BS204)+1)","v":""},"","","","","","","",{"$f":"+IF(BZ205=\"\",\"\",MAX(CA$1:CA204)+1)","v":""},"","","","","","","",{"$f":"+IF(CH205=\"\",\"\",MAX(CI$1:CI204)+1)","v":""},"","","","","",null,{"$f":"+IF(CQ205=\"\",\"\",MAX(CP$1:CP204)+1)","v":""},{"$f":"IF(Compliance_Options!B227=\"\",\"\",Compliance_Options!B227)","v":""},{"$f":"IF(Compliance_Options!C227=\"\",\"\",Compliance_Options!C227)","v":""},{"$f":"IF(Compliance_Options!D227=\"\",\"\",Compliance_Options!D227)","v":""},"  ",{"$f":"IF(COUNTIF(CT$2:CT205,CT205)=1,CT205,\"\")","v":""},"","","",""]
[null,null,null,null,null,null,null,null,null,null,null,null,null,null,null,null,null,null,null,null,null,null,null,null,null,null,null,null,null,null,null,null,null,null,null,null,null,null,null,null,null,null,null,null,null,null,null,{"$f":"+IF(AW206=\"\",\"\",MAX(AV$1:AV205)+1)","v":""},{"$f":"IF(Compliance_Options!B228=\"\",\"\",Compliance_Options!B228)","v":""},{"$f":"IF(Compliance_Options!C228=\"\",\"\",Compliance_Options!C228)","v":""},{"$f":"IF(Compliance_Options!D228=\"\",\"\",Compliance_Options!D228)","v":""},{"$f":"IF(Compliance_Options!E228=\"\",\"\",Compliance_Options!E228)","v":""},{"$f":"IF(Compliance_Options!F228=\"\",\"\",Compliance_Options!F228)","v":""},"    ",{"$f":"IF(COUNTIF(BB$2:BB206,BB206)=1,BB206,\"\")","v":""},"","","","","","","",{"$f":"+IF(BJ206=\"\",\"\",MAX(BK$1:BK205)+1)","v":""},"","","","","","","",{"$f":"+IF(BR206=\"\",\"\",MAX(BS$1:BS205)+1)","v":""},"","","","","","","",{"$f":"+IF(BZ206=\"\",\"\",MAX(CA$1:CA205)+1)","v":""},"","","","","","","",{"$f":"+IF(CH206=\"\",\"\",MAX(CI$1:CI205)+1)","v":""},"","","","","",null,{"$f":"+IF(CQ206=\"\",\"\",MAX(CP$1:CP205)+1)","v":""},{"$f":"IF(Compliance_Options!B228=\"\",\"\",Compliance_Options!B228)","v":""},{"$f":"IF(Compliance_Options!C228=\"\",\"\",Compliance_Options!C228)","v":""},{"$f":"IF(Compliance_Options!D228=\"\",\"\",Compliance_Options!D228)","v":""},"  ",{"$f":"IF(COUNTIF(CT$2:CT206,CT206)=1,CT206,\"\")","v":""},"","","",""]
[null,null,null,null,null,null,null,null,null,null,null,null,null,null,null,null,null,null,null,null,null,null,null,null,null,null,null,null,null,null,null,null,null,null,null,null,null,null,null,null,null,null,null,null,null,null,null,{"$f":"+IF(AW207=\"\",\"\",MAX(AV$1:AV206)+1)","v":""},{"$f":"IF(Compliance_Options!B229=\"\",\"\",Compliance_Options!B229)","v":""},{"$f":"IF(Compliance_Options!C229=\"\",\"\",Compliance_Options!C229)","v":""},{"$f":"IF(Compliance_Options!D229=\"\",\"\",Compliance_Options!D229)","v":""},{"$f":"IF(Compliance_Options!E229=\"\",\"\",Compliance_Options!E229)","v":""},{"$f":"IF(Compliance_Options!F229=\"\",\"\",Compliance_Options!F229)","v":""},"    ",{"$f":"IF(COUNTIF(BB$2:BB207,BB207)=1,BB207,\"\")","v":""},"","","","","","","",{"$f":"+IF(BJ207=\"\",\"\",MAX(BK$1:BK206)+1)","v":""},"","","","","","","",{"$f":"+IF(BR207=\"\",\"\",MAX(BS$1:BS206)+1)","v":""},"","","","","","","",{"$f":"+IF(BZ207=\"\",\"\",MAX(CA$1:CA206)+1)","v":""},"","","","","","","",{"$f":"+IF(CH207=\"\",\"\",MAX(CI$1:CI206)+1)","v":""},"","","","","",null,{"$f":"+IF(CQ207=\"\",\"\",MAX(CP$1:CP206)+1)","v":""},{"$f":"IF(Compliance_Options!B229=\"\",\"\",Compliance_Options!B229)","v":""},{"$f":"IF(Compliance_Options!C229=\"\",\"\",Compliance_Options!C229)","v":""},{"$f":"IF(Compliance_Options!D229=\"\",\"\",Compliance_Options!D229)","v":""},"  ",{"$f":"IF(COUNTIF(CT$2:CT207,CT207)=1,CT207,\"\")","v":""},"","","",""]
[null,null,null,null,null,null,null,null,null,null,null,null,null,null,null,null,null,null,null,null,null,null,null,null,null,null,null,null,null,null,null,null,null,null,null,null,null,null,null,null,null,null,null,null,null,null,null,{"$f":"+IF(AW208=\"\",\"\",MAX(AV$1:AV207)+1)","v":""},{"$f":"IF(Compliance_Options!B230=\"\",\"\",Compliance_Options!B230)","v":""},{"$f":"IF(Compliance_Options!C230=\"\",\"\",Compliance_Options!C230)","v":""},{"$f":"IF(Compliance_Options!D230=\"\",\"\",Compliance_Options!D230)","v":""},{"$f":"IF(Compliance_Options!E230=\"\",\"\",Compliance_Options!E230)","v":""},{"$f":"IF(Compliance_Options!F230=\"\",\"\",Compliance_Options!F230)","v":""},"    ",{"$f":"IF(COUNTIF(BB$2:BB208,BB208)=1,BB208,\"\")","v":""},"","","","","","","",{"$f":"+IF(BJ208=\"\",\"\",MAX(BK$1:BK207)+1)","v":""},"","","","","","","",{"$f":"+IF(BR208=\"\",\"\",MAX(BS$1:BS207)+1)","v":""},"","","","","","","",{"$f":"+IF(BZ208=\"\",\"\",MAX(CA$1:CA207)+1)","v":""},"","","","","","","",{"$f":"+IF(CH208=\"\",\"\",MAX(CI$1:CI207)+1)","v":""},"","","","","",null,{"$f":"+IF(CQ208=\"\",\"\",MAX(CP$1:CP207)+1)","v":""},{"$f":"IF(Compliance_Options!B230=\"\",\"\",Compliance_Options!B230)","v":""},{"$f":"IF(Compliance_Options!C230=\"\",\"\",Compliance_Options!C230)","v":""},{"$f":"IF(Compliance_Options!D230=\"\",\"\",Compliance_Options!D230)","v":""},"  ",{"$f":"IF(COUNTIF(CT$2:CT208,CT208)=1,CT208,\"\")","v":""},"","","",""]
[null,null,null,null,null,null,null,null,null,null,null,null,null,null,null,null,null,null,null,null,null,null,null,null,null,null,null,null,null,null,null,null,null,null,null,null,null,null,null,null,null,null,null,null,null,null,null,{"$f":"+IF(AW209=\"\",\"\",MAX(AV$1:AV208)+1)","v":""},{"$f":"IF(Compliance_Options!B231=\"\",\"\",Compliance_Options!B231)","v":""},{"$f":"IF(Compliance_Options!C231=\"\",\"\",Compliance_Options!C231)","v":""},{"$f":"IF(Compliance_Options!D231=\"\",\"\",Compliance_Options!D231)","v":""},{"$f":"IF(Compliance_Options!E231=\"\",\"\",Compliance_Options!E231)","v":""},{"$f":"IF(Compliance_Options!F231=\"\",\"\",Compliance_Options!F231)","v":""},"    ",{"$f":"IF(COUNTIF(BB$2:BB209,BB209)=1,BB209,\"\")","v":""},"","","","","","","",{"$f":"+IF(BJ209=\"\",\"\",MAX(BK$1:BK208)+1)","v":""},"","","","","","","",{"$f":"+IF(BR209=\"\",\"\",MAX(BS$1:BS208)+1)","v":""},"","","","","","","",{"$f":"+IF(BZ209=\"\",\"\",MAX(CA$1:CA208)+1)","v":""},"","","","","","","",{"$f":"+IF(CH209=\"\",\"\",MAX(CI$1:CI208)+1)","v":""},"","","","","",null,{"$f":"+IF(CQ209=\"\",\"\",MAX(CP$1:CP208)+1)","v":""},{"$f":"IF(Compliance_Options!B231=\"\",\"\",Compliance_Options!B231)","v":""},{"$f":"IF(Compliance_Options!C231=\"\",\"\",Compliance_Options!C231)","v":""},{"$f":"IF(Compliance_Options!D231=\"\",\"\",Compliance_Options!D231)","v":""},"  ",{"$f":"IF(COUNTIF(CT$2:CT209,CT209)=1,CT209,\"\")","v":""},"","","",""]
[null,null,null,null,null,null,null,null,null,null,null,null,null,null,null,null,null,null,null,null,null,null,null,null,null,null,null,null,null,null,null,null,null,null,null,null,null,null,null,null,null,null,null,null,null,null,null,{"$f":"+IF(AW210=\"\",\"\",MAX(AV$1:AV209)+1)","v":""},{"$f":"IF(Compliance_Options!B232=\"\",\"\",Compliance_Options!B232)","v":""},{"$f":"IF(Compliance_Options!C232=\"\",\"\",Compliance_Options!C232)","v":""},{"$f":"IF(Compliance_Options!D232=\"\",\"\",Compliance_Options!D232)","v":""},{"$f":"IF(Compliance_Options!E232=\"\",\"\",Compliance_Options!E232)","v":""},{"$f":"IF(Compliance_Options!F232=\"\",\"\",Compliance_Options!F232)","v":""},"    ",{"$f":"IF(COUNTIF(BB$2:BB210,BB210)=1,BB210,\"\")","v":""},"","","","","","","",{"$f":"+IF(BJ210=\"\",\"\",MAX(BK$1:BK209)+1)","v":""},"","","","","","","",{"$f":"+IF(BR210=\"\",\"\",MAX(BS$1:BS209)+1)","v":""},"","","","","","","",{"$f":"+IF(BZ210=\"\",\"\",MAX(CA$1:CA209)+1)","v":""},"","","","","","","",{"$f":"+IF(CH210=\"\",\"\",MAX(CI$1:CI209)+1)","v":""},"","","","","",null,{"$f":"+IF(CQ210=\"\",\"\",MAX(CP$1:CP209)+1)","v":""},{"$f":"IF(Compliance_Options!B232=\"\",\"\",Compliance_Options!B232)","v":""},{"$f":"IF(Compliance_Options!C232=\"\",\"\",Compliance_Options!C232)","v":""},{"$f":"IF(Compliance_Options!D232=\"\",\"\",Compliance_Options!D232)","v":""},"  ",{"$f":"IF(COUNTIF(CT$2:CT210,CT210)=1,CT210,\"\")","v":""},"","","",""]
[null,null,null,null,null,null,null,null,null,null,null,null,null,null,null,null,null,null,null,null,null,null,null,null,null,null,null,null,null,null,null,null,null,null,null,null,null,null,null,null,null,null,null,null,null,null,null,{"$f":"+IF(AW211=\"\",\"\",MAX(AV$1:AV210)+1)","v":""},{"$f":"IF(Compliance_Options!B233=\"\",\"\",Compliance_Options!B233)","v":""},{"$f":"IF(Compliance_Options!C233=\"\",\"\",Compliance_Options!C233)","v":""},{"$f":"IF(Compliance_Options!D233=\"\",\"\",Compliance_Options!D233)","v":""},{"$f":"IF(Compliance_Options!E233=\"\",\"\",Compliance_Options!E233)","v":""},{"$f":"IF(Compliance_Options!F233=\"\",\"\",Compliance_Options!F233)","v":""},"    ",{"$f":"IF(COUNTIF(BB$2:BB211,BB211)=1,BB211,\"\")","v":""},"","","","","","","",{"$f":"+IF(BJ211=\"\",\"\",MAX(BK$1:BK210)+1)","v":""},"","","","","","","",{"$f":"+IF(BR211=\"\",\"\",MAX(BS$1:BS210)+1)","v":""},"","","","","","","",{"$f":"+IF(BZ211=\"\",\"\",MAX(CA$1:CA210)+1)","v":""},"","","","","","","",{"$f":"+IF(CH211=\"\",\"\",MAX(CI$1:CI210)+1)","v":""},"","","","","",null,{"$f":"+IF(CQ211=\"\",\"\",MAX(CP$1:CP210)+1)","v":""},{"$f":"IF(Compliance_Options!B233=\"\",\"\",Compliance_Options!B233)","v":""},{"$f":"IF(Compliance_Options!C233=\"\",\"\",Compliance_Options!C233)","v":""},{"$f":"IF(Compliance_Options!D233=\"\",\"\",Compliance_Options!D233)","v":""},"  ",{"$f":"IF(COUNTIF(CT$2:CT211,CT211)=1,CT211,\"\")","v":""},"","","",""]
[null,null,null,null,null,null,null,null,null,null,null,null,null,null,null,null,null,null,null,null,null,null,null,null,null,null,null,null,null,null,null,null,null,null,null,null,null,null,null,null,null,null,null,null,null,null,null,{"$f":"+IF(AW212=\"\",\"\",MAX(AV$1:AV211)+1)","v":""},{"$f":"IF(Compliance_Options!B234=\"\",\"\",Compliance_Options!B234)","v":""},{"$f":"IF(Compliance_Options!C234=\"\",\"\",Compliance_Options!C234)","v":""},{"$f":"IF(Compliance_Options!D234=\"\",\"\",Compliance_Options!D234)","v":""},{"$f":"IF(Compliance_Options!E234=\"\",\"\",Compliance_Options!E234)","v":""},{"$f":"IF(Compliance_Options!F234=\"\",\"\",Compliance_Options!F234)","v":""},"    ",{"$f":"IF(COUNTIF(BB$2:BB212,BB212)=1,BB212,\"\")","v":""},"","","","","","","",{"$f":"+IF(BJ212=\"\",\"\",MAX(BK$1:BK211)+1)","v":""},"","","","","","","",{"$f":"+IF(BR212=\"\",\"\",MAX(BS$1:BS211)+1)","v":""},"","","","","","","",{"$f":"+IF(BZ212=\"\",\"\",MAX(CA$1:CA211)+1)","v":""},"","","","","","","",{"$f":"+IF(CH212=\"\",\"\",MAX(CI$1:CI211)+1)","v":""},"","","","","",null,{"$f":"+IF(CQ212=\"\",\"\",MAX(CP$1:CP211)+1)","v":""},{"$f":"IF(Compliance_Options!B234=\"\",\"\",Compliance_Options!B234)","v":""},{"$f":"IF(Compliance_Options!C234=\"\",\"\",Compliance_Options!C234)","v":""},{"$f":"IF(Compliance_Options!D234=\"\",\"\",Compliance_Options!D234)","v":""},"  ",{"$f":"IF(COUNTIF(CT$2:CT212,CT212)=1,CT212,\"\")","v":""},"","","",""]
[null,null,null,null,null,null,null,null,null,null,null,null,null,null,null,null,null,null,null,null,null,null,null,null,null,null,null,null,null,null,null,null,null,null,null,null,null,null,null,null,null,null,null,null,null,null,null,{"$f":"+IF(AW213=\"\",\"\",MAX(AV$1:AV212)+1)","v":""},{"$f":"IF(Compliance_Options!B235=\"\",\"\",Compliance_Options!B235)","v":""},{"$f":"IF(Compliance_Options!C235=\"\",\"\",Compliance_Options!C235)","v":""},{"$f":"IF(Compliance_Options!D235=\"\",\"\",Compliance_Options!D235)","v":""},{"$f":"IF(Compliance_Options!E235=\"\",\"\",Compliance_Options!E235)","v":""},{"$f":"IF(Compliance_Options!F235=\"\",\"\",Compliance_Options!F235)","v":""},"    ",{"$f":"IF(COUNTIF(BB$2:BB213,BB213)=1,BB213,\"\")","v":""},"","","","","","","",{"$f":"+IF(BJ213=\"\",\"\",MAX(BK$1:BK212)+1)","v":""},"","","","","","","",{"$f":"+IF(BR213=\"\",\"\",MAX(BS$1:BS212)+1)","v":""},"","","","","","","",{"$f":"+IF(BZ213=\"\",\"\",MAX(CA$1:CA212)+1)","v":""},"","","","","","","",{"$f":"+IF(CH213=\"\",\"\",MAX(CI$1:CI212)+1)","v":""},"","","","","",null,{"$f":"+IF(CQ213=\"\",\"\",MAX(CP$1:CP212)+1)","v":""},{"$f":"IF(Compliance_Options!B235=\"\",\"\",Compliance_Options!B235)","v":""},{"$f":"IF(Compliance_Options!C235=\"\",\"\",Compliance_Options!C235)","v":""},{"$f":"IF(Compliance_Options!D235=\"\",\"\",Compliance_Options!D235)","v":""},"  ",{"$f":"IF(COUNTIF(CT$2:CT213,CT213)=1,CT213,\"\")","v":""},"","","",""]
[null,null,null,null,null,null,null,null,null,null,null,null,null,null,null,null,null,null,null,null,null,null,null,null,null,null,null,null,null,null,null,null,null,null,null,null,null,null,null,null,null,null,null,null,null,null,null,{"$f":"+IF(AW214=\"\",\"\",MAX(AV$1:AV213)+1)","v":""},{"$f":"IF(Compliance_Options!B236=\"\",\"\",Compliance_Options!B236)","v":""},{"$f":"IF(Compliance_Options!C236=\"\",\"\",Compliance_Options!C236)","v":""},{"$f":"IF(Compliance_Options!D236=\"\",\"\",Compliance_Options!D236)","v":""},{"$f":"IF(Compliance_Options!E236=\"\",\"\",Compliance_Options!E236)","v":""},{"$f":"IF(Compliance_Options!F236=\"\",\"\",Compliance_Options!F236)","v":""},"    ",{"$f":"IF(COUNTIF(BB$2:BB214,BB214)=1,BB214,\"\")","v":""},"","","","","","","",{"$f":"+IF(BJ214=\"\",\"\",MAX(BK$1:BK213)+1)","v":""},"","","","","","","",{"$f":"+IF(BR214=\"\",\"\",MAX(BS$1:BS213)+1)","v":""},"","","","","","","",{"$f":"+IF(BZ214=\"\",\"\",MAX(CA$1:CA213)+1)","v":""},"","","","","","","",{"$f":"+IF(CH214=\"\",\"\",MAX(CI$1:CI213)+1)","v":""},"","","","","",null,{"$f":"+IF(CQ214=\"\",\"\",MAX(CP$1:CP213)+1)","v":""},{"$f":"IF(Compliance_Options!B236=\"\",\"\",Compliance_Options!B236)","v":""},{"$f":"IF(Compliance_Options!C236=\"\",\"\",Compliance_Options!C236)","v":""},{"$f":"IF(Compliance_Options!D236=\"\",\"\",Compliance_Options!D236)","v":""},"  ",{"$f":"IF(COUNTIF(CT$2:CT214,CT214)=1,CT214,\"\")","v":""},"","","",""]
[null,null,null,null,null,null,null,null,null,null,null,null,null,null,null,null,null,null,null,null,null,null,null,null,null,null,null,null,null,null,null,null,null,null,null,null,null,null,null,null,null,null,null,null,null,null,null,{"$f":"+IF(AW215=\"\",\"\",MAX(AV$1:AV214)+1)","v":""},{"$f":"IF(Compliance_Options!B237=\"\",\"\",Compliance_Options!B237)","v":""},{"$f":"IF(Compliance_Options!C237=\"\",\"\",Compliance_Options!C237)","v":""},{"$f":"IF(Compliance_Options!D237=\"\",\"\",Compliance_Options!D237)","v":""},{"$f":"IF(Compliance_Options!E237=\"\",\"\",Compliance_Options!E237)","v":""},{"$f":"IF(Compliance_Options!F237=\"\",\"\",Compliance_Options!F237)","v":""},"    ",{"$f":"IF(COUNTIF(BB$2:BB215,BB215)=1,BB215,\"\")","v":""},"","","","","","","",{"$f":"+IF(BJ215=\"\",\"\",MAX(BK$1:BK214)+1)","v":""},"","","","","","","",{"$f":"+IF(BR215=\"\",\"\",MAX(BS$1:BS214)+1)","v":""},"","","","","","","",{"$f":"+IF(BZ215=\"\",\"\",MAX(CA$1:CA214)+1)","v":""},"","","","","","","",{"$f":"+IF(CH215=\"\",\"\",MAX(CI$1:CI214)+1)","v":""},"","","","","",null,{"$f":"+IF(CQ215=\"\",\"\",MAX(CP$1:CP214)+1)","v":""},{"$f":"IF(Compliance_Options!B237=\"\",\"\",Compliance_Options!B237)","v":""},{"$f":"IF(Compliance_Options!C237=\"\",\"\",Compliance_Options!C237)","v":""},{"$f":"IF(Compliance_Options!D237=\"\",\"\",Compliance_Options!D237)","v":""},"  ",{"$f":"IF(COUNTIF(CT$2:CT215,CT215)=1,CT215,\"\")","v":""},"","","",""]
[null,null,null,null,null,null,null,null,null,null,null,null,null,null,null,null,null,null,null,null,null,null,null,null,null,null,null,null,null,null,null,null,null,null,null,null,null,null,null,null,null,null,null,null,null,null,null,{"$f":"+IF(AW216=\"\",\"\",MAX(AV$1:AV215)+1)","v":""},{"$f":"IF(Compliance_Options!B238=\"\",\"\",Compliance_Options!B238)","v":""},{"$f":"IF(Compliance_Options!C238=\"\",\"\",Compliance_Options!C238)","v":""},{"$f":"IF(Compliance_Options!D238=\"\",\"\",Compliance_Options!D238)","v":""},{"$f":"IF(Compliance_Options!E238=\"\",\"\",Compliance_Options!E238)","v":""},{"$f":"IF(Compliance_Options!F238=\"\",\"\",Compliance_Options!F238)","v":""},"    ",{"$f":"IF(COUNTIF(BB$2:BB216,BB216)=1,BB216,\"\")","v":""},"","","","","","","",{"$f":"+IF(BJ216=\"\",\"\",MAX(BK$1:BK215)+1)","v":""},"","","","","","","",{"$f":"+IF(BR216=\"\",\"\",MAX(BS$1:BS215)+1)","v":""},"","","","","","","",{"$f":"+IF(BZ216=\"\",\"\",MAX(CA$1:CA215)+1)","v":""},"","","","","","","",{"$f":"+IF(CH216=\"\",\"\",MAX(CI$1:CI215)+1)","v":""},"","","","","",null,{"$f":"+IF(CQ216=\"\",\"\",MAX(CP$1:CP215)+1)","v":""},{"$f":"IF(Compliance_Options!B238=\"\",\"\",Compliance_Options!B238)","v":""},{"$f":"IF(Compliance_Options!C238=\"\",\"\",Compliance_Options!C238)","v":""},{"$f":"IF(Compliance_Options!D238=\"\",\"\",Compliance_Options!D238)","v":""},"  ",{"$f":"IF(COUNTIF(CT$2:CT216,CT216)=1,CT216,\"\")","v":""},"","","",""]
[null,null,null,null,null,null,null,null,null,null,null,null,null,null,null,null,null,null,null,null,null,null,null,null,null,null,null,null,null,null,null,null,null,null,null,null,null,null,null,null,null,null,null,null,null,null,null,{"$f":"+IF(AW217=\"\",\"\",MAX(AV$1:AV216)+1)","v":""},{"$f":"IF(Compliance_Options!B239=\"\",\"\",Compliance_Options!B239)","v":""},{"$f":"IF(Compliance_Options!C239=\"\",\"\",Compliance_Options!C239)","v":""},{"$f":"IF(Compliance_Options!D239=\"\",\"\",Compliance_Options!D239)","v":""},{"$f":"IF(Compliance_Options!E239=\"\",\"\",Compliance_Options!E239)","v":""},{"$f":"IF(Compliance_Options!F239=\"\",\"\",Compliance_Options!F239)","v":""},"    ",{"$f":"IF(COUNTIF(BB$2:BB217,BB217)=1,BB217,\"\")","v":""},"","","","","","","",{"$f":"+IF(BJ217=\"\",\"\",MAX(BK$1:BK216)+1)","v":""},"","","","","","","",{"$f":"+IF(BR217=\"\",\"\",MAX(BS$1:BS216)+1)","v":""},"","","","","","","",{"$f":"+IF(BZ217=\"\",\"\",MAX(CA$1:CA216)+1)","v":""},"","","","","","","",{"$f":"+IF(CH217=\"\",\"\",MAX(CI$1:CI216)+1)","v":""},"","","","","",null,{"$f":"+IF(CQ217=\"\",\"\",MAX(CP$1:CP216)+1)","v":""},{"$f":"IF(Compliance_Options!B239=\"\",\"\",Compliance_Options!B239)","v":""},{"$f":"IF(Compliance_Options!C239=\"\",\"\",Compliance_Options!C239)","v":""},{"$f":"IF(Compliance_Options!D239=\"\",\"\",Compliance_Options!D239)","v":""},"  ",{"$f":"IF(COUNTIF(CT$2:CT217,CT217)=1,CT217,\"\")","v":""},"","","",""]
[null,null,null,null,null,null,null,null,null,null,null,null,null,null,null,null,null,null,null,null,null,null,null,null,null,null,null,null,null,null,null,null,null,null,null,null,null,null,null,null,null,null,null,null,null,null,null,{"$f":"+IF(AW218=\"\",\"\",MAX(AV$1:AV217)+1)","v":""},{"$f":"IF(Compliance_Options!B240=\"\",\"\",Compliance_Options!B240)","v":""},{"$f":"IF(Compliance_Options!C240=\"\",\"\",Compliance_Options!C240)","v":""},{"$f":"IF(Compliance_Options!D240=\"\",\"\",Compliance_Options!D240)","v":""},{"$f":"IF(Compliance_Options!E240=\"\",\"\",Compliance_Options!E240)","v":""},{"$f":"IF(Compliance_Options!F240=\"\",\"\",Compliance_Options!F240)","v":""},"    ",{"$f":"IF(COUNTIF(BB$2:BB218,BB218)=1,BB218,\"\")","v":""},"","","","","","","",{"$f":"+IF(BJ218=\"\",\"\",MAX(BK$1:BK217)+1)","v":""},"","","","","","","",{"$f":"+IF(BR218=\"\",\"\",MAX(BS$1:BS217)+1)","v":""},"","","","","","","",{"$f":"+IF(BZ218=\"\",\"\",MAX(CA$1:CA217)+1)","v":""},"","","","","","","",{"$f":"+IF(CH218=\"\",\"\",MAX(CI$1:CI217)+1)","v":""},"","","","","",null,{"$f":"+IF(CQ218=\"\",\"\",MAX(CP$1:CP217)+1)","v":""},{"$f":"IF(Compliance_Options!B240=\"\",\"\",Compliance_Options!B240)","v":""},{"$f":"IF(Compliance_Options!C240=\"\",\"\",Compliance_Options!C240)","v":""},{"$f":"IF(Compliance_Options!D240=\"\",\"\",Compliance_Options!D240)","v":""},"  ",{"$f":"IF(COUNTIF(CT$2:CT218,CT218)=1,CT218,\"\")","v":""},"","","",""]
[null,null,null,null,null,null,null,null,null,null,null,null,null,null,null,null,null,null,null,null,null,null,null,null,null,null,null,null,null,null,null,null,null,null,null,null,null,null,null,null,null,null,null,null,null,null,null,{"$f":"+IF(AW219=\"\",\"\",MAX(AV$1:AV218)+1)","v":""},{"$f":"IF(Compliance_Options!B241=\"\",\"\",Compliance_Options!B241)","v":""},{"$f":"IF(Compliance_Options!C241=\"\",\"\",Compliance_Options!C241)","v":""},{"$f":"IF(Compliance_Options!D241=\"\",\"\",Compliance_Options!D241)","v":""},{"$f":"IF(Compliance_Options!E241=\"\",\"\",Compliance_Options!E241)","v":""},{"$f":"IF(Compliance_Options!F241=\"\",\"\",Compliance_Options!F241)","v":""},"    ",{"$f":"IF(COUNTIF(BB$2:BB219,BB219)=1,BB219,\"\")","v":""},"","","","","","","",{"$f":"+IF(BJ219=\"\",\"\",MAX(BK$1:BK218)+1)","v":""},"","","","","","","",{"$f":"+IF(BR219=\"\",\"\",MAX(BS$1:BS218)+1)","v":""},"","","","","","","",{"$f":"+IF(BZ219=\"\",\"\",MAX(CA$1:CA218)+1)","v":""},"","","","","","","",{"$f":"+IF(CH219=\"\",\"\",MAX(CI$1:CI218)+1)","v":""},"","","","","",null,{"$f":"+IF(CQ219=\"\",\"\",MAX(CP$1:CP218)+1)","v":""},{"$f":"IF(Compliance_Options!B241=\"\",\"\",Compliance_Options!B241)","v":""},{"$f":"IF(Compliance_Options!C241=\"\",\"\",Compliance_Options!C241)","v":""},{"$f":"IF(Compliance_Options!D241=\"\",\"\",Compliance_Options!D241)","v":""},"  ",{"$f":"IF(COUNTIF(CT$2:CT219,CT219)=1,CT219,\"\")","v":""},"","","",""]
[null,null,null,null,null,null,null,null,null,null,null,null,null,null,null,null,null,null,null,null,null,null,null,null,null,null,null,null,null,null,null,null,null,null,null,null,null,null,null,null,null,null,null,null,null,null,null,{"$f":"+IF(AW220=\"\",\"\",MAX(AV$1:AV219)+1)","v":""},{"$f":"IF(Compliance_Options!B242=\"\",\"\",Compliance_Options!B242)","v":""},{"$f":"IF(Compliance_Options!C242=\"\",\"\",Compliance_Options!C242)","v":""},{"$f":"IF(Compliance_Options!D242=\"\",\"\",Compliance_Options!D242)","v":""},{"$f":"IF(Compliance_Options!E242=\"\",\"\",Compliance_Options!E242)","v":""},{"$f":"IF(Compliance_Options!F242=\"\",\"\",Compliance_Options!F242)","v":""},"    ",{"$f":"IF(COUNTIF(BB$2:BB220,BB220)=1,BB220,\"\")","v":""},"","","","","","","",{"$f":"+IF(BJ220=\"\",\"\",MAX(BK$1:BK219)+1)","v":""},"","","","","","","",{"$f":"+IF(BR220=\"\",\"\",MAX(BS$1:BS219)+1)","v":""},"","","","","","","",{"$f":"+IF(BZ220=\"\",\"\",MAX(CA$1:CA219)+1)","v":""},"","","","","","","",{"$f":"+IF(CH220=\"\",\"\",MAX(CI$1:CI219)+1)","v":""},"","","","","",null,{"$f":"+IF(CQ220=\"\",\"\",MAX(CP$1:CP219)+1)","v":""},{"$f":"IF(Compliance_Options!B242=\"\",\"\",Compliance_Options!B242)","v":""},{"$f":"IF(Compliance_Options!C242=\"\",\"\",Compliance_Options!C242)","v":""},{"$f":"IF(Compliance_Options!D242=\"\",\"\",Compliance_Options!D242)","v":""},"  ",{"$f":"IF(COUNTIF(CT$2:CT220,CT220)=1,CT220,\"\")","v":""},"","","",""]
[null,null,null,null,null,null,null,null,null,null,null,null,null,null,null,null,null,null,null,null,null,null,null,null,null,null,null,null,null,null,null,null,null,null,null,null,null,null,null,null,null,null,null,null,null,null,null,{"$f":"+IF(AW221=\"\",\"\",MAX(AV$1:AV220)+1)","v":""},{"$f":"IF(Compliance_Options!B243=\"\",\"\",Compliance_Options!B243)","v":""},{"$f":"IF(Compliance_Options!C243=\"\",\"\",Compliance_Options!C243)","v":""},{"$f":"IF(Compliance_Options!D243=\"\",\"\",Compliance_Options!D243)","v":""},{"$f":"IF(Compliance_Options!E243=\"\",\"\",Compliance_Options!E243)","v":""},{"$f":"IF(Compliance_Options!F243=\"\",\"\",Compliance_Options!F243)","v":""},"    ",{"$f":"IF(COUNTIF(BB$2:BB221,BB221)=1,BB221,\"\")","v":""},"","","","","","","",{"$f":"+IF(BJ221=\"\",\"\",MAX(BK$1:BK220)+1)","v":""},"","","","","","","",{"$f":"+IF(BR221=\"\",\"\",MAX(BS$1:BS220)+1)","v":""},"","","","","","","",{"$f":"+IF(BZ221=\"\",\"\",MAX(CA$1:CA220)+1)","v":""},"","","","","","","",{"$f":"+IF(CH221=\"\",\"\",MAX(CI$1:CI220)+1)","v":""},"","","","","",null,{"$f":"+IF(CQ221=\"\",\"\",MAX(CP$1:CP220)+1)","v":""},{"$f":"IF(Compliance_Options!B243=\"\",\"\",Compliance_Options!B243)","v":""},{"$f":"IF(Compliance_Options!C243=\"\",\"\",Compliance_Options!C243)","v":""},{"$f":"IF(Compliance_Options!D243=\"\",\"\",Compliance_Options!D243)","v":""},"  ",{"$f":"IF(COUNTIF(CT$2:CT221,CT221)=1,CT221,\"\")","v":""},"","","",""]
[null,null,null,null,null,null,null,null,null,null,null,null,null,null,null,null,null,null,null,null,null,null,null,null,null,null,null,null,null,null,null,null,null,null,null,null,null,null,null,null,null,null,null,null,null,null,null,{"$f":"+IF(AW222=\"\",\"\",MAX(AV$1:AV221)+1)","v":""},{"$f":"IF(Compliance_Options!B244=\"\",\"\",Compliance_Options!B244)","v":""},{"$f":"IF(Compliance_Options!C244=\"\",\"\",Compliance_Options!C244)","v":""},{"$f":"IF(Compliance_Options!D244=\"\",\"\",Compliance_Options!D244)","v":""},{"$f":"IF(Compliance_Options!E244=\"\",\"\",Compliance_Options!E244)","v":""},{"$f":"IF(Compliance_Options!F244=\"\",\"\",Compliance_Options!F244)","v":""},"    ",{"$f":"IF(COUNTIF(BB$2:BB222,BB222)=1,BB222,\"\")","v":""},"","","","","","","",{"$f":"+IF(BJ222=\"\",\"\",MAX(BK$1:BK221)+1)","v":""},"","","","","","","",{"$f":"+IF(BR222=\"\",\"\",MAX(BS$1:BS221)+1)","v":""},"","","","","","","",{"$f":"+IF(BZ222=\"\",\"\",MAX(CA$1:CA221)+1)","v":""},"","","","","","","",{"$f":"+IF(CH222=\"\",\"\",MAX(CI$1:CI221)+1)","v":""},"","","","","",null,{"$f":"+IF(CQ222=\"\",\"\",MAX(CP$1:CP221)+1)","v":""},{"$f":"IF(Compliance_Options!B244=\"\",\"\",Compliance_Options!B244)","v":""},{"$f":"IF(Compliance_Options!C244=\"\",\"\",Compliance_Options!C244)","v":""},{"$f":"IF(Compliance_Options!D244=\"\",\"\",Compliance_Options!D244)","v":""},"  ",{"$f":"IF(COUNTIF(CT$2:CT222,CT222)=1,CT222,\"\")","v":""},"","","",""]
[null,null,null,null,null,null,null,null,null,null,null,null,null,null,null,null,null,null,null,null,null,null,null,null,null,null,null,null,null,null,null,null,null,null,null,null,null,null,null,null,null,null,null,null,null,null,null,{"$f":"+IF(AW223=\"\",\"\",MAX(AV$1:AV222)+1)","v":""},{"$f":"IF(Compliance_Options!B245=\"\",\"\",Compliance_Options!B245)","v":""},{"$f":"IF(Compliance_Options!C245=\"\",\"\",Compliance_Options!C245)","v":""},{"$f":"IF(Compliance_Options!D245=\"\",\"\",Compliance_Options!D245)","v":""},{"$f":"IF(Compliance_Options!E245=\"\",\"\",Compliance_Options!E245)","v":""},{"$f":"IF(Compliance_Options!F245=\"\",\"\",Compliance_Options!F245)","v":""},"    ",{"$f":"IF(COUNTIF(BB$2:BB223,BB223)=1,BB223,\"\")","v":""},"","","","","","","",{"$f":"+IF(BJ223=\"\",\"\",MAX(BK$1:BK222)+1)","v":""},"","","","","","","",{"$f":"+IF(BR223=\"\",\"\",MAX(BS$1:BS222)+1)","v":""},"","","","","","","",{"$f":"+IF(BZ223=\"\",\"\",MAX(CA$1:CA222)+1)","v":""},"","","","","","","",{"$f":"+IF(CH223=\"\",\"\",MAX(CI$1:CI222)+1)","v":""},"","","","","",null,{"$f":"+IF(CQ223=\"\",\"\",MAX(CP$1:CP222)+1)","v":""},{"$f":"IF(Compliance_Options!B245=\"\",\"\",Compliance_Options!B245)","v":""},{"$f":"IF(Compliance_Options!C245=\"\",\"\",Compliance_Options!C245)","v":""},{"$f":"IF(Compliance_Options!D245=\"\",\"\",Compliance_Options!D245)","v":""},"  ",{"$f":"IF(COUNTIF(CT$2:CT223,CT223)=1,CT223,\"\")","v":""},"","","",""]
[null,null,null,null,null,null,null,null,null,null,null,null,null,null,null,null,null,null,null,null,null,null,null,null,null,null,null,null,null,null,null,null,null,null,null,null,null,null,null,null,null,null,null,null,null,null,null,{"$f":"+IF(AW224=\"\",\"\",MAX(AV$1:AV223)+1)","v":""},{"$f":"IF(Compliance_Options!B246=\"\",\"\",Compliance_Options!B246)","v":""},{"$f":"IF(Compliance_Options!C246=\"\",\"\",Compliance_Options!C246)","v":""},{"$f":"IF(Compliance_Options!D246=\"\",\"\",Compliance_Options!D246)","v":""},{"$f":"IF(Compliance_Options!E246=\"\",\"\",Compliance_Options!E246)","v":""},{"$f":"IF(Compliance_Options!F246=\"\",\"\",Compliance_Options!F246)","v":""},"    ",{"$f":"IF(COUNTIF(BB$2:BB224,BB224)=1,BB224,\"\")","v":""},"","","","","","","",{"$f":"+IF(BJ224=\"\",\"\",MAX(BK$1:BK223)+1)","v":""},"","","","","","","",{"$f":"+IF(BR224=\"\",\"\",MAX(BS$1:BS223)+1)","v":""},"","","","","","","",{"$f":"+IF(BZ224=\"\",\"\",MAX(CA$1:CA223)+1)","v":""},"","","","","","","",{"$f":"+IF(CH224=\"\",\"\",MAX(CI$1:CI223)+1)","v":""},"","","","","",null,{"$f":"+IF(CQ224=\"\",\"\",MAX(CP$1:CP223)+1)","v":""},{"$f":"IF(Compliance_Options!B246=\"\",\"\",Compliance_Options!B246)","v":""},{"$f":"IF(Compliance_Options!C246=\"\",\"\",Compliance_Options!C246)","v":""},{"$f":"IF(Compliance_Options!D246=\"\",\"\",Compliance_Options!D246)","v":""},"  ",{"$f":"IF(COUNTIF(CT$2:CT224,CT224)=1,CT224,\"\")","v":""},"","","",""]
[null,null,null,null,null,null,null,null,null,null,null,null,null,null,null,null,null,null,null,null,null,null,null,null,null,null,null,null,null,null,null,null,null,null,null,null,null,null,null,null,null,null,null,null,null,null,null,{"$f":"+IF(AW225=\"\",\"\",MAX(AV$1:AV224)+1)","v":""},{"$f":"IF(Compliance_Options!B247=\"\",\"\",Compliance_Options!B247)","v":""},{"$f":"IF(Compliance_Options!C247=\"\",\"\",Compliance_Options!C247)","v":""},{"$f":"IF(Compliance_Options!D247=\"\",\"\",Compliance_Options!D247)","v":""},{"$f":"IF(Compliance_Options!E247=\"\",\"\",Compliance_Options!E247)","v":""},{"$f":"IF(Compliance_Options!F247=\"\",\"\",Compliance_Options!F247)","v":""},"    ",{"$f":"IF(COUNTIF(BB$2:BB225,BB225)=1,BB225,\"\")","v":""},"","","","","","","",{"$f":"+IF(BJ225=\"\",\"\",MAX(BK$1:BK224)+1)","v":""},"","","","","","","",{"$f":"+IF(BR225=\"\",\"\",MAX(BS$1:BS224)+1)","v":""},"","","","","","","",{"$f":"+IF(BZ225=\"\",\"\",MAX(CA$1:CA224)+1)","v":""},"","","","","","","",{"$f":"+IF(CH225=\"\",\"\",MAX(CI$1:CI224)+1)","v":""},"","","","","",null,{"$f":"+IF(CQ225=\"\",\"\",MAX(CP$1:CP224)+1)","v":""},{"$f":"IF(Compliance_Options!B247=\"\",\"\",Compliance_Options!B247)","v":""},{"$f":"IF(Compliance_Options!C247=\"\",\"\",Compliance_Options!C247)","v":""},{"$f":"IF(Compliance_Options!D247=\"\",\"\",Compliance_Options!D247)","v":""},"  ",{"$f":"IF(COUNTIF(CT$2:CT225,CT225)=1,CT225,\"\")","v":""},"","","",""]
[null,null,null,null,null,null,null,null,null,null,null,null,null,null,null,null,null,null,null,null,null,null,null,null,null,null,null,null,null,null,null,null,null,null,null,null,null,null,null,null,null,null,null,null,null,null,null,{"$f":"+IF(AW226=\"\",\"\",MAX(AV$1:AV225)+1)","v":""},{"$f":"IF(Compliance_Options!B248=\"\",\"\",Compliance_Options!B248)","v":""},{"$f":"IF(Compliance_Options!C248=\"\",\"\",Compliance_Options!C248)","v":""},{"$f":"IF(Compliance_Options!D248=\"\",\"\",Compliance_Options!D248)","v":""},{"$f":"IF(Compliance_Options!E248=\"\",\"\",Compliance_Options!E248)","v":""},{"$f":"IF(Compliance_Options!F248=\"\",\"\",Compliance_Options!F248)","v":""},"    ",{"$f":"IF(COUNTIF(BB$2:BB226,BB226)=1,BB226,\"\")","v":""},"","","","","","","",{"$f":"+IF(BJ226=\"\",\"\",MAX(BK$1:BK225)+1)","v":""},"","","","","","","",{"$f":"+IF(BR226=\"\",\"\",MAX(BS$1:BS225)+1)","v":""},"","","","","","","",{"$f":"+IF(BZ226=\"\",\"\",MAX(CA$1:CA225)+1)","v":""},"","","","","","","",{"$f":"+IF(CH226=\"\",\"\",MAX(CI$1:CI225)+1)","v":""},"","","","","",null,{"$f":"+IF(CQ226=\"\",\"\",MAX(CP$1:CP225)+1)","v":""},{"$f":"IF(Compliance_Options!B248=\"\",\"\",Compliance_Options!B248)","v":""},{"$f":"IF(Compliance_Options!C248=\"\",\"\",Compliance_Options!C248)","v":""},{"$f":"IF(Compliance_Options!D248=\"\",\"\",Compliance_Options!D248)","v":""},"  ",{"$f":"IF(COUNTIF(CT$2:CT226,CT226)=1,CT226,\"\")","v":""},"","","",""]
[null,null,null,null,null,null,null,null,null,null,null,null,null,null,null,null,null,null,null,null,null,null,null,null,null,null,null,null,null,null,null,null,null,null,null,null,null,null,null,null,null,null,null,null,null,null,null,{"$f":"+IF(AW227=\"\",\"\",MAX(AV$1:AV226)+1)","v":""},{"$f":"IF(Compliance_Options!B249=\"\",\"\",Compliance_Options!B249)","v":""},{"$f":"IF(Compliance_Options!C249=\"\",\"\",Compliance_Options!C249)","v":""},{"$f":"IF(Compliance_Options!D249=\"\",\"\",Compliance_Options!D249)","v":""},{"$f":"IF(Compliance_Options!E249=\"\",\"\",Compliance_Options!E249)","v":""},{"$f":"IF(Compliance_Options!F249=\"\",\"\",Compliance_Options!F249)","v":""},"    ",{"$f":"IF(COUNTIF(BB$2:BB227,BB227)=1,BB227,\"\")","v":""},"","","","","","","",{"$f":"+IF(BJ227=\"\",\"\",MAX(BK$1:BK226)+1)","v":""},"","","","","","","",{"$f":"+IF(BR227=\"\",\"\",MAX(BS$1:BS226)+1)","v":""},"","","","","","","",{"$f":"+IF(BZ227=\"\",\"\",MAX(CA$1:CA226)+1)","v":""},"","","","","","","",{"$f":"+IF(CH227=\"\",\"\",MAX(CI$1:CI226)+1)","v":""},"","","","","",null,{"$f":"+IF(CQ227=\"\",\"\",MAX(CP$1:CP226)+1)","v":""},{"$f":"IF(Compliance_Options!B249=\"\",\"\",Compliance_Options!B249)","v":""},{"$f":"IF(Compliance_Options!C249=\"\",\"\",Compliance_Options!C249)","v":""},{"$f":"IF(Compliance_Options!D249=\"\",\"\",Compliance_Options!D249)","v":""},"  ",{"$f":"IF(COUNTIF(CT$2:CT227,CT227)=1,CT227,\"\")","v":""},"","","",""]
[null,null,null,null,null,null,null,null,null,null,null,null,null,null,null,null,null,null,null,null,null,null,null,null,null,null,null,null,null,null,null,null,null,null,null,null,null,null,null,null,null,null,null,null,null,null,null,{"$f":"+IF(AW228=\"\",\"\",MAX(AV$1:AV227)+1)","v":""},{"$f":"IF(Compliance_Options!B250=\"\",\"\",Compliance_Options!B250)","v":""},{"$f":"IF(Compliance_Options!C250=\"\",\"\",Compliance_Options!C250)","v":""},{"$f":"IF(Compliance_Options!D250=\"\",\"\",Compliance_Options!D250)","v":""},{"$f":"IF(Compliance_Options!E250=\"\",\"\",Compliance_Options!E250)","v":""},{"$f":"IF(Compliance_Options!F250=\"\",\"\",Compliance_Options!F250)","v":""},"    ",{"$f":"IF(COUNTIF(BB$2:BB228,BB228)=1,BB228,\"\")","v":""},"","","","","","","",{"$f":"+IF(BJ228=\"\",\"\",MAX(BK$1:BK227)+1)","v":""},"","","","","","","",{"$f":"+IF(BR228=\"\",\"\",MAX(BS$1:BS227)+1)","v":""},"","","","","","","",{"$f":"+IF(BZ228=\"\",\"\",MAX(CA$1:CA227)+1)","v":""},"","","","","","","",{"$f":"+IF(CH228=\"\",\"\",MAX(CI$1:CI227)+1)","v":""},"","","","","",null,{"$f":"+IF(CQ228=\"\",\"\",MAX(CP$1:CP227)+1)","v":""},{"$f":"IF(Compliance_Options!B250=\"\",\"\",Compliance_Options!B250)","v":""},{"$f":"IF(Compliance_Options!C250=\"\",\"\",Compliance_Options!C250)","v":""},{"$f":"IF(Compliance_Options!D250=\"\",\"\",Compliance_Options!D250)","v":""},"  ",{"$f":"IF(COUNTIF(CT$2:CT228,CT228)=1,CT228,\"\")","v":""},"","","",""]
[null,null,null,null,null,null,null,null,null,null,null,null,null,null,null,null,null,null,null,null,null,null,null,null,null,null,null,null,null,null,null,null,null,null,null,null,null,null,null,null,null,null,null,null,null,null,null,{"$f":"+IF(AW229=\"\",\"\",MAX(AV$1:AV228)+1)","v":""},{"$f":"IF(Compliance_Options!B251=\"\",\"\",Compliance_Options!B251)","v":""},{"$f":"IF(Compliance_Options!C251=\"\",\"\",Compliance_Options!C251)","v":""},{"$f":"IF(Compliance_Options!D251=\"\",\"\",Compliance_Options!D251)","v":""},{"$f":"IF(Compliance_Options!E251=\"\",\"\",Compliance_Options!E251)","v":""},{"$f":"IF(Compliance_Options!F251=\"\",\"\",Compliance_Options!F251)","v":""},"    ",{"$f":"IF(COUNTIF(BB$2:BB229,BB229)=1,BB229,\"\")","v":""},"","","","","","","",{"$f":"+IF(BJ229=\"\",\"\",MAX(BK$1:BK228)+1)","v":""},"","","","","","","",{"$f":"+IF(BR229=\"\",\"\",MAX(BS$1:BS228)+1)","v":""},"","","","","","","",{"$f":"+IF(BZ229=\"\",\"\",MAX(CA$1:CA228)+1)","v":""},"","","","","","","",{"$f":"+IF(CH229=\"\",\"\",MAX(CI$1:CI228)+1)","v":""},"","","","","",null,{"$f":"+IF(CQ229=\"\",\"\",MAX(CP$1:CP228)+1)","v":""},{"$f":"IF(Compliance_Options!B251=\"\",\"\",Compliance_Options!B251)","v":""},{"$f":"IF(Compliance_Options!C251=\"\",\"\",Compliance_Options!C251)","v":""},{"$f":"IF(Compliance_Options!D251=\"\",\"\",Compliance_Options!D251)","v":""},"  ",{"$f":"IF(COUNTIF(CT$2:CT229,CT229)=1,CT229,\"\")","v":""},"","","",""]
[null,null,null,null,null,null,null,null,null,null,null,null,null,null,null,null,null,null,null,null,null,null,null,null,null,null,null,null,null,null,null,null,null,null,null,null,null,null,null,null,null,null,null,null,null,null,null,{"$f":"+IF(AW230=\"\",\"\",MAX(AV$1:AV229)+1)","v":""},{"$f":"IF(Compliance_Options!B252=\"\",\"\",Compliance_Options!B252)","v":""},{"$f":"IF(Compliance_Options!C252=\"\",\"\",Compliance_Options!C252)","v":""},{"$f":"IF(Compliance_Options!D252=\"\",\"\",Compliance_Options!D252)","v":""},{"$f":"IF(Compliance_Options!E252=\"\",\"\",Compliance_Options!E252)","v":""},{"$f":"IF(Compliance_Options!F252=\"\",\"\",Compliance_Options!F252)","v":""},"    ",{"$f":"IF(COUNTIF(BB$2:BB230,BB230)=1,BB230,\"\")","v":""},"","","","","","","",{"$f":"+IF(BJ230=\"\",\"\",MAX(BK$1:BK229)+1)","v":""},"","","","","","","",{"$f":"+IF(BR230=\"\",\"\",MAX(BS$1:BS229)+1)","v":""},"","","","","","","",{"$f":"+IF(BZ230=\"\",\"\",MAX(CA$1:CA229)+1)","v":""},"","","","","","","",{"$f":"+IF(CH230=\"\",\"\",MAX(CI$1:CI229)+1)","v":""},"","","","","",null,{"$f":"+IF(CQ230=\"\",\"\",MAX(CP$1:CP229)+1)","v":""},{"$f":"IF(Compliance_Options!B252=\"\",\"\",Compliance_Options!B252)","v":""},{"$f":"IF(Compliance_Options!C252=\"\",\"\",Compliance_Options!C252)","v":""},{"$f":"IF(Compliance_Options!D252=\"\",\"\",Compliance_Options!D252)","v":""},"  ",{"$f":"IF(COUNTIF(CT$2:CT230,CT230)=1,CT230,\"\")","v":""},"","","",""]
[null,null,null,null,null,null,null,null,null,null,null,null,null,null,null,null,null,null,null,null,null,null,null,null,null,null,null,null,null,null,null,null,null,null,null,null,null,null,null,null,null,null,null,null,null,null,null,{"$f":"+IF(AW231=\"\",\"\",MAX(AV$1:AV230)+1)","v":""},{"$f":"IF(Compliance_Options!B253=\"\",\"\",Compliance_Options!B253)","v":""},{"$f":"IF(Compliance_Options!C253=\"\",\"\",Compliance_Options!C253)","v":""},{"$f":"IF(Compliance_Options!D253=\"\",\"\",Compliance_Options!D253)","v":""},{"$f":"IF(Compliance_Options!E253=\"\",\"\",Compliance_Options!E253)","v":""},{"$f":"IF(Compliance_Options!F253=\"\",\"\",Compliance_Options!F253)","v":""},"    ",{"$f":"IF(COUNTIF(BB$2:BB231,BB231)=1,BB231,\"\")","v":""},"","","","","","","",{"$f":"+IF(BJ231=\"\",\"\",MAX(BK$1:BK230)+1)","v":""},"","","","","","","",{"$f":"+IF(BR231=\"\",\"\",MAX(BS$1:BS230)+1)","v":""},"","","","","","","",{"$f":"+IF(BZ231=\"\",\"\",MAX(CA$1:CA230)+1)","v":""},"","","","","","","",{"$f":"+IF(CH231=\"\",\"\",MAX(CI$1:CI230)+1)","v":""},"","","","","",null,{"$f":"+IF(CQ231=\"\",\"\",MAX(CP$1:CP230)+1)","v":""},{"$f":"IF(Compliance_Options!B253=\"\",\"\",Compliance_Options!B253)","v":""},{"$f":"IF(Compliance_Options!C253=\"\",\"\",Compliance_Options!C253)","v":""},{"$f":"IF(Compliance_Options!D253=\"\",\"\",Compliance_Options!D253)","v":""},"  ",{"$f":"IF(COUNTIF(CT$2:CT231,CT231)=1,CT231,\"\")","v":""},"","","",""]
[null,null,null,null,null,null,null,null,null,null,null,null,null,null,null,null,null,null,null,null,null,null,null,null,null,null,null,null,null,null,null,null,null,null,null,null,null,null,null,null,null,null,null,null,null,null,null,{"$f":"+IF(AW232=\"\",\"\",MAX(AV$1:AV231)+1)","v":""},{"$f":"IF(Compliance_Options!B254=\"\",\"\",Compliance_Options!B254)","v":""},{"$f":"IF(Compliance_Options!C254=\"\",\"\",Compliance_Options!C254)","v":""},{"$f":"IF(Compliance_Options!D254=\"\",\"\",Compliance_Options!D254)","v":""},{"$f":"IF(Compliance_Options!E254=\"\",\"\",Compliance_Options!E254)","v":""},{"$f":"IF(Compliance_Options!F254=\"\",\"\",Compliance_Options!F254)","v":""},"    ",{"$f":"IF(COUNTIF(BB$2:BB232,BB232)=1,BB232,\"\")","v":""},"","","","","","","",{"$f":"+IF(BJ232=\"\",\"\",MAX(BK$1:BK231)+1)","v":""},"","","","","","","",{"$f":"+IF(BR232=\"\",\"\",MAX(BS$1:BS231)+1)","v":""},"","","","","","","",{"$f":"+IF(BZ232=\"\",\"\",MAX(CA$1:CA231)+1)","v":""},"","","","","","","",{"$f":"+IF(CH232=\"\",\"\",MAX(CI$1:CI231)+1)","v":""},"","","","","",null,{"$f":"+IF(CQ232=\"\",\"\",MAX(CP$1:CP231)+1)","v":""},{"$f":"IF(Compliance_Options!B254=\"\",\"\",Compliance_Options!B254)","v":""},{"$f":"IF(Compliance_Options!C254=\"\",\"\",Compliance_Options!C254)","v":""},{"$f":"IF(Compliance_Options!D254=\"\",\"\",Compliance_Options!D254)","v":""},"  ",{"$f":"IF(COUNTIF(CT$2:CT232,CT232)=1,CT232,\"\")","v":""},"","","",""]
[null,null,null,null,null,null,null,null,null,null,null,null,null,null,null,null,null,null,null,null,null,null,null,null,null,null,null,null,null,null,null,null,null,null,null,null,null,null,null,null,null,null,null,null,null,null,null,{"$f":"+IF(AW233=\"\",\"\",MAX(AV$1:AV232)+1)","v":""},{"$f":"IF(Compliance_Options!B255=\"\",\"\",Compliance_Options!B255)","v":""},{"$f":"IF(Compliance_Options!C255=\"\",\"\",Compliance_Options!C255)","v":""},{"$f":"IF(Compliance_Options!D255=\"\",\"\",Compliance_Options!D255)","v":""},{"$f":"IF(Compliance_Options!E255=\"\",\"\",Compliance_Options!E255)","v":""},{"$f":"IF(Compliance_Options!F255=\"\",\"\",Compliance_Options!F255)","v":""},"    ",{"$f":"IF(COUNTIF(BB$2:BB233,BB233)=1,BB233,\"\")","v":""},"","","","","","","",{"$f":"+IF(BJ233=\"\",\"\",MAX(BK$1:BK232)+1)","v":""},"","","","","","","",{"$f":"+IF(BR233=\"\",\"\",MAX(BS$1:BS232)+1)","v":""},"","","","","","","",{"$f":"+IF(BZ233=\"\",\"\",MAX(CA$1:CA232)+1)","v":""},"","","","","","","",{"$f":"+IF(CH233=\"\",\"\",MAX(CI$1:CI232)+1)","v":""},"","","","","",null,{"$f":"+IF(CQ233=\"\",\"\",MAX(CP$1:CP232)+1)","v":""},{"$f":"IF(Compliance_Options!B255=\"\",\"\",Compliance_Options!B255)","v":""},{"$f":"IF(Compliance_Options!C255=\"\",\"\",Compliance_Options!C255)","v":""},{"$f":"IF(Compliance_Options!D255=\"\",\"\",Compliance_Options!D255)","v":""},"  ",{"$f":"IF(COUNTIF(CT$2:CT233,CT233)=1,CT233,\"\")","v":""},"","","",""]
[null,null,null,null,null,null,null,null,null,null,null,null,null,null,null,null,null,null,null,null,null,null,null,null,null,null,null,null,null,null,null,null,null,null,null,null,null,null,null,null,null,null,null,null,null,null,null,{"$f":"+IF(AW234=\"\",\"\",MAX(AV$1:AV233)+1)","v":""},{"$f":"IF(Compliance_Options!B256=\"\",\"\",Compliance_Options!B256)","v":""},{"$f":"IF(Compliance_Options!C256=\"\",\"\",Compliance_Options!C256)","v":""},{"$f":"IF(Compliance_Options!D256=\"\",\"\",Compliance_Options!D256)","v":""},{"$f":"IF(Compliance_Options!E256=\"\",\"\",Compliance_Options!E256)","v":""},{"$f":"IF(Compliance_Options!F256=\"\",\"\",Compliance_Options!F256)","v":""},"    ",{"$f":"IF(COUNTIF(BB$2:BB234,BB234)=1,BB234,\"\")","v":""},"","","","","","","",{"$f":"+IF(BJ234=\"\",\"\",MAX(BK$1:BK233)+1)","v":""},"","","","","","","",{"$f":"+IF(BR234=\"\",\"\",MAX(BS$1:BS233)+1)","v":""},"","","","","","","",{"$f":"+IF(BZ234=\"\",\"\",MAX(CA$1:CA233)+1)","v":""},"","","","","","","",{"$f":"+IF(CH234=\"\",\"\",MAX(CI$1:CI233)+1)","v":""},"","","","","",null,{"$f":"+IF(CQ234=\"\",\"\",MAX(CP$1:CP233)+1)","v":""},{"$f":"IF(Compliance_Options!B256=\"\",\"\",Compliance_Options!B256)","v":""},{"$f":"IF(Compliance_Options!C256=\"\",\"\",Compliance_Options!C256)","v":""},{"$f":"IF(Compliance_Options!D256=\"\",\"\",Compliance_Options!D256)","v":""},"  ",{"$f":"IF(COUNTIF(CT$2:CT234,CT234)=1,CT234,\"\")","v":""},"","","",""]
[null,null,null,null,null,null,null,null,null,null,null,null,null,null,null,null,null,null,null,null,null,null,null,null,null,null,null,null,null,null,null,null,null,null,null,null,null,null,null,null,null,null,null,null,null,null,null,{"$f":"+IF(AW235=\"\",\"\",MAX(AV$1:AV234)+1)","v":""},{"$f":"IF(Compliance_Options!B257=\"\",\"\",Compliance_Options!B257)","v":""},{"$f":"IF(Compliance_Options!C257=\"\",\"\",Compliance_Options!C257)","v":""},{"$f":"IF(Compliance_Options!D257=\"\",\"\",Compliance_Options!D257)","v":""},{"$f":"IF(Compliance_Options!E257=\"\",\"\",Compliance_Options!E257)","v":""},{"$f":"IF(Compliance_Options!F257=\"\",\"\",Compliance_Options!F257)","v":""},"    ",{"$f":"IF(COUNTIF(BB$2:BB235,BB235)=1,BB235,\"\")","v":""},"","","","","","","",{"$f":"+IF(BJ235=\"\",\"\",MAX(BK$1:BK234)+1)","v":""},"","","","","","","",{"$f":"+IF(BR235=\"\",\"\",MAX(BS$1:BS234)+1)","v":""},"","","","","","","",{"$f":"+IF(BZ235=\"\",\"\",MAX(CA$1:CA234)+1)","v":""},"","","","","","","",{"$f":"+IF(CH235=\"\",\"\",MAX(CI$1:CI234)+1)","v":""},"","","","","",null,{"$f":"+IF(CQ235=\"\",\"\",MAX(CP$1:CP234)+1)","v":""},{"$f":"IF(Compliance_Options!B257=\"\",\"\",Compliance_Options!B257)","v":""},{"$f":"IF(Compliance_Options!C257=\"\",\"\",Compliance_Options!C257)","v":""},{"$f":"IF(Compliance_Options!D257=\"\",\"\",Compliance_Options!D257)","v":""},"  ",{"$f":"IF(COUNTIF(CT$2:CT235,CT235)=1,CT235,\"\")","v":""},"","","",""]
[null,null,null,null,null,null,null,null,null,null,null,null,null,null,null,null,null,null,null,null,null,null,null,null,null,null,null,null,null,null,null,null,null,null,null,null,null,null,null,null,null,null,null,null,null,null,null,{"$f":"+IF(AW236=\"\",\"\",MAX(AV$1:AV235)+1)","v":""},{"$f":"IF(Compliance_Options!B258=\"\",\"\",Compliance_Options!B258)","v":""},{"$f":"IF(Compliance_Options!C258=\"\",\"\",Compliance_Options!C258)","v":""},{"$f":"IF(Compliance_Options!D258=\"\",\"\",Compliance_Options!D258)","v":""},{"$f":"IF(Compliance_Options!E258=\"\",\"\",Compliance_Options!E258)","v":""},{"$f":"IF(Compliance_Options!F258=\"\",\"\",Compliance_Options!F258)","v":""},"    ",{"$f":"IF(COUNTIF(BB$2:BB236,BB236)=1,BB236,\"\")","v":""},"","","","","","","",{"$f":"+IF(BJ236=\"\",\"\",MAX(BK$1:BK235)+1)","v":""},"","","","","","","",{"$f":"+IF(BR236=\"\",\"\",MAX(BS$1:BS235)+1)","v":""},"","","","","","","",{"$f":"+IF(BZ236=\"\",\"\",MAX(CA$1:CA235)+1)","v":""},"","","","","","","",{"$f":"+IF(CH236=\"\",\"\",MAX(CI$1:CI235)+1)","v":""},"","","","","",null,{"$f":"+IF(CQ236=\"\",\"\",MAX(CP$1:CP235)+1)","v":""},{"$f":"IF(Compliance_Options!B258=\"\",\"\",Compliance_Options!B258)","v":""},{"$f":"IF(Compliance_Options!C258=\"\",\"\",Compliance_Options!C258)","v":""},{"$f":"IF(Compliance_Options!D258=\"\",\"\",Compliance_Options!D258)","v":""},"  ",{"$f":"IF(COUNTIF(CT$2:CT236,CT236)=1,CT236,\"\")","v":""},"","","",""]
[null,null,null,null,null,null,null,null,null,null,null,null,null,null,null,null,null,null,null,null,null,null,null,null,null,null,null,null,null,null,null,null,null,null,null,null,null,null,null,null,null,null,null,null,null,null,null,{"$f":"+IF(AW237=\"\",\"\",MAX(AV$1:AV236)+1)","v":""},{"$f":"IF(Compliance_Options!B259=\"\",\"\",Compliance_Options!B259)","v":""},{"$f":"IF(Compliance_Options!C259=\"\",\"\",Compliance_Options!C259)","v":""},{"$f":"IF(Compliance_Options!D259=\"\",\"\",Compliance_Options!D259)","v":""},{"$f":"IF(Compliance_Options!E259=\"\",\"\",Compliance_Options!E259)","v":""},{"$f":"IF(Compliance_Options!F259=\"\",\"\",Compliance_Options!F259)","v":""},"    ",{"$f":"IF(COUNTIF(BB$2:BB237,BB237)=1,BB237,\"\")","v":""},"","","","","","","",{"$f":"+IF(BJ237=\"\",\"\",MAX(BK$1:BK236)+1)","v":""},"","","","","","","",{"$f":"+IF(BR237=\"\",\"\",MAX(BS$1:BS236)+1)","v":""},"","","","","","","",{"$f":"+IF(BZ237=\"\",\"\",MAX(CA$1:CA236)+1)","v":""},"","","","","","","",{"$f":"+IF(CH237=\"\",\"\",MAX(CI$1:CI236)+1)","v":""},"","","","","",null,{"$f":"+IF(CQ237=\"\",\"\",MAX(CP$1:CP236)+1)","v":""},{"$f":"IF(Compliance_Options!B259=\"\",\"\",Compliance_Options!B259)","v":""},{"$f":"IF(Compliance_Options!C259=\"\",\"\",Compliance_Options!C259)","v":""},{"$f":"IF(Compliance_Options!D259=\"\",\"\",Compliance_Options!D259)","v":""},"  ",{"$f":"IF(COUNTIF(CT$2:CT237,CT237)=1,CT237,\"\")","v":""},"","","",""]
[null,null,null,null,null,null,null,null,null,null,null,null,null,null,null,null,null,null,null,null,null,null,null,null,null,null,null,null,null,null,null,null,null,null,null,null,null,null,null,null,null,null,null,null,null,null,null,{"$f":"+IF(AW238=\"\",\"\",MAX(AV$1:AV237)+1)","v":""},{"$f":"IF(Compliance_Options!B260=\"\",\"\",Compliance_Options!B260)","v":""},{"$f":"IF(Compliance_Options!C260=\"\",\"\",Compliance_Options!C260)","v":""},{"$f":"IF(Compliance_Options!D260=\"\",\"\",Compliance_Options!D260)","v":""},{"$f":"IF(Compliance_Options!E260=\"\",\"\",Compliance_Options!E260)","v":""},{"$f":"IF(Compliance_Options!F260=\"\",\"\",Compliance_Options!F260)","v":""},"    ",{"$f":"IF(COUNTIF(BB$2:BB238,BB238)=1,BB238,\"\")","v":""},"","","","","","","",{"$f":"+IF(BJ238=\"\",\"\",MAX(BK$1:BK237)+1)","v":""},"","","","","","","",{"$f":"+IF(BR238=\"\",\"\",MAX(BS$1:BS237)+1)","v":""},"","","","","","","",{"$f":"+IF(BZ238=\"\",\"\",MAX(CA$1:CA237)+1)","v":""},"","","","","","","",{"$f":"+IF(CH238=\"\",\"\",MAX(CI$1:CI237)+1)","v":""},"","","","","",null,{"$f":"+IF(CQ238=\"\",\"\",MAX(CP$1:CP237)+1)","v":""},{"$f":"IF(Compliance_Options!B260=\"\",\"\",Compliance_Options!B260)","v":""},{"$f":"IF(Compliance_Options!C260=\"\",\"\",Compliance_Options!C260)","v":""},{"$f":"IF(Compliance_Options!D260=\"\",\"\",Compliance_Options!D260)","v":""},"  ",{"$f":"IF(COUNTIF(CT$2:CT238,CT238)=1,CT238,\"\")","v":""},"","","",""]
[null,null,null,null,null,null,null,null,null,null,null,null,null,null,null,null,null,null,null,null,null,null,null,null,null,null,null,null,null,null,null,null,null,null,null,null,null,null,null,null,null,null,null,null,null,null,null,{"$f":"+IF(AW239=\"\",\"\",MAX(AV$1:AV238)+1)","v":""},{"$f":"IF(Compliance_Options!B261=\"\",\"\",Compliance_Options!B261)","v":""},{"$f":"IF(Compliance_Options!C261=\"\",\"\",Compliance_Options!C261)","v":""},{"$f":"IF(Compliance_Options!D261=\"\",\"\",Compliance_Options!D261)","v":""},{"$f":"IF(Compliance_Options!E261=\"\",\"\",Compliance_Options!E261)","v":""},{"$f":"IF(Compliance_Options!F261=\"\",\"\",Compliance_Options!F261)","v":""},"    ",{"$f":"IF(COUNTIF(BB$2:BB239,BB239)=1,BB239,\"\")","v":""},"","","","","","","",{"$f":"+IF(BJ239=\"\",\"\",MAX(BK$1:BK238)+1)","v":""},"","","","","","","",{"$f":"+IF(BR239=\"\",\"\",MAX(BS$1:BS238)+1)","v":""},"","","","","","","",{"$f":"+IF(BZ239=\"\",\"\",MAX(CA$1:CA238)+1)","v":""},"","","","","","","",{"$f":"+IF(CH239=\"\",\"\",MAX(CI$1:CI238)+1)","v":""},"","","","","",null,{"$f":"+IF(CQ239=\"\",\"\",MAX(CP$1:CP238)+1)","v":""},{"$f":"IF(Compliance_Options!B261=\"\",\"\",Compliance_Options!B261)","v":""},{"$f":"IF(Compliance_Options!C261=\"\",\"\",Compliance_Options!C261)","v":""},{"$f":"IF(Compliance_Options!D261=\"\",\"\",Compliance_Options!D261)","v":""},"  ",{"$f":"IF(COUNTIF(CT$2:CT239,CT239)=1,CT239,\"\")","v":""},"","","",""]
[null,null,null,null,null,null,null,null,null,null,null,null,null,null,null,null,null,null,null,null,null,null,null,null,null,null,null,null,null,null,null,null,null,null,null,null,null,null,null,null,null,null,null,null,null,null,null,{"$f":"+IF(AW240=\"\",\"\",MAX(AV$1:AV239)+1)","v":""},{"$f":"IF(Compliance_Options!B262=\"\",\"\",Compliance_Options!B262)","v":""},{"$f":"IF(Compliance_Options!C262=\"\",\"\",Compliance_Options!C262)","v":""},{"$f":"IF(Compliance_Options!D262=\"\",\"\",Compliance_Options!D262)","v":""},{"$f":"IF(Compliance_Options!E262=\"\",\"\",Compliance_Options!E262)","v":""},{"$f":"IF(Compliance_Options!F262=\"\",\"\",Compliance_Options!F262)","v":""},"    ",{"$f":"IF(COUNTIF(BB$2:BB240,BB240)=1,BB240,\"\")","v":""},"","","","","","","",{"$f":"+IF(BJ240=\"\",\"\",MAX(BK$1:BK239)+1)","v":""},"","","","","","","",{"$f":"+IF(BR240=\"\",\"\",MAX(BS$1:BS239)+1)","v":""},"","","","","","","",{"$f":"+IF(BZ240=\"\",\"\",MAX(CA$1:CA239)+1)","v":""},"","","","","","","",{"$f":"+IF(CH240=\"\",\"\",MAX(CI$1:CI239)+1)","v":""},"","","","","",null,{"$f":"+IF(CQ240=\"\",\"\",MAX(CP$1:CP239)+1)","v":""},{"$f":"IF(Compliance_Options!B262=\"\",\"\",Compliance_Options!B262)","v":""},{"$f":"IF(Compliance_Options!C262=\"\",\"\",Compliance_Options!C262)","v":""},{"$f":"IF(Compliance_Options!D262=\"\",\"\",Compliance_Options!D262)","v":""},"  ",{"$f":"IF(COUNTIF(CT$2:CT240,CT240)=1,CT240,\"\")","v":""},"","","",""]
[null,null,null,null,null,null,null,null,null,null,null,null,null,null,null,null,null,null,null,null,null,null,null,null,null,null,null,null,null,null,null,null,null,null,null,null,null,null,null,null,null,null,null,null,null,null,null,{"$f":"+IF(AW241=\"\",\"\",MAX(AV$1:AV240)+1)","v":""},{"$f":"IF(Compliance_Options!B263=\"\",\"\",Compliance_Options!B263)","v":""},{"$f":"IF(Compliance_Options!C263=\"\",\"\",Compliance_Options!C263)","v":""},{"$f":"IF(Compliance_Options!D263=\"\",\"\",Compliance_Options!D263)","v":""},{"$f":"IF(Compliance_Options!E263=\"\",\"\",Compliance_Options!E263)","v":""},{"$f":"IF(Compliance_Options!F263=\"\",\"\",Compliance_Options!F263)","v":""},"    ",{"$f":"IF(COUNTIF(BB$2:BB241,BB241)=1,BB241,\"\")","v":""},"","","","","","","",{"$f":"+IF(BJ241=\"\",\"\",MAX(BK$1:BK240)+1)","v":""},"","","","","","","",{"$f":"+IF(BR241=\"\",\"\",MAX(BS$1:BS240)+1)","v":""},"","","","","","","",{"$f":"+IF(BZ241=\"\",\"\",MAX(CA$1:CA240)+1)","v":""},"","","","","","","",{"$f":"+IF(CH241=\"\",\"\",MAX(CI$1:CI240)+1)","v":""},"","","","","",null,{"$f":"+IF(CQ241=\"\",\"\",MAX(CP$1:CP240)+1)","v":""},{"$f":"IF(Compliance_Options!B263=\"\",\"\",Compliance_Options!B263)","v":""},{"$f":"IF(Compliance_Options!C263=\"\",\"\",Compliance_Options!C263)","v":""},{"$f":"IF(Compliance_Options!D263=\"\",\"\",Compliance_Options!D263)","v":""},"  ",{"$f":"IF(COUNTIF(CT$2:CT241,CT241)=1,CT241,\"\")","v":""},"","","",""]
[null,null,null,null,null,null,null,null,null,null,null,null,null,null,null,null,null,null,null,null,null,null,null,null,null,null,null,null,null,null,null,null,null,null,null,null,null,null,null,null,null,null,null,null,null,null,null,{"$f":"+IF(AW242=\"\",\"\",MAX(AV$1:AV241)+1)","v":""},{"$f":"IF(Compliance_Options!B264=\"\",\"\",Compliance_Options!B264)","v":""},{"$f":"IF(Compliance_Options!C264=\"\",\"\",Compliance_Options!C264)","v":""},{"$f":"IF(Compliance_Options!D264=\"\",\"\",Compliance_Options!D264)","v":""},{"$f":"IF(Compliance_Options!E264=\"\",\"\",Compliance_Options!E264)","v":""},{"$f":"IF(Compliance_Options!F264=\"\",\"\",Compliance_Options!F264)","v":""},"    ",{"$f":"IF(COUNTIF(BB$2:BB242,BB242)=1,BB242,\"\")","v":""},"","","","","","","",{"$f":"+IF(BJ242=\"\",\"\",MAX(BK$1:BK241)+1)","v":""},"","","","","","","",{"$f":"+IF(BR242=\"\",\"\",MAX(BS$1:BS241)+1)","v":""},"","","","","","","",{"$f":"+IF(BZ242=\"\",\"\",MAX(CA$1:CA241)+1)","v":""},"","","","","","","",{"$f":"+IF(CH242=\"\",\"\",MAX(CI$1:CI241)+1)","v":""},"","","","","",null,{"$f":"+IF(CQ242=\"\",\"\",MAX(CP$1:CP241)+1)","v":""},{"$f":"IF(Compliance_Options!B264=\"\",\"\",Compliance_Options!B264)","v":""},{"$f":"IF(Compliance_Options!C264=\"\",\"\",Compliance_Options!C264)","v":""},{"$f":"IF(Compliance_Options!D264=\"\",\"\",Compliance_Options!D264)","v":""},"  ",{"$f":"IF(COUNTIF(CT$2:CT242,CT242)=1,CT242,\"\")","v":""},"","","",""]
[null,null,null,null,null,null,null,null,null,null,null,null,null,null,null,null,null,null,null,null,null,null,null,null,null,null,null,null,null,null,null,null,null,null,null,null,null,null,null,null,null,null,null,null,null,null,null,{"$f":"+IF(AW243=\"\",\"\",MAX(AV$1:AV242)+1)","v":""},{"$f":"IF(Compliance_Options!B265=\"\",\"\",Compliance_Options!B265)","v":""},{"$f":"IF(Compliance_Options!C265=\"\",\"\",Compliance_Options!C265)","v":""},{"$f":"IF(Compliance_Options!D265=\"\",\"\",Compliance_Options!D265)","v":""},{"$f":"IF(Compliance_Options!E265=\"\",\"\",Compliance_Options!E265)","v":""},{"$f":"IF(Compliance_Options!F265=\"\",\"\",Compliance_Options!F265)","v":""},"    ",{"$f":"IF(COUNTIF(BB$2:BB243,BB243)=1,BB243,\"\")","v":""},"","","","","","","",{"$f":"+IF(BJ243=\"\",\"\",MAX(BK$1:BK242)+1)","v":""},"","","","","","","",{"$f":"+IF(BR243=\"\",\"\",MAX(BS$1:BS242)+1)","v":""},"","","","","","","",{"$f":"+IF(BZ243=\"\",\"\",MAX(CA$1:CA242)+1)","v":""},"","","","","","","",{"$f":"+IF(CH243=\"\",\"\",MAX(CI$1:CI242)+1)","v":""},"","","","","",null,{"$f":"+IF(CQ243=\"\",\"\",MAX(CP$1:CP242)+1)","v":""},{"$f":"IF(Compliance_Options!B265=\"\",\"\",Compliance_Options!B265)","v":""},{"$f":"IF(Compliance_Options!C265=\"\",\"\",Compliance_Options!C265)","v":""},{"$f":"IF(Compliance_Options!D265=\"\",\"\",Compliance_Options!D265)","v":""},"  ",{"$f":"IF(COUNTIF(CT$2:CT243,CT243)=1,CT243,\"\")","v":""},"","","",""]
[null,null,null,null,null,null,null,null,null,null,null,null,null,null,null,null,null,null,null,null,null,null,null,null,null,null,null,null,null,null,null,null,null,null,null,null,null,null,null,null,null,null,null,null,null,null,null,{"$f":"+IF(AW244=\"\",\"\",MAX(AV$1:AV243)+1)","v":""},{"$f":"IF(Compliance_Options!B266=\"\",\"\",Compliance_Options!B266)","v":""},{"$f":"IF(Compliance_Options!C266=\"\",\"\",Compliance_Options!C266)","v":""},{"$f":"IF(Compliance_Options!D266=\"\",\"\",Compliance_Options!D266)","v":""},{"$f":"IF(Compliance_Options!E266=\"\",\"\",Compliance_Options!E266)","v":""},{"$f":"IF(Compliance_Options!F266=\"\",\"\",Compliance_Options!F266)","v":""},"    ",{"$f":"IF(COUNTIF(BB$2:BB244,BB244)=1,BB244,\"\")","v":""},"","","","","","","",{"$f":"+IF(BJ244=\"\",\"\",MAX(BK$1:BK243)+1)","v":""},"","","","","","","",{"$f":"+IF(BR244=\"\",\"\",MAX(BS$1:BS243)+1)","v":""},"","","","","","","",{"$f":"+IF(BZ244=\"\",\"\",MAX(CA$1:CA243)+1)","v":""},"","","","","","","",{"$f":"+IF(CH244=\"\",\"\",MAX(CI$1:CI243)+1)","v":""},"","","","","",null,{"$f":"+IF(CQ244=\"\",\"\",MAX(CP$1:CP243)+1)","v":""},{"$f":"IF(Compliance_Options!B266=\"\",\"\",Compliance_Options!B266)","v":""},{"$f":"IF(Compliance_Options!C266=\"\",\"\",Compliance_Options!C266)","v":""},{"$f":"IF(Compliance_Options!D266=\"\",\"\",Compliance_Options!D266)","v":""},"  ",{"$f":"IF(COUNTIF(CT$2:CT244,CT244)=1,CT244,\"\")","v":""},"","","",""]
[null,null,null,null,null,null,null,null,null,null,null,null,null,null,null,null,null,null,null,null,null,null,null,null,null,null,null,null,null,null,null,null,null,null,null,null,null,null,null,null,null,null,null,null,null,null,null,{"$f":"+IF(AW245=\"\",\"\",MAX(AV$1:AV244)+1)","v":""},{"$f":"IF(Compliance_Options!B267=\"\",\"\",Compliance_Options!B267)","v":""},{"$f":"IF(Compliance_Options!C267=\"\",\"\",Compliance_Options!C267)","v":""},{"$f":"IF(Compliance_Options!D267=\"\",\"\",Compliance_Options!D267)","v":""},{"$f":"IF(Compliance_Options!E267=\"\",\"\",Compliance_Options!E267)","v":""},{"$f":"IF(Compliance_Options!F267=\"\",\"\",Compliance_Options!F267)","v":""},"    ",{"$f":"IF(COUNTIF(BB$2:BB245,BB245)=1,BB245,\"\")","v":""},"","","","","","","",{"$f":"+IF(BJ245=\"\",\"\",MAX(BK$1:BK244)+1)","v":""},"","","","","","","",{"$f":"+IF(BR245=\"\",\"\",MAX(BS$1:BS244)+1)","v":""},"","","","","","","",{"$f":"+IF(BZ245=\"\",\"\",MAX(CA$1:CA244)+1)","v":""},"","","","","","","",{"$f":"+IF(CH245=\"\",\"\",MAX(CI$1:CI244)+1)","v":""},"","","","","",null,{"$f":"+IF(CQ245=\"\",\"\",MAX(CP$1:CP244)+1)","v":""},{"$f":"IF(Compliance_Options!B267=\"\",\"\",Compliance_Options!B267)","v":""},{"$f":"IF(Compliance_Options!C267=\"\",\"\",Compliance_Options!C267)","v":""},{"$f":"IF(Compliance_Options!D267=\"\",\"\",Compliance_Options!D267)","v":""},"  ",{"$f":"IF(COUNTIF(CT$2:CT245,CT245)=1,CT245,\"\")","v":""},"","","",""]
[null,null,null,null,null,null,null,null,null,null,null,null,null,null,null,null,null,null,null,null,null,null,null,null,null,null,null,null,null,null,null,null,null,null,null,null,null,null,null,null,null,null,null,null,null,null,null,{"$f":"+IF(AW246=\"\",\"\",MAX(AV$1:AV245)+1)","v":""},{"$f":"IF(Compliance_Options!B268=\"\",\"\",Compliance_Options!B268)","v":""},{"$f":"IF(Compliance_Options!C268=\"\",\"\",Compliance_Options!C268)","v":""},{"$f":"IF(Compliance_Options!D268=\"\",\"\",Compliance_Options!D268)","v":""},{"$f":"IF(Compliance_Options!E268=\"\",\"\",Compliance_Options!E268)","v":""},{"$f":"IF(Compliance_Options!F268=\"\",\"\",Compliance_Options!F268)","v":""},"    ",{"$f":"IF(COUNTIF(BB$2:BB246,BB246)=1,BB246,\"\")","v":""},"","","","","","","",{"$f":"+IF(BJ246=\"\",\"\",MAX(BK$1:BK245)+1)","v":""},"","","","","","","",{"$f":"+IF(BR246=\"\",\"\",MAX(BS$1:BS245)+1)","v":""},"","","","","","","",{"$f":"+IF(BZ246=\"\",\"\",MAX(CA$1:CA245)+1)","v":""},"","","","","","","",{"$f":"+IF(CH246=\"\",\"\",MAX(CI$1:CI245)+1)","v":""},"","","","","",null,{"$f":"+IF(CQ246=\"\",\"\",MAX(CP$1:CP245)+1)","v":""},{"$f":"IF(Compliance_Options!B268=\"\",\"\",Compliance_Options!B268)","v":""},{"$f":"IF(Compliance_Options!C268=\"\",\"\",Compliance_Options!C268)","v":""},{"$f":"IF(Compliance_Options!D268=\"\",\"\",Compliance_Options!D268)","v":""},"  ",{"$f":"IF(COUNTIF(CT$2:CT246,CT246)=1,CT246,\"\")","v":""},"","","",""]
[null,null,null,null,null,null,null,null,null,null,null,null,null,null,null,null,null,null,null,null,null,null,null,null,null,null,null,null,null,null,null,null,null,null,null,null,null,null,null,null,null,null,null,null,null,null,null,{"$f":"+IF(AW247=\"\",\"\",MAX(AV$1:AV246)+1)","v":""},{"$f":"IF(Compliance_Options!B269=\"\",\"\",Compliance_Options!B269)","v":""},{"$f":"IF(Compliance_Options!C269=\"\",\"\",Compliance_Options!C269)","v":""},{"$f":"IF(Compliance_Options!D269=\"\",\"\",Compliance_Options!D269)","v":""},{"$f":"IF(Compliance_Options!E269=\"\",\"\",Compliance_Options!E269)","v":""},{"$f":"IF(Compliance_Options!F269=\"\",\"\",Compliance_Options!F269)","v":""},"    ",{"$f":"IF(COUNTIF(BB$2:BB247,BB247)=1,BB247,\"\")","v":""},"","","","","","","",{"$f":"+IF(BJ247=\"\",\"\",MAX(BK$1:BK246)+1)","v":""},"","","","","","","",{"$f":"+IF(BR247=\"\",\"\",MAX(BS$1:BS246)+1)","v":""},"","","","","","","",{"$f":"+IF(BZ247=\"\",\"\",MAX(CA$1:CA246)+1)","v":""},"","","","","","","",{"$f":"+IF(CH247=\"\",\"\",MAX(CI$1:CI246)+1)","v":""},"","","","","",null,{"$f":"+IF(CQ247=\"\",\"\",MAX(CP$1:CP246)+1)","v":""},{"$f":"IF(Compliance_Options!B269=\"\",\"\",Compliance_Options!B269)","v":""},{"$f":"IF(Compliance_Options!C269=\"\",\"\",Compliance_Options!C269)","v":""},{"$f":"IF(Compliance_Options!D269=\"\",\"\",Compliance_Options!D269)","v":""},"  ",{"$f":"IF(COUNTIF(CT$2:CT247,CT247)=1,CT247,\"\")","v":""},"","","",""]
[null,null,null,null,null,null,null,null,null,null,null,null,null,null,null,null,null,null,null,null,null,null,null,null,null,null,null,null,null,null,null,null,null,null,null,null,null,null,null,null,null,null,null,null,null,null,null,{"$f":"+IF(AW248=\"\",\"\",MAX(AV$1:AV247)+1)","v":""},{"$f":"IF(Compliance_Options!B270=\"\",\"\",Compliance_Options!B270)","v":""},{"$f":"IF(Compliance_Options!C270=\"\",\"\",Compliance_Options!C270)","v":""},{"$f":"IF(Compliance_Options!D270=\"\",\"\",Compliance_Options!D270)","v":""},{"$f":"IF(Compliance_Options!E270=\"\",\"\",Compliance_Options!E270)","v":""},{"$f":"IF(Compliance_Options!F270=\"\",\"\",Compliance_Options!F270)","v":""},"    ",{"$f":"IF(COUNTIF(BB$2:BB248,BB248)=1,BB248,\"\")","v":""},"","","","","","","",{"$f":"+IF(BJ248=\"\",\"\",MAX(BK$1:BK247)+1)","v":""},"","","","","","","",{"$f":"+IF(BR248=\"\",\"\",MAX(BS$1:BS247)+1)","v":""},"","","","","","","",{"$f":"+IF(BZ248=\"\",\"\",MAX(CA$1:CA247)+1)","v":""},"","","","","","","",{"$f":"+IF(CH248=\"\",\"\",MAX(CI$1:CI247)+1)","v":""},"","","","","",null,{"$f":"+IF(CQ248=\"\",\"\",MAX(CP$1:CP247)+1)","v":""},{"$f":"IF(Compliance_Options!B270=\"\",\"\",Compliance_Options!B270)","v":""},{"$f":"IF(Compliance_Options!C270=\"\",\"\",Compliance_Options!C270)","v":""},{"$f":"IF(Compliance_Options!D270=\"\",\"\",Compliance_Options!D270)","v":""},"  ",{"$f":"IF(COUNTIF(CT$2:CT248,CT248)=1,CT248,\"\")","v":""},"","","",""]
[null,null,null,null,null,null,null,null,null,null,null,null,null,null,null,null,null,null,null,null,null,null,null,null,null,null,null,null,null,null,null,null,null,null,null,null,null,null,null,null,null,null,null,null,null,null,null,{"$f":"+IF(AW249=\"\",\"\",MAX(AV$1:AV248)+1)","v":""},{"$f":"IF(Compliance_Options!B271=\"\",\"\",Compliance_Options!B271)","v":""},{"$f":"IF(Compliance_Options!C271=\"\",\"\",Compliance_Options!C271)","v":""},{"$f":"IF(Compliance_Options!D271=\"\",\"\",Compliance_Options!D271)","v":""},{"$f":"IF(Compliance_Options!E271=\"\",\"\",Compliance_Options!E271)","v":""},{"$f":"IF(Compliance_Options!F271=\"\",\"\",Compliance_Options!F271)","v":""},"    ",{"$f":"IF(COUNTIF(BB$2:BB249,BB249)=1,BB249,\"\")","v":""},"","","","","","","",{"$f":"+IF(BJ249=\"\",\"\",MAX(BK$1:BK248)+1)","v":""},"","","","","","","",{"$f":"+IF(BR249=\"\",\"\",MAX(BS$1:BS248)+1)","v":""},"","","","","","","",{"$f":"+IF(BZ249=\"\",\"\",MAX(CA$1:CA248)+1)","v":""},"","","","","","","",{"$f":"+IF(CH249=\"\",\"\",MAX(CI$1:CI248)+1)","v":""},"","","","","",null,{"$f":"+IF(CQ249=\"\",\"\",MAX(CP$1:CP248)+1)","v":""},{"$f":"IF(Compliance_Options!B271=\"\",\"\",Compliance_Options!B271)","v":""},{"$f":"IF(Compliance_Options!C271=\"\",\"\",Compliance_Options!C271)","v":""},{"$f":"IF(Compliance_Options!D271=\"\",\"\",Compliance_Options!D271)","v":""},"  ",{"$f":"IF(COUNTIF(CT$2:CT249,CT249)=1,CT249,\"\")","v":""},"","","",""]
[null,null,null,null,null,null,null,null,null,null,null,null,null,null,null,null,null,null,null,null,null,null,null,null,null,null,null,null,null,null,null,null,null,null,null,null,null,null,null,null,null,null,null,null,null,null,null,{"$f":"+IF(AW250=\"\",\"\",MAX(AV$1:AV249)+1)","v":""},{"$f":"IF(Compliance_Options!B272=\"\",\"\",Compliance_Options!B272)","v":""},{"$f":"IF(Compliance_Options!C272=\"\",\"\",Compliance_Options!C272)","v":""},{"$f":"IF(Compliance_Options!D272=\"\",\"\",Compliance_Options!D272)","v":""},{"$f":"IF(Compliance_Options!E272=\"\",\"\",Compliance_Options!E272)","v":""},{"$f":"IF(Compliance_Options!F272=\"\",\"\",Compliance_Options!F272)","v":""},"    ",{"$f":"IF(COUNTIF(BB$2:BB250,BB250)=1,BB250,\"\")","v":""},"","","","","","","",{"$f":"+IF(BJ250=\"\",\"\",MAX(BK$1:BK249)+1)","v":""},"","","","","","","",{"$f":"+IF(BR250=\"\",\"\",MAX(BS$1:BS249)+1)","v":""},"","","","","","","",{"$f":"+IF(BZ250=\"\",\"\",MAX(CA$1:CA249)+1)","v":""},"","","","","","","",{"$f":"+IF(CH250=\"\",\"\",MAX(CI$1:CI249)+1)","v":""},"","","","","",null,{"$f":"+IF(CQ250=\"\",\"\",MAX(CP$1:CP249)+1)","v":""},{"$f":"IF(Compliance_Options!B272=\"\",\"\",Compliance_Options!B272)","v":""},{"$f":"IF(Compliance_Options!C272=\"\",\"\",Compliance_Options!C272)","v":""},{"$f":"IF(Compliance_Options!D272=\"\",\"\",Compliance_Options!D272)","v":""},"  ",{"$f":"IF(COUNTIF(CT$2:CT250,CT250)=1,CT250,\"\")","v":""},"","","",""]
[null,null,null,null,null,null,null,null,null,null,null,null,null,null,null,null,null,null,null,null,null,null,null,null,null,null,null,null,null,null,null,null,null,null,null,null,null,null,null,null,null,null,null,null,null,null,null,{"$f":"+IF(AW251=\"\",\"\",MAX(AV$1:AV250)+1)","v":""},{"$f":"IF(Compliance_Options!B273=\"\",\"\",Compliance_Options!B273)","v":""},{"$f":"IF(Compliance_Options!C273=\"\",\"\",Compliance_Options!C273)","v":""},{"$f":"IF(Compliance_Options!D273=\"\",\"\",Compliance_Options!D273)","v":""},{"$f":"IF(Compliance_Options!E273=\"\",\"\",Compliance_Options!E273)","v":""},{"$f":"IF(Compliance_Options!F273=\"\",\"\",Compliance_Options!F273)","v":""},"    ",{"$f":"IF(COUNTIF(BB$2:BB251,BB251)=1,BB251,\"\")","v":""},"","","","","","","",{"$f":"+IF(BJ251=\"\",\"\",MAX(BK$1:BK250)+1)","v":""},"","","","","","","",{"$f":"+IF(BR251=\"\",\"\",MAX(BS$1:BS250)+1)","v":""},"","","","","","","",{"$f":"+IF(BZ251=\"\",\"\",MAX(CA$1:CA250)+1)","v":""},"","","","","","","",{"$f":"+IF(CH251=\"\",\"\",MAX(CI$1:CI250)+1)","v":""},"","","","","",null,{"$f":"+IF(CQ251=\"\",\"\",MAX(CP$1:CP250)+1)","v":""},{"$f":"IF(Compliance_Options!B273=\"\",\"\",Compliance_Options!B273)","v":""},{"$f":"IF(Compliance_Options!C273=\"\",\"\",Compliance_Options!C273)","v":""},{"$f":"IF(Compliance_Options!D273=\"\",\"\",Compliance_Options!D273)","v":""},"  ",{"$f":"IF(COUNTIF(CT$2:CT251,CT251)=1,CT251,\"\")","v":""},"","","",""]
[null,null,null,null,null,null,null,null,null,null,null,null,null,null,null,null,null,null,null,null,null,null,null,null,null,null,null,null,null,null,null,null,null,null,null,null,null,null,null,null,null,null,null,null,null,null,null,{"$f":"+IF(AW252=\"\",\"\",MAX(AV$1:AV251)+1)","v":""},{"$f":"IF(Compliance_Options!B274=\"\",\"\",Compliance_Options!B274)","v":""},{"$f":"IF(Compliance_Options!C274=\"\",\"\",Compliance_Options!C274)","v":""},{"$f":"IF(Compliance_Options!D274=\"\",\"\",Compliance_Options!D274)","v":""},{"$f":"IF(Compliance_Options!E274=\"\",\"\",Compliance_Options!E274)","v":""},{"$f":"IF(Compliance_Options!F274=\"\",\"\",Compliance_Options!F274)","v":""},"    ",{"$f":"IF(COUNTIF(BB$2:BB252,BB252)=1,BB252,\"\")","v":""},"","","","","","","",{"$f":"+IF(BJ252=\"\",\"\",MAX(BK$1:BK251)+1)","v":""},"","","","","","","",{"$f":"+IF(BR252=\"\",\"\",MAX(BS$1:BS251)+1)","v":""},"","","","","","","",{"$f":"+IF(BZ252=\"\",\"\",MAX(CA$1:CA251)+1)","v":""},"","","","","","","",{"$f":"+IF(CH252=\"\",\"\",MAX(CI$1:CI251)+1)","v":""},"","","","","",null,{"$f":"+IF(CQ252=\"\",\"\",MAX(CP$1:CP251)+1)","v":""},{"$f":"IF(Compliance_Options!B274=\"\",\"\",Compliance_Options!B274)","v":""},{"$f":"IF(Compliance_Options!C274=\"\",\"\",Compliance_Options!C274)","v":""},{"$f":"IF(Compliance_Options!D274=\"\",\"\",Compliance_Options!D274)","v":""},"  ",{"$f":"IF(COUNTIF(CT$2:CT252,CT252)=1,CT252,\"\")","v":""},"","","",""]
[null,null,null,null,null,null,null,null,null,null,null,null,null,null,null,null,null,null,null,null,null,null,null,null,null,null,null,null,null,null,null,null,null,null,null,null,null,null,null,null,null,null,null,null,null,null,null,{"$f":"+IF(AW253=\"\",\"\",MAX(AV$1:AV252)+1)","v":""},{"$f":"IF(Compliance_Options!B275=\"\",\"\",Compliance_Options!B275)","v":""},{"$f":"IF(Compliance_Options!C275=\"\",\"\",Compliance_Options!C275)","v":""},{"$f":"IF(Compliance_Options!D275=\"\",\"\",Compliance_Options!D275)","v":""},{"$f":"IF(Compliance_Options!E275=\"\",\"\",Compliance_Options!E275)","v":""},{"$f":"IF(Compliance_Options!F275=\"\",\"\",Compliance_Options!F275)","v":""},"    ",{"$f":"IF(COUNTIF(BB$2:BB253,BB253)=1,BB253,\"\")","v":""},"","","","","","","",{"$f":"+IF(BJ253=\"\",\"\",MAX(BK$1:BK252)+1)","v":""},"","","","","","","",{"$f":"+IF(BR253=\"\",\"\",MAX(BS$1:BS252)+1)","v":""},"","","","","","","",{"$f":"+IF(BZ253=\"\",\"\",MAX(CA$1:CA252)+1)","v":""},"","","","","","","",{"$f":"+IF(CH253=\"\",\"\",MAX(CI$1:CI252)+1)","v":""},"","","","","",null,{"$f":"+IF(CQ253=\"\",\"\",MAX(CP$1:CP252)+1)","v":""},{"$f":"IF(Compliance_Options!B275=\"\",\"\",Compliance_Options!B275)","v":""},{"$f":"IF(Compliance_Options!C275=\"\",\"\",Compliance_Options!C275)","v":""},{"$f":"IF(Compliance_Options!D275=\"\",\"\",Compliance_Options!D275)","v":""},"  ",{"$f":"IF(COUNTIF(CT$2:CT253,CT253)=1,CT253,\"\")","v":""},"","","",""]
[null,null,null,null,null,null,null,null,null,null,null,null,null,null,null,null,null,null,null,null,null,null,null,null,null,null,null,null,null,null,null,null,null,null,null,null,null,null,null,null,null,null,null,null,null,null,null,{"$f":"+IF(AW254=\"\",\"\",MAX(AV$1:AV253)+1)","v":""},{"$f":"IF(Compliance_Options!B276=\"\",\"\",Compliance_Options!B276)","v":""},{"$f":"IF(Compliance_Options!C276=\"\",\"\",Compliance_Options!C276)","v":""},{"$f":"IF(Compliance_Options!D276=\"\",\"\",Compliance_Options!D276)","v":""},{"$f":"IF(Compliance_Options!E276=\"\",\"\",Compliance_Options!E276)","v":""},{"$f":"IF(Compliance_Options!F276=\"\",\"\",Compliance_Options!F276)","v":""},"    ",{"$f":"IF(COUNTIF(BB$2:BB254,BB254)=1,BB254,\"\")","v":""},"","","","","","","",{"$f":"+IF(BJ254=\"\",\"\",MAX(BK$1:BK253)+1)","v":""},"","","","","","","",{"$f":"+IF(BR254=\"\",\"\",MAX(BS$1:BS253)+1)","v":""},"","","","","","","",{"$f":"+IF(BZ254=\"\",\"\",MAX(CA$1:CA253)+1)","v":""},"","","","","","","",{"$f":"+IF(CH254=\"\",\"\",MAX(CI$1:CI253)+1)","v":""},"","","","","",null,{"$f":"+IF(CQ254=\"\",\"\",MAX(CP$1:CP253)+1)","v":""},{"$f":"IF(Compliance_Options!B276=\"\",\"\",Compliance_Options!B276)","v":""},{"$f":"IF(Compliance_Options!C276=\"\",\"\",Compliance_Options!C276)","v":""},{"$f":"IF(Compliance_Options!D276=\"\",\"\",Compliance_Options!D276)","v":""},"  ",{"$f":"IF(COUNTIF(CT$2:CT254,CT254)=1,CT254,\"\")","v":""},"","","",""]
[null,null,null,null,null,null,null,null,null,null,null,null,null,null,null,null,null,null,null,null,null,null,null,null,null,null,null,null,null,null,null,null,null,null,null,null,null,null,null,null,null,null,null,null,null,null,null,{"$f":"+IF(AW255=\"\",\"\",MAX(AV$1:AV254)+1)","v":""},{"$f":"IF(Compliance_Options!B277=\"\",\"\",Compliance_Options!B277)","v":""},{"$f":"IF(Compliance_Options!C277=\"\",\"\",Compliance_Options!C277)","v":""},{"$f":"IF(Compliance_Options!D277=\"\",\"\",Compliance_Options!D277)","v":""},{"$f":"IF(Compliance_Options!E277=\"\",\"\",Compliance_Options!E277)","v":""},{"$f":"IF(Compliance_Options!F277=\"\",\"\",Compliance_Options!F277)","v":""},"    ",{"$f":"IF(COUNTIF(BB$2:BB255,BB255)=1,BB255,\"\")","v":""},"","","","","","","",{"$f":"+IF(BJ255=\"\",\"\",MAX(BK$1:BK254)+1)","v":""},"","","","","","","",{"$f":"+IF(BR255=\"\",\"\",MAX(BS$1:BS254)+1)","v":""},"","","","","","","",{"$f":"+IF(BZ255=\"\",\"\",MAX(CA$1:CA254)+1)","v":""},"","","","","","","",{"$f":"+IF(CH255=\"\",\"\",MAX(CI$1:CI254)+1)","v":""},"","","","","",null,{"$f":"+IF(CQ255=\"\",\"\",MAX(CP$1:CP254)+1)","v":""},{"$f":"IF(Compliance_Options!B277=\"\",\"\",Compliance_Options!B277)","v":""},{"$f":"IF(Compliance_Options!C277=\"\",\"\",Compliance_Options!C277)","v":""},{"$f":"IF(Compliance_Options!D277=\"\",\"\",Compliance_Options!D277)","v":""},"  ",{"$f":"IF(COUNTIF(CT$2:CT255,CT255)=1,CT255,\"\")","v":""},"","","",""]
[null,null,null,null,null,null,null,null,null,null,null,null,null,null,null,null,null,null,null,null,null,null,null,null,null,null,null,null,null,null,null,null,null,null,null,null,null,null,null,null,null,null,null,null,null,null,null,{"$f":"+IF(AW256=\"\",\"\",MAX(AV$1:AV255)+1)","v":""},{"$f":"IF(Compliance_Options!B278=\"\",\"\",Compliance_Options!B278)","v":""},{"$f":"IF(Compliance_Options!C278=\"\",\"\",Compliance_Options!C278)","v":""},{"$f":"IF(Compliance_Options!D278=\"\",\"\",Compliance_Options!D278)","v":""},{"$f":"IF(Compliance_Options!E278=\"\",\"\",Compliance_Options!E278)","v":""},{"$f":"IF(Compliance_Options!F278=\"\",\"\",Compliance_Options!F278)","v":""},"    ",{"$f":"IF(COUNTIF(BB$2:BB256,BB256)=1,BB256,\"\")","v":""},"","","","","","","",{"$f":"+IF(BJ256=\"\",\"\",MAX(BK$1:BK255)+1)","v":""},"","","","","","","",{"$f":"+IF(BR256=\"\",\"\",MAX(BS$1:BS255)+1)","v":""},"","","","","","","",{"$f":"+IF(BZ256=\"\",\"\",MAX(CA$1:CA255)+1)","v":""},"","","","","","","",{"$f":"+IF(CH256=\"\",\"\",MAX(CI$1:CI255)+1)","v":""},"","","","","",null,{"$f":"+IF(CQ256=\"\",\"\",MAX(CP$1:CP255)+1)","v":""},{"$f":"IF(Compliance_Options!B278=\"\",\"\",Compliance_Options!B278)","v":""},{"$f":"IF(Compliance_Options!C278=\"\",\"\",Compliance_Options!C278)","v":""},{"$f":"IF(Compliance_Options!D278=\"\",\"\",Compliance_Options!D278)","v":""},"  ",{"$f":"IF(COUNTIF(CT$2:CT256,CT256)=1,CT256,\"\")","v":""},"","","",""]
[null,null,null,null,null,null,null,null,null,null,null,null,null,null,null,null,null,null,null,null,null,null,null,null,null,null,null,null,null,null,null,null,null,null,null,null,null,null,null,null,null,null,null,null,null,null,null,{"$f":"+IF(AW257=\"\",\"\",MAX(AV$1:AV256)+1)","v":""},{"$f":"IF(Compliance_Options!B279=\"\",\"\",Compliance_Options!B279)","v":""},{"$f":"IF(Compliance_Options!C279=\"\",\"\",Compliance_Options!C279)","v":""},{"$f":"IF(Compliance_Options!D279=\"\",\"\",Compliance_Options!D279)","v":""},{"$f":"IF(Compliance_Options!E279=\"\",\"\",Compliance_Options!E279)","v":""},{"$f":"IF(Compliance_Options!F279=\"\",\"\",Compliance_Options!F279)","v":""},"    ",{"$f":"IF(COUNTIF(BB$2:BB257,BB257)=1,BB257,\"\")","v":""},"","","","","","","",{"$f":"+IF(BJ257=\"\",\"\",MAX(BK$1:BK256)+1)","v":""},"","","","","","","",{"$f":"+IF(BR257=\"\",\"\",MAX(BS$1:BS256)+1)","v":""},"","","","","","","",{"$f":"+IF(BZ257=\"\",\"\",MAX(CA$1:CA256)+1)","v":""},"","","","","","","",{"$f":"+IF(CH257=\"\",\"\",MAX(CI$1:CI256)+1)","v":""},"","","","","",null,{"$f":"+IF(CQ257=\"\",\"\",MAX(CP$1:CP256)+1)","v":""},{"$f":"IF(Compliance_Options!B279=\"\",\"\",Compliance_Options!B279)","v":""},{"$f":"IF(Compliance_Options!C279=\"\",\"\",Compliance_Options!C279)","v":""},{"$f":"IF(Compliance_Options!D279=\"\",\"\",Compliance_Options!D279)","v":""},"  ",{"$f":"IF(COUNTIF(CT$2:CT257,CT257)=1,CT257,\"\")","v":""},"","","",""]
[null,null,null,null,null,null,null,null,null,null,null,null,null,null,null,null,null,null,null,null,null,null,null,null,null,null,null,null,null,null,null,null,null,null,null,null,null,null,null,null,null,null,null,null,null,null,null,{"$f":"+IF(AW258=\"\",\"\",MAX(AV$1:AV257)+1)","v":""},{"$f":"IF(Compliance_Options!B280=\"\",\"\",Compliance_Options!B280)","v":""},{"$f":"IF(Compliance_Options!C280=\"\",\"\",Compliance_Options!C280)","v":""},{"$f":"IF(Compliance_Options!D280=\"\",\"\",Compliance_Options!D280)","v":""},{"$f":"IF(Compliance_Options!E280=\"\",\"\",Compliance_Options!E280)","v":""},{"$f":"IF(Compliance_Options!F280=\"\",\"\",Compliance_Options!F280)","v":""},"    ",{"$f":"IF(COUNTIF(BB$2:BB258,BB258)=1,BB258,\"\")","v":""},"","","","","","","",{"$f":"+IF(BJ258=\"\",\"\",MAX(BK$1:BK257)+1)","v":""},"","","","","","","",{"$f":"+IF(BR258=\"\",\"\",MAX(BS$1:BS257)+1)","v":""},"","","","","","","",{"$f":"+IF(BZ258=\"\",\"\",MAX(CA$1:CA257)+1)","v":""},"","","","","","","",{"$f":"+IF(CH258=\"\",\"\",MAX(CI$1:CI257)+1)","v":""},"","","","","",null,{"$f":"+IF(CQ258=\"\",\"\",MAX(CP$1:CP257)+1)","v":""},{"$f":"IF(Compliance_Options!B280=\"\",\"\",Compliance_Options!B280)","v":""},{"$f":"IF(Compliance_Options!C280=\"\",\"\",Compliance_Options!C280)","v":""},{"$f":"IF(Compliance_Options!D280=\"\",\"\",Compliance_Options!D280)","v":""},"  ",{"$f":"IF(COUNTIF(CT$2:CT258,CT258)=1,CT258,\"\")","v":""},"","","",""]
[null,null,null,null,null,null,null,null,null,null,null,null,null,null,null,null,null,null,null,null,null,null,null,null,null,null,null,null,null,null,null,null,null,null,null,null,null,null,null,null,null,null,null,null,null,null,null,{"$f":"+IF(AW259=\"\",\"\",MAX(AV$1:AV258)+1)","v":""},{"$f":"IF(Compliance_Options!B281=\"\",\"\",Compliance_Options!B281)","v":""},{"$f":"IF(Compliance_Options!C281=\"\",\"\",Compliance_Options!C281)","v":""},{"$f":"IF(Compliance_Options!D281=\"\",\"\",Compliance_Options!D281)","v":""},{"$f":"IF(Compliance_Options!E281=\"\",\"\",Compliance_Options!E281)","v":""},{"$f":"IF(Compliance_Options!F281=\"\",\"\",Compliance_Options!F281)","v":""},{"$f":"AW259&\" \"&AX259&\" \"&AY259&\" \"&AZ259&\" \"&BA259","v":"    "},{"$f":"IF(COUNTIF(BB$2:BB259,BB259)=1,BB259,\"\")","v":""},{"$f":"IF(BE259=\"\",\"\",BE259&\" \"&BF259&\" \"&BG259)","v":""},{"$f":"IFERROR(INDEX(AW$2:AW$78,MATCH(ROW()-ROW($BC$1),$AV$2:$AV$78,0)),\"\")","v":""},{"$f":"IFERROR(INDEX(AX$2:AX$78,MATCH(ROW()-ROW($BC$1),$AV$2:$AV$78,0)),\"\")","v":""},{"$f":"IFERROR(INDEX(AY$2:AY$78,MATCH(ROW()-ROW($BC$1),$AV$2:$AV$78,0)),\"\")","v":""},{"$f":"IFERROR(INDEX(AZ$2:AZ$78,MATCH(ROW()-ROW($BC$1),$AV$2:$AV$78,0)),\"\")","v":""},{"$f":"IFERROR(INDEX(BA$2:BA$78,MATCH(ROW()-ROW($BC$1),$AV$2:$AV$78,0)),\"\")","v":""},{"$f":"IF($AY259=\"Tire Production\",$BB259,\"\")","v":""},{"$f":"+IF(BJ259=\"\",\"\",MAX(BK$1:BK258)+1)","v":""},{"$f":"IF(BM259=\"\",\"\",BM259&\" \"&BN259&\" \"&BO259&\" \"&BP259&\" \"&BQ259)","v":""},{"$f":"IFERROR(INDEX(AW$2:AW$78,MATCH(ROW()-ROW($BC$1),$BK$2:$BK$78,0)),\"\")","v":""},{"$f":"IFERROR(INDEX(AX$2:AX$78,MATCH(ROW()-ROW($BC$1),$BK$2:$BK$78,0)),\"\")","v":""},{"$f":"IFERROR(INDEX(AY$2:AY$78,MATCH(ROW()-ROW($BC$1),$BK$2:$BK$78,0)),\"\")","v":""},{"$f":"IFERROR(INDEX(AZ$2:AZ$78,MATCH(ROW()-ROW($BC$1),$BK$2:$BK$78,0)),\"\")","v":""},{"$f":"IFERROR(INDEX(BA$2:BA$78,MATCH(ROW()-ROW($BC$1),$BK$2:$BK$78,0)),\"\")","v":""},{"$f":"IF($AY259=\"Tire Cord Production\",$BB259,\"\")","v":""},{"$f":"+IF(BR259=\"\",\"\",MAX(BS$1:BS258)+1)","v":""},{"$f":"IF(BU259=\"\",\"\",BU259&\" \"&BV259&\" \"&BW259)","v":""},{"$f":"IFERROR(INDEX(AW$2:AW$78,MATCH(ROW()-ROW($BS$1),$BS$2:$BS$78,0)),\"\")","v":""},{"$f":"IFERROR(INDEX(AX$2:AX$78,MATCH(ROW()-ROW($BS$1),$BS$2:$BS$78,0)),\"\")","v":""},{"$f":"IFERROR(INDEX(AY$2:AY$78,MATCH(ROW()-ROW($BS$1),$BS$2:$BS$78,0)),\"\")","v":""},{"$f":"IFERROR(INDEX(AZ$2:AZ$78,MATCH(ROW()-ROW($BS$1),$BS$2:$BS$78,0)),\"\")","v":""},{"$f":"IFERROR(INDEX(BA$2:BA$78,MATCH(ROW()-ROW($BS$1),$BS$2:$BS$78,0)),\"\")","v":""},{"$f":"IF($AY259=\"Puncture Sealant Application\",$BB259,\"\")","v":""},{"$f":"+IF(BZ259=\"\",\"\",MAX(CA$1:CA258)+1)","v":""},{"$f":"IF(CC259=\"\",\"\",CC259&\" \"&CD259&\" \"&CE259)","v":""},{"$f":"IFERROR(INDEX(AW$2:AW$78,MATCH(ROW()-ROW($CA$1),$CA$2:$CA$78,0)),\"\")","v":""},{"$f":"IFERROR(INDEX(AX$2:AX$78,MATCH(ROW()-ROW($CA$1),$CA$2:$CA$78,0)),\"\")","v":""},{"$f":"IFERROR(INDEX(AY$2:AY$78,MATCH(ROW()-ROW($CA$1),$CA$2:$CA$78,0)),\"\")","v":""},{"$f":"IFERROR(INDEX(AZ$2:AZ$78,MATCH(ROW()-ROW($CA$1),$CA$2:$CA$78,0)),\"\")","v":""},{"$f":"IFERROR(INDEX(BA$2:BA$78,MATCH(ROW()-ROW($CA$1),$CA$2:$CA$78,0)),\"\")","v":""},{"$f":"IF($AY259=\"Rubber Processing\",$BB259,\"\")","v":""},{"$f":"+IF(CH259=\"\",\"\",MAX(CI$1:CI258)+1)","v":""},{"$f":"IFERROR(INDEX(AW$2:AW$78,MATCH(ROW()-ROW($CI$1),$CI$2:$CI$78,0)),\"\")","v":""},{"$f":"IFERROR(INDEX(AX$2:AX$78,MATCH(ROW()-ROW($CI$1),$CI$2:$CI$78,0)),\"\")","v":""},{"$f":"IFERROR(INDEX(AY$2:AY$78,MATCH(ROW()-ROW($CI$1),$CI$2:$CI$78,0)),\"\")","v":""},{"$f":"IFERROR(INDEX(AZ$2:AZ$78,MATCH(ROW()-ROW($CI$1),$CI$2:$CI$78,0)),\"\")","v":""},{"$f":"IFERROR(INDEX(BA$2:BA$78,MATCH(ROW()-ROW($CI$1),$CI$2:$CI$78,0)),\"\")","v":""},null,{"$f":"+IF(CQ259=\"\",\"\",MAX(CP$1:CP258)+1)","v":""},{"$f":"IF(Compliance_Options!B281=\"\",\"\",Compliance_Options!B281)","v":""},{"$f":"IF(Compliance_Options!C281=\"\",\"\",Compliance_Options!C281)","v":""},{"$f":"IF(Compliance_Options!D281=\"\",\"\",Compliance_Options!D281)","v":""},{"$f":"CQ259&\" \"&CR259&\" \"&CS259","v":"  "},{"$f":"IF(COUNTIF(CT$2:CT259,CT259)=1,CT259,\"\")","v":""},{"$f":"IFERROR(INDEX(CU$2:CU$78,MATCH(ROW()-ROW($CU$1),$CP$2:$CP$78,0)),\"\")","v":""},{"$f":"IFERROR(INDEX(CQ$2:CQ$78,MATCH(ROW()-ROW($CU$1),$CP$2:$CP$78,0)),\"\")","v":""},{"$f":"IFERROR(INDEX(CR$2:CR$78,MATCH(ROW()-ROW($CU$1),$CP$2:$CP$78,0)),\"\")","v":""},{"$f":"IFERROR(INDEX(CS$2:CS$78,MATCH(ROW()-ROW($CU$1),$CP$2:$CP$78,0)),\"\")","v":""}]
[null,null,null,null,null,null,null,null,null,null,null,null,null,null,null,null,null,null,null,null,null,null,null,null,null,null,null,null,null,null,null,null,null,null,null,null,null,null,null,null,null,null,null,null,null,null,null,{"$f":"+IF(AW260=\"\",\"\",MAX(AV$1:AV259)+1)","v":""},{"$f":"IF(Compliance_Options!B282=\"\",\"\",Compliance_Options!B282)","v":""},{"$f":"IF(Compliance_Options!C282=\"\",\"\",Compliance_Options!C282)","v":""},{"$f":"IF(Compliance_Options!D282=\"\",\"\",Compliance_Options!D282)","v":""},{"$f":"IF(Compliance_Options!E282=\"\",\"\",Compliance_Options!E282)","v":""},{"$f":"IF(Compliance_Options!F282=\"\",\"\",Compliance_Options!F282)","v":""},"    ",{"$f":"IF(COUNTIF(BB$2:BB260,BB260)=1,BB260,\"\")","v":""},"","","","","","","",{"$f":"+IF(BJ260=\"\",\"\",MAX(BK$1:BK259)+1)","v":""},"","","","","","","",{"$f":"+IF(BR260=\"\",\"\",MAX(BS$1:BS259)+1)","v":""},"","","","","","","",{"$f":"+IF(BZ260=\"\",\"\",MAX(CA$1:CA259)+1)","v":""},"","","","","","","",{"$f":"+IF(CH260=\"\",\"\",MAX(CI$1:CI259)+1)","v":""},"","","","","",null,{"$f":"+IF(CQ260=\"\",\"\",MAX(CP$1:CP259)+1)","v":""},{"$f":"IF(Compliance_Options!B282=\"\",\"\",Compliance_Options!B282)","v":""},{"$f":"IF(Compliance_Options!C282=\"\",\"\",Compliance_Options!C282)","v":""},{"$f":"IF(Compliance_Options!D282=\"\",\"\",Compliance_Options!D282)","v":""},"  ",{"$f":"IF(COUNTIF(CT$2:CT260,CT260)=1,CT260,\"\")","v":""},"","","",""]
[null,null,null,null,null,null,null,null,null,null,null,null,null,null,null,null,null,null,null,null,null,null,null,null,null,null,null,null,null,null,null,null,null,null,null,null,null,null,null,null,null,null,null,null,null,null,null,{"$f":"+IF(AW261=\"\",\"\",MAX(AV$1:AV260)+1)","v":""},{"$f":"IF(Compliance_Options!B283=\"\",\"\",Compliance_Options!B283)","v":""},{"$f":"IF(Compliance_Options!C283=\"\",\"\",Compliance_Options!C283)","v":""},{"$f":"IF(Compliance_Options!D283=\"\",\"\",Compliance_Options!D283)","v":""},{"$f":"IF(Compliance_Options!E283=\"\",\"\",Compliance_Options!E283)","v":""},{"$f":"IF(Compliance_Options!F283=\"\",\"\",Compliance_Options!F283)","v":""},"    ",{"$f":"IF(COUNTIF(BB$2:BB261,BB261)=1,BB261,\"\")","v":""},"","","","","","","",{"$f":"+IF(BJ261=\"\",\"\",MAX(BK$1:BK260)+1)","v":""},"","","","","","","",{"$f":"+IF(BR261=\"\",\"\",MAX(BS$1:BS260)+1)","v":""},"","","","","","","",{"$f":"+IF(BZ261=\"\",\"\",MAX(CA$1:CA260)+1)","v":""},"","","","","","","",{"$f":"+IF(CH261=\"\",\"\",MAX(CI$1:CI260)+1)","v":""},"","","","","",null,{"$f":"+IF(CQ261=\"\",\"\",MAX(CP$1:CP260)+1)","v":""},{"$f":"IF(Compliance_Options!B283=\"\",\"\",Compliance_Options!B283)","v":""},{"$f":"IF(Compliance_Options!C283=\"\",\"\",Compliance_Options!C283)","v":""},{"$f":"IF(Compliance_Options!D283=\"\",\"\",Compliance_Options!D283)","v":""},"  ",{"$f":"IF(COUNTIF(CT$2:CT261,CT261)=1,CT261,\"\")","v":""},"","","",""]
[null,null,null,null,null,null,null,null,null,null,null,null,null,null,null,null,null,null,null,null,null,null,null,null,null,null,null,null,null,null,null,null,null,null,null,null,null,null,null,null,null,null,null,null,null,null,null,{"$f":"+IF(AW262=\"\",\"\",MAX(AV$1:AV261)+1)","v":""},{"$f":"IF(Compliance_Options!B284=\"\",\"\",Compliance_Options!B284)","v":""},{"$f":"IF(Compliance_Options!C284=\"\",\"\",Compliance_Options!C284)","v":""},{"$f":"IF(Compliance_Options!D284=\"\",\"\",Compliance_Options!D284)","v":""},{"$f":"IF(Compliance_Options!E284=\"\",\"\",Compliance_Options!E284)","v":""},{"$f":"IF(Compliance_Options!F284=\"\",\"\",Compliance_Options!F284)","v":""},"    ",{"$f":"IF(COUNTIF(BB$2:BB262,BB262)=1,BB262,\"\")","v":""},"","","","","","","",{"$f":"+IF(BJ262=\"\",\"\",MAX(BK$1:BK261)+1)","v":""},"","","","","","","",{"$f":"+IF(BR262=\"\",\"\",MAX(BS$1:BS261)+1)","v":""},"","","","","","","",{"$f":"+IF(BZ262=\"\",\"\",MAX(CA$1:CA261)+1)","v":""},"","","","","","","",{"$f":"+IF(CH262=\"\",\"\",MAX(CI$1:CI261)+1)","v":""},"","","","","",null,{"$f":"+IF(CQ262=\"\",\"\",MAX(CP$1:CP261)+1)","v":""},{"$f":"IF(Compliance_Options!B284=\"\",\"\",Compliance_Options!B284)","v":""},{"$f":"IF(Compliance_Options!C284=\"\",\"\",Compliance_Options!C284)","v":""},{"$f":"IF(Compliance_Options!D284=\"\",\"\",Compliance_Options!D284)","v":""},"  ",{"$f":"IF(COUNTIF(CT$2:CT262,CT262)=1,CT262,\"\")","v":""},"","","",""]
[null,null,null,null,null,null,null,null,null,null,null,null,null,null,null,null,null,null,null,null,null,null,null,null,null,null,null,null,null,null,null,null,null,null,null,null,null,null,null,null,null,null,null,null,null,null,null,{"$f":"+IF(AW263=\"\",\"\",MAX(AV$1:AV262)+1)","v":""},{"$f":"IF(Compliance_Options!B285=\"\",\"\",Compliance_Options!B285)","v":""},{"$f":"IF(Compliance_Options!C285=\"\",\"\",Compliance_Options!C285)","v":""},{"$f":"IF(Compliance_Options!D285=\"\",\"\",Compliance_Options!D285)","v":""},{"$f":"IF(Compliance_Options!E285=\"\",\"\",Compliance_Options!E285)","v":""},{"$f":"IF(Compliance_Options!F285=\"\",\"\",Compliance_Options!F285)","v":""},"    ",{"$f":"IF(COUNTIF(BB$2:BB263,BB263)=1,BB263,\"\")","v":""},"","","","","","","",{"$f":"+IF(BJ263=\"\",\"\",MAX(BK$1:BK262)+1)","v":""},"","","","","","","",{"$f":"+IF(BR263=\"\",\"\",MAX(BS$1:BS262)+1)","v":""},"","","","","","","",{"$f":"+IF(BZ263=\"\",\"\",MAX(CA$1:CA262)+1)","v":""},"","","","","","","",{"$f":"+IF(CH263=\"\",\"\",MAX(CI$1:CI262)+1)","v":""},"","","","","",null,{"$f":"+IF(CQ263=\"\",\"\",MAX(CP$1:CP262)+1)","v":""},{"$f":"IF(Compliance_Options!B285=\"\",\"\",Compliance_Options!B285)","v":""},{"$f":"IF(Compliance_Options!C285=\"\",\"\",Compliance_Options!C285)","v":""},{"$f":"IF(Compliance_Options!D285=\"\",\"\",Compliance_Options!D285)","v":""},"  ",{"$f":"IF(COUNTIF(CT$2:CT263,CT263)=1,CT263,\"\")","v":""},"","","",""]
[null,null,null,null,null,null,null,null,null,null,null,null,null,null,null,null,null,null,null,null,null,null,null,null,null,null,null,null,null,null,null,null,null,null,null,null,null,null,null,null,null,null,null,null,null,null,null,{"$f":"+IF(AW264=\"\",\"\",MAX(AV$1:AV263)+1)","v":""},{"$f":"IF(Compliance_Options!B286=\"\",\"\",Compliance_Options!B286)","v":""},{"$f":"IF(Compliance_Options!C286=\"\",\"\",Compliance_Options!C286)","v":""},{"$f":"IF(Compliance_Options!D286=\"\",\"\",Compliance_Options!D286)","v":""},{"$f":"IF(Compliance_Options!E286=\"\",\"\",Compliance_Options!E286)","v":""},{"$f":"IF(Compliance_Options!F286=\"\",\"\",Compliance_Options!F286)","v":""},"    ",{"$f":"IF(COUNTIF(BB$2:BB264,BB264)=1,BB264,\"\")","v":""},"","","","","","","",{"$f":"+IF(BJ264=\"\",\"\",MAX(BK$1:BK263)+1)","v":""},"","","","","","","",{"$f":"+IF(BR264=\"\",\"\",MAX(BS$1:BS263)+1)","v":""},"","","","","","","",{"$f":"+IF(BZ264=\"\",\"\",MAX(CA$1:CA263)+1)","v":""},"","","","","","","",{"$f":"+IF(CH264=\"\",\"\",MAX(CI$1:CI263)+1)","v":""},"","","","","",null,{"$f":"+IF(CQ264=\"\",\"\",MAX(CP$1:CP263)+1)","v":""},{"$f":"IF(Compliance_Options!B286=\"\",\"\",Compliance_Options!B286)","v":""},{"$f":"IF(Compliance_Options!C286=\"\",\"\",Compliance_Options!C286)","v":""},{"$f":"IF(Compliance_Options!D286=\"\",\"\",Compliance_Options!D286)","v":""},"  ",{"$f":"IF(COUNTIF(CT$2:CT264,CT264)=1,CT264,\"\")","v":""},"","","",""]
[null,null,null,null,null,null,null,null,null,null,null,null,null,null,null,null,null,null,null,null,null,null,null,null,null,null,null,null,null,null,null,null,null,null,null,null,null,null,null,null,null,null,null,null,null,null,null,{"$f":"+IF(AW265=\"\",\"\",MAX(AV$1:AV264)+1)","v":""},{"$f":"IF(Compliance_Options!B287=\"\",\"\",Compliance_Options!B287)","v":""},{"$f":"IF(Compliance_Options!C287=\"\",\"\",Compliance_Options!C287)","v":""},{"$f":"IF(Compliance_Options!D287=\"\",\"\",Compliance_Options!D287)","v":""},{"$f":"IF(Compliance_Options!E287=\"\",\"\",Compliance_Options!E287)","v":""},{"$f":"IF(Compliance_Options!F287=\"\",\"\",Compliance_Options!F287)","v":""},"    ",{"$f":"IF(COUNTIF(BB$2:BB265,BB265)=1,BB265,\"\")","v":""},"","","","","","","",{"$f":"+IF(BJ265=\"\",\"\",MAX(BK$1:BK264)+1)","v":""},"","","","","","","",{"$f":"+IF(BR265=\"\",\"\",MAX(BS$1:BS264)+1)","v":""},"","","","","","","",{"$f":"+IF(BZ265=\"\",\"\",MAX(CA$1:CA264)+1)","v":""},"","","","","","","",{"$f":"+IF(CH265=\"\",\"\",MAX(CI$1:CI264)+1)","v":""},"","","","","",null,{"$f":"+IF(CQ265=\"\",\"\",MAX(CP$1:CP264)+1)","v":""},{"$f":"IF(Compliance_Options!B287=\"\",\"\",Compliance_Options!B287)","v":""},{"$f":"IF(Compliance_Options!C287=\"\",\"\",Compliance_Options!C287)","v":""},{"$f":"IF(Compliance_Options!D287=\"\",\"\",Compliance_Options!D287)","v":""},"  ",{"$f":"IF(COUNTIF(CT$2:CT265,CT265)=1,CT265,\"\")","v":""},"","","",""]
[null,null,null,null,null,null,null,null,null,null,null,null,null,null,null,null,null,null,null,null,null,null,null,null,null,null,null,null,null,null,null,null,null,null,null,null,null,null,null,null,null,null,null,null,null,null,null,{"$f":"+IF(AW266=\"\",\"\",MAX(AV$1:AV265)+1)","v":""},{"$f":"IF(Compliance_Options!B288=\"\",\"\",Compliance_Options!B288)","v":""},{"$f":"IF(Compliance_Options!C288=\"\",\"\",Compliance_Options!C288)","v":""},{"$f":"IF(Compliance_Options!D288=\"\",\"\",Compliance_Options!D288)","v":""},{"$f":"IF(Compliance_Options!E288=\"\",\"\",Compliance_Options!E288)","v":""},{"$f":"IF(Compliance_Options!F288=\"\",\"\",Compliance_Options!F288)","v":""},"    ",{"$f":"IF(COUNTIF(BB$2:BB266,BB266)=1,BB266,\"\")","v":""},"","","","","","","",{"$f":"+IF(BJ266=\"\",\"\",MAX(BK$1:BK265)+1)","v":""},"","","","","","","",{"$f":"+IF(BR266=\"\",\"\",MAX(BS$1:BS265)+1)","v":""},"","","","","","","",{"$f":"+IF(BZ266=\"\",\"\",MAX(CA$1:CA265)+1)","v":""},"","","","","","","",{"$f":"+IF(CH266=\"\",\"\",MAX(CI$1:CI265)+1)","v":""},"","","","","",null,{"$f":"+IF(CQ266=\"\",\"\",MAX(CP$1:CP265)+1)","v":""},{"$f":"IF(Compliance_Options!B288=\"\",\"\",Compliance_Options!B288)","v":""},{"$f":"IF(Compliance_Options!C288=\"\",\"\",Compliance_Options!C288)","v":""},{"$f":"IF(Compliance_Options!D288=\"\",\"\",Compliance_Options!D288)","v":""},"  ",{"$f":"IF(COUNTIF(CT$2:CT266,CT266)=1,CT266,\"\")","v":""},"","","",""]
[null,null,null,null,null,null,null,null,null,null,null,null,null,null,null,null,null,null,null,null,null,null,null,null,null,null,null,null,null,null,null,null,null,null,null,null,null,null,null,null,null,null,null,null,null,null,null,{"$f":"+IF(AW267=\"\",\"\",MAX(AV$1:AV266)+1)","v":""},{"$f":"IF(Compliance_Options!B289=\"\",\"\",Compliance_Options!B289)","v":""},{"$f":"IF(Compliance_Options!C289=\"\",\"\",Compliance_Options!C289)","v":""},{"$f":"IF(Compliance_Options!D289=\"\",\"\",Compliance_Options!D289)","v":""},{"$f":"IF(Compliance_Options!E289=\"\",\"\",Compliance_Options!E289)","v":""},{"$f":"IF(Compliance_Options!F289=\"\",\"\",Compliance_Options!F289)","v":""},"    ",{"$f":"IF(COUNTIF(BB$2:BB267,BB267)=1,BB267,\"\")","v":""},"","","","","","","",{"$f":"+IF(BJ267=\"\",\"\",MAX(BK$1:BK266)+1)","v":""},"","","","","","","",{"$f":"+IF(BR267=\"\",\"\",MAX(BS$1:BS266)+1)","v":""},"","","","","","","",{"$f":"+IF(BZ267=\"\",\"\",MAX(CA$1:CA266)+1)","v":""},"","","","","","","",{"$f":"+IF(CH267=\"\",\"\",MAX(CI$1:CI266)+1)","v":""},"","","","","",null,{"$f":"+IF(CQ267=\"\",\"\",MAX(CP$1:CP266)+1)","v":""},{"$f":"IF(Compliance_Options!B289=\"\",\"\",Compliance_Options!B289)","v":""},{"$f":"IF(Compliance_Options!C289=\"\",\"\",Compliance_Options!C289)","v":""},{"$f":"IF(Compliance_Options!D289=\"\",\"\",Compliance_Options!D289)","v":""},"  ",{"$f":"IF(COUNTIF(CT$2:CT267,CT267)=1,CT267,\"\")","v":""},"","","",""]
[null,null,null,null,null,null,null,null,null,null,null,null,null,null,null,null,null,null,null,null,null,null,null,null,null,null,null,null,null,null,null,null,null,null,null,null,null,null,null,null,null,null,null,null,null,null,null,{"$f":"+IF(AW268=\"\",\"\",MAX(AV$1:AV267)+1)","v":""},{"$f":"IF(Compliance_Options!B290=\"\",\"\",Compliance_Options!B290)","v":""},{"$f":"IF(Compliance_Options!C290=\"\",\"\",Compliance_Options!C290)","v":""},{"$f":"IF(Compliance_Options!D290=\"\",\"\",Compliance_Options!D290)","v":""},{"$f":"IF(Compliance_Options!E290=\"\",\"\",Compliance_Options!E290)","v":""},{"$f":"IF(Compliance_Options!F290=\"\",\"\",Compliance_Options!F290)","v":""},"    ",{"$f":"IF(COUNTIF(BB$2:BB268,BB268)=1,BB268,\"\")","v":""},"","","","","","","",{"$f":"+IF(BJ268=\"\",\"\",MAX(BK$1:BK267)+1)","v":""},"","","","","","","",{"$f":"+IF(BR268=\"\",\"\",MAX(BS$1:BS267)+1)","v":""},"","","","","","","",{"$f":"+IF(BZ268=\"\",\"\",MAX(CA$1:CA267)+1)","v":""},"","","","","","","",{"$f":"+IF(CH268=\"\",\"\",MAX(CI$1:CI267)+1)","v":""},"","","","","",null,{"$f":"+IF(CQ268=\"\",\"\",MAX(CP$1:CP267)+1)","v":""},{"$f":"IF(Compliance_Options!B290=\"\",\"\",Compliance_Options!B290)","v":""},{"$f":"IF(Compliance_Options!C290=\"\",\"\",Compliance_Options!C290)","v":""},{"$f":"IF(Compliance_Options!D290=\"\",\"\",Compliance_Options!D290)","v":""},"  ",{"$f":"IF(COUNTIF(CT$2:CT268,CT268)=1,CT268,\"\")","v":""},"","","",""]
[null,null,null,null,null,null,null,null,null,null,null,null,null,null,null,null,null,null,null,null,null,null,null,null,null,null,null,null,null,null,null,null,null,null,null,null,null,null,null,null,null,null,null,null,null,null,null,{"$f":"+IF(AW269=\"\",\"\",MAX(AV$1:AV268)+1)","v":""},{"$f":"IF(Compliance_Options!B291=\"\",\"\",Compliance_Options!B291)","v":""},{"$f":"IF(Compliance_Options!C291=\"\",\"\",Compliance_Options!C291)","v":""},{"$f":"IF(Compliance_Options!D291=\"\",\"\",Compliance_Options!D291)","v":""},{"$f":"IF(Compliance_Options!E291=\"\",\"\",Compliance_Options!E291)","v":""},{"$f":"IF(Compliance_Options!F291=\"\",\"\",Compliance_Options!F291)","v":""},"    ",{"$f":"IF(COUNTIF(BB$2:BB269,BB269)=1,BB269,\"\")","v":""},"","","","","","","",{"$f":"+IF(BJ269=\"\",\"\",MAX(BK$1:BK268)+1)","v":""},"","","","","","","",{"$f":"+IF(BR269=\"\",\"\",MAX(BS$1:BS268)+1)","v":""},"","","","","","","",{"$f":"+IF(BZ269=\"\",\"\",MAX(CA$1:CA268)+1)","v":""},"","","","","","","",{"$f":"+IF(CH269=\"\",\"\",MAX(CI$1:CI268)+1)","v":""},"","","","","",null,{"$f":"+IF(CQ269=\"\",\"\",MAX(CP$1:CP268)+1)","v":""},{"$f":"IF(Compliance_Options!B291=\"\",\"\",Compliance_Options!B291)","v":""},{"$f":"IF(Compliance_Options!C291=\"\",\"\",Compliance_Options!C291)","v":""},{"$f":"IF(Compliance_Options!D291=\"\",\"\",Compliance_Options!D291)","v":""},"  ",{"$f":"IF(COUNTIF(CT$2:CT269,CT269)=1,CT269,\"\")","v":""},"","","",""]
[null,null,null,null,null,null,null,null,null,null,null,null,null,null,null,null,null,null,null,null,null,null,null,null,null,null,null,null,null,null,null,null,null,null,null,null,null,null,null,null,null,null,null,null,null,null,null,{"$f":"+IF(AW270=\"\",\"\",MAX(AV$1:AV269)+1)","v":""},{"$f":"IF(Compliance_Options!B292=\"\",\"\",Compliance_Options!B292)","v":""},{"$f":"IF(Compliance_Options!C292=\"\",\"\",Compliance_Options!C292)","v":""},{"$f":"IF(Compliance_Options!D292=\"\",\"\",Compliance_Options!D292)","v":""},{"$f":"IF(Compliance_Options!E292=\"\",\"\",Compliance_Options!E292)","v":""},{"$f":"IF(Compliance_Options!F292=\"\",\"\",Compliance_Options!F292)","v":""},"    ",{"$f":"IF(COUNTIF(BB$2:BB270,BB270)=1,BB270,\"\")","v":""},"","","","","","","",{"$f":"+IF(BJ270=\"\",\"\",MAX(BK$1:BK269)+1)","v":""},"","","","","","","",{"$f":"+IF(BR270=\"\",\"\",MAX(BS$1:BS269)+1)","v":""},"","","","","","","",{"$f":"+IF(BZ270=\"\",\"\",MAX(CA$1:CA269)+1)","v":""},"","","","","","","",{"$f":"+IF(CH270=\"\",\"\",MAX(CI$1:CI269)+1)","v":""},"","","","","",null,{"$f":"+IF(CQ270=\"\",\"\",MAX(CP$1:CP269)+1)","v":""},{"$f":"IF(Compliance_Options!B292=\"\",\"\",Compliance_Options!B292)","v":""},{"$f":"IF(Compliance_Options!C292=\"\",\"\",Compliance_Options!C292)","v":""},{"$f":"IF(Compliance_Options!D292=\"\",\"\",Compliance_Options!D292)","v":""},"  ",{"$f":"IF(COUNTIF(CT$2:CT270,CT270)=1,CT270,\"\")","v":""},"","","",""]
[null,null,null,null,null,null,null,null,null,null,null,null,null,null,null,null,null,null,null,null,null,null,null,null,null,null,null,null,null,null,null,null,null,null,null,null,null,null,null,null,null,null,null,null,null,null,null,{"$f":"+IF(AW271=\"\",\"\",MAX(AV$1:AV270)+1)","v":""},{"$f":"IF(Compliance_Options!B293=\"\",\"\",Compliance_Options!B293)","v":""},{"$f":"IF(Compliance_Options!C293=\"\",\"\",Compliance_Options!C293)","v":""},{"$f":"IF(Compliance_Options!D293=\"\",\"\",Compliance_Options!D293)","v":""},{"$f":"IF(Compliance_Options!E293=\"\",\"\",Compliance_Options!E293)","v":""},{"$f":"IF(Compliance_Options!F293=\"\",\"\",Compliance_Options!F293)","v":""},"    ",{"$f":"IF(COUNTIF(BB$2:BB271,BB271)=1,BB271,\"\")","v":""},"","","","","","","",{"$f":"+IF(BJ271=\"\",\"\",MAX(BK$1:BK270)+1)","v":""},"","","","","","","",{"$f":"+IF(BR271=\"\",\"\",MAX(BS$1:BS270)+1)","v":""},"","","","","","","",{"$f":"+IF(BZ271=\"\",\"\",MAX(CA$1:CA270)+1)","v":""},"","","","","","","",{"$f":"+IF(CH271=\"\",\"\",MAX(CI$1:CI270)+1)","v":""},"","","","","",null,{"$f":"+IF(CQ271=\"\",\"\",MAX(CP$1:CP270)+1)","v":""},{"$f":"IF(Compliance_Options!B293=\"\",\"\",Compliance_Options!B293)","v":""},{"$f":"IF(Compliance_Options!C293=\"\",\"\",Compliance_Options!C293)","v":""},{"$f":"IF(Compliance_Options!D293=\"\",\"\",Compliance_Options!D293)","v":""},"  ",{"$f":"IF(COUNTIF(CT$2:CT271,CT271)=1,CT271,\"\")","v":""},"","","",""]
[null,null,null,null,null,null,null,null,null,null,null,null,null,null,null,null,null,null,null,null,null,null,null,null,null,null,null,null,null,null,null,null,null,null,null,null,null,null,null,null,null,null,null,null,null,null,null,{"$f":"+IF(AW272=\"\",\"\",MAX(AV$1:AV271)+1)","v":""},{"$f":"IF(Compliance_Options!B294=\"\",\"\",Compliance_Options!B294)","v":""},{"$f":"IF(Compliance_Options!C294=\"\",\"\",Compliance_Options!C294)","v":""},{"$f":"IF(Compliance_Options!D294=\"\",\"\",Compliance_Options!D294)","v":""},{"$f":"IF(Compliance_Options!E294=\"\",\"\",Compliance_Options!E294)","v":""},{"$f":"IF(Compliance_Options!F294=\"\",\"\",Compliance_Options!F294)","v":""},"    ",{"$f":"IF(COUNTIF(BB$2:BB272,BB272)=1,BB272,\"\")","v":""},"","","","","","","",{"$f":"+IF(BJ272=\"\",\"\",MAX(BK$1:BK271)+1)","v":""},"","","","","","","",{"$f":"+IF(BR272=\"\",\"\",MAX(BS$1:BS271)+1)","v":""},"","","","","","","",{"$f":"+IF(BZ272=\"\",\"\",MAX(CA$1:CA271)+1)","v":""},"","","","","","","",{"$f":"+IF(CH272=\"\",\"\",MAX(CI$1:CI271)+1)","v":""},"","","","","",null,{"$f":"+IF(CQ272=\"\",\"\",MAX(CP$1:CP271)+1)","v":""},{"$f":"IF(Compliance_Options!B294=\"\",\"\",Compliance_Options!B294)","v":""},{"$f":"IF(Compliance_Options!C294=\"\",\"\",Compliance_Options!C294)","v":""},{"$f":"IF(Compliance_Options!D294=\"\",\"\",Compliance_Options!D294)","v":""},"  ",{"$f":"IF(COUNTIF(CT$2:CT272,CT272)=1,CT272,\"\")","v":""},"","","",""]
[null,null,null,null,null,null,null,null,null,null,null,null,null,null,null,null,null,null,null,null,null,null,null,null,null,null,null,null,null,null,null,null,null,null,null,null,null,null,null,null,null,null,null,null,null,null,null,{"$f":"+IF(AW273=\"\",\"\",MAX(AV$1:AV272)+1)","v":""},{"$f":"IF(Compliance_Options!B295=\"\",\"\",Compliance_Options!B295)","v":""},{"$f":"IF(Compliance_Options!C295=\"\",\"\",Compliance_Options!C295)","v":""},{"$f":"IF(Compliance_Options!D295=\"\",\"\",Compliance_Options!D295)","v":""},{"$f":"IF(Compliance_Options!E295=\"\",\"\",Compliance_Options!E295)","v":""},{"$f":"IF(Compliance_Options!F295=\"\",\"\",Compliance_Options!F295)","v":""},"    ",{"$f":"IF(COUNTIF(BB$2:BB273,BB273)=1,BB273,\"\")","v":""},"","","","","","","",{"$f":"+IF(BJ273=\"\",\"\",MAX(BK$1:BK272)+1)","v":""},"","","","","","","",{"$f":"+IF(BR273=\"\",\"\",MAX(BS$1:BS272)+1)","v":""},"","","","","","","",{"$f":"+IF(BZ273=\"\",\"\",MAX(CA$1:CA272)+1)","v":""},"","","","","","","",{"$f":"+IF(CH273=\"\",\"\",MAX(CI$1:CI272)+1)","v":""},"","","","","",null,{"$f":"+IF(CQ273=\"\",\"\",MAX(CP$1:CP272)+1)","v":""},{"$f":"IF(Compliance_Options!B295=\"\",\"\",Compliance_Options!B295)","v":""},{"$f":"IF(Compliance_Options!C295=\"\",\"\",Compliance_Options!C295)","v":""},{"$f":"IF(Compliance_Options!D295=\"\",\"\",Compliance_Options!D295)","v":""},"  ",{"$f":"IF(COUNTIF(CT$2:CT273,CT273)=1,CT273,\"\")","v":""},"","","",""]
[null,null,null,null,null,null,null,null,null,null,null,null,null,null,null,null,null,null,null,null,null,null,null,null,null,null,null,null,null,null,null,null,null,null,null,null,null,null,null,null,null,null,null,null,null,null,null,{"$f":"+IF(AW274=\"\",\"\",MAX(AV$1:AV273)+1)","v":""},{"$f":"IF(Compliance_Options!B296=\"\",\"\",Compliance_Options!B296)","v":""},{"$f":"IF(Compliance_Options!C296=\"\",\"\",Compliance_Options!C296)","v":""},{"$f":"IF(Compliance_Options!D296=\"\",\"\",Compliance_Options!D296)","v":""},{"$f":"IF(Compliance_Options!E296=\"\",\"\",Compliance_Options!E296)","v":""},{"$f":"IF(Compliance_Options!F296=\"\",\"\",Compliance_Options!F296)","v":""},"    ",{"$f":"IF(COUNTIF(BB$2:BB274,BB274)=1,BB274,\"\")","v":""},"","","","","","","",{"$f":"+IF(BJ274=\"\",\"\",MAX(BK$1:BK273)+1)","v":""},"","","","","","","",{"$f":"+IF(BR274=\"\",\"\",MAX(BS$1:BS273)+1)","v":""},"","","","","","","",{"$f":"+IF(BZ274=\"\",\"\",MAX(CA$1:CA273)+1)","v":""},"","","","","","","",{"$f":"+IF(CH274=\"\",\"\",MAX(CI$1:CI273)+1)","v":""},"","","","","",null,{"$f":"+IF(CQ274=\"\",\"\",MAX(CP$1:CP273)+1)","v":""},{"$f":"IF(Compliance_Options!B296=\"\",\"\",Compliance_Options!B296)","v":""},{"$f":"IF(Compliance_Options!C296=\"\",\"\",Compliance_Options!C296)","v":""},{"$f":"IF(Compliance_Options!D296=\"\",\"\",Compliance_Options!D296)","v":""},"  ",{"$f":"IF(COUNTIF(CT$2:CT274,CT274)=1,CT274,\"\")","v":""},"","","",""]
[null,null,null,null,null,null,null,null,null,null,null,null,null,null,null,null,null,null,null,null,null,null,null,null,null,null,null,null,null,null,null,null,null,null,null,null,null,null,null,null,null,null,null,null,null,null,null,{"$f":"+IF(AW275=\"\",\"\",MAX(AV$1:AV274)+1)","v":""},{"$f":"IF(Compliance_Options!B297=\"\",\"\",Compliance_Options!B297)","v":""},{"$f":"IF(Compliance_Options!C297=\"\",\"\",Compliance_Options!C297)","v":""},{"$f":"IF(Compliance_Options!D297=\"\",\"\",Compliance_Options!D297)","v":""},{"$f":"IF(Compliance_Options!E297=\"\",\"\",Compliance_Options!E297)","v":""},{"$f":"IF(Compliance_Options!F297=\"\",\"\",Compliance_Options!F297)","v":""},"    ",{"$f":"IF(COUNTIF(BB$2:BB275,BB275)=1,BB275,\"\")","v":""},"","","","","","","",{"$f":"+IF(BJ275=\"\",\"\",MAX(BK$1:BK274)+1)","v":""},"","","","","","","",{"$f":"+IF(BR275=\"\",\"\",MAX(BS$1:BS274)+1)","v":""},"","","","","","","",{"$f":"+IF(BZ275=\"\",\"\",MAX(CA$1:CA274)+1)","v":""},"","","","","","","",{"$f":"+IF(CH275=\"\",\"\",MAX(CI$1:CI274)+1)","v":""},"","","","","",null,{"$f":"+IF(CQ275=\"\",\"\",MAX(CP$1:CP274)+1)","v":""},{"$f":"IF(Compliance_Options!B297=\"\",\"\",Compliance_Options!B297)","v":""},{"$f":"IF(Compliance_Options!C297=\"\",\"\",Compliance_Options!C297)","v":""},{"$f":"IF(Compliance_Options!D297=\"\",\"\",Compliance_Options!D297)","v":""},"  ",{"$f":"IF(COUNTIF(CT$2:CT275,CT275)=1,CT275,\"\")","v":""},"","","",""]
[null,null,null,null,null,null,null,null,null,null,null,null,null,null,null,null,null,null,null,null,null,null,null,null,null,null,null,null,null,null,null,null,null,null,null,null,null,null,null,null,null,null,null,null,null,null,null,{"$f":"+IF(AW276=\"\",\"\",MAX(AV$1:AV275)+1)","v":""},{"$f":"IF(Compliance_Options!B298=\"\",\"\",Compliance_Options!B298)","v":""},{"$f":"IF(Compliance_Options!C298=\"\",\"\",Compliance_Options!C298)","v":""},{"$f":"IF(Compliance_Options!D298=\"\",\"\",Compliance_Options!D298)","v":""},{"$f":"IF(Compliance_Options!E298=\"\",\"\",Compliance_Options!E298)","v":""},{"$f":"IF(Compliance_Options!F298=\"\",\"\",Compliance_Options!F298)","v":""},"    ",{"$f":"IF(COUNTIF(BB$2:BB276,BB276)=1,BB276,\"\")","v":""},"","","","","","","",{"$f":"+IF(BJ276=\"\",\"\",MAX(BK$1:BK275)+1)","v":""},"","","","","","","",{"$f":"+IF(BR276=\"\",\"\",MAX(BS$1:BS275)+1)","v":""},"","","","","","","",{"$f":"+IF(BZ276=\"\",\"\",MAX(CA$1:CA275)+1)","v":""},"","","","","","","",{"$f":"+IF(CH276=\"\",\"\",MAX(CI$1:CI275)+1)","v":""},"","","","","",null,{"$f":"+IF(CQ276=\"\",\"\",MAX(CP$1:CP275)+1)","v":""},{"$f":"IF(Compliance_Options!B298=\"\",\"\",Compliance_Options!B298)","v":""},{"$f":"IF(Compliance_Options!C298=\"\",\"\",Compliance_Options!C298)","v":""},{"$f":"IF(Compliance_Options!D298=\"\",\"\",Compliance_Options!D298)","v":""},"  ",{"$f":"IF(COUNTIF(CT$2:CT276,CT276)=1,CT276,\"\")","v":""},"","","",""]
[null,null,null,null,null,null,null,null,null,null,null,null,null,null,null,null,null,null,null,null,null,null,null,null,null,null,null,null,null,null,null,null,null,null,null,null,null,null,null,null,null,null,null,null,null,null,null,{"$f":"+IF(AW277=\"\",\"\",MAX(AV$1:AV276)+1)","v":""},{"$f":"IF(Compliance_Options!B299=\"\",\"\",Compliance_Options!B299)","v":""},{"$f":"IF(Compliance_Options!C299=\"\",\"\",Compliance_Options!C299)","v":""},{"$f":"IF(Compliance_Options!D299=\"\",\"\",Compliance_Options!D299)","v":""},{"$f":"IF(Compliance_Options!E299=\"\",\"\",Compliance_Options!E299)","v":""},{"$f":"IF(Compliance_Options!F299=\"\",\"\",Compliance_Options!F299)","v":""},"    ",{"$f":"IF(COUNTIF(BB$2:BB277,BB277)=1,BB277,\"\")","v":""},"","","","","","","",{"$f":"+IF(BJ277=\"\",\"\",MAX(BK$1:BK276)+1)","v":""},"","","","","","","",{"$f":"+IF(BR277=\"\",\"\",MAX(BS$1:BS276)+1)","v":""},"","","","","","","",{"$f":"+IF(BZ277=\"\",\"\",MAX(CA$1:CA276)+1)","v":""},"","","","","","","",{"$f":"+IF(CH277=\"\",\"\",MAX(CI$1:CI276)+1)","v":""},"","","","","",null,{"$f":"+IF(CQ277=\"\",\"\",MAX(CP$1:CP276)+1)","v":""},{"$f":"IF(Compliance_Options!B299=\"\",\"\",Compliance_Options!B299)","v":""},{"$f":"IF(Compliance_Options!C299=\"\",\"\",Compliance_Options!C299)","v":""},{"$f":"IF(Compliance_Options!D299=\"\",\"\",Compliance_Options!D299)","v":""},"  ",{"$f":"IF(COUNTIF(CT$2:CT277,CT277)=1,CT277,\"\")","v":""},"","","",""]
[null,null,null,null,null,null,null,null,null,null,null,null,null,null,null,null,null,null,null,null,null,null,null,null,null,null,null,null,null,null,null,null,null,null,null,null,null,null,null,null,null,null,null,null,null,null,null,{"$f":"+IF(AW278=\"\",\"\",MAX(AV$1:AV277)+1)","v":""},{"$f":"IF(Compliance_Options!B300=\"\",\"\",Compliance_Options!B300)","v":""},{"$f":"IF(Compliance_Options!C300=\"\",\"\",Compliance_Options!C300)","v":""},{"$f":"IF(Compliance_Options!D300=\"\",\"\",Compliance_Options!D300)","v":""},{"$f":"IF(Compliance_Options!E300=\"\",\"\",Compliance_Options!E300)","v":""},{"$f":"IF(Compliance_Options!F300=\"\",\"\",Compliance_Options!F300)","v":""},"    ",{"$f":"IF(COUNTIF(BB$2:BB278,BB278)=1,BB278,\"\")","v":""},"","","","","","","",{"$f":"+IF(BJ278=\"\",\"\",MAX(BK$1:BK277)+1)","v":""},"","","","","","","",{"$f":"+IF(BR278=\"\",\"\",MAX(BS$1:BS277)+1)","v":""},"","","","","","","",{"$f":"+IF(BZ278=\"\",\"\",MAX(CA$1:CA277)+1)","v":""},"","","","","","","",{"$f":"+IF(CH278=\"\",\"\",MAX(CI$1:CI277)+1)","v":""},"","","","","",null,{"$f":"+IF(CQ278=\"\",\"\",MAX(CP$1:CP277)+1)","v":""},{"$f":"IF(Compliance_Options!B300=\"\",\"\",Compliance_Options!B300)","v":""},{"$f":"IF(Compliance_Options!C300=\"\",\"\",Compliance_Options!C300)","v":""},{"$f":"IF(Compliance_Options!D300=\"\",\"\",Compliance_Options!D300)","v":""},"  ",{"$f":"IF(COUNTIF(CT$2:CT278,CT278)=1,CT278,\"\")","v":""},"","","",""]
[null,null,null,null,null,null,null,null,null,null,null,null,null,null,null,null,null,null,null,null,null,null,null,null,null,null,null,null,null,null,null,null,null,null,null,null,null,null,null,null,null,null,null,null,null,null,null,{"$f":"+IF(AW279=\"\",\"\",MAX(AV$1:AV278)+1)","v":""},{"$f":"IF(Compliance_Options!B301=\"\",\"\",Compliance_Options!B301)","v":""},{"$f":"IF(Compliance_Options!C301=\"\",\"\",Compliance_Options!C301)","v":""},{"$f":"IF(Compliance_Options!D301=\"\",\"\",Compliance_Options!D301)","v":""},{"$f":"IF(Compliance_Options!E301=\"\",\"\",Compliance_Options!E301)","v":""},{"$f":"IF(Compliance_Options!F301=\"\",\"\",Compliance_Options!F301)","v":""},"    ",{"$f":"IF(COUNTIF(BB$2:BB279,BB279)=1,BB279,\"\")","v":""},"","","","","","","",{"$f":"+IF(BJ279=\"\",\"\",MAX(BK$1:BK278)+1)","v":""},"","","","","","","",{"$f":"+IF(BR279=\"\",\"\",MAX(BS$1:BS278)+1)","v":""},"","","","","","","",{"$f":"+IF(BZ279=\"\",\"\",MAX(CA$1:CA278)+1)","v":""},"","","","","","","",{"$f":"+IF(CH279=\"\",\"\",MAX(CI$1:CI278)+1)","v":""},"","","","","",null,{"$f":"+IF(CQ279=\"\",\"\",MAX(CP$1:CP278)+1)","v":""},{"$f":"IF(Compliance_Options!B301=\"\",\"\",Compliance_Options!B301)","v":""},{"$f":"IF(Compliance_Options!C301=\"\",\"\",Compliance_Options!C301)","v":""},{"$f":"IF(Compliance_Options!D301=\"\",\"\",Compliance_Options!D301)","v":""},"  ",{"$f":"IF(COUNTIF(CT$2:CT279,CT279)=1,CT279,\"\")","v":""},"","","",""]
[null,null,null,null,null,null,null,null,null,null,null,null,null,null,null,null,null,null,null,null,null,null,null,null,null,null,null,null,null,null,null,null,null,null,null,null,null,null,null,null,null,null,null,null,null,null,null,{"$f":"+IF(AW280=\"\",\"\",MAX(AV$1:AV279)+1)","v":""},{"$f":"IF(Compliance_Options!B302=\"\",\"\",Compliance_Options!B302)","v":""},{"$f":"IF(Compliance_Options!C302=\"\",\"\",Compliance_Options!C302)","v":""},{"$f":"IF(Compliance_Options!D302=\"\",\"\",Compliance_Options!D302)","v":""},{"$f":"IF(Compliance_Options!E302=\"\",\"\",Compliance_Options!E302)","v":""},{"$f":"IF(Compliance_Options!F302=\"\",\"\",Compliance_Options!F302)","v":""},"    ",{"$f":"IF(COUNTIF(BB$2:BB280,BB280)=1,BB280,\"\")","v":""},"","","","","","","",{"$f":"+IF(BJ280=\"\",\"\",MAX(BK$1:BK279)+1)","v":""},"","","","","","","",{"$f":"+IF(BR280=\"\",\"\",MAX(BS$1:BS279)+1)","v":""},"","","","","","","",{"$f":"+IF(BZ280=\"\",\"\",MAX(CA$1:CA279)+1)","v":""},"","","","","","","",{"$f":"+IF(CH280=\"\",\"\",MAX(CI$1:CI279)+1)","v":""},"","","","","",null,{"$f":"+IF(CQ280=\"\",\"\",MAX(CP$1:CP279)+1)","v":""},{"$f":"IF(Compliance_Options!B302=\"\",\"\",Compliance_Options!B302)","v":""},{"$f":"IF(Compliance_Options!C302=\"\",\"\",Compliance_Options!C302)","v":""},{"$f":"IF(Compliance_Options!D302=\"\",\"\",Compliance_Options!D302)","v":""},"  ",{"$f":"IF(COUNTIF(CT$2:CT280,CT280)=1,CT280,\"\")","v":""},"","","",""]
[null,null,null,null,null,null,null,null,null,null,null,null,null,null,null,null,null,null,null,null,null,null,null,null,null,null,null,null,null,null,null,null,null,null,null,null,null,null,null,null,null,null,null,null,null,null,null,{"$f":"+IF(AW281=\"\",\"\",MAX(AV$1:AV280)+1)","v":""},{"$f":"IF(Compliance_Options!B303=\"\",\"\",Compliance_Options!B303)","v":""},{"$f":"IF(Compliance_Options!C303=\"\",\"\",Compliance_Options!C303)","v":""},{"$f":"IF(Compliance_Options!D303=\"\",\"\",Compliance_Options!D303)","v":""},{"$f":"IF(Compliance_Options!E303=\"\",\"\",Compliance_Options!E303)","v":""},{"$f":"IF(Compliance_Options!F303=\"\",\"\",Compliance_Options!F303)","v":""},"    ",{"$f":"IF(COUNTIF(BB$2:BB281,BB281)=1,BB281,\"\")","v":""},"","","","","","","",{"$f":"+IF(BJ281=\"\",\"\",MAX(BK$1:BK280)+1)","v":""},"","","","","","","",{"$f":"+IF(BR281=\"\",\"\",MAX(BS$1:BS280)+1)","v":""},"","","","","","","",{"$f":"+IF(BZ281=\"\",\"\",MAX(CA$1:CA280)+1)","v":""},"","","","","","","",{"$f":"+IF(CH281=\"\",\"\",MAX(CI$1:CI280)+1)","v":""},"","","","","",null,{"$f":"+IF(CQ281=\"\",\"\",MAX(CP$1:CP280)+1)","v":""},{"$f":"IF(Compliance_Options!B303=\"\",\"\",Compliance_Options!B303)","v":""},{"$f":"IF(Compliance_Options!C303=\"\",\"\",Compliance_Options!C303)","v":""},{"$f":"IF(Compliance_Options!D303=\"\",\"\",Compliance_Options!D303)","v":""},"  ",{"$f":"IF(COUNTIF(CT$2:CT281,CT281)=1,CT281,\"\")","v":""},"","","",""]
[null,null,null,null,null,null,null,null,null,null,null,null,null,null,null,null,null,null,null,null,null,null,null,null,null,null,null,null,null,null,null,null,null,null,null,null,null,null,null,null,null,null,null,null,null,null,null,{"$f":"+IF(AW282=\"\",\"\",MAX(AV$1:AV281)+1)","v":""},{"$f":"IF(Compliance_Options!B304=\"\",\"\",Compliance_Options!B304)","v":""},{"$f":"IF(Compliance_Options!C304=\"\",\"\",Compliance_Options!C304)","v":""},{"$f":"IF(Compliance_Options!D304=\"\",\"\",Compliance_Options!D304)","v":""},{"$f":"IF(Compliance_Options!E304=\"\",\"\",Compliance_Options!E304)","v":""},{"$f":"IF(Compliance_Options!F304=\"\",\"\",Compliance_Options!F304)","v":""},"    ",{"$f":"IF(COUNTIF(BB$2:BB282,BB282)=1,BB282,\"\")","v":""},"","","","","","","",{"$f":"+IF(BJ282=\"\",\"\",MAX(BK$1:BK281)+1)","v":""},"","","","","","","",{"$f":"+IF(BR282=\"\",\"\",MAX(BS$1:BS281)+1)","v":""},"","","","","","","",{"$f":"+IF(BZ282=\"\",\"\",MAX(CA$1:CA281)+1)","v":""},"","","","","","","",{"$f":"+IF(CH282=\"\",\"\",MAX(CI$1:CI281)+1)","v":""},"","","","","",null,{"$f":"+IF(CQ282=\"\",\"\",MAX(CP$1:CP281)+1)","v":""},{"$f":"IF(Compliance_Options!B304=\"\",\"\",Compliance_Options!B304)","v":""},{"$f":"IF(Compliance_Options!C304=\"\",\"\",Compliance_Options!C304)","v":""},{"$f":"IF(Compliance_Options!D304=\"\",\"\",Compliance_Options!D304)","v":""},"  ",{"$f":"IF(COUNTIF(CT$2:CT282,CT282)=1,CT282,\"\")","v":""},"","","",""]
[null,null,null,null,null,null,null,null,null,null,null,null,null,null,null,null,null,null,null,null,null,null,null,null,null,null,null,null,null,null,null,null,null,null,null,null,null,null,null,null,null,null,null,null,null,null,null,{"$f":"+IF(AW283=\"\",\"\",MAX(AV$1:AV282)+1)","v":""},{"$f":"IF(Compliance_Options!B305=\"\",\"\",Compliance_Options!B305)","v":""},{"$f":"IF(Compliance_Options!C305=\"\",\"\",Compliance_Options!C305)","v":""},{"$f":"IF(Compliance_Options!D305=\"\",\"\",Compliance_Options!D305)","v":""},{"$f":"IF(Compliance_Options!E305=\"\",\"\",Compliance_Options!E305)","v":""},{"$f":"IF(Compliance_Options!F305=\"\",\"\",Compliance_Options!F305)","v":""},"    ",{"$f":"IF(COUNTIF(BB$2:BB283,BB283)=1,BB283,\"\")","v":""},"","","","","","","",{"$f":"+IF(BJ283=\"\",\"\",MAX(BK$1:BK282)+1)","v":""},"","","","","","","",{"$f":"+IF(BR283=\"\",\"\",MAX(BS$1:BS282)+1)","v":""},"","","","","","","",{"$f":"+IF(BZ283=\"\",\"\",MAX(CA$1:CA282)+1)","v":""},"","","","","","","",{"$f":"+IF(CH283=\"\",\"\",MAX(CI$1:CI282)+1)","v":""},"","","","","",null,{"$f":"+IF(CQ283=\"\",\"\",MAX(CP$1:CP282)+1)","v":""},{"$f":"IF(Compliance_Options!B305=\"\",\"\",Compliance_Options!B305)","v":""},{"$f":"IF(Compliance_Options!C305=\"\",\"\",Compliance_Options!C305)","v":""},{"$f":"IF(Compliance_Options!D305=\"\",\"\",Compliance_Options!D305)","v":""},"  ",{"$f":"IF(COUNTIF(CT$2:CT283,CT283)=1,CT283,\"\")","v":""},"","","",""]
[null,null,null,null,null,null,null,null,null,null,null,null,null,null,null,null,null,null,null,null,null,null,null,null,null,null,null,null,null,null,null,null,null,null,null,null,null,null,null,null,null,null,null,null,null,null,null,{"$f":"+IF(AW284=\"\",\"\",MAX(AV$1:AV283)+1)","v":""},{"$f":"IF(Compliance_Options!B306=\"\",\"\",Compliance_Options!B306)","v":""},{"$f":"IF(Compliance_Options!C306=\"\",\"\",Compliance_Options!C306)","v":""},{"$f":"IF(Compliance_Options!D306=\"\",\"\",Compliance_Options!D306)","v":""},{"$f":"IF(Compliance_Options!E306=\"\",\"\",Compliance_Options!E306)","v":""},{"$f":"IF(Compliance_Options!F306=\"\",\"\",Compliance_Options!F306)","v":""},"    ",{"$f":"IF(COUNTIF(BB$2:BB284,BB284)=1,BB284,\"\")","v":""},"","","","","","","",{"$f":"+IF(BJ284=\"\",\"\",MAX(BK$1:BK283)+1)","v":""},"","","","","","","",{"$f":"+IF(BR284=\"\",\"\",MAX(BS$1:BS283)+1)","v":""},"","","","","","","",{"$f":"+IF(BZ284=\"\",\"\",MAX(CA$1:CA283)+1)","v":""},"","","","","","","",{"$f":"+IF(CH284=\"\",\"\",MAX(CI$1:CI283)+1)","v":""},"","","","","",null,{"$f":"+IF(CQ284=\"\",\"\",MAX(CP$1:CP283)+1)","v":""},{"$f":"IF(Compliance_Options!B306=\"\",\"\",Compliance_Options!B306)","v":""},{"$f":"IF(Compliance_Options!C306=\"\",\"\",Compliance_Options!C306)","v":""},{"$f":"IF(Compliance_Options!D306=\"\",\"\",Compliance_Options!D306)","v":""},"  ",{"$f":"IF(COUNTIF(CT$2:CT284,CT284)=1,CT284,\"\")","v":""},"","","",""]
[null,null,null,null,null,null,null,null,null,null,null,null,null,null,null,null,null,null,null,null,null,null,null,null,null,null,null,null,null,null,null,null,null,null,null,null,null,null,null,null,null,null,null,null,null,null,null,{"$f":"+IF(AW285=\"\",\"\",MAX(AV$1:AV284)+1)","v":""},{"$f":"IF(Compliance_Options!B307=\"\",\"\",Compliance_Options!B307)","v":""},{"$f":"IF(Compliance_Options!C307=\"\",\"\",Compliance_Options!C307)","v":""},{"$f":"IF(Compliance_Options!D307=\"\",\"\",Compliance_Options!D307)","v":""},{"$f":"IF(Compliance_Options!E307=\"\",\"\",Compliance_Options!E307)","v":""},{"$f":"IF(Compliance_Options!F307=\"\",\"\",Compliance_Options!F307)","v":""},"    ",{"$f":"IF(COUNTIF(BB$2:BB285,BB285)=1,BB285,\"\")","v":""},"","","","","","","",{"$f":"+IF(BJ285=\"\",\"\",MAX(BK$1:BK284)+1)","v":""},"","","","","","","",{"$f":"+IF(BR285=\"\",\"\",MAX(BS$1:BS284)+1)","v":""},"","","","","","","",{"$f":"+IF(BZ285=\"\",\"\",MAX(CA$1:CA284)+1)","v":""},"","","","","","","",{"$f":"+IF(CH285=\"\",\"\",MAX(CI$1:CI284)+1)","v":""},"","","","","",null,{"$f":"+IF(CQ285=\"\",\"\",MAX(CP$1:CP284)+1)","v":""},{"$f":"IF(Compliance_Options!B307=\"\",\"\",Compliance_Options!B307)","v":""},{"$f":"IF(Compliance_Options!C307=\"\",\"\",Compliance_Options!C307)","v":""},{"$f":"IF(Compliance_Options!D307=\"\",\"\",Compliance_Options!D307)","v":""},"  ",{"$f":"IF(COUNTIF(CT$2:CT285,CT285)=1,CT285,\"\")","v":""},"","","",""]
[null,null,null,null,null,null,null,null,null,null,null,null,null,null,null,null,null,null,null,null,null,null,null,null,null,null,null,null,null,null,null,null,null,null,null,null,null,null,null,null,null,null,null,null,null,null,null,{"$f":"+IF(AW286=\"\",\"\",MAX(AV$1:AV285)+1)","v":""},{"$f":"IF(Compliance_Options!B308=\"\",\"\",Compliance_Options!B308)","v":""},{"$f":"IF(Compliance_Options!C308=\"\",\"\",Compliance_Options!C308)","v":""},{"$f":"IF(Compliance_Options!D308=\"\",\"\",Compliance_Options!D308)","v":""},{"$f":"IF(Compliance_Options!E308=\"\",\"\",Compliance_Options!E308)","v":""},{"$f":"IF(Compliance_Options!F308=\"\",\"\",Compliance_Options!F308)","v":""},"    ",{"$f":"IF(COUNTIF(BB$2:BB286,BB286)=1,BB286,\"\")","v":""},"","","","","","","",{"$f":"+IF(BJ286=\"\",\"\",MAX(BK$1:BK285)+1)","v":""},"","","","","","","",{"$f":"+IF(BR286=\"\",\"\",MAX(BS$1:BS285)+1)","v":""},"","","","","","","",{"$f":"+IF(BZ286=\"\",\"\",MAX(CA$1:CA285)+1)","v":""},"","","","","","","",{"$f":"+IF(CH286=\"\",\"\",MAX(CI$1:CI285)+1)","v":""},"","","","","",null,{"$f":"+IF(CQ286=\"\",\"\",MAX(CP$1:CP285)+1)","v":""},{"$f":"IF(Compliance_Options!B308=\"\",\"\",Compliance_Options!B308)","v":""},{"$f":"IF(Compliance_Options!C308=\"\",\"\",Compliance_Options!C308)","v":""},{"$f":"IF(Compliance_Options!D308=\"\",\"\",Compliance_Options!D308)","v":""},"  ",{"$f":"IF(COUNTIF(CT$2:CT286,CT286)=1,CT286,\"\")","v":""},"","","",""]
[null,null,null,null,null,null,null,null,null,null,null,null,null,null,null,null,null,null,null,null,null,null,null,null,null,null,null,null,null,null,null,null,null,null,null,null,null,null,null,null,null,null,null,null,null,null,null,{"$f":"+IF(AW287=\"\",\"\",MAX(AV$1:AV286)+1)","v":""},{"$f":"IF(Compliance_Options!B309=\"\",\"\",Compliance_Options!B309)","v":""},{"$f":"IF(Compliance_Options!C309=\"\",\"\",Compliance_Options!C309)","v":""},{"$f":"IF(Compliance_Options!D309=\"\",\"\",Compliance_Options!D309)","v":""},{"$f":"IF(Compliance_Options!E309=\"\",\"\",Compliance_Options!E309)","v":""},{"$f":"IF(Compliance_Options!F309=\"\",\"\",Compliance_Options!F309)","v":""},"    ",{"$f":"IF(COUNTIF(BB$2:BB287,BB287)=1,BB287,\"\")","v":""},"","","","","","","",{"$f":"+IF(BJ287=\"\",\"\",MAX(BK$1:BK286)+1)","v":""},"","","","","","","",{"$f":"+IF(BR287=\"\",\"\",MAX(BS$1:BS286)+1)","v":""},"","","","","","","",{"$f":"+IF(BZ287=\"\",\"\",MAX(CA$1:CA286)+1)","v":""},"","","","","","","",{"$f":"+IF(CH287=\"\",\"\",MAX(CI$1:CI286)+1)","v":""},"","","","","",null,{"$f":"+IF(CQ287=\"\",\"\",MAX(CP$1:CP286)+1)","v":""},{"$f":"IF(Compliance_Options!B309=\"\",\"\",Compliance_Options!B309)","v":""},{"$f":"IF(Compliance_Options!C309=\"\",\"\",Compliance_Options!C309)","v":""},{"$f":"IF(Compliance_Options!D309=\"\",\"\",Compliance_Options!D309)","v":""},"  ",{"$f":"IF(COUNTIF(CT$2:CT287,CT287)=1,CT287,\"\")","v":""},"","","",""]
[null,null,null,null,null,null,null,null,null,null,null,null,null,null,null,null,null,null,null,null,null,null,null,null,null,null,null,null,null,null,null,null,null,null,null,null,null,null,null,null,null,null,null,null,null,null,null,{"$f":"+IF(AW288=\"\",\"\",MAX(AV$1:AV287)+1)","v":""},{"$f":"IF(Compliance_Options!B310=\"\",\"\",Compliance_Options!B310)","v":""},{"$f":"IF(Compliance_Options!C310=\"\",\"\",Compliance_Options!C310)","v":""},{"$f":"IF(Compliance_Options!D310=\"\",\"\",Compliance_Options!D310)","v":""},{"$f":"IF(Compliance_Options!E310=\"\",\"\",Compliance_Options!E310)","v":""},{"$f":"IF(Compliance_Options!F310=\"\",\"\",Compliance_Options!F310)","v":""},"    ",{"$f":"IF(COUNTIF(BB$2:BB288,BB288)=1,BB288,\"\")","v":""},"","","","","","","",{"$f":"+IF(BJ288=\"\",\"\",MAX(BK$1:BK287)+1)","v":""},"","","","","","","",{"$f":"+IF(BR288=\"\",\"\",MAX(BS$1:BS287)+1)","v":""},"","","","","","","",{"$f":"+IF(BZ288=\"\",\"\",MAX(CA$1:CA287)+1)","v":""},"","","","","","","",{"$f":"+IF(CH288=\"\",\"\",MAX(CI$1:CI287)+1)","v":""},"","","","","",null,{"$f":"+IF(CQ288=\"\",\"\",MAX(CP$1:CP287)+1)","v":""},{"$f":"IF(Compliance_Options!B310=\"\",\"\",Compliance_Options!B310)","v":""},{"$f":"IF(Compliance_Options!C310=\"\",\"\",Compliance_Options!C310)","v":""},{"$f":"IF(Compliance_Options!D310=\"\",\"\",Compliance_Options!D310)","v":""},"  ",{"$f":"IF(COUNTIF(CT$2:CT288,CT288)=1,CT288,\"\")","v":""},"","","",""]
[null,null,null,null,null,null,null,null,null,null,null,null,null,null,null,null,null,null,null,null,null,null,null,null,null,null,null,null,null,null,null,null,null,null,null,null,null,null,null,null,null,null,null,null,null,null,null,{"$f":"+IF(AW289=\"\",\"\",MAX(AV$1:AV288)+1)","v":""},{"$f":"IF(Compliance_Options!B311=\"\",\"\",Compliance_Options!B311)","v":""},{"$f":"IF(Compliance_Options!C311=\"\",\"\",Compliance_Options!C311)","v":""},{"$f":"IF(Compliance_Options!D311=\"\",\"\",Compliance_Options!D311)","v":""},{"$f":"IF(Compliance_Options!E311=\"\",\"\",Compliance_Options!E311)","v":""},{"$f":"IF(Compliance_Options!F311=\"\",\"\",Compliance_Options!F311)","v":""},"    ",{"$f":"IF(COUNTIF(BB$2:BB289,BB289)=1,BB289,\"\")","v":""},"","","","","","","",{"$f":"+IF(BJ289=\"\",\"\",MAX(BK$1:BK288)+1)","v":""},"","","","","","","",{"$f":"+IF(BR289=\"\",\"\",MAX(BS$1:BS288)+1)","v":""},"","","","","","","",{"$f":"+IF(BZ289=\"\",\"\",MAX(CA$1:CA288)+1)","v":""},"","","","","","","",{"$f":"+IF(CH289=\"\",\"\",MAX(CI$1:CI288)+1)","v":""},"","","","","",null,{"$f":"+IF(CQ289=\"\",\"\",MAX(CP$1:CP288)+1)","v":""},{"$f":"IF(Compliance_Options!B311=\"\",\"\",Compliance_Options!B311)","v":""},{"$f":"IF(Compliance_Options!C311=\"\",\"\",Compliance_Options!C311)","v":""},{"$f":"IF(Compliance_Options!D311=\"\",\"\",Compliance_Options!D311)","v":""},"  ",{"$f":"IF(COUNTIF(CT$2:CT289,CT289)=1,CT289,\"\")","v":""},"","","",""]
[null,null,null,null,null,null,null,null,null,null,null,null,null,null,null,null,null,null,null,null,null,null,null,null,null,null,null,null,null,null,null,null,null,null,null,null,null,null,null,null,null,null,null,null,null,null,null,{"$f":"+IF(AW290=\"\",\"\",MAX(AV$1:AV289)+1)","v":""},{"$f":"IF(Compliance_Options!B312=\"\",\"\",Compliance_Options!B312)","v":""},{"$f":"IF(Compliance_Options!C312=\"\",\"\",Compliance_Options!C312)","v":""},{"$f":"IF(Compliance_Options!D312=\"\",\"\",Compliance_Options!D312)","v":""},{"$f":"IF(Compliance_Options!E312=\"\",\"\",Compliance_Options!E312)","v":""},{"$f":"IF(Compliance_Options!F312=\"\",\"\",Compliance_Options!F312)","v":""},"    ",{"$f":"IF(COUNTIF(BB$2:BB290,BB290)=1,BB290,\"\")","v":""},"","","","","","","",{"$f":"+IF(BJ290=\"\",\"\",MAX(BK$1:BK289)+1)","v":""},"","","","","","","",{"$f":"+IF(BR290=\"\",\"\",MAX(BS$1:BS289)+1)","v":""},"","","","","","","",{"$f":"+IF(BZ290=\"\",\"\",MAX(CA$1:CA289)+1)","v":""},"","","","","","","",{"$f":"+IF(CH290=\"\",\"\",MAX(CI$1:CI289)+1)","v":""},"","","","","",null,{"$f":"+IF(CQ290=\"\",\"\",MAX(CP$1:CP289)+1)","v":""},{"$f":"IF(Compliance_Options!B312=\"\",\"\",Compliance_Options!B312)","v":""},{"$f":"IF(Compliance_Options!C312=\"\",\"\",Compliance_Options!C312)","v":""},{"$f":"IF(Compliance_Options!D312=\"\",\"\",Compliance_Options!D312)","v":""},"  ",{"$f":"IF(COUNTIF(CT$2:CT290,CT290)=1,CT290,\"\")","v":""},"","","",""]
[null,null,null,null,null,null,null,null,null,null,null,null,null,null,null,null,null,null,null,null,null,null,null,null,null,null,null,null,null,null,null,null,null,null,null,null,null,null,null,null,null,null,null,null,null,null,null,{"$f":"+IF(AW291=\"\",\"\",MAX(AV$1:AV290)+1)","v":""},{"$f":"IF(Compliance_Options!B313=\"\",\"\",Compliance_Options!B313)","v":""},{"$f":"IF(Compliance_Options!C313=\"\",\"\",Compliance_Options!C313)","v":""},{"$f":"IF(Compliance_Options!D313=\"\",\"\",Compliance_Options!D313)","v":""},{"$f":"IF(Compliance_Options!E313=\"\",\"\",Compliance_Options!E313)","v":""},{"$f":"IF(Compliance_Options!F313=\"\",\"\",Compliance_Options!F313)","v":""},"    ",{"$f":"IF(COUNTIF(BB$2:BB291,BB291)=1,BB291,\"\")","v":""},"","","","","","","",{"$f":"+IF(BJ291=\"\",\"\",MAX(BK$1:BK290)+1)","v":""},"","","","","","","",{"$f":"+IF(BR291=\"\",\"\",MAX(BS$1:BS290)+1)","v":""},"","","","","","","",{"$f":"+IF(BZ291=\"\",\"\",MAX(CA$1:CA290)+1)","v":""},"","","","","","","",{"$f":"+IF(CH291=\"\",\"\",MAX(CI$1:CI290)+1)","v":""},"","","","","",null,{"$f":"+IF(CQ291=\"\",\"\",MAX(CP$1:CP290)+1)","v":""},{"$f":"IF(Compliance_Options!B313=\"\",\"\",Compliance_Options!B313)","v":""},{"$f":"IF(Compliance_Options!C313=\"\",\"\",Compliance_Options!C313)","v":""},{"$f":"IF(Compliance_Options!D313=\"\",\"\",Compliance_Options!D313)","v":""},"  ",{"$f":"IF(COUNTIF(CT$2:CT291,CT291)=1,CT291,\"\")","v":""},"","","",""]
[null,null,null,null,null,null,null,null,null,null,null,null,null,null,null,null,null,null,null,null,null,null,null,null,null,null,null,null,null,null,null,null,null,null,null,null,null,null,null,null,null,null,null,null,null,null,null,{"$f":"+IF(AW292=\"\",\"\",MAX(AV$1:AV291)+1)","v":""},{"$f":"IF(Compliance_Options!B314=\"\",\"\",Compliance_Options!B314)","v":""},{"$f":"IF(Compliance_Options!C314=\"\",\"\",Compliance_Options!C314)","v":""},{"$f":"IF(Compliance_Options!D314=\"\",\"\",Compliance_Options!D314)","v":""},{"$f":"IF(Compliance_Options!E314=\"\",\"\",Compliance_Options!E314)","v":""},{"$f":"IF(Compliance_Options!F314=\"\",\"\",Compliance_Options!F314)","v":""},"    ",{"$f":"IF(COUNTIF(BB$2:BB292,BB292)=1,BB292,\"\")","v":""},"","","","","","","",{"$f":"+IF(BJ292=\"\",\"\",MAX(BK$1:BK291)+1)","v":""},"","","","","","","",{"$f":"+IF(BR292=\"\",\"\",MAX(BS$1:BS291)+1)","v":""},"","","","","","","",{"$f":"+IF(BZ292=\"\",\"\",MAX(CA$1:CA291)+1)","v":""},"","","","","","","",{"$f":"+IF(CH292=\"\",\"\",MAX(CI$1:CI291)+1)","v":""},"","","","","",null,{"$f":"+IF(CQ292=\"\",\"\",MAX(CP$1:CP291)+1)","v":""},{"$f":"IF(Compliance_Options!B314=\"\",\"\",Compliance_Options!B314)","v":""},{"$f":"IF(Compliance_Options!C314=\"\",\"\",Compliance_Options!C314)","v":""},{"$f":"IF(Compliance_Options!D314=\"\",\"\",Compliance_Options!D314)","v":""},"  ",{"$f":"IF(COUNTIF(CT$2:CT292,CT292)=1,CT292,\"\")","v":""},"","","",""]
[null,null,null,null,null,null,null,null,null,null,null,null,null,null,null,null,null,null,null,null,null,null,null,null,null,null,null,null,null,null,null,null,null,null,null,null,null,null,null,null,null,null,null,null,null,null,null,{"$f":"+IF(AW293=\"\",\"\",MAX(AV$1:AV292)+1)","v":""},{"$f":"IF(Compliance_Options!B315=\"\",\"\",Compliance_Options!B315)","v":""},{"$f":"IF(Compliance_Options!C315=\"\",\"\",Compliance_Options!C315)","v":""},{"$f":"IF(Compliance_Options!D315=\"\",\"\",Compliance_Options!D315)","v":""},{"$f":"IF(Compliance_Options!E315=\"\",\"\",Compliance_Options!E315)","v":""},{"$f":"IF(Compliance_Options!F315=\"\",\"\",Compliance_Options!F315)","v":""},"    ",{"$f":"IF(COUNTIF(BB$2:BB293,BB293)=1,BB293,\"\")","v":""},"","","","","","","",{"$f":"+IF(BJ293=\"\",\"\",MAX(BK$1:BK292)+1)","v":""},"","","","","","","",{"$f":"+IF(BR293=\"\",\"\",MAX(BS$1:BS292)+1)","v":""},"","","","","","","",{"$f":"+IF(BZ293=\"\",\"\",MAX(CA$1:CA292)+1)","v":""},"","","","","","","",{"$f":"+IF(CH293=\"\",\"\",MAX(CI$1:CI292)+1)","v":""},"","","","","",null,{"$f":"+IF(CQ293=\"\",\"\",MAX(CP$1:CP292)+1)","v":""},{"$f":"IF(Compliance_Options!B315=\"\",\"\",Compliance_Options!B315)","v":""},{"$f":"IF(Compliance_Options!C315=\"\",\"\",Compliance_Options!C315)","v":""},{"$f":"IF(Compliance_Options!D315=\"\",\"\",Compliance_Options!D315)","v":""},"  ",{"$f":"IF(COUNTIF(CT$2:CT293,CT293)=1,CT293,\"\")","v":""},"","","",""]
[null,null,null,null,null,null,null,null,null,null,null,null,null,null,null,null,null,null,null,null,null,null,null,null,null,null,null,null,null,null,null,null,null,null,null,null,null,null,null,null,null,null,null,null,null,null,null,{"$f":"+IF(AW294=\"\",\"\",MAX(AV$1:AV293)+1)","v":""},{"$f":"IF(Compliance_Options!B316=\"\",\"\",Compliance_Options!B316)","v":""},{"$f":"IF(Compliance_Options!C316=\"\",\"\",Compliance_Options!C316)","v":""},{"$f":"IF(Compliance_Options!D316=\"\",\"\",Compliance_Options!D316)","v":""},{"$f":"IF(Compliance_Options!E316=\"\",\"\",Compliance_Options!E316)","v":""},{"$f":"IF(Compliance_Options!F316=\"\",\"\",Compliance_Options!F316)","v":""},"    ",{"$f":"IF(COUNTIF(BB$2:BB294,BB294)=1,BB294,\"\")","v":""},"","","","","","","",{"$f":"+IF(BJ294=\"\",\"\",MAX(BK$1:BK293)+1)","v":""},"","","","","","","",{"$f":"+IF(BR294=\"\",\"\",MAX(BS$1:BS293)+1)","v":""},"","","","","","","",{"$f":"+IF(BZ294=\"\",\"\",MAX(CA$1:CA293)+1)","v":""},"","","","","","","",{"$f":"+IF(CH294=\"\",\"\",MAX(CI$1:CI293)+1)","v":""},"","","","","",null,{"$f":"+IF(CQ294=\"\",\"\",MAX(CP$1:CP293)+1)","v":""},{"$f":"IF(Compliance_Options!B316=\"\",\"\",Compliance_Options!B316)","v":""},{"$f":"IF(Compliance_Options!C316=\"\",\"\",Compliance_Options!C316)","v":""},{"$f":"IF(Compliance_Options!D316=\"\",\"\",Compliance_Options!D316)","v":""},"  ",{"$f":"IF(COUNTIF(CT$2:CT294,CT294)=1,CT294,\"\")","v":""},"","","",""]
[null,null,null,null,null,null,null,null,null,null,null,null,null,null,null,null,null,null,null,null,null,null,null,null,null,null,null,null,null,null,null,null,null,null,null,null,null,null,null,null,null,null,null,null,null,null,null,{"$f":"+IF(AW295=\"\",\"\",MAX(AV$1:AV294)+1)","v":""},{"$f":"IF(Compliance_Options!B317=\"\",\"\",Compliance_Options!B317)","v":""},{"$f":"IF(Compliance_Options!C317=\"\",\"\",Compliance_Options!C317)","v":""},{"$f":"IF(Compliance_Options!D317=\"\",\"\",Compliance_Options!D317)","v":""},{"$f":"IF(Compliance_Options!E317=\"\",\"\",Compliance_Options!E317)","v":""},{"$f":"IF(Compliance_Options!F317=\"\",\"\",Compliance_Options!F317)","v":""},"    ",{"$f":"IF(COUNTIF(BB$2:BB295,BB295)=1,BB295,\"\")","v":""},"","","","","","","",{"$f":"+IF(BJ295=\"\",\"\",MAX(BK$1:BK294)+1)","v":""},"","","","","","","",{"$f":"+IF(BR295=\"\",\"\",MAX(BS$1:BS294)+1)","v":""},"","","","","","","",{"$f":"+IF(BZ295=\"\",\"\",MAX(CA$1:CA294)+1)","v":""},"","","","","","","",{"$f":"+IF(CH295=\"\",\"\",MAX(CI$1:CI294)+1)","v":""},"","","","","",null,{"$f":"+IF(CQ295=\"\",\"\",MAX(CP$1:CP294)+1)","v":""},{"$f":"IF(Compliance_Options!B317=\"\",\"\",Compliance_Options!B317)","v":""},{"$f":"IF(Compliance_Options!C317=\"\",\"\",Compliance_Options!C317)","v":""},{"$f":"IF(Compliance_Options!D317=\"\",\"\",Compliance_Options!D317)","v":""},"  ",{"$f":"IF(COUNTIF(CT$2:CT295,CT295)=1,CT295,\"\")","v":""},"","","",""]
[null,null,null,null,null,null,null,null,null,null,null,null,null,null,null,null,null,null,null,null,null,null,null,null,null,null,null,null,null,null,null,null,null,null,null,null,null,null,null,null,null,null,null,null,null,null,null,{"$f":"+IF(AW296=\"\",\"\",MAX(AV$1:AV295)+1)","v":""},{"$f":"IF(Compliance_Options!B318=\"\",\"\",Compliance_Options!B318)","v":""},{"$f":"IF(Compliance_Options!C318=\"\",\"\",Compliance_Options!C318)","v":""},{"$f":"IF(Compliance_Options!D318=\"\",\"\",Compliance_Options!D318)","v":""},{"$f":"IF(Compliance_Options!E318=\"\",\"\",Compliance_Options!E318)","v":""},{"$f":"IF(Compliance_Options!F318=\"\",\"\",Compliance_Options!F318)","v":""},"    ",{"$f":"IF(COUNTIF(BB$2:BB296,BB296)=1,BB296,\"\")","v":""},"","","","","","","",{"$f":"+IF(BJ296=\"\",\"\",MAX(BK$1:BK295)+1)","v":""},"","","","","","","",{"$f":"+IF(BR296=\"\",\"\",MAX(BS$1:BS295)+1)","v":""},"","","","","","","",{"$f":"+IF(BZ296=\"\",\"\",MAX(CA$1:CA295)+1)","v":""},"","","","","","","",{"$f":"+IF(CH296=\"\",\"\",MAX(CI$1:CI295)+1)","v":""},"","","","","",null,{"$f":"+IF(CQ296=\"\",\"\",MAX(CP$1:CP295)+1)","v":""},{"$f":"IF(Compliance_Options!B318=\"\",\"\",Compliance_Options!B318)","v":""},{"$f":"IF(Compliance_Options!C318=\"\",\"\",Compliance_Options!C318)","v":""},{"$f":"IF(Compliance_Options!D318=\"\",\"\",Compliance_Options!D318)","v":""},"  ",{"$f":"IF(COUNTIF(CT$2:CT296,CT296)=1,CT296,\"\")","v":""},"","","",""]
[null,null,null,null,null,null,null,null,null,null,null,null,null,null,null,null,null,null,null,null,null,null,null,null,null,null,null,null,null,null,null,null,null,null,null,null,null,null,null,null,null,null,null,null,null,null,null,{"$f":"+IF(AW297=\"\",\"\",MAX(AV$1:AV296)+1)","v":""},{"$f":"IF(Compliance_Options!B319=\"\",\"\",Compliance_Options!B319)","v":""},{"$f":"IF(Compliance_Options!C319=\"\",\"\",Compliance_Options!C319)","v":""},{"$f":"IF(Compliance_Options!D319=\"\",\"\",Compliance_Options!D319)","v":""},{"$f":"IF(Compliance_Options!E319=\"\",\"\",Compliance_Options!E319)","v":""},{"$f":"IF(Compliance_Options!F319=\"\",\"\",Compliance_Options!F319)","v":""},"    ",{"$f":"IF(COUNTIF(BB$2:BB297,BB297)=1,BB297,\"\")","v":""},"","","","","","","",{"$f":"+IF(BJ297=\"\",\"\",MAX(BK$1:BK296)+1)","v":""},"","","","","","","",{"$f":"+IF(BR297=\"\",\"\",MAX(BS$1:BS296)+1)","v":""},"","","","","","","",{"$f":"+IF(BZ297=\"\",\"\",MAX(CA$1:CA296)+1)","v":""},"","","","","","","",{"$f":"+IF(CH297=\"\",\"\",MAX(CI$1:CI296)+1)","v":""},"","","","","",null,{"$f":"+IF(CQ297=\"\",\"\",MAX(CP$1:CP296)+1)","v":""},{"$f":"IF(Compliance_Options!B319=\"\",\"\",Compliance_Options!B319)","v":""},{"$f":"IF(Compliance_Options!C319=\"\",\"\",Compliance_Options!C319)","v":""},{"$f":"IF(Compliance_Options!D319=\"\",\"\",Compliance_Options!D319)","v":""},"  ",{"$f":"IF(COUNTIF(CT$2:CT297,CT297)=1,CT297,\"\")","v":""},"","","",""]
[null,null,null,null,null,null,null,null,null,null,null,null,null,null,null,null,null,null,null,null,null,null,null,null,null,null,null,null,null,null,null,null,null,null,null,null,null,null,null,null,null,null,null,null,null,null,null,{"$f":"+IF(AW298=\"\",\"\",MAX(AV$1:AV297)+1)","v":""},{"$f":"IF(Compliance_Options!B320=\"\",\"\",Compliance_Options!B320)","v":""},{"$f":"IF(Compliance_Options!C320=\"\",\"\",Compliance_Options!C320)","v":""},{"$f":"IF(Compliance_Options!D320=\"\",\"\",Compliance_Options!D320)","v":""},{"$f":"IF(Compliance_Options!E320=\"\",\"\",Compliance_Options!E320)","v":""},{"$f":"IF(Compliance_Options!F320=\"\",\"\",Compliance_Options!F320)","v":""},"    ",{"$f":"IF(COUNTIF(BB$2:BB298,BB298)=1,BB298,\"\")","v":""},"","","","","","","",{"$f":"+IF(BJ298=\"\",\"\",MAX(BK$1:BK297)+1)","v":""},"","","","","","","",{"$f":"+IF(BR298=\"\",\"\",MAX(BS$1:BS297)+1)","v":""},"","","","","","","",{"$f":"+IF(BZ298=\"\",\"\",MAX(CA$1:CA297)+1)","v":""},"","","","","","","",{"$f":"+IF(CH298=\"\",\"\",MAX(CI$1:CI297)+1)","v":""},"","","","","",null,{"$f":"+IF(CQ298=\"\",\"\",MAX(CP$1:CP297)+1)","v":""},{"$f":"IF(Compliance_Options!B320=\"\",\"\",Compliance_Options!B320)","v":""},{"$f":"IF(Compliance_Options!C320=\"\",\"\",Compliance_Options!C320)","v":""},{"$f":"IF(Compliance_Options!D320=\"\",\"\",Compliance_Options!D320)","v":""},"  ",{"$f":"IF(COUNTIF(CT$2:CT298,CT298)=1,CT298,\"\")","v":""},"","","",""]
[null,null,null,null,null,null,null,null,null,null,null,null,null,null,null,null,null,null,null,null,null,null,null,null,null,null,null,null,null,null,null,null,null,null,null,null,null,null,null,null,null,null,null,null,null,null,null,{"$f":"+IF(AW299=\"\",\"\",MAX(AV$1:AV298)+1)","v":""},{"$f":"IF(Compliance_Options!B321=\"\",\"\",Compliance_Options!B321)","v":""},{"$f":"IF(Compliance_Options!C321=\"\",\"\",Compliance_Options!C321)","v":""},{"$f":"IF(Compliance_Options!D321=\"\",\"\",Compliance_Options!D321)","v":""},{"$f":"IF(Compliance_Options!E321=\"\",\"\",Compliance_Options!E321)","v":""},{"$f":"IF(Compliance_Options!F321=\"\",\"\",Compliance_Options!F321)","v":""},"    ",{"$f":"IF(COUNTIF(BB$2:BB299,BB299)=1,BB299,\"\")","v":""},"","","","","","","",{"$f":"+IF(BJ299=\"\",\"\",MAX(BK$1:BK298)+1)","v":""},"","","","","","","",{"$f":"+IF(BR299=\"\",\"\",MAX(BS$1:BS298)+1)","v":""},"","","","","","","",{"$f":"+IF(BZ299=\"\",\"\",MAX(CA$1:CA298)+1)","v":""},"","","","","","","",{"$f":"+IF(CH299=\"\",\"\",MAX(CI$1:CI298)+1)","v":""},"","","","","",null,{"$f":"+IF(CQ299=\"\",\"\",MAX(CP$1:CP298)+1)","v":""},{"$f":"IF(Compliance_Options!B321=\"\",\"\",Compliance_Options!B321)","v":""},{"$f":"IF(Compliance_Options!C321=\"\",\"\",Compliance_Options!C321)","v":""},{"$f":"IF(Compliance_Options!D321=\"\",\"\",Compliance_Options!D321)","v":""},"  ",{"$f":"IF(COUNTIF(CT$2:CT299,CT299)=1,CT299,\"\")","v":""},"","","",""]
[null,null,null,null,null,null,null,null,null,null,null,null,null,null,null,null,null,null,null,null,null,null,null,null,null,null,null,null,null,null,null,null,null,null,null,null,null,null,null,null,null,null,null,null,null,null,null,{"$f":"+IF(AW300=\"\",\"\",MAX(AV$1:AV299)+1)","v":""},{"$f":"IF(Compliance_Options!B322=\"\",\"\",Compliance_Options!B322)","v":""},{"$f":"IF(Compliance_Options!C322=\"\",\"\",Compliance_Options!C322)","v":""},{"$f":"IF(Compliance_Options!D322=\"\",\"\",Compliance_Options!D322)","v":""},{"$f":"IF(Compliance_Options!E322=\"\",\"\",Compliance_Options!E322)","v":""},{"$f":"IF(Compliance_Options!F322=\"\",\"\",Compliance_Options!F322)","v":""},"    ",{"$f":"IF(COUNTIF(BB$2:BB300,BB300)=1,BB300,\"\")","v":""},"","","","","","","",{"$f":"+IF(BJ300=\"\",\"\",MAX(BK$1:BK299)+1)","v":""},"","","","","","","",{"$f":"+IF(BR300=\"\",\"\",MAX(BS$1:BS299)+1)","v":""},"","","","","","","",{"$f":"+IF(BZ300=\"\",\"\",MAX(CA$1:CA299)+1)","v":""},"","","","","","","",{"$f":"+IF(CH300=\"\",\"\",MAX(CI$1:CI299)+1)","v":""},"","","","","",null,{"$f":"+IF(CQ300=\"\",\"\",MAX(CP$1:CP299)+1)","v":""},{"$f":"IF(Compliance_Options!B322=\"\",\"\",Compliance_Options!B322)","v":""},{"$f":"IF(Compliance_Options!C322=\"\",\"\",Compliance_Options!C322)","v":""},{"$f":"IF(Compliance_Options!D322=\"\",\"\",Compliance_Options!D322)","v":""},"  ",{"$f":"IF(COUNTIF(CT$2:CT300,CT300)=1,CT300,\"\")","v":""},"","","",""]
[null,null,null,null,null,null,null,null,null,null,null,null,null,null,null,null,null,null,null,null,null,null,null,null,null,null,null,null,null,null,null,null,null,null,null,null,null,null,null,null,null,null,null,null,null,null,null,{"$f":"+IF(AW301=\"\",\"\",MAX(AV$1:AV300)+1)","v":""},{"$f":"IF(Compliance_Options!B323=\"\",\"\",Compliance_Options!B323)","v":""},{"$f":"IF(Compliance_Options!C323=\"\",\"\",Compliance_Options!C323)","v":""},{"$f":"IF(Compliance_Options!D323=\"\",\"\",Compliance_Options!D323)","v":""},{"$f":"IF(Compliance_Options!E323=\"\",\"\",Compliance_Options!E323)","v":""},{"$f":"IF(Compliance_Options!F323=\"\",\"\",Compliance_Options!F323)","v":""},"    ",{"$f":"IF(COUNTIF(BB$2:BB301,BB301)=1,BB301,\"\")","v":""},"","","","","","","",{"$f":"+IF(BJ301=\"\",\"\",MAX(BK$1:BK300)+1)","v":""},"","","","","","","",{"$f":"+IF(BR301=\"\",\"\",MAX(BS$1:BS300)+1)","v":""},"","","","","","","",{"$f":"+IF(BZ301=\"\",\"\",MAX(CA$1:CA300)+1)","v":""},"","","","","","","",{"$f":"+IF(CH301=\"\",\"\",MAX(CI$1:CI300)+1)","v":""},"","","","","",null,{"$f":"+IF(CQ301=\"\",\"\",MAX(CP$1:CP300)+1)","v":""},{"$f":"IF(Compliance_Options!B323=\"\",\"\",Compliance_Options!B323)","v":""},{"$f":"IF(Compliance_Options!C323=\"\",\"\",Compliance_Options!C323)","v":""},{"$f":"IF(Compliance_Options!D323=\"\",\"\",Compliance_Options!D323)","v":""},"  ",{"$f":"IF(COUNTIF(CT$2:CT301,CT301)=1,CT301,\"\")","v":""},"","","",""]
[null,null,null,null,null,null,null,null,null,null,null,null,null,null,null,null,null,null,null,null,null,null,null,null,null,null,null,null,null,null,null,null,null,null,null,null,null,null,null,null,null,null,null,null,null,null,null,{"$f":"+IF(AW302=\"\",\"\",MAX(AV$1:AV301)+1)","v":""},{"$f":"IF(Compliance_Options!B324=\"\",\"\",Compliance_Options!B324)","v":""},{"$f":"IF(Compliance_Options!C324=\"\",\"\",Compliance_Options!C324)","v":""},{"$f":"IF(Compliance_Options!D324=\"\",\"\",Compliance_Options!D324)","v":""},{"$f":"IF(Compliance_Options!E324=\"\",\"\",Compliance_Options!E324)","v":""},{"$f":"IF(Compliance_Options!F324=\"\",\"\",Compliance_Options!F324)","v":""},"    ",{"$f":"IF(COUNTIF(BB$2:BB302,BB302)=1,BB302,\"\")","v":""},"","","","","","","",{"$f":"+IF(BJ302=\"\",\"\",MAX(BK$1:BK301)+1)","v":""},"","","","","","","",{"$f":"+IF(BR302=\"\",\"\",MAX(BS$1:BS301)+1)","v":""},"","","","","","","",{"$f":"+IF(BZ302=\"\",\"\",MAX(CA$1:CA301)+1)","v":""},"","","","","","","",{"$f":"+IF(CH302=\"\",\"\",MAX(CI$1:CI301)+1)","v":""},"","","","","",null,{"$f":"+IF(CQ302=\"\",\"\",MAX(CP$1:CP301)+1)","v":""},{"$f":"IF(Compliance_Options!B324=\"\",\"\",Compliance_Options!B324)","v":""},{"$f":"IF(Compliance_Options!C324=\"\",\"\",Compliance_Options!C324)","v":""},{"$f":"IF(Compliance_Options!D324=\"\",\"\",Compliance_Options!D324)","v":""},"  ",{"$f":"IF(COUNTIF(CT$2:CT302,CT302)=1,CT302,\"\")","v":""},"","","",""]
[null,null,null,null,null,null,null,null,null,null,null,null,null,null,null,null,null,null,null,null,null,null,null,null,null,null,null,null,null,null,null,null,null,null,null,null,null,null,null,null,null,null,null,null,null,null,null,{"$f":"+IF(AW303=\"\",\"\",MAX(AV$1:AV302)+1)","v":""},{"$f":"IF(Compliance_Options!B325=\"\",\"\",Compliance_Options!B325)","v":""},{"$f":"IF(Compliance_Options!C325=\"\",\"\",Compliance_Options!C325)","v":""},{"$f":"IF(Compliance_Options!D325=\"\",\"\",Compliance_Options!D325)","v":""},{"$f":"IF(Compliance_Options!E325=\"\",\"\",Compliance_Options!E325)","v":""},{"$f":"IF(Compliance_Options!F325=\"\",\"\",Compliance_Options!F325)","v":""},"    ",{"$f":"IF(COUNTIF(BB$2:BB303,BB303)=1,BB303,\"\")","v":""},"","","","","","","",{"$f":"+IF(BJ303=\"\",\"\",MAX(BK$1:BK302)+1)","v":""},"","","","","","","",{"$f":"+IF(BR303=\"\",\"\",MAX(BS$1:BS302)+1)","v":""},"","","","","","","",{"$f":"+IF(BZ303=\"\",\"\",MAX(CA$1:CA302)+1)","v":""},"","","","","","","",{"$f":"+IF(CH303=\"\",\"\",MAX(CI$1:CI302)+1)","v":""},"","","","","",null,{"$f":"+IF(CQ303=\"\",\"\",MAX(CP$1:CP302)+1)","v":""},{"$f":"IF(Compliance_Options!B325=\"\",\"\",Compliance_Options!B325)","v":""},{"$f":"IF(Compliance_Options!C325=\"\",\"\",Compliance_Options!C325)","v":""},{"$f":"IF(Compliance_Options!D325=\"\",\"\",Compliance_Options!D325)","v":""},"  ",{"$f":"IF(COUNTIF(CT$2:CT303,CT303)=1,CT303,\"\")","v":""},"","","",""]
[null,null,null,null,null,null,null,null,null,null,null,null,null,null,null,null,null,null,null,null,null,null,null,null,null,null,null,null,null,null,null,null,null,null,null,null,null,null,null,null,null,null,null,null,null,null,null,{"$f":"+IF(AW304=\"\",\"\",MAX(AV$1:AV303)+1)","v":""},{"$f":"IF(Compliance_Options!B326=\"\",\"\",Compliance_Options!B326)","v":""},{"$f":"IF(Compliance_Options!C326=\"\",\"\",Compliance_Options!C326)","v":""},{"$f":"IF(Compliance_Options!D326=\"\",\"\",Compliance_Options!D326)","v":""},{"$f":"IF(Compliance_Options!E326=\"\",\"\",Compliance_Options!E326)","v":""},{"$f":"IF(Compliance_Options!F326=\"\",\"\",Compliance_Options!F326)","v":""},"    ",{"$f":"IF(COUNTIF(BB$2:BB304,BB304)=1,BB304,\"\")","v":""},"","","","","","","",{"$f":"+IF(BJ304=\"\",\"\",MAX(BK$1:BK303)+1)","v":""},"","","","","","","",{"$f":"+IF(BR304=\"\",\"\",MAX(BS$1:BS303)+1)","v":""},"","","","","","","",{"$f":"+IF(BZ304=\"\",\"\",MAX(CA$1:CA303)+1)","v":""},"","","","","","","",{"$f":"+IF(CH304=\"\",\"\",MAX(CI$1:CI303)+1)","v":""},"","","","","",null,{"$f":"+IF(CQ304=\"\",\"\",MAX(CP$1:CP303)+1)","v":""},{"$f":"IF(Compliance_Options!B326=\"\",\"\",Compliance_Options!B326)","v":""},{"$f":"IF(Compliance_Options!C326=\"\",\"\",Compliance_Options!C326)","v":""},{"$f":"IF(Compliance_Options!D326=\"\",\"\",Compliance_Options!D326)","v":""},"  ",{"$f":"IF(COUNTIF(CT$2:CT304,CT304)=1,CT304,\"\")","v":""},"","","",""]
[null,null,null,null,null,null,null,null,null,null,null,null,null,null,null,null,null,null,null,null,null,null,null,null,null,null,null,null,null,null,null,null,null,null,null,null,null,null,null,null,null,null,null,null,null,null,null,{"$f":"+IF(AW305=\"\",\"\",MAX(AV$1:AV304)+1)","v":""},{"$f":"IF(Compliance_Options!B327=\"\",\"\",Compliance_Options!B327)","v":""},{"$f":"IF(Compliance_Options!C327=\"\",\"\",Compliance_Options!C327)","v":""},{"$f":"IF(Compliance_Options!D327=\"\",\"\",Compliance_Options!D327)","v":""},{"$f":"IF(Compliance_Options!E327=\"\",\"\",Compliance_Options!E327)","v":""},{"$f":"IF(Compliance_Options!F327=\"\",\"\",Compliance_Options!F327)","v":""},"    ",{"$f":"IF(COUNTIF(BB$2:BB305,BB305)=1,BB305,\"\")","v":""},"","","","","","","",{"$f":"+IF(BJ305=\"\",\"\",MAX(BK$1:BK304)+1)","v":""},"","","","","","","",{"$f":"+IF(BR305=\"\",\"\",MAX(BS$1:BS304)+1)","v":""},"","","","","","","",{"$f":"+IF(BZ305=\"\",\"\",MAX(CA$1:CA304)+1)","v":""},"","","","","","","",{"$f":"+IF(CH305=\"\",\"\",MAX(CI$1:CI304)+1)","v":""},"","","","","",null,{"$f":"+IF(CQ305=\"\",\"\",MAX(CP$1:CP304)+1)","v":""},{"$f":"IF(Compliance_Options!B327=\"\",\"\",Compliance_Options!B327)","v":""},{"$f":"IF(Compliance_Options!C327=\"\",\"\",Compliance_Options!C327)","v":""},{"$f":"IF(Compliance_Options!D327=\"\",\"\",Compliance_Options!D327)","v":""},"  ",{"$f":"IF(COUNTIF(CT$2:CT305,CT305)=1,CT305,\"\")","v":""},"","","",""]
[null,null,null,null,null,null,null,null,null,null,null,null,null,null,null,null,null,null,null,null,null,null,null,null,null,null,null,null,null,null,null,null,null,null,null,null,null,null,null,null,null,null,null,null,null,null,null,{"$f":"+IF(AW306=\"\",\"\",MAX(AV$1:AV305)+1)","v":""},{"$f":"IF(Compliance_Options!B328=\"\",\"\",Compliance_Options!B328)","v":""},{"$f":"IF(Compliance_Options!C328=\"\",\"\",Compliance_Options!C328)","v":""},{"$f":"IF(Compliance_Options!D328=\"\",\"\",Compliance_Options!D328)","v":""},{"$f":"IF(Compliance_Options!E328=\"\",\"\",Compliance_Options!E328)","v":""},{"$f":"IF(Compliance_Options!F328=\"\",\"\",Compliance_Options!F328)","v":""},"    ",{"$f":"IF(COUNTIF(BB$2:BB306,BB306)=1,BB306,\"\")","v":""},"","","","","","","",{"$f":"+IF(BJ306=\"\",\"\",MAX(BK$1:BK305)+1)","v":""},"","","","","","","",{"$f":"+IF(BR306=\"\",\"\",MAX(BS$1:BS305)+1)","v":""},"","","","","","","",{"$f":"+IF(BZ306=\"\",\"\",MAX(CA$1:CA305)+1)","v":""},"","","","","","","",{"$f":"+IF(CH306=\"\",\"\",MAX(CI$1:CI305)+1)","v":""},"","","","","",null,{"$f":"+IF(CQ306=\"\",\"\",MAX(CP$1:CP305)+1)","v":""},{"$f":"IF(Compliance_Options!B328=\"\",\"\",Compliance_Options!B328)","v":""},{"$f":"IF(Compliance_Options!C328=\"\",\"\",Compliance_Options!C328)","v":""},{"$f":"IF(Compliance_Options!D328=\"\",\"\",Compliance_Options!D328)","v":""},"  ",{"$f":"IF(COUNTIF(CT$2:CT306,CT306)=1,CT306,\"\")","v":""},"","","",""]
[null,null,null,null,null,null,null,null,null,null,null,null,null,null,null,null,null,null,null,null,null,null,null,null,null,null,null,null,null,null,null,null,null,null,null,null,null,null,null,null,null,null,null,null,null,null,null,{"$f":"+IF(AW307=\"\",\"\",MAX(AV$1:AV306)+1)","v":""},{"$f":"IF(Compliance_Options!B329=\"\",\"\",Compliance_Options!B329)","v":""},{"$f":"IF(Compliance_Options!C329=\"\",\"\",Compliance_Options!C329)","v":""},{"$f":"IF(Compliance_Options!D329=\"\",\"\",Compliance_Options!D329)","v":""},{"$f":"IF(Compliance_Options!E329=\"\",\"\",Compliance_Options!E329)","v":""},{"$f":"IF(Compliance_Options!F329=\"\",\"\",Compliance_Options!F329)","v":""},"    ",{"$f":"IF(COUNTIF(BB$2:BB307,BB307)=1,BB307,\"\")","v":""},"","","","","","","",{"$f":"+IF(BJ307=\"\",\"\",MAX(BK$1:BK306)+1)","v":""},"","","","","","","",{"$f":"+IF(BR307=\"\",\"\",MAX(BS$1:BS306)+1)","v":""},"","","","","","","",{"$f":"+IF(BZ307=\"\",\"\",MAX(CA$1:CA306)+1)","v":""},"","","","","","","",{"$f":"+IF(CH307=\"\",\"\",MAX(CI$1:CI306)+1)","v":""},"","","","","",null,{"$f":"+IF(CQ307=\"\",\"\",MAX(CP$1:CP306)+1)","v":""},{"$f":"IF(Compliance_Options!B329=\"\",\"\",Compliance_Options!B329)","v":""},{"$f":"IF(Compliance_Options!C329=\"\",\"\",Compliance_Options!C329)","v":""},{"$f":"IF(Compliance_Options!D329=\"\",\"\",Compliance_Options!D329)","v":""},"  ",{"$f":"IF(COUNTIF(CT$2:CT307,CT307)=1,CT307,\"\")","v":""},"","","",""]
[null,null,null,null,null,null,null,null,null,null,null,null,null,null,null,null,null,null,null,null,null,null,null,null,null,null,null,null,null,null,null,null,null,null,null,null,null,null,null,null,null,null,null,null,null,null,null,{"$f":"+IF(AW308=\"\",\"\",MAX(AV$1:AV307)+1)","v":""},{"$f":"IF(Compliance_Options!B330=\"\",\"\",Compliance_Options!B330)","v":""},{"$f":"IF(Compliance_Options!C330=\"\",\"\",Compliance_Options!C330)","v":""},{"$f":"IF(Compliance_Options!D330=\"\",\"\",Compliance_Options!D330)","v":""},{"$f":"IF(Compliance_Options!E330=\"\",\"\",Compliance_Options!E330)","v":""},{"$f":"IF(Compliance_Options!F330=\"\",\"\",Compliance_Options!F330)","v":""},"    ",{"$f":"IF(COUNTIF(BB$2:BB308,BB308)=1,BB308,\"\")","v":""},"","","","","","","",{"$f":"+IF(BJ308=\"\",\"\",MAX(BK$1:BK307)+1)","v":""},"","","","","","","",{"$f":"+IF(BR308=\"\",\"\",MAX(BS$1:BS307)+1)","v":""},"","","","","","","",{"$f":"+IF(BZ308=\"\",\"\",MAX(CA$1:CA307)+1)","v":""},"","","","","","","",{"$f":"+IF(CH308=\"\",\"\",MAX(CI$1:CI307)+1)","v":""},"","","","","",null,{"$f":"+IF(CQ308=\"\",\"\",MAX(CP$1:CP307)+1)","v":""},{"$f":"IF(Compliance_Options!B330=\"\",\"\",Compliance_Options!B330)","v":""},{"$f":"IF(Compliance_Options!C330=\"\",\"\",Compliance_Options!C330)","v":""},{"$f":"IF(Compliance_Options!D330=\"\",\"\",Compliance_Options!D330)","v":""},"  ",{"$f":"IF(COUNTIF(CT$2:CT308,CT308)=1,CT308,\"\")","v":""},"","","",""]
[null,null,null,null,null,null,null,null,null,null,null,null,null,null,null,null,null,null,null,null,null,null,null,null,null,null,null,null,null,null,null,null,null,null,null,null,null,null,null,null,null,null,null,null,null,null,null,{"$f":"+IF(AW309=\"\",\"\",MAX(AV$1:AV308)+1)","v":""},{"$f":"IF(Compliance_Options!B331=\"\",\"\",Compliance_Options!B331)","v":""},{"$f":"IF(Compliance_Options!C331=\"\",\"\",Compliance_Options!C331)","v":""},{"$f":"IF(Compliance_Options!D331=\"\",\"\",Compliance_Options!D331)","v":""},{"$f":"IF(Compliance_Options!E331=\"\",\"\",Compliance_Options!E331)","v":""},{"$f":"IF(Compliance_Options!F331=\"\",\"\",Compliance_Options!F331)","v":""},"    ",{"$f":"IF(COUNTIF(BB$2:BB309,BB309)=1,BB309,\"\")","v":""},"","","","","","","",{"$f":"+IF(BJ309=\"\",\"\",MAX(BK$1:BK308)+1)","v":""},"","","","","","","",{"$f":"+IF(BR309=\"\",\"\",MAX(BS$1:BS308)+1)","v":""},"","","","","","","",{"$f":"+IF(BZ309=\"\",\"\",MAX(CA$1:CA308)+1)","v":""},"","","","","","","",{"$f":"+IF(CH309=\"\",\"\",MAX(CI$1:CI308)+1)","v":""},"","","","","",null,{"$f":"+IF(CQ309=\"\",\"\",MAX(CP$1:CP308)+1)","v":""},{"$f":"IF(Compliance_Options!B331=\"\",\"\",Compliance_Options!B331)","v":""},{"$f":"IF(Compliance_Options!C331=\"\",\"\",Compliance_Options!C331)","v":""},{"$f":"IF(Compliance_Options!D331=\"\",\"\",Compliance_Options!D331)","v":""},"  ",{"$f":"IF(COUNTIF(CT$2:CT309,CT309)=1,CT309,\"\")","v":""},"","","",""]
[null,null,null,null,null,null,null,null,null,null,null,null,null,null,null,null,null,null,null,null,null,null,null,null,null,null,null,null,null,null,null,null,null,null,null,null,null,null,null,null,null,null,null,null,null,null,null,{"$f":"+IF(AW310=\"\",\"\",MAX(AV$1:AV309)+1)","v":""},{"$f":"IF(Compliance_Options!B332=\"\",\"\",Compliance_Options!B332)","v":""},{"$f":"IF(Compliance_Options!C332=\"\",\"\",Compliance_Options!C332)","v":""},{"$f":"IF(Compliance_Options!D332=\"\",\"\",Compliance_Options!D332)","v":""},{"$f":"IF(Compliance_Options!E332=\"\",\"\",Compliance_Options!E332)","v":""},{"$f":"IF(Compliance_Options!F332=\"\",\"\",Compliance_Options!F332)","v":""},"    ",{"$f":"IF(COUNTIF(BB$2:BB310,BB310)=1,BB310,\"\")","v":""},"","","","","","","",{"$f":"+IF(BJ310=\"\",\"\",MAX(BK$1:BK309)+1)","v":""},"","","","","","","",{"$f":"+IF(BR310=\"\",\"\",MAX(BS$1:BS309)+1)","v":""},"","","","","","","",{"$f":"+IF(BZ310=\"\",\"\",MAX(CA$1:CA309)+1)","v":""},"","","","","","","",{"$f":"+IF(CH310=\"\",\"\",MAX(CI$1:CI309)+1)","v":""},"","","","","",null,{"$f":"+IF(CQ310=\"\",\"\",MAX(CP$1:CP309)+1)","v":""},{"$f":"IF(Compliance_Options!B332=\"\",\"\",Compliance_Options!B332)","v":""},{"$f":"IF(Compliance_Options!C332=\"\",\"\",Compliance_Options!C332)","v":""},{"$f":"IF(Compliance_Options!D332=\"\",\"\",Compliance_Options!D332)","v":""},"  ",{"$f":"IF(COUNTIF(CT$2:CT310,CT310)=1,CT310,\"\")","v":""},"","","",""]
[null,null,null,null,null,null,null,null,null,null,null,null,null,null,null,null,null,null,null,null,null,null,null,null,null,null,null,null,null,null,null,null,null,null,null,null,null,null,null,null,null,null,null,null,null,null,null,{"$f":"+IF(AW311=\"\",\"\",MAX(AV$1:AV310)+1)","v":""},{"$f":"IF(Compliance_Options!B333=\"\",\"\",Compliance_Options!B333)","v":""},{"$f":"IF(Compliance_Options!C333=\"\",\"\",Compliance_Options!C333)","v":""},{"$f":"IF(Compliance_Options!D333=\"\",\"\",Compliance_Options!D333)","v":""},{"$f":"IF(Compliance_Options!E333=\"\",\"\",Compliance_Options!E333)","v":""},{"$f":"IF(Compliance_Options!F333=\"\",\"\",Compliance_Options!F333)","v":""},"    ",{"$f":"IF(COUNTIF(BB$2:BB311,BB311)=1,BB311,\"\")","v":""},"","","","","","","",{"$f":"+IF(BJ311=\"\",\"\",MAX(BK$1:BK310)+1)","v":""},"","","","","","","",{"$f":"+IF(BR311=\"\",\"\",MAX(BS$1:BS310)+1)","v":""},"","","","","","","",{"$f":"+IF(BZ311=\"\",\"\",MAX(CA$1:CA310)+1)","v":""},"","","","","","","",{"$f":"+IF(CH311=\"\",\"\",MAX(CI$1:CI310)+1)","v":""},"","","","","",null,{"$f":"+IF(CQ311=\"\",\"\",MAX(CP$1:CP310)+1)","v":""},{"$f":"IF(Compliance_Options!B333=\"\",\"\",Compliance_Options!B333)","v":""},{"$f":"IF(Compliance_Options!C333=\"\",\"\",Compliance_Options!C333)","v":""},{"$f":"IF(Compliance_Options!D333=\"\",\"\",Compliance_Options!D333)","v":""},"  ",{"$f":"IF(COUNTIF(CT$2:CT311,CT311)=1,CT311,\"\")","v":""},"","","",""]
[null,null,null,null,null,null,null,null,null,null,null,null,null,null,null,null,null,null,null,null,null,null,null,null,null,null,null,null,null,null,null,null,null,null,null,null,null,null,null,null,null,null,null,null,null,null,null,{"$f":"+IF(AW312=\"\",\"\",MAX(AV$1:AV311)+1)","v":""},{"$f":"IF(Compliance_Options!B334=\"\",\"\",Compliance_Options!B334)","v":""},{"$f":"IF(Compliance_Options!C334=\"\",\"\",Compliance_Options!C334)","v":""},{"$f":"IF(Compliance_Options!D334=\"\",\"\",Compliance_Options!D334)","v":""},{"$f":"IF(Compliance_Options!E334=\"\",\"\",Compliance_Options!E334)","v":""},{"$f":"IF(Compliance_Options!F334=\"\",\"\",Compliance_Options!F334)","v":""},"    ",{"$f":"IF(COUNTIF(BB$2:BB312,BB312)=1,BB312,\"\")","v":""},"","","","","","","",{"$f":"+IF(BJ312=\"\",\"\",MAX(BK$1:BK311)+1)","v":""},"","","","","","","",{"$f":"+IF(BR312=\"\",\"\",MAX(BS$1:BS311)+1)","v":""},"","","","","","","",{"$f":"+IF(BZ312=\"\",\"\",MAX(CA$1:CA311)+1)","v":""},"","","","","","","",{"$f":"+IF(CH312=\"\",\"\",MAX(CI$1:CI311)+1)","v":""},"","","","","",null,{"$f":"+IF(CQ312=\"\",\"\",MAX(CP$1:CP311)+1)","v":""},{"$f":"IF(Compliance_Options!B334=\"\",\"\",Compliance_Options!B334)","v":""},{"$f":"IF(Compliance_Options!C334=\"\",\"\",Compliance_Options!C334)","v":""},{"$f":"IF(Compliance_Options!D334=\"\",\"\",Compliance_Options!D334)","v":""},"  ",{"$f":"IF(COUNTIF(CT$2:CT312,CT312)=1,CT312,\"\")","v":""},"","","",""]
[null,null,null,null,null,null,null,null,null,null,null,null,null,null,null,null,null,null,null,null,null,null,null,null,null,null,null,null,null,null,null,null,null,null,null,null,null,null,null,null,null,null,null,null,null,null,null,{"$f":"+IF(AW313=\"\",\"\",MAX(AV$1:AV312)+1)","v":""},{"$f":"IF(Compliance_Options!B335=\"\",\"\",Compliance_Options!B335)","v":""},{"$f":"IF(Compliance_Options!C335=\"\",\"\",Compliance_Options!C335)","v":""},{"$f":"IF(Compliance_Options!D335=\"\",\"\",Compliance_Options!D335)","v":""},{"$f":"IF(Compliance_Options!E335=\"\",\"\",Compliance_Options!E335)","v":""},{"$f":"IF(Compliance_Options!F335=\"\",\"\",Compliance_Options!F335)","v":""},"    ",{"$f":"IF(COUNTIF(BB$2:BB313,BB313)=1,BB313,\"\")","v":""},"","","","","","","",{"$f":"+IF(BJ313=\"\",\"\",MAX(BK$1:BK312)+1)","v":""},"","","","","","","",{"$f":"+IF(BR313=\"\",\"\",MAX(BS$1:BS312)+1)","v":""},"","","","","","","",{"$f":"+IF(BZ313=\"\",\"\",MAX(CA$1:CA312)+1)","v":""},"","","","","","","",{"$f":"+IF(CH313=\"\",\"\",MAX(CI$1:CI312)+1)","v":""},"","","","","",null,{"$f":"+IF(CQ313=\"\",\"\",MAX(CP$1:CP312)+1)","v":""},{"$f":"IF(Compliance_Options!B335=\"\",\"\",Compliance_Options!B335)","v":""},{"$f":"IF(Compliance_Options!C335=\"\",\"\",Compliance_Options!C335)","v":""},{"$f":"IF(Compliance_Options!D335=\"\",\"\",Compliance_Options!D335)","v":""},"  ",{"$f":"IF(COUNTIF(CT$2:CT313,CT313)=1,CT313,\"\")","v":""},"","","",""]
[null,null,null,null,null,null,null,null,null,null,null,null,null,null,null,null,null,null,null,null,null,null,null,null,null,null,null,null,null,null,null,null,null,null,null,null,null,null,null,null,null,null,null,null,null,null,null,{"$f":"+IF(AW314=\"\",\"\",MAX(AV$1:AV313)+1)","v":""},{"$f":"IF(Compliance_Options!B336=\"\",\"\",Compliance_Options!B336)","v":""},{"$f":"IF(Compliance_Options!C336=\"\",\"\",Compliance_Options!C336)","v":""},{"$f":"IF(Compliance_Options!D336=\"\",\"\",Compliance_Options!D336)","v":""},{"$f":"IF(Compliance_Options!E336=\"\",\"\",Compliance_Options!E336)","v":""},{"$f":"IF(Compliance_Options!F336=\"\",\"\",Compliance_Options!F336)","v":""},"    ",{"$f":"IF(COUNTIF(BB$2:BB314,BB314)=1,BB314,\"\")","v":""},"","","","","","","",{"$f":"+IF(BJ314=\"\",\"\",MAX(BK$1:BK313)+1)","v":""},"","","","","","","",{"$f":"+IF(BR314=\"\",\"\",MAX(BS$1:BS313)+1)","v":""},"","","","","","","",{"$f":"+IF(BZ314=\"\",\"\",MAX(CA$1:CA313)+1)","v":""},"","","","","","","",{"$f":"+IF(CH314=\"\",\"\",MAX(CI$1:CI313)+1)","v":""},"","","","","",null,{"$f":"+IF(CQ314=\"\",\"\",MAX(CP$1:CP313)+1)","v":""},{"$f":"IF(Compliance_Options!B336=\"\",\"\",Compliance_Options!B336)","v":""},{"$f":"IF(Compliance_Options!C336=\"\",\"\",Compliance_Options!C336)","v":""},{"$f":"IF(Compliance_Options!D336=\"\",\"\",Compliance_Options!D336)","v":""},"  ",{"$f":"IF(COUNTIF(CT$2:CT314,CT314)=1,CT314,\"\")","v":""},"","","",""]
[null,null,null,null,null,null,null,null,null,null,null,null,null,null,null,null,null,null,null,null,null,null,null,null,null,null,null,null,null,null,null,null,null,null,null,null,null,null,null,null,null,null,null,null,null,null,null,{"$f":"+IF(AW315=\"\",\"\",MAX(AV$1:AV314)+1)","v":""},{"$f":"IF(Compliance_Options!B337=\"\",\"\",Compliance_Options!B337)","v":""},{"$f":"IF(Compliance_Options!C337=\"\",\"\",Compliance_Options!C337)","v":""},{"$f":"IF(Compliance_Options!D337=\"\",\"\",Compliance_Options!D337)","v":""},{"$f":"IF(Compliance_Options!E337=\"\",\"\",Compliance_Options!E337)","v":""},{"$f":"IF(Compliance_Options!F337=\"\",\"\",Compliance_Options!F337)","v":""},"    ",{"$f":"IF(COUNTIF(BB$2:BB315,BB315)=1,BB315,\"\")","v":""},"","","","","","","",{"$f":"+IF(BJ315=\"\",\"\",MAX(BK$1:BK314)+1)","v":""},"","","","","","","",{"$f":"+IF(BR315=\"\",\"\",MAX(BS$1:BS314)+1)","v":""},"","","","","","","",{"$f":"+IF(BZ315=\"\",\"\",MAX(CA$1:CA314)+1)","v":""},"","","","","","","",{"$f":"+IF(CH315=\"\",\"\",MAX(CI$1:CI314)+1)","v":""},"","","","","",null,{"$f":"+IF(CQ315=\"\",\"\",MAX(CP$1:CP314)+1)","v":""},{"$f":"IF(Compliance_Options!B337=\"\",\"\",Compliance_Options!B337)","v":""},{"$f":"IF(Compliance_Options!C337=\"\",\"\",Compliance_Options!C337)","v":""},{"$f":"IF(Compliance_Options!D337=\"\",\"\",Compliance_Options!D337)","v":""},"  ",{"$f":"IF(COUNTIF(CT$2:CT315,CT315)=1,CT315,\"\")","v":""},"","","",""]
[null,null,null,null,null,null,null,null,null,null,null,null,null,null,null,null,null,null,null,null,null,null,null,null,null,null,null,null,null,null,null,null,null,null,null,null,null,null,null,null,null,null,null,null,null,null,null,{"$f":"+IF(AW316=\"\",\"\",MAX(AV$1:AV315)+1)","v":""},{"$f":"IF(Compliance_Options!B338=\"\",\"\",Compliance_Options!B338)","v":""},{"$f":"IF(Compliance_Options!C338=\"\",\"\",Compliance_Options!C338)","v":""},{"$f":"IF(Compliance_Options!D338=\"\",\"\",Compliance_Options!D338)","v":""},{"$f":"IF(Compliance_Options!E338=\"\",\"\",Compliance_Options!E338)","v":""},{"$f":"IF(Compliance_Options!F338=\"\",\"\",Compliance_Options!F338)","v":""},"    ",{"$f":"IF(COUNTIF(BB$2:BB316,BB316)=1,BB316,\"\")","v":""},"","","","","","","",{"$f":"+IF(BJ316=\"\",\"\",MAX(BK$1:BK315)+1)","v":""},"","","","","","","",{"$f":"+IF(BR316=\"\",\"\",MAX(BS$1:BS315)+1)","v":""},"","","","","","","",{"$f":"+IF(BZ316=\"\",\"\",MAX(CA$1:CA315)+1)","v":""},"","","","","","","",{"$f":"+IF(CH316=\"\",\"\",MAX(CI$1:CI315)+1)","v":""},"","","","","",null,{"$f":"+IF(CQ316=\"\",\"\",MAX(CP$1:CP315)+1)","v":""},{"$f":"IF(Compliance_Options!B338=\"\",\"\",Compliance_Options!B338)","v":""},{"$f":"IF(Compliance_Options!C338=\"\",\"\",Compliance_Options!C338)","v":""},{"$f":"IF(Compliance_Options!D338=\"\",\"\",Compliance_Options!D338)","v":""},"  ",{"$f":"IF(COUNTIF(CT$2:CT316,CT316)=1,CT316,\"\")","v":""},"","","",""]
[null,null,null,null,null,null,null,null,null,null,null,null,null,null,null,null,null,null,null,null,null,null,null,null,null,null,null,null,null,null,null,null,null,null,null,null,null,null,null,null,null,null,null,null,null,null,null,{"$f":"+IF(AW317=\"\",\"\",MAX(AV$1:AV316)+1)","v":""},{"$f":"IF(Compliance_Options!B339=\"\",\"\",Compliance_Options!B339)","v":""},{"$f":"IF(Compliance_Options!C339=\"\",\"\",Compliance_Options!C339)","v":""},{"$f":"IF(Compliance_Options!D339=\"\",\"\",Compliance_Options!D339)","v":""},{"$f":"IF(Compliance_Options!E339=\"\",\"\",Compliance_Options!E339)","v":""},{"$f":"IF(Compliance_Options!F339=\"\",\"\",Compliance_Options!F339)","v":""},"    ",{"$f":"IF(COUNTIF(BB$2:BB317,BB317)=1,BB317,\"\")","v":""},"","","","","","","",{"$f":"+IF(BJ317=\"\",\"\",MAX(BK$1:BK316)+1)","v":""},"","","","","","","",{"$f":"+IF(BR317=\"\",\"\",MAX(BS$1:BS316)+1)","v":""},"","","","","","","",{"$f":"+IF(BZ317=\"\",\"\",MAX(CA$1:CA316)+1)","v":""},"","","","","","","",{"$f":"+IF(CH317=\"\",\"\",MAX(CI$1:CI316)+1)","v":""},"","","","","",null,{"$f":"+IF(CQ317=\"\",\"\",MAX(CP$1:CP316)+1)","v":""},{"$f":"IF(Compliance_Options!B339=\"\",\"\",Compliance_Options!B339)","v":""},{"$f":"IF(Compliance_Options!C339=\"\",\"\",Compliance_Options!C339)","v":""},{"$f":"IF(Compliance_Options!D339=\"\",\"\",Compliance_Options!D339)","v":""},"  ",{"$f":"IF(COUNTIF(CT$2:CT317,CT317)=1,CT317,\"\")","v":""},"","","",""]
[null,null,null,null,null,null,null,null,null,null,null,null,null,null,null,null,null,null,null,null,null,null,null,null,null,null,null,null,null,null,null,null,null,null,null,null,null,null,null,null,null,null,null,null,null,null,null,{"$f":"+IF(AW318=\"\",\"\",MAX(AV$1:AV317)+1)","v":""},{"$f":"IF(Compliance_Options!B340=\"\",\"\",Compliance_Options!B340)","v":""},{"$f":"IF(Compliance_Options!C340=\"\",\"\",Compliance_Options!C340)","v":""},{"$f":"IF(Compliance_Options!D340=\"\",\"\",Compliance_Options!D340)","v":""},{"$f":"IF(Compliance_Options!E340=\"\",\"\",Compliance_Options!E340)","v":""},{"$f":"IF(Compliance_Options!F340=\"\",\"\",Compliance_Options!F340)","v":""},"    ",{"$f":"IF(COUNTIF(BB$2:BB318,BB318)=1,BB318,\"\")","v":""},"","","","","","","",{"$f":"+IF(BJ318=\"\",\"\",MAX(BK$1:BK317)+1)","v":""},"","","","","","","",{"$f":"+IF(BR318=\"\",\"\",MAX(BS$1:BS317)+1)","v":""},"","","","","","","",{"$f":"+IF(BZ318=\"\",\"\",MAX(CA$1:CA317)+1)","v":""},"","","","","","","",{"$f":"+IF(CH318=\"\",\"\",MAX(CI$1:CI317)+1)","v":""},"","","","","",null,{"$f":"+IF(CQ318=\"\",\"\",MAX(CP$1:CP317)+1)","v":""},{"$f":"IF(Compliance_Options!B340=\"\",\"\",Compliance_Options!B340)","v":""},{"$f":"IF(Compliance_Options!C340=\"\",\"\",Compliance_Options!C340)","v":""},{"$f":"IF(Compliance_Options!D340=\"\",\"\",Compliance_Options!D340)","v":""},"  ",{"$f":"IF(COUNTIF(CT$2:CT318,CT318)=1,CT318,\"\")","v":""},"","","",""]
[null,null,null,null,null,null,null,null,null,null,null,null,null,null,null,null,null,null,null,null,null,null,null,null,null,null,null,null,null,null,null,null,null,null,null,null,null,null,null,null,null,null,null,null,null,null,null,{"$f":"+IF(AW319=\"\",\"\",MAX(AV$1:AV318)+1)","v":""},{"$f":"IF(Compliance_Options!B341=\"\",\"\",Compliance_Options!B341)","v":""},{"$f":"IF(Compliance_Options!C341=\"\",\"\",Compliance_Options!C341)","v":""},{"$f":"IF(Compliance_Options!D341=\"\",\"\",Compliance_Options!D341)","v":""},{"$f":"IF(Compliance_Options!E341=\"\",\"\",Compliance_Options!E341)","v":""},{"$f":"IF(Compliance_Options!F341=\"\",\"\",Compliance_Options!F341)","v":""},"    ",{"$f":"IF(COUNTIF(BB$2:BB319,BB319)=1,BB319,\"\")","v":""},"","","","","","","",{"$f":"+IF(BJ319=\"\",\"\",MAX(BK$1:BK318)+1)","v":""},"","","","","","","",{"$f":"+IF(BR319=\"\",\"\",MAX(BS$1:BS318)+1)","v":""},"","","","","","","",{"$f":"+IF(BZ319=\"\",\"\",MAX(CA$1:CA318)+1)","v":""},"","","","","","","",{"$f":"+IF(CH319=\"\",\"\",MAX(CI$1:CI318)+1)","v":""},"","","","","",null,{"$f":"+IF(CQ319=\"\",\"\",MAX(CP$1:CP318)+1)","v":""},{"$f":"IF(Compliance_Options!B341=\"\",\"\",Compliance_Options!B341)","v":""},{"$f":"IF(Compliance_Options!C341=\"\",\"\",Compliance_Options!C341)","v":""},{"$f":"IF(Compliance_Options!D341=\"\",\"\",Compliance_Options!D341)","v":""},"  ",{"$f":"IF(COUNTIF(CT$2:CT319,CT319)=1,CT319,\"\")","v":""},"","","",""]
[null,null,null,null,null,null,null,null,null,null,null,null,null,null,null,null,null,null,null,null,null,null,null,null,null,null,null,null,null,null,null,null,null,null,null,null,null,null,null,null,null,null,null,null,null,null,null,{"$f":"+IF(AW320=\"\",\"\",MAX(AV$1:AV319)+1)","v":""},{"$f":"IF(Compliance_Options!B342=\"\",\"\",Compliance_Options!B342)","v":""},{"$f":"IF(Compliance_Options!C342=\"\",\"\",Compliance_Options!C342)","v":""},{"$f":"IF(Compliance_Options!D342=\"\",\"\",Compliance_Options!D342)","v":""},{"$f":"IF(Compliance_Options!E342=\"\",\"\",Compliance_Options!E342)","v":""},{"$f":"IF(Compliance_Options!F342=\"\",\"\",Compliance_Options!F342)","v":""},"    ",{"$f":"IF(COUNTIF(BB$2:BB320,BB320)=1,BB320,\"\")","v":""},"","","","","","","",{"$f":"+IF(BJ320=\"\",\"\",MAX(BK$1:BK319)+1)","v":""},"","","","","","","",{"$f":"+IF(BR320=\"\",\"\",MAX(BS$1:BS319)+1)","v":""},"","","","","","","",{"$f":"+IF(BZ320=\"\",\"\",MAX(CA$1:CA319)+1)","v":""},"","","","","","","",{"$f":"+IF(CH320=\"\",\"\",MAX(CI$1:CI319)+1)","v":""},"","","","","",null,{"$f":"+IF(CQ320=\"\",\"\",MAX(CP$1:CP319)+1)","v":""},{"$f":"IF(Compliance_Options!B342=\"\",\"\",Compliance_Options!B342)","v":""},{"$f":"IF(Compliance_Options!C342=\"\",\"\",Compliance_Options!C342)","v":""},{"$f":"IF(Compliance_Options!D342=\"\",\"\",Compliance_Options!D342)","v":""},"  ",{"$f":"IF(COUNTIF(CT$2:CT320,CT320)=1,CT320,\"\")","v":""},"","","",""]
[null,null,null,null,null,null,null,null,null,null,null,null,null,null,null,null,null,null,null,null,null,null,null,null,null,null,null,null,null,null,null,null,null,null,null,null,null,null,null,null,null,null,null,null,null,null,null,{"$f":"+IF(AW321=\"\",\"\",MAX(AV$1:AV320)+1)","v":""},{"$f":"IF(Compliance_Options!B343=\"\",\"\",Compliance_Options!B343)","v":""},{"$f":"IF(Compliance_Options!C343=\"\",\"\",Compliance_Options!C343)","v":""},{"$f":"IF(Compliance_Options!D343=\"\",\"\",Compliance_Options!D343)","v":""},{"$f":"IF(Compliance_Options!E343=\"\",\"\",Compliance_Options!E343)","v":""},{"$f":"IF(Compliance_Options!F343=\"\",\"\",Compliance_Options!F343)","v":""},"    ",{"$f":"IF(COUNTIF(BB$2:BB321,BB321)=1,BB321,\"\")","v":""},"","","","","","","",{"$f":"+IF(BJ321=\"\",\"\",MAX(BK$1:BK320)+1)","v":""},"","","","","","","",{"$f":"+IF(BR321=\"\",\"\",MAX(BS$1:BS320)+1)","v":""},"","","","","","","",{"$f":"+IF(BZ321=\"\",\"\",MAX(CA$1:CA320)+1)","v":""},"","","","","","","",{"$f":"+IF(CH321=\"\",\"\",MAX(CI$1:CI320)+1)","v":""},"","","","","",null,{"$f":"+IF(CQ321=\"\",\"\",MAX(CP$1:CP320)+1)","v":""},{"$f":"IF(Compliance_Options!B343=\"\",\"\",Compliance_Options!B343)","v":""},{"$f":"IF(Compliance_Options!C343=\"\",\"\",Compliance_Options!C343)","v":""},{"$f":"IF(Compliance_Options!D343=\"\",\"\",Compliance_Options!D343)","v":""},"  ",{"$f":"IF(COUNTIF(CT$2:CT321,CT321)=1,CT321,\"\")","v":""},"","","",""]
[null,null,null,null,null,null,null,null,null,null,null,null,null,null,null,null,null,null,null,null,null,null,null,null,null,null,null,null,null,null,null,null,null,null,null,null,null,null,null,null,null,null,null,null,null,null,null,{"$f":"+IF(AW322=\"\",\"\",MAX(AV$1:AV321)+1)","v":""},{"$f":"IF(Compliance_Options!B344=\"\",\"\",Compliance_Options!B344)","v":""},{"$f":"IF(Compliance_Options!C344=\"\",\"\",Compliance_Options!C344)","v":""},{"$f":"IF(Compliance_Options!D344=\"\",\"\",Compliance_Options!D344)","v":""},{"$f":"IF(Compliance_Options!E344=\"\",\"\",Compliance_Options!E344)","v":""},{"$f":"IF(Compliance_Options!F344=\"\",\"\",Compliance_Options!F344)","v":""},"    ",{"$f":"IF(COUNTIF(BB$2:BB322,BB322)=1,BB322,\"\")","v":""},"","","","","","","",{"$f":"+IF(BJ322=\"\",\"\",MAX(BK$1:BK321)+1)","v":""},"","","","","","","",{"$f":"+IF(BR322=\"\",\"\",MAX(BS$1:BS321)+1)","v":""},"","","","","","","",{"$f":"+IF(BZ322=\"\",\"\",MAX(CA$1:CA321)+1)","v":""},"","","","","","","",{"$f":"+IF(CH322=\"\",\"\",MAX(CI$1:CI321)+1)","v":""},"","","","","",null,{"$f":"+IF(CQ322=\"\",\"\",MAX(CP$1:CP321)+1)","v":""},{"$f":"IF(Compliance_Options!B344=\"\",\"\",Compliance_Options!B344)","v":""},{"$f":"IF(Compliance_Options!C344=\"\",\"\",Compliance_Options!C344)","v":""},{"$f":"IF(Compliance_Options!D344=\"\",\"\",Compliance_Options!D344)","v":""},"  ",{"$f":"IF(COUNTIF(CT$2:CT322,CT322)=1,CT322,\"\")","v":""},"","","",""]
[null,null,null,null,null,null,null,null,null,null,null,null,null,null,null,null,null,null,null,null,null,null,null,null,null,null,null,null,null,null,null,null,null,null,null,null,null,null,null,null,null,null,null,null,null,null,null,{"$f":"+IF(AW323=\"\",\"\",MAX(AV$1:AV322)+1)","v":""},{"$f":"IF(Compliance_Options!B345=\"\",\"\",Compliance_Options!B345)","v":""},{"$f":"IF(Compliance_Options!C345=\"\",\"\",Compliance_Options!C345)","v":""},{"$f":"IF(Compliance_Options!D345=\"\",\"\",Compliance_Options!D345)","v":""},{"$f":"IF(Compliance_Options!E345=\"\",\"\",Compliance_Options!E345)","v":""},{"$f":"IF(Compliance_Options!F345=\"\",\"\",Compliance_Options!F345)","v":""},{"$f":"AW323&\" \"&AX323&\" \"&AY323&\" \"&AZ323&\" \"&BA323","v":"    "},{"$f":"IF(COUNTIF(BB$2:BB323,BB323)=1,BB323,\"\")","v":""},{"$f":"IF(BE323=\"\",\"\",BE323&\" \"&BF323&\" \"&BG323)","v":""},{"$f":"IFERROR(INDEX(AW$2:AW$78,MATCH(ROW()-ROW($BC$1),$AV$2:$AV$78,0)),\"\")","v":""},{"$f":"IFERROR(INDEX(AX$2:AX$78,MATCH(ROW()-ROW($BC$1),$AV$2:$AV$78,0)),\"\")","v":""},{"$f":"IFERROR(INDEX(AY$2:AY$78,MATCH(ROW()-ROW($BC$1),$AV$2:$AV$78,0)),\"\")","v":""},{"$f":"IFERROR(INDEX(AZ$2:AZ$78,MATCH(ROW()-ROW($BC$1),$AV$2:$AV$78,0)),\"\")","v":""},{"$f":"IFERROR(INDEX(BA$2:BA$78,MATCH(ROW()-ROW($BC$1),$AV$2:$AV$78,0)),\"\")","v":""},{"$f":"IF($AY323=\"Tire Production\",$BB323,\"\")","v":""},{"$f":"+IF(BJ323=\"\",\"\",MAX(BK$1:BK322)+1)","v":""},{"$f":"IF(BM323=\"\",\"\",BM323&\" \"&BN323&\" \"&BO323&\" \"&BP323&\" \"&BQ323)","v":""},{"$f":"IFERROR(INDEX(AW$2:AW$78,MATCH(ROW()-ROW($BC$1),$BK$2:$BK$78,0)),\"\")","v":""},{"$f":"IFERROR(INDEX(AX$2:AX$78,MATCH(ROW()-ROW($BC$1),$BK$2:$BK$78,0)),\"\")","v":""},{"$f":"IFERROR(INDEX(AY$2:AY$78,MATCH(ROW()-ROW($BC$1),$BK$2:$BK$78,0)),\"\")","v":""},{"$f":"IFERROR(INDEX(AZ$2:AZ$78,MATCH(ROW()-ROW($BC$1),$BK$2:$BK$78,0)),\"\")","v":""},{"$f":"IFERROR(INDEX(BA$2:BA$78,MATCH(ROW()-ROW($BC$1),$BK$2:$BK$78,0)),\"\")","v":""},{"$f":"IF($AY323=\"Tire Cord Production\",$BB323,\"\")","v":""},{"$f":"+IF(BR323=\"\",\"\",MAX(BS$1:BS322)+1)","v":""},{"$f":"IF(BU323=\"\",\"\",BU323&\" \"&BV323&\" \"&BW323)","v":""},{"$f":"IFERROR(INDEX(AW$2:AW$78,MATCH(ROW()-ROW($BS$1),$BS$2:$BS$78,0)),\"\")","v":""},{"$f":"IFERROR(INDEX(AX$2:AX$78,MATCH(ROW()-ROW($BS$1),$BS$2:$BS$78,0)),\"\")","v":""},{"$f":"IFERROR(INDEX(AY$2:AY$78,MATCH(ROW()-ROW($BS$1),$BS$2:$BS$78,0)),\"\")","v":""},{"$f":"IFERROR(INDEX(AZ$2:AZ$78,MATCH(ROW()-ROW($BS$1),$BS$2:$BS$78,0)),\"\")","v":""},{"$f":"IFERROR(INDEX(BA$2:BA$78,MATCH(ROW()-ROW($BS$1),$BS$2:$BS$78,0)),\"\")","v":""},{"$f":"IF($AY323=\"Puncture Sealant Application\",$BB323,\"\")","v":""},{"$f":"+IF(BZ323=\"\",\"\",MAX(CA$1:CA322)+1)","v":""},{"$f":"IF(CC323=\"\",\"\",CC323&\" \"&CD323&\" \"&CE323)","v":""},{"$f":"IFERROR(INDEX(AW$2:AW$78,MATCH(ROW()-ROW($CA$1),$CA$2:$CA$78,0)),\"\")","v":""},{"$f":"IFERROR(INDEX(AX$2:AX$78,MATCH(ROW()-ROW($CA$1),$CA$2:$CA$78,0)),\"\")","v":""},{"$f":"IFERROR(INDEX(AY$2:AY$78,MATCH(ROW()-ROW($CA$1),$CA$2:$CA$78,0)),\"\")","v":""},{"$f":"IFERROR(INDEX(AZ$2:AZ$78,MATCH(ROW()-ROW($CA$1),$CA$2:$CA$78,0)),\"\")","v":""},{"$f":"IFERROR(INDEX(BA$2:BA$78,MATCH(ROW()-ROW($CA$1),$CA$2:$CA$78,0)),\"\")","v":""},{"$f":"IF($AY323=\"Rubber Processing\",$BB323,\"\")","v":""},{"$f":"+IF(CH323=\"\",\"\",MAX(CI$1:CI322)+1)","v":""},{"$f":"IFERROR(INDEX(AW$2:AW$78,MATCH(ROW()-ROW($CI$1),$CI$2:$CI$78,0)),\"\")","v":""},{"$f":"IFERROR(INDEX(AX$2:AX$78,MATCH(ROW()-ROW($CI$1),$CI$2:$CI$78,0)),\"\")","v":""},{"$f":"IFERROR(INDEX(AY$2:AY$78,MATCH(ROW()-ROW($CI$1),$CI$2:$CI$78,0)),\"\")","v":""},{"$f":"IFERROR(INDEX(AZ$2:AZ$78,MATCH(ROW()-ROW($CI$1),$CI$2:$CI$78,0)),\"\")","v":""},{"$f":"IFERROR(INDEX(BA$2:BA$78,MATCH(ROW()-ROW($CI$1),$CI$2:$CI$78,0)),\"\")","v":""},null,{"$f":"+IF(CQ323=\"\",\"\",MAX(CP$1:CP322)+1)","v":""},{"$f":"IF(Compliance_Options!B345=\"\",\"\",Compliance_Options!B345)","v":""},{"$f":"IF(Compliance_Options!C345=\"\",\"\",Compliance_Options!C345)","v":""},{"$f":"IF(Compliance_Options!D345=\"\",\"\",Compliance_Options!D345)","v":""},{"$f":"CQ323&\" \"&CR323&\" \"&CS323","v":"  "},{"$f":"IF(COUNTIF(CT$2:CT323,CT323)=1,CT323,\"\")","v":""},{"$f":"IFERROR(INDEX(CU$2:CU$78,MATCH(ROW()-ROW($CU$1),$CP$2:$CP$78,0)),\"\")","v":""},{"$f":"IFERROR(INDEX(CQ$2:CQ$78,MATCH(ROW()-ROW($CU$1),$CP$2:$CP$78,0)),\"\")","v":""},{"$f":"IFERROR(INDEX(CR$2:CR$78,MATCH(ROW()-ROW($CU$1),$CP$2:$CP$78,0)),\"\")","v":""},{"$f":"IFERROR(INDEX(CS$2:CS$78,MATCH(ROW()-ROW($CU$1),$CP$2:$CP$78,0)),\"\")","v":""}]
[null,null,null,null,null,null,null,null,null,null,null,null,null,null,null,null,null,null,null,null,null,null,null,null,null,null,null,null,null,null,null,null,null,null,null,null,null,null,null,null,null,null,null,null,null,null,null,{"$f":"+IF(AW324=\"\",\"\",MAX(AV$1:AV323)+1)","v":""},{"$f":"IF(Compliance_Options!B346=\"\",\"\",Compliance_Options!B346)","v":""},{"$f":"IF(Compliance_Options!C346=\"\",\"\",Compliance_Options!C346)","v":""},{"$f":"IF(Compliance_Options!D346=\"\",\"\",Compliance_Options!D346)","v":""},{"$f":"IF(Compliance_Options!E346=\"\",\"\",Compliance_Options!E346)","v":""},{"$f":"IF(Compliance_Options!F346=\"\",\"\",Compliance_Options!F346)","v":""},"    ",{"$f":"IF(COUNTIF(BB$2:BB324,BB324)=1,BB324,\"\")","v":""},"","","","","","","",{"$f":"+IF(BJ324=\"\",\"\",MAX(BK$1:BK323)+1)","v":""},"","","","","","","",{"$f":"+IF(BR324=\"\",\"\",MAX(BS$1:BS323)+1)","v":""},"","","","","","","",{"$f":"+IF(BZ324=\"\",\"\",MAX(CA$1:CA323)+1)","v":""},"","","","","","","",{"$f":"+IF(CH324=\"\",\"\",MAX(CI$1:CI323)+1)","v":""},"","","","","",null,{"$f":"+IF(CQ324=\"\",\"\",MAX(CP$1:CP323)+1)","v":""},{"$f":"IF(Compliance_Options!B346=\"\",\"\",Compliance_Options!B346)","v":""},{"$f":"IF(Compliance_Options!C346=\"\",\"\",Compliance_Options!C346)","v":""},{"$f":"IF(Compliance_Options!D346=\"\",\"\",Compliance_Options!D346)","v":""},"  ",{"$f":"IF(COUNTIF(CT$2:CT324,CT324)=1,CT324,\"\")","v":""},"","","",""]
[null,null,null,null,null,null,null,null,null,null,null,null,null,null,null,null,null,null,null,null,null,null,null,null,null,null,null,null,null,null,null,null,null,null,null,null,null,null,null,null,null,null,null,null,null,null,null,{"$f":"+IF(AW325=\"\",\"\",MAX(AV$1:AV324)+1)","v":""},{"$f":"IF(Compliance_Options!B347=\"\",\"\",Compliance_Options!B347)","v":""},{"$f":"IF(Compliance_Options!C347=\"\",\"\",Compliance_Options!C347)","v":""},{"$f":"IF(Compliance_Options!D347=\"\",\"\",Compliance_Options!D347)","v":""},{"$f":"IF(Compliance_Options!E347=\"\",\"\",Compliance_Options!E347)","v":""},{"$f":"IF(Compliance_Options!F347=\"\",\"\",Compliance_Options!F347)","v":""},"    ",{"$f":"IF(COUNTIF(BB$2:BB325,BB325)=1,BB325,\"\")","v":""},"","","","","","","",{"$f":"+IF(BJ325=\"\",\"\",MAX(BK$1:BK324)+1)","v":""},"","","","","","","",{"$f":"+IF(BR325=\"\",\"\",MAX(BS$1:BS324)+1)","v":""},"","","","","","","",{"$f":"+IF(BZ325=\"\",\"\",MAX(CA$1:CA324)+1)","v":""},"","","","","","","",{"$f":"+IF(CH325=\"\",\"\",MAX(CI$1:CI324)+1)","v":""},"","","","","",null,{"$f":"+IF(CQ325=\"\",\"\",MAX(CP$1:CP324)+1)","v":""},{"$f":"IF(Compliance_Options!B347=\"\",\"\",Compliance_Options!B347)","v":""},{"$f":"IF(Compliance_Options!C347=\"\",\"\",Compliance_Options!C347)","v":""},{"$f":"IF(Compliance_Options!D347=\"\",\"\",Compliance_Options!D347)","v":""},"  ",{"$f":"IF(COUNTIF(CT$2:CT325,CT325)=1,CT325,\"\")","v":""},"","","",""]
[null,null,null,null,null,null,null,null,null,null,null,null,null,null,null,null,null,null,null,null,null,null,null,null,null,null,null,null,null,null,null,null,null,null,null,null,null,null,null,null,null,null,null,null,null,null,null,{"$f":"+IF(AW326=\"\",\"\",MAX(AV$1:AV325)+1)","v":""},{"$f":"IF(Compliance_Options!B348=\"\",\"\",Compliance_Options!B348)","v":""},{"$f":"IF(Compliance_Options!C348=\"\",\"\",Compliance_Options!C348)","v":""},{"$f":"IF(Compliance_Options!D348=\"\",\"\",Compliance_Options!D348)","v":""},{"$f":"IF(Compliance_Options!E348=\"\",\"\",Compliance_Options!E348)","v":""},{"$f":"IF(Compliance_Options!F348=\"\",\"\",Compliance_Options!F348)","v":""},"    ",{"$f":"IF(COUNTIF(BB$2:BB326,BB326)=1,BB326,\"\")","v":""},"","","","","","","",{"$f":"+IF(BJ326=\"\",\"\",MAX(BK$1:BK325)+1)","v":""},"","","","","","","",{"$f":"+IF(BR326=\"\",\"\",MAX(BS$1:BS325)+1)","v":""},"","","","","","","",{"$f":"+IF(BZ326=\"\",\"\",MAX(CA$1:CA325)+1)","v":""},"","","","","","","",{"$f":"+IF(CH326=\"\",\"\",MAX(CI$1:CI325)+1)","v":""},"","","","","",null,{"$f":"+IF(CQ326=\"\",\"\",MAX(CP$1:CP325)+1)","v":""},{"$f":"IF(Compliance_Options!B348=\"\",\"\",Compliance_Options!B348)","v":""},{"$f":"IF(Compliance_Options!C348=\"\",\"\",Compliance_Options!C348)","v":""},{"$f":"IF(Compliance_Options!D348=\"\",\"\",Compliance_Options!D348)","v":""},"  ",{"$f":"IF(COUNTIF(CT$2:CT326,CT326)=1,CT326,\"\")","v":""},"","","",""]
[null,null,null,null,null,null,null,null,null,null,null,null,null,null,null,null,null,null,null,null,null,null,null,null,null,null,null,null,null,null,null,null,null,null,null,null,null,null,null,null,null,null,null,null,null,null,null,{"$f":"+IF(AW327=\"\",\"\",MAX(AV$1:AV326)+1)","v":""},{"$f":"IF(Compliance_Options!B349=\"\",\"\",Compliance_Options!B349)","v":""},{"$f":"IF(Compliance_Options!C349=\"\",\"\",Compliance_Options!C349)","v":""},{"$f":"IF(Compliance_Options!D349=\"\",\"\",Compliance_Options!D349)","v":""},{"$f":"IF(Compliance_Options!E349=\"\",\"\",Compliance_Options!E349)","v":""},{"$f":"IF(Compliance_Options!F349=\"\",\"\",Compliance_Options!F349)","v":""},"    ",{"$f":"IF(COUNTIF(BB$2:BB327,BB327)=1,BB327,\"\")","v":""},"","","","","","","",{"$f":"+IF(BJ327=\"\",\"\",MAX(BK$1:BK326)+1)","v":""},"","","","","","","",{"$f":"+IF(BR327=\"\",\"\",MAX(BS$1:BS326)+1)","v":""},"","","","","","","",{"$f":"+IF(BZ327=\"\",\"\",MAX(CA$1:CA326)+1)","v":""},"","","","","","","",{"$f":"+IF(CH327=\"\",\"\",MAX(CI$1:CI326)+1)","v":""},"","","","","",null,{"$f":"+IF(CQ327=\"\",\"\",MAX(CP$1:CP326)+1)","v":""},{"$f":"IF(Compliance_Options!B349=\"\",\"\",Compliance_Options!B349)","v":""},{"$f":"IF(Compliance_Options!C349=\"\",\"\",Compliance_Options!C349)","v":""},{"$f":"IF(Compliance_Options!D349=\"\",\"\",Compliance_Options!D349)","v":""},"  ",{"$f":"IF(COUNTIF(CT$2:CT327,CT327)=1,CT327,\"\")","v":""},"","","",""]
[null,null,null,null,null,null,null,null,null,null,null,null,null,null,null,null,null,null,null,null,null,null,null,null,null,null,null,null,null,null,null,null,null,null,null,null,null,null,null,null,null,null,null,null,null,null,null,{"$f":"+IF(AW328=\"\",\"\",MAX(AV$1:AV327)+1)","v":""},{"$f":"IF(Compliance_Options!B350=\"\",\"\",Compliance_Options!B350)","v":""},{"$f":"IF(Compliance_Options!C350=\"\",\"\",Compliance_Options!C350)","v":""},{"$f":"IF(Compliance_Options!D350=\"\",\"\",Compliance_Options!D350)","v":""},{"$f":"IF(Compliance_Options!E350=\"\",\"\",Compliance_Options!E350)","v":""},{"$f":"IF(Compliance_Options!F350=\"\",\"\",Compliance_Options!F350)","v":""},"    ",{"$f":"IF(COUNTIF(BB$2:BB328,BB328)=1,BB328,\"\")","v":""},"","","","","","","",{"$f":"+IF(BJ328=\"\",\"\",MAX(BK$1:BK327)+1)","v":""},"","","","","","","",{"$f":"+IF(BR328=\"\",\"\",MAX(BS$1:BS327)+1)","v":""},"","","","","","","",{"$f":"+IF(BZ328=\"\",\"\",MAX(CA$1:CA327)+1)","v":""},"","","","","","","",{"$f":"+IF(CH328=\"\",\"\",MAX(CI$1:CI327)+1)","v":""},"","","","","",null,{"$f":"+IF(CQ328=\"\",\"\",MAX(CP$1:CP327)+1)","v":""},{"$f":"IF(Compliance_Options!B350=\"\",\"\",Compliance_Options!B350)","v":""},{"$f":"IF(Compliance_Options!C350=\"\",\"\",Compliance_Options!C350)","v":""},{"$f":"IF(Compliance_Options!D350=\"\",\"\",Compliance_Options!D350)","v":""},"  ",{"$f":"IF(COUNTIF(CT$2:CT328,CT328)=1,CT328,\"\")","v":""},"","","",""]
[null,null,null,null,null,null,null,null,null,null,null,null,null,null,null,null,null,null,null,null,null,null,null,null,null,null,null,null,null,null,null,null,null,null,null,null,null,null,null,null,null,null,null,null,null,null,null,{"$f":"+IF(AW329=\"\",\"\",MAX(AV$1:AV328)+1)","v":""},{"$f":"IF(Compliance_Options!B351=\"\",\"\",Compliance_Options!B351)","v":""},{"$f":"IF(Compliance_Options!C351=\"\",\"\",Compliance_Options!C351)","v":""},{"$f":"IF(Compliance_Options!D351=\"\",\"\",Compliance_Options!D351)","v":""},{"$f":"IF(Compliance_Options!E351=\"\",\"\",Compliance_Options!E351)","v":""},{"$f":"IF(Compliance_Options!F351=\"\",\"\",Compliance_Options!F351)","v":""},"    ",{"$f":"IF(COUNTIF(BB$2:BB329,BB329)=1,BB329,\"\")","v":""},"","","","","","","",{"$f":"+IF(BJ329=\"\",\"\",MAX(BK$1:BK328)+1)","v":""},"","","","","","","",{"$f":"+IF(BR329=\"\",\"\",MAX(BS$1:BS328)+1)","v":""},"","","","","","","",{"$f":"+IF(BZ329=\"\",\"\",MAX(CA$1:CA328)+1)","v":""},"","","","","","","",{"$f":"+IF(CH329=\"\",\"\",MAX(CI$1:CI328)+1)","v":""},"","","","","",null,{"$f":"+IF(CQ329=\"\",\"\",MAX(CP$1:CP328)+1)","v":""},{"$f":"IF(Compliance_Options!B351=\"\",\"\",Compliance_Options!B351)","v":""},{"$f":"IF(Compliance_Options!C351=\"\",\"\",Compliance_Options!C351)","v":""},{"$f":"IF(Compliance_Options!D351=\"\",\"\",Compliance_Options!D351)","v":""},"  ",{"$f":"IF(COUNTIF(CT$2:CT329,CT329)=1,CT329,\"\")","v":""},"","","",""]
[null,null,null,null,null,null,null,null,null,null,null,null,null,null,null,null,null,null,null,null,null,null,null,null,null,null,null,null,null,null,null,null,null,null,null,null,null,null,null,null,null,null,null,null,null,null,null,{"$f":"+IF(AW330=\"\",\"\",MAX(AV$1:AV329)+1)","v":""},{"$f":"IF(Compliance_Options!B352=\"\",\"\",Compliance_Options!B352)","v":""},{"$f":"IF(Compliance_Options!C352=\"\",\"\",Compliance_Options!C352)","v":""},{"$f":"IF(Compliance_Options!D352=\"\",\"\",Compliance_Options!D352)","v":""},{"$f":"IF(Compliance_Options!E352=\"\",\"\",Compliance_Options!E352)","v":""},{"$f":"IF(Compliance_Options!F352=\"\",\"\",Compliance_Options!F352)","v":""},"    ",{"$f":"IF(COUNTIF(BB$2:BB330,BB330)=1,BB330,\"\")","v":""},"","","","","","","",{"$f":"+IF(BJ330=\"\",\"\",MAX(BK$1:BK329)+1)","v":""},"","","","","","","",{"$f":"+IF(BR330=\"\",\"\",MAX(BS$1:BS329)+1)","v":""},"","","","","","","",{"$f":"+IF(BZ330=\"\",\"\",MAX(CA$1:CA329)+1)","v":""},"","","","","","","",{"$f":"+IF(CH330=\"\",\"\",MAX(CI$1:CI329)+1)","v":""},"","","","","",null,{"$f":"+IF(CQ330=\"\",\"\",MAX(CP$1:CP329)+1)","v":""},{"$f":"IF(Compliance_Options!B352=\"\",\"\",Compliance_Options!B352)","v":""},{"$f":"IF(Compliance_Options!C352=\"\",\"\",Compliance_Options!C352)","v":""},{"$f":"IF(Compliance_Options!D352=\"\",\"\",Compliance_Options!D352)","v":""},"  ",{"$f":"IF(COUNTIF(CT$2:CT330,CT330)=1,CT330,\"\")","v":""},"","","",""]
[null,null,null,null,null,null,null,null,null,null,null,null,null,null,null,null,null,null,null,null,null,null,null,null,null,null,null,null,null,null,null,null,null,null,null,null,null,null,null,null,null,null,null,null,null,null,null,{"$f":"+IF(AW331=\"\",\"\",MAX(AV$1:AV330)+1)","v":""},{"$f":"IF(Compliance_Options!B353=\"\",\"\",Compliance_Options!B353)","v":""},{"$f":"IF(Compliance_Options!C353=\"\",\"\",Compliance_Options!C353)","v":""},{"$f":"IF(Compliance_Options!D353=\"\",\"\",Compliance_Options!D353)","v":""},{"$f":"IF(Compliance_Options!E353=\"\",\"\",Compliance_Options!E353)","v":""},{"$f":"IF(Compliance_Options!F353=\"\",\"\",Compliance_Options!F353)","v":""},"    ",{"$f":"IF(COUNTIF(BB$2:BB331,BB331)=1,BB331,\"\")","v":""},"","","","","","","",{"$f":"+IF(BJ331=\"\",\"\",MAX(BK$1:BK330)+1)","v":""},"","","","","","","",{"$f":"+IF(BR331=\"\",\"\",MAX(BS$1:BS330)+1)","v":""},"","","","","","","",{"$f":"+IF(BZ331=\"\",\"\",MAX(CA$1:CA330)+1)","v":""},"","","","","","","",{"$f":"+IF(CH331=\"\",\"\",MAX(CI$1:CI330)+1)","v":""},"","","","","",null,{"$f":"+IF(CQ331=\"\",\"\",MAX(CP$1:CP330)+1)","v":""},{"$f":"IF(Compliance_Options!B353=\"\",\"\",Compliance_Options!B353)","v":""},{"$f":"IF(Compliance_Options!C353=\"\",\"\",Compliance_Options!C353)","v":""},{"$f":"IF(Compliance_Options!D353=\"\",\"\",Compliance_Options!D353)","v":""},"  ",{"$f":"IF(COUNTIF(CT$2:CT331,CT331)=1,CT331,\"\")","v":""},"","","",""]
[null,null,null,null,null,null,null,null,null,null,null,null,null,null,null,null,null,null,null,null,null,null,null,null,null,null,null,null,null,null,null,null,null,null,null,null,null,null,null,null,null,null,null,null,null,null,null,{"$f":"+IF(AW332=\"\",\"\",MAX(AV$1:AV331)+1)","v":""},{"$f":"IF(Compliance_Options!B354=\"\",\"\",Compliance_Options!B354)","v":""},{"$f":"IF(Compliance_Options!C354=\"\",\"\",Compliance_Options!C354)","v":""},{"$f":"IF(Compliance_Options!D354=\"\",\"\",Compliance_Options!D354)","v":""},{"$f":"IF(Compliance_Options!E354=\"\",\"\",Compliance_Options!E354)","v":""},{"$f":"IF(Compliance_Options!F354=\"\",\"\",Compliance_Options!F354)","v":""},"    ",{"$f":"IF(COUNTIF(BB$2:BB332,BB332)=1,BB332,\"\")","v":""},"","","","","","","",{"$f":"+IF(BJ332=\"\",\"\",MAX(BK$1:BK331)+1)","v":""},"","","","","","","",{"$f":"+IF(BR332=\"\",\"\",MAX(BS$1:BS331)+1)","v":""},"","","","","","","",{"$f":"+IF(BZ332=\"\",\"\",MAX(CA$1:CA331)+1)","v":""},"","","","","","","",{"$f":"+IF(CH332=\"\",\"\",MAX(CI$1:CI331)+1)","v":""},"","","","","",null,{"$f":"+IF(CQ332=\"\",\"\",MAX(CP$1:CP331)+1)","v":""},{"$f":"IF(Compliance_Options!B354=\"\",\"\",Compliance_Options!B354)","v":""},{"$f":"IF(Compliance_Options!C354=\"\",\"\",Compliance_Options!C354)","v":""},{"$f":"IF(Compliance_Options!D354=\"\",\"\",Compliance_Options!D354)","v":""},"  ",{"$f":"IF(COUNTIF(CT$2:CT332,CT332)=1,CT332,\"\")","v":""},"","","",""]
[null,null,null,null,null,null,null,null,null,null,null,null,null,null,null,null,null,null,null,null,null,null,null,null,null,null,null,null,null,null,null,null,null,null,null,null,null,null,null,null,null,null,null,null,null,null,null,{"$f":"+IF(AW333=\"\",\"\",MAX(AV$1:AV332)+1)","v":""},{"$f":"IF(Compliance_Options!B355=\"\",\"\",Compliance_Options!B355)","v":""},{"$f":"IF(Compliance_Options!C355=\"\",\"\",Compliance_Options!C355)","v":""},{"$f":"IF(Compliance_Options!D355=\"\",\"\",Compliance_Options!D355)","v":""},{"$f":"IF(Compliance_Options!E355=\"\",\"\",Compliance_Options!E355)","v":""},{"$f":"IF(Compliance_Options!F355=\"\",\"\",Compliance_Options!F355)","v":""},"    ",{"$f":"IF(COUNTIF(BB$2:BB333,BB333)=1,BB333,\"\")","v":""},"","","","","","","",{"$f":"+IF(BJ333=\"\",\"\",MAX(BK$1:BK332)+1)","v":""},"","","","","","","",{"$f":"+IF(BR333=\"\",\"\",MAX(BS$1:BS332)+1)","v":""},"","","","","","","",{"$f":"+IF(BZ333=\"\",\"\",MAX(CA$1:CA332)+1)","v":""},"","","","","","","",{"$f":"+IF(CH333=\"\",\"\",MAX(CI$1:CI332)+1)","v":""},"","","","","",null,{"$f":"+IF(CQ333=\"\",\"\",MAX(CP$1:CP332)+1)","v":""},{"$f":"IF(Compliance_Options!B355=\"\",\"\",Compliance_Options!B355)","v":""},{"$f":"IF(Compliance_Options!C355=\"\",\"\",Compliance_Options!C355)","v":""},{"$f":"IF(Compliance_Options!D355=\"\",\"\",Compliance_Options!D355)","v":""},"  ",{"$f":"IF(COUNTIF(CT$2:CT333,CT333)=1,CT333,\"\")","v":""},"","","",""]
[null,null,null,null,null,null,null,null,null,null,null,null,null,null,null,null,null,null,null,null,null,null,null,null,null,null,null,null,null,null,null,null,null,null,null,null,null,null,null,null,null,null,null,null,null,null,null,{"$f":"+IF(AW334=\"\",\"\",MAX(AV$1:AV333)+1)","v":""},{"$f":"IF(Compliance_Options!B356=\"\",\"\",Compliance_Options!B356)","v":""},{"$f":"IF(Compliance_Options!C356=\"\",\"\",Compliance_Options!C356)","v":""},{"$f":"IF(Compliance_Options!D356=\"\",\"\",Compliance_Options!D356)","v":""},{"$f":"IF(Compliance_Options!E356=\"\",\"\",Compliance_Options!E356)","v":""},{"$f":"IF(Compliance_Options!F356=\"\",\"\",Compliance_Options!F356)","v":""},"    ",{"$f":"IF(COUNTIF(BB$2:BB334,BB334)=1,BB334,\"\")","v":""},"","","","","","","",{"$f":"+IF(BJ334=\"\",\"\",MAX(BK$1:BK333)+1)","v":""},"","","","","","","",{"$f":"+IF(BR334=\"\",\"\",MAX(BS$1:BS333)+1)","v":""},"","","","","","","",{"$f":"+IF(BZ334=\"\",\"\",MAX(CA$1:CA333)+1)","v":""},"","","","","","","",{"$f":"+IF(CH334=\"\",\"\",MAX(CI$1:CI333)+1)","v":""},"","","","","",null,{"$f":"+IF(CQ334=\"\",\"\",MAX(CP$1:CP333)+1)","v":""},{"$f":"IF(Compliance_Options!B356=\"\",\"\",Compliance_Options!B356)","v":""},{"$f":"IF(Compliance_Options!C356=\"\",\"\",Compliance_Options!C356)","v":""},{"$f":"IF(Compliance_Options!D356=\"\",\"\",Compliance_Options!D356)","v":""},"  ",{"$f":"IF(COUNTIF(CT$2:CT334,CT334)=1,CT334,\"\")","v":""},"","","",""]
[null,null,null,null,null,null,null,null,null,null,null,null,null,null,null,null,null,null,null,null,null,null,null,null,null,null,null,null,null,null,null,null,null,null,null,null,null,null,null,null,null,null,null,null,null,null,null,{"$f":"+IF(AW335=\"\",\"\",MAX(AV$1:AV334)+1)","v":""},{"$f":"IF(Compliance_Options!B357=\"\",\"\",Compliance_Options!B357)","v":""},{"$f":"IF(Compliance_Options!C357=\"\",\"\",Compliance_Options!C357)","v":""},{"$f":"IF(Compliance_Options!D357=\"\",\"\",Compliance_Options!D357)","v":""},{"$f":"IF(Compliance_Options!E357=\"\",\"\",Compliance_Options!E357)","v":""},{"$f":"IF(Compliance_Options!F357=\"\",\"\",Compliance_Options!F357)","v":""},"    ",{"$f":"IF(COUNTIF(BB$2:BB335,BB335)=1,BB335,\"\")","v":""},"","","","","","","",{"$f":"+IF(BJ335=\"\",\"\",MAX(BK$1:BK334)+1)","v":""},"","","","","","","",{"$f":"+IF(BR335=\"\",\"\",MAX(BS$1:BS334)+1)","v":""},"","","","","","","",{"$f":"+IF(BZ335=\"\",\"\",MAX(CA$1:CA334)+1)","v":""},"","","","","","","",{"$f":"+IF(CH335=\"\",\"\",MAX(CI$1:CI334)+1)","v":""},"","","","","",null,{"$f":"+IF(CQ335=\"\",\"\",MAX(CP$1:CP334)+1)","v":""},{"$f":"IF(Compliance_Options!B357=\"\",\"\",Compliance_Options!B357)","v":""},{"$f":"IF(Compliance_Options!C357=\"\",\"\",Compliance_Options!C357)","v":""},{"$f":"IF(Compliance_Options!D357=\"\",\"\",Compliance_Options!D357)","v":""},"  ",{"$f":"IF(COUNTIF(CT$2:CT335,CT335)=1,CT335,\"\")","v":""},"","","",""]
[null,null,null,null,null,null,null,null,null,null,null,null,null,null,null,null,null,null,null,null,null,null,null,null,null,null,null,null,null,null,null,null,null,null,null,null,null,null,null,null,null,null,null,null,null,null,null,{"$f":"+IF(AW336=\"\",\"\",MAX(AV$1:AV335)+1)","v":""},{"$f":"IF(Compliance_Options!B358=\"\",\"\",Compliance_Options!B358)","v":""},{"$f":"IF(Compliance_Options!C358=\"\",\"\",Compliance_Options!C358)","v":""},{"$f":"IF(Compliance_Options!D358=\"\",\"\",Compliance_Options!D358)","v":""},{"$f":"IF(Compliance_Options!E358=\"\",\"\",Compliance_Options!E358)","v":""},{"$f":"IF(Compliance_Options!F358=\"\",\"\",Compliance_Options!F358)","v":""},"    ",{"$f":"IF(COUNTIF(BB$2:BB336,BB336)=1,BB336,\"\")","v":""},"","","","","","","",{"$f":"+IF(BJ336=\"\",\"\",MAX(BK$1:BK335)+1)","v":""},"","","","","","","",{"$f":"+IF(BR336=\"\",\"\",MAX(BS$1:BS335)+1)","v":""},"","","","","","","",{"$f":"+IF(BZ336=\"\",\"\",MAX(CA$1:CA335)+1)","v":""},"","","","","","","",{"$f":"+IF(CH336=\"\",\"\",MAX(CI$1:CI335)+1)","v":""},"","","","","",null,{"$f":"+IF(CQ336=\"\",\"\",MAX(CP$1:CP335)+1)","v":""},{"$f":"IF(Compliance_Options!B358=\"\",\"\",Compliance_Options!B358)","v":""},{"$f":"IF(Compliance_Options!C358=\"\",\"\",Compliance_Options!C358)","v":""},{"$f":"IF(Compliance_Options!D358=\"\",\"\",Compliance_Options!D358)","v":""},"  ",{"$f":"IF(COUNTIF(CT$2:CT336,CT336)=1,CT336,\"\")","v":""},"","","",""]
[null,null,null,null,null,null,null,null,null,null,null,null,null,null,null,null,null,null,null,null,null,null,null,null,null,null,null,null,null,null,null,null,null,null,null,null,null,null,null,null,null,null,null,null,null,null,null,{"$f":"+IF(AW337=\"\",\"\",MAX(AV$1:AV336)+1)","v":""},{"$f":"IF(Compliance_Options!B359=\"\",\"\",Compliance_Options!B359)","v":""},{"$f":"IF(Compliance_Options!C359=\"\",\"\",Compliance_Options!C359)","v":""},{"$f":"IF(Compliance_Options!D359=\"\",\"\",Compliance_Options!D359)","v":""},{"$f":"IF(Compliance_Options!E359=\"\",\"\",Compliance_Options!E359)","v":""},{"$f":"IF(Compliance_Options!F359=\"\",\"\",Compliance_Options!F359)","v":""},"    ",{"$f":"IF(COUNTIF(BB$2:BB337,BB337)=1,BB337,\"\")","v":""},"","","","","","","",{"$f":"+IF(BJ337=\"\",\"\",MAX(BK$1:BK336)+1)","v":""},"","","","","","","",{"$f":"+IF(BR337=\"\",\"\",MAX(BS$1:BS336)+1)","v":""},"","","","","","","",{"$f":"+IF(BZ337=\"\",\"\",MAX(CA$1:CA336)+1)","v":""},"","","","","","","",{"$f":"+IF(CH337=\"\",\"\",MAX(CI$1:CI336)+1)","v":""},"","","","","",null,{"$f":"+IF(CQ337=\"\",\"\",MAX(CP$1:CP336)+1)","v":""},{"$f":"IF(Compliance_Options!B359=\"\",\"\",Compliance_Options!B359)","v":""},{"$f":"IF(Compliance_Options!C359=\"\",\"\",Compliance_Options!C359)","v":""},{"$f":"IF(Compliance_Options!D359=\"\",\"\",Compliance_Options!D359)","v":""},"  ",{"$f":"IF(COUNTIF(CT$2:CT337,CT337)=1,CT337,\"\")","v":""},"","","",""]
[null,null,null,null,null,null,null,null,null,null,null,null,null,null,null,null,null,null,null,null,null,null,null,null,null,null,null,null,null,null,null,null,null,null,null,null,null,null,null,null,null,null,null,null,null,null,null,{"$f":"+IF(AW338=\"\",\"\",MAX(AV$1:AV337)+1)","v":""},{"$f":"IF(Compliance_Options!B360=\"\",\"\",Compliance_Options!B360)","v":""},{"$f":"IF(Compliance_Options!C360=\"\",\"\",Compliance_Options!C360)","v":""},{"$f":"IF(Compliance_Options!D360=\"\",\"\",Compliance_Options!D360)","v":""},{"$f":"IF(Compliance_Options!E360=\"\",\"\",Compliance_Options!E360)","v":""},{"$f":"IF(Compliance_Options!F360=\"\",\"\",Compliance_Options!F360)","v":""},"    ",{"$f":"IF(COUNTIF(BB$2:BB338,BB338)=1,BB338,\"\")","v":""},"","","","","","","",{"$f":"+IF(BJ338=\"\",\"\",MAX(BK$1:BK337)+1)","v":""},"","","","","","","",{"$f":"+IF(BR338=\"\",\"\",MAX(BS$1:BS337)+1)","v":""},"","","","","","","",{"$f":"+IF(BZ338=\"\",\"\",MAX(CA$1:CA337)+1)","v":""},"","","","","","","",{"$f":"+IF(CH338=\"\",\"\",MAX(CI$1:CI337)+1)","v":""},"","","","","",null,{"$f":"+IF(CQ338=\"\",\"\",MAX(CP$1:CP337)+1)","v":""},{"$f":"IF(Compliance_Options!B360=\"\",\"\",Compliance_Options!B360)","v":""},{"$f":"IF(Compliance_Options!C360=\"\",\"\",Compliance_Options!C360)","v":""},{"$f":"IF(Compliance_Options!D360=\"\",\"\",Compliance_Options!D360)","v":""},"  ",{"$f":"IF(COUNTIF(CT$2:CT338,CT338)=1,CT338,\"\")","v":""},"","","",""]
[null,null,null,null,null,null,null,null,null,null,null,null,null,null,null,null,null,null,null,null,null,null,null,null,null,null,null,null,null,null,null,null,null,null,null,null,null,null,null,null,null,null,null,null,null,null,null,{"$f":"+IF(AW339=\"\",\"\",MAX(AV$1:AV338)+1)","v":""},{"$f":"IF(Compliance_Options!B361=\"\",\"\",Compliance_Options!B361)","v":""},{"$f":"IF(Compliance_Options!C361=\"\",\"\",Compliance_Options!C361)","v":""},{"$f":"IF(Compliance_Options!D361=\"\",\"\",Compliance_Options!D361)","v":""},{"$f":"IF(Compliance_Options!E361=\"\",\"\",Compliance_Options!E361)","v":""},{"$f":"IF(Compliance_Options!F361=\"\",\"\",Compliance_Options!F361)","v":""},"    ",{"$f":"IF(COUNTIF(BB$2:BB339,BB339)=1,BB339,\"\")","v":""},"","","","","","","",{"$f":"+IF(BJ339=\"\",\"\",MAX(BK$1:BK338)+1)","v":""},"","","","","","","",{"$f":"+IF(BR339=\"\",\"\",MAX(BS$1:BS338)+1)","v":""},"","","","","","","",{"$f":"+IF(BZ339=\"\",\"\",MAX(CA$1:CA338)+1)","v":""},"","","","","","","",{"$f":"+IF(CH339=\"\",\"\",MAX(CI$1:CI338)+1)","v":""},"","","","","",null,{"$f":"+IF(CQ339=\"\",\"\",MAX(CP$1:CP338)+1)","v":""},{"$f":"IF(Compliance_Options!B361=\"\",\"\",Compliance_Options!B361)","v":""},{"$f":"IF(Compliance_Options!C361=\"\",\"\",Compliance_Options!C361)","v":""},{"$f":"IF(Compliance_Options!D361=\"\",\"\",Compliance_Options!D361)","v":""},"  ",{"$f":"IF(COUNTIF(CT$2:CT339,CT339)=1,CT339,\"\")","v":""},"","","",""]
[null,null,null,null,null,null,null,null,null,null,null,null,null,null,null,null,null,null,null,null,null,null,null,null,null,null,null,null,null,null,null,null,null,null,null,null,null,null,null,null,null,null,null,null,null,null,null,{"$f":"+IF(AW340=\"\",\"\",MAX(AV$1:AV339)+1)","v":""},{"$f":"IF(Compliance_Options!B362=\"\",\"\",Compliance_Options!B362)","v":""},{"$f":"IF(Compliance_Options!C362=\"\",\"\",Compliance_Options!C362)","v":""},{"$f":"IF(Compliance_Options!D362=\"\",\"\",Compliance_Options!D362)","v":""},{"$f":"IF(Compliance_Options!E362=\"\",\"\",Compliance_Options!E362)","v":""},{"$f":"IF(Compliance_Options!F362=\"\",\"\",Compliance_Options!F362)","v":""},"    ",{"$f":"IF(COUNTIF(BB$2:BB340,BB340)=1,BB340,\"\")","v":""},"","","","","","","",{"$f":"+IF(BJ340=\"\",\"\",MAX(BK$1:BK339)+1)","v":""},"","","","","","","",{"$f":"+IF(BR340=\"\",\"\",MAX(BS$1:BS339)+1)","v":""},"","","","","","","",{"$f":"+IF(BZ340=\"\",\"\",MAX(CA$1:CA339)+1)","v":""},"","","","","","","",{"$f":"+IF(CH340=\"\",\"\",MAX(CI$1:CI339)+1)","v":""},"","","","","",null,{"$f":"+IF(CQ340=\"\",\"\",MAX(CP$1:CP339)+1)","v":""},{"$f":"IF(Compliance_Options!B362=\"\",\"\",Compliance_Options!B362)","v":""},{"$f":"IF(Compliance_Options!C362=\"\",\"\",Compliance_Options!C362)","v":""},{"$f":"IF(Compliance_Options!D362=\"\",\"\",Compliance_Options!D362)","v":""},"  ",{"$f":"IF(COUNTIF(CT$2:CT340,CT340)=1,CT340,\"\")","v":""},"","","",""]
[null,null,null,null,null,null,null,null,null,null,null,null,null,null,null,null,null,null,null,null,null,null,null,null,null,null,null,null,null,null,null,null,null,null,null,null,null,null,null,null,null,null,null,null,null,null,null,{"$f":"+IF(AW341=\"\",\"\",MAX(AV$1:AV340)+1)","v":""},{"$f":"IF(Compliance_Options!B363=\"\",\"\",Compliance_Options!B363)","v":""},{"$f":"IF(Compliance_Options!C363=\"\",\"\",Compliance_Options!C363)","v":""},{"$f":"IF(Compliance_Options!D363=\"\",\"\",Compliance_Options!D363)","v":""},{"$f":"IF(Compliance_Options!E363=\"\",\"\",Compliance_Options!E363)","v":""},{"$f":"IF(Compliance_Options!F363=\"\",\"\",Compliance_Options!F363)","v":""},"    ",{"$f":"IF(COUNTIF(BB$2:BB341,BB341)=1,BB341,\"\")","v":""},"","","","","","","",{"$f":"+IF(BJ341=\"\",\"\",MAX(BK$1:BK340)+1)","v":""},"","","","","","","",{"$f":"+IF(BR341=\"\",\"\",MAX(BS$1:BS340)+1)","v":""},"","","","","","","",{"$f":"+IF(BZ341=\"\",\"\",MAX(CA$1:CA340)+1)","v":""},"","","","","","","",{"$f":"+IF(CH341=\"\",\"\",MAX(CI$1:CI340)+1)","v":""},"","","","","",null,{"$f":"+IF(CQ341=\"\",\"\",MAX(CP$1:CP340)+1)","v":""},{"$f":"IF(Compliance_Options!B363=\"\",\"\",Compliance_Options!B363)","v":""},{"$f":"IF(Compliance_Options!C363=\"\",\"\",Compliance_Options!C363)","v":""},{"$f":"IF(Compliance_Options!D363=\"\",\"\",Compliance_Options!D363)","v":""},"  ",{"$f":"IF(COUNTIF(CT$2:CT341,CT341)=1,CT341,\"\")","v":""},"","","",""]
[null,null,null,null,null,null,null,null,null,null,null,null,null,null,null,null,null,null,null,null,null,null,null,null,null,null,null,null,null,null,null,null,null,null,null,null,null,null,null,null,null,null,null,null,null,null,null,{"$f":"+IF(AW342=\"\",\"\",MAX(AV$1:AV341)+1)","v":""},{"$f":"IF(Compliance_Options!B364=\"\",\"\",Compliance_Options!B364)","v":""},{"$f":"IF(Compliance_Options!C364=\"\",\"\",Compliance_Options!C364)","v":""},{"$f":"IF(Compliance_Options!D364=\"\",\"\",Compliance_Options!D364)","v":""},{"$f":"IF(Compliance_Options!E364=\"\",\"\",Compliance_Options!E364)","v":""},{"$f":"IF(Compliance_Options!F364=\"\",\"\",Compliance_Options!F364)","v":""},"    ",{"$f":"IF(COUNTIF(BB$2:BB342,BB342)=1,BB342,\"\")","v":""},"","","","","","","",{"$f":"+IF(BJ342=\"\",\"\",MAX(BK$1:BK341)+1)","v":""},"","","","","","","",{"$f":"+IF(BR342=\"\",\"\",MAX(BS$1:BS341)+1)","v":""},"","","","","","","",{"$f":"+IF(BZ342=\"\",\"\",MAX(CA$1:CA341)+1)","v":""},"","","","","","","",{"$f":"+IF(CH342=\"\",\"\",MAX(CI$1:CI341)+1)","v":""},"","","","","",null,{"$f":"+IF(CQ342=\"\",\"\",MAX(CP$1:CP341)+1)","v":""},{"$f":"IF(Compliance_Options!B364=\"\",\"\",Compliance_Options!B364)","v":""},{"$f":"IF(Compliance_Options!C364=\"\",\"\",Compliance_Options!C364)","v":""},{"$f":"IF(Compliance_Options!D364=\"\",\"\",Compliance_Options!D364)","v":""},"  ",{"$f":"IF(COUNTIF(CT$2:CT342,CT342)=1,CT342,\"\")","v":""},"","","",""]
[null,null,null,null,null,null,null,null,null,null,null,null,null,null,null,null,null,null,null,null,null,null,null,null,null,null,null,null,null,null,null,null,null,null,null,null,null,null,null,null,null,null,null,null,null,null,null,{"$f":"+IF(AW343=\"\",\"\",MAX(AV$1:AV342)+1)","v":""},{"$f":"IF(Compliance_Options!B365=\"\",\"\",Compliance_Options!B365)","v":""},{"$f":"IF(Compliance_Options!C365=\"\",\"\",Compliance_Options!C365)","v":""},{"$f":"IF(Compliance_Options!D365=\"\",\"\",Compliance_Options!D365)","v":""},{"$f":"IF(Compliance_Options!E365=\"\",\"\",Compliance_Options!E365)","v":""},{"$f":"IF(Compliance_Options!F365=\"\",\"\",Compliance_Options!F365)","v":""},"    ",{"$f":"IF(COUNTIF(BB$2:BB343,BB343)=1,BB343,\"\")","v":""},"","","","","","","",{"$f":"+IF(BJ343=\"\",\"\",MAX(BK$1:BK342)+1)","v":""},"","","","","","","",{"$f":"+IF(BR343=\"\",\"\",MAX(BS$1:BS342)+1)","v":""},"","","","","","","",{"$f":"+IF(BZ343=\"\",\"\",MAX(CA$1:CA342)+1)","v":""},"","","","","","","",{"$f":"+IF(CH343=\"\",\"\",MAX(CI$1:CI342)+1)","v":""},"","","","","",null,{"$f":"+IF(CQ343=\"\",\"\",MAX(CP$1:CP342)+1)","v":""},{"$f":"IF(Compliance_Options!B365=\"\",\"\",Compliance_Options!B365)","v":""},{"$f":"IF(Compliance_Options!C365=\"\",\"\",Compliance_Options!C365)","v":""},{"$f":"IF(Compliance_Options!D365=\"\",\"\",Compliance_Options!D365)","v":""},"  ",{"$f":"IF(COUNTIF(CT$2:CT343,CT343)=1,CT343,\"\")","v":""},"","","",""]
[null,null,null,null,null,null,null,null,null,null,null,null,null,null,null,null,null,null,null,null,null,null,null,null,null,null,null,null,null,null,null,null,null,null,null,null,null,null,null,null,null,null,null,null,null,null,null,{"$f":"+IF(AW344=\"\",\"\",MAX(AV$1:AV343)+1)","v":""},{"$f":"IF(Compliance_Options!B366=\"\",\"\",Compliance_Options!B366)","v":""},{"$f":"IF(Compliance_Options!C366=\"\",\"\",Compliance_Options!C366)","v":""},{"$f":"IF(Compliance_Options!D366=\"\",\"\",Compliance_Options!D366)","v":""},{"$f":"IF(Compliance_Options!E366=\"\",\"\",Compliance_Options!E366)","v":""},{"$f":"IF(Compliance_Options!F366=\"\",\"\",Compliance_Options!F366)","v":""},"    ",{"$f":"IF(COUNTIF(BB$2:BB344,BB344)=1,BB344,\"\")","v":""},"","","","","","","",{"$f":"+IF(BJ344=\"\",\"\",MAX(BK$1:BK343)+1)","v":""},"","","","","","","",{"$f":"+IF(BR344=\"\",\"\",MAX(BS$1:BS343)+1)","v":""},"","","","","","","",{"$f":"+IF(BZ344=\"\",\"\",MAX(CA$1:CA343)+1)","v":""},"","","","","","","",{"$f":"+IF(CH344=\"\",\"\",MAX(CI$1:CI343)+1)","v":""},"","","","","",null,{"$f":"+IF(CQ344=\"\",\"\",MAX(CP$1:CP343)+1)","v":""},{"$f":"IF(Compliance_Options!B366=\"\",\"\",Compliance_Options!B366)","v":""},{"$f":"IF(Compliance_Options!C366=\"\",\"\",Compliance_Options!C366)","v":""},{"$f":"IF(Compliance_Options!D366=\"\",\"\",Compliance_Options!D366)","v":""},"  ",{"$f":"IF(COUNTIF(CT$2:CT344,CT344)=1,CT344,\"\")","v":""},"","","",""]
[null,null,null,null,null,null,null,null,null,null,null,null,null,null,null,null,null,null,null,null,null,null,null,null,null,null,null,null,null,null,null,null,null,null,null,null,null,null,null,null,null,null,null,null,null,null,null,{"$f":"+IF(AW345=\"\",\"\",MAX(AV$1:AV344)+1)","v":""},{"$f":"IF(Compliance_Options!B367=\"\",\"\",Compliance_Options!B367)","v":""},{"$f":"IF(Compliance_Options!C367=\"\",\"\",Compliance_Options!C367)","v":""},{"$f":"IF(Compliance_Options!D367=\"\",\"\",Compliance_Options!D367)","v":""},{"$f":"IF(Compliance_Options!E367=\"\",\"\",Compliance_Options!E367)","v":""},{"$f":"IF(Compliance_Options!F367=\"\",\"\",Compliance_Options!F367)","v":""},"    ",{"$f":"IF(COUNTIF(BB$2:BB345,BB345)=1,BB345,\"\")","v":""},"","","","","","","",{"$f":"+IF(BJ345=\"\",\"\",MAX(BK$1:BK344)+1)","v":""},"","","","","","","",{"$f":"+IF(BR345=\"\",\"\",MAX(BS$1:BS344)+1)","v":""},"","","","","","","",{"$f":"+IF(BZ345=\"\",\"\",MAX(CA$1:CA344)+1)","v":""},"","","","","","","",{"$f":"+IF(CH345=\"\",\"\",MAX(CI$1:CI344)+1)","v":""},"","","","","",null,{"$f":"+IF(CQ345=\"\",\"\",MAX(CP$1:CP344)+1)","v":""},{"$f":"IF(Compliance_Options!B367=\"\",\"\",Compliance_Options!B367)","v":""},{"$f":"IF(Compliance_Options!C367=\"\",\"\",Compliance_Options!C367)","v":""},{"$f":"IF(Compliance_Options!D367=\"\",\"\",Compliance_Options!D367)","v":""},"  ",{"$f":"IF(COUNTIF(CT$2:CT345,CT345)=1,CT345,\"\")","v":""},"","","",""]
[null,null,null,null,null,null,null,null,null,null,null,null,null,null,null,null,null,null,null,null,null,null,null,null,null,null,null,null,null,null,null,null,null,null,null,null,null,null,null,null,null,null,null,null,null,null,null,{"$f":"+IF(AW346=\"\",\"\",MAX(AV$1:AV345)+1)","v":""},{"$f":"IF(Compliance_Options!B368=\"\",\"\",Compliance_Options!B368)","v":""},{"$f":"IF(Compliance_Options!C368=\"\",\"\",Compliance_Options!C368)","v":""},{"$f":"IF(Compliance_Options!D368=\"\",\"\",Compliance_Options!D368)","v":""},{"$f":"IF(Compliance_Options!E368=\"\",\"\",Compliance_Options!E368)","v":""},{"$f":"IF(Compliance_Options!F368=\"\",\"\",Compliance_Options!F368)","v":""},"    ",{"$f":"IF(COUNTIF(BB$2:BB346,BB346)=1,BB346,\"\")","v":""},"","","","","","","",{"$f":"+IF(BJ346=\"\",\"\",MAX(BK$1:BK345)+1)","v":""},"","","","","","","",{"$f":"+IF(BR346=\"\",\"\",MAX(BS$1:BS345)+1)","v":""},"","","","","","","",{"$f":"+IF(BZ346=\"\",\"\",MAX(CA$1:CA345)+1)","v":""},"","","","","","","",{"$f":"+IF(CH346=\"\",\"\",MAX(CI$1:CI345)+1)","v":""},"","","","","",null,{"$f":"+IF(CQ346=\"\",\"\",MAX(CP$1:CP345)+1)","v":""},{"$f":"IF(Compliance_Options!B368=\"\",\"\",Compliance_Options!B368)","v":""},{"$f":"IF(Compliance_Options!C368=\"\",\"\",Compliance_Options!C368)","v":""},{"$f":"IF(Compliance_Options!D368=\"\",\"\",Compliance_Options!D368)","v":""},"  ",{"$f":"IF(COUNTIF(CT$2:CT346,CT346)=1,CT346,\"\")","v":""},"","","",""]
[null,null,null,null,null,null,null,null,null,null,null,null,null,null,null,null,null,null,null,null,null,null,null,null,null,null,null,null,null,null,null,null,null,null,null,null,null,null,null,null,null,null,null,null,null,null,null,{"$f":"+IF(AW347=\"\",\"\",MAX(AV$1:AV346)+1)","v":""},{"$f":"IF(Compliance_Options!B369=\"\",\"\",Compliance_Options!B369)","v":""},{"$f":"IF(Compliance_Options!C369=\"\",\"\",Compliance_Options!C369)","v":""},{"$f":"IF(Compliance_Options!D369=\"\",\"\",Compliance_Options!D369)","v":""},{"$f":"IF(Compliance_Options!E369=\"\",\"\",Compliance_Options!E369)","v":""},{"$f":"IF(Compliance_Options!F369=\"\",\"\",Compliance_Options!F369)","v":""},"    ",{"$f":"IF(COUNTIF(BB$2:BB347,BB347)=1,BB347,\"\")","v":""},"","","","","","","",{"$f":"+IF(BJ347=\"\",\"\",MAX(BK$1:BK346)+1)","v":""},"","","","","","","",{"$f":"+IF(BR347=\"\",\"\",MAX(BS$1:BS346)+1)","v":""},"","","","","","","",{"$f":"+IF(BZ347=\"\",\"\",MAX(CA$1:CA346)+1)","v":""},"","","","","","","",{"$f":"+IF(CH347=\"\",\"\",MAX(CI$1:CI346)+1)","v":""},"","","","","",null,{"$f":"+IF(CQ347=\"\",\"\",MAX(CP$1:CP346)+1)","v":""},{"$f":"IF(Compliance_Options!B369=\"\",\"\",Compliance_Options!B369)","v":""},{"$f":"IF(Compliance_Options!C369=\"\",\"\",Compliance_Options!C369)","v":""},{"$f":"IF(Compliance_Options!D369=\"\",\"\",Compliance_Options!D369)","v":""},"  ",{"$f":"IF(COUNTIF(CT$2:CT347,CT347)=1,CT347,\"\")","v":""},"","","",""]
[null,null,null,null,null,null,null,null,null,null,null,null,null,null,null,null,null,null,null,null,null,null,null,null,null,null,null,null,null,null,null,null,null,null,null,null,null,null,null,null,null,null,null,null,null,null,null,{"$f":"+IF(AW348=\"\",\"\",MAX(AV$1:AV347)+1)","v":""},{"$f":"IF(Compliance_Options!B370=\"\",\"\",Compliance_Options!B370)","v":""},{"$f":"IF(Compliance_Options!C370=\"\",\"\",Compliance_Options!C370)","v":""},{"$f":"IF(Compliance_Options!D370=\"\",\"\",Compliance_Options!D370)","v":""},{"$f":"IF(Compliance_Options!E370=\"\",\"\",Compliance_Options!E370)","v":""},{"$f":"IF(Compliance_Options!F370=\"\",\"\",Compliance_Options!F370)","v":""},"    ",{"$f":"IF(COUNTIF(BB$2:BB348,BB348)=1,BB348,\"\")","v":""},"","","","","","","",{"$f":"+IF(BJ348=\"\",\"\",MAX(BK$1:BK347)+1)","v":""},"","","","","","","",{"$f":"+IF(BR348=\"\",\"\",MAX(BS$1:BS347)+1)","v":""},"","","","","","","",{"$f":"+IF(BZ348=\"\",\"\",MAX(CA$1:CA347)+1)","v":""},"","","","","","","",{"$f":"+IF(CH348=\"\",\"\",MAX(CI$1:CI347)+1)","v":""},"","","","","",null,{"$f":"+IF(CQ348=\"\",\"\",MAX(CP$1:CP347)+1)","v":""},{"$f":"IF(Compliance_Options!B370=\"\",\"\",Compliance_Options!B370)","v":""},{"$f":"IF(Compliance_Options!C370=\"\",\"\",Compliance_Options!C370)","v":""},{"$f":"IF(Compliance_Options!D370=\"\",\"\",Compliance_Options!D370)","v":""},"  ",{"$f":"IF(COUNTIF(CT$2:CT348,CT348)=1,CT348,\"\")","v":""},"","","",""]
[null,null,null,null,null,null,null,null,null,null,null,null,null,null,null,null,null,null,null,null,null,null,null,null,null,null,null,null,null,null,null,null,null,null,null,null,null,null,null,null,null,null,null,null,null,null,null,{"$f":"+IF(AW349=\"\",\"\",MAX(AV$1:AV348)+1)","v":""},{"$f":"IF(Compliance_Options!B371=\"\",\"\",Compliance_Options!B371)","v":""},{"$f":"IF(Compliance_Options!C371=\"\",\"\",Compliance_Options!C371)","v":""},{"$f":"IF(Compliance_Options!D371=\"\",\"\",Compliance_Options!D371)","v":""},{"$f":"IF(Compliance_Options!E371=\"\",\"\",Compliance_Options!E371)","v":""},{"$f":"IF(Compliance_Options!F371=\"\",\"\",Compliance_Options!F371)","v":""},"    ",{"$f":"IF(COUNTIF(BB$2:BB349,BB349)=1,BB349,\"\")","v":""},"","","","","","","",{"$f":"+IF(BJ349=\"\",\"\",MAX(BK$1:BK348)+1)","v":""},"","","","","","","",{"$f":"+IF(BR349=\"\",\"\",MAX(BS$1:BS348)+1)","v":""},"","","","","","","",{"$f":"+IF(BZ349=\"\",\"\",MAX(CA$1:CA348)+1)","v":""},"","","","","","","",{"$f":"+IF(CH349=\"\",\"\",MAX(CI$1:CI348)+1)","v":""},"","","","","",null,{"$f":"+IF(CQ349=\"\",\"\",MAX(CP$1:CP348)+1)","v":""},{"$f":"IF(Compliance_Options!B371=\"\",\"\",Compliance_Options!B371)","v":""},{"$f":"IF(Compliance_Options!C371=\"\",\"\",Compliance_Options!C371)","v":""},{"$f":"IF(Compliance_Options!D371=\"\",\"\",Compliance_Options!D371)","v":""},"  ",{"$f":"IF(COUNTIF(CT$2:CT349,CT349)=1,CT349,\"\")","v":""},"","","",""]
[null,null,null,null,null,null,null,null,null,null,null,null,null,null,null,null,null,null,null,null,null,null,null,null,null,null,null,null,null,null,null,null,null,null,null,null,null,null,null,null,null,null,null,null,null,null,null,{"$f":"+IF(AW350=\"\",\"\",MAX(AV$1:AV349)+1)","v":""},{"$f":"IF(Compliance_Options!B372=\"\",\"\",Compliance_Options!B372)","v":""},{"$f":"IF(Compliance_Options!C372=\"\",\"\",Compliance_Options!C372)","v":""},{"$f":"IF(Compliance_Options!D372=\"\",\"\",Compliance_Options!D372)","v":""},{"$f":"IF(Compliance_Options!E372=\"\",\"\",Compliance_Options!E372)","v":""},{"$f":"IF(Compliance_Options!F372=\"\",\"\",Compliance_Options!F372)","v":""},"    ",{"$f":"IF(COUNTIF(BB$2:BB350,BB350)=1,BB350,\"\")","v":""},"","","","","","","",{"$f":"+IF(BJ350=\"\",\"\",MAX(BK$1:BK349)+1)","v":""},"","","","","","","",{"$f":"+IF(BR350=\"\",\"\",MAX(BS$1:BS349)+1)","v":""},"","","","","","","",{"$f":"+IF(BZ350=\"\",\"\",MAX(CA$1:CA349)+1)","v":""},"","","","","","","",{"$f":"+IF(CH350=\"\",\"\",MAX(CI$1:CI349)+1)","v":""},"","","","","",null,{"$f":"+IF(CQ350=\"\",\"\",MAX(CP$1:CP349)+1)","v":""},{"$f":"IF(Compliance_Options!B372=\"\",\"\",Compliance_Options!B372)","v":""},{"$f":"IF(Compliance_Options!C372=\"\",\"\",Compliance_Options!C372)","v":""},{"$f":"IF(Compliance_Options!D372=\"\",\"\",Compliance_Options!D372)","v":""},"  ",{"$f":"IF(COUNTIF(CT$2:CT350,CT350)=1,CT350,\"\")","v":""},"","","",""]
[null,null,null,null,null,null,null,null,null,null,null,null,null,null,null,null,null,null,null,null,null,null,null,null,null,null,null,null,null,null,null,null,null,null,null,null,null,null,null,null,null,null,null,null,null,null,null,{"$f":"+IF(AW351=\"\",\"\",MAX(AV$1:AV350)+1)","v":""},{"$f":"IF(Compliance_Options!B373=\"\",\"\",Compliance_Options!B373)","v":""},{"$f":"IF(Compliance_Options!C373=\"\",\"\",Compliance_Options!C373)","v":""},{"$f":"IF(Compliance_Options!D373=\"\",\"\",Compliance_Options!D373)","v":""},{"$f":"IF(Compliance_Options!E373=\"\",\"\",Compliance_Options!E373)","v":""},{"$f":"IF(Compliance_Options!F373=\"\",\"\",Compliance_Options!F373)","v":""},"    ",{"$f":"IF(COUNTIF(BB$2:BB351,BB351)=1,BB351,\"\")","v":""},"","","","","","","",{"$f":"+IF(BJ351=\"\",\"\",MAX(BK$1:BK350)+1)","v":""},"","","","","","","",{"$f":"+IF(BR351=\"\",\"\",MAX(BS$1:BS350)+1)","v":""},"","","","","","","",{"$f":"+IF(BZ351=\"\",\"\",MAX(CA$1:CA350)+1)","v":""},"","","","","","","",{"$f":"+IF(CH351=\"\",\"\",MAX(CI$1:CI350)+1)","v":""},"","","","","",null,{"$f":"+IF(CQ351=\"\",\"\",MAX(CP$1:CP350)+1)","v":""},{"$f":"IF(Compliance_Options!B373=\"\",\"\",Compliance_Options!B373)","v":""},{"$f":"IF(Compliance_Options!C373=\"\",\"\",Compliance_Options!C373)","v":""},{"$f":"IF(Compliance_Options!D373=\"\",\"\",Compliance_Options!D373)","v":""},"  ",{"$f":"IF(COUNTIF(CT$2:CT351,CT351)=1,CT351,\"\")","v":""},"","","",""]
[null,null,null,null,null,null,null,null,null,null,null,null,null,null,null,null,null,null,null,null,null,null,null,null,null,null,null,null,null,null,null,null,null,null,null,null,null,null,null,null,null,null,null,null,null,null,null,{"$f":"+IF(AW352=\"\",\"\",MAX(AV$1:AV351)+1)","v":""},{"$f":"IF(Compliance_Options!B374=\"\",\"\",Compliance_Options!B374)","v":""},{"$f":"IF(Compliance_Options!C374=\"\",\"\",Compliance_Options!C374)","v":""},{"$f":"IF(Compliance_Options!D374=\"\",\"\",Compliance_Options!D374)","v":""},{"$f":"IF(Compliance_Options!E374=\"\",\"\",Compliance_Options!E374)","v":""},{"$f":"IF(Compliance_Options!F374=\"\",\"\",Compliance_Options!F374)","v":""},"    ",{"$f":"IF(COUNTIF(BB$2:BB352,BB352)=1,BB352,\"\")","v":""},"","","","","","","",{"$f":"+IF(BJ352=\"\",\"\",MAX(BK$1:BK351)+1)","v":""},"","","","","","","",{"$f":"+IF(BR352=\"\",\"\",MAX(BS$1:BS351)+1)","v":""},"","","","","","","",{"$f":"+IF(BZ352=\"\",\"\",MAX(CA$1:CA351)+1)","v":""},"","","","","","","",{"$f":"+IF(CH352=\"\",\"\",MAX(CI$1:CI351)+1)","v":""},"","","","","",null,{"$f":"+IF(CQ352=\"\",\"\",MAX(CP$1:CP351)+1)","v":""},{"$f":"IF(Compliance_Options!B374=\"\",\"\",Compliance_Options!B374)","v":""},{"$f":"IF(Compliance_Options!C374=\"\",\"\",Compliance_Options!C374)","v":""},{"$f":"IF(Compliance_Options!D374=\"\",\"\",Compliance_Options!D374)","v":""},"  ",{"$f":"IF(COUNTIF(CT$2:CT352,CT352)=1,CT352,\"\")","v":""},"","","",""]
[null,null,null,null,null,null,null,null,null,null,null,null,null,null,null,null,null,null,null,null,null,null,null,null,null,null,null,null,null,null,null,null,null,null,null,null,null,null,null,null,null,null,null,null,null,null,null,{"$f":"+IF(AW353=\"\",\"\",MAX(AV$1:AV352)+1)","v":""},{"$f":"IF(Compliance_Options!B375=\"\",\"\",Compliance_Options!B375)","v":""},{"$f":"IF(Compliance_Options!C375=\"\",\"\",Compliance_Options!C375)","v":""},{"$f":"IF(Compliance_Options!D375=\"\",\"\",Compliance_Options!D375)","v":""},{"$f":"IF(Compliance_Options!E375=\"\",\"\",Compliance_Options!E375)","v":""},{"$f":"IF(Compliance_Options!F375=\"\",\"\",Compliance_Options!F375)","v":""},"    ",{"$f":"IF(COUNTIF(BB$2:BB353,BB353)=1,BB353,\"\")","v":""},"","","","","","","",{"$f":"+IF(BJ353=\"\",\"\",MAX(BK$1:BK352)+1)","v":""},"","","","","","","",{"$f":"+IF(BR353=\"\",\"\",MAX(BS$1:BS352)+1)","v":""},"","","","","","","",{"$f":"+IF(BZ353=\"\",\"\",MAX(CA$1:CA352)+1)","v":""},"","","","","","","",{"$f":"+IF(CH353=\"\",\"\",MAX(CI$1:CI352)+1)","v":""},"","","","","",null,{"$f":"+IF(CQ353=\"\",\"\",MAX(CP$1:CP352)+1)","v":""},{"$f":"IF(Compliance_Options!B375=\"\",\"\",Compliance_Options!B375)","v":""},{"$f":"IF(Compliance_Options!C375=\"\",\"\",Compliance_Options!C375)","v":""},{"$f":"IF(Compliance_Options!D375=\"\",\"\",Compliance_Options!D375)","v":""},"  ",{"$f":"IF(COUNTIF(CT$2:CT353,CT353)=1,CT353,\"\")","v":""},"","","",""]
[null,null,null,null,null,null,null,null,null,null,null,null,null,null,null,null,null,null,null,null,null,null,null,null,null,null,null,null,null,null,null,null,null,null,null,null,null,null,null,null,null,null,null,null,null,null,null,{"$f":"+IF(AW354=\"\",\"\",MAX(AV$1:AV353)+1)","v":""},{"$f":"IF(Compliance_Options!B376=\"\",\"\",Compliance_Options!B376)","v":""},{"$f":"IF(Compliance_Options!C376=\"\",\"\",Compliance_Options!C376)","v":""},{"$f":"IF(Compliance_Options!D376=\"\",\"\",Compliance_Options!D376)","v":""},{"$f":"IF(Compliance_Options!E376=\"\",\"\",Compliance_Options!E376)","v":""},{"$f":"IF(Compliance_Options!F376=\"\",\"\",Compliance_Options!F376)","v":""},"    ",{"$f":"IF(COUNTIF(BB$2:BB354,BB354)=1,BB354,\"\")","v":""},"","","","","","","",{"$f":"+IF(BJ354=\"\",\"\",MAX(BK$1:BK353)+1)","v":""},"","","","","","","",{"$f":"+IF(BR354=\"\",\"\",MAX(BS$1:BS353)+1)","v":""},"","","","","","","",{"$f":"+IF(BZ354=\"\",\"\",MAX(CA$1:CA353)+1)","v":""},"","","","","","","",{"$f":"+IF(CH354=\"\",\"\",MAX(CI$1:CI353)+1)","v":""},"","","","","",null,{"$f":"+IF(CQ354=\"\",\"\",MAX(CP$1:CP353)+1)","v":""},{"$f":"IF(Compliance_Options!B376=\"\",\"\",Compliance_Options!B376)","v":""},{"$f":"IF(Compliance_Options!C376=\"\",\"\",Compliance_Options!C376)","v":""},{"$f":"IF(Compliance_Options!D376=\"\",\"\",Compliance_Options!D376)","v":""},"  ",{"$f":"IF(COUNTIF(CT$2:CT354,CT354)=1,CT354,\"\")","v":""},"","","",""]
[null,null,null,null,null,null,null,null,null,null,null,null,null,null,null,null,null,null,null,null,null,null,null,null,null,null,null,null,null,null,null,null,null,null,null,null,null,null,null,null,null,null,null,null,null,null,null,{"$f":"+IF(AW355=\"\",\"\",MAX(AV$1:AV354)+1)","v":""},{"$f":"IF(Compliance_Options!B377=\"\",\"\",Compliance_Options!B377)","v":""},{"$f":"IF(Compliance_Options!C377=\"\",\"\",Compliance_Options!C377)","v":""},{"$f":"IF(Compliance_Options!D377=\"\",\"\",Compliance_Options!D377)","v":""},{"$f":"IF(Compliance_Options!E377=\"\",\"\",Compliance_Options!E377)","v":""},{"$f":"IF(Compliance_Options!F377=\"\",\"\",Compliance_Options!F377)","v":""},"    ",{"$f":"IF(COUNTIF(BB$2:BB355,BB355)=1,BB355,\"\")","v":""},"","","","","","","",{"$f":"+IF(BJ355=\"\",\"\",MAX(BK$1:BK354)+1)","v":""},"","","","","","","",{"$f":"+IF(BR355=\"\",\"\",MAX(BS$1:BS354)+1)","v":""},"","","","","","","",{"$f":"+IF(BZ355=\"\",\"\",MAX(CA$1:CA354)+1)","v":""},"","","","","","","",{"$f":"+IF(CH355=\"\",\"\",MAX(CI$1:CI354)+1)","v":""},"","","","","",null,{"$f":"+IF(CQ355=\"\",\"\",MAX(CP$1:CP354)+1)","v":""},{"$f":"IF(Compliance_Options!B377=\"\",\"\",Compliance_Options!B377)","v":""},{"$f":"IF(Compliance_Options!C377=\"\",\"\",Compliance_Options!C377)","v":""},{"$f":"IF(Compliance_Options!D377=\"\",\"\",Compliance_Options!D377)","v":""},"  ",{"$f":"IF(COUNTIF(CT$2:CT355,CT355)=1,CT355,\"\")","v":""},"","","",""]
[null,null,null,null,null,null,null,null,null,null,null,null,null,null,null,null,null,null,null,null,null,null,null,null,null,null,null,null,null,null,null,null,null,null,null,null,null,null,null,null,null,null,null,null,null,null,null,{"$f":"+IF(AW356=\"\",\"\",MAX(AV$1:AV355)+1)","v":""},{"$f":"IF(Compliance_Options!B378=\"\",\"\",Compliance_Options!B378)","v":""},{"$f":"IF(Compliance_Options!C378=\"\",\"\",Compliance_Options!C378)","v":""},{"$f":"IF(Compliance_Options!D378=\"\",\"\",Compliance_Options!D378)","v":""},{"$f":"IF(Compliance_Options!E378=\"\",\"\",Compliance_Options!E378)","v":""},{"$f":"IF(Compliance_Options!F378=\"\",\"\",Compliance_Options!F378)","v":""},"    ",{"$f":"IF(COUNTIF(BB$2:BB356,BB356)=1,BB356,\"\")","v":""},"","","","","","","",{"$f":"+IF(BJ356=\"\",\"\",MAX(BK$1:BK355)+1)","v":""},"","","","","","","",{"$f":"+IF(BR356=\"\",\"\",MAX(BS$1:BS355)+1)","v":""},"","","","","","","",{"$f":"+IF(BZ356=\"\",\"\",MAX(CA$1:CA355)+1)","v":""},"","","","","","","",{"$f":"+IF(CH356=\"\",\"\",MAX(CI$1:CI355)+1)","v":""},"","","","","",null,{"$f":"+IF(CQ356=\"\",\"\",MAX(CP$1:CP355)+1)","v":""},{"$f":"IF(Compliance_Options!B378=\"\",\"\",Compliance_Options!B378)","v":""},{"$f":"IF(Compliance_Options!C378=\"\",\"\",Compliance_Options!C378)","v":""},{"$f":"IF(Compliance_Options!D378=\"\",\"\",Compliance_Options!D378)","v":""},"  ",{"$f":"IF(COUNTIF(CT$2:CT356,CT356)=1,CT356,\"\")","v":""},"","","",""]
[null,null,null,null,null,null,null,null,null,null,null,null,null,null,null,null,null,null,null,null,null,null,null,null,null,null,null,null,null,null,null,null,null,null,null,null,null,null,null,null,null,null,null,null,null,null,null,{"$f":"+IF(AW357=\"\",\"\",MAX(AV$1:AV356)+1)","v":""},{"$f":"IF(Compliance_Options!B379=\"\",\"\",Compliance_Options!B379)","v":""},{"$f":"IF(Compliance_Options!C379=\"\",\"\",Compliance_Options!C379)","v":""},{"$f":"IF(Compliance_Options!D379=\"\",\"\",Compliance_Options!D379)","v":""},{"$f":"IF(Compliance_Options!E379=\"\",\"\",Compliance_Options!E379)","v":""},{"$f":"IF(Compliance_Options!F379=\"\",\"\",Compliance_Options!F379)","v":""},"    ",{"$f":"IF(COUNTIF(BB$2:BB357,BB357)=1,BB357,\"\")","v":""},"","","","","","","",{"$f":"+IF(BJ357=\"\",\"\",MAX(BK$1:BK356)+1)","v":""},"","","","","","","",{"$f":"+IF(BR357=\"\",\"\",MAX(BS$1:BS356)+1)","v":""},"","","","","","","",{"$f":"+IF(BZ357=\"\",\"\",MAX(CA$1:CA356)+1)","v":""},"","","","","","","",{"$f":"+IF(CH357=\"\",\"\",MAX(CI$1:CI356)+1)","v":""},"","","","","",null,{"$f":"+IF(CQ357=\"\",\"\",MAX(CP$1:CP356)+1)","v":""},{"$f":"IF(Compliance_Options!B379=\"\",\"\",Compliance_Options!B379)","v":""},{"$f":"IF(Compliance_Options!C379=\"\",\"\",Compliance_Options!C379)","v":""},{"$f":"IF(Compliance_Options!D379=\"\",\"\",Compliance_Options!D379)","v":""},"  ",{"$f":"IF(COUNTIF(CT$2:CT357,CT357)=1,CT357,\"\")","v":""},"","","",""]
[null,null,null,null,null,null,null,null,null,null,null,null,null,null,null,null,null,null,null,null,null,null,null,null,null,null,null,null,null,null,null,null,null,null,null,null,null,null,null,null,null,null,null,null,null,null,null,{"$f":"+IF(AW358=\"\",\"\",MAX(AV$1:AV357)+1)","v":""},{"$f":"IF(Compliance_Options!B380=\"\",\"\",Compliance_Options!B380)","v":""},{"$f":"IF(Compliance_Options!C380=\"\",\"\",Compliance_Options!C380)","v":""},{"$f":"IF(Compliance_Options!D380=\"\",\"\",Compliance_Options!D380)","v":""},{"$f":"IF(Compliance_Options!E380=\"\",\"\",Compliance_Options!E380)","v":""},{"$f":"IF(Compliance_Options!F380=\"\",\"\",Compliance_Options!F380)","v":""},"    ",{"$f":"IF(COUNTIF(BB$2:BB358,BB358)=1,BB358,\"\")","v":""},"","","","","","","",{"$f":"+IF(BJ358=\"\",\"\",MAX(BK$1:BK357)+1)","v":""},"","","","","","","",{"$f":"+IF(BR358=\"\",\"\",MAX(BS$1:BS357)+1)","v":""},"","","","","","","",{"$f":"+IF(BZ358=\"\",\"\",MAX(CA$1:CA357)+1)","v":""},"","","","","","","",{"$f":"+IF(CH358=\"\",\"\",MAX(CI$1:CI357)+1)","v":""},"","","","","",null,{"$f":"+IF(CQ358=\"\",\"\",MAX(CP$1:CP357)+1)","v":""},{"$f":"IF(Compliance_Options!B380=\"\",\"\",Compliance_Options!B380)","v":""},{"$f":"IF(Compliance_Options!C380=\"\",\"\",Compliance_Options!C380)","v":""},{"$f":"IF(Compliance_Options!D380=\"\",\"\",Compliance_Options!D380)","v":""},"  ",{"$f":"IF(COUNTIF(CT$2:CT358,CT358)=1,CT358,\"\")","v":""},"","","",""]
[null,null,null,null,null,null,null,null,null,null,null,null,null,null,null,null,null,null,null,null,null,null,null,null,null,null,null,null,null,null,null,null,null,null,null,null,null,null,null,null,null,null,null,null,null,null,null,{"$f":"+IF(AW359=\"\",\"\",MAX(AV$1:AV358)+1)","v":""},{"$f":"IF(Compliance_Options!B381=\"\",\"\",Compliance_Options!B381)","v":""},{"$f":"IF(Compliance_Options!C381=\"\",\"\",Compliance_Options!C381)","v":""},{"$f":"IF(Compliance_Options!D381=\"\",\"\",Compliance_Options!D381)","v":""},{"$f":"IF(Compliance_Options!E381=\"\",\"\",Compliance_Options!E381)","v":""},{"$f":"IF(Compliance_Options!F381=\"\",\"\",Compliance_Options!F381)","v":""},"    ",{"$f":"IF(COUNTIF(BB$2:BB359,BB359)=1,BB359,\"\")","v":""},"","","","","","","",{"$f":"+IF(BJ359=\"\",\"\",MAX(BK$1:BK358)+1)","v":""},"","","","","","","",{"$f":"+IF(BR359=\"\",\"\",MAX(BS$1:BS358)+1)","v":""},"","","","","","","",{"$f":"+IF(BZ359=\"\",\"\",MAX(CA$1:CA358)+1)","v":""},"","","","","","","",{"$f":"+IF(CH359=\"\",\"\",MAX(CI$1:CI358)+1)","v":""},"","","","","",null,{"$f":"+IF(CQ359=\"\",\"\",MAX(CP$1:CP358)+1)","v":""},{"$f":"IF(Compliance_Options!B381=\"\",\"\",Compliance_Options!B381)","v":""},{"$f":"IF(Compliance_Options!C381=\"\",\"\",Compliance_Options!C381)","v":""},{"$f":"IF(Compliance_Options!D381=\"\",\"\",Compliance_Options!D381)","v":""},"  ",{"$f":"IF(COUNTIF(CT$2:CT359,CT359)=1,CT359,\"\")","v":""},"","","",""]
[null,null,null,null,null,null,null,null,null,null,null,null,null,null,null,null,null,null,null,null,null,null,null,null,null,null,null,null,null,null,null,null,null,null,null,null,null,null,null,null,null,null,null,null,null,null,null,{"$f":"+IF(AW360=\"\",\"\",MAX(AV$1:AV359)+1)","v":""},{"$f":"IF(Compliance_Options!B382=\"\",\"\",Compliance_Options!B382)","v":""},{"$f":"IF(Compliance_Options!C382=\"\",\"\",Compliance_Options!C382)","v":""},{"$f":"IF(Compliance_Options!D382=\"\",\"\",Compliance_Options!D382)","v":""},{"$f":"IF(Compliance_Options!E382=\"\",\"\",Compliance_Options!E382)","v":""},{"$f":"IF(Compliance_Options!F382=\"\",\"\",Compliance_Options!F382)","v":""},"    ",{"$f":"IF(COUNTIF(BB$2:BB360,BB360)=1,BB360,\"\")","v":""},"","","","","","","",{"$f":"+IF(BJ360=\"\",\"\",MAX(BK$1:BK359)+1)","v":""},"","","","","","","",{"$f":"+IF(BR360=\"\",\"\",MAX(BS$1:BS359)+1)","v":""},"","","","","","","",{"$f":"+IF(BZ360=\"\",\"\",MAX(CA$1:CA359)+1)","v":""},"","","","","","","",{"$f":"+IF(CH360=\"\",\"\",MAX(CI$1:CI359)+1)","v":""},"","","","","",null,{"$f":"+IF(CQ360=\"\",\"\",MAX(CP$1:CP359)+1)","v":""},{"$f":"IF(Compliance_Options!B382=\"\",\"\",Compliance_Options!B382)","v":""},{"$f":"IF(Compliance_Options!C382=\"\",\"\",Compliance_Options!C382)","v":""},{"$f":"IF(Compliance_Options!D382=\"\",\"\",Compliance_Options!D382)","v":""},"  ",{"$f":"IF(COUNTIF(CT$2:CT360,CT360)=1,CT360,\"\")","v":""},"","","",""]
[null,null,null,null,null,null,null,null,null,null,null,null,null,null,null,null,null,null,null,null,null,null,null,null,null,null,null,null,null,null,null,null,null,null,null,null,null,null,null,null,null,null,null,null,null,null,null,{"$f":"+IF(AW361=\"\",\"\",MAX(AV$1:AV360)+1)","v":""},{"$f":"IF(Compliance_Options!B383=\"\",\"\",Compliance_Options!B383)","v":""},{"$f":"IF(Compliance_Options!C383=\"\",\"\",Compliance_Options!C383)","v":""},{"$f":"IF(Compliance_Options!D383=\"\",\"\",Compliance_Options!D383)","v":""},{"$f":"IF(Compliance_Options!E383=\"\",\"\",Compliance_Options!E383)","v":""},{"$f":"IF(Compliance_Options!F383=\"\",\"\",Compliance_Options!F383)","v":""},"    ",{"$f":"IF(COUNTIF(BB$2:BB361,BB361)=1,BB361,\"\")","v":""},"","","","","","","",{"$f":"+IF(BJ361=\"\",\"\",MAX(BK$1:BK360)+1)","v":""},"","","","","","","",{"$f":"+IF(BR361=\"\",\"\",MAX(BS$1:BS360)+1)","v":""},"","","","","","","",{"$f":"+IF(BZ361=\"\",\"\",MAX(CA$1:CA360)+1)","v":""},"","","","","","","",{"$f":"+IF(CH361=\"\",\"\",MAX(CI$1:CI360)+1)","v":""},"","","","","",null,{"$f":"+IF(CQ361=\"\",\"\",MAX(CP$1:CP360)+1)","v":""},{"$f":"IF(Compliance_Options!B383=\"\",\"\",Compliance_Options!B383)","v":""},{"$f":"IF(Compliance_Options!C383=\"\",\"\",Compliance_Options!C383)","v":""},{"$f":"IF(Compliance_Options!D383=\"\",\"\",Compliance_Options!D383)","v":""},"  ",{"$f":"IF(COUNTIF(CT$2:CT361,CT361)=1,CT361,\"\")","v":""},"","","",""]
[null,null,null,null,null,null,null,null,null,null,null,null,null,null,null,null,null,null,null,null,null,null,null,null,null,null,null,null,null,null,null,null,null,null,null,null,null,null,null,null,null,null,null,null,null,null,null,{"$f":"+IF(AW362=\"\",\"\",MAX(AV$1:AV361)+1)","v":""},{"$f":"IF(Compliance_Options!B384=\"\",\"\",Compliance_Options!B384)","v":""},{"$f":"IF(Compliance_Options!C384=\"\",\"\",Compliance_Options!C384)","v":""},{"$f":"IF(Compliance_Options!D384=\"\",\"\",Compliance_Options!D384)","v":""},{"$f":"IF(Compliance_Options!E384=\"\",\"\",Compliance_Options!E384)","v":""},{"$f":"IF(Compliance_Options!F384=\"\",\"\",Compliance_Options!F384)","v":""},"    ",{"$f":"IF(COUNTIF(BB$2:BB362,BB362)=1,BB362,\"\")","v":""},"","","","","","","",{"$f":"+IF(BJ362=\"\",\"\",MAX(BK$1:BK361)+1)","v":""},"","","","","","","",{"$f":"+IF(BR362=\"\",\"\",MAX(BS$1:BS361)+1)","v":""},"","","","","","","",{"$f":"+IF(BZ362=\"\",\"\",MAX(CA$1:CA361)+1)","v":""},"","","","","","","",{"$f":"+IF(CH362=\"\",\"\",MAX(CI$1:CI361)+1)","v":""},"","","","","",null,{"$f":"+IF(CQ362=\"\",\"\",MAX(CP$1:CP361)+1)","v":""},{"$f":"IF(Compliance_Options!B384=\"\",\"\",Compliance_Options!B384)","v":""},{"$f":"IF(Compliance_Options!C384=\"\",\"\",Compliance_Options!C384)","v":""},{"$f":"IF(Compliance_Options!D384=\"\",\"\",Compliance_Options!D384)","v":""},"  ",{"$f":"IF(COUNTIF(CT$2:CT362,CT362)=1,CT362,\"\")","v":""},"","","",""]
[null,null,null,null,null,null,null,null,null,null,null,null,null,null,null,null,null,null,null,null,null,null,null,null,null,null,null,null,null,null,null,null,null,null,null,null,null,null,null,null,null,null,null,null,null,null,null,{"$f":"+IF(AW363=\"\",\"\",MAX(AV$1:AV362)+1)","v":""},{"$f":"IF(Compliance_Options!B385=\"\",\"\",Compliance_Options!B385)","v":""},{"$f":"IF(Compliance_Options!C385=\"\",\"\",Compliance_Options!C385)","v":""},{"$f":"IF(Compliance_Options!D385=\"\",\"\",Compliance_Options!D385)","v":""},{"$f":"IF(Compliance_Options!E385=\"\",\"\",Compliance_Options!E385)","v":""},{"$f":"IF(Compliance_Options!F385=\"\",\"\",Compliance_Options!F385)","v":""},"    ",{"$f":"IF(COUNTIF(BB$2:BB363,BB363)=1,BB363,\"\")","v":""},"","","","","","","",{"$f":"+IF(BJ363=\"\",\"\",MAX(BK$1:BK362)+1)","v":""},"","","","","","","",{"$f":"+IF(BR363=\"\",\"\",MAX(BS$1:BS362)+1)","v":""},"","","","","","","",{"$f":"+IF(BZ363=\"\",\"\",MAX(CA$1:CA362)+1)","v":""},"","","","","","","",{"$f":"+IF(CH363=\"\",\"\",MAX(CI$1:CI362)+1)","v":""},"","","","","",null,{"$f":"+IF(CQ363=\"\",\"\",MAX(CP$1:CP362)+1)","v":""},{"$f":"IF(Compliance_Options!B385=\"\",\"\",Compliance_Options!B385)","v":""},{"$f":"IF(Compliance_Options!C385=\"\",\"\",Compliance_Options!C385)","v":""},{"$f":"IF(Compliance_Options!D385=\"\",\"\",Compliance_Options!D385)","v":""},"  ",{"$f":"IF(COUNTIF(CT$2:CT363,CT363)=1,CT363,\"\")","v":""},"","","",""]
[null,null,null,null,null,null,null,null,null,null,null,null,null,null,null,null,null,null,null,null,null,null,null,null,null,null,null,null,null,null,null,null,null,null,null,null,null,null,null,null,null,null,null,null,null,null,null,{"$f":"+IF(AW364=\"\",\"\",MAX(AV$1:AV363)+1)","v":""},{"$f":"IF(Compliance_Options!B386=\"\",\"\",Compliance_Options!B386)","v":""},{"$f":"IF(Compliance_Options!C386=\"\",\"\",Compliance_Options!C386)","v":""},{"$f":"IF(Compliance_Options!D386=\"\",\"\",Compliance_Options!D386)","v":""},{"$f":"IF(Compliance_Options!E386=\"\",\"\",Compliance_Options!E386)","v":""},{"$f":"IF(Compliance_Options!F386=\"\",\"\",Compliance_Options!F386)","v":""},"    ",{"$f":"IF(COUNTIF(BB$2:BB364,BB364)=1,BB364,\"\")","v":""},"","","","","","","",{"$f":"+IF(BJ364=\"\",\"\",MAX(BK$1:BK363)+1)","v":""},"","","","","","","",{"$f":"+IF(BR364=\"\",\"\",MAX(BS$1:BS363)+1)","v":""},"","","","","","","",{"$f":"+IF(BZ364=\"\",\"\",MAX(CA$1:CA363)+1)","v":""},"","","","","","","",{"$f":"+IF(CH364=\"\",\"\",MAX(CI$1:CI363)+1)","v":""},"","","","","",null,{"$f":"+IF(CQ364=\"\",\"\",MAX(CP$1:CP363)+1)","v":""},{"$f":"IF(Compliance_Options!B386=\"\",\"\",Compliance_Options!B386)","v":""},{"$f":"IF(Compliance_Options!C386=\"\",\"\",Compliance_Options!C386)","v":""},{"$f":"IF(Compliance_Options!D386=\"\",\"\",Compliance_Options!D386)","v":""},"  ",{"$f":"IF(COUNTIF(CT$2:CT364,CT364)=1,CT364,\"\")","v":""},"","","",""]
[null,null,null,null,null,null,null,null,null,null,null,null,null,null,null,null,null,null,null,null,null,null,null,null,null,null,null,null,null,null,null,null,null,null,null,null,null,null,null,null,null,null,null,null,null,null,null,{"$f":"+IF(AW365=\"\",\"\",MAX(AV$1:AV364)+1)","v":""},{"$f":"IF(Compliance_Options!B387=\"\",\"\",Compliance_Options!B387)","v":""},{"$f":"IF(Compliance_Options!C387=\"\",\"\",Compliance_Options!C387)","v":""},{"$f":"IF(Compliance_Options!D387=\"\",\"\",Compliance_Options!D387)","v":""},{"$f":"IF(Compliance_Options!E387=\"\",\"\",Compliance_Options!E387)","v":""},{"$f":"IF(Compliance_Options!F387=\"\",\"\",Compliance_Options!F387)","v":""},"    ",{"$f":"IF(COUNTIF(BB$2:BB365,BB365)=1,BB365,\"\")","v":""},"","","","","","","",{"$f":"+IF(BJ365=\"\",\"\",MAX(BK$1:BK364)+1)","v":""},"","","","","","","",{"$f":"+IF(BR365=\"\",\"\",MAX(BS$1:BS364)+1)","v":""},"","","","","","","",{"$f":"+IF(BZ365=\"\",\"\",MAX(CA$1:CA364)+1)","v":""},"","","","","","","",{"$f":"+IF(CH365=\"\",\"\",MAX(CI$1:CI364)+1)","v":""},"","","","","",null,{"$f":"+IF(CQ365=\"\",\"\",MAX(CP$1:CP364)+1)","v":""},{"$f":"IF(Compliance_Options!B387=\"\",\"\",Compliance_Options!B387)","v":""},{"$f":"IF(Compliance_Options!C387=\"\",\"\",Compliance_Options!C387)","v":""},{"$f":"IF(Compliance_Options!D387=\"\",\"\",Compliance_Options!D387)","v":""},"  ",{"$f":"IF(COUNTIF(CT$2:CT365,CT365)=1,CT365,\"\")","v":""},"","","",""]
[null,null,null,null,null,null,null,null,null,null,null,null,null,null,null,null,null,null,null,null,null,null,null,null,null,null,null,null,null,null,null,null,null,null,null,null,null,null,null,null,null,null,null,null,null,null,null,{"$f":"+IF(AW366=\"\",\"\",MAX(AV$1:AV365)+1)","v":""},{"$f":"IF(Compliance_Options!B388=\"\",\"\",Compliance_Options!B388)","v":""},{"$f":"IF(Compliance_Options!C388=\"\",\"\",Compliance_Options!C388)","v":""},{"$f":"IF(Compliance_Options!D388=\"\",\"\",Compliance_Options!D388)","v":""},{"$f":"IF(Compliance_Options!E388=\"\",\"\",Compliance_Options!E388)","v":""},{"$f":"IF(Compliance_Options!F388=\"\",\"\",Compliance_Options!F388)","v":""},"    ",{"$f":"IF(COUNTIF(BB$2:BB366,BB366)=1,BB366,\"\")","v":""},"","","","","","","",{"$f":"+IF(BJ366=\"\",\"\",MAX(BK$1:BK365)+1)","v":""},"","","","","","","",{"$f":"+IF(BR366=\"\",\"\",MAX(BS$1:BS365)+1)","v":""},"","","","","","","",{"$f":"+IF(BZ366=\"\",\"\",MAX(CA$1:CA365)+1)","v":""},"","","","","","","",{"$f":"+IF(CH366=\"\",\"\",MAX(CI$1:CI365)+1)","v":""},"","","","","",null,{"$f":"+IF(CQ366=\"\",\"\",MAX(CP$1:CP365)+1)","v":""},{"$f":"IF(Compliance_Options!B388=\"\",\"\",Compliance_Options!B388)","v":""},{"$f":"IF(Compliance_Options!C388=\"\",\"\",Compliance_Options!C388)","v":""},{"$f":"IF(Compliance_Options!D388=\"\",\"\",Compliance_Options!D388)","v":""},"  ",{"$f":"IF(COUNTIF(CT$2:CT366,CT366)=1,CT366,\"\")","v":""},"","","",""]
[null,null,null,null,null,null,null,null,null,null,null,null,null,null,null,null,null,null,null,null,null,null,null,null,null,null,null,null,null,null,null,null,null,null,null,null,null,null,null,null,null,null,null,null,null,null,null,{"$f":"+IF(AW367=\"\",\"\",MAX(AV$1:AV366)+1)","v":""},{"$f":"IF(Compliance_Options!B389=\"\",\"\",Compliance_Options!B389)","v":""},{"$f":"IF(Compliance_Options!C389=\"\",\"\",Compliance_Options!C389)","v":""},{"$f":"IF(Compliance_Options!D389=\"\",\"\",Compliance_Options!D389)","v":""},{"$f":"IF(Compliance_Options!E389=\"\",\"\",Compliance_Options!E389)","v":""},{"$f":"IF(Compliance_Options!F389=\"\",\"\",Compliance_Options!F389)","v":""},"    ",{"$f":"IF(COUNTIF(BB$2:BB367,BB367)=1,BB367,\"\")","v":""},"","","","","","","",{"$f":"+IF(BJ367=\"\",\"\",MAX(BK$1:BK366)+1)","v":""},"","","","","","","",{"$f":"+IF(BR367=\"\",\"\",MAX(BS$1:BS366)+1)","v":""},"","","","","","","",{"$f":"+IF(BZ367=\"\",\"\",MAX(CA$1:CA366)+1)","v":""},"","","","","","","",{"$f":"+IF(CH367=\"\",\"\",MAX(CI$1:CI366)+1)","v":""},"","","","","",null,{"$f":"+IF(CQ367=\"\",\"\",MAX(CP$1:CP366)+1)","v":""},{"$f":"IF(Compliance_Options!B389=\"\",\"\",Compliance_Options!B389)","v":""},{"$f":"IF(Compliance_Options!C389=\"\",\"\",Compliance_Options!C389)","v":""},{"$f":"IF(Compliance_Options!D389=\"\",\"\",Compliance_Options!D389)","v":""},"  ",{"$f":"IF(COUNTIF(CT$2:CT367,CT367)=1,CT367,\"\")","v":""},"","","",""]
[null,null,null,null,null,null,null,null,null,null,null,null,null,null,null,null,null,null,null,null,null,null,null,null,null,null,null,null,null,null,null,null,null,null,null,null,null,null,null,null,null,null,null,null,null,null,null,{"$f":"+IF(AW368=\"\",\"\",MAX(AV$1:AV367)+1)","v":""},{"$f":"IF(Compliance_Options!B390=\"\",\"\",Compliance_Options!B390)","v":""},{"$f":"IF(Compliance_Options!C390=\"\",\"\",Compliance_Options!C390)","v":""},{"$f":"IF(Compliance_Options!D390=\"\",\"\",Compliance_Options!D390)","v":""},{"$f":"IF(Compliance_Options!E390=\"\",\"\",Compliance_Options!E390)","v":""},{"$f":"IF(Compliance_Options!F390=\"\",\"\",Compliance_Options!F390)","v":""},"    ",{"$f":"IF(COUNTIF(BB$2:BB368,BB368)=1,BB368,\"\")","v":""},"","","","","","","",{"$f":"+IF(BJ368=\"\",\"\",MAX(BK$1:BK367)+1)","v":""},"","","","","","","",{"$f":"+IF(BR368=\"\",\"\",MAX(BS$1:BS367)+1)","v":""},"","","","","","","",{"$f":"+IF(BZ368=\"\",\"\",MAX(CA$1:CA367)+1)","v":""},"","","","","","","",{"$f":"+IF(CH368=\"\",\"\",MAX(CI$1:CI367)+1)","v":""},"","","","","",null,{"$f":"+IF(CQ368=\"\",\"\",MAX(CP$1:CP367)+1)","v":""},{"$f":"IF(Compliance_Options!B390=\"\",\"\",Compliance_Options!B390)","v":""},{"$f":"IF(Compliance_Options!C390=\"\",\"\",Compliance_Options!C390)","v":""},{"$f":"IF(Compliance_Options!D390=\"\",\"\",Compliance_Options!D390)","v":""},"  ",{"$f":"IF(COUNTIF(CT$2:CT368,CT368)=1,CT368,\"\")","v":""},"","","",""]
[null,null,null,null,null,null,null,null,null,null,null,null,null,null,null,null,null,null,null,null,null,null,null,null,null,null,null,null,null,null,null,null,null,null,null,null,null,null,null,null,null,null,null,null,null,null,null,{"$f":"+IF(AW369=\"\",\"\",MAX(AV$1:AV368)+1)","v":""},{"$f":"IF(Compliance_Options!B391=\"\",\"\",Compliance_Options!B391)","v":""},{"$f":"IF(Compliance_Options!C391=\"\",\"\",Compliance_Options!C391)","v":""},{"$f":"IF(Compliance_Options!D391=\"\",\"\",Compliance_Options!D391)","v":""},{"$f":"IF(Compliance_Options!E391=\"\",\"\",Compliance_Options!E391)","v":""},{"$f":"IF(Compliance_Options!F391=\"\",\"\",Compliance_Options!F391)","v":""},"    ",{"$f":"IF(COUNTIF(BB$2:BB369,BB369)=1,BB369,\"\")","v":""},"","","","","","","",{"$f":"+IF(BJ369=\"\",\"\",MAX(BK$1:BK368)+1)","v":""},"","","","","","","",{"$f":"+IF(BR369=\"\",\"\",MAX(BS$1:BS368)+1)","v":""},"","","","","","","",{"$f":"+IF(BZ369=\"\",\"\",MAX(CA$1:CA368)+1)","v":""},"","","","","","","",{"$f":"+IF(CH369=\"\",\"\",MAX(CI$1:CI368)+1)","v":""},"","","","","",null,{"$f":"+IF(CQ369=\"\",\"\",MAX(CP$1:CP368)+1)","v":""},{"$f":"IF(Compliance_Options!B391=\"\",\"\",Compliance_Options!B391)","v":""},{"$f":"IF(Compliance_Options!C391=\"\",\"\",Compliance_Options!C391)","v":""},{"$f":"IF(Compliance_Options!D391=\"\",\"\",Compliance_Options!D391)","v":""},"  ",{"$f":"IF(COUNTIF(CT$2:CT369,CT369)=1,CT369,\"\")","v":""},"","","",""]
[null,null,null,null,null,null,null,null,null,null,null,null,null,null,null,null,null,null,null,null,null,null,null,null,null,null,null,null,null,null,null,null,null,null,null,null,null,null,null,null,null,null,null,null,null,null,null,{"$f":"+IF(AW370=\"\",\"\",MAX(AV$1:AV369)+1)","v":""},{"$f":"IF(Compliance_Options!B392=\"\",\"\",Compliance_Options!B392)","v":""},{"$f":"IF(Compliance_Options!C392=\"\",\"\",Compliance_Options!C392)","v":""},{"$f":"IF(Compliance_Options!D392=\"\",\"\",Compliance_Options!D392)","v":""},{"$f":"IF(Compliance_Options!E392=\"\",\"\",Compliance_Options!E392)","v":""},{"$f":"IF(Compliance_Options!F392=\"\",\"\",Compliance_Options!F392)","v":""},"    ",{"$f":"IF(COUNTIF(BB$2:BB370,BB370)=1,BB370,\"\")","v":""},"","","","","","","",{"$f":"+IF(BJ370=\"\",\"\",MAX(BK$1:BK369)+1)","v":""},"","","","","","","",{"$f":"+IF(BR370=\"\",\"\",MAX(BS$1:BS369)+1)","v":""},"","","","","","","",{"$f":"+IF(BZ370=\"\",\"\",MAX(CA$1:CA369)+1)","v":""},"","","","","","","",{"$f":"+IF(CH370=\"\",\"\",MAX(CI$1:CI369)+1)","v":""},"","","","","",null,{"$f":"+IF(CQ370=\"\",\"\",MAX(CP$1:CP369)+1)","v":""},{"$f":"IF(Compliance_Options!B392=\"\",\"\",Compliance_Options!B392)","v":""},{"$f":"IF(Compliance_Options!C392=\"\",\"\",Compliance_Options!C392)","v":""},{"$f":"IF(Compliance_Options!D392=\"\",\"\",Compliance_Options!D392)","v":""},"  ",{"$f":"IF(COUNTIF(CT$2:CT370,CT370)=1,CT370,\"\")","v":""},"","","",""]
[null,null,null,null,null,null,null,null,null,null,null,null,null,null,null,null,null,null,null,null,null,null,null,null,null,null,null,null,null,null,null,null,null,null,null,null,null,null,null,null,null,null,null,null,null,null,null,{"$f":"+IF(AW371=\"\",\"\",MAX(AV$1:AV370)+1)","v":""},{"$f":"IF(Compliance_Options!B393=\"\",\"\",Compliance_Options!B393)","v":""},{"$f":"IF(Compliance_Options!C393=\"\",\"\",Compliance_Options!C393)","v":""},{"$f":"IF(Compliance_Options!D393=\"\",\"\",Compliance_Options!D393)","v":""},{"$f":"IF(Compliance_Options!E393=\"\",\"\",Compliance_Options!E393)","v":""},{"$f":"IF(Compliance_Options!F393=\"\",\"\",Compliance_Options!F393)","v":""},"    ",{"$f":"IF(COUNTIF(BB$2:BB371,BB371)=1,BB371,\"\")","v":""},"","","","","","","",{"$f":"+IF(BJ371=\"\",\"\",MAX(BK$1:BK370)+1)","v":""},"","","","","","","",{"$f":"+IF(BR371=\"\",\"\",MAX(BS$1:BS370)+1)","v":""},"","","","","","","",{"$f":"+IF(BZ371=\"\",\"\",MAX(CA$1:CA370)+1)","v":""},"","","","","","","",{"$f":"+IF(CH371=\"\",\"\",MAX(CI$1:CI370)+1)","v":""},"","","","","",null,{"$f":"+IF(CQ371=\"\",\"\",MAX(CP$1:CP370)+1)","v":""},{"$f":"IF(Compliance_Options!B393=\"\",\"\",Compliance_Options!B393)","v":""},{"$f":"IF(Compliance_Options!C393=\"\",\"\",Compliance_Options!C393)","v":""},{"$f":"IF(Compliance_Options!D393=\"\",\"\",Compliance_Options!D393)","v":""},"  ",{"$f":"IF(COUNTIF(CT$2:CT371,CT371)=1,CT371,\"\")","v":""},"","","",""]
[null,null,null,null,null,null,null,null,null,null,null,null,null,null,null,null,null,null,null,null,null,null,null,null,null,null,null,null,null,null,null,null,null,null,null,null,null,null,null,null,null,null,null,null,null,null,null,{"$f":"+IF(AW372=\"\",\"\",MAX(AV$1:AV371)+1)","v":""},{"$f":"IF(Compliance_Options!B394=\"\",\"\",Compliance_Options!B394)","v":""},{"$f":"IF(Compliance_Options!C394=\"\",\"\",Compliance_Options!C394)","v":""},{"$f":"IF(Compliance_Options!D394=\"\",\"\",Compliance_Options!D394)","v":""},{"$f":"IF(Compliance_Options!E394=\"\",\"\",Compliance_Options!E394)","v":""},{"$f":"IF(Compliance_Options!F394=\"\",\"\",Compliance_Options!F394)","v":""},"    ",{"$f":"IF(COUNTIF(BB$2:BB372,BB372)=1,BB372,\"\")","v":""},"","","","","","","",{"$f":"+IF(BJ372=\"\",\"\",MAX(BK$1:BK371)+1)","v":""},"","","","","","","",{"$f":"+IF(BR372=\"\",\"\",MAX(BS$1:BS371)+1)","v":""},"","","","","","","",{"$f":"+IF(BZ372=\"\",\"\",MAX(CA$1:CA371)+1)","v":""},"","","","","","","",{"$f":"+IF(CH372=\"\",\"\",MAX(CI$1:CI371)+1)","v":""},"","","","","",null,{"$f":"+IF(CQ372=\"\",\"\",MAX(CP$1:CP371)+1)","v":""},{"$f":"IF(Compliance_Options!B394=\"\",\"\",Compliance_Options!B394)","v":""},{"$f":"IF(Compliance_Options!C394=\"\",\"\",Compliance_Options!C394)","v":""},{"$f":"IF(Compliance_Options!D394=\"\",\"\",Compliance_Options!D394)","v":""},"  ",{"$f":"IF(COUNTIF(CT$2:CT372,CT372)=1,CT372,\"\")","v":""},"","","",""]
[null,null,null,null,null,null,null,null,null,null,null,null,null,null,null,null,null,null,null,null,null,null,null,null,null,null,null,null,null,null,null,null,null,null,null,null,null,null,null,null,null,null,null,null,null,null,null,{"$f":"+IF(AW373=\"\",\"\",MAX(AV$1:AV372)+1)","v":""},{"$f":"IF(Compliance_Options!B395=\"\",\"\",Compliance_Options!B395)","v":""},{"$f":"IF(Compliance_Options!C395=\"\",\"\",Compliance_Options!C395)","v":""},{"$f":"IF(Compliance_Options!D395=\"\",\"\",Compliance_Options!D395)","v":""},{"$f":"IF(Compliance_Options!E395=\"\",\"\",Compliance_Options!E395)","v":""},{"$f":"IF(Compliance_Options!F395=\"\",\"\",Compliance_Options!F395)","v":""},"    ",{"$f":"IF(COUNTIF(BB$2:BB373,BB373)=1,BB373,\"\")","v":""},"","","","","","","",{"$f":"+IF(BJ373=\"\",\"\",MAX(BK$1:BK372)+1)","v":""},"","","","","","","",{"$f":"+IF(BR373=\"\",\"\",MAX(BS$1:BS372)+1)","v":""},"","","","","","","",{"$f":"+IF(BZ373=\"\",\"\",MAX(CA$1:CA372)+1)","v":""},"","","","","","","",{"$f":"+IF(CH373=\"\",\"\",MAX(CI$1:CI372)+1)","v":""},"","","","","",null,{"$f":"+IF(CQ373=\"\",\"\",MAX(CP$1:CP372)+1)","v":""},{"$f":"IF(Compliance_Options!B395=\"\",\"\",Compliance_Options!B395)","v":""},{"$f":"IF(Compliance_Options!C395=\"\",\"\",Compliance_Options!C395)","v":""},{"$f":"IF(Compliance_Options!D395=\"\",\"\",Compliance_Options!D395)","v":""},"  ",{"$f":"IF(COUNTIF(CT$2:CT373,CT373)=1,CT373,\"\")","v":""},"","","",""]
[null,null,null,null,null,null,null,null,null,null,null,null,null,null,null,null,null,null,null,null,null,null,null,null,null,null,null,null,null,null,null,null,null,null,null,null,null,null,null,null,null,null,null,null,null,null,null,{"$f":"+IF(AW374=\"\",\"\",MAX(AV$1:AV373)+1)","v":""},{"$f":"IF(Compliance_Options!B396=\"\",\"\",Compliance_Options!B396)","v":""},{"$f":"IF(Compliance_Options!C396=\"\",\"\",Compliance_Options!C396)","v":""},{"$f":"IF(Compliance_Options!D396=\"\",\"\",Compliance_Options!D396)","v":""},{"$f":"IF(Compliance_Options!E396=\"\",\"\",Compliance_Options!E396)","v":""},{"$f":"IF(Compliance_Options!F396=\"\",\"\",Compliance_Options!F396)","v":""},"    ",{"$f":"IF(COUNTIF(BB$2:BB374,BB374)=1,BB374,\"\")","v":""},"","","","","","","",{"$f":"+IF(BJ374=\"\",\"\",MAX(BK$1:BK373)+1)","v":""},"","","","","","","",{"$f":"+IF(BR374=\"\",\"\",MAX(BS$1:BS373)+1)","v":""},"","","","","","","",{"$f":"+IF(BZ374=\"\",\"\",MAX(CA$1:CA373)+1)","v":""},"","","","","","","",{"$f":"+IF(CH374=\"\",\"\",MAX(CI$1:CI373)+1)","v":""},"","","","","",null,{"$f":"+IF(CQ374=\"\",\"\",MAX(CP$1:CP373)+1)","v":""},{"$f":"IF(Compliance_Options!B396=\"\",\"\",Compliance_Options!B396)","v":""},{"$f":"IF(Compliance_Options!C396=\"\",\"\",Compliance_Options!C396)","v":""},{"$f":"IF(Compliance_Options!D396=\"\",\"\",Compliance_Options!D396)","v":""},"  ",{"$f":"IF(COUNTIF(CT$2:CT374,CT374)=1,CT374,\"\")","v":""},"","","",""]
[null,null,null,null,null,null,null,null,null,null,null,null,null,null,null,null,null,null,null,null,null,null,null,null,null,null,null,null,null,null,null,null,null,null,null,null,null,null,null,null,null,null,null,null,null,null,null,{"$f":"+IF(AW375=\"\",\"\",MAX(AV$1:AV374)+1)","v":""},{"$f":"IF(Compliance_Options!B397=\"\",\"\",Compliance_Options!B397)","v":""},{"$f":"IF(Compliance_Options!C397=\"\",\"\",Compliance_Options!C397)","v":""},{"$f":"IF(Compliance_Options!D397=\"\",\"\",Compliance_Options!D397)","v":""},{"$f":"IF(Compliance_Options!E397=\"\",\"\",Compliance_Options!E397)","v":""},{"$f":"IF(Compliance_Options!F397=\"\",\"\",Compliance_Options!F397)","v":""},"    ",{"$f":"IF(COUNTIF(BB$2:BB375,BB375)=1,BB375,\"\")","v":""},"","","","","","","",{"$f":"+IF(BJ375=\"\",\"\",MAX(BK$1:BK374)+1)","v":""},"","","","","","","",{"$f":"+IF(BR375=\"\",\"\",MAX(BS$1:BS374)+1)","v":""},"","","","","","","",{"$f":"+IF(BZ375=\"\",\"\",MAX(CA$1:CA374)+1)","v":""},"","","","","","","",{"$f":"+IF(CH375=\"\",\"\",MAX(CI$1:CI374)+1)","v":""},"","","","","",null,{"$f":"+IF(CQ375=\"\",\"\",MAX(CP$1:CP374)+1)","v":""},{"$f":"IF(Compliance_Options!B397=\"\",\"\",Compliance_Options!B397)","v":""},{"$f":"IF(Compliance_Options!C397=\"\",\"\",Compliance_Options!C397)","v":""},{"$f":"IF(Compliance_Options!D397=\"\",\"\",Compliance_Options!D397)","v":""},"  ",{"$f":"IF(COUNTIF(CT$2:CT375,CT375)=1,CT375,\"\")","v":""},"","","",""]
[null,null,null,null,null,null,null,null,null,null,null,null,null,null,null,null,null,null,null,null,null,null,null,null,null,null,null,null,null,null,null,null,null,null,null,null,null,null,null,null,null,null,null,null,null,null,null,{"$f":"+IF(AW376=\"\",\"\",MAX(AV$1:AV375)+1)","v":""},{"$f":"IF(Compliance_Options!B398=\"\",\"\",Compliance_Options!B398)","v":""},{"$f":"IF(Compliance_Options!C398=\"\",\"\",Compliance_Options!C398)","v":""},{"$f":"IF(Compliance_Options!D398=\"\",\"\",Compliance_Options!D398)","v":""},{"$f":"IF(Compliance_Options!E398=\"\",\"\",Compliance_Options!E398)","v":""},{"$f":"IF(Compliance_Options!F398=\"\",\"\",Compliance_Options!F398)","v":""},"    ",{"$f":"IF(COUNTIF(BB$2:BB376,BB376)=1,BB376,\"\")","v":""},"","","","","","","",{"$f":"+IF(BJ376=\"\",\"\",MAX(BK$1:BK375)+1)","v":""},"","","","","","","",{"$f":"+IF(BR376=\"\",\"\",MAX(BS$1:BS375)+1)","v":""},"","","","","","","",{"$f":"+IF(BZ376=\"\",\"\",MAX(CA$1:CA375)+1)","v":""},"","","","","","","",{"$f":"+IF(CH376=\"\",\"\",MAX(CI$1:CI375)+1)","v":""},"","","","","",null,{"$f":"+IF(CQ376=\"\",\"\",MAX(CP$1:CP375)+1)","v":""},{"$f":"IF(Compliance_Options!B398=\"\",\"\",Compliance_Options!B398)","v":""},{"$f":"IF(Compliance_Options!C398=\"\",\"\",Compliance_Options!C398)","v":""},{"$f":"IF(Compliance_Options!D398=\"\",\"\",Compliance_Options!D398)","v":""},"  ",{"$f":"IF(COUNTIF(CT$2:CT376,CT376)=1,CT376,\"\")","v":""},"","","",""]
[null,null,null,null,null,null,null,null,null,null,null,null,null,null,null,null,null,null,null,null,null,null,null,null,null,null,null,null,null,null,null,null,null,null,null,null,null,null,null,null,null,null,null,null,null,null,null,{"$f":"+IF(AW377=\"\",\"\",MAX(AV$1:AV376)+1)","v":""},{"$f":"IF(Compliance_Options!B399=\"\",\"\",Compliance_Options!B399)","v":""},{"$f":"IF(Compliance_Options!C399=\"\",\"\",Compliance_Options!C399)","v":""},{"$f":"IF(Compliance_Options!D399=\"\",\"\",Compliance_Options!D399)","v":""},{"$f":"IF(Compliance_Options!E399=\"\",\"\",Compliance_Options!E399)","v":""},{"$f":"IF(Compliance_Options!F399=\"\",\"\",Compliance_Options!F399)","v":""},"    ",{"$f":"IF(COUNTIF(BB$2:BB377,BB377)=1,BB377,\"\")","v":""},"","","","","","","",{"$f":"+IF(BJ377=\"\",\"\",MAX(BK$1:BK376)+1)","v":""},"","","","","","","",{"$f":"+IF(BR377=\"\",\"\",MAX(BS$1:BS376)+1)","v":""},"","","","","","","",{"$f":"+IF(BZ377=\"\",\"\",MAX(CA$1:CA376)+1)","v":""},"","","","","","","",{"$f":"+IF(CH377=\"\",\"\",MAX(CI$1:CI376)+1)","v":""},"","","","","",null,{"$f":"+IF(CQ377=\"\",\"\",MAX(CP$1:CP376)+1)","v":""},{"$f":"IF(Compliance_Options!B399=\"\",\"\",Compliance_Options!B399)","v":""},{"$f":"IF(Compliance_Options!C399=\"\",\"\",Compliance_Options!C399)","v":""},{"$f":"IF(Compliance_Options!D399=\"\",\"\",Compliance_Options!D399)","v":""},"  ",{"$f":"IF(COUNTIF(CT$2:CT377,CT377)=1,CT377,\"\")","v":""},"","","",""]
[null,null,null,null,null,null,null,null,null,null,null,null,null,null,null,null,null,null,null,null,null,null,null,null,null,null,null,null,null,null,null,null,null,null,null,null,null,null,null,null,null,null,null,null,null,null,null,{"$f":"+IF(AW378=\"\",\"\",MAX(AV$1:AV377)+1)","v":""},{"$f":"IF(Compliance_Options!B400=\"\",\"\",Compliance_Options!B400)","v":""},{"$f":"IF(Compliance_Options!C400=\"\",\"\",Compliance_Options!C400)","v":""},{"$f":"IF(Compliance_Options!D400=\"\",\"\",Compliance_Options!D400)","v":""},{"$f":"IF(Compliance_Options!E400=\"\",\"\",Compliance_Options!E400)","v":""},{"$f":"IF(Compliance_Options!F400=\"\",\"\",Compliance_Options!F400)","v":""},"    ",{"$f":"IF(COUNTIF(BB$2:BB378,BB378)=1,BB378,\"\")","v":""},"","","","","","","",{"$f":"+IF(BJ378=\"\",\"\",MAX(BK$1:BK377)+1)","v":""},"","","","","","","",{"$f":"+IF(BR378=\"\",\"\",MAX(BS$1:BS377)+1)","v":""},"","","","","","","",{"$f":"+IF(BZ378=\"\",\"\",MAX(CA$1:CA377)+1)","v":""},"","","","","","","",{"$f":"+IF(CH378=\"\",\"\",MAX(CI$1:CI377)+1)","v":""},"","","","","",null,{"$f":"+IF(CQ378=\"\",\"\",MAX(CP$1:CP377)+1)","v":""},{"$f":"IF(Compliance_Options!B400=\"\",\"\",Compliance_Options!B400)","v":""},{"$f":"IF(Compliance_Options!C400=\"\",\"\",Compliance_Options!C400)","v":""},{"$f":"IF(Compliance_Options!D400=\"\",\"\",Compliance_Options!D400)","v":""},"  ",{"$f":"IF(COUNTIF(CT$2:CT378,CT378)=1,CT378,\"\")","v":""},"","","",""]
[null,null,null,null,null,null,null,null,null,null,null,null,null,null,null,null,null,null,null,null,null,null,null,null,null,null,null,null,null,null,null,null,null,null,null,null,null,null,null,null,null,null,null,null,null,null,null,{"$f":"+IF(AW379=\"\",\"\",MAX(AV$1:AV378)+1)","v":""},{"$f":"IF(Compliance_Options!B401=\"\",\"\",Compliance_Options!B401)","v":""},{"$f":"IF(Compliance_Options!C401=\"\",\"\",Compliance_Options!C401)","v":""},{"$f":"IF(Compliance_Options!D401=\"\",\"\",Compliance_Options!D401)","v":""},{"$f":"IF(Compliance_Options!E401=\"\",\"\",Compliance_Options!E401)","v":""},{"$f":"IF(Compliance_Options!F401=\"\",\"\",Compliance_Options!F401)","v":""},"    ",{"$f":"IF(COUNTIF(BB$2:BB379,BB379)=1,BB379,\"\")","v":""},"","","","","","","",{"$f":"+IF(BJ379=\"\",\"\",MAX(BK$1:BK378)+1)","v":""},"","","","","","","",{"$f":"+IF(BR379=\"\",\"\",MAX(BS$1:BS378)+1)","v":""},"","","","","","","",{"$f":"+IF(BZ379=\"\",\"\",MAX(CA$1:CA378)+1)","v":""},"","","","","","","",{"$f":"+IF(CH379=\"\",\"\",MAX(CI$1:CI378)+1)","v":""},"","","","","",null,{"$f":"+IF(CQ379=\"\",\"\",MAX(CP$1:CP378)+1)","v":""},{"$f":"IF(Compliance_Options!B401=\"\",\"\",Compliance_Options!B401)","v":""},{"$f":"IF(Compliance_Options!C401=\"\",\"\",Compliance_Options!C401)","v":""},{"$f":"IF(Compliance_Options!D401=\"\",\"\",Compliance_Options!D401)","v":""},"  ",{"$f":"IF(COUNTIF(CT$2:CT379,CT379)=1,CT379,\"\")","v":""},"","","",""]
[null,null,null,null,null,null,null,null,null,null,null,null,null,null,null,null,null,null,null,null,null,null,null,null,null,null,null,null,null,null,null,null,null,null,null,null,null,null,null,null,null,null,null,null,null,null,null,{"$f":"+IF(AW380=\"\",\"\",MAX(AV$1:AV379)+1)","v":""},{"$f":"IF(Compliance_Options!B402=\"\",\"\",Compliance_Options!B402)","v":""},{"$f":"IF(Compliance_Options!C402=\"\",\"\",Compliance_Options!C402)","v":""},{"$f":"IF(Compliance_Options!D402=\"\",\"\",Compliance_Options!D402)","v":""},{"$f":"IF(Compliance_Options!E402=\"\",\"\",Compliance_Options!E402)","v":""},{"$f":"IF(Compliance_Options!F402=\"\",\"\",Compliance_Options!F402)","v":""},"    ",{"$f":"IF(COUNTIF(BB$2:BB380,BB380)=1,BB380,\"\")","v":""},"","","","","","","",{"$f":"+IF(BJ380=\"\",\"\",MAX(BK$1:BK379)+1)","v":""},"","","","","","","",{"$f":"+IF(BR380=\"\",\"\",MAX(BS$1:BS379)+1)","v":""},"","","","","","","",{"$f":"+IF(BZ380=\"\",\"\",MAX(CA$1:CA379)+1)","v":""},"","","","","","","",{"$f":"+IF(CH380=\"\",\"\",MAX(CI$1:CI379)+1)","v":""},"","","","","",null,{"$f":"+IF(CQ380=\"\",\"\",MAX(CP$1:CP379)+1)","v":""},{"$f":"IF(Compliance_Options!B402=\"\",\"\",Compliance_Options!B402)","v":""},{"$f":"IF(Compliance_Options!C402=\"\",\"\",Compliance_Options!C402)","v":""},{"$f":"IF(Compliance_Options!D402=\"\",\"\",Compliance_Options!D402)","v":""},"  ",{"$f":"IF(COUNTIF(CT$2:CT380,CT380)=1,CT380,\"\")","v":""},"","","",""]
[null,null,null,null,null,null,null,null,null,null,null,null,null,null,null,null,null,null,null,null,null,null,null,null,null,null,null,null,null,null,null,null,null,null,null,null,null,null,null,null,null,null,null,null,null,null,null,{"$f":"+IF(AW381=\"\",\"\",MAX(AV$1:AV380)+1)","v":""},{"$f":"IF(Compliance_Options!B403=\"\",\"\",Compliance_Options!B403)","v":""},{"$f":"IF(Compliance_Options!C403=\"\",\"\",Compliance_Options!C403)","v":""},{"$f":"IF(Compliance_Options!D403=\"\",\"\",Compliance_Options!D403)","v":""},{"$f":"IF(Compliance_Options!E403=\"\",\"\",Compliance_Options!E403)","v":""},{"$f":"IF(Compliance_Options!F403=\"\",\"\",Compliance_Options!F403)","v":""},"    ",{"$f":"IF(COUNTIF(BB$2:BB381,BB381)=1,BB381,\"\")","v":""},"","","","","","","",{"$f":"+IF(BJ381=\"\",\"\",MAX(BK$1:BK380)+1)","v":""},"","","","","","","",{"$f":"+IF(BR381=\"\",\"\",MAX(BS$1:BS380)+1)","v":""},"","","","","","","",{"$f":"+IF(BZ381=\"\",\"\",MAX(CA$1:CA380)+1)","v":""},"","","","","","","",{"$f":"+IF(CH381=\"\",\"\",MAX(CI$1:CI380)+1)","v":""},"","","","","",null,{"$f":"+IF(CQ381=\"\",\"\",MAX(CP$1:CP380)+1)","v":""},{"$f":"IF(Compliance_Options!B403=\"\",\"\",Compliance_Options!B403)","v":""},{"$f":"IF(Compliance_Options!C403=\"\",\"\",Compliance_Options!C403)","v":""},{"$f":"IF(Compliance_Options!D403=\"\",\"\",Compliance_Options!D403)","v":""},"  ",{"$f":"IF(COUNTIF(CT$2:CT381,CT381)=1,CT381,\"\")","v":""},"","","",""]
[null,null,null,null,null,null,null,null,null,null,null,null,null,null,null,null,null,null,null,null,null,null,null,null,null,null,null,null,null,null,null,null,null,null,null,null,null,null,null,null,null,null,null,null,null,null,null,{"$f":"+IF(AW382=\"\",\"\",MAX(AV$1:AV381)+1)","v":""},{"$f":"IF(Compliance_Options!B404=\"\",\"\",Compliance_Options!B404)","v":""},{"$f":"IF(Compliance_Options!C404=\"\",\"\",Compliance_Options!C404)","v":""},{"$f":"IF(Compliance_Options!D404=\"\",\"\",Compliance_Options!D404)","v":""},{"$f":"IF(Compliance_Options!E404=\"\",\"\",Compliance_Options!E404)","v":""},{"$f":"IF(Compliance_Options!F404=\"\",\"\",Compliance_Options!F404)","v":""},"    ",{"$f":"IF(COUNTIF(BB$2:BB382,BB382)=1,BB382,\"\")","v":""},"","","","","","","",{"$f":"+IF(BJ382=\"\",\"\",MAX(BK$1:BK381)+1)","v":""},"","","","","","","",{"$f":"+IF(BR382=\"\",\"\",MAX(BS$1:BS381)+1)","v":""},"","","","","","","",{"$f":"+IF(BZ382=\"\",\"\",MAX(CA$1:CA381)+1)","v":""},"","","","","","","",{"$f":"+IF(CH382=\"\",\"\",MAX(CI$1:CI381)+1)","v":""},"","","","","",null,{"$f":"+IF(CQ382=\"\",\"\",MAX(CP$1:CP381)+1)","v":""},{"$f":"IF(Compliance_Options!B404=\"\",\"\",Compliance_Options!B404)","v":""},{"$f":"IF(Compliance_Options!C404=\"\",\"\",Compliance_Options!C404)","v":""},{"$f":"IF(Compliance_Options!D404=\"\",\"\",Compliance_Options!D404)","v":""},"  ",{"$f":"IF(COUNTIF(CT$2:CT382,CT382)=1,CT382,\"\")","v":""},"","","",""]
[null,null,null,null,null,null,null,null,null,null,null,null,null,null,null,null,null,null,null,null,null,null,null,null,null,null,null,null,null,null,null,null,null,null,null,null,null,null,null,null,null,null,null,null,null,null,null,{"$f":"+IF(AW383=\"\",\"\",MAX(AV$1:AV382)+1)","v":""},{"$f":"IF(Compliance_Options!B405=\"\",\"\",Compliance_Options!B405)","v":""},{"$f":"IF(Compliance_Options!C405=\"\",\"\",Compliance_Options!C405)","v":""},{"$f":"IF(Compliance_Options!D405=\"\",\"\",Compliance_Options!D405)","v":""},{"$f":"IF(Compliance_Options!E405=\"\",\"\",Compliance_Options!E405)","v":""},{"$f":"IF(Compliance_Options!F405=\"\",\"\",Compliance_Options!F405)","v":""},"    ",{"$f":"IF(COUNTIF(BB$2:BB383,BB383)=1,BB383,\"\")","v":""},"","","","","","","",{"$f":"+IF(BJ383=\"\",\"\",MAX(BK$1:BK382)+1)","v":""},"","","","","","","",{"$f":"+IF(BR383=\"\",\"\",MAX(BS$1:BS382)+1)","v":""},"","","","","","","",{"$f":"+IF(BZ383=\"\",\"\",MAX(CA$1:CA382)+1)","v":""},"","","","","","","",{"$f":"+IF(CH383=\"\",\"\",MAX(CI$1:CI382)+1)","v":""},"","","","","",null,{"$f":"+IF(CQ383=\"\",\"\",MAX(CP$1:CP382)+1)","v":""},{"$f":"IF(Compliance_Options!B405=\"\",\"\",Compliance_Options!B405)","v":""},{"$f":"IF(Compliance_Options!C405=\"\",\"\",Compliance_Options!C405)","v":""},{"$f":"IF(Compliance_Options!D405=\"\",\"\",Compliance_Options!D405)","v":""},"  ",{"$f":"IF(COUNTIF(CT$2:CT383,CT383)=1,CT383,\"\")","v":""},"","","",""]
[null,null,null,null,null,null,null,null,null,null,null,null,null,null,null,null,null,null,null,null,null,null,null,null,null,null,null,null,null,null,null,null,null,null,null,null,null,null,null,null,null,null,null,null,null,null,null,{"$f":"+IF(AW384=\"\",\"\",MAX(AV$1:AV383)+1)","v":""},{"$f":"IF(Compliance_Options!B406=\"\",\"\",Compliance_Options!B406)","v":""},{"$f":"IF(Compliance_Options!C406=\"\",\"\",Compliance_Options!C406)","v":""},{"$f":"IF(Compliance_Options!D406=\"\",\"\",Compliance_Options!D406)","v":""},{"$f":"IF(Compliance_Options!E406=\"\",\"\",Compliance_Options!E406)","v":""},{"$f":"IF(Compliance_Options!F406=\"\",\"\",Compliance_Options!F406)","v":""},"    ",{"$f":"IF(COUNTIF(BB$2:BB384,BB384)=1,BB384,\"\")","v":""},"","","","","","","",{"$f":"+IF(BJ384=\"\",\"\",MAX(BK$1:BK383)+1)","v":""},"","","","","","","",{"$f":"+IF(BR384=\"\",\"\",MAX(BS$1:BS383)+1)","v":""},"","","","","","","",{"$f":"+IF(BZ384=\"\",\"\",MAX(CA$1:CA383)+1)","v":""},"","","","","","","",{"$f":"+IF(CH384=\"\",\"\",MAX(CI$1:CI383)+1)","v":""},"","","","","",null,{"$f":"+IF(CQ384=\"\",\"\",MAX(CP$1:CP383)+1)","v":""},{"$f":"IF(Compliance_Options!B406=\"\",\"\",Compliance_Options!B406)","v":""},{"$f":"IF(Compliance_Options!C406=\"\",\"\",Compliance_Options!C406)","v":""},{"$f":"IF(Compliance_Options!D406=\"\",\"\",Compliance_Options!D406)","v":""},"  ",{"$f":"IF(COUNTIF(CT$2:CT384,CT384)=1,CT384,\"\")","v":""},"","","",""]
[null,null,null,null,null,null,null,null,null,null,null,null,null,null,null,null,null,null,null,null,null,null,null,null,null,null,null,null,null,null,null,null,null,null,null,null,null,null,null,null,null,null,null,null,null,null,null,{"$f":"+IF(AW385=\"\",\"\",MAX(AV$1:AV384)+1)","v":""},{"$f":"IF(Compliance_Options!B407=\"\",\"\",Compliance_Options!B407)","v":""},{"$f":"IF(Compliance_Options!C407=\"\",\"\",Compliance_Options!C407)","v":""},{"$f":"IF(Compliance_Options!D407=\"\",\"\",Compliance_Options!D407)","v":""},{"$f":"IF(Compliance_Options!E407=\"\",\"\",Compliance_Options!E407)","v":""},{"$f":"IF(Compliance_Options!F407=\"\",\"\",Compliance_Options!F407)","v":""},"    ",{"$f":"IF(COUNTIF(BB$2:BB385,BB385)=1,BB385,\"\")","v":""},"","","","","","","",{"$f":"+IF(BJ385=\"\",\"\",MAX(BK$1:BK384)+1)","v":""},"","","","","","","",{"$f":"+IF(BR385=\"\",\"\",MAX(BS$1:BS384)+1)","v":""},"","","","","","","",{"$f":"+IF(BZ385=\"\",\"\",MAX(CA$1:CA384)+1)","v":""},"","","","","","","",{"$f":"+IF(CH385=\"\",\"\",MAX(CI$1:CI384)+1)","v":""},"","","","","",null,{"$f":"+IF(CQ385=\"\",\"\",MAX(CP$1:CP384)+1)","v":""},{"$f":"IF(Compliance_Options!B407=\"\",\"\",Compliance_Options!B407)","v":""},{"$f":"IF(Compliance_Options!C407=\"\",\"\",Compliance_Options!C407)","v":""},{"$f":"IF(Compliance_Options!D407=\"\",\"\",Compliance_Options!D407)","v":""},"  ",{"$f":"IF(COUNTIF(CT$2:CT385,CT385)=1,CT385,\"\")","v":""},"","","",""]
[null,null,null,null,null,null,null,null,null,null,null,null,null,null,null,null,null,null,null,null,null,null,null,null,null,null,null,null,null,null,null,null,null,null,null,null,null,null,null,null,null,null,null,null,null,null,null,{"$f":"+IF(AW386=\"\",\"\",MAX(AV$1:AV385)+1)","v":""},{"$f":"IF(Compliance_Options!B408=\"\",\"\",Compliance_Options!B408)","v":""},{"$f":"IF(Compliance_Options!C408=\"\",\"\",Compliance_Options!C408)","v":""},{"$f":"IF(Compliance_Options!D408=\"\",\"\",Compliance_Options!D408)","v":""},{"$f":"IF(Compliance_Options!E408=\"\",\"\",Compliance_Options!E408)","v":""},{"$f":"IF(Compliance_Options!F408=\"\",\"\",Compliance_Options!F408)","v":""},"    ",{"$f":"IF(COUNTIF(BB$2:BB386,BB386)=1,BB386,\"\")","v":""},"","","","","","","",{"$f":"+IF(BJ386=\"\",\"\",MAX(BK$1:BK385)+1)","v":""},"","","","","","","",{"$f":"+IF(BR386=\"\",\"\",MAX(BS$1:BS385)+1)","v":""},"","","","","","","",{"$f":"+IF(BZ386=\"\",\"\",MAX(CA$1:CA385)+1)","v":""},"","","","","","","",{"$f":"+IF(CH386=\"\",\"\",MAX(CI$1:CI385)+1)","v":""},"","","","","",null,{"$f":"+IF(CQ386=\"\",\"\",MAX(CP$1:CP385)+1)","v":""},{"$f":"IF(Compliance_Options!B408=\"\",\"\",Compliance_Options!B408)","v":""},{"$f":"IF(Compliance_Options!C408=\"\",\"\",Compliance_Options!C408)","v":""},{"$f":"IF(Compliance_Options!D408=\"\",\"\",Compliance_Options!D408)","v":""},"  ",{"$f":"IF(COUNTIF(CT$2:CT386,CT386)=1,CT386,\"\")","v":""},"","","",""]
[null,null,null,null,null,null,null,null,null,null,null,null,null,null,null,null,null,null,null,null,null,null,null,null,null,null,null,null,null,null,null,null,null,null,null,null,null,null,null,null,null,null,null,null,null,null,null,{"$f":"+IF(AW387=\"\",\"\",MAX(AV$1:AV386)+1)","v":""},{"$f":"IF(Compliance_Options!B409=\"\",\"\",Compliance_Options!B409)","v":""},{"$f":"IF(Compliance_Options!C409=\"\",\"\",Compliance_Options!C409)","v":""},{"$f":"IF(Compliance_Options!D409=\"\",\"\",Compliance_Options!D409)","v":""},{"$f":"IF(Compliance_Options!E409=\"\",\"\",Compliance_Options!E409)","v":""},{"$f":"IF(Compliance_Options!F409=\"\",\"\",Compliance_Options!F409)","v":""},{"$f":"AW387&\" \"&AX387&\" \"&AY387&\" \"&AZ387&\" \"&BA387","v":"    "},{"$f":"IF(COUNTIF(BB$2:BB387,BB387)=1,BB387,\"\")","v":""},{"$f":"IF(BE387=\"\",\"\",BE387&\" \"&BF387&\" \"&BG387)","v":""},{"$f":"IFERROR(INDEX(AW$2:AW$78,MATCH(ROW()-ROW($BC$1),$AV$2:$AV$78,0)),\"\")","v":""},{"$f":"IFERROR(INDEX(AX$2:AX$78,MATCH(ROW()-ROW($BC$1),$AV$2:$AV$78,0)),\"\")","v":""},{"$f":"IFERROR(INDEX(AY$2:AY$78,MATCH(ROW()-ROW($BC$1),$AV$2:$AV$78,0)),\"\")","v":""},{"$f":"IFERROR(INDEX(AZ$2:AZ$78,MATCH(ROW()-ROW($BC$1),$AV$2:$AV$78,0)),\"\")","v":""},{"$f":"IFERROR(INDEX(BA$2:BA$78,MATCH(ROW()-ROW($BC$1),$AV$2:$AV$78,0)),\"\")","v":""},{"$f":"IF($AY387=\"Tire Production\",$BB387,\"\")","v":""},{"$f":"+IF(BJ387=\"\",\"\",MAX(BK$1:BK386)+1)","v":""},{"$f":"IF(BM387=\"\",\"\",BM387&\" \"&BN387&\" \"&BO387&\" \"&BP387&\" \"&BQ387)","v":""},{"$f":"IFERROR(INDEX(AW$2:AW$78,MATCH(ROW()-ROW($BC$1),$BK$2:$BK$78,0)),\"\")","v":""},{"$f":"IFERROR(INDEX(AX$2:AX$78,MATCH(ROW()-ROW($BC$1),$BK$2:$BK$78,0)),\"\")","v":""},{"$f":"IFERROR(INDEX(AY$2:AY$78,MATCH(ROW()-ROW($BC$1),$BK$2:$BK$78,0)),\"\")","v":""},{"$f":"IFERROR(INDEX(AZ$2:AZ$78,MATCH(ROW()-ROW($BC$1),$BK$2:$BK$78,0)),\"\")","v":""},{"$f":"IFERROR(INDEX(BA$2:BA$78,MATCH(ROW()-ROW($BC$1),$BK$2:$BK$78,0)),\"\")","v":""},{"$f":"IF($AY387=\"Tire Cord Production\",$BB387,\"\")","v":""},{"$f":"+IF(BR387=\"\",\"\",MAX(BS$1:BS386)+1)","v":""},{"$f":"IF(BU387=\"\",\"\",BU387&\" \"&BV387&\" \"&BW387)","v":""},{"$f":"IFERROR(INDEX(AW$2:AW$78,MATCH(ROW()-ROW($BS$1),$BS$2:$BS$78,0)),\"\")","v":""},{"$f":"IFERROR(INDEX(AX$2:AX$78,MATCH(ROW()-ROW($BS$1),$BS$2:$BS$78,0)),\"\")","v":""},{"$f":"IFERROR(INDEX(AY$2:AY$78,MATCH(ROW()-ROW($BS$1),$BS$2:$BS$78,0)),\"\")","v":""},{"$f":"IFERROR(INDEX(AZ$2:AZ$78,MATCH(ROW()-ROW($BS$1),$BS$2:$BS$78,0)),\"\")","v":""},{"$f":"IFERROR(INDEX(BA$2:BA$78,MATCH(ROW()-ROW($BS$1),$BS$2:$BS$78,0)),\"\")","v":""},{"$f":"IF($AY387=\"Puncture Sealant Application\",$BB387,\"\")","v":""},{"$f":"+IF(BZ387=\"\",\"\",MAX(CA$1:CA386)+1)","v":""},{"$f":"IF(CC387=\"\",\"\",CC387&\" \"&CD387&\" \"&CE387)","v":""},{"$f":"IFERROR(INDEX(AW$2:AW$78,MATCH(ROW()-ROW($CA$1),$CA$2:$CA$78,0)),\"\")","v":""},{"$f":"IFERROR(INDEX(AX$2:AX$78,MATCH(ROW()-ROW($CA$1),$CA$2:$CA$78,0)),\"\")","v":""},{"$f":"IFERROR(INDEX(AY$2:AY$78,MATCH(ROW()-ROW($CA$1),$CA$2:$CA$78,0)),\"\")","v":""},{"$f":"IFERROR(INDEX(AZ$2:AZ$78,MATCH(ROW()-ROW($CA$1),$CA$2:$CA$78,0)),\"\")","v":""},{"$f":"IFERROR(INDEX(BA$2:BA$78,MATCH(ROW()-ROW($CA$1),$CA$2:$CA$78,0)),\"\")","v":""},{"$f":"IF($AY387=\"Rubber Processing\",$BB387,\"\")","v":""},{"$f":"+IF(CH387=\"\",\"\",MAX(CI$1:CI386)+1)","v":""},{"$f":"IFERROR(INDEX(AW$2:AW$78,MATCH(ROW()-ROW($CI$1),$CI$2:$CI$78,0)),\"\")","v":""},{"$f":"IFERROR(INDEX(AX$2:AX$78,MATCH(ROW()-ROW($CI$1),$CI$2:$CI$78,0)),\"\")","v":""},{"$f":"IFERROR(INDEX(AY$2:AY$78,MATCH(ROW()-ROW($CI$1),$CI$2:$CI$78,0)),\"\")","v":""},{"$f":"IFERROR(INDEX(AZ$2:AZ$78,MATCH(ROW()-ROW($CI$1),$CI$2:$CI$78,0)),\"\")","v":""},{"$f":"IFERROR(INDEX(BA$2:BA$78,MATCH(ROW()-ROW($CI$1),$CI$2:$CI$78,0)),\"\")","v":""},null,{"$f":"+IF(CQ387=\"\",\"\",MAX(CP$1:CP386)+1)","v":""},{"$f":"IF(Compliance_Options!B409=\"\",\"\",Compliance_Options!B409)","v":""},{"$f":"IF(Compliance_Options!C409=\"\",\"\",Compliance_Options!C409)","v":""},{"$f":"IF(Compliance_Options!D409=\"\",\"\",Compliance_Options!D409)","v":""},{"$f":"CQ387&\" \"&CR387&\" \"&CS387","v":"  "},{"$f":"IF(COUNTIF(CT$2:CT387,CT387)=1,CT387,\"\")","v":""},{"$f":"IFERROR(INDEX(CU$2:CU$78,MATCH(ROW()-ROW($CU$1),$CP$2:$CP$78,0)),\"\")","v":""},{"$f":"IFERROR(INDEX(CQ$2:CQ$78,MATCH(ROW()-ROW($CU$1),$CP$2:$CP$78,0)),\"\")","v":""},{"$f":"IFERROR(INDEX(CR$2:CR$78,MATCH(ROW()-ROW($CU$1),$CP$2:$CP$78,0)),\"\")","v":""},{"$f":"IFERROR(INDEX(CS$2:CS$78,MATCH(ROW()-ROW($CU$1),$CP$2:$CP$78,0)),\"\")","v":""}]
[null,null,null,null,null,null,null,null,null,null,null,null,null,null,null,null,null,null,null,null,null,null,null,null,null,null,null,null,null,null,null,null,null,null,null,null,null,null,null,null,null,null,null,null,null,null,null,{"$f":"+IF(AW388=\"\",\"\",MAX(AV$1:AV387)+1)","v":""},{"$f":"IF(Compliance_Options!B410=\"\",\"\",Compliance_Options!B410)","v":""},{"$f":"IF(Compliance_Options!C410=\"\",\"\",Compliance_Options!C410)","v":""},{"$f":"IF(Compliance_Options!D410=\"\",\"\",Compliance_Options!D410)","v":""},{"$f":"IF(Compliance_Options!E410=\"\",\"\",Compliance_Options!E410)","v":""},{"$f":"IF(Compliance_Options!F410=\"\",\"\",Compliance_Options!F410)","v":""},"    ",{"$f":"IF(COUNTIF(BB$2:BB388,BB388)=1,BB388,\"\")","v":""},"","","","","","","",{"$f":"+IF(BJ388=\"\",\"\",MAX(BK$1:BK387)+1)","v":""},"","","","","","","",{"$f":"+IF(BR388=\"\",\"\",MAX(BS$1:BS387)+1)","v":""},"","","","","","","",{"$f":"+IF(BZ388=\"\",\"\",MAX(CA$1:CA387)+1)","v":""},"","","","","","","",{"$f":"+IF(CH388=\"\",\"\",MAX(CI$1:CI387)+1)","v":""},"","","","","",null,{"$f":"+IF(CQ388=\"\",\"\",MAX(CP$1:CP387)+1)","v":""},{"$f":"IF(Compliance_Options!B410=\"\",\"\",Compliance_Options!B410)","v":""},{"$f":"IF(Compliance_Options!C410=\"\",\"\",Compliance_Options!C410)","v":""},{"$f":"IF(Compliance_Options!D410=\"\",\"\",Compliance_Options!D410)","v":""},"  ",{"$f":"IF(COUNTIF(CT$2:CT388,CT388)=1,CT388,\"\")","v":""},"","","",""]
[null,null,null,null,null,null,null,null,null,null,null,null,null,null,null,null,null,null,null,null,null,null,null,null,null,null,null,null,null,null,null,null,null,null,null,null,null,null,null,null,null,null,null,null,null,null,null,{"$f":"+IF(AW389=\"\",\"\",MAX(AV$1:AV388)+1)","v":""},{"$f":"IF(Compliance_Options!B411=\"\",\"\",Compliance_Options!B411)","v":""},{"$f":"IF(Compliance_Options!C411=\"\",\"\",Compliance_Options!C411)","v":""},{"$f":"IF(Compliance_Options!D411=\"\",\"\",Compliance_Options!D411)","v":""},{"$f":"IF(Compliance_Options!E411=\"\",\"\",Compliance_Options!E411)","v":""},{"$f":"IF(Compliance_Options!F411=\"\",\"\",Compliance_Options!F411)","v":""},"    ",{"$f":"IF(COUNTIF(BB$2:BB389,BB389)=1,BB389,\"\")","v":""},"","","","","","","",{"$f":"+IF(BJ389=\"\",\"\",MAX(BK$1:BK388)+1)","v":""},"","","","","","","",{"$f":"+IF(BR389=\"\",\"\",MAX(BS$1:BS388)+1)","v":""},"","","","","","","",{"$f":"+IF(BZ389=\"\",\"\",MAX(CA$1:CA388)+1)","v":""},"","","","","","","",{"$f":"+IF(CH389=\"\",\"\",MAX(CI$1:CI388)+1)","v":""},"","","","","",null,{"$f":"+IF(CQ389=\"\",\"\",MAX(CP$1:CP388)+1)","v":""},{"$f":"IF(Compliance_Options!B411=\"\",\"\",Compliance_Options!B411)","v":""},{"$f":"IF(Compliance_Options!C411=\"\",\"\",Compliance_Options!C411)","v":""},{"$f":"IF(Compliance_Options!D411=\"\",\"\",Compliance_Options!D411)","v":""},"  ",{"$f":"IF(COUNTIF(CT$2:CT389,CT389)=1,CT389,\"\")","v":""},"","","",""]
[null,null,null,null,null,null,null,null,null,null,null,null,null,null,null,null,null,null,null,null,null,null,null,null,null,null,null,null,null,null,null,null,null,null,null,null,null,null,null,null,null,null,null,null,null,null,null,{"$f":"+IF(AW390=\"\",\"\",MAX(AV$1:AV389)+1)","v":""},{"$f":"IF(Compliance_Options!B412=\"\",\"\",Compliance_Options!B412)","v":""},{"$f":"IF(Compliance_Options!C412=\"\",\"\",Compliance_Options!C412)","v":""},{"$f":"IF(Compliance_Options!D412=\"\",\"\",Compliance_Options!D412)","v":""},{"$f":"IF(Compliance_Options!E412=\"\",\"\",Compliance_Options!E412)","v":""},{"$f":"IF(Compliance_Options!F412=\"\",\"\",Compliance_Options!F412)","v":""},"    ",{"$f":"IF(COUNTIF(BB$2:BB390,BB390)=1,BB390,\"\")","v":""},"","","","","","","",{"$f":"+IF(BJ390=\"\",\"\",MAX(BK$1:BK389)+1)","v":""},"","","","","","","",{"$f":"+IF(BR390=\"\",\"\",MAX(BS$1:BS389)+1)","v":""},"","","","","","","",{"$f":"+IF(BZ390=\"\",\"\",MAX(CA$1:CA389)+1)","v":""},"","","","","","","",{"$f":"+IF(CH390=\"\",\"\",MAX(CI$1:CI389)+1)","v":""},"","","","","",null,{"$f":"+IF(CQ390=\"\",\"\",MAX(CP$1:CP389)+1)","v":""},{"$f":"IF(Compliance_Options!B412=\"\",\"\",Compliance_Options!B412)","v":""},{"$f":"IF(Compliance_Options!C412=\"\",\"\",Compliance_Options!C412)","v":""},{"$f":"IF(Compliance_Options!D412=\"\",\"\",Compliance_Options!D412)","v":""},"  ",{"$f":"IF(COUNTIF(CT$2:CT390,CT390)=1,CT390,\"\")","v":""},"","","",""]
[null,null,null,null,null,null,null,null,null,null,null,null,null,null,null,null,null,null,null,null,null,null,null,null,null,null,null,null,null,null,null,null,null,null,null,null,null,null,null,null,null,null,null,null,null,null,null,{"$f":"+IF(AW391=\"\",\"\",MAX(AV$1:AV390)+1)","v":""},{"$f":"IF(Compliance_Options!B413=\"\",\"\",Compliance_Options!B413)","v":""},{"$f":"IF(Compliance_Options!C413=\"\",\"\",Compliance_Options!C413)","v":""},{"$f":"IF(Compliance_Options!D413=\"\",\"\",Compliance_Options!D413)","v":""},{"$f":"IF(Compliance_Options!E413=\"\",\"\",Compliance_Options!E413)","v":""},{"$f":"IF(Compliance_Options!F413=\"\",\"\",Compliance_Options!F413)","v":""},"    ",{"$f":"IF(COUNTIF(BB$2:BB391,BB391)=1,BB391,\"\")","v":""},"","","","","","","",{"$f":"+IF(BJ391=\"\",\"\",MAX(BK$1:BK390)+1)","v":""},"","","","","","","",{"$f":"+IF(BR391=\"\",\"\",MAX(BS$1:BS390)+1)","v":""},"","","","","","","",{"$f":"+IF(BZ391=\"\",\"\",MAX(CA$1:CA390)+1)","v":""},"","","","","","","",{"$f":"+IF(CH391=\"\",\"\",MAX(CI$1:CI390)+1)","v":""},"","","","","",null,{"$f":"+IF(CQ391=\"\",\"\",MAX(CP$1:CP390)+1)","v":""},{"$f":"IF(Compliance_Options!B413=\"\",\"\",Compliance_Options!B413)","v":""},{"$f":"IF(Compliance_Options!C413=\"\",\"\",Compliance_Options!C413)","v":""},{"$f":"IF(Compliance_Options!D413=\"\",\"\",Compliance_Options!D413)","v":""},"  ",{"$f":"IF(COUNTIF(CT$2:CT391,CT391)=1,CT391,\"\")","v":""},"","","",""]
[null,null,null,null,null,null,null,null,null,null,null,null,null,null,null,null,null,null,null,null,null,null,null,null,null,null,null,null,null,null,null,null,null,null,null,null,null,null,null,null,null,null,null,null,null,null,null,{"$f":"+IF(AW392=\"\",\"\",MAX(AV$1:AV391)+1)","v":""},{"$f":"IF(Compliance_Options!B414=\"\",\"\",Compliance_Options!B414)","v":""},{"$f":"IF(Compliance_Options!C414=\"\",\"\",Compliance_Options!C414)","v":""},{"$f":"IF(Compliance_Options!D414=\"\",\"\",Compliance_Options!D414)","v":""},{"$f":"IF(Compliance_Options!E414=\"\",\"\",Compliance_Options!E414)","v":""},{"$f":"IF(Compliance_Options!F414=\"\",\"\",Compliance_Options!F414)","v":""},"    ",{"$f":"IF(COUNTIF(BB$2:BB392,BB392)=1,BB392,\"\")","v":""},"","","","","","","",{"$f":"+IF(BJ392=\"\",\"\",MAX(BK$1:BK391)+1)","v":""},"","","","","","","",{"$f":"+IF(BR392=\"\",\"\",MAX(BS$1:BS391)+1)","v":""},"","","","","","","",{"$f":"+IF(BZ392=\"\",\"\",MAX(CA$1:CA391)+1)","v":""},"","","","","","","",{"$f":"+IF(CH392=\"\",\"\",MAX(CI$1:CI391)+1)","v":""},"","","","","",null,{"$f":"+IF(CQ392=\"\",\"\",MAX(CP$1:CP391)+1)","v":""},{"$f":"IF(Compliance_Options!B414=\"\",\"\",Compliance_Options!B414)","v":""},{"$f":"IF(Compliance_Options!C414=\"\",\"\",Compliance_Options!C414)","v":""},{"$f":"IF(Compliance_Options!D414=\"\",\"\",Compliance_Options!D414)","v":""},"  ",{"$f":"IF(COUNTIF(CT$2:CT392,CT392)=1,CT392,\"\")","v":""},"","","",""]
[null,null,null,null,null,null,null,null,null,null,null,null,null,null,null,null,null,null,null,null,null,null,null,null,null,null,null,null,null,null,null,null,null,null,null,null,null,null,null,null,null,null,null,null,null,null,null,{"$f":"+IF(AW393=\"\",\"\",MAX(AV$1:AV392)+1)","v":""},{"$f":"IF(Compliance_Options!B415=\"\",\"\",Compliance_Options!B415)","v":""},{"$f":"IF(Compliance_Options!C415=\"\",\"\",Compliance_Options!C415)","v":""},{"$f":"IF(Compliance_Options!D415=\"\",\"\",Compliance_Options!D415)","v":""},{"$f":"IF(Compliance_Options!E415=\"\",\"\",Compliance_Options!E415)","v":""},{"$f":"IF(Compliance_Options!F415=\"\",\"\",Compliance_Options!F415)","v":""},"    ",{"$f":"IF(COUNTIF(BB$2:BB393,BB393)=1,BB393,\"\")","v":""},"","","","","","","",{"$f":"+IF(BJ393=\"\",\"\",MAX(BK$1:BK392)+1)","v":""},"","","","","","","",{"$f":"+IF(BR393=\"\",\"\",MAX(BS$1:BS392)+1)","v":""},"","","","","","","",{"$f":"+IF(BZ393=\"\",\"\",MAX(CA$1:CA392)+1)","v":""},"","","","","","","",{"$f":"+IF(CH393=\"\",\"\",MAX(CI$1:CI392)+1)","v":""},"","","","","",null,{"$f":"+IF(CQ393=\"\",\"\",MAX(CP$1:CP392)+1)","v":""},{"$f":"IF(Compliance_Options!B415=\"\",\"\",Compliance_Options!B415)","v":""},{"$f":"IF(Compliance_Options!C415=\"\",\"\",Compliance_Options!C415)","v":""},{"$f":"IF(Compliance_Options!D415=\"\",\"\",Compliance_Options!D415)","v":""},"  ",{"$f":"IF(COUNTIF(CT$2:CT393,CT393)=1,CT393,\"\")","v":""},"","","",""]
[null,null,null,null,null,null,null,null,null,null,null,null,null,null,null,null,null,null,null,null,null,null,null,null,null,null,null,null,null,null,null,null,null,null,null,null,null,null,null,null,null,null,null,null,null,null,null,{"$f":"+IF(AW394=\"\",\"\",MAX(AV$1:AV393)+1)","v":""},{"$f":"IF(Compliance_Options!B416=\"\",\"\",Compliance_Options!B416)","v":""},{"$f":"IF(Compliance_Options!C416=\"\",\"\",Compliance_Options!C416)","v":""},{"$f":"IF(Compliance_Options!D416=\"\",\"\",Compliance_Options!D416)","v":""},{"$f":"IF(Compliance_Options!E416=\"\",\"\",Compliance_Options!E416)","v":""},{"$f":"IF(Compliance_Options!F416=\"\",\"\",Compliance_Options!F416)","v":""},"    ",{"$f":"IF(COUNTIF(BB$2:BB394,BB394)=1,BB394,\"\")","v":""},"","","","","","","",{"$f":"+IF(BJ394=\"\",\"\",MAX(BK$1:BK393)+1)","v":""},"","","","","","","",{"$f":"+IF(BR394=\"\",\"\",MAX(BS$1:BS393)+1)","v":""},"","","","","","","",{"$f":"+IF(BZ394=\"\",\"\",MAX(CA$1:CA393)+1)","v":""},"","","","","","","",{"$f":"+IF(CH394=\"\",\"\",MAX(CI$1:CI393)+1)","v":""},"","","","","",null,{"$f":"+IF(CQ394=\"\",\"\",MAX(CP$1:CP393)+1)","v":""},{"$f":"IF(Compliance_Options!B416=\"\",\"\",Compliance_Options!B416)","v":""},{"$f":"IF(Compliance_Options!C416=\"\",\"\",Compliance_Options!C416)","v":""},{"$f":"IF(Compliance_Options!D416=\"\",\"\",Compliance_Options!D416)","v":""},"  ",{"$f":"IF(COUNTIF(CT$2:CT394,CT394)=1,CT394,\"\")","v":""},"","","",""]
[null,null,null,null,null,null,null,null,null,null,null,null,null,null,null,null,null,null,null,null,null,null,null,null,null,null,null,null,null,null,null,null,null,null,null,null,null,null,null,null,null,null,null,null,null,null,null,{"$f":"+IF(AW395=\"\",\"\",MAX(AV$1:AV394)+1)","v":""},{"$f":"IF(Compliance_Options!B417=\"\",\"\",Compliance_Options!B417)","v":""},{"$f":"IF(Compliance_Options!C417=\"\",\"\",Compliance_Options!C417)","v":""},{"$f":"IF(Compliance_Options!D417=\"\",\"\",Compliance_Options!D417)","v":""},{"$f":"IF(Compliance_Options!E417=\"\",\"\",Compliance_Options!E417)","v":""},{"$f":"IF(Compliance_Options!F417=\"\",\"\",Compliance_Options!F417)","v":""},"    ",{"$f":"IF(COUNTIF(BB$2:BB395,BB395)=1,BB395,\"\")","v":""},"","","","","","","",{"$f":"+IF(BJ395=\"\",\"\",MAX(BK$1:BK394)+1)","v":""},"","","","","","","",{"$f":"+IF(BR395=\"\",\"\",MAX(BS$1:BS394)+1)","v":""},"","","","","","","",{"$f":"+IF(BZ395=\"\",\"\",MAX(CA$1:CA394)+1)","v":""},"","","","","","","",{"$f":"+IF(CH395=\"\",\"\",MAX(CI$1:CI394)+1)","v":""},"","","","","",null,{"$f":"+IF(CQ395=\"\",\"\",MAX(CP$1:CP394)+1)","v":""},{"$f":"IF(Compliance_Options!B417=\"\",\"\",Compliance_Options!B417)","v":""},{"$f":"IF(Compliance_Options!C417=\"\",\"\",Compliance_Options!C417)","v":""},{"$f":"IF(Compliance_Options!D417=\"\",\"\",Compliance_Options!D417)","v":""},"  ",{"$f":"IF(COUNTIF(CT$2:CT395,CT395)=1,CT395,\"\")","v":""},"","","",""]
[null,null,null,null,null,null,null,null,null,null,null,null,null,null,null,null,null,null,null,null,null,null,null,null,null,null,null,null,null,null,null,null,null,null,null,null,null,null,null,null,null,null,null,null,null,null,null,{"$f":"+IF(AW396=\"\",\"\",MAX(AV$1:AV395)+1)","v":""},{"$f":"IF(Compliance_Options!B418=\"\",\"\",Compliance_Options!B418)","v":""},{"$f":"IF(Compliance_Options!C418=\"\",\"\",Compliance_Options!C418)","v":""},{"$f":"IF(Compliance_Options!D418=\"\",\"\",Compliance_Options!D418)","v":""},{"$f":"IF(Compliance_Options!E418=\"\",\"\",Compliance_Options!E418)","v":""},{"$f":"IF(Compliance_Options!F418=\"\",\"\",Compliance_Options!F418)","v":""},"    ",{"$f":"IF(COUNTIF(BB$2:BB396,BB396)=1,BB396,\"\")","v":""},"","","","","","","",{"$f":"+IF(BJ396=\"\",\"\",MAX(BK$1:BK395)+1)","v":""},"","","","","","","",{"$f":"+IF(BR396=\"\",\"\",MAX(BS$1:BS395)+1)","v":""},"","","","","","","",{"$f":"+IF(BZ396=\"\",\"\",MAX(CA$1:CA395)+1)","v":""},"","","","","","","",{"$f":"+IF(CH396=\"\",\"\",MAX(CI$1:CI395)+1)","v":""},"","","","","",null,{"$f":"+IF(CQ396=\"\",\"\",MAX(CP$1:CP395)+1)","v":""},{"$f":"IF(Compliance_Options!B418=\"\",\"\",Compliance_Options!B418)","v":""},{"$f":"IF(Compliance_Options!C418=\"\",\"\",Compliance_Options!C418)","v":""},{"$f":"IF(Compliance_Options!D418=\"\",\"\",Compliance_Options!D418)","v":""},"  ",{"$f":"IF(COUNTIF(CT$2:CT396,CT396)=1,CT396,\"\")","v":""},"","","",""]
[null,null,null,null,null,null,null,null,null,null,null,null,null,null,null,null,null,null,null,null,null,null,null,null,null,null,null,null,null,null,null,null,null,null,null,null,null,null,null,null,null,null,null,null,null,null,null,{"$f":"+IF(AW397=\"\",\"\",MAX(AV$1:AV396)+1)","v":""},{"$f":"IF(Compliance_Options!B419=\"\",\"\",Compliance_Options!B419)","v":""},{"$f":"IF(Compliance_Options!C419=\"\",\"\",Compliance_Options!C419)","v":""},{"$f":"IF(Compliance_Options!D419=\"\",\"\",Compliance_Options!D419)","v":""},{"$f":"IF(Compliance_Options!E419=\"\",\"\",Compliance_Options!E419)","v":""},{"$f":"IF(Compliance_Options!F419=\"\",\"\",Compliance_Options!F419)","v":""},"    ",{"$f":"IF(COUNTIF(BB$2:BB397,BB397)=1,BB397,\"\")","v":""},"","","","","","","",{"$f":"+IF(BJ397=\"\",\"\",MAX(BK$1:BK396)+1)","v":""},"","","","","","","",{"$f":"+IF(BR397=\"\",\"\",MAX(BS$1:BS396)+1)","v":""},"","","","","","","",{"$f":"+IF(BZ397=\"\",\"\",MAX(CA$1:CA396)+1)","v":""},"","","","","","","",{"$f":"+IF(CH397=\"\",\"\",MAX(CI$1:CI396)+1)","v":""},"","","","","",null,{"$f":"+IF(CQ397=\"\",\"\",MAX(CP$1:CP396)+1)","v":""},{"$f":"IF(Compliance_Options!B419=\"\",\"\",Compliance_Options!B419)","v":""},{"$f":"IF(Compliance_Options!C419=\"\",\"\",Compliance_Options!C419)","v":""},{"$f":"IF(Compliance_Options!D419=\"\",\"\",Compliance_Options!D419)","v":""},"  ",{"$f":"IF(COUNTIF(CT$2:CT397,CT397)=1,CT397,\"\")","v":""},"","","",""]
[null,null,null,null,null,null,null,null,null,null,null,null,null,null,null,null,null,null,null,null,null,null,null,null,null,null,null,null,null,null,null,null,null,null,null,null,null,null,null,null,null,null,null,null,null,null,null,{"$f":"+IF(AW398=\"\",\"\",MAX(AV$1:AV397)+1)","v":""},{"$f":"IF(Compliance_Options!B420=\"\",\"\",Compliance_Options!B420)","v":""},{"$f":"IF(Compliance_Options!C420=\"\",\"\",Compliance_Options!C420)","v":""},{"$f":"IF(Compliance_Options!D420=\"\",\"\",Compliance_Options!D420)","v":""},{"$f":"IF(Compliance_Options!E420=\"\",\"\",Compliance_Options!E420)","v":""},{"$f":"IF(Compliance_Options!F420=\"\",\"\",Compliance_Options!F420)","v":""},"    ",{"$f":"IF(COUNTIF(BB$2:BB398,BB398)=1,BB398,\"\")","v":""},"","","","","","","",{"$f":"+IF(BJ398=\"\",\"\",MAX(BK$1:BK397)+1)","v":""},"","","","","","","",{"$f":"+IF(BR398=\"\",\"\",MAX(BS$1:BS397)+1)","v":""},"","","","","","","",{"$f":"+IF(BZ398=\"\",\"\",MAX(CA$1:CA397)+1)","v":""},"","","","","","","",{"$f":"+IF(CH398=\"\",\"\",MAX(CI$1:CI397)+1)","v":""},"","","","","",null,{"$f":"+IF(CQ398=\"\",\"\",MAX(CP$1:CP397)+1)","v":""},{"$f":"IF(Compliance_Options!B420=\"\",\"\",Compliance_Options!B420)","v":""},{"$f":"IF(Compliance_Options!C420=\"\",\"\",Compliance_Options!C420)","v":""},{"$f":"IF(Compliance_Options!D420=\"\",\"\",Compliance_Options!D420)","v":""},"  ",{"$f":"IF(COUNTIF(CT$2:CT398,CT398)=1,CT398,\"\")","v":""},"","","",""]
[null,null,null,null,null,null,null,null,null,null,null,null,null,null,null,null,null,null,null,null,null,null,null,null,null,null,null,null,null,null,null,null,null,null,null,null,null,null,null,null,null,null,null,null,null,null,null,{"$f":"+IF(AW399=\"\",\"\",MAX(AV$1:AV398)+1)","v":""},{"$f":"IF(Compliance_Options!B421=\"\",\"\",Compliance_Options!B421)","v":""},{"$f":"IF(Compliance_Options!C421=\"\",\"\",Compliance_Options!C421)","v":""},{"$f":"IF(Compliance_Options!D421=\"\",\"\",Compliance_Options!D421)","v":""},{"$f":"IF(Compliance_Options!E421=\"\",\"\",Compliance_Options!E421)","v":""},{"$f":"IF(Compliance_Options!F421=\"\",\"\",Compliance_Options!F421)","v":""},"    ",{"$f":"IF(COUNTIF(BB$2:BB399,BB399)=1,BB399,\"\")","v":""},"","","","","","","",{"$f":"+IF(BJ399=\"\",\"\",MAX(BK$1:BK398)+1)","v":""},"","","","","","","",{"$f":"+IF(BR399=\"\",\"\",MAX(BS$1:BS398)+1)","v":""},"","","","","","","",{"$f":"+IF(BZ399=\"\",\"\",MAX(CA$1:CA398)+1)","v":""},"","","","","","","",{"$f":"+IF(CH399=\"\",\"\",MAX(CI$1:CI398)+1)","v":""},"","","","","",null,{"$f":"+IF(CQ399=\"\",\"\",MAX(CP$1:CP398)+1)","v":""},{"$f":"IF(Compliance_Options!B421=\"\",\"\",Compliance_Options!B421)","v":""},{"$f":"IF(Compliance_Options!C421=\"\",\"\",Compliance_Options!C421)","v":""},{"$f":"IF(Compliance_Options!D421=\"\",\"\",Compliance_Options!D421)","v":""},"  ",{"$f":"IF(COUNTIF(CT$2:CT399,CT399)=1,CT399,\"\")","v":""},"","","",""]
[null,null,null,null,null,null,null,null,null,null,null,null,null,null,null,null,null,null,null,null,null,null,null,null,null,null,null,null,null,null,null,null,null,null,null,null,null,null,null,null,null,null,null,null,null,null,null,{"$f":"+IF(AW400=\"\",\"\",MAX(AV$1:AV399)+1)","v":""},{"$f":"IF(Compliance_Options!B422=\"\",\"\",Compliance_Options!B422)","v":""},{"$f":"IF(Compliance_Options!C422=\"\",\"\",Compliance_Options!C422)","v":""},{"$f":"IF(Compliance_Options!D422=\"\",\"\",Compliance_Options!D422)","v":""},{"$f":"IF(Compliance_Options!E422=\"\",\"\",Compliance_Options!E422)","v":""},{"$f":"IF(Compliance_Options!F422=\"\",\"\",Compliance_Options!F422)","v":""},"    ",{"$f":"IF(COUNTIF(BB$2:BB400,BB400)=1,BB400,\"\")","v":""},"","","","","","","",{"$f":"+IF(BJ400=\"\",\"\",MAX(BK$1:BK399)+1)","v":""},"","","","","","","",{"$f":"+IF(BR400=\"\",\"\",MAX(BS$1:BS399)+1)","v":""},"","","","","","","",{"$f":"+IF(BZ400=\"\",\"\",MAX(CA$1:CA399)+1)","v":""},"","","","","","","",{"$f":"+IF(CH400=\"\",\"\",MAX(CI$1:CI399)+1)","v":""},"","","","","",null,{"$f":"+IF(CQ400=\"\",\"\",MAX(CP$1:CP399)+1)","v":""},{"$f":"IF(Compliance_Options!B422=\"\",\"\",Compliance_Options!B422)","v":""},{"$f":"IF(Compliance_Options!C422=\"\",\"\",Compliance_Options!C422)","v":""},{"$f":"IF(Compliance_Options!D422=\"\",\"\",Compliance_Options!D422)","v":""},"  ",{"$f":"IF(COUNTIF(CT$2:CT400,CT400)=1,CT400,\"\")","v":""},"","","",""]
[null,null,null,null,null,null,null,null,null,null,null,null,null,null,null,null,null,null,null,null,null,null,null,null,null,null,null,null,null,null,null,null,null,null,null,null,null,null,null,null,null,null,null,null,null,null,null,{"$f":"+IF(AW401=\"\",\"\",MAX(AV$1:AV400)+1)","v":""},{"$f":"IF(Compliance_Options!B423=\"\",\"\",Compliance_Options!B423)","v":""},{"$f":"IF(Compliance_Options!C423=\"\",\"\",Compliance_Options!C423)","v":""},{"$f":"IF(Compliance_Options!D423=\"\",\"\",Compliance_Options!D423)","v":""},{"$f":"IF(Compliance_Options!E423=\"\",\"\",Compliance_Options!E423)","v":""},{"$f":"IF(Compliance_Options!F423=\"\",\"\",Compliance_Options!F423)","v":""},"    ",{"$f":"IF(COUNTIF(BB$2:BB401,BB401)=1,BB401,\"\")","v":""},"","","","","","","",{"$f":"+IF(BJ401=\"\",\"\",MAX(BK$1:BK400)+1)","v":""},"","","","","","","",{"$f":"+IF(BR401=\"\",\"\",MAX(BS$1:BS400)+1)","v":""},"","","","","","","",{"$f":"+IF(BZ401=\"\",\"\",MAX(CA$1:CA400)+1)","v":""},"","","","","","","",{"$f":"+IF(CH401=\"\",\"\",MAX(CI$1:CI400)+1)","v":""},"","","","","",null,{"$f":"+IF(CQ401=\"\",\"\",MAX(CP$1:CP400)+1)","v":""},{"$f":"IF(Compliance_Options!B423=\"\",\"\",Compliance_Options!B423)","v":""},{"$f":"IF(Compliance_Options!C423=\"\",\"\",Compliance_Options!C423)","v":""},{"$f":"IF(Compliance_Options!D423=\"\",\"\",Compliance_Options!D423)","v":""},"  ",{"$f":"IF(COUNTIF(CT$2:CT401,CT401)=1,CT401,\"\")","v":""},"","","",""]
[null,null,null,null,null,null,null,null,null,null,null,null,null,null,null,null,null,null,null,null,null,null,null,null,null,null,null,null,null,null,null,null,null,null,null,null,null,null,null,null,null,null,null,null,null,null,null,{"$f":"+IF(AW402=\"\",\"\",MAX(AV$1:AV401)+1)","v":""},{"$f":"IF(Compliance_Options!B424=\"\",\"\",Compliance_Options!B424)","v":""},{"$f":"IF(Compliance_Options!C424=\"\",\"\",Compliance_Options!C424)","v":""},{"$f":"IF(Compliance_Options!D424=\"\",\"\",Compliance_Options!D424)","v":""},{"$f":"IF(Compliance_Options!E424=\"\",\"\",Compliance_Options!E424)","v":""},{"$f":"IF(Compliance_Options!F424=\"\",\"\",Compliance_Options!F424)","v":""},"    ",{"$f":"IF(COUNTIF(BB$2:BB402,BB402)=1,BB402,\"\")","v":""},"","","","","","","",{"$f":"+IF(BJ402=\"\",\"\",MAX(BK$1:BK401)+1)","v":""},"","","","","","","",{"$f":"+IF(BR402=\"\",\"\",MAX(BS$1:BS401)+1)","v":""},"","","","","","","",{"$f":"+IF(BZ402=\"\",\"\",MAX(CA$1:CA401)+1)","v":""},"","","","","","","",{"$f":"+IF(CH402=\"\",\"\",MAX(CI$1:CI401)+1)","v":""},"","","","","",null,{"$f":"+IF(CQ402=\"\",\"\",MAX(CP$1:CP401)+1)","v":""},{"$f":"IF(Compliance_Options!B424=\"\",\"\",Compliance_Options!B424)","v":""},{"$f":"IF(Compliance_Options!C424=\"\",\"\",Compliance_Options!C424)","v":""},{"$f":"IF(Compliance_Options!D424=\"\",\"\",Compliance_Options!D424)","v":""},"  ",{"$f":"IF(COUNTIF(CT$2:CT402,CT402)=1,CT402,\"\")","v":""},"","","",""]
[null,null,null,null,null,null,null,null,null,null,null,null,null,null,null,null,null,null,null,null,null,null,null,null,null,null,null,null,null,null,null,null,null,null,null,null,null,null,null,null,null,null,null,null,null,null,null,{"$f":"+IF(AW403=\"\",\"\",MAX(AV$1:AV402)+1)","v":""},{"$f":"IF(Compliance_Options!B425=\"\",\"\",Compliance_Options!B425)","v":""},{"$f":"IF(Compliance_Options!C425=\"\",\"\",Compliance_Options!C425)","v":""},{"$f":"IF(Compliance_Options!D425=\"\",\"\",Compliance_Options!D425)","v":""},{"$f":"IF(Compliance_Options!E425=\"\",\"\",Compliance_Options!E425)","v":""},{"$f":"IF(Compliance_Options!F425=\"\",\"\",Compliance_Options!F425)","v":""},"    ",{"$f":"IF(COUNTIF(BB$2:BB403,BB403)=1,BB403,\"\")","v":""},"","","","","","","",{"$f":"+IF(BJ403=\"\",\"\",MAX(BK$1:BK402)+1)","v":""},"","","","","","","",{"$f":"+IF(BR403=\"\",\"\",MAX(BS$1:BS402)+1)","v":""},"","","","","","","",{"$f":"+IF(BZ403=\"\",\"\",MAX(CA$1:CA402)+1)","v":""},"","","","","","","",{"$f":"+IF(CH403=\"\",\"\",MAX(CI$1:CI402)+1)","v":""},"","","","","",null,{"$f":"+IF(CQ403=\"\",\"\",MAX(CP$1:CP402)+1)","v":""},{"$f":"IF(Compliance_Options!B425=\"\",\"\",Compliance_Options!B425)","v":""},{"$f":"IF(Compliance_Options!C425=\"\",\"\",Compliance_Options!C425)","v":""},{"$f":"IF(Compliance_Options!D425=\"\",\"\",Compliance_Options!D425)","v":""},"  ",{"$f":"IF(COUNTIF(CT$2:CT403,CT403)=1,CT403,\"\")","v":""},"","","",""]
[null,null,null,null,null,null,null,null,null,null,null,null,null,null,null,null,null,null,null,null,null,null,null,null,null,null,null,null,null,null,null,null,null,null,null,null,null,null,null,null,null,null,null,null,null,null,null,{"$f":"+IF(AW404=\"\",\"\",MAX(AV$1:AV403)+1)","v":""},{"$f":"IF(Compliance_Options!B426=\"\",\"\",Compliance_Options!B426)","v":""},{"$f":"IF(Compliance_Options!C426=\"\",\"\",Compliance_Options!C426)","v":""},{"$f":"IF(Compliance_Options!D426=\"\",\"\",Compliance_Options!D426)","v":""},{"$f":"IF(Compliance_Options!E426=\"\",\"\",Compliance_Options!E426)","v":""},{"$f":"IF(Compliance_Options!F426=\"\",\"\",Compliance_Options!F426)","v":""},"    ",{"$f":"IF(COUNTIF(BB$2:BB404,BB404)=1,BB404,\"\")","v":""},"","","","","","","",{"$f":"+IF(BJ404=\"\",\"\",MAX(BK$1:BK403)+1)","v":""},"","","","","","","",{"$f":"+IF(BR404=\"\",\"\",MAX(BS$1:BS403)+1)","v":""},"","","","","","","",{"$f":"+IF(BZ404=\"\",\"\",MAX(CA$1:CA403)+1)","v":""},"","","","","","","",{"$f":"+IF(CH404=\"\",\"\",MAX(CI$1:CI403)+1)","v":""},"","","","","",null,{"$f":"+IF(CQ404=\"\",\"\",MAX(CP$1:CP403)+1)","v":""},{"$f":"IF(Compliance_Options!B426=\"\",\"\",Compliance_Options!B426)","v":""},{"$f":"IF(Compliance_Options!C426=\"\",\"\",Compliance_Options!C426)","v":""},{"$f":"IF(Compliance_Options!D426=\"\",\"\",Compliance_Options!D426)","v":""},"  ",{"$f":"IF(COUNTIF(CT$2:CT404,CT404)=1,CT404,\"\")","v":""},"","","",""]
[null,null,null,null,null,null,null,null,null,null,null,null,null,null,null,null,null,null,null,null,null,null,null,null,null,null,null,null,null,null,null,null,null,null,null,null,null,null,null,null,null,null,null,null,null,null,null,{"$f":"+IF(AW405=\"\",\"\",MAX(AV$1:AV404)+1)","v":""},{"$f":"IF(Compliance_Options!B427=\"\",\"\",Compliance_Options!B427)","v":""},{"$f":"IF(Compliance_Options!C427=\"\",\"\",Compliance_Options!C427)","v":""},{"$f":"IF(Compliance_Options!D427=\"\",\"\",Compliance_Options!D427)","v":""},{"$f":"IF(Compliance_Options!E427=\"\",\"\",Compliance_Options!E427)","v":""},{"$f":"IF(Compliance_Options!F427=\"\",\"\",Compliance_Options!F427)","v":""},"    ",{"$f":"IF(COUNTIF(BB$2:BB405,BB405)=1,BB405,\"\")","v":""},"","","","","","","",{"$f":"+IF(BJ405=\"\",\"\",MAX(BK$1:BK404)+1)","v":""},"","","","","","","",{"$f":"+IF(BR405=\"\",\"\",MAX(BS$1:BS404)+1)","v":""},"","","","","","","",{"$f":"+IF(BZ405=\"\",\"\",MAX(CA$1:CA404)+1)","v":""},"","","","","","","",{"$f":"+IF(CH405=\"\",\"\",MAX(CI$1:CI404)+1)","v":""},"","","","","",null,{"$f":"+IF(CQ405=\"\",\"\",MAX(CP$1:CP404)+1)","v":""},{"$f":"IF(Compliance_Options!B427=\"\",\"\",Compliance_Options!B427)","v":""},{"$f":"IF(Compliance_Options!C427=\"\",\"\",Compliance_Options!C427)","v":""},{"$f":"IF(Compliance_Options!D427=\"\",\"\",Compliance_Options!D427)","v":""},"  ",{"$f":"IF(COUNTIF(CT$2:CT405,CT405)=1,CT405,\"\")","v":""},"","","",""]
[null,null,null,null,null,null,null,null,null,null,null,null,null,null,null,null,null,null,null,null,null,null,null,null,null,null,null,null,null,null,null,null,null,null,null,null,null,null,null,null,null,null,null,null,null,null,null,{"$f":"+IF(AW406=\"\",\"\",MAX(AV$1:AV405)+1)","v":""},{"$f":"IF(Compliance_Options!B428=\"\",\"\",Compliance_Options!B428)","v":""},{"$f":"IF(Compliance_Options!C428=\"\",\"\",Compliance_Options!C428)","v":""},{"$f":"IF(Compliance_Options!D428=\"\",\"\",Compliance_Options!D428)","v":""},{"$f":"IF(Compliance_Options!E428=\"\",\"\",Compliance_Options!E428)","v":""},{"$f":"IF(Compliance_Options!F428=\"\",\"\",Compliance_Options!F428)","v":""},"    ",{"$f":"IF(COUNTIF(BB$2:BB406,BB406)=1,BB406,\"\")","v":""},"","","","","","","",{"$f":"+IF(BJ406=\"\",\"\",MAX(BK$1:BK405)+1)","v":""},"","","","","","","",{"$f":"+IF(BR406=\"\",\"\",MAX(BS$1:BS405)+1)","v":""},"","","","","","","",{"$f":"+IF(BZ406=\"\",\"\",MAX(CA$1:CA405)+1)","v":""},"","","","","","","",{"$f":"+IF(CH406=\"\",\"\",MAX(CI$1:CI405)+1)","v":""},"","","","","",null,{"$f":"+IF(CQ406=\"\",\"\",MAX(CP$1:CP405)+1)","v":""},{"$f":"IF(Compliance_Options!B428=\"\",\"\",Compliance_Options!B428)","v":""},{"$f":"IF(Compliance_Options!C428=\"\",\"\",Compliance_Options!C428)","v":""},{"$f":"IF(Compliance_Options!D428=\"\",\"\",Compliance_Options!D428)","v":""},"  ",{"$f":"IF(COUNTIF(CT$2:CT406,CT406)=1,CT406,\"\")","v":""},"","","",""]
[null,null,null,null,null,null,null,null,null,null,null,null,null,null,null,null,null,null,null,null,null,null,null,null,null,null,null,null,null,null,null,null,null,null,null,null,null,null,null,null,null,null,null,null,null,null,null,{"$f":"+IF(AW407=\"\",\"\",MAX(AV$1:AV406)+1)","v":""},{"$f":"IF(Compliance_Options!B429=\"\",\"\",Compliance_Options!B429)","v":""},{"$f":"IF(Compliance_Options!C429=\"\",\"\",Compliance_Options!C429)","v":""},{"$f":"IF(Compliance_Options!D429=\"\",\"\",Compliance_Options!D429)","v":""},{"$f":"IF(Compliance_Options!E429=\"\",\"\",Compliance_Options!E429)","v":""},{"$f":"IF(Compliance_Options!F429=\"\",\"\",Compliance_Options!F429)","v":""},"    ",{"$f":"IF(COUNTIF(BB$2:BB407,BB407)=1,BB407,\"\")","v":""},"","","","","","","",{"$f":"+IF(BJ407=\"\",\"\",MAX(BK$1:BK406)+1)","v":""},"","","","","","","",{"$f":"+IF(BR407=\"\",\"\",MAX(BS$1:BS406)+1)","v":""},"","","","","","","",{"$f":"+IF(BZ407=\"\",\"\",MAX(CA$1:CA406)+1)","v":""},"","","","","","","",{"$f":"+IF(CH407=\"\",\"\",MAX(CI$1:CI406)+1)","v":""},"","","","","",null,{"$f":"+IF(CQ407=\"\",\"\",MAX(CP$1:CP406)+1)","v":""},{"$f":"IF(Compliance_Options!B429=\"\",\"\",Compliance_Options!B429)","v":""},{"$f":"IF(Compliance_Options!C429=\"\",\"\",Compliance_Options!C429)","v":""},{"$f":"IF(Compliance_Options!D429=\"\",\"\",Compliance_Options!D429)","v":""},"  ",{"$f":"IF(COUNTIF(CT$2:CT407,CT407)=1,CT407,\"\")","v":""},"","","",""]
[null,null,null,null,null,null,null,null,null,null,null,null,null,null,null,null,null,null,null,null,null,null,null,null,null,null,null,null,null,null,null,null,null,null,null,null,null,null,null,null,null,null,null,null,null,null,null,{"$f":"+IF(AW408=\"\",\"\",MAX(AV$1:AV407)+1)","v":""},{"$f":"IF(Compliance_Options!B430=\"\",\"\",Compliance_Options!B430)","v":""},{"$f":"IF(Compliance_Options!C430=\"\",\"\",Compliance_Options!C430)","v":""},{"$f":"IF(Compliance_Options!D430=\"\",\"\",Compliance_Options!D430)","v":""},{"$f":"IF(Compliance_Options!E430=\"\",\"\",Compliance_Options!E430)","v":""},{"$f":"IF(Compliance_Options!F430=\"\",\"\",Compliance_Options!F430)","v":""},"    ",{"$f":"IF(COUNTIF(BB$2:BB408,BB408)=1,BB408,\"\")","v":""},"","","","","","","",{"$f":"+IF(BJ408=\"\",\"\",MAX(BK$1:BK407)+1)","v":""},"","","","","","","",{"$f":"+IF(BR408=\"\",\"\",MAX(BS$1:BS407)+1)","v":""},"","","","","","","",{"$f":"+IF(BZ408=\"\",\"\",MAX(CA$1:CA407)+1)","v":""},"","","","","","","",{"$f":"+IF(CH408=\"\",\"\",MAX(CI$1:CI407)+1)","v":""},"","","","","",null,{"$f":"+IF(CQ408=\"\",\"\",MAX(CP$1:CP407)+1)","v":""},{"$f":"IF(Compliance_Options!B430=\"\",\"\",Compliance_Options!B430)","v":""},{"$f":"IF(Compliance_Options!C430=\"\",\"\",Compliance_Options!C430)","v":""},{"$f":"IF(Compliance_Options!D430=\"\",\"\",Compliance_Options!D430)","v":""},"  ",{"$f":"IF(COUNTIF(CT$2:CT408,CT408)=1,CT408,\"\")","v":""},"","","",""]
[null,null,null,null,null,null,null,null,null,null,null,null,null,null,null,null,null,null,null,null,null,null,null,null,null,null,null,null,null,null,null,null,null,null,null,null,null,null,null,null,null,null,null,null,null,null,null,{"$f":"+IF(AW409=\"\",\"\",MAX(AV$1:AV408)+1)","v":""},{"$f":"IF(Compliance_Options!B431=\"\",\"\",Compliance_Options!B431)","v":""},{"$f":"IF(Compliance_Options!C431=\"\",\"\",Compliance_Options!C431)","v":""},{"$f":"IF(Compliance_Options!D431=\"\",\"\",Compliance_Options!D431)","v":""},{"$f":"IF(Compliance_Options!E431=\"\",\"\",Compliance_Options!E431)","v":""},{"$f":"IF(Compliance_Options!F431=\"\",\"\",Compliance_Options!F431)","v":""},"    ",{"$f":"IF(COUNTIF(BB$2:BB409,BB409)=1,BB409,\"\")","v":""},"","","","","","","",{"$f":"+IF(BJ409=\"\",\"\",MAX(BK$1:BK408)+1)","v":""},"","","","","","","",{"$f":"+IF(BR409=\"\",\"\",MAX(BS$1:BS408)+1)","v":""},"","","","","","","",{"$f":"+IF(BZ409=\"\",\"\",MAX(CA$1:CA408)+1)","v":""},"","","","","","","",{"$f":"+IF(CH409=\"\",\"\",MAX(CI$1:CI408)+1)","v":""},"","","","","",null,{"$f":"+IF(CQ409=\"\",\"\",MAX(CP$1:CP408)+1)","v":""},{"$f":"IF(Compliance_Options!B431=\"\",\"\",Compliance_Options!B431)","v":""},{"$f":"IF(Compliance_Options!C431=\"\",\"\",Compliance_Options!C431)","v":""},{"$f":"IF(Compliance_Options!D431=\"\",\"\",Compliance_Options!D431)","v":""},"  ",{"$f":"IF(COUNTIF(CT$2:CT409,CT409)=1,CT409,\"\")","v":""},"","","",""]
[null,null,null,null,null,null,null,null,null,null,null,null,null,null,null,null,null,null,null,null,null,null,null,null,null,null,null,null,null,null,null,null,null,null,null,null,null,null,null,null,null,null,null,null,null,null,null,{"$f":"+IF(AW410=\"\",\"\",MAX(AV$1:AV409)+1)","v":""},{"$f":"IF(Compliance_Options!B432=\"\",\"\",Compliance_Options!B432)","v":""},{"$f":"IF(Compliance_Options!C432=\"\",\"\",Compliance_Options!C432)","v":""},{"$f":"IF(Compliance_Options!D432=\"\",\"\",Compliance_Options!D432)","v":""},{"$f":"IF(Compliance_Options!E432=\"\",\"\",Compliance_Options!E432)","v":""},{"$f":"IF(Compliance_Options!F432=\"\",\"\",Compliance_Options!F432)","v":""},"    ",{"$f":"IF(COUNTIF(BB$2:BB410,BB410)=1,BB410,\"\")","v":""},"","","","","","","",{"$f":"+IF(BJ410=\"\",\"\",MAX(BK$1:BK409)+1)","v":""},"","","","","","","",{"$f":"+IF(BR410=\"\",\"\",MAX(BS$1:BS409)+1)","v":""},"","","","","","","",{"$f":"+IF(BZ410=\"\",\"\",MAX(CA$1:CA409)+1)","v":""},"","","","","","","",{"$f":"+IF(CH410=\"\",\"\",MAX(CI$1:CI409)+1)","v":""},"","","","","",null,{"$f":"+IF(CQ410=\"\",\"\",MAX(CP$1:CP409)+1)","v":""},{"$f":"IF(Compliance_Options!B432=\"\",\"\",Compliance_Options!B432)","v":""},{"$f":"IF(Compliance_Options!C432=\"\",\"\",Compliance_Options!C432)","v":""},{"$f":"IF(Compliance_Options!D432=\"\",\"\",Compliance_Options!D432)","v":""},"  ",{"$f":"IF(COUNTIF(CT$2:CT410,CT410)=1,CT410,\"\")","v":""},"","","",""]
[null,null,null,null,null,null,null,null,null,null,null,null,null,null,null,null,null,null,null,null,null,null,null,null,null,null,null,null,null,null,null,null,null,null,null,null,null,null,null,null,null,null,null,null,null,null,null,{"$f":"+IF(AW411=\"\",\"\",MAX(AV$1:AV410)+1)","v":""},{"$f":"IF(Compliance_Options!B433=\"\",\"\",Compliance_Options!B433)","v":""},{"$f":"IF(Compliance_Options!C433=\"\",\"\",Compliance_Options!C433)","v":""},{"$f":"IF(Compliance_Options!D433=\"\",\"\",Compliance_Options!D433)","v":""},{"$f":"IF(Compliance_Options!E433=\"\",\"\",Compliance_Options!E433)","v":""},{"$f":"IF(Compliance_Options!F433=\"\",\"\",Compliance_Options!F433)","v":""},"    ",{"$f":"IF(COUNTIF(BB$2:BB411,BB411)=1,BB411,\"\")","v":""},"","","","","","","",{"$f":"+IF(BJ411=\"\",\"\",MAX(BK$1:BK410)+1)","v":""},"","","","","","","",{"$f":"+IF(BR411=\"\",\"\",MAX(BS$1:BS410)+1)","v":""},"","","","","","","",{"$f":"+IF(BZ411=\"\",\"\",MAX(CA$1:CA410)+1)","v":""},"","","","","","","",{"$f":"+IF(CH411=\"\",\"\",MAX(CI$1:CI410)+1)","v":""},"","","","","",null,{"$f":"+IF(CQ411=\"\",\"\",MAX(CP$1:CP410)+1)","v":""},{"$f":"IF(Compliance_Options!B433=\"\",\"\",Compliance_Options!B433)","v":""},{"$f":"IF(Compliance_Options!C433=\"\",\"\",Compliance_Options!C433)","v":""},{"$f":"IF(Compliance_Options!D433=\"\",\"\",Compliance_Options!D433)","v":""},"  ",{"$f":"IF(COUNTIF(CT$2:CT411,CT411)=1,CT411,\"\")","v":""},"","","",""]
[null,null,null,null,null,null,null,null,null,null,null,null,null,null,null,null,null,null,null,null,null,null,null,null,null,null,null,null,null,null,null,null,null,null,null,null,null,null,null,null,null,null,null,null,null,null,null,{"$f":"+IF(AW412=\"\",\"\",MAX(AV$1:AV411)+1)","v":""},{"$f":"IF(Compliance_Options!B434=\"\",\"\",Compliance_Options!B434)","v":""},{"$f":"IF(Compliance_Options!C434=\"\",\"\",Compliance_Options!C434)","v":""},{"$f":"IF(Compliance_Options!D434=\"\",\"\",Compliance_Options!D434)","v":""},{"$f":"IF(Compliance_Options!E434=\"\",\"\",Compliance_Options!E434)","v":""},{"$f":"IF(Compliance_Options!F434=\"\",\"\",Compliance_Options!F434)","v":""},"    ",{"$f":"IF(COUNTIF(BB$2:BB412,BB412)=1,BB412,\"\")","v":""},"","","","","","","",{"$f":"+IF(BJ412=\"\",\"\",MAX(BK$1:BK411)+1)","v":""},"","","","","","","",{"$f":"+IF(BR412=\"\",\"\",MAX(BS$1:BS411)+1)","v":""},"","","","","","","",{"$f":"+IF(BZ412=\"\",\"\",MAX(CA$1:CA411)+1)","v":""},"","","","","","","",{"$f":"+IF(CH412=\"\",\"\",MAX(CI$1:CI411)+1)","v":""},"","","","","",null,{"$f":"+IF(CQ412=\"\",\"\",MAX(CP$1:CP411)+1)","v":""},{"$f":"IF(Compliance_Options!B434=\"\",\"\",Compliance_Options!B434)","v":""},{"$f":"IF(Compliance_Options!C434=\"\",\"\",Compliance_Options!C434)","v":""},{"$f":"IF(Compliance_Options!D434=\"\",\"\",Compliance_Options!D434)","v":""},"  ",{"$f":"IF(COUNTIF(CT$2:CT412,CT412)=1,CT412,\"\")","v":""},"","","",""]
[null,null,null,null,null,null,null,null,null,null,null,null,null,null,null,null,null,null,null,null,null,null,null,null,null,null,null,null,null,null,null,null,null,null,null,null,null,null,null,null,null,null,null,null,null,null,null,{"$f":"+IF(AW413=\"\",\"\",MAX(AV$1:AV412)+1)","v":""},{"$f":"IF(Compliance_Options!B435=\"\",\"\",Compliance_Options!B435)","v":""},{"$f":"IF(Compliance_Options!C435=\"\",\"\",Compliance_Options!C435)","v":""},{"$f":"IF(Compliance_Options!D435=\"\",\"\",Compliance_Options!D435)","v":""},{"$f":"IF(Compliance_Options!E435=\"\",\"\",Compliance_Options!E435)","v":""},{"$f":"IF(Compliance_Options!F435=\"\",\"\",Compliance_Options!F435)","v":""},"    ",{"$f":"IF(COUNTIF(BB$2:BB413,BB413)=1,BB413,\"\")","v":""},"","","","","","","",{"$f":"+IF(BJ413=\"\",\"\",MAX(BK$1:BK412)+1)","v":""},"","","","","","","",{"$f":"+IF(BR413=\"\",\"\",MAX(BS$1:BS412)+1)","v":""},"","","","","","","",{"$f":"+IF(BZ413=\"\",\"\",MAX(CA$1:CA412)+1)","v":""},"","","","","","","",{"$f":"+IF(CH413=\"\",\"\",MAX(CI$1:CI412)+1)","v":""},"","","","","",null,{"$f":"+IF(CQ413=\"\",\"\",MAX(CP$1:CP412)+1)","v":""},{"$f":"IF(Compliance_Options!B435=\"\",\"\",Compliance_Options!B435)","v":""},{"$f":"IF(Compliance_Options!C435=\"\",\"\",Compliance_Options!C435)","v":""},{"$f":"IF(Compliance_Options!D435=\"\",\"\",Compliance_Options!D435)","v":""},"  ",{"$f":"IF(COUNTIF(CT$2:CT413,CT413)=1,CT413,\"\")","v":""},"","","",""]
[null,null,null,null,null,null,null,null,null,null,null,null,null,null,null,null,null,null,null,null,null,null,null,null,null,null,null,null,null,null,null,null,null,null,null,null,null,null,null,null,null,null,null,null,null,null,null,{"$f":"+IF(AW414=\"\",\"\",MAX(AV$1:AV413)+1)","v":""},{"$f":"IF(Compliance_Options!B436=\"\",\"\",Compliance_Options!B436)","v":""},{"$f":"IF(Compliance_Options!C436=\"\",\"\",Compliance_Options!C436)","v":""},{"$f":"IF(Compliance_Options!D436=\"\",\"\",Compliance_Options!D436)","v":""},{"$f":"IF(Compliance_Options!E436=\"\",\"\",Compliance_Options!E436)","v":""},{"$f":"IF(Compliance_Options!F436=\"\",\"\",Compliance_Options!F436)","v":""},"    ",{"$f":"IF(COUNTIF(BB$2:BB414,BB414)=1,BB414,\"\")","v":""},"","","","","","","",{"$f":"+IF(BJ414=\"\",\"\",MAX(BK$1:BK413)+1)","v":""},"","","","","","","",{"$f":"+IF(BR414=\"\",\"\",MAX(BS$1:BS413)+1)","v":""},"","","","","","","",{"$f":"+IF(BZ414=\"\",\"\",MAX(CA$1:CA413)+1)","v":""},"","","","","","","",{"$f":"+IF(CH414=\"\",\"\",MAX(CI$1:CI413)+1)","v":""},"","","","","",null,{"$f":"+IF(CQ414=\"\",\"\",MAX(CP$1:CP413)+1)","v":""},{"$f":"IF(Compliance_Options!B436=\"\",\"\",Compliance_Options!B436)","v":""},{"$f":"IF(Compliance_Options!C436=\"\",\"\",Compliance_Options!C436)","v":""},{"$f":"IF(Compliance_Options!D436=\"\",\"\",Compliance_Options!D436)","v":""},"  ",{"$f":"IF(COUNTIF(CT$2:CT414,CT414)=1,CT414,\"\")","v":""},"","","",""]
[null,null,null,null,null,null,null,null,null,null,null,null,null,null,null,null,null,null,null,null,null,null,null,null,null,null,null,null,null,null,null,null,null,null,null,null,null,null,null,null,null,null,null,null,null,null,null,{"$f":"+IF(AW415=\"\",\"\",MAX(AV$1:AV414)+1)","v":""},{"$f":"IF(Compliance_Options!B437=\"\",\"\",Compliance_Options!B437)","v":""},{"$f":"IF(Compliance_Options!C437=\"\",\"\",Compliance_Options!C437)","v":""},{"$f":"IF(Compliance_Options!D437=\"\",\"\",Compliance_Options!D437)","v":""},{"$f":"IF(Compliance_Options!E437=\"\",\"\",Compliance_Options!E437)","v":""},{"$f":"IF(Compliance_Options!F437=\"\",\"\",Compliance_Options!F437)","v":""},"    ",{"$f":"IF(COUNTIF(BB$2:BB415,BB415)=1,BB415,\"\")","v":""},"","","","","","","",{"$f":"+IF(BJ415=\"\",\"\",MAX(BK$1:BK414)+1)","v":""},"","","","","","","",{"$f":"+IF(BR415=\"\",\"\",MAX(BS$1:BS414)+1)","v":""},"","","","","","","",{"$f":"+IF(BZ415=\"\",\"\",MAX(CA$1:CA414)+1)","v":""},"","","","","","","",{"$f":"+IF(CH415=\"\",\"\",MAX(CI$1:CI414)+1)","v":""},"","","","","",null,{"$f":"+IF(CQ415=\"\",\"\",MAX(CP$1:CP414)+1)","v":""},{"$f":"IF(Compliance_Options!B437=\"\",\"\",Compliance_Options!B437)","v":""},{"$f":"IF(Compliance_Options!C437=\"\",\"\",Compliance_Options!C437)","v":""},{"$f":"IF(Compliance_Options!D437=\"\",\"\",Compliance_Options!D437)","v":""},"  ",{"$f":"IF(COUNTIF(CT$2:CT415,CT415)=1,CT415,\"\")","v":""},"","","",""]
[null,null,null,null,null,null,null,null,null,null,null,null,null,null,null,null,null,null,null,null,null,null,null,null,null,null,null,null,null,null,null,null,null,null,null,null,null,null,null,null,null,null,null,null,null,null,null,{"$f":"+IF(AW416=\"\",\"\",MAX(AV$1:AV415)+1)","v":""},{"$f":"IF(Compliance_Options!B438=\"\",\"\",Compliance_Options!B438)","v":""},{"$f":"IF(Compliance_Options!C438=\"\",\"\",Compliance_Options!C438)","v":""},{"$f":"IF(Compliance_Options!D438=\"\",\"\",Compliance_Options!D438)","v":""},{"$f":"IF(Compliance_Options!E438=\"\",\"\",Compliance_Options!E438)","v":""},{"$f":"IF(Compliance_Options!F438=\"\",\"\",Compliance_Options!F438)","v":""},"    ",{"$f":"IF(COUNTIF(BB$2:BB416,BB416)=1,BB416,\"\")","v":""},"","","","","","","",{"$f":"+IF(BJ416=\"\",\"\",MAX(BK$1:BK415)+1)","v":""},"","","","","","","",{"$f":"+IF(BR416=\"\",\"\",MAX(BS$1:BS415)+1)","v":""},"","","","","","","",{"$f":"+IF(BZ416=\"\",\"\",MAX(CA$1:CA415)+1)","v":""},"","","","","","","",{"$f":"+IF(CH416=\"\",\"\",MAX(CI$1:CI415)+1)","v":""},"","","","","",null,{"$f":"+IF(CQ416=\"\",\"\",MAX(CP$1:CP415)+1)","v":""},{"$f":"IF(Compliance_Options!B438=\"\",\"\",Compliance_Options!B438)","v":""},{"$f":"IF(Compliance_Options!C438=\"\",\"\",Compliance_Options!C438)","v":""},{"$f":"IF(Compliance_Options!D438=\"\",\"\",Compliance_Options!D438)","v":""},"  ",{"$f":"IF(COUNTIF(CT$2:CT416,CT416)=1,CT416,\"\")","v":""},"","","",""]
[null,null,null,null,null,null,null,null,null,null,null,null,null,null,null,null,null,null,null,null,null,null,null,null,null,null,null,null,null,null,null,null,null,null,null,null,null,null,null,null,null,null,null,null,null,null,null,{"$f":"+IF(AW417=\"\",\"\",MAX(AV$1:AV416)+1)","v":""},{"$f":"IF(Compliance_Options!B439=\"\",\"\",Compliance_Options!B439)","v":""},{"$f":"IF(Compliance_Options!C439=\"\",\"\",Compliance_Options!C439)","v":""},{"$f":"IF(Compliance_Options!D439=\"\",\"\",Compliance_Options!D439)","v":""},{"$f":"IF(Compliance_Options!E439=\"\",\"\",Compliance_Options!E439)","v":""},{"$f":"IF(Compliance_Options!F439=\"\",\"\",Compliance_Options!F439)","v":""},"    ",{"$f":"IF(COUNTIF(BB$2:BB417,BB417)=1,BB417,\"\")","v":""},"","","","","","","",{"$f":"+IF(BJ417=\"\",\"\",MAX(BK$1:BK416)+1)","v":""},"","","","","","","",{"$f":"+IF(BR417=\"\",\"\",MAX(BS$1:BS416)+1)","v":""},"","","","","","","",{"$f":"+IF(BZ417=\"\",\"\",MAX(CA$1:CA416)+1)","v":""},"","","","","","","",{"$f":"+IF(CH417=\"\",\"\",MAX(CI$1:CI416)+1)","v":""},"","","","","",null,{"$f":"+IF(CQ417=\"\",\"\",MAX(CP$1:CP416)+1)","v":""},{"$f":"IF(Compliance_Options!B439=\"\",\"\",Compliance_Options!B439)","v":""},{"$f":"IF(Compliance_Options!C439=\"\",\"\",Compliance_Options!C439)","v":""},{"$f":"IF(Compliance_Options!D439=\"\",\"\",Compliance_Options!D439)","v":""},"  ",{"$f":"IF(COUNTIF(CT$2:CT417,CT417)=1,CT417,\"\")","v":""},"","","",""]
[null,null,null,null,null,null,null,null,null,null,null,null,null,null,null,null,null,null,null,null,null,null,null,null,null,null,null,null,null,null,null,null,null,null,null,null,null,null,null,null,null,null,null,null,null,null,null,{"$f":"+IF(AW418=\"\",\"\",MAX(AV$1:AV417)+1)","v":""},{"$f":"IF(Compliance_Options!B440=\"\",\"\",Compliance_Options!B440)","v":""},{"$f":"IF(Compliance_Options!C440=\"\",\"\",Compliance_Options!C440)","v":""},{"$f":"IF(Compliance_Options!D440=\"\",\"\",Compliance_Options!D440)","v":""},{"$f":"IF(Compliance_Options!E440=\"\",\"\",Compliance_Options!E440)","v":""},{"$f":"IF(Compliance_Options!F440=\"\",\"\",Compliance_Options!F440)","v":""},"    ",{"$f":"IF(COUNTIF(BB$2:BB418,BB418)=1,BB418,\"\")","v":""},"","","","","","","",{"$f":"+IF(BJ418=\"\",\"\",MAX(BK$1:BK417)+1)","v":""},"","","","","","","",{"$f":"+IF(BR418=\"\",\"\",MAX(BS$1:BS417)+1)","v":""},"","","","","","","",{"$f":"+IF(BZ418=\"\",\"\",MAX(CA$1:CA417)+1)","v":""},"","","","","","","",{"$f":"+IF(CH418=\"\",\"\",MAX(CI$1:CI417)+1)","v":""},"","","","","",null,{"$f":"+IF(CQ418=\"\",\"\",MAX(CP$1:CP417)+1)","v":""},{"$f":"IF(Compliance_Options!B440=\"\",\"\",Compliance_Options!B440)","v":""},{"$f":"IF(Compliance_Options!C440=\"\",\"\",Compliance_Options!C440)","v":""},{"$f":"IF(Compliance_Options!D440=\"\",\"\",Compliance_Options!D440)","v":""},"  ",{"$f":"IF(COUNTIF(CT$2:CT418,CT418)=1,CT418,\"\")","v":""},"","","",""]
[null,null,null,null,null,null,null,null,null,null,null,null,null,null,null,null,null,null,null,null,null,null,null,null,null,null,null,null,null,null,null,null,null,null,null,null,null,null,null,null,null,null,null,null,null,null,null,{"$f":"+IF(AW419=\"\",\"\",MAX(AV$1:AV418)+1)","v":""},{"$f":"IF(Compliance_Options!B441=\"\",\"\",Compliance_Options!B441)","v":""},{"$f":"IF(Compliance_Options!C441=\"\",\"\",Compliance_Options!C441)","v":""},{"$f":"IF(Compliance_Options!D441=\"\",\"\",Compliance_Options!D441)","v":""},{"$f":"IF(Compliance_Options!E441=\"\",\"\",Compliance_Options!E441)","v":""},{"$f":"IF(Compliance_Options!F441=\"\",\"\",Compliance_Options!F441)","v":""},"    ",{"$f":"IF(COUNTIF(BB$2:BB419,BB419)=1,BB419,\"\")","v":""},"","","","","","","",{"$f":"+IF(BJ419=\"\",\"\",MAX(BK$1:BK418)+1)","v":""},"","","","","","","",{"$f":"+IF(BR419=\"\",\"\",MAX(BS$1:BS418)+1)","v":""},"","","","","","","",{"$f":"+IF(BZ419=\"\",\"\",MAX(CA$1:CA418)+1)","v":""},"","","","","","","",{"$f":"+IF(CH419=\"\",\"\",MAX(CI$1:CI418)+1)","v":""},"","","","","",null,{"$f":"+IF(CQ419=\"\",\"\",MAX(CP$1:CP418)+1)","v":""},{"$f":"IF(Compliance_Options!B441=\"\",\"\",Compliance_Options!B441)","v":""},{"$f":"IF(Compliance_Options!C441=\"\",\"\",Compliance_Options!C441)","v":""},{"$f":"IF(Compliance_Options!D441=\"\",\"\",Compliance_Options!D441)","v":""},"  ",{"$f":"IF(COUNTIF(CT$2:CT419,CT419)=1,CT419,\"\")","v":""},"","","",""]
[null,null,null,null,null,null,null,null,null,null,null,null,null,null,null,null,null,null,null,null,null,null,null,null,null,null,null,null,null,null,null,null,null,null,null,null,null,null,null,null,null,null,null,null,null,null,null,{"$f":"+IF(AW420=\"\",\"\",MAX(AV$1:AV419)+1)","v":""},{"$f":"IF(Compliance_Options!B442=\"\",\"\",Compliance_Options!B442)","v":""},{"$f":"IF(Compliance_Options!C442=\"\",\"\",Compliance_Options!C442)","v":""},{"$f":"IF(Compliance_Options!D442=\"\",\"\",Compliance_Options!D442)","v":""},{"$f":"IF(Compliance_Options!E442=\"\",\"\",Compliance_Options!E442)","v":""},{"$f":"IF(Compliance_Options!F442=\"\",\"\",Compliance_Options!F442)","v":""},"    ",{"$f":"IF(COUNTIF(BB$2:BB420,BB420)=1,BB420,\"\")","v":""},"","","","","","","",{"$f":"+IF(BJ420=\"\",\"\",MAX(BK$1:BK419)+1)","v":""},"","","","","","","",{"$f":"+IF(BR420=\"\",\"\",MAX(BS$1:BS419)+1)","v":""},"","","","","","","",{"$f":"+IF(BZ420=\"\",\"\",MAX(CA$1:CA419)+1)","v":""},"","","","","","","",{"$f":"+IF(CH420=\"\",\"\",MAX(CI$1:CI419)+1)","v":""},"","","","","",null,{"$f":"+IF(CQ420=\"\",\"\",MAX(CP$1:CP419)+1)","v":""},{"$f":"IF(Compliance_Options!B442=\"\",\"\",Compliance_Options!B442)","v":""},{"$f":"IF(Compliance_Options!C442=\"\",\"\",Compliance_Options!C442)","v":""},{"$f":"IF(Compliance_Options!D442=\"\",\"\",Compliance_Options!D442)","v":""},"  ",{"$f":"IF(COUNTIF(CT$2:CT420,CT420)=1,CT420,\"\")","v":""},"","","",""]
[null,null,null,null,null,null,null,null,null,null,null,null,null,null,null,null,null,null,null,null,null,null,null,null,null,null,null,null,null,null,null,null,null,null,null,null,null,null,null,null,null,null,null,null,null,null,null,{"$f":"+IF(AW421=\"\",\"\",MAX(AV$1:AV420)+1)","v":""},{"$f":"IF(Compliance_Options!B443=\"\",\"\",Compliance_Options!B443)","v":""},{"$f":"IF(Compliance_Options!C443=\"\",\"\",Compliance_Options!C443)","v":""},{"$f":"IF(Compliance_Options!D443=\"\",\"\",Compliance_Options!D443)","v":""},{"$f":"IF(Compliance_Options!E443=\"\",\"\",Compliance_Options!E443)","v":""},{"$f":"IF(Compliance_Options!F443=\"\",\"\",Compliance_Options!F443)","v":""},"    ",{"$f":"IF(COUNTIF(BB$2:BB421,BB421)=1,BB421,\"\")","v":""},"","","","","","","",{"$f":"+IF(BJ421=\"\",\"\",MAX(BK$1:BK420)+1)","v":""},"","","","","","","",{"$f":"+IF(BR421=\"\",\"\",MAX(BS$1:BS420)+1)","v":""},"","","","","","","",{"$f":"+IF(BZ421=\"\",\"\",MAX(CA$1:CA420)+1)","v":""},"","","","","","","",{"$f":"+IF(CH421=\"\",\"\",MAX(CI$1:CI420)+1)","v":""},"","","","","",null,{"$f":"+IF(CQ421=\"\",\"\",MAX(CP$1:CP420)+1)","v":""},{"$f":"IF(Compliance_Options!B443=\"\",\"\",Compliance_Options!B443)","v":""},{"$f":"IF(Compliance_Options!C443=\"\",\"\",Compliance_Options!C443)","v":""},{"$f":"IF(Compliance_Options!D443=\"\",\"\",Compliance_Options!D443)","v":""},"  ",{"$f":"IF(COUNTIF(CT$2:CT421,CT421)=1,CT421,\"\")","v":""},"","","",""]
[null,null,null,null,null,null,null,null,null,null,null,null,null,null,null,null,null,null,null,null,null,null,null,null,null,null,null,null,null,null,null,null,null,null,null,null,null,null,null,null,null,null,null,null,null,null,null,{"$f":"+IF(AW422=\"\",\"\",MAX(AV$1:AV421)+1)","v":""},{"$f":"IF(Compliance_Options!B444=\"\",\"\",Compliance_Options!B444)","v":""},{"$f":"IF(Compliance_Options!C444=\"\",\"\",Compliance_Options!C444)","v":""},{"$f":"IF(Compliance_Options!D444=\"\",\"\",Compliance_Options!D444)","v":""},{"$f":"IF(Compliance_Options!E444=\"\",\"\",Compliance_Options!E444)","v":""},{"$f":"IF(Compliance_Options!F444=\"\",\"\",Compliance_Options!F444)","v":""},"    ",{"$f":"IF(COUNTIF(BB$2:BB422,BB422)=1,BB422,\"\")","v":""},"","","","","","","",{"$f":"+IF(BJ422=\"\",\"\",MAX(BK$1:BK421)+1)","v":""},"","","","","","","",{"$f":"+IF(BR422=\"\",\"\",MAX(BS$1:BS421)+1)","v":""},"","","","","","","",{"$f":"+IF(BZ422=\"\",\"\",MAX(CA$1:CA421)+1)","v":""},"","","","","","","",{"$f":"+IF(CH422=\"\",\"\",MAX(CI$1:CI421)+1)","v":""},"","","","","",null,{"$f":"+IF(CQ422=\"\",\"\",MAX(CP$1:CP421)+1)","v":""},{"$f":"IF(Compliance_Options!B444=\"\",\"\",Compliance_Options!B444)","v":""},{"$f":"IF(Compliance_Options!C444=\"\",\"\",Compliance_Options!C444)","v":""},{"$f":"IF(Compliance_Options!D444=\"\",\"\",Compliance_Options!D444)","v":""},"  ",{"$f":"IF(COUNTIF(CT$2:CT422,CT422)=1,CT422,\"\")","v":""},"","","",""]
[null,null,null,null,null,null,null,null,null,null,null,null,null,null,null,null,null,null,null,null,null,null,null,null,null,null,null,null,null,null,null,null,null,null,null,null,null,null,null,null,null,null,null,null,null,null,null,{"$f":"+IF(AW423=\"\",\"\",MAX(AV$1:AV422)+1)","v":""},{"$f":"IF(Compliance_Options!B445=\"\",\"\",Compliance_Options!B445)","v":""},{"$f":"IF(Compliance_Options!C445=\"\",\"\",Compliance_Options!C445)","v":""},{"$f":"IF(Compliance_Options!D445=\"\",\"\",Compliance_Options!D445)","v":""},{"$f":"IF(Compliance_Options!E445=\"\",\"\",Compliance_Options!E445)","v":""},{"$f":"IF(Compliance_Options!F445=\"\",\"\",Compliance_Options!F445)","v":""},"    ",{"$f":"IF(COUNTIF(BB$2:BB423,BB423)=1,BB423,\"\")","v":""},"","","","","","","",{"$f":"+IF(BJ423=\"\",\"\",MAX(BK$1:BK422)+1)","v":""},"","","","","","","",{"$f":"+IF(BR423=\"\",\"\",MAX(BS$1:BS422)+1)","v":""},"","","","","","","",{"$f":"+IF(BZ423=\"\",\"\",MAX(CA$1:CA422)+1)","v":""},"","","","","","","",{"$f":"+IF(CH423=\"\",\"\",MAX(CI$1:CI422)+1)","v":""},"","","","","",null,{"$f":"+IF(CQ423=\"\",\"\",MAX(CP$1:CP422)+1)","v":""},{"$f":"IF(Compliance_Options!B445=\"\",\"\",Compliance_Options!B445)","v":""},{"$f":"IF(Compliance_Options!C445=\"\",\"\",Compliance_Options!C445)","v":""},{"$f":"IF(Compliance_Options!D445=\"\",\"\",Compliance_Options!D445)","v":""},"  ",{"$f":"IF(COUNTIF(CT$2:CT423,CT423)=1,CT423,\"\")","v":""},"","","",""]
[null,null,null,null,null,null,null,null,null,null,null,null,null,null,null,null,null,null,null,null,null,null,null,null,null,null,null,null,null,null,null,null,null,null,null,null,null,null,null,null,null,null,null,null,null,null,null,{"$f":"+IF(AW424=\"\",\"\",MAX(AV$1:AV423)+1)","v":""},{"$f":"IF(Compliance_Options!B446=\"\",\"\",Compliance_Options!B446)","v":""},{"$f":"IF(Compliance_Options!C446=\"\",\"\",Compliance_Options!C446)","v":""},{"$f":"IF(Compliance_Options!D446=\"\",\"\",Compliance_Options!D446)","v":""},{"$f":"IF(Compliance_Options!E446=\"\",\"\",Compliance_Options!E446)","v":""},{"$f":"IF(Compliance_Options!F446=\"\",\"\",Compliance_Options!F446)","v":""},"    ",{"$f":"IF(COUNTIF(BB$2:BB424,BB424)=1,BB424,\"\")","v":""},"","","","","","","",{"$f":"+IF(BJ424=\"\",\"\",MAX(BK$1:BK423)+1)","v":""},"","","","","","","",{"$f":"+IF(BR424=\"\",\"\",MAX(BS$1:BS423)+1)","v":""},"","","","","","","",{"$f":"+IF(BZ424=\"\",\"\",MAX(CA$1:CA423)+1)","v":""},"","","","","","","",{"$f":"+IF(CH424=\"\",\"\",MAX(CI$1:CI423)+1)","v":""},"","","","","",null,{"$f":"+IF(CQ424=\"\",\"\",MAX(CP$1:CP423)+1)","v":""},{"$f":"IF(Compliance_Options!B446=\"\",\"\",Compliance_Options!B446)","v":""},{"$f":"IF(Compliance_Options!C446=\"\",\"\",Compliance_Options!C446)","v":""},{"$f":"IF(Compliance_Options!D446=\"\",\"\",Compliance_Options!D446)","v":""},"  ",{"$f":"IF(COUNTIF(CT$2:CT424,CT424)=1,CT424,\"\")","v":""},"","","",""]
[null,null,null,null,null,null,null,null,null,null,null,null,null,null,null,null,null,null,null,null,null,null,null,null,null,null,null,null,null,null,null,null,null,null,null,null,null,null,null,null,null,null,null,null,null,null,null,{"$f":"+IF(AW425=\"\",\"\",MAX(AV$1:AV424)+1)","v":""},{"$f":"IF(Compliance_Options!B447=\"\",\"\",Compliance_Options!B447)","v":""},{"$f":"IF(Compliance_Options!C447=\"\",\"\",Compliance_Options!C447)","v":""},{"$f":"IF(Compliance_Options!D447=\"\",\"\",Compliance_Options!D447)","v":""},{"$f":"IF(Compliance_Options!E447=\"\",\"\",Compliance_Options!E447)","v":""},{"$f":"IF(Compliance_Options!F447=\"\",\"\",Compliance_Options!F447)","v":""},"    ",{"$f":"IF(COUNTIF(BB$2:BB425,BB425)=1,BB425,\"\")","v":""},"","","","","","","",{"$f":"+IF(BJ425=\"\",\"\",MAX(BK$1:BK424)+1)","v":""},"","","","","","","",{"$f":"+IF(BR425=\"\",\"\",MAX(BS$1:BS424)+1)","v":""},"","","","","","","",{"$f":"+IF(BZ425=\"\",\"\",MAX(CA$1:CA424)+1)","v":""},"","","","","","","",{"$f":"+IF(CH425=\"\",\"\",MAX(CI$1:CI424)+1)","v":""},"","","","","",null,{"$f":"+IF(CQ425=\"\",\"\",MAX(CP$1:CP424)+1)","v":""},{"$f":"IF(Compliance_Options!B447=\"\",\"\",Compliance_Options!B447)","v":""},{"$f":"IF(Compliance_Options!C447=\"\",\"\",Compliance_Options!C447)","v":""},{"$f":"IF(Compliance_Options!D447=\"\",\"\",Compliance_Options!D447)","v":""},"  ",{"$f":"IF(COUNTIF(CT$2:CT425,CT425)=1,CT425,\"\")","v":""},"","","",""]
[null,null,null,null,null,null,null,null,null,null,null,null,null,null,null,null,null,null,null,null,null,null,null,null,null,null,null,null,null,null,null,null,null,null,null,null,null,null,null,null,null,null,null,null,null,null,null,{"$f":"+IF(AW426=\"\",\"\",MAX(AV$1:AV425)+1)","v":""},{"$f":"IF(Compliance_Options!B448=\"\",\"\",Compliance_Options!B448)","v":""},{"$f":"IF(Compliance_Options!C448=\"\",\"\",Compliance_Options!C448)","v":""},{"$f":"IF(Compliance_Options!D448=\"\",\"\",Compliance_Options!D448)","v":""},{"$f":"IF(Compliance_Options!E448=\"\",\"\",Compliance_Options!E448)","v":""},{"$f":"IF(Compliance_Options!F448=\"\",\"\",Compliance_Options!F448)","v":""},"    ",{"$f":"IF(COUNTIF(BB$2:BB426,BB426)=1,BB426,\"\")","v":""},"","","","","","","",{"$f":"+IF(BJ426=\"\",\"\",MAX(BK$1:BK425)+1)","v":""},"","","","","","","",{"$f":"+IF(BR426=\"\",\"\",MAX(BS$1:BS425)+1)","v":""},"","","","","","","",{"$f":"+IF(BZ426=\"\",\"\",MAX(CA$1:CA425)+1)","v":""},"","","","","","","",{"$f":"+IF(CH426=\"\",\"\",MAX(CI$1:CI425)+1)","v":""},"","","","","",null,{"$f":"+IF(CQ426=\"\",\"\",MAX(CP$1:CP425)+1)","v":""},{"$f":"IF(Compliance_Options!B448=\"\",\"\",Compliance_Options!B448)","v":""},{"$f":"IF(Compliance_Options!C448=\"\",\"\",Compliance_Options!C448)","v":""},{"$f":"IF(Compliance_Options!D448=\"\",\"\",Compliance_Options!D448)","v":""},"  ",{"$f":"IF(COUNTIF(CT$2:CT426,CT426)=1,CT426,\"\")","v":""},"","","",""]
[null,null,null,null,null,null,null,null,null,null,null,null,null,null,null,null,null,null,null,null,null,null,null,null,null,null,null,null,null,null,null,null,null,null,null,null,null,null,null,null,null,null,null,null,null,null,null,{"$f":"+IF(AW427=\"\",\"\",MAX(AV$1:AV426)+1)","v":""},{"$f":"IF(Compliance_Options!B449=\"\",\"\",Compliance_Options!B449)","v":""},{"$f":"IF(Compliance_Options!C449=\"\",\"\",Compliance_Options!C449)","v":""},{"$f":"IF(Compliance_Options!D449=\"\",\"\",Compliance_Options!D449)","v":""},{"$f":"IF(Compliance_Options!E449=\"\",\"\",Compliance_Options!E449)","v":""},{"$f":"IF(Compliance_Options!F449=\"\",\"\",Compliance_Options!F449)","v":""},"    ",{"$f":"IF(COUNTIF(BB$2:BB427,BB427)=1,BB427,\"\")","v":""},"","","","","","","",{"$f":"+IF(BJ427=\"\",\"\",MAX(BK$1:BK426)+1)","v":""},"","","","","","","",{"$f":"+IF(BR427=\"\",\"\",MAX(BS$1:BS426)+1)","v":""},"","","","","","","",{"$f":"+IF(BZ427=\"\",\"\",MAX(CA$1:CA426)+1)","v":""},"","","","","","","",{"$f":"+IF(CH427=\"\",\"\",MAX(CI$1:CI426)+1)","v":""},"","","","","",null,{"$f":"+IF(CQ427=\"\",\"\",MAX(CP$1:CP426)+1)","v":""},{"$f":"IF(Compliance_Options!B449=\"\",\"\",Compliance_Options!B449)","v":""},{"$f":"IF(Compliance_Options!C449=\"\",\"\",Compliance_Options!C449)","v":""},{"$f":"IF(Compliance_Options!D449=\"\",\"\",Compliance_Options!D449)","v":""},"  ",{"$f":"IF(COUNTIF(CT$2:CT427,CT427)=1,CT427,\"\")","v":""},"","","",""]
[null,null,null,null,null,null,null,null,null,null,null,null,null,null,null,null,null,null,null,null,null,null,null,null,null,null,null,null,null,null,null,null,null,null,null,null,null,null,null,null,null,null,null,null,null,null,null,{"$f":"+IF(AW428=\"\",\"\",MAX(AV$1:AV427)+1)","v":""},{"$f":"IF(Compliance_Options!B450=\"\",\"\",Compliance_Options!B450)","v":""},{"$f":"IF(Compliance_Options!C450=\"\",\"\",Compliance_Options!C450)","v":""},{"$f":"IF(Compliance_Options!D450=\"\",\"\",Compliance_Options!D450)","v":""},{"$f":"IF(Compliance_Options!E450=\"\",\"\",Compliance_Options!E450)","v":""},{"$f":"IF(Compliance_Options!F450=\"\",\"\",Compliance_Options!F450)","v":""},"    ",{"$f":"IF(COUNTIF(BB$2:BB428,BB428)=1,BB428,\"\")","v":""},"","","","","","","",{"$f":"+IF(BJ428=\"\",\"\",MAX(BK$1:BK427)+1)","v":""},"","","","","","","",{"$f":"+IF(BR428=\"\",\"\",MAX(BS$1:BS427)+1)","v":""},"","","","","","","",{"$f":"+IF(BZ428=\"\",\"\",MAX(CA$1:CA427)+1)","v":""},"","","","","","","",{"$f":"+IF(CH428=\"\",\"\",MAX(CI$1:CI427)+1)","v":""},"","","","","",null,{"$f":"+IF(CQ428=\"\",\"\",MAX(CP$1:CP427)+1)","v":""},{"$f":"IF(Compliance_Options!B450=\"\",\"\",Compliance_Options!B450)","v":""},{"$f":"IF(Compliance_Options!C450=\"\",\"\",Compliance_Options!C450)","v":""},{"$f":"IF(Compliance_Options!D450=\"\",\"\",Compliance_Options!D450)","v":""},"  ",{"$f":"IF(COUNTIF(CT$2:CT428,CT428)=1,CT428,\"\")","v":""},"","","",""]
[null,null,null,null,null,null,null,null,null,null,null,null,null,null,null,null,null,null,null,null,null,null,null,null,null,null,null,null,null,null,null,null,null,null,null,null,null,null,null,null,null,null,null,null,null,null,null,{"$f":"+IF(AW429=\"\",\"\",MAX(AV$1:AV428)+1)","v":""},{"$f":"IF(Compliance_Options!B451=\"\",\"\",Compliance_Options!B451)","v":""},{"$f":"IF(Compliance_Options!C451=\"\",\"\",Compliance_Options!C451)","v":""},{"$f":"IF(Compliance_Options!D451=\"\",\"\",Compliance_Options!D451)","v":""},{"$f":"IF(Compliance_Options!E451=\"\",\"\",Compliance_Options!E451)","v":""},{"$f":"IF(Compliance_Options!F451=\"\",\"\",Compliance_Options!F451)","v":""},"    ",{"$f":"IF(COUNTIF(BB$2:BB429,BB429)=1,BB429,\"\")","v":""},"","","","","","","",{"$f":"+IF(BJ429=\"\",\"\",MAX(BK$1:BK428)+1)","v":""},"","","","","","","",{"$f":"+IF(BR429=\"\",\"\",MAX(BS$1:BS428)+1)","v":""},"","","","","","","",{"$f":"+IF(BZ429=\"\",\"\",MAX(CA$1:CA428)+1)","v":""},"","","","","","","",{"$f":"+IF(CH429=\"\",\"\",MAX(CI$1:CI428)+1)","v":""},"","","","","",null,{"$f":"+IF(CQ429=\"\",\"\",MAX(CP$1:CP428)+1)","v":""},{"$f":"IF(Compliance_Options!B451=\"\",\"\",Compliance_Options!B451)","v":""},{"$f":"IF(Compliance_Options!C451=\"\",\"\",Compliance_Options!C451)","v":""},{"$f":"IF(Compliance_Options!D451=\"\",\"\",Compliance_Options!D451)","v":""},"  ",{"$f":"IF(COUNTIF(CT$2:CT429,CT429)=1,CT429,\"\")","v":""},"","","",""]
[null,null,null,null,null,null,null,null,null,null,null,null,null,null,null,null,null,null,null,null,null,null,null,null,null,null,null,null,null,null,null,null,null,null,null,null,null,null,null,null,null,null,null,null,null,null,null,{"$f":"+IF(AW430=\"\",\"\",MAX(AV$1:AV429)+1)","v":""},{"$f":"IF(Compliance_Options!B452=\"\",\"\",Compliance_Options!B452)","v":""},{"$f":"IF(Compliance_Options!C452=\"\",\"\",Compliance_Options!C452)","v":""},{"$f":"IF(Compliance_Options!D452=\"\",\"\",Compliance_Options!D452)","v":""},{"$f":"IF(Compliance_Options!E452=\"\",\"\",Compliance_Options!E452)","v":""},{"$f":"IF(Compliance_Options!F452=\"\",\"\",Compliance_Options!F452)","v":""},"    ",{"$f":"IF(COUNTIF(BB$2:BB430,BB430)=1,BB430,\"\")","v":""},"","","","","","","",{"$f":"+IF(BJ430=\"\",\"\",MAX(BK$1:BK429)+1)","v":""},"","","","","","","",{"$f":"+IF(BR430=\"\",\"\",MAX(BS$1:BS429)+1)","v":""},"","","","","","","",{"$f":"+IF(BZ430=\"\",\"\",MAX(CA$1:CA429)+1)","v":""},"","","","","","","",{"$f":"+IF(CH430=\"\",\"\",MAX(CI$1:CI429)+1)","v":""},"","","","","",null,{"$f":"+IF(CQ430=\"\",\"\",MAX(CP$1:CP429)+1)","v":""},{"$f":"IF(Compliance_Options!B452=\"\",\"\",Compliance_Options!B452)","v":""},{"$f":"IF(Compliance_Options!C452=\"\",\"\",Compliance_Options!C452)","v":""},{"$f":"IF(Compliance_Options!D452=\"\",\"\",Compliance_Options!D452)","v":""},"  ",{"$f":"IF(COUNTIF(CT$2:CT430,CT430)=1,CT430,\"\")","v":""},"","","",""]
[null,null,null,null,null,null,null,null,null,null,null,null,null,null,null,null,null,null,null,null,null,null,null,null,null,null,null,null,null,null,null,null,null,null,null,null,null,null,null,null,null,null,null,null,null,null,null,{"$f":"+IF(AW431=\"\",\"\",MAX(AV$1:AV430)+1)","v":""},{"$f":"IF(Compliance_Options!B453=\"\",\"\",Compliance_Options!B453)","v":""},{"$f":"IF(Compliance_Options!C453=\"\",\"\",Compliance_Options!C453)","v":""},{"$f":"IF(Compliance_Options!D453=\"\",\"\",Compliance_Options!D453)","v":""},{"$f":"IF(Compliance_Options!E453=\"\",\"\",Compliance_Options!E453)","v":""},{"$f":"IF(Compliance_Options!F453=\"\",\"\",Compliance_Options!F453)","v":""},"    ",{"$f":"IF(COUNTIF(BB$2:BB431,BB431)=1,BB431,\"\")","v":""},"","","","","","","",{"$f":"+IF(BJ431=\"\",\"\",MAX(BK$1:BK430)+1)","v":""},"","","","","","","",{"$f":"+IF(BR431=\"\",\"\",MAX(BS$1:BS430)+1)","v":""},"","","","","","","",{"$f":"+IF(BZ431=\"\",\"\",MAX(CA$1:CA430)+1)","v":""},"","","","","","","",{"$f":"+IF(CH431=\"\",\"\",MAX(CI$1:CI430)+1)","v":""},"","","","","",null,{"$f":"+IF(CQ431=\"\",\"\",MAX(CP$1:CP430)+1)","v":""},{"$f":"IF(Compliance_Options!B453=\"\",\"\",Compliance_Options!B453)","v":""},{"$f":"IF(Compliance_Options!C453=\"\",\"\",Compliance_Options!C453)","v":""},{"$f":"IF(Compliance_Options!D453=\"\",\"\",Compliance_Options!D453)","v":""},"  ",{"$f":"IF(COUNTIF(CT$2:CT431,CT431)=1,CT431,\"\")","v":""},"","","",""]
[null,null,null,null,null,null,null,null,null,null,null,null,null,null,null,null,null,null,null,null,null,null,null,null,null,null,null,null,null,null,null,null,null,null,null,null,null,null,null,null,null,null,null,null,null,null,null,{"$f":"+IF(AW432=\"\",\"\",MAX(AV$1:AV431)+1)","v":""},{"$f":"IF(Compliance_Options!B454=\"\",\"\",Compliance_Options!B454)","v":""},{"$f":"IF(Compliance_Options!C454=\"\",\"\",Compliance_Options!C454)","v":""},{"$f":"IF(Compliance_Options!D454=\"\",\"\",Compliance_Options!D454)","v":""},{"$f":"IF(Compliance_Options!E454=\"\",\"\",Compliance_Options!E454)","v":""},{"$f":"IF(Compliance_Options!F454=\"\",\"\",Compliance_Options!F454)","v":""},"    ",{"$f":"IF(COUNTIF(BB$2:BB432,BB432)=1,BB432,\"\")","v":""},"","","","","","","",{"$f":"+IF(BJ432=\"\",\"\",MAX(BK$1:BK431)+1)","v":""},"","","","","","","",{"$f":"+IF(BR432=\"\",\"\",MAX(BS$1:BS431)+1)","v":""},"","","","","","","",{"$f":"+IF(BZ432=\"\",\"\",MAX(CA$1:CA431)+1)","v":""},"","","","","","","",{"$f":"+IF(CH432=\"\",\"\",MAX(CI$1:CI431)+1)","v":""},"","","","","",null,{"$f":"+IF(CQ432=\"\",\"\",MAX(CP$1:CP431)+1)","v":""},{"$f":"IF(Compliance_Options!B454=\"\",\"\",Compliance_Options!B454)","v":""},{"$f":"IF(Compliance_Options!C454=\"\",\"\",Compliance_Options!C454)","v":""},{"$f":"IF(Compliance_Options!D454=\"\",\"\",Compliance_Options!D454)","v":""},"  ",{"$f":"IF(COUNTIF(CT$2:CT432,CT432)=1,CT432,\"\")","v":""},"","","",""]
[null,null,null,null,null,null,null,null,null,null,null,null,null,null,null,null,null,null,null,null,null,null,null,null,null,null,null,null,null,null,null,null,null,null,null,null,null,null,null,null,null,null,null,null,null,null,null,{"$f":"+IF(AW433=\"\",\"\",MAX(AV$1:AV432)+1)","v":""},{"$f":"IF(Compliance_Options!B455=\"\",\"\",Compliance_Options!B455)","v":""},{"$f":"IF(Compliance_Options!C455=\"\",\"\",Compliance_Options!C455)","v":""},{"$f":"IF(Compliance_Options!D455=\"\",\"\",Compliance_Options!D455)","v":""},{"$f":"IF(Compliance_Options!E455=\"\",\"\",Compliance_Options!E455)","v":""},{"$f":"IF(Compliance_Options!F455=\"\",\"\",Compliance_Options!F455)","v":""},"    ",{"$f":"IF(COUNTIF(BB$2:BB433,BB433)=1,BB433,\"\")","v":""},"","","","","","","",{"$f":"+IF(BJ433=\"\",\"\",MAX(BK$1:BK432)+1)","v":""},"","","","","","","",{"$f":"+IF(BR433=\"\",\"\",MAX(BS$1:BS432)+1)","v":""},"","","","","","","",{"$f":"+IF(BZ433=\"\",\"\",MAX(CA$1:CA432)+1)","v":""},"","","","","","","",{"$f":"+IF(CH433=\"\",\"\",MAX(CI$1:CI432)+1)","v":""},"","","","","",null,{"$f":"+IF(CQ433=\"\",\"\",MAX(CP$1:CP432)+1)","v":""},{"$f":"IF(Compliance_Options!B455=\"\",\"\",Compliance_Options!B455)","v":""},{"$f":"IF(Compliance_Options!C455=\"\",\"\",Compliance_Options!C455)","v":""},{"$f":"IF(Compliance_Options!D455=\"\",\"\",Compliance_Options!D455)","v":""},"  ",{"$f":"IF(COUNTIF(CT$2:CT433,CT433)=1,CT433,\"\")","v":""},"","","",""]
[null,null,null,null,null,null,null,null,null,null,null,null,null,null,null,null,null,null,null,null,null,null,null,null,null,null,null,null,null,null,null,null,null,null,null,null,null,null,null,null,null,null,null,null,null,null,null,{"$f":"+IF(AW434=\"\",\"\",MAX(AV$1:AV433)+1)","v":""},{"$f":"IF(Compliance_Options!B456=\"\",\"\",Compliance_Options!B456)","v":""},{"$f":"IF(Compliance_Options!C456=\"\",\"\",Compliance_Options!C456)","v":""},{"$f":"IF(Compliance_Options!D456=\"\",\"\",Compliance_Options!D456)","v":""},{"$f":"IF(Compliance_Options!E456=\"\",\"\",Compliance_Options!E456)","v":""},{"$f":"IF(Compliance_Options!F456=\"\",\"\",Compliance_Options!F456)","v":""},"    ",{"$f":"IF(COUNTIF(BB$2:BB434,BB434)=1,BB434,\"\")","v":""},"","","","","","","",{"$f":"+IF(BJ434=\"\",\"\",MAX(BK$1:BK433)+1)","v":""},"","","","","","","",{"$f":"+IF(BR434=\"\",\"\",MAX(BS$1:BS433)+1)","v":""},"","","","","","","",{"$f":"+IF(BZ434=\"\",\"\",MAX(CA$1:CA433)+1)","v":""},"","","","","","","",{"$f":"+IF(CH434=\"\",\"\",MAX(CI$1:CI433)+1)","v":""},"","","","","",null,{"$f":"+IF(CQ434=\"\",\"\",MAX(CP$1:CP433)+1)","v":""},{"$f":"IF(Compliance_Options!B456=\"\",\"\",Compliance_Options!B456)","v":""},{"$f":"IF(Compliance_Options!C456=\"\",\"\",Compliance_Options!C456)","v":""},{"$f":"IF(Compliance_Options!D456=\"\",\"\",Compliance_Options!D456)","v":""},"  ",{"$f":"IF(COUNTIF(CT$2:CT434,CT434)=1,CT434,\"\")","v":""},"","","",""]
[null,null,null,null,null,null,null,null,null,null,null,null,null,null,null,null,null,null,null,null,null,null,null,null,null,null,null,null,null,null,null,null,null,null,null,null,null,null,null,null,null,null,null,null,null,null,null,{"$f":"+IF(AW435=\"\",\"\",MAX(AV$1:AV434)+1)","v":""},{"$f":"IF(Compliance_Options!B457=\"\",\"\",Compliance_Options!B457)","v":""},{"$f":"IF(Compliance_Options!C457=\"\",\"\",Compliance_Options!C457)","v":""},{"$f":"IF(Compliance_Options!D457=\"\",\"\",Compliance_Options!D457)","v":""},{"$f":"IF(Compliance_Options!E457=\"\",\"\",Compliance_Options!E457)","v":""},{"$f":"IF(Compliance_Options!F457=\"\",\"\",Compliance_Options!F457)","v":""},"    ",{"$f":"IF(COUNTIF(BB$2:BB435,BB435)=1,BB435,\"\")","v":""},"","","","","","","",{"$f":"+IF(BJ435=\"\",\"\",MAX(BK$1:BK434)+1)","v":""},"","","","","","","",{"$f":"+IF(BR435=\"\",\"\",MAX(BS$1:BS434)+1)","v":""},"","","","","","","",{"$f":"+IF(BZ435=\"\",\"\",MAX(CA$1:CA434)+1)","v":""},"","","","","","","",{"$f":"+IF(CH435=\"\",\"\",MAX(CI$1:CI434)+1)","v":""},"","","","","",null,{"$f":"+IF(CQ435=\"\",\"\",MAX(CP$1:CP434)+1)","v":""},{"$f":"IF(Compliance_Options!B457=\"\",\"\",Compliance_Options!B457)","v":""},{"$f":"IF(Compliance_Options!C457=\"\",\"\",Compliance_Options!C457)","v":""},{"$f":"IF(Compliance_Options!D457=\"\",\"\",Compliance_Options!D457)","v":""},"  ",{"$f":"IF(COUNTIF(CT$2:CT435,CT435)=1,CT435,\"\")","v":""},"","","",""]
[null,null,null,null,null,null,null,null,null,null,null,null,null,null,null,null,null,null,null,null,null,null,null,null,null,null,null,null,null,null,null,null,null,null,null,null,null,null,null,null,null,null,null,null,null,null,null,{"$f":"+IF(AW436=\"\",\"\",MAX(AV$1:AV435)+1)","v":""},{"$f":"IF(Compliance_Options!B458=\"\",\"\",Compliance_Options!B458)","v":""},{"$f":"IF(Compliance_Options!C458=\"\",\"\",Compliance_Options!C458)","v":""},{"$f":"IF(Compliance_Options!D458=\"\",\"\",Compliance_Options!D458)","v":""},{"$f":"IF(Compliance_Options!E458=\"\",\"\",Compliance_Options!E458)","v":""},{"$f":"IF(Compliance_Options!F458=\"\",\"\",Compliance_Options!F458)","v":""},"    ",{"$f":"IF(COUNTIF(BB$2:BB436,BB436)=1,BB436,\"\")","v":""},"","","","","","","",{"$f":"+IF(BJ436=\"\",\"\",MAX(BK$1:BK435)+1)","v":""},"","","","","","","",{"$f":"+IF(BR436=\"\",\"\",MAX(BS$1:BS435)+1)","v":""},"","","","","","","",{"$f":"+IF(BZ436=\"\",\"\",MAX(CA$1:CA435)+1)","v":""},"","","","","","","",{"$f":"+IF(CH436=\"\",\"\",MAX(CI$1:CI435)+1)","v":""},"","","","","",null,{"$f":"+IF(CQ436=\"\",\"\",MAX(CP$1:CP435)+1)","v":""},{"$f":"IF(Compliance_Options!B458=\"\",\"\",Compliance_Options!B458)","v":""},{"$f":"IF(Compliance_Options!C458=\"\",\"\",Compliance_Options!C458)","v":""},{"$f":"IF(Compliance_Options!D458=\"\",\"\",Compliance_Options!D458)","v":""},"  ",{"$f":"IF(COUNTIF(CT$2:CT436,CT436)=1,CT436,\"\")","v":""},"","","",""]
[null,null,null,null,null,null,null,null,null,null,null,null,null,null,null,null,null,null,null,null,null,null,null,null,null,null,null,null,null,null,null,null,null,null,null,null,null,null,null,null,null,null,null,null,null,null,null,{"$f":"+IF(AW437=\"\",\"\",MAX(AV$1:AV436)+1)","v":""},{"$f":"IF(Compliance_Options!B459=\"\",\"\",Compliance_Options!B459)","v":""},{"$f":"IF(Compliance_Options!C459=\"\",\"\",Compliance_Options!C459)","v":""},{"$f":"IF(Compliance_Options!D459=\"\",\"\",Compliance_Options!D459)","v":""},{"$f":"IF(Compliance_Options!E459=\"\",\"\",Compliance_Options!E459)","v":""},{"$f":"IF(Compliance_Options!F459=\"\",\"\",Compliance_Options!F459)","v":""},"    ",{"$f":"IF(COUNTIF(BB$2:BB437,BB437)=1,BB437,\"\")","v":""},"","","","","","","",{"$f":"+IF(BJ437=\"\",\"\",MAX(BK$1:BK436)+1)","v":""},"","","","","","","",{"$f":"+IF(BR437=\"\",\"\",MAX(BS$1:BS436)+1)","v":""},"","","","","","","",{"$f":"+IF(BZ437=\"\",\"\",MAX(CA$1:CA436)+1)","v":""},"","","","","","","",{"$f":"+IF(CH437=\"\",\"\",MAX(CI$1:CI436)+1)","v":""},"","","","","",null,{"$f":"+IF(CQ437=\"\",\"\",MAX(CP$1:CP436)+1)","v":""},{"$f":"IF(Compliance_Options!B459=\"\",\"\",Compliance_Options!B459)","v":""},{"$f":"IF(Compliance_Options!C459=\"\",\"\",Compliance_Options!C459)","v":""},{"$f":"IF(Compliance_Options!D459=\"\",\"\",Compliance_Options!D459)","v":""},"  ",{"$f":"IF(COUNTIF(CT$2:CT437,CT437)=1,CT437,\"\")","v":""},"","","",""]
[null,null,null,null,null,null,null,null,null,null,null,null,null,null,null,null,null,null,null,null,null,null,null,null,null,null,null,null,null,null,null,null,null,null,null,null,null,null,null,null,null,null,null,null,null,null,null,{"$f":"+IF(AW438=\"\",\"\",MAX(AV$1:AV437)+1)","v":""},{"$f":"IF(Compliance_Options!B460=\"\",\"\",Compliance_Options!B460)","v":""},{"$f":"IF(Compliance_Options!C460=\"\",\"\",Compliance_Options!C460)","v":""},{"$f":"IF(Compliance_Options!D460=\"\",\"\",Compliance_Options!D460)","v":""},{"$f":"IF(Compliance_Options!E460=\"\",\"\",Compliance_Options!E460)","v":""},{"$f":"IF(Compliance_Options!F460=\"\",\"\",Compliance_Options!F460)","v":""},"    ",{"$f":"IF(COUNTIF(BB$2:BB438,BB438)=1,BB438,\"\")","v":""},"","","","","","","",{"$f":"+IF(BJ438=\"\",\"\",MAX(BK$1:BK437)+1)","v":""},"","","","","","","",{"$f":"+IF(BR438=\"\",\"\",MAX(BS$1:BS437)+1)","v":""},"","","","","","","",{"$f":"+IF(BZ438=\"\",\"\",MAX(CA$1:CA437)+1)","v":""},"","","","","","","",{"$f":"+IF(CH438=\"\",\"\",MAX(CI$1:CI437)+1)","v":""},"","","","","",null,{"$f":"+IF(CQ438=\"\",\"\",MAX(CP$1:CP437)+1)","v":""},{"$f":"IF(Compliance_Options!B460=\"\",\"\",Compliance_Options!B460)","v":""},{"$f":"IF(Compliance_Options!C460=\"\",\"\",Compliance_Options!C460)","v":""},{"$f":"IF(Compliance_Options!D460=\"\",\"\",Compliance_Options!D460)","v":""},"  ",{"$f":"IF(COUNTIF(CT$2:CT438,CT438)=1,CT438,\"\")","v":""},"","","",""]
[null,null,null,null,null,null,null,null,null,null,null,null,null,null,null,null,null,null,null,null,null,null,null,null,null,null,null,null,null,null,null,null,null,null,null,null,null,null,null,null,null,null,null,null,null,null,null,{"$f":"+IF(AW439=\"\",\"\",MAX(AV$1:AV438)+1)","v":""},{"$f":"IF(Compliance_Options!B461=\"\",\"\",Compliance_Options!B461)","v":""},{"$f":"IF(Compliance_Options!C461=\"\",\"\",Compliance_Options!C461)","v":""},{"$f":"IF(Compliance_Options!D461=\"\",\"\",Compliance_Options!D461)","v":""},{"$f":"IF(Compliance_Options!E461=\"\",\"\",Compliance_Options!E461)","v":""},{"$f":"IF(Compliance_Options!F461=\"\",\"\",Compliance_Options!F461)","v":""},"    ",{"$f":"IF(COUNTIF(BB$2:BB439,BB439)=1,BB439,\"\")","v":""},"","","","","","","",{"$f":"+IF(BJ439=\"\",\"\",MAX(BK$1:BK438)+1)","v":""},"","","","","","","",{"$f":"+IF(BR439=\"\",\"\",MAX(BS$1:BS438)+1)","v":""},"","","","","","","",{"$f":"+IF(BZ439=\"\",\"\",MAX(CA$1:CA438)+1)","v":""},"","","","","","","",{"$f":"+IF(CH439=\"\",\"\",MAX(CI$1:CI438)+1)","v":""},"","","","","",null,{"$f":"+IF(CQ439=\"\",\"\",MAX(CP$1:CP438)+1)","v":""},{"$f":"IF(Compliance_Options!B461=\"\",\"\",Compliance_Options!B461)","v":""},{"$f":"IF(Compliance_Options!C461=\"\",\"\",Compliance_Options!C461)","v":""},{"$f":"IF(Compliance_Options!D461=\"\",\"\",Compliance_Options!D461)","v":""},"  ",{"$f":"IF(COUNTIF(CT$2:CT439,CT439)=1,CT439,\"\")","v":""},"","","",""]
[null,null,null,null,null,null,null,null,null,null,null,null,null,null,null,null,null,null,null,null,null,null,null,null,null,null,null,null,null,null,null,null,null,null,null,null,null,null,null,null,null,null,null,null,null,null,null,{"$f":"+IF(AW440=\"\",\"\",MAX(AV$1:AV439)+1)","v":""},{"$f":"IF(Compliance_Options!B462=\"\",\"\",Compliance_Options!B462)","v":""},{"$f":"IF(Compliance_Options!C462=\"\",\"\",Compliance_Options!C462)","v":""},{"$f":"IF(Compliance_Options!D462=\"\",\"\",Compliance_Options!D462)","v":""},{"$f":"IF(Compliance_Options!E462=\"\",\"\",Compliance_Options!E462)","v":""},{"$f":"IF(Compliance_Options!F462=\"\",\"\",Compliance_Options!F462)","v":""},"    ",{"$f":"IF(COUNTIF(BB$2:BB440,BB440)=1,BB440,\"\")","v":""},"","","","","","","",{"$f":"+IF(BJ440=\"\",\"\",MAX(BK$1:BK439)+1)","v":""},"","","","","","","",{"$f":"+IF(BR440=\"\",\"\",MAX(BS$1:BS439)+1)","v":""},"","","","","","","",{"$f":"+IF(BZ440=\"\",\"\",MAX(CA$1:CA439)+1)","v":""},"","","","","","","",{"$f":"+IF(CH440=\"\",\"\",MAX(CI$1:CI439)+1)","v":""},"","","","","",null,{"$f":"+IF(CQ440=\"\",\"\",MAX(CP$1:CP439)+1)","v":""},{"$f":"IF(Compliance_Options!B462=\"\",\"\",Compliance_Options!B462)","v":""},{"$f":"IF(Compliance_Options!C462=\"\",\"\",Compliance_Options!C462)","v":""},{"$f":"IF(Compliance_Options!D462=\"\",\"\",Compliance_Options!D462)","v":""},"  ",{"$f":"IF(COUNTIF(CT$2:CT440,CT440)=1,CT440,\"\")","v":""},"","","",""]
[null,null,null,null,null,null,null,null,null,null,null,null,null,null,null,null,null,null,null,null,null,null,null,null,null,null,null,null,null,null,null,null,null,null,null,null,null,null,null,null,null,null,null,null,null,null,null,{"$f":"+IF(AW441=\"\",\"\",MAX(AV$1:AV440)+1)","v":""},{"$f":"IF(Compliance_Options!B463=\"\",\"\",Compliance_Options!B463)","v":""},{"$f":"IF(Compliance_Options!C463=\"\",\"\",Compliance_Options!C463)","v":""},{"$f":"IF(Compliance_Options!D463=\"\",\"\",Compliance_Options!D463)","v":""},{"$f":"IF(Compliance_Options!E463=\"\",\"\",Compliance_Options!E463)","v":""},{"$f":"IF(Compliance_Options!F463=\"\",\"\",Compliance_Options!F463)","v":""},"    ",{"$f":"IF(COUNTIF(BB$2:BB441,BB441)=1,BB441,\"\")","v":""},"","","","","","","",{"$f":"+IF(BJ441=\"\",\"\",MAX(BK$1:BK440)+1)","v":""},"","","","","","","",{"$f":"+IF(BR441=\"\",\"\",MAX(BS$1:BS440)+1)","v":""},"","","","","","","",{"$f":"+IF(BZ441=\"\",\"\",MAX(CA$1:CA440)+1)","v":""},"","","","","","","",{"$f":"+IF(CH441=\"\",\"\",MAX(CI$1:CI440)+1)","v":""},"","","","","",null,{"$f":"+IF(CQ441=\"\",\"\",MAX(CP$1:CP440)+1)","v":""},{"$f":"IF(Compliance_Options!B463=\"\",\"\",Compliance_Options!B463)","v":""},{"$f":"IF(Compliance_Options!C463=\"\",\"\",Compliance_Options!C463)","v":""},{"$f":"IF(Compliance_Options!D463=\"\",\"\",Compliance_Options!D463)","v":""},"  ",{"$f":"IF(COUNTIF(CT$2:CT441,CT441)=1,CT441,\"\")","v":""},"","","",""]
[null,null,null,null,null,null,null,null,null,null,null,null,null,null,null,null,null,null,null,null,null,null,null,null,null,null,null,null,null,null,null,null,null,null,null,null,null,null,null,null,null,null,null,null,null,null,null,{"$f":"+IF(AW442=\"\",\"\",MAX(AV$1:AV441)+1)","v":""},{"$f":"IF(Compliance_Options!B464=\"\",\"\",Compliance_Options!B464)","v":""},{"$f":"IF(Compliance_Options!C464=\"\",\"\",Compliance_Options!C464)","v":""},{"$f":"IF(Compliance_Options!D464=\"\",\"\",Compliance_Options!D464)","v":""},{"$f":"IF(Compliance_Options!E464=\"\",\"\",Compliance_Options!E464)","v":""},{"$f":"IF(Compliance_Options!F464=\"\",\"\",Compliance_Options!F464)","v":""},"    ",{"$f":"IF(COUNTIF(BB$2:BB442,BB442)=1,BB442,\"\")","v":""},"","","","","","","",{"$f":"+IF(BJ442=\"\",\"\",MAX(BK$1:BK441)+1)","v":""},"","","","","","","",{"$f":"+IF(BR442=\"\",\"\",MAX(BS$1:BS441)+1)","v":""},"","","","","","","",{"$f":"+IF(BZ442=\"\",\"\",MAX(CA$1:CA441)+1)","v":""},"","","","","","","",{"$f":"+IF(CH442=\"\",\"\",MAX(CI$1:CI441)+1)","v":""},"","","","","",null,{"$f":"+IF(CQ442=\"\",\"\",MAX(CP$1:CP441)+1)","v":""},{"$f":"IF(Compliance_Options!B464=\"\",\"\",Compliance_Options!B464)","v":""},{"$f":"IF(Compliance_Options!C464=\"\",\"\",Compliance_Options!C464)","v":""},{"$f":"IF(Compliance_Options!D464=\"\",\"\",Compliance_Options!D464)","v":""},"  ",{"$f":"IF(COUNTIF(CT$2:CT442,CT442)=1,CT442,\"\")","v":""},"","","",""]
[null,null,null,null,null,null,null,null,null,null,null,null,null,null,null,null,null,null,null,null,null,null,null,null,null,null,null,null,null,null,null,null,null,null,null,null,null,null,null,null,null,null,null,null,null,null,null,{"$f":"+IF(AW443=\"\",\"\",MAX(AV$1:AV442)+1)","v":""},{"$f":"IF(Compliance_Options!B465=\"\",\"\",Compliance_Options!B465)","v":""},{"$f":"IF(Compliance_Options!C465=\"\",\"\",Compliance_Options!C465)","v":""},{"$f":"IF(Compliance_Options!D465=\"\",\"\",Compliance_Options!D465)","v":""},{"$f":"IF(Compliance_Options!E465=\"\",\"\",Compliance_Options!E465)","v":""},{"$f":"IF(Compliance_Options!F465=\"\",\"\",Compliance_Options!F465)","v":""},"    ",{"$f":"IF(COUNTIF(BB$2:BB443,BB443)=1,BB443,\"\")","v":""},"","","","","","","",{"$f":"+IF(BJ443=\"\",\"\",MAX(BK$1:BK442)+1)","v":""},"","","","","","","",{"$f":"+IF(BR443=\"\",\"\",MAX(BS$1:BS442)+1)","v":""},"","","","","","","",{"$f":"+IF(BZ443=\"\",\"\",MAX(CA$1:CA442)+1)","v":""},"","","","","","","",{"$f":"+IF(CH443=\"\",\"\",MAX(CI$1:CI442)+1)","v":""},"","","","","",null,{"$f":"+IF(CQ443=\"\",\"\",MAX(CP$1:CP442)+1)","v":""},{"$f":"IF(Compliance_Options!B465=\"\",\"\",Compliance_Options!B465)","v":""},{"$f":"IF(Compliance_Options!C465=\"\",\"\",Compliance_Options!C465)","v":""},{"$f":"IF(Compliance_Options!D465=\"\",\"\",Compliance_Options!D465)","v":""},"  ",{"$f":"IF(COUNTIF(CT$2:CT443,CT443)=1,CT443,\"\")","v":""},"","","",""]
[null,null,null,null,null,null,null,null,null,null,null,null,null,null,null,null,null,null,null,null,null,null,null,null,null,null,null,null,null,null,null,null,null,null,null,null,null,null,null,null,null,null,null,null,null,null,null,{"$f":"+IF(AW444=\"\",\"\",MAX(AV$1:AV443)+1)","v":""},{"$f":"IF(Compliance_Options!B466=\"\",\"\",Compliance_Options!B466)","v":""},{"$f":"IF(Compliance_Options!C466=\"\",\"\",Compliance_Options!C466)","v":""},{"$f":"IF(Compliance_Options!D466=\"\",\"\",Compliance_Options!D466)","v":""},{"$f":"IF(Compliance_Options!E466=\"\",\"\",Compliance_Options!E466)","v":""},{"$f":"IF(Compliance_Options!F466=\"\",\"\",Compliance_Options!F466)","v":""},"    ",{"$f":"IF(COUNTIF(BB$2:BB444,BB444)=1,BB444,\"\")","v":""},"","","","","","","",{"$f":"+IF(BJ444=\"\",\"\",MAX(BK$1:BK443)+1)","v":""},"","","","","","","",{"$f":"+IF(BR444=\"\",\"\",MAX(BS$1:BS443)+1)","v":""},"","","","","","","",{"$f":"+IF(BZ444=\"\",\"\",MAX(CA$1:CA443)+1)","v":""},"","","","","","","",{"$f":"+IF(CH444=\"\",\"\",MAX(CI$1:CI443)+1)","v":""},"","","","","",null,{"$f":"+IF(CQ444=\"\",\"\",MAX(CP$1:CP443)+1)","v":""},{"$f":"IF(Compliance_Options!B466=\"\",\"\",Compliance_Options!B466)","v":""},{"$f":"IF(Compliance_Options!C466=\"\",\"\",Compliance_Options!C466)","v":""},{"$f":"IF(Compliance_Options!D466=\"\",\"\",Compliance_Options!D466)","v":""},"  ",{"$f":"IF(COUNTIF(CT$2:CT444,CT444)=1,CT444,\"\")","v":""},"","","",""]
[null,null,null,null,null,null,null,null,null,null,null,null,null,null,null,null,null,null,null,null,null,null,null,null,null,null,null,null,null,null,null,null,null,null,null,null,null,null,null,null,null,null,null,null,null,null,null,{"$f":"+IF(AW445=\"\",\"\",MAX(AV$1:AV444)+1)","v":""},{"$f":"IF(Compliance_Options!B467=\"\",\"\",Compliance_Options!B467)","v":""},{"$f":"IF(Compliance_Options!C467=\"\",\"\",Compliance_Options!C467)","v":""},{"$f":"IF(Compliance_Options!D467=\"\",\"\",Compliance_Options!D467)","v":""},{"$f":"IF(Compliance_Options!E467=\"\",\"\",Compliance_Options!E467)","v":""},{"$f":"IF(Compliance_Options!F467=\"\",\"\",Compliance_Options!F467)","v":""},"    ",{"$f":"IF(COUNTIF(BB$2:BB445,BB445)=1,BB445,\"\")","v":""},"","","","","","","",{"$f":"+IF(BJ445=\"\",\"\",MAX(BK$1:BK444)+1)","v":""},"","","","","","","",{"$f":"+IF(BR445=\"\",\"\",MAX(BS$1:BS444)+1)","v":""},"","","","","","","",{"$f":"+IF(BZ445=\"\",\"\",MAX(CA$1:CA444)+1)","v":""},"","","","","","","",{"$f":"+IF(CH445=\"\",\"\",MAX(CI$1:CI444)+1)","v":""},"","","","","",null,{"$f":"+IF(CQ445=\"\",\"\",MAX(CP$1:CP444)+1)","v":""},{"$f":"IF(Compliance_Options!B467=\"\",\"\",Compliance_Options!B467)","v":""},{"$f":"IF(Compliance_Options!C467=\"\",\"\",Compliance_Options!C467)","v":""},{"$f":"IF(Compliance_Options!D467=\"\",\"\",Compliance_Options!D467)","v":""},"  ",{"$f":"IF(COUNTIF(CT$2:CT445,CT445)=1,CT445,\"\")","v":""},"","","",""]
[null,null,null,null,null,null,null,null,null,null,null,null,null,null,null,null,null,null,null,null,null,null,null,null,null,null,null,null,null,null,null,null,null,null,null,null,null,null,null,null,null,null,null,null,null,null,null,{"$f":"+IF(AW446=\"\",\"\",MAX(AV$1:AV445)+1)","v":""},{"$f":"IF(Compliance_Options!B468=\"\",\"\",Compliance_Options!B468)","v":""},{"$f":"IF(Compliance_Options!C468=\"\",\"\",Compliance_Options!C468)","v":""},{"$f":"IF(Compliance_Options!D468=\"\",\"\",Compliance_Options!D468)","v":""},{"$f":"IF(Compliance_Options!E468=\"\",\"\",Compliance_Options!E468)","v":""},{"$f":"IF(Compliance_Options!F468=\"\",\"\",Compliance_Options!F468)","v":""},"    ",{"$f":"IF(COUNTIF(BB$2:BB446,BB446)=1,BB446,\"\")","v":""},"","","","","","","",{"$f":"+IF(BJ446=\"\",\"\",MAX(BK$1:BK445)+1)","v":""},"","","","","","","",{"$f":"+IF(BR446=\"\",\"\",MAX(BS$1:BS445)+1)","v":""},"","","","","","","",{"$f":"+IF(BZ446=\"\",\"\",MAX(CA$1:CA445)+1)","v":""},"","","","","","","",{"$f":"+IF(CH446=\"\",\"\",MAX(CI$1:CI445)+1)","v":""},"","","","","",null,{"$f":"+IF(CQ446=\"\",\"\",MAX(CP$1:CP445)+1)","v":""},{"$f":"IF(Compliance_Options!B468=\"\",\"\",Compliance_Options!B468)","v":""},{"$f":"IF(Compliance_Options!C468=\"\",\"\",Compliance_Options!C468)","v":""},{"$f":"IF(Compliance_Options!D468=\"\",\"\",Compliance_Options!D468)","v":""},"  ",{"$f":"IF(COUNTIF(CT$2:CT446,CT446)=1,CT446,\"\")","v":""},"","","",""]
[null,null,null,null,null,null,null,null,null,null,null,null,null,null,null,null,null,null,null,null,null,null,null,null,null,null,null,null,null,null,null,null,null,null,null,null,null,null,null,null,null,null,null,null,null,null,null,{"$f":"+IF(AW447=\"\",\"\",MAX(AV$1:AV446)+1)","v":""},{"$f":"IF(Compliance_Options!B469=\"\",\"\",Compliance_Options!B469)","v":""},{"$f":"IF(Compliance_Options!C469=\"\",\"\",Compliance_Options!C469)","v":""},{"$f":"IF(Compliance_Options!D469=\"\",\"\",Compliance_Options!D469)","v":""},{"$f":"IF(Compliance_Options!E469=\"\",\"\",Compliance_Options!E469)","v":""},{"$f":"IF(Compliance_Options!F469=\"\",\"\",Compliance_Options!F469)","v":""},"    ",{"$f":"IF(COUNTIF(BB$2:BB447,BB447)=1,BB447,\"\")","v":""},"","","","","","","",{"$f":"+IF(BJ447=\"\",\"\",MAX(BK$1:BK446)+1)","v":""},"","","","","","","",{"$f":"+IF(BR447=\"\",\"\",MAX(BS$1:BS446)+1)","v":""},"","","","","","","",{"$f":"+IF(BZ447=\"\",\"\",MAX(CA$1:CA446)+1)","v":""},"","","","","","","",{"$f":"+IF(CH447=\"\",\"\",MAX(CI$1:CI446)+1)","v":""},"","","","","",null,{"$f":"+IF(CQ447=\"\",\"\",MAX(CP$1:CP446)+1)","v":""},{"$f":"IF(Compliance_Options!B469=\"\",\"\",Compliance_Options!B469)","v":""},{"$f":"IF(Compliance_Options!C469=\"\",\"\",Compliance_Options!C469)","v":""},{"$f":"IF(Compliance_Options!D469=\"\",\"\",Compliance_Options!D469)","v":""},"  ",{"$f":"IF(COUNTIF(CT$2:CT447,CT447)=1,CT447,\"\")","v":""},"","","",""]
[null,null,null,null,null,null,null,null,null,null,null,null,null,null,null,null,null,null,null,null,null,null,null,null,null,null,null,null,null,null,null,null,null,null,null,null,null,null,null,null,null,null,null,null,null,null,null,{"$f":"+IF(AW448=\"\",\"\",MAX(AV$1:AV447)+1)","v":""},{"$f":"IF(Compliance_Options!B470=\"\",\"\",Compliance_Options!B470)","v":""},{"$f":"IF(Compliance_Options!C470=\"\",\"\",Compliance_Options!C470)","v":""},{"$f":"IF(Compliance_Options!D470=\"\",\"\",Compliance_Options!D470)","v":""},{"$f":"IF(Compliance_Options!E470=\"\",\"\",Compliance_Options!E470)","v":""},{"$f":"IF(Compliance_Options!F470=\"\",\"\",Compliance_Options!F470)","v":""},"    ",{"$f":"IF(COUNTIF(BB$2:BB448,BB448)=1,BB448,\"\")","v":""},"","","","","","","",{"$f":"+IF(BJ448=\"\",\"\",MAX(BK$1:BK447)+1)","v":""},"","","","","","","",{"$f":"+IF(BR448=\"\",\"\",MAX(BS$1:BS447)+1)","v":""},"","","","","","","",{"$f":"+IF(BZ448=\"\",\"\",MAX(CA$1:CA447)+1)","v":""},"","","","","","","",{"$f":"+IF(CH448=\"\",\"\",MAX(CI$1:CI447)+1)","v":""},"","","","","",null,{"$f":"+IF(CQ448=\"\",\"\",MAX(CP$1:CP447)+1)","v":""},{"$f":"IF(Compliance_Options!B470=\"\",\"\",Compliance_Options!B470)","v":""},{"$f":"IF(Compliance_Options!C470=\"\",\"\",Compliance_Options!C470)","v":""},{"$f":"IF(Compliance_Options!D470=\"\",\"\",Compliance_Options!D470)","v":""},"  ",{"$f":"IF(COUNTIF(CT$2:CT448,CT448)=1,CT448,\"\")","v":""},"","","",""]
[null,null,null,null,null,null,null,null,null,null,null,null,null,null,null,null,null,null,null,null,null,null,null,null,null,null,null,null,null,null,null,null,null,null,null,null,null,null,null,null,null,null,null,null,null,null,null,{"$f":"+IF(AW449=\"\",\"\",MAX(AV$1:AV448)+1)","v":""},{"$f":"IF(Compliance_Options!B471=\"\",\"\",Compliance_Options!B471)","v":""},{"$f":"IF(Compliance_Options!C471=\"\",\"\",Compliance_Options!C471)","v":""},{"$f":"IF(Compliance_Options!D471=\"\",\"\",Compliance_Options!D471)","v":""},{"$f":"IF(Compliance_Options!E471=\"\",\"\",Compliance_Options!E471)","v":""},{"$f":"IF(Compliance_Options!F471=\"\",\"\",Compliance_Options!F471)","v":""},"    ",{"$f":"IF(COUNTIF(BB$2:BB449,BB449)=1,BB449,\"\")","v":""},"","","","","","","",{"$f":"+IF(BJ449=\"\",\"\",MAX(BK$1:BK448)+1)","v":""},"","","","","","","",{"$f":"+IF(BR449=\"\",\"\",MAX(BS$1:BS448)+1)","v":""},"","","","","","","",{"$f":"+IF(BZ449=\"\",\"\",MAX(CA$1:CA448)+1)","v":""},"","","","","","","",{"$f":"+IF(CH449=\"\",\"\",MAX(CI$1:CI448)+1)","v":""},"","","","","",null,{"$f":"+IF(CQ449=\"\",\"\",MAX(CP$1:CP448)+1)","v":""},{"$f":"IF(Compliance_Options!B471=\"\",\"\",Compliance_Options!B471)","v":""},{"$f":"IF(Compliance_Options!C471=\"\",\"\",Compliance_Options!C471)","v":""},{"$f":"IF(Compliance_Options!D471=\"\",\"\",Compliance_Options!D471)","v":""},"  ",{"$f":"IF(COUNTIF(CT$2:CT449,CT449)=1,CT449,\"\")","v":""},"","","",""]
[null,null,null,null,null,null,null,null,null,null,null,null,null,null,null,null,null,null,null,null,null,null,null,null,null,null,null,null,null,null,null,null,null,null,null,null,null,null,null,null,null,null,null,null,null,null,null,{"$f":"+IF(AW450=\"\",\"\",MAX(AV$1:AV449)+1)","v":""},{"$f":"IF(Compliance_Options!B472=\"\",\"\",Compliance_Options!B472)","v":""},{"$f":"IF(Compliance_Options!C472=\"\",\"\",Compliance_Options!C472)","v":""},{"$f":"IF(Compliance_Options!D472=\"\",\"\",Compliance_Options!D472)","v":""},{"$f":"IF(Compliance_Options!E472=\"\",\"\",Compliance_Options!E472)","v":""},{"$f":"IF(Compliance_Options!F472=\"\",\"\",Compliance_Options!F472)","v":""},"    ",{"$f":"IF(COUNTIF(BB$2:BB450,BB450)=1,BB450,\"\")","v":""},"","","","","","","",{"$f":"+IF(BJ450=\"\",\"\",MAX(BK$1:BK449)+1)","v":""},"","","","","","","",{"$f":"+IF(BR450=\"\",\"\",MAX(BS$1:BS449)+1)","v":""},"","","","","","","",{"$f":"+IF(BZ450=\"\",\"\",MAX(CA$1:CA449)+1)","v":""},"","","","","","","",{"$f":"+IF(CH450=\"\",\"\",MAX(CI$1:CI449)+1)","v":""},"","","","","",null,{"$f":"+IF(CQ450=\"\",\"\",MAX(CP$1:CP449)+1)","v":""},{"$f":"IF(Compliance_Options!B472=\"\",\"\",Compliance_Options!B472)","v":""},{"$f":"IF(Compliance_Options!C472=\"\",\"\",Compliance_Options!C472)","v":""},{"$f":"IF(Compliance_Options!D472=\"\",\"\",Compliance_Options!D472)","v":""},"  ",{"$f":"IF(COUNTIF(CT$2:CT450,CT450)=1,CT450,\"\")","v":""},"","","",""]
[null,null,null,null,null,null,null,null,null,null,null,null,null,null,null,null,null,null,null,null,null,null,null,null,null,null,null,null,null,null,null,null,null,null,null,null,null,null,null,null,null,null,null,null,null,null,null,{"$f":"+IF(AW451=\"\",\"\",MAX(AV$1:AV450)+1)","v":""},{"$f":"IF(Compliance_Options!B473=\"\",\"\",Compliance_Options!B473)","v":""},{"$f":"IF(Compliance_Options!C473=\"\",\"\",Compliance_Options!C473)","v":""},{"$f":"IF(Compliance_Options!D473=\"\",\"\",Compliance_Options!D473)","v":""},{"$f":"IF(Compliance_Options!E473=\"\",\"\",Compliance_Options!E473)","v":""},{"$f":"IF(Compliance_Options!F473=\"\",\"\",Compliance_Options!F473)","v":""},{"$f":"AW451&\" \"&AX451&\" \"&AY451&\" \"&AZ451&\" \"&BA451","v":"    "},{"$f":"IF(COUNTIF(BB$2:BB451,BB451)=1,BB451,\"\")","v":""},{"$f":"IF(BE451=\"\",\"\",BE451&\" \"&BF451&\" \"&BG451)","v":""},{"$f":"IFERROR(INDEX(AW$2:AW$78,MATCH(ROW()-ROW($BC$1),$AV$2:$AV$78,0)),\"\")","v":""},{"$f":"IFERROR(INDEX(AX$2:AX$78,MATCH(ROW()-ROW($BC$1),$AV$2:$AV$78,0)),\"\")","v":""},{"$f":"IFERROR(INDEX(AY$2:AY$78,MATCH(ROW()-ROW($BC$1),$AV$2:$AV$78,0)),\"\")","v":""},{"$f":"IFERROR(INDEX(AZ$2:AZ$78,MATCH(ROW()-ROW($BC$1),$AV$2:$AV$78,0)),\"\")","v":""},{"$f":"IFERROR(INDEX(BA$2:BA$78,MATCH(ROW()-ROW($BC$1),$AV$2:$AV$78,0)),\"\")","v":""},{"$f":"IF($AY451=\"Tire Production\",$BB451,\"\")","v":""},{"$f":"+IF(BJ451=\"\",\"\",MAX(BK$1:BK450)+1)","v":""},{"$f":"IF(BM451=\"\",\"\",BM451&\" \"&BN451&\" \"&BO451&\" \"&BP451&\" \"&BQ451)","v":""},{"$f":"IFERROR(INDEX(AW$2:AW$78,MATCH(ROW()-ROW($BC$1),$BK$2:$BK$78,0)),\"\")","v":""},{"$f":"IFERROR(INDEX(AX$2:AX$78,MATCH(ROW()-ROW($BC$1),$BK$2:$BK$78,0)),\"\")","v":""},{"$f":"IFERROR(INDEX(AY$2:AY$78,MATCH(ROW()-ROW($BC$1),$BK$2:$BK$78,0)),\"\")","v":""},{"$f":"IFERROR(INDEX(AZ$2:AZ$78,MATCH(ROW()-ROW($BC$1),$BK$2:$BK$78,0)),\"\")","v":""},{"$f":"IFERROR(INDEX(BA$2:BA$78,MATCH(ROW()-ROW($BC$1),$BK$2:$BK$78,0)),\"\")","v":""},{"$f":"IF($AY451=\"Tire Cord Production\",$BB451,\"\")","v":""},{"$f":"+IF(BR451=\"\",\"\",MAX(BS$1:BS450)+1)","v":""},{"$f":"IF(BU451=\"\",\"\",BU451&\" \"&BV451&\" \"&BW451)","v":""},{"$f":"IFERROR(INDEX(AW$2:AW$78,MATCH(ROW()-ROW($BS$1),$BS$2:$BS$78,0)),\"\")","v":""},{"$f":"IFERROR(INDEX(AX$2:AX$78,MATCH(ROW()-ROW($BS$1),$BS$2:$BS$78,0)),\"\")","v":""},{"$f":"IFERROR(INDEX(AY$2:AY$78,MATCH(ROW()-ROW($BS$1),$BS$2:$BS$78,0)),\"\")","v":""},{"$f":"IFERROR(INDEX(AZ$2:AZ$78,MATCH(ROW()-ROW($BS$1),$BS$2:$BS$78,0)),\"\")","v":""},{"$f":"IFERROR(INDEX(BA$2:BA$78,MATCH(ROW()-ROW($BS$1),$BS$2:$BS$78,0)),\"\")","v":""},{"$f":"IF($AY451=\"Puncture Sealant Application\",$BB451,\"\")","v":""},{"$f":"+IF(BZ451=\"\",\"\",MAX(CA$1:CA450)+1)","v":""},{"$f":"IF(CC451=\"\",\"\",CC451&\" \"&CD451&\" \"&CE451)","v":""},{"$f":"IFERROR(INDEX(AW$2:AW$78,MATCH(ROW()-ROW($CA$1),$CA$2:$CA$78,0)),\"\")","v":""},{"$f":"IFERROR(INDEX(AX$2:AX$78,MATCH(ROW()-ROW($CA$1),$CA$2:$CA$78,0)),\"\")","v":""},{"$f":"IFERROR(INDEX(AY$2:AY$78,MATCH(ROW()-ROW($CA$1),$CA$2:$CA$78,0)),\"\")","v":""},{"$f":"IFERROR(INDEX(AZ$2:AZ$78,MATCH(ROW()-ROW($CA$1),$CA$2:$CA$78,0)),\"\")","v":""},{"$f":"IFERROR(INDEX(BA$2:BA$78,MATCH(ROW()-ROW($CA$1),$CA$2:$CA$78,0)),\"\")","v":""},{"$f":"IF($AY451=\"Rubber Processing\",$BB451,\"\")","v":""},{"$f":"+IF(CH451=\"\",\"\",MAX(CI$1:CI450)+1)","v":""},{"$f":"IFERROR(INDEX(AW$2:AW$78,MATCH(ROW()-ROW($CI$1),$CI$2:$CI$78,0)),\"\")","v":""},{"$f":"IFERROR(INDEX(AX$2:AX$78,MATCH(ROW()-ROW($CI$1),$CI$2:$CI$78,0)),\"\")","v":""},{"$f":"IFERROR(INDEX(AY$2:AY$78,MATCH(ROW()-ROW($CI$1),$CI$2:$CI$78,0)),\"\")","v":""},{"$f":"IFERROR(INDEX(AZ$2:AZ$78,MATCH(ROW()-ROW($CI$1),$CI$2:$CI$78,0)),\"\")","v":""},{"$f":"IFERROR(INDEX(BA$2:BA$78,MATCH(ROW()-ROW($CI$1),$CI$2:$CI$78,0)),\"\")","v":""},null,{"$f":"+IF(CQ451=\"\",\"\",MAX(CP$1:CP450)+1)","v":""},{"$f":"IF(Compliance_Options!B473=\"\",\"\",Compliance_Options!B473)","v":""},{"$f":"IF(Compliance_Options!C473=\"\",\"\",Compliance_Options!C473)","v":""},{"$f":"IF(Compliance_Options!D473=\"\",\"\",Compliance_Options!D473)","v":""},{"$f":"CQ451&\" \"&CR451&\" \"&CS451","v":"  "},{"$f":"IF(COUNTIF(CT$2:CT451,CT451)=1,CT451,\"\")","v":""},{"$f":"IFERROR(INDEX(CU$2:CU$78,MATCH(ROW()-ROW($CU$1),$CP$2:$CP$78,0)),\"\")","v":""},{"$f":"IFERROR(INDEX(CQ$2:CQ$78,MATCH(ROW()-ROW($CU$1),$CP$2:$CP$78,0)),\"\")","v":""},{"$f":"IFERROR(INDEX(CR$2:CR$78,MATCH(ROW()-ROW($CU$1),$CP$2:$CP$78,0)),\"\")","v":""},{"$f":"IFERROR(INDEX(CS$2:CS$78,MATCH(ROW()-ROW($CU$1),$CP$2:$CP$78,0)),\"\")","v":""}]
[null,null,null,null,null,null,null,null,null,null,null,null,null,null,null,null,null,null,null,null,null,null,null,null,null,null,null,null,null,null,null,null,null,null,null,null,null,null,null,null,null,null,null,null,null,null,null,{"$f":"+IF(AW452=\"\",\"\",MAX(AV$1:AV451)+1)","v":""},{"$f":"IF(Compliance_Options!B474=\"\",\"\",Compliance_Options!B474)","v":""},{"$f":"IF(Compliance_Options!C474=\"\",\"\",Compliance_Options!C474)","v":""},{"$f":"IF(Compliance_Options!D474=\"\",\"\",Compliance_Options!D474)","v":""},{"$f":"IF(Compliance_Options!E474=\"\",\"\",Compliance_Options!E474)","v":""},{"$f":"IF(Compliance_Options!F474=\"\",\"\",Compliance_Options!F474)","v":""},"    ",{"$f":"IF(COUNTIF(BB$2:BB452,BB452)=1,BB452,\"\")","v":""},"","","","","","","",{"$f":"+IF(BJ452=\"\",\"\",MAX(BK$1:BK451)+1)","v":""},"","","","","","","",{"$f":"+IF(BR452=\"\",\"\",MAX(BS$1:BS451)+1)","v":""},"","","","","","","",{"$f":"+IF(BZ452=\"\",\"\",MAX(CA$1:CA451)+1)","v":""},"","","","","","","",{"$f":"+IF(CH452=\"\",\"\",MAX(CI$1:CI451)+1)","v":""},"","","","","",null,{"$f":"+IF(CQ452=\"\",\"\",MAX(CP$1:CP451)+1)","v":""},{"$f":"IF(Compliance_Options!B474=\"\",\"\",Compliance_Options!B474)","v":""},{"$f":"IF(Compliance_Options!C474=\"\",\"\",Compliance_Options!C474)","v":""},{"$f":"IF(Compliance_Options!D474=\"\",\"\",Compliance_Options!D474)","v":""},"  ",{"$f":"IF(COUNTIF(CT$2:CT452,CT452)=1,CT452,\"\")","v":""},"","","",""]
[null,null,null,null,null,null,null,null,null,null,null,null,null,null,null,null,null,null,null,null,null,null,null,null,null,null,null,null,null,null,null,null,null,null,null,null,null,null,null,null,null,null,null,null,null,null,null,{"$f":"+IF(AW453=\"\",\"\",MAX(AV$1:AV452)+1)","v":""},{"$f":"IF(Compliance_Options!B475=\"\",\"\",Compliance_Options!B475)","v":""},{"$f":"IF(Compliance_Options!C475=\"\",\"\",Compliance_Options!C475)","v":""},{"$f":"IF(Compliance_Options!D475=\"\",\"\",Compliance_Options!D475)","v":""},{"$f":"IF(Compliance_Options!E475=\"\",\"\",Compliance_Options!E475)","v":""},{"$f":"IF(Compliance_Options!F475=\"\",\"\",Compliance_Options!F475)","v":""},"    ",{"$f":"IF(COUNTIF(BB$2:BB453,BB453)=1,BB453,\"\")","v":""},"","","","","","","",{"$f":"+IF(BJ453=\"\",\"\",MAX(BK$1:BK452)+1)","v":""},"","","","","","","",{"$f":"+IF(BR453=\"\",\"\",MAX(BS$1:BS452)+1)","v":""},"","","","","","","",{"$f":"+IF(BZ453=\"\",\"\",MAX(CA$1:CA452)+1)","v":""},"","","","","","","",{"$f":"+IF(CH453=\"\",\"\",MAX(CI$1:CI452)+1)","v":""},"","","","","",null,{"$f":"+IF(CQ453=\"\",\"\",MAX(CP$1:CP452)+1)","v":""},{"$f":"IF(Compliance_Options!B475=\"\",\"\",Compliance_Options!B475)","v":""},{"$f":"IF(Compliance_Options!C475=\"\",\"\",Compliance_Options!C475)","v":""},{"$f":"IF(Compliance_Options!D475=\"\",\"\",Compliance_Options!D475)","v":""},"  ",{"$f":"IF(COUNTIF(CT$2:CT453,CT453)=1,CT453,\"\")","v":""},"","","",""]
[null,null,null,null,null,null,null,null,null,null,null,null,null,null,null,null,null,null,null,null,null,null,null,null,null,null,null,null,null,null,null,null,null,null,null,null,null,null,null,null,null,null,null,null,null,null,null,{"$f":"+IF(AW454=\"\",\"\",MAX(AV$1:AV453)+1)","v":""},{"$f":"IF(Compliance_Options!B476=\"\",\"\",Compliance_Options!B476)","v":""},{"$f":"IF(Compliance_Options!C476=\"\",\"\",Compliance_Options!C476)","v":""},{"$f":"IF(Compliance_Options!D476=\"\",\"\",Compliance_Options!D476)","v":""},{"$f":"IF(Compliance_Options!E476=\"\",\"\",Compliance_Options!E476)","v":""},{"$f":"IF(Compliance_Options!F476=\"\",\"\",Compliance_Options!F476)","v":""},"    ",{"$f":"IF(COUNTIF(BB$2:BB454,BB454)=1,BB454,\"\")","v":""},"","","","","","","",{"$f":"+IF(BJ454=\"\",\"\",MAX(BK$1:BK453)+1)","v":""},"","","","","","","",{"$f":"+IF(BR454=\"\",\"\",MAX(BS$1:BS453)+1)","v":""},"","","","","","","",{"$f":"+IF(BZ454=\"\",\"\",MAX(CA$1:CA453)+1)","v":""},"","","","","","","",{"$f":"+IF(CH454=\"\",\"\",MAX(CI$1:CI453)+1)","v":""},"","","","","",null,{"$f":"+IF(CQ454=\"\",\"\",MAX(CP$1:CP453)+1)","v":""},{"$f":"IF(Compliance_Options!B476=\"\",\"\",Compliance_Options!B476)","v":""},{"$f":"IF(Compliance_Options!C476=\"\",\"\",Compliance_Options!C476)","v":""},{"$f":"IF(Compliance_Options!D476=\"\",\"\",Compliance_Options!D476)","v":""},"  ",{"$f":"IF(COUNTIF(CT$2:CT454,CT454)=1,CT454,\"\")","v":""},"","","",""]
[null,null,null,null,null,null,null,null,null,null,null,null,null,null,null,null,null,null,null,null,null,null,null,null,null,null,null,null,null,null,null,null,null,null,null,null,null,null,null,null,null,null,null,null,null,null,null,{"$f":"+IF(AW455=\"\",\"\",MAX(AV$1:AV454)+1)","v":""},{"$f":"IF(Compliance_Options!B477=\"\",\"\",Compliance_Options!B477)","v":""},{"$f":"IF(Compliance_Options!C477=\"\",\"\",Compliance_Options!C477)","v":""},{"$f":"IF(Compliance_Options!D477=\"\",\"\",Compliance_Options!D477)","v":""},{"$f":"IF(Compliance_Options!E477=\"\",\"\",Compliance_Options!E477)","v":""},{"$f":"IF(Compliance_Options!F477=\"\",\"\",Compliance_Options!F477)","v":""},"    ",{"$f":"IF(COUNTIF(BB$2:BB455,BB455)=1,BB455,\"\")","v":""},"","","","","","","",{"$f":"+IF(BJ455=\"\",\"\",MAX(BK$1:BK454)+1)","v":""},"","","","","","","",{"$f":"+IF(BR455=\"\",\"\",MAX(BS$1:BS454)+1)","v":""},"","","","","","","",{"$f":"+IF(BZ455=\"\",\"\",MAX(CA$1:CA454)+1)","v":""},"","","","","","","",{"$f":"+IF(CH455=\"\",\"\",MAX(CI$1:CI454)+1)","v":""},"","","","","",null,{"$f":"+IF(CQ455=\"\",\"\",MAX(CP$1:CP454)+1)","v":""},{"$f":"IF(Compliance_Options!B477=\"\",\"\",Compliance_Options!B477)","v":""},{"$f":"IF(Compliance_Options!C477=\"\",\"\",Compliance_Options!C477)","v":""},{"$f":"IF(Compliance_Options!D477=\"\",\"\",Compliance_Options!D477)","v":""},"  ",{"$f":"IF(COUNTIF(CT$2:CT455,CT455)=1,CT455,\"\")","v":""},"","","",""]
[null,null,null,null,null,null,null,null,null,null,null,null,null,null,null,null,null,null,null,null,null,null,null,null,null,null,null,null,null,null,null,null,null,null,null,null,null,null,null,null,null,null,null,null,null,null,null,{"$f":"+IF(AW456=\"\",\"\",MAX(AV$1:AV455)+1)","v":""},{"$f":"IF(Compliance_Options!B478=\"\",\"\",Compliance_Options!B478)","v":""},{"$f":"IF(Compliance_Options!C478=\"\",\"\",Compliance_Options!C478)","v":""},{"$f":"IF(Compliance_Options!D478=\"\",\"\",Compliance_Options!D478)","v":""},{"$f":"IF(Compliance_Options!E478=\"\",\"\",Compliance_Options!E478)","v":""},{"$f":"IF(Compliance_Options!F478=\"\",\"\",Compliance_Options!F478)","v":""},"    ",{"$f":"IF(COUNTIF(BB$2:BB456,BB456)=1,BB456,\"\")","v":""},"","","","","","","",{"$f":"+IF(BJ456=\"\",\"\",MAX(BK$1:BK455)+1)","v":""},"","","","","","","",{"$f":"+IF(BR456=\"\",\"\",MAX(BS$1:BS455)+1)","v":""},"","","","","","","",{"$f":"+IF(BZ456=\"\",\"\",MAX(CA$1:CA455)+1)","v":""},"","","","","","","",{"$f":"+IF(CH456=\"\",\"\",MAX(CI$1:CI455)+1)","v":""},"","","","","",null,{"$f":"+IF(CQ456=\"\",\"\",MAX(CP$1:CP455)+1)","v":""},{"$f":"IF(Compliance_Options!B478=\"\",\"\",Compliance_Options!B478)","v":""},{"$f":"IF(Compliance_Options!C478=\"\",\"\",Compliance_Options!C478)","v":""},{"$f":"IF(Compliance_Options!D478=\"\",\"\",Compliance_Options!D478)","v":""},"  ",{"$f":"IF(COUNTIF(CT$2:CT456,CT456)=1,CT456,\"\")","v":""},"","","",""]
[null,null,null,null,null,null,null,null,null,null,null,null,null,null,null,null,null,null,null,null,null,null,null,null,null,null,null,null,null,null,null,null,null,null,null,null,null,null,null,null,null,null,null,null,null,null,null,{"$f":"+IF(AW457=\"\",\"\",MAX(AV$1:AV456)+1)","v":""},{"$f":"IF(Compliance_Options!B479=\"\",\"\",Compliance_Options!B479)","v":""},{"$f":"IF(Compliance_Options!C479=\"\",\"\",Compliance_Options!C479)","v":""},{"$f":"IF(Compliance_Options!D479=\"\",\"\",Compliance_Options!D479)","v":""},{"$f":"IF(Compliance_Options!E479=\"\",\"\",Compliance_Options!E479)","v":""},{"$f":"IF(Compliance_Options!F479=\"\",\"\",Compliance_Options!F479)","v":""},"    ",{"$f":"IF(COUNTIF(BB$2:BB457,BB457)=1,BB457,\"\")","v":""},"","","","","","","",{"$f":"+IF(BJ457=\"\",\"\",MAX(BK$1:BK456)+1)","v":""},"","","","","","","",{"$f":"+IF(BR457=\"\",\"\",MAX(BS$1:BS456)+1)","v":""},"","","","","","","",{"$f":"+IF(BZ457=\"\",\"\",MAX(CA$1:CA456)+1)","v":""},"","","","","","","",{"$f":"+IF(CH457=\"\",\"\",MAX(CI$1:CI456)+1)","v":""},"","","","","",null,{"$f":"+IF(CQ457=\"\",\"\",MAX(CP$1:CP456)+1)","v":""},{"$f":"IF(Compliance_Options!B479=\"\",\"\",Compliance_Options!B479)","v":""},{"$f":"IF(Compliance_Options!C479=\"\",\"\",Compliance_Options!C479)","v":""},{"$f":"IF(Compliance_Options!D479=\"\",\"\",Compliance_Options!D479)","v":""},"  ",{"$f":"IF(COUNTIF(CT$2:CT457,CT457)=1,CT457,\"\")","v":""},"","","",""]
[null,null,null,null,null,null,null,null,null,null,null,null,null,null,null,null,null,null,null,null,null,null,null,null,null,null,null,null,null,null,null,null,null,null,null,null,null,null,null,null,null,null,null,null,null,null,null,{"$f":"+IF(AW458=\"\",\"\",MAX(AV$1:AV457)+1)","v":""},{"$f":"IF(Compliance_Options!B480=\"\",\"\",Compliance_Options!B480)","v":""},{"$f":"IF(Compliance_Options!C480=\"\",\"\",Compliance_Options!C480)","v":""},{"$f":"IF(Compliance_Options!D480=\"\",\"\",Compliance_Options!D480)","v":""},{"$f":"IF(Compliance_Options!E480=\"\",\"\",Compliance_Options!E480)","v":""},{"$f":"IF(Compliance_Options!F480=\"\",\"\",Compliance_Options!F480)","v":""},"    ",{"$f":"IF(COUNTIF(BB$2:BB458,BB458)=1,BB458,\"\")","v":""},"","","","","","","",{"$f":"+IF(BJ458=\"\",\"\",MAX(BK$1:BK457)+1)","v":""},"","","","","","","",{"$f":"+IF(BR458=\"\",\"\",MAX(BS$1:BS457)+1)","v":""},"","","","","","","",{"$f":"+IF(BZ458=\"\",\"\",MAX(CA$1:CA457)+1)","v":""},"","","","","","","",{"$f":"+IF(CH458=\"\",\"\",MAX(CI$1:CI457)+1)","v":""},"","","","","",null,{"$f":"+IF(CQ458=\"\",\"\",MAX(CP$1:CP457)+1)","v":""},{"$f":"IF(Compliance_Options!B480=\"\",\"\",Compliance_Options!B480)","v":""},{"$f":"IF(Compliance_Options!C480=\"\",\"\",Compliance_Options!C480)","v":""},{"$f":"IF(Compliance_Options!D480=\"\",\"\",Compliance_Options!D480)","v":""},"  ",{"$f":"IF(COUNTIF(CT$2:CT458,CT458)=1,CT458,\"\")","v":""},"","","",""]
[null,null,null,null,null,null,null,null,null,null,null,null,null,null,null,null,null,null,null,null,null,null,null,null,null,null,null,null,null,null,null,null,null,null,null,null,null,null,null,null,null,null,null,null,null,null,null,{"$f":"+IF(AW459=\"\",\"\",MAX(AV$1:AV458)+1)","v":""},{"$f":"IF(Compliance_Options!B481=\"\",\"\",Compliance_Options!B481)","v":""},{"$f":"IF(Compliance_Options!C481=\"\",\"\",Compliance_Options!C481)","v":""},{"$f":"IF(Compliance_Options!D481=\"\",\"\",Compliance_Options!D481)","v":""},{"$f":"IF(Compliance_Options!E481=\"\",\"\",Compliance_Options!E481)","v":""},{"$f":"IF(Compliance_Options!F481=\"\",\"\",Compliance_Options!F481)","v":""},"    ",{"$f":"IF(COUNTIF(BB$2:BB459,BB459)=1,BB459,\"\")","v":""},"","","","","","","",{"$f":"+IF(BJ459=\"\",\"\",MAX(BK$1:BK458)+1)","v":""},"","","","","","","",{"$f":"+IF(BR459=\"\",\"\",MAX(BS$1:BS458)+1)","v":""},"","","","","","","",{"$f":"+IF(BZ459=\"\",\"\",MAX(CA$1:CA458)+1)","v":""},"","","","","","","",{"$f":"+IF(CH459=\"\",\"\",MAX(CI$1:CI458)+1)","v":""},"","","","","",null,{"$f":"+IF(CQ459=\"\",\"\",MAX(CP$1:CP458)+1)","v":""},{"$f":"IF(Compliance_Options!B481=\"\",\"\",Compliance_Options!B481)","v":""},{"$f":"IF(Compliance_Options!C481=\"\",\"\",Compliance_Options!C481)","v":""},{"$f":"IF(Compliance_Options!D481=\"\",\"\",Compliance_Options!D481)","v":""},"  ",{"$f":"IF(COUNTIF(CT$2:CT459,CT459)=1,CT459,\"\")","v":""},"","","",""]
[null,null,null,null,null,null,null,null,null,null,null,null,null,null,null,null,null,null,null,null,null,null,null,null,null,null,null,null,null,null,null,null,null,null,null,null,null,null,null,null,null,null,null,null,null,null,null,{"$f":"+IF(AW460=\"\",\"\",MAX(AV$1:AV459)+1)","v":""},{"$f":"IF(Compliance_Options!B482=\"\",\"\",Compliance_Options!B482)","v":""},{"$f":"IF(Compliance_Options!C482=\"\",\"\",Compliance_Options!C482)","v":""},{"$f":"IF(Compliance_Options!D482=\"\",\"\",Compliance_Options!D482)","v":""},{"$f":"IF(Compliance_Options!E482=\"\",\"\",Compliance_Options!E482)","v":""},{"$f":"IF(Compliance_Options!F482=\"\",\"\",Compliance_Options!F482)","v":""},"    ",{"$f":"IF(COUNTIF(BB$2:BB460,BB460)=1,BB460,\"\")","v":""},"","","","","","","",{"$f":"+IF(BJ460=\"\",\"\",MAX(BK$1:BK459)+1)","v":""},"","","","","","","",{"$f":"+IF(BR460=\"\",\"\",MAX(BS$1:BS459)+1)","v":""},"","","","","","","",{"$f":"+IF(BZ460=\"\",\"\",MAX(CA$1:CA459)+1)","v":""},"","","","","","","",{"$f":"+IF(CH460=\"\",\"\",MAX(CI$1:CI459)+1)","v":""},"","","","","",null,{"$f":"+IF(CQ460=\"\",\"\",MAX(CP$1:CP459)+1)","v":""},{"$f":"IF(Compliance_Options!B482=\"\",\"\",Compliance_Options!B482)","v":""},{"$f":"IF(Compliance_Options!C482=\"\",\"\",Compliance_Options!C482)","v":""},{"$f":"IF(Compliance_Options!D482=\"\",\"\",Compliance_Options!D482)","v":""},"  ",{"$f":"IF(COUNTIF(CT$2:CT460,CT460)=1,CT460,\"\")","v":""},"","","",""]
[null,null,null,null,null,null,null,null,null,null,null,null,null,null,null,null,null,null,null,null,null,null,null,null,null,null,null,null,null,null,null,null,null,null,null,null,null,null,null,null,null,null,null,null,null,null,null,{"$f":"+IF(AW461=\"\",\"\",MAX(AV$1:AV460)+1)","v":""},{"$f":"IF(Compliance_Options!B483=\"\",\"\",Compliance_Options!B483)","v":""},{"$f":"IF(Compliance_Options!C483=\"\",\"\",Compliance_Options!C483)","v":""},{"$f":"IF(Compliance_Options!D483=\"\",\"\",Compliance_Options!D483)","v":""},{"$f":"IF(Compliance_Options!E483=\"\",\"\",Compliance_Options!E483)","v":""},{"$f":"IF(Compliance_Options!F483=\"\",\"\",Compliance_Options!F483)","v":""},"    ",{"$f":"IF(COUNTIF(BB$2:BB461,BB461)=1,BB461,\"\")","v":""},"","","","","","","",{"$f":"+IF(BJ461=\"\",\"\",MAX(BK$1:BK460)+1)","v":""},"","","","","","","",{"$f":"+IF(BR461=\"\",\"\",MAX(BS$1:BS460)+1)","v":""},"","","","","","","",{"$f":"+IF(BZ461=\"\",\"\",MAX(CA$1:CA460)+1)","v":""},"","","","","","","",{"$f":"+IF(CH461=\"\",\"\",MAX(CI$1:CI460)+1)","v":""},"","","","","",null,{"$f":"+IF(CQ461=\"\",\"\",MAX(CP$1:CP460)+1)","v":""},{"$f":"IF(Compliance_Options!B483=\"\",\"\",Compliance_Options!B483)","v":""},{"$f":"IF(Compliance_Options!C483=\"\",\"\",Compliance_Options!C483)","v":""},{"$f":"IF(Compliance_Options!D483=\"\",\"\",Compliance_Options!D483)","v":""},"  ",{"$f":"IF(COUNTIF(CT$2:CT461,CT461)=1,CT461,\"\")","v":""},"","","",""]
[null,null,null,null,null,null,null,null,null,null,null,null,null,null,null,null,null,null,null,null,null,null,null,null,null,null,null,null,null,null,null,null,null,null,null,null,null,null,null,null,null,null,null,null,null,null,null,{"$f":"+IF(AW462=\"\",\"\",MAX(AV$1:AV461)+1)","v":""},{"$f":"IF(Compliance_Options!B484=\"\",\"\",Compliance_Options!B484)","v":""},{"$f":"IF(Compliance_Options!C484=\"\",\"\",Compliance_Options!C484)","v":""},{"$f":"IF(Compliance_Options!D484=\"\",\"\",Compliance_Options!D484)","v":""},{"$f":"IF(Compliance_Options!E484=\"\",\"\",Compliance_Options!E484)","v":""},{"$f":"IF(Compliance_Options!F484=\"\",\"\",Compliance_Options!F484)","v":""},"    ",{"$f":"IF(COUNTIF(BB$2:BB462,BB462)=1,BB462,\"\")","v":""},"","","","","","","",{"$f":"+IF(BJ462=\"\",\"\",MAX(BK$1:BK461)+1)","v":""},"","","","","","","",{"$f":"+IF(BR462=\"\",\"\",MAX(BS$1:BS461)+1)","v":""},"","","","","","","",{"$f":"+IF(BZ462=\"\",\"\",MAX(CA$1:CA461)+1)","v":""},"","","","","","","",{"$f":"+IF(CH462=\"\",\"\",MAX(CI$1:CI461)+1)","v":""},"","","","","",null,{"$f":"+IF(CQ462=\"\",\"\",MAX(CP$1:CP461)+1)","v":""},{"$f":"IF(Compliance_Options!B484=\"\",\"\",Compliance_Options!B484)","v":""},{"$f":"IF(Compliance_Options!C484=\"\",\"\",Compliance_Options!C484)","v":""},{"$f":"IF(Compliance_Options!D484=\"\",\"\",Compliance_Options!D484)","v":""},"  ",{"$f":"IF(COUNTIF(CT$2:CT462,CT462)=1,CT462,\"\")","v":""},"","","",""]
[null,null,null,null,null,null,null,null,null,null,null,null,null,null,null,null,null,null,null,null,null,null,null,null,null,null,null,null,null,null,null,null,null,null,null,null,null,null,null,null,null,null,null,null,null,null,null,{"$f":"+IF(AW463=\"\",\"\",MAX(AV$1:AV462)+1)","v":""},{"$f":"IF(Compliance_Options!B485=\"\",\"\",Compliance_Options!B485)","v":""},{"$f":"IF(Compliance_Options!C485=\"\",\"\",Compliance_Options!C485)","v":""},{"$f":"IF(Compliance_Options!D485=\"\",\"\",Compliance_Options!D485)","v":""},{"$f":"IF(Compliance_Options!E485=\"\",\"\",Compliance_Options!E485)","v":""},{"$f":"IF(Compliance_Options!F485=\"\",\"\",Compliance_Options!F485)","v":""},"    ",{"$f":"IF(COUNTIF(BB$2:BB463,BB463)=1,BB463,\"\")","v":""},"","","","","","","",{"$f":"+IF(BJ463=\"\",\"\",MAX(BK$1:BK462)+1)","v":""},"","","","","","","",{"$f":"+IF(BR463=\"\",\"\",MAX(BS$1:BS462)+1)","v":""},"","","","","","","",{"$f":"+IF(BZ463=\"\",\"\",MAX(CA$1:CA462)+1)","v":""},"","","","","","","",{"$f":"+IF(CH463=\"\",\"\",MAX(CI$1:CI462)+1)","v":""},"","","","","",null,{"$f":"+IF(CQ463=\"\",\"\",MAX(CP$1:CP462)+1)","v":""},{"$f":"IF(Compliance_Options!B485=\"\",\"\",Compliance_Options!B485)","v":""},{"$f":"IF(Compliance_Options!C485=\"\",\"\",Compliance_Options!C485)","v":""},{"$f":"IF(Compliance_Options!D485=\"\",\"\",Compliance_Options!D485)","v":""},"  ",{"$f":"IF(COUNTIF(CT$2:CT463,CT463)=1,CT463,\"\")","v":""},"","","",""]
[null,null,null,null,null,null,null,null,null,null,null,null,null,null,null,null,null,null,null,null,null,null,null,null,null,null,null,null,null,null,null,null,null,null,null,null,null,null,null,null,null,null,null,null,null,null,null,{"$f":"+IF(AW464=\"\",\"\",MAX(AV$1:AV463)+1)","v":""},{"$f":"IF(Compliance_Options!B486=\"\",\"\",Compliance_Options!B486)","v":""},{"$f":"IF(Compliance_Options!C486=\"\",\"\",Compliance_Options!C486)","v":""},{"$f":"IF(Compliance_Options!D486=\"\",\"\",Compliance_Options!D486)","v":""},{"$f":"IF(Compliance_Options!E486=\"\",\"\",Compliance_Options!E486)","v":""},{"$f":"IF(Compliance_Options!F486=\"\",\"\",Compliance_Options!F486)","v":""},"    ",{"$f":"IF(COUNTIF(BB$2:BB464,BB464)=1,BB464,\"\")","v":""},"","","","","","","",{"$f":"+IF(BJ464=\"\",\"\",MAX(BK$1:BK463)+1)","v":""},"","","","","","","",{"$f":"+IF(BR464=\"\",\"\",MAX(BS$1:BS463)+1)","v":""},"","","","","","","",{"$f":"+IF(BZ464=\"\",\"\",MAX(CA$1:CA463)+1)","v":""},"","","","","","","",{"$f":"+IF(CH464=\"\",\"\",MAX(CI$1:CI463)+1)","v":""},"","","","","",null,{"$f":"+IF(CQ464=\"\",\"\",MAX(CP$1:CP463)+1)","v":""},{"$f":"IF(Compliance_Options!B486=\"\",\"\",Compliance_Options!B486)","v":""},{"$f":"IF(Compliance_Options!C486=\"\",\"\",Compliance_Options!C486)","v":""},{"$f":"IF(Compliance_Options!D486=\"\",\"\",Compliance_Options!D486)","v":""},"  ",{"$f":"IF(COUNTIF(CT$2:CT464,CT464)=1,CT464,\"\")","v":""},"","","",""]
[null,null,null,null,null,null,null,null,null,null,null,null,null,null,null,null,null,null,null,null,null,null,null,null,null,null,null,null,null,null,null,null,null,null,null,null,null,null,null,null,null,null,null,null,null,null,null,{"$f":"+IF(AW465=\"\",\"\",MAX(AV$1:AV464)+1)","v":""},{"$f":"IF(Compliance_Options!B487=\"\",\"\",Compliance_Options!B487)","v":""},{"$f":"IF(Compliance_Options!C487=\"\",\"\",Compliance_Options!C487)","v":""},{"$f":"IF(Compliance_Options!D487=\"\",\"\",Compliance_Options!D487)","v":""},{"$f":"IF(Compliance_Options!E487=\"\",\"\",Compliance_Options!E487)","v":""},{"$f":"IF(Compliance_Options!F487=\"\",\"\",Compliance_Options!F487)","v":""},"    ",{"$f":"IF(COUNTIF(BB$2:BB465,BB465)=1,BB465,\"\")","v":""},"","","","","","","",{"$f":"+IF(BJ465=\"\",\"\",MAX(BK$1:BK464)+1)","v":""},"","","","","","","",{"$f":"+IF(BR465=\"\",\"\",MAX(BS$1:BS464)+1)","v":""},"","","","","","","",{"$f":"+IF(BZ465=\"\",\"\",MAX(CA$1:CA464)+1)","v":""},"","","","","","","",{"$f":"+IF(CH465=\"\",\"\",MAX(CI$1:CI464)+1)","v":""},"","","","","",null,{"$f":"+IF(CQ465=\"\",\"\",MAX(CP$1:CP464)+1)","v":""},{"$f":"IF(Compliance_Options!B487=\"\",\"\",Compliance_Options!B487)","v":""},{"$f":"IF(Compliance_Options!C487=\"\",\"\",Compliance_Options!C487)","v":""},{"$f":"IF(Compliance_Options!D487=\"\",\"\",Compliance_Options!D487)","v":""},"  ",{"$f":"IF(COUNTIF(CT$2:CT465,CT465)=1,CT465,\"\")","v":""},"","","",""]
[null,null,null,null,null,null,null,null,null,null,null,null,null,null,null,null,null,null,null,null,null,null,null,null,null,null,null,null,null,null,null,null,null,null,null,null,null,null,null,null,null,null,null,null,null,null,null,{"$f":"+IF(AW466=\"\",\"\",MAX(AV$1:AV465)+1)","v":""},{"$f":"IF(Compliance_Options!B488=\"\",\"\",Compliance_Options!B488)","v":""},{"$f":"IF(Compliance_Options!C488=\"\",\"\",Compliance_Options!C488)","v":""},{"$f":"IF(Compliance_Options!D488=\"\",\"\",Compliance_Options!D488)","v":""},{"$f":"IF(Compliance_Options!E488=\"\",\"\",Compliance_Options!E488)","v":""},{"$f":"IF(Compliance_Options!F488=\"\",\"\",Compliance_Options!F488)","v":""},"    ",{"$f":"IF(COUNTIF(BB$2:BB466,BB466)=1,BB466,\"\")","v":""},"","","","","","","",{"$f":"+IF(BJ466=\"\",\"\",MAX(BK$1:BK465)+1)","v":""},"","","","","","","",{"$f":"+IF(BR466=\"\",\"\",MAX(BS$1:BS465)+1)","v":""},"","","","","","","",{"$f":"+IF(BZ466=\"\",\"\",MAX(CA$1:CA465)+1)","v":""},"","","","","","","",{"$f":"+IF(CH466=\"\",\"\",MAX(CI$1:CI465)+1)","v":""},"","","","","",null,{"$f":"+IF(CQ466=\"\",\"\",MAX(CP$1:CP465)+1)","v":""},{"$f":"IF(Compliance_Options!B488=\"\",\"\",Compliance_Options!B488)","v":""},{"$f":"IF(Compliance_Options!C488=\"\",\"\",Compliance_Options!C488)","v":""},{"$f":"IF(Compliance_Options!D488=\"\",\"\",Compliance_Options!D488)","v":""},"  ",{"$f":"IF(COUNTIF(CT$2:CT466,CT466)=1,CT466,\"\")","v":""},"","","",""]
[null,null,null,null,null,null,null,null,null,null,null,null,null,null,null,null,null,null,null,null,null,null,null,null,null,null,null,null,null,null,null,null,null,null,null,null,null,null,null,null,null,null,null,null,null,null,null,{"$f":"+IF(AW467=\"\",\"\",MAX(AV$1:AV466)+1)","v":""},{"$f":"IF(Compliance_Options!B489=\"\",\"\",Compliance_Options!B489)","v":""},{"$f":"IF(Compliance_Options!C489=\"\",\"\",Compliance_Options!C489)","v":""},{"$f":"IF(Compliance_Options!D489=\"\",\"\",Compliance_Options!D489)","v":""},{"$f":"IF(Compliance_Options!E489=\"\",\"\",Compliance_Options!E489)","v":""},{"$f":"IF(Compliance_Options!F489=\"\",\"\",Compliance_Options!F489)","v":""},"    ",{"$f":"IF(COUNTIF(BB$2:BB467,BB467)=1,BB467,\"\")","v":""},"","","","","","","",{"$f":"+IF(BJ467=\"\",\"\",MAX(BK$1:BK466)+1)","v":""},"","","","","","","",{"$f":"+IF(BR467=\"\",\"\",MAX(BS$1:BS466)+1)","v":""},"","","","","","","",{"$f":"+IF(BZ467=\"\",\"\",MAX(CA$1:CA466)+1)","v":""},"","","","","","","",{"$f":"+IF(CH467=\"\",\"\",MAX(CI$1:CI466)+1)","v":""},"","","","","",null,{"$f":"+IF(CQ467=\"\",\"\",MAX(CP$1:CP466)+1)","v":""},{"$f":"IF(Compliance_Options!B489=\"\",\"\",Compliance_Options!B489)","v":""},{"$f":"IF(Compliance_Options!C489=\"\",\"\",Compliance_Options!C489)","v":""},{"$f":"IF(Compliance_Options!D489=\"\",\"\",Compliance_Options!D489)","v":""},"  ",{"$f":"IF(COUNTIF(CT$2:CT467,CT467)=1,CT467,\"\")","v":""},"","","",""]
[null,null,null,null,null,null,null,null,null,null,null,null,null,null,null,null,null,null,null,null,null,null,null,null,null,null,null,null,null,null,null,null,null,null,null,null,null,null,null,null,null,null,null,null,null,null,null,{"$f":"+IF(AW468=\"\",\"\",MAX(AV$1:AV467)+1)","v":""},{"$f":"IF(Compliance_Options!B490=\"\",\"\",Compliance_Options!B490)","v":""},{"$f":"IF(Compliance_Options!C490=\"\",\"\",Compliance_Options!C490)","v":""},{"$f":"IF(Compliance_Options!D490=\"\",\"\",Compliance_Options!D490)","v":""},{"$f":"IF(Compliance_Options!E490=\"\",\"\",Compliance_Options!E490)","v":""},{"$f":"IF(Compliance_Options!F490=\"\",\"\",Compliance_Options!F490)","v":""},"    ",{"$f":"IF(COUNTIF(BB$2:BB468,BB468)=1,BB468,\"\")","v":""},"","","","","","","",{"$f":"+IF(BJ468=\"\",\"\",MAX(BK$1:BK467)+1)","v":""},"","","","","","","",{"$f":"+IF(BR468=\"\",\"\",MAX(BS$1:BS467)+1)","v":""},"","","","","","","",{"$f":"+IF(BZ468=\"\",\"\",MAX(CA$1:CA467)+1)","v":""},"","","","","","","",{"$f":"+IF(CH468=\"\",\"\",MAX(CI$1:CI467)+1)","v":""},"","","","","",null,{"$f":"+IF(CQ468=\"\",\"\",MAX(CP$1:CP467)+1)","v":""},{"$f":"IF(Compliance_Options!B490=\"\",\"\",Compliance_Options!B490)","v":""},{"$f":"IF(Compliance_Options!C490=\"\",\"\",Compliance_Options!C490)","v":""},{"$f":"IF(Compliance_Options!D490=\"\",\"\",Compliance_Options!D490)","v":""},"  ",{"$f":"IF(COUNTIF(CT$2:CT468,CT468)=1,CT468,\"\")","v":""},"","","",""]
[null,null,null,null,null,null,null,null,null,null,null,null,null,null,null,null,null,null,null,null,null,null,null,null,null,null,null,null,null,null,null,null,null,null,null,null,null,null,null,null,null,null,null,null,null,null,null,{"$f":"+IF(AW469=\"\",\"\",MAX(AV$1:AV468)+1)","v":""},{"$f":"IF(Compliance_Options!B491=\"\",\"\",Compliance_Options!B491)","v":""},{"$f":"IF(Compliance_Options!C491=\"\",\"\",Compliance_Options!C491)","v":""},{"$f":"IF(Compliance_Options!D491=\"\",\"\",Compliance_Options!D491)","v":""},{"$f":"IF(Compliance_Options!E491=\"\",\"\",Compliance_Options!E491)","v":""},{"$f":"IF(Compliance_Options!F491=\"\",\"\",Compliance_Options!F491)","v":""},"    ",{"$f":"IF(COUNTIF(BB$2:BB469,BB469)=1,BB469,\"\")","v":""},"","","","","","","",{"$f":"+IF(BJ469=\"\",\"\",MAX(BK$1:BK468)+1)","v":""},"","","","","","","",{"$f":"+IF(BR469=\"\",\"\",MAX(BS$1:BS468)+1)","v":""},"","","","","","","",{"$f":"+IF(BZ469=\"\",\"\",MAX(CA$1:CA468)+1)","v":""},"","","","","","","",{"$f":"+IF(CH469=\"\",\"\",MAX(CI$1:CI468)+1)","v":""},"","","","","",null,{"$f":"+IF(CQ469=\"\",\"\",MAX(CP$1:CP468)+1)","v":""},{"$f":"IF(Compliance_Options!B491=\"\",\"\",Compliance_Options!B491)","v":""},{"$f":"IF(Compliance_Options!C491=\"\",\"\",Compliance_Options!C491)","v":""},{"$f":"IF(Compliance_Options!D491=\"\",\"\",Compliance_Options!D491)","v":""},"  ",{"$f":"IF(COUNTIF(CT$2:CT469,CT469)=1,CT469,\"\")","v":""},"","","",""]
[null,null,null,null,null,null,null,null,null,null,null,null,null,null,null,null,null,null,null,null,null,null,null,null,null,null,null,null,null,null,null,null,null,null,null,null,null,null,null,null,null,null,null,null,null,null,null,{"$f":"+IF(AW470=\"\",\"\",MAX(AV$1:AV469)+1)","v":""},{"$f":"IF(Compliance_Options!B492=\"\",\"\",Compliance_Options!B492)","v":""},{"$f":"IF(Compliance_Options!C492=\"\",\"\",Compliance_Options!C492)","v":""},{"$f":"IF(Compliance_Options!D492=\"\",\"\",Compliance_Options!D492)","v":""},{"$f":"IF(Compliance_Options!E492=\"\",\"\",Compliance_Options!E492)","v":""},{"$f":"IF(Compliance_Options!F492=\"\",\"\",Compliance_Options!F492)","v":""},"    ",{"$f":"IF(COUNTIF(BB$2:BB470,BB470)=1,BB470,\"\")","v":""},"","","","","","","",{"$f":"+IF(BJ470=\"\",\"\",MAX(BK$1:BK469)+1)","v":""},"","","","","","","",{"$f":"+IF(BR470=\"\",\"\",MAX(BS$1:BS469)+1)","v":""},"","","","","","","",{"$f":"+IF(BZ470=\"\",\"\",MAX(CA$1:CA469)+1)","v":""},"","","","","","","",{"$f":"+IF(CH470=\"\",\"\",MAX(CI$1:CI469)+1)","v":""},"","","","","",null,{"$f":"+IF(CQ470=\"\",\"\",MAX(CP$1:CP469)+1)","v":""},{"$f":"IF(Compliance_Options!B492=\"\",\"\",Compliance_Options!B492)","v":""},{"$f":"IF(Compliance_Options!C492=\"\",\"\",Compliance_Options!C492)","v":""},{"$f":"IF(Compliance_Options!D492=\"\",\"\",Compliance_Options!D492)","v":""},"  ",{"$f":"IF(COUNTIF(CT$2:CT470,CT470)=1,CT470,\"\")","v":""},"","","",""]
[null,null,null,null,null,null,null,null,null,null,null,null,null,null,null,null,null,null,null,null,null,null,null,null,null,null,null,null,null,null,null,null,null,null,null,null,null,null,null,null,null,null,null,null,null,null,null,{"$f":"+IF(AW471=\"\",\"\",MAX(AV$1:AV470)+1)","v":""},{"$f":"IF(Compliance_Options!B493=\"\",\"\",Compliance_Options!B493)","v":""},{"$f":"IF(Compliance_Options!C493=\"\",\"\",Compliance_Options!C493)","v":""},{"$f":"IF(Compliance_Options!D493=\"\",\"\",Compliance_Options!D493)","v":""},{"$f":"IF(Compliance_Options!E493=\"\",\"\",Compliance_Options!E493)","v":""},{"$f":"IF(Compliance_Options!F493=\"\",\"\",Compliance_Options!F493)","v":""},"    ",{"$f":"IF(COUNTIF(BB$2:BB471,BB471)=1,BB471,\"\")","v":""},"","","","","","","",{"$f":"+IF(BJ471=\"\",\"\",MAX(BK$1:BK470)+1)","v":""},"","","","","","","",{"$f":"+IF(BR471=\"\",\"\",MAX(BS$1:BS470)+1)","v":""},"","","","","","","",{"$f":"+IF(BZ471=\"\",\"\",MAX(CA$1:CA470)+1)","v":""},"","","","","","","",{"$f":"+IF(CH471=\"\",\"\",MAX(CI$1:CI470)+1)","v":""},"","","","","",null,{"$f":"+IF(CQ471=\"\",\"\",MAX(CP$1:CP470)+1)","v":""},{"$f":"IF(Compliance_Options!B493=\"\",\"\",Compliance_Options!B493)","v":""},{"$f":"IF(Compliance_Options!C493=\"\",\"\",Compliance_Options!C493)","v":""},{"$f":"IF(Compliance_Options!D493=\"\",\"\",Compliance_Options!D493)","v":""},"  ",{"$f":"IF(COUNTIF(CT$2:CT471,CT471)=1,CT471,\"\")","v":""},"","","",""]
[null,null,null,null,null,null,null,null,null,null,null,null,null,null,null,null,null,null,null,null,null,null,null,null,null,null,null,null,null,null,null,null,null,null,null,null,null,null,null,null,null,null,null,null,null,null,null,{"$f":"+IF(AW472=\"\",\"\",MAX(AV$1:AV471)+1)","v":""},{"$f":"IF(Compliance_Options!B494=\"\",\"\",Compliance_Options!B494)","v":""},{"$f":"IF(Compliance_Options!C494=\"\",\"\",Compliance_Options!C494)","v":""},{"$f":"IF(Compliance_Options!D494=\"\",\"\",Compliance_Options!D494)","v":""},{"$f":"IF(Compliance_Options!E494=\"\",\"\",Compliance_Options!E494)","v":""},{"$f":"IF(Compliance_Options!F494=\"\",\"\",Compliance_Options!F494)","v":""},"    ",{"$f":"IF(COUNTIF(BB$2:BB472,BB472)=1,BB472,\"\")","v":""},"","","","","","","",{"$f":"+IF(BJ472=\"\",\"\",MAX(BK$1:BK471)+1)","v":""},"","","","","","","",{"$f":"+IF(BR472=\"\",\"\",MAX(BS$1:BS471)+1)","v":""},"","","","","","","",{"$f":"+IF(BZ472=\"\",\"\",MAX(CA$1:CA471)+1)","v":""},"","","","","","","",{"$f":"+IF(CH472=\"\",\"\",MAX(CI$1:CI471)+1)","v":""},"","","","","",null,{"$f":"+IF(CQ472=\"\",\"\",MAX(CP$1:CP471)+1)","v":""},{"$f":"IF(Compliance_Options!B494=\"\",\"\",Compliance_Options!B494)","v":""},{"$f":"IF(Compliance_Options!C494=\"\",\"\",Compliance_Options!C494)","v":""},{"$f":"IF(Compliance_Options!D494=\"\",\"\",Compliance_Options!D494)","v":""},"  ",{"$f":"IF(COUNTIF(CT$2:CT472,CT472)=1,CT472,\"\")","v":""},"","","",""]
[null,null,null,null,null,null,null,null,null,null,null,null,null,null,null,null,null,null,null,null,null,null,null,null,null,null,null,null,null,null,null,null,null,null,null,null,null,null,null,null,null,null,null,null,null,null,null,{"$f":"+IF(AW473=\"\",\"\",MAX(AV$1:AV472)+1)","v":""},{"$f":"IF(Compliance_Options!B495=\"\",\"\",Compliance_Options!B495)","v":""},{"$f":"IF(Compliance_Options!C495=\"\",\"\",Compliance_Options!C495)","v":""},{"$f":"IF(Compliance_Options!D495=\"\",\"\",Compliance_Options!D495)","v":""},{"$f":"IF(Compliance_Options!E495=\"\",\"\",Compliance_Options!E495)","v":""},{"$f":"IF(Compliance_Options!F495=\"\",\"\",Compliance_Options!F495)","v":""},"    ",{"$f":"IF(COUNTIF(BB$2:BB473,BB473)=1,BB473,\"\")","v":""},"","","","","","","",{"$f":"+IF(BJ473=\"\",\"\",MAX(BK$1:BK472)+1)","v":""},"","","","","","","",{"$f":"+IF(BR473=\"\",\"\",MAX(BS$1:BS472)+1)","v":""},"","","","","","","",{"$f":"+IF(BZ473=\"\",\"\",MAX(CA$1:CA472)+1)","v":""},"","","","","","","",{"$f":"+IF(CH473=\"\",\"\",MAX(CI$1:CI472)+1)","v":""},"","","","","",null,{"$f":"+IF(CQ473=\"\",\"\",MAX(CP$1:CP472)+1)","v":""},{"$f":"IF(Compliance_Options!B495=\"\",\"\",Compliance_Options!B495)","v":""},{"$f":"IF(Compliance_Options!C495=\"\",\"\",Compliance_Options!C495)","v":""},{"$f":"IF(Compliance_Options!D495=\"\",\"\",Compliance_Options!D495)","v":""},"  ",{"$f":"IF(COUNTIF(CT$2:CT473,CT473)=1,CT473,\"\")","v":""},"","","",""]
[null,null,null,null,null,null,null,null,null,null,null,null,null,null,null,null,null,null,null,null,null,null,null,null,null,null,null,null,null,null,null,null,null,null,null,null,null,null,null,null,null,null,null,null,null,null,null,{"$f":"+IF(AW474=\"\",\"\",MAX(AV$1:AV473)+1)","v":""},{"$f":"IF(Compliance_Options!B496=\"\",\"\",Compliance_Options!B496)","v":""},{"$f":"IF(Compliance_Options!C496=\"\",\"\",Compliance_Options!C496)","v":""},{"$f":"IF(Compliance_Options!D496=\"\",\"\",Compliance_Options!D496)","v":""},{"$f":"IF(Compliance_Options!E496=\"\",\"\",Compliance_Options!E496)","v":""},{"$f":"IF(Compliance_Options!F496=\"\",\"\",Compliance_Options!F496)","v":""},"    ",{"$f":"IF(COUNTIF(BB$2:BB474,BB474)=1,BB474,\"\")","v":""},"","","","","","","",{"$f":"+IF(BJ474=\"\",\"\",MAX(BK$1:BK473)+1)","v":""},"","","","","","","",{"$f":"+IF(BR474=\"\",\"\",MAX(BS$1:BS473)+1)","v":""},"","","","","","","",{"$f":"+IF(BZ474=\"\",\"\",MAX(CA$1:CA473)+1)","v":""},"","","","","","","",{"$f":"+IF(CH474=\"\",\"\",MAX(CI$1:CI473)+1)","v":""},"","","","","",null,{"$f":"+IF(CQ474=\"\",\"\",MAX(CP$1:CP473)+1)","v":""},{"$f":"IF(Compliance_Options!B496=\"\",\"\",Compliance_Options!B496)","v":""},{"$f":"IF(Compliance_Options!C496=\"\",\"\",Compliance_Options!C496)","v":""},{"$f":"IF(Compliance_Options!D496=\"\",\"\",Compliance_Options!D496)","v":""},"  ",{"$f":"IF(COUNTIF(CT$2:CT474,CT474)=1,CT474,\"\")","v":""},"","","",""]
[null,null,null,null,null,null,null,null,null,null,null,null,null,null,null,null,null,null,null,null,null,null,null,null,null,null,null,null,null,null,null,null,null,null,null,null,null,null,null,null,null,null,null,null,null,null,null,{"$f":"+IF(AW475=\"\",\"\",MAX(AV$1:AV474)+1)","v":""},{"$f":"IF(Compliance_Options!B497=\"\",\"\",Compliance_Options!B497)","v":""},{"$f":"IF(Compliance_Options!C497=\"\",\"\",Compliance_Options!C497)","v":""},{"$f":"IF(Compliance_Options!D497=\"\",\"\",Compliance_Options!D497)","v":""},{"$f":"IF(Compliance_Options!E497=\"\",\"\",Compliance_Options!E497)","v":""},{"$f":"IF(Compliance_Options!F497=\"\",\"\",Compliance_Options!F497)","v":""},"    ",{"$f":"IF(COUNTIF(BB$2:BB475,BB475)=1,BB475,\"\")","v":""},"","","","","","","",{"$f":"+IF(BJ475=\"\",\"\",MAX(BK$1:BK474)+1)","v":""},"","","","","","","",{"$f":"+IF(BR475=\"\",\"\",MAX(BS$1:BS474)+1)","v":""},"","","","","","","",{"$f":"+IF(BZ475=\"\",\"\",MAX(CA$1:CA474)+1)","v":""},"","","","","","","",{"$f":"+IF(CH475=\"\",\"\",MAX(CI$1:CI474)+1)","v":""},"","","","","",null,{"$f":"+IF(CQ475=\"\",\"\",MAX(CP$1:CP474)+1)","v":""},{"$f":"IF(Compliance_Options!B497=\"\",\"\",Compliance_Options!B497)","v":""},{"$f":"IF(Compliance_Options!C497=\"\",\"\",Compliance_Options!C497)","v":""},{"$f":"IF(Compliance_Options!D497=\"\",\"\",Compliance_Options!D497)","v":""},"  ",{"$f":"IF(COUNTIF(CT$2:CT475,CT475)=1,CT475,\"\")","v":""},"","","",""]
[null,null,null,null,null,null,null,null,null,null,null,null,null,null,null,null,null,null,null,null,null,null,null,null,null,null,null,null,null,null,null,null,null,null,null,null,null,null,null,null,null,null,null,null,null,null,null,{"$f":"+IF(AW476=\"\",\"\",MAX(AV$1:AV475)+1)","v":""},{"$f":"IF(Compliance_Options!B498=\"\",\"\",Compliance_Options!B498)","v":""},{"$f":"IF(Compliance_Options!C498=\"\",\"\",Compliance_Options!C498)","v":""},{"$f":"IF(Compliance_Options!D498=\"\",\"\",Compliance_Options!D498)","v":""},{"$f":"IF(Compliance_Options!E498=\"\",\"\",Compliance_Options!E498)","v":""},{"$f":"IF(Compliance_Options!F498=\"\",\"\",Compliance_Options!F498)","v":""},"    ",{"$f":"IF(COUNTIF(BB$2:BB476,BB476)=1,BB476,\"\")","v":""},"","","","","","","",{"$f":"+IF(BJ476=\"\",\"\",MAX(BK$1:BK475)+1)","v":""},"","","","","","","",{"$f":"+IF(BR476=\"\",\"\",MAX(BS$1:BS475)+1)","v":""},"","","","","","","",{"$f":"+IF(BZ476=\"\",\"\",MAX(CA$1:CA475)+1)","v":""},"","","","","","","",{"$f":"+IF(CH476=\"\",\"\",MAX(CI$1:CI475)+1)","v":""},"","","","","",null,{"$f":"+IF(CQ476=\"\",\"\",MAX(CP$1:CP475)+1)","v":""},{"$f":"IF(Compliance_Options!B498=\"\",\"\",Compliance_Options!B498)","v":""},{"$f":"IF(Compliance_Options!C498=\"\",\"\",Compliance_Options!C498)","v":""},{"$f":"IF(Compliance_Options!D498=\"\",\"\",Compliance_Options!D498)","v":""},"  ",{"$f":"IF(COUNTIF(CT$2:CT476,CT476)=1,CT476,\"\")","v":""},"","","",""]
[null,null,null,null,null,null,null,null,null,null,null,null,null,null,null,null,null,null,null,null,null,null,null,null,null,null,null,null,null,null,null,null,null,null,null,null,null,null,null,null,null,null,null,null,null,null,null,{"$f":"+IF(AW477=\"\",\"\",MAX(AV$1:AV476)+1)","v":""},{"$f":"IF(Compliance_Options!B499=\"\",\"\",Compliance_Options!B499)","v":""},{"$f":"IF(Compliance_Options!C499=\"\",\"\",Compliance_Options!C499)","v":""},{"$f":"IF(Compliance_Options!D499=\"\",\"\",Compliance_Options!D499)","v":""},{"$f":"IF(Compliance_Options!E499=\"\",\"\",Compliance_Options!E499)","v":""},{"$f":"IF(Compliance_Options!F499=\"\",\"\",Compliance_Options!F499)","v":""},"    ",{"$f":"IF(COUNTIF(BB$2:BB477,BB477)=1,BB477,\"\")","v":""},"","","","","","","",{"$f":"+IF(BJ477=\"\",\"\",MAX(BK$1:BK476)+1)","v":""},"","","","","","","",{"$f":"+IF(BR477=\"\",\"\",MAX(BS$1:BS476)+1)","v":""},"","","","","","","",{"$f":"+IF(BZ477=\"\",\"\",MAX(CA$1:CA476)+1)","v":""},"","","","","","","",{"$f":"+IF(CH477=\"\",\"\",MAX(CI$1:CI476)+1)","v":""},"","","","","",null,{"$f":"+IF(CQ477=\"\",\"\",MAX(CP$1:CP476)+1)","v":""},{"$f":"IF(Compliance_Options!B499=\"\",\"\",Compliance_Options!B499)","v":""},{"$f":"IF(Compliance_Options!C499=\"\",\"\",Compliance_Options!C499)","v":""},{"$f":"IF(Compliance_Options!D499=\"\",\"\",Compliance_Options!D499)","v":""},"  ",{"$f":"IF(COUNTIF(CT$2:CT477,CT477)=1,CT477,\"\")","v":""},"","","",""]
[null,null,null,null,null,null,null,null,null,null,null,null,null,null,null,null,null,null,null,"End Compliant Material",null,null,null,null,null,null,null,null,null,null,null,null,null,null,null,null,null,null,null,null,null,null,null,null,null,null,null,{"$f":"+IF(AW478=\"\",\"\",MAX(AV$1:AV477)+1)","v":""},{"$f":"IF(Compliance_Options!B500=\"\",\"\",Compliance_Options!B500)","v":""},{"$f":"IF(Compliance_Options!C500=\"\",\"\",Compliance_Options!C500)","v":""},{"$f":"IF(Compliance_Options!D500=\"\",\"\",Compliance_Options!D500)","v":""},{"$f":"IF(Compliance_Options!E500=\"\",\"\",Compliance_Options!E500)","v":""},{"$f":"IF(Compliance_Options!F500=\"\",\"\",Compliance_Options!F500)","v":""},"    ",{"$f":"IF(COUNTIF(BB$2:BB478,BB478)=1,BB478,\"\")","v":""},"","","","","","","",{"$f":"+IF(BJ478=\"\",\"\",MAX(BK$1:BK477)+1)","v":""},"","","","","","","",{"$f":"+IF(BR478=\"\",\"\",MAX(BS$1:BS477)+1)","v":""},"","","","","","","",{"$f":"+IF(BZ478=\"\",\"\",MAX(CA$1:CA477)+1)","v":""},"","","","","","","",{"$f":"+IF(CH478=\"\",\"\",MAX(CI$1:CI477)+1)","v":""},"","","","","",null,{"$f":"+IF(CQ478=\"\",\"\",MAX(CP$1:CP477)+1)","v":""},{"$f":"IF(Compliance_Options!B500=\"\",\"\",Compliance_Options!B500)","v":""},{"$f":"IF(Compliance_Options!C500=\"\",\"\",Compliance_Options!C500)","v":""},{"$f":"IF(Compliance_Options!D500=\"\",\"\",Compliance_Options!D500)","v":""},"  ",{"$f":"IF(COUNTIF(CT$2:CT478,CT478)=1,CT478,\"\")","v":""},"","","",""]
[null,null,null,null,null,null,null,null,null,null,null,null,null,null,null,null,null,null,null,"Start No Addon"]
[]
[]
[]
[]
[]
[]
[]
[]
[]
[]
[]
[]
[]
[]
[]
[]
[]
[]
[]
[]
[]
[]
[]
[]
[]
[]
[]
[]
[]
[]
[]
[]
[]
[]
[]
[]
[]
[]
[]
[]
[]
[]
[]
[]
[]
[]
[]
[]
[]
[]
[]
[]
[]
[]
[]
[]
[]
[]
[]
[]
[]
[]
[]
[]
[]
[]
[]
[]
[]
[]
[]
[]
[]
[]
[]
[]
[]
[]
[]
[]
[]
[]
[]
[]
[]
[]
[]
[]
[]
[]
[]
[]
[]
[]
[]
[]
[]
[]
[]
[]
[]
[]
[]
[]
[]
[]
[]
[]
[]
[]
[]
[]
[]
[]
[]
[]
[]
[]
[]
[]
[]
[]
[]
[]
[]
[]
[]
[]
[]
[]
[]
[]
[]
[]
[]
[]
[]
[]
[]
[]
[]
[]
[]
[]
[]
[]
[]
[]
[]
[]
[]
[]
[]
[]
[]
[]
[]
[]
[]
[]
[]
[]
[]
[]
[]
[]
[]
[]
[]
[]
[]
[]
[]
[]
[]
[]
[]
[]
[]
[]
[]
[]
[]
[]
[]
[]
[]
[]
[]
[]
[]
[]
[]
[]
[]
[]
[]
[]
[]
[]
[]
[]
[]
[]
[]
[]
[]
[]
[]
[]
[]
[]
[]
[]
[]
[]
[]
[]
[]
[]
[]
[]
[]
[]
[]
[]
[]
[]
[]
[]
[]
[]
[]
[]
[]
[]
[]
[]
[]
[]
[]
[]
[]
[]
[]
[]
[]
[]
[]
[]
[]
[]
[]
[]
[]
[]
[]
[]
[]
[]
[]
[]
[]
[]
[]
[]
[]
[]
[]
[]
[]
[]
[]
[]
[]
[]
[]
[]
[]
[]
[]
[]
[]
[]
[]
[]
[]
[]
[]
[]
[]
[]
[]
[]
[]
[]
[]
[]
[]
[]
[]
[]
[]
[]
[]
[]
[]
[]
[]
[]
[]
[]
[]
[]
[]
[]
[]
[]
[]
[]
[]
[]
[]
[]
[]
[]
[]
[]
[]
[]
[]
[]
[]
[]
[]
[]
[]
[]
[]
[]
[]
[]
[]
[]
[]
[]
[]
[]
[]
[]
[]
[]
[]
[]
[]
[]
[]
[]
[]
[]
[]
[]
[]
[]
[]
[]
[]
[]
[]
[]
[]
[]
[]
[]
[]
[]
[]
[]
[]
[]
[]
[]
[]
[]
[]
[]
[]
[]
[]
[]
[]
[]
[]
[]
[]
[]
[]
[]
[]
[]
[]
[]
[]
[]
[]
[]
[]
[]
[]
[]
[]
[]
[]
[]
[]
[]
[]
[]
[]
[]
[]
[]
[]
[]
[]
[]
[]
[]
[]
[]
[]
[]
[]
[]
[]
[]
[]
[]
[]
[]
[]
[]
[]
[]
[]
[]
[]
[]
[]
[]
[]
[]
[]
[]
[]
[]
[]
[]
[]
[]
[]
[]
[]
[]
[]
[]
[]
[]
[]
[]
[]
[]
[]
[]
[]
[null,null,null,null,null,null,null,null,null,null,null,null,null,null,null,null,null,null,null,"End W/out Addon"]
[null,null,null,null,null,null,null,null,null,null,null,null,null,null,null,null,null,null,null,"Start w/addon"]

{"sheet":"Welcome","index":2,"n_rows":21,"n_cols":2,"rows_kept":21,"cut":false,"hidden":false,"merged":[]}
["DO NOT REMOVE OR EDIT INFORMATION IN THIS SECTION\nFOR INTERNAL USE ONLY"]
["Template Name","63.6009(k) Notification of Compliance and  §63.6010(g) Semiannual Compliance Report (Spreadsheet Template)"]
["CitationID","63.6009(k) and 63.6010(g)"]
["Template Version","v1.02"]
["Last Updated Date","2020-06-16"]
[null,"OMB Control Number: 2060-0449"]
[null,"40 CFR Part 63, Subpart XXXX National Emission Standards for Hazardous Air Pollutants: Rubber Tire Manufacturing - §63.6009(k) Notification of Compliance Status and §63.6010(g) Semiannual Compliance Report Spreadsheet Template"]
[null,"Welcome and Instructions"]
[null,"Purpose:"]
[null,"This spreadsheet template was designed by the U.S. EPA to facilitate the Notification of Compliance Status and Compliance reporting for facilities subject to 40 CFR part 63, subpart XXXX. The Notification of Compliance Status (NOCS) is a one time notification that is required for new or reconstructed sources by §63.6009(k) no later than 30 calendar days following the end of the initial 12 month compliance  period. The compliance report is a report that is required for existing sources by §63.6010(g) and is due every six months, unless the facility qualifies for annual reporting (§63.6010(f)). The EPA's Compliance and Emissions Data Reporting (CEDRI) is accessible through the EPA's Central Data Exchange (https://cdx.epa.gov)\n"]
[null,"Electronic reporting:"]
[null,"Electronic submission of Compliance reports through CEDRI is required under §63.6010.\n"]
[null,"A completed spreadsheet template should be uploaded to CEDRI to fulfill the electronic reporting requirements under §63.6009 and §63.6010.\n\n"]
[null,"Do not submit information you claim as confidential business information (CBI) to EPA via CEDRI. EPA will make all the information submitted through this form via CEDRI available to the public without further notice to you. Anything submitted using CEDRI cannot later be claimed to be CBI. Furthermore, under CAA section 114(c) emissions data is not entitled to confidential treatment and requires EPA to make emissions data available to the public. Thus, emissions data will not be protected as CBI and will be made publicly available.\n\nAlthough we do not expect persons to assert a claim of CBI, if persons wish to assert a CBI claim, you must submit the report via CEDRI with the CBI omitted and mail a complete report, including any information claimed to be CBI, to EPA on a compact disc, flash drive, or other commonly used electronic storage media via U.S. postal service. You must mark the outside of the digital storage media as CBI and then identify electronically within the digital storage media the specific information that is claimed as CBI. Mail the media to the address in the referencing federal regulation. If no address is specified, mail the media to:\n\nU.S. EPA/OAQPS/CORE CBI Office Attention: Group Leader, \nMeasurement Policy Group MD C404-02\n4930 Old Page Rd\nDurham, North Carolina 27703"]
[null,"IMPORTANT: The spreadsheet must be uploaded into CEDRI as a single ZIP file, which must include this Excel workbook and any related attachments that were referenced in the workbook (i.e., additional information file found in the \"Company_Information\" worksheet). \n\nNote: If you are uploading file attachments for your report, the uploaded files may be in any format (e.g., zip, docx, PDF). If you would like to include an Excel file(s) as an attachment, you must first zip the excel file(s) into a separate ZIP file and include within the master ZIP file that will be uploaded into CEDRI.\n\nOnce all data have been entered into the worksheets, combine this completed Excel workbook and all attachment files (including any ZIP file containing separate excel file(s), if applicable) into a single ZIP file for upload to CEDRI.\n"]
[null,"Template Navigation and Worksheets to Complete:"]
[null,"Gray worksheets:  The gray worksheets labeled Company_Information and Compliance_ Options contain general information that is common to both the Notification of Compliance Status and the Compliance Report and should be completed first.  After completing the gray worksheets, the spreadsheet may be saved as a site specific template to use in subsequent reports to limit subsequent data entry.  Selecting \"No\" or \"Yes\" in the \"Is this report a Notification of Compliance Status (NOCS)?\" selection (found on the Company_Information worksheet) will hide or make visible the worksheets associated with the NOCS. The information in the gray worksheet varies very little from one reporting period to the next.  NOTE: Some dropdowns on a given worksheet are dependent on data from a preceding column, so it may look like the dropdown is empty at first glance."]
[null,"Orange worksheets: The orange worksheets (NoticeOfComplianceStatus, NOCS_TireProduction, NOCS_TireCordProd, NOCS_PunctureSealantApp, and NOCS_Certification) are required if the submission is a Notification of Compliance Status.  These worksheets will be hidden if \"No\" is selected in column P in the Company Information worksheet as the answer to \"Is this report a Notification of Compliance Status (NOCS)?\" question.  The first three or four columns in each NOCS worksheet will be prefilled based on information entered in the 'Compliance_Options' worksheet.\n"]
[null,"Green worksheets:  In addition to the gray worksheets, complete the green worksheet(s) (Compliance Rpt - Tire Prod, Compliance Rpt - Tire Cord, Compliance Rpt - Puncture Seal, and Compliance Rpt - Deviations), that represents the actual compliance option used for each reporting period.  The first three columns in each Compliance Rpt worksheet will be prefilled based on information entered in the 'Compliance_Options' worksheet.\n\nThe Compliance Rpt - Certification worksheet must be completed for every compliance report. The NOCS Certification worksheet must be completed for the one time NOCS.\n"]
[null,"Within the worksheets, examples are provided (or will be provided in Final template) and example rows are colored light red (rows 14 through 23), and the XML tags (row 13, hidden)) are colored green.  These rows are locked and cannot be used for data entry. \n"]
[null,"Certification:\nComplete the NOCS_Certification worksheet to complete the NOCS certification statement in accordance with §63.9(h)(2)(i)(G). \n\nComplete the Compliance Rpt - Certification worksheet to complete the certification statements required by §63.6010(c)(5), (6), and (8).\n"]

{"sheet":"Company_Information","index":3,"n_rows":33,"n_cols":17,"rows_kept":33,"cut":false,"hidden":false,"merged":[]}
[null,"DO NOT REMOVE OR EDIT INFORMATION IN THIS SECTION FOR INTERNAL USE ONLY"]
[null,"Template Name",{"$f":"Welcome!B2","v":"63.6009(k) Notification of Compliance and  §63.6010(g) Semiannual Compliance Report (Spreadsheet Template)"}]
[null,"CitationID",{"$f":"Welcome!B3","v":"63.6009(k) and 63.6010(g)"}]
[null,"Template Version",{"$f":"Welcome!B4","v":"v1.02"}]
[null,"Last Updated Date",{"$f":"Welcome!B5","v":"2020-06-16"}]
[null,{"$f":"Welcome!B6","v":"OMB Control Number: 2060-0449"}]
[null,"40 CFR Part 63, Subpart XXXX National Emission Standards for Hazardous Air Pollutants: Rubber Tire Manufacturing - §63.6009(k) Notification of Compliance Status and  §63.6010(g) Semiannual Compliance Report Spreadsheet Template"]
[null,"\n"]
[]
[null,"Note: If submitting NOCS for any Facility listed in the table below, scroll to column Q and select Yes.  New NOCS specfic worksheets will display."]
[null,null,"SITE INFORMATION",null,null,null,null,null,null,null,null,"REPORTING PERIOD",null,null,"ADDITIONAL INFORMATION"]
[null,"Company Record No. *\n(Field value will automatically generate when Company Name entered in Column C.)","Company Name * \n(§63.6010(c)(1))","Address * \n(§63.6010(c)(1))","Address 2 ","City *\n(§63.6010(c)(1))","County","State Abbreviation *\n(§63.6010(c)(1))","Zip Code *\n(§63.6010(c)(1))","Responsible Agency Facility ID \n(State Facility Identifier)","Is this an Existing or New or Reconstructed Effective Source\n(Select from dropdown)","Date of Report *\n(§63.6010(c)(3))","Beginning Date of Reporting Period *\n(§63.6010(c)(3))","Ending Date of Reporting Period * (§63.6010(c)(3))","Please enter any additional information.","Enter associated file name reference. ","Is this report a Notification of Compliance Status (NOCS)?\n(Select from dropdown)"]
[null,"RecordId","CompanyName","AddressLine1","AddressLine2","CityName","CountyName","StateName","ZIPCode","StateFacID","EffectiveSource","ReportDate","PeriodStartDate","PeriodEndDate","AddInfo","AddFile","NocsFlag"]
[null,"e.g.: 1","e.g.: EPA Tire & Rubber Co","e.g.: 123 Main Street","e.g.: Suite 100","e.g.: Brooklyn","e.g.: Kings","e.g.: NY","e.g.: 11221","e.g.: 9145555555","e.g.: New or Reconstructed Source","e.g.: 7/2/2017","e.g.: 1/1/2017","e.g.: 6/30/2017","e.g.: Provide any additional information here.","e.g.: addlinfo.zip ","e.g.:Yes"]
[null,null,null,null,null,null,null,null,null,null,"e.g.: Existing"]
[]
[]
[]
[]
[]
[]
[]
[]
[null,{"$f":"+IF(C24=\"\",\"\",MAX(B$23:B23)+1)","v":""}]
[null,{"$f":"+IF(C25=\"\",\"\",MAX(B$23:B24)+1)","v":""}]
[null,{"$f":"+IF(C26=\"\",\"\",MAX(B$23:B25)+1)","v":""}]
[null,{"$f":"+IF(C27=\"\",\"\",MAX(B$23:B26)+1)","v":""}]
[null,{"$f":"+IF(C28=\"\",\"\",MAX(B$23:B27)+1)","v":""}]
[null,{"$f":"+IF(C29=\"\",\"\",MAX(B$23:B28)+1)","v":""}]
[null,{"$f":"+IF(C30=\"\",\"\",MAX(B$23:B29)+1)","v":""}]
[null,{"$f":"+IF(C31=\"\",\"\",MAX(B$23:B30)+1)","v":""}]
[null,{"$f":"+IF(C32=\"\",\"\",MAX(B$23:B31)+1)","v":""}]
[null,{"$f":"+IF(C33=\"\",\"\",MAX(B$23:B32)+1)","v":""}]

{"sheet":"Compliance_Options","index":4,"n_rows":15,"n_cols":7,"rows_kept":15,"cut":false,"hidden":false,"merged":[]}
[null,"DO NOT REMOVE OR EDIT INFORMATION IN THIS SECTION\nFOR INTERNAL USE ONLY"]
[null,"Template Name",{"$f":"Welcome!B2","v":"63.6009(k) Notification of Compliance and  §63.6010(g) Semiannual Compliance Report (Spreadsheet Template)"}]
[null,"CitationID",{"$f":"Welcome!B3","v":"63.6009(k) and 63.6010(g)"}]
[null,"Template Version",{"$f":"Welcome!B4","v":"v1.02"}]
[null,"Last Updated Date",{"$f":"Welcome!B5","v":"2020-06-16"}]
[null,{"$f":"Welcome!B6","v":"OMB Control Number: 2060-0449"}]
[null,"40 CFR Part 63, Subpart XXXX National Emission Standards for Hazardous Air Pollutants: Rubber Tire Manufacturing - "]
[null,{"$f":"Welcome!B2","v":"63.6009(k) Notification of Compliance and  §63.6010(g) Semiannual Compliance Report (Spreadsheet Template)"}]
[]
[null,"Note: Company Record No. selections appear once Company(s) are added to Company_Information worksheet. Fill out table moving left to right, as dropdowns are dependent on previous selections."]
[null,"COMPLIANCE OPTIONS"]
[null,"Company Record No. *\n(Select from dropdown)","Rubber Tire Manufacturing Affected Source or Facility as stated in §63.6010(c)(7) if applicable.\n(§63.9(h))","Rubber Tire Manufacturing Subcategory\n(Select from dropdown)","Identification of the Compliance Option\n(Appendices - Table 1, 2, 3, or 4 To Subpart XXXX of Part 63)\n(Select from dropdown)","Identification of the Compliance Alternative\n(Appendices - Table 1, 2, 3, or 4 To Subpart XXXX of Part 63)\n(Select from dropdown)","Select corresponding emissions or operating limit\n(Appendices - Table 1, 2, 3, or 4 To Subpart XXXX of Part 63)\n(Select from dropdown)"]
[null,"RecordId","OperationName","Subcategory","ComplianceOptions","ComplianceOptionAlt","EmissionLimit"]
[null,"e.g.: 1","e.g.: Mixer #1","e.g.: Rubber Processing","e.g.: There are no emission limitations or other requirements for the rubber processing affected source.","e.g.: There are no emission limitations or other requirements for the rubber processing affected source.","e.g.: There are no emission limitations or other requirements for the rubber processing affected source."]
[null,"e.g.: 2","e.g.: EPA Tire & Rubber Co","e.g.: Tire Production","e.g.: Option 1—HAP constituent option","e.g.: Purchase alternative","e.g.: a. Emissions of each HAP in Table 16 to this subpart must not exceed 1,000 grams HAP per megagram (2 pounds per ton) of total cements and solvents used at the tire production affected source, and b. Emissions of each HAP not in Table 16 to this subpart must not exceed 10,000 grams HAP per megagram (20 pounds per ton) of total cements and solvents used at the tire production affected source."]

{"sheet":"NoticeOfComplianceStatus","index":5,"n_rows":100,"n_cols":12,"rows_kept":100,"cut":false,"hidden":true,"merged":[]}
[null,"DO NOT REMOVE OR EDIT INFORMATION IN THIS SECTION\nFOR INTERNAL USE ONLY"]
[null,"Template Name",{"$f":"Welcome!B2","v":"63.6009(k) Notification of Compliance and  §63.6010(g) Semiannual Compliance Report (Spreadsheet Template)"}]
[null,"CitationID",{"$f":"Welcome!B3","v":"63.6009(k) and 63.6010(g)"}]
[null,"Template Version",{"$f":"Welcome!B4","v":"v1.02"}]
[null,"Last Updated Date",{"$f":"Welcome!B5","v":"2020-06-16"}]
[null,{"$f":"Welcome!B6","v":"OMB Control Number: 2060-0449"}]
[null,"40 CFR Part 63, Subpart XXXX National Emission Standards for Hazardous Air Pollutants: Rubber Tire Manufacturing - "]
[null,"\n"]
[]
[null,"Note: Columns B through F will be autofilled based on responses provided in the Compliance_Options worksheet."]
[null,"63.6009(k) Notification of Compliance Status - Can Provide single attached file to include all information required to be reported. Provide file name in appropriate cells below.",null,null,null,null,null,null,null,null,null,"Se"]
[null,"Company Record No. *\n(Autofilled)","Name of Rubber Tire Manufacturing Affected Source *\n(§63.9(h))\n(Autofilled)","Rubber Tire Manufacturing Subcategory\n(Autofilled)","Identification of the methods that were used to determine compliance. \n(§63.9(h)(2)(i)(A)) \n(Autofilled)","Corresponding emissions or operating limit\n(Appendices - Table 1, 2, 3, or 4 To Subpart XXXX of Part 63)\n(Autofilled)","Name of file containing the results of any performance tests, opacity or visible emission observations, continuous monitoring system (CMS) performance evaluations, and/or other monitoring procedures or methods that were conducted. *\n(§63.9(h)(2)(i)(B)) ","Name of file containing the Methods that will be used for Determining Continuing Compliance, including a description of monitoring and reporting requirements and test methods *\n(§63.9(h)(2)(i)(C))","Name of the file containing the type and quantity of hazardous air pollutants emitted by the source (or surrogate pollutants) *\n(§63.9(h)(2)(i)(D))","Name of file containing an analysis demonstrating whether the affected source is a major source (using the emissions data generated for this notification) *\n(§63.9(h)(2)(i)(E))","Name of file containing the Descrip. of Air Pollution Control Equipment (or method) for each emission point, incl. each control device (or method) for each HAP and the control efficiency (percent) for each control device (or method) *\n(§63.9(h)(2)(i)(F))"]
[null,"RecordId","OperationName","Subcategory","ComplianceOptions","EmissionLimit","AddFile1","AddFile2","AddFile3","AddFile4","AddFile5"]
[null,"e.g.: 1","e.g.: Mixer #1","e.g.: Tire Production","e.g.: Option 1—HAP constituent option","e.g.: a. Emissions of each HAP in Table 16 to this subpart must not exceed 1,000 grams HAP per megagram (2 pounds per ton) of total cements and solvents used at the tire production affected source, and b. Emissions of each HAP not in Table 16 to this subpart must not exceed 10,000 grams HAP per megagram (20 pounds per ton) of total cements and solvents used at the tire production affected source.","e.g.:mixer1data.pdf","e.g.:mixer1data.pdf","e.g.:mixer1data.pdf","e.g.:mixer1data.pdf","e.g.:mixer1data.pdf"]
[null,"e.g.: 2","e.g.: Extruder #1","e.g.: Tire cord Production","e.g.: Option 1.b (production-based option)—New or reconstructed tire cord production affected source","e.g.: Emissions must not exceed 220 grams HAP per megagram (0.43 pounds per ton) of fabric processed at the tire cord production affected source.","e.g.:extruder1data.pdf","e.g.:extruder1data.pdf","e.g.:extruder1data.pdf","e.g.:extruder1data.pdf","e.g.:extruder1data.pdf"]
[]
[]
[]
[]
[]
[]
[]
[]
[null,{"$f":"IF(Lists!BE2=\"\",\"\",Lists!BE2)","v":""},{"$f":"IF(Lists!BF2=\"\",\"\",Lists!BF2)","v":""},{"$f":"IF(Lists!BG2=\"\",\"\",Lists!BG2)","v":""},{"$f":"IF(Lists!BH2=\"\",\"\",Lists!BH2)","v":""},{"$f":"IF(Lists!BI2=\"\",\"\",Lists!BI2)","v":""}]
[null,{"$f":"IF(Lists!BE3=\"\",\"\",Lists!BE3)","v":""},{"$f":"IF(Lists!BF3=\"\",\"\",Lists!BF3)","v":""},{"$f":"IF(Lists!BG3=\"\",\"\",Lists!BG3)","v":""},{"$f":"IF(Lists!BH3=\"\",\"\",Lists!BH3)","v":""},{"$f":"IF(Lists!BI3=\"\",\"\",Lists!BI3)","v":""}]
[null,{"$f":"IF(Lists!BE4=\"\",\"\",Lists!BE4)","v":""},{"$f":"IF(Lists!BF4=\"\",\"\",Lists!BF4)","v":""},{"$f":"IF(Lists!BG4=\"\",\"\",Lists!BG4)","v":""},{"$f":"IF(Lists!BH4=\"\",\"\",Lists!BH4)","v":""},{"$f":"IF(Lists!BI4=\"\",\"\",Lists!BI4)","v":""}]
[null,{"$f":"IF(Lists!BE5=\"\",\"\",Lists!BE5)","v":""},{"$f":"IF(Lists!BF5=\"\",\"\",Lists!BF5)","v":""},{"$f":"IF(Lists!BG5=\"\",\"\",Lists!BG5)","v":""},{"$f":"IF(Lists!BH5=\"\",\"\",Lists!BH5)","v":""},{"$f":"IF(Lists!BI5=\"\",\"\",Lists!BI5)","v":""}]
[null,{"$f":"IF(Lists!BE6=\"\",\"\",Lists!BE6)","v":""},{"$f":"IF(Lists!BF6=\"\",\"\",Lists!BF6)","v":""},{"$f":"IF(Lists!BG6=\"\",\"\",Lists!BG6)","v":""},{"$f":"IF(Lists!BH6=\"\",\"\",Lists!BH6)","v":""},{"$f":"IF(Lists!BI6=\"\",\"\",Lists!BI6)","v":""}]
[null,{"$f":"IF(Lists!BE7=\"\",\"\",Lists!BE7)","v":""},{"$f":"IF(Lists!BF7=\"\",\"\",Lists!BF7)","v":""},{"$f":"IF(Lists!BG7=\"\",\"\",Lists!BG7)","v":""},{"$f":"IF(Lists!BH7=\"\",\"\",Lists!BH7)","v":""},{"$f":"IF(Lists!BI7=\"\",\"\",Lists!BI7)","v":""}]
[null,{"$f":"IF(Lists!BE8=\"\",\"\",Lists!BE8)","v":""},{"$f":"IF(Lists!BF8=\"\",\"\",Lists!BF8)","v":""},{"$f":"IF(Lists!BG8=\"\",\"\",Lists!BG8)","v":""},{"$f":"IF(Lists!BH8=\"\",\"\",Lists!BH8)","v":""},{"$f":"IF(Lists!BI8=\"\",\"\",Lists!BI8)","v":""}]
[null,{"$f":"IF(Lists!BE9=\"\",\"\",Lists!BE9)","v":""},{"$f":"IF(Lists!BF9=\"\",\"\",Lists!BF9)","v":""},{"$f":"IF(Lists!BG9=\"\",\"\",Lists!BG9)","v":""},{"$f":"IF(Lists!BH9=\"\",\"\",Lists!BH9)","v":""},{"$f":"IF(Lists!BI9=\"\",\"\",Lists!BI9)","v":""}]
[null,{"$f":"IF(Lists!BE10=\"\",\"\",Lists!BE10)","v":""},{"$f":"IF(Lists!BF10=\"\",\"\",Lists!BF10)","v":""},{"$f":"IF(Lists!BG10=\"\",\"\",Lists!BG10)","v":""},{"$f":"IF(Lists!BH10=\"\",\"\",Lists!BH10)","v":""},{"$f":"IF(Lists!BI10=\"\",\"\",Lists!BI10)","v":""}]
[null,{"$f":"IF(Lists!BE11=\"\",\"\",Lists!BE11)","v":""},{"$f":"IF(Lists!BF11=\"\",\"\",Lists!BF11)","v":""},{"$f":"IF(Lists!BG11=\"\",\"\",Lists!BG11)","v":""},{"$f":"IF(Lists!BH11=\"\",\"\",Lists!BH11)","v":""},{"$f":"IF(Lists!BI11=\"\",\"\",Lists!BI11)","v":""}]
[null,{"$f":"IF(Lists!BE12=\"\",\"\",Lists!BE12)","v":""},{"$f":"IF(Lists!BF12=\"\",\"\",Lists!BF12)","v":""},{"$f":"IF(Lists!BG12=\"\",\"\",Lists!BG12)","v":""},{"$f":"IF(Lists!BH12=\"\",\"\",Lists!BH12)","v":""},{"$f":"IF(Lists!BI12=\"\",\"\",Lists!BI12)","v":""}]
[null,{"$f":"IF(Lists!BE13=\"\",\"\",Lists!BE13)","v":""},{"$f":"IF(Lists!BF13=\"\",\"\",Lists!BF13)","v":""},{"$f":"IF(Lists!BG13=\"\",\"\",Lists!BG13)","v":""},{"$f":"IF(Lists!BH13=\"\",\"\",Lists!BH13)","v":""},{"$f":"IF(Lists!BI13=\"\",\"\",Lists!BI13)","v":""}]
[null,{"$f":"IF(Lists!BE14=\"\",\"\",Lists!BE14)","v":""},{"$f":"IF(Lists!BF14=\"\",\"\",Lists!BF14)","v":""},{"$f":"IF(Lists!BG14=\"\",\"\",Lists!BG14)","v":""},{"$f":"IF(Lists!BH14=\"\",\"\",Lists!BH14)","v":""},{"$f":"IF(Lists!BI14=\"\",\"\",Lists!BI14)","v":""}]
[null,{"$f":"IF(Lists!BE15=\"\",\"\",Lists!BE15)","v":""},{"$f":"IF(Lists!BF15=\"\",\"\",Lists!BF15)","v":""},{"$f":"IF(Lists!BG15=\"\",\"\",Lists!BG15)","v":""},{"$f":"IF(Lists!BH15=\"\",\"\",Lists!BH15)","v":""},{"$f":"IF(Lists!BI15=\"\",\"\",Lists!BI15)","v":""}]
[null,{"$f":"IF(Lists!BE16=\"\",\"\",Lists!BE16)","v":""},{"$f":"IF(Lists!BF16=\"\",\"\",Lists!BF16)","v":""},{"$f":"IF(Lists!BG16=\"\",\"\",Lists!BG16)","v":""},{"$f":"IF(Lists!BH16=\"\",\"\",Lists!BH16)","v":""},{"$f":"IF(Lists!BI16=\"\",\"\",Lists!BI16)","v":""}]
[null,{"$f":"IF(Lists!BE17=\"\",\"\",Lists!BE17)","v":""},{"$f":"IF(Lists!BF17=\"\",\"\",Lists!BF17)","v":""},{"$f":"IF(Lists!BG17=\"\",\"\",Lists!BG17)","v":""},{"$f":"IF(Lists!BH17=\"\",\"\",Lists!BH17)","v":""},{"$f":"IF(Lists!BI17=\"\",\"\",Lists!BI17)","v":""}]
[null,{"$f":"IF(Lists!BE18=\"\",\"\",Lists!BE18)","v":""},{"$f":"IF(Lists!BF18=\"\",\"\",Lists!BF18)","v":""},{"$f":"IF(Lists!BG18=\"\",\"\",Lists!BG18)","v":""},{"$f":"IF(Lists!BH18=\"\",\"\",Lists!BH18)","v":""},{"$f":"IF(Lists!BI18=\"\",\"\",Lists!BI18)","v":""}]
[null,{"$f":"IF(Lists!BE19=\"\",\"\",Lists!BE19)","v":""},{"$f":"IF(Lists!BF19=\"\",\"\",Lists!BF19)","v":""},{"$f":"IF(Lists!BG19=\"\",\"\",Lists!BG19)","v":""},{"$f":"IF(Lists!BH19=\"\",\"\",Lists!BH19)","v":""},{"$f":"IF(Lists!BI19=\"\",\"\",Lists!BI19)","v":""}]
[null,{"$f":"IF(Lists!BE20=\"\",\"\",Lists!BE20)","v":""},{"$f":"IF(Lists!BF20=\"\",\"\",Lists!BF20)","v":""},{"$f":"IF(Lists!BG20=\"\",\"\",Lists!BG20)","v":""},{"$f":"IF(Lists!BH20=\"\",\"\",Lists!BH20)","v":""},{"$f":"IF(Lists!BI20=\"\",\"\",Lists!BI20)","v":""}]
[null,{"$f":"IF(Lists!BE21=\"\",\"\",Lists!BE21)","v":""},{"$f":"IF(Lists!BF21=\"\",\"\",Lists!BF21)","v":""},{"$f":"IF(Lists!BG21=\"\",\"\",Lists!BG21)","v":""},{"$f":"IF(Lists!BH21=\"\",\"\",Lists!BH21)","v":""},{"$f":"IF(Lists!BI21=\"\",\"\",Lists!BI21)","v":""}]
[null,{"$f":"IF(Lists!BE22=\"\",\"\",Lists!BE22)","v":""},{"$f":"IF(Lists!BF22=\"\",\"\",Lists!BF22)","v":""},{"$f":"IF(Lists!BG22=\"\",\"\",Lists!BG22)","v":""},{"$f":"IF(Lists!BH22=\"\",\"\",Lists!BH22)","v":""},{"$f":"IF(Lists!BI22=\"\",\"\",Lists!BI22)","v":""}]
[null,{"$f":"IF(Lists!BE23=\"\",\"\",Lists!BE23)","v":""},{"$f":"IF(Lists!BF23=\"\",\"\",Lists!BF23)","v":""},{"$f":"IF(Lists!BG23=\"\",\"\",Lists!BG23)","v":""},{"$f":"IF(Lists!BH23=\"\",\"\",Lists!BH23)","v":""},{"$f":"IF(Lists!BI23=\"\",\"\",Lists!BI23)","v":""}]
[null,{"$f":"IF(Lists!BE24=\"\",\"\",Lists!BE24)","v":""},{"$f":"IF(Lists!BF24=\"\",\"\",Lists!BF24)","v":""},{"$f":"IF(Lists!BG24=\"\",\"\",Lists!BG24)","v":""},{"$f":"IF(Lists!BH24=\"\",\"\",Lists!BH24)","v":""},{"$f":"IF(Lists!BI24=\"\",\"\",Lists!BI24)","v":""}]
[null,{"$f":"IF(Lists!BE25=\"\",\"\",Lists!BE25)","v":""},{"$f":"IF(Lists!BF25=\"\",\"\",Lists!BF25)","v":""},{"$f":"IF(Lists!BG25=\"\",\"\",Lists!BG25)","v":""},{"$f":"IF(Lists!BH25=\"\",\"\",Lists!BH25)","v":""},{"$f":"IF(Lists!BI25=\"\",\"\",Lists!BI25)","v":""}]
[null,{"$f":"IF(Lists!BE26=\"\",\"\",Lists!BE26)","v":""},{"$f":"IF(Lists!BF26=\"\",\"\",Lists!BF26)","v":""},{"$f":"IF(Lists!BG26=\"\",\"\",Lists!BG26)","v":""},{"$f":"IF(Lists!BH26=\"\",\"\",Lists!BH26)","v":""},{"$f":"IF(Lists!BI26=\"\",\"\",Lists!BI26)","v":""}]
[null,{"$f":"IF(Lists!BE27=\"\",\"\",Lists!BE27)","v":""},{"$f":"IF(Lists!BF27=\"\",\"\",Lists!BF27)","v":""},{"$f":"IF(Lists!BG27=\"\",\"\",Lists!BG27)","v":""},{"$f":"IF(Lists!BH27=\"\",\"\",Lists!BH27)","v":""},{"$f":"IF(Lists!BI27=\"\",\"\",Lists!BI27)","v":""}]
[null,{"$f":"IF(Lists!BE28=\"\",\"\",Lists!BE28)","v":""},{"$f":"IF(Lists!BF28=\"\",\"\",Lists!BF28)","v":""},{"$f":"IF(Lists!BG28=\"\",\"\",Lists!BG28)","v":""},{"$f":"IF(Lists!BH28=\"\",\"\",Lists!BH28)","v":""},{"$f":"IF(Lists!BI28=\"\",\"\",Lists!BI28)","v":""}]
[null,{"$f":"IF(Lists!BE29=\"\",\"\",Lists!BE29)","v":""},{"$f":"IF(Lists!BF29=\"\",\"\",Lists!BF29)","v":""},{"$f":"IF(Lists!BG29=\"\",\"\",Lists!BG29)","v":""},{"$f":"IF(Lists!BH29=\"\",\"\",Lists!BH29)","v":""},{"$f":"IF(Lists!BI29=\"\",\"\",Lists!BI29)","v":""}]
[null,{"$f":"IF(Lists!BE30=\"\",\"\",Lists!BE30)","v":""},{"$f":"IF(Lists!BF30=\"\",\"\",Lists!BF30)","v":""},{"$f":"IF(Lists!BG30=\"\",\"\",Lists!BG30)","v":""},{"$f":"IF(Lists!BH30=\"\",\"\",Lists!BH30)","v":""},{"$f":"IF(Lists!BI30=\"\",\"\",Lists!BI30)","v":""}]
[null,{"$f":"IF(Lists!BE31=\"\",\"\",Lists!BE31)","v":""},{"$f":"IF(Lists!BF31=\"\",\"\",Lists!BF31)","v":""},{"$f":"IF(Lists!BG31=\"\",\"\",Lists!BG31)","v":""},{"$f":"IF(Lists!BH31=\"\",\"\",Lists!BH31)","v":""},{"$f":"IF(Lists!BI31=\"\",\"\",Lists!BI31)","v":""}]
[null,{"$f":"IF(Lists!BE32=\"\",\"\",Lists!BE32)","v":""},{"$f":"IF(Lists!BF32=\"\",\"\",Lists!BF32)","v":""},{"$f":"IF(Lists!BG32=\"\",\"\",Lists!BG32)","v":""},{"$f":"IF(Lists!BH32=\"\",\"\",Lists!BH32)","v":""},{"$f":"IF(Lists!BI32=\"\",\"\",Lists!BI32)","v":""}]
[null,{"$f":"IF(Lists!BE33=\"\",\"\",Lists!BE33)","v":""},{"$f":"IF(Lists!BF33=\"\",\"\",Lists!BF33)","v":""},{"$f":"IF(Lists!BG33=\"\",\"\",Lists!BG33)","v":""},{"$f":"IF(Lists!BH33=\"\",\"\",Lists!BH33)","v":""},{"$f":"IF(Lists!BI33=\"\",\"\",Lists!BI33)","v":""}]
[null,{"$f":"IF(Lists!BE34=\"\",\"\",Lists!BE34)","v":""},{"$f":"IF(Lists!BF34=\"\",\"\",Lists!BF34)","v":""},{"$f":"IF(Lists!BG34=\"\",\"\",Lists!BG34)","v":""},{"$f":"IF(Lists!BH34=\"\",\"\",Lists!BH34)","v":""},{"$f":"IF(Lists!BI34=\"\",\"\",Lists!BI34)","v":""}]
[null,{"$f":"IF(Lists!BE35=\"\",\"\",Lists!BE35)","v":""},{"$f":"IF(Lists!BF35=\"\",\"\",Lists!BF35)","v":""},{"$f":"IF(Lists!BG35=\"\",\"\",Lists!BG35)","v":""},{"$f":"IF(Lists!BH35=\"\",\"\",Lists!BH35)","v":""},{"$f":"IF(Lists!BI35=\"\",\"\",Lists!BI35)","v":""}]
[null,{"$f":"IF(Lists!BE36=\"\",\"\",Lists!BE36)","v":""},{"$f":"IF(Lists!BF36=\"\",\"\",Lists!BF36)","v":""},{"$f":"IF(Lists!BG36=\"\",\"\",Lists!BG36)","v":""},{"$f":"IF(Lists!BH36=\"\",\"\",Lists!BH36)","v":""},{"$f":"IF(Lists!BI36=\"\",\"\",Lists!BI36)","v":""}]
[null,{"$f":"IF(Lists!BE37=\"\",\"\",Lists!BE37)","v":""},{"$f":"IF(Lists!BF37=\"\",\"\",Lists!BF37)","v":""},{"$f":"IF(Lists!BG37=\"\",\"\",Lists!BG37)","v":""},{"$f":"IF(Lists!BH37=\"\",\"\",Lists!BH37)","v":""},{"$f":"IF(Lists!BI37=\"\",\"\",Lists!BI37)","v":""}]
[null,{"$f":"IF(Lists!BE38=\"\",\"\",Lists!BE38)","v":""},{"$f":"IF(Lists!BF38=\"\",\"\",Lists!BF38)","v":""},{"$f":"IF(Lists!BG38=\"\",\"\",Lists!BG38)","v":""},{"$f":"IF(Lists!BH38=\"\",\"\",Lists!BH38)","v":""},{"$f":"IF(Lists!BI38=\"\",\"\",Lists!BI38)","v":""}]
[null,{"$f":"IF(Lists!BE39=\"\",\"\",Lists!BE39)","v":""},{"$f":"IF(Lists!BF39=\"\",\"\",Lists!BF39)","v":""},{"$f":"IF(Lists!BG39=\"\",\"\",Lists!BG39)","v":""},{"$f":"IF(Lists!BH39=\"\",\"\",Lists!BH39)","v":""},{"$f":"IF(Lists!BI39=\"\",\"\",Lists!BI39)","v":""}]
[null,{"$f":"IF(Lists!BE40=\"\",\"\",Lists!BE40)","v":""},{"$f":"IF(Lists!BF40=\"\",\"\",Lists!BF40)","v":""},{"$f":"IF(Lists!BG40=\"\",\"\",Lists!BG40)","v":""},{"$f":"IF(Lists!BH40=\"\",\"\",Lists!BH40)","v":""},{"$f":"IF(Lists!BI40=\"\",\"\",Lists!BI40)","v":""}]
[null,{"$f":"IF(Lists!BE41=\"\",\"\",Lists!BE41)","v":""},{"$f":"IF(Lists!BF41=\"\",\"\",Lists!BF41)","v":""},{"$f":"IF(Lists!BG41=\"\",\"\",Lists!BG41)","v":""},{"$f":"IF(Lists!BH41=\"\",\"\",Lists!BH41)","v":""},{"$f":"IF(Lists!BI41=\"\",\"\",Lists!BI41)","v":""}]
[null,{"$f":"IF(Lists!BE42=\"\",\"\",Lists!BE42)","v":""},{"$f":"IF(Lists!BF42=\"\",\"\",Lists!BF42)","v":""},{"$f":"IF(Lists!BG42=\"\",\"\",Lists!BG42)","v":""},{"$f":"IF(Lists!BH42=\"\",\"\",Lists!BH42)","v":""},{"$f":"IF(Lists!BI42=\"\",\"\",Lists!BI42)","v":""}]
[null,{"$f":"IF(Lists!BE43=\"\",\"\",Lists!BE43)","v":""},{"$f":"IF(Lists!BF43=\"\",\"\",Lists!BF43)","v":""},{"$f":"IF(Lists!BG43=\"\",\"\",Lists!BG43)","v":""},{"$f":"IF(Lists!BH43=\"\",\"\",Lists!BH43)","v":""},{"$f":"IF(Lists!BI43=\"\",\"\",Lists!BI43)","v":""}]
[null,{"$f":"IF(Lists!BE44=\"\",\"\",Lists!BE44)","v":""},{"$f":"IF(Lists!BF44=\"\",\"\",Lists!BF44)","v":""},{"$f":"IF(Lists!BG44=\"\",\"\",Lists!BG44)","v":""},{"$f":"IF(Lists!BH44=\"\",\"\",Lists!BH44)","v":""},{"$f":"IF(Lists!BI44=\"\",\"\",Lists!BI44)","v":""}]
[null,{"$f":"IF(Lists!BE45=\"\",\"\",Lists!BE45)","v":""},{"$f":"IF(Lists!BF45=\"\",\"\",Lists!BF45)","v":""},{"$f":"IF(Lists!BG45=\"\",\"\",Lists!BG45)","v":""},{"$f":"IF(Lists!BH45=\"\",\"\",Lists!BH45)","v":""},{"$f":"IF(Lists!BI45=\"\",\"\",Lists!BI45)","v":""}]
[null,{"$f":"IF(Lists!BE46=\"\",\"\",Lists!BE46)","v":""},{"$f":"IF(Lists!BF46=\"\",\"\",Lists!BF46)","v":""},{"$f":"IF(Lists!BG46=\"\",\"\",Lists!BG46)","v":""},{"$f":"IF(Lists!BH46=\"\",\"\",Lists!BH46)","v":""},{"$f":"IF(Lists!BI46=\"\",\"\",Lists!BI46)","v":""}]
[null,{"$f":"IF(Lists!BE47=\"\",\"\",Lists!BE47)","v":""},{"$f":"IF(Lists!BF47=\"\",\"\",Lists!BF47)","v":""},{"$f":"IF(Lists!BG47=\"\",\"\",Lists!BG47)","v":""},{"$f":"IF(Lists!BH47=\"\",\"\",Lists!BH47)","v":""},{"$f":"IF(Lists!BI47=\"\",\"\",Lists!BI47)","v":""}]
[null,{"$f":"IF(Lists!BE48=\"\",\"\",Lists!BE48)","v":""},{"$f":"IF(Lists!BF48=\"\",\"\",Lists!BF48)","v":""},{"$f":"IF(Lists!BG48=\"\",\"\",Lists!BG48)","v":""},{"$f":"IF(Lists!BH48=\"\",\"\",Lists!BH48)","v":""},{"$f":"IF(Lists!BI48=\"\",\"\",Lists!BI48)","v":""}]
[null,{"$f":"IF(Lists!BE49=\"\",\"\",Lists!BE49)","v":""},{"$f":"IF(Lists!BF49=\"\",\"\",Lists!BF49)","v":""},{"$f":"IF(Lists!BG49=\"\",\"\",Lists!BG49)","v":""},{"$f":"IF(Lists!BH49=\"\",\"\",Lists!BH49)","v":""},{"$f":"IF(Lists!BI49=\"\",\"\",Lists!BI49)","v":""}]
[null,{"$f":"IF(Lists!BE50=\"\",\"\",Lists!BE50)","v":""},{"$f":"IF(Lists!BF50=\"\",\"\",Lists!BF50)","v":""},{"$f":"IF(Lists!BG50=\"\",\"\",Lists!BG50)","v":""},{"$f":"IF(Lists!BH50=\"\",\"\",Lists!BH50)","v":""},{"$f":"IF(Lists!BI50=\"\",\"\",Lists!BI50)","v":""}]
[null,{"$f":"IF(Lists!BE51=\"\",\"\",Lists!BE51)","v":""},{"$f":"IF(Lists!BF51=\"\",\"\",Lists!BF51)","v":""},{"$f":"IF(Lists!BG51=\"\",\"\",Lists!BG51)","v":""},{"$f":"IF(Lists!BH51=\"\",\"\",Lists!BH51)","v":""},{"$f":"IF(Lists!BI51=\"\",\"\",Lists!BI51)","v":""}]
[null,{"$f":"IF(Lists!BE52=\"\",\"\",Lists!BE52)","v":""},{"$f":"IF(Lists!BF52=\"\",\"\",Lists!BF52)","v":""},{"$f":"IF(Lists!BG52=\"\",\"\",Lists!BG52)","v":""},{"$f":"IF(Lists!BH52=\"\",\"\",Lists!BH52)","v":""},{"$f":"IF(Lists!BI52=\"\",\"\",Lists!BI52)","v":""}]
[null,{"$f":"IF(Lists!BE53=\"\",\"\",Lists!BE53)","v":""},{"$f":"IF(Lists!BF53=\"\",\"\",Lists!BF53)","v":""},{"$f":"IF(Lists!BG53=\"\",\"\",Lists!BG53)","v":""},{"$f":"IF(Lists!BH53=\"\",\"\",Lists!BH53)","v":""},{"$f":"IF(Lists!BI53=\"\",\"\",Lists!BI53)","v":""}]
[null,{"$f":"IF(Lists!BE54=\"\",\"\",Lists!BE54)","v":""},{"$f":"IF(Lists!BF54=\"\",\"\",Lists!BF54)","v":""},{"$f":"IF(Lists!BG54=\"\",\"\",Lists!BG54)","v":""},{"$f":"IF(Lists!BH54=\"\",\"\",Lists!BH54)","v":""},{"$f":"IF(Lists!BI54=\"\",\"\",Lists!BI54)","v":""}]
[null,{"$f":"IF(Lists!BE55=\"\",\"\",Lists!BE55)","v":""},{"$f":"IF(Lists!BF55=\"\",\"\",Lists!BF55)","v":""},{"$f":"IF(Lists!BG55=\"\",\"\",Lists!BG55)","v":""},{"$f":"IF(Lists!BH55=\"\",\"\",Lists!BH55)","v":""},{"$f":"IF(Lists!BI55=\"\",\"\",Lists!BI55)","v":""}]
[null,{"$f":"IF(Lists!BE56=\"\",\"\",Lists!BE56)","v":""},{"$f":"IF(Lists!BF56=\"\",\"\",Lists!BF56)","v":""},{"$f":"IF(Lists!BG56=\"\",\"\",Lists!BG56)","v":""},{"$f":"IF(Lists!BH56=\"\",\"\",Lists!BH56)","v":""},{"$f":"IF(Lists!BI56=\"\",\"\",Lists!BI56)","v":""}]
[null,{"$f":"IF(Lists!BE57=\"\",\"\",Lists!BE57)","v":""},{"$f":"IF(Lists!BF57=\"\",\"\",Lists!BF57)","v":""},{"$f":"IF(Lists!BG57=\"\",\"\",Lists!BG57)","v":""},{"$f":"IF(Lists!BH57=\"\",\"\",Lists!BH57)","v":""},{"$f":"IF(Lists!BI57=\"\",\"\",Lists!BI57)","v":""}]
[null,{"$f":"IF(Lists!BE58=\"\",\"\",Lists!BE58)","v":""},{"$f":"IF(Lists!BF58=\"\",\"\",Lists!BF58)","v":""},{"$f":"IF(Lists!BG58=\"\",\"\",Lists!BG58)","v":""},{"$f":"IF(Lists!BH58=\"\",\"\",Lists!BH58)","v":""},{"$f":"IF(Lists!BI58=\"\",\"\",Lists!BI58)","v":""}]
[null,{"$f":"IF(Lists!BE59=\"\",\"\",Lists!BE59)","v":""},{"$f":"IF(Lists!BF59=\"\",\"\",Lists!BF59)","v":""},{"$f":"IF(Lists!BG59=\"\",\"\",Lists!BG59)","v":""},{"$f":"IF(Lists!BH59=\"\",\"\",Lists!BH59)","v":""},{"$f":"IF(Lists!BI59=\"\",\"\",Lists!BI59)","v":""}]
[null,{"$f":"IF(Lists!BE60=\"\",\"\",Lists!BE60)","v":""},{"$f":"IF(Lists!BF60=\"\",\"\",Lists!BF60)","v":""},{"$f":"IF(Lists!BG60=\"\",\"\",Lists!BG60)","v":""},{"$f":"IF(Lists!BH60=\"\",\"\",Lists!BH60)","v":""},{"$f":"IF(Lists!BI60=\"\",\"\",Lists!BI60)","v":""}]
[null,{"$f":"IF(Lists!BE61=\"\",\"\",Lists!BE61)","v":""},{"$f":"IF(Lists!BF61=\"\",\"\",Lists!BF61)","v":""},{"$f":"IF(Lists!BG61=\"\",\"\",Lists!BG61)","v":""},{"$f":"IF(Lists!BH61=\"\",\"\",Lists!BH61)","v":""},{"$f":"IF(Lists!BI61=\"\",\"\",Lists!BI61)","v":""}]
[null,{"$f":"IF(Lists!BE62=\"\",\"\",Lists!BE62)","v":""},{"$f":"IF(Lists!BF62=\"\",\"\",Lists!BF62)","v":""},{"$f":"IF(Lists!BG62=\"\",\"\",Lists!BG62)","v":""},{"$f":"IF(Lists!BH62=\"\",\"\",Lists!BH62)","v":""},{"$f":"IF(Lists!BI62=\"\",\"\",Lists!BI62)","v":""}]
[null,{"$f":"IF(Lists!BE63=\"\",\"\",Lists!BE63)","v":""},{"$f":"IF(Lists!BF63=\"\",\"\",Lists!BF63)","v":""},{"$f":"IF(Lists!BG63=\"\",\"\",Lists!BG63)","v":""},{"$f":"IF(Lists!BH63=\"\",\"\",Lists!BH63)","v":""},{"$f":"IF(Lists!BI63=\"\",\"\",Lists!BI63)","v":""}]
[null,{"$f":"IF(Lists!BE64=\"\",\"\",Lists!BE64)","v":""},{"$f":"IF(Lists!BF64=\"\",\"\",Lists!BF64)","v":""},{"$f":"IF(Lists!BG64=\"\",\"\",Lists!BG64)","v":""},{"$f":"IF(Lists!BH64=\"\",\"\",Lists!BH64)","v":""},{"$f":"IF(Lists!BI64=\"\",\"\",Lists!BI64)","v":""}]
[null,{"$f":"IF(Lists!BE65=\"\",\"\",Lists!BE65)","v":""},{"$f":"IF(Lists!BF65=\"\",\"\",Lists!BF65)","v":""},{"$f":"IF(Lists!BG65=\"\",\"\",Lists!BG65)","v":""},{"$f":"IF(Lists!BH65=\"\",\"\",Lists!BH65)","v":""},{"$f":"IF(Lists!BI65=\"\",\"\",Lists!BI65)","v":""}]
[null,{"$f":"IF(Lists!BE66=\"\",\"\",Lists!BE66)","v":""},{"$f":"IF(Lists!BF66=\"\",\"\",Lists!BF66)","v":""},{"$f":"IF(Lists!BG66=\"\",\"\",Lists!BG66)","v":""},{"$f":"IF(Lists!BH66=\"\",\"\",Lists!BH66)","v":""},{"$f":"IF(Lists!BI66=\"\",\"\",Lists!BI66)","v":""}]
[null,{"$f":"IF(Lists!BE67=\"\",\"\",Lists!BE67)","v":""},{"$f":"IF(Lists!BF67=\"\",\"\",Lists!BF67)","v":""},{"$f":"IF(Lists!BG67=\"\",\"\",Lists!BG67)","v":""},{"$f":"IF(Lists!BH67=\"\",\"\",Lists!BH67)","v":""},{"$f":"IF(Lists!BI67=\"\",\"\",Lists!BI67)","v":""}]
[null,{"$f":"IF(Lists!BE68=\"\",\"\",Lists!BE68)","v":""},{"$f":"IF(Lists!BF68=\"\",\"\",Lists!BF68)","v":""},{"$f":"IF(Lists!BG68=\"\",\"\",Lists!BG68)","v":""},{"$f":"IF(Lists!BH68=\"\",\"\",Lists!BH68)","v":""},{"$f":"IF(Lists!BI68=\"\",\"\",Lists!BI68)","v":""}]
[null,{"$f":"IF(Lists!BE69=\"\",\"\",Lists!BE69)","v":""},{"$f":"IF(Lists!BF69=\"\",\"\",Lists!BF69)","v":""},{"$f":"IF(Lists!BG69=\"\",\"\",Lists!BG69)","v":""},{"$f":"IF(Lists!BH69=\"\",\"\",Lists!BH69)","v":""},{"$f":"IF(Lists!BI69=\"\",\"\",Lists!BI69)","v":""}]
[null,{"$f":"IF(Lists!BE70=\"\",\"\",Lists!BE70)","v":""},{"$f":"IF(Lists!BF70=\"\",\"\",Lists!BF70)","v":""},{"$f":"IF(Lists!BG70=\"\",\"\",Lists!BG70)","v":""},{"$f":"IF(Lists!BH70=\"\",\"\",Lists!BH70)","v":""},{"$f":"IF(Lists!BI70=\"\",\"\",Lists!BI70)","v":""}]
[null,{"$f":"IF(Lists!BE71=\"\",\"\",Lists!BE71)","v":""},{"$f":"IF(Lists!BF71=\"\",\"\",Lists!BF71)","v":""},{"$f":"IF(Lists!BG71=\"\",\"\",Lists!BG71)","v":""},{"$f":"IF(Lists!BH71=\"\",\"\",Lists!BH71)","v":""},{"$f":"IF(Lists!BI71=\"\",\"\",Lists!BI71)","v":""}]
[null,{"$f":"IF(Lists!BE72=\"\",\"\",Lists!BE72)","v":""},{"$f":"IF(Lists!BF72=\"\",\"\",Lists!BF72)","v":""},{"$f":"IF(Lists!BG72=\"\",\"\",Lists!BG72)","v":""},{"$f":"IF(Lists!BH72=\"\",\"\",Lists!BH72)","v":""},{"$f":"IF(Lists!BI72=\"\",\"\",Lists!BI72)","v":""}]
[null,{"$f":"IF(Lists!BE73=\"\",\"\",Lists!BE73)","v":""},{"$f":"IF(Lists!BF73=\"\",\"\",Lists!BF73)","v":""},{"$f":"IF(Lists!BG73=\"\",\"\",Lists!BG73)","v":""},{"$f":"IF(Lists!BH73=\"\",\"\",Lists!BH73)","v":""},{"$f":"IF(Lists!BI73=\"\",\"\",Lists!BI73)","v":""}]
[null,{"$f":"IF(Lists!BE74=\"\",\"\",Lists!BE74)","v":""},{"$f":"IF(Lists!BF74=\"\",\"\",Lists!BF74)","v":""},{"$f":"IF(Lists!BG74=\"\",\"\",Lists!BG74)","v":""},{"$f":"IF(Lists!BH74=\"\",\"\",Lists!BH74)","v":""},{"$f":"IF(Lists!BI74=\"\",\"\",Lists!BI74)","v":""}]
[null,{"$f":"IF(Lists!BE75=\"\",\"\",Lists!BE75)","v":""},{"$f":"IF(Lists!BF75=\"\",\"\",Lists!BF75)","v":""},{"$f":"IF(Lists!BG75=\"\",\"\",Lists!BG75)","v":""},{"$f":"IF(Lists!BH75=\"\",\"\",Lists!BH75)","v":""},{"$f":"IF(Lists!BI75=\"\",\"\",Lists!BI75)","v":""}]
[null,{"$f":"IF(Lists!BE76=\"\",\"\",Lists!BE76)","v":""},{"$f":"IF(Lists!BF76=\"\",\"\",Lists!BF76)","v":""},{"$f":"IF(Lists!BG76=\"\",\"\",Lists!BG76)","v":""},{"$f":"IF(Lists!BH76=\"\",\"\",Lists!BH76)","v":""},{"$f":"IF(Lists!BI76=\"\",\"\",Lists!BI76)","v":""}]
[null,{"$f":"IF(Lists!BE77=\"\",\"\",Lists!BE77)","v":""},{"$f":"IF(Lists!BF77=\"\",\"\",Lists!BF77)","v":""},{"$f":"IF(Lists!BG77=\"\",\"\",Lists!BG77)","v":""},{"$f":"IF(Lists!BH77=\"\",\"\",Lists!BH77)","v":""},{"$f":"IF(Lists!BI77=\"\",\"\",Lists!BI77)","v":""}]
[null,{"$f":"IF(Lists!BE78=\"\",\"\",Lists!BE78)","v":""},{"$f":"IF(Lists!BF78=\"\",\"\",Lists!BF78)","v":""},{"$f":"IF(Lists!BG78=\"\",\"\",Lists!BG78)","v":""},{"$f":"IF(Lists!BH78=\"\",\"\",Lists!BH78)","v":""},{"$f":"IF(Lists!BI78=\"\",\"\",Lists!BI78)","v":""}]

{"sheet":"NOCS_TireProduction","index":6,"n_rows":524,"n_cols":13,"rows_kept":524,"cut":false,"hidden":true,"merged":[]}
[null,"DO NOT REMOVE OR EDIT INFORMATION IN THIS SECTION\nFOR INTERNAL USE ONLY"]
[null,"Template Name",{"$f":"Welcome!B2","v":"63.6009(k) Notification of Compliance and  §63.6010(g) Semiannual Compliance Report (Spreadsheet Template)"}]
[null,"CitationID",{"$f":"Welcome!B3","v":"63.6009(k) and 63.6010(g)"}]
[null,"Template Version",{"$f":"Welcome!B4","v":"v1.02"}]
[null,"Last Updated Date",{"$f":"Welcome!B5","v":"2020-06-16"}]
[null,{"$f":"Welcome!B6","v":"OMB Control Number: 2060-0449"}]
[null,"40 CFR Part 63, Subpart XXXX National Emission Standards for Hazardous Air Pollutants: Rubber Tire Manufacturing -"]
[null,"\n"]
[]
[null,"Note: Columns B through D will be autofilled based on responses provided in the Compliance_Options worksheet and selecting from dropdown in Column E."]
[null,"63.6009(k) Notification of Compliance Status - continued"]
[null,"Company Record No. *\n(Autofilled)","Name of Rubber Tire Manufacturing Affected Source *\n(§63.9(h))\n(Autofilled)","Rubber Tire Manufacturing Subcategory\n(Autofilled)","For each tire production affected source, provide the emission limit option in §63.5984 that you have chosen to meet *\n(§63.6009(f))\n(Autofilled)","For each tire production affected source, provide the compliance alternative in §63.5985 that you have chosen to meet *\n(§63.6009(f))\n(Autofilled)","Company Record No., Name of Rubber Tire Manufacturing Affected Source, and Subcategory\n(§63.9(h))\n(Select from dropdown)","For each tire production affected source complying with the purchase compliance alternative in §63.5985(a),  provide list of each cement and solvent, as purchased *\n(§63.6009(g)(1))","For each tire production affected source complying with the purchase compliance alternative in §63.5985(a),  provide list manufacturer or supplier for each cement or solvent listed in column F *\n(§63.6009(g)(1))","For each tire production affected source complying with the purchase compliance alternative in §63.5985(a), provide the individual HAP content (percent by mass) of each cement and solvent that is used *\n(§63.6009(g)(2))","For each tire production affected source using control device, provide the operating parameter found in §63.5994(e)(1) that applies to you *\n(§63.6009(h)(1))\n(Select from dropdown)","For each tire production affected source using control device, for each operating parameter in §63.5994(e)(1) that applies to you, provide operating parameter value avg over full period of the perform. test *\n(§63.6009(h)(1))","For each tire production affected source using control device, for each operating param. in §63.5994(e)(1) that applies to you, provide operating parameter range w/in which HAP emissions are reduced *\n(§63.6009(h)(2))"]
[null,"RecordId","OperationName","Subcategory","EmissionLimitOption","ComplianceAlternative","RecordSourceSubcategory","CementsAndSolventsUsed","CementOrSolventManufacturer","HAPContent","OperatingParameter","OperatingParameterAvg","OperatingParameterEmissions"]
[null,"e.g.: 1","e.g.: Curing Press","e.g.: Tire Production","e.g.: Option 1 - HAP constituent option","e.g.: Purchase alternative","e.g.: 1 Curing Press Tire Production","e.g.: cement","e.g.: Manufacturer X","e.g.: 0.05","e.g.: Thermal oxidizer","e.g.: 1,500 degrees Fahrenheit","e.g.: 1.00-2.00"]
[]
[]
[]
[]
[]
[]
[]
[]
[]
[null,{"$f":"IF($G24=\"\",\"\",VLOOKUP($G24,Lists!$BL$2:$BQ$478,COLUMN(),FALSE))","v":""},{"$f":"IF($G24=\"\",\"\",VLOOKUP($G24,Lists!$BL$2:$BQ$478,COLUMN(),FALSE))","v":""},{"$f":"IF($G24=\"\",\"\",VLOOKUP($G24,Lists!$BL$2:$BQ$478,COLUMN(),FALSE))","v":""},{"$f":"IF($G24=\"\",\"\",VLOOKUP($G24,Lists!$BL$2:$BQ$478,COLUMN(),FALSE))","v":""},{"$f":"IF($G24=\"\",\"\",VLOOKUP($G24,Lists!$BL$2:$BQ$478,COLUMN(),FALSE))","v":""}]
[null,{"$f":"IF($G25=\"\",\"\",VLOOKUP($G25,Lists!$BL$2:$BQ$478,COLUMN(),FALSE))","v":""},{"$f":"IF($G25=\"\",\"\",VLOOKUP($G25,Lists!$BL$2:$BQ$478,COLUMN(),FALSE))","v":""},{"$f":"IF($G25=\"\",\"\",VLOOKUP($G25,Lists!$BL$2:$BQ$478,COLUMN(),FALSE))","v":""},{"$f":"IF($G25=\"\",\"\",VLOOKUP($G25,Lists!$BL$2:$BQ$478,COLUMN(),FALSE))","v":""},{"$f":"IF($G25=\"\",\"\",VLOOKUP($G25,Lists!$BL$2:$BQ$478,COLUMN(),FALSE))","v":""}]
[null,{"$f":"IF($G26=\"\",\"\",VLOOKUP($G26,Lists!$BL$2:$BQ$478,COLUMN(),FALSE))","v":""},{"$f":"IF($G26=\"\",\"\",VLOOKUP($G26,Lists!$BL$2:$BQ$478,COLUMN(),FALSE))","v":""},{"$f":"IF($G26=\"\",\"\",VLOOKUP($G26,Lists!$BL$2:$BQ$478,COLUMN(),FALSE))","v":""},{"$f":"IF($G26=\"\",\"\",VLOOKUP($G26,Lists!$BL$2:$BQ$478,COLUMN(),FALSE))","v":""},{"$f":"IF($G26=\"\",\"\",VLOOKUP($G26,Lists!$BL$2:$BQ$478,COLUMN(),FALSE))","v":""}]
[null,{"$f":"IF($G27=\"\",\"\",VLOOKUP($G27,Lists!$BL$2:$BQ$478,COLUMN(),FALSE))","v":""},{"$f":"IF($G27=\"\",\"\",VLOOKUP($G27,Lists!$BL$2:$BQ$478,COLUMN(),FALSE))","v":""},{"$f":"IF($G27=\"\",\"\",VLOOKUP($G27,Lists!$BL$2:$BQ$478,COLUMN(),FALSE))","v":""},{"$f":"IF($G27=\"\",\"\",VLOOKUP($G27,Lists!$BL$2:$BQ$478,COLUMN(),FALSE))","v":""},{"$f":"IF($G27=\"\",\"\",VLOOKUP($G27,Lists!$BL$2:$BQ$478,COLUMN(),FALSE))","v":""}]
[null,{"$f":"IF($G28=\"\",\"\",VLOOKUP($G28,Lists!$BL$2:$BQ$478,COLUMN(),FALSE))","v":""},{"$f":"IF($G28=\"\",\"\",VLOOKUP($G28,Lists!$BL$2:$BQ$478,COLUMN(),FALSE))","v":""},{"$f":"IF($G28=\"\",\"\",VLOOKUP($G28,Lists!$BL$2:$BQ$478,COLUMN(),FALSE))","v":""},{"$f":"IF($G28=\"\",\"\",VLOOKUP($G28,Lists!$BL$2:$BQ$478,COLUMN(),FALSE))","v":""},{"$f":"IF($G28=\"\",\"\",VLOOKUP($G28,Lists!$BL$2:$BQ$478,COLUMN(),FALSE))","v":""}]
[null,{"$f":"IF($G29=\"\",\"\",VLOOKUP($G29,Lists!$BL$2:$BQ$478,COLUMN(),FALSE))","v":""},{"$f":"IF($G29=\"\",\"\",VLOOKUP($G29,Lists!$BL$2:$BQ$478,COLUMN(),FALSE))","v":""},{"$f":"IF($G29=\"\",\"\",VLOOKUP($G29,Lists!$BL$2:$BQ$478,COLUMN(),FALSE))","v":""},{"$f":"IF($G29=\"\",\"\",VLOOKUP($G29,Lists!$BL$2:$BQ$478,COLUMN(),FALSE))","v":""},{"$f":"IF($G29=\"\",\"\",VLOOKUP($G29,Lists!$BL$2:$BQ$478,COLUMN(),FALSE))","v":""}]
[null,{"$f":"IF($G30=\"\",\"\",VLOOKUP($G30,Lists!$BL$2:$BQ$478,COLUMN(),FALSE))","v":""},{"$f":"IF($G30=\"\",\"\",VLOOKUP($G30,Lists!$BL$2:$BQ$478,COLUMN(),FALSE))","v":""},{"$f":"IF($G30=\"\",\"\",VLOOKUP($G30,Lists!$BL$2:$BQ$478,COLUMN(),FALSE))","v":""},{"$f":"IF($G30=\"\",\"\",VLOOKUP($G30,Lists!$BL$2:$BQ$478,COLUMN(),FALSE))","v":""},{"$f":"IF($G30=\"\",\"\",VLOOKUP($G30,Lists!$BL$2:$BQ$478,COLUMN(),FALSE))","v":""}]
[null,{"$f":"IF($G31=\"\",\"\",VLOOKUP($G31,Lists!$BL$2:$BQ$478,COLUMN(),FALSE))","v":""},{"$f":"IF($G31=\"\",\"\",VLOOKUP($G31,Lists!$BL$2:$BQ$478,COLUMN(),FALSE))","v":""},{"$f":"IF($G31=\"\",\"\",VLOOKUP($G31,Lists!$BL$2:$BQ$478,COLUMN(),FALSE))","v":""},{"$f":"IF($G31=\"\",\"\",VLOOKUP($G31,Lists!$BL$2:$BQ$478,COLUMN(),FALSE))","v":""},{"$f":"IF($G31=\"\",\"\",VLOOKUP($G31,Lists!$BL$2:$BQ$478,COLUMN(),FALSE))","v":""}]
[null,{"$f":"IF($G32=\"\",\"\",VLOOKUP($G32,Lists!$BL$2:$BQ$478,COLUMN(),FALSE))","v":""},{"$f":"IF($G32=\"\",\"\",VLOOKUP($G32,Lists!$BL$2:$BQ$478,COLUMN(),FALSE))","v":""},{"$f":"IF($G32=\"\",\"\",VLOOKUP($G32,Lists!$BL$2:$BQ$478,COLUMN(),FALSE))","v":""},{"$f":"IF($G32=\"\",\"\",VLOOKUP($G32,Lists!$BL$2:$BQ$478,COLUMN(),FALSE))","v":""},{"$f":"IF($G32=\"\",\"\",VLOOKUP($G32,Lists!$BL$2:$BQ$478,COLUMN(),FALSE))","v":""}]
[null,{"$f":"IF($G33=\"\",\"\",VLOOKUP($G33,Lists!$BL$2:$BQ$478,COLUMN(),FALSE))","v":""},{"$f":"IF($G33=\"\",\"\",VLOOKUP($G33,Lists!$BL$2:$BQ$478,COLUMN(),FALSE))","v":""},{"$f":"IF($G33=\"\",\"\",VLOOKUP($G33,Lists!$BL$2:$BQ$478,COLUMN(),FALSE))","v":""},{"$f":"IF($G33=\"\",\"\",VLOOKUP($G33,Lists!$BL$2:$BQ$478,COLUMN(),FALSE))","v":""},{"$f":"IF($G33=\"\",\"\",VLOOKUP($G33,Lists!$BL$2:$BQ$478,COLUMN(),FALSE))","v":""}]
[null,{"$f":"IF($G34=\"\",\"\",VLOOKUP($G34,Lists!$BL$2:$BQ$478,COLUMN(),FALSE))","v":""},{"$f":"IF($G34=\"\",\"\",VLOOKUP($G34,Lists!$BL$2:$BQ$478,COLUMN(),FALSE))","v":""},{"$f":"IF($G34=\"\",\"\",VLOOKUP($G34,Lists!$BL$2:$BQ$478,COLUMN(),FALSE))","v":""},{"$f":"IF($G34=\"\",\"\",VLOOKUP($G34,Lists!$BL$2:$BQ$478,COLUMN(),FALSE))","v":""},{"$f":"IF($G34=\"\",\"\",VLOOKUP($G34,Lists!$BL$2:$BQ$478,COLUMN(),FALSE))","v":""}]
[null,{"$f":"IF($G35=\"\",\"\",VLOOKUP($G35,Lists!$BL$2:$BQ$478,COLUMN(),FALSE))","v":""},{"$f":"IF($G35=\"\",\"\",VLOOKUP($G35,Lists!$BL$2:$BQ$478,COLUMN(),FALSE))","v":""},{"$f":"IF($G35=\"\",\"\",VLOOKUP($G35,Lists!$BL$2:$BQ$478,COLUMN(),FALSE))","v":""},{"$f":"IF($G35=\"\",\"\",VLOOKUP($G35,Lists!$BL$2:$BQ$478,COLUMN(),FALSE))","v":""},{"$f":"IF($G35=\"\",\"\",VLOOKUP($G35,Lists!$BL$2:$BQ$478,COLUMN(),FALSE))","v":""}]
[null,{"$f":"IF($G36=\"\",\"\",VLOOKUP($G36,Lists!$BL$2:$BQ$478,COLUMN(),FALSE))","v":""},{"$f":"IF($G36=\"\",\"\",VLOOKUP($G36,Lists!$BL$2:$BQ$478,COLUMN(),FALSE))","v":""},{"$f":"IF($G36=\"\",\"\",VLOOKUP($G36,Lists!$BL$2:$BQ$478,COLUMN(),FALSE))","v":""},{"$f":"IF($G36=\"\",\"\",VLOOKUP($G36,Lists!$BL$2:$BQ$478,COLUMN(),FALSE))","v":""},{"$f":"IF($G36=\"\",\"\",VLOOKUP($G36,Lists!$BL$2:$BQ$478,COLUMN(),FALSE))","v":""}]
[null,{"$f":"IF($G37=\"\",\"\",VLOOKUP($G37,Lists!$BL$2:$BQ$478,COLUMN(),FALSE))","v":""},{"$f":"IF($G37=\"\",\"\",VLOOKUP($G37,Lists!$BL$2:$BQ$478,COLUMN(),FALSE))","v":""},{"$f":"IF($G37=\"\",\"\",VLOOKUP($G37,Lists!$BL$2:$BQ$478,COLUMN(),FALSE))","v":""},{"$f":"IF($G37=\"\",\"\",VLOOKUP($G37,Lists!$BL$2:$BQ$478,COLUMN(),FALSE))","v":""},{"$f":"IF($G37=\"\",\"\",VLOOKUP($G37,Lists!$BL$2:$BQ$478,COLUMN(),FALSE))","v":""}]
[null,{"$f":"IF($G38=\"\",\"\",VLOOKUP($G38,Lists!$BL$2:$BQ$478,COLUMN(),FALSE))","v":""},{"$f":"IF($G38=\"\",\"\",VLOOKUP($G38,Lists!$BL$2:$BQ$478,COLUMN(),FALSE))","v":""},{"$f":"IF($G38=\"\",\"\",VLOOKUP($G38,Lists!$BL$2:$BQ$478,COLUMN(),FALSE))","v":""},{"$f":"IF($G38=\"\",\"\",VLOOKUP($G38,Lists!$BL$2:$BQ$478,COLUMN(),FALSE))","v":""},{"$f":"IF($G38=\"\",\"\",VLOOKUP($G38,Lists!$BL$2:$BQ$478,COLUMN(),FALSE))","v":""}]
[null,{"$f":"IF($G39=\"\",\"\",VLOOKUP($G39,Lists!$BL$2:$BQ$478,COLUMN(),FALSE))","v":""},{"$f":"IF($G39=\"\",\"\",VLOOKUP($G39,Lists!$BL$2:$BQ$478,COLUMN(),FALSE))","v":""},{"$f":"IF($G39=\"\",\"\",VLOOKUP($G39,Lists!$BL$2:$BQ$478,COLUMN(),FALSE))","v":""},{"$f":"IF($G39=\"\",\"\",VLOOKUP($G39,Lists!$BL$2:$BQ$478,COLUMN(),FALSE))","v":""},{"$f":"IF($G39=\"\",\"\",VLOOKUP($G39,Lists!$BL$2:$BQ$478,COLUMN(),FALSE))","v":""}]
[null,{"$f":"IF($G40=\"\",\"\",VLOOKUP($G40,Lists!$BL$2:$BQ$478,COLUMN(),FALSE))","v":""},{"$f":"IF($G40=\"\",\"\",VLOOKUP($G40,Lists!$BL$2:$BQ$478,COLUMN(),FALSE))","v":""},{"$f":"IF($G40=\"\",\"\",VLOOKUP($G40,Lists!$BL$2:$BQ$478,COLUMN(),FALSE))","v":""},{"$f":"IF($G40=\"\",\"\",VLOOKUP($G40,Lists!$BL$2:$BQ$478,COLUMN(),FALSE))","v":""},{"$f":"IF($G40=\"\",\"\",VLOOKUP($G40,Lists!$BL$2:$BQ$478,COLUMN(),FALSE))","v":""}]
[null,{"$f":"IF($G41=\"\",\"\",VLOOKUP($G41,Lists!$BL$2:$BQ$478,COLUMN(),FALSE))","v":""},{"$f":"IF($G41=\"\",\"\",VLOOKUP($G41,Lists!$BL$2:$BQ$478,COLUMN(),FALSE))","v":""},{"$f":"IF($G41=\"\",\"\",VLOOKUP($G41,Lists!$BL$2:$BQ$478,COLUMN(),FALSE))","v":""},{"$f":"IF($G41=\"\",\"\",VLOOKUP($G41,Lists!$BL$2:$BQ$478,COLUMN(),FALSE))","v":""},{"$f":"IF($G41=\"\",\"\",VLOOKUP($G41,Lists!$BL$2:$BQ$478,COLUMN(),FALSE))","v":""}]
[null,{"$f":"IF($G42=\"\",\"\",VLOOKUP($G42,Lists!$BL$2:$BQ$478,COLUMN(),FALSE))","v":""},{"$f":"IF($G42=\"\",\"\",VLOOKUP($G42,Lists!$BL$2:$BQ$478,COLUMN(),FALSE))","v":""},{"$f":"IF($G42=\"\",\"\",VLOOKUP($G42,Lists!$BL$2:$BQ$478,COLUMN(),FALSE))","v":""},{"$f":"IF($G42=\"\",\"\",VLOOKUP($G42,Lists!$BL$2:$BQ$478,COLUMN(),FALSE))","v":""},{"$f":"IF($G42=\"\",\"\",VLOOKUP($G42,Lists!$BL$2:$BQ$478,COLUMN(),FALSE))","v":""}]
[null,{"$f":"IF($G43=\"\",\"\",VLOOKUP($G43,Lists!$BL$2:$BQ$478,COLUMN(),FALSE))","v":""},{"$f":"IF($G43=\"\",\"\",VLOOKUP($G43,Lists!$BL$2:$BQ$478,COLUMN(),FALSE))","v":""},{"$f":"IF($G43=\"\",\"\",VLOOKUP($G43,Lists!$BL$2:$BQ$478,COLUMN(),FALSE))","v":""},{"$f":"IF($G43=\"\",\"\",VLOOKUP($G43,Lists!$BL$2:$BQ$478,COLUMN(),FALSE))","v":""},{"$f":"IF($G43=\"\",\"\",VLOOKUP($G43,Lists!$BL$2:$BQ$478,COLUMN(),FALSE))","v":""}]
[null,{"$f":"IF($G44=\"\",\"\",VLOOKUP($G44,Lists!$BL$2:$BQ$478,COLUMN(),FALSE))","v":""},{"$f":"IF($G44=\"\",\"\",VLOOKUP($G44,Lists!$BL$2:$BQ$478,COLUMN(),FALSE))","v":""},{"$f":"IF($G44=\"\",\"\",VLOOKUP($G44,Lists!$BL$2:$BQ$478,COLUMN(),FALSE))","v":""},{"$f":"IF($G44=\"\",\"\",VLOOKUP($G44,Lists!$BL$2:$BQ$478,COLUMN(),FALSE))","v":""},{"$f":"IF($G44=\"\",\"\",VLOOKUP($G44,Lists!$BL$2:$BQ$478,COLUMN(),FALSE))","v":""}]
[null,{"$f":"IF($G45=\"\",\"\",VLOOKUP($G45,Lists!$BL$2:$BQ$478,COLUMN(),FALSE))","v":""},{"$f":"IF($G45=\"\",\"\",VLOOKUP($G45,Lists!$BL$2:$BQ$478,COLUMN(),FALSE))","v":""},{"$f":"IF($G45=\"\",\"\",VLOOKUP($G45,Lists!$BL$2:$BQ$478,COLUMN(),FALSE))","v":""},{"$f":"IF($G45=\"\",\"\",VLOOKUP($G45,Lists!$BL$2:$BQ$478,COLUMN(),FALSE))","v":""},{"$f":"IF($G45=\"\",\"\",VLOOKUP($G45,Lists!$BL$2:$BQ$478,COLUMN(),FALSE))","v":""}]
[null,{"$f":"IF($G46=\"\",\"\",VLOOKUP($G46,Lists!$BL$2:$BQ$478,COLUMN(),FALSE))","v":""},{"$f":"IF($G46=\"\",\"\",VLOOKUP($G46,Lists!$BL$2:$BQ$478,COLUMN(),FALSE))","v":""},{"$f":"IF($G46=\"\",\"\",VLOOKUP($G46,Lists!$BL$2:$BQ$478,COLUMN(),FALSE))","v":""},{"$f":"IF($G46=\"\",\"\",VLOOKUP($G46,Lists!$BL$2:$BQ$478,COLUMN(),FALSE))","v":""},{"$f":"IF($G46=\"\",\"\",VLOOKUP($G46,Lists!$BL$2:$BQ$478,COLUMN(),FALSE))","v":""}]
[null,{"$f":"IF($G47=\"\",\"\",VLOOKUP($G47,Lists!$BL$2:$BQ$478,COLUMN(),FALSE))","v":""},{"$f":"IF($G47=\"\",\"\",VLOOKUP($G47,Lists!$BL$2:$BQ$478,COLUMN(),FALSE))","v":""},{"$f":"IF($G47=\"\",\"\",VLOOKUP($G47,Lists!$BL$2:$BQ$478,COLUMN(),FALSE))","v":""},{"$f":"IF($G47=\"\",\"\",VLOOKUP($G47,Lists!$BL$2:$BQ$478,COLUMN(),FALSE))","v":""},{"$f":"IF($G47=\"\",\"\",VLOOKUP($G47,Lists!$BL$2:$BQ$478,COLUMN(),FALSE))","v":""}]
[null,{"$f":"IF($G48=\"\",\"\",VLOOKUP($G48,Lists!$BL$2:$BQ$478,COLUMN(),FALSE))","v":""},{"$f":"IF($G48=\"\",\"\",VLOOKUP($G48,Lists!$BL$2:$BQ$478,COLUMN(),FALSE))","v":""},{"$f":"IF($G48=\"\",\"\",VLOOKUP($G48,Lists!$BL$2:$BQ$478,COLUMN(),FALSE))","v":""},{"$f":"IF($G48=\"\",\"\",VLOOKUP($G48,Lists!$BL$2:$BQ$478,COLUMN(),FALSE))","v":""},{"$f":"IF($G48=\"\",\"\",VLOOKUP($G48,Lists!$BL$2:$BQ$478,COLUMN(),FALSE))","v":""}]
[null,{"$f":"IF($G49=\"\",\"\",VLOOKUP($G49,Lists!$BL$2:$BQ$478,COLUMN(),FALSE))","v":""},{"$f":"IF($G49=\"\",\"\",VLOOKUP($G49,Lists!$BL$2:$BQ$478,COLUMN(),FALSE))","v":""},{"$f":"IF($G49=\"\",\"\",VLOOKUP($G49,Lists!$BL$2:$BQ$478,COLUMN(),FALSE))","v":""},{"$f":"IF($G49=\"\",\"\",VLOOKUP($G49,Lists!$BL$2:$BQ$478,COLUMN(),FALSE))","v":""},{"$f":"IF($G49=\"\",\"\",VLOOKUP($G49,Lists!$BL$2:$BQ$478,COLUMN(),FALSE))","v":""}]
[null,{"$f":"IF($G50=\"\",\"\",VLOOKUP($G50,Lists!$BL$2:$BQ$478,COLUMN(),FALSE))","v":""},{"$f":"IF($G50=\"\",\"\",VLOOKUP($G50,Lists!$BL$2:$BQ$478,COLUMN(),FALSE))","v":""},{"$f":"IF($G50=\"\",\"\",VLOOKUP($G50,Lists!$BL$2:$BQ$478,COLUMN(),FALSE))","v":""},{"$f":"IF($G50=\"\",\"\",VLOOKUP($G50,Lists!$BL$2:$BQ$478,COLUMN(),FALSE))","v":""},{"$f":"IF($G50=\"\",\"\",VLOOKUP($G50,Lists!$BL$2:$BQ$478,COLUMN(),FALSE))","v":""}]
[null,{"$f":"IF($G51=\"\",\"\",VLOOKUP($G51,Lists!$BL$2:$BQ$478,COLUMN(),FALSE))","v":""},{"$f":"IF($G51=\"\",\"\",VLOOKUP($G51,Lists!$BL$2:$BQ$478,COLUMN(),FALSE))","v":""},{"$f":"IF($G51=\"\",\"\",VLOOKUP($G51,Lists!$BL$2:$BQ$478,COLUMN(),FALSE))","v":""},{"$f":"IF($G51=\"\",\"\",VLOOKUP($G51,Lists!$BL$2:$BQ$478,COLUMN(),FALSE))","v":""},{"$f":"IF($G51=\"\",\"\",VLOOKUP($G51,Lists!$BL$2:$BQ$478,COLUMN(),FALSE))","v":""}]
[null,{"$f":"IF($G52=\"\",\"\",VLOOKUP($G52,Lists!$BL$2:$BQ$478,COLUMN(),FALSE))","v":""},{"$f":"IF($G52=\"\",\"\",VLOOKUP($G52,Lists!$BL$2:$BQ$478,COLUMN(),FALSE))","v":""},{"$f":"IF($G52=\"\",\"\",VLOOKUP($G52,Lists!$BL$2:$BQ$478,COLUMN(),FALSE))","v":""},{"$f":"IF($G52=\"\",\"\",VLOOKUP($G52,Lists!$BL$2:$BQ$478,COLUMN(),FALSE))","v":""},{"$f":"IF($G52=\"\",\"\",VLOOKUP($G52,Lists!$BL$2:$BQ$478,COLUMN(),FALSE))","v":""}]
[null,{"$f":"IF($G53=\"\",\"\",VLOOKUP($G53,Lists!$BL$2:$BQ$478,COLUMN(),FALSE))","v":""},{"$f":"IF($G53=\"\",\"\",VLOOKUP($G53,Lists!$BL$2:$BQ$478,COLUMN(),FALSE))","v":""},{"$f":"IF($G53=\"\",\"\",VLOOKUP($G53,Lists!$BL$2:$BQ$478,COLUMN(),FALSE))","v":""},{"$f":"IF($G53=\"\",\"\",VLOOKUP($G53,Lists!$BL$2:$BQ$478,COLUMN(),FALSE))","v":""},{"$f":"IF($G53=\"\",\"\",VLOOKUP($G53,Lists!$BL$2:$BQ$478,COLUMN(),FALSE))","v":""}]
[null,{"$f":"IF($G54=\"\",\"\",VLOOKUP($G54,Lists!$BL$2:$BQ$478,COLUMN(),FALSE))","v":""},{"$f":"IF($G54=\"\",\"\",VLOOKUP($G54,Lists!$BL$2:$BQ$478,COLUMN(),FALSE))","v":""},{"$f":"IF($G54=\"\",\"\",VLOOKUP($G54,Lists!$BL$2:$BQ$478,COLUMN(),FALSE))","v":""},{"$f":"IF($G54=\"\",\"\",VLOOKUP($G54,Lists!$BL$2:$BQ$478,COLUMN(),FALSE))","v":""},{"$f":"IF($G54=\"\",\"\",VLOOKUP($G54,Lists!$BL$2:$BQ$478,COLUMN(),FALSE))","v":""}]
[null,{"$f":"IF($G55=\"\",\"\",VLOOKUP($G55,Lists!$BL$2:$BQ$478,COLUMN(),FALSE))","v":""},{"$f":"IF($G55=\"\",\"\",VLOOKUP($G55,Lists!$BL$2:$BQ$478,COLUMN(),FALSE))","v":""},{"$f":"IF($G55=\"\",\"\",VLOOKUP($G55,Lists!$BL$2:$BQ$478,COLUMN(),FALSE))","v":""},{"$f":"IF($G55=\"\",\"\",VLOOKUP($G55,Lists!$BL$2:$BQ$478,COLUMN(),FALSE))","v":""},{"$f":"IF($G55=\"\",\"\",VLOOKUP($G55,Lists!$BL$2:$BQ$478,COLUMN(),FALSE))","v":""}]
[null,{"$f":"IF($G56=\"\",\"\",VLOOKUP($G56,Lists!$BL$2:$BQ$478,COLUMN(),FALSE))","v":""},{"$f":"IF($G56=\"\",\"\",VLOOKUP($G56,Lists!$BL$2:$BQ$478,COLUMN(),FALSE))","v":""},{"$f":"IF($G56=\"\",\"\",VLOOKUP($G56,Lists!$BL$2:$BQ$478,COLUMN(),FALSE))","v":""},{"$f":"IF($G56=\"\",\"\",VLOOKUP($G56,Lists!$BL$2:$BQ$478,COLUMN(),FALSE))","v":""},{"$f":"IF($G56=\"\",\"\",VLOOKUP($G56,Lists!$BL$2:$BQ$478,COLUMN(),FALSE))","v":""}]
[null,{"$f":"IF($G57=\"\",\"\",VLOOKUP($G57,Lists!$BL$2:$BQ$478,COLUMN(),FALSE))","v":""},{"$f":"IF($G57=\"\",\"\",VLOOKUP($G57,Lists!$BL$2:$BQ$478,COLUMN(),FALSE))","v":""},{"$f":"IF($G57=\"\",\"\",VLOOKUP($G57,Lists!$BL$2:$BQ$478,COLUMN(),FALSE))","v":""},{"$f":"IF($G57=\"\",\"\",VLOOKUP($G57,Lists!$BL$2:$BQ$478,COLUMN(),FALSE))","v":""},{"$f":"IF($G57=\"\",\"\",VLOOKUP($G57,Lists!$BL$2:$BQ$478,COLUMN(),FALSE))","v":""}]
[null,{"$f":"IF($G58=\"\",\"\",VLOOKUP($G58,Lists!$BL$2:$BQ$478,COLUMN(),FALSE))","v":""},{"$f":"IF($G58=\"\",\"\",VLOOKUP($G58,Lists!$BL$2:$BQ$478,COLUMN(),FALSE))","v":""},{"$f":"IF($G58=\"\",\"\",VLOOKUP($G58,Lists!$BL$2:$BQ$478,COLUMN(),FALSE))","v":""},{"$f":"IF($G58=\"\",\"\",VLOOKUP($G58,Lists!$BL$2:$BQ$478,COLUMN(),FALSE))","v":""},{"$f":"IF($G58=\"\",\"\",VLOOKUP($G58,Lists!$BL$2:$BQ$478,COLUMN(),FALSE))","v":""}]
[null,{"$f":"IF($G59=\"\",\"\",VLOOKUP($G59,Lists!$BL$2:$BQ$478,COLUMN(),FALSE))","v":""},{"$f":"IF($G59=\"\",\"\",VLOOKUP($G59,Lists!$BL$2:$BQ$478,COLUMN(),FALSE))","v":""},{"$f":"IF($G59=\"\",\"\",VLOOKUP($G59,Lists!$BL$2:$BQ$478,COLUMN(),FALSE))","v":""},{"$f":"IF($G59=\"\",\"\",VLOOKUP($G59,Lists!$BL$2:$BQ$478,COLUMN(),FALSE))","v":""},{"$f":"IF($G59=\"\",\"\",VLOOKUP($G59,Lists!$BL$2:$BQ$478,COLUMN(),FALSE))","v":""}]
[null,{"$f":"IF($G60=\"\",\"\",VLOOKUP($G60,Lists!$BL$2:$BQ$478,COLUMN(),FALSE))","v":""},{"$f":"IF($G60=\"\",\"\",VLOOKUP($G60,Lists!$BL$2:$BQ$478,COLUMN(),FALSE))","v":""},{"$f":"IF($G60=\"\",\"\",VLOOKUP($G60,Lists!$BL$2:$BQ$478,COLUMN(),FALSE))","v":""},{"$f":"IF($G60=\"\",\"\",VLOOKUP($G60,Lists!$BL$2:$BQ$478,COLUMN(),FALSE))","v":""},{"$f":"IF($G60=\"\",\"\",VLOOKUP($G60,Lists!$BL$2:$BQ$478,COLUMN(),FALSE))","v":""}]
[null,{"$f":"IF($G61=\"\",\"\",VLOOKUP($G61,Lists!$BL$2:$BQ$478,COLUMN(),FALSE))","v":""},{"$f":"IF($G61=\"\",\"\",VLOOKUP($G61,Lists!$BL$2:$BQ$478,COLUMN(),FALSE))","v":""},{"$f":"IF($G61=\"\",\"\",VLOOKUP($G61,Lists!$BL$2:$BQ$478,COLUMN(),FALSE))","v":""},{"$f":"IF($G61=\"\",\"\",VLOOKUP($G61,Lists!$BL$2:$BQ$478,COLUMN(),FALSE))","v":""},{"$f":"IF($G61=\"\",\"\",VLOOKUP($G61,Lists!$BL$2:$BQ$478,COLUMN(),FALSE))","v":""}]
[null,{"$f":"IF($G62=\"\",\"\",VLOOKUP($G62,Lists!$BL$2:$BQ$478,COLUMN(),FALSE))","v":""},{"$f":"IF($G62=\"\",\"\",VLOOKUP($G62,Lists!$BL$2:$BQ$478,COLUMN(),FALSE))","v":""},{"$f":"IF($G62=\"\",\"\",VLOOKUP($G62,Lists!$BL$2:$BQ$478,COLUMN(),FALSE))","v":""},{"$f":"IF($G62=\"\",\"\",VLOOKUP($G62,Lists!$BL$2:$BQ$478,COLUMN(),FALSE))","v":""},{"$f":"IF($G62=\"\",\"\",VLOOKUP($G62,Lists!$BL$2:$BQ$478,COLUMN(),FALSE))","v":""}]
[null,{"$f":"IF($G63=\"\",\"\",VLOOKUP($G63,Lists!$BL$2:$BQ$478,COLUMN(),FALSE))","v":""},{"$f":"IF($G63=\"\",\"\",VLOOKUP($G63,Lists!$BL$2:$BQ$478,COLUMN(),FALSE))","v":""},{"$f":"IF($G63=\"\",\"\",VLOOKUP($G63,Lists!$BL$2:$BQ$478,COLUMN(),FALSE))","v":""},{"$f":"IF($G63=\"\",\"\",VLOOKUP($G63,Lists!$BL$2:$BQ$478,COLUMN(),FALSE))","v":""},{"$f":"IF($G63=\"\",\"\",VLOOKUP($G63,Lists!$BL$2:$BQ$478,COLUMN(),FALSE))","v":""}]
[null,{"$f":"IF($G64=\"\",\"\",VLOOKUP($G64,Lists!$BL$2:$BQ$478,COLUMN(),FALSE))","v":""},{"$f":"IF($G64=\"\",\"\",VLOOKUP($G64,Lists!$BL$2:$BQ$478,COLUMN(),FALSE))","v":""},{"$f":"IF($G64=\"\",\"\",VLOOKUP($G64,Lists!$BL$2:$BQ$478,COLUMN(),FALSE))","v":""},{"$f":"IF($G64=\"\",\"\",VLOOKUP($G64,Lists!$BL$2:$BQ$478,COLUMN(),FALSE))","v":""},{"$f":"IF($G64=\"\",\"\",VLOOKUP($G64,Lists!$BL$2:$BQ$478,COLUMN(),FALSE))","v":""}]
[null,{"$f":"IF($G65=\"\",\"\",VLOOKUP($G65,Lists!$BL$2:$BQ$478,COLUMN(),FALSE))","v":""},{"$f":"IF($G65=\"\",\"\",VLOOKUP($G65,Lists!$BL$2:$BQ$478,COLUMN(),FALSE))","v":""},{"$f":"IF($G65=\"\",\"\",VLOOKUP($G65,Lists!$BL$2:$BQ$478,COLUMN(),FALSE))","v":""},{"$f":"IF($G65=\"\",\"\",VLOOKUP($G65,Lists!$BL$2:$BQ$478,COLUMN(),FALSE))","v":""},{"$f":"IF($G65=\"\",\"\",VLOOKUP($G65,Lists!$BL$2:$BQ$478,COLUMN(),FALSE))","v":""}]
[null,{"$f":"IF($G66=\"\",\"\",VLOOKUP($G66,Lists!$BL$2:$BQ$478,COLUMN(),FALSE))","v":""},{"$f":"IF($G66=\"\",\"\",VLOOKUP($G66,Lists!$BL$2:$BQ$478,COLUMN(),FALSE))","v":""},{"$f":"IF($G66=\"\",\"\",VLOOKUP($G66,Lists!$BL$2:$BQ$478,COLUMN(),FALSE))","v":""},{"$f":"IF($G66=\"\",\"\",VLOOKUP($G66,Lists!$BL$2:$BQ$478,COLUMN(),FALSE))","v":""},{"$f":"IF($G66=\"\",\"\",VLOOKUP($G66,Lists!$BL$2:$BQ$478,COLUMN(),FALSE))","v":""}]
[null,{"$f":"IF($G67=\"\",\"\",VLOOKUP($G67,Lists!$BL$2:$BQ$478,COLUMN(),FALSE))","v":""},{"$f":"IF($G67=\"\",\"\",VLOOKUP($G67,Lists!$BL$2:$BQ$478,COLUMN(),FALSE))","v":""},{"$f":"IF($G67=\"\",\"\",VLOOKUP($G67,Lists!$BL$2:$BQ$478,COLUMN(),FALSE))","v":""},{"$f":"IF($G67=\"\",\"\",VLOOKUP($G67,Lists!$BL$2:$BQ$478,COLUMN(),FALSE))","v":""},{"$f":"IF($G67=\"\",\"\",VLOOKUP($G67,Lists!$BL$2:$BQ$478,COLUMN(),FALSE))","v":""}]
[null,{"$f":"IF($G68=\"\",\"\",VLOOKUP($G68,Lists!$BL$2:$BQ$478,COLUMN(),FALSE))","v":""},{"$f":"IF($G68=\"\",\"\",VLOOKUP($G68,Lists!$BL$2:$BQ$478,COLUMN(),FALSE))","v":""},{"$f":"IF($G68=\"\",\"\",VLOOKUP($G68,Lists!$BL$2:$BQ$478,COLUMN(),FALSE))","v":""},{"$f":"IF($G68=\"\",\"\",VLOOKUP($G68,Lists!$BL$2:$BQ$478,COLUMN(),FALSE))","v":""},{"$f":"IF($G68=\"\",\"\",VLOOKUP($G68,Lists!$BL$2:$BQ$478,COLUMN(),FALSE))","v":""}]
[null,{"$f":"IF($G69=\"\",\"\",VLOOKUP($G69,Lists!$BL$2:$BQ$478,COLUMN(),FALSE))","v":""},{"$f":"IF($G69=\"\",\"\",VLOOKUP($G69,Lists!$BL$2:$BQ$478,COLUMN(),FALSE))","v":""},{"$f":"IF($G69=\"\",\"\",VLOOKUP($G69,Lists!$BL$2:$BQ$478,COLUMN(),FALSE))","v":""},{"$f":"IF($G69=\"\",\"\",VLOOKUP($G69,Lists!$BL$2:$BQ$478,COLUMN(),FALSE))","v":""},{"$f":"IF($G69=\"\",\"\",VLOOKUP($G69,Lists!$BL$2:$BQ$478,COLUMN(),FALSE))","v":""}]
[null,{"$f":"IF($G70=\"\",\"\",VLOOKUP($G70,Lists!$BL$2:$BQ$478,COLUMN(),FALSE))","v":""},{"$f":"IF($G70=\"\",\"\",VLOOKUP($G70,Lists!$BL$2:$BQ$478,COLUMN(),FALSE))","v":""},{"$f":"IF($G70=\"\",\"\",VLOOKUP($G70,Lists!$BL$2:$BQ$478,COLUMN(),FALSE))","v":""},{"$f":"IF($G70=\"\",\"\",VLOOKUP($G70,Lists!$BL$2:$BQ$478,COLUMN(),FALSE))","v":""},{"$f":"IF($G70=\"\",\"\",VLOOKUP($G70,Lists!$BL$2:$BQ$478,COLUMN(),FALSE))","v":""}]
[null,{"$f":"IF($G71=\"\",\"\",VLOOKUP($G71,Lists!$BL$2:$BQ$478,COLUMN(),FALSE))","v":""},{"$f":"IF($G71=\"\",\"\",VLOOKUP($G71,Lists!$BL$2:$BQ$478,COLUMN(),FALSE))","v":""},{"$f":"IF($G71=\"\",\"\",VLOOKUP($G71,Lists!$BL$2:$BQ$478,COLUMN(),FALSE))","v":""},{"$f":"IF($G71=\"\",\"\",VLOOKUP($G71,Lists!$BL$2:$BQ$478,COLUMN(),FALSE))","v":""},{"$f":"IF($G71=\"\",\"\",VLOOKUP($G71,Lists!$BL$2:$BQ$478,COLUMN(),FALSE))","v":""}]
[null,{"$f":"IF($G72=\"\",\"\",VLOOKUP($G72,Lists!$BL$2:$BQ$478,COLUMN(),FALSE))","v":""},{"$f":"IF($G72=\"\",\"\",VLOOKUP($G72,Lists!$BL$2:$BQ$478,COLUMN(),FALSE))","v":""},{"$f":"IF($G72=\"\",\"\",VLOOKUP($G72,Lists!$BL$2:$BQ$478,COLUMN(),FALSE))","v":""},{"$f":"IF($G72=\"\",\"\",VLOOKUP($G72,Lists!$BL$2:$BQ$478,COLUMN(),FALSE))","v":""},{"$f":"IF($G72=\"\",\"\",VLOOKUP($G72,Lists!$BL$2:$BQ$478,COLUMN(),FALSE))","v":""}]
[null,{"$f":"IF($G73=\"\",\"\",VLOOKUP($G73,Lists!$BL$2:$BQ$478,COLUMN(),FALSE))","v":""},{"$f":"IF($G73=\"\",\"\",VLOOKUP($G73,Lists!$BL$2:$BQ$478,COLUMN(),FALSE))","v":""},{"$f":"IF($G73=\"\",\"\",VLOOKUP($G73,Lists!$BL$2:$BQ$478,COLUMN(),FALSE))","v":""},{"$f":"IF($G73=\"\",\"\",VLOOKUP($G73,Lists!$BL$2:$BQ$478,COLUMN(),FALSE))","v":""},{"$f":"IF($G73=\"\",\"\",VLOOKUP($G73,Lists!$BL$2:$BQ$478,COLUMN(),FALSE))","v":""}]
[null,{"$f":"IF($G74=\"\",\"\",VLOOKUP($G74,Lists!$BL$2:$BQ$478,COLUMN(),FALSE))","v":""},{"$f":"IF($G74=\"\",\"\",VLOOKUP($G74,Lists!$BL$2:$BQ$478,COLUMN(),FALSE))","v":""},{"$f":"IF($G74=\"\",\"\",VLOOKUP($G74,Lists!$BL$2:$BQ$478,COLUMN(),FALSE))","v":""},{"$f":"IF($G74=\"\",\"\",VLOOKUP($G74,Lists!$BL$2:$BQ$478,COLUMN(),FALSE))","v":""},{"$f":"IF($G74=\"\",\"\",VLOOKUP($G74,Lists!$BL$2:$BQ$478,COLUMN(),FALSE))","v":""}]
[null,{"$f":"IF($G75=\"\",\"\",VLOOKUP($G75,Lists!$BL$2:$BQ$478,COLUMN(),FALSE))","v":""},{"$f":"IF($G75=\"\",\"\",VLOOKUP($G75,Lists!$BL$2:$BQ$478,COLUMN(),FALSE))","v":""},{"$f":"IF($G75=\"\",\"\",VLOOKUP($G75,Lists!$BL$2:$BQ$478,COLUMN(),FALSE))","v":""},{"$f":"IF($G75=\"\",\"\",VLOOKUP($G75,Lists!$BL$2:$BQ$478,COLUMN(),FALSE))","v":""},{"$f":"IF($G75=\"\",\"\",VLOOKUP($G75,Lists!$BL$2:$BQ$478,COLUMN(),FALSE))","v":""}]
[null,{"$f":"IF($G76=\"\",\"\",VLOOKUP($G76,Lists!$BL$2:$BQ$478,COLUMN(),FALSE))","v":""},{"$f":"IF($G76=\"\",\"\",VLOOKUP($G76,Lists!$BL$2:$BQ$478,COLUMN(),FALSE))","v":""},{"$f":"IF($G76=\"\",\"\",VLOOKUP($G76,Lists!$BL$2:$BQ$478,COLUMN(),FALSE))","v":""},{"$f":"IF($G76=\"\",\"\",VLOOKUP($G76,Lists!$BL$2:$BQ$478,COLUMN(),FALSE))","v":""},{"$f":"IF($G76=\"\",\"\",VLOOKUP($G76,Lists!$BL$2:$BQ$478,COLUMN(),FALSE))","v":""}]
[null,{"$f":"IF($G77=\"\",\"\",VLOOKUP($G77,Lists!$BL$2:$BQ$478,COLUMN(),FALSE))","v":""},{"$f":"IF($G77=\"\",\"\",VLOOKUP($G77,Lists!$BL$2:$BQ$478,COLUMN(),FALSE))","v":""},{"$f":"IF($G77=\"\",\"\",VLOOKUP($G77,Lists!$BL$2:$BQ$478,COLUMN(),FALSE))","v":""},{"$f":"IF($G77=\"\",\"\",VLOOKUP($G77,Lists!$BL$2:$BQ$478,COLUMN(),FALSE))","v":""},{"$f":"IF($G77=\"\",\"\",VLOOKUP($G77,Lists!$BL$2:$BQ$478,COLUMN(),FALSE))","v":""}]
[null,{"$f":"IF($G78=\"\",\"\",VLOOKUP($G78,Lists!$BL$2:$BQ$478,COLUMN(),FALSE))","v":""},{"$f":"IF($G78=\"\",\"\",VLOOKUP($G78,Lists!$BL$2:$BQ$478,COLUMN(),FALSE))","v":""},{"$f":"IF($G78=\"\",\"\",VLOOKUP($G78,Lists!$BL$2:$BQ$478,COLUMN(),FALSE))","v":""},{"$f":"IF($G78=\"\",\"\",VLOOKUP($G78,Lists!$BL$2:$BQ$478,COLUMN(),FALSE))","v":""},{"$f":"IF($G78=\"\",\"\",VLOOKUP($G78,Lists!$BL$2:$BQ$478,COLUMN(),FALSE))","v":""}]
[null,{"$f":"IF($G79=\"\",\"\",VLOOKUP($G79,Lists!$BL$2:$BQ$478,COLUMN(),FALSE))","v":""},{"$f":"IF($G79=\"\",\"\",VLOOKUP($G79,Lists!$BL$2:$BQ$478,COLUMN(),FALSE))","v":""},{"$f":"IF($G79=\"\",\"\",VLOOKUP($G79,Lists!$BL$2:$BQ$478,COLUMN(),FALSE))","v":""},{"$f":"IF($G79=\"\",\"\",VLOOKUP($G79,Lists!$BL$2:$BQ$478,COLUMN(),FALSE))","v":""},{"$f":"IF($G79=\"\",\"\",VLOOKUP($G79,Lists!$BL$2:$BQ$478,COLUMN(),FALSE))","v":""}]
[null,{"$f":"IF($G80=\"\",\"\",VLOOKUP($G80,Lists!$BL$2:$BQ$478,COLUMN(),FALSE))","v":""},{"$f":"IF($G80=\"\",\"\",VLOOKUP($G80,Lists!$BL$2:$BQ$478,COLUMN(),FALSE))","v":""},{"$f":"IF($G80=\"\",\"\",VLOOKUP($G80,Lists!$BL$2:$BQ$478,COLUMN(),FALSE))","v":""},{"$f":"IF($G80=\"\",\"\",VLOOKUP($G80,Lists!$BL$2:$BQ$478,COLUMN(),FALSE))","v":""},{"$f":"IF($G80=\"\",\"\",VLOOKUP($G80,Lists!$BL$2:$BQ$478,COLUMN(),FALSE))","v":""}]
[null,{"$f":"IF($G81=\"\",\"\",VLOOKUP($G81,Lists!$BL$2:$BQ$478,COLUMN(),FALSE))","v":""},{"$f":"IF($G81=\"\",\"\",VLOOKUP($G81,Lists!$BL$2:$BQ$478,COLUMN(),FALSE))","v":""},{"$f":"IF($G81=\"\",\"\",VLOOKUP($G81,Lists!$BL$2:$BQ$478,COLUMN(),FALSE))","v":""},{"$f":"IF($G81=\"\",\"\",VLOOKUP($G81,Lists!$BL$2:$BQ$478,COLUMN(),FALSE))","v":""},{"$f":"IF($G81=\"\",\"\",VLOOKUP($G81,Lists!$BL$2:$BQ$478,COLUMN(),FALSE))","v":""}]
[null,{"$f":"IF($G82=\"\",\"\",VLOOKUP($G82,Lists!$BL$2:$BQ$478,COLUMN(),FALSE))","v":""},{"$f":"IF($G82=\"\",\"\",VLOOKUP($G82,Lists!$BL$2:$BQ$478,COLUMN(),FALSE))","v":""},{"$f":"IF($G82=\"\",\"\",VLOOKUP($G82,Lists!$BL$2:$BQ$478,COLUMN(),FALSE))","v":""},{"$f":"IF($G82=\"\",\"\",VLOOKUP($G82,Lists!$BL$2:$BQ$478,COLUMN(),FALSE))","v":""},{"$f":"IF($G82=\"\",\"\",VLOOKUP($G82,Lists!$BL$2:$BQ$478,COLUMN(),FALSE))","v":""}]
[null,{"$f":"IF($G83=\"\",\"\",VLOOKUP($G83,Lists!$BL$2:$BQ$478,COLUMN(),FALSE))","v":""},{"$f":"IF($G83=\"\",\"\",VLOOKUP($G83,Lists!$BL$2:$BQ$478,COLUMN(),FALSE))","v":""},{"$f":"IF($G83=\"\",\"\",VLOOKUP($G83,Lists!$BL$2:$BQ$478,COLUMN(),FALSE))","v":""},{"$f":"IF($G83=\"\",\"\",VLOOKUP($G83,Lists!$BL$2:$BQ$478,COLUMN(),FALSE))","v":""},{"$f":"IF($G83=\"\",\"\",VLOOKUP($G83,Lists!$BL$2:$BQ$478,COLUMN(),FALSE))","v":""}]
[null,{"$f":"IF($G84=\"\",\"\",VLOOKUP($G84,Lists!$BL$2:$BQ$478,COLUMN(),FALSE))","v":""},{"$f":"IF($G84=\"\",\"\",VLOOKUP($G84,Lists!$BL$2:$BQ$478,COLUMN(),FALSE))","v":""},{"$f":"IF($G84=\"\",\"\",VLOOKUP($G84,Lists!$BL$2:$BQ$478,COLUMN(),FALSE))","v":""},{"$f":"IF($G84=\"\",\"\",VLOOKUP($G84,Lists!$BL$2:$BQ$478,COLUMN(),FALSE))","v":""},{"$f":"IF($G84=\"\",\"\",VLOOKUP($G84,Lists!$BL$2:$BQ$478,COLUMN(),FALSE))","v":""}]
[null,{"$f":"IF($G85=\"\",\"\",VLOOKUP($G85,Lists!$BL$2:$BQ$478,COLUMN(),FALSE))","v":""},{"$f":"IF($G85=\"\",\"\",VLOOKUP($G85,Lists!$BL$2:$BQ$478,COLUMN(),FALSE))","v":""},{"$f":"IF($G85=\"\",\"\",VLOOKUP($G85,Lists!$BL$2:$BQ$478,COLUMN(),FALSE))","v":""},{"$f":"IF($G85=\"\",\"\",VLOOKUP($G85,Lists!$BL$2:$BQ$478,COLUMN(),FALSE))","v":""},{"$f":"IF($G85=\"\",\"\",VLOOKUP($G85,Lists!$BL$2:$BQ$478,COLUMN(),FALSE))","v":""}]
[null,{"$f":"IF($G86=\"\",\"\",VLOOKUP($G86,Lists!$BL$2:$BQ$478,COLUMN(),FALSE))","v":""},{"$f":"IF($G86=\"\",\"\",VLOOKUP($G86,Lists!$BL$2:$BQ$478,COLUMN(),FALSE))","v":""},{"$f":"IF($G86=\"\",\"\",VLOOKUP($G86,Lists!$BL$2:$BQ$478,COLUMN(),FALSE))","v":""},{"$f":"IF($G86=\"\",\"\",VLOOKUP($G86,Lists!$BL$2:$BQ$478,COLUMN(),FALSE))","v":""},{"$f":"IF($G86=\"\",\"\",VLOOKUP($G86,Lists!$BL$2:$BQ$478,COLUMN(),FALSE))","v":""}]
[null,{"$f":"IF($G87=\"\",\"\",VLOOKUP($G87,Lists!$BL$2:$BQ$478,COLUMN(),FALSE))","v":""},{"$f":"IF($G87=\"\",\"\",VLOOKUP($G87,Lists!$BL$2:$BQ$478,COLUMN(),FALSE))","v":""},{"$f":"IF($G87=\"\",\"\",VLOOKUP($G87,Lists!$BL$2:$BQ$478,COLUMN(),FALSE))","v":""},{"$f":"IF($G87=\"\",\"\",VLOOKUP($G87,Lists!$BL$2:$BQ$478,COLUMN(),FALSE))","v":""},{"$f":"IF($G87=\"\",\"\",VLOOKUP($G87,Lists!$BL$2:$BQ$478,COLUMN(),FALSE))","v":""}]
[null,{"$f":"IF($G88=\"\",\"\",VLOOKUP($G88,Lists!$BL$2:$BQ$478,COLUMN(),FALSE))","v":""},{"$f":"IF($G88=\"\",\"\",VLOOKUP($G88,Lists!$BL$2:$BQ$478,COLUMN(),FALSE))","v":""},{"$f":"IF($G88=\"\",\"\",VLOOKUP($G88,Lists!$BL$2:$BQ$478,COLUMN(),FALSE))","v":""},{"$f":"IF($G88=\"\",\"\",VLOOKUP($G88,Lists!$BL$2:$BQ$478,COLUMN(),FALSE))","v":""},{"$f":"IF($G88=\"\",\"\",VLOOKUP($G88,Lists!$BL$2:$BQ$478,COLUMN(),FALSE))","v":""}]
[null,{"$f":"IF($G89=\"\",\"\",VLOOKUP($G89,Lists!$BL$2:$BQ$478,COLUMN(),FALSE))","v":""},{"$f":"IF($G89=\"\",\"\",VLOOKUP($G89,Lists!$BL$2:$BQ$478,COLUMN(),FALSE))","v":""},{"$f":"IF($G89=\"\",\"\",VLOOKUP($G89,Lists!$BL$2:$BQ$478,COLUMN(),FALSE))","v":""},{"$f":"IF($G89=\"\",\"\",VLOOKUP($G89,Lists!$BL$2:$BQ$478,COLUMN(),FALSE))","v":""},{"$f":"IF($G89=\"\",\"\",VLOOKUP($G89,Lists!$BL$2:$BQ$478,COLUMN(),FALSE))","v":""}]
[null,{"$f":"IF($G90=\"\",\"\",VLOOKUP($G90,Lists!$BL$2:$BQ$478,COLUMN(),FALSE))","v":""},{"$f":"IF($G90=\"\",\"\",VLOOKUP($G90,Lists!$BL$2:$BQ$478,COLUMN(),FALSE))","v":""},{"$f":"IF($G90=\"\",\"\",VLOOKUP($G90,Lists!$BL$2:$BQ$478,COLUMN(),FALSE))","v":""},{"$f":"IF($G90=\"\",\"\",VLOOKUP($G90,Lists!$BL$2:$BQ$478,COLUMN(),FALSE))","v":""},{"$f":"IF($G90=\"\",\"\",VLOOKUP($G90,Lists!$BL$2:$BQ$478,COLUMN(),FALSE))","v":""}]
[null,{"$f":"IF($G91=\"\",\"\",VLOOKUP($G91,Lists!$BL$2:$BQ$478,COLUMN(),FALSE))","v":""},{"$f":"IF($G91=\"\",\"\",VLOOKUP($G91,Lists!$BL$2:$BQ$478,COLUMN(),FALSE))","v":""},{"$f":"IF($G91=\"\",\"\",VLOOKUP($G91,Lists!$BL$2:$BQ$478,COLUMN(),FALSE))","v":""},{"$f":"IF($G91=\"\",\"\",VLOOKUP($G91,Lists!$BL$2:$BQ$478,COLUMN(),FALSE))","v":""},{"$f":"IF($G91=\"\",\"\",VLOOKUP($G91,Lists!$BL$2:$BQ$478,COLUMN(),FALSE))","v":""}]
[null,{"$f":"IF($G92=\"\",\"\",VLOOKUP($G92,Lists!$BL$2:$BQ$478,COLUMN(),FALSE))","v":""},{"$f":"IF($G92=\"\",\"\",VLOOKUP($G92,Lists!$BL$2:$BQ$478,COLUMN(),FALSE))","v":""},{"$f":"IF($G92=\"\",\"\",VLOOKUP($G92,Lists!$BL$2:$BQ$478,COLUMN(),FALSE))","v":""},{"$f":"IF($G92=\"\",\"\",VLOOKUP($G92,Lists!$BL$2:$BQ$478,COLUMN(),FALSE))","v":""},{"$f":"IF($G92=\"\",\"\",VLOOKUP($G92,Lists!$BL$2:$BQ$478,COLUMN(),FALSE))","v":""}]
[null,{"$f":"IF($G93=\"\",\"\",VLOOKUP($G93,Lists!$BL$2:$BQ$478,COLUMN(),FALSE))","v":""},{"$f":"IF($G93=\"\",\"\",VLOOKUP($G93,Lists!$BL$2:$BQ$478,COLUMN(),FALSE))","v":""},{"$f":"IF($G93=\"\",\"\",VLOOKUP($G93,Lists!$BL$2:$BQ$478,COLUMN(),FALSE))","v":""},{"$f":"IF($G93=\"\",\"\",VLOOKUP($G93,Lists!$BL$2:$BQ$478,COLUMN(),FALSE))","v":""},{"$f":"IF($G93=\"\",\"\",VLOOKUP($G93,Lists!$BL$2:$BQ$478,COLUMN(),FALSE))","v":""}]
[null,{"$f":"IF($G94=\"\",\"\",VLOOKUP($G94,Lists!$BL$2:$BQ$478,COLUMN(),FALSE))","v":""},{"$f":"IF($G94=\"\",\"\",VLOOKUP($G94,Lists!$BL$2:$BQ$478,COLUMN(),FALSE))","v":""},{"$f":"IF($G94=\"\",\"\",VLOOKUP($G94,Lists!$BL$2:$BQ$478,COLUMN(),FALSE))","v":""},{"$f":"IF($G94=\"\",\"\",VLOOKUP($G94,Lists!$BL$2:$BQ$478,COLUMN(),FALSE))","v":""},{"$f":"IF($G94=\"\",\"\",VLOOKUP($G94,Lists!$BL$2:$BQ$478,COLUMN(),FALSE))","v":""}]
[null,{"$f":"IF($G95=\"\",\"\",VLOOKUP($G95,Lists!$BL$2:$BQ$478,COLUMN(),FALSE))","v":""},{"$f":"IF($G95=\"\",\"\",VLOOKUP($G95,Lists!$BL$2:$BQ$478,COLUMN(),FALSE))","v":""},{"$f":"IF($G95=\"\",\"\",VLOOKUP($G95,Lists!$BL$2:$BQ$478,COLUMN(),FALSE))","v":""},{"$f":"IF($G95=\"\",\"\",VLOOKUP($G95,Lists!$BL$2:$BQ$478,COLUMN(),FALSE))","v":""},{"$f":"IF($G95=\"\",\"\",VLOOKUP($G95,Lists!$BL$2:$BQ$478,COLUMN(),FALSE))","v":""}]
[null,{"$f":"IF($G96=\"\",\"\",VLOOKUP($G96,Lists!$BL$2:$BQ$478,COLUMN(),FALSE))","v":""},{"$f":"IF($G96=\"\",\"\",VLOOKUP($G96,Lists!$BL$2:$BQ$478,COLUMN(),FALSE))","v":""},{"$f":"IF($G96=\"\",\"\",VLOOKUP($G96,Lists!$BL$2:$BQ$478,COLUMN(),FALSE))","v":""},{"$f":"IF($G96=\"\",\"\",VLOOKUP($G96,Lists!$BL$2:$BQ$478,COLUMN(),FALSE))","v":""},{"$f":"IF($G96=\"\",\"\",VLOOKUP($G96,Lists!$BL$2:$BQ$478,COLUMN(),FALSE))","v":""}]
[null,{"$f":"IF($G97=\"\",\"\",VLOOKUP($G97,Lists!$BL$2:$BQ$478,COLUMN(),FALSE))","v":""},{"$f":"IF($G97=\"\",\"\",VLOOKUP($G97,Lists!$BL$2:$BQ$478,COLUMN(),FALSE))","v":""},{"$f":"IF($G97=\"\",\"\",VLOOKUP($G97,Lists!$BL$2:$BQ$478,COLUMN(),FALSE))","v":""},{"$f":"IF($G97=\"\",\"\",VLOOKUP($G97,Lists!$BL$2:$BQ$478,COLUMN(),FALSE))","v":""},{"$f":"IF($G97=\"\",\"\",VLOOKUP($G97,Lists!$BL$2:$BQ$478,COLUMN(),FALSE))","v":""}]
[null,{"$f":"IF($G98=\"\",\"\",VLOOKUP($G98,Lists!$BL$2:$BQ$478,COLUMN(),FALSE))","v":""},{"$f":"IF($G98=\"\",\"\",VLOOKUP($G98,Lists!$BL$2:$BQ$478,COLUMN(),FALSE))","v":""},{"$f":"IF($G98=\"\",\"\",VLOOKUP($G98,Lists!$BL$2:$BQ$478,COLUMN(),FALSE))","v":""},{"$f":"IF($G98=\"\",\"\",VLOOKUP($G98,Lists!$BL$2:$BQ$478,COLUMN(),FALSE))","v":""},{"$f":"IF($G98=\"\",\"\",VLOOKUP($G98,Lists!$BL$2:$BQ$478,COLUMN(),FALSE))","v":""}]
[null,{"$f":"IF($G99=\"\",\"\",VLOOKUP($G99,Lists!$BL$2:$BQ$478,COLUMN(),FALSE))","v":""},{"$f":"IF($G99=\"\",\"\",VLOOKUP($G99,Lists!$BL$2:$BQ$478,COLUMN(),FALSE))","v":""},{"$f":"IF($G99=\"\",\"\",VLOOKUP($G99,Lists!$BL$2:$BQ$478,COLUMN(),FALSE))","v":""},{"$f":"IF($G99=\"\",\"\",VLOOKUP($G99,Lists!$BL$2:$BQ$478,COLUMN(),FALSE))","v":""},{"$f":"IF($G99=\"\",\"\",VLOOKUP($G99,Lists!$BL$2:$BQ$478,COLUMN(),FALSE))","v":""}]
[null,{"$f":"IF($G100=\"\",\"\",VLOOKUP($G100,Lists!$BL$2:$BQ$478,COLUMN(),FALSE))","v":""},{"$f":"IF($G100=\"\",\"\",VLOOKUP($G100,Lists!$BL$2:$BQ$478,COLUMN(),FALSE))","v":""},{"$f":"IF($G100=\"\",\"\",VLOOKUP($G100,Lists!$BL$2:$BQ$478,COLUMN(),FALSE))","v":""},{"$f":"IF($G100=\"\",\"\",VLOOKUP($G100,Lists!$BL$2:$BQ$478,COLUMN(),FALSE))","v":""},{"$f":"IF($G100=\"\",\"\",VLOOKUP($G100,Lists!$BL$2:$BQ$478,COLUMN(),FALSE))","v":""}]
[null,{"$f":"IF($G101=\"\",\"\",VLOOKUP($G101,Lists!$BL$2:$BQ$478,COLUMN(),FALSE))","v":""},{"$f":"IF($G101=\"\",\"\",VLOOKUP($G101,Lists!$BL$2:$BQ$478,COLUMN(),FALSE))","v":""},{"$f":"IF($G101=\"\",\"\",VLOOKUP($G101,Lists!$BL$2:$BQ$478,COLUMN(),FALSE))","v":""},{"$f":"IF($G101=\"\",\"\",VLOOKUP($G101,Lists!$BL$2:$BQ$478,COLUMN(),FALSE))","v":""},{"$f":"IF($G101=\"\",\"\",VLOOKUP($G101,Lists!$BL$2:$BQ$478,COLUMN(),FALSE))","v":""}]
[null,{"$f":"IF($G102=\"\",\"\",VLOOKUP($G102,Lists!$BL$2:$BQ$478,COLUMN(),FALSE))","v":""},{"$f":"IF($G102=\"\",\"\",VLOOKUP($G102,Lists!$BL$2:$BQ$478,COLUMN(),FALSE))","v":""},{"$f":"IF($G102=\"\",\"\",VLOOKUP($G102,Lists!$BL$2:$BQ$478,COLUMN(),FALSE))","v":""},{"$f":"IF($G102=\"\",\"\",VLOOKUP($G102,Lists!$BL$2:$BQ$478,COLUMN(),FALSE))","v":""},{"$f":"IF($G102=\"\",\"\",VLOOKUP($G102,Lists!$BL$2:$BQ$478,COLUMN(),FALSE))","v":""}]
[null,{"$f":"IF($G103=\"\",\"\",VLOOKUP($G103,Lists!$BL$2:$BQ$478,COLUMN(),FALSE))","v":""},{"$f":"IF($G103=\"\",\"\",VLOOKUP($G103,Lists!$BL$2:$BQ$478,COLUMN(),FALSE))","v":""},{"$f":"IF($G103=\"\",\"\",VLOOKUP($G103,Lists!$BL$2:$BQ$478,COLUMN(),FALSE))","v":""},{"$f":"IF($G103=\"\",\"\",VLOOKUP($G103,Lists!$BL$2:$BQ$478,COLUMN(),FALSE))","v":""},{"$f":"IF($G103=\"\",\"\",VLOOKUP($G103,Lists!$BL$2:$BQ$478,COLUMN(),FALSE))","v":""}]
[null,{"$f":"IF($G104=\"\",\"\",VLOOKUP($G104,Lists!$BL$2:$BQ$478,COLUMN(),FALSE))","v":""},{"$f":"IF($G104=\"\",\"\",VLOOKUP($G104,Lists!$BL$2:$BQ$478,COLUMN(),FALSE))","v":""},{"$f":"IF($G104=\"\",\"\",VLOOKUP($G104,Lists!$BL$2:$BQ$478,COLUMN(),FALSE))","v":""},{"$f":"IF($G104=\"\",\"\",VLOOKUP($G104,Lists!$BL$2:$BQ$478,COLUMN(),FALSE))","v":""},{"$f":"IF($G104=\"\",\"\",VLOOKUP($G104,Lists!$BL$2:$BQ$478,COLUMN(),FALSE))","v":""}]
[null,{"$f":"IF($G105=\"\",\"\",VLOOKUP($G105,Lists!$BL$2:$BQ$478,COLUMN(),FALSE))","v":""},{"$f":"IF($G105=\"\",\"\",VLOOKUP($G105,Lists!$BL$2:$BQ$478,COLUMN(),FALSE))","v":""},{"$f":"IF($G105=\"\",\"\",VLOOKUP($G105,Lists!$BL$2:$BQ$478,COLUMN(),FALSE))","v":""},{"$f":"IF($G105=\"\",\"\",VLOOKUP($G105,Lists!$BL$2:$BQ$478,COLUMN(),FALSE))","v":""},{"$f":"IF($G105=\"\",\"\",VLOOKUP($G105,Lists!$BL$2:$BQ$478,COLUMN(),FALSE))","v":""}]
[null,{"$f":"IF($G106=\"\",\"\",VLOOKUP($G106,Lists!$BL$2:$BQ$478,COLUMN(),FALSE))","v":""},{"$f":"IF($G106=\"\",\"\",VLOOKUP($G106,Lists!$BL$2:$BQ$478,COLUMN(),FALSE))","v":""},{"$f":"IF($G106=\"\",\"\",VLOOKUP($G106,Lists!$BL$2:$BQ$478,COLUMN(),FALSE))","v":""},{"$f":"IF($G106=\"\",\"\",VLOOKUP($G106,Lists!$BL$2:$BQ$478,COLUMN(),FALSE))","v":""},{"$f":"IF($G106=\"\",\"\",VLOOKUP($G106,Lists!$BL$2:$BQ$478,COLUMN(),FALSE))","v":""}]
[null,{"$f":"IF($G107=\"\",\"\",VLOOKUP($G107,Lists!$BL$2:$BQ$478,COLUMN(),FALSE))","v":""},{"$f":"IF($G107=\"\",\"\",VLOOKUP($G107,Lists!$BL$2:$BQ$478,COLUMN(),FALSE))","v":""},{"$f":"IF($G107=\"\",\"\",VLOOKUP($G107,Lists!$BL$2:$BQ$478,COLUMN(),FALSE))","v":""},{"$f":"IF($G107=\"\",\"\",VLOOKUP($G107,Lists!$BL$2:$BQ$478,COLUMN(),FALSE))","v":""},{"$f":"IF($G107=\"\",\"\",VLOOKUP($G107,Lists!$BL$2:$BQ$478,COLUMN(),FALSE))","v":""}]
[null,{"$f":"IF($G108=\"\",\"\",VLOOKUP($G108,Lists!$BL$2:$BQ$478,COLUMN(),FALSE))","v":""},{"$f":"IF($G108=\"\",\"\",VLOOKUP($G108,Lists!$BL$2:$BQ$478,COLUMN(),FALSE))","v":""},{"$f":"IF($G108=\"\",\"\",VLOOKUP($G108,Lists!$BL$2:$BQ$478,COLUMN(),FALSE))","v":""},{"$f":"IF($G108=\"\",\"\",VLOOKUP($G108,Lists!$BL$2:$BQ$478,COLUMN(),FALSE))","v":""},{"$f":"IF($G108=\"\",\"\",VLOOKUP($G108,Lists!$BL$2:$BQ$478,COLUMN(),FALSE))","v":""}]
[null,{"$f":"IF($G109=\"\",\"\",VLOOKUP($G109,Lists!$BL$2:$BQ$478,COLUMN(),FALSE))","v":""},{"$f":"IF($G109=\"\",\"\",VLOOKUP($G109,Lists!$BL$2:$BQ$478,COLUMN(),FALSE))","v":""},{"$f":"IF($G109=\"\",\"\",VLOOKUP($G109,Lists!$BL$2:$BQ$478,COLUMN(),FALSE))","v":""},{"$f":"IF($G109=\"\",\"\",VLOOKUP($G109,Lists!$BL$2:$BQ$478,COLUMN(),FALSE))","v":""},{"$f":"IF($G109=\"\",\"\",VLOOKUP($G109,Lists!$BL$2:$BQ$478,COLUMN(),FALSE))","v":""}]
[null,{"$f":"IF($G110=\"\",\"\",VLOOKUP($G110,Lists!$BL$2:$BQ$478,COLUMN(),FALSE))","v":""},{"$f":"IF($G110=\"\",\"\",VLOOKUP($G110,Lists!$BL$2:$BQ$478,COLUMN(),FALSE))","v":""},{"$f":"IF($G110=\"\",\"\",VLOOKUP($G110,Lists!$BL$2:$BQ$478,COLUMN(),FALSE))","v":""},{"$f":"IF($G110=\"\",\"\",VLOOKUP($G110,Lists!$BL$2:$BQ$478,COLUMN(),FALSE))","v":""},{"$f":"IF($G110=\"\",\"\",VLOOKUP($G110,Lists!$BL$2:$BQ$478,COLUMN(),FALSE))","v":""}]
[null,{"$f":"IF($G111=\"\",\"\",VLOOKUP($G111,Lists!$BL$2:$BQ$478,COLUMN(),FALSE))","v":""},{"$f":"IF($G111=\"\",\"\",VLOOKUP($G111,Lists!$BL$2:$BQ$478,COLUMN(),FALSE))","v":""},{"$f":"IF($G111=\"\",\"\",VLOOKUP($G111,Lists!$BL$2:$BQ$478,COLUMN(),FALSE))","v":""},{"$f":"IF($G111=\"\",\"\",VLOOKUP($G111,Lists!$BL$2:$BQ$478,COLUMN(),FALSE))","v":""},{"$f":"IF($G111=\"\",\"\",VLOOKUP($G111,Lists!$BL$2:$BQ$478,COLUMN(),FALSE))","v":""}]
[null,{"$f":"IF($G112=\"\",\"\",VLOOKUP($G112,Lists!$BL$2:$BQ$478,COLUMN(),FALSE))","v":""},{"$f":"IF($G112=\"\",\"\",VLOOKUP($G112,Lists!$BL$2:$BQ$478,COLUMN(),FALSE))","v":""},{"$f":"IF($G112=\"\",\"\",VLOOKUP($G112,Lists!$BL$2:$BQ$478,COLUMN(),FALSE))","v":""},{"$f":"IF($G112=\"\",\"\",VLOOKUP($G112,Lists!$BL$2:$BQ$478,COLUMN(),FALSE))","v":""},{"$f":"IF($G112=\"\",\"\",VLOOKUP($G112,Lists!$BL$2:$BQ$478,COLUMN(),FALSE))","v":""}]
[null,{"$f":"IF($G113=\"\",\"\",VLOOKUP($G113,Lists!$BL$2:$BQ$478,COLUMN(),FALSE))","v":""},{"$f":"IF($G113=\"\",\"\",VLOOKUP($G113,Lists!$BL$2:$BQ$478,COLUMN(),FALSE))","v":""},{"$f":"IF($G113=\"\",\"\",VLOOKUP($G113,Lists!$BL$2:$BQ$478,COLUMN(),FALSE))","v":""},{"$f":"IF($G113=\"\",\"\",VLOOKUP($G113,Lists!$BL$2:$BQ$478,COLUMN(),FALSE))","v":""},{"$f":"IF($G113=\"\",\"\",VLOOKUP($G113,Lists!$BL$2:$BQ$478,COLUMN(),FALSE))","v":""}]
[null,{"$f":"IF($G114=\"\",\"\",VLOOKUP($G114,Lists!$BL$2:$BQ$478,COLUMN(),FALSE))","v":""},{"$f":"IF($G114=\"\",\"\",VLOOKUP($G114,Lists!$BL$2:$BQ$478,COLUMN(),FALSE))","v":""},{"$f":"IF($G114=\"\",\"\",VLOOKUP($G114,Lists!$BL$2:$BQ$478,COLUMN(),FALSE))","v":""},{"$f":"IF($G114=\"\",\"\",VLOOKUP($G114,Lists!$BL$2:$BQ$478,COLUMN(),FALSE))","v":""},{"$f":"IF($G114=\"\",\"\",VLOOKUP($G114,Lists!$BL$2:$BQ$478,COLUMN(),FALSE))","v":""}]
[null,{"$f":"IF($G115=\"\",\"\",VLOOKUP($G115,Lists!$BL$2:$BQ$478,COLUMN(),FALSE))","v":""},{"$f":"IF($G115=\"\",\"\",VLOOKUP($G115,Lists!$BL$2:$BQ$478,COLUMN(),FALSE))","v":""},{"$f":"IF($G115=\"\",\"\",VLOOKUP($G115,Lists!$BL$2:$BQ$478,COLUMN(),FALSE))","v":""},{"$f":"IF($G115=\"\",\"\",VLOOKUP($G115,Lists!$BL$2:$BQ$478,COLUMN(),FALSE))","v":""},{"$f":"IF($G115=\"\",\"\",VLOOKUP($G115,Lists!$BL$2:$BQ$478,COLUMN(),FALSE))","v":""}]
[null,{"$f":"IF($G116=\"\",\"\",VLOOKUP($G116,Lists!$BL$2:$BQ$478,COLUMN(),FALSE))","v":""},{"$f":"IF($G116=\"\",\"\",VLOOKUP($G116,Lists!$BL$2:$BQ$478,COLUMN(),FALSE))","v":""},{"$f":"IF($G116=\"\",\"\",VLOOKUP($G116,Lists!$BL$2:$BQ$478,COLUMN(),FALSE))","v":""},{"$f":"IF($G116=\"\",\"\",VLOOKUP($G116,Lists!$BL$2:$BQ$478,COLUMN(),FALSE))","v":""},{"$f":"IF($G116=\"\",\"\",VLOOKUP($G116,Lists!$BL$2:$BQ$478,COLUMN(),FALSE))","v":""}]
[null,{"$f":"IF($G117=\"\",\"\",VLOOKUP($G117,Lists!$BL$2:$BQ$478,COLUMN(),FALSE))","v":""},{"$f":"IF($G117=\"\",\"\",VLOOKUP($G117,Lists!$BL$2:$BQ$478,COLUMN(),FALSE))","v":""},{"$f":"IF($G117=\"\",\"\",VLOOKUP($G117,Lists!$BL$2:$BQ$478,COLUMN(),FALSE))","v":""},{"$f":"IF($G117=\"\",\"\",VLOOKUP($G117,Lists!$BL$2:$BQ$478,COLUMN(),FALSE))","v":""},{"$f":"IF($G117=\"\",\"\",VLOOKUP($G117,Lists!$BL$2:$BQ$478,COLUMN(),FALSE))","v":""}]
[null,{"$f":"IF($G118=\"\",\"\",VLOOKUP($G118,Lists!$BL$2:$BQ$478,COLUMN(),FALSE))","v":""},{"$f":"IF($G118=\"\",\"\",VLOOKUP($G118,Lists!$BL$2:$BQ$478,COLUMN(),FALSE))","v":""},{"$f":"IF($G118=\"\",\"\",VLOOKUP($G118,Lists!$BL$2:$BQ$478,COLUMN(),FALSE))","v":""},{"$f":"IF($G118=\"\",\"\",VLOOKUP($G118,Lists!$BL$2:$BQ$478,COLUMN(),FALSE))","v":""},{"$f":"IF($G118=\"\",\"\",VLOOKUP($G118,Lists!$BL$2:$BQ$478,COLUMN(),FALSE))","v":""}]
[null,{"$f":"IF($G119=\"\",\"\",VLOOKUP($G119,Lists!$BL$2:$BQ$478,COLUMN(),FALSE))","v":""},{"$f":"IF($G119=\"\",\"\",VLOOKUP($G119,Lists!$BL$2:$BQ$478,COLUMN(),FALSE))","v":""},{"$f":"IF($G119=\"\",\"\",VLOOKUP($G119,Lists!$BL$2:$BQ$478,COLUMN(),FALSE))","v":""},{"$f":"IF($G119=\"\",\"\",VLOOKUP($G119,Lists!$BL$2:$BQ$478,COLUMN(),FALSE))","v":""},{"$f":"IF($G119=\"\",\"\",VLOOKUP($G119,Lists!$BL$2:$BQ$478,COLUMN(),FALSE))","v":""}]
[null,{"$f":"IF($G120=\"\",\"\",VLOOKUP($G120,Lists!$BL$2:$BQ$478,COLUMN(),FALSE))","v":""},{"$f":"IF($G120=\"\",\"\",VLOOKUP($G120,Lists!$BL$2:$BQ$478,COLUMN(),FALSE))","v":""},{"$f":"IF($G120=\"\",\"\",VLOOKUP($G120,Lists!$BL$2:$BQ$478,COLUMN(),FALSE))","v":""},{"$f":"IF($G120=\"\",\"\",VLOOKUP($G120,Lists!$BL$2:$BQ$478,COLUMN(),FALSE))","v":""},{"$f":"IF($G120=\"\",\"\",VLOOKUP($G120,Lists!$BL$2:$BQ$478,COLUMN(),FALSE))","v":""}]
[null,{"$f":"IF($G121=\"\",\"\",VLOOKUP($G121,Lists!$BL$2:$BQ$478,COLUMN(),FALSE))","v":""},{"$f":"IF($G121=\"\",\"\",VLOOKUP($G121,Lists!$BL$2:$BQ$478,COLUMN(),FALSE))","v":""},{"$f":"IF($G121=\"\",\"\",VLOOKUP($G121,Lists!$BL$2:$BQ$478,COLUMN(),FALSE))","v":""},{"$f":"IF($G121=\"\",\"\",VLOOKUP($G121,Lists!$BL$2:$BQ$478,COLUMN(),FALSE))","v":""},{"$f":"IF($G121=\"\",\"\",VLOOKUP($G121,Lists!$BL$2:$BQ$478,COLUMN(),FALSE))","v":""}]
[null,{"$f":"IF($G122=\"\",\"\",VLOOKUP($G122,Lists!$BL$2:$BQ$478,COLUMN(),FALSE))","v":""},{"$f":"IF($G122=\"\",\"\",VLOOKUP($G122,Lists!$BL$2:$BQ$478,COLUMN(),FALSE))","v":""},{"$f":"IF($G122=\"\",\"\",VLOOKUP($G122,Lists!$BL$2:$BQ$478,COLUMN(),FALSE))","v":""},{"$f":"IF($G122=\"\",\"\",VLOOKUP($G122,Lists!$BL$2:$BQ$478,COLUMN(),FALSE))","v":""},{"$f":"IF($G122=\"\",\"\",VLOOKUP($G122,Lists!$BL$2:$BQ$478,COLUMN(),FALSE))","v":""}]
[null,{"$f":"IF($G123=\"\",\"\",VLOOKUP($G123,Lists!$BL$2:$BQ$478,COLUMN(),FALSE))","v":""},{"$f":"IF($G123=\"\",\"\",VLOOKUP($G123,Lists!$BL$2:$BQ$478,COLUMN(),FALSE))","v":""},{"$f":"IF($G123=\"\",\"\",VLOOKUP($G123,Lists!$BL$2:$BQ$478,COLUMN(),FALSE))","v":""},{"$f":"IF($G123=\"\",\"\",VLOOKUP($G123,Lists!$BL$2:$BQ$478,COLUMN(),FALSE))","v":""},{"$f":"IF($G123=\"\",\"\",VLOOKUP($G123,Lists!$BL$2:$BQ$478,COLUMN(),FALSE))","v":""}]
[null,{"$f":"IF($G124=\"\",\"\",VLOOKUP($G124,Lists!$BL$2:$BQ$478,COLUMN(),FALSE))","v":""},{"$f":"IF($G124=\"\",\"\",VLOOKUP($G124,Lists!$BL$2:$BQ$478,COLUMN(),FALSE))","v":""},{"$f":"IF($G124=\"\",\"\",VLOOKUP($G124,Lists!$BL$2:$BQ$478,COLUMN(),FALSE))","v":""},{"$f":"IF($G124=\"\",\"\",VLOOKUP($G124,Lists!$BL$2:$BQ$478,COLUMN(),FALSE))","v":""},{"$f":"IF($G124=\"\",\"\",VLOOKUP($G124,Lists!$BL$2:$BQ$478,COLUMN(),FALSE))","v":""}]
[null,{"$f":"IF($G125=\"\",\"\",VLOOKUP($G125,Lists!$BL$2:$BQ$478,COLUMN(),FALSE))","v":""},{"$f":"IF($G125=\"\",\"\",VLOOKUP($G125,Lists!$BL$2:$BQ$478,COLUMN(),FALSE))","v":""},{"$f":"IF($G125=\"\",\"\",VLOOKUP($G125,Lists!$BL$2:$BQ$478,COLUMN(),FALSE))","v":""},{"$f":"IF($G125=\"\",\"\",VLOOKUP($G125,Lists!$BL$2:$BQ$478,COLUMN(),FALSE))","v":""},{"$f":"IF($G125=\"\",\"\",VLOOKUP($G125,Lists!$BL$2:$BQ$478,COLUMN(),FALSE))","v":""}]
[null,{"$f":"IF($G126=\"\",\"\",VLOOKUP($G126,Lists!$BL$2:$BQ$478,COLUMN(),FALSE))","v":""},{"$f":"IF($G126=\"\",\"\",VLOOKUP($G126,Lists!$BL$2:$BQ$478,COLUMN(),FALSE))","v":""},{"$f":"IF($G126=\"\",\"\",VLOOKUP($G126,Lists!$BL$2:$BQ$478,COLUMN(),FALSE))","v":""},{"$f":"IF($G126=\"\",\"\",VLOOKUP($G126,Lists!$BL$2:$BQ$478,COLUMN(),FALSE))","v":""},{"$f":"IF($G126=\"\",\"\",VLOOKUP($G126,Lists!$BL$2:$BQ$478,COLUMN(),FALSE))","v":""}]
[null,{"$f":"IF($G127=\"\",\"\",VLOOKUP($G127,Lists!$BL$2:$BQ$478,COLUMN(),FALSE))","v":""},{"$f":"IF($G127=\"\",\"\",VLOOKUP($G127,Lists!$BL$2:$BQ$478,COLUMN(),FALSE))","v":""},{"$f":"IF($G127=\"\",\"\",VLOOKUP($G127,Lists!$BL$2:$BQ$478,COLUMN(),FALSE))","v":""},{"$f":"IF($G127=\"\",\"\",VLOOKUP($G127,Lists!$BL$2:$BQ$478,COLUMN(),FALSE))","v":""},{"$f":"IF($G127=\"\",\"\",VLOOKUP($G127,Lists!$BL$2:$BQ$478,COLUMN(),FALSE))","v":""}]
[null,{"$f":"IF($G128=\"\",\"\",VLOOKUP($G128,Lists!$BL$2:$BQ$478,COLUMN(),FALSE))","v":""},{"$f":"IF($G128=\"\",\"\",VLOOKUP($G128,Lists!$BL$2:$BQ$478,COLUMN(),FALSE))","v":""},{"$f":"IF($G128=\"\",\"\",VLOOKUP($G128,Lists!$BL$2:$BQ$478,COLUMN(),FALSE))","v":""},{"$f":"IF($G128=\"\",\"\",VLOOKUP($G128,Lists!$BL$2:$BQ$478,COLUMN(),FALSE))","v":""},{"$f":"IF($G128=\"\",\"\",VLOOKUP($G128,Lists!$BL$2:$BQ$478,COLUMN(),FALSE))","v":""}]
[null,{"$f":"IF($G129=\"\",\"\",VLOOKUP($G129,Lists!$BL$2:$BQ$478,COLUMN(),FALSE))","v":""},{"$f":"IF($G129=\"\",\"\",VLOOKUP($G129,Lists!$BL$2:$BQ$478,COLUMN(),FALSE))","v":""},{"$f":"IF($G129=\"\",\"\",VLOOKUP($G129,Lists!$BL$2:$BQ$478,COLUMN(),FALSE))","v":""},{"$f":"IF($G129=\"\",\"\",VLOOKUP($G129,Lists!$BL$2:$BQ$478,COLUMN(),FALSE))","v":""},{"$f":"IF($G129=\"\",\"\",VLOOKUP($G129,Lists!$BL$2:$BQ$478,COLUMN(),FALSE))","v":""}]
[null,{"$f":"IF($G130=\"\",\"\",VLOOKUP($G130,Lists!$BL$2:$BQ$478,COLUMN(),FALSE))","v":""},{"$f":"IF($G130=\"\",\"\",VLOOKUP($G130,Lists!$BL$2:$BQ$478,COLUMN(),FALSE))","v":""},{"$f":"IF($G130=\"\",\"\",VLOOKUP($G130,Lists!$BL$2:$BQ$478,COLUMN(),FALSE))","v":""},{"$f":"IF($G130=\"\",\"\",VLOOKUP($G130,Lists!$BL$2:$BQ$478,COLUMN(),FALSE))","v":""},{"$f":"IF($G130=\"\",\"\",VLOOKUP($G130,Lists!$BL$2:$BQ$478,COLUMN(),FALSE))","v":""}]
[null,{"$f":"IF($G131=\"\",\"\",VLOOKUP($G131,Lists!$BL$2:$BQ$478,COLUMN(),FALSE))","v":""},{"$f":"IF($G131=\"\",\"\",VLOOKUP($G131,Lists!$BL$2:$BQ$478,COLUMN(),FALSE))","v":""},{"$f":"IF($G131=\"\",\"\",VLOOKUP($G131,Lists!$BL$2:$BQ$478,COLUMN(),FALSE))","v":""},{"$f":"IF($G131=\"\",\"\",VLOOKUP($G131,Lists!$BL$2:$BQ$478,COLUMN(),FALSE))","v":""},{"$f":"IF($G131=\"\",\"\",VLOOKUP($G131,Lists!$BL$2:$BQ$478,COLUMN(),FALSE))","v":""}]
[null,{"$f":"IF($G132=\"\",\"\",VLOOKUP($G132,Lists!$BL$2:$BQ$478,COLUMN(),FALSE))","v":""},{"$f":"IF($G132=\"\",\"\",VLOOKUP($G132,Lists!$BL$2:$BQ$478,COLUMN(),FALSE))","v":""},{"$f":"IF($G132=\"\",\"\",VLOOKUP($G132,Lists!$BL$2:$BQ$478,COLUMN(),FALSE))","v":""},{"$f":"IF($G132=\"\",\"\",VLOOKUP($G132,Lists!$BL$2:$BQ$478,COLUMN(),FALSE))","v":""},{"$f":"IF($G132=\"\",\"\",VLOOKUP($G132,Lists!$BL$2:$BQ$478,COLUMN(),FALSE))","v":""}]
[null,{"$f":"IF($G133=\"\",\"\",VLOOKUP($G133,Lists!$BL$2:$BQ$478,COLUMN(),FALSE))","v":""},{"$f":"IF($G133=\"\",\"\",VLOOKUP($G133,Lists!$BL$2:$BQ$478,COLUMN(),FALSE))","v":""},{"$f":"IF($G133=\"\",\"\",VLOOKUP($G133,Lists!$BL$2:$BQ$478,COLUMN(),FALSE))","v":""},{"$f":"IF($G133=\"\",\"\",VLOOKUP($G133,Lists!$BL$2:$BQ$478,COLUMN(),FALSE))","v":""},{"$f":"IF($G133=\"\",\"\",VLOOKUP($G133,Lists!$BL$2:$BQ$478,COLUMN(),FALSE))","v":""}]
[null,{"$f":"IF($G134=\"\",\"\",VLOOKUP($G134,Lists!$BL$2:$BQ$478,COLUMN(),FALSE))","v":""},{"$f":"IF($G134=\"\",\"\",VLOOKUP($G134,Lists!$BL$2:$BQ$478,COLUMN(),FALSE))","v":""},{"$f":"IF($G134=\"\",\"\",VLOOKUP($G134,Lists!$BL$2:$BQ$478,COLUMN(),FALSE))","v":""},{"$f":"IF($G134=\"\",\"\",VLOOKUP($G134,Lists!$BL$2:$BQ$478,COLUMN(),FALSE))","v":""},{"$f":"IF($G134=\"\",\"\",VLOOKUP($G134,Lists!$BL$2:$BQ$478,COLUMN(),FALSE))","v":""}]
[null,{"$f":"IF($G135=\"\",\"\",VLOOKUP($G135,Lists!$BL$2:$BQ$478,COLUMN(),FALSE))","v":""},{"$f":"IF($G135=\"\",\"\",VLOOKUP($G135,Lists!$BL$2:$BQ$478,COLUMN(),FALSE))","v":""},{"$f":"IF($G135=\"\",\"\",VLOOKUP($G135,Lists!$BL$2:$BQ$478,COLUMN(),FALSE))","v":""},{"$f":"IF($G135=\"\",\"\",VLOOKUP($G135,Lists!$BL$2:$BQ$478,COLUMN(),FALSE))","v":""},{"$f":"IF($G135=\"\",\"\",VLOOKUP($G135,Lists!$BL$2:$BQ$478,COLUMN(),FALSE))","v":""}]
[null,{"$f":"IF($G136=\"\",\"\",VLOOKUP($G136,Lists!$BL$2:$BQ$478,COLUMN(),FALSE))","v":""},{"$f":"IF($G136=\"\",\"\",VLOOKUP($G136,Lists!$BL$2:$BQ$478,COLUMN(),FALSE))","v":""},{"$f":"IF($G136=\"\",\"\",VLOOKUP($G136,Lists!$BL$2:$BQ$478,COLUMN(),FALSE))","v":""},{"$f":"IF($G136=\"\",\"\",VLOOKUP($G136,Lists!$BL$2:$BQ$478,COLUMN(),FALSE))","v":""},{"$f":"IF($G136=\"\",\"\",VLOOKUP($G136,Lists!$BL$2:$BQ$478,COLUMN(),FALSE))","v":""}]
[null,{"$f":"IF($G137=\"\",\"\",VLOOKUP($G137,Lists!$BL$2:$BQ$478,COLUMN(),FALSE))","v":""},{"$f":"IF($G137=\"\",\"\",VLOOKUP($G137,Lists!$BL$2:$BQ$478,COLUMN(),FALSE))","v":""},{"$f":"IF($G137=\"\",\"\",VLOOKUP($G137,Lists!$BL$2:$BQ$478,COLUMN(),FALSE))","v":""},{"$f":"IF($G137=\"\",\"\",VLOOKUP($G137,Lists!$BL$2:$BQ$478,COLUMN(),FALSE))","v":""},{"$f":"IF($G137=\"\",\"\",VLOOKUP($G137,Lists!$BL$2:$BQ$478,COLUMN(),FALSE))","v":""}]
[null,{"$f":"IF($G138=\"\",\"\",VLOOKUP($G138,Lists!$BL$2:$BQ$478,COLUMN(),FALSE))","v":""},{"$f":"IF($G138=\"\",\"\",VLOOKUP($G138,Lists!$BL$2:$BQ$478,COLUMN(),FALSE))","v":""},{"$f":"IF($G138=\"\",\"\",VLOOKUP($G138,Lists!$BL$2:$BQ$478,COLUMN(),FALSE))","v":""},{"$f":"IF($G138=\"\",\"\",VLOOKUP($G138,Lists!$BL$2:$BQ$478,COLUMN(),FALSE))","v":""},{"$f":"IF($G138=\"\",\"\",VLOOKUP($G138,Lists!$BL$2:$BQ$478,COLUMN(),FALSE))","v":""}]
[null,{"$f":"IF($G139=\"\",\"\",VLOOKUP($G139,Lists!$BL$2:$BQ$478,COLUMN(),FALSE))","v":""},{"$f":"IF($G139=\"\",\"\",VLOOKUP($G139,Lists!$BL$2:$BQ$478,COLUMN(),FALSE))","v":""},{"$f":"IF($G139=\"\",\"\",VLOOKUP($G139,Lists!$BL$2:$BQ$478,COLUMN(),FALSE))","v":""},{"$f":"IF($G139=\"\",\"\",VLOOKUP($G139,Lists!$BL$2:$BQ$478,COLUMN(),FALSE))","v":""},{"$f":"IF($G139=\"\",\"\",VLOOKUP($G139,Lists!$BL$2:$BQ$478,COLUMN(),FALSE))","v":""}]
[null,{"$f":"IF($G140=\"\",\"\",VLOOKUP($G140,Lists!$BL$2:$BQ$478,COLUMN(),FALSE))","v":""},{"$f":"IF($G140=\"\",\"\",VLOOKUP($G140,Lists!$BL$2:$BQ$478,COLUMN(),FALSE))","v":""},{"$f":"IF($G140=\"\",\"\",VLOOKUP($G140,Lists!$BL$2:$BQ$478,COLUMN(),FALSE))","v":""},{"$f":"IF($G140=\"\",\"\",VLOOKUP($G140,Lists!$BL$2:$BQ$478,COLUMN(),FALSE))","v":""},{"$f":"IF($G140=\"\",\"\",VLOOKUP($G140,Lists!$BL$2:$BQ$478,COLUMN(),FALSE))","v":""}]
[null,{"$f":"IF($G141=\"\",\"\",VLOOKUP($G141,Lists!$BL$2:$BQ$478,COLUMN(),FALSE))","v":""},{"$f":"IF($G141=\"\",\"\",VLOOKUP($G141,Lists!$BL$2:$BQ$478,COLUMN(),FALSE))","v":""},{"$f":"IF($G141=\"\",\"\",VLOOKUP($G141,Lists!$BL$2:$BQ$478,COLUMN(),FALSE))","v":""},{"$f":"IF($G141=\"\",\"\",VLOOKUP($G141,Lists!$BL$2:$BQ$478,COLUMN(),FALSE))","v":""},{"$f":"IF($G141=\"\",\"\",VLOOKUP($G141,Lists!$BL$2:$BQ$478,COLUMN(),FALSE))","v":""}]
[null,{"$f":"IF($G142=\"\",\"\",VLOOKUP($G142,Lists!$BL$2:$BQ$478,COLUMN(),FALSE))","v":""},{"$f":"IF($G142=\"\",\"\",VLOOKUP($G142,Lists!$BL$2:$BQ$478,COLUMN(),FALSE))","v":""},{"$f":"IF($G142=\"\",\"\",VLOOKUP($G142,Lists!$BL$2:$BQ$478,COLUMN(),FALSE))","v":""},{"$f":"IF($G142=\"\",\"\",VLOOKUP($G142,Lists!$BL$2:$BQ$478,COLUMN(),FALSE))","v":""},{"$f":"IF($G142=\"\",\"\",VLOOKUP($G142,Lists!$BL$2:$BQ$478,COLUMN(),FALSE))","v":""}]
[null,{"$f":"IF($G143=\"\",\"\",VLOOKUP($G143,Lists!$BL$2:$BQ$478,COLUMN(),FALSE))","v":""},{"$f":"IF($G143=\"\",\"\",VLOOKUP($G143,Lists!$BL$2:$BQ$478,COLUMN(),FALSE))","v":""},{"$f":"IF($G143=\"\",\"\",VLOOKUP($G143,Lists!$BL$2:$BQ$478,COLUMN(),FALSE))","v":""},{"$f":"IF($G143=\"\",\"\",VLOOKUP($G143,Lists!$BL$2:$BQ$478,COLUMN(),FALSE))","v":""},{"$f":"IF($G143=\"\",\"\",VLOOKUP($G143,Lists!$BL$2:$BQ$478,COLUMN(),FALSE))","v":""}]
[null,{"$f":"IF($G144=\"\",\"\",VLOOKUP($G144,Lists!$BL$2:$BQ$478,COLUMN(),FALSE))","v":""},{"$f":"IF($G144=\"\",\"\",VLOOKUP($G144,Lists!$BL$2:$BQ$478,COLUMN(),FALSE))","v":""},{"$f":"IF($G144=\"\",\"\",VLOOKUP($G144,Lists!$BL$2:$BQ$478,COLUMN(),FALSE))","v":""},{"$f":"IF($G144=\"\",\"\",VLOOKUP($G144,Lists!$BL$2:$BQ$478,COLUMN(),FALSE))","v":""},{"$f":"IF($G144=\"\",\"\",VLOOKUP($G144,Lists!$BL$2:$BQ$478,COLUMN(),FALSE))","v":""}]
[null,{"$f":"IF($G145=\"\",\"\",VLOOKUP($G145,Lists!$BL$2:$BQ$478,COLUMN(),FALSE))","v":""},{"$f":"IF($G145=\"\",\"\",VLOOKUP($G145,Lists!$BL$2:$BQ$478,COLUMN(),FALSE))","v":""},{"$f":"IF($G145=\"\",\"\",VLOOKUP($G145,Lists!$BL$2:$BQ$478,COLUMN(),FALSE))","v":""},{"$f":"IF($G145=\"\",\"\",VLOOKUP($G145,Lists!$BL$2:$BQ$478,COLUMN(),FALSE))","v":""},{"$f":"IF($G145=\"\",\"\",VLOOKUP($G145,Lists!$BL$2:$BQ$478,COLUMN(),FALSE))","v":""}]
[null,{"$f":"IF($G146=\"\",\"\",VLOOKUP($G146,Lists!$BL$2:$BQ$478,COLUMN(),FALSE))","v":""},{"$f":"IF($G146=\"\",\"\",VLOOKUP($G146,Lists!$BL$2:$BQ$478,COLUMN(),FALSE))","v":""},{"$f":"IF($G146=\"\",\"\",VLOOKUP($G146,Lists!$BL$2:$BQ$478,COLUMN(),FALSE))","v":""},{"$f":"IF($G146=\"\",\"\",VLOOKUP($G146,Lists!$BL$2:$BQ$478,COLUMN(),FALSE))","v":""},{"$f":"IF($G146=\"\",\"\",VLOOKUP($G146,Lists!$BL$2:$BQ$478,COLUMN(),FALSE))","v":""}]
[null,{"$f":"IF($G147=\"\",\"\",VLOOKUP($G147,Lists!$BL$2:$BQ$478,COLUMN(),FALSE))","v":""},{"$f":"IF($G147=\"\",\"\",VLOOKUP($G147,Lists!$BL$2:$BQ$478,COLUMN(),FALSE))","v":""},{"$f":"IF($G147=\"\",\"\",VLOOKUP($G147,Lists!$BL$2:$BQ$478,COLUMN(),FALSE))","v":""},{"$f":"IF($G147=\"\",\"\",VLOOKUP($G147,Lists!$BL$2:$BQ$478,COLUMN(),FALSE))","v":""},{"$f":"IF($G147=\"\",\"\",VLOOKUP($G147,Lists!$BL$2:$BQ$478,COLUMN(),FALSE))","v":""}]
[null,{"$f":"IF($G148=\"\",\"\",VLOOKUP($G148,Lists!$BL$2:$BQ$478,COLUMN(),FALSE))","v":""},{"$f":"IF($G148=\"\",\"\",VLOOKUP($G148,Lists!$BL$2:$BQ$478,COLUMN(),FALSE))","v":""},{"$f":"IF($G148=\"\",\"\",VLOOKUP($G148,Lists!$BL$2:$BQ$478,COLUMN(),FALSE))","v":""},{"$f":"IF($G148=\"\",\"\",VLOOKUP($G148,Lists!$BL$2:$BQ$478,COLUMN(),FALSE))","v":""},{"$f":"IF($G148=\"\",\"\",VLOOKUP($G148,Lists!$BL$2:$BQ$478,COLUMN(),FALSE))","v":""}]
[null,{"$f":"IF($G149=\"\",\"\",VLOOKUP($G149,Lists!$BL$2:$BQ$478,COLUMN(),FALSE))","v":""},{"$f":"IF($G149=\"\",\"\",VLOOKUP($G149,Lists!$BL$2:$BQ$478,COLUMN(),FALSE))","v":""},{"$f":"IF($G149=\"\",\"\",VLOOKUP($G149,Lists!$BL$2:$BQ$478,COLUMN(),FALSE))","v":""},{"$f":"IF($G149=\"\",\"\",VLOOKUP($G149,Lists!$BL$2:$BQ$478,COLUMN(),FALSE))","v":""},{"$f":"IF($G149=\"\",\"\",VLOOKUP($G149,Lists!$BL$2:$BQ$478,COLUMN(),FALSE))","v":""}]
[null,{"$f":"IF($G150=\"\",\"\",VLOOKUP($G150,Lists!$BL$2:$BQ$478,COLUMN(),FALSE))","v":""},{"$f":"IF($G150=\"\",\"\",VLOOKUP($G150,Lists!$BL$2:$BQ$478,COLUMN(),FALSE))","v":""},{"$f":"IF($G150=\"\",\"\",VLOOKUP($G150,Lists!$BL$2:$BQ$478,COLUMN(),FALSE))","v":""},{"$f":"IF($G150=\"\",\"\",VLOOKUP($G150,Lists!$BL$2:$BQ$478,COLUMN(),FALSE))","v":""},{"$f":"IF($G150=\"\",\"\",VLOOKUP($G150,Lists!$BL$2:$BQ$478,COLUMN(),FALSE))","v":""}]
[null,{"$f":"IF($G151=\"\",\"\",VLOOKUP($G151,Lists!$BL$2:$BQ$478,COLUMN(),FALSE))","v":""},{"$f":"IF($G151=\"\",\"\",VLOOKUP($G151,Lists!$BL$2:$BQ$478,COLUMN(),FALSE))","v":""},{"$f":"IF($G151=\"\",\"\",VLOOKUP($G151,Lists!$BL$2:$BQ$478,COLUMN(),FALSE))","v":""},{"$f":"IF($G151=\"\",\"\",VLOOKUP($G151,Lists!$BL$2:$BQ$478,COLUMN(),FALSE))","v":""},{"$f":"IF($G151=\"\",\"\",VLOOKUP($G151,Lists!$BL$2:$BQ$478,COLUMN(),FALSE))","v":""}]
[null,{"$f":"IF($G152=\"\",\"\",VLOOKUP($G152,Lists!$BL$2:$BQ$478,COLUMN(),FALSE))","v":""},{"$f":"IF($G152=\"\",\"\",VLOOKUP($G152,Lists!$BL$2:$BQ$478,COLUMN(),FALSE))","v":""},{"$f":"IF($G152=\"\",\"\",VLOOKUP($G152,Lists!$BL$2:$BQ$478,COLUMN(),FALSE))","v":""},{"$f":"IF($G152=\"\",\"\",VLOOKUP($G152,Lists!$BL$2:$BQ$478,COLUMN(),FALSE))","v":""},{"$f":"IF($G152=\"\",\"\",VLOOKUP($G152,Lists!$BL$2:$BQ$478,COLUMN(),FALSE))","v":""}]
[null,{"$f":"IF($G153=\"\",\"\",VLOOKUP($G153,Lists!$BL$2:$BQ$478,COLUMN(),FALSE))","v":""},{"$f":"IF($G153=\"\",\"\",VLOOKUP($G153,Lists!$BL$2:$BQ$478,COLUMN(),FALSE))","v":""},{"$f":"IF($G153=\"\",\"\",VLOOKUP($G153,Lists!$BL$2:$BQ$478,COLUMN(),FALSE))","v":""},{"$f":"IF($G153=\"\",\"\",VLOOKUP($G153,Lists!$BL$2:$BQ$478,COLUMN(),FALSE))","v":""},{"$f":"IF($G153=\"\",\"\",VLOOKUP($G153,Lists!$BL$2:$BQ$478,COLUMN(),FALSE))","v":""}]
[null,{"$f":"IF($G154=\"\",\"\",VLOOKUP($G154,Lists!$BL$2:$BQ$478,COLUMN(),FALSE))","v":""},{"$f":"IF($G154=\"\",\"\",VLOOKUP($G154,Lists!$BL$2:$BQ$478,COLUMN(),FALSE))","v":""},{"$f":"IF($G154=\"\",\"\",VLOOKUP($G154,Lists!$BL$2:$BQ$478,COLUMN(),FALSE))","v":""},{"$f":"IF($G154=\"\",\"\",VLOOKUP($G154,Lists!$BL$2:$BQ$478,COLUMN(),FALSE))","v":""},{"$f":"IF($G154=\"\",\"\",VLOOKUP($G154,Lists!$BL$2:$BQ$478,COLUMN(),FALSE))","v":""}]
[null,{"$f":"IF($G155=\"\",\"\",VLOOKUP($G155,Lists!$BL$2:$BQ$478,COLUMN(),FALSE))","v":""},{"$f":"IF($G155=\"\",\"\",VLOOKUP($G155,Lists!$BL$2:$BQ$478,COLUMN(),FALSE))","v":""},{"$f":"IF($G155=\"\",\"\",VLOOKUP($G155,Lists!$BL$2:$BQ$478,COLUMN(),FALSE))","v":""},{"$f":"IF($G155=\"\",\"\",VLOOKUP($G155,Lists!$BL$2:$BQ$478,COLUMN(),FALSE))","v":""},{"$f":"IF($G155=\"\",\"\",VLOOKUP($G155,Lists!$BL$2:$BQ$478,COLUMN(),FALSE))","v":""}]
[null,{"$f":"IF($G156=\"\",\"\",VLOOKUP($G156,Lists!$BL$2:$BQ$478,COLUMN(),FALSE))","v":""},{"$f":"IF($G156=\"\",\"\",VLOOKUP($G156,Lists!$BL$2:$BQ$478,COLUMN(),FALSE))","v":""},{"$f":"IF($G156=\"\",\"\",VLOOKUP($G156,Lists!$BL$2:$BQ$478,COLUMN(),FALSE))","v":""},{"$f":"IF($G156=\"\",\"\",VLOOKUP($G156,Lists!$BL$2:$BQ$478,COLUMN(),FALSE))","v":""},{"$f":"IF($G156=\"\",\"\",VLOOKUP($G156,Lists!$BL$2:$BQ$478,COLUMN(),FALSE))","v":""}]
[null,{"$f":"IF($G157=\"\",\"\",VLOOKUP($G157,Lists!$BL$2:$BQ$478,COLUMN(),FALSE))","v":""},{"$f":"IF($G157=\"\",\"\",VLOOKUP($G157,Lists!$BL$2:$BQ$478,COLUMN(),FALSE))","v":""},{"$f":"IF($G157=\"\",\"\",VLOOKUP($G157,Lists!$BL$2:$BQ$478,COLUMN(),FALSE))","v":""},{"$f":"IF($G157=\"\",\"\",VLOOKUP($G157,Lists!$BL$2:$BQ$478,COLUMN(),FALSE))","v":""},{"$f":"IF($G157=\"\",\"\",VLOOKUP($G157,Lists!$BL$2:$BQ$478,COLUMN(),FALSE))","v":""}]
[null,{"$f":"IF($G158=\"\",\"\",VLOOKUP($G158,Lists!$BL$2:$BQ$478,COLUMN(),FALSE))","v":""},{"$f":"IF($G158=\"\",\"\",VLOOKUP($G158,Lists!$BL$2:$BQ$478,COLUMN(),FALSE))","v":""},{"$f":"IF($G158=\"\",\"\",VLOOKUP($G158,Lists!$BL$2:$BQ$478,COLUMN(),FALSE))","v":""},{"$f":"IF($G158=\"\",\"\",VLOOKUP($G158,Lists!$BL$2:$BQ$478,COLUMN(),FALSE))","v":""},{"$f":"IF($G158=\"\",\"\",VLOOKUP($G158,Lists!$BL$2:$BQ$478,COLUMN(),FALSE))","v":""}]
[null,{"$f":"IF($G159=\"\",\"\",VLOOKUP($G159,Lists!$BL$2:$BQ$478,COLUMN(),FALSE))","v":""},{"$f":"IF($G159=\"\",\"\",VLOOKUP($G159,Lists!$BL$2:$BQ$478,COLUMN(),FALSE))","v":""},{"$f":"IF($G159=\"\",\"\",VLOOKUP($G159,Lists!$BL$2:$BQ$478,COLUMN(),FALSE))","v":""},{"$f":"IF($G159=\"\",\"\",VLOOKUP($G159,Lists!$BL$2:$BQ$478,COLUMN(),FALSE))","v":""},{"$f":"IF($G159=\"\",\"\",VLOOKUP($G159,Lists!$BL$2:$BQ$478,COLUMN(),FALSE))","v":""}]
[null,{"$f":"IF($G160=\"\",\"\",VLOOKUP($G160,Lists!$BL$2:$BQ$478,COLUMN(),FALSE))","v":""},{"$f":"IF($G160=\"\",\"\",VLOOKUP($G160,Lists!$BL$2:$BQ$478,COLUMN(),FALSE))","v":""},{"$f":"IF($G160=\"\",\"\",VLOOKUP($G160,Lists!$BL$2:$BQ$478,COLUMN(),FALSE))","v":""},{"$f":"IF($G160=\"\",\"\",VLOOKUP($G160,Lists!$BL$2:$BQ$478,COLUMN(),FALSE))","v":""},{"$f":"IF($G160=\"\",\"\",VLOOKUP($G160,Lists!$BL$2:$BQ$478,COLUMN(),FALSE))","v":""}]
[null,{"$f":"IF($G161=\"\",\"\",VLOOKUP($G161,Lists!$BL$2:$BQ$478,COLUMN(),FALSE))","v":""},{"$f":"IF($G161=\"\",\"\",VLOOKUP($G161,Lists!$BL$2:$BQ$478,COLUMN(),FALSE))","v":""},{"$f":"IF($G161=\"\",\"\",VLOOKUP($G161,Lists!$BL$2:$BQ$478,COLUMN(),FALSE))","v":""},{"$f":"IF($G161=\"\",\"\",VLOOKUP($G161,Lists!$BL$2:$BQ$478,COLUMN(),FALSE))","v":""},{"$f":"IF($G161=\"\",\"\",VLOOKUP($G161,Lists!$BL$2:$BQ$478,COLUMN(),FALSE))","v":""}]
[null,{"$f":"IF($G162=\"\",\"\",VLOOKUP($G162,Lists!$BL$2:$BQ$478,COLUMN(),FALSE))","v":""},{"$f":"IF($G162=\"\",\"\",VLOOKUP($G162,Lists!$BL$2:$BQ$478,COLUMN(),FALSE))","v":""},{"$f":"IF($G162=\"\",\"\",VLOOKUP($G162,Lists!$BL$2:$BQ$478,COLUMN(),FALSE))","v":""},{"$f":"IF($G162=\"\",\"\",VLOOKUP($G162,Lists!$BL$2:$BQ$478,COLUMN(),FALSE))","v":""},{"$f":"IF($G162=\"\",\"\",VLOOKUP($G162,Lists!$BL$2:$BQ$478,COLUMN(),FALSE))","v":""}]
[null,{"$f":"IF($G163=\"\",\"\",VLOOKUP($G163,Lists!$BL$2:$BQ$478,COLUMN(),FALSE))","v":""},{"$f":"IF($G163=\"\",\"\",VLOOKUP($G163,Lists!$BL$2:$BQ$478,COLUMN(),FALSE))","v":""},{"$f":"IF($G163=\"\",\"\",VLOOKUP($G163,Lists!$BL$2:$BQ$478,COLUMN(),FALSE))","v":""},{"$f":"IF($G163=\"\",\"\",VLOOKUP($G163,Lists!$BL$2:$BQ$478,COLUMN(),FALSE))","v":""},{"$f":"IF($G163=\"\",\"\",VLOOKUP($G163,Lists!$BL$2:$BQ$478,COLUMN(),FALSE))","v":""}]
[null,{"$f":"IF($G164=\"\",\"\",VLOOKUP($G164,Lists!$BL$2:$BQ$478,COLUMN(),FALSE))","v":""},{"$f":"IF($G164=\"\",\"\",VLOOKUP($G164,Lists!$BL$2:$BQ$478,COLUMN(),FALSE))","v":""},{"$f":"IF($G164=\"\",\"\",VLOOKUP($G164,Lists!$BL$2:$BQ$478,COLUMN(),FALSE))","v":""},{"$f":"IF($G164=\"\",\"\",VLOOKUP($G164,Lists!$BL$2:$BQ$478,COLUMN(),FALSE))","v":""},{"$f":"IF($G164=\"\",\"\",VLOOKUP($G164,Lists!$BL$2:$BQ$478,COLUMN(),FALSE))","v":""}]
[null,{"$f":"IF($G165=\"\",\"\",VLOOKUP($G165,Lists!$BL$2:$BQ$478,COLUMN(),FALSE))","v":""},{"$f":"IF($G165=\"\",\"\",VLOOKUP($G165,Lists!$BL$2:$BQ$478,COLUMN(),FALSE))","v":""},{"$f":"IF($G165=\"\",\"\",VLOOKUP($G165,Lists!$BL$2:$BQ$478,COLUMN(),FALSE))","v":""},{"$f":"IF($G165=\"\",\"\",VLOOKUP($G165,Lists!$BL$2:$BQ$478,COLUMN(),FALSE))","v":""},{"$f":"IF($G165=\"\",\"\",VLOOKUP($G165,Lists!$BL$2:$BQ$478,COLUMN(),FALSE))","v":""}]
[null,{"$f":"IF($G166=\"\",\"\",VLOOKUP($G166,Lists!$BL$2:$BQ$478,COLUMN(),FALSE))","v":""},{"$f":"IF($G166=\"\",\"\",VLOOKUP($G166,Lists!$BL$2:$BQ$478,COLUMN(),FALSE))","v":""},{"$f":"IF($G166=\"\",\"\",VLOOKUP($G166,Lists!$BL$2:$BQ$478,COLUMN(),FALSE))","v":""},{"$f":"IF($G166=\"\",\"\",VLOOKUP($G166,Lists!$BL$2:$BQ$478,COLUMN(),FALSE))","v":""},{"$f":"IF($G166=\"\",\"\",VLOOKUP($G166,Lists!$BL$2:$BQ$478,COLUMN(),FALSE))","v":""}]
[null,{"$f":"IF($G167=\"\",\"\",VLOOKUP($G167,Lists!$BL$2:$BQ$478,COLUMN(),FALSE))","v":""},{"$f":"IF($G167=\"\",\"\",VLOOKUP($G167,Lists!$BL$2:$BQ$478,COLUMN(),FALSE))","v":""},{"$f":"IF($G167=\"\",\"\",VLOOKUP($G167,Lists!$BL$2:$BQ$478,COLUMN(),FALSE))","v":""},{"$f":"IF($G167=\"\",\"\",VLOOKUP($G167,Lists!$BL$2:$BQ$478,COLUMN(),FALSE))","v":""},{"$f":"IF($G167=\"\",\"\",VLOOKUP($G167,Lists!$BL$2:$BQ$478,COLUMN(),FALSE))","v":""}]
[null,{"$f":"IF($G168=\"\",\"\",VLOOKUP($G168,Lists!$BL$2:$BQ$478,COLUMN(),FALSE))","v":""},{"$f":"IF($G168=\"\",\"\",VLOOKUP($G168,Lists!$BL$2:$BQ$478,COLUMN(),FALSE))","v":""},{"$f":"IF($G168=\"\",\"\",VLOOKUP($G168,Lists!$BL$2:$BQ$478,COLUMN(),FALSE))","v":""},{"$f":"IF($G168=\"\",\"\",VLOOKUP($G168,Lists!$BL$2:$BQ$478,COLUMN(),FALSE))","v":""},{"$f":"IF($G168=\"\",\"\",VLOOKUP($G168,Lists!$BL$2:$BQ$478,COLUMN(),FALSE))","v":""}]
[null,{"$f":"IF($G169=\"\",\"\",VLOOKUP($G169,Lists!$BL$2:$BQ$478,COLUMN(),FALSE))","v":""},{"$f":"IF($G169=\"\",\"\",VLOOKUP($G169,Lists!$BL$2:$BQ$478,COLUMN(),FALSE))","v":""},{"$f":"IF($G169=\"\",\"\",VLOOKUP($G169,Lists!$BL$2:$BQ$478,COLUMN(),FALSE))","v":""},{"$f":"IF($G169=\"\",\"\",VLOOKUP($G169,Lists!$BL$2:$BQ$478,COLUMN(),FALSE))","v":""},{"$f":"IF($G169=\"\",\"\",VLOOKUP($G169,Lists!$BL$2:$BQ$478,COLUMN(),FALSE))","v":""}]
[null,{"$f":"IF($G170=\"\",\"\",VLOOKUP($G170,Lists!$BL$2:$BQ$478,COLUMN(),FALSE))","v":""},{"$f":"IF($G170=\"\",\"\",VLOOKUP($G170,Lists!$BL$2:$BQ$478,COLUMN(),FALSE))","v":""},{"$f":"IF($G170=\"\",\"\",VLOOKUP($G170,Lists!$BL$2:$BQ$478,COLUMN(),FALSE))","v":""},{"$f":"IF($G170=\"\",\"\",VLOOKUP($G170,Lists!$BL$2:$BQ$478,COLUMN(),FALSE))","v":""},{"$f":"IF($G170=\"\",\"\",VLOOKUP($G170,Lists!$BL$2:$BQ$478,COLUMN(),FALSE))","v":""}]
[null,{"$f":"IF($G171=\"\",\"\",VLOOKUP($G171,Lists!$BL$2:$BQ$478,COLUMN(),FALSE))","v":""},{"$f":"IF($G171=\"\",\"\",VLOOKUP($G171,Lists!$BL$2:$BQ$478,COLUMN(),FALSE))","v":""},{"$f":"IF($G171=\"\",\"\",VLOOKUP($G171,Lists!$BL$2:$BQ$478,COLUMN(),FALSE))","v":""},{"$f":"IF($G171=\"\",\"\",VLOOKUP($G171,Lists!$BL$2:$BQ$478,COLUMN(),FALSE))","v":""},{"$f":"IF($G171=\"\",\"\",VLOOKUP($G171,Lists!$BL$2:$BQ$478,COLUMN(),FALSE))","v":""}]
[null,{"$f":"IF($G172=\"\",\"\",VLOOKUP($G172,Lists!$BL$2:$BQ$478,COLUMN(),FALSE))","v":""},{"$f":"IF($G172=\"\",\"\",VLOOKUP($G172,Lists!$BL$2:$BQ$478,COLUMN(),FALSE))","v":""},{"$f":"IF($G172=\"\",\"\",VLOOKUP($G172,Lists!$BL$2:$BQ$478,COLUMN(),FALSE))","v":""},{"$f":"IF($G172=\"\",\"\",VLOOKUP($G172,Lists!$BL$2:$BQ$478,COLUMN(),FALSE))","v":""},{"$f":"IF($G172=\"\",\"\",VLOOKUP($G172,Lists!$BL$2:$BQ$478,COLUMN(),FALSE))","v":""}]
[null,{"$f":"IF($G173=\"\",\"\",VLOOKUP($G173,Lists!$BL$2:$BQ$478,COLUMN(),FALSE))","v":""},{"$f":"IF($G173=\"\",\"\",VLOOKUP($G173,Lists!$BL$2:$BQ$478,COLUMN(),FALSE))","v":""},{"$f":"IF($G173=\"\",\"\",VLOOKUP($G173,Lists!$BL$2:$BQ$478,COLUMN(),FALSE))","v":""},{"$f":"IF($G173=\"\",\"\",VLOOKUP($G173,Lists!$BL$2:$BQ$478,COLUMN(),FALSE))","v":""},{"$f":"IF($G173=\"\",\"\",VLOOKUP($G173,Lists!$BL$2:$BQ$478,COLUMN(),FALSE))","v":""}]
[null,{"$f":"IF($G174=\"\",\"\",VLOOKUP($G174,Lists!$BL$2:$BQ$478,COLUMN(),FALSE))","v":""},{"$f":"IF($G174=\"\",\"\",VLOOKUP($G174,Lists!$BL$2:$BQ$478,COLUMN(),FALSE))","v":""},{"$f":"IF($G174=\"\",\"\",VLOOKUP($G174,Lists!$BL$2:$BQ$478,COLUMN(),FALSE))","v":""},{"$f":"IF($G174=\"\",\"\",VLOOKUP($G174,Lists!$BL$2:$BQ$478,COLUMN(),FALSE))","v":""},{"$f":"IF($G174=\"\",\"\",VLOOKUP($G174,Lists!$BL$2:$BQ$478,COLUMN(),FALSE))","v":""}]
[null,{"$f":"IF($G175=\"\",\"\",VLOOKUP($G175,Lists!$BL$2:$BQ$478,COLUMN(),FALSE))","v":""},{"$f":"IF($G175=\"\",\"\",VLOOKUP($G175,Lists!$BL$2:$BQ$478,COLUMN(),FALSE))","v":""},{"$f":"IF($G175=\"\",\"\",VLOOKUP($G175,Lists!$BL$2:$BQ$478,COLUMN(),FALSE))","v":""},{"$f":"IF($G175=\"\",\"\",VLOOKUP($G175,Lists!$BL$2:$BQ$478,COLUMN(),FALSE))","v":""},{"$f":"IF($G175=\"\",\"\",VLOOKUP($G175,Lists!$BL$2:$BQ$478,COLUMN(),FALSE))","v":""}]
[null,{"$f":"IF($G176=\"\",\"\",VLOOKUP($G176,Lists!$BL$2:$BQ$478,COLUMN(),FALSE))","v":""},{"$f":"IF($G176=\"\",\"\",VLOOKUP($G176,Lists!$BL$2:$BQ$478,COLUMN(),FALSE))","v":""},{"$f":"IF($G176=\"\",\"\",VLOOKUP($G176,Lists!$BL$2:$BQ$478,COLUMN(),FALSE))","v":""},{"$f":"IF($G176=\"\",\"\",VLOOKUP($G176,Lists!$BL$2:$BQ$478,COLUMN(),FALSE))","v":""},{"$f":"IF($G176=\"\",\"\",VLOOKUP($G176,Lists!$BL$2:$BQ$478,COLUMN(),FALSE))","v":""}]
[null,{"$f":"IF($G177=\"\",\"\",VLOOKUP($G177,Lists!$BL$2:$BQ$478,COLUMN(),FALSE))","v":""},{"$f":"IF($G177=\"\",\"\",VLOOKUP($G177,Lists!$BL$2:$BQ$478,COLUMN(),FALSE))","v":""},{"$f":"IF($G177=\"\",\"\",VLOOKUP($G177,Lists!$BL$2:$BQ$478,COLUMN(),FALSE))","v":""},{"$f":"IF($G177=\"\",\"\",VLOOKUP($G177,Lists!$BL$2:$BQ$478,COLUMN(),FALSE))","v":""},{"$f":"IF($G177=\"\",\"\",VLOOKUP($G177,Lists!$BL$2:$BQ$478,COLUMN(),FALSE))","v":""}]
[null,{"$f":"IF($G178=\"\",\"\",VLOOKUP($G178,Lists!$BL$2:$BQ$478,COLUMN(),FALSE))","v":""},{"$f":"IF($G178=\"\",\"\",VLOOKUP($G178,Lists!$BL$2:$BQ$478,COLUMN(),FALSE))","v":""},{"$f":"IF($G178=\"\",\"\",VLOOKUP($G178,Lists!$BL$2:$BQ$478,COLUMN(),FALSE))","v":""},{"$f":"IF($G178=\"\",\"\",VLOOKUP($G178,Lists!$BL$2:$BQ$478,COLUMN(),FALSE))","v":""},{"$f":"IF($G178=\"\",\"\",VLOOKUP($G178,Lists!$BL$2:$BQ$478,COLUMN(),FALSE))","v":""}]
[null,{"$f":"IF($G179=\"\",\"\",VLOOKUP($G179,Lists!$BL$2:$BQ$478,COLUMN(),FALSE))","v":""},{"$f":"IF($G179=\"\",\"\",VLOOKUP($G179,Lists!$BL$2:$BQ$478,COLUMN(),FALSE))","v":""},{"$f":"IF($G179=\"\",\"\",VLOOKUP($G179,Lists!$BL$2:$BQ$478,COLUMN(),FALSE))","v":""},{"$f":"IF($G179=\"\",\"\",VLOOKUP($G179,Lists!$BL$2:$BQ$478,COLUMN(),FALSE))","v":""},{"$f":"IF($G179=\"\",\"\",VLOOKUP($G179,Lists!$BL$2:$BQ$478,COLUMN(),FALSE))","v":""}]
[null,{"$f":"IF($G180=\"\",\"\",VLOOKUP($G180,Lists!$BL$2:$BQ$478,COLUMN(),FALSE))","v":""},{"$f":"IF($G180=\"\",\"\",VLOOKUP($G180,Lists!$BL$2:$BQ$478,COLUMN(),FALSE))","v":""},{"$f":"IF($G180=\"\",\"\",VLOOKUP($G180,Lists!$BL$2:$BQ$478,COLUMN(),FALSE))","v":""},{"$f":"IF($G180=\"\",\"\",VLOOKUP($G180,Lists!$BL$2:$BQ$478,COLUMN(),FALSE))","v":""},{"$f":"IF($G180=\"\",\"\",VLOOKUP($G180,Lists!$BL$2:$BQ$478,COLUMN(),FALSE))","v":""}]
[null,{"$f":"IF($G181=\"\",\"\",VLOOKUP($G181,Lists!$BL$2:$BQ$478,COLUMN(),FALSE))","v":""},{"$f":"IF($G181=\"\",\"\",VLOOKUP($G181,Lists!$BL$2:$BQ$478,COLUMN(),FALSE))","v":""},{"$f":"IF($G181=\"\",\"\",VLOOKUP($G181,Lists!$BL$2:$BQ$478,COLUMN(),FALSE))","v":""},{"$f":"IF($G181=\"\",\"\",VLOOKUP($G181,Lists!$BL$2:$BQ$478,COLUMN(),FALSE))","v":""},{"$f":"IF($G181=\"\",\"\",VLOOKUP($G181,Lists!$BL$2:$BQ$478,COLUMN(),FALSE))","v":""}]
[null,{"$f":"IF($G182=\"\",\"\",VLOOKUP($G182,Lists!$BL$2:$BQ$478,COLUMN(),FALSE))","v":""},{"$f":"IF($G182=\"\",\"\",VLOOKUP($G182,Lists!$BL$2:$BQ$478,COLUMN(),FALSE))","v":""},{"$f":"IF($G182=\"\",\"\",VLOOKUP($G182,Lists!$BL$2:$BQ$478,COLUMN(),FALSE))","v":""},{"$f":"IF($G182=\"\",\"\",VLOOKUP($G182,Lists!$BL$2:$BQ$478,COLUMN(),FALSE))","v":""},{"$f":"IF($G182=\"\",\"\",VLOOKUP($G182,Lists!$BL$2:$BQ$478,COLUMN(),FALSE))","v":""}]
[null,{"$f":"IF($G183=\"\",\"\",VLOOKUP($G183,Lists!$BL$2:$BQ$478,COLUMN(),FALSE))","v":""},{"$f":"IF($G183=\"\",\"\",VLOOKUP($G183,Lists!$BL$2:$BQ$478,COLUMN(),FALSE))","v":""},{"$f":"IF($G183=\"\",\"\",VLOOKUP($G183,Lists!$BL$2:$BQ$478,COLUMN(),FALSE))","v":""},{"$f":"IF($G183=\"\",\"\",VLOOKUP($G183,Lists!$BL$2:$BQ$478,COLUMN(),FALSE))","v":""},{"$f":"IF($G183=\"\",\"\",VLOOKUP($G183,Lists!$BL$2:$BQ$478,COLUMN(),FALSE))","v":""}]
[null,{"$f":"IF($G184=\"\",\"\",VLOOKUP($G184,Lists!$BL$2:$BQ$478,COLUMN(),FALSE))","v":""},{"$f":"IF($G184=\"\",\"\",VLOOKUP($G184,Lists!$BL$2:$BQ$478,COLUMN(),FALSE))","v":""},{"$f":"IF($G184=\"\",\"\",VLOOKUP($G184,Lists!$BL$2:$BQ$478,COLUMN(),FALSE))","v":""},{"$f":"IF($G184=\"\",\"\",VLOOKUP($G184,Lists!$BL$2:$BQ$478,COLUMN(),FALSE))","v":""},{"$f":"IF($G184=\"\",\"\",VLOOKUP($G184,Lists!$BL$2:$BQ$478,COLUMN(),FALSE))","v":""}]
[null,{"$f":"IF($G185=\"\",\"\",VLOOKUP($G185,Lists!$BL$2:$BQ$478,COLUMN(),FALSE))","v":""},{"$f":"IF($G185=\"\",\"\",VLOOKUP($G185,Lists!$BL$2:$BQ$478,COLUMN(),FALSE))","v":""},{"$f":"IF($G185=\"\",\"\",VLOOKUP($G185,Lists!$BL$2:$BQ$478,COLUMN(),FALSE))","v":""},{"$f":"IF($G185=\"\",\"\",VLOOKUP($G185,Lists!$BL$2:$BQ$478,COLUMN(),FALSE))","v":""},{"$f":"IF($G185=\"\",\"\",VLOOKUP($G185,Lists!$BL$2:$BQ$478,COLUMN(),FALSE))","v":""}]
[null,{"$f":"IF($G186=\"\",\"\",VLOOKUP($G186,Lists!$BL$2:$BQ$478,COLUMN(),FALSE))","v":""},{"$f":"IF($G186=\"\",\"\",VLOOKUP($G186,Lists!$BL$2:$BQ$478,COLUMN(),FALSE))","v":""},{"$f":"IF($G186=\"\",\"\",VLOOKUP($G186,Lists!$BL$2:$BQ$478,COLUMN(),FALSE))","v":""},{"$f":"IF($G186=\"\",\"\",VLOOKUP($G186,Lists!$BL$2:$BQ$478,COLUMN(),FALSE))","v":""},{"$f":"IF($G186=\"\",\"\",VLOOKUP($G186,Lists!$BL$2:$BQ$478,COLUMN(),FALSE))","v":""}]
[null,{"$f":"IF($G187=\"\",\"\",VLOOKUP($G187,Lists!$BL$2:$BQ$478,COLUMN(),FALSE))","v":""},{"$f":"IF($G187=\"\",\"\",VLOOKUP($G187,Lists!$BL$2:$BQ$478,COLUMN(),FALSE))","v":""},{"$f":"IF($G187=\"\",\"\",VLOOKUP($G187,Lists!$BL$2:$BQ$478,COLUMN(),FALSE))","v":""},{"$f":"IF($G187=\"\",\"\",VLOOKUP($G187,Lists!$BL$2:$BQ$478,COLUMN(),FALSE))","v":""},{"$f":"IF($G187=\"\",\"\",VLOOKUP($G187,Lists!$BL$2:$BQ$478,COLUMN(),FALSE))","v":""}]
[null,{"$f":"IF($G188=\"\",\"\",VLOOKUP($G188,Lists!$BL$2:$BQ$478,COLUMN(),FALSE))","v":""},{"$f":"IF($G188=\"\",\"\",VLOOKUP($G188,Lists!$BL$2:$BQ$478,COLUMN(),FALSE))","v":""},{"$f":"IF($G188=\"\",\"\",VLOOKUP($G188,Lists!$BL$2:$BQ$478,COLUMN(),FALSE))","v":""},{"$f":"IF($G188=\"\",\"\",VLOOKUP($G188,Lists!$BL$2:$BQ$478,COLUMN(),FALSE))","v":""},{"$f":"IF($G188=\"\",\"\",VLOOKUP($G188,Lists!$BL$2:$BQ$478,COLUMN(),FALSE))","v":""}]
[null,{"$f":"IF($G189=\"\",\"\",VLOOKUP($G189,Lists!$BL$2:$BQ$478,COLUMN(),FALSE))","v":""},{"$f":"IF($G189=\"\",\"\",VLOOKUP($G189,Lists!$BL$2:$BQ$478,COLUMN(),FALSE))","v":""},{"$f":"IF($G189=\"\",\"\",VLOOKUP($G189,Lists!$BL$2:$BQ$478,COLUMN(),FALSE))","v":""},{"$f":"IF($G189=\"\",\"\",VLOOKUP($G189,Lists!$BL$2:$BQ$478,COLUMN(),FALSE))","v":""},{"$f":"IF($G189=\"\",\"\",VLOOKUP($G189,Lists!$BL$2:$BQ$478,COLUMN(),FALSE))","v":""}]
[null,{"$f":"IF($G190=\"\",\"\",VLOOKUP($G190,Lists!$BL$2:$BQ$478,COLUMN(),FALSE))","v":""},{"$f":"IF($G190=\"\",\"\",VLOOKUP($G190,Lists!$BL$2:$BQ$478,COLUMN(),FALSE))","v":""},{"$f":"IF($G190=\"\",\"\",VLOOKUP($G190,Lists!$BL$2:$BQ$478,COLUMN(),FALSE))","v":""},{"$f":"IF($G190=\"\",\"\",VLOOKUP($G190,Lists!$BL$2:$BQ$478,COLUMN(),FALSE))","v":""},{"$f":"IF($G190=\"\",\"\",VLOOKUP($G190,Lists!$BL$2:$BQ$478,COLUMN(),FALSE))","v":""}]
[null,{"$f":"IF($G191=\"\",\"\",VLOOKUP($G191,Lists!$BL$2:$BQ$478,COLUMN(),FALSE))","v":""},{"$f":"IF($G191=\"\",\"\",VLOOKUP($G191,Lists!$BL$2:$BQ$478,COLUMN(),FALSE))","v":""},{"$f":"IF($G191=\"\",\"\",VLOOKUP($G191,Lists!$BL$2:$BQ$478,COLUMN(),FALSE))","v":""},{"$f":"IF($G191=\"\",\"\",VLOOKUP($G191,Lists!$BL$2:$BQ$478,COLUMN(),FALSE))","v":""},{"$f":"IF($G191=\"\",\"\",VLOOKUP($G191,Lists!$BL$2:$BQ$478,COLUMN(),FALSE))","v":""}]
[null,{"$f":"IF($G192=\"\",\"\",VLOOKUP($G192,Lists!$BL$2:$BQ$478,COLUMN(),FALSE))","v":""},{"$f":"IF($G192=\"\",\"\",VLOOKUP($G192,Lists!$BL$2:$BQ$478,COLUMN(),FALSE))","v":""},{"$f":"IF($G192=\"\",\"\",VLOOKUP($G192,Lists!$BL$2:$BQ$478,COLUMN(),FALSE))","v":""},{"$f":"IF($G192=\"\",\"\",VLOOKUP($G192,Lists!$BL$2:$BQ$478,COLUMN(),FALSE))","v":""},{"$f":"IF($G192=\"\",\"\",VLOOKUP($G192,Lists!$BL$2:$BQ$478,COLUMN(),FALSE))","v":""}]
[null,{"$f":"IF($G193=\"\",\"\",VLOOKUP($G193,Lists!$BL$2:$BQ$478,COLUMN(),FALSE))","v":""},{"$f":"IF($G193=\"\",\"\",VLOOKUP($G193,Lists!$BL$2:$BQ$478,COLUMN(),FALSE))","v":""},{"$f":"IF($G193=\"\",\"\",VLOOKUP($G193,Lists!$BL$2:$BQ$478,COLUMN(),FALSE))","v":""},{"$f":"IF($G193=\"\",\"\",VLOOKUP($G193,Lists!$BL$2:$BQ$478,COLUMN(),FALSE))","v":""},{"$f":"IF($G193=\"\",\"\",VLOOKUP($G193,Lists!$BL$2:$BQ$478,COLUMN(),FALSE))","v":""}]
[null,{"$f":"IF($G194=\"\",\"\",VLOOKUP($G194,Lists!$BL$2:$BQ$478,COLUMN(),FALSE))","v":""},{"$f":"IF($G194=\"\",\"\",VLOOKUP($G194,Lists!$BL$2:$BQ$478,COLUMN(),FALSE))","v":""},{"$f":"IF($G194=\"\",\"\",VLOOKUP($G194,Lists!$BL$2:$BQ$478,COLUMN(),FALSE))","v":""},{"$f":"IF($G194=\"\",\"\",VLOOKUP($G194,Lists!$BL$2:$BQ$478,COLUMN(),FALSE))","v":""},{"$f":"IF($G194=\"\",\"\",VLOOKUP($G194,Lists!$BL$2:$BQ$478,COLUMN(),FALSE))","v":""}]
[null,{"$f":"IF($G195=\"\",\"\",VLOOKUP($G195,Lists!$BL$2:$BQ$478,COLUMN(),FALSE))","v":""},{"$f":"IF($G195=\"\",\"\",VLOOKUP($G195,Lists!$BL$2:$BQ$478,COLUMN(),FALSE))","v":""},{"$f":"IF($G195=\"\",\"\",VLOOKUP($G195,Lists!$BL$2:$BQ$478,COLUMN(),FALSE))","v":""},{"$f":"IF($G195=\"\",\"\",VLOOKUP($G195,Lists!$BL$2:$BQ$478,COLUMN(),FALSE))","v":""},{"$f":"IF($G195=\"\",\"\",VLOOKUP($G195,Lists!$BL$2:$BQ$478,COLUMN(),FALSE))","v":""}]
[null,{"$f":"IF($G196=\"\",\"\",VLOOKUP($G196,Lists!$BL$2:$BQ$478,COLUMN(),FALSE))","v":""},{"$f":"IF($G196=\"\",\"\",VLOOKUP($G196,Lists!$BL$2:$BQ$478,COLUMN(),FALSE))","v":""},{"$f":"IF($G196=\"\",\"\",VLOOKUP($G196,Lists!$BL$2:$BQ$478,COLUMN(),FALSE))","v":""},{"$f":"IF($G196=\"\",\"\",VLOOKUP($G196,Lists!$BL$2:$BQ$478,COLUMN(),FALSE))","v":""},{"$f":"IF($G196=\"\",\"\",VLOOKUP($G196,Lists!$BL$2:$BQ$478,COLUMN(),FALSE))","v":""}]
[null,{"$f":"IF($G197=\"\",\"\",VLOOKUP($G197,Lists!$BL$2:$BQ$478,COLUMN(),FALSE))","v":""},{"$f":"IF($G197=\"\",\"\",VLOOKUP($G197,Lists!$BL$2:$BQ$478,COLUMN(),FALSE))","v":""},{"$f":"IF($G197=\"\",\"\",VLOOKUP($G197,Lists!$BL$2:$BQ$478,COLUMN(),FALSE))","v":""},{"$f":"IF($G197=\"\",\"\",VLOOKUP($G197,Lists!$BL$2:$BQ$478,COLUMN(),FALSE))","v":""},{"$f":"IF($G197=\"\",\"\",VLOOKUP($G197,Lists!$BL$2:$BQ$478,COLUMN(),FALSE))","v":""}]
[null,{"$f":"IF($G198=\"\",\"\",VLOOKUP($G198,Lists!$BL$2:$BQ$478,COLUMN(),FALSE))","v":""},{"$f":"IF($G198=\"\",\"\",VLOOKUP($G198,Lists!$BL$2:$BQ$478,COLUMN(),FALSE))","v":""},{"$f":"IF($G198=\"\",\"\",VLOOKUP($G198,Lists!$BL$2:$BQ$478,COLUMN(),FALSE))","v":""},{"$f":"IF($G198=\"\",\"\",VLOOKUP($G198,Lists!$BL$2:$BQ$478,COLUMN(),FALSE))","v":""},{"$f":"IF($G198=\"\",\"\",VLOOKUP($G198,Lists!$BL$2:$BQ$478,COLUMN(),FALSE))","v":""}]
[null,{"$f":"IF($G199=\"\",\"\",VLOOKUP($G199,Lists!$BL$2:$BQ$478,COLUMN(),FALSE))","v":""},{"$f":"IF($G199=\"\",\"\",VLOOKUP($G199,Lists!$BL$2:$BQ$478,COLUMN(),FALSE))","v":""},{"$f":"IF($G199=\"\",\"\",VLOOKUP($G199,Lists!$BL$2:$BQ$478,COLUMN(),FALSE))","v":""},{"$f":"IF($G199=\"\",\"\",VLOOKUP($G199,Lists!$BL$2:$BQ$478,COLUMN(),FALSE))","v":""},{"$f":"IF($G199=\"\",\"\",VLOOKUP($G199,Lists!$BL$2:$BQ$478,COLUMN(),FALSE))","v":""}]
[null,{"$f":"IF($G200=\"\",\"\",VLOOKUP($G200,Lists!$BL$2:$BQ$478,COLUMN(),FALSE))","v":""},{"$f":"IF($G200=\"\",\"\",VLOOKUP($G200,Lists!$BL$2:$BQ$478,COLUMN(),FALSE))","v":""},{"$f":"IF($G200=\"\",\"\",VLOOKUP($G200,Lists!$BL$2:$BQ$478,COLUMN(),FALSE))","v":""},{"$f":"IF($G200=\"\",\"\",VLOOKUP($G200,Lists!$BL$2:$BQ$478,COLUMN(),FALSE))","v":""},{"$f":"IF($G200=\"\",\"\",VLOOKUP($G200,Lists!$BL$2:$BQ$478,COLUMN(),FALSE))","v":""}]
[null,{"$f":"IF($G201=\"\",\"\",VLOOKUP($G201,Lists!$BL$2:$BQ$478,COLUMN(),FALSE))","v":""},{"$f":"IF($G201=\"\",\"\",VLOOKUP($G201,Lists!$BL$2:$BQ$478,COLUMN(),FALSE))","v":""},{"$f":"IF($G201=\"\",\"\",VLOOKUP($G201,Lists!$BL$2:$BQ$478,COLUMN(),FALSE))","v":""},{"$f":"IF($G201=\"\",\"\",VLOOKUP($G201,Lists!$BL$2:$BQ$478,COLUMN(),FALSE))","v":""},{"$f":"IF($G201=\"\",\"\",VLOOKUP($G201,Lists!$BL$2:$BQ$478,COLUMN(),FALSE))","v":""}]
[null,{"$f":"IF($G202=\"\",\"\",VLOOKUP($G202,Lists!$BL$2:$BQ$478,COLUMN(),FALSE))","v":""},{"$f":"IF($G202=\"\",\"\",VLOOKUP($G202,Lists!$BL$2:$BQ$478,COLUMN(),FALSE))","v":""},{"$f":"IF($G202=\"\",\"\",VLOOKUP($G202,Lists!$BL$2:$BQ$478,COLUMN(),FALSE))","v":""},{"$f":"IF($G202=\"\",\"\",VLOOKUP($G202,Lists!$BL$2:$BQ$478,COLUMN(),FALSE))","v":""},{"$f":"IF($G202=\"\",\"\",VLOOKUP($G202,Lists!$BL$2:$BQ$478,COLUMN(),FALSE))","v":""}]
[null,{"$f":"IF($G203=\"\",\"\",VLOOKUP($G203,Lists!$BL$2:$BQ$478,COLUMN(),FALSE))","v":""},{"$f":"IF($G203=\"\",\"\",VLOOKUP($G203,Lists!$BL$2:$BQ$478,COLUMN(),FALSE))","v":""},{"$f":"IF($G203=\"\",\"\",VLOOKUP($G203,Lists!$BL$2:$BQ$478,COLUMN(),FALSE))","v":""},{"$f":"IF($G203=\"\",\"\",VLOOKUP($G203,Lists!$BL$2:$BQ$478,COLUMN(),FALSE))","v":""},{"$f":"IF($G203=\"\",\"\",VLOOKUP($G203,Lists!$BL$2:$BQ$478,COLUMN(),FALSE))","v":""}]
[null,{"$f":"IF($G204=\"\",\"\",VLOOKUP($G204,Lists!$BL$2:$BQ$478,COLUMN(),FALSE))","v":""},{"$f":"IF($G204=\"\",\"\",VLOOKUP($G204,Lists!$BL$2:$BQ$478,COLUMN(),FALSE))","v":""},{"$f":"IF($G204=\"\",\"\",VLOOKUP($G204,Lists!$BL$2:$BQ$478,COLUMN(),FALSE))","v":""},{"$f":"IF($G204=\"\",\"\",VLOOKUP($G204,Lists!$BL$2:$BQ$478,COLUMN(),FALSE))","v":""},{"$f":"IF($G204=\"\",\"\",VLOOKUP($G204,Lists!$BL$2:$BQ$478,COLUMN(),FALSE))","v":""}]
[null,{"$f":"IF($G205=\"\",\"\",VLOOKUP($G205,Lists!$BL$2:$BQ$478,COLUMN(),FALSE))","v":""},{"$f":"IF($G205=\"\",\"\",VLOOKUP($G205,Lists!$BL$2:$BQ$478,COLUMN(),FALSE))","v":""},{"$f":"IF($G205=\"\",\"\",VLOOKUP($G205,Lists!$BL$2:$BQ$478,COLUMN(),FALSE))","v":""},{"$f":"IF($G205=\"\",\"\",VLOOKUP($G205,Lists!$BL$2:$BQ$478,COLUMN(),FALSE))","v":""},{"$f":"IF($G205=\"\",\"\",VLOOKUP($G205,Lists!$BL$2:$BQ$478,COLUMN(),FALSE))","v":""}]
[null,{"$f":"IF($G206=\"\",\"\",VLOOKUP($G206,Lists!$BL$2:$BQ$478,COLUMN(),FALSE))","v":""},{"$f":"IF($G206=\"\",\"\",VLOOKUP($G206,Lists!$BL$2:$BQ$478,COLUMN(),FALSE))","v":""},{"$f":"IF($G206=\"\",\"\",VLOOKUP($G206,Lists!$BL$2:$BQ$478,COLUMN(),FALSE))","v":""},{"$f":"IF($G206=\"\",\"\",VLOOKUP($G206,Lists!$BL$2:$BQ$478,COLUMN(),FALSE))","v":""},{"$f":"IF($G206=\"\",\"\",VLOOKUP($G206,Lists!$BL$2:$BQ$478,COLUMN(),FALSE))","v":""}]
[null,{"$f":"IF($G207=\"\",\"\",VLOOKUP($G207,Lists!$BL$2:$BQ$478,COLUMN(),FALSE))","v":""},{"$f":"IF($G207=\"\",\"\",VLOOKUP($G207,Lists!$BL$2:$BQ$478,COLUMN(),FALSE))","v":""},{"$f":"IF($G207=\"\",\"\",VLOOKUP($G207,Lists!$BL$2:$BQ$478,COLUMN(),FALSE))","v":""},{"$f":"IF($G207=\"\",\"\",VLOOKUP($G207,Lists!$BL$2:$BQ$478,COLUMN(),FALSE))","v":""},{"$f":"IF($G207=\"\",\"\",VLOOKUP($G207,Lists!$BL$2:$BQ$478,COLUMN(),FALSE))","v":""}]
[null,{"$f":"IF($G208=\"\",\"\",VLOOKUP($G208,Lists!$BL$2:$BQ$478,COLUMN(),FALSE))","v":""},{"$f":"IF($G208=\"\",\"\",VLOOKUP($G208,Lists!$BL$2:$BQ$478,COLUMN(),FALSE))","v":""},{"$f":"IF($G208=\"\",\"\",VLOOKUP($G208,Lists!$BL$2:$BQ$478,COLUMN(),FALSE))","v":""},{"$f":"IF($G208=\"\",\"\",VLOOKUP($G208,Lists!$BL$2:$BQ$478,COLUMN(),FALSE))","v":""},{"$f":"IF($G208=\"\",\"\",VLOOKUP($G208,Lists!$BL$2:$BQ$478,COLUMN(),FALSE))","v":""}]
[null,{"$f":"IF($G209=\"\",\"\",VLOOKUP($G209,Lists!$BL$2:$BQ$478,COLUMN(),FALSE))","v":""},{"$f":"IF($G209=\"\",\"\",VLOOKUP($G209,Lists!$BL$2:$BQ$478,COLUMN(),FALSE))","v":""},{"$f":"IF($G209=\"\",\"\",VLOOKUP($G209,Lists!$BL$2:$BQ$478,COLUMN(),FALSE))","v":""},{"$f":"IF($G209=\"\",\"\",VLOOKUP($G209,Lists!$BL$2:$BQ$478,COLUMN(),FALSE))","v":""},{"$f":"IF($G209=\"\",\"\",VLOOKUP($G209,Lists!$BL$2:$BQ$478,COLUMN(),FALSE))","v":""}]
[null,{"$f":"IF($G210=\"\",\"\",VLOOKUP($G210,Lists!$BL$2:$BQ$478,COLUMN(),FALSE))","v":""},{"$f":"IF($G210=\"\",\"\",VLOOKUP($G210,Lists!$BL$2:$BQ$478,COLUMN(),FALSE))","v":""},{"$f":"IF($G210=\"\",\"\",VLOOKUP($G210,Lists!$BL$2:$BQ$478,COLUMN(),FALSE))","v":""},{"$f":"IF($G210=\"\",\"\",VLOOKUP($G210,Lists!$BL$2:$BQ$478,COLUMN(),FALSE))","v":""},{"$f":"IF($G210=\"\",\"\",VLOOKUP($G210,Lists!$BL$2:$BQ$478,COLUMN(),FALSE))","v":""}]
[null,{"$f":"IF($G211=\"\",\"\",VLOOKUP($G211,Lists!$BL$2:$BQ$478,COLUMN(),FALSE))","v":""},{"$f":"IF($G211=\"\",\"\",VLOOKUP($G211,Lists!$BL$2:$BQ$478,COLUMN(),FALSE))","v":""},{"$f":"IF($G211=\"\",\"\",VLOOKUP($G211,Lists!$BL$2:$BQ$478,COLUMN(),FALSE))","v":""},{"$f":"IF($G211=\"\",\"\",VLOOKUP($G211,Lists!$BL$2:$BQ$478,COLUMN(),FALSE))","v":""},{"$f":"IF($G211=\"\",\"\",VLOOKUP($G211,Lists!$BL$2:$BQ$478,COLUMN(),FALSE))","v":""}]
[null,{"$f":"IF($G212=\"\",\"\",VLOOKUP($G212,Lists!$BL$2:$BQ$478,COLUMN(),FALSE))","v":""},{"$f":"IF($G212=\"\",\"\",VLOOKUP($G212,Lists!$BL$2:$BQ$478,COLUMN(),FALSE))","v":""},{"$f":"IF($G212=\"\",\"\",VLOOKUP($G212,Lists!$BL$2:$BQ$478,COLUMN(),FALSE))","v":""},{"$f":"IF($G212=\"\",\"\",VLOOKUP($G212,Lists!$BL$2:$BQ$478,COLUMN(),FALSE))","v":""},{"$f":"IF($G212=\"\",\"\",VLOOKUP($G212,Lists!$BL$2:$BQ$478,COLUMN(),FALSE))","v":""}]
[null,{"$f":"IF($G213=\"\",\"\",VLOOKUP($G213,Lists!$BL$2:$BQ$478,COLUMN(),FALSE))","v":""},{"$f":"IF($G213=\"\",\"\",VLOOKUP($G213,Lists!$BL$2:$BQ$478,COLUMN(),FALSE))","v":""},{"$f":"IF($G213=\"\",\"\",VLOOKUP($G213,Lists!$BL$2:$BQ$478,COLUMN(),FALSE))","v":""},{"$f":"IF($G213=\"\",\"\",VLOOKUP($G213,Lists!$BL$2:$BQ$478,COLUMN(),FALSE))","v":""},{"$f":"IF($G213=\"\",\"\",VLOOKUP($G213,Lists!$BL$2:$BQ$478,COLUMN(),FALSE))","v":""}]
[null,{"$f":"IF($G214=\"\",\"\",VLOOKUP($G214,Lists!$BL$2:$BQ$478,COLUMN(),FALSE))","v":""},{"$f":"IF($G214=\"\",\"\",VLOOKUP($G214,Lists!$BL$2:$BQ$478,COLUMN(),FALSE))","v":""},{"$f":"IF($G214=\"\",\"\",VLOOKUP($G214,Lists!$BL$2:$BQ$478,COLUMN(),FALSE))","v":""},{"$f":"IF($G214=\"\",\"\",VLOOKUP($G214,Lists!$BL$2:$BQ$478,COLUMN(),FALSE))","v":""},{"$f":"IF($G214=\"\",\"\",VLOOKUP($G214,Lists!$BL$2:$BQ$478,COLUMN(),FALSE))","v":""}]
[null,{"$f":"IF($G215=\"\",\"\",VLOOKUP($G215,Lists!$BL$2:$BQ$478,COLUMN(),FALSE))","v":""},{"$f":"IF($G215=\"\",\"\",VLOOKUP($G215,Lists!$BL$2:$BQ$478,COLUMN(),FALSE))","v":""},{"$f":"IF($G215=\"\",\"\",VLOOKUP($G215,Lists!$BL$2:$BQ$478,COLUMN(),FALSE))","v":""},{"$f":"IF($G215=\"\",\"\",VLOOKUP($G215,Lists!$BL$2:$BQ$478,COLUMN(),FALSE))","v":""},{"$f":"IF($G215=\"\",\"\",VLOOKUP($G215,Lists!$BL$2:$BQ$478,COLUMN(),FALSE))","v":""}]
[null,{"$f":"IF($G216=\"\",\"\",VLOOKUP($G216,Lists!$BL$2:$BQ$478,COLUMN(),FALSE))","v":""},{"$f":"IF($G216=\"\",\"\",VLOOKUP($G216,Lists!$BL$2:$BQ$478,COLUMN(),FALSE))","v":""},{"$f":"IF($G216=\"\",\"\",VLOOKUP($G216,Lists!$BL$2:$BQ$478,COLUMN(),FALSE))","v":""},{"$f":"IF($G216=\"\",\"\",VLOOKUP($G216,Lists!$BL$2:$BQ$478,COLUMN(),FALSE))","v":""},{"$f":"IF($G216=\"\",\"\",VLOOKUP($G216,Lists!$BL$2:$BQ$478,COLUMN(),FALSE))","v":""}]
[null,{"$f":"IF($G217=\"\",\"\",VLOOKUP($G217,Lists!$BL$2:$BQ$478,COLUMN(),FALSE))","v":""},{"$f":"IF($G217=\"\",\"\",VLOOKUP($G217,Lists!$BL$2:$BQ$478,COLUMN(),FALSE))","v":""},{"$f":"IF($G217=\"\",\"\",VLOOKUP($G217,Lists!$BL$2:$BQ$478,COLUMN(),FALSE))","v":""},{"$f":"IF($G217=\"\",\"\",VLOOKUP($G217,Lists!$BL$2:$BQ$478,COLUMN(),FALSE))","v":""},{"$f":"IF($G217=\"\",\"\",VLOOKUP($G217,Lists!$BL$2:$BQ$478,COLUMN(),FALSE))","v":""}]
[null,{"$f":"IF($G218=\"\",\"\",VLOOKUP($G218,Lists!$BL$2:$BQ$478,COLUMN(),FALSE))","v":""},{"$f":"IF($G218=\"\",\"\",VLOOKUP($G218,Lists!$BL$2:$BQ$478,COLUMN(),FALSE))","v":""},{"$f":"IF($G218=\"\",\"\",VLOOKUP($G218,Lists!$BL$2:$BQ$478,COLUMN(),FALSE))","v":""},{"$f":"IF($G218=\"\",\"\",VLOOKUP($G218,Lists!$BL$2:$BQ$478,COLUMN(),FALSE))","v":""},{"$f":"IF($G218=\"\",\"\",VLOOKUP($G218,Lists!$BL$2:$BQ$478,COLUMN(),FALSE))","v":""}]
[null,{"$f":"IF($G219=\"\",\"\",VLOOKUP($G219,Lists!$BL$2:$BQ$478,COLUMN(),FALSE))","v":""},{"$f":"IF($G219=\"\",\"\",VLOOKUP($G219,Lists!$BL$2:$BQ$478,COLUMN(),FALSE))","v":""},{"$f":"IF($G219=\"\",\"\",VLOOKUP($G219,Lists!$BL$2:$BQ$478,COLUMN(),FALSE))","v":""},{"$f":"IF($G219=\"\",\"\",VLOOKUP($G219,Lists!$BL$2:$BQ$478,COLUMN(),FALSE))","v":""},{"$f":"IF($G219=\"\",\"\",VLOOKUP($G219,Lists!$BL$2:$BQ$478,COLUMN(),FALSE))","v":""}]
[null,{"$f":"IF($G220=\"\",\"\",VLOOKUP($G220,Lists!$BL$2:$BQ$478,COLUMN(),FALSE))","v":""},{"$f":"IF($G220=\"\",\"\",VLOOKUP($G220,Lists!$BL$2:$BQ$478,COLUMN(),FALSE))","v":""},{"$f":"IF($G220=\"\",\"\",VLOOKUP($G220,Lists!$BL$2:$BQ$478,COLUMN(),FALSE))","v":""},{"$f":"IF($G220=\"\",\"\",VLOOKUP($G220,Lists!$BL$2:$BQ$478,COLUMN(),FALSE))","v":""},{"$f":"IF($G220=\"\",\"\",VLOOKUP($G220,Lists!$BL$2:$BQ$478,COLUMN(),FALSE))","v":""}]
[null,{"$f":"IF($G221=\"\",\"\",VLOOKUP($G221,Lists!$BL$2:$BQ$478,COLUMN(),FALSE))","v":""},{"$f":"IF($G221=\"\",\"\",VLOOKUP($G221,Lists!$BL$2:$BQ$478,COLUMN(),FALSE))","v":""},{"$f":"IF($G221=\"\",\"\",VLOOKUP($G221,Lists!$BL$2:$BQ$478,COLUMN(),FALSE))","v":""},{"$f":"IF($G221=\"\",\"\",VLOOKUP($G221,Lists!$BL$2:$BQ$478,COLUMN(),FALSE))","v":""},{"$f":"IF($G221=\"\",\"\",VLOOKUP($G221,Lists!$BL$2:$BQ$478,COLUMN(),FALSE))","v":""}]
[null,{"$f":"IF($G222=\"\",\"\",VLOOKUP($G222,Lists!$BL$2:$BQ$478,COLUMN(),FALSE))","v":""},{"$f":"IF($G222=\"\",\"\",VLOOKUP($G222,Lists!$BL$2:$BQ$478,COLUMN(),FALSE))","v":""},{"$f":"IF($G222=\"\",\"\",VLOOKUP($G222,Lists!$BL$2:$BQ$478,COLUMN(),FALSE))","v":""},{"$f":"IF($G222=\"\",\"\",VLOOKUP($G222,Lists!$BL$2:$BQ$478,COLUMN(),FALSE))","v":""},{"$f":"IF($G222=\"\",\"\",VLOOKUP($G222,Lists!$BL$2:$BQ$478,COLUMN(),FALSE))","v":""}]
[null,{"$f":"IF($G223=\"\",\"\",VLOOKUP($G223,Lists!$BL$2:$BQ$478,COLUMN(),FALSE))","v":""},{"$f":"IF($G223=\"\",\"\",VLOOKUP($G223,Lists!$BL$2:$BQ$478,COLUMN(),FALSE))","v":""},{"$f":"IF($G223=\"\",\"\",VLOOKUP($G223,Lists!$BL$2:$BQ$478,COLUMN(),FALSE))","v":""},{"$f":"IF($G223=\"\",\"\",VLOOKUP($G223,Lists!$BL$2:$BQ$478,COLUMN(),FALSE))","v":""},{"$f":"IF($G223=\"\",\"\",VLOOKUP($G223,Lists!$BL$2:$BQ$478,COLUMN(),FALSE))","v":""}]
[null,{"$f":"IF($G224=\"\",\"\",VLOOKUP($G224,Lists!$BL$2:$BQ$478,COLUMN(),FALSE))","v":""},{"$f":"IF($G224=\"\",\"\",VLOOKUP($G224,Lists!$BL$2:$BQ$478,COLUMN(),FALSE))","v":""},{"$f":"IF($G224=\"\",\"\",VLOOKUP($G224,Lists!$BL$2:$BQ$478,COLUMN(),FALSE))","v":""},{"$f":"IF($G224=\"\",\"\",VLOOKUP($G224,Lists!$BL$2:$BQ$478,COLUMN(),FALSE))","v":""},{"$f":"IF($G224=\"\",\"\",VLOOKUP($G224,Lists!$BL$2:$BQ$478,COLUMN(),FALSE))","v":""}]
[null,{"$f":"IF($G225=\"\",\"\",VLOOKUP($G225,Lists!$BL$2:$BQ$478,COLUMN(),FALSE))","v":""},{"$f":"IF($G225=\"\",\"\",VLOOKUP($G225,Lists!$BL$2:$BQ$478,COLUMN(),FALSE))","v":""},{"$f":"IF($G225=\"\",\"\",VLOOKUP($G225,Lists!$BL$2:$BQ$478,COLUMN(),FALSE))","v":""},{"$f":"IF($G225=\"\",\"\",VLOOKUP($G225,Lists!$BL$2:$BQ$478,COLUMN(),FALSE))","v":""},{"$f":"IF($G225=\"\",\"\",VLOOKUP($G225,Lists!$BL$2:$BQ$478,COLUMN(),FALSE))","v":""}]
[null,{"$f":"IF($G226=\"\",\"\",VLOOKUP($G226,Lists!$BL$2:$BQ$478,COLUMN(),FALSE))","v":""},{"$f":"IF($G226=\"\",\"\",VLOOKUP($G226,Lists!$BL$2:$BQ$478,COLUMN(),FALSE))","v":""},{"$f":"IF($G226=\"\",\"\",VLOOKUP($G226,Lists!$BL$2:$BQ$478,COLUMN(),FALSE))","v":""},{"$f":"IF($G226=\"\",\"\",VLOOKUP($G226,Lists!$BL$2:$BQ$478,COLUMN(),FALSE))","v":""},{"$f":"IF($G226=\"\",\"\",VLOOKUP($G226,Lists!$BL$2:$BQ$478,COLUMN(),FALSE))","v":""}]
[null,{"$f":"IF($G227=\"\",\"\",VLOOKUP($G227,Lists!$BL$2:$BQ$478,COLUMN(),FALSE))","v":""},{"$f":"IF($G227=\"\",\"\",VLOOKUP($G227,Lists!$BL$2:$BQ$478,COLUMN(),FALSE))","v":""},{"$f":"IF($G227=\"\",\"\",VLOOKUP($G227,Lists!$BL$2:$BQ$478,COLUMN(),FALSE))","v":""},{"$f":"IF($G227=\"\",\"\",VLOOKUP($G227,Lists!$BL$2:$BQ$478,COLUMN(),FALSE))","v":""},{"$f":"IF($G227=\"\",\"\",VLOOKUP($G227,Lists!$BL$2:$BQ$478,COLUMN(),FALSE))","v":""}]
[null,{"$f":"IF($G228=\"\",\"\",VLOOKUP($G228,Lists!$BL$2:$BQ$478,COLUMN(),FALSE))","v":""},{"$f":"IF($G228=\"\",\"\",VLOOKUP($G228,Lists!$BL$2:$BQ$478,COLUMN(),FALSE))","v":""},{"$f":"IF($G228=\"\",\"\",VLOOKUP($G228,Lists!$BL$2:$BQ$478,COLUMN(),FALSE))","v":""},{"$f":"IF($G228=\"\",\"\",VLOOKUP($G228,Lists!$BL$2:$BQ$478,COLUMN(),FALSE))","v":""},{"$f":"IF($G228=\"\",\"\",VLOOKUP($G228,Lists!$BL$2:$BQ$478,COLUMN(),FALSE))","v":""}]
[null,{"$f":"IF($G229=\"\",\"\",VLOOKUP($G229,Lists!$BL$2:$BQ$478,COLUMN(),FALSE))","v":""},{"$f":"IF($G229=\"\",\"\",VLOOKUP($G229,Lists!$BL$2:$BQ$478,COLUMN(),FALSE))","v":""},{"$f":"IF($G229=\"\",\"\",VLOOKUP($G229,Lists!$BL$2:$BQ$478,COLUMN(),FALSE))","v":""},{"$f":"IF($G229=\"\",\"\",VLOOKUP($G229,Lists!$BL$2:$BQ$478,COLUMN(),FALSE))","v":""},{"$f":"IF($G229=\"\",\"\",VLOOKUP($G229,Lists!$BL$2:$BQ$478,COLUMN(),FALSE))","v":""}]
[null,{"$f":"IF($G230=\"\",\"\",VLOOKUP($G230,Lists!$BL$2:$BQ$478,COLUMN(),FALSE))","v":""},{"$f":"IF($G230=\"\",\"\",VLOOKUP($G230,Lists!$BL$2:$BQ$478,COLUMN(),FALSE))","v":""},{"$f":"IF($G230=\"\",\"\",VLOOKUP($G230,Lists!$BL$2:$BQ$478,COLUMN(),FALSE))","v":""},{"$f":"IF($G230=\"\",\"\",VLOOKUP($G230,Lists!$BL$2:$BQ$478,COLUMN(),FALSE))","v":""},{"$f":"IF($G230=\"\",\"\",VLOOKUP($G230,Lists!$BL$2:$BQ$478,COLUMN(),FALSE))","v":""}]
[null,{"$f":"IF($G231=\"\",\"\",VLOOKUP($G231,Lists!$BL$2:$BQ$478,COLUMN(),FALSE))","v":""},{"$f":"IF($G231=\"\",\"\",VLOOKUP($G231,Lists!$BL$2:$BQ$478,COLUMN(),FALSE))","v":""},{"$f":"IF($G231=\"\",\"\",VLOOKUP($G231,Lists!$BL$2:$BQ$478,COLUMN(),FALSE))","v":""},{"$f":"IF($G231=\"\",\"\",VLOOKUP($G231,Lists!$BL$2:$BQ$478,COLUMN(),FALSE))","v":""},{"$f":"IF($G231=\"\",\"\",VLOOKUP($G231,Lists!$BL$2:$BQ$478,COLUMN(),FALSE))","v":""}]
[null,{"$f":"IF($G232=\"\",\"\",VLOOKUP($G232,Lists!$BL$2:$BQ$478,COLUMN(),FALSE))","v":""},{"$f":"IF($G232=\"\",\"\",VLOOKUP($G232,Lists!$BL$2:$BQ$478,COLUMN(),FALSE))","v":""},{"$f":"IF($G232=\"\",\"\",VLOOKUP($G232,Lists!$BL$2:$BQ$478,COLUMN(),FALSE))","v":""},{"$f":"IF($G232=\"\",\"\",VLOOKUP($G232,Lists!$BL$2:$BQ$478,COLUMN(),FALSE))","v":""},{"$f":"IF($G232=\"\",\"\",VLOOKUP($G232,Lists!$BL$2:$BQ$478,COLUMN(),FALSE))","v":""}]
[null,{"$f":"IF($G233=\"\",\"\",VLOOKUP($G233,Lists!$BL$2:$BQ$478,COLUMN(),FALSE))","v":""},{"$f":"IF($G233=\"\",\"\",VLOOKUP($G233,Lists!$BL$2:$BQ$478,COLUMN(),FALSE))","v":""},{"$f":"IF($G233=\"\",\"\",VLOOKUP($G233,Lists!$BL$2:$BQ$478,COLUMN(),FALSE))","v":""},{"$f":"IF($G233=\"\",\"\",VLOOKUP($G233,Lists!$BL$2:$BQ$478,COLUMN(),FALSE))","v":""},{"$f":"IF($G233=\"\",\"\",VLOOKUP($G233,Lists!$BL$2:$BQ$478,COLUMN(),FALSE))","v":""}]
[null,{"$f":"IF($G234=\"\",\"\",VLOOKUP($G234,Lists!$BL$2:$BQ$478,COLUMN(),FALSE))","v":""},{"$f":"IF($G234=\"\",\"\",VLOOKUP($G234,Lists!$BL$2:$BQ$478,COLUMN(),FALSE))","v":""},{"$f":"IF($G234=\"\",\"\",VLOOKUP($G234,Lists!$BL$2:$BQ$478,COLUMN(),FALSE))","v":""},{"$f":"IF($G234=\"\",\"\",VLOOKUP($G234,Lists!$BL$2:$BQ$478,COLUMN(),FALSE))","v":""},{"$f":"IF($G234=\"\",\"\",VLOOKUP($G234,Lists!$BL$2:$BQ$478,COLUMN(),FALSE))","v":""}]
[null,{"$f":"IF($G235=\"\",\"\",VLOOKUP($G235,Lists!$BL$2:$BQ$478,COLUMN(),FALSE))","v":""},{"$f":"IF($G235=\"\",\"\",VLOOKUP($G235,Lists!$BL$2:$BQ$478,COLUMN(),FALSE))","v":""},{"$f":"IF($G235=\"\",\"\",VLOOKUP($G235,Lists!$BL$2:$BQ$478,COLUMN(),FALSE))","v":""},{"$f":"IF($G235=\"\",\"\",VLOOKUP($G235,Lists!$BL$2:$BQ$478,COLUMN(),FALSE))","v":""},{"$f":"IF($G235=\"\",\"\",VLOOKUP($G235,Lists!$BL$2:$BQ$478,COLUMN(),FALSE))","v":""}]
[null,{"$f":"IF($G236=\"\",\"\",VLOOKUP($G236,Lists!$BL$2:$BQ$478,COLUMN(),FALSE))","v":""},{"$f":"IF($G236=\"\",\"\",VLOOKUP($G236,Lists!$BL$2:$BQ$478,COLUMN(),FALSE))","v":""},{"$f":"IF($G236=\"\",\"\",VLOOKUP($G236,Lists!$BL$2:$BQ$478,COLUMN(),FALSE))","v":""},{"$f":"IF($G236=\"\",\"\",VLOOKUP($G236,Lists!$BL$2:$BQ$478,COLUMN(),FALSE))","v":""},{"$f":"IF($G236=\"\",\"\",VLOOKUP($G236,Lists!$BL$2:$BQ$478,COLUMN(),FALSE))","v":""}]
[null,{"$f":"IF($G237=\"\",\"\",VLOOKUP($G237,Lists!$BL$2:$BQ$478,COLUMN(),FALSE))","v":""},{"$f":"IF($G237=\"\",\"\",VLOOKUP($G237,Lists!$BL$2:$BQ$478,COLUMN(),FALSE))","v":""},{"$f":"IF($G237=\"\",\"\",VLOOKUP($G237,Lists!$BL$2:$BQ$478,COLUMN(),FALSE))","v":""},{"$f":"IF($G237=\"\",\"\",VLOOKUP($G237,Lists!$BL$2:$BQ$478,COLUMN(),FALSE))","v":""},{"$f":"IF($G237=\"\",\"\",VLOOKUP($G237,Lists!$BL$2:$BQ$478,COLUMN(),FALSE))","v":""}]
[null,{"$f":"IF($G238=\"\",\"\",VLOOKUP($G238,Lists!$BL$2:$BQ$478,COLUMN(),FALSE))","v":""},{"$f":"IF($G238=\"\",\"\",VLOOKUP($G238,Lists!$BL$2:$BQ$478,COLUMN(),FALSE))","v":""},{"$f":"IF($G238=\"\",\"\",VLOOKUP($G238,Lists!$BL$2:$BQ$478,COLUMN(),FALSE))","v":""},{"$f":"IF($G238=\"\",\"\",VLOOKUP($G238,Lists!$BL$2:$BQ$478,COLUMN(),FALSE))","v":""},{"$f":"IF($G238=\"\",\"\",VLOOKUP($G238,Lists!$BL$2:$BQ$478,COLUMN(),FALSE))","v":""}]
[null,{"$f":"IF($G239=\"\",\"\",VLOOKUP($G239,Lists!$BL$2:$BQ$478,COLUMN(),FALSE))","v":""},{"$f":"IF($G239=\"\",\"\",VLOOKUP($G239,Lists!$BL$2:$BQ$478,COLUMN(),FALSE))","v":""},{"$f":"IF($G239=\"\",\"\",VLOOKUP($G239,Lists!$BL$2:$BQ$478,COLUMN(),FALSE))","v":""},{"$f":"IF($G239=\"\",\"\",VLOOKUP($G239,Lists!$BL$2:$BQ$478,COLUMN(),FALSE))","v":""},{"$f":"IF($G239=\"\",\"\",VLOOKUP($G239,Lists!$BL$2:$BQ$478,COLUMN(),FALSE))","v":""}]
[null,{"$f":"IF($G240=\"\",\"\",VLOOKUP($G240,Lists!$BL$2:$BQ$478,COLUMN(),FALSE))","v":""},{"$f":"IF($G240=\"\",\"\",VLOOKUP($G240,Lists!$BL$2:$BQ$478,COLUMN(),FALSE))","v":""},{"$f":"IF($G240=\"\",\"\",VLOOKUP($G240,Lists!$BL$2:$BQ$478,COLUMN(),FALSE))","v":""},{"$f":"IF($G240=\"\",\"\",VLOOKUP($G240,Lists!$BL$2:$BQ$478,COLUMN(),FALSE))","v":""},{"$f":"IF($G240=\"\",\"\",VLOOKUP($G240,Lists!$BL$2:$BQ$478,COLUMN(),FALSE))","v":""}]
[null,{"$f":"IF($G241=\"\",\"\",VLOOKUP($G241,Lists!$BL$2:$BQ$478,COLUMN(),FALSE))","v":""},{"$f":"IF($G241=\"\",\"\",VLOOKUP($G241,Lists!$BL$2:$BQ$478,COLUMN(),FALSE))","v":""},{"$f":"IF($G241=\"\",\"\",VLOOKUP($G241,Lists!$BL$2:$BQ$478,COLUMN(),FALSE))","v":""},{"$f":"IF($G241=\"\",\"\",VLOOKUP($G241,Lists!$BL$2:$BQ$478,COLUMN(),FALSE))","v":""},{"$f":"IF($G241=\"\",\"\",VLOOKUP($G241,Lists!$BL$2:$BQ$478,COLUMN(),FALSE))","v":""}]
[null,{"$f":"IF($G242=\"\",\"\",VLOOKUP($G242,Lists!$BL$2:$BQ$478,COLUMN(),FALSE))","v":""},{"$f":"IF($G242=\"\",\"\",VLOOKUP($G242,Lists!$BL$2:$BQ$478,COLUMN(),FALSE))","v":""},{"$f":"IF($G242=\"\",\"\",VLOOKUP($G242,Lists!$BL$2:$BQ$478,COLUMN(),FALSE))","v":""},{"$f":"IF($G242=\"\",\"\",VLOOKUP($G242,Lists!$BL$2:$BQ$478,COLUMN(),FALSE))","v":""},{"$f":"IF($G242=\"\",\"\",VLOOKUP($G242,Lists!$BL$2:$BQ$478,COLUMN(),FALSE))","v":""}]
[null,{"$f":"IF($G243=\"\",\"\",VLOOKUP($G243,Lists!$BL$2:$BQ$478,COLUMN(),FALSE))","v":""},{"$f":"IF($G243=\"\",\"\",VLOOKUP($G243,Lists!$BL$2:$BQ$478,COLUMN(),FALSE))","v":""},{"$f":"IF($G243=\"\",\"\",VLOOKUP($G243,Lists!$BL$2:$BQ$478,COLUMN(),FALSE))","v":""},{"$f":"IF($G243=\"\",\"\",VLOOKUP($G243,Lists!$BL$2:$BQ$478,COLUMN(),FALSE))","v":""},{"$f":"IF($G243=\"\",\"\",VLOOKUP($G243,Lists!$BL$2:$BQ$478,COLUMN(),FALSE))","v":""}]
[null,{"$f":"IF($G244=\"\",\"\",VLOOKUP($G244,Lists!$BL$2:$BQ$478,COLUMN(),FALSE))","v":""},{"$f":"IF($G244=\"\",\"\",VLOOKUP($G244,Lists!$BL$2:$BQ$478,COLUMN(),FALSE))","v":""},{"$f":"IF($G244=\"\",\"\",VLOOKUP($G244,Lists!$BL$2:$BQ$478,COLUMN(),FALSE))","v":""},{"$f":"IF($G244=\"\",\"\",VLOOKUP($G244,Lists!$BL$2:$BQ$478,COLUMN(),FALSE))","v":""},{"$f":"IF($G244=\"\",\"\",VLOOKUP($G244,Lists!$BL$2:$BQ$478,COLUMN(),FALSE))","v":""}]
[null,{"$f":"IF($G245=\"\",\"\",VLOOKUP($G245,Lists!$BL$2:$BQ$478,COLUMN(),FALSE))","v":""},{"$f":"IF($G245=\"\",\"\",VLOOKUP($G245,Lists!$BL$2:$BQ$478,COLUMN(),FALSE))","v":""},{"$f":"IF($G245=\"\",\"\",VLOOKUP($G245,Lists!$BL$2:$BQ$478,COLUMN(),FALSE))","v":""},{"$f":"IF($G245=\"\",\"\",VLOOKUP($G245,Lists!$BL$2:$BQ$478,COLUMN(),FALSE))","v":""},{"$f":"IF($G245=\"\",\"\",VLOOKUP($G245,Lists!$BL$2:$BQ$478,COLUMN(),FALSE))","v":""}]
[null,{"$f":"IF($G246=\"\",\"\",VLOOKUP($G246,Lists!$BL$2:$BQ$478,COLUMN(),FALSE))","v":""},{"$f":"IF($G246=\"\",\"\",VLOOKUP($G246,Lists!$BL$2:$BQ$478,COLUMN(),FALSE))","v":""},{"$f":"IF($G246=\"\",\"\",VLOOKUP($G246,Lists!$BL$2:$BQ$478,COLUMN(),FALSE))","v":""},{"$f":"IF($G246=\"\",\"\",VLOOKUP($G246,Lists!$BL$2:$BQ$478,COLUMN(),FALSE))","v":""},{"$f":"IF($G246=\"\",\"\",VLOOKUP($G246,Lists!$BL$2:$BQ$478,COLUMN(),FALSE))","v":""}]
[null,{"$f":"IF($G247=\"\",\"\",VLOOKUP($G247,Lists!$BL$2:$BQ$478,COLUMN(),FALSE))","v":""},{"$f":"IF($G247=\"\",\"\",VLOOKUP($G247,Lists!$BL$2:$BQ$478,COLUMN(),FALSE))","v":""},{"$f":"IF($G247=\"\",\"\",VLOOKUP($G247,Lists!$BL$2:$BQ$478,COLUMN(),FALSE))","v":""},{"$f":"IF($G247=\"\",\"\",VLOOKUP($G247,Lists!$BL$2:$BQ$478,COLUMN(),FALSE))","v":""},{"$f":"IF($G247=\"\",\"\",VLOOKUP($G247,Lists!$BL$2:$BQ$478,COLUMN(),FALSE))","v":""}]
[null,{"$f":"IF($G248=\"\",\"\",VLOOKUP($G248,Lists!$BL$2:$BQ$478,COLUMN(),FALSE))","v":""},{"$f":"IF($G248=\"\",\"\",VLOOKUP($G248,Lists!$BL$2:$BQ$478,COLUMN(),FALSE))","v":""},{"$f":"IF($G248=\"\",\"\",VLOOKUP($G248,Lists!$BL$2:$BQ$478,COLUMN(),FALSE))","v":""},{"$f":"IF($G248=\"\",\"\",VLOOKUP($G248,Lists!$BL$2:$BQ$478,COLUMN(),FALSE))","v":""},{"$f":"IF($G248=\"\",\"\",VLOOKUP($G248,Lists!$BL$2:$BQ$478,COLUMN(),FALSE))","v":""}]
[null,{"$f":"IF($G249=\"\",\"\",VLOOKUP($G249,Lists!$BL$2:$BQ$478,COLUMN(),FALSE))","v":""},{"$f":"IF($G249=\"\",\"\",VLOOKUP($G249,Lists!$BL$2:$BQ$478,COLUMN(),FALSE))","v":""},{"$f":"IF($G249=\"\",\"\",VLOOKUP($G249,Lists!$BL$2:$BQ$478,COLUMN(),FALSE))","v":""},{"$f":"IF($G249=\"\",\"\",VLOOKUP($G249,Lists!$BL$2:$BQ$478,COLUMN(),FALSE))","v":""},{"$f":"IF($G249=\"\",\"\",VLOOKUP($G249,Lists!$BL$2:$BQ$478,COLUMN(),FALSE))","v":""}]
[null,{"$f":"IF($G250=\"\",\"\",VLOOKUP($G250,Lists!$BL$2:$BQ$478,COLUMN(),FALSE))","v":""},{"$f":"IF($G250=\"\",\"\",VLOOKUP($G250,Lists!$BL$2:$BQ$478,COLUMN(),FALSE))","v":""},{"$f":"IF($G250=\"\",\"\",VLOOKUP($G250,Lists!$BL$2:$BQ$478,COLUMN(),FALSE))","v":""},{"$f":"IF($G250=\"\",\"\",VLOOKUP($G250,Lists!$BL$2:$BQ$478,COLUMN(),FALSE))","v":""},{"$f":"IF($G250=\"\",\"\",VLOOKUP($G250,Lists!$BL$2:$BQ$478,COLUMN(),FALSE))","v":""}]
[null,{"$f":"IF($G251=\"\",\"\",VLOOKUP($G251,Lists!$BL$2:$BQ$478,COLUMN(),FALSE))","v":""},{"$f":"IF($G251=\"\",\"\",VLOOKUP($G251,Lists!$BL$2:$BQ$478,COLUMN(),FALSE))","v":""},{"$f":"IF($G251=\"\",\"\",VLOOKUP($G251,Lists!$BL$2:$BQ$478,COLUMN(),FALSE))","v":""},{"$f":"IF($G251=\"\",\"\",VLOOKUP($G251,Lists!$BL$2:$BQ$478,COLUMN(),FALSE))","v":""},{"$f":"IF($G251=\"\",\"\",VLOOKUP($G251,Lists!$BL$2:$BQ$478,COLUMN(),FALSE))","v":""}]
[null,{"$f":"IF($G252=\"\",\"\",VLOOKUP($G252,Lists!$BL$2:$BQ$478,COLUMN(),FALSE))","v":""},{"$f":"IF($G252=\"\",\"\",VLOOKUP($G252,Lists!$BL$2:$BQ$478,COLUMN(),FALSE))","v":""},{"$f":"IF($G252=\"\",\"\",VLOOKUP($G252,Lists!$BL$2:$BQ$478,COLUMN(),FALSE))","v":""},{"$f":"IF($G252=\"\",\"\",VLOOKUP($G252,Lists!$BL$2:$BQ$478,COLUMN(),FALSE))","v":""},{"$f":"IF($G252=\"\",\"\",VLOOKUP($G252,Lists!$BL$2:$BQ$478,COLUMN(),FALSE))","v":""}]
[null,{"$f":"IF($G253=\"\",\"\",VLOOKUP($G253,Lists!$BL$2:$BQ$478,COLUMN(),FALSE))","v":""},{"$f":"IF($G253=\"\",\"\",VLOOKUP($G253,Lists!$BL$2:$BQ$478,COLUMN(),FALSE))","v":""},{"$f":"IF($G253=\"\",\"\",VLOOKUP($G253,Lists!$BL$2:$BQ$478,COLUMN(),FALSE))","v":""},{"$f":"IF($G253=\"\",\"\",VLOOKUP($G253,Lists!$BL$2:$BQ$478,COLUMN(),FALSE))","v":""},{"$f":"IF($G253=\"\",\"\",VLOOKUP($G253,Lists!$BL$2:$BQ$478,COLUMN(),FALSE))","v":""}]
[null,{"$f":"IF($G254=\"\",\"\",VLOOKUP($G254,Lists!$BL$2:$BQ$478,COLUMN(),FALSE))","v":""},{"$f":"IF($G254=\"\",\"\",VLOOKUP($G254,Lists!$BL$2:$BQ$478,COLUMN(),FALSE))","v":""},{"$f":"IF($G254=\"\",\"\",VLOOKUP($G254,Lists!$BL$2:$BQ$478,COLUMN(),FALSE))","v":""},{"$f":"IF($G254=\"\",\"\",VLOOKUP($G254,Lists!$BL$2:$BQ$478,COLUMN(),FALSE))","v":""},{"$f":"IF($G254=\"\",\"\",VLOOKUP($G254,Lists!$BL$2:$BQ$478,COLUMN(),FALSE))","v":""}]
[null,{"$f":"IF($G255=\"\",\"\",VLOOKUP($G255,Lists!$BL$2:$BQ$478,COLUMN(),FALSE))","v":""},{"$f":"IF($G255=\"\",\"\",VLOOKUP($G255,Lists!$BL$2:$BQ$478,COLUMN(),FALSE))","v":""},{"$f":"IF($G255=\"\",\"\",VLOOKUP($G255,Lists!$BL$2:$BQ$478,COLUMN(),FALSE))","v":""},{"$f":"IF($G255=\"\",\"\",VLOOKUP($G255,Lists!$BL$2:$BQ$478,COLUMN(),FALSE))","v":""},{"$f":"IF($G255=\"\",\"\",VLOOKUP($G255,Lists!$BL$2:$BQ$478,COLUMN(),FALSE))","v":""}]
[null,{"$f":"IF($G256=\"\",\"\",VLOOKUP($G256,Lists!$BL$2:$BQ$478,COLUMN(),FALSE))","v":""},{"$f":"IF($G256=\"\",\"\",VLOOKUP($G256,Lists!$BL$2:$BQ$478,COLUMN(),FALSE))","v":""},{"$f":"IF($G256=\"\",\"\",VLOOKUP($G256,Lists!$BL$2:$BQ$478,COLUMN(),FALSE))","v":""},{"$f":"IF($G256=\"\",\"\",VLOOKUP($G256,Lists!$BL$2:$BQ$478,COLUMN(),FALSE))","v":""},{"$f":"IF($G256=\"\",\"\",VLOOKUP($G256,Lists!$BL$2:$BQ$478,COLUMN(),FALSE))","v":""}]
[null,{"$f":"IF($G257=\"\",\"\",VLOOKUP($G257,Lists!$BL$2:$BQ$478,COLUMN(),FALSE))","v":""},{"$f":"IF($G257=\"\",\"\",VLOOKUP($G257,Lists!$BL$2:$BQ$478,COLUMN(),FALSE))","v":""},{"$f":"IF($G257=\"\",\"\",VLOOKUP($G257,Lists!$BL$2:$BQ$478,COLUMN(),FALSE))","v":""},{"$f":"IF($G257=\"\",\"\",VLOOKUP($G257,Lists!$BL$2:$BQ$478,COLUMN(),FALSE))","v":""},{"$f":"IF($G257=\"\",\"\",VLOOKUP($G257,Lists!$BL$2:$BQ$478,COLUMN(),FALSE))","v":""}]
[null,{"$f":"IF($G258=\"\",\"\",VLOOKUP($G258,Lists!$BL$2:$BQ$478,COLUMN(),FALSE))","v":""},{"$f":"IF($G258=\"\",\"\",VLOOKUP($G258,Lists!$BL$2:$BQ$478,COLUMN(),FALSE))","v":""},{"$f":"IF($G258=\"\",\"\",VLOOKUP($G258,Lists!$BL$2:$BQ$478,COLUMN(),FALSE))","v":""},{"$f":"IF($G258=\"\",\"\",VLOOKUP($G258,Lists!$BL$2:$BQ$478,COLUMN(),FALSE))","v":""},{"$f":"IF($G258=\"\",\"\",VLOOKUP($G258,Lists!$BL$2:$BQ$478,COLUMN(),FALSE))","v":""}]
[null,{"$f":"IF($G259=\"\",\"\",VLOOKUP($G259,Lists!$BL$2:$BQ$478,COLUMN(),FALSE))","v":""},{"$f":"IF($G259=\"\",\"\",VLOOKUP($G259,Lists!$BL$2:$BQ$478,COLUMN(),FALSE))","v":""},{"$f":"IF($G259=\"\",\"\",VLOOKUP($G259,Lists!$BL$2:$BQ$478,COLUMN(),FALSE))","v":""},{"$f":"IF($G259=\"\",\"\",VLOOKUP($G259,Lists!$BL$2:$BQ$478,COLUMN(),FALSE))","v":""},{"$f":"IF($G259=\"\",\"\",VLOOKUP($G259,Lists!$BL$2:$BQ$478,COLUMN(),FALSE))","v":""}]
[null,{"$f":"IF($G260=\"\",\"\",VLOOKUP($G260,Lists!$BL$2:$BQ$478,COLUMN(),FALSE))","v":""},{"$f":"IF($G260=\"\",\"\",VLOOKUP($G260,Lists!$BL$2:$BQ$478,COLUMN(),FALSE))","v":""},{"$f":"IF($G260=\"\",\"\",VLOOKUP($G260,Lists!$BL$2:$BQ$478,COLUMN(),FALSE))","v":""},{"$f":"IF($G260=\"\",\"\",VLOOKUP($G260,Lists!$BL$2:$BQ$478,COLUMN(),FALSE))","v":""},{"$f":"IF($G260=\"\",\"\",VLOOKUP($G260,Lists!$BL$2:$BQ$478,COLUMN(),FALSE))","v":""}]
[null,{"$f":"IF($G261=\"\",\"\",VLOOKUP($G261,Lists!$BL$2:$BQ$478,COLUMN(),FALSE))","v":""},{"$f":"IF($G261=\"\",\"\",VLOOKUP($G261,Lists!$BL$2:$BQ$478,COLUMN(),FALSE))","v":""},{"$f":"IF($G261=\"\",\"\",VLOOKUP($G261,Lists!$BL$2:$BQ$478,COLUMN(),FALSE))","v":""},{"$f":"IF($G261=\"\",\"\",VLOOKUP($G261,Lists!$BL$2:$BQ$478,COLUMN(),FALSE))","v":""},{"$f":"IF($G261=\"\",\"\",VLOOKUP($G261,Lists!$BL$2:$BQ$478,COLUMN(),FALSE))","v":""}]
[null,{"$f":"IF($G262=\"\",\"\",VLOOKUP($G262,Lists!$BL$2:$BQ$478,COLUMN(),FALSE))","v":""},{"$f":"IF($G262=\"\",\"\",VLOOKUP($G262,Lists!$BL$2:$BQ$478,COLUMN(),FALSE))","v":""},{"$f":"IF($G262=\"\",\"\",VLOOKUP($G262,Lists!$BL$2:$BQ$478,COLUMN(),FALSE))","v":""},{"$f":"IF($G262=\"\",\"\",VLOOKUP($G262,Lists!$BL$2:$BQ$478,COLUMN(),FALSE))","v":""},{"$f":"IF($G262=\"\",\"\",VLOOKUP($G262,Lists!$BL$2:$BQ$478,COLUMN(),FALSE))","v":""}]
[null,{"$f":"IF($G263=\"\",\"\",VLOOKUP($G263,Lists!$BL$2:$BQ$478,COLUMN(),FALSE))","v":""},{"$f":"IF($G263=\"\",\"\",VLOOKUP($G263,Lists!$BL$2:$BQ$478,COLUMN(),FALSE))","v":""},{"$f":"IF($G263=\"\",\"\",VLOOKUP($G263,Lists!$BL$2:$BQ$478,COLUMN(),FALSE))","v":""},{"$f":"IF($G263=\"\",\"\",VLOOKUP($G263,Lists!$BL$2:$BQ$478,COLUMN(),FALSE))","v":""},{"$f":"IF($G263=\"\",\"\",VLOOKUP($G263,Lists!$BL$2:$BQ$478,COLUMN(),FALSE))","v":""}]
[null,{"$f":"IF($G264=\"\",\"\",VLOOKUP($G264,Lists!$BL$2:$BQ$478,COLUMN(),FALSE))","v":""},{"$f":"IF($G264=\"\",\"\",VLOOKUP($G264,Lists!$BL$2:$BQ$478,COLUMN(),FALSE))","v":""},{"$f":"IF($G264=\"\",\"\",VLOOKUP($G264,Lists!$BL$2:$BQ$478,COLUMN(),FALSE))","v":""},{"$f":"IF($G264=\"\",\"\",VLOOKUP($G264,Lists!$BL$2:$BQ$478,COLUMN(),FALSE))","v":""},{"$f":"IF($G264=\"\",\"\",VLOOKUP($G264,Lists!$BL$2:$BQ$478,COLUMN(),FALSE))","v":""}]
[null,{"$f":"IF($G265=\"\",\"\",VLOOKUP($G265,Lists!$BL$2:$BQ$478,COLUMN(),FALSE))","v":""},{"$f":"IF($G265=\"\",\"\",VLOOKUP($G265,Lists!$BL$2:$BQ$478,COLUMN(),FALSE))","v":""},{"$f":"IF($G265=\"\",\"\",VLOOKUP($G265,Lists!$BL$2:$BQ$478,COLUMN(),FALSE))","v":""},{"$f":"IF($G265=\"\",\"\",VLOOKUP($G265,Lists!$BL$2:$BQ$478,COLUMN(),FALSE))","v":""},{"$f":"IF($G265=\"\",\"\",VLOOKUP($G265,Lists!$BL$2:$BQ$478,COLUMN(),FALSE))","v":""}]
[null,{"$f":"IF($G266=\"\",\"\",VLOOKUP($G266,Lists!$BL$2:$BQ$478,COLUMN(),FALSE))","v":""},{"$f":"IF($G266=\"\",\"\",VLOOKUP($G266,Lists!$BL$2:$BQ$478,COLUMN(),FALSE))","v":""},{"$f":"IF($G266=\"\",\"\",VLOOKUP($G266,Lists!$BL$2:$BQ$478,COLUMN(),FALSE))","v":""},{"$f":"IF($G266=\"\",\"\",VLOOKUP($G266,Lists!$BL$2:$BQ$478,COLUMN(),FALSE))","v":""},{"$f":"IF($G266=\"\",\"\",VLOOKUP($G266,Lists!$BL$2:$BQ$478,COLUMN(),FALSE))","v":""}]
[null,{"$f":"IF($G267=\"\",\"\",VLOOKUP($G267,Lists!$BL$2:$BQ$478,COLUMN(),FALSE))","v":""},{"$f":"IF($G267=\"\",\"\",VLOOKUP($G267,Lists!$BL$2:$BQ$478,COLUMN(),FALSE))","v":""},{"$f":"IF($G267=\"\",\"\",VLOOKUP($G267,Lists!$BL$2:$BQ$478,COLUMN(),FALSE))","v":""},{"$f":"IF($G267=\"\",\"\",VLOOKUP($G267,Lists!$BL$2:$BQ$478,COLUMN(),FALSE))","v":""},{"$f":"IF($G267=\"\",\"\",VLOOKUP($G267,Lists!$BL$2:$BQ$478,COLUMN(),FALSE))","v":""}]
[null,{"$f":"IF($G268=\"\",\"\",VLOOKUP($G268,Lists!$BL$2:$BQ$478,COLUMN(),FALSE))","v":""},{"$f":"IF($G268=\"\",\"\",VLOOKUP($G268,Lists!$BL$2:$BQ$478,COLUMN(),FALSE))","v":""},{"$f":"IF($G268=\"\",\"\",VLOOKUP($G268,Lists!$BL$2:$BQ$478,COLUMN(),FALSE))","v":""},{"$f":"IF($G268=\"\",\"\",VLOOKUP($G268,Lists!$BL$2:$BQ$478,COLUMN(),FALSE))","v":""},{"$f":"IF($G268=\"\",\"\",VLOOKUP($G268,Lists!$BL$2:$BQ$478,COLUMN(),FALSE))","v":""}]
[null,{"$f":"IF($G269=\"\",\"\",VLOOKUP($G269,Lists!$BL$2:$BQ$478,COLUMN(),FALSE))","v":""},{"$f":"IF($G269=\"\",\"\",VLOOKUP($G269,Lists!$BL$2:$BQ$478,COLUMN(),FALSE))","v":""},{"$f":"IF($G269=\"\",\"\",VLOOKUP($G269,Lists!$BL$2:$BQ$478,COLUMN(),FALSE))","v":""},{"$f":"IF($G269=\"\",\"\",VLOOKUP($G269,Lists!$BL$2:$BQ$478,COLUMN(),FALSE))","v":""},{"$f":"IF($G269=\"\",\"\",VLOOKUP($G269,Lists!$BL$2:$BQ$478,COLUMN(),FALSE))","v":""}]
[null,{"$f":"IF($G270=\"\",\"\",VLOOKUP($G270,Lists!$BL$2:$BQ$478,COLUMN(),FALSE))","v":""},{"$f":"IF($G270=\"\",\"\",VLOOKUP($G270,Lists!$BL$2:$BQ$478,COLUMN(),FALSE))","v":""},{"$f":"IF($G270=\"\",\"\",VLOOKUP($G270,Lists!$BL$2:$BQ$478,COLUMN(),FALSE))","v":""},{"$f":"IF($G270=\"\",\"\",VLOOKUP($G270,Lists!$BL$2:$BQ$478,COLUMN(),FALSE))","v":""},{"$f":"IF($G270=\"\",\"\",VLOOKUP($G270,Lists!$BL$2:$BQ$478,COLUMN(),FALSE))","v":""}]
[null,{"$f":"IF($G271=\"\",\"\",VLOOKUP($G271,Lists!$BL$2:$BQ$478,COLUMN(),FALSE))","v":""},{"$f":"IF($G271=\"\",\"\",VLOOKUP($G271,Lists!$BL$2:$BQ$478,COLUMN(),FALSE))","v":""},{"$f":"IF($G271=\"\",\"\",VLOOKUP($G271,Lists!$BL$2:$BQ$478,COLUMN(),FALSE))","v":""},{"$f":"IF($G271=\"\",\"\",VLOOKUP($G271,Lists!$BL$2:$BQ$478,COLUMN(),FALSE))","v":""},{"$f":"IF($G271=\"\",\"\",VLOOKUP($G271,Lists!$BL$2:$BQ$478,COLUMN(),FALSE))","v":""}]
[null,{"$f":"IF($G272=\"\",\"\",VLOOKUP($G272,Lists!$BL$2:$BQ$478,COLUMN(),FALSE))","v":""},{"$f":"IF($G272=\"\",\"\",VLOOKUP($G272,Lists!$BL$2:$BQ$478,COLUMN(),FALSE))","v":""},{"$f":"IF($G272=\"\",\"\",VLOOKUP($G272,Lists!$BL$2:$BQ$478,COLUMN(),FALSE))","v":""},{"$f":"IF($G272=\"\",\"\",VLOOKUP($G272,Lists!$BL$2:$BQ$478,COLUMN(),FALSE))","v":""},{"$f":"IF($G272=\"\",\"\",VLOOKUP($G272,Lists!$BL$2:$BQ$478,COLUMN(),FALSE))","v":""}]
[null,{"$f":"IF($G273=\"\",\"\",VLOOKUP($G273,Lists!$BL$2:$BQ$478,COLUMN(),FALSE))","v":""},{"$f":"IF($G273=\"\",\"\",VLOOKUP($G273,Lists!$BL$2:$BQ$478,COLUMN(),FALSE))","v":""},{"$f":"IF($G273=\"\",\"\",VLOOKUP($G273,Lists!$BL$2:$BQ$478,COLUMN(),FALSE))","v":""},{"$f":"IF($G273=\"\",\"\",VLOOKUP($G273,Lists!$BL$2:$BQ$478,COLUMN(),FALSE))","v":""},{"$f":"IF($G273=\"\",\"\",VLOOKUP($G273,Lists!$BL$2:$BQ$478,COLUMN(),FALSE))","v":""}]
[null,{"$f":"IF($G274=\"\",\"\",VLOOKUP($G274,Lists!$BL$2:$BQ$478,COLUMN(),FALSE))","v":""},{"$f":"IF($G274=\"\",\"\",VLOOKUP($G274,Lists!$BL$2:$BQ$478,COLUMN(),FALSE))","v":""},{"$f":"IF($G274=\"\",\"\",VLOOKUP($G274,Lists!$BL$2:$BQ$478,COLUMN(),FALSE))","v":""},{"$f":"IF($G274=\"\",\"\",VLOOKUP($G274,Lists!$BL$2:$BQ$478,COLUMN(),FALSE))","v":""},{"$f":"IF($G274=\"\",\"\",VLOOKUP($G274,Lists!$BL$2:$BQ$478,COLUMN(),FALSE))","v":""}]
[null,{"$f":"IF($G275=\"\",\"\",VLOOKUP($G275,Lists!$BL$2:$BQ$478,COLUMN(),FALSE))","v":""},{"$f":"IF($G275=\"\",\"\",VLOOKUP($G275,Lists!$BL$2:$BQ$478,COLUMN(),FALSE))","v":""},{"$f":"IF($G275=\"\",\"\",VLOOKUP($G275,Lists!$BL$2:$BQ$478,COLUMN(),FALSE))","v":""},{"$f":"IF($G275=\"\",\"\",VLOOKUP($G275,Lists!$BL$2:$BQ$478,COLUMN(),FALSE))","v":""},{"$f":"IF($G275=\"\",\"\",VLOOKUP($G275,Lists!$BL$2:$BQ$478,COLUMN(),FALSE))","v":""}]
[null,{"$f":"IF($G276=\"\",\"\",VLOOKUP($G276,Lists!$BL$2:$BQ$478,COLUMN(),FALSE))","v":""},{"$f":"IF($G276=\"\",\"\",VLOOKUP($G276,Lists!$BL$2:$BQ$478,COLUMN(),FALSE))","v":""},{"$f":"IF($G276=\"\",\"\",VLOOKUP($G276,Lists!$BL$2:$BQ$478,COLUMN(),FALSE))","v":""},{"$f":"IF($G276=\"\",\"\",VLOOKUP($G276,Lists!$BL$2:$BQ$478,COLUMN(),FALSE))","v":""},{"$f":"IF($G276=\"\",\"\",VLOOKUP($G276,Lists!$BL$2:$BQ$478,COLUMN(),FALSE))","v":""}]
[null,{"$f":"IF($G277=\"\",\"\",VLOOKUP($G277,Lists!$BL$2:$BQ$478,COLUMN(),FALSE))","v":""},{"$f":"IF($G277=\"\",\"\",VLOOKUP($G277,Lists!$BL$2:$BQ$478,COLUMN(),FALSE))","v":""},{"$f":"IF($G277=\"\",\"\",VLOOKUP($G277,Lists!$BL$2:$BQ$478,COLUMN(),FALSE))","v":""},{"$f":"IF($G277=\"\",\"\",VLOOKUP($G277,Lists!$BL$2:$BQ$478,COLUMN(),FALSE))","v":""},{"$f":"IF($G277=\"\",\"\",VLOOKUP($G277,Lists!$BL$2:$BQ$478,COLUMN(),FALSE))","v":""}]
[null,{"$f":"IF($G278=\"\",\"\",VLOOKUP($G278,Lists!$BL$2:$BQ$478,COLUMN(),FALSE))","v":""},{"$f":"IF($G278=\"\",\"\",VLOOKUP($G278,Lists!$BL$2:$BQ$478,COLUMN(),FALSE))","v":""},{"$f":"IF($G278=\"\",\"\",VLOOKUP($G278,Lists!$BL$2:$BQ$478,COLUMN(),FALSE))","v":""},{"$f":"IF($G278=\"\",\"\",VLOOKUP($G278,Lists!$BL$2:$BQ$478,COLUMN(),FALSE))","v":""},{"$f":"IF($G278=\"\",\"\",VLOOKUP($G278,Lists!$BL$2:$BQ$478,COLUMN(),FALSE))","v":""}]
[null,{"$f":"IF($G279=\"\",\"\",VLOOKUP($G279,Lists!$BL$2:$BQ$478,COLUMN(),FALSE))","v":""},{"$f":"IF($G279=\"\",\"\",VLOOKUP($G279,Lists!$BL$2:$BQ$478,COLUMN(),FALSE))","v":""},{"$f":"IF($G279=\"\",\"\",VLOOKUP($G279,Lists!$BL$2:$BQ$478,COLUMN(),FALSE))","v":""},{"$f":"IF($G279=\"\",\"\",VLOOKUP($G279,Lists!$BL$2:$BQ$478,COLUMN(),FALSE))","v":""},{"$f":"IF($G279=\"\",\"\",VLOOKUP($G279,Lists!$BL$2:$BQ$478,COLUMN(),FALSE))","v":""}]
[null,{"$f":"IF($G280=\"\",\"\",VLOOKUP($G280,Lists!$BL$2:$BQ$478,COLUMN(),FALSE))","v":""},{"$f":"IF($G280=\"\",\"\",VLOOKUP($G280,Lists!$BL$2:$BQ$478,COLUMN(),FALSE))","v":""},{"$f":"IF($G280=\"\",\"\",VLOOKUP($G280,Lists!$BL$2:$BQ$478,COLUMN(),FALSE))","v":""},{"$f":"IF($G280=\"\",\"\",VLOOKUP($G280,Lists!$BL$2:$BQ$478,COLUMN(),FALSE))","v":""},{"$f":"IF($G280=\"\",\"\",VLOOKUP($G280,Lists!$BL$2:$BQ$478,COLUMN(),FALSE))","v":""}]
[null,{"$f":"IF($G281=\"\",\"\",VLOOKUP($G281,Lists!$BL$2:$BQ$478,COLUMN(),FALSE))","v":""},{"$f":"IF($G281=\"\",\"\",VLOOKUP($G281,Lists!$BL$2:$BQ$478,COLUMN(),FALSE))","v":""},{"$f":"IF($G281=\"\",\"\",VLOOKUP($G281,Lists!$BL$2:$BQ$478,COLUMN(),FALSE))","v":""},{"$f":"IF($G281=\"\",\"\",VLOOKUP($G281,Lists!$BL$2:$BQ$478,COLUMN(),FALSE))","v":""},{"$f":"IF($G281=\"\",\"\",VLOOKUP($G281,Lists!$BL$2:$BQ$478,COLUMN(),FALSE))","v":""}]
[null,{"$f":"IF($G282=\"\",\"\",VLOOKUP($G282,Lists!$BL$2:$BQ$478,COLUMN(),FALSE))","v":""},{"$f":"IF($G282=\"\",\"\",VLOOKUP($G282,Lists!$BL$2:$BQ$478,COLUMN(),FALSE))","v":""},{"$f":"IF($G282=\"\",\"\",VLOOKUP($G282,Lists!$BL$2:$BQ$478,COLUMN(),FALSE))","v":""},{"$f":"IF($G282=\"\",\"\",VLOOKUP($G282,Lists!$BL$2:$BQ$478,COLUMN(),FALSE))","v":""},{"$f":"IF($G282=\"\",\"\",VLOOKUP($G282,Lists!$BL$2:$BQ$478,COLUMN(),FALSE))","v":""}]
[null,{"$f":"IF($G283=\"\",\"\",VLOOKUP($G283,Lists!$BL$2:$BQ$478,COLUMN(),FALSE))","v":""},{"$f":"IF($G283=\"\",\"\",VLOOKUP($G283,Lists!$BL$2:$BQ$478,COLUMN(),FALSE))","v":""},{"$f":"IF($G283=\"\",\"\",VLOOKUP($G283,Lists!$BL$2:$BQ$478,COLUMN(),FALSE))","v":""},{"$f":"IF($G283=\"\",\"\",VLOOKUP($G283,Lists!$BL$2:$BQ$478,COLUMN(),FALSE))","v":""},{"$f":"IF($G283=\"\",\"\",VLOOKUP($G283,Lists!$BL$2:$BQ$478,COLUMN(),FALSE))","v":""}]
[null,{"$f":"IF($G284=\"\",\"\",VLOOKUP($G284,Lists!$BL$2:$BQ$478,COLUMN(),FALSE))","v":""},{"$f":"IF($G284=\"\",\"\",VLOOKUP($G284,Lists!$BL$2:$BQ$478,COLUMN(),FALSE))","v":""},{"$f":"IF($G284=\"\",\"\",VLOOKUP($G284,Lists!$BL$2:$BQ$478,COLUMN(),FALSE))","v":""},{"$f":"IF($G284=\"\",\"\",VLOOKUP($G284,Lists!$BL$2:$BQ$478,COLUMN(),FALSE))","v":""},{"$f":"IF($G284=\"\",\"\",VLOOKUP($G284,Lists!$BL$2:$BQ$478,COLUMN(),FALSE))","v":""}]
[null,{"$f":"IF($G285=\"\",\"\",VLOOKUP($G285,Lists!$BL$2:$BQ$478,COLUMN(),FALSE))","v":""},{"$f":"IF($G285=\"\",\"\",VLOOKUP($G285,Lists!$BL$2:$BQ$478,COLUMN(),FALSE))","v":""},{"$f":"IF($G285=\"\",\"\",VLOOKUP($G285,Lists!$BL$2:$BQ$478,COLUMN(),FALSE))","v":""},{"$f":"IF($G285=\"\",\"\",VLOOKUP($G285,Lists!$BL$2:$BQ$478,COLUMN(),FALSE))","v":""},{"$f":"IF($G285=\"\",\"\",VLOOKUP($G285,Lists!$BL$2:$BQ$478,COLUMN(),FALSE))","v":""}]
[null,{"$f":"IF($G286=\"\",\"\",VLOOKUP($G286,Lists!$BL$2:$BQ$478,COLUMN(),FALSE))","v":""},{"$f":"IF($G286=\"\",\"\",VLOOKUP($G286,Lists!$BL$2:$BQ$478,COLUMN(),FALSE))","v":""},{"$f":"IF($G286=\"\",\"\",VLOOKUP($G286,Lists!$BL$2:$BQ$478,COLUMN(),FALSE))","v":""},{"$f":"IF($G286=\"\",\"\",VLOOKUP($G286,Lists!$BL$2:$BQ$478,COLUMN(),FALSE))","v":""},{"$f":"IF($G286=\"\",\"\",VLOOKUP($G286,Lists!$BL$2:$BQ$478,COLUMN(),FALSE))","v":""}]
[null,{"$f":"IF($G287=\"\",\"\",VLOOKUP($G287,Lists!$BL$2:$BQ$478,COLUMN(),FALSE))","v":""},{"$f":"IF($G287=\"\",\"\",VLOOKUP($G287,Lists!$BL$2:$BQ$478,COLUMN(),FALSE))","v":""},{"$f":"IF($G287=\"\",\"\",VLOOKUP($G287,Lists!$BL$2:$BQ$478,COLUMN(),FALSE))","v":""},{"$f":"IF($G287=\"\",\"\",VLOOKUP($G287,Lists!$BL$2:$BQ$478,COLUMN(),FALSE))","v":""},{"$f":"IF($G287=\"\",\"\",VLOOKUP($G287,Lists!$BL$2:$BQ$478,COLUMN(),FALSE))","v":""}]
[null,{"$f":"IF($G288=\"\",\"\",VLOOKUP($G288,Lists!$BL$2:$BQ$478,COLUMN(),FALSE))","v":""},{"$f":"IF($G288=\"\",\"\",VLOOKUP($G288,Lists!$BL$2:$BQ$478,COLUMN(),FALSE))","v":""},{"$f":"IF($G288=\"\",\"\",VLOOKUP($G288,Lists!$BL$2:$BQ$478,COLUMN(),FALSE))","v":""},{"$f":"IF($G288=\"\",\"\",VLOOKUP($G288,Lists!$BL$2:$BQ$478,COLUMN(),FALSE))","v":""},{"$f":"IF($G288=\"\",\"\",VLOOKUP($G288,Lists!$BL$2:$BQ$478,COLUMN(),FALSE))","v":""}]
[null,{"$f":"IF($G289=\"\",\"\",VLOOKUP($G289,Lists!$BL$2:$BQ$478,COLUMN(),FALSE))","v":""},{"$f":"IF($G289=\"\",\"\",VLOOKUP($G289,Lists!$BL$2:$BQ$478,COLUMN(),FALSE))","v":""},{"$f":"IF($G289=\"\",\"\",VLOOKUP($G289,Lists!$BL$2:$BQ$478,COLUMN(),FALSE))","v":""},{"$f":"IF($G289=\"\",\"\",VLOOKUP($G289,Lists!$BL$2:$BQ$478,COLUMN(),FALSE))","v":""},{"$f":"IF($G289=\"\",\"\",VLOOKUP($G289,Lists!$BL$2:$BQ$478,COLUMN(),FALSE))","v":""}]
[null,{"$f":"IF($G290=\"\",\"\",VLOOKUP($G290,Lists!$BL$2:$BQ$478,COLUMN(),FALSE))","v":""},{"$f":"IF($G290=\"\",\"\",VLOOKUP($G290,Lists!$BL$2:$BQ$478,COLUMN(),FALSE))","v":""},{"$f":"IF($G290=\"\",\"\",VLOOKUP($G290,Lists!$BL$2:$BQ$478,COLUMN(),FALSE))","v":""},{"$f":"IF($G290=\"\",\"\",VLOOKUP($G290,Lists!$BL$2:$BQ$478,COLUMN(),FALSE))","v":""},{"$f":"IF($G290=\"\",\"\",VLOOKUP($G290,Lists!$BL$2:$BQ$478,COLUMN(),FALSE))","v":""}]
[null,{"$f":"IF($G291=\"\",\"\",VLOOKUP($G291,Lists!$BL$2:$BQ$478,COLUMN(),FALSE))","v":""},{"$f":"IF($G291=\"\",\"\",VLOOKUP($G291,Lists!$BL$2:$BQ$478,COLUMN(),FALSE))","v":""},{"$f":"IF($G291=\"\",\"\",VLOOKUP($G291,Lists!$BL$2:$BQ$478,COLUMN(),FALSE))","v":""},{"$f":"IF($G291=\"\",\"\",VLOOKUP($G291,Lists!$BL$2:$BQ$478,COLUMN(),FALSE))","v":""},{"$f":"IF($G291=\"\",\"\",VLOOKUP($G291,Lists!$BL$2:$BQ$478,COLUMN(),FALSE))","v":""}]
[null,{"$f":"IF($G292=\"\",\"\",VLOOKUP($G292,Lists!$BL$2:$BQ$478,COLUMN(),FALSE))","v":""},{"$f":"IF($G292=\"\",\"\",VLOOKUP($G292,Lists!$BL$2:$BQ$478,COLUMN(),FALSE))","v":""},{"$f":"IF($G292=\"\",\"\",VLOOKUP($G292,Lists!$BL$2:$BQ$478,COLUMN(),FALSE))","v":""},{"$f":"IF($G292=\"\",\"\",VLOOKUP($G292,Lists!$BL$2:$BQ$478,COLUMN(),FALSE))","v":""},{"$f":"IF($G292=\"\",\"\",VLOOKUP($G292,Lists!$BL$2:$BQ$478,COLUMN(),FALSE))","v":""}]
[null,{"$f":"IF($G293=\"\",\"\",VLOOKUP($G293,Lists!$BL$2:$BQ$478,COLUMN(),FALSE))","v":""},{"$f":"IF($G293=\"\",\"\",VLOOKUP($G293,Lists!$BL$2:$BQ$478,COLUMN(),FALSE))","v":""},{"$f":"IF($G293=\"\",\"\",VLOOKUP($G293,Lists!$BL$2:$BQ$478,COLUMN(),FALSE))","v":""},{"$f":"IF($G293=\"\",\"\",VLOOKUP($G293,Lists!$BL$2:$BQ$478,COLUMN(),FALSE))","v":""},{"$f":"IF($G293=\"\",\"\",VLOOKUP($G293,Lists!$BL$2:$BQ$478,COLUMN(),FALSE))","v":""}]
[null,{"$f":"IF($G294=\"\",\"\",VLOOKUP($G294,Lists!$BL$2:$BQ$478,COLUMN(),FALSE))","v":""},{"$f":"IF($G294=\"\",\"\",VLOOKUP($G294,Lists!$BL$2:$BQ$478,COLUMN(),FALSE))","v":""},{"$f":"IF($G294=\"\",\"\",VLOOKUP($G294,Lists!$BL$2:$BQ$478,COLUMN(),FALSE))","v":""},{"$f":"IF($G294=\"\",\"\",VLOOKUP($G294,Lists!$BL$2:$BQ$478,COLUMN(),FALSE))","v":""},{"$f":"IF($G294=\"\",\"\",VLOOKUP($G294,Lists!$BL$2:$BQ$478,COLUMN(),FALSE))","v":""}]
[null,{"$f":"IF($G295=\"\",\"\",VLOOKUP($G295,Lists!$BL$2:$BQ$478,COLUMN(),FALSE))","v":""},{"$f":"IF($G295=\"\",\"\",VLOOKUP($G295,Lists!$BL$2:$BQ$478,COLUMN(),FALSE))","v":""},{"$f":"IF($G295=\"\",\"\",VLOOKUP($G295,Lists!$BL$2:$BQ$478,COLUMN(),FALSE))","v":""},{"$f":"IF($G295=\"\",\"\",VLOOKUP($G295,Lists!$BL$2:$BQ$478,COLUMN(),FALSE))","v":""},{"$f":"IF($G295=\"\",\"\",VLOOKUP($G295,Lists!$BL$2:$BQ$478,COLUMN(),FALSE))","v":""}]
[null,{"$f":"IF($G296=\"\",\"\",VLOOKUP($G296,Lists!$BL$2:$BQ$478,COLUMN(),FALSE))","v":""},{"$f":"IF($G296=\"\",\"\",VLOOKUP($G296,Lists!$BL$2:$BQ$478,COLUMN(),FALSE))","v":""},{"$f":"IF($G296=\"\",\"\",VLOOKUP($G296,Lists!$BL$2:$BQ$478,COLUMN(),FALSE))","v":""},{"$f":"IF($G296=\"\",\"\",VLOOKUP($G296,Lists!$BL$2:$BQ$478,COLUMN(),FALSE))","v":""},{"$f":"IF($G296=\"\",\"\",VLOOKUP($G296,Lists!$BL$2:$BQ$478,COLUMN(),FALSE))","v":""}]
[null,{"$f":"IF($G297=\"\",\"\",VLOOKUP($G297,Lists!$BL$2:$BQ$478,COLUMN(),FALSE))","v":""},{"$f":"IF($G297=\"\",\"\",VLOOKUP($G297,Lists!$BL$2:$BQ$478,COLUMN(),FALSE))","v":""},{"$f":"IF($G297=\"\",\"\",VLOOKUP($G297,Lists!$BL$2:$BQ$478,COLUMN(),FALSE))","v":""},{"$f":"IF($G297=\"\",\"\",VLOOKUP($G297,Lists!$BL$2:$BQ$478,COLUMN(),FALSE))","v":""},{"$f":"IF($G297=\"\",\"\",VLOOKUP($G297,Lists!$BL$2:$BQ$478,COLUMN(),FALSE))","v":""}]
[null,{"$f":"IF($G298=\"\",\"\",VLOOKUP($G298,Lists!$BL$2:$BQ$478,COLUMN(),FALSE))","v":""},{"$f":"IF($G298=\"\",\"\",VLOOKUP($G298,Lists!$BL$2:$BQ$478,COLUMN(),FALSE))","v":""},{"$f":"IF($G298=\"\",\"\",VLOOKUP($G298,Lists!$BL$2:$BQ$478,COLUMN(),FALSE))","v":""},{"$f":"IF($G298=\"\",\"\",VLOOKUP($G298,Lists!$BL$2:$BQ$478,COLUMN(),FALSE))","v":""},{"$f":"IF($G298=\"\",\"\",VLOOKUP($G298,Lists!$BL$2:$BQ$478,COLUMN(),FALSE))","v":""}]
[null,{"$f":"IF($G299=\"\",\"\",VLOOKUP($G299,Lists!$BL$2:$BQ$478,COLUMN(),FALSE))","v":""},{"$f":"IF($G299=\"\",\"\",VLOOKUP($G299,Lists!$BL$2:$BQ$478,COLUMN(),FALSE))","v":""},{"$f":"IF($G299=\"\",\"\",VLOOKUP($G299,Lists!$BL$2:$BQ$478,COLUMN(),FALSE))","v":""},{"$f":"IF($G299=\"\",\"\",VLOOKUP($G299,Lists!$BL$2:$BQ$478,COLUMN(),FALSE))","v":""},{"$f":"IF($G299=\"\",\"\",VLOOKUP($G299,Lists!$BL$2:$BQ$478,COLUMN(),FALSE))","v":""}]
[null,{"$f":"IF($G300=\"\",\"\",VLOOKUP($G300,Lists!$BL$2:$BQ$478,COLUMN(),FALSE))","v":""},{"$f":"IF($G300=\"\",\"\",VLOOKUP($G300,Lists!$BL$2:$BQ$478,COLUMN(),FALSE))","v":""},{"$f":"IF($G300=\"\",\"\",VLOOKUP($G300,Lists!$BL$2:$BQ$478,COLUMN(),FALSE))","v":""},{"$f":"IF($G300=\"\",\"\",VLOOKUP($G300,Lists!$BL$2:$BQ$478,COLUMN(),FALSE))","v":""},{"$f":"IF($G300=\"\",\"\",VLOOKUP($G300,Lists!$BL$2:$BQ$478,COLUMN(),FALSE))","v":""}]
[null,{"$f":"IF($G301=\"\",\"\",VLOOKUP($G301,Lists!$BL$2:$BQ$478,COLUMN(),FALSE))","v":""},{"$f":"IF($G301=\"\",\"\",VLOOKUP($G301,Lists!$BL$2:$BQ$478,COLUMN(),FALSE))","v":""},{"$f":"IF($G301=\"\",\"\",VLOOKUP($G301,Lists!$BL$2:$BQ$478,COLUMN(),FALSE))","v":""},{"$f":"IF($G301=\"\",\"\",VLOOKUP($G301,Lists!$BL$2:$BQ$478,COLUMN(),FALSE))","v":""},{"$f":"IF($G301=\"\",\"\",VLOOKUP($G301,Lists!$BL$2:$BQ$478,COLUMN(),FALSE))","v":""}]
[null,{"$f":"IF($G302=\"\",\"\",VLOOKUP($G302,Lists!$BL$2:$BQ$478,COLUMN(),FALSE))","v":""},{"$f":"IF($G302=\"\",\"\",VLOOKUP($G302,Lists!$BL$2:$BQ$478,COLUMN(),FALSE))","v":""},{"$f":"IF($G302=\"\",\"\",VLOOKUP($G302,Lists!$BL$2:$BQ$478,COLUMN(),FALSE))","v":""},{"$f":"IF($G302=\"\",\"\",VLOOKUP($G302,Lists!$BL$2:$BQ$478,COLUMN(),FALSE))","v":""},{"$f":"IF($G302=\"\",\"\",VLOOKUP($G302,Lists!$BL$2:$BQ$478,COLUMN(),FALSE))","v":""}]
[null,{"$f":"IF($G303=\"\",\"\",VLOOKUP($G303,Lists!$BL$2:$BQ$478,COLUMN(),FALSE))","v":""},{"$f":"IF($G303=\"\",\"\",VLOOKUP($G303,Lists!$BL$2:$BQ$478,COLUMN(),FALSE))","v":""},{"$f":"IF($G303=\"\",\"\",VLOOKUP($G303,Lists!$BL$2:$BQ$478,COLUMN(),FALSE))","v":""},{"$f":"IF($G303=\"\",\"\",VLOOKUP($G303,Lists!$BL$2:$BQ$478,COLUMN(),FALSE))","v":""},{"$f":"IF($G303=\"\",\"\",VLOOKUP($G303,Lists!$BL$2:$BQ$478,COLUMN(),FALSE))","v":""}]
[null,{"$f":"IF($G304=\"\",\"\",VLOOKUP($G304,Lists!$BL$2:$BQ$478,COLUMN(),FALSE))","v":""},{"$f":"IF($G304=\"\",\"\",VLOOKUP($G304,Lists!$BL$2:$BQ$478,COLUMN(),FALSE))","v":""},{"$f":"IF($G304=\"\",\"\",VLOOKUP($G304,Lists!$BL$2:$BQ$478,COLUMN(),FALSE))","v":""},{"$f":"IF($G304=\"\",\"\",VLOOKUP($G304,Lists!$BL$2:$BQ$478,COLUMN(),FALSE))","v":""},{"$f":"IF($G304=\"\",\"\",VLOOKUP($G304,Lists!$BL$2:$BQ$478,COLUMN(),FALSE))","v":""}]
[null,{"$f":"IF($G305=\"\",\"\",VLOOKUP($G305,Lists!$BL$2:$BQ$478,COLUMN(),FALSE))","v":""},{"$f":"IF($G305=\"\",\"\",VLOOKUP($G305,Lists!$BL$2:$BQ$478,COLUMN(),FALSE))","v":""},{"$f":"IF($G305=\"\",\"\",VLOOKUP($G305,Lists!$BL$2:$BQ$478,COLUMN(),FALSE))","v":""},{"$f":"IF($G305=\"\",\"\",VLOOKUP($G305,Lists!$BL$2:$BQ$478,COLUMN(),FALSE))","v":""},{"$f":"IF($G305=\"\",\"\",VLOOKUP($G305,Lists!$BL$2:$BQ$478,COLUMN(),FALSE))","v":""}]
[null,{"$f":"IF($G306=\"\",\"\",VLOOKUP($G306,Lists!$BL$2:$BQ$478,COLUMN(),FALSE))","v":""},{"$f":"IF($G306=\"\",\"\",VLOOKUP($G306,Lists!$BL$2:$BQ$478,COLUMN(),FALSE))","v":""},{"$f":"IF($G306=\"\",\"\",VLOOKUP($G306,Lists!$BL$2:$BQ$478,COLUMN(),FALSE))","v":""},{"$f":"IF($G306=\"\",\"\",VLOOKUP($G306,Lists!$BL$2:$BQ$478,COLUMN(),FALSE))","v":""},{"$f":"IF($G306=\"\",\"\",VLOOKUP($G306,Lists!$BL$2:$BQ$478,COLUMN(),FALSE))","v":""}]
[null,{"$f":"IF($G307=\"\",\"\",VLOOKUP($G307,Lists!$BL$2:$BQ$478,COLUMN(),FALSE))","v":""},{"$f":"IF($G307=\"\",\"\",VLOOKUP($G307,Lists!$BL$2:$BQ$478,COLUMN(),FALSE))","v":""},{"$f":"IF($G307=\"\",\"\",VLOOKUP($G307,Lists!$BL$2:$BQ$478,COLUMN(),FALSE))","v":""},{"$f":"IF($G307=\"\",\"\",VLOOKUP($G307,Lists!$BL$2:$BQ$478,COLUMN(),FALSE))","v":""},{"$f":"IF($G307=\"\",\"\",VLOOKUP($G307,Lists!$BL$2:$BQ$478,COLUMN(),FALSE))","v":""}]
[null,{"$f":"IF($G308=\"\",\"\",VLOOKUP($G308,Lists!$BL$2:$BQ$478,COLUMN(),FALSE))","v":""},{"$f":"IF($G308=\"\",\"\",VLOOKUP($G308,Lists!$BL$2:$BQ$478,COLUMN(),FALSE))","v":""},{"$f":"IF($G308=\"\",\"\",VLOOKUP($G308,Lists!$BL$2:$BQ$478,COLUMN(),FALSE))","v":""},{"$f":"IF($G308=\"\",\"\",VLOOKUP($G308,Lists!$BL$2:$BQ$478,COLUMN(),FALSE))","v":""},{"$f":"IF($G308=\"\",\"\",VLOOKUP($G308,Lists!$BL$2:$BQ$478,COLUMN(),FALSE))","v":""}]
[null,{"$f":"IF($G309=\"\",\"\",VLOOKUP($G309,Lists!$BL$2:$BQ$478,COLUMN(),FALSE))","v":""},{"$f":"IF($G309=\"\",\"\",VLOOKUP($G309,Lists!$BL$2:$BQ$478,COLUMN(),FALSE))","v":""},{"$f":"IF($G309=\"\",\"\",VLOOKUP($G309,Lists!$BL$2:$BQ$478,COLUMN(),FALSE))","v":""},{"$f":"IF($G309=\"\",\"\",VLOOKUP($G309,Lists!$BL$2:$BQ$478,COLUMN(),FALSE))","v":""},{"$f":"IF($G309=\"\",\"\",VLOOKUP($G309,Lists!$BL$2:$BQ$478,COLUMN(),FALSE))","v":""}]
[null,{"$f":"IF($G310=\"\",\"\",VLOOKUP($G310,Lists!$BL$2:$BQ$478,COLUMN(),FALSE))","v":""},{"$f":"IF($G310=\"\",\"\",VLOOKUP($G310,Lists!$BL$2:$BQ$478,COLUMN(),FALSE))","v":""},{"$f":"IF($G310=\"\",\"\",VLOOKUP($G310,Lists!$BL$2:$BQ$478,COLUMN(),FALSE))","v":""},{"$f":"IF($G310=\"\",\"\",VLOOKUP($G310,Lists!$BL$2:$BQ$478,COLUMN(),FALSE))","v":""},{"$f":"IF($G310=\"\",\"\",VLOOKUP($G310,Lists!$BL$2:$BQ$478,COLUMN(),FALSE))","v":""}]
[null,{"$f":"IF($G311=\"\",\"\",VLOOKUP($G311,Lists!$BL$2:$BQ$478,COLUMN(),FALSE))","v":""},{"$f":"IF($G311=\"\",\"\",VLOOKUP($G311,Lists!$BL$2:$BQ$478,COLUMN(),FALSE))","v":""},{"$f":"IF($G311=\"\",\"\",VLOOKUP($G311,Lists!$BL$2:$BQ$478,COLUMN(),FALSE))","v":""},{"$f":"IF($G311=\"\",\"\",VLOOKUP($G311,Lists!$BL$2:$BQ$478,COLUMN(),FALSE))","v":""},{"$f":"IF($G311=\"\",\"\",VLOOKUP($G311,Lists!$BL$2:$BQ$478,COLUMN(),FALSE))","v":""}]
[null,{"$f":"IF($G312=\"\",\"\",VLOOKUP($G312,Lists!$BL$2:$BQ$478,COLUMN(),FALSE))","v":""},{"$f":"IF($G312=\"\",\"\",VLOOKUP($G312,Lists!$BL$2:$BQ$478,COLUMN(),FALSE))","v":""},{"$f":"IF($G312=\"\",\"\",VLOOKUP($G312,Lists!$BL$2:$BQ$478,COLUMN(),FALSE))","v":""},{"$f":"IF($G312=\"\",\"\",VLOOKUP($G312,Lists!$BL$2:$BQ$478,COLUMN(),FALSE))","v":""},{"$f":"IF($G312=\"\",\"\",VLOOKUP($G312,Lists!$BL$2:$BQ$478,COLUMN(),FALSE))","v":""}]
[null,{"$f":"IF($G313=\"\",\"\",VLOOKUP($G313,Lists!$BL$2:$BQ$478,COLUMN(),FALSE))","v":""},{"$f":"IF($G313=\"\",\"\",VLOOKUP($G313,Lists!$BL$2:$BQ$478,COLUMN(),FALSE))","v":""},{"$f":"IF($G313=\"\",\"\",VLOOKUP($G313,Lists!$BL$2:$BQ$478,COLUMN(),FALSE))","v":""},{"$f":"IF($G313=\"\",\"\",VLOOKUP($G313,Lists!$BL$2:$BQ$478,COLUMN(),FALSE))","v":""},{"$f":"IF($G313=\"\",\"\",VLOOKUP($G313,Lists!$BL$2:$BQ$478,COLUMN(),FALSE))","v":""}]
[null,{"$f":"IF($G314=\"\",\"\",VLOOKUP($G314,Lists!$BL$2:$BQ$478,COLUMN(),FALSE))","v":""},{"$f":"IF($G314=\"\",\"\",VLOOKUP($G314,Lists!$BL$2:$BQ$478,COLUMN(),FALSE))","v":""},{"$f":"IF($G314=\"\",\"\",VLOOKUP($G314,Lists!$BL$2:$BQ$478,COLUMN(),FALSE))","v":""},{"$f":"IF($G314=\"\",\"\",VLOOKUP($G314,Lists!$BL$2:$BQ$478,COLUMN(),FALSE))","v":""},{"$f":"IF($G314=\"\",\"\",VLOOKUP($G314,Lists!$BL$2:$BQ$478,COLUMN(),FALSE))","v":""}]
[null,{"$f":"IF($G315=\"\",\"\",VLOOKUP($G315,Lists!$BL$2:$BQ$478,COLUMN(),FALSE))","v":""},{"$f":"IF($G315=\"\",\"\",VLOOKUP($G315,Lists!$BL$2:$BQ$478,COLUMN(),FALSE))","v":""},{"$f":"IF($G315=\"\",\"\",VLOOKUP($G315,Lists!$BL$2:$BQ$478,COLUMN(),FALSE))","v":""},{"$f":"IF($G315=\"\",\"\",VLOOKUP($G315,Lists!$BL$2:$BQ$478,COLUMN(),FALSE))","v":""},{"$f":"IF($G315=\"\",\"\",VLOOKUP($G315,Lists!$BL$2:$BQ$478,COLUMN(),FALSE))","v":""}]
[null,{"$f":"IF($G316=\"\",\"\",VLOOKUP($G316,Lists!$BL$2:$BQ$478,COLUMN(),FALSE))","v":""},{"$f":"IF($G316=\"\",\"\",VLOOKUP($G316,Lists!$BL$2:$BQ$478,COLUMN(),FALSE))","v":""},{"$f":"IF($G316=\"\",\"\",VLOOKUP($G316,Lists!$BL$2:$BQ$478,COLUMN(),FALSE))","v":""},{"$f":"IF($G316=\"\",\"\",VLOOKUP($G316,Lists!$BL$2:$BQ$478,COLUMN(),FALSE))","v":""},{"$f":"IF($G316=\"\",\"\",VLOOKUP($G316,Lists!$BL$2:$BQ$478,COLUMN(),FALSE))","v":""}]
[null,{"$f":"IF($G317=\"\",\"\",VLOOKUP($G317,Lists!$BL$2:$BQ$478,COLUMN(),FALSE))","v":""},{"$f":"IF($G317=\"\",\"\",VLOOKUP($G317,Lists!$BL$2:$BQ$478,COLUMN(),FALSE))","v":""},{"$f":"IF($G317=\"\",\"\",VLOOKUP($G317,Lists!$BL$2:$BQ$478,COLUMN(),FALSE))","v":""},{"$f":"IF($G317=\"\",\"\",VLOOKUP($G317,Lists!$BL$2:$BQ$478,COLUMN(),FALSE))","v":""},{"$f":"IF($G317=\"\",\"\",VLOOKUP($G317,Lists!$BL$2:$BQ$478,COLUMN(),FALSE))","v":""}]
[null,{"$f":"IF($G318=\"\",\"\",VLOOKUP($G318,Lists!$BL$2:$BQ$478,COLUMN(),FALSE))","v":""},{"$f":"IF($G318=\"\",\"\",VLOOKUP($G318,Lists!$BL$2:$BQ$478,COLUMN(),FALSE))","v":""},{"$f":"IF($G318=\"\",\"\",VLOOKUP($G318,Lists!$BL$2:$BQ$478,COLUMN(),FALSE))","v":""},{"$f":"IF($G318=\"\",\"\",VLOOKUP($G318,Lists!$BL$2:$BQ$478,COLUMN(),FALSE))","v":""},{"$f":"IF($G318=\"\",\"\",VLOOKUP($G318,Lists!$BL$2:$BQ$478,COLUMN(),FALSE))","v":""}]
[null,{"$f":"IF($G319=\"\",\"\",VLOOKUP($G319,Lists!$BL$2:$BQ$478,COLUMN(),FALSE))","v":""},{"$f":"IF($G319=\"\",\"\",VLOOKUP($G319,Lists!$BL$2:$BQ$478,COLUMN(),FALSE))","v":""},{"$f":"IF($G319=\"\",\"\",VLOOKUP($G319,Lists!$BL$2:$BQ$478,COLUMN(),FALSE))","v":""},{"$f":"IF($G319=\"\",\"\",VLOOKUP($G319,Lists!$BL$2:$BQ$478,COLUMN(),FALSE))","v":""},{"$f":"IF($G319=\"\",\"\",VLOOKUP($G319,Lists!$BL$2:$BQ$478,COLUMN(),FALSE))","v":""}]
[null,{"$f":"IF($G320=\"\",\"\",VLOOKUP($G320,Lists!$BL$2:$BQ$478,COLUMN(),FALSE))","v":""},{"$f":"IF($G320=\"\",\"\",VLOOKUP($G320,Lists!$BL$2:$BQ$478,COLUMN(),FALSE))","v":""},{"$f":"IF($G320=\"\",\"\",VLOOKUP($G320,Lists!$BL$2:$BQ$478,COLUMN(),FALSE))","v":""},{"$f":"IF($G320=\"\",\"\",VLOOKUP($G320,Lists!$BL$2:$BQ$478,COLUMN(),FALSE))","v":""},{"$f":"IF($G320=\"\",\"\",VLOOKUP($G320,Lists!$BL$2:$BQ$478,COLUMN(),FALSE))","v":""}]
[null,{"$f":"IF($G321=\"\",\"\",VLOOKUP($G321,Lists!$BL$2:$BQ$478,COLUMN(),FALSE))","v":""},{"$f":"IF($G321=\"\",\"\",VLOOKUP($G321,Lists!$BL$2:$BQ$478,COLUMN(),FALSE))","v":""},{"$f":"IF($G321=\"\",\"\",VLOOKUP($G321,Lists!$BL$2:$BQ$478,COLUMN(),FALSE))","v":""},{"$f":"IF($G321=\"\",\"\",VLOOKUP($G321,Lists!$BL$2:$BQ$478,COLUMN(),FALSE))","v":""},{"$f":"IF($G321=\"\",\"\",VLOOKUP($G321,Lists!$BL$2:$BQ$478,COLUMN(),FALSE))","v":""}]
[null,{"$f":"IF($G322=\"\",\"\",VLOOKUP($G322,Lists!$BL$2:$BQ$478,COLUMN(),FALSE))","v":""},{"$f":"IF($G322=\"\",\"\",VLOOKUP($G322,Lists!$BL$2:$BQ$478,COLUMN(),FALSE))","v":""},{"$f":"IF($G322=\"\",\"\",VLOOKUP($G322,Lists!$BL$2:$BQ$478,COLUMN(),FALSE))","v":""},{"$f":"IF($G322=\"\",\"\",VLOOKUP($G322,Lists!$BL$2:$BQ$478,COLUMN(),FALSE))","v":""},{"$f":"IF($G322=\"\",\"\",VLOOKUP($G322,Lists!$BL$2:$BQ$478,COLUMN(),FALSE))","v":""}]
[null,{"$f":"IF($G323=\"\",\"\",VLOOKUP($G323,Lists!$BL$2:$BQ$478,COLUMN(),FALSE))","v":""},{"$f":"IF($G323=\"\",\"\",VLOOKUP($G323,Lists!$BL$2:$BQ$478,COLUMN(),FALSE))","v":""},{"$f":"IF($G323=\"\",\"\",VLOOKUP($G323,Lists!$BL$2:$BQ$478,COLUMN(),FALSE))","v":""},{"$f":"IF($G323=\"\",\"\",VLOOKUP($G323,Lists!$BL$2:$BQ$478,COLUMN(),FALSE))","v":""},{"$f":"IF($G323=\"\",\"\",VLOOKUP($G323,Lists!$BL$2:$BQ$478,COLUMN(),FALSE))","v":""}]
[null,{"$f":"IF($G324=\"\",\"\",VLOOKUP($G324,Lists!$BL$2:$BQ$478,COLUMN(),FALSE))","v":""},{"$f":"IF($G324=\"\",\"\",VLOOKUP($G324,Lists!$BL$2:$BQ$478,COLUMN(),FALSE))","v":""},{"$f":"IF($G324=\"\",\"\",VLOOKUP($G324,Lists!$BL$2:$BQ$478,COLUMN(),FALSE))","v":""},{"$f":"IF($G324=\"\",\"\",VLOOKUP($G324,Lists!$BL$2:$BQ$478,COLUMN(),FALSE))","v":""},{"$f":"IF($G324=\"\",\"\",VLOOKUP($G324,Lists!$BL$2:$BQ$478,COLUMN(),FALSE))","v":""}]
[null,{"$f":"IF($G325=\"\",\"\",VLOOKUP($G325,Lists!$BL$2:$BQ$478,COLUMN(),FALSE))","v":""},{"$f":"IF($G325=\"\",\"\",VLOOKUP($G325,Lists!$BL$2:$BQ$478,COLUMN(),FALSE))","v":""},{"$f":"IF($G325=\"\",\"\",VLOOKUP($G325,Lists!$BL$2:$BQ$478,COLUMN(),FALSE))","v":""},{"$f":"IF($G325=\"\",\"\",VLOOKUP($G325,Lists!$BL$2:$BQ$478,COLUMN(),FALSE))","v":""},{"$f":"IF($G325=\"\",\"\",VLOOKUP($G325,Lists!$BL$2:$BQ$478,COLUMN(),FALSE))","v":""}]
[null,{"$f":"IF($G326=\"\",\"\",VLOOKUP($G326,Lists!$BL$2:$BQ$478,COLUMN(),FALSE))","v":""},{"$f":"IF($G326=\"\",\"\",VLOOKUP($G326,Lists!$BL$2:$BQ$478,COLUMN(),FALSE))","v":""},{"$f":"IF($G326=\"\",\"\",VLOOKUP($G326,Lists!$BL$2:$BQ$478,COLUMN(),FALSE))","v":""},{"$f":"IF($G326=\"\",\"\",VLOOKUP($G326,Lists!$BL$2:$BQ$478,COLUMN(),FALSE))","v":""},{"$f":"IF($G326=\"\",\"\",VLOOKUP($G326,Lists!$BL$2:$BQ$478,COLUMN(),FALSE))","v":""}]
[null,{"$f":"IF($G327=\"\",\"\",VLOOKUP($G327,Lists!$BL$2:$BQ$478,COLUMN(),FALSE))","v":""},{"$f":"IF($G327=\"\",\"\",VLOOKUP($G327,Lists!$BL$2:$BQ$478,COLUMN(),FALSE))","v":""},{"$f":"IF($G327=\"\",\"\",VLOOKUP($G327,Lists!$BL$2:$BQ$478,COLUMN(),FALSE))","v":""},{"$f":"IF($G327=\"\",\"\",VLOOKUP($G327,Lists!$BL$2:$BQ$478,COLUMN(),FALSE))","v":""},{"$f":"IF($G327=\"\",\"\",VLOOKUP($G327,Lists!$BL$2:$BQ$478,COLUMN(),FALSE))","v":""}]
[null,{"$f":"IF($G328=\"\",\"\",VLOOKUP($G328,Lists!$BL$2:$BQ$478,COLUMN(),FALSE))","v":""},{"$f":"IF($G328=\"\",\"\",VLOOKUP($G328,Lists!$BL$2:$BQ$478,COLUMN(),FALSE))","v":""},{"$f":"IF($G328=\"\",\"\",VLOOKUP($G328,Lists!$BL$2:$BQ$478,COLUMN(),FALSE))","v":""},{"$f":"IF($G328=\"\",\"\",VLOOKUP($G328,Lists!$BL$2:$BQ$478,COLUMN(),FALSE))","v":""},{"$f":"IF($G328=\"\",\"\",VLOOKUP($G328,Lists!$BL$2:$BQ$478,COLUMN(),FALSE))","v":""}]
[null,{"$f":"IF($G329=\"\",\"\",VLOOKUP($G329,Lists!$BL$2:$BQ$478,COLUMN(),FALSE))","v":""},{"$f":"IF($G329=\"\",\"\",VLOOKUP($G329,Lists!$BL$2:$BQ$478,COLUMN(),FALSE))","v":""},{"$f":"IF($G329=\"\",\"\",VLOOKUP($G329,Lists!$BL$2:$BQ$478,COLUMN(),FALSE))","v":""},{"$f":"IF($G329=\"\",\"\",VLOOKUP($G329,Lists!$BL$2:$BQ$478,COLUMN(),FALSE))","v":""},{"$f":"IF($G329=\"\",\"\",VLOOKUP($G329,Lists!$BL$2:$BQ$478,COLUMN(),FALSE))","v":""}]
[null,{"$f":"IF($G330=\"\",\"\",VLOOKUP($G330,Lists!$BL$2:$BQ$478,COLUMN(),FALSE))","v":""},{"$f":"IF($G330=\"\",\"\",VLOOKUP($G330,Lists!$BL$2:$BQ$478,COLUMN(),FALSE))","v":""},{"$f":"IF($G330=\"\",\"\",VLOOKUP($G330,Lists!$BL$2:$BQ$478,COLUMN(),FALSE))","v":""},{"$f":"IF($G330=\"\",\"\",VLOOKUP($G330,Lists!$BL$2:$BQ$478,COLUMN(),FALSE))","v":""},{"$f":"IF($G330=\"\",\"\",VLOOKUP($G330,Lists!$BL$2:$BQ$478,COLUMN(),FALSE))","v":""}]
[null,{"$f":"IF($G331=\"\",\"\",VLOOKUP($G331,Lists!$BL$2:$BQ$478,COLUMN(),FALSE))","v":""},{"$f":"IF($G331=\"\",\"\",VLOOKUP($G331,Lists!$BL$2:$BQ$478,COLUMN(),FALSE))","v":""},{"$f":"IF($G331=\"\",\"\",VLOOKUP($G331,Lists!$BL$2:$BQ$478,COLUMN(),FALSE))","v":""},{"$f":"IF($G331=\"\",\"\",VLOOKUP($G331,Lists!$BL$2:$BQ$478,COLUMN(),FALSE))","v":""},{"$f":"IF($G331=\"\",\"\",VLOOKUP($G331,Lists!$BL$2:$BQ$478,COLUMN(),FALSE))","v":""}]
[null,{"$f":"IF($G332=\"\",\"\",VLOOKUP($G332,Lists!$BL$2:$BQ$478,COLUMN(),FALSE))","v":""},{"$f":"IF($G332=\"\",\"\",VLOOKUP($G332,Lists!$BL$2:$BQ$478,COLUMN(),FALSE))","v":""},{"$f":"IF($G332=\"\",\"\",VLOOKUP($G332,Lists!$BL$2:$BQ$478,COLUMN(),FALSE))","v":""},{"$f":"IF($G332=\"\",\"\",VLOOKUP($G332,Lists!$BL$2:$BQ$478,COLUMN(),FALSE))","v":""},{"$f":"IF($G332=\"\",\"\",VLOOKUP($G332,Lists!$BL$2:$BQ$478,COLUMN(),FALSE))","v":""}]
[null,{"$f":"IF($G333=\"\",\"\",VLOOKUP($G333,Lists!$BL$2:$BQ$478,COLUMN(),FALSE))","v":""},{"$f":"IF($G333=\"\",\"\",VLOOKUP($G333,Lists!$BL$2:$BQ$478,COLUMN(),FALSE))","v":""},{"$f":"IF($G333=\"\",\"\",VLOOKUP($G333,Lists!$BL$2:$BQ$478,COLUMN(),FALSE))","v":""},{"$f":"IF($G333=\"\",\"\",VLOOKUP($G333,Lists!$BL$2:$BQ$478,COLUMN(),FALSE))","v":""},{"$f":"IF($G333=\"\",\"\",VLOOKUP($G333,Lists!$BL$2:$BQ$478,COLUMN(),FALSE))","v":""}]
[null,{"$f":"IF($G334=\"\",\"\",VLOOKUP($G334,Lists!$BL$2:$BQ$478,COLUMN(),FALSE))","v":""},{"$f":"IF($G334=\"\",\"\",VLOOKUP($G334,Lists!$BL$2:$BQ$478,COLUMN(),FALSE))","v":""},{"$f":"IF($G334=\"\",\"\",VLOOKUP($G334,Lists!$BL$2:$BQ$478,COLUMN(),FALSE))","v":""},{"$f":"IF($G334=\"\",\"\",VLOOKUP($G334,Lists!$BL$2:$BQ$478,COLUMN(),FALSE))","v":""},{"$f":"IF($G334=\"\",\"\",VLOOKUP($G334,Lists!$BL$2:$BQ$478,COLUMN(),FALSE))","v":""}]
[null,{"$f":"IF($G335=\"\",\"\",VLOOKUP($G335,Lists!$BL$2:$BQ$478,COLUMN(),FALSE))","v":""},{"$f":"IF($G335=\"\",\"\",VLOOKUP($G335,Lists!$BL$2:$BQ$478,COLUMN(),FALSE))","v":""},{"$f":"IF($G335=\"\",\"\",VLOOKUP($G335,Lists!$BL$2:$BQ$478,COLUMN(),FALSE))","v":""},{"$f":"IF($G335=\"\",\"\",VLOOKUP($G335,Lists!$BL$2:$BQ$478,COLUMN(),FALSE))","v":""},{"$f":"IF($G335=\"\",\"\",VLOOKUP($G335,Lists!$BL$2:$BQ$478,COLUMN(),FALSE))","v":""}]
[null,{"$f":"IF($G336=\"\",\"\",VLOOKUP($G336,Lists!$BL$2:$BQ$478,COLUMN(),FALSE))","v":""},{"$f":"IF($G336=\"\",\"\",VLOOKUP($G336,Lists!$BL$2:$BQ$478,COLUMN(),FALSE))","v":""},{"$f":"IF($G336=\"\",\"\",VLOOKUP($G336,Lists!$BL$2:$BQ$478,COLUMN(),FALSE))","v":""},{"$f":"IF($G336=\"\",\"\",VLOOKUP($G336,Lists!$BL$2:$BQ$478,COLUMN(),FALSE))","v":""},{"$f":"IF($G336=\"\",\"\",VLOOKUP($G336,Lists!$BL$2:$BQ$478,COLUMN(),FALSE))","v":""}]
[null,{"$f":"IF($G337=\"\",\"\",VLOOKUP($G337,Lists!$BL$2:$BQ$478,COLUMN(),FALSE))","v":""},{"$f":"IF($G337=\"\",\"\",VLOOKUP($G337,Lists!$BL$2:$BQ$478,COLUMN(),FALSE))","v":""},{"$f":"IF($G337=\"\",\"\",VLOOKUP($G337,Lists!$BL$2:$BQ$478,COLUMN(),FALSE))","v":""},{"$f":"IF($G337=\"\",\"\",VLOOKUP($G337,Lists!$BL$2:$BQ$478,COLUMN(),FALSE))","v":""},{"$f":"IF($G337=\"\",\"\",VLOOKUP($G337,Lists!$BL$2:$BQ$478,COLUMN(),FALSE))","v":""}]
[null,{"$f":"IF($G338=\"\",\"\",VLOOKUP($G338,Lists!$BL$2:$BQ$478,COLUMN(),FALSE))","v":""},{"$f":"IF($G338=\"\",\"\",VLOOKUP($G338,Lists!$BL$2:$BQ$478,COLUMN(),FALSE))","v":""},{"$f":"IF($G338=\"\",\"\",VLOOKUP($G338,Lists!$BL$2:$BQ$478,COLUMN(),FALSE))","v":""},{"$f":"IF($G338=\"\",\"\",VLOOKUP($G338,Lists!$BL$2:$BQ$478,COLUMN(),FALSE))","v":""},{"$f":"IF($G338=\"\",\"\",VLOOKUP($G338,Lists!$BL$2:$BQ$478,COLUMN(),FALSE))","v":""}]
[null,{"$f":"IF($G339=\"\",\"\",VLOOKUP($G339,Lists!$BL$2:$BQ$478,COLUMN(),FALSE))","v":""},{"$f":"IF($G339=\"\",\"\",VLOOKUP($G339,Lists!$BL$2:$BQ$478,COLUMN(),FALSE))","v":""},{"$f":"IF($G339=\"\",\"\",VLOOKUP($G339,Lists!$BL$2:$BQ$478,COLUMN(),FALSE))","v":""},{"$f":"IF($G339=\"\",\"\",VLOOKUP($G339,Lists!$BL$2:$BQ$478,COLUMN(),FALSE))","v":""},{"$f":"IF($G339=\"\",\"\",VLOOKUP($G339,Lists!$BL$2:$BQ$478,COLUMN(),FALSE))","v":""}]
[null,{"$f":"IF($G340=\"\",\"\",VLOOKUP($G340,Lists!$BL$2:$BQ$478,COLUMN(),FALSE))","v":""},{"$f":"IF($G340=\"\",\"\",VLOOKUP($G340,Lists!$BL$2:$BQ$478,COLUMN(),FALSE))","v":""},{"$f":"IF($G340=\"\",\"\",VLOOKUP($G340,Lists!$BL$2:$BQ$478,COLUMN(),FALSE))","v":""},{"$f":"IF($G340=\"\",\"\",VLOOKUP($G340,Lists!$BL$2:$BQ$478,COLUMN(),FALSE))","v":""},{"$f":"IF($G340=\"\",\"\",VLOOKUP($G340,Lists!$BL$2:$BQ$478,COLUMN(),FALSE))","v":""}]
[null,{"$f":"IF($G341=\"\",\"\",VLOOKUP($G341,Lists!$BL$2:$BQ$478,COLUMN(),FALSE))","v":""},{"$f":"IF($G341=\"\",\"\",VLOOKUP($G341,Lists!$BL$2:$BQ$478,COLUMN(),FALSE))","v":""},{"$f":"IF($G341=\"\",\"\",VLOOKUP($G341,Lists!$BL$2:$BQ$478,COLUMN(),FALSE))","v":""},{"$f":"IF($G341=\"\",\"\",VLOOKUP($G341,Lists!$BL$2:$BQ$478,COLUMN(),FALSE))","v":""},{"$f":"IF($G341=\"\",\"\",VLOOKUP($G341,Lists!$BL$2:$BQ$478,COLUMN(),FALSE))","v":""}]
[null,{"$f":"IF($G342=\"\",\"\",VLOOKUP($G342,Lists!$BL$2:$BQ$478,COLUMN(),FALSE))","v":""},{"$f":"IF($G342=\"\",\"\",VLOOKUP($G342,Lists!$BL$2:$BQ$478,COLUMN(),FALSE))","v":""},{"$f":"IF($G342=\"\",\"\",VLOOKUP($G342,Lists!$BL$2:$BQ$478,COLUMN(),FALSE))","v":""},{"$f":"IF($G342=\"\",\"\",VLOOKUP($G342,Lists!$BL$2:$BQ$478,COLUMN(),FALSE))","v":""},{"$f":"IF($G342=\"\",\"\",VLOOKUP($G342,Lists!$BL$2:$BQ$478,COLUMN(),FALSE))","v":""}]
[null,{"$f":"IF($G343=\"\",\"\",VLOOKUP($G343,Lists!$BL$2:$BQ$478,COLUMN(),FALSE))","v":""},{"$f":"IF($G343=\"\",\"\",VLOOKUP($G343,Lists!$BL$2:$BQ$478,COLUMN(),FALSE))","v":""},{"$f":"IF($G343=\"\",\"\",VLOOKUP($G343,Lists!$BL$2:$BQ$478,COLUMN(),FALSE))","v":""},{"$f":"IF($G343=\"\",\"\",VLOOKUP($G343,Lists!$BL$2:$BQ$478,COLUMN(),FALSE))","v":""},{"$f":"IF($G343=\"\",\"\",VLOOKUP($G343,Lists!$BL$2:$BQ$478,COLUMN(),FALSE))","v":""}]
[null,{"$f":"IF($G344=\"\",\"\",VLOOKUP($G344,Lists!$BL$2:$BQ$478,COLUMN(),FALSE))","v":""},{"$f":"IF($G344=\"\",\"\",VLOOKUP($G344,Lists!$BL$2:$BQ$478,COLUMN(),FALSE))","v":""},{"$f":"IF($G344=\"\",\"\",VLOOKUP($G344,Lists!$BL$2:$BQ$478,COLUMN(),FALSE))","v":""},{"$f":"IF($G344=\"\",\"\",VLOOKUP($G344,Lists!$BL$2:$BQ$478,COLUMN(),FALSE))","v":""},{"$f":"IF($G344=\"\",\"\",VLOOKUP($G344,Lists!$BL$2:$BQ$478,COLUMN(),FALSE))","v":""}]
[null,{"$f":"IF($G345=\"\",\"\",VLOOKUP($G345,Lists!$BL$2:$BQ$478,COLUMN(),FALSE))","v":""},{"$f":"IF($G345=\"\",\"\",VLOOKUP($G345,Lists!$BL$2:$BQ$478,COLUMN(),FALSE))","v":""},{"$f":"IF($G345=\"\",\"\",VLOOKUP($G345,Lists!$BL$2:$BQ$478,COLUMN(),FALSE))","v":""},{"$f":"IF($G345=\"\",\"\",VLOOKUP($G345,Lists!$BL$2:$BQ$478,COLUMN(),FALSE))","v":""},{"$f":"IF($G345=\"\",\"\",VLOOKUP($G345,Lists!$BL$2:$BQ$478,COLUMN(),FALSE))","v":""}]
[null,{"$f":"IF($G346=\"\",\"\",VLOOKUP($G346,Lists!$BL$2:$BQ$478,COLUMN(),FALSE))","v":""},{"$f":"IF($G346=\"\",\"\",VLOOKUP($G346,Lists!$BL$2:$BQ$478,COLUMN(),FALSE))","v":""},{"$f":"IF($G346=\"\",\"\",VLOOKUP($G346,Lists!$BL$2:$BQ$478,COLUMN(),FALSE))","v":""},{"$f":"IF($G346=\"\",\"\",VLOOKUP($G346,Lists!$BL$2:$BQ$478,COLUMN(),FALSE))","v":""},{"$f":"IF($G346=\"\",\"\",VLOOKUP($G346,Lists!$BL$2:$BQ$478,COLUMN(),FALSE))","v":""}]
[null,{"$f":"IF($G347=\"\",\"\",VLOOKUP($G347,Lists!$BL$2:$BQ$478,COLUMN(),FALSE))","v":""},{"$f":"IF($G347=\"\",\"\",VLOOKUP($G347,Lists!$BL$2:$BQ$478,COLUMN(),FALSE))","v":""},{"$f":"IF($G347=\"\",\"\",VLOOKUP($G347,Lists!$BL$2:$BQ$478,COLUMN(),FALSE))","v":""},{"$f":"IF($G347=\"\",\"\",VLOOKUP($G347,Lists!$BL$2:$BQ$478,COLUMN(),FALSE))","v":""},{"$f":"IF($G347=\"\",\"\",VLOOKUP($G347,Lists!$BL$2:$BQ$478,COLUMN(),FALSE))","v":""}]
[null,{"$f":"IF($G348=\"\",\"\",VLOOKUP($G348,Lists!$BL$2:$BQ$478,COLUMN(),FALSE))","v":""},{"$f":"IF($G348=\"\",\"\",VLOOKUP($G348,Lists!$BL$2:$BQ$478,COLUMN(),FALSE))","v":""},{"$f":"IF($G348=\"\",\"\",VLOOKUP($G348,Lists!$BL$2:$BQ$478,COLUMN(),FALSE))","v":""},{"$f":"IF($G348=\"\",\"\",VLOOKUP($G348,Lists!$BL$2:$BQ$478,COLUMN(),FALSE))","v":""},{"$f":"IF($G348=\"\",\"\",VLOOKUP($G348,Lists!$BL$2:$BQ$478,COLUMN(),FALSE))","v":""}]
[null,{"$f":"IF($G349=\"\",\"\",VLOOKUP($G349,Lists!$BL$2:$BQ$478,COLUMN(),FALSE))","v":""},{"$f":"IF($G349=\"\",\"\",VLOOKUP($G349,Lists!$BL$2:$BQ$478,COLUMN(),FALSE))","v":""},{"$f":"IF($G349=\"\",\"\",VLOOKUP($G349,Lists!$BL$2:$BQ$478,COLUMN(),FALSE))","v":""},{"$f":"IF($G349=\"\",\"\",VLOOKUP($G349,Lists!$BL$2:$BQ$478,COLUMN(),FALSE))","v":""},{"$f":"IF($G349=\"\",\"\",VLOOKUP($G349,Lists!$BL$2:$BQ$478,COLUMN(),FALSE))","v":""}]
[null,{"$f":"IF($G350=\"\",\"\",VLOOKUP($G350,Lists!$BL$2:$BQ$478,COLUMN(),FALSE))","v":""},{"$f":"IF($G350=\"\",\"\",VLOOKUP($G350,Lists!$BL$2:$BQ$478,COLUMN(),FALSE))","v":""},{"$f":"IF($G350=\"\",\"\",VLOOKUP($G350,Lists!$BL$2:$BQ$478,COLUMN(),FALSE))","v":""},{"$f":"IF($G350=\"\",\"\",VLOOKUP($G350,Lists!$BL$2:$BQ$478,COLUMN(),FALSE))","v":""},{"$f":"IF($G350=\"\",\"\",VLOOKUP($G350,Lists!$BL$2:$BQ$478,COLUMN(),FALSE))","v":""}]
[null,{"$f":"IF($G351=\"\",\"\",VLOOKUP($G351,Lists!$BL$2:$BQ$478,COLUMN(),FALSE))","v":""},{"$f":"IF($G351=\"\",\"\",VLOOKUP($G351,Lists!$BL$2:$BQ$478,COLUMN(),FALSE))","v":""},{"$f":"IF($G351=\"\",\"\",VLOOKUP($G351,Lists!$BL$2:$BQ$478,COLUMN(),FALSE))","v":""},{"$f":"IF($G351=\"\",\"\",VLOOKUP($G351,Lists!$BL$2:$BQ$478,COLUMN(),FALSE))","v":""},{"$f":"IF($G351=\"\",\"\",VLOOKUP($G351,Lists!$BL$2:$BQ$478,COLUMN(),FALSE))","v":""}]
[null,{"$f":"IF($G352=\"\",\"\",VLOOKUP($G352,Lists!$BL$2:$BQ$478,COLUMN(),FALSE))","v":""},{"$f":"IF($G352=\"\",\"\",VLOOKUP($G352,Lists!$BL$2:$BQ$478,COLUMN(),FALSE))","v":""},{"$f":"IF($G352=\"\",\"\",VLOOKUP($G352,Lists!$BL$2:$BQ$478,COLUMN(),FALSE))","v":""},{"$f":"IF($G352=\"\",\"\",VLOOKUP($G352,Lists!$BL$2:$BQ$478,COLUMN(),FALSE))","v":""},{"$f":"IF($G352=\"\",\"\",VLOOKUP($G352,Lists!$BL$2:$BQ$478,COLUMN(),FALSE))","v":""}]
[null,{"$f":"IF($G353=\"\",\"\",VLOOKUP($G353,Lists!$BL$2:$BQ$478,COLUMN(),FALSE))","v":""},{"$f":"IF($G353=\"\",\"\",VLOOKUP($G353,Lists!$BL$2:$BQ$478,COLUMN(),FALSE))","v":""},{"$f":"IF($G353=\"\",\"\",VLOOKUP($G353,Lists!$BL$2:$BQ$478,COLUMN(),FALSE))","v":""},{"$f":"IF($G353=\"\",\"\",VLOOKUP($G353,Lists!$BL$2:$BQ$478,COLUMN(),FALSE))","v":""},{"$f":"IF($G353=\"\",\"\",VLOOKUP($G353,Lists!$BL$2:$BQ$478,COLUMN(),FALSE))","v":""}]
[null,{"$f":"IF($G354=\"\",\"\",VLOOKUP($G354,Lists!$BL$2:$BQ$478,COLUMN(),FALSE))","v":""},{"$f":"IF($G354=\"\",\"\",VLOOKUP($G354,Lists!$BL$2:$BQ$478,COLUMN(),FALSE))","v":""},{"$f":"IF($G354=\"\",\"\",VLOOKUP($G354,Lists!$BL$2:$BQ$478,COLUMN(),FALSE))","v":""},{"$f":"IF($G354=\"\",\"\",VLOOKUP($G354,Lists!$BL$2:$BQ$478,COLUMN(),FALSE))","v":""},{"$f":"IF($G354=\"\",\"\",VLOOKUP($G354,Lists!$BL$2:$BQ$478,COLUMN(),FALSE))","v":""}]
[null,{"$f":"IF($G355=\"\",\"\",VLOOKUP($G355,Lists!$BL$2:$BQ$478,COLUMN(),FALSE))","v":""},{"$f":"IF($G355=\"\",\"\",VLOOKUP($G355,Lists!$BL$2:$BQ$478,COLUMN(),FALSE))","v":""},{"$f":"IF($G355=\"\",\"\",VLOOKUP($G355,Lists!$BL$2:$BQ$478,COLUMN(),FALSE))","v":""},{"$f":"IF($G355=\"\",\"\",VLOOKUP($G355,Lists!$BL$2:$BQ$478,COLUMN(),FALSE))","v":""},{"$f":"IF($G355=\"\",\"\",VLOOKUP($G355,Lists!$BL$2:$BQ$478,COLUMN(),FALSE))","v":""}]
[null,{"$f":"IF($G356=\"\",\"\",VLOOKUP($G356,Lists!$BL$2:$BQ$478,COLUMN(),FALSE))","v":""},{"$f":"IF($G356=\"\",\"\",VLOOKUP($G356,Lists!$BL$2:$BQ$478,COLUMN(),FALSE))","v":""},{"$f":"IF($G356=\"\",\"\",VLOOKUP($G356,Lists!$BL$2:$BQ$478,COLUMN(),FALSE))","v":""},{"$f":"IF($G356=\"\",\"\",VLOOKUP($G356,Lists!$BL$2:$BQ$478,COLUMN(),FALSE))","v":""},{"$f":"IF($G356=\"\",\"\",VLOOKUP($G356,Lists!$BL$2:$BQ$478,COLUMN(),FALSE))","v":""}]
[null,{"$f":"IF($G357=\"\",\"\",VLOOKUP($G357,Lists!$BL$2:$BQ$478,COLUMN(),FALSE))","v":""},{"$f":"IF($G357=\"\",\"\",VLOOKUP($G357,Lists!$BL$2:$BQ$478,COLUMN(),FALSE))","v":""},{"$f":"IF($G357=\"\",\"\",VLOOKUP($G357,Lists!$BL$2:$BQ$478,COLUMN(),FALSE))","v":""},{"$f":"IF($G357=\"\",\"\",VLOOKUP($G357,Lists!$BL$2:$BQ$478,COLUMN(),FALSE))","v":""},{"$f":"IF($G357=\"\",\"\",VLOOKUP($G357,Lists!$BL$2:$BQ$478,COLUMN(),FALSE))","v":""}]
[null,{"$f":"IF($G358=\"\",\"\",VLOOKUP($G358,Lists!$BL$2:$BQ$478,COLUMN(),FALSE))","v":""},{"$f":"IF($G358=\"\",\"\",VLOOKUP($G358,Lists!$BL$2:$BQ$478,COLUMN(),FALSE))","v":""},{"$f":"IF($G358=\"\",\"\",VLOOKUP($G358,Lists!$BL$2:$BQ$478,COLUMN(),FALSE))","v":""},{"$f":"IF($G358=\"\",\"\",VLOOKUP($G358,Lists!$BL$2:$BQ$478,COLUMN(),FALSE))","v":""},{"$f":"IF($G358=\"\",\"\",VLOOKUP($G358,Lists!$BL$2:$BQ$478,COLUMN(),FALSE))","v":""}]
[null,{"$f":"IF($G359=\"\",\"\",VLOOKUP($G359,Lists!$BL$2:$BQ$478,COLUMN(),FALSE))","v":""},{"$f":"IF($G359=\"\",\"\",VLOOKUP($G359,Lists!$BL$2:$BQ$478,COLUMN(),FALSE))","v":""},{"$f":"IF($G359=\"\",\"\",VLOOKUP($G359,Lists!$BL$2:$BQ$478,COLUMN(),FALSE))","v":""},{"$f":"IF($G359=\"\",\"\",VLOOKUP($G359,Lists!$BL$2:$BQ$478,COLUMN(),FALSE))","v":""},{"$f":"IF($G359=\"\",\"\",VLOOKUP($G359,Lists!$BL$2:$BQ$478,COLUMN(),FALSE))","v":""}]
[null,{"$f":"IF($G360=\"\",\"\",VLOOKUP($G360,Lists!$BL$2:$BQ$478,COLUMN(),FALSE))","v":""},{"$f":"IF($G360=\"\",\"\",VLOOKUP($G360,Lists!$BL$2:$BQ$478,COLUMN(),FALSE))","v":""},{"$f":"IF($G360=\"\",\"\",VLOOKUP($G360,Lists!$BL$2:$BQ$478,COLUMN(),FALSE))","v":""},{"$f":"IF($G360=\"\",\"\",VLOOKUP($G360,Lists!$BL$2:$BQ$478,COLUMN(),FALSE))","v":""},{"$f":"IF($G360=\"\",\"\",VLOOKUP($G360,Lists!$BL$2:$BQ$478,COLUMN(),FALSE))","v":""}]
[null,{"$f":"IF($G361=\"\",\"\",VLOOKUP($G361,Lists!$BL$2:$BQ$478,COLUMN(),FALSE))","v":""},{"$f":"IF($G361=\"\",\"\",VLOOKUP($G361,Lists!$BL$2:$BQ$478,COLUMN(),FALSE))","v":""},{"$f":"IF($G361=\"\",\"\",VLOOKUP($G361,Lists!$BL$2:$BQ$478,COLUMN(),FALSE))","v":""},{"$f":"IF($G361=\"\",\"\",VLOOKUP($G361,Lists!$BL$2:$BQ$478,COLUMN(),FALSE))","v":""},{"$f":"IF($G361=\"\",\"\",VLOOKUP($G361,Lists!$BL$2:$BQ$478,COLUMN(),FALSE))","v":""}]
[null,{"$f":"IF($G362=\"\",\"\",VLOOKUP($G362,Lists!$BL$2:$BQ$478,COLUMN(),FALSE))","v":""},{"$f":"IF($G362=\"\",\"\",VLOOKUP($G362,Lists!$BL$2:$BQ$478,COLUMN(),FALSE))","v":""},{"$f":"IF($G362=\"\",\"\",VLOOKUP($G362,Lists!$BL$2:$BQ$478,COLUMN(),FALSE))","v":""},{"$f":"IF($G362=\"\",\"\",VLOOKUP($G362,Lists!$BL$2:$BQ$478,COLUMN(),FALSE))","v":""},{"$f":"IF($G362=\"\",\"\",VLOOKUP($G362,Lists!$BL$2:$BQ$478,COLUMN(),FALSE))","v":""}]
[null,{"$f":"IF($G363=\"\",\"\",VLOOKUP($G363,Lists!$BL$2:$BQ$478,COLUMN(),FALSE))","v":""},{"$f":"IF($G363=\"\",\"\",VLOOKUP($G363,Lists!$BL$2:$BQ$478,COLUMN(),FALSE))","v":""},{"$f":"IF($G363=\"\",\"\",VLOOKUP($G363,Lists!$BL$2:$BQ$478,COLUMN(),FALSE))","v":""},{"$f":"IF($G363=\"\",\"\",VLOOKUP($G363,Lists!$BL$2:$BQ$478,COLUMN(),FALSE))","v":""},{"$f":"IF($G363=\"\",\"\",VLOOKUP($G363,Lists!$BL$2:$BQ$478,COLUMN(),FALSE))","v":""}]
[null,{"$f":"IF($G364=\"\",\"\",VLOOKUP($G364,Lists!$BL$2:$BQ$478,COLUMN(),FALSE))","v":""},{"$f":"IF($G364=\"\",\"\",VLOOKUP($G364,Lists!$BL$2:$BQ$478,COLUMN(),FALSE))","v":""},{"$f":"IF($G364=\"\",\"\",VLOOKUP($G364,Lists!$BL$2:$BQ$478,COLUMN(),FALSE))","v":""},{"$f":"IF($G364=\"\",\"\",VLOOKUP($G364,Lists!$BL$2:$BQ$478,COLUMN(),FALSE))","v":""},{"$f":"IF($G364=\"\",\"\",VLOOKUP($G364,Lists!$BL$2:$BQ$478,COLUMN(),FALSE))","v":""}]
[null,{"$f":"IF($G365=\"\",\"\",VLOOKUP($G365,Lists!$BL$2:$BQ$478,COLUMN(),FALSE))","v":""},{"$f":"IF($G365=\"\",\"\",VLOOKUP($G365,Lists!$BL$2:$BQ$478,COLUMN(),FALSE))","v":""},{"$f":"IF($G365=\"\",\"\",VLOOKUP($G365,Lists!$BL$2:$BQ$478,COLUMN(),FALSE))","v":""},{"$f":"IF($G365=\"\",\"\",VLOOKUP($G365,Lists!$BL$2:$BQ$478,COLUMN(),FALSE))","v":""},{"$f":"IF($G365=\"\",\"\",VLOOKUP($G365,Lists!$BL$2:$BQ$478,COLUMN(),FALSE))","v":""}]
[null,{"$f":"IF($G366=\"\",\"\",VLOOKUP($G366,Lists!$BL$2:$BQ$478,COLUMN(),FALSE))","v":""},{"$f":"IF($G366=\"\",\"\",VLOOKUP($G366,Lists!$BL$2:$BQ$478,COLUMN(),FALSE))","v":""},{"$f":"IF($G366=\"\",\"\",VLOOKUP($G366,Lists!$BL$2:$BQ$478,COLUMN(),FALSE))","v":""},{"$f":"IF($G366=\"\",\"\",VLOOKUP($G366,Lists!$BL$2:$BQ$478,COLUMN(),FALSE))","v":""},{"$f":"IF($G366=\"\",\"\",VLOOKUP($G366,Lists!$BL$2:$BQ$478,COLUMN(),FALSE))","v":""}]
[null,{"$f":"IF($G367=\"\",\"\",VLOOKUP($G367,Lists!$BL$2:$BQ$478,COLUMN(),FALSE))","v":""},{"$f":"IF($G367=\"\",\"\",VLOOKUP($G367,Lists!$BL$2:$BQ$478,COLUMN(),FALSE))","v":""},{"$f":"IF($G367=\"\",\"\",VLOOKUP($G367,Lists!$BL$2:$BQ$478,COLUMN(),FALSE))","v":""},{"$f":"IF($G367=\"\",\"\",VLOOKUP($G367,Lists!$BL$2:$BQ$478,COLUMN(),FALSE))","v":""},{"$f":"IF($G367=\"\",\"\",VLOOKUP($G367,Lists!$BL$2:$BQ$478,COLUMN(),FALSE))","v":""}]
[null,{"$f":"IF($G368=\"\",\"\",VLOOKUP($G368,Lists!$BL$2:$BQ$478,COLUMN(),FALSE))","v":""},{"$f":"IF($G368=\"\",\"\",VLOOKUP($G368,Lists!$BL$2:$BQ$478,COLUMN(),FALSE))","v":""},{"$f":"IF($G368=\"\",\"\",VLOOKUP($G368,Lists!$BL$2:$BQ$478,COLUMN(),FALSE))","v":""},{"$f":"IF($G368=\"\",\"\",VLOOKUP($G368,Lists!$BL$2:$BQ$478,COLUMN(),FALSE))","v":""},{"$f":"IF($G368=\"\",\"\",VLOOKUP($G368,Lists!$BL$2:$BQ$478,COLUMN(),FALSE))","v":""}]
[null,{"$f":"IF($G369=\"\",\"\",VLOOKUP($G369,Lists!$BL$2:$BQ$478,COLUMN(),FALSE))","v":""},{"$f":"IF($G369=\"\",\"\",VLOOKUP($G369,Lists!$BL$2:$BQ$478,COLUMN(),FALSE))","v":""},{"$f":"IF($G369=\"\",\"\",VLOOKUP($G369,Lists!$BL$2:$BQ$478,COLUMN(),FALSE))","v":""},{"$f":"IF($G369=\"\",\"\",VLOOKUP($G369,Lists!$BL$2:$BQ$478,COLUMN(),FALSE))","v":""},{"$f":"IF($G369=\"\",\"\",VLOOKUP($G369,Lists!$BL$2:$BQ$478,COLUMN(),FALSE))","v":""}]
[null,{"$f":"IF($G370=\"\",\"\",VLOOKUP($G370,Lists!$BL$2:$BQ$478,COLUMN(),FALSE))","v":""},{"$f":"IF($G370=\"\",\"\",VLOOKUP($G370,Lists!$BL$2:$BQ$478,COLUMN(),FALSE))","v":""},{"$f":"IF($G370=\"\",\"\",VLOOKUP($G370,Lists!$BL$2:$BQ$478,COLUMN(),FALSE))","v":""},{"$f":"IF($G370=\"\",\"\",VLOOKUP($G370,Lists!$BL$2:$BQ$478,COLUMN(),FALSE))","v":""},{"$f":"IF($G370=\"\",\"\",VLOOKUP($G370,Lists!$BL$2:$BQ$478,COLUMN(),FALSE))","v":""}]
[null,{"$f":"IF($G371=\"\",\"\",VLOOKUP($G371,Lists!$BL$2:$BQ$478,COLUMN(),FALSE))","v":""},{"$f":"IF($G371=\"\",\"\",VLOOKUP($G371,Lists!$BL$2:$BQ$478,COLUMN(),FALSE))","v":""},{"$f":"IF($G371=\"\",\"\",VLOOKUP($G371,Lists!$BL$2:$BQ$478,COLUMN(),FALSE))","v":""},{"$f":"IF($G371=\"\",\"\",VLOOKUP($G371,Lists!$BL$2:$BQ$478,COLUMN(),FALSE))","v":""},{"$f":"IF($G371=\"\",\"\",VLOOKUP($G371,Lists!$BL$2:$BQ$478,COLUMN(),FALSE))","v":""}]
[null,{"$f":"IF($G372=\"\",\"\",VLOOKUP($G372,Lists!$BL$2:$BQ$478,COLUMN(),FALSE))","v":""},{"$f":"IF($G372=\"\",\"\",VLOOKUP($G372,Lists!$BL$2:$BQ$478,COLUMN(),FALSE))","v":""},{"$f":"IF($G372=\"\",\"\",VLOOKUP($G372,Lists!$BL$2:$BQ$478,COLUMN(),FALSE))","v":""},{"$f":"IF($G372=\"\",\"\",VLOOKUP($G372,Lists!$BL$2:$BQ$478,COLUMN(),FALSE))","v":""},{"$f":"IF($G372=\"\",\"\",VLOOKUP($G372,Lists!$BL$2:$BQ$478,COLUMN(),FALSE))","v":""}]
[null,{"$f":"IF($G373=\"\",\"\",VLOOKUP($G373,Lists!$BL$2:$BQ$478,COLUMN(),FALSE))","v":""},{"$f":"IF($G373=\"\",\"\",VLOOKUP($G373,Lists!$BL$2:$BQ$478,COLUMN(),FALSE))","v":""},{"$f":"IF($G373=\"\",\"\",VLOOKUP($G373,Lists!$BL$2:$BQ$478,COLUMN(),FALSE))","v":""},{"$f":"IF($G373=\"\",\"\",VLOOKUP($G373,Lists!$BL$2:$BQ$478,COLUMN(),FALSE))","v":""},{"$f":"IF($G373=\"\",\"\",VLOOKUP($G373,Lists!$BL$2:$BQ$478,COLUMN(),FALSE))","v":""}]
[null,{"$f":"IF($G374=\"\",\"\",VLOOKUP($G374,Lists!$BL$2:$BQ$478,COLUMN(),FALSE))","v":""},{"$f":"IF($G374=\"\",\"\",VLOOKUP($G374,Lists!$BL$2:$BQ$478,COLUMN(),FALSE))","v":""},{"$f":"IF($G374=\"\",\"\",VLOOKUP($G374,Lists!$BL$2:$BQ$478,COLUMN(),FALSE))","v":""},{"$f":"IF($G374=\"\",\"\",VLOOKUP($G374,Lists!$BL$2:$BQ$478,COLUMN(),FALSE))","v":""},{"$f":"IF($G374=\"\",\"\",VLOOKUP($G374,Lists!$BL$2:$BQ$478,COLUMN(),FALSE))","v":""}]
[null,{"$f":"IF($G375=\"\",\"\",VLOOKUP($G375,Lists!$BL$2:$BQ$478,COLUMN(),FALSE))","v":""},{"$f":"IF($G375=\"\",\"\",VLOOKUP($G375,Lists!$BL$2:$BQ$478,COLUMN(),FALSE))","v":""},{"$f":"IF($G375=\"\",\"\",VLOOKUP($G375,Lists!$BL$2:$BQ$478,COLUMN(),FALSE))","v":""},{"$f":"IF($G375=\"\",\"\",VLOOKUP($G375,Lists!$BL$2:$BQ$478,COLUMN(),FALSE))","v":""},{"$f":"IF($G375=\"\",\"\",VLOOKUP($G375,Lists!$BL$2:$BQ$478,COLUMN(),FALSE))","v":""}]
[null,{"$f":"IF($G376=\"\",\"\",VLOOKUP($G376,Lists!$BL$2:$BQ$478,COLUMN(),FALSE))","v":""},{"$f":"IF($G376=\"\",\"\",VLOOKUP($G376,Lists!$BL$2:$BQ$478,COLUMN(),FALSE))","v":""},{"$f":"IF($G376=\"\",\"\",VLOOKUP($G376,Lists!$BL$2:$BQ$478,COLUMN(),FALSE))","v":""},{"$f":"IF($G376=\"\",\"\",VLOOKUP($G376,Lists!$BL$2:$BQ$478,COLUMN(),FALSE))","v":""},{"$f":"IF($G376=\"\",\"\",VLOOKUP($G376,Lists!$BL$2:$BQ$478,COLUMN(),FALSE))","v":""}]
[null,{"$f":"IF($G377=\"\",\"\",VLOOKUP($G377,Lists!$BL$2:$BQ$478,COLUMN(),FALSE))","v":""},{"$f":"IF($G377=\"\",\"\",VLOOKUP($G377,Lists!$BL$2:$BQ$478,COLUMN(),FALSE))","v":""},{"$f":"IF($G377=\"\",\"\",VLOOKUP($G377,Lists!$BL$2:$BQ$478,COLUMN(),FALSE))","v":""},{"$f":"IF($G377=\"\",\"\",VLOOKUP($G377,Lists!$BL$2:$BQ$478,COLUMN(),FALSE))","v":""},{"$f":"IF($G377=\"\",\"\",VLOOKUP($G377,Lists!$BL$2:$BQ$478,COLUMN(),FALSE))","v":""}]
[null,{"$f":"IF($G378=\"\",\"\",VLOOKUP($G378,Lists!$BL$2:$BQ$478,COLUMN(),FALSE))","v":""},{"$f":"IF($G378=\"\",\"\",VLOOKUP($G378,Lists!$BL$2:$BQ$478,COLUMN(),FALSE))","v":""},{"$f":"IF($G378=\"\",\"\",VLOOKUP($G378,Lists!$BL$2:$BQ$478,COLUMN(),FALSE))","v":""},{"$f":"IF($G378=\"\",\"\",VLOOKUP($G378,Lists!$BL$2:$BQ$478,COLUMN(),FALSE))","v":""},{"$f":"IF($G378=\"\",\"\",VLOOKUP($G378,Lists!$BL$2:$BQ$478,COLUMN(),FALSE))","v":""}]
[null,{"$f":"IF($G379=\"\",\"\",VLOOKUP($G379,Lists!$BL$2:$BQ$478,COLUMN(),FALSE))","v":""},{"$f":"IF($G379=\"\",\"\",VLOOKUP($G379,Lists!$BL$2:$BQ$478,COLUMN(),FALSE))","v":""},{"$f":"IF($G379=\"\",\"\",VLOOKUP($G379,Lists!$BL$2:$BQ$478,COLUMN(),FALSE))","v":""},{"$f":"IF($G379=\"\",\"\",VLOOKUP($G379,Lists!$BL$2:$BQ$478,COLUMN(),FALSE))","v":""},{"$f":"IF($G379=\"\",\"\",VLOOKUP($G379,Lists!$BL$2:$BQ$478,COLUMN(),FALSE))","v":""}]
[null,{"$f":"IF($G380=\"\",\"\",VLOOKUP($G380,Lists!$BL$2:$BQ$478,COLUMN(),FALSE))","v":""},{"$f":"IF($G380=\"\",\"\",VLOOKUP($G380,Lists!$BL$2:$BQ$478,COLUMN(),FALSE))","v":""},{"$f":"IF($G380=\"\",\"\",VLOOKUP($G380,Lists!$BL$2:$BQ$478,COLUMN(),FALSE))","v":""},{"$f":"IF($G380=\"\",\"\",VLOOKUP($G380,Lists!$BL$2:$BQ$478,COLUMN(),FALSE))","v":""},{"$f":"IF($G380=\"\",\"\",VLOOKUP($G380,Lists!$BL$2:$BQ$478,COLUMN(),FALSE))","v":""}]
[null,{"$f":"IF($G381=\"\",\"\",VLOOKUP($G381,Lists!$BL$2:$BQ$478,COLUMN(),FALSE))","v":""},{"$f":"IF($G381=\"\",\"\",VLOOKUP($G381,Lists!$BL$2:$BQ$478,COLUMN(),FALSE))","v":""},{"$f":"IF($G381=\"\",\"\",VLOOKUP($G381,Lists!$BL$2:$BQ$478,COLUMN(),FALSE))","v":""},{"$f":"IF($G381=\"\",\"\",VLOOKUP($G381,Lists!$BL$2:$BQ$478,COLUMN(),FALSE))","v":""},{"$f":"IF($G381=\"\",\"\",VLOOKUP($G381,Lists!$BL$2:$BQ$478,COLUMN(),FALSE))","v":""}]
[null,{"$f":"IF($G382=\"\",\"\",VLOOKUP($G382,Lists!$BL$2:$BQ$478,COLUMN(),FALSE))","v":""},{"$f":"IF($G382=\"\",\"\",VLOOKUP($G382,Lists!$BL$2:$BQ$478,COLUMN(),FALSE))","v":""},{"$f":"IF($G382=\"\",\"\",VLOOKUP($G382,Lists!$BL$2:$BQ$478,COLUMN(),FALSE))","v":""},{"$f":"IF($G382=\"\",\"\",VLOOKUP($G382,Lists!$BL$2:$BQ$478,COLUMN(),FALSE))","v":""},{"$f":"IF($G382=\"\",\"\",VLOOKUP($G382,Lists!$BL$2:$BQ$478,COLUMN(),FALSE))","v":""}]
[null,{"$f":"IF($G383=\"\",\"\",VLOOKUP($G383,Lists!$BL$2:$BQ$478,COLUMN(),FALSE))","v":""},{"$f":"IF($G383=\"\",\"\",VLOOKUP($G383,Lists!$BL$2:$BQ$478,COLUMN(),FALSE))","v":""},{"$f":"IF($G383=\"\",\"\",VLOOKUP($G383,Lists!$BL$2:$BQ$478,COLUMN(),FALSE))","v":""},{"$f":"IF($G383=\"\",\"\",VLOOKUP($G383,Lists!$BL$2:$BQ$478,COLUMN(),FALSE))","v":""},{"$f":"IF($G383=\"\",\"\",VLOOKUP($G383,Lists!$BL$2:$BQ$478,COLUMN(),FALSE))","v":""}]
[null,{"$f":"IF($G384=\"\",\"\",VLOOKUP($G384,Lists!$BL$2:$BQ$478,COLUMN(),FALSE))","v":""},{"$f":"IF($G384=\"\",\"\",VLOOKUP($G384,Lists!$BL$2:$BQ$478,COLUMN(),FALSE))","v":""},{"$f":"IF($G384=\"\",\"\",VLOOKUP($G384,Lists!$BL$2:$BQ$478,COLUMN(),FALSE))","v":""},{"$f":"IF($G384=\"\",\"\",VLOOKUP($G384,Lists!$BL$2:$BQ$478,COLUMN(),FALSE))","v":""},{"$f":"IF($G384=\"\",\"\",VLOOKUP($G384,Lists!$BL$2:$BQ$478,COLUMN(),FALSE))","v":""}]
[null,{"$f":"IF($G385=\"\",\"\",VLOOKUP($G385,Lists!$BL$2:$BQ$478,COLUMN(),FALSE))","v":""},{"$f":"IF($G385=\"\",\"\",VLOOKUP($G385,Lists!$BL$2:$BQ$478,COLUMN(),FALSE))","v":""},{"$f":"IF($G385=\"\",\"\",VLOOKUP($G385,Lists!$BL$2:$BQ$478,COLUMN(),FALSE))","v":""},{"$f":"IF($G385=\"\",\"\",VLOOKUP($G385,Lists!$BL$2:$BQ$478,COLUMN(),FALSE))","v":""},{"$f":"IF($G385=\"\",\"\",VLOOKUP($G385,Lists!$BL$2:$BQ$478,COLUMN(),FALSE))","v":""}]
[null,{"$f":"IF($G386=\"\",\"\",VLOOKUP($G386,Lists!$BL$2:$BQ$478,COLUMN(),FALSE))","v":""},{"$f":"IF($G386=\"\",\"\",VLOOKUP($G386,Lists!$BL$2:$BQ$478,COLUMN(),FALSE))","v":""},{"$f":"IF($G386=\"\",\"\",VLOOKUP($G386,Lists!$BL$2:$BQ$478,COLUMN(),FALSE))","v":""},{"$f":"IF($G386=\"\",\"\",VLOOKUP($G386,Lists!$BL$2:$BQ$478,COLUMN(),FALSE))","v":""},{"$f":"IF($G386=\"\",\"\",VLOOKUP($G386,Lists!$BL$2:$BQ$478,COLUMN(),FALSE))","v":""}]
[null,{"$f":"IF($G387=\"\",\"\",VLOOKUP($G387,Lists!$BL$2:$BQ$478,COLUMN(),FALSE))","v":""},{"$f":"IF($G387=\"\",\"\",VLOOKUP($G387,Lists!$BL$2:$BQ$478,COLUMN(),FALSE))","v":""},{"$f":"IF($G387=\"\",\"\",VLOOKUP($G387,Lists!$BL$2:$BQ$478,COLUMN(),FALSE))","v":""},{"$f":"IF($G387=\"\",\"\",VLOOKUP($G387,Lists!$BL$2:$BQ$478,COLUMN(),FALSE))","v":""},{"$f":"IF($G387=\"\",\"\",VLOOKUP($G387,Lists!$BL$2:$BQ$478,COLUMN(),FALSE))","v":""}]
[null,{"$f":"IF($G388=\"\",\"\",VLOOKUP($G388,Lists!$BL$2:$BQ$478,COLUMN(),FALSE))","v":""},{"$f":"IF($G388=\"\",\"\",VLOOKUP($G388,Lists!$BL$2:$BQ$478,COLUMN(),FALSE))","v":""},{"$f":"IF($G388=\"\",\"\",VLOOKUP($G388,Lists!$BL$2:$BQ$478,COLUMN(),FALSE))","v":""},{"$f":"IF($G388=\"\",\"\",VLOOKUP($G388,Lists!$BL$2:$BQ$478,COLUMN(),FALSE))","v":""},{"$f":"IF($G388=\"\",\"\",VLOOKUP($G388,Lists!$BL$2:$BQ$478,COLUMN(),FALSE))","v":""}]
[null,{"$f":"IF($G389=\"\",\"\",VLOOKUP($G389,Lists!$BL$2:$BQ$478,COLUMN(),FALSE))","v":""},{"$f":"IF($G389=\"\",\"\",VLOOKUP($G389,Lists!$BL$2:$BQ$478,COLUMN(),FALSE))","v":""},{"$f":"IF($G389=\"\",\"\",VLOOKUP($G389,Lists!$BL$2:$BQ$478,COLUMN(),FALSE))","v":""},{"$f":"IF($G389=\"\",\"\",VLOOKUP($G389,Lists!$BL$2:$BQ$478,COLUMN(),FALSE))","v":""},{"$f":"IF($G389=\"\",\"\",VLOOKUP($G389,Lists!$BL$2:$BQ$478,COLUMN(),FALSE))","v":""}]
[null,{"$f":"IF($G390=\"\",\"\",VLOOKUP($G390,Lists!$BL$2:$BQ$478,COLUMN(),FALSE))","v":""},{"$f":"IF($G390=\"\",\"\",VLOOKUP($G390,Lists!$BL$2:$BQ$478,COLUMN(),FALSE))","v":""},{"$f":"IF($G390=\"\",\"\",VLOOKUP($G390,Lists!$BL$2:$BQ$478,COLUMN(),FALSE))","v":""},{"$f":"IF($G390=\"\",\"\",VLOOKUP($G390,Lists!$BL$2:$BQ$478,COLUMN(),FALSE))","v":""},{"$f":"IF($G390=\"\",\"\",VLOOKUP($G390,Lists!$BL$2:$BQ$478,COLUMN(),FALSE))","v":""}]
[null,{"$f":"IF($G391=\"\",\"\",VLOOKUP($G391,Lists!$BL$2:$BQ$478,COLUMN(),FALSE))","v":""},{"$f":"IF($G391=\"\",\"\",VLOOKUP($G391,Lists!$BL$2:$BQ$478,COLUMN(),FALSE))","v":""},{"$f":"IF($G391=\"\",\"\",VLOOKUP($G391,Lists!$BL$2:$BQ$478,COLUMN(),FALSE))","v":""},{"$f":"IF($G391=\"\",\"\",VLOOKUP($G391,Lists!$BL$2:$BQ$478,COLUMN(),FALSE))","v":""},{"$f":"IF($G391=\"\",\"\",VLOOKUP($G391,Lists!$BL$2:$BQ$478,COLUMN(),FALSE))","v":""}]
[null,{"$f":"IF($G392=\"\",\"\",VLOOKUP($G392,Lists!$BL$2:$BQ$478,COLUMN(),FALSE))","v":""},{"$f":"IF($G392=\"\",\"\",VLOOKUP($G392,Lists!$BL$2:$BQ$478,COLUMN(),FALSE))","v":""},{"$f":"IF($G392=\"\",\"\",VLOOKUP($G392,Lists!$BL$2:$BQ$478,COLUMN(),FALSE))","v":""},{"$f":"IF($G392=\"\",\"\",VLOOKUP($G392,Lists!$BL$2:$BQ$478,COLUMN(),FALSE))","v":""},{"$f":"IF($G392=\"\",\"\",VLOOKUP($G392,Lists!$BL$2:$BQ$478,COLUMN(),FALSE))","v":""}]
[null,{"$f":"IF($G393=\"\",\"\",VLOOKUP($G393,Lists!$BL$2:$BQ$478,COLUMN(),FALSE))","v":""},{"$f":"IF($G393=\"\",\"\",VLOOKUP($G393,Lists!$BL$2:$BQ$478,COLUMN(),FALSE))","v":""},{"$f":"IF($G393=\"\",\"\",VLOOKUP($G393,Lists!$BL$2:$BQ$478,COLUMN(),FALSE))","v":""},{"$f":"IF($G393=\"\",\"\",VLOOKUP($G393,Lists!$BL$2:$BQ$478,COLUMN(),FALSE))","v":""},{"$f":"IF($G393=\"\",\"\",VLOOKUP($G393,Lists!$BL$2:$BQ$478,COLUMN(),FALSE))","v":""}]
[null,{"$f":"IF($G394=\"\",\"\",VLOOKUP($G394,Lists!$BL$2:$BQ$478,COLUMN(),FALSE))","v":""},{"$f":"IF($G394=\"\",\"\",VLOOKUP($G394,Lists!$BL$2:$BQ$478,COLUMN(),FALSE))","v":""},{"$f":"IF($G394=\"\",\"\",VLOOKUP($G394,Lists!$BL$2:$BQ$478,COLUMN(),FALSE))","v":""},{"$f":"IF($G394=\"\",\"\",VLOOKUP($G394,Lists!$BL$2:$BQ$478,COLUMN(),FALSE))","v":""},{"$f":"IF($G394=\"\",\"\",VLOOKUP($G394,Lists!$BL$2:$BQ$478,COLUMN(),FALSE))","v":""}]
[null,{"$f":"IF($G395=\"\",\"\",VLOOKUP($G395,Lists!$BL$2:$BQ$478,COLUMN(),FALSE))","v":""},{"$f":"IF($G395=\"\",\"\",VLOOKUP($G395,Lists!$BL$2:$BQ$478,COLUMN(),FALSE))","v":""},{"$f":"IF($G395=\"\",\"\",VLOOKUP($G395,Lists!$BL$2:$BQ$478,COLUMN(),FALSE))","v":""},{"$f":"IF($G395=\"\",\"\",VLOOKUP($G395,Lists!$BL$2:$BQ$478,COLUMN(),FALSE))","v":""},{"$f":"IF($G395=\"\",\"\",VLOOKUP($G395,Lists!$BL$2:$BQ$478,COLUMN(),FALSE))","v":""}]
[null,{"$f":"IF($G396=\"\",\"\",VLOOKUP($G396,Lists!$BL$2:$BQ$478,COLUMN(),FALSE))","v":""},{"$f":"IF($G396=\"\",\"\",VLOOKUP($G396,Lists!$BL$2:$BQ$478,COLUMN(),FALSE))","v":""},{"$f":"IF($G396=\"\",\"\",VLOOKUP($G396,Lists!$BL$2:$BQ$478,COLUMN(),FALSE))","v":""},{"$f":"IF($G396=\"\",\"\",VLOOKUP($G396,Lists!$BL$2:$BQ$478,COLUMN(),FALSE))","v":""},{"$f":"IF($G396=\"\",\"\",VLOOKUP($G396,Lists!$BL$2:$BQ$478,COLUMN(),FALSE))","v":""}]
[null,{"$f":"IF($G397=\"\",\"\",VLOOKUP($G397,Lists!$BL$2:$BQ$478,COLUMN(),FALSE))","v":""},{"$f":"IF($G397=\"\",\"\",VLOOKUP($G397,Lists!$BL$2:$BQ$478,COLUMN(),FALSE))","v":""},{"$f":"IF($G397=\"\",\"\",VLOOKUP($G397,Lists!$BL$2:$BQ$478,COLUMN(),FALSE))","v":""},{"$f":"IF($G397=\"\",\"\",VLOOKUP($G397,Lists!$BL$2:$BQ$478,COLUMN(),FALSE))","v":""},{"$f":"IF($G397=\"\",\"\",VLOOKUP($G397,Lists!$BL$2:$BQ$478,COLUMN(),FALSE))","v":""}]
[null,{"$f":"IF($G398=\"\",\"\",VLOOKUP($G398,Lists!$BL$2:$BQ$478,COLUMN(),FALSE))","v":""},{"$f":"IF($G398=\"\",\"\",VLOOKUP($G398,Lists!$BL$2:$BQ$478,COLUMN(),FALSE))","v":""},{"$f":"IF($G398=\"\",\"\",VLOOKUP($G398,Lists!$BL$2:$BQ$478,COLUMN(),FALSE))","v":""},{"$f":"IF($G398=\"\",\"\",VLOOKUP($G398,Lists!$BL$2:$BQ$478,COLUMN(),FALSE))","v":""},{"$f":"IF($G398=\"\",\"\",VLOOKUP($G398,Lists!$BL$2:$BQ$478,COLUMN(),FALSE))","v":""}]
[null,{"$f":"IF($G399=\"\",\"\",VLOOKUP($G399,Lists!$BL$2:$BQ$478,COLUMN(),FALSE))","v":""},{"$f":"IF($G399=\"\",\"\",VLOOKUP($G399,Lists!$BL$2:$BQ$478,COLUMN(),FALSE))","v":""},{"$f":"IF($G399=\"\",\"\",VLOOKUP($G399,Lists!$BL$2:$BQ$478,COLUMN(),FALSE))","v":""},{"$f":"IF($G399=\"\",\"\",VLOOKUP($G399,Lists!$BL$2:$BQ$478,COLUMN(),FALSE))","v":""},{"$f":"IF($G399=\"\",\"\",VLOOKUP($G399,Lists!$BL$2:$BQ$478,COLUMN(),FALSE))","v":""}]
[null,{"$f":"IF($G400=\"\",\"\",VLOOKUP($G400,Lists!$BL$2:$BQ$478,COLUMN(),FALSE))","v":""},{"$f":"IF($G400=\"\",\"\",VLOOKUP($G400,Lists!$BL$2:$BQ$478,COLUMN(),FALSE))","v":""},{"$f":"IF($G400=\"\",\"\",VLOOKUP($G400,Lists!$BL$2:$BQ$478,COLUMN(),FALSE))","v":""},{"$f":"IF($G400=\"\",\"\",VLOOKUP($G400,Lists!$BL$2:$BQ$478,COLUMN(),FALSE))","v":""},{"$f":"IF($G400=\"\",\"\",VLOOKUP($G400,Lists!$BL$2:$BQ$478,COLUMN(),FALSE))","v":""}]
[null,{"$f":"IF($G401=\"\",\"\",VLOOKUP($G401,Lists!$BL$2:$BQ$478,COLUMN(),FALSE))","v":""},{"$f":"IF($G401=\"\",\"\",VLOOKUP($G401,Lists!$BL$2:$BQ$478,COLUMN(),FALSE))","v":""},{"$f":"IF($G401=\"\",\"\",VLOOKUP($G401,Lists!$BL$2:$BQ$478,COLUMN(),FALSE))","v":""},{"$f":"IF($G401=\"\",\"\",VLOOKUP($G401,Lists!$BL$2:$BQ$478,COLUMN(),FALSE))","v":""},{"$f":"IF($G401=\"\",\"\",VLOOKUP($G401,Lists!$BL$2:$BQ$478,COLUMN(),FALSE))","v":""}]
[null,{"$f":"IF($G402=\"\",\"\",VLOOKUP($G402,Lists!$BL$2:$BQ$478,COLUMN(),FALSE))","v":""},{"$f":"IF($G402=\"\",\"\",VLOOKUP($G402,Lists!$BL$2:$BQ$478,COLUMN(),FALSE))","v":""},{"$f":"IF($G402=\"\",\"\",VLOOKUP($G402,Lists!$BL$2:$BQ$478,COLUMN(),FALSE))","v":""},{"$f":"IF($G402=\"\",\"\",VLOOKUP($G402,Lists!$BL$2:$BQ$478,COLUMN(),FALSE))","v":""},{"$f":"IF($G402=\"\",\"\",VLOOKUP($G402,Lists!$BL$2:$BQ$478,COLUMN(),FALSE))","v":""}]
[null,{"$f":"IF($G403=\"\",\"\",VLOOKUP($G403,Lists!$BL$2:$BQ$478,COLUMN(),FALSE))","v":""},{"$f":"IF($G403=\"\",\"\",VLOOKUP($G403,Lists!$BL$2:$BQ$478,COLUMN(),FALSE))","v":""},{"$f":"IF($G403=\"\",\"\",VLOOKUP($G403,Lists!$BL$2:$BQ$478,COLUMN(),FALSE))","v":""},{"$f":"IF($G403=\"\",\"\",VLOOKUP($G403,Lists!$BL$2:$BQ$478,COLUMN(),FALSE))","v":""},{"$f":"IF($G403=\"\",\"\",VLOOKUP($G403,Lists!$BL$2:$BQ$478,COLUMN(),FALSE))","v":""}]
[null,{"$f":"IF($G404=\"\",\"\",VLOOKUP($G404,Lists!$BL$2:$BQ$478,COLUMN(),FALSE))","v":""},{"$f":"IF($G404=\"\",\"\",VLOOKUP($G404,Lists!$BL$2:$BQ$478,COLUMN(),FALSE))","v":""},{"$f":"IF($G404=\"\",\"\",VLOOKUP($G404,Lists!$BL$2:$BQ$478,COLUMN(),FALSE))","v":""},{"$f":"IF($G404=\"\",\"\",VLOOKUP($G404,Lists!$BL$2:$BQ$478,COLUMN(),FALSE))","v":""},{"$f":"IF($G404=\"\",\"\",VLOOKUP($G404,Lists!$BL$2:$BQ$478,COLUMN(),FALSE))","v":""}]
[null,{"$f":"IF($G405=\"\",\"\",VLOOKUP($G405,Lists!$BL$2:$BQ$478,COLUMN(),FALSE))","v":""},{"$f":"IF($G405=\"\",\"\",VLOOKUP($G405,Lists!$BL$2:$BQ$478,COLUMN(),FALSE))","v":""},{"$f":"IF($G405=\"\",\"\",VLOOKUP($G405,Lists!$BL$2:$BQ$478,COLUMN(),FALSE))","v":""},{"$f":"IF($G405=\"\",\"\",VLOOKUP($G405,Lists!$BL$2:$BQ$478,COLUMN(),FALSE))","v":""},{"$f":"IF($G405=\"\",\"\",VLOOKUP($G405,Lists!$BL$2:$BQ$478,COLUMN(),FALSE))","v":""}]
[null,{"$f":"IF($G406=\"\",\"\",VLOOKUP($G406,Lists!$BL$2:$BQ$478,COLUMN(),FALSE))","v":""},{"$f":"IF($G406=\"\",\"\",VLOOKUP($G406,Lists!$BL$2:$BQ$478,COLUMN(),FALSE))","v":""},{"$f":"IF($G406=\"\",\"\",VLOOKUP($G406,Lists!$BL$2:$BQ$478,COLUMN(),FALSE))","v":""},{"$f":"IF($G406=\"\",\"\",VLOOKUP($G406,Lists!$BL$2:$BQ$478,COLUMN(),FALSE))","v":""},{"$f":"IF($G406=\"\",\"\",VLOOKUP($G406,Lists!$BL$2:$BQ$478,COLUMN(),FALSE))","v":""}]
[null,{"$f":"IF($G407=\"\",\"\",VLOOKUP($G407,Lists!$BL$2:$BQ$478,COLUMN(),FALSE))","v":""},{"$f":"IF($G407=\"\",\"\",VLOOKUP($G407,Lists!$BL$2:$BQ$478,COLUMN(),FALSE))","v":""},{"$f":"IF($G407=\"\",\"\",VLOOKUP($G407,Lists!$BL$2:$BQ$478,COLUMN(),FALSE))","v":""},{"$f":"IF($G407=\"\",\"\",VLOOKUP($G407,Lists!$BL$2:$BQ$478,COLUMN(),FALSE))","v":""},{"$f":"IF($G407=\"\",\"\",VLOOKUP($G407,Lists!$BL$2:$BQ$478,COLUMN(),FALSE))","v":""}]
[null,{"$f":"IF($G408=\"\",\"\",VLOOKUP($G408,Lists!$BL$2:$BQ$478,COLUMN(),FALSE))","v":""},{"$f":"IF($G408=\"\",\"\",VLOOKUP($G408,Lists!$BL$2:$BQ$478,COLUMN(),FALSE))","v":""},{"$f":"IF($G408=\"\",\"\",VLOOKUP($G408,Lists!$BL$2:$BQ$478,COLUMN(),FALSE))","v":""},{"$f":"IF($G408=\"\",\"\",VLOOKUP($G408,Lists!$BL$2:$BQ$478,COLUMN(),FALSE))","v":""},{"$f":"IF($G408=\"\",\"\",VLOOKUP($G408,Lists!$BL$2:$BQ$478,COLUMN(),FALSE))","v":""}]
[null,{"$f":"IF($G409=\"\",\"\",VLOOKUP($G409,Lists!$BL$2:$BQ$478,COLUMN(),FALSE))","v":""},{"$f":"IF($G409=\"\",\"\",VLOOKUP($G409,Lists!$BL$2:$BQ$478,COLUMN(),FALSE))","v":""},{"$f":"IF($G409=\"\",\"\",VLOOKUP($G409,Lists!$BL$2:$BQ$478,COLUMN(),FALSE))","v":""},{"$f":"IF($G409=\"\",\"\",VLOOKUP($G409,Lists!$BL$2:$BQ$478,COLUMN(),FALSE))","v":""},{"$f":"IF($G409=\"\",\"\",VLOOKUP($G409,Lists!$BL$2:$BQ$478,COLUMN(),FALSE))","v":""}]
[null,{"$f":"IF($G410=\"\",\"\",VLOOKUP($G410,Lists!$BL$2:$BQ$478,COLUMN(),FALSE))","v":""},{"$f":"IF($G410=\"\",\"\",VLOOKUP($G410,Lists!$BL$2:$BQ$478,COLUMN(),FALSE))","v":""},{"$f":"IF($G410=\"\",\"\",VLOOKUP($G410,Lists!$BL$2:$BQ$478,COLUMN(),FALSE))","v":""},{"$f":"IF($G410=\"\",\"\",VLOOKUP($G410,Lists!$BL$2:$BQ$478,COLUMN(),FALSE))","v":""},{"$f":"IF($G410=\"\",\"\",VLOOKUP($G410,Lists!$BL$2:$BQ$478,COLUMN(),FALSE))","v":""}]
[null,{"$f":"IF($G411=\"\",\"\",VLOOKUP($G411,Lists!$BL$2:$BQ$478,COLUMN(),FALSE))","v":""},{"$f":"IF($G411=\"\",\"\",VLOOKUP($G411,Lists!$BL$2:$BQ$478,COLUMN(),FALSE))","v":""},{"$f":"IF($G411=\"\",\"\",VLOOKUP($G411,Lists!$BL$2:$BQ$478,COLUMN(),FALSE))","v":""},{"$f":"IF($G411=\"\",\"\",VLOOKUP($G411,Lists!$BL$2:$BQ$478,COLUMN(),FALSE))","v":""},{"$f":"IF($G411=\"\",\"\",VLOOKUP($G411,Lists!$BL$2:$BQ$478,COLUMN(),FALSE))","v":""}]
[null,{"$f":"IF($G412=\"\",\"\",VLOOKUP($G412,Lists!$BL$2:$BQ$478,COLUMN(),FALSE))","v":""},{"$f":"IF($G412=\"\",\"\",VLOOKUP($G412,Lists!$BL$2:$BQ$478,COLUMN(),FALSE))","v":""},{"$f":"IF($G412=\"\",\"\",VLOOKUP($G412,Lists!$BL$2:$BQ$478,COLUMN(),FALSE))","v":""},{"$f":"IF($G412=\"\",\"\",VLOOKUP($G412,Lists!$BL$2:$BQ$478,COLUMN(),FALSE))","v":""},{"$f":"IF($G412=\"\",\"\",VLOOKUP($G412,Lists!$BL$2:$BQ$478,COLUMN(),FALSE))","v":""}]
[null,{"$f":"IF($G413=\"\",\"\",VLOOKUP($G413,Lists!$BL$2:$BQ$478,COLUMN(),FALSE))","v":""},{"$f":"IF($G413=\"\",\"\",VLOOKUP($G413,Lists!$BL$2:$BQ$478,COLUMN(),FALSE))","v":""},{"$f":"IF($G413=\"\",\"\",VLOOKUP($G413,Lists!$BL$2:$BQ$478,COLUMN(),FALSE))","v":""},{"$f":"IF($G413=\"\",\"\",VLOOKUP($G413,Lists!$BL$2:$BQ$478,COLUMN(),FALSE))","v":""},{"$f":"IF($G413=\"\",\"\",VLOOKUP($G413,Lists!$BL$2:$BQ$478,COLUMN(),FALSE))","v":""}]
[null,{"$f":"IF($G414=\"\",\"\",VLOOKUP($G414,Lists!$BL$2:$BQ$478,COLUMN(),FALSE))","v":""},{"$f":"IF($G414=\"\",\"\",VLOOKUP($G414,Lists!$BL$2:$BQ$478,COLUMN(),FALSE))","v":""},{"$f":"IF($G414=\"\",\"\",VLOOKUP($G414,Lists!$BL$2:$BQ$478,COLUMN(),FALSE))","v":""},{"$f":"IF($G414=\"\",\"\",VLOOKUP($G414,Lists!$BL$2:$BQ$478,COLUMN(),FALSE))","v":""},{"$f":"IF($G414=\"\",\"\",VLOOKUP($G414,Lists!$BL$2:$BQ$478,COLUMN(),FALSE))","v":""}]
[null,{"$f":"IF($G415=\"\",\"\",VLOOKUP($G415,Lists!$BL$2:$BQ$478,COLUMN(),FALSE))","v":""},{"$f":"IF($G415=\"\",\"\",VLOOKUP($G415,Lists!$BL$2:$BQ$478,COLUMN(),FALSE))","v":""},{"$f":"IF($G415=\"\",\"\",VLOOKUP($G415,Lists!$BL$2:$BQ$478,COLUMN(),FALSE))","v":""},{"$f":"IF($G415=\"\",\"\",VLOOKUP($G415,Lists!$BL$2:$BQ$478,COLUMN(),FALSE))","v":""},{"$f":"IF($G415=\"\",\"\",VLOOKUP($G415,Lists!$BL$2:$BQ$478,COLUMN(),FALSE))","v":""}]
[null,{"$f":"IF($G416=\"\",\"\",VLOOKUP($G416,Lists!$BL$2:$BQ$478,COLUMN(),FALSE))","v":""},{"$f":"IF($G416=\"\",\"\",VLOOKUP($G416,Lists!$BL$2:$BQ$478,COLUMN(),FALSE))","v":""},{"$f":"IF($G416=\"\",\"\",VLOOKUP($G416,Lists!$BL$2:$BQ$478,COLUMN(),FALSE))","v":""},{"$f":"IF($G416=\"\",\"\",VLOOKUP($G416,Lists!$BL$2:$BQ$478,COLUMN(),FALSE))","v":""},{"$f":"IF($G416=\"\",\"\",VLOOKUP($G416,Lists!$BL$2:$BQ$478,COLUMN(),FALSE))","v":""}]
[null,{"$f":"IF($G417=\"\",\"\",VLOOKUP($G417,Lists!$BL$2:$BQ$478,COLUMN(),FALSE))","v":""},{"$f":"IF($G417=\"\",\"\",VLOOKUP($G417,Lists!$BL$2:$BQ$478,COLUMN(),FALSE))","v":""},{"$f":"IF($G417=\"\",\"\",VLOOKUP($G417,Lists!$BL$2:$BQ$478,COLUMN(),FALSE))","v":""},{"$f":"IF($G417=\"\",\"\",VLOOKUP($G417,Lists!$BL$2:$BQ$478,COLUMN(),FALSE))","v":""},{"$f":"IF($G417=\"\",\"\",VLOOKUP($G417,Lists!$BL$2:$BQ$478,COLUMN(),FALSE))","v":""}]
[null,{"$f":"IF($G418=\"\",\"\",VLOOKUP($G418,Lists!$BL$2:$BQ$478,COLUMN(),FALSE))","v":""},{"$f":"IF($G418=\"\",\"\",VLOOKUP($G418,Lists!$BL$2:$BQ$478,COLUMN(),FALSE))","v":""},{"$f":"IF($G418=\"\",\"\",VLOOKUP($G418,Lists!$BL$2:$BQ$478,COLUMN(),FALSE))","v":""},{"$f":"IF($G418=\"\",\"\",VLOOKUP($G418,Lists!$BL$2:$BQ$478,COLUMN(),FALSE))","v":""},{"$f":"IF($G418=\"\",\"\",VLOOKUP($G418,Lists!$BL$2:$BQ$478,COLUMN(),FALSE))","v":""}]
[null,{"$f":"IF($G419=\"\",\"\",VLOOKUP($G419,Lists!$BL$2:$BQ$478,COLUMN(),FALSE))","v":""},{"$f":"IF($G419=\"\",\"\",VLOOKUP($G419,Lists!$BL$2:$BQ$478,COLUMN(),FALSE))","v":""},{"$f":"IF($G419=\"\",\"\",VLOOKUP($G419,Lists!$BL$2:$BQ$478,COLUMN(),FALSE))","v":""},{"$f":"IF($G419=\"\",\"\",VLOOKUP($G419,Lists!$BL$2:$BQ$478,COLUMN(),FALSE))","v":""},{"$f":"IF($G419=\"\",\"\",VLOOKUP($G419,Lists!$BL$2:$BQ$478,COLUMN(),FALSE))","v":""}]
[null,{"$f":"IF($G420=\"\",\"\",VLOOKUP($G420,Lists!$BL$2:$BQ$478,COLUMN(),FALSE))","v":""},{"$f":"IF($G420=\"\",\"\",VLOOKUP($G420,Lists!$BL$2:$BQ$478,COLUMN(),FALSE))","v":""},{"$f":"IF($G420=\"\",\"\",VLOOKUP($G420,Lists!$BL$2:$BQ$478,COLUMN(),FALSE))","v":""},{"$f":"IF($G420=\"\",\"\",VLOOKUP($G420,Lists!$BL$2:$BQ$478,COLUMN(),FALSE))","v":""},{"$f":"IF($G420=\"\",\"\",VLOOKUP($G420,Lists!$BL$2:$BQ$478,COLUMN(),FALSE))","v":""}]
[null,{"$f":"IF($G421=\"\",\"\",VLOOKUP($G421,Lists!$BL$2:$BQ$478,COLUMN(),FALSE))","v":""},{"$f":"IF($G421=\"\",\"\",VLOOKUP($G421,Lists!$BL$2:$BQ$478,COLUMN(),FALSE))","v":""},{"$f":"IF($G421=\"\",\"\",VLOOKUP($G421,Lists!$BL$2:$BQ$478,COLUMN(),FALSE))","v":""},{"$f":"IF($G421=\"\",\"\",VLOOKUP($G421,Lists!$BL$2:$BQ$478,COLUMN(),FALSE))","v":""},{"$f":"IF($G421=\"\",\"\",VLOOKUP($G421,Lists!$BL$2:$BQ$478,COLUMN(),FALSE))","v":""}]
[null,{"$f":"IF($G422=\"\",\"\",VLOOKUP($G422,Lists!$BL$2:$BQ$478,COLUMN(),FALSE))","v":""},{"$f":"IF($G422=\"\",\"\",VLOOKUP($G422,Lists!$BL$2:$BQ$478,COLUMN(),FALSE))","v":""},{"$f":"IF($G422=\"\",\"\",VLOOKUP($G422,Lists!$BL$2:$BQ$478,COLUMN(),FALSE))","v":""},{"$f":"IF($G422=\"\",\"\",VLOOKUP($G422,Lists!$BL$2:$BQ$478,COLUMN(),FALSE))","v":""},{"$f":"IF($G422=\"\",\"\",VLOOKUP($G422,Lists!$BL$2:$BQ$478,COLUMN(),FALSE))","v":""}]
[null,{"$f":"IF($G423=\"\",\"\",VLOOKUP($G423,Lists!$BL$2:$BQ$478,COLUMN(),FALSE))","v":""},{"$f":"IF($G423=\"\",\"\",VLOOKUP($G423,Lists!$BL$2:$BQ$478,COLUMN(),FALSE))","v":""},{"$f":"IF($G423=\"\",\"\",VLOOKUP($G423,Lists!$BL$2:$BQ$478,COLUMN(),FALSE))","v":""},{"$f":"IF($G423=\"\",\"\",VLOOKUP($G423,Lists!$BL$2:$BQ$478,COLUMN(),FALSE))","v":""},{"$f":"IF($G423=\"\",\"\",VLOOKUP($G423,Lists!$BL$2:$BQ$478,COLUMN(),FALSE))","v":""}]
[null,{"$f":"IF($G424=\"\",\"\",VLOOKUP($G424,Lists!$BL$2:$BQ$478,COLUMN(),FALSE))","v":""},{"$f":"IF($G424=\"\",\"\",VLOOKUP($G424,Lists!$BL$2:$BQ$478,COLUMN(),FALSE))","v":""},{"$f":"IF($G424=\"\",\"\",VLOOKUP($G424,Lists!$BL$2:$BQ$478,COLUMN(),FALSE))","v":""},{"$f":"IF($G424=\"\",\"\",VLOOKUP($G424,Lists!$BL$2:$BQ$478,COLUMN(),FALSE))","v":""},{"$f":"IF($G424=\"\",\"\",VLOOKUP($G424,Lists!$BL$2:$BQ$478,COLUMN(),FALSE))","v":""}]
[null,{"$f":"IF($G425=\"\",\"\",VLOOKUP($G425,Lists!$BL$2:$BQ$478,COLUMN(),FALSE))","v":""},{"$f":"IF($G425=\"\",\"\",VLOOKUP($G425,Lists!$BL$2:$BQ$478,COLUMN(),FALSE))","v":""},{"$f":"IF($G425=\"\",\"\",VLOOKUP($G425,Lists!$BL$2:$BQ$478,COLUMN(),FALSE))","v":""},{"$f":"IF($G425=\"\",\"\",VLOOKUP($G425,Lists!$BL$2:$BQ$478,COLUMN(),FALSE))","v":""},{"$f":"IF($G425=\"\",\"\",VLOOKUP($G425,Lists!$BL$2:$BQ$478,COLUMN(),FALSE))","v":""}]
[null,{"$f":"IF($G426=\"\",\"\",VLOOKUP($G426,Lists!$BL$2:$BQ$478,COLUMN(),FALSE))","v":""},{"$f":"IF($G426=\"\",\"\",VLOOKUP($G426,Lists!$BL$2:$BQ$478,COLUMN(),FALSE))","v":""},{"$f":"IF($G426=\"\",\"\",VLOOKUP($G426,Lists!$BL$2:$BQ$478,COLUMN(),FALSE))","v":""},{"$f":"IF($G426=\"\",\"\",VLOOKUP($G426,Lists!$BL$2:$BQ$478,COLUMN(),FALSE))","v":""},{"$f":"IF($G426=\"\",\"\",VLOOKUP($G426,Lists!$BL$2:$BQ$478,COLUMN(),FALSE))","v":""}]
[null,{"$f":"IF($G427=\"\",\"\",VLOOKUP($G427,Lists!$BL$2:$BQ$478,COLUMN(),FALSE))","v":""},{"$f":"IF($G427=\"\",\"\",VLOOKUP($G427,Lists!$BL$2:$BQ$478,COLUMN(),FALSE))","v":""},{"$f":"IF($G427=\"\",\"\",VLOOKUP($G427,Lists!$BL$2:$BQ$478,COLUMN(),FALSE))","v":""},{"$f":"IF($G427=\"\",\"\",VLOOKUP($G427,Lists!$BL$2:$BQ$478,COLUMN(),FALSE))","v":""},{"$f":"IF($G427=\"\",\"\",VLOOKUP($G427,Lists!$BL$2:$BQ$478,COLUMN(),FALSE))","v":""}]
[null,{"$f":"IF($G428=\"\",\"\",VLOOKUP($G428,Lists!$BL$2:$BQ$478,COLUMN(),FALSE))","v":""},{"$f":"IF($G428=\"\",\"\",VLOOKUP($G428,Lists!$BL$2:$BQ$478,COLUMN(),FALSE))","v":""},{"$f":"IF($G428=\"\",\"\",VLOOKUP($G428,Lists!$BL$2:$BQ$478,COLUMN(),FALSE))","v":""},{"$f":"IF($G428=\"\",\"\",VLOOKUP($G428,Lists!$BL$2:$BQ$478,COLUMN(),FALSE))","v":""},{"$f":"IF($G428=\"\",\"\",VLOOKUP($G428,Lists!$BL$2:$BQ$478,COLUMN(),FALSE))","v":""}]
[null,{"$f":"IF($G429=\"\",\"\",VLOOKUP($G429,Lists!$BL$2:$BQ$478,COLUMN(),FALSE))","v":""},{"$f":"IF($G429=\"\",\"\",VLOOKUP($G429,Lists!$BL$2:$BQ$478,COLUMN(),FALSE))","v":""},{"$f":"IF($G429=\"\",\"\",VLOOKUP($G429,Lists!$BL$2:$BQ$478,COLUMN(),FALSE))","v":""},{"$f":"IF($G429=\"\",\"\",VLOOKUP($G429,Lists!$BL$2:$BQ$478,COLUMN(),FALSE))","v":""},{"$f":"IF($G429=\"\",\"\",VLOOKUP($G429,Lists!$BL$2:$BQ$478,COLUMN(),FALSE))","v":""}]
[null,{"$f":"IF($G430=\"\",\"\",VLOOKUP($G430,Lists!$BL$2:$BQ$478,COLUMN(),FALSE))","v":""},{"$f":"IF($G430=\"\",\"\",VLOOKUP($G430,Lists!$BL$2:$BQ$478,COLUMN(),FALSE))","v":""},{"$f":"IF($G430=\"\",\"\",VLOOKUP($G430,Lists!$BL$2:$BQ$478,COLUMN(),FALSE))","v":""},{"$f":"IF($G430=\"\",\"\",VLOOKUP($G430,Lists!$BL$2:$BQ$478,COLUMN(),FALSE))","v":""},{"$f":"IF($G430=\"\",\"\",VLOOKUP($G430,Lists!$BL$2:$BQ$478,COLUMN(),FALSE))","v":""}]
[null,{"$f":"IF($G431=\"\",\"\",VLOOKUP($G431,Lists!$BL$2:$BQ$478,COLUMN(),FALSE))","v":""},{"$f":"IF($G431=\"\",\"\",VLOOKUP($G431,Lists!$BL$2:$BQ$478,COLUMN(),FALSE))","v":""},{"$f":"IF($G431=\"\",\"\",VLOOKUP($G431,Lists!$BL$2:$BQ$478,COLUMN(),FALSE))","v":""},{"$f":"IF($G431=\"\",\"\",VLOOKUP($G431,Lists!$BL$2:$BQ$478,COLUMN(),FALSE))","v":""},{"$f":"IF($G431=\"\",\"\",VLOOKUP($G431,Lists!$BL$2:$BQ$478,COLUMN(),FALSE))","v":""}]
[null,{"$f":"IF($G432=\"\",\"\",VLOOKUP($G432,Lists!$BL$2:$BQ$478,COLUMN(),FALSE))","v":""},{"$f":"IF($G432=\"\",\"\",VLOOKUP($G432,Lists!$BL$2:$BQ$478,COLUMN(),FALSE))","v":""},{"$f":"IF($G432=\"\",\"\",VLOOKUP($G432,Lists!$BL$2:$BQ$478,COLUMN(),FALSE))","v":""},{"$f":"IF($G432=\"\",\"\",VLOOKUP($G432,Lists!$BL$2:$BQ$478,COLUMN(),FALSE))","v":""},{"$f":"IF($G432=\"\",\"\",VLOOKUP($G432,Lists!$BL$2:$BQ$478,COLUMN(),FALSE))","v":""}]
[null,{"$f":"IF($G433=\"\",\"\",VLOOKUP($G433,Lists!$BL$2:$BQ$478,COLUMN(),FALSE))","v":""},{"$f":"IF($G433=\"\",\"\",VLOOKUP($G433,Lists!$BL$2:$BQ$478,COLUMN(),FALSE))","v":""},{"$f":"IF($G433=\"\",\"\",VLOOKUP($G433,Lists!$BL$2:$BQ$478,COLUMN(),FALSE))","v":""},{"$f":"IF($G433=\"\",\"\",VLOOKUP($G433,Lists!$BL$2:$BQ$478,COLUMN(),FALSE))","v":""},{"$f":"IF($G433=\"\",\"\",VLOOKUP($G433,Lists!$BL$2:$BQ$478,COLUMN(),FALSE))","v":""}]
[null,{"$f":"IF($G434=\"\",\"\",VLOOKUP($G434,Lists!$BL$2:$BQ$478,COLUMN(),FALSE))","v":""},{"$f":"IF($G434=\"\",\"\",VLOOKUP($G434,Lists!$BL$2:$BQ$478,COLUMN(),FALSE))","v":""},{"$f":"IF($G434=\"\",\"\",VLOOKUP($G434,Lists!$BL$2:$BQ$478,COLUMN(),FALSE))","v":""},{"$f":"IF($G434=\"\",\"\",VLOOKUP($G434,Lists!$BL$2:$BQ$478,COLUMN(),FALSE))","v":""},{"$f":"IF($G434=\"\",\"\",VLOOKUP($G434,Lists!$BL$2:$BQ$478,COLUMN(),FALSE))","v":""}]
[null,{"$f":"IF($G435=\"\",\"\",VLOOKUP($G435,Lists!$BL$2:$BQ$478,COLUMN(),FALSE))","v":""},{"$f":"IF($G435=\"\",\"\",VLOOKUP($G435,Lists!$BL$2:$BQ$478,COLUMN(),FALSE))","v":""},{"$f":"IF($G435=\"\",\"\",VLOOKUP($G435,Lists!$BL$2:$BQ$478,COLUMN(),FALSE))","v":""},{"$f":"IF($G435=\"\",\"\",VLOOKUP($G435,Lists!$BL$2:$BQ$478,COLUMN(),FALSE))","v":""},{"$f":"IF($G435=\"\",\"\",VLOOKUP($G435,Lists!$BL$2:$BQ$478,COLUMN(),FALSE))","v":""}]
[null,{"$f":"IF($G436=\"\",\"\",VLOOKUP($G436,Lists!$BL$2:$BQ$478,COLUMN(),FALSE))","v":""},{"$f":"IF($G436=\"\",\"\",VLOOKUP($G436,Lists!$BL$2:$BQ$478,COLUMN(),FALSE))","v":""},{"$f":"IF($G436=\"\",\"\",VLOOKUP($G436,Lists!$BL$2:$BQ$478,COLUMN(),FALSE))","v":""},{"$f":"IF($G436=\"\",\"\",VLOOKUP($G436,Lists!$BL$2:$BQ$478,COLUMN(),FALSE))","v":""},{"$f":"IF($G436=\"\",\"\",VLOOKUP($G436,Lists!$BL$2:$BQ$478,COLUMN(),FALSE))","v":""}]
[null,{"$f":"IF($G437=\"\",\"\",VLOOKUP($G437,Lists!$BL$2:$BQ$478,COLUMN(),FALSE))","v":""},{"$f":"IF($G437=\"\",\"\",VLOOKUP($G437,Lists!$BL$2:$BQ$478,COLUMN(),FALSE))","v":""},{"$f":"IF($G437=\"\",\"\",VLOOKUP($G437,Lists!$BL$2:$BQ$478,COLUMN(),FALSE))","v":""},{"$f":"IF($G437=\"\",\"\",VLOOKUP($G437,Lists!$BL$2:$BQ$478,COLUMN(),FALSE))","v":""},{"$f":"IF($G437=\"\",\"\",VLOOKUP($G437,Lists!$BL$2:$BQ$478,COLUMN(),FALSE))","v":""}]
[null,{"$f":"IF($G438=\"\",\"\",VLOOKUP($G438,Lists!$BL$2:$BQ$478,COLUMN(),FALSE))","v":""},{"$f":"IF($G438=\"\",\"\",VLOOKUP($G438,Lists!$BL$2:$BQ$478,COLUMN(),FALSE))","v":""},{"$f":"IF($G438=\"\",\"\",VLOOKUP($G438,Lists!$BL$2:$BQ$478,COLUMN(),FALSE))","v":""},{"$f":"IF($G438=\"\",\"\",VLOOKUP($G438,Lists!$BL$2:$BQ$478,COLUMN(),FALSE))","v":""},{"$f":"IF($G438=\"\",\"\",VLOOKUP($G438,Lists!$BL$2:$BQ$478,COLUMN(),FALSE))","v":""}]
[null,{"$f":"IF($G439=\"\",\"\",VLOOKUP($G439,Lists!$BL$2:$BQ$478,COLUMN(),FALSE))","v":""},{"$f":"IF($G439=\"\",\"\",VLOOKUP($G439,Lists!$BL$2:$BQ$478,COLUMN(),FALSE))","v":""},{"$f":"IF($G439=\"\",\"\",VLOOKUP($G439,Lists!$BL$2:$BQ$478,COLUMN(),FALSE))","v":""},{"$f":"IF($G439=\"\",\"\",VLOOKUP($G439,Lists!$BL$2:$BQ$478,COLUMN(),FALSE))","v":""},{"$f":"IF($G439=\"\",\"\",VLOOKUP($G439,Lists!$BL$2:$BQ$478,COLUMN(),FALSE))","v":""}]
[null,{"$f":"IF($G440=\"\",\"\",VLOOKUP($G440,Lists!$BL$2:$BQ$478,COLUMN(),FALSE))","v":""},{"$f":"IF($G440=\"\",\"\",VLOOKUP($G440,Lists!$BL$2:$BQ$478,COLUMN(),FALSE))","v":""},{"$f":"IF($G440=\"\",\"\",VLOOKUP($G440,Lists!$BL$2:$BQ$478,COLUMN(),FALSE))","v":""},{"$f":"IF($G440=\"\",\"\",VLOOKUP($G440,Lists!$BL$2:$BQ$478,COLUMN(),FALSE))","v":""},{"$f":"IF($G440=\"\",\"\",VLOOKUP($G440,Lists!$BL$2:$BQ$478,COLUMN(),FALSE))","v":""}]
[null,{"$f":"IF($G441=\"\",\"\",VLOOKUP($G441,Lists!$BL$2:$BQ$478,COLUMN(),FALSE))","v":""},{"$f":"IF($G441=\"\",\"\",VLOOKUP($G441,Lists!$BL$2:$BQ$478,COLUMN(),FALSE))","v":""},{"$f":"IF($G441=\"\",\"\",VLOOKUP($G441,Lists!$BL$2:$BQ$478,COLUMN(),FALSE))","v":""},{"$f":"IF($G441=\"\",\"\",VLOOKUP($G441,Lists!$BL$2:$BQ$478,COLUMN(),FALSE))","v":""},{"$f":"IF($G441=\"\",\"\",VLOOKUP($G441,Lists!$BL$2:$BQ$478,COLUMN(),FALSE))","v":""}]
[null,{"$f":"IF($G442=\"\",\"\",VLOOKUP($G442,Lists!$BL$2:$BQ$478,COLUMN(),FALSE))","v":""},{"$f":"IF($G442=\"\",\"\",VLOOKUP($G442,Lists!$BL$2:$BQ$478,COLUMN(),FALSE))","v":""},{"$f":"IF($G442=\"\",\"\",VLOOKUP($G442,Lists!$BL$2:$BQ$478,COLUMN(),FALSE))","v":""},{"$f":"IF($G442=\"\",\"\",VLOOKUP($G442,Lists!$BL$2:$BQ$478,COLUMN(),FALSE))","v":""},{"$f":"IF($G442=\"\",\"\",VLOOKUP($G442,Lists!$BL$2:$BQ$478,COLUMN(),FALSE))","v":""}]
[null,{"$f":"IF($G443=\"\",\"\",VLOOKUP($G443,Lists!$BL$2:$BQ$478,COLUMN(),FALSE))","v":""},{"$f":"IF($G443=\"\",\"\",VLOOKUP($G443,Lists!$BL$2:$BQ$478,COLUMN(),FALSE))","v":""},{"$f":"IF($G443=\"\",\"\",VLOOKUP($G443,Lists!$BL$2:$BQ$478,COLUMN(),FALSE))","v":""},{"$f":"IF($G443=\"\",\"\",VLOOKUP($G443,Lists!$BL$2:$BQ$478,COLUMN(),FALSE))","v":""},{"$f":"IF($G443=\"\",\"\",VLOOKUP($G443,Lists!$BL$2:$BQ$478,COLUMN(),FALSE))","v":""}]
[null,{"$f":"IF($G444=\"\",\"\",VLOOKUP($G444,Lists!$BL$2:$BQ$478,COLUMN(),FALSE))","v":""},{"$f":"IF($G444=\"\",\"\",VLOOKUP($G444,Lists!$BL$2:$BQ$478,COLUMN(),FALSE))","v":""},{"$f":"IF($G444=\"\",\"\",VLOOKUP($G444,Lists!$BL$2:$BQ$478,COLUMN(),FALSE))","v":""},{"$f":"IF($G444=\"\",\"\",VLOOKUP($G444,Lists!$BL$2:$BQ$478,COLUMN(),FALSE))","v":""},{"$f":"IF($G444=\"\",\"\",VLOOKUP($G444,Lists!$BL$2:$BQ$478,COLUMN(),FALSE))","v":""}]
[null,{"$f":"IF($G445=\"\",\"\",VLOOKUP($G445,Lists!$BL$2:$BQ$478,COLUMN(),FALSE))","v":""},{"$f":"IF($G445=\"\",\"\",VLOOKUP($G445,Lists!$BL$2:$BQ$478,COLUMN(),FALSE))","v":""},{"$f":"IF($G445=\"\",\"\",VLOOKUP($G445,Lists!$BL$2:$BQ$478,COLUMN(),FALSE))","v":""},{"$f":"IF($G445=\"\",\"\",VLOOKUP($G445,Lists!$BL$2:$BQ$478,COLUMN(),FALSE))","v":""},{"$f":"IF($G445=\"\",\"\",VLOOKUP($G445,Lists!$BL$2:$BQ$478,COLUMN(),FALSE))","v":""}]
[null,{"$f":"IF($G446=\"\",\"\",VLOOKUP($G446,Lists!$BL$2:$BQ$478,COLUMN(),FALSE))","v":""},{"$f":"IF($G446=\"\",\"\",VLOOKUP($G446,Lists!$BL$2:$BQ$478,COLUMN(),FALSE))","v":""},{"$f":"IF($G446=\"\",\"\",VLOOKUP($G446,Lists!$BL$2:$BQ$478,COLUMN(),FALSE))","v":""},{"$f":"IF($G446=\"\",\"\",VLOOKUP($G446,Lists!$BL$2:$BQ$478,COLUMN(),FALSE))","v":""},{"$f":"IF($G446=\"\",\"\",VLOOKUP($G446,Lists!$BL$2:$BQ$478,COLUMN(),FALSE))","v":""}]
[null,{"$f":"IF($G447=\"\",\"\",VLOOKUP($G447,Lists!$BL$2:$BQ$478,COLUMN(),FALSE))","v":""},{"$f":"IF($G447=\"\",\"\",VLOOKUP($G447,Lists!$BL$2:$BQ$478,COLUMN(),FALSE))","v":""},{"$f":"IF($G447=\"\",\"\",VLOOKUP($G447,Lists!$BL$2:$BQ$478,COLUMN(),FALSE))","v":""},{"$f":"IF($G447=\"\",\"\",VLOOKUP($G447,Lists!$BL$2:$BQ$478,COLUMN(),FALSE))","v":""},{"$f":"IF($G447=\"\",\"\",VLOOKUP($G447,Lists!$BL$2:$BQ$478,COLUMN(),FALSE))","v":""}]
[null,{"$f":"IF($G448=\"\",\"\",VLOOKUP($G448,Lists!$BL$2:$BQ$478,COLUMN(),FALSE))","v":""},{"$f":"IF($G448=\"\",\"\",VLOOKUP($G448,Lists!$BL$2:$BQ$478,COLUMN(),FALSE))","v":""},{"$f":"IF($G448=\"\",\"\",VLOOKUP($G448,Lists!$BL$2:$BQ$478,COLUMN(),FALSE))","v":""},{"$f":"IF($G448=\"\",\"\",VLOOKUP($G448,Lists!$BL$2:$BQ$478,COLUMN(),FALSE))","v":""},{"$f":"IF($G448=\"\",\"\",VLOOKUP($G448,Lists!$BL$2:$BQ$478,COLUMN(),FALSE))","v":""}]
[null,{"$f":"IF($G449=\"\",\"\",VLOOKUP($G449,Lists!$BL$2:$BQ$478,COLUMN(),FALSE))","v":""},{"$f":"IF($G449=\"\",\"\",VLOOKUP($G449,Lists!$BL$2:$BQ$478,COLUMN(),FALSE))","v":""},{"$f":"IF($G449=\"\",\"\",VLOOKUP($G449,Lists!$BL$2:$BQ$478,COLUMN(),FALSE))","v":""},{"$f":"IF($G449=\"\",\"\",VLOOKUP($G449,Lists!$BL$2:$BQ$478,COLUMN(),FALSE))","v":""},{"$f":"IF($G449=\"\",\"\",VLOOKUP($G449,Lists!$BL$2:$BQ$478,COLUMN(),FALSE))","v":""}]
[null,{"$f":"IF($G450=\"\",\"\",VLOOKUP($G450,Lists!$BL$2:$BQ$478,COLUMN(),FALSE))","v":""},{"$f":"IF($G450=\"\",\"\",VLOOKUP($G450,Lists!$BL$2:$BQ$478,COLUMN(),FALSE))","v":""},{"$f":"IF($G450=\"\",\"\",VLOOKUP($G450,Lists!$BL$2:$BQ$478,COLUMN(),FALSE))","v":""},{"$f":"IF($G450=\"\",\"\",VLOOKUP($G450,Lists!$BL$2:$BQ$478,COLUMN(),FALSE))","v":""},{"$f":"IF($G450=\"\",\"\",VLOOKUP($G450,Lists!$BL$2:$BQ$478,COLUMN(),FALSE))","v":""}]
[null,{"$f":"IF($G451=\"\",\"\",VLOOKUP($G451,Lists!$BL$2:$BQ$478,COLUMN(),FALSE))","v":""},{"$f":"IF($G451=\"\",\"\",VLOOKUP($G451,Lists!$BL$2:$BQ$478,COLUMN(),FALSE))","v":""},{"$f":"IF($G451=\"\",\"\",VLOOKUP($G451,Lists!$BL$2:$BQ$478,COLUMN(),FALSE))","v":""},{"$f":"IF($G451=\"\",\"\",VLOOKUP($G451,Lists!$BL$2:$BQ$478,COLUMN(),FALSE))","v":""},{"$f":"IF($G451=\"\",\"\",VLOOKUP($G451,Lists!$BL$2:$BQ$478,COLUMN(),FALSE))","v":""}]
[null,{"$f":"IF($G452=\"\",\"\",VLOOKUP($G452,Lists!$BL$2:$BQ$478,COLUMN(),FALSE))","v":""},{"$f":"IF($G452=\"\",\"\",VLOOKUP($G452,Lists!$BL$2:$BQ$478,COLUMN(),FALSE))","v":""},{"$f":"IF($G452=\"\",\"\",VLOOKUP($G452,Lists!$BL$2:$BQ$478,COLUMN(),FALSE))","v":""},{"$f":"IF($G452=\"\",\"\",VLOOKUP($G452,Lists!$BL$2:$BQ$478,COLUMN(),FALSE))","v":""},{"$f":"IF($G452=\"\",\"\",VLOOKUP($G452,Lists!$BL$2:$BQ$478,COLUMN(),FALSE))","v":""}]
[null,{"$f":"IF($G453=\"\",\"\",VLOOKUP($G453,Lists!$BL$2:$BQ$478,COLUMN(),FALSE))","v":""},{"$f":"IF($G453=\"\",\"\",VLOOKUP($G453,Lists!$BL$2:$BQ$478,COLUMN(),FALSE))","v":""},{"$f":"IF($G453=\"\",\"\",VLOOKUP($G453,Lists!$BL$2:$BQ$478,COLUMN(),FALSE))","v":""},{"$f":"IF($G453=\"\",\"\",VLOOKUP($G453,Lists!$BL$2:$BQ$478,COLUMN(),FALSE))","v":""},{"$f":"IF($G453=\"\",\"\",VLOOKUP($G453,Lists!$BL$2:$BQ$478,COLUMN(),FALSE))","v":""}]
[null,{"$f":"IF($G454=\"\",\"\",VLOOKUP($G454,Lists!$BL$2:$BQ$478,COLUMN(),FALSE))","v":""},{"$f":"IF($G454=\"\",\"\",VLOOKUP($G454,Lists!$BL$2:$BQ$478,COLUMN(),FALSE))","v":""},{"$f":"IF($G454=\"\",\"\",VLOOKUP($G454,Lists!$BL$2:$BQ$478,COLUMN(),FALSE))","v":""},{"$f":"IF($G454=\"\",\"\",VLOOKUP($G454,Lists!$BL$2:$BQ$478,COLUMN(),FALSE))","v":""},{"$f":"IF($G454=\"\",\"\",VLOOKUP($G454,Lists!$BL$2:$BQ$478,COLUMN(),FALSE))","v":""}]
[null,{"$f":"IF($G455=\"\",\"\",VLOOKUP($G455,Lists!$BL$2:$BQ$478,COLUMN(),FALSE))","v":""},{"$f":"IF($G455=\"\",\"\",VLOOKUP($G455,Lists!$BL$2:$BQ$478,COLUMN(),FALSE))","v":""},{"$f":"IF($G455=\"\",\"\",VLOOKUP($G455,Lists!$BL$2:$BQ$478,COLUMN(),FALSE))","v":""},{"$f":"IF($G455=\"\",\"\",VLOOKUP($G455,Lists!$BL$2:$BQ$478,COLUMN(),FALSE))","v":""},{"$f":"IF($G455=\"\",\"\",VLOOKUP($G455,Lists!$BL$2:$BQ$478,COLUMN(),FALSE))","v":""}]
[null,{"$f":"IF($G456=\"\",\"\",VLOOKUP($G456,Lists!$BL$2:$BQ$478,COLUMN(),FALSE))","v":""},{"$f":"IF($G456=\"\",\"\",VLOOKUP($G456,Lists!$BL$2:$BQ$478,COLUMN(),FALSE))","v":""},{"$f":"IF($G456=\"\",\"\",VLOOKUP($G456,Lists!$BL$2:$BQ$478,COLUMN(),FALSE))","v":""},{"$f":"IF($G456=\"\",\"\",VLOOKUP($G456,Lists!$BL$2:$BQ$478,COLUMN(),FALSE))","v":""},{"$f":"IF($G456=\"\",\"\",VLOOKUP($G456,Lists!$BL$2:$BQ$478,COLUMN(),FALSE))","v":""}]
[null,{"$f":"IF($G457=\"\",\"\",VLOOKUP($G457,Lists!$BL$2:$BQ$478,COLUMN(),FALSE))","v":""},{"$f":"IF($G457=\"\",\"\",VLOOKUP($G457,Lists!$BL$2:$BQ$478,COLUMN(),FALSE))","v":""},{"$f":"IF($G457=\"\",\"\",VLOOKUP($G457,Lists!$BL$2:$BQ$478,COLUMN(),FALSE))","v":""},{"$f":"IF($G457=\"\",\"\",VLOOKUP($G457,Lists!$BL$2:$BQ$478,COLUMN(),FALSE))","v":""},{"$f":"IF($G457=\"\",\"\",VLOOKUP($G457,Lists!$BL$2:$BQ$478,COLUMN(),FALSE))","v":""}]
[null,{"$f":"IF($G458=\"\",\"\",VLOOKUP($G458,Lists!$BL$2:$BQ$478,COLUMN(),FALSE))","v":""},{"$f":"IF($G458=\"\",\"\",VLOOKUP($G458,Lists!$BL$2:$BQ$478,COLUMN(),FALSE))","v":""},{"$f":"IF($G458=\"\",\"\",VLOOKUP($G458,Lists!$BL$2:$BQ$478,COLUMN(),FALSE))","v":""},{"$f":"IF($G458=\"\",\"\",VLOOKUP($G458,Lists!$BL$2:$BQ$478,COLUMN(),FALSE))","v":""},{"$f":"IF($G458=\"\",\"\",VLOOKUP($G458,Lists!$BL$2:$BQ$478,COLUMN(),FALSE))","v":""}]
[null,{"$f":"IF($G459=\"\",\"\",VLOOKUP($G459,Lists!$BL$2:$BQ$478,COLUMN(),FALSE))","v":""},{"$f":"IF($G459=\"\",\"\",VLOOKUP($G459,Lists!$BL$2:$BQ$478,COLUMN(),FALSE))","v":""},{"$f":"IF($G459=\"\",\"\",VLOOKUP($G459,Lists!$BL$2:$BQ$478,COLUMN(),FALSE))","v":""},{"$f":"IF($G459=\"\",\"\",VLOOKUP($G459,Lists!$BL$2:$BQ$478,COLUMN(),FALSE))","v":""},{"$f":"IF($G459=\"\",\"\",VLOOKUP($G459,Lists!$BL$2:$BQ$478,COLUMN(),FALSE))","v":""}]
[null,{"$f":"IF($G460=\"\",\"\",VLOOKUP($G460,Lists!$BL$2:$BQ$478,COLUMN(),FALSE))","v":""},{"$f":"IF($G460=\"\",\"\",VLOOKUP($G460,Lists!$BL$2:$BQ$478,COLUMN(),FALSE))","v":""},{"$f":"IF($G460=\"\",\"\",VLOOKUP($G460,Lists!$BL$2:$BQ$478,COLUMN(),FALSE))","v":""},{"$f":"IF($G460=\"\",\"\",VLOOKUP($G460,Lists!$BL$2:$BQ$478,COLUMN(),FALSE))","v":""},{"$f":"IF($G460=\"\",\"\",VLOOKUP($G460,Lists!$BL$2:$BQ$478,COLUMN(),FALSE))","v":""}]
[null,{"$f":"IF($G461=\"\",\"\",VLOOKUP($G461,Lists!$BL$2:$BQ$478,COLUMN(),FALSE))","v":""},{"$f":"IF($G461=\"\",\"\",VLOOKUP($G461,Lists!$BL$2:$BQ$478,COLUMN(),FALSE))","v":""},{"$f":"IF($G461=\"\",\"\",VLOOKUP($G461,Lists!$BL$2:$BQ$478,COLUMN(),FALSE))","v":""},{"$f":"IF($G461=\"\",\"\",VLOOKUP($G461,Lists!$BL$2:$BQ$478,COLUMN(),FALSE))","v":""},{"$f":"IF($G461=\"\",\"\",VLOOKUP($G461,Lists!$BL$2:$BQ$478,COLUMN(),FALSE))","v":""}]
[null,{"$f":"IF($G462=\"\",\"\",VLOOKUP($G462,Lists!$BL$2:$BQ$478,COLUMN(),FALSE))","v":""},{"$f":"IF($G462=\"\",\"\",VLOOKUP($G462,Lists!$BL$2:$BQ$478,COLUMN(),FALSE))","v":""},{"$f":"IF($G462=\"\",\"\",VLOOKUP($G462,Lists!$BL$2:$BQ$478,COLUMN(),FALSE))","v":""},{"$f":"IF($G462=\"\",\"\",VLOOKUP($G462,Lists!$BL$2:$BQ$478,COLUMN(),FALSE))","v":""},{"$f":"IF($G462=\"\",\"\",VLOOKUP($G462,Lists!$BL$2:$BQ$478,COLUMN(),FALSE))","v":""}]
[null,{"$f":"IF($G463=\"\",\"\",VLOOKUP($G463,Lists!$BL$2:$BQ$478,COLUMN(),FALSE))","v":""},{"$f":"IF($G463=\"\",\"\",VLOOKUP($G463,Lists!$BL$2:$BQ$478,COLUMN(),FALSE))","v":""},{"$f":"IF($G463=\"\",\"\",VLOOKUP($G463,Lists!$BL$2:$BQ$478,COLUMN(),FALSE))","v":""},{"$f":"IF($G463=\"\",\"\",VLOOKUP($G463,Lists!$BL$2:$BQ$478,COLUMN(),FALSE))","v":""},{"$f":"IF($G463=\"\",\"\",VLOOKUP($G463,Lists!$BL$2:$BQ$478,COLUMN(),FALSE))","v":""}]
[null,{"$f":"IF($G464=\"\",\"\",VLOOKUP($G464,Lists!$BL$2:$BQ$478,COLUMN(),FALSE))","v":""},{"$f":"IF($G464=\"\",\"\",VLOOKUP($G464,Lists!$BL$2:$BQ$478,COLUMN(),FALSE))","v":""},{"$f":"IF($G464=\"\",\"\",VLOOKUP($G464,Lists!$BL$2:$BQ$478,COLUMN(),FALSE))","v":""},{"$f":"IF($G464=\"\",\"\",VLOOKUP($G464,Lists!$BL$2:$BQ$478,COLUMN(),FALSE))","v":""},{"$f":"IF($G464=\"\",\"\",VLOOKUP($G464,Lists!$BL$2:$BQ$478,COLUMN(),FALSE))","v":""}]
[null,{"$f":"IF($G465=\"\",\"\",VLOOKUP($G465,Lists!$BL$2:$BQ$478,COLUMN(),FALSE))","v":""},{"$f":"IF($G465=\"\",\"\",VLOOKUP($G465,Lists!$BL$2:$BQ$478,COLUMN(),FALSE))","v":""},{"$f":"IF($G465=\"\",\"\",VLOOKUP($G465,Lists!$BL$2:$BQ$478,COLUMN(),FALSE))","v":""},{"$f":"IF($G465=\"\",\"\",VLOOKUP($G465,Lists!$BL$2:$BQ$478,COLUMN(),FALSE))","v":""},{"$f":"IF($G465=\"\",\"\",VLOOKUP($G465,Lists!$BL$2:$BQ$478,COLUMN(),FALSE))","v":""}]
[null,{"$f":"IF($G466=\"\",\"\",VLOOKUP($G466,Lists!$BL$2:$BQ$478,COLUMN(),FALSE))","v":""},{"$f":"IF($G466=\"\",\"\",VLOOKUP($G466,Lists!$BL$2:$BQ$478,COLUMN(),FALSE))","v":""},{"$f":"IF($G466=\"\",\"\",VLOOKUP($G466,Lists!$BL$2:$BQ$478,COLUMN(),FALSE))","v":""},{"$f":"IF($G466=\"\",\"\",VLOOKUP($G466,Lists!$BL$2:$BQ$478,COLUMN(),FALSE))","v":""},{"$f":"IF($G466=\"\",\"\",VLOOKUP($G466,Lists!$BL$2:$BQ$478,COLUMN(),FALSE))","v":""}]
[null,{"$f":"IF($G467=\"\",\"\",VLOOKUP($G467,Lists!$BL$2:$BQ$478,COLUMN(),FALSE))","v":""},{"$f":"IF($G467=\"\",\"\",VLOOKUP($G467,Lists!$BL$2:$BQ$478,COLUMN(),FALSE))","v":""},{"$f":"IF($G467=\"\",\"\",VLOOKUP($G467,Lists!$BL$2:$BQ$478,COLUMN(),FALSE))","v":""},{"$f":"IF($G467=\"\",\"\",VLOOKUP($G467,Lists!$BL$2:$BQ$478,COLUMN(),FALSE))","v":""},{"$f":"IF($G467=\"\",\"\",VLOOKUP($G467,Lists!$BL$2:$BQ$478,COLUMN(),FALSE))","v":""}]
[null,{"$f":"IF($G468=\"\",\"\",VLOOKUP($G468,Lists!$BL$2:$BQ$478,COLUMN(),FALSE))","v":""},{"$f":"IF($G468=\"\",\"\",VLOOKUP($G468,Lists!$BL$2:$BQ$478,COLUMN(),FALSE))","v":""},{"$f":"IF($G468=\"\",\"\",VLOOKUP($G468,Lists!$BL$2:$BQ$478,COLUMN(),FALSE))","v":""},{"$f":"IF($G468=\"\",\"\",VLOOKUP($G468,Lists!$BL$2:$BQ$478,COLUMN(),FALSE))","v":""},{"$f":"IF($G468=\"\",\"\",VLOOKUP($G468,Lists!$BL$2:$BQ$478,COLUMN(),FALSE))","v":""}]
[null,{"$f":"IF($G469=\"\",\"\",VLOOKUP($G469,Lists!$BL$2:$BQ$478,COLUMN(),FALSE))","v":""},{"$f":"IF($G469=\"\",\"\",VLOOKUP($G469,Lists!$BL$2:$BQ$478,COLUMN(),FALSE))","v":""},{"$f":"IF($G469=\"\",\"\",VLOOKUP($G469,Lists!$BL$2:$BQ$478,COLUMN(),FALSE))","v":""},{"$f":"IF($G469=\"\",\"\",VLOOKUP($G469,Lists!$BL$2:$BQ$478,COLUMN(),FALSE))","v":""},{"$f":"IF($G469=\"\",\"\",VLOOKUP($G469,Lists!$BL$2:$BQ$478,COLUMN(),FALSE))","v":""}]
[null,{"$f":"IF($G470=\"\",\"\",VLOOKUP($G470,Lists!$BL$2:$BQ$478,COLUMN(),FALSE))","v":""},{"$f":"IF($G470=\"\",\"\",VLOOKUP($G470,Lists!$BL$2:$BQ$478,COLUMN(),FALSE))","v":""},{"$f":"IF($G470=\"\",\"\",VLOOKUP($G470,Lists!$BL$2:$BQ$478,COLUMN(),FALSE))","v":""},{"$f":"IF($G470=\"\",\"\",VLOOKUP($G470,Lists!$BL$2:$BQ$478,COLUMN(),FALSE))","v":""},{"$f":"IF($G470=\"\",\"\",VLOOKUP($G470,Lists!$BL$2:$BQ$478,COLUMN(),FALSE))","v":""}]
[null,{"$f":"IF($G471=\"\",\"\",VLOOKUP($G471,Lists!$BL$2:$BQ$478,COLUMN(),FALSE))","v":""},{"$f":"IF($G471=\"\",\"\",VLOOKUP($G471,Lists!$BL$2:$BQ$478,COLUMN(),FALSE))","v":""},{"$f":"IF($G471=\"\",\"\",VLOOKUP($G471,Lists!$BL$2:$BQ$478,COLUMN(),FALSE))","v":""},{"$f":"IF($G471=\"\",\"\",VLOOKUP($G471,Lists!$BL$2:$BQ$478,COLUMN(),FALSE))","v":""},{"$f":"IF($G471=\"\",\"\",VLOOKUP($G471,Lists!$BL$2:$BQ$478,COLUMN(),FALSE))","v":""}]
[null,{"$f":"IF($G472=\"\",\"\",VLOOKUP($G472,Lists!$BL$2:$BQ$478,COLUMN(),FALSE))","v":""},{"$f":"IF($G472=\"\",\"\",VLOOKUP($G472,Lists!$BL$2:$BQ$478,COLUMN(),FALSE))","v":""},{"$f":"IF($G472=\"\",\"\",VLOOKUP($G472,Lists!$BL$2:$BQ$478,COLUMN(),FALSE))","v":""},{"$f":"IF($G472=\"\",\"\",VLOOKUP($G472,Lists!$BL$2:$BQ$478,COLUMN(),FALSE))","v":""},{"$f":"IF($G472=\"\",\"\",VLOOKUP($G472,Lists!$BL$2:$BQ$478,COLUMN(),FALSE))","v":""}]
[null,{"$f":"IF($G473=\"\",\"\",VLOOKUP($G473,Lists!$BL$2:$BQ$478,COLUMN(),FALSE))","v":""},{"$f":"IF($G473=\"\",\"\",VLOOKUP($G473,Lists!$BL$2:$BQ$478,COLUMN(),FALSE))","v":""},{"$f":"IF($G473=\"\",\"\",VLOOKUP($G473,Lists!$BL$2:$BQ$478,COLUMN(),FALSE))","v":""},{"$f":"IF($G473=\"\",\"\",VLOOKUP($G473,Lists!$BL$2:$BQ$478,COLUMN(),FALSE))","v":""},{"$f":"IF($G473=\"\",\"\",VLOOKUP($G473,Lists!$BL$2:$BQ$478,COLUMN(),FALSE))","v":""}]
[null,{"$f":"IF($G474=\"\",\"\",VLOOKUP($G474,Lists!$BL$2:$BQ$478,COLUMN(),FALSE))","v":""},{"$f":"IF($G474=\"\",\"\",VLOOKUP($G474,Lists!$BL$2:$BQ$478,COLUMN(),FALSE))","v":""},{"$f":"IF($G474=\"\",\"\",VLOOKUP($G474,Lists!$BL$2:$BQ$478,COLUMN(),FALSE))","v":""},{"$f":"IF($G474=\"\",\"\",VLOOKUP($G474,Lists!$BL$2:$BQ$478,COLUMN(),FALSE))","v":""},{"$f":"IF($G474=\"\",\"\",VLOOKUP($G474,Lists!$BL$2:$BQ$478,COLUMN(),FALSE))","v":""}]
[null,{"$f":"IF($G475=\"\",\"\",VLOOKUP($G475,Lists!$BL$2:$BQ$478,COLUMN(),FALSE))","v":""},{"$f":"IF($G475=\"\",\"\",VLOOKUP($G475,Lists!$BL$2:$BQ$478,COLUMN(),FALSE))","v":""},{"$f":"IF($G475=\"\",\"\",VLOOKUP($G475,Lists!$BL$2:$BQ$478,COLUMN(),FALSE))","v":""},{"$f":"IF($G475=\"\",\"\",VLOOKUP($G475,Lists!$BL$2:$BQ$478,COLUMN(),FALSE))","v":""},{"$f":"IF($G475=\"\",\"\",VLOOKUP($G475,Lists!$BL$2:$BQ$478,COLUMN(),FALSE))","v":""}]
[null,{"$f":"IF($G476=\"\",\"\",VLOOKUP($G476,Lists!$BL$2:$BQ$478,COLUMN(),FALSE))","v":""},{"$f":"IF($G476=\"\",\"\",VLOOKUP($G476,Lists!$BL$2:$BQ$478,COLUMN(),FALSE))","v":""},{"$f":"IF($G476=\"\",\"\",VLOOKUP($G476,Lists!$BL$2:$BQ$478,COLUMN(),FALSE))","v":""},{"$f":"IF($G476=\"\",\"\",VLOOKUP($G476,Lists!$BL$2:$BQ$478,COLUMN(),FALSE))","v":""},{"$f":"IF($G476=\"\",\"\",VLOOKUP($G476,Lists!$BL$2:$BQ$478,COLUMN(),FALSE))","v":""}]
[null,{"$f":"IF($G477=\"\",\"\",VLOOKUP($G477,Lists!$BL$2:$BQ$478,COLUMN(),FALSE))","v":""},{"$f":"IF($G477=\"\",\"\",VLOOKUP($G477,Lists!$BL$2:$BQ$478,COLUMN(),FALSE))","v":""},{"$f":"IF($G477=\"\",\"\",VLOOKUP($G477,Lists!$BL$2:$BQ$478,COLUMN(),FALSE))","v":""},{"$f":"IF($G477=\"\",\"\",VLOOKUP($G477,Lists!$BL$2:$BQ$478,COLUMN(),FALSE))","v":""},{"$f":"IF($G477=\"\",\"\",VLOOKUP($G477,Lists!$BL$2:$BQ$478,COLUMN(),FALSE))","v":""}]
[null,{"$f":"IF($G478=\"\",\"\",VLOOKUP($G478,Lists!$BL$2:$BQ$478,COLUMN(),FALSE))","v":""},{"$f":"IF($G478=\"\",\"\",VLOOKUP($G478,Lists!$BL$2:$BQ$478,COLUMN(),FALSE))","v":""},{"$f":"IF($G478=\"\",\"\",VLOOKUP($G478,Lists!$BL$2:$BQ$478,COLUMN(),FALSE))","v":""},{"$f":"IF($G478=\"\",\"\",VLOOKUP($G478,Lists!$BL$2:$BQ$478,COLUMN(),FALSE))","v":""},{"$f":"IF($G478=\"\",\"\",VLOOKUP($G478,Lists!$BL$2:$BQ$478,COLUMN(),FALSE))","v":""}]
[null,{"$f":"IF($G479=\"\",\"\",VLOOKUP($G479,Lists!$BL$2:$BQ$478,COLUMN(),FALSE))","v":""},{"$f":"IF($G479=\"\",\"\",VLOOKUP($G479,Lists!$BL$2:$BQ$478,COLUMN(),FALSE))","v":""},{"$f":"IF($G479=\"\",\"\",VLOOKUP($G479,Lists!$BL$2:$BQ$478,COLUMN(),FALSE))","v":""},{"$f":"IF($G479=\"\",\"\",VLOOKUP($G479,Lists!$BL$2:$BQ$478,COLUMN(),FALSE))","v":""},{"$f":"IF($G479=\"\",\"\",VLOOKUP($G479,Lists!$BL$2:$BQ$478,COLUMN(),FALSE))","v":""}]
[null,{"$f":"IF($G480=\"\",\"\",VLOOKUP($G480,Lists!$BL$2:$BQ$478,COLUMN(),FALSE))","v":""},{"$f":"IF($G480=\"\",\"\",VLOOKUP($G480,Lists!$BL$2:$BQ$478,COLUMN(),FALSE))","v":""},{"$f":"IF($G480=\"\",\"\",VLOOKUP($G480,Lists!$BL$2:$BQ$478,COLUMN(),FALSE))","v":""},{"$f":"IF($G480=\"\",\"\",VLOOKUP($G480,Lists!$BL$2:$BQ$478,COLUMN(),FALSE))","v":""},{"$f":"IF($G480=\"\",\"\",VLOOKUP($G480,Lists!$BL$2:$BQ$478,COLUMN(),FALSE))","v":""}]
[null,{"$f":"IF($G481=\"\",\"\",VLOOKUP($G481,Lists!$BL$2:$BQ$478,COLUMN(),FALSE))","v":""},{"$f":"IF($G481=\"\",\"\",VLOOKUP($G481,Lists!$BL$2:$BQ$478,COLUMN(),FALSE))","v":""},{"$f":"IF($G481=\"\",\"\",VLOOKUP($G481,Lists!$BL$2:$BQ$478,COLUMN(),FALSE))","v":""},{"$f":"IF($G481=\"\",\"\",VLOOKUP($G481,Lists!$BL$2:$BQ$478,COLUMN(),FALSE))","v":""},{"$f":"IF($G481=\"\",\"\",VLOOKUP($G481,Lists!$BL$2:$BQ$478,COLUMN(),FALSE))","v":""}]
[null,{"$f":"IF($G482=\"\",\"\",VLOOKUP($G482,Lists!$BL$2:$BQ$478,COLUMN(),FALSE))","v":""},{"$f":"IF($G482=\"\",\"\",VLOOKUP($G482,Lists!$BL$2:$BQ$478,COLUMN(),FALSE))","v":""},{"$f":"IF($G482=\"\",\"\",VLOOKUP($G482,Lists!$BL$2:$BQ$478,COLUMN(),FALSE))","v":""},{"$f":"IF($G482=\"\",\"\",VLOOKUP($G482,Lists!$BL$2:$BQ$478,COLUMN(),FALSE))","v":""},{"$f":"IF($G482=\"\",\"\",VLOOKUP($G482,Lists!$BL$2:$BQ$478,COLUMN(),FALSE))","v":""}]
[null,{"$f":"IF($G483=\"\",\"\",VLOOKUP($G483,Lists!$BL$2:$BQ$478,COLUMN(),FALSE))","v":""},{"$f":"IF($G483=\"\",\"\",VLOOKUP($G483,Lists!$BL$2:$BQ$478,COLUMN(),FALSE))","v":""},{"$f":"IF($G483=\"\",\"\",VLOOKUP($G483,Lists!$BL$2:$BQ$478,COLUMN(),FALSE))","v":""},{"$f":"IF($G483=\"\",\"\",VLOOKUP($G483,Lists!$BL$2:$BQ$478,COLUMN(),FALSE))","v":""},{"$f":"IF($G483=\"\",\"\",VLOOKUP($G483,Lists!$BL$2:$BQ$478,COLUMN(),FALSE))","v":""}]
[null,{"$f":"IF($G484=\"\",\"\",VLOOKUP($G484,Lists!$BL$2:$BQ$478,COLUMN(),FALSE))","v":""},{"$f":"IF($G484=\"\",\"\",VLOOKUP($G484,Lists!$BL$2:$BQ$478,COLUMN(),FALSE))","v":""},{"$f":"IF($G484=\"\",\"\",VLOOKUP($G484,Lists!$BL$2:$BQ$478,COLUMN(),FALSE))","v":""},{"$f":"IF($G484=\"\",\"\",VLOOKUP($G484,Lists!$BL$2:$BQ$478,COLUMN(),FALSE))","v":""},{"$f":"IF($G484=\"\",\"\",VLOOKUP($G484,Lists!$BL$2:$BQ$478,COLUMN(),FALSE))","v":""}]
[null,{"$f":"IF($G485=\"\",\"\",VLOOKUP($G485,Lists!$BL$2:$BQ$478,COLUMN(),FALSE))","v":""},{"$f":"IF($G485=\"\",\"\",VLOOKUP($G485,Lists!$BL$2:$BQ$478,COLUMN(),FALSE))","v":""},{"$f":"IF($G485=\"\",\"\",VLOOKUP($G485,Lists!$BL$2:$BQ$478,COLUMN(),FALSE))","v":""},{"$f":"IF($G485=\"\",\"\",VLOOKUP($G485,Lists!$BL$2:$BQ$478,COLUMN(),FALSE))","v":""},{"$f":"IF($G485=\"\",\"\",VLOOKUP($G485,Lists!$BL$2:$BQ$478,COLUMN(),FALSE))","v":""}]
[null,{"$f":"IF($G486=\"\",\"\",VLOOKUP($G486,Lists!$BL$2:$BQ$478,COLUMN(),FALSE))","v":""},{"$f":"IF($G486=\"\",\"\",VLOOKUP($G486,Lists!$BL$2:$BQ$478,COLUMN(),FALSE))","v":""},{"$f":"IF($G486=\"\",\"\",VLOOKUP($G486,Lists!$BL$2:$BQ$478,COLUMN(),FALSE))","v":""},{"$f":"IF($G486=\"\",\"\",VLOOKUP($G486,Lists!$BL$2:$BQ$478,COLUMN(),FALSE))","v":""},{"$f":"IF($G486=\"\",\"\",VLOOKUP($G486,Lists!$BL$2:$BQ$478,COLUMN(),FALSE))","v":""}]
[null,{"$f":"IF($G487=\"\",\"\",VLOOKUP($G487,Lists!$BL$2:$BQ$478,COLUMN(),FALSE))","v":""},{"$f":"IF($G487=\"\",\"\",VLOOKUP($G487,Lists!$BL$2:$BQ$478,COLUMN(),FALSE))","v":""},{"$f":"IF($G487=\"\",\"\",VLOOKUP($G487,Lists!$BL$2:$BQ$478,COLUMN(),FALSE))","v":""},{"$f":"IF($G487=\"\",\"\",VLOOKUP($G487,Lists!$BL$2:$BQ$478,COLUMN(),FALSE))","v":""},{"$f":"IF($G487=\"\",\"\",VLOOKUP($G487,Lists!$BL$2:$BQ$478,COLUMN(),FALSE))","v":""}]
[null,{"$f":"IF($G488=\"\",\"\",VLOOKUP($G488,Lists!$BL$2:$BQ$478,COLUMN(),FALSE))","v":""},{"$f":"IF($G488=\"\",\"\",VLOOKUP($G488,Lists!$BL$2:$BQ$478,COLUMN(),FALSE))","v":""},{"$f":"IF($G488=\"\",\"\",VLOOKUP($G488,Lists!$BL$2:$BQ$478,COLUMN(),FALSE))","v":""},{"$f":"IF($G488=\"\",\"\",VLOOKUP($G488,Lists!$BL$2:$BQ$478,COLUMN(),FALSE))","v":""},{"$f":"IF($G488=\"\",\"\",VLOOKUP($G488,Lists!$BL$2:$BQ$478,COLUMN(),FALSE))","v":""}]
[null,{"$f":"IF($G489=\"\",\"\",VLOOKUP($G489,Lists!$BL$2:$BQ$478,COLUMN(),FALSE))","v":""},{"$f":"IF($G489=\"\",\"\",VLOOKUP($G489,Lists!$BL$2:$BQ$478,COLUMN(),FALSE))","v":""},{"$f":"IF($G489=\"\",\"\",VLOOKUP($G489,Lists!$BL$2:$BQ$478,COLUMN(),FALSE))","v":""},{"$f":"IF($G489=\"\",\"\",VLOOKUP($G489,Lists!$BL$2:$BQ$478,COLUMN(),FALSE))","v":""},{"$f":"IF($G489=\"\",\"\",VLOOKUP($G489,Lists!$BL$2:$BQ$478,COLUMN(),FALSE))","v":""}]
[null,{"$f":"IF($G490=\"\",\"\",VLOOKUP($G490,Lists!$BL$2:$BQ$478,COLUMN(),FALSE))","v":""},{"$f":"IF($G490=\"\",\"\",VLOOKUP($G490,Lists!$BL$2:$BQ$478,COLUMN(),FALSE))","v":""},{"$f":"IF($G490=\"\",\"\",VLOOKUP($G490,Lists!$BL$2:$BQ$478,COLUMN(),FALSE))","v":""},{"$f":"IF($G490=\"\",\"\",VLOOKUP($G490,Lists!$BL$2:$BQ$478,COLUMN(),FALSE))","v":""},{"$f":"IF($G490=\"\",\"\",VLOOKUP($G490,Lists!$BL$2:$BQ$478,COLUMN(),FALSE))","v":""}]
[null,{"$f":"IF($G491=\"\",\"\",VLOOKUP($G491,Lists!$BL$2:$BQ$478,COLUMN(),FALSE))","v":""},{"$f":"IF($G491=\"\",\"\",VLOOKUP($G491,Lists!$BL$2:$BQ$478,COLUMN(),FALSE))","v":""},{"$f":"IF($G491=\"\",\"\",VLOOKUP($G491,Lists!$BL$2:$BQ$478,COLUMN(),FALSE))","v":""},{"$f":"IF($G491=\"\",\"\",VLOOKUP($G491,Lists!$BL$2:$BQ$478,COLUMN(),FALSE))","v":""},{"$f":"IF($G491=\"\",\"\",VLOOKUP($G491,Lists!$BL$2:$BQ$478,COLUMN(),FALSE))","v":""}]
[null,{"$f":"IF($G492=\"\",\"\",VLOOKUP($G492,Lists!$BL$2:$BQ$478,COLUMN(),FALSE))","v":""},{"$f":"IF($G492=\"\",\"\",VLOOKUP($G492,Lists!$BL$2:$BQ$478,COLUMN(),FALSE))","v":""},{"$f":"IF($G492=\"\",\"\",VLOOKUP($G492,Lists!$BL$2:$BQ$478,COLUMN(),FALSE))","v":""},{"$f":"IF($G492=\"\",\"\",VLOOKUP($G492,Lists!$BL$2:$BQ$478,COLUMN(),FALSE))","v":""},{"$f":"IF($G492=\"\",\"\",VLOOKUP($G492,Lists!$BL$2:$BQ$478,COLUMN(),FALSE))","v":""}]
[null,{"$f":"IF($G493=\"\",\"\",VLOOKUP($G493,Lists!$BL$2:$BQ$478,COLUMN(),FALSE))","v":""},{"$f":"IF($G493=\"\",\"\",VLOOKUP($G493,Lists!$BL$2:$BQ$478,COLUMN(),FALSE))","v":""},{"$f":"IF($G493=\"\",\"\",VLOOKUP($G493,Lists!$BL$2:$BQ$478,COLUMN(),FALSE))","v":""},{"$f":"IF($G493=\"\",\"\",VLOOKUP($G493,Lists!$BL$2:$BQ$478,COLUMN(),FALSE))","v":""},{"$f":"IF($G493=\"\",\"\",VLOOKUP($G493,Lists!$BL$2:$BQ$478,COLUMN(),FALSE))","v":""}]
[null,{"$f":"IF($G494=\"\",\"\",VLOOKUP($G494,Lists!$BL$2:$BQ$478,COLUMN(),FALSE))","v":""},{"$f":"IF($G494=\"\",\"\",VLOOKUP($G494,Lists!$BL$2:$BQ$478,COLUMN(),FALSE))","v":""},{"$f":"IF($G494=\"\",\"\",VLOOKUP($G494,Lists!$BL$2:$BQ$478,COLUMN(),FALSE))","v":""},{"$f":"IF($G494=\"\",\"\",VLOOKUP($G494,Lists!$BL$2:$BQ$478,COLUMN(),FALSE))","v":""},{"$f":"IF($G494=\"\",\"\",VLOOKUP($G494,Lists!$BL$2:$BQ$478,COLUMN(),FALSE))","v":""}]
[null,{"$f":"IF($G495=\"\",\"\",VLOOKUP($G495,Lists!$BL$2:$BQ$478,COLUMN(),FALSE))","v":""},{"$f":"IF($G495=\"\",\"\",VLOOKUP($G495,Lists!$BL$2:$BQ$478,COLUMN(),FALSE))","v":""},{"$f":"IF($G495=\"\",\"\",VLOOKUP($G495,Lists!$BL$2:$BQ$478,COLUMN(),FALSE))","v":""},{"$f":"IF($G495=\"\",\"\",VLOOKUP($G495,Lists!$BL$2:$BQ$478,COLUMN(),FALSE))","v":""},{"$f":"IF($G495=\"\",\"\",VLOOKUP($G495,Lists!$BL$2:$BQ$478,COLUMN(),FALSE))","v":""}]
[null,{"$f":"IF($G496=\"\",\"\",VLOOKUP($G496,Lists!$BL$2:$BQ$478,COLUMN(),FALSE))","v":""},{"$f":"IF($G496=\"\",\"\",VLOOKUP($G496,Lists!$BL$2:$BQ$478,COLUMN(),FALSE))","v":""},{"$f":"IF($G496=\"\",\"\",VLOOKUP($G496,Lists!$BL$2:$BQ$478,COLUMN(),FALSE))","v":""},{"$f":"IF($G496=\"\",\"\",VLOOKUP($G496,Lists!$BL$2:$BQ$478,COLUMN(),FALSE))","v":""},{"$f":"IF($G496=\"\",\"\",VLOOKUP($G496,Lists!$BL$2:$BQ$478,COLUMN(),FALSE))","v":""}]
[null,{"$f":"IF($G497=\"\",\"\",VLOOKUP($G497,Lists!$BL$2:$BQ$478,COLUMN(),FALSE))","v":""},{"$f":"IF($G497=\"\",\"\",VLOOKUP($G497,Lists!$BL$2:$BQ$478,COLUMN(),FALSE))","v":""},{"$f":"IF($G497=\"\",\"\",VLOOKUP($G497,Lists!$BL$2:$BQ$478,COLUMN(),FALSE))","v":""},{"$f":"IF($G497=\"\",\"\",VLOOKUP($G497,Lists!$BL$2:$BQ$478,COLUMN(),FALSE))","v":""},{"$f":"IF($G497=\"\",\"\",VLOOKUP($G497,Lists!$BL$2:$BQ$478,COLUMN(),FALSE))","v":""}]
[null,{"$f":"IF($G498=\"\",\"\",VLOOKUP($G498,Lists!$BL$2:$BQ$478,COLUMN(),FALSE))","v":""},{"$f":"IF($G498=\"\",\"\",VLOOKUP($G498,Lists!$BL$2:$BQ$478,COLUMN(),FALSE))","v":""},{"$f":"IF($G498=\"\",\"\",VLOOKUP($G498,Lists!$BL$2:$BQ$478,COLUMN(),FALSE))","v":""},{"$f":"IF($G498=\"\",\"\",VLOOKUP($G498,Lists!$BL$2:$BQ$478,COLUMN(),FALSE))","v":""},{"$f":"IF($G498=\"\",\"\",VLOOKUP($G498,Lists!$BL$2:$BQ$478,COLUMN(),FALSE))","v":""}]
[null,{"$f":"IF($G499=\"\",\"\",VLOOKUP($G499,Lists!$BL$2:$BQ$478,COLUMN(),FALSE))","v":""},{"$f":"IF($G499=\"\",\"\",VLOOKUP($G499,Lists!$BL$2:$BQ$478,COLUMN(),FALSE))","v":""},{"$f":"IF($G499=\"\",\"\",VLOOKUP($G499,Lists!$BL$2:$BQ$478,COLUMN(),FALSE))","v":""},{"$f":"IF($G499=\"\",\"\",VLOOKUP($G499,Lists!$BL$2:$BQ$478,COLUMN(),FALSE))","v":""},{"$f":"IF($G499=\"\",\"\",VLOOKUP($G499,Lists!$BL$2:$BQ$478,COLUMN(),FALSE))","v":""}]
[null,{"$f":"IF($G500=\"\",\"\",VLOOKUP($G500,Lists!$BL$2:$BQ$478,COLUMN(),FALSE))","v":""},{"$f":"IF($G500=\"\",\"\",VLOOKUP($G500,Lists!$BL$2:$BQ$478,COLUMN(),FALSE))","v":""},{"$f":"IF($G500=\"\",\"\",VLOOKUP($G500,Lists!$BL$2:$BQ$478,COLUMN(),FALSE))","v":""},{"$f":"IF($G500=\"\",\"\",VLOOKUP($G500,Lists!$BL$2:$BQ$478,COLUMN(),FALSE))","v":""},{"$f":"IF($G500=\"\",\"\",VLOOKUP($G500,Lists!$BL$2:$BQ$478,COLUMN(),FALSE))","v":""}]
[null,{"$f":"IF($G501=\"\",\"\",VLOOKUP($G501,Lists!$BL$2:$BQ$478,COLUMN(),FALSE))","v":""},{"$f":"IF($G501=\"\",\"\",VLOOKUP($G501,Lists!$BL$2:$BQ$478,COLUMN(),FALSE))","v":""},{"$f":"IF($G501=\"\",\"\",VLOOKUP($G501,Lists!$BL$2:$BQ$478,COLUMN(),FALSE))","v":""},{"$f":"IF($G501=\"\",\"\",VLOOKUP($G501,Lists!$BL$2:$BQ$478,COLUMN(),FALSE))","v":""},{"$f":"IF($G501=\"\",\"\",VLOOKUP($G501,Lists!$BL$2:$BQ$478,COLUMN(),FALSE))","v":""}]
[null,{"$f":"IF($G502=\"\",\"\",VLOOKUP($G502,Lists!$BL$2:$BQ$478,COLUMN(),FALSE))","v":""},{"$f":"IF($G502=\"\",\"\",VLOOKUP($G502,Lists!$BL$2:$BQ$478,COLUMN(),FALSE))","v":""},{"$f":"IF($G502=\"\",\"\",VLOOKUP($G502,Lists!$BL$2:$BQ$478,COLUMN(),FALSE))","v":""},{"$f":"IF($G502=\"\",\"\",VLOOKUP($G502,Lists!$BL$2:$BQ$478,COLUMN(),FALSE))","v":""},{"$f":"IF($G502=\"\",\"\",VLOOKUP($G502,Lists!$BL$2:$BQ$478,COLUMN(),FALSE))","v":""}]
[null,{"$f":"IF($G503=\"\",\"\",VLOOKUP($G503,Lists!$BL$2:$BQ$478,COLUMN(),FALSE))","v":""},{"$f":"IF($G503=\"\",\"\",VLOOKUP($G503,Lists!$BL$2:$BQ$478,COLUMN(),FALSE))","v":""},{"$f":"IF($G503=\"\",\"\",VLOOKUP($G503,Lists!$BL$2:$BQ$478,COLUMN(),FALSE))","v":""},{"$f":"IF($G503=\"\",\"\",VLOOKUP($G503,Lists!$BL$2:$BQ$478,COLUMN(),FALSE))","v":""},{"$f":"IF($G503=\"\",\"\",VLOOKUP($G503,Lists!$BL$2:$BQ$478,COLUMN(),FALSE))","v":""}]
[null,{"$f":"IF($G504=\"\",\"\",VLOOKUP($G504,Lists!$BL$2:$BQ$478,COLUMN(),FALSE))","v":""},{"$f":"IF($G504=\"\",\"\",VLOOKUP($G504,Lists!$BL$2:$BQ$478,COLUMN(),FALSE))","v":""},{"$f":"IF($G504=\"\",\"\",VLOOKUP($G504,Lists!$BL$2:$BQ$478,COLUMN(),FALSE))","v":""},{"$f":"IF($G504=\"\",\"\",VLOOKUP($G504,Lists!$BL$2:$BQ$478,COLUMN(),FALSE))","v":""},{"$f":"IF($G504=\"\",\"\",VLOOKUP($G504,Lists!$BL$2:$BQ$478,COLUMN(),FALSE))","v":""}]
[null,{"$f":"IF($G505=\"\",\"\",VLOOKUP($G505,Lists!$BL$2:$BQ$478,COLUMN(),FALSE))","v":""},{"$f":"IF($G505=\"\",\"\",VLOOKUP($G505,Lists!$BL$2:$BQ$478,COLUMN(),FALSE))","v":""},{"$f":"IF($G505=\"\",\"\",VLOOKUP($G505,Lists!$BL$2:$BQ$478,COLUMN(),FALSE))","v":""},{"$f":"IF($G505=\"\",\"\",VLOOKUP($G505,Lists!$BL$2:$BQ$478,COLUMN(),FALSE))","v":""},{"$f":"IF($G505=\"\",\"\",VLOOKUP($G505,Lists!$BL$2:$BQ$478,COLUMN(),FALSE))","v":""}]
[null,{"$f":"IF($G506=\"\",\"\",VLOOKUP($G506,Lists!$BL$2:$BQ$478,COLUMN(),FALSE))","v":""},{"$f":"IF($G506=\"\",\"\",VLOOKUP($G506,Lists!$BL$2:$BQ$478,COLUMN(),FALSE))","v":""},{"$f":"IF($G506=\"\",\"\",VLOOKUP($G506,Lists!$BL$2:$BQ$478,COLUMN(),FALSE))","v":""},{"$f":"IF($G506=\"\",\"\",VLOOKUP($G506,Lists!$BL$2:$BQ$478,COLUMN(),FALSE))","v":""},{"$f":"IF($G506=\"\",\"\",VLOOKUP($G506,Lists!$BL$2:$BQ$478,COLUMN(),FALSE))","v":""}]
[null,{"$f":"IF($G507=\"\",\"\",VLOOKUP($G507,Lists!$BL$2:$BQ$478,COLUMN(),FALSE))","v":""},{"$f":"IF($G507=\"\",\"\",VLOOKUP($G507,Lists!$BL$2:$BQ$478,COLUMN(),FALSE))","v":""},{"$f":"IF($G507=\"\",\"\",VLOOKUP($G507,Lists!$BL$2:$BQ$478,COLUMN(),FALSE))","v":""},{"$f":"IF($G507=\"\",\"\",VLOOKUP($G507,Lists!$BL$2:$BQ$478,COLUMN(),FALSE))","v":""},{"$f":"IF($G507=\"\",\"\",VLOOKUP($G507,Lists!$BL$2:$BQ$478,COLUMN(),FALSE))","v":""}]
[null,{"$f":"IF($G508=\"\",\"\",VLOOKUP($G508,Lists!$BL$2:$BQ$478,COLUMN(),FALSE))","v":""},{"$f":"IF($G508=\"\",\"\",VLOOKUP($G508,Lists!$BL$2:$BQ$478,COLUMN(),FALSE))","v":""},{"$f":"IF($G508=\"\",\"\",VLOOKUP($G508,Lists!$BL$2:$BQ$478,COLUMN(),FALSE))","v":""},{"$f":"IF($G508=\"\",\"\",VLOOKUP($G508,Lists!$BL$2:$BQ$478,COLUMN(),FALSE))","v":""},{"$f":"IF($G508=\"\",\"\",VLOOKUP($G508,Lists!$BL$2:$BQ$478,COLUMN(),FALSE))","v":""}]
[null,{"$f":"IF($G509=\"\",\"\",VLOOKUP($G509,Lists!$BL$2:$BQ$478,COLUMN(),FALSE))","v":""},{"$f":"IF($G509=\"\",\"\",VLOOKUP($G509,Lists!$BL$2:$BQ$478,COLUMN(),FALSE))","v":""},{"$f":"IF($G509=\"\",\"\",VLOOKUP($G509,Lists!$BL$2:$BQ$478,COLUMN(),FALSE))","v":""},{"$f":"IF($G509=\"\",\"\",VLOOKUP($G509,Lists!$BL$2:$BQ$478,COLUMN(),FALSE))","v":""},{"$f":"IF($G509=\"\",\"\",VLOOKUP($G509,Lists!$BL$2:$BQ$478,COLUMN(),FALSE))","v":""}]
[null,{"$f":"IF($G510=\"\",\"\",VLOOKUP($G510,Lists!$BL$2:$BQ$478,COLUMN(),FALSE))","v":""},{"$f":"IF($G510=\"\",\"\",VLOOKUP($G510,Lists!$BL$2:$BQ$478,COLUMN(),FALSE))","v":""},{"$f":"IF($G510=\"\",\"\",VLOOKUP($G510,Lists!$BL$2:$BQ$478,COLUMN(),FALSE))","v":""},{"$f":"IF($G510=\"\",\"\",VLOOKUP($G510,Lists!$BL$2:$BQ$478,COLUMN(),FALSE))","v":""},{"$f":"IF($G510=\"\",\"\",VLOOKUP($G510,Lists!$BL$2:$BQ$478,COLUMN(),FALSE))","v":""}]
[null,{"$f":"IF($G511=\"\",\"\",VLOOKUP($G511,Lists!$BL$2:$BQ$478,COLUMN(),FALSE))","v":""},{"$f":"IF($G511=\"\",\"\",VLOOKUP($G511,Lists!$BL$2:$BQ$478,COLUMN(),FALSE))","v":""},{"$f":"IF($G511=\"\",\"\",VLOOKUP($G511,Lists!$BL$2:$BQ$478,COLUMN(),FALSE))","v":""},{"$f":"IF($G511=\"\",\"\",VLOOKUP($G511,Lists!$BL$2:$BQ$478,COLUMN(),FALSE))","v":""},{"$f":"IF($G511=\"\",\"\",VLOOKUP($G511,Lists!$BL$2:$BQ$478,COLUMN(),FALSE))","v":""}]
[null,{"$f":"IF($G512=\"\",\"\",VLOOKUP($G512,Lists!$BL$2:$BQ$478,COLUMN(),FALSE))","v":""},{"$f":"IF($G512=\"\",\"\",VLOOKUP($G512,Lists!$BL$2:$BQ$478,COLUMN(),FALSE))","v":""},{"$f":"IF($G512=\"\",\"\",VLOOKUP($G512,Lists!$BL$2:$BQ$478,COLUMN(),FALSE))","v":""},{"$f":"IF($G512=\"\",\"\",VLOOKUP($G512,Lists!$BL$2:$BQ$478,COLUMN(),FALSE))","v":""},{"$f":"IF($G512=\"\",\"\",VLOOKUP($G512,Lists!$BL$2:$BQ$478,COLUMN(),FALSE))","v":""}]
[null,{"$f":"IF($G513=\"\",\"\",VLOOKUP($G513,Lists!$BL$2:$BQ$478,COLUMN(),FALSE))","v":""},{"$f":"IF($G513=\"\",\"\",VLOOKUP($G513,Lists!$BL$2:$BQ$478,COLUMN(),FALSE))","v":""},{"$f":"IF($G513=\"\",\"\",VLOOKUP($G513,Lists!$BL$2:$BQ$478,COLUMN(),FALSE))","v":""},{"$f":"IF($G513=\"\",\"\",VLOOKUP($G513,Lists!$BL$2:$BQ$478,COLUMN(),FALSE))","v":""},{"$f":"IF($G513=\"\",\"\",VLOOKUP($G513,Lists!$BL$2:$BQ$478,COLUMN(),FALSE))","v":""}]
[null,{"$f":"IF($G514=\"\",\"\",VLOOKUP($G514,Lists!$BL$2:$BQ$478,COLUMN(),FALSE))","v":""},{"$f":"IF($G514=\"\",\"\",VLOOKUP($G514,Lists!$BL$2:$BQ$478,COLUMN(),FALSE))","v":""},{"$f":"IF($G514=\"\",\"\",VLOOKUP($G514,Lists!$BL$2:$BQ$478,COLUMN(),FALSE))","v":""},{"$f":"IF($G514=\"\",\"\",VLOOKUP($G514,Lists!$BL$2:$BQ$478,COLUMN(),FALSE))","v":""},{"$f":"IF($G514=\"\",\"\",VLOOKUP($G514,Lists!$BL$2:$BQ$478,COLUMN(),FALSE))","v":""}]
[null,{"$f":"IF($G515=\"\",\"\",VLOOKUP($G515,Lists!$BL$2:$BQ$478,COLUMN(),FALSE))","v":""},{"$f":"IF($G515=\"\",\"\",VLOOKUP($G515,Lists!$BL$2:$BQ$478,COLUMN(),FALSE))","v":""},{"$f":"IF($G515=\"\",\"\",VLOOKUP($G515,Lists!$BL$2:$BQ$478,COLUMN(),FALSE))","v":""},{"$f":"IF($G515=\"\",\"\",VLOOKUP($G515,Lists!$BL$2:$BQ$478,COLUMN(),FALSE))","v":""},{"$f":"IF($G515=\"\",\"\",VLOOKUP($G515,Lists!$BL$2:$BQ$478,COLUMN(),FALSE))","v":""}]
[null,{"$f":"IF($G516=\"\",\"\",VLOOKUP($G516,Lists!$BL$2:$BQ$478,COLUMN(),FALSE))","v":""},{"$f":"IF($G516=\"\",\"\",VLOOKUP($G516,Lists!$BL$2:$BQ$478,COLUMN(),FALSE))","v":""},{"$f":"IF($G516=\"\",\"\",VLOOKUP($G516,Lists!$BL$2:$BQ$478,COLUMN(),FALSE))","v":""},{"$f":"IF($G516=\"\",\"\",VLOOKUP($G516,Lists!$BL$2:$BQ$478,COLUMN(),FALSE))","v":""},{"$f":"IF($G516=\"\",\"\",VLOOKUP($G516,Lists!$BL$2:$BQ$478,COLUMN(),FALSE))","v":""}]
[null,{"$f":"IF($G517=\"\",\"\",VLOOKUP($G517,Lists!$BL$2:$BQ$478,COLUMN(),FALSE))","v":""},{"$f":"IF($G517=\"\",\"\",VLOOKUP($G517,Lists!$BL$2:$BQ$478,COLUMN(),FALSE))","v":""},{"$f":"IF($G517=\"\",\"\",VLOOKUP($G517,Lists!$BL$2:$BQ$478,COLUMN(),FALSE))","v":""},{"$f":"IF($G517=\"\",\"\",VLOOKUP($G517,Lists!$BL$2:$BQ$478,COLUMN(),FALSE))","v":""},{"$f":"IF($G517=\"\",\"\",VLOOKUP($G517,Lists!$BL$2:$BQ$478,COLUMN(),FALSE))","v":""}]
[null,{"$f":"IF($G518=\"\",\"\",VLOOKUP($G518,Lists!$BL$2:$BQ$478,COLUMN(),FALSE))","v":""},{"$f":"IF($G518=\"\",\"\",VLOOKUP($G518,Lists!$BL$2:$BQ$478,COLUMN(),FALSE))","v":""},{"$f":"IF($G518=\"\",\"\",VLOOKUP($G518,Lists!$BL$2:$BQ$478,COLUMN(),FALSE))","v":""},{"$f":"IF($G518=\"\",\"\",VLOOKUP($G518,Lists!$BL$2:$BQ$478,COLUMN(),FALSE))","v":""},{"$f":"IF($G518=\"\",\"\",VLOOKUP($G518,Lists!$BL$2:$BQ$478,COLUMN(),FALSE))","v":""}]
[null,{"$f":"IF($G519=\"\",\"\",VLOOKUP($G519,Lists!$BL$2:$BQ$478,COLUMN(),FALSE))","v":""},{"$f":"IF($G519=\"\",\"\",VLOOKUP($G519,Lists!$BL$2:$BQ$478,COLUMN(),FALSE))","v":""},{"$f":"IF($G519=\"\",\"\",VLOOKUP($G519,Lists!$BL$2:$BQ$478,COLUMN(),FALSE))","v":""},{"$f":"IF($G519=\"\",\"\",VLOOKUP($G519,Lists!$BL$2:$BQ$478,COLUMN(),FALSE))","v":""},{"$f":"IF($G519=\"\",\"\",VLOOKUP($G519,Lists!$BL$2:$BQ$478,COLUMN(),FALSE))","v":""}]
[null,{"$f":"IF($G520=\"\",\"\",VLOOKUP($G520,Lists!$BL$2:$BQ$478,COLUMN(),FALSE))","v":""},{"$f":"IF($G520=\"\",\"\",VLOOKUP($G520,Lists!$BL$2:$BQ$478,COLUMN(),FALSE))","v":""},{"$f":"IF($G520=\"\",\"\",VLOOKUP($G520,Lists!$BL$2:$BQ$478,COLUMN(),FALSE))","v":""},{"$f":"IF($G520=\"\",\"\",VLOOKUP($G520,Lists!$BL$2:$BQ$478,COLUMN(),FALSE))","v":""},{"$f":"IF($G520=\"\",\"\",VLOOKUP($G520,Lists!$BL$2:$BQ$478,COLUMN(),FALSE))","v":""}]
[null,{"$f":"IF($G521=\"\",\"\",VLOOKUP($G521,Lists!$BL$2:$BQ$478,COLUMN(),FALSE))","v":""},{"$f":"IF($G521=\"\",\"\",VLOOKUP($G521,Lists!$BL$2:$BQ$478,COLUMN(),FALSE))","v":""},{"$f":"IF($G521=\"\",\"\",VLOOKUP($G521,Lists!$BL$2:$BQ$478,COLUMN(),FALSE))","v":""},{"$f":"IF($G521=\"\",\"\",VLOOKUP($G521,Lists!$BL$2:$BQ$478,COLUMN(),FALSE))","v":""},{"$f":"IF($G521=\"\",\"\",VLOOKUP($G521,Lists!$BL$2:$BQ$478,COLUMN(),FALSE))","v":""}]
[null,{"$f":"IF($G522=\"\",\"\",VLOOKUP($G522,Lists!$BL$2:$BQ$478,COLUMN(),FALSE))","v":""},{"$f":"IF($G522=\"\",\"\",VLOOKUP($G522,Lists!$BL$2:$BQ$478,COLUMN(),FALSE))","v":""},{"$f":"IF($G522=\"\",\"\",VLOOKUP($G522,Lists!$BL$2:$BQ$478,COLUMN(),FALSE))","v":""},{"$f":"IF($G522=\"\",\"\",VLOOKUP($G522,Lists!$BL$2:$BQ$478,COLUMN(),FALSE))","v":""},{"$f":"IF($G522=\"\",\"\",VLOOKUP($G522,Lists!$BL$2:$BQ$478,COLUMN(),FALSE))","v":""}]
[null,{"$f":"IF($G523=\"\",\"\",VLOOKUP($G523,Lists!$BL$2:$BQ$478,COLUMN(),FALSE))","v":""},{"$f":"IF($G523=\"\",\"\",VLOOKUP($G523,Lists!$BL$2:$BQ$478,COLUMN(),FALSE))","v":""},{"$f":"IF($G523=\"\",\"\",VLOOKUP($G523,Lists!$BL$2:$BQ$478,COLUMN(),FALSE))","v":""},{"$f":"IF($G523=\"\",\"\",VLOOKUP($G523,Lists!$BL$2:$BQ$478,COLUMN(),FALSE))","v":""},{"$f":"IF($G523=\"\",\"\",VLOOKUP($G523,Lists!$BL$2:$BQ$478,COLUMN(),FALSE))","v":""}]
[null,{"$f":"IF($G524=\"\",\"\",VLOOKUP($G524,Lists!$BL$2:$BQ$478,COLUMN(),FALSE))","v":""},{"$f":"IF($G524=\"\",\"\",VLOOKUP($G524,Lists!$BL$2:$BQ$478,COLUMN(),FALSE))","v":""},{"$f":"IF($G524=\"\",\"\",VLOOKUP($G524,Lists!$BL$2:$BQ$478,COLUMN(),FALSE))","v":""},{"$f":"IF($G524=\"\",\"\",VLOOKUP($G524,Lists!$BL$2:$BQ$478,COLUMN(),FALSE))","v":""},{"$f":"IF($G524=\"\",\"\",VLOOKUP($G524,Lists!$BL$2:$BQ$478,COLUMN(),FALSE))","v":""}]

{"sheet":"NOCS_TireCordProd","index":7,"n_rows":100,"n_cols":9,"rows_kept":100,"cut":false,"hidden":true,"merged":[]}
[null,"DO NOT REMOVE OR EDIT INFORMATION IN THIS SECTION\nFOR INTERNAL USE ONLY"]
[null,"Template Name",{"$f":"Welcome!B2","v":"63.6009(k) Notification of Compliance and  §63.6010(g) Semiannual Compliance Report (Spreadsheet Template)"}]
[null,"CitationID",{"$f":"Welcome!B3","v":"63.6009(k) and 63.6010(g)"}]
[null,"Template Version",{"$f":"Welcome!B4","v":"v1.02"}]
[null,"Last Updated Date",{"$f":"Welcome!B5","v":"2020-06-16"}]
[null,{"$f":"Welcome!B6","v":"OMB Control Number: 2060-0449"}]
[null,"40 CFR Part 63, Subpart XXXX National Emission Standards for Hazardous Air Pollutants: Rubber Tire Manufacturing -"]
[null,"\n"]
[]
[null,"Note: Columns B through D will be autofilled based on responses provided in the Compliance_Options worksheet."]
[null,"63.6009(k) Notification of Compliance Status - continued"]
[null,"Company Record No. *\n(Autofilled)","Name of Rubber Tire Manufacturing Affected Source *\n(§63.9(h))\n(Autofilled)","Rubber Tire Manufacturing Subcategory\n(Autofilled)","Company Record No., Name of Rubber Tire Manufacturing Affected Source, and Subcategory\n(§63.9(h))\n(Select from dropdown)","For each tire cord production affected source using control device, provide the operating parameter found in 63.5997(e)(1) that applies to you *\n(§63.6009(h)(1))\n(Select from dropdown)","For each tire cord production affected source using control device, provide the operating parameter found in 63.5997(e)(1) that applies to you, provide operating parameter value avg over full period of the perform. test *\n(§63.6009(h)(1))","For each tire cord production affected source using control device, provide the operating parameter found in 63.5997(e)(1) that applies to you, provide operating parameter range w/in which HAP emissions are reduced *\n(§63.6009(h)(2))","Name of file containing the a notice of the results of the reassessment for each tire cord production affected source required to assess the predominant use for coating web substrates as required by §63.5981(b) * \n(§63.6009(j)) "]
[null,"RecordId","OperationName","Subcategory","RecordSourceSubcategory","OperatingParameter","OperatingParameterAvg","OperatingParameterEmissions","AddFile"]
[null,"e.g.: 1","e.g.: Extruder1","e.g.: Tire Cord Production","e.g.: 1 Extruder1 Tire Cord Production","e.g.: Carbon bed temperature","e.g.: 1,500 degrees Fahrenheit","e.g.: 1.0-2.0","e.g.:  reassessment.pdf"]
[null,null,null,"e.g.: End coating"]
[]
[]
[]
[]
[]
[]
[]
[]
[null,{"$f":"IF($E24=\"\",\"\",VLOOKUP($E24,Lists!$BT$2:$BW$478,COLUMN(),FALSE))","v":""},{"$f":"IF($E24=\"\",\"\",VLOOKUP($E24,Lists!$BT$2:$BW$478,COLUMN(),FALSE))","v":""},{"$f":"IF($E24=\"\",\"\",VLOOKUP($E24,Lists!$BT$2:$BW$478,COLUMN(),FALSE))","v":""}]
[null,{"$f":"IF($E25=\"\",\"\",VLOOKUP($E25,Lists!$BT$2:$BW$478,COLUMN(),FALSE))","v":""},{"$f":"IF($E25=\"\",\"\",VLOOKUP($E25,Lists!$BT$2:$BW$478,COLUMN(),FALSE))","v":""},{"$f":"IF($E25=\"\",\"\",VLOOKUP($E25,Lists!$BT$2:$BW$478,COLUMN(),FALSE))","v":""}]
[null,{"$f":"IF($E26=\"\",\"\",VLOOKUP($E26,Lists!$BT$2:$BW$478,COLUMN(),FALSE))","v":""},{"$f":"IF($E26=\"\",\"\",VLOOKUP($E26,Lists!$BT$2:$BW$478,COLUMN(),FALSE))","v":""},{"$f":"IF($E26=\"\",\"\",VLOOKUP($E26,Lists!$BT$2:$BW$478,COLUMN(),FALSE))","v":""}]
[null,{"$f":"IF($E27=\"\",\"\",VLOOKUP($E27,Lists!$BT$2:$BW$478,COLUMN(),FALSE))","v":""},{"$f":"IF($E27=\"\",\"\",VLOOKUP($E27,Lists!$BT$2:$BW$478,COLUMN(),FALSE))","v":""},{"$f":"IF($E27=\"\",\"\",VLOOKUP($E27,Lists!$BT$2:$BW$478,COLUMN(),FALSE))","v":""}]
[null,{"$f":"IF($E28=\"\",\"\",VLOOKUP($E28,Lists!$BT$2:$BW$478,COLUMN(),FALSE))","v":""},{"$f":"IF($E28=\"\",\"\",VLOOKUP($E28,Lists!$BT$2:$BW$478,COLUMN(),FALSE))","v":""},{"$f":"IF($E28=\"\",\"\",VLOOKUP($E28,Lists!$BT$2:$BW$478,COLUMN(),FALSE))","v":""}]
[null,{"$f":"IF($E29=\"\",\"\",VLOOKUP($E29,Lists!$BT$2:$BW$478,COLUMN(),FALSE))","v":""},{"$f":"IF($E29=\"\",\"\",VLOOKUP($E29,Lists!$BT$2:$BW$478,COLUMN(),FALSE))","v":""},{"$f":"IF($E29=\"\",\"\",VLOOKUP($E29,Lists!$BT$2:$BW$478,COLUMN(),FALSE))","v":""}]
[null,{"$f":"IF($E30=\"\",\"\",VLOOKUP($E30,Lists!$BT$2:$BW$478,COLUMN(),FALSE))","v":""},{"$f":"IF($E30=\"\",\"\",VLOOKUP($E30,Lists!$BT$2:$BW$478,COLUMN(),FALSE))","v":""},{"$f":"IF($E30=\"\",\"\",VLOOKUP($E30,Lists!$BT$2:$BW$478,COLUMN(),FALSE))","v":""}]
[null,{"$f":"IF($E31=\"\",\"\",VLOOKUP($E31,Lists!$BT$2:$BW$478,COLUMN(),FALSE))","v":""},{"$f":"IF($E31=\"\",\"\",VLOOKUP($E31,Lists!$BT$2:$BW$478,COLUMN(),FALSE))","v":""},{"$f":"IF($E31=\"\",\"\",VLOOKUP($E31,Lists!$BT$2:$BW$478,COLUMN(),FALSE))","v":""}]
[null,{"$f":"IF($E32=\"\",\"\",VLOOKUP($E32,Lists!$BT$2:$BW$478,COLUMN(),FALSE))","v":""},{"$f":"IF($E32=\"\",\"\",VLOOKUP($E32,Lists!$BT$2:$BW$478,COLUMN(),FALSE))","v":""},{"$f":"IF($E32=\"\",\"\",VLOOKUP($E32,Lists!$BT$2:$BW$478,COLUMN(),FALSE))","v":""}]
[null,{"$f":"IF($E33=\"\",\"\",VLOOKUP($E33,Lists!$BT$2:$BW$478,COLUMN(),FALSE))","v":""},{"$f":"IF($E33=\"\",\"\",VLOOKUP($E33,Lists!$BT$2:$BW$478,COLUMN(),FALSE))","v":""},{"$f":"IF($E33=\"\",\"\",VLOOKUP($E33,Lists!$BT$2:$BW$478,COLUMN(),FALSE))","v":""}]
[null,{"$f":"IF($E34=\"\",\"\",VLOOKUP($E34,Lists!$BT$2:$BW$478,COLUMN(),FALSE))","v":""},{"$f":"IF($E34=\"\",\"\",VLOOKUP($E34,Lists!$BT$2:$BW$478,COLUMN(),FALSE))","v":""},{"$f":"IF($E34=\"\",\"\",VLOOKUP($E34,Lists!$BT$2:$BW$478,COLUMN(),FALSE))","v":""}]
[null,{"$f":"IF($E35=\"\",\"\",VLOOKUP($E35,Lists!$BT$2:$BW$478,COLUMN(),FALSE))","v":""},{"$f":"IF($E35=\"\",\"\",VLOOKUP($E35,Lists!$BT$2:$BW$478,COLUMN(),FALSE))","v":""},{"$f":"IF($E35=\"\",\"\",VLOOKUP($E35,Lists!$BT$2:$BW$478,COLUMN(),FALSE))","v":""}]
[null,{"$f":"IF($E36=\"\",\"\",VLOOKUP($E36,Lists!$BT$2:$BW$478,COLUMN(),FALSE))","v":""},{"$f":"IF($E36=\"\",\"\",VLOOKUP($E36,Lists!$BT$2:$BW$478,COLUMN(),FALSE))","v":""},{"$f":"IF($E36=\"\",\"\",VLOOKUP($E36,Lists!$BT$2:$BW$478,COLUMN(),FALSE))","v":""}]
[null,{"$f":"IF($E37=\"\",\"\",VLOOKUP($E37,Lists!$BT$2:$BW$478,COLUMN(),FALSE))","v":""},{"$f":"IF($E37=\"\",\"\",VLOOKUP($E37,Lists!$BT$2:$BW$478,COLUMN(),FALSE))","v":""},{"$f":"IF($E37=\"\",\"\",VLOOKUP($E37,Lists!$BT$2:$BW$478,COLUMN(),FALSE))","v":""}]
[null,{"$f":"IF($E38=\"\",\"\",VLOOKUP($E38,Lists!$BT$2:$BW$478,COLUMN(),FALSE))","v":""},{"$f":"IF($E38=\"\",\"\",VLOOKUP($E38,Lists!$BT$2:$BW$478,COLUMN(),FALSE))","v":""},{"$f":"IF($E38=\"\",\"\",VLOOKUP($E38,Lists!$BT$2:$BW$478,COLUMN(),FALSE))","v":""}]
[null,{"$f":"IF($E39=\"\",\"\",VLOOKUP($E39,Lists!$BT$2:$BW$478,COLUMN(),FALSE))","v":""},{"$f":"IF($E39=\"\",\"\",VLOOKUP($E39,Lists!$BT$2:$BW$478,COLUMN(),FALSE))","v":""},{"$f":"IF($E39=\"\",\"\",VLOOKUP($E39,Lists!$BT$2:$BW$478,COLUMN(),FALSE))","v":""}]
[null,{"$f":"IF($E40=\"\",\"\",VLOOKUP($E40,Lists!$BT$2:$BW$478,COLUMN(),FALSE))","v":""},{"$f":"IF($E40=\"\",\"\",VLOOKUP($E40,Lists!$BT$2:$BW$478,COLUMN(),FALSE))","v":""},{"$f":"IF($E40=\"\",\"\",VLOOKUP($E40,Lists!$BT$2:$BW$478,COLUMN(),FALSE))","v":""}]
[null,{"$f":"IF($E41=\"\",\"\",VLOOKUP($E41,Lists!$BT$2:$BW$478,COLUMN(),FALSE))","v":""},{"$f":"IF($E41=\"\",\"\",VLOOKUP($E41,Lists!$BT$2:$BW$478,COLUMN(),FALSE))","v":""},{"$f":"IF($E41=\"\",\"\",VLOOKUP($E41,Lists!$BT$2:$BW$478,COLUMN(),FALSE))","v":""}]
[null,{"$f":"IF($E42=\"\",\"\",VLOOKUP($E42,Lists!$BT$2:$BW$478,COLUMN(),FALSE))","v":""},{"$f":"IF($E42=\"\",\"\",VLOOKUP($E42,Lists!$BT$2:$BW$478,COLUMN(),FALSE))","v":""},{"$f":"IF($E42=\"\",\"\",VLOOKUP($E42,Lists!$BT$2:$BW$478,COLUMN(),FALSE))","v":""}]
[null,{"$f":"IF($E43=\"\",\"\",VLOOKUP($E43,Lists!$BT$2:$BW$478,COLUMN(),FALSE))","v":""},{"$f":"IF($E43=\"\",\"\",VLOOKUP($E43,Lists!$BT$2:$BW$478,COLUMN(),FALSE))","v":""},{"$f":"IF($E43=\"\",\"\",VLOOKUP($E43,Lists!$BT$2:$BW$478,COLUMN(),FALSE))","v":""}]
[null,{"$f":"IF($E44=\"\",\"\",VLOOKUP($E44,Lists!$BT$2:$BW$478,COLUMN(),FALSE))","v":""},{"$f":"IF($E44=\"\",\"\",VLOOKUP($E44,Lists!$BT$2:$BW$478,COLUMN(),FALSE))","v":""},{"$f":"IF($E44=\"\",\"\",VLOOKUP($E44,Lists!$BT$2:$BW$478,COLUMN(),FALSE))","v":""}]
[null,{"$f":"IF($E45=\"\",\"\",VLOOKUP($E45,Lists!$BT$2:$BW$478,COLUMN(),FALSE))","v":""},{"$f":"IF($E45=\"\",\"\",VLOOKUP($E45,Lists!$BT$2:$BW$478,COLUMN(),FALSE))","v":""},{"$f":"IF($E45=\"\",\"\",VLOOKUP($E45,Lists!$BT$2:$BW$478,COLUMN(),FALSE))","v":""}]
[null,{"$f":"IF($E46=\"\",\"\",VLOOKUP($E46,Lists!$BT$2:$BW$478,COLUMN(),FALSE))","v":""},{"$f":"IF($E46=\"\",\"\",VLOOKUP($E46,Lists!$BT$2:$BW$478,COLUMN(),FALSE))","v":""},{"$f":"IF($E46=\"\",\"\",VLOOKUP($E46,Lists!$BT$2:$BW$478,COLUMN(),FALSE))","v":""}]
[null,{"$f":"IF($E47=\"\",\"\",VLOOKUP($E47,Lists!$BT$2:$BW$478,COLUMN(),FALSE))","v":""},{"$f":"IF($E47=\"\",\"\",VLOOKUP($E47,Lists!$BT$2:$BW$478,COLUMN(),FALSE))","v":""},{"$f":"IF($E47=\"\",\"\",VLOOKUP($E47,Lists!$BT$2:$BW$478,COLUMN(),FALSE))","v":""}]
[null,{"$f":"IF($E48=\"\",\"\",VLOOKUP($E48,Lists!$BT$2:$BW$478,COLUMN(),FALSE))","v":""},{"$f":"IF($E48=\"\",\"\",VLOOKUP($E48,Lists!$BT$2:$BW$478,COLUMN(),FALSE))","v":""},{"$f":"IF($E48=\"\",\"\",VLOOKUP($E48,Lists!$BT$2:$BW$478,COLUMN(),FALSE))","v":""}]
[null,{"$f":"IF($E49=\"\",\"\",VLOOKUP($E49,Lists!$BT$2:$BW$478,COLUMN(),FALSE))","v":""},{"$f":"IF($E49=\"\",\"\",VLOOKUP($E49,Lists!$BT$2:$BW$478,COLUMN(),FALSE))","v":""},{"$f":"IF($E49=\"\",\"\",VLOOKUP($E49,Lists!$BT$2:$BW$478,COLUMN(),FALSE))","v":""}]
[null,{"$f":"IF($E50=\"\",\"\",VLOOKUP($E50,Lists!$BT$2:$BW$478,COLUMN(),FALSE))","v":""},{"$f":"IF($E50=\"\",\"\",VLOOKUP($E50,Lists!$BT$2:$BW$478,COLUMN(),FALSE))","v":""},{"$f":"IF($E50=\"\",\"\",VLOOKUP($E50,Lists!$BT$2:$BW$478,COLUMN(),FALSE))","v":""}]
[null,{"$f":"IF($E51=\"\",\"\",VLOOKUP($E51,Lists!$BT$2:$BW$478,COLUMN(),FALSE))","v":""},{"$f":"IF($E51=\"\",\"\",VLOOKUP($E51,Lists!$BT$2:$BW$478,COLUMN(),FALSE))","v":""},{"$f":"IF($E51=\"\",\"\",VLOOKUP($E51,Lists!$BT$2:$BW$478,COLUMN(),FALSE))","v":""}]
[null,{"$f":"IF($E52=\"\",\"\",VLOOKUP($E52,Lists!$BT$2:$BW$478,COLUMN(),FALSE))","v":""},{"$f":"IF($E52=\"\",\"\",VLOOKUP($E52,Lists!$BT$2:$BW$478,COLUMN(),FALSE))","v":""},{"$f":"IF($E52=\"\",\"\",VLOOKUP($E52,Lists!$BT$2:$BW$478,COLUMN(),FALSE))","v":""}]
[null,{"$f":"IF($E53=\"\",\"\",VLOOKUP($E53,Lists!$BT$2:$BW$478,COLUMN(),FALSE))","v":""},{"$f":"IF($E53=\"\",\"\",VLOOKUP($E53,Lists!$BT$2:$BW$478,COLUMN(),FALSE))","v":""},{"$f":"IF($E53=\"\",\"\",VLOOKUP($E53,Lists!$BT$2:$BW$478,COLUMN(),FALSE))","v":""}]
[null,{"$f":"IF($E54=\"\",\"\",VLOOKUP($E54,Lists!$BT$2:$BW$478,COLUMN(),FALSE))","v":""},{"$f":"IF($E54=\"\",\"\",VLOOKUP($E54,Lists!$BT$2:$BW$478,COLUMN(),FALSE))","v":""},{"$f":"IF($E54=\"\",\"\",VLOOKUP($E54,Lists!$BT$2:$BW$478,COLUMN(),FALSE))","v":""}]
[null,{"$f":"IF($E55=\"\",\"\",VLOOKUP($E55,Lists!$BT$2:$BW$478,COLUMN(),FALSE))","v":""},{"$f":"IF($E55=\"\",\"\",VLOOKUP($E55,Lists!$BT$2:$BW$478,COLUMN(),FALSE))","v":""},{"$f":"IF($E55=\"\",\"\",VLOOKUP($E55,Lists!$BT$2:$BW$478,COLUMN(),FALSE))","v":""}]
[null,{"$f":"IF($E56=\"\",\"\",VLOOKUP($E56,Lists!$BT$2:$BW$478,COLUMN(),FALSE))","v":""},{"$f":"IF($E56=\"\",\"\",VLOOKUP($E56,Lists!$BT$2:$BW$478,COLUMN(),FALSE))","v":""},{"$f":"IF($E56=\"\",\"\",VLOOKUP($E56,Lists!$BT$2:$BW$478,COLUMN(),FALSE))","v":""}]
[null,{"$f":"IF($E57=\"\",\"\",VLOOKUP($E57,Lists!$BT$2:$BW$478,COLUMN(),FALSE))","v":""},{"$f":"IF($E57=\"\",\"\",VLOOKUP($E57,Lists!$BT$2:$BW$478,COLUMN(),FALSE))","v":""},{"$f":"IF($E57=\"\",\"\",VLOOKUP($E57,Lists!$BT$2:$BW$478,COLUMN(),FALSE))","v":""}]
[null,{"$f":"IF($E58=\"\",\"\",VLOOKUP($E58,Lists!$BT$2:$BW$478,COLUMN(),FALSE))","v":""},{"$f":"IF($E58=\"\",\"\",VLOOKUP($E58,Lists!$BT$2:$BW$478,COLUMN(),FALSE))","v":""},{"$f":"IF($E58=\"\",\"\",VLOOKUP($E58,Lists!$BT$2:$BW$478,COLUMN(),FALSE))","v":""}]
[null,{"$f":"IF($E59=\"\",\"\",VLOOKUP($E59,Lists!$BT$2:$BW$478,COLUMN(),FALSE))","v":""},{"$f":"IF($E59=\"\",\"\",VLOOKUP($E59,Lists!$BT$2:$BW$478,COLUMN(),FALSE))","v":""},{"$f":"IF($E59=\"\",\"\",VLOOKUP($E59,Lists!$BT$2:$BW$478,COLUMN(),FALSE))","v":""}]
[null,{"$f":"IF($E60=\"\",\"\",VLOOKUP($E60,Lists!$BT$2:$BW$478,COLUMN(),FALSE))","v":""},{"$f":"IF($E60=\"\",\"\",VLOOKUP($E60,Lists!$BT$2:$BW$478,COLUMN(),FALSE))","v":""},{"$f":"IF($E60=\"\",\"\",VLOOKUP($E60,Lists!$BT$2:$BW$478,COLUMN(),FALSE))","v":""}]
[null,{"$f":"IF($E61=\"\",\"\",VLOOKUP($E61,Lists!$BT$2:$BW$478,COLUMN(),FALSE))","v":""},{"$f":"IF($E61=\"\",\"\",VLOOKUP($E61,Lists!$BT$2:$BW$478,COLUMN(),FALSE))","v":""},{"$f":"IF($E61=\"\",\"\",VLOOKUP($E61,Lists!$BT$2:$BW$478,COLUMN(),FALSE))","v":""}]
[null,{"$f":"IF($E62=\"\",\"\",VLOOKUP($E62,Lists!$BT$2:$BW$478,COLUMN(),FALSE))","v":""},{"$f":"IF($E62=\"\",\"\",VLOOKUP($E62,Lists!$BT$2:$BW$478,COLUMN(),FALSE))","v":""},{"$f":"IF($E62=\"\",\"\",VLOOKUP($E62,Lists!$BT$2:$BW$478,COLUMN(),FALSE))","v":""}]
[null,{"$f":"IF($E63=\"\",\"\",VLOOKUP($E63,Lists!$BT$2:$BW$478,COLUMN(),FALSE))","v":""},{"$f":"IF($E63=\"\",\"\",VLOOKUP($E63,Lists!$BT$2:$BW$478,COLUMN(),FALSE))","v":""},{"$f":"IF($E63=\"\",\"\",VLOOKUP($E63,Lists!$BT$2:$BW$478,COLUMN(),FALSE))","v":""}]
[null,{"$f":"IF($E64=\"\",\"\",VLOOKUP($E64,Lists!$BT$2:$BW$478,COLUMN(),FALSE))","v":""},{"$f":"IF($E64=\"\",\"\",VLOOKUP($E64,Lists!$BT$2:$BW$478,COLUMN(),FALSE))","v":""},{"$f":"IF($E64=\"\",\"\",VLOOKUP($E64,Lists!$BT$2:$BW$478,COLUMN(),FALSE))","v":""}]
[null,{"$f":"IF($E65=\"\",\"\",VLOOKUP($E65,Lists!$BT$2:$BW$478,COLUMN(),FALSE))","v":""},{"$f":"IF($E65=\"\",\"\",VLOOKUP($E65,Lists!$BT$2:$BW$478,COLUMN(),FALSE))","v":""},{"$f":"IF($E65=\"\",\"\",VLOOKUP($E65,Lists!$BT$2:$BW$478,COLUMN(),FALSE))","v":""}]
[null,{"$f":"IF($E66=\"\",\"\",VLOOKUP($E66,Lists!$BT$2:$BW$478,COLUMN(),FALSE))","v":""},{"$f":"IF($E66=\"\",\"\",VLOOKUP($E66,Lists!$BT$2:$BW$478,COLUMN(),FALSE))","v":""},{"$f":"IF($E66=\"\",\"\",VLOOKUP($E66,Lists!$BT$2:$BW$478,COLUMN(),FALSE))","v":""}]
[null,{"$f":"IF($E67=\"\",\"\",VLOOKUP($E67,Lists!$BT$2:$BW$478,COLUMN(),FALSE))","v":""},{"$f":"IF($E67=\"\",\"\",VLOOKUP($E67,Lists!$BT$2:$BW$478,COLUMN(),FALSE))","v":""},{"$f":"IF($E67=\"\",\"\",VLOOKUP($E67,Lists!$BT$2:$BW$478,COLUMN(),FALSE))","v":""}]
[null,{"$f":"IF($E68=\"\",\"\",VLOOKUP($E68,Lists!$BT$2:$BW$478,COLUMN(),FALSE))","v":""},{"$f":"IF($E68=\"\",\"\",VLOOKUP($E68,Lists!$BT$2:$BW$478,COLUMN(),FALSE))","v":""},{"$f":"IF($E68=\"\",\"\",VLOOKUP($E68,Lists!$BT$2:$BW$478,COLUMN(),FALSE))","v":""}]
[null,{"$f":"IF($E69=\"\",\"\",VLOOKUP($E69,Lists!$BT$2:$BW$478,COLUMN(),FALSE))","v":""},{"$f":"IF($E69=\"\",\"\",VLOOKUP($E69,Lists!$BT$2:$BW$478,COLUMN(),FALSE))","v":""},{"$f":"IF($E69=\"\",\"\",VLOOKUP($E69,Lists!$BT$2:$BW$478,COLUMN(),FALSE))","v":""}]
[null,{"$f":"IF($E70=\"\",\"\",VLOOKUP($E70,Lists!$BT$2:$BW$478,COLUMN(),FALSE))","v":""},{"$f":"IF($E70=\"\",\"\",VLOOKUP($E70,Lists!$BT$2:$BW$478,COLUMN(),FALSE))","v":""},{"$f":"IF($E70=\"\",\"\",VLOOKUP($E70,Lists!$BT$2:$BW$478,COLUMN(),FALSE))","v":""}]
[null,{"$f":"IF($E71=\"\",\"\",VLOOKUP($E71,Lists!$BT$2:$BW$478,COLUMN(),FALSE))","v":""},{"$f":"IF($E71=\"\",\"\",VLOOKUP($E71,Lists!$BT$2:$BW$478,COLUMN(),FALSE))","v":""},{"$f":"IF($E71=\"\",\"\",VLOOKUP($E71,Lists!$BT$2:$BW$478,COLUMN(),FALSE))","v":""}]
[null,{"$f":"IF($E72=\"\",\"\",VLOOKUP($E72,Lists!$BT$2:$BW$478,COLUMN(),FALSE))","v":""},{"$f":"IF($E72=\"\",\"\",VLOOKUP($E72,Lists!$BT$2:$BW$478,COLUMN(),FALSE))","v":""},{"$f":"IF($E72=\"\",\"\",VLOOKUP($E72,Lists!$BT$2:$BW$478,COLUMN(),FALSE))","v":""}]
[null,{"$f":"IF($E73=\"\",\"\",VLOOKUP($E73,Lists!$BT$2:$BW$478,COLUMN(),FALSE))","v":""},{"$f":"IF($E73=\"\",\"\",VLOOKUP($E73,Lists!$BT$2:$BW$478,COLUMN(),FALSE))","v":""},{"$f":"IF($E73=\"\",\"\",VLOOKUP($E73,Lists!$BT$2:$BW$478,COLUMN(),FALSE))","v":""}]
[null,{"$f":"IF($E74=\"\",\"\",VLOOKUP($E74,Lists!$BT$2:$BW$478,COLUMN(),FALSE))","v":""},{"$f":"IF($E74=\"\",\"\",VLOOKUP($E74,Lists!$BT$2:$BW$478,COLUMN(),FALSE))","v":""},{"$f":"IF($E74=\"\",\"\",VLOOKUP($E74,Lists!$BT$2:$BW$478,COLUMN(),FALSE))","v":""}]
[null,{"$f":"IF($E75=\"\",\"\",VLOOKUP($E75,Lists!$BT$2:$BW$478,COLUMN(),FALSE))","v":""},{"$f":"IF($E75=\"\",\"\",VLOOKUP($E75,Lists!$BT$2:$BW$478,COLUMN(),FALSE))","v":""},{"$f":"IF($E75=\"\",\"\",VLOOKUP($E75,Lists!$BT$2:$BW$478,COLUMN(),FALSE))","v":""}]
[null,{"$f":"IF($E76=\"\",\"\",VLOOKUP($E76,Lists!$BT$2:$BW$478,COLUMN(),FALSE))","v":""},{"$f":"IF($E76=\"\",\"\",VLOOKUP($E76,Lists!$BT$2:$BW$478,COLUMN(),FALSE))","v":""},{"$f":"IF($E76=\"\",\"\",VLOOKUP($E76,Lists!$BT$2:$BW$478,COLUMN(),FALSE))","v":""}]
[null,{"$f":"IF($E77=\"\",\"\",VLOOKUP($E77,Lists!$BT$2:$BW$478,COLUMN(),FALSE))","v":""},{"$f":"IF($E77=\"\",\"\",VLOOKUP($E77,Lists!$BT$2:$BW$478,COLUMN(),FALSE))","v":""},{"$f":"IF($E77=\"\",\"\",VLOOKUP($E77,Lists!$BT$2:$BW$478,COLUMN(),FALSE))","v":""}]
[null,{"$f":"IF($E78=\"\",\"\",VLOOKUP($E78,Lists!$BT$2:$BW$478,COLUMN(),FALSE))","v":""},{"$f":"IF($E78=\"\",\"\",VLOOKUP($E78,Lists!$BT$2:$BW$478,COLUMN(),FALSE))","v":""},{"$f":"IF($E78=\"\",\"\",VLOOKUP($E78,Lists!$BT$2:$BW$478,COLUMN(),FALSE))","v":""}]
[null,{"$f":"IF($E79=\"\",\"\",VLOOKUP($E79,Lists!$BT$2:$BW$478,COLUMN(),FALSE))","v":""},{"$f":"IF($E79=\"\",\"\",VLOOKUP($E79,Lists!$BT$2:$BW$478,COLUMN(),FALSE))","v":""},{"$f":"IF($E79=\"\",\"\",VLOOKUP($E79,Lists!$BT$2:$BW$478,COLUMN(),FALSE))","v":""}]
[null,{"$f":"IF($E80=\"\",\"\",VLOOKUP($E80,Lists!$BT$2:$BW$478,COLUMN(),FALSE))","v":""},{"$f":"IF($E80=\"\",\"\",VLOOKUP($E80,Lists!$BT$2:$BW$478,COLUMN(),FALSE))","v":""},{"$f":"IF($E80=\"\",\"\",VLOOKUP($E80,Lists!$BT$2:$BW$478,COLUMN(),FALSE))","v":""}]
[null,{"$f":"IF($E81=\"\",\"\",VLOOKUP($E81,Lists!$BT$2:$BW$478,COLUMN(),FALSE))","v":""},{"$f":"IF($E81=\"\",\"\",VLOOKUP($E81,Lists!$BT$2:$BW$478,COLUMN(),FALSE))","v":""},{"$f":"IF($E81=\"\",\"\",VLOOKUP($E81,Lists!$BT$2:$BW$478,COLUMN(),FALSE))","v":""}]
[null,{"$f":"IF($E82=\"\",\"\",VLOOKUP($E82,Lists!$BT$2:$BW$478,COLUMN(),FALSE))","v":""},{"$f":"IF($E82=\"\",\"\",VLOOKUP($E82,Lists!$BT$2:$BW$478,COLUMN(),FALSE))","v":""},{"$f":"IF($E82=\"\",\"\",VLOOKUP($E82,Lists!$BT$2:$BW$478,COLUMN(),FALSE))","v":""}]
[null,{"$f":"IF($E83=\"\",\"\",VLOOKUP($E83,Lists!$BT$2:$BW$478,COLUMN(),FALSE))","v":""},{"$f":"IF($E83=\"\",\"\",VLOOKUP($E83,Lists!$BT$2:$BW$478,COLUMN(),FALSE))","v":""},{"$f":"IF($E83=\"\",\"\",VLOOKUP($E83,Lists!$BT$2:$BW$478,COLUMN(),FALSE))","v":""}]
[null,{"$f":"IF($E84=\"\",\"\",VLOOKUP($E84,Lists!$BT$2:$BW$478,COLUMN(),FALSE))","v":""},{"$f":"IF($E84=\"\",\"\",VLOOKUP($E84,Lists!$BT$2:$BW$478,COLUMN(),FALSE))","v":""},{"$f":"IF($E84=\"\",\"\",VLOOKUP($E84,Lists!$BT$2:$BW$478,COLUMN(),FALSE))","v":""}]
[null,{"$f":"IF($E85=\"\",\"\",VLOOKUP($E85,Lists!$BT$2:$BW$478,COLUMN(),FALSE))","v":""},{"$f":"IF($E85=\"\",\"\",VLOOKUP($E85,Lists!$BT$2:$BW$478,COLUMN(),FALSE))","v":""},{"$f":"IF($E85=\"\",\"\",VLOOKUP($E85,Lists!$BT$2:$BW$478,COLUMN(),FALSE))","v":""}]
[null,{"$f":"IF($E86=\"\",\"\",VLOOKUP($E86,Lists!$BT$2:$BW$478,COLUMN(),FALSE))","v":""},{"$f":"IF($E86=\"\",\"\",VLOOKUP($E86,Lists!$BT$2:$BW$478,COLUMN(),FALSE))","v":""},{"$f":"IF($E86=\"\",\"\",VLOOKUP($E86,Lists!$BT$2:$BW$478,COLUMN(),FALSE))","v":""}]
[null,{"$f":"IF($E87=\"\",\"\",VLOOKUP($E87,Lists!$BT$2:$BW$478,COLUMN(),FALSE))","v":""},{"$f":"IF($E87=\"\",\"\",VLOOKUP($E87,Lists!$BT$2:$BW$478,COLUMN(),FALSE))","v":""},{"$f":"IF($E87=\"\",\"\",VLOOKUP($E87,Lists!$BT$2:$BW$478,COLUMN(),FALSE))","v":""}]
[null,{"$f":"IF($E88=\"\",\"\",VLOOKUP($E88,Lists!$BT$2:$BW$478,COLUMN(),FALSE))","v":""},{"$f":"IF($E88=\"\",\"\",VLOOKUP($E88,Lists!$BT$2:$BW$478,COLUMN(),FALSE))","v":""},{"$f":"IF($E88=\"\",\"\",VLOOKUP($E88,Lists!$BT$2:$BW$478,COLUMN(),FALSE))","v":""}]
[null,{"$f":"IF($E89=\"\",\"\",VLOOKUP($E89,Lists!$BT$2:$BW$478,COLUMN(),FALSE))","v":""},{"$f":"IF($E89=\"\",\"\",VLOOKUP($E89,Lists!$BT$2:$BW$478,COLUMN(),FALSE))","v":""},{"$f":"IF($E89=\"\",\"\",VLOOKUP($E89,Lists!$BT$2:$BW$478,COLUMN(),FALSE))","v":""}]
[null,{"$f":"IF($E90=\"\",\"\",VLOOKUP($E90,Lists!$BT$2:$BW$478,COLUMN(),FALSE))","v":""},{"$f":"IF($E90=\"\",\"\",VLOOKUP($E90,Lists!$BT$2:$BW$478,COLUMN(),FALSE))","v":""},{"$f":"IF($E90=\"\",\"\",VLOOKUP($E90,Lists!$BT$2:$BW$478,COLUMN(),FALSE))","v":""}]
[null,{"$f":"IF($E91=\"\",\"\",VLOOKUP($E91,Lists!$BT$2:$BW$478,COLUMN(),FALSE))","v":""},{"$f":"IF($E91=\"\",\"\",VLOOKUP($E91,Lists!$BT$2:$BW$478,COLUMN(),FALSE))","v":""},{"$f":"IF($E91=\"\",\"\",VLOOKUP($E91,Lists!$BT$2:$BW$478,COLUMN(),FALSE))","v":""}]
[null,{"$f":"IF($E92=\"\",\"\",VLOOKUP($E92,Lists!$BT$2:$BW$478,COLUMN(),FALSE))","v":""},{"$f":"IF($E92=\"\",\"\",VLOOKUP($E92,Lists!$BT$2:$BW$478,COLUMN(),FALSE))","v":""},{"$f":"IF($E92=\"\",\"\",VLOOKUP($E92,Lists!$BT$2:$BW$478,COLUMN(),FALSE))","v":""}]
[null,{"$f":"IF($E93=\"\",\"\",VLOOKUP($E93,Lists!$BT$2:$BW$478,COLUMN(),FALSE))","v":""},{"$f":"IF($E93=\"\",\"\",VLOOKUP($E93,Lists!$BT$2:$BW$478,COLUMN(),FALSE))","v":""},{"$f":"IF($E93=\"\",\"\",VLOOKUP($E93,Lists!$BT$2:$BW$478,COLUMN(),FALSE))","v":""}]
[null,{"$f":"IF($E94=\"\",\"\",VLOOKUP($E94,Lists!$BT$2:$BW$478,COLUMN(),FALSE))","v":""},{"$f":"IF($E94=\"\",\"\",VLOOKUP($E94,Lists!$BT$2:$BW$478,COLUMN(),FALSE))","v":""},{"$f":"IF($E94=\"\",\"\",VLOOKUP($E94,Lists!$BT$2:$BW$478,COLUMN(),FALSE))","v":""}]
[null,{"$f":"IF($E95=\"\",\"\",VLOOKUP($E95,Lists!$BT$2:$BW$478,COLUMN(),FALSE))","v":""},{"$f":"IF($E95=\"\",\"\",VLOOKUP($E95,Lists!$BT$2:$BW$478,COLUMN(),FALSE))","v":""},{"$f":"IF($E95=\"\",\"\",VLOOKUP($E95,Lists!$BT$2:$BW$478,COLUMN(),FALSE))","v":""}]
[null,{"$f":"IF($E96=\"\",\"\",VLOOKUP($E96,Lists!$BT$2:$BW$478,COLUMN(),FALSE))","v":""},{"$f":"IF($E96=\"\",\"\",VLOOKUP($E96,Lists!$BT$2:$BW$478,COLUMN(),FALSE))","v":""},{"$f":"IF($E96=\"\",\"\",VLOOKUP($E96,Lists!$BT$2:$BW$478,COLUMN(),FALSE))","v":""}]
[null,{"$f":"IF($E97=\"\",\"\",VLOOKUP($E97,Lists!$BT$2:$BW$478,COLUMN(),FALSE))","v":""},{"$f":"IF($E97=\"\",\"\",VLOOKUP($E97,Lists!$BT$2:$BW$478,COLUMN(),FALSE))","v":""},{"$f":"IF($E97=\"\",\"\",VLOOKUP($E97,Lists!$BT$2:$BW$478,COLUMN(),FALSE))","v":""}]
[null,{"$f":"IF($E98=\"\",\"\",VLOOKUP($E98,Lists!$BT$2:$BW$478,COLUMN(),FALSE))","v":""},{"$f":"IF($E98=\"\",\"\",VLOOKUP($E98,Lists!$BT$2:$BW$478,COLUMN(),FALSE))","v":""},{"$f":"IF($E98=\"\",\"\",VLOOKUP($E98,Lists!$BT$2:$BW$478,COLUMN(),FALSE))","v":""}]
[null,{"$f":"IF($E99=\"\",\"\",VLOOKUP($E99,Lists!$BT$2:$BW$478,COLUMN(),FALSE))","v":""},{"$f":"IF($E99=\"\",\"\",VLOOKUP($E99,Lists!$BT$2:$BW$478,COLUMN(),FALSE))","v":""},{"$f":"IF($E99=\"\",\"\",VLOOKUP($E99,Lists!$BT$2:$BW$478,COLUMN(),FALSE))","v":""}]
[null,{"$f":"IF($E100=\"\",\"\",VLOOKUP($E100,Lists!$BT$2:$BW$478,COLUMN(),FALSE))","v":""},{"$f":"IF($E100=\"\",\"\",VLOOKUP($E100,Lists!$BT$2:$BW$478,COLUMN(),FALSE))","v":""},{"$f":"IF($E100=\"\",\"\",VLOOKUP($E100,Lists!$BT$2:$BW$478,COLUMN(),FALSE))","v":""}]

{"sheet":"NOCS_PunctureSealantApp","index":8,"n_rows":100,"n_cols":8,"rows_kept":100,"cut":false,"hidden":true,"merged":[]}
[null,"DO NOT REMOVE OR EDIT INFORMATION IN THIS SECTION\nFOR INTERNAL USE ONLY"]
[null,"Template Name",{"$f":"Welcome!B2","v":"63.6009(k) Notification of Compliance and  §63.6010(g) Semiannual Compliance Report (Spreadsheet Template)"}]
[null,"CitationID",{"$f":"Welcome!B3","v":"63.6009(k) and 63.6010(g)"}]
[null,"Template Version",{"$f":"Welcome!B4","v":"v1.02"}]
[null,"Last Updated Date",{"$f":"Welcome!B5","v":"2020-06-16"}]
[null,{"$f":"Welcome!B6","v":"OMB Control Number: 2060-0449"}]
[null,"40 CFR Part 63, Subpart XXXX National Emission Standards for Hazardous Air Pollutants: Rubber Tire Manufacturing -"]
[null,"\n"]
[]
[null,"Note: Columns B through D will be autofilled based on responses provided in the Compliance_Options worksheet."]
[null,"63.6009(k) Notification of Compliance Status - continued"]
[null,"Company Record No. *\n(Autofilled)","Name of Rubber Tire Manufacturing Affected Source *\n(§63.9(h))\n(Autofilled)","Rubber Tire Manufacturing Subcategory\n(Autofilled)","Company Record No., Name of Rubber Tire Manufacturing Affected Source, and Subcategory\n(§63.9(h))\n(Select from dropdown)","For each punct. sealant affected source using control device, provide the operating param. found in §63.6000(b)(3) that applies to you *\n(§63.6009(h)(1))\n(Select from dropdown)","For each punct. sealant app. affect. source using a control device, for each operating limit in §63.6000(b)(3), provide operating limit or oper. param. value avg over full period of the perform. test *\n(§63.6009(i)(1))","For each punct. sealant app. affect. source, the operating lmt or operating param. range w/in which HAP emissions are reduc. to the levels correspond. to meet the appl. emission lmts in Table 3 to this subpart *\n(§63.6009(i)(2))"]
[null,"RecordId","OperationName","Subcategory","RecordSourceSubcategory","OperatingParameter","OperatingParameterAvg","OperatingParameterEmissions"]
[null,"e.g.: 1","e.g.: extruder 1","e.g.: Puncture Sealant Application","e.g.: 1 extruder 1 Puncture Sealant Application","Firebox secondary chamber temperature","1,500 degrees Fahrenheit","e.g.: 1.0-2.0"]
[null,null,null,"e.g.: End coating"]
[]
[]
[]
[]
[]
[]
[]
[]
[null,{"$f":"IF($E24=\"\",\"\",VLOOKUP($E24,Lists!$CB$2:$CE$478,COLUMN(),FALSE))","v":""},{"$f":"IF($E24=\"\",\"\",VLOOKUP($E24,Lists!$CB$2:$CE$478,COLUMN(),FALSE))","v":""},{"$f":"IF($E24=\"\",\"\",VLOOKUP($E24,Lists!$CB$2:$CE$478,COLUMN(),FALSE))","v":""}]
[null,{"$f":"IF($E25=\"\",\"\",VLOOKUP($E25,Lists!$CB$2:$CE$478,COLUMN(),FALSE))","v":""},{"$f":"IF($E25=\"\",\"\",VLOOKUP($E25,Lists!$CB$2:$CE$478,COLUMN(),FALSE))","v":""},{"$f":"IF($E25=\"\",\"\",VLOOKUP($E25,Lists!$CB$2:$CE$478,COLUMN(),FALSE))","v":""}]
[null,{"$f":"IF($E26=\"\",\"\",VLOOKUP($E26,Lists!$CB$2:$CE$478,COLUMN(),FALSE))","v":""},{"$f":"IF($E26=\"\",\"\",VLOOKUP($E26,Lists!$CB$2:$CE$478,COLUMN(),FALSE))","v":""},{"$f":"IF($E26=\"\",\"\",VLOOKUP($E26,Lists!$CB$2:$CE$478,COLUMN(),FALSE))","v":""}]
[null,{"$f":"IF($E27=\"\",\"\",VLOOKUP($E27,Lists!$CB$2:$CE$478,COLUMN(),FALSE))","v":""},{"$f":"IF($E27=\"\",\"\",VLOOKUP($E27,Lists!$CB$2:$CE$478,COLUMN(),FALSE))","v":""},{"$f":"IF($E27=\"\",\"\",VLOOKUP($E27,Lists!$CB$2:$CE$478,COLUMN(),FALSE))","v":""}]
[null,{"$f":"IF($E28=\"\",\"\",VLOOKUP($E28,Lists!$CB$2:$CE$478,COLUMN(),FALSE))","v":""},{"$f":"IF($E28=\"\",\"\",VLOOKUP($E28,Lists!$CB$2:$CE$478,COLUMN(),FALSE))","v":""},{"$f":"IF($E28=\"\",\"\",VLOOKUP($E28,Lists!$CB$2:$CE$478,COLUMN(),FALSE))","v":""}]
[null,{"$f":"IF($E29=\"\",\"\",VLOOKUP($E29,Lists!$CB$2:$CE$478,COLUMN(),FALSE))","v":""},{"$f":"IF($E29=\"\",\"\",VLOOKUP($E29,Lists!$CB$2:$CE$478,COLUMN(),FALSE))","v":""},{"$f":"IF($E29=\"\",\"\",VLOOKUP($E29,Lists!$CB$2:$CE$478,COLUMN(),FALSE))","v":""}]
[null,{"$f":"IF($E30=\"\",\"\",VLOOKUP($E30,Lists!$CB$2:$CE$478,COLUMN(),FALSE))","v":""},{"$f":"IF($E30=\"\",\"\",VLOOKUP($E30,Lists!$CB$2:$CE$478,COLUMN(),FALSE))","v":""},{"$f":"IF($E30=\"\",\"\",VLOOKUP($E30,Lists!$CB$2:$CE$478,COLUMN(),FALSE))","v":""}]
[null,{"$f":"IF($E31=\"\",\"\",VLOOKUP($E31,Lists!$CB$2:$CE$478,COLUMN(),FALSE))","v":""},{"$f":"IF($E31=\"\",\"\",VLOOKUP($E31,Lists!$CB$2:$CE$478,COLUMN(),FALSE))","v":""},{"$f":"IF($E31=\"\",\"\",VLOOKUP($E31,Lists!$CB$2:$CE$478,COLUMN(),FALSE))","v":""}]
[null,{"$f":"IF($E32=\"\",\"\",VLOOKUP($E32,Lists!$CB$2:$CE$478,COLUMN(),FALSE))","v":""},{"$f":"IF($E32=\"\",\"\",VLOOKUP($E32,Lists!$CB$2:$CE$478,COLUMN(),FALSE))","v":""},{"$f":"IF($E32=\"\",\"\",VLOOKUP($E32,Lists!$CB$2:$CE$478,COLUMN(),FALSE))","v":""}]
[null,{"$f":"IF($E33=\"\",\"\",VLOOKUP($E33,Lists!$CB$2:$CE$478,COLUMN(),FALSE))","v":""},{"$f":"IF($E33=\"\",\"\",VLOOKUP($E33,Lists!$CB$2:$CE$478,COLUMN(),FALSE))","v":""},{"$f":"IF($E33=\"\",\"\",VLOOKUP($E33,Lists!$CB$2:$CE$478,COLUMN(),FALSE))","v":""}]
[null,{"$f":"IF($E34=\"\",\"\",VLOOKUP($E34,Lists!$CB$2:$CE$478,COLUMN(),FALSE))","v":""},{"$f":"IF($E34=\"\",\"\",VLOOKUP($E34,Lists!$CB$2:$CE$478,COLUMN(),FALSE))","v":""},{"$f":"IF($E34=\"\",\"\",VLOOKUP($E34,Lists!$CB$2:$CE$478,COLUMN(),FALSE))","v":""}]
[null,{"$f":"IF($E35=\"\",\"\",VLOOKUP($E35,Lists!$CB$2:$CE$478,COLUMN(),FALSE))","v":""},{"$f":"IF($E35=\"\",\"\",VLOOKUP($E35,Lists!$CB$2:$CE$478,COLUMN(),FALSE))","v":""},{"$f":"IF($E35=\"\",\"\",VLOOKUP($E35,Lists!$CB$2:$CE$478,COLUMN(),FALSE))","v":""}]
[null,{"$f":"IF($E36=\"\",\"\",VLOOKUP($E36,Lists!$CB$2:$CE$478,COLUMN(),FALSE))","v":""},{"$f":"IF($E36=\"\",\"\",VLOOKUP($E36,Lists!$CB$2:$CE$478,COLUMN(),FALSE))","v":""},{"$f":"IF($E36=\"\",\"\",VLOOKUP($E36,Lists!$CB$2:$CE$478,COLUMN(),FALSE))","v":""}]
[null,{"$f":"IF($E37=\"\",\"\",VLOOKUP($E37,Lists!$CB$2:$CE$478,COLUMN(),FALSE))","v":""},{"$f":"IF($E37=\"\",\"\",VLOOKUP($E37,Lists!$CB$2:$CE$478,COLUMN(),FALSE))","v":""},{"$f":"IF($E37=\"\",\"\",VLOOKUP($E37,Lists!$CB$2:$CE$478,COLUMN(),FALSE))","v":""}]
[null,{"$f":"IF($E38=\"\",\"\",VLOOKUP($E38,Lists!$CB$2:$CE$478,COLUMN(),FALSE))","v":""},{"$f":"IF($E38=\"\",\"\",VLOOKUP($E38,Lists!$CB$2:$CE$478,COLUMN(),FALSE))","v":""},{"$f":"IF($E38=\"\",\"\",VLOOKUP($E38,Lists!$CB$2:$CE$478,COLUMN(),FALSE))","v":""}]
[null,{"$f":"IF($E39=\"\",\"\",VLOOKUP($E39,Lists!$CB$2:$CE$478,COLUMN(),FALSE))","v":""},{"$f":"IF($E39=\"\",\"\",VLOOKUP($E39,Lists!$CB$2:$CE$478,COLUMN(),FALSE))","v":""},{"$f":"IF($E39=\"\",\"\",VLOOKUP($E39,Lists!$CB$2:$CE$478,COLUMN(),FALSE))","v":""}]
[null,{"$f":"IF($E40=\"\",\"\",VLOOKUP($E40,Lists!$CB$2:$CE$478,COLUMN(),FALSE))","v":""},{"$f":"IF($E40=\"\",\"\",VLOOKUP($E40,Lists!$CB$2:$CE$478,COLUMN(),FALSE))","v":""},{"$f":"IF($E40=\"\",\"\",VLOOKUP($E40,Lists!$CB$2:$CE$478,COLUMN(),FALSE))","v":""}]
[null,{"$f":"IF($E41=\"\",\"\",VLOOKUP($E41,Lists!$CB$2:$CE$478,COLUMN(),FALSE))","v":""},{"$f":"IF($E41=\"\",\"\",VLOOKUP($E41,Lists!$CB$2:$CE$478,COLUMN(),FALSE))","v":""},{"$f":"IF($E41=\"\",\"\",VLOOKUP($E41,Lists!$CB$2:$CE$478,COLUMN(),FALSE))","v":""}]
[null,{"$f":"IF($E42=\"\",\"\",VLOOKUP($E42,Lists!$CB$2:$CE$478,COLUMN(),FALSE))","v":""},{"$f":"IF($E42=\"\",\"\",VLOOKUP($E42,Lists!$CB$2:$CE$478,COLUMN(),FALSE))","v":""},{"$f":"IF($E42=\"\",\"\",VLOOKUP($E42,Lists!$CB$2:$CE$478,COLUMN(),FALSE))","v":""}]
[null,{"$f":"IF($E43=\"\",\"\",VLOOKUP($E43,Lists!$CB$2:$CE$478,COLUMN(),FALSE))","v":""},{"$f":"IF($E43=\"\",\"\",VLOOKUP($E43,Lists!$CB$2:$CE$478,COLUMN(),FALSE))","v":""},{"$f":"IF($E43=\"\",\"\",VLOOKUP($E43,Lists!$CB$2:$CE$478,COLUMN(),FALSE))","v":""}]
[null,{"$f":"IF($E44=\"\",\"\",VLOOKUP($E44,Lists!$CB$2:$CE$478,COLUMN(),FALSE))","v":""},{"$f":"IF($E44=\"\",\"\",VLOOKUP($E44,Lists!$CB$2:$CE$478,COLUMN(),FALSE))","v":""},{"$f":"IF($E44=\"\",\"\",VLOOKUP($E44,Lists!$CB$2:$CE$478,COLUMN(),FALSE))","v":""}]
[null,{"$f":"IF($E45=\"\",\"\",VLOOKUP($E45,Lists!$CB$2:$CE$478,COLUMN(),FALSE))","v":""},{"$f":"IF($E45=\"\",\"\",VLOOKUP($E45,Lists!$CB$2:$CE$478,COLUMN(),FALSE))","v":""},{"$f":"IF($E45=\"\",\"\",VLOOKUP($E45,Lists!$CB$2:$CE$478,COLUMN(),FALSE))","v":""}]
[null,{"$f":"IF($E46=\"\",\"\",VLOOKUP($E46,Lists!$CB$2:$CE$478,COLUMN(),FALSE))","v":""},{"$f":"IF($E46=\"\",\"\",VLOOKUP($E46,Lists!$CB$2:$CE$478,COLUMN(),FALSE))","v":""},{"$f":"IF($E46=\"\",\"\",VLOOKUP($E46,Lists!$CB$2:$CE$478,COLUMN(),FALSE))","v":""}]
[null,{"$f":"IF($E47=\"\",\"\",VLOOKUP($E47,Lists!$CB$2:$CE$478,COLUMN(),FALSE))","v":""},{"$f":"IF($E47=\"\",\"\",VLOOKUP($E47,Lists!$CB$2:$CE$478,COLUMN(),FALSE))","v":""},{"$f":"IF($E47=\"\",\"\",VLOOKUP($E47,Lists!$CB$2:$CE$478,COLUMN(),FALSE))","v":""}]
[null,{"$f":"IF($E48=\"\",\"\",VLOOKUP($E48,Lists!$CB$2:$CE$478,COLUMN(),FALSE))","v":""},{"$f":"IF($E48=\"\",\"\",VLOOKUP($E48,Lists!$CB$2:$CE$478,COLUMN(),FALSE))","v":""},{"$f":"IF($E48=\"\",\"\",VLOOKUP($E48,Lists!$CB$2:$CE$478,COLUMN(),FALSE))","v":""}]
[null,{"$f":"IF($E49=\"\",\"\",VLOOKUP($E49,Lists!$CB$2:$CE$478,COLUMN(),FALSE))","v":""},{"$f":"IF($E49=\"\",\"\",VLOOKUP($E49,Lists!$CB$2:$CE$478,COLUMN(),FALSE))","v":""},{"$f":"IF($E49=\"\",\"\",VLOOKUP($E49,Lists!$CB$2:$CE$478,COLUMN(),FALSE))","v":""}]
[null,{"$f":"IF($E50=\"\",\"\",VLOOKUP($E50,Lists!$CB$2:$CE$478,COLUMN(),FALSE))","v":""},{"$f":"IF($E50=\"\",\"\",VLOOKUP($E50,Lists!$CB$2:$CE$478,COLUMN(),FALSE))","v":""},{"$f":"IF($E50=\"\",\"\",VLOOKUP($E50,Lists!$CB$2:$CE$478,COLUMN(),FALSE))","v":""}]
[null,{"$f":"IF($E51=\"\",\"\",VLOOKUP($E51,Lists!$CB$2:$CE$478,COLUMN(),FALSE))","v":""},{"$f":"IF($E51=\"\",\"\",VLOOKUP($E51,Lists!$CB$2:$CE$478,COLUMN(),FALSE))","v":""},{"$f":"IF($E51=\"\",\"\",VLOOKUP($E51,Lists!$CB$2:$CE$478,COLUMN(),FALSE))","v":""}]
[null,{"$f":"IF($E52=\"\",\"\",VLOOKUP($E52,Lists!$CB$2:$CE$478,COLUMN(),FALSE))","v":""},{"$f":"IF($E52=\"\",\"\",VLOOKUP($E52,Lists!$CB$2:$CE$478,COLUMN(),FALSE))","v":""},{"$f":"IF($E52=\"\",\"\",VLOOKUP($E52,Lists!$CB$2:$CE$478,COLUMN(),FALSE))","v":""}]
[null,{"$f":"IF($E53=\"\",\"\",VLOOKUP($E53,Lists!$CB$2:$CE$478,COLUMN(),FALSE))","v":""},{"$f":"IF($E53=\"\",\"\",VLOOKUP($E53,Lists!$CB$2:$CE$478,COLUMN(),FALSE))","v":""},{"$f":"IF($E53=\"\",\"\",VLOOKUP($E53,Lists!$CB$2:$CE$478,COLUMN(),FALSE))","v":""}]
[null,{"$f":"IF($E54=\"\",\"\",VLOOKUP($E54,Lists!$CB$2:$CE$478,COLUMN(),FALSE))","v":""},{"$f":"IF($E54=\"\",\"\",VLOOKUP($E54,Lists!$CB$2:$CE$478,COLUMN(),FALSE))","v":""},{"$f":"IF($E54=\"\",\"\",VLOOKUP($E54,Lists!$CB$2:$CE$478,COLUMN(),FALSE))","v":""}]
[null,{"$f":"IF($E55=\"\",\"\",VLOOKUP($E55,Lists!$CB$2:$CE$478,COLUMN(),FALSE))","v":""},{"$f":"IF($E55=\"\",\"\",VLOOKUP($E55,Lists!$CB$2:$CE$478,COLUMN(),FALSE))","v":""},{"$f":"IF($E55=\"\",\"\",VLOOKUP($E55,Lists!$CB$2:$CE$478,COLUMN(),FALSE))","v":""}]
[null,{"$f":"IF($E56=\"\",\"\",VLOOKUP($E56,Lists!$CB$2:$CE$478,COLUMN(),FALSE))","v":""},{"$f":"IF($E56=\"\",\"\",VLOOKUP($E56,Lists!$CB$2:$CE$478,COLUMN(),FALSE))","v":""},{"$f":"IF($E56=\"\",\"\",VLOOKUP($E56,Lists!$CB$2:$CE$478,COLUMN(),FALSE))","v":""}]
[null,{"$f":"IF($E57=\"\",\"\",VLOOKUP($E57,Lists!$CB$2:$CE$478,COLUMN(),FALSE))","v":""},{"$f":"IF($E57=\"\",\"\",VLOOKUP($E57,Lists!$CB$2:$CE$478,COLUMN(),FALSE))","v":""},{"$f":"IF($E57=\"\",\"\",VLOOKUP($E57,Lists!$CB$2:$CE$478,COLUMN(),FALSE))","v":""}]
[null,{"$f":"IF($E58=\"\",\"\",VLOOKUP($E58,Lists!$CB$2:$CE$478,COLUMN(),FALSE))","v":""},{"$f":"IF($E58=\"\",\"\",VLOOKUP($E58,Lists!$CB$2:$CE$478,COLUMN(),FALSE))","v":""},{"$f":"IF($E58=\"\",\"\",VLOOKUP($E58,Lists!$CB$2:$CE$478,COLUMN(),FALSE))","v":""}]
[null,{"$f":"IF($E59=\"\",\"\",VLOOKUP($E59,Lists!$CB$2:$CE$478,COLUMN(),FALSE))","v":""},{"$f":"IF($E59=\"\",\"\",VLOOKUP($E59,Lists!$CB$2:$CE$478,COLUMN(),FALSE))","v":""},{"$f":"IF($E59=\"\",\"\",VLOOKUP($E59,Lists!$CB$2:$CE$478,COLUMN(),FALSE))","v":""}]
[null,{"$f":"IF($E60=\"\",\"\",VLOOKUP($E60,Lists!$CB$2:$CE$478,COLUMN(),FALSE))","v":""},{"$f":"IF($E60=\"\",\"\",VLOOKUP($E60,Lists!$CB$2:$CE$478,COLUMN(),FALSE))","v":""},{"$f":"IF($E60=\"\",\"\",VLOOKUP($E60,Lists!$CB$2:$CE$478,COLUMN(),FALSE))","v":""}]
[null,{"$f":"IF($E61=\"\",\"\",VLOOKUP($E61,Lists!$CB$2:$CE$478,COLUMN(),FALSE))","v":""},{"$f":"IF($E61=\"\",\"\",VLOOKUP($E61,Lists!$CB$2:$CE$478,COLUMN(),FALSE))","v":""},{"$f":"IF($E61=\"\",\"\",VLOOKUP($E61,Lists!$CB$2:$CE$478,COLUMN(),FALSE))","v":""}]
[null,{"$f":"IF($E62=\"\",\"\",VLOOKUP($E62,Lists!$CB$2:$CE$478,COLUMN(),FALSE))","v":""},{"$f":"IF($E62=\"\",\"\",VLOOKUP($E62,Lists!$CB$2:$CE$478,COLUMN(),FALSE))","v":""},{"$f":"IF($E62=\"\",\"\",VLOOKUP($E62,Lists!$CB$2:$CE$478,COLUMN(),FALSE))","v":""}]
[null,{"$f":"IF($E63=\"\",\"\",VLOOKUP($E63,Lists!$CB$2:$CE$478,COLUMN(),FALSE))","v":""},{"$f":"IF($E63=\"\",\"\",VLOOKUP($E63,Lists!$CB$2:$CE$478,COLUMN(),FALSE))","v":""},{"$f":"IF($E63=\"\",\"\",VLOOKUP($E63,Lists!$CB$2:$CE$478,COLUMN(),FALSE))","v":""}]
[null,{"$f":"IF($E64=\"\",\"\",VLOOKUP($E64,Lists!$CB$2:$CE$478,COLUMN(),FALSE))","v":""},{"$f":"IF($E64=\"\",\"\",VLOOKUP($E64,Lists!$CB$2:$CE$478,COLUMN(),FALSE))","v":""},{"$f":"IF($E64=\"\",\"\",VLOOKUP($E64,Lists!$CB$2:$CE$478,COLUMN(),FALSE))","v":""}]
[null,{"$f":"IF($E65=\"\",\"\",VLOOKUP($E65,Lists!$CB$2:$CE$478,COLUMN(),FALSE))","v":""},{"$f":"IF($E65=\"\",\"\",VLOOKUP($E65,Lists!$CB$2:$CE$478,COLUMN(),FALSE))","v":""},{"$f":"IF($E65=\"\",\"\",VLOOKUP($E65,Lists!$CB$2:$CE$478,COLUMN(),FALSE))","v":""}]
[null,{"$f":"IF($E66=\"\",\"\",VLOOKUP($E66,Lists!$CB$2:$CE$478,COLUMN(),FALSE))","v":""},{"$f":"IF($E66=\"\",\"\",VLOOKUP($E66,Lists!$CB$2:$CE$478,COLUMN(),FALSE))","v":""},{"$f":"IF($E66=\"\",\"\",VLOOKUP($E66,Lists!$CB$2:$CE$478,COLUMN(),FALSE))","v":""}]
[null,{"$f":"IF($E67=\"\",\"\",VLOOKUP($E67,Lists!$CB$2:$CE$478,COLUMN(),FALSE))","v":""},{"$f":"IF($E67=\"\",\"\",VLOOKUP($E67,Lists!$CB$2:$CE$478,COLUMN(),FALSE))","v":""},{"$f":"IF($E67=\"\",\"\",VLOOKUP($E67,Lists!$CB$2:$CE$478,COLUMN(),FALSE))","v":""}]
[null,{"$f":"IF($E68=\"\",\"\",VLOOKUP($E68,Lists!$CB$2:$CE$478,COLUMN(),FALSE))","v":""},{"$f":"IF($E68=\"\",\"\",VLOOKUP($E68,Lists!$CB$2:$CE$478,COLUMN(),FALSE))","v":""},{"$f":"IF($E68=\"\",\"\",VLOOKUP($E68,Lists!$CB$2:$CE$478,COLUMN(),FALSE))","v":""}]
[null,{"$f":"IF($E69=\"\",\"\",VLOOKUP($E69,Lists!$CB$2:$CE$478,COLUMN(),FALSE))","v":""},{"$f":"IF($E69=\"\",\"\",VLOOKUP($E69,Lists!$CB$2:$CE$478,COLUMN(),FALSE))","v":""},{"$f":"IF($E69=\"\",\"\",VLOOKUP($E69,Lists!$CB$2:$CE$478,COLUMN(),FALSE))","v":""}]
[null,{"$f":"IF($E70=\"\",\"\",VLOOKUP($E70,Lists!$CB$2:$CE$478,COLUMN(),FALSE))","v":""},{"$f":"IF($E70=\"\",\"\",VLOOKUP($E70,Lists!$CB$2:$CE$478,COLUMN(),FALSE))","v":""},{"$f":"IF($E70=\"\",\"\",VLOOKUP($E70,Lists!$CB$2:$CE$478,COLUMN(),FALSE))","v":""}]
[null,{"$f":"IF($E71=\"\",\"\",VLOOKUP($E71,Lists!$CB$2:$CE$478,COLUMN(),FALSE))","v":""},{"$f":"IF($E71=\"\",\"\",VLOOKUP($E71,Lists!$CB$2:$CE$478,COLUMN(),FALSE))","v":""},{"$f":"IF($E71=\"\",\"\",VLOOKUP($E71,Lists!$CB$2:$CE$478,COLUMN(),FALSE))","v":""}]
[null,{"$f":"IF($E72=\"\",\"\",VLOOKUP($E72,Lists!$CB$2:$CE$478,COLUMN(),FALSE))","v":""},{"$f":"IF($E72=\"\",\"\",VLOOKUP($E72,Lists!$CB$2:$CE$478,COLUMN(),FALSE))","v":""},{"$f":"IF($E72=\"\",\"\",VLOOKUP($E72,Lists!$CB$2:$CE$478,COLUMN(),FALSE))","v":""}]
[null,{"$f":"IF($E73=\"\",\"\",VLOOKUP($E73,Lists!$CB$2:$CE$478,COLUMN(),FALSE))","v":""},{"$f":"IF($E73=\"\",\"\",VLOOKUP($E73,Lists!$CB$2:$CE$478,COLUMN(),FALSE))","v":""},{"$f":"IF($E73=\"\",\"\",VLOOKUP($E73,Lists!$CB$2:$CE$478,COLUMN(),FALSE))","v":""}]
[null,{"$f":"IF($E74=\"\",\"\",VLOOKUP($E74,Lists!$CB$2:$CE$478,COLUMN(),FALSE))","v":""},{"$f":"IF($E74=\"\",\"\",VLOOKUP($E74,Lists!$CB$2:$CE$478,COLUMN(),FALSE))","v":""},{"$f":"IF($E74=\"\",\"\",VLOOKUP($E74,Lists!$CB$2:$CE$478,COLUMN(),FALSE))","v":""}]
[null,{"$f":"IF($E75=\"\",\"\",VLOOKUP($E75,Lists!$CB$2:$CE$478,COLUMN(),FALSE))","v":""},{"$f":"IF($E75=\"\",\"\",VLOOKUP($E75,Lists!$CB$2:$CE$478,COLUMN(),FALSE))","v":""},{"$f":"IF($E75=\"\",\"\",VLOOKUP($E75,Lists!$CB$2:$CE$478,COLUMN(),FALSE))","v":""}]
[null,{"$f":"IF($E76=\"\",\"\",VLOOKUP($E76,Lists!$CB$2:$CE$478,COLUMN(),FALSE))","v":""},{"$f":"IF($E76=\"\",\"\",VLOOKUP($E76,Lists!$CB$2:$CE$478,COLUMN(),FALSE))","v":""},{"$f":"IF($E76=\"\",\"\",VLOOKUP($E76,Lists!$CB$2:$CE$478,COLUMN(),FALSE))","v":""}]
[null,{"$f":"IF($E77=\"\",\"\",VLOOKUP($E77,Lists!$CB$2:$CE$478,COLUMN(),FALSE))","v":""},{"$f":"IF($E77=\"\",\"\",VLOOKUP($E77,Lists!$CB$2:$CE$478,COLUMN(),FALSE))","v":""},{"$f":"IF($E77=\"\",\"\",VLOOKUP($E77,Lists!$CB$2:$CE$478,COLUMN(),FALSE))","v":""}]
[null,{"$f":"IF($E78=\"\",\"\",VLOOKUP($E78,Lists!$CB$2:$CE$478,COLUMN(),FALSE))","v":""},{"$f":"IF($E78=\"\",\"\",VLOOKUP($E78,Lists!$CB$2:$CE$478,COLUMN(),FALSE))","v":""},{"$f":"IF($E78=\"\",\"\",VLOOKUP($E78,Lists!$CB$2:$CE$478,COLUMN(),FALSE))","v":""}]
[null,{"$f":"IF($E79=\"\",\"\",VLOOKUP($E79,Lists!$CB$2:$CE$478,COLUMN(),FALSE))","v":""},{"$f":"IF($E79=\"\",\"\",VLOOKUP($E79,Lists!$CB$2:$CE$478,COLUMN(),FALSE))","v":""},{"$f":"IF($E79=\"\",\"\",VLOOKUP($E79,Lists!$CB$2:$CE$478,COLUMN(),FALSE))","v":""}]
[null,{"$f":"IF($E80=\"\",\"\",VLOOKUP($E80,Lists!$CB$2:$CE$478,COLUMN(),FALSE))","v":""},{"$f":"IF($E80=\"\",\"\",VLOOKUP($E80,Lists!$CB$2:$CE$478,COLUMN(),FALSE))","v":""},{"$f":"IF($E80=\"\",\"\",VLOOKUP($E80,Lists!$CB$2:$CE$478,COLUMN(),FALSE))","v":""}]
[null,{"$f":"IF($E81=\"\",\"\",VLOOKUP($E81,Lists!$CB$2:$CE$478,COLUMN(),FALSE))","v":""},{"$f":"IF($E81=\"\",\"\",VLOOKUP($E81,Lists!$CB$2:$CE$478,COLUMN(),FALSE))","v":""},{"$f":"IF($E81=\"\",\"\",VLOOKUP($E81,Lists!$CB$2:$CE$478,COLUMN(),FALSE))","v":""}]
[null,{"$f":"IF($E82=\"\",\"\",VLOOKUP($E82,Lists!$CB$2:$CE$478,COLUMN(),FALSE))","v":""},{"$f":"IF($E82=\"\",\"\",VLOOKUP($E82,Lists!$CB$2:$CE$478,COLUMN(),FALSE))","v":""},{"$f":"IF($E82=\"\",\"\",VLOOKUP($E82,Lists!$CB$2:$CE$478,COLUMN(),FALSE))","v":""}]
[null,{"$f":"IF($E83=\"\",\"\",VLOOKUP($E83,Lists!$CB$2:$CE$478,COLUMN(),FALSE))","v":""},{"$f":"IF($E83=\"\",\"\",VLOOKUP($E83,Lists!$CB$2:$CE$478,COLUMN(),FALSE))","v":""},{"$f":"IF($E83=\"\",\"\",VLOOKUP($E83,Lists!$CB$2:$CE$478,COLUMN(),FALSE))","v":""}]
[null,{"$f":"IF($E84=\"\",\"\",VLOOKUP($E84,Lists!$CB$2:$CE$478,COLUMN(),FALSE))","v":""},{"$f":"IF($E84=\"\",\"\",VLOOKUP($E84,Lists!$CB$2:$CE$478,COLUMN(),FALSE))","v":""},{"$f":"IF($E84=\"\",\"\",VLOOKUP($E84,Lists!$CB$2:$CE$478,COLUMN(),FALSE))","v":""}]
[null,{"$f":"IF($E85=\"\",\"\",VLOOKUP($E85,Lists!$CB$2:$CE$478,COLUMN(),FALSE))","v":""},{"$f":"IF($E85=\"\",\"\",VLOOKUP($E85,Lists!$CB$2:$CE$478,COLUMN(),FALSE))","v":""},{"$f":"IF($E85=\"\",\"\",VLOOKUP($E85,Lists!$CB$2:$CE$478,COLUMN(),FALSE))","v":""}]
[null,{"$f":"IF($E86=\"\",\"\",VLOOKUP($E86,Lists!$CB$2:$CE$478,COLUMN(),FALSE))","v":""},{"$f":"IF($E86=\"\",\"\",VLOOKUP($E86,Lists!$CB$2:$CE$478,COLUMN(),FALSE))","v":""},{"$f":"IF($E86=\"\",\"\",VLOOKUP($E86,Lists!$CB$2:$CE$478,COLUMN(),FALSE))","v":""}]
[null,{"$f":"IF($E87=\"\",\"\",VLOOKUP($E87,Lists!$CB$2:$CE$478,COLUMN(),FALSE))","v":""},{"$f":"IF($E87=\"\",\"\",VLOOKUP($E87,Lists!$CB$2:$CE$478,COLUMN(),FALSE))","v":""},{"$f":"IF($E87=\"\",\"\",VLOOKUP($E87,Lists!$CB$2:$CE$478,COLUMN(),FALSE))","v":""}]
[null,{"$f":"IF($E88=\"\",\"\",VLOOKUP($E88,Lists!$CB$2:$CE$478,COLUMN(),FALSE))","v":""},{"$f":"IF($E88=\"\",\"\",VLOOKUP($E88,Lists!$CB$2:$CE$478,COLUMN(),FALSE))","v":""},{"$f":"IF($E88=\"\",\"\",VLOOKUP($E88,Lists!$CB$2:$CE$478,COLUMN(),FALSE))","v":""}]
[null,{"$f":"IF($E89=\"\",\"\",VLOOKUP($E89,Lists!$CB$2:$CE$478,COLUMN(),FALSE))","v":""},{"$f":"IF($E89=\"\",\"\",VLOOKUP($E89,Lists!$CB$2:$CE$478,COLUMN(),FALSE))","v":""},{"$f":"IF($E89=\"\",\"\",VLOOKUP($E89,Lists!$CB$2:$CE$478,COLUMN(),FALSE))","v":""}]
[null,{"$f":"IF($E90=\"\",\"\",VLOOKUP($E90,Lists!$CB$2:$CE$478,COLUMN(),FALSE))","v":""},{"$f":"IF($E90=\"\",\"\",VLOOKUP($E90,Lists!$CB$2:$CE$478,COLUMN(),FALSE))","v":""},{"$f":"IF($E90=\"\",\"\",VLOOKUP($E90,Lists!$CB$2:$CE$478,COLUMN(),FALSE))","v":""}]
[null,{"$f":"IF($E91=\"\",\"\",VLOOKUP($E91,Lists!$CB$2:$CE$478,COLUMN(),FALSE))","v":""},{"$f":"IF($E91=\"\",\"\",VLOOKUP($E91,Lists!$CB$2:$CE$478,COLUMN(),FALSE))","v":""},{"$f":"IF($E91=\"\",\"\",VLOOKUP($E91,Lists!$CB$2:$CE$478,COLUMN(),FALSE))","v":""}]
[null,{"$f":"IF($E92=\"\",\"\",VLOOKUP($E92,Lists!$CB$2:$CE$478,COLUMN(),FALSE))","v":""},{"$f":"IF($E92=\"\",\"\",VLOOKUP($E92,Lists!$CB$2:$CE$478,COLUMN(),FALSE))","v":""},{"$f":"IF($E92=\"\",\"\",VLOOKUP($E92,Lists!$CB$2:$CE$478,COLUMN(),FALSE))","v":""}]
[null,{"$f":"IF($E93=\"\",\"\",VLOOKUP($E93,Lists!$CB$2:$CE$478,COLUMN(),FALSE))","v":""},{"$f":"IF($E93=\"\",\"\",VLOOKUP($E93,Lists!$CB$2:$CE$478,COLUMN(),FALSE))","v":""},{"$f":"IF($E93=\"\",\"\",VLOOKUP($E93,Lists!$CB$2:$CE$478,COLUMN(),FALSE))","v":""}]
[null,{"$f":"IF($E94=\"\",\"\",VLOOKUP($E94,Lists!$CB$2:$CE$478,COLUMN(),FALSE))","v":""},{"$f":"IF($E94=\"\",\"\",VLOOKUP($E94,Lists!$CB$2:$CE$478,COLUMN(),FALSE))","v":""},{"$f":"IF($E94=\"\",\"\",VLOOKUP($E94,Lists!$CB$2:$CE$478,COLUMN(),FALSE))","v":""}]
[null,{"$f":"IF($E95=\"\",\"\",VLOOKUP($E95,Lists!$CB$2:$CE$478,COLUMN(),FALSE))","v":""},{"$f":"IF($E95=\"\",\"\",VLOOKUP($E95,Lists!$CB$2:$CE$478,COLUMN(),FALSE))","v":""},{"$f":"IF($E95=\"\",\"\",VLOOKUP($E95,Lists!$CB$2:$CE$478,COLUMN(),FALSE))","v":""}]
[null,{"$f":"IF($E96=\"\",\"\",VLOOKUP($E96,Lists!$CB$2:$CE$478,COLUMN(),FALSE))","v":""},{"$f":"IF($E96=\"\",\"\",VLOOKUP($E96,Lists!$CB$2:$CE$478,COLUMN(),FALSE))","v":""},{"$f":"IF($E96=\"\",\"\",VLOOKUP($E96,Lists!$CB$2:$CE$478,COLUMN(),FALSE))","v":""}]
[null,{"$f":"IF($E97=\"\",\"\",VLOOKUP($E97,Lists!$CB$2:$CE$478,COLUMN(),FALSE))","v":""},{"$f":"IF($E97=\"\",\"\",VLOOKUP($E97,Lists!$CB$2:$CE$478,COLUMN(),FALSE))","v":""},{"$f":"IF($E97=\"\",\"\",VLOOKUP($E97,Lists!$CB$2:$CE$478,COLUMN(),FALSE))","v":""}]
[null,{"$f":"IF($E98=\"\",\"\",VLOOKUP($E98,Lists!$CB$2:$CE$478,COLUMN(),FALSE))","v":""},{"$f":"IF($E98=\"\",\"\",VLOOKUP($E98,Lists!$CB$2:$CE$478,COLUMN(),FALSE))","v":""},{"$f":"IF($E98=\"\",\"\",VLOOKUP($E98,Lists!$CB$2:$CE$478,COLUMN(),FALSE))","v":""}]
[null,{"$f":"IF($E99=\"\",\"\",VLOOKUP($E99,Lists!$CB$2:$CE$478,COLUMN(),FALSE))","v":""},{"$f":"IF($E99=\"\",\"\",VLOOKUP($E99,Lists!$CB$2:$CE$478,COLUMN(),FALSE))","v":""},{"$f":"IF($E99=\"\",\"\",VLOOKUP($E99,Lists!$CB$2:$CE$478,COLUMN(),FALSE))","v":""}]
[null,{"$f":"IF($E100=\"\",\"\",VLOOKUP($E100,Lists!$CB$2:$CE$478,COLUMN(),FALSE))","v":""},{"$f":"IF($E100=\"\",\"\",VLOOKUP($E100,Lists!$CB$2:$CE$478,COLUMN(),FALSE))","v":""},{"$f":"IF($E100=\"\",\"\",VLOOKUP($E100,Lists!$CB$2:$CE$478,COLUMN(),FALSE))","v":""}]

{"sheet":"NOCS_Certification","index":9,"n_rows":33,"n_cols":3,"rows_kept":33,"cut":false,"hidden":true,"merged":[]}
[null,"DO NOT REMOVE OR EDIT INFORMATION IN THIS SECTION\nFOR INTERNAL USE ONLY"]
[null,"Template Name",{"$f":"Welcome!B2","v":"63.6009(k) Notification of Compliance and  §63.6010(g) Semiannual Compliance Report (Spreadsheet Template)"}]
[null,"CitationID",{"$f":"Welcome!B3","v":"63.6009(k) and 63.6010(g)"}]
[null,"Template Version",{"$f":"Welcome!B4","v":"v1.02"}]
[null,"Last Updated Date",{"$f":"Welcome!B5","v":"2020-06-16"}]
[null,{"$f":"Welcome!B6","v":"OMB Control Number: 2060-0449"}]
[null,"40 CFR Part 63, Subpart XXXX National Emission Standards for Hazardous Air Pollutants: Rubber Tire Manufacturing -"]
[null,"63.6009(k) Notification of Compliance Status - continued"]
[null,"Note: Columns B will be autofilled based on responses provided in the Company_Information worksheet."]
[null,"Complete this form when you have completed the Notification of Compliance."]
[]
[null,"Company Record No. *\n(Autofilled)","As the owner or operator of the affected existing, new, or reconstructed source, we have complied with the relevant standard or other requirements. *\n(§63.9(h)(2)(i)(G))\n(Select from dropdown)"]
[null,"RecordId","NOCSComplianceFlag"]
[null,"e.g.: 1"]
[]
[]
[]
[]
[]
[]
[]
[]
[null,"e.g.: 1","e.g.: Yes"]
[null,{"$f":"IF(Lists!C21=\"\",\"\",Lists!C21)","v":""}]
[null,{"$f":"IF(Lists!C22=\"\",\"\",Lists!C22)","v":""}]
[null,{"$f":"IF(Lists!C23=\"\",\"\",Lists!C23)","v":""}]
[null,{"$f":"IF(Lists!C24=\"\",\"\",Lists!C24)","v":""}]
[null,{"$f":"IF(Lists!C25=\"\",\"\",Lists!C25)","v":""}]
[null,{"$f":"IF(Lists!C26=\"\",\"\",Lists!C26)","v":""}]
[null,{"$f":"IF(Lists!C27=\"\",\"\",Lists!C27)","v":""}]
[null,{"$f":"IF(Lists!C28=\"\",\"\",Lists!C28)","v":""}]
[null,{"$f":"IF(Lists!C29=\"\",\"\",Lists!C29)","v":""}]
[null,{"$f":"IF(Lists!C30=\"\",\"\",Lists!C30)","v":""}]

{"sheet":"Compliance Rpt - Tire Prod","index":10,"n_rows":100,"n_cols":8,"rows_kept":100,"cut":false,"hidden":false,"merged":[]}
[null,"DO NOT REMOVE OR EDIT INFORMATION IN THIS SECTION\nFOR INTERNAL USE ONLY"]
[null,"Template Name",{"$f":"Welcome!B2","v":"63.6009(k) Notification of Compliance and  §63.6010(g) Semiannual Compliance Report (Spreadsheet Template)"}]
[null,"CitationID",{"$f":"Welcome!B3","v":"63.6009(k) and 63.6010(g)"}]
[null,"Template Version",{"$f":"Welcome!B4","v":"v1.02"}]
[null,"Last Updated Date",{"$f":"Welcome!B5","v":"2020-06-16"}]
[null,{"$f":"Welcome!B6","v":"OMB Control Number: 2060-0449"}]
[null,"40 CFR Part 63, Subpart XXXX National Emission Standards for Hazardous Air Pollutants: Rubber Tire Manufacturing -"]
[null,"\n"]
[]
[null,"Note: Columns B through D will be autofilled based on responses provided in the Compliance_Options worksheet."]
[null,"63.6010(g) Semiannual Compliance Report"]
[null,"Company Record No. *\n(Autofilled)","Rubber Tire Manufacturing Affected Source or Facility as stated in §63.6010(c)(7).\n(Autofilled)","Rubber Tire Manufacturing Subcategory\n(Autofilled)","For each tire production affected source, provide the emission limit option in §63.5984 that you have chosen to meet *\n(§63.6010(c)(7))\n(Autofilled)","For each tire production affected source, provide the compliance alternative in §63.5985 that you have chosen to meet *\n(§63.6010(c)(7))\n(Autofilled)","For each tire production affected source complying with the purchase compliance alternative in §63.5985(a), not listed in NOCS in 63.6009(g), provide updated list of all cements and solvents used, as purchased at affected source *\n(§63.6010(c)(8))","Certify that each cement or solvent, as purchased, used at the affected source during the reporting period met the HAP constituent limits (option 1) in Table 1 to this subpart. *\n(§63.6010(c)(8))"]
[null,"RecordId","OperationName","Subcategory","EmissionLimitOption","ComplianceAlternative","CementsAndSolventsUsed","HAPConstituentLimits"]
[null,"e.g.: 1","e.g.: CuringPress1","e.g.: Tire Production","e.g.: HAP constituent option","e.g.: Purchase alternative","e.g.: cementX","e.g.: Yes"]
[null,null,null,"e.g.: End coating"]
[]
[]
[]
[]
[]
[]
[]
[]
[null,{"$f":"+IF(Lists!BM2=\"\",\"\",Lists!BM2)","v":""},{"$f":"+IF(Lists!BN2=\"\",\"\",Lists!BN2)","v":""},{"$f":"+IF(Lists!BO2=\"\",\"\",Lists!BO2)","v":""},{"$f":"+IF(Lists!BP2=\"\",\"\",Lists!BP2)","v":""},{"$f":"+IF(Lists!BQ2=\"\",\"\",Lists!BQ2)","v":""}]
[null,{"$f":"+IF(Lists!BM3=\"\",\"\",Lists!BM3)","v":""},{"$f":"+IF(Lists!BN3=\"\",\"\",Lists!BN3)","v":""},{"$f":"+IF(Lists!BO3=\"\",\"\",Lists!BO3)","v":""},{"$f":"+IF(Lists!BP3=\"\",\"\",Lists!BP3)","v":""},{"$f":"+IF(Lists!BQ3=\"\",\"\",Lists!BQ3)","v":""}]
[null,{"$f":"+IF(Lists!BM4=\"\",\"\",Lists!BM4)","v":""},{"$f":"+IF(Lists!BN4=\"\",\"\",Lists!BN4)","v":""},{"$f":"+IF(Lists!BO4=\"\",\"\",Lists!BO4)","v":""},{"$f":"+IF(Lists!BP4=\"\",\"\",Lists!BP4)","v":""},{"$f":"+IF(Lists!BQ4=\"\",\"\",Lists!BQ4)","v":""}]
[null,{"$f":"+IF(Lists!BM5=\"\",\"\",Lists!BM5)","v":""},{"$f":"+IF(Lists!BN5=\"\",\"\",Lists!BN5)","v":""},{"$f":"+IF(Lists!BO5=\"\",\"\",Lists!BO5)","v":""},{"$f":"+IF(Lists!BP5=\"\",\"\",Lists!BP5)","v":""},{"$f":"+IF(Lists!BQ5=\"\",\"\",Lists!BQ5)","v":""}]
[null,{"$f":"+IF(Lists!BM6=\"\",\"\",Lists!BM6)","v":""},{"$f":"+IF(Lists!BN6=\"\",\"\",Lists!BN6)","v":""},{"$f":"+IF(Lists!BO6=\"\",\"\",Lists!BO6)","v":""},{"$f":"+IF(Lists!BP6=\"\",\"\",Lists!BP6)","v":""},{"$f":"+IF(Lists!BQ6=\"\",\"\",Lists!BQ6)","v":""}]
[null,{"$f":"+IF(Lists!BM7=\"\",\"\",Lists!BM7)","v":""},{"$f":"+IF(Lists!BN7=\"\",\"\",Lists!BN7)","v":""},{"$f":"+IF(Lists!BO7=\"\",\"\",Lists!BO7)","v":""},{"$f":"+IF(Lists!BP7=\"\",\"\",Lists!BP7)","v":""},{"$f":"+IF(Lists!BQ7=\"\",\"\",Lists!BQ7)","v":""}]
[null,{"$f":"+IF(Lists!BM8=\"\",\"\",Lists!BM8)","v":""},{"$f":"+IF(Lists!BN8=\"\",\"\",Lists!BN8)","v":""},{"$f":"+IF(Lists!BO8=\"\",\"\",Lists!BO8)","v":""},{"$f":"+IF(Lists!BP8=\"\",\"\",Lists!BP8)","v":""},{"$f":"+IF(Lists!BQ8=\"\",\"\",Lists!BQ8)","v":""}]
[null,{"$f":"+IF(Lists!BM9=\"\",\"\",Lists!BM9)","v":""},{"$f":"+IF(Lists!BN9=\"\",\"\",Lists!BN9)","v":""},{"$f":"+IF(Lists!BO9=\"\",\"\",Lists!BO9)","v":""},{"$f":"+IF(Lists!BP9=\"\",\"\",Lists!BP9)","v":""},{"$f":"+IF(Lists!BQ9=\"\",\"\",Lists!BQ9)","v":""}]
[null,{"$f":"+IF(Lists!BM10=\"\",\"\",Lists!BM10)","v":""},{"$f":"+IF(Lists!BN10=\"\",\"\",Lists!BN10)","v":""},{"$f":"+IF(Lists!BO10=\"\",\"\",Lists!BO10)","v":""},{"$f":"+IF(Lists!BP10=\"\",\"\",Lists!BP10)","v":""},{"$f":"+IF(Lists!BQ10=\"\",\"\",Lists!BQ10)","v":""}]
[null,{"$f":"+IF(Lists!BM11=\"\",\"\",Lists!BM11)","v":""},{"$f":"+IF(Lists!BN11=\"\",\"\",Lists!BN11)","v":""},{"$f":"+IF(Lists!BO11=\"\",\"\",Lists!BO11)","v":""},{"$f":"+IF(Lists!BP11=\"\",\"\",Lists!BP11)","v":""},{"$f":"+IF(Lists!BQ11=\"\",\"\",Lists!BQ11)","v":""}]
[null,{"$f":"+IF(Lists!BM12=\"\",\"\",Lists!BM12)","v":""},{"$f":"+IF(Lists!BN12=\"\",\"\",Lists!BN12)","v":""},{"$f":"+IF(Lists!BO12=\"\",\"\",Lists!BO12)","v":""},{"$f":"+IF(Lists!BP12=\"\",\"\",Lists!BP12)","v":""},{"$f":"+IF(Lists!BQ12=\"\",\"\",Lists!BQ12)","v":""}]
[null,{"$f":"+IF(Lists!BM13=\"\",\"\",Lists!BM13)","v":""},{"$f":"+IF(Lists!BN13=\"\",\"\",Lists!BN13)","v":""},{"$f":"+IF(Lists!BO13=\"\",\"\",Lists!BO13)","v":""},{"$f":"+IF(Lists!BP13=\"\",\"\",Lists!BP13)","v":""},{"$f":"+IF(Lists!BQ13=\"\",\"\",Lists!BQ13)","v":""}]
[null,{"$f":"+IF(Lists!BM14=\"\",\"\",Lists!BM14)","v":""},{"$f":"+IF(Lists!BN14=\"\",\"\",Lists!BN14)","v":""},{"$f":"+IF(Lists!BO14=\"\",\"\",Lists!BO14)","v":""},{"$f":"+IF(Lists!BP14=\"\",\"\",Lists!BP14)","v":""},{"$f":"+IF(Lists!BQ14=\"\",\"\",Lists!BQ14)","v":""}]
[null,{"$f":"+IF(Lists!BM15=\"\",\"\",Lists!BM15)","v":""},{"$f":"+IF(Lists!BN15=\"\",\"\",Lists!BN15)","v":""},{"$f":"+IF(Lists!BO15=\"\",\"\",Lists!BO15)","v":""},{"$f":"+IF(Lists!BP15=\"\",\"\",Lists!BP15)","v":""},{"$f":"+IF(Lists!BQ15=\"\",\"\",Lists!BQ15)","v":""}]
[null,{"$f":"+IF(Lists!BM16=\"\",\"\",Lists!BM16)","v":""},{"$f":"+IF(Lists!BN16=\"\",\"\",Lists!BN16)","v":""},{"$f":"+IF(Lists!BO16=\"\",\"\",Lists!BO16)","v":""},{"$f":"+IF(Lists!BP16=\"\",\"\",Lists!BP16)","v":""},{"$f":"+IF(Lists!BQ16=\"\",\"\",Lists!BQ16)","v":""}]
[null,{"$f":"+IF(Lists!BM17=\"\",\"\",Lists!BM17)","v":""},{"$f":"+IF(Lists!BN17=\"\",\"\",Lists!BN17)","v":""},{"$f":"+IF(Lists!BO17=\"\",\"\",Lists!BO17)","v":""},{"$f":"+IF(Lists!BP17=\"\",\"\",Lists!BP17)","v":""},{"$f":"+IF(Lists!BQ17=\"\",\"\",Lists!BQ17)","v":""}]
[null,{"$f":"+IF(Lists!BM18=\"\",\"\",Lists!BM18)","v":""},{"$f":"+IF(Lists!BN18=\"\",\"\",Lists!BN18)","v":""},{"$f":"+IF(Lists!BO18=\"\",\"\",Lists!BO18)","v":""},{"$f":"+IF(Lists!BP18=\"\",\"\",Lists!BP18)","v":""},{"$f":"+IF(Lists!BQ18=\"\",\"\",Lists!BQ18)","v":""}]
[null,{"$f":"+IF(Lists!BM19=\"\",\"\",Lists!BM19)","v":""},{"$f":"+IF(Lists!BN19=\"\",\"\",Lists!BN19)","v":""},{"$f":"+IF(Lists!BO19=\"\",\"\",Lists!BO19)","v":""},{"$f":"+IF(Lists!BP19=\"\",\"\",Lists!BP19)","v":""},{"$f":"+IF(Lists!BQ19=\"\",\"\",Lists!BQ19)","v":""}]
[null,{"$f":"+IF(Lists!BM20=\"\",\"\",Lists!BM20)","v":""},{"$f":"+IF(Lists!BN20=\"\",\"\",Lists!BN20)","v":""},{"$f":"+IF(Lists!BO20=\"\",\"\",Lists!BO20)","v":""},{"$f":"+IF(Lists!BP20=\"\",\"\",Lists!BP20)","v":""},{"$f":"+IF(Lists!BQ20=\"\",\"\",Lists!BQ20)","v":""}]
[null,{"$f":"+IF(Lists!BM21=\"\",\"\",Lists!BM21)","v":""},{"$f":"+IF(Lists!BN21=\"\",\"\",Lists!BN21)","v":""},{"$f":"+IF(Lists!BO21=\"\",\"\",Lists!BO21)","v":""},{"$f":"+IF(Lists!BP21=\"\",\"\",Lists!BP21)","v":""},{"$f":"+IF(Lists!BQ21=\"\",\"\",Lists!BQ21)","v":""}]
[null,{"$f":"+IF(Lists!BM22=\"\",\"\",Lists!BM22)","v":""},{"$f":"+IF(Lists!BN22=\"\",\"\",Lists!BN22)","v":""},{"$f":"+IF(Lists!BO22=\"\",\"\",Lists!BO22)","v":""},{"$f":"+IF(Lists!BP22=\"\",\"\",Lists!BP22)","v":""},{"$f":"+IF(Lists!BQ22=\"\",\"\",Lists!BQ22)","v":""}]
[null,{"$f":"+IF(Lists!BM23=\"\",\"\",Lists!BM23)","v":""},{"$f":"+IF(Lists!BN23=\"\",\"\",Lists!BN23)","v":""},{"$f":"+IF(Lists!BO23=\"\",\"\",Lists!BO23)","v":""},{"$f":"+IF(Lists!BP23=\"\",\"\",Lists!BP23)","v":""},{"$f":"+IF(Lists!BQ23=\"\",\"\",Lists!BQ23)","v":""}]
[null,{"$f":"+IF(Lists!BM24=\"\",\"\",Lists!BM24)","v":""},{"$f":"+IF(Lists!BN24=\"\",\"\",Lists!BN24)","v":""},{"$f":"+IF(Lists!BO24=\"\",\"\",Lists!BO24)","v":""},{"$f":"+IF(Lists!BP24=\"\",\"\",Lists!BP24)","v":""},{"$f":"+IF(Lists!BQ24=\"\",\"\",Lists!BQ24)","v":""}]
[null,{"$f":"+IF(Lists!BM25=\"\",\"\",Lists!BM25)","v":""},{"$f":"+IF(Lists!BN25=\"\",\"\",Lists!BN25)","v":""},{"$f":"+IF(Lists!BO25=\"\",\"\",Lists!BO25)","v":""},{"$f":"+IF(Lists!BP25=\"\",\"\",Lists!BP25)","v":""},{"$f":"+IF(Lists!BQ25=\"\",\"\",Lists!BQ25)","v":""}]
[null,{"$f":"+IF(Lists!BM26=\"\",\"\",Lists!BM26)","v":""},{"$f":"+IF(Lists!BN26=\"\",\"\",Lists!BN26)","v":""},{"$f":"+IF(Lists!BO26=\"\",\"\",Lists!BO26)","v":""},{"$f":"+IF(Lists!BP26=\"\",\"\",Lists!BP26)","v":""},{"$f":"+IF(Lists!BQ26=\"\",\"\",Lists!BQ26)","v":""}]
[null,{"$f":"+IF(Lists!BM27=\"\",\"\",Lists!BM27)","v":""},{"$f":"+IF(Lists!BN27=\"\",\"\",Lists!BN27)","v":""},{"$f":"+IF(Lists!BO27=\"\",\"\",Lists!BO27)","v":""},{"$f":"+IF(Lists!BP27=\"\",\"\",Lists!BP27)","v":""},{"$f":"+IF(Lists!BQ27=\"\",\"\",Lists!BQ27)","v":""}]
[null,{"$f":"+IF(Lists!BM28=\"\",\"\",Lists!BM28)","v":""},{"$f":"+IF(Lists!BN28=\"\",\"\",Lists!BN28)","v":""},{"$f":"+IF(Lists!BO28=\"\",\"\",Lists!BO28)","v":""},{"$f":"+IF(Lists!BP28=\"\",\"\",Lists!BP28)","v":""},{"$f":"+IF(Lists!BQ28=\"\",\"\",Lists!BQ28)","v":""}]
[null,{"$f":"+IF(Lists!BM29=\"\",\"\",Lists!BM29)","v":""},{"$f":"+IF(Lists!BN29=\"\",\"\",Lists!BN29)","v":""},{"$f":"+IF(Lists!BO29=\"\",\"\",Lists!BO29)","v":""},{"$f":"+IF(Lists!BP29=\"\",\"\",Lists!BP29)","v":""},{"$f":"+IF(Lists!BQ29=\"\",\"\",Lists!BQ29)","v":""}]
[null,{"$f":"+IF(Lists!BM30=\"\",\"\",Lists!BM30)","v":""},{"$f":"+IF(Lists!BN30=\"\",\"\",Lists!BN30)","v":""},{"$f":"+IF(Lists!BO30=\"\",\"\",Lists!BO30)","v":""},{"$f":"+IF(Lists!BP30=\"\",\"\",Lists!BP30)","v":""},{"$f":"+IF(Lists!BQ30=\"\",\"\",Lists!BQ30)","v":""}]
[null,{"$f":"+IF(Lists!BM31=\"\",\"\",Lists!BM31)","v":""},{"$f":"+IF(Lists!BN31=\"\",\"\",Lists!BN31)","v":""},{"$f":"+IF(Lists!BO31=\"\",\"\",Lists!BO31)","v":""},{"$f":"+IF(Lists!BP31=\"\",\"\",Lists!BP31)","v":""},{"$f":"+IF(Lists!BQ31=\"\",\"\",Lists!BQ31)","v":""}]
[null,{"$f":"+IF(Lists!BM32=\"\",\"\",Lists!BM32)","v":""},{"$f":"+IF(Lists!BN32=\"\",\"\",Lists!BN32)","v":""},{"$f":"+IF(Lists!BO32=\"\",\"\",Lists!BO32)","v":""},{"$f":"+IF(Lists!BP32=\"\",\"\",Lists!BP32)","v":""},{"$f":"+IF(Lists!BQ32=\"\",\"\",Lists!BQ32)","v":""}]
[null,{"$f":"+IF(Lists!BM33=\"\",\"\",Lists!BM33)","v":""},{"$f":"+IF(Lists!BN33=\"\",\"\",Lists!BN33)","v":""},{"$f":"+IF(Lists!BO33=\"\",\"\",Lists!BO33)","v":""},{"$f":"+IF(Lists!BP33=\"\",\"\",Lists!BP33)","v":""},{"$f":"+IF(Lists!BQ33=\"\",\"\",Lists!BQ33)","v":""}]
[null,{"$f":"+IF(Lists!BM34=\"\",\"\",Lists!BM34)","v":""},{"$f":"+IF(Lists!BN34=\"\",\"\",Lists!BN34)","v":""},{"$f":"+IF(Lists!BO34=\"\",\"\",Lists!BO34)","v":""},{"$f":"+IF(Lists!BP34=\"\",\"\",Lists!BP34)","v":""},{"$f":"+IF(Lists!BQ34=\"\",\"\",Lists!BQ34)","v":""}]
[null,{"$f":"+IF(Lists!BM35=\"\",\"\",Lists!BM35)","v":""},{"$f":"+IF(Lists!BN35=\"\",\"\",Lists!BN35)","v":""},{"$f":"+IF(Lists!BO35=\"\",\"\",Lists!BO35)","v":""},{"$f":"+IF(Lists!BP35=\"\",\"\",Lists!BP35)","v":""},{"$f":"+IF(Lists!BQ35=\"\",\"\",Lists!BQ35)","v":""}]
[null,{"$f":"+IF(Lists!BM36=\"\",\"\",Lists!BM36)","v":""},{"$f":"+IF(Lists!BN36=\"\",\"\",Lists!BN36)","v":""},{"$f":"+IF(Lists!BO36=\"\",\"\",Lists!BO36)","v":""},{"$f":"+IF(Lists!BP36=\"\",\"\",Lists!BP36)","v":""},{"$f":"+IF(Lists!BQ36=\"\",\"\",Lists!BQ36)","v":""}]
[null,{"$f":"+IF(Lists!BM37=\"\",\"\",Lists!BM37)","v":""},{"$f":"+IF(Lists!BN37=\"\",\"\",Lists!BN37)","v":""},{"$f":"+IF(Lists!BO37=\"\",\"\",Lists!BO37)","v":""},{"$f":"+IF(Lists!BP37=\"\",\"\",Lists!BP37)","v":""},{"$f":"+IF(Lists!BQ37=\"\",\"\",Lists!BQ37)","v":""}]
[null,{"$f":"+IF(Lists!BM38=\"\",\"\",Lists!BM38)","v":""},{"$f":"+IF(Lists!BN38=\"\",\"\",Lists!BN38)","v":""},{"$f":"+IF(Lists!BO38=\"\",\"\",Lists!BO38)","v":""},{"$f":"+IF(Lists!BP38=\"\",\"\",Lists!BP38)","v":""},{"$f":"+IF(Lists!BQ38=\"\",\"\",Lists!BQ38)","v":""}]
[null,{"$f":"+IF(Lists!BM39=\"\",\"\",Lists!BM39)","v":""},{"$f":"+IF(Lists!BN39=\"\",\"\",Lists!BN39)","v":""},{"$f":"+IF(Lists!BO39=\"\",\"\",Lists!BO39)","v":""},{"$f":"+IF(Lists!BP39=\"\",\"\",Lists!BP39)","v":""},{"$f":"+IF(Lists!BQ39=\"\",\"\",Lists!BQ39)","v":""}]
[null,{"$f":"+IF(Lists!BM40=\"\",\"\",Lists!BM40)","v":""},{"$f":"+IF(Lists!BN40=\"\",\"\",Lists!BN40)","v":""},{"$f":"+IF(Lists!BO40=\"\",\"\",Lists!BO40)","v":""},{"$f":"+IF(Lists!BP40=\"\",\"\",Lists!BP40)","v":""},{"$f":"+IF(Lists!BQ40=\"\",\"\",Lists!BQ40)","v":""}]
[null,{"$f":"+IF(Lists!BM41=\"\",\"\",Lists!BM41)","v":""},{"$f":"+IF(Lists!BN41=\"\",\"\",Lists!BN41)","v":""},{"$f":"+IF(Lists!BO41=\"\",\"\",Lists!BO41)","v":""},{"$f":"+IF(Lists!BP41=\"\",\"\",Lists!BP41)","v":""},{"$f":"+IF(Lists!BQ41=\"\",\"\",Lists!BQ41)","v":""}]
[null,{"$f":"+IF(Lists!BM42=\"\",\"\",Lists!BM42)","v":""},{"$f":"+IF(Lists!BN42=\"\",\"\",Lists!BN42)","v":""},{"$f":"+IF(Lists!BO42=\"\",\"\",Lists!BO42)","v":""},{"$f":"+IF(Lists!BP42=\"\",\"\",Lists!BP42)","v":""},{"$f":"+IF(Lists!BQ42=\"\",\"\",Lists!BQ42)","v":""}]
[null,{"$f":"+IF(Lists!BM43=\"\",\"\",Lists!BM43)","v":""},{"$f":"+IF(Lists!BN43=\"\",\"\",Lists!BN43)","v":""},{"$f":"+IF(Lists!BO43=\"\",\"\",Lists!BO43)","v":""},{"$f":"+IF(Lists!BP43=\"\",\"\",Lists!BP43)","v":""},{"$f":"+IF(Lists!BQ43=\"\",\"\",Lists!BQ43)","v":""}]
[null,{"$f":"+IF(Lists!BM44=\"\",\"\",Lists!BM44)","v":""},{"$f":"+IF(Lists!BN44=\"\",\"\",Lists!BN44)","v":""},{"$f":"+IF(Lists!BO44=\"\",\"\",Lists!BO44)","v":""},{"$f":"+IF(Lists!BP44=\"\",\"\",Lists!BP44)","v":""},{"$f":"+IF(Lists!BQ44=\"\",\"\",Lists!BQ44)","v":""}]
[null,{"$f":"+IF(Lists!BM45=\"\",\"\",Lists!BM45)","v":""},{"$f":"+IF(Lists!BN45=\"\",\"\",Lists!BN45)","v":""},{"$f":"+IF(Lists!BO45=\"\",\"\",Lists!BO45)","v":""},{"$f":"+IF(Lists!BP45=\"\",\"\",Lists!BP45)","v":""},{"$f":"+IF(Lists!BQ45=\"\",\"\",Lists!BQ45)","v":""}]
[null,{"$f":"+IF(Lists!BM46=\"\",\"\",Lists!BM46)","v":""},{"$f":"+IF(Lists!BN46=\"\",\"\",Lists!BN46)","v":""},{"$f":"+IF(Lists!BO46=\"\",\"\",Lists!BO46)","v":""},{"$f":"+IF(Lists!BP46=\"\",\"\",Lists!BP46)","v":""},{"$f":"+IF(Lists!BQ46=\"\",\"\",Lists!BQ46)","v":""}]
[null,{"$f":"+IF(Lists!BM47=\"\",\"\",Lists!BM47)","v":""},{"$f":"+IF(Lists!BN47=\"\",\"\",Lists!BN47)","v":""},{"$f":"+IF(Lists!BO47=\"\",\"\",Lists!BO47)","v":""},{"$f":"+IF(Lists!BP47=\"\",\"\",Lists!BP47)","v":""},{"$f":"+IF(Lists!BQ47=\"\",\"\",Lists!BQ47)","v":""}]
[null,{"$f":"+IF(Lists!BM48=\"\",\"\",Lists!BM48)","v":""},{"$f":"+IF(Lists!BN48=\"\",\"\",Lists!BN48)","v":""},{"$f":"+IF(Lists!BO48=\"\",\"\",Lists!BO48)","v":""},{"$f":"+IF(Lists!BP48=\"\",\"\",Lists!BP48)","v":""},{"$f":"+IF(Lists!BQ48=\"\",\"\",Lists!BQ48)","v":""}]
[null,{"$f":"+IF(Lists!BM49=\"\",\"\",Lists!BM49)","v":""},{"$f":"+IF(Lists!BN49=\"\",\"\",Lists!BN49)","v":""},{"$f":"+IF(Lists!BO49=\"\",\"\",Lists!BO49)","v":""},{"$f":"+IF(Lists!BP49=\"\",\"\",Lists!BP49)","v":""},{"$f":"+IF(Lists!BQ49=\"\",\"\",Lists!BQ49)","v":""}]
[null,{"$f":"+IF(Lists!BM50=\"\",\"\",Lists!BM50)","v":""},{"$f":"+IF(Lists!BN50=\"\",\"\",Lists!BN50)","v":""},{"$f":"+IF(Lists!BO50=\"\",\"\",Lists!BO50)","v":""},{"$f":"+IF(Lists!BP50=\"\",\"\",Lists!BP50)","v":""},{"$f":"+IF(Lists!BQ50=\"\",\"\",Lists!BQ50)","v":""}]
[null,{"$f":"+IF(Lists!BM51=\"\",\"\",Lists!BM51)","v":""},{"$f":"+IF(Lists!BN51=\"\",\"\",Lists!BN51)","v":""},{"$f":"+IF(Lists!BO51=\"\",\"\",Lists!BO51)","v":""},{"$f":"+IF(Lists!BP51=\"\",\"\",Lists!BP51)","v":""},{"$f":"+IF(Lists!BQ51=\"\",\"\",Lists!BQ51)","v":""}]
[null,{"$f":"+IF(Lists!BM52=\"\",\"\",Lists!BM52)","v":""},{"$f":"+IF(Lists!BN52=\"\",\"\",Lists!BN52)","v":""},{"$f":"+IF(Lists!BO52=\"\",\"\",Lists!BO52)","v":""},{"$f":"+IF(Lists!BP52=\"\",\"\",Lists!BP52)","v":""},{"$f":"+IF(Lists!BQ52=\"\",\"\",Lists!BQ52)","v":""}]
[null,{"$f":"+IF(Lists!BM53=\"\",\"\",Lists!BM53)","v":""},{"$f":"+IF(Lists!BN53=\"\",\"\",Lists!BN53)","v":""},{"$f":"+IF(Lists!BO53=\"\",\"\",Lists!BO53)","v":""},{"$f":"+IF(Lists!BP53=\"\",\"\",Lists!BP53)","v":""},{"$f":"+IF(Lists!BQ53=\"\",\"\",Lists!BQ53)","v":""}]
[null,{"$f":"+IF(Lists!BM54=\"\",\"\",Lists!BM54)","v":""},{"$f":"+IF(Lists!BN54=\"\",\"\",Lists!BN54)","v":""},{"$f":"+IF(Lists!BO54=\"\",\"\",Lists!BO54)","v":""},{"$f":"+IF(Lists!BP54=\"\",\"\",Lists!BP54)","v":""},{"$f":"+IF(Lists!BQ54=\"\",\"\",Lists!BQ54)","v":""}]
[null,{"$f":"+IF(Lists!BM55=\"\",\"\",Lists!BM55)","v":""},{"$f":"+IF(Lists!BN55=\"\",\"\",Lists!BN55)","v":""},{"$f":"+IF(Lists!BO55=\"\",\"\",Lists!BO55)","v":""},{"$f":"+IF(Lists!BP55=\"\",\"\",Lists!BP55)","v":""},{"$f":"+IF(Lists!BQ55=\"\",\"\",Lists!BQ55)","v":""}]
[null,{"$f":"+IF(Lists!BM56=\"\",\"\",Lists!BM56)","v":""},{"$f":"+IF(Lists!BN56=\"\",\"\",Lists!BN56)","v":""},{"$f":"+IF(Lists!BO56=\"\",\"\",Lists!BO56)","v":""},{"$f":"+IF(Lists!BP56=\"\",\"\",Lists!BP56)","v":""},{"$f":"+IF(Lists!BQ56=\"\",\"\",Lists!BQ56)","v":""}]
[null,{"$f":"+IF(Lists!BM57=\"\",\"\",Lists!BM57)","v":""},{"$f":"+IF(Lists!BN57=\"\",\"\",Lists!BN57)","v":""},{"$f":"+IF(Lists!BO57=\"\",\"\",Lists!BO57)","v":""},{"$f":"+IF(Lists!BP57=\"\",\"\",Lists!BP57)","v":""},{"$f":"+IF(Lists!BQ57=\"\",\"\",Lists!BQ57)","v":""}]
[null,{"$f":"+IF(Lists!BM58=\"\",\"\",Lists!BM58)","v":""},{"$f":"+IF(Lists!BN58=\"\",\"\",Lists!BN58)","v":""},{"$f":"+IF(Lists!BO58=\"\",\"\",Lists!BO58)","v":""},{"$f":"+IF(Lists!BP58=\"\",\"\",Lists!BP58)","v":""},{"$f":"+IF(Lists!BQ58=\"\",\"\",Lists!BQ58)","v":""}]
[null,{"$f":"+IF(Lists!BM59=\"\",\"\",Lists!BM59)","v":""},{"$f":"+IF(Lists!BN59=\"\",\"\",Lists!BN59)","v":""},{"$f":"+IF(Lists!BO59=\"\",\"\",Lists!BO59)","v":""},{"$f":"+IF(Lists!BP59=\"\",\"\",Lists!BP59)","v":""},{"$f":"+IF(Lists!BQ59=\"\",\"\",Lists!BQ59)","v":""}]
[null,{"$f":"+IF(Lists!BM60=\"\",\"\",Lists!BM60)","v":""},{"$f":"+IF(Lists!BN60=\"\",\"\",Lists!BN60)","v":""},{"$f":"+IF(Lists!BO60=\"\",\"\",Lists!BO60)","v":""},{"$f":"+IF(Lists!BP60=\"\",\"\",Lists!BP60)","v":""},{"$f":"+IF(Lists!BQ60=\"\",\"\",Lists!BQ60)","v":""}]
[null,{"$f":"+IF(Lists!BM61=\"\",\"\",Lists!BM61)","v":""},{"$f":"+IF(Lists!BN61=\"\",\"\",Lists!BN61)","v":""},{"$f":"+IF(Lists!BO61=\"\",\"\",Lists!BO61)","v":""},{"$f":"+IF(Lists!BP61=\"\",\"\",Lists!BP61)","v":""},{"$f":"+IF(Lists!BQ61=\"\",\"\",Lists!BQ61)","v":""}]
[null,{"$f":"+IF(Lists!BM62=\"\",\"\",Lists!BM62)","v":""},{"$f":"+IF(Lists!BN62=\"\",\"\",Lists!BN62)","v":""},{"$f":"+IF(Lists!BO62=\"\",\"\",Lists!BO62)","v":""},{"$f":"+IF(Lists!BP62=\"\",\"\",Lists!BP62)","v":""},{"$f":"+IF(Lists!BQ62=\"\",\"\",Lists!BQ62)","v":""}]
[null,{"$f":"+IF(Lists!BM63=\"\",\"\",Lists!BM63)","v":""},{"$f":"+IF(Lists!BN63=\"\",\"\",Lists!BN63)","v":""},{"$f":"+IF(Lists!BO63=\"\",\"\",Lists!BO63)","v":""},{"$f":"+IF(Lists!BP63=\"\",\"\",Lists!BP63)","v":""},{"$f":"+IF(Lists!BQ63=\"\",\"\",Lists!BQ63)","v":""}]
[null,{"$f":"+IF(Lists!BM64=\"\",\"\",Lists!BM64)","v":""},{"$f":"+IF(Lists!BN64=\"\",\"\",Lists!BN64)","v":""},{"$f":"+IF(Lists!BO64=\"\",\"\",Lists!BO64)","v":""},{"$f":"+IF(Lists!BP64=\"\",\"\",Lists!BP64)","v":""},{"$f":"+IF(Lists!BQ64=\"\",\"\",Lists!BQ64)","v":""}]
[null,{"$f":"+IF(Lists!BM65=\"\",\"\",Lists!BM65)","v":""},{"$f":"+IF(Lists!BN65=\"\",\"\",Lists!BN65)","v":""},{"$f":"+IF(Lists!BO65=\"\",\"\",Lists!BO65)","v":""},{"$f":"+IF(Lists!BP65=\"\",\"\",Lists!BP65)","v":""},{"$f":"+IF(Lists!BQ65=\"\",\"\",Lists!BQ65)","v":""}]
[null,{"$f":"+IF(Lists!BM66=\"\",\"\",Lists!BM66)","v":""},{"$f":"+IF(Lists!BN66=\"\",\"\",Lists!BN66)","v":""},{"$f":"+IF(Lists!BO66=\"\",\"\",Lists!BO66)","v":""},{"$f":"+IF(Lists!BP66=\"\",\"\",Lists!BP66)","v":""},{"$f":"+IF(Lists!BQ66=\"\",\"\",Lists!BQ66)","v":""}]
[null,{"$f":"+IF(Lists!BM67=\"\",\"\",Lists!BM67)","v":""},{"$f":"+IF(Lists!BN67=\"\",\"\",Lists!BN67)","v":""},{"$f":"+IF(Lists!BO67=\"\",\"\",Lists!BO67)","v":""},{"$f":"+IF(Lists!BP67=\"\",\"\",Lists!BP67)","v":""},{"$f":"+IF(Lists!BQ67=\"\",\"\",Lists!BQ67)","v":""}]
[null,{"$f":"+IF(Lists!BM68=\"\",\"\",Lists!BM68)","v":""},{"$f":"+IF(Lists!BN68=\"\",\"\",Lists!BN68)","v":""},{"$f":"+IF(Lists!BO68=\"\",\"\",Lists!BO68)","v":""},{"$f":"+IF(Lists!BP68=\"\",\"\",Lists!BP68)","v":""},{"$f":"+IF(Lists!BQ68=\"\",\"\",Lists!BQ68)","v":""}]
[null,{"$f":"+IF(Lists!BM69=\"\",\"\",Lists!BM69)","v":""},{"$f":"+IF(Lists!BN69=\"\",\"\",Lists!BN69)","v":""},{"$f":"+IF(Lists!BO69=\"\",\"\",Lists!BO69)","v":""},{"$f":"+IF(Lists!BP69=\"\",\"\",Lists!BP69)","v":""},{"$f":"+IF(Lists!BQ69=\"\",\"\",Lists!BQ69)","v":""}]
[null,{"$f":"+IF(Lists!BM70=\"\",\"\",Lists!BM70)","v":""},{"$f":"+IF(Lists!BN70=\"\",\"\",Lists!BN70)","v":""},{"$f":"+IF(Lists!BO70=\"\",\"\",Lists!BO70)","v":""},{"$f":"+IF(Lists!BP70=\"\",\"\",Lists!BP70)","v":""},{"$f":"+IF(Lists!BQ70=\"\",\"\",Lists!BQ70)","v":""}]
[null,{"$f":"+IF(Lists!BM71=\"\",\"\",Lists!BM71)","v":""},{"$f":"+IF(Lists!BN71=\"\",\"\",Lists!BN71)","v":""},{"$f":"+IF(Lists!BO71=\"\",\"\",Lists!BO71)","v":""},{"$f":"+IF(Lists!BP71=\"\",\"\",Lists!BP71)","v":""},{"$f":"+IF(Lists!BQ71=\"\",\"\",Lists!BQ71)","v":""}]
[null,{"$f":"+IF(Lists!BM72=\"\",\"\",Lists!BM72)","v":""},{"$f":"+IF(Lists!BN72=\"\",\"\",Lists!BN72)","v":""},{"$f":"+IF(Lists!BO72=\"\",\"\",Lists!BO72)","v":""},{"$f":"+IF(Lists!BP72=\"\",\"\",Lists!BP72)","v":""},{"$f":"+IF(Lists!BQ72=\"\",\"\",Lists!BQ72)","v":""}]
[null,{"$f":"+IF(Lists!BM73=\"\",\"\",Lists!BM73)","v":""},{"$f":"+IF(Lists!BN73=\"\",\"\",Lists!BN73)","v":""},{"$f":"+IF(Lists!BO73=\"\",\"\",Lists!BO73)","v":""},{"$f":"+IF(Lists!BP73=\"\",\"\",Lists!BP73)","v":""},{"$f":"+IF(Lists!BQ73=\"\",\"\",Lists!BQ73)","v":""}]
[null,{"$f":"+IF(Lists!BM74=\"\",\"\",Lists!BM74)","v":""},{"$f":"+IF(Lists!BN74=\"\",\"\",Lists!BN74)","v":""},{"$f":"+IF(Lists!BO74=\"\",\"\",Lists!BO74)","v":""},{"$f":"+IF(Lists!BP74=\"\",\"\",Lists!BP74)","v":""},{"$f":"+IF(Lists!BQ74=\"\",\"\",Lists!BQ74)","v":""}]
[null,{"$f":"+IF(Lists!BM75=\"\",\"\",Lists!BM75)","v":""},{"$f":"+IF(Lists!BN75=\"\",\"\",Lists!BN75)","v":""},{"$f":"+IF(Lists!BO75=\"\",\"\",Lists!BO75)","v":""},{"$f":"+IF(Lists!BP75=\"\",\"\",Lists!BP75)","v":""},{"$f":"+IF(Lists!BQ75=\"\",\"\",Lists!BQ75)","v":""}]
[null,{"$f":"+IF(Lists!BM76=\"\",\"\",Lists!BM76)","v":""},{"$f":"+IF(Lists!BN76=\"\",\"\",Lists!BN76)","v":""},{"$f":"+IF(Lists!BO76=\"\",\"\",Lists!BO76)","v":""},{"$f":"+IF(Lists!BP76=\"\",\"\",Lists!BP76)","v":""},{"$f":"+IF(Lists!BQ76=\"\",\"\",Lists!BQ76)","v":""}]
[null,{"$f":"+IF(Lists!BM77=\"\",\"\",Lists!BM77)","v":""},{"$f":"+IF(Lists!BN77=\"\",\"\",Lists!BN77)","v":""},{"$f":"+IF(Lists!BO77=\"\",\"\",Lists!BO77)","v":""},{"$f":"+IF(Lists!BP77=\"\",\"\",Lists!BP77)","v":""},{"$f":"+IF(Lists!BQ77=\"\",\"\",Lists!BQ77)","v":""}]
[null,{"$f":"+IF(Lists!BM78=\"\",\"\",Lists!BM78)","v":""},{"$f":"+IF(Lists!BN78=\"\",\"\",Lists!BN78)","v":""},{"$f":"+IF(Lists!BO78=\"\",\"\",Lists!BO78)","v":""},{"$f":"+IF(Lists!BP78=\"\",\"\",Lists!BP78)","v":""},{"$f":"+IF(Lists!BQ78=\"\",\"\",Lists!BQ78)","v":""}]

{"sheet":"Compliance Rpt - Tire Cord","index":11,"n_rows":100,"n_cols":6,"rows_kept":100,"cut":false,"hidden":false,"merged":[]}
[null,"DO NOT REMOVE OR EDIT INFORMATION IN THIS SECTION\nFOR INTERNAL USE ONLY"]
[null,"Template Name",{"$f":"Welcome!B2","v":"63.6009(k) Notification of Compliance and  §63.6010(g) Semiannual Compliance Report (Spreadsheet Template)"}]
[null,"CitationID",{"$f":"Welcome!B3","v":"63.6009(k) and 63.6010(g)"}]
[null,"Template Version",{"$f":"Welcome!B4","v":"v1.02"}]
[null,"Last Updated Date",{"$f":"Welcome!B5","v":"2020-06-16"}]
[null,{"$f":"Welcome!B6","v":"OMB Control Number: 2060-0449"}]
[null,"40 CFR Part 63, Subpart XXXX National Emission Standards for Hazardous Air Pollutants: Rubber Tire Manufacturing -"]
[null,"\n"]
[]
[null,"Note: Columns B through D will be autofilled based on responses provided in the Compliance_Options worksheet."]
[null,"63.6010(g) Semiannual Compliance Report"]
[null,"Company Record No. *\n(Autofilled)","Name of Rubber Tire Manufacturing Affected Source *\n(§63.9(h))\n(Autofilled)","Rubber Tire Manufacturing Subcategory\n(Autofilled)","For each tire cord production affected source, provide the emission limit option in §63.5986 that you have chosen to meet *\n(§63.6010(c)(9))\n(Autofilled)","For each tire cord production affected source, provide the compliance alternative in §63.5987 that you have chosen to meet *\n(§63.6010(c)(9))\n(Autofilled)"]
[null,"RecordId","OperationName","Subcategory","EmissionLimitOption","ComplianceAlternative"]
[null,"e.g.: 1","e.g.: Extruder1","e.g.: Tire Cord Production","e.g.: Option 1.a (production-based option)—Existing","e.g.: Monthly average alternative, using an add-on control device"]
[]
[]
[]
[]
[]
[]
[]
[]
[]
[null,{"$f":"+IF(Lists!BU2=\"\",\"\",Lists!BU2)","v":""},{"$f":"+IF(Lists!BV2=\"\",\"\",Lists!BV2)","v":""},{"$f":"+IF(Lists!BW2=\"\",\"\",Lists!BW2)","v":""},{"$f":"+IF(Lists!BX2=\"\",\"\",Lists!BX2)","v":""},{"$f":"+IF(Lists!BY2=\"\",\"\",Lists!BY2)","v":""}]
[null,{"$f":"+IF(Lists!BU3=\"\",\"\",Lists!BU3)","v":""},{"$f":"+IF(Lists!BV3=\"\",\"\",Lists!BV3)","v":""},{"$f":"+IF(Lists!BW3=\"\",\"\",Lists!BW3)","v":""},{"$f":"+IF(Lists!BX3=\"\",\"\",Lists!BX3)","v":""},{"$f":"+IF(Lists!BY3=\"\",\"\",Lists!BY3)","v":""}]
[null,{"$f":"+IF(Lists!BU4=\"\",\"\",Lists!BU4)","v":""},{"$f":"+IF(Lists!BV4=\"\",\"\",Lists!BV4)","v":""},{"$f":"+IF(Lists!BW4=\"\",\"\",Lists!BW4)","v":""},{"$f":"+IF(Lists!BX4=\"\",\"\",Lists!BX4)","v":""},{"$f":"+IF(Lists!BY4=\"\",\"\",Lists!BY4)","v":""}]
[null,{"$f":"+IF(Lists!BU5=\"\",\"\",Lists!BU5)","v":""},{"$f":"+IF(Lists!BV5=\"\",\"\",Lists!BV5)","v":""},{"$f":"+IF(Lists!BW5=\"\",\"\",Lists!BW5)","v":""},{"$f":"+IF(Lists!BX5=\"\",\"\",Lists!BX5)","v":""},{"$f":"+IF(Lists!BY5=\"\",\"\",Lists!BY5)","v":""}]
[null,{"$f":"+IF(Lists!BU6=\"\",\"\",Lists!BU6)","v":""},{"$f":"+IF(Lists!BV6=\"\",\"\",Lists!BV6)","v":""},{"$f":"+IF(Lists!BW6=\"\",\"\",Lists!BW6)","v":""},{"$f":"+IF(Lists!BX6=\"\",\"\",Lists!BX6)","v":""},{"$f":"+IF(Lists!BY6=\"\",\"\",Lists!BY6)","v":""}]
[null,{"$f":"+IF(Lists!BU7=\"\",\"\",Lists!BU7)","v":""},{"$f":"+IF(Lists!BV7=\"\",\"\",Lists!BV7)","v":""},{"$f":"+IF(Lists!BW7=\"\",\"\",Lists!BW7)","v":""},{"$f":"+IF(Lists!BX7=\"\",\"\",Lists!BX7)","v":""},{"$f":"+IF(Lists!BY7=\"\",\"\",Lists!BY7)","v":""}]
[null,{"$f":"+IF(Lists!BU8=\"\",\"\",Lists!BU8)","v":""},{"$f":"+IF(Lists!BV8=\"\",\"\",Lists!BV8)","v":""},{"$f":"+IF(Lists!BW8=\"\",\"\",Lists!BW8)","v":""},{"$f":"+IF(Lists!BX8=\"\",\"\",Lists!BX8)","v":""},{"$f":"+IF(Lists!BY8=\"\",\"\",Lists!BY8)","v":""}]
[null,{"$f":"+IF(Lists!BU9=\"\",\"\",Lists!BU9)","v":""},{"$f":"+IF(Lists!BV9=\"\",\"\",Lists!BV9)","v":""},{"$f":"+IF(Lists!BW9=\"\",\"\",Lists!BW9)","v":""},{"$f":"+IF(Lists!BX9=\"\",\"\",Lists!BX9)","v":""},{"$f":"+IF(Lists!BY9=\"\",\"\",Lists!BY9)","v":""}]
[null,{"$f":"+IF(Lists!BU10=\"\",\"\",Lists!BU10)","v":""},{"$f":"+IF(Lists!BV10=\"\",\"\",Lists!BV10)","v":""},{"$f":"+IF(Lists!BW10=\"\",\"\",Lists!BW10)","v":""},{"$f":"+IF(Lists!BX10=\"\",\"\",Lists!BX10)","v":""},{"$f":"+IF(Lists!BY10=\"\",\"\",Lists!BY10)","v":""}]
[null,{"$f":"+IF(Lists!BU11=\"\",\"\",Lists!BU11)","v":""},{"$f":"+IF(Lists!BV11=\"\",\"\",Lists!BV11)","v":""},{"$f":"+IF(Lists!BW11=\"\",\"\",Lists!BW11)","v":""},{"$f":"+IF(Lists!BX11=\"\",\"\",Lists!BX11)","v":""},{"$f":"+IF(Lists!BY11=\"\",\"\",Lists!BY11)","v":""}]
[null,{"$f":"+IF(Lists!BU12=\"\",\"\",Lists!BU12)","v":""},{"$f":"+IF(Lists!BV12=\"\",\"\",Lists!BV12)","v":""},{"$f":"+IF(Lists!BW12=\"\",\"\",Lists!BW12)","v":""},{"$f":"+IF(Lists!BX12=\"\",\"\",Lists!BX12)","v":""},{"$f":"+IF(Lists!BY12=\"\",\"\",Lists!BY12)","v":""}]
[null,{"$f":"+IF(Lists!BU13=\"\",\"\",Lists!BU13)","v":""},{"$f":"+IF(Lists!BV13=\"\",\"\",Lists!BV13)","v":""},{"$f":"+IF(Lists!BW13=\"\",\"\",Lists!BW13)","v":""},{"$f":"+IF(Lists!BX13=\"\",\"\",Lists!BX13)","v":""},{"$f":"+IF(Lists!BY13=\"\",\"\",Lists!BY13)","v":""}]
[null,{"$f":"+IF(Lists!BU14=\"\",\"\",Lists!BU14)","v":""},{"$f":"+IF(Lists!BV14=\"\",\"\",Lists!BV14)","v":""},{"$f":"+IF(Lists!BW14=\"\",\"\",Lists!BW14)","v":""},{"$f":"+IF(Lists!BX14=\"\",\"\",Lists!BX14)","v":""},{"$f":"+IF(Lists!BY14=\"\",\"\",Lists!BY14)","v":""}]
[null,{"$f":"+IF(Lists!BU15=\"\",\"\",Lists!BU15)","v":""},{"$f":"+IF(Lists!BV15=\"\",\"\",Lists!BV15)","v":""},{"$f":"+IF(Lists!BW15=\"\",\"\",Lists!BW15)","v":""},{"$f":"+IF(Lists!BX15=\"\",\"\",Lists!BX15)","v":""},{"$f":"+IF(Lists!BY15=\"\",\"\",Lists!BY15)","v":""}]
[null,{"$f":"+IF(Lists!BU16=\"\",\"\",Lists!BU16)","v":""},{"$f":"+IF(Lists!BV16=\"\",\"\",Lists!BV16)","v":""},{"$f":"+IF(Lists!BW16=\"\",\"\",Lists!BW16)","v":""},{"$f":"+IF(Lists!BX16=\"\",\"\",Lists!BX16)","v":""},{"$f":"+IF(Lists!BY16=\"\",\"\",Lists!BY16)","v":""}]
[null,{"$f":"+IF(Lists!BU17=\"\",\"\",Lists!BU17)","v":""},{"$f":"+IF(Lists!BV17=\"\",\"\",Lists!BV17)","v":""},{"$f":"+IF(Lists!BW17=\"\",\"\",Lists!BW17)","v":""},{"$f":"+IF(Lists!BX17=\"\",\"\",Lists!BX17)","v":""},{"$f":"+IF(Lists!BY17=\"\",\"\",Lists!BY17)","v":""}]
[null,{"$f":"+IF(Lists!BU18=\"\",\"\",Lists!BU18)","v":""},{"$f":"+IF(Lists!BV18=\"\",\"\",Lists!BV18)","v":""},{"$f":"+IF(Lists!BW18=\"\",\"\",Lists!BW18)","v":""},{"$f":"+IF(Lists!BX18=\"\",\"\",Lists!BX18)","v":""},{"$f":"+IF(Lists!BY18=\"\",\"\",Lists!BY18)","v":""}]
[null,{"$f":"+IF(Lists!BU19=\"\",\"\",Lists!BU19)","v":""},{"$f":"+IF(Lists!BV19=\"\",\"\",Lists!BV19)","v":""},{"$f":"+IF(Lists!BW19=\"\",\"\",Lists!BW19)","v":""},{"$f":"+IF(Lists!BX19=\"\",\"\",Lists!BX19)","v":""},{"$f":"+IF(Lists!BY19=\"\",\"\",Lists!BY19)","v":""}]
[null,{"$f":"+IF(Lists!BU20=\"\",\"\",Lists!BU20)","v":""},{"$f":"+IF(Lists!BV20=\"\",\"\",Lists!BV20)","v":""},{"$f":"+IF(Lists!BW20=\"\",\"\",Lists!BW20)","v":""},{"$f":"+IF(Lists!BX20=\"\",\"\",Lists!BX20)","v":""},{"$f":"+IF(Lists!BY20=\"\",\"\",Lists!BY20)","v":""}]
[null,{"$f":"+IF(Lists!BU21=\"\",\"\",Lists!BU21)","v":""},{"$f":"+IF(Lists!BV21=\"\",\"\",Lists!BV21)","v":""},{"$f":"+IF(Lists!BW21=\"\",\"\",Lists!BW21)","v":""},{"$f":"+IF(Lists!BX21=\"\",\"\",Lists!BX21)","v":""},{"$f":"+IF(Lists!BY21=\"\",\"\",Lists!BY21)","v":""}]
[null,{"$f":"+IF(Lists!BU22=\"\",\"\",Lists!BU22)","v":""},{"$f":"+IF(Lists!BV22=\"\",\"\",Lists!BV22)","v":""},{"$f":"+IF(Lists!BW22=\"\",\"\",Lists!BW22)","v":""},{"$f":"+IF(Lists!BX22=\"\",\"\",Lists!BX22)","v":""},{"$f":"+IF(Lists!BY22=\"\",\"\",Lists!BY22)","v":""}]
[null,{"$f":"+IF(Lists!BU23=\"\",\"\",Lists!BU23)","v":""},{"$f":"+IF(Lists!BV23=\"\",\"\",Lists!BV23)","v":""},{"$f":"+IF(Lists!BW23=\"\",\"\",Lists!BW23)","v":""},{"$f":"+IF(Lists!BX23=\"\",\"\",Lists!BX23)","v":""},{"$f":"+IF(Lists!BY23=\"\",\"\",Lists!BY23)","v":""}]
[null,{"$f":"+IF(Lists!BU24=\"\",\"\",Lists!BU24)","v":""},{"$f":"+IF(Lists!BV24=\"\",\"\",Lists!BV24)","v":""},{"$f":"+IF(Lists!BW24=\"\",\"\",Lists!BW24)","v":""},{"$f":"+IF(Lists!BX24=\"\",\"\",Lists!BX24)","v":""},{"$f":"+IF(Lists!BY24=\"\",\"\",Lists!BY24)","v":""}]
[null,{"$f":"+IF(Lists!BU25=\"\",\"\",Lists!BU25)","v":""},{"$f":"+IF(Lists!BV25=\"\",\"\",Lists!BV25)","v":""},{"$f":"+IF(Lists!BW25=\"\",\"\",Lists!BW25)","v":""},{"$f":"+IF(Lists!BX25=\"\",\"\",Lists!BX25)","v":""},{"$f":"+IF(Lists!BY25=\"\",\"\",Lists!BY25)","v":""}]
[null,{"$f":"+IF(Lists!BU26=\"\",\"\",Lists!BU26)","v":""},{"$f":"+IF(Lists!BV26=\"\",\"\",Lists!BV26)","v":""},{"$f":"+IF(Lists!BW26=\"\",\"\",Lists!BW26)","v":""},{"$f":"+IF(Lists!BX26=\"\",\"\",Lists!BX26)","v":""},{"$f":"+IF(Lists!BY26=\"\",\"\",Lists!BY26)","v":""}]
[null,{"$f":"+IF(Lists!BU27=\"\",\"\",Lists!BU27)","v":""},{"$f":"+IF(Lists!BV27=\"\",\"\",Lists!BV27)","v":""},{"$f":"+IF(Lists!BW27=\"\",\"\",Lists!BW27)","v":""},{"$f":"+IF(Lists!BX27=\"\",\"\",Lists!BX27)","v":""},{"$f":"+IF(Lists!BY27=\"\",\"\",Lists!BY27)","v":""}]
[null,{"$f":"+IF(Lists!BU28=\"\",\"\",Lists!BU28)","v":""},{"$f":"+IF(Lists!BV28=\"\",\"\",Lists!BV28)","v":""},{"$f":"+IF(Lists!BW28=\"\",\"\",Lists!BW28)","v":""},{"$f":"+IF(Lists!BX28=\"\",\"\",Lists!BX28)","v":""},{"$f":"+IF(Lists!BY28=\"\",\"\",Lists!BY28)","v":""}]
[null,{"$f":"+IF(Lists!BU29=\"\",\"\",Lists!BU29)","v":""},{"$f":"+IF(Lists!BV29=\"\",\"\",Lists!BV29)","v":""},{"$f":"+IF(Lists!BW29=\"\",\"\",Lists!BW29)","v":""},{"$f":"+IF(Lists!BX29=\"\",\"\",Lists!BX29)","v":""},{"$f":"+IF(Lists!BY29=\"\",\"\",Lists!BY29)","v":""}]
[null,{"$f":"+IF(Lists!BU30=\"\",\"\",Lists!BU30)","v":""},{"$f":"+IF(Lists!BV30=\"\",\"\",Lists!BV30)","v":""},{"$f":"+IF(Lists!BW30=\"\",\"\",Lists!BW30)","v":""},{"$f":"+IF(Lists!BX30=\"\",\"\",Lists!BX30)","v":""},{"$f":"+IF(Lists!BY30=\"\",\"\",Lists!BY30)","v":""}]
[null,{"$f":"+IF(Lists!BU31=\"\",\"\",Lists!BU31)","v":""},{"$f":"+IF(Lists!BV31=\"\",\"\",Lists!BV31)","v":""},{"$f":"+IF(Lists!BW31=\"\",\"\",Lists!BW31)","v":""},{"$f":"+IF(Lists!BX31=\"\",\"\",Lists!BX31)","v":""},{"$f":"+IF(Lists!BY31=\"\",\"\",Lists!BY31)","v":""}]
[null,{"$f":"+IF(Lists!BU32=\"\",\"\",Lists!BU32)","v":""},{"$f":"+IF(Lists!BV32=\"\",\"\",Lists!BV32)","v":""},{"$f":"+IF(Lists!BW32=\"\",\"\",Lists!BW32)","v":""},{"$f":"+IF(Lists!BX32=\"\",\"\",Lists!BX32)","v":""},{"$f":"+IF(Lists!BY32=\"\",\"\",Lists!BY32)","v":""}]
[null,{"$f":"+IF(Lists!BU33=\"\",\"\",Lists!BU33)","v":""},{"$f":"+IF(Lists!BV33=\"\",\"\",Lists!BV33)","v":""},{"$f":"+IF(Lists!BW33=\"\",\"\",Lists!BW33)","v":""},{"$f":"+IF(Lists!BX33=\"\",\"\",Lists!BX33)","v":""},{"$f":"+IF(Lists!BY33=\"\",\"\",Lists!BY33)","v":""}]
[null,{"$f":"+IF(Lists!BU34=\"\",\"\",Lists!BU34)","v":""},{"$f":"+IF(Lists!BV34=\"\",\"\",Lists!BV34)","v":""},{"$f":"+IF(Lists!BW34=\"\",\"\",Lists!BW34)","v":""},{"$f":"+IF(Lists!BX34=\"\",\"\",Lists!BX34)","v":""},{"$f":"+IF(Lists!BY34=\"\",\"\",Lists!BY34)","v":""}]
[null,{"$f":"+IF(Lists!BU35=\"\",\"\",Lists!BU35)","v":""},{"$f":"+IF(Lists!BV35=\"\",\"\",Lists!BV35)","v":""},{"$f":"+IF(Lists!BW35=\"\",\"\",Lists!BW35)","v":""},{"$f":"+IF(Lists!BX35=\"\",\"\",Lists!BX35)","v":""},{"$f":"+IF(Lists!BY35=\"\",\"\",Lists!BY35)","v":""}]
[null,{"$f":"+IF(Lists!BU36=\"\",\"\",Lists!BU36)","v":""},{"$f":"+IF(Lists!BV36=\"\",\"\",Lists!BV36)","v":""},{"$f":"+IF(Lists!BW36=\"\",\"\",Lists!BW36)","v":""},{"$f":"+IF(Lists!BX36=\"\",\"\",Lists!BX36)","v":""},{"$f":"+IF(Lists!BY36=\"\",\"\",Lists!BY36)","v":""}]
[null,{"$f":"+IF(Lists!BU37=\"\",\"\",Lists!BU37)","v":""},{"$f":"+IF(Lists!BV37=\"\",\"\",Lists!BV37)","v":""},{"$f":"+IF(Lists!BW37=\"\",\"\",Lists!BW37)","v":""},{"$f":"+IF(Lists!BX37=\"\",\"\",Lists!BX37)","v":""},{"$f":"+IF(Lists!BY37=\"\",\"\",Lists!BY37)","v":""}]
[null,{"$f":"+IF(Lists!BU38=\"\",\"\",Lists!BU38)","v":""},{"$f":"+IF(Lists!BV38=\"\",\"\",Lists!BV38)","v":""},{"$f":"+IF(Lists!BW38=\"\",\"\",Lists!BW38)","v":""},{"$f":"+IF(Lists!BX38=\"\",\"\",Lists!BX38)","v":""},{"$f":"+IF(Lists!BY38=\"\",\"\",Lists!BY38)","v":""}]
[null,{"$f":"+IF(Lists!BU39=\"\",\"\",Lists!BU39)","v":""},{"$f":"+IF(Lists!BV39=\"\",\"\",Lists!BV39)","v":""},{"$f":"+IF(Lists!BW39=\"\",\"\",Lists!BW39)","v":""},{"$f":"+IF(Lists!BX39=\"\",\"\",Lists!BX39)","v":""},{"$f":"+IF(Lists!BY39=\"\",\"\",Lists!BY39)","v":""}]
[null,{"$f":"+IF(Lists!BU40=\"\",\"\",Lists!BU40)","v":""},{"$f":"+IF(Lists!BV40=\"\",\"\",Lists!BV40)","v":""},{"$f":"+IF(Lists!BW40=\"\",\"\",Lists!BW40)","v":""},{"$f":"+IF(Lists!BX40=\"\",\"\",Lists!BX40)","v":""},{"$f":"+IF(Lists!BY40=\"\",\"\",Lists!BY40)","v":""}]
[null,{"$f":"+IF(Lists!BU41=\"\",\"\",Lists!BU41)","v":""},{"$f":"+IF(Lists!BV41=\"\",\"\",Lists!BV41)","v":""},{"$f":"+IF(Lists!BW41=\"\",\"\",Lists!BW41)","v":""},{"$f":"+IF(Lists!BX41=\"\",\"\",Lists!BX41)","v":""},{"$f":"+IF(Lists!BY41=\"\",\"\",Lists!BY41)","v":""}]
[null,{"$f":"+IF(Lists!BU42=\"\",\"\",Lists!BU42)","v":""},{"$f":"+IF(Lists!BV42=\"\",\"\",Lists!BV42)","v":""},{"$f":"+IF(Lists!BW42=\"\",\"\",Lists!BW42)","v":""},{"$f":"+IF(Lists!BX42=\"\",\"\",Lists!BX42)","v":""},{"$f":"+IF(Lists!BY42=\"\",\"\",Lists!BY42)","v":""}]
[null,{"$f":"+IF(Lists!BU43=\"\",\"\",Lists!BU43)","v":""},{"$f":"+IF(Lists!BV43=\"\",\"\",Lists!BV43)","v":""},{"$f":"+IF(Lists!BW43=\"\",\"\",Lists!BW43)","v":""},{"$f":"+IF(Lists!BX43=\"\",\"\",Lists!BX43)","v":""},{"$f":"+IF(Lists!BY43=\"\",\"\",Lists!BY43)","v":""}]
[null,{"$f":"+IF(Lists!BU44=\"\",\"\",Lists!BU44)","v":""},{"$f":"+IF(Lists!BV44=\"\",\"\",Lists!BV44)","v":""},{"$f":"+IF(Lists!BW44=\"\",\"\",Lists!BW44)","v":""},{"$f":"+IF(Lists!BX44=\"\",\"\",Lists!BX44)","v":""},{"$f":"+IF(Lists!BY44=\"\",\"\",Lists!BY44)","v":""}]
[null,{"$f":"+IF(Lists!BU45=\"\",\"\",Lists!BU45)","v":""},{"$f":"+IF(Lists!BV45=\"\",\"\",Lists!BV45)","v":""},{"$f":"+IF(Lists!BW45=\"\",\"\",Lists!BW45)","v":""},{"$f":"+IF(Lists!BX45=\"\",\"\",Lists!BX45)","v":""},{"$f":"+IF(Lists!BY45=\"\",\"\",Lists!BY45)","v":""}]
[null,{"$f":"+IF(Lists!BU46=\"\",\"\",Lists!BU46)","v":""},{"$f":"+IF(Lists!BV46=\"\",\"\",Lists!BV46)","v":""},{"$f":"+IF(Lists!BW46=\"\",\"\",Lists!BW46)","v":""},{"$f":"+IF(Lists!BX46=\"\",\"\",Lists!BX46)","v":""},{"$f":"+IF(Lists!BY46=\"\",\"\",Lists!BY46)","v":""}]
[null,{"$f":"+IF(Lists!BU47=\"\",\"\",Lists!BU47)","v":""},{"$f":"+IF(Lists!BV47=\"\",\"\",Lists!BV47)","v":""},{"$f":"+IF(Lists!BW47=\"\",\"\",Lists!BW47)","v":""},{"$f":"+IF(Lists!BX47=\"\",\"\",Lists!BX47)","v":""},{"$f":"+IF(Lists!BY47=\"\",\"\",Lists!BY47)","v":""}]
[null,{"$f":"+IF(Lists!BU48=\"\",\"\",Lists!BU48)","v":""},{"$f":"+IF(Lists!BV48=\"\",\"\",Lists!BV48)","v":""},{"$f":"+IF(Lists!BW48=\"\",\"\",Lists!BW48)","v":""},{"$f":"+IF(Lists!BX48=\"\",\"\",Lists!BX48)","v":""},{"$f":"+IF(Lists!BY48=\"\",\"\",Lists!BY48)","v":""}]
[null,{"$f":"+IF(Lists!BU49=\"\",\"\",Lists!BU49)","v":""},{"$f":"+IF(Lists!BV49=\"\",\"\",Lists!BV49)","v":""},{"$f":"+IF(Lists!BW49=\"\",\"\",Lists!BW49)","v":""},{"$f":"+IF(Lists!BX49=\"\",\"\",Lists!BX49)","v":""},{"$f":"+IF(Lists!BY49=\"\",\"\",Lists!BY49)","v":""}]
[null,{"$f":"+IF(Lists!BU50=\"\",\"\",Lists!BU50)","v":""},{"$f":"+IF(Lists!BV50=\"\",\"\",Lists!BV50)","v":""},{"$f":"+IF(Lists!BW50=\"\",\"\",Lists!BW50)","v":""},{"$f":"+IF(Lists!BX50=\"\",\"\",Lists!BX50)","v":""},{"$f":"+IF(Lists!BY50=\"\",\"\",Lists!BY50)","v":""}]
[null,{"$f":"+IF(Lists!BU51=\"\",\"\",Lists!BU51)","v":""},{"$f":"+IF(Lists!BV51=\"\",\"\",Lists!BV51)","v":""},{"$f":"+IF(Lists!BW51=\"\",\"\",Lists!BW51)","v":""},{"$f":"+IF(Lists!BX51=\"\",\"\",Lists!BX51)","v":""},{"$f":"+IF(Lists!BY51=\"\",\"\",Lists!BY51)","v":""}]
[null,{"$f":"+IF(Lists!BU52=\"\",\"\",Lists!BU52)","v":""},{"$f":"+IF(Lists!BV52=\"\",\"\",Lists!BV52)","v":""},{"$f":"+IF(Lists!BW52=\"\",\"\",Lists!BW52)","v":""},{"$f":"+IF(Lists!BX52=\"\",\"\",Lists!BX52)","v":""},{"$f":"+IF(Lists!BY52=\"\",\"\",Lists!BY52)","v":""}]
[null,{"$f":"+IF(Lists!BU53=\"\",\"\",Lists!BU53)","v":""},{"$f":"+IF(Lists!BV53=\"\",\"\",Lists!BV53)","v":""},{"$f":"+IF(Lists!BW53=\"\",\"\",Lists!BW53)","v":""},{"$f":"+IF(Lists!BX53=\"\",\"\",Lists!BX53)","v":""},{"$f":"+IF(Lists!BY53=\"\",\"\",Lists!BY53)","v":""}]
[null,{"$f":"+IF(Lists!BU54=\"\",\"\",Lists!BU54)","v":""},{"$f":"+IF(Lists!BV54=\"\",\"\",Lists!BV54)","v":""},{"$f":"+IF(Lists!BW54=\"\",\"\",Lists!BW54)","v":""},{"$f":"+IF(Lists!BX54=\"\",\"\",Lists!BX54)","v":""},{"$f":"+IF(Lists!BY54=\"\",\"\",Lists!BY54)","v":""}]
[null,{"$f":"+IF(Lists!BU55=\"\",\"\",Lists!BU55)","v":""},{"$f":"+IF(Lists!BV55=\"\",\"\",Lists!BV55)","v":""},{"$f":"+IF(Lists!BW55=\"\",\"\",Lists!BW55)","v":""},{"$f":"+IF(Lists!BX55=\"\",\"\",Lists!BX55)","v":""},{"$f":"+IF(Lists!BY55=\"\",\"\",Lists!BY55)","v":""}]
[null,{"$f":"+IF(Lists!BU56=\"\",\"\",Lists!BU56)","v":""},{"$f":"+IF(Lists!BV56=\"\",\"\",Lists!BV56)","v":""},{"$f":"+IF(Lists!BW56=\"\",\"\",Lists!BW56)","v":""},{"$f":"+IF(Lists!BX56=\"\",\"\",Lists!BX56)","v":""},{"$f":"+IF(Lists!BY56=\"\",\"\",Lists!BY56)","v":""}]
[null,{"$f":"+IF(Lists!BU57=\"\",\"\",Lists!BU57)","v":""},{"$f":"+IF(Lists!BV57=\"\",\"\",Lists!BV57)","v":""},{"$f":"+IF(Lists!BW57=\"\",\"\",Lists!BW57)","v":""},{"$f":"+IF(Lists!BX57=\"\",\"\",Lists!BX57)","v":""},{"$f":"+IF(Lists!BY57=\"\",\"\",Lists!BY57)","v":""}]
[null,{"$f":"+IF(Lists!BU58=\"\",\"\",Lists!BU58)","v":""},{"$f":"+IF(Lists!BV58=\"\",\"\",Lists!BV58)","v":""},{"$f":"+IF(Lists!BW58=\"\",\"\",Lists!BW58)","v":""},{"$f":"+IF(Lists!BX58=\"\",\"\",Lists!BX58)","v":""},{"$f":"+IF(Lists!BY58=\"\",\"\",Lists!BY58)","v":""}]
[null,{"$f":"+IF(Lists!BU59=\"\",\"\",Lists!BU59)","v":""},{"$f":"+IF(Lists!BV59=\"\",\"\",Lists!BV59)","v":""},{"$f":"+IF(Lists!BW59=\"\",\"\",Lists!BW59)","v":""},{"$f":"+IF(Lists!BX59=\"\",\"\",Lists!BX59)","v":""},{"$f":"+IF(Lists!BY59=\"\",\"\",Lists!BY59)","v":""}]
[null,{"$f":"+IF(Lists!BU60=\"\",\"\",Lists!BU60)","v":""},{"$f":"+IF(Lists!BV60=\"\",\"\",Lists!BV60)","v":""},{"$f":"+IF(Lists!BW60=\"\",\"\",Lists!BW60)","v":""},{"$f":"+IF(Lists!BX60=\"\",\"\",Lists!BX60)","v":""},{"$f":"+IF(Lists!BY60=\"\",\"\",Lists!BY60)","v":""}]
[null,{"$f":"+IF(Lists!BU61=\"\",\"\",Lists!BU61)","v":""},{"$f":"+IF(Lists!BV61=\"\",\"\",Lists!BV61)","v":""},{"$f":"+IF(Lists!BW61=\"\",\"\",Lists!BW61)","v":""},{"$f":"+IF(Lists!BX61=\"\",\"\",Lists!BX61)","v":""},{"$f":"+IF(Lists!BY61=\"\",\"\",Lists!BY61)","v":""}]
[null,{"$f":"+IF(Lists!BU62=\"\",\"\",Lists!BU62)","v":""},{"$f":"+IF(Lists!BV62=\"\",\"\",Lists!BV62)","v":""},{"$f":"+IF(Lists!BW62=\"\",\"\",Lists!BW62)","v":""},{"$f":"+IF(Lists!BX62=\"\",\"\",Lists!BX62)","v":""},{"$f":"+IF(Lists!BY62=\"\",\"\",Lists!BY62)","v":""}]
[null,{"$f":"+IF(Lists!BU63=\"\",\"\",Lists!BU63)","v":""},{"$f":"+IF(Lists!BV63=\"\",\"\",Lists!BV63)","v":""},{"$f":"+IF(Lists!BW63=\"\",\"\",Lists!BW63)","v":""},{"$f":"+IF(Lists!BX63=\"\",\"\",Lists!BX63)","v":""},{"$f":"+IF(Lists!BY63=\"\",\"\",Lists!BY63)","v":""}]
[null,{"$f":"+IF(Lists!BU64=\"\",\"\",Lists!BU64)","v":""},{"$f":"+IF(Lists!BV64=\"\",\"\",Lists!BV64)","v":""},{"$f":"+IF(Lists!BW64=\"\",\"\",Lists!BW64)","v":""},{"$f":"+IF(Lists!BX64=\"\",\"\",Lists!BX64)","v":""},{"$f":"+IF(Lists!BY64=\"\",\"\",Lists!BY64)","v":""}]
[null,{"$f":"+IF(Lists!BU65=\"\",\"\",Lists!BU65)","v":""},{"$f":"+IF(Lists!BV65=\"\",\"\",Lists!BV65)","v":""},{"$f":"+IF(Lists!BW65=\"\",\"\",Lists!BW65)","v":""},{"$f":"+IF(Lists!BX65=\"\",\"\",Lists!BX65)","v":""},{"$f":"+IF(Lists!BY65=\"\",\"\",Lists!BY65)","v":""}]
[null,{"$f":"+IF(Lists!BU66=\"\",\"\",Lists!BU66)","v":""},{"$f":"+IF(Lists!BV66=\"\",\"\",Lists!BV66)","v":""},{"$f":"+IF(Lists!BW66=\"\",\"\",Lists!BW66)","v":""},{"$f":"+IF(Lists!BX66=\"\",\"\",Lists!BX66)","v":""},{"$f":"+IF(Lists!BY66=\"\",\"\",Lists!BY66)","v":""}]
[null,{"$f":"+IF(Lists!BU67=\"\",\"\",Lists!BU67)","v":""},{"$f":"+IF(Lists!BV67=\"\",\"\",Lists!BV67)","v":""},{"$f":"+IF(Lists!BW67=\"\",\"\",Lists!BW67)","v":""},{"$f":"+IF(Lists!BX67=\"\",\"\",Lists!BX67)","v":""},{"$f":"+IF(Lists!BY67=\"\",\"\",Lists!BY67)","v":""}]
[null,{"$f":"+IF(Lists!BU68=\"\",\"\",Lists!BU68)","v":""},{"$f":"+IF(Lists!BV68=\"\",\"\",Lists!BV68)","v":""},{"$f":"+IF(Lists!BW68=\"\",\"\",Lists!BW68)","v":""},{"$f":"+IF(Lists!BX68=\"\",\"\",Lists!BX68)","v":""},{"$f":"+IF(Lists!BY68=\"\",\"\",Lists!BY68)","v":""}]
[null,{"$f":"+IF(Lists!BU69=\"\",\"\",Lists!BU69)","v":""},{"$f":"+IF(Lists!BV69=\"\",\"\",Lists!BV69)","v":""},{"$f":"+IF(Lists!BW69=\"\",\"\",Lists!BW69)","v":""},{"$f":"+IF(Lists!BX69=\"\",\"\",Lists!BX69)","v":""},{"$f":"+IF(Lists!BY69=\"\",\"\",Lists!BY69)","v":""}]
[null,{"$f":"+IF(Lists!BU70=\"\",\"\",Lists!BU70)","v":""},{"$f":"+IF(Lists!BV70=\"\",\"\",Lists!BV70)","v":""},{"$f":"+IF(Lists!BW70=\"\",\"\",Lists!BW70)","v":""},{"$f":"+IF(Lists!BX70=\"\",\"\",Lists!BX70)","v":""},{"$f":"+IF(Lists!BY70=\"\",\"\",Lists!BY70)","v":""}]
[null,{"$f":"+IF(Lists!BU71=\"\",\"\",Lists!BU71)","v":""},{"$f":"+IF(Lists!BV71=\"\",\"\",Lists!BV71)","v":""},{"$f":"+IF(Lists!BW71=\"\",\"\",Lists!BW71)","v":""},{"$f":"+IF(Lists!BX71=\"\",\"\",Lists!BX71)","v":""},{"$f":"+IF(Lists!BY71=\"\",\"\",Lists!BY71)","v":""}]
[null,{"$f":"+IF(Lists!BU72=\"\",\"\",Lists!BU72)","v":""},{"$f":"+IF(Lists!BV72=\"\",\"\",Lists!BV72)","v":""},{"$f":"+IF(Lists!BW72=\"\",\"\",Lists!BW72)","v":""},{"$f":"+IF(Lists!BX72=\"\",\"\",Lists!BX72)","v":""},{"$f":"+IF(Lists!BY72=\"\",\"\",Lists!BY72)","v":""}]
[null,{"$f":"+IF(Lists!BU73=\"\",\"\",Lists!BU73)","v":""},{"$f":"+IF(Lists!BV73=\"\",\"\",Lists!BV73)","v":""},{"$f":"+IF(Lists!BW73=\"\",\"\",Lists!BW73)","v":""},{"$f":"+IF(Lists!BX73=\"\",\"\",Lists!BX73)","v":""},{"$f":"+IF(Lists!BY73=\"\",\"\",Lists!BY73)","v":""}]
[null,{"$f":"+IF(Lists!BU74=\"\",\"\",Lists!BU74)","v":""},{"$f":"+IF(Lists!BV74=\"\",\"\",Lists!BV74)","v":""},{"$f":"+IF(Lists!BW74=\"\",\"\",Lists!BW74)","v":""},{"$f":"+IF(Lists!BX74=\"\",\"\",Lists!BX74)","v":""},{"$f":"+IF(Lists!BY74=\"\",\"\",Lists!BY74)","v":""}]
[null,{"$f":"+IF(Lists!BU75=\"\",\"\",Lists!BU75)","v":""},{"$f":"+IF(Lists!BV75=\"\",\"\",Lists!BV75)","v":""},{"$f":"+IF(Lists!BW75=\"\",\"\",Lists!BW75)","v":""},{"$f":"+IF(Lists!BX75=\"\",\"\",Lists!BX75)","v":""},{"$f":"+IF(Lists!BY75=\"\",\"\",Lists!BY75)","v":""}]
[null,{"$f":"+IF(Lists!BU76=\"\",\"\",Lists!BU76)","v":""},{"$f":"+IF(Lists!BV76=\"\",\"\",Lists!BV76)","v":""},{"$f":"+IF(Lists!BW76=\"\",\"\",Lists!BW76)","v":""},{"$f":"+IF(Lists!BX76=\"\",\"\",Lists!BX76)","v":""},{"$f":"+IF(Lists!BY76=\"\",\"\",Lists!BY76)","v":""}]
[null,{"$f":"+IF(Lists!BU77=\"\",\"\",Lists!BU77)","v":""},{"$f":"+IF(Lists!BV77=\"\",\"\",Lists!BV77)","v":""},{"$f":"+IF(Lists!BW77=\"\",\"\",Lists!BW77)","v":""},{"$f":"+IF(Lists!BX77=\"\",\"\",Lists!BX77)","v":""},{"$f":"+IF(Lists!BY77=\"\",\"\",Lists!BY77)","v":""}]
[null,{"$f":"+IF(Lists!BU78=\"\",\"\",Lists!BU78)","v":""},{"$f":"+IF(Lists!BV78=\"\",\"\",Lists!BV78)","v":""},{"$f":"+IF(Lists!BW78=\"\",\"\",Lists!BW78)","v":""},{"$f":"+IF(Lists!BX78=\"\",\"\",Lists!BX78)","v":""},{"$f":"+IF(Lists!BY78=\"\",\"\",Lists!BY78)","v":""}]

{"sheet":"Compliance Rpt - Puncture Seal","index":12,"n_rows":100,"n_cols":6,"rows_kept":100,"cut":false,"hidden":false,"merged":[]}
[null,"DO NOT REMOVE OR EDIT INFORMATION IN THIS SECTION\nFOR INTERNAL USE ONLY"]
[null,"Template Name",{"$f":"Welcome!B2","v":"63.6009(k) Notification of Compliance and  §63.6010(g) Semiannual Compliance Report (Spreadsheet Template)"}]
[null,"CitationID",{"$f":"Welcome!B3","v":"63.6009(k) and 63.6010(g)"}]
[null,"Template Version",{"$f":"Welcome!B4","v":"v1.02"}]
[null,"Last Updated Date",{"$f":"Welcome!B5","v":"2020-06-16"}]
[null,{"$f":"Welcome!B6","v":"OMB Control Number: 2060-0449"}]
[null,"40 CFR Part 63, Subpart XXXX National Emission Standards for Hazardous Air Pollutants: Rubber Tire Manufacturing -"]
[null,"\n"]
[]
[null,"Note: Columns B through D will be autofilled based on responses provided in the Compliance_Options worksheet."]
[null,"63.6010(g) Semiannual Compliance Report"]
[null,"Company Record No. *\n(Autofilled)","Name of Rubber Tire Manufacturing Affected Source *\n(§63.9(h))\n(Autofilled)","Rubber Tire Manufacturing Subcategory\n(Autofilled)","For each puncture sealant application affected source, provide the emission limit option in §63.5988 that you have chosen to meet *\n(§63.6010(c)(10))\n(Autofilled)","For each puncture sealant application affected source, provide the compliance alternative in §63.5989 that you have chosen to meet *\n(§63.6010(c)(10))\n(Autofilled)"]
[null,"RecordId","OperationName","Subcategory","EmissionLimitOption","ComplianceAlternative"]
[null,"e.g.: 1","e.g.: tire 3","e.g.: Puncture Sealant Application","e.g.: Option 1.a (percent reduction option)—Existing","e.g.: Overall control efficiency alternative"]
[null,null,null,"e.g.: End coating"]
[]
[]
[]
[]
[]
[]
[]
[]
[null,{"$f":"+IF(Lists!CC2=\"\",\"\",Lists!CC2)","v":""},{"$f":"+IF(Lists!CD2=\"\",\"\",Lists!CD2)","v":""},{"$f":"+IF(Lists!CE2=\"\",\"\",Lists!CE2)","v":""},{"$f":"+IF(Lists!CF2=\"\",\"\",Lists!CF2)","v":""},{"$f":"+IF(Lists!CG2=\"\",\"\",Lists!CG2)","v":""}]
[null,{"$f":"+IF(Lists!CC3=\"\",\"\",Lists!CC3)","v":""},{"$f":"+IF(Lists!CD3=\"\",\"\",Lists!CD3)","v":""},{"$f":"+IF(Lists!CE3=\"\",\"\",Lists!CE3)","v":""},{"$f":"+IF(Lists!CF3=\"\",\"\",Lists!CF3)","v":""},{"$f":"+IF(Lists!CG3=\"\",\"\",Lists!CG3)","v":""}]
[null,{"$f":"+IF(Lists!CC4=\"\",\"\",Lists!CC4)","v":""},{"$f":"+IF(Lists!CD4=\"\",\"\",Lists!CD4)","v":""},{"$f":"+IF(Lists!CE4=\"\",\"\",Lists!CE4)","v":""},{"$f":"+IF(Lists!CF4=\"\",\"\",Lists!CF4)","v":""},{"$f":"+IF(Lists!CG4=\"\",\"\",Lists!CG4)","v":""}]
[null,{"$f":"+IF(Lists!CC5=\"\",\"\",Lists!CC5)","v":""},{"$f":"+IF(Lists!CD5=\"\",\"\",Lists!CD5)","v":""},{"$f":"+IF(Lists!CE5=\"\",\"\",Lists!CE5)","v":""},{"$f":"+IF(Lists!CF5=\"\",\"\",Lists!CF5)","v":""},{"$f":"+IF(Lists!CG5=\"\",\"\",Lists!CG5)","v":""}]
[null,{"$f":"+IF(Lists!CC6=\"\",\"\",Lists!CC6)","v":""},{"$f":"+IF(Lists!CD6=\"\",\"\",Lists!CD6)","v":""},{"$f":"+IF(Lists!CE6=\"\",\"\",Lists!CE6)","v":""},{"$f":"+IF(Lists!CF6=\"\",\"\",Lists!CF6)","v":""},{"$f":"+IF(Lists!CG6=\"\",\"\",Lists!CG6)","v":""}]
[null,{"$f":"+IF(Lists!CC7=\"\",\"\",Lists!CC7)","v":""},{"$f":"+IF(Lists!CD7=\"\",\"\",Lists!CD7)","v":""},{"$f":"+IF(Lists!CE7=\"\",\"\",Lists!CE7)","v":""},{"$f":"+IF(Lists!CF7=\"\",\"\",Lists!CF7)","v":""},{"$f":"+IF(Lists!CG7=\"\",\"\",Lists!CG7)","v":""}]
[null,{"$f":"+IF(Lists!CC8=\"\",\"\",Lists!CC8)","v":""},{"$f":"+IF(Lists!CD8=\"\",\"\",Lists!CD8)","v":""},{"$f":"+IF(Lists!CE8=\"\",\"\",Lists!CE8)","v":""},{"$f":"+IF(Lists!CF8=\"\",\"\",Lists!CF8)","v":""},{"$f":"+IF(Lists!CG8=\"\",\"\",Lists!CG8)","v":""}]
[null,{"$f":"+IF(Lists!CC9=\"\",\"\",Lists!CC9)","v":""},{"$f":"+IF(Lists!CD9=\"\",\"\",Lists!CD9)","v":""},{"$f":"+IF(Lists!CE9=\"\",\"\",Lists!CE9)","v":""},{"$f":"+IF(Lists!CF9=\"\",\"\",Lists!CF9)","v":""},{"$f":"+IF(Lists!CG9=\"\",\"\",Lists!CG9)","v":""}]
[null,{"$f":"+IF(Lists!CC10=\"\",\"\",Lists!CC10)","v":""},{"$f":"+IF(Lists!CD10=\"\",\"\",Lists!CD10)","v":""},{"$f":"+IF(Lists!CE10=\"\",\"\",Lists!CE10)","v":""},{"$f":"+IF(Lists!CF10=\"\",\"\",Lists!CF10)","v":""},{"$f":"+IF(Lists!CG10=\"\",\"\",Lists!CG10)","v":""}]
[null,{"$f":"+IF(Lists!CC11=\"\",\"\",Lists!CC11)","v":""},{"$f":"+IF(Lists!CD11=\"\",\"\",Lists!CD11)","v":""},{"$f":"+IF(Lists!CE11=\"\",\"\",Lists!CE11)","v":""},{"$f":"+IF(Lists!CF11=\"\",\"\",Lists!CF11)","v":""},{"$f":"+IF(Lists!CG11=\"\",\"\",Lists!CG11)","v":""}]
[null,{"$f":"+IF(Lists!CC12=\"\",\"\",Lists!CC12)","v":""},{"$f":"+IF(Lists!CD12=\"\",\"\",Lists!CD12)","v":""},{"$f":"+IF(Lists!CE12=\"\",\"\",Lists!CE12)","v":""},{"$f":"+IF(Lists!CF12=\"\",\"\",Lists!CF12)","v":""},{"$f":"+IF(Lists!CG12=\"\",\"\",Lists!CG12)","v":""}]
[null,{"$f":"+IF(Lists!CC13=\"\",\"\",Lists!CC13)","v":""},{"$f":"+IF(Lists!CD13=\"\",\"\",Lists!CD13)","v":""},{"$f":"+IF(Lists!CE13=\"\",\"\",Lists!CE13)","v":""},{"$f":"+IF(Lists!CF13=\"\",\"\",Lists!CF13)","v":""},{"$f":"+IF(Lists!CG13=\"\",\"\",Lists!CG13)","v":""}]
[null,{"$f":"+IF(Lists!CC14=\"\",\"\",Lists!CC14)","v":""},{"$f":"+IF(Lists!CD14=\"\",\"\",Lists!CD14)","v":""},{"$f":"+IF(Lists!CE14=\"\",\"\",Lists!CE14)","v":""},{"$f":"+IF(Lists!CF14=\"\",\"\",Lists!CF14)","v":""},{"$f":"+IF(Lists!CG14=\"\",\"\",Lists!CG14)","v":""}]
[null,{"$f":"+IF(Lists!CC15=\"\",\"\",Lists!CC15)","v":""},{"$f":"+IF(Lists!CD15=\"\",\"\",Lists!CD15)","v":""},{"$f":"+IF(Lists!CE15=\"\",\"\",Lists!CE15)","v":""},{"$f":"+IF(Lists!CF15=\"\",\"\",Lists!CF15)","v":""},{"$f":"+IF(Lists!CG15=\"\",\"\",Lists!CG15)","v":""}]
[null,{"$f":"+IF(Lists!CC16=\"\",\"\",Lists!CC16)","v":""},{"$f":"+IF(Lists!CD16=\"\",\"\",Lists!CD16)","v":""},{"$f":"+IF(Lists!CE16=\"\",\"\",Lists!CE16)","v":""},{"$f":"+IF(Lists!CF16=\"\",\"\",Lists!CF16)","v":""},{"$f":"+IF(Lists!CG16=\"\",\"\",Lists!CG16)","v":""}]
[null,{"$f":"+IF(Lists!CC17=\"\",\"\",Lists!CC17)","v":""},{"$f":"+IF(Lists!CD17=\"\",\"\",Lists!CD17)","v":""},{"$f":"+IF(Lists!CE17=\"\",\"\",Lists!CE17)","v":""},{"$f":"+IF(Lists!CF17=\"\",\"\",Lists!CF17)","v":""},{"$f":"+IF(Lists!CG17=\"\",\"\",Lists!CG17)","v":""}]
[null,{"$f":"+IF(Lists!CC18=\"\",\"\",Lists!CC18)","v":""},{"$f":"+IF(Lists!CD18=\"\",\"\",Lists!CD18)","v":""},{"$f":"+IF(Lists!CE18=\"\",\"\",Lists!CE18)","v":""},{"$f":"+IF(Lists!CF18=\"\",\"\",Lists!CF18)","v":""},{"$f":"+IF(Lists!CG18=\"\",\"\",Lists!CG18)","v":""}]
[null,{"$f":"+IF(Lists!CC19=\"\",\"\",Lists!CC19)","v":""},{"$f":"+IF(Lists!CD19=\"\",\"\",Lists!CD19)","v":""},{"$f":"+IF(Lists!CE19=\"\",\"\",Lists!CE19)","v":""},{"$f":"+IF(Lists!CF19=\"\",\"\",Lists!CF19)","v":""},{"$f":"+IF(Lists!CG19=\"\",\"\",Lists!CG19)","v":""}]
[null,{"$f":"+IF(Lists!CC20=\"\",\"\",Lists!CC20)","v":""},{"$f":"+IF(Lists!CD20=\"\",\"\",Lists!CD20)","v":""},{"$f":"+IF(Lists!CE20=\"\",\"\",Lists!CE20)","v":""},{"$f":"+IF(Lists!CF20=\"\",\"\",Lists!CF20)","v":""},{"$f":"+IF(Lists!CG20=\"\",\"\",Lists!CG20)","v":""}]
[null,{"$f":"+IF(Lists!CC21=\"\",\"\",Lists!CC21)","v":""},{"$f":"+IF(Lists!CD21=\"\",\"\",Lists!CD21)","v":""},{"$f":"+IF(Lists!CE21=\"\",\"\",Lists!CE21)","v":""},{"$f":"+IF(Lists!CF21=\"\",\"\",Lists!CF21)","v":""},{"$f":"+IF(Lists!CG21=\"\",\"\",Lists!CG21)","v":""}]
[null,{"$f":"+IF(Lists!CC22=\"\",\"\",Lists!CC22)","v":""},{"$f":"+IF(Lists!CD22=\"\",\"\",Lists!CD22)","v":""},{"$f":"+IF(Lists!CE22=\"\",\"\",Lists!CE22)","v":""},{"$f":"+IF(Lists!CF22=\"\",\"\",Lists!CF22)","v":""},{"$f":"+IF(Lists!CG22=\"\",\"\",Lists!CG22)","v":""}]
[null,{"$f":"+IF(Lists!CC23=\"\",\"\",Lists!CC23)","v":""},{"$f":"+IF(Lists!CD23=\"\",\"\",Lists!CD23)","v":""},{"$f":"+IF(Lists!CE23=\"\",\"\",Lists!CE23)","v":""},{"$f":"+IF(Lists!CF23=\"\",\"\",Lists!CF23)","v":""},{"$f":"+IF(Lists!CG23=\"\",\"\",Lists!CG23)","v":""}]
[null,{"$f":"+IF(Lists!CC24=\"\",\"\",Lists!CC24)","v":""},{"$f":"+IF(Lists!CD24=\"\",\"\",Lists!CD24)","v":""},{"$f":"+IF(Lists!CE24=\"\",\"\",Lists!CE24)","v":""},{"$f":"+IF(Lists!CF24=\"\",\"\",Lists!CF24)","v":""},{"$f":"+IF(Lists!CG24=\"\",\"\",Lists!CG24)","v":""}]
[null,{"$f":"+IF(Lists!CC25=\"\",\"\",Lists!CC25)","v":""},{"$f":"+IF(Lists!CD25=\"\",\"\",Lists!CD25)","v":""},{"$f":"+IF(Lists!CE25=\"\",\"\",Lists!CE25)","v":""},{"$f":"+IF(Lists!CF25=\"\",\"\",Lists!CF25)","v":""},{"$f":"+IF(Lists!CG25=\"\",\"\",Lists!CG25)","v":""}]
[null,{"$f":"+IF(Lists!CC26=\"\",\"\",Lists!CC26)","v":""},{"$f":"+IF(Lists!CD26=\"\",\"\",Lists!CD26)","v":""},{"$f":"+IF(Lists!CE26=\"\",\"\",Lists!CE26)","v":""},{"$f":"+IF(Lists!CF26=\"\",\"\",Lists!CF26)","v":""},{"$f":"+IF(Lists!CG26=\"\",\"\",Lists!CG26)","v":""}]
[null,{"$f":"+IF(Lists!CC27=\"\",\"\",Lists!CC27)","v":""},{"$f":"+IF(Lists!CD27=\"\",\"\",Lists!CD27)","v":""},{"$f":"+IF(Lists!CE27=\"\",\"\",Lists!CE27)","v":""},{"$f":"+IF(Lists!CF27=\"\",\"\",Lists!CF27)","v":""},{"$f":"+IF(Lists!CG27=\"\",\"\",Lists!CG27)","v":""}]
[null,{"$f":"+IF(Lists!CC28=\"\",\"\",Lists!CC28)","v":""},{"$f":"+IF(Lists!CD28=\"\",\"\",Lists!CD28)","v":""},{"$f":"+IF(Lists!CE28=\"\",\"\",Lists!CE28)","v":""},{"$f":"+IF(Lists!CF28=\"\",\"\",Lists!CF28)","v":""},{"$f":"+IF(Lists!CG28=\"\",\"\",Lists!CG28)","v":""}]
[null,{"$f":"+IF(Lists!CC29=\"\",\"\",Lists!CC29)","v":""},{"$f":"+IF(Lists!CD29=\"\",\"\",Lists!CD29)","v":""},{"$f":"+IF(Lists!CE29=\"\",\"\",Lists!CE29)","v":""},{"$f":"+IF(Lists!CF29=\"\",\"\",Lists!CF29)","v":""},{"$f":"+IF(Lists!CG29=\"\",\"\",Lists!CG29)","v":""}]
[null,{"$f":"+IF(Lists!CC30=\"\",\"\",Lists!CC30)","v":""},{"$f":"+IF(Lists!CD30=\"\",\"\",Lists!CD30)","v":""},{"$f":"+IF(Lists!CE30=\"\",\"\",Lists!CE30)","v":""},{"$f":"+IF(Lists!CF30=\"\",\"\",Lists!CF30)","v":""},{"$f":"+IF(Lists!CG30=\"\",\"\",Lists!CG30)","v":""}]
[null,{"$f":"+IF(Lists!CC31=\"\",\"\",Lists!CC31)","v":""},{"$f":"+IF(Lists!CD31=\"\",\"\",Lists!CD31)","v":""},{"$f":"+IF(Lists!CE31=\"\",\"\",Lists!CE31)","v":""},{"$f":"+IF(Lists!CF31=\"\",\"\",Lists!CF31)","v":""},{"$f":"+IF(Lists!CG31=\"\",\"\",Lists!CG31)","v":""}]
[null,{"$f":"+IF(Lists!CC32=\"\",\"\",Lists!CC32)","v":""},{"$f":"+IF(Lists!CD32=\"\",\"\",Lists!CD32)","v":""},{"$f":"+IF(Lists!CE32=\"\",\"\",Lists!CE32)","v":""},{"$f":"+IF(Lists!CF32=\"\",\"\",Lists!CF32)","v":""},{"$f":"+IF(Lists!CG32=\"\",\"\",Lists!CG32)","v":""}]
[null,{"$f":"+IF(Lists!CC33=\"\",\"\",Lists!CC33)","v":""},{"$f":"+IF(Lists!CD33=\"\",\"\",Lists!CD33)","v":""},{"$f":"+IF(Lists!CE33=\"\",\"\",Lists!CE33)","v":""},{"$f":"+IF(Lists!CF33=\"\",\"\",Lists!CF33)","v":""},{"$f":"+IF(Lists!CG33=\"\",\"\",Lists!CG33)","v":""}]
[null,{"$f":"+IF(Lists!CC34=\"\",\"\",Lists!CC34)","v":""},{"$f":"+IF(Lists!CD34=\"\",\"\",Lists!CD34)","v":""},{"$f":"+IF(Lists!CE34=\"\",\"\",Lists!CE34)","v":""},{"$f":"+IF(Lists!CF34=\"\",\"\",Lists!CF34)","v":""},{"$f":"+IF(Lists!CG34=\"\",\"\",Lists!CG34)","v":""}]
[null,{"$f":"+IF(Lists!CC35=\"\",\"\",Lists!CC35)","v":""},{"$f":"+IF(Lists!CD35=\"\",\"\",Lists!CD35)","v":""},{"$f":"+IF(Lists!CE35=\"\",\"\",Lists!CE35)","v":""},{"$f":"+IF(Lists!CF35=\"\",\"\",Lists!CF35)","v":""},{"$f":"+IF(Lists!CG35=\"\",\"\",Lists!CG35)","v":""}]
[null,{"$f":"+IF(Lists!CC36=\"\",\"\",Lists!CC36)","v":""},{"$f":"+IF(Lists!CD36=\"\",\"\",Lists!CD36)","v":""},{"$f":"+IF(Lists!CE36=\"\",\"\",Lists!CE36)","v":""},{"$f":"+IF(Lists!CF36=\"\",\"\",Lists!CF36)","v":""},{"$f":"+IF(Lists!CG36=\"\",\"\",Lists!CG36)","v":""}]
[null,{"$f":"+IF(Lists!CC37=\"\",\"\",Lists!CC37)","v":""},{"$f":"+IF(Lists!CD37=\"\",\"\",Lists!CD37)","v":""},{"$f":"+IF(Lists!CE37=\"\",\"\",Lists!CE37)","v":""},{"$f":"+IF(Lists!CF37=\"\",\"\",Lists!CF37)","v":""},{"$f":"+IF(Lists!CG37=\"\",\"\",Lists!CG37)","v":""}]
[null,{"$f":"+IF(Lists!CC38=\"\",\"\",Lists!CC38)","v":""},{"$f":"+IF(Lists!CD38=\"\",\"\",Lists!CD38)","v":""},{"$f":"+IF(Lists!CE38=\"\",\"\",Lists!CE38)","v":""},{"$f":"+IF(Lists!CF38=\"\",\"\",Lists!CF38)","v":""},{"$f":"+IF(Lists!CG38=\"\",\"\",Lists!CG38)","v":""}]
[null,{"$f":"+IF(Lists!CC39=\"\",\"\",Lists!CC39)","v":""},{"$f":"+IF(Lists!CD39=\"\",\"\",Lists!CD39)","v":""},{"$f":"+IF(Lists!CE39=\"\",\"\",Lists!CE39)","v":""},{"$f":"+IF(Lists!CF39=\"\",\"\",Lists!CF39)","v":""},{"$f":"+IF(Lists!CG39=\"\",\"\",Lists!CG39)","v":""}]
[null,{"$f":"+IF(Lists!CC40=\"\",\"\",Lists!CC40)","v":""},{"$f":"+IF(Lists!CD40=\"\",\"\",Lists!CD40)","v":""},{"$f":"+IF(Lists!CE40=\"\",\"\",Lists!CE40)","v":""},{"$f":"+IF(Lists!CF40=\"\",\"\",Lists!CF40)","v":""},{"$f":"+IF(Lists!CG40=\"\",\"\",Lists!CG40)","v":""}]
[null,{"$f":"+IF(Lists!CC41=\"\",\"\",Lists!CC41)","v":""},{"$f":"+IF(Lists!CD41=\"\",\"\",Lists!CD41)","v":""},{"$f":"+IF(Lists!CE41=\"\",\"\",Lists!CE41)","v":""},{"$f":"+IF(Lists!CF41=\"\",\"\",Lists!CF41)","v":""},{"$f":"+IF(Lists!CG41=\"\",\"\",Lists!CG41)","v":""}]
[null,{"$f":"+IF(Lists!CC42=\"\",\"\",Lists!CC42)","v":""},{"$f":"+IF(Lists!CD42=\"\",\"\",Lists!CD42)","v":""},{"$f":"+IF(Lists!CE42=\"\",\"\",Lists!CE42)","v":""},{"$f":"+IF(Lists!CF42=\"\",\"\",Lists!CF42)","v":""},{"$f":"+IF(Lists!CG42=\"\",\"\",Lists!CG42)","v":""}]
[null,{"$f":"+IF(Lists!CC43=\"\",\"\",Lists!CC43)","v":""},{"$f":"+IF(Lists!CD43=\"\",\"\",Lists!CD43)","v":""},{"$f":"+IF(Lists!CE43=\"\",\"\",Lists!CE43)","v":""},{"$f":"+IF(Lists!CF43=\"\",\"\",Lists!CF43)","v":""},{"$f":"+IF(Lists!CG43=\"\",\"\",Lists!CG43)","v":""}]
[null,{"$f":"+IF(Lists!CC44=\"\",\"\",Lists!CC44)","v":""},{"$f":"+IF(Lists!CD44=\"\",\"\",Lists!CD44)","v":""},{"$f":"+IF(Lists!CE44=\"\",\"\",Lists!CE44)","v":""},{"$f":"+IF(Lists!CF44=\"\",\"\",Lists!CF44)","v":""},{"$f":"+IF(Lists!CG44=\"\",\"\",Lists!CG44)","v":""}]
[null,{"$f":"+IF(Lists!CC45=\"\",\"\",Lists!CC45)","v":""},{"$f":"+IF(Lists!CD45=\"\",\"\",Lists!CD45)","v":""},{"$f":"+IF(Lists!CE45=\"\",\"\",Lists!CE45)","v":""},{"$f":"+IF(Lists!CF45=\"\",\"\",Lists!CF45)","v":""},{"$f":"+IF(Lists!CG45=\"\",\"\",Lists!CG45)","v":""}]
[null,{"$f":"+IF(Lists!CC46=\"\",\"\",Lists!CC46)","v":""},{"$f":"+IF(Lists!CD46=\"\",\"\",Lists!CD46)","v":""},{"$f":"+IF(Lists!CE46=\"\",\"\",Lists!CE46)","v":""},{"$f":"+IF(Lists!CF46=\"\",\"\",Lists!CF46)","v":""},{"$f":"+IF(Lists!CG46=\"\",\"\",Lists!CG46)","v":""}]
[null,{"$f":"+IF(Lists!CC47=\"\",\"\",Lists!CC47)","v":""},{"$f":"+IF(Lists!CD47=\"\",\"\",Lists!CD47)","v":""},{"$f":"+IF(Lists!CE47=\"\",\"\",Lists!CE47)","v":""},{"$f":"+IF(Lists!CF47=\"\",\"\",Lists!CF47)","v":""},{"$f":"+IF(Lists!CG47=\"\",\"\",Lists!CG47)","v":""}]
[null,{"$f":"+IF(Lists!CC48=\"\",\"\",Lists!CC48)","v":""},{"$f":"+IF(Lists!CD48=\"\",\"\",Lists!CD48)","v":""},{"$f":"+IF(Lists!CE48=\"\",\"\",Lists!CE48)","v":""},{"$f":"+IF(Lists!CF48=\"\",\"\",Lists!CF48)","v":""},{"$f":"+IF(Lists!CG48=\"\",\"\",Lists!CG48)","v":""}]
[null,{"$f":"+IF(Lists!CC49=\"\",\"\",Lists!CC49)","v":""},{"$f":"+IF(Lists!CD49=\"\",\"\",Lists!CD49)","v":""},{"$f":"+IF(Lists!CE49=\"\",\"\",Lists!CE49)","v":""},{"$f":"+IF(Lists!CF49=\"\",\"\",Lists!CF49)","v":""},{"$f":"+IF(Lists!CG49=\"\",\"\",Lists!CG49)","v":""}]
[null,{"$f":"+IF(Lists!CC50=\"\",\"\",Lists!CC50)","v":""},{"$f":"+IF(Lists!CD50=\"\",\"\",Lists!CD50)","v":""},{"$f":"+IF(Lists!CE50=\"\",\"\",Lists!CE50)","v":""},{"$f":"+IF(Lists!CF50=\"\",\"\",Lists!CF50)","v":""},{"$f":"+IF(Lists!CG50=\"\",\"\",Lists!CG50)","v":""}]
[null,{"$f":"+IF(Lists!CC51=\"\",\"\",Lists!CC51)","v":""},{"$f":"+IF(Lists!CD51=\"\",\"\",Lists!CD51)","v":""},{"$f":"+IF(Lists!CE51=\"\",\"\",Lists!CE51)","v":""},{"$f":"+IF(Lists!CF51=\"\",\"\",Lists!CF51)","v":""},{"$f":"+IF(Lists!CG51=\"\",\"\",Lists!CG51)","v":""}]
[null,{"$f":"+IF(Lists!CC52=\"\",\"\",Lists!CC52)","v":""},{"$f":"+IF(Lists!CD52=\"\",\"\",Lists!CD52)","v":""},{"$f":"+IF(Lists!CE52=\"\",\"\",Lists!CE52)","v":""},{"$f":"+IF(Lists!CF52=\"\",\"\",Lists!CF52)","v":""},{"$f":"+IF(Lists!CG52=\"\",\"\",Lists!CG52)","v":""}]
[null,{"$f":"+IF(Lists!CC53=\"\",\"\",Lists!CC53)","v":""},{"$f":"+IF(Lists!CD53=\"\",\"\",Lists!CD53)","v":""},{"$f":"+IF(Lists!CE53=\"\",\"\",Lists!CE53)","v":""},{"$f":"+IF(Lists!CF53=\"\",\"\",Lists!CF53)","v":""},{"$f":"+IF(Lists!CG53=\"\",\"\",Lists!CG53)","v":""}]
[null,{"$f":"+IF(Lists!CC54=\"\",\"\",Lists!CC54)","v":""},{"$f":"+IF(Lists!CD54=\"\",\"\",Lists!CD54)","v":""},{"$f":"+IF(Lists!CE54=\"\",\"\",Lists!CE54)","v":""},{"$f":"+IF(Lists!CF54=\"\",\"\",Lists!CF54)","v":""},{"$f":"+IF(Lists!CG54=\"\",\"\",Lists!CG54)","v":""}]
[null,{"$f":"+IF(Lists!CC55=\"\",\"\",Lists!CC55)","v":""},{"$f":"+IF(Lists!CD55=\"\",\"\",Lists!CD55)","v":""},{"$f":"+IF(Lists!CE55=\"\",\"\",Lists!CE55)","v":""},{"$f":"+IF(Lists!CF55=\"\",\"\",Lists!CF55)","v":""},{"$f":"+IF(Lists!CG55=\"\",\"\",Lists!CG55)","v":""}]
[null,{"$f":"+IF(Lists!CC56=\"\",\"\",Lists!CC56)","v":""},{"$f":"+IF(Lists!CD56=\"\",\"\",Lists!CD56)","v":""},{"$f":"+IF(Lists!CE56=\"\",\"\",Lists!CE56)","v":""},{"$f":"+IF(Lists!CF56=\"\",\"\",Lists!CF56)","v":""},{"$f":"+IF(Lists!CG56=\"\",\"\",Lists!CG56)","v":""}]
[null,{"$f":"+IF(Lists!CC57=\"\",\"\",Lists!CC57)","v":""},{"$f":"+IF(Lists!CD57=\"\",\"\",Lists!CD57)","v":""},{"$f":"+IF(Lists!CE57=\"\",\"\",Lists!CE57)","v":""},{"$f":"+IF(Lists!CF57=\"\",\"\",Lists!CF57)","v":""},{"$f":"+IF(Lists!CG57=\"\",\"\",Lists!CG57)","v":""}]
[null,{"$f":"+IF(Lists!CC58=\"\",\"\",Lists!CC58)","v":""},{"$f":"+IF(Lists!CD58=\"\",\"\",Lists!CD58)","v":""},{"$f":"+IF(Lists!CE58=\"\",\"\",Lists!CE58)","v":""},{"$f":"+IF(Lists!CF58=\"\",\"\",Lists!CF58)","v":""},{"$f":"+IF(Lists!CG58=\"\",\"\",Lists!CG58)","v":""}]
[null,{"$f":"+IF(Lists!CC59=\"\",\"\",Lists!CC59)","v":""},{"$f":"+IF(Lists!CD59=\"\",\"\",Lists!CD59)","v":""},{"$f":"+IF(Lists!CE59=\"\",\"\",Lists!CE59)","v":""},{"$f":"+IF(Lists!CF59=\"\",\"\",Lists!CF59)","v":""},{"$f":"+IF(Lists!CG59=\"\",\"\",Lists!CG59)","v":""}]
[null,{"$f":"+IF(Lists!CC60=\"\",\"\",Lists!CC60)","v":""},{"$f":"+IF(Lists!CD60=\"\",\"\",Lists!CD60)","v":""},{"$f":"+IF(Lists!CE60=\"\",\"\",Lists!CE60)","v":""},{"$f":"+IF(Lists!CF60=\"\",\"\",Lists!CF60)","v":""},{"$f":"+IF(Lists!CG60=\"\",\"\",Lists!CG60)","v":""}]
[null,{"$f":"+IF(Lists!CC61=\"\",\"\",Lists!CC61)","v":""},{"$f":"+IF(Lists!CD61=\"\",\"\",Lists!CD61)","v":""},{"$f":"+IF(Lists!CE61=\"\",\"\",Lists!CE61)","v":""},{"$f":"+IF(Lists!CF61=\"\",\"\",Lists!CF61)","v":""},{"$f":"+IF(Lists!CG61=\"\",\"\",Lists!CG61)","v":""}]
[null,{"$f":"+IF(Lists!CC62=\"\",\"\",Lists!CC62)","v":""},{"$f":"+IF(Lists!CD62=\"\",\"\",Lists!CD62)","v":""},{"$f":"+IF(Lists!CE62=\"\",\"\",Lists!CE62)","v":""},{"$f":"+IF(Lists!CF62=\"\",\"\",Lists!CF62)","v":""},{"$f":"+IF(Lists!CG62=\"\",\"\",Lists!CG62)","v":""}]
[null,{"$f":"+IF(Lists!CC63=\"\",\"\",Lists!CC63)","v":""},{"$f":"+IF(Lists!CD63=\"\",\"\",Lists!CD63)","v":""},{"$f":"+IF(Lists!CE63=\"\",\"\",Lists!CE63)","v":""},{"$f":"+IF(Lists!CF63=\"\",\"\",Lists!CF63)","v":""},{"$f":"+IF(Lists!CG63=\"\",\"\",Lists!CG63)","v":""}]
[null,{"$f":"+IF(Lists!CC64=\"\",\"\",Lists!CC64)","v":""},{"$f":"+IF(Lists!CD64=\"\",\"\",Lists!CD64)","v":""},{"$f":"+IF(Lists!CE64=\"\",\"\",Lists!CE64)","v":""},{"$f":"+IF(Lists!CF64=\"\",\"\",Lists!CF64)","v":""},{"$f":"+IF(Lists!CG64=\"\",\"\",Lists!CG64)","v":""}]
[null,{"$f":"+IF(Lists!CC65=\"\",\"\",Lists!CC65)","v":""},{"$f":"+IF(Lists!CD65=\"\",\"\",Lists!CD65)","v":""},{"$f":"+IF(Lists!CE65=\"\",\"\",Lists!CE65)","v":""},{"$f":"+IF(Lists!CF65=\"\",\"\",Lists!CF65)","v":""},{"$f":"+IF(Lists!CG65=\"\",\"\",Lists!CG65)","v":""}]
[null,{"$f":"+IF(Lists!CC66=\"\",\"\",Lists!CC66)","v":""},{"$f":"+IF(Lists!CD66=\"\",\"\",Lists!CD66)","v":""},{"$f":"+IF(Lists!CE66=\"\",\"\",Lists!CE66)","v":""},{"$f":"+IF(Lists!CF66=\"\",\"\",Lists!CF66)","v":""},{"$f":"+IF(Lists!CG66=\"\",\"\",Lists!CG66)","v":""}]
[null,{"$f":"+IF(Lists!CC67=\"\",\"\",Lists!CC67)","v":""},{"$f":"+IF(Lists!CD67=\"\",\"\",Lists!CD67)","v":""},{"$f":"+IF(Lists!CE67=\"\",\"\",Lists!CE67)","v":""},{"$f":"+IF(Lists!CF67=\"\",\"\",Lists!CF67)","v":""},{"$f":"+IF(Lists!CG67=\"\",\"\",Lists!CG67)","v":""}]
[null,{"$f":"+IF(Lists!CC68=\"\",\"\",Lists!CC68)","v":""},{"$f":"+IF(Lists!CD68=\"\",\"\",Lists!CD68)","v":""},{"$f":"+IF(Lists!CE68=\"\",\"\",Lists!CE68)","v":""},{"$f":"+IF(Lists!CF68=\"\",\"\",Lists!CF68)","v":""},{"$f":"+IF(Lists!CG68=\"\",\"\",Lists!CG68)","v":""}]
[null,{"$f":"+IF(Lists!CC69=\"\",\"\",Lists!CC69)","v":""},{"$f":"+IF(Lists!CD69=\"\",\"\",Lists!CD69)","v":""},{"$f":"+IF(Lists!CE69=\"\",\"\",Lists!CE69)","v":""},{"$f":"+IF(Lists!CF69=\"\",\"\",Lists!CF69)","v":""},{"$f":"+IF(Lists!CG69=\"\",\"\",Lists!CG69)","v":""}]
[null,{"$f":"+IF(Lists!CC70=\"\",\"\",Lists!CC70)","v":""},{"$f":"+IF(Lists!CD70=\"\",\"\",Lists!CD70)","v":""},{"$f":"+IF(Lists!CE70=\"\",\"\",Lists!CE70)","v":""},{"$f":"+IF(Lists!CF70=\"\",\"\",Lists!CF70)","v":""},{"$f":"+IF(Lists!CG70=\"\",\"\",Lists!CG70)","v":""}]
[null,{"$f":"+IF(Lists!CC71=\"\",\"\",Lists!CC71)","v":""},{"$f":"+IF(Lists!CD71=\"\",\"\",Lists!CD71)","v":""},{"$f":"+IF(Lists!CE71=\"\",\"\",Lists!CE71)","v":""},{"$f":"+IF(Lists!CF71=\"\",\"\",Lists!CF71)","v":""},{"$f":"+IF(Lists!CG71=\"\",\"\",Lists!CG71)","v":""}]
[null,{"$f":"+IF(Lists!CC72=\"\",\"\",Lists!CC72)","v":""},{"$f":"+IF(Lists!CD72=\"\",\"\",Lists!CD72)","v":""},{"$f":"+IF(Lists!CE72=\"\",\"\",Lists!CE72)","v":""},{"$f":"+IF(Lists!CF72=\"\",\"\",Lists!CF72)","v":""},{"$f":"+IF(Lists!CG72=\"\",\"\",Lists!CG72)","v":""}]
[null,{"$f":"+IF(Lists!CC73=\"\",\"\",Lists!CC73)","v":""},{"$f":"+IF(Lists!CD73=\"\",\"\",Lists!CD73)","v":""},{"$f":"+IF(Lists!CE73=\"\",\"\",Lists!CE73)","v":""},{"$f":"+IF(Lists!CF73=\"\",\"\",Lists!CF73)","v":""},{"$f":"+IF(Lists!CG73=\"\",\"\",Lists!CG73)","v":""}]
[null,{"$f":"+IF(Lists!CC74=\"\",\"\",Lists!CC74)","v":""},{"$f":"+IF(Lists!CD74=\"\",\"\",Lists!CD74)","v":""},{"$f":"+IF(Lists!CE74=\"\",\"\",Lists!CE74)","v":""},{"$f":"+IF(Lists!CF74=\"\",\"\",Lists!CF74)","v":""},{"$f":"+IF(Lists!CG74=\"\",\"\",Lists!CG74)","v":""}]
[null,{"$f":"+IF(Lists!CC75=\"\",\"\",Lists!CC75)","v":""},{"$f":"+IF(Lists!CD75=\"\",\"\",Lists!CD75)","v":""},{"$f":"+IF(Lists!CE75=\"\",\"\",Lists!CE75)","v":""},{"$f":"+IF(Lists!CF75=\"\",\"\",Lists!CF75)","v":""},{"$f":"+IF(Lists!CG75=\"\",\"\",Lists!CG75)","v":""}]
[null,{"$f":"+IF(Lists!CC76=\"\",\"\",Lists!CC76)","v":""},{"$f":"+IF(Lists!CD76=\"\",\"\",Lists!CD76)","v":""},{"$f":"+IF(Lists!CE76=\"\",\"\",Lists!CE76)","v":""},{"$f":"+IF(Lists!CF76=\"\",\"\",Lists!CF76)","v":""},{"$f":"+IF(Lists!CG76=\"\",\"\",Lists!CG76)","v":""}]
[null,{"$f":"+IF(Lists!CC77=\"\",\"\",Lists!CC77)","v":""},{"$f":"+IF(Lists!CD77=\"\",\"\",Lists!CD77)","v":""},{"$f":"+IF(Lists!CE77=\"\",\"\",Lists!CE77)","v":""},{"$f":"+IF(Lists!CF77=\"\",\"\",Lists!CF77)","v":""},{"$f":"+IF(Lists!CG77=\"\",\"\",Lists!CG77)","v":""}]
[null,{"$f":"+IF(Lists!CC78=\"\",\"\",Lists!CC78)","v":""},{"$f":"+IF(Lists!CD78=\"\",\"\",Lists!CD78)","v":""},{"$f":"+IF(Lists!CE78=\"\",\"\",Lists!CE78)","v":""},{"$f":"+IF(Lists!CF78=\"\",\"\",Lists!CF78)","v":""},{"$f":"+IF(Lists!CG78=\"\",\"\",Lists!CG78)","v":""}]

{"sheet":"Compliance Rpt - Deviations","index":13,"n_rows":100,"n_cols":13,"rows_kept":100,"cut":false,"hidden":false,"merged":[]}
[null,"DO NOT REMOVE OR EDIT INFORMATION IN THIS SECTION\nFOR INTERNAL USE ONLY"]
[null,"Template Name",{"$f":"Welcome!B2","v":"63.6009(k) Notification of Compliance and  §63.6010(g) Semiannual Compliance Report (Spreadsheet Template)"}]
[null,"CitationID",{"$f":"Welcome!B3","v":"63.6009(k) and 63.6010(g)"}]
[null,"Template Version",{"$f":"Welcome!B4","v":"v1.02"}]
[null,"Last Updated Date",{"$f":"Welcome!B5","v":"2020-06-16"}]
[null,{"$f":"Welcome!B6","v":"OMB Control Number: 2060-0449"}]
[null,"40 CFR Part 63, Subpart XXXX National Emission Standards for Hazardous Air Pollutants: Rubber Tire Manufacturing -"]
[null,"\n"]
[]
[null,"Note: Start by using dropdown in Column E to select affected source. Columns B through D will be autofilled based on responses provided in the Compliance_Options worksheet."]
[null,"63.6010(g) Semiannual Compliance Report - Deviations from an emission limitation (emission limit or operating limit)"]
[null,"Company Record No. *\n(Autofilled)","Name of Rubber Tire Manufacturing Affected Source *\n(§63.9(h))\n(Autofilled)","Rubber Tire Manufacturing Subcategory\n(Autofilled)","Company Record No., Name of Rubber Tire Manufacturing Affected Source, and Subcategory\n(§63.9(h))\n(Select from dropdown)","Cement or solvent that deviated from the emission limit * \n(§63.6010(d))","Date of each deviation *\n(§63.6010(d)(1))","Time of each deviation * \n(§63.6010(d)(1))","Duration (hours) of each deviation * \n(§63.6010(d)(1))","Estimate of the Quantity Emitted Over Emission Limit *\n(§63.6010(d)(2))","Description of the Method Used to Estimate the Emissions. *\n(§63.6010(d)(2))","Cause of deviation *\n(§63.6010(d)(2))\n","Corrective Action(s) Taken *\n(§63.6010(d)(3))"]
[null,"RecordId","OperationName","Subcategory","RecordSourceSubcategory","CoatingName","UseStartDate","UseStartTime","UseDuration","EmissionsQuantity","EstimationMethod","DeviationCause","CorrectiveAction"]
[null,"e.g.: 1","e.g.: CuringPress1","e.g.: Tire Production","e.g.: 1 CuringPress1 Tire Production","e.g.: solventx","e.g.: 2/1/2017","e.g.: 13:05","e.g.: 36.25","e.g.: 2.5","e.g.: Mass balance","e.g.: leak","e.g.: Ordered new materials"]
[null,null,null,"e.g.: End coating"]
[]
[]
[]
[]
[]
[]
[]
[]
[null,{"$f":"IF($E24=\"\",\"\",VLOOKUP($E24,Lists!$CV$2:$CY$478,COLUMN(),FALSE))","v":""},{"$f":"IF($E24=\"\",\"\",VLOOKUP($E24,Lists!$CV$2:$CY$478,COLUMN(),FALSE))","v":""},{"$f":"IF($E24=\"\",\"\",VLOOKUP($E24,Lists!$CV$2:$CY$478,COLUMN(),FALSE))","v":""}]
[null,{"$f":"IF($E25=\"\",\"\",VLOOKUP($E25,Lists!$CV$2:$CY$478,COLUMN(),FALSE))","v":""},{"$f":"IF($E25=\"\",\"\",VLOOKUP($E25,Lists!$CV$2:$CY$478,COLUMN(),FALSE))","v":""},{"$f":"IF($E25=\"\",\"\",VLOOKUP($E25,Lists!$CV$2:$CY$478,COLUMN(),FALSE))","v":""}]
[null,{"$f":"IF($E26=\"\",\"\",VLOOKUP($E26,Lists!$CV$2:$CY$478,COLUMN(),FALSE))","v":""},{"$f":"IF($E26=\"\",\"\",VLOOKUP($E26,Lists!$CV$2:$CY$478,COLUMN(),FALSE))","v":""},{"$f":"IF($E26=\"\",\"\",VLOOKUP($E26,Lists!$CV$2:$CY$478,COLUMN(),FALSE))","v":""}]
[null,{"$f":"IF($E27=\"\",\"\",VLOOKUP($E27,Lists!$CV$2:$CY$478,COLUMN(),FALSE))","v":""},{"$f":"IF($E27=\"\",\"\",VLOOKUP($E27,Lists!$CV$2:$CY$478,COLUMN(),FALSE))","v":""},{"$f":"IF($E27=\"\",\"\",VLOOKUP($E27,Lists!$CV$2:$CY$478,COLUMN(),FALSE))","v":""}]
[null,{"$f":"IF($E28=\"\",\"\",VLOOKUP($E28,Lists!$CV$2:$CY$478,COLUMN(),FALSE))","v":""},{"$f":"IF($E28=\"\",\"\",VLOOKUP($E28,Lists!$CV$2:$CY$478,COLUMN(),FALSE))","v":""},{"$f":"IF($E28=\"\",\"\",VLOOKUP($E28,Lists!$CV$2:$CY$478,COLUMN(),FALSE))","v":""}]
[null,{"$f":"IF($E29=\"\",\"\",VLOOKUP($E29,Lists!$CV$2:$CY$478,COLUMN(),FALSE))","v":""},{"$f":"IF($E29=\"\",\"\",VLOOKUP($E29,Lists!$CV$2:$CY$478,COLUMN(),FALSE))","v":""},{"$f":"IF($E29=\"\",\"\",VLOOKUP($E29,Lists!$CV$2:$CY$478,COLUMN(),FALSE))","v":""}]
[null,{"$f":"IF($E30=\"\",\"\",VLOOKUP($E30,Lists!$CV$2:$CY$478,COLUMN(),FALSE))","v":""},{"$f":"IF($E30=\"\",\"\",VLOOKUP($E30,Lists!$CV$2:$CY$478,COLUMN(),FALSE))","v":""},{"$f":"IF($E30=\"\",\"\",VLOOKUP($E30,Lists!$CV$2:$CY$478,COLUMN(),FALSE))","v":""}]
[null,{"$f":"IF($E31=\"\",\"\",VLOOKUP($E31,Lists!$CV$2:$CY$478,COLUMN(),FALSE))","v":""},{"$f":"IF($E31=\"\",\"\",VLOOKUP($E31,Lists!$CV$2:$CY$478,COLUMN(),FALSE))","v":""},{"$f":"IF($E31=\"\",\"\",VLOOKUP($E31,Lists!$CV$2:$CY$478,COLUMN(),FALSE))","v":""}]
[null,{"$f":"IF($E32=\"\",\"\",VLOOKUP($E32,Lists!$CV$2:$CY$478,COLUMN(),FALSE))","v":""},{"$f":"IF($E32=\"\",\"\",VLOOKUP($E32,Lists!$CV$2:$CY$478,COLUMN(),FALSE))","v":""},{"$f":"IF($E32=\"\",\"\",VLOOKUP($E32,Lists!$CV$2:$CY$478,COLUMN(),FALSE))","v":""}]
[null,{"$f":"IF($E33=\"\",\"\",VLOOKUP($E33,Lists!$CV$2:$CY$478,COLUMN(),FALSE))","v":""},{"$f":"IF($E33=\"\",\"\",VLOOKUP($E33,Lists!$CV$2:$CY$478,COLUMN(),FALSE))","v":""},{"$f":"IF($E33=\"\",\"\",VLOOKUP($E33,Lists!$CV$2:$CY$478,COLUMN(),FALSE))","v":""}]
[null,{"$f":"IF($E34=\"\",\"\",VLOOKUP($E34,Lists!$CV$2:$CY$478,COLUMN(),FALSE))","v":""},{"$f":"IF($E34=\"\",\"\",VLOOKUP($E34,Lists!$CV$2:$CY$478,COLUMN(),FALSE))","v":""},{"$f":"IF($E34=\"\",\"\",VLOOKUP($E34,Lists!$CV$2:$CY$478,COLUMN(),FALSE))","v":""}]
[null,{"$f":"IF($E35=\"\",\"\",VLOOKUP($E35,Lists!$CV$2:$CY$478,COLUMN(),FALSE))","v":""},{"$f":"IF($E35=\"\",\"\",VLOOKUP($E35,Lists!$CV$2:$CY$478,COLUMN(),FALSE))","v":""},{"$f":"IF($E35=\"\",\"\",VLOOKUP($E35,Lists!$CV$2:$CY$478,COLUMN(),FALSE))","v":""}]
[null,{"$f":"IF($E36=\"\",\"\",VLOOKUP($E36,Lists!$CV$2:$CY$478,COLUMN(),FALSE))","v":""},{"$f":"IF($E36=\"\",\"\",VLOOKUP($E36,Lists!$CV$2:$CY$478,COLUMN(),FALSE))","v":""},{"$f":"IF($E36=\"\",\"\",VLOOKUP($E36,Lists!$CV$2:$CY$478,COLUMN(),FALSE))","v":""}]
[null,{"$f":"IF($E37=\"\",\"\",VLOOKUP($E37,Lists!$CV$2:$CY$478,COLUMN(),FALSE))","v":""},{"$f":"IF($E37=\"\",\"\",VLOOKUP($E37,Lists!$CV$2:$CY$478,COLUMN(),FALSE))","v":""},{"$f":"IF($E37=\"\",\"\",VLOOKUP($E37,Lists!$CV$2:$CY$478,COLUMN(),FALSE))","v":""}]
[null,{"$f":"IF($E38=\"\",\"\",VLOOKUP($E38,Lists!$CV$2:$CY$478,COLUMN(),FALSE))","v":""},{"$f":"IF($E38=\"\",\"\",VLOOKUP($E38,Lists!$CV$2:$CY$478,COLUMN(),FALSE))","v":""},{"$f":"IF($E38=\"\",\"\",VLOOKUP($E38,Lists!$CV$2:$CY$478,COLUMN(),FALSE))","v":""}]
[null,{"$f":"IF($E39=\"\",\"\",VLOOKUP($E39,Lists!$CV$2:$CY$478,COLUMN(),FALSE))","v":""},{"$f":"IF($E39=\"\",\"\",VLOOKUP($E39,Lists!$CV$2:$CY$478,COLUMN(),FALSE))","v":""},{"$f":"IF($E39=\"\",\"\",VLOOKUP($E39,Lists!$CV$2:$CY$478,COLUMN(),FALSE))","v":""}]
[null,{"$f":"IF($E40=\"\",\"\",VLOOKUP($E40,Lists!$CV$2:$CY$478,COLUMN(),FALSE))","v":""},{"$f":"IF($E40=\"\",\"\",VLOOKUP($E40,Lists!$CV$2:$CY$478,COLUMN(),FALSE))","v":""},{"$f":"IF($E40=\"\",\"\",VLOOKUP($E40,Lists!$CV$2:$CY$478,COLUMN(),FALSE))","v":""}]
[null,{"$f":"IF($E41=\"\",\"\",VLOOKUP($E41,Lists!$CV$2:$CY$478,COLUMN(),FALSE))","v":""},{"$f":"IF($E41=\"\",\"\",VLOOKUP($E41,Lists!$CV$2:$CY$478,COLUMN(),FALSE))","v":""},{"$f":"IF($E41=\"\",\"\",VLOOKUP($E41,Lists!$CV$2:$CY$478,COLUMN(),FALSE))","v":""}]
[null,{"$f":"IF($E42=\"\",\"\",VLOOKUP($E42,Lists!$CV$2:$CY$478,COLUMN(),FALSE))","v":""},{"$f":"IF($E42=\"\",\"\",VLOOKUP($E42,Lists!$CV$2:$CY$478,COLUMN(),FALSE))","v":""},{"$f":"IF($E42=\"\",\"\",VLOOKUP($E42,Lists!$CV$2:$CY$478,COLUMN(),FALSE))","v":""}]
[null,{"$f":"IF($E43=\"\",\"\",VLOOKUP($E43,Lists!$CV$2:$CY$478,COLUMN(),FALSE))","v":""},{"$f":"IF($E43=\"\",\"\",VLOOKUP($E43,Lists!$CV$2:$CY$478,COLUMN(),FALSE))","v":""},{"$f":"IF($E43=\"\",\"\",VLOOKUP($E43,Lists!$CV$2:$CY$478,COLUMN(),FALSE))","v":""}]
[null,{"$f":"IF($E44=\"\",\"\",VLOOKUP($E44,Lists!$CV$2:$CY$478,COLUMN(),FALSE))","v":""},{"$f":"IF($E44=\"\",\"\",VLOOKUP($E44,Lists!$CV$2:$CY$478,COLUMN(),FALSE))","v":""},{"$f":"IF($E44=\"\",\"\",VLOOKUP($E44,Lists!$CV$2:$CY$478,COLUMN(),FALSE))","v":""}]
[null,{"$f":"IF($E45=\"\",\"\",VLOOKUP($E45,Lists!$CV$2:$CY$478,COLUMN(),FALSE))","v":""},{"$f":"IF($E45=\"\",\"\",VLOOKUP($E45,Lists!$CV$2:$CY$478,COLUMN(),FALSE))","v":""},{"$f":"IF($E45=\"\",\"\",VLOOKUP($E45,Lists!$CV$2:$CY$478,COLUMN(),FALSE))","v":""}]
[null,{"$f":"IF($E46=\"\",\"\",VLOOKUP($E46,Lists!$CV$2:$CY$478,COLUMN(),FALSE))","v":""},{"$f":"IF($E46=\"\",\"\",VLOOKUP($E46,Lists!$CV$2:$CY$478,COLUMN(),FALSE))","v":""},{"$f":"IF($E46=\"\",\"\",VLOOKUP($E46,Lists!$CV$2:$CY$478,COLUMN(),FALSE))","v":""}]
[null,{"$f":"IF($E47=\"\",\"\",VLOOKUP($E47,Lists!$CV$2:$CY$478,COLUMN(),FALSE))","v":""},{"$f":"IF($E47=\"\",\"\",VLOOKUP($E47,Lists!$CV$2:$CY$478,COLUMN(),FALSE))","v":""},{"$f":"IF($E47=\"\",\"\",VLOOKUP($E47,Lists!$CV$2:$CY$478,COLUMN(),FALSE))","v":""}]
[null,{"$f":"IF($E48=\"\",\"\",VLOOKUP($E48,Lists!$CV$2:$CY$478,COLUMN(),FALSE))","v":""},{"$f":"IF($E48=\"\",\"\",VLOOKUP($E48,Lists!$CV$2:$CY$478,COLUMN(),FALSE))","v":""},{"$f":"IF($E48=\"\",\"\",VLOOKUP($E48,Lists!$CV$2:$CY$478,COLUMN(),FALSE))","v":""}]
[null,{"$f":"IF($E49=\"\",\"\",VLOOKUP($E49,Lists!$CV$2:$CY$478,COLUMN(),FALSE))","v":""},{"$f":"IF($E49=\"\",\"\",VLOOKUP($E49,Lists!$CV$2:$CY$478,COLUMN(),FALSE))","v":""},{"$f":"IF($E49=\"\",\"\",VLOOKUP($E49,Lists!$CV$2:$CY$478,COLUMN(),FALSE))","v":""}]
[null,{"$f":"IF($E50=\"\",\"\",VLOOKUP($E50,Lists!$CV$2:$CY$478,COLUMN(),FALSE))","v":""},{"$f":"IF($E50=\"\",\"\",VLOOKUP($E50,Lists!$CV$2:$CY$478,COLUMN(),FALSE))","v":""},{"$f":"IF($E50=\"\",\"\",VLOOKUP($E50,Lists!$CV$2:$CY$478,COLUMN(),FALSE))","v":""}]
[null,{"$f":"IF($E51=\"\",\"\",VLOOKUP($E51,Lists!$CV$2:$CY$478,COLUMN(),FALSE))","v":""},{"$f":"IF($E51=\"\",\"\",VLOOKUP($E51,Lists!$CV$2:$CY$478,COLUMN(),FALSE))","v":""},{"$f":"IF($E51=\"\",\"\",VLOOKUP($E51,Lists!$CV$2:$CY$478,COLUMN(),FALSE))","v":""}]
[null,{"$f":"IF($E52=\"\",\"\",VLOOKUP($E52,Lists!$CV$2:$CY$478,COLUMN(),FALSE))","v":""},{"$f":"IF($E52=\"\",\"\",VLOOKUP($E52,Lists!$CV$2:$CY$478,COLUMN(),FALSE))","v":""},{"$f":"IF($E52=\"\",\"\",VLOOKUP($E52,Lists!$CV$2:$CY$478,COLUMN(),FALSE))","v":""}]
[null,{"$f":"IF($E53=\"\",\"\",VLOOKUP($E53,Lists!$CV$2:$CY$478,COLUMN(),FALSE))","v":""},{"$f":"IF($E53=\"\",\"\",VLOOKUP($E53,Lists!$CV$2:$CY$478,COLUMN(),FALSE))","v":""},{"$f":"IF($E53=\"\",\"\",VLOOKUP($E53,Lists!$CV$2:$CY$478,COLUMN(),FALSE))","v":""}]
[null,{"$f":"IF($E54=\"\",\"\",VLOOKUP($E54,Lists!$CV$2:$CY$478,COLUMN(),FALSE))","v":""},{"$f":"IF($E54=\"\",\"\",VLOOKUP($E54,Lists!$CV$2:$CY$478,COLUMN(),FALSE))","v":""},{"$f":"IF($E54=\"\",\"\",VLOOKUP($E54,Lists!$CV$2:$CY$478,COLUMN(),FALSE))","v":""}]
[null,{"$f":"IF($E55=\"\",\"\",VLOOKUP($E55,Lists!$CV$2:$CY$478,COLUMN(),FALSE))","v":""},{"$f":"IF($E55=\"\",\"\",VLOOKUP($E55,Lists!$CV$2:$CY$478,COLUMN(),FALSE))","v":""},{"$f":"IF($E55=\"\",\"\",VLOOKUP($E55,Lists!$CV$2:$CY$478,COLUMN(),FALSE))","v":""}]
[null,{"$f":"IF($E56=\"\",\"\",VLOOKUP($E56,Lists!$CV$2:$CY$478,COLUMN(),FALSE))","v":""},{"$f":"IF($E56=\"\",\"\",VLOOKUP($E56,Lists!$CV$2:$CY$478,COLUMN(),FALSE))","v":""},{"$f":"IF($E56=\"\",\"\",VLOOKUP($E56,Lists!$CV$2:$CY$478,COLUMN(),FALSE))","v":""}]
[null,{"$f":"IF($E57=\"\",\"\",VLOOKUP($E57,Lists!$CV$2:$CY$478,COLUMN(),FALSE))","v":""},{"$f":"IF($E57=\"\",\"\",VLOOKUP($E57,Lists!$CV$2:$CY$478,COLUMN(),FALSE))","v":""},{"$f":"IF($E57=\"\",\"\",VLOOKUP($E57,Lists!$CV$2:$CY$478,COLUMN(),FALSE))","v":""}]
[null,{"$f":"IF($E58=\"\",\"\",VLOOKUP($E58,Lists!$CV$2:$CY$478,COLUMN(),FALSE))","v":""},{"$f":"IF($E58=\"\",\"\",VLOOKUP($E58,Lists!$CV$2:$CY$478,COLUMN(),FALSE))","v":""},{"$f":"IF($E58=\"\",\"\",VLOOKUP($E58,Lists!$CV$2:$CY$478,COLUMN(),FALSE))","v":""}]
[null,{"$f":"IF($E59=\"\",\"\",VLOOKUP($E59,Lists!$CV$2:$CY$478,COLUMN(),FALSE))","v":""},{"$f":"IF($E59=\"\",\"\",VLOOKUP($E59,Lists!$CV$2:$CY$478,COLUMN(),FALSE))","v":""},{"$f":"IF($E59=\"\",\"\",VLOOKUP($E59,Lists!$CV$2:$CY$478,COLUMN(),FALSE))","v":""}]
[null,{"$f":"IF($E60=\"\",\"\",VLOOKUP($E60,Lists!$CV$2:$CY$478,COLUMN(),FALSE))","v":""},{"$f":"IF($E60=\"\",\"\",VLOOKUP($E60,Lists!$CV$2:$CY$478,COLUMN(),FALSE))","v":""},{"$f":"IF($E60=\"\",\"\",VLOOKUP($E60,Lists!$CV$2:$CY$478,COLUMN(),FALSE))","v":""}]
[null,{"$f":"IF($E61=\"\",\"\",VLOOKUP($E61,Lists!$CV$2:$CY$478,COLUMN(),FALSE))","v":""},{"$f":"IF($E61=\"\",\"\",VLOOKUP($E61,Lists!$CV$2:$CY$478,COLUMN(),FALSE))","v":""},{"$f":"IF($E61=\"\",\"\",VLOOKUP($E61,Lists!$CV$2:$CY$478,COLUMN(),FALSE))","v":""}]
[null,{"$f":"IF($E62=\"\",\"\",VLOOKUP($E62,Lists!$CV$2:$CY$478,COLUMN(),FALSE))","v":""},{"$f":"IF($E62=\"\",\"\",VLOOKUP($E62,Lists!$CV$2:$CY$478,COLUMN(),FALSE))","v":""},{"$f":"IF($E62=\"\",\"\",VLOOKUP($E62,Lists!$CV$2:$CY$478,COLUMN(),FALSE))","v":""}]
[null,{"$f":"IF($E63=\"\",\"\",VLOOKUP($E63,Lists!$CV$2:$CY$478,COLUMN(),FALSE))","v":""},{"$f":"IF($E63=\"\",\"\",VLOOKUP($E63,Lists!$CV$2:$CY$478,COLUMN(),FALSE))","v":""},{"$f":"IF($E63=\"\",\"\",VLOOKUP($E63,Lists!$CV$2:$CY$478,COLUMN(),FALSE))","v":""}]
[null,{"$f":"IF($E64=\"\",\"\",VLOOKUP($E64,Lists!$CV$2:$CY$478,COLUMN(),FALSE))","v":""},{"$f":"IF($E64=\"\",\"\",VLOOKUP($E64,Lists!$CV$2:$CY$478,COLUMN(),FALSE))","v":""},{"$f":"IF($E64=\"\",\"\",VLOOKUP($E64,Lists!$CV$2:$CY$478,COLUMN(),FALSE))","v":""}]
[null,{"$f":"IF($E65=\"\",\"\",VLOOKUP($E65,Lists!$CV$2:$CY$478,COLUMN(),FALSE))","v":""},{"$f":"IF($E65=\"\",\"\",VLOOKUP($E65,Lists!$CV$2:$CY$478,COLUMN(),FALSE))","v":""},{"$f":"IF($E65=\"\",\"\",VLOOKUP($E65,Lists!$CV$2:$CY$478,COLUMN(),FALSE))","v":""}]
[null,{"$f":"IF($E66=\"\",\"\",VLOOKUP($E66,Lists!$CV$2:$CY$478,COLUMN(),FALSE))","v":""},{"$f":"IF($E66=\"\",\"\",VLOOKUP($E66,Lists!$CV$2:$CY$478,COLUMN(),FALSE))","v":""},{"$f":"IF($E66=\"\",\"\",VLOOKUP($E66,Lists!$CV$2:$CY$478,COLUMN(),FALSE))","v":""}]
[null,{"$f":"IF($E67=\"\",\"\",VLOOKUP($E67,Lists!$CV$2:$CY$478,COLUMN(),FALSE))","v":""},{"$f":"IF($E67=\"\",\"\",VLOOKUP($E67,Lists!$CV$2:$CY$478,COLUMN(),FALSE))","v":""},{"$f":"IF($E67=\"\",\"\",VLOOKUP($E67,Lists!$CV$2:$CY$478,COLUMN(),FALSE))","v":""}]
[null,{"$f":"IF($E68=\"\",\"\",VLOOKUP($E68,Lists!$CV$2:$CY$478,COLUMN(),FALSE))","v":""},{"$f":"IF($E68=\"\",\"\",VLOOKUP($E68,Lists!$CV$2:$CY$478,COLUMN(),FALSE))","v":""},{"$f":"IF($E68=\"\",\"\",VLOOKUP($E68,Lists!$CV$2:$CY$478,COLUMN(),FALSE))","v":""}]
[null,{"$f":"IF($E69=\"\",\"\",VLOOKUP($E69,Lists!$CV$2:$CY$478,COLUMN(),FALSE))","v":""},{"$f":"IF($E69=\"\",\"\",VLOOKUP($E69,Lists!$CV$2:$CY$478,COLUMN(),FALSE))","v":""},{"$f":"IF($E69=\"\",\"\",VLOOKUP($E69,Lists!$CV$2:$CY$478,COLUMN(),FALSE))","v":""}]
[null,{"$f":"IF($E70=\"\",\"\",VLOOKUP($E70,Lists!$CV$2:$CY$478,COLUMN(),FALSE))","v":""},{"$f":"IF($E70=\"\",\"\",VLOOKUP($E70,Lists!$CV$2:$CY$478,COLUMN(),FALSE))","v":""},{"$f":"IF($E70=\"\",\"\",VLOOKUP($E70,Lists!$CV$2:$CY$478,COLUMN(),FALSE))","v":""}]
[null,{"$f":"IF($E71=\"\",\"\",VLOOKUP($E71,Lists!$CV$2:$CY$478,COLUMN(),FALSE))","v":""},{"$f":"IF($E71=\"\",\"\",VLOOKUP($E71,Lists!$CV$2:$CY$478,COLUMN(),FALSE))","v":""},{"$f":"IF($E71=\"\",\"\",VLOOKUP($E71,Lists!$CV$2:$CY$478,COLUMN(),FALSE))","v":""}]
[null,{"$f":"IF($E72=\"\",\"\",VLOOKUP($E72,Lists!$CV$2:$CY$478,COLUMN(),FALSE))","v":""},{"$f":"IF($E72=\"\",\"\",VLOOKUP($E72,Lists!$CV$2:$CY$478,COLUMN(),FALSE))","v":""},{"$f":"IF($E72=\"\",\"\",VLOOKUP($E72,Lists!$CV$2:$CY$478,COLUMN(),FALSE))","v":""}]
[null,{"$f":"IF($E73=\"\",\"\",VLOOKUP($E73,Lists!$CV$2:$CY$478,COLUMN(),FALSE))","v":""},{"$f":"IF($E73=\"\",\"\",VLOOKUP($E73,Lists!$CV$2:$CY$478,COLUMN(),FALSE))","v":""},{"$f":"IF($E73=\"\",\"\",VLOOKUP($E73,Lists!$CV$2:$CY$478,COLUMN(),FALSE))","v":""}]
[null,{"$f":"IF($E74=\"\",\"\",VLOOKUP($E74,Lists!$CV$2:$CY$478,COLUMN(),FALSE))","v":""},{"$f":"IF($E74=\"\",\"\",VLOOKUP($E74,Lists!$CV$2:$CY$478,COLUMN(),FALSE))","v":""},{"$f":"IF($E74=\"\",\"\",VLOOKUP($E74,Lists!$CV$2:$CY$478,COLUMN(),FALSE))","v":""}]
[null,{"$f":"IF($E75=\"\",\"\",VLOOKUP($E75,Lists!$CV$2:$CY$478,COLUMN(),FALSE))","v":""},{"$f":"IF($E75=\"\",\"\",VLOOKUP($E75,Lists!$CV$2:$CY$478,COLUMN(),FALSE))","v":""},{"$f":"IF($E75=\"\",\"\",VLOOKUP($E75,Lists!$CV$2:$CY$478,COLUMN(),FALSE))","v":""}]
[null,{"$f":"IF($E76=\"\",\"\",VLOOKUP($E76,Lists!$CV$2:$CY$478,COLUMN(),FALSE))","v":""},{"$f":"IF($E76=\"\",\"\",VLOOKUP($E76,Lists!$CV$2:$CY$478,COLUMN(),FALSE))","v":""},{"$f":"IF($E76=\"\",\"\",VLOOKUP($E76,Lists!$CV$2:$CY$478,COLUMN(),FALSE))","v":""}]
[null,{"$f":"IF($E77=\"\",\"\",VLOOKUP($E77,Lists!$CV$2:$CY$478,COLUMN(),FALSE))","v":""},{"$f":"IF($E77=\"\",\"\",VLOOKUP($E77,Lists!$CV$2:$CY$478,COLUMN(),FALSE))","v":""},{"$f":"IF($E77=\"\",\"\",VLOOKUP($E77,Lists!$CV$2:$CY$478,COLUMN(),FALSE))","v":""}]
[null,{"$f":"IF($E78=\"\",\"\",VLOOKUP($E78,Lists!$CV$2:$CY$478,COLUMN(),FALSE))","v":""},{"$f":"IF($E78=\"\",\"\",VLOOKUP($E78,Lists!$CV$2:$CY$478,COLUMN(),FALSE))","v":""},{"$f":"IF($E78=\"\",\"\",VLOOKUP($E78,Lists!$CV$2:$CY$478,COLUMN(),FALSE))","v":""}]
[null,{"$f":"IF($E79=\"\",\"\",VLOOKUP($E79,Lists!$CV$2:$CY$478,COLUMN(),FALSE))","v":""},{"$f":"IF($E79=\"\",\"\",VLOOKUP($E79,Lists!$CV$2:$CY$478,COLUMN(),FALSE))","v":""},{"$f":"IF($E79=\"\",\"\",VLOOKUP($E79,Lists!$CV$2:$CY$478,COLUMN(),FALSE))","v":""}]
[null,{"$f":"IF($E80=\"\",\"\",VLOOKUP($E80,Lists!$CV$2:$CY$478,COLUMN(),FALSE))","v":""},{"$f":"IF($E80=\"\",\"\",VLOOKUP($E80,Lists!$CV$2:$CY$478,COLUMN(),FALSE))","v":""},{"$f":"IF($E80=\"\",\"\",VLOOKUP($E80,Lists!$CV$2:$CY$478,COLUMN(),FALSE))","v":""}]
[null,{"$f":"IF($E81=\"\",\"\",VLOOKUP($E81,Lists!$CV$2:$CY$478,COLUMN(),FALSE))","v":""},{"$f":"IF($E81=\"\",\"\",VLOOKUP($E81,Lists!$CV$2:$CY$478,COLUMN(),FALSE))","v":""},{"$f":"IF($E81=\"\",\"\",VLOOKUP($E81,Lists!$CV$2:$CY$478,COLUMN(),FALSE))","v":""}]
[null,{"$f":"IF($E82=\"\",\"\",VLOOKUP($E82,Lists!$CV$2:$CY$478,COLUMN(),FALSE))","v":""},{"$f":"IF($E82=\"\",\"\",VLOOKUP($E82,Lists!$CV$2:$CY$478,COLUMN(),FALSE))","v":""},{"$f":"IF($E82=\"\",\"\",VLOOKUP($E82,Lists!$CV$2:$CY$478,COLUMN(),FALSE))","v":""}]
[null,{"$f":"IF($E83=\"\",\"\",VLOOKUP($E83,Lists!$CV$2:$CY$478,COLUMN(),FALSE))","v":""},{"$f":"IF($E83=\"\",\"\",VLOOKUP($E83,Lists!$CV$2:$CY$478,COLUMN(),FALSE))","v":""},{"$f":"IF($E83=\"\",\"\",VLOOKUP($E83,Lists!$CV$2:$CY$478,COLUMN(),FALSE))","v":""}]
[null,{"$f":"IF($E84=\"\",\"\",VLOOKUP($E84,Lists!$CV$2:$CY$478,COLUMN(),FALSE))","v":""},{"$f":"IF($E84=\"\",\"\",VLOOKUP($E84,Lists!$CV$2:$CY$478,COLUMN(),FALSE))","v":""},{"$f":"IF($E84=\"\",\"\",VLOOKUP($E84,Lists!$CV$2:$CY$478,COLUMN(),FALSE))","v":""}]
[null,{"$f":"IF($E85=\"\",\"\",VLOOKUP($E85,Lists!$CV$2:$CY$478,COLUMN(),FALSE))","v":""},{"$f":"IF($E85=\"\",\"\",VLOOKUP($E85,Lists!$CV$2:$CY$478,COLUMN(),FALSE))","v":""},{"$f":"IF($E85=\"\",\"\",VLOOKUP($E85,Lists!$CV$2:$CY$478,COLUMN(),FALSE))","v":""}]
[null,{"$f":"IF($E86=\"\",\"\",VLOOKUP($E86,Lists!$CV$2:$CY$478,COLUMN(),FALSE))","v":""},{"$f":"IF($E86=\"\",\"\",VLOOKUP($E86,Lists!$CV$2:$CY$478,COLUMN(),FALSE))","v":""},{"$f":"IF($E86=\"\",\"\",VLOOKUP($E86,Lists!$CV$2:$CY$478,COLUMN(),FALSE))","v":""}]
[null,{"$f":"IF($E87=\"\",\"\",VLOOKUP($E87,Lists!$CV$2:$CY$478,COLUMN(),FALSE))","v":""},{"$f":"IF($E87=\"\",\"\",VLOOKUP($E87,Lists!$CV$2:$CY$478,COLUMN(),FALSE))","v":""},{"$f":"IF($E87=\"\",\"\",VLOOKUP($E87,Lists!$CV$2:$CY$478,COLUMN(),FALSE))","v":""}]
[null,{"$f":"IF($E88=\"\",\"\",VLOOKUP($E88,Lists!$CV$2:$CY$478,COLUMN(),FALSE))","v":""},{"$f":"IF($E88=\"\",\"\",VLOOKUP($E88,Lists!$CV$2:$CY$478,COLUMN(),FALSE))","v":""},{"$f":"IF($E88=\"\",\"\",VLOOKUP($E88,Lists!$CV$2:$CY$478,COLUMN(),FALSE))","v":""}]
[null,{"$f":"IF($E89=\"\",\"\",VLOOKUP($E89,Lists!$CV$2:$CY$478,COLUMN(),FALSE))","v":""},{"$f":"IF($E89=\"\",\"\",VLOOKUP($E89,Lists!$CV$2:$CY$478,COLUMN(),FALSE))","v":""},{"$f":"IF($E89=\"\",\"\",VLOOKUP($E89,Lists!$CV$2:$CY$478,COLUMN(),FALSE))","v":""}]
[null,{"$f":"IF($E90=\"\",\"\",VLOOKUP($E90,Lists!$CV$2:$CY$478,COLUMN(),FALSE))","v":""},{"$f":"IF($E90=\"\",\"\",VLOOKUP($E90,Lists!$CV$2:$CY$478,COLUMN(),FALSE))","v":""},{"$f":"IF($E90=\"\",\"\",VLOOKUP($E90,Lists!$CV$2:$CY$478,COLUMN(),FALSE))","v":""}]
[null,{"$f":"IF($E91=\"\",\"\",VLOOKUP($E91,Lists!$CV$2:$CY$478,COLUMN(),FALSE))","v":""},{"$f":"IF($E91=\"\",\"\",VLOOKUP($E91,Lists!$CV$2:$CY$478,COLUMN(),FALSE))","v":""},{"$f":"IF($E91=\"\",\"\",VLOOKUP($E91,Lists!$CV$2:$CY$478,COLUMN(),FALSE))","v":""}]
[null,{"$f":"IF($E92=\"\",\"\",VLOOKUP($E92,Lists!$CV$2:$CY$478,COLUMN(),FALSE))","v":""},{"$f":"IF($E92=\"\",\"\",VLOOKUP($E92,Lists!$CV$2:$CY$478,COLUMN(),FALSE))","v":""},{"$f":"IF($E92=\"\",\"\",VLOOKUP($E92,Lists!$CV$2:$CY$478,COLUMN(),FALSE))","v":""}]
[null,{"$f":"IF($E93=\"\",\"\",VLOOKUP($E93,Lists!$CV$2:$CY$478,COLUMN(),FALSE))","v":""},{"$f":"IF($E93=\"\",\"\",VLOOKUP($E93,Lists!$CV$2:$CY$478,COLUMN(),FALSE))","v":""},{"$f":"IF($E93=\"\",\"\",VLOOKUP($E93,Lists!$CV$2:$CY$478,COLUMN(),FALSE))","v":""}]
[null,{"$f":"IF($E94=\"\",\"\",VLOOKUP($E94,Lists!$CV$2:$CY$478,COLUMN(),FALSE))","v":""},{"$f":"IF($E94=\"\",\"\",VLOOKUP($E94,Lists!$CV$2:$CY$478,COLUMN(),FALSE))","v":""},{"$f":"IF($E94=\"\",\"\",VLOOKUP($E94,Lists!$CV$2:$CY$478,COLUMN(),FALSE))","v":""}]
[null,{"$f":"IF($E95=\"\",\"\",VLOOKUP($E95,Lists!$CV$2:$CY$478,COLUMN(),FALSE))","v":""},{"$f":"IF($E95=\"\",\"\",VLOOKUP($E95,Lists!$CV$2:$CY$478,COLUMN(),FALSE))","v":""},{"$f":"IF($E95=\"\",\"\",VLOOKUP($E95,Lists!$CV$2:$CY$478,COLUMN(),FALSE))","v":""}]
[null,{"$f":"IF($E96=\"\",\"\",VLOOKUP($E96,Lists!$CV$2:$CY$478,COLUMN(),FALSE))","v":""},{"$f":"IF($E96=\"\",\"\",VLOOKUP($E96,Lists!$CV$2:$CY$478,COLUMN(),FALSE))","v":""},{"$f":"IF($E96=\"\",\"\",VLOOKUP($E96,Lists!$CV$2:$CY$478,COLUMN(),FALSE))","v":""}]
[null,{"$f":"IF($E97=\"\",\"\",VLOOKUP($E97,Lists!$CV$2:$CY$478,COLUMN(),FALSE))","v":""},{"$f":"IF($E97=\"\",\"\",VLOOKUP($E97,Lists!$CV$2:$CY$478,COLUMN(),FALSE))","v":""},{"$f":"IF($E97=\"\",\"\",VLOOKUP($E97,Lists!$CV$2:$CY$478,COLUMN(),FALSE))","v":""}]
[null,{"$f":"IF($E98=\"\",\"\",VLOOKUP($E98,Lists!$CV$2:$CY$478,COLUMN(),FALSE))","v":""},{"$f":"IF($E98=\"\",\"\",VLOOKUP($E98,Lists!$CV$2:$CY$478,COLUMN(),FALSE))","v":""},{"$f":"IF($E98=\"\",\"\",VLOOKUP($E98,Lists!$CV$2:$CY$478,COLUMN(),FALSE))","v":""}]
[null,{"$f":"IF($E99=\"\",\"\",VLOOKUP($E99,Lists!$CV$2:$CY$478,COLUMN(),FALSE))","v":""},{"$f":"IF($E99=\"\",\"\",VLOOKUP($E99,Lists!$CV$2:$CY$478,COLUMN(),FALSE))","v":""},{"$f":"IF($E99=\"\",\"\",VLOOKUP($E99,Lists!$CV$2:$CY$478,COLUMN(),FALSE))","v":""}]
[null,{"$f":"IF($E100=\"\",\"\",VLOOKUP($E100,Lists!$CV$2:$CY$478,COLUMN(),FALSE))","v":""},{"$f":"IF($E100=\"\",\"\",VLOOKUP($E100,Lists!$CV$2:$CY$478,COLUMN(),FALSE))","v":""},{"$f":"IF($E100=\"\",\"\",VLOOKUP($E100,Lists!$CV$2:$CY$478,COLUMN(),FALSE))","v":""}]

{"sheet":"Compliance Rpt - Certification","index":14,"n_rows":33,"n_cols":5,"rows_kept":33,"cut":false,"hidden":false,"merged":[]}
[null,"DO NOT REMOVE OR EDIT INFORMATION IN THIS SECTION\nFOR INTERNAL USE ONLY"]
[null,"Template Name",{"$f":"Welcome!B2","v":"63.6009(k) Notification of Compliance and  §63.6010(g) Semiannual Compliance Report (Spreadsheet Template)"}]
[null,"CitationID",{"$f":"Welcome!B3","v":"63.6009(k) and 63.6010(g)"}]
[null,"Template Version",{"$f":"Welcome!B4","v":"v1.02"}]
[null,"Last Updated Date",{"$f":"Welcome!B5","v":43998}]
[null,{"$f":"Welcome!B6","v":"OMB Control Number: 2060-0449"}]
[null,"40 CFR Part 63, Subpart XXXX National Emission Standards for Hazardous Air Pollutants: Rubber Tire Manufacturing - §63.6010(g) Semiannual Compliance Report Spreadsheet Template"]
[null,"Complete this form when you have completed the semiannual compliance report."]
[]
[null,"63.6010(g) Semiannual Compliance Report"]
[]
[null,"Company Record No. *\n(Autofilled)","There were no deviations from any emission limitations (emission limit or operating limit) during the reporting period. * \n(§63.6010(c)(5))\n(Select from dropdown)","There were no periods during which the operating parameter monitoring systems or CPMS were out-of-control during the reporting period. * \n(§63.6010(c)(6))\n(Select from dropdown)","For each tire production affected source complying with the purchase compliance alternative in §63.5985(a),  I certify that each cement and solvent, as purchased, that was used at the affected source during the reporting period met the HAP constituent limits (Option 1) in Table 1 to this subpart. *\n(§63.6010(c)(8))\n(Select from dropdown)"]
[null,"RecordId","PeriodDeviationFlag","CPMSAddonComplianceFlag","HAPConstituentFlag"]
[null,"e.g.: 1"]
[]
[]
[]
[]
[]
[]
[]
[]
[null,"e.g.: 1","e.g.: No","e.g.: Yes","e.g.: Yes"]
[null,{"$f":"IF(Lists!C2=\"\",\"\",Lists!C2)","v":""}]
[null,{"$f":"IF(Lists!C3=\"\",\"\",Lists!C3)","v":""}]
[null,{"$f":"IF(Lists!C4=\"\",\"\",Lists!C4)","v":""}]
[null,{"$f":"IF(Lists!C5=\"\",\"\",Lists!C5)","v":""}]
[null,{"$f":"IF(Lists!C6=\"\",\"\",Lists!C6)","v":""}]
[null,{"$f":"IF(Lists!C7=\"\",\"\",Lists!C7)","v":""}]
[null,{"$f":"IF(Lists!C8=\"\",\"\",Lists!C8)","v":""}]
[null,{"$f":"IF(Lists!C9=\"\",\"\",Lists!C9)","v":""}]
[null,{"$f":"IF(Lists!C10=\"\",\"\",Lists!C10)","v":""}]
[null,{"$f":"IF(Lists!C11=\"\",\"\",Lists!C11)","v":""}]

{"sheet":"Revisions","index":15,"n_rows":3,"n_cols":3,"rows_kept":3,"cut":false,"hidden":false,"merged":[]}
["Revision Number","Date","Revisions"]
[1,"2020-06-05","Finalized Release Version"]
[1.02,"2020-06-16","Unlocked Column F on NOCS_PunctureSealantApp, Columns F-M on Compliance Rpt - Deviations, and entry cells on Compliance Rpt - Certification tabs"]

{"sheet":"Worksheet Map","index":16,"n_rows":13,"n_cols":5,"rows_kept":13,"cut":false,"hidden":true,"merged":[]}
["Worksheet Name","Parent","JSON Key","Parent Primary Key","Child Foreign Key"]
["Company_Information",null,"records"]
["Compliance_Options","records","ComplianceOptions","RecordId","RecordId"]
["NoticeOfComplianceStatus","records","NoticeOfComplianceStatus","RecordId","RecordId"]
["NOCS_TireProduction","records","NOCSTireProduction","RecordId","RecordId"]
["NOCS_TireCordProd","records","NOCSTireCordProd","RecordId","RecordId"]
["NOCS_PunctureSealantApp","records","NOCSPunctureSealantApp","RecordId","RecordId"]
["NOCS_Certification","records","NOCSCertification","RecordId","RecordId"]
["Compliance Rpt - Tire Prod","records","ComplianceRptTireProd","RecordId","RecordId"]
["Compliance Rpt - Tire Cord","records","ComplianceRptTireCord","RecordId","RecordId"]
["Compliance Rpt - Puncture Seal","records","ComplianceRptPunctureSeal","RecordId","RecordId"]
["Compliance Rpt - Deviations","records","ComplianceRptDeviations","RecordId","RecordId"]
["Compliance Rpt - Certification","records","ComplianceRptCertification","RecordId","RecordId"]