{"text_format":"1","workbook":"xlsx","n_sheets":20,"sheets":["Lists","Welcome","Company_Information","CPMS_Identification","Deviation_Limits","Deviation_Summary_Limits","Deviation_CEM_CPMS","Deviation_Summary_CPMS","Description_of_Changes","Number_of_Deviations","Landfill_Gas_ID","Landfill_Gas_Fuel","Landfill_Gas_Limits","Landfill_Gas_Fuel_Meters","Distillate_Oil","Distillate_Oil_Limits","Distillate_Meters","Certification","Revisions","Worksheet Map"],"not_rendered":{"charts":0,"images":1,"macros":1,"external_links":1,"defined_names":10,"comments":0,"pivot_tables":0},"unopened":[],"bounds":{"document_bytes":16777216,"sheet_cells":100000,"rows_first":2000,"rows_last":500,"rows_between":2000,"halvings":0,"cell_chars":16384,"cell_head_chars":4096},"cells_cut":0,"cells_raw":0,"read":"whole","date_system":"1900"}

{"sheet":"Lists","index":0,"n_rows":955,"n_cols":59,"rows_kept":955,"cut":false,"hidden":true,"merged":[]}
["Num","Unit name","Unitlist",null,"Num","landfill Name","landfilllist",null,"Num","Distillate name","distillate",null,"Units",null,"Num","Company Name","CompanyList",null,"CMSCauseList",null,"Num","CPMS name","CPMS",null,"Emission and Operating Limtis",null,"Rank","CompanyID","Process Name","ID&Name","UniqueID&Name","No Blank ID","No Blank Name",null,"CEM/CPMS","Landfill","Distillate",null,"States",null,"Rank","CompanyID","Process Name","limit","ID&Name","UniqueID&Name","Sorted ID","Sorted Name","Sorted Limit",null,"Rank","CompanyID","Process Name","CEM","ID&Name","UniqueID&Name","Sorted ID","Sorted Name","Sorted Limit"]
[{"$f":"IF(B2=\"\",\"\",MAX(A1:A$1)+1)","v":""},{"$f":"+IF(CPMS_Identification!C24=\"\",\"\",CPMS_Identification!C24)","v":""},{"$f":"+IFERROR(INDEX($B$2:$B$500,MATCH(ROW()-ROW($C$1),$A$2:$A$500,0)),\"\")","v":""},null,{"$f":"IF(F2=\"\",\"\",MAX(E1:E$1)+1)","v":""},{"$f":"IF(Landfill_Gas_ID!C24=\"\",\"\",Landfill_Gas_ID!C24)","v":""},{"$f":"+IFERROR(INDEX($F$2:$F$500,MATCH(ROW()-ROW($G$1),$E$2:$E$500,0)),\"\")","v":""},null,{"$f":"IF(J2=\"\",\"\",MAX(I1:I$1)+1)","v":""},{"$f":"IF(Distillate_Oil!C24=\"\",\"\",Distillate_Oil!C24)","v":""},{"$f":"+IFERROR(INDEX($J$2:$J$500,MATCH(ROW()-ROW($K$1),$I$2:$I$500,0)),\"\")","v":""},null,"cubic foot/hour",null,{"$f":"IF(P2=\"\",\"\",MAX(O1:O$1)+1)","v":""},{"$f":"IF(Company_Information!B24=\"\",\"\",Company_Information!B24)","v":""},{"$f":"+IFERROR(INDEX($P$2:$P$11,MATCH(ROW()-ROW($Q$1),$O$2:$O$11,0)),\"\")","v":""},null,"Monitoring Equipment Malfunctions",null,{"$f":"IF(V2=\"\",\"\",MAX(U1:U$1)+1)","v":""},{"$f":"IF(CPMS_Identification!D24=\"\",\"\",CPMS_Identification!D24)","v":""},{"$f":"+IFERROR(INDEX($V$2:$V$500,MATCH(ROW()-ROW($W$1),$U$2:$U$500,0)),\"\")","v":""},null,"91 ppmvd Formaldehyde at 15% Oxygen",null,{"$f":"+IF(AE2=\"\",\"\",MAX(AA1:AA$1)+1)","v":""},{"$f":"IF(Deviation_Limits!B24=\"\",\"\",Deviation_Limits!B24)","v":""},{"$f":"IF(Deviation_Limits!C24=\"\",\"\",Deviation_Limits!C24)","v":""},{"$f":"+AB2&AC2","v":""},{"$f":"IF(COUNTIF(AC$2:AC2,AC2)=1,AC2,\"\")","v":""},{"$f":"+IFERROR(INDEX(AB$2:AB$500,MATCH(ROW()-ROW($AF$1),$AA$2:$AA$500,0)),\"\")","v":""},{"$f":"+IFERROR(INDEX(AC$2:AC$500,MATCH(ROW()-ROW($AF$1),$AA$2:$AA$500,0)),\"\")","v":""},null,{"$f":"IF(COUNTIF(Company_Information!W24:W33,\"Yes\")>0,\"Yes\",\"No\")","v":"Yes"},{"$f":"IF(COUNTIF(Company_Information!X24:X33,\"Yes\")>0,\"Yes\",\"No\")","v":"No"},{"$f":"IF(COUNTIF(Company_Information!Y24:Y33,\"Yes\")>0,\"Yes\",\"No\")","v":"No"},null,"AK",null,{"$f":"+IF(AT2=\"\",\"\",MAX(AO1:AO$1)+1)","v":""},{"$f":"IF(Deviation_Limits!B24=\"\",\"\",Deviation_Limits!B24)","v":""},{"$f":"IF(Deviation_Limits!C24=\"\",\"\",Deviation_Limits!C24)","v":""},{"$f":"IF(Deviation_Limits!D24=\"\",\"\",Deviation_Limits!D24)","v":""},{"$f":"+AP2&AQ2&AR2","v":""},{"$f":"IF(COUNTIF(AQ$2:AQ2,AQ2)=1,AQ2,\"\")","v":""},{"$f":"+IFERROR(INDEX(AP$2:AP$500,MATCH(ROW()-ROW(AU$1),$AA$2:$AA$500,0)),\"\")","v":""},{"$f":"+IFERROR(INDEX(AQ$2:AQ$500,MATCH(ROW()-ROW(AU$1),$AA$2:$AA$500,0)),\"\")","v":""},{"$f":"+IFERROR(INDEX(AR$2:AR$500,MATCH(ROW()-ROW(AU$1),$AA$2:$AA$500,0)),\"\")","v":""},null,{"$f":"+IF(BD2=\"\",\"\",MAX(AY1:AY$1)+1)","v":""},{"$f":"IF(Deviation_CEM_CPMS!B24=\"\",\"\",Deviation_CEM_CPMS!B24)","v":""},{"$f":"IF(Deviation_CEM_CPMS!C24=\"\",\"\",Deviation_CEM_CPMS!C24)","v":""},{"$f":"IF(Deviation_CEM_CPMS!D24=\"\",\"\",Deviation_CEM_CPMS!D24)","v":""},{"$f":"+AZ2&BA2&BB2","v":""},{"$f":"IF(COUNTIF(BA$2:BA2,BA2)=1,BA2,\"\")","v":""},{"$f":"+IFERROR(INDEX(AZ$2:AZ$500,MATCH(ROW()-ROW(BE$1),$AA$2:$AA$500,0)),\"\")","v":""},{"$f":"+IFERROR(INDEX(BA$2:BA$500,MATCH(ROW()-ROW(BE$1),$AA$2:$AA$500,0)),\"\")","v":""},{"$f":"+IFERROR(INDEX(BB$2:BB$500,MATCH(ROW()-ROW(BE$1),$AA$2:$AA$500,0)),\"\")","v":""}]
[{"$f":"IF(B3=\"\",\"\",MAX(A$1:A2)+1)","v":""},{"$f":"+IF(CPMS_Identification!C25=\"\",\"\",CPMS_Identification!C25)","v":""},"",null,{"$f":"IF(F3=\"\",\"\",MAX(E$1:E2)+1)","v":""},{"$f":"IF(Landfill_Gas_ID!C25=\"\",\"\",Landfill_Gas_ID!C25)","v":""},"",null,{"$f":"IF(J3=\"\",\"\",MAX(I$1:I2)+1)","v":""},{"$f":"IF(Distillate_Oil!C25=\"\",\"\",Distillate_Oil!C25)","v":""},"",null,"cubic foot/minute",null,{"$f":"IF(P3=\"\",\"\",MAX(O$1:O2)+1)","v":""},{"$f":"IF(Company_Information!B25=\"\",\"\",Company_Information!B25)","v":""},"",null,"Nonmonitoring Equipment Malfunctions",null,{"$f":"IF(V3=\"\",\"\",MAX(U$1:U2)+1)","v":""},{"$f":"IF(CPMS_Identification!D25=\"\",\"\",CPMS_Identification!D25)","v":""},{"$f":"+IFERROR(INDEX($V$2:$V$500,MATCH(ROW()-ROW($W$1),$U$2:$U$500,0)),\"\")","v":""},null,"Turbine Startup Time at Idle/Holding at Low Load",null,{"$f":"+IF(AE3=\"\",\"\",MAX(AA$1:AA2)+1)","v":""},{"$f":"IF(Deviation_Limits!B25=\"\",\"\",Deviation_Limits!B25)","v":""},{"$f":"IF(Deviation_Limits!C25=\"\",\"\",Deviation_Limits!C25)","v":""},{"$f":"+AB3&AC3","v":""},{"$f":"IF(COUNTIF(AC$2:AC3,AC3)=1,AC3,\"\")","v":""},{"$f":"+IFERROR(INDEX(AB$2:AB$500,MATCH(ROW()-ROW($AF$1),$AA$2:$AA$500,0)),\"\")","v":""},{"$f":"+IFERROR(INDEX(AC$2:AC$500,MATCH(ROW()-ROW($AF$1),$AA$2:$AA$500,0)),\"\")","v":""},null,null,null,null,null,"AL",null,{"$f":"+IF(AT3=\"\",\"\",MAX(AO$1:AO2)+1)","v":""},{"$f":"IF(Deviation_Limits!B25=\"\",\"\",Deviation_Limits!B25)","v":""},{"$f":"IF(Deviation_Limits!C25=\"\",\"\",Deviation_Limits!C25)","v":""},{"$f":"IF(Deviation_Limits!D25=\"\",\"\",Deviation_Limits!D25)","v":""},{"$f":"+AP3&AQ3&C3","v":""},{"$f":"IF(COUNTIF(AQ$2:AQ3,AQ3)=1,AQ3,\"\")","v":""},{"$f":"+IFERROR(INDEX(AP$2:AP$500,MATCH(ROW()-ROW(AU$1),$AA$2:$AA$500,0)),\"\")","v":""},{"$f":"+IFERROR(INDEX(AQ$2:AQ$500,MATCH(ROW()-ROW(AU$1),$AA$2:$AA$500,0)),\"\")","v":""},{"$f":"+IFERROR(INDEX(AR$2:AR$500,MATCH(ROW()-ROW(AU$1),$AA$2:$AA$500,0)),\"\")","v":""},null,{"$f":"+IF(BD3=\"\",\"\",MAX(AY$1:AY2)+1)","v":""},{"$f":"IF(Deviation_CEM_CPMS!B25=\"\",\"\",Deviation_CEM_CPMS!B25)","v":""},{"$f":"IF(Deviation_CEM_CPMS!C25=\"\",\"\",Deviation_CEM_CPMS!C25)","v":""},{"$f":"IF(Deviation_CEM_CPMS!D25=\"\",\"\",Deviation_CEM_CPMS!D25)","v":""},"",{"$f":"IF(COUNTIF(BA$2:BA3,BA3)=1,BA3,\"\")","v":""},"","",""]
[{"$f":"IF(B4=\"\",\"\",MAX(A$1:A3)+1)","v":""},{"$f":"+IF(CPMS_Identification!C26=\"\",\"\",CPMS_Identification!C26)","v":""},"",null,{"$f":"IF(F4=\"\",\"\",MAX(E$1:E3)+1)","v":""},{"$f":"IF(Landfill_Gas_ID!C26=\"\",\"\",Landfill_Gas_ID!C26)","v":""},"",null,{"$f":"IF(J4=\"\",\"\",MAX(I$1:I3)+1)","v":""},{"$f":"IF(Distillate_Oil!C26=\"\",\"\",Distillate_Oil!C26)","v":""},"",null,"cubic meter/hour",null,{"$f":"IF(P4=\"\",\"\",MAX(O$1:O3)+1)","v":""},{"$f":"IF(Company_Information!B26=\"\",\"\",Company_Information!B26)","v":""},"",null,"Quality Assurance/Quality Control Calibrations",null,{"$f":"IF(V4=\"\",\"\",MAX(U$1:U3)+1)","v":""},{"$f":"IF(CPMS_Identification!D26=\"\",\"\",CPMS_Identification!D26)","v":""},"",null,"Catalyst Inlet Temperature",null,{"$f":"+IF(AE4=\"\",\"\",MAX(AA$1:AA3)+1)","v":""},{"$f":"IF(Deviation_Limits!B26=\"\",\"\",Deviation_Limits!B26)","v":""},{"$f":"IF(Deviation_Limits!C26=\"\",\"\",Deviation_Limits!C26)","v":""},"",{"$f":"IF(COUNTIF(AC$2:AC4,AC4)=1,AC4,\"\")","v":""},"","",null,null,null,null,null,"AR",null,{"$f":"+IF(AT4=\"\",\"\",MAX(AO$1:AO3)+1)","v":""},{"$f":"IF(Deviation_Limits!B26=\"\",\"\",Deviation_Limits!B26)","v":""},{"$f":"IF(Deviation_Limits!C26=\"\",\"\",Deviation_Limits!C26)","v":""},{"$f":"IF(Deviation_Limits!D26=\"\",\"\",Deviation_Limits!D26)","v":""},"",{"$f":"IF(COUNTIF(AQ$2:AQ4,AQ4)=1,AQ4,\"\")","v":""},"","","",null,{"$f":"+IF(BD4=\"\",\"\",MAX(AY$1:AY3)+1)","v":""},{"$f":"IF(Deviation_CEM_CPMS!B26=\"\",\"\",Deviation_CEM_CPMS!B26)","v":""},{"$f":"IF(Deviation_CEM_CPMS!C26=\"\",\"\",Deviation_CEM_CPMS!C26)","v":""},{"$f":"IF(Deviation_CEM_CPMS!D26=\"\",\"\",Deviation_CEM_CPMS!D26)","v":""},"",{"$f":"IF(COUNTIF(BA$2:BA4,BA4)=1,BA4,\"\")","v":""},"","",""]
[{"$f":"IF(B5=\"\",\"\",MAX(A$1:A4)+1)","v":""},{"$f":"+IF(CPMS_Identification!C27=\"\",\"\",CPMS_Identification!C27)","v":""},"",null,{"$f":"IF(F5=\"\",\"\",MAX(E$1:E4)+1)","v":""},{"$f":"IF(Landfill_Gas_ID!C27=\"\",\"\",Landfill_Gas_ID!C27)","v":""},"",null,{"$f":"IF(J5=\"\",\"\",MAX(I$1:I4)+1)","v":""},{"$f":"IF(Distillate_Oil!C27=\"\",\"\",Distillate_Oil!C27)","v":""},"",null,"cubic meter/minute",null,{"$f":"IF(P5=\"\",\"\",MAX(O$1:O4)+1)","v":""},{"$f":"IF(Company_Information!B27=\"\",\"\",Company_Information!B27)","v":""},"",null,"Other Known Causes",null,{"$f":"IF(V5=\"\",\"\",MAX(U$1:U4)+1)","v":""},{"$f":"IF(CPMS_Identification!D27=\"\",\"\",CPMS_Identification!D27)","v":""},"",null,"Other Administrator Approved Operating Limitation",null,{"$f":"+IF(AE5=\"\",\"\",MAX(AA$1:AA4)+1)","v":""},{"$f":"IF(Deviation_Limits!B27=\"\",\"\",Deviation_Limits!B27)","v":""},{"$f":"IF(Deviation_Limits!C27=\"\",\"\",Deviation_Limits!C27)","v":""},"",{"$f":"IF(COUNTIF(AC$2:AC5,AC5)=1,AC5,\"\")","v":""},"","",null,null,null,null,null,"AS",null,{"$f":"+IF(AT5=\"\",\"\",MAX(AO$1:AO4)+1)","v":""},{"$f":"IF(Deviation_Limits!B27=\"\",\"\",Deviation_Limits!B27)","v":""},{"$f":"IF(Deviation_Limits!C27=\"\",\"\",Deviation_Limits!C27)","v":""},{"$f":"IF(Deviation_Limits!D27=\"\",\"\",Deviation_Limits!D27)","v":""},"",{"$f":"IF(COUNTIF(AQ$2:AQ5,AQ5)=1,AQ5,\"\")","v":""},"","","",null,{"$f":"+IF(BD5=\"\",\"\",MAX(AY$1:AY4)+1)","v":""},{"$f":"IF(Deviation_CEM_CPMS!B27=\"\",\"\",Deviation_CEM_CPMS!B27)","v":""},{"$f":"IF(Deviation_CEM_CPMS!C27=\"\",\"\",Deviation_CEM_CPMS!C27)","v":""},{"$f":"IF(Deviation_CEM_CPMS!D27=\"\",\"\",Deviation_CEM_CPMS!D27)","v":""},"",{"$f":"IF(COUNTIF(BA$2:BA5,BA5)=1,BA5,\"\")","v":""},"","",""]
[{"$f":"IF(B6=\"\",\"\",MAX(A$1:A5)+1)","v":""},{"$f":"+IF(CPMS_Identification!C28=\"\",\"\",CPMS_Identification!C28)","v":""},"",null,{"$f":"IF(F6=\"\",\"\",MAX(E$1:E5)+1)","v":""},{"$f":"IF(Landfill_Gas_ID!C28=\"\",\"\",Landfill_Gas_ID!C28)","v":""},"",null,{"$f":"IF(J6=\"\",\"\",MAX(I$1:I5)+1)","v":""},{"$f":"IF(Distillate_Oil!C28=\"\",\"\",Distillate_Oil!C28)","v":""},"",null,"pound/hour",null,{"$f":"IF(P6=\"\",\"\",MAX(O$1:O5)+1)","v":""},{"$f":"IF(Company_Information!B28=\"\",\"\",Company_Information!B28)","v":""},"",null,"Other Unknown Causes",null,{"$f":"IF(V6=\"\",\"\",MAX(U$1:U5)+1)","v":""},{"$f":"IF(CPMS_Identification!D28=\"\",\"\",CPMS_Identification!D28)","v":""},"",null,null,null,{"$f":"+IF(AE6=\"\",\"\",MAX(AA$1:AA5)+1)","v":""},{"$f":"IF(Deviation_Limits!B28=\"\",\"\",Deviation_Limits!B28)","v":""},{"$f":"IF(Deviation_Limits!C28=\"\",\"\",Deviation_Limits!C28)","v":""},"",{"$f":"IF(COUNTIF(AC$2:AC6,AC6)=1,AC6,\"\")","v":""},"","",null,null,null,null,null,"AZ",null,{"$f":"+IF(AT6=\"\",\"\",MAX(AO$1:AO5)+1)","v":""},{"$f":"IF(Deviation_Limits!B28=\"\",\"\",Deviation_Limits!B28)","v":""},{"$f":"IF(Deviation_Limits!C28=\"\",\"\",Deviation_Limits!C28)","v":""},{"$f":"IF(Deviation_Limits!D28=\"\",\"\",Deviation_Limits!D28)","v":""},"",{"$f":"IF(COUNTIF(AQ$2:AQ6,AQ6)=1,AQ6,\"\")","v":""},"","","",null,{"$f":"+IF(BD6=\"\",\"\",MAX(AY$1:AY5)+1)","v":""},{"$f":"IF(Deviation_CEM_CPMS!B28=\"\",\"\",Deviation_CEM_CPMS!B28)","v":""},{"$f":"IF(Deviation_CEM_CPMS!C28=\"\",\"\",Deviation_CEM_CPMS!C28)","v":""},{"$f":"IF(Deviation_CEM_CPMS!D28=\"\",\"\",Deviation_CEM_CPMS!D28)","v":""},"",{"$f":"IF(COUNTIF(BA$2:BA6,BA6)=1,BA6,\"\")","v":""},"","",""]
[{"$f":"IF(B7=\"\",\"\",MAX(A$1:A6)+1)","v":""},{"$f":"+IF(CPMS_Identification!C29=\"\",\"\",CPMS_Identification!C29)","v":""},"",null,{"$f":"IF(F7=\"\",\"\",MAX(E$1:E6)+1)","v":""},{"$f":"IF(Landfill_Gas_ID!C29=\"\",\"\",Landfill_Gas_ID!C29)","v":""},"",null,{"$f":"IF(J7=\"\",\"\",MAX(I$1:I6)+1)","v":""},{"$f":"IF(Distillate_Oil!C29=\"\",\"\",Distillate_Oil!C29)","v":""},"",null,"pound/minute",null,{"$f":"IF(P7=\"\",\"\",MAX(O$1:O6)+1)","v":""},{"$f":"IF(Company_Information!B29=\"\",\"\",Company_Information!B29)","v":""},"",null,null,null,{"$f":"IF(V7=\"\",\"\",MAX(U$1:U6)+1)","v":""},{"$f":"IF(CPMS_Identification!D29=\"\",\"\",CPMS_Identification!D29)","v":""},"",null,null,null,{"$f":"+IF(AE7=\"\",\"\",MAX(AA$1:AA6)+1)","v":""},{"$f":"IF(Deviation_Limits!B29=\"\",\"\",Deviation_Limits!B29)","v":""},{"$f":"IF(Deviation_Limits!C29=\"\",\"\",Deviation_Limits!C29)","v":""},"",{"$f":"IF(COUNTIF(AC$2:AC7,AC7)=1,AC7,\"\")","v":""},"","",null,null,null,null,null,"CA",null,{"$f":"+IF(AT7=\"\",\"\",MAX(AO$1:AO6)+1)","v":""},{"$f":"IF(Deviation_Limits!B29=\"\",\"\",Deviation_Limits!B29)","v":""},{"$f":"IF(Deviation_Limits!C29=\"\",\"\",Deviation_Limits!C29)","v":""},{"$f":"IF(Deviation_Limits!D29=\"\",\"\",Deviation_Limits!D29)","v":""},"",{"$f":"IF(COUNTIF(AQ$2:AQ7,AQ7)=1,AQ7,\"\")","v":""},"","","",null,{"$f":"+IF(BD7=\"\",\"\",MAX(AY$1:AY6)+1)","v":""},{"$f":"IF(Deviation_CEM_CPMS!B29=\"\",\"\",Deviation_CEM_CPMS!B29)","v":""},{"$f":"IF(Deviation_CEM_CPMS!C29=\"\",\"\",Deviation_CEM_CPMS!C29)","v":""},{"$f":"IF(Deviation_CEM_CPMS!D29=\"\",\"\",Deviation_CEM_CPMS!D29)","v":""},"",{"$f":"IF(COUNTIF(BA$2:BA7,BA7)=1,BA7,\"\")","v":""},"","",""]
[{"$f":"IF(B8=\"\",\"\",MAX(A$1:A7)+1)","v":""},{"$f":"+IF(CPMS_Identification!C30=\"\",\"\",CPMS_Identification!C30)","v":""},"",null,{"$f":"IF(F8=\"\",\"\",MAX(E$1:E7)+1)","v":""},{"$f":"IF(Landfill_Gas_ID!C30=\"\",\"\",Landfill_Gas_ID!C30)","v":""},"",null,{"$f":"IF(J8=\"\",\"\",MAX(I$1:I7)+1)","v":""},{"$f":"IF(Distillate_Oil!C30=\"\",\"\",Distillate_Oil!C30)","v":""},"",null,"kilogram/hour",null,{"$f":"IF(P8=\"\",\"\",MAX(O$1:O7)+1)","v":""},{"$f":"IF(Company_Information!B30=\"\",\"\",Company_Information!B30)","v":""},"",null,null,null,{"$f":"IF(V8=\"\",\"\",MAX(U$1:U7)+1)","v":""},{"$f":"IF(CPMS_Identification!D30=\"\",\"\",CPMS_Identification!D30)","v":""},"",null,null,null,{"$f":"+IF(AE8=\"\",\"\",MAX(AA$1:AA7)+1)","v":""},{"$f":"IF(Deviation_Limits!B30=\"\",\"\",Deviation_Limits!B30)","v":""},{"$f":"IF(Deviation_Limits!C30=\"\",\"\",Deviation_Limits!C30)","v":""},"",{"$f":"IF(COUNTIF(AC$2:AC8,AC8)=1,AC8,\"\")","v":""},"","",null,null,null,null,null,"CO",null,{"$f":"+IF(AT8=\"\",\"\",MAX(AO$1:AO7)+1)","v":""},{"$f":"IF(Deviation_Limits!B30=\"\",\"\",Deviation_Limits!B30)","v":""},{"$f":"IF(Deviation_Limits!C30=\"\",\"\",Deviation_Limits!C30)","v":""},{"$f":"IF(Deviation_Limits!D30=\"\",\"\",Deviation_Limits!D30)","v":""},"",{"$f":"IF(COUNTIF(AQ$2:AQ8,AQ8)=1,AQ8,\"\")","v":""},"","","",null,{"$f":"+IF(BD8=\"\",\"\",MAX(AY$1:AY7)+1)","v":""},{"$f":"IF(Deviation_CEM_CPMS!B30=\"\",\"\",Deviation_CEM_CPMS!B30)","v":""},{"$f":"IF(Deviation_CEM_CPMS!C30=\"\",\"\",Deviation_CEM_CPMS!C30)","v":""},{"$f":"IF(Deviation_CEM_CPMS!D30=\"\",\"\",Deviation_CEM_CPMS!D30)","v":""},"",{"$f":"IF(COUNTIF(BA$2:BA8,BA8)=1,BA8,\"\")","v":""},"","",""]
[{"$f":"IF(B9=\"\",\"\",MAX(A$1:A8)+1)","v":""},{"$f":"+IF(CPMS_Identification!C31=\"\",\"\",CPMS_Identification!C31)","v":""},"",null,{"$f":"IF(F9=\"\",\"\",MAX(E$1:E8)+1)","v":""},{"$f":"IF(Landfill_Gas_ID!C31=\"\",\"\",Landfill_Gas_ID!C31)","v":""},"",null,{"$f":"IF(J9=\"\",\"\",MAX(I$1:I8)+1)","v":""},{"$f":"IF(Distillate_Oil!C31=\"\",\"\",Distillate_Oil!C31)","v":""},"",null,"kilogram/minute",null,{"$f":"IF(P9=\"\",\"\",MAX(O$1:O8)+1)","v":""},{"$f":"IF(Company_Information!B31=\"\",\"\",Company_Information!B31)","v":""},"",null,null,null,{"$f":"IF(V9=\"\",\"\",MAX(U$1:U8)+1)","v":""},{"$f":"IF(CPMS_Identification!D31=\"\",\"\",CPMS_Identification!D31)","v":""},"",null,null,null,{"$f":"+IF(AE9=\"\",\"\",MAX(AA$1:AA8)+1)","v":""},{"$f":"IF(Deviation_Limits!B31=\"\",\"\",Deviation_Limits!B31)","v":""},{"$f":"IF(Deviation_Limits!C31=\"\",\"\",Deviation_Limits!C31)","v":""},"",{"$f":"IF(COUNTIF(AC$2:AC9,AC9)=1,AC9,\"\")","v":""},"","",null,null,null,null,null,"CT",null,{"$f":"+IF(AT9=\"\",\"\",MAX(AO$1:AO8)+1)","v":""},{"$f":"IF(Deviation_Limits!B31=\"\",\"\",Deviation_Limits!B31)","v":""},{"$f":"IF(Deviation_Limits!C31=\"\",\"\",Deviation_Limits!C31)","v":""},{"$f":"IF(Deviation_Limits!D31=\"\",\"\",Deviation_Limits!D31)","v":""},"",{"$f":"IF(COUNTIF(AQ$2:AQ9,AQ9)=1,AQ9,\"\")","v":""},"","","",null,{"$f":"+IF(BD9=\"\",\"\",MAX(AY$1:AY8)+1)","v":""},{"$f":"IF(Deviation_CEM_CPMS!B31=\"\",\"\",Deviation_CEM_CPMS!B31)","v":""},{"$f":"IF(Deviation_CEM_CPMS!C31=\"\",\"\",Deviation_CEM_CPMS!C31)","v":""},{"$f":"IF(Deviation_CEM_CPMS!D31=\"\",\"\",Deviation_CEM_CPMS!D31)","v":""},"",{"$f":"IF(COUNTIF(BA$2:BA9,BA9)=1,BA9,\"\")","v":""},"","",""]
[{"$f":"IF(B10=\"\",\"\",MAX(A$1:A9)+1)","v":""},{"$f":"+IF(CPMS_Identification!C32=\"\",\"\",CPMS_Identification!C32)","v":""},"",null,{"$f":"IF(F10=\"\",\"\",MAX(E$1:E9)+1)","v":""},{"$f":"IF(Landfill_Gas_ID!C32=\"\",\"\",Landfill_Gas_ID!C32)","v":""},"",null,{"$f":"IF(J10=\"\",\"\",MAX(I$1:I9)+1)","v":""},{"$f":"IF(Distillate_Oil!C32=\"\",\"\",Distillate_Oil!C32)","v":""},"",null,null,null,{"$f":"IF(P10=\"\",\"\",MAX(O$1:O9)+1)","v":""},{"$f":"IF(Company_Information!B32=\"\",\"\",Company_Information!B32)","v":""},"",null,null,null,{"$f":"IF(V10=\"\",\"\",MAX(U$1:U9)+1)","v":""},{"$f":"IF(CPMS_Identification!D32=\"\",\"\",CPMS_Identification!D32)","v":""},"",null,null,null,{"$f":"+IF(AE10=\"\",\"\",MAX(AA$1:AA9)+1)","v":""},{"$f":"IF(Deviation_Limits!B32=\"\",\"\",Deviation_Limits!B32)","v":""},{"$f":"IF(Deviation_Limits!C32=\"\",\"\",Deviation_Limits!C32)","v":""},"",{"$f":"IF(COUNTIF(AC$2:AC10,AC10)=1,AC10,\"\")","v":""},"","",null,null,null,null,null,"DC",null,{"$f":"+IF(AT10=\"\",\"\",MAX(AO$1:AO9)+1)","v":""},{"$f":"IF(Deviation_Limits!B32=\"\",\"\",Deviation_Limits!B32)","v":""},{"$f":"IF(Deviation_Limits!C32=\"\",\"\",Deviation_Limits!C32)","v":""},{"$f":"IF(Deviation_Limits!D32=\"\",\"\",Deviation_Limits!D32)","v":""},"",{"$f":"IF(COUNTIF(AQ$2:AQ10,AQ10)=1,AQ10,\"\")","v":""},"","","",null,{"$f":"+IF(BD10=\"\",\"\",MAX(AY$1:AY9)+1)","v":""},{"$f":"IF(Deviation_CEM_CPMS!B32=\"\",\"\",Deviation_CEM_CPMS!B32)","v":""},{"$f":"IF(Deviation_CEM_CPMS!C32=\"\",\"\",Deviation_CEM_CPMS!C32)","v":""},{"$f":"IF(Deviation_CEM_CPMS!D32=\"\",\"\",Deviation_CEM_CPMS!D32)","v":""},"",{"$f":"IF(COUNTIF(BA$2:BA10,BA10)=1,BA10,\"\")","v":""},"","",""]
[{"$f":"IF(B11=\"\",\"\",MAX(A$1:A10)+1)","v":""},{"$f":"+IF(CPMS_Identification!C33=\"\",\"\",CPMS_Identification!C33)","v":""},"",null,{"$f":"IF(F11=\"\",\"\",MAX(E$1:E10)+1)","v":""},{"$f":"IF(Landfill_Gas_ID!C33=\"\",\"\",Landfill_Gas_ID!C33)","v":""},"",null,{"$f":"IF(J11=\"\",\"\",MAX(I$1:I10)+1)","v":""},{"$f":"IF(Distillate_Oil!C33=\"\",\"\",Distillate_Oil!C33)","v":""},"",null,null,null,{"$f":"IF(P11=\"\",\"\",MAX(O$1:O10)+1)","v":""},{"$f":"IF(Company_Information!B33=\"\",\"\",Company_Information!B33)","v":""},"",null,null,null,{"$f":"IF(V11=\"\",\"\",MAX(U$1:U10)+1)","v":""},{"$f":"IF(CPMS_Identification!D33=\"\",\"\",CPMS_Identification!D33)","v":""},"",null,null,null,{"$f":"+IF(AE11=\"\",\"\",MAX(AA$1:AA10)+1)","v":""},{"$f":"IF(Deviation_Limits!B33=\"\",\"\",Deviation_Limits!B33)","v":""},{"$f":"IF(Deviation_Limits!C33=\"\",\"\",Deviation_Limits!C33)","v":""},"",{"$f":"IF(COUNTIF(AC$2:AC11,AC11)=1,AC11,\"\")","v":""},"","",null,null,null,null,null,"DE",null,{"$f":"+IF(AT11=\"\",\"\",MAX(AO$1:AO10)+1)","v":""},{"$f":"IF(Deviation_Limits!B33=\"\",\"\",Deviation_Limits!B33)","v":""},{"$f":"IF(Deviation_Limits!C33=\"\",\"\",Deviation_Limits!C33)","v":""},{"$f":"IF(Deviation_Limits!D33=\"\",\"\",Deviation_Limits!D33)","v":""},"",{"$f":"IF(COUNTIF(AQ$2:AQ11,AQ11)=1,AQ11,\"\")","v":""},"","","",null,{"$f":"+IF(BD11=\"\",\"\",MAX(AY$1:AY10)+1)","v":""},{"$f":"IF(Deviation_CEM_CPMS!B33=\"\",\"\",Deviation_CEM_CPMS!B33)","v":""},{"$f":"IF(Deviation_CEM_CPMS!C33=\"\",\"\",Deviation_CEM_CPMS!C33)","v":""},{"$f":"IF(Deviation_CEM_CPMS!D33=\"\",\"\",Deviation_CEM_CPMS!D33)","v":""},"",{"$f":"IF(COUNTIF(BA$2:BA11,BA11)=1,BA11,\"\")","v":""},"","",""]
[{"$f":"IF(B12=\"\",\"\",MAX(A$1:A11)+1)","v":""},{"$f":"+IF(CPMS_Identification!C34=\"\",\"\",CPMS_Identification!C34)","v":""},"",null,{"$f":"IF(F12=\"\",\"\",MAX(E$1:E11)+1)","v":""},{"$f":"IF(Landfill_Gas_ID!C34=\"\",\"\",Landfill_Gas_ID!C34)","v":""},"",null,{"$f":"IF(J12=\"\",\"\",MAX(I$1:I11)+1)","v":""},{"$f":"IF(Distillate_Oil!C34=\"\",\"\",Distillate_Oil!C34)","v":""},"",null,null,null,null,null,null,null,null,null,{"$f":"IF(V12=\"\",\"\",MAX(U$1:U11)+1)","v":""},{"$f":"IF(CPMS_Identification!D34=\"\",\"\",CPMS_Identification!D34)","v":""},"",null,null,null,{"$f":"+IF(AE12=\"\",\"\",MAX(AA$1:AA11)+1)","v":""},{"$f":"IF(Deviation_Limits!B34=\"\",\"\",Deviation_Limits!B34)","v":""},{"$f":"IF(Deviation_Limits!C34=\"\",\"\",Deviation_Limits!C34)","v":""},"",{"$f":"IF(COUNTIF(AC$2:AC12,AC12)=1,AC12,\"\")","v":""},"","",null,null,null,null,null,"FL",null,{"$f":"+IF(AT12=\"\",\"\",MAX(AO$1:AO11)+1)","v":""},{"$f":"IF(Deviation_Limits!B34=\"\",\"\",Deviation_Limits!B34)","v":""},{"$f":"IF(Deviation_Limits!C34=\"\",\"\",Deviation_Limits!C34)","v":""},{"$f":"IF(Deviation_Limits!D34=\"\",\"\",Deviation_Limits!D34)","v":""},"",{"$f":"IF(COUNTIF(AQ$2:AQ12,AQ12)=1,AQ12,\"\")","v":""},"","","",null,{"$f":"+IF(BD12=\"\",\"\",MAX(AY$1:AY11)+1)","v":""},{"$f":"IF(Deviation_CEM_CPMS!B34=\"\",\"\",Deviation_CEM_CPMS!B34)","v":""},{"$f":"IF(Deviation_CEM_CPMS!C34=\"\",\"\",Deviation_CEM_CPMS!C34)","v":""},{"$f":"IF(Deviation_CEM_CPMS!D34=\"\",\"\",Deviation_CEM_CPMS!D34)","v":""},"",{"$f":"IF(COUNTIF(BA$2:BA12,BA12)=1,BA12,\"\")","v":""},"","",""]
[{"$f":"IF(B13=\"\",\"\",MAX(A$1:A12)+1)","v":""},{"$f":"+IF(CPMS_Identification!C35=\"\",\"\",CPMS_Identification!C35)","v":""},"",null,{"$f":"IF(F13=\"\",\"\",MAX(E$1:E12)+1)","v":""},{"$f":"IF(Landfill_Gas_ID!C35=\"\",\"\",Landfill_Gas_ID!C35)","v":""},"",null,{"$f":"IF(J13=\"\",\"\",MAX(I$1:I12)+1)","v":""},{"$f":"IF(Distillate_Oil!C35=\"\",\"\",Distillate_Oil!C35)","v":""},"",null,null,null,null,null,null,null,null,null,{"$f":"IF(V13=\"\",\"\",MAX(U$1:U12)+1)","v":""},{"$f":"IF(CPMS_Identification!D35=\"\",\"\",CPMS_Identification!D35)","v":""},"",null,null,null,{"$f":"+IF(AE13=\"\",\"\",MAX(AA$1:AA12)+1)","v":""},{"$f":"IF(Deviation_Limits!B35=\"\",\"\",Deviation_Limits!B35)","v":""},{"$f":"IF(Deviation_Limits!C35=\"\",\"\",Deviation_Limits!C35)","v":""},"",{"$f":"IF(COUNTIF(AC$2:AC13,AC13)=1,AC13,\"\")","v":""},"","",null,null,null,null,null,"GA",null,{"$f":"+IF(AT13=\"\",\"\",MAX(AO$1:AO12)+1)","v":""},{"$f":"IF(Deviation_Limits!B35=\"\",\"\",Deviation_Limits!B35)","v":""},{"$f":"IF(Deviation_Limits!C35=\"\",\"\",Deviation_Limits!C35)","v":""},{"$f":"IF(Deviation_Limits!D35=\"\",\"\",Deviation_Limits!D35)","v":""},"",{"$f":"IF(COUNTIF(AQ$2:AQ13,AQ13)=1,AQ13,\"\")","v":""},"","","",null,{"$f":"+IF(BD13=\"\",\"\",MAX(AY$1:AY12)+1)","v":""},{"$f":"IF(Deviation_CEM_CPMS!B35=\"\",\"\",Deviation_CEM_CPMS!B35)","v":""},{"$f":"IF(Deviation_CEM_CPMS!C35=\"\",\"\",Deviation_CEM_CPMS!C35)","v":""},{"$f":"IF(Deviation_CEM_CPMS!D35=\"\",\"\",Deviation_CEM_CPMS!D35)","v":""},"",{"$f":"IF(COUNTIF(BA$2:BA13,BA13)=1,BA13,\"\")","v":""},"","",""]
[{"$f":"IF(B14=\"\",\"\",MAX(A$1:A13)+1)","v":""},{"$f":"+IF(CPMS_Identification!C36=\"\",\"\",CPMS_Identification!C36)","v":""},"",null,{"$f":"IF(F14=\"\",\"\",MAX(E$1:E13)+1)","v":""},{"$f":"IF(Landfill_Gas_ID!C36=\"\",\"\",Landfill_Gas_ID!C36)","v":""},"",null,{"$f":"IF(J14=\"\",\"\",MAX(I$1:I13)+1)","v":""},{"$f":"IF(Distillate_Oil!C36=\"\",\"\",Distillate_Oil!C36)","v":""},"",null,null,null,null,null,null,null,null,null,{"$f":"IF(V14=\"\",\"\",MAX(U$1:U13)+1)","v":""},{"$f":"IF(CPMS_Identification!D36=\"\",\"\",CPMS_Identification!D36)","v":""},"",null,null,null,{"$f":"+IF(AE14=\"\",\"\",MAX(AA$1:AA13)+1)","v":""},{"$f":"IF(Deviation_Limits!B36=\"\",\"\",Deviation_Limits!B36)","v":""},{"$f":"IF(Deviation_Limits!C36=\"\",\"\",Deviation_Limits!C36)","v":""},"",{"$f":"IF(COUNTIF(AC$2:AC14,AC14)=1,AC14,\"\")","v":""},"","",null,null,null,null,null,"GU",null,{"$f":"+IF(AT14=\"\",\"\",MAX(AO$1:AO13)+1)","v":""},{"$f":"IF(Deviation_Limits!B36=\"\",\"\",Deviation_Limits!B36)","v":""},{"$f":"IF(Deviation_Limits!C36=\"\",\"\",Deviation_Limits!C36)","v":""},{"$f":"IF(Deviation_Limits!D36=\"\",\"\",Deviation_Limits!D36)","v":""},"",{"$f":"IF(COUNTIF(AQ$2:AQ14,AQ14)=1,AQ14,\"\")","v":""},"","","",null,{"$f":"+IF(BD14=\"\",\"\",MAX(AY$1:AY13)+1)","v":""},{"$f":"IF(Deviation_CEM_CPMS!B36=\"\",\"\",Deviation_CEM_CPMS!B36)","v":""},{"$f":"IF(Deviation_CEM_CPMS!C36=\"\",\"\",Deviation_CEM_CPMS!C36)","v":""},{"$f":"IF(Deviation_CEM_CPMS!D36=\"\",\"\",Deviation_CEM_CPMS!D36)","v":""},"",{"$f":"IF(COUNTIF(BA$2:BA14,BA14)=1,BA14,\"\")","v":""},"","",""]
[{"$f":"IF(B15=\"\",\"\",MAX(A$1:A14)+1)","v":""},{"$f":"+IF(CPMS_Identification!C37=\"\",\"\",CPMS_Identification!C37)","v":""},"",null,{"$f":"IF(F15=\"\",\"\",MAX(E$1:E14)+1)","v":""},{"$f":"IF(Landfill_Gas_ID!C37=\"\",\"\",Landfill_Gas_ID!C37)","v":""},"",null,{"$f":"IF(J15=\"\",\"\",MAX(I$1:I14)+1)","v":""},{"$f":"IF(Distillate_Oil!C37=\"\",\"\",Distillate_Oil!C37)","v":""},"",null,null,null,null,null,null,null,null,null,{"$f":"IF(V15=\"\",\"\",MAX(U$1:U14)+1)","v":""},{"$f":"IF(CPMS_Identification!D37=\"\",\"\",CPMS_Identification!D37)","v":""},"",null,null,null,{"$f":"+IF(AE15=\"\",\"\",MAX(AA$1:AA14)+1)","v":""},{"$f":"IF(Deviation_Limits!B37=\"\",\"\",Deviation_Limits!B37)","v":""},{"$f":"IF(Deviation_Limits!C37=\"\",\"\",Deviation_Limits!C37)","v":""},"",{"$f":"IF(COUNTIF(AC$2:AC15,AC15)=1,AC15,\"\")","v":""},"","",null,null,null,null,null,"HI",null,{"$f":"+IF(AT15=\"\",\"\",MAX(AO$1:AO14)+1)","v":""},{"$f":"IF(Deviation_Limits!B37=\"\",\"\",Deviation_Limits!B37)","v":""},{"$f":"IF(Deviation_Limits!C37=\"\",\"\",Deviation_Limits!C37)","v":""},{"$f":"IF(Deviation_Limits!D37=\"\",\"\",Deviation_Limits!D37)","v":""},"",{"$f":"IF(COUNTIF(AQ$2:AQ15,AQ15)=1,AQ15,\"\")","v":""},"","","",null,{"$f":"+IF(BD15=\"\",\"\",MAX(AY$1:AY14)+1)","v":""},{"$f":"IF(Deviation_CEM_CPMS!B37=\"\",\"\",Deviation_CEM_CPMS!B37)","v":""},{"$f":"IF(Deviation_CEM_CPMS!C37=\"\",\"\",Deviation_CEM_CPMS!C37)","v":""},{"$f":"IF(Deviation_CEM_CPMS!D37=\"\",\"\",Deviation_CEM_CPMS!D37)","v":""},"",{"$f":"IF(COUNTIF(BA$2:BA15,BA15)=1,BA15,\"\")","v":""},"","",""]
[{"$f":"IF(B16=\"\",\"\",MAX(A$1:A15)+1)","v":""},{"$f":"+IF(CPMS_Identification!C38=\"\",\"\",CPMS_Identification!C38)","v":""},"",null,{"$f":"IF(F16=\"\",\"\",MAX(E$1:E15)+1)","v":""},{"$f":"IF(Landfill_Gas_ID!C38=\"\",\"\",Landfill_Gas_ID!C38)","v":""},"",null,{"$f":"IF(J16=\"\",\"\",MAX(I$1:I15)+1)","v":""},{"$f":"IF(Distillate_Oil!C38=\"\",\"\",Distillate_Oil!C38)","v":""},"",null,null,null,null,null,null,null,null,null,{"$f":"IF(V16=\"\",\"\",MAX(U$1:U15)+1)","v":""},{"$f":"IF(CPMS_Identification!D38=\"\",\"\",CPMS_Identification!D38)","v":""},"",null,null,null,{"$f":"+IF(AE16=\"\",\"\",MAX(AA$1:AA15)+1)","v":""},{"$f":"IF(Deviation_Limits!B38=\"\",\"\",Deviation_Limits!B38)","v":""},{"$f":"IF(Deviation_Limits!C38=\"\",\"\",Deviation_Limits!C38)","v":""},"",{"$f":"IF(COUNTIF(AC$2:AC16,AC16)=1,AC16,\"\")","v":""},"","",null,null,null,null,null,"IA",null,{"$f":"+IF(AT16=\"\",\"\",MAX(AO$1:AO15)+1)","v":""},{"$f":"IF(Deviation_Limits!B38=\"\",\"\",Deviation_Limits!B38)","v":""},{"$f":"IF(Deviation_Limits!C38=\"\",\"\",Deviation_Limits!C38)","v":""},{"$f":"IF(Deviation_Limits!D38=\"\",\"\",Deviation_Limits!D38)","v":""},"",{"$f":"IF(COUNTIF(AQ$2:AQ16,AQ16)=1,AQ16,\"\")","v":""},"","","",null,{"$f":"+IF(BD16=\"\",\"\",MAX(AY$1:AY15)+1)","v":""},{"$f":"IF(Deviation_CEM_CPMS!B38=\"\",\"\",Deviation_CEM_CPMS!B38)","v":""},{"$f":"IF(Deviation_CEM_CPMS!C38=\"\",\"\",Deviation_CEM_CPMS!C38)","v":""},{"$f":"IF(Deviation_CEM_CPMS!D38=\"\",\"\",Deviation_CEM_CPMS!D38)","v":""},"",{"$f":"IF(COUNTIF(BA$2:BA16,BA16)=1,BA16,\"\")","v":""},"","",""]
[{"$f":"IF(B17=\"\",\"\",MAX(A$1:A16)+1)","v":""},{"$f":"+IF(CPMS_Identification!C39=\"\",\"\",CPMS_Identification!C39)","v":""},"",null,{"$f":"IF(F17=\"\",\"\",MAX(E$1:E16)+1)","v":""},{"$f":"IF(Landfill_Gas_ID!C39=\"\",\"\",Landfill_Gas_ID!C39)","v":""},"",null,{"$f":"IF(J17=\"\",\"\",MAX(I$1:I16)+1)","v":""},{"$f":"IF(Distillate_Oil!C39=\"\",\"\",Distillate_Oil!C39)","v":""},"",null,null,null,null,null,null,null,null,null,{"$f":"IF(V17=\"\",\"\",MAX(U$1:U16)+1)","v":""},{"$f":"IF(CPMS_Identification!D39=\"\",\"\",CPMS_Identification!D39)","v":""},"",null,null,null,{"$f":"+IF(AE17=\"\",\"\",MAX(AA$1:AA16)+1)","v":""},{"$f":"IF(Deviation_Limits!B39=\"\",\"\",Deviation_Limits!B39)","v":""},{"$f":"IF(Deviation_Limits!C39=\"\",\"\",Deviation_Limits!C39)","v":""},"",{"$f":"IF(COUNTIF(AC$2:AC17,AC17)=1,AC17,\"\")","v":""},"","",null,null,null,null,null,"ID",null,{"$f":"+IF(AT17=\"\",\"\",MAX(AO$1:AO16)+1)","v":""},{"$f":"IF(Deviation_Limits!B39=\"\",\"\",Deviation_Limits!B39)","v":""},{"$f":"IF(Deviation_Limits!C39=\"\",\"\",Deviation_Limits!C39)","v":""},{"$f":"IF(Deviation_Limits!D39=\"\",\"\",Deviation_Limits!D39)","v":""},"",{"$f":"IF(COUNTIF(AQ$2:AQ17,AQ17)=1,AQ17,\"\")","v":""},"","","",null,{"$f":"+IF(BD17=\"\",\"\",MAX(AY$1:AY16)+1)","v":""},{"$f":"IF(Deviation_CEM_CPMS!B39=\"\",\"\",Deviation_CEM_CPMS!B39)","v":""},{"$f":"IF(Deviation_CEM_CPMS!C39=\"\",\"\",Deviation_CEM_CPMS!C39)","v":""},{"$f":"IF(Deviation_CEM_CPMS!D39=\"\",\"\",Deviation_CEM_CPMS!D39)","v":""},"",{"$f":"IF(COUNTIF(BA$2:BA17,BA17)=1,BA17,\"\")","v":""},"","",""]
[{"$f":"IF(B18=\"\",\"\",MAX(A$1:A17)+1)","v":""},{"$f":"+IF(CPMS_Identification!C40=\"\",\"\",CPMS_Identification!C40)","v":""},"",null,{"$f":"IF(F18=\"\",\"\",MAX(E$1:E17)+1)","v":""},{"$f":"IF(Landfill_Gas_ID!C40=\"\",\"\",Landfill_Gas_ID!C40)","v":""},"",null,{"$f":"IF(J18=\"\",\"\",MAX(I$1:I17)+1)","v":""},{"$f":"IF(Distillate_Oil!C40=\"\",\"\",Distillate_Oil!C40)","v":""},"",null,null,null,null,null,null,null,null,null,{"$f":"IF(V18=\"\",\"\",MAX(U$1:U17)+1)","v":""},{"$f":"IF(CPMS_Identification!D40=\"\",\"\",CPMS_Identification!D40)","v":""},"",null,null,null,{"$f":"+IF(AE18=\"\",\"\",MAX(AA$1:AA17)+1)","v":""},{"$f":"IF(Deviation_Limits!B40=\"\",\"\",Deviation_Limits!B40)","v":""},{"$f":"IF(Deviation_Limits!C40=\"\",\"\",Deviation_Limits!C40)","v":""},"",{"$f":"IF(COUNTIF(AC$2:AC18,AC18)=1,AC18,\"\")","v":""},"","",null,null,null,null,null,"IL",null,{"$f":"+IF(AT18=\"\",\"\",MAX(AO$1:AO17)+1)","v":""},{"$f":"IF(Deviation_Limits!B40=\"\",\"\",Deviation_Limits!B40)","v":""},{"$f":"IF(Deviation_Limits!C40=\"\",\"\",Deviation_Limits!C40)","v":""},{"$f":"IF(Deviation_Limits!D40=\"\",\"\",Deviation_Limits!D40)","v":""},"",{"$f":"IF(COUNTIF(AQ$2:AQ18,AQ18)=1,AQ18,\"\")","v":""},"","","",null,{"$f":"+IF(BD18=\"\",\"\",MAX(AY$1:AY17)+1)","v":""},{"$f":"IF(Deviation_CEM_CPMS!B40=\"\",\"\",Deviation_CEM_CPMS!B40)","v":""},{"$f":"IF(Deviation_CEM_CPMS!C40=\"\",\"\",Deviation_CEM_CPMS!C40)","v":""},{"$f":"IF(Deviation_CEM_CPMS!D40=\"\",\"\",Deviation_CEM_CPMS!D40)","v":""},"",{"$f":"IF(COUNTIF(BA$2:BA18,BA18)=1,BA18,\"\")","v":""},"","",""]
[{"$f":"IF(B19=\"\",\"\",MAX(A$1:A18)+1)","v":""},{"$f":"+IF(CPMS_Identification!C41=\"\",\"\",CPMS_Identification!C41)","v":""},"",null,{"$f":"IF(F19=\"\",\"\",MAX(E$1:E18)+1)","v":""},{"$f":"IF(Landfill_Gas_ID!C41=\"\",\"\",Landfill_Gas_ID!C41)","v":""},"",null,{"$f":"IF(J19=\"\",\"\",MAX(I$1:I18)+1)","v":""},{"$f":"IF(Distillate_Oil!C41=\"\",\"\",Distillate_Oil!C41)","v":""},"",null,null,null,null,null,null,null,null,null,{"$f":"IF(V19=\"\",\"\",MAX(U$1:U18)+1)","v":""},{"$f":"IF(CPMS_Identification!D41=\"\",\"\",CPMS_Identification!D41)","v":""},"",null,null,null,{"$f":"+IF(AE19=\"\",\"\",MAX(AA$1:AA18)+1)","v":""},{"$f":"IF(Deviation_Limits!B41=\"\",\"\",Deviation_Limits!B41)","v":""},{"$f":"IF(Deviation_Limits!C41=\"\",\"\",Deviation_Limits!C41)","v":""},"",{"$f":"IF(COUNTIF(AC$2:AC19,AC19)=1,AC19,\"\")","v":""},"","",null,null,null,null,null,"IN",null,{"$f":"+IF(AT19=\"\",\"\",MAX(AO$1:AO18)+1)","v":""},{"$f":"IF(Deviation_Limits!B41=\"\",\"\",Deviation_Limits!B41)","v":""},{"$f":"IF(Deviation_Limits!C41=\"\",\"\",Deviation_Limits!C41)","v":""},{"$f":"IF(Deviation_Limits!D41=\"\",\"\",Deviation_Limits!D41)","v":""},"",{"$f":"IF(COUNTIF(AQ$2:AQ19,AQ19)=1,AQ19,\"\")","v":""},"","","",null,{"$f":"+IF(BD19=\"\",\"\",MAX(AY$1:AY18)+1)","v":""},{"$f":"IF(Deviation_CEM_CPMS!B41=\"\",\"\",Deviation_CEM_CPMS!B41)","v":""},{"$f":"IF(Deviation_CEM_CPMS!C41=\"\",\"\",Deviation_CEM_CPMS!C41)","v":""},{"$f":"IF(Deviation_CEM_CPMS!D41=\"\",\"\",Deviation_CEM_CPMS!D41)","v":""},"",{"$f":"IF(COUNTIF(BA$2:BA19,BA19)=1,BA19,\"\")","v":""},"","",""]
[{"$f":"IF(B20=\"\",\"\",MAX(A$1:A19)+1)","v":""},{"$f":"+IF(CPMS_Identification!C42=\"\",\"\",CPMS_Identification!C42)","v":""},"",null,{"$f":"IF(F20=\"\",\"\",MAX(E$1:E19)+1)","v":""},{"$f":"IF(Landfill_Gas_ID!C42=\"\",\"\",Landfill_Gas_ID!C42)","v":""},"",null,{"$f":"IF(J20=\"\",\"\",MAX(I$1:I19)+1)","v":""},{"$f":"IF(Distillate_Oil!C42=\"\",\"\",Distillate_Oil!C42)","v":""},"",null,null,null,null,null,null,null,null,null,{"$f":"IF(V20=\"\",\"\",MAX(U$1:U19)+1)","v":""},{"$f":"IF(CPMS_Identification!D42=\"\",\"\",CPMS_Identification!D42)","v":""},"",null,null,null,{"$f":"+IF(AE20=\"\",\"\",MAX(AA$1:AA19)+1)","v":""},{"$f":"IF(Deviation_Limits!B42=\"\",\"\",Deviation_Limits!B42)","v":""},{"$f":"IF(Deviation_Limits!C42=\"\",\"\",Deviation_Limits!C42)","v":""},"",{"$f":"IF(COUNTIF(AC$2:AC20,AC20)=1,AC20,\"\")","v":""},"","",null,null,null,null,null,"KS",null,{"$f":"+IF(AT20=\"\",\"\",MAX(AO$1:AO19)+1)","v":""},{"$f":"IF(Deviation_Limits!B42=\"\",\"\",Deviation_Limits!B42)","v":""},{"$f":"IF(Deviation_Limits!C42=\"\",\"\",Deviation_Limits!C42)","v":""},{"$f":"IF(Deviation_Limits!D42=\"\",\"\",Deviation_Limits!D42)","v":""},"",{"$f":"IF(COUNTIF(AQ$2:AQ20,AQ20)=1,AQ20,\"\")","v":""},"","","",null,{"$f":"+IF(BD20=\"\",\"\",MAX(AY$1:AY19)+1)","v":""},{"$f":"IF(Deviation_CEM_CPMS!B42=\"\",\"\",Deviation_CEM_CPMS!B42)","v":""},{"$f":"IF(Deviation_CEM_CPMS!C42=\"\",\"\",Deviation_CEM_CPMS!C42)","v":""},{"$f":"IF(Deviation_CEM_CPMS!D42=\"\",\"\",Deviation_CEM_CPMS!D42)","v":""},"",{"$f":"IF(COUNTIF(BA$2:BA20,BA20)=1,BA20,\"\")","v":""},"","",""]
[{"$f":"IF(B21=\"\",\"\",MAX(A$1:A20)+1)","v":""},{"$f":"+IF(CPMS_Identification!C43=\"\",\"\",CPMS_Identification!C43)","v":""},"",null,{"$f":"IF(F21=\"\",\"\",MAX(E$1:E20)+1)","v":""},{"$f":"IF(Landfill_Gas_ID!C43=\"\",\"\",Landfill_Gas_ID!C43)","v":""},"",null,{"$f":"IF(J21=\"\",\"\",MAX(I$1:I20)+1)","v":""},{"$f":"IF(Distillate_Oil!C43=\"\",\"\",Distillate_Oil!C43)","v":""},"",null,null,null,null,null,null,null,null,null,{"$f":"IF(V21=\"\",\"\",MAX(U$1:U20)+1)","v":""},{"$f":"IF(CPMS_Identification!D43=\"\",\"\",CPMS_Identification!D43)","v":""},"",null,null,null,{"$f":"+IF(AE21=\"\",\"\",MAX(AA$1:AA20)+1)","v":""},{"$f":"IF(Deviation_Limits!B43=\"\",\"\",Deviation_Limits!B43)","v":""},{"$f":"IF(Deviation_Limits!C43=\"\",\"\",Deviation_Limits!C43)","v":""},"",{"$f":"IF(COUNTIF(AC$2:AC21,AC21)=1,AC21,\"\")","v":""},"","",null,null,null,null,null,"KY",null,{"$f":"+IF(AT21=\"\",\"\",MAX(AO$1:AO20)+1)","v":""},{"$f":"IF(Deviation_Limits!B43=\"\",\"\",Deviation_Limits!B43)","v":""},{"$f":"IF(Deviation_Limits!C43=\"\",\"\",Deviation_Limits!C43)","v":""},{"$f":"IF(Deviation_Limits!D43=\"\",\"\",Deviation_Limits!D43)","v":""},"",{"$f":"IF(COUNTIF(AQ$2:AQ21,AQ21)=1,AQ21,\"\")","v":""},"","","",null,{"$f":"+IF(BD21=\"\",\"\",MAX(AY$1:AY20)+1)","v":""},{"$f":"IF(Deviation_CEM_CPMS!B43=\"\",\"\",Deviation_CEM_CPMS!B43)","v":""},{"$f":"IF(Deviation_CEM_CPMS!C43=\"\",\"\",Deviation_CEM_CPMS!C43)","v":""},{"$f":"IF(Deviation_CEM_CPMS!D43=\"\",\"\",Deviation_CEM_CPMS!D43)","v":""},"",{"$f":"IF(COUNTIF(BA$2:BA21,BA21)=1,BA21,\"\")","v":""},"","",""]
[{"$f":"IF(B22=\"\",\"\",MAX(A$1:A21)+1)","v":""},{"$f":"+IF(CPMS_Identification!C44=\"\",\"\",CPMS_Identification!C44)","v":""},"",null,{"$f":"IF(F22=\"\",\"\",MAX(E$1:E21)+1)","v":""},{"$f":"IF(Landfill_Gas_ID!C44=\"\",\"\",Landfill_Gas_ID!C44)","v":""},"",null,{"$f":"IF(J22=\"\",\"\",MAX(I$1:I21)+1)","v":""},{"$f":"IF(Distillate_Oil!C44=\"\",\"\",Distillate_Oil!C44)","v":""},"",null,null,null,null,null,null,null,null,null,{"$f":"IF(V22=\"\",\"\",MAX(U$1:U21)+1)","v":""},{"$f":"IF(CPMS_Identification!D44=\"\",\"\",CPMS_Identification!D44)","v":""},"",null,null,null,{"$f":"+IF(AE22=\"\",\"\",MAX(AA$1:AA21)+1)","v":""},{"$f":"IF(Deviation_Limits!B44=\"\",\"\",Deviation_Limits!B44)","v":""},{"$f":"IF(Deviation_Limits!C44=\"\",\"\",Deviation_Limits!C44)","v":""},"",{"$f":"IF(COUNTIF(AC$2:AC22,AC22)=1,AC22,\"\")","v":""},"","",null,null,null,null,null,"LA",null,{"$f":"+IF(AT22=\"\",\"\",MAX(AO$1:AO21)+1)","v":""},{"$f":"IF(Deviation_Limits!B44=\"\",\"\",Deviation_Limits!B44)","v":""},{"$f":"IF(Deviation_Limits!C44=\"\",\"\",Deviation_Limits!C44)","v":""},{"$f":"IF(Deviation_Limits!D44=\"\",\"\",Deviation_Limits!D44)","v":""},"",{"$f":"IF(COUNTIF(AQ$2:AQ22,AQ22)=1,AQ22,\"\")","v":""},"","","",null,{"$f":"+IF(BD22=\"\",\"\",MAX(AY$1:AY21)+1)","v":""},{"$f":"IF(Deviation_CEM_CPMS!B44=\"\",\"\",Deviation_CEM_CPMS!B44)","v":""},{"$f":"IF(Deviation_CEM_CPMS!C44=\"\",\"\",Deviation_CEM_CPMS!C44)","v":""},{"$f":"IF(Deviation_CEM_CPMS!D44=\"\",\"\",Deviation_CEM_CPMS!D44)","v":""},"",{"$f":"IF(COUNTIF(BA$2:BA22,BA22)=1,BA22,\"\")","v":""},"","",""]
[{"$f":"IF(B23=\"\",\"\",MAX(A$1:A22)+1)","v":""},{"$f":"+IF(CPMS_Identification!C45=\"\",\"\",CPMS_Identification!C45)","v":""},"",null,{"$f":"IF(F23=\"\",\"\",MAX(E$1:E22)+1)","v":""},{"$f":"IF(Landfill_Gas_ID!C45=\"\",\"\",Landfill_Gas_ID!C45)","v":""},"",null,{"$f":"IF(J23=\"\",\"\",MAX(I$1:I22)+1)","v":""},{"$f":"IF(Distillate_Oil!C45=\"\",\"\",Distillate_Oil!C45)","v":""},"",null,null,null,null,null,null,null,null,null,{"$f":"IF(V23=\"\",\"\",MAX(U$1:U22)+1)","v":""},{"$f":"IF(CPMS_Identification!D45=\"\",\"\",CPMS_Identification!D45)","v":""},"",null,null,null,{"$f":"+IF(AE23=\"\",\"\",MAX(AA$1:AA22)+1)","v":""},{"$f":"IF(Deviation_Limits!B45=\"\",\"\",Deviation_Limits!B45)","v":""},{"$f":"IF(Deviation_Limits!C45=\"\",\"\",Deviation_Limits!C45)","v":""},"",{"$f":"IF(COUNTIF(AC$2:AC23,AC23)=1,AC23,\"\")","v":""},"","",null,null,null,null,null,"MA",null,{"$f":"+IF(AT23=\"\",\"\",MAX(AO$1:AO22)+1)","v":""},{"$f":"IF(Deviation_Limits!B45=\"\",\"\",Deviation_Limits!B45)","v":""},{"$f":"IF(Deviation_Limits!C45=\"\",\"\",Deviation_Limits!C45)","v":""},{"$f":"IF(Deviation_Limits!D45=\"\",\"\",Deviation_Limits!D45)","v":""},"",{"$f":"IF(COUNTIF(AQ$2:AQ23,AQ23)=1,AQ23,\"\")","v":""},"","","",null,{"$f":"+IF(BD23=\"\",\"\",MAX(AY$1:AY22)+1)","v":""},{"$f":"IF(Deviation_CEM_CPMS!B45=\"\",\"\",Deviation_CEM_CPMS!B45)","v":""},{"$f":"IF(Deviation_CEM_CPMS!C45=\"\",\"\",Deviation_CEM_CPMS!C45)","v":""},{"$f":"IF(Deviation_CEM_CPMS!D45=\"\",\"\",Deviation_CEM_CPMS!D45)","v":""},"",{"$f":"IF(COUNTIF(BA$2:BA23,BA23)=1,BA23,\"\")","v":""},"","",""]
[{"$f":"IF(B24=\"\",\"\",MAX(A$1:A23)+1)","v":""},{"$f":"+IF(CPMS_Identification!C46=\"\",\"\",CPMS_Identification!C46)","v":""},"",null,{"$f":"IF(F24=\"\",\"\",MAX(E$1:E23)+1)","v":""},{"$f":"IF(Landfill_Gas_ID!C46=\"\",\"\",Landfill_Gas_ID!C46)","v":""},"",null,{"$f":"IF(J24=\"\",\"\",MAX(I$1:I23)+1)","v":""},{"$f":"IF(Distillate_Oil!C46=\"\",\"\",Distillate_Oil!C46)","v":""},"",null,null,null,null,null,null,null,null,null,{"$f":"IF(V24=\"\",\"\",MAX(U$1:U23)+1)","v":""},{"$f":"IF(CPMS_Identification!D46=\"\",\"\",CPMS_Identification!D46)","v":""},"",null,null,null,{"$f":"+IF(AE24=\"\",\"\",MAX(AA$1:AA23)+1)","v":""},{"$f":"IF(Deviation_Limits!B46=\"\",\"\",Deviation_Limits!B46)","v":""},{"$f":"IF(Deviation_Limits!C46=\"\",\"\",Deviation_Limits!C46)","v":""},"",{"$f":"IF(COUNTIF(AC$2:AC24,AC24)=1,AC24,\"\")","v":""},"","",null,null,null,null,null,"MD",null,{"$f":"+IF(AT24=\"\",\"\",MAX(AO$1:AO23)+1)","v":""},{"$f":"IF(Deviation_Limits!B46=\"\",\"\",Deviation_Limits!B46)","v":""},{"$f":"IF(Deviation_Limits!C46=\"\",\"\",Deviation_Limits!C46)","v":""},{"$f":"IF(Deviation_Limits!D46=\"\",\"\",Deviation_Limits!D46)","v":""},"",{"$f":"IF(COUNTIF(AQ$2:AQ24,AQ24)=1,AQ24,\"\")","v":""},"","","",null,{"$f":"+IF(BD24=\"\",\"\",MAX(AY$1:AY23)+1)","v":""},{"$f":"IF(Deviation_CEM_CPMS!B46=\"\",\"\",Deviation_CEM_CPMS!B46)","v":""},{"$f":"IF(Deviation_CEM_CPMS!C46=\"\",\"\",Deviation_CEM_CPMS!C46)","v":""},{"$f":"IF(Deviation_CEM_CPMS!D46=\"\",\"\",Deviation_CEM_CPMS!D46)","v":""},"",{"$f":"IF(COUNTIF(BA$2:BA24,BA24)=1,BA24,\"\")","v":""},"","",""]
[{"$f":"IF(B25=\"\",\"\",MAX(A$1:A24)+1)","v":""},{"$f":"+IF(CPMS_Identification!C47=\"\",\"\",CPMS_Identification!C47)","v":""},"",null,{"$f":"IF(F25=\"\",\"\",MAX(E$1:E24)+1)","v":""},{"$f":"IF(Landfill_Gas_ID!C47=\"\",\"\",Landfill_Gas_ID!C47)","v":""},"",null,{"$f":"IF(J25=\"\",\"\",MAX(I$1:I24)+1)","v":""},{"$f":"IF(Distillate_Oil!C47=\"\",\"\",Distillate_Oil!C47)","v":""},"",null,null,null,null,null,null,null,null,null,{"$f":"IF(V25=\"\",\"\",MAX(U$1:U24)+1)","v":""},{"$f":"IF(CPMS_Identification!D47=\"\",\"\",CPMS_Identification!D47)","v":""},"",null,null,null,{"$f":"+IF(AE25=\"\",\"\",MAX(AA$1:AA24)+1)","v":""},{"$f":"IF(Deviation_Limits!B47=\"\",\"\",Deviation_Limits!B47)","v":""},{"$f":"IF(Deviation_Limits!C47=\"\",\"\",Deviation_Limits!C47)","v":""},"",{"$f":"IF(COUNTIF(AC$2:AC25,AC25)=1,AC25,\"\")","v":""},"","",null,null,null,null,null,"ME",null,{"$f":"+IF(AT25=\"\",\"\",MAX(AO$1:AO24)+1)","v":""},{"$f":"IF(Deviation_Limits!B47=\"\",\"\",Deviation_Limits!B47)","v":""},{"$f":"IF(Deviation_Limits!C47=\"\",\"\",Deviation_Limits!C47)","v":""},{"$f":"IF(Deviation_Limits!D47=\"\",\"\",Deviation_Limits!D47)","v":""},"",{"$f":"IF(COUNTIF(AQ$2:AQ25,AQ25)=1,AQ25,\"\")","v":""},"","","",null,{"$f":"+IF(BD25=\"\",\"\",MAX(AY$1:AY24)+1)","v":""},{"$f":"IF(Deviation_CEM_CPMS!B47=\"\",\"\",Deviation_CEM_CPMS!B47)","v":""},{"$f":"IF(Deviation_CEM_CPMS!C47=\"\",\"\",Deviation_CEM_CPMS!C47)","v":""},{"$f":"IF(Deviation_CEM_CPMS!D47=\"\",\"\",Deviation_CEM_CPMS!D47)","v":""},"",{"$f":"IF(COUNTIF(BA$2:BA25,BA25)=1,BA25,\"\")","v":""},"","",""]
[{"$f":"IF(B26=\"\",\"\",MAX(A$1:A25)+1)","v":""},{"$f":"+IF(CPMS_Identification!C48=\"\",\"\",CPMS_Identification!C48)","v":""},"",null,{"$f":"IF(F26=\"\",\"\",MAX(E$1:E25)+1)","v":""},{"$f":"IF(Landfill_Gas_ID!C48=\"\",\"\",Landfill_Gas_ID!C48)","v":""},"",null,{"$f":"IF(J26=\"\",\"\",MAX(I$1:I25)+1)","v":""},{"$f":"IF(Distillate_Oil!C48=\"\",\"\",Distillate_Oil!C48)","v":""},"",null,null,null,null,null,null,null,null,null,{"$f":"IF(V26=\"\",\"\",MAX(U$1:U25)+1)","v":""},{"$f":"IF(CPMS_Identification!D48=\"\",\"\",CPMS_Identification!D48)","v":""},"",null,null,null,{"$f":"+IF(AE26=\"\",\"\",MAX(AA$1:AA25)+1)","v":""},{"$f":"IF(Deviation_Limits!B48=\"\",\"\",Deviation_Limits!B48)","v":""},{"$f":"IF(Deviation_Limits!C48=\"\",\"\",Deviation_Limits!C48)","v":""},"",{"$f":"IF(COUNTIF(AC$2:AC26,AC26)=1,AC26,\"\")","v":""},"","",null,null,null,null,null,"MI",null,{"$f":"+IF(AT26=\"\",\"\",MAX(AO$1:AO25)+1)","v":""},{"$f":"IF(Deviation_Limits!B48=\"\",\"\",Deviation_Limits!B48)","v":""},{"$f":"IF(Deviation_Limits!C48=\"\",\"\",Deviation_Limits!C48)","v":""},{"$f":"IF(Deviation_Limits!D48=\"\",\"\",Deviation_Limits!D48)","v":""},"",{"$f":"IF(COUNTIF(AQ$2:AQ26,AQ26)=1,AQ26,\"\")","v":""},"","","",null,{"$f":"+IF(BD26=\"\",\"\",MAX(AY$1:AY25)+1)","v":""},{"$f":"IF(Deviation_CEM_CPMS!B48=\"\",\"\",Deviation_CEM_CPMS!B48)","v":""},{"$f":"IF(Deviation_CEM_CPMS!C48=\"\",\"\",Deviation_CEM_CPMS!C48)","v":""},{"$f":"IF(Deviation_CEM_CPMS!D48=\"\",\"\",Deviation_CEM_CPMS!D48)","v":""},"",{"$f":"IF(COUNTIF(BA$2:BA26,BA26)=1,BA26,\"\")","v":""},"","",""]
[{"$f":"IF(B27=\"\",\"\",MAX(A$1:A26)+1)","v":""},{"$f":"+IF(CPMS_Identification!C49=\"\",\"\",CPMS_Identification!C49)","v":""},"",null,{"$f":"IF(F27=\"\",\"\",MAX(E$1:E26)+1)","v":""},{"$f":"IF(Landfill_Gas_ID!C49=\"\",\"\",Landfill_Gas_ID!C49)","v":""},"",null,{"$f":"IF(J27=\"\",\"\",MAX(I$1:I26)+1)","v":""},{"$f":"IF(Distillate_Oil!C49=\"\",\"\",Distillate_Oil!C49)","v":""},"",null,null,null,null,null,null,null,null,null,{"$f":"IF(V27=\"\",\"\",MAX(U$1:U26)+1)","v":""},{"$f":"IF(CPMS_Identification!D49=\"\",\"\",CPMS_Identification!D49)","v":""},"",null,null,null,{"$f":"+IF(AE27=\"\",\"\",MAX(AA$1:AA26)+1)","v":""},{"$f":"IF(Deviation_Limits!B49=\"\",\"\",Deviation_Limits!B49)","v":""},{"$f":"IF(Deviation_Limits!C49=\"\",\"\",Deviation_Limits!C49)","v":""},"",{"$f":"IF(COUNTIF(AC$2:AC27,AC27)=1,AC27,\"\")","v":""},"","",null,null,null,null,null,"MN",null,{"$f":"+IF(AT27=\"\",\"\",MAX(AO$1:AO26)+1)","v":""},{"$f":"IF(Deviation_Limits!B49=\"\",\"\",Deviation_Limits!B49)","v":""},{"$f":"IF(Deviation_Limits!C49=\"\",\"\",Deviation_Limits!C49)","v":""},{"$f":"IF(Deviation_Limits!D49=\"\",\"\",Deviation_Limits!D49)","v":""},"",{"$f":"IF(COUNTIF(AQ$2:AQ27,AQ27)=1,AQ27,\"\")","v":""},"","","",null,{"$f":"+IF(BD27=\"\",\"\",MAX(AY$1:AY26)+1)","v":""},{"$f":"IF(Deviation_CEM_CPMS!B49=\"\",\"\",Deviation_CEM_CPMS!B49)","v":""},{"$f":"IF(Deviation_CEM_CPMS!C49=\"\",\"\",Deviation_CEM_CPMS!C49)","v":""},{"$f":"IF(Deviation_CEM_CPMS!D49=\"\",\"\",Deviation_CEM_CPMS!D49)","v":""},"",{"$f":"IF(COUNTIF(BA$2:BA27,BA27)=1,BA27,\"\")","v":""},"","",""]
[{"$f":"IF(B28=\"\",\"\",MAX(A$1:A27)+1)","v":""},{"$f":"+IF(CPMS_Identification!C50=\"\",\"\",CPMS_Identification!C50)","v":""},"",null,{"$f":"IF(F28=\"\",\"\",MAX(E$1:E27)+1)","v":""},{"$f":"IF(Landfill_Gas_ID!C50=\"\",\"\",Landfill_Gas_ID!C50)","v":""},"",null,{"$f":"IF(J28=\"\",\"\",MAX(I$1:I27)+1)","v":""},{"$f":"IF(Distillate_Oil!C50=\"\",\"\",Distillate_Oil!C50)","v":""},"",null,null,null,null,null,null,null,null,null,{"$f":"IF(V28=\"\",\"\",MAX(U$1:U27)+1)","v":""},{"$f":"IF(CPMS_Identification!D50=\"\",\"\",CPMS_Identification!D50)","v":""},"",null,null,null,{"$f":"+IF(AE28=\"\",\"\",MAX(AA$1:AA27)+1)","v":""},{"$f":"IF(Deviation_Limits!B50=\"\",\"\",Deviation_Limits!B50)","v":""},{"$f":"IF(Deviation_Limits!C50=\"\",\"\",Deviation_Limits!C50)","v":""},"",{"$f":"IF(COUNTIF(AC$2:AC28,AC28)=1,AC28,\"\")","v":""},"","",null,null,null,null,null,"MO",null,{"$f":"+IF(AT28=\"\",\"\",MAX(AO$1:AO27)+1)","v":""},{"$f":"IF(Deviation_Limits!B50=\"\",\"\",Deviation_Limits!B50)","v":""},{"$f":"IF(Deviation_Limits!C50=\"\",\"\",Deviation_Limits!C50)","v":""},{"$f":"IF(Deviation_Limits!D50=\"\",\"\",Deviation_Limits!D50)","v":""},"",{"$f":"IF(COUNTIF(AQ$2:AQ28,AQ28)=1,AQ28,\"\")","v":""},"","","",null,{"$f":"+IF(BD28=\"\",\"\",MAX(AY$1:AY27)+1)","v":""},{"$f":"IF(Deviation_CEM_CPMS!B50=\"\",\"\",Deviation_CEM_CPMS!B50)","v":""},{"$f":"IF(Deviation_CEM_CPMS!C50=\"\",\"\",Deviation_CEM_CPMS!C50)","v":""},{"$f":"IF(Deviation_CEM_CPMS!D50=\"\",\"\",Deviation_CEM_CPMS!D50)","v":""},"",{"$f":"IF(COUNTIF(BA$2:BA28,BA28)=1,BA28,\"\")","v":""},"","",""]
[{"$f":"IF(B29=\"\",\"\",MAX(A$1:A28)+1)","v":""},{"$f":"+IF(CPMS_Identification!C51=\"\",\"\",CPMS_Identification!C51)","v":""},"",null,{"$f":"IF(F29=\"\",\"\",MAX(E$1:E28)+1)","v":""},{"$f":"IF(Landfill_Gas_ID!C51=\"\",\"\",Landfill_Gas_ID!C51)","v":""},"",null,{"$f":"IF(J29=\"\",\"\",MAX(I$1:I28)+1)","v":""},{"$f":"IF(Distillate_Oil!C51=\"\",\"\",Distillate_Oil!C51)","v":""},"",null,null,null,null,null,null,null,null,null,{"$f":"IF(V29=\"\",\"\",MAX(U$1:U28)+1)","v":""},{"$f":"IF(CPMS_Identification!D51=\"\",\"\",CPMS_Identification!D51)","v":""},"",null,null,null,{"$f":"+IF(AE29=\"\",\"\",MAX(AA$1:AA28)+1)","v":""},{"$f":"IF(Deviation_Limits!B51=\"\",\"\",Deviation_Limits!B51)","v":""},{"$f":"IF(Deviation_Limits!C51=\"\",\"\",Deviation_Limits!C51)","v":""},"",{"$f":"IF(COUNTIF(AC$2:AC29,AC29)=1,AC29,\"\")","v":""},"","",null,null,null,null,null,"MP",null,{"$f":"+IF(AT29=\"\",\"\",MAX(AO$1:AO28)+1)","v":""},{"$f":"IF(Deviation_Limits!B51=\"\",\"\",Deviation_Limits!B51)","v":""},{"$f":"IF(Deviation_Limits!C51=\"\",\"\",Deviation_Limits!C51)","v":""},{"$f":"IF(Deviation_Limits!D51=\"\",\"\",Deviation_Limits!D51)","v":""},"",{"$f":"IF(COUNTIF(AQ$2:AQ29,AQ29)=1,AQ29,\"\")","v":""},"","","",null,{"$f":"+IF(BD29=\"\",\"\",MAX(AY$1:AY28)+1)","v":""},{"$f":"IF(Deviation_CEM_CPMS!B51=\"\",\"\",Deviation_CEM_CPMS!B51)","v":""},{"$f":"IF(Deviation_CEM_CPMS!C51=\"\",\"\",Deviation_CEM_CPMS!C51)","v":""},{"$f":"IF(Deviation_CEM_CPMS!D51=\"\",\"\",Deviation_CEM_CPMS!D51)","v":""},"",{"$f":"IF(COUNTIF(BA$2:BA29,BA29)=1,BA29,\"\")","v":""},"","",""]
[{"$f":"IF(B30=\"\",\"\",MAX(A$1:A29)+1)","v":""},{"$f":"+IF(CPMS_Identification!C52=\"\",\"\",CPMS_Identification!C52)","v":""},"",null,{"$f":"IF(F30=\"\",\"\",MAX(E$1:E29)+1)","v":""},{"$f":"IF(Landfill_Gas_ID!C52=\"\",\"\",Landfill_Gas_ID!C52)","v":""},"",null,{"$f":"IF(J30=\"\",\"\",MAX(I$1:I29)+1)","v":""},{"$f":"IF(Distillate_Oil!C52=\"\",\"\",Distillate_Oil!C52)","v":""},"",null,null,null,null,null,null,null,null,null,{"$f":"IF(V30=\"\",\"\",MAX(U$1:U29)+1)","v":""},{"$f":"IF(CPMS_Identification!D52=\"\",\"\",CPMS_Identification!D52)","v":""},"",null,null,null,{"$f":"+IF(AE30=\"\",\"\",MAX(AA$1:AA29)+1)","v":""},{"$f":"IF(Deviation_Limits!B52=\"\",\"\",Deviation_Limits!B52)","v":""},{"$f":"IF(Deviation_Limits!C52=\"\",\"\",Deviation_Limits!C52)","v":""},"",{"$f":"IF(COUNTIF(AC$2:AC30,AC30)=1,AC30,\"\")","v":""},"","",null,null,null,null,null,"MS",null,{"$f":"+IF(AT30=\"\",\"\",MAX(AO$1:AO29)+1)","v":""},{"$f":"IF(Deviation_Limits!B52=\"\",\"\",Deviation_Limits!B52)","v":""},{"$f":"IF(Deviation_Limits!C52=\"\",\"\",Deviation_Limits!C52)","v":""},{"$f":"IF(Deviation_Limits!D52=\"\",\"\",Deviation_Limits!D52)","v":""},"",{"$f":"IF(COUNTIF(AQ$2:AQ30,AQ30)=1,AQ30,\"\")","v":""},"","","",null,{"$f":"+IF(BD30=\"\",\"\",MAX(AY$1:AY29)+1)","v":""},{"$f":"IF(Deviation_CEM_CPMS!B52=\"\",\"\",Deviation_CEM_CPMS!B52)","v":""},{"$f":"IF(Deviation_CEM_CPMS!C52=\"\",\"\",Deviation_CEM_CPMS!C52)","v":""},{"$f":"IF(Deviation_CEM_CPMS!D52=\"\",\"\",Deviation_CEM_CPMS!D52)","v":""},"",{"$f":"IF(COUNTIF(BA$2:BA30,BA30)=1,BA30,\"\")","v":""},"","",""]
[{"$f":"IF(B31=\"\",\"\",MAX(A$1:A30)+1)","v":""},{"$f":"+IF(CPMS_Identification!C53=\"\",\"\",CPMS_Identification!C53)","v":""},"",null,{"$f":"IF(F31=\"\",\"\",MAX(E$1:E30)+1)","v":""},{"$f":"IF(Landfill_Gas_ID!C53=\"\",\"\",Landfill_Gas_ID!C53)","v":""},"",null,{"$f":"IF(J31=\"\",\"\",MAX(I$1:I30)+1)","v":""},{"$f":"IF(Distillate_Oil!C53=\"\",\"\",Distillate_Oil!C53)","v":""},"",null,null,null,null,null,null,null,null,null,{"$f":"IF(V31=\"\",\"\",MAX(U$1:U30)+1)","v":""},{"$f":"IF(CPMS_Identification!D53=\"\",\"\",CPMS_Identification!D53)","v":""},"",null,null,null,{"$f":"+IF(AE31=\"\",\"\",MAX(AA$1:AA30)+1)","v":""},{"$f":"IF(Deviation_Limits!B53=\"\",\"\",Deviation_Limits!B53)","v":""},{"$f":"IF(Deviation_Limits!C53=\"\",\"\",Deviation_Limits!C53)","v":""},"",{"$f":"IF(COUNTIF(AC$2:AC31,AC31)=1,AC31,\"\")","v":""},"","",null,null,null,null,null,"MT",null,{"$f":"+IF(AT31=\"\",\"\",MAX(AO$1:AO30)+1)","v":""},{"$f":"IF(Deviation_Limits!B53=\"\",\"\",Deviation_Limits!B53)","v":""},{"$f":"IF(Deviation_Limits!C53=\"\",\"\",Deviation_Limits!C53)","v":""},{"$f":"IF(Deviation_Limits!D53=\"\",\"\",Deviation_Limits!D53)","v":""},"",{"$f":"IF(COUNTIF(AQ$2:AQ31,AQ31)=1,AQ31,\"\")","v":""},"","","",null,{"$f":"+IF(BD31=\"\",\"\",MAX(AY$1:AY30)+1)","v":""},{"$f":"IF(Deviation_CEM_CPMS!B53=\"\",\"\",Deviation_CEM_CPMS!B53)","v":""},{"$f":"IF(Deviation_CEM_CPMS!C53=\"\",\"\",Deviation_CEM_CPMS!C53)","v":""},{"$f":"IF(Deviation_CEM_CPMS!D53=\"\",\"\",Deviation_CEM_CPMS!D53)","v":""},"",{"$f":"IF(COUNTIF(BA$2:BA31,BA31)=1,BA31,\"\")","v":""},"","",""]
[{"$f":"IF(B32=\"\",\"\",MAX(A$1:A31)+1)","v":""},{"$f":"+IF(CPMS_Identification!C54=\"\",\"\",CPMS_Identification!C54)","v":""},"",null,{"$f":"IF(F32=\"\",\"\",MAX(E$1:E31)+1)","v":""},{"$f":"IF(Landfill_Gas_ID!C54=\"\",\"\",Landfill_Gas_ID!C54)","v":""},"",null,{"$f":"IF(J32=\"\",\"\",MAX(I$1:I31)+1)","v":""},{"$f":"IF(Distillate_Oil!C54=\"\",\"\",Distillate_Oil!C54)","v":""},"",null,null,null,null,null,null,null,null,null,{"$f":"IF(V32=\"\",\"\",MAX(U$1:U31)+1)","v":""},{"$f":"IF(CPMS_Identification!D54=\"\",\"\",CPMS_Identification!D54)","v":""},"",null,null,null,{"$f":"+IF(AE32=\"\",\"\",MAX(AA$1:AA31)+1)","v":""},{"$f":"IF(Deviation_Limits!B54=\"\",\"\",Deviation_Limits!B54)","v":""},{"$f":"IF(Deviation_Limits!C54=\"\",\"\",Deviation_Limits!C54)","v":""},"",{"$f":"IF(COUNTIF(AC$2:AC32,AC32)=1,AC32,\"\")","v":""},"","",null,null,null,null,null,"NC",null,{"$f":"+IF(AT32=\"\",\"\",MAX(AO$1:AO31)+1)","v":""},{"$f":"IF(Deviation_Limits!B54=\"\",\"\",Deviation_Limits!B54)","v":""},{"$f":"IF(Deviation_Limits!C54=\"\",\"\",Deviation_Limits!C54)","v":""},{"$f":"IF(Deviation_Limits!D54=\"\",\"\",Deviation_Limits!D54)","v":""},"",{"$f":"IF(COUNTIF(AQ$2:AQ32,AQ32)=1,AQ32,\"\")","v":""},"","","",null,{"$f":"+IF(BD32=\"\",\"\",MAX(AY$1:AY31)+1)","v":""},{"$f":"IF(Deviation_CEM_CPMS!B54=\"\",\"\",Deviation_CEM_CPMS!B54)","v":""},{"$f":"IF(Deviation_CEM_CPMS!C54=\"\",\"\",Deviation_CEM_CPMS!C54)","v":""},{"$f":"IF(Deviation_CEM_CPMS!D54=\"\",\"\",Deviation_CEM_CPMS!D54)","v":""},"",{"$f":"IF(COUNTIF(BA$2:BA32,BA32)=1,BA32,\"\")","v":""},"","",""]
[{"$f":"IF(B33=\"\",\"\",MAX(A$1:A32)+1)","v":""},{"$f":"+IF(CPMS_Identification!C55=\"\",\"\",CPMS_Identification!C55)","v":""},"",null,{"$f":"IF(F33=\"\",\"\",MAX(E$1:E32)+1)","v":""},{"$f":"IF(Landfill_Gas_ID!C55=\"\",\"\",Landfill_Gas_ID!C55)","v":""},"",null,{"$f":"IF(J33=\"\",\"\",MAX(I$1:I32)+1)","v":""},{"$f":"IF(Distillate_Oil!C55=\"\",\"\",Distillate_Oil!C55)","v":""},"",null,null,null,null,null,null,null,null,null,{"$f":"IF(V33=\"\",\"\",MAX(U$1:U32)+1)","v":""},{"$f":"IF(CPMS_Identification!D55=\"\",\"\",CPMS_Identification!D55)","v":""},"",null,null,null,{"$f":"+IF(AE33=\"\",\"\",MAX(AA$1:AA32)+1)","v":""},{"$f":"IF(Deviation_Limits!B55=\"\",\"\",Deviation_Limits!B55)","v":""},{"$f":"IF(Deviation_Limits!C55=\"\",\"\",Deviation_Limits!C55)","v":""},"",{"$f":"IF(COUNTIF(AC$2:AC33,AC33)=1,AC33,\"\")","v":""},"","",null,null,null,null,null,"ND",null,{"$f":"+IF(AT33=\"\",\"\",MAX(AO$1:AO32)+1)","v":""},{"$f":"IF(Deviation_Limits!B55=\"\",\"\",Deviation_Limits!B55)","v":""},{"$f":"IF(Deviation_Limits!C55=\"\",\"\",Deviation_Limits!C55)","v":""},{"$f":"IF(Deviation_Limits!D55=\"\",\"\",Deviation_Limits!D55)","v":""},"",{"$f":"IF(COUNTIF(AQ$2:AQ33,AQ33)=1,AQ33,\"\")","v":""},"","","",null,{"$f":"+IF(BD33=\"\",\"\",MAX(AY$1:AY32)+1)","v":""},{"$f":"IF(Deviation_CEM_CPMS!B55=\"\",\"\",Deviation_CEM_CPMS!B55)","v":""},{"$f":"IF(Deviation_CEM_CPMS!C55=\"\",\"\",Deviation_CEM_CPMS!C55)","v":""},{"$f":"IF(Deviation_CEM_CPMS!D55=\"\",\"\",Deviation_CEM_CPMS!D55)","v":""},"",{"$f":"IF(COUNTIF(BA$2:BA33,BA33)=1,BA33,\"\")","v":""},"","",""]
[{"$f":"IF(B34=\"\",\"\",MAX(A$1:A33)+1)","v":""},{"$f":"+IF(CPMS_Identification!C56=\"\",\"\",CPMS_Identification!C56)","v":""},"",null,{"$f":"IF(F34=\"\",\"\",MAX(E$1:E33)+1)","v":""},{"$f":"IF(Landfill_Gas_ID!C56=\"\",\"\",Landfill_Gas_ID!C56)","v":""},"",null,{"$f":"IF(J34=\"\",\"\",MAX(I$1:I33)+1)","v":""},{"$f":"IF(Distillate_Oil!C56=\"\",\"\",Distillate_Oil!C56)","v":""},"",null,null,null,null,null,null,null,null,null,{"$f":"IF(V34=\"\",\"\",MAX(U$1:U33)+1)","v":""},{"$f":"IF(CPMS_Identification!D56=\"\",\"\",CPMS_Identification!D56)","v":""},"",null,null,null,{"$f":"+IF(AE34=\"\",\"\",MAX(AA$1:AA33)+1)","v":""},{"$f":"IF(Deviation_Limits!B56=\"\",\"\",Deviation_Limits!B56)","v":""},{"$f":"IF(Deviation_Limits!C56=\"\",\"\",Deviation_Limits!C56)","v":""},"",{"$f":"IF(COUNTIF(AC$2:AC34,AC34)=1,AC34,\"\")","v":""},"","",null,null,null,null,null,"NE",null,{"$f":"+IF(AT34=\"\",\"\",MAX(AO$1:AO33)+1)","v":""},{"$f":"IF(Deviation_Limits!B56=\"\",\"\",Deviation_Limits!B56)","v":""},{"$f":"IF(Deviation_Limits!C56=\"\",\"\",Deviation_Limits!C56)","v":""},{"$f":"IF(Deviation_Limits!D56=\"\",\"\",Deviation_Limits!D56)","v":""},"",{"$f":"IF(COUNTIF(AQ$2:AQ34,AQ34)=1,AQ34,\"\")","v":""},"","","",null,{"$f":"+IF(BD34=\"\",\"\",MAX(AY$1:AY33)+1)","v":""},{"$f":"IF(Deviation_CEM_CPMS!B56=\"\",\"\",Deviation_CEM_CPMS!B56)","v":""},{"$f":"IF(Deviation_CEM_CPMS!C56=\"\",\"\",Deviation_CEM_CPMS!C56)","v":""},{"$f":"IF(Deviation_CEM_CPMS!D56=\"\",\"\",Deviation_CEM_CPMS!D56)","v":""},"",{"$f":"IF(COUNTIF(BA$2:BA34,BA34)=1,BA34,\"\")","v":""},"","",""]
[{"$f":"IF(B35=\"\",\"\",MAX(A$1:A34)+1)","v":""},{"$f":"+IF(CPMS_Identification!C57=\"\",\"\",CPMS_Identification!C57)","v":""},"",null,{"$f":"IF(F35=\"\",\"\",MAX(E$1:E34)+1)","v":""},{"$f":"IF(Landfill_Gas_ID!C57=\"\",\"\",Landfill_Gas_ID!C57)","v":""},"",null,{"$f":"IF(J35=\"\",\"\",MAX(I$1:I34)+1)","v":""},{"$f":"IF(Distillate_Oil!C57=\"\",\"\",Distillate_Oil!C57)","v":""},"",null,null,null,null,null,null,null,null,null,{"$f":"IF(V35=\"\",\"\",MAX(U$1:U34)+1)","v":""},{"$f":"IF(CPMS_Identification!D57=\"\",\"\",CPMS_Identification!D57)","v":""},"",null,null,null,{"$f":"+IF(AE35=\"\",\"\",MAX(AA$1:AA34)+1)","v":""},{"$f":"IF(Deviation_Limits!B57=\"\",\"\",Deviation_Limits!B57)","v":""},{"$f":"IF(Deviation_Limits!C57=\"\",\"\",Deviation_Limits!C57)","v":""},"",{"$f":"IF(COUNTIF(AC$2:AC35,AC35)=1,AC35,\"\")","v":""},"","",null,null,null,null,null,"NH",null,{"$f":"+IF(AT35=\"\",\"\",MAX(AO$1:AO34)+1)","v":""},{"$f":"IF(Deviation_Limits!B57=\"\",\"\",Deviation_Limits!B57)","v":""},{"$f":"IF(Deviation_Limits!C57=\"\",\"\",Deviation_Limits!C57)","v":""},{"$f":"IF(Deviation_Limits!D57=\"\",\"\",Deviation_Limits!D57)","v":""},"",{"$f":"IF(COUNTIF(AQ$2:AQ35,AQ35)=1,AQ35,\"\")","v":""},"","","",null,{"$f":"+IF(BD35=\"\",\"\",MAX(AY$1:AY34)+1)","v":""},{"$f":"IF(Deviation_CEM_CPMS!B57=\"\",\"\",Deviation_CEM_CPMS!B57)","v":""},{"$f":"IF(Deviation_CEM_CPMS!C57=\"\",\"\",Deviation_CEM_CPMS!C57)","v":""},{"$f":"IF(Deviation_CEM_CPMS!D57=\"\",\"\",Deviation_CEM_CPMS!D57)","v":""},"",{"$f":"IF(COUNTIF(BA$2:BA35,BA35)=1,BA35,\"\")","v":""},"","",""]
[{"$f":"IF(B36=\"\",\"\",MAX(A$1:A35)+1)","v":""},{"$f":"+IF(CPMS_Identification!C58=\"\",\"\",CPMS_Identification!C58)","v":""},"",null,{"$f":"IF(F36=\"\",\"\",MAX(E$1:E35)+1)","v":""},{"$f":"IF(Landfill_Gas_ID!C58=\"\",\"\",Landfill_Gas_ID!C58)","v":""},"",null,{"$f":"IF(J36=\"\",\"\",MAX(I$1:I35)+1)","v":""},{"$f":"IF(Distillate_Oil!C58=\"\",\"\",Distillate_Oil!C58)","v":""},"",null,null,null,null,null,null,null,null,null,{"$f":"IF(V36=\"\",\"\",MAX(U$1:U35)+1)","v":""},{"$f":"IF(CPMS_Identification!D58=\"\",\"\",CPMS_Identification!D58)","v":""},"",null,null,null,{"$f":"+IF(AE36=\"\",\"\",MAX(AA$1:AA35)+1)","v":""},{"$f":"IF(Deviation_Limits!B58=\"\",\"\",Deviation_Limits!B58)","v":""},{"$f":"IF(Deviation_Limits!C58=\"\",\"\",Deviation_Limits!C58)","v":""},"",{"$f":"IF(COUNTIF(AC$2:AC36,AC36)=1,AC36,\"\")","v":""},"","",null,null,null,null,null,"NJ",null,{"$f":"+IF(AT36=\"\",\"\",MAX(AO$1:AO35)+1)","v":""},{"$f":"IF(Deviation_Limits!B58=\"\",\"\",Deviation_Limits!B58)","v":""},{"$f":"IF(Deviation_Limits!C58=\"\",\"\",Deviation_Limits!C58)","v":""},{"$f":"IF(Deviation_Limits!D58=\"\",\"\",Deviation_Limits!D58)","v":""},"",{"$f":"IF(COUNTIF(AQ$2:AQ36,AQ36)=1,AQ36,\"\")","v":""},"","","",null,{"$f":"+IF(BD36=\"\",\"\",MAX(AY$1:AY35)+1)","v":""},{"$f":"IF(Deviation_CEM_CPMS!B58=\"\",\"\",Deviation_CEM_CPMS!B58)","v":""},{"$f":"IF(Deviation_CEM_CPMS!C58=\"\",\"\",Deviation_CEM_CPMS!C58)","v":""},{"$f":"IF(Deviation_CEM_CPMS!D58=\"\",\"\",Deviation_CEM_CPMS!D58)","v":""},"",{"$f":"IF(COUNTIF(BA$2:BA36,BA36)=1,BA36,\"\")","v":""},"","",""]
[{"$f":"IF(B37=\"\",\"\",MAX(A$1:A36)+1)","v":""},{"$f":"+IF(CPMS_Identification!C59=\"\",\"\",CPMS_Identification!C59)","v":""},"",null,{"$f":"IF(F37=\"\",\"\",MAX(E$1:E36)+1)","v":""},{"$f":"IF(Landfill_Gas_ID!C59=\"\",\"\",Landfill_Gas_ID!C59)","v":""},"",null,{"$f":"IF(J37=\"\",\"\",MAX(I$1:I36)+1)","v":""},{"$f":"IF(Distillate_Oil!C59=\"\",\"\",Distillate_Oil!C59)","v":""},"",null,null,null,null,null,null,null,null,null,{"$f":"IF(V37=\"\",\"\",MAX(U$1:U36)+1)","v":""},{"$f":"IF(CPMS_Identification!D59=\"\",\"\",CPMS_Identification!D59)","v":""},"",null,null,null,{"$f":"+IF(AE37=\"\",\"\",MAX(AA$1:AA36)+1)","v":""},{"$f":"IF(Deviation_Limits!B59=\"\",\"\",Deviation_Limits!B59)","v":""},{"$f":"IF(Deviation_Limits!C59=\"\",\"\",Deviation_Limits!C59)","v":""},"",{"$f":"IF(COUNTIF(AC$2:AC37,AC37)=1,AC37,\"\")","v":""},"","",null,null,null,null,null,"NM",null,{"$f":"+IF(AT37=\"\",\"\",MAX(AO$1:AO36)+1)","v":""},{"$f":"IF(Deviation_Limits!B59=\"\",\"\",Deviation_Limits!B59)","v":""},{"$f":"IF(Deviation_Limits!C59=\"\",\"\",Deviation_Limits!C59)","v":""},{"$f":"IF(Deviation_Limits!D59=\"\",\"\",Deviation_Limits!D59)","v":""},"",{"$f":"IF(COUNTIF(AQ$2:AQ37,AQ37)=1,AQ37,\"\")","v":""},"","","",null,{"$f":"+IF(BD37=\"\",\"\",MAX(AY$1:AY36)+1)","v":""},{"$f":"IF(Deviation_CEM_CPMS!B59=\"\",\"\",Deviation_CEM_CPMS!B59)","v":""},{"$f":"IF(Deviation_CEM_CPMS!C59=\"\",\"\",Deviation_CEM_CPMS!C59)","v":""},{"$f":"IF(Deviation_CEM_CPMS!D59=\"\",\"\",Deviation_CEM_CPMS!D59)","v":""},"",{"$f":"IF(COUNTIF(BA$2:BA37,BA37)=1,BA37,\"\")","v":""},"","",""]
[{"$f":"IF(B38=\"\",\"\",MAX(A$1:A37)+1)","v":""},{"$f":"+IF(CPMS_Identification!C60=\"\",\"\",CPMS_Identification!C60)","v":""},"",null,{"$f":"IF(F38=\"\",\"\",MAX(E$1:E37)+1)","v":""},{"$f":"IF(Landfill_Gas_ID!C60=\"\",\"\",Landfill_Gas_ID!C60)","v":""},"",null,{"$f":"IF(J38=\"\",\"\",MAX(I$1:I37)+1)","v":""},{"$f":"IF(Distillate_Oil!C60=\"\",\"\",Distillate_Oil!C60)","v":""},"",null,null,null,null,null,null,null,null,null,{"$f":"IF(V38=\"\",\"\",MAX(U$1:U37)+1)","v":""},{"$f":"IF(CPMS_Identification!D60=\"\",\"\",CPMS_Identification!D60)","v":""},"",null,null,null,{"$f":"+IF(AE38=\"\",\"\",MAX(AA$1:AA37)+1)","v":""},{"$f":"IF(Deviation_Limits!B60=\"\",\"\",Deviation_Limits!B60)","v":""},{"$f":"IF(Deviation_Limits!C60=\"\",\"\",Deviation_Limits!C60)","v":""},"",{"$f":"IF(COUNTIF(AC$2:AC38,AC38)=1,AC38,\"\")","v":""},"","",null,null,null,null,null,"NV",null,{"$f":"+IF(AT38=\"\",\"\",MAX(AO$1:AO37)+1)","v":""},{"$f":"IF(Deviation_Limits!B60=\"\",\"\",Deviation_Limits!B60)","v":""},{"$f":"IF(Deviation_Limits!C60=\"\",\"\",Deviation_Limits!C60)","v":""},{"$f":"IF(Deviation_Limits!D60=\"\",\"\",Deviation_Limits!D60)","v":""},"",{"$f":"IF(COUNTIF(AQ$2:AQ38,AQ38)=1,AQ38,\"\")","v":""},"","","",null,{"$f":"+IF(BD38=\"\",\"\",MAX(AY$1:AY37)+1)","v":""},{"$f":"IF(Deviation_CEM_CPMS!B60=\"\",\"\",Deviation_CEM_CPMS!B60)","v":""},{"$f":"IF(Deviation_CEM_CPMS!C60=\"\",\"\",Deviation_CEM_CPMS!C60)","v":""},{"$f":"IF(Deviation_CEM_CPMS!D60=\"\",\"\",Deviation_CEM_CPMS!D60)","v":""},"",{"$f":"IF(COUNTIF(BA$2:BA38,BA38)=1,BA38,\"\")","v":""},"","",""]
[{"$f":"IF(B39=\"\",\"\",MAX(A$1:A38)+1)","v":""},{"$f":"+IF(CPMS_Identification!C61=\"\",\"\",CPMS_Identification!C61)","v":""},"",null,{"$f":"IF(F39=\"\",\"\",MAX(E$1:E38)+1)","v":""},{"$f":"IF(Landfill_Gas_ID!C61=\"\",\"\",Landfill_Gas_ID!C61)","v":""},"",null,{"$f":"IF(J39=\"\",\"\",MAX(I$1:I38)+1)","v":""},{"$f":"IF(Distillate_Oil!C61=\"\",\"\",Distillate_Oil!C61)","v":""},"",null,null,null,null,null,null,null,null,null,{"$f":"IF(V39=\"\",\"\",MAX(U$1:U38)+1)","v":""},{"$f":"IF(CPMS_Identification!D61=\"\",\"\",CPMS_Identification!D61)","v":""},"",null,null,null,{"$f":"+IF(AE39=\"\",\"\",MAX(AA$1:AA38)+1)","v":""},{"$f":"IF(Deviation_Limits!B61=\"\",\"\",Deviation_Limits!B61)","v":""},{"$f":"IF(Deviation_Limits!C61=\"\",\"\",Deviation_Limits!C61)","v":""},"",{"$f":"IF(COUNTIF(AC$2:AC39,AC39)=1,AC39,\"\")","v":""},"","",null,null,null,null,null,"NY",null,{"$f":"+IF(AT39=\"\",\"\",MAX(AO$1:AO38)+1)","v":""},{"$f":"IF(Deviation_Limits!B61=\"\",\"\",Deviation_Limits!B61)","v":""},{"$f":"IF(Deviation_Limits!C61=\"\",\"\",Deviation_Limits!C61)","v":""},{"$f":"IF(Deviation_Limits!D61=\"\",\"\",Deviation_Limits!D61)","v":""},"",{"$f":"IF(COUNTIF(AQ$2:AQ39,AQ39)=1,AQ39,\"\")","v":""},"","","",null,{"$f":"+IF(BD39=\"\",\"\",MAX(AY$1:AY38)+1)","v":""},{"$f":"IF(Deviation_CEM_CPMS!B61=\"\",\"\",Deviation_CEM_CPMS!B61)","v":""},{"$f":"IF(Deviation_CEM_CPMS!C61=\"\",\"\",Deviation_CEM_CPMS!C61)","v":""},{"$f":"IF(Deviation_CEM_CPMS!D61=\"\",\"\",Deviation_CEM_CPMS!D61)","v":""},"",{"$f":"IF(COUNTIF(BA$2:BA39,BA39)=1,BA39,\"\")","v":""},"","",""]
[{"$f":"IF(B40=\"\",\"\",MAX(A$1:A39)+1)","v":""},{"$f":"+IF(CPMS_Identification!C62=\"\",\"\",CPMS_Identification!C62)","v":""},"",null,{"$f":"IF(F40=\"\",\"\",MAX(E$1:E39)+1)","v":""},{"$f":"IF(Landfill_Gas_ID!C62=\"\",\"\",Landfill_Gas_ID!C62)","v":""},"",null,{"$f":"IF(J40=\"\",\"\",MAX(I$1:I39)+1)","v":""},{"$f":"IF(Distillate_Oil!C62=\"\",\"\",Distillate_Oil!C62)","v":""},"",null,null,null,null,null,null,null,null,null,{"$f":"IF(V40=\"\",\"\",MAX(U$1:U39)+1)","v":""},{"$f":"IF(CPMS_Identification!D62=\"\",\"\",CPMS_Identification!D62)","v":""},"",null,null,null,{"$f":"+IF(AE40=\"\",\"\",MAX(AA$1:AA39)+1)","v":""},{"$f":"IF(Deviation_Limits!B62=\"\",\"\",Deviation_Limits!B62)","v":""},{"$f":"IF(Deviation_Limits!C62=\"\",\"\",Deviation_Limits!C62)","v":""},"",{"$f":"IF(COUNTIF(AC$2:AC40,AC40)=1,AC40,\"\")","v":""},"","",null,null,null,null,null,"OH",null,{"$f":"+IF(AT40=\"\",\"\",MAX(AO$1:AO39)+1)","v":""},{"$f":"IF(Deviation_Limits!B62=\"\",\"\",Deviation_Limits!B62)","v":""},{"$f":"IF(Deviation_Limits!C62=\"\",\"\",Deviation_Limits!C62)","v":""},{"$f":"IF(Deviation_Limits!D62=\"\",\"\",Deviation_Limits!D62)","v":""},"",{"$f":"IF(COUNTIF(AQ$2:AQ40,AQ40)=1,AQ40,\"\")","v":""},"","","",null,{"$f":"+IF(BD40=\"\",\"\",MAX(AY$1:AY39)+1)","v":""},{"$f":"IF(Deviation_CEM_CPMS!B62=\"\",\"\",Deviation_CEM_CPMS!B62)","v":""},{"$f":"IF(Deviation_CEM_CPMS!C62=\"\",\"\",Deviation_CEM_CPMS!C62)","v":""},{"$f":"IF(Deviation_CEM_CPMS!D62=\"\",\"\",Deviation_CEM_CPMS!D62)","v":""},"",{"$f":"IF(COUNTIF(BA$2:BA40,BA40)=1,BA40,\"\")","v":""},"","",""]
[{"$f":"IF(B41=\"\",\"\",MAX(A$1:A40)+1)","v":""},{"$f":"+IF(CPMS_Identification!C63=\"\",\"\",CPMS_Identification!C63)","v":""},"",null,{"$f":"IF(F41=\"\",\"\",MAX(E$1:E40)+1)","v":""},{"$f":"IF(Landfill_Gas_ID!C63=\"\",\"\",Landfill_Gas_ID!C63)","v":""},"",null,{"$f":"IF(J41=\"\",\"\",MAX(I$1:I40)+1)","v":""},{"$f":"IF(Distillate_Oil!C63=\"\",\"\",Distillate_Oil!C63)","v":""},"",null,null,null,null,null,null,null,null,null,{"$f":"IF(V41=\"\",\"\",MAX(U$1:U40)+1)","v":""},{"$f":"IF(CPMS_Identification!D63=\"\",\"\",CPMS_Identification!D63)","v":""},"",null,null,null,{"$f":"+IF(AE41=\"\",\"\",MAX(AA$1:AA40)+1)","v":""},{"$f":"IF(Deviation_Limits!B63=\"\",\"\",Deviation_Limits!B63)","v":""},{"$f":"IF(Deviation_Limits!C63=\"\",\"\",Deviation_Limits!C63)","v":""},"",{"$f":"IF(COUNTIF(AC$2:AC41,AC41)=1,AC41,\"\")","v":""},"","",null,null,null,null,null,"OK",null,{"$f":"+IF(AT41=\"\",\"\",MAX(AO$1:AO40)+1)","v":""},{"$f":"IF(Deviation_Limits!B63=\"\",\"\",Deviation_Limits!B63)","v":""},{"$f":"IF(Deviation_Limits!C63=\"\",\"\",Deviation_Limits!C63)","v":""},{"$f":"IF(Deviation_Limits!D63=\"\",\"\",Deviation_Limits!D63)","v":""},"",{"$f":"IF(COUNTIF(AQ$2:AQ41,AQ41)=1,AQ41,\"\")","v":""},"","","",null,{"$f":"+IF(BD41=\"\",\"\",MAX(AY$1:AY40)+1)","v":""},{"$f":"IF(Deviation_CEM_CPMS!B63=\"\",\"\",Deviation_CEM_CPMS!B63)","v":""},{"$f":"IF(Deviation_CEM_CPMS!C63=\"\",\"\",Deviation_CEM_CPMS!C63)","v":""},{"$f":"IF(Deviation_CEM_CPMS!D63=\"\",\"\",Deviation_CEM_CPMS!D63)","v":""},"",{"$f":"IF(COUNTIF(BA$2:BA41,BA41)=1,BA41,\"\")","v":""},"","",""]
[{"$f":"IF(B42=\"\",\"\",MAX(A$1:A41)+1)","v":""},{"$f":"+IF(CPMS_Identification!C64=\"\",\"\",CPMS_Identification!C64)","v":""},"",null,{"$f":"IF(F42=\"\",\"\",MAX(E$1:E41)+1)","v":""},{"$f":"IF(Landfill_Gas_ID!C64=\"\",\"\",Landfill_Gas_ID!C64)","v":""},"",null,{"$f":"IF(J42=\"\",\"\",MAX(I$1:I41)+1)","v":""},{"$f":"IF(Distillate_Oil!C64=\"\",\"\",Distillate_Oil!C64)","v":""},"",null,null,null,null,null,null,null,null,null,{"$f":"IF(V42=\"\",\"\",MAX(U$1:U41)+1)","v":""},{"$f":"IF(CPMS_Identification!D64=\"\",\"\",CPMS_Identification!D64)","v":""},"",null,null,null,{"$f":"+IF(AE42=\"\",\"\",MAX(AA$1:AA41)+1)","v":""},{"$f":"IF(Deviation_Limits!B64=\"\",\"\",Deviation_Limits!B64)","v":""},{"$f":"IF(Deviation_Limits!C64=\"\",\"\",Deviation_Limits!C64)","v":""},"",{"$f":"IF(COUNTIF(AC$2:AC42,AC42)=1,AC42,\"\")","v":""},"","",null,null,null,null,null,"OR",null,{"$f":"+IF(AT42=\"\",\"\",MAX(AO$1:AO41)+1)","v":""},{"$f":"IF(Deviation_Limits!B64=\"\",\"\",Deviation_Limits!B64)","v":""},{"$f":"IF(Deviation_Limits!C64=\"\",\"\",Deviation_Limits!C64)","v":""},{"$f":"IF(Deviation_Limits!D64=\"\",\"\",Deviation_Limits!D64)","v":""},"",{"$f":"IF(COUNTIF(AQ$2:AQ42,AQ42)=1,AQ42,\"\")","v":""},"","","",null,{"$f":"+IF(BD42=\"\",\"\",MAX(AY$1:AY41)+1)","v":""},{"$f":"IF(Deviation_CEM_CPMS!B64=\"\",\"\",Deviation_CEM_CPMS!B64)","v":""},{"$f":"IF(Deviation_CEM_CPMS!C64=\"\",\"\",Deviation_CEM_CPMS!C64)","v":""},{"$f":"IF(Deviation_CEM_CPMS!D64=\"\",\"\",Deviation_CEM_CPMS!D64)","v":""},"",{"$f":"IF(COUNTIF(BA$2:BA42,BA42)=1,BA42,\"\")","v":""},"","",""]
[{"$f":"IF(B43=\"\",\"\",MAX(A$1:A42)+1)","v":""},{"$f":"+IF(CPMS_Identification!C65=\"\",\"\",CPMS_Identification!C65)","v":""},"",null,{"$f":"IF(F43=\"\",\"\",MAX(E$1:E42)+1)","v":""},{"$f":"IF(Landfill_Gas_ID!C65=\"\",\"\",Landfill_Gas_ID!C65)","v":""},"",null,{"$f":"IF(J43=\"\",\"\",MAX(I$1:I42)+1)","v":""},{"$f":"IF(Distillate_Oil!C65=\"\",\"\",Distillate_Oil!C65)","v":""},"",null,null,null,null,null,null,null,null,null,{"$f":"IF(V43=\"\",\"\",MAX(U$1:U42)+1)","v":""},{"$f":"IF(CPMS_Identification!D65=\"\",\"\",CPMS_Identification!D65)","v":""},"",null,null,null,{"$f":"+IF(AE43=\"\",\"\",MAX(AA$1:AA42)+1)","v":""},{"$f":"IF(Deviation_Limits!B65=\"\",\"\",Deviation_Limits!B65)","v":""},{"$f":"IF(Deviation_Limits!C65=\"\",\"\",Deviation_Limits!C65)","v":""},"",{"$f":"IF(COUNTIF(AC$2:AC43,AC43)=1,AC43,\"\")","v":""},"","",null,null,null,null,null,"PA",null,{"$f":"+IF(AT43=\"\",\"\",MAX(AO$1:AO42)+1)","v":""},{"$f":"IF(Deviation_Limits!B65=\"\",\"\",Deviation_Limits!B65)","v":""},{"$f":"IF(Deviation_Limits!C65=\"\",\"\",Deviation_Limits!C65)","v":""},{"$f":"IF(Deviation_Limits!D65=\"\",\"\",Deviation_Limits!D65)","v":""},"",{"$f":"IF(COUNTIF(AQ$2:AQ43,AQ43)=1,AQ43,\"\")","v":""},"","","",null,{"$f":"+IF(BD43=\"\",\"\",MAX(AY$1:AY42)+1)","v":""},{"$f":"IF(Deviation_CEM_CPMS!B65=\"\",\"\",Deviation_CEM_CPMS!B65)","v":""},{"$f":"IF(Deviation_CEM_CPMS!C65=\"\",\"\",Deviation_CEM_CPMS!C65)","v":""},{"$f":"IF(Deviation_CEM_CPMS!D65=\"\",\"\",Deviation_CEM_CPMS!D65)","v":""},"",{"$f":"IF(COUNTIF(BA$2:BA43,BA43)=1,BA43,\"\")","v":""},"","",""]
[{"$f":"IF(B44=\"\",\"\",MAX(A$1:A43)+1)","v":""},{"$f":"+IF(CPMS_Identification!C66=\"\",\"\",CPMS_Identification!C66)","v":""},"",null,{"$f":"IF(F44=\"\",\"\",MAX(E$1:E43)+1)","v":""},{"$f":"IF(Landfill_Gas_ID!C66=\"\",\"\",Landfill_Gas_ID!C66)","v":""},"",null,{"$f":"IF(J44=\"\",\"\",MAX(I$1:I43)+1)","v":""},{"$f":"IF(Distillate_Oil!C66=\"\",\"\",Distillate_Oil!C66)","v":""},"",null,null,null,null,null,null,null,null,null,{"$f":"IF(V44=\"\",\"\",MAX(U$1:U43)+1)","v":""},{"$f":"IF(CPMS_Identification!D66=\"\",\"\",CPMS_Identification!D66)","v":""},"",null,null,null,{"$f":"+IF(AE44=\"\",\"\",MAX(AA$1:AA43)+1)","v":""},{"$f":"IF(Deviation_Limits!B66=\"\",\"\",Deviation_Limits!B66)","v":""},{"$f":"IF(Deviation_Limits!C66=\"\",\"\",Deviation_Limits!C66)","v":""},"",{"$f":"IF(COUNTIF(AC$2:AC44,AC44)=1,AC44,\"\")","v":""},"","",null,null,null,null,null,"PR",null,{"$f":"+IF(AT44=\"\",\"\",MAX(AO$1:AO43)+1)","v":""},{"$f":"IF(Deviation_Limits!B66=\"\",\"\",Deviation_Limits!B66)","v":""},{"$f":"IF(Deviation_Limits!C66=\"\",\"\",Deviation_Limits!C66)","v":""},{"$f":"IF(Deviation_Limits!D66=\"\",\"\",Deviation_Limits!D66)","v":""},"",{"$f":"IF(COUNTIF(AQ$2:AQ44,AQ44)=1,AQ44,\"\")","v":""},"","","",null,{"$f":"+IF(BD44=\"\",\"\",MAX(AY$1:AY43)+1)","v":""},{"$f":"IF(Deviation_CEM_CPMS!B66=\"\",\"\",Deviation_CEM_CPMS!B66)","v":""},{"$f":"IF(Deviation_CEM_CPMS!C66=\"\",\"\",Deviation_CEM_CPMS!C66)","v":""},{"$f":"IF(Deviation_CEM_CPMS!D66=\"\",\"\",Deviation_CEM_CPMS!D66)","v":""},"",{"$f":"IF(COUNTIF(BA$2:BA44,BA44)=1,BA44,\"\")","v":""},"","",""]
[{"$f":"IF(B45=\"\",\"\",MAX(A$1:A44)+1)","v":""},{"$f":"+IF(CPMS_Identification!C67=\"\",\"\",CPMS_Identification!C67)","v":""},"",null,{"$f":"IF(F45=\"\",\"\",MAX(E$1:E44)+1)","v":""},{"$f":"IF(Landfill_Gas_ID!C67=\"\",\"\",Landfill_Gas_ID!C67)","v":""},"",null,{"$f":"IF(J45=\"\",\"\",MAX(I$1:I44)+1)","v":""},{"$f":"IF(Distillate_Oil!C67=\"\",\"\",Distillate_Oil!C67)","v":""},"",null,null,null,null,null,null,null,null,null,{"$f":"IF(V45=\"\",\"\",MAX(U$1:U44)+1)","v":""},{"$f":"IF(CPMS_Identification!D67=\"\",\"\",CPMS_Identification!D67)","v":""},"",null,null,null,{"$f":"+IF(AE45=\"\",\"\",MAX(AA$1:AA44)+1)","v":""},{"$f":"IF(Deviation_Limits!B67=\"\",\"\",Deviation_Limits!B67)","v":""},{"$f":"IF(Deviation_Limits!C67=\"\",\"\",Deviation_Limits!C67)","v":""},"",{"$f":"IF(COUNTIF(AC$2:AC45,AC45)=1,AC45,\"\")","v":""},"","",null,null,null,null,null,"RI",null,{"$f":"+IF(AT45=\"\",\"\",MAX(AO$1:AO44)+1)","v":""},{"$f":"IF(Deviation_Limits!B67=\"\",\"\",Deviation_Limits!B67)","v":""},{"$f":"IF(Deviation_Limits!C67=\"\",\"\",Deviation_Limits!C67)","v":""},{"$f":"IF(Deviation_Limits!D67=\"\",\"\",Deviation_Limits!D67)","v":""},"",{"$f":"IF(COUNTIF(AQ$2:AQ45,AQ45)=1,AQ45,\"\")","v":""},"","","",null,{"$f":"+IF(BD45=\"\",\"\",MAX(AY$1:AY44)+1)","v":""},{"$f":"IF(Deviation_CEM_CPMS!B67=\"\",\"\",Deviation_CEM_CPMS!B67)","v":""},{"$f":"IF(Deviation_CEM_CPMS!C67=\"\",\"\",Deviation_CEM_CPMS!C67)","v":""},{"$f":"IF(Deviation_CEM_CPMS!D67=\"\",\"\",Deviation_CEM_CPMS!D67)","v":""},"",{"$f":"IF(COUNTIF(BA$2:BA45,BA45)=1,BA45,\"\")","v":""},"","",""]
[{"$f":"IF(B46=\"\",\"\",MAX(A$1:A45)+1)","v":""},{"$f":"+IF(CPMS_Identification!C68=\"\",\"\",CPMS_Identification!C68)","v":""},"",null,{"$f":"IF(F46=\"\",\"\",MAX(E$1:E45)+1)","v":""},{"$f":"IF(Landfill_Gas_ID!C68=\"\",\"\",Landfill_Gas_ID!C68)","v":""},"",null,{"$f":"IF(J46=\"\",\"\",MAX(I$1:I45)+1)","v":""},{"$f":"IF(Distillate_Oil!C68=\"\",\"\",Distillate_Oil!C68)","v":""},"",null,null,null,null,null,null,null,null,null,{"$f":"IF(V46=\"\",\"\",MAX(U$1:U45)+1)","v":""},{"$f":"IF(CPMS_Identification!D68=\"\",\"\",CPMS_Identification!D68)","v":""},"",null,null,null,{"$f":"+IF(AE46=\"\",\"\",MAX(AA$1:AA45)+1)","v":""},{"$f":"IF(Deviation_Limits!B68=\"\",\"\",Deviation_Limits!B68)","v":""},{"$f":"IF(Deviation_Limits!C68=\"\",\"\",Deviation_Limits!C68)","v":""},"",{"$f":"IF(COUNTIF(AC$2:AC46,AC46)=1,AC46,\"\")","v":""},"","",null,null,null,null,null,"SC",null,{"$f":"+IF(AT46=\"\",\"\",MAX(AO$1:AO45)+1)","v":""},{"$f":"IF(Deviation_Limits!B68=\"\",\"\",Deviation_Limits!B68)","v":""},{"$f":"IF(Deviation_Limits!C68=\"\",\"\",Deviation_Limits!C68)","v":""},{"$f":"IF(Deviation_Limits!D68=\"\",\"\",Deviation_Limits!D68)","v":""},"",{"$f":"IF(COUNTIF(AQ$2:AQ46,AQ46)=1,AQ46,\"\")","v":""},"","","",null,{"$f":"+IF(BD46=\"\",\"\",MAX(AY$1:AY45)+1)","v":""},{"$f":"IF(Deviation_CEM_CPMS!B68=\"\",\"\",Deviation_CEM_CPMS!B68)","v":""},{"$f":"IF(Deviation_CEM_CPMS!C68=\"\",\"\",Deviation_CEM_CPMS!C68)","v":""},{"$f":"IF(Deviation_CEM_CPMS!D68=\"\",\"\",Deviation_CEM_CPMS!D68)","v":""},"",{"$f":"IF(COUNTIF(BA$2:BA46,BA46)=1,BA46,\"\")","v":""},"","",""]
[{"$f":"IF(B47=\"\",\"\",MAX(A$1:A46)+1)","v":""},{"$f":"+IF(CPMS_Identification!C69=\"\",\"\",CPMS_Identification!C69)","v":""},"",null,{"$f":"IF(F47=\"\",\"\",MAX(E$1:E46)+1)","v":""},{"$f":"IF(Landfill_Gas_ID!C69=\"\",\"\",Landfill_Gas_ID!C69)","v":""},"",null,{"$f":"IF(J47=\"\",\"\",MAX(I$1:I46)+1)","v":""},{"$f":"IF(Distillate_Oil!C69=\"\",\"\",Distillate_Oil!C69)","v":""},"",null,null,null,null,null,null,null,null,null,{"$f":"IF(V47=\"\",\"\",MAX(U$1:U46)+1)","v":""},{"$f":"IF(CPMS_Identification!D69=\"\",\"\",CPMS_Identification!D69)","v":""},"",null,null,null,{"$f":"+IF(AE47=\"\",\"\",MAX(AA$1:AA46)+1)","v":""},{"$f":"IF(Deviation_Limits!B69=\"\",\"\",Deviation_Limits!B69)","v":""},{"$f":"IF(Deviation_Limits!C69=\"\",\"\",Deviation_Limits!C69)","v":""},"",{"$f":"IF(COUNTIF(AC$2:AC47,AC47)=1,AC47,\"\")","v":""},"","",null,null,null,null,null,"SD",null,{"$f":"+IF(AT47=\"\",\"\",MAX(AO$1:AO46)+1)","v":""},{"$f":"IF(Deviation_Limits!B69=\"\",\"\",Deviation_Limits!B69)","v":""},{"$f":"IF(Deviation_Limits!C69=\"\",\"\",Deviation_Limits!C69)","v":""},{"$f":"IF(Deviation_Limits!D69=\"\",\"\",Deviation_Limits!D69)","v":""},"",{"$f":"IF(COUNTIF(AQ$2:AQ47,AQ47)=1,AQ47,\"\")","v":""},"","","",null,{"$f":"+IF(BD47=\"\",\"\",MAX(AY$1:AY46)+1)","v":""},{"$f":"IF(Deviation_CEM_CPMS!B69=\"\",\"\",Deviation_CEM_CPMS!B69)","v":""},{"$f":"IF(Deviation_CEM_CPMS!C69=\"\",\"\",Deviation_CEM_CPMS!C69)","v":""},{"$f":"IF(Deviation_CEM_CPMS!D69=\"\",\"\",Deviation_CEM_CPMS!D69)","v":""},"",{"$f":"IF(COUNTIF(BA$2:BA47,BA47)=1,BA47,\"\")","v":""},"","",""]
[{"$f":"IF(B48=\"\",\"\",MAX(A$1:A47)+1)","v":""},{"$f":"+IF(CPMS_Identification!C70=\"\",\"\",CPMS_Identification!C70)","v":""},"",null,{"$f":"IF(F48=\"\",\"\",MAX(E$1:E47)+1)","v":""},{"$f":"IF(Landfill_Gas_ID!C70=\"\",\"\",Landfill_Gas_ID!C70)","v":""},"",null,{"$f":"IF(J48=\"\",\"\",MAX(I$1:I47)+1)","v":""},{"$f":"IF(Distillate_Oil!C70=\"\",\"\",Distillate_Oil!C70)","v":""},"",null,null,null,null,null,null,null,null,null,{"$f":"IF(V48=\"\",\"\",MAX(U$1:U47)+1)","v":""},{"$f":"IF(CPMS_Identification!D70=\"\",\"\",CPMS_Identification!D70)","v":""},"",null,null,null,{"$f":"+IF(AE48=\"\",\"\",MAX(AA$1:AA47)+1)","v":""},{"$f":"IF(Deviation_Limits!B70=\"\",\"\",Deviation_Limits!B70)","v":""},{"$f":"IF(Deviation_Limits!C70=\"\",\"\",Deviation_Limits!C70)","v":""},"",{"$f":"IF(COUNTIF(AC$2:AC48,AC48)=1,AC48,\"\")","v":""},"","",null,null,null,null,null,"TN",null,{"$f":"+IF(AT48=\"\",\"\",MAX(AO$1:AO47)+1)","v":""},{"$f":"IF(Deviation_Limits!B70=\"\",\"\",Deviation_Limits!B70)","v":""},{"$f":"IF(Deviation_Limits!C70=\"\",\"\",Deviation_Limits!C70)","v":""},{"$f":"IF(Deviation_Limits!D70=\"\",\"\",Deviation_Limits!D70)","v":""},"",{"$f":"IF(COUNTIF(AQ$2:AQ48,AQ48)=1,AQ48,\"\")","v":""},"","","",null,{"$f":"+IF(BD48=\"\",\"\",MAX(AY$1:AY47)+1)","v":""},{"$f":"IF(Deviation_CEM_CPMS!B70=\"\",\"\",Deviation_CEM_CPMS!B70)","v":""},{"$f":"IF(Deviation_CEM_CPMS!C70=\"\",\"\",Deviation_CEM_CPMS!C70)","v":""},{"$f":"IF(Deviation_CEM_CPMS!D70=\"\",\"\",Deviation_CEM_CPMS!D70)","v":""},"",{"$f":"IF(COUNTIF(BA$2:BA48,BA48)=1,BA48,\"\")","v":""},"","",""]
[{"$f":"IF(B49=\"\",\"\",MAX(A$1:A48)+1)","v":""},{"$f":"+IF(CPMS_Identification!C71=\"\",\"\",CPMS_Identification!C71)","v":""},"",null,{"$f":"IF(F49=\"\",\"\",MAX(E$1:E48)+1)","v":""},{"$f":"IF(Landfill_Gas_ID!C71=\"\",\"\",Landfill_Gas_ID!C71)","v":""},"",null,{"$f":"IF(J49=\"\",\"\",MAX(I$1:I48)+1)","v":""},{"$f":"IF(Distillate_Oil!C71=\"\",\"\",Distillate_Oil!C71)","v":""},"",null,null,null,null,null,null,null,null,null,{"$f":"IF(V49=\"\",\"\",MAX(U$1:U48)+1)","v":""},{"$f":"IF(CPMS_Identification!D71=\"\",\"\",CPMS_Identification!D71)","v":""},"",null,null,null,{"$f":"+IF(AE49=\"\",\"\",MAX(AA$1:AA48)+1)","v":""},{"$f":"IF(Deviation_Limits!B71=\"\",\"\",Deviation_Limits!B71)","v":""},{"$f":"IF(Deviation_Limits!C71=\"\",\"\",Deviation_Limits!C71)","v":""},"",{"$f":"IF(COUNTIF(AC$2:AC49,AC49)=1,AC49,\"\")","v":""},"","",null,null,null,null,null,"TX",null,{"$f":"+IF(AT49=\"\",\"\",MAX(AO$1:AO48)+1)","v":""},{"$f":"IF(Deviation_Limits!B71=\"\",\"\",Deviation_Limits!B71)","v":""},{"$f":"IF(Deviation_Limits!C71=\"\",\"\",Deviation_Limits!C71)","v":""},{"$f":"IF(Deviation_Limits!D71=\"\",\"\",Deviation_Limits!D71)","v":""},"",{"$f":"IF(COUNTIF(AQ$2:AQ49,AQ49)=1,AQ49,\"\")","v":""},"","","",null,{"$f":"+IF(BD49=\"\",\"\",MAX(AY$1:AY48)+1)","v":""},{"$f":"IF(Deviation_CEM_CPMS!B71=\"\",\"\",Deviation_CEM_CPMS!B71)","v":""},{"$f":"IF(Deviation_CEM_CPMS!C71=\"\",\"\",Deviation_CEM_CPMS!C71)","v":""},{"$f":"IF(Deviation_CEM_CPMS!D71=\"\",\"\",Deviation_CEM_CPMS!D71)","v":""},"",{"$f":"IF(COUNTIF(BA$2:BA49,BA49)=1,BA49,\"\")","v":""},"","",""]
[{"$f":"IF(B50=\"\",\"\",MAX(A$1:A49)+1)","v":""},{"$f":"+IF(CPMS_Identification!C72=\"\",\"\",CPMS_Identification!C72)","v":""},"",null,{"$f":"IF(F50=\"\",\"\",MAX(E$1:E49)+1)","v":""},{"$f":"IF(Landfill_Gas_ID!C72=\"\",\"\",Landfill_Gas_ID!C72)","v":""},"",null,{"$f":"IF(J50=\"\",\"\",MAX(I$1:I49)+1)","v":""},{"$f":"IF(Distillate_Oil!C72=\"\",\"\",Distillate_Oil!C72)","v":""},"",null,null,null,null,null,null,null,null,null,{"$f":"IF(V50=\"\",\"\",MAX(U$1:U49)+1)","v":""},{"$f":"IF(CPMS_Identification!D72=\"\",\"\",CPMS_Identification!D72)","v":""},"",null,null,null,{"$f":"+IF(AE50=\"\",\"\",MAX(AA$1:AA49)+1)","v":""},{"$f":"IF(Deviation_Limits!B72=\"\",\"\",Deviation_Limits!B72)","v":""},{"$f":"IF(Deviation_Limits!C72=\"\",\"\",Deviation_Limits!C72)","v":""},"",{"$f":"IF(COUNTIF(AC$2:AC50,AC50)=1,AC50,\"\")","v":""},"","",null,null,null,null,null,"UT",null,{"$f":"+IF(AT50=\"\",\"\",MAX(AO$1:AO49)+1)","v":""},{"$f":"IF(Deviation_Limits!B72=\"\",\"\",Deviation_Limits!B72)","v":""},{"$f":"IF(Deviation_Limits!C72=\"\",\"\",Deviation_Limits!C72)","v":""},{"$f":"IF(Deviation_Limits!D72=\"\",\"\",Deviation_Limits!D72)","v":""},"",{"$f":"IF(COUNTIF(AQ$2:AQ50,AQ50)=1,AQ50,\"\")","v":""},"","","",null,{"$f":"+IF(BD50=\"\",\"\",MAX(AY$1:AY49)+1)","v":""},{"$f":"IF(Deviation_CEM_CPMS!B72=\"\",\"\",Deviation_CEM_CPMS!B72)","v":""},{"$f":"IF(Deviation_CEM_CPMS!C72=\"\",\"\",Deviation_CEM_CPMS!C72)","v":""},{"$f":"IF(Deviation_CEM_CPMS!D72=\"\",\"\",Deviation_CEM_CPMS!D72)","v":""},"",{"$f":"IF(COUNTIF(BA$2:BA50,BA50)=1,BA50,\"\")","v":""},"","",""]
[{"$f":"IF(B51=\"\",\"\",MAX(A$1:A50)+1)","v":""},{"$f":"+IF(CPMS_Identification!C73=\"\",\"\",CPMS_Identification!C73)","v":""},"",null,{"$f":"IF(F51=\"\",\"\",MAX(E$1:E50)+1)","v":""},{"$f":"IF(Landfill_Gas_ID!C73=\"\",\"\",Landfill_Gas_ID!C73)","v":""},"",null,{"$f":"IF(J51=\"\",\"\",MAX(I$1:I50)+1)","v":""},{"$f":"IF(Distillate_Oil!C73=\"\",\"\",Distillate_Oil!C73)","v":""},"",null,null,null,null,null,null,null,null,null,{"$f":"IF(V51=\"\",\"\",MAX(U$1:U50)+1)","v":""},{"$f":"IF(CPMS_Identification!D73=\"\",\"\",CPMS_Identification!D73)","v":""},"",null,null,null,{"$f":"+IF(AE51=\"\",\"\",MAX(AA$1:AA50)+1)","v":""},{"$f":"IF(Deviation_Limits!B73=\"\",\"\",Deviation_Limits!B73)","v":""},{"$f":"IF(Deviation_Limits!C73=\"\",\"\",Deviation_Limits!C73)","v":""},"",{"$f":"IF(COUNTIF(AC$2:AC51,AC51)=1,AC51,\"\")","v":""},"","",null,null,null,null,null,"VA",null,{"$f":"+IF(AT51=\"\",\"\",MAX(AO$1:AO50)+1)","v":""},{"$f":"IF(Deviation_Limits!B73=\"\",\"\",Deviation_Limits!B73)","v":""},{"$f":"IF(Deviation_Limits!C73=\"\",\"\",Deviation_Limits!C73)","v":""},{"$f":"IF(Deviation_Limits!D73=\"\",\"\",Deviation_Limits!D73)","v":""},"",{"$f":"IF(COUNTIF(AQ$2:AQ51,AQ51)=1,AQ51,\"\")","v":""},"","","",null,{"$f":"+IF(BD51=\"\",\"\",MAX(AY$1:AY50)+1)","v":""},{"$f":"IF(Deviation_CEM_CPMS!B73=\"\",\"\",Deviation_CEM_CPMS!B73)","v":""},{"$f":"IF(Deviation_CEM_CPMS!C73=\"\",\"\",Deviation_CEM_CPMS!C73)","v":""},{"$f":"IF(Deviation_CEM_CPMS!D73=\"\",\"\",Deviation_CEM_CPMS!D73)","v":""},"",{"$f":"IF(COUNTIF(BA$2:BA51,BA51)=1,BA51,\"\")","v":""},"","",""]
[{"$f":"IF(B52=\"\",\"\",MAX(A$1:A51)+1)","v":""},{"$f":"+IF(CPMS_Identification!C74=\"\",\"\",CPMS_Identification!C74)","v":""},"",null,{"$f":"IF(F52=\"\",\"\",MAX(E$1:E51)+1)","v":""},{"$f":"IF(Landfill_Gas_ID!C74=\"\",\"\",Landfill_Gas_ID!C74)","v":""},"",null,{"$f":"IF(J52=\"\",\"\",MAX(I$1:I51)+1)","v":""},{"$f":"IF(Distillate_Oil!C74=\"\",\"\",Distillate_Oil!C74)","v":""},"",null,null,null,null,null,null,null,null,null,{"$f":"IF(V52=\"\",\"\",MAX(U$1:U51)+1)","v":""},{"$f":"IF(CPMS_Identification!D74=\"\",\"\",CPMS_Identification!D74)","v":""},"",null,null,null,{"$f":"+IF(AE52=\"\",\"\",MAX(AA$1:AA51)+1)","v":""},{"$f":"IF(Deviation_Limits!B74=\"\",\"\",Deviation_Limits!B74)","v":""},{"$f":"IF(Deviation_Limits!C74=\"\",\"\",Deviation_Limits!C74)","v":""},"",{"$f":"IF(COUNTIF(AC$2:AC52,AC52)=1,AC52,\"\")","v":""},"","",null,null,null,null,null,"VI",null,{"$f":"+IF(AT52=\"\",\"\",MAX(AO$1:AO51)+1)","v":""},{"$f":"IF(Deviation_Limits!B74=\"\",\"\",Deviation_Limits!B74)","v":""},{"$f":"IF(Deviation_Limits!C74=\"\",\"\",Deviation_Limits!C74)","v":""},{"$f":"IF(Deviation_Limits!D74=\"\",\"\",Deviation_Limits!D74)","v":""},"",{"$f":"IF(COUNTIF(AQ$2:AQ52,AQ52)=1,AQ52,\"\")","v":""},"","","",null,{"$f":"+IF(BD52=\"\",\"\",MAX(AY$1:AY51)+1)","v":""},{"$f":"IF(Deviation_CEM_CPMS!B74=\"\",\"\",Deviation_CEM_CPMS!B74)","v":""},{"$f":"IF(Deviation_CEM_CPMS!C74=\"\",\"\",Deviation_CEM_CPMS!C74)","v":""},{"$f":"IF(Deviation_CEM_CPMS!D74=\"\",\"\",Deviation_CEM_CPMS!D74)","v":""},"",{"$f":"IF(COUNTIF(BA$2:BA52,BA52)=1,BA52,\"\")","v":""},"","",""]
[{"$f":"IF(B53=\"\",\"\",MAX(A$1:A52)+1)","v":""},{"$f":"+IF(CPMS_Identification!C75=\"\",\"\",CPMS_Identification!C75)","v":""},"",null,{"$f":"IF(F53=\"\",\"\",MAX(E$1:E52)+1)","v":""},{"$f":"IF(Landfill_Gas_ID!C75=\"\",\"\",Landfill_Gas_ID!C75)","v":""},"",null,{"$f":"IF(J53=\"\",\"\",MAX(I$1:I52)+1)","v":""},{"$f":"IF(Distillate_Oil!C75=\"\",\"\",Distillate_Oil!C75)","v":""},"",null,null,null,null,null,null,null,null,null,{"$f":"IF(V53=\"\",\"\",MAX(U$1:U52)+1)","v":""},{"$f":"IF(CPMS_Identification!D75=\"\",\"\",CPMS_Identification!D75)","v":""},"",null,null,null,{"$f":"+IF(AE53=\"\",\"\",MAX(AA$1:AA52)+1)","v":""},{"$f":"IF(Deviation_Limits!B75=\"\",\"\",Deviation_Limits!B75)","v":""},{"$f":"IF(Deviation_Limits!C75=\"\",\"\",Deviation_Limits!C75)","v":""},"",{"$f":"IF(COUNTIF(AC$2:AC53,AC53)=1,AC53,\"\")","v":""},"","",null,null,null,null,null,"VT",null,{"$f":"+IF(AT53=\"\",\"\",MAX(AO$1:AO52)+1)","v":""},{"$f":"IF(Deviation_Limits!B75=\"\",\"\",Deviation_Limits!B75)","v":""},{"$f":"IF(Deviation_Limits!C75=\"\",\"\",Deviation_Limits!C75)","v":""},{"$f":"IF(Deviation_Limits!D75=\"\",\"\",Deviation_Limits!D75)","v":""},"",{"$f":"IF(COUNTIF(AQ$2:AQ53,AQ53)=1,AQ53,\"\")","v":""},"","","",null,{"$f":"+IF(BD53=\"\",\"\",MAX(AY$1:AY52)+1)","v":""},{"$f":"IF(Deviation_CEM_CPMS!B75=\"\",\"\",Deviation_CEM_CPMS!B75)","v":""},{"$f":"IF(Deviation_CEM_CPMS!C75=\"\",\"\",Deviation_CEM_CPMS!C75)","v":""},{"$f":"IF(Deviation_CEM_CPMS!D75=\"\",\"\",Deviation_CEM_CPMS!D75)","v":""},"",{"$f":"IF(COUNTIF(BA$2:BA53,BA53)=1,BA53,\"\")","v":""},"","",""]
[{"$f":"IF(B54=\"\",\"\",MAX(A$1:A53)+1)","v":""},{"$f":"+IF(CPMS_Identification!C76=\"\",\"\",CPMS_Identification!C76)","v":""},"",null,{"$f":"IF(F54=\"\",\"\",MAX(E$1:E53)+1)","v":""},{"$f":"IF(Landfill_Gas_ID!C76=\"\",\"\",Landfill_Gas_ID!C76)","v":""},"",null,{"$f":"IF(J54=\"\",\"\",MAX(I$1:I53)+1)","v":""},{"$f":"IF(Distillate_Oil!C76=\"\",\"\",Distillate_Oil!C76)","v":""},"",null,null,null,null,null,null,null,null,null,{"$f":"IF(V54=\"\",\"\",MAX(U$1:U53)+1)","v":""},{"$f":"IF(CPMS_Identification!D76=\"\",\"\",CPMS_Identification!D76)","v":""},"",null,null,null,{"$f":"+IF(AE54=\"\",\"\",MAX(AA$1:AA53)+1)","v":""},{"$f":"IF(Deviation_Limits!B76=\"\",\"\",Deviation_Limits!B76)","v":""},{"$f":"IF(Deviation_Limits!C76=\"\",\"\",Deviation_Limits!C76)","v":""},"",{"$f":"IF(COUNTIF(AC$2:AC54,AC54)=1,AC54,\"\")","v":""},"","",null,null,null,null,null,"WA",null,{"$f":"+IF(AT54=\"\",\"\",MAX(AO$1:AO53)+1)","v":""},{"$f":"IF(Deviation_Limits!B76=\"\",\"\",Deviation_Limits!B76)","v":""},{"$f":"IF(Deviation_Limits!C76=\"\",\"\",Deviation_Limits!C76)","v":""},{"$f":"IF(Deviation_Limits!D76=\"\",\"\",Deviation_Limits!D76)","v":""},"",{"$f":"IF(COUNTIF(AQ$2:AQ54,AQ54)=1,AQ54,\"\")","v":""},"","","",null,{"$f":"+IF(BD54=\"\",\"\",MAX(AY$1:AY53)+1)","v":""},{"$f":"IF(Deviation_CEM_CPMS!B76=\"\",\"\",Deviation_CEM_CPMS!B76)","v":""},{"$f":"IF(Deviation_CEM_CPMS!C76=\"\",\"\",Deviation_CEM_CPMS!C76)","v":""},{"$f":"IF(Deviation_CEM_CPMS!D76=\"\",\"\",Deviation_CEM_CPMS!D76)","v":""},"",{"$f":"IF(COUNTIF(BA$2:BA54,BA54)=1,BA54,\"\")","v":""},"","",""]
[{"$f":"IF(B55=\"\",\"\",MAX(A$1:A54)+1)","v":""},{"$f":"+IF(CPMS_Identification!C77=\"\",\"\",CPMS_Identification!C77)","v":""},"",null,{"$f":"IF(F55=\"\",\"\",MAX(E$1:E54)+1)","v":""},{"$f":"IF(Landfill_Gas_ID!C77=\"\",\"\",Landfill_Gas_ID!C77)","v":""},"",null,{"$f":"IF(J55=\"\",\"\",MAX(I$1:I54)+1)","v":""},{"$f":"IF(Distillate_Oil!C77=\"\",\"\",Distillate_Oil!C77)","v":""},"",null,null,null,null,null,null,null,null,null,{"$f":"IF(V55=\"\",\"\",MAX(U$1:U54)+1)","v":""},{"$f":"IF(CPMS_Identification!D77=\"\",\"\",CPMS_Identification!D77)","v":""},"",null,null,null,{"$f":"+IF(AE55=\"\",\"\",MAX(AA$1:AA54)+1)","v":""},{"$f":"IF(Deviation_Limits!B77=\"\",\"\",Deviation_Limits!B77)","v":""},{"$f":"IF(Deviation_Limits!C77=\"\",\"\",Deviation_Limits!C77)","v":""},"",{"$f":"IF(COUNTIF(AC$2:AC55,AC55)=1,AC55,\"\")","v":""},"","",null,null,null,null,null,"WI",null,{"$f":"+IF(AT55=\"\",\"\",MAX(AO$1:AO54)+1)","v":""},{"$f":"IF(Deviation_Limits!B77=\"\",\"\",Deviation_Limits!B77)","v":""},{"$f":"IF(Deviation_Limits!C77=\"\",\"\",Deviation_Limits!C77)","v":""},{"$f":"IF(Deviation_Limits!D77=\"\",\"\",Deviation_Limits!D77)","v":""},"",{"$f":"IF(COUNTIF(AQ$2:AQ55,AQ55)=1,AQ55,\"\")","v":""},"","","",null,{"$f":"+IF(BD55=\"\",\"\",MAX(AY$1:AY54)+1)","v":""},{"$f":"IF(Deviation_CEM_CPMS!B77=\"\",\"\",Deviation_CEM_CPMS!B77)","v":""},{"$f":"IF(Deviation_CEM_CPMS!C77=\"\",\"\",Deviation_CEM_CPMS!C77)","v":""},{"$f":"IF(Deviation_CEM_CPMS!D77=\"\",\"\",Deviation_CEM_CPMS!D77)","v":""},"",{"$f":"IF(COUNTIF(BA$2:BA55,BA55)=1,BA55,\"\")","v":""},"","",""]
[{"$f":"IF(B56=\"\",\"\",MAX(A$1:A55)+1)","v":""},{"$f":"+IF(CPMS_Identification!C78=\"\",\"\",CPMS_Identification!C78)","v":""},"",null,{"$f":"IF(F56=\"\",\"\",MAX(E$1:E55)+1)","v":""},{"$f":"IF(Landfill_Gas_ID!C78=\"\",\"\",Landfill_Gas_ID!C78)","v":""},"",null,{"$f":"IF(J56=\"\",\"\",MAX(I$1:I55)+1)","v":""},{"$f":"IF(Distillate_Oil!C78=\"\",\"\",Distillate_Oil!C78)","v":""},"",null,null,null,null,null,null,null,null,null,{"$f":"IF(V56=\"\",\"\",MAX(U$1:U55)+1)","v":""},{"$f":"IF(CPMS_Identification!D78=\"\",\"\",CPMS_Identification!D78)","v":""},"",null,null,null,{"$f":"+IF(AE56=\"\",\"\",MAX(AA$1:AA55)+1)","v":""},{"$f":"IF(Deviation_Limits!B78=\"\",\"\",Deviation_Limits!B78)","v":""},{"$f":"IF(Deviation_Limits!C78=\"\",\"\",Deviation_Limits!C78)","v":""},"",{"$f":"IF(COUNTIF(AC$2:AC56,AC56)=1,AC56,\"\")","v":""},"","",null,null,null,null,null,"WV",null,{"$f":"+IF(AT56=\"\",\"\",MAX(AO$1:AO55)+1)","v":""},{"$f":"IF(Deviation_Limits!B78=\"\",\"\",Deviation_Limits!B78)","v":""},{"$f":"IF(Deviation_Limits!C78=\"\",\"\",Deviation_Limits!C78)","v":""},{"$f":"IF(Deviation_Limits!D78=\"\",\"\",Deviation_Limits!D78)","v":""},"",{"$f":"IF(COUNTIF(AQ$2:AQ56,AQ56)=1,AQ56,\"\")","v":""},"","","",null,{"$f":"+IF(BD56=\"\",\"\",MAX(AY$1:AY55)+1)","v":""},{"$f":"IF(Deviation_CEM_CPMS!B78=\"\",\"\",Deviation_CEM_CPMS!B78)","v":""},{"$f":"IF(Deviation_CEM_CPMS!C78=\"\",\"\",Deviation_CEM_CPMS!C78)","v":""},{"$f":"IF(Deviation_CEM_CPMS!D78=\"\",\"\",Deviation_CEM_CPMS!D78)","v":""},"",{"$f":"IF(COUNTIF(BA$2:BA56,BA56)=1,BA56,\"\")","v":""},"","",""]
[{"$f":"IF(B57=\"\",\"\",MAX(A$1:A56)+1)","v":""},{"$f":"+IF(CPMS_Identification!C79=\"\",\"\",CPMS_Identification!C79)","v":""},"",null,{"$f":"IF(F57=\"\",\"\",MAX(E$1:E56)+1)","v":""},{"$f":"IF(Landfill_Gas_ID!C79=\"\",\"\",Landfill_Gas_ID!C79)","v":""},"",null,{"$f":"IF(J57=\"\",\"\",MAX(I$1:I56)+1)","v":""},{"$f":"IF(Distillate_Oil!C79=\"\",\"\",Distillate_Oil!C79)","v":""},"",null,null,null,null,null,null,null,null,null,{"$f":"IF(V57=\"\",\"\",MAX(U$1:U56)+1)","v":""},{"$f":"IF(CPMS_Identification!D79=\"\",\"\",CPMS_Identification!D79)","v":""},"",null,null,null,{"$f":"+IF(AE57=\"\",\"\",MAX(AA$1:AA56)+1)","v":""},{"$f":"IF(Deviation_Limits!B79=\"\",\"\",Deviation_Limits!B79)","v":""},{"$f":"IF(Deviation_Limits!C79=\"\",\"\",Deviation_Limits!C79)","v":""},"",{"$f":"IF(COUNTIF(AC$2:AC57,AC57)=1,AC57,\"\")","v":""},"","",null,null,null,null,null,"WY",null,{"$f":"+IF(AT57=\"\",\"\",MAX(AO$1:AO56)+1)","v":""},{"$f":"IF(Deviation_Limits!B79=\"\",\"\",Deviation_Limits!B79)","v":""},{"$f":"IF(Deviation_Limits!C79=\"\",\"\",Deviation_Limits!C79)","v":""},{"$f":"IF(Deviation_Limits!D79=\"\",\"\",Deviation_Limits!D79)","v":""},"",{"$f":"IF(COUNTIF(AQ$2:AQ57,AQ57)=1,AQ57,\"\")","v":""},"","","",null,{"$f":"+IF(BD57=\"\",\"\",MAX(AY$1:AY56)+1)","v":""},{"$f":"IF(Deviation_CEM_CPMS!B79=\"\",\"\",Deviation_CEM_CPMS!B79)","v":""},{"$f":"IF(Deviation_CEM_CPMS!C79=\"\",\"\",Deviation_CEM_CPMS!C79)","v":""},{"$f":"IF(Deviation_CEM_CPMS!D79=\"\",\"\",Deviation_CEM_CPMS!D79)","v":""},"",{"$f":"IF(COUNTIF(BA$2:BA57,BA57)=1,BA57,\"\")","v":""},"","",""]
[{"$f":"IF(B58=\"\",\"\",MAX(A$1:A57)+1)","v":""},{"$f":"+IF(CPMS_Identification!C80=\"\",\"\",CPMS_Identification!C80)","v":""},"",null,{"$f":"IF(F58=\"\",\"\",MAX(E$1:E57)+1)","v":""},{"$f":"IF(Landfill_Gas_ID!C80=\"\",\"\",Landfill_Gas_ID!C80)","v":""},"",null,{"$f":"IF(J58=\"\",\"\",MAX(I$1:I57)+1)","v":""},{"$f":"IF(Distillate_Oil!C80=\"\",\"\",Distillate_Oil!C80)","v":""},"",null,null,null,null,null,null,null,null,null,{"$f":"IF(V58=\"\",\"\",MAX(U$1:U57)+1)","v":""},{"$f":"IF(CPMS_Identification!D80=\"\",\"\",CPMS_Identification!D80)","v":""},"",null,null,null,{"$f":"+IF(AE58=\"\",\"\",MAX(AA$1:AA57)+1)","v":""},{"$f":"IF(Deviation_Limits!B80=\"\",\"\",Deviation_Limits!B80)","v":""},{"$f":"IF(Deviation_Limits!C80=\"\",\"\",Deviation_Limits!C80)","v":""},"",{"$f":"IF(COUNTIF(AC$2:AC58,AC58)=1,AC58,\"\")","v":""},"","",null,null,null,null,null,null,null,{"$f":"+IF(AT58=\"\",\"\",MAX(AO$1:AO57)+1)","v":""},{"$f":"IF(Deviation_Limits!B80=\"\",\"\",Deviation_Limits!B80)","v":""},{"$f":"IF(Deviation_Limits!C80=\"\",\"\",Deviation_Limits!C80)","v":""},{"$f":"IF(Deviation_Limits!D80=\"\",\"\",Deviation_Limits!D80)","v":""},"",{"$f":"IF(COUNTIF(AQ$2:AQ58,AQ58)=1,AQ58,\"\")","v":""},"","","",null,{"$f":"+IF(BD58=\"\",\"\",MAX(AY$1:AY57)+1)","v":""},{"$f":"IF(Deviation_CEM_CPMS!B80=\"\",\"\",Deviation_CEM_CPMS!B80)","v":""},{"$f":"IF(Deviation_CEM_CPMS!C80=\"\",\"\",Deviation_CEM_CPMS!C80)","v":""},{"$f":"IF(Deviation_CEM_CPMS!D80=\"\",\"\",Deviation_CEM_CPMS!D80)","v":""},"",{"$f":"IF(COUNTIF(BA$2:BA58,BA58)=1,BA58,\"\")","v":""},"","",""]
[{"$f":"IF(B59=\"\",\"\",MAX(A$1:A58)+1)","v":""},{"$f":"+IF(CPMS_Identification!C81=\"\",\"\",CPMS_Identification!C81)","v":""},"",null,{"$f":"IF(F59=\"\",\"\",MAX(E$1:E58)+1)","v":""},{"$f":"IF(Landfill_Gas_ID!C81=\"\",\"\",Landfill_Gas_ID!C81)","v":""},"",null,{"$f":"IF(J59=\"\",\"\",MAX(I$1:I58)+1)","v":""},{"$f":"IF(Distillate_Oil!C81=\"\",\"\",Distillate_Oil!C81)","v":""},"",null,null,null,null,null,null,null,null,null,{"$f":"IF(V59=\"\",\"\",MAX(U$1:U58)+1)","v":""},{"$f":"IF(CPMS_Identification!D81=\"\",\"\",CPMS_Identification!D81)","v":""},"",null,null,null,{"$f":"+IF(AE59=\"\",\"\",MAX(AA$1:AA58)+1)","v":""},{"$f":"IF(Deviation_Limits!B81=\"\",\"\",Deviation_Limits!B81)","v":""},{"$f":"IF(Deviation_Limits!C81=\"\",\"\",Deviation_Limits!C81)","v":""},"",{"$f":"IF(COUNTIF(AC$2:AC59,AC59)=1,AC59,\"\")","v":""},"","",null,null,null,null,null,null,null,{"$f":"+IF(AT59=\"\",\"\",MAX(AO$1:AO58)+1)","v":""},{"$f":"IF(Deviation_Limits!B81=\"\",\"\",Deviation_Limits!B81)","v":""},{"$f":"IF(Deviation_Limits!C81=\"\",\"\",Deviation_Limits!C81)","v":""},{"$f":"IF(Deviation_Limits!D81=\"\",\"\",Deviation_Limits!D81)","v":""},"",{"$f":"IF(COUNTIF(AQ$2:AQ59,AQ59)=1,AQ59,\"\")","v":""},"","","",null,{"$f":"+IF(BD59=\"\",\"\",MAX(AY$1:AY58)+1)","v":""},{"$f":"IF(Deviation_CEM_CPMS!B81=\"\",\"\",Deviation_CEM_CPMS!B81)","v":""},{"$f":"IF(Deviation_CEM_CPMS!C81=\"\",\"\",Deviation_CEM_CPMS!C81)","v":""},{"$f":"IF(Deviation_CEM_CPMS!D81=\"\",\"\",Deviation_CEM_CPMS!D81)","v":""},"",{"$f":"IF(COUNTIF(BA$2:BA59,BA59)=1,BA59,\"\")","v":""},"","",""]
[{"$f":"IF(B60=\"\",\"\",MAX(A$1:A59)+1)","v":""},{"$f":"+IF(CPMS_Identification!C82=\"\",\"\",CPMS_Identification!C82)","v":""},"",null,{"$f":"IF(F60=\"\",\"\",MAX(E$1:E59)+1)","v":""},{"$f":"IF(Landfill_Gas_ID!C82=\"\",\"\",Landfill_Gas_ID!C82)","v":""},"",null,{"$f":"IF(J60=\"\",\"\",MAX(I$1:I59)+1)","v":""},{"$f":"IF(Distillate_Oil!C82=\"\",\"\",Distillate_Oil!C82)","v":""},"",null,null,null,null,null,null,null,null,null,{"$f":"IF(V60=\"\",\"\",MAX(U$1:U59)+1)","v":""},{"$f":"IF(CPMS_Identification!D82=\"\",\"\",CPMS_Identification!D82)","v":""},"",null,null,null,{"$f":"+IF(AE60=\"\",\"\",MAX(AA$1:AA59)+1)","v":""},{"$f":"IF(Deviation_Limits!B82=\"\",\"\",Deviation_Limits!B82)","v":""},{"$f":"IF(Deviation_Limits!C82=\"\",\"\",Deviation_Limits!C82)","v":""},"",{"$f":"IF(COUNTIF(AC$2:AC60,AC60)=1,AC60,\"\")","v":""},"","",null,null,null,null,null,null,null,{"$f":"+IF(AT60=\"\",\"\",MAX(AO$1:AO59)+1)","v":""},{"$f":"IF(Deviation_Limits!B82=\"\",\"\",Deviation_Limits!B82)","v":""},{"$f":"IF(Deviation_Limits!C82=\"\",\"\",Deviation_Limits!C82)","v":""},{"$f":"IF(Deviation_Limits!D82=\"\",\"\",Deviation_Limits!D82)","v":""},"",{"$f":"IF(COUNTIF(AQ$2:AQ60,AQ60)=1,AQ60,\"\")","v":""},"","","",null,{"$f":"+IF(BD60=\"\",\"\",MAX(AY$1:AY59)+1)","v":""},{"$f":"IF(Deviation_CEM_CPMS!B82=\"\",\"\",Deviation_CEM_CPMS!B82)","v":""},{"$f":"IF(Deviation_CEM_CPMS!C82=\"\",\"\",Deviation_CEM_CPMS!C82)","v":""},{"$f":"IF(Deviation_CEM_CPMS!D82=\"\",\"\",Deviation_CEM_CPMS!D82)","v":""},"",{"$f":"IF(COUNTIF(BA$2:BA60,BA60)=1,BA60,\"\")","v":""},"","",""]
[{"$f":"IF(B61=\"\",\"\",MAX(A$1:A60)+1)","v":""},{"$f":"+IF(CPMS_Identification!C83=\"\",\"\",CPMS_Identification!C83)","v":""},"",null,{"$f":"IF(F61=\"\",\"\",MAX(E$1:E60)+1)","v":""},{"$f":"IF(Landfill_Gas_ID!C83=\"\",\"\",Landfill_Gas_ID!C83)","v":""},"",null,{"$f":"IF(J61=\"\",\"\",MAX(I$1:I60)+1)","v":""},{"$f":"IF(Distillate_Oil!C83=\"\",\"\",Distillate_Oil!C83)","v":""},"",null,null,null,null,null,null,null,null,null,{"$f":"IF(V61=\"\",\"\",MAX(U$1:U60)+1)","v":""},{"$f":"IF(CPMS_Identification!D83=\"\",\"\",CPMS_Identification!D83)","v":""},"",null,null,null,{"$f":"+IF(AE61=\"\",\"\",MAX(AA$1:AA60)+1)","v":""},{"$f":"IF(Deviation_Limits!B83=\"\",\"\",Deviation_Limits!B83)","v":""},{"$f":"IF(Deviation_Limits!C83=\"\",\"\",Deviation_Limits!C83)","v":""},"",{"$f":"IF(COUNTIF(AC$2:AC61,AC61)=1,AC61,\"\")","v":""},"","",null,null,null,null,null,null,null,{"$f":"+IF(AT61=\"\",\"\",MAX(AO$1:AO60)+1)","v":""},{"$f":"IF(Deviation_Limits!B83=\"\",\"\",Deviation_Limits!B83)","v":""},{"$f":"IF(Deviation_Limits!C83=\"\",\"\",Deviation_Limits!C83)","v":""},{"$f":"IF(Deviation_Limits!D83=\"\",\"\",Deviation_Limits!D83)","v":""},"",{"$f":"IF(COUNTIF(AQ$2:AQ61,AQ61)=1,AQ61,\"\")","v":""},"","","",null,{"$f":"+IF(BD61=\"\",\"\",MAX(AY$1:AY60)+1)","v":""},{"$f":"IF(Deviation_CEM_CPMS!B83=\"\",\"\",Deviation_CEM_CPMS!B83)","v":""},{"$f":"IF(Deviation_CEM_CPMS!C83=\"\",\"\",Deviation_CEM_CPMS!C83)","v":""},{"$f":"IF(Deviation_CEM_CPMS!D83=\"\",\"\",Deviation_CEM_CPMS!D83)","v":""},"",{"$f":"IF(COUNTIF(BA$2:BA61,BA61)=1,BA61,\"\")","v":""},"","",""]
[{"$f":"IF(B62=\"\",\"\",MAX(A$1:A61)+1)","v":""},{"$f":"+IF(CPMS_Identification!C84=\"\",\"\",CPMS_Identification!C84)","v":""},"",null,{"$f":"IF(F62=\"\",\"\",MAX(E$1:E61)+1)","v":""},{"$f":"IF(Landfill_Gas_ID!C84=\"\",\"\",Landfill_Gas_ID!C84)","v":""},"",null,{"$f":"IF(J62=\"\",\"\",MAX(I$1:I61)+1)","v":""},{"$f":"IF(Distillate_Oil!C84=\"\",\"\",Distillate_Oil!C84)","v":""},"",null,null,null,null,null,null,null,null,null,{"$f":"IF(V62=\"\",\"\",MAX(U$1:U61)+1)","v":""},{"$f":"IF(CPMS_Identification!D84=\"\",\"\",CPMS_Identification!D84)","v":""},"",null,null,null,{"$f":"+IF(AE62=\"\",\"\",MAX(AA$1:AA61)+1)","v":""},{"$f":"IF(Deviation_Limits!B84=\"\",\"\",Deviation_Limits!B84)","v":""},{"$f":"IF(Deviation_Limits!C84=\"\",\"\",Deviation_Limits!C84)","v":""},"",{"$f":"IF(COUNTIF(AC$2:AC62,AC62)=1,AC62,\"\")","v":""},"","",null,null,null,null,null,null,null,{"$f":"+IF(AT62=\"\",\"\",MAX(AO$1:AO61)+1)","v":""},{"$f":"IF(Deviation_Limits!B84=\"\",\"\",Deviation_Limits!B84)","v":""},{"$f":"IF(Deviation_Limits!C84=\"\",\"\",Deviation_Limits!C84)","v":""},{"$f":"IF(Deviation_Limits!D84=\"\",\"\",Deviation_Limits!D84)","v":""},"",{"$f":"IF(COUNTIF(AQ$2:AQ62,AQ62)=1,AQ62,\"\")","v":""},"","","",null,{"$f":"+IF(BD62=\"\",\"\",MAX(AY$1:AY61)+1)","v":""},{"$f":"IF(Deviation_CEM_CPMS!B84=\"\",\"\",Deviation_CEM_CPMS!B84)","v":""},{"$f":"IF(Deviation_CEM_CPMS!C84=\"\",\"\",Deviation_CEM_CPMS!C84)","v":""},{"$f":"IF(Deviation_CEM_CPMS!D84=\"\",\"\",Deviation_CEM_CPMS!D84)","v":""},"",{"$f":"IF(COUNTIF(BA$2:BA62,BA62)=1,BA62,\"\")","v":""},"","",""]
[{"$f":"IF(B63=\"\",\"\",MAX(A$1:A62)+1)","v":""},{"$f":"+IF(CPMS_Identification!C85=\"\",\"\",CPMS_Identification!C85)","v":""},"",null,{"$f":"IF(F63=\"\",\"\",MAX(E$1:E62)+1)","v":""},{"$f":"IF(Landfill_Gas_ID!C85=\"\",\"\",Landfill_Gas_ID!C85)","v":""},"",null,{"$f":"IF(J63=\"\",\"\",MAX(I$1:I62)+1)","v":""},{"$f":"IF(Distillate_Oil!C85=\"\",\"\",Distillate_Oil!C85)","v":""},"",null,null,null,null,null,null,null,null,null,{"$f":"IF(V63=\"\",\"\",MAX(U$1:U62)+1)","v":""},{"$f":"IF(CPMS_Identification!D85=\"\",\"\",CPMS_Identification!D85)","v":""},"",null,null,null,{"$f":"+IF(AE63=\"\",\"\",MAX(AA$1:AA62)+1)","v":""},{"$f":"IF(Deviation_Limits!B85=\"\",\"\",Deviation_Limits!B85)","v":""},{"$f":"IF(Deviation_Limits!C85=\"\",\"\",Deviation_Limits!C85)","v":""},"",{"$f":"IF(COUNTIF(AC$2:AC63,AC63)=1,AC63,\"\")","v":""},"","",null,null,null,null,null,null,null,{"$f":"+IF(AT63=\"\",\"\",MAX(AO$1:AO62)+1)","v":""},{"$f":"IF(Deviation_Limits!B85=\"\",\"\",Deviation_Limits!B85)","v":""},{"$f":"IF(Deviation_Limits!C85=\"\",\"\",Deviation_Limits!C85)","v":""},{"$f":"IF(Deviation_Limits!D85=\"\",\"\",Deviation_Limits!D85)","v":""},"",{"$f":"IF(COUNTIF(AQ$2:AQ63,AQ63)=1,AQ63,\"\")","v":""},"","","",null,{"$f":"+IF(BD63=\"\",\"\",MAX(AY$1:AY62)+1)","v":""},{"$f":"IF(Deviation_CEM_CPMS!B85=\"\",\"\",Deviation_CEM_CPMS!B85)","v":""},{"$f":"IF(Deviation_CEM_CPMS!C85=\"\",\"\",Deviation_CEM_CPMS!C85)","v":""},{"$f":"IF(Deviation_CEM_CPMS!D85=\"\",\"\",Deviation_CEM_CPMS!D85)","v":""},"",{"$f":"IF(COUNTIF(BA$2:BA63,BA63)=1,BA63,\"\")","v":""},"","",""]
[{"$f":"IF(B64=\"\",\"\",MAX(A$1:A63)+1)","v":""},{"$f":"+IF(CPMS_Identification!C86=\"\",\"\",CPMS_Identification!C86)","v":""},"",null,{"$f":"IF(F64=\"\",\"\",MAX(E$1:E63)+1)","v":""},{"$f":"IF(Landfill_Gas_ID!C86=\"\",\"\",Landfill_Gas_ID!C86)","v":""},"",null,{"$f":"IF(J64=\"\",\"\",MAX(I$1:I63)+1)","v":""},{"$f":"IF(Distillate_Oil!C86=\"\",\"\",Distillate_Oil!C86)","v":""},"",null,null,null,null,null,null,null,null,null,{"$f":"IF(V64=\"\",\"\",MAX(U$1:U63)+1)","v":""},{"$f":"IF(CPMS_Identification!D86=\"\",\"\",CPMS_Identification!D86)","v":""},"",null,null,null,{"$f":"+IF(AE64=\"\",\"\",MAX(AA$1:AA63)+1)","v":""},{"$f":"IF(Deviation_Limits!B86=\"\",\"\",Deviation_Limits!B86)","v":""},{"$f":"IF(Deviation_Limits!C86=\"\",\"\",Deviation_Limits!C86)","v":""},"",{"$f":"IF(COUNTIF(AC$2:AC64,AC64)=1,AC64,\"\")","v":""},"","",null,null,null,null,null,null,null,{"$f":"+IF(AT64=\"\",\"\",MAX(AO$1:AO63)+1)","v":""},{"$f":"IF(Deviation_Limits!B86=\"\",\"\",Deviation_Limits!B86)","v":""},{"$f":"IF(Deviation_Limits!C86=\"\",\"\",Deviation_Limits!C86)","v":""},{"$f":"IF(Deviation_Limits!D86=\"\",\"\",Deviation_Limits!D86)","v":""},"",{"$f":"IF(COUNTIF(AQ$2:AQ64,AQ64)=1,AQ64,\"\")","v":""},"","","",null,{"$f":"+IF(BD64=\"\",\"\",MAX(AY$1:AY63)+1)","v":""},{"$f":"IF(Deviation_CEM_CPMS!B86=\"\",\"\",Deviation_CEM_CPMS!B86)","v":""},{"$f":"IF(Deviation_CEM_CPMS!C86=\"\",\"\",Deviation_CEM_CPMS!C86)","v":""},{"$f":"IF(Deviation_CEM_CPMS!D86=\"\",\"\",Deviation_CEM_CPMS!D86)","v":""},"",{"$f":"IF(COUNTIF(BA$2:BA64,BA64)=1,BA64,\"\")","v":""},"","",""]
[{"$f":"IF(B65=\"\",\"\",MAX(A$1:A64)+1)","v":""},{"$f":"+IF(CPMS_Identification!C87=\"\",\"\",CPMS_Identification!C87)","v":""},"",null,{"$f":"IF(F65=\"\",\"\",MAX(E$1:E64)+1)","v":""},{"$f":"IF(Landfill_Gas_ID!C87=\"\",\"\",Landfill_Gas_ID!C87)","v":""},"",null,{"$f":"IF(J65=\"\",\"\",MAX(I$1:I64)+1)","v":""},{"$f":"IF(Distillate_Oil!C87=\"\",\"\",Distillate_Oil!C87)","v":""},"",null,null,null,null,null,null,null,null,null,{"$f":"IF(V65=\"\",\"\",MAX(U$1:U64)+1)","v":""},{"$f":"IF(CPMS_Identification!D87=\"\",\"\",CPMS_Identification!D87)","v":""},"",null,null,null,{"$f":"+IF(AE65=\"\",\"\",MAX(AA$1:AA64)+1)","v":""},{"$f":"IF(Deviation_Limits!B87=\"\",\"\",Deviation_Limits!B87)","v":""},{"$f":"IF(Deviation_Limits!C87=\"\",\"\",Deviation_Limits!C87)","v":""},"",{"$f":"IF(COUNTIF(AC$2:AC65,AC65)=1,AC65,\"\")","v":""},"","",null,null,null,null,null,null,null,{"$f":"+IF(AT65=\"\",\"\",MAX(AO$1:AO64)+1)","v":""},{"$f":"IF(Deviation_Limits!B87=\"\",\"\",Deviation_Limits!B87)","v":""},{"$f":"IF(Deviation_Limits!C87=\"\",\"\",Deviation_Limits!C87)","v":""},{"$f":"IF(Deviation_Limits!D87=\"\",\"\",Deviation_Limits!D87)","v":""},"",{"$f":"IF(COUNTIF(AQ$2:AQ65,AQ65)=1,AQ65,\"\")","v":""},"","","",null,{"$f":"+IF(BD65=\"\",\"\",MAX(AY$1:AY64)+1)","v":""},{"$f":"IF(Deviation_CEM_CPMS!B87=\"\",\"\",Deviation_CEM_CPMS!B87)","v":""},{"$f":"IF(Deviation_CEM_CPMS!C87=\"\",\"\",Deviation_CEM_CPMS!C87)","v":""},{"$f":"IF(Deviation_CEM_CPMS!D87=\"\",\"\",Deviation_CEM_CPMS!D87)","v":""},"",{"$f":"IF(COUNTIF(BA$2:BA65,BA65)=1,BA65,\"\")","v":""},"","",""]
[{"$f":"IF(B66=\"\",\"\",MAX(A$1:A65)+1)","v":""},{"$f":"+IF(CPMS_Identification!C88=\"\",\"\",CPMS_Identification!C88)","v":""},{"$f":"+IFERROR(INDEX($B$2:$B$500,MATCH(ROW()-ROW($C$1),$A$2:$A$500,0)),\"\")","v":""},null,{"$f":"IF(F66=\"\",\"\",MAX(E$1:E65)+1)","v":""},{"$f":"IF(Landfill_Gas_ID!C88=\"\",\"\",Landfill_Gas_ID!C88)","v":""},{"$f":"+IFERROR(INDEX($F$2:$F$500,MATCH(ROW()-ROW($G$1),$E$2:$E$500,0)),\"\")","v":""},null,{"$f":"IF(J66=\"\",\"\",MAX(I$1:I65)+1)","v":""},{"$f":"IF(Distillate_Oil!C88=\"\",\"\",Distillate_Oil!C88)","v":""},{"$f":"+IFERROR(INDEX($J$2:$J$500,MATCH(ROW()-ROW($K$1),$I$2:$I$500,0)),\"\")","v":""},null,null,null,null,null,null,null,null,null,{"$f":"IF(V66=\"\",\"\",MAX(U$1:U65)+1)","v":""},{"$f":"IF(CPMS_Identification!D88=\"\",\"\",CPMS_Identification!D88)","v":""},"",null,null,null,{"$f":"+IF(AE66=\"\",\"\",MAX(AA$1:AA65)+1)","v":""},{"$f":"IF(Deviation_Limits!B88=\"\",\"\",Deviation_Limits!B88)","v":""},{"$f":"IF(Deviation_Limits!C88=\"\",\"\",Deviation_Limits!C88)","v":""},"",{"$f":"IF(COUNTIF(AC$2:AC66,AC66)=1,AC66,\"\")","v":""},"","",null,null,null,null,null,null,null,{"$f":"+IF(AT66=\"\",\"\",MAX(AO$1:AO65)+1)","v":""},{"$f":"IF(Deviation_Limits!B88=\"\",\"\",Deviation_Limits!B88)","v":""},{"$f":"IF(Deviation_Limits!C88=\"\",\"\",Deviation_Limits!C88)","v":""},{"$f":"IF(Deviation_Limits!D88=\"\",\"\",Deviation_Limits!D88)","v":""},"",{"$f":"IF(COUNTIF(AQ$2:AQ66,AQ66)=1,AQ66,\"\")","v":""},"","","",null,{"$f":"+IF(BD66=\"\",\"\",MAX(AY$1:AY65)+1)","v":""},{"$f":"IF(Deviation_CEM_CPMS!B88=\"\",\"\",Deviation_CEM_CPMS!B88)","v":""},{"$f":"IF(Deviation_CEM_CPMS!C88=\"\",\"\",Deviation_CEM_CPMS!C88)","v":""},{"$f":"IF(Deviation_CEM_CPMS!D88=\"\",\"\",Deviation_CEM_CPMS!D88)","v":""},{"$f":"+AZ66&BA66&BB66","v":""},{"$f":"IF(COUNTIF(BA$2:BA66,BA66)=1,BA66,\"\")","v":""},{"$f":"+IFERROR(INDEX(AZ$2:AZ$500,MATCH(ROW()-ROW(BE$1),$AA$2:$AA$500,0)),\"\")","v":""},{"$f":"+IFERROR(INDEX(BA$2:BA$500,MATCH(ROW()-ROW(BE$1),$AA$2:$AA$500,0)),\"\")","v":""},{"$f":"+IFERROR(INDEX(BB$2:BB$500,MATCH(ROW()-ROW(BE$1),$AA$2:$AA$500,0)),\"\")","v":""}]
[{"$f":"IF(B67=\"\",\"\",MAX(A$1:A66)+1)","v":""},{"$f":"+IF(CPMS_Identification!C89=\"\",\"\",CPMS_Identification!C89)","v":""},"",null,{"$f":"IF(F67=\"\",\"\",MAX(E$1:E66)+1)","v":""},{"$f":"IF(Landfill_Gas_ID!C89=\"\",\"\",Landfill_Gas_ID!C89)","v":""},"",null,{"$f":"IF(J67=\"\",\"\",MAX(I$1:I66)+1)","v":""},{"$f":"IF(Distillate_Oil!C89=\"\",\"\",Distillate_Oil!C89)","v":""},"",null,null,null,null,null,null,null,null,null,{"$f":"IF(V67=\"\",\"\",MAX(U$1:U66)+1)","v":""},{"$f":"IF(CPMS_Identification!D89=\"\",\"\",CPMS_Identification!D89)","v":""},{"$f":"+IFERROR(INDEX($V$2:$V$500,MATCH(ROW()-ROW($W$1),$U$2:$U$500,0)),\"\")","v":""},null,null,null,{"$f":"+IF(AE67=\"\",\"\",MAX(AA$1:AA66)+1)","v":""},{"$f":"IF(Deviation_Limits!B89=\"\",\"\",Deviation_Limits!B89)","v":""},{"$f":"IF(Deviation_Limits!C89=\"\",\"\",Deviation_Limits!C89)","v":""},{"$f":"+AB67&AC67","v":""},{"$f":"IF(COUNTIF(AC$2:AC67,AC67)=1,AC67,\"\")","v":""},{"$f":"+IFERROR(INDEX(AB$2:AB$500,MATCH(ROW()-ROW($AF$1),$AA$2:$AA$500,0)),\"\")","v":""},{"$f":"+IFERROR(INDEX(AC$2:AC$500,MATCH(ROW()-ROW($AF$1),$AA$2:$AA$500,0)),\"\")","v":""},null,null,null,null,null,null,null,{"$f":"+IF(AT67=\"\",\"\",MAX(AO$1:AO66)+1)","v":""},{"$f":"IF(Deviation_Limits!B89=\"\",\"\",Deviation_Limits!B89)","v":""},{"$f":"IF(Deviation_Limits!C89=\"\",\"\",Deviation_Limits!C89)","v":""},{"$f":"IF(Deviation_Limits!D89=\"\",\"\",Deviation_Limits!D89)","v":""},{"$f":"+AP67&AQ67&C67","v":""},{"$f":"IF(COUNTIF(AQ$2:AQ67,AQ67)=1,AQ67,\"\")","v":""},{"$f":"+IFERROR(INDEX(AP$2:AP$500,MATCH(ROW()-ROW(AU$1),$AA$2:$AA$500,0)),\"\")","v":""},{"$f":"+IFERROR(INDEX(AQ$2:AQ$500,MATCH(ROW()-ROW(AU$1),$AA$2:$AA$500,0)),\"\")","v":""},{"$f":"+IFERROR(INDEX(AR$2:AR$500,MATCH(ROW()-ROW(AU$1),$AA$2:$AA$500,0)),\"\")","v":""},null,{"$f":"+IF(BD67=\"\",\"\",MAX(AY$1:AY66)+1)","v":""},{"$f":"IF(Deviation_CEM_CPMS!B89=\"\",\"\",Deviation_CEM_CPMS!B89)","v":""},{"$f":"IF(Deviation_CEM_CPMS!C89=\"\",\"\",Deviation_CEM_CPMS!C89)","v":""},{"$f":"IF(Deviation_CEM_CPMS!D89=\"\",\"\",Deviation_CEM_CPMS!D89)","v":""},"",{"$f":"IF(COUNTIF(BA$2:BA67,BA67)=1,BA67,\"\")","v":""},"","",""]
[{"$f":"IF(B68=\"\",\"\",MAX(A$1:A67)+1)","v":""},{"$f":"+IF(CPMS_Identification!C90=\"\",\"\",CPMS_Identification!C90)","v":""},"",null,{"$f":"IF(F68=\"\",\"\",MAX(E$1:E67)+1)","v":""},{"$f":"IF(Landfill_Gas_ID!C90=\"\",\"\",Landfill_Gas_ID!C90)","v":""},"",null,{"$f":"IF(J68=\"\",\"\",MAX(I$1:I67)+1)","v":""},{"$f":"IF(Distillate_Oil!C90=\"\",\"\",Distillate_Oil!C90)","v":""},"",null,null,null,null,null,null,null,null,null,{"$f":"IF(V68=\"\",\"\",MAX(U$1:U67)+1)","v":""},{"$f":"IF(CPMS_Identification!D90=\"\",\"\",CPMS_Identification!D90)","v":""},"",null,null,null,{"$f":"+IF(AE68=\"\",\"\",MAX(AA$1:AA67)+1)","v":""},{"$f":"IF(Deviation_Limits!B90=\"\",\"\",Deviation_Limits!B90)","v":""},{"$f":"IF(Deviation_Limits!C90=\"\",\"\",Deviation_Limits!C90)","v":""},"",{"$f":"IF(COUNTIF(AC$2:AC68,AC68)=1,AC68,\"\")","v":""},"","",null,null,null,null,null,null,null,{"$f":"+IF(AT68=\"\",\"\",MAX(AO$1:AO67)+1)","v":""},{"$f":"IF(Deviation_Limits!B90=\"\",\"\",Deviation_Limits!B90)","v":""},{"$f":"IF(Deviation_Limits!C90=\"\",\"\",Deviation_Limits!C90)","v":""},{"$f":"IF(Deviation_Limits!D90=\"\",\"\",Deviation_Limits!D90)","v":""},"",{"$f":"IF(COUNTIF(AQ$2:AQ68,AQ68)=1,AQ68,\"\")","v":""},"","","",null,{"$f":"+IF(BD68=\"\",\"\",MAX(AY$1:AY67)+1)","v":""},{"$f":"IF(Deviation_CEM_CPMS!B90=\"\",\"\",Deviation_CEM_CPMS!B90)","v":""},{"$f":"IF(Deviation_CEM_CPMS!C90=\"\",\"\",Deviation_CEM_CPMS!C90)","v":""},{"$f":"IF(Deviation_CEM_CPMS!D90=\"\",\"\",Deviation_CEM_CPMS!D90)","v":""},"",{"$f":"IF(COUNTIF(BA$2:BA68,BA68)=1,BA68,\"\")","v":""},"","",""]
[{"$f":"IF(B69=\"\",\"\",MAX(A$1:A68)+1)","v":""},{"$f":"+IF(CPMS_Identification!C91=\"\",\"\",CPMS_Identification!C91)","v":""},"",null,{"$f":"IF(F69=\"\",\"\",MAX(E$1:E68)+1)","v":""},{"$f":"IF(Landfill_Gas_ID!C91=\"\",\"\",Landfill_Gas_ID!C91)","v":""},"",null,{"$f":"IF(J69=\"\",\"\",MAX(I$1:I68)+1)","v":""},{"$f":"IF(Distillate_Oil!C91=\"\",\"\",Distillate_Oil!C91)","v":""},"",null,null,null,null,null,null,null,null,null,{"$f":"IF(V69=\"\",\"\",MAX(U$1:U68)+1)","v":""},{"$f":"IF(CPMS_Identification!D91=\"\",\"\",CPMS_Identification!D91)","v":""},"",null,null,null,{"$f":"+IF(AE69=\"\",\"\",MAX(AA$1:AA68)+1)","v":""},{"$f":"IF(Deviation_Limits!B91=\"\",\"\",Deviation_Limits!B91)","v":""},{"$f":"IF(Deviation_Limits!C91=\"\",\"\",Deviation_Limits!C91)","v":""},"",{"$f":"IF(COUNTIF(AC$2:AC69,AC69)=1,AC69,\"\")","v":""},"","",null,null,null,null,null,null,null,{"$f":"+IF(AT69=\"\",\"\",MAX(AO$1:AO68)+1)","v":""},{"$f":"IF(Deviation_Limits!B91=\"\",\"\",Deviation_Limits!B91)","v":""},{"$f":"IF(Deviation_Limits!C91=\"\",\"\",Deviation_Limits!C91)","v":""},{"$f":"IF(Deviation_Limits!D91=\"\",\"\",Deviation_Limits!D91)","v":""},"",{"$f":"IF(COUNTIF(AQ$2:AQ69,AQ69)=1,AQ69,\"\")","v":""},"","","",null,{"$f":"+IF(BD69=\"\",\"\",MAX(AY$1:AY68)+1)","v":""},{"$f":"IF(Deviation_CEM_CPMS!B91=\"\",\"\",Deviation_CEM_CPMS!B91)","v":""},{"$f":"IF(Deviation_CEM_CPMS!C91=\"\",\"\",Deviation_CEM_CPMS!C91)","v":""},{"$f":"IF(Deviation_CEM_CPMS!D91=\"\",\"\",Deviation_CEM_CPMS!D91)","v":""},"",{"$f":"IF(COUNTIF(BA$2:BA69,BA69)=1,BA69,\"\")","v":""},"","",""]
[{"$f":"IF(B70=\"\",\"\",MAX(A$1:A69)+1)","v":""},{"$f":"+IF(CPMS_Identification!C92=\"\",\"\",CPMS_Identification!C92)","v":""},"",null,{"$f":"IF(F70=\"\",\"\",MAX(E$1:E69)+1)","v":""},{"$f":"IF(Landfill_Gas_ID!C92=\"\",\"\",Landfill_Gas_ID!C92)","v":""},"",null,{"$f":"IF(J70=\"\",\"\",MAX(I$1:I69)+1)","v":""},{"$f":"IF(Distillate_Oil!C92=\"\",\"\",Distillate_Oil!C92)","v":""},"",null,null,null,null,null,null,null,null,null,{"$f":"IF(V70=\"\",\"\",MAX(U$1:U69)+1)","v":""},{"$f":"IF(CPMS_Identification!D92=\"\",\"\",CPMS_Identification!D92)","v":""},"",null,null,null,{"$f":"+IF(AE70=\"\",\"\",MAX(AA$1:AA69)+1)","v":""},{"$f":"IF(Deviation_Limits!B92=\"\",\"\",Deviation_Limits!B92)","v":""},{"$f":"IF(Deviation_Limits!C92=\"\",\"\",Deviation_Limits!C92)","v":""},"",{"$f":"IF(COUNTIF(AC$2:AC70,AC70)=1,AC70,\"\")","v":""},"","",null,null,null,null,null,null,null,{"$f":"+IF(AT70=\"\",\"\",MAX(AO$1:AO69)+1)","v":""},{"$f":"IF(Deviation_Limits!B92=\"\",\"\",Deviation_Limits!B92)","v":""},{"$f":"IF(Deviation_Limits!C92=\"\",\"\",Deviation_Limits!C92)","v":""},{"$f":"IF(Deviation_Limits!D92=\"\",\"\",Deviation_Limits!D92)","v":""},"",{"$f":"IF(COUNTIF(AQ$2:AQ70,AQ70)=1,AQ70,\"\")","v":""},"","","",null,{"$f":"+IF(BD70=\"\",\"\",MAX(AY$1:AY69)+1)","v":""},{"$f":"IF(Deviation_CEM_CPMS!B92=\"\",\"\",Deviation_CEM_CPMS!B92)","v":""},{"$f":"IF(Deviation_CEM_CPMS!C92=\"\",\"\",Deviation_CEM_CPMS!C92)","v":""},{"$f":"IF(Deviation_CEM_CPMS!D92=\"\",\"\",Deviation_CEM_CPMS!D92)","v":""},"",{"$f":"IF(COUNTIF(BA$2:BA70,BA70)=1,BA70,\"\")","v":""},"","",""]
[{"$f":"IF(B71=\"\",\"\",MAX(A$1:A70)+1)","v":""},{"$f":"+IF(CPMS_Identification!C93=\"\",\"\",CPMS_Identification!C93)","v":""},"",null,{"$f":"IF(F71=\"\",\"\",MAX(E$1:E70)+1)","v":""},{"$f":"IF(Landfill_Gas_ID!C93=\"\",\"\",Landfill_Gas_ID!C93)","v":""},"",null,{"$f":"IF(J71=\"\",\"\",MAX(I$1:I70)+1)","v":""},{"$f":"IF(Distillate_Oil!C93=\"\",\"\",Distillate_Oil!C93)","v":""},"",null,null,null,null,null,null,null,null,null,{"$f":"IF(V71=\"\",\"\",MAX(U$1:U70)+1)","v":""},{"$f":"IF(CPMS_Identification!D93=\"\",\"\",CPMS_Identification!D93)","v":""},"",null,null,null,{"$f":"+IF(AE71=\"\",\"\",MAX(AA$1:AA70)+1)","v":""},{"$f":"IF(Deviation_Limits!B93=\"\",\"\",Deviation_Limits!B93)","v":""},{"$f":"IF(Deviation_Limits!C93=\"\",\"\",Deviation_Limits!C93)","v":""},"",{"$f":"IF(COUNTIF(AC$2:AC71,AC71)=1,AC71,\"\")","v":""},"","",null,null,null,null,null,null,null,{"$f":"+IF(AT71=\"\",\"\",MAX(AO$1:AO70)+1)","v":""},{"$f":"IF(Deviation_Limits!B93=\"\",\"\",Deviation_Limits!B93)","v":""},{"$f":"IF(Deviation_Limits!C93=\"\",\"\",Deviation_Limits!C93)","v":""},{"$f":"IF(Deviation_Limits!D93=\"\",\"\",Deviation_Limits!D93)","v":""},"",{"$f":"IF(COUNTIF(AQ$2:AQ71,AQ71)=1,AQ71,\"\")","v":""},"","","",null,{"$f":"+IF(BD71=\"\",\"\",MAX(AY$1:AY70)+1)","v":""},{"$f":"IF(Deviation_CEM_CPMS!B93=\"\",\"\",Deviation_CEM_CPMS!B93)","v":""},{"$f":"IF(Deviation_CEM_CPMS!C93=\"\",\"\",Deviation_CEM_CPMS!C93)","v":""},{"$f":"IF(Deviation_CEM_CPMS!D93=\"\",\"\",Deviation_CEM_CPMS!D93)","v":""},"",{"$f":"IF(COUNTIF(BA$2:BA71,BA71)=1,BA71,\"\")","v":""},"","",""]
[{"$f":"IF(B72=\"\",\"\",MAX(A$1:A71)+1)","v":""},{"$f":"+IF(CPMS_Identification!C94=\"\",\"\",CPMS_Identification!C94)","v":""},"",null,{"$f":"IF(F72=\"\",\"\",MAX(E$1:E71)+1)","v":""},{"$f":"IF(Landfill_Gas_ID!C94=\"\",\"\",Landfill_Gas_ID!C94)","v":""},"",null,{"$f":"IF(J72=\"\",\"\",MAX(I$1:I71)+1)","v":""},{"$f":"IF(Distillate_Oil!C94=\"\",\"\",Distillate_Oil!C94)","v":""},"",null,null,null,null,null,null,null,null,null,{"$f":"IF(V72=\"\",\"\",MAX(U$1:U71)+1)","v":""},{"$f":"IF(CPMS_Identification!D94=\"\",\"\",CPMS_Identification!D94)","v":""},"",null,null,null,{"$f":"+IF(AE72=\"\",\"\",MAX(AA$1:AA71)+1)","v":""},{"$f":"IF(Deviation_Limits!B94=\"\",\"\",Deviation_Limits!B94)","v":""},{"$f":"IF(Deviation_Limits!C94=\"\",\"\",Deviation_Limits!C94)","v":""},"",{"$f":"IF(COUNTIF(AC$2:AC72,AC72)=1,AC72,\"\")","v":""},"","",null,null,null,null,null,null,null,{"$f":"+IF(AT72=\"\",\"\",MAX(AO$1:AO71)+1)","v":""},{"$f":"IF(Deviation_Limits!B94=\"\",\"\",Deviation_Limits!B94)","v":""},{"$f":"IF(Deviation_Limits!C94=\"\",\"\",Deviation_Limits!C94)","v":""},{"$f":"IF(Deviation_Limits!D94=\"\",\"\",Deviation_Limits!D94)","v":""},"",{"$f":"IF(COUNTIF(AQ$2:AQ72,AQ72)=1,AQ72,\"\")","v":""},"","","",null,{"$f":"+IF(BD72=\"\",\"\",MAX(AY$1:AY71)+1)","v":""},{"$f":"IF(Deviation_CEM_CPMS!B94=\"\",\"\",Deviation_CEM_CPMS!B94)","v":""},{"$f":"IF(Deviation_CEM_CPMS!C94=\"\",\"\",Deviation_CEM_CPMS!C94)","v":""},{"$f":"IF(Deviation_CEM_CPMS!D94=\"\",\"\",Deviation_CEM_CPMS!D94)","v":""},"",{"$f":"IF(COUNTIF(BA$2:BA72,BA72)=1,BA72,\"\")","v":""},"","",""]
[{"$f":"IF(B73=\"\",\"\",MAX(A$1:A72)+1)","v":""},{"$f":"+IF(CPMS_Identification!C95=\"\",\"\",CPMS_Identification!C95)","v":""},"",null,{"$f":"IF(F73=\"\",\"\",MAX(E$1:E72)+1)","v":""},{"$f":"IF(Landfill_Gas_ID!C95=\"\",\"\",Landfill_Gas_ID!C95)","v":""},"",null,{"$f":"IF(J73=\"\",\"\",MAX(I$1:I72)+1)","v":""},{"$f":"IF(Distillate_Oil!C95=\"\",\"\",Distillate_Oil!C95)","v":""},"",null,null,null,null,null,null,null,null,null,{"$f":"IF(V73=\"\",\"\",MAX(U$1:U72)+1)","v":""},{"$f":"IF(CPMS_Identification!D95=\"\",\"\",CPMS_Identification!D95)","v":""},"",null,null,null,{"$f":"+IF(AE73=\"\",\"\",MAX(AA$1:AA72)+1)","v":""},{"$f":"IF(Deviation_Limits!B95=\"\",\"\",Deviation_Limits!B95)","v":""},{"$f":"IF(Deviation_Limits!C95=\"\",\"\",Deviation_Limits!C95)","v":""},"",{"$f":"IF(COUNTIF(AC$2:AC73,AC73)=1,AC73,\"\")","v":""},"","",null,null,null,null,null,null,null,{"$f":"+IF(AT73=\"\",\"\",MAX(AO$1:AO72)+1)","v":""},{"$f":"IF(Deviation_Limits!B95=\"\",\"\",Deviation_Limits!B95)","v":""},{"$f":"IF(Deviation_Limits!C95=\"\",\"\",Deviation_Limits!C95)","v":""},{"$f":"IF(Deviation_Limits!D95=\"\",\"\",Deviation_Limits!D95)","v":""},"",{"$f":"IF(COUNTIF(AQ$2:AQ73,AQ73)=1,AQ73,\"\")","v":""},"","","",null,{"$f":"+IF(BD73=\"\",\"\",MAX(AY$1:AY72)+1)","v":""},{"$f":"IF(Deviation_CEM_CPMS!B95=\"\",\"\",Deviation_CEM_CPMS!B95)","v":""},{"$f":"IF(Deviation_CEM_CPMS!C95=\"\",\"\",Deviation_CEM_CPMS!C95)","v":""},{"$f":"IF(Deviation_CEM_CPMS!D95=\"\",\"\",Deviation_CEM_CPMS!D95)","v":""},"",{"$f":"IF(COUNTIF(BA$2:BA73,BA73)=1,BA73,\"\")","v":""},"","",""]
[{"$f":"IF(B74=\"\",\"\",MAX(A$1:A73)+1)","v":""},{"$f":"+IF(CPMS_Identification!C96=\"\",\"\",CPMS_Identification!C96)","v":""},"",null,{"$f":"IF(F74=\"\",\"\",MAX(E$1:E73)+1)","v":""},{"$f":"IF(Landfill_Gas_ID!C96=\"\",\"\",Landfill_Gas_ID!C96)","v":""},"",null,{"$f":"IF(J74=\"\",\"\",MAX(I$1:I73)+1)","v":""},{"$f":"IF(Distillate_Oil!C96=\"\",\"\",Distillate_Oil!C96)","v":""},"",null,null,null,null,null,null,null,null,null,{"$f":"IF(V74=\"\",\"\",MAX(U$1:U73)+1)","v":""},{"$f":"IF(CPMS_Identification!D96=\"\",\"\",CPMS_Identification!D96)","v":""},"",null,null,null,{"$f":"+IF(AE74=\"\",\"\",MAX(AA$1:AA73)+1)","v":""},{"$f":"IF(Deviation_Limits!B96=\"\",\"\",Deviation_Limits!B96)","v":""},{"$f":"IF(Deviation_Limits!C96=\"\",\"\",Deviation_Limits!C96)","v":""},"",{"$f":"IF(COUNTIF(AC$2:AC74,AC74)=1,AC74,\"\")","v":""},"","",null,null,null,null,null,null,null,{"$f":"+IF(AT74=\"\",\"\",MAX(AO$1:AO73)+1)","v":""},{"$f":"IF(Deviation_Limits!B96=\"\",\"\",Deviation_Limits!B96)","v":""},{"$f":"IF(Deviation_Limits!C96=\"\",\"\",Deviation_Limits!C96)","v":""},{"$f":"IF(Deviation_Limits!D96=\"\",\"\",Deviation_Limits!D96)","v":""},"",{"$f":"IF(COUNTIF(AQ$2:AQ74,AQ74)=1,AQ74,\"\")","v":""},"","","",null,{"$f":"+IF(BD74=\"\",\"\",MAX(AY$1:AY73)+1)","v":""},{"$f":"IF(Deviation_CEM_CPMS!B96=\"\",\"\",Deviation_CEM_CPMS!B96)","v":""},{"$f":"IF(Deviation_CEM_CPMS!C96=\"\",\"\",Deviation_CEM_CPMS!C96)","v":""},{"$f":"IF(Deviation_CEM_CPMS!D96=\"\",\"\",Deviation_CEM_CPMS!D96)","v":""},"",{"$f":"IF(COUNTIF(BA$2:BA74,BA74)=1,BA74,\"\")","v":""},"","",""]
[{"$f":"IF(B75=\"\",\"\",MAX(A$1:A74)+1)","v":""},{"$f":"+IF(CPMS_Identification!C97=\"\",\"\",CPMS_Identification!C97)","v":""},"",null,{"$f":"IF(F75=\"\",\"\",MAX(E$1:E74)+1)","v":""},{"$f":"IF(Landfill_Gas_ID!C97=\"\",\"\",Landfill_Gas_ID!C97)","v":""},"",null,{"$f":"IF(J75=\"\",\"\",MAX(I$1:I74)+1)","v":""},{"$f":"IF(Distillate_Oil!C97=\"\",\"\",Distillate_Oil!C97)","v":""},"",null,null,null,null,null,null,null,null,null,{"$f":"IF(V75=\"\",\"\",MAX(U$1:U74)+1)","v":""},{"$f":"IF(CPMS_Identification!D97=\"\",\"\",CPMS_Identification!D97)","v":""},"",null,null,null,{"$f":"+IF(AE75=\"\",\"\",MAX(AA$1:AA74)+1)","v":""},{"$f":"IF(Deviation_Limits!B97=\"\",\"\",Deviation_Limits!B97)","v":""},{"$f":"IF(Deviation_Limits!C97=\"\",\"\",Deviation_Limits!C97)","v":""},"",{"$f":"IF(COUNTIF(AC$2:AC75,AC75)=1,AC75,\"\")","v":""},"","",null,null,null,null,null,null,null,{"$f":"+IF(AT75=\"\",\"\",MAX(AO$1:AO74)+1)","v":""},{"$f":"IF(Deviation_Limits!B97=\"\",\"\",Deviation_Limits!B97)","v":""},{"$f":"IF(Deviation_Limits!C97=\"\",\"\",Deviation_Limits!C97)","v":""},{"$f":"IF(Deviation_Limits!D97=\"\",\"\",Deviation_Limits!D97)","v":""},"",{"$f":"IF(COUNTIF(AQ$2:AQ75,AQ75)=1,AQ75,\"\")","v":""},"","","",null,{"$f":"+IF(BD75=\"\",\"\",MAX(AY$1:AY74)+1)","v":""},{"$f":"IF(Deviation_CEM_CPMS!B97=\"\",\"\",Deviation_CEM_CPMS!B97)","v":""},{"$f":"IF(Deviation_CEM_CPMS!C97=\"\",\"\",Deviation_CEM_CPMS!C97)","v":""},{"$f":"IF(Deviation_CEM_CPMS!D97=\"\",\"\",Deviation_CEM_CPMS!D97)","v":""},"",{"$f":"IF(COUNTIF(BA$2:BA75,BA75)=1,BA75,\"\")","v":""},"","",""]
[{"$f":"IF(B76=\"\",\"\",MAX(A$1:A75)+1)","v":""},{"$f":"+IF(CPMS_Identification!C98=\"\",\"\",CPMS_Identification!C98)","v":""},"",null,{"$f":"IF(F76=\"\",\"\",MAX(E$1:E75)+1)","v":""},{"$f":"IF(Landfill_Gas_ID!C98=\"\",\"\",Landfill_Gas_ID!C98)","v":""},"",null,{"$f":"IF(J76=\"\",\"\",MAX(I$1:I75)+1)","v":""},{"$f":"IF(Distillate_Oil!C98=\"\",\"\",Distillate_Oil!C98)","v":""},"",null,null,null,null,null,null,null,null,null,{"$f":"IF(V76=\"\",\"\",MAX(U$1:U75)+1)","v":""},{"$f":"IF(CPMS_Identification!D98=\"\",\"\",CPMS_Identification!D98)","v":""},"",null,null,null,{"$f":"+IF(AE76=\"\",\"\",MAX(AA$1:AA75)+1)","v":""},{"$f":"IF(Deviation_Limits!B98=\"\",\"\",Deviation_Limits!B98)","v":""},{"$f":"IF(Deviation_Limits!C98=\"\",\"\",Deviation_Limits!C98)","v":""},"",{"$f":"IF(COUNTIF(AC$2:AC76,AC76)=1,AC76,\"\")","v":""},"","",null,null,null,null,null,null,null,{"$f":"+IF(AT76=\"\",\"\",MAX(AO$1:AO75)+1)","v":""},{"$f":"IF(Deviation_Limits!B98=\"\",\"\",Deviation_Limits!B98)","v":""},{"$f":"IF(Deviation_Limits!C98=\"\",\"\",Deviation_Limits!C98)","v":""},{"$f":"IF(Deviation_Limits!D98=\"\",\"\",Deviation_Limits!D98)","v":""},"",{"$f":"IF(COUNTIF(AQ$2:AQ76,AQ76)=1,AQ76,\"\")","v":""},"","","",null,{"$f":"+IF(BD76=\"\",\"\",MAX(AY$1:AY75)+1)","v":""},{"$f":"IF(Deviation_CEM_CPMS!B98=\"\",\"\",Deviation_CEM_CPMS!B98)","v":""},{"$f":"IF(Deviation_CEM_CPMS!C98=\"\",\"\",Deviation_CEM_CPMS!C98)","v":""},{"$f":"IF(Deviation_CEM_CPMS!D98=\"\",\"\",Deviation_CEM_CPMS!D98)","v":""},"",{"$f":"IF(COUNTIF(BA$2:BA76,BA76)=1,BA76,\"\")","v":""},"","",""]
[{"$f":"IF(B77=\"\",\"\",MAX(A$1:A76)+1)","v":""},{"$f":"+IF(CPMS_Identification!C99=\"\",\"\",CPMS_Identification!C99)","v":""},"",null,{"$f":"IF(F77=\"\",\"\",MAX(E$1:E76)+1)","v":""},{"$f":"IF(Landfill_Gas_ID!C99=\"\",\"\",Landfill_Gas_ID!C99)","v":""},"",null,{"$f":"IF(J77=\"\",\"\",MAX(I$1:I76)+1)","v":""},{"$f":"IF(Distillate_Oil!C99=\"\",\"\",Distillate_Oil!C99)","v":""},"",null,null,null,null,null,null,null,null,null,{"$f":"IF(V77=\"\",\"\",MAX(U$1:U76)+1)","v":""},{"$f":"IF(CPMS_Identification!D99=\"\",\"\",CPMS_Identification!D99)","v":""},"",null,null,null,{"$f":"+IF(AE77=\"\",\"\",MAX(AA$1:AA76)+1)","v":""},{"$f":"IF(Deviation_Limits!B99=\"\",\"\",Deviation_Limits!B99)","v":""},{"$f":"IF(Deviation_Limits!C99=\"\",\"\",Deviation_Limits!C99)","v":""},"",{"$f":"IF(COUNTIF(AC$2:AC77,AC77)=1,AC77,\"\")","v":""},"","",null,null,null,null,null,null,null,{"$f":"+IF(AT77=\"\",\"\",MAX(AO$1:AO76)+1)","v":""},{"$f":"IF(Deviation_Limits!B99=\"\",\"\",Deviation_Limits!B99)","v":""},{"$f":"IF(Deviation_Limits!C99=\"\",\"\",Deviation_Limits!C99)","v":""},{"$f":"IF(Deviation_Limits!D99=\"\",\"\",Deviation_Limits!D99)","v":""},"",{"$f":"IF(COUNTIF(AQ$2:AQ77,AQ77)=1,AQ77,\"\")","v":""},"","","",null,{"$f":"+IF(BD77=\"\",\"\",MAX(AY$1:AY76)+1)","v":""},{"$f":"IF(Deviation_CEM_CPMS!B99=\"\",\"\",Deviation_CEM_CPMS!B99)","v":""},{"$f":"IF(Deviation_CEM_CPMS!C99=\"\",\"\",Deviation_CEM_CPMS!C99)","v":""},{"$f":"IF(Deviation_CEM_CPMS!D99=\"\",\"\",Deviation_CEM_CPMS!D99)","v":""},"",{"$f":"IF(COUNTIF(BA$2:BA77,BA77)=1,BA77,\"\")","v":""},"","",""]
[{"$f":"IF(B78=\"\",\"\",MAX(A$1:A77)+1)","v":""},{"$f":"+IF(CPMS_Identification!C100=\"\",\"\",CPMS_Identification!C100)","v":""},"",null,{"$f":"IF(F78=\"\",\"\",MAX(E$1:E77)+1)","v":""},{"$f":"IF(Landfill_Gas_ID!C100=\"\",\"\",Landfill_Gas_ID!C100)","v":""},"",null,{"$f":"IF(J78=\"\",\"\",MAX(I$1:I77)+1)","v":""},{"$f":"IF(Distillate_Oil!C100=\"\",\"\",Distillate_Oil!C100)","v":""},"",null,null,null,null,null,null,null,null,null,{"$f":"IF(V78=\"\",\"\",MAX(U$1:U77)+1)","v":""},{"$f":"IF(CPMS_Identification!D100=\"\",\"\",CPMS_Identification!D100)","v":""},"",null,null,null,{"$f":"+IF(AE78=\"\",\"\",MAX(AA$1:AA77)+1)","v":""},{"$f":"IF(Deviation_Limits!B100=\"\",\"\",Deviation_Limits!B100)","v":""},{"$f":"IF(Deviation_Limits!C100=\"\",\"\",Deviation_Limits!C100)","v":""},"",{"$f":"IF(COUNTIF(AC$2:AC78,AC78)=1,AC78,\"\")","v":""},"","",null,null,null,null,null,null,null,{"$f":"+IF(AT78=\"\",\"\",MAX(AO$1:AO77)+1)","v":""},{"$f":"IF(Deviation_Limits!B100=\"\",\"\",Deviation_Limits!B100)","v":""},{"$f":"IF(Deviation_Limits!C100=\"\",\"\",Deviation_Limits!C100)","v":""},{"$f":"IF(Deviation_Limits!D100=\"\",\"\",Deviation_Limits!D100)","v":""},"",{"$f":"IF(COUNTIF(AQ$2:AQ78,AQ78)=1,AQ78,\"\")","v":""},"","","",null,{"$f":"+IF(BD78=\"\",\"\",MAX(AY$1:AY77)+1)","v":""},{"$f":"IF(Deviation_CEM_CPMS!B100=\"\",\"\",Deviation_CEM_CPMS!B100)","v":""},{"$f":"IF(Deviation_CEM_CPMS!C100=\"\",\"\",Deviation_CEM_CPMS!C100)","v":""},{"$f":"IF(Deviation_CEM_CPMS!D100=\"\",\"\",Deviation_CEM_CPMS!D100)","v":""},"",{"$f":"IF(COUNTIF(BA$2:BA78,BA78)=1,BA78,\"\")","v":""},"","",""]
[{"$f":"IF(B79=\"\",\"\",MAX(A$1:A78)+1)","v":""},{"$f":"+IF(CPMS_Identification!C101=\"\",\"\",CPMS_Identification!C101)","v":""},"",null,{"$f":"IF(F79=\"\",\"\",MAX(E$1:E78)+1)","v":""},{"$f":"IF(Landfill_Gas_ID!C101=\"\",\"\",Landfill_Gas_ID!C101)","v":""},"",null,{"$f":"IF(J79=\"\",\"\",MAX(I$1:I78)+1)","v":""},{"$f":"IF(Distillate_Oil!C101=\"\",\"\",Distillate_Oil!C101)","v":""},"",null,null,null,null,null,null,null,null,null,null,null,null,null,null,null,{"$f":"+IF(AE79=\"\",\"\",MAX(AA$1:AA78)+1)","v":""},{"$f":"IF(Deviation_Limits!B101=\"\",\"\",Deviation_Limits!B101)","v":""},{"$f":"IF(Deviation_Limits!C101=\"\",\"\",Deviation_Limits!C101)","v":""},"",{"$f":"IF(COUNTIF(AC$2:AC79,AC79)=1,AC79,\"\")","v":""},"","",null,null,null,null,null,null,null,{"$f":"+IF(AT79=\"\",\"\",MAX(AO$1:AO78)+1)","v":""},{"$f":"IF(Deviation_Limits!B101=\"\",\"\",Deviation_Limits!B101)","v":""},{"$f":"IF(Deviation_Limits!C101=\"\",\"\",Deviation_Limits!C101)","v":""},{"$f":"IF(Deviation_Limits!D101=\"\",\"\",Deviation_Limits!D101)","v":""},"",{"$f":"IF(COUNTIF(AQ$2:AQ79,AQ79)=1,AQ79,\"\")","v":""},"","","",null,{"$f":"+IF(BD79=\"\",\"\",MAX(AY$1:AY78)+1)","v":""},{"$f":"IF(Deviation_CEM_CPMS!B101=\"\",\"\",Deviation_CEM_CPMS!B101)","v":""},{"$f":"IF(Deviation_CEM_CPMS!C101=\"\",\"\",Deviation_CEM_CPMS!C101)","v":""},{"$f":"IF(Deviation_CEM_CPMS!D101=\"\",\"\",Deviation_CEM_CPMS!D101)","v":""},"",{"$f":"IF(COUNTIF(BA$2:BA79,BA79)=1,BA79,\"\")","v":""},"","",""]
[{"$f":"IF(B80=\"\",\"\",MAX(A$1:A79)+1)","v":""},{"$f":"+IF(CPMS_Identification!C102=\"\",\"\",CPMS_Identification!C102)","v":""},"",null,{"$f":"IF(F80=\"\",\"\",MAX(E$1:E79)+1)","v":""},{"$f":"IF(Landfill_Gas_ID!C102=\"\",\"\",Landfill_Gas_ID!C102)","v":""},"",null,{"$f":"IF(J80=\"\",\"\",MAX(I$1:I79)+1)","v":""},{"$f":"IF(Distillate_Oil!C102=\"\",\"\",Distillate_Oil!C102)","v":""},"",null,null,null,null,null,null,null,null,null,null,null,null,null,null,null,{"$f":"+IF(AE80=\"\",\"\",MAX(AA$1:AA79)+1)","v":""},{"$f":"IF(Deviation_Limits!B102=\"\",\"\",Deviation_Limits!B102)","v":""},{"$f":"IF(Deviation_Limits!C102=\"\",\"\",Deviation_Limits!C102)","v":""},"",{"$f":"IF(COUNTIF(AC$2:AC80,AC80)=1,AC80,\"\")","v":""},"","",null,null,null,null,null,null,null,{"$f":"+IF(AT80=\"\",\"\",MAX(AO$1:AO79)+1)","v":""},{"$f":"IF(Deviation_Limits!B102=\"\",\"\",Deviation_Limits!B102)","v":""},{"$f":"IF(Deviation_Limits!C102=\"\",\"\",Deviation_Limits!C102)","v":""},{"$f":"IF(Deviation_Limits!D102=\"\",\"\",Deviation_Limits!D102)","v":""},"",{"$f":"IF(COUNTIF(AQ$2:AQ80,AQ80)=1,AQ80,\"\")","v":""},"","","",null,{"$f":"+IF(BD80=\"\",\"\",MAX(AY$1:AY79)+1)","v":""},{"$f":"IF(Deviation_CEM_CPMS!B102=\"\",\"\",Deviation_CEM_CPMS!B102)","v":""},{"$f":"IF(Deviation_CEM_CPMS!C102=\"\",\"\",Deviation_CEM_CPMS!C102)","v":""},{"$f":"IF(Deviation_CEM_CPMS!D102=\"\",\"\",Deviation_CEM_CPMS!D102)","v":""},"",{"$f":"IF(COUNTIF(BA$2:BA80,BA80)=1,BA80,\"\")","v":""},"","",""]
[{"$f":"IF(B81=\"\",\"\",MAX(A$1:A80)+1)","v":""},{"$f":"+IF(CPMS_Identification!C103=\"\",\"\",CPMS_Identification!C103)","v":""},"",null,{"$f":"IF(F81=\"\",\"\",MAX(E$1:E80)+1)","v":""},{"$f":"IF(Landfill_Gas_ID!C103=\"\",\"\",Landfill_Gas_ID!C103)","v":""},"",null,{"$f":"IF(J81=\"\",\"\",MAX(I$1:I80)+1)","v":""},{"$f":"IF(Distillate_Oil!C103=\"\",\"\",Distillate_Oil!C103)","v":""},"",null,null,null,null,null,null,null,null,null,null,null,null,null,null,null,{"$f":"+IF(AE81=\"\",\"\",MAX(AA$1:AA80)+1)","v":""},{"$f":"IF(Deviation_Limits!B103=\"\",\"\",Deviation_Limits!B103)","v":""},{"$f":"IF(Deviation_Limits!C103=\"\",\"\",Deviation_Limits!C103)","v":""},"",{"$f":"IF(COUNTIF(AC$2:AC81,AC81)=1,AC81,\"\")","v":""},"","",null,null,null,null,null,null,null,{"$f":"+IF(AT81=\"\",\"\",MAX(AO$1:AO80)+1)","v":""},{"$f":"IF(Deviation_Limits!B103=\"\",\"\",Deviation_Limits!B103)","v":""},{"$f":"IF(Deviation_Limits!C103=\"\",\"\",Deviation_Limits!C103)","v":""},{"$f":"IF(Deviation_Limits!D103=\"\",\"\",Deviation_Limits!D103)","v":""},"",{"$f":"IF(COUNTIF(AQ$2:AQ81,AQ81)=1,AQ81,\"\")","v":""},"","","",null,{"$f":"+IF(BD81=\"\",\"\",MAX(AY$1:AY80)+1)","v":""},{"$f":"IF(Deviation_CEM_CPMS!B103=\"\",\"\",Deviation_CEM_CPMS!B103)","v":""},{"$f":"IF(Deviation_CEM_CPMS!C103=\"\",\"\",Deviation_CEM_CPMS!C103)","v":""},{"$f":"IF(Deviation_CEM_CPMS!D103=\"\",\"\",Deviation_CEM_CPMS!D103)","v":""},"",{"$f":"IF(COUNTIF(BA$2:BA81,BA81)=1,BA81,\"\")","v":""},"","",""]
[{"$f":"IF(B82=\"\",\"\",MAX(A$1:A81)+1)","v":""},{"$f":"+IF(CPMS_Identification!C104=\"\",\"\",CPMS_Identification!C104)","v":""},"",null,{"$f":"IF(F82=\"\",\"\",MAX(E$1:E81)+1)","v":""},{"$f":"IF(Landfill_Gas_ID!C104=\"\",\"\",Landfill_Gas_ID!C104)","v":""},"",null,{"$f":"IF(J82=\"\",\"\",MAX(I$1:I81)+1)","v":""},{"$f":"IF(Distillate_Oil!C104=\"\",\"\",Distillate_Oil!C104)","v":""},"",null,null,null,null,null,null,null,null,null,null,null,null,null,null,null,{"$f":"+IF(AE82=\"\",\"\",MAX(AA$1:AA81)+1)","v":""},{"$f":"IF(Deviation_Limits!B104=\"\",\"\",Deviation_Limits!B104)","v":""},{"$f":"IF(Deviation_Limits!C104=\"\",\"\",Deviation_Limits!C104)","v":""},"",{"$f":"IF(COUNTIF(AC$2:AC82,AC82)=1,AC82,\"\")","v":""},"","",null,null,null,null,null,null,null,{"$f":"+IF(AT82=\"\",\"\",MAX(AO$1:AO81)+1)","v":""},{"$f":"IF(Deviation_Limits!B104=\"\",\"\",Deviation_Limits!B104)","v":""},{"$f":"IF(Deviation_Limits!C104=\"\",\"\",Deviation_Limits!C104)","v":""},{"$f":"IF(Deviation_Limits!D104=\"\",\"\",Deviation_Limits!D104)","v":""},"",{"$f":"IF(COUNTIF(AQ$2:AQ82,AQ82)=1,AQ82,\"\")","v":""},"","","",null,{"$f":"+IF(BD82=\"\",\"\",MAX(AY$1:AY81)+1)","v":""},{"$f":"IF(Deviation_CEM_CPMS!B104=\"\",\"\",Deviation_CEM_CPMS!B104)","v":""},{"$f":"IF(Deviation_CEM_CPMS!C104=\"\",\"\",Deviation_CEM_CPMS!C104)","v":""},{"$f":"IF(Deviation_CEM_CPMS!D104=\"\",\"\",Deviation_CEM_CPMS!D104)","v":""},"",{"$f":"IF(COUNTIF(BA$2:BA82,BA82)=1,BA82,\"\")","v":""},"","",""]
[{"$f":"IF(B83=\"\",\"\",MAX(A$1:A82)+1)","v":""},{"$f":"+IF(CPMS_Identification!C105=\"\",\"\",CPMS_Identification!C105)","v":""},"",null,{"$f":"IF(F83=\"\",\"\",MAX(E$1:E82)+1)","v":""},{"$f":"IF(Landfill_Gas_ID!C105=\"\",\"\",Landfill_Gas_ID!C105)","v":""},"",null,{"$f":"IF(J83=\"\",\"\",MAX(I$1:I82)+1)","v":""},{"$f":"IF(Distillate_Oil!C105=\"\",\"\",Distillate_Oil!C105)","v":""},"",null,null,null,null,null,null,null,null,null,null,null,null,null,null,null,{"$f":"+IF(AE83=\"\",\"\",MAX(AA$1:AA82)+1)","v":""},{"$f":"IF(Deviation_Limits!B105=\"\",\"\",Deviation_Limits!B105)","v":""},{"$f":"IF(Deviation_Limits!C105=\"\",\"\",Deviation_Limits!C105)","v":""},"",{"$f":"IF(COUNTIF(AC$2:AC83,AC83)=1,AC83,\"\")","v":""},"","",null,null,null,null,null,null,null,{"$f":"+IF(AT83=\"\",\"\",MAX(AO$1:AO82)+1)","v":""},{"$f":"IF(Deviation_Limits!B105=\"\",\"\",Deviation_Limits!B105)","v":""},{"$f":"IF(Deviation_Limits!C105=\"\",\"\",Deviation_Limits!C105)","v":""},{"$f":"IF(Deviation_Limits!D105=\"\",\"\",Deviation_Limits!D105)","v":""},"",{"$f":"IF(COUNTIF(AQ$2:AQ83,AQ83)=1,AQ83,\"\")","v":""},"","","",null,{"$f":"+IF(BD83=\"\",\"\",MAX(AY$1:AY82)+1)","v":""},{"$f":"IF(Deviation_CEM_CPMS!B105=\"\",\"\",Deviation_CEM_CPMS!B105)","v":""},{"$f":"IF(Deviation_CEM_CPMS!C105=\"\",\"\",Deviation_CEM_CPMS!C105)","v":""},{"$f":"IF(Deviation_CEM_CPMS!D105=\"\",\"\",Deviation_CEM_CPMS!D105)","v":""},"",{"$f":"IF(COUNTIF(BA$2:BA83,BA83)=1,BA83,\"\")","v":""},"","",""]
[{"$f":"IF(B84=\"\",\"\",MAX(A$1:A83)+1)","v":""},{"$f":"+IF(CPMS_Identification!C106=\"\",\"\",CPMS_Identification!C106)","v":""},"",null,{"$f":"IF(F84=\"\",\"\",MAX(E$1:E83)+1)","v":""},{"$f":"IF(Landfill_Gas_ID!C106=\"\",\"\",Landfill_Gas_ID!C106)","v":""},"",null,{"$f":"IF(J84=\"\",\"\",MAX(I$1:I83)+1)","v":""},{"$f":"IF(Distillate_Oil!C106=\"\",\"\",Distillate_Oil!C106)","v":""},"",null,null,null,null,null,null,null,null,null,null,null,null,null,null,null,{"$f":"+IF(AE84=\"\",\"\",MAX(AA$1:AA83)+1)","v":""},{"$f":"IF(Deviation_Limits!B106=\"\",\"\",Deviation_Limits!B106)","v":""},{"$f":"IF(Deviation_Limits!C106=\"\",\"\",Deviation_Limits!C106)","v":""},"",{"$f":"IF(COUNTIF(AC$2:AC84,AC84)=1,AC84,\"\")","v":""},"","",null,null,null,null,null,null,null,{"$f":"+IF(AT84=\"\",\"\",MAX(AO$1:AO83)+1)","v":""},{"$f":"IF(Deviation_Limits!B106=\"\",\"\",Deviation_Limits!B106)","v":""},{"$f":"IF(Deviation_Limits!C106=\"\",\"\",Deviation_Limits!C106)","v":""},{"$f":"IF(Deviation_Limits!D106=\"\",\"\",Deviation_Limits!D106)","v":""},"",{"$f":"IF(COUNTIF(AQ$2:AQ84,AQ84)=1,AQ84,\"\")","v":""},"","","",null,{"$f":"+IF(BD84=\"\",\"\",MAX(AY$1:AY83)+1)","v":""},{"$f":"IF(Deviation_CEM_CPMS!B106=\"\",\"\",Deviation_CEM_CPMS!B106)","v":""},{"$f":"IF(Deviation_CEM_CPMS!C106=\"\",\"\",Deviation_CEM_CPMS!C106)","v":""},{"$f":"IF(Deviation_CEM_CPMS!D106=\"\",\"\",Deviation_CEM_CPMS!D106)","v":""},"",{"$f":"IF(COUNTIF(BA$2:BA84,BA84)=1,BA84,\"\")","v":""},"","",""]
[{"$f":"IF(B85=\"\",\"\",MAX(A$1:A84)+1)","v":""},{"$f":"+IF(CPMS_Identification!C107=\"\",\"\",CPMS_Identification!C107)","v":""},"",null,{"$f":"IF(F85=\"\",\"\",MAX(E$1:E84)+1)","v":""},{"$f":"IF(Landfill_Gas_ID!C107=\"\",\"\",Landfill_Gas_ID!C107)","v":""},"",null,{"$f":"IF(J85=\"\",\"\",MAX(I$1:I84)+1)","v":""},{"$f":"IF(Distillate_Oil!C107=\"\",\"\",Distillate_Oil!C107)","v":""},"",null,null,null,null,null,null,null,null,null,null,null,null,null,null,null,{"$f":"+IF(AE85=\"\",\"\",MAX(AA$1:AA84)+1)","v":""},{"$f":"IF(Deviation_Limits!B107=\"\",\"\",Deviation_Limits!B107)","v":""},{"$f":"IF(Deviation_Limits!C107=\"\",\"\",Deviation_Limits!C107)","v":""},"",{"$f":"IF(COUNTIF(AC$2:AC85,AC85)=1,AC85,\"\")","v":""},"","",null,null,null,null,null,null,null,{"$f":"+IF(AT85=\"\",\"\",MAX(AO$1:AO84)+1)","v":""},{"$f":"IF(Deviation_Limits!B107=\"\",\"\",Deviation_Limits!B107)","v":""},{"$f":"IF(Deviation_Limits!C107=\"\",\"\",Deviation_Limits!C107)","v":""},{"$f":"IF(Deviation_Limits!D107=\"\",\"\",Deviation_Limits!D107)","v":""},"",{"$f":"IF(COUNTIF(AQ$2:AQ85,AQ85)=1,AQ85,\"\")","v":""},"","","",null,{"$f":"+IF(BD85=\"\",\"\",MAX(AY$1:AY84)+1)","v":""},{"$f":"IF(Deviation_CEM_CPMS!B107=\"\",\"\",Deviation_CEM_CPMS!B107)","v":""},{"$f":"IF(Deviation_CEM_CPMS!C107=\"\",\"\",Deviation_CEM_CPMS!C107)","v":""},{"$f":"IF(Deviation_CEM_CPMS!D107=\"\",\"\",Deviation_CEM_CPMS!D107)","v":""},"",{"$f":"IF(COUNTIF(BA$2:BA85,BA85)=1,BA85,\"\")","v":""},"","",""]
[{"$f":"IF(B86=\"\",\"\",MAX(A$1:A85)+1)","v":""},{"$f":"+IF(CPMS_Identification!C108=\"\",\"\",CPMS_Identification!C108)","v":""},"",null,{"$f":"IF(F86=\"\",\"\",MAX(E$1:E85)+1)","v":""},{"$f":"IF(Landfill_Gas_ID!C108=\"\",\"\",Landfill_Gas_ID!C108)","v":""},"",null,{"$f":"IF(J86=\"\",\"\",MAX(I$1:I85)+1)","v":""},{"$f":"IF(Distillate_Oil!C108=\"\",\"\",Distillate_Oil!C108)","v":""},"",null,null,null,null,null,null,null,null,null,null,null,null,null,null,null,{"$f":"+IF(AE86=\"\",\"\",MAX(AA$1:AA85)+1)","v":""},{"$f":"IF(Deviation_Limits!B108=\"\",\"\",Deviation_Limits!B108)","v":""},{"$f":"IF(Deviation_Limits!C108=\"\",\"\",Deviation_Limits!C108)","v":""},"",{"$f":"IF(COUNTIF(AC$2:AC86,AC86)=1,AC86,\"\")","v":""},"","",null,null,null,null,null,null,null,{"$f":"+IF(AT86=\"\",\"\",MAX(AO$1:AO85)+1)","v":""},{"$f":"IF(Deviation_Limits!B108=\"\",\"\",Deviation_Limits!B108)","v":""},{"$f":"IF(Deviation_Limits!C108=\"\",\"\",Deviation_Limits!C108)","v":""},{"$f":"IF(Deviation_Limits!D108=\"\",\"\",Deviation_Limits!D108)","v":""},"",{"$f":"IF(COUNTIF(AQ$2:AQ86,AQ86)=1,AQ86,\"\")","v":""},"","","",null,{"$f":"+IF(BD86=\"\",\"\",MAX(AY$1:AY85)+1)","v":""},{"$f":"IF(Deviation_CEM_CPMS!B108=\"\",\"\",Deviation_CEM_CPMS!B108)","v":""},{"$f":"IF(Deviation_CEM_CPMS!C108=\"\",\"\",Deviation_CEM_CPMS!C108)","v":""},{"$f":"IF(Deviation_CEM_CPMS!D108=\"\",\"\",Deviation_CEM_CPMS!D108)","v":""},"",{"$f":"IF(COUNTIF(BA$2:BA86,BA86)=1,BA86,\"\")","v":""},"","",""]
[{"$f":"IF(B87=\"\",\"\",MAX(A$1:A86)+1)","v":""},{"$f":"+IF(CPMS_Identification!C109=\"\",\"\",CPMS_Identification!C109)","v":""},"",null,{"$f":"IF(F87=\"\",\"\",MAX(E$1:E86)+1)","v":""},{"$f":"IF(Landfill_Gas_ID!C109=\"\",\"\",Landfill_Gas_ID!C109)","v":""},"",null,{"$f":"IF(J87=\"\",\"\",MAX(I$1:I86)+1)","v":""},{"$f":"IF(Distillate_Oil!C109=\"\",\"\",Distillate_Oil!C109)","v":""},"",null,null,null,null,null,null,null,null,null,null,null,null,null,null,null,{"$f":"+IF(AE87=\"\",\"\",MAX(AA$1:AA86)+1)","v":""},{"$f":"IF(Deviation_Limits!B109=\"\",\"\",Deviation_Limits!B109)","v":""},{"$f":"IF(Deviation_Limits!C109=\"\",\"\",Deviation_Limits!C109)","v":""},"",{"$f":"IF(COUNTIF(AC$2:AC87,AC87)=1,AC87,\"\")","v":""},"","",null,null,null,null,null,null,null,{"$f":"+IF(AT87=\"\",\"\",MAX(AO$1:AO86)+1)","v":""},{"$f":"IF(Deviation_Limits!B109=\"\",\"\",Deviation_Limits!B109)","v":""},{"$f":"IF(Deviation_Limits!C109=\"\",\"\",Deviation_Limits!C109)","v":""},{"$f":"IF(Deviation_Limits!D109=\"\",\"\",Deviation_Limits!D109)","v":""},"",{"$f":"IF(COUNTIF(AQ$2:AQ87,AQ87)=1,AQ87,\"\")","v":""},"","","",null,{"$f":"+IF(BD87=\"\",\"\",MAX(AY$1:AY86)+1)","v":""},{"$f":"IF(Deviation_CEM_CPMS!B109=\"\",\"\",Deviation_CEM_CPMS!B109)","v":""},{"$f":"IF(Deviation_CEM_CPMS!C109=\"\",\"\",Deviation_CEM_CPMS!C109)","v":""},{"$f":"IF(Deviation_CEM_CPMS!D109=\"\",\"\",Deviation_CEM_CPMS!D109)","v":""},"",{"$f":"IF(COUNTIF(BA$2:BA87,BA87)=1,BA87,\"\")","v":""},"","",""]
[{"$f":"IF(B88=\"\",\"\",MAX(A$1:A87)+1)","v":""},{"$f":"+IF(CPMS_Identification!C110=\"\",\"\",CPMS_Identification!C110)","v":""},"",null,{"$f":"IF(F88=\"\",\"\",MAX(E$1:E87)+1)","v":""},{"$f":"IF(Landfill_Gas_ID!C110=\"\",\"\",Landfill_Gas_ID!C110)","v":""},"",null,{"$f":"IF(J88=\"\",\"\",MAX(I$1:I87)+1)","v":""},{"$f":"IF(Distillate_Oil!C110=\"\",\"\",Distillate_Oil!C110)","v":""},"",null,null,null,null,null,null,null,null,null,null,null,null,null,null,null,{"$f":"+IF(AE88=\"\",\"\",MAX(AA$1:AA87)+1)","v":""},{"$f":"IF(Deviation_Limits!B110=\"\",\"\",Deviation_Limits!B110)","v":""},{"$f":"IF(Deviation_Limits!C110=\"\",\"\",Deviation_Limits!C110)","v":""},"",{"$f":"IF(COUNTIF(AC$2:AC88,AC88)=1,AC88,\"\")","v":""},"","",null,null,null,null,null,null,null,{"$f":"+IF(AT88=\"\",\"\",MAX(AO$1:AO87)+1)","v":""},{"$f":"IF(Deviation_Limits!B110=\"\",\"\",Deviation_Limits!B110)","v":""},{"$f":"IF(Deviation_Limits!C110=\"\",\"\",Deviation_Limits!C110)","v":""},{"$f":"IF(Deviation_Limits!D110=\"\",\"\",Deviation_Limits!D110)","v":""},"",{"$f":"IF(COUNTIF(AQ$2:AQ88,AQ88)=1,AQ88,\"\")","v":""},"","","",null,{"$f":"+IF(BD88=\"\",\"\",MAX(AY$1:AY87)+1)","v":""},{"$f":"IF(Deviation_CEM_CPMS!B110=\"\",\"\",Deviation_CEM_CPMS!B110)","v":""},{"$f":"IF(Deviation_CEM_CPMS!C110=\"\",\"\",Deviation_CEM_CPMS!C110)","v":""},{"$f":"IF(Deviation_CEM_CPMS!D110=\"\",\"\",Deviation_CEM_CPMS!D110)","v":""},"",{"$f":"IF(COUNTIF(BA$2:BA88,BA88)=1,BA88,\"\")","v":""},"","",""]
[{"$f":"IF(B89=\"\",\"\",MAX(A$1:A88)+1)","v":""},{"$f":"+IF(CPMS_Identification!C111=\"\",\"\",CPMS_Identification!C111)","v":""},"",null,{"$f":"IF(F89=\"\",\"\",MAX(E$1:E88)+1)","v":""},{"$f":"IF(Landfill_Gas_ID!C111=\"\",\"\",Landfill_Gas_ID!C111)","v":""},"",null,{"$f":"IF(J89=\"\",\"\",MAX(I$1:I88)+1)","v":""},{"$f":"IF(Distillate_Oil!C111=\"\",\"\",Distillate_Oil!C111)","v":""},"",null,null,null,null,null,null,null,null,null,null,null,null,null,null,null,{"$f":"+IF(AE89=\"\",\"\",MAX(AA$1:AA88)+1)","v":""},{"$f":"IF(Deviation_Limits!B111=\"\",\"\",Deviation_Limits!B111)","v":""},{"$f":"IF(Deviation_Limits!C111=\"\",\"\",Deviation_Limits!C111)","v":""},"",{"$f":"IF(COUNTIF(AC$2:AC89,AC89)=1,AC89,\"\")","v":""},"","",null,null,null,null,null,null,null,{"$f":"+IF(AT89=\"\",\"\",MAX(AO$1:AO88)+1)","v":""},{"$f":"IF(Deviation_Limits!B111=\"\",\"\",Deviation_Limits!B111)","v":""},{"$f":"IF(Deviation_Limits!C111=\"\",\"\",Deviation_Limits!C111)","v":""},{"$f":"IF(Deviation_Limits!D111=\"\",\"\",Deviation_Limits!D111)","v":""},"",{"$f":"IF(COUNTIF(AQ$2:AQ89,AQ89)=1,AQ89,\"\")","v":""},"","","",null,{"$f":"+IF(BD89=\"\",\"\",MAX(AY$1:AY88)+1)","v":""},{"$f":"IF(Deviation_CEM_CPMS!B111=\"\",\"\",Deviation_CEM_CPMS!B111)","v":""},{"$f":"IF(Deviation_CEM_CPMS!C111=\"\",\"\",Deviation_CEM_CPMS!C111)","v":""},{"$f":"IF(Deviation_CEM_CPMS!D111=\"\",\"\",Deviation_CEM_CPMS!D111)","v":""},"",{"$f":"IF(COUNTIF(BA$2:BA89,BA89)=1,BA89,\"\")","v":""},"","",""]
[{"$f":"IF(B90=\"\",\"\",MAX(A$1:A89)+1)","v":""},{"$f":"+IF(CPMS_Identification!C112=\"\",\"\",CPMS_Identification!C112)","v":""},"",null,{"$f":"IF(F90=\"\",\"\",MAX(E$1:E89)+1)","v":""},{"$f":"IF(Landfill_Gas_ID!C112=\"\",\"\",Landfill_Gas_ID!C112)","v":""},"",null,{"$f":"IF(J90=\"\",\"\",MAX(I$1:I89)+1)","v":""},{"$f":"IF(Distillate_Oil!C112=\"\",\"\",Distillate_Oil!C112)","v":""},"",null,null,null,null,null,null,null,null,null,null,null,null,null,null,null,{"$f":"+IF(AE90=\"\",\"\",MAX(AA$1:AA89)+1)","v":""},{"$f":"IF(Deviation_Limits!B112=\"\",\"\",Deviation_Limits!B112)","v":""},{"$f":"IF(Deviation_Limits!C112=\"\",\"\",Deviation_Limits!C112)","v":""},"",{"$f":"IF(COUNTIF(AC$2:AC90,AC90)=1,AC90,\"\")","v":""},"","",null,null,null,null,null,null,null,{"$f":"+IF(AT90=\"\",\"\",MAX(AO$1:AO89)+1)","v":""},{"$f":"IF(Deviation_Limits!B112=\"\",\"\",Deviation_Limits!B112)","v":""},{"$f":"IF(Deviation_Limits!C112=\"\",\"\",Deviation_Limits!C112)","v":""},{"$f":"IF(Deviation_Limits!D112=\"\",\"\",Deviation_Limits!D112)","v":""},"",{"$f":"IF(COUNTIF(AQ$2:AQ90,AQ90)=1,AQ90,\"\")","v":""},"","","",null,{"$f":"+IF(BD90=\"\",\"\",MAX(AY$1:AY89)+1)","v":""},{"$f":"IF(Deviation_CEM_CPMS!B112=\"\",\"\",Deviation_CEM_CPMS!B112)","v":""},{"$f":"IF(Deviation_CEM_CPMS!C112=\"\",\"\",Deviation_CEM_CPMS!C112)","v":""},{"$f":"IF(Deviation_CEM_CPMS!D112=\"\",\"\",Deviation_CEM_CPMS!D112)","v":""},"",{"$f":"IF(COUNTIF(BA$2:BA90,BA90)=1,BA90,\"\")","v":""},"","",""]
[{"$f":"IF(B91=\"\",\"\",MAX(A$1:A90)+1)","v":""},{"$f":"+IF(CPMS_Identification!C113=\"\",\"\",CPMS_Identification!C113)","v":""},"",null,{"$f":"IF(F91=\"\",\"\",MAX(E$1:E90)+1)","v":""},{"$f":"IF(Landfill_Gas_ID!C113=\"\",\"\",Landfill_Gas_ID!C113)","v":""},"",null,{"$f":"IF(J91=\"\",\"\",MAX(I$1:I90)+1)","v":""},{"$f":"IF(Distillate_Oil!C113=\"\",\"\",Distillate_Oil!C113)","v":""},"",null,null,null,null,null,null,null,null,null,null,null,null,null,null,null,{"$f":"+IF(AE91=\"\",\"\",MAX(AA$1:AA90)+1)","v":""},{"$f":"IF(Deviation_Limits!B113=\"\",\"\",Deviation_Limits!B113)","v":""},{"$f":"IF(Deviation_Limits!C113=\"\",\"\",Deviation_Limits!C113)","v":""},"",{"$f":"IF(COUNTIF(AC$2:AC91,AC91)=1,AC91,\"\")","v":""},"","",null,null,null,null,null,null,null,{"$f":"+IF(AT91=\"\",\"\",MAX(AO$1:AO90)+1)","v":""},{"$f":"IF(Deviation_Limits!B113=\"\",\"\",Deviation_Limits!B113)","v":""},{"$f":"IF(Deviation_Limits!C113=\"\",\"\",Deviation_Limits!C113)","v":""},{"$f":"IF(Deviation_Limits!D113=\"\",\"\",Deviation_Limits!D113)","v":""},"",{"$f":"IF(COUNTIF(AQ$2:AQ91,AQ91)=1,AQ91,\"\")","v":""},"","","",null,{"$f":"+IF(BD91=\"\",\"\",MAX(AY$1:AY90)+1)","v":""},{"$f":"IF(Deviation_CEM_CPMS!B113=\"\",\"\",Deviation_CEM_CPMS!B113)","v":""},{"$f":"IF(Deviation_CEM_CPMS!C113=\"\",\"\",Deviation_CEM_CPMS!C113)","v":""},{"$f":"IF(Deviation_CEM_CPMS!D113=\"\",\"\",Deviation_CEM_CPMS!D113)","v":""},"",{"$f":"IF(COUNTIF(BA$2:BA91,BA91)=1,BA91,\"\")","v":""},"","",""]
[{"$f":"IF(B92=\"\",\"\",MAX(A$1:A91)+1)","v":""},{"$f":"+IF(CPMS_Identification!C114=\"\",\"\",CPMS_Identification!C114)","v":""},"",null,{"$f":"IF(F92=\"\",\"\",MAX(E$1:E91)+1)","v":""},{"$f":"IF(Landfill_Gas_ID!C114=\"\",\"\",Landfill_Gas_ID!C114)","v":""},"",null,{"$f":"IF(J92=\"\",\"\",MAX(I$1:I91)+1)","v":""},{"$f":"IF(Distillate_Oil!C114=\"\",\"\",Distillate_Oil!C114)","v":""},"",null,null,null,null,null,null,null,null,null,null,null,null,null,null,null,{"$f":"+IF(AE92=\"\",\"\",MAX(AA$1:AA91)+1)","v":""},{"$f":"IF(Deviation_Limits!B114=\"\",\"\",Deviation_Limits!B114)","v":""},{"$f":"IF(Deviation_Limits!C114=\"\",\"\",Deviation_Limits!C114)","v":""},"",{"$f":"IF(COUNTIF(AC$2:AC92,AC92)=1,AC92,\"\")","v":""},"","",null,null,null,null,null,null,null,{"$f":"+IF(AT92=\"\",\"\",MAX(AO$1:AO91)+1)","v":""},{"$f":"IF(Deviation_Limits!B114=\"\",\"\",Deviation_Limits!B114)","v":""},{"$f":"IF(Deviation_Limits!C114=\"\",\"\",Deviation_Limits!C114)","v":""},{"$f":"IF(Deviation_Limits!D114=\"\",\"\",Deviation_Limits!D114)","v":""},"",{"$f":"IF(COUNTIF(AQ$2:AQ92,AQ92)=1,AQ92,\"\")","v":""},"","","",null,{"$f":"+IF(BD92=\"\",\"\",MAX(AY$1:AY91)+1)","v":""},{"$f":"IF(Deviation_CEM_CPMS!B114=\"\",\"\",Deviation_CEM_CPMS!B114)","v":""},{"$f":"IF(Deviation_CEM_CPMS!C114=\"\",\"\",Deviation_CEM_CPMS!C114)","v":""},{"$f":"IF(Deviation_CEM_CPMS!D114=\"\",\"\",Deviation_CEM_CPMS!D114)","v":""},"",{"$f":"IF(COUNTIF(BA$2:BA92,BA92)=1,BA92,\"\")","v":""},"","",""]
[{"$f":"IF(B93=\"\",\"\",MAX(A$1:A92)+1)","v":""},{"$f":"+IF(CPMS_Identification!C115=\"\",\"\",CPMS_Identification!C115)","v":""},"",null,{"$f":"IF(F93=\"\",\"\",MAX(E$1:E92)+1)","v":""},{"$f":"IF(Landfill_Gas_ID!C115=\"\",\"\",Landfill_Gas_ID!C115)","v":""},"",null,{"$f":"IF(J93=\"\",\"\",MAX(I$1:I92)+1)","v":""},{"$f":"IF(Distillate_Oil!C115=\"\",\"\",Distillate_Oil!C115)","v":""},"",null,null,null,null,null,null,null,null,null,null,null,null,null,null,null,{"$f":"+IF(AE93=\"\",\"\",MAX(AA$1:AA92)+1)","v":""},{"$f":"IF(Deviation_Limits!B115=\"\",\"\",Deviation_Limits!B115)","v":""},{"$f":"IF(Deviation_Limits!C115=\"\",\"\",Deviation_Limits!C115)","v":""},"",{"$f":"IF(COUNTIF(AC$2:AC93,AC93)=1,AC93,\"\")","v":""},"","",null,null,null,null,null,null,null,{"$f":"+IF(AT93=\"\",\"\",MAX(AO$1:AO92)+1)","v":""},{"$f":"IF(Deviation_Limits!B115=\"\",\"\",Deviation_Limits!B115)","v":""},{"$f":"IF(Deviation_Limits!C115=\"\",\"\",Deviation_Limits!C115)","v":""},{"$f":"IF(Deviation_Limits!D115=\"\",\"\",Deviation_Limits!D115)","v":""},"",{"$f":"IF(COUNTIF(AQ$2:AQ93,AQ93)=1,AQ93,\"\")","v":""},"","","",null,{"$f":"+IF(BD93=\"\",\"\",MAX(AY$1:AY92)+1)","v":""},{"$f":"IF(Deviation_CEM_CPMS!B115=\"\",\"\",Deviation_CEM_CPMS!B115)","v":""},{"$f":"IF(Deviation_CEM_CPMS!C115=\"\",\"\",Deviation_CEM_CPMS!C115)","v":""},{"$f":"IF(Deviation_CEM_CPMS!D115=\"\",\"\",Deviation_CEM_CPMS!D115)","v":""},"",{"$f":"IF(COUNTIF(BA$2:BA93,BA93)=1,BA93,\"\")","v":""},"","",""]
[{"$f":"IF(B94=\"\",\"\",MAX(A$1:A93)+1)","v":""},{"$f":"+IF(CPMS_Identification!C116=\"\",\"\",CPMS_Identification!C116)","v":""},"",null,{"$f":"IF(F94=\"\",\"\",MAX(E$1:E93)+1)","v":""},{"$f":"IF(Landfill_Gas_ID!C116=\"\",\"\",Landfill_Gas_ID!C116)","v":""},"",null,{"$f":"IF(J94=\"\",\"\",MAX(I$1:I93)+1)","v":""},{"$f":"IF(Distillate_Oil!C116=\"\",\"\",Distillate_Oil!C116)","v":""},"",null,null,null,null,null,null,null,null,null,null,null,null,null,null,null,{"$f":"+IF(AE94=\"\",\"\",MAX(AA$1:AA93)+1)","v":""},{"$f":"IF(Deviation_Limits!B116=\"\",\"\",Deviation_Limits!B116)","v":""},{"$f":"IF(Deviation_Limits!C116=\"\",\"\",Deviation_Limits!C116)","v":""},"",{"$f":"IF(COUNTIF(AC$2:AC94,AC94)=1,AC94,\"\")","v":""},"","",null,null,null,null,null,null,null,{"$f":"+IF(AT94=\"\",\"\",MAX(AO$1:AO93)+1)","v":""},{"$f":"IF(Deviation_Limits!B116=\"\",\"\",Deviation_Limits!B116)","v":""},{"$f":"IF(Deviation_Limits!C116=\"\",\"\",Deviation_Limits!C116)","v":""},{"$f":"IF(Deviation_Limits!D116=\"\",\"\",Deviation_Limits!D116)","v":""},"",{"$f":"IF(COUNTIF(AQ$2:AQ94,AQ94)=1,AQ94,\"\")","v":""},"","","",null,{"$f":"+IF(BD94=\"\",\"\",MAX(AY$1:AY93)+1)","v":""},{"$f":"IF(Deviation_CEM_CPMS!B116=\"\",\"\",Deviation_CEM_CPMS!B116)","v":""},{"$f":"IF(Deviation_CEM_CPMS!C116=\"\",\"\",Deviation_CEM_CPMS!C116)","v":""},{"$f":"IF(Deviation_CEM_CPMS!D116=\"\",\"\",Deviation_CEM_CPMS!D116)","v":""},"",{"$f":"IF(COUNTIF(BA$2:BA94,BA94)=1,BA94,\"\")","v":""},"","",""]
[{"$f":"IF(B95=\"\",\"\",MAX(A$1:A94)+1)","v":""},{"$f":"+IF(CPMS_Identification!C117=\"\",\"\",CPMS_Identification!C117)","v":""},"",null,{"$f":"IF(F95=\"\",\"\",MAX(E$1:E94)+1)","v":""},{"$f":"IF(Landfill_Gas_ID!C117=\"\",\"\",Landfill_Gas_ID!C117)","v":""},"",null,{"$f":"IF(J95=\"\",\"\",MAX(I$1:I94)+1)","v":""},{"$f":"IF(Distillate_Oil!C117=\"\",\"\",Distillate_Oil!C117)","v":""},"",null,null,null,null,null,null,null,null,null,null,null,null,null,null,null,{"$f":"+IF(AE95=\"\",\"\",MAX(AA$1:AA94)+1)","v":""},{"$f":"IF(Deviation_Limits!B117=\"\",\"\",Deviation_Limits!B117)","v":""},{"$f":"IF(Deviation_Limits!C117=\"\",\"\",Deviation_Limits!C117)","v":""},"",{"$f":"IF(COUNTIF(AC$2:AC95,AC95)=1,AC95,\"\")","v":""},"","",null,null,null,null,null,null,null,{"$f":"+IF(AT95=\"\",\"\",MAX(AO$1:AO94)+1)","v":""},{"$f":"IF(Deviation_Limits!B117=\"\",\"\",Deviation_Limits!B117)","v":""},{"$f":"IF(Deviation_Limits!C117=\"\",\"\",Deviation_Limits!C117)","v":""},{"$f":"IF(Deviation_Limits!D117=\"\",\"\",Deviation_Limits!D117)","v":""},"",{"$f":"IF(COUNTIF(AQ$2:AQ95,AQ95)=1,AQ95,\"\")","v":""},"","","",null,{"$f":"+IF(BD95=\"\",\"\",MAX(AY$1:AY94)+1)","v":""},{"$f":"IF(Deviation_CEM_CPMS!B117=\"\",\"\",Deviation_CEM_CPMS!B117)","v":""},{"$f":"IF(Deviation_CEM_CPMS!C117=\"\",\"\",Deviation_CEM_CPMS!C117)","v":""},{"$f":"IF(Deviation_CEM_CPMS!D117=\"\",\"\",Deviation_CEM_CPMS!D117)","v":""},"",{"$f":"IF(COUNTIF(BA$2:BA95,BA95)=1,BA95,\"\")","v":""},"","",""]
[{"$f":"IF(B96=\"\",\"\",MAX(A$1:A95)+1)","v":""},{"$f":"+IF(CPMS_Identification!C118=\"\",\"\",CPMS_Identification!C118)","v":""},"",null,{"$f":"IF(F96=\"\",\"\",MAX(E$1:E95)+1)","v":""},{"$f":"IF(Landfill_Gas_ID!C118=\"\",\"\",Landfill_Gas_ID!C118)","v":""},"",null,{"$f":"IF(J96=\"\",\"\",MAX(I$1:I95)+1)","v":""},{"$f":"IF(Distillate_Oil!C118=\"\",\"\",Distillate_Oil!C118)","v":""},"",null,null,null,null,null,null,null,null,null,null,null,null,null,null,null,{"$f":"+IF(AE96=\"\",\"\",MAX(AA$1:AA95)+1)","v":""},{"$f":"IF(Deviation_Limits!B118=\"\",\"\",Deviation_Limits!B118)","v":""},{"$f":"IF(Deviation_Limits!C118=\"\",\"\",Deviation_Limits!C118)","v":""},"",{"$f":"IF(COUNTIF(AC$2:AC96,AC96)=1,AC96,\"\")","v":""},"","",null,null,null,null,null,null,null,{"$f":"+IF(AT96=\"\",\"\",MAX(AO$1:AO95)+1)","v":""},{"$f":"IF(Deviation_Limits!B118=\"\",\"\",Deviation_Limits!B118)","v":""},{"$f":"IF(Deviation_Limits!C118=\"\",\"\",Deviation_Limits!C118)","v":""},{"$f":"IF(Deviation_Limits!D118=\"\",\"\",Deviation_Limits!D118)","v":""},"",{"$f":"IF(COUNTIF(AQ$2:AQ96,AQ96)=1,AQ96,\"\")","v":""},"","","",null,{"$f":"+IF(BD96=\"\",\"\",MAX(AY$1:AY95)+1)","v":""},{"$f":"IF(Deviation_CEM_CPMS!B118=\"\",\"\",Deviation_CEM_CPMS!B118)","v":""},{"$f":"IF(Deviation_CEM_CPMS!C118=\"\",\"\",Deviation_CEM_CPMS!C118)","v":""},{"$f":"IF(Deviation_CEM_CPMS!D118=\"\",\"\",Deviation_CEM_CPMS!D118)","v":""},"",{"$f":"IF(COUNTIF(BA$2:BA96,BA96)=1,BA96,\"\")","v":""},"","",""]
[{"$f":"IF(B97=\"\",\"\",MAX(A$1:A96)+1)","v":""},{"$f":"+IF(CPMS_Identification!C119=\"\",\"\",CPMS_Identification!C119)","v":""},"",null,{"$f":"IF(F97=\"\",\"\",MAX(E$1:E96)+1)","v":""},{"$f":"IF(Landfill_Gas_ID!C119=\"\",\"\",Landfill_Gas_ID!C119)","v":""},"",null,{"$f":"IF(J97=\"\",\"\",MAX(I$1:I96)+1)","v":""},{"$f":"IF(Distillate_Oil!C119=\"\",\"\",Distillate_Oil!C119)","v":""},"",null,null,null,null,null,null,null,null,null,null,null,null,null,null,null,{"$f":"+IF(AE97=\"\",\"\",MAX(AA$1:AA96)+1)","v":""},{"$f":"IF(Deviation_Limits!B119=\"\",\"\",Deviation_Limits!B119)","v":""},{"$f":"IF(Deviation_Limits!C119=\"\",\"\",Deviation_Limits!C119)","v":""},"",{"$f":"IF(COUNTIF(AC$2:AC97,AC97)=1,AC97,\"\")","v":""},"","",null,null,null,null,null,null,null,{"$f":"+IF(AT97=\"\",\"\",MAX(AO$1:AO96)+1)","v":""},{"$f":"IF(Deviation_Limits!B119=\"\",\"\",Deviation_Limits!B119)","v":""},{"$f":"IF(Deviation_Limits!C119=\"\",\"\",Deviation_Limits!C119)","v":""},{"$f":"IF(Deviation_Limits!D119=\"\",\"\",Deviation_Limits!D119)","v":""},"",{"$f":"IF(COUNTIF(AQ$2:AQ97,AQ97)=1,AQ97,\"\")","v":""},"","","",null,{"$f":"+IF(BD97=\"\",\"\",MAX(AY$1:AY96)+1)","v":""},{"$f":"IF(Deviation_CEM_CPMS!B119=\"\",\"\",Deviation_CEM_CPMS!B119)","v":""},{"$f":"IF(Deviation_CEM_CPMS!C119=\"\",\"\",Deviation_CEM_CPMS!C119)","v":""},{"$f":"IF(Deviation_CEM_CPMS!D119=\"\",\"\",Deviation_CEM_CPMS!D119)","v":""},"",{"$f":"IF(COUNTIF(BA$2:BA97,BA97)=1,BA97,\"\")","v":""},"","",""]
[{"$f":"IF(B98=\"\",\"\",MAX(A$1:A97)+1)","v":""},{"$f":"+IF(CPMS_Identification!C120=\"\",\"\",CPMS_Identification!C120)","v":""},"",null,{"$f":"IF(F98=\"\",\"\",MAX(E$1:E97)+1)","v":""},{"$f":"IF(Landfill_Gas_ID!C120=\"\",\"\",Landfill_Gas_ID!C120)","v":""},"",null,{"$f":"IF(J98=\"\",\"\",MAX(I$1:I97)+1)","v":""},{"$f":"IF(Distillate_Oil!C120=\"\",\"\",Distillate_Oil!C120)","v":""},"",null,null,null,null,null,null,null,null,null,null,null,null,null,null,null,{"$f":"+IF(AE98=\"\",\"\",MAX(AA$1:AA97)+1)","v":""},{"$f":"IF(Deviation_Limits!B120=\"\",\"\",Deviation_Limits!B120)","v":""},{"$f":"IF(Deviation_Limits!C120=\"\",\"\",Deviation_Limits!C120)","v":""},"",{"$f":"IF(COUNTIF(AC$2:AC98,AC98)=1,AC98,\"\")","v":""},"","",null,null,null,null,null,null,null,{"$f":"+IF(AT98=\"\",\"\",MAX(AO$1:AO97)+1)","v":""},{"$f":"IF(Deviation_Limits!B120=\"\",\"\",Deviation_Limits!B120)","v":""},{"$f":"IF(Deviation_Limits!C120=\"\",\"\",Deviation_Limits!C120)","v":""},{"$f":"IF(Deviation_Limits!D120=\"\",\"\",Deviation_Limits!D120)","v":""},"",{"$f":"IF(COUNTIF(AQ$2:AQ98,AQ98)=1,AQ98,\"\")","v":""},"","","",null,{"$f":"+IF(BD98=\"\",\"\",MAX(AY$1:AY97)+1)","v":""},{"$f":"IF(Deviation_CEM_CPMS!B120=\"\",\"\",Deviation_CEM_CPMS!B120)","v":""},{"$f":"IF(Deviation_CEM_CPMS!C120=\"\",\"\",Deviation_CEM_CPMS!C120)","v":""},{"$f":"IF(Deviation_CEM_CPMS!D120=\"\",\"\",Deviation_CEM_CPMS!D120)","v":""},"",{"$f":"IF(COUNTIF(BA$2:BA98,BA98)=1,BA98,\"\")","v":""},"","",""]
[{"$f":"IF(B99=\"\",\"\",MAX(A$1:A98)+1)","v":""},{"$f":"+IF(CPMS_Identification!C121=\"\",\"\",CPMS_Identification!C121)","v":""},"",null,{"$f":"IF(F99=\"\",\"\",MAX(E$1:E98)+1)","v":""},{"$f":"IF(Landfill_Gas_ID!C121=\"\",\"\",Landfill_Gas_ID!C121)","v":""},"",null,{"$f":"IF(J99=\"\",\"\",MAX(I$1:I98)+1)","v":""},{"$f":"IF(Distillate_Oil!C121=\"\",\"\",Distillate_Oil!C121)","v":""},"",null,null,null,null,null,null,null,null,null,null,null,null,null,null,null,{"$f":"+IF(AE99=\"\",\"\",MAX(AA$1:AA98)+1)","v":""},{"$f":"IF(Deviation_Limits!B121=\"\",\"\",Deviation_Limits!B121)","v":""},{"$f":"IF(Deviation_Limits!C121=\"\",\"\",Deviation_Limits!C121)","v":""},"",{"$f":"IF(COUNTIF(AC$2:AC99,AC99)=1,AC99,\"\")","v":""},"","",null,null,null,null,null,null,null,{"$f":"+IF(AT99=\"\",\"\",MAX(AO$1:AO98)+1)","v":""},{"$f":"IF(Deviation_Limits!B121=\"\",\"\",Deviation_Limits!B121)","v":""},{"$f":"IF(Deviation_Limits!C121=\"\",\"\",Deviation_Limits!C121)","v":""},{"$f":"IF(Deviation_Limits!D121=\"\",\"\",Deviation_Limits!D121)","v":""},"",{"$f":"IF(COUNTIF(AQ$2:AQ99,AQ99)=1,AQ99,\"\")","v":""},"","","",null,{"$f":"+IF(BD99=\"\",\"\",MAX(AY$1:AY98)+1)","v":""},{"$f":"IF(Deviation_CEM_CPMS!B121=\"\",\"\",Deviation_CEM_CPMS!B121)","v":""},{"$f":"IF(Deviation_CEM_CPMS!C121=\"\",\"\",Deviation_CEM_CPMS!C121)","v":""},{"$f":"IF(Deviation_CEM_CPMS!D121=\"\",\"\",Deviation_CEM_CPMS!D121)","v":""},"",{"$f":"IF(COUNTIF(BA$2:BA99,BA99)=1,BA99,\"\")","v":""},"","",""]
[{"$f":"IF(B100=\"\",\"\",MAX(A$1:A99)+1)","v":""},{"$f":"+IF(CPMS_Identification!C122=\"\",\"\",CPMS_Identification!C122)","v":""},"",null,{"$f":"IF(F100=\"\",\"\",MAX(E$1:E99)+1)","v":""},{"$f":"IF(Landfill_Gas_ID!C122=\"\",\"\",Landfill_Gas_ID!C122)","v":""},"",null,{"$f":"IF(J100=\"\",\"\",MAX(I$1:I99)+1)","v":""},{"$f":"IF(Distillate_Oil!C122=\"\",\"\",Distillate_Oil!C122)","v":""},"",null,null,null,null,null,null,null,null,null,null,null,null,null,null,null,{"$f":"+IF(AE100=\"\",\"\",MAX(AA$1:AA99)+1)","v":""},{"$f":"IF(Deviation_Limits!B122=\"\",\"\",Deviation_Limits!B122)","v":""},{"$f":"IF(Deviation_Limits!C122=\"\",\"\",Deviation_Limits!C122)","v":""},"",{"$f":"IF(COUNTIF(AC$2:AC100,AC100)=1,AC100,\"\")","v":""},"","",null,null,null,null,null,null,null,{"$f":"+IF(AT100=\"\",\"\",MAX(AO$1:AO99)+1)","v":""},{"$f":"IF(Deviation_Limits!B122=\"\",\"\",Deviation_Limits!B122)","v":""},{"$f":"IF(Deviation_Limits!C122=\"\",\"\",Deviation_Limits!C122)","v":""},{"$f":"IF(Deviation_Limits!D122=\"\",\"\",Deviation_Limits!D122)","v":""},"",{"$f":"IF(COUNTIF(AQ$2:AQ100,AQ100)=1,AQ100,\"\")","v":""},"","","",null,{"$f":"+IF(BD100=\"\",\"\",MAX(AY$1:AY99)+1)","v":""},{"$f":"IF(Deviation_CEM_CPMS!B122=\"\",\"\",Deviation_CEM_CPMS!B122)","v":""},{"$f":"IF(Deviation_CEM_CPMS!C122=\"\",\"\",Deviation_CEM_CPMS!C122)","v":""},{"$f":"IF(Deviation_CEM_CPMS!D122=\"\",\"\",Deviation_CEM_CPMS!D122)","v":""},"",{"$f":"IF(COUNTIF(BA$2:BA100,BA100)=1,BA100,\"\")","v":""},"","",""]
[{"$f":"IF(B101=\"\",\"\",MAX(A$1:A100)+1)","v":""},{"$f":"+IF(CPMS_Identification!C123=\"\",\"\",CPMS_Identification!C123)","v":""},"",null,{"$f":"IF(F101=\"\",\"\",MAX(E$1:E100)+1)","v":""},{"$f":"IF(Landfill_Gas_ID!C123=\"\",\"\",Landfill_Gas_ID!C123)","v":""},"",null,{"$f":"IF(J101=\"\",\"\",MAX(I$1:I100)+1)","v":""},{"$f":"IF(Distillate_Oil!C123=\"\",\"\",Distillate_Oil!C123)","v":""},"",null,null,null,null,null,null,null,null,null,null,null,null,null,null,null,{"$f":"+IF(AE101=\"\",\"\",MAX(AA$1:AA100)+1)","v":""},{"$f":"IF(Deviation_Limits!B123=\"\",\"\",Deviation_Limits!B123)","v":""},{"$f":"IF(Deviation_Limits!C123=\"\",\"\",Deviation_Limits!C123)","v":""},"",{"$f":"IF(COUNTIF(AC$2:AC101,AC101)=1,AC101,\"\")","v":""},"","",null,null,null,null,null,null,null,{"$f":"+IF(AT101=\"\",\"\",MAX(AO$1:AO100)+1)","v":""},{"$f":"IF(Deviation_Limits!B123=\"\",\"\",Deviation_Limits!B123)","v":""},{"$f":"IF(Deviation_Limits!C123=\"\",\"\",Deviation_Limits!C123)","v":""},{"$f":"IF(Deviation_Limits!D123=\"\",\"\",Deviation_Limits!D123)","v":""},"",{"$f":"IF(COUNTIF(AQ$2:AQ101,AQ101)=1,AQ101,\"\")","v":""},"","","",null,{"$f":"+IF(BD101=\"\",\"\",MAX(AY$1:AY100)+1)","v":""},{"$f":"IF(Deviation_CEM_CPMS!B123=\"\",\"\",Deviation_CEM_CPMS!B123)","v":""},{"$f":"IF(Deviation_CEM_CPMS!C123=\"\",\"\",Deviation_CEM_CPMS!C123)","v":""},{"$f":"IF(Deviation_CEM_CPMS!D123=\"\",\"\",Deviation_CEM_CPMS!D123)","v":""},"",{"$f":"IF(COUNTIF(BA$2:BA101,BA101)=1,BA101,\"\")","v":""},"","",""]
[{"$f":"IF(B102=\"\",\"\",MAX(A$1:A101)+1)","v":""},{"$f":"+IF(CPMS_Identification!C124=\"\",\"\",CPMS_Identification!C124)","v":""},"",null,{"$f":"IF(F102=\"\",\"\",MAX(E$1:E101)+1)","v":""},{"$f":"IF(Landfill_Gas_ID!C124=\"\",\"\",Landfill_Gas_ID!C124)","v":""},"",null,{"$f":"IF(J102=\"\",\"\",MAX(I$1:I101)+1)","v":""},{"$f":"IF(Distillate_Oil!C124=\"\",\"\",Distillate_Oil!C124)","v":""},"",null,null,null,null,null,null,null,null,null,null,null,null,null,null,null,{"$f":"+IF(AE102=\"\",\"\",MAX(AA$1:AA101)+1)","v":""},{"$f":"IF(Deviation_Limits!B124=\"\",\"\",Deviation_Limits!B124)","v":""},{"$f":"IF(Deviation_Limits!C124=\"\",\"\",Deviation_Limits!C124)","v":""},"",{"$f":"IF(COUNTIF(AC$2:AC102,AC102)=1,AC102,\"\")","v":""},"","",null,null,null,null,null,null,null,{"$f":"+IF(AT102=\"\",\"\",MAX(AO$1:AO101)+1)","v":""},{"$f":"IF(Deviation_Limits!B124=\"\",\"\",Deviation_Limits!B124)","v":""},{"$f":"IF(Deviation_Limits!C124=\"\",\"\",Deviation_Limits!C124)","v":""},{"$f":"IF(Deviation_Limits!D124=\"\",\"\",Deviation_Limits!D124)","v":""},"",{"$f":"IF(COUNTIF(AQ$2:AQ102,AQ102)=1,AQ102,\"\")","v":""},"","","",null,{"$f":"+IF(BD102=\"\",\"\",MAX(AY$1:AY101)+1)","v":""},{"$f":"IF(Deviation_CEM_CPMS!B124=\"\",\"\",Deviation_CEM_CPMS!B124)","v":""},{"$f":"IF(Deviation_CEM_CPMS!C124=\"\",\"\",Deviation_CEM_CPMS!C124)","v":""},{"$f":"IF(Deviation_CEM_CPMS!D124=\"\",\"\",Deviation_CEM_CPMS!D124)","v":""},"",{"$f":"IF(COUNTIF(BA$2:BA102,BA102)=1,BA102,\"\")","v":""},"","",""]
[{"$f":"IF(B103=\"\",\"\",MAX(A$1:A102)+1)","v":""},{"$f":"+IF(CPMS_Identification!C125=\"\",\"\",CPMS_Identification!C125)","v":""},"",null,{"$f":"IF(F103=\"\",\"\",MAX(E$1:E102)+1)","v":""},{"$f":"IF(Landfill_Gas_ID!C125=\"\",\"\",Landfill_Gas_ID!C125)","v":""},"",null,{"$f":"IF(J103=\"\",\"\",MAX(I$1:I102)+1)","v":""},{"$f":"IF(Distillate_Oil!C125=\"\",\"\",Distillate_Oil!C125)","v":""},"",null,null,null,null,null,null,null,null,null,null,null,null,null,null,null,{"$f":"+IF(AE103=\"\",\"\",MAX(AA$1:AA102)+1)","v":""},{"$f":"IF(Deviation_Limits!B125=\"\",\"\",Deviation_Limits!B125)","v":""},{"$f":"IF(Deviation_Limits!C125=\"\",\"\",Deviation_Limits!C125)","v":""},"",{"$f":"IF(COUNTIF(AC$2:AC103,AC103)=1,AC103,\"\")","v":""},"","",null,null,null,null,null,null,null,{"$f":"+IF(AT103=\"\",\"\",MAX(AO$1:AO102)+1)","v":""},{"$f":"IF(Deviation_Limits!B125=\"\",\"\",Deviation_Limits!B125)","v":""},{"$f":"IF(Deviation_Limits!C125=\"\",\"\",Deviation_Limits!C125)","v":""},{"$f":"IF(Deviation_Limits!D125=\"\",\"\",Deviation_Limits!D125)","v":""},"",{"$f":"IF(COUNTIF(AQ$2:AQ103,AQ103)=1,AQ103,\"\")","v":""},"","","",null,{"$f":"+IF(BD103=\"\",\"\",MAX(AY$1:AY102)+1)","v":""},{"$f":"IF(Deviation_CEM_CPMS!B125=\"\",\"\",Deviation_CEM_CPMS!B125)","v":""},{"$f":"IF(Deviation_CEM_CPMS!C125=\"\",\"\",Deviation_CEM_CPMS!C125)","v":""},{"$f":"IF(Deviation_CEM_CPMS!D125=\"\",\"\",Deviation_CEM_CPMS!D125)","v":""},"",{"$f":"IF(COUNTIF(BA$2:BA103,BA103)=1,BA103,\"\")","v":""},"","",""]
[{"$f":"IF(B104=\"\",\"\",MAX(A$1:A103)+1)","v":""},{"$f":"+IF(CPMS_Identification!C126=\"\",\"\",CPMS_Identification!C126)","v":""},"",null,{"$f":"IF(F104=\"\",\"\",MAX(E$1:E103)+1)","v":""},{"$f":"IF(Landfill_Gas_ID!C126=\"\",\"\",Landfill_Gas_ID!C126)","v":""},"",null,{"$f":"IF(J104=\"\",\"\",MAX(I$1:I103)+1)","v":""},{"$f":"IF(Distillate_Oil!C126=\"\",\"\",Distillate_Oil!C126)","v":""},"",null,null,null,null,null,null,null,null,null,null,null,null,null,null,null,{"$f":"+IF(AE104=\"\",\"\",MAX(AA$1:AA103)+1)","v":""},{"$f":"IF(Deviation_Limits!B126=\"\",\"\",Deviation_Limits!B126)","v":""},{"$f":"IF(Deviation_Limits!C126=\"\",\"\",Deviation_Limits!C126)","v":""},"",{"$f":"IF(COUNTIF(AC$2:AC104,AC104)=1,AC104,\"\")","v":""},"","",null,null,null,null,null,null,null,{"$f":"+IF(AT104=\"\",\"\",MAX(AO$1:AO103)+1)","v":""},{"$f":"IF(Deviation_Limits!B126=\"\",\"\",Deviation_Limits!B126)","v":""},{"$f":"IF(Deviation_Limits!C126=\"\",\"\",Deviation_Limits!C126)","v":""},{"$f":"IF(Deviation_Limits!D126=\"\",\"\",Deviation_Limits!D126)","v":""},"",{"$f":"IF(COUNTIF(AQ$2:AQ104,AQ104)=1,AQ104,\"\")","v":""},"","","",null,{"$f":"+IF(BD104=\"\",\"\",MAX(AY$1:AY103)+1)","v":""},{"$f":"IF(Deviation_CEM_CPMS!B126=\"\",\"\",Deviation_CEM_CPMS!B126)","v":""},{"$f":"IF(Deviation_CEM_CPMS!C126=\"\",\"\",Deviation_CEM_CPMS!C126)","v":""},{"$f":"IF(Deviation_CEM_CPMS!D126=\"\",\"\",Deviation_CEM_CPMS!D126)","v":""},"",{"$f":"IF(COUNTIF(BA$2:BA104,BA104)=1,BA104,\"\")","v":""},"","",""]
[{"$f":"IF(B105=\"\",\"\",MAX(A$1:A104)+1)","v":""},{"$f":"+IF(CPMS_Identification!C127=\"\",\"\",CPMS_Identification!C127)","v":""},"",null,{"$f":"IF(F105=\"\",\"\",MAX(E$1:E104)+1)","v":""},{"$f":"IF(Landfill_Gas_ID!C127=\"\",\"\",Landfill_Gas_ID!C127)","v":""},"",null,{"$f":"IF(J105=\"\",\"\",MAX(I$1:I104)+1)","v":""},{"$f":"IF(Distillate_Oil!C127=\"\",\"\",Distillate_Oil!C127)","v":""},"",null,null,null,null,null,null,null,null,null,null,null,null,null,null,null,{"$f":"+IF(AE105=\"\",\"\",MAX(AA$1:AA104)+1)","v":""},{"$f":"IF(Deviation_Limits!B127=\"\",\"\",Deviation_Limits!B127)","v":""},{"$f":"IF(Deviation_Limits!C127=\"\",\"\",Deviation_Limits!C127)","v":""},"",{"$f":"IF(COUNTIF(AC$2:AC105,AC105)=1,AC105,\"\")","v":""},"","",null,null,null,null,null,null,null,{"$f":"+IF(AT105=\"\",\"\",MAX(AO$1:AO104)+1)","v":""},{"$f":"IF(Deviation_Limits!B127=\"\",\"\",Deviation_Limits!B127)","v":""},{"$f":"IF(Deviation_Limits!C127=\"\",\"\",Deviation_Limits!C127)","v":""},{"$f":"IF(Deviation_Limits!D127=\"\",\"\",Deviation_Limits!D127)","v":""},"",{"$f":"IF(COUNTIF(AQ$2:AQ105,AQ105)=1,AQ105,\"\")","v":""},"","","",null,{"$f":"+IF(BD105=\"\",\"\",MAX(AY$1:AY104)+1)","v":""},{"$f":"IF(Deviation_CEM_CPMS!B127=\"\",\"\",Deviation_CEM_CPMS!B127)","v":""},{"$f":"IF(Deviation_CEM_CPMS!C127=\"\",\"\",Deviation_CEM_CPMS!C127)","v":""},{"$f":"IF(Deviation_CEM_CPMS!D127=\"\",\"\",Deviation_CEM_CPMS!D127)","v":""},"",{"$f":"IF(COUNTIF(BA$2:BA105,BA105)=1,BA105,\"\")","v":""},"","",""]
[{"$f":"IF(B106=\"\",\"\",MAX(A$1:A105)+1)","v":""},{"$f":"+IF(CPMS_Identification!C128=\"\",\"\",CPMS_Identification!C128)","v":""},"",null,{"$f":"IF(F106=\"\",\"\",MAX(E$1:E105)+1)","v":""},{"$f":"IF(Landfill_Gas_ID!C128=\"\",\"\",Landfill_Gas_ID!C128)","v":""},"",null,{"$f":"IF(J106=\"\",\"\",MAX(I$1:I105)+1)","v":""},{"$f":"IF(Distillate_Oil!C128=\"\",\"\",Distillate_Oil!C128)","v":""},"",null,null,null,null,null,null,null,null,null,null,null,null,null,null,null,{"$f":"+IF(AE106=\"\",\"\",MAX(AA$1:AA105)+1)","v":""},{"$f":"IF(Deviation_Limits!B128=\"\",\"\",Deviation_Limits!B128)","v":""},{"$f":"IF(Deviation_Limits!C128=\"\",\"\",Deviation_Limits!C128)","v":""},"",{"$f":"IF(COUNTIF(AC$2:AC106,AC106)=1,AC106,\"\")","v":""},"","",null,null,null,null,null,null,null,{"$f":"+IF(AT106=\"\",\"\",MAX(AO$1:AO105)+1)","v":""},{"$f":"IF(Deviation_Limits!B128=\"\",\"\",Deviation_Limits!B128)","v":""},{"$f":"IF(Deviation_Limits!C128=\"\",\"\",Deviation_Limits!C128)","v":""},{"$f":"IF(Deviation_Limits!D128=\"\",\"\",Deviation_Limits!D128)","v":""},"",{"$f":"IF(COUNTIF(AQ$2:AQ106,AQ106)=1,AQ106,\"\")","v":""},"","","",null,{"$f":"+IF(BD106=\"\",\"\",MAX(AY$1:AY105)+1)","v":""},{"$f":"IF(Deviation_CEM_CPMS!B128=\"\",\"\",Deviation_CEM_CPMS!B128)","v":""},{"$f":"IF(Deviation_CEM_CPMS!C128=\"\",\"\",Deviation_CEM_CPMS!C128)","v":""},{"$f":"IF(Deviation_CEM_CPMS!D128=\"\",\"\",Deviation_CEM_CPMS!D128)","v":""},"",{"$f":"IF(COUNTIF(BA$2:BA106,BA106)=1,BA106,\"\")","v":""},"","",""]
[{"$f":"IF(B107=\"\",\"\",MAX(A$1:A106)+1)","v":""},{"$f":"+IF(CPMS_Identification!C129=\"\",\"\",CPMS_Identification!C129)","v":""},"",null,{"$f":"IF(F107=\"\",\"\",MAX(E$1:E106)+1)","v":""},{"$f":"IF(Landfill_Gas_ID!C129=\"\",\"\",Landfill_Gas_ID!C129)","v":""},"",null,{"$f":"IF(J107=\"\",\"\",MAX(I$1:I106)+1)","v":""},{"$f":"IF(Distillate_Oil!C129=\"\",\"\",Distillate_Oil!C129)","v":""},"",null,null,null,null,null,null,null,null,null,null,null,null,null,null,null,{"$f":"+IF(AE107=\"\",\"\",MAX(AA$1:AA106)+1)","v":""},{"$f":"IF(Deviation_Limits!B129=\"\",\"\",Deviation_Limits!B129)","v":""},{"$f":"IF(Deviation_Limits!C129=\"\",\"\",Deviation_Limits!C129)","v":""},"",{"$f":"IF(COUNTIF(AC$2:AC107,AC107)=1,AC107,\"\")","v":""},"","",null,null,null,null,null,null,null,{"$f":"+IF(AT107=\"\",\"\",MAX(AO$1:AO106)+1)","v":""},{"$f":"IF(Deviation_Limits!B129=\"\",\"\",Deviation_Limits!B129)","v":""},{"$f":"IF(Deviation_Limits!C129=\"\",\"\",Deviation_Limits!C129)","v":""},{"$f":"IF(Deviation_Limits!D129=\"\",\"\",Deviation_Limits!D129)","v":""},"",{"$f":"IF(COUNTIF(AQ$2:AQ107,AQ107)=1,AQ107,\"\")","v":""},"","","",null,{"$f":"+IF(BD107=\"\",\"\",MAX(AY$1:AY106)+1)","v":""},{"$f":"IF(Deviation_CEM_CPMS!B129=\"\",\"\",Deviation_CEM_CPMS!B129)","v":""},{"$f":"IF(Deviation_CEM_CPMS!C129=\"\",\"\",Deviation_CEM_CPMS!C129)","v":""},{"$f":"IF(Deviation_CEM_CPMS!D129=\"\",\"\",Deviation_CEM_CPMS!D129)","v":""},"",{"$f":"IF(COUNTIF(BA$2:BA107,BA107)=1,BA107,\"\")","v":""},"","",""]
[{"$f":"IF(B108=\"\",\"\",MAX(A$1:A107)+1)","v":""},{"$f":"+IF(CPMS_Identification!C130=\"\",\"\",CPMS_Identification!C130)","v":""},"",null,{"$f":"IF(F108=\"\",\"\",MAX(E$1:E107)+1)","v":""},{"$f":"IF(Landfill_Gas_ID!C130=\"\",\"\",Landfill_Gas_ID!C130)","v":""},"",null,{"$f":"IF(J108=\"\",\"\",MAX(I$1:I107)+1)","v":""},{"$f":"IF(Distillate_Oil!C130=\"\",\"\",Distillate_Oil!C130)","v":""},"",null,null,null,null,null,null,null,null,null,null,null,null,null,null,null,{"$f":"+IF(AE108=\"\",\"\",MAX(AA$1:AA107)+1)","v":""},{"$f":"IF(Deviation_Limits!B130=\"\",\"\",Deviation_Limits!B130)","v":""},{"$f":"IF(Deviation_Limits!C130=\"\",\"\",Deviation_Limits!C130)","v":""},"",{"$f":"IF(COUNTIF(AC$2:AC108,AC108)=1,AC108,\"\")","v":""},"","",null,null,null,null,null,null,null,{"$f":"+IF(AT108=\"\",\"\",MAX(AO$1:AO107)+1)","v":""},{"$f":"IF(Deviation_Limits!B130=\"\",\"\",Deviation_Limits!B130)","v":""},{"$f":"IF(Deviation_Limits!C130=\"\",\"\",Deviation_Limits!C130)","v":""},{"$f":"IF(Deviation_Limits!D130=\"\",\"\",Deviation_Limits!D130)","v":""},"",{"$f":"IF(COUNTIF(AQ$2:AQ108,AQ108)=1,AQ108,\"\")","v":""},"","","",null,{"$f":"+IF(BD108=\"\",\"\",MAX(AY$1:AY107)+1)","v":""},{"$f":"IF(Deviation_CEM_CPMS!B130=\"\",\"\",Deviation_CEM_CPMS!B130)","v":""},{"$f":"IF(Deviation_CEM_CPMS!C130=\"\",\"\",Deviation_CEM_CPMS!C130)","v":""},{"$f":"IF(Deviation_CEM_CPMS!D130=\"\",\"\",Deviation_CEM_CPMS!D130)","v":""},"",{"$f":"IF(COUNTIF(BA$2:BA108,BA108)=1,BA108,\"\")","v":""},"","",""]
[{"$f":"IF(B109=\"\",\"\",MAX(A$1:A108)+1)","v":""},{"$f":"+IF(CPMS_Identification!C131=\"\",\"\",CPMS_Identification!C131)","v":""},"",null,{"$f":"IF(F109=\"\",\"\",MAX(E$1:E108)+1)","v":""},{"$f":"IF(Landfill_Gas_ID!C131=\"\",\"\",Landfill_Gas_ID!C131)","v":""},"",null,{"$f":"IF(J109=\"\",\"\",MAX(I$1:I108)+1)","v":""},{"$f":"IF(Distillate_Oil!C131=\"\",\"\",Distillate_Oil!C131)","v":""},"",null,null,null,null,null,null,null,null,null,null,null,null,null,null,null,{"$f":"+IF(AE109=\"\",\"\",MAX(AA$1:AA108)+1)","v":""},{"$f":"IF(Deviation_Limits!B131=\"\",\"\",Deviation_Limits!B131)","v":""},{"$f":"IF(Deviation_Limits!C131=\"\",\"\",Deviation_Limits!C131)","v":""},"",{"$f":"IF(COUNTIF(AC$2:AC109,AC109)=1,AC109,\"\")","v":""},"","",null,null,null,null,null,null,null,{"$f":"+IF(AT109=\"\",\"\",MAX(AO$1:AO108)+1)","v":""},{"$f":"IF(Deviation_Limits!B131=\"\",\"\",Deviation_Limits!B131)","v":""},{"$f":"IF(Deviation_Limits!C131=\"\",\"\",Deviation_Limits!C131)","v":""},{"$f":"IF(Deviation_Limits!D131=\"\",\"\",Deviation_Limits!D131)","v":""},"",{"$f":"IF(COUNTIF(AQ$2:AQ109,AQ109)=1,AQ109,\"\")","v":""},"","","",null,{"$f":"+IF(BD109=\"\",\"\",MAX(AY$1:AY108)+1)","v":""},{"$f":"IF(Deviation_CEM_CPMS!B131=\"\",\"\",Deviation_CEM_CPMS!B131)","v":""},{"$f":"IF(Deviation_CEM_CPMS!C131=\"\",\"\",Deviation_CEM_CPMS!C131)","v":""},{"$f":"IF(Deviation_CEM_CPMS!D131=\"\",\"\",Deviation_CEM_CPMS!D131)","v":""},"",{"$f":"IF(COUNTIF(BA$2:BA109,BA109)=1,BA109,\"\")","v":""},"","",""]
[{"$f":"IF(B110=\"\",\"\",MAX(A$1:A109)+1)","v":""},{"$f":"+IF(CPMS_Identification!C132=\"\",\"\",CPMS_Identification!C132)","v":""},"",null,{"$f":"IF(F110=\"\",\"\",MAX(E$1:E109)+1)","v":""},{"$f":"IF(Landfill_Gas_ID!C132=\"\",\"\",Landfill_Gas_ID!C132)","v":""},"",null,{"$f":"IF(J110=\"\",\"\",MAX(I$1:I109)+1)","v":""},{"$f":"IF(Distillate_Oil!C132=\"\",\"\",Distillate_Oil!C132)","v":""},"",null,null,null,null,null,null,null,null,null,null,null,null,null,null,null,{"$f":"+IF(AE110=\"\",\"\",MAX(AA$1:AA109)+1)","v":""},{"$f":"IF(Deviation_Limits!B132=\"\",\"\",Deviation_Limits!B132)","v":""},{"$f":"IF(Deviation_Limits!C132=\"\",\"\",Deviation_Limits!C132)","v":""},"",{"$f":"IF(COUNTIF(AC$2:AC110,AC110)=1,AC110,\"\")","v":""},"","",null,null,null,null,null,null,null,{"$f":"+IF(AT110=\"\",\"\",MAX(AO$1:AO109)+1)","v":""},{"$f":"IF(Deviation_Limits!B132=\"\",\"\",Deviation_Limits!B132)","v":""},{"$f":"IF(Deviation_Limits!C132=\"\",\"\",Deviation_Limits!C132)","v":""},{"$f":"IF(Deviation_Limits!D132=\"\",\"\",Deviation_Limits!D132)","v":""},"",{"$f":"IF(COUNTIF(AQ$2:AQ110,AQ110)=1,AQ110,\"\")","v":""},"","","",null,{"$f":"+IF(BD110=\"\",\"\",MAX(AY$1:AY109)+1)","v":""},{"$f":"IF(Deviation_CEM_CPMS!B132=\"\",\"\",Deviation_CEM_CPMS!B132)","v":""},{"$f":"IF(Deviation_CEM_CPMS!C132=\"\",\"\",Deviation_CEM_CPMS!C132)","v":""},{"$f":"IF(Deviation_CEM_CPMS!D132=\"\",\"\",Deviation_CEM_CPMS!D132)","v":""},"",{"$f":"IF(COUNTIF(BA$2:BA110,BA110)=1,BA110,\"\")","v":""},"","",""]
[{"$f":"IF(B111=\"\",\"\",MAX(A$1:A110)+1)","v":""},{"$f":"+IF(CPMS_Identification!C133=\"\",\"\",CPMS_Identification!C133)","v":""},"",null,{"$f":"IF(F111=\"\",\"\",MAX(E$1:E110)+1)","v":""},{"$f":"IF(Landfill_Gas_ID!C133=\"\",\"\",Landfill_Gas_ID!C133)","v":""},"",null,{"$f":"IF(J111=\"\",\"\",MAX(I$1:I110)+1)","v":""},{"$f":"IF(Distillate_Oil!C133=\"\",\"\",Distillate_Oil!C133)","v":""},"",null,null,null,null,null,null,null,null,null,null,null,null,null,null,null,{"$f":"+IF(AE111=\"\",\"\",MAX(AA$1:AA110)+1)","v":""},{"$f":"IF(Deviation_Limits!B133=\"\",\"\",Deviation_Limits!B133)","v":""},{"$f":"IF(Deviation_Limits!C133=\"\",\"\",Deviation_Limits!C133)","v":""},"",{"$f":"IF(COUNTIF(AC$2:AC111,AC111)=1,AC111,\"\")","v":""},"","",null,null,null,null,null,null,null,{"$f":"+IF(AT111=\"\",\"\",MAX(AO$1:AO110)+1)","v":""},{"$f":"IF(Deviation_Limits!B133=\"\",\"\",Deviation_Limits!B133)","v":""},{"$f":"IF(Deviation_Limits!C133=\"\",\"\",Deviation_Limits!C133)","v":""},{"$f":"IF(Deviation_Limits!D133=\"\",\"\",Deviation_Limits!D133)","v":""},"",{"$f":"IF(COUNTIF(AQ$2:AQ111,AQ111)=1,AQ111,\"\")","v":""},"","","",null,{"$f":"+IF(BD111=\"\",\"\",MAX(AY$1:AY110)+1)","v":""},{"$f":"IF(Deviation_CEM_CPMS!B133=\"\",\"\",Deviation_CEM_CPMS!B133)","v":""},{"$f":"IF(Deviation_CEM_CPMS!C133=\"\",\"\",Deviation_CEM_CPMS!C133)","v":""},{"$f":"IF(Deviation_CEM_CPMS!D133=\"\",\"\",Deviation_CEM_CPMS!D133)","v":""},"",{"$f":"IF(COUNTIF(BA$2:BA111,BA111)=1,BA111,\"\")","v":""},"","",""]
[{"$f":"IF(B112=\"\",\"\",MAX(A$1:A111)+1)","v":""},{"$f":"+IF(CPMS_Identification!C134=\"\",\"\",CPMS_Identification!C134)","v":""},"",null,{"$f":"IF(F112=\"\",\"\",MAX(E$1:E111)+1)","v":""},{"$f":"IF(Landfill_Gas_ID!C134=\"\",\"\",Landfill_Gas_ID!C134)","v":""},"",null,{"$f":"IF(J112=\"\",\"\",MAX(I$1:I111)+1)","v":""},{"$f":"IF(Distillate_Oil!C134=\"\",\"\",Distillate_Oil!C134)","v":""},"",null,null,null,null,null,null,null,null,null,null,null,null,null,null,null,{"$f":"+IF(AE112=\"\",\"\",MAX(AA$1:AA111)+1)","v":""},{"$f":"IF(Deviation_Limits!B134=\"\",\"\",Deviation_Limits!B134)","v":""},{"$f":"IF(Deviation_Limits!C134=\"\",\"\",Deviation_Limits!C134)","v":""},"",{"$f":"IF(COUNTIF(AC$2:AC112,AC112)=1,AC112,\"\")","v":""},"","",null,null,null,null,null,null,null,{"$f":"+IF(AT112=\"\",\"\",MAX(AO$1:AO111)+1)","v":""},{"$f":"IF(Deviation_Limits!B134=\"\",\"\",Deviation_Limits!B134)","v":""},{"$f":"IF(Deviation_Limits!C134=\"\",\"\",Deviation_Limits!C134)","v":""},{"$f":"IF(Deviation_Limits!D134=\"\",\"\",Deviation_Limits!D134)","v":""},"",{"$f":"IF(COUNTIF(AQ$2:AQ112,AQ112)=1,AQ112,\"\")","v":""},"","","",null,{"$f":"+IF(BD112=\"\",\"\",MAX(AY$1:AY111)+1)","v":""},{"$f":"IF(Deviation_CEM_CPMS!B134=\"\",\"\",Deviation_CEM_CPMS!B134)","v":""},{"$f":"IF(Deviation_CEM_CPMS!C134=\"\",\"\",Deviation_CEM_CPMS!C134)","v":""},{"$f":"IF(Deviation_CEM_CPMS!D134=\"\",\"\",Deviation_CEM_CPMS!D134)","v":""},"",{"$f":"IF(COUNTIF(BA$2:BA112,BA112)=1,BA112,\"\")","v":""},"","",""]
[{"$f":"IF(B113=\"\",\"\",MAX(A$1:A112)+1)","v":""},{"$f":"+IF(CPMS_Identification!C135=\"\",\"\",CPMS_Identification!C135)","v":""},"",null,{"$f":"IF(F113=\"\",\"\",MAX(E$1:E112)+1)","v":""},{"$f":"IF(Landfill_Gas_ID!C135=\"\",\"\",Landfill_Gas_ID!C135)","v":""},"",null,{"$f":"IF(J113=\"\",\"\",MAX(I$1:I112)+1)","v":""},{"$f":"IF(Distillate_Oil!C135=\"\",\"\",Distillate_Oil!C135)","v":""},"",null,null,null,null,null,null,null,null,null,null,null,null,null,null,null,{"$f":"+IF(AE113=\"\",\"\",MAX(AA$1:AA112)+1)","v":""},{"$f":"IF(Deviation_Limits!B135=\"\",\"\",Deviation_Limits!B135)","v":""},{"$f":"IF(Deviation_Limits!C135=\"\",\"\",Deviation_Limits!C135)","v":""},"",{"$f":"IF(COUNTIF(AC$2:AC113,AC113)=1,AC113,\"\")","v":""},"","",null,null,null,null,null,null,null,{"$f":"+IF(AT113=\"\",\"\",MAX(AO$1:AO112)+1)","v":""},{"$f":"IF(Deviation_Limits!B135=\"\",\"\",Deviation_Limits!B135)","v":""},{"$f":"IF(Deviation_Limits!C135=\"\",\"\",Deviation_Limits!C135)","v":""},{"$f":"IF(Deviation_Limits!D135=\"\",\"\",Deviation_Limits!D135)","v":""},"",{"$f":"IF(COUNTIF(AQ$2:AQ113,AQ113)=1,AQ113,\"\")","v":""},"","","",null,{"$f":"+IF(BD113=\"\",\"\",MAX(AY$1:AY112)+1)","v":""},{"$f":"IF(Deviation_CEM_CPMS!B135=\"\",\"\",Deviation_CEM_CPMS!B135)","v":""},{"$f":"IF(Deviation_CEM_CPMS!C135=\"\",\"\",Deviation_CEM_CPMS!C135)","v":""},{"$f":"IF(Deviation_CEM_CPMS!D135=\"\",\"\",Deviation_CEM_CPMS!D135)","v":""},"",{"$f":"IF(COUNTIF(BA$2:BA113,BA113)=1,BA113,\"\")","v":""},"","",""]
[{"$f":"IF(B114=\"\",\"\",MAX(A$1:A113)+1)","v":""},{"$f":"+IF(CPMS_Identification!C136=\"\",\"\",CPMS_Identification!C136)","v":""},"",null,{"$f":"IF(F114=\"\",\"\",MAX(E$1:E113)+1)","v":""},{"$f":"IF(Landfill_Gas_ID!C136=\"\",\"\",Landfill_Gas_ID!C136)","v":""},"",null,{"$f":"IF(J114=\"\",\"\",MAX(I$1:I113)+1)","v":""},{"$f":"IF(Distillate_Oil!C136=\"\",\"\",Distillate_Oil!C136)","v":""},"",null,null,null,null,null,null,null,null,null,null,null,null,null,null,null,{"$f":"+IF(AE114=\"\",\"\",MAX(AA$1:AA113)+1)","v":""},{"$f":"IF(Deviation_Limits!B136=\"\",\"\",Deviation_Limits!B136)","v":""},{"$f":"IF(Deviation_Limits!C136=\"\",\"\",Deviation_Limits!C136)","v":""},"",{"$f":"IF(COUNTIF(AC$2:AC114,AC114)=1,AC114,\"\")","v":""},"","",null,null,null,null,null,null,null,{"$f":"+IF(AT114=\"\",\"\",MAX(AO$1:AO113)+1)","v":""},{"$f":"IF(Deviation_Limits!B136=\"\",\"\",Deviation_Limits!B136)","v":""},{"$f":"IF(Deviation_Limits!C136=\"\",\"\",Deviation_Limits!C136)","v":""},{"$f":"IF(Deviation_Limits!D136=\"\",\"\",Deviation_Limits!D136)","v":""},"",{"$f":"IF(COUNTIF(AQ$2:AQ114,AQ114)=1,AQ114,\"\")","v":""},"","","",null,{"$f":"+IF(BD114=\"\",\"\",MAX(AY$1:AY113)+1)","v":""},{"$f":"IF(Deviation_CEM_CPMS!B136=\"\",\"\",Deviation_CEM_CPMS!B136)","v":""},{"$f":"IF(Deviation_CEM_CPMS!C136=\"\",\"\",Deviation_CEM_CPMS!C136)","v":""},{"$f":"IF(Deviation_CEM_CPMS!D136=\"\",\"\",Deviation_CEM_CPMS!D136)","v":""},"",{"$f":"IF(COUNTIF(BA$2:BA114,BA114)=1,BA114,\"\")","v":""},"","",""]
[{"$f":"IF(B115=\"\",\"\",MAX(A$1:A114)+1)","v":""},{"$f":"+IF(CPMS_Identification!C137=\"\",\"\",CPMS_Identification!C137)","v":""},"",null,{"$f":"IF(F115=\"\",\"\",MAX(E$1:E114)+1)","v":""},{"$f":"IF(Landfill_Gas_ID!C137=\"\",\"\",Landfill_Gas_ID!C137)","v":""},"",null,{"$f":"IF(J115=\"\",\"\",MAX(I$1:I114)+1)","v":""},{"$f":"IF(Distillate_Oil!C137=\"\",\"\",Distillate_Oil!C137)","v":""},"",null,null,null,null,null,null,null,null,null,null,null,null,null,null,null,{"$f":"+IF(AE115=\"\",\"\",MAX(AA$1:AA114)+1)","v":""},{"$f":"IF(Deviation_Limits!B137=\"\",\"\",Deviation_Limits!B137)","v":""},{"$f":"IF(Deviation_Limits!C137=\"\",\"\",Deviation_Limits!C137)","v":""},"",{"$f":"IF(COUNTIF(AC$2:AC115,AC115)=1,AC115,\"\")","v":""},"","",null,null,null,null,null,null,null,{"$f":"+IF(AT115=\"\",\"\",MAX(AO$1:AO114)+1)","v":""},{"$f":"IF(Deviation_Limits!B137=\"\",\"\",Deviation_Limits!B137)","v":""},{"$f":"IF(Deviation_Limits!C137=\"\",\"\",Deviation_Limits!C137)","v":""},{"$f":"IF(Deviation_Limits!D137=\"\",\"\",Deviation_Limits!D137)","v":""},"",{"$f":"IF(COUNTIF(AQ$2:AQ115,AQ115)=1,AQ115,\"\")","v":""},"","","",null,{"$f":"+IF(BD115=\"\",\"\",MAX(AY$1:AY114)+1)","v":""},{"$f":"IF(Deviation_CEM_CPMS!B137=\"\",\"\",Deviation_CEM_CPMS!B137)","v":""},{"$f":"IF(Deviation_CEM_CPMS!C137=\"\",\"\",Deviation_CEM_CPMS!C137)","v":""},{"$f":"IF(Deviation_CEM_CPMS!D137=\"\",\"\",Deviation_CEM_CPMS!D137)","v":""},"",{"$f":"IF(COUNTIF(BA$2:BA115,BA115)=1,BA115,\"\")","v":""},"","",""]
[{"$f":"IF(B116=\"\",\"\",MAX(A$1:A115)+1)","v":""},{"$f":"+IF(CPMS_Identification!C138=\"\",\"\",CPMS_Identification!C138)","v":""},"",null,{"$f":"IF(F116=\"\",\"\",MAX(E$1:E115)+1)","v":""},{"$f":"IF(Landfill_Gas_ID!C138=\"\",\"\",Landfill_Gas_ID!C138)","v":""},"",null,{"$f":"IF(J116=\"\",\"\",MAX(I$1:I115)+1)","v":""},{"$f":"IF(Distillate_Oil!C138=\"\",\"\",Distillate_Oil!C138)","v":""},"",null,null,null,null,null,null,null,null,null,null,null,null,null,null,null,{"$f":"+IF(AE116=\"\",\"\",MAX(AA$1:AA115)+1)","v":""},{"$f":"IF(Deviation_Limits!B138=\"\",\"\",Deviation_Limits!B138)","v":""},{"$f":"IF(Deviation_Limits!C138=\"\",\"\",Deviation_Limits!C138)","v":""},"",{"$f":"IF(COUNTIF(AC$2:AC116,AC116)=1,AC116,\"\")","v":""},"","",null,null,null,null,null,null,null,{"$f":"+IF(AT116=\"\",\"\",MAX(AO$1:AO115)+1)","v":""},{"$f":"IF(Deviation_Limits!B138=\"\",\"\",Deviation_Limits!B138)","v":""},{"$f":"IF(Deviation_Limits!C138=\"\",\"\",Deviation_Limits!C138)","v":""},{"$f":"IF(Deviation_Limits!D138=\"\",\"\",Deviation_Limits!D138)","v":""},"",{"$f":"IF(COUNTIF(AQ$2:AQ116,AQ116)=1,AQ116,\"\")","v":""},"","","",null,{"$f":"+IF(BD116=\"\",\"\",MAX(AY$1:AY115)+1)","v":""},{"$f":"IF(Deviation_CEM_CPMS!B138=\"\",\"\",Deviation_CEM_CPMS!B138)","v":""},{"$f":"IF(Deviation_CEM_CPMS!C138=\"\",\"\",Deviation_CEM_CPMS!C138)","v":""},{"$f":"IF(Deviation_CEM_CPMS!D138=\"\",\"\",Deviation_CEM_CPMS!D138)","v":""},"",{"$f":"IF(COUNTIF(BA$2:BA116,BA116)=1,BA116,\"\")","v":""},"","",""]
[{"$f":"IF(B117=\"\",\"\",MAX(A$1:A116)+1)","v":""},{"$f":"+IF(CPMS_Identification!C139=\"\",\"\",CPMS_Identification!C139)","v":""},"",null,{"$f":"IF(F117=\"\",\"\",MAX(E$1:E116)+1)","v":""},{"$f":"IF(Landfill_Gas_ID!C139=\"\",\"\",Landfill_Gas_ID!C139)","v":""},"",null,{"$f":"IF(J117=\"\",\"\",MAX(I$1:I116)+1)","v":""},{"$f":"IF(Distillate_Oil!C139=\"\",\"\",Distillate_Oil!C139)","v":""},"",null,null,null,null,null,null,null,null,null,null,null,null,null,null,null,{"$f":"+IF(AE117=\"\",\"\",MAX(AA$1:AA116)+1)","v":""},{"$f":"IF(Deviation_Limits!B139=\"\",\"\",Deviation_Limits!B139)","v":""},{"$f":"IF(Deviation_Limits!C139=\"\",\"\",Deviation_Limits!C139)","v":""},"",{"$f":"IF(COUNTIF(AC$2:AC117,AC117)=1,AC117,\"\")","v":""},"","",null,null,null,null,null,null,null,{"$f":"+IF(AT117=\"\",\"\",MAX(AO$1:AO116)+1)","v":""},{"$f":"IF(Deviation_Limits!B139=\"\",\"\",Deviation_Limits!B139)","v":""},{"$f":"IF(Deviation_Limits!C139=\"\",\"\",Deviation_Limits!C139)","v":""},{"$f":"IF(Deviation_Limits!D139=\"\",\"\",Deviation_Limits!D139)","v":""},"",{"$f":"IF(COUNTIF(AQ$2:AQ117,AQ117)=1,AQ117,\"\")","v":""},"","","",null,{"$f":"+IF(BD117=\"\",\"\",MAX(AY$1:AY116)+1)","v":""},{"$f":"IF(Deviation_CEM_CPMS!B139=\"\",\"\",Deviation_CEM_CPMS!B139)","v":""},{"$f":"IF(Deviation_CEM_CPMS!C139=\"\",\"\",Deviation_CEM_CPMS!C139)","v":""},{"$f":"IF(Deviation_CEM_CPMS!D139=\"\",\"\",Deviation_CEM_CPMS!D139)","v":""},"",{"$f":"IF(COUNTIF(BA$2:BA117,BA117)=1,BA117,\"\")","v":""},"","",""]
[{"$f":"IF(B118=\"\",\"\",MAX(A$1:A117)+1)","v":""},{"$f":"+IF(CPMS_Identification!C140=\"\",\"\",CPMS_Identification!C140)","v":""},"",null,{"$f":"IF(F118=\"\",\"\",MAX(E$1:E117)+1)","v":""},{"$f":"IF(Landfill_Gas_ID!C140=\"\",\"\",Landfill_Gas_ID!C140)","v":""},"",null,{"$f":"IF(J118=\"\",\"\",MAX(I$1:I117)+1)","v":""},{"$f":"IF(Distillate_Oil!C140=\"\",\"\",Distillate_Oil!C140)","v":""},"",null,null,null,null,null,null,null,null,null,null,null,null,null,null,null,{"$f":"+IF(AE118=\"\",\"\",MAX(AA$1:AA117)+1)","v":""},{"$f":"IF(Deviation_Limits!B140=\"\",\"\",Deviation_Limits!B140)","v":""},{"$f":"IF(Deviation_Limits!C140=\"\",\"\",Deviation_Limits!C140)","v":""},"",{"$f":"IF(COUNTIF(AC$2:AC118,AC118)=1,AC118,\"\")","v":""},"","",null,null,null,null,null,null,null,{"$f":"+IF(AT118=\"\",\"\",MAX(AO$1:AO117)+1)","v":""},{"$f":"IF(Deviation_Limits!B140=\"\",\"\",Deviation_Limits!B140)","v":""},{"$f":"IF(Deviation_Limits!C140=\"\",\"\",Deviation_Limits!C140)","v":""},{"$f":"IF(Deviation_Limits!D140=\"\",\"\",Deviation_Limits!D140)","v":""},"",{"$f":"IF(COUNTIF(AQ$2:AQ118,AQ118)=1,AQ118,\"\")","v":""},"","","",null,{"$f":"+IF(BD118=\"\",\"\",MAX(AY$1:AY117)+1)","v":""},{"$f":"IF(Deviation_CEM_CPMS!B140=\"\",\"\",Deviation_CEM_CPMS!B140)","v":""},{"$f":"IF(Deviation_CEM_CPMS!C140=\"\",\"\",Deviation_CEM_CPMS!C140)","v":""},{"$f":"IF(Deviation_CEM_CPMS!D140=\"\",\"\",Deviation_CEM_CPMS!D140)","v":""},"",{"$f":"IF(COUNTIF(BA$2:BA118,BA118)=1,BA118,\"\")","v":""},"","",""]
[{"$f":"IF(B119=\"\",\"\",MAX(A$1:A118)+1)","v":""},{"$f":"+IF(CPMS_Identification!C141=\"\",\"\",CPMS_Identification!C141)","v":""},"",null,{"$f":"IF(F119=\"\",\"\",MAX(E$1:E118)+1)","v":""},{"$f":"IF(Landfill_Gas_ID!C141=\"\",\"\",Landfill_Gas_ID!C141)","v":""},"",null,{"$f":"IF(J119=\"\",\"\",MAX(I$1:I118)+1)","v":""},{"$f":"IF(Distillate_Oil!C141=\"\",\"\",Distillate_Oil!C141)","v":""},"",null,null,null,null,null,null,null,null,null,null,null,null,null,null,null,{"$f":"+IF(AE119=\"\",\"\",MAX(AA$1:AA118)+1)","v":""},{"$f":"IF(Deviation_Limits!B141=\"\",\"\",Deviation_Limits!B141)","v":""},{"$f":"IF(Deviation_Limits!C141=\"\",\"\",Deviation_Limits!C141)","v":""},"",{"$f":"IF(COUNTIF(AC$2:AC119,AC119)=1,AC119,\"\")","v":""},"","",null,null,null,null,null,null,null,{"$f":"+IF(AT119=\"\",\"\",MAX(AO$1:AO118)+1)","v":""},{"$f":"IF(Deviation_Limits!B141=\"\",\"\",Deviation_Limits!B141)","v":""},{"$f":"IF(Deviation_Limits!C141=\"\",\"\",Deviation_Limits!C141)","v":""},{"$f":"IF(Deviation_Limits!D141=\"\",\"\",Deviation_Limits!D141)","v":""},"",{"$f":"IF(COUNTIF(AQ$2:AQ119,AQ119)=1,AQ119,\"\")","v":""},"","","",null,{"$f":"+IF(BD119=\"\",\"\",MAX(AY$1:AY118)+1)","v":""},{"$f":"IF(Deviation_CEM_CPMS!B141=\"\",\"\",Deviation_CEM_CPMS!B141)","v":""},{"$f":"IF(Deviation_CEM_CPMS!C141=\"\",\"\",Deviation_CEM_CPMS!C141)","v":""},{"$f":"IF(Deviation_CEM_CPMS!D141=\"\",\"\",Deviation_CEM_CPMS!D141)","v":""},"",{"$f":"IF(COUNTIF(BA$2:BA119,BA119)=1,BA119,\"\")","v":""},"","",""]
[{"$f":"IF(B120=\"\",\"\",MAX(A$1:A119)+1)","v":""},{"$f":"+IF(CPMS_Identification!C142=\"\",\"\",CPMS_Identification!C142)","v":""},"",null,{"$f":"IF(F120=\"\",\"\",MAX(E$1:E119)+1)","v":""},{"$f":"IF(Landfill_Gas_ID!C142=\"\",\"\",Landfill_Gas_ID!C142)","v":""},"",null,{"$f":"IF(J120=\"\",\"\",MAX(I$1:I119)+1)","v":""},{"$f":"IF(Distillate_Oil!C142=\"\",\"\",Distillate_Oil!C142)","v":""},"",null,null,null,null,null,null,null,null,null,null,null,null,null,null,null,{"$f":"+IF(AE120=\"\",\"\",MAX(AA$1:AA119)+1)","v":""},{"$f":"IF(Deviation_Limits!B142=\"\",\"\",Deviation_Limits!B142)","v":""},{"$f":"IF(Deviation_Limits!C142=\"\",\"\",Deviation_Limits!C142)","v":""},"",{"$f":"IF(COUNTIF(AC$2:AC120,AC120)=1,AC120,\"\")","v":""},"","",null,null,null,null,null,null,null,{"$f":"+IF(AT120=\"\",\"\",MAX(AO$1:AO119)+1)","v":""},{"$f":"IF(Deviation_Limits!B142=\"\",\"\",Deviation_Limits!B142)","v":""},{"$f":"IF(Deviation_Limits!C142=\"\",\"\",Deviation_Limits!C142)","v":""},{"$f":"IF(Deviation_Limits!D142=\"\",\"\",Deviation_Limits!D142)","v":""},"",{"$f":"IF(COUNTIF(AQ$2:AQ120,AQ120)=1,AQ120,\"\")","v":""},"","","",null,{"$f":"+IF(BD120=\"\",\"\",MAX(AY$1:AY119)+1)","v":""},{"$f":"IF(Deviation_CEM_CPMS!B142=\"\",\"\",Deviation_CEM_CPMS!B142)","v":""},{"$f":"IF(Deviation_CEM_CPMS!C142=\"\",\"\",Deviation_CEM_CPMS!C142)","v":""},{"$f":"IF(Deviation_CEM_CPMS!D142=\"\",\"\",Deviation_CEM_CPMS!D142)","v":""},"",{"$f":"IF(COUNTIF(BA$2:BA120,BA120)=1,BA120,\"\")","v":""},"","",""]
[{"$f":"IF(B121=\"\",\"\",MAX(A$1:A120)+1)","v":""},{"$f":"+IF(CPMS_Identification!C143=\"\",\"\",CPMS_Identification!C143)","v":""},"",null,{"$f":"IF(F121=\"\",\"\",MAX(E$1:E120)+1)","v":""},{"$f":"IF(Landfill_Gas_ID!C143=\"\",\"\",Landfill_Gas_ID!C143)","v":""},"",null,{"$f":"IF(J121=\"\",\"\",MAX(I$1:I120)+1)","v":""},{"$f":"IF(Distillate_Oil!C143=\"\",\"\",Distillate_Oil!C143)","v":""},"",null,null,null,null,null,null,null,null,null,null,null,null,null,null,null,{"$f":"+IF(AE121=\"\",\"\",MAX(AA$1:AA120)+1)","v":""},{"$f":"IF(Deviation_Limits!B143=\"\",\"\",Deviation_Limits!B143)","v":""},{"$f":"IF(Deviation_Limits!C143=\"\",\"\",Deviation_Limits!C143)","v":""},"",{"$f":"IF(COUNTIF(AC$2:AC121,AC121)=1,AC121,\"\")","v":""},"","",null,null,null,null,null,null,null,{"$f":"+IF(AT121=\"\",\"\",MAX(AO$1:AO120)+1)","v":""},{"$f":"IF(Deviation_Limits!B143=\"\",\"\",Deviation_Limits!B143)","v":""},{"$f":"IF(Deviation_Limits!C143=\"\",\"\",Deviation_Limits!C143)","v":""},{"$f":"IF(Deviation_Limits!D143=\"\",\"\",Deviation_Limits!D143)","v":""},"",{"$f":"IF(COUNTIF(AQ$2:AQ121,AQ121)=1,AQ121,\"\")","v":""},"","","",null,{"$f":"+IF(BD121=\"\",\"\",MAX(AY$1:AY120)+1)","v":""},{"$f":"IF(Deviation_CEM_CPMS!B143=\"\",\"\",Deviation_CEM_CPMS!B143)","v":""},{"$f":"IF(Deviation_CEM_CPMS!C143=\"\",\"\",Deviation_CEM_CPMS!C143)","v":""},{"$f":"IF(Deviation_CEM_CPMS!D143=\"\",\"\",Deviation_CEM_CPMS!D143)","v":""},"",{"$f":"IF(COUNTIF(BA$2:BA121,BA121)=1,BA121,\"\")","v":""},"","",""]
[{"$f":"IF(B122=\"\",\"\",MAX(A$1:A121)+1)","v":""},{"$f":"+IF(CPMS_Identification!C144=\"\",\"\",CPMS_Identification!C144)","v":""},"",null,{"$f":"IF(F122=\"\",\"\",MAX(E$1:E121)+1)","v":""},{"$f":"IF(Landfill_Gas_ID!C144=\"\",\"\",Landfill_Gas_ID!C144)","v":""},"",null,{"$f":"IF(J122=\"\",\"\",MAX(I$1:I121)+1)","v":""},{"$f":"IF(Distillate_Oil!C144=\"\",\"\",Distillate_Oil!C144)","v":""},"",null,null,null,null,null,null,null,null,null,null,null,null,null,null,null,{"$f":"+IF(AE122=\"\",\"\",MAX(AA$1:AA121)+1)","v":""},{"$f":"IF(Deviation_Limits!B144=\"\",\"\",Deviation_Limits!B144)","v":""},{"$f":"IF(Deviation_Limits!C144=\"\",\"\",Deviation_Limits!C144)","v":""},"",{"$f":"IF(COUNTIF(AC$2:AC122,AC122)=1,AC122,\"\")","v":""},"","",null,null,null,null,null,null,null,{"$f":"+IF(AT122=\"\",\"\",MAX(AO$1:AO121)+1)","v":""},{"$f":"IF(Deviation_Limits!B144=\"\",\"\",Deviation_Limits!B144)","v":""},{"$f":"IF(Deviation_Limits!C144=\"\",\"\",Deviation_Limits!C144)","v":""},{"$f":"IF(Deviation_Limits!D144=\"\",\"\",Deviation_Limits!D144)","v":""},"",{"$f":"IF(COUNTIF(AQ$2:AQ122,AQ122)=1,AQ122,\"\")","v":""},"","","",null,{"$f":"+IF(BD122=\"\",\"\",MAX(AY$1:AY121)+1)","v":""},{"$f":"IF(Deviation_CEM_CPMS!B144=\"\",\"\",Deviation_CEM_CPMS!B144)","v":""},{"$f":"IF(Deviation_CEM_CPMS!C144=\"\",\"\",Deviation_CEM_CPMS!C144)","v":""},{"$f":"IF(Deviation_CEM_CPMS!D144=\"\",\"\",Deviation_CEM_CPMS!D144)","v":""},"",{"$f":"IF(COUNTIF(BA$2:BA122,BA122)=1,BA122,\"\")","v":""},"","",""]
[{"$f":"IF(B123=\"\",\"\",MAX(A$1:A122)+1)","v":""},{"$f":"+IF(CPMS_Identification!C145=\"\",\"\",CPMS_Identification!C145)","v":""},"",null,{"$f":"IF(F123=\"\",\"\",MAX(E$1:E122)+1)","v":""},{"$f":"IF(Landfill_Gas_ID!C145=\"\",\"\",Landfill_Gas_ID!C145)","v":""},"",null,{"$f":"IF(J123=\"\",\"\",MAX(I$1:I122)+1)","v":""},{"$f":"IF(Distillate_Oil!C145=\"\",\"\",Distillate_Oil!C145)","v":""},"",null,null,null,null,null,null,null,null,null,null,null,null,null,null,null,{"$f":"+IF(AE123=\"\",\"\",MAX(AA$1:AA122)+1)","v":""},{"$f":"IF(Deviation_Limits!B145=\"\",\"\",Deviation_Limits!B145)","v":""},{"$f":"IF(Deviation_Limits!C145=\"\",\"\",Deviation_Limits!C145)","v":""},"",{"$f":"IF(COUNTIF(AC$2:AC123,AC123)=1,AC123,\"\")","v":""},"","",null,null,null,null,null,null,null,{"$f":"+IF(AT123=\"\",\"\",MAX(AO$1:AO122)+1)","v":""},{"$f":"IF(Deviation_Limits!B145=\"\",\"\",Deviation_Limits!B145)","v":""},{"$f":"IF(Deviation_Limits!C145=\"\",\"\",Deviation_Limits!C145)","v":""},{"$f":"IF(Deviation_Limits!D145=\"\",\"\",Deviation_Limits!D145)","v":""},"",{"$f":"IF(COUNTIF(AQ$2:AQ123,AQ123)=1,AQ123,\"\")","v":""},"","","",null,{"$f":"+IF(BD123=\"\",\"\",MAX(AY$1:AY122)+1)","v":""},{"$f":"IF(Deviation_CEM_CPMS!B145=\"\",\"\",Deviation_CEM_CPMS!B145)","v":""},{"$f":"IF(Deviation_CEM_CPMS!C145=\"\",\"\",Deviation_CEM_CPMS!C145)","v":""},{"$f":"IF(Deviation_CEM_CPMS!D145=\"\",\"\",Deviation_CEM_CPMS!D145)","v":""},"",{"$f":"IF(COUNTIF(BA$2:BA123,BA123)=1,BA123,\"\")","v":""},"","",""]
[{"$f":"IF(B124=\"\",\"\",MAX(A$1:A123)+1)","v":""},{"$f":"+IF(CPMS_Identification!C146=\"\",\"\",CPMS_Identification!C146)","v":""},"",null,{"$f":"IF(F124=\"\",\"\",MAX(E$1:E123)+1)","v":""},{"$f":"IF(Landfill_Gas_ID!C146=\"\",\"\",Landfill_Gas_ID!C146)","v":""},"",null,{"$f":"IF(J124=\"\",\"\",MAX(I$1:I123)+1)","v":""},{"$f":"IF(Distillate_Oil!C146=\"\",\"\",Distillate_Oil!C146)","v":""},"",null,null,null,null,null,null,null,null,null,null,null,null,null,null,null,{"$f":"+IF(AE124=\"\",\"\",MAX(AA$1:AA123)+1)","v":""},{"$f":"IF(Deviation_Limits!B146=\"\",\"\",Deviation_Limits!B146)","v":""},{"$f":"IF(Deviation_Limits!C146=\"\",\"\",Deviation_Limits!C146)","v":""},"",{"$f":"IF(COUNTIF(AC$2:AC124,AC124)=1,AC124,\"\")","v":""},"","",null,null,null,null,null,null,null,{"$f":"+IF(AT124=\"\",\"\",MAX(AO$1:AO123)+1)","v":""},{"$f":"IF(Deviation_Limits!B146=\"\",\"\",Deviation_Limits!B146)","v":""},{"$f":"IF(Deviation_Limits!C146=\"\",\"\",Deviation_Limits!C146)","v":""},{"$f":"IF(Deviation_Limits!D146=\"\",\"\",Deviation_Limits!D146)","v":""},"",{"$f":"IF(COUNTIF(AQ$2:AQ124,AQ124)=1,AQ124,\"\")","v":""},"","","",null,{"$f":"+IF(BD124=\"\",\"\",MAX(AY$1:AY123)+1)","v":""},{"$f":"IF(Deviation_CEM_CPMS!B146=\"\",\"\",Deviation_CEM_CPMS!B146)","v":""},{"$f":"IF(Deviation_CEM_CPMS!C146=\"\",\"\",Deviation_CEM_CPMS!C146)","v":""},{"$f":"IF(Deviation_CEM_CPMS!D146=\"\",\"\",Deviation_CEM_CPMS!D146)","v":""},"",{"$f":"IF(COUNTIF(BA$2:BA124,BA124)=1,BA124,\"\")","v":""},"","",""]
[{"$f":"IF(B125=\"\",\"\",MAX(A$1:A124)+1)","v":""},{"$f":"+IF(CPMS_Identification!C147=\"\",\"\",CPMS_Identification!C147)","v":""},"",null,{"$f":"IF(F125=\"\",\"\",MAX(E$1:E124)+1)","v":""},{"$f":"IF(Landfill_Gas_ID!C147=\"\",\"\",Landfill_Gas_ID!C147)","v":""},"",null,{"$f":"IF(J125=\"\",\"\",MAX(I$1:I124)+1)","v":""},{"$f":"IF(Distillate_Oil!C147=\"\",\"\",Distillate_Oil!C147)","v":""},"",null,null,null,null,null,null,null,null,null,null,null,null,null,null,null,{"$f":"+IF(AE125=\"\",\"\",MAX(AA$1:AA124)+1)","v":""},{"$f":"IF(Deviation_Limits!B147=\"\",\"\",Deviation_Limits!B147)","v":""},{"$f":"IF(Deviation_Limits!C147=\"\",\"\",Deviation_Limits!C147)","v":""},"",{"$f":"IF(COUNTIF(AC$2:AC125,AC125)=1,AC125,\"\")","v":""},"","",null,null,null,null,null,null,null,{"$f":"+IF(AT125=\"\",\"\",MAX(AO$1:AO124)+1)","v":""},{"$f":"IF(Deviation_Limits!B147=\"\",\"\",Deviation_Limits!B147)","v":""},{"$f":"IF(Deviation_Limits!C147=\"\",\"\",Deviation_Limits!C147)","v":""},{"$f":"IF(Deviation_Limits!D147=\"\",\"\",Deviation_Limits!D147)","v":""},"",{"$f":"IF(COUNTIF(AQ$2:AQ125,AQ125)=1,AQ125,\"\")","v":""},"","","",null,{"$f":"+IF(BD125=\"\",\"\",MAX(AY$1:AY124)+1)","v":""},{"$f":"IF(Deviation_CEM_CPMS!B147=\"\",\"\",Deviation_CEM_CPMS!B147)","v":""},{"$f":"IF(Deviation_CEM_CPMS!C147=\"\",\"\",Deviation_CEM_CPMS!C147)","v":""},{"$f":"IF(Deviation_CEM_CPMS!D147=\"\",\"\",Deviation_CEM_CPMS!D147)","v":""},"",{"$f":"IF(COUNTIF(BA$2:BA125,BA125)=1,BA125,\"\")","v":""},"","",""]
[{"$f":"IF(B126=\"\",\"\",MAX(A$1:A125)+1)","v":""},{"$f":"+IF(CPMS_Identification!C148=\"\",\"\",CPMS_Identification!C148)","v":""},"",null,{"$f":"IF(F126=\"\",\"\",MAX(E$1:E125)+1)","v":""},{"$f":"IF(Landfill_Gas_ID!C148=\"\",\"\",Landfill_Gas_ID!C148)","v":""},"",null,{"$f":"IF(J126=\"\",\"\",MAX(I$1:I125)+1)","v":""},{"$f":"IF(Distillate_Oil!C148=\"\",\"\",Distillate_Oil!C148)","v":""},"",null,null,null,null,null,null,null,null,null,null,null,null,null,null,null,{"$f":"+IF(AE126=\"\",\"\",MAX(AA$1:AA125)+1)","v":""},{"$f":"IF(Deviation_Limits!B148=\"\",\"\",Deviation_Limits!B148)","v":""},{"$f":"IF(Deviation_Limits!C148=\"\",\"\",Deviation_Limits!C148)","v":""},"",{"$f":"IF(COUNTIF(AC$2:AC126,AC126)=1,AC126,\"\")","v":""},"","",null,null,null,null,null,null,null,{"$f":"+IF(AT126=\"\",\"\",MAX(AO$1:AO125)+1)","v":""},{"$f":"IF(Deviation_Limits!B148=\"\",\"\",Deviation_Limits!B148)","v":""},{"$f":"IF(Deviation_Limits!C148=\"\",\"\",Deviation_Limits!C148)","v":""},{"$f":"IF(Deviation_Limits!D148=\"\",\"\",Deviation_Limits!D148)","v":""},"",{"$f":"IF(COUNTIF(AQ$2:AQ126,AQ126)=1,AQ126,\"\")","v":""},"","","",null,{"$f":"+IF(BD126=\"\",\"\",MAX(AY$1:AY125)+1)","v":""},{"$f":"IF(Deviation_CEM_CPMS!B148=\"\",\"\",Deviation_CEM_CPMS!B148)","v":""},{"$f":"IF(Deviation_CEM_CPMS!C148=\"\",\"\",Deviation_CEM_CPMS!C148)","v":""},{"$f":"IF(Deviation_CEM_CPMS!D148=\"\",\"\",Deviation_CEM_CPMS!D148)","v":""},"",{"$f":"IF(COUNTIF(BA$2:BA126,BA126)=1,BA126,\"\")","v":""},"","",""]
[{"$f":"IF(B127=\"\",\"\",MAX(A$1:A126)+1)","v":""},{"$f":"+IF(CPMS_Identification!C149=\"\",\"\",CPMS_Identification!C149)","v":""},"",null,{"$f":"IF(F127=\"\",\"\",MAX(E$1:E126)+1)","v":""},{"$f":"IF(Landfill_Gas_ID!C149=\"\",\"\",Landfill_Gas_ID!C149)","v":""},"",null,{"$f":"IF(J127=\"\",\"\",MAX(I$1:I126)+1)","v":""},{"$f":"IF(Distillate_Oil!C149=\"\",\"\",Distillate_Oil!C149)","v":""},"",null,null,null,null,null,null,null,null,null,null,null,null,null,null,null,{"$f":"+IF(AE127=\"\",\"\",MAX(AA$1:AA126)+1)","v":""},{"$f":"IF(Deviation_Limits!B149=\"\",\"\",Deviation_Limits!B149)","v":""},{"$f":"IF(Deviation_Limits!C149=\"\",\"\",Deviation_Limits!C149)","v":""},"",{"$f":"IF(COUNTIF(AC$2:AC127,AC127)=1,AC127,\"\")","v":""},"","",null,null,null,null,null,null,null,{"$f":"+IF(AT127=\"\",\"\",MAX(AO$1:AO126)+1)","v":""},{"$f":"IF(Deviation_Limits!B149=\"\",\"\",Deviation_Limits!B149)","v":""},{"$f":"IF(Deviation_Limits!C149=\"\",\"\",Deviation_Limits!C149)","v":""},{"$f":"IF(Deviation_Limits!D149=\"\",\"\",Deviation_Limits!D149)","v":""},"",{"$f":"IF(COUNTIF(AQ$2:AQ127,AQ127)=1,AQ127,\"\")","v":""},"","","",null,{"$f":"+IF(BD127=\"\",\"\",MAX(AY$1:AY126)+1)","v":""},{"$f":"IF(Deviation_CEM_CPMS!B149=\"\",\"\",Deviation_CEM_CPMS!B149)","v":""},{"$f":"IF(Deviation_CEM_CPMS!C149=\"\",\"\",Deviation_CEM_CPMS!C149)","v":""},{"$f":"IF(Deviation_CEM_CPMS!D149=\"\",\"\",Deviation_CEM_CPMS!D149)","v":""},"",{"$f":"IF(COUNTIF(BA$2:BA127,BA127)=1,BA127,\"\")","v":""},"","",""]
[{"$f":"IF(B128=\"\",\"\",MAX(A$1:A127)+1)","v":""},{"$f":"+IF(CPMS_Identification!C150=\"\",\"\",CPMS_Identification!C150)","v":""},"",null,{"$f":"IF(F128=\"\",\"\",MAX(E$1:E127)+1)","v":""},{"$f":"IF(Landfill_Gas_ID!C150=\"\",\"\",Landfill_Gas_ID!C150)","v":""},"",null,{"$f":"IF(J128=\"\",\"\",MAX(I$1:I127)+1)","v":""},{"$f":"IF(Distillate_Oil!C150=\"\",\"\",Distillate_Oil!C150)","v":""},"",null,null,null,null,null,null,null,null,null,null,null,null,null,null,null,{"$f":"+IF(AE128=\"\",\"\",MAX(AA$1:AA127)+1)","v":""},{"$f":"IF(Deviation_Limits!B150=\"\",\"\",Deviation_Limits!B150)","v":""},{"$f":"IF(Deviation_Limits!C150=\"\",\"\",Deviation_Limits!C150)","v":""},"",{"$f":"IF(COUNTIF(AC$2:AC128,AC128)=1,AC128,\"\")","v":""},"","",null,null,null,null,null,null,null,{"$f":"+IF(AT128=\"\",\"\",MAX(AO$1:AO127)+1)","v":""},{"$f":"IF(Deviation_Limits!B150=\"\",\"\",Deviation_Limits!B150)","v":""},{"$f":"IF(Deviation_Limits!C150=\"\",\"\",Deviation_Limits!C150)","v":""},{"$f":"IF(Deviation_Limits!D150=\"\",\"\",Deviation_Limits!D150)","v":""},"",{"$f":"IF(COUNTIF(AQ$2:AQ128,AQ128)=1,AQ128,\"\")","v":""},"","","",null,{"$f":"+IF(BD128=\"\",\"\",MAX(AY$1:AY127)+1)","v":""},{"$f":"IF(Deviation_CEM_CPMS!B150=\"\",\"\",Deviation_CEM_CPMS!B150)","v":""},{"$f":"IF(Deviation_CEM_CPMS!C150=\"\",\"\",Deviation_CEM_CPMS!C150)","v":""},{"$f":"IF(Deviation_CEM_CPMS!D150=\"\",\"\",Deviation_CEM_CPMS!D150)","v":""},"",{"$f":"IF(COUNTIF(BA$2:BA128,BA128)=1,BA128,\"\")","v":""},"","",""]
[{"$f":"IF(B129=\"\",\"\",MAX(A$1:A128)+1)","v":""},{"$f":"+IF(CPMS_Identification!C151=\"\",\"\",CPMS_Identification!C151)","v":""},"",null,{"$f":"IF(F129=\"\",\"\",MAX(E$1:E128)+1)","v":""},{"$f":"IF(Landfill_Gas_ID!C151=\"\",\"\",Landfill_Gas_ID!C151)","v":""},"",null,{"$f":"IF(J129=\"\",\"\",MAX(I$1:I128)+1)","v":""},{"$f":"IF(Distillate_Oil!C151=\"\",\"\",Distillate_Oil!C151)","v":""},"",null,null,null,null,null,null,null,null,null,null,null,null,null,null,null,{"$f":"+IF(AE129=\"\",\"\",MAX(AA$1:AA128)+1)","v":""},{"$f":"IF(Deviation_Limits!B151=\"\",\"\",Deviation_Limits!B151)","v":""},{"$f":"IF(Deviation_Limits!C151=\"\",\"\",Deviation_Limits!C151)","v":""},"",{"$f":"IF(COUNTIF(AC$2:AC129,AC129)=1,AC129,\"\")","v":""},"","",null,null,null,null,null,null,null,{"$f":"+IF(AT129=\"\",\"\",MAX(AO$1:AO128)+1)","v":""},{"$f":"IF(Deviation_Limits!B151=\"\",\"\",Deviation_Limits!B151)","v":""},{"$f":"IF(Deviation_Limits!C151=\"\",\"\",Deviation_Limits!C151)","v":""},{"$f":"IF(Deviation_Limits!D151=\"\",\"\",Deviation_Limits!D151)","v":""},"",{"$f":"IF(COUNTIF(AQ$2:AQ129,AQ129)=1,AQ129,\"\")","v":""},"","","",null,{"$f":"+IF(BD129=\"\",\"\",MAX(AY$1:AY128)+1)","v":""},{"$f":"IF(Deviation_CEM_CPMS!B151=\"\",\"\",Deviation_CEM_CPMS!B151)","v":""},{"$f":"IF(Deviation_CEM_CPMS!C151=\"\",\"\",Deviation_CEM_CPMS!C151)","v":""},{"$f":"IF(Deviation_CEM_CPMS!D151=\"\",\"\",Deviation_CEM_CPMS!D151)","v":""},"",{"$f":"IF(COUNTIF(BA$2:BA129,BA129)=1,BA129,\"\")","v":""},"","",""]
[{"$f":"IF(B130=\"\",\"\",MAX(A$1:A129)+1)","v":""},{"$f":"+IF(CPMS_Identification!C152=\"\",\"\",CPMS_Identification!C152)","v":""},{"$f":"+IFERROR(INDEX($B$2:$B$500,MATCH(ROW()-ROW($C$1),$A$2:$A$500,0)),\"\")","v":""},null,{"$f":"IF(F130=\"\",\"\",MAX(E$1:E129)+1)","v":""},{"$f":"IF(Landfill_Gas_ID!C152=\"\",\"\",Landfill_Gas_ID!C152)","v":""},{"$f":"+IFERROR(INDEX($F$2:$F$500,MATCH(ROW()-ROW($G$1),$E$2:$E$500,0)),\"\")","v":""},null,{"$f":"IF(J130=\"\",\"\",MAX(I$1:I129)+1)","v":""},{"$f":"IF(Distillate_Oil!C152=\"\",\"\",Distillate_Oil!C152)","v":""},{"$f":"+IFERROR(INDEX($J$2:$J$500,MATCH(ROW()-ROW($K$1),$I$2:$I$500,0)),\"\")","v":""},null,null,null,null,null,null,null,null,null,null,null,null,null,null,null,{"$f":"+IF(AE130=\"\",\"\",MAX(AA$1:AA129)+1)","v":""},{"$f":"IF(Deviation_Limits!B152=\"\",\"\",Deviation_Limits!B152)","v":""},{"$f":"IF(Deviation_Limits!C152=\"\",\"\",Deviation_Limits!C152)","v":""},"",{"$f":"IF(COUNTIF(AC$2:AC130,AC130)=1,AC130,\"\")","v":""},"","",null,null,null,null,null,null,null,{"$f":"+IF(AT130=\"\",\"\",MAX(AO$1:AO129)+1)","v":""},{"$f":"IF(Deviation_Limits!B152=\"\",\"\",Deviation_Limits!B152)","v":""},{"$f":"IF(Deviation_Limits!C152=\"\",\"\",Deviation_Limits!C152)","v":""},{"$f":"IF(Deviation_Limits!D152=\"\",\"\",Deviation_Limits!D152)","v":""},"",{"$f":"IF(COUNTIF(AQ$2:AQ130,AQ130)=1,AQ130,\"\")","v":""},"","","",null,{"$f":"+IF(BD130=\"\",\"\",MAX(AY$1:AY129)+1)","v":""},{"$f":"IF(Deviation_CEM_CPMS!B152=\"\",\"\",Deviation_CEM_CPMS!B152)","v":""},{"$f":"IF(Deviation_CEM_CPMS!C152=\"\",\"\",Deviation_CEM_CPMS!C152)","v":""},{"$f":"IF(Deviation_CEM_CPMS!D152=\"\",\"\",Deviation_CEM_CPMS!D152)","v":""},{"$f":"+AZ130&BA130&BB130","v":""},{"$f":"IF(COUNTIF(BA$2:BA130,BA130)=1,BA130,\"\")","v":""},{"$f":"+IFERROR(INDEX(AZ$2:AZ$500,MATCH(ROW()-ROW(BE$1),$AA$2:$AA$500,0)),\"\")","v":""},{"$f":"+IFERROR(INDEX(BA$2:BA$500,MATCH(ROW()-ROW(BE$1),$AA$2:$AA$500,0)),\"\")","v":""},{"$f":"+IFERROR(INDEX(BB$2:BB$500,MATCH(ROW()-ROW(BE$1),$AA$2:$AA$500,0)),\"\")","v":""}]
[{"$f":"IF(B131=\"\",\"\",MAX(A$1:A130)+1)","v":""},{"$f":"+IF(CPMS_Identification!C153=\"\",\"\",CPMS_Identification!C153)","v":""},"",null,{"$f":"IF(F131=\"\",\"\",MAX(E$1:E130)+1)","v":""},{"$f":"IF(Landfill_Gas_ID!C153=\"\",\"\",Landfill_Gas_ID!C153)","v":""},"",null,{"$f":"IF(J131=\"\",\"\",MAX(I$1:I130)+1)","v":""},{"$f":"IF(Distillate_Oil!C153=\"\",\"\",Distillate_Oil!C153)","v":""},"",null,null,null,null,null,null,null,null,null,null,null,null,null,null,null,{"$f":"+IF(AE131=\"\",\"\",MAX(AA$1:AA130)+1)","v":""},{"$f":"IF(Deviation_Limits!B153=\"\",\"\",Deviation_Limits!B153)","v":""},{"$f":"IF(Deviation_Limits!C153=\"\",\"\",Deviation_Limits!C153)","v":""},{"$f":"+AB131&AC131","v":""},{"$f":"IF(COUNTIF(AC$2:AC131,AC131)=1,AC131,\"\")","v":""},{"$f":"+IFERROR(INDEX(AB$2:AB$500,MATCH(ROW()-ROW($AF$1),$AA$2:$AA$500,0)),\"\")","v":""},{"$f":"+IFERROR(INDEX(AC$2:AC$500,MATCH(ROW()-ROW($AF$1),$AA$2:$AA$500,0)),\"\")","v":""},null,null,null,null,null,null,null,{"$f":"+IF(AT131=\"\",\"\",MAX(AO$1:AO130)+1)","v":""},{"$f":"IF(Deviation_Limits!B153=\"\",\"\",Deviation_Limits!B153)","v":""},{"$f":"IF(Deviation_Limits!C153=\"\",\"\",Deviation_Limits!C153)","v":""},{"$f":"IF(Deviation_Limits!D153=\"\",\"\",Deviation_Limits!D153)","v":""},{"$f":"+AP131&AQ131&C131","v":""},{"$f":"IF(COUNTIF(AQ$2:AQ131,AQ131)=1,AQ131,\"\")","v":""},{"$f":"+IFERROR(INDEX(AP$2:AP$500,MATCH(ROW()-ROW(AU$1),$AA$2:$AA$500,0)),\"\")","v":""},{"$f":"+IFERROR(INDEX(AQ$2:AQ$500,MATCH(ROW()-ROW(AU$1),$AA$2:$AA$500,0)),\"\")","v":""},{"$f":"+IFERROR(INDEX(AR$2:AR$500,MATCH(ROW()-ROW(AU$1),$AA$2:$AA$500,0)),\"\")","v":""},null,{"$f":"+IF(BD131=\"\",\"\",MAX(AY$1:AY130)+1)","v":""},{"$f":"IF(Deviation_CEM_CPMS!B153=\"\",\"\",Deviation_CEM_CPMS!B153)","v":""},{"$f":"IF(Deviation_CEM_CPMS!C153=\"\",\"\",Deviation_CEM_CPMS!C153)","v":""},{"$f":"IF(Deviation_CEM_CPMS!D153=\"\",\"\",Deviation_CEM_CPMS!D153)","v":""},"",{"$f":"IF(COUNTIF(BA$2:BA131,BA131)=1,BA131,\"\")","v":""},"","",""]
[{"$f":"IF(B132=\"\",\"\",MAX(A$1:A131)+1)","v":""},{"$f":"+IF(CPMS_Identification!C154=\"\",\"\",CPMS_Identification!C154)","v":""},"",null,{"$f":"IF(F132=\"\",\"\",MAX(E$1:E131)+1)","v":""},{"$f":"IF(Landfill_Gas_ID!C154=\"\",\"\",Landfill_Gas_ID!C154)","v":""},"",null,{"$f":"IF(J132=\"\",\"\",MAX(I$1:I131)+1)","v":""},{"$f":"IF(Distillate_Oil!C154=\"\",\"\",Distillate_Oil!C154)","v":""},"",null,null,null,null,null,null,null,null,null,null,null,null,null,null,null,{"$f":"+IF(AE132=\"\",\"\",MAX(AA$1:AA131)+1)","v":""},{"$f":"IF(Deviation_Limits!B154=\"\",\"\",Deviation_Limits!B154)","v":""},{"$f":"IF(Deviation_Limits!C154=\"\",\"\",Deviation_Limits!C154)","v":""},"",{"$f":"IF(COUNTIF(AC$2:AC132,AC132)=1,AC132,\"\")","v":""},"","",null,null,null,null,null,null,null,{"$f":"+IF(AT132=\"\",\"\",MAX(AO$1:AO131)+1)","v":""},{"$f":"IF(Deviation_Limits!B154=\"\",\"\",Deviation_Limits!B154)","v":""},{"$f":"IF(Deviation_Limits!C154=\"\",\"\",Deviation_Limits!C154)","v":""},{"$f":"IF(Deviation_Limits!D154=\"\",\"\",Deviation_Limits!D154)","v":""},"",{"$f":"IF(COUNTIF(AQ$2:AQ132,AQ132)=1,AQ132,\"\")","v":""},"","","",null,{"$f":"+IF(BD132=\"\",\"\",MAX(AY$1:AY131)+1)","v":""},{"$f":"IF(Deviation_CEM_CPMS!B154=\"\",\"\",Deviation_CEM_CPMS!B154)","v":""},{"$f":"IF(Deviation_CEM_CPMS!C154=\"\",\"\",Deviation_CEM_CPMS!C154)","v":""},{"$f":"IF(Deviation_CEM_CPMS!D154=\"\",\"\",Deviation_CEM_CPMS!D154)","v":""},"",{"$f":"IF(COUNTIF(BA$2:BA132,BA132)=1,BA132,\"\")","v":""},"","",""]
[{"$f":"IF(B133=\"\",\"\",MAX(A$1:A132)+1)","v":""},{"$f":"+IF(CPMS_Identification!C155=\"\",\"\",CPMS_Identification!C155)","v":""},"",null,{"$f":"IF(F133=\"\",\"\",MAX(E$1:E132)+1)","v":""},{"$f":"IF(Landfill_Gas_ID!C155=\"\",\"\",Landfill_Gas_ID!C155)","v":""},"",null,{"$f":"IF(J133=\"\",\"\",MAX(I$1:I132)+1)","v":""},{"$f":"IF(Distillate_Oil!C155=\"\",\"\",Distillate_Oil!C155)","v":""},"",null,null,null,null,null,null,null,null,null,null,null,null,null,null,null,{"$f":"+IF(AE133=\"\",\"\",MAX(AA$1:AA132)+1)","v":""},{"$f":"IF(Deviation_Limits!B155=\"\",\"\",Deviation_Limits!B155)","v":""},{"$f":"IF(Deviation_Limits!C155=\"\",\"\",Deviation_Limits!C155)","v":""},"",{"$f":"IF(COUNTIF(AC$2:AC133,AC133)=1,AC133,\"\")","v":""},"","",null,null,null,null,null,null,null,{"$f":"+IF(AT133=\"\",\"\",MAX(AO$1:AO132)+1)","v":""},{"$f":"IF(Deviation_Limits!B155=\"\",\"\",Deviation_Limits!B155)","v":""},{"$f":"IF(Deviation_Limits!C155=\"\",\"\",Deviation_Limits!C155)","v":""},{"$f":"IF(Deviation_Limits!D155=\"\",\"\",Deviation_Limits!D155)","v":""},"",{"$f":"IF(COUNTIF(AQ$2:AQ133,AQ133)=1,AQ133,\"\")","v":""},"","","",null,{"$f":"+IF(BD133=\"\",\"\",MAX(AY$1:AY132)+1)","v":""},{"$f":"IF(Deviation_CEM_CPMS!B155=\"\",\"\",Deviation_CEM_CPMS!B155)","v":""},{"$f":"IF(Deviation_CEM_CPMS!C155=\"\",\"\",Deviation_CEM_CPMS!C155)","v":""},{"$f":"IF(Deviation_CEM_CPMS!D155=\"\",\"\",Deviation_CEM_CPMS!D155)","v":""},"",{"$f":"IF(COUNTIF(BA$2:BA133,BA133)=1,BA133,\"\")","v":""},"","",""]
[{"$f":"IF(B134=\"\",\"\",MAX(A$1:A133)+1)","v":""},{"$f":"+IF(CPMS_Identification!C156=\"\",\"\",CPMS_Identification!C156)","v":""},"",null,{"$f":"IF(F134=\"\",\"\",MAX(E$1:E133)+1)","v":""},{"$f":"IF(Landfill_Gas_ID!C156=\"\",\"\",Landfill_Gas_ID!C156)","v":""},"",null,{"$f":"IF(J134=\"\",\"\",MAX(I$1:I133)+1)","v":""},{"$f":"IF(Distillate_Oil!C156=\"\",\"\",Distillate_Oil!C156)","v":""},"",null,null,null,null,null,null,null,null,null,null,null,null,null,null,null,{"$f":"+IF(AE134=\"\",\"\",MAX(AA$1:AA133)+1)","v":""},{"$f":"IF(Deviation_Limits!B156=\"\",\"\",Deviation_Limits!B156)","v":""},{"$f":"IF(Deviation_Limits!C156=\"\",\"\",Deviation_Limits!C156)","v":""},"",{"$f":"IF(COUNTIF(AC$2:AC134,AC134)=1,AC134,\"\")","v":""},"","",null,null,null,null,null,null,null,{"$f":"+IF(AT134=\"\",\"\",MAX(AO$1:AO133)+1)","v":""},{"$f":"IF(Deviation_Limits!B156=\"\",\"\",Deviation_Limits!B156)","v":""},{"$f":"IF(Deviation_Limits!C156=\"\",\"\",Deviation_Limits!C156)","v":""},{"$f":"IF(Deviation_Limits!D156=\"\",\"\",Deviation_Limits!D156)","v":""},"",{"$f":"IF(COUNTIF(AQ$2:AQ134,AQ134)=1,AQ134,\"\")","v":""},"","","",null,{"$f":"+IF(BD134=\"\",\"\",MAX(AY$1:AY133)+1)","v":""},{"$f":"IF(Deviation_CEM_CPMS!B156=\"\",\"\",Deviation_CEM_CPMS!B156)","v":""},{"$f":"IF(Deviation_CEM_CPMS!C156=\"\",\"\",Deviation_CEM_CPMS!C156)","v":""},{"$f":"IF(Deviation_CEM_CPMS!D156=\"\",\"\",Deviation_CEM_CPMS!D156)","v":""},"",{"$f":"IF(COUNTIF(BA$2:BA134,BA134)=1,BA134,\"\")","v":""},"","",""]
[{"$f":"IF(B135=\"\",\"\",MAX(A$1:A134)+1)","v":""},{"$f":"+IF(CPMS_Identification!C157=\"\",\"\",CPMS_Identification!C157)","v":""},"",null,{"$f":"IF(F135=\"\",\"\",MAX(E$1:E134)+1)","v":""},{"$f":"IF(Landfill_Gas_ID!C157=\"\",\"\",Landfill_Gas_ID!C157)","v":""},"",null,{"$f":"IF(J135=\"\",\"\",MAX(I$1:I134)+1)","v":""},{"$f":"IF(Distillate_Oil!C157=\"\",\"\",Distillate_Oil!C157)","v":""},"",null,null,null,null,null,null,null,null,null,null,null,null,null,null,null,{"$f":"+IF(AE135=\"\",\"\",MAX(AA$1:AA134)+1)","v":""},{"$f":"IF(Deviation_Limits!B157=\"\",\"\",Deviation_Limits!B157)","v":""},{"$f":"IF(Deviation_Limits!C157=\"\",\"\",Deviation_Limits!C157)","v":""},"",{"$f":"IF(COUNTIF(AC$2:AC135,AC135)=1,AC135,\"\")","v":""},"","",null,null,null,null,null,null,null,{"$f":"+IF(AT135=\"\",\"\",MAX(AO$1:AO134)+1)","v":""},{"$f":"IF(Deviation_Limits!B157=\"\",\"\",Deviation_Limits!B157)","v":""},{"$f":"IF(Deviation_Limits!C157=\"\",\"\",Deviation_Limits!C157)","v":""},{"$f":"IF(Deviation_Limits!D157=\"\",\"\",Deviation_Limits!D157)","v":""},"",{"$f":"IF(COUNTIF(AQ$2:AQ135,AQ135)=1,AQ135,\"\")","v":""},"","","",null,{"$f":"+IF(BD135=\"\",\"\",MAX(AY$1:AY134)+1)","v":""},{"$f":"IF(Deviation_CEM_CPMS!B157=\"\",\"\",Deviation_CEM_CPMS!B157)","v":""},{"$f":"IF(Deviation_CEM_CPMS!C157=\"\",\"\",Deviation_CEM_CPMS!C157)","v":""},{"$f":"IF(Deviation_CEM_CPMS!D157=\"\",\"\",Deviation_CEM_CPMS!D157)","v":""},"",{"$f":"IF(COUNTIF(BA$2:BA135,BA135)=1,BA135,\"\")","v":""},"","",""]
[{"$f":"IF(B136=\"\",\"\",MAX(A$1:A135)+1)","v":""},{"$f":"+IF(CPMS_Identification!C158=\"\",\"\",CPMS_Identification!C158)","v":""},"",null,{"$f":"IF(F136=\"\",\"\",MAX(E$1:E135)+1)","v":""},{"$f":"IF(Landfill_Gas_ID!C158=\"\",\"\",Landfill_Gas_ID!C158)","v":""},"",null,{"$f":"IF(J136=\"\",\"\",MAX(I$1:I135)+1)","v":""},{"$f":"IF(Distillate_Oil!C158=\"\",\"\",Distillate_Oil!C158)","v":""},"",null,null,null,null,null,null,null,null,null,null,null,null,null,null,null,{"$f":"+IF(AE136=\"\",\"\",MAX(AA$1:AA135)+1)","v":""},{"$f":"IF(Deviation_Limits!B158=\"\",\"\",Deviation_Limits!B158)","v":""},{"$f":"IF(Deviation_Limits!C158=\"\",\"\",Deviation_Limits!C158)","v":""},"",{"$f":"IF(COUNTIF(AC$2:AC136,AC136)=1,AC136,\"\")","v":""},"","",null,null,null,null,null,null,null,{"$f":"+IF(AT136=\"\",\"\",MAX(AO$1:AO135)+1)","v":""},{"$f":"IF(Deviation_Limits!B158=\"\",\"\",Deviation_Limits!B158)","v":""},{"$f":"IF(Deviation_Limits!C158=\"\",\"\",Deviation_Limits!C158)","v":""},{"$f":"IF(Deviation_Limits!D158=\"\",\"\",Deviation_Limits!D158)","v":""},"",{"$f":"IF(COUNTIF(AQ$2:AQ136,AQ136)=1,AQ136,\"\")","v":""},"","","",null,{"$f":"+IF(BD136=\"\",\"\",MAX(AY$1:AY135)+1)","v":""},{"$f":"IF(Deviation_CEM_CPMS!B158=\"\",\"\",Deviation_CEM_CPMS!B158)","v":""},{"$f":"IF(Deviation_CEM_CPMS!C158=\"\",\"\",Deviation_CEM_CPMS!C158)","v":""},{"$f":"IF(Deviation_CEM_CPMS!D158=\"\",\"\",Deviation_CEM_CPMS!D158)","v":""},"",{"$f":"IF(COUNTIF(BA$2:BA136,BA136)=1,BA136,\"\")","v":""},"","",""]
[{"$f":"IF(B137=\"\",\"\",MAX(A$1:A136)+1)","v":""},{"$f":"+IF(CPMS_Identification!C159=\"\",\"\",CPMS_Identification!C159)","v":""},"",null,{"$f":"IF(F137=\"\",\"\",MAX(E$1:E136)+1)","v":""},{"$f":"IF(Landfill_Gas_ID!C159=\"\",\"\",Landfill_Gas_ID!C159)","v":""},"",null,{"$f":"IF(J137=\"\",\"\",MAX(I$1:I136)+1)","v":""},{"$f":"IF(Distillate_Oil!C159=\"\",\"\",Distillate_Oil!C159)","v":""},"",null,null,null,null,null,null,null,null,null,null,null,null,null,null,null,{"$f":"+IF(AE137=\"\",\"\",MAX(AA$1:AA136)+1)","v":""},{"$f":"IF(Deviation_Limits!B159=\"\",\"\",Deviation_Limits!B159)","v":""},{"$f":"IF(Deviation_Limits!C159=\"\",\"\",Deviation_Limits!C159)","v":""},"",{"$f":"IF(COUNTIF(AC$2:AC137,AC137)=1,AC137,\"\")","v":""},"","",null,null,null,null,null,null,null,{"$f":"+IF(AT137=\"\",\"\",MAX(AO$1:AO136)+1)","v":""},{"$f":"IF(Deviation_Limits!B159=\"\",\"\",Deviation_Limits!B159)","v":""},{"$f":"IF(Deviation_Limits!C159=\"\",\"\",Deviation_Limits!C159)","v":""},{"$f":"IF(Deviation_Limits!D159=\"\",\"\",Deviation_Limits!D159)","v":""},"",{"$f":"IF(COUNTIF(AQ$2:AQ137,AQ137)=1,AQ137,\"\")","v":""},"","","",null,{"$f":"+IF(BD137=\"\",\"\",MAX(AY$1:AY136)+1)","v":""},{"$f":"IF(Deviation_CEM_CPMS!B159=\"\",\"\",Deviation_CEM_CPMS!B159)","v":""},{"$f":"IF(Deviation_CEM_CPMS!C159=\"\",\"\",Deviation_CEM_CPMS!C159)","v":""},{"$f":"IF(Deviation_CEM_CPMS!D159=\"\",\"\",Deviation_CEM_CPMS!D159)","v":""},"",{"$f":"IF(COUNTIF(BA$2:BA137,BA137)=1,BA137,\"\")","v":""},"","",""]
[{"$f":"IF(B138=\"\",\"\",MAX(A$1:A137)+1)","v":""},{"$f":"+IF(CPMS_Identification!C160=\"\",\"\",CPMS_Identification!C160)","v":""},"",null,{"$f":"IF(F138=\"\",\"\",MAX(E$1:E137)+1)","v":""},{"$f":"IF(Landfill_Gas_ID!C160=\"\",\"\",Landfill_Gas_ID!C160)","v":""},"",null,{"$f":"IF(J138=\"\",\"\",MAX(I$1:I137)+1)","v":""},{"$f":"IF(Distillate_Oil!C160=\"\",\"\",Distillate_Oil!C160)","v":""},"",null,null,null,null,null,null,null,null,null,null,null,null,null,null,null,{"$f":"+IF(AE138=\"\",\"\",MAX(AA$1:AA137)+1)","v":""},{"$f":"IF(Deviation_Limits!B160=\"\",\"\",Deviation_Limits!B160)","v":""},{"$f":"IF(Deviation_Limits!C160=\"\",\"\",Deviation_Limits!C160)","v":""},"",{"$f":"IF(COUNTIF(AC$2:AC138,AC138)=1,AC138,\"\")","v":""},"","",null,null,null,null,null,null,null,{"$f":"+IF(AT138=\"\",\"\",MAX(AO$1:AO137)+1)","v":""},{"$f":"IF(Deviation_Limits!B160=\"\",\"\",Deviation_Limits!B160)","v":""},{"$f":"IF(Deviation_Limits!C160=\"\",\"\",Deviation_Limits!C160)","v":""},{"$f":"IF(Deviation_Limits!D160=\"\",\"\",Deviation_Limits!D160)","v":""},"",{"$f":"IF(COUNTIF(AQ$2:AQ138,AQ138)=1,AQ138,\"\")","v":""},"","","",null,{"$f":"+IF(BD138=\"\",\"\",MAX(AY$1:AY137)+1)","v":""},{"$f":"IF(Deviation_CEM_CPMS!B160=\"\",\"\",Deviation_CEM_CPMS!B160)","v":""},{"$f":"IF(Deviation_CEM_CPMS!C160=\"\",\"\",Deviation_CEM_CPMS!C160)","v":""},{"$f":"IF(Deviation_CEM_CPMS!D160=\"\",\"\",Deviation_CEM_CPMS!D160)","v":""},"",{"$f":"IF(COUNTIF(BA$2:BA138,BA138)=1,BA138,\"\")","v":""},"","",""]
[{"$f":"IF(B139=\"\",\"\",MAX(A$1:A138)+1)","v":""},{"$f":"+IF(CPMS_Identification!C161=\"\",\"\",CPMS_Identification!C161)","v":""},"",null,{"$f":"IF(F139=\"\",\"\",MAX(E$1:E138)+1)","v":""},{"$f":"IF(Landfill_Gas_ID!C161=\"\",\"\",Landfill_Gas_ID!C161)","v":""},"",null,{"$f":"IF(J139=\"\",\"\",MAX(I$1:I138)+1)","v":""},{"$f":"IF(Distillate_Oil!C161=\"\",\"\",Distillate_Oil!C161)","v":""},"",null,null,null,null,null,null,null,null,null,null,null,null,null,null,null,{"$f":"+IF(AE139=\"\",\"\",MAX(AA$1:AA138)+1)","v":""},{"$f":"IF(Deviation_Limits!B161=\"\",\"\",Deviation_Limits!B161)","v":""},{"$f":"IF(Deviation_Limits!C161=\"\",\"\",Deviation_Limits!C161)","v":""},"",{"$f":"IF(COUNTIF(AC$2:AC139,AC139)=1,AC139,\"\")","v":""},"","",null,null,null,null,null,null,null,{"$f":"+IF(AT139=\"\",\"\",MAX(AO$1:AO138)+1)","v":""},{"$f":"IF(Deviation_Limits!B161=\"\",\"\",Deviation_Limits!B161)","v":""},{"$f":"IF(Deviation_Limits!C161=\"\",\"\",Deviation_Limits!C161)","v":""},{"$f":"IF(Deviation_Limits!D161=\"\",\"\",Deviation_Limits!D161)","v":""},"",{"$f":"IF(COUNTIF(AQ$2:AQ139,AQ139)=1,AQ139,\"\")","v":""},"","","",null,{"$f":"+IF(BD139=\"\",\"\",MAX(AY$1:AY138)+1)","v":""},{"$f":"IF(Deviation_CEM_CPMS!B161=\"\",\"\",Deviation_CEM_CPMS!B161)","v":""},{"$f":"IF(Deviation_CEM_CPMS!C161=\"\",\"\",Deviation_CEM_CPMS!C161)","v":""},{"$f":"IF(Deviation_CEM_CPMS!D161=\"\",\"\",Deviation_CEM_CPMS!D161)","v":""},"",{"$f":"IF(COUNTIF(BA$2:BA139,BA139)=1,BA139,\"\")","v":""},"","",""]
[{"$f":"IF(B140=\"\",\"\",MAX(A$1:A139)+1)","v":""},{"$f":"+IF(CPMS_Identification!C162=\"\",\"\",CPMS_Identification!C162)","v":""},"",null,{"$f":"IF(F140=\"\",\"\",MAX(E$1:E139)+1)","v":""},{"$f":"IF(Landfill_Gas_ID!C162=\"\",\"\",Landfill_Gas_ID!C162)","v":""},"",null,{"$f":"IF(J140=\"\",\"\",MAX(I$1:I139)+1)","v":""},{"$f":"IF(Distillate_Oil!C162=\"\",\"\",Distillate_Oil!C162)","v":""},"",null,null,null,null,null,null,null,null,null,null,null,null,null,null,null,{"$f":"+IF(AE140=\"\",\"\",MAX(AA$1:AA139)+1)","v":""},{"$f":"IF(Deviation_Limits!B162=\"\",\"\",Deviation_Limits!B162)","v":""},{"$f":"IF(Deviation_Limits!C162=\"\",\"\",Deviation_Limits!C162)","v":""},"",{"$f":"IF(COUNTIF(AC$2:AC140,AC140)=1,AC140,\"\")","v":""},"","",null,null,null,null,null,null,null,{"$f":"+IF(AT140=\"\",\"\",MAX(AO$1:AO139)+1)","v":""},{"$f":"IF(Deviation_Limits!B162=\"\",\"\",Deviation_Limits!B162)","v":""},{"$f":"IF(Deviation_Limits!C162=\"\",\"\",Deviation_Limits!C162)","v":""},{"$f":"IF(Deviation_Limits!D162=\"\",\"\",Deviation_Limits!D162)","v":""},"",{"$f":"IF(COUNTIF(AQ$2:AQ140,AQ140)=1,AQ140,\"\")","v":""},"","","",null,{"$f":"+IF(BD140=\"\",\"\",MAX(AY$1:AY139)+1)","v":""},{"$f":"IF(Deviation_CEM_CPMS!B162=\"\",\"\",Deviation_CEM_CPMS!B162)","v":""},{"$f":"IF(Deviation_CEM_CPMS!C162=\"\",\"\",Deviation_CEM_CPMS!C162)","v":""},{"$f":"IF(Deviation_CEM_CPMS!D162=\"\",\"\",Deviation_CEM_CPMS!D162)","v":""},"",{"$f":"IF(COUNTIF(BA$2:BA140,BA140)=1,BA140,\"\")","v":""},"","",""]
[{"$f":"IF(B141=\"\",\"\",MAX(A$1:A140)+1)","v":""},{"$f":"+IF(CPMS_Identification!C163=\"\",\"\",CPMS_Identification!C163)","v":""},"",null,{"$f":"IF(F141=\"\",\"\",MAX(E$1:E140)+1)","v":""},{"$f":"IF(Landfill_Gas_ID!C163=\"\",\"\",Landfill_Gas_ID!C163)","v":""},"",null,{"$f":"IF(J141=\"\",\"\",MAX(I$1:I140)+1)","v":""},{"$f":"IF(Distillate_Oil!C163=\"\",\"\",Distillate_Oil!C163)","v":""},"",null,null,null,null,null,null,null,null,null,null,null,null,null,null,null,{"$f":"+IF(AE141=\"\",\"\",MAX(AA$1:AA140)+1)","v":""},{"$f":"IF(Deviation_Limits!B163=\"\",\"\",Deviation_Limits!B163)","v":""},{"$f":"IF(Deviation_Limits!C163=\"\",\"\",Deviation_Limits!C163)","v":""},"",{"$f":"IF(COUNTIF(AC$2:AC141,AC141)=1,AC141,\"\")","v":""},"","",null,null,null,null,null,null,null,{"$f":"+IF(AT141=\"\",\"\",MAX(AO$1:AO140)+1)","v":""},{"$f":"IF(Deviation_Limits!B163=\"\",\"\",Deviation_Limits!B163)","v":""},{"$f":"IF(Deviation_Limits!C163=\"\",\"\",Deviation_Limits!C163)","v":""},{"$f":"IF(Deviation_Limits!D163=\"\",\"\",Deviation_Limits!D163)","v":""},"",{"$f":"IF(COUNTIF(AQ$2:AQ141,AQ141)=1,AQ141,\"\")","v":""},"","","",null,{"$f":"+IF(BD141=\"\",\"\",MAX(AY$1:AY140)+1)","v":""},{"$f":"IF(Deviation_CEM_CPMS!B163=\"\",\"\",Deviation_CEM_CPMS!B163)","v":""},{"$f":"IF(Deviation_CEM_CPMS!C163=\"\",\"\",Deviation_CEM_CPMS!C163)","v":""},{"$f":"IF(Deviation_CEM_CPMS!D163=\"\",\"\",Deviation_CEM_CPMS!D163)","v":""},"",{"$f":"IF(COUNTIF(BA$2:BA141,BA141)=1,BA141,\"\")","v":""},"","",""]
[{"$f":"IF(B142=\"\",\"\",MAX(A$1:A141)+1)","v":""},{"$f":"+IF(CPMS_Identification!C164=\"\",\"\",CPMS_Identification!C164)","v":""},"",null,{"$f":"IF(F142=\"\",\"\",MAX(E$1:E141)+1)","v":""},{"$f":"IF(Landfill_Gas_ID!C164=\"\",\"\",Landfill_Gas_ID!C164)","v":""},"",null,{"$f":"IF(J142=\"\",\"\",MAX(I$1:I141)+1)","v":""},{"$f":"IF(Distillate_Oil!C164=\"\",\"\",Distillate_Oil!C164)","v":""},"",null,null,null,null,null,null,null,null,null,null,null,null,null,null,null,{"$f":"+IF(AE142=\"\",\"\",MAX(AA$1:AA141)+1)","v":""},{"$f":"IF(Deviation_Limits!B164=\"\",\"\",Deviation_Limits!B164)","v":""},{"$f":"IF(Deviation_Limits!C164=\"\",\"\",Deviation_Limits!C164)","v":""},"",{"$f":"IF(COUNTIF(AC$2:AC142,AC142)=1,AC142,\"\")","v":""},"","",null,null,null,null,null,null,null,{"$f":"+IF(AT142=\"\",\"\",MAX(AO$1:AO141)+1)","v":""},{"$f":"IF(Deviation_Limits!B164=\"\",\"\",Deviation_Limits!B164)","v":""},{"$f":"IF(Deviation_Limits!C164=\"\",\"\",Deviation_Limits!C164)","v":""},{"$f":"IF(Deviation_Limits!D164=\"\",\"\",Deviation_Limits!D164)","v":""},"",{"$f":"IF(COUNTIF(AQ$2:AQ142,AQ142)=1,AQ142,\"\")","v":""},"","","",null,{"$f":"+IF(BD142=\"\",\"\",MAX(AY$1:AY141)+1)","v":""},{"$f":"IF(Deviation_CEM_CPMS!B164=\"\",\"\",Deviation_CEM_CPMS!B164)","v":""},{"$f":"IF(Deviation_CEM_CPMS!C164=\"\",\"\",Deviation_CEM_CPMS!C164)","v":""},{"$f":"IF(Deviation_CEM_CPMS!D164=\"\",\"\",Deviation_CEM_CPMS!D164)","v":""},"",{"$f":"IF(COUNTIF(BA$2:BA142,BA142)=1,BA142,\"\")","v":""},"","",""]
[{"$f":"IF(B143=\"\",\"\",MAX(A$1:A142)+1)","v":""},{"$f":"+IF(CPMS_Identification!C165=\"\",\"\",CPMS_Identification!C165)","v":""},"",null,{"$f":"IF(F143=\"\",\"\",MAX(E$1:E142)+1)","v":""},{"$f":"IF(Landfill_Gas_ID!C165=\"\",\"\",Landfill_Gas_ID!C165)","v":""},"",null,{"$f":"IF(J143=\"\",\"\",MAX(I$1:I142)+1)","v":""},{"$f":"IF(Distillate_Oil!C165=\"\",\"\",Distillate_Oil!C165)","v":""},"",null,null,null,null,null,null,null,null,null,null,null,null,null,null,null,{"$f":"+IF(AE143=\"\",\"\",MAX(AA$1:AA142)+1)","v":""},{"$f":"IF(Deviation_Limits!B165=\"\",\"\",Deviation_Limits!B165)","v":""},{"$f":"IF(Deviation_Limits!C165=\"\",\"\",Deviation_Limits!C165)","v":""},"",{"$f":"IF(COUNTIF(AC$2:AC143,AC143)=1,AC143,\"\")","v":""},"","",null,null,null,null,null,null,null,{"$f":"+IF(AT143=\"\",\"\",MAX(AO$1:AO142)+1)","v":""},{"$f":"IF(Deviation_Limits!B165=\"\",\"\",Deviation_Limits!B165)","v":""},{"$f":"IF(Deviation_Limits!C165=\"\",\"\",Deviation_Limits!C165)","v":""},{"$f":"IF(Deviation_Limits!D165=\"\",\"\",Deviation_Limits!D165)","v":""},"",{"$f":"IF(COUNTIF(AQ$2:AQ143,AQ143)=1,AQ143,\"\")","v":""},"","","",null,{"$f":"+IF(BD143=\"\",\"\",MAX(AY$1:AY142)+1)","v":""},{"$f":"IF(Deviation_CEM_CPMS!B165=\"\",\"\",Deviation_CEM_CPMS!B165)","v":""},{"$f":"IF(Deviation_CEM_CPMS!C165=\"\",\"\",Deviation_CEM_CPMS!C165)","v":""},{"$f":"IF(Deviation_CEM_CPMS!D165=\"\",\"\",Deviation_CEM_CPMS!D165)","v":""},"",{"$f":"IF(COUNTIF(BA$2:BA143,BA143)=1,BA143,\"\")","v":""},"","",""]
[{"$f":"IF(B144=\"\",\"\",MAX(A$1:A143)+1)","v":""},{"$f":"+IF(CPMS_Identification!C166=\"\",\"\",CPMS_Identification!C166)","v":""},"",null,{"$f":"IF(F144=\"\",\"\",MAX(E$1:E143)+1)","v":""},{"$f":"IF(Landfill_Gas_ID!C166=\"\",\"\",Landfill_Gas_ID!C166)","v":""},"",null,{"$f":"IF(J144=\"\",\"\",MAX(I$1:I143)+1)","v":""},{"$f":"IF(Distillate_Oil!C166=\"\",\"\",Distillate_Oil!C166)","v":""},"",null,null,null,null,null,null,null,null,null,null,null,null,null,null,null,{"$f":"+IF(AE144=\"\",\"\",MAX(AA$1:AA143)+1)","v":""},{"$f":"IF(Deviation_Limits!B166=\"\",\"\",Deviation_Limits!B166)","v":""},{"$f":"IF(Deviation_Limits!C166=\"\",\"\",Deviation_Limits!C166)","v":""},"",{"$f":"IF(COUNTIF(AC$2:AC144,AC144)=1,AC144,\"\")","v":""},"","",null,null,null,null,null,null,null,{"$f":"+IF(AT144=\"\",\"\",MAX(AO$1:AO143)+1)","v":""},{"$f":"IF(Deviation_Limits!B166=\"\",\"\",Deviation_Limits!B166)","v":""},{"$f":"IF(Deviation_Limits!C166=\"\",\"\",Deviation_Limits!C166)","v":""},{"$f":"IF(Deviation_Limits!D166=\"\",\"\",Deviation_Limits!D166)","v":""},"",{"$f":"IF(COUNTIF(AQ$2:AQ144,AQ144)=1,AQ144,\"\")","v":""},"","","",null,{"$f":"+IF(BD144=\"\",\"\",MAX(AY$1:AY143)+1)","v":""},{"$f":"IF(Deviation_CEM_CPMS!B166=\"\",\"\",Deviation_CEM_CPMS!B166)","v":""},{"$f":"IF(Deviation_CEM_CPMS!C166=\"\",\"\",Deviation_CEM_CPMS!C166)","v":""},{"$f":"IF(Deviation_CEM_CPMS!D166=\"\",\"\",Deviation_CEM_CPMS!D166)","v":""},"",{"$f":"IF(COUNTIF(BA$2:BA144,BA144)=1,BA144,\"\")","v":""},"","",""]
[{"$f":"IF(B145=\"\",\"\",MAX(A$1:A144)+1)","v":""},{"$f":"+IF(CPMS_Identification!C167=\"\",\"\",CPMS_Identification!C167)","v":""},"",null,{"$f":"IF(F145=\"\",\"\",MAX(E$1:E144)+1)","v":""},{"$f":"IF(Landfill_Gas_ID!C167=\"\",\"\",Landfill_Gas_ID!C167)","v":""},"",null,{"$f":"IF(J145=\"\",\"\",MAX(I$1:I144)+1)","v":""},{"$f":"IF(Distillate_Oil!C167=\"\",\"\",Distillate_Oil!C167)","v":""},"",null,null,null,null,null,null,null,null,null,null,null,null,null,null,null,{"$f":"+IF(AE145=\"\",\"\",MAX(AA$1:AA144)+1)","v":""},{"$f":"IF(Deviation_Limits!B167=\"\",\"\",Deviation_Limits!B167)","v":""},{"$f":"IF(Deviation_Limits!C167=\"\",\"\",Deviation_Limits!C167)","v":""},"",{"$f":"IF(COUNTIF(AC$2:AC145,AC145)=1,AC145,\"\")","v":""},"","",null,null,null,null,null,null,null,{"$f":"+IF(AT145=\"\",\"\",MAX(AO$1:AO144)+1)","v":""},{"$f":"IF(Deviation_Limits!B167=\"\",\"\",Deviation_Limits!B167)","v":""},{"$f":"IF(Deviation_Limits!C167=\"\",\"\",Deviation_Limits!C167)","v":""},{"$f":"IF(Deviation_Limits!D167=\"\",\"\",Deviation_Limits!D167)","v":""},"",{"$f":"IF(COUNTIF(AQ$2:AQ145,AQ145)=1,AQ145,\"\")","v":""},"","","",null,{"$f":"+IF(BD145=\"\",\"\",MAX(AY$1:AY144)+1)","v":""},{"$f":"IF(Deviation_CEM_CPMS!B167=\"\",\"\",Deviation_CEM_CPMS!B167)","v":""},{"$f":"IF(Deviation_CEM_CPMS!C167=\"\",\"\",Deviation_CEM_CPMS!C167)","v":""},{"$f":"IF(Deviation_CEM_CPMS!D167=\"\",\"\",Deviation_CEM_CPMS!D167)","v":""},"",{"$f":"IF(COUNTIF(BA$2:BA145,BA145)=1,BA145,\"\")","v":""},"","",""]
[{"$f":"IF(B146=\"\",\"\",MAX(A$1:A145)+1)","v":""},{"$f":"+IF(CPMS_Identification!C168=\"\",\"\",CPMS_Identification!C168)","v":""},"",null,{"$f":"IF(F146=\"\",\"\",MAX(E$1:E145)+1)","v":""},{"$f":"IF(Landfill_Gas_ID!C168=\"\",\"\",Landfill_Gas_ID!C168)","v":""},"",null,{"$f":"IF(J146=\"\",\"\",MAX(I$1:I145)+1)","v":""},{"$f":"IF(Distillate_Oil!C168=\"\",\"\",Distillate_Oil!C168)","v":""},"",null,null,null,null,null,null,null,null,null,null,null,null,null,null,null,{"$f":"+IF(AE146=\"\",\"\",MAX(AA$1:AA145)+1)","v":""},{"$f":"IF(Deviation_Limits!B168=\"\",\"\",Deviation_Limits!B168)","v":""},{"$f":"IF(Deviation_Limits!C168=\"\",\"\",Deviation_Limits!C168)","v":""},"",{"$f":"IF(COUNTIF(AC$2:AC146,AC146)=1,AC146,\"\")","v":""},"","",null,null,null,null,null,null,null,{"$f":"+IF(AT146=\"\",\"\",MAX(AO$1:AO145)+1)","v":""},{"$f":"IF(Deviation_Limits!B168=\"\",\"\",Deviation_Limits!B168)","v":""},{"$f":"IF(Deviation_Limits!C168=\"\",\"\",Deviation_Limits!C168)","v":""},{"$f":"IF(Deviation_Limits!D168=\"\",\"\",Deviation_Limits!D168)","v":""},"",{"$f":"IF(COUNTIF(AQ$2:AQ146,AQ146)=1,AQ146,\"\")","v":""},"","","",null,{"$f":"+IF(BD146=\"\",\"\",MAX(AY$1:AY145)+1)","v":""},{"$f":"IF(Deviation_CEM_CPMS!B168=\"\",\"\",Deviation_CEM_CPMS!B168)","v":""},{"$f":"IF(Deviation_CEM_CPMS!C168=\"\",\"\",Deviation_CEM_CPMS!C168)","v":""},{"$f":"IF(Deviation_CEM_CPMS!D168=\"\",\"\",Deviation_CEM_CPMS!D168)","v":""},"",{"$f":"IF(COUNTIF(BA$2:BA146,BA146)=1,BA146,\"\")","v":""},"","",""]
[{"$f":"IF(B147=\"\",\"\",MAX(A$1:A146)+1)","v":""},{"$f":"+IF(CPMS_Identification!C169=\"\",\"\",CPMS_Identification!C169)","v":""},"",null,{"$f":"IF(F147=\"\",\"\",MAX(E$1:E146)+1)","v":""},{"$f":"IF(Landfill_Gas_ID!C169=\"\",\"\",Landfill_Gas_ID!C169)","v":""},"",null,{"$f":"IF(J147=\"\",\"\",MAX(I$1:I146)+1)","v":""},{"$f":"IF(Distillate_Oil!C169=\"\",\"\",Distillate_Oil!C169)","v":""},"",null,null,null,null,null,null,null,null,null,null,null,null,null,null,null,{"$f":"+IF(AE147=\"\",\"\",MAX(AA$1:AA146)+1)","v":""},{"$f":"IF(Deviation_Limits!B169=\"\",\"\",Deviation_Limits!B169)","v":""},{"$f":"IF(Deviation_Limits!C169=\"\",\"\",Deviation_Limits!C169)","v":""},"",{"$f":"IF(COUNTIF(AC$2:AC147,AC147)=1,AC147,\"\")","v":""},"","",null,null,null,null,null,null,null,{"$f":"+IF(AT147=\"\",\"\",MAX(AO$1:AO146)+1)","v":""},{"$f":"IF(Deviation_Limits!B169=\"\",\"\",Deviation_Limits!B169)","v":""},{"$f":"IF(Deviation_Limits!C169=\"\",\"\",Deviation_Limits!C169)","v":""},{"$f":"IF(Deviation_Limits!D169=\"\",\"\",Deviation_Limits!D169)","v":""},"",{"$f":"IF(COUNTIF(AQ$2:AQ147,AQ147)=1,AQ147,\"\")","v":""},"","","",null,{"$f":"+IF(BD147=\"\",\"\",MAX(AY$1:AY146)+1)","v":""},{"$f":"IF(Deviation_CEM_CPMS!B169=\"\",\"\",Deviation_CEM_CPMS!B169)","v":""},{"$f":"IF(Deviation_CEM_CPMS!C169=\"\",\"\",Deviation_CEM_CPMS!C169)","v":""},{"$f":"IF(Deviation_CEM_CPMS!D169=\"\",\"\",Deviation_CEM_CPMS!D169)","v":""},"",{"$f":"IF(COUNTIF(BA$2:BA147,BA147)=1,BA147,\"\")","v":""},"","",""]
[{"$f":"IF(B148=\"\",\"\",MAX(A$1:A147)+1)","v":""},{"$f":"+IF(CPMS_Identification!C170=\"\",\"\",CPMS_Identification!C170)","v":""},"",null,{"$f":"IF(F148=\"\",\"\",MAX(E$1:E147)+1)","v":""},{"$f":"IF(Landfill_Gas_ID!C170=\"\",\"\",Landfill_Gas_ID!C170)","v":""},"",null,{"$f":"IF(J148=\"\",\"\",MAX(I$1:I147)+1)","v":""},{"$f":"IF(Distillate_Oil!C170=\"\",\"\",Distillate_Oil!C170)","v":""},"",null,null,null,null,null,null,null,null,null,null,null,null,null,null,null,{"$f":"+IF(AE148=\"\",\"\",MAX(AA$1:AA147)+1)","v":""},{"$f":"IF(Deviation_Limits!B170=\"\",\"\",Deviation_Limits!B170)","v":""},{"$f":"IF(Deviation_Limits!C170=\"\",\"\",Deviation_Limits!C170)","v":""},"",{"$f":"IF(COUNTIF(AC$2:AC148,AC148)=1,AC148,\"\")","v":""},"","",null,null,null,null,null,null,null,{"$f":"+IF(AT148=\"\",\"\",MAX(AO$1:AO147)+1)","v":""},{"$f":"IF(Deviation_Limits!B170=\"\",\"\",Deviation_Limits!B170)","v":""},{"$f":"IF(Deviation_Limits!C170=\"\",\"\",Deviation_Limits!C170)","v":""},{"$f":"IF(Deviation_Limits!D170=\"\",\"\",Deviation_Limits!D170)","v":""},"",{"$f":"IF(COUNTIF(AQ$2:AQ148,AQ148)=1,AQ148,\"\")","v":""},"","","",null,{"$f":"+IF(BD148=\"\",\"\",MAX(AY$1:AY147)+1)","v":""},{"$f":"IF(Deviation_CEM_CPMS!B170=\"\",\"\",Deviation_CEM_CPMS!B170)","v":""},{"$f":"IF(Deviation_CEM_CPMS!C170=\"\",\"\",Deviation_CEM_CPMS!C170)","v":""},{"$f":"IF(Deviation_CEM_CPMS!D170=\"\",\"\",Deviation_CEM_CPMS!D170)","v":""},"",{"$f":"IF(COUNTIF(BA$2:BA148,BA148)=1,BA148,\"\")","v":""},"","",""]
[{"$f":"IF(B149=\"\",\"\",MAX(A$1:A148)+1)","v":""},{"$f":"+IF(CPMS_Identification!C171=\"\",\"\",CPMS_Identification!C171)","v":""},"",null,{"$f":"IF(F149=\"\",\"\",MAX(E$1:E148)+1)","v":""},{"$f":"IF(Landfill_Gas_ID!C171=\"\",\"\",Landfill_Gas_ID!C171)","v":""},"",null,{"$f":"IF(J149=\"\",\"\",MAX(I$1:I148)+1)","v":""},{"$f":"IF(Distillate_Oil!C171=\"\",\"\",Distillate_Oil!C171)","v":""},"",null,null,null,null,null,null,null,null,null,null,null,null,null,null,null,{"$f":"+IF(AE149=\"\",\"\",MAX(AA$1:AA148)+1)","v":""},{"$f":"IF(Deviation_Limits!B171=\"\",\"\",Deviation_Limits!B171)","v":""},{"$f":"IF(Deviation_Limits!C171=\"\",\"\",Deviation_Limits!C171)","v":""},"",{"$f":"IF(COUNTIF(AC$2:AC149,AC149)=1,AC149,\"\")","v":""},"","",null,null,null,null,null,null,null,{"$f":"+IF(AT149=\"\",\"\",MAX(AO$1:AO148)+1)","v":""},{"$f":"IF(Deviation_Limits!B171=\"\",\"\",Deviation_Limits!B171)","v":""},{"$f":"IF(Deviation_Limits!C171=\"\",\"\",Deviation_Limits!C171)","v":""},{"$f":"IF(Deviation_Limits!D171=\"\",\"\",Deviation_Limits!D171)","v":""},"",{"$f":"IF(COUNTIF(AQ$2:AQ149,AQ149)=1,AQ149,\"\")","v":""},"","","",null,{"$f":"+IF(BD149=\"\",\"\",MAX(AY$1:AY148)+1)","v":""},{"$f":"IF(Deviation_CEM_CPMS!B171=\"\",\"\",Deviation_CEM_CPMS!B171)","v":""},{"$f":"IF(Deviation_CEM_CPMS!C171=\"\",\"\",Deviation_CEM_CPMS!C171)","v":""},{"$f":"IF(Deviation_CEM_CPMS!D171=\"\",\"\",Deviation_CEM_CPMS!D171)","v":""},"",{"$f":"IF(COUNTIF(BA$2:BA149,BA149)=1,BA149,\"\")","v":""},"","",""]
[{"$f":"IF(B150=\"\",\"\",MAX(A$1:A149)+1)","v":""},{"$f":"+IF(CPMS_Identification!C172=\"\",\"\",CPMS_Identification!C172)","v":""},"",null,{"$f":"IF(F150=\"\",\"\",MAX(E$1:E149)+1)","v":""},{"$f":"IF(Landfill_Gas_ID!C172=\"\",\"\",Landfill_Gas_ID!C172)","v":""},"",null,{"$f":"IF(J150=\"\",\"\",MAX(I$1:I149)+1)","v":""},{"$f":"IF(Distillate_Oil!C172=\"\",\"\",Distillate_Oil!C172)","v":""},"",null,null,null,null,null,null,null,null,null,null,null,null,null,null,null,{"$f":"+IF(AE150=\"\",\"\",MAX(AA$1:AA149)+1)","v":""},{"$f":"IF(Deviation_Limits!B172=\"\",\"\",Deviation_Limits!B172)","v":""},{"$f":"IF(Deviation_Limits!C172=\"\",\"\",Deviation_Limits!C172)","v":""},"",{"$f":"IF(COUNTIF(AC$2:AC150,AC150)=1,AC150,\"\")","v":""},"","",null,null,null,null,null,null,null,{"$f":"+IF(AT150=\"\",\"\",MAX(AO$1:AO149)+1)","v":""},{"$f":"IF(Deviation_Limits!B172=\"\",\"\",Deviation_Limits!B172)","v":""},{"$f":"IF(Deviation_Limits!C172=\"\",\"\",Deviation_Limits!C172)","v":""},{"$f":"IF(Deviation_Limits!D172=\"\",\"\",Deviation_Limits!D172)","v":""},"",{"$f":"IF(COUNTIF(AQ$2:AQ150,AQ150)=1,AQ150,\"\")","v":""},"","","",null,{"$f":"+IF(BD150=\"\",\"\",MAX(AY$1:AY149)+1)","v":""},{"$f":"IF(Deviation_CEM_CPMS!B172=\"\",\"\",Deviation_CEM_CPMS!B172)","v":""},{"$f":"IF(Deviation_CEM_CPMS!C172=\"\",\"\",Deviation_CEM_CPMS!C172)","v":""},{"$f":"IF(Deviation_CEM_CPMS!D172=\"\",\"\",Deviation_CEM_CPMS!D172)","v":""},"",{"$f":"IF(COUNTIF(BA$2:BA150,BA150)=1,BA150,\"\")","v":""},"","",""]
[{"$f":"IF(B151=\"\",\"\",MAX(A$1:A150)+1)","v":""},{"$f":"+IF(CPMS_Identification!C173=\"\",\"\",CPMS_Identification!C173)","v":""},"",null,{"$f":"IF(F151=\"\",\"\",MAX(E$1:E150)+1)","v":""},{"$f":"IF(Landfill_Gas_ID!C173=\"\",\"\",Landfill_Gas_ID!C173)","v":""},"",null,{"$f":"IF(J151=\"\",\"\",MAX(I$1:I150)+1)","v":""},{"$f":"IF(Distillate_Oil!C173=\"\",\"\",Distillate_Oil!C173)","v":""},"",null,null,null,null,null,null,null,null,null,null,null,null,null,null,null,{"$f":"+IF(AE151=\"\",\"\",MAX(AA$1:AA150)+1)","v":""},{"$f":"IF(Deviation_Limits!B173=\"\",\"\",Deviation_Limits!B173)","v":""},{"$f":"IF(Deviation_Limits!C173=\"\",\"\",Deviation_Limits!C173)","v":""},"",{"$f":"IF(COUNTIF(AC$2:AC151,AC151)=1,AC151,\"\")","v":""},"","",null,null,null,null,null,null,null,{"$f":"+IF(AT151=\"\",\"\",MAX(AO$1:AO150)+1)","v":""},{"$f":"IF(Deviation_Limits!B173=\"\",\"\",Deviation_Limits!B173)","v":""},{"$f":"IF(Deviation_Limits!C173=\"\",\"\",Deviation_Limits!C173)","v":""},{"$f":"IF(Deviation_Limits!D173=\"\",\"\",Deviation_Limits!D173)","v":""},"",{"$f":"IF(COUNTIF(AQ$2:AQ151,AQ151)=1,AQ151,\"\")","v":""},"","","",null,{"$f":"+IF(BD151=\"\",\"\",MAX(AY$1:AY150)+1)","v":""},{"$f":"IF(Deviation_CEM_CPMS!B173=\"\",\"\",Deviation_CEM_CPMS!B173)","v":""},{"$f":"IF(Deviation_CEM_CPMS!C173=\"\",\"\",Deviation_CEM_CPMS!C173)","v":""},{"$f":"IF(Deviation_CEM_CPMS!D173=\"\",\"\",Deviation_CEM_CPMS!D173)","v":""},"",{"$f":"IF(COUNTIF(BA$2:BA151,BA151)=1,BA151,\"\")","v":""},"","",""]
[{"$f":"IF(B152=\"\",\"\",MAX(A$1:A151)+1)","v":""},{"$f":"+IF(CPMS_Identification!C174=\"\",\"\",CPMS_Identification!C174)","v":""},"",null,{"$f":"IF(F152=\"\",\"\",MAX(E$1:E151)+1)","v":""},{"$f":"IF(Landfill_Gas_ID!C174=\"\",\"\",Landfill_Gas_ID!C174)","v":""},"",null,{"$f":"IF(J152=\"\",\"\",MAX(I$1:I151)+1)","v":""},{"$f":"IF(Distillate_Oil!C174=\"\",\"\",Distillate_Oil!C174)","v":""},"",null,null,null,null,null,null,null,null,null,null,null,null,null,null,null,{"$f":"+IF(AE152=\"\",\"\",MAX(AA$1:AA151)+1)","v":""},{"$f":"IF(Deviation_Limits!B174=\"\",\"\",Deviation_Limits!B174)","v":""},{"$f":"IF(Deviation_Limits!C174=\"\",\"\",Deviation_Limits!C174)","v":""},"",{"$f":"IF(COUNTIF(AC$2:AC152,AC152)=1,AC152,\"\")","v":""},"","",null,null,null,null,null,null,null,{"$f":"+IF(AT152=\"\",\"\",MAX(AO$1:AO151)+1)","v":""},{"$f":"IF(Deviation_Limits!B174=\"\",\"\",Deviation_Limits!B174)","v":""},{"$f":"IF(Deviation_Limits!C174=\"\",\"\",Deviation_Limits!C174)","v":""},{"$f":"IF(Deviation_Limits!D174=\"\",\"\",Deviation_Limits!D174)","v":""},"",{"$f":"IF(COUNTIF(AQ$2:AQ152,AQ152)=1,AQ152,\"\")","v":""},"","","",null,{"$f":"+IF(BD152=\"\",\"\",MAX(AY$1:AY151)+1)","v":""},{"$f":"IF(Deviation_CEM_CPMS!B174=\"\",\"\",Deviation_CEM_CPMS!B174)","v":""},{"$f":"IF(Deviation_CEM_CPMS!C174=\"\",\"\",Deviation_CEM_CPMS!C174)","v":""},{"$f":"IF(Deviation_CEM_CPMS!D174=\"\",\"\",Deviation_CEM_CPMS!D174)","v":""},"",{"$f":"IF(COUNTIF(BA$2:BA152,BA152)=1,BA152,\"\")","v":""},"","",""]
[{"$f":"IF(B153=\"\",\"\",MAX(A$1:A152)+1)","v":""},{"$f":"+IF(CPMS_Identification!C175=\"\",\"\",CPMS_Identification!C175)","v":""},"",null,{"$f":"IF(F153=\"\",\"\",MAX(E$1:E152)+1)","v":""},{"$f":"IF(Landfill_Gas_ID!C175=\"\",\"\",Landfill_Gas_ID!C175)","v":""},"",null,{"$f":"IF(J153=\"\",\"\",MAX(I$1:I152)+1)","v":""},{"$f":"IF(Distillate_Oil!C175=\"\",\"\",Distillate_Oil!C175)","v":""},"",null,null,null,null,null,null,null,null,null,null,null,null,null,null,null,{"$f":"+IF(AE153=\"\",\"\",MAX(AA$1:AA152)+1)","v":""},{"$f":"IF(Deviation_Limits!B175=\"\",\"\",Deviation_Limits!B175)","v":""},{"$f":"IF(Deviation_Limits!C175=\"\",\"\",Deviation_Limits!C175)","v":""},"",{"$f":"IF(COUNTIF(AC$2:AC153,AC153)=1,AC153,\"\")","v":""},"","",null,null,null,null,null,null,null,{"$f":"+IF(AT153=\"\",\"\",MAX(AO$1:AO152)+1)","v":""},{"$f":"IF(Deviation_Limits!B175=\"\",\"\",Deviation_Limits!B175)","v":""},{"$f":"IF(Deviation_Limits!C175=\"\",\"\",Deviation_Limits!C175)","v":""},{"$f":"IF(Deviation_Limits!D175=\"\",\"\",Deviation_Limits!D175)","v":""},"",{"$f":"IF(COUNTIF(AQ$2:AQ153,AQ153)=1,AQ153,\"\")","v":""},"","","",null,{"$f":"+IF(BD153=\"\",\"\",MAX(AY$1:AY152)+1)","v":""},{"$f":"IF(Deviation_CEM_CPMS!B175=\"\",\"\",Deviation_CEM_CPMS!B175)","v":""},{"$f":"IF(Deviation_CEM_CPMS!C175=\"\",\"\",Deviation_CEM_CPMS!C175)","v":""},{"$f":"IF(Deviation_CEM_CPMS!D175=\"\",\"\",Deviation_CEM_CPMS!D175)","v":""},"",{"$f":"IF(COUNTIF(BA$2:BA153,BA153)=1,BA153,\"\")","v":""},"","",""]
[{"$f":"IF(B154=\"\",\"\",MAX(A$1:A153)+1)","v":""},{"$f":"+IF(CPMS_Identification!C176=\"\",\"\",CPMS_Identification!C176)","v":""},"",null,{"$f":"IF(F154=\"\",\"\",MAX(E$1:E153)+1)","v":""},{"$f":"IF(Landfill_Gas_ID!C176=\"\",\"\",Landfill_Gas_ID!C176)","v":""},"",null,{"$f":"IF(J154=\"\",\"\",MAX(I$1:I153)+1)","v":""},{"$f":"IF(Distillate_Oil!C176=\"\",\"\",Distillate_Oil!C176)","v":""},"",null,null,null,null,null,null,null,null,null,null,null,null,null,null,null,{"$f":"+IF(AE154=\"\",\"\",MAX(AA$1:AA153)+1)","v":""},{"$f":"IF(Deviation_Limits!B176=\"\",\"\",Deviation_Limits!B176)","v":""},{"$f":"IF(Deviation_Limits!C176=\"\",\"\",Deviation_Limits!C176)","v":""},"",{"$f":"IF(COUNTIF(AC$2:AC154,AC154)=1,AC154,\"\")","v":""},"","",null,null,null,null,null,null,null,{"$f":"+IF(AT154=\"\",\"\",MAX(AO$1:AO153)+1)","v":""},{"$f":"IF(Deviation_Limits!B176=\"\",\"\",Deviation_Limits!B176)","v":""},{"$f":"IF(Deviation_Limits!C176=\"\",\"\",Deviation_Limits!C176)","v":""},{"$f":"IF(Deviation_Limits!D176=\"\",\"\",Deviation_Limits!D176)","v":""},"",{"$f":"IF(COUNTIF(AQ$2:AQ154,AQ154)=1,AQ154,\"\")","v":""},"","","",null,{"$f":"+IF(BD154=\"\",\"\",MAX(AY$1:AY153)+1)","v":""},{"$f":"IF(Deviation_CEM_CPMS!B176=\"\",\"\",Deviation_CEM_CPMS!B176)","v":""},{"$f":"IF(Deviation_CEM_CPMS!C176=\"\",\"\",Deviation_CEM_CPMS!C176)","v":""},{"$f":"IF(Deviation_CEM_CPMS!D176=\"\",\"\",Deviation_CEM_CPMS!D176)","v":""},"",{"$f":"IF(COUNTIF(BA$2:BA154,BA154)=1,BA154,\"\")","v":""},"","",""]
[{"$f":"IF(B155=\"\",\"\",MAX(A$1:A154)+1)","v":""},{"$f":"+IF(CPMS_Identification!C177=\"\",\"\",CPMS_Identification!C177)","v":""},"",null,{"$f":"IF(F155=\"\",\"\",MAX(E$1:E154)+1)","v":""},{"$f":"IF(Landfill_Gas_ID!C177=\"\",\"\",Landfill_Gas_ID!C177)","v":""},"",null,{"$f":"IF(J155=\"\",\"\",MAX(I$1:I154)+1)","v":""},{"$f":"IF(Distillate_Oil!C177=\"\",\"\",Distillate_Oil!C177)","v":""},"",null,null,null,null,null,null,null,null,null,null,null,null,null,null,null,{"$f":"+IF(AE155=\"\",\"\",MAX(AA$1:AA154)+1)","v":""},{"$f":"IF(Deviation_Limits!B177=\"\",\"\",Deviation_Limits!B177)","v":""},{"$f":"IF(Deviation_Limits!C177=\"\",\"\",Deviation_Limits!C177)","v":""},"",{"$f":"IF(COUNTIF(AC$2:AC155,AC155)=1,AC155,\"\")","v":""},"","",null,null,null,null,null,null,null,{"$f":"+IF(AT155=\"\",\"\",MAX(AO$1:AO154)+1)","v":""},{"$f":"IF(Deviation_Limits!B177=\"\",\"\",Deviation_Limits!B177)","v":""},{"$f":"IF(Deviation_Limits!C177=\"\",\"\",Deviation_Limits!C177)","v":""},{"$f":"IF(Deviation_Limits!D177=\"\",\"\",Deviation_Limits!D177)","v":""},"",{"$f":"IF(COUNTIF(AQ$2:AQ155,AQ155)=1,AQ155,\"\")","v":""},"","","",null,{"$f":"+IF(BD155=\"\",\"\",MAX(AY$1:AY154)+1)","v":""},{"$f":"IF(Deviation_CEM_CPMS!B177=\"\",\"\",Deviation_CEM_CPMS!B177)","v":""},{"$f":"IF(Deviation_CEM_CPMS!C177=\"\",\"\",Deviation_CEM_CPMS!C177)","v":""},{"$f":"IF(Deviation_CEM_CPMS!D177=\"\",\"\",Deviation_CEM_CPMS!D177)","v":""},"",{"$f":"IF(COUNTIF(BA$2:BA155,BA155)=1,BA155,\"\")","v":""},"","",""]
[{"$f":"IF(B156=\"\",\"\",MAX(A$1:A155)+1)","v":""},{"$f":"+IF(CPMS_Identification!C178=\"\",\"\",CPMS_Identification!C178)","v":""},"",null,{"$f":"IF(F156=\"\",\"\",MAX(E$1:E155)+1)","v":""},{"$f":"IF(Landfill_Gas_ID!C178=\"\",\"\",Landfill_Gas_ID!C178)","v":""},"",null,{"$f":"IF(J156=\"\",\"\",MAX(I$1:I155)+1)","v":""},{"$f":"IF(Distillate_Oil!C178=\"\",\"\",Distillate_Oil!C178)","v":""},"",null,null,null,null,null,null,null,null,null,null,null,null,null,null,null,{"$f":"+IF(AE156=\"\",\"\",MAX(AA$1:AA155)+1)","v":""},{"$f":"IF(Deviation_Limits!B178=\"\",\"\",Deviation_Limits!B178)","v":""},{"$f":"IF(Deviation_Limits!C178=\"\",\"\",Deviation_Limits!C178)","v":""},"",{"$f":"IF(COUNTIF(AC$2:AC156,AC156)=1,AC156,\"\")","v":""},"","",null,null,null,null,null,null,null,{"$f":"+IF(AT156=\"\",\"\",MAX(AO$1:AO155)+1)","v":""},{"$f":"IF(Deviation_Limits!B178=\"\",\"\",Deviation_Limits!B178)","v":""},{"$f":"IF(Deviation_Limits!C178=\"\",\"\",Deviation_Limits!C178)","v":""},{"$f":"IF(Deviation_Limits!D178=\"\",\"\",Deviation_Limits!D178)","v":""},"",{"$f":"IF(COUNTIF(AQ$2:AQ156,AQ156)=1,AQ156,\"\")","v":""},"","","",null,{"$f":"+IF(BD156=\"\",\"\",MAX(AY$1:AY155)+1)","v":""},{"$f":"IF(Deviation_CEM_CPMS!B178=\"\",\"\",Deviation_CEM_CPMS!B178)","v":""},{"$f":"IF(Deviation_CEM_CPMS!C178=\"\",\"\",Deviation_CEM_CPMS!C178)","v":""},{"$f":"IF(Deviation_CEM_CPMS!D178=\"\",\"\",Deviation_CEM_CPMS!D178)","v":""},"",{"$f":"IF(COUNTIF(BA$2:BA156,BA156)=1,BA156,\"\")","v":""},"","",""]
[{"$f":"IF(B157=\"\",\"\",MAX(A$1:A156)+1)","v":""},{"$f":"+IF(CPMS_Identification!C179=\"\",\"\",CPMS_Identification!C179)","v":""},"",null,{"$f":"IF(F157=\"\",\"\",MAX(E$1:E156)+1)","v":""},{"$f":"IF(Landfill_Gas_ID!C179=\"\",\"\",Landfill_Gas_ID!C179)","v":""},"",null,{"$f":"IF(J157=\"\",\"\",MAX(I$1:I156)+1)","v":""},{"$f":"IF(Distillate_Oil!C179=\"\",\"\",Distillate_Oil!C179)","v":""},"",null,null,null,null,null,null,null,null,null,null,null,null,null,null,null,{"$f":"+IF(AE157=\"\",\"\",MAX(AA$1:AA156)+1)","v":""},{"$f":"IF(Deviation_Limits!B179=\"\",\"\",Deviation_Limits!B179)","v":""},{"$f":"IF(Deviation_Limits!C179=\"\",\"\",Deviation_Limits!C179)","v":""},"",{"$f":"IF(COUNTIF(AC$2:AC157,AC157)=1,AC157,\"\")","v":""},"","",null,null,null,null,null,null,null,{"$f":"+IF(AT157=\"\",\"\",MAX(AO$1:AO156)+1)","v":""},{"$f":"IF(Deviation_Limits!B179=\"\",\"\",Deviation_Limits!B179)","v":""},{"$f":"IF(Deviation_Limits!C179=\"\",\"\",Deviation_Limits!C179)","v":""},{"$f":"IF(Deviation_Limits!D179=\"\",\"\",Deviation_Limits!D179)","v":""},"",{"$f":"IF(COUNTIF(AQ$2:AQ157,AQ157)=1,AQ157,\"\")","v":""},"","","",null,{"$f":"+IF(BD157=\"\",\"\",MAX(AY$1:AY156)+1)","v":""},{"$f":"IF(Deviation_CEM_CPMS!B179=\"\",\"\",Deviation_CEM_CPMS!B179)","v":""},{"$f":"IF(Deviation_CEM_CPMS!C179=\"\",\"\",Deviation_CEM_CPMS!C179)","v":""},{"$f":"IF(Deviation_CEM_CPMS!D179=\"\",\"\",Deviation_CEM_CPMS!D179)","v":""},"",{"$f":"IF(COUNTIF(BA$2:BA157,BA157)=1,BA157,\"\")","v":""},"","",""]
[{"$f":"IF(B158=\"\",\"\",MAX(A$1:A157)+1)","v":""},{"$f":"+IF(CPMS_Identification!C180=\"\",\"\",CPMS_Identification!C180)","v":""},"",null,{"$f":"IF(F158=\"\",\"\",MAX(E$1:E157)+1)","v":""},{"$f":"IF(Landfill_Gas_ID!C180=\"\",\"\",Landfill_Gas_ID!C180)","v":""},"",null,{"$f":"IF(J158=\"\",\"\",MAX(I$1:I157)+1)","v":""},{"$f":"IF(Distillate_Oil!C180=\"\",\"\",Distillate_Oil!C180)","v":""},"",null,null,null,null,null,null,null,null,null,null,null,null,null,null,null,{"$f":"+IF(AE158=\"\",\"\",MAX(AA$1:AA157)+1)","v":""},{"$f":"IF(Deviation_Limits!B180=\"\",\"\",Deviation_Limits!B180)","v":""},{"$f":"IF(Deviation_Limits!C180=\"\",\"\",Deviation_Limits!C180)","v":""},"",{"$f":"IF(COUNTIF(AC$2:AC158,AC158)=1,AC158,\"\")","v":""},"","",null,null,null,null,null,null,null,{"$f":"+IF(AT158=\"\",\"\",MAX(AO$1:AO157)+1)","v":""},{"$f":"IF(Deviation_Limits!B180=\"\",\"\",Deviation_Limits!B180)","v":""},{"$f":"IF(Deviation_Limits!C180=\"\",\"\",Deviation_Limits!C180)","v":""},{"$f":"IF(Deviation_Limits!D180=\"\",\"\",Deviation_Limits!D180)","v":""},"",{"$f":"IF(COUNTIF(AQ$2:AQ158,AQ158)=1,AQ158,\"\")","v":""},"","","",null,{"$f":"+IF(BD158=\"\",\"\",MAX(AY$1:AY157)+1)","v":""},{"$f":"IF(Deviation_CEM_CPMS!B180=\"\",\"\",Deviation_CEM_CPMS!B180)","v":""},{"$f":"IF(Deviation_CEM_CPMS!C180=\"\",\"\",Deviation_CEM_CPMS!C180)","v":""},{"$f":"IF(Deviation_CEM_CPMS!D180=\"\",\"\",Deviation_CEM_CPMS!D180)","v":""},"",{"$f":"IF(COUNTIF(BA$2:BA158,BA158)=1,BA158,\"\")","v":""},"","",""]
[{"$f":"IF(B159=\"\",\"\",MAX(A$1:A158)+1)","v":""},{"$f":"+IF(CPMS_Identification!C181=\"\",\"\",CPMS_Identification!C181)","v":""},"",null,{"$f":"IF(F159=\"\",\"\",MAX(E$1:E158)+1)","v":""},{"$f":"IF(Landfill_Gas_ID!C181=\"\",\"\",Landfill_Gas_ID!C181)","v":""},"",null,{"$f":"IF(J159=\"\",\"\",MAX(I$1:I158)+1)","v":""},{"$f":"IF(Distillate_Oil!C181=\"\",\"\",Distillate_Oil!C181)","v":""},"",null,null,null,null,null,null,null,null,null,null,null,null,null,null,null,{"$f":"+IF(AE159=\"\",\"\",MAX(AA$1:AA158)+1)","v":""},{"$f":"IF(Deviation_Limits!B181=\"\",\"\",Deviation_Limits!B181)","v":""},{"$f":"IF(Deviation_Limits!C181=\"\",\"\",Deviation_Limits!C181)","v":""},"",{"$f":"IF(COUNTIF(AC$2:AC159,AC159)=1,AC159,\"\")","v":""},"","",null,null,null,null,null,null,null,{"$f":"+IF(AT159=\"\",\"\",MAX(AO$1:AO158)+1)","v":""},{"$f":"IF(Deviation_Limits!B181=\"\",\"\",Deviation_Limits!B181)","v":""},{"$f":"IF(Deviation_Limits!C181=\"\",\"\",Deviation_Limits!C181)","v":""},{"$f":"IF(Deviation_Limits!D181=\"\",\"\",Deviation_Limits!D181)","v":""},"",{"$f":"IF(COUNTIF(AQ$2:AQ159,AQ159)=1,AQ159,\"\")","v":""},"","","",null,{"$f":"+IF(BD159=\"\",\"\",MAX(AY$1:AY158)+1)","v":""},{"$f":"IF(Deviation_CEM_CPMS!B181=\"\",\"\",Deviation_CEM_CPMS!B181)","v":""},{"$f":"IF(Deviation_CEM_CPMS!C181=\"\",\"\",Deviation_CEM_CPMS!C181)","v":""},{"$f":"IF(Deviation_CEM_CPMS!D181=\"\",\"\",Deviation_CEM_CPMS!D181)","v":""},"",{"$f":"IF(COUNTIF(BA$2:BA159,BA159)=1,BA159,\"\")","v":""},"","",""]
[{"$f":"IF(B160=\"\",\"\",MAX(A$1:A159)+1)","v":""},{"$f":"+IF(CPMS_Identification!C182=\"\",\"\",CPMS_Identification!C182)","v":""},"",null,{"$f":"IF(F160=\"\",\"\",MAX(E$1:E159)+1)","v":""},{"$f":"IF(Landfill_Gas_ID!C182=\"\",\"\",Landfill_Gas_ID!C182)","v":""},"",null,{"$f":"IF(J160=\"\",\"\",MAX(I$1:I159)+1)","v":""},{"$f":"IF(Distillate_Oil!C182=\"\",\"\",Distillate_Oil!C182)","v":""},"",null,null,null,null,null,null,null,null,null,null,null,null,null,null,null,{"$f":"+IF(AE160=\"\",\"\",MAX(AA$1:AA159)+1)","v":""},{"$f":"IF(Deviation_Limits!B182=\"\",\"\",Deviation_Limits!B182)","v":""},{"$f":"IF(Deviation_Limits!C182=\"\",\"\",Deviation_Limits!C182)","v":""},"",{"$f":"IF(COUNTIF(AC$2:AC160,AC160)=1,AC160,\"\")","v":""},"","",null,null,null,null,null,null,null,{"$f":"+IF(AT160=\"\",\"\",MAX(AO$1:AO159)+1)","v":""},{"$f":"IF(Deviation_Limits!B182=\"\",\"\",Deviation_Limits!B182)","v":""},{"$f":"IF(Deviation_Limits!C182=\"\",\"\",Deviation_Limits!C182)","v":""},{"$f":"IF(Deviation_Limits!D182=\"\",\"\",Deviation_Limits!D182)","v":""},"",{"$f":"IF(COUNTIF(AQ$2:AQ160,AQ160)=1,AQ160,\"\")","v":""},"","","",null,{"$f":"+IF(BD160=\"\",\"\",MAX(AY$1:AY159)+1)","v":""},{"$f":"IF(Deviation_CEM_CPMS!B182=\"\",\"\",Deviation_CEM_CPMS!B182)","v":""},{"$f":"IF(Deviation_CEM_CPMS!C182=\"\",\"\",Deviation_CEM_CPMS!C182)","v":""},{"$f":"IF(Deviation_CEM_CPMS!D182=\"\",\"\",Deviation_CEM_CPMS!D182)","v":""},"",{"$f":"IF(COUNTIF(BA$2:BA160,BA160)=1,BA160,\"\")","v":""},"","",""]
[{"$f":"IF(B161=\"\",\"\",MAX(A$1:A160)+1)","v":""},{"$f":"+IF(CPMS_Identification!C183=\"\",\"\",CPMS_Identification!C183)","v":""},"",null,{"$f":"IF(F161=\"\",\"\",MAX(E$1:E160)+1)","v":""},{"$f":"IF(Landfill_Gas_ID!C183=\"\",\"\",Landfill_Gas_ID!C183)","v":""},"",null,{"$f":"IF(J161=\"\",\"\",MAX(I$1:I160)+1)","v":""},{"$f":"IF(Distillate_Oil!C183=\"\",\"\",Distillate_Oil!C183)","v":""},"",null,null,null,null,null,null,null,null,null,null,null,null,null,null,null,{"$f":"+IF(AE161=\"\",\"\",MAX(AA$1:AA160)+1)","v":""},{"$f":"IF(Deviation_Limits!B183=\"\",\"\",Deviation_Limits!B183)","v":""},{"$f":"IF(Deviation_Limits!C183=\"\",\"\",Deviation_Limits!C183)","v":""},"",{"$f":"IF(COUNTIF(AC$2:AC161,AC161)=1,AC161,\"\")","v":""},"","",null,null,null,null,null,null,null,{"$f":"+IF(AT161=\"\",\"\",MAX(AO$1:AO160)+1)","v":""},{"$f":"IF(Deviation_Limits!B183=\"\",\"\",Deviation_Limits!B183)","v":""},{"$f":"IF(Deviation_Limits!C183=\"\",\"\",Deviation_Limits!C183)","v":""},{"$f":"IF(Deviation_Limits!D183=\"\",\"\",Deviation_Limits!D183)","v":""},"",{"$f":"IF(COUNTIF(AQ$2:AQ161,AQ161)=1,AQ161,\"\")","v":""},"","","",null,{"$f":"+IF(BD161=\"\",\"\",MAX(AY$1:AY160)+1)","v":""},{"$f":"IF(Deviation_CEM_CPMS!B183=\"\",\"\",Deviation_CEM_CPMS!B183)","v":""},{"$f":"IF(Deviation_CEM_CPMS!C183=\"\",\"\",Deviation_CEM_CPMS!C183)","v":""},{"$f":"IF(Deviation_CEM_CPMS!D183=\"\",\"\",Deviation_CEM_CPMS!D183)","v":""},"",{"$f":"IF(COUNTIF(BA$2:BA161,BA161)=1,BA161,\"\")","v":""},"","",""]
[{"$f":"IF(B162=\"\",\"\",MAX(A$1:A161)+1)","v":""},{"$f":"+IF(CPMS_Identification!C184=\"\",\"\",CPMS_Identification!C184)","v":""},"",null,{"$f":"IF(F162=\"\",\"\",MAX(E$1:E161)+1)","v":""},{"$f":"IF(Landfill_Gas_ID!C184=\"\",\"\",Landfill_Gas_ID!C184)","v":""},"",null,{"$f":"IF(J162=\"\",\"\",MAX(I$1:I161)+1)","v":""},{"$f":"IF(Distillate_Oil!C184=\"\",\"\",Distillate_Oil!C184)","v":""},"",null,null,null,null,null,null,null,null,null,null,null,null,null,null,null,{"$f":"+IF(AE162=\"\",\"\",MAX(AA$1:AA161)+1)","v":""},{"$f":"IF(Deviation_Limits!B184=\"\",\"\",Deviation_Limits!B184)","v":""},{"$f":"IF(Deviation_Limits!C184=\"\",\"\",Deviation_Limits!C184)","v":""},"",{"$f":"IF(COUNTIF(AC$2:AC162,AC162)=1,AC162,\"\")","v":""},"","",null,null,null,null,null,null,null,{"$f":"+IF(AT162=\"\",\"\",MAX(AO$1:AO161)+1)","v":""},{"$f":"IF(Deviation_Limits!B184=\"\",\"\",Deviation_Limits!B184)","v":""},{"$f":"IF(Deviation_Limits!C184=\"\",\"\",Deviation_Limits!C184)","v":""},{"$f":"IF(Deviation_Limits!D184=\"\",\"\",Deviation_Limits!D184)","v":""},"",{"$f":"IF(COUNTIF(AQ$2:AQ162,AQ162)=1,AQ162,\"\")","v":""},"","","",null,{"$f":"+IF(BD162=\"\",\"\",MAX(AY$1:AY161)+1)","v":""},{"$f":"IF(Deviation_CEM_CPMS!B184=\"\",\"\",Deviation_CEM_CPMS!B184)","v":""},{"$f":"IF(Deviation_CEM_CPMS!C184=\"\",\"\",Deviation_CEM_CPMS!C184)","v":""},{"$f":"IF(Deviation_CEM_CPMS!D184=\"\",\"\",Deviation_CEM_CPMS!D184)","v":""},"",{"$f":"IF(COUNTIF(BA$2:BA162,BA162)=1,BA162,\"\")","v":""},"","",""]
[{"$f":"IF(B163=\"\",\"\",MAX(A$1:A162)+1)","v":""},{"$f":"+IF(CPMS_Identification!C185=\"\",\"\",CPMS_Identification!C185)","v":""},"",null,{"$f":"IF(F163=\"\",\"\",MAX(E$1:E162)+1)","v":""},{"$f":"IF(Landfill_Gas_ID!C185=\"\",\"\",Landfill_Gas_ID!C185)","v":""},"",null,{"$f":"IF(J163=\"\",\"\",MAX(I$1:I162)+1)","v":""},{"$f":"IF(Distillate_Oil!C185=\"\",\"\",Distillate_Oil!C185)","v":""},"",null,null,null,null,null,null,null,null,null,null,null,null,null,null,null,{"$f":"+IF(AE163=\"\",\"\",MAX(AA$1:AA162)+1)","v":""},{"$f":"IF(Deviation_Limits!B185=\"\",\"\",Deviation_Limits!B185)","v":""},{"$f":"IF(Deviation_Limits!C185=\"\",\"\",Deviation_Limits!C185)","v":""},"",{"$f":"IF(COUNTIF(AC$2:AC163,AC163)=1,AC163,\"\")","v":""},"","",null,null,null,null,null,null,null,{"$f":"+IF(AT163=\"\",\"\",MAX(AO$1:AO162)+1)","v":""},{"$f":"IF(Deviation_Limits!B185=\"\",\"\",Deviation_Limits!B185)","v":""},{"$f":"IF(Deviation_Limits!C185=\"\",\"\",Deviation_Limits!C185)","v":""},{"$f":"IF(Deviation_Limits!D185=\"\",\"\",Deviation_Limits!D185)","v":""},"",{"$f":"IF(COUNTIF(AQ$2:AQ163,AQ163)=1,AQ163,\"\")","v":""},"","","",null,{"$f":"+IF(BD163=\"\",\"\",MAX(AY$1:AY162)+1)","v":""},{"$f":"IF(Deviation_CEM_CPMS!B185=\"\",\"\",Deviation_CEM_CPMS!B185)","v":""},{"$f":"IF(Deviation_CEM_CPMS!C185=\"\",\"\",Deviation_CEM_CPMS!C185)","v":""},{"$f":"IF(Deviation_CEM_CPMS!D185=\"\",\"\",Deviation_CEM_CPMS!D185)","v":""},"",{"$f":"IF(COUNTIF(BA$2:BA163,BA163)=1,BA163,\"\")","v":""},"","",""]
[{"$f":"IF(B164=\"\",\"\",MAX(A$1:A163)+1)","v":""},{"$f":"+IF(CPMS_Identification!C186=\"\",\"\",CPMS_Identification!C186)","v":""},"",null,{"$f":"IF(F164=\"\",\"\",MAX(E$1:E163)+1)","v":""},{"$f":"IF(Landfill_Gas_ID!C186=\"\",\"\",Landfill_Gas_ID!C186)","v":""},"",null,{"$f":"IF(J164=\"\",\"\",MAX(I$1:I163)+1)","v":""},{"$f":"IF(Distillate_Oil!C186=\"\",\"\",Distillate_Oil!C186)","v":""},"",null,null,null,null,null,null,null,null,null,null,null,null,null,null,null,{"$f":"+IF(AE164=\"\",\"\",MAX(AA$1:AA163)+1)","v":""},{"$f":"IF(Deviation_Limits!B186=\"\",\"\",Deviation_Limits!B186)","v":""},{"$f":"IF(Deviation_Limits!C186=\"\",\"\",Deviation_Limits!C186)","v":""},"",{"$f":"IF(COUNTIF(AC$2:AC164,AC164)=1,AC164,\"\")","v":""},"","",null,null,null,null,null,null,null,{"$f":"+IF(AT164=\"\",\"\",MAX(AO$1:AO163)+1)","v":""},{"$f":"IF(Deviation_Limits!B186=\"\",\"\",Deviation_Limits!B186)","v":""},{"$f":"IF(Deviation_Limits!C186=\"\",\"\",Deviation_Limits!C186)","v":""},{"$f":"IF(Deviation_Limits!D186=\"\",\"\",Deviation_Limits!D186)","v":""},"",{"$f":"IF(COUNTIF(AQ$2:AQ164,AQ164)=1,AQ164,\"\")","v":""},"","","",null,{"$f":"+IF(BD164=\"\",\"\",MAX(AY$1:AY163)+1)","v":""},{"$f":"IF(Deviation_CEM_CPMS!B186=\"\",\"\",Deviation_CEM_CPMS!B186)","v":""},{"$f":"IF(Deviation_CEM_CPMS!C186=\"\",\"\",Deviation_CEM_CPMS!C186)","v":""},{"$f":"IF(Deviation_CEM_CPMS!D186=\"\",\"\",Deviation_CEM_CPMS!D186)","v":""},"",{"$f":"IF(COUNTIF(BA$2:BA164,BA164)=1,BA164,\"\")","v":""},"","",""]
[{"$f":"IF(B165=\"\",\"\",MAX(A$1:A164)+1)","v":""},{"$f":"+IF(CPMS_Identification!C187=\"\",\"\",CPMS_Identification!C187)","v":""},"",null,{"$f":"IF(F165=\"\",\"\",MAX(E$1:E164)+1)","v":""},{"$f":"IF(Landfill_Gas_ID!C187=\"\",\"\",Landfill_Gas_ID!C187)","v":""},"",null,{"$f":"IF(J165=\"\",\"\",MAX(I$1:I164)+1)","v":""},{"$f":"IF(Distillate_Oil!C187=\"\",\"\",Distillate_Oil!C187)","v":""},"",null,null,null,null,null,null,null,null,null,null,null,null,null,null,null,{"$f":"+IF(AE165=\"\",\"\",MAX(AA$1:AA164)+1)","v":""},{"$f":"IF(Deviation_Limits!B187=\"\",\"\",Deviation_Limits!B187)","v":""},{"$f":"IF(Deviation_Limits!C187=\"\",\"\",Deviation_Limits!C187)","v":""},"",{"$f":"IF(COUNTIF(AC$2:AC165,AC165)=1,AC165,\"\")","v":""},"","",null,null,null,null,null,null,null,{"$f":"+IF(AT165=\"\",\"\",MAX(AO$1:AO164)+1)","v":""},{"$f":"IF(Deviation_Limits!B187=\"\",\"\",Deviation_Limits!B187)","v":""},{"$f":"IF(Deviation_Limits!C187=\"\",\"\",Deviation_Limits!C187)","v":""},{"$f":"IF(Deviation_Limits!D187=\"\",\"\",Deviation_Limits!D187)","v":""},"",{"$f":"IF(COUNTIF(AQ$2:AQ165,AQ165)=1,AQ165,\"\")","v":""},"","","",null,{"$f":"+IF(BD165=\"\",\"\",MAX(AY$1:AY164)+1)","v":""},{"$f":"IF(Deviation_CEM_CPMS!B187=\"\",\"\",Deviation_CEM_CPMS!B187)","v":""},{"$f":"IF(Deviation_CEM_CPMS!C187=\"\",\"\",Deviation_CEM_CPMS!C187)","v":""},{"$f":"IF(Deviation_CEM_CPMS!D187=\"\",\"\",Deviation_CEM_CPMS!D187)","v":""},"",{"$f":"IF(COUNTIF(BA$2:BA165,BA165)=1,BA165,\"\")","v":""},"","",""]
[{"$f":"IF(B166=\"\",\"\",MAX(A$1:A165)+1)","v":""},{"$f":"+IF(CPMS_Identification!C188=\"\",\"\",CPMS_Identification!C188)","v":""},"",null,{"$f":"IF(F166=\"\",\"\",MAX(E$1:E165)+1)","v":""},{"$f":"IF(Landfill_Gas_ID!C188=\"\",\"\",Landfill_Gas_ID!C188)","v":""},"",null,{"$f":"IF(J166=\"\",\"\",MAX(I$1:I165)+1)","v":""},{"$f":"IF(Distillate_Oil!C188=\"\",\"\",Distillate_Oil!C188)","v":""},"",null,null,null,null,null,null,null,null,null,null,null,null,null,null,null,{"$f":"+IF(AE166=\"\",\"\",MAX(AA$1:AA165)+1)","v":""},{"$f":"IF(Deviation_Limits!B188=\"\",\"\",Deviation_Limits!B188)","v":""},{"$f":"IF(Deviation_Limits!C188=\"\",\"\",Deviation_Limits!C188)","v":""},"",{"$f":"IF(COUNTIF(AC$2:AC166,AC166)=1,AC166,\"\")","v":""},"","",null,null,null,null,null,null,null,{"$f":"+IF(AT166=\"\",\"\",MAX(AO$1:AO165)+1)","v":""},{"$f":"IF(Deviation_Limits!B188=\"\",\"\",Deviation_Limits!B188)","v":""},{"$f":"IF(Deviation_Limits!C188=\"\",\"\",Deviation_Limits!C188)","v":""},{"$f":"IF(Deviation_Limits!D188=\"\",\"\",Deviation_Limits!D188)","v":""},"",{"$f":"IF(COUNTIF(AQ$2:AQ166,AQ166)=1,AQ166,\"\")","v":""},"","","",null,{"$f":"+IF(BD166=\"\",\"\",MAX(AY$1:AY165)+1)","v":""},{"$f":"IF(Deviation_CEM_CPMS!B188=\"\",\"\",Deviation_CEM_CPMS!B188)","v":""},{"$f":"IF(Deviation_CEM_CPMS!C188=\"\",\"\",Deviation_CEM_CPMS!C188)","v":""},{"$f":"IF(Deviation_CEM_CPMS!D188=\"\",\"\",Deviation_CEM_CPMS!D188)","v":""},"",{"$f":"IF(COUNTIF(BA$2:BA166,BA166)=1,BA166,\"\")","v":""},"","",""]
[{"$f":"IF(B167=\"\",\"\",MAX(A$1:A166)+1)","v":""},{"$f":"+IF(CPMS_Identification!C189=\"\",\"\",CPMS_Identification!C189)","v":""},"",null,{"$f":"IF(F167=\"\",\"\",MAX(E$1:E166)+1)","v":""},{"$f":"IF(Landfill_Gas_ID!C189=\"\",\"\",Landfill_Gas_ID!C189)","v":""},"",null,{"$f":"IF(J167=\"\",\"\",MAX(I$1:I166)+1)","v":""},{"$f":"IF(Distillate_Oil!C189=\"\",\"\",Distillate_Oil!C189)","v":""},"",null,null,null,null,null,null,null,null,null,null,null,null,null,null,null,{"$f":"+IF(AE167=\"\",\"\",MAX(AA$1:AA166)+1)","v":""},{"$f":"IF(Deviation_Limits!B189=\"\",\"\",Deviation_Limits!B189)","v":""},{"$f":"IF(Deviation_Limits!C189=\"\",\"\",Deviation_Limits!C189)","v":""},"",{"$f":"IF(COUNTIF(AC$2:AC167,AC167)=1,AC167,\"\")","v":""},"","",null,null,null,null,null,null,null,{"$f":"+IF(AT167=\"\",\"\",MAX(AO$1:AO166)+1)","v":""},{"$f":"IF(Deviation_Limits!B189=\"\",\"\",Deviation_Limits!B189)","v":""},{"$f":"IF(Deviation_Limits!C189=\"\",\"\",Deviation_Limits!C189)","v":""},{"$f":"IF(Deviation_Limits!D189=\"\",\"\",Deviation_Limits!D189)","v":""},"",{"$f":"IF(COUNTIF(AQ$2:AQ167,AQ167)=1,AQ167,\"\")","v":""},"","","",null,{"$f":"+IF(BD167=\"\",\"\",MAX(AY$1:AY166)+1)","v":""},{"$f":"IF(Deviation_CEM_CPMS!B189=\"\",\"\",Deviation_CEM_CPMS!B189)","v":""},{"$f":"IF(Deviation_CEM_CPMS!C189=\"\",\"\",Deviation_CEM_CPMS!C189)","v":""},{"$f":"IF(Deviation_CEM_CPMS!D189=\"\",\"\",Deviation_CEM_CPMS!D189)","v":""},"",{"$f":"IF(COUNTIF(BA$2:BA167,BA167)=1,BA167,\"\")","v":""},"","",""]
[{"$f":"IF(B168=\"\",\"\",MAX(A$1:A167)+1)","v":""},{"$f":"+IF(CPMS_Identification!C190=\"\",\"\",CPMS_Identification!C190)","v":""},"",null,{"$f":"IF(F168=\"\",\"\",MAX(E$1:E167)+1)","v":""},{"$f":"IF(Landfill_Gas_ID!C190=\"\",\"\",Landfill_Gas_ID!C190)","v":""},"",null,{"$f":"IF(J168=\"\",\"\",MAX(I$1:I167)+1)","v":""},{"$f":"IF(Distillate_Oil!C190=\"\",\"\",Distillate_Oil!C190)","v":""},"",null,null,null,null,null,null,null,null,null,null,null,null,null,null,null,{"$f":"+IF(AE168=\"\",\"\",MAX(AA$1:AA167)+1)","v":""},{"$f":"IF(Deviation_Limits!B190=\"\",\"\",Deviation_Limits!B190)","v":""},{"$f":"IF(Deviation_Limits!C190=\"\",\"\",Deviation_Limits!C190)","v":""},"",{"$f":"IF(COUNTIF(AC$2:AC168,AC168)=1,AC168,\"\")","v":""},"","",null,null,null,null,null,null,null,{"$f":"+IF(AT168=\"\",\"\",MAX(AO$1:AO167)+1)","v":""},{"$f":"IF(Deviation_Limits!B190=\"\",\"\",Deviation_Limits!B190)","v":""},{"$f":"IF(Deviation_Limits!C190=\"\",\"\",Deviation_Limits!C190)","v":""},{"$f":"IF(Deviation_Limits!D190=\"\",\"\",Deviation_Limits!D190)","v":""},"",{"$f":"IF(COUNTIF(AQ$2:AQ168,AQ168)=1,AQ168,\"\")","v":""},"","","",null,{"$f":"+IF(BD168=\"\",\"\",MAX(AY$1:AY167)+1)","v":""},{"$f":"IF(Deviation_CEM_CPMS!B190=\"\",\"\",Deviation_CEM_CPMS!B190)","v":""},{"$f":"IF(Deviation_CEM_CPMS!C190=\"\",\"\",Deviation_CEM_CPMS!C190)","v":""},{"$f":"IF(Deviation_CEM_CPMS!D190=\"\",\"\",Deviation_CEM_CPMS!D190)","v":""},"",{"$f":"IF(COUNTIF(BA$2:BA168,BA168)=1,BA168,\"\")","v":""},"","",""]
[{"$f":"IF(B169=\"\",\"\",MAX(A$1:A168)+1)","v":""},{"$f":"+IF(CPMS_Identification!C191=\"\",\"\",CPMS_Identification!C191)","v":""},"",null,{"$f":"IF(F169=\"\",\"\",MAX(E$1:E168)+1)","v":""},{"$f":"IF(Landfill_Gas_ID!C191=\"\",\"\",Landfill_Gas_ID!C191)","v":""},"",null,{"$f":"IF(J169=\"\",\"\",MAX(I$1:I168)+1)","v":""},{"$f":"IF(Distillate_Oil!C191=\"\",\"\",Distillate_Oil!C191)","v":""},"",null,null,null,null,null,null,null,null,null,null,null,null,null,null,null,{"$f":"+IF(AE169=\"\",\"\",MAX(AA$1:AA168)+1)","v":""},{"$f":"IF(Deviation_Limits!B191=\"\",\"\",Deviation_Limits!B191)","v":""},{"$f":"IF(Deviation_Limits!C191=\"\",\"\",Deviation_Limits!C191)","v":""},"",{"$f":"IF(COUNTIF(AC$2:AC169,AC169)=1,AC169,\"\")","v":""},"","",null,null,null,null,null,null,null,{"$f":"+IF(AT169=\"\",\"\",MAX(AO$1:AO168)+1)","v":""},{"$f":"IF(Deviation_Limits!B191=\"\",\"\",Deviation_Limits!B191)","v":""},{"$f":"IF(Deviation_Limits!C191=\"\",\"\",Deviation_Limits!C191)","v":""},{"$f":"IF(Deviation_Limits!D191=\"\",\"\",Deviation_Limits!D191)","v":""},"",{"$f":"IF(COUNTIF(AQ$2:AQ169,AQ169)=1,AQ169,\"\")","v":""},"","","",null,{"$f":"+IF(BD169=\"\",\"\",MAX(AY$1:AY168)+1)","v":""},{"$f":"IF(Deviation_CEM_CPMS!B191=\"\",\"\",Deviation_CEM_CPMS!B191)","v":""},{"$f":"IF(Deviation_CEM_CPMS!C191=\"\",\"\",Deviation_CEM_CPMS!C191)","v":""},{"$f":"IF(Deviation_CEM_CPMS!D191=\"\",\"\",Deviation_CEM_CPMS!D191)","v":""},"",{"$f":"IF(COUNTIF(BA$2:BA169,BA169)=1,BA169,\"\")","v":""},"","",""]
[{"$f":"IF(B170=\"\",\"\",MAX(A$1:A169)+1)","v":""},{"$f":"+IF(CPMS_Identification!C192=\"\",\"\",CPMS_Identification!C192)","v":""},"",null,{"$f":"IF(F170=\"\",\"\",MAX(E$1:E169)+1)","v":""},{"$f":"IF(Landfill_Gas_ID!C192=\"\",\"\",Landfill_Gas_ID!C192)","v":""},"",null,{"$f":"IF(J170=\"\",\"\",MAX(I$1:I169)+1)","v":""},{"$f":"IF(Distillate_Oil!C192=\"\",\"\",Distillate_Oil!C192)","v":""},"",null,null,null,null,null,null,null,null,null,null,null,null,null,null,null,{"$f":"+IF(AE170=\"\",\"\",MAX(AA$1:AA169)+1)","v":""},{"$f":"IF(Deviation_Limits!B192=\"\",\"\",Deviation_Limits!B192)","v":""},{"$f":"IF(Deviation_Limits!C192=\"\",\"\",Deviation_Limits!C192)","v":""},"",{"$f":"IF(COUNTIF(AC$2:AC170,AC170)=1,AC170,\"\")","v":""},"","",null,null,null,null,null,null,null,{"$f":"+IF(AT170=\"\",\"\",MAX(AO$1:AO169)+1)","v":""},{"$f":"IF(Deviation_Limits!B192=\"\",\"\",Deviation_Limits!B192)","v":""},{"$f":"IF(Deviation_Limits!C192=\"\",\"\",Deviation_Limits!C192)","v":""},{"$f":"IF(Deviation_Limits!D192=\"\",\"\",Deviation_Limits!D192)","v":""},"",{"$f":"IF(COUNTIF(AQ$2:AQ170,AQ170)=1,AQ170,\"\")","v":""},"","","",null,{"$f":"+IF(BD170=\"\",\"\",MAX(AY$1:AY169)+1)","v":""},{"$f":"IF(Deviation_CEM_CPMS!B192=\"\",\"\",Deviation_CEM_CPMS!B192)","v":""},{"$f":"IF(Deviation_CEM_CPMS!C192=\"\",\"\",Deviation_CEM_CPMS!C192)","v":""},{"$f":"IF(Deviation_CEM_CPMS!D192=\"\",\"\",Deviation_CEM_CPMS!D192)","v":""},"",{"$f":"IF(COUNTIF(BA$2:BA170,BA170)=1,BA170,\"\")","v":""},"","",""]
[{"$f":"IF(B171=\"\",\"\",MAX(A$1:A170)+1)","v":""},{"$f":"+IF(CPMS_Identification!C193=\"\",\"\",CPMS_Identification!C193)","v":""},"",null,{"$f":"IF(F171=\"\",\"\",MAX(E$1:E170)+1)","v":""},{"$f":"IF(Landfill_Gas_ID!C193=\"\",\"\",Landfill_Gas_ID!C193)","v":""},"",null,{"$f":"IF(J171=\"\",\"\",MAX(I$1:I170)+1)","v":""},{"$f":"IF(Distillate_Oil!C193=\"\",\"\",Distillate_Oil!C193)","v":""},"",null,null,null,null,null,null,null,null,null,null,null,null,null,null,null,{"$f":"+IF(AE171=\"\",\"\",MAX(AA$1:AA170)+1)","v":""},{"$f":"IF(Deviation_Limits!B193=\"\",\"\",Deviation_Limits!B193)","v":""},{"$f":"IF(Deviation_Limits!C193=\"\",\"\",Deviation_Limits!C193)","v":""},"",{"$f":"IF(COUNTIF(AC$2:AC171,AC171)=1,AC171,\"\")","v":""},"","",null,null,null,null,null,null,null,{"$f":"+IF(AT171=\"\",\"\",MAX(AO$1:AO170)+1)","v":""},{"$f":"IF(Deviation_Limits!B193=\"\",\"\",Deviation_Limits!B193)","v":""},{"$f":"IF(Deviation_Limits!C193=\"\",\"\",Deviation_Limits!C193)","v":""},{"$f":"IF(Deviation_Limits!D193=\"\",\"\",Deviation_Limits!D193)","v":""},"",{"$f":"IF(COUNTIF(AQ$2:AQ171,AQ171)=1,AQ171,\"\")","v":""},"","","",null,{"$f":"+IF(BD171=\"\",\"\",MAX(AY$1:AY170)+1)","v":""},{"$f":"IF(Deviation_CEM_CPMS!B193=\"\",\"\",Deviation_CEM_CPMS!B193)","v":""},{"$f":"IF(Deviation_CEM_CPMS!C193=\"\",\"\",Deviation_CEM_CPMS!C193)","v":""},{"$f":"IF(Deviation_CEM_CPMS!D193=\"\",\"\",Deviation_CEM_CPMS!D193)","v":""},"",{"$f":"IF(COUNTIF(BA$2:BA171,BA171)=1,BA171,\"\")","v":""},"","",""]
[{"$f":"IF(B172=\"\",\"\",MAX(A$1:A171)+1)","v":""},{"$f":"+IF(CPMS_Identification!C194=\"\",\"\",CPMS_Identification!C194)","v":""},"",null,{"$f":"IF(F172=\"\",\"\",MAX(E$1:E171)+1)","v":""},{"$f":"IF(Landfill_Gas_ID!C194=\"\",\"\",Landfill_Gas_ID!C194)","v":""},"",null,{"$f":"IF(J172=\"\",\"\",MAX(I$1:I171)+1)","v":""},{"$f":"IF(Distillate_Oil!C194=\"\",\"\",Distillate_Oil!C194)","v":""},"",null,null,null,null,null,null,null,null,null,null,null,null,null,null,null,{"$f":"+IF(AE172=\"\",\"\",MAX(AA$1:AA171)+1)","v":""},{"$f":"IF(Deviation_Limits!B194=\"\",\"\",Deviation_Limits!B194)","v":""},{"$f":"IF(Deviation_Limits!C194=\"\",\"\",Deviation_Limits!C194)","v":""},"",{"$f":"IF(COUNTIF(AC$2:AC172,AC172)=1,AC172,\"\")","v":""},"","",null,null,null,null,null,null,null,{"$f":"+IF(AT172=\"\",\"\",MAX(AO$1:AO171)+1)","v":""},{"$f":"IF(Deviation_Limits!B194=\"\",\"\",Deviation_Limits!B194)","v":""},{"$f":"IF(Deviation_Limits!C194=\"\",\"\",Deviation_Limits!C194)","v":""},{"$f":"IF(Deviation_Limits!D194=\"\",\"\",Deviation_Limits!D194)","v":""},"",{"$f":"IF(COUNTIF(AQ$2:AQ172,AQ172)=1,AQ172,\"\")","v":""},"","","",null,{"$f":"+IF(BD172=\"\",\"\",MAX(AY$1:AY171)+1)","v":""},{"$f":"IF(Deviation_CEM_CPMS!B194=\"\",\"\",Deviation_CEM_CPMS!B194)","v":""},{"$f":"IF(Deviation_CEM_CPMS!C194=\"\",\"\",Deviation_CEM_CPMS!C194)","v":""},{"$f":"IF(Deviation_CEM_CPMS!D194=\"\",\"\",Deviation_CEM_CPMS!D194)","v":""},"",{"$f":"IF(COUNTIF(BA$2:BA172,BA172)=1,BA172,\"\")","v":""},"","",""]
[{"$f":"IF(B173=\"\",\"\",MAX(A$1:A172)+1)","v":""},{"$f":"+IF(CPMS_Identification!C195=\"\",\"\",CPMS_Identification!C195)","v":""},"",null,{"$f":"IF(F173=\"\",\"\",MAX(E$1:E172)+1)","v":""},{"$f":"IF(Landfill_Gas_ID!C195=\"\",\"\",Landfill_Gas_ID!C195)","v":""},"",null,{"$f":"IF(J173=\"\",\"\",MAX(I$1:I172)+1)","v":""},{"$f":"IF(Distillate_Oil!C195=\"\",\"\",Distillate_Oil!C195)","v":""},"",null,null,null,null,null,null,null,null,null,null,null,null,null,null,null,{"$f":"+IF(AE173=\"\",\"\",MAX(AA$1:AA172)+1)","v":""},{"$f":"IF(Deviation_Limits!B195=\"\",\"\",Deviation_Limits!B195)","v":""},{"$f":"IF(Deviation_Limits!C195=\"\",\"\",Deviation_Limits!C195)","v":""},"",{"$f":"IF(COUNTIF(AC$2:AC173,AC173)=1,AC173,\"\")","v":""},"","",null,null,null,null,null,null,null,{"$f":"+IF(AT173=\"\",\"\",MAX(AO$1:AO172)+1)","v":""},{"$f":"IF(Deviation_Limits!B195=\"\",\"\",Deviation_Limits!B195)","v":""},{"$f":"IF(Deviation_Limits!C195=\"\",\"\",Deviation_Limits!C195)","v":""},{"$f":"IF(Deviation_Limits!D195=\"\",\"\",Deviation_Limits!D195)","v":""},"",{"$f":"IF(COUNTIF(AQ$2:AQ173,AQ173)=1,AQ173,\"\")","v":""},"","","",null,{"$f":"+IF(BD173=\"\",\"\",MAX(AY$1:AY172)+1)","v":""},{"$f":"IF(Deviation_CEM_CPMS!B195=\"\",\"\",Deviation_CEM_CPMS!B195)","v":""},{"$f":"IF(Deviation_CEM_CPMS!C195=\"\",\"\",Deviation_CEM_CPMS!C195)","v":""},{"$f":"IF(Deviation_CEM_CPMS!D195=\"\",\"\",Deviation_CEM_CPMS!D195)","v":""},"",{"$f":"IF(COUNTIF(BA$2:BA173,BA173)=1,BA173,\"\")","v":""},"","",""]
[{"$f":"IF(B174=\"\",\"\",MAX(A$1:A173)+1)","v":""},{"$f":"+IF(CPMS_Identification!C196=\"\",\"\",CPMS_Identification!C196)","v":""},"",null,{"$f":"IF(F174=\"\",\"\",MAX(E$1:E173)+1)","v":""},{"$f":"IF(Landfill_Gas_ID!C196=\"\",\"\",Landfill_Gas_ID!C196)","v":""},"",null,{"$f":"IF(J174=\"\",\"\",MAX(I$1:I173)+1)","v":""},{"$f":"IF(Distillate_Oil!C196=\"\",\"\",Distillate_Oil!C196)","v":""},"",null,null,null,null,null,null,null,null,null,null,null,null,null,null,null,{"$f":"+IF(AE174=\"\",\"\",MAX(AA$1:AA173)+1)","v":""},{"$f":"IF(Deviation_Limits!B196=\"\",\"\",Deviation_Limits!B196)","v":""},{"$f":"IF(Deviation_Limits!C196=\"\",\"\",Deviation_Limits!C196)","v":""},"",{"$f":"IF(COUNTIF(AC$2:AC174,AC174)=1,AC174,\"\")","v":""},"","",null,null,null,null,null,null,null,{"$f":"+IF(AT174=\"\",\"\",MAX(AO$1:AO173)+1)","v":""},{"$f":"IF(Deviation_Limits!B196=\"\",\"\",Deviation_Limits!B196)","v":""},{"$f":"IF(Deviation_Limits!C196=\"\",\"\",Deviation_Limits!C196)","v":""},{"$f":"IF(Deviation_Limits!D196=\"\",\"\",Deviation_Limits!D196)","v":""},"",{"$f":"IF(COUNTIF(AQ$2:AQ174,AQ174)=1,AQ174,\"\")","v":""},"","","",null,{"$f":"+IF(BD174=\"\",\"\",MAX(AY$1:AY173)+1)","v":""},{"$f":"IF(Deviation_CEM_CPMS!B196=\"\",\"\",Deviation_CEM_CPMS!B196)","v":""},{"$f":"IF(Deviation_CEM_CPMS!C196=\"\",\"\",Deviation_CEM_CPMS!C196)","v":""},{"$f":"IF(Deviation_CEM_CPMS!D196=\"\",\"\",Deviation_CEM_CPMS!D196)","v":""},"",{"$f":"IF(COUNTIF(BA$2:BA174,BA174)=1,BA174,\"\")","v":""},"","",""]
[{"$f":"IF(B175=\"\",\"\",MAX(A$1:A174)+1)","v":""},{"$f":"+IF(CPMS_Identification!C197=\"\",\"\",CPMS_Identification!C197)","v":""},"",null,{"$f":"IF(F175=\"\",\"\",MAX(E$1:E174)+1)","v":""},{"$f":"IF(Landfill_Gas_ID!C197=\"\",\"\",Landfill_Gas_ID!C197)","v":""},"",null,{"$f":"IF(J175=\"\",\"\",MAX(I$1:I174)+1)","v":""},{"$f":"IF(Distillate_Oil!C197=\"\",\"\",Distillate_Oil!C197)","v":""},"",null,null,null,null,null,null,null,null,null,null,null,null,null,null,null,{"$f":"+IF(AE175=\"\",\"\",MAX(AA$1:AA174)+1)","v":""},{"$f":"IF(Deviation_Limits!B197=\"\",\"\",Deviation_Limits!B197)","v":""},{"$f":"IF(Deviation_Limits!C197=\"\",\"\",Deviation_Limits!C197)","v":""},"",{"$f":"IF(COUNTIF(AC$2:AC175,AC175)=1,AC175,\"\")","v":""},"","",null,null,null,null,null,null,null,{"$f":"+IF(AT175=\"\",\"\",MAX(AO$1:AO174)+1)","v":""},{"$f":"IF(Deviation_Limits!B197=\"\",\"\",Deviation_Limits!B197)","v":""},{"$f":"IF(Deviation_Limits!C197=\"\",\"\",Deviation_Limits!C197)","v":""},{"$f":"IF(Deviation_Limits!D197=\"\",\"\",Deviation_Limits!D197)","v":""},"",{"$f":"IF(COUNTIF(AQ$2:AQ175,AQ175)=1,AQ175,\"\")","v":""},"","","",null,{"$f":"+IF(BD175=\"\",\"\",MAX(AY$1:AY174)+1)","v":""},{"$f":"IF(Deviation_CEM_CPMS!B197=\"\",\"\",Deviation_CEM_CPMS!B197)","v":""},{"$f":"IF(Deviation_CEM_CPMS!C197=\"\",\"\",Deviation_CEM_CPMS!C197)","v":""},{"$f":"IF(Deviation_CEM_CPMS!D197=\"\",\"\",Deviation_CEM_CPMS!D197)","v":""},"",{"$f":"IF(COUNTIF(BA$2:BA175,BA175)=1,BA175,\"\")","v":""},"","",""]
[{"$f":"IF(B176=\"\",\"\",MAX(A$1:A175)+1)","v":""},{"$f":"+IF(CPMS_Identification!C198=\"\",\"\",CPMS_Identification!C198)","v":""},"",null,{"$f":"IF(F176=\"\",\"\",MAX(E$1:E175)+1)","v":""},{"$f":"IF(Landfill_Gas_ID!C198=\"\",\"\",Landfill_Gas_ID!C198)","v":""},"",null,{"$f":"IF(J176=\"\",\"\",MAX(I$1:I175)+1)","v":""},{"$f":"IF(Distillate_Oil!C198=\"\",\"\",Distillate_Oil!C198)","v":""},"",null,null,null,null,null,null,null,null,null,null,null,null,null,null,null,{"$f":"+IF(AE176=\"\",\"\",MAX(AA$1:AA175)+1)","v":""},{"$f":"IF(Deviation_Limits!B198=\"\",\"\",Deviation_Limits!B198)","v":""},{"$f":"IF(Deviation_Limits!C198=\"\",\"\",Deviation_Limits!C198)","v":""},"",{"$f":"IF(COUNTIF(AC$2:AC176,AC176)=1,AC176,\"\")","v":""},"","",null,null,null,null,null,null,null,{"$f":"+IF(AT176=\"\",\"\",MAX(AO$1:AO175)+1)","v":""},{"$f":"IF(Deviation_Limits!B198=\"\",\"\",Deviation_Limits!B198)","v":""},{"$f":"IF(Deviation_Limits!C198=\"\",\"\",Deviation_Limits!C198)","v":""},{"$f":"IF(Deviation_Limits!D198=\"\",\"\",Deviation_Limits!D198)","v":""},"",{"$f":"IF(COUNTIF(AQ$2:AQ176,AQ176)=1,AQ176,\"\")","v":""},"","","",null,{"$f":"+IF(BD176=\"\",\"\",MAX(AY$1:AY175)+1)","v":""},{"$f":"IF(Deviation_CEM_CPMS!B198=\"\",\"\",Deviation_CEM_CPMS!B198)","v":""},{"$f":"IF(Deviation_CEM_CPMS!C198=\"\",\"\",Deviation_CEM_CPMS!C198)","v":""},{"$f":"IF(Deviation_CEM_CPMS!D198=\"\",\"\",Deviation_CEM_CPMS!D198)","v":""},"",{"$f":"IF(COUNTIF(BA$2:BA176,BA176)=1,BA176,\"\")","v":""},"","",""]
[{"$f":"IF(B177=\"\",\"\",MAX(A$1:A176)+1)","v":""},{"$f":"+IF(CPMS_Identification!C199=\"\",\"\",CPMS_Identification!C199)","v":""},"",null,{"$f":"IF(F177=\"\",\"\",MAX(E$1:E176)+1)","v":""},{"$f":"IF(Landfill_Gas_ID!C199=\"\",\"\",Landfill_Gas_ID!C199)","v":""},"",null,{"$f":"IF(J177=\"\",\"\",MAX(I$1:I176)+1)","v":""},{"$f":"IF(Distillate_Oil!C199=\"\",\"\",Distillate_Oil!C199)","v":""},"",null,null,null,null,null,null,null,null,null,null,null,null,null,null,null,{"$f":"+IF(AE177=\"\",\"\",MAX(AA$1:AA176)+1)","v":""},{"$f":"IF(Deviation_Limits!B199=\"\",\"\",Deviation_Limits!B199)","v":""},{"$f":"IF(Deviation_Limits!C199=\"\",\"\",Deviation_Limits!C199)","v":""},"",{"$f":"IF(COUNTIF(AC$2:AC177,AC177)=1,AC177,\"\")","v":""},"","",null,null,null,null,null,null,null,{"$f":"+IF(AT177=\"\",\"\",MAX(AO$1:AO176)+1)","v":""},{"$f":"IF(Deviation_Limits!B199=\"\",\"\",Deviation_Limits!B199)","v":""},{"$f":"IF(Deviation_Limits!C199=\"\",\"\",Deviation_Limits!C199)","v":""},{"$f":"IF(Deviation_Limits!D199=\"\",\"\",Deviation_Limits!D199)","v":""},"",{"$f":"IF(COUNTIF(AQ$2:AQ177,AQ177)=1,AQ177,\"\")","v":""},"","","",null,{"$f":"+IF(BD177=\"\",\"\",MAX(AY$1:AY176)+1)","v":""},{"$f":"IF(Deviation_CEM_CPMS!B199=\"\",\"\",Deviation_CEM_CPMS!B199)","v":""},{"$f":"IF(Deviation_CEM_CPMS!C199=\"\",\"\",Deviation_CEM_CPMS!C199)","v":""},{"$f":"IF(Deviation_CEM_CPMS!D199=\"\",\"\",Deviation_CEM_CPMS!D199)","v":""},"",{"$f":"IF(COUNTIF(BA$2:BA177,BA177)=1,BA177,\"\")","v":""},"","",""]
[{"$f":"IF(B178=\"\",\"\",MAX(A$1:A177)+1)","v":""},{"$f":"+IF(CPMS_Identification!C200=\"\",\"\",CPMS_Identification!C200)","v":""},"",null,{"$f":"IF(F178=\"\",\"\",MAX(E$1:E177)+1)","v":""},{"$f":"IF(Landfill_Gas_ID!C200=\"\",\"\",Landfill_Gas_ID!C200)","v":""},"",null,{"$f":"IF(J178=\"\",\"\",MAX(I$1:I177)+1)","v":""},{"$f":"IF(Distillate_Oil!C200=\"\",\"\",Distillate_Oil!C200)","v":""},"",null,null,null,null,null,null,null,null,null,null,null,null,null,null,null,{"$f":"+IF(AE178=\"\",\"\",MAX(AA$1:AA177)+1)","v":""},{"$f":"IF(Deviation_Limits!B200=\"\",\"\",Deviation_Limits!B200)","v":""},{"$f":"IF(Deviation_Limits!C200=\"\",\"\",Deviation_Limits!C200)","v":""},"",{"$f":"IF(COUNTIF(AC$2:AC178,AC178)=1,AC178,\"\")","v":""},"","",null,null,null,null,null,null,null,{"$f":"+IF(AT178=\"\",\"\",MAX(AO$1:AO177)+1)","v":""},{"$f":"IF(Deviation_Limits!B200=\"\",\"\",Deviation_Limits!B200)","v":""},{"$f":"IF(Deviation_Limits!C200=\"\",\"\",Deviation_Limits!C200)","v":""},{"$f":"IF(Deviation_Limits!D200=\"\",\"\",Deviation_Limits!D200)","v":""},"",{"$f":"IF(COUNTIF(AQ$2:AQ178,AQ178)=1,AQ178,\"\")","v":""},"","","",null,{"$f":"+IF(BD178=\"\",\"\",MAX(AY$1:AY177)+1)","v":""},{"$f":"IF(Deviation_CEM_CPMS!B200=\"\",\"\",Deviation_CEM_CPMS!B200)","v":""},{"$f":"IF(Deviation_CEM_CPMS!C200=\"\",\"\",Deviation_CEM_CPMS!C200)","v":""},{"$f":"IF(Deviation_CEM_CPMS!D200=\"\",\"\",Deviation_CEM_CPMS!D200)","v":""},"",{"$f":"IF(COUNTIF(BA$2:BA178,BA178)=1,BA178,\"\")","v":""},"","",""]
[{"$f":"IF(B179=\"\",\"\",MAX(A$1:A178)+1)","v":""},{"$f":"+IF(CPMS_Identification!C201=\"\",\"\",CPMS_Identification!C201)","v":""},"",null,{"$f":"IF(F179=\"\",\"\",MAX(E$1:E178)+1)","v":""},{"$f":"IF(Landfill_Gas_ID!C201=\"\",\"\",Landfill_Gas_ID!C201)","v":""},"",null,{"$f":"IF(J179=\"\",\"\",MAX(I$1:I178)+1)","v":""},{"$f":"IF(Distillate_Oil!C201=\"\",\"\",Distillate_Oil!C201)","v":""},"",null,null,null,null,null,null,null,null,null,null,null,null,null,null,null,{"$f":"+IF(AE179=\"\",\"\",MAX(AA$1:AA178)+1)","v":""},{"$f":"IF(Deviation_Limits!B201=\"\",\"\",Deviation_Limits!B201)","v":""},{"$f":"IF(Deviation_Limits!C201=\"\",\"\",Deviation_Limits!C201)","v":""},"",{"$f":"IF(COUNTIF(AC$2:AC179,AC179)=1,AC179,\"\")","v":""},"","",null,null,null,null,null,null,null,{"$f":"+IF(AT179=\"\",\"\",MAX(AO$1:AO178)+1)","v":""},{"$f":"IF(Deviation_Limits!B201=\"\",\"\",Deviation_Limits!B201)","v":""},{"$f":"IF(Deviation_Limits!C201=\"\",\"\",Deviation_Limits!C201)","v":""},{"$f":"IF(Deviation_Limits!D201=\"\",\"\",Deviation_Limits!D201)","v":""},"",{"$f":"IF(COUNTIF(AQ$2:AQ179,AQ179)=1,AQ179,\"\")","v":""},"","","",null,{"$f":"+IF(BD179=\"\",\"\",MAX(AY$1:AY178)+1)","v":""},{"$f":"IF(Deviation_CEM_CPMS!B201=\"\",\"\",Deviation_CEM_CPMS!B201)","v":""},{"$f":"IF(Deviation_CEM_CPMS!C201=\"\",\"\",Deviation_CEM_CPMS!C201)","v":""},{"$f":"IF(Deviation_CEM_CPMS!D201=\"\",\"\",Deviation_CEM_CPMS!D201)","v":""},"",{"$f":"IF(COUNTIF(BA$2:BA179,BA179)=1,BA179,\"\")","v":""},"","",""]
[{"$f":"IF(B180=\"\",\"\",MAX(A$1:A179)+1)","v":""},{"$f":"+IF(CPMS_Identification!C202=\"\",\"\",CPMS_Identification!C202)","v":""},"",null,{"$f":"IF(F180=\"\",\"\",MAX(E$1:E179)+1)","v":""},{"$f":"IF(Landfill_Gas_ID!C202=\"\",\"\",Landfill_Gas_ID!C202)","v":""},"",null,{"$f":"IF(J180=\"\",\"\",MAX(I$1:I179)+1)","v":""},{"$f":"IF(Distillate_Oil!C202=\"\",\"\",Distillate_Oil!C202)","v":""},"",null,null,null,null,null,null,null,null,null,null,null,null,null,null,null,{"$f":"+IF(AE180=\"\",\"\",MAX(AA$1:AA179)+1)","v":""},{"$f":"IF(Deviation_Limits!B202=\"\",\"\",Deviation_Limits!B202)","v":""},{"$f":"IF(Deviation_Limits!C202=\"\",\"\",Deviation_Limits!C202)","v":""},"",{"$f":"IF(COUNTIF(AC$2:AC180,AC180)=1,AC180,\"\")","v":""},"","",null,null,null,null,null,null,null,{"$f":"+IF(AT180=\"\",\"\",MAX(AO$1:AO179)+1)","v":""},{"$f":"IF(Deviation_Limits!B202=\"\",\"\",Deviation_Limits!B202)","v":""},{"$f":"IF(Deviation_Limits!C202=\"\",\"\",Deviation_Limits!C202)","v":""},{"$f":"IF(Deviation_Limits!D202=\"\",\"\",Deviation_Limits!D202)","v":""},"",{"$f":"IF(COUNTIF(AQ$2:AQ180,AQ180)=1,AQ180,\"\")","v":""},"","","",null,{"$f":"+IF(BD180=\"\",\"\",MAX(AY$1:AY179)+1)","v":""},{"$f":"IF(Deviation_CEM_CPMS!B202=\"\",\"\",Deviation_CEM_CPMS!B202)","v":""},{"$f":"IF(Deviation_CEM_CPMS!C202=\"\",\"\",Deviation_CEM_CPMS!C202)","v":""},{"$f":"IF(Deviation_CEM_CPMS!D202=\"\",\"\",Deviation_CEM_CPMS!D202)","v":""},"",{"$f":"IF(COUNTIF(BA$2:BA180,BA180)=1,BA180,\"\")","v":""},"","",""]
[{"$f":"IF(B181=\"\",\"\",MAX(A$1:A180)+1)","v":""},{"$f":"+IF(CPMS_Identification!C203=\"\",\"\",CPMS_Identification!C203)","v":""},"",null,{"$f":"IF(F181=\"\",\"\",MAX(E$1:E180)+1)","v":""},{"$f":"IF(Landfill_Gas_ID!C203=\"\",\"\",Landfill_Gas_ID!C203)","v":""},"",null,{"$f":"IF(J181=\"\",\"\",MAX(I$1:I180)+1)","v":""},{"$f":"IF(Distillate_Oil!C203=\"\",\"\",Distillate_Oil!C203)","v":""},"",null,null,null,null,null,null,null,null,null,null,null,null,null,null,null,{"$f":"+IF(AE181=\"\",\"\",MAX(AA$1:AA180)+1)","v":""},{"$f":"IF(Deviation_Limits!B203=\"\",\"\",Deviation_Limits!B203)","v":""},{"$f":"IF(Deviation_Limits!C203=\"\",\"\",Deviation_Limits!C203)","v":""},"",{"$f":"IF(COUNTIF(AC$2:AC181,AC181)=1,AC181,\"\")","v":""},"","",null,null,null,null,null,null,null,{"$f":"+IF(AT181=\"\",\"\",MAX(AO$1:AO180)+1)","v":""},{"$f":"IF(Deviation_Limits!B203=\"\",\"\",Deviation_Limits!B203)","v":""},{"$f":"IF(Deviation_Limits!C203=\"\",\"\",Deviation_Limits!C203)","v":""},{"$f":"IF(Deviation_Limits!D203=\"\",\"\",Deviation_Limits!D203)","v":""},"",{"$f":"IF(COUNTIF(AQ$2:AQ181,AQ181)=1,AQ181,\"\")","v":""},"","","",null,{"$f":"+IF(BD181=\"\",\"\",MAX(AY$1:AY180)+1)","v":""},{"$f":"IF(Deviation_CEM_CPMS!B203=\"\",\"\",Deviation_CEM_CPMS!B203)","v":""},{"$f":"IF(Deviation_CEM_CPMS!C203=\"\",\"\",Deviation_CEM_CPMS!C203)","v":""},{"$f":"IF(Deviation_CEM_CPMS!D203=\"\",\"\",Deviation_CEM_CPMS!D203)","v":""},"",{"$f":"IF(COUNTIF(BA$2:BA181,BA181)=1,BA181,\"\")","v":""},"","",""]
[{"$f":"IF(B182=\"\",\"\",MAX(A$1:A181)+1)","v":""},{"$f":"+IF(CPMS_Identification!C204=\"\",\"\",CPMS_Identification!C204)","v":""},"",null,{"$f":"IF(F182=\"\",\"\",MAX(E$1:E181)+1)","v":""},{"$f":"IF(Landfill_Gas_ID!C204=\"\",\"\",Landfill_Gas_ID!C204)","v":""},"",null,{"$f":"IF(J182=\"\",\"\",MAX(I$1:I181)+1)","v":""},{"$f":"IF(Distillate_Oil!C204=\"\",\"\",Distillate_Oil!C204)","v":""},"",null,null,null,null,null,null,null,null,null,null,null,null,null,null,null,{"$f":"+IF(AE182=\"\",\"\",MAX(AA$1:AA181)+1)","v":""},{"$f":"IF(Deviation_Limits!B204=\"\",\"\",Deviation_Limits!B204)","v":""},{"$f":"IF(Deviation_Limits!C204=\"\",\"\",Deviation_Limits!C204)","v":""},"",{"$f":"IF(COUNTIF(AC$2:AC182,AC182)=1,AC182,\"\")","v":""},"","",null,null,null,null,null,null,null,{"$f":"+IF(AT182=\"\",\"\",MAX(AO$1:AO181)+1)","v":""},{"$f":"IF(Deviation_Limits!B204=\"\",\"\",Deviation_Limits!B204)","v":""},{"$f":"IF(Deviation_Limits!C204=\"\",\"\",Deviation_Limits!C204)","v":""},{"$f":"IF(Deviation_Limits!D204=\"\",\"\",Deviation_Limits!D204)","v":""},"",{"$f":"IF(COUNTIF(AQ$2:AQ182,AQ182)=1,AQ182,\"\")","v":""},"","","",null,{"$f":"+IF(BD182=\"\",\"\",MAX(AY$1:AY181)+1)","v":""},{"$f":"IF(Deviation_CEM_CPMS!B204=\"\",\"\",Deviation_CEM_CPMS!B204)","v":""},{"$f":"IF(Deviation_CEM_CPMS!C204=\"\",\"\",Deviation_CEM_CPMS!C204)","v":""},{"$f":"IF(Deviation_CEM_CPMS!D204=\"\",\"\",Deviation_CEM_CPMS!D204)","v":""},"",{"$f":"IF(COUNTIF(BA$2:BA182,BA182)=1,BA182,\"\")","v":""},"","",""]
[{"$f":"IF(B183=\"\",\"\",MAX(A$1:A182)+1)","v":""},{"$f":"+IF(CPMS_Identification!C205=\"\",\"\",CPMS_Identification!C205)","v":""},"",null,{"$f":"IF(F183=\"\",\"\",MAX(E$1:E182)+1)","v":""},{"$f":"IF(Landfill_Gas_ID!C205=\"\",\"\",Landfill_Gas_ID!C205)","v":""},"",null,{"$f":"IF(J183=\"\",\"\",MAX(I$1:I182)+1)","v":""},{"$f":"IF(Distillate_Oil!C205=\"\",\"\",Distillate_Oil!C205)","v":""},"",null,null,null,null,null,null,null,null,null,null,null,null,null,null,null,{"$f":"+IF(AE183=\"\",\"\",MAX(AA$1:AA182)+1)","v":""},{"$f":"IF(Deviation_Limits!B205=\"\",\"\",Deviation_Limits!B205)","v":""},{"$f":"IF(Deviation_Limits!C205=\"\",\"\",Deviation_Limits!C205)","v":""},"",{"$f":"IF(COUNTIF(AC$2:AC183,AC183)=1,AC183,\"\")","v":""},"","",null,null,null,null,null,null,null,{"$f":"+IF(AT183=\"\",\"\",MAX(AO$1:AO182)+1)","v":""},{"$f":"IF(Deviation_Limits!B205=\"\",\"\",Deviation_Limits!B205)","v":""},{"$f":"IF(Deviation_Limits!C205=\"\",\"\",Deviation_Limits!C205)","v":""},{"$f":"IF(Deviation_Limits!D205=\"\",\"\",Deviation_Limits!D205)","v":""},"",{"$f":"IF(COUNTIF(AQ$2:AQ183,AQ183)=1,AQ183,\"\")","v":""},"","","",null,{"$f":"+IF(BD183=\"\",\"\",MAX(AY$1:AY182)+1)","v":""},{"$f":"IF(Deviation_CEM_CPMS!B205=\"\",\"\",Deviation_CEM_CPMS!B205)","v":""},{"$f":"IF(Deviation_CEM_CPMS!C205=\"\",\"\",Deviation_CEM_CPMS!C205)","v":""},{"$f":"IF(Deviation_CEM_CPMS!D205=\"\",\"\",Deviation_CEM_CPMS!D205)","v":""},"",{"$f":"IF(COUNTIF(BA$2:BA183,BA183)=1,BA183,\"\")","v":""},"","",""]
[{"$f":"IF(B184=\"\",\"\",MAX(A$1:A183)+1)","v":""},{"$f":"+IF(CPMS_Identification!C206=\"\",\"\",CPMS_Identification!C206)","v":""},"",null,{"$f":"IF(F184=\"\",\"\",MAX(E$1:E183)+1)","v":""},{"$f":"IF(Landfill_Gas_ID!C206=\"\",\"\",Landfill_Gas_ID!C206)","v":""},"",null,{"$f":"IF(J184=\"\",\"\",MAX(I$1:I183)+1)","v":""},{"$f":"IF(Distillate_Oil!C206=\"\",\"\",Distillate_Oil!C206)","v":""},"",null,null,null,null,null,null,null,null,null,null,null,null,null,null,null,{"$f":"+IF(AE184=\"\",\"\",MAX(AA$1:AA183)+1)","v":""},{"$f":"IF(Deviation_Limits!B206=\"\",\"\",Deviation_Limits!B206)","v":""},{"$f":"IF(Deviation_Limits!C206=\"\",\"\",Deviation_Limits!C206)","v":""},"",{"$f":"IF(COUNTIF(AC$2:AC184,AC184)=1,AC184,\"\")","v":""},"","",null,null,null,null,null,null,null,{"$f":"+IF(AT184=\"\",\"\",MAX(AO$1:AO183)+1)","v":""},{"$f":"IF(Deviation_Limits!B206=\"\",\"\",Deviation_Limits!B206)","v":""},{"$f":"IF(Deviation_Limits!C206=\"\",\"\",Deviation_Limits!C206)","v":""},{"$f":"IF(Deviation_Limits!D206=\"\",\"\",Deviation_Limits!D206)","v":""},"",{"$f":"IF(COUNTIF(AQ$2:AQ184,AQ184)=1,AQ184,\"\")","v":""},"","","",null,{"$f":"+IF(BD184=\"\",\"\",MAX(AY$1:AY183)+1)","v":""},{"$f":"IF(Deviation_CEM_CPMS!B206=\"\",\"\",Deviation_CEM_CPMS!B206)","v":""},{"$f":"IF(Deviation_CEM_CPMS!C206=\"\",\"\",Deviation_CEM_CPMS!C206)","v":""},{"$f":"IF(Deviation_CEM_CPMS!D206=\"\",\"\",Deviation_CEM_CPMS!D206)","v":""},"",{"$f":"IF(COUNTIF(BA$2:BA184,BA184)=1,BA184,\"\")","v":""},"","",""]
[{"$f":"IF(B185=\"\",\"\",MAX(A$1:A184)+1)","v":""},{"$f":"+IF(CPMS_Identification!C207=\"\",\"\",CPMS_Identification!C207)","v":""},"",null,{"$f":"IF(F185=\"\",\"\",MAX(E$1:E184)+1)","v":""},{"$f":"IF(Landfill_Gas_ID!C207=\"\",\"\",Landfill_Gas_ID!C207)","v":""},"",null,{"$f":"IF(J185=\"\",\"\",MAX(I$1:I184)+1)","v":""},{"$f":"IF(Distillate_Oil!C207=\"\",\"\",Distillate_Oil!C207)","v":""},"",null,null,null,null,null,null,null,null,null,null,null,null,null,null,null,{"$f":"+IF(AE185=\"\",\"\",MAX(AA$1:AA184)+1)","v":""},{"$f":"IF(Deviation_Limits!B207=\"\",\"\",Deviation_Limits!B207)","v":""},{"$f":"IF(Deviation_Limits!C207=\"\",\"\",Deviation_Limits!C207)","v":""},"",{"$f":"IF(COUNTIF(AC$2:AC185,AC185)=1,AC185,\"\")","v":""},"","",null,null,null,null,null,null,null,{"$f":"+IF(AT185=\"\",\"\",MAX(AO$1:AO184)+1)","v":""},{"$f":"IF(Deviation_Limits!B207=\"\",\"\",Deviation_Limits!B207)","v":""},{"$f":"IF(Deviation_Limits!C207=\"\",\"\",Deviation_Limits!C207)","v":""},{"$f":"IF(Deviation_Limits!D207=\"\",\"\",Deviation_Limits!D207)","v":""},"",{"$f":"IF(COUNTIF(AQ$2:AQ185,AQ185)=1,AQ185,\"\")","v":""},"","","",null,{"$f":"+IF(BD185=\"\",\"\",MAX(AY$1:AY184)+1)","v":""},{"$f":"IF(Deviation_CEM_CPMS!B207=\"\",\"\",Deviation_CEM_CPMS!B207)","v":""},{"$f":"IF(Deviation_CEM_CPMS!C207=\"\",\"\",Deviation_CEM_CPMS!C207)","v":""},{"$f":"IF(Deviation_CEM_CPMS!D207=\"\",\"\",Deviation_CEM_CPMS!D207)","v":""},"",{"$f":"IF(COUNTIF(BA$2:BA185,BA185)=1,BA185,\"\")","v":""},"","",""]
[{"$f":"IF(B186=\"\",\"\",MAX(A$1:A185)+1)","v":""},{"$f":"+IF(CPMS_Identification!C208=\"\",\"\",CPMS_Identification!C208)","v":""},"",null,{"$f":"IF(F186=\"\",\"\",MAX(E$1:E185)+1)","v":""},{"$f":"IF(Landfill_Gas_ID!C208=\"\",\"\",Landfill_Gas_ID!C208)","v":""},"",null,{"$f":"IF(J186=\"\",\"\",MAX(I$1:I185)+1)","v":""},{"$f":"IF(Distillate_Oil!C208=\"\",\"\",Distillate_Oil!C208)","v":""},"",null,null,null,null,null,null,null,null,null,null,null,null,null,null,null,{"$f":"+IF(AE186=\"\",\"\",MAX(AA$1:AA185)+1)","v":""},{"$f":"IF(Deviation_Limits!B208=\"\",\"\",Deviation_Limits!B208)","v":""},{"$f":"IF(Deviation_Limits!C208=\"\",\"\",Deviation_Limits!C208)","v":""},"",{"$f":"IF(COUNTIF(AC$2:AC186,AC186)=1,AC186,\"\")","v":""},"","",null,null,null,null,null,null,null,{"$f":"+IF(AT186=\"\",\"\",MAX(AO$1:AO185)+1)","v":""},{"$f":"IF(Deviation_Limits!B208=\"\",\"\",Deviation_Limits!B208)","v":""},{"$f":"IF(Deviation_Limits!C208=\"\",\"\",Deviation_Limits!C208)","v":""},{"$f":"IF(Deviation_Limits!D208=\"\",\"\",Deviation_Limits!D208)","v":""},"",{"$f":"IF(COUNTIF(AQ$2:AQ186,AQ186)=1,AQ186,\"\")","v":""},"","","",null,{"$f":"+IF(BD186=\"\",\"\",MAX(AY$1:AY185)+1)","v":""},{"$f":"IF(Deviation_CEM_CPMS!B208=\"\",\"\",Deviation_CEM_CPMS!B208)","v":""},{"$f":"IF(Deviation_CEM_CPMS!C208=\"\",\"\",Deviation_CEM_CPMS!C208)","v":""},{"$f":"IF(Deviation_CEM_CPMS!D208=\"\",\"\",Deviation_CEM_CPMS!D208)","v":""},"",{"$f":"IF(COUNTIF(BA$2:BA186,BA186)=1,BA186,\"\")","v":""},"","",""]
[{"$f":"IF(B187=\"\",\"\",MAX(A$1:A186)+1)","v":""},{"$f":"+IF(CPMS_Identification!C209=\"\",\"\",CPMS_Identification!C209)","v":""},"",null,{"$f":"IF(F187=\"\",\"\",MAX(E$1:E186)+1)","v":""},{"$f":"IF(Landfill_Gas_ID!C209=\"\",\"\",Landfill_Gas_ID!C209)","v":""},"",null,{"$f":"IF(J187=\"\",\"\",MAX(I$1:I186)+1)","v":""},{"$f":"IF(Distillate_Oil!C209=\"\",\"\",Distillate_Oil!C209)","v":""},"",null,null,null,null,null,null,null,null,null,null,null,null,null,null,null,{"$f":"+IF(AE187=\"\",\"\",MAX(AA$1:AA186)+1)","v":""},{"$f":"IF(Deviation_Limits!B209=\"\",\"\",Deviation_Limits!B209)","v":""},{"$f":"IF(Deviation_Limits!C209=\"\",\"\",Deviation_Limits!C209)","v":""},"",{"$f":"IF(COUNTIF(AC$2:AC187,AC187)=1,AC187,\"\")","v":""},"","",null,null,null,null,null,null,null,{"$f":"+IF(AT187=\"\",\"\",MAX(AO$1:AO186)+1)","v":""},{"$f":"IF(Deviation_Limits!B209=\"\",\"\",Deviation_Limits!B209)","v":""},{"$f":"IF(Deviation_Limits!C209=\"\",\"\",Deviation_Limits!C209)","v":""},{"$f":"IF(Deviation_Limits!D209=\"\",\"\",Deviation_Limits!D209)","v":""},"",{"$f":"IF(COUNTIF(AQ$2:AQ187,AQ187)=1,AQ187,\"\")","v":""},"","","",null,{"$f":"+IF(BD187=\"\",\"\",MAX(AY$1:AY186)+1)","v":""},{"$f":"IF(Deviation_CEM_CPMS!B209=\"\",\"\",Deviation_CEM_CPMS!B209)","v":""},{"$f":"IF(Deviation_CEM_CPMS!C209=\"\",\"\",Deviation_CEM_CPMS!C209)","v":""},{"$f":"IF(Deviation_CEM_CPMS!D209=\"\",\"\",Deviation_CEM_CPMS!D209)","v":""},"",{"$f":"IF(COUNTIF(BA$2:BA187,BA187)=1,BA187,\"\")","v":""},"","",""]
[{"$f":"IF(B188=\"\",\"\",MAX(A$1:A187)+1)","v":""},{"$f":"+IF(CPMS_Identification!C210=\"\",\"\",CPMS_Identification!C210)","v":""},"",null,{"$f":"IF(F188=\"\",\"\",MAX(E$1:E187)+1)","v":""},{"$f":"IF(Landfill_Gas_ID!C210=\"\",\"\",Landfill_Gas_ID!C210)","v":""},"",null,{"$f":"IF(J188=\"\",\"\",MAX(I$1:I187)+1)","v":""},{"$f":"IF(Distillate_Oil!C210=\"\",\"\",Distillate_Oil!C210)","v":""},"",null,null,null,null,null,null,null,null,null,null,null,null,null,null,null,{"$f":"+IF(AE188=\"\",\"\",MAX(AA$1:AA187)+1)","v":""},{"$f":"IF(Deviation_Limits!B210=\"\",\"\",Deviation_Limits!B210)","v":""},{"$f":"IF(Deviation_Limits!C210=\"\",\"\",Deviation_Limits!C210)","v":""},"",{"$f":"IF(COUNTIF(AC$2:AC188,AC188)=1,AC188,\"\")","v":""},"","",null,null,null,null,null,null,null,{"$f":"+IF(AT188=\"\",\"\",MAX(AO$1:AO187)+1)","v":""},{"$f":"IF(Deviation_Limits!B210=\"\",\"\",Deviation_Limits!B210)","v":""},{"$f":"IF(Deviation_Limits!C210=\"\",\"\",Deviation_Limits!C210)","v":""},{"$f":"IF(Deviation_Limits!D210=\"\",\"\",Deviation_Limits!D210)","v":""},"",{"$f":"IF(COUNTIF(AQ$2:AQ188,AQ188)=1,AQ188,\"\")","v":""},"","","",null,{"$f":"+IF(BD188=\"\",\"\",MAX(AY$1:AY187)+1)","v":""},{"$f":"IF(Deviation_CEM_CPMS!B210=\"\",\"\",Deviation_CEM_CPMS!B210)","v":""},{"$f":"IF(Deviation_CEM_CPMS!C210=\"\",\"\",Deviation_CEM_CPMS!C210)","v":""},{"$f":"IF(Deviation_CEM_CPMS!D210=\"\",\"\",Deviation_CEM_CPMS!D210)","v":""},"",{"$f":"IF(COUNTIF(BA$2:BA188,BA188)=1,BA188,\"\")","v":""},"","",""]
[{"$f":"IF(B189=\"\",\"\",MAX(A$1:A188)+1)","v":""},{"$f":"+IF(CPMS_Identification!C211=\"\",\"\",CPMS_Identification!C211)","v":""},"",null,{"$f":"IF(F189=\"\",\"\",MAX(E$1:E188)+1)","v":""},{"$f":"IF(Landfill_Gas_ID!C211=\"\",\"\",Landfill_Gas_ID!C211)","v":""},"",null,{"$f":"IF(J189=\"\",\"\",MAX(I$1:I188)+1)","v":""},{"$f":"IF(Distillate_Oil!C211=\"\",\"\",Distillate_Oil!C211)","v":""},"",null,null,null,null,null,null,null,null,null,null,null,null,null,null,null,{"$f":"+IF(AE189=\"\",\"\",MAX(AA$1:AA188)+1)","v":""},{"$f":"IF(Deviation_Limits!B211=\"\",\"\",Deviation_Limits!B211)","v":""},{"$f":"IF(Deviation_Limits!C211=\"\",\"\",Deviation_Limits!C211)","v":""},"",{"$f":"IF(COUNTIF(AC$2:AC189,AC189)=1,AC189,\"\")","v":""},"","",null,null,null,null,null,null,null,{"$f":"+IF(AT189=\"\",\"\",MAX(AO$1:AO188)+1)","v":""},{"$f":"IF(Deviation_Limits!B211=\"\",\"\",Deviation_Limits!B211)","v":""},{"$f":"IF(Deviation_Limits!C211=\"\",\"\",Deviation_Limits!C211)","v":""},{"$f":"IF(Deviation_Limits!D211=\"\",\"\",Deviation_Limits!D211)","v":""},"",{"$f":"IF(COUNTIF(AQ$2:AQ189,AQ189)=1,AQ189,\"\")","v":""},"","","",null,{"$f":"+IF(BD189=\"\",\"\",MAX(AY$1:AY188)+1)","v":""},{"$f":"IF(Deviation_CEM_CPMS!B211=\"\",\"\",Deviation_CEM_CPMS!B211)","v":""},{"$f":"IF(Deviation_CEM_CPMS!C211=\"\",\"\",Deviation_CEM_CPMS!C211)","v":""},{"$f":"IF(Deviation_CEM_CPMS!D211=\"\",\"\",Deviation_CEM_CPMS!D211)","v":""},"",{"$f":"IF(COUNTIF(BA$2:BA189,BA189)=1,BA189,\"\")","v":""},"","",""]
[{"$f":"IF(B190=\"\",\"\",MAX(A$1:A189)+1)","v":""},{"$f":"+IF(CPMS_Identification!C212=\"\",\"\",CPMS_Identification!C212)","v":""},"",null,{"$f":"IF(F190=\"\",\"\",MAX(E$1:E189)+1)","v":""},{"$f":"IF(Landfill_Gas_ID!C212=\"\",\"\",Landfill_Gas_ID!C212)","v":""},"",null,{"$f":"IF(J190=\"\",\"\",MAX(I$1:I189)+1)","v":""},{"$f":"IF(Distillate_Oil!C212=\"\",\"\",Distillate_Oil!C212)","v":""},"",null,null,null,null,null,null,null,null,null,null,null,null,null,null,null,{"$f":"+IF(AE190=\"\",\"\",MAX(AA$1:AA189)+1)","v":""},{"$f":"IF(Deviation_Limits!B212=\"\",\"\",Deviation_Limits!B212)","v":""},{"$f":"IF(Deviation_Limits!C212=\"\",\"\",Deviation_Limits!C212)","v":""},"",{"$f":"IF(COUNTIF(AC$2:AC190,AC190)=1,AC190,\"\")","v":""},"","",null,null,null,null,null,null,null,{"$f":"+IF(AT190=\"\",\"\",MAX(AO$1:AO189)+1)","v":""},{"$f":"IF(Deviation_Limits!B212=\"\",\"\",Deviation_Limits!B212)","v":""},{"$f":"IF(Deviation_Limits!C212=\"\",\"\",Deviation_Limits!C212)","v":""},{"$f":"IF(Deviation_Limits!D212=\"\",\"\",Deviation_Limits!D212)","v":""},"",{"$f":"IF(COUNTIF(AQ$2:AQ190,AQ190)=1,AQ190,\"\")","v":""},"","","",null,{"$f":"+IF(BD190=\"\",\"\",MAX(AY$1:AY189)+1)","v":""},{"$f":"IF(Deviation_CEM_CPMS!B212=\"\",\"\",Deviation_CEM_CPMS!B212)","v":""},{"$f":"IF(Deviation_CEM_CPMS!C212=\"\",\"\",Deviation_CEM_CPMS!C212)","v":""},{"$f":"IF(Deviation_CEM_CPMS!D212=\"\",\"\",Deviation_CEM_CPMS!D212)","v":""},"",{"$f":"IF(COUNTIF(BA$2:BA190,BA190)=1,BA190,\"\")","v":""},"","",""]
[{"$f":"IF(B191=\"\",\"\",MAX(A$1:A190)+1)","v":""},{"$f":"+IF(CPMS_Identification!C213=\"\",\"\",CPMS_Identification!C213)","v":""},"",null,{"$f":"IF(F191=\"\",\"\",MAX(E$1:E190)+1)","v":""},{"$f":"IF(Landfill_Gas_ID!C213=\"\",\"\",Landfill_Gas_ID!C213)","v":""},"",null,{"$f":"IF(J191=\"\",\"\",MAX(I$1:I190)+1)","v":""},{"$f":"IF(Distillate_Oil!C213=\"\",\"\",Distillate_Oil!C213)","v":""},"",null,null,null,null,null,null,null,null,null,null,null,null,null,null,null,{"$f":"+IF(AE191=\"\",\"\",MAX(AA$1:AA190)+1)","v":""},{"$f":"IF(Deviation_Limits!B213=\"\",\"\",Deviation_Limits!B213)","v":""},{"$f":"IF(Deviation_Limits!C213=\"\",\"\",Deviation_Limits!C213)","v":""},"",{"$f":"IF(COUNTIF(AC$2:AC191,AC191)=1,AC191,\"\")","v":""},"","",null,null,null,null,null,null,null,{"$f":"+IF(AT191=\"\",\"\",MAX(AO$1:AO190)+1)","v":""},{"$f":"IF(Deviation_Limits!B213=\"\",\"\",Deviation_Limits!B213)","v":""},{"$f":"IF(Deviation_Limits!C213=\"\",\"\",Deviation_Limits!C213)","v":""},{"$f":"IF(Deviation_Limits!D213=\"\",\"\",Deviation_Limits!D213)","v":""},"",{"$f":"IF(COUNTIF(AQ$2:AQ191,AQ191)=1,AQ191,\"\")","v":""},"","","",null,{"$f":"+IF(BD191=\"\",\"\",MAX(AY$1:AY190)+1)","v":""},{"$f":"IF(Deviation_CEM_CPMS!B213=\"\",\"\",Deviation_CEM_CPMS!B213)","v":""},{"$f":"IF(Deviation_CEM_CPMS!C213=\"\",\"\",Deviation_CEM_CPMS!C213)","v":""},{"$f":"IF(Deviation_CEM_CPMS!D213=\"\",\"\",Deviation_CEM_CPMS!D213)","v":""},"",{"$f":"IF(COUNTIF(BA$2:BA191,BA191)=1,BA191,\"\")","v":""},"","",""]
[{"$f":"IF(B192=\"\",\"\",MAX(A$1:A191)+1)","v":""},{"$f":"+IF(CPMS_Identification!C214=\"\",\"\",CPMS_Identification!C214)","v":""},"",null,{"$f":"IF(F192=\"\",\"\",MAX(E$1:E191)+1)","v":""},{"$f":"IF(Landfill_Gas_ID!C214=\"\",\"\",Landfill_Gas_ID!C214)","v":""},"",null,{"$f":"IF(J192=\"\",\"\",MAX(I$1:I191)+1)","v":""},{"$f":"IF(Distillate_Oil!C214=\"\",\"\",Distillate_Oil!C214)","v":""},"",null,null,null,null,null,null,null,null,null,null,null,null,null,null,null,{"$f":"+IF(AE192=\"\",\"\",MAX(AA$1:AA191)+1)","v":""},{"$f":"IF(Deviation_Limits!B214=\"\",\"\",Deviation_Limits!B214)","v":""},{"$f":"IF(Deviation_Limits!C214=\"\",\"\",Deviation_Limits!C214)","v":""},"",{"$f":"IF(COUNTIF(AC$2:AC192,AC192)=1,AC192,\"\")","v":""},"","",null,null,null,null,null,null,null,{"$f":"+IF(AT192=\"\",\"\",MAX(AO$1:AO191)+1)","v":""},{"$f":"IF(Deviation_Limits!B214=\"\",\"\",Deviation_Limits!B214)","v":""},{"$f":"IF(Deviation_Limits!C214=\"\",\"\",Deviation_Limits!C214)","v":""},{"$f":"IF(Deviation_Limits!D214=\"\",\"\",Deviation_Limits!D214)","v":""},"",{"$f":"IF(COUNTIF(AQ$2:AQ192,AQ192)=1,AQ192,\"\")","v":""},"","","",null,{"$f":"+IF(BD192=\"\",\"\",MAX(AY$1:AY191)+1)","v":""},{"$f":"IF(Deviation_CEM_CPMS!B214=\"\",\"\",Deviation_CEM_CPMS!B214)","v":""},{"$f":"IF(Deviation_CEM_CPMS!C214=\"\",\"\",Deviation_CEM_CPMS!C214)","v":""},{"$f":"IF(Deviation_CEM_CPMS!D214=\"\",\"\",Deviation_CEM_CPMS!D214)","v":""},"",{"$f":"IF(COUNTIF(BA$2:BA192,BA192)=1,BA192,\"\")","v":""},"","",""]
[{"$f":"IF(B193=\"\",\"\",MAX(A$1:A192)+1)","v":""},{"$f":"+IF(CPMS_Identification!C215=\"\",\"\",CPMS_Identification!C215)","v":""},"",null,{"$f":"IF(F193=\"\",\"\",MAX(E$1:E192)+1)","v":""},{"$f":"IF(Landfill_Gas_ID!C215=\"\",\"\",Landfill_Gas_ID!C215)","v":""},"",null,{"$f":"IF(J193=\"\",\"\",MAX(I$1:I192)+1)","v":""},{"$f":"IF(Distillate_Oil!C215=\"\",\"\",Distillate_Oil!C215)","v":""},"",null,null,null,null,null,null,null,null,null,null,null,null,null,null,null,{"$f":"+IF(AE193=\"\",\"\",MAX(AA$1:AA192)+1)","v":""},{"$f":"IF(Deviation_Limits!B215=\"\",\"\",Deviation_Limits!B215)","v":""},{"$f":"IF(Deviation_Limits!C215=\"\",\"\",Deviation_Limits!C215)","v":""},"",{"$f":"IF(COUNTIF(AC$2:AC193,AC193)=1,AC193,\"\")","v":""},"","",null,null,null,null,null,null,null,{"$f":"+IF(AT193=\"\",\"\",MAX(AO$1:AO192)+1)","v":""},{"$f":"IF(Deviation_Limits!B215=\"\",\"\",Deviation_Limits!B215)","v":""},{"$f":"IF(Deviation_Limits!C215=\"\",\"\",Deviation_Limits!C215)","v":""},{"$f":"IF(Deviation_Limits!D215=\"\",\"\",Deviation_Limits!D215)","v":""},"",{"$f":"IF(COUNTIF(AQ$2:AQ193,AQ193)=1,AQ193,\"\")","v":""},"","","",null,{"$f":"+IF(BD193=\"\",\"\",MAX(AY$1:AY192)+1)","v":""},{"$f":"IF(Deviation_CEM_CPMS!B215=\"\",\"\",Deviation_CEM_CPMS!B215)","v":""},{"$f":"IF(Deviation_CEM_CPMS!C215=\"\",\"\",Deviation_CEM_CPMS!C215)","v":""},{"$f":"IF(Deviation_CEM_CPMS!D215=\"\",\"\",Deviation_CEM_CPMS!D215)","v":""},"",{"$f":"IF(COUNTIF(BA$2:BA193,BA193)=1,BA193,\"\")","v":""},"","",""]
[{"$f":"IF(B194=\"\",\"\",MAX(A$1:A193)+1)","v":""},{"$f":"+IF(CPMS_Identification!C216=\"\",\"\",CPMS_Identification!C216)","v":""},{"$f":"+IFERROR(INDEX($B$2:$B$500,MATCH(ROW()-ROW($C$1),$A$2:$A$500,0)),\"\")","v":""},null,{"$f":"IF(F194=\"\",\"\",MAX(E$1:E193)+1)","v":""},{"$f":"IF(Landfill_Gas_ID!C216=\"\",\"\",Landfill_Gas_ID!C216)","v":""},{"$f":"+IFERROR(INDEX($F$2:$F$500,MATCH(ROW()-ROW($G$1),$E$2:$E$500,0)),\"\")","v":""},null,{"$f":"IF(J194=\"\",\"\",MAX(I$1:I193)+1)","v":""},{"$f":"IF(Distillate_Oil!C216=\"\",\"\",Distillate_Oil!C216)","v":""},{"$f":"+IFERROR(INDEX($J$2:$J$500,MATCH(ROW()-ROW($K$1),$I$2:$I$500,0)),\"\")","v":""},null,null,null,null,null,null,null,null,null,null,null,null,null,null,null,{"$f":"+IF(AE194=\"\",\"\",MAX(AA$1:AA193)+1)","v":""},{"$f":"IF(Deviation_Limits!B216=\"\",\"\",Deviation_Limits!B216)","v":""},{"$f":"IF(Deviation_Limits!C216=\"\",\"\",Deviation_Limits!C216)","v":""},"",{"$f":"IF(COUNTIF(AC$2:AC194,AC194)=1,AC194,\"\")","v":""},"","",null,null,null,null,null,null,null,{"$f":"+IF(AT194=\"\",\"\",MAX(AO$1:AO193)+1)","v":""},{"$f":"IF(Deviation_Limits!B216=\"\",\"\",Deviation_Limits!B216)","v":""},{"$f":"IF(Deviation_Limits!C216=\"\",\"\",Deviation_Limits!C216)","v":""},{"$f":"IF(Deviation_Limits!D216=\"\",\"\",Deviation_Limits!D216)","v":""},"",{"$f":"IF(COUNTIF(AQ$2:AQ194,AQ194)=1,AQ194,\"\")","v":""},"","","",null,{"$f":"+IF(BD194=\"\",\"\",MAX(AY$1:AY193)+1)","v":""},{"$f":"IF(Deviation_CEM_CPMS!B216=\"\",\"\",Deviation_CEM_CPMS!B216)","v":""},{"$f":"IF(Deviation_CEM_CPMS!C216=\"\",\"\",Deviation_CEM_CPMS!C216)","v":""},{"$f":"IF(Deviation_CEM_CPMS!D216=\"\",\"\",Deviation_CEM_CPMS!D216)","v":""},{"$f":"+AZ194&BA194&BB194","v":""},{"$f":"IF(COUNTIF(BA$2:BA194,BA194)=1,BA194,\"\")","v":""},{"$f":"+IFERROR(INDEX(AZ$2:AZ$500,MATCH(ROW()-ROW(BE$1),$AA$2:$AA$500,0)),\"\")","v":""},{"$f":"+IFERROR(INDEX(BA$2:BA$500,MATCH(ROW()-ROW(BE$1),$AA$2:$AA$500,0)),\"\")","v":""},{"$f":"+IFERROR(INDEX(BB$2:BB$500,MATCH(ROW()-ROW(BE$1),$AA$2:$AA$500,0)),\"\")","v":""}]
[{"$f":"IF(B195=\"\",\"\",MAX(A$1:A194)+1)","v":""},{"$f":"+IF(CPMS_Identification!C217=\"\",\"\",CPMS_Identification!C217)","v":""},"",null,{"$f":"IF(F195=\"\",\"\",MAX(E$1:E194)+1)","v":""},{"$f":"IF(Landfill_Gas_ID!C217=\"\",\"\",Landfill_Gas_ID!C217)","v":""},"",null,{"$f":"IF(J195=\"\",\"\",MAX(I$1:I194)+1)","v":""},{"$f":"IF(Distillate_Oil!C217=\"\",\"\",Distillate_Oil!C217)","v":""},"",null,null,null,null,null,null,null,null,null,null,null,null,null,null,null,{"$f":"+IF(AE195=\"\",\"\",MAX(AA$1:AA194)+1)","v":""},{"$f":"IF(Deviation_Limits!B217=\"\",\"\",Deviation_Limits!B217)","v":""},{"$f":"IF(Deviation_Limits!C217=\"\",\"\",Deviation_Limits!C217)","v":""},{"$f":"+AB195&AC195","v":""},{"$f":"IF(COUNTIF(AC$2:AC195,AC195)=1,AC195,\"\")","v":""},{"$f":"+IFERROR(INDEX(AB$2:AB$500,MATCH(ROW()-ROW($AF$1),$AA$2:$AA$500,0)),\"\")","v":""},{"$f":"+IFERROR(INDEX(AC$2:AC$500,MATCH(ROW()-ROW($AF$1),$AA$2:$AA$500,0)),\"\")","v":""},null,null,null,null,null,null,null,{"$f":"+IF(AT195=\"\",\"\",MAX(AO$1:AO194)+1)","v":""},{"$f":"IF(Deviation_Limits!B217=\"\",\"\",Deviation_Limits!B217)","v":""},{"$f":"IF(Deviation_Limits!C217=\"\",\"\",Deviation_Limits!C217)","v":""},{"$f":"IF(Deviation_Limits!D217=\"\",\"\",Deviation_Limits!D217)","v":""},{"$f":"+AP195&AQ195&C195","v":""},{"$f":"IF(COUNTIF(AQ$2:AQ195,AQ195)=1,AQ195,\"\")","v":""},{"$f":"+IFERROR(INDEX(AP$2:AP$500,MATCH(ROW()-ROW(AU$1),$AA$2:$AA$500,0)),\"\")","v":""},{"$f":"+IFERROR(INDEX(AQ$2:AQ$500,MATCH(ROW()-ROW(AU$1),$AA$2:$AA$500,0)),\"\")","v":""},{"$f":"+IFERROR(INDEX(AR$2:AR$500,MATCH(ROW()-ROW(AU$1),$AA$2:$AA$500,0)),\"\")","v":""},null,{"$f":"+IF(BD195=\"\",\"\",MAX(AY$1:AY194)+1)","v":""},{"$f":"IF(Deviation_CEM_CPMS!B217=\"\",\"\",Deviation_CEM_CPMS!B217)","v":""},{"$f":"IF(Deviation_CEM_CPMS!C217=\"\",\"\",Deviation_CEM_CPMS!C217)","v":""},{"$f":"IF(Deviation_CEM_CPMS!D217=\"\",\"\",Deviation_CEM_CPMS!D217)","v":""},"",{"$f":"IF(COUNTIF(BA$2:BA195,BA195)=1,BA195,\"\")","v":""},"","",""]
[{"$f":"IF(B196=\"\",\"\",MAX(A$1:A195)+1)","v":""},{"$f":"+IF(CPMS_Identification!C218=\"\",\"\",CPMS_Identification!C218)","v":""},"",null,{"$f":"IF(F196=\"\",\"\",MAX(E$1:E195)+1)","v":""},{"$f":"IF(Landfill_Gas_ID!C218=\"\",\"\",Landfill_Gas_ID!C218)","v":""},"",null,{"$f":"IF(J196=\"\",\"\",MAX(I$1:I195)+1)","v":""},{"$f":"IF(Distillate_Oil!C218=\"\",\"\",Distillate_Oil!C218)","v":""},"",null,null,null,null,null,null,null,null,null,null,null,null,null,null,null,{"$f":"+IF(AE196=\"\",\"\",MAX(AA$1:AA195)+1)","v":""},{"$f":"IF(Deviation_Limits!B218=\"\",\"\",Deviation_Limits!B218)","v":""},{"$f":"IF(Deviation_Limits!C218=\"\",\"\",Deviation_Limits!C218)","v":""},"",{"$f":"IF(COUNTIF(AC$2:AC196,AC196)=1,AC196,\"\")","v":""},"","",null,null,null,null,null,null,null,{"$f":"+IF(AT196=\"\",\"\",MAX(AO$1:AO195)+1)","v":""},{"$f":"IF(Deviation_Limits!B218=\"\",\"\",Deviation_Limits!B218)","v":""},{"$f":"IF(Deviation_Limits!C218=\"\",\"\",Deviation_Limits!C218)","v":""},{"$f":"IF(Deviation_Limits!D218=\"\",\"\",Deviation_Limits!D218)","v":""},"",{"$f":"IF(COUNTIF(AQ$2:AQ196,AQ196)=1,AQ196,\"\")","v":""},"","","",null,{"$f":"+IF(BD196=\"\",\"\",MAX(AY$1:AY195)+1)","v":""},{"$f":"IF(Deviation_CEM_CPMS!B218=\"\",\"\",Deviation_CEM_CPMS!B218)","v":""},{"$f":"IF(Deviation_CEM_CPMS!C218=\"\",\"\",Deviation_CEM_CPMS!C218)","v":""},{"$f":"IF(Deviation_CEM_CPMS!D218=\"\",\"\",Deviation_CEM_CPMS!D218)","v":""},"",{"$f":"IF(COUNTIF(BA$2:BA196,BA196)=1,BA196,\"\")","v":""},"","",""]
[{"$f":"IF(B197=\"\",\"\",MAX(A$1:A196)+1)","v":""},{"$f":"+IF(CPMS_Identification!C219=\"\",\"\",CPMS_Identification!C219)","v":""},"",null,{"$f":"IF(F197=\"\",\"\",MAX(E$1:E196)+1)","v":""},{"$f":"IF(Landfill_Gas_ID!C219=\"\",\"\",Landfill_Gas_ID!C219)","v":""},"",null,{"$f":"IF(J197=\"\",\"\",MAX(I$1:I196)+1)","v":""},{"$f":"IF(Distillate_Oil!C219=\"\",\"\",Distillate_Oil!C219)","v":""},"",null,null,null,null,null,null,null,null,null,null,null,null,null,null,null,{"$f":"+IF(AE197=\"\",\"\",MAX(AA$1:AA196)+1)","v":""},{"$f":"IF(Deviation_Limits!B219=\"\",\"\",Deviation_Limits!B219)","v":""},{"$f":"IF(Deviation_Limits!C219=\"\",\"\",Deviation_Limits!C219)","v":""},"",{"$f":"IF(COUNTIF(AC$2:AC197,AC197)=1,AC197,\"\")","v":""},"","",null,null,null,null,null,null,null,{"$f":"+IF(AT197=\"\",\"\",MAX(AO$1:AO196)+1)","v":""},{"$f":"IF(Deviation_Limits!B219=\"\",\"\",Deviation_Limits!B219)","v":""},{"$f":"IF(Deviation_Limits!C219=\"\",\"\",Deviation_Limits!C219)","v":""},{"$f":"IF(Deviation_Limits!D219=\"\",\"\",Deviation_Limits!D219)","v":""},"",{"$f":"IF(COUNTIF(AQ$2:AQ197,AQ197)=1,AQ197,\"\")","v":""},"","","",null,{"$f":"+IF(BD197=\"\",\"\",MAX(AY$1:AY196)+1)","v":""},{"$f":"IF(Deviation_CEM_CPMS!B219=\"\",\"\",Deviation_CEM_CPMS!B219)","v":""},{"$f":"IF(Deviation_CEM_CPMS!C219=\"\",\"\",Deviation_CEM_CPMS!C219)","v":""},{"$f":"IF(Deviation_CEM_CPMS!D219=\"\",\"\",Deviation_CEM_CPMS!D219)","v":""},"",{"$f":"IF(COUNTIF(BA$2:BA197,BA197)=1,BA197,\"\")","v":""},"","",""]
[{"$f":"IF(B198=\"\",\"\",MAX(A$1:A197)+1)","v":""},{"$f":"+IF(CPMS_Identification!C220=\"\",\"\",CPMS_Identification!C220)","v":""},"",null,{"$f":"IF(F198=\"\",\"\",MAX(E$1:E197)+1)","v":""},{"$f":"IF(Landfill_Gas_ID!C220=\"\",\"\",Landfill_Gas_ID!C220)","v":""},"",null,{"$f":"IF(J198=\"\",\"\",MAX(I$1:I197)+1)","v":""},{"$f":"IF(Distillate_Oil!C220=\"\",\"\",Distillate_Oil!C220)","v":""},"",null,null,null,null,null,null,null,null,null,null,null,null,null,null,null,{"$f":"+IF(AE198=\"\",\"\",MAX(AA$1:AA197)+1)","v":""},{"$f":"IF(Deviation_Limits!B220=\"\",\"\",Deviation_Limits!B220)","v":""},{"$f":"IF(Deviation_Limits!C220=\"\",\"\",Deviation_Limits!C220)","v":""},"",{"$f":"IF(COUNTIF(AC$2:AC198,AC198)=1,AC198,\"\")","v":""},"","",null,null,null,null,null,null,null,{"$f":"+IF(AT198=\"\",\"\",MAX(AO$1:AO197)+1)","v":""},{"$f":"IF(Deviation_Limits!B220=\"\",\"\",Deviation_Limits!B220)","v":""},{"$f":"IF(Deviation_Limits!C220=\"\",\"\",Deviation_Limits!C220)","v":""},{"$f":"IF(Deviation_Limits!D220=\"\",\"\",Deviation_Limits!D220)","v":""},"",{"$f":"IF(COUNTIF(AQ$2:AQ198,AQ198)=1,AQ198,\"\")","v":""},"","","",null,{"$f":"+IF(BD198=\"\",\"\",MAX(AY$1:AY197)+1)","v":""},{"$f":"IF(Deviation_CEM_CPMS!B220=\"\",\"\",Deviation_CEM_CPMS!B220)","v":""},{"$f":"IF(Deviation_CEM_CPMS!C220=\"\",\"\",Deviation_CEM_CPMS!C220)","v":""},{"$f":"IF(Deviation_CEM_CPMS!D220=\"\",\"\",Deviation_CEM_CPMS!D220)","v":""},"",{"$f":"IF(COUNTIF(BA$2:BA198,BA198)=1,BA198,\"\")","v":""},"","",""]
[{"$f":"IF(B199=\"\",\"\",MAX(A$1:A198)+1)","v":""},{"$f":"+IF(CPMS_Identification!C221=\"\",\"\",CPMS_Identification!C221)","v":""},"",null,{"$f":"IF(F199=\"\",\"\",MAX(E$1:E198)+1)","v":""},{"$f":"IF(Landfill_Gas_ID!C221=\"\",\"\",Landfill_Gas_ID!C221)","v":""},"",null,{"$f":"IF(J199=\"\",\"\",MAX(I$1:I198)+1)","v":""},{"$f":"IF(Distillate_Oil!C221=\"\",\"\",Distillate_Oil!C221)","v":""},"",null,null,null,null,null,null,null,null,null,null,null,null,null,null,null,{"$f":"+IF(AE199=\"\",\"\",MAX(AA$1:AA198)+1)","v":""},{"$f":"IF(Deviation_Limits!B221=\"\",\"\",Deviation_Limits!B221)","v":""},{"$f":"IF(Deviation_Limits!C221=\"\",\"\",Deviation_Limits!C221)","v":""},"",{"$f":"IF(COUNTIF(AC$2:AC199,AC199)=1,AC199,\"\")","v":""},"","",null,null,null,null,null,null,null,{"$f":"+IF(AT199=\"\",\"\",MAX(AO$1:AO198)+1)","v":""},{"$f":"IF(Deviation_Limits!B221=\"\",\"\",Deviation_Limits!B221)","v":""},{"$f":"IF(Deviation_Limits!C221=\"\",\"\",Deviation_Limits!C221)","v":""},{"$f":"IF(Deviation_Limits!D221=\"\",\"\",Deviation_Limits!D221)","v":""},"",{"$f":"IF(COUNTIF(AQ$2:AQ199,AQ199)=1,AQ199,\"\")","v":""},"","","",null,{"$f":"+IF(BD199=\"\",\"\",MAX(AY$1:AY198)+1)","v":""},{"$f":"IF(Deviation_CEM_CPMS!B221=\"\",\"\",Deviation_CEM_CPMS!B221)","v":""},{"$f":"IF(Deviation_CEM_CPMS!C221=\"\",\"\",Deviation_CEM_CPMS!C221)","v":""},{"$f":"IF(Deviation_CEM_CPMS!D221=\"\",\"\",Deviation_CEM_CPMS!D221)","v":""},"",{"$f":"IF(COUNTIF(BA$2:BA199,BA199)=1,BA199,\"\")","v":""},"","",""]
[{"$f":"IF(B200=\"\",\"\",MAX(A$1:A199)+1)","v":""},{"$f":"+IF(CPMS_Identification!C222=\"\",\"\",CPMS_Identification!C222)","v":""},"",null,{"$f":"IF(F200=\"\",\"\",MAX(E$1:E199)+1)","v":""},{"$f":"IF(Landfill_Gas_ID!C222=\"\",\"\",Landfill_Gas_ID!C222)","v":""},"",null,{"$f":"IF(J200=\"\",\"\",MAX(I$1:I199)+1)","v":""},{"$f":"IF(Distillate_Oil!C222=\"\",\"\",Distillate_Oil!C222)","v":""},"",null,null,null,null,null,null,null,null,null,null,null,null,null,null,null,{"$f":"+IF(AE200=\"\",\"\",MAX(AA$1:AA199)+1)","v":""},{"$f":"IF(Deviation_Limits!B222=\"\",\"\",Deviation_Limits!B222)","v":""},{"$f":"IF(Deviation_Limits!C222=\"\",\"\",Deviation_Limits!C222)","v":""},"",{"$f":"IF(COUNTIF(AC$2:AC200,AC200)=1,AC200,\"\")","v":""},"","",null,null,null,null,null,null,null,{"$f":"+IF(AT200=\"\",\"\",MAX(AO$1:AO199)+1)","v":""},{"$f":"IF(Deviation_Limits!B222=\"\",\"\",Deviation_Limits!B222)","v":""},{"$f":"IF(Deviation_Limits!C222=\"\",\"\",Deviation_Limits!C222)","v":""},{"$f":"IF(Deviation_Limits!D222=\"\",\"\",Deviation_Limits!D222)","v":""},"",{"$f":"IF(COUNTIF(AQ$2:AQ200,AQ200)=1,AQ200,\"\")","v":""},"","","",null,{"$f":"+IF(BD200=\"\",\"\",MAX(AY$1:AY199)+1)","v":""},{"$f":"IF(Deviation_CEM_CPMS!B222=\"\",\"\",Deviation_CEM_CPMS!B222)","v":""},{"$f":"IF(Deviation_CEM_CPMS!C222=\"\",\"\",Deviation_CEM_CPMS!C222)","v":""},{"$f":"IF(Deviation_CEM_CPMS!D222=\"\",\"\",Deviation_CEM_CPMS!D222)","v":""},"",{"$f":"IF(COUNTIF(BA$2:BA200,BA200)=1,BA200,\"\")","v":""},"","",""]
[{"$f":"IF(B201=\"\",\"\",MAX(A$1:A200)+1)","v":""},{"$f":"+IF(CPMS_Identification!C223=\"\",\"\",CPMS_Identification!C223)","v":""},"",null,{"$f":"IF(F201=\"\",\"\",MAX(E$1:E200)+1)","v":""},{"$f":"IF(Landfill_Gas_ID!C223=\"\",\"\",Landfill_Gas_ID!C223)","v":""},"",null,{"$f":"IF(J201=\"\",\"\",MAX(I$1:I200)+1)","v":""},{"$f":"IF(Distillate_Oil!C223=\"\",\"\",Distillate_Oil!C223)","v":""},"",null,null,null,null,null,null,null,null,null,null,null,null,null,null,null,{"$f":"+IF(AE201=\"\",\"\",MAX(AA$1:AA200)+1)","v":""},{"$f":"IF(Deviation_Limits!B223=\"\",\"\",Deviation_Limits!B223)","v":""},{"$f":"IF(Deviation_Limits!C223=\"\",\"\",Deviation_Limits!C223)","v":""},"",{"$f":"IF(COUNTIF(AC$2:AC201,AC201)=1,AC201,\"\")","v":""},"","",null,null,null,null,null,null,null,{"$f":"+IF(AT201=\"\",\"\",MAX(AO$1:AO200)+1)","v":""},{"$f":"IF(Deviation_Limits!B223=\"\",\"\",Deviation_Limits!B223)","v":""},{"$f":"IF(Deviation_Limits!C223=\"\",\"\",Deviation_Limits!C223)","v":""},{"$f":"IF(Deviation_Limits!D223=\"\",\"\",Deviation_Limits!D223)","v":""},"",{"$f":"IF(COUNTIF(AQ$2:AQ201,AQ201)=1,AQ201,\"\")","v":""},"","","",null,{"$f":"+IF(BD201=\"\",\"\",MAX(AY$1:AY200)+1)","v":""},{"$f":"IF(Deviation_CEM_CPMS!B223=\"\",\"\",Deviation_CEM_CPMS!B223)","v":""},{"$f":"IF(Deviation_CEM_CPMS!C223=\"\",\"\",Deviation_CEM_CPMS!C223)","v":""},{"$f":"IF(Deviation_CEM_CPMS!D223=\"\",\"\",Deviation_CEM_CPMS!D223)","v":""},"",{"$f":"IF(COUNTIF(BA$2:BA201,BA201)=1,BA201,\"\")","v":""},"","",""]
[{"$f":"IF(B202=\"\",\"\",MAX(A$1:A201)+1)","v":""},{"$f":"+IF(CPMS_Identification!C224=\"\",\"\",CPMS_Identification!C224)","v":""},"",null,{"$f":"IF(F202=\"\",\"\",MAX(E$1:E201)+1)","v":""},{"$f":"IF(Landfill_Gas_ID!C224=\"\",\"\",Landfill_Gas_ID!C224)","v":""},"",null,{"$f":"IF(J202=\"\",\"\",MAX(I$1:I201)+1)","v":""},{"$f":"IF(Distillate_Oil!C224=\"\",\"\",Distillate_Oil!C224)","v":""},"",null,null,null,null,null,null,null,null,null,null,null,null,null,null,null,{"$f":"+IF(AE202=\"\",\"\",MAX(AA$1:AA201)+1)","v":""},{"$f":"IF(Deviation_Limits!B224=\"\",\"\",Deviation_Limits!B224)","v":""},{"$f":"IF(Deviation_Limits!C224=\"\",\"\",Deviation_Limits!C224)","v":""},"",{"$f":"IF(COUNTIF(AC$2:AC202,AC202)=1,AC202,\"\")","v":""},"","",null,null,null,null,null,null,null,{"$f":"+IF(AT202=\"\",\"\",MAX(AO$1:AO201)+1)","v":""},{"$f":"IF(Deviation_Limits!B224=\"\",\"\",Deviation_Limits!B224)","v":""},{"$f":"IF(Deviation_Limits!C224=\"\",\"\",Deviation_Limits!C224)","v":""},{"$f":"IF(Deviation_Limits!D224=\"\",\"\",Deviation_Limits!D224)","v":""},"",{"$f":"IF(COUNTIF(AQ$2:AQ202,AQ202)=1,AQ202,\"\")","v":""},"","","",null,{"$f":"+IF(BD202=\"\",\"\",MAX(AY$1:AY201)+1)","v":""},{"$f":"IF(Deviation_CEM_CPMS!B224=\"\",\"\",Deviation_CEM_CPMS!B224)","v":""},{"$f":"IF(Deviation_CEM_CPMS!C224=\"\",\"\",Deviation_CEM_CPMS!C224)","v":""},{"$f":"IF(Deviation_CEM_CPMS!D224=\"\",\"\",Deviation_CEM_CPMS!D224)","v":""},"",{"$f":"IF(COUNTIF(BA$2:BA202,BA202)=1,BA202,\"\")","v":""},"","",""]
[{"$f":"IF(B203=\"\",\"\",MAX(A$1:A202)+1)","v":""},{"$f":"+IF(CPMS_Identification!C225=\"\",\"\",CPMS_Identification!C225)","v":""},"",null,{"$f":"IF(F203=\"\",\"\",MAX(E$1:E202)+1)","v":""},{"$f":"IF(Landfill_Gas_ID!C225=\"\",\"\",Landfill_Gas_ID!C225)","v":""},"",null,{"$f":"IF(J203=\"\",\"\",MAX(I$1:I202)+1)","v":""},{"$f":"IF(Distillate_Oil!C225=\"\",\"\",Distillate_Oil!C225)","v":""},"",null,null,null,null,null,null,null,null,null,null,null,null,null,null,null,{"$f":"+IF(AE203=\"\",\"\",MAX(AA$1:AA202)+1)","v":""},{"$f":"IF(Deviation_Limits!B225=\"\",\"\",Deviation_Limits!B225)","v":""},{"$f":"IF(Deviation_Limits!C225=\"\",\"\",Deviation_Limits!C225)","v":""},"",{"$f":"IF(COUNTIF(AC$2:AC203,AC203)=1,AC203,\"\")","v":""},"","",null,null,null,null,null,null,null,{"$f":"+IF(AT203=\"\",\"\",MAX(AO$1:AO202)+1)","v":""},{"$f":"IF(Deviation_Limits!B225=\"\",\"\",Deviation_Limits!B225)","v":""},{"$f":"IF(Deviation_Limits!C225=\"\",\"\",Deviation_Limits!C225)","v":""},{"$f":"IF(Deviation_Limits!D225=\"\",\"\",Deviation_Limits!D225)","v":""},"",{"$f":"IF(COUNTIF(AQ$2:AQ203,AQ203)=1,AQ203,\"\")","v":""},"","","",null,{"$f":"+IF(BD203=\"\",\"\",MAX(AY$1:AY202)+1)","v":""},{"$f":"IF(Deviation_CEM_CPMS!B225=\"\",\"\",Deviation_CEM_CPMS!B225)","v":""},{"$f":"IF(Deviation_CEM_CPMS!C225=\"\",\"\",Deviation_CEM_CPMS!C225)","v":""},{"$f":"IF(Deviation_CEM_CPMS!D225=\"\",\"\",Deviation_CEM_CPMS!D225)","v":""},"",{"$f":"IF(COUNTIF(BA$2:BA203,BA203)=1,BA203,\"\")","v":""},"","",""]
[{"$f":"IF(B204=\"\",\"\",MAX(A$1:A203)+1)","v":""},{"$f":"+IF(CPMS_Identification!C226=\"\",\"\",CPMS_Identification!C226)","v":""},"",null,{"$f":"IF(F204=\"\",\"\",MAX(E$1:E203)+1)","v":""},{"$f":"IF(Landfill_Gas_ID!C226=\"\",\"\",Landfill_Gas_ID!C226)","v":""},"",null,{"$f":"IF(J204=\"\",\"\",MAX(I$1:I203)+1)","v":""},{"$f":"IF(Distillate_Oil!C226=\"\",\"\",Distillate_Oil!C226)","v":""},"",null,null,null,null,null,null,null,null,null,null,null,null,null,null,null,{"$f":"+IF(AE204=\"\",\"\",MAX(AA$1:AA203)+1)","v":""},{"$f":"IF(Deviation_Limits!B226=\"\",\"\",Deviation_Limits!B226)","v":""},{"$f":"IF(Deviation_Limits!C226=\"\",\"\",Deviation_Limits!C226)","v":""},"",{"$f":"IF(COUNTIF(AC$2:AC204,AC204)=1,AC204,\"\")","v":""},"","",null,null,null,null,null,null,null,{"$f":"+IF(AT204=\"\",\"\",MAX(AO$1:AO203)+1)","v":""},{"$f":"IF(Deviation_Limits!B226=\"\",\"\",Deviation_Limits!B226)","v":""},{"$f":"IF(Deviation_Limits!C226=\"\",\"\",Deviation_Limits!C226)","v":""},{"$f":"IF(Deviation_Limits!D226=\"\",\"\",Deviation_Limits!D226)","v":""},"",{"$f":"IF(COUNTIF(AQ$2:AQ204,AQ204)=1,AQ204,\"\")","v":""},"","","",null,{"$f":"+IF(BD204=\"\",\"\",MAX(AY$1:AY203)+1)","v":""},{"$f":"IF(Deviation_CEM_CPMS!B226=\"\",\"\",Deviation_CEM_CPMS!B226)","v":""},{"$f":"IF(Deviation_CEM_CPMS!C226=\"\",\"\",Deviation_CEM_CPMS!C226)","v":""},{"$f":"IF(Deviation_CEM_CPMS!D226=\"\",\"\",Deviation_CEM_CPMS!D226)","v":""},"",{"$f":"IF(COUNTIF(BA$2:BA204,BA204)=1,BA204,\"\")","v":""},"","",""]
[{"$f":"IF(B205=\"\",\"\",MAX(A$1:A204)+1)","v":""},{"$f":"+IF(CPMS_Identification!C227=\"\",\"\",CPMS_Identification!C227)","v":""},"",null,{"$f":"IF(F205=\"\",\"\",MAX(E$1:E204)+1)","v":""},{"$f":"IF(Landfill_Gas_ID!C227=\"\",\"\",Landfill_Gas_ID!C227)","v":""},"",null,{"$f":"IF(J205=\"\",\"\",MAX(I$1:I204)+1)","v":""},{"$f":"IF(Distillate_Oil!C227=\"\",\"\",Distillate_Oil!C227)","v":""},"",null,null,null,null,null,null,null,null,null,null,null,null,null,null,null,{"$f":"+IF(AE205=\"\",\"\",MAX(AA$1:AA204)+1)","v":""},{"$f":"IF(Deviation_Limits!B227=\"\",\"\",Deviation_Limits!B227)","v":""},{"$f":"IF(Deviation_Limits!C227=\"\",\"\",Deviation_Limits!C227)","v":""},"",{"$f":"IF(COUNTIF(AC$2:AC205,AC205)=1,AC205,\"\")","v":""},"","",null,null,null,null,null,null,null,{"$f":"+IF(AT205=\"\",\"\",MAX(AO$1:AO204)+1)","v":""},{"$f":"IF(Deviation_Limits!B227=\"\",\"\",Deviation_Limits!B227)","v":""},{"$f":"IF(Deviation_Limits!C227=\"\",\"\",Deviation_Limits!C227)","v":""},{"$f":"IF(Deviation_Limits!D227=\"\",\"\",Deviation_Limits!D227)","v":""},"",{"$f":"IF(COUNTIF(AQ$2:AQ205,AQ205)=1,AQ205,\"\")","v":""},"","","",null,{"$f":"+IF(BD205=\"\",\"\",MAX(AY$1:AY204)+1)","v":""},{"$f":"IF(Deviation_CEM_CPMS!B227=\"\",\"\",Deviation_CEM_CPMS!B227)","v":""},{"$f":"IF(Deviation_CEM_CPMS!C227=\"\",\"\",Deviation_CEM_CPMS!C227)","v":""},{"$f":"IF(Deviation_CEM_CPMS!D227=\"\",\"\",Deviation_CEM_CPMS!D227)","v":""},"",{"$f":"IF(COUNTIF(BA$2:BA205,BA205)=1,BA205,\"\")","v":""},"","",""]
[{"$f":"IF(B206=\"\",\"\",MAX(A$1:A205)+1)","v":""},{"$f":"+IF(CPMS_Identification!C228=\"\",\"\",CPMS_Identification!C228)","v":""},"",null,{"$f":"IF(F206=\"\",\"\",MAX(E$1:E205)+1)","v":""},{"$f":"IF(Landfill_Gas_ID!C228=\"\",\"\",Landfill_Gas_ID!C228)","v":""},"",null,{"$f":"IF(J206=\"\",\"\",MAX(I$1:I205)+1)","v":""},{"$f":"IF(Distillate_Oil!C228=\"\",\"\",Distillate_Oil!C228)","v":""},"",null,null,null,null,null,null,null,null,null,null,null,null,null,null,null,{"$f":"+IF(AE206=\"\",\"\",MAX(AA$1:AA205)+1)","v":""},{"$f":"IF(Deviation_Limits!B228=\"\",\"\",Deviation_Limits!B228)","v":""},{"$f":"IF(Deviation_Limits!C228=\"\",\"\",Deviation_Limits!C228)","v":""},"",{"$f":"IF(COUNTIF(AC$2:AC206,AC206)=1,AC206,\"\")","v":""},"","",null,null,null,null,null,null,null,{"$f":"+IF(AT206=\"\",\"\",MAX(AO$1:AO205)+1)","v":""},{"$f":"IF(Deviation_Limits!B228=\"\",\"\",Deviation_Limits!B228)","v":""},{"$f":"IF(Deviation_Limits!C228=\"\",\"\",Deviation_Limits!C228)","v":""},{"$f":"IF(Deviation_Limits!D228=\"\",\"\",Deviation_Limits!D228)","v":""},"",{"$f":"IF(COUNTIF(AQ$2:AQ206,AQ206)=1,AQ206,\"\")","v":""},"","","",null,{"$f":"+IF(BD206=\"\",\"\",MAX(AY$1:AY205)+1)","v":""},{"$f":"IF(Deviation_CEM_CPMS!B228=\"\",\"\",Deviation_CEM_CPMS!B228)","v":""},{"$f":"IF(Deviation_CEM_CPMS!C228=\"\",\"\",Deviation_CEM_CPMS!C228)","v":""},{"$f":"IF(Deviation_CEM_CPMS!D228=\"\",\"\",Deviation_CEM_CPMS!D228)","v":""},"",{"$f":"IF(COUNTIF(BA$2:BA206,BA206)=1,BA206,\"\")","v":""},"","",""]
[{"$f":"IF(B207=\"\",\"\",MAX(A$1:A206)+1)","v":""},{"$f":"+IF(CPMS_Identification!C229=\"\",\"\",CPMS_Identification!C229)","v":""},"",null,{"$f":"IF(F207=\"\",\"\",MAX(E$1:E206)+1)","v":""},{"$f":"IF(Landfill_Gas_ID!C229=\"\",\"\",Landfill_Gas_ID!C229)","v":""},"",null,{"$f":"IF(J207=\"\",\"\",MAX(I$1:I206)+1)","v":""},{"$f":"IF(Distillate_Oil!C229=\"\",\"\",Distillate_Oil!C229)","v":""},"",null,null,null,null,null,null,null,null,null,null,null,null,null,null,null,{"$f":"+IF(AE207=\"\",\"\",MAX(AA$1:AA206)+1)","v":""},{"$f":"IF(Deviation_Limits!B229=\"\",\"\",Deviation_Limits!B229)","v":""},{"$f":"IF(Deviation_Limits!C229=\"\",\"\",Deviation_Limits!C229)","v":""},"",{"$f":"IF(COUNTIF(AC$2:AC207,AC207)=1,AC207,\"\")","v":""},"","",null,null,null,null,null,null,null,{"$f":"+IF(AT207=\"\",\"\",MAX(AO$1:AO206)+1)","v":""},{"$f":"IF(Deviation_Limits!B229=\"\",\"\",Deviation_Limits!B229)","v":""},{"$f":"IF(Deviation_Limits!C229=\"\",\"\",Deviation_Limits!C229)","v":""},{"$f":"IF(Deviation_Limits!D229=\"\",\"\",Deviation_Limits!D229)","v":""},"",{"$f":"IF(COUNTIF(AQ$2:AQ207,AQ207)=1,AQ207,\"\")","v":""},"","","",null,{"$f":"+IF(BD207=\"\",\"\",MAX(AY$1:AY206)+1)","v":""},{"$f":"IF(Deviation_CEM_CPMS!B229=\"\",\"\",Deviation_CEM_CPMS!B229)","v":""},{"$f":"IF(Deviation_CEM_CPMS!C229=\"\",\"\",Deviation_CEM_CPMS!C229)","v":""},{"$f":"IF(Deviation_CEM_CPMS!D229=\"\",\"\",Deviation_CEM_CPMS!D229)","v":""},"",{"$f":"IF(COUNTIF(BA$2:BA207,BA207)=1,BA207,\"\")","v":""},"","",""]
[{"$f":"IF(B208=\"\",\"\",MAX(A$1:A207)+1)","v":""},{"$f":"+IF(CPMS_Identification!C230=\"\",\"\",CPMS_Identification!C230)","v":""},"",null,{"$f":"IF(F208=\"\",\"\",MAX(E$1:E207)+1)","v":""},{"$f":"IF(Landfill_Gas_ID!C230=\"\",\"\",Landfill_Gas_ID!C230)","v":""},"",null,{"$f":"IF(J208=\"\",\"\",MAX(I$1:I207)+1)","v":""},{"$f":"IF(Distillate_Oil!C230=\"\",\"\",Distillate_Oil!C230)","v":""},"",null,null,null,null,null,null,null,null,null,null,null,null,null,null,null,{"$f":"+IF(AE208=\"\",\"\",MAX(AA$1:AA207)+1)","v":""},{"$f":"IF(Deviation_Limits!B230=\"\",\"\",Deviation_Limits!B230)","v":""},{"$f":"IF(Deviation_Limits!C230=\"\",\"\",Deviation_Limits!C230)","v":""},"",{"$f":"IF(COUNTIF(AC$2:AC208,AC208)=1,AC208,\"\")","v":""},"","",null,null,null,null,null,null,null,{"$f":"+IF(AT208=\"\",\"\",MAX(AO$1:AO207)+1)","v":""},{"$f":"IF(Deviation_Limits!B230=\"\",\"\",Deviation_Limits!B230)","v":""},{"$f":"IF(Deviation_Limits!C230=\"\",\"\",Deviation_Limits!C230)","v":""},{"$f":"IF(Deviation_Limits!D230=\"\",\"\",Deviation_Limits!D230)","v":""},"",{"$f":"IF(COUNTIF(AQ$2:AQ208,AQ208)=1,AQ208,\"\")","v":""},"","","",null,{"$f":"+IF(BD208=\"\",\"\",MAX(AY$1:AY207)+1)","v":""},{"$f":"IF(Deviation_CEM_CPMS!B230=\"\",\"\",Deviation_CEM_CPMS!B230)","v":""},{"$f":"IF(Deviation_CEM_CPMS!C230=\"\",\"\",Deviation_CEM_CPMS!C230)","v":""},{"$f":"IF(Deviation_CEM_CPMS!D230=\"\",\"\",Deviation_CEM_CPMS!D230)","v":""},"",{"$f":"IF(COUNTIF(BA$2:BA208,BA208)=1,BA208,\"\")","v":""},"","",""]
[{"$f":"IF(B209=\"\",\"\",MAX(A$1:A208)+1)","v":""},{"$f":"+IF(CPMS_Identification!C231=\"\",\"\",CPMS_Identification!C231)","v":""},"",null,{"$f":"IF(F209=\"\",\"\",MAX(E$1:E208)+1)","v":""},{"$f":"IF(Landfill_Gas_ID!C231=\"\",\"\",Landfill_Gas_ID!C231)","v":""},"",null,{"$f":"IF(J209=\"\",\"\",MAX(I$1:I208)+1)","v":""},{"$f":"IF(Distillate_Oil!C231=\"\",\"\",Distillate_Oil!C231)","v":""},"",null,null,null,null,null,null,null,null,null,null,null,null,null,null,null,{"$f":"+IF(AE209=\"\",\"\",MAX(AA$1:AA208)+1)","v":""},{"$f":"IF(Deviation_Limits!B231=\"\",\"\",Deviation_Limits!B231)","v":""},{"$f":"IF(Deviation_Limits!C231=\"\",\"\",Deviation_Limits!C231)","v":""},"",{"$f":"IF(COUNTIF(AC$2:AC209,AC209)=1,AC209,\"\")","v":""},"","",null,null,null,null,null,null,null,{"$f":"+IF(AT209=\"\",\"\",MAX(AO$1:AO208)+1)","v":""},{"$f":"IF(Deviation_Limits!B231=\"\",\"\",Deviation_Limits!B231)","v":""},{"$f":"IF(Deviation_Limits!C231=\"\",\"\",Deviation_Limits!C231)","v":""},{"$f":"IF(Deviation_Limits!D231=\"\",\"\",Deviation_Limits!D231)","v":""},"",{"$f":"IF(COUNTIF(AQ$2:AQ209,AQ209)=1,AQ209,\"\")","v":""},"","","",null,{"$f":"+IF(BD209=\"\",\"\",MAX(AY$1:AY208)+1)","v":""},{"$f":"IF(Deviation_CEM_CPMS!B231=\"\",\"\",Deviation_CEM_CPMS!B231)","v":""},{"$f":"IF(Deviation_CEM_CPMS!C231=\"\",\"\",Deviation_CEM_CPMS!C231)","v":""},{"$f":"IF(Deviation_CEM_CPMS!D231=\"\",\"\",Deviation_CEM_CPMS!D231)","v":""},"",{"$f":"IF(COUNTIF(BA$2:BA209,BA209)=1,BA209,\"\")","v":""},"","",""]
[{"$f":"IF(B210=\"\",\"\",MAX(A$1:A209)+1)","v":""},{"$f":"+IF(CPMS_Identification!C232=\"\",\"\",CPMS_Identification!C232)","v":""},"",null,{"$f":"IF(F210=\"\",\"\",MAX(E$1:E209)+1)","v":""},{"$f":"IF(Landfill_Gas_ID!C232=\"\",\"\",Landfill_Gas_ID!C232)","v":""},"",null,{"$f":"IF(J210=\"\",\"\",MAX(I$1:I209)+1)","v":""},{"$f":"IF(Distillate_Oil!C232=\"\",\"\",Distillate_Oil!C232)","v":""},"",null,null,null,null,null,null,null,null,null,null,null,null,null,null,null,{"$f":"+IF(AE210=\"\",\"\",MAX(AA$1:AA209)+1)","v":""},{"$f":"IF(Deviation_Limits!B232=\"\",\"\",Deviation_Limits!B232)","v":""},{"$f":"IF(Deviation_Limits!C232=\"\",\"\",Deviation_Limits!C232)","v":""},"",{"$f":"IF(COUNTIF(AC$2:AC210,AC210)=1,AC210,\"\")","v":""},"","",null,null,null,null,null,null,null,{"$f":"+IF(AT210=\"\",\"\",MAX(AO$1:AO209)+1)","v":""},{"$f":"IF(Deviation_Limits!B232=\"\",\"\",Deviation_Limits!B232)","v":""},{"$f":"IF(Deviation_Limits!C232=\"\",\"\",Deviation_Limits!C232)","v":""},{"$f":"IF(Deviation_Limits!D232=\"\",\"\",Deviation_Limits!D232)","v":""},"",{"$f":"IF(COUNTIF(AQ$2:AQ210,AQ210)=1,AQ210,\"\")","v":""},"","","",null,{"$f":"+IF(BD210=\"\",\"\",MAX(AY$1:AY209)+1)","v":""},{"$f":"IF(Deviation_CEM_CPMS!B232=\"\",\"\",Deviation_CEM_CPMS!B232)","v":""},{"$f":"IF(Deviation_CEM_CPMS!C232=\"\",\"\",Deviation_CEM_CPMS!C232)","v":""},{"$f":"IF(Deviation_CEM_CPMS!D232=\"\",\"\",Deviation_CEM_CPMS!D232)","v":""},"",{"$f":"IF(COUNTIF(BA$2:BA210,BA210)=1,BA210,\"\")","v":""},"","",""]
[{"$f":"IF(B211=\"\",\"\",MAX(A$1:A210)+1)","v":""},{"$f":"+IF(CPMS_Identification!C233=\"\",\"\",CPMS_Identification!C233)","v":""},"",null,{"$f":"IF(F211=\"\",\"\",MAX(E$1:E210)+1)","v":""},{"$f":"IF(Landfill_Gas_ID!C233=\"\",\"\",Landfill_Gas_ID!C233)","v":""},"",null,{"$f":"IF(J211=\"\",\"\",MAX(I$1:I210)+1)","v":""},{"$f":"IF(Distillate_Oil!C233=\"\",\"\",Distillate_Oil!C233)","v":""},"",null,null,null,null,null,null,null,null,null,null,null,null,null,null,null,{"$f":"+IF(AE211=\"\",\"\",MAX(AA$1:AA210)+1)","v":""},{"$f":"IF(Deviation_Limits!B233=\"\",\"\",Deviation_Limits!B233)","v":""},{"$f":"IF(Deviation_Limits!C233=\"\",\"\",Deviation_Limits!C233)","v":""},"",{"$f":"IF(COUNTIF(AC$2:AC211,AC211)=1,AC211,\"\")","v":""},"","",null,null,null,null,null,null,null,{"$f":"+IF(AT211=\"\",\"\",MAX(AO$1:AO210)+1)","v":""},{"$f":"IF(Deviation_Limits!B233=\"\",\"\",Deviation_Limits!B233)","v":""},{"$f":"IF(Deviation_Limits!C233=\"\",\"\",Deviation_Limits!C233)","v":""},{"$f":"IF(Deviation_Limits!D233=\"\",\"\",Deviation_Limits!D233)","v":""},"",{"$f":"IF(COUNTIF(AQ$2:AQ211,AQ211)=1,AQ211,\"\")","v":""},"","","",null,{"$f":"+IF(BD211=\"\",\"\",MAX(AY$1:AY210)+1)","v":""},{"$f":"IF(Deviation_CEM_CPMS!B233=\"\",\"\",Deviation_CEM_CPMS!B233)","v":""},{"$f":"IF(Deviation_CEM_CPMS!C233=\"\",\"\",Deviation_CEM_CPMS!C233)","v":""},{"$f":"IF(Deviation_CEM_CPMS!D233=\"\",\"\",Deviation_CEM_CPMS!D233)","v":""},"",{"$f":"IF(COUNTIF(BA$2:BA211,BA211)=1,BA211,\"\")","v":""},"","",""]
[{"$f":"IF(B212=\"\",\"\",MAX(A$1:A211)+1)","v":""},{"$f":"+IF(CPMS_Identification!C234=\"\",\"\",CPMS_Identification!C234)","v":""},"",null,{"$f":"IF(F212=\"\",\"\",MAX(E$1:E211)+1)","v":""},{"$f":"IF(Landfill_Gas_ID!C234=\"\",\"\",Landfill_Gas_ID!C234)","v":""},"",null,{"$f":"IF(J212=\"\",\"\",MAX(I$1:I211)+1)","v":""},{"$f":"IF(Distillate_Oil!C234=\"\",\"\",Distillate_Oil!C234)","v":""},"",null,null,null,null,null,null,null,null,null,null,null,null,null,null,null,{"$f":"+IF(AE212=\"\",\"\",MAX(AA$1:AA211)+1)","v":""},{"$f":"IF(Deviation_Limits!B234=\"\",\"\",Deviation_Limits!B234)","v":""},{"$f":"IF(Deviation_Limits!C234=\"\",\"\",Deviation_Limits!C234)","v":""},"",{"$f":"IF(COUNTIF(AC$2:AC212,AC212)=1,AC212,\"\")","v":""},"","",null,null,null,null,null,null,null,{"$f":"+IF(AT212=\"\",\"\",MAX(AO$1:AO211)+1)","v":""},{"$f":"IF(Deviation_Limits!B234=\"\",\"\",Deviation_Limits!B234)","v":""},{"$f":"IF(Deviation_Limits!C234=\"\",\"\",Deviation_Limits!C234)","v":""},{"$f":"IF(Deviation_Limits!D234=\"\",\"\",Deviation_Limits!D234)","v":""},"",{"$f":"IF(COUNTIF(AQ$2:AQ212,AQ212)=1,AQ212,\"\")","v":""},"","","",null,{"$f":"+IF(BD212=\"\",\"\",MAX(AY$1:AY211)+1)","v":""},{"$f":"IF(Deviation_CEM_CPMS!B234=\"\",\"\",Deviation_CEM_CPMS!B234)","v":""},{"$f":"IF(Deviation_CEM_CPMS!C234=\"\",\"\",Deviation_CEM_CPMS!C234)","v":""},{"$f":"IF(Deviation_CEM_CPMS!D234=\"\",\"\",Deviation_CEM_CPMS!D234)","v":""},"",{"$f":"IF(COUNTIF(BA$2:BA212,BA212)=1,BA212,\"\")","v":""},"","",""]
[{"$f":"IF(B213=\"\",\"\",MAX(A$1:A212)+1)","v":""},{"$f":"+IF(CPMS_Identification!C235=\"\",\"\",CPMS_Identification!C235)","v":""},"",null,{"$f":"IF(F213=\"\",\"\",MAX(E$1:E212)+1)","v":""},{"$f":"IF(Landfill_Gas_ID!C235=\"\",\"\",Landfill_Gas_ID!C235)","v":""},"",null,{"$f":"IF(J213=\"\",\"\",MAX(I$1:I212)+1)","v":""},{"$f":"IF(Distillate_Oil!C235=\"\",\"\",Distillate_Oil!C235)","v":""},"",null,null,null,null,null,null,null,null,null,null,null,null,null,null,null,{"$f":"+IF(AE213=\"\",\"\",MAX(AA$1:AA212)+1)","v":""},{"$f":"IF(Deviation_Limits!B235=\"\",\"\",Deviation_Limits!B235)","v":""},{"$f":"IF(Deviation_Limits!C235=\"\",\"\",Deviation_Limits!C235)","v":""},"",{"$f":"IF(COUNTIF(AC$2:AC213,AC213)=1,AC213,\"\")","v":""},"","",null,null,null,null,null,null,null,{"$f":"+IF(AT213=\"\",\"\",MAX(AO$1:AO212)+1)","v":""},{"$f":"IF(Deviation_Limits!B235=\"\",\"\",Deviation_Limits!B235)","v":""},{"$f":"IF(Deviation_Limits!C235=\"\",\"\",Deviation_Limits!C235)","v":""},{"$f":"IF(Deviation_Limits!D235=\"\",\"\",Deviation_Limits!D235)","v":""},"",{"$f":"IF(COUNTIF(AQ$2:AQ213,AQ213)=1,AQ213,\"\")","v":""},"","","",null,{"$f":"+IF(BD213=\"\",\"\",MAX(AY$1:AY212)+1)","v":""},{"$f":"IF(Deviation_CEM_CPMS!B235=\"\",\"\",Deviation_CEM_CPMS!B235)","v":""},{"$f":"IF(Deviation_CEM_CPMS!C235=\"\",\"\",Deviation_CEM_CPMS!C235)","v":""},{"$f":"IF(Deviation_CEM_CPMS!D235=\"\",\"\",Deviation_CEM_CPMS!D235)","v":""},"",{"$f":"IF(COUNTIF(BA$2:BA213,BA213)=1,BA213,\"\")","v":""},"","",""]
[{"$f":"IF(B214=\"\",\"\",MAX(A$1:A213)+1)","v":""},{"$f":"+IF(CPMS_Identification!C236=\"\",\"\",CPMS_Identification!C236)","v":""},"",null,{"$f":"IF(F214=\"\",\"\",MAX(E$1:E213)+1)","v":""},{"$f":"IF(Landfill_Gas_ID!C236=\"\",\"\",Landfill_Gas_ID!C236)","v":""},"",null,{"$f":"IF(J214=\"\",\"\",MAX(I$1:I213)+1)","v":""},{"$f":"IF(Distillate_Oil!C236=\"\",\"\",Distillate_Oil!C236)","v":""},"",null,null,null,null,null,null,null,null,null,null,null,null,null,null,null,{"$f":"+IF(AE214=\"\",\"\",MAX(AA$1:AA213)+1)","v":""},{"$f":"IF(Deviation_Limits!B236=\"\",\"\",Deviation_Limits!B236)","v":""},{"$f":"IF(Deviation_Limits!C236=\"\",\"\",Deviation_Limits!C236)","v":""},"",{"$f":"IF(COUNTIF(AC$2:AC214,AC214)=1,AC214,\"\")","v":""},"","",null,null,null,null,null,null,null,{"$f":"+IF(AT214=\"\",\"\",MAX(AO$1:AO213)+1)","v":""},{"$f":"IF(Deviation_Limits!B236=\"\",\"\",Deviation_Limits!B236)","v":""},{"$f":"IF(Deviation_Limits!C236=\"\",\"\",Deviation_Limits!C236)","v":""},{"$f":"IF(Deviation_Limits!D236=\"\",\"\",Deviation_Limits!D236)","v":""},"",{"$f":"IF(COUNTIF(AQ$2:AQ214,AQ214)=1,AQ214,\"\")","v":""},"","","",null,{"$f":"+IF(BD214=\"\",\"\",MAX(AY$1:AY213)+1)","v":""},{"$f":"IF(Deviation_CEM_CPMS!B236=\"\",\"\",Deviation_CEM_CPMS!B236)","v":""},{"$f":"IF(Deviation_CEM_CPMS!C236=\"\",\"\",Deviation_CEM_CPMS!C236)","v":""},{"$f":"IF(Deviation_CEM_CPMS!D236=\"\",\"\",Deviation_CEM_CPMS!D236)","v":""},"",{"$f":"IF(COUNTIF(BA$2:BA214,BA214)=1,BA214,\"\")","v":""},"","",""]
[{"$f":"IF(B215=\"\",\"\",MAX(A$1:A214)+1)","v":""},{"$f":"+IF(CPMS_Identification!C237=\"\",\"\",CPMS_Identification!C237)","v":""},"",null,{"$f":"IF(F215=\"\",\"\",MAX(E$1:E214)+1)","v":""},{"$f":"IF(Landfill_Gas_ID!C237=\"\",\"\",Landfill_Gas_ID!C237)","v":""},"",null,{"$f":"IF(J215=\"\",\"\",MAX(I$1:I214)+1)","v":""},{"$f":"IF(Distillate_Oil!C237=\"\",\"\",Distillate_Oil!C237)","v":""},"",null,null,null,null,null,null,null,null,null,null,null,null,null,null,null,{"$f":"+IF(AE215=\"\",\"\",MAX(AA$1:AA214)+1)","v":""},{"$f":"IF(Deviation_Limits!B237=\"\",\"\",Deviation_Limits!B237)","v":""},{"$f":"IF(Deviation_Limits!C237=\"\",\"\",Deviation_Limits!C237)","v":""},"",{"$f":"IF(COUNTIF(AC$2:AC215,AC215)=1,AC215,\"\")","v":""},"","",null,null,null,null,null,null,null,{"$f":"+IF(AT215=\"\",\"\",MAX(AO$1:AO214)+1)","v":""},{"$f":"IF(Deviation_Limits!B237=\"\",\"\",Deviation_Limits!B237)","v":""},{"$f":"IF(Deviation_Limits!C237=\"\",\"\",Deviation_Limits!C237)","v":""},{"$f":"IF(Deviation_Limits!D237=\"\",\"\",Deviation_Limits!D237)","v":""},"",{"$f":"IF(COUNTIF(AQ$2:AQ215,AQ215)=1,AQ215,\"\")","v":""},"","","",null,{"$f":"+IF(BD215=\"\",\"\",MAX(AY$1:AY214)+1)","v":""},{"$f":"IF(Deviation_CEM_CPMS!B237=\"\",\"\",Deviation_CEM_CPMS!B237)","v":""},{"$f":"IF(Deviation_CEM_CPMS!C237=\"\",\"\",Deviation_CEM_CPMS!C237)","v":""},{"$f":"IF(Deviation_CEM_CPMS!D237=\"\",\"\",Deviation_CEM_CPMS!D237)","v":""},"",{"$f":"IF(COUNTIF(BA$2:BA215,BA215)=1,BA215,\"\")","v":""},"","",""]
[{"$f":"IF(B216=\"\",\"\",MAX(A$1:A215)+1)","v":""},{"$f":"+IF(CPMS_Identification!C238=\"\",\"\",CPMS_Identification!C238)","v":""},"",null,{"$f":"IF(F216=\"\",\"\",MAX(E$1:E215)+1)","v":""},{"$f":"IF(Landfill_Gas_ID!C238=\"\",\"\",Landfill_Gas_ID!C238)","v":""},"",null,{"$f":"IF(J216=\"\",\"\",MAX(I$1:I215)+1)","v":""},{"$f":"IF(Distillate_Oil!C238=\"\",\"\",Distillate_Oil!C238)","v":""},"",null,null,null,null,null,null,null,null,null,null,null,null,null,null,null,{"$f":"+IF(AE216=\"\",\"\",MAX(AA$1:AA215)+1)","v":""},{"$f":"IF(Deviation_Limits!B238=\"\",\"\",Deviation_Limits!B238)","v":""},{"$f":"IF(Deviation_Limits!C238=\"\",\"\",Deviation_Limits!C238)","v":""},"",{"$f":"IF(COUNTIF(AC$2:AC216,AC216)=1,AC216,\"\")","v":""},"","",null,null,null,null,null,null,null,{"$f":"+IF(AT216=\"\",\"\",MAX(AO$1:AO215)+1)","v":""},{"$f":"IF(Deviation_Limits!B238=\"\",\"\",Deviation_Limits!B238)","v":""},{"$f":"IF(Deviation_Limits!C238=\"\",\"\",Deviation_Limits!C238)","v":""},{"$f":"IF(Deviation_Limits!D238=\"\",\"\",Deviation_Limits!D238)","v":""},"",{"$f":"IF(COUNTIF(AQ$2:AQ216,AQ216)=1,AQ216,\"\")","v":""},"","","",null,{"$f":"+IF(BD216=\"\",\"\",MAX(AY$1:AY215)+1)","v":""},{"$f":"IF(Deviation_CEM_CPMS!B238=\"\",\"\",Deviation_CEM_CPMS!B238)","v":""},{"$f":"IF(Deviation_CEM_CPMS!C238=\"\",\"\",Deviation_CEM_CPMS!C238)","v":""},{"$f":"IF(Deviation_CEM_CPMS!D238=\"\",\"\",Deviation_CEM_CPMS!D238)","v":""},"",{"$f":"IF(COUNTIF(BA$2:BA216,BA216)=1,BA216,\"\")","v":""},"","",""]
[{"$f":"IF(B217=\"\",\"\",MAX(A$1:A216)+1)","v":""},{"$f":"+IF(CPMS_Identification!C239=\"\",\"\",CPMS_Identification!C239)","v":""},"",null,{"$f":"IF(F217=\"\",\"\",MAX(E$1:E216)+1)","v":""},{"$f":"IF(Landfill_Gas_ID!C239=\"\",\"\",Landfill_Gas_ID!C239)","v":""},"",null,{"$f":"IF(J217=\"\",\"\",MAX(I$1:I216)+1)","v":""},{"$f":"IF(Distillate_Oil!C239=\"\",\"\",Distillate_Oil!C239)","v":""},"",null,null,null,null,null,null,null,null,null,null,null,null,null,null,null,{"$f":"+IF(AE217=\"\",\"\",MAX(AA$1:AA216)+1)","v":""},{"$f":"IF(Deviation_Limits!B239=\"\",\"\",Deviation_Limits!B239)","v":""},{"$f":"IF(Deviation_Limits!C239=\"\",\"\",Deviation_Limits!C239)","v":""},"",{"$f":"IF(COUNTIF(AC$2:AC217,AC217)=1,AC217,\"\")","v":""},"","",null,null,null,null,null,null,null,{"$f":"+IF(AT217=\"\",\"\",MAX(AO$1:AO216)+1)","v":""},{"$f":"IF(Deviation_Limits!B239=\"\",\"\",Deviation_Limits!B239)","v":""},{"$f":"IF(Deviation_Limits!C239=\"\",\"\",Deviation_Limits!C239)","v":""},{"$f":"IF(Deviation_Limits!D239=\"\",\"\",Deviation_Limits!D239)","v":""},"",{"$f":"IF(COUNTIF(AQ$2:AQ217,AQ217)=1,AQ217,\"\")","v":""},"","","",null,{"$f":"+IF(BD217=\"\",\"\",MAX(AY$1:AY216)+1)","v":""},{"$f":"IF(Deviation_CEM_CPMS!B239=\"\",\"\",Deviation_CEM_CPMS!B239)","v":""},{"$f":"IF(Deviation_CEM_CPMS!C239=\"\",\"\",Deviation_CEM_CPMS!C239)","v":""},{"$f":"IF(Deviation_CEM_CPMS!D239=\"\",\"\",Deviation_CEM_CPMS!D239)","v":""},"",{"$f":"IF(COUNTIF(BA$2:BA217,BA217)=1,BA217,\"\")","v":""},"","",""]
[{"$f":"IF(B218=\"\",\"\",MAX(A$1:A217)+1)","v":""},{"$f":"+IF(CPMS_Identification!C240=\"\",\"\",CPMS_Identification!C240)","v":""},"",null,{"$f":"IF(F218=\"\",\"\",MAX(E$1:E217)+1)","v":""},{"$f":"IF(Landfill_Gas_ID!C240=\"\",\"\",Landfill_Gas_ID!C240)","v":""},"",null,{"$f":"IF(J218=\"\",\"\",MAX(I$1:I217)+1)","v":""},{"$f":"IF(Distillate_Oil!C240=\"\",\"\",Distillate_Oil!C240)","v":""},"",null,null,null,null,null,null,null,null,null,null,null,null,null,null,null,{"$f":"+IF(AE218=\"\",\"\",MAX(AA$1:AA217)+1)","v":""},{"$f":"IF(Deviation_Limits!B240=\"\",\"\",Deviation_Limits!B240)","v":""},{"$f":"IF(Deviation_Limits!C240=\"\",\"\",Deviation_Limits!C240)","v":""},"",{"$f":"IF(COUNTIF(AC$2:AC218,AC218)=1,AC218,\"\")","v":""},"","",null,null,null,null,null,null,null,{"$f":"+IF(AT218=\"\",\"\",MAX(AO$1:AO217)+1)","v":""},{"$f":"IF(Deviation_Limits!B240=\"\",\"\",Deviation_Limits!B240)","v":""},{"$f":"IF(Deviation_Limits!C240=\"\",\"\",Deviation_Limits!C240)","v":""},{"$f":"IF(Deviation_Limits!D240=\"\",\"\",Deviation_Limits!D240)","v":""},"",{"$f":"IF(COUNTIF(AQ$2:AQ218,AQ218)=1,AQ218,\"\")","v":""},"","","",null,{"$f":"+IF(BD218=\"\",\"\",MAX(AY$1:AY217)+1)","v":""},{"$f":"IF(Deviation_CEM_CPMS!B240=\"\",\"\",Deviation_CEM_CPMS!B240)","v":""},{"$f":"IF(Deviation_CEM_CPMS!C240=\"\",\"\",Deviation_CEM_CPMS!C240)","v":""},{"$f":"IF(Deviation_CEM_CPMS!D240=\"\",\"\",Deviation_CEM_CPMS!D240)","v":""},"",{"$f":"IF(COUNTIF(BA$2:BA218,BA218)=1,BA218,\"\")","v":""},"","",""]
[{"$f":"IF(B219=\"\",\"\",MAX(A$1:A218)+1)","v":""},{"$f":"+IF(CPMS_Identification!C241=\"\",\"\",CPMS_Identification!C241)","v":""},"",null,{"$f":"IF(F219=\"\",\"\",MAX(E$1:E218)+1)","v":""},{"$f":"IF(Landfill_Gas_ID!C241=\"\",\"\",Landfill_Gas_ID!C241)","v":""},"",null,{"$f":"IF(J219=\"\",\"\",MAX(I$1:I218)+1)","v":""},{"$f":"IF(Distillate_Oil!C241=\"\",\"\",Distillate_Oil!C241)","v":""},"",null,null,null,null,null,null,null,null,null,null,null,null,null,null,null,{"$f":"+IF(AE219=\"\",\"\",MAX(AA$1:AA218)+1)","v":""},{"$f":"IF(Deviation_Limits!B241=\"\",\"\",Deviation_Limits!B241)","v":""},{"$f":"IF(Deviation_Limits!C241=\"\",\"\",Deviation_Limits!C241)","v":""},"",{"$f":"IF(COUNTIF(AC$2:AC219,AC219)=1,AC219,\"\")","v":""},"","",null,null,null,null,null,null,null,{"$f":"+IF(AT219=\"\",\"\",MAX(AO$1:AO218)+1)","v":""},{"$f":"IF(Deviation_Limits!B241=\"\",\"\",Deviation_Limits!B241)","v":""},{"$f":"IF(Deviation_Limits!C241=\"\",\"\",Deviation_Limits!C241)","v":""},{"$f":"IF(Deviation_Limits!D241=\"\",\"\",Deviation_Limits!D241)","v":""},"",{"$f":"IF(COUNTIF(AQ$2:AQ219,AQ219)=1,AQ219,\"\")","v":""},"","","",null,{"$f":"+IF(BD219=\"\",\"\",MAX(AY$1:AY218)+1)","v":""},{"$f":"IF(Deviation_CEM_CPMS!B241=\"\",\"\",Deviation_CEM_CPMS!B241)","v":""},{"$f":"IF(Deviation_CEM_CPMS!C241=\"\",\"\",Deviation_CEM_CPMS!C241)","v":""},{"$f":"IF(Deviation_CEM_CPMS!D241=\"\",\"\",Deviation_CEM_CPMS!D241)","v":""},"",{"$f":"IF(COUNTIF(BA$2:BA219,BA219)=1,BA219,\"\")","v":""},"","",""]
[{"$f":"IF(B220=\"\",\"\",MAX(A$1:A219)+1)","v":""},{"$f":"+IF(CPMS_Identification!C242=\"\",\"\",CPMS_Identification!C242)","v":""},"",null,{"$f":"IF(F220=\"\",\"\",MAX(E$1:E219)+1)","v":""},{"$f":"IF(Landfill_Gas_ID!C242=\"\",\"\",Landfill_Gas_ID!C242)","v":""},"",null,{"$f":"IF(J220=\"\",\"\",MAX(I$1:I219)+1)","v":""},{"$f":"IF(Distillate_Oil!C242=\"\",\"\",Distillate_Oil!C242)","v":""},"",null,null,null,null,null,null,null,null,null,null,null,null,null,null,null,{"$f":"+IF(AE220=\"\",\"\",MAX(AA$1:AA219)+1)","v":""},{"$f":"IF(Deviation_Limits!B242=\"\",\"\",Deviation_Limits!B242)","v":""},{"$f":"IF(Deviation_Limits!C242=\"\",\"\",Deviation_Limits!C242)","v":""},"",{"$f":"IF(COUNTIF(AC$2:AC220,AC220)=1,AC220,\"\")","v":""},"","",null,null,null,null,null,null,null,{"$f":"+IF(AT220=\"\",\"\",MAX(AO$1:AO219)+1)","v":""},{"$f":"IF(Deviation_Limits!B242=\"\",\"\",Deviation_Limits!B242)","v":""},{"$f":"IF(Deviation_Limits!C242=\"\",\"\",Deviation_Limits!C242)","v":""},{"$f":"IF(Deviation_Limits!D242=\"\",\"\",Deviation_Limits!D242)","v":""},"",{"$f":"IF(COUNTIF(AQ$2:AQ220,AQ220)=1,AQ220,\"\")","v":""},"","","",null,{"$f":"+IF(BD220=\"\",\"\",MAX(AY$1:AY219)+1)","v":""},{"$f":"IF(Deviation_CEM_CPMS!B242=\"\",\"\",Deviation_CEM_CPMS!B242)","v":""},{"$f":"IF(Deviation_CEM_CPMS!C242=\"\",\"\",Deviation_CEM_CPMS!C242)","v":""},{"$f":"IF(Deviation_CEM_CPMS!D242=\"\",\"\",Deviation_CEM_CPMS!D242)","v":""},"",{"$f":"IF(COUNTIF(BA$2:BA220,BA220)=1,BA220,\"\")","v":""},"","",""]
[{"$f":"IF(B221=\"\",\"\",MAX(A$1:A220)+1)","v":""},{"$f":"+IF(CPMS_Identification!C243=\"\",\"\",CPMS_Identification!C243)","v":""},"",null,{"$f":"IF(F221=\"\",\"\",MAX(E$1:E220)+1)","v":""},{"$f":"IF(Landfill_Gas_ID!C243=\"\",\"\",Landfill_Gas_ID!C243)","v":""},"",null,{"$f":"IF(J221=\"\",\"\",MAX(I$1:I220)+1)","v":""},{"$f":"IF(Distillate_Oil!C243=\"\",\"\",Distillate_Oil!C243)","v":""},"",null,null,null,null,null,null,null,null,null,null,null,null,null,null,null,{"$f":"+IF(AE221=\"\",\"\",MAX(AA$1:AA220)+1)","v":""},{"$f":"IF(Deviation_Limits!B243=\"\",\"\",Deviation_Limits!B243)","v":""},{"$f":"IF(Deviation_Limits!C243=\"\",\"\",Deviation_Limits!C243)","v":""},"",{"$f":"IF(COUNTIF(AC$2:AC221,AC221)=1,AC221,\"\")","v":""},"","",null,null,null,null,null,null,null,{"$f":"+IF(AT221=\"\",\"\",MAX(AO$1:AO220)+1)","v":""},{"$f":"IF(Deviation_Limits!B243=\"\",\"\",Deviation_Limits!B243)","v":""},{"$f":"IF(Deviation_Limits!C243=\"\",\"\",Deviation_Limits!C243)","v":""},{"$f":"IF(Deviation_Limits!D243=\"\",\"\",Deviation_Limits!D243)","v":""},"",{"$f":"IF(COUNTIF(AQ$2:AQ221,AQ221)=1,AQ221,\"\")","v":""},"","","",null,{"$f":"+IF(BD221=\"\",\"\",MAX(AY$1:AY220)+1)","v":""},{"$f":"IF(Deviation_CEM_CPMS!B243=\"\",\"\",Deviation_CEM_CPMS!B243)","v":""},{"$f":"IF(Deviation_CEM_CPMS!C243=\"\",\"\",Deviation_CEM_CPMS!C243)","v":""},{"$f":"IF(Deviation_CEM_CPMS!D243=\"\",\"\",Deviation_CEM_CPMS!D243)","v":""},"",{"$f":"IF(COUNTIF(BA$2:BA221,BA221)=1,BA221,\"\")","v":""},"","",""]
[{"$f":"IF(B222=\"\",\"\",MAX(A$1:A221)+1)","v":""},{"$f":"+IF(CPMS_Identification!C244=\"\",\"\",CPMS_Identification!C244)","v":""},"",null,{"$f":"IF(F222=\"\",\"\",MAX(E$1:E221)+1)","v":""},{"$f":"IF(Landfill_Gas_ID!C244=\"\",\"\",Landfill_Gas_ID!C244)","v":""},"",null,{"$f":"IF(J222=\"\",\"\",MAX(I$1:I221)+1)","v":""},{"$f":"IF(Distillate_Oil!C244=\"\",\"\",Distillate_Oil!C244)","v":""},"",null,null,null,null,null,null,null,null,null,null,null,null,null,null,null,{"$f":"+IF(AE222=\"\",\"\",MAX(AA$1:AA221)+1)","v":""},{"$f":"IF(Deviation_Limits!B244=\"\",\"\",Deviation_Limits!B244)","v":""},{"$f":"IF(Deviation_Limits!C244=\"\",\"\",Deviation_Limits!C244)","v":""},"",{"$f":"IF(COUNTIF(AC$2:AC222,AC222)=1,AC222,\"\")","v":""},"","",null,null,null,null,null,null,null,{"$f":"+IF(AT222=\"\",\"\",MAX(AO$1:AO221)+1)","v":""},{"$f":"IF(Deviation_Limits!B244=\"\",\"\",Deviation_Limits!B244)","v":""},{"$f":"IF(Deviation_Limits!C244=\"\",\"\",Deviation_Limits!C244)","v":""},{"$f":"IF(Deviation_Limits!D244=\"\",\"\",Deviation_Limits!D244)","v":""},"",{"$f":"IF(COUNTIF(AQ$2:AQ222,AQ222)=1,AQ222,\"\")","v":""},"","","",null,{"$f":"+IF(BD222=\"\",\"\",MAX(AY$1:AY221)+1)","v":""},{"$f":"IF(Deviation_CEM_CPMS!B244=\"\",\"\",Deviation_CEM_CPMS!B244)","v":""},{"$f":"IF(Deviation_CEM_CPMS!C244=\"\",\"\",Deviation_CEM_CPMS!C244)","v":""},{"$f":"IF(Deviation_CEM_CPMS!D244=\"\",\"\",Deviation_CEM_CPMS!D244)","v":""},"",{"$f":"IF(COUNTIF(BA$2:BA222,BA222)=1,BA222,\"\")","v":""},"","",""]
[{"$f":"IF(B223=\"\",\"\",MAX(A$1:A222)+1)","v":""},{"$f":"+IF(CPMS_Identification!C245=\"\",\"\",CPMS_Identification!C245)","v":""},"",null,{"$f":"IF(F223=\"\",\"\",MAX(E$1:E222)+1)","v":""},{"$f":"IF(Landfill_Gas_ID!C245=\"\",\"\",Landfill_Gas_ID!C245)","v":""},"",null,{"$f":"IF(J223=\"\",\"\",MAX(I$1:I222)+1)","v":""},{"$f":"IF(Distillate_Oil!C245=\"\",\"\",Distillate_Oil!C245)","v":""},"",null,null,null,null,null,null,null,null,null,null,null,null,null,null,null,{"$f":"+IF(AE223=\"\",\"\",MAX(AA$1:AA222)+1)","v":""},{"$f":"IF(Deviation_Limits!B245=\"\",\"\",Deviation_Limits!B245)","v":""},{"$f":"IF(Deviation_Limits!C245=\"\",\"\",Deviation_Limits!C245)","v":""},"",{"$f":"IF(COUNTIF(AC$2:AC223,AC223)=1,AC223,\"\")","v":""},"","",null,null,null,null,null,null,null,{"$f":"+IF(AT223=\"\",\"\",MAX(AO$1:AO222)+1)","v":""},{"$f":"IF(Deviation_Limits!B245=\"\",\"\",Deviation_Limits!B245)","v":""},{"$f":"IF(Deviation_Limits!C245=\"\",\"\",Deviation_Limits!C245)","v":""},{"$f":"IF(Deviation_Limits!D245=\"\",\"\",Deviation_Limits!D245)","v":""},"",{"$f":"IF(COUNTIF(AQ$2:AQ223,AQ223)=1,AQ223,\"\")","v":""},"","","",null,{"$f":"+IF(BD223=\"\",\"\",MAX(AY$1:AY222)+1)","v":""},{"$f":"IF(Deviation_CEM_CPMS!B245=\"\",\"\",Deviation_CEM_CPMS!B245)","v":""},{"$f":"IF(Deviation_CEM_CPMS!C245=\"\",\"\",Deviation_CEM_CPMS!C245)","v":""},{"$f":"IF(Deviation_CEM_CPMS!D245=\"\",\"\",Deviation_CEM_CPMS!D245)","v":""},"",{"$f":"IF(COUNTIF(BA$2:BA223,BA223)=1,BA223,\"\")","v":""},"","",""]
[{"$f":"IF(B224=\"\",\"\",MAX(A$1:A223)+1)","v":""},{"$f":"+IF(CPMS_Identification!C246=\"\",\"\",CPMS_Identification!C246)","v":""},"",null,{"$f":"IF(F224=\"\",\"\",MAX(E$1:E223)+1)","v":""},{"$f":"IF(Landfill_Gas_ID!C246=\"\",\"\",Landfill_Gas_ID!C246)","v":""},"",null,{"$f":"IF(J224=\"\",\"\",MAX(I$1:I223)+1)","v":""},{"$f":"IF(Distillate_Oil!C246=\"\",\"\",Distillate_Oil!C246)","v":""},"",null,null,null,null,null,null,null,null,null,null,null,null,null,null,null,{"$f":"+IF(AE224=\"\",\"\",MAX(AA$1:AA223)+1)","v":""},{"$f":"IF(Deviation_Limits!B246=\"\",\"\",Deviation_Limits!B246)","v":""},{"$f":"IF(Deviation_Limits!C246=\"\",\"\",Deviation_Limits!C246)","v":""},"",{"$f":"IF(COUNTIF(AC$2:AC224,AC224)=1,AC224,\"\")","v":""},"","",null,null,null,null,null,null,null,{"$f":"+IF(AT224=\"\",\"\",MAX(AO$1:AO223)+1)","v":""},{"$f":"IF(Deviation_Limits!B246=\"\",\"\",Deviation_Limits!B246)","v":""},{"$f":"IF(Deviation_Limits!C246=\"\",\"\",Deviation_Limits!C246)","v":""},{"$f":"IF(Deviation_Limits!D246=\"\",\"\",Deviation_Limits!D246)","v":""},"",{"$f":"IF(COUNTIF(AQ$2:AQ224,AQ224)=1,AQ224,\"\")","v":""},"","","",null,{"$f":"+IF(BD224=\"\",\"\",MAX(AY$1:AY223)+1)","v":""},{"$f":"IF(Deviation_CEM_CPMS!B246=\"\",\"\",Deviation_CEM_CPMS!B246)","v":""},{"$f":"IF(Deviation_CEM_CPMS!C246=\"\",\"\",Deviation_CEM_CPMS!C246)","v":""},{"$f":"IF(Deviation_CEM_CPMS!D246=\"\",\"\",Deviation_CEM_CPMS!D246)","v":""},"",{"$f":"IF(COUNTIF(BA$2:BA224,BA224)=1,BA224,\"\")","v":""},"","",""]
[{"$f":"IF(B225=\"\",\"\",MAX(A$1:A224)+1)","v":""},{"$f":"+IF(CPMS_Identification!C247=\"\",\"\",CPMS_Identification!C247)","v":""},"",null,{"$f":"IF(F225=\"\",\"\",MAX(E$1:E224)+1)","v":""},{"$f":"IF(Landfill_Gas_ID!C247=\"\",\"\",Landfill_Gas_ID!C247)","v":""},"",null,{"$f":"IF(J225=\"\",\"\",MAX(I$1:I224)+1)","v":""},{"$f":"IF(Distillate_Oil!C247=\"\",\"\",Distillate_Oil!C247)","v":""},"",null,null,null,null,null,null,null,null,null,null,null,null,null,null,null,{"$f":"+IF(AE225=\"\",\"\",MAX(AA$1:AA224)+1)","v":""},{"$f":"IF(Deviation_Limits!B247=\"\",\"\",Deviation_Limits!B247)","v":""},{"$f":"IF(Deviation_Limits!C247=\"\",\"\",Deviation_Limits!C247)","v":""},"",{"$f":"IF(COUNTIF(AC$2:AC225,AC225)=1,AC225,\"\")","v":""},"","",null,null,null,null,null,null,null,{"$f":"+IF(AT225=\"\",\"\",MAX(AO$1:AO224)+1)","v":""},{"$f":"IF(Deviation_Limits!B247=\"\",\"\",Deviation_Limits!B247)","v":""},{"$f":"IF(Deviation_Limits!C247=\"\",\"\",Deviation_Limits!C247)","v":""},{"$f":"IF(Deviation_Limits!D247=\"\",\"\",Deviation_Limits!D247)","v":""},"",{"$f":"IF(COUNTIF(AQ$2:AQ225,AQ225)=1,AQ225,\"\")","v":""},"","","",null,{"$f":"+IF(BD225=\"\",\"\",MAX(AY$1:AY224)+1)","v":""},{"$f":"IF(Deviation_CEM_CPMS!B247=\"\",\"\",Deviation_CEM_CPMS!B247)","v":""},{"$f":"IF(Deviation_CEM_CPMS!C247=\"\",\"\",Deviation_CEM_CPMS!C247)","v":""},{"$f":"IF(Deviation_CEM_CPMS!D247=\"\",\"\",Deviation_CEM_CPMS!D247)","v":""},"",{"$f":"IF(COUNTIF(BA$2:BA225,BA225)=1,BA225,\"\")","v":""},"","",""]
[{"$f":"IF(B226=\"\",\"\",MAX(A$1:A225)+1)","v":""},{"$f":"+IF(CPMS_Identification!C248=\"\",\"\",CPMS_Identification!C248)","v":""},"",null,{"$f":"IF(F226=\"\",\"\",MAX(E$1:E225)+1)","v":""},{"$f":"IF(Landfill_Gas_ID!C248=\"\",\"\",Landfill_Gas_ID!C248)","v":""},"",null,{"$f":"IF(J226=\"\",\"\",MAX(I$1:I225)+1)","v":""},{"$f":"IF(Distillate_Oil!C248=\"\",\"\",Distillate_Oil!C248)","v":""},"",null,null,null,null,null,null,null,null,null,null,null,null,null,null,null,{"$f":"+IF(AE226=\"\",\"\",MAX(AA$1:AA225)+1)","v":""},{"$f":"IF(Deviation_Limits!B248=\"\",\"\",Deviation_Limits!B248)","v":""},{"$f":"IF(Deviation_Limits!C248=\"\",\"\",Deviation_Limits!C248)","v":""},"",{"$f":"IF(COUNTIF(AC$2:AC226,AC226)=1,AC226,\"\")","v":""},"","",null,null,null,null,null,null,null,{"$f":"+IF(AT226=\"\",\"\",MAX(AO$1:AO225)+1)","v":""},{"$f":"IF(Deviation_Limits!B248=\"\",\"\",Deviation_Limits!B248)","v":""},{"$f":"IF(Deviation_Limits!C248=\"\",\"\",Deviation_Limits!C248)","v":""},{"$f":"IF(Deviation_Limits!D248=\"\",\"\",Deviation_Limits!D248)","v":""},"",{"$f":"IF(COUNTIF(AQ$2:AQ226,AQ226)=1,AQ226,\"\")","v":""},"","","",null,{"$f":"+IF(BD226=\"\",\"\",MAX(AY$1:AY225)+1)","v":""},{"$f":"IF(Deviation_CEM_CPMS!B248=\"\",\"\",Deviation_CEM_CPMS!B248)","v":""},{"$f":"IF(Deviation_CEM_CPMS!C248=\"\",\"\",Deviation_CEM_CPMS!C248)","v":""},{"$f":"IF(Deviation_CEM_CPMS!D248=\"\",\"\",Deviation_CEM_CPMS!D248)","v":""},"",{"$f":"IF(COUNTIF(BA$2:BA226,BA226)=1,BA226,\"\")","v":""},"","",""]
[{"$f":"IF(B227=\"\",\"\",MAX(A$1:A226)+1)","v":""},{"$f":"+IF(CPMS_Identification!C249=\"\",\"\",CPMS_Identification!C249)","v":""},"",null,{"$f":"IF(F227=\"\",\"\",MAX(E$1:E226)+1)","v":""},{"$f":"IF(Landfill_Gas_ID!C249=\"\",\"\",Landfill_Gas_ID!C249)","v":""},"",null,{"$f":"IF(J227=\"\",\"\",MAX(I$1:I226)+1)","v":""},{"$f":"IF(Distillate_Oil!C249=\"\",\"\",Distillate_Oil!C249)","v":""},"",null,null,null,null,null,null,null,null,null,null,null,null,null,null,null,{"$f":"+IF(AE227=\"\",\"\",MAX(AA$1:AA226)+1)","v":""},{"$f":"IF(Deviation_Limits!B249=\"\",\"\",Deviation_Limits!B249)","v":""},{"$f":"IF(Deviation_Limits!C249=\"\",\"\",Deviation_Limits!C249)","v":""},"",{"$f":"IF(COUNTIF(AC$2:AC227,AC227)=1,AC227,\"\")","v":""},"","",null,null,null,null,null,null,null,{"$f":"+IF(AT227=\"\",\"\",MAX(AO$1:AO226)+1)","v":""},{"$f":"IF(Deviation_Limits!B249=\"\",\"\",Deviation_Limits!B249)","v":""},{"$f":"IF(Deviation_Limits!C249=\"\",\"\",Deviation_Limits!C249)","v":""},{"$f":"IF(Deviation_Limits!D249=\"\",\"\",Deviation_Limits!D249)","v":""},"",{"$f":"IF(COUNTIF(AQ$2:AQ227,AQ227)=1,AQ227,\"\")","v":""},"","","",null,{"$f":"+IF(BD227=\"\",\"\",MAX(AY$1:AY226)+1)","v":""},{"$f":"IF(Deviation_CEM_CPMS!B249=\"\",\"\",Deviation_CEM_CPMS!B249)","v":""},{"$f":"IF(Deviation_CEM_CPMS!C249=\"\",\"\",Deviation_CEM_CPMS!C249)","v":""},{"$f":"IF(Deviation_CEM_CPMS!D249=\"\",\"\",Deviation_CEM_CPMS!D249)","v":""},"",{"$f":"IF(COUNTIF(BA$2:BA227,BA227)=1,BA227,\"\")","v":""},"","",""]
[{"$f":"IF(B228=\"\",\"\",MAX(A$1:A227)+1)","v":""},{"$f":"+IF(CPMS_Identification!C250=\"\",\"\",CPMS_Identification!C250)","v":""},"",null,{"$f":"IF(F228=\"\",\"\",MAX(E$1:E227)+1)","v":""},{"$f":"IF(Landfill_Gas_ID!C250=\"\",\"\",Landfill_Gas_ID!C250)","v":""},"",null,{"$f":"IF(J228=\"\",\"\",MAX(I$1:I227)+1)","v":""},{"$f":"IF(Distillate_Oil!C250=\"\",\"\",Distillate_Oil!C250)","v":""},"",null,null,null,null,null,null,null,null,null,null,null,null,null,null,null,{"$f":"+IF(AE228=\"\",\"\",MAX(AA$1:AA227)+1)","v":""},{"$f":"IF(Deviation_Limits!B250=\"\",\"\",Deviation_Limits!B250)","v":""},{"$f":"IF(Deviation_Limits!C250=\"\",\"\",Deviation_Limits!C250)","v":""},"",{"$f":"IF(COUNTIF(AC$2:AC228,AC228)=1,AC228,\"\")","v":""},"","",null,null,null,null,null,null,null,{"$f":"+IF(AT228=\"\",\"\",MAX(AO$1:AO227)+1)","v":""},{"$f":"IF(Deviation_Limits!B250=\"\",\"\",Deviation_Limits!B250)","v":""},{"$f":"IF(Deviation_Limits!C250=\"\",\"\",Deviation_Limits!C250)","v":""},{"$f":"IF(Deviation_Limits!D250=\"\",\"\",Deviation_Limits!D250)","v":""},"",{"$f":"IF(COUNTIF(AQ$2:AQ228,AQ228)=1,AQ228,\"\")","v":""},"","","",null,{"$f":"+IF(BD228=\"\",\"\",MAX(AY$1:AY227)+1)","v":""},{"$f":"IF(Deviation_CEM_CPMS!B250=\"\",\"\",Deviation_CEM_CPMS!B250)","v":""},{"$f":"IF(Deviation_CEM_CPMS!C250=\"\",\"\",Deviation_CEM_CPMS!C250)","v":""},{"$f":"IF(Deviation_CEM_CPMS!D250=\"\",\"\",Deviation_CEM_CPMS!D250)","v":""},"",{"$f":"IF(COUNTIF(BA$2:BA228,BA228)=1,BA228,\"\")","v":""},"","",""]
[{"$f":"IF(B229=\"\",\"\",MAX(A$1:A228)+1)","v":""},{"$f":"+IF(CPMS_Identification!C251=\"\",\"\",CPMS_Identification!C251)","v":""},"",null,{"$f":"IF(F229=\"\",\"\",MAX(E$1:E228)+1)","v":""},{"$f":"IF(Landfill_Gas_ID!C251=\"\",\"\",Landfill_Gas_ID!C251)","v":""},"",null,{"$f":"IF(J229=\"\",\"\",MAX(I$1:I228)+1)","v":""},{"$f":"IF(Distillate_Oil!C251=\"\",\"\",Distillate_Oil!C251)","v":""},"",null,null,null,null,null,null,null,null,null,null,null,null,null,null,null,{"$f":"+IF(AE229=\"\",\"\",MAX(AA$1:AA228)+1)","v":""},{"$f":"IF(Deviation_Limits!B251=\"\",\"\",Deviation_Limits!B251)","v":""},{"$f":"IF(Deviation_Limits!C251=\"\",\"\",Deviation_Limits!C251)","v":""},"",{"$f":"IF(COUNTIF(AC$2:AC229,AC229)=1,AC229,\"\")","v":""},"","",null,null,null,null,null,null,null,{"$f":"+IF(AT229=\"\",\"\",MAX(AO$1:AO228)+1)","v":""},{"$f":"IF(Deviation_Limits!B251=\"\",\"\",Deviation_Limits!B251)","v":""},{"$f":"IF(Deviation_Limits!C251=\"\",\"\",Deviation_Limits!C251)","v":""},{"$f":"IF(Deviation_Limits!D251=\"\",\"\",Deviation_Limits!D251)","v":""},"",{"$f":"IF(COUNTIF(AQ$2:AQ229,AQ229)=1,AQ229,\"\")","v":""},"","","",null,{"$f":"+IF(BD229=\"\",\"\",MAX(AY$1:AY228)+1)","v":""},{"$f":"IF(Deviation_CEM_CPMS!B251=\"\",\"\",Deviation_CEM_CPMS!B251)","v":""},{"$f":"IF(Deviation_CEM_CPMS!C251=\"\",\"\",Deviation_CEM_CPMS!C251)","v":""},{"$f":"IF(Deviation_CEM_CPMS!D251=\"\",\"\",Deviation_CEM_CPMS!D251)","v":""},"",{"$f":"IF(COUNTIF(BA$2:BA229,BA229)=1,BA229,\"\")","v":""},"","",""]
[{"$f":"IF(B230=\"\",\"\",MAX(A$1:A229)+1)","v":""},{"$f":"+IF(CPMS_Identification!C252=\"\",\"\",CPMS_Identification!C252)","v":""},"",null,{"$f":"IF(F230=\"\",\"\",MAX(E$1:E229)+1)","v":""},{"$f":"IF(Landfill_Gas_ID!C252=\"\",\"\",Landfill_Gas_ID!C252)","v":""},"",null,{"$f":"IF(J230=\"\",\"\",MAX(I$1:I229)+1)","v":""},{"$f":"IF(Distillate_Oil!C252=\"\",\"\",Distillate_Oil!C252)","v":""},"",null,null,null,null,null,null,null,null,null,null,null,null,null,null,null,{"$f":"+IF(AE230=\"\",\"\",MAX(AA$1:AA229)+1)","v":""},{"$f":"IF(Deviation_Limits!B252=\"\",\"\",Deviation_Limits!B252)","v":""},{"$f":"IF(Deviation_Limits!C252=\"\",\"\",Deviation_Limits!C252)","v":""},"",{"$f":"IF(COUNTIF(AC$2:AC230,AC230)=1,AC230,\"\")","v":""},"","",null,null,null,null,null,null,null,{"$f":"+IF(AT230=\"\",\"\",MAX(AO$1:AO229)+1)","v":""},{"$f":"IF(Deviation_Limits!B252=\"\",\"\",Deviation_Limits!B252)","v":""},{"$f":"IF(Deviation_Limits!C252=\"\",\"\",Deviation_Limits!C252)","v":""},{"$f":"IF(Deviation_Limits!D252=\"\",\"\",Deviation_Limits!D252)","v":""},"",{"$f":"IF(COUNTIF(AQ$2:AQ230,AQ230)=1,AQ230,\"\")","v":""},"","","",null,{"$f":"+IF(BD230=\"\",\"\",MAX(AY$1:AY229)+1)","v":""},{"$f":"IF(Deviation_CEM_CPMS!B252=\"\",\"\",Deviation_CEM_CPMS!B252)","v":""},{"$f":"IF(Deviation_CEM_CPMS!C252=\"\",\"\",Deviation_CEM_CPMS!C252)","v":""},{"$f":"IF(Deviation_CEM_CPMS!D252=\"\",\"\",Deviation_CEM_CPMS!D252)","v":""},"",{"$f":"IF(COUNTIF(BA$2:BA230,BA230)=1,BA230,\"\")","v":""},"","",""]
[{"$f":"IF(B231=\"\",\"\",MAX(A$1:A230)+1)","v":""},{"$f":"+IF(CPMS_Identification!C253=\"\",\"\",CPMS_Identification!C253)","v":""},"",null,{"$f":"IF(F231=\"\",\"\",MAX(E$1:E230)+1)","v":""},{"$f":"IF(Landfill_Gas_ID!C253=\"\",\"\",Landfill_Gas_ID!C253)","v":""},"",null,{"$f":"IF(J231=\"\",\"\",MAX(I$1:I230)+1)","v":""},{"$f":"IF(Distillate_Oil!C253=\"\",\"\",Distillate_Oil!C253)","v":""},"",null,null,null,null,null,null,null,null,null,null,null,null,null,null,null,{"$f":"+IF(AE231=\"\",\"\",MAX(AA$1:AA230)+1)","v":""},{"$f":"IF(Deviation_Limits!B253=\"\",\"\",Deviation_Limits!B253)","v":""},{"$f":"IF(Deviation_Limits!C253=\"\",\"\",Deviation_Limits!C253)","v":""},"",{"$f":"IF(COUNTIF(AC$2:AC231,AC231)=1,AC231,\"\")","v":""},"","",null,null,null,null,null,null,null,{"$f":"+IF(AT231=\"\",\"\",MAX(AO$1:AO230)+1)","v":""},{"$f":"IF(Deviation_Limits!B253=\"\",\"\",Deviation_Limits!B253)","v":""},{"$f":"IF(Deviation_Limits!C253=\"\",\"\",Deviation_Limits!C253)","v":""},{"$f":"IF(Deviation_Limits!D253=\"\",\"\",Deviation_Limits!D253)","v":""},"",{"$f":"IF(COUNTIF(AQ$2:AQ231,AQ231)=1,AQ231,\"\")","v":""},"","","",null,{"$f":"+IF(BD231=\"\",\"\",MAX(AY$1:AY230)+1)","v":""},{"$f":"IF(Deviation_CEM_CPMS!B253=\"\",\"\",Deviation_CEM_CPMS!B253)","v":""},{"$f":"IF(Deviation_CEM_CPMS!C253=\"\",\"\",Deviation_CEM_CPMS!C253)","v":""},{"$f":"IF(Deviation_CEM_CPMS!D253=\"\",\"\",Deviation_CEM_CPMS!D253)","v":""},"",{"$f":"IF(COUNTIF(BA$2:BA231,BA231)=1,BA231,\"\")","v":""},"","",""]
[{"$f":"IF(B232=\"\",\"\",MAX(A$1:A231)+1)","v":""},{"$f":"+IF(CPMS_Identification!C254=\"\",\"\",CPMS_Identification!C254)","v":""},"",null,{"$f":"IF(F232=\"\",\"\",MAX(E$1:E231)+1)","v":""},{"$f":"IF(Landfill_Gas_ID!C254=\"\",\"\",Landfill_Gas_ID!C254)","v":""},"",null,{"$f":"IF(J232=\"\",\"\",MAX(I$1:I231)+1)","v":""},{"$f":"IF(Distillate_Oil!C254=\"\",\"\",Distillate_Oil!C254)","v":""},"",null,null,null,null,null,null,null,null,null,null,null,null,null,null,null,{"$f":"+IF(AE232=\"\",\"\",MAX(AA$1:AA231)+1)","v":""},{"$f":"IF(Deviation_Limits!B254=\"\",\"\",Deviation_Limits!B254)","v":""},{"$f":"IF(Deviation_Limits!C254=\"\",\"\",Deviation_Limits!C254)","v":""},"",{"$f":"IF(COUNTIF(AC$2:AC232,AC232)=1,AC232,\"\")","v":""},"","",null,null,null,null,null,null,null,{"$f":"+IF(AT232=\"\",\"\",MAX(AO$1:AO231)+1)","v":""},{"$f":"IF(Deviation_Limits!B254=\"\",\"\",Deviation_Limits!B254)","v":""},{"$f":"IF(Deviation_Limits!C254=\"\",\"\",Deviation_Limits!C254)","v":""},{"$f":"IF(Deviation_Limits!D254=\"\",\"\",Deviation_Limits!D254)","v":""},"",{"$f":"IF(COUNTIF(AQ$2:AQ232,AQ232)=1,AQ232,\"\")","v":""},"","","",null,{"$f":"+IF(BD232=\"\",\"\",MAX(AY$1:AY231)+1)","v":""},{"$f":"IF(Deviation_CEM_CPMS!B254=\"\",\"\",Deviation_CEM_CPMS!B254)","v":""},{"$f":"IF(Deviation_CEM_CPMS!C254=\"\",\"\",Deviation_CEM_CPMS!C254)","v":""},{"$f":"IF(Deviation_CEM_CPMS!D254=\"\",\"\",Deviation_CEM_CPMS!D254)","v":""},"",{"$f":"IF(COUNTIF(BA$2:BA232,BA232)=1,BA232,\"\")","v":""},"","",""]
[{"$f":"IF(B233=\"\",\"\",MAX(A$1:A232)+1)","v":""},{"$f":"+IF(CPMS_Identification!C255=\"\",\"\",CPMS_Identification!C255)","v":""},"",null,{"$f":"IF(F233=\"\",\"\",MAX(E$1:E232)+1)","v":""},{"$f":"IF(Landfill_Gas_ID!C255=\"\",\"\",Landfill_Gas_ID!C255)","v":""},"",null,{"$f":"IF(J233=\"\",\"\",MAX(I$1:I232)+1)","v":""},{"$f":"IF(Distillate_Oil!C255=\"\",\"\",Distillate_Oil!C255)","v":""},"",null,null,null,null,null,null,null,null,null,null,null,null,null,null,null,{"$f":"+IF(AE233=\"\",\"\",MAX(AA$1:AA232)+1)","v":""},{"$f":"IF(Deviation_Limits!B255=\"\",\"\",Deviation_Limits!B255)","v":""},{"$f":"IF(Deviation_Limits!C255=\"\",\"\",Deviation_Limits!C255)","v":""},"",{"$f":"IF(COUNTIF(AC$2:AC233,AC233)=1,AC233,\"\")","v":""},"","",null,null,null,null,null,null,null,{"$f":"+IF(AT233=\"\",\"\",MAX(AO$1:AO232)+1)","v":""},{"$f":"IF(Deviation_Limits!B255=\"\",\"\",Deviation_Limits!B255)","v":""},{"$f":"IF(Deviation_Limits!C255=\"\",\"\",Deviation_Limits!C255)","v":""},{"$f":"IF(Deviation_Limits!D255=\"\",\"\",Deviation_Limits!D255)","v":""},"",{"$f":"IF(COUNTIF(AQ$2:AQ233,AQ233)=1,AQ233,\"\")","v":""},"","","",null,{"$f":"+IF(BD233=\"\",\"\",MAX(AY$1:AY232)+1)","v":""},{"$f":"IF(Deviation_CEM_CPMS!B255=\"\",\"\",Deviation_CEM_CPMS!B255)","v":""},{"$f":"IF(Deviation_CEM_CPMS!C255=\"\",\"\",Deviation_CEM_CPMS!C255)","v":""},{"$f":"IF(Deviation_CEM_CPMS!D255=\"\",\"\",Deviation_CEM_CPMS!D255)","v":""},"",{"$f":"IF(COUNTIF(BA$2:BA233,BA233)=1,BA233,\"\")","v":""},"","",""]
[{"$f":"IF(B234=\"\",\"\",MAX(A$1:A233)+1)","v":""},{"$f":"+IF(CPMS_Identification!C256=\"\",\"\",CPMS_Identification!C256)","v":""},"",null,{"$f":"IF(F234=\"\",\"\",MAX(E$1:E233)+1)","v":""},{"$f":"IF(Landfill_Gas_ID!C256=\"\",\"\",Landfill_Gas_ID!C256)","v":""},"",null,{"$f":"IF(J234=\"\",\"\",MAX(I$1:I233)+1)","v":""},{"$f":"IF(Distillate_Oil!C256=\"\",\"\",Distillate_Oil!C256)","v":""},"",null,null,null,null,null,null,null,null,null,null,null,null,null,null,null,{"$f":"+IF(AE234=\"\",\"\",MAX(AA$1:AA233)+1)","v":""},{"$f":"IF(Deviation_Limits!B256=\"\",\"\",Deviation_Limits!B256)","v":""},{"$f":"IF(Deviation_Limits!C256=\"\",\"\",Deviation_Limits!C256)","v":""},"",{"$f":"IF(COUNTIF(AC$2:AC234,AC234)=1,AC234,\"\")","v":""},"","",null,null,null,null,null,null,null,{"$f":"+IF(AT234=\"\",\"\",MAX(AO$1:AO233)+1)","v":""},{"$f":"IF(Deviation_Limits!B256=\"\",\"\",Deviation_Limits!B256)","v":""},{"$f":"IF(Deviation_Limits!C256=\"\",\"\",Deviation_Limits!C256)","v":""},{"$f":"IF(Deviation_Limits!D256=\"\",\"\",Deviation_Limits!D256)","v":""},"",{"$f":"IF(COUNTIF(AQ$2:AQ234,AQ234)=1,AQ234,\"\")","v":""},"","","",null,{"$f":"+IF(BD234=\"\",\"\",MAX(AY$1:AY233)+1)","v":""},{"$f":"IF(Deviation_CEM_CPMS!B256=\"\",\"\",Deviation_CEM_CPMS!B256)","v":""},{"$f":"IF(Deviation_CEM_CPMS!C256=\"\",\"\",Deviation_CEM_CPMS!C256)","v":""},{"$f":"IF(Deviation_CEM_CPMS!D256=\"\",\"\",Deviation_CEM_CPMS!D256)","v":""},"",{"$f":"IF(COUNTIF(BA$2:BA234,BA234)=1,BA234,\"\")","v":""},"","",""]
[{"$f":"IF(B235=\"\",\"\",MAX(A$1:A234)+1)","v":""},{"$f":"+IF(CPMS_Identification!C257=\"\",\"\",CPMS_Identification!C257)","v":""},"",null,{"$f":"IF(F235=\"\",\"\",MAX(E$1:E234)+1)","v":""},{"$f":"IF(Landfill_Gas_ID!C257=\"\",\"\",Landfill_Gas_ID!C257)","v":""},"",null,{"$f":"IF(J235=\"\",\"\",MAX(I$1:I234)+1)","v":""},{"$f":"IF(Distillate_Oil!C257=\"\",\"\",Distillate_Oil!C257)","v":""},"",null,null,null,null,null,null,null,null,null,null,null,null,null,null,null,{"$f":"+IF(AE235=\"\",\"\",MAX(AA$1:AA234)+1)","v":""},{"$f":"IF(Deviation_Limits!B257=\"\",\"\",Deviation_Limits!B257)","v":""},{"$f":"IF(Deviation_Limits!C257=\"\",\"\",Deviation_Limits!C257)","v":""},"",{"$f":"IF(COUNTIF(AC$2:AC235,AC235)=1,AC235,\"\")","v":""},"","",null,null,null,null,null,null,null,{"$f":"+IF(AT235=\"\",\"\",MAX(AO$1:AO234)+1)","v":""},{"$f":"IF(Deviation_Limits!B257=\"\",\"\",Deviation_Limits!B257)","v":""},{"$f":"IF(Deviation_Limits!C257=\"\",\"\",Deviation_Limits!C257)","v":""},{"$f":"IF(Deviation_Limits!D257=\"\",\"\",Deviation_Limits!D257)","v":""},"",{"$f":"IF(COUNTIF(AQ$2:AQ235,AQ235)=1,AQ235,\"\")","v":""},"","","",null,{"$f":"+IF(BD235=\"\",\"\",MAX(AY$1:AY234)+1)","v":""},{"$f":"IF(Deviation_CEM_CPMS!B257=\"\",\"\",Deviation_CEM_CPMS!B257)","v":""},{"$f":"IF(Deviation_CEM_CPMS!C257=\"\",\"\",Deviation_CEM_CPMS!C257)","v":""},{"$f":"IF(Deviation_CEM_CPMS!D257=\"\",\"\",Deviation_CEM_CPMS!D257)","v":""},"",{"$f":"IF(COUNTIF(BA$2:BA235,BA235)=1,BA235,\"\")","v":""},"","",""]
[{"$f":"IF(B236=\"\",\"\",MAX(A$1:A235)+1)","v":""},{"$f":"+IF(CPMS_Identification!C258=\"\",\"\",CPMS_Identification!C258)","v":""},"",null,{"$f":"IF(F236=\"\",\"\",MAX(E$1:E235)+1)","v":""},{"$f":"IF(Landfill_Gas_ID!C258=\"\",\"\",Landfill_Gas_ID!C258)","v":""},"",null,{"$f":"IF(J236=\"\",\"\",MAX(I$1:I235)+1)","v":""},{"$f":"IF(Distillate_Oil!C258=\"\",\"\",Distillate_Oil!C258)","v":""},"",null,null,null,null,null,null,null,null,null,null,null,null,null,null,null,{"$f":"+IF(AE236=\"\",\"\",MAX(AA$1:AA235)+1)","v":""},{"$f":"IF(Deviation_Limits!B258=\"\",\"\",Deviation_Limits!B258)","v":""},{"$f":"IF(Deviation_Limits!C258=\"\",\"\",Deviation_Limits!C258)","v":""},"",{"$f":"IF(COUNTIF(AC$2:AC236,AC236)=1,AC236,\"\")","v":""},"","",null,null,null,null,null,null,null,{"$f":"+IF(AT236=\"\",\"\",MAX(AO$1:AO235)+1)","v":""},{"$f":"IF(Deviation_Limits!B258=\"\",\"\",Deviation_Limits!B258)","v":""},{"$f":"IF(Deviation_Limits!C258=\"\",\"\",Deviation_Limits!C258)","v":""},{"$f":"IF(Deviation_Limits!D258=\"\",\"\",Deviation_Limits!D258)","v":""},"",{"$f":"IF(COUNTIF(AQ$2:AQ236,AQ236)=1,AQ236,\"\")","v":""},"","","",null,{"$f":"+IF(BD236=\"\",\"\",MAX(AY$1:AY235)+1)","v":""},{"$f":"IF(Deviation_CEM_CPMS!B258=\"\",\"\",Deviation_CEM_CPMS!B258)","v":""},{"$f":"IF(Deviation_CEM_CPMS!C258=\"\",\"\",Deviation_CEM_CPMS!C258)","v":""},{"$f":"IF(Deviation_CEM_CPMS!D258=\"\",\"\",Deviation_CEM_CPMS!D258)","v":""},"",{"$f":"IF(COUNTIF(BA$2:BA236,BA236)=1,BA236,\"\")","v":""},"","",""]
[{"$f":"IF(B237=\"\",\"\",MAX(A$1:A236)+1)","v":""},{"$f":"+IF(CPMS_Identification!C259=\"\",\"\",CPMS_Identification!C259)","v":""},"",null,{"$f":"IF(F237=\"\",\"\",MAX(E$1:E236)+1)","v":""},{"$f":"IF(Landfill_Gas_ID!C259=\"\",\"\",Landfill_Gas_ID!C259)","v":""},"",null,{"$f":"IF(J237=\"\",\"\",MAX(I$1:I236)+1)","v":""},{"$f":"IF(Distillate_Oil!C259=\"\",\"\",Distillate_Oil!C259)","v":""},"",null,null,null,null,null,null,null,null,null,null,null,null,null,null,null,{"$f":"+IF(AE237=\"\",\"\",MAX(AA$1:AA236)+1)","v":""},{"$f":"IF(Deviation_Limits!B259=\"\",\"\",Deviation_Limits!B259)","v":""},{"$f":"IF(Deviation_Limits!C259=\"\",\"\",Deviation_Limits!C259)","v":""},"",{"$f":"IF(COUNTIF(AC$2:AC237,AC237)=1,AC237,\"\")","v":""},"","",null,null,null,null,null,null,null,{"$f":"+IF(AT237=\"\",\"\",MAX(AO$1:AO236)+1)","v":""},{"$f":"IF(Deviation_Limits!B259=\"\",\"\",Deviation_Limits!B259)","v":""},{"$f":"IF(Deviation_Limits!C259=\"\",\"\",Deviation_Limits!C259)","v":""},{"$f":"IF(Deviation_Limits!D259=\"\",\"\",Deviation_Limits!D259)","v":""},"",{"$f":"IF(COUNTIF(AQ$2:AQ237,AQ237)=1,AQ237,\"\")","v":""},"","","",null,{"$f":"+IF(BD237=\"\",\"\",MAX(AY$1:AY236)+1)","v":""},{"$f":"IF(Deviation_CEM_CPMS!B259=\"\",\"\",Deviation_CEM_CPMS!B259)","v":""},{"$f":"IF(Deviation_CEM_CPMS!C259=\"\",\"\",Deviation_CEM_CPMS!C259)","v":""},{"$f":"IF(Deviation_CEM_CPMS!D259=\"\",\"\",Deviation_CEM_CPMS!D259)","v":""},"",{"$f":"IF(COUNTIF(BA$2:BA237,BA237)=1,BA237,\"\")","v":""},"","",""]
[{"$f":"IF(B238=\"\",\"\",MAX(A$1:A237)+1)","v":""},{"$f":"+IF(CPMS_Identification!C260=\"\",\"\",CPMS_Identification!C260)","v":""},"",null,{"$f":"IF(F238=\"\",\"\",MAX(E$1:E237)+1)","v":""},{"$f":"IF(Landfill_Gas_ID!C260=\"\",\"\",Landfill_Gas_ID!C260)","v":""},"",null,{"$f":"IF(J238=\"\",\"\",MAX(I$1:I237)+1)","v":""},{"$f":"IF(Distillate_Oil!C260=\"\",\"\",Distillate_Oil!C260)","v":""},"",null,null,null,null,null,null,null,null,null,null,null,null,null,null,null,{"$f":"+IF(AE238=\"\",\"\",MAX(AA$1:AA237)+1)","v":""},{"$f":"IF(Deviation_Limits!B260=\"\",\"\",Deviation_Limits!B260)","v":""},{"$f":"IF(Deviation_Limits!C260=\"\",\"\",Deviation_Limits!C260)","v":""},"",{"$f":"IF(COUNTIF(AC$2:AC238,AC238)=1,AC238,\"\")","v":""},"","",null,null,null,null,null,null,null,{"$f":"+IF(AT238=\"\",\"\",MAX(AO$1:AO237)+1)","v":""},{"$f":"IF(Deviation_Limits!B260=\"\",\"\",Deviation_Limits!B260)","v":""},{"$f":"IF(Deviation_Limits!C260=\"\",\"\",Deviation_Limits!C260)","v":""},{"$f":"IF(Deviation_Limits!D260=\"\",\"\",Deviation_Limits!D260)","v":""},"",{"$f":"IF(COUNTIF(AQ$2:AQ238,AQ238)=1,AQ238,\"\")","v":""},"","","",null,{"$f":"+IF(BD238=\"\",\"\",MAX(AY$1:AY237)+1)","v":""},{"$f":"IF(Deviation_CEM_CPMS!B260=\"\",\"\",Deviation_CEM_CPMS!B260)","v":""},{"$f":"IF(Deviation_CEM_CPMS!C260=\"\",\"\",Deviation_CEM_CPMS!C260)","v":""},{"$f":"IF(Deviation_CEM_CPMS!D260=\"\",\"\",Deviation_CEM_CPMS!D260)","v":""},"",{"$f":"IF(COUNTIF(BA$2:BA238,BA238)=1,BA238,\"\")","v":""},"","",""]
[{"$f":"IF(B239=\"\",\"\",MAX(A$1:A238)+1)","v":""},{"$f":"+IF(CPMS_Identification!C261=\"\",\"\",CPMS_Identification!C261)","v":""},"",null,{"$f":"IF(F239=\"\",\"\",MAX(E$1:E238)+1)","v":""},{"$f":"IF(Landfill_Gas_ID!C261=\"\",\"\",Landfill_Gas_ID!C261)","v":""},"",null,{"$f":"IF(J239=\"\",\"\",MAX(I$1:I238)+1)","v":""},{"$f":"IF(Distillate_Oil!C261=\"\",\"\",Distillate_Oil!C261)","v":""},"",null,null,null,null,null,null,null,null,null,null,null,null,null,null,null,{"$f":"+IF(AE239=\"\",\"\",MAX(AA$1:AA238)+1)","v":""},{"$f":"IF(Deviation_Limits!B261=\"\",\"\",Deviation_Limits!B261)","v":""},{"$f":"IF(Deviation_Limits!C261=\"\",\"\",Deviation_Limits!C261)","v":""},"",{"$f":"IF(COUNTIF(AC$2:AC239,AC239)=1,AC239,\"\")","v":""},"","",null,null,null,null,null,null,null,{"$f":"+IF(AT239=\"\",\"\",MAX(AO$1:AO238)+1)","v":""},{"$f":"IF(Deviation_Limits!B261=\"\",\"\",Deviation_Limits!B261)","v":""},{"$f":"IF(Deviation_Limits!C261=\"\",\"\",Deviation_Limits!C261)","v":""},{"$f":"IF(Deviation_Limits!D261=\"\",\"\",Deviation_Limits!D261)","v":""},"",{"$f":"IF(COUNTIF(AQ$2:AQ239,AQ239)=1,AQ239,\"\")","v":""},"","","",null,{"$f":"+IF(BD239=\"\",\"\",MAX(AY$1:AY238)+1)","v":""},{"$f":"IF(Deviation_CEM_CPMS!B261=\"\",\"\",Deviation_CEM_CPMS!B261)","v":""},{"$f":"IF(Deviation_CEM_CPMS!C261=\"\",\"\",Deviation_CEM_CPMS!C261)","v":""},{"$f":"IF(Deviation_CEM_CPMS!D261=\"\",\"\",Deviation_CEM_CPMS!D261)","v":""},"",{"$f":"IF(COUNTIF(BA$2:BA239,BA239)=1,BA239,\"\")","v":""},"","",""]
[{"$f":"IF(B240=\"\",\"\",MAX(A$1:A239)+1)","v":""},{"$f":"+IF(CPMS_Identification!C262=\"\",\"\",CPMS_Identification!C262)","v":""},"",null,{"$f":"IF(F240=\"\",\"\",MAX(E$1:E239)+1)","v":""},{"$f":"IF(Landfill_Gas_ID!C262=\"\",\"\",Landfill_Gas_ID!C262)","v":""},"",null,{"$f":"IF(J240=\"\",\"\",MAX(I$1:I239)+1)","v":""},{"$f":"IF(Distillate_Oil!C262=\"\",\"\",Distillate_Oil!C262)","v":""},"",null,null,null,null,null,null,null,null,null,null,null,null,null,null,null,{"$f":"+IF(AE240=\"\",\"\",MAX(AA$1:AA239)+1)","v":""},{"$f":"IF(Deviation_Limits!B262=\"\",\"\",Deviation_Limits!B262)","v":""},{"$f":"IF(Deviation_Limits!C262=\"\",\"\",Deviation_Limits!C262)","v":""},"",{"$f":"IF(COUNTIF(AC$2:AC240,AC240)=1,AC240,\"\")","v":""},"","",null,null,null,null,null,null,null,{"$f":"+IF(AT240=\"\",\"\",MAX(AO$1:AO239)+1)","v":""},{"$f":"IF(Deviation_Limits!B262=\"\",\"\",Deviation_Limits!B262)","v":""},{"$f":"IF(Deviation_Limits!C262=\"\",\"\",Deviation_Limits!C262)","v":""},{"$f":"IF(Deviation_Limits!D262=\"\",\"\",Deviation_Limits!D262)","v":""},"",{"$f":"IF(COUNTIF(AQ$2:AQ240,AQ240)=1,AQ240,\"\")","v":""},"","","",null,{"$f":"+IF(BD240=\"\",\"\",MAX(AY$1:AY239)+1)","v":""},{"$f":"IF(Deviation_CEM_CPMS!B262=\"\",\"\",Deviation_CEM_CPMS!B262)","v":""},{"$f":"IF(Deviation_CEM_CPMS!C262=\"\",\"\",Deviation_CEM_CPMS!C262)","v":""},{"$f":"IF(Deviation_CEM_CPMS!D262=\"\",\"\",Deviation_CEM_CPMS!D262)","v":""},"",{"$f":"IF(COUNTIF(BA$2:BA240,BA240)=1,BA240,\"\")","v":""},"","",""]
[{"$f":"IF(B241=\"\",\"\",MAX(A$1:A240)+1)","v":""},{"$f":"+IF(CPMS_Identification!C263=\"\",\"\",CPMS_Identification!C263)","v":""},"",null,{"$f":"IF(F241=\"\",\"\",MAX(E$1:E240)+1)","v":""},{"$f":"IF(Landfill_Gas_ID!C263=\"\",\"\",Landfill_Gas_ID!C263)","v":""},"",null,{"$f":"IF(J241=\"\",\"\",MAX(I$1:I240)+1)","v":""},{"$f":"IF(Distillate_Oil!C263=\"\",\"\",Distillate_Oil!C263)","v":""},"",null,null,null,null,null,null,null,null,null,null,null,null,null,null,null,{"$f":"+IF(AE241=\"\",\"\",MAX(AA$1:AA240)+1)","v":""},{"$f":"IF(Deviation_Limits!B263=\"\",\"\",Deviation_Limits!B263)","v":""},{"$f":"IF(Deviation_Limits!C263=\"\",\"\",Deviation_Limits!C263)","v":""},"",{"$f":"IF(COUNTIF(AC$2:AC241,AC241)=1,AC241,\"\")","v":""},"","",null,null,null,null,null,null,null,{"$f":"+IF(AT241=\"\",\"\",MAX(AO$1:AO240)+1)","v":""},{"$f":"IF(Deviation_Limits!B263=\"\",\"\",Deviation_Limits!B263)","v":""},{"$f":"IF(Deviation_Limits!C263=\"\",\"\",Deviation_Limits!C263)","v":""},{"$f":"IF(Deviation_Limits!D263=\"\",\"\",Deviation_Limits!D263)","v":""},"",{"$f":"IF(COUNTIF(AQ$2:AQ241,AQ241)=1,AQ241,\"\")","v":""},"","","",null,{"$f":"+IF(BD241=\"\",\"\",MAX(AY$1:AY240)+1)","v":""},{"$f":"IF(Deviation_CEM_CPMS!B263=\"\",\"\",Deviation_CEM_CPMS!B263)","v":""},{"$f":"IF(Deviation_CEM_CPMS!C263=\"\",\"\",Deviation_CEM_CPMS!C263)","v":""},{"$f":"IF(Deviation_CEM_CPMS!D263=\"\",\"\",Deviation_CEM_CPMS!D263)","v":""},"",{"$f":"IF(COUNTIF(BA$2:BA241,BA241)=1,BA241,\"\")","v":""},"","",""]
[{"$f":"IF(B242=\"\",\"\",MAX(A$1:A241)+1)","v":""},{"$f":"+IF(CPMS_Identification!C264=\"\",\"\",CPMS_Identification!C264)","v":""},"",null,{"$f":"IF(F242=\"\",\"\",MAX(E$1:E241)+1)","v":""},{"$f":"IF(Landfill_Gas_ID!C264=\"\",\"\",Landfill_Gas_ID!C264)","v":""},"",null,{"$f":"IF(J242=\"\",\"\",MAX(I$1:I241)+1)","v":""},{"$f":"IF(Distillate_Oil!C264=\"\",\"\",Distillate_Oil!C264)","v":""},"",null,null,null,null,null,null,null,null,null,null,null,null,null,null,null,{"$f":"+IF(AE242=\"\",\"\",MAX(AA$1:AA241)+1)","v":""},{"$f":"IF(Deviation_Limits!B264=\"\",\"\",Deviation_Limits!B264)","v":""},{"$f":"IF(Deviation_Limits!C264=\"\",\"\",Deviation_Limits!C264)","v":""},"",{"$f":"IF(COUNTIF(AC$2:AC242,AC242)=1,AC242,\"\")","v":""},"","",null,null,null,null,null,null,null,{"$f":"+IF(AT242=\"\",\"\",MAX(AO$1:AO241)+1)","v":""},{"$f":"IF(Deviation_Limits!B264=\"\",\"\",Deviation_Limits!B264)","v":""},{"$f":"IF(Deviation_Limits!C264=\"\",\"\",Deviation_Limits!C264)","v":""},{"$f":"IF(Deviation_Limits!D264=\"\",\"\",Deviation_Limits!D264)","v":""},"",{"$f":"IF(COUNTIF(AQ$2:AQ242,AQ242)=1,AQ242,\"\")","v":""},"","","",null,{"$f":"+IF(BD242=\"\",\"\",MAX(AY$1:AY241)+1)","v":""},{"$f":"IF(Deviation_CEM_CPMS!B264=\"\",\"\",Deviation_CEM_CPMS!B264)","v":""},{"$f":"IF(Deviation_CEM_CPMS!C264=\"\",\"\",Deviation_CEM_CPMS!C264)","v":""},{"$f":"IF(Deviation_CEM_CPMS!D264=\"\",\"\",Deviation_CEM_CPMS!D264)","v":""},"",{"$f":"IF(COUNTIF(BA$2:BA242,BA242)=1,BA242,\"\")","v":""},"","",""]
[{"$f":"IF(B243=\"\",\"\",MAX(A$1:A242)+1)","v":""},{"$f":"+IF(CPMS_Identification!C265=\"\",\"\",CPMS_Identification!C265)","v":""},"",null,{"$f":"IF(F243=\"\",\"\",MAX(E$1:E242)+1)","v":""},{"$f":"IF(Landfill_Gas_ID!C265=\"\",\"\",Landfill_Gas_ID!C265)","v":""},"",null,{"$f":"IF(J243=\"\",\"\",MAX(I$1:I242)+1)","v":""},{"$f":"IF(Distillate_Oil!C265=\"\",\"\",Distillate_Oil!C265)","v":""},"",null,null,null,null,null,null,null,null,null,null,null,null,null,null,null,{"$f":"+IF(AE243=\"\",\"\",MAX(AA$1:AA242)+1)","v":""},{"$f":"IF(Deviation_Limits!B265=\"\",\"\",Deviation_Limits!B265)","v":""},{"$f":"IF(Deviation_Limits!C265=\"\",\"\",Deviation_Limits!C265)","v":""},"",{"$f":"IF(COUNTIF(AC$2:AC243,AC243)=1,AC243,\"\")","v":""},"","",null,null,null,null,null,null,null,{"$f":"+IF(AT243=\"\",\"\",MAX(AO$1:AO242)+1)","v":""},{"$f":"IF(Deviation_Limits!B265=\"\",\"\",Deviation_Limits!B265)","v":""},{"$f":"IF(Deviation_Limits!C265=\"\",\"\",Deviation_Limits!C265)","v":""},{"$f":"IF(Deviation_Limits!D265=\"\",\"\",Deviation_Limits!D265)","v":""},"",{"$f":"IF(COUNTIF(AQ$2:AQ243,AQ243)=1,AQ243,\"\")","v":""},"","","",null,{"$f":"+IF(BD243=\"\",\"\",MAX(AY$1:AY242)+1)","v":""},{"$f":"IF(Deviation_CEM_CPMS!B265=\"\",\"\",Deviation_CEM_CPMS!B265)","v":""},{"$f":"IF(Deviation_CEM_CPMS!C265=\"\",\"\",Deviation_CEM_CPMS!C265)","v":""},{"$f":"IF(Deviation_CEM_CPMS!D265=\"\",\"\",Deviation_CEM_CPMS!D265)","v":""},"",{"$f":"IF(COUNTIF(BA$2:BA243,BA243)=1,BA243,\"\")","v":""},"","",""]
[{"$f":"IF(B244=\"\",\"\",MAX(A$1:A243)+1)","v":""},{"$f":"+IF(CPMS_Identification!C266=\"\",\"\",CPMS_Identification!C266)","v":""},"",null,{"$f":"IF(F244=\"\",\"\",MAX(E$1:E243)+1)","v":""},{"$f":"IF(Landfill_Gas_ID!C266=\"\",\"\",Landfill_Gas_ID!C266)","v":""},"",null,{"$f":"IF(J244=\"\",\"\",MAX(I$1:I243)+1)","v":""},{"$f":"IF(Distillate_Oil!C266=\"\",\"\",Distillate_Oil!C266)","v":""},"",null,null,null,null,null,null,null,null,null,null,null,null,null,null,null,{"$f":"+IF(AE244=\"\",\"\",MAX(AA$1:AA243)+1)","v":""},{"$f":"IF(Deviation_Limits!B266=\"\",\"\",Deviation_Limits!B266)","v":""},{"$f":"IF(Deviation_Limits!C266=\"\",\"\",Deviation_Limits!C266)","v":""},"",{"$f":"IF(COUNTIF(AC$2:AC244,AC244)=1,AC244,\"\")","v":""},"","",null,null,null,null,null,null,null,{"$f":"+IF(AT244=\"\",\"\",MAX(AO$1:AO243)+1)","v":""},{"$f":"IF(Deviation_Limits!B266=\"\",\"\",Deviation_Limits!B266)","v":""},{"$f":"IF(Deviation_Limits!C266=\"\",\"\",Deviation_Limits!C266)","v":""},{"$f":"IF(Deviation_Limits!D266=\"\",\"\",Deviation_Limits!D266)","v":""},"",{"$f":"IF(COUNTIF(AQ$2:AQ244,AQ244)=1,AQ244,\"\")","v":""},"","","",null,{"$f":"+IF(BD244=\"\",\"\",MAX(AY$1:AY243)+1)","v":""},{"$f":"IF(Deviation_CEM_CPMS!B266=\"\",\"\",Deviation_CEM_CPMS!B266)","v":""},{"$f":"IF(Deviation_CEM_CPMS!C266=\"\",\"\",Deviation_CEM_CPMS!C266)","v":""},{"$f":"IF(Deviation_CEM_CPMS!D266=\"\",\"\",Deviation_CEM_CPMS!D266)","v":""},"",{"$f":"IF(COUNTIF(BA$2:BA244,BA244)=1,BA244,\"\")","v":""},"","",""]
[{"$f":"IF(B245=\"\",\"\",MAX(A$1:A244)+1)","v":""},{"$f":"+IF(CPMS_Identification!C267=\"\",\"\",CPMS_Identification!C267)","v":""},"",null,{"$f":"IF(F245=\"\",\"\",MAX(E$1:E244)+1)","v":""},{"$f":"IF(Landfill_Gas_ID!C267=\"\",\"\",Landfill_Gas_ID!C267)","v":""},"",null,{"$f":"IF(J245=\"\",\"\",MAX(I$1:I244)+1)","v":""},{"$f":"IF(Distillate_Oil!C267=\"\",\"\",Distillate_Oil!C267)","v":""},"",null,null,null,null,null,null,null,null,null,null,null,null,null,null,null,{"$f":"+IF(AE245=\"\",\"\",MAX(AA$1:AA244)+1)","v":""},{"$f":"IF(Deviation_Limits!B267=\"\",\"\",Deviation_Limits!B267)","v":""},{"$f":"IF(Deviation_Limits!C267=\"\",\"\",Deviation_Limits!C267)","v":""},"",{"$f":"IF(COUNTIF(AC$2:AC245,AC245)=1,AC245,\"\")","v":""},"","",null,null,null,null,null,null,null,{"$f":"+IF(AT245=\"\",\"\",MAX(AO$1:AO244)+1)","v":""},{"$f":"IF(Deviation_Limits!B267=\"\",\"\",Deviation_Limits!B267)","v":""},{"$f":"IF(Deviation_Limits!C267=\"\",\"\",Deviation_Limits!C267)","v":""},{"$f":"IF(Deviation_Limits!D267=\"\",\"\",Deviation_Limits!D267)","v":""},"",{"$f":"IF(COUNTIF(AQ$2:AQ245,AQ245)=1,AQ245,\"\")","v":""},"","","",null,{"$f":"+IF(BD245=\"\",\"\",MAX(AY$1:AY244)+1)","v":""},{"$f":"IF(Deviation_CEM_CPMS!B267=\"\",\"\",Deviation_CEM_CPMS!B267)","v":""},{"$f":"IF(Deviation_CEM_CPMS!C267=\"\",\"\",Deviation_CEM_CPMS!C267)","v":""},{"$f":"IF(Deviation_CEM_CPMS!D267=\"\",\"\",Deviation_CEM_CPMS!D267)","v":""},"",{"$f":"IF(COUNTIF(BA$2:BA245,BA245)=1,BA245,\"\")","v":""},"","",""]
[{"$f":"IF(B246=\"\",\"\",MAX(A$1:A245)+1)","v":""},{"$f":"+IF(CPMS_Identification!C268=\"\",\"\",CPMS_Identification!C268)","v":""},"",null,{"$f":"IF(F246=\"\",\"\",MAX(E$1:E245)+1)","v":""},{"$f":"IF(Landfill_Gas_ID!C268=\"\",\"\",Landfill_Gas_ID!C268)","v":""},"",null,{"$f":"IF(J246=\"\",\"\",MAX(I$1:I245)+1)","v":""},{"$f":"IF(Distillate_Oil!C268=\"\",\"\",Distillate_Oil!C268)","v":""},"",null,null,null,null,null,null,null,null,null,null,null,null,null,null,null,{"$f":"+IF(AE246=\"\",\"\",MAX(AA$1:AA245)+1)","v":""},{"$f":"IF(Deviation_Limits!B268=\"\",\"\",Deviation_Limits!B268)","v":""},{"$f":"IF(Deviation_Limits!C268=\"\",\"\",Deviation_Limits!C268)","v":""},"",{"$f":"IF(COUNTIF(AC$2:AC246,AC246)=1,AC246,\"\")","v":""},"","",null,null,null,null,null,null,null,{"$f":"+IF(AT246=\"\",\"\",MAX(AO$1:AO245)+1)","v":""},{"$f":"IF(Deviation_Limits!B268=\"\",\"\",Deviation_Limits!B268)","v":""},{"$f":"IF(Deviation_Limits!C268=\"\",\"\",Deviation_Limits!C268)","v":""},{"$f":"IF(Deviation_Limits!D268=\"\",\"\",Deviation_Limits!D268)","v":""},"",{"$f":"IF(COUNTIF(AQ$2:AQ246,AQ246)=1,AQ246,\"\")","v":""},"","","",null,{"$f":"+IF(BD246=\"\",\"\",MAX(AY$1:AY245)+1)","v":""},{"$f":"IF(Deviation_CEM_CPMS!B268=\"\",\"\",Deviation_CEM_CPMS!B268)","v":""},{"$f":"IF(Deviation_CEM_CPMS!C268=\"\",\"\",Deviation_CEM_CPMS!C268)","v":""},{"$f":"IF(Deviation_CEM_CPMS!D268=\"\",\"\",Deviation_CEM_CPMS!D268)","v":""},"",{"$f":"IF(COUNTIF(BA$2:BA246,BA246)=1,BA246,\"\")","v":""},"","",""]
[{"$f":"IF(B247=\"\",\"\",MAX(A$1:A246)+1)","v":""},{"$f":"+IF(CPMS_Identification!C269=\"\",\"\",CPMS_Identification!C269)","v":""},"",null,{"$f":"IF(F247=\"\",\"\",MAX(E$1:E246)+1)","v":""},{"$f":"IF(Landfill_Gas_ID!C269=\"\",\"\",Landfill_Gas_ID!C269)","v":""},"",null,{"$f":"IF(J247=\"\",\"\",MAX(I$1:I246)+1)","v":""},{"$f":"IF(Distillate_Oil!C269=\"\",\"\",Distillate_Oil!C269)","v":""},"",null,null,null,null,null,null,null,null,null,null,null,null,null,null,null,{"$f":"+IF(AE247=\"\",\"\",MAX(AA$1:AA246)+1)","v":""},{"$f":"IF(Deviation_Limits!B269=\"\",\"\",Deviation_Limits!B269)","v":""},{"$f":"IF(Deviation_Limits!C269=\"\",\"\",Deviation_Limits!C269)","v":""},"",{"$f":"IF(COUNTIF(AC$2:AC247,AC247)=1,AC247,\"\")","v":""},"","",null,null,null,null,null,null,null,{"$f":"+IF(AT247=\"\",\"\",MAX(AO$1:AO246)+1)","v":""},{"$f":"IF(Deviation_Limits!B269=\"\",\"\",Deviation_Limits!B269)","v":""},{"$f":"IF(Deviation_Limits!C269=\"\",\"\",Deviation_Limits!C269)","v":""},{"$f":"IF(Deviation_Limits!D269=\"\",\"\",Deviation_Limits!D269)","v":""},"",{"$f":"IF(COUNTIF(AQ$2:AQ247,AQ247)=1,AQ247,\"\")","v":""},"","","",null,{"$f":"+IF(BD247=\"\",\"\",MAX(AY$1:AY246)+1)","v":""},{"$f":"IF(Deviation_CEM_CPMS!B269=\"\",\"\",Deviation_CEM_CPMS!B269)","v":""},{"$f":"IF(Deviation_CEM_CPMS!C269=\"\",\"\",Deviation_CEM_CPMS!C269)","v":""},{"$f":"IF(Deviation_CEM_CPMS!D269=\"\",\"\",Deviation_CEM_CPMS!D269)","v":""},"",{"$f":"IF(COUNTIF(BA$2:BA247,BA247)=1,BA247,\"\")","v":""},"","",""]
[{"$f":"IF(B248=\"\",\"\",MAX(A$1:A247)+1)","v":""},{"$f":"+IF(CPMS_Identification!C270=\"\",\"\",CPMS_Identification!C270)","v":""},"",null,{"$f":"IF(F248=\"\",\"\",MAX(E$1:E247)+1)","v":""},{"$f":"IF(Landfill_Gas_ID!C270=\"\",\"\",Landfill_Gas_ID!C270)","v":""},"",null,{"$f":"IF(J248=\"\",\"\",MAX(I$1:I247)+1)","v":""},{"$f":"IF(Distillate_Oil!C270=\"\",\"\",Distillate_Oil!C270)","v":""},"",null,null,null,null,null,null,null,null,null,null,null,null,null,null,null,{"$f":"+IF(AE248=\"\",\"\",MAX(AA$1:AA247)+1)","v":""},{"$f":"IF(Deviation_Limits!B270=\"\",\"\",Deviation_Limits!B270)","v":""},{"$f":"IF(Deviation_Limits!C270=\"\",\"\",Deviation_Limits!C270)","v":""},"",{"$f":"IF(COUNTIF(AC$2:AC248,AC248)=1,AC248,\"\")","v":""},"","",null,null,null,null,null,null,null,{"$f":"+IF(AT248=\"\",\"\",MAX(AO$1:AO247)+1)","v":""},{"$f":"IF(Deviation_Limits!B270=\"\",\"\",Deviation_Limits!B270)","v":""},{"$f":"IF(Deviation_Limits!C270=\"\",\"\",Deviation_Limits!C270)","v":""},{"$f":"IF(Deviation_Limits!D270=\"\",\"\",Deviation_Limits!D270)","v":""},"",{"$f":"IF(COUNTIF(AQ$2:AQ248,AQ248)=1,AQ248,\"\")","v":""},"","","",null,{"$f":"+IF(BD248=\"\",\"\",MAX(AY$1:AY247)+1)","v":""},{"$f":"IF(Deviation_CEM_CPMS!B270=\"\",\"\",Deviation_CEM_CPMS!B270)","v":""},{"$f":"IF(Deviation_CEM_CPMS!C270=\"\",\"\",Deviation_CEM_CPMS!C270)","v":""},{"$f":"IF(Deviation_CEM_CPMS!D270=\"\",\"\",Deviation_CEM_CPMS!D270)","v":""},"",{"$f":"IF(COUNTIF(BA$2:BA248,BA248)=1,BA248,\"\")","v":""},"","",""]
[{"$f":"IF(B249=\"\",\"\",MAX(A$1:A248)+1)","v":""},{"$f":"+IF(CPMS_Identification!C271=\"\",\"\",CPMS_Identification!C271)","v":""},"",null,{"$f":"IF(F249=\"\",\"\",MAX(E$1:E248)+1)","v":""},{"$f":"IF(Landfill_Gas_ID!C271=\"\",\"\",Landfill_Gas_ID!C271)","v":""},"",null,{"$f":"IF(J249=\"\",\"\",MAX(I$1:I248)+1)","v":""},{"$f":"IF(Distillate_Oil!C271=\"\",\"\",Distillate_Oil!C271)","v":""},"",null,null,null,null,null,null,null,null,null,null,null,null,null,null,null,{"$f":"+IF(AE249=\"\",\"\",MAX(AA$1:AA248)+1)","v":""},{"$f":"IF(Deviation_Limits!B271=\"\",\"\",Deviation_Limits!B271)","v":""},{"$f":"IF(Deviation_Limits!C271=\"\",\"\",Deviation_Limits!C271)","v":""},"",{"$f":"IF(COUNTIF(AC$2:AC249,AC249)=1,AC249,\"\")","v":""},"","",null,null,null,null,null,null,null,{"$f":"+IF(AT249=\"\",\"\",MAX(AO$1:AO248)+1)","v":""},{"$f":"IF(Deviation_Limits!B271=\"\",\"\",Deviation_Limits!B271)","v":""},{"$f":"IF(Deviation_Limits!C271=\"\",\"\",Deviation_Limits!C271)","v":""},{"$f":"IF(Deviation_Limits!D271=\"\",\"\",Deviation_Limits!D271)","v":""},"",{"$f":"IF(COUNTIF(AQ$2:AQ249,AQ249)=1,AQ249,\"\")","v":""},"","","",null,{"$f":"+IF(BD249=\"\",\"\",MAX(AY$1:AY248)+1)","v":""},{"$f":"IF(Deviation_CEM_CPMS!B271=\"\",\"\",Deviation_CEM_CPMS!B271)","v":""},{"$f":"IF(Deviation_CEM_CPMS!C271=\"\",\"\",Deviation_CEM_CPMS!C271)","v":""},{"$f":"IF(Deviation_CEM_CPMS!D271=\"\",\"\",Deviation_CEM_CPMS!D271)","v":""},"",{"$f":"IF(COUNTIF(BA$2:BA249,BA249)=1,BA249,\"\")","v":""},"","",""]
[{"$f":"IF(B250=\"\",\"\",MAX(A$1:A249)+1)","v":""},{"$f":"+IF(CPMS_Identification!C272=\"\",\"\",CPMS_Identification!C272)","v":""},"",null,{"$f":"IF(F250=\"\",\"\",MAX(E$1:E249)+1)","v":""},{"$f":"IF(Landfill_Gas_ID!C272=\"\",\"\",Landfill_Gas_ID!C272)","v":""},"",null,{"$f":"IF(J250=\"\",\"\",MAX(I$1:I249)+1)","v":""},{"$f":"IF(Distillate_Oil!C272=\"\",\"\",Distillate_Oil!C272)","v":""},"",null,null,null,null,null,null,null,null,null,null,null,null,null,null,null,{"$f":"+IF(AE250=\"\",\"\",MAX(AA$1:AA249)+1)","v":""},{"$f":"IF(Deviation_Limits!B272=\"\",\"\",Deviation_Limits!B272)","v":""},{"$f":"IF(Deviation_Limits!C272=\"\",\"\",Deviation_Limits!C272)","v":""},"",{"$f":"IF(COUNTIF(AC$2:AC250,AC250)=1,AC250,\"\")","v":""},"","",null,null,null,null,null,null,null,{"$f":"+IF(AT250=\"\",\"\",MAX(AO$1:AO249)+1)","v":""},{"$f":"IF(Deviation_Limits!B272=\"\",\"\",Deviation_Limits!B272)","v":""},{"$f":"IF(Deviation_Limits!C272=\"\",\"\",Deviation_Limits!C272)","v":""},{"$f":"IF(Deviation_Limits!D272=\"\",\"\",Deviation_Limits!D272)","v":""},"",{"$f":"IF(COUNTIF(AQ$2:AQ250,AQ250)=1,AQ250,\"\")","v":""},"","","",null,{"$f":"+IF(BD250=\"\",\"\",MAX(AY$1:AY249)+1)","v":""},{"$f":"IF(Deviation_CEM_CPMS!B272=\"\",\"\",Deviation_CEM_CPMS!B272)","v":""},{"$f":"IF(Deviation_CEM_CPMS!C272=\"\",\"\",Deviation_CEM_CPMS!C272)","v":""},{"$f":"IF(Deviation_CEM_CPMS!D272=\"\",\"\",Deviation_CEM_CPMS!D272)","v":""},"",{"$f":"IF(COUNTIF(BA$2:BA250,BA250)=1,BA250,\"\")","v":""},"","",""]
[{"$f":"IF(B251=\"\",\"\",MAX(A$1:A250)+1)","v":""},{"$f":"+IF(CPMS_Identification!C273=\"\",\"\",CPMS_Identification!C273)","v":""},"",null,{"$f":"IF(F251=\"\",\"\",MAX(E$1:E250)+1)","v":""},{"$f":"IF(Landfill_Gas_ID!C273=\"\",\"\",Landfill_Gas_ID!C273)","v":""},"",null,{"$f":"IF(J251=\"\",\"\",MAX(I$1:I250)+1)","v":""},{"$f":"IF(Distillate_Oil!C273=\"\",\"\",Distillate_Oil!C273)","v":""},"",null,null,null,null,null,null,null,null,null,null,null,null,null,null,null,{"$f":"+IF(AE251=\"\",\"\",MAX(AA$1:AA250)+1)","v":""},{"$f":"IF(Deviation_Limits!B273=\"\",\"\",Deviation_Limits!B273)","v":""},{"$f":"IF(Deviation_Limits!C273=\"\",\"\",Deviation_Limits!C273)","v":""},"",{"$f":"IF(COUNTIF(AC$2:AC251,AC251)=1,AC251,\"\")","v":""},"","",null,null,null,null,null,null,null,{"$f":"+IF(AT251=\"\",\"\",MAX(AO$1:AO250)+1)","v":""},{"$f":"IF(Deviation_Limits!B273=\"\",\"\",Deviation_Limits!B273)","v":""},{"$f":"IF(Deviation_Limits!C273=\"\",\"\",Deviation_Limits!C273)","v":""},{"$f":"IF(Deviation_Limits!D273=\"\",\"\",Deviation_Limits!D273)","v":""},"",{"$f":"IF(COUNTIF(AQ$2:AQ251,AQ251)=1,AQ251,\"\")","v":""},"","","",null,{"$f":"+IF(BD251=\"\",\"\",MAX(AY$1:AY250)+1)","v":""},{"$f":"IF(Deviation_CEM_CPMS!B273=\"\",\"\",Deviation_CEM_CPMS!B273)","v":""},{"$f":"IF(Deviation_CEM_CPMS!C273=\"\",\"\",Deviation_CEM_CPMS!C273)","v":""},{"$f":"IF(Deviation_CEM_CPMS!D273=\"\",\"\",Deviation_CEM_CPMS!D273)","v":""},"",{"$f":"IF(COUNTIF(BA$2:BA251,BA251)=1,BA251,\"\")","v":""},"","",""]
[{"$f":"IF(B252=\"\",\"\",MAX(A$1:A251)+1)","v":""},{"$f":"+IF(CPMS_Identification!C274=\"\",\"\",CPMS_Identification!C274)","v":""},"",null,{"$f":"IF(F252=\"\",\"\",MAX(E$1:E251)+1)","v":""},{"$f":"IF(Landfill_Gas_ID!C274=\"\",\"\",Landfill_Gas_ID!C274)","v":""},"",null,{"$f":"IF(J252=\"\",\"\",MAX(I$1:I251)+1)","v":""},{"$f":"IF(Distillate_Oil!C274=\"\",\"\",Distillate_Oil!C274)","v":""},"",null,null,null,null,null,null,null,null,null,null,null,null,null,null,null,{"$f":"+IF(AE252=\"\",\"\",MAX(AA$1:AA251)+1)","v":""},{"$f":"IF(Deviation_Limits!B274=\"\",\"\",Deviation_Limits!B274)","v":""},{"$f":"IF(Deviation_Limits!C274=\"\",\"\",Deviation_Limits!C274)","v":""},"",{"$f":"IF(COUNTIF(AC$2:AC252,AC252)=1,AC252,\"\")","v":""},"","",null,null,null,null,null,null,null,{"$f":"+IF(AT252=\"\",\"\",MAX(AO$1:AO251)+1)","v":""},{"$f":"IF(Deviation_Limits!B274=\"\",\"\",Deviation_Limits!B274)","v":""},{"$f":"IF(Deviation_Limits!C274=\"\",\"\",Deviation_Limits!C274)","v":""},{"$f":"IF(Deviation_Limits!D274=\"\",\"\",Deviation_Limits!D274)","v":""},"",{"$f":"IF(COUNTIF(AQ$2:AQ252,AQ252)=1,AQ252,\"\")","v":""},"","","",null,{"$f":"+IF(BD252=\"\",\"\",MAX(AY$1:AY251)+1)","v":""},{"$f":"IF(Deviation_CEM_CPMS!B274=\"\",\"\",Deviation_CEM_CPMS!B274)","v":""},{"$f":"IF(Deviation_CEM_CPMS!C274=\"\",\"\",Deviation_CEM_CPMS!C274)","v":""},{"$f":"IF(Deviation_CEM_CPMS!D274=\"\",\"\",Deviation_CEM_CPMS!D274)","v":""},"",{"$f":"IF(COUNTIF(BA$2:BA252,BA252)=1,BA252,\"\")","v":""},"","",""]
[{"$f":"IF(B253=\"\",\"\",MAX(A$1:A252)+1)","v":""},{"$f":"+IF(CPMS_Identification!C275=\"\",\"\",CPMS_Identification!C275)","v":""},"",null,{"$f":"IF(F253=\"\",\"\",MAX(E$1:E252)+1)","v":""},{"$f":"IF(Landfill_Gas_ID!C275=\"\",\"\",Landfill_Gas_ID!C275)","v":""},"",null,{"$f":"IF(J253=\"\",\"\",MAX(I$1:I252)+1)","v":""},{"$f":"IF(Distillate_Oil!C275=\"\",\"\",Distillate_Oil!C275)","v":""},"",null,null,null,null,null,null,null,null,null,null,null,null,null,null,null,{"$f":"+IF(AE253=\"\",\"\",MAX(AA$1:AA252)+1)","v":""},{"$f":"IF(Deviation_Limits!B275=\"\",\"\",Deviation_Limits!B275)","v":""},{"$f":"IF(Deviation_Limits!C275=\"\",\"\",Deviation_Limits!C275)","v":""},"",{"$f":"IF(COUNTIF(AC$2:AC253,AC253)=1,AC253,\"\")","v":""},"","",null,null,null,null,null,null,null,{"$f":"+IF(AT253=\"\",\"\",MAX(AO$1:AO252)+1)","v":""},{"$f":"IF(Deviation_Limits!B275=\"\",\"\",Deviation_Limits!B275)","v":""},{"$f":"IF(Deviation_Limits!C275=\"\",\"\",Deviation_Limits!C275)","v":""},{"$f":"IF(Deviation_Limits!D275=\"\",\"\",Deviation_Limits!D275)","v":""},"",{"$f":"IF(COUNTIF(AQ$2:AQ253,AQ253)=1,AQ253,\"\")","v":""},"","","",null,{"$f":"+IF(BD253=\"\",\"\",MAX(AY$1:AY252)+1)","v":""},{"$f":"IF(Deviation_CEM_CPMS!B275=\"\",\"\",Deviation_CEM_CPMS!B275)","v":""},{"$f":"IF(Deviation_CEM_CPMS!C275=\"\",\"\",Deviation_CEM_CPMS!C275)","v":""},{"$f":"IF(Deviation_CEM_CPMS!D275=\"\",\"\",Deviation_CEM_CPMS!D275)","v":""},"",{"$f":"IF(COUNTIF(BA$2:BA253,BA253)=1,BA253,\"\")","v":""},"","",""]
[{"$f":"IF(B254=\"\",\"\",MAX(A$1:A253)+1)","v":""},{"$f":"+IF(CPMS_Identification!C276=\"\",\"\",CPMS_Identification!C276)","v":""},"",null,{"$f":"IF(F254=\"\",\"\",MAX(E$1:E253)+1)","v":""},{"$f":"IF(Landfill_Gas_ID!C276=\"\",\"\",Landfill_Gas_ID!C276)","v":""},"",null,{"$f":"IF(J254=\"\",\"\",MAX(I$1:I253)+1)","v":""},{"$f":"IF(Distillate_Oil!C276=\"\",\"\",Distillate_Oil!C276)","v":""},"",null,null,null,null,null,null,null,null,null,null,null,null,null,null,null,{"$f":"+IF(AE254=\"\",\"\",MAX(AA$1:AA253)+1)","v":""},{"$f":"IF(Deviation_Limits!B276=\"\",\"\",Deviation_Limits!B276)","v":""},{"$f":"IF(Deviation_Limits!C276=\"\",\"\",Deviation_Limits!C276)","v":""},"",{"$f":"IF(COUNTIF(AC$2:AC254,AC254)=1,AC254,\"\")","v":""},"","",null,null,null,null,null,null,null,{"$f":"+IF(AT254=\"\",\"\",MAX(AO$1:AO253)+1)","v":""},{"$f":"IF(Deviation_Limits!B276=\"\",\"\",Deviation_Limits!B276)","v":""},{"$f":"IF(Deviation_Limits!C276=\"\",\"\",Deviation_Limits!C276)","v":""},{"$f":"IF(Deviation_Limits!D276=\"\",\"\",Deviation_Limits!D276)","v":""},"",{"$f":"IF(COUNTIF(AQ$2:AQ254,AQ254)=1,AQ254,\"\")","v":""},"","","",null,{"$f":"+IF(BD254=\"\",\"\",MAX(AY$1:AY253)+1)","v":""},{"$f":"IF(Deviation_CEM_CPMS!B276=\"\",\"\",Deviation_CEM_CPMS!B276)","v":""},{"$f":"IF(Deviation_CEM_CPMS!C276=\"\",\"\",Deviation_CEM_CPMS!C276)","v":""},{"$f":"IF(Deviation_CEM_CPMS!D276=\"\",\"\",Deviation_CEM_CPMS!D276)","v":""},"",{"$f":"IF(COUNTIF(BA$2:BA254,BA254)=1,BA254,\"\")","v":""},"","",""]
[{"$f":"IF(B255=\"\",\"\",MAX(A$1:A254)+1)","v":""},{"$f":"+IF(CPMS_Identification!C277=\"\",\"\",CPMS_Identification!C277)","v":""},"",null,{"$f":"IF(F255=\"\",\"\",MAX(E$1:E254)+1)","v":""},{"$f":"IF(Landfill_Gas_ID!C277=\"\",\"\",Landfill_Gas_ID!C277)","v":""},"",null,{"$f":"IF(J255=\"\",\"\",MAX(I$1:I254)+1)","v":""},{"$f":"IF(Distillate_Oil!C277=\"\",\"\",Distillate_Oil!C277)","v":""},"",null,null,null,null,null,null,null,null,null,null,null,null,null,null,null,{"$f":"+IF(AE255=\"\",\"\",MAX(AA$1:AA254)+1)","v":""},{"$f":"IF(Deviation_Limits!B277=\"\",\"\",Deviation_Limits!B277)","v":""},{"$f":"IF(Deviation_Limits!C277=\"\",\"\",Deviation_Limits!C277)","v":""},"",{"$f":"IF(COUNTIF(AC$2:AC255,AC255)=1,AC255,\"\")","v":""},"","",null,null,null,null,null,null,null,{"$f":"+IF(AT255=\"\",\"\",MAX(AO$1:AO254)+1)","v":""},{"$f":"IF(Deviation_Limits!B277=\"\",\"\",Deviation_Limits!B277)","v":""},{"$f":"IF(Deviation_Limits!C277=\"\",\"\",Deviation_Limits!C277)","v":""},{"$f":"IF(Deviation_Limits!D277=\"\",\"\",Deviation_Limits!D277)","v":""},"",{"$f":"IF(COUNTIF(AQ$2:AQ255,AQ255)=1,AQ255,\"\")","v":""},"","","",null,{"$f":"+IF(BD255=\"\",\"\",MAX(AY$1:AY254)+1)","v":""},{"$f":"IF(Deviation_CEM_CPMS!B277=\"\",\"\",Deviation_CEM_CPMS!B277)","v":""},{"$f":"IF(Deviation_CEM_CPMS!C277=\"\",\"\",Deviation_CEM_CPMS!C277)","v":""},{"$f":"IF(Deviation_CEM_CPMS!D277=\"\",\"\",Deviation_CEM_CPMS!D277)","v":""},"",{"$f":"IF(COUNTIF(BA$2:BA255,BA255)=1,BA255,\"\")","v":""},"","",""]
[{"$f":"IF(B256=\"\",\"\",MAX(A$1:A255)+1)","v":""},{"$f":"+IF(CPMS_Identification!C278=\"\",\"\",CPMS_Identification!C278)","v":""},"",null,{"$f":"IF(F256=\"\",\"\",MAX(E$1:E255)+1)","v":""},{"$f":"IF(Landfill_Gas_ID!C278=\"\",\"\",Landfill_Gas_ID!C278)","v":""},"",null,{"$f":"IF(J256=\"\",\"\",MAX(I$1:I255)+1)","v":""},{"$f":"IF(Distillate_Oil!C278=\"\",\"\",Distillate_Oil!C278)","v":""},"",null,null,null,null,null,null,null,null,null,null,null,null,null,null,null,{"$f":"+IF(AE256=\"\",\"\",MAX(AA$1:AA255)+1)","v":""},{"$f":"IF(Deviation_Limits!B278=\"\",\"\",Deviation_Limits!B278)","v":""},{"$f":"IF(Deviation_Limits!C278=\"\",\"\",Deviation_Limits!C278)","v":""},"",{"$f":"IF(COUNTIF(AC$2:AC256,AC256)=1,AC256,\"\")","v":""},"","",null,null,null,null,null,null,null,{"$f":"+IF(AT256=\"\",\"\",MAX(AO$1:AO255)+1)","v":""},{"$f":"IF(Deviation_Limits!B278=\"\",\"\",Deviation_Limits!B278)","v":""},{"$f":"IF(Deviation_Limits!C278=\"\",\"\",Deviation_Limits!C278)","v":""},{"$f":"IF(Deviation_Limits!D278=\"\",\"\",Deviation_Limits!D278)","v":""},"",{"$f":"IF(COUNTIF(AQ$2:AQ256,AQ256)=1,AQ256,\"\")","v":""},"","","",null,{"$f":"+IF(BD256=\"\",\"\",MAX(AY$1:AY255)+1)","v":""},{"$f":"IF(Deviation_CEM_CPMS!B278=\"\",\"\",Deviation_CEM_CPMS!B278)","v":""},{"$f":"IF(Deviation_CEM_CPMS!C278=\"\",\"\",Deviation_CEM_CPMS!C278)","v":""},{"$f":"IF(Deviation_CEM_CPMS!D278=\"\",\"\",Deviation_CEM_CPMS!D278)","v":""},"",{"$f":"IF(COUNTIF(BA$2:BA256,BA256)=1,BA256,\"\")","v":""},"","",""]
[{"$f":"IF(B257=\"\",\"\",MAX(A$1:A256)+1)","v":""},{"$f":"+IF(CPMS_Identification!C279=\"\",\"\",CPMS_Identification!C279)","v":""},"",null,{"$f":"IF(F257=\"\",\"\",MAX(E$1:E256)+1)","v":""},{"$f":"IF(Landfill_Gas_ID!C279=\"\",\"\",Landfill_Gas_ID!C279)","v":""},"",null,{"$f":"IF(J257=\"\",\"\",MAX(I$1:I256)+1)","v":""},{"$f":"IF(Distillate_Oil!C279=\"\",\"\",Distillate_Oil!C279)","v":""},"",null,null,null,null,null,null,null,null,null,null,null,null,null,null,null,{"$f":"+IF(AE257=\"\",\"\",MAX(AA$1:AA256)+1)","v":""},{"$f":"IF(Deviation_Limits!B279=\"\",\"\",Deviation_Limits!B279)","v":""},{"$f":"IF(Deviation_Limits!C279=\"\",\"\",Deviation_Limits!C279)","v":""},"",{"$f":"IF(COUNTIF(AC$2:AC257,AC257)=1,AC257,\"\")","v":""},"","",null,null,null,null,null,null,null,{"$f":"+IF(AT257=\"\",\"\",MAX(AO$1:AO256)+1)","v":""},{"$f":"IF(Deviation_Limits!B279=\"\",\"\",Deviation_Limits!B279)","v":""},{"$f":"IF(Deviation_Limits!C279=\"\",\"\",Deviation_Limits!C279)","v":""},{"$f":"IF(Deviation_Limits!D279=\"\",\"\",Deviation_Limits!D279)","v":""},"",{"$f":"IF(COUNTIF(AQ$2:AQ257,AQ257)=1,AQ257,\"\")","v":""},"","","",null,{"$f":"+IF(BD257=\"\",\"\",MAX(AY$1:AY256)+1)","v":""},{"$f":"IF(Deviation_CEM_CPMS!B279=\"\",\"\",Deviation_CEM_CPMS!B279)","v":""},{"$f":"IF(Deviation_CEM_CPMS!C279=\"\",\"\",Deviation_CEM_CPMS!C279)","v":""},{"$f":"IF(Deviation_CEM_CPMS!D279=\"\",\"\",Deviation_CEM_CPMS!D279)","v":""},"",{"$f":"IF(COUNTIF(BA$2:BA257,BA257)=1,BA257,\"\")","v":""},"","",""]
[{"$f":"IF(B258=\"\",\"\",MAX(A$1:A257)+1)","v":""},{"$f":"+IF(CPMS_Identification!C280=\"\",\"\",CPMS_Identification!C280)","v":""},{"$f":"+IFERROR(INDEX($B$2:$B$500,MATCH(ROW()-ROW($C$1),$A$2:$A$500,0)),\"\")","v":""},null,{"$f":"IF(F258=\"\",\"\",MAX(E$1:E257)+1)","v":""},{"$f":"IF(Landfill_Gas_ID!C280=\"\",\"\",Landfill_Gas_ID!C280)","v":""},{"$f":"+IFERROR(INDEX($F$2:$F$500,MATCH(ROW()-ROW($G$1),$E$2:$E$500,0)),\"\")","v":""},null,{"$f":"IF(J258=\"\",\"\",MAX(I$1:I257)+1)","v":""},{"$f":"IF(Distillate_Oil!C280=\"\",\"\",Distillate_Oil!C280)","v":""},{"$f":"+IFERROR(INDEX($J$2:$J$500,MATCH(ROW()-ROW($K$1),$I$2:$I$500,0)),\"\")","v":""},null,null,null,null,null,null,null,null,null,null,null,null,null,null,null,{"$f":"+IF(AE258=\"\",\"\",MAX(AA$1:AA257)+1)","v":""},{"$f":"IF(Deviation_Limits!B280=\"\",\"\",Deviation_Limits!B280)","v":""},{"$f":"IF(Deviation_Limits!C280=\"\",\"\",Deviation_Limits!C280)","v":""},"",{"$f":"IF(COUNTIF(AC$2:AC258,AC258)=1,AC258,\"\")","v":""},"","",null,null,null,null,null,null,null,{"$f":"+IF(AT258=\"\",\"\",MAX(AO$1:AO257)+1)","v":""},{"$f":"IF(Deviation_Limits!B280=\"\",\"\",Deviation_Limits!B280)","v":""},{"$f":"IF(Deviation_Limits!C280=\"\",\"\",Deviation_Limits!C280)","v":""},{"$f":"IF(Deviation_Limits!D280=\"\",\"\",Deviation_Limits!D280)","v":""},"",{"$f":"IF(COUNTIF(AQ$2:AQ258,AQ258)=1,AQ258,\"\")","v":""},"","","",null,{"$f":"+IF(BD258=\"\",\"\",MAX(AY$1:AY257)+1)","v":""},{"$f":"IF(Deviation_CEM_CPMS!B280=\"\",\"\",Deviation_CEM_CPMS!B280)","v":""},{"$f":"IF(Deviation_CEM_CPMS!C280=\"\",\"\",Deviation_CEM_CPMS!C280)","v":""},{"$f":"IF(Deviation_CEM_CPMS!D280=\"\",\"\",Deviation_CEM_CPMS!D280)","v":""},{"$f":"+AZ258&BA258&BB258","v":""},{"$f":"IF(COUNTIF(BA$2:BA258,BA258)=1,BA258,\"\")","v":""},{"$f":"+IFERROR(INDEX(AZ$2:AZ$500,MATCH(ROW()-ROW(BE$1),$AA$2:$AA$500,0)),\"\")","v":""},{"$f":"+IFERROR(INDEX(BA$2:BA$500,MATCH(ROW()-ROW(BE$1),$AA$2:$AA$500,0)),\"\")","v":""},{"$f":"+IFERROR(INDEX(BB$2:BB$500,MATCH(ROW()-ROW(BE$1),$AA$2:$AA$500,0)),\"\")","v":""}]
[{"$f":"IF(B259=\"\",\"\",MAX(A$1:A258)+1)","v":""},{"$f":"+IF(CPMS_Identification!C281=\"\",\"\",CPMS_Identification!C281)","v":""},"",null,{"$f":"IF(F259=\"\",\"\",MAX(E$1:E258)+1)","v":""},{"$f":"IF(Landfill_Gas_ID!C281=\"\",\"\",Landfill_Gas_ID!C281)","v":""},"",null,{"$f":"IF(J259=\"\",\"\",MAX(I$1:I258)+1)","v":""},{"$f":"IF(Distillate_Oil!C281=\"\",\"\",Distillate_Oil!C281)","v":""},"",null,null,null,null,null,null,null,null,null,null,null,null,null,null,null,{"$f":"+IF(AE259=\"\",\"\",MAX(AA$1:AA258)+1)","v":""},{"$f":"IF(Deviation_Limits!B281=\"\",\"\",Deviation_Limits!B281)","v":""},{"$f":"IF(Deviation_Limits!C281=\"\",\"\",Deviation_Limits!C281)","v":""},{"$f":"+AB259&AC259","v":""},{"$f":"IF(COUNTIF(AC$2:AC259,AC259)=1,AC259,\"\")","v":""},{"$f":"+IFERROR(INDEX(AB$2:AB$500,MATCH(ROW()-ROW($AF$1),$AA$2:$AA$500,0)),\"\")","v":""},{"$f":"+IFERROR(INDEX(AC$2:AC$500,MATCH(ROW()-ROW($AF$1),$AA$2:$AA$500,0)),\"\")","v":""},null,null,null,null,null,null,null,{"$f":"+IF(AT259=\"\",\"\",MAX(AO$1:AO258)+1)","v":""},{"$f":"IF(Deviation_Limits!B281=\"\",\"\",Deviation_Limits!B281)","v":""},{"$f":"IF(Deviation_Limits!C281=\"\",\"\",Deviation_Limits!C281)","v":""},{"$f":"IF(Deviation_Limits!D281=\"\",\"\",Deviation_Limits!D281)","v":""},{"$f":"+AP259&AQ259&C259","v":""},{"$f":"IF(COUNTIF(AQ$2:AQ259,AQ259)=1,AQ259,\"\")","v":""},{"$f":"+IFERROR(INDEX(AP$2:AP$500,MATCH(ROW()-ROW(AU$1),$AA$2:$AA$500,0)),\"\")","v":""},{"$f":"+IFERROR(INDEX(AQ$2:AQ$500,MATCH(ROW()-ROW(AU$1),$AA$2:$AA$500,0)),\"\")","v":""},{"$f":"+IFERROR(INDEX(AR$2:AR$500,MATCH(ROW()-ROW(AU$1),$AA$2:$AA$500,0)),\"\")","v":""},null,{"$f":"+IF(BD259=\"\",\"\",MAX(AY$1:AY258)+1)","v":""},{"$f":"IF(Deviation_CEM_CPMS!B281=\"\",\"\",Deviation_CEM_CPMS!B281)","v":""},{"$f":"IF(Deviation_CEM_CPMS!C281=\"\",\"\",Deviation_CEM_CPMS!C281)","v":""},{"$f":"IF(Deviation_CEM_CPMS!D281=\"\",\"\",Deviation_CEM_CPMS!D281)","v":""},"",{"$f":"IF(COUNTIF(BA$2:BA259,BA259)=1,BA259,\"\")","v":""},"","",""]
[{"$f":"IF(B260=\"\",\"\",MAX(A$1:A259)+1)","v":""},{"$f":"+IF(CPMS_Identification!C282=\"\",\"\",CPMS_Identification!C282)","v":""},"",null,{"$f":"IF(F260=\"\",\"\",MAX(E$1:E259)+1)","v":""},{"$f":"IF(Landfill_Gas_ID!C282=\"\",\"\",Landfill_Gas_ID!C282)","v":""},"",null,{"$f":"IF(J260=\"\",\"\",MAX(I$1:I259)+1)","v":""},{"$f":"IF(Distillate_Oil!C282=\"\",\"\",Distillate_Oil!C282)","v":""},"",null,null,null,null,null,null,null,null,null,null,null,null,null,null,null,{"$f":"+IF(AE260=\"\",\"\",MAX(AA$1:AA259)+1)","v":""},{"$f":"IF(Deviation_Limits!B282=\"\",\"\",Deviation_Limits!B282)","v":""},{"$f":"IF(Deviation_Limits!C282=\"\",\"\",Deviation_Limits!C282)","v":""},"",{"$f":"IF(COUNTIF(AC$2:AC260,AC260)=1,AC260,\"\")","v":""},"","",null,null,null,null,null,null,null,{"$f":"+IF(AT260=\"\",\"\",MAX(AO$1:AO259)+1)","v":""},{"$f":"IF(Deviation_Limits!B282=\"\",\"\",Deviation_Limits!B282)","v":""},{"$f":"IF(Deviation_Limits!C282=\"\",\"\",Deviation_Limits!C282)","v":""},{"$f":"IF(Deviation_Limits!D282=\"\",\"\",Deviation_Limits!D282)","v":""},"",{"$f":"IF(COUNTIF(AQ$2:AQ260,AQ260)=1,AQ260,\"\")","v":""},"","","",null,{"$f":"+IF(BD260=\"\",\"\",MAX(AY$1:AY259)+1)","v":""},{"$f":"IF(Deviation_CEM_CPMS!B282=\"\",\"\",Deviation_CEM_CPMS!B282)","v":""},{"$f":"IF(Deviation_CEM_CPMS!C282=\"\",\"\",Deviation_CEM_CPMS!C282)","v":""},{"$f":"IF(Deviation_CEM_CPMS!D282=\"\",\"\",Deviation_CEM_CPMS!D282)","v":""},"",{"$f":"IF(COUNTIF(BA$2:BA260,BA260)=1,BA260,\"\")","v":""},"","",""]
[{"$f":"IF(B261=\"\",\"\",MAX(A$1:A260)+1)","v":""},{"$f":"+IF(CPMS_Identification!C283=\"\",\"\",CPMS_Identification!C283)","v":""},"",null,{"$f":"IF(F261=\"\",\"\",MAX(E$1:E260)+1)","v":""},{"$f":"IF(Landfill_Gas_ID!C283=\"\",\"\",Landfill_Gas_ID!C283)","v":""},"",null,{"$f":"IF(J261=\"\",\"\",MAX(I$1:I260)+1)","v":""},{"$f":"IF(Distillate_Oil!C283=\"\",\"\",Distillate_Oil!C283)","v":""},"",null,null,null,null,null,null,null,null,null,null,null,null,null,null,null,{"$f":"+IF(AE261=\"\",\"\",MAX(AA$1:AA260)+1)","v":""},{"$f":"IF(Deviation_Limits!B283=\"\",\"\",Deviation_Limits!B283)","v":""},{"$f":"IF(Deviation_Limits!C283=\"\",\"\",Deviation_Limits!C283)","v":""},"",{"$f":"IF(COUNTIF(AC$2:AC261,AC261)=1,AC261,\"\")","v":""},"","",null,null,null,null,null,null,null,{"$f":"+IF(AT261=\"\",\"\",MAX(AO$1:AO260)+1)","v":""},{"$f":"IF(Deviation_Limits!B283=\"\",\"\",Deviation_Limits!B283)","v":""},{"$f":"IF(Deviation_Limits!C283=\"\",\"\",Deviation_Limits!C283)","v":""},{"$f":"IF(Deviation_Limits!D283=\"\",\"\",Deviation_Limits!D283)","v":""},"",{"$f":"IF(COUNTIF(AQ$2:AQ261,AQ261)=1,AQ261,\"\")","v":""},"","","",null,{"$f":"+IF(BD261=\"\",\"\",MAX(AY$1:AY260)+1)","v":""},{"$f":"IF(Deviation_CEM_CPMS!B283=\"\",\"\",Deviation_CEM_CPMS!B283)","v":""},{"$f":"IF(Deviation_CEM_CPMS!C283=\"\",\"\",Deviation_CEM_CPMS!C283)","v":""},{"$f":"IF(Deviation_CEM_CPMS!D283=\"\",\"\",Deviation_CEM_CPMS!D283)","v":""},"",{"$f":"IF(COUNTIF(BA$2:BA261,BA261)=1,BA261,\"\")","v":""},"","",""]
[{"$f":"IF(B262=\"\",\"\",MAX(A$1:A261)+1)","v":""},{"$f":"+IF(CPMS_Identification!C284=\"\",\"\",CPMS_Identification!C284)","v":""},"",null,{"$f":"IF(F262=\"\",\"\",MAX(E$1:E261)+1)","v":""},{"$f":"IF(Landfill_Gas_ID!C284=\"\",\"\",Landfill_Gas_ID!C284)","v":""},"",null,{"$f":"IF(J262=\"\",\"\",MAX(I$1:I261)+1)","v":""},{"$f":"IF(Distillate_Oil!C284=\"\",\"\",Distillate_Oil!C284)","v":""},"",null,null,null,null,null,null,null,null,null,null,null,null,null,null,null,{"$f":"+IF(AE262=\"\",\"\",MAX(AA$1:AA261)+1)","v":""},{"$f":"IF(Deviation_Limits!B284=\"\",\"\",Deviation_Limits!B284)","v":""},{"$f":"IF(Deviation_Limits!C284=\"\",\"\",Deviation_Limits!C284)","v":""},"",{"$f":"IF(COUNTIF(AC$2:AC262,AC262)=1,AC262,\"\")","v":""},"","",null,null,null,null,null,null,null,{"$f":"+IF(AT262=\"\",\"\",MAX(AO$1:AO261)+1)","v":""},{"$f":"IF(Deviation_Limits!B284=\"\",\"\",Deviation_Limits!B284)","v":""},{"$f":"IF(Deviation_Limits!C284=\"\",\"\",Deviation_Limits!C284)","v":""},{"$f":"IF(Deviation_Limits!D284=\"\",\"\",Deviation_Limits!D284)","v":""},"",{"$f":"IF(COUNTIF(AQ$2:AQ262,AQ262)=1,AQ262,\"\")","v":""},"","","",null,{"$f":"+IF(BD262=\"\",\"\",MAX(AY$1:AY261)+1)","v":""},{"$f":"IF(Deviation_CEM_CPMS!B284=\"\",\"\",Deviation_CEM_CPMS!B284)","v":""},{"$f":"IF(Deviation_CEM_CPMS!C284=\"\",\"\",Deviation_CEM_CPMS!C284)","v":""},{"$f":"IF(Deviation_CEM_CPMS!D284=\"\",\"\",Deviation_CEM_CPMS!D284)","v":""},"",{"$f":"IF(COUNTIF(BA$2:BA262,BA262)=1,BA262,\"\")","v":""},"","",""]
[{"$f":"IF(B263=\"\",\"\",MAX(A$1:A262)+1)","v":""},{"$f":"+IF(CPMS_Identification!C285=\"\",\"\",CPMS_Identification!C285)","v":""},"",null,{"$f":"IF(F263=\"\",\"\",MAX(E$1:E262)+1)","v":""},{"$f":"IF(Landfill_Gas_ID!C285=\"\",\"\",Landfill_Gas_ID!C285)","v":""},"",null,{"$f":"IF(J263=\"\",\"\",MAX(I$1:I262)+1)","v":""},{"$f":"IF(Distillate_Oil!C285=\"\",\"\",Distillate_Oil!C285)","v":""},"",null,null,null,null,null,null,null,null,null,null,null,null,null,null,null,{"$f":"+IF(AE263=\"\",\"\",MAX(AA$1:AA262)+1)","v":""},{"$f":"IF(Deviation_Limits!B285=\"\",\"\",Deviation_Limits!B285)","v":""},{"$f":"IF(Deviation_Limits!C285=\"\",\"\",Deviation_Limits!C285)","v":""},"",{"$f":"IF(COUNTIF(AC$2:AC263,AC263)=1,AC263,\"\")","v":""},"","",null,null,null,null,null,null,null,{"$f":"+IF(AT263=\"\",\"\",MAX(AO$1:AO262)+1)","v":""},{"$f":"IF(Deviation_Limits!B285=\"\",\"\",Deviation_Limits!B285)","v":""},{"$f":"IF(Deviation_Limits!C285=\"\",\"\",Deviation_Limits!C285)","v":""},{"$f":"IF(Deviation_Limits!D285=\"\",\"\",Deviation_Limits!D285)","v":""},"",{"$f":"IF(COUNTIF(AQ$2:AQ263,AQ263)=1,AQ263,\"\")","v":""},"","","",null,{"$f":"+IF(BD263=\"\",\"\",MAX(AY$1:AY262)+1)","v":""},{"$f":"IF(Deviation_CEM_CPMS!B285=\"\",\"\",Deviation_CEM_CPMS!B285)","v":""},{"$f":"IF(Deviation_CEM_CPMS!C285=\"\",\"\",Deviation_CEM_CPMS!C285)","v":""},{"$f":"IF(Deviation_CEM_CPMS!D285=\"\",\"\",Deviation_CEM_CPMS!D285)","v":""},"",{"$f":"IF(COUNTIF(BA$2:BA263,BA263)=1,BA263,\"\")","v":""},"","",""]
[{"$f":"IF(B264=\"\",\"\",MAX(A$1:A263)+1)","v":""},{"$f":"+IF(CPMS_Identification!C286=\"\",\"\",CPMS_Identification!C286)","v":""},"",null,{"$f":"IF(F264=\"\",\"\",MAX(E$1:E263)+1)","v":""},{"$f":"IF(Landfill_Gas_ID!C286=\"\",\"\",Landfill_Gas_ID!C286)","v":""},"",null,{"$f":"IF(J264=\"\",\"\",MAX(I$1:I263)+1)","v":""},{"$f":"IF(Distillate_Oil!C286=\"\",\"\",Distillate_Oil!C286)","v":""},"",null,null,null,null,null,null,null,null,null,null,null,null,null,null,null,{"$f":"+IF(AE264=\"\",\"\",MAX(AA$1:AA263)+1)","v":""},{"$f":"IF(Deviation_Limits!B286=\"\",\"\",Deviation_Limits!B286)","v":""},{"$f":"IF(Deviation_Limits!C286=\"\",\"\",Deviation_Limits!C286)","v":""},"",{"$f":"IF(COUNTIF(AC$2:AC264,AC264)=1,AC264,\"\")","v":""},"","",null,null,null,null,null,null,null,{"$f":"+IF(AT264=\"\",\"\",MAX(AO$1:AO263)+1)","v":""},{"$f":"IF(Deviation_Limits!B286=\"\",\"\",Deviation_Limits!B286)","v":""},{"$f":"IF(Deviation_Limits!C286=\"\",\"\",Deviation_Limits!C286)","v":""},{"$f":"IF(Deviation_Limits!D286=\"\",\"\",Deviation_Limits!D286)","v":""},"",{"$f":"IF(COUNTIF(AQ$2:AQ264,AQ264)=1,AQ264,\"\")","v":""},"","","",null,{"$f":"+IF(BD264=\"\",\"\",MAX(AY$1:AY263)+1)","v":""},{"$f":"IF(Deviation_CEM_CPMS!B286=\"\",\"\",Deviation_CEM_CPMS!B286)","v":""},{"$f":"IF(Deviation_CEM_CPMS!C286=\"\",\"\",Deviation_CEM_CPMS!C286)","v":""},{"$f":"IF(Deviation_CEM_CPMS!D286=\"\",\"\",Deviation_CEM_CPMS!D286)","v":""},"",{"$f":"IF(COUNTIF(BA$2:BA264,BA264)=1,BA264,\"\")","v":""},"","",""]
[{"$f":"IF(B265=\"\",\"\",MAX(A$1:A264)+1)","v":""},{"$f":"+IF(CPMS_Identification!C287=\"\",\"\",CPMS_Identification!C287)","v":""},"",null,{"$f":"IF(F265=\"\",\"\",MAX(E$1:E264)+1)","v":""},{"$f":"IF(Landfill_Gas_ID!C287=\"\",\"\",Landfill_Gas_ID!C287)","v":""},"",null,{"$f":"IF(J265=\"\",\"\",MAX(I$1:I264)+1)","v":""},{"$f":"IF(Distillate_Oil!C287=\"\",\"\",Distillate_Oil!C287)","v":""},"",null,null,null,null,null,null,null,null,null,null,null,null,null,null,null,{"$f":"+IF(AE265=\"\",\"\",MAX(AA$1:AA264)+1)","v":""},{"$f":"IF(Deviation_Limits!B287=\"\",\"\",Deviation_Limits!B287)","v":""},{"$f":"IF(Deviation_Limits!C287=\"\",\"\",Deviation_Limits!C287)","v":""},"",{"$f":"IF(COUNTIF(AC$2:AC265,AC265)=1,AC265,\"\")","v":""},"","",null,null,null,null,null,null,null,{"$f":"+IF(AT265=\"\",\"\",MAX(AO$1:AO264)+1)","v":""},{"$f":"IF(Deviation_Limits!B287=\"\",\"\",Deviation_Limits!B287)","v":""},{"$f":"IF(Deviation_Limits!C287=\"\",\"\",Deviation_Limits!C287)","v":""},{"$f":"IF(Deviation_Limits!D287=\"\",\"\",Deviation_Limits!D287)","v":""},"",{"$f":"IF(COUNTIF(AQ$2:AQ265,AQ265)=1,AQ265,\"\")","v":""},"","","",null,{"$f":"+IF(BD265=\"\",\"\",MAX(AY$1:AY264)+1)","v":""},{"$f":"IF(Deviation_CEM_CPMS!B287=\"\",\"\",Deviation_CEM_CPMS!B287)","v":""},{"$f":"IF(Deviation_CEM_CPMS!C287=\"\",\"\",Deviation_CEM_CPMS!C287)","v":""},{"$f":"IF(Deviation_CEM_CPMS!D287=\"\",\"\",Deviation_CEM_CPMS!D287)","v":""},"",{"$f":"IF(COUNTIF(BA$2:BA265,BA265)=1,BA265,\"\")","v":""},"","",""]
[{"$f":"IF(B266=\"\",\"\",MAX(A$1:A265)+1)","v":""},{"$f":"+IF(CPMS_Identification!C288=\"\",\"\",CPMS_Identification!C288)","v":""},"",null,{"$f":"IF(F266=\"\",\"\",MAX(E$1:E265)+1)","v":""},{"$f":"IF(Landfill_Gas_ID!C288=\"\",\"\",Landfill_Gas_ID!C288)","v":""},"",null,{"$f":"IF(J266=\"\",\"\",MAX(I$1:I265)+1)","v":""},{"$f":"IF(Distillate_Oil!C288=\"\",\"\",Distillate_Oil!C288)","v":""},"",null,null,null,null,null,null,null,null,null,null,null,null,null,null,null,{"$f":"+IF(AE266=\"\",\"\",MAX(AA$1:AA265)+1)","v":""},{"$f":"IF(Deviation_Limits!B288=\"\",\"\",Deviation_Limits!B288)","v":""},{"$f":"IF(Deviation_Limits!C288=\"\",\"\",Deviation_Limits!C288)","v":""},"",{"$f":"IF(COUNTIF(AC$2:AC266,AC266)=1,AC266,\"\")","v":""},"","",null,null,null,null,null,null,null,{"$f":"+IF(AT266=\"\",\"\",MAX(AO$1:AO265)+1)","v":""},{"$f":"IF(Deviation_Limits!B288=\"\",\"\",Deviation_Limits!B288)","v":""},{"$f":"IF(Deviation_Limits!C288=\"\",\"\",Deviation_Limits!C288)","v":""},{"$f":"IF(Deviation_Limits!D288=\"\",\"\",Deviation_Limits!D288)","v":""},"",{"$f":"IF(COUNTIF(AQ$2:AQ266,AQ266)=1,AQ266,\"\")","v":""},"","","",null,{"$f":"+IF(BD266=\"\",\"\",MAX(AY$1:AY265)+1)","v":""},{"$f":"IF(Deviation_CEM_CPMS!B288=\"\",\"\",Deviation_CEM_CPMS!B288)","v":""},{"$f":"IF(Deviation_CEM_CPMS!C288=\"\",\"\",Deviation_CEM_CPMS!C288)","v":""},{"$f":"IF(Deviation_CEM_CPMS!D288=\"\",\"\",Deviation_CEM_CPMS!D288)","v":""},"",{"$f":"IF(COUNTIF(BA$2:BA266,BA266)=1,BA266,\"\")","v":""},"","",""]
[{"$f":"IF(B267=\"\",\"\",MAX(A$1:A266)+1)","v":""},{"$f":"+IF(CPMS_Identification!C289=\"\",\"\",CPMS_Identification!C289)","v":""},"",null,{"$f":"IF(F267=\"\",\"\",MAX(E$1:E266)+1)","v":""},{"$f":"IF(Landfill_Gas_ID!C289=\"\",\"\",Landfill_Gas_ID!C289)","v":""},"",null,{"$f":"IF(J267=\"\",\"\",MAX(I$1:I266)+1)","v":""},{"$f":"IF(Distillate_Oil!C289=\"\",\"\",Distillate_Oil!C289)","v":""},"",null,null,null,null,null,null,null,null,null,null,null,null,null,null,null,{"$f":"+IF(AE267=\"\",\"\",MAX(AA$1:AA266)+1)","v":""},{"$f":"IF(Deviation_Limits!B289=\"\",\"\",Deviation_Limits!B289)","v":""},{"$f":"IF(Deviation_Limits!C289=\"\",\"\",Deviation_Limits!C289)","v":""},"",{"$f":"IF(COUNTIF(AC$2:AC267,AC267)=1,AC267,\"\")","v":""},"","",null,null,null,null,null,null,null,{"$f":"+IF(AT267=\"\",\"\",MAX(AO$1:AO266)+1)","v":""},{"$f":"IF(Deviation_Limits!B289=\"\",\"\",Deviation_Limits!B289)","v":""},{"$f":"IF(Deviation_Limits!C289=\"\",\"\",Deviation_Limits!C289)","v":""},{"$f":"IF(Deviation_Limits!D289=\"\",\"\",Deviation_Limits!D289)","v":""},"",{"$f":"IF(COUNTIF(AQ$2:AQ267,AQ267)=1,AQ267,\"\")","v":""},"","","",null,{"$f":"+IF(BD267=\"\",\"\",MAX(AY$1:AY266)+1)","v":""},{"$f":"IF(Deviation_CEM_CPMS!B289=\"\",\"\",Deviation_CEM_CPMS!B289)","v":""},{"$f":"IF(Deviation_CEM_CPMS!C289=\"\",\"\",Deviation_CEM_CPMS!C289)","v":""},{"$f":"IF(Deviation_CEM_CPMS!D289=\"\",\"\",Deviation_CEM_CPMS!D289)","v":""},"",{"$f":"IF(COUNTIF(BA$2:BA267,BA267)=1,BA267,\"\")","v":""},"","",""]
[{"$f":"IF(B268=\"\",\"\",MAX(A$1:A267)+1)","v":""},{"$f":"+IF(CPMS_Identification!C290=\"\",\"\",CPMS_Identification!C290)","v":""},"",null,{"$f":"IF(F268=\"\",\"\",MAX(E$1:E267)+1)","v":""},{"$f":"IF(Landfill_Gas_ID!C290=\"\",\"\",Landfill_Gas_ID!C290)","v":""},"",null,{"$f":"IF(J268=\"\",\"\",MAX(I$1:I267)+1)","v":""},{"$f":"IF(Distillate_Oil!C290=\"\",\"\",Distillate_Oil!C290)","v":""},"",null,null,null,null,null,null,null,null,null,null,null,null,null,null,null,{"$f":"+IF(AE268=\"\",\"\",MAX(AA$1:AA267)+1)","v":""},{"$f":"IF(Deviation_Limits!B290=\"\",\"\",Deviation_Limits!B290)","v":""},{"$f":"IF(Deviation_Limits!C290=\"\",\"\",Deviation_Limits!C290)","v":""},"",{"$f":"IF(COUNTIF(AC$2:AC268,AC268)=1,AC268,\"\")","v":""},"","",null,null,null,null,null,null,null,{"$f":"+IF(AT268=\"\",\"\",MAX(AO$1:AO267)+1)","v":""},{"$f":"IF(Deviation_Limits!B290=\"\",\"\",Deviation_Limits!B290)","v":""},{"$f":"IF(Deviation_Limits!C290=\"\",\"\",Deviation_Limits!C290)","v":""},{"$f":"IF(Deviation_Limits!D290=\"\",\"\",Deviation_Limits!D290)","v":""},"",{"$f":"IF(COUNTIF(AQ$2:AQ268,AQ268)=1,AQ268,\"\")","v":""},"","","",null,{"$f":"+IF(BD268=\"\",\"\",MAX(AY$1:AY267)+1)","v":""},{"$f":"IF(Deviation_CEM_CPMS!B290=\"\",\"\",Deviation_CEM_CPMS!B290)","v":""},{"$f":"IF(Deviation_CEM_CPMS!C290=\"\",\"\",Deviation_CEM_CPMS!C290)","v":""},{"$f":"IF(Deviation_CEM_CPMS!D290=\"\",\"\",Deviation_CEM_CPMS!D290)","v":""},"",{"$f":"IF(COUNTIF(BA$2:BA268,BA268)=1,BA268,\"\")","v":""},"","",""]
[{"$f":"IF(B269=\"\",\"\",MAX(A$1:A268)+1)","v":""},{"$f":"+IF(CPMS_Identification!C291=\"\",\"\",CPMS_Identification!C291)","v":""},"",null,{"$f":"IF(F269=\"\",\"\",MAX(E$1:E268)+1)","v":""},{"$f":"IF(Landfill_Gas_ID!C291=\"\",\"\",Landfill_Gas_ID!C291)","v":""},"",null,{"$f":"IF(J269=\"\",\"\",MAX(I$1:I268)+1)","v":""},{"$f":"IF(Distillate_Oil!C291=\"\",\"\",Distillate_Oil!C291)","v":""},"",null,null,null,null,null,null,null,null,null,null,null,null,null,null,null,{"$f":"+IF(AE269=\"\",\"\",MAX(AA$1:AA268)+1)","v":""},{"$f":"IF(Deviation_Limits!B291=\"\",\"\",Deviation_Limits!B291)","v":""},{"$f":"IF(Deviation_Limits!C291=\"\",\"\",Deviation_Limits!C291)","v":""},"",{"$f":"IF(COUNTIF(AC$2:AC269,AC269)=1,AC269,\"\")","v":""},"","",null,null,null,null,null,null,null,{"$f":"+IF(AT269=\"\",\"\",MAX(AO$1:AO268)+1)","v":""},{"$f":"IF(Deviation_Limits!B291=\"\",\"\",Deviation_Limits!B291)","v":""},{"$f":"IF(Deviation_Limits!C291=\"\",\"\",Deviation_Limits!C291)","v":""},{"$f":"IF(Deviation_Limits!D291=\"\",\"\",Deviation_Limits!D291)","v":""},"",{"$f":"IF(COUNTIF(AQ$2:AQ269,AQ269)=1,AQ269,\"\")","v":""},"","","",null,{"$f":"+IF(BD269=\"\",\"\",MAX(AY$1:AY268)+1)","v":""},{"$f":"IF(Deviation_CEM_CPMS!B291=\"\",\"\",Deviation_CEM_CPMS!B291)","v":""},{"$f":"IF(Deviation_CEM_CPMS!C291=\"\",\"\",Deviation_CEM_CPMS!C291)","v":""},{"$f":"IF(Deviation_CEM_CPMS!D291=\"\",\"\",Deviation_CEM_CPMS!D291)","v":""},"",{"$f":"IF(COUNTIF(BA$2:BA269,BA269)=1,BA269,\"\")","v":""},"","",""]
[{"$f":"IF(B270=\"\",\"\",MAX(A$1:A269)+1)","v":""},{"$f":"+IF(CPMS_Identification!C292=\"\",\"\",CPMS_Identification!C292)","v":""},"",null,{"$f":"IF(F270=\"\",\"\",MAX(E$1:E269)+1)","v":""},{"$f":"IF(Landfill_Gas_ID!C292=\"\",\"\",Landfill_Gas_ID!C292)","v":""},"",null,{"$f":"IF(J270=\"\",\"\",MAX(I$1:I269)+1)","v":""},{"$f":"IF(Distillate_Oil!C292=\"\",\"\",Distillate_Oil!C292)","v":""},"",null,null,null,null,null,null,null,null,null,null,null,null,null,null,null,{"$f":"+IF(AE270=\"\",\"\",MAX(AA$1:AA269)+1)","v":""},{"$f":"IF(Deviation_Limits!B292=\"\",\"\",Deviation_Limits!B292)","v":""},{"$f":"IF(Deviation_Limits!C292=\"\",\"\",Deviation_Limits!C292)","v":""},"",{"$f":"IF(COUNTIF(AC$2:AC270,AC270)=1,AC270,\"\")","v":""},"","",null,null,null,null,null,null,null,{"$f":"+IF(AT270=\"\",\"\",MAX(AO$1:AO269)+1)","v":""},{"$f":"IF(Deviation_Limits!B292=\"\",\"\",Deviation_Limits!B292)","v":""},{"$f":"IF(Deviation_Limits!C292=\"\",\"\",Deviation_Limits!C292)","v":""},{"$f":"IF(Deviation_Limits!D292=\"\",\"\",Deviation_Limits!D292)","v":""},"",{"$f":"IF(COUNTIF(AQ$2:AQ270,AQ270)=1,AQ270,\"\")","v":""},"","","",null,{"$f":"+IF(BD270=\"\",\"\",MAX(AY$1:AY269)+1)","v":""},{"$f":"IF(Deviation_CEM_CPMS!B292=\"\",\"\",Deviation_CEM_CPMS!B292)","v":""},{"$f":"IF(Deviation_CEM_CPMS!C292=\"\",\"\",Deviation_CEM_CPMS!C292)","v":""},{"$f":"IF(Deviation_CEM_CPMS!D292=\"\",\"\",Deviation_CEM_CPMS!D292)","v":""},"",{"$f":"IF(COUNTIF(BA$2:BA270,BA270)=1,BA270,\"\")","v":""},"","",""]
[{"$f":"IF(B271=\"\",\"\",MAX(A$1:A270)+1)","v":""},{"$f":"+IF(CPMS_Identification!C293=\"\",\"\",CPMS_Identification!C293)","v":""},"",null,{"$f":"IF(F271=\"\",\"\",MAX(E$1:E270)+1)","v":""},{"$f":"IF(Landfill_Gas_ID!C293=\"\",\"\",Landfill_Gas_ID!C293)","v":""},"",null,{"$f":"IF(J271=\"\",\"\",MAX(I$1:I270)+1)","v":""},{"$f":"IF(Distillate_Oil!C293=\"\",\"\",Distillate_Oil!C293)","v":""},"",null,null,null,null,null,null,null,null,null,null,null,null,null,null,null,{"$f":"+IF(AE271=\"\",\"\",MAX(AA$1:AA270)+1)","v":""},{"$f":"IF(Deviation_Limits!B293=\"\",\"\",Deviation_Limits!B293)","v":""},{"$f":"IF(Deviation_Limits!C293=\"\",\"\",Deviation_Limits!C293)","v":""},"",{"$f":"IF(COUNTIF(AC$2:AC271,AC271)=1,AC271,\"\")","v":""},"","",null,null,null,null,null,null,null,{"$f":"+IF(AT271=\"\",\"\",MAX(AO$1:AO270)+1)","v":""},{"$f":"IF(Deviation_Limits!B293=\"\",\"\",Deviation_Limits!B293)","v":""},{"$f":"IF(Deviation_Limits!C293=\"\",\"\",Deviation_Limits!C293)","v":""},{"$f":"IF(Deviation_Limits!D293=\"\",\"\",Deviation_Limits!D293)","v":""},"",{"$f":"IF(COUNTIF(AQ$2:AQ271,AQ271)=1,AQ271,\"\")","v":""},"","","",null,{"$f":"+IF(BD271=\"\",\"\",MAX(AY$1:AY270)+1)","v":""},{"$f":"IF(Deviation_CEM_CPMS!B293=\"\",\"\",Deviation_CEM_CPMS!B293)","v":""},{"$f":"IF(Deviation_CEM_CPMS!C293=\"\",\"\",Deviation_CEM_CPMS!C293)","v":""},{"$f":"IF(Deviation_CEM_CPMS!D293=\"\",\"\",Deviation_CEM_CPMS!D293)","v":""},"",{"$f":"IF(COUNTIF(BA$2:BA271,BA271)=1,BA271,\"\")","v":""},"","",""]
[{"$f":"IF(B272=\"\",\"\",MAX(A$1:A271)+1)","v":""},{"$f":"+IF(CPMS_Identification!C294=\"\",\"\",CPMS_Identification!C294)","v":""},"",null,{"$f":"IF(F272=\"\",\"\",MAX(E$1:E271)+1)","v":""},{"$f":"IF(Landfill_Gas_ID!C294=\"\",\"\",Landfill_Gas_ID!C294)","v":""},"",null,{"$f":"IF(J272=\"\",\"\",MAX(I$1:I271)+1)","v":""},{"$f":"IF(Distillate_Oil!C294=\"\",\"\",Distillate_Oil!C294)","v":""},"",null,null,null,null,null,null,null,null,null,null,null,null,null,null,null,{"$f":"+IF(AE272=\"\",\"\",MAX(AA$1:AA271)+1)","v":""},{"$f":"IF(Deviation_Limits!B294=\"\",\"\",Deviation_Limits!B294)","v":""},{"$f":"IF(Deviation_Limits!C294=\"\",\"\",Deviation_Limits!C294)","v":""},"",{"$f":"IF(COUNTIF(AC$2:AC272,AC272)=1,AC272,\"\")","v":""},"","",null,null,null,null,null,null,null,{"$f":"+IF(AT272=\"\",\"\",MAX(AO$1:AO271)+1)","v":""},{"$f":"IF(Deviation_Limits!B294=\"\",\"\",Deviation_Limits!B294)","v":""},{"$f":"IF(Deviation_Limits!C294=\"\",\"\",Deviation_Limits!C294)","v":""},{"$f":"IF(Deviation_Limits!D294=\"\",\"\",Deviation_Limits!D294)","v":""},"",{"$f":"IF(COUNTIF(AQ$2:AQ272,AQ272)=1,AQ272,\"\")","v":""},"","","",null,{"$f":"+IF(BD272=\"\",\"\",MAX(AY$1:AY271)+1)","v":""},{"$f":"IF(Deviation_CEM_CPMS!B294=\"\",\"\",Deviation_CEM_CPMS!B294)","v":""},{"$f":"IF(Deviation_CEM_CPMS!C294=\"\",\"\",Deviation_CEM_CPMS!C294)","v":""},{"$f":"IF(Deviation_CEM_CPMS!D294=\"\",\"\",Deviation_CEM_CPMS!D294)","v":""},"",{"$f":"IF(COUNTIF(BA$2:BA272,BA272)=1,BA272,\"\")","v":""},"","",""]
[{"$f":"IF(B273=\"\",\"\",MAX(A$1:A272)+1)","v":""},{"$f":"+IF(CPMS_Identification!C295=\"\",\"\",CPMS_Identification!C295)","v":""},"",null,{"$f":"IF(F273=\"\",\"\",MAX(E$1:E272)+1)","v":""},{"$f":"IF(Landfill_Gas_ID!C295=\"\",\"\",Landfill_Gas_ID!C295)","v":""},"",null,{"$f":"IF(J273=\"\",\"\",MAX(I$1:I272)+1)","v":""},{"$f":"IF(Distillate_Oil!C295=\"\",\"\",Distillate_Oil!C295)","v":""},"",null,null,null,null,null,null,null,null,null,null,null,null,null,null,null,{"$f":"+IF(AE273=\"\",\"\",MAX(AA$1:AA272)+1)","v":""},{"$f":"IF(Deviation_Limits!B295=\"\",\"\",Deviation_Limits!B295)","v":""},{"$f":"IF(Deviation_Limits!C295=\"\",\"\",Deviation_Limits!C295)","v":""},"",{"$f":"IF(COUNTIF(AC$2:AC273,AC273)=1,AC273,\"\")","v":""},"","",null,null,null,null,null,null,null,{"$f":"+IF(AT273=\"\",\"\",MAX(AO$1:AO272)+1)","v":""},{"$f":"IF(Deviation_Limits!B295=\"\",\"\",Deviation_Limits!B295)","v":""},{"$f":"IF(Deviation_Limits!C295=\"\",\"\",Deviation_Limits!C295)","v":""},{"$f":"IF(Deviation_Limits!D295=\"\",\"\",Deviation_Limits!D295)","v":""},"",{"$f":"IF(COUNTIF(AQ$2:AQ273,AQ273)=1,AQ273,\"\")","v":""},"","","",null,{"$f":"+IF(BD273=\"\",\"\",MAX(AY$1:AY272)+1)","v":""},{"$f":"IF(Deviation_CEM_CPMS!B295=\"\",\"\",Deviation_CEM_CPMS!B295)","v":""},{"$f":"IF(Deviation_CEM_CPMS!C295=\"\",\"\",Deviation_CEM_CPMS!C295)","v":""},{"$f":"IF(Deviation_CEM_CPMS!D295=\"\",\"\",Deviation_CEM_CPMS!D295)","v":""},"",{"$f":"IF(COUNTIF(BA$2:BA273,BA273)=1,BA273,\"\")","v":""},"","",""]
[{"$f":"IF(B274=\"\",\"\",MAX(A$1:A273)+1)","v":""},{"$f":"+IF(CPMS_Identification!C296=\"\",\"\",CPMS_Identification!C296)","v":""},"",null,{"$f":"IF(F274=\"\",\"\",MAX(E$1:E273)+1)","v":""},{"$f":"IF(Landfill_Gas_ID!C296=\"\",\"\",Landfill_Gas_ID!C296)","v":""},"",null,{"$f":"IF(J274=\"\",\"\",MAX(I$1:I273)+1)","v":""},{"$f":"IF(Distillate_Oil!C296=\"\",\"\",Distillate_Oil!C296)","v":""},"",null,null,null,null,null,null,null,null,null,null,null,null,null,null,null,{"$f":"+IF(AE274=\"\",\"\",MAX(AA$1:AA273)+1)","v":""},{"$f":"IF(Deviation_Limits!B296=\"\",\"\",Deviation_Limits!B296)","v":""},{"$f":"IF(Deviation_Limits!C296=\"\",\"\",Deviation_Limits!C296)","v":""},"",{"$f":"IF(COUNTIF(AC$2:AC274,AC274)=1,AC274,\"\")","v":""},"","",null,null,null,null,null,null,null,{"$f":"+IF(AT274=\"\",\"\",MAX(AO$1:AO273)+1)","v":""},{"$f":"IF(Deviation_Limits!B296=\"\",\"\",Deviation_Limits!B296)","v":""},{"$f":"IF(Deviation_Limits!C296=\"\",\"\",Deviation_Limits!C296)","v":""},{"$f":"IF(Deviation_Limits!D296=\"\",\"\",Deviation_Limits!D296)","v":""},"",{"$f":"IF(COUNTIF(AQ$2:AQ274,AQ274)=1,AQ274,\"\")","v":""},"","","",null,{"$f":"+IF(BD274=\"\",\"\",MAX(AY$1:AY273)+1)","v":""},{"$f":"IF(Deviation_CEM_CPMS!B296=\"\",\"\",Deviation_CEM_CPMS!B296)","v":""},{"$f":"IF(Deviation_CEM_CPMS!C296=\"\",\"\",Deviation_CEM_CPMS!C296)","v":""},{"$f":"IF(Deviation_CEM_CPMS!D296=\"\",\"\",Deviation_CEM_CPMS!D296)","v":""},"",{"$f":"IF(COUNTIF(BA$2:BA274,BA274)=1,BA274,\"\")","v":""},"","",""]
[{"$f":"IF(B275=\"\",\"\",MAX(A$1:A274)+1)","v":""},{"$f":"+IF(CPMS_Identification!C297=\"\",\"\",CPMS_Identification!C297)","v":""},"",null,{"$f":"IF(F275=\"\",\"\",MAX(E$1:E274)+1)","v":""},{"$f":"IF(Landfill_Gas_ID!C297=\"\",\"\",Landfill_Gas_ID!C297)","v":""},"",null,{"$f":"IF(J275=\"\",\"\",MAX(I$1:I274)+1)","v":""},{"$f":"IF(Distillate_Oil!C297=\"\",\"\",Distillate_Oil!C297)","v":""},"",null,null,null,null,null,null,null,null,null,null,null,null,null,null,null,{"$f":"+IF(AE275=\"\",\"\",MAX(AA$1:AA274)+1)","v":""},{"$f":"IF(Deviation_Limits!B297=\"\",\"\",Deviation_Limits!B297)","v":""},{"$f":"IF(Deviation_Limits!C297=\"\",\"\",Deviation_Limits!C297)","v":""},"",{"$f":"IF(COUNTIF(AC$2:AC275,AC275)=1,AC275,\"\")","v":""},"","",null,null,null,null,null,null,null,{"$f":"+IF(AT275=\"\",\"\",MAX(AO$1:AO274)+1)","v":""},{"$f":"IF(Deviation_Limits!B297=\"\",\"\",Deviation_Limits!B297)","v":""},{"$f":"IF(Deviation_Limits!C297=\"\",\"\",Deviation_Limits!C297)","v":""},{"$f":"IF(Deviation_Limits!D297=\"\",\"\",Deviation_Limits!D297)","v":""},"",{"$f":"IF(COUNTIF(AQ$2:AQ275,AQ275)=1,AQ275,\"\")","v":""},"","","",null,{"$f":"+IF(BD275=\"\",\"\",MAX(AY$1:AY274)+1)","v":""},{"$f":"IF(Deviation_CEM_CPMS!B297=\"\",\"\",Deviation_CEM_CPMS!B297)","v":""},{"$f":"IF(Deviation_CEM_CPMS!C297=\"\",\"\",Deviation_CEM_CPMS!C297)","v":""},{"$f":"IF(Deviation_CEM_CPMS!D297=\"\",\"\",Deviation_CEM_CPMS!D297)","v":""},"",{"$f":"IF(COUNTIF(BA$2:BA275,BA275)=1,BA275,\"\")","v":""},"","",""]
[{"$f":"IF(B276=\"\",\"\",MAX(A$1:A275)+1)","v":""},{"$f":"+IF(CPMS_Identification!C298=\"\",\"\",CPMS_Identification!C298)","v":""},"",null,{"$f":"IF(F276=\"\",\"\",MAX(E$1:E275)+1)","v":""},{"$f":"IF(Landfill_Gas_ID!C298=\"\",\"\",Landfill_Gas_ID!C298)","v":""},"",null,{"$f":"IF(J276=\"\",\"\",MAX(I$1:I275)+1)","v":""},{"$f":"IF(Distillate_Oil!C298=\"\",\"\",Distillate_Oil!C298)","v":""},"",null,null,null,null,null,null,null,null,null,null,null,null,null,null,null,{"$f":"+IF(AE276=\"\",\"\",MAX(AA$1:AA275)+1)","v":""},{"$f":"IF(Deviation_Limits!B298=\"\",\"\",Deviation_Limits!B298)","v":""},{"$f":"IF(Deviation_Limits!C298=\"\",\"\",Deviation_Limits!C298)","v":""},"",{"$f":"IF(COUNTIF(AC$2:AC276,AC276)=1,AC276,\"\")","v":""},"","",null,null,null,null,null,null,null,{"$f":"+IF(AT276=\"\",\"\",MAX(AO$1:AO275)+1)","v":""},{"$f":"IF(Deviation_Limits!B298=\"\",\"\",Deviation_Limits!B298)","v":""},{"$f":"IF(Deviation_Limits!C298=\"\",\"\",Deviation_Limits!C298)","v":""},{"$f":"IF(Deviation_Limits!D298=\"\",\"\",Deviation_Limits!D298)","v":""},"",{"$f":"IF(COUNTIF(AQ$2:AQ276,AQ276)=1,AQ276,\"\")","v":""},"","","",null,{"$f":"+IF(BD276=\"\",\"\",MAX(AY$1:AY275)+1)","v":""},{"$f":"IF(Deviation_CEM_CPMS!B298=\"\",\"\",Deviation_CEM_CPMS!B298)","v":""},{"$f":"IF(Deviation_CEM_CPMS!C298=\"\",\"\",Deviation_CEM_CPMS!C298)","v":""},{"$f":"IF(Deviation_CEM_CPMS!D298=\"\",\"\",Deviation_CEM_CPMS!D298)","v":""},"",{"$f":"IF(COUNTIF(BA$2:BA276,BA276)=1,BA276,\"\")","v":""},"","",""]
[{"$f":"IF(B277=\"\",\"\",MAX(A$1:A276)+1)","v":""},{"$f":"+IF(CPMS_Identification!C299=\"\",\"\",CPMS_Identification!C299)","v":""},"",null,{"$f":"IF(F277=\"\",\"\",MAX(E$1:E276)+1)","v":""},{"$f":"IF(Landfill_Gas_ID!C299=\"\",\"\",Landfill_Gas_ID!C299)","v":""},"",null,{"$f":"IF(J277=\"\",\"\",MAX(I$1:I276)+1)","v":""},{"$f":"IF(Distillate_Oil!C299=\"\",\"\",Distillate_Oil!C299)","v":""},"",null,null,null,null,null,null,null,null,null,null,null,null,null,null,null,{"$f":"+IF(AE277=\"\",\"\",MAX(AA$1:AA276)+1)","v":""},{"$f":"IF(Deviation_Limits!B299=\"\",\"\",Deviation_Limits!B299)","v":""},{"$f":"IF(Deviation_Limits!C299=\"\",\"\",Deviation_Limits!C299)","v":""},"",{"$f":"IF(COUNTIF(AC$2:AC277,AC277)=1,AC277,\"\")","v":""},"","",null,null,null,null,null,null,null,{"$f":"+IF(AT277=\"\",\"\",MAX(AO$1:AO276)+1)","v":""},{"$f":"IF(Deviation_Limits!B299=\"\",\"\",Deviation_Limits!B299)","v":""},{"$f":"IF(Deviation_Limits!C299=\"\",\"\",Deviation_Limits!C299)","v":""},{"$f":"IF(Deviation_Limits!D299=\"\",\"\",Deviation_Limits!D299)","v":""},"",{"$f":"IF(COUNTIF(AQ$2:AQ277,AQ277)=1,AQ277,\"\")","v":""},"","","",null,{"$f":"+IF(BD277=\"\",\"\",MAX(AY$1:AY276)+1)","v":""},{"$f":"IF(Deviation_CEM_CPMS!B299=\"\",\"\",Deviation_CEM_CPMS!B299)","v":""},{"$f":"IF(Deviation_CEM_CPMS!C299=\"\",\"\",Deviation_CEM_CPMS!C299)","v":""},{"$f":"IF(Deviation_CEM_CPMS!D299=\"\",\"\",Deviation_CEM_CPMS!D299)","v":""},"",{"$f":"IF(COUNTIF(BA$2:BA277,BA277)=1,BA277,\"\")","v":""},"","",""]
[{"$f":"IF(B278=\"\",\"\",MAX(A$1:A277)+1)","v":""},{"$f":"+IF(CPMS_Identification!C300=\"\",\"\",CPMS_Identification!C300)","v":""},"",null,{"$f":"IF(F278=\"\",\"\",MAX(E$1:E277)+1)","v":""},{"$f":"IF(Landfill_Gas_ID!C300=\"\",\"\",Landfill_Gas_ID!C300)","v":""},"",null,{"$f":"IF(J278=\"\",\"\",MAX(I$1:I277)+1)","v":""},{"$f":"IF(Distillate_Oil!C300=\"\",\"\",Distillate_Oil!C300)","v":""},"",null,null,null,null,null,null,null,null,null,null,null,null,null,null,null,{"$f":"+IF(AE278=\"\",\"\",MAX(AA$1:AA277)+1)","v":""},{"$f":"IF(Deviation_Limits!B300=\"\",\"\",Deviation_Limits!B300)","v":""},{"$f":"IF(Deviation_Limits!C300=\"\",\"\",Deviation_Limits!C300)","v":""},"",{"$f":"IF(COUNTIF(AC$2:AC278,AC278)=1,AC278,\"\")","v":""},"","",null,null,null,null,null,null,null,{"$f":"+IF(AT278=\"\",\"\",MAX(AO$1:AO277)+1)","v":""},{"$f":"IF(Deviation_Limits!B300=\"\",\"\",Deviation_Limits!B300)","v":""},{"$f":"IF(Deviation_Limits!C300=\"\",\"\",Deviation_Limits!C300)","v":""},{"$f":"IF(Deviation_Limits!D300=\"\",\"\",Deviation_Limits!D300)","v":""},"",{"$f":"IF(COUNTIF(AQ$2:AQ278,AQ278)=1,AQ278,\"\")","v":""},"","","",null,{"$f":"+IF(BD278=\"\",\"\",MAX(AY$1:AY277)+1)","v":""},{"$f":"IF(Deviation_CEM_CPMS!B300=\"\",\"\",Deviation_CEM_CPMS!B300)","v":""},{"$f":"IF(Deviation_CEM_CPMS!C300=\"\",\"\",Deviation_CEM_CPMS!C300)","v":""},{"$f":"IF(Deviation_CEM_CPMS!D300=\"\",\"\",Deviation_CEM_CPMS!D300)","v":""},"",{"$f":"IF(COUNTIF(BA$2:BA278,BA278)=1,BA278,\"\")","v":""},"","",""]
[{"$f":"IF(B279=\"\",\"\",MAX(A$1:A278)+1)","v":""},{"$f":"+IF(CPMS_Identification!C301=\"\",\"\",CPMS_Identification!C301)","v":""},"",null,{"$f":"IF(F279=\"\",\"\",MAX(E$1:E278)+1)","v":""},{"$f":"IF(Landfill_Gas_ID!C301=\"\",\"\",Landfill_Gas_ID!C301)","v":""},"",null,{"$f":"IF(J279=\"\",\"\",MAX(I$1:I278)+1)","v":""},{"$f":"IF(Distillate_Oil!C301=\"\",\"\",Distillate_Oil!C301)","v":""},"",null,null,null,null,null,null,null,null,null,null,null,null,null,null,null,{"$f":"+IF(AE279=\"\",\"\",MAX(AA$1:AA278)+1)","v":""},{"$f":"IF(Deviation_Limits!B301=\"\",\"\",Deviation_Limits!B301)","v":""},{"$f":"IF(Deviation_Limits!C301=\"\",\"\",Deviation_Limits!C301)","v":""},"",{"$f":"IF(COUNTIF(AC$2:AC279,AC279)=1,AC279,\"\")","v":""},"","",null,null,null,null,null,null,null,{"$f":"+IF(AT279=\"\",\"\",MAX(AO$1:AO278)+1)","v":""},{"$f":"IF(Deviation_Limits!B301=\"\",\"\",Deviation_Limits!B301)","v":""},{"$f":"IF(Deviation_Limits!C301=\"\",\"\",Deviation_Limits!C301)","v":""},{"$f":"IF(Deviation_Limits!D301=\"\",\"\",Deviation_Limits!D301)","v":""},"",{"$f":"IF(COUNTIF(AQ$2:AQ279,AQ279)=1,AQ279,\"\")","v":""},"","","",null,{"$f":"+IF(BD279=\"\",\"\",MAX(AY$1:AY278)+1)","v":""},{"$f":"IF(Deviation_CEM_CPMS!B301=\"\",\"\",Deviation_CEM_CPMS!B301)","v":""},{"$f":"IF(Deviation_CEM_CPMS!C301=\"\",\"\",Deviation_CEM_CPMS!C301)","v":""},{"$f":"IF(Deviation_CEM_CPMS!D301=\"\",\"\",Deviation_CEM_CPMS!D301)","v":""},"",{"$f":"IF(COUNTIF(BA$2:BA279,BA279)=1,BA279,\"\")","v":""},"","",""]
[{"$f":"IF(B280=\"\",\"\",MAX(A$1:A279)+1)","v":""},{"$f":"+IF(CPMS_Identification!C302=\"\",\"\",CPMS_Identification!C302)","v":""},"",null,{"$f":"IF(F280=\"\",\"\",MAX(E$1:E279)+1)","v":""},{"$f":"IF(Landfill_Gas_ID!C302=\"\",\"\",Landfill_Gas_ID!C302)","v":""},"",null,{"$f":"IF(J280=\"\",\"\",MAX(I$1:I279)+1)","v":""},{"$f":"IF(Distillate_Oil!C302=\"\",\"\",Distillate_Oil!C302)","v":""},"",null,null,null,null,null,null,null,null,null,null,null,null,null,null,null,{"$f":"+IF(AE280=\"\",\"\",MAX(AA$1:AA279)+1)","v":""},{"$f":"IF(Deviation_Limits!B302=\"\",\"\",Deviation_Limits!B302)","v":""},{"$f":"IF(Deviation_Limits!C302=\"\",\"\",Deviation_Limits!C302)","v":""},"",{"$f":"IF(COUNTIF(AC$2:AC280,AC280)=1,AC280,\"\")","v":""},"","",null,null,null,null,null,null,null,{"$f":"+IF(AT280=\"\",\"\",MAX(AO$1:AO279)+1)","v":""},{"$f":"IF(Deviation_Limits!B302=\"\",\"\",Deviation_Limits!B302)","v":""},{"$f":"IF(Deviation_Limits!C302=\"\",\"\",Deviation_Limits!C302)","v":""},{"$f":"IF(Deviation_Limits!D302=\"\",\"\",Deviation_Limits!D302)","v":""},"",{"$f":"IF(COUNTIF(AQ$2:AQ280,AQ280)=1,AQ280,\"\")","v":""},"","","",null,{"$f":"+IF(BD280=\"\",\"\",MAX(AY$1:AY279)+1)","v":""},{"$f":"IF(Deviation_CEM_CPMS!B302=\"\",\"\",Deviation_CEM_CPMS!B302)","v":""},{"$f":"IF(Deviation_CEM_CPMS!C302=\"\",\"\",Deviation_CEM_CPMS!C302)","v":""},{"$f":"IF(Deviation_CEM_CPMS!D302=\"\",\"\",Deviation_CEM_CPMS!D302)","v":""},"",{"$f":"IF(COUNTIF(BA$2:BA280,BA280)=1,BA280,\"\")","v":""},"","",""]
[{"$f":"IF(B281=\"\",\"\",MAX(A$1:A280)+1)","v":""},{"$f":"+IF(CPMS_Identification!C303=\"\",\"\",CPMS_Identification!C303)","v":""},"",null,{"$f":"IF(F281=\"\",\"\",MAX(E$1:E280)+1)","v":""},{"$f":"IF(Landfill_Gas_ID!C303=\"\",\"\",Landfill_Gas_ID!C303)","v":""},"",null,{"$f":"IF(J281=\"\",\"\",MAX(I$1:I280)+1)","v":""},{"$f":"IF(Distillate_Oil!C303=\"\",\"\",Distillate_Oil!C303)","v":""},"",null,null,null,null,null,null,null,null,null,null,null,null,null,null,null,{"$f":"+IF(AE281=\"\",\"\",MAX(AA$1:AA280)+1)","v":""},{"$f":"IF(Deviation_Limits!B303=\"\",\"\",Deviation_Limits!B303)","v":""},{"$f":"IF(Deviation_Limits!C303=\"\",\"\",Deviation_Limits!C303)","v":""},"",{"$f":"IF(COUNTIF(AC$2:AC281,AC281)=1,AC281,\"\")","v":""},"","",null,null,null,null,null,null,null,{"$f":"+IF(AT281=\"\",\"\",MAX(AO$1:AO280)+1)","v":""},{"$f":"IF(Deviation_Limits!B303=\"\",\"\",Deviation_Limits!B303)","v":""},{"$f":"IF(Deviation_Limits!C303=\"\",\"\",Deviation_Limits!C303)","v":""},{"$f":"IF(Deviation_Limits!D303=\"\",\"\",Deviation_Limits!D303)","v":""},"",{"$f":"IF(COUNTIF(AQ$2:AQ281,AQ281)=1,AQ281,\"\")","v":""},"","","",null,{"$f":"+IF(BD281=\"\",\"\",MAX(AY$1:AY280)+1)","v":""},{"$f":"IF(Deviation_CEM_CPMS!B303=\"\",\"\",Deviation_CEM_CPMS!B303)","v":""},{"$f":"IF(Deviation_CEM_CPMS!C303=\"\",\"\",Deviation_CEM_CPMS!C303)","v":""},{"$f":"IF(Deviation_CEM_CPMS!D303=\"\",\"\",Deviation_CEM_CPMS!D303)","v":""},"",{"$f":"IF(COUNTIF(BA$2:BA281,BA281)=1,BA281,\"\")","v":""},"","",""]
[{"$f":"IF(B282=\"\",\"\",MAX(A$1:A281)+1)","v":""},{"$f":"+IF(CPMS_Identification!C304=\"\",\"\",CPMS_Identification!C304)","v":""},"",null,{"$f":"IF(F282=\"\",\"\",MAX(E$1:E281)+1)","v":""},{"$f":"IF(Landfill_Gas_ID!C304=\"\",\"\",Landfill_Gas_ID!C304)","v":""},"",null,{"$f":"IF(J282=\"\",\"\",MAX(I$1:I281)+1)","v":""},{"$f":"IF(Distillate_Oil!C304=\"\",\"\",Distillate_Oil!C304)","v":""},"",null,null,null,null,null,null,null,null,null,null,null,null,null,null,null,{"$f":"+IF(AE282=\"\",\"\",MAX(AA$1:AA281)+1)","v":""},{"$f":"IF(Deviation_Limits!B304=\"\",\"\",Deviation_Limits!B304)","v":""},{"$f":"IF(Deviation_Limits!C304=\"\",\"\",Deviation_Limits!C304)","v":""},"",{"$f":"IF(COUNTIF(AC$2:AC282,AC282)=1,AC282,\"\")","v":""},"","",null,null,null,null,null,null,null,{"$f":"+IF(AT282=\"\",\"\",MAX(AO$1:AO281)+1)","v":""},{"$f":"IF(Deviation_Limits!B304=\"\",\"\",Deviation_Limits!B304)","v":""},{"$f":"IF(Deviation_Limits!C304=\"\",\"\",Deviation_Limits!C304)","v":""},{"$f":"IF(Deviation_Limits!D304=\"\",\"\",Deviation_Limits!D304)","v":""},"",{"$f":"IF(COUNTIF(AQ$2:AQ282,AQ282)=1,AQ282,\"\")","v":""},"","","",null,{"$f":"+IF(BD282=\"\",\"\",MAX(AY$1:AY281)+1)","v":""},{"$f":"IF(Deviation_CEM_CPMS!B304=\"\",\"\",Deviation_CEM_CPMS!B304)","v":""},{"$f":"IF(Deviation_CEM_CPMS!C304=\"\",\"\",Deviation_CEM_CPMS!C304)","v":""},{"$f":"IF(Deviation_CEM_CPMS!D304=\"\",\"\",Deviation_CEM_CPMS!D304)","v":""},"",{"$f":"IF(COUNTIF(BA$2:BA282,BA282)=1,BA282,\"\")","v":""},"","",""]
[{"$f":"IF(B283=\"\",\"\",MAX(A$1:A282)+1)","v":""},{"$f":"+IF(CPMS_Identification!C305=\"\",\"\",CPMS_Identification!C305)","v":""},"",null,{"$f":"IF(F283=\"\",\"\",MAX(E$1:E282)+1)","v":""},{"$f":"IF(Landfill_Gas_ID!C305=\"\",\"\",Landfill_Gas_ID!C305)","v":""},"",null,{"$f":"IF(J283=\"\",\"\",MAX(I$1:I282)+1)","v":""},{"$f":"IF(Distillate_Oil!C305=\"\",\"\",Distillate_Oil!C305)","v":""},"",null,null,null,null,null,null,null,null,null,null,null,null,null,null,null,{"$f":"+IF(AE283=\"\",\"\",MAX(AA$1:AA282)+1)","v":""},{"$f":"IF(Deviation_Limits!B305=\"\",\"\",Deviation_Limits!B305)","v":""},{"$f":"IF(Deviation_Limits!C305=\"\",\"\",Deviation_Limits!C305)","v":""},"",{"$f":"IF(COUNTIF(AC$2:AC283,AC283)=1,AC283,\"\")","v":""},"","",null,null,null,null,null,null,null,{"$f":"+IF(AT283=\"\",\"\",MAX(AO$1:AO282)+1)","v":""},{"$f":"IF(Deviation_Limits!B305=\"\",\"\",Deviation_Limits!B305)","v":""},{"$f":"IF(Deviation_Limits!C305=\"\",\"\",Deviation_Limits!C305)","v":""},{"$f":"IF(Deviation_Limits!D305=\"\",\"\",Deviation_Limits!D305)","v":""},"",{"$f":"IF(COUNTIF(AQ$2:AQ283,AQ283)=1,AQ283,\"\")","v":""},"","","",null,{"$f":"+IF(BD283=\"\",\"\",MAX(AY$1:AY282)+1)","v":""},{"$f":"IF(Deviation_CEM_CPMS!B305=\"\",\"\",Deviation_CEM_CPMS!B305)","v":""},{"$f":"IF(Deviation_CEM_CPMS!C305=\"\",\"\",Deviation_CEM_CPMS!C305)","v":""},{"$f":"IF(Deviation_CEM_CPMS!D305=\"\",\"\",Deviation_CEM_CPMS!D305)","v":""},"",{"$f":"IF(COUNTIF(BA$2:BA283,BA283)=1,BA283,\"\")","v":""},"","",""]
[{"$f":"IF(B284=\"\",\"\",MAX(A$1:A283)+1)","v":""},{"$f":"+IF(CPMS_Identification!C306=\"\",\"\",CPMS_Identification!C306)","v":""},"",null,{"$f":"IF(F284=\"\",\"\",MAX(E$1:E283)+1)","v":""},{"$f":"IF(Landfill_Gas_ID!C306=\"\",\"\",Landfill_Gas_ID!C306)","v":""},"",null,{"$f":"IF(J284=\"\",\"\",MAX(I$1:I283)+1)","v":""},{"$f":"IF(Distillate_Oil!C306=\"\",\"\",Distillate_Oil!C306)","v":""},"",null,null,null,null,null,null,null,null,null,null,null,null,null,null,null,{"$f":"+IF(AE284=\"\",\"\",MAX(AA$1:AA283)+1)","v":""},{"$f":"IF(Deviation_Limits!B306=\"\",\"\",Deviation_Limits!B306)","v":""},{"$f":"IF(Deviation_Limits!C306=\"\",\"\",Deviation_Limits!C306)","v":""},"",{"$f":"IF(COUNTIF(AC$2:AC284,AC284)=1,AC284,\"\")","v":""},"","",null,null,null,null,null,null,null,{"$f":"+IF(AT284=\"\",\"\",MAX(AO$1:AO283)+1)","v":""},{"$f":"IF(Deviation_Limits!B306=\"\",\"\",Deviation_Limits!B306)","v":""},{"$f":"IF(Deviation_Limits!C306=\"\",\"\",Deviation_Limits!C306)","v":""},{"$f":"IF(Deviation_Limits!D306=\"\",\"\",Deviation_Limits!D306)","v":""},"",{"$f":"IF(COUNTIF(AQ$2:AQ284,AQ284)=1,AQ284,\"\")","v":""},"","","",null,{"$f":"+IF(BD284=\"\",\"\",MAX(AY$1:AY283)+1)","v":""},{"$f":"IF(Deviation_CEM_CPMS!B306=\"\",\"\",Deviation_CEM_CPMS!B306)","v":""},{"$f":"IF(Deviation_CEM_CPMS!C306=\"\",\"\",Deviation_CEM_CPMS!C306)","v":""},{"$f":"IF(Deviation_CEM_CPMS!D306=\"\",\"\",Deviation_CEM_CPMS!D306)","v":""},"",{"$f":"IF(COUNTIF(BA$2:BA284,BA284)=1,BA284,\"\")","v":""},"","",""]
[{"$f":"IF(B285=\"\",\"\",MAX(A$1:A284)+1)","v":""},{"$f":"+IF(CPMS_Identification!C307=\"\",\"\",CPMS_Identification!C307)","v":""},"",null,{"$f":"IF(F285=\"\",\"\",MAX(E$1:E284)+1)","v":""},{"$f":"IF(Landfill_Gas_ID!C307=\"\",\"\",Landfill_Gas_ID!C307)","v":""},"",null,{"$f":"IF(J285=\"\",\"\",MAX(I$1:I284)+1)","v":""},{"$f":"IF(Distillate_Oil!C307=\"\",\"\",Distillate_Oil!C307)","v":""},"",null,null,null,null,null,null,null,null,null,null,null,null,null,null,null,{"$f":"+IF(AE285=\"\",\"\",MAX(AA$1:AA284)+1)","v":""},{"$f":"IF(Deviation_Limits!B307=\"\",\"\",Deviation_Limits!B307)","v":""},{"$f":"IF(Deviation_Limits!C307=\"\",\"\",Deviation_Limits!C307)","v":""},"",{"$f":"IF(COUNTIF(AC$2:AC285,AC285)=1,AC285,\"\")","v":""},"","",null,null,null,null,null,null,null,{"$f":"+IF(AT285=\"\",\"\",MAX(AO$1:AO284)+1)","v":""},{"$f":"IF(Deviation_Limits!B307=\"\",\"\",Deviation_Limits!B307)","v":""},{"$f":"IF(Deviation_Limits!C307=\"\",\"\",Deviation_Limits!C307)","v":""},{"$f":"IF(Deviation_Limits!D307=\"\",\"\",Deviation_Limits!D307)","v":""},"",{"$f":"IF(COUNTIF(AQ$2:AQ285,AQ285)=1,AQ285,\"\")","v":""},"","","",null,{"$f":"+IF(BD285=\"\",\"\",MAX(AY$1:AY284)+1)","v":""},{"$f":"IF(Deviation_CEM_CPMS!B307=\"\",\"\",Deviation_CEM_CPMS!B307)","v":""},{"$f":"IF(Deviation_CEM_CPMS!C307=\"\",\"\",Deviation_CEM_CPMS!C307)","v":""},{"$f":"IF(Deviation_CEM_CPMS!D307=\"\",\"\",Deviation_CEM_CPMS!D307)","v":""},"",{"$f":"IF(COUNTIF(BA$2:BA285,BA285)=1,BA285,\"\")","v":""},"","",""]
[{"$f":"IF(B286=\"\",\"\",MAX(A$1:A285)+1)","v":""},{"$f":"+IF(CPMS_Identification!C308=\"\",\"\",CPMS_Identification!C308)","v":""},"",null,{"$f":"IF(F286=\"\",\"\",MAX(E$1:E285)+1)","v":""},{"$f":"IF(Landfill_Gas_ID!C308=\"\",\"\",Landfill_Gas_ID!C308)","v":""},"",null,{"$f":"IF(J286=\"\",\"\",MAX(I$1:I285)+1)","v":""},{"$f":"IF(Distillate_Oil!C308=\"\",\"\",Distillate_Oil!C308)","v":""},"",null,null,null,null,null,null,null,null,null,null,null,null,null,null,null,{"$f":"+IF(AE286=\"\",\"\",MAX(AA$1:AA285)+1)","v":""},{"$f":"IF(Deviation_Limits!B308=\"\",\"\",Deviation_Limits!B308)","v":""},{"$f":"IF(Deviation_Limits!C308=\"\",\"\",Deviation_Limits!C308)","v":""},"",{"$f":"IF(COUNTIF(AC$2:AC286,AC286)=1,AC286,\"\")","v":""},"","",null,null,null,null,null,null,null,{"$f":"+IF(AT286=\"\",\"\",MAX(AO$1:AO285)+1)","v":""},{"$f":"IF(Deviation_Limits!B308=\"\",\"\",Deviation_Limits!B308)","v":""},{"$f":"IF(Deviation_Limits!C308=\"\",\"\",Deviation_Limits!C308)","v":""},{"$f":"IF(Deviation_Limits!D308=\"\",\"\",Deviation_Limits!D308)","v":""},"",{"$f":"IF(COUNTIF(AQ$2:AQ286,AQ286)=1,AQ286,\"\")","v":""},"","","",null,{"$f":"+IF(BD286=\"\",\"\",MAX(AY$1:AY285)+1)","v":""},{"$f":"IF(Deviation_CEM_CPMS!B308=\"\",\"\",Deviation_CEM_CPMS!B308)","v":""},{"$f":"IF(Deviation_CEM_CPMS!C308=\"\",\"\",Deviation_CEM_CPMS!C308)","v":""},{"$f":"IF(Deviation_CEM_CPMS!D308=\"\",\"\",Deviation_CEM_CPMS!D308)","v":""},"",{"$f":"IF(COUNTIF(BA$2:BA286,BA286)=1,BA286,\"\")","v":""},"","",""]
[{"$f":"IF(B287=\"\",\"\",MAX(A$1:A286)+1)","v":""},{"$f":"+IF(CPMS_Identification!C309=\"\",\"\",CPMS_Identification!C309)","v":""},"",null,{"$f":"IF(F287=\"\",\"\",MAX(E$1:E286)+1)","v":""},{"$f":"IF(Landfill_Gas_ID!C309=\"\",\"\",Landfill_Gas_ID!C309)","v":""},"",null,{"$f":"IF(J287=\"\",\"\",MAX(I$1:I286)+1)","v":""},{"$f":"IF(Distillate_Oil!C309=\"\",\"\",Distillate_Oil!C309)","v":""},"",null,null,null,null,null,null,null,null,null,null,null,null,null,null,null,{"$f":"+IF(AE287=\"\",\"\",MAX(AA$1:AA286)+1)","v":""},{"$f":"IF(Deviation_Limits!B309=\"\",\"\",Deviation_Limits!B309)","v":""},{"$f":"IF(Deviation_Limits!C309=\"\",\"\",Deviation_Limits!C309)","v":""},"",{"$f":"IF(COUNTIF(AC$2:AC287,AC287)=1,AC287,\"\")","v":""},"","",null,null,null,null,null,null,null,{"$f":"+IF(AT287=\"\",\"\",MAX(AO$1:AO286)+1)","v":""},{"$f":"IF(Deviation_Limits!B309=\"\",\"\",Deviation_Limits!B309)","v":""},{"$f":"IF(Deviation_Limits!C309=\"\",\"\",Deviation_Limits!C309)","v":""},{"$f":"IF(Deviation_Limits!D309=\"\",\"\",Deviation_Limits!D309)","v":""},"",{"$f":"IF(COUNTIF(AQ$2:AQ287,AQ287)=1,AQ287,\"\")","v":""},"","","",null,{"$f":"+IF(BD287=\"\",\"\",MAX(AY$1:AY286)+1)","v":""},{"$f":"IF(Deviation_CEM_CPMS!B309=\"\",\"\",Deviation_CEM_CPMS!B309)","v":""},{"$f":"IF(Deviation_CEM_CPMS!C309=\"\",\"\",Deviation_CEM_CPMS!C309)","v":""},{"$f":"IF(Deviation_CEM_CPMS!D309=\"\",\"\",Deviation_CEM_CPMS!D309)","v":""},"",{"$f":"IF(COUNTIF(BA$2:BA287,BA287)=1,BA287,\"\")","v":""},"","",""]
[{"$f":"IF(B288=\"\",\"\",MAX(A$1:A287)+1)","v":""},{"$f":"+IF(CPMS_Identification!C310=\"\",\"\",CPMS_Identification!C310)","v":""},"",null,{"$f":"IF(F288=\"\",\"\",MAX(E$1:E287)+1)","v":""},{"$f":"IF(Landfill_Gas_ID!C310=\"\",\"\",Landfill_Gas_ID!C310)","v":""},"",null,{"$f":"IF(J288=\"\",\"\",MAX(I$1:I287)+1)","v":""},{"$f":"IF(Distillate_Oil!C310=\"\",\"\",Distillate_Oil!C310)","v":""},"",null,null,null,null,null,null,null,null,null,null,null,null,null,null,null,{"$f":"+IF(AE288=\"\",\"\",MAX(AA$1:AA287)+1)","v":""},{"$f":"IF(Deviation_Limits!B310=\"\",\"\",Deviation_Limits!B310)","v":""},{"$f":"IF(Deviation_Limits!C310=\"\",\"\",Deviation_Limits!C310)","v":""},"",{"$f":"IF(COUNTIF(AC$2:AC288,AC288)=1,AC288,\"\")","v":""},"","",null,null,null,null,null,null,null,{"$f":"+IF(AT288=\"\",\"\",MAX(AO$1:AO287)+1)","v":""},{"$f":"IF(Deviation_Limits!B310=\"\",\"\",Deviation_Limits!B310)","v":""},{"$f":"IF(Deviation_Limits!C310=\"\",\"\",Deviation_Limits!C310)","v":""},{"$f":"IF(Deviation_Limits!D310=\"\",\"\",Deviation_Limits!D310)","v":""},"",{"$f":"IF(COUNTIF(AQ$2:AQ288,AQ288)=1,AQ288,\"\")","v":""},"","","",null,{"$f":"+IF(BD288=\"\",\"\",MAX(AY$1:AY287)+1)","v":""},{"$f":"IF(Deviation_CEM_CPMS!B310=\"\",\"\",Deviation_CEM_CPMS!B310)","v":""},{"$f":"IF(Deviation_CEM_CPMS!C310=\"\",\"\",Deviation_CEM_CPMS!C310)","v":""},{"$f":"IF(Deviation_CEM_CPMS!D310=\"\",\"\",Deviation_CEM_CPMS!D310)","v":""},"",{"$f":"IF(COUNTIF(BA$2:BA288,BA288)=1,BA288,\"\")","v":""},"","",""]
[{"$f":"IF(B289=\"\",\"\",MAX(A$1:A288)+1)","v":""},{"$f":"+IF(CPMS_Identification!C311=\"\",\"\",CPMS_Identification!C311)","v":""},"",null,{"$f":"IF(F289=\"\",\"\",MAX(E$1:E288)+1)","v":""},{"$f":"IF(Landfill_Gas_ID!C311=\"\",\"\",Landfill_Gas_ID!C311)","v":""},"",null,{"$f":"IF(J289=\"\",\"\",MAX(I$1:I288)+1)","v":""},{"$f":"IF(Distillate_Oil!C311=\"\",\"\",Distillate_Oil!C311)","v":""},"",null,null,null,null,null,null,null,null,null,null,null,null,null,null,null,{"$f":"+IF(AE289=\"\",\"\",MAX(AA$1:AA288)+1)","v":""},{"$f":"IF(Deviation_Limits!B311=\"\",\"\",Deviation_Limits!B311)","v":""},{"$f":"IF(Deviation_Limits!C311=\"\",\"\",Deviation_Limits!C311)","v":""},"",{"$f":"IF(COUNTIF(AC$2:AC289,AC289)=1,AC289,\"\")","v":""},"","",null,null,null,null,null,null,null,{"$f":"+IF(AT289=\"\",\"\",MAX(AO$1:AO288)+1)","v":""},{"$f":"IF(Deviation_Limits!B311=\"\",\"\",Deviation_Limits!B311)","v":""},{"$f":"IF(Deviation_Limits!C311=\"\",\"\",Deviation_Limits!C311)","v":""},{"$f":"IF(Deviation_Limits!D311=\"\",\"\",Deviation_Limits!D311)","v":""},"",{"$f":"IF(COUNTIF(AQ$2:AQ289,AQ289)=1,AQ289,\"\")","v":""},"","","",null,{"$f":"+IF(BD289=\"\",\"\",MAX(AY$1:AY288)+1)","v":""},{"$f":"IF(Deviation_CEM_CPMS!B311=\"\",\"\",Deviation_CEM_CPMS!B311)","v":""},{"$f":"IF(Deviation_CEM_CPMS!C311=\"\",\"\",Deviation_CEM_CPMS!C311)","v":""},{"$f":"IF(Deviation_CEM_CPMS!D311=\"\",\"\",Deviation_CEM_CPMS!D311)","v":""},"",{"$f":"IF(COUNTIF(BA$2:BA289,BA289)=1,BA289,\"\")","v":""},"","",""]
[{"$f":"IF(B290=\"\",\"\",MAX(A$1:A289)+1)","v":""},{"$f":"+IF(CPMS_Identification!C312=\"\",\"\",CPMS_Identification!C312)","v":""},"",null,{"$f":"IF(F290=\"\",\"\",MAX(E$1:E289)+1)","v":""},{"$f":"IF(Landfill_Gas_ID!C312=\"\",\"\",Landfill_Gas_ID!C312)","v":""},"",null,{"$f":"IF(J290=\"\",\"\",MAX(I$1:I289)+1)","v":""},{"$f":"IF(Distillate_Oil!C312=\"\",\"\",Distillate_Oil!C312)","v":""},"",null,null,null,null,null,null,null,null,null,null,null,null,null,null,null,{"$f":"+IF(AE290=\"\",\"\",MAX(AA$1:AA289)+1)","v":""},{"$f":"IF(Deviation_Limits!B312=\"\",\"\",Deviation_Limits!B312)","v":""},{"$f":"IF(Deviation_Limits!C312=\"\",\"\",Deviation_Limits!C312)","v":""},"",{"$f":"IF(COUNTIF(AC$2:AC290,AC290)=1,AC290,\"\")","v":""},"","",null,null,null,null,null,null,null,{"$f":"+IF(AT290=\"\",\"\",MAX(AO$1:AO289)+1)","v":""},{"$f":"IF(Deviation_Limits!B312=\"\",\"\",Deviation_Limits!B312)","v":""},{"$f":"IF(Deviation_Limits!C312=\"\",\"\",Deviation_Limits!C312)","v":""},{"$f":"IF(Deviation_Limits!D312=\"\",\"\",Deviation_Limits!D312)","v":""},"",{"$f":"IF(COUNTIF(AQ$2:AQ290,AQ290)=1,AQ290,\"\")","v":""},"","","",null,{"$f":"+IF(BD290=\"\",\"\",MAX(AY$1:AY289)+1)","v":""},{"$f":"IF(Deviation_CEM_CPMS!B312=\"\",\"\",Deviation_CEM_CPMS!B312)","v":""},{"$f":"IF(Deviation_CEM_CPMS!C312=\"\",\"\",Deviation_CEM_CPMS!C312)","v":""},{"$f":"IF(Deviation_CEM_CPMS!D312=\"\",\"\",Deviation_CEM_CPMS!D312)","v":""},"",{"$f":"IF(COUNTIF(BA$2:BA290,BA290)=1,BA290,\"\")","v":""},"","",""]
[{"$f":"IF(B291=\"\",\"\",MAX(A$1:A290)+1)","v":""},{"$f":"+IF(CPMS_Identification!C313=\"\",\"\",CPMS_Identification!C313)","v":""},"",null,{"$f":"IF(F291=\"\",\"\",MAX(E$1:E290)+1)","v":""},{"$f":"IF(Landfill_Gas_ID!C313=\"\",\"\",Landfill_Gas_ID!C313)","v":""},"",null,{"$f":"IF(J291=\"\",\"\",MAX(I$1:I290)+1)","v":""},{"$f":"IF(Distillate_Oil!C313=\"\",\"\",Distillate_Oil!C313)","v":""},"",null,null,null,null,null,null,null,null,null,null,null,null,null,null,null,{"$f":"+IF(AE291=\"\",\"\",MAX(AA$1:AA290)+1)","v":""},{"$f":"IF(Deviation_Limits!B313=\"\",\"\",Deviation_Limits!B313)","v":""},{"$f":"IF(Deviation_Limits!C313=\"\",\"\",Deviation_Limits!C313)","v":""},"",{"$f":"IF(COUNTIF(AC$2:AC291,AC291)=1,AC291,\"\")","v":""},"","",null,null,null,null,null,null,null,{"$f":"+IF(AT291=\"\",\"\",MAX(AO$1:AO290)+1)","v":""},{"$f":"IF(Deviation_Limits!B313=\"\",\"\",Deviation_Limits!B313)","v":""},{"$f":"IF(Deviation_Limits!C313=\"\",\"\",Deviation_Limits!C313)","v":""},{"$f":"IF(Deviation_Limits!D313=\"\",\"\",Deviation_Limits!D313)","v":""},"",{"$f":"IF(COUNTIF(AQ$2:AQ291,AQ291)=1,AQ291,\"\")","v":""},"","","",null,{"$f":"+IF(BD291=\"\",\"\",MAX(AY$1:AY290)+1)","v":""},{"$f":"IF(Deviation_CEM_CPMS!B313=\"\",\"\",Deviation_CEM_CPMS!B313)","v":""},{"$f":"IF(Deviation_CEM_CPMS!C313=\"\",\"\",Deviation_CEM_CPMS!C313)","v":""},{"$f":"IF(Deviation_CEM_CPMS!D313=\"\",\"\",Deviation_CEM_CPMS!D313)","v":""},"",{"$f":"IF(COUNTIF(BA$2:BA291,BA291)=1,BA291,\"\")","v":""},"","",""]
[{"$f":"IF(B292=\"\",\"\",MAX(A$1:A291)+1)","v":""},{"$f":"+IF(CPMS_Identification!C314=\"\",\"\",CPMS_Identification!C314)","v":""},"",null,{"$f":"IF(F292=\"\",\"\",MAX(E$1:E291)+1)","v":""},{"$f":"IF(Landfill_Gas_ID!C314=\"\",\"\",Landfill_Gas_ID!C314)","v":""},"",null,{"$f":"IF(J292=\"\",\"\",MAX(I$1:I291)+1)","v":""},{"$f":"IF(Distillate_Oil!C314=\"\",\"\",Distillate_Oil!C314)","v":""},"",null,null,null,null,null,null,null,null,null,null,null,null,null,null,null,{"$f":"+IF(AE292=\"\",\"\",MAX(AA$1:AA291)+1)","v":""},{"$f":"IF(Deviation_Limits!B314=\"\",\"\",Deviation_Limits!B314)","v":""},{"$f":"IF(Deviation_Limits!C314=\"\",\"\",Deviation_Limits!C314)","v":""},"",{"$f":"IF(COUNTIF(AC$2:AC292,AC292)=1,AC292,\"\")","v":""},"","",null,null,null,null,null,null,null,{"$f":"+IF(AT292=\"\",\"\",MAX(AO$1:AO291)+1)","v":""},{"$f":"IF(Deviation_Limits!B314=\"\",\"\",Deviation_Limits!B314)","v":""},{"$f":"IF(Deviation_Limits!C314=\"\",\"\",Deviation_Limits!C314)","v":""},{"$f":"IF(Deviation_Limits!D314=\"\",\"\",Deviation_Limits!D314)","v":""},"",{"$f":"IF(COUNTIF(AQ$2:AQ292,AQ292)=1,AQ292,\"\")","v":""},"","","",null,{"$f":"+IF(BD292=\"\",\"\",MAX(AY$1:AY291)+1)","v":""},{"$f":"IF(Deviation_CEM_CPMS!B314=\"\",\"\",Deviation_CEM_CPMS!B314)","v":""},{"$f":"IF(Deviation_CEM_CPMS!C314=\"\",\"\",Deviation_CEM_CPMS!C314)","v":""},{"$f":"IF(Deviation_CEM_CPMS!D314=\"\",\"\",Deviation_CEM_CPMS!D314)","v":""},"",{"$f":"IF(COUNTIF(BA$2:BA292,BA292)=1,BA292,\"\")","v":""},"","",""]
[{"$f":"IF(B293=\"\",\"\",MAX(A$1:A292)+1)","v":""},{"$f":"+IF(CPMS_Identification!C315=\"\",\"\",CPMS_Identification!C315)","v":""},"",null,{"$f":"IF(F293=\"\",\"\",MAX(E$1:E292)+1)","v":""},{"$f":"IF(Landfill_Gas_ID!C315=\"\",\"\",Landfill_Gas_ID!C315)","v":""},"",null,{"$f":"IF(J293=\"\",\"\",MAX(I$1:I292)+1)","v":""},{"$f":"IF(Distillate_Oil!C315=\"\",\"\",Distillate_Oil!C315)","v":""},"",null,null,null,null,null,null,null,null,null,null,null,null,null,null,null,{"$f":"+IF(AE293=\"\",\"\",MAX(AA$1:AA292)+1)","v":""},{"$f":"IF(Deviation_Limits!B315=\"\",\"\",Deviation_Limits!B315)","v":""},{"$f":"IF(Deviation_Limits!C315=\"\",\"\",Deviation_Limits!C315)","v":""},"",{"$f":"IF(COUNTIF(AC$2:AC293,AC293)=1,AC293,\"\")","v":""},"","",null,null,null,null,null,null,null,{"$f":"+IF(AT293=\"\",\"\",MAX(AO$1:AO292)+1)","v":""},{"$f":"IF(Deviation_Limits!B315=\"\",\"\",Deviation_Limits!B315)","v":""},{"$f":"IF(Deviation_Limits!C315=\"\",\"\",Deviation_Limits!C315)","v":""},{"$f":"IF(Deviation_Limits!D315=\"\",\"\",Deviation_Limits!D315)","v":""},"",{"$f":"IF(COUNTIF(AQ$2:AQ293,AQ293)=1,AQ293,\"\")","v":""},"","","",null,{"$f":"+IF(BD293=\"\",\"\",MAX(AY$1:AY292)+1)","v":""},{"$f":"IF(Deviation_CEM_CPMS!B315=\"\",\"\",Deviation_CEM_CPMS!B315)","v":""},{"$f":"IF(Deviation_CEM_CPMS!C315=\"\",\"\",Deviation_CEM_CPMS!C315)","v":""},{"$f":"IF(Deviation_CEM_CPMS!D315=\"\",\"\",Deviation_CEM_CPMS!D315)","v":""},"",{"$f":"IF(COUNTIF(BA$2:BA293,BA293)=1,BA293,\"\")","v":""},"","",""]
[{"$f":"IF(B294=\"\",\"\",MAX(A$1:A293)+1)","v":""},{"$f":"+IF(CPMS_Identification!C316=\"\",\"\",CPMS_Identification!C316)","v":""},"",null,{"$f":"IF(F294=\"\",\"\",MAX(E$1:E293)+1)","v":""},{"$f":"IF(Landfill_Gas_ID!C316=\"\",\"\",Landfill_Gas_ID!C316)","v":""},"",null,{"$f":"IF(J294=\"\",\"\",MAX(I$1:I293)+1)","v":""},{"$f":"IF(Distillate_Oil!C316=\"\",\"\",Distillate_Oil!C316)","v":""},"",null,null,null,null,null,null,null,null,null,null,null,null,null,null,null,{"$f":"+IF(AE294=\"\",\"\",MAX(AA$1:AA293)+1)","v":""},{"$f":"IF(Deviation_Limits!B316=\"\",\"\",Deviation_Limits!B316)","v":""},{"$f":"IF(Deviation_Limits!C316=\"\",\"\",Deviation_Limits!C316)","v":""},"",{"$f":"IF(COUNTIF(AC$2:AC294,AC294)=1,AC294,\"\")","v":""},"","",null,null,null,null,null,null,null,{"$f":"+IF(AT294=\"\",\"\",MAX(AO$1:AO293)+1)","v":""},{"$f":"IF(Deviation_Limits!B316=\"\",\"\",Deviation_Limits!B316)","v":""},{"$f":"IF(Deviation_Limits!C316=\"\",\"\",Deviation_Limits!C316)","v":""},{"$f":"IF(Deviation_Limits!D316=\"\",\"\",Deviation_Limits!D316)","v":""},"",{"$f":"IF(COUNTIF(AQ$2:AQ294,AQ294)=1,AQ294,\"\")","v":""},"","","",null,{"$f":"+IF(BD294=\"\",\"\",MAX(AY$1:AY293)+1)","v":""},{"$f":"IF(Deviation_CEM_CPMS!B316=\"\",\"\",Deviation_CEM_CPMS!B316)","v":""},{"$f":"IF(Deviation_CEM_CPMS!C316=\"\",\"\",Deviation_CEM_CPMS!C316)","v":""},{"$f":"IF(Deviation_CEM_CPMS!D316=\"\",\"\",Deviation_CEM_CPMS!D316)","v":""},"",{"$f":"IF(COUNTIF(BA$2:BA294,BA294)=1,BA294,\"\")","v":""},"","",""]
[{"$f":"IF(B295=\"\",\"\",MAX(A$1:A294)+1)","v":""},{"$f":"+IF(CPMS_Identification!C317=\"\",\"\",CPMS_Identification!C317)","v":""},"",null,{"$f":"IF(F295=\"\",\"\",MAX(E$1:E294)+1)","v":""},{"$f":"IF(Landfill_Gas_ID!C317=\"\",\"\",Landfill_Gas_ID!C317)","v":""},"",null,{"$f":"IF(J295=\"\",\"\",MAX(I$1:I294)+1)","v":""},{"$f":"IF(Distillate_Oil!C317=\"\",\"\",Distillate_Oil!C317)","v":""},"",null,null,null,null,null,null,null,null,null,null,null,null,null,null,null,{"$f":"+IF(AE295=\"\",\"\",MAX(AA$1:AA294)+1)","v":""},{"$f":"IF(Deviation_Limits!B317=\"\",\"\",Deviation_Limits!B317)","v":""},{"$f":"IF(Deviation_Limits!C317=\"\",\"\",Deviation_Limits!C317)","v":""},"",{"$f":"IF(COUNTIF(AC$2:AC295,AC295)=1,AC295,\"\")","v":""},"","",null,null,null,null,null,null,null,{"$f":"+IF(AT295=\"\",\"\",MAX(AO$1:AO294)+1)","v":""},{"$f":"IF(Deviation_Limits!B317=\"\",\"\",Deviation_Limits!B317)","v":""},{"$f":"IF(Deviation_Limits!C317=\"\",\"\",Deviation_Limits!C317)","v":""},{"$f":"IF(Deviation_Limits!D317=\"\",\"\",Deviation_Limits!D317)","v":""},"",{"$f":"IF(COUNTIF(AQ$2:AQ295,AQ295)=1,AQ295,\"\")","v":""},"","","",null,{"$f":"+IF(BD295=\"\",\"\",MAX(AY$1:AY294)+1)","v":""},{"$f":"IF(Deviation_CEM_CPMS!B317=\"\",\"\",Deviation_CEM_CPMS!B317)","v":""},{"$f":"IF(Deviation_CEM_CPMS!C317=\"\",\"\",Deviation_CEM_CPMS!C317)","v":""},{"$f":"IF(Deviation_CEM_CPMS!D317=\"\",\"\",Deviation_CEM_CPMS!D317)","v":""},"",{"$f":"IF(COUNTIF(BA$2:BA295,BA295)=1,BA295,\"\")","v":""},"","",""]
[{"$f":"IF(B296=\"\",\"\",MAX(A$1:A295)+1)","v":""},{"$f":"+IF(CPMS_Identification!C318=\"\",\"\",CPMS_Identification!C318)","v":""},"",null,{"$f":"IF(F296=\"\",\"\",MAX(E$1:E295)+1)","v":""},{"$f":"IF(Landfill_Gas_ID!C318=\"\",\"\",Landfill_Gas_ID!C318)","v":""},"",null,{"$f":"IF(J296=\"\",\"\",MAX(I$1:I295)+1)","v":""},{"$f":"IF(Distillate_Oil!C318=\"\",\"\",Distillate_Oil!C318)","v":""},"",null,null,null,null,null,null,null,null,null,null,null,null,null,null,null,{"$f":"+IF(AE296=\"\",\"\",MAX(AA$1:AA295)+1)","v":""},{"$f":"IF(Deviation_Limits!B318=\"\",\"\",Deviation_Limits!B318)","v":""},{"$f":"IF(Deviation_Limits!C318=\"\",\"\",Deviation_Limits!C318)","v":""},"",{"$f":"IF(COUNTIF(AC$2:AC296,AC296)=1,AC296,\"\")","v":""},"","",null,null,null,null,null,null,null,{"$f":"+IF(AT296=\"\",\"\",MAX(AO$1:AO295)+1)","v":""},{"$f":"IF(Deviation_Limits!B318=\"\",\"\",Deviation_Limits!B318)","v":""},{"$f":"IF(Deviation_Limits!C318=\"\",\"\",Deviation_Limits!C318)","v":""},{"$f":"IF(Deviation_Limits!D318=\"\",\"\",Deviation_Limits!D318)","v":""},"",{"$f":"IF(COUNTIF(AQ$2:AQ296,AQ296)=1,AQ296,\"\")","v":""},"","","",null,{"$f":"+IF(BD296=\"\",\"\",MAX(AY$1:AY295)+1)","v":""},{"$f":"IF(Deviation_CEM_CPMS!B318=\"\",\"\",Deviation_CEM_CPMS!B318)","v":""},{"$f":"IF(Deviation_CEM_CPMS!C318=\"\",\"\",Deviation_CEM_CPMS!C318)","v":""},{"$f":"IF(Deviation_CEM_CPMS!D318=\"\",\"\",Deviation_CEM_CPMS!D318)","v":""},"",{"$f":"IF(COUNTIF(BA$2:BA296,BA296)=1,BA296,\"\")","v":""},"","",""]
[{"$f":"IF(B297=\"\",\"\",MAX(A$1:A296)+1)","v":""},{"$f":"+IF(CPMS_Identification!C319=\"\",\"\",CPMS_Identification!C319)","v":""},"",null,{"$f":"IF(F297=\"\",\"\",MAX(E$1:E296)+1)","v":""},{"$f":"IF(Landfill_Gas_ID!C319=\"\",\"\",Landfill_Gas_ID!C319)","v":""},"",null,{"$f":"IF(J297=\"\",\"\",MAX(I$1:I296)+1)","v":""},{"$f":"IF(Distillate_Oil!C319=\"\",\"\",Distillate_Oil!C319)","v":""},"",null,null,null,null,null,null,null,null,null,null,null,null,null,null,null,{"$f":"+IF(AE297=\"\",\"\",MAX(AA$1:AA296)+1)","v":""},{"$f":"IF(Deviation_Limits!B319=\"\",\"\",Deviation_Limits!B319)","v":""},{"$f":"IF(Deviation_Limits!C319=\"\",\"\",Deviation_Limits!C319)","v":""},"",{"$f":"IF(COUNTIF(AC$2:AC297,AC297)=1,AC297,\"\")","v":""},"","",null,null,null,null,null,null,null,{"$f":"+IF(AT297=\"\",\"\",MAX(AO$1:AO296)+1)","v":""},{"$f":"IF(Deviation_Limits!B319=\"\",\"\",Deviation_Limits!B319)","v":""},{"$f":"IF(Deviation_Limits!C319=\"\",\"\",Deviation_Limits!C319)","v":""},{"$f":"IF(Deviation_Limits!D319=\"\",\"\",Deviation_Limits!D319)","v":""},"",{"$f":"IF(COUNTIF(AQ$2:AQ297,AQ297)=1,AQ297,\"\")","v":""},"","","",null,{"$f":"+IF(BD297=\"\",\"\",MAX(AY$1:AY296)+1)","v":""},{"$f":"IF(Deviation_CEM_CPMS!B319=\"\",\"\",Deviation_CEM_CPMS!B319)","v":""},{"$f":"IF(Deviation_CEM_CPMS!C319=\"\",\"\",Deviation_CEM_CPMS!C319)","v":""},{"$f":"IF(Deviation_CEM_CPMS!D319=\"\",\"\",Deviation_CEM_CPMS!D319)","v":""},"",{"$f":"IF(COUNTIF(BA$2:BA297,BA297)=1,BA297,\"\")","v":""},"","",""]
[{"$f":"IF(B298=\"\",\"\",MAX(A$1:A297)+1)","v":""},{"$f":"+IF(CPMS_Identification!C320=\"\",\"\",CPMS_Identification!C320)","v":""},"",null,{"$f":"IF(F298=\"\",\"\",MAX(E$1:E297)+1)","v":""},{"$f":"IF(Landfill_Gas_ID!C320=\"\",\"\",Landfill_Gas_ID!C320)","v":""},"",null,{"$f":"IF(J298=\"\",\"\",MAX(I$1:I297)+1)","v":""},{"$f":"IF(Distillate_Oil!C320=\"\",\"\",Distillate_Oil!C320)","v":""},"",null,null,null,null,null,null,null,null,null,null,null,null,null,null,null,{"$f":"+IF(AE298=\"\",\"\",MAX(AA$1:AA297)+1)","v":""},{"$f":"IF(Deviation_Limits!B320=\"\",\"\",Deviation_Limits!B320)","v":""},{"$f":"IF(Deviation_Limits!C320=\"\",\"\",Deviation_Limits!C320)","v":""},"",{"$f":"IF(COUNTIF(AC$2:AC298,AC298)=1,AC298,\"\")","v":""},"","",null,null,null,null,null,null,null,{"$f":"+IF(AT298=\"\",\"\",MAX(AO$1:AO297)+1)","v":""},{"$f":"IF(Deviation_Limits!B320=\"\",\"\",Deviation_Limits!B320)","v":""},{"$f":"IF(Deviation_Limits!C320=\"\",\"\",Deviation_Limits!C320)","v":""},{"$f":"IF(Deviation_Limits!D320=\"\",\"\",Deviation_Limits!D320)","v":""},"",{"$f":"IF(COUNTIF(AQ$2:AQ298,AQ298)=1,AQ298,\"\")","v":""},"","","",null,{"$f":"+IF(BD298=\"\",\"\",MAX(AY$1:AY297)+1)","v":""},{"$f":"IF(Deviation_CEM_CPMS!B320=\"\",\"\",Deviation_CEM_CPMS!B320)","v":""},{"$f":"IF(Deviation_CEM_CPMS!C320=\"\",\"\",Deviation_CEM_CPMS!C320)","v":""},{"$f":"IF(Deviation_CEM_CPMS!D320=\"\",\"\",Deviation_CEM_CPMS!D320)","v":""},"",{"$f":"IF(COUNTIF(BA$2:BA298,BA298)=1,BA298,\"\")","v":""},"","",""]
[{"$f":"IF(B299=\"\",\"\",MAX(A$1:A298)+1)","v":""},{"$f":"+IF(CPMS_Identification!C321=\"\",\"\",CPMS_Identification!C321)","v":""},"",null,{"$f":"IF(F299=\"\",\"\",MAX(E$1:E298)+1)","v":""},{"$f":"IF(Landfill_Gas_ID!C321=\"\",\"\",Landfill_Gas_ID!C321)","v":""},"",null,{"$f":"IF(J299=\"\",\"\",MAX(I$1:I298)+1)","v":""},{"$f":"IF(Distillate_Oil!C321=\"\",\"\",Distillate_Oil!C321)","v":""},"",null,null,null,null,null,null,null,null,null,null,null,null,null,null,null,{"$f":"+IF(AE299=\"\",\"\",MAX(AA$1:AA298)+1)","v":""},{"$f":"IF(Deviation_Limits!B321=\"\",\"\",Deviation_Limits!B321)","v":""},{"$f":"IF(Deviation_Limits!C321=\"\",\"\",Deviation_Limits!C321)","v":""},"",{"$f":"IF(COUNTIF(AC$2:AC299,AC299)=1,AC299,\"\")","v":""},"","",null,null,null,null,null,null,null,{"$f":"+IF(AT299=\"\",\"\",MAX(AO$1:AO298)+1)","v":""},{"$f":"IF(Deviation_Limits!B321=\"\",\"\",Deviation_Limits!B321)","v":""},{"$f":"IF(Deviation_Limits!C321=\"\",\"\",Deviation_Limits!C321)","v":""},{"$f":"IF(Deviation_Limits!D321=\"\",\"\",Deviation_Limits!D321)","v":""},"",{"$f":"IF(COUNTIF(AQ$2:AQ299,AQ299)=1,AQ299,\"\")","v":""},"","","",null,{"$f":"+IF(BD299=\"\",\"\",MAX(AY$1:AY298)+1)","v":""},{"$f":"IF(Deviation_CEM_CPMS!B321=\"\",\"\",Deviation_CEM_CPMS!B321)","v":""},{"$f":"IF(Deviation_CEM_CPMS!C321=\"\",\"\",Deviation_CEM_CPMS!C321)","v":""},{"$f":"IF(Deviation_CEM_CPMS!D321=\"\",\"\",Deviation_CEM_CPMS!D321)","v":""},"",{"$f":"IF(COUNTIF(BA$2:BA299,BA299)=1,BA299,\"\")","v":""},"","",""]
[{"$f":"IF(B300=\"\",\"\",MAX(A$1:A299)+1)","v":""},{"$f":"+IF(CPMS_Identification!C322=\"\",\"\",CPMS_Identification!C322)","v":""},"",null,{"$f":"IF(F300=\"\",\"\",MAX(E$1:E299)+1)","v":""},{"$f":"IF(Landfill_Gas_ID!C322=\"\",\"\",Landfill_Gas_ID!C322)","v":""},"",null,{"$f":"IF(J300=\"\",\"\",MAX(I$1:I299)+1)","v":""},{"$f":"IF(Distillate_Oil!C322=\"\",\"\",Distillate_Oil!C322)","v":""},"",null,null,null,null,null,null,null,null,null,null,null,null,null,null,null,{"$f":"+IF(AE300=\"\",\"\",MAX(AA$1:AA299)+1)","v":""},{"$f":"IF(Deviation_Limits!B322=\"\",\"\",Deviation_Limits!B322)","v":""},{"$f":"IF(Deviation_Limits!C322=\"\",\"\",Deviation_Limits!C322)","v":""},"",{"$f":"IF(COUNTIF(AC$2:AC300,AC300)=1,AC300,\"\")","v":""},"","",null,null,null,null,null,null,null,{"$f":"+IF(AT300=\"\",\"\",MAX(AO$1:AO299)+1)","v":""},{"$f":"IF(Deviation_Limits!B322=\"\",\"\",Deviation_Limits!B322)","v":""},{"$f":"IF(Deviation_Limits!C322=\"\",\"\",Deviation_Limits!C322)","v":""},{"$f":"IF(Deviation_Limits!D322=\"\",\"\",Deviation_Limits!D322)","v":""},"",{"$f":"IF(COUNTIF(AQ$2:AQ300,AQ300)=1,AQ300,\"\")","v":""},"","","",null,{"$f":"+IF(BD300=\"\",\"\",MAX(AY$1:AY299)+1)","v":""},{"$f":"IF(Deviation_CEM_CPMS!B322=\"\",\"\",Deviation_CEM_CPMS!B322)","v":""},{"$f":"IF(Deviation_CEM_CPMS!C322=\"\",\"\",Deviation_CEM_CPMS!C322)","v":""},{"$f":"IF(Deviation_CEM_CPMS!D322=\"\",\"\",Deviation_CEM_CPMS!D322)","v":""},"",{"$f":"IF(COUNTIF(BA$2:BA300,BA300)=1,BA300,\"\")","v":""},"","",""]
[{"$f":"IF(B301=\"\",\"\",MAX(A$1:A300)+1)","v":""},{"$f":"+IF(CPMS_Identification!C323=\"\",\"\",CPMS_Identification!C323)","v":""},"",null,{"$f":"IF(F301=\"\",\"\",MAX(E$1:E300)+1)","v":""},{"$f":"IF(Landfill_Gas_ID!C323=\"\",\"\",Landfill_Gas_ID!C323)","v":""},"",null,{"$f":"IF(J301=\"\",\"\",MAX(I$1:I300)+1)","v":""},{"$f":"IF(Distillate_Oil!C323=\"\",\"\",Distillate_Oil!C323)","v":""},"",null,null,null,null,null,null,null,null,null,null,null,null,null,null,null,{"$f":"+IF(AE301=\"\",\"\",MAX(AA$1:AA300)+1)","v":""},{"$f":"IF(Deviation_Limits!B323=\"\",\"\",Deviation_Limits!B323)","v":""},{"$f":"IF(Deviation_Limits!C323=\"\",\"\",Deviation_Limits!C323)","v":""},"",{"$f":"IF(COUNTIF(AC$2:AC301,AC301)=1,AC301,\"\")","v":""},"","",null,null,null,null,null,null,null,{"$f":"+IF(AT301=\"\",\"\",MAX(AO$1:AO300)+1)","v":""},{"$f":"IF(Deviation_Limits!B323=\"\",\"\",Deviation_Limits!B323)","v":""},{"$f":"IF(Deviation_Limits!C323=\"\",\"\",Deviation_Limits!C323)","v":""},{"$f":"IF(Deviation_Limits!D323=\"\",\"\",Deviation_Limits!D323)","v":""},"",{"$f":"IF(COUNTIF(AQ$2:AQ301,AQ301)=1,AQ301,\"\")","v":""},"","","",null,{"$f":"+IF(BD301=\"\",\"\",MAX(AY$1:AY300)+1)","v":""},{"$f":"IF(Deviation_CEM_CPMS!B323=\"\",\"\",Deviation_CEM_CPMS!B323)","v":""},{"$f":"IF(Deviation_CEM_CPMS!C323=\"\",\"\",Deviation_CEM_CPMS!C323)","v":""},{"$f":"IF(Deviation_CEM_CPMS!D323=\"\",\"\",Deviation_CEM_CPMS!D323)","v":""},"",{"$f":"IF(COUNTIF(BA$2:BA301,BA301)=1,BA301,\"\")","v":""},"","",""]
[{"$f":"IF(B302=\"\",\"\",MAX(A$1:A301)+1)","v":""},{"$f":"+IF(CPMS_Identification!C324=\"\",\"\",CPMS_Identification!C324)","v":""},"",null,{"$f":"IF(F302=\"\",\"\",MAX(E$1:E301)+1)","v":""},{"$f":"IF(Landfill_Gas_ID!C324=\"\",\"\",Landfill_Gas_ID!C324)","v":""},"",null,{"$f":"IF(J302=\"\",\"\",MAX(I$1:I301)+1)","v":""},{"$f":"IF(Distillate_Oil!C324=\"\",\"\",Distillate_Oil!C324)","v":""},"",null,null,null,null,null,null,null,null,null,null,null,null,null,null,null,{"$f":"+IF(AE302=\"\",\"\",MAX(AA$1:AA301)+1)","v":""},{"$f":"IF(Deviation_Limits!B324=\"\",\"\",Deviation_Limits!B324)","v":""},{"$f":"IF(Deviation_Limits!C324=\"\",\"\",Deviation_Limits!C324)","v":""},"",{"$f":"IF(COUNTIF(AC$2:AC302,AC302)=1,AC302,\"\")","v":""},"","",null,null,null,null,null,null,null,{"$f":"+IF(AT302=\"\",\"\",MAX(AO$1:AO301)+1)","v":""},{"$f":"IF(Deviation_Limits!B324=\"\",\"\",Deviation_Limits!B324)","v":""},{"$f":"IF(Deviation_Limits!C324=\"\",\"\",Deviation_Limits!C324)","v":""},{"$f":"IF(Deviation_Limits!D324=\"\",\"\",Deviation_Limits!D324)","v":""},"",{"$f":"IF(COUNTIF(AQ$2:AQ302,AQ302)=1,AQ302,\"\")","v":""},"","","",null,{"$f":"+IF(BD302=\"\",\"\",MAX(AY$1:AY301)+1)","v":""},{"$f":"IF(Deviation_CEM_CPMS!B324=\"\",\"\",Deviation_CEM_CPMS!B324)","v":""},{"$f":"IF(Deviation_CEM_CPMS!C324=\"\",\"\",Deviation_CEM_CPMS!C324)","v":""},{"$f":"IF(Deviation_CEM_CPMS!D324=\"\",\"\",Deviation_CEM_CPMS!D324)","v":""},"",{"$f":"IF(COUNTIF(BA$2:BA302,BA302)=1,BA302,\"\")","v":""},"","",""]
[{"$f":"IF(B303=\"\",\"\",MAX(A$1:A302)+1)","v":""},{"$f":"+IF(CPMS_Identification!C325=\"\",\"\",CPMS_Identification!C325)","v":""},"",null,{"$f":"IF(F303=\"\",\"\",MAX(E$1:E302)+1)","v":""},{"$f":"IF(Landfill_Gas_ID!C325=\"\",\"\",Landfill_Gas_ID!C325)","v":""},"",null,{"$f":"IF(J303=\"\",\"\",MAX(I$1:I302)+1)","v":""},{"$f":"IF(Distillate_Oil!C325=\"\",\"\",Distillate_Oil!C325)","v":""},"",null,null,null,null,null,null,null,null,null,null,null,null,null,null,null,{"$f":"+IF(AE303=\"\",\"\",MAX(AA$1:AA302)+1)","v":""},{"$f":"IF(Deviation_Limits!B325=\"\",\"\",Deviation_Limits!B325)","v":""},{"$f":"IF(Deviation_Limits!C325=\"\",\"\",Deviation_Limits!C325)","v":""},"",{"$f":"IF(COUNTIF(AC$2:AC303,AC303)=1,AC303,\"\")","v":""},"","",null,null,null,null,null,null,null,{"$f":"+IF(AT303=\"\",\"\",MAX(AO$1:AO302)+1)","v":""},{"$f":"IF(Deviation_Limits!B325=\"\",\"\",Deviation_Limits!B325)","v":""},{"$f":"IF(Deviation_Limits!C325=\"\",\"\",Deviation_Limits!C325)","v":""},{"$f":"IF(Deviation_Limits!D325=\"\",\"\",Deviation_Limits!D325)","v":""},"",{"$f":"IF(COUNTIF(AQ$2:AQ303,AQ303)=1,AQ303,\"\")","v":""},"","","",null,{"$f":"+IF(BD303=\"\",\"\",MAX(AY$1:AY302)+1)","v":""},{"$f":"IF(Deviation_CEM_CPMS!B325=\"\",\"\",Deviation_CEM_CPMS!B325)","v":""},{"$f":"IF(Deviation_CEM_CPMS!C325=\"\",\"\",Deviation_CEM_CPMS!C325)","v":""},{"$f":"IF(Deviation_CEM_CPMS!D325=\"\",\"\",Deviation_CEM_CPMS!D325)","v":""},"",{"$f":"IF(COUNTIF(BA$2:BA303,BA303)=1,BA303,\"\")","v":""},"","",""]
[{"$f":"IF(B304=\"\",\"\",MAX(A$1:A303)+1)","v":""},{"$f":"+IF(CPMS_Identification!C326=\"\",\"\",CPMS_Identification!C326)","v":""},"",null,{"$f":"IF(F304=\"\",\"\",MAX(E$1:E303)+1)","v":""},{"$f":"IF(Landfill_Gas_ID!C326=\"\",\"\",Landfill_Gas_ID!C326)","v":""},"",null,{"$f":"IF(J304=\"\",\"\",MAX(I$1:I303)+1)","v":""},{"$f":"IF(Distillate_Oil!C326=\"\",\"\",Distillate_Oil!C326)","v":""},"",null,null,null,null,null,null,null,null,null,null,null,null,null,null,null,{"$f":"+IF(AE304=\"\",\"\",MAX(AA$1:AA303)+1)","v":""},{"$f":"IF(Deviation_Limits!B326=\"\",\"\",Deviation_Limits!B326)","v":""},{"$f":"IF(Deviation_Limits!C326=\"\",\"\",Deviation_Limits!C326)","v":""},"",{"$f":"IF(COUNTIF(AC$2:AC304,AC304)=1,AC304,\"\")","v":""},"","",null,null,null,null,null,null,null,{"$f":"+IF(AT304=\"\",\"\",MAX(AO$1:AO303)+1)","v":""},{"$f":"IF(Deviation_Limits!B326=\"\",\"\",Deviation_Limits!B326)","v":""},{"$f":"IF(Deviation_Limits!C326=\"\",\"\",Deviation_Limits!C326)","v":""},{"$f":"IF(Deviation_Limits!D326=\"\",\"\",Deviation_Limits!D326)","v":""},"",{"$f":"IF(COUNTIF(AQ$2:AQ304,AQ304)=1,AQ304,\"\")","v":""},"","","",null,{"$f":"+IF(BD304=\"\",\"\",MAX(AY$1:AY303)+1)","v":""},{"$f":"IF(Deviation_CEM_CPMS!B326=\"\",\"\",Deviation_CEM_CPMS!B326)","v":""},{"$f":"IF(Deviation_CEM_CPMS!C326=\"\",\"\",Deviation_CEM_CPMS!C326)","v":""},{"$f":"IF(Deviation_CEM_CPMS!D326=\"\",\"\",Deviation_CEM_CPMS!D326)","v":""},"",{"$f":"IF(COUNTIF(BA$2:BA304,BA304)=1,BA304,\"\")","v":""},"","",""]
[{"$f":"IF(B305=\"\",\"\",MAX(A$1:A304)+1)","v":""},{"$f":"+IF(CPMS_Identification!C327=\"\",\"\",CPMS_Identification!C327)","v":""},"",null,{"$f":"IF(F305=\"\",\"\",MAX(E$1:E304)+1)","v":""},{"$f":"IF(Landfill_Gas_ID!C327=\"\",\"\",Landfill_Gas_ID!C327)","v":""},"",null,{"$f":"IF(J305=\"\",\"\",MAX(I$1:I304)+1)","v":""},{"$f":"IF(Distillate_Oil!C327=\"\",\"\",Distillate_Oil!C327)","v":""},"",null,null,null,null,null,null,null,null,null,null,null,null,null,null,null,{"$f":"+IF(AE305=\"\",\"\",MAX(AA$1:AA304)+1)","v":""},{"$f":"IF(Deviation_Limits!B327=\"\",\"\",Deviation_Limits!B327)","v":""},{"$f":"IF(Deviation_Limits!C327=\"\",\"\",Deviation_Limits!C327)","v":""},"",{"$f":"IF(COUNTIF(AC$2:AC305,AC305)=1,AC305,\"\")","v":""},"","",null,null,null,null,null,null,null,{"$f":"+IF(AT305=\"\",\"\",MAX(AO$1:AO304)+1)","v":""},{"$f":"IF(Deviation_Limits!B327=\"\",\"\",Deviation_Limits!B327)","v":""},{"$f":"IF(Deviation_Limits!C327=\"\",\"\",Deviation_Limits!C327)","v":""},{"$f":"IF(Deviation_Limits!D327=\"\",\"\",Deviation_Limits!D327)","v":""},"",{"$f":"IF(COUNTIF(AQ$2:AQ305,AQ305)=1,AQ305,\"\")","v":""},"","","",null,{"$f":"+IF(BD305=\"\",\"\",MAX(AY$1:AY304)+1)","v":""},{"$f":"IF(Deviation_CEM_CPMS!B327=\"\",\"\",Deviation_CEM_CPMS!B327)","v":""},{"$f":"IF(Deviation_CEM_CPMS!C327=\"\",\"\",Deviation_CEM_CPMS!C327)","v":""},{"$f":"IF(Deviation_CEM_CPMS!D327=\"\",\"\",Deviation_CEM_CPMS!D327)","v":""},"",{"$f":"IF(COUNTIF(BA$2:BA305,BA305)=1,BA305,\"\")","v":""},"","",""]
[{"$f":"IF(B306=\"\",\"\",MAX(A$1:A305)+1)","v":""},{"$f":"+IF(CPMS_Identification!C328=\"\",\"\",CPMS_Identification!C328)","v":""},"",null,{"$f":"IF(F306=\"\",\"\",MAX(E$1:E305)+1)","v":""},{"$f":"IF(Landfill_Gas_ID!C328=\"\",\"\",Landfill_Gas_ID!C328)","v":""},"",null,{"$f":"IF(J306=\"\",\"\",MAX(I$1:I305)+1)","v":""},{"$f":"IF(Distillate_Oil!C328=\"\",\"\",Distillate_Oil!C328)","v":""},"",null,null,null,null,null,null,null,null,null,null,null,null,null,null,null,{"$f":"+IF(AE306=\"\",\"\",MAX(AA$1:AA305)+1)","v":""},{"$f":"IF(Deviation_Limits!B328=\"\",\"\",Deviation_Limits!B328)","v":""},{"$f":"IF(Deviation_Limits!C328=\"\",\"\",Deviation_Limits!C328)","v":""},"",{"$f":"IF(COUNTIF(AC$2:AC306,AC306)=1,AC306,\"\")","v":""},"","",null,null,null,null,null,null,null,{"$f":"+IF(AT306=\"\",\"\",MAX(AO$1:AO305)+1)","v":""},{"$f":"IF(Deviation_Limits!B328=\"\",\"\",Deviation_Limits!B328)","v":""},{"$f":"IF(Deviation_Limits!C328=\"\",\"\",Deviation_Limits!C328)","v":""},{"$f":"IF(Deviation_Limits!D328=\"\",\"\",Deviation_Limits!D328)","v":""},"",{"$f":"IF(COUNTIF(AQ$2:AQ306,AQ306)=1,AQ306,\"\")","v":""},"","","",null,{"$f":"+IF(BD306=\"\",\"\",MAX(AY$1:AY305)+1)","v":""},{"$f":"IF(Deviation_CEM_CPMS!B328=\"\",\"\",Deviation_CEM_CPMS!B328)","v":""},{"$f":"IF(Deviation_CEM_CPMS!C328=\"\",\"\",Deviation_CEM_CPMS!C328)","v":""},{"$f":"IF(Deviation_CEM_CPMS!D328=\"\",\"\",Deviation_CEM_CPMS!D328)","v":""},"",{"$f":"IF(COUNTIF(BA$2:BA306,BA306)=1,BA306,\"\")","v":""},"","",""]
[{"$f":"IF(B307=\"\",\"\",MAX(A$1:A306)+1)","v":""},{"$f":"+IF(CPMS_Identification!C329=\"\",\"\",CPMS_Identification!C329)","v":""},"",null,{"$f":"IF(F307=\"\",\"\",MAX(E$1:E306)+1)","v":""},{"$f":"IF(Landfill_Gas_ID!C329=\"\",\"\",Landfill_Gas_ID!C329)","v":""},"",null,{"$f":"IF(J307=\"\",\"\",MAX(I$1:I306)+1)","v":""},{"$f":"IF(Distillate_Oil!C329=\"\",\"\",Distillate_Oil!C329)","v":""},"",null,null,null,null,null,null,null,null,null,null,null,null,null,null,null,{"$f":"+IF(AE307=\"\",\"\",MAX(AA$1:AA306)+1)","v":""},{"$f":"IF(Deviation_Limits!B329=\"\",\"\",Deviation_Limits!B329)","v":""},{"$f":"IF(Deviation_Limits!C329=\"\",\"\",Deviation_Limits!C329)","v":""},"",{"$f":"IF(COUNTIF(AC$2:AC307,AC307)=1,AC307,\"\")","v":""},"","",null,null,null,null,null,null,null,{"$f":"+IF(AT307=\"\",\"\",MAX(AO$1:AO306)+1)","v":""},{"$f":"IF(Deviation_Limits!B329=\"\",\"\",Deviation_Limits!B329)","v":""},{"$f":"IF(Deviation_Limits!C329=\"\",\"\",Deviation_Limits!C329)","v":""},{"$f":"IF(Deviation_Limits!D329=\"\",\"\",Deviation_Limits!D329)","v":""},"",{"$f":"IF(COUNTIF(AQ$2:AQ307,AQ307)=1,AQ307,\"\")","v":""},"","","",null,{"$f":"+IF(BD307=\"\",\"\",MAX(AY$1:AY306)+1)","v":""},{"$f":"IF(Deviation_CEM_CPMS!B329=\"\",\"\",Deviation_CEM_CPMS!B329)","v":""},{"$f":"IF(Deviation_CEM_CPMS!C329=\"\",\"\",Deviation_CEM_CPMS!C329)","v":""},{"$f":"IF(Deviation_CEM_CPMS!D329=\"\",\"\",Deviation_CEM_CPMS!D329)","v":""},"",{"$f":"IF(COUNTIF(BA$2:BA307,BA307)=1,BA307,\"\")","v":""},"","",""]
[{"$f":"IF(B308=\"\",\"\",MAX(A$1:A307)+1)","v":""},{"$f":"+IF(CPMS_Identification!C330=\"\",\"\",CPMS_Identification!C330)","v":""},"",null,{"$f":"IF(F308=\"\",\"\",MAX(E$1:E307)+1)","v":""},{"$f":"IF(Landfill_Gas_ID!C330=\"\",\"\",Landfill_Gas_ID!C330)","v":""},"",null,{"$f":"IF(J308=\"\",\"\",MAX(I$1:I307)+1)","v":""},{"$f":"IF(Distillate_Oil!C330=\"\",\"\",Distillate_Oil!C330)","v":""},"",null,null,null,null,null,null,null,null,null,null,null,null,null,null,null,{"$f":"+IF(AE308=\"\",\"\",MAX(AA$1:AA307)+1)","v":""},{"$f":"IF(Deviation_Limits!B330=\"\",\"\",Deviation_Limits!B330)","v":""},{"$f":"IF(Deviation_Limits!C330=\"\",\"\",Deviation_Limits!C330)","v":""},"",{"$f":"IF(COUNTIF(AC$2:AC308,AC308)=1,AC308,\"\")","v":""},"","",null,null,null,null,null,null,null,{"$f":"+IF(AT308=\"\",\"\",MAX(AO$1:AO307)+1)","v":""},{"$f":"IF(Deviation_Limits!B330=\"\",\"\",Deviation_Limits!B330)","v":""},{"$f":"IF(Deviation_Limits!C330=\"\",\"\",Deviation_Limits!C330)","v":""},{"$f":"IF(Deviation_Limits!D330=\"\",\"\",Deviation_Limits!D330)","v":""},"",{"$f":"IF(COUNTIF(AQ$2:AQ308,AQ308)=1,AQ308,\"\")","v":""},"","","",null,{"$f":"+IF(BD308=\"\",\"\",MAX(AY$1:AY307)+1)","v":""},{"$f":"IF(Deviation_CEM_CPMS!B330=\"\",\"\",Deviation_CEM_CPMS!B330)","v":""},{"$f":"IF(Deviation_CEM_CPMS!C330=\"\",\"\",Deviation_CEM_CPMS!C330)","v":""},{"$f":"IF(Deviation_CEM_CPMS!D330=\"\",\"\",Deviation_CEM_CPMS!D330)","v":""},"",{"$f":"IF(COUNTIF(BA$2:BA308,BA308)=1,BA308,\"\")","v":""},"","",""]
[{"$f":"IF(B309=\"\",\"\",MAX(A$1:A308)+1)","v":""},{"$f":"+IF(CPMS_Identification!C331=\"\",\"\",CPMS_Identification!C331)","v":""},"",null,{"$f":"IF(F309=\"\",\"\",MAX(E$1:E308)+1)","v":""},{"$f":"IF(Landfill_Gas_ID!C331=\"\",\"\",Landfill_Gas_ID!C331)","v":""},"",null,{"$f":"IF(J309=\"\",\"\",MAX(I$1:I308)+1)","v":""},{"$f":"IF(Distillate_Oil!C331=\"\",\"\",Distillate_Oil!C331)","v":""},"",null,null,null,null,null,null,null,null,null,null,null,null,null,null,null,{"$f":"+IF(AE309=\"\",\"\",MAX(AA$1:AA308)+1)","v":""},{"$f":"IF(Deviation_Limits!B331=\"\",\"\",Deviation_Limits!B331)","v":""},{"$f":"IF(Deviation_Limits!C331=\"\",\"\",Deviation_Limits!C331)","v":""},"",{"$f":"IF(COUNTIF(AC$2:AC309,AC309)=1,AC309,\"\")","v":""},"","",null,null,null,null,null,null,null,{"$f":"+IF(AT309=\"\",\"\",MAX(AO$1:AO308)+1)","v":""},{"$f":"IF(Deviation_Limits!B331=\"\",\"\",Deviation_Limits!B331)","v":""},{"$f":"IF(Deviation_Limits!C331=\"\",\"\",Deviation_Limits!C331)","v":""},{"$f":"IF(Deviation_Limits!D331=\"\",\"\",Deviation_Limits!D331)","v":""},"",{"$f":"IF(COUNTIF(AQ$2:AQ309,AQ309)=1,AQ309,\"\")","v":""},"","","",null,{"$f":"+IF(BD309=\"\",\"\",MAX(AY$1:AY308)+1)","v":""},{"$f":"IF(Deviation_CEM_CPMS!B331=\"\",\"\",Deviation_CEM_CPMS!B331)","v":""},{"$f":"IF(Deviation_CEM_CPMS!C331=\"\",\"\",Deviation_CEM_CPMS!C331)","v":""},{"$f":"IF(Deviation_CEM_CPMS!D331=\"\",\"\",Deviation_CEM_CPMS!D331)","v":""},"",{"$f":"IF(COUNTIF(BA$2:BA309,BA309)=1,BA309,\"\")","v":""},"","",""]
[{"$f":"IF(B310=\"\",\"\",MAX(A$1:A309)+1)","v":""},{"$f":"+IF(CPMS_Identification!C332=\"\",\"\",CPMS_Identification!C332)","v":""},"",null,{"$f":"IF(F310=\"\",\"\",MAX(E$1:E309)+1)","v":""},{"$f":"IF(Landfill_Gas_ID!C332=\"\",\"\",Landfill_Gas_ID!C332)","v":""},"",null,{"$f":"IF(J310=\"\",\"\",MAX(I$1:I309)+1)","v":""},{"$f":"IF(Distillate_Oil!C332=\"\",\"\",Distillate_Oil!C332)","v":""},"",null,null,null,null,null,null,null,null,null,null,null,null,null,null,null,{"$f":"+IF(AE310=\"\",\"\",MAX(AA$1:AA309)+1)","v":""},{"$f":"IF(Deviation_Limits!B332=\"\",\"\",Deviation_Limits!B332)","v":""},{"$f":"IF(Deviation_Limits!C332=\"\",\"\",Deviation_Limits!C332)","v":""},"",{"$f":"IF(COUNTIF(AC$2:AC310,AC310)=1,AC310,\"\")","v":""},"","",null,null,null,null,null,null,null,{"$f":"+IF(AT310=\"\",\"\",MAX(AO$1:AO309)+1)","v":""},{"$f":"IF(Deviation_Limits!B332=\"\",\"\",Deviation_Limits!B332)","v":""},{"$f":"IF(Deviation_Limits!C332=\"\",\"\",Deviation_Limits!C332)","v":""},{"$f":"IF(Deviation_Limits!D332=\"\",\"\",Deviation_Limits!D332)","v":""},"",{"$f":"IF(COUNTIF(AQ$2:AQ310,AQ310)=1,AQ310,\"\")","v":""},"","","",null,{"$f":"+IF(BD310=\"\",\"\",MAX(AY$1:AY309)+1)","v":""},{"$f":"IF(Deviation_CEM_CPMS!B332=\"\",\"\",Deviation_CEM_CPMS!B332)","v":""},{"$f":"IF(Deviation_CEM_CPMS!C332=\"\",\"\",Deviation_CEM_CPMS!C332)","v":""},{"$f":"IF(Deviation_CEM_CPMS!D332=\"\",\"\",Deviation_CEM_CPMS!D332)","v":""},"",{"$f":"IF(COUNTIF(BA$2:BA310,BA310)=1,BA310,\"\")","v":""},"","",""]
[{"$f":"IF(B311=\"\",\"\",MAX(A$1:A310)+1)","v":""},{"$f":"+IF(CPMS_Identification!C333=\"\",\"\",CPMS_Identification!C333)","v":""},"",null,{"$f":"IF(F311=\"\",\"\",MAX(E$1:E310)+1)","v":""},{"$f":"IF(Landfill_Gas_ID!C333=\"\",\"\",Landfill_Gas_ID!C333)","v":""},"",null,{"$f":"IF(J311=\"\",\"\",MAX(I$1:I310)+1)","v":""},{"$f":"IF(Distillate_Oil!C333=\"\",\"\",Distillate_Oil!C333)","v":""},"",null,null,null,null,null,null,null,null,null,null,null,null,null,null,null,{"$f":"+IF(AE311=\"\",\"\",MAX(AA$1:AA310)+1)","v":""},{"$f":"IF(Deviation_Limits!B333=\"\",\"\",Deviation_Limits!B333)","v":""},{"$f":"IF(Deviation_Limits!C333=\"\",\"\",Deviation_Limits!C333)","v":""},"",{"$f":"IF(COUNTIF(AC$2:AC311,AC311)=1,AC311,\"\")","v":""},"","",null,null,null,null,null,null,null,{"$f":"+IF(AT311=\"\",\"\",MAX(AO$1:AO310)+1)","v":""},{"$f":"IF(Deviation_Limits!B333=\"\",\"\",Deviation_Limits!B333)","v":""},{"$f":"IF(Deviation_Limits!C333=\"\",\"\",Deviation_Limits!C333)","v":""},{"$f":"IF(Deviation_Limits!D333=\"\",\"\",Deviation_Limits!D333)","v":""},"",{"$f":"IF(COUNTIF(AQ$2:AQ311,AQ311)=1,AQ311,\"\")","v":""},"","","",null,{"$f":"+IF(BD311=\"\",\"\",MAX(AY$1:AY310)+1)","v":""},{"$f":"IF(Deviation_CEM_CPMS!B333=\"\",\"\",Deviation_CEM_CPMS!B333)","v":""},{"$f":"IF(Deviation_CEM_CPMS!C333=\"\",\"\",Deviation_CEM_CPMS!C333)","v":""},{"$f":"IF(Deviation_CEM_CPMS!D333=\"\",\"\",Deviation_CEM_CPMS!D333)","v":""},"",{"$f":"IF(COUNTIF(BA$2:BA311,BA311)=1,BA311,\"\")","v":""},"","",""]
[{"$f":"IF(B312=\"\",\"\",MAX(A$1:A311)+1)","v":""},{"$f":"+IF(CPMS_Identification!C334=\"\",\"\",CPMS_Identification!C334)","v":""},"",null,{"$f":"IF(F312=\"\",\"\",MAX(E$1:E311)+1)","v":""},{"$f":"IF(Landfill_Gas_ID!C334=\"\",\"\",Landfill_Gas_ID!C334)","v":""},"",null,{"$f":"IF(J312=\"\",\"\",MAX(I$1:I311)+1)","v":""},{"$f":"IF(Distillate_Oil!C334=\"\",\"\",Distillate_Oil!C334)","v":""},"",null,null,null,null,null,null,null,null,null,null,null,null,null,null,null,{"$f":"+IF(AE312=\"\",\"\",MAX(AA$1:AA311)+1)","v":""},{"$f":"IF(Deviation_Limits!B334=\"\",\"\",Deviation_Limits!B334)","v":""},{"$f":"IF(Deviation_Limits!C334=\"\",\"\",Deviation_Limits!C334)","v":""},"",{"$f":"IF(COUNTIF(AC$2:AC312,AC312)=1,AC312,\"\")","v":""},"","",null,null,null,null,null,null,null,{"$f":"+IF(AT312=\"\",\"\",MAX(AO$1:AO311)+1)","v":""},{"$f":"IF(Deviation_Limits!B334=\"\",\"\",Deviation_Limits!B334)","v":""},{"$f":"IF(Deviation_Limits!C334=\"\",\"\",Deviation_Limits!C334)","v":""},{"$f":"IF(Deviation_Limits!D334=\"\",\"\",Deviation_Limits!D334)","v":""},"",{"$f":"IF(COUNTIF(AQ$2:AQ312,AQ312)=1,AQ312,\"\")","v":""},"","","",null,{"$f":"+IF(BD312=\"\",\"\",MAX(AY$1:AY311)+1)","v":""},{"$f":"IF(Deviation_CEM_CPMS!B334=\"\",\"\",Deviation_CEM_CPMS!B334)","v":""},{"$f":"IF(Deviation_CEM_CPMS!C334=\"\",\"\",Deviation_CEM_CPMS!C334)","v":""},{"$f":"IF(Deviation_CEM_CPMS!D334=\"\",\"\",Deviation_CEM_CPMS!D334)","v":""},"",{"$f":"IF(COUNTIF(BA$2:BA312,BA312)=1,BA312,\"\")","v":""},"","",""]
[{"$f":"IF(B313=\"\",\"\",MAX(A$1:A312)+1)","v":""},{"$f":"+IF(CPMS_Identification!C335=\"\",\"\",CPMS_Identification!C335)","v":""},"",null,{"$f":"IF(F313=\"\",\"\",MAX(E$1:E312)+1)","v":""},{"$f":"IF(Landfill_Gas_ID!C335=\"\",\"\",Landfill_Gas_ID!C335)","v":""},"",null,{"$f":"IF(J313=\"\",\"\",MAX(I$1:I312)+1)","v":""},{"$f":"IF(Distillate_Oil!C335=\"\",\"\",Distillate_Oil!C335)","v":""},"",null,null,null,null,null,null,null,null,null,null,null,null,null,null,null,{"$f":"+IF(AE313=\"\",\"\",MAX(AA$1:AA312)+1)","v":""},{"$f":"IF(Deviation_Limits!B335=\"\",\"\",Deviation_Limits!B335)","v":""},{"$f":"IF(Deviation_Limits!C335=\"\",\"\",Deviation_Limits!C335)","v":""},"",{"$f":"IF(COUNTIF(AC$2:AC313,AC313)=1,AC313,\"\")","v":""},"","",null,null,null,null,null,null,null,{"$f":"+IF(AT313=\"\",\"\",MAX(AO$1:AO312)+1)","v":""},{"$f":"IF(Deviation_Limits!B335=\"\",\"\",Deviation_Limits!B335)","v":""},{"$f":"IF(Deviation_Limits!C335=\"\",\"\",Deviation_Limits!C335)","v":""},{"$f":"IF(Deviation_Limits!D335=\"\",\"\",Deviation_Limits!D335)","v":""},"",{"$f":"IF(COUNTIF(AQ$2:AQ313,AQ313)=1,AQ313,\"\")","v":""},"","","",null,{"$f":"+IF(BD313=\"\",\"\",MAX(AY$1:AY312)+1)","v":""},{"$f":"IF(Deviation_CEM_CPMS!B335=\"\",\"\",Deviation_CEM_CPMS!B335)","v":""},{"$f":"IF(Deviation_CEM_CPMS!C335=\"\",\"\",Deviation_CEM_CPMS!C335)","v":""},{"$f":"IF(Deviation_CEM_CPMS!D335=\"\",\"\",Deviation_CEM_CPMS!D335)","v":""},"",{"$f":"IF(COUNTIF(BA$2:BA313,BA313)=1,BA313,\"\")","v":""},"","",""]
[{"$f":"IF(B314=\"\",\"\",MAX(A$1:A313)+1)","v":""},{"$f":"+IF(CPMS_Identification!C336=\"\",\"\",CPMS_Identification!C336)","v":""},"",null,{"$f":"IF(F314=\"\",\"\",MAX(E$1:E313)+1)","v":""},{"$f":"IF(Landfill_Gas_ID!C336=\"\",\"\",Landfill_Gas_ID!C336)","v":""},"",null,{"$f":"IF(J314=\"\",\"\",MAX(I$1:I313)+1)","v":""},{"$f":"IF(Distillate_Oil!C336=\"\",\"\",Distillate_Oil!C336)","v":""},"",null,null,null,null,null,null,null,null,null,null,null,null,null,null,null,{"$f":"+IF(AE314=\"\",\"\",MAX(AA$1:AA313)+1)","v":""},{"$f":"IF(Deviation_Limits!B336=\"\",\"\",Deviation_Limits!B336)","v":""},{"$f":"IF(Deviation_Limits!C336=\"\",\"\",Deviation_Limits!C336)","v":""},"",{"$f":"IF(COUNTIF(AC$2:AC314,AC314)=1,AC314,\"\")","v":""},"","",null,null,null,null,null,null,null,{"$f":"+IF(AT314=\"\",\"\",MAX(AO$1:AO313)+1)","v":""},{"$f":"IF(Deviation_Limits!B336=\"\",\"\",Deviation_Limits!B336)","v":""},{"$f":"IF(Deviation_Limits!C336=\"\",\"\",Deviation_Limits!C336)","v":""},{"$f":"IF(Deviation_Limits!D336=\"\",\"\",Deviation_Limits!D336)","v":""},"",{"$f":"IF(COUNTIF(AQ$2:AQ314,AQ314)=1,AQ314,\"\")","v":""},"","","",null,{"$f":"+IF(BD314=\"\",\"\",MAX(AY$1:AY313)+1)","v":""},{"$f":"IF(Deviation_CEM_CPMS!B336=\"\",\"\",Deviation_CEM_CPMS!B336)","v":""},{"$f":"IF(Deviation_CEM_CPMS!C336=\"\",\"\",Deviation_CEM_CPMS!C336)","v":""},{"$f":"IF(Deviation_CEM_CPMS!D336=\"\",\"\",Deviation_CEM_CPMS!D336)","v":""},"",{"$f":"IF(COUNTIF(BA$2:BA314,BA314)=1,BA314,\"\")","v":""},"","",""]
[{"$f":"IF(B315=\"\",\"\",MAX(A$1:A314)+1)","v":""},{"$f":"+IF(CPMS_Identification!C337=\"\",\"\",CPMS_Identification!C337)","v":""},"",null,{"$f":"IF(F315=\"\",\"\",MAX(E$1:E314)+1)","v":""},{"$f":"IF(Landfill_Gas_ID!C337=\"\",\"\",Landfill_Gas_ID!C337)","v":""},"",null,{"$f":"IF(J315=\"\",\"\",MAX(I$1:I314)+1)","v":""},{"$f":"IF(Distillate_Oil!C337=\"\",\"\",Distillate_Oil!C337)","v":""},"",null,null,null,null,null,null,null,null,null,null,null,null,null,null,null,{"$f":"+IF(AE315=\"\",\"\",MAX(AA$1:AA314)+1)","v":""},{"$f":"IF(Deviation_Limits!B337=\"\",\"\",Deviation_Limits!B337)","v":""},{"$f":"IF(Deviation_Limits!C337=\"\",\"\",Deviation_Limits!C337)","v":""},"",{"$f":"IF(COUNTIF(AC$2:AC315,AC315)=1,AC315,\"\")","v":""},"","",null,null,null,null,null,null,null,{"$f":"+IF(AT315=\"\",\"\",MAX(AO$1:AO314)+1)","v":""},{"$f":"IF(Deviation_Limits!B337=\"\",\"\",Deviation_Limits!B337)","v":""},{"$f":"IF(Deviation_Limits!C337=\"\",\"\",Deviation_Limits!C337)","v":""},{"$f":"IF(Deviation_Limits!D337=\"\",\"\",Deviation_Limits!D337)","v":""},"",{"$f":"IF(COUNTIF(AQ$2:AQ315,AQ315)=1,AQ315,\"\")","v":""},"","","",null,{"$f":"+IF(BD315=\"\",\"\",MAX(AY$1:AY314)+1)","v":""},{"$f":"IF(Deviation_CEM_CPMS!B337=\"\",\"\",Deviation_CEM_CPMS!B337)","v":""},{"$f":"IF(Deviation_CEM_CPMS!C337=\"\",\"\",Deviation_CEM_CPMS!C337)","v":""},{"$f":"IF(Deviation_CEM_CPMS!D337=\"\",\"\",Deviation_CEM_CPMS!D337)","v":""},"",{"$f":"IF(COUNTIF(BA$2:BA315,BA315)=1,BA315,\"\")","v":""},"","",""]
[{"$f":"IF(B316=\"\",\"\",MAX(A$1:A315)+1)","v":""},{"$f":"+IF(CPMS_Identification!C338=\"\",\"\",CPMS_Identification!C338)","v":""},"",null,{"$f":"IF(F316=\"\",\"\",MAX(E$1:E315)+1)","v":""},{"$f":"IF(Landfill_Gas_ID!C338=\"\",\"\",Landfill_Gas_ID!C338)","v":""},"",null,{"$f":"IF(J316=\"\",\"\",MAX(I$1:I315)+1)","v":""},{"$f":"IF(Distillate_Oil!C338=\"\",\"\",Distillate_Oil!C338)","v":""},"",null,null,null,null,null,null,null,null,null,null,null,null,null,null,null,{"$f":"+IF(AE316=\"\",\"\",MAX(AA$1:AA315)+1)","v":""},{"$f":"IF(Deviation_Limits!B338=\"\",\"\",Deviation_Limits!B338)","v":""},{"$f":"IF(Deviation_Limits!C338=\"\",\"\",Deviation_Limits!C338)","v":""},"",{"$f":"IF(COUNTIF(AC$2:AC316,AC316)=1,AC316,\"\")","v":""},"","",null,null,null,null,null,null,null,{"$f":"+IF(AT316=\"\",\"\",MAX(AO$1:AO315)+1)","v":""},{"$f":"IF(Deviation_Limits!B338=\"\",\"\",Deviation_Limits!B338)","v":""},{"$f":"IF(Deviation_Limits!C338=\"\",\"\",Deviation_Limits!C338)","v":""},{"$f":"IF(Deviation_Limits!D338=\"\",\"\",Deviation_Limits!D338)","v":""},"",{"$f":"IF(COUNTIF(AQ$2:AQ316,AQ316)=1,AQ316,\"\")","v":""},"","","",null,{"$f":"+IF(BD316=\"\",\"\",MAX(AY$1:AY315)+1)","v":""},{"$f":"IF(Deviation_CEM_CPMS!B338=\"\",\"\",Deviation_CEM_CPMS!B338)","v":""},{"$f":"IF(Deviation_CEM_CPMS!C338=\"\",\"\",Deviation_CEM_CPMS!C338)","v":""},{"$f":"IF(Deviation_CEM_CPMS!D338=\"\",\"\",Deviation_CEM_CPMS!D338)","v":""},"",{"$f":"IF(COUNTIF(BA$2:BA316,BA316)=1,BA316,\"\")","v":""},"","",""]
[{"$f":"IF(B317=\"\",\"\",MAX(A$1:A316)+1)","v":""},{"$f":"+IF(CPMS_Identification!C339=\"\",\"\",CPMS_Identification!C339)","v":""},"",null,{"$f":"IF(F317=\"\",\"\",MAX(E$1:E316)+1)","v":""},{"$f":"IF(Landfill_Gas_ID!C339=\"\",\"\",Landfill_Gas_ID!C339)","v":""},"",null,{"$f":"IF(J317=\"\",\"\",MAX(I$1:I316)+1)","v":""},{"$f":"IF(Distillate_Oil!C339=\"\",\"\",Distillate_Oil!C339)","v":""},"",null,null,null,null,null,null,null,null,null,null,null,null,null,null,null,{"$f":"+IF(AE317=\"\",\"\",MAX(AA$1:AA316)+1)","v":""},{"$f":"IF(Deviation_Limits!B339=\"\",\"\",Deviation_Limits!B339)","v":""},{"$f":"IF(Deviation_Limits!C339=\"\",\"\",Deviation_Limits!C339)","v":""},"",{"$f":"IF(COUNTIF(AC$2:AC317,AC317)=1,AC317,\"\")","v":""},"","",null,null,null,null,null,null,null,{"$f":"+IF(AT317=\"\",\"\",MAX(AO$1:AO316)+1)","v":""},{"$f":"IF(Deviation_Limits!B339=\"\",\"\",Deviation_Limits!B339)","v":""},{"$f":"IF(Deviation_Limits!C339=\"\",\"\",Deviation_Limits!C339)","v":""},{"$f":"IF(Deviation_Limits!D339=\"\",\"\",Deviation_Limits!D339)","v":""},"",{"$f":"IF(COUNTIF(AQ$2:AQ317,AQ317)=1,AQ317,\"\")","v":""},"","","",null,{"$f":"+IF(BD317=\"\",\"\",MAX(AY$1:AY316)+1)","v":""},{"$f":"IF(Deviation_CEM_CPMS!B339=\"\",\"\",Deviation_CEM_CPMS!B339)","v":""},{"$f":"IF(Deviation_CEM_CPMS!C339=\"\",\"\",Deviation_CEM_CPMS!C339)","v":""},{"$f":"IF(Deviation_CEM_CPMS!D339=\"\",\"\",Deviation_CEM_CPMS!D339)","v":""},"",{"$f":"IF(COUNTIF(BA$2:BA317,BA317)=1,BA317,\"\")","v":""},"","",""]
[{"$f":"IF(B318=\"\",\"\",MAX(A$1:A317)+1)","v":""},{"$f":"+IF(CPMS_Identification!C340=\"\",\"\",CPMS_Identification!C340)","v":""},"",null,{"$f":"IF(F318=\"\",\"\",MAX(E$1:E317)+1)","v":""},{"$f":"IF(Landfill_Gas_ID!C340=\"\",\"\",Landfill_Gas_ID!C340)","v":""},"",null,{"$f":"IF(J318=\"\",\"\",MAX(I$1:I317)+1)","v":""},{"$f":"IF(Distillate_Oil!C340=\"\",\"\",Distillate_Oil!C340)","v":""},"",null,null,null,null,null,null,null,null,null,null,null,null,null,null,null,{"$f":"+IF(AE318=\"\",\"\",MAX(AA$1:AA317)+1)","v":""},{"$f":"IF(Deviation_Limits!B340=\"\",\"\",Deviation_Limits!B340)","v":""},{"$f":"IF(Deviation_Limits!C340=\"\",\"\",Deviation_Limits!C340)","v":""},"",{"$f":"IF(COUNTIF(AC$2:AC318,AC318)=1,AC318,\"\")","v":""},"","",null,null,null,null,null,null,null,{"$f":"+IF(AT318=\"\",\"\",MAX(AO$1:AO317)+1)","v":""},{"$f":"IF(Deviation_Limits!B340=\"\",\"\",Deviation_Limits!B340)","v":""},{"$f":"IF(Deviation_Limits!C340=\"\",\"\",Deviation_Limits!C340)","v":""},{"$f":"IF(Deviation_Limits!D340=\"\",\"\",Deviation_Limits!D340)","v":""},"",{"$f":"IF(COUNTIF(AQ$2:AQ318,AQ318)=1,AQ318,\"\")","v":""},"","","",null,{"$f":"+IF(BD318=\"\",\"\",MAX(AY$1:AY317)+1)","v":""},{"$f":"IF(Deviation_CEM_CPMS!B340=\"\",\"\",Deviation_CEM_CPMS!B340)","v":""},{"$f":"IF(Deviation_CEM_CPMS!C340=\"\",\"\",Deviation_CEM_CPMS!C340)","v":""},{"$f":"IF(Deviation_CEM_CPMS!D340=\"\",\"\",Deviation_CEM_CPMS!D340)","v":""},"",{"$f":"IF(COUNTIF(BA$2:BA318,BA318)=1,BA318,\"\")","v":""},"","",""]
[{"$f":"IF(B319=\"\",\"\",MAX(A$1:A318)+1)","v":""},{"$f":"+IF(CPMS_Identification!C341=\"\",\"\",CPMS_Identification!C341)","v":""},"",null,{"$f":"IF(F319=\"\",\"\",MAX(E$1:E318)+1)","v":""},{"$f":"IF(Landfill_Gas_ID!C341=\"\",\"\",Landfill_Gas_ID!C341)","v":""},"",null,{"$f":"IF(J319=\"\",\"\",MAX(I$1:I318)+1)","v":""},{"$f":"IF(Distillate_Oil!C341=\"\",\"\",Distillate_Oil!C341)","v":""},"",null,null,null,null,null,null,null,null,null,null,null,null,null,null,null,{"$f":"+IF(AE319=\"\",\"\",MAX(AA$1:AA318)+1)","v":""},{"$f":"IF(Deviation_Limits!B341=\"\",\"\",Deviation_Limits!B341)","v":""},{"$f":"IF(Deviation_Limits!C341=\"\",\"\",Deviation_Limits!C341)","v":""},"",{"$f":"IF(COUNTIF(AC$2:AC319,AC319)=1,AC319,\"\")","v":""},"","",null,null,null,null,null,null,null,{"$f":"+IF(AT319=\"\",\"\",MAX(AO$1:AO318)+1)","v":""},{"$f":"IF(Deviation_Limits!B341=\"\",\"\",Deviation_Limits!B341)","v":""},{"$f":"IF(Deviation_Limits!C341=\"\",\"\",Deviation_Limits!C341)","v":""},{"$f":"IF(Deviation_Limits!D341=\"\",\"\",Deviation_Limits!D341)","v":""},"",{"$f":"IF(COUNTIF(AQ$2:AQ319,AQ319)=1,AQ319,\"\")","v":""},"","","",null,{"$f":"+IF(BD319=\"\",\"\",MAX(AY$1:AY318)+1)","v":""},{"$f":"IF(Deviation_CEM_CPMS!B341=\"\",\"\",Deviation_CEM_CPMS!B341)","v":""},{"$f":"IF(Deviation_CEM_CPMS!C341=\"\",\"\",Deviation_CEM_CPMS!C341)","v":""},{"$f":"IF(Deviation_CEM_CPMS!D341=\"\",\"\",Deviation_CEM_CPMS!D341)","v":""},"",{"$f":"IF(COUNTIF(BA$2:BA319,BA319)=1,BA319,\"\")","v":""},"","",""]
[{"$f":"IF(B320=\"\",\"\",MAX(A$1:A319)+1)","v":""},{"$f":"+IF(CPMS_Identification!C342=\"\",\"\",CPMS_Identification!C342)","v":""},"",null,{"$f":"IF(F320=\"\",\"\",MAX(E$1:E319)+1)","v":""},{"$f":"IF(Landfill_Gas_ID!C342=\"\",\"\",Landfill_Gas_ID!C342)","v":""},"",null,{"$f":"IF(J320=\"\",\"\",MAX(I$1:I319)+1)","v":""},{"$f":"IF(Distillate_Oil!C342=\"\",\"\",Distillate_Oil!C342)","v":""},"",null,null,null,null,null,null,null,null,null,null,null,null,null,null,null,{"$f":"+IF(AE320=\"\",\"\",MAX(AA$1:AA319)+1)","v":""},{"$f":"IF(Deviation_Limits!B342=\"\",\"\",Deviation_Limits!B342)","v":""},{"$f":"IF(Deviation_Limits!C342=\"\",\"\",Deviation_Limits!C342)","v":""},"",{"$f":"IF(COUNTIF(AC$2:AC320,AC320)=1,AC320,\"\")","v":""},"","",null,null,null,null,null,null,null,{"$f":"+IF(AT320=\"\",\"\",MAX(AO$1:AO319)+1)","v":""},{"$f":"IF(Deviation_Limits!B342=\"\",\"\",Deviation_Limits!B342)","v":""},{"$f":"IF(Deviation_Limits!C342=\"\",\"\",Deviation_Limits!C342)","v":""},{"$f":"IF(Deviation_Limits!D342=\"\",\"\",Deviation_Limits!D342)","v":""},"",{"$f":"IF(COUNTIF(AQ$2:AQ320,AQ320)=1,AQ320,\"\")","v":""},"","","",null,{"$f":"+IF(BD320=\"\",\"\",MAX(AY$1:AY319)+1)","v":""},{"$f":"IF(Deviation_CEM_CPMS!B342=\"\",\"\",Deviation_CEM_CPMS!B342)","v":""},{"$f":"IF(Deviation_CEM_CPMS!C342=\"\",\"\",Deviation_CEM_CPMS!C342)","v":""},{"$f":"IF(Deviation_CEM_CPMS!D342=\"\",\"\",Deviation_CEM_CPMS!D342)","v":""},"",{"$f":"IF(COUNTIF(BA$2:BA320,BA320)=1,BA320,\"\")","v":""},"","",""]
[{"$f":"IF(B321=\"\",\"\",MAX(A$1:A320)+1)","v":""},{"$f":"+IF(CPMS_Identification!C343=\"\",\"\",CPMS_Identification!C343)","v":""},"",null,{"$f":"IF(F321=\"\",\"\",MAX(E$1:E320)+1)","v":""},{"$f":"IF(Landfill_Gas_ID!C343=\"\",\"\",Landfill_Gas_ID!C343)","v":""},"",null,{"$f":"IF(J321=\"\",\"\",MAX(I$1:I320)+1)","v":""},{"$f":"IF(Distillate_Oil!C343=\"\",\"\",Distillate_Oil!C343)","v":""},"",null,null,null,null,null,null,null,null,null,null,null,null,null,null,null,{"$f":"+IF(AE321=\"\",\"\",MAX(AA$1:AA320)+1)","v":""},{"$f":"IF(Deviation_Limits!B343=\"\",\"\",Deviation_Limits!B343)","v":""},{"$f":"IF(Deviation_Limits!C343=\"\",\"\",Deviation_Limits!C343)","v":""},"",{"$f":"IF(COUNTIF(AC$2:AC321,AC321)=1,AC321,\"\")","v":""},"","",null,null,null,null,null,null,null,{"$f":"+IF(AT321=\"\",\"\",MAX(AO$1:AO320)+1)","v":""},{"$f":"IF(Deviation_Limits!B343=\"\",\"\",Deviation_Limits!B343)","v":""},{"$f":"IF(Deviation_Limits!C343=\"\",\"\",Deviation_Limits!C343)","v":""},{"$f":"IF(Deviation_Limits!D343=\"\",\"\",Deviation_Limits!D343)","v":""},"",{"$f":"IF(COUNTIF(AQ$2:AQ321,AQ321)=1,AQ321,\"\")","v":""},"","","",null,{"$f":"+IF(BD321=\"\",\"\",MAX(AY$1:AY320)+1)","v":""},{"$f":"IF(Deviation_CEM_CPMS!B343=\"\",\"\",Deviation_CEM_CPMS!B343)","v":""},{"$f":"IF(Deviation_CEM_CPMS!C343=\"\",\"\",Deviation_CEM_CPMS!C343)","v":""},{"$f":"IF(Deviation_CEM_CPMS!D343=\"\",\"\",Deviation_CEM_CPMS!D343)","v":""},"",{"$f":"IF(COUNTIF(BA$2:BA321,BA321)=1,BA321,\"\")","v":""},"","",""]
[{"$f":"IF(B322=\"\",\"\",MAX(A$1:A321)+1)","v":""},{"$f":"+IF(CPMS_Identification!C344=\"\",\"\",CPMS_Identification!C344)","v":""},{"$f":"+IFERROR(INDEX($B$2:$B$500,MATCH(ROW()-ROW($C$1),$A$2:$A$500,0)),\"\")","v":""},null,{"$f":"IF(F322=\"\",\"\",MAX(E$1:E321)+1)","v":""},{"$f":"IF(Landfill_Gas_ID!C344=\"\",\"\",Landfill_Gas_ID!C344)","v":""},{"$f":"+IFERROR(INDEX($F$2:$F$500,MATCH(ROW()-ROW($G$1),$E$2:$E$500,0)),\"\")","v":""},null,{"$f":"IF(J322=\"\",\"\",MAX(I$1:I321)+1)","v":""},{"$f":"IF(Distillate_Oil!C344=\"\",\"\",Distillate_Oil!C344)","v":""},{"$f":"+IFERROR(INDEX($J$2:$J$500,MATCH(ROW()-ROW($K$1),$I$2:$I$500,0)),\"\")","v":""},null,null,null,null,null,null,null,null,null,null,null,null,null,null,null,{"$f":"+IF(AE322=\"\",\"\",MAX(AA$1:AA321)+1)","v":""},{"$f":"IF(Deviation_Limits!B344=\"\",\"\",Deviation_Limits!B344)","v":""},{"$f":"IF(Deviation_Limits!C344=\"\",\"\",Deviation_Limits!C344)","v":""},"",{"$f":"IF(COUNTIF(AC$2:AC322,AC322)=1,AC322,\"\")","v":""},"","",null,null,null,null,null,null,null,{"$f":"+IF(AT322=\"\",\"\",MAX(AO$1:AO321)+1)","v":""},{"$f":"IF(Deviation_Limits!B344=\"\",\"\",Deviation_Limits!B344)","v":""},{"$f":"IF(Deviation_Limits!C344=\"\",\"\",Deviation_Limits!C344)","v":""},{"$f":"IF(Deviation_Limits!D344=\"\",\"\",Deviation_Limits!D344)","v":""},"",{"$f":"IF(COUNTIF(AQ$2:AQ322,AQ322)=1,AQ322,\"\")","v":""},"","","",null,{"$f":"+IF(BD322=\"\",\"\",MAX(AY$1:AY321)+1)","v":""},{"$f":"IF(Deviation_CEM_CPMS!B344=\"\",\"\",Deviation_CEM_CPMS!B344)","v":""},{"$f":"IF(Deviation_CEM_CPMS!C344=\"\",\"\",Deviation_CEM_CPMS!C344)","v":""},{"$f":"IF(Deviation_CEM_CPMS!D344=\"\",\"\",Deviation_CEM_CPMS!D344)","v":""},{"$f":"+AZ322&BA322&BB322","v":""},{"$f":"IF(COUNTIF(BA$2:BA322,BA322)=1,BA322,\"\")","v":""},{"$f":"+IFERROR(INDEX(AZ$2:AZ$500,MATCH(ROW()-ROW(BE$1),$AA$2:$AA$500,0)),\"\")","v":""},{"$f":"+IFERROR(INDEX(BA$2:BA$500,MATCH(ROW()-ROW(BE$1),$AA$2:$AA$500,0)),\"\")","v":""},{"$f":"+IFERROR(INDEX(BB$2:BB$500,MATCH(ROW()-ROW(BE$1),$AA$2:$AA$500,0)),\"\")","v":""}]
[{"$f":"IF(B323=\"\",\"\",MAX(A$1:A322)+1)","v":""},{"$f":"+IF(CPMS_Identification!C345=\"\",\"\",CPMS_Identification!C345)","v":""},"",null,{"$f":"IF(F323=\"\",\"\",MAX(E$1:E322)+1)","v":""},{"$f":"IF(Landfill_Gas_ID!C345=\"\",\"\",Landfill_Gas_ID!C345)","v":""},"",null,{"$f":"IF(J323=\"\",\"\",MAX(I$1:I322)+1)","v":""},{"$f":"IF(Distillate_Oil!C345=\"\",\"\",Distillate_Oil!C345)","v":""},"",null,null,null,null,null,null,null,null,null,null,null,null,null,null,null,{"$f":"+IF(AE323=\"\",\"\",MAX(AA$1:AA322)+1)","v":""},{"$f":"IF(Deviation_Limits!B345=\"\",\"\",Deviation_Limits!B345)","v":""},{"$f":"IF(Deviation_Limits!C345=\"\",\"\",Deviation_Limits!C345)","v":""},{"$f":"+AB323&AC323","v":""},{"$f":"IF(COUNTIF(AC$2:AC323,AC323)=1,AC323,\"\")","v":""},{"$f":"+IFERROR(INDEX(AB$2:AB$500,MATCH(ROW()-ROW($AF$1),$AA$2:$AA$500,0)),\"\")","v":""},{"$f":"+IFERROR(INDEX(AC$2:AC$500,MATCH(ROW()-ROW($AF$1),$AA$2:$AA$500,0)),\"\")","v":""},null,null,null,null,null,null,null,{"$f":"+IF(AT323=\"\",\"\",MAX(AO$1:AO322)+1)","v":""},{"$f":"IF(Deviation_Limits!B345=\"\",\"\",Deviation_Limits!B345)","v":""},{"$f":"IF(Deviation_Limits!C345=\"\",\"\",Deviation_Limits!C345)","v":""},{"$f":"IF(Deviation_Limits!D345=\"\",\"\",Deviation_Limits!D345)","v":""},{"$f":"+AP323&AQ323&C323","v":""},{"$f":"IF(COUNTIF(AQ$2:AQ323,AQ323)=1,AQ323,\"\")","v":""},{"$f":"+IFERROR(INDEX(AP$2:AP$500,MATCH(ROW()-ROW(AU$1),$AA$2:$AA$500,0)),\"\")","v":""},{"$f":"+IFERROR(INDEX(AQ$2:AQ$500,MATCH(ROW()-ROW(AU$1),$AA$2:$AA$500,0)),\"\")","v":""},{"$f":"+IFERROR(INDEX(AR$2:AR$500,MATCH(ROW()-ROW(AU$1),$AA$2:$AA$500,0)),\"\")","v":""},null,{"$f":"+IF(BD323=\"\",\"\",MAX(AY$1:AY322)+1)","v":""},{"$f":"IF(Deviation_CEM_CPMS!B345=\"\",\"\",Deviation_CEM_CPMS!B345)","v":""},{"$f":"IF(Deviation_CEM_CPMS!C345=\"\",\"\",Deviation_CEM_CPMS!C345)","v":""},{"$f":"IF(Deviation_CEM_CPMS!D345=\"\",\"\",Deviation_CEM_CPMS!D345)","v":""},"",{"$f":"IF(COUNTIF(BA$2:BA323,BA323)=1,BA323,\"\")","v":""},"","",""]
[{"$f":"IF(B324=\"\",\"\",MAX(A$1:A323)+1)","v":""},{"$f":"+IF(CPMS_Identification!C346=\"\",\"\",CPMS_Identification!C346)","v":""},"",null,{"$f":"IF(F324=\"\",\"\",MAX(E$1:E323)+1)","v":""},{"$f":"IF(Landfill_Gas_ID!C346=\"\",\"\",Landfill_Gas_ID!C346)","v":""},"",null,{"$f":"IF(J324=\"\",\"\",MAX(I$1:I323)+1)","v":""},{"$f":"IF(Distillate_Oil!C346=\"\",\"\",Distillate_Oil!C346)","v":""},"",null,null,null,null,null,null,null,null,null,null,null,null,null,null,null,{"$f":"+IF(AE324=\"\",\"\",MAX(AA$1:AA323)+1)","v":""},{"$f":"IF(Deviation_Limits!B346=\"\",\"\",Deviation_Limits!B346)","v":""},{"$f":"IF(Deviation_Limits!C346=\"\",\"\",Deviation_Limits!C346)","v":""},"",{"$f":"IF(COUNTIF(AC$2:AC324,AC324)=1,AC324,\"\")","v":""},"","",null,null,null,null,null,null,null,{"$f":"+IF(AT324=\"\",\"\",MAX(AO$1:AO323)+1)","v":""},{"$f":"IF(Deviation_Limits!B346=\"\",\"\",Deviation_Limits!B346)","v":""},{"$f":"IF(Deviation_Limits!C346=\"\",\"\",Deviation_Limits!C346)","v":""},{"$f":"IF(Deviation_Limits!D346=\"\",\"\",Deviation_Limits!D346)","v":""},"",{"$f":"IF(COUNTIF(AQ$2:AQ324,AQ324)=1,AQ324,\"\")","v":""},"","","",null,{"$f":"+IF(BD324=\"\",\"\",MAX(AY$1:AY323)+1)","v":""},{"$f":"IF(Deviation_CEM_CPMS!B346=\"\",\"\",Deviation_CEM_CPMS!B346)","v":""},{"$f":"IF(Deviation_CEM_CPMS!C346=\"\",\"\",Deviation_CEM_CPMS!C346)","v":""},{"$f":"IF(Deviation_CEM_CPMS!D346=\"\",\"\",Deviation_CEM_CPMS!D346)","v":""},"",{"$f":"IF(COUNTIF(BA$2:BA324,BA324)=1,BA324,\"\")","v":""},"","",""]
[{"$f":"IF(B325=\"\",\"\",MAX(A$1:A324)+1)","v":""},{"$f":"+IF(CPMS_Identification!C347=\"\",\"\",CPMS_Identification!C347)","v":""},"",null,{"$f":"IF(F325=\"\",\"\",MAX(E$1:E324)+1)","v":""},{"$f":"IF(Landfill_Gas_ID!C347=\"\",\"\",Landfill_Gas_ID!C347)","v":""},"",null,{"$f":"IF(J325=\"\",\"\",MAX(I$1:I324)+1)","v":""},{"$f":"IF(Distillate_Oil!C347=\"\",\"\",Distillate_Oil!C347)","v":""},"",null,null,null,null,null,null,null,null,null,null,null,null,null,null,null,{"$f":"+IF(AE325=\"\",\"\",MAX(AA$1:AA324)+1)","v":""},{"$f":"IF(Deviation_Limits!B347=\"\",\"\",Deviation_Limits!B347)","v":""},{"$f":"IF(Deviation_Limits!C347=\"\",\"\",Deviation_Limits!C347)","v":""},"",{"$f":"IF(COUNTIF(AC$2:AC325,AC325)=1,AC325,\"\")","v":""},"","",null,null,null,null,null,null,null,{"$f":"+IF(AT325=\"\",\"\",MAX(AO$1:AO324)+1)","v":""},{"$f":"IF(Deviation_Limits!B347=\"\",\"\",Deviation_Limits!B347)","v":""},{"$f":"IF(Deviation_Limits!C347=\"\",\"\",Deviation_Limits!C347)","v":""},{"$f":"IF(Deviation_Limits!D347=\"\",\"\",Deviation_Limits!D347)","v":""},"",{"$f":"IF(COUNTIF(AQ$2:AQ325,AQ325)=1,AQ325,\"\")","v":""},"","","",null,{"$f":"+IF(BD325=\"\",\"\",MAX(AY$1:AY324)+1)","v":""},{"$f":"IF(Deviation_CEM_CPMS!B347=\"\",\"\",Deviation_CEM_CPMS!B347)","v":""},{"$f":"IF(Deviation_CEM_CPMS!C347=\"\",\"\",Deviation_CEM_CPMS!C347)","v":""},{"$f":"IF(Deviation_CEM_CPMS!D347=\"\",\"\",Deviation_CEM_CPMS!D347)","v":""},"",{"$f":"IF(COUNTIF(BA$2:BA325,BA325)=1,BA325,\"\")","v":""},"","",""]
[{"$f":"IF(B326=\"\",\"\",MAX(A$1:A325)+1)","v":""},{"$f":"+IF(CPMS_Identification!C348=\"\",\"\",CPMS_Identification!C348)","v":""},"",null,{"$f":"IF(F326=\"\",\"\",MAX(E$1:E325)+1)","v":""},{"$f":"IF(Landfill_Gas_ID!C348=\"\",\"\",Landfill_Gas_ID!C348)","v":""},"",null,{"$f":"IF(J326=\"\",\"\",MAX(I$1:I325)+1)","v":""},{"$f":"IF(Distillate_Oil!C348=\"\",\"\",Distillate_Oil!C348)","v":""},"",null,null,null,null,null,null,null,null,null,null,null,null,null,null,null,{"$f":"+IF(AE326=\"\",\"\",MAX(AA$1:AA325)+1)","v":""},{"$f":"IF(Deviation_Limits!B348=\"\",\"\",Deviation_Limits!B348)","v":""},{"$f":"IF(Deviation_Limits!C348=\"\",\"\",Deviation_Limits!C348)","v":""},"",{"$f":"IF(COUNTIF(AC$2:AC326,AC326)=1,AC326,\"\")","v":""},"","",null,null,null,null,null,null,null,{"$f":"+IF(AT326=\"\",\"\",MAX(AO$1:AO325)+1)","v":""},{"$f":"IF(Deviation_Limits!B348=\"\",\"\",Deviation_Limits!B348)","v":""},{"$f":"IF(Deviation_Limits!C348=\"\",\"\",Deviation_Limits!C348)","v":""},{"$f":"IF(Deviation_Limits!D348=\"\",\"\",Deviation_Limits!D348)","v":""},"",{"$f":"IF(COUNTIF(AQ$2:AQ326,AQ326)=1,AQ326,\"\")","v":""},"","","",null,{"$f":"+IF(BD326=\"\",\"\",MAX(AY$1:AY325)+1)","v":""},{"$f":"IF(Deviation_CEM_CPMS!B348=\"\",\"\",Deviation_CEM_CPMS!B348)","v":""},{"$f":"IF(Deviation_CEM_CPMS!C348=\"\",\"\",Deviation_CEM_CPMS!C348)","v":""},{"$f":"IF(Deviation_CEM_CPMS!D348=\"\",\"\",Deviation_CEM_CPMS!D348)","v":""},"",{"$f":"IF(COUNTIF(BA$2:BA326,BA326)=1,BA326,\"\")","v":""},"","",""]
[{"$f":"IF(B327=\"\",\"\",MAX(A$1:A326)+1)","v":""},{"$f":"+IF(CPMS_Identification!C349=\"\",\"\",CPMS_Identification!C349)","v":""},"",null,{"$f":"IF(F327=\"\",\"\",MAX(E$1:E326)+1)","v":""},{"$f":"IF(Landfill_Gas_ID!C349=\"\",\"\",Landfill_Gas_ID!C349)","v":""},"",null,{"$f":"IF(J327=\"\",\"\",MAX(I$1:I326)+1)","v":""},{"$f":"IF(Distillate_Oil!C349=\"\",\"\",Distillate_Oil!C349)","v":""},"",null,null,null,null,null,null,null,null,null,null,null,null,null,null,null,{"$f":"+IF(AE327=\"\",\"\",MAX(AA$1:AA326)+1)","v":""},{"$f":"IF(Deviation_Limits!B349=\"\",\"\",Deviation_Limits!B349)","v":""},{"$f":"IF(Deviation_Limits!C349=\"\",\"\",Deviation_Limits!C349)","v":""},"",{"$f":"IF(COUNTIF(AC$2:AC327,AC327)=1,AC327,\"\")","v":""},"","",null,null,null,null,null,null,null,{"$f":"+IF(AT327=\"\",\"\",MAX(AO$1:AO326)+1)","v":""},{"$f":"IF(Deviation_Limits!B349=\"\",\"\",Deviation_Limits!B349)","v":""},{"$f":"IF(Deviation_Limits!C349=\"\",\"\",Deviation_Limits!C349)","v":""},{"$f":"IF(Deviation_Limits!D349=\"\",\"\",Deviation_Limits!D349)","v":""},"",{"$f":"IF(COUNTIF(AQ$2:AQ327,AQ327)=1,AQ327,\"\")","v":""},"","","",null,{"$f":"+IF(BD327=\"\",\"\",MAX(AY$1:AY326)+1)","v":""},{"$f":"IF(Deviation_CEM_CPMS!B349=\"\",\"\",Deviation_CEM_CPMS!B349)","v":""},{"$f":"IF(Deviation_CEM_CPMS!C349=\"\",\"\",Deviation_CEM_CPMS!C349)","v":""},{"$f":"IF(Deviation_CEM_CPMS!D349=\"\",\"\",Deviation_CEM_CPMS!D349)","v":""},"",{"$f":"IF(COUNTIF(BA$2:BA327,BA327)=1,BA327,\"\")","v":""},"","",""]
[{"$f":"IF(B328=\"\",\"\",MAX(A$1:A327)+1)","v":""},{"$f":"+IF(CPMS_Identification!C350=\"\",\"\",CPMS_Identification!C350)","v":""},"",null,{"$f":"IF(F328=\"\",\"\",MAX(E$1:E327)+1)","v":""},{"$f":"IF(Landfill_Gas_ID!C350=\"\",\"\",Landfill_Gas_ID!C350)","v":""},"",null,{"$f":"IF(J328=\"\",\"\",MAX(I$1:I327)+1)","v":""},{"$f":"IF(Distillate_Oil!C350=\"\",\"\",Distillate_Oil!C350)","v":""},"",null,null,null,null,null,null,null,null,null,null,null,null,null,null,null,{"$f":"+IF(AE328=\"\",\"\",MAX(AA$1:AA327)+1)","v":""},{"$f":"IF(Deviation_Limits!B350=\"\",\"\",Deviation_Limits!B350)","v":""},{"$f":"IF(Deviation_Limits!C350=\"\",\"\",Deviation_Limits!C350)","v":""},"",{"$f":"IF(COUNTIF(AC$2:AC328,AC328)=1,AC328,\"\")","v":""},"","",null,null,null,null,null,null,null,{"$f":"+IF(AT328=\"\",\"\",MAX(AO$1:AO327)+1)","v":""},{"$f":"IF(Deviation_Limits!B350=\"\",\"\",Deviation_Limits!B350)","v":""},{"$f":"IF(Deviation_Limits!C350=\"\",\"\",Deviation_Limits!C350)","v":""},{"$f":"IF(Deviation_Limits!D350=\"\",\"\",Deviation_Limits!D350)","v":""},"",{"$f":"IF(COUNTIF(AQ$2:AQ328,AQ328)=1,AQ328,\"\")","v":""},"","","",null,{"$f":"+IF(BD328=\"\",\"\",MAX(AY$1:AY327)+1)","v":""},{"$f":"IF(Deviation_CEM_CPMS!B350=\"\",\"\",Deviation_CEM_CPMS!B350)","v":""},{"$f":"IF(Deviation_CEM_CPMS!C350=\"\",\"\",Deviation_CEM_CPMS!C350)","v":""},{"$f":"IF(Deviation_CEM_CPMS!D350=\"\",\"\",Deviation_CEM_CPMS!D350)","v":""},"",{"$f":"IF(COUNTIF(BA$2:BA328,BA328)=1,BA328,\"\")","v":""},"","",""]
[{"$f":"IF(B329=\"\",\"\",MAX(A$1:A328)+1)","v":""},{"$f":"+IF(CPMS_Identification!C351=\"\",\"\",CPMS_Identification!C351)","v":""},"",null,{"$f":"IF(F329=\"\",\"\",MAX(E$1:E328)+1)","v":""},{"$f":"IF(Landfill_Gas_ID!C351=\"\",\"\",Landfill_Gas_ID!C351)","v":""},"",null,{"$f":"IF(J329=\"\",\"\",MAX(I$1:I328)+1)","v":""},{"$f":"IF(Distillate_Oil!C351=\"\",\"\",Distillate_Oil!C351)","v":""},"",null,null,null,null,null,null,null,null,null,null,null,null,null,null,null,{"$f":"+IF(AE329=\"\",\"\",MAX(AA$1:AA328)+1)","v":""},{"$f":"IF(Deviation_Limits!B351=\"\",\"\",Deviation_Limits!B351)","v":""},{"$f":"IF(Deviation_Limits!C351=\"\",\"\",Deviation_Limits!C351)","v":""},"",{"$f":"IF(COUNTIF(AC$2:AC329,AC329)=1,AC329,\"\")","v":""},"","",null,null,null,null,null,null,null,{"$f":"+IF(AT329=\"\",\"\",MAX(AO$1:AO328)+1)","v":""},{"$f":"IF(Deviation_Limits!B351=\"\",\"\",Deviation_Limits!B351)","v":""},{"$f":"IF(Deviation_Limits!C351=\"\",\"\",Deviation_Limits!C351)","v":""},{"$f":"IF(Deviation_Limits!D351=\"\",\"\",Deviation_Limits!D351)","v":""},"",{"$f":"IF(COUNTIF(AQ$2:AQ329,AQ329)=1,AQ329,\"\")","v":""},"","","",null,{"$f":"+IF(BD329=\"\",\"\",MAX(AY$1:AY328)+1)","v":""},{"$f":"IF(Deviation_CEM_CPMS!B351=\"\",\"\",Deviation_CEM_CPMS!B351)","v":""},{"$f":"IF(Deviation_CEM_CPMS!C351=\"\",\"\",Deviation_CEM_CPMS!C351)","v":""},{"$f":"IF(Deviation_CEM_CPMS!D351=\"\",\"\",Deviation_CEM_CPMS!D351)","v":""},"",{"$f":"IF(COUNTIF(BA$2:BA329,BA329)=1,BA329,\"\")","v":""},"","",""]
[{"$f":"IF(B330=\"\",\"\",MAX(A$1:A329)+1)","v":""},{"$f":"+IF(CPMS_Identification!C352=\"\",\"\",CPMS_Identification!C352)","v":""},"",null,{"$f":"IF(F330=\"\",\"\",MAX(E$1:E329)+1)","v":""},{"$f":"IF(Landfill_Gas_ID!C352=\"\",\"\",Landfill_Gas_ID!C352)","v":""},"",null,{"$f":"IF(J330=\"\",\"\",MAX(I$1:I329)+1)","v":""},{"$f":"IF(Distillate_Oil!C352=\"\",\"\",Distillate_Oil!C352)","v":""},"",null,null,null,null,null,null,null,null,null,null,null,null,null,null,null,{"$f":"+IF(AE330=\"\",\"\",MAX(AA$1:AA329)+1)","v":""},{"$f":"IF(Deviation_Limits!B352=\"\",\"\",Deviation_Limits!B352)","v":""},{"$f":"IF(Deviation_Limits!C352=\"\",\"\",Deviation_Limits!C352)","v":""},"",{"$f":"IF(COUNTIF(AC$2:AC330,AC330)=1,AC330,\"\")","v":""},"","",null,null,null,null,null,null,null,{"$f":"+IF(AT330=\"\",\"\",MAX(AO$1:AO329)+1)","v":""},{"$f":"IF(Deviation_Limits!B352=\"\",\"\",Deviation_Limits!B352)","v":""},{"$f":"IF(Deviation_Limits!C352=\"\",\"\",Deviation_Limits!C352)","v":""},{"$f":"IF(Deviation_Limits!D352=\"\",\"\",Deviation_Limits!D352)","v":""},"",{"$f":"IF(COUNTIF(AQ$2:AQ330,AQ330)=1,AQ330,\"\")","v":""},"","","",null,{"$f":"+IF(BD330=\"\",\"\",MAX(AY$1:AY329)+1)","v":""},{"$f":"IF(Deviation_CEM_CPMS!B352=\"\",\"\",Deviation_CEM_CPMS!B352)","v":""},{"$f":"IF(Deviation_CEM_CPMS!C352=\"\",\"\",Deviation_CEM_CPMS!C352)","v":""},{"$f":"IF(Deviation_CEM_CPMS!D352=\"\",\"\",Deviation_CEM_CPMS!D352)","v":""},"",{"$f":"IF(COUNTIF(BA$2:BA330,BA330)=1,BA330,\"\")","v":""},"","",""]
[{"$f":"IF(B331=\"\",\"\",MAX(A$1:A330)+1)","v":""},{"$f":"+IF(CPMS_Identification!C353=\"\",\"\",CPMS_Identification!C353)","v":""},"",null,{"$f":"IF(F331=\"\",\"\",MAX(E$1:E330)+1)","v":""},{"$f":"IF(Landfill_Gas_ID!C353=\"\",\"\",Landfill_Gas_ID!C353)","v":""},"",null,{"$f":"IF(J331=\"\",\"\",MAX(I$1:I330)+1)","v":""},{"$f":"IF(Distillate_Oil!C353=\"\",\"\",Distillate_Oil!C353)","v":""},"",null,null,null,null,null,null,null,null,null,null,null,null,null,null,null,{"$f":"+IF(AE331=\"\",\"\",MAX(AA$1:AA330)+1)","v":""},{"$f":"IF(Deviation_Limits!B353=\"\",\"\",Deviation_Limits!B353)","v":""},{"$f":"IF(Deviation_Limits!C353=\"\",\"\",Deviation_Limits!C353)","v":""},"",{"$f":"IF(COUNTIF(AC$2:AC331,AC331)=1,AC331,\"\")","v":""},"","",null,null,null,null,null,null,null,{"$f":"+IF(AT331=\"\",\"\",MAX(AO$1:AO330)+1)","v":""},{"$f":"IF(Deviation_Limits!B353=\"\",\"\",Deviation_Limits!B353)","v":""},{"$f":"IF(Deviation_Limits!C353=\"\",\"\",Deviation_Limits!C353)","v":""},{"$f":"IF(Deviation_Limits!D353=\"\",\"\",Deviation_Limits!D353)","v":""},"",{"$f":"IF(COUNTIF(AQ$2:AQ331,AQ331)=1,AQ331,\"\")","v":""},"","","",null,{"$f":"+IF(BD331=\"\",\"\",MAX(AY$1:AY330)+1)","v":""},{"$f":"IF(Deviation_CEM_CPMS!B353=\"\",\"\",Deviation_CEM_CPMS!B353)","v":""},{"$f":"IF(Deviation_CEM_CPMS!C353=\"\",\"\",Deviation_CEM_CPMS!C353)","v":""},{"$f":"IF(Deviation_CEM_CPMS!D353=\"\",\"\",Deviation_CEM_CPMS!D353)","v":""},"",{"$f":"IF(COUNTIF(BA$2:BA331,BA331)=1,BA331,\"\")","v":""},"","",""]
[{"$f":"IF(B332=\"\",\"\",MAX(A$1:A331)+1)","v":""},{"$f":"+IF(CPMS_Identification!C354=\"\",\"\",CPMS_Identification!C354)","v":""},"",null,{"$f":"IF(F332=\"\",\"\",MAX(E$1:E331)+1)","v":""},{"$f":"IF(Landfill_Gas_ID!C354=\"\",\"\",Landfill_Gas_ID!C354)","v":""},"",null,{"$f":"IF(J332=\"\",\"\",MAX(I$1:I331)+1)","v":""},{"$f":"IF(Distillate_Oil!C354=\"\",\"\",Distillate_Oil!C354)","v":""},"",null,null,null,null,null,null,null,null,null,null,null,null,null,null,null,{"$f":"+IF(AE332=\"\",\"\",MAX(AA$1:AA331)+1)","v":""},{"$f":"IF(Deviation_Limits!B354=\"\",\"\",Deviation_Limits!B354)","v":""},{"$f":"IF(Deviation_Limits!C354=\"\",\"\",Deviation_Limits!C354)","v":""},"",{"$f":"IF(COUNTIF(AC$2:AC332,AC332)=1,AC332,\"\")","v":""},"","",null,null,null,null,null,null,null,{"$f":"+IF(AT332=\"\",\"\",MAX(AO$1:AO331)+1)","v":""},{"$f":"IF(Deviation_Limits!B354=\"\",\"\",Deviation_Limits!B354)","v":""},{"$f":"IF(Deviation_Limits!C354=\"\",\"\",Deviation_Limits!C354)","v":""},{"$f":"IF(Deviation_Limits!D354=\"\",\"\",Deviation_Limits!D354)","v":""},"",{"$f":"IF(COUNTIF(AQ$2:AQ332,AQ332)=1,AQ332,\"\")","v":""},"","","",null,{"$f":"+IF(BD332=\"\",\"\",MAX(AY$1:AY331)+1)","v":""},{"$f":"IF(Deviation_CEM_CPMS!B354=\"\",\"\",Deviation_CEM_CPMS!B354)","v":""},{"$f":"IF(Deviation_CEM_CPMS!C354=\"\",\"\",Deviation_CEM_CPMS!C354)","v":""},{"$f":"IF(Deviation_CEM_CPMS!D354=\"\",\"\",Deviation_CEM_CPMS!D354)","v":""},"",{"$f":"IF(COUNTIF(BA$2:BA332,BA332)=1,BA332,\"\")","v":""},"","",""]
[{"$f":"IF(B333=\"\",\"\",MAX(A$1:A332)+1)","v":""},{"$f":"+IF(CPMS_Identification!C355=\"\",\"\",CPMS_Identification!C355)","v":""},"",null,{"$f":"IF(F333=\"\",\"\",MAX(E$1:E332)+1)","v":""},{"$f":"IF(Landfill_Gas_ID!C355=\"\",\"\",Landfill_Gas_ID!C355)","v":""},"",null,{"$f":"IF(J333=\"\",\"\",MAX(I$1:I332)+1)","v":""},{"$f":"IF(Distillate_Oil!C355=\"\",\"\",Distillate_Oil!C355)","v":""},"",null,null,null,null,null,null,null,null,null,null,null,null,null,null,null,{"$f":"+IF(AE333=\"\",\"\",MAX(AA$1:AA332)+1)","v":""},{"$f":"IF(Deviation_Limits!B355=\"\",\"\",Deviation_Limits!B355)","v":""},{"$f":"IF(Deviation_Limits!C355=\"\",\"\",Deviation_Limits!C355)","v":""},"",{"$f":"IF(COUNTIF(AC$2:AC333,AC333)=1,AC333,\"\")","v":""},"","",null,null,null,null,null,null,null,{"$f":"+IF(AT333=\"\",\"\",MAX(AO$1:AO332)+1)","v":""},{"$f":"IF(Deviation_Limits!B355=\"\",\"\",Deviation_Limits!B355)","v":""},{"$f":"IF(Deviation_Limits!C355=\"\",\"\",Deviation_Limits!C355)","v":""},{"$f":"IF(Deviation_Limits!D355=\"\",\"\",Deviation_Limits!D355)","v":""},"",{"$f":"IF(COUNTIF(AQ$2:AQ333,AQ333)=1,AQ333,\"\")","v":""},"","","",null,{"$f":"+IF(BD333=\"\",\"\",MAX(AY$1:AY332)+1)","v":""},{"$f":"IF(Deviation_CEM_CPMS!B355=\"\",\"\",Deviation_CEM_CPMS!B355)","v":""},{"$f":"IF(Deviation_CEM_CPMS!C355=\"\",\"\",Deviation_CEM_CPMS!C355)","v":""},{"$f":"IF(Deviation_CEM_CPMS!D355=\"\",\"\",Deviation_CEM_CPMS!D355)","v":""},"",{"$f":"IF(COUNTIF(BA$2:BA333,BA333)=1,BA333,\"\")","v":""},"","",""]
[{"$f":"IF(B334=\"\",\"\",MAX(A$1:A333)+1)","v":""},{"$f":"+IF(CPMS_Identification!C356=\"\",\"\",CPMS_Identification!C356)","v":""},"",null,{"$f":"IF(F334=\"\",\"\",MAX(E$1:E333)+1)","v":""},{"$f":"IF(Landfill_Gas_ID!C356=\"\",\"\",Landfill_Gas_ID!C356)","v":""},"",null,{"$f":"IF(J334=\"\",\"\",MAX(I$1:I333)+1)","v":""},{"$f":"IF(Distillate_Oil!C356=\"\",\"\",Distillate_Oil!C356)","v":""},"",null,null,null,null,null,null,null,null,null,null,null,null,null,null,null,{"$f":"+IF(AE334=\"\",\"\",MAX(AA$1:AA333)+1)","v":""},{"$f":"IF(Deviation_Limits!B356=\"\",\"\",Deviation_Limits!B356)","v":""},{"$f":"IF(Deviation_Limits!C356=\"\",\"\",Deviation_Limits!C356)","v":""},"",{"$f":"IF(COUNTIF(AC$2:AC334,AC334)=1,AC334,\"\")","v":""},"","",null,null,null,null,null,null,null,{"$f":"+IF(AT334=\"\",\"\",MAX(AO$1:AO333)+1)","v":""},{"$f":"IF(Deviation_Limits!B356=\"\",\"\",Deviation_Limits!B356)","v":""},{"$f":"IF(Deviation_Limits!C356=\"\",\"\",Deviation_Limits!C356)","v":""},{"$f":"IF(Deviation_Limits!D356=\"\",\"\",Deviation_Limits!D356)","v":""},"",{"$f":"IF(COUNTIF(AQ$2:AQ334,AQ334)=1,AQ334,\"\")","v":""},"","","",null,{"$f":"+IF(BD334=\"\",\"\",MAX(AY$1:AY333)+1)","v":""},{"$f":"IF(Deviation_CEM_CPMS!B356=\"\",\"\",Deviation_CEM_CPMS!B356)","v":""},{"$f":"IF(Deviation_CEM_CPMS!C356=\"\",\"\",Deviation_CEM_CPMS!C356)","v":""},{"$f":"IF(Deviation_CEM_CPMS!D356=\"\",\"\",Deviation_CEM_CPMS!D356)","v":""},"",{"$f":"IF(COUNTIF(BA$2:BA334,BA334)=1,BA334,\"\")","v":""},"","",""]
[{"$f":"IF(B335=\"\",\"\",MAX(A$1:A334)+1)","v":""},{"$f":"+IF(CPMS_Identification!C357=\"\",\"\",CPMS_Identification!C357)","v":""},"",null,{"$f":"IF(F335=\"\",\"\",MAX(E$1:E334)+1)","v":""},{"$f":"IF(Landfill_Gas_ID!C357=\"\",\"\",Landfill_Gas_ID!C357)","v":""},"",null,{"$f":"IF(J335=\"\",\"\",MAX(I$1:I334)+1)","v":""},{"$f":"IF(Distillate_Oil!C357=\"\",\"\",Distillate_Oil!C357)","v":""},"",null,null,null,null,null,null,null,null,null,null,null,null,null,null,null,{"$f":"+IF(AE335=\"\",\"\",MAX(AA$1:AA334)+1)","v":""},{"$f":"IF(Deviation_Limits!B357=\"\",\"\",Deviation_Limits!B357)","v":""},{"$f":"IF(Deviation_Limits!C357=\"\",\"\",Deviation_Limits!C357)","v":""},"",{"$f":"IF(COUNTIF(AC$2:AC335,AC335)=1,AC335,\"\")","v":""},"","",null,null,null,null,null,null,null,{"$f":"+IF(AT335=\"\",\"\",MAX(AO$1:AO334)+1)","v":""},{"$f":"IF(Deviation_Limits!B357=\"\",\"\",Deviation_Limits!B357)","v":""},{"$f":"IF(Deviation_Limits!C357=\"\",\"\",Deviation_Limits!C357)","v":""},{"$f":"IF(Deviation_Limits!D357=\"\",\"\",Deviation_Limits!D357)","v":""},"",{"$f":"IF(COUNTIF(AQ$2:AQ335,AQ335)=1,AQ335,\"\")","v":""},"","","",null,{"$f":"+IF(BD335=\"\",\"\",MAX(AY$1:AY334)+1)","v":""},{"$f":"IF(Deviation_CEM_CPMS!B357=\"\",\"\",Deviation_CEM_CPMS!B357)","v":""},{"$f":"IF(Deviation_CEM_CPMS!C357=\"\",\"\",Deviation_CEM_CPMS!C357)","v":""},{"$f":"IF(Deviation_CEM_CPMS!D357=\"\",\"\",Deviation_CEM_CPMS!D357)","v":""},"",{"$f":"IF(COUNTIF(BA$2:BA335,BA335)=1,BA335,\"\")","v":""},"","",""]
[{"$f":"IF(B336=\"\",\"\",MAX(A$1:A335)+1)","v":""},{"$f":"+IF(CPMS_Identification!C358=\"\",\"\",CPMS_Identification!C358)","v":""},"",null,{"$f":"IF(F336=\"\",\"\",MAX(E$1:E335)+1)","v":""},{"$f":"IF(Landfill_Gas_ID!C358=\"\",\"\",Landfill_Gas_ID!C358)","v":""},"",null,{"$f":"IF(J336=\"\",\"\",MAX(I$1:I335)+1)","v":""},{"$f":"IF(Distillate_Oil!C358=\"\",\"\",Distillate_Oil!C358)","v":""},"",null,null,null,null,null,null,null,null,null,null,null,null,null,null,null,{"$f":"+IF(AE336=\"\",\"\",MAX(AA$1:AA335)+1)","v":""},{"$f":"IF(Deviation_Limits!B358=\"\",\"\",Deviation_Limits!B358)","v":""},{"$f":"IF(Deviation_Limits!C358=\"\",\"\",Deviation_Limits!C358)","v":""},"",{"$f":"IF(COUNTIF(AC$2:AC336,AC336)=1,AC336,\"\")","v":""},"","",null,null,null,null,null,null,null,{"$f":"+IF(AT336=\"\",\"\",MAX(AO$1:AO335)+1)","v":""},{"$f":"IF(Deviation_Limits!B358=\"\",\"\",Deviation_Limits!B358)","v":""},{"$f":"IF(Deviation_Limits!C358=\"\",\"\",Deviation_Limits!C358)","v":""},{"$f":"IF(Deviation_Limits!D358=\"\",\"\",Deviation_Limits!D358)","v":""},"",{"$f":"IF(COUNTIF(AQ$2:AQ336,AQ336)=1,AQ336,\"\")","v":""},"","","",null,{"$f":"+IF(BD336=\"\",\"\",MAX(AY$1:AY335)+1)","v":""},{"$f":"IF(Deviation_CEM_CPMS!B358=\"\",\"\",Deviation_CEM_CPMS!B358)","v":""},{"$f":"IF(Deviation_CEM_CPMS!C358=\"\",\"\",Deviation_CEM_CPMS!C358)","v":""},{"$f":"IF(Deviation_CEM_CPMS!D358=\"\",\"\",Deviation_CEM_CPMS!D358)","v":""},"",{"$f":"IF(COUNTIF(BA$2:BA336,BA336)=1,BA336,\"\")","v":""},"","",""]
[{"$f":"IF(B337=\"\",\"\",MAX(A$1:A336)+1)","v":""},{"$f":"+IF(CPMS_Identification!C359=\"\",\"\",CPMS_Identification!C359)","v":""},"",null,{"$f":"IF(F337=\"\",\"\",MAX(E$1:E336)+1)","v":""},{"$f":"IF(Landfill_Gas_ID!C359=\"\",\"\",Landfill_Gas_ID!C359)","v":""},"",null,{"$f":"IF(J337=\"\",\"\",MAX(I$1:I336)+1)","v":""},{"$f":"IF(Distillate_Oil!C359=\"\",\"\",Distillate_Oil!C359)","v":""},"",null,null,null,null,null,null,null,null,null,null,null,null,null,null,null,{"$f":"+IF(AE337=\"\",\"\",MAX(AA$1:AA336)+1)","v":""},{"$f":"IF(Deviation_Limits!B359=\"\",\"\",Deviation_Limits!B359)","v":""},{"$f":"IF(Deviation_Limits!C359=\"\",\"\",Deviation_Limits!C359)","v":""},"",{"$f":"IF(COUNTIF(AC$2:AC337,AC337)=1,AC337,\"\")","v":""},"","",null,null,null,null,null,null,null,{"$f":"+IF(AT337=\"\",\"\",MAX(AO$1:AO336)+1)","v":""},{"$f":"IF(Deviation_Limits!B359=\"\",\"\",Deviation_Limits!B359)","v":""},{"$f":"IF(Deviation_Limits!C359=\"\",\"\",Deviation_Limits!C359)","v":""},{"$f":"IF(Deviation_Limits!D359=\"\",\"\",Deviation_Limits!D359)","v":""},"",{"$f":"IF(COUNTIF(AQ$2:AQ337,AQ337)=1,AQ337,\"\")","v":""},"","","",null,{"$f":"+IF(BD337=\"\",\"\",MAX(AY$1:AY336)+1)","v":""},{"$f":"IF(Deviation_CEM_CPMS!B359=\"\",\"\",Deviation_CEM_CPMS!B359)","v":""},{"$f":"IF(Deviation_CEM_CPMS!C359=\"\",\"\",Deviation_CEM_CPMS!C359)","v":""},{"$f":"IF(Deviation_CEM_CPMS!D359=\"\",\"\",Deviation_CEM_CPMS!D359)","v":""},"",{"$f":"IF(COUNTIF(BA$2:BA337,BA337)=1,BA337,\"\")","v":""},"","",""]
[{"$f":"IF(B338=\"\",\"\",MAX(A$1:A337)+1)","v":""},{"$f":"+IF(CPMS_Identification!C360=\"\",\"\",CPMS_Identification!C360)","v":""},"",null,{"$f":"IF(F338=\"\",\"\",MAX(E$1:E337)+1)","v":""},{"$f":"IF(Landfill_Gas_ID!C360=\"\",\"\",Landfill_Gas_ID!C360)","v":""},"",null,{"$f":"IF(J338=\"\",\"\",MAX(I$1:I337)+1)","v":""},{"$f":"IF(Distillate_Oil!C360=\"\",\"\",Distillate_Oil!C360)","v":""},"",null,null,null,null,null,null,null,null,null,null,null,null,null,null,null,{"$f":"+IF(AE338=\"\",\"\",MAX(AA$1:AA337)+1)","v":""},{"$f":"IF(Deviation_Limits!B360=\"\",\"\",Deviation_Limits!B360)","v":""},{"$f":"IF(Deviation_Limits!C360=\"\",\"\",Deviation_Limits!C360)","v":""},"",{"$f":"IF(COUNTIF(AC$2:AC338,AC338)=1,AC338,\"\")","v":""},"","",null,null,null,null,null,null,null,{"$f":"+IF(AT338=\"\",\"\",MAX(AO$1:AO337)+1)","v":""},{"$f":"IF(Deviation_Limits!B360=\"\",\"\",Deviation_Limits!B360)","v":""},{"$f":"IF(Deviation_Limits!C360=\"\",\"\",Deviation_Limits!C360)","v":""},{"$f":"IF(Deviation_Limits!D360=\"\",\"\",Deviation_Limits!D360)","v":""},"",{"$f":"IF(COUNTIF(AQ$2:AQ338,AQ338)=1,AQ338,\"\")","v":""},"","","",null,{"$f":"+IF(BD338=\"\",\"\",MAX(AY$1:AY337)+1)","v":""},{"$f":"IF(Deviation_CEM_CPMS!B360=\"\",\"\",Deviation_CEM_CPMS!B360)","v":""},{"$f":"IF(Deviation_CEM_CPMS!C360=\"\",\"\",Deviation_CEM_CPMS!C360)","v":""},{"$f":"IF(Deviation_CEM_CPMS!D360=\"\",\"\",Deviation_CEM_CPMS!D360)","v":""},"",{"$f":"IF(COUNTIF(BA$2:BA338,BA338)=1,BA338,\"\")","v":""},"","",""]
[{"$f":"IF(B339=\"\",\"\",MAX(A$1:A338)+1)","v":""},{"$f":"+IF(CPMS_Identification!C361=\"\",\"\",CPMS_Identification!C361)","v":""},"",null,{"$f":"IF(F339=\"\",\"\",MAX(E$1:E338)+1)","v":""},{"$f":"IF(Landfill_Gas_ID!C361=\"\",\"\",Landfill_Gas_ID!C361)","v":""},"",null,{"$f":"IF(J339=\"\",\"\",MAX(I$1:I338)+1)","v":""},{"$f":"IF(Distillate_Oil!C361=\"\",\"\",Distillate_Oil!C361)","v":""},"",null,null,null,null,null,null,null,null,null,null,null,null,null,null,null,{"$f":"+IF(AE339=\"\",\"\",MAX(AA$1:AA338)+1)","v":""},{"$f":"IF(Deviation_Limits!B361=\"\",\"\",Deviation_Limits!B361)","v":""},{"$f":"IF(Deviation_Limits!C361=\"\",\"\",Deviation_Limits!C361)","v":""},"",{"$f":"IF(COUNTIF(AC$2:AC339,AC339)=1,AC339,\"\")","v":""},"","",null,null,null,null,null,null,null,{"$f":"+IF(AT339=\"\",\"\",MAX(AO$1:AO338)+1)","v":""},{"$f":"IF(Deviation_Limits!B361=\"\",\"\",Deviation_Limits!B361)","v":""},{"$f":"IF(Deviation_Limits!C361=\"\",\"\",Deviation_Limits!C361)","v":""},{"$f":"IF(Deviation_Limits!D361=\"\",\"\",Deviation_Limits!D361)","v":""},"",{"$f":"IF(COUNTIF(AQ$2:AQ339,AQ339)=1,AQ339,\"\")","v":""},"","","",null,{"$f":"+IF(BD339=\"\",\"\",MAX(AY$1:AY338)+1)","v":""},{"$f":"IF(Deviation_CEM_CPMS!B361=\"\",\"\",Deviation_CEM_CPMS!B361)","v":""},{"$f":"IF(Deviation_CEM_CPMS!C361=\"\",\"\",Deviation_CEM_CPMS!C361)","v":""},{"$f":"IF(Deviation_CEM_CPMS!D361=\"\",\"\",Deviation_CEM_CPMS!D361)","v":""},"",{"$f":"IF(COUNTIF(BA$2:BA339,BA339)=1,BA339,\"\")","v":""},"","",""]
[{"$f":"IF(B340=\"\",\"\",MAX(A$1:A339)+1)","v":""},{"$f":"+IF(CPMS_Identification!C362=\"\",\"\",CPMS_Identification!C362)","v":""},"",null,{"$f":"IF(F340=\"\",\"\",MAX(E$1:E339)+1)","v":""},{"$f":"IF(Landfill_Gas_ID!C362=\"\",\"\",Landfill_Gas_ID!C362)","v":""},"",null,{"$f":"IF(J340=\"\",\"\",MAX(I$1:I339)+1)","v":""},{"$f":"IF(Distillate_Oil!C362=\"\",\"\",Distillate_Oil!C362)","v":""},"",null,null,null,null,null,null,null,null,null,null,null,null,null,null,null,{"$f":"+IF(AE340=\"\",\"\",MAX(AA$1:AA339)+1)","v":""},{"$f":"IF(Deviation_Limits!B362=\"\",\"\",Deviation_Limits!B362)","v":""},{"$f":"IF(Deviation_Limits!C362=\"\",\"\",Deviation_Limits!C362)","v":""},"",{"$f":"IF(COUNTIF(AC$2:AC340,AC340)=1,AC340,\"\")","v":""},"","",null,null,null,null,null,null,null,{"$f":"+IF(AT340=\"\",\"\",MAX(AO$1:AO339)+1)","v":""},{"$f":"IF(Deviation_Limits!B362=\"\",\"\",Deviation_Limits!B362)","v":""},{"$f":"IF(Deviation_Limits!C362=\"\",\"\",Deviation_Limits!C362)","v":""},{"$f":"IF(Deviation_Limits!D362=\"\",\"\",Deviation_Limits!D362)","v":""},"",{"$f":"IF(COUNTIF(AQ$2:AQ340,AQ340)=1,AQ340,\"\")","v":""},"","","",null,{"$f":"+IF(BD340=\"\",\"\",MAX(AY$1:AY339)+1)","v":""},{"$f":"IF(Deviation_CEM_CPMS!B362=\"\",\"\",Deviation_CEM_CPMS!B362)","v":""},{"$f":"IF(Deviation_CEM_CPMS!C362=\"\",\"\",Deviation_CEM_CPMS!C362)","v":""},{"$f":"IF(Deviation_CEM_CPMS!D362=\"\",\"\",Deviation_CEM_CPMS!D362)","v":""},"",{"$f":"IF(COUNTIF(BA$2:BA340,BA340)=1,BA340,\"\")","v":""},"","",""]
[{"$f":"IF(B341=\"\",\"\",MAX(A$1:A340)+1)","v":""},{"$f":"+IF(CPMS_Identification!C363=\"\",\"\",CPMS_Identification!C363)","v":""},"",null,{"$f":"IF(F341=\"\",\"\",MAX(E$1:E340)+1)","v":""},{"$f":"IF(Landfill_Gas_ID!C363=\"\",\"\",Landfill_Gas_ID!C363)","v":""},"",null,{"$f":"IF(J341=\"\",\"\",MAX(I$1:I340)+1)","v":""},{"$f":"IF(Distillate_Oil!C363=\"\",\"\",Distillate_Oil!C363)","v":""},"",null,null,null,null,null,null,null,null,null,null,null,null,null,null,null,{"$f":"+IF(AE341=\"\",\"\",MAX(AA$1:AA340)+1)","v":""},{"$f":"IF(Deviation_Limits!B363=\"\",\"\",Deviation_Limits!B363)","v":""},{"$f":"IF(Deviation_Limits!C363=\"\",\"\",Deviation_Limits!C363)","v":""},"",{"$f":"IF(COUNTIF(AC$2:AC341,AC341)=1,AC341,\"\")","v":""},"","",null,null,null,null,null,null,null,{"$f":"+IF(AT341=\"\",\"\",MAX(AO$1:AO340)+1)","v":""},{"$f":"IF(Deviation_Limits!B363=\"\",\"\",Deviation_Limits!B363)","v":""},{"$f":"IF(Deviation_Limits!C363=\"\",\"\",Deviation_Limits!C363)","v":""},{"$f":"IF(Deviation_Limits!D363=\"\",\"\",Deviation_Limits!D363)","v":""},"",{"$f":"IF(COUNTIF(AQ$2:AQ341,AQ341)=1,AQ341,\"\")","v":""},"","","",null,{"$f":"+IF(BD341=\"\",\"\",MAX(AY$1:AY340)+1)","v":""},{"$f":"IF(Deviation_CEM_CPMS!B363=\"\",\"\",Deviation_CEM_CPMS!B363)","v":""},{"$f":"IF(Deviation_CEM_CPMS!C363=\"\",\"\",Deviation_CEM_CPMS!C363)","v":""},{"$f":"IF(Deviation_CEM_CPMS!D363=\"\",\"\",Deviation_CEM_CPMS!D363)","v":""},"",{"$f":"IF(COUNTIF(BA$2:BA341,BA341)=1,BA341,\"\")","v":""},"","",""]
[{"$f":"IF(B342=\"\",\"\",MAX(A$1:A341)+1)","v":""},{"$f":"+IF(CPMS_Identification!C364=\"\",\"\",CPMS_Identification!C364)","v":""},"",null,{"$f":"IF(F342=\"\",\"\",MAX(E$1:E341)+1)","v":""},{"$f":"IF(Landfill_Gas_ID!C364=\"\",\"\",Landfill_Gas_ID!C364)","v":""},"",null,{"$f":"IF(J342=\"\",\"\",MAX(I$1:I341)+1)","v":""},{"$f":"IF(Distillate_Oil!C364=\"\",\"\",Distillate_Oil!C364)","v":""},"",null,null,null,null,null,null,null,null,null,null,null,null,null,null,null,{"$f":"+IF(AE342=\"\",\"\",MAX(AA$1:AA341)+1)","v":""},{"$f":"IF(Deviation_Limits!B364=\"\",\"\",Deviation_Limits!B364)","v":""},{"$f":"IF(Deviation_Limits!C364=\"\",\"\",Deviation_Limits!C364)","v":""},"",{"$f":"IF(COUNTIF(AC$2:AC342,AC342)=1,AC342,\"\")","v":""},"","",null,null,null,null,null,null,null,{"$f":"+IF(AT342=\"\",\"\",MAX(AO$1:AO341)+1)","v":""},{"$f":"IF(Deviation_Limits!B364=\"\",\"\",Deviation_Limits!B364)","v":""},{"$f":"IF(Deviation_Limits!C364=\"\",\"\",Deviation_Limits!C364)","v":""},{"$f":"IF(Deviation_Limits!D364=\"\",\"\",Deviation_Limits!D364)","v":""},"",{"$f":"IF(COUNTIF(AQ$2:AQ342,AQ342)=1,AQ342,\"\")","v":""},"","","",null,{"$f":"+IF(BD342=\"\",\"\",MAX(AY$1:AY341)+1)","v":""},{"$f":"IF(Deviation_CEM_CPMS!B364=\"\",\"\",Deviation_CEM_CPMS!B364)","v":""},{"$f":"IF(Deviation_CEM_CPMS!C364=\"\",\"\",Deviation_CEM_CPMS!C364)","v":""},{"$f":"IF(Deviation_CEM_CPMS!D364=\"\",\"\",Deviation_CEM_CPMS!D364)","v":""},"",{"$f":"IF(COUNTIF(BA$2:BA342,BA342)=1,BA342,\"\")","v":""},"","",""]
[{"$f":"IF(B343=\"\",\"\",MAX(A$1:A342)+1)","v":""},{"$f":"+IF(CPMS_Identification!C365=\"\",\"\",CPMS_Identification!C365)","v":""},"",null,{"$f":"IF(F343=\"\",\"\",MAX(E$1:E342)+1)","v":""},{"$f":"IF(Landfill_Gas_ID!C365=\"\",\"\",Landfill_Gas_ID!C365)","v":""},"",null,{"$f":"IF(J343=\"\",\"\",MAX(I$1:I342)+1)","v":""},{"$f":"IF(Distillate_Oil!C365=\"\",\"\",Distillate_Oil!C365)","v":""},"",null,null,null,null,null,null,null,null,null,null,null,null,null,null,null,{"$f":"+IF(AE343=\"\",\"\",MAX(AA$1:AA342)+1)","v":""},{"$f":"IF(Deviation_Limits!B365=\"\",\"\",Deviation_Limits!B365)","v":""},{"$f":"IF(Deviation_Limits!C365=\"\",\"\",Deviation_Limits!C365)","v":""},"",{"$f":"IF(COUNTIF(AC$2:AC343,AC343)=1,AC343,\"\")","v":""},"","",null,null,null,null,null,null,null,{"$f":"+IF(AT343=\"\",\"\",MAX(AO$1:AO342)+1)","v":""},{"$f":"IF(Deviation_Limits!B365=\"\",\"\",Deviation_Limits!B365)","v":""},{"$f":"IF(Deviation_Limits!C365=\"\",\"\",Deviation_Limits!C365)","v":""},{"$f":"IF(Deviation_Limits!D365=\"\",\"\",Deviation_Limits!D365)","v":""},"",{"$f":"IF(COUNTIF(AQ$2:AQ343,AQ343)=1,AQ343,\"\")","v":""},"","","",null,{"$f":"+IF(BD343=\"\",\"\",MAX(AY$1:AY342)+1)","v":""},{"$f":"IF(Deviation_CEM_CPMS!B365=\"\",\"\",Deviation_CEM_CPMS!B365)","v":""},{"$f":"IF(Deviation_CEM_CPMS!C365=\"\",\"\",Deviation_CEM_CPMS!C365)","v":""},{"$f":"IF(Deviation_CEM_CPMS!D365=\"\",\"\",Deviation_CEM_CPMS!D365)","v":""},"",{"$f":"IF(COUNTIF(BA$2:BA343,BA343)=1,BA343,\"\")","v":""},"","",""]
[{"$f":"IF(B344=\"\",\"\",MAX(A$1:A343)+1)","v":""},{"$f":"+IF(CPMS_Identification!C366=\"\",\"\",CPMS_Identification!C366)","v":""},"",null,{"$f":"IF(F344=\"\",\"\",MAX(E$1:E343)+1)","v":""},{"$f":"IF(Landfill_Gas_ID!C366=\"\",\"\",Landfill_Gas_ID!C366)","v":""},"",null,{"$f":"IF(J344=\"\",\"\",MAX(I$1:I343)+1)","v":""},{"$f":"IF(Distillate_Oil!C366=\"\",\"\",Distillate_Oil!C366)","v":""},"",null,null,null,null,null,null,null,null,null,null,null,null,null,null,null,{"$f":"+IF(AE344=\"\",\"\",MAX(AA$1:AA343)+1)","v":""},{"$f":"IF(Deviation_Limits!B366=\"\",\"\",Deviation_Limits!B366)","v":""},{"$f":"IF(Deviation_Limits!C366=\"\",\"\",Deviation_Limits!C366)","v":""},"",{"$f":"IF(COUNTIF(AC$2:AC344,AC344)=1,AC344,\"\")","v":""},"","",null,null,null,null,null,null,null,{"$f":"+IF(AT344=\"\",\"\",MAX(AO$1:AO343)+1)","v":""},{"$f":"IF(Deviation_Limits!B366=\"\",\"\",Deviation_Limits!B366)","v":""},{"$f":"IF(Deviation_Limits!C366=\"\",\"\",Deviation_Limits!C366)","v":""},{"$f":"IF(Deviation_Limits!D366=\"\",\"\",Deviation_Limits!D366)","v":""},"",{"$f":"IF(COUNTIF(AQ$2:AQ344,AQ344)=1,AQ344,\"\")","v":""},"","","",null,{"$f":"+IF(BD344=\"\",\"\",MAX(AY$1:AY343)+1)","v":""},{"$f":"IF(Deviation_CEM_CPMS!B366=\"\",\"\",Deviation_CEM_CPMS!B366)","v":""},{"$f":"IF(Deviation_CEM_CPMS!C366=\"\",\"\",Deviation_CEM_CPMS!C366)","v":""},{"$f":"IF(Deviation_CEM_CPMS!D366=\"\",\"\",Deviation_CEM_CPMS!D366)","v":""},"",{"$f":"IF(COUNTIF(BA$2:BA344,BA344)=1,BA344,\"\")","v":""},"","",""]
[{"$f":"IF(B345=\"\",\"\",MAX(A$1:A344)+1)","v":""},{"$f":"+IF(CPMS_Identification!C367=\"\",\"\",CPMS_Identification!C367)","v":""},"",null,{"$f":"IF(F345=\"\",\"\",MAX(E$1:E344)+1)","v":""},{"$f":"IF(Landfill_Gas_ID!C367=\"\",\"\",Landfill_Gas_ID!C367)","v":""},"",null,{"$f":"IF(J345=\"\",\"\",MAX(I$1:I344)+1)","v":""},{"$f":"IF(Distillate_Oil!C367=\"\",\"\",Distillate_Oil!C367)","v":""},"",null,null,null,null,null,null,null,null,null,null,null,null,null,null,null,{"$f":"+IF(AE345=\"\",\"\",MAX(AA$1:AA344)+1)","v":""},{"$f":"IF(Deviation_Limits!B367=\"\",\"\",Deviation_Limits!B367)","v":""},{"$f":"IF(Deviation_Limits!C367=\"\",\"\",Deviation_Limits!C367)","v":""},"",{"$f":"IF(COUNTIF(AC$2:AC345,AC345)=1,AC345,\"\")","v":""},"","",null,null,null,null,null,null,null,{"$f":"+IF(AT345=\"\",\"\",MAX(AO$1:AO344)+1)","v":""},{"$f":"IF(Deviation_Limits!B367=\"\",\"\",Deviation_Limits!B367)","v":""},{"$f":"IF(Deviation_Limits!C367=\"\",\"\",Deviation_Limits!C367)","v":""},{"$f":"IF(Deviation_Limits!D367=\"\",\"\",Deviation_Limits!D367)","v":""},"",{"$f":"IF(COUNTIF(AQ$2:AQ345,AQ345)=1,AQ345,\"\")","v":""},"","","",null,{"$f":"+IF(BD345=\"\",\"\",MAX(AY$1:AY344)+1)","v":""},{"$f":"IF(Deviation_CEM_CPMS!B367=\"\",\"\",Deviation_CEM_CPMS!B367)","v":""},{"$f":"IF(Deviation_CEM_CPMS!C367=\"\",\"\",Deviation_CEM_CPMS!C367)","v":""},{"$f":"IF(Deviation_CEM_CPMS!D367=\"\",\"\",Deviation_CEM_CPMS!D367)","v":""},"",{"$f":"IF(COUNTIF(BA$2:BA345,BA345)=1,BA345,\"\")","v":""},"","",""]
[{"$f":"IF(B346=\"\",\"\",MAX(A$1:A345)+1)","v":""},{"$f":"+IF(CPMS_Identification!C368=\"\",\"\",CPMS_Identification!C368)","v":""},"",null,{"$f":"IF(F346=\"\",\"\",MAX(E$1:E345)+1)","v":""},{"$f":"IF(Landfill_Gas_ID!C368=\"\",\"\",Landfill_Gas_ID!C368)","v":""},"",null,{"$f":"IF(J346=\"\",\"\",MAX(I$1:I345)+1)","v":""},{"$f":"IF(Distillate_Oil!C368=\"\",\"\",Distillate_Oil!C368)","v":""},"",null,null,null,null,null,null,null,null,null,null,null,null,null,null,null,{"$f":"+IF(AE346=\"\",\"\",MAX(AA$1:AA345)+1)","v":""},{"$f":"IF(Deviation_Limits!B368=\"\",\"\",Deviation_Limits!B368)","v":""},{"$f":"IF(Deviation_Limits!C368=\"\",\"\",Deviation_Limits!C368)","v":""},"",{"$f":"IF(COUNTIF(AC$2:AC346,AC346)=1,AC346,\"\")","v":""},"","",null,null,null,null,null,null,null,{"$f":"+IF(AT346=\"\",\"\",MAX(AO$1:AO345)+1)","v":""},{"$f":"IF(Deviation_Limits!B368=\"\",\"\",Deviation_Limits!B368)","v":""},{"$f":"IF(Deviation_Limits!C368=\"\",\"\",Deviation_Limits!C368)","v":""},{"$f":"IF(Deviation_Limits!D368=\"\",\"\",Deviation_Limits!D368)","v":""},"",{"$f":"IF(COUNTIF(AQ$2:AQ346,AQ346)=1,AQ346,\"\")","v":""},"","","",null,{"$f":"+IF(BD346=\"\",\"\",MAX(AY$1:AY345)+1)","v":""},{"$f":"IF(Deviation_CEM_CPMS!B368=\"\",\"\",Deviation_CEM_CPMS!B368)","v":""},{"$f":"IF(Deviation_CEM_CPMS!C368=\"\",\"\",Deviation_CEM_CPMS!C368)","v":""},{"$f":"IF(Deviation_CEM_CPMS!D368=\"\",\"\",Deviation_CEM_CPMS!D368)","v":""},"",{"$f":"IF(COUNTIF(BA$2:BA346,BA346)=1,BA346,\"\")","v":""},"","",""]
[{"$f":"IF(B347=\"\",\"\",MAX(A$1:A346)+1)","v":""},{"$f":"+IF(CPMS_Identification!C369=\"\",\"\",CPMS_Identification!C369)","v":""},"",null,{"$f":"IF(F347=\"\",\"\",MAX(E$1:E346)+1)","v":""},{"$f":"IF(Landfill_Gas_ID!C369=\"\",\"\",Landfill_Gas_ID!C369)","v":""},"",null,{"$f":"IF(J347=\"\",\"\",MAX(I$1:I346)+1)","v":""},{"$f":"IF(Distillate_Oil!C369=\"\",\"\",Distillate_Oil!C369)","v":""},"",null,null,null,null,null,null,null,null,null,null,null,null,null,null,null,{"$f":"+IF(AE347=\"\",\"\",MAX(AA$1:AA346)+1)","v":""},{"$f":"IF(Deviation_Limits!B369=\"\",\"\",Deviation_Limits!B369)","v":""},{"$f":"IF(Deviation_Limits!C369=\"\",\"\",Deviation_Limits!C369)","v":""},"",{"$f":"IF(COUNTIF(AC$2:AC347,AC347)=1,AC347,\"\")","v":""},"","",null,null,null,null,null,null,null,{"$f":"+IF(AT347=\"\",\"\",MAX(AO$1:AO346)+1)","v":""},{"$f":"IF(Deviation_Limits!B369=\"\",\"\",Deviation_Limits!B369)","v":""},{"$f":"IF(Deviation_Limits!C369=\"\",\"\",Deviation_Limits!C369)","v":""},{"$f":"IF(Deviation_Limits!D369=\"\",\"\",Deviation_Limits!D369)","v":""},"",{"$f":"IF(COUNTIF(AQ$2:AQ347,AQ347)=1,AQ347,\"\")","v":""},"","","",null,{"$f":"+IF(BD347=\"\",\"\",MAX(AY$1:AY346)+1)","v":""},{"$f":"IF(Deviation_CEM_CPMS!B369=\"\",\"\",Deviation_CEM_CPMS!B369)","v":""},{"$f":"IF(Deviation_CEM_CPMS!C369=\"\",\"\",Deviation_CEM_CPMS!C369)","v":""},{"$f":"IF(Deviation_CEM_CPMS!D369=\"\",\"\",Deviation_CEM_CPMS!D369)","v":""},"",{"$f":"IF(COUNTIF(BA$2:BA347,BA347)=1,BA347,\"\")","v":""},"","",""]
[{"$f":"IF(B348=\"\",\"\",MAX(A$1:A347)+1)","v":""},{"$f":"+IF(CPMS_Identification!C370=\"\",\"\",CPMS_Identification!C370)","v":""},"",null,{"$f":"IF(F348=\"\",\"\",MAX(E$1:E347)+1)","v":""},{"$f":"IF(Landfill_Gas_ID!C370=\"\",\"\",Landfill_Gas_ID!C370)","v":""},"",null,{"$f":"IF(J348=\"\",\"\",MAX(I$1:I347)+1)","v":""},{"$f":"IF(Distillate_Oil!C370=\"\",\"\",Distillate_Oil!C370)","v":""},"",null,null,null,null,null,null,null,null,null,null,null,null,null,null,null,{"$f":"+IF(AE348=\"\",\"\",MAX(AA$1:AA347)+1)","v":""},{"$f":"IF(Deviation_Limits!B370=\"\",\"\",Deviation_Limits!B370)","v":""},{"$f":"IF(Deviation_Limits!C370=\"\",\"\",Deviation_Limits!C370)","v":""},"",{"$f":"IF(COUNTIF(AC$2:AC348,AC348)=1,AC348,\"\")","v":""},"","",null,null,null,null,null,null,null,{"$f":"+IF(AT348=\"\",\"\",MAX(AO$1:AO347)+1)","v":""},{"$f":"IF(Deviation_Limits!B370=\"\",\"\",Deviation_Limits!B370)","v":""},{"$f":"IF(Deviation_Limits!C370=\"\",\"\",Deviation_Limits!C370)","v":""},{"$f":"IF(Deviation_Limits!D370=\"\",\"\",Deviation_Limits!D370)","v":""},"",{"$f":"IF(COUNTIF(AQ$2:AQ348,AQ348)=1,AQ348,\"\")","v":""},"","","",null,{"$f":"+IF(BD348=\"\",\"\",MAX(AY$1:AY347)+1)","v":""},{"$f":"IF(Deviation_CEM_CPMS!B370=\"\",\"\",Deviation_CEM_CPMS!B370)","v":""},{"$f":"IF(Deviation_CEM_CPMS!C370=\"\",\"\",Deviation_CEM_CPMS!C370)","v":""},{"$f":"IF(Deviation_CEM_CPMS!D370=\"\",\"\",Deviation_CEM_CPMS!D370)","v":""},"",{"$f":"IF(COUNTIF(BA$2:BA348,BA348)=1,BA348,\"\")","v":""},"","",""]
[{"$f":"IF(B349=\"\",\"\",MAX(A$1:A348)+1)","v":""},{"$f":"+IF(CPMS_Identification!C371=\"\",\"\",CPMS_Identification!C371)","v":""},"",null,{"$f":"IF(F349=\"\",\"\",MAX(E$1:E348)+1)","v":""},{"$f":"IF(Landfill_Gas_ID!C371=\"\",\"\",Landfill_Gas_ID!C371)","v":""},"",null,{"$f":"IF(J349=\"\",\"\",MAX(I$1:I348)+1)","v":""},{"$f":"IF(Distillate_Oil!C371=\"\",\"\",Distillate_Oil!C371)","v":""},"",null,null,null,null,null,null,null,null,null,null,null,null,null,null,null,{"$f":"+IF(AE349=\"\",\"\",MAX(AA$1:AA348)+1)","v":""},{"$f":"IF(Deviation_Limits!B371=\"\",\"\",Deviation_Limits!B371)","v":""},{"$f":"IF(Deviation_Limits!C371=\"\",\"\",Deviation_Limits!C371)","v":""},"",{"$f":"IF(COUNTIF(AC$2:AC349,AC349)=1,AC349,\"\")","v":""},"","",null,null,null,null,null,null,null,{"$f":"+IF(AT349=\"\",\"\",MAX(AO$1:AO348)+1)","v":""},{"$f":"IF(Deviation_Limits!B371=\"\",\"\",Deviation_Limits!B371)","v":""},{"$f":"IF(Deviation_Limits!C371=\"\",\"\",Deviation_Limits!C371)","v":""},{"$f":"IF(Deviation_Limits!D371=\"\",\"\",Deviation_Limits!D371)","v":""},"",{"$f":"IF(COUNTIF(AQ$2:AQ349,AQ349)=1,AQ349,\"\")","v":""},"","","",null,{"$f":"+IF(BD349=\"\",\"\",MAX(AY$1:AY348)+1)","v":""},{"$f":"IF(Deviation_CEM_CPMS!B371=\"\",\"\",Deviation_CEM_CPMS!B371)","v":""},{"$f":"IF(Deviation_CEM_CPMS!C371=\"\",\"\",Deviation_CEM_CPMS!C371)","v":""},{"$f":"IF(Deviation_CEM_CPMS!D371=\"\",\"\",Deviation_CEM_CPMS!D371)","v":""},"",{"$f":"IF(COUNTIF(BA$2:BA349,BA349)=1,BA349,\"\")","v":""},"","",""]
[{"$f":"IF(B350=\"\",\"\",MAX(A$1:A349)+1)","v":""},{"$f":"+IF(CPMS_Identification!C372=\"\",\"\",CPMS_Identification!C372)","v":""},"",null,{"$f":"IF(F350=\"\",\"\",MAX(E$1:E349)+1)","v":""},{"$f":"IF(Landfill_Gas_ID!C372=\"\",\"\",Landfill_Gas_ID!C372)","v":""},"",null,{"$f":"IF(J350=\"\",\"\",MAX(I$1:I349)+1)","v":""},{"$f":"IF(Distillate_Oil!C372=\"\",\"\",Distillate_Oil!C372)","v":""},"",null,null,null,null,null,null,null,null,null,null,null,null,null,null,null,{"$f":"+IF(AE350=\"\",\"\",MAX(AA$1:AA349)+1)","v":""},{"$f":"IF(Deviation_Limits!B372=\"\",\"\",Deviation_Limits!B372)","v":""},{"$f":"IF(Deviation_Limits!C372=\"\",\"\",Deviation_Limits!C372)","v":""},"",{"$f":"IF(COUNTIF(AC$2:AC350,AC350)=1,AC350,\"\")","v":""},"","",null,null,null,null,null,null,null,{"$f":"+IF(AT350=\"\",\"\",MAX(AO$1:AO349)+1)","v":""},{"$f":"IF(Deviation_Limits!B372=\"\",\"\",Deviation_Limits!B372)","v":""},{"$f":"IF(Deviation_Limits!C372=\"\",\"\",Deviation_Limits!C372)","v":""},{"$f":"IF(Deviation_Limits!D372=\"\",\"\",Deviation_Limits!D372)","v":""},"",{"$f":"IF(COUNTIF(AQ$2:AQ350,AQ350)=1,AQ350,\"\")","v":""},"","","",null,{"$f":"+IF(BD350=\"\",\"\",MAX(AY$1:AY349)+1)","v":""},{"$f":"IF(Deviation_CEM_CPMS!B372=\"\",\"\",Deviation_CEM_CPMS!B372)","v":""},{"$f":"IF(Deviation_CEM_CPMS!C372=\"\",\"\",Deviation_CEM_CPMS!C372)","v":""},{"$f":"IF(Deviation_CEM_CPMS!D372=\"\",\"\",Deviation_CEM_CPMS!D372)","v":""},"",{"$f":"IF(COUNTIF(BA$2:BA350,BA350)=1,BA350,\"\")","v":""},"","",""]
[{"$f":"IF(B351=\"\",\"\",MAX(A$1:A350)+1)","v":""},{"$f":"+IF(CPMS_Identification!C373=\"\",\"\",CPMS_Identification!C373)","v":""},"",null,{"$f":"IF(F351=\"\",\"\",MAX(E$1:E350)+1)","v":""},{"$f":"IF(Landfill_Gas_ID!C373=\"\",\"\",Landfill_Gas_ID!C373)","v":""},"",null,{"$f":"IF(J351=\"\",\"\",MAX(I$1:I350)+1)","v":""},{"$f":"IF(Distillate_Oil!C373=\"\",\"\",Distillate_Oil!C373)","v":""},"",null,null,null,null,null,null,null,null,null,null,null,null,null,null,null,{"$f":"+IF(AE351=\"\",\"\",MAX(AA$1:AA350)+1)","v":""},{"$f":"IF(Deviation_Limits!B373=\"\",\"\",Deviation_Limits!B373)","v":""},{"$f":"IF(Deviation_Limits!C373=\"\",\"\",Deviation_Limits!C373)","v":""},"",{"$f":"IF(COUNTIF(AC$2:AC351,AC351)=1,AC351,\"\")","v":""},"","",null,null,null,null,null,null,null,{"$f":"+IF(AT351=\"\",\"\",MAX(AO$1:AO350)+1)","v":""},{"$f":"IF(Deviation_Limits!B373=\"\",\"\",Deviation_Limits!B373)","v":""},{"$f":"IF(Deviation_Limits!C373=\"\",\"\",Deviation_Limits!C373)","v":""},{"$f":"IF(Deviation_Limits!D373=\"\",\"\",Deviation_Limits!D373)","v":""},"",{"$f":"IF(COUNTIF(AQ$2:AQ351,AQ351)=1,AQ351,\"\")","v":""},"","","",null,{"$f":"+IF(BD351=\"\",\"\",MAX(AY$1:AY350)+1)","v":""},{"$f":"IF(Deviation_CEM_CPMS!B373=\"\",\"\",Deviation_CEM_CPMS!B373)","v":""},{"$f":"IF(Deviation_CEM_CPMS!C373=\"\",\"\",Deviation_CEM_CPMS!C373)","v":""},{"$f":"IF(Deviation_CEM_CPMS!D373=\"\",\"\",Deviation_CEM_CPMS!D373)","v":""},"",{"$f":"IF(COUNTIF(BA$2:BA351,BA351)=1,BA351,\"\")","v":""},"","",""]
[{"$f":"IF(B352=\"\",\"\",MAX(A$1:A351)+1)","v":""},{"$f":"+IF(CPMS_Identification!C374=\"\",\"\",CPMS_Identification!C374)","v":""},"",null,{"$f":"IF(F352=\"\",\"\",MAX(E$1:E351)+1)","v":""},{"$f":"IF(Landfill_Gas_ID!C374=\"\",\"\",Landfill_Gas_ID!C374)","v":""},"",null,{"$f":"IF(J352=\"\",\"\",MAX(I$1:I351)+1)","v":""},{"$f":"IF(Distillate_Oil!C374=\"\",\"\",Distillate_Oil!C374)","v":""},"",null,null,null,null,null,null,null,null,null,null,null,null,null,null,null,{"$f":"+IF(AE352=\"\",\"\",MAX(AA$1:AA351)+1)","v":""},{"$f":"IF(Deviation_Limits!B374=\"\",\"\",Deviation_Limits!B374)","v":""},{"$f":"IF(Deviation_Limits!C374=\"\",\"\",Deviation_Limits!C374)","v":""},"",{"$f":"IF(COUNTIF(AC$2:AC352,AC352)=1,AC352,\"\")","v":""},"","",null,null,null,null,null,null,null,{"$f":"+IF(AT352=\"\",\"\",MAX(AO$1:AO351)+1)","v":""},{"$f":"IF(Deviation_Limits!B374=\"\",\"\",Deviation_Limits!B374)","v":""},{"$f":"IF(Deviation_Limits!C374=\"\",\"\",Deviation_Limits!C374)","v":""},{"$f":"IF(Deviation_Limits!D374=\"\",\"\",Deviation_Limits!D374)","v":""},"",{"$f":"IF(COUNTIF(AQ$2:AQ352,AQ352)=1,AQ352,\"\")","v":""},"","","",null,{"$f":"+IF(BD352=\"\",\"\",MAX(AY$1:AY351)+1)","v":""},{"$f":"IF(Deviation_CEM_CPMS!B374=\"\",\"\",Deviation_CEM_CPMS!B374)","v":""},{"$f":"IF(Deviation_CEM_CPMS!C374=\"\",\"\",Deviation_CEM_CPMS!C374)","v":""},{"$f":"IF(Deviation_CEM_CPMS!D374=\"\",\"\",Deviation_CEM_CPMS!D374)","v":""},"",{"$f":"IF(COUNTIF(BA$2:BA352,BA352)=1,BA352,\"\")","v":""},"","",""]
[{"$f":"IF(B353=\"\",\"\",MAX(A$1:A352)+1)","v":""},{"$f":"+IF(CPMS_Identification!C375=\"\",\"\",CPMS_Identification!C375)","v":""},"",null,{"$f":"IF(F353=\"\",\"\",MAX(E$1:E352)+1)","v":""},{"$f":"IF(Landfill_Gas_ID!C375=\"\",\"\",Landfill_Gas_ID!C375)","v":""},"",null,{"$f":"IF(J353=\"\",\"\",MAX(I$1:I352)+1)","v":""},{"$f":"IF(Distillate_Oil!C375=\"\",\"\",Distillate_Oil!C375)","v":""},"",null,null,null,null,null,null,null,null,null,null,null,null,null,null,null,{"$f":"+IF(AE353=\"\",\"\",MAX(AA$1:AA352)+1)","v":""},{"$f":"IF(Deviation_Limits!B375=\"\",\"\",Deviation_Limits!B375)","v":""},{"$f":"IF(Deviation_Limits!C375=\"\",\"\",Deviation_Limits!C375)","v":""},"",{"$f":"IF(COUNTIF(AC$2:AC353,AC353)=1,AC353,\"\")","v":""},"","",null,null,null,null,null,null,null,{"$f":"+IF(AT353=\"\",\"\",MAX(AO$1:AO352)+1)","v":""},{"$f":"IF(Deviation_Limits!B375=\"\",\"\",Deviation_Limits!B375)","v":""},{"$f":"IF(Deviation_Limits!C375=\"\",\"\",Deviation_Limits!C375)","v":""},{"$f":"IF(Deviation_Limits!D375=\"\",\"\",Deviation_Limits!D375)","v":""},"",{"$f":"IF(COUNTIF(AQ$2:AQ353,AQ353)=1,AQ353,\"\")","v":""},"","","",null,{"$f":"+IF(BD353=\"\",\"\",MAX(AY$1:AY352)+1)","v":""},{"$f":"IF(Deviation_CEM_CPMS!B375=\"\",\"\",Deviation_CEM_CPMS!B375)","v":""},{"$f":"IF(Deviation_CEM_CPMS!C375=\"\",\"\",Deviation_CEM_CPMS!C375)","v":""},{"$f":"IF(Deviation_CEM_CPMS!D375=\"\",\"\",Deviation_CEM_CPMS!D375)","v":""},"",{"$f":"IF(COUNTIF(BA$2:BA353,BA353)=1,BA353,\"\")","v":""},"","",""]
[{"$f":"IF(B354=\"\",\"\",MAX(A$1:A353)+1)","v":""},{"$f":"+IF(CPMS_Identification!C376=\"\",\"\",CPMS_Identification!C376)","v":""},"",null,{"$f":"IF(F354=\"\",\"\",MAX(E$1:E353)+1)","v":""},{"$f":"IF(Landfill_Gas_ID!C376=\"\",\"\",Landfill_Gas_ID!C376)","v":""},"",null,{"$f":"IF(J354=\"\",\"\",MAX(I$1:I353)+1)","v":""},{"$f":"IF(Distillate_Oil!C376=\"\",\"\",Distillate_Oil!C376)","v":""},"",null,null,null,null,null,null,null,null,null,null,null,null,null,null,null,{"$f":"+IF(AE354=\"\",\"\",MAX(AA$1:AA353)+1)","v":""},{"$f":"IF(Deviation_Limits!B376=\"\",\"\",Deviation_Limits!B376)","v":""},{"$f":"IF(Deviation_Limits!C376=\"\",\"\",Deviation_Limits!C376)","v":""},"",{"$f":"IF(COUNTIF(AC$2:AC354,AC354)=1,AC354,\"\")","v":""},"","",null,null,null,null,null,null,null,{"$f":"+IF(AT354=\"\",\"\",MAX(AO$1:AO353)+1)","v":""},{"$f":"IF(Deviation_Limits!B376=\"\",\"\",Deviation_Limits!B376)","v":""},{"$f":"IF(Deviation_Limits!C376=\"\",\"\",Deviation_Limits!C376)","v":""},{"$f":"IF(Deviation_Limits!D376=\"\",\"\",Deviation_Limits!D376)","v":""},"",{"$f":"IF(COUNTIF(AQ$2:AQ354,AQ354)=1,AQ354,\"\")","v":""},"","","",null,{"$f":"+IF(BD354=\"\",\"\",MAX(AY$1:AY353)+1)","v":""},{"$f":"IF(Deviation_CEM_CPMS!B376=\"\",\"\",Deviation_CEM_CPMS!B376)","v":""},{"$f":"IF(Deviation_CEM_CPMS!C376=\"\",\"\",Deviation_CEM_CPMS!C376)","v":""},{"$f":"IF(Deviation_CEM_CPMS!D376=\"\",\"\",Deviation_CEM_CPMS!D376)","v":""},"",{"$f":"IF(COUNTIF(BA$2:BA354,BA354)=1,BA354,\"\")","v":""},"","",""]
[{"$f":"IF(B355=\"\",\"\",MAX(A$1:A354)+1)","v":""},{"$f":"+IF(CPMS_Identification!C377=\"\",\"\",CPMS_Identification!C377)","v":""},"",null,{"$f":"IF(F355=\"\",\"\",MAX(E$1:E354)+1)","v":""},{"$f":"IF(Landfill_Gas_ID!C377=\"\",\"\",Landfill_Gas_ID!C377)","v":""},"",null,{"$f":"IF(J355=\"\",\"\",MAX(I$1:I354)+1)","v":""},{"$f":"IF(Distillate_Oil!C377=\"\",\"\",Distillate_Oil!C377)","v":""},"",null,null,null,null,null,null,null,null,null,null,null,null,null,null,null,{"$f":"+IF(AE355=\"\",\"\",MAX(AA$1:AA354)+1)","v":""},{"$f":"IF(Deviation_Limits!B377=\"\",\"\",Deviation_Limits!B377)","v":""},{"$f":"IF(Deviation_Limits!C377=\"\",\"\",Deviation_Limits!C377)","v":""},"",{"$f":"IF(COUNTIF(AC$2:AC355,AC355)=1,AC355,\"\")","v":""},"","",null,null,null,null,null,null,null,{"$f":"+IF(AT355=\"\",\"\",MAX(AO$1:AO354)+1)","v":""},{"$f":"IF(Deviation_Limits!B377=\"\",\"\",Deviation_Limits!B377)","v":""},{"$f":"IF(Deviation_Limits!C377=\"\",\"\",Deviation_Limits!C377)","v":""},{"$f":"IF(Deviation_Limits!D377=\"\",\"\",Deviation_Limits!D377)","v":""},"",{"$f":"IF(COUNTIF(AQ$2:AQ355,AQ355)=1,AQ355,\"\")","v":""},"","","",null,{"$f":"+IF(BD355=\"\",\"\",MAX(AY$1:AY354)+1)","v":""},{"$f":"IF(Deviation_CEM_CPMS!B377=\"\",\"\",Deviation_CEM_CPMS!B377)","v":""},{"$f":"IF(Deviation_CEM_CPMS!C377=\"\",\"\",Deviation_CEM_CPMS!C377)","v":""},{"$f":"IF(Deviation_CEM_CPMS!D377=\"\",\"\",Deviation_CEM_CPMS!D377)","v":""},"",{"$f":"IF(COUNTIF(BA$2:BA355,BA355)=1,BA355,\"\")","v":""},"","",""]
[{"$f":"IF(B356=\"\",\"\",MAX(A$1:A355)+1)","v":""},{"$f":"+IF(CPMS_Identification!C378=\"\",\"\",CPMS_Identification!C378)","v":""},"",null,{"$f":"IF(F356=\"\",\"\",MAX(E$1:E355)+1)","v":""},{"$f":"IF(Landfill_Gas_ID!C378=\"\",\"\",Landfill_Gas_ID!C378)","v":""},"",null,{"$f":"IF(J356=\"\",\"\",MAX(I$1:I355)+1)","v":""},{"$f":"IF(Distillate_Oil!C378=\"\",\"\",Distillate_Oil!C378)","v":""},"",null,null,null,null,null,null,null,null,null,null,null,null,null,null,null,{"$f":"+IF(AE356=\"\",\"\",MAX(AA$1:AA355)+1)","v":""},{"$f":"IF(Deviation_Limits!B378=\"\",\"\",Deviation_Limits!B378)","v":""},{"$f":"IF(Deviation_Limits!C378=\"\",\"\",Deviation_Limits!C378)","v":""},"",{"$f":"IF(COUNTIF(AC$2:AC356,AC356)=1,AC356,\"\")","v":""},"","",null,null,null,null,null,null,null,{"$f":"+IF(AT356=\"\",\"\",MAX(AO$1:AO355)+1)","v":""},{"$f":"IF(Deviation_Limits!B378=\"\",\"\",Deviation_Limits!B378)","v":""},{"$f":"IF(Deviation_Limits!C378=\"\",\"\",Deviation_Limits!C378)","v":""},{"$f":"IF(Deviation_Limits!D378=\"\",\"\",Deviation_Limits!D378)","v":""},"",{"$f":"IF(COUNTIF(AQ$2:AQ356,AQ356)=1,AQ356,\"\")","v":""},"","","",null,{"$f":"+IF(BD356=\"\",\"\",MAX(AY$1:AY355)+1)","v":""},{"$f":"IF(Deviation_CEM_CPMS!B378=\"\",\"\",Deviation_CEM_CPMS!B378)","v":""},{"$f":"IF(Deviation_CEM_CPMS!C378=\"\",\"\",Deviation_CEM_CPMS!C378)","v":""},{"$f":"IF(Deviation_CEM_CPMS!D378=\"\",\"\",Deviation_CEM_CPMS!D378)","v":""},"",{"$f":"IF(COUNTIF(BA$2:BA356,BA356)=1,BA356,\"\")","v":""},"","",""]
[{"$f":"IF(B357=\"\",\"\",MAX(A$1:A356)+1)","v":""},{"$f":"+IF(CPMS_Identification!C379=\"\",\"\",CPMS_Identification!C379)","v":""},"",null,{"$f":"IF(F357=\"\",\"\",MAX(E$1:E356)+1)","v":""},{"$f":"IF(Landfill_Gas_ID!C379=\"\",\"\",Landfill_Gas_ID!C379)","v":""},"",null,{"$f":"IF(J357=\"\",\"\",MAX(I$1:I356)+1)","v":""},{"$f":"IF(Distillate_Oil!C379=\"\",\"\",Distillate_Oil!C379)","v":""},"",null,null,null,null,null,null,null,null,null,null,null,null,null,null,null,{"$f":"+IF(AE357=\"\",\"\",MAX(AA$1:AA356)+1)","v":""},{"$f":"IF(Deviation_Limits!B379=\"\",\"\",Deviation_Limits!B379)","v":""},{"$f":"IF(Deviation_Limits!C379=\"\",\"\",Deviation_Limits!C379)","v":""},"",{"$f":"IF(COUNTIF(AC$2:AC357,AC357)=1,AC357,\"\")","v":""},"","",null,null,null,null,null,null,null,{"$f":"+IF(AT357=\"\",\"\",MAX(AO$1:AO356)+1)","v":""},{"$f":"IF(Deviation_Limits!B379=\"\",\"\",Deviation_Limits!B379)","v":""},{"$f":"IF(Deviation_Limits!C379=\"\",\"\",Deviation_Limits!C379)","v":""},{"$f":"IF(Deviation_Limits!D379=\"\",\"\",Deviation_Limits!D379)","v":""},"",{"$f":"IF(COUNTIF(AQ$2:AQ357,AQ357)=1,AQ357,\"\")","v":""},"","","",null,{"$f":"+IF(BD357=\"\",\"\",MAX(AY$1:AY356)+1)","v":""},{"$f":"IF(Deviation_CEM_CPMS!B379=\"\",\"\",Deviation_CEM_CPMS!B379)","v":""},{"$f":"IF(Deviation_CEM_CPMS!C379=\"\",\"\",Deviation_CEM_CPMS!C379)","v":""},{"$f":"IF(Deviation_CEM_CPMS!D379=\"\",\"\",Deviation_CEM_CPMS!D379)","v":""},"",{"$f":"IF(COUNTIF(BA$2:BA357,BA357)=1,BA357,\"\")","v":""},"","",""]
[{"$f":"IF(B358=\"\",\"\",MAX(A$1:A357)+1)","v":""},{"$f":"+IF(CPMS_Identification!C380=\"\",\"\",CPMS_Identification!C380)","v":""},"",null,{"$f":"IF(F358=\"\",\"\",MAX(E$1:E357)+1)","v":""},{"$f":"IF(Landfill_Gas_ID!C380=\"\",\"\",Landfill_Gas_ID!C380)","v":""},"",null,{"$f":"IF(J358=\"\",\"\",MAX(I$1:I357)+1)","v":""},{"$f":"IF(Distillate_Oil!C380=\"\",\"\",Distillate_Oil!C380)","v":""},"",null,null,null,null,null,null,null,null,null,null,null,null,null,null,null,{"$f":"+IF(AE358=\"\",\"\",MAX(AA$1:AA357)+1)","v":""},{"$f":"IF(Deviation_Limits!B380=\"\",\"\",Deviation_Limits!B380)","v":""},{"$f":"IF(Deviation_Limits!C380=\"\",\"\",Deviation_Limits!C380)","v":""},"",{"$f":"IF(COUNTIF(AC$2:AC358,AC358)=1,AC358,\"\")","v":""},"","",null,null,null,null,null,null,null,{"$f":"+IF(AT358=\"\",\"\",MAX(AO$1:AO357)+1)","v":""},{"$f":"IF(Deviation_Limits!B380=\"\",\"\",Deviation_Limits!B380)","v":""},{"$f":"IF(Deviation_Limits!C380=\"\",\"\",Deviation_Limits!C380)","v":""},{"$f":"IF(Deviation_Limits!D380=\"\",\"\",Deviation_Limits!D380)","v":""},"",{"$f":"IF(COUNTIF(AQ$2:AQ358,AQ358)=1,AQ358,\"\")","v":""},"","","",null,{"$f":"+IF(BD358=\"\",\"\",MAX(AY$1:AY357)+1)","v":""},{"$f":"IF(Deviation_CEM_CPMS!B380=\"\",\"\",Deviation_CEM_CPMS!B380)","v":""},{"$f":"IF(Deviation_CEM_CPMS!C380=\"\",\"\",Deviation_CEM_CPMS!C380)","v":""},{"$f":"IF(Deviation_CEM_CPMS!D380=\"\",\"\",Deviation_CEM_CPMS!D380)","v":""},"",{"$f":"IF(COUNTIF(BA$2:BA358,BA358)=1,BA358,\"\")","v":""},"","",""]
[{"$f":"IF(B359=\"\",\"\",MAX(A$1:A358)+1)","v":""},{"$f":"+IF(CPMS_Identification!C381=\"\",\"\",CPMS_Identification!C381)","v":""},"",null,{"$f":"IF(F359=\"\",\"\",MAX(E$1:E358)+1)","v":""},{"$f":"IF(Landfill_Gas_ID!C381=\"\",\"\",Landfill_Gas_ID!C381)","v":""},"",null,{"$f":"IF(J359=\"\",\"\",MAX(I$1:I358)+1)","v":""},{"$f":"IF(Distillate_Oil!C381=\"\",\"\",Distillate_Oil!C381)","v":""},"",null,null,null,null,null,null,null,null,null,null,null,null,null,null,null,{"$f":"+IF(AE359=\"\",\"\",MAX(AA$1:AA358)+1)","v":""},{"$f":"IF(Deviation_Limits!B381=\"\",\"\",Deviation_Limits!B381)","v":""},{"$f":"IF(Deviation_Limits!C381=\"\",\"\",Deviation_Limits!C381)","v":""},"",{"$f":"IF(COUNTIF(AC$2:AC359,AC359)=1,AC359,\"\")","v":""},"","",null,null,null,null,null,null,null,{"$f":"+IF(AT359=\"\",\"\",MAX(AO$1:AO358)+1)","v":""},{"$f":"IF(Deviation_Limits!B381=\"\",\"\",Deviation_Limits!B381)","v":""},{"$f":"IF(Deviation_Limits!C381=\"\",\"\",Deviation_Limits!C381)","v":""},{"$f":"IF(Deviation_Limits!D381=\"\",\"\",Deviation_Limits!D381)","v":""},"",{"$f":"IF(COUNTIF(AQ$2:AQ359,AQ359)=1,AQ359,\"\")","v":""},"","","",null,{"$f":"+IF(BD359=\"\",\"\",MAX(AY$1:AY358)+1)","v":""},{"$f":"IF(Deviation_CEM_CPMS!B381=\"\",\"\",Deviation_CEM_CPMS!B381)","v":""},{"$f":"IF(Deviation_CEM_CPMS!C381=\"\",\"\",Deviation_CEM_CPMS!C381)","v":""},{"$f":"IF(Deviation_CEM_CPMS!D381=\"\",\"\",Deviation_CEM_CPMS!D381)","v":""},"",{"$f":"IF(COUNTIF(BA$2:BA359,BA359)=1,BA359,\"\")","v":""},"","",""]
[{"$f":"IF(B360=\"\",\"\",MAX(A$1:A359)+1)","v":""},{"$f":"+IF(CPMS_Identification!C382=\"\",\"\",CPMS_Identification!C382)","v":""},"",null,{"$f":"IF(F360=\"\",\"\",MAX(E$1:E359)+1)","v":""},{"$f":"IF(Landfill_Gas_ID!C382=\"\",\"\",Landfill_Gas_ID!C382)","v":""},"",null,{"$f":"IF(J360=\"\",\"\",MAX(I$1:I359)+1)","v":""},{"$f":"IF(Distillate_Oil!C382=\"\",\"\",Distillate_Oil!C382)","v":""},"",null,null,null,null,null,null,null,null,null,null,null,null,null,null,null,{"$f":"+IF(AE360=\"\",\"\",MAX(AA$1:AA359)+1)","v":""},{"$f":"IF(Deviation_Limits!B382=\"\",\"\",Deviation_Limits!B382)","v":""},{"$f":"IF(Deviation_Limits!C382=\"\",\"\",Deviation_Limits!C382)","v":""},"",{"$f":"IF(COUNTIF(AC$2:AC360,AC360)=1,AC360,\"\")","v":""},"","",null,null,null,null,null,null,null,{"$f":"+IF(AT360=\"\",\"\",MAX(AO$1:AO359)+1)","v":""},{"$f":"IF(Deviation_Limits!B382=\"\",\"\",Deviation_Limits!B382)","v":""},{"$f":"IF(Deviation_Limits!C382=\"\",\"\",Deviation_Limits!C382)","v":""},{"$f":"IF(Deviation_Limits!D382=\"\",\"\",Deviation_Limits!D382)","v":""},"",{"$f":"IF(COUNTIF(AQ$2:AQ360,AQ360)=1,AQ360,\"\")","v":""},"","","",null,{"$f":"+IF(BD360=\"\",\"\",MAX(AY$1:AY359)+1)","v":""},{"$f":"IF(Deviation_CEM_CPMS!B382=\"\",\"\",Deviation_CEM_CPMS!B382)","v":""},{"$f":"IF(Deviation_CEM_CPMS!C382=\"\",\"\",Deviation_CEM_CPMS!C382)","v":""},{"$f":"IF(Deviation_CEM_CPMS!D382=\"\",\"\",Deviation_CEM_CPMS!D382)","v":""},"",{"$f":"IF(COUNTIF(BA$2:BA360,BA360)=1,BA360,\"\")","v":""},"","",""]
[{"$f":"IF(B361=\"\",\"\",MAX(A$1:A360)+1)","v":""},{"$f":"+IF(CPMS_Identification!C383=\"\",\"\",CPMS_Identification!C383)","v":""},"",null,{"$f":"IF(F361=\"\",\"\",MAX(E$1:E360)+1)","v":""},{"$f":"IF(Landfill_Gas_ID!C383=\"\",\"\",Landfill_Gas_ID!C383)","v":""},"",null,{"$f":"IF(J361=\"\",\"\",MAX(I$1:I360)+1)","v":""},{"$f":"IF(Distillate_Oil!C383=\"\",\"\",Distillate_Oil!C383)","v":""},"",null,null,null,null,null,null,null,null,null,null,null,null,null,null,null,{"$f":"+IF(AE361=\"\",\"\",MAX(AA$1:AA360)+1)","v":""},{"$f":"IF(Deviation_Limits!B383=\"\",\"\",Deviation_Limits!B383)","v":""},{"$f":"IF(Deviation_Limits!C383=\"\",\"\",Deviation_Limits!C383)","v":""},"",{"$f":"IF(COUNTIF(AC$2:AC361,AC361)=1,AC361,\"\")","v":""},"","",null,null,null,null,null,null,null,{"$f":"+IF(AT361=\"\",\"\",MAX(AO$1:AO360)+1)","v":""},{"$f":"IF(Deviation_Limits!B383=\"\",\"\",Deviation_Limits!B383)","v":""},{"$f":"IF(Deviation_Limits!C383=\"\",\"\",Deviation_Limits!C383)","v":""},{"$f":"IF(Deviation_Limits!D383=\"\",\"\",Deviation_Limits!D383)","v":""},"",{"$f":"IF(COUNTIF(AQ$2:AQ361,AQ361)=1,AQ361,\"\")","v":""},"","","",null,{"$f":"+IF(BD361=\"\",\"\",MAX(AY$1:AY360)+1)","v":""},{"$f":"IF(Deviation_CEM_CPMS!B383=\"\",\"\",Deviation_CEM_CPMS!B383)","v":""},{"$f":"IF(Deviation_CEM_CPMS!C383=\"\",\"\",Deviation_CEM_CPMS!C383)","v":""},{"$f":"IF(Deviation_CEM_CPMS!D383=\"\",\"\",Deviation_CEM_CPMS!D383)","v":""},"",{"$f":"IF(COUNTIF(BA$2:BA361,BA361)=1,BA361,\"\")","v":""},"","",""]
[{"$f":"IF(B362=\"\",\"\",MAX(A$1:A361)+1)","v":""},{"$f":"+IF(CPMS_Identification!C384=\"\",\"\",CPMS_Identification!C384)","v":""},"",null,{"$f":"IF(F362=\"\",\"\",MAX(E$1:E361)+1)","v":""},{"$f":"IF(Landfill_Gas_ID!C384=\"\",\"\",Landfill_Gas_ID!C384)","v":""},"",null,{"$f":"IF(J362=\"\",\"\",MAX(I$1:I361)+1)","v":""},{"$f":"IF(Distillate_Oil!C384=\"\",\"\",Distillate_Oil!C384)","v":""},"",null,null,null,null,null,null,null,null,null,null,null,null,null,null,null,{"$f":"+IF(AE362=\"\",\"\",MAX(AA$1:AA361)+1)","v":""},{"$f":"IF(Deviation_Limits!B384=\"\",\"\",Deviation_Limits!B384)","v":""},{"$f":"IF(Deviation_Limits!C384=\"\",\"\",Deviation_Limits!C384)","v":""},"",{"$f":"IF(COUNTIF(AC$2:AC362,AC362)=1,AC362,\"\")","v":""},"","",null,null,null,null,null,null,null,{"$f":"+IF(AT362=\"\",\"\",MAX(AO$1:AO361)+1)","v":""},{"$f":"IF(Deviation_Limits!B384=\"\",\"\",Deviation_Limits!B384)","v":""},{"$f":"IF(Deviation_Limits!C384=\"\",\"\",Deviation_Limits!C384)","v":""},{"$f":"IF(Deviation_Limits!D384=\"\",\"\",Deviation_Limits!D384)","v":""},"",{"$f":"IF(COUNTIF(AQ$2:AQ362,AQ362)=1,AQ362,\"\")","v":""},"","","",null,{"$f":"+IF(BD362=\"\",\"\",MAX(AY$1:AY361)+1)","v":""},{"$f":"IF(Deviation_CEM_CPMS!B384=\"\",\"\",Deviation_CEM_CPMS!B384)","v":""},{"$f":"IF(Deviation_CEM_CPMS!C384=\"\",\"\",Deviation_CEM_CPMS!C384)","v":""},{"$f":"IF(Deviation_CEM_CPMS!D384=\"\",\"\",Deviation_CEM_CPMS!D384)","v":""},"",{"$f":"IF(COUNTIF(BA$2:BA362,BA362)=1,BA362,\"\")","v":""},"","",""]
[{"$f":"IF(B363=\"\",\"\",MAX(A$1:A362)+1)","v":""},{"$f":"+IF(CPMS_Identification!C385=\"\",\"\",CPMS_Identification!C385)","v":""},"",null,{"$f":"IF(F363=\"\",\"\",MAX(E$1:E362)+1)","v":""},{"$f":"IF(Landfill_Gas_ID!C385=\"\",\"\",Landfill_Gas_ID!C385)","v":""},"",null,{"$f":"IF(J363=\"\",\"\",MAX(I$1:I362)+1)","v":""},{"$f":"IF(Distillate_Oil!C385=\"\",\"\",Distillate_Oil!C385)","v":""},"",null,null,null,null,null,null,null,null,null,null,null,null,null,null,null,{"$f":"+IF(AE363=\"\",\"\",MAX(AA$1:AA362)+1)","v":""},{"$f":"IF(Deviation_Limits!B385=\"\",\"\",Deviation_Limits!B385)","v":""},{"$f":"IF(Deviation_Limits!C385=\"\",\"\",Deviation_Limits!C385)","v":""},"",{"$f":"IF(COUNTIF(AC$2:AC363,AC363)=1,AC363,\"\")","v":""},"","",null,null,null,null,null,null,null,{"$f":"+IF(AT363=\"\",\"\",MAX(AO$1:AO362)+1)","v":""},{"$f":"IF(Deviation_Limits!B385=\"\",\"\",Deviation_Limits!B385)","v":""},{"$f":"IF(Deviation_Limits!C385=\"\",\"\",Deviation_Limits!C385)","v":""},{"$f":"IF(Deviation_Limits!D385=\"\",\"\",Deviation_Limits!D385)","v":""},"",{"$f":"IF(COUNTIF(AQ$2:AQ363,AQ363)=1,AQ363,\"\")","v":""},"","","",null,{"$f":"+IF(BD363=\"\",\"\",MAX(AY$1:AY362)+1)","v":""},{"$f":"IF(Deviation_CEM_CPMS!B385=\"\",\"\",Deviation_CEM_CPMS!B385)","v":""},{"$f":"IF(Deviation_CEM_CPMS!C385=\"\",\"\",Deviation_CEM_CPMS!C385)","v":""},{"$f":"IF(Deviation_CEM_CPMS!D385=\"\",\"\",Deviation_CEM_CPMS!D385)","v":""},"",{"$f":"IF(COUNTIF(BA$2:BA363,BA363)=1,BA363,\"\")","v":""},"","",""]
[{"$f":"IF(B364=\"\",\"\",MAX(A$1:A363)+1)","v":""},{"$f":"+IF(CPMS_Identification!C386=\"\",\"\",CPMS_Identification!C386)","v":""},"",null,{"$f":"IF(F364=\"\",\"\",MAX(E$1:E363)+1)","v":""},{"$f":"IF(Landfill_Gas_ID!C386=\"\",\"\",Landfill_Gas_ID!C386)","v":""},"",null,{"$f":"IF(J364=\"\",\"\",MAX(I$1:I363)+1)","v":""},{"$f":"IF(Distillate_Oil!C386=\"\",\"\",Distillate_Oil!C386)","v":""},"",null,null,null,null,null,null,null,null,null,null,null,null,null,null,null,{"$f":"+IF(AE364=\"\",\"\",MAX(AA$1:AA363)+1)","v":""},{"$f":"IF(Deviation_Limits!B386=\"\",\"\",Deviation_Limits!B386)","v":""},{"$f":"IF(Deviation_Limits!C386=\"\",\"\",Deviation_Limits!C386)","v":""},"",{"$f":"IF(COUNTIF(AC$2:AC364,AC364)=1,AC364,\"\")","v":""},"","",null,null,null,null,null,null,null,{"$f":"+IF(AT364=\"\",\"\",MAX(AO$1:AO363)+1)","v":""},{"$f":"IF(Deviation_Limits!B386=\"\",\"\",Deviation_Limits!B386)","v":""},{"$f":"IF(Deviation_Limits!C386=\"\",\"\",Deviation_Limits!C386)","v":""},{"$f":"IF(Deviation_Limits!D386=\"\",\"\",Deviation_Limits!D386)","v":""},"",{"$f":"IF(COUNTIF(AQ$2:AQ364,AQ364)=1,AQ364,\"\")","v":""},"","","",null,{"$f":"+IF(BD364=\"\",\"\",MAX(AY$1:AY363)+1)","v":""},{"$f":"IF(Deviation_CEM_CPMS!B386=\"\",\"\",Deviation_CEM_CPMS!B386)","v":""},{"$f":"IF(Deviation_CEM_CPMS!C386=\"\",\"\",Deviation_CEM_CPMS!C386)","v":""},{"$f":"IF(Deviation_CEM_CPMS!D386=\"\",\"\",Deviation_CEM_CPMS!D386)","v":""},"",{"$f":"IF(COUNTIF(BA$2:BA364,BA364)=1,BA364,\"\")","v":""},"","",""]
[{"$f":"IF(B365=\"\",\"\",MAX(A$1:A364)+1)","v":""},{"$f":"+IF(CPMS_Identification!C387=\"\",\"\",CPMS_Identification!C387)","v":""},"",null,{"$f":"IF(F365=\"\",\"\",MAX(E$1:E364)+1)","v":""},{"$f":"IF(Landfill_Gas_ID!C387=\"\",\"\",Landfill_Gas_ID!C387)","v":""},"",null,{"$f":"IF(J365=\"\",\"\",MAX(I$1:I364)+1)","v":""},{"$f":"IF(Distillate_Oil!C387=\"\",\"\",Distillate_Oil!C387)","v":""},"",null,null,null,null,null,null,null,null,null,null,null,null,null,null,null,{"$f":"+IF(AE365=\"\",\"\",MAX(AA$1:AA364)+1)","v":""},{"$f":"IF(Deviation_Limits!B387=\"\",\"\",Deviation_Limits!B387)","v":""},{"$f":"IF(Deviation_Limits!C387=\"\",\"\",Deviation_Limits!C387)","v":""},"",{"$f":"IF(COUNTIF(AC$2:AC365,AC365)=1,AC365,\"\")","v":""},"","",null,null,null,null,null,null,null,{"$f":"+IF(AT365=\"\",\"\",MAX(AO$1:AO364)+1)","v":""},{"$f":"IF(Deviation_Limits!B387=\"\",\"\",Deviation_Limits!B387)","v":""},{"$f":"IF(Deviation_Limits!C387=\"\",\"\",Deviation_Limits!C387)","v":""},{"$f":"IF(Deviation_Limits!D387=\"\",\"\",Deviation_Limits!D387)","v":""},"",{"$f":"IF(COUNTIF(AQ$2:AQ365,AQ365)=1,AQ365,\"\")","v":""},"","","",null,{"$f":"+IF(BD365=\"\",\"\",MAX(AY$1:AY364)+1)","v":""},{"$f":"IF(Deviation_CEM_CPMS!B387=\"\",\"\",Deviation_CEM_CPMS!B387)","v":""},{"$f":"IF(Deviation_CEM_CPMS!C387=\"\",\"\",Deviation_CEM_CPMS!C387)","v":""},{"$f":"IF(Deviation_CEM_CPMS!D387=\"\",\"\",Deviation_CEM_CPMS!D387)","v":""},"",{"$f":"IF(COUNTIF(BA$2:BA365,BA365)=1,BA365,\"\")","v":""},"","",""]
[{"$f":"IF(B366=\"\",\"\",MAX(A$1:A365)+1)","v":""},{"$f":"+IF(CPMS_Identification!C388=\"\",\"\",CPMS_Identification!C388)","v":""},"",null,{"$f":"IF(F366=\"\",\"\",MAX(E$1:E365)+1)","v":""},{"$f":"IF(Landfill_Gas_ID!C388=\"\",\"\",Landfill_Gas_ID!C388)","v":""},"",null,{"$f":"IF(J366=\"\",\"\",MAX(I$1:I365)+1)","v":""},{"$f":"IF(Distillate_Oil!C388=\"\",\"\",Distillate_Oil!C388)","v":""},"",null,null,null,null,null,null,null,null,null,null,null,null,null,null,null,{"$f":"+IF(AE366=\"\",\"\",MAX(AA$1:AA365)+1)","v":""},{"$f":"IF(Deviation_Limits!B388=\"\",\"\",Deviation_Limits!B388)","v":""},{"$f":"IF(Deviation_Limits!C388=\"\",\"\",Deviation_Limits!C388)","v":""},"",{"$f":"IF(COUNTIF(AC$2:AC366,AC366)=1,AC366,\"\")","v":""},"","",null,null,null,null,null,null,null,{"$f":"+IF(AT366=\"\",\"\",MAX(AO$1:AO365)+1)","v":""},{"$f":"IF(Deviation_Limits!B388=\"\",\"\",Deviation_Limits!B388)","v":""},{"$f":"IF(Deviation_Limits!C388=\"\",\"\",Deviation_Limits!C388)","v":""},{"$f":"IF(Deviation_Limits!D388=\"\",\"\",Deviation_Limits!D388)","v":""},"",{"$f":"IF(COUNTIF(AQ$2:AQ366,AQ366)=1,AQ366,\"\")","v":""},"","","",null,{"$f":"+IF(BD366=\"\",\"\",MAX(AY$1:AY365)+1)","v":""},{"$f":"IF(Deviation_CEM_CPMS!B388=\"\",\"\",Deviation_CEM_CPMS!B388)","v":""},{"$f":"IF(Deviation_CEM_CPMS!C388=\"\",\"\",Deviation_CEM_CPMS!C388)","v":""},{"$f":"IF(Deviation_CEM_CPMS!D388=\"\",\"\",Deviation_CEM_CPMS!D388)","v":""},"",{"$f":"IF(COUNTIF(BA$2:BA366,BA366)=1,BA366,\"\")","v":""},"","",""]
[{"$f":"IF(B367=\"\",\"\",MAX(A$1:A366)+1)","v":""},{"$f":"+IF(CPMS_Identification!C389=\"\",\"\",CPMS_Identification!C389)","v":""},"",null,{"$f":"IF(F367=\"\",\"\",MAX(E$1:E366)+1)","v":""},{"$f":"IF(Landfill_Gas_ID!C389=\"\",\"\",Landfill_Gas_ID!C389)","v":""},"",null,{"$f":"IF(J367=\"\",\"\",MAX(I$1:I366)+1)","v":""},{"$f":"IF(Distillate_Oil!C389=\"\",\"\",Distillate_Oil!C389)","v":""},"",null,null,null,null,null,null,null,null,null,null,null,null,null,null,null,{"$f":"+IF(AE367=\"\",\"\",MAX(AA$1:AA366)+1)","v":""},{"$f":"IF(Deviation_Limits!B389=\"\",\"\",Deviation_Limits!B389)","v":""},{"$f":"IF(Deviation_Limits!C389=\"\",\"\",Deviation_Limits!C389)","v":""},"",{"$f":"IF(COUNTIF(AC$2:AC367,AC367)=1,AC367,\"\")","v":""},"","",null,null,null,null,null,null,null,{"$f":"+IF(AT367=\"\",\"\",MAX(AO$1:AO366)+1)","v":""},{"$f":"IF(Deviation_Limits!B389=\"\",\"\",Deviation_Limits!B389)","v":""},{"$f":"IF(Deviation_Limits!C389=\"\",\"\",Deviation_Limits!C389)","v":""},{"$f":"IF(Deviation_Limits!D389=\"\",\"\",Deviation_Limits!D389)","v":""},"",{"$f":"IF(COUNTIF(AQ$2:AQ367,AQ367)=1,AQ367,\"\")","v":""},"","","",null,{"$f":"+IF(BD367=\"\",\"\",MAX(AY$1:AY366)+1)","v":""},{"$f":"IF(Deviation_CEM_CPMS!B389=\"\",\"\",Deviation_CEM_CPMS!B389)","v":""},{"$f":"IF(Deviation_CEM_CPMS!C389=\"\",\"\",Deviation_CEM_CPMS!C389)","v":""},{"$f":"IF(Deviation_CEM_CPMS!D389=\"\",\"\",Deviation_CEM_CPMS!D389)","v":""},"",{"$f":"IF(COUNTIF(BA$2:BA367,BA367)=1,BA367,\"\")","v":""},"","",""]
[{"$f":"IF(B368=\"\",\"\",MAX(A$1:A367)+1)","v":""},{"$f":"+IF(CPMS_Identification!C390=\"\",\"\",CPMS_Identification!C390)","v":""},"",null,{"$f":"IF(F368=\"\",\"\",MAX(E$1:E367)+1)","v":""},{"$f":"IF(Landfill_Gas_ID!C390=\"\",\"\",Landfill_Gas_ID!C390)","v":""},"",null,{"$f":"IF(J368=\"\",\"\",MAX(I$1:I367)+1)","v":""},{"$f":"IF(Distillate_Oil!C390=\"\",\"\",Distillate_Oil!C390)","v":""},"",null,null,null,null,null,null,null,null,null,null,null,null,null,null,null,{"$f":"+IF(AE368=\"\",\"\",MAX(AA$1:AA367)+1)","v":""},{"$f":"IF(Deviation_Limits!B390=\"\",\"\",Deviation_Limits!B390)","v":""},{"$f":"IF(Deviation_Limits!C390=\"\",\"\",Deviation_Limits!C390)","v":""},"",{"$f":"IF(COUNTIF(AC$2:AC368,AC368)=1,AC368,\"\")","v":""},"","",null,null,null,null,null,null,null,{"$f":"+IF(AT368=\"\",\"\",MAX(AO$1:AO367)+1)","v":""},{"$f":"IF(Deviation_Limits!B390=\"\",\"\",Deviation_Limits!B390)","v":""},{"$f":"IF(Deviation_Limits!C390=\"\",\"\",Deviation_Limits!C390)","v":""},{"$f":"IF(Deviation_Limits!D390=\"\",\"\",Deviation_Limits!D390)","v":""},"",{"$f":"IF(COUNTIF(AQ$2:AQ368,AQ368)=1,AQ368,\"\")","v":""},"","","",null,{"$f":"+IF(BD368=\"\",\"\",MAX(AY$1:AY367)+1)","v":""},{"$f":"IF(Deviation_CEM_CPMS!B390=\"\",\"\",Deviation_CEM_CPMS!B390)","v":""},{"$f":"IF(Deviation_CEM_CPMS!C390=\"\",\"\",Deviation_CEM_CPMS!C390)","v":""},{"$f":"IF(Deviation_CEM_CPMS!D390=\"\",\"\",Deviation_CEM_CPMS!D390)","v":""},"",{"$f":"IF(COUNTIF(BA$2:BA368,BA368)=1,BA368,\"\")","v":""},"","",""]
[{"$f":"IF(B369=\"\",\"\",MAX(A$1:A368)+1)","v":""},{"$f":"+IF(CPMS_Identification!C391=\"\",\"\",CPMS_Identification!C391)","v":""},"",null,{"$f":"IF(F369=\"\",\"\",MAX(E$1:E368)+1)","v":""},{"$f":"IF(Landfill_Gas_ID!C391=\"\",\"\",Landfill_Gas_ID!C391)","v":""},"",null,{"$f":"IF(J369=\"\",\"\",MAX(I$1:I368)+1)","v":""},{"$f":"IF(Distillate_Oil!C391=\"\",\"\",Distillate_Oil!C391)","v":""},"",null,null,null,null,null,null,null,null,null,null,null,null,null,null,null,{"$f":"+IF(AE369=\"\",\"\",MAX(AA$1:AA368)+1)","v":""},{"$f":"IF(Deviation_Limits!B391=\"\",\"\",Deviation_Limits!B391)","v":""},{"$f":"IF(Deviation_Limits!C391=\"\",\"\",Deviation_Limits!C391)","v":""},"",{"$f":"IF(COUNTIF(AC$2:AC369,AC369)=1,AC369,\"\")","v":""},"","",null,null,null,null,null,null,null,{"$f":"+IF(AT369=\"\",\"\",MAX(AO$1:AO368)+1)","v":""},{"$f":"IF(Deviation_Limits!B391=\"\",\"\",Deviation_Limits!B391)","v":""},{"$f":"IF(Deviation_Limits!C391=\"\",\"\",Deviation_Limits!C391)","v":""},{"$f":"IF(Deviation_Limits!D391=\"\",\"\",Deviation_Limits!D391)","v":""},"",{"$f":"IF(COUNTIF(AQ$2:AQ369,AQ369)=1,AQ369,\"\")","v":""},"","","",null,{"$f":"+IF(BD369=\"\",\"\",MAX(AY$1:AY368)+1)","v":""},{"$f":"IF(Deviation_CEM_CPMS!B391=\"\",\"\",Deviation_CEM_CPMS!B391)","v":""},{"$f":"IF(Deviation_CEM_CPMS!C391=\"\",\"\",Deviation_CEM_CPMS!C391)","v":""},{"$f":"IF(Deviation_CEM_CPMS!D391=\"\",\"\",Deviation_CEM_CPMS!D391)","v":""},"",{"$f":"IF(COUNTIF(BA$2:BA369,BA369)=1,BA369,\"\")","v":""},"","",""]
[{"$f":"IF(B370=\"\",\"\",MAX(A$1:A369)+1)","v":""},{"$f":"+IF(CPMS_Identification!C392=\"\",\"\",CPMS_Identification!C392)","v":""},"",null,{"$f":"IF(F370=\"\",\"\",MAX(E$1:E369)+1)","v":""},{"$f":"IF(Landfill_Gas_ID!C392=\"\",\"\",Landfill_Gas_ID!C392)","v":""},"",null,{"$f":"IF(J370=\"\",\"\",MAX(I$1:I369)+1)","v":""},{"$f":"IF(Distillate_Oil!C392=\"\",\"\",Distillate_Oil!C392)","v":""},"",null,null,null,null,null,null,null,null,null,null,null,null,null,null,null,{"$f":"+IF(AE370=\"\",\"\",MAX(AA$1:AA369)+1)","v":""},{"$f":"IF(Deviation_Limits!B392=\"\",\"\",Deviation_Limits!B392)","v":""},{"$f":"IF(Deviation_Limits!C392=\"\",\"\",Deviation_Limits!C392)","v":""},"",{"$f":"IF(COUNTIF(AC$2:AC370,AC370)=1,AC370,\"\")","v":""},"","",null,null,null,null,null,null,null,{"$f":"+IF(AT370=\"\",\"\",MAX(AO$1:AO369)+1)","v":""},{"$f":"IF(Deviation_Limits!B392=\"\",\"\",Deviation_Limits!B392)","v":""},{"$f":"IF(Deviation_Limits!C392=\"\",\"\",Deviation_Limits!C392)","v":""},{"$f":"IF(Deviation_Limits!D392=\"\",\"\",Deviation_Limits!D392)","v":""},"",{"$f":"IF(COUNTIF(AQ$2:AQ370,AQ370)=1,AQ370,\"\")","v":""},"","","",null,{"$f":"+IF(BD370=\"\",\"\",MAX(AY$1:AY369)+1)","v":""},{"$f":"IF(Deviation_CEM_CPMS!B392=\"\",\"\",Deviation_CEM_CPMS!B392)","v":""},{"$f":"IF(Deviation_CEM_CPMS!C392=\"\",\"\",Deviation_CEM_CPMS!C392)","v":""},{"$f":"IF(Deviation_CEM_CPMS!D392=\"\",\"\",Deviation_CEM_CPMS!D392)","v":""},"",{"$f":"IF(COUNTIF(BA$2:BA370,BA370)=1,BA370,\"\")","v":""},"","",""]
[{"$f":"IF(B371=\"\",\"\",MAX(A$1:A370)+1)","v":""},{"$f":"+IF(CPMS_Identification!C393=\"\",\"\",CPMS_Identification!C393)","v":""},"",null,{"$f":"IF(F371=\"\",\"\",MAX(E$1:E370)+1)","v":""},{"$f":"IF(Landfill_Gas_ID!C393=\"\",\"\",Landfill_Gas_ID!C393)","v":""},"",null,{"$f":"IF(J371=\"\",\"\",MAX(I$1:I370)+1)","v":""},{"$f":"IF(Distillate_Oil!C393=\"\",\"\",Distillate_Oil!C393)","v":""},"",null,null,null,null,null,null,null,null,null,null,null,null,null,null,null,{"$f":"+IF(AE371=\"\",\"\",MAX(AA$1:AA370)+1)","v":""},{"$f":"IF(Deviation_Limits!B393=\"\",\"\",Deviation_Limits!B393)","v":""},{"$f":"IF(Deviation_Limits!C393=\"\",\"\",Deviation_Limits!C393)","v":""},"",{"$f":"IF(COUNTIF(AC$2:AC371,AC371)=1,AC371,\"\")","v":""},"","",null,null,null,null,null,null,null,{"$f":"+IF(AT371=\"\",\"\",MAX(AO$1:AO370)+1)","v":""},{"$f":"IF(Deviation_Limits!B393=\"\",\"\",Deviation_Limits!B393)","v":""},{"$f":"IF(Deviation_Limits!C393=\"\",\"\",Deviation_Limits!C393)","v":""},{"$f":"IF(Deviation_Limits!D393=\"\",\"\",Deviation_Limits!D393)","v":""},"",{"$f":"IF(COUNTIF(AQ$2:AQ371,AQ371)=1,AQ371,\"\")","v":""},"","","",null,{"$f":"+IF(BD371=\"\",\"\",MAX(AY$1:AY370)+1)","v":""},{"$f":"IF(Deviation_CEM_CPMS!B393=\"\",\"\",Deviation_CEM_CPMS!B393)","v":""},{"$f":"IF(Deviation_CEM_CPMS!C393=\"\",\"\",Deviation_CEM_CPMS!C393)","v":""},{"$f":"IF(Deviation_CEM_CPMS!D393=\"\",\"\",Deviation_CEM_CPMS!D393)","v":""},"",{"$f":"IF(COUNTIF(BA$2:BA371,BA371)=1,BA371,\"\")","v":""},"","",""]
[{"$f":"IF(B372=\"\",\"\",MAX(A$1:A371)+1)","v":""},{"$f":"+IF(CPMS_Identification!C394=\"\",\"\",CPMS_Identification!C394)","v":""},"",null,{"$f":"IF(F372=\"\",\"\",MAX(E$1:E371)+1)","v":""},{"$f":"IF(Landfill_Gas_ID!C394=\"\",\"\",Landfill_Gas_ID!C394)","v":""},"",null,{"$f":"IF(J372=\"\",\"\",MAX(I$1:I371)+1)","v":""},{"$f":"IF(Distillate_Oil!C394=\"\",\"\",Distillate_Oil!C394)","v":""},"",null,null,null,null,null,null,null,null,null,null,null,null,null,null,null,{"$f":"+IF(AE372=\"\",\"\",MAX(AA$1:AA371)+1)","v":""},{"$f":"IF(Deviation_Limits!B394=\"\",\"\",Deviation_Limits!B394)","v":""},{"$f":"IF(Deviation_Limits!C394=\"\",\"\",Deviation_Limits!C394)","v":""},"",{"$f":"IF(COUNTIF(AC$2:AC372,AC372)=1,AC372,\"\")","v":""},"","",null,null,null,null,null,null,null,{"$f":"+IF(AT372=\"\",\"\",MAX(AO$1:AO371)+1)","v":""},{"$f":"IF(Deviation_Limits!B394=\"\",\"\",Deviation_Limits!B394)","v":""},{"$f":"IF(Deviation_Limits!C394=\"\",\"\",Deviation_Limits!C394)","v":""},{"$f":"IF(Deviation_Limits!D394=\"\",\"\",Deviation_Limits!D394)","v":""},"",{"$f":"IF(COUNTIF(AQ$2:AQ372,AQ372)=1,AQ372,\"\")","v":""},"","","",null,{"$f":"+IF(BD372=\"\",\"\",MAX(AY$1:AY371)+1)","v":""},{"$f":"IF(Deviation_CEM_CPMS!B394=\"\",\"\",Deviation_CEM_CPMS!B394)","v":""},{"$f":"IF(Deviation_CEM_CPMS!C394=\"\",\"\",Deviation_CEM_CPMS!C394)","v":""},{"$f":"IF(Deviation_CEM_CPMS!D394=\"\",\"\",Deviation_CEM_CPMS!D394)","v":""},"",{"$f":"IF(COUNTIF(BA$2:BA372,BA372)=1,BA372,\"\")","v":""},"","",""]
[{"$f":"IF(B373=\"\",\"\",MAX(A$1:A372)+1)","v":""},{"$f":"+IF(CPMS_Identification!C395=\"\",\"\",CPMS_Identification!C395)","v":""},"",null,{"$f":"IF(F373=\"\",\"\",MAX(E$1:E372)+1)","v":""},{"$f":"IF(Landfill_Gas_ID!C395=\"\",\"\",Landfill_Gas_ID!C395)","v":""},"",null,{"$f":"IF(J373=\"\",\"\",MAX(I$1:I372)+1)","v":""},{"$f":"IF(Distillate_Oil!C395=\"\",\"\",Distillate_Oil!C395)","v":""},"",null,null,null,null,null,null,null,null,null,null,null,null,null,null,null,{"$f":"+IF(AE373=\"\",\"\",MAX(AA$1:AA372)+1)","v":""},{"$f":"IF(Deviation_Limits!B395=\"\",\"\",Deviation_Limits!B395)","v":""},{"$f":"IF(Deviation_Limits!C395=\"\",\"\",Deviation_Limits!C395)","v":""},"",{"$f":"IF(COUNTIF(AC$2:AC373,AC373)=1,AC373,\"\")","v":""},"","",null,null,null,null,null,null,null,{"$f":"+IF(AT373=\"\",\"\",MAX(AO$1:AO372)+1)","v":""},{"$f":"IF(Deviation_Limits!B395=\"\",\"\",Deviation_Limits!B395)","v":""},{"$f":"IF(Deviation_Limits!C395=\"\",\"\",Deviation_Limits!C395)","v":""},{"$f":"IF(Deviation_Limits!D395=\"\",\"\",Deviation_Limits!D395)","v":""},"",{"$f":"IF(COUNTIF(AQ$2:AQ373,AQ373)=1,AQ373,\"\")","v":""},"","","",null,{"$f":"+IF(BD373=\"\",\"\",MAX(AY$1:AY372)+1)","v":""},{"$f":"IF(Deviation_CEM_CPMS!B395=\"\",\"\",Deviation_CEM_CPMS!B395)","v":""},{"$f":"IF(Deviation_CEM_CPMS!C395=\"\",\"\",Deviation_CEM_CPMS!C395)","v":""},{"$f":"IF(Deviation_CEM_CPMS!D395=\"\",\"\",Deviation_CEM_CPMS!D395)","v":""},"",{"$f":"IF(COUNTIF(BA$2:BA373,BA373)=1,BA373,\"\")","v":""},"","",""]
[{"$f":"IF(B374=\"\",\"\",MAX(A$1:A373)+1)","v":""},{"$f":"+IF(CPMS_Identification!C396=\"\",\"\",CPMS_Identification!C396)","v":""},"",null,{"$f":"IF(F374=\"\",\"\",MAX(E$1:E373)+1)","v":""},{"$f":"IF(Landfill_Gas_ID!C396=\"\",\"\",Landfill_Gas_ID!C396)","v":""},"",null,{"$f":"IF(J374=\"\",\"\",MAX(I$1:I373)+1)","v":""},{"$f":"IF(Distillate_Oil!C396=\"\",\"\",Distillate_Oil!C396)","v":""},"",null,null,null,null,null,null,null,null,null,null,null,null,null,null,null,{"$f":"+IF(AE374=\"\",\"\",MAX(AA$1:AA373)+1)","v":""},{"$f":"IF(Deviation_Limits!B396=\"\",\"\",Deviation_Limits!B396)","v":""},{"$f":"IF(Deviation_Limits!C396=\"\",\"\",Deviation_Limits!C396)","v":""},"",{"$f":"IF(COUNTIF(AC$2:AC374,AC374)=1,AC374,\"\")","v":""},"","",null,null,null,null,null,null,null,{"$f":"+IF(AT374=\"\",\"\",MAX(AO$1:AO373)+1)","v":""},{"$f":"IF(Deviation_Limits!B396=\"\",\"\",Deviation_Limits!B396)","v":""},{"$f":"IF(Deviation_Limits!C396=\"\",\"\",Deviation_Limits!C396)","v":""},{"$f":"IF(Deviation_Limits!D396=\"\",\"\",Deviation_Limits!D396)","v":""},"",{"$f":"IF(COUNTIF(AQ$2:AQ374,AQ374)=1,AQ374,\"\")","v":""},"","","",null,{"$f":"+IF(BD374=\"\",\"\",MAX(AY$1:AY373)+1)","v":""},{"$f":"IF(Deviation_CEM_CPMS!B396=\"\",\"\",Deviation_CEM_CPMS!B396)","v":""},{"$f":"IF(Deviation_CEM_CPMS!C396=\"\",\"\",Deviation_CEM_CPMS!C396)","v":""},{"$f":"IF(Deviation_CEM_CPMS!D396=\"\",\"\",Deviation_CEM_CPMS!D396)","v":""},"",{"$f":"IF(COUNTIF(BA$2:BA374,BA374)=1,BA374,\"\")","v":""},"","",""]
[{"$f":"IF(B375=\"\",\"\",MAX(A$1:A374)+1)","v":""},{"$f":"+IF(CPMS_Identification!C397=\"\",\"\",CPMS_Identification!C397)","v":""},"",null,{"$f":"IF(F375=\"\",\"\",MAX(E$1:E374)+1)","v":""},{"$f":"IF(Landfill_Gas_ID!C397=\"\",\"\",Landfill_Gas_ID!C397)","v":""},"",null,{"$f":"IF(J375=\"\",\"\",MAX(I$1:I374)+1)","v":""},{"$f":"IF(Distillate_Oil!C397=\"\",\"\",Distillate_Oil!C397)","v":""},"",null,null,null,null,null,null,null,null,null,null,null,null,null,null,null,{"$f":"+IF(AE375=\"\",\"\",MAX(AA$1:AA374)+1)","v":""},{"$f":"IF(Deviation_Limits!B397=\"\",\"\",Deviation_Limits!B397)","v":""},{"$f":"IF(Deviation_Limits!C397=\"\",\"\",Deviation_Limits!C397)","v":""},"",{"$f":"IF(COUNTIF(AC$2:AC375,AC375)=1,AC375,\"\")","v":""},"","",null,null,null,null,null,null,null,{"$f":"+IF(AT375=\"\",\"\",MAX(AO$1:AO374)+1)","v":""},{"$f":"IF(Deviation_Limits!B397=\"\",\"\",Deviation_Limits!B397)","v":""},{"$f":"IF(Deviation_Limits!C397=\"\",\"\",Deviation_Limits!C397)","v":""},{"$f":"IF(Deviation_Limits!D397=\"\",\"\",Deviation_Limits!D397)","v":""},"",{"$f":"IF(COUNTIF(AQ$2:AQ375,AQ375)=1,AQ375,\"\")","v":""},"","","",null,{"$f":"+IF(BD375=\"\",\"\",MAX(AY$1:AY374)+1)","v":""},{"$f":"IF(Deviation_CEM_CPMS!B397=\"\",\"\",Deviation_CEM_CPMS!B397)","v":""},{"$f":"IF(Deviation_CEM_CPMS!C397=\"\",\"\",Deviation_CEM_CPMS!C397)","v":""},{"$f":"IF(Deviation_CEM_CPMS!D397=\"\",\"\",Deviation_CEM_CPMS!D397)","v":""},"",{"$f":"IF(COUNTIF(BA$2:BA375,BA375)=1,BA375,\"\")","v":""},"","",""]
[{"$f":"IF(B376=\"\",\"\",MAX(A$1:A375)+1)","v":""},{"$f":"+IF(CPMS_Identification!C398=\"\",\"\",CPMS_Identification!C398)","v":""},"",null,{"$f":"IF(F376=\"\",\"\",MAX(E$1:E375)+1)","v":""},{"$f":"IF(Landfill_Gas_ID!C398=\"\",\"\",Landfill_Gas_ID!C398)","v":""},"",null,{"$f":"IF(J376=\"\",\"\",MAX(I$1:I375)+1)","v":""},{"$f":"IF(Distillate_Oil!C398=\"\",\"\",Distillate_Oil!C398)","v":""},"",null,null,null,null,null,null,null,null,null,null,null,null,null,null,null,{"$f":"+IF(AE376=\"\",\"\",MAX(AA$1:AA375)+1)","v":""},{"$f":"IF(Deviation_Limits!B398=\"\",\"\",Deviation_Limits!B398)","v":""},{"$f":"IF(Deviation_Limits!C398=\"\",\"\",Deviation_Limits!C398)","v":""},"",{"$f":"IF(COUNTIF(AC$2:AC376,AC376)=1,AC376,\"\")","v":""},"","",null,null,null,null,null,null,null,{"$f":"+IF(AT376=\"\",\"\",MAX(AO$1:AO375)+1)","v":""},{"$f":"IF(Deviation_Limits!B398=\"\",\"\",Deviation_Limits!B398)","v":""},{"$f":"IF(Deviation_Limits!C398=\"\",\"\",Deviation_Limits!C398)","v":""},{"$f":"IF(Deviation_Limits!D398=\"\",\"\",Deviation_Limits!D398)","v":""},"",{"$f":"IF(COUNTIF(AQ$2:AQ376,AQ376)=1,AQ376,\"\")","v":""},"","","",null,{"$f":"+IF(BD376=\"\",\"\",MAX(AY$1:AY375)+1)","v":""},{"$f":"IF(Deviation_CEM_CPMS!B398=\"\",\"\",Deviation_CEM_CPMS!B398)","v":""},{"$f":"IF(Deviation_CEM_CPMS!C398=\"\",\"\",Deviation_CEM_CPMS!C398)","v":""},{"$f":"IF(Deviation_CEM_CPMS!D398=\"\",\"\",Deviation_CEM_CPMS!D398)","v":""},"",{"$f":"IF(COUNTIF(BA$2:BA376,BA376)=1,BA376,\"\")","v":""},"","",""]
[{"$f":"IF(B377=\"\",\"\",MAX(A$1:A376)+1)","v":""},{"$f":"+IF(CPMS_Identification!C399=\"\",\"\",CPMS_Identification!C399)","v":""},"",null,{"$f":"IF(F377=\"\",\"\",MAX(E$1:E376)+1)","v":""},{"$f":"IF(Landfill_Gas_ID!C399=\"\",\"\",Landfill_Gas_ID!C399)","v":""},"",null,{"$f":"IF(J377=\"\",\"\",MAX(I$1:I376)+1)","v":""},{"$f":"IF(Distillate_Oil!C399=\"\",\"\",Distillate_Oil!C399)","v":""},"",null,null,null,null,null,null,null,null,null,null,null,null,null,null,null,{"$f":"+IF(AE377=\"\",\"\",MAX(AA$1:AA376)+1)","v":""},{"$f":"IF(Deviation_Limits!B399=\"\",\"\",Deviation_Limits!B399)","v":""},{"$f":"IF(Deviation_Limits!C399=\"\",\"\",Deviation_Limits!C399)","v":""},"",{"$f":"IF(COUNTIF(AC$2:AC377,AC377)=1,AC377,\"\")","v":""},"","",null,null,null,null,null,null,null,{"$f":"+IF(AT377=\"\",\"\",MAX(AO$1:AO376)+1)","v":""},{"$f":"IF(Deviation_Limits!B399=\"\",\"\",Deviation_Limits!B399)","v":""},{"$f":"IF(Deviation_Limits!C399=\"\",\"\",Deviation_Limits!C399)","v":""},{"$f":"IF(Deviation_Limits!D399=\"\",\"\",Deviation_Limits!D399)","v":""},"",{"$f":"IF(COUNTIF(AQ$2:AQ377,AQ377)=1,AQ377,\"\")","v":""},"","","",null,{"$f":"+IF(BD377=\"\",\"\",MAX(AY$1:AY376)+1)","v":""},{"$f":"IF(Deviation_CEM_CPMS!B399=\"\",\"\",Deviation_CEM_CPMS!B399)","v":""},{"$f":"IF(Deviation_CEM_CPMS!C399=\"\",\"\",Deviation_CEM_CPMS!C399)","v":""},{"$f":"IF(Deviation_CEM_CPMS!D399=\"\",\"\",Deviation_CEM_CPMS!D399)","v":""},"",{"$f":"IF(COUNTIF(BA$2:BA377,BA377)=1,BA377,\"\")","v":""},"","",""]
[{"$f":"IF(B378=\"\",\"\",MAX(A$1:A377)+1)","v":""},{"$f":"+IF(CPMS_Identification!C400=\"\",\"\",CPMS_Identification!C400)","v":""},"",null,{"$f":"IF(F378=\"\",\"\",MAX(E$1:E377)+1)","v":""},{"$f":"IF(Landfill_Gas_ID!C400=\"\",\"\",Landfill_Gas_ID!C400)","v":""},"",null,{"$f":"IF(J378=\"\",\"\",MAX(I$1:I377)+1)","v":""},{"$f":"IF(Distillate_Oil!C400=\"\",\"\",Distillate_Oil!C400)","v":""},"",null,null,null,null,null,null,null,null,null,null,null,null,null,null,null,{"$f":"+IF(AE378=\"\",\"\",MAX(AA$1:AA377)+1)","v":""},{"$f":"IF(Deviation_Limits!B400=\"\",\"\",Deviation_Limits!B400)","v":""},{"$f":"IF(Deviation_Limits!C400=\"\",\"\",Deviation_Limits!C400)","v":""},"",{"$f":"IF(COUNTIF(AC$2:AC378,AC378)=1,AC378,\"\")","v":""},"","",null,null,null,null,null,null,null,{"$f":"+IF(AT378=\"\",\"\",MAX(AO$1:AO377)+1)","v":""},{"$f":"IF(Deviation_Limits!B400=\"\",\"\",Deviation_Limits!B400)","v":""},{"$f":"IF(Deviation_Limits!C400=\"\",\"\",Deviation_Limits!C400)","v":""},{"$f":"IF(Deviation_Limits!D400=\"\",\"\",Deviation_Limits!D400)","v":""},"",{"$f":"IF(COUNTIF(AQ$2:AQ378,AQ378)=1,AQ378,\"\")","v":""},"","","",null,{"$f":"+IF(BD378=\"\",\"\",MAX(AY$1:AY377)+1)","v":""},{"$f":"IF(Deviation_CEM_CPMS!B400=\"\",\"\",Deviation_CEM_CPMS!B400)","v":""},{"$f":"IF(Deviation_CEM_CPMS!C400=\"\",\"\",Deviation_CEM_CPMS!C400)","v":""},{"$f":"IF(Deviation_CEM_CPMS!D400=\"\",\"\",Deviation_CEM_CPMS!D400)","v":""},"",{"$f":"IF(COUNTIF(BA$2:BA378,BA378)=1,BA378,\"\")","v":""},"","",""]
[{"$f":"IF(B379=\"\",\"\",MAX(A$1:A378)+1)","v":""},{"$f":"+IF(CPMS_Identification!C401=\"\",\"\",CPMS_Identification!C401)","v":""},"",null,{"$f":"IF(F379=\"\",\"\",MAX(E$1:E378)+1)","v":""},{"$f":"IF(Landfill_Gas_ID!C401=\"\",\"\",Landfill_Gas_ID!C401)","v":""},"",null,{"$f":"IF(J379=\"\",\"\",MAX(I$1:I378)+1)","v":""},{"$f":"IF(Distillate_Oil!C401=\"\",\"\",Distillate_Oil!C401)","v":""},"",null,null,null,null,null,null,null,null,null,null,null,null,null,null,null,{"$f":"+IF(AE379=\"\",\"\",MAX(AA$1:AA378)+1)","v":""},{"$f":"IF(Deviation_Limits!B401=\"\",\"\",Deviation_Limits!B401)","v":""},{"$f":"IF(Deviation_Limits!C401=\"\",\"\",Deviation_Limits!C401)","v":""},"",{"$f":"IF(COUNTIF(AC$2:AC379,AC379)=1,AC379,\"\")","v":""},"","",null,null,null,null,null,null,null,{"$f":"+IF(AT379=\"\",\"\",MAX(AO$1:AO378)+1)","v":""},{"$f":"IF(Deviation_Limits!B401=\"\",\"\",Deviation_Limits!B401)","v":""},{"$f":"IF(Deviation_Limits!C401=\"\",\"\",Deviation_Limits!C401)","v":""},{"$f":"IF(Deviation_Limits!D401=\"\",\"\",Deviation_Limits!D401)","v":""},"",{"$f":"IF(COUNTIF(AQ$2:AQ379,AQ379)=1,AQ379,\"\")","v":""},"","","",null,{"$f":"+IF(BD379=\"\",\"\",MAX(AY$1:AY378)+1)","v":""},{"$f":"IF(Deviation_CEM_CPMS!B401=\"\",\"\",Deviation_CEM_CPMS!B401)","v":""},{"$f":"IF(Deviation_CEM_CPMS!C401=\"\",\"\",Deviation_CEM_CPMS!C401)","v":""},{"$f":"IF(Deviation_CEM_CPMS!D401=\"\",\"\",Deviation_CEM_CPMS!D401)","v":""},"",{"$f":"IF(COUNTIF(BA$2:BA379,BA379)=1,BA379,\"\")","v":""},"","",""]
[{"$f":"IF(B380=\"\",\"\",MAX(A$1:A379)+1)","v":""},{"$f":"+IF(CPMS_Identification!C402=\"\",\"\",CPMS_Identification!C402)","v":""},"",null,{"$f":"IF(F380=\"\",\"\",MAX(E$1:E379)+1)","v":""},{"$f":"IF(Landfill_Gas_ID!C402=\"\",\"\",Landfill_Gas_ID!C402)","v":""},"",null,{"$f":"IF(J380=\"\",\"\",MAX(I$1:I379)+1)","v":""},{"$f":"IF(Distillate_Oil!C402=\"\",\"\",Distillate_Oil!C402)","v":""},"",null,null,null,null,null,null,null,null,null,null,null,null,null,null,null,{"$f":"+IF(AE380=\"\",\"\",MAX(AA$1:AA379)+1)","v":""},{"$f":"IF(Deviation_Limits!B402=\"\",\"\",Deviation_Limits!B402)","v":""},{"$f":"IF(Deviation_Limits!C402=\"\",\"\",Deviation_Limits!C402)","v":""},"",{"$f":"IF(COUNTIF(AC$2:AC380,AC380)=1,AC380,\"\")","v":""},"","",null,null,null,null,null,null,null,{"$f":"+IF(AT380=\"\",\"\",MAX(AO$1:AO379)+1)","v":""},{"$f":"IF(Deviation_Limits!B402=\"\",\"\",Deviation_Limits!B402)","v":""},{"$f":"IF(Deviation_Limits!C402=\"\",\"\",Deviation_Limits!C402)","v":""},{"$f":"IF(Deviation_Limits!D402=\"\",\"\",Deviation_Limits!D402)","v":""},"",{"$f":"IF(COUNTIF(AQ$2:AQ380,AQ380)=1,AQ380,\"\")","v":""},"","","",null,{"$f":"+IF(BD380=\"\",\"\",MAX(AY$1:AY379)+1)","v":""},{"$f":"IF(Deviation_CEM_CPMS!B402=\"\",\"\",Deviation_CEM_CPMS!B402)","v":""},{"$f":"IF(Deviation_CEM_CPMS!C402=\"\",\"\",Deviation_CEM_CPMS!C402)","v":""},{"$f":"IF(Deviation_CEM_CPMS!D402=\"\",\"\",Deviation_CEM_CPMS!D402)","v":""},"",{"$f":"IF(COUNTIF(BA$2:BA380,BA380)=1,BA380,\"\")","v":""},"","",""]
[{"$f":"IF(B381=\"\",\"\",MAX(A$1:A380)+1)","v":""},{"$f":"+IF(CPMS_Identification!C403=\"\",\"\",CPMS_Identification!C403)","v":""},"",null,{"$f":"IF(F381=\"\",\"\",MAX(E$1:E380)+1)","v":""},{"$f":"IF(Landfill_Gas_ID!C403=\"\",\"\",Landfill_Gas_ID!C403)","v":""},"",null,{"$f":"IF(J381=\"\",\"\",MAX(I$1:I380)+1)","v":""},{"$f":"IF(Distillate_Oil!C403=\"\",\"\",Distillate_Oil!C403)","v":""},"",null,null,null,null,null,null,null,null,null,null,null,null,null,null,null,{"$f":"+IF(AE381=\"\",\"\",MAX(AA$1:AA380)+1)","v":""},{"$f":"IF(Deviation_Limits!B403=\"\",\"\",Deviation_Limits!B403)","v":""},{"$f":"IF(Deviation_Limits!C403=\"\",\"\",Deviation_Limits!C403)","v":""},"",{"$f":"IF(COUNTIF(AC$2:AC381,AC381)=1,AC381,\"\")","v":""},"","",null,null,null,null,null,null,null,{"$f":"+IF(AT381=\"\",\"\",MAX(AO$1:AO380)+1)","v":""},{"$f":"IF(Deviation_Limits!B403=\"\",\"\",Deviation_Limits!B403)","v":""},{"$f":"IF(Deviation_Limits!C403=\"\",\"\",Deviation_Limits!C403)","v":""},{"$f":"IF(Deviation_Limits!D403=\"\",\"\",Deviation_Limits!D403)","v":""},"",{"$f":"IF(COUNTIF(AQ$2:AQ381,AQ381)=1,AQ381,\"\")","v":""},"","","",null,{"$f":"+IF(BD381=\"\",\"\",MAX(AY$1:AY380)+1)","v":""},{"$f":"IF(Deviation_CEM_CPMS!B403=\"\",\"\",Deviation_CEM_CPMS!B403)","v":""},{"$f":"IF(Deviation_CEM_CPMS!C403=\"\",\"\",Deviation_CEM_CPMS!C403)","v":""},{"$f":"IF(Deviation_CEM_CPMS!D403=\"\",\"\",Deviation_CEM_CPMS!D403)","v":""},"",{"$f":"IF(COUNTIF(BA$2:BA381,BA381)=1,BA381,\"\")","v":""},"","",""]
[{"$f":"IF(B382=\"\",\"\",MAX(A$1:A381)+1)","v":""},{"$f":"+IF(CPMS_Identification!C404=\"\",\"\",CPMS_Identification!C404)","v":""},"",null,{"$f":"IF(F382=\"\",\"\",MAX(E$1:E381)+1)","v":""},{"$f":"IF(Landfill_Gas_ID!C404=\"\",\"\",Landfill_Gas_ID!C404)","v":""},"",null,{"$f":"IF(J382=\"\",\"\",MAX(I$1:I381)+1)","v":""},{"$f":"IF(Distillate_Oil!C404=\"\",\"\",Distillate_Oil!C404)","v":""},"",null,null,null,null,null,null,null,null,null,null,null,null,null,null,null,{"$f":"+IF(AE382=\"\",\"\",MAX(AA$1:AA381)+1)","v":""},{"$f":"IF(Deviation_Limits!B404=\"\",\"\",Deviation_Limits!B404)","v":""},{"$f":"IF(Deviation_Limits!C404=\"\",\"\",Deviation_Limits!C404)","v":""},"",{"$f":"IF(COUNTIF(AC$2:AC382,AC382)=1,AC382,\"\")","v":""},"","",null,null,null,null,null,null,null,{"$f":"+IF(AT382=\"\",\"\",MAX(AO$1:AO381)+1)","v":""},{"$f":"IF(Deviation_Limits!B404=\"\",\"\",Deviation_Limits!B404)","v":""},{"$f":"IF(Deviation_Limits!C404=\"\",\"\",Deviation_Limits!C404)","v":""},{"$f":"IF(Deviation_Limits!D404=\"\",\"\",Deviation_Limits!D404)","v":""},"",{"$f":"IF(COUNTIF(AQ$2:AQ382,AQ382)=1,AQ382,\"\")","v":""},"","","",null,{"$f":"+IF(BD382=\"\",\"\",MAX(AY$1:AY381)+1)","v":""},{"$f":"IF(Deviation_CEM_CPMS!B404=\"\",\"\",Deviation_CEM_CPMS!B404)","v":""},{"$f":"IF(Deviation_CEM_CPMS!C404=\"\",\"\",Deviation_CEM_CPMS!C404)","v":""},{"$f":"IF(Deviation_CEM_CPMS!D404=\"\",\"\",Deviation_CEM_CPMS!D404)","v":""},"",{"$f":"IF(COUNTIF(BA$2:BA382,BA382)=1,BA382,\"\")","v":""},"","",""]
[{"$f":"IF(B383=\"\",\"\",MAX(A$1:A382)+1)","v":""},{"$f":"+IF(CPMS_Identification!C405=\"\",\"\",CPMS_Identification!C405)","v":""},"",null,{"$f":"IF(F383=\"\",\"\",MAX(E$1:E382)+1)","v":""},{"$f":"IF(Landfill_Gas_ID!C405=\"\",\"\",Landfill_Gas_ID!C405)","v":""},"",null,{"$f":"IF(J383=\"\",\"\",MAX(I$1:I382)+1)","v":""},{"$f":"IF(Distillate_Oil!C405=\"\",\"\",Distillate_Oil!C405)","v":""},"",null,null,null,null,null,null,null,null,null,null,null,null,null,null,null,{"$f":"+IF(AE383=\"\",\"\",MAX(AA$1:AA382)+1)","v":""},{"$f":"IF(Deviation_Limits!B405=\"\",\"\",Deviation_Limits!B405)","v":""},{"$f":"IF(Deviation_Limits!C405=\"\",\"\",Deviation_Limits!C405)","v":""},"",{"$f":"IF(COUNTIF(AC$2:AC383,AC383)=1,AC383,\"\")","v":""},"","",null,null,null,null,null,null,null,{"$f":"+IF(AT383=\"\",\"\",MAX(AO$1:AO382)+1)","v":""},{"$f":"IF(Deviation_Limits!B405=\"\",\"\",Deviation_Limits!B405)","v":""},{"$f":"IF(Deviation_Limits!C405=\"\",\"\",Deviation_Limits!C405)","v":""},{"$f":"IF(Deviation_Limits!D405=\"\",\"\",Deviation_Limits!D405)","v":""},"",{"$f":"IF(COUNTIF(AQ$2:AQ383,AQ383)=1,AQ383,\"\")","v":""},"","","",null,{"$f":"+IF(BD383=\"\",\"\",MAX(AY$1:AY382)+1)","v":""},{"$f":"IF(Deviation_CEM_CPMS!B405=\"\",\"\",Deviation_CEM_CPMS!B405)","v":""},{"$f":"IF(Deviation_CEM_CPMS!C405=\"\",\"\",Deviation_CEM_CPMS!C405)","v":""},{"$f":"IF(Deviation_CEM_CPMS!D405=\"\",\"\",Deviation_CEM_CPMS!D405)","v":""},"",{"$f":"IF(COUNTIF(BA$2:BA383,BA383)=1,BA383,\"\")","v":""},"","",""]
[{"$f":"IF(B384=\"\",\"\",MAX(A$1:A383)+1)","v":""},{"$f":"+IF(CPMS_Identification!C406=\"\",\"\",CPMS_Identification!C406)","v":""},"",null,{"$f":"IF(F384=\"\",\"\",MAX(E$1:E383)+1)","v":""},{"$f":"IF(Landfill_Gas_ID!C406=\"\",\"\",Landfill_Gas_ID!C406)","v":""},"",null,{"$f":"IF(J384=\"\",\"\",MAX(I$1:I383)+1)","v":""},{"$f":"IF(Distillate_Oil!C406=\"\",\"\",Distillate_Oil!C406)","v":""},"",null,null,null,null,null,null,null,null,null,null,null,null,null,null,null,{"$f":"+IF(AE384=\"\",\"\",MAX(AA$1:AA383)+1)","v":""},{"$f":"IF(Deviation_Limits!B406=\"\",\"\",Deviation_Limits!B406)","v":""},{"$f":"IF(Deviation_Limits!C406=\"\",\"\",Deviation_Limits!C406)","v":""},"",{"$f":"IF(COUNTIF(AC$2:AC384,AC384)=1,AC384,\"\")","v":""},"","",null,null,null,null,null,null,null,{"$f":"+IF(AT384=\"\",\"\",MAX(AO$1:AO383)+1)","v":""},{"$f":"IF(Deviation_Limits!B406=\"\",\"\",Deviation_Limits!B406)","v":""},{"$f":"IF(Deviation_Limits!C406=\"\",\"\",Deviation_Limits!C406)","v":""},{"$f":"IF(Deviation_Limits!D406=\"\",\"\",Deviation_Limits!D406)","v":""},"",{"$f":"IF(COUNTIF(AQ$2:AQ384,AQ384)=1,AQ384,\"\")","v":""},"","","",null,{"$f":"+IF(BD384=\"\",\"\",MAX(AY$1:AY383)+1)","v":""},{"$f":"IF(Deviation_CEM_CPMS!B406=\"\",\"\",Deviation_CEM_CPMS!B406)","v":""},{"$f":"IF(Deviation_CEM_CPMS!C406=\"\",\"\",Deviation_CEM_CPMS!C406)","v":""},{"$f":"IF(Deviation_CEM_CPMS!D406=\"\",\"\",Deviation_CEM_CPMS!D406)","v":""},"",{"$f":"IF(COUNTIF(BA$2:BA384,BA384)=1,BA384,\"\")","v":""},"","",""]
[{"$f":"IF(B385=\"\",\"\",MAX(A$1:A384)+1)","v":""},{"$f":"+IF(CPMS_Identification!C407=\"\",\"\",CPMS_Identification!C407)","v":""},"",null,{"$f":"IF(F385=\"\",\"\",MAX(E$1:E384)+1)","v":""},{"$f":"IF(Landfill_Gas_ID!C407=\"\",\"\",Landfill_Gas_ID!C407)","v":""},"",null,{"$f":"IF(J385=\"\",\"\",MAX(I$1:I384)+1)","v":""},{"$f":"IF(Distillate_Oil!C407=\"\",\"\",Distillate_Oil!C407)","v":""},"",null,null,null,null,null,null,null,null,null,null,null,null,null,null,null,{"$f":"+IF(AE385=\"\",\"\",MAX(AA$1:AA384)+1)","v":""},{"$f":"IF(Deviation_Limits!B407=\"\",\"\",Deviation_Limits!B407)","v":""},{"$f":"IF(Deviation_Limits!C407=\"\",\"\",Deviation_Limits!C407)","v":""},"",{"$f":"IF(COUNTIF(AC$2:AC385,AC385)=1,AC385,\"\")","v":""},"","",null,null,null,null,null,null,null,{"$f":"+IF(AT385=\"\",\"\",MAX(AO$1:AO384)+1)","v":""},{"$f":"IF(Deviation_Limits!B407=\"\",\"\",Deviation_Limits!B407)","v":""},{"$f":"IF(Deviation_Limits!C407=\"\",\"\",Deviation_Limits!C407)","v":""},{"$f":"IF(Deviation_Limits!D407=\"\",\"\",Deviation_Limits!D407)","v":""},"",{"$f":"IF(COUNTIF(AQ$2:AQ385,AQ385)=1,AQ385,\"\")","v":""},"","","",null,{"$f":"+IF(BD385=\"\",\"\",MAX(AY$1:AY384)+1)","v":""},{"$f":"IF(Deviation_CEM_CPMS!B407=\"\",\"\",Deviation_CEM_CPMS!B407)","v":""},{"$f":"IF(Deviation_CEM_CPMS!C407=\"\",\"\",Deviation_CEM_CPMS!C407)","v":""},{"$f":"IF(Deviation_CEM_CPMS!D407=\"\",\"\",Deviation_CEM_CPMS!D407)","v":""},"",{"$f":"IF(COUNTIF(BA$2:BA385,BA385)=1,BA385,\"\")","v":""},"","",""]
[{"$f":"IF(B386=\"\",\"\",MAX(A$1:A385)+1)","v":""},{"$f":"+IF(CPMS_Identification!C408=\"\",\"\",CPMS_Identification!C408)","v":""},{"$f":"+IFERROR(INDEX($B$2:$B$500,MATCH(ROW()-ROW($C$1),$A$2:$A$500,0)),\"\")","v":""},null,{"$f":"IF(F386=\"\",\"\",MAX(E$1:E385)+1)","v":""},{"$f":"IF(Landfill_Gas_ID!C408=\"\",\"\",Landfill_Gas_ID!C408)","v":""},{"$f":"+IFERROR(INDEX($F$2:$F$500,MATCH(ROW()-ROW($G$1),$E$2:$E$500,0)),\"\")","v":""},null,{"$f":"IF(J386=\"\",\"\",MAX(I$1:I385)+1)","v":""},{"$f":"IF(Distillate_Oil!C408=\"\",\"\",Distillate_Oil!C408)","v":""},{"$f":"+IFERROR(INDEX($J$2:$J$500,MATCH(ROW()-ROW($K$1),$I$2:$I$500,0)),\"\")","v":""},null,null,null,null,null,null,null,null,null,null,null,null,null,null,null,{"$f":"+IF(AE386=\"\",\"\",MAX(AA$1:AA385)+1)","v":""},{"$f":"IF(Deviation_Limits!B408=\"\",\"\",Deviation_Limits!B408)","v":""},{"$f":"IF(Deviation_Limits!C408=\"\",\"\",Deviation_Limits!C408)","v":""},"",{"$f":"IF(COUNTIF(AC$2:AC386,AC386)=1,AC386,\"\")","v":""},"","",null,null,null,null,null,null,null,{"$f":"+IF(AT386=\"\",\"\",MAX(AO$1:AO385)+1)","v":""},{"$f":"IF(Deviation_Limits!B408=\"\",\"\",Deviation_Limits!B408)","v":""},{"$f":"IF(Deviation_Limits!C408=\"\",\"\",Deviation_Limits!C408)","v":""},{"$f":"IF(Deviation_Limits!D408=\"\",\"\",Deviation_Limits!D408)","v":""},"",{"$f":"IF(COUNTIF(AQ$2:AQ386,AQ386)=1,AQ386,\"\")","v":""},"","","",null,{"$f":"+IF(BD386=\"\",\"\",MAX(AY$1:AY385)+1)","v":""},{"$f":"IF(Deviation_CEM_CPMS!B408=\"\",\"\",Deviation_CEM_CPMS!B408)","v":""},{"$f":"IF(Deviation_CEM_CPMS!C408=\"\",\"\",Deviation_CEM_CPMS!C408)","v":""},{"$f":"IF(Deviation_CEM_CPMS!D408=\"\",\"\",Deviation_CEM_CPMS!D408)","v":""},{"$f":"+AZ386&BA386&BB386","v":""},{"$f":"IF(COUNTIF(BA$2:BA386,BA386)=1,BA386,\"\")","v":""},{"$f":"+IFERROR(INDEX(AZ$2:AZ$500,MATCH(ROW()-ROW(BE$1),$AA$2:$AA$500,0)),\"\")","v":""},{"$f":"+IFERROR(INDEX(BA$2:BA$500,MATCH(ROW()-ROW(BE$1),$AA$2:$AA$500,0)),\"\")","v":""},{"$f":"+IFERROR(INDEX(BB$2:BB$500,MATCH(ROW()-ROW(BE$1),$AA$2:$AA$500,0)),\"\")","v":""}]
[{"$f":"IF(B387=\"\",\"\",MAX(A$1:A386)+1)","v":""},{"$f":"+IF(CPMS_Identification!C409=\"\",\"\",CPMS_Identification!C409)","v":""},"",null,{"$f":"IF(F387=\"\",\"\",MAX(E$1:E386)+1)","v":""},{"$f":"IF(Landfill_Gas_ID!C409=\"\",\"\",Landfill_Gas_ID!C409)","v":""},"",null,{"$f":"IF(J387=\"\",\"\",MAX(I$1:I386)+1)","v":""},{"$f":"IF(Distillate_Oil!C409=\"\",\"\",Distillate_Oil!C409)","v":""},"",null,null,null,null,null,null,null,null,null,null,null,null,null,null,null,{"$f":"+IF(AE387=\"\",\"\",MAX(AA$1:AA386)+1)","v":""},{"$f":"IF(Deviation_Limits!B409=\"\",\"\",Deviation_Limits!B409)","v":""},{"$f":"IF(Deviation_Limits!C409=\"\",\"\",Deviation_Limits!C409)","v":""},{"$f":"+AB387&AC387","v":""},{"$f":"IF(COUNTIF(AC$2:AC387,AC387)=1,AC387,\"\")","v":""},{"$f":"+IFERROR(INDEX(AB$2:AB$500,MATCH(ROW()-ROW($AF$1),$AA$2:$AA$500,0)),\"\")","v":""},{"$f":"+IFERROR(INDEX(AC$2:AC$500,MATCH(ROW()-ROW($AF$1),$AA$2:$AA$500,0)),\"\")","v":""},null,null,null,null,null,null,null,{"$f":"+IF(AT387=\"\",\"\",MAX(AO$1:AO386)+1)","v":""},{"$f":"IF(Deviation_Limits!B409=\"\",\"\",Deviation_Limits!B409)","v":""},{"$f":"IF(Deviation_Limits!C409=\"\",\"\",Deviation_Limits!C409)","v":""},{"$f":"IF(Deviation_Limits!D409=\"\",\"\",Deviation_Limits!D409)","v":""},{"$f":"+AP387&AQ387&C387","v":""},{"$f":"IF(COUNTIF(AQ$2:AQ387,AQ387)=1,AQ387,\"\")","v":""},{"$f":"+IFERROR(INDEX(AP$2:AP$500,MATCH(ROW()-ROW(AU$1),$AA$2:$AA$500,0)),\"\")","v":""},{"$f":"+IFERROR(INDEX(AQ$2:AQ$500,MATCH(ROW()-ROW(AU$1),$AA$2:$AA$500,0)),\"\")","v":""},{"$f":"+IFERROR(INDEX(AR$2:AR$500,MATCH(ROW()-ROW(AU$1),$AA$2:$AA$500,0)),\"\")","v":""},null,{"$f":"+IF(BD387=\"\",\"\",MAX(AY$1:AY386)+1)","v":""},{"$f":"IF(Deviation_CEM_CPMS!B409=\"\",\"\",Deviation_CEM_CPMS!B409)","v":""},{"$f":"IF(Deviation_CEM_CPMS!C409=\"\",\"\",Deviation_CEM_CPMS!C409)","v":""},{"$f":"IF(Deviation_CEM_CPMS!D409=\"\",\"\",Deviation_CEM_CPMS!D409)","v":""},"",{"$f":"IF(COUNTIF(BA$2:BA387,BA387)=1,BA387,\"\")","v":""},"","",""]
[{"$f":"IF(B388=\"\",\"\",MAX(A$1:A387)+1)","v":""},{"$f":"+IF(CPMS_Identification!C410=\"\",\"\",CPMS_Identification!C410)","v":""},"",null,{"$f":"IF(F388=\"\",\"\",MAX(E$1:E387)+1)","v":""},{"$f":"IF(Landfill_Gas_ID!C410=\"\",\"\",Landfill_Gas_ID!C410)","v":""},"",null,{"$f":"IF(J388=\"\",\"\",MAX(I$1:I387)+1)","v":""},{"$f":"IF(Distillate_Oil!C410=\"\",\"\",Distillate_Oil!C410)","v":""},"",null,null,null,null,null,null,null,null,null,null,null,null,null,null,null,{"$f":"+IF(AE388=\"\",\"\",MAX(AA$1:AA387)+1)","v":""},{"$f":"IF(Deviation_Limits!B410=\"\",\"\",Deviation_Limits!B410)","v":""},{"$f":"IF(Deviation_Limits!C410=\"\",\"\",Deviation_Limits!C410)","v":""},"",{"$f":"IF(COUNTIF(AC$2:AC388,AC388)=1,AC388,\"\")","v":""},"","",null,null,null,null,null,null,null,{"$f":"+IF(AT388=\"\",\"\",MAX(AO$1:AO387)+1)","v":""},{"$f":"IF(Deviation_Limits!B410=\"\",\"\",Deviation_Limits!B410)","v":""},{"$f":"IF(Deviation_Limits!C410=\"\",\"\",Deviation_Limits!C410)","v":""},{"$f":"IF(Deviation_Limits!D410=\"\",\"\",Deviation_Limits!D410)","v":""},"",{"$f":"IF(COUNTIF(AQ$2:AQ388,AQ388)=1,AQ388,\"\")","v":""},"","","",null,{"$f":"+IF(BD388=\"\",\"\",MAX(AY$1:AY387)+1)","v":""},{"$f":"IF(Deviation_CEM_CPMS!B410=\"\",\"\",Deviation_CEM_CPMS!B410)","v":""},{"$f":"IF(Deviation_CEM_CPMS!C410=\"\",\"\",Deviation_CEM_CPMS!C410)","v":""},{"$f":"IF(Deviation_CEM_CPMS!D410=\"\",\"\",Deviation_CEM_CPMS!D410)","v":""},"",{"$f":"IF(COUNTIF(BA$2:BA388,BA388)=1,BA388,\"\")","v":""},"","",""]
[{"$f":"IF(B389=\"\",\"\",MAX(A$1:A388)+1)","v":""},{"$f":"+IF(CPMS_Identification!C411=\"\",\"\",CPMS_Identification!C411)","v":""},"",null,{"$f":"IF(F389=\"\",\"\",MAX(E$1:E388)+1)","v":""},{"$f":"IF(Landfill_Gas_ID!C411=\"\",\"\",Landfill_Gas_ID!C411)","v":""},"",null,{"$f":"IF(J389=\"\",\"\",MAX(I$1:I388)+1)","v":""},{"$f":"IF(Distillate_Oil!C411=\"\",\"\",Distillate_Oil!C411)","v":""},"",null,null,null,null,null,null,null,null,null,null,null,null,null,null,null,{"$f":"+IF(AE389=\"\",\"\",MAX(AA$1:AA388)+1)","v":""},{"$f":"IF(Deviation_Limits!B411=\"\",\"\",Deviation_Limits!B411)","v":""},{"$f":"IF(Deviation_Limits!C411=\"\",\"\",Deviation_Limits!C411)","v":""},"",{"$f":"IF(COUNTIF(AC$2:AC389,AC389)=1,AC389,\"\")","v":""},"","",null,null,null,null,null,null,null,{"$f":"+IF(AT389=\"\",\"\",MAX(AO$1:AO388)+1)","v":""},{"$f":"IF(Deviation_Limits!B411=\"\",\"\",Deviation_Limits!B411)","v":""},{"$f":"IF(Deviation_Limits!C411=\"\",\"\",Deviation_Limits!C411)","v":""},{"$f":"IF(Deviation_Limits!D411=\"\",\"\",Deviation_Limits!D411)","v":""},"",{"$f":"IF(COUNTIF(AQ$2:AQ389,AQ389)=1,AQ389,\"\")","v":""},"","","",null,{"$f":"+IF(BD389=\"\",\"\",MAX(AY$1:AY388)+1)","v":""},{"$f":"IF(Deviation_CEM_CPMS!B411=\"\",\"\",Deviation_CEM_CPMS!B411)","v":""},{"$f":"IF(Deviation_CEM_CPMS!C411=\"\",\"\",Deviation_CEM_CPMS!C411)","v":""},{"$f":"IF(Deviation_CEM_CPMS!D411=\"\",\"\",Deviation_CEM_CPMS!D411)","v":""},"",{"$f":"IF(COUNTIF(BA$2:BA389,BA389)=1,BA389,\"\")","v":""},"","",""]
[{"$f":"IF(B390=\"\",\"\",MAX(A$1:A389)+1)","v":""},{"$f":"+IF(CPMS_Identification!C412=\"\",\"\",CPMS_Identification!C412)","v":""},"",null,{"$f":"IF(F390=\"\",\"\",MAX(E$1:E389)+1)","v":""},{"$f":"IF(Landfill_Gas_ID!C412=\"\",\"\",Landfill_Gas_ID!C412)","v":""},"",null,{"$f":"IF(J390=\"\",\"\",MAX(I$1:I389)+1)","v":""},{"$f":"IF(Distillate_Oil!C412=\"\",\"\",Distillate_Oil!C412)","v":""},"",null,null,null,null,null,null,null,null,null,null,null,null,null,null,null,{"$f":"+IF(AE390=\"\",\"\",MAX(AA$1:AA389)+1)","v":""},{"$f":"IF(Deviation_Limits!B412=\"\",\"\",Deviation_Limits!B412)","v":""},{"$f":"IF(Deviation_Limits!C412=\"\",\"\",Deviation_Limits!C412)","v":""},"",{"$f":"IF(COUNTIF(AC$2:AC390,AC390)=1,AC390,\"\")","v":""},"","",null,null,null,null,null,null,null,{"$f":"+IF(AT390=\"\",\"\",MAX(AO$1:AO389)+1)","v":""},{"$f":"IF(Deviation_Limits!B412=\"\",\"\",Deviation_Limits!B412)","v":""},{"$f":"IF(Deviation_Limits!C412=\"\",\"\",Deviation_Limits!C412)","v":""},{"$f":"IF(Deviation_Limits!D412=\"\",\"\",Deviation_Limits!D412)","v":""},"",{"$f":"IF(COUNTIF(AQ$2:AQ390,AQ390)=1,AQ390,\"\")","v":""},"","","",null,{"$f":"+IF(BD390=\"\",\"\",MAX(AY$1:AY389)+1)","v":""},{"$f":"IF(Deviation_CEM_CPMS!B412=\"\",\"\",Deviation_CEM_CPMS!B412)","v":""},{"$f":"IF(Deviation_CEM_CPMS!C412=\"\",\"\",Deviation_CEM_CPMS!C412)","v":""},{"$f":"IF(Deviation_CEM_CPMS!D412=\"\",\"\",Deviation_CEM_CPMS!D412)","v":""},"",{"$f":"IF(COUNTIF(BA$2:BA390,BA390)=1,BA390,\"\")","v":""},"","",""]
[{"$f":"IF(B391=\"\",\"\",MAX(A$1:A390)+1)","v":""},{"$f":"+IF(CPMS_Identification!C413=\"\",\"\",CPMS_Identification!C413)","v":""},"",null,{"$f":"IF(F391=\"\",\"\",MAX(E$1:E390)+1)","v":""},{"$f":"IF(Landfill_Gas_ID!C413=\"\",\"\",Landfill_Gas_ID!C413)","v":""},"",null,{"$f":"IF(J391=\"\",\"\",MAX(I$1:I390)+1)","v":""},{"$f":"IF(Distillate_Oil!C413=\"\",\"\",Distillate_Oil!C413)","v":""},"",null,null,null,null,null,null,null,null,null,null,null,null,null,null,null,{"$f":"+IF(AE391=\"\",\"\",MAX(AA$1:AA390)+1)","v":""},{"$f":"IF(Deviation_Limits!B413=\"\",\"\",Deviation_Limits!B413)","v":""},{"$f":"IF(Deviation_Limits!C413=\"\",\"\",Deviation_Limits!C413)","v":""},"",{"$f":"IF(COUNTIF(AC$2:AC391,AC391)=1,AC391,\"\")","v":""},"","",null,null,null,null,null,null,null,{"$f":"+IF(AT391=\"\",\"\",MAX(AO$1:AO390)+1)","v":""},{"$f":"IF(Deviation_Limits!B413=\"\",\"\",Deviation_Limits!B413)","v":""},{"$f":"IF(Deviation_Limits!C413=\"\",\"\",Deviation_Limits!C413)","v":""},{"$f":"IF(Deviation_Limits!D413=\"\",\"\",Deviation_Limits!D413)","v":""},"",{"$f":"IF(COUNTIF(AQ$2:AQ391,AQ391)=1,AQ391,\"\")","v":""},"","","",null,{"$f":"+IF(BD391=\"\",\"\",MAX(AY$1:AY390)+1)","v":""},{"$f":"IF(Deviation_CEM_CPMS!B413=\"\",\"\",Deviation_CEM_CPMS!B413)","v":""},{"$f":"IF(Deviation_CEM_CPMS!C413=\"\",\"\",Deviation_CEM_CPMS!C413)","v":""},{"$f":"IF(Deviation_CEM_CPMS!D413=\"\",\"\",Deviation_CEM_CPMS!D413)","v":""},"",{"$f":"IF(COUNTIF(BA$2:BA391,BA391)=1,BA391,\"\")","v":""},"","",""]
[{"$f":"IF(B392=\"\",\"\",MAX(A$1:A391)+1)","v":""},{"$f":"+IF(CPMS_Identification!C414=\"\",\"\",CPMS_Identification!C414)","v":""},"",null,{"$f":"IF(F392=\"\",\"\",MAX(E$1:E391)+1)","v":""},{"$f":"IF(Landfill_Gas_ID!C414=\"\",\"\",Landfill_Gas_ID!C414)","v":""},"",null,{"$f":"IF(J392=\"\",\"\",MAX(I$1:I391)+1)","v":""},{"$f":"IF(Distillate_Oil!C414=\"\",\"\",Distillate_Oil!C414)","v":""},"",null,null,null,null,null,null,null,null,null,null,null,null,null,null,null,{"$f":"+IF(AE392=\"\",\"\",MAX(AA$1:AA391)+1)","v":""},{"$f":"IF(Deviation_Limits!B414=\"\",\"\",Deviation_Limits!B414)","v":""},{"$f":"IF(Deviation_Limits!C414=\"\",\"\",Deviation_Limits!C414)","v":""},"",{"$f":"IF(COUNTIF(AC$2:AC392,AC392)=1,AC392,\"\")","v":""},"","",null,null,null,null,null,null,null,{"$f":"+IF(AT392=\"\",\"\",MAX(AO$1:AO391)+1)","v":""},{"$f":"IF(Deviation_Limits!B414=\"\",\"\",Deviation_Limits!B414)","v":""},{"$f":"IF(Deviation_Limits!C414=\"\",\"\",Deviation_Limits!C414)","v":""},{"$f":"IF(Deviation_Limits!D414=\"\",\"\",Deviation_Limits!D414)","v":""},"",{"$f":"IF(COUNTIF(AQ$2:AQ392,AQ392)=1,AQ392,\"\")","v":""},"","","",null,{"$f":"+IF(BD392=\"\",\"\",MAX(AY$1:AY391)+1)","v":""},{"$f":"IF(Deviation_CEM_CPMS!B414=\"\",\"\",Deviation_CEM_CPMS!B414)","v":""},{"$f":"IF(Deviation_CEM_CPMS!C414=\"\",\"\",Deviation_CEM_CPMS!C414)","v":""},{"$f":"IF(Deviation_CEM_CPMS!D414=\"\",\"\",Deviation_CEM_CPMS!D414)","v":""},"",{"$f":"IF(COUNTIF(BA$2:BA392,BA392)=1,BA392,\"\")","v":""},"","",""]
[{"$f":"IF(B393=\"\",\"\",MAX(A$1:A392)+1)","v":""},{"$f":"+IF(CPMS_Identification!C415=\"\",\"\",CPMS_Identification!C415)","v":""},"",null,{"$f":"IF(F393=\"\",\"\",MAX(E$1:E392)+1)","v":""},{"$f":"IF(Landfill_Gas_ID!C415=\"\",\"\",Landfill_Gas_ID!C415)","v":""},"",null,{"$f":"IF(J393=\"\",\"\",MAX(I$1:I392)+1)","v":""},{"$f":"IF(Distillate_Oil!C415=\"\",\"\",Distillate_Oil!C415)","v":""},"",null,null,null,null,null,null,null,null,null,null,null,null,null,null,null,{"$f":"+IF(AE393=\"\",\"\",MAX(AA$1:AA392)+1)","v":""},{"$f":"IF(Deviation_Limits!B415=\"\",\"\",Deviation_Limits!B415)","v":""},{"$f":"IF(Deviation_Limits!C415=\"\",\"\",Deviation_Limits!C415)","v":""},"",{"$f":"IF(COUNTIF(AC$2:AC393,AC393)=1,AC393,\"\")","v":""},"","",null,null,null,null,null,null,null,{"$f":"+IF(AT393=\"\",\"\",MAX(AO$1:AO392)+1)","v":""},{"$f":"IF(Deviation_Limits!B415=\"\",\"\",Deviation_Limits!B415)","v":""},{"$f":"IF(Deviation_Limits!C415=\"\",\"\",Deviation_Limits!C415)","v":""},{"$f":"IF(Deviation_Limits!D415=\"\",\"\",Deviation_Limits!D415)","v":""},"",{"$f":"IF(COUNTIF(AQ$2:AQ393,AQ393)=1,AQ393,\"\")","v":""},"","","",null,{"$f":"+IF(BD393=\"\",\"\",MAX(AY$1:AY392)+1)","v":""},{"$f":"IF(Deviation_CEM_CPMS!B415=\"\",\"\",Deviation_CEM_CPMS!B415)","v":""},{"$f":"IF(Deviation_CEM_CPMS!C415=\"\",\"\",Deviation_CEM_CPMS!C415)","v":""},{"$f":"IF(Deviation_CEM_CPMS!D415=\"\",\"\",Deviation_CEM_CPMS!D415)","v":""},"",{"$f":"IF(COUNTIF(BA$2:BA393,BA393)=1,BA393,\"\")","v":""},"","",""]
[{"$f":"IF(B394=\"\",\"\",MAX(A$1:A393)+1)","v":""},{"$f":"+IF(CPMS_Identification!C416=\"\",\"\",CPMS_Identification!C416)","v":""},"",null,{"$f":"IF(F394=\"\",\"\",MAX(E$1:E393)+1)","v":""},{"$f":"IF(Landfill_Gas_ID!C416=\"\",\"\",Landfill_Gas_ID!C416)","v":""},"",null,{"$f":"IF(J394=\"\",\"\",MAX(I$1:I393)+1)","v":""},{"$f":"IF(Distillate_Oil!C416=\"\",\"\",Distillate_Oil!C416)","v":""},"",null,null,null,null,null,null,null,null,null,null,null,null,null,null,null,{"$f":"+IF(AE394=\"\",\"\",MAX(AA$1:AA393)+1)","v":""},{"$f":"IF(Deviation_Limits!B416=\"\",\"\",Deviation_Limits!B416)","v":""},{"$f":"IF(Deviation_Limits!C416=\"\",\"\",Deviation_Limits!C416)","v":""},"",{"$f":"IF(COUNTIF(AC$2:AC394,AC394)=1,AC394,\"\")","v":""},"","",null,null,null,null,null,null,null,{"$f":"+IF(AT394=\"\",\"\",MAX(AO$1:AO393)+1)","v":""},{"$f":"IF(Deviation_Limits!B416=\"\",\"\",Deviation_Limits!B416)","v":""},{"$f":"IF(Deviation_Limits!C416=\"\",\"\",Deviation_Limits!C416)","v":""},{"$f":"IF(Deviation_Limits!D416=\"\",\"\",Deviation_Limits!D416)","v":""},"",{"$f":"IF(COUNTIF(AQ$2:AQ394,AQ394)=1,AQ394,\"\")","v":""},"","","",null,{"$f":"+IF(BD394=\"\",\"\",MAX(AY$1:AY393)+1)","v":""},{"$f":"IF(Deviation_CEM_CPMS!B416=\"\",\"\",Deviation_CEM_CPMS!B416)","v":""},{"$f":"IF(Deviation_CEM_CPMS!C416=\"\",\"\",Deviation_CEM_CPMS!C416)","v":""},{"$f":"IF(Deviation_CEM_CPMS!D416=\"\",\"\",Deviation_CEM_CPMS!D416)","v":""},"",{"$f":"IF(COUNTIF(BA$2:BA394,BA394)=1,BA394,\"\")","v":""},"","",""]
[{"$f":"IF(B395=\"\",\"\",MAX(A$1:A394)+1)","v":""},{"$f":"+IF(CPMS_Identification!C417=\"\",\"\",CPMS_Identification!C417)","v":""},"",null,{"$f":"IF(F395=\"\",\"\",MAX(E$1:E394)+1)","v":""},{"$f":"IF(Landfill_Gas_ID!C417=\"\",\"\",Landfill_Gas_ID!C417)","v":""},"",null,{"$f":"IF(J395=\"\",\"\",MAX(I$1:I394)+1)","v":""},{"$f":"IF(Distillate_Oil!C417=\"\",\"\",Distillate_Oil!C417)","v":""},"",null,null,null,null,null,null,null,null,null,null,null,null,null,null,null,{"$f":"+IF(AE395=\"\",\"\",MAX(AA$1:AA394)+1)","v":""},{"$f":"IF(Deviation_Limits!B417=\"\",\"\",Deviation_Limits!B417)","v":""},{"$f":"IF(Deviation_Limits!C417=\"\",\"\",Deviation_Limits!C417)","v":""},"",{"$f":"IF(COUNTIF(AC$2:AC395,AC395)=1,AC395,\"\")","v":""},"","",null,null,null,null,null,null,null,{"$f":"+IF(AT395=\"\",\"\",MAX(AO$1:AO394)+1)","v":""},{"$f":"IF(Deviation_Limits!B417=\"\",\"\",Deviation_Limits!B417)","v":""},{"$f":"IF(Deviation_Limits!C417=\"\",\"\",Deviation_Limits!C417)","v":""},{"$f":"IF(Deviation_Limits!D417=\"\",\"\",Deviation_Limits!D417)","v":""},"",{"$f":"IF(COUNTIF(AQ$2:AQ395,AQ395)=1,AQ395,\"\")","v":""},"","","",null,{"$f":"+IF(BD395=\"\",\"\",MAX(AY$1:AY394)+1)","v":""},{"$f":"IF(Deviation_CEM_CPMS!B417=\"\",\"\",Deviation_CEM_CPMS!B417)","v":""},{"$f":"IF(Deviation_CEM_CPMS!C417=\"\",\"\",Deviation_CEM_CPMS!C417)","v":""},{"$f":"IF(Deviation_CEM_CPMS!D417=\"\",\"\",Deviation_CEM_CPMS!D417)","v":""},"",{"$f":"IF(COUNTIF(BA$2:BA395,BA395)=1,BA395,\"\")","v":""},"","",""]
[{"$f":"IF(B396=\"\",\"\",MAX(A$1:A395)+1)","v":""},{"$f":"+IF(CPMS_Identification!C418=\"\",\"\",CPMS_Identification!C418)","v":""},"",null,{"$f":"IF(F396=\"\",\"\",MAX(E$1:E395)+1)","v":""},{"$f":"IF(Landfill_Gas_ID!C418=\"\",\"\",Landfill_Gas_ID!C418)","v":""},"",null,{"$f":"IF(J396=\"\",\"\",MAX(I$1:I395)+1)","v":""},{"$f":"IF(Distillate_Oil!C418=\"\",\"\",Distillate_Oil!C418)","v":""},"",null,null,null,null,null,null,null,null,null,null,null,null,null,null,null,{"$f":"+IF(AE396=\"\",\"\",MAX(AA$1:AA395)+1)","v":""},{"$f":"IF(Deviation_Limits!B418=\"\",\"\",Deviation_Limits!B418)","v":""},{"$f":"IF(Deviation_Limits!C418=\"\",\"\",Deviation_Limits!C418)","v":""},"",{"$f":"IF(COUNTIF(AC$2:AC396,AC396)=1,AC396,\"\")","v":""},"","",null,null,null,null,null,null,null,{"$f":"+IF(AT396=\"\",\"\",MAX(AO$1:AO395)+1)","v":""},{"$f":"IF(Deviation_Limits!B418=\"\",\"\",Deviation_Limits!B418)","v":""},{"$f":"IF(Deviation_Limits!C418=\"\",\"\",Deviation_Limits!C418)","v":""},{"$f":"IF(Deviation_Limits!D418=\"\",\"\",Deviation_Limits!D418)","v":""},"",{"$f":"IF(COUNTIF(AQ$2:AQ396,AQ396)=1,AQ396,\"\")","v":""},"","","",null,{"$f":"+IF(BD396=\"\",\"\",MAX(AY$1:AY395)+1)","v":""},{"$f":"IF(Deviation_CEM_CPMS!B418=\"\",\"\",Deviation_CEM_CPMS!B418)","v":""},{"$f":"IF(Deviation_CEM_CPMS!C418=\"\",\"\",Deviation_CEM_CPMS!C418)","v":""},{"$f":"IF(Deviation_CEM_CPMS!D418=\"\",\"\",Deviation_CEM_CPMS!D418)","v":""},"",{"$f":"IF(COUNTIF(BA$2:BA396,BA396)=1,BA396,\"\")","v":""},"","",""]
[{"$f":"IF(B397=\"\",\"\",MAX(A$1:A396)+1)","v":""},{"$f":"+IF(CPMS_Identification!C419=\"\",\"\",CPMS_Identification!C419)","v":""},"",null,{"$f":"IF(F397=\"\",\"\",MAX(E$1:E396)+1)","v":""},{"$f":"IF(Landfill_Gas_ID!C419=\"\",\"\",Landfill_Gas_ID!C419)","v":""},"",null,{"$f":"IF(J397=\"\",\"\",MAX(I$1:I396)+1)","v":""},{"$f":"IF(Distillate_Oil!C419=\"\",\"\",Distillate_Oil!C419)","v":""},"",null,null,null,null,null,null,null,null,null,null,null,null,null,null,null,{"$f":"+IF(AE397=\"\",\"\",MAX(AA$1:AA396)+1)","v":""},{"$f":"IF(Deviation_Limits!B419=\"\",\"\",Deviation_Limits!B419)","v":""},{"$f":"IF(Deviation_Limits!C419=\"\",\"\",Deviation_Limits!C419)","v":""},"",{"$f":"IF(COUNTIF(AC$2:AC397,AC397)=1,AC397,\"\")","v":""},"","",null,null,null,null,null,null,null,{"$f":"+IF(AT397=\"\",\"\",MAX(AO$1:AO396)+1)","v":""},{"$f":"IF(Deviation_Limits!B419=\"\",\"\",Deviation_Limits!B419)","v":""},{"$f":"IF(Deviation_Limits!C419=\"\",\"\",Deviation_Limits!C419)","v":""},{"$f":"IF(Deviation_Limits!D419=\"\",\"\",Deviation_Limits!D419)","v":""},"",{"$f":"IF(COUNTIF(AQ$2:AQ397,AQ397)=1,AQ397,\"\")","v":""},"","","",null,{"$f":"+IF(BD397=\"\",\"\",MAX(AY$1:AY396)+1)","v":""},{"$f":"IF(Deviation_CEM_CPMS!B419=\"\",\"\",Deviation_CEM_CPMS!B419)","v":""},{"$f":"IF(Deviation_CEM_CPMS!C419=\"\",\"\",Deviation_CEM_CPMS!C419)","v":""},{"$f":"IF(Deviation_CEM_CPMS!D419=\"\",\"\",Deviation_CEM_CPMS!D419)","v":""},"",{"$f":"IF(COUNTIF(BA$2:BA397,BA397)=1,BA397,\"\")","v":""},"","",""]
[{"$f":"IF(B398=\"\",\"\",MAX(A$1:A397)+1)","v":""},{"$f":"+IF(CPMS_Identification!C420=\"\",\"\",CPMS_Identification!C420)","v":""},"",null,{"$f":"IF(F398=\"\",\"\",MAX(E$1:E397)+1)","v":""},{"$f":"IF(Landfill_Gas_ID!C420=\"\",\"\",Landfill_Gas_ID!C420)","v":""},"",null,{"$f":"IF(J398=\"\",\"\",MAX(I$1:I397)+1)","v":""},{"$f":"IF(Distillate_Oil!C420=\"\",\"\",Distillate_Oil!C420)","v":""},"",null,null,null,null,null,null,null,null,null,null,null,null,null,null,null,{"$f":"+IF(AE398=\"\",\"\",MAX(AA$1:AA397)+1)","v":""},{"$f":"IF(Deviation_Limits!B420=\"\",\"\",Deviation_Limits!B420)","v":""},{"$f":"IF(Deviation_Limits!C420=\"\",\"\",Deviation_Limits!C420)","v":""},"",{"$f":"IF(COUNTIF(AC$2:AC398,AC398)=1,AC398,\"\")","v":""},"","",null,null,null,null,null,null,null,{"$f":"+IF(AT398=\"\",\"\",MAX(AO$1:AO397)+1)","v":""},{"$f":"IF(Deviation_Limits!B420=\"\",\"\",Deviation_Limits!B420)","v":""},{"$f":"IF(Deviation_Limits!C420=\"\",\"\",Deviation_Limits!C420)","v":""},{"$f":"IF(Deviation_Limits!D420=\"\",\"\",Deviation_Limits!D420)","v":""},"",{"$f":"IF(COUNTIF(AQ$2:AQ398,AQ398)=1,AQ398,\"\")","v":""},"","","",null,{"$f":"+IF(BD398=\"\",\"\",MAX(AY$1:AY397)+1)","v":""},{"$f":"IF(Deviation_CEM_CPMS!B420=\"\",\"\",Deviation_CEM_CPMS!B420)","v":""},{"$f":"IF(Deviation_CEM_CPMS!C420=\"\",\"\",Deviation_CEM_CPMS!C420)","v":""},{"$f":"IF(Deviation_CEM_CPMS!D420=\"\",\"\",Deviation_CEM_CPMS!D420)","v":""},"",{"$f":"IF(COUNTIF(BA$2:BA398,BA398)=1,BA398,\"\")","v":""},"","",""]
[{"$f":"IF(B399=\"\",\"\",MAX(A$1:A398)+1)","v":""},{"$f":"+IF(CPMS_Identification!C421=\"\",\"\",CPMS_Identification!C421)","v":""},"",null,{"$f":"IF(F399=\"\",\"\",MAX(E$1:E398)+1)","v":""},{"$f":"IF(Landfill_Gas_ID!C421=\"\",\"\",Landfill_Gas_ID!C421)","v":""},"",null,{"$f":"IF(J399=\"\",\"\",MAX(I$1:I398)+1)","v":""},{"$f":"IF(Distillate_Oil!C421=\"\",\"\",Distillate_Oil!C421)","v":""},"",null,null,null,null,null,null,null,null,null,null,null,null,null,null,null,{"$f":"+IF(AE399=\"\",\"\",MAX(AA$1:AA398)+1)","v":""},{"$f":"IF(Deviation_Limits!B421=\"\",\"\",Deviation_Limits!B421)","v":""},{"$f":"IF(Deviation_Limits!C421=\"\",\"\",Deviation_Limits!C421)","v":""},"",{"$f":"IF(COUNTIF(AC$2:AC399,AC399)=1,AC399,\"\")","v":""},"","",null,null,null,null,null,null,null,{"$f":"+IF(AT399=\"\",\"\",MAX(AO$1:AO398)+1)","v":""},{"$f":"IF(Deviation_Limits!B421=\"\",\"\",Deviation_Limits!B421)","v":""},{"$f":"IF(Deviation_Limits!C421=\"\",\"\",Deviation_Limits!C421)","v":""},{"$f":"IF(Deviation_Limits!D421=\"\",\"\",Deviation_Limits!D421)","v":""},"",{"$f":"IF(COUNTIF(AQ$2:AQ399,AQ399)=1,AQ399,\"\")","v":""},"","","",null,{"$f":"+IF(BD399=\"\",\"\",MAX(AY$1:AY398)+1)","v":""},{"$f":"IF(Deviation_CEM_CPMS!B421=\"\",\"\",Deviation_CEM_CPMS!B421)","v":""},{"$f":"IF(Deviation_CEM_CPMS!C421=\"\",\"\",Deviation_CEM_CPMS!C421)","v":""},{"$f":"IF(Deviation_CEM_CPMS!D421=\"\",\"\",Deviation_CEM_CPMS!D421)","v":""},"",{"$f":"IF(COUNTIF(BA$2:BA399,BA399)=1,BA399,\"\")","v":""},"","",""]
[{"$f":"IF(B400=\"\",\"\",MAX(A$1:A399)+1)","v":""},{"$f":"+IF(CPMS_Identification!C422=\"\",\"\",CPMS_Identification!C422)","v":""},"",null,{"$f":"IF(F400=\"\",\"\",MAX(E$1:E399)+1)","v":""},{"$f":"IF(Landfill_Gas_ID!C422=\"\",\"\",Landfill_Gas_ID!C422)","v":""},"",null,{"$f":"IF(J400=\"\",\"\",MAX(I$1:I399)+1)","v":""},{"$f":"IF(Distillate_Oil!C422=\"\",\"\",Distillate_Oil!C422)","v":""},"",null,null,null,null,null,null,null,null,null,null,null,null,null,null,null,{"$f":"+IF(AE400=\"\",\"\",MAX(AA$1:AA399)+1)","v":""},{"$f":"IF(Deviation_Limits!B422=\"\",\"\",Deviation_Limits!B422)","v":""},{"$f":"IF(Deviation_Limits!C422=\"\",\"\",Deviation_Limits!C422)","v":""},"",{"$f":"IF(COUNTIF(AC$2:AC400,AC400)=1,AC400,\"\")","v":""},"","",null,null,null,null,null,null,null,{"$f":"+IF(AT400=\"\",\"\",MAX(AO$1:AO399)+1)","v":""},{"$f":"IF(Deviation_Limits!B422=\"\",\"\",Deviation_Limits!B422)","v":""},{"$f":"IF(Deviation_Limits!C422=\"\",\"\",Deviation_Limits!C422)","v":""},{"$f":"IF(Deviation_Limits!D422=\"\",\"\",Deviation_Limits!D422)","v":""},"",{"$f":"IF(COUNTIF(AQ$2:AQ400,AQ400)=1,AQ400,\"\")","v":""},"","","",null,{"$f":"+IF(BD400=\"\",\"\",MAX(AY$1:AY399)+1)","v":""},{"$f":"IF(Deviation_CEM_CPMS!B422=\"\",\"\",Deviation_CEM_CPMS!B422)","v":""},{"$f":"IF(Deviation_CEM_CPMS!C422=\"\",\"\",Deviation_CEM_CPMS!C422)","v":""},{"$f":"IF(Deviation_CEM_CPMS!D422=\"\",\"\",Deviation_CEM_CPMS!D422)","v":""},"",{"$f":"IF(COUNTIF(BA$2:BA400,BA400)=1,BA400,\"\")","v":""},"","",""]
[{"$f":"IF(B401=\"\",\"\",MAX(A$1:A400)+1)","v":""},{"$f":"+IF(CPMS_Identification!C423=\"\",\"\",CPMS_Identification!C423)","v":""},"",null,{"$f":"IF(F401=\"\",\"\",MAX(E$1:E400)+1)","v":""},{"$f":"IF(Landfill_Gas_ID!C423=\"\",\"\",Landfill_Gas_ID!C423)","v":""},"",null,{"$f":"IF(J401=\"\",\"\",MAX(I$1:I400)+1)","v":""},{"$f":"IF(Distillate_Oil!C423=\"\",\"\",Distillate_Oil!C423)","v":""},"",null,null,null,null,null,null,null,null,null,null,null,null,null,null,null,{"$f":"+IF(AE401=\"\",\"\",MAX(AA$1:AA400)+1)","v":""},{"$f":"IF(Deviation_Limits!B423=\"\",\"\",Deviation_Limits!B423)","v":""},{"$f":"IF(Deviation_Limits!C423=\"\",\"\",Deviation_Limits!C423)","v":""},"",{"$f":"IF(COUNTIF(AC$2:AC401,AC401)=1,AC401,\"\")","v":""},"","",null,null,null,null,null,null,null,{"$f":"+IF(AT401=\"\",\"\",MAX(AO$1:AO400)+1)","v":""},{"$f":"IF(Deviation_Limits!B423=\"\",\"\",Deviation_Limits!B423)","v":""},{"$f":"IF(Deviation_Limits!C423=\"\",\"\",Deviation_Limits!C423)","v":""},{"$f":"IF(Deviation_Limits!D423=\"\",\"\",Deviation_Limits!D423)","v":""},"",{"$f":"IF(COUNTIF(AQ$2:AQ401,AQ401)=1,AQ401,\"\")","v":""},"","","",null,{"$f":"+IF(BD401=\"\",\"\",MAX(AY$1:AY400)+1)","v":""},{"$f":"IF(Deviation_CEM_CPMS!B423=\"\",\"\",Deviation_CEM_CPMS!B423)","v":""},{"$f":"IF(Deviation_CEM_CPMS!C423=\"\",\"\",Deviation_CEM_CPMS!C423)","v":""},{"$f":"IF(Deviation_CEM_CPMS!D423=\"\",\"\",Deviation_CEM_CPMS!D423)","v":""},"",{"$f":"IF(COUNTIF(BA$2:BA401,BA401)=1,BA401,\"\")","v":""},"","",""]
[{"$f":"IF(B402=\"\",\"\",MAX(A$1:A401)+1)","v":""},{"$f":"+IF(CPMS_Identification!C424=\"\",\"\",CPMS_Identification!C424)","v":""},"",null,{"$f":"IF(F402=\"\",\"\",MAX(E$1:E401)+1)","v":""},{"$f":"IF(Landfill_Gas_ID!C424=\"\",\"\",Landfill_Gas_ID!C424)","v":""},"",null,{"$f":"IF(J402=\"\",\"\",MAX(I$1:I401)+1)","v":""},{"$f":"IF(Distillate_Oil!C424=\"\",\"\",Distillate_Oil!C424)","v":""},"",null,null,null,null,null,null,null,null,null,null,null,null,null,null,null,{"$f":"+IF(AE402=\"\",\"\",MAX(AA$1:AA401)+1)","v":""},{"$f":"IF(Deviation_Limits!B424=\"\",\"\",Deviation_Limits!B424)","v":""},{"$f":"IF(Deviation_Limits!C424=\"\",\"\",Deviation_Limits!C424)","v":""},"",{"$f":"IF(COUNTIF(AC$2:AC402,AC402)=1,AC402,\"\")","v":""},"","",null,null,null,null,null,null,null,{"$f":"+IF(AT402=\"\",\"\",MAX(AO$1:AO401)+1)","v":""},{"$f":"IF(Deviation_Limits!B424=\"\",\"\",Deviation_Limits!B424)","v":""},{"$f":"IF(Deviation_Limits!C424=\"\",\"\",Deviation_Limits!C424)","v":""},{"$f":"IF(Deviation_Limits!D424=\"\",\"\",Deviation_Limits!D424)","v":""},"",{"$f":"IF(COUNTIF(AQ$2:AQ402,AQ402)=1,AQ402,\"\")","v":""},"","","",null,{"$f":"+IF(BD402=\"\",\"\",MAX(AY$1:AY401)+1)","v":""},{"$f":"IF(Deviation_CEM_CPMS!B424=\"\",\"\",Deviation_CEM_CPMS!B424)","v":""},{"$f":"IF(Deviation_CEM_CPMS!C424=\"\",\"\",Deviation_CEM_CPMS!C424)","v":""},{"$f":"IF(Deviation_CEM_CPMS!D424=\"\",\"\",Deviation_CEM_CPMS!D424)","v":""},"",{"$f":"IF(COUNTIF(BA$2:BA402,BA402)=1,BA402,\"\")","v":""},"","",""]
[{"$f":"IF(B403=\"\",\"\",MAX(A$1:A402)+1)","v":""},{"$f":"+IF(CPMS_Identification!C425=\"\",\"\",CPMS_Identification!C425)","v":""},"",null,{"$f":"IF(F403=\"\",\"\",MAX(E$1:E402)+1)","v":""},{"$f":"IF(Landfill_Gas_ID!C425=\"\",\"\",Landfill_Gas_ID!C425)","v":""},"",null,{"$f":"IF(J403=\"\",\"\",MAX(I$1:I402)+1)","v":""},{"$f":"IF(Distillate_Oil!C425=\"\",\"\",Distillate_Oil!C425)","v":""},"",null,null,null,null,null,null,null,null,null,null,null,null,null,null,null,{"$f":"+IF(AE403=\"\",\"\",MAX(AA$1:AA402)+1)","v":""},{"$f":"IF(Deviation_Limits!B425=\"\",\"\",Deviation_Limits!B425)","v":""},{"$f":"IF(Deviation_Limits!C425=\"\",\"\",Deviation_Limits!C425)","v":""},"",{"$f":"IF(COUNTIF(AC$2:AC403,AC403)=1,AC403,\"\")","v":""},"","",null,null,null,null,null,null,null,{"$f":"+IF(AT403=\"\",\"\",MAX(AO$1:AO402)+1)","v":""},{"$f":"IF(Deviation_Limits!B425=\"\",\"\",Deviation_Limits!B425)","v":""},{"$f":"IF(Deviation_Limits!C425=\"\",\"\",Deviation_Limits!C425)","v":""},{"$f":"IF(Deviation_Limits!D425=\"\",\"\",Deviation_Limits!D425)","v":""},"",{"$f":"IF(COUNTIF(AQ$2:AQ403,AQ403)=1,AQ403,\"\")","v":""},"","","",null,{"$f":"+IF(BD403=\"\",\"\",MAX(AY$1:AY402)+1)","v":""},{"$f":"IF(Deviation_CEM_CPMS!B425=\"\",\"\",Deviation_CEM_CPMS!B425)","v":""},{"$f":"IF(Deviation_CEM_CPMS!C425=\"\",\"\",Deviation_CEM_CPMS!C425)","v":""},{"$f":"IF(Deviation_CEM_CPMS!D425=\"\",\"\",Deviation_CEM_CPMS!D425)","v":""},"",{"$f":"IF(COUNTIF(BA$2:BA403,BA403)=1,BA403,\"\")","v":""},"","",""]
[{"$f":"IF(B404=\"\",\"\",MAX(A$1:A403)+1)","v":""},{"$f":"+IF(CPMS_Identification!C426=\"\",\"\",CPMS_Identification!C426)","v":""},"",null,{"$f":"IF(F404=\"\",\"\",MAX(E$1:E403)+1)","v":""},{"$f":"IF(Landfill_Gas_ID!C426=\"\",\"\",Landfill_Gas_ID!C426)","v":""},"",null,{"$f":"IF(J404=\"\",\"\",MAX(I$1:I403)+1)","v":""},{"$f":"IF(Distillate_Oil!C426=\"\",\"\",Distillate_Oil!C426)","v":""},"",null,null,null,null,null,null,null,null,null,null,null,null,null,null,null,{"$f":"+IF(AE404=\"\",\"\",MAX(AA$1:AA403)+1)","v":""},{"$f":"IF(Deviation_Limits!B426=\"\",\"\",Deviation_Limits!B426)","v":""},{"$f":"IF(Deviation_Limits!C426=\"\",\"\",Deviation_Limits!C426)","v":""},"",{"$f":"IF(COUNTIF(AC$2:AC404,AC404)=1,AC404,\"\")","v":""},"","",null,null,null,null,null,null,null,{"$f":"+IF(AT404=\"\",\"\",MAX(AO$1:AO403)+1)","v":""},{"$f":"IF(Deviation_Limits!B426=\"\",\"\",Deviation_Limits!B426)","v":""},{"$f":"IF(Deviation_Limits!C426=\"\",\"\",Deviation_Limits!C426)","v":""},{"$f":"IF(Deviation_Limits!D426=\"\",\"\",Deviation_Limits!D426)","v":""},"",{"$f":"IF(COUNTIF(AQ$2:AQ404,AQ404)=1,AQ404,\"\")","v":""},"","","",null,{"$f":"+IF(BD404=\"\",\"\",MAX(AY$1:AY403)+1)","v":""},{"$f":"IF(Deviation_CEM_CPMS!B426=\"\",\"\",Deviation_CEM_CPMS!B426)","v":""},{"$f":"IF(Deviation_CEM_CPMS!C426=\"\",\"\",Deviation_CEM_CPMS!C426)","v":""},{"$f":"IF(Deviation_CEM_CPMS!D426=\"\",\"\",Deviation_CEM_CPMS!D426)","v":""},"",{"$f":"IF(COUNTIF(BA$2:BA404,BA404)=1,BA404,\"\")","v":""},"","",""]
[{"$f":"IF(B405=\"\",\"\",MAX(A$1:A404)+1)","v":""},{"$f":"+IF(CPMS_Identification!C427=\"\",\"\",CPMS_Identification!C427)","v":""},"",null,{"$f":"IF(F405=\"\",\"\",MAX(E$1:E404)+1)","v":""},{"$f":"IF(Landfill_Gas_ID!C427=\"\",\"\",Landfill_Gas_ID!C427)","v":""},"",null,{"$f":"IF(J405=\"\",\"\",MAX(I$1:I404)+1)","v":""},{"$f":"IF(Distillate_Oil!C427=\"\",\"\",Distillate_Oil!C427)","v":""},"",null,null,null,null,null,null,null,null,null,null,null,null,null,null,null,{"$f":"+IF(AE405=\"\",\"\",MAX(AA$1:AA404)+1)","v":""},{"$f":"IF(Deviation_Limits!B427=\"\",\"\",Deviation_Limits!B427)","v":""},{"$f":"IF(Deviation_Limits!C427=\"\",\"\",Deviation_Limits!C427)","v":""},"",{"$f":"IF(COUNTIF(AC$2:AC405,AC405)=1,AC405,\"\")","v":""},"","",null,null,null,null,null,null,null,{"$f":"+IF(AT405=\"\",\"\",MAX(AO$1:AO404)+1)","v":""},{"$f":"IF(Deviation_Limits!B427=\"\",\"\",Deviation_Limits!B427)","v":""},{"$f":"IF(Deviation_Limits!C427=\"\",\"\",Deviation_Limits!C427)","v":""},{"$f":"IF(Deviation_Limits!D427=\"\",\"\",Deviation_Limits!D427)","v":""},"",{"$f":"IF(COUNTIF(AQ$2:AQ405,AQ405)=1,AQ405,\"\")","v":""},"","","",null,{"$f":"+IF(BD405=\"\",\"\",MAX(AY$1:AY404)+1)","v":""},{"$f":"IF(Deviation_CEM_CPMS!B427=\"\",\"\",Deviation_CEM_CPMS!B427)","v":""},{"$f":"IF(Deviation_CEM_CPMS!C427=\"\",\"\",Deviation_CEM_CPMS!C427)","v":""},{"$f":"IF(Deviation_CEM_CPMS!D427=\"\",\"\",Deviation_CEM_CPMS!D427)","v":""},"",{"$f":"IF(COUNTIF(BA$2:BA405,BA405)=1,BA405,\"\")","v":""},"","",""]
[{"$f":"IF(B406=\"\",\"\",MAX(A$1:A405)+1)","v":""},{"$f":"+IF(CPMS_Identification!C428=\"\",\"\",CPMS_Identification!C428)","v":""},"",null,{"$f":"IF(F406=\"\",\"\",MAX(E$1:E405)+1)","v":""},{"$f":"IF(Landfill_Gas_ID!C428=\"\",\"\",Landfill_Gas_ID!C428)","v":""},"",null,{"$f":"IF(J406=\"\",\"\",MAX(I$1:I405)+1)","v":""},{"$f":"IF(Distillate_Oil!C428=\"\",\"\",Distillate_Oil!C428)","v":""},"",null,null,null,null,null,null,null,null,null,null,null,null,null,null,null,{"$f":"+IF(AE406=\"\",\"\",MAX(AA$1:AA405)+1)","v":""},{"$f":"IF(Deviation_Limits!B428=\"\",\"\",Deviation_Limits!B428)","v":""},{"$f":"IF(Deviation_Limits!C428=\"\",\"\",Deviation_Limits!C428)","v":""},"",{"$f":"IF(COUNTIF(AC$2:AC406,AC406)=1,AC406,\"\")","v":""},"","",null,null,null,null,null,null,null,{"$f":"+IF(AT406=\"\",\"\",MAX(AO$1:AO405)+1)","v":""},{"$f":"IF(Deviation_Limits!B428=\"\",\"\",Deviation_Limits!B428)","v":""},{"$f":"IF(Deviation_Limits!C428=\"\",\"\",Deviation_Limits!C428)","v":""},{"$f":"IF(Deviation_Limits!D428=\"\",\"\",Deviation_Limits!D428)","v":""},"",{"$f":"IF(COUNTIF(AQ$2:AQ406,AQ406)=1,AQ406,\"\")","v":""},"","","",null,{"$f":"+IF(BD406=\"\",\"\",MAX(AY$1:AY405)+1)","v":""},{"$f":"IF(Deviation_CEM_CPMS!B428=\"\",\"\",Deviation_CEM_CPMS!B428)","v":""},{"$f":"IF(Deviation_CEM_CPMS!C428=\"\",\"\",Deviation_CEM_CPMS!C428)","v":""},{"$f":"IF(Deviation_CEM_CPMS!D428=\"\",\"\",Deviation_CEM_CPMS!D428)","v":""},"",{"$f":"IF(COUNTIF(BA$2:BA406,BA406)=1,BA406,\"\")","v":""},"","",""]
[{"$f":"IF(B407=\"\",\"\",MAX(A$1:A406)+1)","v":""},{"$f":"+IF(CPMS_Identification!C429=\"\",\"\",CPMS_Identification!C429)","v":""},"",null,{"$f":"IF(F407=\"\",\"\",MAX(E$1:E406)+1)","v":""},{"$f":"IF(Landfill_Gas_ID!C429=\"\",\"\",Landfill_Gas_ID!C429)","v":""},"",null,{"$f":"IF(J407=\"\",\"\",MAX(I$1:I406)+1)","v":""},{"$f":"IF(Distillate_Oil!C429=\"\",\"\",Distillate_Oil!C429)","v":""},"",null,null,null,null,null,null,null,null,null,null,null,null,null,null,null,{"$f":"+IF(AE407=\"\",\"\",MAX(AA$1:AA406)+1)","v":""},{"$f":"IF(Deviation_Limits!B429=\"\",\"\",Deviation_Limits!B429)","v":""},{"$f":"IF(Deviation_Limits!C429=\"\",\"\",Deviation_Limits!C429)","v":""},"",{"$f":"IF(COUNTIF(AC$2:AC407,AC407)=1,AC407,\"\")","v":""},"","",null,null,null,null,null,null,null,{"$f":"+IF(AT407=\"\",\"\",MAX(AO$1:AO406)+1)","v":""},{"$f":"IF(Deviation_Limits!B429=\"\",\"\",Deviation_Limits!B429)","v":""},{"$f":"IF(Deviation_Limits!C429=\"\",\"\",Deviation_Limits!C429)","v":""},{"$f":"IF(Deviation_Limits!D429=\"\",\"\",Deviation_Limits!D429)","v":""},"",{"$f":"IF(COUNTIF(AQ$2:AQ407,AQ407)=1,AQ407,\"\")","v":""},"","","",null,{"$f":"+IF(BD407=\"\",\"\",MAX(AY$1:AY406)+1)","v":""},{"$f":"IF(Deviation_CEM_CPMS!B429=\"\",\"\",Deviation_CEM_CPMS!B429)","v":""},{"$f":"IF(Deviation_CEM_CPMS!C429=\"\",\"\",Deviation_CEM_CPMS!C429)","v":""},{"$f":"IF(Deviation_CEM_CPMS!D429=\"\",\"\",Deviation_CEM_CPMS!D429)","v":""},"",{"$f":"IF(COUNTIF(BA$2:BA407,BA407)=1,BA407,\"\")","v":""},"","",""]
[{"$f":"IF(B408=\"\",\"\",MAX(A$1:A407)+1)","v":""},{"$f":"+IF(CPMS_Identification!C430=\"\",\"\",CPMS_Identification!C430)","v":""},"",null,{"$f":"IF(F408=\"\",\"\",MAX(E$1:E407)+1)","v":""},{"$f":"IF(Landfill_Gas_ID!C430=\"\",\"\",Landfill_Gas_ID!C430)","v":""},"",null,{"$f":"IF(J408=\"\",\"\",MAX(I$1:I407)+1)","v":""},{"$f":"IF(Distillate_Oil!C430=\"\",\"\",Distillate_Oil!C430)","v":""},"",null,null,null,null,null,null,null,null,null,null,null,null,null,null,null,{"$f":"+IF(AE408=\"\",\"\",MAX(AA$1:AA407)+1)","v":""},{"$f":"IF(Deviation_Limits!B430=\"\",\"\",Deviation_Limits!B430)","v":""},{"$f":"IF(Deviation_Limits!C430=\"\",\"\",Deviation_Limits!C430)","v":""},"",{"$f":"IF(COUNTIF(AC$2:AC408,AC408)=1,AC408,\"\")","v":""},"","",null,null,null,null,null,null,null,{"$f":"+IF(AT408=\"\",\"\",MAX(AO$1:AO407)+1)","v":""},{"$f":"IF(Deviation_Limits!B430=\"\",\"\",Deviation_Limits!B430)","v":""},{"$f":"IF(Deviation_Limits!C430=\"\",\"\",Deviation_Limits!C430)","v":""},{"$f":"IF(Deviation_Limits!D430=\"\",\"\",Deviation_Limits!D430)","v":""},"",{"$f":"IF(COUNTIF(AQ$2:AQ408,AQ408)=1,AQ408,\"\")","v":""},"","","",null,{"$f":"+IF(BD408=\"\",\"\",MAX(AY$1:AY407)+1)","v":""},{"$f":"IF(Deviation_CEM_CPMS!B430=\"\",\"\",Deviation_CEM_CPMS!B430)","v":""},{"$f":"IF(Deviation_CEM_CPMS!C430=\"\",\"\",Deviation_CEM_CPMS!C430)","v":""},{"$f":"IF(Deviation_CEM_CPMS!D430=\"\",\"\",Deviation_CEM_CPMS!D430)","v":""},"",{"$f":"IF(COUNTIF(BA$2:BA408,BA408)=1,BA408,\"\")","v":""},"","",""]
[{"$f":"IF(B409=\"\",\"\",MAX(A$1:A408)+1)","v":""},{"$f":"+IF(CPMS_Identification!C431=\"\",\"\",CPMS_Identification!C431)","v":""},"",null,{"$f":"IF(F409=\"\",\"\",MAX(E$1:E408)+1)","v":""},{"$f":"IF(Landfill_Gas_ID!C431=\"\",\"\",Landfill_Gas_ID!C431)","v":""},"",null,{"$f":"IF(J409=\"\",\"\",MAX(I$1:I408)+1)","v":""},{"$f":"IF(Distillate_Oil!C431=\"\",\"\",Distillate_Oil!C431)","v":""},"",null,null,null,null,null,null,null,null,null,null,null,null,null,null,null,{"$f":"+IF(AE409=\"\",\"\",MAX(AA$1:AA408)+1)","v":""},{"$f":"IF(Deviation_Limits!B431=\"\",\"\",Deviation_Limits!B431)","v":""},{"$f":"IF(Deviation_Limits!C431=\"\",\"\",Deviation_Limits!C431)","v":""},"",{"$f":"IF(COUNTIF(AC$2:AC409,AC409)=1,AC409,\"\")","v":""},"","",null,null,null,null,null,null,null,{"$f":"+IF(AT409=\"\",\"\",MAX(AO$1:AO408)+1)","v":""},{"$f":"IF(Deviation_Limits!B431=\"\",\"\",Deviation_Limits!B431)","v":""},{"$f":"IF(Deviation_Limits!C431=\"\",\"\",Deviation_Limits!C431)","v":""},{"$f":"IF(Deviation_Limits!D431=\"\",\"\",Deviation_Limits!D431)","v":""},"",{"$f":"IF(COUNTIF(AQ$2:AQ409,AQ409)=1,AQ409,\"\")","v":""},"","","",null,{"$f":"+IF(BD409=\"\",\"\",MAX(AY$1:AY408)+1)","v":""},{"$f":"IF(Deviation_CEM_CPMS!B431=\"\",\"\",Deviation_CEM_CPMS!B431)","v":""},{"$f":"IF(Deviation_CEM_CPMS!C431=\"\",\"\",Deviation_CEM_CPMS!C431)","v":""},{"$f":"IF(Deviation_CEM_CPMS!D431=\"\",\"\",Deviation_CEM_CPMS!D431)","v":""},"",{"$f":"IF(COUNTIF(BA$2:BA409,BA409)=1,BA409,\"\")","v":""},"","",""]
[{"$f":"IF(B410=\"\",\"\",MAX(A$1:A409)+1)","v":""},{"$f":"+IF(CPMS_Identification!C432=\"\",\"\",CPMS_Identification!C432)","v":""},"",null,{"$f":"IF(F410=\"\",\"\",MAX(E$1:E409)+1)","v":""},{"$f":"IF(Landfill_Gas_ID!C432=\"\",\"\",Landfill_Gas_ID!C432)","v":""},"",null,{"$f":"IF(J410=\"\",\"\",MAX(I$1:I409)+1)","v":""},{"$f":"IF(Distillate_Oil!C432=\"\",\"\",Distillate_Oil!C432)","v":""},"",null,null,null,null,null,null,null,null,null,null,null,null,null,null,null,{"$f":"+IF(AE410=\"\",\"\",MAX(AA$1:AA409)+1)","v":""},{"$f":"IF(Deviation_Limits!B432=\"\",\"\",Deviation_Limits!B432)","v":""},{"$f":"IF(Deviation_Limits!C432=\"\",\"\",Deviation_Limits!C432)","v":""},"",{"$f":"IF(COUNTIF(AC$2:AC410,AC410)=1,AC410,\"\")","v":""},"","",null,null,null,null,null,null,null,{"$f":"+IF(AT410=\"\",\"\",MAX(AO$1:AO409)+1)","v":""},{"$f":"IF(Deviation_Limits!B432=\"\",\"\",Deviation_Limits!B432)","v":""},{"$f":"IF(Deviation_Limits!C432=\"\",\"\",Deviation_Limits!C432)","v":""},{"$f":"IF(Deviation_Limits!D432=\"\",\"\",Deviation_Limits!D432)","v":""},"",{"$f":"IF(COUNTIF(AQ$2:AQ410,AQ410)=1,AQ410,\"\")","v":""},"","","",null,{"$f":"+IF(BD410=\"\",\"\",MAX(AY$1:AY409)+1)","v":""},{"$f":"IF(Deviation_CEM_CPMS!B432=\"\",\"\",Deviation_CEM_CPMS!B432)","v":""},{"$f":"IF(Deviation_CEM_CPMS!C432=\"\",\"\",Deviation_CEM_CPMS!C432)","v":""},{"$f":"IF(Deviation_CEM_CPMS!D432=\"\",\"\",Deviation_CEM_CPMS!D432)","v":""},"",{"$f":"IF(COUNTIF(BA$2:BA410,BA410)=1,BA410,\"\")","v":""},"","",""]
[{"$f":"IF(B411=\"\",\"\",MAX(A$1:A410)+1)","v":""},{"$f":"+IF(CPMS_Identification!C433=\"\",\"\",CPMS_Identification!C433)","v":""},"",null,{"$f":"IF(F411=\"\",\"\",MAX(E$1:E410)+1)","v":""},{"$f":"IF(Landfill_Gas_ID!C433=\"\",\"\",Landfill_Gas_ID!C433)","v":""},"",null,{"$f":"IF(J411=\"\",\"\",MAX(I$1:I410)+1)","v":""},{"$f":"IF(Distillate_Oil!C433=\"\",\"\",Distillate_Oil!C433)","v":""},"",null,null,null,null,null,null,null,null,null,null,null,null,null,null,null,{"$f":"+IF(AE411=\"\",\"\",MAX(AA$1:AA410)+1)","v":""},{"$f":"IF(Deviation_Limits!B433=\"\",\"\",Deviation_Limits!B433)","v":""},{"$f":"IF(Deviation_Limits!C433=\"\",\"\",Deviation_Limits!C433)","v":""},"",{"$f":"IF(COUNTIF(AC$2:AC411,AC411)=1,AC411,\"\")","v":""},"","",null,null,null,null,null,null,null,{"$f":"+IF(AT411=\"\",\"\",MAX(AO$1:AO410)+1)","v":""},{"$f":"IF(Deviation_Limits!B433=\"\",\"\",Deviation_Limits!B433)","v":""},{"$f":"IF(Deviation_Limits!C433=\"\",\"\",Deviation_Limits!C433)","v":""},{"$f":"IF(Deviation_Limits!D433=\"\",\"\",Deviation_Limits!D433)","v":""},"",{"$f":"IF(COUNTIF(AQ$2:AQ411,AQ411)=1,AQ411,\"\")","v":""},"","","",null,{"$f":"+IF(BD411=\"\",\"\",MAX(AY$1:AY410)+1)","v":""},{"$f":"IF(Deviation_CEM_CPMS!B433=\"\",\"\",Deviation_CEM_CPMS!B433)","v":""},{"$f":"IF(Deviation_CEM_CPMS!C433=\"\",\"\",Deviation_CEM_CPMS!C433)","v":""},{"$f":"IF(Deviation_CEM_CPMS!D433=\"\",\"\",Deviation_CEM_CPMS!D433)","v":""},"",{"$f":"IF(COUNTIF(BA$2:BA411,BA411)=1,BA411,\"\")","v":""},"","",""]
[{"$f":"IF(B412=\"\",\"\",MAX(A$1:A411)+1)","v":""},{"$f":"+IF(CPMS_Identification!C434=\"\",\"\",CPMS_Identification!C434)","v":""},"",null,{"$f":"IF(F412=\"\",\"\",MAX(E$1:E411)+1)","v":""},{"$f":"IF(Landfill_Gas_ID!C434=\"\",\"\",Landfill_Gas_ID!C434)","v":""},"",null,{"$f":"IF(J412=\"\",\"\",MAX(I$1:I411)+1)","v":""},{"$f":"IF(Distillate_Oil!C434=\"\",\"\",Distillate_Oil!C434)","v":""},"",null,null,null,null,null,null,null,null,null,null,null,null,null,null,null,{"$f":"+IF(AE412=\"\",\"\",MAX(AA$1:AA411)+1)","v":""},{"$f":"IF(Deviation_Limits!B434=\"\",\"\",Deviation_Limits!B434)","v":""},{"$f":"IF(Deviation_Limits!C434=\"\",\"\",Deviation_Limits!C434)","v":""},"",{"$f":"IF(COUNTIF(AC$2:AC412,AC412)=1,AC412,\"\")","v":""},"","",null,null,null,null,null,null,null,{"$f":"+IF(AT412=\"\",\"\",MAX(AO$1:AO411)+1)","v":""},{"$f":"IF(Deviation_Limits!B434=\"\",\"\",Deviation_Limits!B434)","v":""},{"$f":"IF(Deviation_Limits!C434=\"\",\"\",Deviation_Limits!C434)","v":""},{"$f":"IF(Deviation_Limits!D434=\"\",\"\",Deviation_Limits!D434)","v":""},"",{"$f":"IF(COUNTIF(AQ$2:AQ412,AQ412)=1,AQ412,\"\")","v":""},"","","",null,{"$f":"+IF(BD412=\"\",\"\",MAX(AY$1:AY411)+1)","v":""},{"$f":"IF(Deviation_CEM_CPMS!B434=\"\",\"\",Deviation_CEM_CPMS!B434)","v":""},{"$f":"IF(Deviation_CEM_CPMS!C434=\"\",\"\",Deviation_CEM_CPMS!C434)","v":""},{"$f":"IF(Deviation_CEM_CPMS!D434=\"\",\"\",Deviation_CEM_CPMS!D434)","v":""},"",{"$f":"IF(COUNTIF(BA$2:BA412,BA412)=1,BA412,\"\")","v":""},"","",""]
[{"$f":"IF(B413=\"\",\"\",MAX(A$1:A412)+1)","v":""},{"$f":"+IF(CPMS_Identification!C435=\"\",\"\",CPMS_Identification!C435)","v":""},"",null,{"$f":"IF(F413=\"\",\"\",MAX(E$1:E412)+1)","v":""},{"$f":"IF(Landfill_Gas_ID!C435=\"\",\"\",Landfill_Gas_ID!C435)","v":""},"",null,{"$f":"IF(J413=\"\",\"\",MAX(I$1:I412)+1)","v":""},{"$f":"IF(Distillate_Oil!C435=\"\",\"\",Distillate_Oil!C435)","v":""},"",null,null,null,null,null,null,null,null,null,null,null,null,null,null,null,{"$f":"+IF(AE413=\"\",\"\",MAX(AA$1:AA412)+1)","v":""},{"$f":"IF(Deviation_Limits!B435=\"\",\"\",Deviation_Limits!B435)","v":""},{"$f":"IF(Deviation_Limits!C435=\"\",\"\",Deviation_Limits!C435)","v":""},"",{"$f":"IF(COUNTIF(AC$2:AC413,AC413)=1,AC413,\"\")","v":""},"","",null,null,null,null,null,null,null,{"$f":"+IF(AT413=\"\",\"\",MAX(AO$1:AO412)+1)","v":""},{"$f":"IF(Deviation_Limits!B435=\"\",\"\",Deviation_Limits!B435)","v":""},{"$f":"IF(Deviation_Limits!C435=\"\",\"\",Deviation_Limits!C435)","v":""},{"$f":"IF(Deviation_Limits!D435=\"\",\"\",Deviation_Limits!D435)","v":""},"",{"$f":"IF(COUNTIF(AQ$2:AQ413,AQ413)=1,AQ413,\"\")","v":""},"","","",null,{"$f":"+IF(BD413=\"\",\"\",MAX(AY$1:AY412)+1)","v":""},{"$f":"IF(Deviation_CEM_CPMS!B435=\"\",\"\",Deviation_CEM_CPMS!B435)","v":""},{"$f":"IF(Deviation_CEM_CPMS!C435=\"\",\"\",Deviation_CEM_CPMS!C435)","v":""},{"$f":"IF(Deviation_CEM_CPMS!D435=\"\",\"\",Deviation_CEM_CPMS!D435)","v":""},"",{"$f":"IF(COUNTIF(BA$2:BA413,BA413)=1,BA413,\"\")","v":""},"","",""]
[{"$f":"IF(B414=\"\",\"\",MAX(A$1:A413)+1)","v":""},{"$f":"+IF(CPMS_Identification!C436=\"\",\"\",CPMS_Identification!C436)","v":""},"",null,{"$f":"IF(F414=\"\",\"\",MAX(E$1:E413)+1)","v":""},{"$f":"IF(Landfill_Gas_ID!C436=\"\",\"\",Landfill_Gas_ID!C436)","v":""},"",null,{"$f":"IF(J414=\"\",\"\",MAX(I$1:I413)+1)","v":""},{"$f":"IF(Distillate_Oil!C436=\"\",\"\",Distillate_Oil!C436)","v":""},"",null,null,null,null,null,null,null,null,null,null,null,null,null,null,null,{"$f":"+IF(AE414=\"\",\"\",MAX(AA$1:AA413)+1)","v":""},{"$f":"IF(Deviation_Limits!B436=\"\",\"\",Deviation_Limits!B436)","v":""},{"$f":"IF(Deviation_Limits!C436=\"\",\"\",Deviation_Limits!C436)","v":""},"",{"$f":"IF(COUNTIF(AC$2:AC414,AC414)=1,AC414,\"\")","v":""},"","",null,null,null,null,null,null,null,{"$f":"+IF(AT414=\"\",\"\",MAX(AO$1:AO413)+1)","v":""},{"$f":"IF(Deviation_Limits!B436=\"\",\"\",Deviation_Limits!B436)","v":""},{"$f":"IF(Deviation_Limits!C436=\"\",\"\",Deviation_Limits!C436)","v":""},{"$f":"IF(Deviation_Limits!D436=\"\",\"\",Deviation_Limits!D436)","v":""},"",{"$f":"IF(COUNTIF(AQ$2:AQ414,AQ414)=1,AQ414,\"\")","v":""},"","","",null,{"$f":"+IF(BD414=\"\",\"\",MAX(AY$1:AY413)+1)","v":""},{"$f":"IF(Deviation_CEM_CPMS!B436=\"\",\"\",Deviation_CEM_CPMS!B436)","v":""},{"$f":"IF(Deviation_CEM_CPMS!C436=\"\",\"\",Deviation_CEM_CPMS!C436)","v":""},{"$f":"IF(Deviation_CEM_CPMS!D436=\"\",\"\",Deviation_CEM_CPMS!D436)","v":""},"",{"$f":"IF(COUNTIF(BA$2:BA414,BA414)=1,BA414,\"\")","v":""},"","",""]
[{"$f":"IF(B415=\"\",\"\",MAX(A$1:A414)+1)","v":""},{"$f":"+IF(CPMS_Identification!C437=\"\",\"\",CPMS_Identification!C437)","v":""},"",null,{"$f":"IF(F415=\"\",\"\",MAX(E$1:E414)+1)","v":""},{"$f":"IF(Landfill_Gas_ID!C437=\"\",\"\",Landfill_Gas_ID!C437)","v":""},"",null,{"$f":"IF(J415=\"\",\"\",MAX(I$1:I414)+1)","v":""},{"$f":"IF(Distillate_Oil!C437=\"\",\"\",Distillate_Oil!C437)","v":""},"",null,null,null,null,null,null,null,null,null,null,null,null,null,null,null,{"$f":"+IF(AE415=\"\",\"\",MAX(AA$1:AA414)+1)","v":""},{"$f":"IF(Deviation_Limits!B437=\"\",\"\",Deviation_Limits!B437)","v":""},{"$f":"IF(Deviation_Limits!C437=\"\",\"\",Deviation_Limits!C437)","v":""},"",{"$f":"IF(COUNTIF(AC$2:AC415,AC415)=1,AC415,\"\")","v":""},"","",null,null,null,null,null,null,null,{"$f":"+IF(AT415=\"\",\"\",MAX(AO$1:AO414)+1)","v":""},{"$f":"IF(Deviation_Limits!B437=\"\",\"\",Deviation_Limits!B437)","v":""},{"$f":"IF(Deviation_Limits!C437=\"\",\"\",Deviation_Limits!C437)","v":""},{"$f":"IF(Deviation_Limits!D437=\"\",\"\",Deviation_Limits!D437)","v":""},"",{"$f":"IF(COUNTIF(AQ$2:AQ415,AQ415)=1,AQ415,\"\")","v":""},"","","",null,{"$f":"+IF(BD415=\"\",\"\",MAX(AY$1:AY414)+1)","v":""},{"$f":"IF(Deviation_CEM_CPMS!B437=\"\",\"\",Deviation_CEM_CPMS!B437)","v":""},{"$f":"IF(Deviation_CEM_CPMS!C437=\"\",\"\",Deviation_CEM_CPMS!C437)","v":""},{"$f":"IF(Deviation_CEM_CPMS!D437=\"\",\"\",Deviation_CEM_CPMS!D437)","v":""},"",{"$f":"IF(COUNTIF(BA$2:BA415,BA415)=1,BA415,\"\")","v":""},"","",""]
[{"$f":"IF(B416=\"\",\"\",MAX(A$1:A415)+1)","v":""},{"$f":"+IF(CPMS_Identification!C438=\"\",\"\",CPMS_Identification!C438)","v":""},"",null,{"$f":"IF(F416=\"\",\"\",MAX(E$1:E415)+1)","v":""},{"$f":"IF(Landfill_Gas_ID!C438=\"\",\"\",Landfill_Gas_ID!C438)","v":""},"",null,{"$f":"IF(J416=\"\",\"\",MAX(I$1:I415)+1)","v":""},{"$f":"IF(Distillate_Oil!C438=\"\",\"\",Distillate_Oil!C438)","v":""},"",null,null,null,null,null,null,null,null,null,null,null,null,null,null,null,{"$f":"+IF(AE416=\"\",\"\",MAX(AA$1:AA415)+1)","v":""},{"$f":"IF(Deviation_Limits!B438=\"\",\"\",Deviation_Limits!B438)","v":""},{"$f":"IF(Deviation_Limits!C438=\"\",\"\",Deviation_Limits!C438)","v":""},"",{"$f":"IF(COUNTIF(AC$2:AC416,AC416)=1,AC416,\"\")","v":""},"","",null,null,null,null,null,null,null,{"$f":"+IF(AT416=\"\",\"\",MAX(AO$1:AO415)+1)","v":""},{"$f":"IF(Deviation_Limits!B438=\"\",\"\",Deviation_Limits!B438)","v":""},{"$f":"IF(Deviation_Limits!C438=\"\",\"\",Deviation_Limits!C438)","v":""},{"$f":"IF(Deviation_Limits!D438=\"\",\"\",Deviation_Limits!D438)","v":""},"",{"$f":"IF(COUNTIF(AQ$2:AQ416,AQ416)=1,AQ416,\"\")","v":""},"","","",null,{"$f":"+IF(BD416=\"\",\"\",MAX(AY$1:AY415)+1)","v":""},{"$f":"IF(Deviation_CEM_CPMS!B438=\"\",\"\",Deviation_CEM_CPMS!B438)","v":""},{"$f":"IF(Deviation_CEM_CPMS!C438=\"\",\"\",Deviation_CEM_CPMS!C438)","v":""},{"$f":"IF(Deviation_CEM_CPMS!D438=\"\",\"\",Deviation_CEM_CPMS!D438)","v":""},"",{"$f":"IF(COUNTIF(BA$2:BA416,BA416)=1,BA416,\"\")","v":""},"","",""]
[{"$f":"IF(B417=\"\",\"\",MAX(A$1:A416)+1)","v":""},{"$f":"+IF(CPMS_Identification!C439=\"\",\"\",CPMS_Identification!C439)","v":""},"",null,{"$f":"IF(F417=\"\",\"\",MAX(E$1:E416)+1)","v":""},{"$f":"IF(Landfill_Gas_ID!C439=\"\",\"\",Landfill_Gas_ID!C439)","v":""},"",null,{"$f":"IF(J417=\"\",\"\",MAX(I$1:I416)+1)","v":""},{"$f":"IF(Distillate_Oil!C439=\"\",\"\",Distillate_Oil!C439)","v":""},"",null,null,null,null,null,null,null,null,null,null,null,null,null,null,null,{"$f":"+IF(AE417=\"\",\"\",MAX(AA$1:AA416)+1)","v":""},{"$f":"IF(Deviation_Limits!B439=\"\",\"\",Deviation_Limits!B439)","v":""},{"$f":"IF(Deviation_Limits!C439=\"\",\"\",Deviation_Limits!C439)","v":""},"",{"$f":"IF(COUNTIF(AC$2:AC417,AC417)=1,AC417,\"\")","v":""},"","",null,null,null,null,null,null,null,{"$f":"+IF(AT417=\"\",\"\",MAX(AO$1:AO416)+1)","v":""},{"$f":"IF(Deviation_Limits!B439=\"\",\"\",Deviation_Limits!B439)","v":""},{"$f":"IF(Deviation_Limits!C439=\"\",\"\",Deviation_Limits!C439)","v":""},{"$f":"IF(Deviation_Limits!D439=\"\",\"\",Deviation_Limits!D439)","v":""},"",{"$f":"IF(COUNTIF(AQ$2:AQ417,AQ417)=1,AQ417,\"\")","v":""},"","","",null,{"$f":"+IF(BD417=\"\",\"\",MAX(AY$1:AY416)+1)","v":""},{"$f":"IF(Deviation_CEM_CPMS!B439=\"\",\"\",Deviation_CEM_CPMS!B439)","v":""},{"$f":"IF(Deviation_CEM_CPMS!C439=\"\",\"\",Deviation_CEM_CPMS!C439)","v":""},{"$f":"IF(Deviation_CEM_CPMS!D439=\"\",\"\",Deviation_CEM_CPMS!D439)","v":""},"",{"$f":"IF(COUNTIF(BA$2:BA417,BA417)=1,BA417,\"\")","v":""},"","",""]
[{"$f":"IF(B418=\"\",\"\",MAX(A$1:A417)+1)","v":""},{"$f":"+IF(CPMS_Identification!C440=\"\",\"\",CPMS_Identification!C440)","v":""},"",null,{"$f":"IF(F418=\"\",\"\",MAX(E$1:E417)+1)","v":""},{"$f":"IF(Landfill_Gas_ID!C440=\"\",\"\",Landfill_Gas_ID!C440)","v":""},"",null,{"$f":"IF(J418=\"\",\"\",MAX(I$1:I417)+1)","v":""},{"$f":"IF(Distillate_Oil!C440=\"\",\"\",Distillate_Oil!C440)","v":""},"",null,null,null,null,null,null,null,null,null,null,null,null,null,null,null,{"$f":"+IF(AE418=\"\",\"\",MAX(AA$1:AA417)+1)","v":""},{"$f":"IF(Deviation_Limits!B440=\"\",\"\",Deviation_Limits!B440)","v":""},{"$f":"IF(Deviation_Limits!C440=\"\",\"\",Deviation_Limits!C440)","v":""},"",{"$f":"IF(COUNTIF(AC$2:AC418,AC418)=1,AC418,\"\")","v":""},"","",null,null,null,null,null,null,null,{"$f":"+IF(AT418=\"\",\"\",MAX(AO$1:AO417)+1)","v":""},{"$f":"IF(Deviation_Limits!B440=\"\",\"\",Deviation_Limits!B440)","v":""},{"$f":"IF(Deviation_Limits!C440=\"\",\"\",Deviation_Limits!C440)","v":""},{"$f":"IF(Deviation_Limits!D440=\"\",\"\",Deviation_Limits!D440)","v":""},"",{"$f":"IF(COUNTIF(AQ$2:AQ418,AQ418)=1,AQ418,\"\")","v":""},"","","",null,{"$f":"+IF(BD418=\"\",\"\",MAX(AY$1:AY417)+1)","v":""},{"$f":"IF(Deviation_CEM_CPMS!B440=\"\",\"\",Deviation_CEM_CPMS!B440)","v":""},{"$f":"IF(Deviation_CEM_CPMS!C440=\"\",\"\",Deviation_CEM_CPMS!C440)","v":""},{"$f":"IF(Deviation_CEM_CPMS!D440=\"\",\"\",Deviation_CEM_CPMS!D440)","v":""},"",{"$f":"IF(COUNTIF(BA$2:BA418,BA418)=1,BA418,\"\")","v":""},"","",""]
[{"$f":"IF(B419=\"\",\"\",MAX(A$1:A418)+1)","v":""},{"$f":"+IF(CPMS_Identification!C441=\"\",\"\",CPMS_Identification!C441)","v":""},"",null,{"$f":"IF(F419=\"\",\"\",MAX(E$1:E418)+1)","v":""},{"$f":"IF(Landfill_Gas_ID!C441=\"\",\"\",Landfill_Gas_ID!C441)","v":""},"",null,{"$f":"IF(J419=\"\",\"\",MAX(I$1:I418)+1)","v":""},{"$f":"IF(Distillate_Oil!C441=\"\",\"\",Distillate_Oil!C441)","v":""},"",null,null,null,null,null,null,null,null,null,null,null,null,null,null,null,{"$f":"+IF(AE419=\"\",\"\",MAX(AA$1:AA418)+1)","v":""},{"$f":"IF(Deviation_Limits!B441=\"\",\"\",Deviation_Limits!B441)","v":""},{"$f":"IF(Deviation_Limits!C441=\"\",\"\",Deviation_Limits!C441)","v":""},"",{"$f":"IF(COUNTIF(AC$2:AC419,AC419)=1,AC419,\"\")","v":""},"","",null,null,null,null,null,null,null,{"$f":"+IF(AT419=\"\",\"\",MAX(AO$1:AO418)+1)","v":""},{"$f":"IF(Deviation_Limits!B441=\"\",\"\",Deviation_Limits!B441)","v":""},{"$f":"IF(Deviation_Limits!C441=\"\",\"\",Deviation_Limits!C441)","v":""},{"$f":"IF(Deviation_Limits!D441=\"\",\"\",Deviation_Limits!D441)","v":""},"",{"$f":"IF(COUNTIF(AQ$2:AQ419,AQ419)=1,AQ419,\"\")","v":""},"","","",null,{"$f":"+IF(BD419=\"\",\"\",MAX(AY$1:AY418)+1)","v":""},{"$f":"IF(Deviation_CEM_CPMS!B441=\"\",\"\",Deviation_CEM_CPMS!B441)","v":""},{"$f":"IF(Deviation_CEM_CPMS!C441=\"\",\"\",Deviation_CEM_CPMS!C441)","v":""},{"$f":"IF(Deviation_CEM_CPMS!D441=\"\",\"\",Deviation_CEM_CPMS!D441)","v":""},"",{"$f":"IF(COUNTIF(BA$2:BA419,BA419)=1,BA419,\"\")","v":""},"","",""]
[{"$f":"IF(B420=\"\",\"\",MAX(A$1:A419)+1)","v":""},{"$f":"+IF(CPMS_Identification!C442=\"\",\"\",CPMS_Identification!C442)","v":""},"",null,{"$f":"IF(F420=\"\",\"\",MAX(E$1:E419)+1)","v":""},{"$f":"IF(Landfill_Gas_ID!C442=\"\",\"\",Landfill_Gas_ID!C442)","v":""},"",null,{"$f":"IF(J420=\"\",\"\",MAX(I$1:I419)+1)","v":""},{"$f":"IF(Distillate_Oil!C442=\"\",\"\",Distillate_Oil!C442)","v":""},"",null,null,null,null,null,null,null,null,null,null,null,null,null,null,null,{"$f":"+IF(AE420=\"\",\"\",MAX(AA$1:AA419)+1)","v":""},{"$f":"IF(Deviation_Limits!B442=\"\",\"\",Deviation_Limits!B442)","v":""},{"$f":"IF(Deviation_Limits!C442=\"\",\"\",Deviation_Limits!C442)","v":""},"",{"$f":"IF(COUNTIF(AC$2:AC420,AC420)=1,AC420,\"\")","v":""},"","",null,null,null,null,null,null,null,{"$f":"+IF(AT420=\"\",\"\",MAX(AO$1:AO419)+1)","v":""},{"$f":"IF(Deviation_Limits!B442=\"\",\"\",Deviation_Limits!B442)","v":""},{"$f":"IF(Deviation_Limits!C442=\"\",\"\",Deviation_Limits!C442)","v":""},{"$f":"IF(Deviation_Limits!D442=\"\",\"\",Deviation_Limits!D442)","v":""},"",{"$f":"IF(COUNTIF(AQ$2:AQ420,AQ420)=1,AQ420,\"\")","v":""},"","","",null,{"$f":"+IF(BD420=\"\",\"\",MAX(AY$1:AY419)+1)","v":""},{"$f":"IF(Deviation_CEM_CPMS!B442=\"\",\"\",Deviation_CEM_CPMS!B442)","v":""},{"$f":"IF(Deviation_CEM_CPMS!C442=\"\",\"\",Deviation_CEM_CPMS!C442)","v":""},{"$f":"IF(Deviation_CEM_CPMS!D442=\"\",\"\",Deviation_CEM_CPMS!D442)","v":""},"",{"$f":"IF(COUNTIF(BA$2:BA420,BA420)=1,BA420,\"\")","v":""},"","",""]
[{"$f":"IF(B421=\"\",\"\",MAX(A$1:A420)+1)","v":""},{"$f":"+IF(CPMS_Identification!C443=\"\",\"\",CPMS_Identification!C443)","v":""},"",null,{"$f":"IF(F421=\"\",\"\",MAX(E$1:E420)+1)","v":""},{"$f":"IF(Landfill_Gas_ID!C443=\"\",\"\",Landfill_Gas_ID!C443)","v":""},"",null,{"$f":"IF(J421=\"\",\"\",MAX(I$1:I420)+1)","v":""},{"$f":"IF(Distillate_Oil!C443=\"\",\"\",Distillate_Oil!C443)","v":""},"",null,null,null,null,null,null,null,null,null,null,null,null,null,null,null,{"$f":"+IF(AE421=\"\",\"\",MAX(AA$1:AA420)+1)","v":""},{"$f":"IF(Deviation_Limits!B443=\"\",\"\",Deviation_Limits!B443)","v":""},{"$f":"IF(Deviation_Limits!C443=\"\",\"\",Deviation_Limits!C443)","v":""},"",{"$f":"IF(COUNTIF(AC$2:AC421,AC421)=1,AC421,\"\")","v":""},"","",null,null,null,null,null,null,null,{"$f":"+IF(AT421=\"\",\"\",MAX(AO$1:AO420)+1)","v":""},{"$f":"IF(Deviation_Limits!B443=\"\",\"\",Deviation_Limits!B443)","v":""},{"$f":"IF(Deviation_Limits!C443=\"\",\"\",Deviation_Limits!C443)","v":""},{"$f":"IF(Deviation_Limits!D443=\"\",\"\",Deviation_Limits!D443)","v":""},"",{"$f":"IF(COUNTIF(AQ$2:AQ421,AQ421)=1,AQ421,\"\")","v":""},"","","",null,{"$f":"+IF(BD421=\"\",\"\",MAX(AY$1:AY420)+1)","v":""},{"$f":"IF(Deviation_CEM_CPMS!B443=\"\",\"\",Deviation_CEM_CPMS!B443)","v":""},{"$f":"IF(Deviation_CEM_CPMS!C443=\"\",\"\",Deviation_CEM_CPMS!C443)","v":""},{"$f":"IF(Deviation_CEM_CPMS!D443=\"\",\"\",Deviation_CEM_CPMS!D443)","v":""},"",{"$f":"IF(COUNTIF(BA$2:BA421,BA421)=1,BA421,\"\")","v":""},"","",""]
[{"$f":"IF(B422=\"\",\"\",MAX(A$1:A421)+1)","v":""},{"$f":"+IF(CPMS_Identification!C444=\"\",\"\",CPMS_Identification!C444)","v":""},"",null,{"$f":"IF(F422=\"\",\"\",MAX(E$1:E421)+1)","v":""},{"$f":"IF(Landfill_Gas_ID!C444=\"\",\"\",Landfill_Gas_ID!C444)","v":""},"",null,{"$f":"IF(J422=\"\",\"\",MAX(I$1:I421)+1)","v":""},{"$f":"IF(Distillate_Oil!C444=\"\",\"\",Distillate_Oil!C444)","v":""},"",null,null,null,null,null,null,null,null,null,null,null,null,null,null,null,{"$f":"+IF(AE422=\"\",\"\",MAX(AA$1:AA421)+1)","v":""},{"$f":"IF(Deviation_Limits!B444=\"\",\"\",Deviation_Limits!B444)","v":""},{"$f":"IF(Deviation_Limits!C444=\"\",\"\",Deviation_Limits!C444)","v":""},"",{"$f":"IF(COUNTIF(AC$2:AC422,AC422)=1,AC422,\"\")","v":""},"","",null,null,null,null,null,null,null,{"$f":"+IF(AT422=\"\",\"\",MAX(AO$1:AO421)+1)","v":""},{"$f":"IF(Deviation_Limits!B444=\"\",\"\",Deviation_Limits!B444)","v":""},{"$f":"IF(Deviation_Limits!C444=\"\",\"\",Deviation_Limits!C444)","v":""},{"$f":"IF(Deviation_Limits!D444=\"\",\"\",Deviation_Limits!D444)","v":""},"",{"$f":"IF(COUNTIF(AQ$2:AQ422,AQ422)=1,AQ422,\"\")","v":""},"","","",null,{"$f":"+IF(BD422=\"\",\"\",MAX(AY$1:AY421)+1)","v":""},{"$f":"IF(Deviation_CEM_CPMS!B444=\"\",\"\",Deviation_CEM_CPMS!B444)","v":""},{"$f":"IF(Deviation_CEM_CPMS!C444=\"\",\"\",Deviation_CEM_CPMS!C444)","v":""},{"$f":"IF(Deviation_CEM_CPMS!D444=\"\",\"\",Deviation_CEM_CPMS!D444)","v":""},"",{"$f":"IF(COUNTIF(BA$2:BA422,BA422)=1,BA422,\"\")","v":""},"","",""]
[{"$f":"IF(B423=\"\",\"\",MAX(A$1:A422)+1)","v":""},{"$f":"+IF(CPMS_Identification!C445=\"\",\"\",CPMS_Identification!C445)","v":""},"",null,{"$f":"IF(F423=\"\",\"\",MAX(E$1:E422)+1)","v":""},{"$f":"IF(Landfill_Gas_ID!C445=\"\",\"\",Landfill_Gas_ID!C445)","v":""},"",null,{"$f":"IF(J423=\"\",\"\",MAX(I$1:I422)+1)","v":""},{"$f":"IF(Distillate_Oil!C445=\"\",\"\",Distillate_Oil!C445)","v":""},"",null,null,null,null,null,null,null,null,null,null,null,null,null,null,null,{"$f":"+IF(AE423=\"\",\"\",MAX(AA$1:AA422)+1)","v":""},{"$f":"IF(Deviation_Limits!B445=\"\",\"\",Deviation_Limits!B445)","v":""},{"$f":"IF(Deviation_Limits!C445=\"\",\"\",Deviation_Limits!C445)","v":""},"",{"$f":"IF(COUNTIF(AC$2:AC423,AC423)=1,AC423,\"\")","v":""},"","",null,null,null,null,null,null,null,{"$f":"+IF(AT423=\"\",\"\",MAX(AO$1:AO422)+1)","v":""},{"$f":"IF(Deviation_Limits!B445=\"\",\"\",Deviation_Limits!B445)","v":""},{"$f":"IF(Deviation_Limits!C445=\"\",\"\",Deviation_Limits!C445)","v":""},{"$f":"IF(Deviation_Limits!D445=\"\",\"\",Deviation_Limits!D445)","v":""},"",{"$f":"IF(COUNTIF(AQ$2:AQ423,AQ423)=1,AQ423,\"\")","v":""},"","","",null,{"$f":"+IF(BD423=\"\",\"\",MAX(AY$1:AY422)+1)","v":""},{"$f":"IF(Deviation_CEM_CPMS!B445=\"\",\"\",Deviation_CEM_CPMS!B445)","v":""},{"$f":"IF(Deviation_CEM_CPMS!C445=\"\",\"\",Deviation_CEM_CPMS!C445)","v":""},{"$f":"IF(Deviation_CEM_CPMS!D445=\"\",\"\",Deviation_CEM_CPMS!D445)","v":""},"",{"$f":"IF(COUNTIF(BA$2:BA423,BA423)=1,BA423,\"\")","v":""},"","",""]
[{"$f":"IF(B424=\"\",\"\",MAX(A$1:A423)+1)","v":""},{"$f":"+IF(CPMS_Identification!C446=\"\",\"\",CPMS_Identification!C446)","v":""},"",null,{"$f":"IF(F424=\"\",\"\",MAX(E$1:E423)+1)","v":""},{"$f":"IF(Landfill_Gas_ID!C446=\"\",\"\",Landfill_Gas_ID!C446)","v":""},"",null,{"$f":"IF(J424=\"\",\"\",MAX(I$1:I423)+1)","v":""},{"$f":"IF(Distillate_Oil!C446=\"\",\"\",Distillate_Oil!C446)","v":""},"",null,null,null,null,null,null,null,null,null,null,null,null,null,null,null,{"$f":"+IF(AE424=\"\",\"\",MAX(AA$1:AA423)+1)","v":""},{"$f":"IF(Deviation_Limits!B446=\"\",\"\",Deviation_Limits!B446)","v":""},{"$f":"IF(Deviation_Limits!C446=\"\",\"\",Deviation_Limits!C446)","v":""},"",{"$f":"IF(COUNTIF(AC$2:AC424,AC424)=1,AC424,\"\")","v":""},"","",null,null,null,null,null,null,null,{"$f":"+IF(AT424=\"\",\"\",MAX(AO$1:AO423)+1)","v":""},{"$f":"IF(Deviation_Limits!B446=\"\",\"\",Deviation_Limits!B446)","v":""},{"$f":"IF(Deviation_Limits!C446=\"\",\"\",Deviation_Limits!C446)","v":""},{"$f":"IF(Deviation_Limits!D446=\"\",\"\",Deviation_Limits!D446)","v":""},"",{"$f":"IF(COUNTIF(AQ$2:AQ424,AQ424)=1,AQ424,\"\")","v":""},"","","",null,{"$f":"+IF(BD424=\"\",\"\",MAX(AY$1:AY423)+1)","v":""},{"$f":"IF(Deviation_CEM_CPMS!B446=\"\",\"\",Deviation_CEM_CPMS!B446)","v":""},{"$f":"IF(Deviation_CEM_CPMS!C446=\"\",\"\",Deviation_CEM_CPMS!C446)","v":""},{"$f":"IF(Deviation_CEM_CPMS!D446=\"\",\"\",Deviation_CEM_CPMS!D446)","v":""},"",{"$f":"IF(COUNTIF(BA$2:BA424,BA424)=1,BA424,\"\")","v":""},"","",""]
[{"$f":"IF(B425=\"\",\"\",MAX(A$1:A424)+1)","v":""},{"$f":"+IF(CPMS_Identification!C447=\"\",\"\",CPMS_Identification!C447)","v":""},"",null,{"$f":"IF(F425=\"\",\"\",MAX(E$1:E424)+1)","v":""},{"$f":"IF(Landfill_Gas_ID!C447=\"\",\"\",Landfill_Gas_ID!C447)","v":""},"",null,{"$f":"IF(J425=\"\",\"\",MAX(I$1:I424)+1)","v":""},{"$f":"IF(Distillate_Oil!C447=\"\",\"\",Distillate_Oil!C447)","v":""},"",null,null,null,null,null,null,null,null,null,null,null,null,null,null,null,{"$f":"+IF(AE425=\"\",\"\",MAX(AA$1:AA424)+1)","v":""},{"$f":"IF(Deviation_Limits!B447=\"\",\"\",Deviation_Limits!B447)","v":""},{"$f":"IF(Deviation_Limits!C447=\"\",\"\",Deviation_Limits!C447)","v":""},"",{"$f":"IF(COUNTIF(AC$2:AC425,AC425)=1,AC425,\"\")","v":""},"","",null,null,null,null,null,null,null,{"$f":"+IF(AT425=\"\",\"\",MAX(AO$1:AO424)+1)","v":""},{"$f":"IF(Deviation_Limits!B447=\"\",\"\",Deviation_Limits!B447)","v":""},{"$f":"IF(Deviation_Limits!C447=\"\",\"\",Deviation_Limits!C447)","v":""},{"$f":"IF(Deviation_Limits!D447=\"\",\"\",Deviation_Limits!D447)","v":""},"",{"$f":"IF(COUNTIF(AQ$2:AQ425,AQ425)=1,AQ425,\"\")","v":""},"","","",null,{"$f":"+IF(BD425=\"\",\"\",MAX(AY$1:AY424)+1)","v":""},{"$f":"IF(Deviation_CEM_CPMS!B447=\"\",\"\",Deviation_CEM_CPMS!B447)","v":""},{"$f":"IF(Deviation_CEM_CPMS!C447=\"\",\"\",Deviation_CEM_CPMS!C447)","v":""},{"$f":"IF(Deviation_CEM_CPMS!D447=\"\",\"\",Deviation_CEM_CPMS!D447)","v":""},"",{"$f":"IF(COUNTIF(BA$2:BA425,BA425)=1,BA425,\"\")","v":""},"","",""]
[{"$f":"IF(B426=\"\",\"\",MAX(A$1:A425)+1)","v":""},{"$f":"+IF(CPMS_Identification!C448=\"\",\"\",CPMS_Identification!C448)","v":""},"",null,{"$f":"IF(F426=\"\",\"\",MAX(E$1:E425)+1)","v":""},{"$f":"IF(Landfill_Gas_ID!C448=\"\",\"\",Landfill_Gas_ID!C448)","v":""},"",null,{"$f":"IF(J426=\"\",\"\",MAX(I$1:I425)+1)","v":""},{"$f":"IF(Distillate_Oil!C448=\"\",\"\",Distillate_Oil!C448)","v":""},"",null,null,null,null,null,null,null,null,null,null,null,null,null,null,null,{"$f":"+IF(AE426=\"\",\"\",MAX(AA$1:AA425)+1)","v":""},{"$f":"IF(Deviation_Limits!B448=\"\",\"\",Deviation_Limits!B448)","v":""},{"$f":"IF(Deviation_Limits!C448=\"\",\"\",Deviation_Limits!C448)","v":""},"",{"$f":"IF(COUNTIF(AC$2:AC426,AC426)=1,AC426,\"\")","v":""},"","",null,null,null,null,null,null,null,{"$f":"+IF(AT426=\"\",\"\",MAX(AO$1:AO425)+1)","v":""},{"$f":"IF(Deviation_Limits!B448=\"\",\"\",Deviation_Limits!B448)","v":""},{"$f":"IF(Deviation_Limits!C448=\"\",\"\",Deviation_Limits!C448)","v":""},{"$f":"IF(Deviation_Limits!D448=\"\",\"\",Deviation_Limits!D448)","v":""},"",{"$f":"IF(COUNTIF(AQ$2:AQ426,AQ426)=1,AQ426,\"\")","v":""},"","","",null,{"$f":"+IF(BD426=\"\",\"\",MAX(AY$1:AY425)+1)","v":""},{"$f":"IF(Deviation_CEM_CPMS!B448=\"\",\"\",Deviation_CEM_CPMS!B448)","v":""},{"$f":"IF(Deviation_CEM_CPMS!C448=\"\",\"\",Deviation_CEM_CPMS!C448)","v":""},{"$f":"IF(Deviation_CEM_CPMS!D448=\"\",\"\",Deviation_CEM_CPMS!D448)","v":""},"",{"$f":"IF(COUNTIF(BA$2:BA426,BA426)=1,BA426,\"\")","v":""},"","",""]
[{"$f":"IF(B427=\"\",\"\",MAX(A$1:A426)+1)","v":""},{"$f":"+IF(CPMS_Identification!C449=\"\",\"\",CPMS_Identification!C449)","v":""},"",null,{"$f":"IF(F427=\"\",\"\",MAX(E$1:E426)+1)","v":""},{"$f":"IF(Landfill_Gas_ID!C449=\"\",\"\",Landfill_Gas_ID!C449)","v":""},"",null,{"$f":"IF(J427=\"\",\"\",MAX(I$1:I426)+1)","v":""},{"$f":"IF(Distillate_Oil!C449=\"\",\"\",Distillate_Oil!C449)","v":""},"",null,null,null,null,null,null,null,null,null,null,null,null,null,null,null,{"$f":"+IF(AE427=\"\",\"\",MAX(AA$1:AA426)+1)","v":""},{"$f":"IF(Deviation_Limits!B449=\"\",\"\",Deviation_Limits!B449)","v":""},{"$f":"IF(Deviation_Limits!C449=\"\",\"\",Deviation_Limits!C449)","v":""},"",{"$f":"IF(COUNTIF(AC$2:AC427,AC427)=1,AC427,\"\")","v":""},"","",null,null,null,null,null,null,null,{"$f":"+IF(AT427=\"\",\"\",MAX(AO$1:AO426)+1)","v":""},{"$f":"IF(Deviation_Limits!B449=\"\",\"\",Deviation_Limits!B449)","v":""},{"$f":"IF(Deviation_Limits!C449=\"\",\"\",Deviation_Limits!C449)","v":""},{"$f":"IF(Deviation_Limits!D449=\"\",\"\",Deviation_Limits!D449)","v":""},"",{"$f":"IF(COUNTIF(AQ$2:AQ427,AQ427)=1,AQ427,\"\")","v":""},"","","",null,{"$f":"+IF(BD427=\"\",\"\",MAX(AY$1:AY426)+1)","v":""},{"$f":"IF(Deviation_CEM_CPMS!B449=\"\",\"\",Deviation_CEM_CPMS!B449)","v":""},{"$f":"IF(Deviation_CEM_CPMS!C449=\"\",\"\",Deviation_CEM_CPMS!C449)","v":""},{"$f":"IF(Deviation_CEM_CPMS!D449=\"\",\"\",Deviation_CEM_CPMS!D449)","v":""},"",{"$f":"IF(COUNTIF(BA$2:BA427,BA427)=1,BA427,\"\")","v":""},"","",""]
[{"$f":"IF(B428=\"\",\"\",MAX(A$1:A427)+1)","v":""},{"$f":"+IF(CPMS_Identification!C450=\"\",\"\",CPMS_Identification!C450)","v":""},"",null,{"$f":"IF(F428=\"\",\"\",MAX(E$1:E427)+1)","v":""},{"$f":"IF(Landfill_Gas_ID!C450=\"\",\"\",Landfill_Gas_ID!C450)","v":""},"",null,{"$f":"IF(J428=\"\",\"\",MAX(I$1:I427)+1)","v":""},{"$f":"IF(Distillate_Oil!C450=\"\",\"\",Distillate_Oil!C450)","v":""},"",null,null,null,null,null,null,null,null,null,null,null,null,null,null,null,{"$f":"+IF(AE428=\"\",\"\",MAX(AA$1:AA427)+1)","v":""},{"$f":"IF(Deviation_Limits!B450=\"\",\"\",Deviation_Limits!B450)","v":""},{"$f":"IF(Deviation_Limits!C450=\"\",\"\",Deviation_Limits!C450)","v":""},"",{"$f":"IF(COUNTIF(AC$2:AC428,AC428)=1,AC428,\"\")","v":""},"","",null,null,null,null,null,null,null,{"$f":"+IF(AT428=\"\",\"\",MAX(AO$1:AO427)+1)","v":""},{"$f":"IF(Deviation_Limits!B450=\"\",\"\",Deviation_Limits!B450)","v":""},{"$f":"IF(Deviation_Limits!C450=\"\",\"\",Deviation_Limits!C450)","v":""},{"$f":"IF(Deviation_Limits!D450=\"\",\"\",Deviation_Limits!D450)","v":""},"",{"$f":"IF(COUNTIF(AQ$2:AQ428,AQ428)=1,AQ428,\"\")","v":""},"","","",null,{"$f":"+IF(BD428=\"\",\"\",MAX(AY$1:AY427)+1)","v":""},{"$f":"IF(Deviation_CEM_CPMS!B450=\"\",\"\",Deviation_CEM_CPMS!B450)","v":""},{"$f":"IF(Deviation_CEM_CPMS!C450=\"\",\"\",Deviation_CEM_CPMS!C450)","v":""},{"$f":"IF(Deviation_CEM_CPMS!D450=\"\",\"\",Deviation_CEM_CPMS!D450)","v":""},"",{"$f":"IF(COUNTIF(BA$2:BA428,BA428)=1,BA428,\"\")","v":""},"","",""]
[{"$f":"IF(B429=\"\",\"\",MAX(A$1:A428)+1)","v":""},{"$f":"+IF(CPMS_Identification!C451=\"\",\"\",CPMS_Identification!C451)","v":""},"",null,{"$f":"IF(F429=\"\",\"\",MAX(E$1:E428)+1)","v":""},{"$f":"IF(Landfill_Gas_ID!C451=\"\",\"\",Landfill_Gas_ID!C451)","v":""},"",null,{"$f":"IF(J429=\"\",\"\",MAX(I$1:I428)+1)","v":""},{"$f":"IF(Distillate_Oil!C451=\"\",\"\",Distillate_Oil!C451)","v":""},"",null,null,null,null,null,null,null,null,null,null,null,null,null,null,null,{"$f":"+IF(AE429=\"\",\"\",MAX(AA$1:AA428)+1)","v":""},{"$f":"IF(Deviation_Limits!B451=\"\",\"\",Deviation_Limits!B451)","v":""},{"$f":"IF(Deviation_Limits!C451=\"\",\"\",Deviation_Limits!C451)","v":""},"",{"$f":"IF(COUNTIF(AC$2:AC429,AC429)=1,AC429,\"\")","v":""},"","",null,null,null,null,null,null,null,{"$f":"+IF(AT429=\"\",\"\",MAX(AO$1:AO428)+1)","v":""},{"$f":"IF(Deviation_Limits!B451=\"\",\"\",Deviation_Limits!B451)","v":""},{"$f":"IF(Deviation_Limits!C451=\"\",\"\",Deviation_Limits!C451)","v":""},{"$f":"IF(Deviation_Limits!D451=\"\",\"\",Deviation_Limits!D451)","v":""},"",{"$f":"IF(COUNTIF(AQ$2:AQ429,AQ429)=1,AQ429,\"\")","v":""},"","","",null,{"$f":"+IF(BD429=\"\",\"\",MAX(AY$1:AY428)+1)","v":""},{"$f":"IF(Deviation_CEM_CPMS!B451=\"\",\"\",Deviation_CEM_CPMS!B451)","v":""},{"$f":"IF(Deviation_CEM_CPMS!C451=\"\",\"\",Deviation_CEM_CPMS!C451)","v":""},{"$f":"IF(Deviation_CEM_CPMS!D451=\"\",\"\",Deviation_CEM_CPMS!D451)","v":""},"",{"$f":"IF(COUNTIF(BA$2:BA429,BA429)=1,BA429,\"\")","v":""},"","",""]
[{"$f":"IF(B430=\"\",\"\",MAX(A$1:A429)+1)","v":""},{"$f":"+IF(CPMS_Identification!C452=\"\",\"\",CPMS_Identification!C452)","v":""},"",null,{"$f":"IF(F430=\"\",\"\",MAX(E$1:E429)+1)","v":""},{"$f":"IF(Landfill_Gas_ID!C452=\"\",\"\",Landfill_Gas_ID!C452)","v":""},"",null,{"$f":"IF(J430=\"\",\"\",MAX(I$1:I429)+1)","v":""},{"$f":"IF(Distillate_Oil!C452=\"\",\"\",Distillate_Oil!C452)","v":""},"",null,null,null,null,null,null,null,null,null,null,null,null,null,null,null,{"$f":"+IF(AE430=\"\",\"\",MAX(AA$1:AA429)+1)","v":""},{"$f":"IF(Deviation_Limits!B452=\"\",\"\",Deviation_Limits!B452)","v":""},{"$f":"IF(Deviation_Limits!C452=\"\",\"\",Deviation_Limits!C452)","v":""},"",{"$f":"IF(COUNTIF(AC$2:AC430,AC430)=1,AC430,\"\")","v":""},"","",null,null,null,null,null,null,null,{"$f":"+IF(AT430=\"\",\"\",MAX(AO$1:AO429)+1)","v":""},{"$f":"IF(Deviation_Limits!B452=\"\",\"\",Deviation_Limits!B452)","v":""},{"$f":"IF(Deviation_Limits!C452=\"\",\"\",Deviation_Limits!C452)","v":""},{"$f":"IF(Deviation_Limits!D452=\"\",\"\",Deviation_Limits!D452)","v":""},"",{"$f":"IF(COUNTIF(AQ$2:AQ430,AQ430)=1,AQ430,\"\")","v":""},"","","",null,{"$f":"+IF(BD430=\"\",\"\",MAX(AY$1:AY429)+1)","v":""},{"$f":"IF(Deviation_CEM_CPMS!B452=\"\",\"\",Deviation_CEM_CPMS!B452)","v":""},{"$f":"IF(Deviation_CEM_CPMS!C452=\"\",\"\",Deviation_CEM_CPMS!C452)","v":""},{"$f":"IF(Deviation_CEM_CPMS!D452=\"\",\"\",Deviation_CEM_CPMS!D452)","v":""},"",{"$f":"IF(COUNTIF(BA$2:BA430,BA430)=1,BA430,\"\")","v":""},"","",""]
[{"$f":"IF(B431=\"\",\"\",MAX(A$1:A430)+1)","v":""},{"$f":"+IF(CPMS_Identification!C453=\"\",\"\",CPMS_Identification!C453)","v":""},"",null,{"$f":"IF(F431=\"\",\"\",MAX(E$1:E430)+1)","v":""},{"$f":"IF(Landfill_Gas_ID!C453=\"\",\"\",Landfill_Gas_ID!C453)","v":""},"",null,{"$f":"IF(J431=\"\",\"\",MAX(I$1:I430)+1)","v":""},{"$f":"IF(Distillate_Oil!C453=\"\",\"\",Distillate_Oil!C453)","v":""},"",null,null,null,null,null,null,null,null,null,null,null,null,null,null,null,{"$f":"+IF(AE431=\"\",\"\",MAX(AA$1:AA430)+1)","v":""},{"$f":"IF(Deviation_Limits!B453=\"\",\"\",Deviation_Limits!B453)","v":""},{"$f":"IF(Deviation_Limits!C453=\"\",\"\",Deviation_Limits!C453)","v":""},"",{"$f":"IF(COUNTIF(AC$2:AC431,AC431)=1,AC431,\"\")","v":""},"","",null,null,null,null,null,null,null,{"$f":"+IF(AT431=\"\",\"\",MAX(AO$1:AO430)+1)","v":""},{"$f":"IF(Deviation_Limits!B453=\"\",\"\",Deviation_Limits!B453)","v":""},{"$f":"IF(Deviation_Limits!C453=\"\",\"\",Deviation_Limits!C453)","v":""},{"$f":"IF(Deviation_Limits!D453=\"\",\"\",Deviation_Limits!D453)","v":""},"",{"$f":"IF(COUNTIF(AQ$2:AQ431,AQ431)=1,AQ431,\"\")","v":""},"","","",null,{"$f":"+IF(BD431=\"\",\"\",MAX(AY$1:AY430)+1)","v":""},{"$f":"IF(Deviation_CEM_CPMS!B453=\"\",\"\",Deviation_CEM_CPMS!B453)","v":""},{"$f":"IF(Deviation_CEM_CPMS!C453=\"\",\"\",Deviation_CEM_CPMS!C453)","v":""},{"$f":"IF(Deviation_CEM_CPMS!D453=\"\",\"\",Deviation_CEM_CPMS!D453)","v":""},"",{"$f":"IF(COUNTIF(BA$2:BA431,BA431)=1,BA431,\"\")","v":""},"","",""]
[{"$f":"IF(B432=\"\",\"\",MAX(A$1:A431)+1)","v":""},{"$f":"+IF(CPMS_Identification!C454=\"\",\"\",CPMS_Identification!C454)","v":""},"",null,{"$f":"IF(F432=\"\",\"\",MAX(E$1:E431)+1)","v":""},{"$f":"IF(Landfill_Gas_ID!C454=\"\",\"\",Landfill_Gas_ID!C454)","v":""},"",null,{"$f":"IF(J432=\"\",\"\",MAX(I$1:I431)+1)","v":""},{"$f":"IF(Distillate_Oil!C454=\"\",\"\",Distillate_Oil!C454)","v":""},"",null,null,null,null,null,null,null,null,null,null,null,null,null,null,null,{"$f":"+IF(AE432=\"\",\"\",MAX(AA$1:AA431)+1)","v":""},{"$f":"IF(Deviation_Limits!B454=\"\",\"\",Deviation_Limits!B454)","v":""},{"$f":"IF(Deviation_Limits!C454=\"\",\"\",Deviation_Limits!C454)","v":""},"",{"$f":"IF(COUNTIF(AC$2:AC432,AC432)=1,AC432,\"\")","v":""},"","",null,null,null,null,null,null,null,{"$f":"+IF(AT432=\"\",\"\",MAX(AO$1:AO431)+1)","v":""},{"$f":"IF(Deviation_Limits!B454=\"\",\"\",Deviation_Limits!B454)","v":""},{"$f":"IF(Deviation_Limits!C454=\"\",\"\",Deviation_Limits!C454)","v":""},{"$f":"IF(Deviation_Limits!D454=\"\",\"\",Deviation_Limits!D454)","v":""},"",{"$f":"IF(COUNTIF(AQ$2:AQ432,AQ432)=1,AQ432,\"\")","v":""},"","","",null,{"$f":"+IF(BD432=\"\",\"\",MAX(AY$1:AY431)+1)","v":""},{"$f":"IF(Deviation_CEM_CPMS!B454=\"\",\"\",Deviation_CEM_CPMS!B454)","v":""},{"$f":"IF(Deviation_CEM_CPMS!C454=\"\",\"\",Deviation_CEM_CPMS!C454)","v":""},{"$f":"IF(Deviation_CEM_CPMS!D454=\"\",\"\",Deviation_CEM_CPMS!D454)","v":""},"",{"$f":"IF(COUNTIF(BA$2:BA432,BA432)=1,BA432,\"\")","v":""},"","",""]
[{"$f":"IF(B433=\"\",\"\",MAX(A$1:A432)+1)","v":""},{"$f":"+IF(CPMS_Identification!C455=\"\",\"\",CPMS_Identification!C455)","v":""},"",null,{"$f":"IF(F433=\"\",\"\",MAX(E$1:E432)+1)","v":""},{"$f":"IF(Landfill_Gas_ID!C455=\"\",\"\",Landfill_Gas_ID!C455)","v":""},"",null,{"$f":"IF(J433=\"\",\"\",MAX(I$1:I432)+1)","v":""},{"$f":"IF(Distillate_Oil!C455=\"\",\"\",Distillate_Oil!C455)","v":""},"",null,null,null,null,null,null,null,null,null,null,null,null,null,null,null,{"$f":"+IF(AE433=\"\",\"\",MAX(AA$1:AA432)+1)","v":""},{"$f":"IF(Deviation_Limits!B455=\"\",\"\",Deviation_Limits!B455)","v":""},{"$f":"IF(Deviation_Limits!C455=\"\",\"\",Deviation_Limits!C455)","v":""},"",{"$f":"IF(COUNTIF(AC$2:AC433,AC433)=1,AC433,\"\")","v":""},"","",null,null,null,null,null,null,null,{"$f":"+IF(AT433=\"\",\"\",MAX(AO$1:AO432)+1)","v":""},{"$f":"IF(Deviation_Limits!B455=\"\",\"\",Deviation_Limits!B455)","v":""},{"$f":"IF(Deviation_Limits!C455=\"\",\"\",Deviation_Limits!C455)","v":""},{"$f":"IF(Deviation_Limits!D455=\"\",\"\",Deviation_Limits!D455)","v":""},"",{"$f":"IF(COUNTIF(AQ$2:AQ433,AQ433)=1,AQ433,\"\")","v":""},"","","",null,{"$f":"+IF(BD433=\"\",\"\",MAX(AY$1:AY432)+1)","v":""},{"$f":"IF(Deviation_CEM_CPMS!B455=\"\",\"\",Deviation_CEM_CPMS!B455)","v":""},{"$f":"IF(Deviation_CEM_CPMS!C455=\"\",\"\",Deviation_CEM_CPMS!C455)","v":""},{"$f":"IF(Deviation_CEM_CPMS!D455=\"\",\"\",Deviation_CEM_CPMS!D455)","v":""},"",{"$f":"IF(COUNTIF(BA$2:BA433,BA433)=1,BA433,\"\")","v":""},"","",""]
[{"$f":"IF(B434=\"\",\"\",MAX(A$1:A433)+1)","v":""},{"$f":"+IF(CPMS_Identification!C456=\"\",\"\",CPMS_Identification!C456)","v":""},"",null,{"$f":"IF(F434=\"\",\"\",MAX(E$1:E433)+1)","v":""},{"$f":"IF(Landfill_Gas_ID!C456=\"\",\"\",Landfill_Gas_ID!C456)","v":""},"",null,{"$f":"IF(J434=\"\",\"\",MAX(I$1:I433)+1)","v":""},{"$f":"IF(Distillate_Oil!C456=\"\",\"\",Distillate_Oil!C456)","v":""},"",null,null,null,null,null,null,null,null,null,null,null,null,null,null,null,{"$f":"+IF(AE434=\"\",\"\",MAX(AA$1:AA433)+1)","v":""},{"$f":"IF(Deviation_Limits!B456=\"\",\"\",Deviation_Limits!B456)","v":""},{"$f":"IF(Deviation_Limits!C456=\"\",\"\",Deviation_Limits!C456)","v":""},"",{"$f":"IF(COUNTIF(AC$2:AC434,AC434)=1,AC434,\"\")","v":""},"","",null,null,null,null,null,null,null,{"$f":"+IF(AT434=\"\",\"\",MAX(AO$1:AO433)+1)","v":""},{"$f":"IF(Deviation_Limits!B456=\"\",\"\",Deviation_Limits!B456)","v":""},{"$f":"IF(Deviation_Limits!C456=\"\",\"\",Deviation_Limits!C456)","v":""},{"$f":"IF(Deviation_Limits!D456=\"\",\"\",Deviation_Limits!D456)","v":""},"",{"$f":"IF(COUNTIF(AQ$2:AQ434,AQ434)=1,AQ434,\"\")","v":""},"","","",null,{"$f":"+IF(BD434=\"\",\"\",MAX(AY$1:AY433)+1)","v":""},{"$f":"IF(Deviation_CEM_CPMS!B456=\"\",\"\",Deviation_CEM_CPMS!B456)","v":""},{"$f":"IF(Deviation_CEM_CPMS!C456=\"\",\"\",Deviation_CEM_CPMS!C456)","v":""},{"$f":"IF(Deviation_CEM_CPMS!D456=\"\",\"\",Deviation_CEM_CPMS!D456)","v":""},"",{"$f":"IF(COUNTIF(BA$2:BA434,BA434)=1,BA434,\"\")","v":""},"","",""]
[{"$f":"IF(B435=\"\",\"\",MAX(A$1:A434)+1)","v":""},{"$f":"+IF(CPMS_Identification!C457=\"\",\"\",CPMS_Identification!C457)","v":""},"",null,{"$f":"IF(F435=\"\",\"\",MAX(E$1:E434)+1)","v":""},{"$f":"IF(Landfill_Gas_ID!C457=\"\",\"\",Landfill_Gas_ID!C457)","v":""},"",null,{"$f":"IF(J435=\"\",\"\",MAX(I$1:I434)+1)","v":""},{"$f":"IF(Distillate_Oil!C457=\"\",\"\",Distillate_Oil!C457)","v":""},"",null,null,null,null,null,null,null,null,null,null,null,null,null,null,null,{"$f":"+IF(AE435=\"\",\"\",MAX(AA$1:AA434)+1)","v":""},{"$f":"IF(Deviation_Limits!B457=\"\",\"\",Deviation_Limits!B457)","v":""},{"$f":"IF(Deviation_Limits!C457=\"\",\"\",Deviation_Limits!C457)","v":""},"",{"$f":"IF(COUNTIF(AC$2:AC435,AC435)=1,AC435,\"\")","v":""},"","",null,null,null,null,null,null,null,{"$f":"+IF(AT435=\"\",\"\",MAX(AO$1:AO434)+1)","v":""},{"$f":"IF(Deviation_Limits!B457=\"\",\"\",Deviation_Limits!B457)","v":""},{"$f":"IF(Deviation_Limits!C457=\"\",\"\",Deviation_Limits!C457)","v":""},{"$f":"IF(Deviation_Limits!D457=\"\",\"\",Deviation_Limits!D457)","v":""},"",{"$f":"IF(COUNTIF(AQ$2:AQ435,AQ435)=1,AQ435,\"\")","v":""},"","","",null,{"$f":"+IF(BD435=\"\",\"\",MAX(AY$1:AY434)+1)","v":""},{"$f":"IF(Deviation_CEM_CPMS!B457=\"\",\"\",Deviation_CEM_CPMS!B457)","v":""},{"$f":"IF(Deviation_CEM_CPMS!C457=\"\",\"\",Deviation_CEM_CPMS!C457)","v":""},{"$f":"IF(Deviation_CEM_CPMS!D457=\"\",\"\",Deviation_CEM_CPMS!D457)","v":""},"",{"$f":"IF(COUNTIF(BA$2:BA435,BA435)=1,BA435,\"\")","v":""},"","",""]
[{"$f":"IF(B436=\"\",\"\",MAX(A$1:A435)+1)","v":""},{"$f":"+IF(CPMS_Identification!C458=\"\",\"\",CPMS_Identification!C458)","v":""},"",null,{"$f":"IF(F436=\"\",\"\",MAX(E$1:E435)+1)","v":""},{"$f":"IF(Landfill_Gas_ID!C458=\"\",\"\",Landfill_Gas_ID!C458)","v":""},"",null,{"$f":"IF(J436=\"\",\"\",MAX(I$1:I435)+1)","v":""},{"$f":"IF(Distillate_Oil!C458=\"\",\"\",Distillate_Oil!C458)","v":""},"",null,null,null,null,null,null,null,null,null,null,null,null,null,null,null,{"$f":"+IF(AE436=\"\",\"\",MAX(AA$1:AA435)+1)","v":""},{"$f":"IF(Deviation_Limits!B458=\"\",\"\",Deviation_Limits!B458)","v":""},{"$f":"IF(Deviation_Limits!C458=\"\",\"\",Deviation_Limits!C458)","v":""},"",{"$f":"IF(COUNTIF(AC$2:AC436,AC436)=1,AC436,\"\")","v":""},"","",null,null,null,null,null,null,null,{"$f":"+IF(AT436=\"\",\"\",MAX(AO$1:AO435)+1)","v":""},{"$f":"IF(Deviation_Limits!B458=\"\",\"\",Deviation_Limits!B458)","v":""},{"$f":"IF(Deviation_Limits!C458=\"\",\"\",Deviation_Limits!C458)","v":""},{"$f":"IF(Deviation_Limits!D458=\"\",\"\",Deviation_Limits!D458)","v":""},"",{"$f":"IF(COUNTIF(AQ$2:AQ436,AQ436)=1,AQ436,\"\")","v":""},"","","",null,{"$f":"+IF(BD436=\"\",\"\",MAX(AY$1:AY435)+1)","v":""},{"$f":"IF(Deviation_CEM_CPMS!B458=\"\",\"\",Deviation_CEM_CPMS!B458)","v":""},{"$f":"IF(Deviation_CEM_CPMS!C458=\"\",\"\",Deviation_CEM_CPMS!C458)","v":""},{"$f":"IF(Deviation_CEM_CPMS!D458=\"\",\"\",Deviation_CEM_CPMS!D458)","v":""},"",{"$f":"IF(COUNTIF(BA$2:BA436,BA436)=1,BA436,\"\")","v":""},"","",""]
[{"$f":"IF(B437=\"\",\"\",MAX(A$1:A436)+1)","v":""},{"$f":"+IF(CPMS_Identification!C459=\"\",\"\",CPMS_Identification!C459)","v":""},"",null,{"$f":"IF(F437=\"\",\"\",MAX(E$1:E436)+1)","v":""},{"$f":"IF(Landfill_Gas_ID!C459=\"\",\"\",Landfill_Gas_ID!C459)","v":""},"",null,{"$f":"IF(J437=\"\",\"\",MAX(I$1:I436)+1)","v":""},{"$f":"IF(Distillate_Oil!C459=\"\",\"\",Distillate_Oil!C459)","v":""},"",null,null,null,null,null,null,null,null,null,null,null,null,null,null,null,{"$f":"+IF(AE437=\"\",\"\",MAX(AA$1:AA436)+1)","v":""},{"$f":"IF(Deviation_Limits!B459=\"\",\"\",Deviation_Limits!B459)","v":""},{"$f":"IF(Deviation_Limits!C459=\"\",\"\",Deviation_Limits!C459)","v":""},"",{"$f":"IF(COUNTIF(AC$2:AC437,AC437)=1,AC437,\"\")","v":""},"","",null,null,null,null,null,null,null,{"$f":"+IF(AT437=\"\",\"\",MAX(AO$1:AO436)+1)","v":""},{"$f":"IF(Deviation_Limits!B459=\"\",\"\",Deviation_Limits!B459)","v":""},{"$f":"IF(Deviation_Limits!C459=\"\",\"\",Deviation_Limits!C459)","v":""},{"$f":"IF(Deviation_Limits!D459=\"\",\"\",Deviation_Limits!D459)","v":""},"",{"$f":"IF(COUNTIF(AQ$2:AQ437,AQ437)=1,AQ437,\"\")","v":""},"","","",null,{"$f":"+IF(BD437=\"\",\"\",MAX(AY$1:AY436)+1)","v":""},{"$f":"IF(Deviation_CEM_CPMS!B459=\"\",\"\",Deviation_CEM_CPMS!B459)","v":""},{"$f":"IF(Deviation_CEM_CPMS!C459=\"\",\"\",Deviation_CEM_CPMS!C459)","v":""},{"$f":"IF(Deviation_CEM_CPMS!D459=\"\",\"\",Deviation_CEM_CPMS!D459)","v":""},"",{"$f":"IF(COUNTIF(BA$2:BA437,BA437)=1,BA437,\"\")","v":""},"","",""]
[{"$f":"IF(B438=\"\",\"\",MAX(A$1:A437)+1)","v":""},{"$f":"+IF(CPMS_Identification!C460=\"\",\"\",CPMS_Identification!C460)","v":""},"",null,{"$f":"IF(F438=\"\",\"\",MAX(E$1:E437)+1)","v":""},{"$f":"IF(Landfill_Gas_ID!C460=\"\",\"\",Landfill_Gas_ID!C460)","v":""},"",null,{"$f":"IF(J438=\"\",\"\",MAX(I$1:I437)+1)","v":""},{"$f":"IF(Distillate_Oil!C460=\"\",\"\",Distillate_Oil!C460)","v":""},"",null,null,null,null,null,null,null,null,null,null,null,null,null,null,null,{"$f":"+IF(AE438=\"\",\"\",MAX(AA$1:AA437)+1)","v":""},{"$f":"IF(Deviation_Limits!B460=\"\",\"\",Deviation_Limits!B460)","v":""},{"$f":"IF(Deviation_Limits!C460=\"\",\"\",Deviation_Limits!C460)","v":""},"",{"$f":"IF(COUNTIF(AC$2:AC438,AC438)=1,AC438,\"\")","v":""},"","",null,null,null,null,null,null,null,{"$f":"+IF(AT438=\"\",\"\",MAX(AO$1:AO437)+1)","v":""},{"$f":"IF(Deviation_Limits!B460=\"\",\"\",Deviation_Limits!B460)","v":""},{"$f":"IF(Deviation_Limits!C460=\"\",\"\",Deviation_Limits!C460)","v":""},{"$f":"IF(Deviation_Limits!D460=\"\",\"\",Deviation_Limits!D460)","v":""},"",{"$f":"IF(COUNTIF(AQ$2:AQ438,AQ438)=1,AQ438,\"\")","v":""},"","","",null,{"$f":"+IF(BD438=\"\",\"\",MAX(AY$1:AY437)+1)","v":""},{"$f":"IF(Deviation_CEM_CPMS!B460=\"\",\"\",Deviation_CEM_CPMS!B460)","v":""},{"$f":"IF(Deviation_CEM_CPMS!C460=\"\",\"\",Deviation_CEM_CPMS!C460)","v":""},{"$f":"IF(Deviation_CEM_CPMS!D460=\"\",\"\",Deviation_CEM_CPMS!D460)","v":""},"",{"$f":"IF(COUNTIF(BA$2:BA438,BA438)=1,BA438,\"\")","v":""},"","",""]
[{"$f":"IF(B439=\"\",\"\",MAX(A$1:A438)+1)","v":""},{"$f":"+IF(CPMS_Identification!C461=\"\",\"\",CPMS_Identification!C461)","v":""},"",null,{"$f":"IF(F439=\"\",\"\",MAX(E$1:E438)+1)","v":""},{"$f":"IF(Landfill_Gas_ID!C461=\"\",\"\",Landfill_Gas_ID!C461)","v":""},"",null,{"$f":"IF(J439=\"\",\"\",MAX(I$1:I438)+1)","v":""},{"$f":"IF(Distillate_Oil!C461=\"\",\"\",Distillate_Oil!C461)","v":""},"",null,null,null,null,null,null,null,null,null,null,null,null,null,null,null,{"$f":"+IF(AE439=\"\",\"\",MAX(AA$1:AA438)+1)","v":""},{"$f":"IF(Deviation_Limits!B461=\"\",\"\",Deviation_Limits!B461)","v":""},{"$f":"IF(Deviation_Limits!C461=\"\",\"\",Deviation_Limits!C461)","v":""},"",{"$f":"IF(COUNTIF(AC$2:AC439,AC439)=1,AC439,\"\")","v":""},"","",null,null,null,null,null,null,null,{"$f":"+IF(AT439=\"\",\"\",MAX(AO$1:AO438)+1)","v":""},{"$f":"IF(Deviation_Limits!B461=\"\",\"\",Deviation_Limits!B461)","v":""},{"$f":"IF(Deviation_Limits!C461=\"\",\"\",Deviation_Limits!C461)","v":""},{"$f":"IF(Deviation_Limits!D461=\"\",\"\",Deviation_Limits!D461)","v":""},"",{"$f":"IF(COUNTIF(AQ$2:AQ439,AQ439)=1,AQ439,\"\")","v":""},"","","",null,{"$f":"+IF(BD439=\"\",\"\",MAX(AY$1:AY438)+1)","v":""},{"$f":"IF(Deviation_CEM_CPMS!B461=\"\",\"\",Deviation_CEM_CPMS!B461)","v":""},{"$f":"IF(Deviation_CEM_CPMS!C461=\"\",\"\",Deviation_CEM_CPMS!C461)","v":""},{"$f":"IF(Deviation_CEM_CPMS!D461=\"\",\"\",Deviation_CEM_CPMS!D461)","v":""},"",{"$f":"IF(COUNTIF(BA$2:BA439,BA439)=1,BA439,\"\")","v":""},"","",""]
[{"$f":"IF(B440=\"\",\"\",MAX(A$1:A439)+1)","v":""},{"$f":"+IF(CPMS_Identification!C462=\"\",\"\",CPMS_Identification!C462)","v":""},"",null,{"$f":"IF(F440=\"\",\"\",MAX(E$1:E439)+1)","v":""},{"$f":"IF(Landfill_Gas_ID!C462=\"\",\"\",Landfill_Gas_ID!C462)","v":""},"",null,{"$f":"IF(J440=\"\",\"\",MAX(I$1:I439)+1)","v":""},{"$f":"IF(Distillate_Oil!C462=\"\",\"\",Distillate_Oil!C462)","v":""},"",null,null,null,null,null,null,null,null,null,null,null,null,null,null,null,{"$f":"+IF(AE440=\"\",\"\",MAX(AA$1:AA439)+1)","v":""},{"$f":"IF(Deviation_Limits!B462=\"\",\"\",Deviation_Limits!B462)","v":""},{"$f":"IF(Deviation_Limits!C462=\"\",\"\",Deviation_Limits!C462)","v":""},"",{"$f":"IF(COUNTIF(AC$2:AC440,AC440)=1,AC440,\"\")","v":""},"","",null,null,null,null,null,null,null,{"$f":"+IF(AT440=\"\",\"\",MAX(AO$1:AO439)+1)","v":""},{"$f":"IF(Deviation_Limits!B462=\"\",\"\",Deviation_Limits!B462)","v":""},{"$f":"IF(Deviation_Limits!C462=\"\",\"\",Deviation_Limits!C462)","v":""},{"$f":"IF(Deviation_Limits!D462=\"\",\"\",Deviation_Limits!D462)","v":""},"",{"$f":"IF(COUNTIF(AQ$2:AQ440,AQ440)=1,AQ440,\"\")","v":""},"","","",null,{"$f":"+IF(BD440=\"\",\"\",MAX(AY$1:AY439)+1)","v":""},{"$f":"IF(Deviation_CEM_CPMS!B462=\"\",\"\",Deviation_CEM_CPMS!B462)","v":""},{"$f":"IF(Deviation_CEM_CPMS!C462=\"\",\"\",Deviation_CEM_CPMS!C462)","v":""},{"$f":"IF(Deviation_CEM_CPMS!D462=\"\",\"\",Deviation_CEM_CPMS!D462)","v":""},"",{"$f":"IF(COUNTIF(BA$2:BA440,BA440)=1,BA440,\"\")","v":""},"","",""]
[{"$f":"IF(B441=\"\",\"\",MAX(A$1:A440)+1)","v":""},{"$f":"+IF(CPMS_Identification!C463=\"\",\"\",CPMS_Identification!C463)","v":""},"",null,{"$f":"IF(F441=\"\",\"\",MAX(E$1:E440)+1)","v":""},{"$f":"IF(Landfill_Gas_ID!C463=\"\",\"\",Landfill_Gas_ID!C463)","v":""},"",null,{"$f":"IF(J441=\"\",\"\",MAX(I$1:I440)+1)","v":""},{"$f":"IF(Distillate_Oil!C463=\"\",\"\",Distillate_Oil!C463)","v":""},"",null,null,null,null,null,null,null,null,null,null,null,null,null,null,null,{"$f":"+IF(AE441=\"\",\"\",MAX(AA$1:AA440)+1)","v":""},{"$f":"IF(Deviation_Limits!B463=\"\",\"\",Deviation_Limits!B463)","v":""},{"$f":"IF(Deviation_Limits!C463=\"\",\"\",Deviation_Limits!C463)","v":""},"",{"$f":"IF(COUNTIF(AC$2:AC441,AC441)=1,AC441,\"\")","v":""},"","",null,null,null,null,null,null,null,{"$f":"+IF(AT441=\"\",\"\",MAX(AO$1:AO440)+1)","v":""},{"$f":"IF(Deviation_Limits!B463=\"\",\"\",Deviation_Limits!B463)","v":""},{"$f":"IF(Deviation_Limits!C463=\"\",\"\",Deviation_Limits!C463)","v":""},{"$f":"IF(Deviation_Limits!D463=\"\",\"\",Deviation_Limits!D463)","v":""},"",{"$f":"IF(COUNTIF(AQ$2:AQ441,AQ441)=1,AQ441,\"\")","v":""},"","","",null,{"$f":"+IF(BD441=\"\",\"\",MAX(AY$1:AY440)+1)","v":""},{"$f":"IF(Deviation_CEM_CPMS!B463=\"\",\"\",Deviation_CEM_CPMS!B463)","v":""},{"$f":"IF(Deviation_CEM_CPMS!C463=\"\",\"\",Deviation_CEM_CPMS!C463)","v":""},{"$f":"IF(Deviation_CEM_CPMS!D463=\"\",\"\",Deviation_CEM_CPMS!D463)","v":""},"",{"$f":"IF(COUNTIF(BA$2:BA441,BA441)=1,BA441,\"\")","v":""},"","",""]
[{"$f":"IF(B442=\"\",\"\",MAX(A$1:A441)+1)","v":""},{"$f":"+IF(CPMS_Identification!C464=\"\",\"\",CPMS_Identification!C464)","v":""},"",null,{"$f":"IF(F442=\"\",\"\",MAX(E$1:E441)+1)","v":""},{"$f":"IF(Landfill_Gas_ID!C464=\"\",\"\",Landfill_Gas_ID!C464)","v":""},"",null,{"$f":"IF(J442=\"\",\"\",MAX(I$1:I441)+1)","v":""},{"$f":"IF(Distillate_Oil!C464=\"\",\"\",Distillate_Oil!C464)","v":""},"",null,null,null,null,null,null,null,null,null,null,null,null,null,null,null,{"$f":"+IF(AE442=\"\",\"\",MAX(AA$1:AA441)+1)","v":""},{"$f":"IF(Deviation_Limits!B464=\"\",\"\",Deviation_Limits!B464)","v":""},{"$f":"IF(Deviation_Limits!C464=\"\",\"\",Deviation_Limits!C464)","v":""},"",{"$f":"IF(COUNTIF(AC$2:AC442,AC442)=1,AC442,\"\")","v":""},"","",null,null,null,null,null,null,null,{"$f":"+IF(AT442=\"\",\"\",MAX(AO$1:AO441)+1)","v":""},{"$f":"IF(Deviation_Limits!B464=\"\",\"\",Deviation_Limits!B464)","v":""},{"$f":"IF(Deviation_Limits!C464=\"\",\"\",Deviation_Limits!C464)","v":""},{"$f":"IF(Deviation_Limits!D464=\"\",\"\",Deviation_Limits!D464)","v":""},"",{"$f":"IF(COUNTIF(AQ$2:AQ442,AQ442)=1,AQ442,\"\")","v":""},"","","",null,{"$f":"+IF(BD442=\"\",\"\",MAX(AY$1:AY441)+1)","v":""},{"$f":"IF(Deviation_CEM_CPMS!B464=\"\",\"\",Deviation_CEM_CPMS!B464)","v":""},{"$f":"IF(Deviation_CEM_CPMS!C464=\"\",\"\",Deviation_CEM_CPMS!C464)","v":""},{"$f":"IF(Deviation_CEM_CPMS!D464=\"\",\"\",Deviation_CEM_CPMS!D464)","v":""},"",{"$f":"IF(COUNTIF(BA$2:BA442,BA442)=1,BA442,\"\")","v":""},"","",""]
[{"$f":"IF(B443=\"\",\"\",MAX(A$1:A442)+1)","v":""},{"$f":"+IF(CPMS_Identification!C465=\"\",\"\",CPMS_Identification!C465)","v":""},"",null,{"$f":"IF(F443=\"\",\"\",MAX(E$1:E442)+1)","v":""},{"$f":"IF(Landfill_Gas_ID!C465=\"\",\"\",Landfill_Gas_ID!C465)","v":""},"",null,{"$f":"IF(J443=\"\",\"\",MAX(I$1:I442)+1)","v":""},{"$f":"IF(Distillate_Oil!C465=\"\",\"\",Distillate_Oil!C465)","v":""},"",null,null,null,null,null,null,null,null,null,null,null,null,null,null,null,{"$f":"+IF(AE443=\"\",\"\",MAX(AA$1:AA442)+1)","v":""},{"$f":"IF(Deviation_Limits!B465=\"\",\"\",Deviation_Limits!B465)","v":""},{"$f":"IF(Deviation_Limits!C465=\"\",\"\",Deviation_Limits!C465)","v":""},"",{"$f":"IF(COUNTIF(AC$2:AC443,AC443)=1,AC443,\"\")","v":""},"","",null,null,null,null,null,null,null,{"$f":"+IF(AT443=\"\",\"\",MAX(AO$1:AO442)+1)","v":""},{"$f":"IF(Deviation_Limits!B465=\"\",\"\",Deviation_Limits!B465)","v":""},{"$f":"IF(Deviation_Limits!C465=\"\",\"\",Deviation_Limits!C465)","v":""},{"$f":"IF(Deviation_Limits!D465=\"\",\"\",Deviation_Limits!D465)","v":""},"",{"$f":"IF(COUNTIF(AQ$2:AQ443,AQ443)=1,AQ443,\"\")","v":""},"","","",null,{"$f":"+IF(BD443=\"\",\"\",MAX(AY$1:AY442)+1)","v":""},{"$f":"IF(Deviation_CEM_CPMS!B465=\"\",\"\",Deviation_CEM_CPMS!B465)","v":""},{"$f":"IF(Deviation_CEM_CPMS!C465=\"\",\"\",Deviation_CEM_CPMS!C465)","v":""},{"$f":"IF(Deviation_CEM_CPMS!D465=\"\",\"\",Deviation_CEM_CPMS!D465)","v":""},"",{"$f":"IF(COUNTIF(BA$2:BA443,BA443)=1,BA443,\"\")","v":""},"","",""]
[{"$f":"IF(B444=\"\",\"\",MAX(A$1:A443)+1)","v":""},{"$f":"+IF(CPMS_Identification!C466=\"\",\"\",CPMS_Identification!C466)","v":""},"",null,{"$f":"IF(F444=\"\",\"\",MAX(E$1:E443)+1)","v":""},{"$f":"IF(Landfill_Gas_ID!C466=\"\",\"\",Landfill_Gas_ID!C466)","v":""},"",null,{"$f":"IF(J444=\"\",\"\",MAX(I$1:I443)+1)","v":""},{"$f":"IF(Distillate_Oil!C466=\"\",\"\",Distillate_Oil!C466)","v":""},"",null,null,null,null,null,null,null,null,null,null,null,null,null,null,null,{"$f":"+IF(AE444=\"\",\"\",MAX(AA$1:AA443)+1)","v":""},{"$f":"IF(Deviation_Limits!B466=\"\",\"\",Deviation_Limits!B466)","v":""},{"$f":"IF(Deviation_Limits!C466=\"\",\"\",Deviation_Limits!C466)","v":""},"",{"$f":"IF(COUNTIF(AC$2:AC444,AC444)=1,AC444,\"\")","v":""},"","",null,null,null,null,null,null,null,{"$f":"+IF(AT444=\"\",\"\",MAX(AO$1:AO443)+1)","v":""},{"$f":"IF(Deviation_Limits!B466=\"\",\"\",Deviation_Limits!B466)","v":""},{"$f":"IF(Deviation_Limits!C466=\"\",\"\",Deviation_Limits!C466)","v":""},{"$f":"IF(Deviation_Limits!D466=\"\",\"\",Deviation_Limits!D466)","v":""},"",{"$f":"IF(COUNTIF(AQ$2:AQ444,AQ444)=1,AQ444,\"\")","v":""},"","","",null,{"$f":"+IF(BD444=\"\",\"\",MAX(AY$1:AY443)+1)","v":""},{"$f":"IF(Deviation_CEM_CPMS!B466=\"\",\"\",Deviation_CEM_CPMS!B466)","v":""},{"$f":"IF(Deviation_CEM_CPMS!C466=\"\",\"\",Deviation_CEM_CPMS!C466)","v":""},{"$f":"IF(Deviation_CEM_CPMS!D466=\"\",\"\",Deviation_CEM_CPMS!D466)","v":""},"",{"$f":"IF(COUNTIF(BA$2:BA444,BA444)=1,BA444,\"\")","v":""},"","",""]
[{"$f":"IF(B445=\"\",\"\",MAX(A$1:A444)+1)","v":""},{"$f":"+IF(CPMS_Identification!C467=\"\",\"\",CPMS_Identification!C467)","v":""},"",null,{"$f":"IF(F445=\"\",\"\",MAX(E$1:E444)+1)","v":""},{"$f":"IF(Landfill_Gas_ID!C467=\"\",\"\",Landfill_Gas_ID!C467)","v":""},"",null,{"$f":"IF(J445=\"\",\"\",MAX(I$1:I444)+1)","v":""},{"$f":"IF(Distillate_Oil!C467=\"\",\"\",Distillate_Oil!C467)","v":""},"",null,null,null,null,null,null,null,null,null,null,null,null,null,null,null,{"$f":"+IF(AE445=\"\",\"\",MAX(AA$1:AA444)+1)","v":""},{"$f":"IF(Deviation_Limits!B467=\"\",\"\",Deviation_Limits!B467)","v":""},{"$f":"IF(Deviation_Limits!C467=\"\",\"\",Deviation_Limits!C467)","v":""},"",{"$f":"IF(COUNTIF(AC$2:AC445,AC445)=1,AC445,\"\")","v":""},"","",null,null,null,null,null,null,null,{"$f":"+IF(AT445=\"\",\"\",MAX(AO$1:AO444)+1)","v":""},{"$f":"IF(Deviation_Limits!B467=\"\",\"\",Deviation_Limits!B467)","v":""},{"$f":"IF(Deviation_Limits!C467=\"\",\"\",Deviation_Limits!C467)","v":""},{"$f":"IF(Deviation_Limits!D467=\"\",\"\",Deviation_Limits!D467)","v":""},"",{"$f":"IF(COUNTIF(AQ$2:AQ445,AQ445)=1,AQ445,\"\")","v":""},"","","",null,{"$f":"+IF(BD445=\"\",\"\",MAX(AY$1:AY444)+1)","v":""},{"$f":"IF(Deviation_CEM_CPMS!B467=\"\",\"\",Deviation_CEM_CPMS!B467)","v":""},{"$f":"IF(Deviation_CEM_CPMS!C467=\"\",\"\",Deviation_CEM_CPMS!C467)","v":""},{"$f":"IF(Deviation_CEM_CPMS!D467=\"\",\"\",Deviation_CEM_CPMS!D467)","v":""},"",{"$f":"IF(COUNTIF(BA$2:BA445,BA445)=1,BA445,\"\")","v":""},"","",""]
[{"$f":"IF(B446=\"\",\"\",MAX(A$1:A445)+1)","v":""},{"$f":"+IF(CPMS_Identification!C468=\"\",\"\",CPMS_Identification!C468)","v":""},"",null,{"$f":"IF(F446=\"\",\"\",MAX(E$1:E445)+1)","v":""},{"$f":"IF(Landfill_Gas_ID!C468=\"\",\"\",Landfill_Gas_ID!C468)","v":""},"",null,{"$f":"IF(J446=\"\",\"\",MAX(I$1:I445)+1)","v":""},{"$f":"IF(Distillate_Oil!C468=\"\",\"\",Distillate_Oil!C468)","v":""},"",null,null,null,null,null,null,null,null,null,null,null,null,null,null,null,{"$f":"+IF(AE446=\"\",\"\",MAX(AA$1:AA445)+1)","v":""},{"$f":"IF(Deviation_Limits!B468=\"\",\"\",Deviation_Limits!B468)","v":""},{"$f":"IF(Deviation_Limits!C468=\"\",\"\",Deviation_Limits!C468)","v":""},"",{"$f":"IF(COUNTIF(AC$2:AC446,AC446)=1,AC446,\"\")","v":""},"","",null,null,null,null,null,null,null,{"$f":"+IF(AT446=\"\",\"\",MAX(AO$1:AO445)+1)","v":""},{"$f":"IF(Deviation_Limits!B468=\"\",\"\",Deviation_Limits!B468)","v":""},{"$f":"IF(Deviation_Limits!C468=\"\",\"\",Deviation_Limits!C468)","v":""},{"$f":"IF(Deviation_Limits!D468=\"\",\"\",Deviation_Limits!D468)","v":""},"",{"$f":"IF(COUNTIF(AQ$2:AQ446,AQ446)=1,AQ446,\"\")","v":""},"","","",null,{"$f":"+IF(BD446=\"\",\"\",MAX(AY$1:AY445)+1)","v":""},{"$f":"IF(Deviation_CEM_CPMS!B468=\"\",\"\",Deviation_CEM_CPMS!B468)","v":""},{"$f":"IF(Deviation_CEM_CPMS!C468=\"\",\"\",Deviation_CEM_CPMS!C468)","v":""},{"$f":"IF(Deviation_CEM_CPMS!D468=\"\",\"\",Deviation_CEM_CPMS!D468)","v":""},"",{"$f":"IF(COUNTIF(BA$2:BA446,BA446)=1,BA446,\"\")","v":""},"","",""]
[{"$f":"IF(B447=\"\",\"\",MAX(A$1:A446)+1)","v":""},{"$f":"+IF(CPMS_Identification!C469=\"\",\"\",CPMS_Identification!C469)","v":""},"",null,{"$f":"IF(F447=\"\",\"\",MAX(E$1:E446)+1)","v":""},{"$f":"IF(Landfill_Gas_ID!C469=\"\",\"\",Landfill_Gas_ID!C469)","v":""},"",null,{"$f":"IF(J447=\"\",\"\",MAX(I$1:I446)+1)","v":""},{"$f":"IF(Distillate_Oil!C469=\"\",\"\",Distillate_Oil!C469)","v":""},"",null,null,null,null,null,null,null,null,null,null,null,null,null,null,null,{"$f":"+IF(AE447=\"\",\"\",MAX(AA$1:AA446)+1)","v":""},{"$f":"IF(Deviation_Limits!B469=\"\",\"\",Deviation_Limits!B469)","v":""},{"$f":"IF(Deviation_Limits!C469=\"\",\"\",Deviation_Limits!C469)","v":""},"",{"$f":"IF(COUNTIF(AC$2:AC447,AC447)=1,AC447,\"\")","v":""},"","",null,null,null,null,null,null,null,{"$f":"+IF(AT447=\"\",\"\",MAX(AO$1:AO446)+1)","v":""},{"$f":"IF(Deviation_Limits!B469=\"\",\"\",Deviation_Limits!B469)","v":""},{"$f":"IF(Deviation_Limits!C469=\"\",\"\",Deviation_Limits!C469)","v":""},{"$f":"IF(Deviation_Limits!D469=\"\",\"\",Deviation_Limits!D469)","v":""},"",{"$f":"IF(COUNTIF(AQ$2:AQ447,AQ447)=1,AQ447,\"\")","v":""},"","","",null,{"$f":"+IF(BD447=\"\",\"\",MAX(AY$1:AY446)+1)","v":""},{"$f":"IF(Deviation_CEM_CPMS!B469=\"\",\"\",Deviation_CEM_CPMS!B469)","v":""},{"$f":"IF(Deviation_CEM_CPMS!C469=\"\",\"\",Deviation_CEM_CPMS!C469)","v":""},{"$f":"IF(Deviation_CEM_CPMS!D469=\"\",\"\",Deviation_CEM_CPMS!D469)","v":""},"",{"$f":"IF(COUNTIF(BA$2:BA447,BA447)=1,BA447,\"\")","v":""},"","",""]
[{"$f":"IF(B448=\"\",\"\",MAX(A$1:A447)+1)","v":""},{"$f":"+IF(CPMS_Identification!C470=\"\",\"\",CPMS_Identification!C470)","v":""},"",null,{"$f":"IF(F448=\"\",\"\",MAX(E$1:E447)+1)","v":""},{"$f":"IF(Landfill_Gas_ID!C470=\"\",\"\",Landfill_Gas_ID!C470)","v":""},"",null,{"$f":"IF(J448=\"\",\"\",MAX(I$1:I447)+1)","v":""},{"$f":"IF(Distillate_Oil!C470=\"\",\"\",Distillate_Oil!C470)","v":""},"",null,null,null,null,null,null,null,null,null,null,null,null,null,null,null,{"$f":"+IF(AE448=\"\",\"\",MAX(AA$1:AA447)+1)","v":""},{"$f":"IF(Deviation_Limits!B470=\"\",\"\",Deviation_Limits!B470)","v":""},{"$f":"IF(Deviation_Limits!C470=\"\",\"\",Deviation_Limits!C470)","v":""},"",{"$f":"IF(COUNTIF(AC$2:AC448,AC448)=1,AC448,\"\")","v":""},"","",null,null,null,null,null,null,null,{"$f":"+IF(AT448=\"\",\"\",MAX(AO$1:AO447)+1)","v":""},{"$f":"IF(Deviation_Limits!B470=\"\",\"\",Deviation_Limits!B470)","v":""},{"$f":"IF(Deviation_Limits!C470=\"\",\"\",Deviation_Limits!C470)","v":""},{"$f":"IF(Deviation_Limits!D470=\"\",\"\",Deviation_Limits!D470)","v":""},"",{"$f":"IF(COUNTIF(AQ$2:AQ448,AQ448)=1,AQ448,\"\")","v":""},"","","",null,{"$f":"+IF(BD448=\"\",\"\",MAX(AY$1:AY447)+1)","v":""},{"$f":"IF(Deviation_CEM_CPMS!B470=\"\",\"\",Deviation_CEM_CPMS!B470)","v":""},{"$f":"IF(Deviation_CEM_CPMS!C470=\"\",\"\",Deviation_CEM_CPMS!C470)","v":""},{"$f":"IF(Deviation_CEM_CPMS!D470=\"\",\"\",Deviation_CEM_CPMS!D470)","v":""},"",{"$f":"IF(COUNTIF(BA$2:BA448,BA448)=1,BA448,\"\")","v":""},"","",""]
[{"$f":"IF(B449=\"\",\"\",MAX(A$1:A448)+1)","v":""},{"$f":"+IF(CPMS_Identification!C471=\"\",\"\",CPMS_Identification!C471)","v":""},"",null,{"$f":"IF(F449=\"\",\"\",MAX(E$1:E448)+1)","v":""},{"$f":"IF(Landfill_Gas_ID!C471=\"\",\"\",Landfill_Gas_ID!C471)","v":""},"",null,{"$f":"IF(J449=\"\",\"\",MAX(I$1:I448)+1)","v":""},{"$f":"IF(Distillate_Oil!C471=\"\",\"\",Distillate_Oil!C471)","v":""},"",null,null,null,null,null,null,null,null,null,null,null,null,null,null,null,{"$f":"+IF(AE449=\"\",\"\",MAX(AA$1:AA448)+1)","v":""},{"$f":"IF(Deviation_Limits!B471=\"\",\"\",Deviation_Limits!B471)","v":""},{"$f":"IF(Deviation_Limits!C471=\"\",\"\",Deviation_Limits!C471)","v":""},"",{"$f":"IF(COUNTIF(AC$2:AC449,AC449)=1,AC449,\"\")","v":""},"","",null,null,null,null,null,null,null,{"$f":"+IF(AT449=\"\",\"\",MAX(AO$1:AO448)+1)","v":""},{"$f":"IF(Deviation_Limits!B471=\"\",\"\",Deviation_Limits!B471)","v":""},{"$f":"IF(Deviation_Limits!C471=\"\",\"\",Deviation_Limits!C471)","v":""},{"$f":"IF(Deviation_Limits!D471=\"\",\"\",Deviation_Limits!D471)","v":""},"",{"$f":"IF(COUNTIF(AQ$2:AQ449,AQ449)=1,AQ449,\"\")","v":""},"","","",null,{"$f":"+IF(BD449=\"\",\"\",MAX(AY$1:AY448)+1)","v":""},{"$f":"IF(Deviation_CEM_CPMS!B471=\"\",\"\",Deviation_CEM_CPMS!B471)","v":""},{"$f":"IF(Deviation_CEM_CPMS!C471=\"\",\"\",Deviation_CEM_CPMS!C471)","v":""},{"$f":"IF(Deviation_CEM_CPMS!D471=\"\",\"\",Deviation_CEM_CPMS!D471)","v":""},"",{"$f":"IF(COUNTIF(BA$2:BA449,BA449)=1,BA449,\"\")","v":""},"","",""]
[{"$f":"IF(B450=\"\",\"\",MAX(A$1:A449)+1)","v":""},{"$f":"+IF(CPMS_Identification!C472=\"\",\"\",CPMS_Identification!C472)","v":""},{"$f":"+IFERROR(INDEX($B$2:$B$500,MATCH(ROW()-ROW($C$1),$A$2:$A$500,0)),\"\")","v":""},null,{"$f":"IF(F450=\"\",\"\",MAX(E$1:E449)+1)","v":""},{"$f":"IF(Landfill_Gas_ID!C472=\"\",\"\",Landfill_Gas_ID!C472)","v":""},{"$f":"+IFERROR(INDEX($F$2:$F$500,MATCH(ROW()-ROW($G$1),$E$2:$E$500,0)),\"\")","v":""},null,{"$f":"IF(J450=\"\",\"\",MAX(I$1:I449)+1)","v":""},{"$f":"IF(Distillate_Oil!C472=\"\",\"\",Distillate_Oil!C472)","v":""},{"$f":"+IFERROR(INDEX($J$2:$J$500,MATCH(ROW()-ROW($K$1),$I$2:$I$500,0)),\"\")","v":""},null,null,null,null,null,null,null,null,null,null,null,null,null,null,null,{"$f":"+IF(AE450=\"\",\"\",MAX(AA$1:AA449)+1)","v":""},{"$f":"IF(Deviation_Limits!B472=\"\",\"\",Deviation_Limits!B472)","v":""},{"$f":"IF(Deviation_Limits!C472=\"\",\"\",Deviation_Limits!C472)","v":""},"",{"$f":"IF(COUNTIF(AC$2:AC450,AC450)=1,AC450,\"\")","v":""},"","",null,null,null,null,null,null,null,{"$f":"+IF(AT450=\"\",\"\",MAX(AO$1:AO449)+1)","v":""},{"$f":"IF(Deviation_Limits!B472=\"\",\"\",Deviation_Limits!B472)","v":""},{"$f":"IF(Deviation_Limits!C472=\"\",\"\",Deviation_Limits!C472)","v":""},{"$f":"IF(Deviation_Limits!D472=\"\",\"\",Deviation_Limits!D472)","v":""},"",{"$f":"IF(COUNTIF(AQ$2:AQ450,AQ450)=1,AQ450,\"\")","v":""},"","","",null,{"$f":"+IF(BD450=\"\",\"\",MAX(AY$1:AY449)+1)","v":""},{"$f":"IF(Deviation_CEM_CPMS!B472=\"\",\"\",Deviation_CEM_CPMS!B472)","v":""},{"$f":"IF(Deviation_CEM_CPMS!C472=\"\",\"\",Deviation_CEM_CPMS!C472)","v":""},{"$f":"IF(Deviation_CEM_CPMS!D472=\"\",\"\",Deviation_CEM_CPMS!D472)","v":""},{"$f":"+AZ450&BA450&BB450","v":""},{"$f":"IF(COUNTIF(BA$2:BA450,BA450)=1,BA450,\"\")","v":""},{"$f":"+IFERROR(INDEX(AZ$2:AZ$500,MATCH(ROW()-ROW(BE$1),$AA$2:$AA$500,0)),\"\")","v":""},{"$f":"+IFERROR(INDEX(BA$2:BA$500,MATCH(ROW()-ROW(BE$1),$AA$2:$AA$500,0)),\"\")","v":""},{"$f":"+IFERROR(INDEX(BB$2:BB$500,MATCH(ROW()-ROW(BE$1),$AA$2:$AA$500,0)),\"\")","v":""}]
[{"$f":"IF(B451=\"\",\"\",MAX(A$1:A450)+1)","v":""},{"$f":"+IF(CPMS_Identification!C473=\"\",\"\",CPMS_Identification!C473)","v":""},"",null,{"$f":"IF(F451=\"\",\"\",MAX(E$1:E450)+1)","v":""},{"$f":"IF(Landfill_Gas_ID!C473=\"\",\"\",Landfill_Gas_ID!C473)","v":""},"",null,{"$f":"IF(J451=\"\",\"\",MAX(I$1:I450)+1)","v":""},{"$f":"IF(Distillate_Oil!C473=\"\",\"\",Distillate_Oil!C473)","v":""},"",null,null,null,null,null,null,null,null,null,null,null,null,null,null,null,{"$f":"+IF(AE451=\"\",\"\",MAX(AA$1:AA450)+1)","v":""},{"$f":"IF(Deviation_Limits!B473=\"\",\"\",Deviation_Limits!B473)","v":""},{"$f":"IF(Deviation_Limits!C473=\"\",\"\",Deviation_Limits!C473)","v":""},{"$f":"+AB451&AC451","v":""},{"$f":"IF(COUNTIF(AC$2:AC451,AC451)=1,AC451,\"\")","v":""},{"$f":"+IFERROR(INDEX(AB$2:AB$500,MATCH(ROW()-ROW($AF$1),$AA$2:$AA$500,0)),\"\")","v":""},{"$f":"+IFERROR(INDEX(AC$2:AC$500,MATCH(ROW()-ROW($AF$1),$AA$2:$AA$500,0)),\"\")","v":""},null,null,null,null,null,null,null,{"$f":"+IF(AT451=\"\",\"\",MAX(AO$1:AO450)+1)","v":""},{"$f":"IF(Deviation_Limits!B473=\"\",\"\",Deviation_Limits!B473)","v":""},{"$f":"IF(Deviation_Limits!C473=\"\",\"\",Deviation_Limits!C473)","v":""},{"$f":"IF(Deviation_Limits!D473=\"\",\"\",Deviation_Limits!D473)","v":""},{"$f":"+AP451&AQ451&C451","v":""},{"$f":"IF(COUNTIF(AQ$2:AQ451,AQ451)=1,AQ451,\"\")","v":""},{"$f":"+IFERROR(INDEX(AP$2:AP$500,MATCH(ROW()-ROW(AU$1),$AA$2:$AA$500,0)),\"\")","v":""},{"$f":"+IFERROR(INDEX(AQ$2:AQ$500,MATCH(ROW()-ROW(AU$1),$AA$2:$AA$500,0)),\"\")","v":""},{"$f":"+IFERROR(INDEX(AR$2:AR$500,MATCH(ROW()-ROW(AU$1),$AA$2:$AA$500,0)),\"\")","v":""},null,{"$f":"+IF(BD451=\"\",\"\",MAX(AY$1:AY450)+1)","v":""},{"$f":"IF(Deviation_CEM_CPMS!B473=\"\",\"\",Deviation_CEM_CPMS!B473)","v":""},{"$f":"IF(Deviation_CEM_CPMS!C473=\"\",\"\",Deviation_CEM_CPMS!C473)","v":""},{"$f":"IF(Deviation_CEM_CPMS!D473=\"\",\"\",Deviation_CEM_CPMS!D473)","v":""},"",{"$f":"IF(COUNTIF(BA$2:BA451,BA451)=1,BA451,\"\")","v":""},"","",""]
[{"$f":"IF(B452=\"\",\"\",MAX(A$1:A451)+1)","v":""},{"$f":"+IF(CPMS_Identification!C474=\"\",\"\",CPMS_Identification!C474)","v":""},"",null,{"$f":"IF(F452=\"\",\"\",MAX(E$1:E451)+1)","v":""},{"$f":"IF(Landfill_Gas_ID!C474=\"\",\"\",Landfill_Gas_ID!C474)","v":""},"",null,{"$f":"IF(J452=\"\",\"\",MAX(I$1:I451)+1)","v":""},{"$f":"IF(Distillate_Oil!C474=\"\",\"\",Distillate_Oil!C474)","v":""},"",null,null,null,null,null,null,null,null,null,null,null,null,null,null,null,{"$f":"+IF(AE452=\"\",\"\",MAX(AA$1:AA451)+1)","v":""},{"$f":"IF(Deviation_Limits!B474=\"\",\"\",Deviation_Limits!B474)","v":""},{"$f":"IF(Deviation_Limits!C474=\"\",\"\",Deviation_Limits!C474)","v":""},"",{"$f":"IF(COUNTIF(AC$2:AC452,AC452)=1,AC452,\"\")","v":""},"","",null,null,null,null,null,null,null,{"$f":"+IF(AT452=\"\",\"\",MAX(AO$1:AO451)+1)","v":""},{"$f":"IF(Deviation_Limits!B474=\"\",\"\",Deviation_Limits!B474)","v":""},{"$f":"IF(Deviation_Limits!C474=\"\",\"\",Deviation_Limits!C474)","v":""},{"$f":"IF(Deviation_Limits!D474=\"\",\"\",Deviation_Limits!D474)","v":""},"",{"$f":"IF(COUNTIF(AQ$2:AQ452,AQ452)=1,AQ452,\"\")","v":""},"","","",null,{"$f":"+IF(BD452=\"\",\"\",MAX(AY$1:AY451)+1)","v":""},{"$f":"IF(Deviation_CEM_CPMS!B474=\"\",\"\",Deviation_CEM_CPMS!B474)","v":""},{"$f":"IF(Deviation_CEM_CPMS!C474=\"\",\"\",Deviation_CEM_CPMS!C474)","v":""},{"$f":"IF(Deviation_CEM_CPMS!D474=\"\",\"\",Deviation_CEM_CPMS!D474)","v":""},"",{"$f":"IF(COUNTIF(BA$2:BA452,BA452)=1,BA452,\"\")","v":""},"","",""]
[{"$f":"IF(B453=\"\",\"\",MAX(A$1:A452)+1)","v":""},{"$f":"+IF(CPMS_Identification!C475=\"\",\"\",CPMS_Identification!C475)","v":""},"",null,{"$f":"IF(F453=\"\",\"\",MAX(E$1:E452)+1)","v":""},{"$f":"IF(Landfill_Gas_ID!C475=\"\",\"\",Landfill_Gas_ID!C475)","v":""},"",null,{"$f":"IF(J453=\"\",\"\",MAX(I$1:I452)+1)","v":""},{"$f":"IF(Distillate_Oil!C475=\"\",\"\",Distillate_Oil!C475)","v":""},"",null,null,null,null,null,null,null,null,null,null,null,null,null,null,null,{"$f":"+IF(AE453=\"\",\"\",MAX(AA$1:AA452)+1)","v":""},{"$f":"IF(Deviation_Limits!B475=\"\",\"\",Deviation_Limits!B475)","v":""},{"$f":"IF(Deviation_Limits!C475=\"\",\"\",Deviation_Limits!C475)","v":""},"",{"$f":"IF(COUNTIF(AC$2:AC453,AC453)=1,AC453,\"\")","v":""},"","",null,null,null,null,null,null,null,{"$f":"+IF(AT453=\"\",\"\",MAX(AO$1:AO452)+1)","v":""},{"$f":"IF(Deviation_Limits!B475=\"\",\"\",Deviation_Limits!B475)","v":""},{"$f":"IF(Deviation_Limits!C475=\"\",\"\",Deviation_Limits!C475)","v":""},{"$f":"IF(Deviation_Limits!D475=\"\",\"\",Deviation_Limits!D475)","v":""},"",{"$f":"IF(COUNTIF(AQ$2:AQ453,AQ453)=1,AQ453,\"\")","v":""},"","","",null,{"$f":"+IF(BD453=\"\",\"\",MAX(AY$1:AY452)+1)","v":""},{"$f":"IF(Deviation_CEM_CPMS!B475=\"\",\"\",Deviation_CEM_CPMS!B475)","v":""},{"$f":"IF(Deviation_CEM_CPMS!C475=\"\",\"\",Deviation_CEM_CPMS!C475)","v":""},{"$f":"IF(Deviation_CEM_CPMS!D475=\"\",\"\",Deviation_CEM_CPMS!D475)","v":""},"",{"$f":"IF(COUNTIF(BA$2:BA453,BA453)=1,BA453,\"\")","v":""},"","",""]
[{"$f":"IF(B454=\"\",\"\",MAX(A$1:A453)+1)","v":""},{"$f":"+IF(CPMS_Identification!C476=\"\",\"\",CPMS_Identification!C476)","v":""},"",null,{"$f":"IF(F454=\"\",\"\",MAX(E$1:E453)+1)","v":""},{"$f":"IF(Landfill_Gas_ID!C476=\"\",\"\",Landfill_Gas_ID!C476)","v":""},"",null,{"$f":"IF(J454=\"\",\"\",MAX(I$1:I453)+1)","v":""},{"$f":"IF(Distillate_Oil!C476=\"\",\"\",Distillate_Oil!C476)","v":""},"",null,null,null,null,null,null,null,null,null,null,null,null,null,null,null,{"$f":"+IF(AE454=\"\",\"\",MAX(AA$1:AA453)+1)","v":""},{"$f":"IF(Deviation_Limits!B476=\"\",\"\",Deviation_Limits!B476)","v":""},{"$f":"IF(Deviation_Limits!C476=\"\",\"\",Deviation_Limits!C476)","v":""},"",{"$f":"IF(COUNTIF(AC$2:AC454,AC454)=1,AC454,\"\")","v":""},"","",null,null,null,null,null,null,null,{"$f":"+IF(AT454=\"\",\"\",MAX(AO$1:AO453)+1)","v":""},{"$f":"IF(Deviation_Limits!B476=\"\",\"\",Deviation_Limits!B476)","v":""},{"$f":"IF(Deviation_Limits!C476=\"\",\"\",Deviation_Limits!C476)","v":""},{"$f":"IF(Deviation_Limits!D476=\"\",\"\",Deviation_Limits!D476)","v":""},"",{"$f":"IF(COUNTIF(AQ$2:AQ454,AQ454)=1,AQ454,\"\")","v":""},"","","",null,{"$f":"+IF(BD454=\"\",\"\",MAX(AY$1:AY453)+1)","v":""},{"$f":"IF(Deviation_CEM_CPMS!B476=\"\",\"\",Deviation_CEM_CPMS!B476)","v":""},{"$f":"IF(Deviation_CEM_CPMS!C476=\"\",\"\",Deviation_CEM_CPMS!C476)","v":""},{"$f":"IF(Deviation_CEM_CPMS!D476=\"\",\"\",Deviation_CEM_CPMS!D476)","v":""},"",{"$f":"IF(COUNTIF(BA$2:BA454,BA454)=1,BA454,\"\")","v":""},"","",""]
[{"$f":"IF(B455=\"\",\"\",MAX(A$1:A454)+1)","v":""},{"$f":"+IF(CPMS_Identification!C477=\"\",\"\",CPMS_Identification!C477)","v":""},"",null,{"$f":"IF(F455=\"\",\"\",MAX(E$1:E454)+1)","v":""},{"$f":"IF(Landfill_Gas_ID!C477=\"\",\"\",Landfill_Gas_ID!C477)","v":""},"",null,{"$f":"IF(J455=\"\",\"\",MAX(I$1:I454)+1)","v":""},{"$f":"IF(Distillate_Oil!C477=\"\",\"\",Distillate_Oil!C477)","v":""},"",null,null,null,null,null,null,null,null,null,null,null,null,null,null,null,{"$f":"+IF(AE455=\"\",\"\",MAX(AA$1:AA454)+1)","v":""},{"$f":"IF(Deviation_Limits!B477=\"\",\"\",Deviation_Limits!B477)","v":""},{"$f":"IF(Deviation_Limits!C477=\"\",\"\",Deviation_Limits!C477)","v":""},"",{"$f":"IF(COUNTIF(AC$2:AC455,AC455)=1,AC455,\"\")","v":""},"","",null,null,null,null,null,null,null,{"$f":"+IF(AT455=\"\",\"\",MAX(AO$1:AO454)+1)","v":""},{"$f":"IF(Deviation_Limits!B477=\"\",\"\",Deviation_Limits!B477)","v":""},{"$f":"IF(Deviation_Limits!C477=\"\",\"\",Deviation_Limits!C477)","v":""},{"$f":"IF(Deviation_Limits!D477=\"\",\"\",Deviation_Limits!D477)","v":""},"",{"$f":"IF(COUNTIF(AQ$2:AQ455,AQ455)=1,AQ455,\"\")","v":""},"","","",null,{"$f":"+IF(BD455=\"\",\"\",MAX(AY$1:AY454)+1)","v":""},{"$f":"IF(Deviation_CEM_CPMS!B477=\"\",\"\",Deviation_CEM_CPMS!B477)","v":""},{"$f":"IF(Deviation_CEM_CPMS!C477=\"\",\"\",Deviation_CEM_CPMS!C477)","v":""},{"$f":"IF(Deviation_CEM_CPMS!D477=\"\",\"\",Deviation_CEM_CPMS!D477)","v":""},"",{"$f":"IF(COUNTIF(BA$2:BA455,BA455)=1,BA455,\"\")","v":""},"","",""]
[{"$f":"IF(B456=\"\",\"\",MAX(A$1:A455)+1)","v":""},{"$f":"+IF(CPMS_Identification!C478=\"\",\"\",CPMS_Identification!C478)","v":""},"",null,{"$f":"IF(F456=\"\",\"\",MAX(E$1:E455)+1)","v":""},{"$f":"IF(Landfill_Gas_ID!C478=\"\",\"\",Landfill_Gas_ID!C478)","v":""},"",null,{"$f":"IF(J456=\"\",\"\",MAX(I$1:I455)+1)","v":""},{"$f":"IF(Distillate_Oil!C478=\"\",\"\",Distillate_Oil!C478)","v":""},"",null,null,null,null,null,null,null,null,null,null,null,null,null,null,null,{"$f":"+IF(AE456=\"\",\"\",MAX(AA$1:AA455)+1)","v":""},{"$f":"IF(Deviation_Limits!B478=\"\",\"\",Deviation_Limits!B478)","v":""},{"$f":"IF(Deviation_Limits!C478=\"\",\"\",Deviation_Limits!C478)","v":""},"",{"$f":"IF(COUNTIF(AC$2:AC456,AC456)=1,AC456,\"\")","v":""},"","",null,null,null,null,null,null,null,{"$f":"+IF(AT456=\"\",\"\",MAX(AO$1:AO455)+1)","v":""},{"$f":"IF(Deviation_Limits!B478=\"\",\"\",Deviation_Limits!B478)","v":""},{"$f":"IF(Deviation_Limits!C478=\"\",\"\",Deviation_Limits!C478)","v":""},{"$f":"IF(Deviation_Limits!D478=\"\",\"\",Deviation_Limits!D478)","v":""},"",{"$f":"IF(COUNTIF(AQ$2:AQ456,AQ456)=1,AQ456,\"\")","v":""},"","","",null,{"$f":"+IF(BD456=\"\",\"\",MAX(AY$1:AY455)+1)","v":""},{"$f":"IF(Deviation_CEM_CPMS!B478=\"\",\"\",Deviation_CEM_CPMS!B478)","v":""},{"$f":"IF(Deviation_CEM_CPMS!C478=\"\",\"\",Deviation_CEM_CPMS!C478)","v":""},{"$f":"IF(Deviation_CEM_CPMS!D478=\"\",\"\",Deviation_CEM_CPMS!D478)","v":""},"",{"$f":"IF(COUNTIF(BA$2:BA456,BA456)=1,BA456,\"\")","v":""},"","",""]
[{"$f":"IF(B457=\"\",\"\",MAX(A$1:A456)+1)","v":""},{"$f":"+IF(CPMS_Identification!C479=\"\",\"\",CPMS_Identification!C479)","v":""},"",null,{"$f":"IF(F457=\"\",\"\",MAX(E$1:E456)+1)","v":""},{"$f":"IF(Landfill_Gas_ID!C479=\"\",\"\",Landfill_Gas_ID!C479)","v":""},"",null,{"$f":"IF(J457=\"\",\"\",MAX(I$1:I456)+1)","v":""},{"$f":"IF(Distillate_Oil!C479=\"\",\"\",Distillate_Oil!C479)","v":""},"",null,null,null,null,null,null,null,null,null,null,null,null,null,null,null,{"$f":"+IF(AE457=\"\",\"\",MAX(AA$1:AA456)+1)","v":""},{"$f":"IF(Deviation_Limits!B479=\"\",\"\",Deviation_Limits!B479)","v":""},{"$f":"IF(Deviation_Limits!C479=\"\",\"\",Deviation_Limits!C479)","v":""},"",{"$f":"IF(COUNTIF(AC$2:AC457,AC457)=1,AC457,\"\")","v":""},"","",null,null,null,null,null,null,null,{"$f":"+IF(AT457=\"\",\"\",MAX(AO$1:AO456)+1)","v":""},{"$f":"IF(Deviation_Limits!B479=\"\",\"\",Deviation_Limits!B479)","v":""},{"$f":"IF(Deviation_Limits!C479=\"\",\"\",Deviation_Limits!C479)","v":""},{"$f":"IF(Deviation_Limits!D479=\"\",\"\",Deviation_Limits!D479)","v":""},"",{"$f":"IF(COUNTIF(AQ$2:AQ457,AQ457)=1,AQ457,\"\")","v":""},"","","",null,{"$f":"+IF(BD457=\"\",\"\",MAX(AY$1:AY456)+1)","v":""},{"$f":"IF(Deviation_CEM_CPMS!B479=\"\",\"\",Deviation_CEM_CPMS!B479)","v":""},{"$f":"IF(Deviation_CEM_CPMS!C479=\"\",\"\",Deviation_CEM_CPMS!C479)","v":""},{"$f":"IF(Deviation_CEM_CPMS!D479=\"\",\"\",Deviation_CEM_CPMS!D479)","v":""},"",{"$f":"IF(COUNTIF(BA$2:BA457,BA457)=1,BA457,\"\")","v":""},"","",""]
[{"$f":"IF(B458=\"\",\"\",MAX(A$1:A457)+1)","v":""},{"$f":"+IF(CPMS_Identification!C480=\"\",\"\",CPMS_Identification!C480)","v":""},"",null,{"$f":"IF(F458=\"\",\"\",MAX(E$1:E457)+1)","v":""},{"$f":"IF(Landfill_Gas_ID!C480=\"\",\"\",Landfill_Gas_ID!C480)","v":""},"",null,{"$f":"IF(J458=\"\",\"\",MAX(I$1:I457)+1)","v":""},{"$f":"IF(Distillate_Oil!C480=\"\",\"\",Distillate_Oil!C480)","v":""},"",null,null,null,null,null,null,null,null,null,null,null,null,null,null,null,{"$f":"+IF(AE458=\"\",\"\",MAX(AA$1:AA457)+1)","v":""},{"$f":"IF(Deviation_Limits!B480=\"\",\"\",Deviation_Limits!B480)","v":""},{"$f":"IF(Deviation_Limits!C480=\"\",\"\",Deviation_Limits!C480)","v":""},"",{"$f":"IF(COUNTIF(AC$2:AC458,AC458)=1,AC458,\"\")","v":""},"","",null,null,null,null,null,null,null,{"$f":"+IF(AT458=\"\",\"\",MAX(AO$1:AO457)+1)","v":""},{"$f":"IF(Deviation_Limits!B480=\"\",\"\",Deviation_Limits!B480)","v":""},{"$f":"IF(Deviation_Limits!C480=\"\",\"\",Deviation_Limits!C480)","v":""},{"$f":"IF(Deviation_Limits!D480=\"\",\"\",Deviation_Limits!D480)","v":""},"",{"$f":"IF(COUNTIF(AQ$2:AQ458,AQ458)=1,AQ458,\"\")","v":""},"","","",null,{"$f":"+IF(BD458=\"\",\"\",MAX(AY$1:AY457)+1)","v":""},{"$f":"IF(Deviation_CEM_CPMS!B480=\"\",\"\",Deviation_CEM_CPMS!B480)","v":""},{"$f":"IF(Deviation_CEM_CPMS!C480=\"\",\"\",Deviation_CEM_CPMS!C480)","v":""},{"$f":"IF(Deviation_CEM_CPMS!D480=\"\",\"\",Deviation_CEM_CPMS!D480)","v":""},"",{"$f":"IF(COUNTIF(BA$2:BA458,BA458)=1,BA458,\"\")","v":""},"","",""]
[{"$f":"IF(B459=\"\",\"\",MAX(A$1:A458)+1)","v":""},{"$f":"+IF(CPMS_Identification!C481=\"\",\"\",CPMS_Identification!C481)","v":""},"",null,{"$f":"IF(F459=\"\",\"\",MAX(E$1:E458)+1)","v":""},{"$f":"IF(Landfill_Gas_ID!C481=\"\",\"\",Landfill_Gas_ID!C481)","v":""},"",null,{"$f":"IF(J459=\"\",\"\",MAX(I$1:I458)+1)","v":""},{"$f":"IF(Distillate_Oil!C481=\"\",\"\",Distillate_Oil!C481)","v":""},"",null,null,null,null,null,null,null,null,null,null,null,null,null,null,null,{"$f":"+IF(AE459=\"\",\"\",MAX(AA$1:AA458)+1)","v":""},{"$f":"IF(Deviation_Limits!B481=\"\",\"\",Deviation_Limits!B481)","v":""},{"$f":"IF(Deviation_Limits!C481=\"\",\"\",Deviation_Limits!C481)","v":""},"",{"$f":"IF(COUNTIF(AC$2:AC459,AC459)=1,AC459,\"\")","v":""},"","",null,null,null,null,null,null,null,{"$f":"+IF(AT459=\"\",\"\",MAX(AO$1:AO458)+1)","v":""},{"$f":"IF(Deviation_Limits!B481=\"\",\"\",Deviation_Limits!B481)","v":""},{"$f":"IF(Deviation_Limits!C481=\"\",\"\",Deviation_Limits!C481)","v":""},{"$f":"IF(Deviation_Limits!D481=\"\",\"\",Deviation_Limits!D481)","v":""},"",{"$f":"IF(COUNTIF(AQ$2:AQ459,AQ459)=1,AQ459,\"\")","v":""},"","","",null,{"$f":"+IF(BD459=\"\",\"\",MAX(AY$1:AY458)+1)","v":""},{"$f":"IF(Deviation_CEM_CPMS!B481=\"\",\"\",Deviation_CEM_CPMS!B481)","v":""},{"$f":"IF(Deviation_CEM_CPMS!C481=\"\",\"\",Deviation_CEM_CPMS!C481)","v":""},{"$f":"IF(Deviation_CEM_CPMS!D481=\"\",\"\",Deviation_CEM_CPMS!D481)","v":""},"",{"$f":"IF(COUNTIF(BA$2:BA459,BA459)=1,BA459,\"\")","v":""},"","",""]
[{"$f":"IF(B460=\"\",\"\",MAX(A$1:A459)+1)","v":""},{"$f":"+IF(CPMS_Identification!C482=\"\",\"\",CPMS_Identification!C482)","v":""},"",null,{"$f":"IF(F460=\"\",\"\",MAX(E$1:E459)+1)","v":""},{"$f":"IF(Landfill_Gas_ID!C482=\"\",\"\",Landfill_Gas_ID!C482)","v":""},"",null,{"$f":"IF(J460=\"\",\"\",MAX(I$1:I459)+1)","v":""},{"$f":"IF(Distillate_Oil!C482=\"\",\"\",Distillate_Oil!C482)","v":""},"",null,null,null,null,null,null,null,null,null,null,null,null,null,null,null,{"$f":"+IF(AE460=\"\",\"\",MAX(AA$1:AA459)+1)","v":""},{"$f":"IF(Deviation_Limits!B482=\"\",\"\",Deviation_Limits!B482)","v":""},{"$f":"IF(Deviation_Limits!C482=\"\",\"\",Deviation_Limits!C482)","v":""},"",{"$f":"IF(COUNTIF(AC$2:AC460,AC460)=1,AC460,\"\")","v":""},"","",null,null,null,null,null,null,null,{"$f":"+IF(AT460=\"\",\"\",MAX(AO$1:AO459)+1)","v":""},{"$f":"IF(Deviation_Limits!B482=\"\",\"\",Deviation_Limits!B482)","v":""},{"$f":"IF(Deviation_Limits!C482=\"\",\"\",Deviation_Limits!C482)","v":""},{"$f":"IF(Deviation_Limits!D482=\"\",\"\",Deviation_Limits!D482)","v":""},"",{"$f":"IF(COUNTIF(AQ$2:AQ460,AQ460)=1,AQ460,\"\")","v":""},"","","",null,{"$f":"+IF(BD460=\"\",\"\",MAX(AY$1:AY459)+1)","v":""},{"$f":"IF(Deviation_CEM_CPMS!B482=\"\",\"\",Deviation_CEM_CPMS!B482)","v":""},{"$f":"IF(Deviation_CEM_CPMS!C482=\"\",\"\",Deviation_CEM_CPMS!C482)","v":""},{"$f":"IF(Deviation_CEM_CPMS!D482=\"\",\"\",Deviation_CEM_CPMS!D482)","v":""},"",{"$f":"IF(COUNTIF(BA$2:BA460,BA460)=1,BA460,\"\")","v":""},"","",""]
[{"$f":"IF(B461=\"\",\"\",MAX(A$1:A460)+1)","v":""},{"$f":"+IF(CPMS_Identification!C483=\"\",\"\",CPMS_Identification!C483)","v":""},"",null,{"$f":"IF(F461=\"\",\"\",MAX(E$1:E460)+1)","v":""},{"$f":"IF(Landfill_Gas_ID!C483=\"\",\"\",Landfill_Gas_ID!C483)","v":""},"",null,{"$f":"IF(J461=\"\",\"\",MAX(I$1:I460)+1)","v":""},{"$f":"IF(Distillate_Oil!C483=\"\",\"\",Distillate_Oil!C483)","v":""},"",null,null,null,null,null,null,null,null,null,null,null,null,null,null,null,{"$f":"+IF(AE461=\"\",\"\",MAX(AA$1:AA460)+1)","v":""},{"$f":"IF(Deviation_Limits!B483=\"\",\"\",Deviation_Limits!B483)","v":""},{"$f":"IF(Deviation_Limits!C483=\"\",\"\",Deviation_Limits!C483)","v":""},"",{"$f":"IF(COUNTIF(AC$2:AC461,AC461)=1,AC461,\"\")","v":""},"","",null,null,null,null,null,null,null,{"$f":"+IF(AT461=\"\",\"\",MAX(AO$1:AO460)+1)","v":""},{"$f":"IF(Deviation_Limits!B483=\"\",\"\",Deviation_Limits!B483)","v":""},{"$f":"IF(Deviation_Limits!C483=\"\",\"\",Deviation_Limits!C483)","v":""},{"$f":"IF(Deviation_Limits!D483=\"\",\"\",Deviation_Limits!D483)","v":""},"",{"$f":"IF(COUNTIF(AQ$2:AQ461,AQ461)=1,AQ461,\"\")","v":""},"","","",null,{"$f":"+IF(BD461=\"\",\"\",MAX(AY$1:AY460)+1)","v":""},{"$f":"IF(Deviation_CEM_CPMS!B483=\"\",\"\",Deviation_CEM_CPMS!B483)","v":""},{"$f":"IF(Deviation_CEM_CPMS!C483=\"\",\"\",Deviation_CEM_CPMS!C483)","v":""},{"$f":"IF(Deviation_CEM_CPMS!D483=\"\",\"\",Deviation_CEM_CPMS!D483)","v":""},"",{"$f":"IF(COUNTIF(BA$2:BA461,BA461)=1,BA461,\"\")","v":""},"","",""]
[{"$f":"IF(B462=\"\",\"\",MAX(A$1:A461)+1)","v":""},{"$f":"+IF(CPMS_Identification!C484=\"\",\"\",CPMS_Identification!C484)","v":""},"",null,{"$f":"IF(F462=\"\",\"\",MAX(E$1:E461)+1)","v":""},{"$f":"IF(Landfill_Gas_ID!C484=\"\",\"\",Landfill_Gas_ID!C484)","v":""},"",null,{"$f":"IF(J462=\"\",\"\",MAX(I$1:I461)+1)","v":""},{"$f":"IF(Distillate_Oil!C484=\"\",\"\",Distillate_Oil!C484)","v":""},"",null,null,null,null,null,null,null,null,null,null,null,null,null,null,null,{"$f":"+IF(AE462=\"\",\"\",MAX(AA$1:AA461)+1)","v":""},{"$f":"IF(Deviation_Limits!B484=\"\",\"\",Deviation_Limits!B484)","v":""},{"$f":"IF(Deviation_Limits!C484=\"\",\"\",Deviation_Limits!C484)","v":""},"",{"$f":"IF(COUNTIF(AC$2:AC462,AC462)=1,AC462,\"\")","v":""},"","",null,null,null,null,null,null,null,{"$f":"+IF(AT462=\"\",\"\",MAX(AO$1:AO461)+1)","v":""},{"$f":"IF(Deviation_Limits!B484=\"\",\"\",Deviation_Limits!B484)","v":""},{"$f":"IF(Deviation_Limits!C484=\"\",\"\",Deviation_Limits!C484)","v":""},{"$f":"IF(Deviation_Limits!D484=\"\",\"\",Deviation_Limits!D484)","v":""},"",{"$f":"IF(COUNTIF(AQ$2:AQ462,AQ462)=1,AQ462,\"\")","v":""},"","","",null,{"$f":"+IF(BD462=\"\",\"\",MAX(AY$1:AY461)+1)","v":""},{"$f":"IF(Deviation_CEM_CPMS!B484=\"\",\"\",Deviation_CEM_CPMS!B484)","v":""},{"$f":"IF(Deviation_CEM_CPMS!C484=\"\",\"\",Deviation_CEM_CPMS!C484)","v":""},{"$f":"IF(Deviation_CEM_CPMS!D484=\"\",\"\",Deviation_CEM_CPMS!D484)","v":""},"",{"$f":"IF(COUNTIF(BA$2:BA462,BA462)=1,BA462,\"\")","v":""},"","",""]
[{"$f":"IF(B463=\"\",\"\",MAX(A$1:A462)+1)","v":""},{"$f":"+IF(CPMS_Identification!C485=\"\",\"\",CPMS_Identification!C485)","v":""},"",null,{"$f":"IF(F463=\"\",\"\",MAX(E$1:E462)+1)","v":""},{"$f":"IF(Landfill_Gas_ID!C485=\"\",\"\",Landfill_Gas_ID!C485)","v":""},"",null,{"$f":"IF(J463=\"\",\"\",MAX(I$1:I462)+1)","v":""},{"$f":"IF(Distillate_Oil!C485=\"\",\"\",Distillate_Oil!C485)","v":""},"",null,null,null,null,null,null,null,null,null,null,null,null,null,null,null,{"$f":"+IF(AE463=\"\",\"\",MAX(AA$1:AA462)+1)","v":""},{"$f":"IF(Deviation_Limits!B485=\"\",\"\",Deviation_Limits!B485)","v":""},{"$f":"IF(Deviation_Limits!C485=\"\",\"\",Deviation_Limits!C485)","v":""},"",{"$f":"IF(COUNTIF(AC$2:AC463,AC463)=1,AC463,\"\")","v":""},"","",null,null,null,null,null,null,null,{"$f":"+IF(AT463=\"\",\"\",MAX(AO$1:AO462)+1)","v":""},{"$f":"IF(Deviation_Limits!B485=\"\",\"\",Deviation_Limits!B485)","v":""},{"$f":"IF(Deviation_Limits!C485=\"\",\"\",Deviation_Limits!C485)","v":""},{"$f":"IF(Deviation_Limits!D485=\"\",\"\",Deviation_Limits!D485)","v":""},"",{"$f":"IF(COUNTIF(AQ$2:AQ463,AQ463)=1,AQ463,\"\")","v":""},"","","",null,{"$f":"+IF(BD463=\"\",\"\",MAX(AY$1:AY462)+1)","v":""},{"$f":"IF(Deviation_CEM_CPMS!B485=\"\",\"\",Deviation_CEM_CPMS!B485)","v":""},{"$f":"IF(Deviation_CEM_CPMS!C485=\"\",\"\",Deviation_CEM_CPMS!C485)","v":""},{"$f":"IF(Deviation_CEM_CPMS!D485=\"\",\"\",Deviation_CEM_CPMS!D485)","v":""},"",{"$f":"IF(COUNTIF(BA$2:BA463,BA463)=1,BA463,\"\")","v":""},"","",""]
[{"$f":"IF(B464=\"\",\"\",MAX(A$1:A463)+1)","v":""},{"$f":"+IF(CPMS_Identification!C486=\"\",\"\",CPMS_Identification!C486)","v":""},"",null,{"$f":"IF(F464=\"\",\"\",MAX(E$1:E463)+1)","v":""},{"$f":"IF(Landfill_Gas_ID!C486=\"\",\"\",Landfill_Gas_ID!C486)","v":""},"",null,{"$f":"IF(J464=\"\",\"\",MAX(I$1:I463)+1)","v":""},{"$f":"IF(Distillate_Oil!C486=\"\",\"\",Distillate_Oil!C486)","v":""},"",null,null,null,null,null,null,null,null,null,null,null,null,null,null,null,{"$f":"+IF(AE464=\"\",\"\",MAX(AA$1:AA463)+1)","v":""},{"$f":"IF(Deviation_Limits!B486=\"\",\"\",Deviation_Limits!B486)","v":""},{"$f":"IF(Deviation_Limits!C486=\"\",\"\",Deviation_Limits!C486)","v":""},"",{"$f":"IF(COUNTIF(AC$2:AC464,AC464)=1,AC464,\"\")","v":""},"","",null,null,null,null,null,null,null,{"$f":"+IF(AT464=\"\",\"\",MAX(AO$1:AO463)+1)","v":""},{"$f":"IF(Deviation_Limits!B486=\"\",\"\",Deviation_Limits!B486)","v":""},{"$f":"IF(Deviation_Limits!C486=\"\",\"\",Deviation_Limits!C486)","v":""},{"$f":"IF(Deviation_Limits!D486=\"\",\"\",Deviation_Limits!D486)","v":""},"",{"$f":"IF(COUNTIF(AQ$2:AQ464,AQ464)=1,AQ464,\"\")","v":""},"","","",null,{"$f":"+IF(BD464=\"\",\"\",MAX(AY$1:AY463)+1)","v":""},{"$f":"IF(Deviation_CEM_CPMS!B486=\"\",\"\",Deviation_CEM_CPMS!B486)","v":""},{"$f":"IF(Deviation_CEM_CPMS!C486=\"\",\"\",Deviation_CEM_CPMS!C486)","v":""},{"$f":"IF(Deviation_CEM_CPMS!D486=\"\",\"\",Deviation_CEM_CPMS!D486)","v":""},"",{"$f":"IF(COUNTIF(BA$2:BA464,BA464)=1,BA464,\"\")","v":""},"","",""]
[{"$f":"IF(B465=\"\",\"\",MAX(A$1:A464)+1)","v":""},{"$f":"+IF(CPMS_Identification!C487=\"\",\"\",CPMS_Identification!C487)","v":""},"",null,{"$f":"IF(F465=\"\",\"\",MAX(E$1:E464)+1)","v":""},{"$f":"IF(Landfill_Gas_ID!C487=\"\",\"\",Landfill_Gas_ID!C487)","v":""},"",null,{"$f":"IF(J465=\"\",\"\",MAX(I$1:I464)+1)","v":""},{"$f":"IF(Distillate_Oil!C487=\"\",\"\",Distillate_Oil!C487)","v":""},"",null,null,null,null,null,null,null,null,null,null,null,null,null,null,null,{"$f":"+IF(AE465=\"\",\"\",MAX(AA$1:AA464)+1)","v":""},{"$f":"IF(Deviation_Limits!B487=\"\",\"\",Deviation_Limits!B487)","v":""},{"$f":"IF(Deviation_Limits!C487=\"\",\"\",Deviation_Limits!C487)","v":""},"",{"$f":"IF(COUNTIF(AC$2:AC465,AC465)=1,AC465,\"\")","v":""},"","",null,null,null,null,null,null,null,{"$f":"+IF(AT465=\"\",\"\",MAX(AO$1:AO464)+1)","v":""},{"$f":"IF(Deviation_Limits!B487=\"\",\"\",Deviation_Limits!B487)","v":""},{"$f":"IF(Deviation_Limits!C487=\"\",\"\",Deviation_Limits!C487)","v":""},{"$f":"IF(Deviation_Limits!D487=\"\",\"\",Deviation_Limits!D487)","v":""},"",{"$f":"IF(COUNTIF(AQ$2:AQ465,AQ465)=1,AQ465,\"\")","v":""},"","","",null,{"$f":"+IF(BD465=\"\",\"\",MAX(AY$1:AY464)+1)","v":""},{"$f":"IF(Deviation_CEM_CPMS!B487=\"\",\"\",Deviation_CEM_CPMS!B487)","v":""},{"$f":"IF(Deviation_CEM_CPMS!C487=\"\",\"\",Deviation_CEM_CPMS!C487)","v":""},{"$f":"IF(Deviation_CEM_CPMS!D487=\"\",\"\",Deviation_CEM_CPMS!D487)","v":""},"",{"$f":"IF(COUNTIF(BA$2:BA465,BA465)=1,BA465,\"\")","v":""},"","",""]
[{"$f":"IF(B466=\"\",\"\",MAX(A$1:A465)+1)","v":""},{"$f":"+IF(CPMS_Identification!C488=\"\",\"\",CPMS_Identification!C488)","v":""},"",null,{"$f":"IF(F466=\"\",\"\",MAX(E$1:E465)+1)","v":""},{"$f":"IF(Landfill_Gas_ID!C488=\"\",\"\",Landfill_Gas_ID!C488)","v":""},"",null,{"$f":"IF(J466=\"\",\"\",MAX(I$1:I465)+1)","v":""},{"$f":"IF(Distillate_Oil!C488=\"\",\"\",Distillate_Oil!C488)","v":""},"",null,null,null,null,null,null,null,null,null,null,null,null,null,null,null,{"$f":"+IF(AE466=\"\",\"\",MAX(AA$1:AA465)+1)","v":""},{"$f":"IF(Deviation_Limits!B488=\"\",\"\",Deviation_Limits!B488)","v":""},{"$f":"IF(Deviation_Limits!C488=\"\",\"\",Deviation_Limits!C488)","v":""},"",{"$f":"IF(COUNTIF(AC$2:AC466,AC466)=1,AC466,\"\")","v":""},"","",null,null,null,null,null,null,null,{"$f":"+IF(AT466=\"\",\"\",MAX(AO$1:AO465)+1)","v":""},{"$f":"IF(Deviation_Limits!B488=\"\",\"\",Deviation_Limits!B488)","v":""},{"$f":"IF(Deviation_Limits!C488=\"\",\"\",Deviation_Limits!C488)","v":""},{"$f":"IF(Deviation_Limits!D488=\"\",\"\",Deviation_Limits!D488)","v":""},"",{"$f":"IF(COUNTIF(AQ$2:AQ466,AQ466)=1,AQ466,\"\")","v":""},"","","",null,{"$f":"+IF(BD466=\"\",\"\",MAX(AY$1:AY465)+1)","v":""},{"$f":"IF(Deviation_CEM_CPMS!B488=\"\",\"\",Deviation_CEM_CPMS!B488)","v":""},{"$f":"IF(Deviation_CEM_CPMS!C488=\"\",\"\",Deviation_CEM_CPMS!C488)","v":""},{"$f":"IF(Deviation_CEM_CPMS!D488=\"\",\"\",Deviation_CEM_CPMS!D488)","v":""},"",{"$f":"IF(COUNTIF(BA$2:BA466,BA466)=1,BA466,\"\")","v":""},"","",""]
[{"$f":"IF(B467=\"\",\"\",MAX(A$1:A466)+1)","v":""},{"$f":"+IF(CPMS_Identification!C489=\"\",\"\",CPMS_Identification!C489)","v":""},"",null,{"$f":"IF(F467=\"\",\"\",MAX(E$1:E466)+1)","v":""},{"$f":"IF(Landfill_Gas_ID!C489=\"\",\"\",Landfill_Gas_ID!C489)","v":""},"",null,{"$f":"IF(J467=\"\",\"\",MAX(I$1:I466)+1)","v":""},{"$f":"IF(Distillate_Oil!C489=\"\",\"\",Distillate_Oil!C489)","v":""},"",null,null,null,null,null,null,null,null,null,null,null,null,null,null,null,{"$f":"+IF(AE467=\"\",\"\",MAX(AA$1:AA466)+1)","v":""},{"$f":"IF(Deviation_Limits!B489=\"\",\"\",Deviation_Limits!B489)","v":""},{"$f":"IF(Deviation_Limits!C489=\"\",\"\",Deviation_Limits!C489)","v":""},"",{"$f":"IF(COUNTIF(AC$2:AC467,AC467)=1,AC467,\"\")","v":""},"","",null,null,null,null,null,null,null,{"$f":"+IF(AT467=\"\",\"\",MAX(AO$1:AO466)+1)","v":""},{"$f":"IF(Deviation_Limits!B489=\"\",\"\",Deviation_Limits!B489)","v":""},{"$f":"IF(Deviation_Limits!C489=\"\",\"\",Deviation_Limits!C489)","v":""},{"$f":"IF(Deviation_Limits!D489=\"\",\"\",Deviation_Limits!D489)","v":""},"",{"$f":"IF(COUNTIF(AQ$2:AQ467,AQ467)=1,AQ467,\"\")","v":""},"","","",null,{"$f":"+IF(BD467=\"\",\"\",MAX(AY$1:AY466)+1)","v":""},{"$f":"IF(Deviation_CEM_CPMS!B489=\"\",\"\",Deviation_CEM_CPMS!B489)","v":""},{"$f":"IF(Deviation_CEM_CPMS!C489=\"\",\"\",Deviation_CEM_CPMS!C489)","v":""},{"$f":"IF(Deviation_CEM_CPMS!D489=\"\",\"\",Deviation_CEM_CPMS!D489)","v":""},"",{"$f":"IF(COUNTIF(BA$2:BA467,BA467)=1,BA467,\"\")","v":""},"","",""]
[{"$f":"IF(B468=\"\",\"\",MAX(A$1:A467)+1)","v":""},{"$f":"+IF(CPMS_Identification!C490=\"\",\"\",CPMS_Identification!C490)","v":""},"",null,{"$f":"IF(F468=\"\",\"\",MAX(E$1:E467)+1)","v":""},{"$f":"IF(Landfill_Gas_ID!C490=\"\",\"\",Landfill_Gas_ID!C490)","v":""},"",null,{"$f":"IF(J468=\"\",\"\",MAX(I$1:I467)+1)","v":""},{"$f":"IF(Distillate_Oil!C490=\"\",\"\",Distillate_Oil!C490)","v":""},"",null,null,null,null,null,null,null,null,null,null,null,null,null,null,null,{"$f":"+IF(AE468=\"\",\"\",MAX(AA$1:AA467)+1)","v":""},{"$f":"IF(Deviation_Limits!B490=\"\",\"\",Deviation_Limits!B490)","v":""},{"$f":"IF(Deviation_Limits!C490=\"\",\"\",Deviation_Limits!C490)","v":""},"",{"$f":"IF(COUNTIF(AC$2:AC468,AC468)=1,AC468,\"\")","v":""},"","",null,null,null,null,null,null,null,{"$f":"+IF(AT468=\"\",\"\",MAX(AO$1:AO467)+1)","v":""},{"$f":"IF(Deviation_Limits!B490=\"\",\"\",Deviation_Limits!B490)","v":""},{"$f":"IF(Deviation_Limits!C490=\"\",\"\",Deviation_Limits!C490)","v":""},{"$f":"IF(Deviation_Limits!D490=\"\",\"\",Deviation_Limits!D490)","v":""},"",{"$f":"IF(COUNTIF(AQ$2:AQ468,AQ468)=1,AQ468,\"\")","v":""},"","","",null,{"$f":"+IF(BD468=\"\",\"\",MAX(AY$1:AY467)+1)","v":""},{"$f":"IF(Deviation_CEM_CPMS!B490=\"\",\"\",Deviation_CEM_CPMS!B490)","v":""},{"$f":"IF(Deviation_CEM_CPMS!C490=\"\",\"\",Deviation_CEM_CPMS!C490)","v":""},{"$f":"IF(Deviation_CEM_CPMS!D490=\"\",\"\",Deviation_CEM_CPMS!D490)","v":""},"",{"$f":"IF(COUNTIF(BA$2:BA468,BA468)=1,BA468,\"\")","v":""},"","",""]
[{"$f":"IF(B469=\"\",\"\",MAX(A$1:A468)+1)","v":""},{"$f":"+IF(CPMS_Identification!C491=\"\",\"\",CPMS_Identification!C491)","v":""},"",null,{"$f":"IF(F469=\"\",\"\",MAX(E$1:E468)+1)","v":""},{"$f":"IF(Landfill_Gas_ID!C491=\"\",\"\",Landfill_Gas_ID!C491)","v":""},"",null,{"$f":"IF(J469=\"\",\"\",MAX(I$1:I468)+1)","v":""},{"$f":"IF(Distillate_Oil!C491=\"\",\"\",Distillate_Oil!C491)","v":""},"",null,null,null,null,null,null,null,null,null,null,null,null,null,null,null,{"$f":"+IF(AE469=\"\",\"\",MAX(AA$1:AA468)+1)","v":""},{"$f":"IF(Deviation_Limits!B491=\"\",\"\",Deviation_Limits!B491)","v":""},{"$f":"IF(Deviation_Limits!C491=\"\",\"\",Deviation_Limits!C491)","v":""},"",{"$f":"IF(COUNTIF(AC$2:AC469,AC469)=1,AC469,\"\")","v":""},"","",null,null,null,null,null,null,null,{"$f":"+IF(AT469=\"\",\"\",MAX(AO$1:AO468)+1)","v":""},{"$f":"IF(Deviation_Limits!B491=\"\",\"\",Deviation_Limits!B491)","v":""},{"$f":"IF(Deviation_Limits!C491=\"\",\"\",Deviation_Limits!C491)","v":""},{"$f":"IF(Deviation_Limits!D491=\"\",\"\",Deviation_Limits!D491)","v":""},"",{"$f":"IF(COUNTIF(AQ$2:AQ469,AQ469)=1,AQ469,\"\")","v":""},"","","",null,{"$f":"+IF(BD469=\"\",\"\",MAX(AY$1:AY468)+1)","v":""},{"$f":"IF(Deviation_CEM_CPMS!B491=\"\",\"\",Deviation_CEM_CPMS!B491)","v":""},{"$f":"IF(Deviation_CEM_CPMS!C491=\"\",\"\",Deviation_CEM_CPMS!C491)","v":""},{"$f":"IF(Deviation_CEM_CPMS!D491=\"\",\"\",Deviation_CEM_CPMS!D491)","v":""},"",{"$f":"IF(COUNTIF(BA$2:BA469,BA469)=1,BA469,\"\")","v":""},"","",""]
[{"$f":"IF(B470=\"\",\"\",MAX(A$1:A469)+1)","v":""},{"$f":"+IF(CPMS_Identification!C492=\"\",\"\",CPMS_Identification!C492)","v":""},"",null,{"$f":"IF(F470=\"\",\"\",MAX(E$1:E469)+1)","v":""},{"$f":"IF(Landfill_Gas_ID!C492=\"\",\"\",Landfill_Gas_ID!C492)","v":""},"",null,{"$f":"IF(J470=\"\",\"\",MAX(I$1:I469)+1)","v":""},{"$f":"IF(Distillate_Oil!C492=\"\",\"\",Distillate_Oil!C492)","v":""},"",null,null,null,null,null,null,null,null,null,null,null,null,null,null,null,{"$f":"+IF(AE470=\"\",\"\",MAX(AA$1:AA469)+1)","v":""},{"$f":"IF(Deviation_Limits!B492=\"\",\"\",Deviation_Limits!B492)","v":""},{"$f":"IF(Deviation_Limits!C492=\"\",\"\",Deviation_Limits!C492)","v":""},"",{"$f":"IF(COUNTIF(AC$2:AC470,AC470)=1,AC470,\"\")","v":""},"","",null,null,null,null,null,null,null,{"$f":"+IF(AT470=\"\",\"\",MAX(AO$1:AO469)+1)","v":""},{"$f":"IF(Deviation_Limits!B492=\"\",\"\",Deviation_Limits!B492)","v":""},{"$f":"IF(Deviation_Limits!C492=\"\",\"\",Deviation_Limits!C492)","v":""},{"$f":"IF(Deviation_Limits!D492=\"\",\"\",Deviation_Limits!D492)","v":""},"",{"$f":"IF(COUNTIF(AQ$2:AQ470,AQ470)=1,AQ470,\"\")","v":""},"","","",null,{"$f":"+IF(BD470=\"\",\"\",MAX(AY$1:AY469)+1)","v":""},{"$f":"IF(Deviation_CEM_CPMS!B492=\"\",\"\",Deviation_CEM_CPMS!B492)","v":""},{"$f":"IF(Deviation_CEM_CPMS!C492=\"\",\"\",Deviation_CEM_CPMS!C492)","v":""},{"$f":"IF(Deviation_CEM_CPMS!D492=\"\",\"\",Deviation_CEM_CPMS!D492)","v":""},"",{"$f":"IF(COUNTIF(BA$2:BA470,BA470)=1,BA470,\"\")","v":""},"","",""]
[{"$f":"IF(B471=\"\",\"\",MAX(A$1:A470)+1)","v":""},{"$f":"+IF(CPMS_Identification!C493=\"\",\"\",CPMS_Identification!C493)","v":""},"",null,{"$f":"IF(F471=\"\",\"\",MAX(E$1:E470)+1)","v":""},{"$f":"IF(Landfill_Gas_ID!C493=\"\",\"\",Landfill_Gas_ID!C493)","v":""},"",null,{"$f":"IF(J471=\"\",\"\",MAX(I$1:I470)+1)","v":""},{"$f":"IF(Distillate_Oil!C493=\"\",\"\",Distillate_Oil!C493)","v":""},"",null,null,null,null,null,null,null,null,null,null,null,null,null,null,null,{"$f":"+IF(AE471=\"\",\"\",MAX(AA$1:AA470)+1)","v":""},{"$f":"IF(Deviation_Limits!B493=\"\",\"\",Deviation_Limits!B493)","v":""},{"$f":"IF(Deviation_Limits!C493=\"\",\"\",Deviation_Limits!C493)","v":""},"",{"$f":"IF(COUNTIF(AC$2:AC471,AC471)=1,AC471,\"\")","v":""},"","",null,null,null,null,null,null,null,{"$f":"+IF(AT471=\"\",\"\",MAX(AO$1:AO470)+1)","v":""},{"$f":"IF(Deviation_Limits!B493=\"\",\"\",Deviation_Limits!B493)","v":""},{"$f":"IF(Deviation_Limits!C493=\"\",\"\",Deviation_Limits!C493)","v":""},{"$f":"IF(Deviation_Limits!D493=\"\",\"\",Deviation_Limits!D493)","v":""},"",{"$f":"IF(COUNTIF(AQ$2:AQ471,AQ471)=1,AQ471,\"\")","v":""},"","","",null,{"$f":"+IF(BD471=\"\",\"\",MAX(AY$1:AY470)+1)","v":""},{"$f":"IF(Deviation_CEM_CPMS!B493=\"\",\"\",Deviation_CEM_CPMS!B493)","v":""},{"$f":"IF(Deviation_CEM_CPMS!C493=\"\",\"\",Deviation_CEM_CPMS!C493)","v":""},{"$f":"IF(Deviation_CEM_CPMS!D493=\"\",\"\",Deviation_CEM_CPMS!D493)","v":""},"",{"$f":"IF(COUNTIF(BA$2:BA471,BA471)=1,BA471,\"\")","v":""},"","",""]
[{"$f":"IF(B472=\"\",\"\",MAX(A$1:A471)+1)","v":""},{"$f":"+IF(CPMS_Identification!C494=\"\",\"\",CPMS_Identification!C494)","v":""},"",null,{"$f":"IF(F472=\"\",\"\",MAX(E$1:E471)+1)","v":""},{"$f":"IF(Landfill_Gas_ID!C494=\"\",\"\",Landfill_Gas_ID!C494)","v":""},"",null,{"$f":"IF(J472=\"\",\"\",MAX(I$1:I471)+1)","v":""},{"$f":"IF(Distillate_Oil!C494=\"\",\"\",Distillate_Oil!C494)","v":""},"",null,null,null,null,null,null,null,null,null,null,null,null,null,null,null,{"$f":"+IF(AE472=\"\",\"\",MAX(AA$1:AA471)+1)","v":""},{"$f":"IF(Deviation_Limits!B494=\"\",\"\",Deviation_Limits!B494)","v":""},{"$f":"IF(Deviation_Limits!C494=\"\",\"\",Deviation_Limits!C494)","v":""},"",{"$f":"IF(COUNTIF(AC$2:AC472,AC472)=1,AC472,\"\")","v":""},"","",null,null,null,null,null,null,null,{"$f":"+IF(AT472=\"\",\"\",MAX(AO$1:AO471)+1)","v":""},{"$f":"IF(Deviation_Limits!B494=\"\",\"\",Deviation_Limits!B494)","v":""},{"$f":"IF(Deviation_Limits!C494=\"\",\"\",Deviation_Limits!C494)","v":""},{"$f":"IF(Deviation_Limits!D494=\"\",\"\",Deviation_Limits!D494)","v":""},"",{"$f":"IF(COUNTIF(AQ$2:AQ472,AQ472)=1,AQ472,\"\")","v":""},"","","",null,{"$f":"+IF(BD472=\"\",\"\",MAX(AY$1:AY471)+1)","v":""},{"$f":"IF(Deviation_CEM_CPMS!B494=\"\",\"\",Deviation_CEM_CPMS!B494)","v":""},{"$f":"IF(Deviation_CEM_CPMS!C494=\"\",\"\",Deviation_CEM_CPMS!C494)","v":""},{"$f":"IF(Deviation_CEM_CPMS!D494=\"\",\"\",Deviation_CEM_CPMS!D494)","v":""},"",{"$f":"IF(COUNTIF(BA$2:BA472,BA472)=1,BA472,\"\")","v":""},"","",""]
[{"$f":"IF(B473=\"\",\"\",MAX(A$1:A472)+1)","v":""},{"$f":"+IF(CPMS_Identification!C495=\"\",\"\",CPMS_Identification!C495)","v":""},"",null,{"$f":"IF(F473=\"\",\"\",MAX(E$1:E472)+1)","v":""},{"$f":"IF(Landfill_Gas_ID!C495=\"\",\"\",Landfill_Gas_ID!C495)","v":""},"",null,{"$f":"IF(J473=\"\",\"\",MAX(I$1:I472)+1)","v":""},{"$f":"IF(Distillate_Oil!C495=\"\",\"\",Distillate_Oil!C495)","v":""},"",null,null,null,null,null,null,null,null,null,null,null,null,null,null,null,{"$f":"+IF(AE473=\"\",\"\",MAX(AA$1:AA472)+1)","v":""},{"$f":"IF(Deviation_Limits!B495=\"\",\"\",Deviation_Limits!B495)","v":""},{"$f":"IF(Deviation_Limits!C495=\"\",\"\",Deviation_Limits!C495)","v":""},"",{"$f":"IF(COUNTIF(AC$2:AC473,AC473)=1,AC473,\"\")","v":""},"","",null,null,null,null,null,null,null,{"$f":"+IF(AT473=\"\",\"\",MAX(AO$1:AO472)+1)","v":""},{"$f":"IF(Deviation_Limits!B495=\"\",\"\",Deviation_Limits!B495)","v":""},{"$f":"IF(Deviation_Limits!C495=\"\",\"\",Deviation_Limits!C495)","v":""},{"$f":"IF(Deviation_Limits!D495=\"\",\"\",Deviation_Limits!D495)","v":""},"",{"$f":"IF(COUNTIF(AQ$2:AQ473,AQ473)=1,AQ473,\"\")","v":""},"","","",null,{"$f":"+IF(BD473=\"\",\"\",MAX(AY$1:AY472)+1)","v":""},{"$f":"IF(Deviation_CEM_CPMS!B495=\"\",\"\",Deviation_CEM_CPMS!B495)","v":""},{"$f":"IF(Deviation_CEM_CPMS!C495=\"\",\"\",Deviation_CEM_CPMS!C495)","v":""},{"$f":"IF(Deviation_CEM_CPMS!D495=\"\",\"\",Deviation_CEM_CPMS!D495)","v":""},"",{"$f":"IF(COUNTIF(BA$2:BA473,BA473)=1,BA473,\"\")","v":""},"","",""]
[{"$f":"IF(B474=\"\",\"\",MAX(A$1:A473)+1)","v":""},{"$f":"+IF(CPMS_Identification!C496=\"\",\"\",CPMS_Identification!C496)","v":""},"",null,{"$f":"IF(F474=\"\",\"\",MAX(E$1:E473)+1)","v":""},{"$f":"IF(Landfill_Gas_ID!C496=\"\",\"\",Landfill_Gas_ID!C496)","v":""},"",null,{"$f":"IF(J474=\"\",\"\",MAX(I$1:I473)+1)","v":""},{"$f":"IF(Distillate_Oil!C496=\"\",\"\",Distillate_Oil!C496)","v":""},"",null,null,null,null,null,null,null,null,null,null,null,null,null,null,null,{"$f":"+IF(AE474=\"\",\"\",MAX(AA$1:AA473)+1)","v":""},{"$f":"IF(Deviation_Limits!B496=\"\",\"\",Deviation_Limits!B496)","v":""},{"$f":"IF(Deviation_Limits!C496=\"\",\"\",Deviation_Limits!C496)","v":""},"",{"$f":"IF(COUNTIF(AC$2:AC474,AC474)=1,AC474,\"\")","v":""},"","",null,null,null,null,null,null,null,{"$f":"+IF(AT474=\"\",\"\",MAX(AO$1:AO473)+1)","v":""},{"$f":"IF(Deviation_Limits!B496=\"\",\"\",Deviation_Limits!B496)","v":""},{"$f":"IF(Deviation_Limits!C496=\"\",\"\",Deviation_Limits!C496)","v":""},{"$f":"IF(Deviation_Limits!D496=\"\",\"\",Deviation_Limits!D496)","v":""},"",{"$f":"IF(COUNTIF(AQ$2:AQ474,AQ474)=1,AQ474,\"\")","v":""},"","","",null,{"$f":"+IF(BD474=\"\",\"\",MAX(AY$1:AY473)+1)","v":""},{"$f":"IF(Deviation_CEM_CPMS!B496=\"\",\"\",Deviation_CEM_CPMS!B496)","v":""},{"$f":"IF(Deviation_CEM_CPMS!C496=\"\",\"\",Deviation_CEM_CPMS!C496)","v":""},{"$f":"IF(Deviation_CEM_CPMS!D496=\"\",\"\",Deviation_CEM_CPMS!D496)","v":""},"",{"$f":"IF(COUNTIF(BA$2:BA474,BA474)=1,BA474,\"\")","v":""},"","",""]
[{"$f":"IF(B475=\"\",\"\",MAX(A$1:A474)+1)","v":""},{"$f":"+IF(CPMS_Identification!C497=\"\",\"\",CPMS_Identification!C497)","v":""},"",null,{"$f":"IF(F475=\"\",\"\",MAX(E$1:E474)+1)","v":""},{"$f":"IF(Landfill_Gas_ID!C497=\"\",\"\",Landfill_Gas_ID!C497)","v":""},"",null,{"$f":"IF(J475=\"\",\"\",MAX(I$1:I474)+1)","v":""},{"$f":"IF(Distillate_Oil!C497=\"\",\"\",Distillate_Oil!C497)","v":""},"",null,null,null,null,null,null,null,null,null,null,null,null,null,null,null,{"$f":"+IF(AE475=\"\",\"\",MAX(AA$1:AA474)+1)","v":""},{"$f":"IF(Deviation_Limits!B497=\"\",\"\",Deviation_Limits!B497)","v":""},{"$f":"IF(Deviation_Limits!C497=\"\",\"\",Deviation_Limits!C497)","v":""},"",{"$f":"IF(COUNTIF(AC$2:AC475,AC475)=1,AC475,\"\")","v":""},"","",null,null,null,null,null,null,null,{"$f":"+IF(AT475=\"\",\"\",MAX(AO$1:AO474)+1)","v":""},{"$f":"IF(Deviation_Limits!B497=\"\",\"\",Deviation_Limits!B497)","v":""},{"$f":"IF(Deviation_Limits!C497=\"\",\"\",Deviation_Limits!C497)","v":""},{"$f":"IF(Deviation_Limits!D497=\"\",\"\",Deviation_Limits!D497)","v":""},"",{"$f":"IF(COUNTIF(AQ$2:AQ475,AQ475)=1,AQ475,\"\")","v":""},"","","",null,{"$f":"+IF(BD475=\"\",\"\",MAX(AY$1:AY474)+1)","v":""},{"$f":"IF(Deviation_CEM_CPMS!B497=\"\",\"\",Deviation_CEM_CPMS!B497)","v":""},{"$f":"IF(Deviation_CEM_CPMS!C497=\"\",\"\",Deviation_CEM_CPMS!C497)","v":""},{"$f":"IF(Deviation_CEM_CPMS!D497=\"\",\"\",Deviation_CEM_CPMS!D497)","v":""},"",{"$f":"IF(COUNTIF(BA$2:BA475,BA475)=1,BA475,\"\")","v":""},"","",""]
[{"$f":"IF(B476=\"\",\"\",MAX(A$1:A475)+1)","v":""},{"$f":"+IF(CPMS_Identification!C498=\"\",\"\",CPMS_Identification!C498)","v":""},"",null,{"$f":"IF(F476=\"\",\"\",MAX(E$1:E475)+1)","v":""},{"$f":"IF(Landfill_Gas_ID!C498=\"\",\"\",Landfill_Gas_ID!C498)","v":""},"",null,{"$f":"IF(J476=\"\",\"\",MAX(I$1:I475)+1)","v":""},{"$f":"IF(Distillate_Oil!C498=\"\",\"\",Distillate_Oil!C498)","v":""},"",null,null,null,null,null,null,null,null,null,null,null,null,null,null,null,{"$f":"+IF(AE476=\"\",\"\",MAX(AA$1:AA475)+1)","v":""},{"$f":"IF(Deviation_Limits!B498=\"\",\"\",Deviation_Limits!B498)","v":""},{"$f":"IF(Deviation_Limits!C498=\"\",\"\",Deviation_Limits!C498)","v":""},"",{"$f":"IF(COUNTIF(AC$2:AC476,AC476)=1,AC476,\"\")","v":""},"","",null,null,null,null,null,null,null,{"$f":"+IF(AT476=\"\",\"\",MAX(AO$1:AO475)+1)","v":""},{"$f":"IF(Deviation_Limits!B498=\"\",\"\",Deviation_Limits!B498)","v":""},{"$f":"IF(Deviation_Limits!C498=\"\",\"\",Deviation_Limits!C498)","v":""},{"$f":"IF(Deviation_Limits!D498=\"\",\"\",Deviation_Limits!D498)","v":""},"",{"$f":"IF(COUNTIF(AQ$2:AQ476,AQ476)=1,AQ476,\"\")","v":""},"","","",null,{"$f":"+IF(BD476=\"\",\"\",MAX(AY$1:AY475)+1)","v":""},{"$f":"IF(Deviation_CEM_CPMS!B498=\"\",\"\",Deviation_CEM_CPMS!B498)","v":""},{"$f":"IF(Deviation_CEM_CPMS!C498=\"\",\"\",Deviation_CEM_CPMS!C498)","v":""},{"$f":"IF(Deviation_CEM_CPMS!D498=\"\",\"\",Deviation_CEM_CPMS!D498)","v":""},"",{"$f":"IF(COUNTIF(BA$2:BA476,BA476)=1,BA476,\"\")","v":""},"","",""]
[{"$f":"IF(B477=\"\",\"\",MAX(A$1:A476)+1)","v":""},{"$f":"+IF(CPMS_Identification!C499=\"\",\"\",CPMS_Identification!C499)","v":""},"",null,{"$f":"IF(F477=\"\",\"\",MAX(E$1:E476)+1)","v":""},{"$f":"IF(Landfill_Gas_ID!C499=\"\",\"\",Landfill_Gas_ID!C499)","v":""},"",null,{"$f":"IF(J477=\"\",\"\",MAX(I$1:I476)+1)","v":""},{"$f":"IF(Distillate_Oil!C499=\"\",\"\",Distillate_Oil!C499)","v":""},"",null,null,null,null,null,null,null,null,null,null,null,null,null,null,null,{"$f":"+IF(AE477=\"\",\"\",MAX(AA$1:AA476)+1)","v":""},{"$f":"IF(Deviation_Limits!B499=\"\",\"\",Deviation_Limits!B499)","v":""},{"$f":"IF(Deviation_Limits!C499=\"\",\"\",Deviation_Limits!C499)","v":""},"",{"$f":"IF(COUNTIF(AC$2:AC477,AC477)=1,AC477,\"\")","v":""},"","",null,null,null,null,null,null,null,{"$f":"+IF(AT477=\"\",\"\",MAX(AO$1:AO476)+1)","v":""},{"$f":"IF(Deviation_Limits!B499=\"\",\"\",Deviation_Limits!B499)","v":""},{"$f":"IF(Deviation_Limits!C499=\"\",\"\",Deviation_Limits!C499)","v":""},{"$f":"IF(Deviation_Limits!D499=\"\",\"\",Deviation_Limits!D499)","v":""},"",{"$f":"IF(COUNTIF(AQ$2:AQ477,AQ477)=1,AQ477,\"\")","v":""},"","","",null,{"$f":"+IF(BD477=\"\",\"\",MAX(AY$1:AY476)+1)","v":""},{"$f":"IF(Deviation_CEM_CPMS!B499=\"\",\"\",Deviation_CEM_CPMS!B499)","v":""},{"$f":"IF(Deviation_CEM_CPMS!C499=\"\",\"\",Deviation_CEM_CPMS!C499)","v":""},{"$f":"IF(Deviation_CEM_CPMS!D499=\"\",\"\",Deviation_CEM_CPMS!D499)","v":""},"",{"$f":"IF(COUNTIF(BA$2:BA477,BA477)=1,BA477,\"\")","v":""},"","",""]
[{"$f":"IF(B478=\"\",\"\",MAX(A$1:A477)+1)","v":""},{"$f":"+IF(CPMS_Identification!C500=\"\",\"\",CPMS_Identification!C500)","v":""},"",null,{"$f":"IF(F478=\"\",\"\",MAX(E$1:E477)+1)","v":""},{"$f":"IF(Landfill_Gas_ID!C500=\"\",\"\",Landfill_Gas_ID!C500)","v":""},"",null,{"$f":"IF(J478=\"\",\"\",MAX(I$1:I477)+1)","v":""},{"$f":"IF(Distillate_Oil!C500=\"\",\"\",Distillate_Oil!C500)","v":""},"",null,null,null,null,null,null,null,null,null,null,null,null,null,null,null,{"$f":"+IF(AE478=\"\",\"\",MAX(AA$1:AA477)+1)","v":""},{"$f":"IF(Deviation_Limits!B500=\"\",\"\",Deviation_Limits!B500)","v":""},{"$f":"IF(Deviation_Limits!C500=\"\",\"\",Deviation_Limits!C500)","v":""},"",{"$f":"IF(COUNTIF(AC$2:AC478,AC478)=1,AC478,\"\")","v":""},"","",null,null,null,null,null,null,null,{"$f":"+IF(AT478=\"\",\"\",MAX(AO$1:AO477)+1)","v":""},{"$f":"IF(Deviation_Limits!B500=\"\",\"\",Deviation_Limits!B500)","v":""},{"$f":"IF(Deviation_Limits!C500=\"\",\"\",Deviation_Limits!C500)","v":""},{"$f":"IF(Deviation_Limits!D500=\"\",\"\",Deviation_Limits!D500)","v":""},"",{"$f":"IF(COUNTIF(AQ$2:AQ478,AQ478)=1,AQ478,\"\")","v":""},"","","",null,{"$f":"+IF(BD478=\"\",\"\",MAX(AY$1:AY477)+1)","v":""},{"$f":"IF(Deviation_CEM_CPMS!B500=\"\",\"\",Deviation_CEM_CPMS!B500)","v":""},{"$f":"IF(Deviation_CEM_CPMS!C500=\"\",\"\",Deviation_CEM_CPMS!C500)","v":""},{"$f":"IF(Deviation_CEM_CPMS!D500=\"\",\"\",Deviation_CEM_CPMS!D500)","v":""},"",{"$f":"IF(COUNTIF(BA$2:BA478,BA478)=1,BA478,\"\")","v":""},"","",""]
[{"$f":"IF(B479=\"\",\"\",MAX(A$1:A478)+1)","v":""},{"$f":"+IF(CPMS_Identification!C501=\"\",\"\",CPMS_Identification!C501)","v":""},"",null,{"$f":"IF(F479=\"\",\"\",MAX(E$1:E478)+1)","v":""},{"$f":"IF(Landfill_Gas_ID!C501=\"\",\"\",Landfill_Gas_ID!C501)","v":""},"",null,{"$f":"IF(J479=\"\",\"\",MAX(I$1:I478)+1)","v":""},{"$f":"IF(Distillate_Oil!C501=\"\",\"\",Distillate_Oil!C501)","v":""},"",null,null,null,null,null,null,null,null,null,null,null,null,null,null,null,{"$f":"+IF(AE479=\"\",\"\",MAX(AA$1:AA478)+1)","v":{"$error":"#REF!"}},{"$f":"IF(#REF!=\"\",\"\",#REF!)","v":{"$error":"#REF!"}},{"$f":"IF(#REF!=\"\",\"\",#REF!)","v":{"$error":"#REF!"}},{"$f":"+AB479&AC479","v":{"$error":"#REF!"}},{"$f":"IF(COUNTIF(AC$2:AC479,AC479)=1,AC479,\"\")","v":{"$error":"#REF!"}},"","",null,null,null,null,null,null,null,{"$f":"+IF(AT479=\"\",\"\",MAX(AO$1:AO478)+1)","v":""},{"$f":"IF(Deviation_Limits!B501=\"\",\"\",Deviation_Limits!B501)","v":""},{"$f":"IF(Deviation_Limits!C501=\"\",\"\",Deviation_Limits!C501)","v":""},{"$f":"IF(Deviation_Limits!D501=\"\",\"\",Deviation_Limits!D501)","v":""},"",{"$f":"IF(COUNTIF(AQ$2:AQ479,AQ479)=1,AQ479,\"\")","v":""},"","","",null,{"$f":"+IF(BD479=\"\",\"\",MAX(AY$1:AY478)+1)","v":""},{"$f":"IF(Deviation_CEM_CPMS!B501=\"\",\"\",Deviation_CEM_CPMS!B501)","v":""},{"$f":"IF(Deviation_CEM_CPMS!C501=\"\",\"\",Deviation_CEM_CPMS!C501)","v":""},{"$f":"IF(Deviation_CEM_CPMS!D501=\"\",\"\",Deviation_CEM_CPMS!D501)","v":""},"",{"$f":"IF(COUNTIF(BA$2:BA479,BA479)=1,BA479,\"\")","v":""},"","",""]
[{"$f":"IF(B480=\"\",\"\",MAX(A$1:A479)+1)","v":""},{"$f":"+IF(CPMS_Identification!C502=\"\",\"\",CPMS_Identification!C502)","v":""},"",null,{"$f":"IF(F480=\"\",\"\",MAX(E$1:E479)+1)","v":""},{"$f":"IF(Landfill_Gas_ID!C502=\"\",\"\",Landfill_Gas_ID!C502)","v":""},"",null,{"$f":"IF(J480=\"\",\"\",MAX(I$1:I479)+1)","v":""},{"$f":"IF(Distillate_Oil!C502=\"\",\"\",Distillate_Oil!C502)","v":""},"",null,null,null,null,null,null,null,null,null,null,null,null,null,null,null,{"$f":"+IF(AE480=\"\",\"\",MAX(AA$1:AA479)+1)","v":""},{"$f":"IF(#REF!=\"\",\"\",#REF!)","v":{"$error":"#REF!"}},{"$f":"IF(#REF!=\"\",\"\",#REF!)","v":{"$error":"#REF!"}},{"$f":"+AB480&AC480","v":{"$error":"#REF!"}},{"$f":"IF(COUNTIF(AC$2:AC480,AC480)=1,AC480,\"\")","v":""},"","",null,null,null,null,null,null,null,{"$f":"+IF(AT480=\"\",\"\",MAX(AO$1:AO479)+1)","v":""},{"$f":"IF(Deviation_Limits!B502=\"\",\"\",Deviation_Limits!B502)","v":""},{"$f":"IF(Deviation_Limits!C502=\"\",\"\",Deviation_Limits!C502)","v":""},{"$f":"IF(Deviation_Limits!D502=\"\",\"\",Deviation_Limits!D502)","v":""},"",{"$f":"IF(COUNTIF(AQ$2:AQ480,AQ480)=1,AQ480,\"\")","v":""},"","","",null,{"$f":"+IF(BD480=\"\",\"\",MAX(AY$1:AY479)+1)","v":""},{"$f":"IF(Deviation_CEM_CPMS!B502=\"\",\"\",Deviation_CEM_CPMS!B502)","v":""},{"$f":"IF(Deviation_CEM_CPMS!C502=\"\",\"\",Deviation_CEM_CPMS!C502)","v":""},{"$f":"IF(Deviation_CEM_CPMS!D502=\"\",\"\",Deviation_CEM_CPMS!D502)","v":""},"",{"$f":"IF(COUNTIF(BA$2:BA480,BA480)=1,BA480,\"\")","v":""},"","",""]
[{"$f":"IF(B481=\"\",\"\",MAX(A$1:A480)+1)","v":""},{"$f":"+IF(CPMS_Identification!C503=\"\",\"\",CPMS_Identification!C503)","v":""},"",null,{"$f":"IF(F481=\"\",\"\",MAX(E$1:E480)+1)","v":""},{"$f":"IF(Landfill_Gas_ID!C503=\"\",\"\",Landfill_Gas_ID!C503)","v":""},"",null,{"$f":"IF(J481=\"\",\"\",MAX(I$1:I480)+1)","v":""},{"$f":"IF(Distillate_Oil!C503=\"\",\"\",Distillate_Oil!C503)","v":""},"",null,null,null,null,null,null,null,null,null,null,null,null,null,null,null,{"$f":"+IF(AE481=\"\",\"\",MAX(AA$1:AA480)+1)","v":""},{"$f":"IF(#REF!=\"\",\"\",#REF!)","v":{"$error":"#REF!"}},{"$f":"IF(#REF!=\"\",\"\",#REF!)","v":{"$error":"#REF!"}},{"$error":"#REF!"},{"$f":"IF(COUNTIF(AC$2:AC481,AC481)=1,AC481,\"\")","v":""},"","",null,null,null,null,null,null,null,{"$f":"+IF(AT481=\"\",\"\",MAX(AO$1:AO480)+1)","v":""},{"$f":"IF(Deviation_Limits!B503=\"\",\"\",Deviation_Limits!B503)","v":""},{"$f":"IF(Deviation_Limits!C503=\"\",\"\",Deviation_Limits!C503)","v":""},{"$f":"IF(Deviation_Limits!D503=\"\",\"\",Deviation_Limits!D503)","v":""},"",{"$f":"IF(COUNTIF(AQ$2:AQ481,AQ481)=1,AQ481,\"\")","v":""},"","","",null,{"$f":"+IF(BD481=\"\",\"\",MAX(AY$1:AY480)+1)","v":""},{"$f":"IF(Deviation_CEM_CPMS!B503=\"\",\"\",Deviation_CEM_CPMS!B503)","v":""},{"$f":"IF(Deviation_CEM_CPMS!C503=\"\",\"\",Deviation_CEM_CPMS!C503)","v":""},{"$f":"IF(Deviation_CEM_CPMS!D503=\"\",\"\",Deviation_CEM_CPMS!D503)","v":""},"",{"$f":"IF(COUNTIF(BA$2:BA481,BA481)=1,BA481,\"\")","v":""},"","",""]
[{"$f":"IF(B482=\"\",\"\",MAX(A$1:A481)+1)","v":""},{"$f":"+IF(CPMS_Identification!C504=\"\",\"\",CPMS_Identification!C504)","v":""},"",null,{"$f":"IF(F482=\"\",\"\",MAX(E$1:E481)+1)","v":""},{"$f":"IF(Landfill_Gas_ID!C504=\"\",\"\",Landfill_Gas_ID!C504)","v":""},"",null,{"$f":"IF(J482=\"\",\"\",MAX(I$1:I481)+1)","v":""},{"$f":"IF(Distillate_Oil!C504=\"\",\"\",Distillate_Oil!C504)","v":""},"",null,null,null,null,null,null,null,null,null,null,null,null,null,null,null,{"$f":"+IF(AE482=\"\",\"\",MAX(AA$1:AA481)+1)","v":""},{"$f":"IF(#REF!=\"\",\"\",#REF!)","v":{"$error":"#REF!"}},{"$f":"IF(#REF!=\"\",\"\",#REF!)","v":{"$error":"#REF!"}},{"$error":"#REF!"},{"$f":"IF(COUNTIF(AC$2:AC482,AC482)=1,AC482,\"\")","v":""},"","",null,null,null,null,null,null,null,{"$f":"+IF(AT482=\"\",\"\",MAX(AO$1:AO481)+1)","v":""},{"$f":"IF(Deviation_Limits!B504=\"\",\"\",Deviation_Limits!B504)","v":""},{"$f":"IF(Deviation_Limits!C504=\"\",\"\",Deviation_Limits!C504)","v":""},{"$f":"IF(Deviation_Limits!D504=\"\",\"\",Deviation_Limits!D504)","v":""},"",{"$f":"IF(COUNTIF(AQ$2:AQ482,AQ482)=1,AQ482,\"\")","v":""},"","","",null,{"$f":"+IF(BD482=\"\",\"\",MAX(AY$1:AY481)+1)","v":""},{"$f":"IF(Deviation_CEM_CPMS!B504=\"\",\"\",Deviation_CEM_CPMS!B504)","v":""},{"$f":"IF(Deviation_CEM_CPMS!C504=\"\",\"\",Deviation_CEM_CPMS!C504)","v":""},{"$f":"IF(Deviation_CEM_CPMS!D504=\"\",\"\",Deviation_CEM_CPMS!D504)","v":""},"",{"$f":"IF(COUNTIF(BA$2:BA482,BA482)=1,BA482,\"\")","v":""},"","",""]
[{"$f":"IF(B483=\"\",\"\",MAX(A$1:A482)+1)","v":""},{"$f":"+IF(CPMS_Identification!C505=\"\",\"\",CPMS_Identification!C505)","v":""},"",null,{"$f":"IF(F483=\"\",\"\",MAX(E$1:E482)+1)","v":""},{"$f":"IF(Landfill_Gas_ID!C505=\"\",\"\",Landfill_Gas_ID!C505)","v":""},"",null,{"$f":"IF(J483=\"\",\"\",MAX(I$1:I482)+1)","v":""},{"$f":"IF(Distillate_Oil!C505=\"\",\"\",Distillate_Oil!C505)","v":""},"",null,null,null,null,null,null,null,null,null,null,null,null,null,null,null,{"$f":"+IF(AE483=\"\",\"\",MAX(AA$1:AA482)+1)","v":""},{"$f":"IF(#REF!=\"\",\"\",#REF!)","v":{"$error":"#REF!"}},{"$f":"IF(#REF!=\"\",\"\",#REF!)","v":{"$error":"#REF!"}},{"$error":"#REF!"},{"$f":"IF(COUNTIF(AC$2:AC483,AC483)=1,AC483,\"\")","v":""},"","",null,null,null,null,null,null,null,{"$f":"+IF(AT483=\"\",\"\",MAX(AO$1:AO482)+1)","v":""},{"$f":"IF(Deviation_Limits!B505=\"\",\"\",Deviation_Limits!B505)","v":""},{"$f":"IF(Deviation_Limits!C505=\"\",\"\",Deviation_Limits!C505)","v":""},{"$f":"IF(Deviation_Limits!D505=\"\",\"\",Deviation_Limits!D505)","v":""},"",{"$f":"IF(COUNTIF(AQ$2:AQ483,AQ483)=1,AQ483,\"\")","v":""},"","","",null,{"$f":"+IF(BD483=\"\",\"\",MAX(AY$1:AY482)+1)","v":""},{"$f":"IF(Deviation_CEM_CPMS!B505=\"\",\"\",Deviation_CEM_CPMS!B505)","v":""},{"$f":"IF(Deviation_CEM_CPMS!C505=\"\",\"\",Deviation_CEM_CPMS!C505)","v":""},{"$f":"IF(Deviation_CEM_CPMS!D505=\"\",\"\",Deviation_CEM_CPMS!D505)","v":""},"",{"$f":"IF(COUNTIF(BA$2:BA483,BA483)=1,BA483,\"\")","v":""},"","",""]
[{"$f":"IF(B484=\"\",\"\",MAX(A$1:A483)+1)","v":""},{"$f":"+IF(CPMS_Identification!C506=\"\",\"\",CPMS_Identification!C506)","v":""},"",null,{"$f":"IF(F484=\"\",\"\",MAX(E$1:E483)+1)","v":""},{"$f":"IF(Landfill_Gas_ID!C506=\"\",\"\",Landfill_Gas_ID!C506)","v":""},"",null,{"$f":"IF(J484=\"\",\"\",MAX(I$1:I483)+1)","v":""},{"$f":"IF(Distillate_Oil!C506=\"\",\"\",Distillate_Oil!C506)","v":""},"",null,null,null,null,null,null,null,null,null,null,null,null,null,null,null,{"$f":"+IF(AE484=\"\",\"\",MAX(AA$1:AA483)+1)","v":""},{"$f":"IF(#REF!=\"\",\"\",#REF!)","v":{"$error":"#REF!"}},{"$f":"IF(#REF!=\"\",\"\",#REF!)","v":{"$error":"#REF!"}},{"$error":"#REF!"},{"$f":"IF(COUNTIF(AC$2:AC484,AC484)=1,AC484,\"\")","v":""},"","",null,null,null,null,null,null,null,{"$f":"+IF(AT484=\"\",\"\",MAX(AO$1:AO483)+1)","v":""},{"$f":"IF(Deviation_Limits!B506=\"\",\"\",Deviation_Limits!B506)","v":""},{"$f":"IF(Deviation_Limits!C506=\"\",\"\",Deviation_Limits!C506)","v":""},{"$f":"IF(Deviation_Limits!D506=\"\",\"\",Deviation_Limits!D506)","v":""},"",{"$f":"IF(COUNTIF(AQ$2:AQ484,AQ484)=1,AQ484,\"\")","v":""},"","","",null,{"$f":"+IF(BD484=\"\",\"\",MAX(AY$1:AY483)+1)","v":""},{"$f":"IF(Deviation_CEM_CPMS!B506=\"\",\"\",Deviation_CEM_CPMS!B506)","v":""},{"$f":"IF(Deviation_CEM_CPMS!C506=\"\",\"\",Deviation_CEM_CPMS!C506)","v":""},{"$f":"IF(Deviation_CEM_CPMS!D506=\"\",\"\",Deviation_CEM_CPMS!D506)","v":""},"",{"$f":"IF(COUNTIF(BA$2:BA484,BA484)=1,BA484,\"\")","v":""},"","",""]
[{"$f":"IF(B485=\"\",\"\",MAX(A$1:A484)+1)","v":""},{"$f":"+IF(CPMS_Identification!C507=\"\",\"\",CPMS_Identification!C507)","v":""},"",null,{"$f":"IF(F485=\"\",\"\",MAX(E$1:E484)+1)","v":""},{"$f":"IF(Landfill_Gas_ID!C507=\"\",\"\",Landfill_Gas_ID!C507)","v":""},"",null,{"$f":"IF(J485=\"\",\"\",MAX(I$1:I484)+1)","v":""},{"$f":"IF(Distillate_Oil!C507=\"\",\"\",Distillate_Oil!C507)","v":""},"",null,null,null,null,null,null,null,null,null,null,null,null,null,null,null,{"$f":"+IF(AE485=\"\",\"\",MAX(AA$1:AA484)+1)","v":""},{"$f":"IF(#REF!=\"\",\"\",#REF!)","v":{"$error":"#REF!"}},{"$f":"IF(#REF!=\"\",\"\",#REF!)","v":{"$error":"#REF!"}},{"$error":"#REF!"},{"$f":"IF(COUNTIF(AC$2:AC485,AC485)=1,AC485,\"\")","v":""},"","",null,null,null,null,null,null,null,{"$f":"+IF(AT485=\"\",\"\",MAX(AO$1:AO484)+1)","v":""},{"$f":"IF(Deviation_Limits!B507=\"\",\"\",Deviation_Limits!B507)","v":""},{"$f":"IF(Deviation_Limits!C507=\"\",\"\",Deviation_Limits!C507)","v":""},{"$f":"IF(Deviation_Limits!D507=\"\",\"\",Deviation_Limits!D507)","v":""},"",{"$f":"IF(COUNTIF(AQ$2:AQ485,AQ485)=1,AQ485,\"\")","v":""},"","","",null,{"$f":"+IF(BD485=\"\",\"\",MAX(AY$1:AY484)+1)","v":""},{"$f":"IF(Deviation_CEM_CPMS!B507=\"\",\"\",Deviation_CEM_CPMS!B507)","v":""},{"$f":"IF(Deviation_CEM_CPMS!C507=\"\",\"\",Deviation_CEM_CPMS!C507)","v":""},{"$f":"IF(Deviation_CEM_CPMS!D507=\"\",\"\",Deviation_CEM_CPMS!D507)","v":""},"",{"$f":"IF(COUNTIF(BA$2:BA485,BA485)=1,BA485,\"\")","v":""},"","",""]
[{"$f":"IF(B486=\"\",\"\",MAX(A$1:A485)+1)","v":""},{"$f":"+IF(CPMS_Identification!C508=\"\",\"\",CPMS_Identification!C508)","v":""},"",null,{"$f":"IF(F486=\"\",\"\",MAX(E$1:E485)+1)","v":""},{"$f":"IF(Landfill_Gas_ID!C508=\"\",\"\",Landfill_Gas_ID!C508)","v":""},"",null,{"$f":"IF(J486=\"\",\"\",MAX(I$1:I485)+1)","v":""},{"$f":"IF(Distillate_Oil!C508=\"\",\"\",Distillate_Oil!C508)","v":""},"",null,null,null,null,null,null,null,null,null,null,null,null,null,null,null,{"$f":"+IF(AE486=\"\",\"\",MAX(AA$1:AA485)+1)","v":""},{"$f":"IF(#REF!=\"\",\"\",#REF!)","v":{"$error":"#REF!"}},{"$f":"IF(#REF!=\"\",\"\",#REF!)","v":{"$error":"#REF!"}},{"$error":"#REF!"},{"$f":"IF(COUNTIF(AC$2:AC486,AC486)=1,AC486,\"\")","v":""},"","",null,null,null,null,null,null,null,{"$f":"+IF(AT486=\"\",\"\",MAX(AO$1:AO485)+1)","v":""},{"$f":"IF(Deviation_Limits!B508=\"\",\"\",Deviation_Limits!B508)","v":""},{"$f":"IF(Deviation_Limits!C508=\"\",\"\",Deviation_Limits!C508)","v":""},{"$f":"IF(Deviation_Limits!D508=\"\",\"\",Deviation_Limits!D508)","v":""},"",{"$f":"IF(COUNTIF(AQ$2:AQ486,AQ486)=1,AQ486,\"\")","v":""},"","","",null,{"$f":"+IF(BD486=\"\",\"\",MAX(AY$1:AY485)+1)","v":""},{"$f":"IF(Deviation_CEM_CPMS!B508=\"\",\"\",Deviation_CEM_CPMS!B508)","v":""},{"$f":"IF(Deviation_CEM_CPMS!C508=\"\",\"\",Deviation_CEM_CPMS!C508)","v":""},{"$f":"IF(Deviation_CEM_CPMS!D508=\"\",\"\",Deviation_CEM_CPMS!D508)","v":""},"",{"$f":"IF(COUNTIF(BA$2:BA486,BA486)=1,BA486,\"\")","v":""},"","",""]
[{"$f":"IF(B487=\"\",\"\",MAX(A$1:A486)+1)","v":""},{"$f":"+IF(CPMS_Identification!C509=\"\",\"\",CPMS_Identification!C509)","v":""},"",null,{"$f":"IF(F487=\"\",\"\",MAX(E$1:E486)+1)","v":""},{"$f":"IF(Landfill_Gas_ID!C509=\"\",\"\",Landfill_Gas_ID!C509)","v":""},"",null,{"$f":"IF(J487=\"\",\"\",MAX(I$1:I486)+1)","v":""},{"$f":"IF(Distillate_Oil!C509=\"\",\"\",Distillate_Oil!C509)","v":""},"",null,null,null,null,null,null,null,null,null,null,null,null,null,null,null,{"$f":"+IF(AE487=\"\",\"\",MAX(AA$1:AA486)+1)","v":""},{"$f":"IF(#REF!=\"\",\"\",#REF!)","v":{"$error":"#REF!"}},{"$f":"IF(#REF!=\"\",\"\",#REF!)","v":{"$error":"#REF!"}},{"$error":"#REF!"},{"$f":"IF(COUNTIF(AC$2:AC487,AC487)=1,AC487,\"\")","v":""},"","",null,null,null,null,null,null,null,{"$f":"+IF(AT487=\"\",\"\",MAX(AO$1:AO486)+1)","v":""},{"$f":"IF(Deviation_Limits!B509=\"\",\"\",Deviation_Limits!B509)","v":""},{"$f":"IF(Deviation_Limits!C509=\"\",\"\",Deviation_Limits!C509)","v":""},{"$f":"IF(Deviation_Limits!D509=\"\",\"\",Deviation_Limits!D509)","v":""},"",{"$f":"IF(COUNTIF(AQ$2:AQ487,AQ487)=1,AQ487,\"\")","v":""},"","","",null,{"$f":"+IF(BD487=\"\",\"\",MAX(AY$1:AY486)+1)","v":""},{"$f":"IF(Deviation_CEM_CPMS!B509=\"\",\"\",Deviation_CEM_CPMS!B509)","v":""},{"$f":"IF(Deviation_CEM_CPMS!C509=\"\",\"\",Deviation_CEM_CPMS!C509)","v":""},{"$f":"IF(Deviation_CEM_CPMS!D509=\"\",\"\",Deviation_CEM_CPMS!D509)","v":""},"",{"$f":"IF(COUNTIF(BA$2:BA487,BA487)=1,BA487,\"\")","v":""},"","",""]
[{"$f":"IF(B488=\"\",\"\",MAX(A$1:A487)+1)","v":""},{"$f":"+IF(CPMS_Identification!C510=\"\",\"\",CPMS_Identification!C510)","v":""},"",null,{"$f":"IF(F488=\"\",\"\",MAX(E$1:E487)+1)","v":""},{"$f":"IF(Landfill_Gas_ID!C510=\"\",\"\",Landfill_Gas_ID!C510)","v":""},"",null,{"$f":"IF(J488=\"\",\"\",MAX(I$1:I487)+1)","v":""},{"$f":"IF(Distillate_Oil!C510=\"\",\"\",Distillate_Oil!C510)","v":""},"",null,null,null,null,null,null,null,null,null,null,null,null,null,null,null,{"$f":"+IF(AE488=\"\",\"\",MAX(AA$1:AA487)+1)","v":""},{"$f":"IF(#REF!=\"\",\"\",#REF!)","v":{"$error":"#REF!"}},{"$f":"IF(#REF!=\"\",\"\",#REF!)","v":{"$error":"#REF!"}},{"$error":"#REF!"},{"$f":"IF(COUNTIF(AC$2:AC488,AC488)=1,AC488,\"\")","v":""},"","",null,null,null,null,null,null,null,{"$f":"+IF(AT488=\"\",\"\",MAX(AO$1:AO487)+1)","v":""},{"$f":"IF(Deviation_Limits!B510=\"\",\"\",Deviation_Limits!B510)","v":""},{"$f":"IF(Deviation_Limits!C510=\"\",\"\",Deviation_Limits!C510)","v":""},{"$f":"IF(Deviation_Limits!D510=\"\",\"\",Deviation_Limits!D510)","v":""},"",{"$f":"IF(COUNTIF(AQ$2:AQ488,AQ488)=1,AQ488,\"\")","v":""},"","","",null,{"$f":"+IF(BD488=\"\",\"\",MAX(AY$1:AY487)+1)","v":""},{"$f":"IF(Deviation_CEM_CPMS!B510=\"\",\"\",Deviation_CEM_CPMS!B510)","v":""},{"$f":"IF(Deviation_CEM_CPMS!C510=\"\",\"\",Deviation_CEM_CPMS!C510)","v":""},{"$f":"IF(Deviation_CEM_CPMS!D510=\"\",\"\",Deviation_CEM_CPMS!D510)","v":""},"",{"$f":"IF(COUNTIF(BA$2:BA488,BA488)=1,BA488,\"\")","v":""},"","",""]
[{"$f":"IF(B489=\"\",\"\",MAX(A$1:A488)+1)","v":""},{"$f":"+IF(CPMS_Identification!C511=\"\",\"\",CPMS_Identification!C511)","v":""},"",null,{"$f":"IF(F489=\"\",\"\",MAX(E$1:E488)+1)","v":""},{"$f":"IF(Landfill_Gas_ID!C511=\"\",\"\",Landfill_Gas_ID!C511)","v":""},"",null,{"$f":"IF(J489=\"\",\"\",MAX(I$1:I488)+1)","v":""},{"$f":"IF(Distillate_Oil!C511=\"\",\"\",Distillate_Oil!C511)","v":""},"",null,null,null,null,null,null,null,null,null,null,null,null,null,null,null,{"$f":"+IF(AE489=\"\",\"\",MAX(AA$1:AA488)+1)","v":""},{"$f":"IF(#REF!=\"\",\"\",#REF!)","v":{"$error":"#REF!"}},{"$f":"IF(#REF!=\"\",\"\",#REF!)","v":{"$error":"#REF!"}},{"$error":"#REF!"},{"$f":"IF(COUNTIF(AC$2:AC489,AC489)=1,AC489,\"\")","v":""},"","",null,null,null,null,null,null,null,{"$f":"+IF(AT489=\"\",\"\",MAX(AO$1:AO488)+1)","v":""},{"$f":"IF(Deviation_Limits!B511=\"\",\"\",Deviation_Limits!B511)","v":""},{"$f":"IF(Deviation_Limits!C511=\"\",\"\",Deviation_Limits!C511)","v":""},{"$f":"IF(Deviation_Limits!D511=\"\",\"\",Deviation_Limits!D511)","v":""},"",{"$f":"IF(COUNTIF(AQ$2:AQ489,AQ489)=1,AQ489,\"\")","v":""},"","","",null,{"$f":"+IF(BD489=\"\",\"\",MAX(AY$1:AY488)+1)","v":""},{"$f":"IF(Deviation_CEM_CPMS!B511=\"\",\"\",Deviation_CEM_CPMS!B511)","v":""},{"$f":"IF(Deviation_CEM_CPMS!C511=\"\",\"\",Deviation_CEM_CPMS!C511)","v":""},{"$f":"IF(Deviation_CEM_CPMS!D511=\"\",\"\",Deviation_CEM_CPMS!D511)","v":""},"",{"$f":"IF(COUNTIF(BA$2:BA489,BA489)=1,BA489,\"\")","v":""},"","",""]
[{"$f":"IF(B490=\"\",\"\",MAX(A$1:A489)+1)","v":""},{"$f":"+IF(CPMS_Identification!C512=\"\",\"\",CPMS_Identification!C512)","v":""},"",null,{"$f":"IF(F490=\"\",\"\",MAX(E$1:E489)+1)","v":""},{"$f":"IF(Landfill_Gas_ID!C512=\"\",\"\",Landfill_Gas_ID!C512)","v":""},"",null,{"$f":"IF(J490=\"\",\"\",MAX(I$1:I489)+1)","v":""},{"$f":"IF(Distillate_Oil!C512=\"\",\"\",Distillate_Oil!C512)","v":""},"",null,null,null,null,null,null,null,null,null,null,null,null,null,null,null,{"$f":"+IF(AE490=\"\",\"\",MAX(AA$1:AA489)+1)","v":""},{"$f":"IF(#REF!=\"\",\"\",#REF!)","v":{"$error":"#REF!"}},{"$f":"IF(#REF!=\"\",\"\",#REF!)","v":{"$error":"#REF!"}},{"$error":"#REF!"},{"$f":"IF(COUNTIF(AC$2:AC490,AC490)=1,AC490,\"\")","v":""},"","",null,null,null,null,null,null,null,{"$f":"+IF(AT490=\"\",\"\",MAX(AO$1:AO489)+1)","v":""},{"$f":"IF(Deviation_Limits!B512=\"\",\"\",Deviation_Limits!B512)","v":""},{"$f":"IF(Deviation_Limits!C512=\"\",\"\",Deviation_Limits!C512)","v":""},{"$f":"IF(Deviation_Limits!D512=\"\",\"\",Deviation_Limits!D512)","v":""},"",{"$f":"IF(COUNTIF(AQ$2:AQ490,AQ490)=1,AQ490,\"\")","v":""},"","","",null,{"$f":"+IF(BD490=\"\",\"\",MAX(AY$1:AY489)+1)","v":""},{"$f":"IF(Deviation_CEM_CPMS!B512=\"\",\"\",Deviation_CEM_CPMS!B512)","v":""},{"$f":"IF(Deviation_CEM_CPMS!C512=\"\",\"\",Deviation_CEM_CPMS!C512)","v":""},{"$f":"IF(Deviation_CEM_CPMS!D512=\"\",\"\",Deviation_CEM_CPMS!D512)","v":""},"",{"$f":"IF(COUNTIF(BA$2:BA490,BA490)=1,BA490,\"\")","v":""},"","",""]
[{"$f":"IF(B491=\"\",\"\",MAX(A$1:A490)+1)","v":""},{"$f":"+IF(CPMS_Identification!C513=\"\",\"\",CPMS_Identification!C513)","v":""},"",null,{"$f":"IF(F491=\"\",\"\",MAX(E$1:E490)+1)","v":""},{"$f":"IF(Landfill_Gas_ID!C513=\"\",\"\",Landfill_Gas_ID!C513)","v":""},"",null,{"$f":"IF(J491=\"\",\"\",MAX(I$1:I490)+1)","v":""},{"$f":"IF(Distillate_Oil!C513=\"\",\"\",Distillate_Oil!C513)","v":""},"",null,null,null,null,null,null,null,null,null,null,null,null,null,null,null,{"$f":"+IF(AE491=\"\",\"\",MAX(AA$1:AA490)+1)","v":""},{"$f":"IF(#REF!=\"\",\"\",#REF!)","v":{"$error":"#REF!"}},{"$f":"IF(#REF!=\"\",\"\",#REF!)","v":{"$error":"#REF!"}},{"$error":"#REF!"},{"$f":"IF(COUNTIF(AC$2:AC491,AC491)=1,AC491,\"\")","v":""},"","",null,null,null,null,null,null,null,{"$f":"+IF(AT491=\"\",\"\",MAX(AO$1:AO490)+1)","v":""},{"$f":"IF(Deviation_Limits!B513=\"\",\"\",Deviation_Limits!B513)","v":""},{"$f":"IF(Deviation_Limits!C513=\"\",\"\",Deviation_Limits!C513)","v":""},{"$f":"IF(Deviation_Limits!D513=\"\",\"\",Deviation_Limits!D513)","v":""},"",{"$f":"IF(COUNTIF(AQ$2:AQ491,AQ491)=1,AQ491,\"\")","v":""},"","","",null,{"$f":"+IF(BD491=\"\",\"\",MAX(AY$1:AY490)+1)","v":""},{"$f":"IF(Deviation_CEM_CPMS!B513=\"\",\"\",Deviation_CEM_CPMS!B513)","v":""},{"$f":"IF(Deviation_CEM_CPMS!C513=\"\",\"\",Deviation_CEM_CPMS!C513)","v":""},{"$f":"IF(Deviation_CEM_CPMS!D513=\"\",\"\",Deviation_CEM_CPMS!D513)","v":""},"",{"$f":"IF(COUNTIF(BA$2:BA491,BA491)=1,BA491,\"\")","v":""},"","",""]
[{"$f":"IF(B492=\"\",\"\",MAX(A$1:A491)+1)","v":""},{"$f":"+IF(CPMS_Identification!C514=\"\",\"\",CPMS_Identification!C514)","v":""},"",null,{"$f":"IF(F492=\"\",\"\",MAX(E$1:E491)+1)","v":""},{"$f":"IF(Landfill_Gas_ID!C514=\"\",\"\",Landfill_Gas_ID!C514)","v":""},"",null,{"$f":"IF(J492=\"\",\"\",MAX(I$1:I491)+1)","v":""},{"$f":"IF(Distillate_Oil!C514=\"\",\"\",Distillate_Oil!C514)","v":""},"",null,null,null,null,null,null,null,null,null,null,null,null,null,null,null,{"$f":"+IF(AE492=\"\",\"\",MAX(AA$1:AA491)+1)","v":""},{"$f":"IF(#REF!=\"\",\"\",#REF!)","v":{"$error":"#REF!"}},{"$f":"IF(#REF!=\"\",\"\",#REF!)","v":{"$error":"#REF!"}},{"$error":"#REF!"},{"$f":"IF(COUNTIF(AC$2:AC492,AC492)=1,AC492,\"\")","v":""},"","",null,null,null,null,null,null,null,{"$f":"+IF(AT492=\"\",\"\",MAX(AO$1:AO491)+1)","v":""},{"$f":"IF(Deviation_Limits!B514=\"\",\"\",Deviation_Limits!B514)","v":""},{"$f":"IF(Deviation_Limits!C514=\"\",\"\",Deviation_Limits!C514)","v":""},{"$f":"IF(Deviation_Limits!D514=\"\",\"\",Deviation_Limits!D514)","v":""},"",{"$f":"IF(COUNTIF(AQ$2:AQ492,AQ492)=1,AQ492,\"\")","v":""},"","","",null,{"$f":"+IF(BD492=\"\",\"\",MAX(AY$1:AY491)+1)","v":""},{"$f":"IF(Deviation_CEM_CPMS!B514=\"\",\"\",Deviation_CEM_CPMS!B514)","v":""},{"$f":"IF(Deviation_CEM_CPMS!C514=\"\",\"\",Deviation_CEM_CPMS!C514)","v":""},{"$f":"IF(Deviation_CEM_CPMS!D514=\"\",\"\",Deviation_CEM_CPMS!D514)","v":""},"",{"$f":"IF(COUNTIF(BA$2:BA492,BA492)=1,BA492,\"\")","v":""},"","",""]
[{"$f":"IF(B493=\"\",\"\",MAX(A$1:A492)+1)","v":""},{"$f":"+IF(CPMS_Identification!C515=\"\",\"\",CPMS_Identification!C515)","v":""},"",null,{"$f":"IF(F493=\"\",\"\",MAX(E$1:E492)+1)","v":""},{"$f":"IF(Landfill_Gas_ID!C515=\"\",\"\",Landfill_Gas_ID!C515)","v":""},"",null,{"$f":"IF(J493=\"\",\"\",MAX(I$1:I492)+1)","v":""},{"$f":"IF(Distillate_Oil!C515=\"\",\"\",Distillate_Oil!C515)","v":""},"",null,null,null,null,null,null,null,null,null,null,null,null,null,null,null,{"$f":"+IF(AE493=\"\",\"\",MAX(AA$1:AA492)+1)","v":""},{"$f":"IF(#REF!=\"\",\"\",#REF!)","v":{"$error":"#REF!"}},{"$f":"IF(#REF!=\"\",\"\",#REF!)","v":{"$error":"#REF!"}},{"$error":"#REF!"},{"$f":"IF(COUNTIF(AC$2:AC493,AC493)=1,AC493,\"\")","v":""},"","",null,null,null,null,null,null,null,{"$f":"+IF(AT493=\"\",\"\",MAX(AO$1:AO492)+1)","v":""},{"$f":"IF(Deviation_Limits!B515=\"\",\"\",Deviation_Limits!B515)","v":""},{"$f":"IF(Deviation_Limits!C515=\"\",\"\",Deviation_Limits!C515)","v":""},{"$f":"IF(Deviation_Limits!D515=\"\",\"\",Deviation_Limits!D515)","v":""},"",{"$f":"IF(COUNTIF(AQ$2:AQ493,AQ493)=1,AQ493,\"\")","v":""},"","","",null,{"$f":"+IF(BD493=\"\",\"\",MAX(AY$1:AY492)+1)","v":""},{"$f":"IF(Deviation_CEM_CPMS!B515=\"\",\"\",Deviation_CEM_CPMS!B515)","v":""},{"$f":"IF(Deviation_CEM_CPMS!C515=\"\",\"\",Deviation_CEM_CPMS!C515)","v":""},{"$f":"IF(Deviation_CEM_CPMS!D515=\"\",\"\",Deviation_CEM_CPMS!D515)","v":""},"",{"$f":"IF(COUNTIF(BA$2:BA493,BA493)=1,BA493,\"\")","v":""},"","",""]
[{"$f":"IF(B494=\"\",\"\",MAX(A$1:A493)+1)","v":""},{"$f":"+IF(CPMS_Identification!C516=\"\",\"\",CPMS_Identification!C516)","v":""},"",null,{"$f":"IF(F494=\"\",\"\",MAX(E$1:E493)+1)","v":""},{"$f":"IF(Landfill_Gas_ID!C516=\"\",\"\",Landfill_Gas_ID!C516)","v":""},"",null,{"$f":"IF(J494=\"\",\"\",MAX(I$1:I493)+1)","v":""},{"$f":"IF(Distillate_Oil!C516=\"\",\"\",Distillate_Oil!C516)","v":""},"",null,null,null,null,null,null,null,null,null,null,null,null,null,null,null,{"$f":"+IF(AE494=\"\",\"\",MAX(AA$1:AA493)+1)","v":""},{"$f":"IF(#REF!=\"\",\"\",#REF!)","v":{"$error":"#REF!"}},{"$f":"IF(#REF!=\"\",\"\",#REF!)","v":{"$error":"#REF!"}},{"$error":"#REF!"},{"$f":"IF(COUNTIF(AC$2:AC494,AC494)=1,AC494,\"\")","v":""},"","",null,null,null,null,null,null,null,{"$f":"+IF(AT494=\"\",\"\",MAX(AO$1:AO493)+1)","v":""},{"$f":"IF(Deviation_Limits!B516=\"\",\"\",Deviation_Limits!B516)","v":""},{"$f":"IF(Deviation_Limits!C516=\"\",\"\",Deviation_Limits!C516)","v":""},{"$f":"IF(Deviation_Limits!D516=\"\",\"\",Deviation_Limits!D516)","v":""},"",{"$f":"IF(COUNTIF(AQ$2:AQ494,AQ494)=1,AQ494,\"\")","v":""},"","","",null,{"$f":"+IF(BD494=\"\",\"\",MAX(AY$1:AY493)+1)","v":""},{"$f":"IF(Deviation_CEM_CPMS!B516=\"\",\"\",Deviation_CEM_CPMS!B516)","v":""},{"$f":"IF(Deviation_CEM_CPMS!C516=\"\",\"\",Deviation_CEM_CPMS!C516)","v":""},{"$f":"IF(Deviation_CEM_CPMS!D516=\"\",\"\",Deviation_CEM_CPMS!D516)","v":""},"",{"$f":"IF(COUNTIF(BA$2:BA494,BA494)=1,BA494,\"\")","v":""},"","",""]
[{"$f":"IF(B495=\"\",\"\",MAX(A$1:A494)+1)","v":""},{"$f":"+IF(CPMS_Identification!C517=\"\",\"\",CPMS_Identification!C517)","v":""},"",null,{"$f":"IF(F495=\"\",\"\",MAX(E$1:E494)+1)","v":""},{"$f":"IF(Landfill_Gas_ID!C517=\"\",\"\",Landfill_Gas_ID!C517)","v":""},"",null,{"$f":"IF(J495=\"\",\"\",MAX(I$1:I494)+1)","v":""},{"$f":"IF(Distillate_Oil!C517=\"\",\"\",Distillate_Oil!C517)","v":""},"",null,null,null,null,null,null,null,null,null,null,null,null,null,null,null,{"$f":"+IF(AE495=\"\",\"\",MAX(AA$1:AA494)+1)","v":""},{"$f":"IF(#REF!=\"\",\"\",#REF!)","v":{"$error":"#REF!"}},{"$f":"IF(#REF!=\"\",\"\",#REF!)","v":{"$error":"#REF!"}},{"$error":"#REF!"},{"$f":"IF(COUNTIF(AC$2:AC495,AC495)=1,AC495,\"\")","v":""},"","",null,null,null,null,null,null,null,{"$f":"+IF(AT495=\"\",\"\",MAX(AO$1:AO494)+1)","v":""},{"$f":"IF(Deviation_Limits!B517=\"\",\"\",Deviation_Limits!B517)","v":""},{"$f":"IF(Deviation_Limits!C517=\"\",\"\",Deviation_Limits!C517)","v":""},{"$f":"IF(Deviation_Limits!D517=\"\",\"\",Deviation_Limits!D517)","v":""},"",{"$f":"IF(COUNTIF(AQ$2:AQ495,AQ495)=1,AQ495,\"\")","v":""},"","","",null,{"$f":"+IF(BD495=\"\",\"\",MAX(AY$1:AY494)+1)","v":""},{"$f":"IF(Deviation_CEM_CPMS!B517=\"\",\"\",Deviation_CEM_CPMS!B517)","v":""},{"$f":"IF(Deviation_CEM_CPMS!C517=\"\",\"\",Deviation_CEM_CPMS!C517)","v":""},{"$f":"IF(Deviation_CEM_CPMS!D517=\"\",\"\",Deviation_CEM_CPMS!D517)","v":""},"",{"$f":"IF(COUNTIF(BA$2:BA495,BA495)=1,BA495,\"\")","v":""},"","",""]
[{"$f":"IF(B496=\"\",\"\",MAX(A$1:A495)+1)","v":""},{"$f":"+IF(CPMS_Identification!C518=\"\",\"\",CPMS_Identification!C518)","v":""},"",null,{"$f":"IF(F496=\"\",\"\",MAX(E$1:E495)+1)","v":""},{"$f":"IF(Landfill_Gas_ID!C518=\"\",\"\",Landfill_Gas_ID!C518)","v":""},"",null,{"$f":"IF(J496=\"\",\"\",MAX(I$1:I495)+1)","v":""},{"$f":"IF(Distillate_Oil!C518=\"\",\"\",Distillate_Oil!C518)","v":""},"",null,null,null,null,null,null,null,null,null,null,null,null,null,null,null,{"$f":"+IF(AE496=\"\",\"\",MAX(AA$1:AA495)+1)","v":""},{"$f":"IF(#REF!=\"\",\"\",#REF!)","v":{"$error":"#REF!"}},{"$f":"IF(#REF!=\"\",\"\",#REF!)","v":{"$error":"#REF!"}},{"$error":"#REF!"},{"$f":"IF(COUNTIF(AC$2:AC496,AC496)=1,AC496,\"\")","v":""},"","",null,null,null,null,null,null,null,{"$f":"+IF(AT496=\"\",\"\",MAX(AO$1:AO495)+1)","v":""},{"$f":"IF(Deviation_Limits!B518=\"\",\"\",Deviation_Limits!B518)","v":""},{"$f":"IF(Deviation_Limits!C518=\"\",\"\",Deviation_Limits!C518)","v":""},{"$f":"IF(Deviation_Limits!D518=\"\",\"\",Deviation_Limits!D518)","v":""},"",{"$f":"IF(COUNTIF(AQ$2:AQ496,AQ496)=1,AQ496,\"\")","v":""},"","","",null,{"$f":"+IF(BD496=\"\",\"\",MAX(AY$1:AY495)+1)","v":""},{"$f":"IF(Deviation_CEM_CPMS!B518=\"\",\"\",Deviation_CEM_CPMS!B518)","v":""},{"$f":"IF(Deviation_CEM_CPMS!C518=\"\",\"\",Deviation_CEM_CPMS!C518)","v":""},{"$f":"IF(Deviation_CEM_CPMS!D518=\"\",\"\",Deviation_CEM_CPMS!D518)","v":""},"",{"$f":"IF(COUNTIF(BA$2:BA496,BA496)=1,BA496,\"\")","v":""},"","",""]
[{"$f":"IF(B497=\"\",\"\",MAX(A$1:A496)+1)","v":""},{"$f":"+IF(CPMS_Identification!C519=\"\",\"\",CPMS_Identification!C519)","v":""},"",null,{"$f":"IF(F497=\"\",\"\",MAX(E$1:E496)+1)","v":""},{"$f":"IF(Landfill_Gas_ID!C519=\"\",\"\",Landfill_Gas_ID!C519)","v":""},"",null,{"$f":"IF(J497=\"\",\"\",MAX(I$1:I496)+1)","v":""},{"$f":"IF(Distillate_Oil!C519=\"\",\"\",Distillate_Oil!C519)","v":""},"",null,null,null,null,null,null,null,null,null,null,null,null,null,null,null,{"$f":"+IF(AE497=\"\",\"\",MAX(AA$1:AA496)+1)","v":""},{"$f":"IF(#REF!=\"\",\"\",#REF!)","v":{"$error":"#REF!"}},{"$f":"IF(#REF!=\"\",\"\",#REF!)","v":{"$error":"#REF!"}},{"$error":"#REF!"},{"$f":"IF(COUNTIF(AC$2:AC497,AC497)=1,AC497,\"\")","v":""},"","",null,null,null,null,null,null,null,{"$f":"+IF(AT497=\"\",\"\",MAX(AO$1:AO496)+1)","v":""},{"$f":"IF(Deviation_Limits!B519=\"\",\"\",Deviation_Limits!B519)","v":""},{"$f":"IF(Deviation_Limits!C519=\"\",\"\",Deviation_Limits!C519)","v":""},{"$f":"IF(Deviation_Limits!D519=\"\",\"\",Deviation_Limits!D519)","v":""},"",{"$f":"IF(COUNTIF(AQ$2:AQ497,AQ497)=1,AQ497,\"\")","v":""},"","","",null,{"$f":"+IF(BD497=\"\",\"\",MAX(AY$1:AY496)+1)","v":""},{"$f":"IF(Deviation_CEM_CPMS!B519=\"\",\"\",Deviation_CEM_CPMS!B519)","v":""},{"$f":"IF(Deviation_CEM_CPMS!C519=\"\",\"\",Deviation_CEM_CPMS!C519)","v":""},{"$f":"IF(Deviation_CEM_CPMS!D519=\"\",\"\",Deviation_CEM_CPMS!D519)","v":""},"",{"$f":"IF(COUNTIF(BA$2:BA497,BA497)=1,BA497,\"\")","v":""},"","",""]
[{"$f":"IF(B498=\"\",\"\",MAX(A$1:A497)+1)","v":""},{"$f":"+IF(CPMS_Identification!C520=\"\",\"\",CPMS_Identification!C520)","v":""},"",null,{"$f":"IF(F498=\"\",\"\",MAX(E$1:E497)+1)","v":""},{"$f":"IF(Landfill_Gas_ID!C520=\"\",\"\",Landfill_Gas_ID!C520)","v":""},"",null,{"$f":"IF(J498=\"\",\"\",MAX(I$1:I497)+1)","v":""},{"$f":"IF(Distillate_Oil!C520=\"\",\"\",Distillate_Oil!C520)","v":""},"",null,null,null,null,null,null,null,null,null,null,null,null,null,null,null,{"$f":"+IF(AE498=\"\",\"\",MAX(AA$1:AA497)+1)","v":""},{"$f":"IF(#REF!=\"\",\"\",#REF!)","v":{"$error":"#REF!"}},{"$f":"IF(#REF!=\"\",\"\",#REF!)","v":{"$error":"#REF!"}},{"$error":"#REF!"},{"$f":"IF(COUNTIF(AC$2:AC498,AC498)=1,AC498,\"\")","v":""},"","",null,null,null,null,null,null,null,{"$f":"+IF(AT498=\"\",\"\",MAX(AO$1:AO497)+1)","v":""},{"$f":"IF(Deviation_Limits!B520=\"\",\"\",Deviation_Limits!B520)","v":""},{"$f":"IF(Deviation_Limits!C520=\"\",\"\",Deviation_Limits!C520)","v":""},{"$f":"IF(Deviation_Limits!D520=\"\",\"\",Deviation_Limits!D520)","v":""},"",{"$f":"IF(COUNTIF(AQ$2:AQ498,AQ498)=1,AQ498,\"\")","v":""},"","","",null,{"$f":"+IF(BD498=\"\",\"\",MAX(AY$1:AY497)+1)","v":""},{"$f":"IF(Deviation_CEM_CPMS!B520=\"\",\"\",Deviation_CEM_CPMS!B520)","v":""},{"$f":"IF(Deviation_CEM_CPMS!C520=\"\",\"\",Deviation_CEM_CPMS!C520)","v":""},{"$f":"IF(Deviation_CEM_CPMS!D520=\"\",\"\",Deviation_CEM_CPMS!D520)","v":""},"",{"$f":"IF(COUNTIF(BA$2:BA498,BA498)=1,BA498,\"\")","v":""},"","",""]
[{"$f":"IF(B499=\"\",\"\",MAX(A$1:A498)+1)","v":""},{"$f":"+IF(CPMS_Identification!C521=\"\",\"\",CPMS_Identification!C521)","v":""},"",null,{"$f":"IF(F499=\"\",\"\",MAX(E$1:E498)+1)","v":""},{"$f":"IF(Landfill_Gas_ID!C521=\"\",\"\",Landfill_Gas_ID!C521)","v":""},"",null,{"$f":"IF(J499=\"\",\"\",MAX(I$1:I498)+1)","v":""},{"$f":"IF(Distillate_Oil!C521=\"\",\"\",Distillate_Oil!C521)","v":""},"",null,null,null,null,null,null,null,null,null,null,null,null,null,null,null,{"$f":"+IF(AE499=\"\",\"\",MAX(AA$1:AA498)+1)","v":""},{"$f":"IF(#REF!=\"\",\"\",#REF!)","v":{"$error":"#REF!"}},{"$f":"IF(#REF!=\"\",\"\",#REF!)","v":{"$error":"#REF!"}},{"$error":"#REF!"},{"$f":"IF(COUNTIF(AC$2:AC499,AC499)=1,AC499,\"\")","v":""},"","",null,null,null,null,null,null,null,{"$f":"+IF(AT499=\"\",\"\",MAX(AO$1:AO498)+1)","v":""},{"$f":"IF(Deviation_Limits!B521=\"\",\"\",Deviation_Limits!B521)","v":""},{"$f":"IF(Deviation_Limits!C521=\"\",\"\",Deviation_Limits!C521)","v":""},{"$f":"IF(Deviation_Limits!D521=\"\",\"\",Deviation_Limits!D521)","v":""},"",{"$f":"IF(COUNTIF(AQ$2:AQ499,AQ499)=1,AQ499,\"\")","v":""},"","","",null,{"$f":"+IF(BD499=\"\",\"\",MAX(AY$1:AY498)+1)","v":""},{"$f":"IF(Deviation_CEM_CPMS!B521=\"\",\"\",Deviation_CEM_CPMS!B521)","v":""},{"$f":"IF(Deviation_CEM_CPMS!C521=\"\",\"\",Deviation_CEM_CPMS!C521)","v":""},{"$f":"IF(Deviation_CEM_CPMS!D521=\"\",\"\",Deviation_CEM_CPMS!D521)","v":""},"",{"$f":"IF(COUNTIF(BA$2:BA499,BA499)=1,BA499,\"\")","v":""},"","",""]
[{"$f":"IF(B500=\"\",\"\",MAX(A$1:A499)+1)","v":""},{"$f":"+IF(CPMS_Identification!C522=\"\",\"\",CPMS_Identification!C522)","v":""},"",null,{"$f":"IF(F500=\"\",\"\",MAX(E$1:E499)+1)","v":""},{"$f":"IF(Landfill_Gas_ID!C522=\"\",\"\",Landfill_Gas_ID!C522)","v":""},"",null,{"$f":"IF(J500=\"\",\"\",MAX(I$1:I499)+1)","v":""},{"$f":"IF(Distillate_Oil!C522=\"\",\"\",Distillate_Oil!C522)","v":""},"",null,null,null,null,null,null,null,null,null,null,null,null,null,null,null,{"$f":"+IF(AE500=\"\",\"\",MAX(AA$1:AA499)+1)","v":""},{"$f":"IF(#REF!=\"\",\"\",#REF!)","v":{"$error":"#REF!"}},{"$f":"IF(#REF!=\"\",\"\",#REF!)","v":{"$error":"#REF!"}},{"$error":"#REF!"},{"$f":"IF(COUNTIF(AC$2:AC500,AC500)=1,AC500,\"\")","v":""},"","",null,null,null,null,null,null,null,{"$f":"+IF(AT500=\"\",\"\",MAX(AO$1:AO499)+1)","v":""},{"$f":"IF(Deviation_Limits!B522=\"\",\"\",Deviation_Limits!B522)","v":""},{"$f":"IF(Deviation_Limits!C522=\"\",\"\",Deviation_Limits!C522)","v":""},{"$f":"IF(Deviation_Limits!D522=\"\",\"\",Deviation_Limits!D522)","v":""},"",{"$f":"IF(COUNTIF(AQ$2:AQ500,AQ500)=1,AQ500,\"\")","v":""},"","","",null,{"$f":"+IF(BD500=\"\",\"\",MAX(AY$1:AY499)+1)","v":""},{"$f":"IF(Deviation_CEM_CPMS!B522=\"\",\"\",Deviation_CEM_CPMS!B522)","v":""},{"$f":"IF(Deviation_CEM_CPMS!C522=\"\",\"\",Deviation_CEM_CPMS!C522)","v":""},{"$f":"IF(Deviation_CEM_CPMS!D522=\"\",\"\",Deviation_CEM_CPMS!D522)","v":""},"",{"$f":"IF(COUNTIF(BA$2:BA500,BA500)=1,BA500,\"\")","v":""},"","",""]
[null,null,null,null,null,null,null,null,null,null,null,null,null,null,null,null,null,null,null,null,null,null,null,null,null,null,{"$f":"+IF(AE501=\"\",\"\",MAX(AA$1:AA500)+1)","v":""},{"$f":"IF(#REF!=\"\",\"\",#REF!)","v":{"$error":"#REF!"}},{"$f":"IF(#REF!=\"\",\"\",#REF!)","v":{"$error":"#REF!"}},{"$error":"#REF!"},{"$f":"IF(COUNTIF(AC$2:AC501,AC501)=1,AC501,\"\")","v":""},"","",null,null,null,null,null,null,null,{"$f":"+IF(AT501=\"\",\"\",MAX(AO$1:AO500)+1)","v":""},{"$f":"IF(Deviation_Limits!B523=\"\",\"\",Deviation_Limits!B523)","v":""},{"$f":"IF(Deviation_Limits!C523=\"\",\"\",Deviation_Limits!C523)","v":""},{"$f":"IF(Deviation_Limits!D523=\"\",\"\",Deviation_Limits!D523)","v":""},"",{"$f":"IF(COUNTIF(AQ$2:AQ501,AQ501)=1,AQ501,\"\")","v":""},"","","",null,{"$f":"+IF(BD501=\"\",\"\",MAX(AY$1:AY500)+1)","v":""},{"$f":"IF(Deviation_CEM_CPMS!B523=\"\",\"\",Deviation_CEM_CPMS!B523)","v":""},{"$f":"IF(Deviation_CEM_CPMS!C523=\"\",\"\",Deviation_CEM_CPMS!C523)","v":""},{"$f":"IF(Deviation_CEM_CPMS!D523=\"\",\"\",Deviation_CEM_CPMS!D523)","v":""},"",{"$f":"IF(COUNTIF(BA$2:BA501,BA501)=1,BA501,\"\")","v":""},"","",""]
[null,null,null,null,null,null,null,null,null,null,null,null,null,null,null,null,null,null,null,null,null,null,null,null,null,null,{"$f":"+IF(AE502=\"\",\"\",MAX(AA$1:AA501)+1)","v":""},{"$f":"IF(#REF!=\"\",\"\",#REF!)","v":{"$error":"#REF!"}},{"$f":"IF(#REF!=\"\",\"\",#REF!)","v":{"$error":"#REF!"}},{"$error":"#REF!"},{"$f":"IF(COUNTIF(AC$2:AC502,AC502)=1,AC502,\"\")","v":""},"","",null,null,null,null,null,null,null,{"$f":"+IF(AT502=\"\",\"\",MAX(AO$1:AO501)+1)","v":""},{"$f":"IF(Deviation_Limits!B524=\"\",\"\",Deviation_Limits!B524)","v":""},{"$f":"IF(Deviation_Limits!C524=\"\",\"\",Deviation_Limits!C524)","v":""},{"$f":"IF(Deviation_Limits!D524=\"\",\"\",Deviation_Limits!D524)","v":""},"",{"$f":"IF(COUNTIF(AQ$2:AQ502,AQ502)=1,AQ502,\"\")","v":""},"","","",null,{"$f":"+IF(BD502=\"\",\"\",MAX(AY$1:AY501)+1)","v":""},{"$f":"IF(Deviation_CEM_CPMS!B524=\"\",\"\",Deviation_CEM_CPMS!B524)","v":""},{"$f":"IF(Deviation_CEM_CPMS!C524=\"\",\"\",Deviation_CEM_CPMS!C524)","v":""},{"$f":"IF(Deviation_CEM_CPMS!D524=\"\",\"\",Deviation_CEM_CPMS!D524)","v":""},"",{"$f":"IF(COUNTIF(BA$2:BA502,BA502)=1,BA502,\"\")","v":""},"","",""]
[null,null,null,null,null,null,null,null,null,null,null,null,null,null,null,null,null,null,null,null,null,null,null,null,null,null,{"$f":"+IF(AE503=\"\",\"\",MAX(AA$1:AA502)+1)","v":""},{"$f":"IF(#REF!=\"\",\"\",#REF!)","v":{"$error":"#REF!"}},{"$f":"IF(#REF!=\"\",\"\",#REF!)","v":{"$error":"#REF!"}},{"$error":"#REF!"},{"$f":"IF(COUNTIF(AC$2:AC503,AC503)=1,AC503,\"\")","v":""},"","",null,null,null,null,null,null,null,{"$f":"+IF(AT503=\"\",\"\",MAX(AO$1:AO502)+1)","v":""},{"$f":"IF(Deviation_Limits!B525=\"\",\"\",Deviation_Limits!B525)","v":""},{"$f":"IF(Deviation_Limits!C525=\"\",\"\",Deviation_Limits!C525)","v":""},{"$f":"IF(Deviation_Limits!D525=\"\",\"\",Deviation_Limits!D525)","v":""},"",{"$f":"IF(COUNTIF(AQ$2:AQ503,AQ503)=1,AQ503,\"\")","v":""},"","","",null,{"$f":"+IF(BD503=\"\",\"\",MAX(AY$1:AY502)+1)","v":""},{"$f":"IF(Deviation_CEM_CPMS!B525=\"\",\"\",Deviation_CEM_CPMS!B525)","v":""},{"$f":"IF(Deviation_CEM_CPMS!C525=\"\",\"\",Deviation_CEM_CPMS!C525)","v":""},{"$f":"IF(Deviation_CEM_CPMS!D525=\"\",\"\",Deviation_CEM_CPMS!D525)","v":""},"",{"$f":"IF(COUNTIF(BA$2:BA503,BA503)=1,BA503,\"\")","v":""},"","",""]
[null,null,null,null,null,null,null,null,null,null,null,null,null,null,null,null,null,null,null,null,null,null,null,null,null,null,{"$f":"+IF(AE504=\"\",\"\",MAX(AA$1:AA503)+1)","v":""},{"$f":"IF(#REF!=\"\",\"\",#REF!)","v":{"$error":"#REF!"}},{"$f":"IF(#REF!=\"\",\"\",#REF!)","v":{"$error":"#REF!"}},{"$error":"#REF!"},{"$f":"IF(COUNTIF(AC$2:AC504,AC504)=1,AC504,\"\")","v":""},"","",null,null,null,null,null,null,null,{"$f":"+IF(AT504=\"\",\"\",MAX(AO$1:AO503)+1)","v":""},{"$f":"IF(Deviation_Limits!B526=\"\",\"\",Deviation_Limits!B526)","v":""},{"$f":"IF(Deviation_Limits!C526=\"\",\"\",Deviation_Limits!C526)","v":""},{"$f":"IF(Deviation_Limits!D526=\"\",\"\",Deviation_Limits!D526)","v":""},"",{"$f":"IF(COUNTIF(AQ$2:AQ504,AQ504)=1,AQ504,\"\")","v":""},"","","",null,{"$f":"+IF(BD504=\"\",\"\",MAX(AY$1:AY503)+1)","v":""},{"$f":"IF(Deviation_CEM_CPMS!B526=\"\",\"\",Deviation_CEM_CPMS!B526)","v":""},{"$f":"IF(Deviation_CEM_CPMS!C526=\"\",\"\",Deviation_CEM_CPMS!C526)","v":""},{"$f":"IF(Deviation_CEM_CPMS!D526=\"\",\"\",Deviation_CEM_CPMS!D526)","v":""},"",{"$f":"IF(COUNTIF(BA$2:BA504,BA504)=1,BA504,\"\")","v":""},"","",""]
[null,null,null,null,null,null,null,null,null,null,null,null,null,null,null,null,null,null,null,null,null,null,null,null,null,null,{"$f":"+IF(AE505=\"\",\"\",MAX(AA$1:AA504)+1)","v":""},{"$f":"IF(#REF!=\"\",\"\",#REF!)","v":{"$error":"#REF!"}},{"$f":"IF(#REF!=\"\",\"\",#REF!)","v":{"$error":"#REF!"}},{"$error":"#REF!"},{"$f":"IF(COUNTIF(AC$2:AC505,AC505)=1,AC505,\"\")","v":""},"","",null,null,null,null,null,null,null,{"$f":"+IF(AT505=\"\",\"\",MAX(AO$1:AO504)+1)","v":""},{"$f":"IF(Deviation_Limits!B527=\"\",\"\",Deviation_Limits!B527)","v":""},{"$f":"IF(Deviation_Limits!C527=\"\",\"\",Deviation_Limits!C527)","v":""},{"$f":"IF(Deviation_Limits!D527=\"\",\"\",Deviation_Limits!D527)","v":""},"",{"$f":"IF(COUNTIF(AQ$2:AQ505,AQ505)=1,AQ505,\"\")","v":""},"","","",null,{"$f":"+IF(BD505=\"\",\"\",MAX(AY$1:AY504)+1)","v":""},{"$f":"IF(Deviation_CEM_CPMS!B527=\"\",\"\",Deviation_CEM_CPMS!B527)","v":""},{"$f":"IF(Deviation_CEM_CPMS!C527=\"\",\"\",Deviation_CEM_CPMS!C527)","v":""},{"$f":"IF(Deviation_CEM_CPMS!D527=\"\",\"\",Deviation_CEM_CPMS!D527)","v":""},"",{"$f":"IF(COUNTIF(BA$2:BA505,BA505)=1,BA505,\"\")","v":""},"","",""]
[null,null,null,null,null,null,null,null,null,null,null,null,null,null,null,null,null,null,null,null,null,null,null,null,null,null,{"$f":"+IF(AE506=\"\",\"\",MAX(AA$1:AA505)+1)","v":""},{"$f":"IF(#REF!=\"\",\"\",#REF!)","v":{"$error":"#REF!"}},{"$f":"IF(#REF!=\"\",\"\",#REF!)","v":{"$error":"#REF!"}},{"$error":"#REF!"},{"$f":"IF(COUNTIF(AC$2:AC506,AC506)=1,AC506,\"\")","v":""},"","",null,null,null,null,null,null,null,{"$f":"+IF(AT506=\"\",\"\",MAX(AO$1:AO505)+1)","v":""},{"$f":"IF(Deviation_Limits!B528=\"\",\"\",Deviation_Limits!B528)","v":""},{"$f":"IF(Deviation_Limits!C528=\"\",\"\",Deviation_Limits!C528)","v":""},{"$f":"IF(Deviation_Limits!D528=\"\",\"\",Deviation_Limits!D528)","v":""},"",{"$f":"IF(COUNTIF(AQ$2:AQ506,AQ506)=1,AQ506,\"\")","v":""},"","","",null,{"$f":"+IF(BD506=\"\",\"\",MAX(AY$1:AY505)+1)","v":""},{"$f":"IF(Deviation_CEM_CPMS!B528=\"\",\"\",Deviation_CEM_CPMS!B528)","v":""},{"$f":"IF(Deviation_CEM_CPMS!C528=\"\",\"\",Deviation_CEM_CPMS!C528)","v":""},{"$f":"IF(Deviation_CEM_CPMS!D528=\"\",\"\",Deviation_CEM_CPMS!D528)","v":""},"",{"$f":"IF(COUNTIF(BA$2:BA506,BA506)=1,BA506,\"\")","v":""},"","",""]
[null,null,null,null,null,null,null,null,null,null,null,null,null,null,null,null,null,null,null,null,null,null,null,null,null,null,{"$f":"+IF(AE507=\"\",\"\",MAX(AA$1:AA506)+1)","v":""},{"$f":"IF(#REF!=\"\",\"\",#REF!)","v":{"$error":"#REF!"}},{"$f":"IF(#REF!=\"\",\"\",#REF!)","v":{"$error":"#REF!"}},{"$error":"#REF!"},{"$f":"IF(COUNTIF(AC$2:AC507,AC507)=1,AC507,\"\")","v":""},"","",null,null,null,null,null,null,null,{"$f":"+IF(AT507=\"\",\"\",MAX(AO$1:AO506)+1)","v":""},{"$f":"IF(Deviation_Limits!B529=\"\",\"\",Deviation_Limits!B529)","v":""},{"$f":"IF(Deviation_Limits!C529=\"\",\"\",Deviation_Limits!C529)","v":""},{"$f":"IF(Deviation_Limits!D529=\"\",\"\",Deviation_Limits!D529)","v":""},"",{"$f":"IF(COUNTIF(AQ$2:AQ507,AQ507)=1,AQ507,\"\")","v":""},"","","",null,{"$f":"+IF(BD507=\"\",\"\",MAX(AY$1:AY506)+1)","v":""},{"$f":"IF(Deviation_CEM_CPMS!B529=\"\",\"\",Deviation_CEM_CPMS!B529)","v":""},{"$f":"IF(Deviation_CEM_CPMS!C529=\"\",\"\",Deviation_CEM_CPMS!C529)","v":""},{"$f":"IF(Deviation_CEM_CPMS!D529=\"\",\"\",Deviation_CEM_CPMS!D529)","v":""},"",{"$f":"IF(COUNTIF(BA$2:BA507,BA507)=1,BA507,\"\")","v":""},"","",""]
[null,null,null,null,null,null,null,null,null,null,null,null,null,null,null,null,null,null,null,null,null,null,null,null,null,null,{"$f":"+IF(AE508=\"\",\"\",MAX(AA$1:AA507)+1)","v":""},{"$f":"IF(#REF!=\"\",\"\",#REF!)","v":{"$error":"#REF!"}},{"$f":"IF(#REF!=\"\",\"\",#REF!)","v":{"$error":"#REF!"}},{"$error":"#REF!"},{"$f":"IF(COUNTIF(AC$2:AC508,AC508)=1,AC508,\"\")","v":""},"","",null,null,null,null,null,null,null,{"$f":"+IF(AT508=\"\",\"\",MAX(AO$1:AO507)+1)","v":""},{"$f":"IF(Deviation_Limits!B530=\"\",\"\",Deviation_Limits!B530)","v":""},{"$f":"IF(Deviation_Limits!C530=\"\",\"\",Deviation_Limits!C530)","v":""},{"$f":"IF(Deviation_Limits!D530=\"\",\"\",Deviation_Limits!D530)","v":""},"",{"$f":"IF(COUNTIF(AQ$2:AQ508,AQ508)=1,AQ508,\"\")","v":""},"","","",null,{"$f":"+IF(BD508=\"\",\"\",MAX(AY$1:AY507)+1)","v":""},{"$f":"IF(Deviation_CEM_CPMS!B530=\"\",\"\",Deviation_CEM_CPMS!B530)","v":""},{"$f":"IF(Deviation_CEM_CPMS!C530=\"\",\"\",Deviation_CEM_CPMS!C530)","v":""},{"$f":"IF(Deviation_CEM_CPMS!D530=\"\",\"\",Deviation_CEM_CPMS!D530)","v":""},"",{"$f":"IF(COUNTIF(BA$2:BA508,BA508)=1,BA508,\"\")","v":""},"","",""]
[null,null,null,null,null,null,null,null,null,null,null,null,null,null,null,null,null,null,null,null,null,null,null,null,null,null,{"$f":"+IF(AE509=\"\",\"\",MAX(AA$1:AA508)+1)","v":""},{"$f":"IF(#REF!=\"\",\"\",#REF!)","v":{"$error":"#REF!"}},{"$f":"IF(#REF!=\"\",\"\",#REF!)","v":{"$error":"#REF!"}},{"$error":"#REF!"},{"$f":"IF(COUNTIF(AC$2:AC509,AC509)=1,AC509,\"\")","v":""},"","",null,null,null,null,null,null,null,{"$f":"+IF(AT509=\"\",\"\",MAX(AO$1:AO508)+1)","v":""},{"$f":"IF(Deviation_Limits!B531=\"\",\"\",Deviation_Limits!B531)","v":""},{"$f":"IF(Deviation_Limits!C531=\"\",\"\",Deviation_Limits!C531)","v":""},{"$f":"IF(Deviation_Limits!D531=\"\",\"\",Deviation_Limits!D531)","v":""},"",{"$f":"IF(COUNTIF(AQ$2:AQ509,AQ509)=1,AQ509,\"\")","v":""},"","","",null,{"$f":"+IF(BD509=\"\",\"\",MAX(AY$1:AY508)+1)","v":""},{"$f":"IF(Deviation_CEM_CPMS!B531=\"\",\"\",Deviation_CEM_CPMS!B531)","v":""},{"$f":"IF(Deviation_CEM_CPMS!C531=\"\",\"\",Deviation_CEM_CPMS!C531)","v":""},{"$f":"IF(Deviation_CEM_CPMS!D531=\"\",\"\",Deviation_CEM_CPMS!D531)","v":""},"",{"$f":"IF(COUNTIF(BA$2:BA509,BA509)=1,BA509,\"\")","v":""},"","",""]
[null,null,null,null,null,null,null,null,null,null,null,null,null,null,null,null,null,null,null,null,null,null,null,null,null,null,{"$f":"+IF(AE510=\"\",\"\",MAX(AA$1:AA509)+1)","v":""},{"$f":"IF(#REF!=\"\",\"\",#REF!)","v":{"$error":"#REF!"}},{"$f":"IF(#REF!=\"\",\"\",#REF!)","v":{"$error":"#REF!"}},{"$error":"#REF!"},{"$f":"IF(COUNTIF(AC$2:AC510,AC510)=1,AC510,\"\")","v":""},"","",null,null,null,null,null,null,null,{"$f":"+IF(AT510=\"\",\"\",MAX(AO$1:AO509)+1)","v":""},{"$f":"IF(Deviation_Limits!B532=\"\",\"\",Deviation_Limits!B532)","v":""},{"$f":"IF(Deviation_Limits!C532=\"\",\"\",Deviation_Limits!C532)","v":""},{"$f":"IF(Deviation_Limits!D532=\"\",\"\",Deviation_Limits!D532)","v":""},"",{"$f":"IF(COUNTIF(AQ$2:AQ510,AQ510)=1,AQ510,\"\")","v":""},"","","",null,{"$f":"+IF(BD510=\"\",\"\",MAX(AY$1:AY509)+1)","v":""},{"$f":"IF(Deviation_CEM_CPMS!B532=\"\",\"\",Deviation_CEM_CPMS!B532)","v":""},{"$f":"IF(Deviation_CEM_CPMS!C532=\"\",\"\",Deviation_CEM_CPMS!C532)","v":""},{"$f":"IF(Deviation_CEM_CPMS!D532=\"\",\"\",Deviation_CEM_CPMS!D532)","v":""},"",{"$f":"IF(COUNTIF(BA$2:BA510,BA510)=1,BA510,\"\")","v":""},"","",""]
[null,null,null,null,null,null,null,null,null,null,null,null,null,null,null,null,null,null,null,null,null,null,null,null,null,null,{"$f":"+IF(AE511=\"\",\"\",MAX(AA$1:AA510)+1)","v":""},{"$f":"IF(#REF!=\"\",\"\",#REF!)","v":{"$error":"#REF!"}},{"$f":"IF(#REF!=\"\",\"\",#REF!)","v":{"$error":"#REF!"}},{"$error":"#REF!"},{"$f":"IF(COUNTIF(AC$2:AC511,AC511)=1,AC511,\"\")","v":""},"","",null,null,null,null,null,null,null,{"$f":"+IF(AT511=\"\",\"\",MAX(AO$1:AO510)+1)","v":""},{"$f":"IF(Deviation_Limits!B533=\"\",\"\",Deviation_Limits!B533)","v":""},{"$f":"IF(Deviation_Limits!C533=\"\",\"\",Deviation_Limits!C533)","v":""},{"$f":"IF(Deviation_Limits!D533=\"\",\"\",Deviation_Limits!D533)","v":""},"",{"$f":"IF(COUNTIF(AQ$2:AQ511,AQ511)=1,AQ511,\"\")","v":""},"","","",null,{"$f":"+IF(BD511=\"\",\"\",MAX(AY$1:AY510)+1)","v":""},{"$f":"IF(Deviation_CEM_CPMS!B533=\"\",\"\",Deviation_CEM_CPMS!B533)","v":""},{"$f":"IF(Deviation_CEM_CPMS!C533=\"\",\"\",Deviation_CEM_CPMS!C533)","v":""},{"$f":"IF(Deviation_CEM_CPMS!D533=\"\",\"\",Deviation_CEM_CPMS!D533)","v":""},"",{"$f":"IF(COUNTIF(BA$2:BA511,BA511)=1,BA511,\"\")","v":""},"","",""]
[null,null,null,null,null,null,null,null,null,null,null,null,null,null,null,null,null,null,null,null,null,null,null,null,null,null,{"$f":"+IF(AE512=\"\",\"\",MAX(AA$1:AA511)+1)","v":""},{"$f":"IF(#REF!=\"\",\"\",#REF!)","v":{"$error":"#REF!"}},{"$f":"IF(#REF!=\"\",\"\",#REF!)","v":{"$error":"#REF!"}},{"$error":"#REF!"},{"$f":"IF(COUNTIF(AC$2:AC512,AC512)=1,AC512,\"\")","v":""},"","",null,null,null,null,null,null,null,{"$f":"+IF(AT512=\"\",\"\",MAX(AO$1:AO511)+1)","v":""},{"$f":"IF(Deviation_Limits!B534=\"\",\"\",Deviation_Limits!B534)","v":""},{"$f":"IF(Deviation_Limits!C534=\"\",\"\",Deviation_Limits!C534)","v":""},{"$f":"IF(Deviation_Limits!D534=\"\",\"\",Deviation_Limits!D534)","v":""},"",{"$f":"IF(COUNTIF(AQ$2:AQ512,AQ512)=1,AQ512,\"\")","v":""},"","","",null,{"$f":"+IF(BD512=\"\",\"\",MAX(AY$1:AY511)+1)","v":""},{"$f":"IF(Deviation_CEM_CPMS!B534=\"\",\"\",Deviation_CEM_CPMS!B534)","v":""},{"$f":"IF(Deviation_CEM_CPMS!C534=\"\",\"\",Deviation_CEM_CPMS!C534)","v":""},{"$f":"IF(Deviation_CEM_CPMS!D534=\"\",\"\",Deviation_CEM_CPMS!D534)","v":""},"",{"$f":"IF(COUNTIF(BA$2:BA512,BA512)=1,BA512,\"\")","v":""},"","",""]
[null,null,null,null,null,null,null,null,null,null,null,null,null,null,null,null,null,null,null,null,null,null,null,null,null,null,{"$f":"+IF(AE513=\"\",\"\",MAX(AA$1:AA512)+1)","v":""},{"$f":"IF(#REF!=\"\",\"\",#REF!)","v":{"$error":"#REF!"}},{"$f":"IF(#REF!=\"\",\"\",#REF!)","v":{"$error":"#REF!"}},{"$error":"#REF!"},{"$f":"IF(COUNTIF(AC$2:AC513,AC513)=1,AC513,\"\")","v":""},"","",null,null,null,null,null,null,null,{"$f":"+IF(AT513=\"\",\"\",MAX(AO$1:AO512)+1)","v":""},{"$f":"IF(Deviation_Limits!B535=\"\",\"\",Deviation_Limits!B535)","v":""},{"$f":"IF(Deviation_Limits!C535=\"\",\"\",Deviation_Limits!C535)","v":""},{"$f":"IF(Deviation_Limits!D535=\"\",\"\",Deviation_Limits!D535)","v":""},"",{"$f":"IF(COUNTIF(AQ$2:AQ513,AQ513)=1,AQ513,\"\")","v":""},"","","",null,{"$f":"+IF(BD513=\"\",\"\",MAX(AY$1:AY512)+1)","v":""},{"$f":"IF(Deviation_CEM_CPMS!B535=\"\",\"\",Deviation_CEM_CPMS!B535)","v":""},{"$f":"IF(Deviation_CEM_CPMS!C535=\"\",\"\",Deviation_CEM_CPMS!C535)","v":""},{"$f":"IF(Deviation_CEM_CPMS!D535=\"\",\"\",Deviation_CEM_CPMS!D535)","v":""},"",{"$f":"IF(COUNTIF(BA$2:BA513,BA513)=1,BA513,\"\")","v":""},"","",""]
[null,null,null,null,null,null,null,null,null,null,null,null,null,null,null,null,null,null,null,null,null,null,null,null,null,null,{"$f":"+IF(AE514=\"\",\"\",MAX(AA$1:AA513)+1)","v":""},{"$f":"IF(#REF!=\"\",\"\",#REF!)","v":{"$error":"#REF!"}},{"$f":"IF(#REF!=\"\",\"\",#REF!)","v":{"$error":"#REF!"}},{"$error":"#REF!"},{"$f":"IF(COUNTIF(AC$2:AC514,AC514)=1,AC514,\"\")","v":""},"","",null,null,null,null,null,null,null,{"$f":"+IF(AT514=\"\",\"\",MAX(AO$1:AO513)+1)","v":""},{"$f":"IF(Deviation_Limits!B536=\"\",\"\",Deviation_Limits!B536)","v":""},{"$f":"IF(Deviation_Limits!C536=\"\",\"\",Deviation_Limits!C536)","v":""},{"$f":"IF(Deviation_Limits!D536=\"\",\"\",Deviation_Limits!D536)","v":""},"",{"$f":"IF(COUNTIF(AQ$2:AQ514,AQ514)=1,AQ514,\"\")","v":""},"","","",null,{"$f":"+IF(BD514=\"\",\"\",MAX(AY$1:AY513)+1)","v":""},{"$f":"IF(Deviation_CEM_CPMS!B536=\"\",\"\",Deviation_CEM_CPMS!B536)","v":""},{"$f":"IF(Deviation_CEM_CPMS!C536=\"\",\"\",Deviation_CEM_CPMS!C536)","v":""},{"$f":"IF(Deviation_CEM_CPMS!D536=\"\",\"\",Deviation_CEM_CPMS!D536)","v":""},{"$f":"+AZ514&BA514&BB514","v":""},{"$f":"IF(COUNTIF(BA$2:BA514,BA514)=1,BA514,\"\")","v":""},{"$f":"+IFERROR(INDEX(AZ$2:AZ$500,MATCH(ROW()-ROW(BE$1),$AA$2:$AA$500,0)),\"\")","v":""},{"$f":"+IFERROR(INDEX(BA$2:BA$500,MATCH(ROW()-ROW(BE$1),$AA$2:$AA$500,0)),\"\")","v":""},{"$f":"+IFERROR(INDEX(BB$2:BB$500,MATCH(ROW()-ROW(BE$1),$AA$2:$AA$500,0)),\"\")","v":""}]
[null,null,null,null,null,null,null,null,null,null,null,null,null,null,null,null,null,null,null,null,null,null,null,null,null,null,{"$f":"+IF(AE515=\"\",\"\",MAX(AA$1:AA514)+1)","v":""},{"$f":"IF(#REF!=\"\",\"\",#REF!)","v":{"$error":"#REF!"}},{"$f":"IF(#REF!=\"\",\"\",#REF!)","v":{"$error":"#REF!"}},{"$error":"#REF!"},{"$f":"IF(COUNTIF(AC$2:AC515,AC515)=1,AC515,\"\")","v":""},{"$f":"+IFERROR(INDEX(AB$2:AB$500,MATCH(ROW()-ROW($AF$1),$AA$2:$AA$500,0)),\"\")","v":""},{"$f":"+IFERROR(INDEX(AC$2:AC$500,MATCH(ROW()-ROW($AF$1),$AA$2:$AA$500,0)),\"\")","v":""},null,null,null,null,null,null,null,{"$f":"+IF(AT515=\"\",\"\",MAX(AO$1:AO514)+1)","v":""},{"$f":"IF(Deviation_Limits!B537=\"\",\"\",Deviation_Limits!B537)","v":""},{"$f":"IF(Deviation_Limits!C537=\"\",\"\",Deviation_Limits!C537)","v":""},{"$f":"IF(Deviation_Limits!D537=\"\",\"\",Deviation_Limits!D537)","v":""},{"$f":"+AP515&AQ515&C515","v":""},{"$f":"IF(COUNTIF(AQ$2:AQ515,AQ515)=1,AQ515,\"\")","v":""},{"$f":"+IFERROR(INDEX(AP$2:AP$500,MATCH(ROW()-ROW(AU$1),$AA$2:$AA$500,0)),\"\")","v":""},{"$f":"+IFERROR(INDEX(AQ$2:AQ$500,MATCH(ROW()-ROW(AU$1),$AA$2:$AA$500,0)),\"\")","v":""},{"$f":"+IFERROR(INDEX(AR$2:AR$500,MATCH(ROW()-ROW(AU$1),$AA$2:$AA$500,0)),\"\")","v":""},null,{"$f":"+IF(BD515=\"\",\"\",MAX(AY$1:AY514)+1)","v":""},{"$f":"IF(Deviation_CEM_CPMS!B537=\"\",\"\",Deviation_CEM_CPMS!B537)","v":""},{"$f":"IF(Deviation_CEM_CPMS!C537=\"\",\"\",Deviation_CEM_CPMS!C537)","v":""},{"$f":"IF(Deviation_CEM_CPMS!D537=\"\",\"\",Deviation_CEM_CPMS!D537)","v":""},"",{"$f":"IF(COUNTIF(BA$2:BA515,BA515)=1,BA515,\"\")","v":""},"","",""]
[null,null,null,null,null,null,null,null,null,null,null,null,null,null,null,null,null,null,null,null,null,null,null,null,null,null,{"$f":"+IF(AE516=\"\",\"\",MAX(AA$1:AA515)+1)","v":""},{"$f":"IF(#REF!=\"\",\"\",#REF!)","v":{"$error":"#REF!"}},{"$f":"IF(#REF!=\"\",\"\",#REF!)","v":{"$error":"#REF!"}},{"$error":"#REF!"},{"$f":"IF(COUNTIF(AC$2:AC516,AC516)=1,AC516,\"\")","v":""},"","",null,null,null,null,null,null,null,{"$f":"+IF(AT516=\"\",\"\",MAX(AO$1:AO515)+1)","v":""},{"$f":"IF(Deviation_Limits!B538=\"\",\"\",Deviation_Limits!B538)","v":""},{"$f":"IF(Deviation_Limits!C538=\"\",\"\",Deviation_Limits!C538)","v":""},{"$f":"IF(Deviation_Limits!D538=\"\",\"\",Deviation_Limits!D538)","v":""},"",{"$f":"IF(COUNTIF(AQ$2:AQ516,AQ516)=1,AQ516,\"\")","v":""},"","","",null,{"$f":"+IF(BD516=\"\",\"\",MAX(AY$1:AY515)+1)","v":""},{"$f":"IF(Deviation_CEM_CPMS!B538=\"\",\"\",Deviation_CEM_CPMS!B538)","v":""},{"$f":"IF(Deviation_CEM_CPMS!C538=\"\",\"\",Deviation_CEM_CPMS!C538)","v":""},{"$f":"IF(Deviation_CEM_CPMS!D538=\"\",\"\",Deviation_CEM_CPMS!D538)","v":""},"",{"$f":"IF(COUNTIF(BA$2:BA516,BA516)=1,BA516,\"\")","v":""},"","",""]
[null,null,null,null,null,null,null,null,null,null,null,null,null,null,null,null,null,null,null,null,null,null,null,null,null,null,{"$f":"+IF(AE517=\"\",\"\",MAX(AA$1:AA516)+1)","v":""},{"$f":"IF(#REF!=\"\",\"\",#REF!)","v":{"$error":"#REF!"}},{"$f":"IF(#REF!=\"\",\"\",#REF!)","v":{"$error":"#REF!"}},{"$error":"#REF!"},{"$f":"IF(COUNTIF(AC$2:AC517,AC517)=1,AC517,\"\")","v":""},"","",null,null,null,null,null,null,null,{"$f":"+IF(AT517=\"\",\"\",MAX(AO$1:AO516)+1)","v":""},{"$f":"IF(Deviation_Limits!B539=\"\",\"\",Deviation_Limits!B539)","v":""},{"$f":"IF(Deviation_Limits!C539=\"\",\"\",Deviation_Limits!C539)","v":""},{"$f":"IF(Deviation_Limits!D539=\"\",\"\",Deviation_Limits!D539)","v":""},"",{"$f":"IF(COUNTIF(AQ$2:AQ517,AQ517)=1,AQ517,\"\")","v":""},"","","",null,{"$f":"+IF(BD517=\"\",\"\",MAX(AY$1:AY516)+1)","v":""},{"$f":"IF(Deviation_CEM_CPMS!B539=\"\",\"\",Deviation_CEM_CPMS!B539)","v":""},{"$f":"IF(Deviation_CEM_CPMS!C539=\"\",\"\",Deviation_CEM_CPMS!C539)","v":""},{"$f":"IF(Deviation_CEM_CPMS!D539=\"\",\"\",Deviation_CEM_CPMS!D539)","v":""},"",{"$f":"IF(COUNTIF(BA$2:BA517,BA517)=1,BA517,\"\")","v":""},"","",""]
[null,null,null,null,null,null,null,null,null,null,null,null,null,null,null,null,null,null,null,null,null,null,null,null,null,null,{"$f":"+IF(AE518=\"\",\"\",MAX(AA$1:AA517)+1)","v":""},{"$f":"IF(#REF!=\"\",\"\",#REF!)","v":{"$error":"#REF!"}},{"$f":"IF(#REF!=\"\",\"\",#REF!)","v":{"$error":"#REF!"}},{"$error":"#REF!"},{"$f":"IF(COUNTIF(AC$2:AC518,AC518)=1,AC518,\"\")","v":""},"","",null,null,null,null,null,null,null,{"$f":"+IF(AT518=\"\",\"\",MAX(AO$1:AO517)+1)","v":""},{"$f":"IF(Deviation_Limits!B540=\"\",\"\",Deviation_Limits!B540)","v":""},{"$f":"IF(Deviation_Limits!C540=\"\",\"\",Deviation_Limits!C540)","v":""},{"$f":"IF(Deviation_Limits!D540=\"\",\"\",Deviation_Limits!D540)","v":""},"",{"$f":"IF(COUNTIF(AQ$2:AQ518,AQ518)=1,AQ518,\"\")","v":""},"","","",null,{"$f":"+IF(BD518=\"\",\"\",MAX(AY$1:AY517)+1)","v":""},{"$f":"IF(Deviation_CEM_CPMS!B540=\"\",\"\",Deviation_CEM_CPMS!B540)","v":""},{"$f":"IF(Deviation_CEM_CPMS!C540=\"\",\"\",Deviation_CEM_CPMS!C540)","v":""},{"$f":"IF(Deviation_CEM_CPMS!D540=\"\",\"\",Deviation_CEM_CPMS!D540)","v":""},"",{"$f":"IF(COUNTIF(BA$2:BA518,BA518)=1,BA518,\"\")","v":""},"","",""]
[null,null,null,null,null,null,null,null,null,null,null,null,null,null,null,null,null,null,null,null,null,null,null,null,null,null,{"$f":"+IF(AE519=\"\",\"\",MAX(AA$1:AA518)+1)","v":""},{"$f":"IF(#REF!=\"\",\"\",#REF!)","v":{"$error":"#REF!"}},{"$f":"IF(#REF!=\"\",\"\",#REF!)","v":{"$error":"#REF!"}},{"$error":"#REF!"},{"$f":"IF(COUNTIF(AC$2:AC519,AC519)=1,AC519,\"\")","v":""},"","",null,null,null,null,null,null,null,{"$f":"+IF(AT519=\"\",\"\",MAX(AO$1:AO518)+1)","v":""},{"$f":"IF(Deviation_Limits!B541=\"\",\"\",Deviation_Limits!B541)","v":""},{"$f":"IF(Deviation_Limits!C541=\"\",\"\",Deviation_Limits!C541)","v":""},{"$f":"IF(Deviation_Limits!D541=\"\",\"\",Deviation_Limits!D541)","v":""},"",{"$f":"IF(COUNTIF(AQ$2:AQ519,AQ519)=1,AQ519,\"\")","v":""},"","","",null,{"$f":"+IF(BD519=\"\",\"\",MAX(AY$1:AY518)+1)","v":""},{"$f":"IF(Deviation_CEM_CPMS!B541=\"\",\"\",Deviation_CEM_CPMS!B541)","v":""},{"$f":"IF(Deviation_CEM_CPMS!C541=\"\",\"\",Deviation_CEM_CPMS!C541)","v":""},{"$f":"IF(Deviation_CEM_CPMS!D541=\"\",\"\",Deviation_CEM_CPMS!D541)","v":""},"",{"$f":"IF(COUNTIF(BA$2:BA519,BA519)=1,BA519,\"\")","v":""},"","",""]
[null,null,null,null,null,null,null,null,null,null,null,null,null,null,null,null,null,null,null,null,null,null,null,null,null,null,{"$f":"+IF(AE520=\"\",\"\",MAX(AA$1:AA519)+1)","v":""},{"$f":"IF(#REF!=\"\",\"\",#REF!)","v":{"$error":"#REF!"}},{"$f":"IF(#REF!=\"\",\"\",#REF!)","v":{"$error":"#REF!"}},{"$error":"#REF!"},{"$f":"IF(COUNTIF(AC$2:AC520,AC520)=1,AC520,\"\")","v":""},"","",null,null,null,null,null,null,null,{"$f":"+IF(AT520=\"\",\"\",MAX(AO$1:AO519)+1)","v":""},{"$f":"IF(Deviation_Limits!B542=\"\",\"\",Deviation_Limits!B542)","v":""},{"$f":"IF(Deviation_Limits!C542=\"\",\"\",Deviation_Limits!C542)","v":""},{"$f":"IF(Deviation_Limits!D542=\"\",\"\",Deviation_Limits!D542)","v":""},"",{"$f":"IF(COUNTIF(AQ$2:AQ520,AQ520)=1,AQ520,\"\")","v":""},"","","",null,{"$f":"+IF(BD520=\"\",\"\",MAX(AY$1:AY519)+1)","v":""},{"$f":"IF(Deviation_CEM_CPMS!B542=\"\",\"\",Deviation_CEM_CPMS!B542)","v":""},{"$f":"IF(Deviation_CEM_CPMS!C542=\"\",\"\",Deviation_CEM_CPMS!C542)","v":""},{"$f":"IF(Deviation_CEM_CPMS!D542=\"\",\"\",Deviation_CEM_CPMS!D542)","v":""},"",{"$f":"IF(COUNTIF(BA$2:BA520,BA520)=1,BA520,\"\")","v":""},"","",""]
[null,null,null,null,null,null,null,null,null,null,null,null,null,null,null,null,null,null,null,null,null,null,null,null,null,null,{"$f":"+IF(AE521=\"\",\"\",MAX(AA$1:AA520)+1)","v":""},{"$f":"IF(#REF!=\"\",\"\",#REF!)","v":{"$error":"#REF!"}},{"$f":"IF(#REF!=\"\",\"\",#REF!)","v":{"$error":"#REF!"}},{"$error":"#REF!"},{"$f":"IF(COUNTIF(AC$2:AC521,AC521)=1,AC521,\"\")","v":""},"","",null,null,null,null,null,null,null,{"$f":"+IF(AT521=\"\",\"\",MAX(AO$1:AO520)+1)","v":""},{"$f":"IF(Deviation_Limits!B543=\"\",\"\",Deviation_Limits!B543)","v":""},{"$f":"IF(Deviation_Limits!C543=\"\",\"\",Deviation_Limits!C543)","v":""},{"$f":"IF(Deviation_Limits!D543=\"\",\"\",Deviation_Limits!D543)","v":""},"",{"$f":"IF(COUNTIF(AQ$2:AQ521,AQ521)=1,AQ521,\"\")","v":""},"","","",null,{"$f":"+IF(BD521=\"\",\"\",MAX(AY$1:AY520)+1)","v":""},{"$f":"IF(Deviation_CEM_CPMS!B543=\"\",\"\",Deviation_CEM_CPMS!B543)","v":""},{"$f":"IF(Deviation_CEM_CPMS!C543=\"\",\"\",Deviation_CEM_CPMS!C543)","v":""},{"$f":"IF(Deviation_CEM_CPMS!D543=\"\",\"\",Deviation_CEM_CPMS!D543)","v":""},"",{"$f":"IF(COUNTIF(BA$2:BA521,BA521)=1,BA521,\"\")","v":""},"","",""]
[null,null,null,null,null,null,null,null,null,null,null,null,null,null,null,null,null,null,null,null,null,null,null,null,null,null,{"$f":"+IF(AE522=\"\",\"\",MAX(AA$1:AA521)+1)","v":""},{"$f":"IF(#REF!=\"\",\"\",#REF!)","v":{"$error":"#REF!"}},{"$f":"IF(#REF!=\"\",\"\",#REF!)","v":{"$error":"#REF!"}},{"$error":"#REF!"},{"$f":"IF(COUNTIF(AC$2:AC522,AC522)=1,AC522,\"\")","v":""},"","",null,null,null,null,null,null,null,{"$f":"+IF(AT522=\"\",\"\",MAX(AO$1:AO521)+1)","v":""},{"$f":"IF(Deviation_Limits!B544=\"\",\"\",Deviation_Limits!B544)","v":""},{"$f":"IF(Deviation_Limits!C544=\"\",\"\",Deviation_Limits!C544)","v":""},{"$f":"IF(Deviation_Limits!D544=\"\",\"\",Deviation_Limits!D544)","v":""},"",{"$f":"IF(COUNTIF(AQ$2:AQ522,AQ522)=1,AQ522,\"\")","v":""},"","","",null,{"$f":"+IF(BD522=\"\",\"\",MAX(AY$1:AY521)+1)","v":""},{"$f":"IF(Deviation_CEM_CPMS!B544=\"\",\"\",Deviation_CEM_CPMS!B544)","v":""},{"$f":"IF(Deviation_CEM_CPMS!C544=\"\",\"\",Deviation_CEM_CPMS!C544)","v":""},{"$f":"IF(Deviation_CEM_CPMS!D544=\"\",\"\",Deviation_CEM_CPMS!D544)","v":""},"",{"$f":"IF(COUNTIF(BA$2:BA522,BA522)=1,BA522,\"\")","v":""},"","",""]
[null,null,null,null,null,null,null,null,null,null,null,null,null,null,null,null,null,null,null,null,null,null,null,null,null,null,{"$f":"+IF(AE523=\"\",\"\",MAX(AA$1:AA522)+1)","v":""},{"$f":"IF(#REF!=\"\",\"\",#REF!)","v":{"$error":"#REF!"}},{"$f":"IF(#REF!=\"\",\"\",#REF!)","v":{"$error":"#REF!"}},{"$error":"#REF!"},{"$f":"IF(COUNTIF(AC$2:AC523,AC523)=1,AC523,\"\")","v":""},"","",null,null,null,null,null,null,null,{"$f":"+IF(AT523=\"\",\"\",MAX(AO$1:AO522)+1)","v":""},{"$f":"IF(Deviation_Limits!B545=\"\",\"\",Deviation_Limits!B545)","v":""},{"$f":"IF(Deviation_Limits!C545=\"\",\"\",Deviation_Limits!C545)","v":""},{"$f":"IF(Deviation_Limits!D545=\"\",\"\",Deviation_Limits!D545)","v":""},"",{"$f":"IF(COUNTIF(AQ$2:AQ523,AQ523)=1,AQ523,\"\")","v":""},"","","",null,{"$f":"+IF(BD523=\"\",\"\",MAX(AY$1:AY522)+1)","v":""},{"$f":"IF(Deviation_CEM_CPMS!B545=\"\",\"\",Deviation_CEM_CPMS!B545)","v":""},{"$f":"IF(Deviation_CEM_CPMS!C545=\"\",\"\",Deviation_CEM_CPMS!C545)","v":""},{"$f":"IF(Deviation_CEM_CPMS!D545=\"\",\"\",Deviation_CEM_CPMS!D545)","v":""},"",{"$f":"IF(COUNTIF(BA$2:BA523,BA523)=1,BA523,\"\")","v":""},"","",""]
[null,null,null,null,null,null,null,null,null,null,null,null,null,null,null,null,null,null,null,null,null,null,null,null,null,null,{"$f":"+IF(AE524=\"\",\"\",MAX(AA$1:AA523)+1)","v":""},{"$f":"IF(#REF!=\"\",\"\",#REF!)","v":{"$error":"#REF!"}},{"$f":"IF(#REF!=\"\",\"\",#REF!)","v":{"$error":"#REF!"}},{"$error":"#REF!"},{"$f":"IF(COUNTIF(AC$2:AC524,AC524)=1,AC524,\"\")","v":""},"","",null,null,null,null,null,null,null,{"$f":"+IF(AT524=\"\",\"\",MAX(AO$1:AO523)+1)","v":""},{"$f":"IF(Deviation_Limits!B546=\"\",\"\",Deviation_Limits!B546)","v":""},{"$f":"IF(Deviation_Limits!C546=\"\",\"\",Deviation_Limits!C546)","v":""},{"$f":"IF(Deviation_Limits!D546=\"\",\"\",Deviation_Limits!D546)","v":""},"",{"$f":"IF(COUNTIF(AQ$2:AQ524,AQ524)=1,AQ524,\"\")","v":""},"","","",null,{"$f":"+IF(BD524=\"\",\"\",MAX(AY$1:AY523)+1)","v":""},{"$f":"IF(Deviation_CEM_CPMS!B546=\"\",\"\",Deviation_CEM_CPMS!B546)","v":""},{"$f":"IF(Deviation_CEM_CPMS!C546=\"\",\"\",Deviation_CEM_CPMS!C546)","v":""},{"$f":"IF(Deviation_CEM_CPMS!D546=\"\",\"\",Deviation_CEM_CPMS!D546)","v":""},"",{"$f":"IF(COUNTIF(BA$2:BA524,BA524)=1,BA524,\"\")","v":""},"","",""]
[null,null,null,null,null,null,null,null,null,null,null,null,null,null,null,null,null,null,null,null,null,null,null,null,null,null,{"$f":"+IF(AE525=\"\",\"\",MAX(AA$1:AA524)+1)","v":""},{"$f":"IF(#REF!=\"\",\"\",#REF!)","v":{"$error":"#REF!"}},{"$f":"IF(#REF!=\"\",\"\",#REF!)","v":{"$error":"#REF!"}},{"$error":"#REF!"},{"$f":"IF(COUNTIF(AC$2:AC525,AC525)=1,AC525,\"\")","v":""},"","",null,null,null,null,null,null,null,{"$f":"+IF(AT525=\"\",\"\",MAX(AO$1:AO524)+1)","v":""},{"$f":"IF(Deviation_Limits!B547=\"\",\"\",Deviation_Limits!B547)","v":""},{"$f":"IF(Deviation_Limits!C547=\"\",\"\",Deviation_Limits!C547)","v":""},{"$f":"IF(Deviation_Limits!D547=\"\",\"\",Deviation_Limits!D547)","v":""},"",{"$f":"IF(COUNTIF(AQ$2:AQ525,AQ525)=1,AQ525,\"\")","v":""},"","","",null,{"$f":"+IF(BD525=\"\",\"\",MAX(AY$1:AY524)+1)","v":""},{"$f":"IF(Deviation_CEM_CPMS!B547=\"\",\"\",Deviation_CEM_CPMS!B547)","v":""},{"$f":"IF(Deviation_CEM_CPMS!C547=\"\",\"\",Deviation_CEM_CPMS!C547)","v":""},{"$f":"IF(Deviation_CEM_CPMS!D547=\"\",\"\",Deviation_CEM_CPMS!D547)","v":""},"",{"$f":"IF(COUNTIF(BA$2:BA525,BA525)=1,BA525,\"\")","v":""},"","",""]
[null,null,null,null,null,null,null,null,null,null,null,null,null,null,null,null,null,null,null,null,null,null,null,null,null,null,{"$f":"+IF(AE526=\"\",\"\",MAX(AA$1:AA525)+1)","v":""},{"$f":"IF(#REF!=\"\",\"\",#REF!)","v":{"$error":"#REF!"}},{"$f":"IF(#REF!=\"\",\"\",#REF!)","v":{"$error":"#REF!"}},{"$error":"#REF!"},{"$f":"IF(COUNTIF(AC$2:AC526,AC526)=1,AC526,\"\")","v":""},"","",null,null,null,null,null,null,null,{"$f":"+IF(AT526=\"\",\"\",MAX(AO$1:AO525)+1)","v":""},{"$f":"IF(Deviation_Limits!B548=\"\",\"\",Deviation_Limits!B548)","v":""},{"$f":"IF(Deviation_Limits!C548=\"\",\"\",Deviation_Limits!C548)","v":""},{"$f":"IF(Deviation_Limits!D548=\"\",\"\",Deviation_Limits!D548)","v":""},"",{"$f":"IF(COUNTIF(AQ$2:AQ526,AQ526)=1,AQ526,\"\")","v":""},"","","",null,{"$f":"+IF(BD526=\"\",\"\",MAX(AY$1:AY525)+1)","v":""},{"$f":"IF(Deviation_CEM_CPMS!B548=\"\",\"\",Deviation_CEM_CPMS!B548)","v":""},{"$f":"IF(Deviation_CEM_CPMS!C548=\"\",\"\",Deviation_CEM_CPMS!C548)","v":""},{"$f":"IF(Deviation_CEM_CPMS!D548=\"\",\"\",Deviation_CEM_CPMS!D548)","v":""},"",{"$f":"IF(COUNTIF(BA$2:BA526,BA526)=1,BA526,\"\")","v":""},"","",""]
[null,null,null,null,null,null,null,null,null,null,null,null,null,null,null,null,null,null,null,null,null,null,null,null,null,null,{"$f":"+IF(AE527=\"\",\"\",MAX(AA$1:AA526)+1)","v":""},{"$f":"IF(#REF!=\"\",\"\",#REF!)","v":{"$error":"#REF!"}},{"$f":"IF(#REF!=\"\",\"\",#REF!)","v":{"$error":"#REF!"}},{"$error":"#REF!"},{"$f":"IF(COUNTIF(AC$2:AC527,AC527)=1,AC527,\"\")","v":""},"","",null,null,null,null,null,null,null,{"$f":"+IF(AT527=\"\",\"\",MAX(AO$1:AO526)+1)","v":""},{"$f":"IF(Deviation_Limits!B549=\"\",\"\",Deviation_Limits!B549)","v":""},{"$f":"IF(Deviation_Limits!C549=\"\",\"\",Deviation_Limits!C549)","v":""},{"$f":"IF(Deviation_Limits!D549=\"\",\"\",Deviation_Limits!D549)","v":""},"",{"$f":"IF(COUNTIF(AQ$2:AQ527,AQ527)=1,AQ527,\"\")","v":""},"","","",null,{"$f":"+IF(BD527=\"\",\"\",MAX(AY$1:AY526)+1)","v":""},{"$f":"IF(Deviation_CEM_CPMS!B549=\"\",\"\",Deviation_CEM_CPMS!B549)","v":""},{"$f":"IF(Deviation_CEM_CPMS!C549=\"\",\"\",Deviation_CEM_CPMS!C549)","v":""},{"$f":"IF(Deviation_CEM_CPMS!D549=\"\",\"\",Deviation_CEM_CPMS!D549)","v":""},"",{"$f":"IF(COUNTIF(BA$2:BA527,BA527)=1,BA527,\"\")","v":""},"","",""]
[null,null,null,null,null,null,null,null,null,null,null,null,null,null,null,null,null,null,null,null,null,null,null,null,null,null,{"$f":"+IF(AE528=\"\",\"\",MAX(AA$1:AA527)+1)","v":""},{"$f":"IF(#REF!=\"\",\"\",#REF!)","v":{"$error":"#REF!"}},{"$f":"IF(#REF!=\"\",\"\",#REF!)","v":{"$error":"#REF!"}},{"$error":"#REF!"},{"$f":"IF(COUNTIF(AC$2:AC528,AC528)=1,AC528,\"\")","v":""},"","",null,null,null,null,null,null,null,{"$f":"+IF(AT528=\"\",\"\",MAX(AO$1:AO527)+1)","v":""},{"$f":"IF(Deviation_Limits!B550=\"\",\"\",Deviation_Limits!B550)","v":""},{"$f":"IF(Deviation_Limits!C550=\"\",\"\",Deviation_Limits!C550)","v":""},{"$f":"IF(Deviation_Limits!D550=\"\",\"\",Deviation_Limits!D550)","v":""},"",{"$f":"IF(COUNTIF(AQ$2:AQ528,AQ528)=1,AQ528,\"\")","v":""},"","","",null,{"$f":"+IF(BD528=\"\",\"\",MAX(AY$1:AY527)+1)","v":""},{"$f":"IF(Deviation_CEM_CPMS!B550=\"\",\"\",Deviation_CEM_CPMS!B550)","v":""},{"$f":"IF(Deviation_CEM_CPMS!C550=\"\",\"\",Deviation_CEM_CPMS!C550)","v":""},{"$f":"IF(Deviation_CEM_CPMS!D550=\"\",\"\",Deviation_CEM_CPMS!D550)","v":""},"",{"$f":"IF(COUNTIF(BA$2:BA528,BA528)=1,BA528,\"\")","v":""},"","",""]
[null,null,null,null,null,null,null,null,null,null,null,null,null,null,null,null,null,null,null,null,null,null,null,null,null,null,{"$f":"+IF(AE529=\"\",\"\",MAX(AA$1:AA528)+1)","v":""},{"$f":"IF(#REF!=\"\",\"\",#REF!)","v":{"$error":"#REF!"}},{"$f":"IF(#REF!=\"\",\"\",#REF!)","v":{"$error":"#REF!"}},{"$error":"#REF!"},{"$f":"IF(COUNTIF(AC$2:AC529,AC529)=1,AC529,\"\")","v":""},"","",null,null,null,null,null,null,null,{"$f":"+IF(AT529=\"\",\"\",MAX(AO$1:AO528)+1)","v":""},{"$f":"IF(Deviation_Limits!B551=\"\",\"\",Deviation_Limits!B551)","v":""},{"$f":"IF(Deviation_Limits!C551=\"\",\"\",Deviation_Limits!C551)","v":""},{"$f":"IF(Deviation_Limits!D551=\"\",\"\",Deviation_Limits!D551)","v":""},"",{"$f":"IF(COUNTIF(AQ$2:AQ529,AQ529)=1,AQ529,\"\")","v":""},"","","",null,{"$f":"+IF(BD529=\"\",\"\",MAX(AY$1:AY528)+1)","v":""},{"$f":"IF(Deviation_CEM_CPMS!B551=\"\",\"\",Deviation_CEM_CPMS!B551)","v":""},{"$f":"IF(Deviation_CEM_CPMS!C551=\"\",\"\",Deviation_CEM_CPMS!C551)","v":""},{"$f":"IF(Deviation_CEM_CPMS!D551=\"\",\"\",Deviation_CEM_CPMS!D551)","v":""},"",{"$f":"IF(COUNTIF(BA$2:BA529,BA529)=1,BA529,\"\")","v":""},"","",""]
[null,null,null,null,null,null,null,null,null,null,null,null,null,null,null,null,null,null,null,null,null,null,null,null,null,null,{"$f":"+IF(AE530=\"\",\"\",MAX(AA$1:AA529)+1)","v":""},{"$f":"IF(#REF!=\"\",\"\",#REF!)","v":{"$error":"#REF!"}},{"$f":"IF(#REF!=\"\",\"\",#REF!)","v":{"$error":"#REF!"}},{"$error":"#REF!"},{"$f":"IF(COUNTIF(AC$2:AC530,AC530)=1,AC530,\"\")","v":""},"","",null,null,null,null,null,null,null,{"$f":"+IF(AT530=\"\",\"\",MAX(AO$1:AO529)+1)","v":""},{"$f":"IF(Deviation_Limits!B552=\"\",\"\",Deviation_Limits!B552)","v":""},{"$f":"IF(Deviation_Limits!C552=\"\",\"\",Deviation_Limits!C552)","v":""},{"$f":"IF(Deviation_Limits!D552=\"\",\"\",Deviation_Limits!D552)","v":""},"",{"$f":"IF(COUNTIF(AQ$2:AQ530,AQ530)=1,AQ530,\"\")","v":""},"","","",null,{"$f":"+IF(BD530=\"\",\"\",MAX(AY$1:AY529)+1)","v":""},{"$f":"IF(Deviation_CEM_CPMS!B552=\"\",\"\",Deviation_CEM_CPMS!B552)","v":""},{"$f":"IF(Deviation_CEM_CPMS!C552=\"\",\"\",Deviation_CEM_CPMS!C552)","v":""},{"$f":"IF(Deviation_CEM_CPMS!D552=\"\",\"\",Deviation_CEM_CPMS!D552)","v":""},"",{"$f":"IF(COUNTIF(BA$2:BA530,BA530)=1,BA530,\"\")","v":""},"","",""]
[null,null,null,null,null,null,null,null,null,null,null,null,null,null,null,null,null,null,null,null,null,null,null,null,null,null,{"$f":"+IF(AE531=\"\",\"\",MAX(AA$1:AA530)+1)","v":""},{"$f":"IF(#REF!=\"\",\"\",#REF!)","v":{"$error":"#REF!"}},{"$f":"IF(#REF!=\"\",\"\",#REF!)","v":{"$error":"#REF!"}},{"$error":"#REF!"},{"$f":"IF(COUNTIF(AC$2:AC531,AC531)=1,AC531,\"\")","v":""},"","",null,null,null,null,null,null,null,{"$f":"+IF(AT531=\"\",\"\",MAX(AO$1:AO530)+1)","v":""},{"$f":"IF(Deviation_Limits!B553=\"\",\"\",Deviation_Limits!B553)","v":""},{"$f":"IF(Deviation_Limits!C553=\"\",\"\",Deviation_Limits!C553)","v":""},{"$f":"IF(Deviation_Limits!D553=\"\",\"\",Deviation_Limits!D553)","v":""},"",{"$f":"IF(COUNTIF(AQ$2:AQ531,AQ531)=1,AQ531,\"\")","v":""},"","","",null,{"$f":"+IF(BD531=\"\",\"\",MAX(AY$1:AY530)+1)","v":""},{"$f":"IF(Deviation_CEM_CPMS!B553=\"\",\"\",Deviation_CEM_CPMS!B553)","v":""},{"$f":"IF(Deviation_CEM_CPMS!C553=\"\",\"\",Deviation_CEM_CPMS!C553)","v":""},{"$f":"IF(Deviation_CEM_CPMS!D553=\"\",\"\",Deviation_CEM_CPMS!D553)","v":""},"",{"$f":"IF(COUNTIF(BA$2:BA531,BA531)=1,BA531,\"\")","v":""},"","",""]
[null,null,null,null,null,null,null,null,null,null,null,null,null,null,null,null,null,null,null,null,null,null,null,null,null,null,{"$f":"+IF(AE532=\"\",\"\",MAX(AA$1:AA531)+1)","v":""},{"$f":"IF(#REF!=\"\",\"\",#REF!)","v":{"$error":"#REF!"}},{"$f":"IF(#REF!=\"\",\"\",#REF!)","v":{"$error":"#REF!"}},{"$error":"#REF!"},{"$f":"IF(COUNTIF(AC$2:AC532,AC532)=1,AC532,\"\")","v":""},"","",null,null,null,null,null,null,null,{"$f":"+IF(AT532=\"\",\"\",MAX(AO$1:AO531)+1)","v":""},{"$f":"IF(Deviation_Limits!B554=\"\",\"\",Deviation_Limits!B554)","v":""},{"$f":"IF(Deviation_Limits!C554=\"\",\"\",Deviation_Limits!C554)","v":""},{"$f":"IF(Deviation_Limits!D554=\"\",\"\",Deviation_Limits!D554)","v":""},"",{"$f":"IF(COUNTIF(AQ$2:AQ532,AQ532)=1,AQ532,\"\")","v":""},"","","",null,{"$f":"+IF(BD532=\"\",\"\",MAX(AY$1:AY531)+1)","v":""},{"$f":"IF(Deviation_CEM_CPMS!B554=\"\",\"\",Deviation_CEM_CPMS!B554)","v":""},{"$f":"IF(Deviation_CEM_CPMS!C554=\"\",\"\",Deviation_CEM_CPMS!C554)","v":""},{"$f":"IF(Deviation_CEM_CPMS!D554=\"\",\"\",Deviation_CEM_CPMS!D554)","v":""},"",{"$f":"IF(COUNTIF(BA$2:BA532,BA532)=1,BA532,\"\")","v":""},"","",""]
[null,null,null,null,null,null,null,null,null,null,null,null,null,null,null,null,null,null,null,null,null,null,null,null,null,null,{"$f":"+IF(AE533=\"\",\"\",MAX(AA$1:AA532)+1)","v":""},{"$f":"IF(#REF!=\"\",\"\",#REF!)","v":{"$error":"#REF!"}},{"$f":"IF(#REF!=\"\",\"\",#REF!)","v":{"$error":"#REF!"}},{"$error":"#REF!"},{"$f":"IF(COUNTIF(AC$2:AC533,AC533)=1,AC533,\"\")","v":""},"","",null,null,null,null,null,null,null,{"$f":"+IF(AT533=\"\",\"\",MAX(AO$1:AO532)+1)","v":""},{"$f":"IF(Deviation_Limits!B555=\"\",\"\",Deviation_Limits!B555)","v":""},{"$f":"IF(Deviation_Limits!C555=\"\",\"\",Deviation_Limits!C555)","v":""},{"$f":"IF(Deviation_Limits!D555=\"\",\"\",Deviation_Limits!D555)","v":""},"",{"$f":"IF(COUNTIF(AQ$2:AQ533,AQ533)=1,AQ533,\"\")","v":""},"","","",null,{"$f":"+IF(BD533=\"\",\"\",MAX(AY$1:AY532)+1)","v":""},{"$f":"IF(Deviation_CEM_CPMS!B555=\"\",\"\",Deviation_CEM_CPMS!B555)","v":""},{"$f":"IF(Deviation_CEM_CPMS!C555=\"\",\"\",Deviation_CEM_CPMS!C555)","v":""},{"$f":"IF(Deviation_CEM_CPMS!D555=\"\",\"\",Deviation_CEM_CPMS!D555)","v":""},"",{"$f":"IF(COUNTIF(BA$2:BA533,BA533)=1,BA533,\"\")","v":""},"","",""]
[null,null,null,null,null,null,null,null,null,null,null,null,null,null,null,null,null,null,null,null,null,null,null,null,null,null,{"$f":"+IF(AE534=\"\",\"\",MAX(AA$1:AA533)+1)","v":""},{"$f":"IF(#REF!=\"\",\"\",#REF!)","v":{"$error":"#REF!"}},{"$f":"IF(#REF!=\"\",\"\",#REF!)","v":{"$error":"#REF!"}},{"$error":"#REF!"},{"$f":"IF(COUNTIF(AC$2:AC534,AC534)=1,AC534,\"\")","v":""},"","",null,null,null,null,null,null,null,{"$f":"+IF(AT534=\"\",\"\",MAX(AO$1:AO533)+1)","v":""},{"$f":"IF(Deviation_Limits!B556=\"\",\"\",Deviation_Limits!B556)","v":""},{"$f":"IF(Deviation_Limits!C556=\"\",\"\",Deviation_Limits!C556)","v":""},{"$f":"IF(Deviation_Limits!D556=\"\",\"\",Deviation_Limits!D556)","v":""},"",{"$f":"IF(COUNTIF(AQ$2:AQ534,AQ534)=1,AQ534,\"\")","v":""},"","","",null,{"$f":"+IF(BD534=\"\",\"\",MAX(AY$1:AY533)+1)","v":""},{"$f":"IF(Deviation_CEM_CPMS!B556=\"\",\"\",Deviation_CEM_CPMS!B556)","v":""},{"$f":"IF(Deviation_CEM_CPMS!C556=\"\",\"\",Deviation_CEM_CPMS!C556)","v":""},{"$f":"IF(Deviation_CEM_CPMS!D556=\"\",\"\",Deviation_CEM_CPMS!D556)","v":""},"",{"$f":"IF(COUNTIF(BA$2:BA534,BA534)=1,BA534,\"\")","v":""},"","",""]
[null,null,null,null,null,null,null,null,null,null,null,null,null,null,null,null,null,null,null,null,null,null,null,null,null,null,{"$f":"+IF(AE535=\"\",\"\",MAX(AA$1:AA534)+1)","v":""},{"$f":"IF(#REF!=\"\",\"\",#REF!)","v":{"$error":"#REF!"}},{"$f":"IF(#REF!=\"\",\"\",#REF!)","v":{"$error":"#REF!"}},{"$error":"#REF!"},{"$f":"IF(COUNTIF(AC$2:AC535,AC535)=1,AC535,\"\")","v":""},"","",null,null,null,null,null,null,null,{"$f":"+IF(AT535=\"\",\"\",MAX(AO$1:AO534)+1)","v":""},{"$f":"IF(Deviation_Limits!B557=\"\",\"\",Deviation_Limits!B557)","v":""},{"$f":"IF(Deviation_Limits!C557=\"\",\"\",Deviation_Limits!C557)","v":""},{"$f":"IF(Deviation_Limits!D557=\"\",\"\",Deviation_Limits!D557)","v":""},"",{"$f":"IF(COUNTIF(AQ$2:AQ535,AQ535)=1,AQ535,\"\")","v":""},"","","",null,{"$f":"+IF(BD535=\"\",\"\",MAX(AY$1:AY534)+1)","v":""},{"$f":"IF(Deviation_CEM_CPMS!B557=\"\",\"\",Deviation_CEM_CPMS!B557)","v":""},{"$f":"IF(Deviation_CEM_CPMS!C557=\"\",\"\",Deviation_CEM_CPMS!C557)","v":""},{"$f":"IF(Deviation_CEM_CPMS!D557=\"\",\"\",Deviation_CEM_CPMS!D557)","v":""},"",{"$f":"IF(COUNTIF(BA$2:BA535,BA535)=1,BA535,\"\")","v":""},"","",""]
[null,null,null,null,null,null,null,null,null,null,null,null,null,null,null,null,null,null,null,null,null,null,null,null,null,null,{"$f":"+IF(AE536=\"\",\"\",MAX(AA$1:AA535)+1)","v":""},{"$f":"IF(#REF!=\"\",\"\",#REF!)","v":{"$error":"#REF!"}},{"$f":"IF(#REF!=\"\",\"\",#REF!)","v":{"$error":"#REF!"}},{"$error":"#REF!"},{"$f":"IF(COUNTIF(AC$2:AC536,AC536)=1,AC536,\"\")","v":""},"","",null,null,null,null,null,null,null,{"$f":"+IF(AT536=\"\",\"\",MAX(AO$1:AO535)+1)","v":""},{"$f":"IF(Deviation_Limits!B558=\"\",\"\",Deviation_Limits!B558)","v":""},{"$f":"IF(Deviation_Limits!C558=\"\",\"\",Deviation_Limits!C558)","v":""},{"$f":"IF(Deviation_Limits!D558=\"\",\"\",Deviation_Limits!D558)","v":""},"",{"$f":"IF(COUNTIF(AQ$2:AQ536,AQ536)=1,AQ536,\"\")","v":""},"","","",null,{"$f":"+IF(BD536=\"\",\"\",MAX(AY$1:AY535)+1)","v":""},{"$f":"IF(Deviation_CEM_CPMS!B558=\"\",\"\",Deviation_CEM_CPMS!B558)","v":""},{"$f":"IF(Deviation_CEM_CPMS!C558=\"\",\"\",Deviation_CEM_CPMS!C558)","v":""},{"$f":"IF(Deviation_CEM_CPMS!D558=\"\",\"\",Deviation_CEM_CPMS!D558)","v":""},"",{"$f":"IF(COUNTIF(BA$2:BA536,BA536)=1,BA536,\"\")","v":""},"","",""]
[null,null,null,null,null,null,null,null,null,null,null,null,null,null,null,null,null,null,null,null,null,null,null,null,null,null,{"$f":"+IF(AE537=\"\",\"\",MAX(AA$1:AA536)+1)","v":""},{"$f":"IF(#REF!=\"\",\"\",#REF!)","v":{"$error":"#REF!"}},{"$f":"IF(#REF!=\"\",\"\",#REF!)","v":{"$error":"#REF!"}},{"$error":"#REF!"},{"$f":"IF(COUNTIF(AC$2:AC537,AC537)=1,AC537,\"\")","v":""},"","",null,null,null,null,null,null,null,{"$f":"+IF(AT537=\"\",\"\",MAX(AO$1:AO536)+1)","v":""},{"$f":"IF(Deviation_Limits!B559=\"\",\"\",Deviation_Limits!B559)","v":""},{"$f":"IF(Deviation_Limits!C559=\"\",\"\",Deviation_Limits!C559)","v":""},{"$f":"IF(Deviation_Limits!D559=\"\",\"\",Deviation_Limits!D559)","v":""},"",{"$f":"IF(COUNTIF(AQ$2:AQ537,AQ537)=1,AQ537,\"\")","v":""},"","","",null,{"$f":"+IF(BD537=\"\",\"\",MAX(AY$1:AY536)+1)","v":""},{"$f":"IF(Deviation_CEM_CPMS!B559=\"\",\"\",Deviation_CEM_CPMS!B559)","v":""},{"$f":"IF(Deviation_CEM_CPMS!C559=\"\",\"\",Deviation_CEM_CPMS!C559)","v":""},{"$f":"IF(Deviation_CEM_CPMS!D559=\"\",\"\",Deviation_CEM_CPMS!D559)","v":""},"",{"$f":"IF(COUNTIF(BA$2:BA537,BA537)=1,BA537,\"\")","v":""},"","",""]
[null,null,null,null,null,null,null,null,null,null,null,null,null,null,null,null,null,null,null,null,null,null,null,null,null,null,{"$f":"+IF(AE538=\"\",\"\",MAX(AA$1:AA537)+1)","v":""},{"$f":"IF(#REF!=\"\",\"\",#REF!)","v":{"$error":"#REF!"}},{"$f":"IF(#REF!=\"\",\"\",#REF!)","v":{"$error":"#REF!"}},{"$error":"#REF!"},{"$f":"IF(COUNTIF(AC$2:AC538,AC538)=1,AC538,\"\")","v":""},"","",null,null,null,null,null,null,null,{"$f":"+IF(AT538=\"\",\"\",MAX(AO$1:AO537)+1)","v":""},{"$f":"IF(Deviation_Limits!B560=\"\",\"\",Deviation_Limits!B560)","v":""},{"$f":"IF(Deviation_Limits!C560=\"\",\"\",Deviation_Limits!C560)","v":""},{"$f":"IF(Deviation_Limits!D560=\"\",\"\",Deviation_Limits!D560)","v":""},"",{"$f":"IF(COUNTIF(AQ$2:AQ538,AQ538)=1,AQ538,\"\")","v":""},"","","",null,{"$f":"+IF(BD538=\"\",\"\",MAX(AY$1:AY537)+1)","v":""},{"$f":"IF(Deviation_CEM_CPMS!B560=\"\",\"\",Deviation_CEM_CPMS!B560)","v":""},{"$f":"IF(Deviation_CEM_CPMS!C560=\"\",\"\",Deviation_CEM_CPMS!C560)","v":""},{"$f":"IF(Deviation_CEM_CPMS!D560=\"\",\"\",Deviation_CEM_CPMS!D560)","v":""},"",{"$f":"IF(COUNTIF(BA$2:BA538,BA538)=1,BA538,\"\")","v":""},"","",""]
[null,null,null,null,null,null,null,null,null,null,null,null,null,null,null,null,null,null,null,null,null,null,null,null,null,null,{"$f":"+IF(AE539=\"\",\"\",MAX(AA$1:AA538)+1)","v":""},{"$f":"IF(#REF!=\"\",\"\",#REF!)","v":{"$error":"#REF!"}},{"$f":"IF(#REF!=\"\",\"\",#REF!)","v":{"$error":"#REF!"}},{"$error":"#REF!"},{"$f":"IF(COUNTIF(AC$2:AC539,AC539)=1,AC539,\"\")","v":""},"","",null,null,null,null,null,null,null,{"$f":"+IF(AT539=\"\",\"\",MAX(AO$1:AO538)+1)","v":""},{"$f":"IF(Deviation_Limits!B561=\"\",\"\",Deviation_Limits!B561)","v":""},{"$f":"IF(Deviation_Limits!C561=\"\",\"\",Deviation_Limits!C561)","v":""},{"$f":"IF(Deviation_Limits!D561=\"\",\"\",Deviation_Limits!D561)","v":""},"",{"$f":"IF(COUNTIF(AQ$2:AQ539,AQ539)=1,AQ539,\"\")","v":""},"","","",null,{"$f":"+IF(BD539=\"\",\"\",MAX(AY$1:AY538)+1)","v":""},{"$f":"IF(Deviation_CEM_CPMS!B561=\"\",\"\",Deviation_CEM_CPMS!B561)","v":""},{"$f":"IF(Deviation_CEM_CPMS!C561=\"\",\"\",Deviation_CEM_CPMS!C561)","v":""},{"$f":"IF(Deviation_CEM_CPMS!D561=\"\",\"\",Deviation_CEM_CPMS!D561)","v":""},"",{"$f":"IF(COUNTIF(BA$2:BA539,BA539)=1,BA539,\"\")","v":""},"","",""]
[null,null,null,null,null,null,null,null,null,null,null,null,null,null,null,null,null,null,null,null,null,null,null,null,null,null,{"$f":"+IF(AE540=\"\",\"\",MAX(AA$1:AA539)+1)","v":""},{"$f":"IF(#REF!=\"\",\"\",#REF!)","v":{"$error":"#REF!"}},{"$f":"IF(#REF!=\"\",\"\",#REF!)","v":{"$error":"#REF!"}},{"$error":"#REF!"},{"$f":"IF(COUNTIF(AC$2:AC540,AC540)=1,AC540,\"\")","v":""},"","",null,null,null,null,null,null,null,{"$f":"+IF(AT540=\"\",\"\",MAX(AO$1:AO539)+1)","v":""},{"$f":"IF(Deviation_Limits!B562=\"\",\"\",Deviation_Limits!B562)","v":""},{"$f":"IF(Deviation_Limits!C562=\"\",\"\",Deviation_Limits!C562)","v":""},{"$f":"IF(Deviation_Limits!D562=\"\",\"\",Deviation_Limits!D562)","v":""},"",{"$f":"IF(COUNTIF(AQ$2:AQ540,AQ540)=1,AQ540,\"\")","v":""},"","","",null,{"$f":"+IF(BD540=\"\",\"\",MAX(AY$1:AY539)+1)","v":""},{"$f":"IF(Deviation_CEM_CPMS!B562=\"\",\"\",Deviation_CEM_CPMS!B562)","v":""},{"$f":"IF(Deviation_CEM_CPMS!C562=\"\",\"\",Deviation_CEM_CPMS!C562)","v":""},{"$f":"IF(Deviation_CEM_CPMS!D562=\"\",\"\",Deviation_CEM_CPMS!D562)","v":""},"",{"$f":"IF(COUNTIF(BA$2:BA540,BA540)=1,BA540,\"\")","v":""},"","",""]
[null,null,null,null,null,null,null,null,null,null,null,null,null,null,null,null,null,null,null,null,null,null,null,null,null,null,{"$f":"+IF(AE541=\"\",\"\",MAX(AA$1:AA540)+1)","v":""},{"$f":"IF(#REF!=\"\",\"\",#REF!)","v":{"$error":"#REF!"}},{"$f":"IF(#REF!=\"\",\"\",#REF!)","v":{"$error":"#REF!"}},{"$error":"#REF!"},{"$f":"IF(COUNTIF(AC$2:AC541,AC541)=1,AC541,\"\")","v":""},"","",null,null,null,null,null,null,null,{"$f":"+IF(AT541=\"\",\"\",MAX(AO$1:AO540)+1)","v":""},{"$f":"IF(Deviation_Limits!B563=\"\",\"\",Deviation_Limits!B563)","v":""},{"$f":"IF(Deviation_Limits!C563=\"\",\"\",Deviation_Limits!C563)","v":""},{"$f":"IF(Deviation_Limits!D563=\"\",\"\",Deviation_Limits!D563)","v":""},"",{"$f":"IF(COUNTIF(AQ$2:AQ541,AQ541)=1,AQ541,\"\")","v":""},"","","",null,{"$f":"+IF(BD541=\"\",\"\",MAX(AY$1:AY540)+1)","v":""},{"$f":"IF(Deviation_CEM_CPMS!B563=\"\",\"\",Deviation_CEM_CPMS!B563)","v":""},{"$f":"IF(Deviation_CEM_CPMS!C563=\"\",\"\",Deviation_CEM_CPMS!C563)","v":""},{"$f":"IF(Deviation_CEM_CPMS!D563=\"\",\"\",Deviation_CEM_CPMS!D563)","v":""},"",{"$f":"IF(COUNTIF(BA$2:BA541,BA541)=1,BA541,\"\")","v":""},"","",""]
[null,null,null,null,null,null,null,null,null,null,null,null,null,null,null,null,null,null,null,null,null,null,null,null,null,null,{"$f":"+IF(AE542=\"\",\"\",MAX(AA$1:AA541)+1)","v":""},{"$f":"IF(#REF!=\"\",\"\",#REF!)","v":{"$error":"#REF!"}},{"$f":"IF(#REF!=\"\",\"\",#REF!)","v":{"$error":"#REF!"}},{"$error":"#REF!"},{"$f":"IF(COUNTIF(AC$2:AC542,AC542)=1,AC542,\"\")","v":""},"","",null,null,null,null,null,null,null,{"$f":"+IF(AT542=\"\",\"\",MAX(AO$1:AO541)+1)","v":""},{"$f":"IF(Deviation_Limits!B564=\"\",\"\",Deviation_Limits!B564)","v":""},{"$f":"IF(Deviation_Limits!C564=\"\",\"\",Deviation_Limits!C564)","v":""},{"$f":"IF(Deviation_Limits!D564=\"\",\"\",Deviation_Limits!D564)","v":""},"",{"$f":"IF(COUNTIF(AQ$2:AQ542,AQ542)=1,AQ542,\"\")","v":""},"","","",null,{"$f":"+IF(BD542=\"\",\"\",MAX(AY$1:AY541)+1)","v":""},{"$f":"IF(Deviation_CEM_CPMS!B564=\"\",\"\",Deviation_CEM_CPMS!B564)","v":""},{"$f":"IF(Deviation_CEM_CPMS!C564=\"\",\"\",Deviation_CEM_CPMS!C564)","v":""},{"$f":"IF(Deviation_CEM_CPMS!D564=\"\",\"\",Deviation_CEM_CPMS!D564)","v":""},"",{"$f":"IF(COUNTIF(BA$2:BA542,BA542)=1,BA542,\"\")","v":""},"","",""]
[null,null,null,null,null,null,null,null,null,null,null,null,null,null,null,null,null,null,null,null,null,null,null,null,null,null,{"$f":"+IF(AE543=\"\",\"\",MAX(AA$1:AA542)+1)","v":""},{"$f":"IF(#REF!=\"\",\"\",#REF!)","v":{"$error":"#REF!"}},{"$f":"IF(#REF!=\"\",\"\",#REF!)","v":{"$error":"#REF!"}},{"$error":"#REF!"},{"$f":"IF(COUNTIF(AC$2:AC543,AC543)=1,AC543,\"\")","v":""},"","",null,null,null,null,null,null,null,{"$f":"+IF(AT543=\"\",\"\",MAX(AO$1:AO542)+1)","v":""},{"$f":"IF(Deviation_Limits!B565=\"\",\"\",Deviation_Limits!B565)","v":""},{"$f":"IF(Deviation_Limits!C565=\"\",\"\",Deviation_Limits!C565)","v":""},{"$f":"IF(Deviation_Limits!D565=\"\",\"\",Deviation_Limits!D565)","v":""},"",{"$f":"IF(COUNTIF(AQ$2:AQ543,AQ543)=1,AQ543,\"\")","v":""},"","","",null,{"$f":"+IF(BD543=\"\",\"\",MAX(AY$1:AY542)+1)","v":""},{"$f":"IF(Deviation_CEM_CPMS!B565=\"\",\"\",Deviation_CEM_CPMS!B565)","v":""},{"$f":"IF(Deviation_CEM_CPMS!C565=\"\",\"\",Deviation_CEM_CPMS!C565)","v":""},{"$f":"IF(Deviation_CEM_CPMS!D565=\"\",\"\",Deviation_CEM_CPMS!D565)","v":""},"",{"$f":"IF(COUNTIF(BA$2:BA543,BA543)=1,BA543,\"\")","v":""},"","",""]
[null,null,null,null,null,null,null,null,null,null,null,null,null,null,null,null,null,null,null,null,null,null,null,null,null,null,{"$f":"+IF(AE544=\"\",\"\",MAX(AA$1:AA543)+1)","v":""},{"$f":"IF(#REF!=\"\",\"\",#REF!)","v":{"$error":"#REF!"}},{"$f":"IF(#REF!=\"\",\"\",#REF!)","v":{"$error":"#REF!"}},{"$f":"+AB544&AC544","v":{"$error":"#REF!"}},{"$f":"IF(COUNTIF(AC$2:AC544,AC544)=1,AC544,\"\")","v":""},"","",null,null,null,null,null,null,null,{"$f":"+IF(AT544=\"\",\"\",MAX(AO$1:AO543)+1)","v":""},{"$f":"IF(Deviation_Limits!B566=\"\",\"\",Deviation_Limits!B566)","v":""},{"$f":"IF(Deviation_Limits!C566=\"\",\"\",Deviation_Limits!C566)","v":""},{"$f":"IF(Deviation_Limits!D566=\"\",\"\",Deviation_Limits!D566)","v":""},"",{"$f":"IF(COUNTIF(AQ$2:AQ544,AQ544)=1,AQ544,\"\")","v":""},"","","",null,{"$f":"+IF(BD544=\"\",\"\",MAX(AY$1:AY543)+1)","v":""},{"$f":"IF(Deviation_CEM_CPMS!B566=\"\",\"\",Deviation_CEM_CPMS!B566)","v":""},{"$f":"IF(Deviation_CEM_CPMS!C566=\"\",\"\",Deviation_CEM_CPMS!C566)","v":""},{"$f":"IF(Deviation_CEM_CPMS!D566=\"\",\"\",Deviation_CEM_CPMS!D566)","v":""},"",{"$f":"IF(COUNTIF(BA$2:BA544,BA544)=1,BA544,\"\")","v":""},"","",""]
[null,null,null,null,null,null,null,null,null,null,null,null,null,null,null,null,null,null,null,null,null,null,null,null,null,null,{"$f":"+IF(AE545=\"\",\"\",MAX(AA$1:AA544)+1)","v":""},{"$f":"IF(#REF!=\"\",\"\",#REF!)","v":{"$error":"#REF!"}},{"$f":"IF(#REF!=\"\",\"\",#REF!)","v":{"$error":"#REF!"}},{"$error":"#REF!"},{"$f":"IF(COUNTIF(AC$2:AC545,AC545)=1,AC545,\"\")","v":""},"","",null,null,null,null,null,null,null,{"$f":"+IF(AT545=\"\",\"\",MAX(AO$1:AO544)+1)","v":""},{"$f":"IF(Deviation_Limits!B567=\"\",\"\",Deviation_Limits!B567)","v":""},{"$f":"IF(Deviation_Limits!C567=\"\",\"\",Deviation_Limits!C567)","v":""},{"$f":"IF(Deviation_Limits!D567=\"\",\"\",Deviation_Limits!D567)","v":""},"",{"$f":"IF(COUNTIF(AQ$2:AQ545,AQ545)=1,AQ545,\"\")","v":""},"","","",null,{"$f":"+IF(BD545=\"\",\"\",MAX(AY$1:AY544)+1)","v":""},{"$f":"IF(Deviation_CEM_CPMS!B567=\"\",\"\",Deviation_CEM_CPMS!B567)","v":""},{"$f":"IF(Deviation_CEM_CPMS!C567=\"\",\"\",Deviation_CEM_CPMS!C567)","v":""},{"$f":"IF(Deviation_CEM_CPMS!D567=\"\",\"\",Deviation_CEM_CPMS!D567)","v":""},"",{"$f":"IF(COUNTIF(BA$2:BA545,BA545)=1,BA545,\"\")","v":""},"","",""]
[null,null,null,null,null,null,null,null,null,null,null,null,null,null,null,null,null,null,null,null,null,null,null,null,null,null,{"$f":"+IF(AE546=\"\",\"\",MAX(AA$1:AA545)+1)","v":""},{"$f":"IF(#REF!=\"\",\"\",#REF!)","v":{"$error":"#REF!"}},{"$f":"IF(#REF!=\"\",\"\",#REF!)","v":{"$error":"#REF!"}},{"$error":"#REF!"},{"$f":"IF(COUNTIF(AC$2:AC546,AC546)=1,AC546,\"\")","v":""},"","",null,null,null,null,null,null,null,{"$f":"+IF(AT546=\"\",\"\",MAX(AO$1:AO545)+1)","v":""},{"$f":"IF(Deviation_Limits!B568=\"\",\"\",Deviation_Limits!B568)","v":""},{"$f":"IF(Deviation_Limits!C568=\"\",\"\",Deviation_Limits!C568)","v":""},{"$f":"IF(Deviation_Limits!D568=\"\",\"\",Deviation_Limits!D568)","v":""},"",{"$f":"IF(COUNTIF(AQ$2:AQ546,AQ546)=1,AQ546,\"\")","v":""},"","","",null,{"$f":"+IF(BD546=\"\",\"\",MAX(AY$1:AY545)+1)","v":""},{"$f":"IF(Deviation_CEM_CPMS!B568=\"\",\"\",Deviation_CEM_CPMS!B568)","v":""},{"$f":"IF(Deviation_CEM_CPMS!C568=\"\",\"\",Deviation_CEM_CPMS!C568)","v":""},{"$f":"IF(Deviation_CEM_CPMS!D568=\"\",\"\",Deviation_CEM_CPMS!D568)","v":""},"",{"$f":"IF(COUNTIF(BA$2:BA546,BA546)=1,BA546,\"\")","v":""},"","",""]
[null,null,null,null,null,null,null,null,null,null,null,null,null,null,null,null,null,null,null,null,null,null,null,null,null,null,{"$f":"+IF(AE547=\"\",\"\",MAX(AA$1:AA546)+1)","v":""},{"$f":"IF(#REF!=\"\",\"\",#REF!)","v":{"$error":"#REF!"}},{"$f":"IF(#REF!=\"\",\"\",#REF!)","v":{"$error":"#REF!"}},{"$error":"#REF!"},{"$f":"IF(COUNTIF(AC$2:AC547,AC547)=1,AC547,\"\")","v":""},"","",null,null,null,null,null,null,null,{"$f":"+IF(AT547=\"\",\"\",MAX(AO$1:AO546)+1)","v":""},{"$f":"IF(Deviation_Limits!B569=\"\",\"\",Deviation_Limits!B569)","v":""},{"$f":"IF(Deviation_Limits!C569=\"\",\"\",Deviation_Limits!C569)","v":""},{"$f":"IF(Deviation_Limits!D569=\"\",\"\",Deviation_Limits!D569)","v":""},"",{"$f":"IF(COUNTIF(AQ$2:AQ547,AQ547)=1,AQ547,\"\")","v":""},"","","",null,{"$f":"+IF(BD547=\"\",\"\",MAX(AY$1:AY546)+1)","v":""},{"$f":"IF(Deviation_CEM_CPMS!B569=\"\",\"\",Deviation_CEM_CPMS!B569)","v":""},{"$f":"IF(Deviation_CEM_CPMS!C569=\"\",\"\",Deviation_CEM_CPMS!C569)","v":""},{"$f":"IF(Deviation_CEM_CPMS!D569=\"\",\"\",Deviation_CEM_CPMS!D569)","v":""},"",{"$f":"IF(COUNTIF(BA$2:BA547,BA547)=1,BA547,\"\")","v":""},"","",""]
[null,null,null,null,null,null,null,null,null,null,null,null,null,null,null,null,null,null,null,null,null,null,null,null,null,null,{"$f":"+IF(AE548=\"\",\"\",MAX(AA$1:AA547)+1)","v":""},{"$f":"IF(#REF!=\"\",\"\",#REF!)","v":{"$error":"#REF!"}},{"$f":"IF(#REF!=\"\",\"\",#REF!)","v":{"$error":"#REF!"}},{"$error":"#REF!"},{"$f":"IF(COUNTIF(AC$2:AC548,AC548)=1,AC548,\"\")","v":""},"","",null,null,null,null,null,null,null,{"$f":"+IF(AT548=\"\",\"\",MAX(AO$1:AO547)+1)","v":""},{"$f":"IF(Deviation_Limits!B570=\"\",\"\",Deviation_Limits!B570)","v":""},{"$f":"IF(Deviation_Limits!C570=\"\",\"\",Deviation_Limits!C570)","v":""},{"$f":"IF(Deviation_Limits!D570=\"\",\"\",Deviation_Limits!D570)","v":""},"",{"$f":"IF(COUNTIF(AQ$2:AQ548,AQ548)=1,AQ548,\"\")","v":""},"","","",null,{"$f":"+IF(BD548=\"\",\"\",MAX(AY$1:AY547)+1)","v":""},{"$f":"IF(Deviation_CEM_CPMS!B570=\"\",\"\",Deviation_CEM_CPMS!B570)","v":""},{"$f":"IF(Deviation_CEM_CPMS!C570=\"\",\"\",Deviation_CEM_CPMS!C570)","v":""},{"$f":"IF(Deviation_CEM_CPMS!D570=\"\",\"\",Deviation_CEM_CPMS!D570)","v":""},"",{"$f":"IF(COUNTIF(BA$2:BA548,BA548)=1,BA548,\"\")","v":""},"","",""]
[null,null,null,null,null,null,null,null,null,null,null,null,null,null,null,null,null,null,null,null,null,null,null,null,null,null,{"$f":"+IF(AE549=\"\",\"\",MAX(AA$1:AA548)+1)","v":""},{"$f":"IF(#REF!=\"\",\"\",#REF!)","v":{"$error":"#REF!"}},{"$f":"IF(#REF!=\"\",\"\",#REF!)","v":{"$error":"#REF!"}},{"$error":"#REF!"},{"$f":"IF(COUNTIF(AC$2:AC549,AC549)=1,AC549,\"\")","v":""},"","",null,null,null,null,null,null,null,{"$f":"+IF(AT549=\"\",\"\",MAX(AO$1:AO548)+1)","v":""},{"$f":"IF(Deviation_Limits!B571=\"\",\"\",Deviation_Limits!B571)","v":""},{"$f":"IF(Deviation_Limits!C571=\"\",\"\",Deviation_Limits!C571)","v":""},{"$f":"IF(Deviation_Limits!D571=\"\",\"\",Deviation_Limits!D571)","v":""},"",{"$f":"IF(COUNTIF(AQ$2:AQ549,AQ549)=1,AQ549,\"\")","v":""},"","","",null,{"$f":"+IF(BD549=\"\",\"\",MAX(AY$1:AY548)+1)","v":""},{"$f":"IF(Deviation_CEM_CPMS!B571=\"\",\"\",Deviation_CEM_CPMS!B571)","v":""},{"$f":"IF(Deviation_CEM_CPMS!C571=\"\",\"\",Deviation_CEM_CPMS!C571)","v":""},{"$f":"IF(Deviation_CEM_CPMS!D571=\"\",\"\",Deviation_CEM_CPMS!D571)","v":""},"",{"$f":"IF(COUNTIF(BA$2:BA549,BA549)=1,BA549,\"\")","v":""},"","",""]
[null,null,null,null,null,null,null,null,null,null,null,null,null,null,null,null,null,null,null,null,null,null,null,null,null,null,{"$f":"+IF(AE550=\"\",\"\",MAX(AA$1:AA549)+1)","v":""},{"$f":"IF(#REF!=\"\",\"\",#REF!)","v":{"$error":"#REF!"}},{"$f":"IF(#REF!=\"\",\"\",#REF!)","v":{"$error":"#REF!"}},{"$error":"#REF!"},{"$f":"IF(COUNTIF(AC$2:AC550,AC550)=1,AC550,\"\")","v":""},"","",null,null,null,null,null,null,null,{"$f":"+IF(AT550=\"\",\"\",MAX(AO$1:AO549)+1)","v":""},{"$f":"IF(Deviation_Limits!B572=\"\",\"\",Deviation_Limits!B572)","v":""},{"$f":"IF(Deviation_Limits!C572=\"\",\"\",Deviation_Limits!C572)","v":""},{"$f":"IF(Deviation_Limits!D572=\"\",\"\",Deviation_Limits!D572)","v":""},"",{"$f":"IF(COUNTIF(AQ$2:AQ550,AQ550)=1,AQ550,\"\")","v":""},"","","",null,{"$f":"+IF(BD550=\"\",\"\",MAX(AY$1:AY549)+1)","v":""},{"$f":"IF(Deviation_CEM_CPMS!B572=\"\",\"\",Deviation_CEM_CPMS!B572)","v":""},{"$f":"IF(Deviation_CEM_CPMS!C572=\"\",\"\",Deviation_CEM_CPMS!C572)","v":""},{"$f":"IF(Deviation_CEM_CPMS!D572=\"\",\"\",Deviation_CEM_CPMS!D572)","v":""},"",{"$f":"IF(COUNTIF(BA$2:BA550,BA550)=1,BA550,\"\")","v":""},"","",""]
[null,null,null,null,null,null,null,null,null,null,null,null,null,null,null,null,null,null,null,null,null,null,null,null,null,null,{"$f":"+IF(AE551=\"\",\"\",MAX(AA$1:AA550)+1)","v":""},{"$f":"IF(#REF!=\"\",\"\",#REF!)","v":{"$error":"#REF!"}},{"$f":"IF(#REF!=\"\",\"\",#REF!)","v":{"$error":"#REF!"}},{"$error":"#REF!"},{"$f":"IF(COUNTIF(AC$2:AC551,AC551)=1,AC551,\"\")","v":""},"","",null,null,null,null,null,null,null,{"$f":"+IF(AT551=\"\",\"\",MAX(AO$1:AO550)+1)","v":""},{"$f":"IF(Deviation_Limits!B573=\"\",\"\",Deviation_Limits!B573)","v":""},{"$f":"IF(Deviation_Limits!C573=\"\",\"\",Deviation_Limits!C573)","v":""},{"$f":"IF(Deviation_Limits!D573=\"\",\"\",Deviation_Limits!D573)","v":""},"",{"$f":"IF(COUNTIF(AQ$2:AQ551,AQ551)=1,AQ551,\"\")","v":""},"","","",null,{"$f":"+IF(BD551=\"\",\"\",MAX(AY$1:AY550)+1)","v":""},{"$f":"IF(Deviation_CEM_CPMS!B573=\"\",\"\",Deviation_CEM_CPMS!B573)","v":""},{"$f":"IF(Deviation_CEM_CPMS!C573=\"\",\"\",Deviation_CEM_CPMS!C573)","v":""},{"$f":"IF(Deviation_CEM_CPMS!D573=\"\",\"\",Deviation_CEM_CPMS!D573)","v":""},"",{"$f":"IF(COUNTIF(BA$2:BA551,BA551)=1,BA551,\"\")","v":""},"","",""]
[null,null,null,null,null,null,null,null,null,null,null,null,null,null,null,null,null,null,null,null,null,null,null,null,null,null,{"$f":"+IF(AE552=\"\",\"\",MAX(AA$1:AA551)+1)","v":""},{"$f":"IF(#REF!=\"\",\"\",#REF!)","v":{"$error":"#REF!"}},{"$f":"IF(#REF!=\"\",\"\",#REF!)","v":{"$error":"#REF!"}},{"$error":"#REF!"},{"$f":"IF(COUNTIF(AC$2:AC552,AC552)=1,AC552,\"\")","v":""},"","",null,null,null,null,null,null,null,{"$f":"+IF(AT552=\"\",\"\",MAX(AO$1:AO551)+1)","v":""},{"$f":"IF(Deviation_Limits!B574=\"\",\"\",Deviation_Limits!B574)","v":""},{"$f":"IF(Deviation_Limits!C574=\"\",\"\",Deviation_Limits!C574)","v":""},{"$f":"IF(Deviation_Limits!D574=\"\",\"\",Deviation_Limits!D574)","v":""},"",{"$f":"IF(COUNTIF(AQ$2:AQ552,AQ552)=1,AQ552,\"\")","v":""},"","","",null,{"$f":"+IF(BD552=\"\",\"\",MAX(AY$1:AY551)+1)","v":""},{"$f":"IF(Deviation_CEM_CPMS!B574=\"\",\"\",Deviation_CEM_CPMS!B574)","v":""},{"$f":"IF(Deviation_CEM_CPMS!C574=\"\",\"\",Deviation_CEM_CPMS!C574)","v":""},{"$f":"IF(Deviation_CEM_CPMS!D574=\"\",\"\",Deviation_CEM_CPMS!D574)","v":""},"",{"$f":"IF(COUNTIF(BA$2:BA552,BA552)=1,BA552,\"\")","v":""},"","",""]
[null,null,null,null,null,null,null,null,null,null,null,null,null,null,null,null,null,null,null,null,null,null,null,null,null,null,{"$f":"+IF(AE553=\"\",\"\",MAX(AA$1:AA552)+1)","v":""},{"$f":"IF(#REF!=\"\",\"\",#REF!)","v":{"$error":"#REF!"}},{"$f":"IF(#REF!=\"\",\"\",#REF!)","v":{"$error":"#REF!"}},{"$error":"#REF!"},{"$f":"IF(COUNTIF(AC$2:AC553,AC553)=1,AC553,\"\")","v":""},"","",null,null,null,null,null,null,null,{"$f":"+IF(AT553=\"\",\"\",MAX(AO$1:AO552)+1)","v":""},{"$f":"IF(Deviation_Limits!B575=\"\",\"\",Deviation_Limits!B575)","v":""},{"$f":"IF(Deviation_Limits!C575=\"\",\"\",Deviation_Limits!C575)","v":""},{"$f":"IF(Deviation_Limits!D575=\"\",\"\",Deviation_Limits!D575)","v":""},"",{"$f":"IF(COUNTIF(AQ$2:AQ553,AQ553)=1,AQ553,\"\")","v":""},"","","",null,{"$f":"+IF(BD553=\"\",\"\",MAX(AY$1:AY552)+1)","v":""},{"$f":"IF(Deviation_CEM_CPMS!B575=\"\",\"\",Deviation_CEM_CPMS!B575)","v":""},{"$f":"IF(Deviation_CEM_CPMS!C575=\"\",\"\",Deviation_CEM_CPMS!C575)","v":""},{"$f":"IF(Deviation_CEM_CPMS!D575=\"\",\"\",Deviation_CEM_CPMS!D575)","v":""},"",{"$f":"IF(COUNTIF(BA$2:BA553,BA553)=1,BA553,\"\")","v":""},"","",""]
[null,null,null,null,null,null,null,null,null,null,null,null,null,null,null,null,null,null,null,null,null,null,null,null,null,null,{"$f":"+IF(AE554=\"\",\"\",MAX(AA$1:AA553)+1)","v":""},{"$f":"IF(#REF!=\"\",\"\",#REF!)","v":{"$error":"#REF!"}},{"$f":"IF(#REF!=\"\",\"\",#REF!)","v":{"$error":"#REF!"}},{"$error":"#REF!"},{"$f":"IF(COUNTIF(AC$2:AC554,AC554)=1,AC554,\"\")","v":""},"","",null,null,null,null,null,null,null,{"$f":"+IF(AT554=\"\",\"\",MAX(AO$1:AO553)+1)","v":""},{"$f":"IF(Deviation_Limits!B576=\"\",\"\",Deviation_Limits!B576)","v":""},{"$f":"IF(Deviation_Limits!C576=\"\",\"\",Deviation_Limits!C576)","v":""},{"$f":"IF(Deviation_Limits!D576=\"\",\"\",Deviation_Limits!D576)","v":""},"",{"$f":"IF(COUNTIF(AQ$2:AQ554,AQ554)=1,AQ554,\"\")","v":""},"","","",null,{"$f":"+IF(BD554=\"\",\"\",MAX(AY$1:AY553)+1)","v":""},{"$f":"IF(Deviation_CEM_CPMS!B576=\"\",\"\",Deviation_CEM_CPMS!B576)","v":""},{"$f":"IF(Deviation_CEM_CPMS!C576=\"\",\"\",Deviation_CEM_CPMS!C576)","v":""},{"$f":"IF(Deviation_CEM_CPMS!D576=\"\",\"\",Deviation_CEM_CPMS!D576)","v":""},"",{"$f":"IF(COUNTIF(BA$2:BA554,BA554)=1,BA554,\"\")","v":""},"","",""]
[null,null,null,null,null,null,null,null,null,null,null,null,null,null,null,null,null,null,null,null,null,null,null,null,null,null,{"$f":"+IF(AE555=\"\",\"\",MAX(AA$1:AA554)+1)","v":""},{"$f":"IF(#REF!=\"\",\"\",#REF!)","v":{"$error":"#REF!"}},{"$f":"IF(#REF!=\"\",\"\",#REF!)","v":{"$error":"#REF!"}},{"$error":"#REF!"},{"$f":"IF(COUNTIF(AC$2:AC555,AC555)=1,AC555,\"\")","v":""},"","",null,null,null,null,null,null,null,{"$f":"+IF(AT555=\"\",\"\",MAX(AO$1:AO554)+1)","v":""},{"$f":"IF(Deviation_Limits!B577=\"\",\"\",Deviation_Limits!B577)","v":""},{"$f":"IF(Deviation_Limits!C577=\"\",\"\",Deviation_Limits!C577)","v":""},{"$f":"IF(Deviation_Limits!D577=\"\",\"\",Deviation_Limits!D577)","v":""},"",{"$f":"IF(COUNTIF(AQ$2:AQ555,AQ555)=1,AQ555,\"\")","v":""},"","","",null,{"$f":"+IF(BD555=\"\",\"\",MAX(AY$1:AY554)+1)","v":""},{"$f":"IF(Deviation_CEM_CPMS!B577=\"\",\"\",Deviation_CEM_CPMS!B577)","v":""},{"$f":"IF(Deviation_CEM_CPMS!C577=\"\",\"\",Deviation_CEM_CPMS!C577)","v":""},{"$f":"IF(Deviation_CEM_CPMS!D577=\"\",\"\",Deviation_CEM_CPMS!D577)","v":""},"",{"$f":"IF(COUNTIF(BA$2:BA555,BA555)=1,BA555,\"\")","v":""},"","",""]
[null,null,null,null,null,null,null,null,null,null,null,null,null,null,null,null,null,null,null,null,null,null,null,null,null,null,{"$f":"+IF(AE556=\"\",\"\",MAX(AA$1:AA555)+1)","v":""},{"$f":"IF(#REF!=\"\",\"\",#REF!)","v":{"$error":"#REF!"}},{"$f":"IF(#REF!=\"\",\"\",#REF!)","v":{"$error":"#REF!"}},{"$error":"#REF!"},{"$f":"IF(COUNTIF(AC$2:AC556,AC556)=1,AC556,\"\")","v":""},"","",null,null,null,null,null,null,null,{"$f":"+IF(AT556=\"\",\"\",MAX(AO$1:AO555)+1)","v":""},{"$f":"IF(Deviation_Limits!B578=\"\",\"\",Deviation_Limits!B578)","v":""},{"$f":"IF(Deviation_Limits!C578=\"\",\"\",Deviation_Limits!C578)","v":""},{"$f":"IF(Deviation_Limits!D578=\"\",\"\",Deviation_Limits!D578)","v":""},"",{"$f":"IF(COUNTIF(AQ$2:AQ556,AQ556)=1,AQ556,\"\")","v":""},"","","",null,{"$f":"+IF(BD556=\"\",\"\",MAX(AY$1:AY555)+1)","v":""},{"$f":"IF(Deviation_CEM_CPMS!B578=\"\",\"\",Deviation_CEM_CPMS!B578)","v":""},{"$f":"IF(Deviation_CEM_CPMS!C578=\"\",\"\",Deviation_CEM_CPMS!C578)","v":""},{"$f":"IF(Deviation_CEM_CPMS!D578=\"\",\"\",Deviation_CEM_CPMS!D578)","v":""},"",{"$f":"IF(COUNTIF(BA$2:BA556,BA556)=1,BA556,\"\")","v":""},"","",""]
[null,null,null,null,null,null,null,null,null,null,null,null,null,null,null,null,null,null,null,null,null,null,null,null,null,null,{"$f":"+IF(AE557=\"\",\"\",MAX(AA$1:AA556)+1)","v":""},{"$f":"IF(#REF!=\"\",\"\",#REF!)","v":{"$error":"#REF!"}},{"$f":"IF(#REF!=\"\",\"\",#REF!)","v":{"$error":"#REF!"}},{"$error":"#REF!"},{"$f":"IF(COUNTIF(AC$2:AC557,AC557)=1,AC557,\"\")","v":""},"","",null,null,null,null,null,null,null,{"$f":"+IF(AT557=\"\",\"\",MAX(AO$1:AO556)+1)","v":""},{"$f":"IF(Deviation_Limits!B579=\"\",\"\",Deviation_Limits!B579)","v":""},{"$f":"IF(Deviation_Limits!C579=\"\",\"\",Deviation_Limits!C579)","v":""},{"$f":"IF(Deviation_Limits!D579=\"\",\"\",Deviation_Limits!D579)","v":""},"",{"$f":"IF(COUNTIF(AQ$2:AQ557,AQ557)=1,AQ557,\"\")","v":""},"","","",null,{"$f":"+IF(BD557=\"\",\"\",MAX(AY$1:AY556)+1)","v":""},{"$f":"IF(Deviation_CEM_CPMS!B579=\"\",\"\",Deviation_CEM_CPMS!B579)","v":""},{"$f":"IF(Deviation_CEM_CPMS!C579=\"\",\"\",Deviation_CEM_CPMS!C579)","v":""},{"$f":"IF(Deviation_CEM_CPMS!D579=\"\",\"\",Deviation_CEM_CPMS!D579)","v":""},"",{"$f":"IF(COUNTIF(BA$2:BA557,BA557)=1,BA557,\"\")","v":""},"","",""]
[null,null,null,null,null,null,null,null,null,null,null,null,null,null,null,null,null,null,null,null,null,null,null,null,null,null,{"$f":"+IF(AE558=\"\",\"\",MAX(AA$1:AA557)+1)","v":""},{"$f":"IF(#REF!=\"\",\"\",#REF!)","v":{"$error":"#REF!"}},{"$f":"IF(#REF!=\"\",\"\",#REF!)","v":{"$error":"#REF!"}},{"$error":"#REF!"},{"$f":"IF(COUNTIF(AC$2:AC558,AC558)=1,AC558,\"\")","v":""},"","",null,null,null,null,null,null,null,{"$f":"+IF(AT558=\"\",\"\",MAX(AO$1:AO557)+1)","v":""},{"$f":"IF(Deviation_Limits!B580=\"\",\"\",Deviation_Limits!B580)","v":""},{"$f":"IF(Deviation_Limits!C580=\"\",\"\",Deviation_Limits!C580)","v":""},{"$f":"IF(Deviation_Limits!D580=\"\",\"\",Deviation_Limits!D580)","v":""},"",{"$f":"IF(COUNTIF(AQ$2:AQ558,AQ558)=1,AQ558,\"\")","v":""},"","","",null,{"$f":"+IF(BD558=\"\",\"\",MAX(AY$1:AY557)+1)","v":""},{"$f":"IF(Deviation_CEM_CPMS!B580=\"\",\"\",Deviation_CEM_CPMS!B580)","v":""},{"$f":"IF(Deviation_CEM_CPMS!C580=\"\",\"\",Deviation_CEM_CPMS!C580)","v":""},{"$f":"IF(Deviation_CEM_CPMS!D580=\"\",\"\",Deviation_CEM_CPMS!D580)","v":""},"",{"$f":"IF(COUNTIF(BA$2:BA558,BA558)=1,BA558,\"\")","v":""},"","",""]
[null,null,null,null,null,null,null,null,null,null,null,null,null,null,null,null,null,null,null,null,null,null,null,null,null,null,{"$f":"+IF(AE559=\"\",\"\",MAX(AA$1:AA558)+1)","v":""},{"$f":"IF(#REF!=\"\",\"\",#REF!)","v":{"$error":"#REF!"}},{"$f":"IF(#REF!=\"\",\"\",#REF!)","v":{"$error":"#REF!"}},{"$error":"#REF!"},{"$f":"IF(COUNTIF(AC$2:AC559,AC559)=1,AC559,\"\")","v":""},"","",null,null,null,null,null,null,null,{"$f":"+IF(AT559=\"\",\"\",MAX(AO$1:AO558)+1)","v":""},{"$f":"IF(Deviation_Limits!B581=\"\",\"\",Deviation_Limits!B581)","v":""},{"$f":"IF(Deviation_Limits!C581=\"\",\"\",Deviation_Limits!C581)","v":""},{"$f":"IF(Deviation_Limits!D581=\"\",\"\",Deviation_Limits!D581)","v":""},"",{"$f":"IF(COUNTIF(AQ$2:AQ559,AQ559)=1,AQ559,\"\")","v":""},"","","",null,{"$f":"+IF(BD559=\"\",\"\",MAX(AY$1:AY558)+1)","v":""},{"$f":"IF(Deviation_CEM_CPMS!B581=\"\",\"\",Deviation_CEM_CPMS!B581)","v":""},{"$f":"IF(Deviation_CEM_CPMS!C581=\"\",\"\",Deviation_CEM_CPMS!C581)","v":""},{"$f":"IF(Deviation_CEM_CPMS!D581=\"\",\"\",Deviation_CEM_CPMS!D581)","v":""},"",{"$f":"IF(COUNTIF(BA$2:BA559,BA559)=1,BA559,\"\")","v":""},"","",""]
[null,null,null,null,null,null,null,null,null,null,null,null,null,null,null,null,null,null,null,null,null,null,null,null,null,null,{"$f":"+IF(AE560=\"\",\"\",MAX(AA$1:AA559)+1)","v":""},{"$f":"IF(#REF!=\"\",\"\",#REF!)","v":{"$error":"#REF!"}},{"$f":"IF(#REF!=\"\",\"\",#REF!)","v":{"$error":"#REF!"}},{"$error":"#REF!"},{"$f":"IF(COUNTIF(AC$2:AC560,AC560)=1,AC560,\"\")","v":""},"","",null,null,null,null,null,null,null,{"$f":"+IF(AT560=\"\",\"\",MAX(AO$1:AO559)+1)","v":""},{"$f":"IF(Deviation_Limits!B582=\"\",\"\",Deviation_Limits!B582)","v":""},{"$f":"IF(Deviation_Limits!C582=\"\",\"\",Deviation_Limits!C582)","v":""},{"$f":"IF(Deviation_Limits!D582=\"\",\"\",Deviation_Limits!D582)","v":""},"",{"$f":"IF(COUNTIF(AQ$2:AQ560,AQ560)=1,AQ560,\"\")","v":""},"","","",null,{"$f":"+IF(BD560=\"\",\"\",MAX(AY$1:AY559)+1)","v":""},{"$f":"IF(Deviation_CEM_CPMS!B582=\"\",\"\",Deviation_CEM_CPMS!B582)","v":""},{"$f":"IF(Deviation_CEM_CPMS!C582=\"\",\"\",Deviation_CEM_CPMS!C582)","v":""},{"$f":"IF(Deviation_CEM_CPMS!D582=\"\",\"\",Deviation_CEM_CPMS!D582)","v":""},"",{"$f":"IF(COUNTIF(BA$2:BA560,BA560)=1,BA560,\"\")","v":""},"","",""]
[null,null,null,null,null,null,null,null,null,null,null,null,null,null,null,null,null,null,null,null,null,null,null,null,null,null,{"$f":"+IF(AE561=\"\",\"\",MAX(AA$1:AA560)+1)","v":""},{"$f":"IF(#REF!=\"\",\"\",#REF!)","v":{"$error":"#REF!"}},{"$f":"IF(#REF!=\"\",\"\",#REF!)","v":{"$error":"#REF!"}},{"$error":"#REF!"},{"$f":"IF(COUNTIF(AC$2:AC561,AC561)=1,AC561,\"\")","v":""},"","",null,null,null,null,null,null,null,{"$f":"+IF(AT561=\"\",\"\",MAX(AO$1:AO560)+1)","v":""},{"$f":"IF(Deviation_Limits!B583=\"\",\"\",Deviation_Limits!B583)","v":""},{"$f":"IF(Deviation_Limits!C583=\"\",\"\",Deviation_Limits!C583)","v":""},{"$f":"IF(Deviation_Limits!D583=\"\",\"\",Deviation_Limits!D583)","v":""},"",{"$f":"IF(COUNTIF(AQ$2:AQ561,AQ561)=1,AQ561,\"\")","v":""},"","","",null,{"$f":"+IF(BD561=\"\",\"\",MAX(AY$1:AY560)+1)","v":""},{"$f":"IF(Deviation_CEM_CPMS!B583=\"\",\"\",Deviation_CEM_CPMS!B583)","v":""},{"$f":"IF(Deviation_CEM_CPMS!C583=\"\",\"\",Deviation_CEM_CPMS!C583)","v":""},{"$f":"IF(Deviation_CEM_CPMS!D583=\"\",\"\",Deviation_CEM_CPMS!D583)","v":""},"",{"$f":"IF(COUNTIF(BA$2:BA561,BA561)=1,BA561,\"\")","v":""},"","",""]
[null,null,null,null,null,null,null,null,null,null,null,null,null,null,null,null,null,null,null,null,null,null,null,null,null,null,{"$f":"+IF(AE562=\"\",\"\",MAX(AA$1:AA561)+1)","v":""},{"$f":"IF(#REF!=\"\",\"\",#REF!)","v":{"$error":"#REF!"}},{"$f":"IF(#REF!=\"\",\"\",#REF!)","v":{"$error":"#REF!"}},{"$error":"#REF!"},{"$f":"IF(COUNTIF(AC$2:AC562,AC562)=1,AC562,\"\")","v":""},"","",null,null,null,null,null,null,null,{"$f":"+IF(AT562=\"\",\"\",MAX(AO$1:AO561)+1)","v":""},{"$f":"IF(Deviation_Limits!B584=\"\",\"\",Deviation_Limits!B584)","v":""},{"$f":"IF(Deviation_Limits!C584=\"\",\"\",Deviation_Limits!C584)","v":""},{"$f":"IF(Deviation_Limits!D584=\"\",\"\",Deviation_Limits!D584)","v":""},"",{"$f":"IF(COUNTIF(AQ$2:AQ562,AQ562)=1,AQ562,\"\")","v":""},"","","",null,{"$f":"+IF(BD562=\"\",\"\",MAX(AY$1:AY561)+1)","v":""},{"$f":"IF(Deviation_CEM_CPMS!B584=\"\",\"\",Deviation_CEM_CPMS!B584)","v":""},{"$f":"IF(Deviation_CEM_CPMS!C584=\"\",\"\",Deviation_CEM_CPMS!C584)","v":""},{"$f":"IF(Deviation_CEM_CPMS!D584=\"\",\"\",Deviation_CEM_CPMS!D584)","v":""},"",{"$f":"IF(COUNTIF(BA$2:BA562,BA562)=1,BA562,\"\")","v":""},"","",""]
[null,null,null,null,null,null,null,null,null,null,null,null,null,null,null,null,null,null,null,null,null,null,null,null,null,null,{"$f":"+IF(AE563=\"\",\"\",MAX(AA$1:AA562)+1)","v":""},{"$f":"IF(#REF!=\"\",\"\",#REF!)","v":{"$error":"#REF!"}},{"$f":"IF(#REF!=\"\",\"\",#REF!)","v":{"$error":"#REF!"}},{"$error":"#REF!"},{"$f":"IF(COUNTIF(AC$2:AC563,AC563)=1,AC563,\"\")","v":""},"","",null,null,null,null,null,null,null,{"$f":"+IF(AT563=\"\",\"\",MAX(AO$1:AO562)+1)","v":""},{"$f":"IF(Deviation_Limits!B585=\"\",\"\",Deviation_Limits!B585)","v":""},{"$f":"IF(Deviation_Limits!C585=\"\",\"\",Deviation_Limits!C585)","v":""},{"$f":"IF(Deviation_Limits!D585=\"\",\"\",Deviation_Limits!D585)","v":""},"",{"$f":"IF(COUNTIF(AQ$2:AQ563,AQ563)=1,AQ563,\"\")","v":""},"","","",null,{"$f":"+IF(BD563=\"\",\"\",MAX(AY$1:AY562)+1)","v":""},{"$f":"IF(Deviation_CEM_CPMS!B585=\"\",\"\",Deviation_CEM_CPMS!B585)","v":""},{"$f":"IF(Deviation_CEM_CPMS!C585=\"\",\"\",Deviation_CEM_CPMS!C585)","v":""},{"$f":"IF(Deviation_CEM_CPMS!D585=\"\",\"\",Deviation_CEM_CPMS!D585)","v":""},"",{"$f":"IF(COUNTIF(BA$2:BA563,BA563)=1,BA563,\"\")","v":""},"","",""]
[null,null,null,null,null,null,null,null,null,null,null,null,null,null,null,null,null,null,null,null,null,null,null,null,null,null,{"$f":"+IF(AE564=\"\",\"\",MAX(AA$1:AA563)+1)","v":""},{"$f":"IF(#REF!=\"\",\"\",#REF!)","v":{"$error":"#REF!"}},{"$f":"IF(#REF!=\"\",\"\",#REF!)","v":{"$error":"#REF!"}},{"$error":"#REF!"},{"$f":"IF(COUNTIF(AC$2:AC564,AC564)=1,AC564,\"\")","v":""},"","",null,null,null,null,null,null,null,{"$f":"+IF(AT564=\"\",\"\",MAX(AO$1:AO563)+1)","v":""},{"$f":"IF(Deviation_Limits!B586=\"\",\"\",Deviation_Limits!B586)","v":""},{"$f":"IF(Deviation_Limits!C586=\"\",\"\",Deviation_Limits!C586)","v":""},{"$f":"IF(Deviation_Limits!D586=\"\",\"\",Deviation_Limits!D586)","v":""},"",{"$f":"IF(COUNTIF(AQ$2:AQ564,AQ564)=1,AQ564,\"\")","v":""},"","","",null,{"$f":"+IF(BD564=\"\",\"\",MAX(AY$1:AY563)+1)","v":""},{"$f":"IF(Deviation_CEM_CPMS!B586=\"\",\"\",Deviation_CEM_CPMS!B586)","v":""},{"$f":"IF(Deviation_CEM_CPMS!C586=\"\",\"\",Deviation_CEM_CPMS!C586)","v":""},{"$f":"IF(Deviation_CEM_CPMS!D586=\"\",\"\",Deviation_CEM_CPMS!D586)","v":""},"",{"$f":"IF(COUNTIF(BA$2:BA564,BA564)=1,BA564,\"\")","v":""},"","",""]
[null,null,null,null,null,null,null,null,null,null,null,null,null,null,null,null,null,null,null,null,null,null,null,null,null,null,{"$f":"+IF(AE565=\"\",\"\",MAX(AA$1:AA564)+1)","v":""},{"$f":"IF(#REF!=\"\",\"\",#REF!)","v":{"$error":"#REF!"}},{"$f":"IF(#REF!=\"\",\"\",#REF!)","v":{"$error":"#REF!"}},{"$error":"#REF!"},{"$f":"IF(COUNTIF(AC$2:AC565,AC565)=1,AC565,\"\")","v":""},"","",null,null,null,null,null,null,null,{"$f":"+IF(AT565=\"\",\"\",MAX(AO$1:AO564)+1)","v":""},{"$f":"IF(Deviation_Limits!B587=\"\",\"\",Deviation_Limits!B587)","v":""},{"$f":"IF(Deviation_Limits!C587=\"\",\"\",Deviation_Limits!C587)","v":""},{"$f":"IF(Deviation_Limits!D587=\"\",\"\",Deviation_Limits!D587)","v":""},"",{"$f":"IF(COUNTIF(AQ$2:AQ565,AQ565)=1,AQ565,\"\")","v":""},"","","",null,{"$f":"+IF(BD565=\"\",\"\",MAX(AY$1:AY564)+1)","v":""},{"$f":"IF(Deviation_CEM_CPMS!B587=\"\",\"\",Deviation_CEM_CPMS!B587)","v":""},{"$f":"IF(Deviation_CEM_CPMS!C587=\"\",\"\",Deviation_CEM_CPMS!C587)","v":""},{"$f":"IF(Deviation_CEM_CPMS!D587=\"\",\"\",Deviation_CEM_CPMS!D587)","v":""},"",{"$f":"IF(COUNTIF(BA$2:BA565,BA565)=1,BA565,\"\")","v":""},"","",""]
[null,null,null,null,null,null,null,null,null,null,null,null,null,null,null,null,null,null,null,null,null,null,null,null,null,null,{"$f":"+IF(AE566=\"\",\"\",MAX(AA$1:AA565)+1)","v":""},{"$f":"IF(#REF!=\"\",\"\",#REF!)","v":{"$error":"#REF!"}},{"$f":"IF(#REF!=\"\",\"\",#REF!)","v":{"$error":"#REF!"}},{"$error":"#REF!"},{"$f":"IF(COUNTIF(AC$2:AC566,AC566)=1,AC566,\"\")","v":""},"","",null,null,null,null,null,null,null,{"$f":"+IF(AT566=\"\",\"\",MAX(AO$1:AO565)+1)","v":""},{"$f":"IF(Deviation_Limits!B588=\"\",\"\",Deviation_Limits!B588)","v":""},{"$f":"IF(Deviation_Limits!C588=\"\",\"\",Deviation_Limits!C588)","v":""},{"$f":"IF(Deviation_Limits!D588=\"\",\"\",Deviation_Limits!D588)","v":""},"",{"$f":"IF(COUNTIF(AQ$2:AQ566,AQ566)=1,AQ566,\"\")","v":""},"","","",null,{"$f":"+IF(BD566=\"\",\"\",MAX(AY$1:AY565)+1)","v":""},{"$f":"IF(Deviation_CEM_CPMS!B588=\"\",\"\",Deviation_CEM_CPMS!B588)","v":""},{"$f":"IF(Deviation_CEM_CPMS!C588=\"\",\"\",Deviation_CEM_CPMS!C588)","v":""},{"$f":"IF(Deviation_CEM_CPMS!D588=\"\",\"\",Deviation_CEM_CPMS!D588)","v":""},"",{"$f":"IF(COUNTIF(BA$2:BA566,BA566)=1,BA566,\"\")","v":""},"","",""]
[null,null,null,null,null,null,null,null,null,null,null,null,null,null,null,null,null,null,null,null,null,null,null,null,null,null,{"$f":"+IF(AE567=\"\",\"\",MAX(AA$1:AA566)+1)","v":""},{"$f":"IF(#REF!=\"\",\"\",#REF!)","v":{"$error":"#REF!"}},{"$f":"IF(#REF!=\"\",\"\",#REF!)","v":{"$error":"#REF!"}},{"$error":"#REF!"},{"$f":"IF(COUNTIF(AC$2:AC567,AC567)=1,AC567,\"\")","v":""},"","",null,null,null,null,null,null,null,{"$f":"+IF(AT567=\"\",\"\",MAX(AO$1:AO566)+1)","v":""},{"$f":"IF(Deviation_Limits!B589=\"\",\"\",Deviation_Limits!B589)","v":""},{"$f":"IF(Deviation_Limits!C589=\"\",\"\",Deviation_Limits!C589)","v":""},{"$f":"IF(Deviation_Limits!D589=\"\",\"\",Deviation_Limits!D589)","v":""},"",{"$f":"IF(COUNTIF(AQ$2:AQ567,AQ567)=1,AQ567,\"\")","v":""},"","","",null,{"$f":"+IF(BD567=\"\",\"\",MAX(AY$1:AY566)+1)","v":""},{"$f":"IF(Deviation_CEM_CPMS!B589=\"\",\"\",Deviation_CEM_CPMS!B589)","v":""},{"$f":"IF(Deviation_CEM_CPMS!C589=\"\",\"\",Deviation_CEM_CPMS!C589)","v":""},{"$f":"IF(Deviation_CEM_CPMS!D589=\"\",\"\",Deviation_CEM_CPMS!D589)","v":""},"",{"$f":"IF(COUNTIF(BA$2:BA567,BA567)=1,BA567,\"\")","v":""},"","",""]
[null,null,null,null,null,null,null,null,null,null,null,null,null,null,null,null,null,null,null,null,null,null,null,null,null,null,{"$f":"+IF(AE568=\"\",\"\",MAX(AA$1:AA567)+1)","v":""},{"$f":"IF(#REF!=\"\",\"\",#REF!)","v":{"$error":"#REF!"}},{"$f":"IF(#REF!=\"\",\"\",#REF!)","v":{"$error":"#REF!"}},{"$error":"#REF!"},{"$f":"IF(COUNTIF(AC$2:AC568,AC568)=1,AC568,\"\")","v":""},"","",null,null,null,null,null,null,null,{"$f":"+IF(AT568=\"\",\"\",MAX(AO$1:AO567)+1)","v":""},{"$f":"IF(Deviation_Limits!B590=\"\",\"\",Deviation_Limits!B590)","v":""},{"$f":"IF(Deviation_Limits!C590=\"\",\"\",Deviation_Limits!C590)","v":""},{"$f":"IF(Deviation_Limits!D590=\"\",\"\",Deviation_Limits!D590)","v":""},"",{"$f":"IF(COUNTIF(AQ$2:AQ568,AQ568)=1,AQ568,\"\")","v":""},"","","",null,{"$f":"+IF(BD568=\"\",\"\",MAX(AY$1:AY567)+1)","v":""},{"$f":"IF(Deviation_CEM_CPMS!B590=\"\",\"\",Deviation_CEM_CPMS!B590)","v":""},{"$f":"IF(Deviation_CEM_CPMS!C590=\"\",\"\",Deviation_CEM_CPMS!C590)","v":""},{"$f":"IF(Deviation_CEM_CPMS!D590=\"\",\"\",Deviation_CEM_CPMS!D590)","v":""},"",{"$f":"IF(COUNTIF(BA$2:BA568,BA568)=1,BA568,\"\")","v":""},"","",""]
[null,null,null,null,null,null,null,null,null,null,null,null,null,null,null,null,null,null,null,null,null,null,null,null,null,null,{"$f":"+IF(AE569=\"\",\"\",MAX(AA$1:AA568)+1)","v":""},{"$f":"IF(#REF!=\"\",\"\",#REF!)","v":{"$error":"#REF!"}},{"$f":"IF(#REF!=\"\",\"\",#REF!)","v":{"$error":"#REF!"}},{"$error":"#REF!"},{"$f":"IF(COUNTIF(AC$2:AC569,AC569)=1,AC569,\"\")","v":""},"","",null,null,null,null,null,null,null,{"$f":"+IF(AT569=\"\",\"\",MAX(AO$1:AO568)+1)","v":""},{"$f":"IF(Deviation_Limits!B591=\"\",\"\",Deviation_Limits!B591)","v":""},{"$f":"IF(Deviation_Limits!C591=\"\",\"\",Deviation_Limits!C591)","v":""},{"$f":"IF(Deviation_Limits!D591=\"\",\"\",Deviation_Limits!D591)","v":""},"",{"$f":"IF(COUNTIF(AQ$2:AQ569,AQ569)=1,AQ569,\"\")","v":""},"","","",null,{"$f":"+IF(BD569=\"\",\"\",MAX(AY$1:AY568)+1)","v":""},{"$f":"IF(Deviation_CEM_CPMS!B591=\"\",\"\",Deviation_CEM_CPMS!B591)","v":""},{"$f":"IF(Deviation_CEM_CPMS!C591=\"\",\"\",Deviation_CEM_CPMS!C591)","v":""},{"$f":"IF(Deviation_CEM_CPMS!D591=\"\",\"\",Deviation_CEM_CPMS!D591)","v":""},"",{"$f":"IF(COUNTIF(BA$2:BA569,BA569)=1,BA569,\"\")","v":""},"","",""]
[null,null,null,null,null,null,null,null,null,null,null,null,null,null,null,null,null,null,null,null,null,null,null,null,null,null,{"$f":"+IF(AE570=\"\",\"\",MAX(AA$1:AA569)+1)","v":""},{"$f":"IF(#REF!=\"\",\"\",#REF!)","v":{"$error":"#REF!"}},{"$f":"IF(#REF!=\"\",\"\",#REF!)","v":{"$error":"#REF!"}},{"$error":"#REF!"},{"$f":"IF(COUNTIF(AC$2:AC570,AC570)=1,AC570,\"\")","v":""},"","",null,null,null,null,null,null,null,{"$f":"+IF(AT570=\"\",\"\",MAX(AO$1:AO569)+1)","v":""},{"$f":"IF(Deviation_Limits!B592=\"\",\"\",Deviation_Limits!B592)","v":""},{"$f":"IF(Deviation_Limits!C592=\"\",\"\",Deviation_Limits!C592)","v":""},{"$f":"IF(Deviation_Limits!D592=\"\",\"\",Deviation_Limits!D592)","v":""},"",{"$f":"IF(COUNTIF(AQ$2:AQ570,AQ570)=1,AQ570,\"\")","v":""},"","","",null,{"$f":"+IF(BD570=\"\",\"\",MAX(AY$1:AY569)+1)","v":""},{"$f":"IF(Deviation_CEM_CPMS!B592=\"\",\"\",Deviation_CEM_CPMS!B592)","v":""},{"$f":"IF(Deviation_CEM_CPMS!C592=\"\",\"\",Deviation_CEM_CPMS!C592)","v":""},{"$f":"IF(Deviation_CEM_CPMS!D592=\"\",\"\",Deviation_CEM_CPMS!D592)","v":""},"",{"$f":"IF(COUNTIF(BA$2:BA570,BA570)=1,BA570,\"\")","v":""},"","",""]
[null,null,null,null,null,null,null,null,null,null,null,null,null,null,null,null,null,null,null,null,null,null,null,null,null,null,{"$f":"+IF(AE571=\"\",\"\",MAX(AA$1:AA570)+1)","v":""},{"$f":"IF(#REF!=\"\",\"\",#REF!)","v":{"$error":"#REF!"}},{"$f":"IF(#REF!=\"\",\"\",#REF!)","v":{"$error":"#REF!"}},{"$error":"#REF!"},{"$f":"IF(COUNTIF(AC$2:AC571,AC571)=1,AC571,\"\")","v":""},"","",null,null,null,null,null,null,null,{"$f":"+IF(AT571=\"\",\"\",MAX(AO$1:AO570)+1)","v":""},{"$f":"IF(Deviation_Limits!B593=\"\",\"\",Deviation_Limits!B593)","v":""},{"$f":"IF(Deviation_Limits!C593=\"\",\"\",Deviation_Limits!C593)","v":""},{"$f":"IF(Deviation_Limits!D593=\"\",\"\",Deviation_Limits!D593)","v":""},"",{"$f":"IF(COUNTIF(AQ$2:AQ571,AQ571)=1,AQ571,\"\")","v":""},"","","",null,{"$f":"+IF(BD571=\"\",\"\",MAX(AY$1:AY570)+1)","v":""},{"$f":"IF(Deviation_CEM_CPMS!B593=\"\",\"\",Deviation_CEM_CPMS!B593)","v":""},{"$f":"IF(Deviation_CEM_CPMS!C593=\"\",\"\",Deviation_CEM_CPMS!C593)","v":""},{"$f":"IF(Deviation_CEM_CPMS!D593=\"\",\"\",Deviation_CEM_CPMS!D593)","v":""},"",{"$f":"IF(COUNTIF(BA$2:BA571,BA571)=1,BA571,\"\")","v":""},"","",""]
[null,null,null,null,null,null,null,null,null,null,null,null,null,null,null,null,null,null,null,null,null,null,null,null,null,null,{"$f":"+IF(AE572=\"\",\"\",MAX(AA$1:AA571)+1)","v":""},{"$f":"IF(#REF!=\"\",\"\",#REF!)","v":{"$error":"#REF!"}},{"$f":"IF(#REF!=\"\",\"\",#REF!)","v":{"$error":"#REF!"}},{"$error":"#REF!"},{"$f":"IF(COUNTIF(AC$2:AC572,AC572)=1,AC572,\"\")","v":""},"","",null,null,null,null,null,null,null,{"$f":"+IF(AT572=\"\",\"\",MAX(AO$1:AO571)+1)","v":""},{"$f":"IF(Deviation_Limits!B594=\"\",\"\",Deviation_Limits!B594)","v":""},{"$f":"IF(Deviation_Limits!C594=\"\",\"\",Deviation_Limits!C594)","v":""},{"$f":"IF(Deviation_Limits!D594=\"\",\"\",Deviation_Limits!D594)","v":""},"",{"$f":"IF(COUNTIF(AQ$2:AQ572,AQ572)=1,AQ572,\"\")","v":""},"","","",null,{"$f":"+IF(BD572=\"\",\"\",MAX(AY$1:AY571)+1)","v":""},{"$f":"IF(Deviation_CEM_CPMS!B594=\"\",\"\",Deviation_CEM_CPMS!B594)","v":""},{"$f":"IF(Deviation_CEM_CPMS!C594=\"\",\"\",Deviation_CEM_CPMS!C594)","v":""},{"$f":"IF(Deviation_CEM_CPMS!D594=\"\",\"\",Deviation_CEM_CPMS!D594)","v":""},"",{"$f":"IF(COUNTIF(BA$2:BA572,BA572)=1,BA572,\"\")","v":""},"","",""]
[null,null,null,null,null,null,null,null,null,null,null,null,null,null,null,null,null,null,null,null,null,null,null,null,null,null,{"$f":"+IF(AE573=\"\",\"\",MAX(AA$1:AA572)+1)","v":""},{"$f":"IF(#REF!=\"\",\"\",#REF!)","v":{"$error":"#REF!"}},{"$f":"IF(#REF!=\"\",\"\",#REF!)","v":{"$error":"#REF!"}},{"$error":"#REF!"},{"$f":"IF(COUNTIF(AC$2:AC573,AC573)=1,AC573,\"\")","v":""},"","",null,null,null,null,null,null,null,{"$f":"+IF(AT573=\"\",\"\",MAX(AO$1:AO572)+1)","v":""},{"$f":"IF(Deviation_Limits!B595=\"\",\"\",Deviation_Limits!B595)","v":""},{"$f":"IF(Deviation_Limits!C595=\"\",\"\",Deviation_Limits!C595)","v":""},{"$f":"IF(Deviation_Limits!D595=\"\",\"\",Deviation_Limits!D595)","v":""},"",{"$f":"IF(COUNTIF(AQ$2:AQ573,AQ573)=1,AQ573,\"\")","v":""},"","","",null,{"$f":"+IF(BD573=\"\",\"\",MAX(AY$1:AY572)+1)","v":""},{"$f":"IF(Deviation_CEM_CPMS!B595=\"\",\"\",Deviation_CEM_CPMS!B595)","v":""},{"$f":"IF(Deviation_CEM_CPMS!C595=\"\",\"\",Deviation_CEM_CPMS!C595)","v":""},{"$f":"IF(Deviation_CEM_CPMS!D595=\"\",\"\",Deviation_CEM_CPMS!D595)","v":""},"",{"$f":"IF(COUNTIF(BA$2:BA573,BA573)=1,BA573,\"\")","v":""},"","",""]
[null,null,null,null,null,null,null,null,null,null,null,null,null,null,null,null,null,null,null,null,null,null,null,null,null,null,{"$f":"+IF(AE574=\"\",\"\",MAX(AA$1:AA573)+1)","v":""},{"$f":"IF(#REF!=\"\",\"\",#REF!)","v":{"$error":"#REF!"}},{"$f":"IF(#REF!=\"\",\"\",#REF!)","v":{"$error":"#REF!"}},{"$error":"#REF!"},{"$f":"IF(COUNTIF(AC$2:AC574,AC574)=1,AC574,\"\")","v":""},"","",null,null,null,null,null,null,null,{"$f":"+IF(AT574=\"\",\"\",MAX(AO$1:AO573)+1)","v":""},{"$f":"IF(Deviation_Limits!B596=\"\",\"\",Deviation_Limits!B596)","v":""},{"$f":"IF(Deviation_Limits!C596=\"\",\"\",Deviation_Limits!C596)","v":""},{"$f":"IF(Deviation_Limits!D596=\"\",\"\",Deviation_Limits!D596)","v":""},"",{"$f":"IF(COUNTIF(AQ$2:AQ574,AQ574)=1,AQ574,\"\")","v":""},"","","",null,{"$f":"+IF(BD574=\"\",\"\",MAX(AY$1:AY573)+1)","v":""},{"$f":"IF(Deviation_CEM_CPMS!B596=\"\",\"\",Deviation_CEM_CPMS!B596)","v":""},{"$f":"IF(Deviation_CEM_CPMS!C596=\"\",\"\",Deviation_CEM_CPMS!C596)","v":""},{"$f":"IF(Deviation_CEM_CPMS!D596=\"\",\"\",Deviation_CEM_CPMS!D596)","v":""},"",{"$f":"IF(COUNTIF(BA$2:BA574,BA574)=1,BA574,\"\")","v":""},"","",""]
[null,null,null,null,null,null,null,null,null,null,null,null,null,null,null,null,null,null,null,null,null,null,null,null,null,null,{"$f":"+IF(AE575=\"\",\"\",MAX(AA$1:AA574)+1)","v":""},{"$f":"IF(#REF!=\"\",\"\",#REF!)","v":{"$error":"#REF!"}},{"$f":"IF(#REF!=\"\",\"\",#REF!)","v":{"$error":"#REF!"}},{"$error":"#REF!"},{"$f":"IF(COUNTIF(AC$2:AC575,AC575)=1,AC575,\"\")","v":""},"","",null,null,null,null,null,null,null,{"$f":"+IF(AT575=\"\",\"\",MAX(AO$1:AO574)+1)","v":""},{"$f":"IF(Deviation_Limits!B597=\"\",\"\",Deviation_Limits!B597)","v":""},{"$f":"IF(Deviation_Limits!C597=\"\",\"\",Deviation_Limits!C597)","v":""},{"$f":"IF(Deviation_Limits!D597=\"\",\"\",Deviation_Limits!D597)","v":""},"",{"$f":"IF(COUNTIF(AQ$2:AQ575,AQ575)=1,AQ575,\"\")","v":""},"","","",null,{"$f":"+IF(BD575=\"\",\"\",MAX(AY$1:AY574)+1)","v":""},{"$f":"IF(Deviation_CEM_CPMS!B597=\"\",\"\",Deviation_CEM_CPMS!B597)","v":""},{"$f":"IF(Deviation_CEM_CPMS!C597=\"\",\"\",Deviation_CEM_CPMS!C597)","v":""},{"$f":"IF(Deviation_CEM_CPMS!D597=\"\",\"\",Deviation_CEM_CPMS!D597)","v":""},"",{"$f":"IF(COUNTIF(BA$2:BA575,BA575)=1,BA575,\"\")","v":""},"","",""]
[null,null,null,null,null,null,null,null,null,null,null,null,null,null,null,null,null,null,null,null,null,null,null,null,null,null,{"$f":"+IF(AE576=\"\",\"\",MAX(AA$1:AA575)+1)","v":""},{"$f":"IF(#REF!=\"\",\"\",#REF!)","v":{"$error":"#REF!"}},{"$f":"IF(#REF!=\"\",\"\",#REF!)","v":{"$error":"#REF!"}},{"$error":"#REF!"},{"$f":"IF(COUNTIF(AC$2:AC576,AC576)=1,AC576,\"\")","v":""},"","",null,null,null,null,null,null,null,{"$f":"+IF(AT576=\"\",\"\",MAX(AO$1:AO575)+1)","v":""},{"$f":"IF(Deviation_Limits!B598=\"\",\"\",Deviation_Limits!B598)","v":""},{"$f":"IF(Deviation_Limits!C598=\"\",\"\",Deviation_Limits!C598)","v":""},{"$f":"IF(Deviation_Limits!D598=\"\",\"\",Deviation_Limits!D598)","v":""},"",{"$f":"IF(COUNTIF(AQ$2:AQ576,AQ576)=1,AQ576,\"\")","v":""},"","","",null,{"$f":"+IF(BD576=\"\",\"\",MAX(AY$1:AY575)+1)","v":""},{"$f":"IF(Deviation_CEM_CPMS!B598=\"\",\"\",Deviation_CEM_CPMS!B598)","v":""},{"$f":"IF(Deviation_CEM_CPMS!C598=\"\",\"\",Deviation_CEM_CPMS!C598)","v":""},{"$f":"IF(Deviation_CEM_CPMS!D598=\"\",\"\",Deviation_CEM_CPMS!D598)","v":""},"",{"$f":"IF(COUNTIF(BA$2:BA576,BA576)=1,BA576,\"\")","v":""},"","",""]
[null,null,null,null,null,null,null,null,null,null,null,null,null,null,null,null,null,null,null,null,null,null,null,null,null,null,{"$f":"+IF(AE577=\"\",\"\",MAX(AA$1:AA576)+1)","v":""},{"$f":"IF(#REF!=\"\",\"\",#REF!)","v":{"$error":"#REF!"}},{"$f":"IF(#REF!=\"\",\"\",#REF!)","v":{"$error":"#REF!"}},{"$error":"#REF!"},{"$f":"IF(COUNTIF(AC$2:AC577,AC577)=1,AC577,\"\")","v":""},"","",null,null,null,null,null,null,null,{"$f":"+IF(AT577=\"\",\"\",MAX(AO$1:AO576)+1)","v":""},{"$f":"IF(Deviation_Limits!B599=\"\",\"\",Deviation_Limits!B599)","v":""},{"$f":"IF(Deviation_Limits!C599=\"\",\"\",Deviation_Limits!C599)","v":""},{"$f":"IF(Deviation_Limits!D599=\"\",\"\",Deviation_Limits!D599)","v":""},"",{"$f":"IF(COUNTIF(AQ$2:AQ577,AQ577)=1,AQ577,\"\")","v":""},"","","",null,{"$f":"+IF(BD577=\"\",\"\",MAX(AY$1:AY576)+1)","v":""},{"$f":"IF(Deviation_CEM_CPMS!B599=\"\",\"\",Deviation_CEM_CPMS!B599)","v":""},{"$f":"IF(Deviation_CEM_CPMS!C599=\"\",\"\",Deviation_CEM_CPMS!C599)","v":""},{"$f":"IF(Deviation_CEM_CPMS!D599=\"\",\"\",Deviation_CEM_CPMS!D599)","v":""},"",{"$f":"IF(COUNTIF(BA$2:BA577,BA577)=1,BA577,\"\")","v":""},"","",""]
[null,null,null,null,null,null,null,null,null,null,null,null,null,null,null,null,null,null,null,null,null,null,null,null,null,null,{"$f":"+IF(AE578=\"\",\"\",MAX(AA$1:AA577)+1)","v":""},{"$f":"IF(#REF!=\"\",\"\",#REF!)","v":{"$error":"#REF!"}},{"$f":"IF(#REF!=\"\",\"\",#REF!)","v":{"$error":"#REF!"}},{"$error":"#REF!"},{"$f":"IF(COUNTIF(AC$2:AC578,AC578)=1,AC578,\"\")","v":""},"","",null,null,null,null,null,null,null,{"$f":"+IF(AT578=\"\",\"\",MAX(AO$1:AO577)+1)","v":""},{"$f":"IF(Deviation_Limits!B600=\"\",\"\",Deviation_Limits!B600)","v":""},{"$f":"IF(Deviation_Limits!C600=\"\",\"\",Deviation_Limits!C600)","v":""},{"$f":"IF(Deviation_Limits!D600=\"\",\"\",Deviation_Limits!D600)","v":""},"",{"$f":"IF(COUNTIF(AQ$2:AQ578,AQ578)=1,AQ578,\"\")","v":""},"","","",null,{"$f":"+IF(BD578=\"\",\"\",MAX(AY$1:AY577)+1)","v":""},{"$f":"IF(Deviation_CEM_CPMS!B600=\"\",\"\",Deviation_CEM_CPMS!B600)","v":""},{"$f":"IF(Deviation_CEM_CPMS!C600=\"\",\"\",Deviation_CEM_CPMS!C600)","v":""},{"$f":"IF(Deviation_CEM_CPMS!D600=\"\",\"\",Deviation_CEM_CPMS!D600)","v":""},{"$f":"+AZ578&BA578&BB578","v":""},{"$f":"IF(COUNTIF(BA$2:BA578,BA578)=1,BA578,\"\")","v":""},{"$f":"+IFERROR(INDEX(AZ$2:AZ$500,MATCH(ROW()-ROW(BE$1),$AA$2:$AA$500,0)),\"\")","v":""},{"$f":"+IFERROR(INDEX(BA$2:BA$500,MATCH(ROW()-ROW(BE$1),$AA$2:$AA$500,0)),\"\")","v":""},{"$f":"+IFERROR(INDEX(BB$2:BB$500,MATCH(ROW()-ROW(BE$1),$AA$2:$AA$500,0)),\"\")","v":""}]
[null,null,null,null,null,null,null,null,null,null,null,null,null,null,null,null,null,null,null,null,null,null,null,null,null,null,{"$f":"+IF(AE579=\"\",\"\",MAX(AA$1:AA578)+1)","v":""},{"$f":"IF(#REF!=\"\",\"\",#REF!)","v":{"$error":"#REF!"}},{"$f":"IF(#REF!=\"\",\"\",#REF!)","v":{"$error":"#REF!"}},{"$error":"#REF!"},{"$f":"IF(COUNTIF(AC$2:AC579,AC579)=1,AC579,\"\")","v":""},{"$f":"+IFERROR(INDEX(AB$2:AB$500,MATCH(ROW()-ROW($AF$1),$AA$2:$AA$500,0)),\"\")","v":""},{"$f":"+IFERROR(INDEX(AC$2:AC$500,MATCH(ROW()-ROW($AF$1),$AA$2:$AA$500,0)),\"\")","v":""},null,null,null,null,null,null,null,{"$f":"+IF(AT579=\"\",\"\",MAX(AO$1:AO578)+1)","v":""},{"$f":"IF(Deviation_Limits!B601=\"\",\"\",Deviation_Limits!B601)","v":""},{"$f":"IF(Deviation_Limits!C601=\"\",\"\",Deviation_Limits!C601)","v":""},{"$f":"IF(Deviation_Limits!D601=\"\",\"\",Deviation_Limits!D601)","v":""},{"$f":"+AP579&AQ579&C579","v":""},{"$f":"IF(COUNTIF(AQ$2:AQ579,AQ579)=1,AQ579,\"\")","v":""},{"$f":"+IFERROR(INDEX(AP$2:AP$500,MATCH(ROW()-ROW(AU$1),$AA$2:$AA$500,0)),\"\")","v":""},{"$f":"+IFERROR(INDEX(AQ$2:AQ$500,MATCH(ROW()-ROW(AU$1),$AA$2:$AA$500,0)),\"\")","v":""},{"$f":"+IFERROR(INDEX(AR$2:AR$500,MATCH(ROW()-ROW(AU$1),$AA$2:$AA$500,0)),\"\")","v":""},null,{"$f":"+IF(BD579=\"\",\"\",MAX(AY$1:AY578)+1)","v":""},{"$f":"IF(Deviation_CEM_CPMS!B601=\"\",\"\",Deviation_CEM_CPMS!B601)","v":""},{"$f":"IF(Deviation_CEM_CPMS!C601=\"\",\"\",Deviation_CEM_CPMS!C601)","v":""},{"$f":"IF(Deviation_CEM_CPMS!D601=\"\",\"\",Deviation_CEM_CPMS!D601)","v":""},"",{"$f":"IF(COUNTIF(BA$2:BA579,BA579)=1,BA579,\"\")","v":""},"","",""]
[null,null,null,null,null,null,null,null,null,null,null,null,null,null,null,null,null,null,null,null,null,null,null,null,null,null,{"$f":"+IF(AE580=\"\",\"\",MAX(AA$1:AA579)+1)","v":""},{"$f":"IF(#REF!=\"\",\"\",#REF!)","v":{"$error":"#REF!"}},{"$f":"IF(#REF!=\"\",\"\",#REF!)","v":{"$error":"#REF!"}},{"$error":"#REF!"},{"$f":"IF(COUNTIF(AC$2:AC580,AC580)=1,AC580,\"\")","v":""},"","",null,null,null,null,null,null,null,{"$f":"+IF(AT580=\"\",\"\",MAX(AO$1:AO579)+1)","v":""},{"$f":"IF(Deviation_Limits!B602=\"\",\"\",Deviation_Limits!B602)","v":""},{"$f":"IF(Deviation_Limits!C602=\"\",\"\",Deviation_Limits!C602)","v":""},{"$f":"IF(Deviation_Limits!D602=\"\",\"\",Deviation_Limits!D602)","v":""},"",{"$f":"IF(COUNTIF(AQ$2:AQ580,AQ580)=1,AQ580,\"\")","v":""},"","","",null,{"$f":"+IF(BD580=\"\",\"\",MAX(AY$1:AY579)+1)","v":""},{"$f":"IF(Deviation_CEM_CPMS!B602=\"\",\"\",Deviation_CEM_CPMS!B602)","v":""},{"$f":"IF(Deviation_CEM_CPMS!C602=\"\",\"\",Deviation_CEM_CPMS!C602)","v":""},{"$f":"IF(Deviation_CEM_CPMS!D602=\"\",\"\",Deviation_CEM_CPMS!D602)","v":""},"",{"$f":"IF(COUNTIF(BA$2:BA580,BA580)=1,BA580,\"\")","v":""},"","",""]
[null,null,null,null,null,null,null,null,null,null,null,null,null,null,null,null,null,null,null,null,null,null,null,null,null,null,{"$f":"+IF(AE581=\"\",\"\",MAX(AA$1:AA580)+1)","v":""},{"$f":"IF(#REF!=\"\",\"\",#REF!)","v":{"$error":"#REF!"}},{"$f":"IF(#REF!=\"\",\"\",#REF!)","v":{"$error":"#REF!"}},{"$error":"#REF!"},{"$f":"IF(COUNTIF(AC$2:AC581,AC581)=1,AC581,\"\")","v":""},"","",null,null,null,null,null,null,null,{"$f":"+IF(AT581=\"\",\"\",MAX(AO$1:AO580)+1)","v":""},{"$f":"IF(Deviation_Limits!B603=\"\",\"\",Deviation_Limits!B603)","v":""},{"$f":"IF(Deviation_Limits!C603=\"\",\"\",Deviation_Limits!C603)","v":""},{"$f":"IF(Deviation_Limits!D603=\"\",\"\",Deviation_Limits!D603)","v":""},"",{"$f":"IF(COUNTIF(AQ$2:AQ581,AQ581)=1,AQ581,\"\")","v":""},"","","",null,{"$f":"+IF(BD581=\"\",\"\",MAX(AY$1:AY580)+1)","v":""},{"$f":"IF(Deviation_CEM_CPMS!B603=\"\",\"\",Deviation_CEM_CPMS!B603)","v":""},{"$f":"IF(Deviation_CEM_CPMS!C603=\"\",\"\",Deviation_CEM_CPMS!C603)","v":""},{"$f":"IF(Deviation_CEM_CPMS!D603=\"\",\"\",Deviation_CEM_CPMS!D603)","v":""},"",{"$f":"IF(COUNTIF(BA$2:BA581,BA581)=1,BA581,\"\")","v":""},"","",""]
[null,null,null,null,null,null,null,null,null,null,null,null,null,null,null,null,null,null,null,null,null,null,null,null,null,null,{"$f":"+IF(AE582=\"\",\"\",MAX(AA$1:AA581)+1)","v":""},{"$f":"IF(#REF!=\"\",\"\",#REF!)","v":{"$error":"#REF!"}},{"$f":"IF(#REF!=\"\",\"\",#REF!)","v":{"$error":"#REF!"}},{"$error":"#REF!"},{"$f":"IF(COUNTIF(AC$2:AC582,AC582)=1,AC582,\"\")","v":""},"","",null,null,null,null,null,null,null,{"$f":"+IF(AT582=\"\",\"\",MAX(AO$1:AO581)+1)","v":""},{"$f":"IF(Deviation_Limits!B604=\"\",\"\",Deviation_Limits!B604)","v":""},{"$f":"IF(Deviation_Limits!C604=\"\",\"\",Deviation_Limits!C604)","v":""},{"$f":"IF(Deviation_Limits!D604=\"\",\"\",Deviation_Limits!D604)","v":""},"",{"$f":"IF(COUNTIF(AQ$2:AQ582,AQ582)=1,AQ582,\"\")","v":""},"","","",null,{"$f":"+IF(BD582=\"\",\"\",MAX(AY$1:AY581)+1)","v":""},{"$f":"IF(Deviation_CEM_CPMS!B604=\"\",\"\",Deviation_CEM_CPMS!B604)","v":""},{"$f":"IF(Deviation_CEM_CPMS!C604=\"\",\"\",Deviation_CEM_CPMS!C604)","v":""},{"$f":"IF(Deviation_CEM_CPMS!D604=\"\",\"\",Deviation_CEM_CPMS!D604)","v":""},"",{"$f":"IF(COUNTIF(BA$2:BA582,BA582)=1,BA582,\"\")","v":""},"","",""]
[null,null,null,null,null,null,null,null,null,null,null,null,null,null,null,null,null,null,null,null,null,null,null,null,null,null,{"$f":"+IF(AE583=\"\",\"\",MAX(AA$1:AA582)+1)","v":""},{"$f":"IF(#REF!=\"\",\"\",#REF!)","v":{"$error":"#REF!"}},{"$f":"IF(#REF!=\"\",\"\",#REF!)","v":{"$error":"#REF!"}},{"$error":"#REF!"},{"$f":"IF(COUNTIF(AC$2:AC583,AC583)=1,AC583,\"\")","v":""},"","",null,null,null,null,null,null,null,{"$f":"+IF(AT583=\"\",\"\",MAX(AO$1:AO582)+1)","v":""},{"$f":"IF(Deviation_Limits!B605=\"\",\"\",Deviation_Limits!B605)","v":""},{"$f":"IF(Deviation_Limits!C605=\"\",\"\",Deviation_Limits!C605)","v":""},{"$f":"IF(Deviation_Limits!D605=\"\",\"\",Deviation_Limits!D605)","v":""},"",{"$f":"IF(COUNTIF(AQ$2:AQ583,AQ583)=1,AQ583,\"\")","v":""},"","","",null,{"$f":"+IF(BD583=\"\",\"\",MAX(AY$1:AY582)+1)","v":""},{"$f":"IF(Deviation_CEM_CPMS!B605=\"\",\"\",Deviation_CEM_CPMS!B605)","v":""},{"$f":"IF(Deviation_CEM_CPMS!C605=\"\",\"\",Deviation_CEM_CPMS!C605)","v":""},{"$f":"IF(Deviation_CEM_CPMS!D605=\"\",\"\",Deviation_CEM_CPMS!D605)","v":""},"",{"$f":"IF(COUNTIF(BA$2:BA583,BA583)=1,BA583,\"\")","v":""},"","",""]
[null,null,null,null,null,null,null,null,null,null,null,null,null,null,null,null,null,null,null,null,null,null,null,null,null,null,{"$f":"+IF(AE584=\"\",\"\",MAX(AA$1:AA583)+1)","v":""},{"$f":"IF(#REF!=\"\",\"\",#REF!)","v":{"$error":"#REF!"}},{"$f":"IF(#REF!=\"\",\"\",#REF!)","v":{"$error":"#REF!"}},{"$error":"#REF!"},{"$f":"IF(COUNTIF(AC$2:AC584,AC584)=1,AC584,\"\")","v":""},"","",null,null,null,null,null,null,null,{"$f":"+IF(AT584=\"\",\"\",MAX(AO$1:AO583)+1)","v":""},{"$f":"IF(Deviation_Limits!B606=\"\",\"\",Deviation_Limits!B606)","v":""},{"$f":"IF(Deviation_Limits!C606=\"\",\"\",Deviation_Limits!C606)","v":""},{"$f":"IF(Deviation_Limits!D606=\"\",\"\",Deviation_Limits!D606)","v":""},"",{"$f":"IF(COUNTIF(AQ$2:AQ584,AQ584)=1,AQ584,\"\")","v":""},"","","",null,{"$f":"+IF(BD584=\"\",\"\",MAX(AY$1:AY583)+1)","v":""},{"$f":"IF(Deviation_CEM_CPMS!B606=\"\",\"\",Deviation_CEM_CPMS!B606)","v":""},{"$f":"IF(Deviation_CEM_CPMS!C606=\"\",\"\",Deviation_CEM_CPMS!C606)","v":""},{"$f":"IF(Deviation_CEM_CPMS!D606=\"\",\"\",Deviation_CEM_CPMS!D606)","v":""},"",{"$f":"IF(COUNTIF(BA$2:BA584,BA584)=1,BA584,\"\")","v":""},"","",""]
[null,null,null,null,null,null,null,null,null,null,null,null,null,null,null,null,null,null,null,null,null,null,null,null,null,null,{"$f":"+IF(AE585=\"\",\"\",MAX(AA$1:AA584)+1)","v":""},{"$f":"IF(#REF!=\"\",\"\",#REF!)","v":{"$error":"#REF!"}},{"$f":"IF(#REF!=\"\",\"\",#REF!)","v":{"$error":"#REF!"}},{"$error":"#REF!"},{"$f":"IF(COUNTIF(AC$2:AC585,AC585)=1,AC585,\"\")","v":""},"","",null,null,null,null,null,null,null,{"$f":"+IF(AT585=\"\",\"\",MAX(AO$1:AO584)+1)","v":""},{"$f":"IF(Deviation_Limits!B607=\"\",\"\",Deviation_Limits!B607)","v":""},{"$f":"IF(Deviation_Limits!C607=\"\",\"\",Deviation_Limits!C607)","v":""},{"$f":"IF(Deviation_Limits!D607=\"\",\"\",Deviation_Limits!D607)","v":""},"",{"$f":"IF(COUNTIF(AQ$2:AQ585,AQ585)=1,AQ585,\"\")","v":""},"","","",null,{"$f":"+IF(BD585=\"\",\"\",MAX(AY$1:AY584)+1)","v":""},{"$f":"IF(Deviation_CEM_CPMS!B607=\"\",\"\",Deviation_CEM_CPMS!B607)","v":""},{"$f":"IF(Deviation_CEM_CPMS!C607=\"\",\"\",Deviation_CEM_CPMS!C607)","v":""},{"$f":"IF(Deviation_CEM_CPMS!D607=\"\",\"\",Deviation_CEM_CPMS!D607)","v":""},"",{"$f":"IF(COUNTIF(BA$2:BA585,BA585)=1,BA585,\"\")","v":""},"","",""]
[null,null,null,null,null,null,null,null,null,null,null,null,null,null,null,null,null,null,null,null,null,null,null,null,null,null,{"$f":"+IF(AE586=\"\",\"\",MAX(AA$1:AA585)+1)","v":""},{"$f":"IF(#REF!=\"\",\"\",#REF!)","v":{"$error":"#REF!"}},{"$f":"IF(#REF!=\"\",\"\",#REF!)","v":{"$error":"#REF!"}},{"$error":"#REF!"},{"$f":"IF(COUNTIF(AC$2:AC586,AC586)=1,AC586,\"\")","v":""},"","",null,null,null,null,null,null,null,{"$f":"+IF(AT586=\"\",\"\",MAX(AO$1:AO585)+1)","v":""},{"$f":"IF(Deviation_Limits!B608=\"\",\"\",Deviation_Limits!B608)","v":""},{"$f":"IF(Deviation_Limits!C608=\"\",\"\",Deviation_Limits!C608)","v":""},{"$f":"IF(Deviation_Limits!D608=\"\",\"\",Deviation_Limits!D608)","v":""},"",{"$f":"IF(COUNTIF(AQ$2:AQ586,AQ586)=1,AQ586,\"\")","v":""},"","","",null,{"$f":"+IF(BD586=\"\",\"\",MAX(AY$1:AY585)+1)","v":""},{"$f":"IF(Deviation_CEM_CPMS!B608=\"\",\"\",Deviation_CEM_CPMS!B608)","v":""},{"$f":"IF(Deviation_CEM_CPMS!C608=\"\",\"\",Deviation_CEM_CPMS!C608)","v":""},{"$f":"IF(Deviation_CEM_CPMS!D608=\"\",\"\",Deviation_CEM_CPMS!D608)","v":""},"",{"$f":"IF(COUNTIF(BA$2:BA586,BA586)=1,BA586,\"\")","v":""},"","",""]
[null,null,null,null,null,null,null,null,null,null,null,null,null,null,null,null,null,null,null,null,null,null,null,null,null,null,{"$f":"+IF(AE587=\"\",\"\",MAX(AA$1:AA586)+1)","v":""},{"$f":"IF(#REF!=\"\",\"\",#REF!)","v":{"$error":"#REF!"}},{"$f":"IF(#REF!=\"\",\"\",#REF!)","v":{"$error":"#REF!"}},{"$error":"#REF!"},{"$f":"IF(COUNTIF(AC$2:AC587,AC587)=1,AC587,\"\")","v":""},"","",null,null,null,null,null,null,null,{"$f":"+IF(AT587=\"\",\"\",MAX(AO$1:AO586)+1)","v":""},{"$f":"IF(Deviation_Limits!B609=\"\",\"\",Deviation_Limits!B609)","v":""},{"$f":"IF(Deviation_Limits!C609=\"\",\"\",Deviation_Limits!C609)","v":""},{"$f":"IF(Deviation_Limits!D609=\"\",\"\",Deviation_Limits!D609)","v":""},"",{"$f":"IF(COUNTIF(AQ$2:AQ587,AQ587)=1,AQ587,\"\")","v":""},"","","",null,{"$f":"+IF(BD587=\"\",\"\",MAX(AY$1:AY586)+1)","v":""},{"$f":"IF(Deviation_CEM_CPMS!B609=\"\",\"\",Deviation_CEM_CPMS!B609)","v":""},{"$f":"IF(Deviation_CEM_CPMS!C609=\"\",\"\",Deviation_CEM_CPMS!C609)","v":""},{"$f":"IF(Deviation_CEM_CPMS!D609=\"\",\"\",Deviation_CEM_CPMS!D609)","v":""},"",{"$f":"IF(COUNTIF(BA$2:BA587,BA587)=1,BA587,\"\")","v":""},"","",""]
[null,null,null,null,null,null,null,null,null,null,null,null,null,null,null,null,null,null,null,null,null,null,null,null,null,null,{"$f":"+IF(AE588=\"\",\"\",MAX(AA$1:AA587)+1)","v":""},{"$f":"IF(#REF!=\"\",\"\",#REF!)","v":{"$error":"#REF!"}},{"$f":"IF(#REF!=\"\",\"\",#REF!)","v":{"$error":"#REF!"}},{"$error":"#REF!"},{"$f":"IF(COUNTIF(AC$2:AC588,AC588)=1,AC588,\"\")","v":""},"","",null,null,null,null,null,null,null,{"$f":"+IF(AT588=\"\",\"\",MAX(AO$1:AO587)+1)","v":""},{"$f":"IF(Deviation_Limits!B610=\"\",\"\",Deviation_Limits!B610)","v":""},{"$f":"IF(Deviation_Limits!C610=\"\",\"\",Deviation_Limits!C610)","v":""},{"$f":"IF(Deviation_Limits!D610=\"\",\"\",Deviation_Limits!D610)","v":""},"",{"$f":"IF(COUNTIF(AQ$2:AQ588,AQ588)=1,AQ588,\"\")","v":""},"","","",null,{"$f":"+IF(BD588=\"\",\"\",MAX(AY$1:AY587)+1)","v":""},{"$f":"IF(Deviation_CEM_CPMS!B610=\"\",\"\",Deviation_CEM_CPMS!B610)","v":""},{"$f":"IF(Deviation_CEM_CPMS!C610=\"\",\"\",Deviation_CEM_CPMS!C610)","v":""},{"$f":"IF(Deviation_CEM_CPMS!D610=\"\",\"\",Deviation_CEM_CPMS!D610)","v":""},"",{"$f":"IF(COUNTIF(BA$2:BA588,BA588)=1,BA588,\"\")","v":""},"","",""]
[null,null,null,null,null,null,null,null,null,null,null,null,null,null,null,null,null,null,null,null,null,null,null,null,null,null,{"$f":"+IF(AE589=\"\",\"\",MAX(AA$1:AA588)+1)","v":""},{"$f":"IF(#REF!=\"\",\"\",#REF!)","v":{"$error":"#REF!"}},{"$f":"IF(#REF!=\"\",\"\",#REF!)","v":{"$error":"#REF!"}},{"$error":"#REF!"},{"$f":"IF(COUNTIF(AC$2:AC589,AC589)=1,AC589,\"\")","v":""},"","",null,null,null,null,null,null,null,{"$f":"+IF(AT589=\"\",\"\",MAX(AO$1:AO588)+1)","v":""},{"$f":"IF(Deviation_Limits!B611=\"\",\"\",Deviation_Limits!B611)","v":""},{"$f":"IF(Deviation_Limits!C611=\"\",\"\",Deviation_Limits!C611)","v":""},{"$f":"IF(Deviation_Limits!D611=\"\",\"\",Deviation_Limits!D611)","v":""},"",{"$f":"IF(COUNTIF(AQ$2:AQ589,AQ589)=1,AQ589,\"\")","v":""},"","","",null,{"$f":"+IF(BD589=\"\",\"\",MAX(AY$1:AY588)+1)","v":""},{"$f":"IF(Deviation_CEM_CPMS!B611=\"\",\"\",Deviation_CEM_CPMS!B611)","v":""},{"$f":"IF(Deviation_CEM_CPMS!C611=\"\",\"\",Deviation_CEM_CPMS!C611)","v":""},{"$f":"IF(Deviation_CEM_CPMS!D611=\"\",\"\",Deviation_CEM_CPMS!D611)","v":""},"",{"$f":"IF(COUNTIF(BA$2:BA589,BA589)=1,BA589,\"\")","v":""},"","",""]
[null,null,null,null,null,null,null,null,null,null,null,null,null,null,null,null,null,null,null,null,null,null,null,null,null,null,{"$f":"+IF(AE590=\"\",\"\",MAX(AA$1:AA589)+1)","v":""},{"$f":"IF(#REF!=\"\",\"\",#REF!)","v":{"$error":"#REF!"}},{"$f":"IF(#REF!=\"\",\"\",#REF!)","v":{"$error":"#REF!"}},{"$error":"#REF!"},{"$f":"IF(COUNTIF(AC$2:AC590,AC590)=1,AC590,\"\")","v":""},"","",null,null,null,null,null,null,null,{"$f":"+IF(AT590=\"\",\"\",MAX(AO$1:AO589)+1)","v":""},{"$f":"IF(Deviation_Limits!B612=\"\",\"\",Deviation_Limits!B612)","v":""},{"$f":"IF(Deviation_Limits!C612=\"\",\"\",Deviation_Limits!C612)","v":""},{"$f":"IF(Deviation_Limits!D612=\"\",\"\",Deviation_Limits!D612)","v":""},"",{"$f":"IF(COUNTIF(AQ$2:AQ590,AQ590)=1,AQ590,\"\")","v":""},"","","",null,{"$f":"+IF(BD590=\"\",\"\",MAX(AY$1:AY589)+1)","v":""},{"$f":"IF(Deviation_CEM_CPMS!B612=\"\",\"\",Deviation_CEM_CPMS!B612)","v":""},{"$f":"IF(Deviation_CEM_CPMS!C612=\"\",\"\",Deviation_CEM_CPMS!C612)","v":""},{"$f":"IF(Deviation_CEM_CPMS!D612=\"\",\"\",Deviation_CEM_CPMS!D612)","v":""},"",{"$f":"IF(COUNTIF(BA$2:BA590,BA590)=1,BA590,\"\")","v":""},"","",""]
[null,null,null,null,null,null,null,null,null,null,null,null,null,null,null,null,null,null,null,null,null,null,null,null,null,null,{"$f":"+IF(AE591=\"\",\"\",MAX(AA$1:AA590)+1)","v":""},{"$f":"IF(#REF!=\"\",\"\",#REF!)","v":{"$error":"#REF!"}},{"$f":"IF(#REF!=\"\",\"\",#REF!)","v":{"$error":"#REF!"}},{"$error":"#REF!"},{"$f":"IF(COUNTIF(AC$2:AC591,AC591)=1,AC591,\"\")","v":""},"","",null,null,null,null,null,null,null,{"$f":"+IF(AT591=\"\",\"\",MAX(AO$1:AO590)+1)","v":""},{"$f":"IF(Deviation_Limits!B613=\"\",\"\",Deviation_Limits!B613)","v":""},{"$f":"IF(Deviation_Limits!C613=\"\",\"\",Deviation_Limits!C613)","v":""},{"$f":"IF(Deviation_Limits!D613=\"\",\"\",Deviation_Limits!D613)","v":""},"",{"$f":"IF(COUNTIF(AQ$2:AQ591,AQ591)=1,AQ591,\"\")","v":""},"","","",null,{"$f":"+IF(BD591=\"\",\"\",MAX(AY$1:AY590)+1)","v":""},{"$f":"IF(Deviation_CEM_CPMS!B613=\"\",\"\",Deviation_CEM_CPMS!B613)","v":""},{"$f":"IF(Deviation_CEM_CPMS!C613=\"\",\"\",Deviation_CEM_CPMS!C613)","v":""},{"$f":"IF(Deviation_CEM_CPMS!D613=\"\",\"\",Deviation_CEM_CPMS!D613)","v":""},"",{"$f":"IF(COUNTIF(BA$2:BA591,BA591)=1,BA591,\"\")","v":""},"","",""]
[null,null,null,null,null,null,null,null,null,null,null,null,null,null,null,null,null,null,null,null,null,null,null,null,null,null,{"$f":"+IF(AE592=\"\",\"\",MAX(AA$1:AA591)+1)","v":""},{"$f":"IF(#REF!=\"\",\"\",#REF!)","v":{"$error":"#REF!"}},{"$f":"IF(#REF!=\"\",\"\",#REF!)","v":{"$error":"#REF!"}},{"$error":"#REF!"},{"$f":"IF(COUNTIF(AC$2:AC592,AC592)=1,AC592,\"\")","v":""},"","",null,null,null,null,null,null,null,{"$f":"+IF(AT592=\"\",\"\",MAX(AO$1:AO591)+1)","v":""},{"$f":"IF(Deviation_Limits!B614=\"\",\"\",Deviation_Limits!B614)","v":""},{"$f":"IF(Deviation_Limits!C614=\"\",\"\",Deviation_Limits!C614)","v":""},{"$f":"IF(Deviation_Limits!D614=\"\",\"\",Deviation_Limits!D614)","v":""},"",{"$f":"IF(COUNTIF(AQ$2:AQ592,AQ592)=1,AQ592,\"\")","v":""},"","","",null,{"$f":"+IF(BD592=\"\",\"\",MAX(AY$1:AY591)+1)","v":""},{"$f":"IF(Deviation_CEM_CPMS!B614=\"\",\"\",Deviation_CEM_CPMS!B614)","v":""},{"$f":"IF(Deviation_CEM_CPMS!C614=\"\",\"\",Deviation_CEM_CPMS!C614)","v":""},{"$f":"IF(Deviation_CEM_CPMS!D614=\"\",\"\",Deviation_CEM_CPMS!D614)","v":""},"",{"$f":"IF(COUNTIF(BA$2:BA592,BA592)=1,BA592,\"\")","v":""},"","",""]
[null,null,null,null,null,null,null,null,null,null,null,null,null,null,null,null,null,null,null,null,null,null,null,null,null,null,{"$f":"+IF(AE593=\"\",\"\",MAX(AA$1:AA592)+1)","v":""},{"$f":"IF(#REF!=\"\",\"\",#REF!)","v":{"$error":"#REF!"}},{"$f":"IF(#REF!=\"\",\"\",#REF!)","v":{"$error":"#REF!"}},{"$error":"#REF!"},{"$f":"IF(COUNTIF(AC$2:AC593,AC593)=1,AC593,\"\")","v":""},"","",null,null,null,null,null,null,null,{"$f":"+IF(AT593=\"\",\"\",MAX(AO$1:AO592)+1)","v":""},{"$f":"IF(Deviation_Limits!B615=\"\",\"\",Deviation_Limits!B615)","v":""},{"$f":"IF(Deviation_Limits!C615=\"\",\"\",Deviation_Limits!C615)","v":""},{"$f":"IF(Deviation_Limits!D615=\"\",\"\",Deviation_Limits!D615)","v":""},"",{"$f":"IF(COUNTIF(AQ$2:AQ593,AQ593)=1,AQ593,\"\")","v":""},"","","",null,{"$f":"+IF(BD593=\"\",\"\",MAX(AY$1:AY592)+1)","v":""},{"$f":"IF(Deviation_CEM_CPMS!B615=\"\",\"\",Deviation_CEM_CPMS!B615)","v":""},{"$f":"IF(Deviation_CEM_CPMS!C615=\"\",\"\",Deviation_CEM_CPMS!C615)","v":""},{"$f":"IF(Deviation_CEM_CPMS!D615=\"\",\"\",Deviation_CEM_CPMS!D615)","v":""},"",{"$f":"IF(COUNTIF(BA$2:BA593,BA593)=1,BA593,\"\")","v":""},"","",""]
[null,null,null,null,null,null,null,null,null,null,null,null,null,null,null,null,null,null,null,null,null,null,null,null,null,null,{"$f":"+IF(AE594=\"\",\"\",MAX(AA$1:AA593)+1)","v":""},{"$f":"IF(#REF!=\"\",\"\",#REF!)","v":{"$error":"#REF!"}},{"$f":"IF(#REF!=\"\",\"\",#REF!)","v":{"$error":"#REF!"}},{"$error":"#REF!"},{"$f":"IF(COUNTIF(AC$2:AC594,AC594)=1,AC594,\"\")","v":""},"","",null,null,null,null,null,null,null,{"$f":"+IF(AT594=\"\",\"\",MAX(AO$1:AO593)+1)","v":""},{"$f":"IF(Deviation_Limits!B616=\"\",\"\",Deviation_Limits!B616)","v":""},{"$f":"IF(Deviation_Limits!C616=\"\",\"\",Deviation_Limits!C616)","v":""},{"$f":"IF(Deviation_Limits!D616=\"\",\"\",Deviation_Limits!D616)","v":""},"",{"$f":"IF(COUNTIF(AQ$2:AQ594,AQ594)=1,AQ594,\"\")","v":""},"","","",null,{"$f":"+IF(BD594=\"\",\"\",MAX(AY$1:AY593)+1)","v":""},{"$f":"IF(Deviation_CEM_CPMS!B616=\"\",\"\",Deviation_CEM_CPMS!B616)","v":""},{"$f":"IF(Deviation_CEM_CPMS!C616=\"\",\"\",Deviation_CEM_CPMS!C616)","v":""},{"$f":"IF(Deviation_CEM_CPMS!D616=\"\",\"\",Deviation_CEM_CPMS!D616)","v":""},"",{"$f":"IF(COUNTIF(BA$2:BA594,BA594)=1,BA594,\"\")","v":""},"","",""]
[null,null,null,null,null,null,null,null,null,null,null,null,null,null,null,null,null,null,null,null,null,null,null,null,null,null,{"$f":"+IF(AE595=\"\",\"\",MAX(AA$1:AA594)+1)","v":""},{"$f":"IF(#REF!=\"\",\"\",#REF!)","v":{"$error":"#REF!"}},{"$f":"IF(#REF!=\"\",\"\",#REF!)","v":{"$error":"#REF!"}},{"$error":"#REF!"},{"$f":"IF(COUNTIF(AC$2:AC595,AC595)=1,AC595,\"\")","v":""},"","",null,null,null,null,null,null,null,{"$f":"+IF(AT595=\"\",\"\",MAX(AO$1:AO594)+1)","v":""},{"$f":"IF(Deviation_Limits!B617=\"\",\"\",Deviation_Limits!B617)","v":""},{"$f":"IF(Deviation_Limits!C617=\"\",\"\",Deviation_Limits!C617)","v":""},{"$f":"IF(Deviation_Limits!D617=\"\",\"\",Deviation_Limits!D617)","v":""},"",{"$f":"IF(COUNTIF(AQ$2:AQ595,AQ595)=1,AQ595,\"\")","v":""},"","","",null,{"$f":"+IF(BD595=\"\",\"\",MAX(AY$1:AY594)+1)","v":""},{"$f":"IF(Deviation_CEM_CPMS!B617=\"\",\"\",Deviation_CEM_CPMS!B617)","v":""},{"$f":"IF(Deviation_CEM_CPMS!C617=\"\",\"\",Deviation_CEM_CPMS!C617)","v":""},{"$f":"IF(Deviation_CEM_CPMS!D617=\"\",\"\",Deviation_CEM_CPMS!D617)","v":""},"",{"$f":"IF(COUNTIF(BA$2:BA595,BA595)=1,BA595,\"\")","v":""},"","",""]
[null,null,null,null,null,null,null,null,null,null,null,null,null,null,null,null,null,null,null,null,null,null,null,null,null,null,{"$f":"+IF(AE596=\"\",\"\",MAX(AA$1:AA595)+1)","v":""},{"$f":"IF(#REF!=\"\",\"\",#REF!)","v":{"$error":"#REF!"}},{"$f":"IF(#REF!=\"\",\"\",#REF!)","v":{"$error":"#REF!"}},{"$error":"#REF!"},{"$f":"IF(COUNTIF(AC$2:AC596,AC596)=1,AC596,\"\")","v":""},"","",null,null,null,null,null,null,null,{"$f":"+IF(AT596=\"\",\"\",MAX(AO$1:AO595)+1)","v":""},{"$f":"IF(Deviation_Limits!B618=\"\",\"\",Deviation_Limits!B618)","v":""},{"$f":"IF(Deviation_Limits!C618=\"\",\"\",Deviation_Limits!C618)","v":""},{"$f":"IF(Deviation_Limits!D618=\"\",\"\",Deviation_Limits!D618)","v":""},"",{"$f":"IF(COUNTIF(AQ$2:AQ596,AQ596)=1,AQ596,\"\")","v":""},"","","",null,{"$f":"+IF(BD596=\"\",\"\",MAX(AY$1:AY595)+1)","v":""},{"$f":"IF(Deviation_CEM_CPMS!B618=\"\",\"\",Deviation_CEM_CPMS!B618)","v":""},{"$f":"IF(Deviation_CEM_CPMS!C618=\"\",\"\",Deviation_CEM_CPMS!C618)","v":""},{"$f":"IF(Deviation_CEM_CPMS!D618=\"\",\"\",Deviation_CEM_CPMS!D618)","v":""},"",{"$f":"IF(COUNTIF(BA$2:BA596,BA596)=1,BA596,\"\")","v":""},"","",""]
[null,null,null,null,null,null,null,null,null,null,null,null,null,null,null,null,null,null,null,null,null,null,null,null,null,null,{"$f":"+IF(AE597=\"\",\"\",MAX(AA$1:AA596)+1)","v":""},{"$f":"IF(#REF!=\"\",\"\",#REF!)","v":{"$error":"#REF!"}},{"$f":"IF(#REF!=\"\",\"\",#REF!)","v":{"$error":"#REF!"}},{"$error":"#REF!"},{"$f":"IF(COUNTIF(AC$2:AC597,AC597)=1,AC597,\"\")","v":""},"","",null,null,null,null,null,null,null,{"$f":"+IF(AT597=\"\",\"\",MAX(AO$1:AO596)+1)","v":""},{"$f":"IF(Deviation_Limits!B619=\"\",\"\",Deviation_Limits!B619)","v":""},{"$f":"IF(Deviation_Limits!C619=\"\",\"\",Deviation_Limits!C619)","v":""},{"$f":"IF(Deviation_Limits!D619=\"\",\"\",Deviation_Limits!D619)","v":""},"",{"$f":"IF(COUNTIF(AQ$2:AQ597,AQ597)=1,AQ597,\"\")","v":""},"","","",null,{"$f":"+IF(BD597=\"\",\"\",MAX(AY$1:AY596)+1)","v":""},{"$f":"IF(Deviation_CEM_CPMS!B619=\"\",\"\",Deviation_CEM_CPMS!B619)","v":""},{"$f":"IF(Deviation_CEM_CPMS!C619=\"\",\"\",Deviation_CEM_CPMS!C619)","v":""},{"$f":"IF(Deviation_CEM_CPMS!D619=\"\",\"\",Deviation_CEM_CPMS!D619)","v":""},"",{"$f":"IF(COUNTIF(BA$2:BA597,BA597)=1,BA597,\"\")","v":""},"","",""]
[null,null,null,null,null,null,null,null,null,null,null,null,null,null,null,null,null,null,null,null,null,null,null,null,null,null,{"$f":"+IF(AE598=\"\",\"\",MAX(AA$1:AA597)+1)","v":""},{"$f":"IF(#REF!=\"\",\"\",#REF!)","v":{"$error":"#REF!"}},{"$f":"IF(#REF!=\"\",\"\",#REF!)","v":{"$error":"#REF!"}},{"$error":"#REF!"},{"$f":"IF(COUNTIF(AC$2:AC598,AC598)=1,AC598,\"\")","v":""},"","",null,null,null,null,null,null,null,{"$f":"+IF(AT598=\"\",\"\",MAX(AO$1:AO597)+1)","v":""},{"$f":"IF(Deviation_Limits!B620=\"\",\"\",Deviation_Limits!B620)","v":""},{"$f":"IF(Deviation_Limits!C620=\"\",\"\",Deviation_Limits!C620)","v":""},{"$f":"IF(Deviation_Limits!D620=\"\",\"\",Deviation_Limits!D620)","v":""},"",{"$f":"IF(COUNTIF(AQ$2:AQ598,AQ598)=1,AQ598,\"\")","v":""},"","","",null,{"$f":"+IF(BD598=\"\",\"\",MAX(AY$1:AY597)+1)","v":""},{"$f":"IF(Deviation_CEM_CPMS!B620=\"\",\"\",Deviation_CEM_CPMS!B620)","v":""},{"$f":"IF(Deviation_CEM_CPMS!C620=\"\",\"\",Deviation_CEM_CPMS!C620)","v":""},{"$f":"IF(Deviation_CEM_CPMS!D620=\"\",\"\",Deviation_CEM_CPMS!D620)","v":""},"",{"$f":"IF(COUNTIF(BA$2:BA598,BA598)=1,BA598,\"\")","v":""},"","",""]
[null,null,null,null,null,null,null,null,null,null,null,null,null,null,null,null,null,null,null,null,null,null,null,null,null,null,{"$f":"+IF(AE599=\"\",\"\",MAX(AA$1:AA598)+1)","v":""},{"$f":"IF(#REF!=\"\",\"\",#REF!)","v":{"$error":"#REF!"}},{"$f":"IF(#REF!=\"\",\"\",#REF!)","v":{"$error":"#REF!"}},{"$error":"#REF!"},{"$f":"IF(COUNTIF(AC$2:AC599,AC599)=1,AC599,\"\")","v":""},"","",null,null,null,null,null,null,null,{"$f":"+IF(AT599=\"\",\"\",MAX(AO$1:AO598)+1)","v":""},{"$f":"IF(Deviation_Limits!B621=\"\",\"\",Deviation_Limits!B621)","v":""},{"$f":"IF(Deviation_Limits!C621=\"\",\"\",Deviation_Limits!C621)","v":""},{"$f":"IF(Deviation_Limits!D621=\"\",\"\",Deviation_Limits!D621)","v":""},"",{"$f":"IF(COUNTIF(AQ$2:AQ599,AQ599)=1,AQ599,\"\")","v":""},"","","",null,{"$f":"+IF(BD599=\"\",\"\",MAX(AY$1:AY598)+1)","v":""},{"$f":"IF(Deviation_CEM_CPMS!B621=\"\",\"\",Deviation_CEM_CPMS!B621)","v":""},{"$f":"IF(Deviation_CEM_CPMS!C621=\"\",\"\",Deviation_CEM_CPMS!C621)","v":""},{"$f":"IF(Deviation_CEM_CPMS!D621=\"\",\"\",Deviation_CEM_CPMS!D621)","v":""},"",{"$f":"IF(COUNTIF(BA$2:BA599,BA599)=1,BA599,\"\")","v":""},"","",""]
[null,null,null,null,null,null,null,null,null,null,null,null,null,null,null,null,null,null,null,null,null,null,null,null,null,null,{"$f":"+IF(AE600=\"\",\"\",MAX(AA$1:AA599)+1)","v":""},{"$f":"IF(#REF!=\"\",\"\",#REF!)","v":{"$error":"#REF!"}},{"$f":"IF(#REF!=\"\",\"\",#REF!)","v":{"$error":"#REF!"}},{"$error":"#REF!"},{"$f":"IF(COUNTIF(AC$2:AC600,AC600)=1,AC600,\"\")","v":""},"","",null,null,null,null,null,null,null,{"$f":"+IF(AT600=\"\",\"\",MAX(AO$1:AO599)+1)","v":""},{"$f":"IF(Deviation_Limits!B622=\"\",\"\",Deviation_Limits!B622)","v":""},{"$f":"IF(Deviation_Limits!C622=\"\",\"\",Deviation_Limits!C622)","v":""},{"$f":"IF(Deviation_Limits!D622=\"\",\"\",Deviation_Limits!D622)","v":""},"",{"$f":"IF(COUNTIF(AQ$2:AQ600,AQ600)=1,AQ600,\"\")","v":""},"","","",null,{"$f":"+IF(BD600=\"\",\"\",MAX(AY$1:AY599)+1)","v":""},{"$f":"IF(Deviation_CEM_CPMS!B622=\"\",\"\",Deviation_CEM_CPMS!B622)","v":""},{"$f":"IF(Deviation_CEM_CPMS!C622=\"\",\"\",Deviation_CEM_CPMS!C622)","v":""},{"$f":"IF(Deviation_CEM_CPMS!D622=\"\",\"\",Deviation_CEM_CPMS!D622)","v":""},"",{"$f":"IF(COUNTIF(BA$2:BA600,BA600)=1,BA600,\"\")","v":""},"","",""]
[null,null,null,null,null,null,null,null,null,null,null,null,null,null,null,null,null,null,null,null,null,null,null,null,null,null,{"$f":"+IF(AE601=\"\",\"\",MAX(AA$1:AA600)+1)","v":""},{"$f":"IF(#REF!=\"\",\"\",#REF!)","v":{"$error":"#REF!"}},{"$f":"IF(#REF!=\"\",\"\",#REF!)","v":{"$error":"#REF!"}},{"$error":"#REF!"},{"$f":"IF(COUNTIF(AC$2:AC601,AC601)=1,AC601,\"\")","v":""},"","",null,null,null,null,null,null,null,{"$f":"+IF(AT601=\"\",\"\",MAX(AO$1:AO600)+1)","v":""},{"$f":"IF(Deviation_Limits!B623=\"\",\"\",Deviation_Limits!B623)","v":""},{"$f":"IF(Deviation_Limits!C623=\"\",\"\",Deviation_Limits!C623)","v":""},{"$f":"IF(Deviation_Limits!D623=\"\",\"\",Deviation_Limits!D623)","v":""},"",{"$f":"IF(COUNTIF(AQ$2:AQ601,AQ601)=1,AQ601,\"\")","v":""},"","","",null,{"$f":"+IF(BD601=\"\",\"\",MAX(AY$1:AY600)+1)","v":""},{"$f":"IF(Deviation_CEM_CPMS!B623=\"\",\"\",Deviation_CEM_CPMS!B623)","v":""},{"$f":"IF(Deviation_CEM_CPMS!C623=\"\",\"\",Deviation_CEM_CPMS!C623)","v":""},{"$f":"IF(Deviation_CEM_CPMS!D623=\"\",\"\",Deviation_CEM_CPMS!D623)","v":""},"",{"$f":"IF(COUNTIF(BA$2:BA601,BA601)=1,BA601,\"\")","v":""},"","",""]
[null,null,null,null,null,null,null,null,null,null,null,null,null,null,null,null,null,null,null,null,null,null,null,null,null,null,{"$f":"+IF(AE602=\"\",\"\",MAX(AA$1:AA601)+1)","v":""},{"$f":"IF(#REF!=\"\",\"\",#REF!)","v":{"$error":"#REF!"}},{"$f":"IF(#REF!=\"\",\"\",#REF!)","v":{"$error":"#REF!"}},{"$error":"#REF!"},{"$f":"IF(COUNTIF(AC$2:AC602,AC602)=1,AC602,\"\")","v":""},"","",null,null,null,null,null,null,null,{"$f":"+IF(AT602=\"\",\"\",MAX(AO$1:AO601)+1)","v":""},{"$f":"IF(Deviation_Limits!B624=\"\",\"\",Deviation_Limits!B624)","v":""},{"$f":"IF(Deviation_Limits!C624=\"\",\"\",Deviation_Limits!C624)","v":""},{"$f":"IF(Deviation_Limits!D624=\"\",\"\",Deviation_Limits!D624)","v":""},"",{"$f":"IF(COUNTIF(AQ$2:AQ602,AQ602)=1,AQ602,\"\")","v":""},"","","",null,{"$f":"+IF(BD602=\"\",\"\",MAX(AY$1:AY601)+1)","v":""},{"$f":"IF(Deviation_CEM_CPMS!B624=\"\",\"\",Deviation_CEM_CPMS!B624)","v":""},{"$f":"IF(Deviation_CEM_CPMS!C624=\"\",\"\",Deviation_CEM_CPMS!C624)","v":""},{"$f":"IF(Deviation_CEM_CPMS!D624=\"\",\"\",Deviation_CEM_CPMS!D624)","v":""},"",{"$f":"IF(COUNTIF(BA$2:BA602,BA602)=1,BA602,\"\")","v":""},"","",""]
[null,null,null,null,null,null,null,null,null,null,null,null,null,null,null,null,null,null,null,null,null,null,null,null,null,null,{"$f":"+IF(AE603=\"\",\"\",MAX(AA$1:AA602)+1)","v":""},{"$f":"IF(#REF!=\"\",\"\",#REF!)","v":{"$error":"#REF!"}},{"$f":"IF(#REF!=\"\",\"\",#REF!)","v":{"$error":"#REF!"}},{"$error":"#REF!"},{"$f":"IF(COUNTIF(AC$2:AC603,AC603)=1,AC603,\"\")","v":""},"","",null,null,null,null,null,null,null,{"$f":"+IF(AT603=\"\",\"\",MAX(AO$1:AO602)+1)","v":""},{"$f":"IF(Deviation_Limits!B625=\"\",\"\",Deviation_Limits!B625)","v":""},{"$f":"IF(Deviation_Limits!C625=\"\",\"\",Deviation_Limits!C625)","v":""},{"$f":"IF(Deviation_Limits!D625=\"\",\"\",Deviation_Limits!D625)","v":""},"",{"$f":"IF(COUNTIF(AQ$2:AQ603,AQ603)=1,AQ603,\"\")","v":""},"","","",null,{"$f":"+IF(BD603=\"\",\"\",MAX(AY$1:AY602)+1)","v":""},{"$f":"IF(Deviation_CEM_CPMS!B625=\"\",\"\",Deviation_CEM_CPMS!B625)","v":""},{"$f":"IF(Deviation_CEM_CPMS!C625=\"\",\"\",Deviation_CEM_CPMS!C625)","v":""},{"$f":"IF(Deviation_CEM_CPMS!D625=\"\",\"\",Deviation_CEM_CPMS!D625)","v":""},"",{"$f":"IF(COUNTIF(BA$2:BA603,BA603)=1,BA603,\"\")","v":""},"","",""]
[null,null,null,null,null,null,null,null,null,null,null,null,null,null,null,null,null,null,null,null,null,null,null,null,null,null,{"$f":"+IF(AE604=\"\",\"\",MAX(AA$1:AA603)+1)","v":""},{"$f":"IF(#REF!=\"\",\"\",#REF!)","v":{"$error":"#REF!"}},{"$f":"IF(#REF!=\"\",\"\",#REF!)","v":{"$error":"#REF!"}},{"$error":"#REF!"},{"$f":"IF(COUNTIF(AC$2:AC604,AC604)=1,AC604,\"\")","v":""},"","",null,null,null,null,null,null,null,{"$f":"+IF(AT604=\"\",\"\",MAX(AO$1:AO603)+1)","v":""},{"$f":"IF(Deviation_Limits!B626=\"\",\"\",Deviation_Limits!B626)","v":""},{"$f":"IF(Deviation_Limits!C626=\"\",\"\",Deviation_Limits!C626)","v":""},{"$f":"IF(Deviation_Limits!D626=\"\",\"\",Deviation_Limits!D626)","v":""},"",{"$f":"IF(COUNTIF(AQ$2:AQ604,AQ604)=1,AQ604,\"\")","v":""},"","","",null,{"$f":"+IF(BD604=\"\",\"\",MAX(AY$1:AY603)+1)","v":""},{"$f":"IF(Deviation_CEM_CPMS!B626=\"\",\"\",Deviation_CEM_CPMS!B626)","v":""},{"$f":"IF(Deviation_CEM_CPMS!C626=\"\",\"\",Deviation_CEM_CPMS!C626)","v":""},{"$f":"IF(Deviation_CEM_CPMS!D626=\"\",\"\",Deviation_CEM_CPMS!D626)","v":""},"",{"$f":"IF(COUNTIF(BA$2:BA604,BA604)=1,BA604,\"\")","v":""},"","",""]
[null,null,null,null,null,null,null,null,null,null,null,null,null,null,null,null,null,null,null,null,null,null,null,null,null,null,{"$f":"+IF(AE605=\"\",\"\",MAX(AA$1:AA604)+1)","v":""},{"$f":"IF(#REF!=\"\",\"\",#REF!)","v":{"$error":"#REF!"}},{"$f":"IF(#REF!=\"\",\"\",#REF!)","v":{"$error":"#REF!"}},{"$error":"#REF!"},{"$f":"IF(COUNTIF(AC$2:AC605,AC605)=1,AC605,\"\")","v":""},"","",null,null,null,null,null,null,null,{"$f":"+IF(AT605=\"\",\"\",MAX(AO$1:AO604)+1)","v":""},{"$f":"IF(Deviation_Limits!B627=\"\",\"\",Deviation_Limits!B627)","v":""},{"$f":"IF(Deviation_Limits!C627=\"\",\"\",Deviation_Limits!C627)","v":""},{"$f":"IF(Deviation_Limits!D627=\"\",\"\",Deviation_Limits!D627)","v":""},"",{"$f":"IF(COUNTIF(AQ$2:AQ605,AQ605)=1,AQ605,\"\")","v":""},"","","",null,{"$f":"+IF(BD605=\"\",\"\",MAX(AY$1:AY604)+1)","v":""},{"$f":"IF(Deviation_CEM_CPMS!B627=\"\",\"\",Deviation_CEM_CPMS!B627)","v":""},{"$f":"IF(Deviation_CEM_CPMS!C627=\"\",\"\",Deviation_CEM_CPMS!C627)","v":""},{"$f":"IF(Deviation_CEM_CPMS!D627=\"\",\"\",Deviation_CEM_CPMS!D627)","v":""},"",{"$f":"IF(COUNTIF(BA$2:BA605,BA605)=1,BA605,\"\")","v":""},"","",""]
[null,null,null,null,null,null,null,null,null,null,null,null,null,null,null,null,null,null,null,null,null,null,null,null,null,null,{"$f":"+IF(AE606=\"\",\"\",MAX(AA$1:AA605)+1)","v":""},{"$f":"IF(#REF!=\"\",\"\",#REF!)","v":{"$error":"#REF!"}},{"$f":"IF(#REF!=\"\",\"\",#REF!)","v":{"$error":"#REF!"}},{"$error":"#REF!"},{"$f":"IF(COUNTIF(AC$2:AC606,AC606)=1,AC606,\"\")","v":""},"","",null,null,null,null,null,null,null,{"$f":"+IF(AT606=\"\",\"\",MAX(AO$1:AO605)+1)","v":""},{"$f":"IF(Deviation_Limits!B628=\"\",\"\",Deviation_Limits!B628)","v":""},{"$f":"IF(Deviation_Limits!C628=\"\",\"\",Deviation_Limits!C628)","v":""},{"$f":"IF(Deviation_Limits!D628=\"\",\"\",Deviation_Limits!D628)","v":""},"",{"$f":"IF(COUNTIF(AQ$2:AQ606,AQ606)=1,AQ606,\"\")","v":""},"","","",null,{"$f":"+IF(BD606=\"\",\"\",MAX(AY$1:AY605)+1)","v":""},{"$f":"IF(Deviation_CEM_CPMS!B628=\"\",\"\",Deviation_CEM_CPMS!B628)","v":""},{"$f":"IF(Deviation_CEM_CPMS!C628=\"\",\"\",Deviation_CEM_CPMS!C628)","v":""},{"$f":"IF(Deviation_CEM_CPMS!D628=\"\",\"\",Deviation_CEM_CPMS!D628)","v":""},"",{"$f":"IF(COUNTIF(BA$2:BA606,BA606)=1,BA606,\"\")","v":""},"","",""]
[null,null,null,null,null,null,null,null,null,null,null,null,null,null,null,null,null,null,null,null,null,null,null,null,null,null,{"$f":"+IF(AE607=\"\",\"\",MAX(AA$1:AA606)+1)","v":""},{"$f":"IF(#REF!=\"\",\"\",#REF!)","v":{"$error":"#REF!"}},{"$f":"IF(#REF!=\"\",\"\",#REF!)","v":{"$error":"#REF!"}},{"$error":"#REF!"},{"$f":"IF(COUNTIF(AC$2:AC607,AC607)=1,AC607,\"\")","v":""},"","",null,null,null,null,null,null,null,{"$f":"+IF(AT607=\"\",\"\",MAX(AO$1:AO606)+1)","v":""},{"$f":"IF(Deviation_Limits!B629=\"\",\"\",Deviation_Limits!B629)","v":""},{"$f":"IF(Deviation_Limits!C629=\"\",\"\",Deviation_Limits!C629)","v":""},{"$f":"IF(Deviation_Limits!D629=\"\",\"\",Deviation_Limits!D629)","v":""},"",{"$f":"IF(COUNTIF(AQ$2:AQ607,AQ607)=1,AQ607,\"\")","v":""},"","","",null,{"$f":"+IF(BD607=\"\",\"\",MAX(AY$1:AY606)+1)","v":""},{"$f":"IF(Deviation_CEM_CPMS!B629=\"\",\"\",Deviation_CEM_CPMS!B629)","v":""},{"$f":"IF(Deviation_CEM_CPMS!C629=\"\",\"\",Deviation_CEM_CPMS!C629)","v":""},{"$f":"IF(Deviation_CEM_CPMS!D629=\"\",\"\",Deviation_CEM_CPMS!D629)","v":""},"",{"$f":"IF(COUNTIF(BA$2:BA607,BA607)=1,BA607,\"\")","v":""},"","",""]
[null,null,null,null,null,null,null,null,null,null,null,null,null,null,null,null,null,null,null,null,null,null,null,null,null,null,{"$f":"+IF(AE608=\"\",\"\",MAX(AA$1:AA607)+1)","v":""},{"$f":"IF(#REF!=\"\",\"\",#REF!)","v":{"$error":"#REF!"}},{"$f":"IF(#REF!=\"\",\"\",#REF!)","v":{"$error":"#REF!"}},{"$f":"+AB608&AC608","v":{"$error":"#REF!"}},{"$f":"IF(COUNTIF(AC$2:AC608,AC608)=1,AC608,\"\")","v":""},"","",null,null,null,null,null,null,null,{"$f":"+IF(AT608=\"\",\"\",MAX(AO$1:AO607)+1)","v":""},{"$f":"IF(Deviation_Limits!B630=\"\",\"\",Deviation_Limits!B630)","v":""},{"$f":"IF(Deviation_Limits!C630=\"\",\"\",Deviation_Limits!C630)","v":""},{"$f":"IF(Deviation_Limits!D630=\"\",\"\",Deviation_Limits!D630)","v":""},"",{"$f":"IF(COUNTIF(AQ$2:AQ608,AQ608)=1,AQ608,\"\")","v":""},"","","",null,{"$f":"+IF(BD608=\"\",\"\",MAX(AY$1:AY607)+1)","v":""},{"$f":"IF(Deviation_CEM_CPMS!B630=\"\",\"\",Deviation_CEM_CPMS!B630)","v":""},{"$f":"IF(Deviation_CEM_CPMS!C630=\"\",\"\",Deviation_CEM_CPMS!C630)","v":""},{"$f":"IF(Deviation_CEM_CPMS!D630=\"\",\"\",Deviation_CEM_CPMS!D630)","v":""},"",{"$f":"IF(COUNTIF(BA$2:BA608,BA608)=1,BA608,\"\")","v":""},"","",""]
[null,null,null,null,null,null,null,null,null,null,null,null,null,null,null,null,null,null,null,null,null,null,null,null,null,null,{"$f":"+IF(AE609=\"\",\"\",MAX(AA$1:AA608)+1)","v":""},{"$f":"IF(#REF!=\"\",\"\",#REF!)","v":{"$error":"#REF!"}},{"$f":"IF(#REF!=\"\",\"\",#REF!)","v":{"$error":"#REF!"}},{"$error":"#REF!"},{"$f":"IF(COUNTIF(AC$2:AC609,AC609)=1,AC609,\"\")","v":""},"","",null,null,null,null,null,null,null,{"$f":"+IF(AT609=\"\",\"\",MAX(AO$1:AO608)+1)","v":""},{"$f":"IF(Deviation_Limits!B631=\"\",\"\",Deviation_Limits!B631)","v":""},{"$f":"IF(Deviation_Limits!C631=\"\",\"\",Deviation_Limits!C631)","v":""},{"$f":"IF(Deviation_Limits!D631=\"\",\"\",Deviation_Limits!D631)","v":""},"",{"$f":"IF(COUNTIF(AQ$2:AQ609,AQ609)=1,AQ609,\"\")","v":""},"","","",null,{"$f":"+IF(BD609=\"\",\"\",MAX(AY$1:AY608)+1)","v":""},{"$f":"IF(Deviation_CEM_CPMS!B631=\"\",\"\",Deviation_CEM_CPMS!B631)","v":""},{"$f":"IF(Deviation_CEM_CPMS!C631=\"\",\"\",Deviation_CEM_CPMS!C631)","v":""},{"$f":"IF(Deviation_CEM_CPMS!D631=\"\",\"\",Deviation_CEM_CPMS!D631)","v":""},"",{"$f":"IF(COUNTIF(BA$2:BA609,BA609)=1,BA609,\"\")","v":""},"","",""]
[null,null,null,null,null,null,null,null,null,null,null,null,null,null,null,null,null,null,null,null,null,null,null,null,null,null,{"$f":"+IF(AE610=\"\",\"\",MAX(AA$1:AA609)+1)","v":""},{"$f":"IF(#REF!=\"\",\"\",#REF!)","v":{"$error":"#REF!"}},{"$f":"IF(#REF!=\"\",\"\",#REF!)","v":{"$error":"#REF!"}},{"$error":"#REF!"},{"$f":"IF(COUNTIF(AC$2:AC610,AC610)=1,AC610,\"\")","v":""},"","",null,null,null,null,null,null,null,{"$f":"+IF(AT610=\"\",\"\",MAX(AO$1:AO609)+1)","v":""},{"$f":"IF(Deviation_Limits!B632=\"\",\"\",Deviation_Limits!B632)","v":""},{"$f":"IF(Deviation_Limits!C632=\"\",\"\",Deviation_Limits!C632)","v":""},{"$f":"IF(Deviation_Limits!D632=\"\",\"\",Deviation_Limits!D632)","v":""},"",{"$f":"IF(COUNTIF(AQ$2:AQ610,AQ610)=1,AQ610,\"\")","v":""},"","","",null,{"$f":"+IF(BD610=\"\",\"\",MAX(AY$1:AY609)+1)","v":""},{"$f":"IF(Deviation_CEM_CPMS!B632=\"\",\"\",Deviation_CEM_CPMS!B632)","v":""},{"$f":"IF(Deviation_CEM_CPMS!C632=\"\",\"\",Deviation_CEM_CPMS!C632)","v":""},{"$f":"IF(Deviation_CEM_CPMS!D632=\"\",\"\",Deviation_CEM_CPMS!D632)","v":""},"",{"$f":"IF(COUNTIF(BA$2:BA610,BA610)=1,BA610,\"\")","v":""},"","",""]
[null,null,null,null,null,null,null,null,null,null,null,null,null,null,null,null,null,null,null,null,null,null,null,null,null,null,{"$f":"+IF(AE611=\"\",\"\",MAX(AA$1:AA610)+1)","v":""},{"$f":"IF(#REF!=\"\",\"\",#REF!)","v":{"$error":"#REF!"}},{"$f":"IF(#REF!=\"\",\"\",#REF!)","v":{"$error":"#REF!"}},{"$error":"#REF!"},{"$f":"IF(COUNTIF(AC$2:AC611,AC611)=1,AC611,\"\")","v":""},"","",null,null,null,null,null,null,null,{"$f":"+IF(AT611=\"\",\"\",MAX(AO$1:AO610)+1)","v":""},{"$f":"IF(Deviation_Limits!B633=\"\",\"\",Deviation_Limits!B633)","v":""},{"$f":"IF(Deviation_Limits!C633=\"\",\"\",Deviation_Limits!C633)","v":""},{"$f":"IF(Deviation_Limits!D633=\"\",\"\",Deviation_Limits!D633)","v":""},"",{"$f":"IF(COUNTIF(AQ$2:AQ611,AQ611)=1,AQ611,\"\")","v":""},"","","",null,{"$f":"+IF(BD611=\"\",\"\",MAX(AY$1:AY610)+1)","v":""},{"$f":"IF(Deviation_CEM_CPMS!B633=\"\",\"\",Deviation_CEM_CPMS!B633)","v":""},{"$f":"IF(Deviation_CEM_CPMS!C633=\"\",\"\",Deviation_CEM_CPMS!C633)","v":""},{"$f":"IF(Deviation_CEM_CPMS!D633=\"\",\"\",Deviation_CEM_CPMS!D633)","v":""},"",{"$f":"IF(COUNTIF(BA$2:BA611,BA611)=1,BA611,\"\")","v":""},"","",""]
[null,null,null,null,null,null,null,null,null,null,null,null,null,null,null,null,null,null,null,null,null,null,null,null,null,null,{"$f":"+IF(AE612=\"\",\"\",MAX(AA$1:AA611)+1)","v":""},{"$f":"IF(#REF!=\"\",\"\",#REF!)","v":{"$error":"#REF!"}},{"$f":"IF(#REF!=\"\",\"\",#REF!)","v":{"$error":"#REF!"}},{"$error":"#REF!"},{"$f":"IF(COUNTIF(AC$2:AC612,AC612)=1,AC612,\"\")","v":""},"","",null,null,null,null,null,null,null,{"$f":"+IF(AT612=\"\",\"\",MAX(AO$1:AO611)+1)","v":""},{"$f":"IF(Deviation_Limits!B634=\"\",\"\",Deviation_Limits!B634)","v":""},{"$f":"IF(Deviation_Limits!C634=\"\",\"\",Deviation_Limits!C634)","v":""},{"$f":"IF(Deviation_Limits!D634=\"\",\"\",Deviation_Limits!D634)","v":""},"",{"$f":"IF(COUNTIF(AQ$2:AQ612,AQ612)=1,AQ612,\"\")","v":""},"","","",null,{"$f":"+IF(BD612=\"\",\"\",MAX(AY$1:AY611)+1)","v":""},{"$f":"IF(Deviation_CEM_CPMS!B634=\"\",\"\",Deviation_CEM_CPMS!B634)","v":""},{"$f":"IF(Deviation_CEM_CPMS!C634=\"\",\"\",Deviation_CEM_CPMS!C634)","v":""},{"$f":"IF(Deviation_CEM_CPMS!D634=\"\",\"\",Deviation_CEM_CPMS!D634)","v":""},"",{"$f":"IF(COUNTIF(BA$2:BA612,BA612)=1,BA612,\"\")","v":""},"","",""]
[null,null,null,null,null,null,null,null,null,null,null,null,null,null,null,null,null,null,null,null,null,null,null,null,null,null,{"$f":"+IF(AE613=\"\",\"\",MAX(AA$1:AA612)+1)","v":""},{"$f":"IF(#REF!=\"\",\"\",#REF!)","v":{"$error":"#REF!"}},{"$f":"IF(#REF!=\"\",\"\",#REF!)","v":{"$error":"#REF!"}},{"$error":"#REF!"},{"$f":"IF(COUNTIF(AC$2:AC613,AC613)=1,AC613,\"\")","v":""},"","",null,null,null,null,null,null,null,{"$f":"+IF(AT613=\"\",\"\",MAX(AO$1:AO612)+1)","v":""},{"$f":"IF(Deviation_Limits!B635=\"\",\"\",Deviation_Limits!B635)","v":""},{"$f":"IF(Deviation_Limits!C635=\"\",\"\",Deviation_Limits!C635)","v":""},{"$f":"IF(Deviation_Limits!D635=\"\",\"\",Deviation_Limits!D635)","v":""},"",{"$f":"IF(COUNTIF(AQ$2:AQ613,AQ613)=1,AQ613,\"\")","v":""},"","","",null,{"$f":"+IF(BD613=\"\",\"\",MAX(AY$1:AY612)+1)","v":""},{"$f":"IF(Deviation_CEM_CPMS!B635=\"\",\"\",Deviation_CEM_CPMS!B635)","v":""},{"$f":"IF(Deviation_CEM_CPMS!C635=\"\",\"\",Deviation_CEM_CPMS!C635)","v":""},{"$f":"IF(Deviation_CEM_CPMS!D635=\"\",\"\",Deviation_CEM_CPMS!D635)","v":""},"",{"$f":"IF(COUNTIF(BA$2:BA613,BA613)=1,BA613,\"\")","v":""},"","",""]
[null,null,null,null,null,null,null,null,null,null,null,null,null,null,null,null,null,null,null,null,null,null,null,null,null,null,{"$f":"+IF(AE614=\"\",\"\",MAX(AA$1:AA613)+1)","v":""},{"$f":"IF(#REF!=\"\",\"\",#REF!)","v":{"$error":"#REF!"}},{"$f":"IF(#REF!=\"\",\"\",#REF!)","v":{"$error":"#REF!"}},{"$error":"#REF!"},{"$f":"IF(COUNTIF(AC$2:AC614,AC614)=1,AC614,\"\")","v":""},"","",null,null,null,null,null,null,null,{"$f":"+IF(AT614=\"\",\"\",MAX(AO$1:AO613)+1)","v":""},{"$f":"IF(Deviation_Limits!B636=\"\",\"\",Deviation_Limits!B636)","v":""},{"$f":"IF(Deviation_Limits!C636=\"\",\"\",Deviation_Limits!C636)","v":""},{"$f":"IF(Deviation_Limits!D636=\"\",\"\",Deviation_Limits!D636)","v":""},"",{"$f":"IF(COUNTIF(AQ$2:AQ614,AQ614)=1,AQ614,\"\")","v":""},"","","",null,{"$f":"+IF(BD614=\"\",\"\",MAX(AY$1:AY613)+1)","v":""},{"$f":"IF(Deviation_CEM_CPMS!B636=\"\",\"\",Deviation_CEM_CPMS!B636)","v":""},{"$f":"IF(Deviation_CEM_CPMS!C636=\"\",\"\",Deviation_CEM_CPMS!C636)","v":""},{"$f":"IF(Deviation_CEM_CPMS!D636=\"\",\"\",Deviation_CEM_CPMS!D636)","v":""},"",{"$f":"IF(COUNTIF(BA$2:BA614,BA614)=1,BA614,\"\")","v":""},"","",""]
[null,null,null,null,null,null,null,null,null,null,null,null,null,null,null,null,null,null,null,null,null,null,null,null,null,null,{"$f":"+IF(AE615=\"\",\"\",MAX(AA$1:AA614)+1)","v":""},{"$f":"IF(#REF!=\"\",\"\",#REF!)","v":{"$error":"#REF!"}},{"$f":"IF(#REF!=\"\",\"\",#REF!)","v":{"$error":"#REF!"}},{"$error":"#REF!"},{"$f":"IF(COUNTIF(AC$2:AC615,AC615)=1,AC615,\"\")","v":""},"","",null,null,null,null,null,null,null,{"$f":"+IF(AT615=\"\",\"\",MAX(AO$1:AO614)+1)","v":""},{"$f":"IF(Deviation_Limits!B637=\"\",\"\",Deviation_Limits!B637)","v":""},{"$f":"IF(Deviation_Limits!C637=\"\",\"\",Deviation_Limits!C637)","v":""},{"$f":"IF(Deviation_Limits!D637=\"\",\"\",Deviation_Limits!D637)","v":""},"",{"$f":"IF(COUNTIF(AQ$2:AQ615,AQ615)=1,AQ615,\"\")","v":""},"","","",null,{"$f":"+IF(BD615=\"\",\"\",MAX(AY$1:AY614)+1)","v":""},{"$f":"IF(Deviation_CEM_CPMS!B637=\"\",\"\",Deviation_CEM_CPMS!B637)","v":""},{"$f":"IF(Deviation_CEM_CPMS!C637=\"\",\"\",Deviation_CEM_CPMS!C637)","v":""},{"$f":"IF(Deviation_CEM_CPMS!D637=\"\",\"\",Deviation_CEM_CPMS!D637)","v":""},"",{"$f":"IF(COUNTIF(BA$2:BA615,BA615)=1,BA615,\"\")","v":""},"","",""]
[null,null,null,null,null,null,null,null,null,null,null,null,null,null,null,null,null,null,null,null,null,null,null,null,null,null,{"$f":"+IF(AE616=\"\",\"\",MAX(AA$1:AA615)+1)","v":""},{"$f":"IF(#REF!=\"\",\"\",#REF!)","v":{"$error":"#REF!"}},{"$f":"IF(#REF!=\"\",\"\",#REF!)","v":{"$error":"#REF!"}},{"$error":"#REF!"},{"$f":"IF(COUNTIF(AC$2:AC616,AC616)=1,AC616,\"\")","v":""},"","",null,null,null,null,null,null,null,{"$f":"+IF(AT616=\"\",\"\",MAX(AO$1:AO615)+1)","v":""},{"$f":"IF(Deviation_Limits!B638=\"\",\"\",Deviation_Limits!B638)","v":""},{"$f":"IF(Deviation_Limits!C638=\"\",\"\",Deviation_Limits!C638)","v":""},{"$f":"IF(Deviation_Limits!D638=\"\",\"\",Deviation_Limits!D638)","v":""},"",{"$f":"IF(COUNTIF(AQ$2:AQ616,AQ616)=1,AQ616,\"\")","v":""},"","","",null,{"$f":"+IF(BD616=\"\",\"\",MAX(AY$1:AY615)+1)","v":""},{"$f":"IF(Deviation_CEM_CPMS!B638=\"\",\"\",Deviation_CEM_CPMS!B638)","v":""},{"$f":"IF(Deviation_CEM_CPMS!C638=\"\",\"\",Deviation_CEM_CPMS!C638)","v":""},{"$f":"IF(Deviation_CEM_CPMS!D638=\"\",\"\",Deviation_CEM_CPMS!D638)","v":""},"",{"$f":"IF(COUNTIF(BA$2:BA616,BA616)=1,BA616,\"\")","v":""},"","",""]
[null,null,null,null,null,null,null,null,null,null,null,null,null,null,null,null,null,null,null,null,null,null,null,null,null,null,{"$f":"+IF(AE617=\"\",\"\",MAX(AA$1:AA616)+1)","v":""},{"$f":"IF(#REF!=\"\",\"\",#REF!)","v":{"$error":"#REF!"}},{"$f":"IF(#REF!=\"\",\"\",#REF!)","v":{"$error":"#REF!"}},{"$error":"#REF!"},{"$f":"IF(COUNTIF(AC$2:AC617,AC617)=1,AC617,\"\")","v":""},"","",null,null,null,null,null,null,null,{"$f":"+IF(AT617=\"\",\"\",MAX(AO$1:AO616)+1)","v":""},{"$f":"IF(Deviation_Limits!B639=\"\",\"\",Deviation_Limits!B639)","v":""},{"$f":"IF(Deviation_Limits!C639=\"\",\"\",Deviation_Limits!C639)","v":""},{"$f":"IF(Deviation_Limits!D639=\"\",\"\",Deviation_Limits!D639)","v":""},"",{"$f":"IF(COUNTIF(AQ$2:AQ617,AQ617)=1,AQ617,\"\")","v":""},"","","",null,{"$f":"+IF(BD617=\"\",\"\",MAX(AY$1:AY616)+1)","v":""},{"$f":"IF(Deviation_CEM_CPMS!B639=\"\",\"\",Deviation_CEM_CPMS!B639)","v":""},{"$f":"IF(Deviation_CEM_CPMS!C639=\"\",\"\",Deviation_CEM_CPMS!C639)","v":""},{"$f":"IF(Deviation_CEM_CPMS!D639=\"\",\"\",Deviation_CEM_CPMS!D639)","v":""},"",{"$f":"IF(COUNTIF(BA$2:BA617,BA617)=1,BA617,\"\")","v":""},"","",""]
[null,null,null,null,null,null,null,null,null,null,null,null,null,null,null,null,null,null,null,null,null,null,null,null,null,null,{"$f":"+IF(AE618=\"\",\"\",MAX(AA$1:AA617)+1)","v":""},{"$f":"IF(#REF!=\"\",\"\",#REF!)","v":{"$error":"#REF!"}},{"$f":"IF(#REF!=\"\",\"\",#REF!)","v":{"$error":"#REF!"}},{"$error":"#REF!"},{"$f":"IF(COUNTIF(AC$2:AC618,AC618)=1,AC618,\"\")","v":""},"","",null,null,null,null,null,null,null,{"$f":"+IF(AT618=\"\",\"\",MAX(AO$1:AO617)+1)","v":""},{"$f":"IF(Deviation_Limits!B640=\"\",\"\",Deviation_Limits!B640)","v":""},{"$f":"IF(Deviation_Limits!C640=\"\",\"\",Deviation_Limits!C640)","v":""},{"$f":"IF(Deviation_Limits!D640=\"\",\"\",Deviation_Limits!D640)","v":""},"",{"$f":"IF(COUNTIF(AQ$2:AQ618,AQ618)=1,AQ618,\"\")","v":""},"","","",null,{"$f":"+IF(BD618=\"\",\"\",MAX(AY$1:AY617)+1)","v":""},{"$f":"IF(Deviation_CEM_CPMS!B640=\"\",\"\",Deviation_CEM_CPMS!B640)","v":""},{"$f":"IF(Deviation_CEM_CPMS!C640=\"\",\"\",Deviation_CEM_CPMS!C640)","v":""},{"$f":"IF(Deviation_CEM_CPMS!D640=\"\",\"\",Deviation_CEM_CPMS!D640)","v":""},"",{"$f":"IF(COUNTIF(BA$2:BA618,BA618)=1,BA618,\"\")","v":""},"","",""]
[null,null,null,null,null,null,null,null,null,null,null,null,null,null,null,null,null,null,null,null,null,null,null,null,null,null,{"$f":"+IF(AE619=\"\",\"\",MAX(AA$1:AA618)+1)","v":""},{"$f":"IF(#REF!=\"\",\"\",#REF!)","v":{"$error":"#REF!"}},{"$f":"IF(#REF!=\"\",\"\",#REF!)","v":{"$error":"#REF!"}},{"$error":"#REF!"},{"$f":"IF(COUNTIF(AC$2:AC619,AC619)=1,AC619,\"\")","v":""},"","",null,null,null,null,null,null,null,{"$f":"+IF(AT619=\"\",\"\",MAX(AO$1:AO618)+1)","v":""},{"$f":"IF(Deviation_Limits!B641=\"\",\"\",Deviation_Limits!B641)","v":""},{"$f":"IF(Deviation_Limits!C641=\"\",\"\",Deviation_Limits!C641)","v":""},{"$f":"IF(Deviation_Limits!D641=\"\",\"\",Deviation_Limits!D641)","v":""},"",{"$f":"IF(COUNTIF(AQ$2:AQ619,AQ619)=1,AQ619,\"\")","v":""},"","","",null,{"$f":"+IF(BD619=\"\",\"\",MAX(AY$1:AY618)+1)","v":""},{"$f":"IF(Deviation_CEM_CPMS!B641=\"\",\"\",Deviation_CEM_CPMS!B641)","v":""},{"$f":"IF(Deviation_CEM_CPMS!C641=\"\",\"\",Deviation_CEM_CPMS!C641)","v":""},{"$f":"IF(Deviation_CEM_CPMS!D641=\"\",\"\",Deviation_CEM_CPMS!D641)","v":""},"",{"$f":"IF(COUNTIF(BA$2:BA619,BA619)=1,BA619,\"\")","v":""},"","",""]
[null,null,null,null,null,null,null,null,null,null,null,null,null,null,null,null,null,null,null,null,null,null,null,null,null,null,{"$f":"+IF(AE620=\"\",\"\",MAX(AA$1:AA619)+1)","v":""},{"$f":"IF(#REF!=\"\",\"\",#REF!)","v":{"$error":"#REF!"}},{"$f":"IF(#REF!=\"\",\"\",#REF!)","v":{"$error":"#REF!"}},{"$error":"#REF!"},{"$f":"IF(COUNTIF(AC$2:AC620,AC620)=1,AC620,\"\")","v":""},"","",null,null,null,null,null,null,null,{"$f":"+IF(AT620=\"\",\"\",MAX(AO$1:AO619)+1)","v":""},{"$f":"IF(Deviation_Limits!B642=\"\",\"\",Deviation_Limits!B642)","v":""},{"$f":"IF(Deviation_Limits!C642=\"\",\"\",Deviation_Limits!C642)","v":""},{"$f":"IF(Deviation_Limits!D642=\"\",\"\",Deviation_Limits!D642)","v":""},"",{"$f":"IF(COUNTIF(AQ$2:AQ620,AQ620)=1,AQ620,\"\")","v":""},"","","",null,{"$f":"+IF(BD620=\"\",\"\",MAX(AY$1:AY619)+1)","v":""},{"$f":"IF(Deviation_CEM_CPMS!B642=\"\",\"\",Deviation_CEM_CPMS!B642)","v":""},{"$f":"IF(Deviation_CEM_CPMS!C642=\"\",\"\",Deviation_CEM_CPMS!C642)","v":""},{"$f":"IF(Deviation_CEM_CPMS!D642=\"\",\"\",Deviation_CEM_CPMS!D642)","v":""},"",{"$f":"IF(COUNTIF(BA$2:BA620,BA620)=1,BA620,\"\")","v":""},"","",""]
[null,null,null,null,null,null,null,null,null,null,null,null,null,null,null,null,null,null,null,null,null,null,null,null,null,null,{"$f":"+IF(AE621=\"\",\"\",MAX(AA$1:AA620)+1)","v":""},{"$f":"IF(#REF!=\"\",\"\",#REF!)","v":{"$error":"#REF!"}},{"$f":"IF(#REF!=\"\",\"\",#REF!)","v":{"$error":"#REF!"}},{"$error":"#REF!"},{"$f":"IF(COUNTIF(AC$2:AC621,AC621)=1,AC621,\"\")","v":""},"","",null,null,null,null,null,null,null,{"$f":"+IF(AT621=\"\",\"\",MAX(AO$1:AO620)+1)","v":""},{"$f":"IF(Deviation_Limits!B643=\"\",\"\",Deviation_Limits!B643)","v":""},{"$f":"IF(Deviation_Limits!C643=\"\",\"\",Deviation_Limits!C643)","v":""},{"$f":"IF(Deviation_Limits!D643=\"\",\"\",Deviation_Limits!D643)","v":""},"",{"$f":"IF(COUNTIF(AQ$2:AQ621,AQ621)=1,AQ621,\"\")","v":""},"","","",null,{"$f":"+IF(BD621=\"\",\"\",MAX(AY$1:AY620)+1)","v":""},{"$f":"IF(Deviation_CEM_CPMS!B643=\"\",\"\",Deviation_CEM_CPMS!B643)","v":""},{"$f":"IF(Deviation_CEM_CPMS!C643=\"\",\"\",Deviation_CEM_CPMS!C643)","v":""},{"$f":"IF(Deviation_CEM_CPMS!D643=\"\",\"\",Deviation_CEM_CPMS!D643)","v":""},"",{"$f":"IF(COUNTIF(BA$2:BA621,BA621)=1,BA621,\"\")","v":""},"","",""]
[null,null,null,null,null,null,null,null,null,null,null,null,null,null,null,null,null,null,null,null,null,null,null,null,null,null,{"$f":"+IF(AE622=\"\",\"\",MAX(AA$1:AA621)+1)","v":""},{"$f":"IF(#REF!=\"\",\"\",#REF!)","v":{"$error":"#REF!"}},{"$f":"IF(#REF!=\"\",\"\",#REF!)","v":{"$error":"#REF!"}},{"$error":"#REF!"},{"$f":"IF(COUNTIF(AC$2:AC622,AC622)=1,AC622,\"\")","v":""},"","",null,null,null,null,null,null,null,{"$f":"+IF(AT622=\"\",\"\",MAX(AO$1:AO621)+1)","v":""},{"$f":"IF(Deviation_Limits!B644=\"\",\"\",Deviation_Limits!B644)","v":""},{"$f":"IF(Deviation_Limits!C644=\"\",\"\",Deviation_Limits!C644)","v":""},{"$f":"IF(Deviation_Limits!D644=\"\",\"\",Deviation_Limits!D644)","v":""},"",{"$f":"IF(COUNTIF(AQ$2:AQ622,AQ622)=1,AQ622,\"\")","v":""},"","","",null,{"$f":"+IF(BD622=\"\",\"\",MAX(AY$1:AY621)+1)","v":""},{"$f":"IF(Deviation_CEM_CPMS!B644=\"\",\"\",Deviation_CEM_CPMS!B644)","v":""},{"$f":"IF(Deviation_CEM_CPMS!C644=\"\",\"\",Deviation_CEM_CPMS!C644)","v":""},{"$f":"IF(Deviation_CEM_CPMS!D644=\"\",\"\",Deviation_CEM_CPMS!D644)","v":""},"",{"$f":"IF(COUNTIF(BA$2:BA622,BA622)=1,BA622,\"\")","v":""},"","",""]
[null,null,null,null,null,null,null,null,null,null,null,null,null,null,null,null,null,null,null,null,null,null,null,null,null,null,{"$f":"+IF(AE623=\"\",\"\",MAX(AA$1:AA622)+1)","v":""},{"$f":"IF(#REF!=\"\",\"\",#REF!)","v":{"$error":"#REF!"}},{"$f":"IF(#REF!=\"\",\"\",#REF!)","v":{"$error":"#REF!"}},{"$error":"#REF!"},{"$f":"IF(COUNTIF(AC$2:AC623,AC623)=1,AC623,\"\")","v":""},"","",null,null,null,null,null,null,null,{"$f":"+IF(AT623=\"\",\"\",MAX(AO$1:AO622)+1)","v":""},{"$f":"IF(Deviation_Limits!B645=\"\",\"\",Deviation_Limits!B645)","v":""},{"$f":"IF(Deviation_Limits!C645=\"\",\"\",Deviation_Limits!C645)","v":""},{"$f":"IF(Deviation_Limits!D645=\"\",\"\",Deviation_Limits!D645)","v":""},"",{"$f":"IF(COUNTIF(AQ$2:AQ623,AQ623)=1,AQ623,\"\")","v":""},"","","",null,{"$f":"+IF(BD623=\"\",\"\",MAX(AY$1:AY622)+1)","v":""},{"$f":"IF(Deviation_CEM_CPMS!B645=\"\",\"\",Deviation_CEM_CPMS!B645)","v":""},{"$f":"IF(Deviation_CEM_CPMS!C645=\"\",\"\",Deviation_CEM_CPMS!C645)","v":""},{"$f":"IF(Deviation_CEM_CPMS!D645=\"\",\"\",Deviation_CEM_CPMS!D645)","v":""},"",{"$f":"IF(COUNTIF(BA$2:BA623,BA623)=1,BA623,\"\")","v":""},"","",""]
[null,null,null,null,null,null,null,null,null,null,null,null,null,null,null,null,null,null,null,null,null,null,null,null,null,null,{"$f":"+IF(AE624=\"\",\"\",MAX(AA$1:AA623)+1)","v":""},{"$f":"IF(#REF!=\"\",\"\",#REF!)","v":{"$error":"#REF!"}},{"$f":"IF(#REF!=\"\",\"\",#REF!)","v":{"$error":"#REF!"}},{"$error":"#REF!"},{"$f":"IF(COUNTIF(AC$2:AC624,AC624)=1,AC624,\"\")","v":""},"","",null,null,null,null,null,null,null,{"$f":"+IF(AT624=\"\",\"\",MAX(AO$1:AO623)+1)","v":""},{"$f":"IF(Deviation_Limits!B646=\"\",\"\",Deviation_Limits!B646)","v":""},{"$f":"IF(Deviation_Limits!C646=\"\",\"\",Deviation_Limits!C646)","v":""},{"$f":"IF(Deviation_Limits!D646=\"\",\"\",Deviation_Limits!D646)","v":""},"",{"$f":"IF(COUNTIF(AQ$2:AQ624,AQ624)=1,AQ624,\"\")","v":""},"","","",null,{"$f":"+IF(BD624=\"\",\"\",MAX(AY$1:AY623)+1)","v":""},{"$f":"IF(Deviation_CEM_CPMS!B646=\"\",\"\",Deviation_CEM_CPMS!B646)","v":""},{"$f":"IF(Deviation_CEM_CPMS!C646=\"\",\"\",Deviation_CEM_CPMS!C646)","v":""},{"$f":"IF(Deviation_CEM_CPMS!D646=\"\",\"\",Deviation_CEM_CPMS!D646)","v":""},"",{"$f":"IF(COUNTIF(BA$2:BA624,BA624)=1,BA624,\"\")","v":""},"","",""]
[null,null,null,null,null,null,null,null,null,null,null,null,null,null,null,null,null,null,null,null,null,null,null,null,null,null,{"$f":"+IF(AE625=\"\",\"\",MAX(AA$1:AA624)+1)","v":""},{"$f":"IF(#REF!=\"\",\"\",#REF!)","v":{"$error":"#REF!"}},{"$f":"IF(#REF!=\"\",\"\",#REF!)","v":{"$error":"#REF!"}},{"$error":"#REF!"},{"$f":"IF(COUNTIF(AC$2:AC625,AC625)=1,AC625,\"\")","v":""},"","",null,null,null,null,null,null,null,{"$f":"+IF(AT625=\"\",\"\",MAX(AO$1:AO624)+1)","v":""},{"$f":"IF(Deviation_Limits!B647=\"\",\"\",Deviation_Limits!B647)","v":""},{"$f":"IF(Deviation_Limits!C647=\"\",\"\",Deviation_Limits!C647)","v":""},{"$f":"IF(Deviation_Limits!D647=\"\",\"\",Deviation_Limits!D647)","v":""},"",{"$f":"IF(COUNTIF(AQ$2:AQ625,AQ625)=1,AQ625,\"\")","v":""},"","","",null,{"$f":"+IF(BD625=\"\",\"\",MAX(AY$1:AY624)+1)","v":""},{"$f":"IF(Deviation_CEM_CPMS!B647=\"\",\"\",Deviation_CEM_CPMS!B647)","v":""},{"$f":"IF(Deviation_CEM_CPMS!C647=\"\",\"\",Deviation_CEM_CPMS!C647)","v":""},{"$f":"IF(Deviation_CEM_CPMS!D647=\"\",\"\",Deviation_CEM_CPMS!D647)","v":""},"",{"$f":"IF(COUNTIF(BA$2:BA625,BA625)=1,BA625,\"\")","v":""},"","",""]
[null,null,null,null,null,null,null,null,null,null,null,null,null,null,null,null,null,null,null,null,null,null,null,null,null,null,{"$f":"+IF(AE626=\"\",\"\",MAX(AA$1:AA625)+1)","v":""},{"$f":"IF(#REF!=\"\",\"\",#REF!)","v":{"$error":"#REF!"}},{"$f":"IF(#REF!=\"\",\"\",#REF!)","v":{"$error":"#REF!"}},{"$error":"#REF!"},{"$f":"IF(COUNTIF(AC$2:AC626,AC626)=1,AC626,\"\")","v":""},"","",null,null,null,null,null,null,null,{"$f":"+IF(AT626=\"\",\"\",MAX(AO$1:AO625)+1)","v":""},{"$f":"IF(Deviation_Limits!B648=\"\",\"\",Deviation_Limits!B648)","v":""},{"$f":"IF(Deviation_Limits!C648=\"\",\"\",Deviation_Limits!C648)","v":""},{"$f":"IF(Deviation_Limits!D648=\"\",\"\",Deviation_Limits!D648)","v":""},"",{"$f":"IF(COUNTIF(AQ$2:AQ626,AQ626)=1,AQ626,\"\")","v":""},"","","",null,{"$f":"+IF(BD626=\"\",\"\",MAX(AY$1:AY625)+1)","v":""},{"$f":"IF(Deviation_CEM_CPMS!B648=\"\",\"\",Deviation_CEM_CPMS!B648)","v":""},{"$f":"IF(Deviation_CEM_CPMS!C648=\"\",\"\",Deviation_CEM_CPMS!C648)","v":""},{"$f":"IF(Deviation_CEM_CPMS!D648=\"\",\"\",Deviation_CEM_CPMS!D648)","v":""},"",{"$f":"IF(COUNTIF(BA$2:BA626,BA626)=1,BA626,\"\")","v":""},"","",""]
[null,null,null,null,null,null,null,null,null,null,null,null,null,null,null,null,null,null,null,null,null,null,null,null,null,null,{"$f":"+IF(AE627=\"\",\"\",MAX(AA$1:AA626)+1)","v":""},{"$f":"IF(#REF!=\"\",\"\",#REF!)","v":{"$error":"#REF!"}},{"$f":"IF(#REF!=\"\",\"\",#REF!)","v":{"$error":"#REF!"}},{"$error":"#REF!"},{"$f":"IF(COUNTIF(AC$2:AC627,AC627)=1,AC627,\"\")","v":""},"","",null,null,null,null,null,null,null,{"$f":"+IF(AT627=\"\",\"\",MAX(AO$1:AO626)+1)","v":""},{"$f":"IF(Deviation_Limits!B649=\"\",\"\",Deviation_Limits!B649)","v":""},{"$f":"IF(Deviation_Limits!C649=\"\",\"\",Deviation_Limits!C649)","v":""},{"$f":"IF(Deviation_Limits!D649=\"\",\"\",Deviation_Limits!D649)","v":""},"",{"$f":"IF(COUNTIF(AQ$2:AQ627,AQ627)=1,AQ627,\"\")","v":""},"","","",null,{"$f":"+IF(BD627=\"\",\"\",MAX(AY$1:AY626)+1)","v":""},{"$f":"IF(Deviation_CEM_CPMS!B649=\"\",\"\",Deviation_CEM_CPMS!B649)","v":""},{"$f":"IF(Deviation_CEM_CPMS!C649=\"\",\"\",Deviation_CEM_CPMS!C649)","v":""},{"$f":"IF(Deviation_CEM_CPMS!D649=\"\",\"\",Deviation_CEM_CPMS!D649)","v":""},"",{"$f":"IF(COUNTIF(BA$2:BA627,BA627)=1,BA627,\"\")","v":""},"","",""]
[null,null,null,null,null,null,null,null,null,null,null,null,null,null,null,null,null,null,null,null,null,null,null,null,null,null,{"$f":"+IF(AE628=\"\",\"\",MAX(AA$1:AA627)+1)","v":""},{"$f":"IF(#REF!=\"\",\"\",#REF!)","v":{"$error":"#REF!"}},{"$f":"IF(#REF!=\"\",\"\",#REF!)","v":{"$error":"#REF!"}},{"$error":"#REF!"},{"$f":"IF(COUNTIF(AC$2:AC628,AC628)=1,AC628,\"\")","v":""},"","",null,null,null,null,null,null,null,{"$f":"+IF(AT628=\"\",\"\",MAX(AO$1:AO627)+1)","v":""},{"$f":"IF(Deviation_Limits!B650=\"\",\"\",Deviation_Limits!B650)","v":""},{"$f":"IF(Deviation_Limits!C650=\"\",\"\",Deviation_Limits!C650)","v":""},{"$f":"IF(Deviation_Limits!D650=\"\",\"\",Deviation_Limits!D650)","v":""},"",{"$f":"IF(COUNTIF(AQ$2:AQ628,AQ628)=1,AQ628,\"\")","v":""},"","","",null,{"$f":"+IF(BD628=\"\",\"\",MAX(AY$1:AY627)+1)","v":""},{"$f":"IF(Deviation_CEM_CPMS!B650=\"\",\"\",Deviation_CEM_CPMS!B650)","v":""},{"$f":"IF(Deviation_CEM_CPMS!C650=\"\",\"\",Deviation_CEM_CPMS!C650)","v":""},{"$f":"IF(Deviation_CEM_CPMS!D650=\"\",\"\",Deviation_CEM_CPMS!D650)","v":""},"",{"$f":"IF(COUNTIF(BA$2:BA628,BA628)=1,BA628,\"\")","v":""},"","",""]
[null,null,null,null,null,null,null,null,null,null,null,null,null,null,null,null,null,null,null,null,null,null,null,null,null,null,{"$f":"+IF(AE629=\"\",\"\",MAX(AA$1:AA628)+1)","v":""},{"$f":"IF(#REF!=\"\",\"\",#REF!)","v":{"$error":"#REF!"}},{"$f":"IF(#REF!=\"\",\"\",#REF!)","v":{"$error":"#REF!"}},{"$error":"#REF!"},{"$f":"IF(COUNTIF(AC$2:AC629,AC629)=1,AC629,\"\")","v":""},"","",null,null,null,null,null,null,null,{"$f":"+IF(AT629=\"\",\"\",MAX(AO$1:AO628)+1)","v":""},{"$f":"IF(Deviation_Limits!B651=\"\",\"\",Deviation_Limits!B651)","v":""},{"$f":"IF(Deviation_Limits!C651=\"\",\"\",Deviation_Limits!C651)","v":""},{"$f":"IF(Deviation_Limits!D651=\"\",\"\",Deviation_Limits!D651)","v":""},"",{"$f":"IF(COUNTIF(AQ$2:AQ629,AQ629)=1,AQ629,\"\")","v":""},"","","",null,{"$f":"+IF(BD629=\"\",\"\",MAX(AY$1:AY628)+1)","v":""},{"$f":"IF(Deviation_CEM_CPMS!B651=\"\",\"\",Deviation_CEM_CPMS!B651)","v":""},{"$f":"IF(Deviation_CEM_CPMS!C651=\"\",\"\",Deviation_CEM_CPMS!C651)","v":""},{"$f":"IF(Deviation_CEM_CPMS!D651=\"\",\"\",Deviation_CEM_CPMS!D651)","v":""},"",{"$f":"IF(COUNTIF(BA$2:BA629,BA629)=1,BA629,\"\")","v":""},"","",""]
[null,null,null,null,null,null,null,null,null,null,null,null,null,null,null,null,null,null,null,null,null,null,null,null,null,null,{"$f":"+IF(AE630=\"\",\"\",MAX(AA$1:AA629)+1)","v":""},{"$f":"IF(#REF!=\"\",\"\",#REF!)","v":{"$error":"#REF!"}},{"$f":"IF(#REF!=\"\",\"\",#REF!)","v":{"$error":"#REF!"}},{"$error":"#REF!"},{"$f":"IF(COUNTIF(AC$2:AC630,AC630)=1,AC630,\"\")","v":""},"","",null,null,null,null,null,null,null,{"$f":"+IF(AT630=\"\",\"\",MAX(AO$1:AO629)+1)","v":""},{"$f":"IF(Deviation_Limits!B652=\"\",\"\",Deviation_Limits!B652)","v":""},{"$f":"IF(Deviation_Limits!C652=\"\",\"\",Deviation_Limits!C652)","v":""},{"$f":"IF(Deviation_Limits!D652=\"\",\"\",Deviation_Limits!D652)","v":""},"",{"$f":"IF(COUNTIF(AQ$2:AQ630,AQ630)=1,AQ630,\"\")","v":""},"","","",null,{"$f":"+IF(BD630=\"\",\"\",MAX(AY$1:AY629)+1)","v":""},{"$f":"IF(Deviation_CEM_CPMS!B652=\"\",\"\",Deviation_CEM_CPMS!B652)","v":""},{"$f":"IF(Deviation_CEM_CPMS!C652=\"\",\"\",Deviation_CEM_CPMS!C652)","v":""},{"$f":"IF(Deviation_CEM_CPMS!D652=\"\",\"\",Deviation_CEM_CPMS!D652)","v":""},"",{"$f":"IF(COUNTIF(BA$2:BA630,BA630)=1,BA630,\"\")","v":""},"","",""]
[null,null,null,null,null,null,null,null,null,null,null,null,null,null,null,null,null,null,null,null,null,null,null,null,null,null,{"$f":"+IF(AE631=\"\",\"\",MAX(AA$1:AA630)+1)","v":""},{"$f":"IF(#REF!=\"\",\"\",#REF!)","v":{"$error":"#REF!"}},{"$f":"IF(#REF!=\"\",\"\",#REF!)","v":{"$error":"#REF!"}},{"$error":"#REF!"},{"$f":"IF(COUNTIF(AC$2:AC631,AC631)=1,AC631,\"\")","v":""},"","",null,null,null,null,null,null,null,{"$f":"+IF(AT631=\"\",\"\",MAX(AO$1:AO630)+1)","v":""},{"$f":"IF(Deviation_Limits!B653=\"\",\"\",Deviation_Limits!B653)","v":""},{"$f":"IF(Deviation_Limits!C653=\"\",\"\",Deviation_Limits!C653)","v":""},{"$f":"IF(Deviation_Limits!D653=\"\",\"\",Deviation_Limits!D653)","v":""},"",{"$f":"IF(COUNTIF(AQ$2:AQ631,AQ631)=1,AQ631,\"\")","v":""},"","","",null,{"$f":"+IF(BD631=\"\",\"\",MAX(AY$1:AY630)+1)","v":""},{"$f":"IF(Deviation_CEM_CPMS!B653=\"\",\"\",Deviation_CEM_CPMS!B653)","v":""},{"$f":"IF(Deviation_CEM_CPMS!C653=\"\",\"\",Deviation_CEM_CPMS!C653)","v":""},{"$f":"IF(Deviation_CEM_CPMS!D653=\"\",\"\",Deviation_CEM_CPMS!D653)","v":""},"",{"$f":"IF(COUNTIF(BA$2:BA631,BA631)=1,BA631,\"\")","v":""},"","",""]
[null,null,null,null,null,null,null,null,null,null,null,null,null,null,null,null,null,null,null,null,null,null,null,null,null,null,{"$f":"+IF(AE632=\"\",\"\",MAX(AA$1:AA631)+1)","v":""},{"$f":"IF(#REF!=\"\",\"\",#REF!)","v":{"$error":"#REF!"}},{"$f":"IF(#REF!=\"\",\"\",#REF!)","v":{"$error":"#REF!"}},{"$error":"#REF!"},{"$f":"IF(COUNTIF(AC$2:AC632,AC632)=1,AC632,\"\")","v":""},"","",null,null,null,null,null,null,null,{"$f":"+IF(AT632=\"\",\"\",MAX(AO$1:AO631)+1)","v":""},{"$f":"IF(Deviation_Limits!B654=\"\",\"\",Deviation_Limits!B654)","v":""},{"$f":"IF(Deviation_Limits!C654=\"\",\"\",Deviation_Limits!C654)","v":""},{"$f":"IF(Deviation_Limits!D654=\"\",\"\",Deviation_Limits!D654)","v":""},"",{"$f":"IF(COUNTIF(AQ$2:AQ632,AQ632)=1,AQ632,\"\")","v":""},"","","",null,{"$f":"+IF(BD632=\"\",\"\",MAX(AY$1:AY631)+1)","v":""},{"$f":"IF(Deviation_CEM_CPMS!B654=\"\",\"\",Deviation_CEM_CPMS!B654)","v":""},{"$f":"IF(Deviation_CEM_CPMS!C654=\"\",\"\",Deviation_CEM_CPMS!C654)","v":""},{"$f":"IF(Deviation_CEM_CPMS!D654=\"\",\"\",Deviation_CEM_CPMS!D654)","v":""},"",{"$f":"IF(COUNTIF(BA$2:BA632,BA632)=1,BA632,\"\")","v":""},"","",""]
[null,null,null,null,null,null,null,null,null,null,null,null,null,null,null,null,null,null,null,null,null,null,null,null,null,null,{"$f":"+IF(AE633=\"\",\"\",MAX(AA$1:AA632)+1)","v":""},{"$f":"IF(#REF!=\"\",\"\",#REF!)","v":{"$error":"#REF!"}},{"$f":"IF(#REF!=\"\",\"\",#REF!)","v":{"$error":"#REF!"}},{"$error":"#REF!"},{"$f":"IF(COUNTIF(AC$2:AC633,AC633)=1,AC633,\"\")","v":""},"","",null,null,null,null,null,null,null,{"$f":"+IF(AT633=\"\",\"\",MAX(AO$1:AO632)+1)","v":""},{"$f":"IF(Deviation_Limits!B655=\"\",\"\",Deviation_Limits!B655)","v":""},{"$f":"IF(Deviation_Limits!C655=\"\",\"\",Deviation_Limits!C655)","v":""},{"$f":"IF(Deviation_Limits!D655=\"\",\"\",Deviation_Limits!D655)","v":""},"",{"$f":"IF(COUNTIF(AQ$2:AQ633,AQ633)=1,AQ633,\"\")","v":""},"","","",null,{"$f":"+IF(BD633=\"\",\"\",MAX(AY$1:AY632)+1)","v":""},{"$f":"IF(Deviation_CEM_CPMS!B655=\"\",\"\",Deviation_CEM_CPMS!B655)","v":""},{"$f":"IF(Deviation_CEM_CPMS!C655=\"\",\"\",Deviation_CEM_CPMS!C655)","v":""},{"$f":"IF(Deviation_CEM_CPMS!D655=\"\",\"\",Deviation_CEM_CPMS!D655)","v":""},"",{"$f":"IF(COUNTIF(BA$2:BA633,BA633)=1,BA633,\"\")","v":""},"","",""]
[null,null,null,null,null,null,null,null,null,null,null,null,null,null,null,null,null,null,null,null,null,null,null,null,null,null,{"$f":"+IF(AE634=\"\",\"\",MAX(AA$1:AA633)+1)","v":""},{"$f":"IF(#REF!=\"\",\"\",#REF!)","v":{"$error":"#REF!"}},{"$f":"IF(#REF!=\"\",\"\",#REF!)","v":{"$error":"#REF!"}},{"$error":"#REF!"},{"$f":"IF(COUNTIF(AC$2:AC634,AC634)=1,AC634,\"\")","v":""},"","",null,null,null,null,null,null,null,{"$f":"+IF(AT634=\"\",\"\",MAX(AO$1:AO633)+1)","v":""},{"$f":"IF(Deviation_Limits!B656=\"\",\"\",Deviation_Limits!B656)","v":""},{"$f":"IF(Deviation_Limits!C656=\"\",\"\",Deviation_Limits!C656)","v":""},{"$f":"IF(Deviation_Limits!D656=\"\",\"\",Deviation_Limits!D656)","v":""},"",{"$f":"IF(COUNTIF(AQ$2:AQ634,AQ634)=1,AQ634,\"\")","v":""},"","","",null,{"$f":"+IF(BD634=\"\",\"\",MAX(AY$1:AY633)+1)","v":""},{"$f":"IF(Deviation_CEM_CPMS!B656=\"\",\"\",Deviation_CEM_CPMS!B656)","v":""},{"$f":"IF(Deviation_CEM_CPMS!C656=\"\",\"\",Deviation_CEM_CPMS!C656)","v":""},{"$f":"IF(Deviation_CEM_CPMS!D656=\"\",\"\",Deviation_CEM_CPMS!D656)","v":""},"",{"$f":"IF(COUNTIF(BA$2:BA634,BA634)=1,BA634,\"\")","v":""},"","",""]
[null,null,null,null,null,null,null,null,null,null,null,null,null,null,null,null,null,null,null,null,null,null,null,null,null,null,{"$f":"+IF(AE635=\"\",\"\",MAX(AA$1:AA634)+1)","v":""},{"$f":"IF(#REF!=\"\",\"\",#REF!)","v":{"$error":"#REF!"}},{"$f":"IF(#REF!=\"\",\"\",#REF!)","v":{"$error":"#REF!"}},{"$error":"#REF!"},{"$f":"IF(COUNTIF(AC$2:AC635,AC635)=1,AC635,\"\")","v":""},"","",null,null,null,null,null,null,null,{"$f":"+IF(AT635=\"\",\"\",MAX(AO$1:AO634)+1)","v":""},{"$f":"IF(Deviation_Limits!B657=\"\",\"\",Deviation_Limits!B657)","v":""},{"$f":"IF(Deviation_Limits!C657=\"\",\"\",Deviation_Limits!C657)","v":""},{"$f":"IF(Deviation_Limits!D657=\"\",\"\",Deviation_Limits!D657)","v":""},"",{"$f":"IF(COUNTIF(AQ$2:AQ635,AQ635)=1,AQ635,\"\")","v":""},"","","",null,{"$f":"+IF(BD635=\"\",\"\",MAX(AY$1:AY634)+1)","v":""},{"$f":"IF(Deviation_CEM_CPMS!B657=\"\",\"\",Deviation_CEM_CPMS!B657)","v":""},{"$f":"IF(Deviation_CEM_CPMS!C657=\"\",\"\",Deviation_CEM_CPMS!C657)","v":""},{"$f":"IF(Deviation_CEM_CPMS!D657=\"\",\"\",Deviation_CEM_CPMS!D657)","v":""},"",{"$f":"IF(COUNTIF(BA$2:BA635,BA635)=1,BA635,\"\")","v":""},"","",""]
[null,null,null,null,null,null,null,null,null,null,null,null,null,null,null,null,null,null,null,null,null,null,null,null,null,null,{"$f":"+IF(AE636=\"\",\"\",MAX(AA$1:AA635)+1)","v":""},{"$f":"IF(#REF!=\"\",\"\",#REF!)","v":{"$error":"#REF!"}},{"$f":"IF(#REF!=\"\",\"\",#REF!)","v":{"$error":"#REF!"}},{"$error":"#REF!"},{"$f":"IF(COUNTIF(AC$2:AC636,AC636)=1,AC636,\"\")","v":""},"","",null,null,null,null,null,null,null,{"$f":"+IF(AT636=\"\",\"\",MAX(AO$1:AO635)+1)","v":""},{"$f":"IF(Deviation_Limits!B658=\"\",\"\",Deviation_Limits!B658)","v":""},{"$f":"IF(Deviation_Limits!C658=\"\",\"\",Deviation_Limits!C658)","v":""},{"$f":"IF(Deviation_Limits!D658=\"\",\"\",Deviation_Limits!D658)","v":""},"",{"$f":"IF(COUNTIF(AQ$2:AQ636,AQ636)=1,AQ636,\"\")","v":""},"","","",null,{"$f":"+IF(BD636=\"\",\"\",MAX(AY$1:AY635)+1)","v":""},{"$f":"IF(Deviation_CEM_CPMS!B658=\"\",\"\",Deviation_CEM_CPMS!B658)","v":""},{"$f":"IF(Deviation_CEM_CPMS!C658=\"\",\"\",Deviation_CEM_CPMS!C658)","v":""},{"$f":"IF(Deviation_CEM_CPMS!D658=\"\",\"\",Deviation_CEM_CPMS!D658)","v":""},"",{"$f":"IF(COUNTIF(BA$2:BA636,BA636)=1,BA636,\"\")","v":""},"","",""]
[null,null,null,null,null,null,null,null,null,null,null,null,null,null,null,null,null,null,null,null,null,null,null,null,null,null,{"$f":"+IF(AE637=\"\",\"\",MAX(AA$1:AA636)+1)","v":""},{"$f":"IF(#REF!=\"\",\"\",#REF!)","v":{"$error":"#REF!"}},{"$f":"IF(#REF!=\"\",\"\",#REF!)","v":{"$error":"#REF!"}},{"$error":"#REF!"},{"$f":"IF(COUNTIF(AC$2:AC637,AC637)=1,AC637,\"\")","v":""},"","",null,null,null,null,null,null,null,{"$f":"+IF(AT637=\"\",\"\",MAX(AO$1:AO636)+1)","v":""},{"$f":"IF(Deviation_Limits!B659=\"\",\"\",Deviation_Limits!B659)","v":""},{"$f":"IF(Deviation_Limits!C659=\"\",\"\",Deviation_Limits!C659)","v":""},{"$f":"IF(Deviation_Limits!D659=\"\",\"\",Deviation_Limits!D659)","v":""},"",{"$f":"IF(COUNTIF(AQ$2:AQ637,AQ637)=1,AQ637,\"\")","v":""},"","","",null,{"$f":"+IF(BD637=\"\",\"\",MAX(AY$1:AY636)+1)","v":""},{"$f":"IF(Deviation_CEM_CPMS!B659=\"\",\"\",Deviation_CEM_CPMS!B659)","v":""},{"$f":"IF(Deviation_CEM_CPMS!C659=\"\",\"\",Deviation_CEM_CPMS!C659)","v":""},{"$f":"IF(Deviation_CEM_CPMS!D659=\"\",\"\",Deviation_CEM_CPMS!D659)","v":""},"",{"$f":"IF(COUNTIF(BA$2:BA637,BA637)=1,BA637,\"\")","v":""},"","",""]
[null,null,null,null,null,null,null,null,null,null,null,null,null,null,null,null,null,null,null,null,null,null,null,null,null,null,{"$f":"+IF(AE638=\"\",\"\",MAX(AA$1:AA637)+1)","v":""},{"$f":"IF(#REF!=\"\",\"\",#REF!)","v":{"$error":"#REF!"}},{"$f":"IF(#REF!=\"\",\"\",#REF!)","v":{"$error":"#REF!"}},{"$error":"#REF!"},{"$f":"IF(COUNTIF(AC$2:AC638,AC638)=1,AC638,\"\")","v":""},"","",null,null,null,null,null,null,null,{"$f":"+IF(AT638=\"\",\"\",MAX(AO$1:AO637)+1)","v":""},{"$f":"IF(Deviation_Limits!B660=\"\",\"\",Deviation_Limits!B660)","v":""},{"$f":"IF(Deviation_Limits!C660=\"\",\"\",Deviation_Limits!C660)","v":""},{"$f":"IF(Deviation_Limits!D660=\"\",\"\",Deviation_Limits!D660)","v":""},"",{"$f":"IF(COUNTIF(AQ$2:AQ638,AQ638)=1,AQ638,\"\")","v":""},"","","",null,{"$f":"+IF(BD638=\"\",\"\",MAX(AY$1:AY637)+1)","v":""},{"$f":"IF(Deviation_CEM_CPMS!B660=\"\",\"\",Deviation_CEM_CPMS!B660)","v":""},{"$f":"IF(Deviation_CEM_CPMS!C660=\"\",\"\",Deviation_CEM_CPMS!C660)","v":""},{"$f":"IF(Deviation_CEM_CPMS!D660=\"\",\"\",Deviation_CEM_CPMS!D660)","v":""},"",{"$f":"IF(COUNTIF(BA$2:BA638,BA638)=1,BA638,\"\")","v":""},"","",""]
[null,null,null,null,null,null,null,null,null,null,null,null,null,null,null,null,null,null,null,null,null,null,null,null,null,null,{"$f":"+IF(AE639=\"\",\"\",MAX(AA$1:AA638)+1)","v":""},{"$f":"IF(#REF!=\"\",\"\",#REF!)","v":{"$error":"#REF!"}},{"$f":"IF(#REF!=\"\",\"\",#REF!)","v":{"$error":"#REF!"}},{"$error":"#REF!"},{"$f":"IF(COUNTIF(AC$2:AC639,AC639)=1,AC639,\"\")","v":""},"","",null,null,null,null,null,null,null,{"$f":"+IF(AT639=\"\",\"\",MAX(AO$1:AO638)+1)","v":""},{"$f":"IF(Deviation_Limits!B661=\"\",\"\",Deviation_Limits!B661)","v":""},{"$f":"IF(Deviation_Limits!C661=\"\",\"\",Deviation_Limits!C661)","v":""},{"$f":"IF(Deviation_Limits!D661=\"\",\"\",Deviation_Limits!D661)","v":""},"",{"$f":"IF(COUNTIF(AQ$2:AQ639,AQ639)=1,AQ639,\"\")","v":""},"","","",null,{"$f":"+IF(BD639=\"\",\"\",MAX(AY$1:AY638)+1)","v":""},{"$f":"IF(Deviation_CEM_CPMS!B661=\"\",\"\",Deviation_CEM_CPMS!B661)","v":""},{"$f":"IF(Deviation_CEM_CPMS!C661=\"\",\"\",Deviation_CEM_CPMS!C661)","v":""},{"$f":"IF(Deviation_CEM_CPMS!D661=\"\",\"\",Deviation_CEM_CPMS!D661)","v":""},"",{"$f":"IF(COUNTIF(BA$2:BA639,BA639)=1,BA639,\"\")","v":""},"","",""]
[null,null,null,null,null,null,null,null,null,null,null,null,null,null,null,null,null,null,null,null,null,null,null,null,null,null,{"$f":"+IF(AE640=\"\",\"\",MAX(AA$1:AA639)+1)","v":""},{"$f":"IF(#REF!=\"\",\"\",#REF!)","v":{"$error":"#REF!"}},{"$f":"IF(#REF!=\"\",\"\",#REF!)","v":{"$error":"#REF!"}},{"$error":"#REF!"},{"$f":"IF(COUNTIF(AC$2:AC640,AC640)=1,AC640,\"\")","v":""},"","",null,null,null,null,null,null,null,{"$f":"+IF(AT640=\"\",\"\",MAX(AO$1:AO639)+1)","v":""},{"$f":"IF(Deviation_Limits!B662=\"\",\"\",Deviation_Limits!B662)","v":""},{"$f":"IF(Deviation_Limits!C662=\"\",\"\",Deviation_Limits!C662)","v":""},{"$f":"IF(Deviation_Limits!D662=\"\",\"\",Deviation_Limits!D662)","v":""},"",{"$f":"IF(COUNTIF(AQ$2:AQ640,AQ640)=1,AQ640,\"\")","v":""},"","","",null,{"$f":"+IF(BD640=\"\",\"\",MAX(AY$1:AY639)+1)","v":""},{"$f":"IF(Deviation_CEM_CPMS!B662=\"\",\"\",Deviation_CEM_CPMS!B662)","v":""},{"$f":"IF(Deviation_CEM_CPMS!C662=\"\",\"\",Deviation_CEM_CPMS!C662)","v":""},{"$f":"IF(Deviation_CEM_CPMS!D662=\"\",\"\",Deviation_CEM_CPMS!D662)","v":""},"",{"$f":"IF(COUNTIF(BA$2:BA640,BA640)=1,BA640,\"\")","v":""},"","",""]
[null,null,null,null,null,null,null,null,null,null,null,null,null,null,null,null,null,null,null,null,null,null,null,null,null,null,{"$f":"+IF(AE641=\"\",\"\",MAX(AA$1:AA640)+1)","v":""},{"$f":"IF(#REF!=\"\",\"\",#REF!)","v":{"$error":"#REF!"}},{"$f":"IF(#REF!=\"\",\"\",#REF!)","v":{"$error":"#REF!"}},{"$error":"#REF!"},{"$f":"IF(COUNTIF(AC$2:AC641,AC641)=1,AC641,\"\")","v":""},"","",null,null,null,null,null,null,null,{"$f":"+IF(AT641=\"\",\"\",MAX(AO$1:AO640)+1)","v":""},{"$f":"IF(Deviation_Limits!B663=\"\",\"\",Deviation_Limits!B663)","v":""},{"$f":"IF(Deviation_Limits!C663=\"\",\"\",Deviation_Limits!C663)","v":""},{"$f":"IF(Deviation_Limits!D663=\"\",\"\",Deviation_Limits!D663)","v":""},"",{"$f":"IF(COUNTIF(AQ$2:AQ641,AQ641)=1,AQ641,\"\")","v":""},"","","",null,{"$f":"+IF(BD641=\"\",\"\",MAX(AY$1:AY640)+1)","v":""},{"$f":"IF(Deviation_CEM_CPMS!B663=\"\",\"\",Deviation_CEM_CPMS!B663)","v":""},{"$f":"IF(Deviation_CEM_CPMS!C663=\"\",\"\",Deviation_CEM_CPMS!C663)","v":""},{"$f":"IF(Deviation_CEM_CPMS!D663=\"\",\"\",Deviation_CEM_CPMS!D663)","v":""},"",{"$f":"IF(COUNTIF(BA$2:BA641,BA641)=1,BA641,\"\")","v":""},"","",""]
[null,null,null,null,null,null,null,null,null,null,null,null,null,null,null,null,null,null,null,null,null,null,null,null,null,null,{"$f":"+IF(AE642=\"\",\"\",MAX(AA$1:AA641)+1)","v":""},{"$f":"IF(#REF!=\"\",\"\",#REF!)","v":{"$error":"#REF!"}},{"$f":"IF(#REF!=\"\",\"\",#REF!)","v":{"$error":"#REF!"}},{"$error":"#REF!"},{"$f":"IF(COUNTIF(AC$2:AC642,AC642)=1,AC642,\"\")","v":""},"","",null,null,null,null,null,null,null,{"$f":"+IF(AT642=\"\",\"\",MAX(AO$1:AO641)+1)","v":""},{"$f":"IF(Deviation_Limits!B664=\"\",\"\",Deviation_Limits!B664)","v":""},{"$f":"IF(Deviation_Limits!C664=\"\",\"\",Deviation_Limits!C664)","v":""},{"$f":"IF(Deviation_Limits!D664=\"\",\"\",Deviation_Limits!D664)","v":""},"",{"$f":"IF(COUNTIF(AQ$2:AQ642,AQ642)=1,AQ642,\"\")","v":""},"","","",null,{"$f":"+IF(BD642=\"\",\"\",MAX(AY$1:AY641)+1)","v":""},{"$f":"IF(Deviation_CEM_CPMS!B664=\"\",\"\",Deviation_CEM_CPMS!B664)","v":""},{"$f":"IF(Deviation_CEM_CPMS!C664=\"\",\"\",Deviation_CEM_CPMS!C664)","v":""},{"$f":"IF(Deviation_CEM_CPMS!D664=\"\",\"\",Deviation_CEM_CPMS!D664)","v":""},{"$f":"+AZ642&BA642&BB642","v":""},{"$f":"IF(COUNTIF(BA$2:BA642,BA642)=1,BA642,\"\")","v":""},{"$f":"+IFERROR(INDEX(AZ$2:AZ$500,MATCH(ROW()-ROW(BE$1),$AA$2:$AA$500,0)),\"\")","v":""},{"$f":"+IFERROR(INDEX(BA$2:BA$500,MATCH(ROW()-ROW(BE$1),$AA$2:$AA$500,0)),\"\")","v":""},{"$f":"+IFERROR(INDEX(BB$2:BB$500,MATCH(ROW()-ROW(BE$1),$AA$2:$AA$500,0)),\"\")","v":""}]
[null,null,null,null,null,null,null,null,null,null,null,null,null,null,null,null,null,null,null,null,null,null,null,null,null,null,{"$f":"+IF(AE643=\"\",\"\",MAX(AA$1:AA642)+1)","v":""},{"$f":"IF(#REF!=\"\",\"\",#REF!)","v":{"$error":"#REF!"}},{"$f":"IF(#REF!=\"\",\"\",#REF!)","v":{"$error":"#REF!"}},{"$error":"#REF!"},{"$f":"IF(COUNTIF(AC$2:AC643,AC643)=1,AC643,\"\")","v":""},{"$f":"+IFERROR(INDEX(AB$2:AB$500,MATCH(ROW()-ROW($AF$1),$AA$2:$AA$500,0)),\"\")","v":""},{"$f":"+IFERROR(INDEX(AC$2:AC$500,MATCH(ROW()-ROW($AF$1),$AA$2:$AA$500,0)),\"\")","v":""},null,null,null,null,null,null,null,{"$f":"+IF(AT643=\"\",\"\",MAX(AO$1:AO642)+1)","v":""},{"$f":"IF(Deviation_Limits!B665=\"\",\"\",Deviation_Limits!B665)","v":""},{"$f":"IF(Deviation_Limits!C665=\"\",\"\",Deviation_Limits!C665)","v":""},{"$f":"IF(Deviation_Limits!D665=\"\",\"\",Deviation_Limits!D665)","v":""},{"$f":"+AP643&AQ643&C643","v":""},{"$f":"IF(COUNTIF(AQ$2:AQ643,AQ643)=1,AQ643,\"\")","v":""},{"$f":"+IFERROR(INDEX(AP$2:AP$500,MATCH(ROW()-ROW(AU$1),$AA$2:$AA$500,0)),\"\")","v":""},{"$f":"+IFERROR(INDEX(AQ$2:AQ$500,MATCH(ROW()-ROW(AU$1),$AA$2:$AA$500,0)),\"\")","v":""},{"$f":"+IFERROR(INDEX(AR$2:AR$500,MATCH(ROW()-ROW(AU$1),$AA$2:$AA$500,0)),\"\")","v":""},null,{"$f":"+IF(BD643=\"\",\"\",MAX(AY$1:AY642)+1)","v":""},{"$f":"IF(Deviation_CEM_CPMS!B665=\"\",\"\",Deviation_CEM_CPMS!B665)","v":""},{"$f":"IF(Deviation_CEM_CPMS!C665=\"\",\"\",Deviation_CEM_CPMS!C665)","v":""},{"$f":"IF(Deviation_CEM_CPMS!D665=\"\",\"\",Deviation_CEM_CPMS!D665)","v":""},"",{"$f":"IF(COUNTIF(BA$2:BA643,BA643)=1,BA643,\"\")","v":""},"","",""]
[null,null,null,null,null,null,null,null,null,null,null,null,null,null,null,null,null,null,null,null,null,null,null,null,null,null,{"$f":"+IF(AE644=\"\",\"\",MAX(AA$1:AA643)+1)","v":""},{"$f":"IF(#REF!=\"\",\"\",#REF!)","v":{"$error":"#REF!"}},{"$f":"IF(#REF!=\"\",\"\",#REF!)","v":{"$error":"#REF!"}},{"$error":"#REF!"},{"$f":"IF(COUNTIF(AC$2:AC644,AC644)=1,AC644,\"\")","v":""},"","",null,null,null,null,null,null,null,{"$f":"+IF(AT644=\"\",\"\",MAX(AO$1:AO643)+1)","v":""},{"$f":"IF(Deviation_Limits!B666=\"\",\"\",Deviation_Limits!B666)","v":""},{"$f":"IF(Deviation_Limits!C666=\"\",\"\",Deviation_Limits!C666)","v":""},{"$f":"IF(Deviation_Limits!D666=\"\",\"\",Deviation_Limits!D666)","v":""},"",{"$f":"IF(COUNTIF(AQ$2:AQ644,AQ644)=1,AQ644,\"\")","v":""},"","","",null,{"$f":"+IF(BD644=\"\",\"\",MAX(AY$1:AY643)+1)","v":""},{"$f":"IF(Deviation_CEM_CPMS!B666=\"\",\"\",Deviation_CEM_CPMS!B666)","v":""},{"$f":"IF(Deviation_CEM_CPMS!C666=\"\",\"\",Deviation_CEM_CPMS!C666)","v":""},{"$f":"IF(Deviation_CEM_CPMS!D666=\"\",\"\",Deviation_CEM_CPMS!D666)","v":""},"",{"$f":"IF(COUNTIF(BA$2:BA644,BA644)=1,BA644,\"\")","v":""},"","",""]
[null,null,null,null,null,null,null,null,null,null,null,null,null,null,null,null,null,null,null,null,null,null,null,null,null,null,{"$f":"+IF(AE645=\"\",\"\",MAX(AA$1:AA644)+1)","v":""},{"$f":"IF(#REF!=\"\",\"\",#REF!)","v":{"$error":"#REF!"}},{"$f":"IF(#REF!=\"\",\"\",#REF!)","v":{"$error":"#REF!"}},{"$error":"#REF!"},{"$f":"IF(COUNTIF(AC$2:AC645,AC645)=1,AC645,\"\")","v":""},"","",null,null,null,null,null,null,null,{"$f":"+IF(AT645=\"\",\"\",MAX(AO$1:AO644)+1)","v":""},{"$f":"IF(Deviation_Limits!B667=\"\",\"\",Deviation_Limits!B667)","v":""},{"$f":"IF(Deviation_Limits!C667=\"\",\"\",Deviation_Limits!C667)","v":""},{"$f":"IF(Deviation_Limits!D667=\"\",\"\",Deviation_Limits!D667)","v":""},"",{"$f":"IF(COUNTIF(AQ$2:AQ645,AQ645)=1,AQ645,\"\")","v":""},"","","",null,{"$f":"+IF(BD645=\"\",\"\",MAX(AY$1:AY644)+1)","v":""},{"$f":"IF(Deviation_CEM_CPMS!B667=\"\",\"\",Deviation_CEM_CPMS!B667)","v":""},{"$f":"IF(Deviation_CEM_CPMS!C667=\"\",\"\",Deviation_CEM_CPMS!C667)","v":""},{"$f":"IF(Deviation_CEM_CPMS!D667=\"\",\"\",Deviation_CEM_CPMS!D667)","v":""},"",{"$f":"IF(COUNTIF(BA$2:BA645,BA645)=1,BA645,\"\")","v":""},"","",""]
[null,null,null,null,null,null,null,null,null,null,null,null,null,null,null,null,null,null,null,null,null,null,null,null,null,null,{"$f":"+IF(AE646=\"\",\"\",MAX(AA$1:AA645)+1)","v":""},{"$f":"IF(#REF!=\"\",\"\",#REF!)","v":{"$error":"#REF!"}},{"$f":"IF(#REF!=\"\",\"\",#REF!)","v":{"$error":"#REF!"}},{"$error":"#REF!"},{"$f":"IF(COUNTIF(AC$2:AC646,AC646)=1,AC646,\"\")","v":""},"","",null,null,null,null,null,null,null,{"$f":"+IF(AT646=\"\",\"\",MAX(AO$1:AO645)+1)","v":""},{"$f":"IF(Deviation_Limits!B668=\"\",\"\",Deviation_Limits!B668)","v":""},{"$f":"IF(Deviation_Limits!C668=\"\",\"\",Deviation_Limits!C668)","v":""},{"$f":"IF(Deviation_Limits!D668=\"\",\"\",Deviation_Limits!D668)","v":""},"",{"$f":"IF(COUNTIF(AQ$2:AQ646,AQ646)=1,AQ646,\"\")","v":""},"","","",null,{"$f":"+IF(BD646=\"\",\"\",MAX(AY$1:AY645)+1)","v":""},{"$f":"IF(Deviation_CEM_CPMS!B668=\"\",\"\",Deviation_CEM_CPMS!B668)","v":""},{"$f":"IF(Deviation_CEM_CPMS!C668=\"\",\"\",Deviation_CEM_CPMS!C668)","v":""},{"$f":"IF(Deviation_CEM_CPMS!D668=\"\",\"\",Deviation_CEM_CPMS!D668)","v":""},"",{"$f":"IF(COUNTIF(BA$2:BA646,BA646)=1,BA646,\"\")","v":""},"","",""]
[null,null,null,null,null,null,null,null,null,null,null,null,null,null,null,null,null,null,null,null,null,null,null,null,null,null,{"$f":"+IF(AE647=\"\",\"\",MAX(AA$1:AA646)+1)","v":""},{"$f":"IF(#REF!=\"\",\"\",#REF!)","v":{"$error":"#REF!"}},{"$f":"IF(#REF!=\"\",\"\",#REF!)","v":{"$error":"#REF!"}},{"$error":"#REF!"},{"$f":"IF(COUNTIF(AC$2:AC647,AC647)=1,AC647,\"\")","v":""},"","",null,null,null,null,null,null,null,{"$f":"+IF(AT647=\"\",\"\",MAX(AO$1:AO646)+1)","v":""},{"$f":"IF(Deviation_Limits!B669=\"\",\"\",Deviation_Limits!B669)","v":""},{"$f":"IF(Deviation_Limits!C669=\"\",\"\",Deviation_Limits!C669)","v":""},{"$f":"IF(Deviation_Limits!D669=\"\",\"\",Deviation_Limits!D669)","v":""},"",{"$f":"IF(COUNTIF(AQ$2:AQ647,AQ647)=1,AQ647,\"\")","v":""},"","","",null,{"$f":"+IF(BD647=\"\",\"\",MAX(AY$1:AY646)+1)","v":""},{"$f":"IF(Deviation_CEM_CPMS!B669=\"\",\"\",Deviation_CEM_CPMS!B669)","v":""},{"$f":"IF(Deviation_CEM_CPMS!C669=\"\",\"\",Deviation_CEM_CPMS!C669)","v":""},{"$f":"IF(Deviation_CEM_CPMS!D669=\"\",\"\",Deviation_CEM_CPMS!D669)","v":""},"",{"$f":"IF(COUNTIF(BA$2:BA647,BA647)=1,BA647,\"\")","v":""},"","",""]
[null,null,null,null,null,null,null,null,null,null,null,null,null,null,null,null,null,null,null,null,null,null,null,null,null,null,{"$f":"+IF(AE648=\"\",\"\",MAX(AA$1:AA647)+1)","v":""},{"$f":"IF(#REF!=\"\",\"\",#REF!)","v":{"$error":"#REF!"}},{"$f":"IF(#REF!=\"\",\"\",#REF!)","v":{"$error":"#REF!"}},{"$error":"#REF!"},{"$f":"IF(COUNTIF(AC$2:AC648,AC648)=1,AC648,\"\")","v":""},"","",null,null,null,null,null,null,null,{"$f":"+IF(AT648=\"\",\"\",MAX(AO$1:AO647)+1)","v":""},{"$f":"IF(Deviation_Limits!B670=\"\",\"\",Deviation_Limits!B670)","v":""},{"$f":"IF(Deviation_Limits!C670=\"\",\"\",Deviation_Limits!C670)","v":""},{"$f":"IF(Deviation_Limits!D670=\"\",\"\",Deviation_Limits!D670)","v":""},"",{"$f":"IF(COUNTIF(AQ$2:AQ648,AQ648)=1,AQ648,\"\")","v":""},"","","",null,{"$f":"+IF(BD648=\"\",\"\",MAX(AY$1:AY647)+1)","v":""},{"$f":"IF(Deviation_CEM_CPMS!B670=\"\",\"\",Deviation_CEM_CPMS!B670)","v":""},{"$f":"IF(Deviation_CEM_CPMS!C670=\"\",\"\",Deviation_CEM_CPMS!C670)","v":""},{"$f":"IF(Deviation_CEM_CPMS!D670=\"\",\"\",Deviation_CEM_CPMS!D670)","v":""},"",{"$f":"IF(COUNTIF(BA$2:BA648,BA648)=1,BA648,\"\")","v":""},"","",""]
[null,null,null,null,null,null,null,null,null,null,null,null,null,null,null,null,null,null,null,null,null,null,null,null,null,null,{"$f":"+IF(AE649=\"\",\"\",MAX(AA$1:AA648)+1)","v":""},{"$f":"IF(#REF!=\"\",\"\",#REF!)","v":{"$error":"#REF!"}},{"$f":"IF(#REF!=\"\",\"\",#REF!)","v":{"$error":"#REF!"}},{"$error":"#REF!"},{"$f":"IF(COUNTIF(AC$2:AC649,AC649)=1,AC649,\"\")","v":""},"","",null,null,null,null,null,null,null,{"$f":"+IF(AT649=\"\",\"\",MAX(AO$1:AO648)+1)","v":""},{"$f":"IF(Deviation_Limits!B671=\"\",\"\",Deviation_Limits!B671)","v":""},{"$f":"IF(Deviation_Limits!C671=\"\",\"\",Deviation_Limits!C671)","v":""},{"$f":"IF(Deviation_Limits!D671=\"\",\"\",Deviation_Limits!D671)","v":""},"",{"$f":"IF(COUNTIF(AQ$2:AQ649,AQ649)=1,AQ649,\"\")","v":""},"","","",null,{"$f":"+IF(BD649=\"\",\"\",MAX(AY$1:AY648)+1)","v":""},{"$f":"IF(Deviation_CEM_CPMS!B671=\"\",\"\",Deviation_CEM_CPMS!B671)","v":""},{"$f":"IF(Deviation_CEM_CPMS!C671=\"\",\"\",Deviation_CEM_CPMS!C671)","v":""},{"$f":"IF(Deviation_CEM_CPMS!D671=\"\",\"\",Deviation_CEM_CPMS!D671)","v":""},"",{"$f":"IF(COUNTIF(BA$2:BA649,BA649)=1,BA649,\"\")","v":""},"","",""]
[null,null,null,null,null,null,null,null,null,null,null,null,null,null,null,null,null,null,null,null,null,null,null,null,null,null,{"$f":"+IF(AE650=\"\",\"\",MAX(AA$1:AA649)+1)","v":""},{"$f":"IF(#REF!=\"\",\"\",#REF!)","v":{"$error":"#REF!"}},{"$f":"IF(#REF!=\"\",\"\",#REF!)","v":{"$error":"#REF!"}},{"$error":"#REF!"},{"$f":"IF(COUNTIF(AC$2:AC650,AC650)=1,AC650,\"\")","v":""},"","",null,null,null,null,null,null,null,{"$f":"+IF(AT650=\"\",\"\",MAX(AO$1:AO649)+1)","v":""},{"$f":"IF(Deviation_Limits!B672=\"\",\"\",Deviation_Limits!B672)","v":""},{"$f":"IF(Deviation_Limits!C672=\"\",\"\",Deviation_Limits!C672)","v":""},{"$f":"IF(Deviation_Limits!D672=\"\",\"\",Deviation_Limits!D672)","v":""},"",{"$f":"IF(COUNTIF(AQ$2:AQ650,AQ650)=1,AQ650,\"\")","v":""},"","","",null,{"$f":"+IF(BD650=\"\",\"\",MAX(AY$1:AY649)+1)","v":""},{"$f":"IF(Deviation_CEM_CPMS!B672=\"\",\"\",Deviation_CEM_CPMS!B672)","v":""},{"$f":"IF(Deviation_CEM_CPMS!C672=\"\",\"\",Deviation_CEM_CPMS!C672)","v":""},{"$f":"IF(Deviation_CEM_CPMS!D672=\"\",\"\",Deviation_CEM_CPMS!D672)","v":""},"",{"$f":"IF(COUNTIF(BA$2:BA650,BA650)=1,BA650,\"\")","v":""},"","",""]
[null,null,null,null,null,null,null,null,null,null,null,null,null,null,null,null,null,null,null,null,null,null,null,null,null,null,{"$f":"+IF(AE651=\"\",\"\",MAX(AA$1:AA650)+1)","v":""},{"$f":"IF(#REF!=\"\",\"\",#REF!)","v":{"$error":"#REF!"}},{"$f":"IF(#REF!=\"\",\"\",#REF!)","v":{"$error":"#REF!"}},{"$error":"#REF!"},{"$f":"IF(COUNTIF(AC$2:AC651,AC651)=1,AC651,\"\")","v":""},"","",null,null,null,null,null,null,null,{"$f":"+IF(AT651=\"\",\"\",MAX(AO$1:AO650)+1)","v":""},{"$f":"IF(Deviation_Limits!B673=\"\",\"\",Deviation_Limits!B673)","v":""},{"$f":"IF(Deviation_Limits!C673=\"\",\"\",Deviation_Limits!C673)","v":""},{"$f":"IF(Deviation_Limits!D673=\"\",\"\",Deviation_Limits!D673)","v":""},"",{"$f":"IF(COUNTIF(AQ$2:AQ651,AQ651)=1,AQ651,\"\")","v":""},"","","",null,{"$f":"+IF(BD651=\"\",\"\",MAX(AY$1:AY650)+1)","v":""},{"$f":"IF(Deviation_CEM_CPMS!B673=\"\",\"\",Deviation_CEM_CPMS!B673)","v":""},{"$f":"IF(Deviation_CEM_CPMS!C673=\"\",\"\",Deviation_CEM_CPMS!C673)","v":""},{"$f":"IF(Deviation_CEM_CPMS!D673=\"\",\"\",Deviation_CEM_CPMS!D673)","v":""},"",{"$f":"IF(COUNTIF(BA$2:BA651,BA651)=1,BA651,\"\")","v":""},"","",""]
[null,null,null,null,null,null,null,null,null,null,null,null,null,null,null,null,null,null,null,null,null,null,null,null,null,null,{"$f":"+IF(AE652=\"\",\"\",MAX(AA$1:AA651)+1)","v":""},{"$f":"IF(#REF!=\"\",\"\",#REF!)","v":{"$error":"#REF!"}},{"$f":"IF(#REF!=\"\",\"\",#REF!)","v":{"$error":"#REF!"}},{"$error":"#REF!"},{"$f":"IF(COUNTIF(AC$2:AC652,AC652)=1,AC652,\"\")","v":""},"","",null,null,null,null,null,null,null,{"$f":"+IF(AT652=\"\",\"\",MAX(AO$1:AO651)+1)","v":""},{"$f":"IF(Deviation_Limits!B674=\"\",\"\",Deviation_Limits!B674)","v":""},{"$f":"IF(Deviation_Limits!C674=\"\",\"\",Deviation_Limits!C674)","v":""},{"$f":"IF(Deviation_Limits!D674=\"\",\"\",Deviation_Limits!D674)","v":""},"",{"$f":"IF(COUNTIF(AQ$2:AQ652,AQ652)=1,AQ652,\"\")","v":""},"","","",null,{"$f":"+IF(BD652=\"\",\"\",MAX(AY$1:AY651)+1)","v":""},{"$f":"IF(Deviation_CEM_CPMS!B674=\"\",\"\",Deviation_CEM_CPMS!B674)","v":""},{"$f":"IF(Deviation_CEM_CPMS!C674=\"\",\"\",Deviation_CEM_CPMS!C674)","v":""},{"$f":"IF(Deviation_CEM_CPMS!D674=\"\",\"\",Deviation_CEM_CPMS!D674)","v":""},"",{"$f":"IF(COUNTIF(BA$2:BA652,BA652)=1,BA652,\"\")","v":""},"","",""]
[null,null,null,null,null,null,null,null,null,null,null,null,null,null,null,null,null,null,null,null,null,null,null,null,null,null,{"$f":"+IF(AE653=\"\",\"\",MAX(AA$1:AA652)+1)","v":""},{"$f":"IF(#REF!=\"\",\"\",#REF!)","v":{"$error":"#REF!"}},{"$f":"IF(#REF!=\"\",\"\",#REF!)","v":{"$error":"#REF!"}},{"$error":"#REF!"},{"$f":"IF(COUNTIF(AC$2:AC653,AC653)=1,AC653,\"\")","v":""},"","",null,null,null,null,null,null,null,{"$f":"+IF(AT653=\"\",\"\",MAX(AO$1:AO652)+1)","v":""},{"$f":"IF(Deviation_Limits!B675=\"\",\"\",Deviation_Limits!B675)","v":""},{"$f":"IF(Deviation_Limits!C675=\"\",\"\",Deviation_Limits!C675)","v":""},{"$f":"IF(Deviation_Limits!D675=\"\",\"\",Deviation_Limits!D675)","v":""},"",{"$f":"IF(COUNTIF(AQ$2:AQ653,AQ653)=1,AQ653,\"\")","v":""},"","","",null,{"$f":"+IF(BD653=\"\",\"\",MAX(AY$1:AY652)+1)","v":""},{"$f":"IF(Deviation_CEM_CPMS!B675=\"\",\"\",Deviation_CEM_CPMS!B675)","v":""},{"$f":"IF(Deviation_CEM_CPMS!C675=\"\",\"\",Deviation_CEM_CPMS!C675)","v":""},{"$f":"IF(Deviation_CEM_CPMS!D675=\"\",\"\",Deviation_CEM_CPMS!D675)","v":""},"",{"$f":"IF(COUNTIF(BA$2:BA653,BA653)=1,BA653,\"\")","v":""},"","",""]
[null,null,null,null,null,null,null,null,null,null,null,null,null,null,null,null,null,null,null,null,null,null,null,null,null,null,{"$f":"+IF(AE654=\"\",\"\",MAX(AA$1:AA653)+1)","v":""},{"$f":"IF(#REF!=\"\",\"\",#REF!)","v":{"$error":"#REF!"}},{"$f":"IF(#REF!=\"\",\"\",#REF!)","v":{"$error":"#REF!"}},{"$error":"#REF!"},{"$f":"IF(COUNTIF(AC$2:AC654,AC654)=1,AC654,\"\")","v":""},"","",null,null,null,null,null,null,null,{"$f":"+IF(AT654=\"\",\"\",MAX(AO$1:AO653)+1)","v":""},{"$f":"IF(Deviation_Limits!B676=\"\",\"\",Deviation_Limits!B676)","v":""},{"$f":"IF(Deviation_Limits!C676=\"\",\"\",Deviation_Limits!C676)","v":""},{"$f":"IF(Deviation_Limits!D676=\"\",\"\",Deviation_Limits!D676)","v":""},"",{"$f":"IF(COUNTIF(AQ$2:AQ654,AQ654)=1,AQ654,\"\")","v":""},"","","",null,{"$f":"+IF(BD654=\"\",\"\",MAX(AY$1:AY653)+1)","v":""},{"$f":"IF(Deviation_CEM_CPMS!B676=\"\",\"\",Deviation_CEM_CPMS!B676)","v":""},{"$f":"IF(Deviation_CEM_CPMS!C676=\"\",\"\",Deviation_CEM_CPMS!C676)","v":""},{"$f":"IF(Deviation_CEM_CPMS!D676=\"\",\"\",Deviation_CEM_CPMS!D676)","v":""},"",{"$f":"IF(COUNTIF(BA$2:BA654,BA654)=1,BA654,\"\")","v":""},"","",""]
[null,null,null,null,null,null,null,null,null,null,null,null,null,null,null,null,null,null,null,null,null,null,null,null,null,null,{"$f":"+IF(AE655=\"\",\"\",MAX(AA$1:AA654)+1)","v":""},{"$f":"IF(#REF!=\"\",\"\",#REF!)","v":{"$error":"#REF!"}},{"$f":"IF(#REF!=\"\",\"\",#REF!)","v":{"$error":"#REF!"}},{"$error":"#REF!"},{"$f":"IF(COUNTIF(AC$2:AC655,AC655)=1,AC655,\"\")","v":""},"","",null,null,null,null,null,null,null,{"$f":"+IF(AT655=\"\",\"\",MAX(AO$1:AO654)+1)","v":""},{"$f":"IF(Deviation_Limits!B677=\"\",\"\",Deviation_Limits!B677)","v":""},{"$f":"IF(Deviation_Limits!C677=\"\",\"\",Deviation_Limits!C677)","v":""},{"$f":"IF(Deviation_Limits!D677=\"\",\"\",Deviation_Limits!D677)","v":""},"",{"$f":"IF(COUNTIF(AQ$2:AQ655,AQ655)=1,AQ655,\"\")","v":""},"","","",null,{"$f":"+IF(BD655=\"\",\"\",MAX(AY$1:AY654)+1)","v":""},{"$f":"IF(Deviation_CEM_CPMS!B677=\"\",\"\",Deviation_CEM_CPMS!B677)","v":""},{"$f":"IF(Deviation_CEM_CPMS!C677=\"\",\"\",Deviation_CEM_CPMS!C677)","v":""},{"$f":"IF(Deviation_CEM_CPMS!D677=\"\",\"\",Deviation_CEM_CPMS!D677)","v":""},"",{"$f":"IF(COUNTIF(BA$2:BA655,BA655)=1,BA655,\"\")","v":""},"","",""]
[null,null,null,null,null,null,null,null,null,null,null,null,null,null,null,null,null,null,null,null,null,null,null,null,null,null,{"$f":"+IF(AE656=\"\",\"\",MAX(AA$1:AA655)+1)","v":""},{"$f":"IF(#REF!=\"\",\"\",#REF!)","v":{"$error":"#REF!"}},{"$f":"IF(#REF!=\"\",\"\",#REF!)","v":{"$error":"#REF!"}},{"$error":"#REF!"},{"$f":"IF(COUNTIF(AC$2:AC656,AC656)=1,AC656,\"\")","v":""},"","",null,null,null,null,null,null,null,{"$f":"+IF(AT656=\"\",\"\",MAX(AO$1:AO655)+1)","v":""},{"$f":"IF(Deviation_Limits!B678=\"\",\"\",Deviation_Limits!B678)","v":""},{"$f":"IF(Deviation_Limits!C678=\"\",\"\",Deviation_Limits!C678)","v":""},{"$f":"IF(Deviation_Limits!D678=\"\",\"\",Deviation_Limits!D678)","v":""},"",{"$f":"IF(COUNTIF(AQ$2:AQ656,AQ656)=1,AQ656,\"\")","v":""},"","","",null,{"$f":"+IF(BD656=\"\",\"\",MAX(AY$1:AY655)+1)","v":""},{"$f":"IF(Deviation_CEM_CPMS!B678=\"\",\"\",Deviation_CEM_CPMS!B678)","v":""},{"$f":"IF(Deviation_CEM_CPMS!C678=\"\",\"\",Deviation_CEM_CPMS!C678)","v":""},{"$f":"IF(Deviation_CEM_CPMS!D678=\"\",\"\",Deviation_CEM_CPMS!D678)","v":""},"",{"$f":"IF(COUNTIF(BA$2:BA656,BA656)=1,BA656,\"\")","v":""},"","",""]
[null,null,null,null,null,null,null,null,null,null,null,null,null,null,null,null,null,null,null,null,null,null,null,null,null,null,{"$f":"+IF(AE657=\"\",\"\",MAX(AA$1:AA656)+1)","v":""},{"$f":"IF(#REF!=\"\",\"\",#REF!)","v":{"$error":"#REF!"}},{"$f":"IF(#REF!=\"\",\"\",#REF!)","v":{"$error":"#REF!"}},{"$error":"#REF!"},{"$f":"IF(COUNTIF(AC$2:AC657,AC657)=1,AC657,\"\")","v":""},"","",null,null,null,null,null,null,null,{"$f":"+IF(AT657=\"\",\"\",MAX(AO$1:AO656)+1)","v":""},{"$f":"IF(Deviation_Limits!B679=\"\",\"\",Deviation_Limits!B679)","v":""},{"$f":"IF(Deviation_Limits!C679=\"\",\"\",Deviation_Limits!C679)","v":""},{"$f":"IF(Deviation_Limits!D679=\"\",\"\",Deviation_Limits!D679)","v":""},"",{"$f":"IF(COUNTIF(AQ$2:AQ657,AQ657)=1,AQ657,\"\")","v":""},"","","",null,{"$f":"+IF(BD657=\"\",\"\",MAX(AY$1:AY656)+1)","v":""},{"$f":"IF(Deviation_CEM_CPMS!B679=\"\",\"\",Deviation_CEM_CPMS!B679)","v":""},{"$f":"IF(Deviation_CEM_CPMS!C679=\"\",\"\",Deviation_CEM_CPMS!C679)","v":""},{"$f":"IF(Deviation_CEM_CPMS!D679=\"\",\"\",Deviation_CEM_CPMS!D679)","v":""},"",{"$f":"IF(COUNTIF(BA$2:BA657,BA657)=1,BA657,\"\")","v":""},"","",""]
[null,null,null,null,null,null,null,null,null,null,null,null,null,null,null,null,null,null,null,null,null,null,null,null,null,null,{"$f":"+IF(AE658=\"\",\"\",MAX(AA$1:AA657)+1)","v":""},{"$f":"IF(#REF!=\"\",\"\",#REF!)","v":{"$error":"#REF!"}},{"$f":"IF(#REF!=\"\",\"\",#REF!)","v":{"$error":"#REF!"}},{"$error":"#REF!"},{"$f":"IF(COUNTIF(AC$2:AC658,AC658)=1,AC658,\"\")","v":""},"","",null,null,null,null,null,null,null,{"$f":"+IF(AT658=\"\",\"\",MAX(AO$1:AO657)+1)","v":""},{"$f":"IF(Deviation_Limits!B680=\"\",\"\",Deviation_Limits!B680)","v":""},{"$f":"IF(Deviation_Limits!C680=\"\",\"\",Deviation_Limits!C680)","v":""},{"$f":"IF(Deviation_Limits!D680=\"\",\"\",Deviation_Limits!D680)","v":""},"",{"$f":"IF(COUNTIF(AQ$2:AQ658,AQ658)=1,AQ658,\"\")","v":""},"","","",null,{"$f":"+IF(BD658=\"\",\"\",MAX(AY$1:AY657)+1)","v":""},{"$f":"IF(Deviation_CEM_CPMS!B680=\"\",\"\",Deviation_CEM_CPMS!B680)","v":""},{"$f":"IF(Deviation_CEM_CPMS!C680=\"\",\"\",Deviation_CEM_CPMS!C680)","v":""},{"$f":"IF(Deviation_CEM_CPMS!D680=\"\",\"\",Deviation_CEM_CPMS!D680)","v":""},"",{"$f":"IF(COUNTIF(BA$2:BA658,BA658)=1,BA658,\"\")","v":""},"","",""]
[null,null,null,null,null,null,null,null,null,null,null,null,null,null,null,null,null,null,null,null,null,null,null,null,null,null,{"$f":"+IF(AE659=\"\",\"\",MAX(AA$1:AA658)+1)","v":""},{"$f":"IF(#REF!=\"\",\"\",#REF!)","v":{"$error":"#REF!"}},{"$f":"IF(#REF!=\"\",\"\",#REF!)","v":{"$error":"#REF!"}},{"$error":"#REF!"},{"$f":"IF(COUNTIF(AC$2:AC659,AC659)=1,AC659,\"\")","v":""},"","",null,null,null,null,null,null,null,{"$f":"+IF(AT659=\"\",\"\",MAX(AO$1:AO658)+1)","v":""},{"$f":"IF(Deviation_Limits!B681=\"\",\"\",Deviation_Limits!B681)","v":""},{"$f":"IF(Deviation_Limits!C681=\"\",\"\",Deviation_Limits!C681)","v":""},{"$f":"IF(Deviation_Limits!D681=\"\",\"\",Deviation_Limits!D681)","v":""},"",{"$f":"IF(COUNTIF(AQ$2:AQ659,AQ659)=1,AQ659,\"\")","v":""},"","","",null,{"$f":"+IF(BD659=\"\",\"\",MAX(AY$1:AY658)+1)","v":""},{"$f":"IF(Deviation_CEM_CPMS!B681=\"\",\"\",Deviation_CEM_CPMS!B681)","v":""},{"$f":"IF(Deviation_CEM_CPMS!C681=\"\",\"\",Deviation_CEM_CPMS!C681)","v":""},{"$f":"IF(Deviation_CEM_CPMS!D681=\"\",\"\",Deviation_CEM_CPMS!D681)","v":""},"",{"$f":"IF(COUNTIF(BA$2:BA659,BA659)=1,BA659,\"\")","v":""},"","",""]
[null,null,null,null,null,null,null,null,null,null,null,null,null,null,null,null,null,null,null,null,null,null,null,null,null,null,{"$f":"+IF(AE660=\"\",\"\",MAX(AA$1:AA659)+1)","v":""},{"$f":"IF(#REF!=\"\",\"\",#REF!)","v":{"$error":"#REF!"}},{"$f":"IF(#REF!=\"\",\"\",#REF!)","v":{"$error":"#REF!"}},{"$error":"#REF!"},{"$f":"IF(COUNTIF(AC$2:AC660,AC660)=1,AC660,\"\")","v":""},"","",null,null,null,null,null,null,null,{"$f":"+IF(AT660=\"\",\"\",MAX(AO$1:AO659)+1)","v":""},{"$f":"IF(Deviation_Limits!B682=\"\",\"\",Deviation_Limits!B682)","v":""},{"$f":"IF(Deviation_Limits!C682=\"\",\"\",Deviation_Limits!C682)","v":""},{"$f":"IF(Deviation_Limits!D682=\"\",\"\",Deviation_Limits!D682)","v":""},"",{"$f":"IF(COUNTIF(AQ$2:AQ660,AQ660)=1,AQ660,\"\")","v":""},"","","",null,{"$f":"+IF(BD660=\"\",\"\",MAX(AY$1:AY659)+1)","v":""},{"$f":"IF(Deviation_CEM_CPMS!B682=\"\",\"\",Deviation_CEM_CPMS!B682)","v":""},{"$f":"IF(Deviation_CEM_CPMS!C682=\"\",\"\",Deviation_CEM_CPMS!C682)","v":""},{"$f":"IF(Deviation_CEM_CPMS!D682=\"\",\"\",Deviation_CEM_CPMS!D682)","v":""},"",{"$f":"IF(COUNTIF(BA$2:BA660,BA660)=1,BA660,\"\")","v":""},"","",""]
[null,null,null,null,null,null,null,null,null,null,null,null,null,null,null,null,null,null,null,null,null,null,null,null,null,null,{"$f":"+IF(AE661=\"\",\"\",MAX(AA$1:AA660)+1)","v":""},{"$f":"IF(#REF!=\"\",\"\",#REF!)","v":{"$error":"#REF!"}},{"$f":"IF(#REF!=\"\",\"\",#REF!)","v":{"$error":"#REF!"}},{"$error":"#REF!"},{"$f":"IF(COUNTIF(AC$2:AC661,AC661)=1,AC661,\"\")","v":""},"","",null,null,null,null,null,null,null,{"$f":"+IF(AT661=\"\",\"\",MAX(AO$1:AO660)+1)","v":""},{"$f":"IF(Deviation_Limits!B683=\"\",\"\",Deviation_Limits!B683)","v":""},{"$f":"IF(Deviation_Limits!C683=\"\",\"\",Deviation_Limits!C683)","v":""},{"$f":"IF(Deviation_Limits!D683=\"\",\"\",Deviation_Limits!D683)","v":""},"",{"$f":"IF(COUNTIF(AQ$2:AQ661,AQ661)=1,AQ661,\"\")","v":""},"","","",null,{"$f":"+IF(BD661=\"\",\"\",MAX(AY$1:AY660)+1)","v":""},{"$f":"IF(Deviation_CEM_CPMS!B683=\"\",\"\",Deviation_CEM_CPMS!B683)","v":""},{"$f":"IF(Deviation_CEM_CPMS!C683=\"\",\"\",Deviation_CEM_CPMS!C683)","v":""},{"$f":"IF(Deviation_CEM_CPMS!D683=\"\",\"\",Deviation_CEM_CPMS!D683)","v":""},"",{"$f":"IF(COUNTIF(BA$2:BA661,BA661)=1,BA661,\"\")","v":""},"","",""]
[null,null,null,null,null,null,null,null,null,null,null,null,null,null,null,null,null,null,null,null,null,null,null,null,null,null,{"$f":"+IF(AE662=\"\",\"\",MAX(AA$1:AA661)+1)","v":""},{"$f":"IF(#REF!=\"\",\"\",#REF!)","v":{"$error":"#REF!"}},{"$f":"IF(#REF!=\"\",\"\",#REF!)","v":{"$error":"#REF!"}},{"$error":"#REF!"},{"$f":"IF(COUNTIF(AC$2:AC662,AC662)=1,AC662,\"\")","v":""},"","",null,null,null,null,null,null,null,{"$f":"+IF(AT662=\"\",\"\",MAX(AO$1:AO661)+1)","v":""},{"$f":"IF(Deviation_Limits!B684=\"\",\"\",Deviation_Limits!B684)","v":""},{"$f":"IF(Deviation_Limits!C684=\"\",\"\",Deviation_Limits!C684)","v":""},{"$f":"IF(Deviation_Limits!D684=\"\",\"\",Deviation_Limits!D684)","v":""},"",{"$f":"IF(COUNTIF(AQ$2:AQ662,AQ662)=1,AQ662,\"\")","v":""},"","","",null,{"$f":"+IF(BD662=\"\",\"\",MAX(AY$1:AY661)+1)","v":""},{"$f":"IF(Deviation_CEM_CPMS!B684=\"\",\"\",Deviation_CEM_CPMS!B684)","v":""},{"$f":"IF(Deviation_CEM_CPMS!C684=\"\",\"\",Deviation_CEM_CPMS!C684)","v":""},{"$f":"IF(Deviation_CEM_CPMS!D684=\"\",\"\",Deviation_CEM_CPMS!D684)","v":""},"",{"$f":"IF(COUNTIF(BA$2:BA662,BA662)=1,BA662,\"\")","v":""},"","",""]
[null,null,null,null,null,null,null,null,null,null,null,null,null,null,null,null,null,null,null,null,null,null,null,null,null,null,{"$f":"+IF(AE663=\"\",\"\",MAX(AA$1:AA662)+1)","v":""},{"$f":"IF(#REF!=\"\",\"\",#REF!)","v":{"$error":"#REF!"}},{"$f":"IF(#REF!=\"\",\"\",#REF!)","v":{"$error":"#REF!"}},{"$error":"#REF!"},{"$f":"IF(COUNTIF(AC$2:AC663,AC663)=1,AC663,\"\")","v":""},"","",null,null,null,null,null,null,null,{"$f":"+IF(AT663=\"\",\"\",MAX(AO$1:AO662)+1)","v":""},{"$f":"IF(Deviation_Limits!B685=\"\",\"\",Deviation_Limits!B685)","v":""},{"$f":"IF(Deviation_Limits!C685=\"\",\"\",Deviation_Limits!C685)","v":""},{"$f":"IF(Deviation_Limits!D685=\"\",\"\",Deviation_Limits!D685)","v":""},"",{"$f":"IF(COUNTIF(AQ$2:AQ663,AQ663)=1,AQ663,\"\")","v":""},"","","",null,{"$f":"+IF(BD663=\"\",\"\",MAX(AY$1:AY662)+1)","v":""},{"$f":"IF(Deviation_CEM_CPMS!B685=\"\",\"\",Deviation_CEM_CPMS!B685)","v":""},{"$f":"IF(Deviation_CEM_CPMS!C685=\"\",\"\",Deviation_CEM_CPMS!C685)","v":""},{"$f":"IF(Deviation_CEM_CPMS!D685=\"\",\"\",Deviation_CEM_CPMS!D685)","v":""},"",{"$f":"IF(COUNTIF(BA$2:BA663,BA663)=1,BA663,\"\")","v":""},"","",""]
[null,null,null,null,null,null,null,null,null,null,null,null,null,null,null,null,null,null,null,null,null,null,null,null,null,null,{"$f":"+IF(AE664=\"\",\"\",MAX(AA$1:AA663)+1)","v":""},{"$f":"IF(#REF!=\"\",\"\",#REF!)","v":{"$error":"#REF!"}},{"$f":"IF(#REF!=\"\",\"\",#REF!)","v":{"$error":"#REF!"}},{"$error":"#REF!"},{"$f":"IF(COUNTIF(AC$2:AC664,AC664)=1,AC664,\"\")","v":""},"","",null,null,null,null,null,null,null,{"$f":"+IF(AT664=\"\",\"\",MAX(AO$1:AO663)+1)","v":""},{"$f":"IF(Deviation_Limits!B686=\"\",\"\",Deviation_Limits!B686)","v":""},{"$f":"IF(Deviation_Limits!C686=\"\",\"\",Deviation_Limits!C686)","v":""},{"$f":"IF(Deviation_Limits!D686=\"\",\"\",Deviation_Limits!D686)","v":""},"",{"$f":"IF(COUNTIF(AQ$2:AQ664,AQ664)=1,AQ664,\"\")","v":""},"","","",null,{"$f":"+IF(BD664=\"\",\"\",MAX(AY$1:AY663)+1)","v":""},{"$f":"IF(Deviation_CEM_CPMS!B686=\"\",\"\",Deviation_CEM_CPMS!B686)","v":""},{"$f":"IF(Deviation_CEM_CPMS!C686=\"\",\"\",Deviation_CEM_CPMS!C686)","v":""},{"$f":"IF(Deviation_CEM_CPMS!D686=\"\",\"\",Deviation_CEM_CPMS!D686)","v":""},"",{"$f":"IF(COUNTIF(BA$2:BA664,BA664)=1,BA664,\"\")","v":""},"","",""]
[null,null,null,null,null,null,null,null,null,null,null,null,null,null,null,null,null,null,null,null,null,null,null,null,null,null,{"$f":"+IF(AE665=\"\",\"\",MAX(AA$1:AA664)+1)","v":""},{"$f":"IF(#REF!=\"\",\"\",#REF!)","v":{"$error":"#REF!"}},{"$f":"IF(#REF!=\"\",\"\",#REF!)","v":{"$error":"#REF!"}},{"$error":"#REF!"},{"$f":"IF(COUNTIF(AC$2:AC665,AC665)=1,AC665,\"\")","v":""},"","",null,null,null,null,null,null,null,{"$f":"+IF(AT665=\"\",\"\",MAX(AO$1:AO664)+1)","v":""},{"$f":"IF(Deviation_Limits!B687=\"\",\"\",Deviation_Limits!B687)","v":""},{"$f":"IF(Deviation_Limits!C687=\"\",\"\",Deviation_Limits!C687)","v":""},{"$f":"IF(Deviation_Limits!D687=\"\",\"\",Deviation_Limits!D687)","v":""},"",{"$f":"IF(COUNTIF(AQ$2:AQ665,AQ665)=1,AQ665,\"\")","v":""},"","","",null,{"$f":"+IF(BD665=\"\",\"\",MAX(AY$1:AY664)+1)","v":""},{"$f":"IF(Deviation_CEM_CPMS!B687=\"\",\"\",Deviation_CEM_CPMS!B687)","v":""},{"$f":"IF(Deviation_CEM_CPMS!C687=\"\",\"\",Deviation_CEM_CPMS!C687)","v":""},{"$f":"IF(Deviation_CEM_CPMS!D687=\"\",\"\",Deviation_CEM_CPMS!D687)","v":""},"",{"$f":"IF(COUNTIF(BA$2:BA665,BA665)=1,BA665,\"\")","v":""},"","",""]
[null,null,null,null,null,null,null,null,null,null,null,null,null,null,null,null,null,null,null,null,null,null,null,null,null,null,{"$f":"+IF(AE666=\"\",\"\",MAX(AA$1:AA665)+1)","v":""},{"$f":"IF(#REF!=\"\",\"\",#REF!)","v":{"$error":"#REF!"}},{"$f":"IF(#REF!=\"\",\"\",#REF!)","v":{"$error":"#REF!"}},{"$error":"#REF!"},{"$f":"IF(COUNTIF(AC$2:AC666,AC666)=1,AC666,\"\")","v":""},"","",null,null,null,null,null,null,null,{"$f":"+IF(AT666=\"\",\"\",MAX(AO$1:AO665)+1)","v":""},{"$f":"IF(Deviation_Limits!B688=\"\",\"\",Deviation_Limits!B688)","v":""},{"$f":"IF(Deviation_Limits!C688=\"\",\"\",Deviation_Limits!C688)","v":""},{"$f":"IF(Deviation_Limits!D688=\"\",\"\",Deviation_Limits!D688)","v":""},"",{"$f":"IF(COUNTIF(AQ$2:AQ666,AQ666)=1,AQ666,\"\")","v":""},"","","",null,{"$f":"+IF(BD666=\"\",\"\",MAX(AY$1:AY665)+1)","v":""},{"$f":"IF(Deviation_CEM_CPMS!B688=\"\",\"\",Deviation_CEM_CPMS!B688)","v":""},{"$f":"IF(Deviation_CEM_CPMS!C688=\"\",\"\",Deviation_CEM_CPMS!C688)","v":""},{"$f":"IF(Deviation_CEM_CPMS!D688=\"\",\"\",Deviation_CEM_CPMS!D688)","v":""},"",{"$f":"IF(COUNTIF(BA$2:BA666,BA666)=1,BA666,\"\")","v":""},"","",""]
[null,null,null,null,null,null,null,null,null,null,null,null,null,null,null,null,null,null,null,null,null,null,null,null,null,null,{"$f":"+IF(AE667=\"\",\"\",MAX(AA$1:AA666)+1)","v":""},{"$f":"IF(#REF!=\"\",\"\",#REF!)","v":{"$error":"#REF!"}},{"$f":"IF(#REF!=\"\",\"\",#REF!)","v":{"$error":"#REF!"}},{"$error":"#REF!"},{"$f":"IF(COUNTIF(AC$2:AC667,AC667)=1,AC667,\"\")","v":""},"","",null,null,null,null,null,null,null,{"$f":"+IF(AT667=\"\",\"\",MAX(AO$1:AO666)+1)","v":""},{"$f":"IF(Deviation_Limits!B689=\"\",\"\",Deviation_Limits!B689)","v":""},{"$f":"IF(Deviation_Limits!C689=\"\",\"\",Deviation_Limits!C689)","v":""},{"$f":"IF(Deviation_Limits!D689=\"\",\"\",Deviation_Limits!D689)","v":""},"",{"$f":"IF(COUNTIF(AQ$2:AQ667,AQ667)=1,AQ667,\"\")","v":""},"","","",null,{"$f":"+IF(BD667=\"\",\"\",MAX(AY$1:AY666)+1)","v":""},{"$f":"IF(Deviation_CEM_CPMS!B689=\"\",\"\",Deviation_CEM_CPMS!B689)","v":""},{"$f":"IF(Deviation_CEM_CPMS!C689=\"\",\"\",Deviation_CEM_CPMS!C689)","v":""},{"$f":"IF(Deviation_CEM_CPMS!D689=\"\",\"\",Deviation_CEM_CPMS!D689)","v":""},"",{"$f":"IF(COUNTIF(BA$2:BA667,BA667)=1,BA667,\"\")","v":""},"","",""]
[null,null,null,null,null,null,null,null,null,null,null,null,null,null,null,null,null,null,null,null,null,null,null,null,null,null,{"$f":"+IF(AE668=\"\",\"\",MAX(AA$1:AA667)+1)","v":""},{"$f":"IF(#REF!=\"\",\"\",#REF!)","v":{"$error":"#REF!"}},{"$f":"IF(#REF!=\"\",\"\",#REF!)","v":{"$error":"#REF!"}},{"$error":"#REF!"},{"$f":"IF(COUNTIF(AC$2:AC668,AC668)=1,AC668,\"\")","v":""},"","",null,null,null,null,null,null,null,{"$f":"+IF(AT668=\"\",\"\",MAX(AO$1:AO667)+1)","v":""},{"$f":"IF(Deviation_Limits!B690=\"\",\"\",Deviation_Limits!B690)","v":""},{"$f":"IF(Deviation_Limits!C690=\"\",\"\",Deviation_Limits!C690)","v":""},{"$f":"IF(Deviation_Limits!D690=\"\",\"\",Deviation_Limits!D690)","v":""},"",{"$f":"IF(COUNTIF(AQ$2:AQ668,AQ668)=1,AQ668,\"\")","v":""},"","","",null,{"$f":"+IF(BD668=\"\",\"\",MAX(AY$1:AY667)+1)","v":""},{"$f":"IF(Deviation_CEM_CPMS!B690=\"\",\"\",Deviation_CEM_CPMS!B690)","v":""},{"$f":"IF(Deviation_CEM_CPMS!C690=\"\",\"\",Deviation_CEM_CPMS!C690)","v":""},{"$f":"IF(Deviation_CEM_CPMS!D690=\"\",\"\",Deviation_CEM_CPMS!D690)","v":""},"",{"$f":"IF(COUNTIF(BA$2:BA668,BA668)=1,BA668,\"\")","v":""},"","",""]
[null,null,null,null,null,null,null,null,null,null,null,null,null,null,null,null,null,null,null,null,null,null,null,null,null,null,{"$f":"+IF(AE669=\"\",\"\",MAX(AA$1:AA668)+1)","v":""},{"$f":"IF(#REF!=\"\",\"\",#REF!)","v":{"$error":"#REF!"}},{"$f":"IF(#REF!=\"\",\"\",#REF!)","v":{"$error":"#REF!"}},{"$error":"#REF!"},{"$f":"IF(COUNTIF(AC$2:AC669,AC669)=1,AC669,\"\")","v":""},"","",null,null,null,null,null,null,null,{"$f":"+IF(AT669=\"\",\"\",MAX(AO$1:AO668)+1)","v":""},{"$f":"IF(Deviation_Limits!B691=\"\",\"\",Deviation_Limits!B691)","v":""},{"$f":"IF(Deviation_Limits!C691=\"\",\"\",Deviation_Limits!C691)","v":""},{"$f":"IF(Deviation_Limits!D691=\"\",\"\",Deviation_Limits!D691)","v":""},"",{"$f":"IF(COUNTIF(AQ$2:AQ669,AQ669)=1,AQ669,\"\")","v":""},"","","",null,{"$f":"+IF(BD669=\"\",\"\",MAX(AY$1:AY668)+1)","v":""},{"$f":"IF(Deviation_CEM_CPMS!B691=\"\",\"\",Deviation_CEM_CPMS!B691)","v":""},{"$f":"IF(Deviation_CEM_CPMS!C691=\"\",\"\",Deviation_CEM_CPMS!C691)","v":""},{"$f":"IF(Deviation_CEM_CPMS!D691=\"\",\"\",Deviation_CEM_CPMS!D691)","v":""},"",{"$f":"IF(COUNTIF(BA$2:BA669,BA669)=1,BA669,\"\")","v":""},"","",""]
[null,null,null,null,null,null,null,null,null,null,null,null,null,null,null,null,null,null,null,null,null,null,null,null,null,null,{"$f":"+IF(AE670=\"\",\"\",MAX(AA$1:AA669)+1)","v":""},{"$f":"IF(#REF!=\"\",\"\",#REF!)","v":{"$error":"#REF!"}},{"$f":"IF(#REF!=\"\",\"\",#REF!)","v":{"$error":"#REF!"}},{"$error":"#REF!"},{"$f":"IF(COUNTIF(AC$2:AC670,AC670)=1,AC670,\"\")","v":""},"","",null,null,null,null,null,null,null,{"$f":"+IF(AT670=\"\",\"\",MAX(AO$1:AO669)+1)","v":""},{"$f":"IF(Deviation_Limits!B692=\"\",\"\",Deviation_Limits!B692)","v":""},{"$f":"IF(Deviation_Limits!C692=\"\",\"\",Deviation_Limits!C692)","v":""},{"$f":"IF(Deviation_Limits!D692=\"\",\"\",Deviation_Limits!D692)","v":""},"",{"$f":"IF(COUNTIF(AQ$2:AQ670,AQ670)=1,AQ670,\"\")","v":""},"","","",null,{"$f":"+IF(BD670=\"\",\"\",MAX(AY$1:AY669)+1)","v":""},{"$f":"IF(Deviation_CEM_CPMS!B692=\"\",\"\",Deviation_CEM_CPMS!B692)","v":""},{"$f":"IF(Deviation_CEM_CPMS!C692=\"\",\"\",Deviation_CEM_CPMS!C692)","v":""},{"$f":"IF(Deviation_CEM_CPMS!D692=\"\",\"\",Deviation_CEM_CPMS!D692)","v":""},"",{"$f":"IF(COUNTIF(BA$2:BA670,BA670)=1,BA670,\"\")","v":""},"","",""]
[null,null,null,null,null,null,null,null,null,null,null,null,null,null,null,null,null,null,null,null,null,null,null,null,null,null,{"$f":"+IF(AE671=\"\",\"\",MAX(AA$1:AA670)+1)","v":""},{"$f":"IF(#REF!=\"\",\"\",#REF!)","v":{"$error":"#REF!"}},{"$f":"IF(#REF!=\"\",\"\",#REF!)","v":{"$error":"#REF!"}},{"$error":"#REF!"},{"$f":"IF(COUNTIF(AC$2:AC671,AC671)=1,AC671,\"\")","v":""},"","",null,null,null,null,null,null,null,{"$f":"+IF(AT671=\"\",\"\",MAX(AO$1:AO670)+1)","v":""},{"$f":"IF(Deviation_Limits!B693=\"\",\"\",Deviation_Limits!B693)","v":""},{"$f":"IF(Deviation_Limits!C693=\"\",\"\",Deviation_Limits!C693)","v":""},{"$f":"IF(Deviation_Limits!D693=\"\",\"\",Deviation_Limits!D693)","v":""},"",{"$f":"IF(COUNTIF(AQ$2:AQ671,AQ671)=1,AQ671,\"\")","v":""},"","","",null,{"$f":"+IF(BD671=\"\",\"\",MAX(AY$1:AY670)+1)","v":""},{"$f":"IF(Deviation_CEM_CPMS!B693=\"\",\"\",Deviation_CEM_CPMS!B693)","v":""},{"$f":"IF(Deviation_CEM_CPMS!C693=\"\",\"\",Deviation_CEM_CPMS!C693)","v":""},{"$f":"IF(Deviation_CEM_CPMS!D693=\"\",\"\",Deviation_CEM_CPMS!D693)","v":""},"",{"$f":"IF(COUNTIF(BA$2:BA671,BA671)=1,BA671,\"\")","v":""},"","",""]
[null,null,null,null,null,null,null,null,null,null,null,null,null,null,null,null,null,null,null,null,null,null,null,null,null,null,{"$f":"+IF(AE672=\"\",\"\",MAX(AA$1:AA671)+1)","v":""},{"$f":"IF(#REF!=\"\",\"\",#REF!)","v":{"$error":"#REF!"}},{"$f":"IF(#REF!=\"\",\"\",#REF!)","v":{"$error":"#REF!"}},{"$f":"+AB672&AC672","v":{"$error":"#REF!"}},{"$f":"IF(COUNTIF(AC$2:AC672,AC672)=1,AC672,\"\")","v":""},"","",null,null,null,null,null,null,null,{"$f":"+IF(AT672=\"\",\"\",MAX(AO$1:AO671)+1)","v":""},{"$f":"IF(Deviation_Limits!B694=\"\",\"\",Deviation_Limits!B694)","v":""},{"$f":"IF(Deviation_Limits!C694=\"\",\"\",Deviation_Limits!C694)","v":""},{"$f":"IF(Deviation_Limits!D694=\"\",\"\",Deviation_Limits!D694)","v":""},"",{"$f":"IF(COUNTIF(AQ$2:AQ672,AQ672)=1,AQ672,\"\")","v":""},"","","",null,{"$f":"+IF(BD672=\"\",\"\",MAX(AY$1:AY671)+1)","v":""},{"$f":"IF(Deviation_CEM_CPMS!B694=\"\",\"\",Deviation_CEM_CPMS!B694)","v":""},{"$f":"IF(Deviation_CEM_CPMS!C694=\"\",\"\",Deviation_CEM_CPMS!C694)","v":""},{"$f":"IF(Deviation_CEM_CPMS!D694=\"\",\"\",Deviation_CEM_CPMS!D694)","v":""},"",{"$f":"IF(COUNTIF(BA$2:BA672,BA672)=1,BA672,\"\")","v":""},"","",""]
[null,null,null,null,null,null,null,null,null,null,null,null,null,null,null,null,null,null,null,null,null,null,null,null,null,null,{"$f":"+IF(AE673=\"\",\"\",MAX(AA$1:AA672)+1)","v":""},{"$f":"IF(#REF!=\"\",\"\",#REF!)","v":{"$error":"#REF!"}},{"$f":"IF(#REF!=\"\",\"\",#REF!)","v":{"$error":"#REF!"}},{"$error":"#REF!"},{"$f":"IF(COUNTIF(AC$2:AC673,AC673)=1,AC673,\"\")","v":""},"","",null,null,null,null,null,null,null,{"$f":"+IF(AT673=\"\",\"\",MAX(AO$1:AO672)+1)","v":""},{"$f":"IF(Deviation_Limits!B695=\"\",\"\",Deviation_Limits!B695)","v":""},{"$f":"IF(Deviation_Limits!C695=\"\",\"\",Deviation_Limits!C695)","v":""},{"$f":"IF(Deviation_Limits!D695=\"\",\"\",Deviation_Limits!D695)","v":""},"",{"$f":"IF(COUNTIF(AQ$2:AQ673,AQ673)=1,AQ673,\"\")","v":""},"","","",null,{"$f":"+IF(BD673=\"\",\"\",MAX(AY$1:AY672)+1)","v":""},{"$f":"IF(Deviation_CEM_CPMS!B695=\"\",\"\",Deviation_CEM_CPMS!B695)","v":""},{"$f":"IF(Deviation_CEM_CPMS!C695=\"\",\"\",Deviation_CEM_CPMS!C695)","v":""},{"$f":"IF(Deviation_CEM_CPMS!D695=\"\",\"\",Deviation_CEM_CPMS!D695)","v":""},"",{"$f":"IF(COUNTIF(BA$2:BA673,BA673)=1,BA673,\"\")","v":""},"","",""]
[null,null,null,null,null,null,null,null,null,null,null,null,null,null,null,null,null,null,null,null,null,null,null,null,null,null,{"$f":"+IF(AE674=\"\",\"\",MAX(AA$1:AA673)+1)","v":""},{"$f":"IF(#REF!=\"\",\"\",#REF!)","v":{"$error":"#REF!"}},{"$f":"IF(#REF!=\"\",\"\",#REF!)","v":{"$error":"#REF!"}},{"$error":"#REF!"},{"$f":"IF(COUNTIF(AC$2:AC674,AC674)=1,AC674,\"\")","v":""},"","",null,null,null,null,null,null,null,{"$f":"+IF(AT674=\"\",\"\",MAX(AO$1:AO673)+1)","v":""},{"$f":"IF(Deviation_Limits!B696=\"\",\"\",Deviation_Limits!B696)","v":""},{"$f":"IF(Deviation_Limits!C696=\"\",\"\",Deviation_Limits!C696)","v":""},{"$f":"IF(Deviation_Limits!D696=\"\",\"\",Deviation_Limits!D696)","v":""},"",{"$f":"IF(COUNTIF(AQ$2:AQ674,AQ674)=1,AQ674,\"\")","v":""},"","","",null,{"$f":"+IF(BD674=\"\",\"\",MAX(AY$1:AY673)+1)","v":""},{"$f":"IF(Deviation_CEM_CPMS!B696=\"\",\"\",Deviation_CEM_CPMS!B696)","v":""},{"$f":"IF(Deviation_CEM_CPMS!C696=\"\",\"\",Deviation_CEM_CPMS!C696)","v":""},{"$f":"IF(Deviation_CEM_CPMS!D696=\"\",\"\",Deviation_CEM_CPMS!D696)","v":""},"",{"$f":"IF(COUNTIF(BA$2:BA674,BA674)=1,BA674,\"\")","v":""},"","",""]
[null,null,null,null,null,null,null,null,null,null,null,null,null,null,null,null,null,null,null,null,null,null,null,null,null,null,{"$f":"+IF(AE675=\"\",\"\",MAX(AA$1:AA674)+1)","v":""},{"$f":"IF(#REF!=\"\",\"\",#REF!)","v":{"$error":"#REF!"}},{"$f":"IF(#REF!=\"\",\"\",#REF!)","v":{"$error":"#REF!"}},{"$error":"#REF!"},{"$f":"IF(COUNTIF(AC$2:AC675,AC675)=1,AC675,\"\")","v":""},"","",null,null,null,null,null,null,null,{"$f":"+IF(AT675=\"\",\"\",MAX(AO$1:AO674)+1)","v":""},{"$f":"IF(Deviation_Limits!B697=\"\",\"\",Deviation_Limits!B697)","v":""},{"$f":"IF(Deviation_Limits!C697=\"\",\"\",Deviation_Limits!C697)","v":""},{"$f":"IF(Deviation_Limits!D697=\"\",\"\",Deviation_Limits!D697)","v":""},"",{"$f":"IF(COUNTIF(AQ$2:AQ675,AQ675)=1,AQ675,\"\")","v":""},"","","",null,{"$f":"+IF(BD675=\"\",\"\",MAX(AY$1:AY674)+1)","v":""},{"$f":"IF(Deviation_CEM_CPMS!B697=\"\",\"\",Deviation_CEM_CPMS!B697)","v":""},{"$f":"IF(Deviation_CEM_CPMS!C697=\"\",\"\",Deviation_CEM_CPMS!C697)","v":""},{"$f":"IF(Deviation_CEM_CPMS!D697=\"\",\"\",Deviation_CEM_CPMS!D697)","v":""},"",{"$f":"IF(COUNTIF(BA$2:BA675,BA675)=1,BA675,\"\")","v":""},"","",""]
[null,null,null,null,null,null,null,null,null,null,null,null,null,null,null,null,null,null,null,null,null,null,null,null,null,null,{"$f":"+IF(AE676=\"\",\"\",MAX(AA$1:AA675)+1)","v":""},{"$f":"IF(#REF!=\"\",\"\",#REF!)","v":{"$error":"#REF!"}},{"$f":"IF(#REF!=\"\",\"\",#REF!)","v":{"$error":"#REF!"}},{"$error":"#REF!"},{"$f":"IF(COUNTIF(AC$2:AC676,AC676)=1,AC676,\"\")","v":""},"","",null,null,null,null,null,null,null,{"$f":"+IF(AT676=\"\",\"\",MAX(AO$1:AO675)+1)","v":""},{"$f":"IF(Deviation_Limits!B698=\"\",\"\",Deviation_Limits!B698)","v":""},{"$f":"IF(Deviation_Limits!C698=\"\",\"\",Deviation_Limits!C698)","v":""},{"$f":"IF(Deviation_Limits!D698=\"\",\"\",Deviation_Limits!D698)","v":""},"",{"$f":"IF(COUNTIF(AQ$2:AQ676,AQ676)=1,AQ676,\"\")","v":""},"","","",null,{"$f":"+IF(BD676=\"\",\"\",MAX(AY$1:AY675)+1)","v":""},{"$f":"IF(Deviation_CEM_CPMS!B698=\"\",\"\",Deviation_CEM_CPMS!B698)","v":""},{"$f":"IF(Deviation_CEM_CPMS!C698=\"\",\"\",Deviation_CEM_CPMS!C698)","v":""},{"$f":"IF(Deviation_CEM_CPMS!D698=\"\",\"\",Deviation_CEM_CPMS!D698)","v":""},"",{"$f":"IF(COUNTIF(BA$2:BA676,BA676)=1,BA676,\"\")","v":""},"","",""]
[null,null,null,null,null,null,null,null,null,null,null,null,null,null,null,null,null,null,null,null,null,null,null,null,null,null,{"$f":"+IF(AE677=\"\",\"\",MAX(AA$1:AA676)+1)","v":""},{"$f":"IF(#REF!=\"\",\"\",#REF!)","v":{"$error":"#REF!"}},{"$f":"IF(#REF!=\"\",\"\",#REF!)","v":{"$error":"#REF!"}},{"$error":"#REF!"},{"$f":"IF(COUNTIF(AC$2:AC677,AC677)=1,AC677,\"\")","v":""},"","",null,null,null,null,null,null,null,{"$f":"+IF(AT677=\"\",\"\",MAX(AO$1:AO676)+1)","v":""},{"$f":"IF(Deviation_Limits!B699=\"\",\"\",Deviation_Limits!B699)","v":""},{"$f":"IF(Deviation_Limits!C699=\"\",\"\",Deviation_Limits!C699)","v":""},{"$f":"IF(Deviation_Limits!D699=\"\",\"\",Deviation_Limits!D699)","v":""},"",{"$f":"IF(COUNTIF(AQ$2:AQ677,AQ677)=1,AQ677,\"\")","v":""},"","","",null,{"$f":"+IF(BD677=\"\",\"\",MAX(AY$1:AY676)+1)","v":""},{"$f":"IF(Deviation_CEM_CPMS!B699=\"\",\"\",Deviation_CEM_CPMS!B699)","v":""},{"$f":"IF(Deviation_CEM_CPMS!C699=\"\",\"\",Deviation_CEM_CPMS!C699)","v":""},{"$f":"IF(Deviation_CEM_CPMS!D699=\"\",\"\",Deviation_CEM_CPMS!D699)","v":""},"",{"$f":"IF(COUNTIF(BA$2:BA677,BA677)=1,BA677,\"\")","v":""},"","",""]
[null,null,null,null,null,null,null,null,null,null,null,null,null,null,null,null,null,null,null,null,null,null,null,null,null,null,{"$f":"+IF(AE678=\"\",\"\",MAX(AA$1:AA677)+1)","v":""},{"$f":"IF(#REF!=\"\",\"\",#REF!)","v":{"$error":"#REF!"}},{"$f":"IF(#REF!=\"\",\"\",#REF!)","v":{"$error":"#REF!"}},{"$error":"#REF!"},{"$f":"IF(COUNTIF(AC$2:AC678,AC678)=1,AC678,\"\")","v":""},"","",null,null,null,null,null,null,null,{"$f":"+IF(AT678=\"\",\"\",MAX(AO$1:AO677)+1)","v":""},{"$f":"IF(Deviation_Limits!B700=\"\",\"\",Deviation_Limits!B700)","v":""},{"$f":"IF(Deviation_Limits!C700=\"\",\"\",Deviation_Limits!C700)","v":""},{"$f":"IF(Deviation_Limits!D700=\"\",\"\",Deviation_Limits!D700)","v":""},"",{"$f":"IF(COUNTIF(AQ$2:AQ678,AQ678)=1,AQ678,\"\")","v":""},"","","",null,{"$f":"+IF(BD678=\"\",\"\",MAX(AY$1:AY677)+1)","v":""},{"$f":"IF(Deviation_CEM_CPMS!B700=\"\",\"\",Deviation_CEM_CPMS!B700)","v":""},{"$f":"IF(Deviation_CEM_CPMS!C700=\"\",\"\",Deviation_CEM_CPMS!C700)","v":""},{"$f":"IF(Deviation_CEM_CPMS!D700=\"\",\"\",Deviation_CEM_CPMS!D700)","v":""},"",{"$f":"IF(COUNTIF(BA$2:BA678,BA678)=1,BA678,\"\")","v":""},"","",""]
[null,null,null,null,null,null,null,null,null,null,null,null,null,null,null,null,null,null,null,null,null,null,null,null,null,null,{"$f":"+IF(AE679=\"\",\"\",MAX(AA$1:AA678)+1)","v":""},{"$f":"IF(#REF!=\"\",\"\",#REF!)","v":{"$error":"#REF!"}},{"$f":"IF(#REF!=\"\",\"\",#REF!)","v":{"$error":"#REF!"}},{"$error":"#REF!"},{"$f":"IF(COUNTIF(AC$2:AC679,AC679)=1,AC679,\"\")","v":""},"","",null,null,null,null,null,null,null,{"$f":"+IF(AT679=\"\",\"\",MAX(AO$1:AO678)+1)","v":""},{"$f":"IF(Deviation_Limits!B701=\"\",\"\",Deviation_Limits!B701)","v":""},{"$f":"IF(Deviation_Limits!C701=\"\",\"\",Deviation_Limits!C701)","v":""},{"$f":"IF(Deviation_Limits!D701=\"\",\"\",Deviation_Limits!D701)","v":""},"",{"$f":"IF(COUNTIF(AQ$2:AQ679,AQ679)=1,AQ679,\"\")","v":""},"","","",null,{"$f":"+IF(BD679=\"\",\"\",MAX(AY$1:AY678)+1)","v":""},{"$f":"IF(Deviation_CEM_CPMS!B701=\"\",\"\",Deviation_CEM_CPMS!B701)","v":""},{"$f":"IF(Deviation_CEM_CPMS!C701=\"\",\"\",Deviation_CEM_CPMS!C701)","v":""},{"$f":"IF(Deviation_CEM_CPMS!D701=\"\",\"\",Deviation_CEM_CPMS!D701)","v":""},"",{"$f":"IF(COUNTIF(BA$2:BA679,BA679)=1,BA679,\"\")","v":""},"","",""]
[null,null,null,null,null,null,null,null,null,null,null,null,null,null,null,null,null,null,null,null,null,null,null,null,null,null,{"$f":"+IF(AE680=\"\",\"\",MAX(AA$1:AA679)+1)","v":""},{"$f":"IF(#REF!=\"\",\"\",#REF!)","v":{"$error":"#REF!"}},{"$f":"IF(#REF!=\"\",\"\",#REF!)","v":{"$error":"#REF!"}},{"$error":"#REF!"},{"$f":"IF(COUNTIF(AC$2:AC680,AC680)=1,AC680,\"\")","v":""},"","",null,null,null,null,null,null,null,{"$f":"+IF(AT680=\"\",\"\",MAX(AO$1:AO679)+1)","v":""},{"$f":"IF(Deviation_Limits!B702=\"\",\"\",Deviation_Limits!B702)","v":""},{"$f":"IF(Deviation_Limits!C702=\"\",\"\",Deviation_Limits!C702)","v":""},{"$f":"IF(Deviation_Limits!D702=\"\",\"\",Deviation_Limits!D702)","v":""},"",{"$f":"IF(COUNTIF(AQ$2:AQ680,AQ680)=1,AQ680,\"\")","v":""},"","","",null,{"$f":"+IF(BD680=\"\",\"\",MAX(AY$1:AY679)+1)","v":""},{"$f":"IF(Deviation_CEM_CPMS!B702=\"\",\"\",Deviation_CEM_CPMS!B702)","v":""},{"$f":"IF(Deviation_CEM_CPMS!C702=\"\",\"\",Deviation_CEM_CPMS!C702)","v":""},{"$f":"IF(Deviation_CEM_CPMS!D702=\"\",\"\",Deviation_CEM_CPMS!D702)","v":""},"",{"$f":"IF(COUNTIF(BA$2:BA680,BA680)=1,BA680,\"\")","v":""},"","",""]
[null,null,null,null,null,null,null,null,null,null,null,null,null,null,null,null,null,null,null,null,null,null,null,null,null,null,{"$f":"+IF(AE681=\"\",\"\",MAX(AA$1:AA680)+1)","v":""},{"$f":"IF(#REF!=\"\",\"\",#REF!)","v":{"$error":"#REF!"}},{"$f":"IF(#REF!=\"\",\"\",#REF!)","v":{"$error":"#REF!"}},{"$error":"#REF!"},{"$f":"IF(COUNTIF(AC$2:AC681,AC681)=1,AC681,\"\")","v":""},"","",null,null,null,null,null,null,null,{"$f":"+IF(AT681=\"\",\"\",MAX(AO$1:AO680)+1)","v":""},{"$f":"IF(Deviation_Limits!B703=\"\",\"\",Deviation_Limits!B703)","v":""},{"$f":"IF(Deviation_Limits!C703=\"\",\"\",Deviation_Limits!C703)","v":""},{"$f":"IF(Deviation_Limits!D703=\"\",\"\",Deviation_Limits!D703)","v":""},"",{"$f":"IF(COUNTIF(AQ$2:AQ681,AQ681)=1,AQ681,\"\")","v":""},"","","",null,{"$f":"+IF(BD681=\"\",\"\",MAX(AY$1:AY680)+1)","v":""},{"$f":"IF(Deviation_CEM_CPMS!B703=\"\",\"\",Deviation_CEM_CPMS!B703)","v":""},{"$f":"IF(Deviation_CEM_CPMS!C703=\"\",\"\",Deviation_CEM_CPMS!C703)","v":""},{"$f":"IF(Deviation_CEM_CPMS!D703=\"\",\"\",Deviation_CEM_CPMS!D703)","v":""},"",{"$f":"IF(COUNTIF(BA$2:BA681,BA681)=1,BA681,\"\")","v":""},"","",""]
[null,null,null,null,null,null,null,null,null,null,null,null,null,null,null,null,null,null,null,null,null,null,null,null,null,null,{"$f":"+IF(AE682=\"\",\"\",MAX(AA$1:AA681)+1)","v":""},{"$f":"IF(#REF!=\"\",\"\",#REF!)","v":{"$error":"#REF!"}},{"$f":"IF(#REF!=\"\",\"\",#REF!)","v":{"$error":"#REF!"}},{"$error":"#REF!"},{"$f":"IF(COUNTIF(AC$2:AC682,AC682)=1,AC682,\"\")","v":""},"","",null,null,null,null,null,null,null,{"$f":"+IF(AT682=\"\",\"\",MAX(AO$1:AO681)+1)","v":""},{"$f":"IF(Deviation_Limits!B704=\"\",\"\",Deviation_Limits!B704)","v":""},{"$f":"IF(Deviation_Limits!C704=\"\",\"\",Deviation_Limits!C704)","v":""},{"$f":"IF(Deviation_Limits!D704=\"\",\"\",Deviation_Limits!D704)","v":""},"",{"$f":"IF(COUNTIF(AQ$2:AQ682,AQ682)=1,AQ682,\"\")","v":""},"","","",null,{"$f":"+IF(BD682=\"\",\"\",MAX(AY$1:AY681)+1)","v":""},{"$f":"IF(Deviation_CEM_CPMS!B704=\"\",\"\",Deviation_CEM_CPMS!B704)","v":""},{"$f":"IF(Deviation_CEM_CPMS!C704=\"\",\"\",Deviation_CEM_CPMS!C704)","v":""},{"$f":"IF(Deviation_CEM_CPMS!D704=\"\",\"\",Deviation_CEM_CPMS!D704)","v":""},"",{"$f":"IF(COUNTIF(BA$2:BA682,BA682)=1,BA682,\"\")","v":""},"","",""]
[null,null,null,null,null,null,null,null,null,null,null,null,null,null,null,null,null,null,null,null,null,null,null,null,null,null,{"$f":"+IF(AE683=\"\",\"\",MAX(AA$1:AA682)+1)","v":""},{"$f":"IF(#REF!=\"\",\"\",#REF!)","v":{"$error":"#REF!"}},{"$f":"IF(#REF!=\"\",\"\",#REF!)","v":{"$error":"#REF!"}},{"$error":"#REF!"},{"$f":"IF(COUNTIF(AC$2:AC683,AC683)=1,AC683,\"\")","v":""},"","",null,null,null,null,null,null,null,{"$f":"+IF(AT683=\"\",\"\",MAX(AO$1:AO682)+1)","v":""},{"$f":"IF(Deviation_Limits!B705=\"\",\"\",Deviation_Limits!B705)","v":""},{"$f":"IF(Deviation_Limits!C705=\"\",\"\",Deviation_Limits!C705)","v":""},{"$f":"IF(Deviation_Limits!D705=\"\",\"\",Deviation_Limits!D705)","v":""},"",{"$f":"IF(COUNTIF(AQ$2:AQ683,AQ683)=1,AQ683,\"\")","v":""},"","","",null,{"$f":"+IF(BD683=\"\",\"\",MAX(AY$1:AY682)+1)","v":""},{"$f":"IF(Deviation_CEM_CPMS!B705=\"\",\"\",Deviation_CEM_CPMS!B705)","v":""},{"$f":"IF(Deviation_CEM_CPMS!C705=\"\",\"\",Deviation_CEM_CPMS!C705)","v":""},{"$f":"IF(Deviation_CEM_CPMS!D705=\"\",\"\",Deviation_CEM_CPMS!D705)","v":""},"",{"$f":"IF(COUNTIF(BA$2:BA683,BA683)=1,BA683,\"\")","v":""},"","",""]
[null,null,null,null,null,null,null,null,null,null,null,null,null,null,null,null,null,null,null,null,null,null,null,null,null,null,{"$f":"+IF(AE684=\"\",\"\",MAX(AA$1:AA683)+1)","v":""},{"$f":"IF(#REF!=\"\",\"\",#REF!)","v":{"$error":"#REF!"}},{"$f":"IF(#REF!=\"\",\"\",#REF!)","v":{"$error":"#REF!"}},{"$error":"#REF!"},{"$f":"IF(COUNTIF(AC$2:AC684,AC684)=1,AC684,\"\")","v":""},"","",null,null,null,null,null,null,null,{"$f":"+IF(AT684=\"\",\"\",MAX(AO$1:AO683)+1)","v":""},{"$f":"IF(Deviation_Limits!B706=\"\",\"\",Deviation_Limits!B706)","v":""},{"$f":"IF(Deviation_Limits!C706=\"\",\"\",Deviation_Limits!C706)","v":""},{"$f":"IF(Deviation_Limits!D706=\"\",\"\",Deviation_Limits!D706)","v":""},"",{"$f":"IF(COUNTIF(AQ$2:AQ684,AQ684)=1,AQ684,\"\")","v":""},"","","",null,{"$f":"+IF(BD684=\"\",\"\",MAX(AY$1:AY683)+1)","v":""},{"$f":"IF(Deviation_CEM_CPMS!B706=\"\",\"\",Deviation_CEM_CPMS!B706)","v":""},{"$f":"IF(Deviation_CEM_CPMS!C706=\"\",\"\",Deviation_CEM_CPMS!C706)","v":""},{"$f":"IF(Deviation_CEM_CPMS!D706=\"\",\"\",Deviation_CEM_CPMS!D706)","v":""},"",{"$f":"IF(COUNTIF(BA$2:BA684,BA684)=1,BA684,\"\")","v":""},"","",""]
[null,null,null,null,null,null,null,null,null,null,null,null,null,null,null,null,null,null,null,null,null,null,null,null,null,null,{"$f":"+IF(AE685=\"\",\"\",MAX(AA$1:AA684)+1)","v":""},{"$f":"IF(#REF!=\"\",\"\",#REF!)","v":{"$error":"#REF!"}},{"$f":"IF(#REF!=\"\",\"\",#REF!)","v":{"$error":"#REF!"}},{"$error":"#REF!"},{"$f":"IF(COUNTIF(AC$2:AC685,AC685)=1,AC685,\"\")","v":""},"","",null,null,null,null,null,null,null,{"$f":"+IF(AT685=\"\",\"\",MAX(AO$1:AO684)+1)","v":""},{"$f":"IF(Deviation_Limits!B707=\"\",\"\",Deviation_Limits!B707)","v":""},{"$f":"IF(Deviation_Limits!C707=\"\",\"\",Deviation_Limits!C707)","v":""},{"$f":"IF(Deviation_Limits!D707=\"\",\"\",Deviation_Limits!D707)","v":""},"",{"$f":"IF(COUNTIF(AQ$2:AQ685,AQ685)=1,AQ685,\"\")","v":""},"","","",null,{"$f":"+IF(BD685=\"\",\"\",MAX(AY$1:AY684)+1)","v":""},{"$f":"IF(Deviation_CEM_CPMS!B707=\"\",\"\",Deviation_CEM_CPMS!B707)","v":""},{"$f":"IF(Deviation_CEM_CPMS!C707=\"\",\"\",Deviation_CEM_CPMS!C707)","v":""},{"$f":"IF(Deviation_CEM_CPMS!D707=\"\",\"\",Deviation_CEM_CPMS!D707)","v":""},"",{"$f":"IF(COUNTIF(BA$2:BA685,BA685)=1,BA685,\"\")","v":""},"","",""]
[null,null,null,null,null,null,null,null,null,null,null,null,null,null,null,null,null,null,null,null,null,null,null,null,null,null,{"$f":"+IF(AE686=\"\",\"\",MAX(AA$1:AA685)+1)","v":""},{"$f":"IF(#REF!=\"\",\"\",#REF!)","v":{"$error":"#REF!"}},{"$f":"IF(#REF!=\"\",\"\",#REF!)","v":{"$error":"#REF!"}},{"$error":"#REF!"},{"$f":"IF(COUNTIF(AC$2:AC686,AC686)=1,AC686,\"\")","v":""},"","",null,null,null,null,null,null,null,{"$f":"+IF(AT686=\"\",\"\",MAX(AO$1:AO685)+1)","v":""},{"$f":"IF(Deviation_Limits!B708=\"\",\"\",Deviation_Limits!B708)","v":""},{"$f":"IF(Deviation_Limits!C708=\"\",\"\",Deviation_Limits!C708)","v":""},{"$f":"IF(Deviation_Limits!D708=\"\",\"\",Deviation_Limits!D708)","v":""},"",{"$f":"IF(COUNTIF(AQ$2:AQ686,AQ686)=1,AQ686,\"\")","v":""},"","","",null,{"$f":"+IF(BD686=\"\",\"\",MAX(AY$1:AY685)+1)","v":""},{"$f":"IF(Deviation_CEM_CPMS!B708=\"\",\"\",Deviation_CEM_CPMS!B708)","v":""},{"$f":"IF(Deviation_CEM_CPMS!C708=\"\",\"\",Deviation_CEM_CPMS!C708)","v":""},{"$f":"IF(Deviation_CEM_CPMS!D708=\"\",\"\",Deviation_CEM_CPMS!D708)","v":""},"",{"$f":"IF(COUNTIF(BA$2:BA686,BA686)=1,BA686,\"\")","v":""},"","",""]
[null,null,null,null,null,null,null,null,null,null,null,null,null,null,null,null,null,null,null,null,null,null,null,null,null,null,{"$f":"+IF(AE687=\"\",\"\",MAX(AA$1:AA686)+1)","v":""},{"$f":"IF(#REF!=\"\",\"\",#REF!)","v":{"$error":"#REF!"}},{"$f":"IF(#REF!=\"\",\"\",#REF!)","v":{"$error":"#REF!"}},{"$error":"#REF!"},{"$f":"IF(COUNTIF(AC$2:AC687,AC687)=1,AC687,\"\")","v":""},"","",null,null,null,null,null,null,null,{"$f":"+IF(AT687=\"\",\"\",MAX(AO$1:AO686)+1)","v":""},{"$f":"IF(Deviation_Limits!B709=\"\",\"\",Deviation_Limits!B709)","v":""},{"$f":"IF(Deviation_Limits!C709=\"\",\"\",Deviation_Limits!C709)","v":""},{"$f":"IF(Deviation_Limits!D709=\"\",\"\",Deviation_Limits!D709)","v":""},"",{"$f":"IF(COUNTIF(AQ$2:AQ687,AQ687)=1,AQ687,\"\")","v":""},"","","",null,{"$f":"+IF(BD687=\"\",\"\",MAX(AY$1:AY686)+1)","v":""},{"$f":"IF(Deviation_CEM_CPMS!B709=\"\",\"\",Deviation_CEM_CPMS!B709)","v":""},{"$f":"IF(Deviation_CEM_CPMS!C709=\"\",\"\",Deviation_CEM_CPMS!C709)","v":""},{"$f":"IF(Deviation_CEM_CPMS!D709=\"\",\"\",Deviation_CEM_CPMS!D709)","v":""},"",{"$f":"IF(COUNTIF(BA$2:BA687,BA687)=1,BA687,\"\")","v":""},"","",""]
[null,null,null,null,null,null,null,null,null,null,null,null,null,null,null,null,null,null,null,null,null,null,null,null,null,null,{"$f":"+IF(AE688=\"\",\"\",MAX(AA$1:AA687)+1)","v":""},{"$f":"IF(#REF!=\"\",\"\",#REF!)","v":{"$error":"#REF!"}},{"$f":"IF(#REF!=\"\",\"\",#REF!)","v":{"$error":"#REF!"}},{"$error":"#REF!"},{"$f":"IF(COUNTIF(AC$2:AC688,AC688)=1,AC688,\"\")","v":""},"","",null,null,null,null,null,null,null,{"$f":"+IF(AT688=\"\",\"\",MAX(AO$1:AO687)+1)","v":""},{"$f":"IF(Deviation_Limits!B710=\"\",\"\",Deviation_Limits!B710)","v":""},{"$f":"IF(Deviation_Limits!C710=\"\",\"\",Deviation_Limits!C710)","v":""},{"$f":"IF(Deviation_Limits!D710=\"\",\"\",Deviation_Limits!D710)","v":""},"",{"$f":"IF(COUNTIF(AQ$2:AQ688,AQ688)=1,AQ688,\"\")","v":""},"","","",null,{"$f":"+IF(BD688=\"\",\"\",MAX(AY$1:AY687)+1)","v":""},{"$f":"IF(Deviation_CEM_CPMS!B710=\"\",\"\",Deviation_CEM_CPMS!B710)","v":""},{"$f":"IF(Deviation_CEM_CPMS!C710=\"\",\"\",Deviation_CEM_CPMS!C710)","v":""},{"$f":"IF(Deviation_CEM_CPMS!D710=\"\",\"\",Deviation_CEM_CPMS!D710)","v":""},"",{"$f":"IF(COUNTIF(BA$2:BA688,BA688)=1,BA688,\"\")","v":""},"","",""]
[null,null,null,null,null,null,null,null,null,null,null,null,null,null,null,null,null,null,null,null,null,null,null,null,null,null,{"$f":"+IF(AE689=\"\",\"\",MAX(AA$1:AA688)+1)","v":""},{"$f":"IF(#REF!=\"\",\"\",#REF!)","v":{"$error":"#REF!"}},{"$f":"IF(#REF!=\"\",\"\",#REF!)","v":{"$error":"#REF!"}},{"$error":"#REF!"},{"$f":"IF(COUNTIF(AC$2:AC689,AC689)=1,AC689,\"\")","v":""},"","",null,null,null,null,null,null,null,{"$f":"+IF(AT689=\"\",\"\",MAX(AO$1:AO688)+1)","v":""},{"$f":"IF(Deviation_Limits!B711=\"\",\"\",Deviation_Limits!B711)","v":""},{"$f":"IF(Deviation_Limits!C711=\"\",\"\",Deviation_Limits!C711)","v":""},{"$f":"IF(Deviation_Limits!D711=\"\",\"\",Deviation_Limits!D711)","v":""},"",{"$f":"IF(COUNTIF(AQ$2:AQ689,AQ689)=1,AQ689,\"\")","v":""},"","","",null,{"$f":"+IF(BD689=\"\",\"\",MAX(AY$1:AY688)+1)","v":""},{"$f":"IF(Deviation_CEM_CPMS!B711=\"\",\"\",Deviation_CEM_CPMS!B711)","v":""},{"$f":"IF(Deviation_CEM_CPMS!C711=\"\",\"\",Deviation_CEM_CPMS!C711)","v":""},{"$f":"IF(Deviation_CEM_CPMS!D711=\"\",\"\",Deviation_CEM_CPMS!D711)","v":""},"",{"$f":"IF(COUNTIF(BA$2:BA689,BA689)=1,BA689,\"\")","v":""},"","",""]
[null,null,null,null,null,null,null,null,null,null,null,null,null,null,null,null,null,null,null,null,null,null,null,null,null,null,{"$f":"+IF(AE690=\"\",\"\",MAX(AA$1:AA689)+1)","v":""},{"$f":"IF(#REF!=\"\",\"\",#REF!)","v":{"$error":"#REF!"}},{"$f":"IF(#REF!=\"\",\"\",#REF!)","v":{"$error":"#REF!"}},{"$error":"#REF!"},{"$f":"IF(COUNTIF(AC$2:AC690,AC690)=1,AC690,\"\")","v":""},"","",null,null,null,null,null,null,null,{"$f":"+IF(AT690=\"\",\"\",MAX(AO$1:AO689)+1)","v":""},{"$f":"IF(Deviation_Limits!B712=\"\",\"\",Deviation_Limits!B712)","v":""},{"$f":"IF(Deviation_Limits!C712=\"\",\"\",Deviation_Limits!C712)","v":""},{"$f":"IF(Deviation_Limits!D712=\"\",\"\",Deviation_Limits!D712)","v":""},"",{"$f":"IF(COUNTIF(AQ$2:AQ690,AQ690)=1,AQ690,\"\")","v":""},"","","",null,{"$f":"+IF(BD690=\"\",\"\",MAX(AY$1:AY689)+1)","v":""},{"$f":"IF(Deviation_CEM_CPMS!B712=\"\",\"\",Deviation_CEM_CPMS!B712)","v":""},{"$f":"IF(Deviation_CEM_CPMS!C712=\"\",\"\",Deviation_CEM_CPMS!C712)","v":""},{"$f":"IF(Deviation_CEM_CPMS!D712=\"\",\"\",Deviation_CEM_CPMS!D712)","v":""},"",{"$f":"IF(COUNTIF(BA$2:BA690,BA690)=1,BA690,\"\")","v":""},"","",""]
[null,null,null,null,null,null,null,null,null,null,null,null,null,null,null,null,null,null,null,null,null,null,null,null,null,null,{"$f":"+IF(AE691=\"\",\"\",MAX(AA$1:AA690)+1)","v":""},{"$f":"IF(#REF!=\"\",\"\",#REF!)","v":{"$error":"#REF!"}},{"$f":"IF(#REF!=\"\",\"\",#REF!)","v":{"$error":"#REF!"}},{"$error":"#REF!"},{"$f":"IF(COUNTIF(AC$2:AC691,AC691)=1,AC691,\"\")","v":""},"","",null,null,null,null,null,null,null,{"$f":"+IF(AT691=\"\",\"\",MAX(AO$1:AO690)+1)","v":""},{"$f":"IF(Deviation_Limits!B713=\"\",\"\",Deviation_Limits!B713)","v":""},{"$f":"IF(Deviation_Limits!C713=\"\",\"\",Deviation_Limits!C713)","v":""},{"$f":"IF(Deviation_Limits!D713=\"\",\"\",Deviation_Limits!D713)","v":""},"",{"$f":"IF(COUNTIF(AQ$2:AQ691,AQ691)=1,AQ691,\"\")","v":""},"","","",null,{"$f":"+IF(BD691=\"\",\"\",MAX(AY$1:AY690)+1)","v":""},{"$f":"IF(Deviation_CEM_CPMS!B713=\"\",\"\",Deviation_CEM_CPMS!B713)","v":""},{"$f":"IF(Deviation_CEM_CPMS!C713=\"\",\"\",Deviation_CEM_CPMS!C713)","v":""},{"$f":"IF(Deviation_CEM_CPMS!D713=\"\",\"\",Deviation_CEM_CPMS!D713)","v":""},"",{"$f":"IF(COUNTIF(BA$2:BA691,BA691)=1,BA691,\"\")","v":""},"","",""]
[null,null,null,null,null,null,null,null,null,null,null,null,null,null,null,null,null,null,null,null,null,null,null,null,null,null,{"$f":"+IF(AE692=\"\",\"\",MAX(AA$1:AA691)+1)","v":""},{"$f":"IF(#REF!=\"\",\"\",#REF!)","v":{"$error":"#REF!"}},{"$f":"IF(#REF!=\"\",\"\",#REF!)","v":{"$error":"#REF!"}},{"$error":"#REF!"},{"$f":"IF(COUNTIF(AC$2:AC692,AC692)=1,AC692,\"\")","v":""},"","",null,null,null,null,null,null,null,{"$f":"+IF(AT692=\"\",\"\",MAX(AO$1:AO691)+1)","v":""},{"$f":"IF(Deviation_Limits!B714=\"\",\"\",Deviation_Limits!B714)","v":""},{"$f":"IF(Deviation_Limits!C714=\"\",\"\",Deviation_Limits!C714)","v":""},{"$f":"IF(Deviation_Limits!D714=\"\",\"\",Deviation_Limits!D714)","v":""},"",{"$f":"IF(COUNTIF(AQ$2:AQ692,AQ692)=1,AQ692,\"\")","v":""},"","","",null,{"$f":"+IF(BD692=\"\",\"\",MAX(AY$1:AY691)+1)","v":""},{"$f":"IF(Deviation_CEM_CPMS!B714=\"\",\"\",Deviation_CEM_CPMS!B714)","v":""},{"$f":"IF(Deviation_CEM_CPMS!C714=\"\",\"\",Deviation_CEM_CPMS!C714)","v":""},{"$f":"IF(Deviation_CEM_CPMS!D714=\"\",\"\",Deviation_CEM_CPMS!D714)","v":""},"",{"$f":"IF(COUNTIF(BA$2:BA692,BA692)=1,BA692,\"\")","v":""},"","",""]
[null,null,null,null,null,null,null,null,null,null,null,null,null,null,null,null,null,null,null,null,null,null,null,null,null,null,{"$f":"+IF(AE693=\"\",\"\",MAX(AA$1:AA692)+1)","v":""},{"$f":"IF(#REF!=\"\",\"\",#REF!)","v":{"$error":"#REF!"}},{"$f":"IF(#REF!=\"\",\"\",#REF!)","v":{"$error":"#REF!"}},{"$error":"#REF!"},{"$f":"IF(COUNTIF(AC$2:AC693,AC693)=1,AC693,\"\")","v":""},"","",null,null,null,null,null,null,null,{"$f":"+IF(AT693=\"\",\"\",MAX(AO$1:AO692)+1)","v":""},{"$f":"IF(Deviation_Limits!B715=\"\",\"\",Deviation_Limits!B715)","v":""},{"$f":"IF(Deviation_Limits!C715=\"\",\"\",Deviation_Limits!C715)","v":""},{"$f":"IF(Deviation_Limits!D715=\"\",\"\",Deviation_Limits!D715)","v":""},"",{"$f":"IF(COUNTIF(AQ$2:AQ693,AQ693)=1,AQ693,\"\")","v":""},"","","",null,{"$f":"+IF(BD693=\"\",\"\",MAX(AY$1:AY692)+1)","v":""},{"$f":"IF(Deviation_CEM_CPMS!B715=\"\",\"\",Deviation_CEM_CPMS!B715)","v":""},{"$f":"IF(Deviation_CEM_CPMS!C715=\"\",\"\",Deviation_CEM_CPMS!C715)","v":""},{"$f":"IF(Deviation_CEM_CPMS!D715=\"\",\"\",Deviation_CEM_CPMS!D715)","v":""},"",{"$f":"IF(COUNTIF(BA$2:BA693,BA693)=1,BA693,\"\")","v":""},"","",""]
[null,null,null,null,null,null,null,null,null,null,null,null,null,null,null,null,null,null,null,null,null,null,null,null,null,null,{"$f":"+IF(AE694=\"\",\"\",MAX(AA$1:AA693)+1)","v":""},{"$f":"IF(#REF!=\"\",\"\",#REF!)","v":{"$error":"#REF!"}},{"$f":"IF(#REF!=\"\",\"\",#REF!)","v":{"$error":"#REF!"}},{"$error":"#REF!"},{"$f":"IF(COUNTIF(AC$2:AC694,AC694)=1,AC694,\"\")","v":""},"","",null,null,null,null,null,null,null,{"$f":"+IF(AT694=\"\",\"\",MAX(AO$1:AO693)+1)","v":""},{"$f":"IF(Deviation_Limits!B716=\"\",\"\",Deviation_Limits!B716)","v":""},{"$f":"IF(Deviation_Limits!C716=\"\",\"\",Deviation_Limits!C716)","v":""},{"$f":"IF(Deviation_Limits!D716=\"\",\"\",Deviation_Limits!D716)","v":""},"",{"$f":"IF(COUNTIF(AQ$2:AQ694,AQ694)=1,AQ694,\"\")","v":""},"","","",null,{"$f":"+IF(BD694=\"\",\"\",MAX(AY$1:AY693)+1)","v":""},{"$f":"IF(Deviation_CEM_CPMS!B716=\"\",\"\",Deviation_CEM_CPMS!B716)","v":""},{"$f":"IF(Deviation_CEM_CPMS!C716=\"\",\"\",Deviation_CEM_CPMS!C716)","v":""},{"$f":"IF(Deviation_CEM_CPMS!D716=\"\",\"\",Deviation_CEM_CPMS!D716)","v":""},"",{"$f":"IF(COUNTIF(BA$2:BA694,BA694)=1,BA694,\"\")","v":""},"","",""]
[null,null,null,null,null,null,null,null,null,null,null,null,null,null,null,null,null,null,null,null,null,null,null,null,null,null,{"$f":"+IF(AE695=\"\",\"\",MAX(AA$1:AA694)+1)","v":""},{"$f":"IF(#REF!=\"\",\"\",#REF!)","v":{"$error":"#REF!"}},{"$f":"IF(#REF!=\"\",\"\",#REF!)","v":{"$error":"#REF!"}},{"$error":"#REF!"},{"$f":"IF(COUNTIF(AC$2:AC695,AC695)=1,AC695,\"\")","v":""},"","",null,null,null,null,null,null,null,{"$f":"+IF(AT695=\"\",\"\",MAX(AO$1:AO694)+1)","v":""},{"$f":"IF(Deviation_Limits!B717=\"\",\"\",Deviation_Limits!B717)","v":""},{"$f":"IF(Deviation_Limits!C717=\"\",\"\",Deviation_Limits!C717)","v":""},{"$f":"IF(Deviation_Limits!D717=\"\",\"\",Deviation_Limits!D717)","v":""},"",{"$f":"IF(COUNTIF(AQ$2:AQ695,AQ695)=1,AQ695,\"\")","v":""},"","","",null,{"$f":"+IF(BD695=\"\",\"\",MAX(AY$1:AY694)+1)","v":""},{"$f":"IF(Deviation_CEM_CPMS!B717=\"\",\"\",Deviation_CEM_CPMS!B717)","v":""},{"$f":"IF(Deviation_CEM_CPMS!C717=\"\",\"\",Deviation_CEM_CPMS!C717)","v":""},{"$f":"IF(Deviation_CEM_CPMS!D717=\"\",\"\",Deviation_CEM_CPMS!D717)","v":""},"",{"$f":"IF(COUNTIF(BA$2:BA695,BA695)=1,BA695,\"\")","v":""},"","",""]
[null,null,null,null,null,null,null,null,null,null,null,null,null,null,null,null,null,null,null,null,null,null,null,null,null,null,{"$f":"+IF(AE696=\"\",\"\",MAX(AA$1:AA695)+1)","v":""},{"$f":"IF(#REF!=\"\",\"\",#REF!)","v":{"$error":"#REF!"}},{"$f":"IF(#REF!=\"\",\"\",#REF!)","v":{"$error":"#REF!"}},{"$error":"#REF!"},{"$f":"IF(COUNTIF(AC$2:AC696,AC696)=1,AC696,\"\")","v":""},"","",null,null,null,null,null,null,null,{"$f":"+IF(AT696=\"\",\"\",MAX(AO$1:AO695)+1)","v":""},{"$f":"IF(Deviation_Limits!B718=\"\",\"\",Deviation_Limits!B718)","v":""},{"$f":"IF(Deviation_Limits!C718=\"\",\"\",Deviation_Limits!C718)","v":""},{"$f":"IF(Deviation_Limits!D718=\"\",\"\",Deviation_Limits!D718)","v":""},"",{"$f":"IF(COUNTIF(AQ$2:AQ696,AQ696)=1,AQ696,\"\")","v":""},"","","",null,{"$f":"+IF(BD696=\"\",\"\",MAX(AY$1:AY695)+1)","v":""},{"$f":"IF(Deviation_CEM_CPMS!B718=\"\",\"\",Deviation_CEM_CPMS!B718)","v":""},{"$f":"IF(Deviation_CEM_CPMS!C718=\"\",\"\",Deviation_CEM_CPMS!C718)","v":""},{"$f":"IF(Deviation_CEM_CPMS!D718=\"\",\"\",Deviation_CEM_CPMS!D718)","v":""},"",{"$f":"IF(COUNTIF(BA$2:BA696,BA696)=1,BA696,\"\")","v":""},"","",""]
[null,null,null,null,null,null,null,null,null,null,null,null,null,null,null,null,null,null,null,null,null,null,null,null,null,null,{"$f":"+IF(AE697=\"\",\"\",MAX(AA$1:AA696)+1)","v":""},{"$f":"IF(#REF!=\"\",\"\",#REF!)","v":{"$error":"#REF!"}},{"$f":"IF(#REF!=\"\",\"\",#REF!)","v":{"$error":"#REF!"}},{"$error":"#REF!"},{"$f":"IF(COUNTIF(AC$2:AC697,AC697)=1,AC697,\"\")","v":""},"","",null,null,null,null,null,null,null,{"$f":"+IF(AT697=\"\",\"\",MAX(AO$1:AO696)+1)","v":""},{"$f":"IF(Deviation_Limits!B719=\"\",\"\",Deviation_Limits!B719)","v":""},{"$f":"IF(Deviation_Limits!C719=\"\",\"\",Deviation_Limits!C719)","v":""},{"$f":"IF(Deviation_Limits!D719=\"\",\"\",Deviation_Limits!D719)","v":""},"",{"$f":"IF(COUNTIF(AQ$2:AQ697,AQ697)=1,AQ697,\"\")","v":""},"","","",null,{"$f":"+IF(BD697=\"\",\"\",MAX(AY$1:AY696)+1)","v":""},{"$f":"IF(Deviation_CEM_CPMS!B719=\"\",\"\",Deviation_CEM_CPMS!B719)","v":""},{"$f":"IF(Deviation_CEM_CPMS!C719=\"\",\"\",Deviation_CEM_CPMS!C719)","v":""},{"$f":"IF(Deviation_CEM_CPMS!D719=\"\",\"\",Deviation_CEM_CPMS!D719)","v":""},"",{"$f":"IF(COUNTIF(BA$2:BA697,BA697)=1,BA697,\"\")","v":""},"","",""]
[null,null,null,null,null,null,null,null,null,null,null,null,null,null,null,null,null,null,null,null,null,null,null,null,null,null,{"$f":"+IF(AE698=\"\",\"\",MAX(AA$1:AA697)+1)","v":""},{"$f":"IF(#REF!=\"\",\"\",#REF!)","v":{"$error":"#REF!"}},{"$f":"IF(#REF!=\"\",\"\",#REF!)","v":{"$error":"#REF!"}},{"$error":"#REF!"},{"$f":"IF(COUNTIF(AC$2:AC698,AC698)=1,AC698,\"\")","v":""},"","",null,null,null,null,null,null,null,{"$f":"+IF(AT698=\"\",\"\",MAX(AO$1:AO697)+1)","v":""},{"$f":"IF(Deviation_Limits!B720=\"\",\"\",Deviation_Limits!B720)","v":""},{"$f":"IF(Deviation_Limits!C720=\"\",\"\",Deviation_Limits!C720)","v":""},{"$f":"IF(Deviation_Limits!D720=\"\",\"\",Deviation_Limits!D720)","v":""},"",{"$f":"IF(COUNTIF(AQ$2:AQ698,AQ698)=1,AQ698,\"\")","v":""},"","","",null,{"$f":"+IF(BD698=\"\",\"\",MAX(AY$1:AY697)+1)","v":""},{"$f":"IF(Deviation_CEM_CPMS!B720=\"\",\"\",Deviation_CEM_CPMS!B720)","v":""},{"$f":"IF(Deviation_CEM_CPMS!C720=\"\",\"\",Deviation_CEM_CPMS!C720)","v":""},{"$f":"IF(Deviation_CEM_CPMS!D720=\"\",\"\",Deviation_CEM_CPMS!D720)","v":""},"",{"$f":"IF(COUNTIF(BA$2:BA698,BA698)=1,BA698,\"\")","v":""},"","",""]
[null,null,null,null,null,null,null,null,null,null,null,null,null,null,null,null,null,null,null,null,null,null,null,null,null,null,{"$f":"+IF(AE699=\"\",\"\",MAX(AA$1:AA698)+1)","v":""},{"$f":"IF(#REF!=\"\",\"\",#REF!)","v":{"$error":"#REF!"}},{"$f":"IF(#REF!=\"\",\"\",#REF!)","v":{"$error":"#REF!"}},{"$error":"#REF!"},{"$f":"IF(COUNTIF(AC$2:AC699,AC699)=1,AC699,\"\")","v":""},"","",null,null,null,null,null,null,null,{"$f":"+IF(AT699=\"\",\"\",MAX(AO$1:AO698)+1)","v":""},{"$f":"IF(Deviation_Limits!B721=\"\",\"\",Deviation_Limits!B721)","v":""},{"$f":"IF(Deviation_Limits!C721=\"\",\"\",Deviation_Limits!C721)","v":""},{"$f":"IF(Deviation_Limits!D721=\"\",\"\",Deviation_Limits!D721)","v":""},"",{"$f":"IF(COUNTIF(AQ$2:AQ699,AQ699)=1,AQ699,\"\")","v":""},"","","",null,{"$f":"+IF(BD699=\"\",\"\",MAX(AY$1:AY698)+1)","v":""},{"$f":"IF(Deviation_CEM_CPMS!B721=\"\",\"\",Deviation_CEM_CPMS!B721)","v":""},{"$f":"IF(Deviation_CEM_CPMS!C721=\"\",\"\",Deviation_CEM_CPMS!C721)","v":""},{"$f":"IF(Deviation_CEM_CPMS!D721=\"\",\"\",Deviation_CEM_CPMS!D721)","v":""},"",{"$f":"IF(COUNTIF(BA$2:BA699,BA699)=1,BA699,\"\")","v":""},"","",""]
[null,null,null,null,null,null,null,null,null,null,null,null,null,null,null,null,null,null,null,null,null,null,null,null,null,null,{"$f":"+IF(AE700=\"\",\"\",MAX(AA$1:AA699)+1)","v":""},{"$f":"IF(#REF!=\"\",\"\",#REF!)","v":{"$error":"#REF!"}},{"$f":"IF(#REF!=\"\",\"\",#REF!)","v":{"$error":"#REF!"}},{"$error":"#REF!"},{"$f":"IF(COUNTIF(AC$2:AC700,AC700)=1,AC700,\"\")","v":""},"","",null,null,null,null,null,null,null,{"$f":"+IF(AT700=\"\",\"\",MAX(AO$1:AO699)+1)","v":""},{"$f":"IF(Deviation_Limits!B722=\"\",\"\",Deviation_Limits!B722)","v":""},{"$f":"IF(Deviation_Limits!C722=\"\",\"\",Deviation_Limits!C722)","v":""},{"$f":"IF(Deviation_Limits!D722=\"\",\"\",Deviation_Limits!D722)","v":""},"",{"$f":"IF(COUNTIF(AQ$2:AQ700,AQ700)=1,AQ700,\"\")","v":""},"","","",null,{"$f":"+IF(BD700=\"\",\"\",MAX(AY$1:AY699)+1)","v":""},{"$f":"IF(Deviation_CEM_CPMS!B722=\"\",\"\",Deviation_CEM_CPMS!B722)","v":""},{"$f":"IF(Deviation_CEM_CPMS!C722=\"\",\"\",Deviation_CEM_CPMS!C722)","v":""},{"$f":"IF(Deviation_CEM_CPMS!D722=\"\",\"\",Deviation_CEM_CPMS!D722)","v":""},"",{"$f":"IF(COUNTIF(BA$2:BA700,BA700)=1,BA700,\"\")","v":""},"","",""]
[null,null,null,null,null,null,null,null,null,null,null,null,null,null,null,null,null,null,null,null,null,null,null,null,null,null,{"$f":"+IF(AE701=\"\",\"\",MAX(AA$1:AA700)+1)","v":""},{"$f":"IF(#REF!=\"\",\"\",#REF!)","v":{"$error":"#REF!"}},{"$f":"IF(#REF!=\"\",\"\",#REF!)","v":{"$error":"#REF!"}},{"$error":"#REF!"},{"$f":"IF(COUNTIF(AC$2:AC701,AC701)=1,AC701,\"\")","v":""},"","",null,null,null,null,null,null,null,{"$f":"+IF(AT701=\"\",\"\",MAX(AO$1:AO700)+1)","v":""},{"$f":"IF(Deviation_Limits!B723=\"\",\"\",Deviation_Limits!B723)","v":""},{"$f":"IF(Deviation_Limits!C723=\"\",\"\",Deviation_Limits!C723)","v":""},{"$f":"IF(Deviation_Limits!D723=\"\",\"\",Deviation_Limits!D723)","v":""},"",{"$f":"IF(COUNTIF(AQ$2:AQ701,AQ701)=1,AQ701,\"\")","v":""},"","","",null,{"$f":"+IF(BD701=\"\",\"\",MAX(AY$1:AY700)+1)","v":""},{"$f":"IF(Deviation_CEM_CPMS!B723=\"\",\"\",Deviation_CEM_CPMS!B723)","v":""},{"$f":"IF(Deviation_CEM_CPMS!C723=\"\",\"\",Deviation_CEM_CPMS!C723)","v":""},{"$f":"IF(Deviation_CEM_CPMS!D723=\"\",\"\",Deviation_CEM_CPMS!D723)","v":""},"",{"$f":"IF(COUNTIF(BA$2:BA701,BA701)=1,BA701,\"\")","v":""},"","",""]
[null,null,null,null,null,null,null,null,null,null,null,null,null,null,null,null,null,null,null,null,null,null,null,null,null,null,{"$f":"+IF(AE702=\"\",\"\",MAX(AA$1:AA701)+1)","v":""},{"$f":"IF(#REF!=\"\",\"\",#REF!)","v":{"$error":"#REF!"}},{"$f":"IF(#REF!=\"\",\"\",#REF!)","v":{"$error":"#REF!"}},{"$error":"#REF!"},{"$f":"IF(COUNTIF(AC$2:AC702,AC702)=1,AC702,\"\")","v":""},"","",null,null,null,null,null,null,null,{"$f":"+IF(AT702=\"\",\"\",MAX(AO$1:AO701)+1)","v":""},{"$f":"IF(Deviation_Limits!B724=\"\",\"\",Deviation_Limits!B724)","v":""},{"$f":"IF(Deviation_Limits!C724=\"\",\"\",Deviation_Limits!C724)","v":""},{"$f":"IF(Deviation_Limits!D724=\"\",\"\",Deviation_Limits!D724)","v":""},"",{"$f":"IF(COUNTIF(AQ$2:AQ702,AQ702)=1,AQ702,\"\")","v":""},"","","",null,{"$f":"+IF(BD702=\"\",\"\",MAX(AY$1:AY701)+1)","v":""},{"$f":"IF(Deviation_CEM_CPMS!B724=\"\",\"\",Deviation_CEM_CPMS!B724)","v":""},{"$f":"IF(Deviation_CEM_CPMS!C724=\"\",\"\",Deviation_CEM_CPMS!C724)","v":""},{"$f":"IF(Deviation_CEM_CPMS!D724=\"\",\"\",Deviation_CEM_CPMS!D724)","v":""},"",{"$f":"IF(COUNTIF(BA$2:BA702,BA702)=1,BA702,\"\")","v":""},"","",""]
[null,null,null,null,null,null,null,null,null,null,null,null,null,null,null,null,null,null,null,null,null,null,null,null,null,null,{"$f":"+IF(AE703=\"\",\"\",MAX(AA$1:AA702)+1)","v":""},{"$f":"IF(#REF!=\"\",\"\",#REF!)","v":{"$error":"#REF!"}},{"$f":"IF(#REF!=\"\",\"\",#REF!)","v":{"$error":"#REF!"}},{"$error":"#REF!"},{"$f":"IF(COUNTIF(AC$2:AC703,AC703)=1,AC703,\"\")","v":""},"","",null,null,null,null,null,null,null,{"$f":"+IF(AT703=\"\",\"\",MAX(AO$1:AO702)+1)","v":""},{"$f":"IF(Deviation_Limits!B725=\"\",\"\",Deviation_Limits!B725)","v":""},{"$f":"IF(Deviation_Limits!C725=\"\",\"\",Deviation_Limits!C725)","v":""},{"$f":"IF(Deviation_Limits!D725=\"\",\"\",Deviation_Limits!D725)","v":""},"",{"$f":"IF(COUNTIF(AQ$2:AQ703,AQ703)=1,AQ703,\"\")","v":""},"","","",null,{"$f":"+IF(BD703=\"\",\"\",MAX(AY$1:AY702)+1)","v":""},{"$f":"IF(Deviation_CEM_CPMS!B725=\"\",\"\",Deviation_CEM_CPMS!B725)","v":""},{"$f":"IF(Deviation_CEM_CPMS!C725=\"\",\"\",Deviation_CEM_CPMS!C725)","v":""},{"$f":"IF(Deviation_CEM_CPMS!D725=\"\",\"\",Deviation_CEM_CPMS!D725)","v":""},"",{"$f":"IF(COUNTIF(BA$2:BA703,BA703)=1,BA703,\"\")","v":""},"","",""]
[null,null,null,null,null,null,null,null,null,null,null,null,null,null,null,null,null,null,null,null,null,null,null,null,null,null,{"$f":"+IF(AE704=\"\",\"\",MAX(AA$1:AA703)+1)","v":""},{"$f":"IF(#REF!=\"\",\"\",#REF!)","v":{"$error":"#REF!"}},{"$f":"IF(#REF!=\"\",\"\",#REF!)","v":{"$error":"#REF!"}},{"$error":"#REF!"},{"$f":"IF(COUNTIF(AC$2:AC704,AC704)=1,AC704,\"\")","v":""},"","",null,null,null,null,null,null,null,{"$f":"+IF(AT704=\"\",\"\",MAX(AO$1:AO703)+1)","v":""},{"$f":"IF(Deviation_Limits!B726=\"\",\"\",Deviation_Limits!B726)","v":""},{"$f":"IF(Deviation_Limits!C726=\"\",\"\",Deviation_Limits!C726)","v":""},{"$f":"IF(Deviation_Limits!D726=\"\",\"\",Deviation_Limits!D726)","v":""},"",{"$f":"IF(COUNTIF(AQ$2:AQ704,AQ704)=1,AQ704,\"\")","v":""},"","","",null,{"$f":"+IF(BD704=\"\",\"\",MAX(AY$1:AY703)+1)","v":""},{"$f":"IF(Deviation_CEM_CPMS!B726=\"\",\"\",Deviation_CEM_CPMS!B726)","v":""},{"$f":"IF(Deviation_CEM_CPMS!C726=\"\",\"\",Deviation_CEM_CPMS!C726)","v":""},{"$f":"IF(Deviation_CEM_CPMS!D726=\"\",\"\",Deviation_CEM_CPMS!D726)","v":""},"",{"$f":"IF(COUNTIF(BA$2:BA704,BA704)=1,BA704,\"\")","v":""},"","",""]
[null,null,null,null,null,null,null,null,null,null,null,null,null,null,null,null,null,null,null,null,null,null,null,null,null,null,{"$f":"+IF(AE705=\"\",\"\",MAX(AA$1:AA704)+1)","v":""},{"$f":"IF(#REF!=\"\",\"\",#REF!)","v":{"$error":"#REF!"}},{"$f":"IF(#REF!=\"\",\"\",#REF!)","v":{"$error":"#REF!"}},{"$error":"#REF!"},{"$f":"IF(COUNTIF(AC$2:AC705,AC705)=1,AC705,\"\")","v":""},"","",null,null,null,null,null,null,null,{"$f":"+IF(AT705=\"\",\"\",MAX(AO$1:AO704)+1)","v":""},{"$f":"IF(Deviation_Limits!B727=\"\",\"\",Deviation_Limits!B727)","v":""},{"$f":"IF(Deviation_Limits!C727=\"\",\"\",Deviation_Limits!C727)","v":""},{"$f":"IF(Deviation_Limits!D727=\"\",\"\",Deviation_Limits!D727)","v":""},"",{"$f":"IF(COUNTIF(AQ$2:AQ705,AQ705)=1,AQ705,\"\")","v":""},"","","",null,{"$f":"+IF(BD705=\"\",\"\",MAX(AY$1:AY704)+1)","v":""},{"$f":"IF(Deviation_CEM_CPMS!B727=\"\",\"\",Deviation_CEM_CPMS!B727)","v":""},{"$f":"IF(Deviation_CEM_CPMS!C727=\"\",\"\",Deviation_CEM_CPMS!C727)","v":""},{"$f":"IF(Deviation_CEM_CPMS!D727=\"\",\"\",Deviation_CEM_CPMS!D727)","v":""},"",{"$f":"IF(COUNTIF(BA$2:BA705,BA705)=1,BA705,\"\")","v":""},"","",""]
[null,null,null,null,null,null,null,null,null,null,null,null,null,null,null,null,null,null,null,null,null,null,null,null,null,null,{"$f":"+IF(AE706=\"\",\"\",MAX(AA$1:AA705)+1)","v":""},{"$f":"IF(#REF!=\"\",\"\",#REF!)","v":{"$error":"#REF!"}},{"$f":"IF(#REF!=\"\",\"\",#REF!)","v":{"$error":"#REF!"}},{"$error":"#REF!"},{"$f":"IF(COUNTIF(AC$2:AC706,AC706)=1,AC706,\"\")","v":""},"","",null,null,null,null,null,null,null,{"$f":"+IF(AT706=\"\",\"\",MAX(AO$1:AO705)+1)","v":""},{"$f":"IF(Deviation_Limits!B728=\"\",\"\",Deviation_Limits!B728)","v":""},{"$f":"IF(Deviation_Limits!C728=\"\",\"\",Deviation_Limits!C728)","v":""},{"$f":"IF(Deviation_Limits!D728=\"\",\"\",Deviation_Limits!D728)","v":""},"",{"$f":"IF(COUNTIF(AQ$2:AQ706,AQ706)=1,AQ706,\"\")","v":""},"","","",null,{"$f":"+IF(BD706=\"\",\"\",MAX(AY$1:AY705)+1)","v":""},{"$f":"IF(Deviation_CEM_CPMS!B728=\"\",\"\",Deviation_CEM_CPMS!B728)","v":""},{"$f":"IF(Deviation_CEM_CPMS!C728=\"\",\"\",Deviation_CEM_CPMS!C728)","v":""},{"$f":"IF(Deviation_CEM_CPMS!D728=\"\",\"\",Deviation_CEM_CPMS!D728)","v":""},{"$f":"+AZ706&BA706&BB706","v":""},{"$f":"IF(COUNTIF(BA$2:BA706,BA706)=1,BA706,\"\")","v":""},{"$f":"+IFERROR(INDEX(AZ$2:AZ$500,MATCH(ROW()-ROW(BE$1),$AA$2:$AA$500,0)),\"\")","v":""},{"$f":"+IFERROR(INDEX(BA$2:BA$500,MATCH(ROW()-ROW(BE$1),$AA$2:$AA$500,0)),\"\")","v":""},{"$f":"+IFERROR(INDEX(BB$2:BB$500,MATCH(ROW()-ROW(BE$1),$AA$2:$AA$500,0)),\"\")","v":""}]
[null,null,null,null,null,null,null,null,null,null,null,null,null,null,null,null,null,null,null,null,null,null,null,null,null,null,{"$f":"+IF(AE707=\"\",\"\",MAX(AA$1:AA706)+1)","v":""},{"$f":"IF(#REF!=\"\",\"\",#REF!)","v":{"$error":"#REF!"}},{"$f":"IF(#REF!=\"\",\"\",#REF!)","v":{"$error":"#REF!"}},{"$error":"#REF!"},{"$f":"IF(COUNTIF(AC$2:AC707,AC707)=1,AC707,\"\")","v":""},{"$f":"+IFERROR(INDEX(AB$2:AB$500,MATCH(ROW()-ROW($AF$1),$AA$2:$AA$500,0)),\"\")","v":""},{"$f":"+IFERROR(INDEX(AC$2:AC$500,MATCH(ROW()-ROW($AF$1),$AA$2:$AA$500,0)),\"\")","v":""},null,null,null,null,null,null,null,{"$f":"+IF(AT707=\"\",\"\",MAX(AO$1:AO706)+1)","v":""},{"$f":"IF(Deviation_Limits!B729=\"\",\"\",Deviation_Limits!B729)","v":""},{"$f":"IF(Deviation_Limits!C729=\"\",\"\",Deviation_Limits!C729)","v":""},{"$f":"IF(Deviation_Limits!D729=\"\",\"\",Deviation_Limits!D729)","v":""},{"$f":"+AP707&AQ707&C707","v":""},{"$f":"IF(COUNTIF(AQ$2:AQ707,AQ707)=1,AQ707,\"\")","v":""},{"$f":"+IFERROR(INDEX(AP$2:AP$500,MATCH(ROW()-ROW(AU$1),$AA$2:$AA$500,0)),\"\")","v":""},{"$f":"+IFERROR(INDEX(AQ$2:AQ$500,MATCH(ROW()-ROW(AU$1),$AA$2:$AA$500,0)),\"\")","v":""},{"$f":"+IFERROR(INDEX(AR$2:AR$500,MATCH(ROW()-ROW(AU$1),$AA$2:$AA$500,0)),\"\")","v":""},null,{"$f":"+IF(BD707=\"\",\"\",MAX(AY$1:AY706)+1)","v":""},{"$f":"IF(Deviation_CEM_CPMS!B729=\"\",\"\",Deviation_CEM_CPMS!B729)","v":""},{"$f":"IF(Deviation_CEM_CPMS!C729=\"\",\"\",Deviation_CEM_CPMS!C729)","v":""},{"$f":"IF(Deviation_CEM_CPMS!D729=\"\",\"\",Deviation_CEM_CPMS!D729)","v":""},"",{"$f":"IF(COUNTIF(BA$2:BA707,BA707)=1,BA707,\"\")","v":""},"","",""]
[null,null,null,null,null,null,null,null,null,null,null,null,null,null,null,null,null,null,null,null,null,null,null,null,null,null,{"$f":"+IF(AE708=\"\",\"\",MAX(AA$1:AA707)+1)","v":""},{"$f":"IF(#REF!=\"\",\"\",#REF!)","v":{"$error":"#REF!"}},{"$f":"IF(#REF!=\"\",\"\",#REF!)","v":{"$error":"#REF!"}},{"$error":"#REF!"},{"$f":"IF(COUNTIF(AC$2:AC708,AC708)=1,AC708,\"\")","v":""},"","",null,null,null,null,null,null,null,{"$f":"+IF(AT708=\"\",\"\",MAX(AO$1:AO707)+1)","v":""},{"$f":"IF(Deviation_Limits!B730=\"\",\"\",Deviation_Limits!B730)","v":""},{"$f":"IF(Deviation_Limits!C730=\"\",\"\",Deviation_Limits!C730)","v":""},{"$f":"IF(Deviation_Limits!D730=\"\",\"\",Deviation_Limits!D730)","v":""},"",{"$f":"IF(COUNTIF(AQ$2:AQ708,AQ708)=1,AQ708,\"\")","v":""},"","","",null,{"$f":"+IF(BD708=\"\",\"\",MAX(AY$1:AY707)+1)","v":""},{"$f":"IF(Deviation_CEM_CPMS!B730=\"\",\"\",Deviation_CEM_CPMS!B730)","v":""},{"$f":"IF(Deviation_CEM_CPMS!C730=\"\",\"\",Deviation_CEM_CPMS!C730)","v":""},{"$f":"IF(Deviation_CEM_CPMS!D730=\"\",\"\",Deviation_CEM_CPMS!D730)","v":""},"",{"$f":"IF(COUNTIF(BA$2:BA708,BA708)=1,BA708,\"\")","v":""},"","",""]
[null,null,null,null,null,null,null,null,null,null,null,null,null,null,null,null,null,null,null,null,null,null,null,null,null,null,{"$f":"+IF(AE709=\"\",\"\",MAX(AA$1:AA708)+1)","v":""},{"$f":"IF(#REF!=\"\",\"\",#REF!)","v":{"$error":"#REF!"}},{"$f":"IF(#REF!=\"\",\"\",#REF!)","v":{"$error":"#REF!"}},{"$error":"#REF!"},{"$f":"IF(COUNTIF(AC$2:AC709,AC709)=1,AC709,\"\")","v":""},"","",null,null,null,null,null,null,null,{"$f":"+IF(AT709=\"\",\"\",MAX(AO$1:AO708)+1)","v":""},{"$f":"IF(Deviation_Limits!B731=\"\",\"\",Deviation_Limits!B731)","v":""},{"$f":"IF(Deviation_Limits!C731=\"\",\"\",Deviation_Limits!C731)","v":""},{"$f":"IF(Deviation_Limits!D731=\"\",\"\",Deviation_Limits!D731)","v":""},"",{"$f":"IF(COUNTIF(AQ$2:AQ709,AQ709)=1,AQ709,\"\")","v":""},"","","",null,{"$f":"+IF(BD709=\"\",\"\",MAX(AY$1:AY708)+1)","v":""},{"$f":"IF(Deviation_CEM_CPMS!B731=\"\",\"\",Deviation_CEM_CPMS!B731)","v":""},{"$f":"IF(Deviation_CEM_CPMS!C731=\"\",\"\",Deviation_CEM_CPMS!C731)","v":""},{"$f":"IF(Deviation_CEM_CPMS!D731=\"\",\"\",Deviation_CEM_CPMS!D731)","v":""},"",{"$f":"IF(COUNTIF(BA$2:BA709,BA709)=1,BA709,\"\")","v":""},"","",""]
[null,null,null,null,null,null,null,null,null,null,null,null,null,null,null,null,null,null,null,null,null,null,null,null,null,null,{"$f":"+IF(AE710=\"\",\"\",MAX(AA$1:AA709)+1)","v":""},{"$f":"IF(#REF!=\"\",\"\",#REF!)","v":{"$error":"#REF!"}},{"$f":"IF(#REF!=\"\",\"\",#REF!)","v":{"$error":"#REF!"}},{"$error":"#REF!"},{"$f":"IF(COUNTIF(AC$2:AC710,AC710)=1,AC710,\"\")","v":""},"","",null,null,null,null,null,null,null,{"$f":"+IF(AT710=\"\",\"\",MAX(AO$1:AO709)+1)","v":""},{"$f":"IF(Deviation_Limits!B732=\"\",\"\",Deviation_Limits!B732)","v":""},{"$f":"IF(Deviation_Limits!C732=\"\",\"\",Deviation_Limits!C732)","v":""},{"$f":"IF(Deviation_Limits!D732=\"\",\"\",Deviation_Limits!D732)","v":""},"",{"$f":"IF(COUNTIF(AQ$2:AQ710,AQ710)=1,AQ710,\"\")","v":""},"","","",null,{"$f":"+IF(BD710=\"\",\"\",MAX(AY$1:AY709)+1)","v":""},{"$f":"IF(Deviation_CEM_CPMS!B732=\"\",\"\",Deviation_CEM_CPMS!B732)","v":""},{"$f":"IF(Deviation_CEM_CPMS!C732=\"\",\"\",Deviation_CEM_CPMS!C732)","v":""},{"$f":"IF(Deviation_CEM_CPMS!D732=\"\",\"\",Deviation_CEM_CPMS!D732)","v":""},"",{"$f":"IF(COUNTIF(BA$2:BA710,BA710)=1,BA710,\"\")","v":""},"","",""]
[null,null,null,null,null,null,null,null,null,null,null,null,null,null,null,null,null,null,null,null,null,null,null,null,null,null,{"$f":"+IF(AE711=\"\",\"\",MAX(AA$1:AA710)+1)","v":""},{"$f":"IF(#REF!=\"\",\"\",#REF!)","v":{"$error":"#REF!"}},{"$f":"IF(#REF!=\"\",\"\",#REF!)","v":{"$error":"#REF!"}},{"$error":"#REF!"},{"$f":"IF(COUNTIF(AC$2:AC711,AC711)=1,AC711,\"\")","v":""},"","",null,null,null,null,null,null,null,{"$f":"+IF(AT711=\"\",\"\",MAX(AO$1:AO710)+1)","v":""},{"$f":"IF(Deviation_Limits!B733=\"\",\"\",Deviation_Limits!B733)","v":""},{"$f":"IF(Deviation_Limits!C733=\"\",\"\",Deviation_Limits!C733)","v":""},{"$f":"IF(Deviation_Limits!D733=\"\",\"\",Deviation_Limits!D733)","v":""},"",{"$f":"IF(COUNTIF(AQ$2:AQ711,AQ711)=1,AQ711,\"\")","v":""},"","","",null,{"$f":"+IF(BD711=\"\",\"\",MAX(AY$1:AY710)+1)","v":""},{"$f":"IF(Deviation_CEM_CPMS!B733=\"\",\"\",Deviation_CEM_CPMS!B733)","v":""},{"$f":"IF(Deviation_CEM_CPMS!C733=\"\",\"\",Deviation_CEM_CPMS!C733)","v":""},{"$f":"IF(Deviation_CEM_CPMS!D733=\"\",\"\",Deviation_CEM_CPMS!D733)","v":""},"",{"$f":"IF(COUNTIF(BA$2:BA711,BA711)=1,BA711,\"\")","v":""},"","",""]
[null,null,null,null,null,null,null,null,null,null,null,null,null,null,null,null,null,null,null,null,null,null,null,null,null,null,{"$f":"+IF(AE712=\"\",\"\",MAX(AA$1:AA711)+1)","v":""},{"$f":"IF(#REF!=\"\",\"\",#REF!)","v":{"$error":"#REF!"}},{"$f":"IF(#REF!=\"\",\"\",#REF!)","v":{"$error":"#REF!"}},{"$error":"#REF!"},{"$f":"IF(COUNTIF(AC$2:AC712,AC712)=1,AC712,\"\")","v":""},"","",null,null,null,null,null,null,null,{"$f":"+IF(AT712=\"\",\"\",MAX(AO$1:AO711)+1)","v":""},{"$f":"IF(Deviation_Limits!B734=\"\",\"\",Deviation_Limits!B734)","v":""},{"$f":"IF(Deviation_Limits!C734=\"\",\"\",Deviation_Limits!C734)","v":""},{"$f":"IF(Deviation_Limits!D734=\"\",\"\",Deviation_Limits!D734)","v":""},"",{"$f":"IF(COUNTIF(AQ$2:AQ712,AQ712)=1,AQ712,\"\")","v":""},"","","",null,{"$f":"+IF(BD712=\"\",\"\",MAX(AY$1:AY711)+1)","v":""},{"$f":"IF(Deviation_CEM_CPMS!B734=\"\",\"\",Deviation_CEM_CPMS!B734)","v":""},{"$f":"IF(Deviation_CEM_CPMS!C734=\"\",\"\",Deviation_CEM_CPMS!C734)","v":""},{"$f":"IF(Deviation_CEM_CPMS!D734=\"\",\"\",Deviation_CEM_CPMS!D734)","v":""},"",{"$f":"IF(COUNTIF(BA$2:BA712,BA712)=1,BA712,\"\")","v":""},"","",""]
[null,null,null,null,null,null,null,null,null,null,null,null,null,null,null,null,null,null,null,null,null,null,null,null,null,null,{"$f":"+IF(AE713=\"\",\"\",MAX(AA$1:AA712)+1)","v":""},{"$f":"IF(#REF!=\"\",\"\",#REF!)","v":{"$error":"#REF!"}},{"$f":"IF(#REF!=\"\",\"\",#REF!)","v":{"$error":"#REF!"}},{"$error":"#REF!"},{"$f":"IF(COUNTIF(AC$2:AC713,AC713)=1,AC713,\"\")","v":""},"","",null,null,null,null,null,null,null,{"$f":"+IF(AT713=\"\",\"\",MAX(AO$1:AO712)+1)","v":""},{"$f":"IF(Deviation_Limits!B735=\"\",\"\",Deviation_Limits!B735)","v":""},{"$f":"IF(Deviation_Limits!C735=\"\",\"\",Deviation_Limits!C735)","v":""},{"$f":"IF(Deviation_Limits!D735=\"\",\"\",Deviation_Limits!D735)","v":""},"",{"$f":"IF(COUNTIF(AQ$2:AQ713,AQ713)=1,AQ713,\"\")","v":""},"","","",null,{"$f":"+IF(BD713=\"\",\"\",MAX(AY$1:AY712)+1)","v":""},{"$f":"IF(Deviation_CEM_CPMS!B735=\"\",\"\",Deviation_CEM_CPMS!B735)","v":""},{"$f":"IF(Deviation_CEM_CPMS!C735=\"\",\"\",Deviation_CEM_CPMS!C735)","v":""},{"$f":"IF(Deviation_CEM_CPMS!D735=\"\",\"\",Deviation_CEM_CPMS!D735)","v":""},"",{"$f":"IF(COUNTIF(BA$2:BA713,BA713)=1,BA713,\"\")","v":""},"","",""]
[null,null,null,null,null,null,null,null,null,null,null,null,null,null,null,null,null,null,null,null,null,null,null,null,null,null,{"$f":"+IF(AE714=\"\",\"\",MAX(AA$1:AA713)+1)","v":""},{"$f":"IF(#REF!=\"\",\"\",#REF!)","v":{"$error":"#REF!"}},{"$f":"IF(#REF!=\"\",\"\",#REF!)","v":{"$error":"#REF!"}},{"$error":"#REF!"},{"$f":"IF(COUNTIF(AC$2:AC714,AC714)=1,AC714,\"\")","v":""},"","",null,null,null,null,null,null,null,{"$f":"+IF(AT714=\"\",\"\",MAX(AO$1:AO713)+1)","v":""},{"$f":"IF(Deviation_Limits!B736=\"\",\"\",Deviation_Limits!B736)","v":""},{"$f":"IF(Deviation_Limits!C736=\"\",\"\",Deviation_Limits!C736)","v":""},{"$f":"IF(Deviation_Limits!D736=\"\",\"\",Deviation_Limits!D736)","v":""},"",{"$f":"IF(COUNTIF(AQ$2:AQ714,AQ714)=1,AQ714,\"\")","v":""},"","","",null,{"$f":"+IF(BD714=\"\",\"\",MAX(AY$1:AY713)+1)","v":""},{"$f":"IF(Deviation_CEM_CPMS!B736=\"\",\"\",Deviation_CEM_CPMS!B736)","v":""},{"$f":"IF(Deviation_CEM_CPMS!C736=\"\",\"\",Deviation_CEM_CPMS!C736)","v":""},{"$f":"IF(Deviation_CEM_CPMS!D736=\"\",\"\",Deviation_CEM_CPMS!D736)","v":""},"",{"$f":"IF(COUNTIF(BA$2:BA714,BA714)=1,BA714,\"\")","v":""},"","",""]
[null,null,null,null,null,null,null,null,null,null,null,null,null,null,null,null,null,null,null,null,null,null,null,null,null,null,{"$f":"+IF(AE715=\"\",\"\",MAX(AA$1:AA714)+1)","v":""},{"$f":"IF(#REF!=\"\",\"\",#REF!)","v":{"$error":"#REF!"}},{"$f":"IF(#REF!=\"\",\"\",#REF!)","v":{"$error":"#REF!"}},{"$error":"#REF!"},{"$f":"IF(COUNTIF(AC$2:AC715,AC715)=1,AC715,\"\")","v":""},"","",null,null,null,null,null,null,null,{"$f":"+IF(AT715=\"\",\"\",MAX(AO$1:AO714)+1)","v":""},{"$f":"IF(Deviation_Limits!B737=\"\",\"\",Deviation_Limits!B737)","v":""},{"$f":"IF(Deviation_Limits!C737=\"\",\"\",Deviation_Limits!C737)","v":""},{"$f":"IF(Deviation_Limits!D737=\"\",\"\",Deviation_Limits!D737)","v":""},"",{"$f":"IF(COUNTIF(AQ$2:AQ715,AQ715)=1,AQ715,\"\")","v":""},"","","",null,{"$f":"+IF(BD715=\"\",\"\",MAX(AY$1:AY714)+1)","v":""},{"$f":"IF(Deviation_CEM_CPMS!B737=\"\",\"\",Deviation_CEM_CPMS!B737)","v":""},{"$f":"IF(Deviation_CEM_CPMS!C737=\"\",\"\",Deviation_CEM_CPMS!C737)","v":""},{"$f":"IF(Deviation_CEM_CPMS!D737=\"\",\"\",Deviation_CEM_CPMS!D737)","v":""},"",{"$f":"IF(COUNTIF(BA$2:BA715,BA715)=1,BA715,\"\")","v":""},"","",""]
[null,null,null,null,null,null,null,null,null,null,null,null,null,null,null,null,null,null,null,null,null,null,null,null,null,null,{"$f":"+IF(AE716=\"\",\"\",MAX(AA$1:AA715)+1)","v":""},{"$f":"IF(#REF!=\"\",\"\",#REF!)","v":{"$error":"#REF!"}},{"$f":"IF(#REF!=\"\",\"\",#REF!)","v":{"$error":"#REF!"}},{"$error":"#REF!"},{"$f":"IF(COUNTIF(AC$2:AC716,AC716)=1,AC716,\"\")","v":""},"","",null,null,null,null,null,null,null,{"$f":"+IF(AT716=\"\",\"\",MAX(AO$1:AO715)+1)","v":""},{"$f":"IF(Deviation_Limits!B738=\"\",\"\",Deviation_Limits!B738)","v":""},{"$f":"IF(Deviation_Limits!C738=\"\",\"\",Deviation_Limits!C738)","v":""},{"$f":"IF(Deviation_Limits!D738=\"\",\"\",Deviation_Limits!D738)","v":""},"",{"$f":"IF(COUNTIF(AQ$2:AQ716,AQ716)=1,AQ716,\"\")","v":""},"","","",null,{"$f":"+IF(BD716=\"\",\"\",MAX(AY$1:AY715)+1)","v":""},{"$f":"IF(Deviation_CEM_CPMS!B738=\"\",\"\",Deviation_CEM_CPMS!B738)","v":""},{"$f":"IF(Deviation_CEM_CPMS!C738=\"\",\"\",Deviation_CEM_CPMS!C738)","v":""},{"$f":"IF(Deviation_CEM_CPMS!D738=\"\",\"\",Deviation_CEM_CPMS!D738)","v":""},"",{"$f":"IF(COUNTIF(BA$2:BA716,BA716)=1,BA716,\"\")","v":""},"","",""]
[null,null,null,null,null,null,null,null,null,null,null,null,null,null,null,null,null,null,null,null,null,null,null,null,null,null,{"$f":"+IF(AE717=\"\",\"\",MAX(AA$1:AA716)+1)","v":""},{"$f":"IF(#REF!=\"\",\"\",#REF!)","v":{"$error":"#REF!"}},{"$f":"IF(#REF!=\"\",\"\",#REF!)","v":{"$error":"#REF!"}},{"$error":"#REF!"},{"$f":"IF(COUNTIF(AC$2:AC717,AC717)=1,AC717,\"\")","v":""},"","",null,null,null,null,null,null,null,{"$f":"+IF(AT717=\"\",\"\",MAX(AO$1:AO716)+1)","v":""},{"$f":"IF(Deviation_Limits!B739=\"\",\"\",Deviation_Limits!B739)","v":""},{"$f":"IF(Deviation_Limits!C739=\"\",\"\",Deviation_Limits!C739)","v":""},{"$f":"IF(Deviation_Limits!D739=\"\",\"\",Deviation_Limits!D739)","v":""},"",{"$f":"IF(COUNTIF(AQ$2:AQ717,AQ717)=1,AQ717,\"\")","v":""},"","","",null,{"$f":"+IF(BD717=\"\",\"\",MAX(AY$1:AY716)+1)","v":""},{"$f":"IF(Deviation_CEM_CPMS!B739=\"\",\"\",Deviation_CEM_CPMS!B739)","v":""},{"$f":"IF(Deviation_CEM_CPMS!C739=\"\",\"\",Deviation_CEM_CPMS!C739)","v":""},{"$f":"IF(Deviation_CEM_CPMS!D739=\"\",\"\",Deviation_CEM_CPMS!D739)","v":""},"",{"$f":"IF(COUNTIF(BA$2:BA717,BA717)=1,BA717,\"\")","v":""},"","",""]
[null,null,null,null,null,null,null,null,null,null,null,null,null,null,null,null,null,null,null,null,null,null,null,null,null,null,{"$f":"+IF(AE718=\"\",\"\",MAX(AA$1:AA717)+1)","v":""},{"$f":"IF(#REF!=\"\",\"\",#REF!)","v":{"$error":"#REF!"}},{"$f":"IF(#REF!=\"\",\"\",#REF!)","v":{"$error":"#REF!"}},{"$error":"#REF!"},{"$f":"IF(COUNTIF(AC$2:AC718,AC718)=1,AC718,\"\")","v":""},"","",null,null,null,null,null,null,null,{"$f":"+IF(AT718=\"\",\"\",MAX(AO$1:AO717)+1)","v":""},{"$f":"IF(Deviation_Limits!B740=\"\",\"\",Deviation_Limits!B740)","v":""},{"$f":"IF(Deviation_Limits!C740=\"\",\"\",Deviation_Limits!C740)","v":""},{"$f":"IF(Deviation_Limits!D740=\"\",\"\",Deviation_Limits!D740)","v":""},"",{"$f":"IF(COUNTIF(AQ$2:AQ718,AQ718)=1,AQ718,\"\")","v":""},"","","",null,{"$f":"+IF(BD718=\"\",\"\",MAX(AY$1:AY717)+1)","v":""},{"$f":"IF(Deviation_CEM_CPMS!B740=\"\",\"\",Deviation_CEM_CPMS!B740)","v":""},{"$f":"IF(Deviation_CEM_CPMS!C740=\"\",\"\",Deviation_CEM_CPMS!C740)","v":""},{"$f":"IF(Deviation_CEM_CPMS!D740=\"\",\"\",Deviation_CEM_CPMS!D740)","v":""},"",{"$f":"IF(COUNTIF(BA$2:BA718,BA718)=1,BA718,\"\")","v":""},"","",""]
[null,null,null,null,null,null,null,null,null,null,null,null,null,null,null,null,null,null,null,null,null,null,null,null,null,null,{"$f":"+IF(AE719=\"\",\"\",MAX(AA$1:AA718)+1)","v":""},{"$f":"IF(#REF!=\"\",\"\",#REF!)","v":{"$error":"#REF!"}},{"$f":"IF(#REF!=\"\",\"\",#REF!)","v":{"$error":"#REF!"}},{"$error":"#REF!"},{"$f":"IF(COUNTIF(AC$2:AC719,AC719)=1,AC719,\"\")","v":""},"","",null,null,null,null,null,null,null,{"$f":"+IF(AT719=\"\",\"\",MAX(AO$1:AO718)+1)","v":""},{"$f":"IF(Deviation_Limits!B741=\"\",\"\",Deviation_Limits!B741)","v":""},{"$f":"IF(Deviation_Limits!C741=\"\",\"\",Deviation_Limits!C741)","v":""},{"$f":"IF(Deviation_Limits!D741=\"\",\"\",Deviation_Limits!D741)","v":""},"",{"$f":"IF(COUNTIF(AQ$2:AQ719,AQ719)=1,AQ719,\"\")","v":""},"","","",null,{"$f":"+IF(BD719=\"\",\"\",MAX(AY$1:AY718)+1)","v":""},{"$f":"IF(Deviation_CEM_CPMS!B741=\"\",\"\",Deviation_CEM_CPMS!B741)","v":""},{"$f":"IF(Deviation_CEM_CPMS!C741=\"\",\"\",Deviation_CEM_CPMS!C741)","v":""},{"$f":"IF(Deviation_CEM_CPMS!D741=\"\",\"\",Deviation_CEM_CPMS!D741)","v":""},"",{"$f":"IF(COUNTIF(BA$2:BA719,BA719)=1,BA719,\"\")","v":""},"","",""]
[null,null,null,null,null,null,null,null,null,null,null,null,null,null,null,null,null,null,null,null,null,null,null,null,null,null,{"$f":"+IF(AE720=\"\",\"\",MAX(AA$1:AA719)+1)","v":""},{"$f":"IF(#REF!=\"\",\"\",#REF!)","v":{"$error":"#REF!"}},{"$f":"IF(#REF!=\"\",\"\",#REF!)","v":{"$error":"#REF!"}},{"$error":"#REF!"},{"$f":"IF(COUNTIF(AC$2:AC720,AC720)=1,AC720,\"\")","v":""},"","",null,null,null,null,null,null,null,{"$f":"+IF(AT720=\"\",\"\",MAX(AO$1:AO719)+1)","v":""},{"$f":"IF(Deviation_Limits!B742=\"\",\"\",Deviation_Limits!B742)","v":""},{"$f":"IF(Deviation_Limits!C742=\"\",\"\",Deviation_Limits!C742)","v":""},{"$f":"IF(Deviation_Limits!D742=\"\",\"\",Deviation_Limits!D742)","v":""},"",{"$f":"IF(COUNTIF(AQ$2:AQ720,AQ720)=1,AQ720,\"\")","v":""},"","","",null,{"$f":"+IF(BD720=\"\",\"\",MAX(AY$1:AY719)+1)","v":""},{"$f":"IF(Deviation_CEM_CPMS!B742=\"\",\"\",Deviation_CEM_CPMS!B742)","v":""},{"$f":"IF(Deviation_CEM_CPMS!C742=\"\",\"\",Deviation_CEM_CPMS!C742)","v":""},{"$f":"IF(Deviation_CEM_CPMS!D742=\"\",\"\",Deviation_CEM_CPMS!D742)","v":""},"",{"$f":"IF(COUNTIF(BA$2:BA720,BA720)=1,BA720,\"\")","v":""},"","",""]
[null,null,null,null,null,null,null,null,null,null,null,null,null,null,null,null,null,null,null,null,null,null,null,null,null,null,{"$f":"+IF(AE721=\"\",\"\",MAX(AA$1:AA720)+1)","v":""},{"$f":"IF(#REF!=\"\",\"\",#REF!)","v":{"$error":"#REF!"}},{"$f":"IF(#REF!=\"\",\"\",#REF!)","v":{"$error":"#REF!"}},{"$error":"#REF!"},{"$f":"IF(COUNTIF(AC$2:AC721,AC721)=1,AC721,\"\")","v":""},"","",null,null,null,null,null,null,null,{"$f":"+IF(AT721=\"\",\"\",MAX(AO$1:AO720)+1)","v":""},{"$f":"IF(Deviation_Limits!B743=\"\",\"\",Deviation_Limits!B743)","v":""},{"$f":"IF(Deviation_Limits!C743=\"\",\"\",Deviation_Limits!C743)","v":""},{"$f":"IF(Deviation_Limits!D743=\"\",\"\",Deviation_Limits!D743)","v":""},"",{"$f":"IF(COUNTIF(AQ$2:AQ721,AQ721)=1,AQ721,\"\")","v":""},"","","",null,{"$f":"+IF(BD721=\"\",\"\",MAX(AY$1:AY720)+1)","v":""},{"$f":"IF(Deviation_CEM_CPMS!B743=\"\",\"\",Deviation_CEM_CPMS!B743)","v":""},{"$f":"IF(Deviation_CEM_CPMS!C743=\"\",\"\",Deviation_CEM_CPMS!C743)","v":""},{"$f":"IF(Deviation_CEM_CPMS!D743=\"\",\"\",Deviation_CEM_CPMS!D743)","v":""},"",{"$f":"IF(COUNTIF(BA$2:BA721,BA721)=1,BA721,\"\")","v":""},"","",""]
[null,null,null,null,null,null,null,null,null,null,null,null,null,null,null,null,null,null,null,null,null,null,null,null,null,null,{"$f":"+IF(AE722=\"\",\"\",MAX(AA$1:AA721)+1)","v":""},{"$f":"IF(#REF!=\"\",\"\",#REF!)","v":{"$error":"#REF!"}},{"$f":"IF(#REF!=\"\",\"\",#REF!)","v":{"$error":"#REF!"}},{"$error":"#REF!"},{"$f":"IF(COUNTIF(AC$2:AC722,AC722)=1,AC722,\"\")","v":""},"","",null,null,null,null,null,null,null,{"$f":"+IF(AT722=\"\",\"\",MAX(AO$1:AO721)+1)","v":""},{"$f":"IF(Deviation_Limits!B744=\"\",\"\",Deviation_Limits!B744)","v":""},{"$f":"IF(Deviation_Limits!C744=\"\",\"\",Deviation_Limits!C744)","v":""},{"$f":"IF(Deviation_Limits!D744=\"\",\"\",Deviation_Limits!D744)","v":""},"",{"$f":"IF(COUNTIF(AQ$2:AQ722,AQ722)=1,AQ722,\"\")","v":""},"","","",null,{"$f":"+IF(BD722=\"\",\"\",MAX(AY$1:AY721)+1)","v":""},{"$f":"IF(Deviation_CEM_CPMS!B744=\"\",\"\",Deviation_CEM_CPMS!B744)","v":""},{"$f":"IF(Deviation_CEM_CPMS!C744=\"\",\"\",Deviation_CEM_CPMS!C744)","v":""},{"$f":"IF(Deviation_CEM_CPMS!D744=\"\",\"\",Deviation_CEM_CPMS!D744)","v":""},"",{"$f":"IF(COUNTIF(BA$2:BA722,BA722)=1,BA722,\"\")","v":""},"","",""]
[null,null,null,null,null,null,null,null,null,null,null,null,null,null,null,null,null,null,null,null,null,null,null,null,null,null,{"$f":"+IF(AE723=\"\",\"\",MAX(AA$1:AA722)+1)","v":""},{"$f":"IF(#REF!=\"\",\"\",#REF!)","v":{"$error":"#REF!"}},{"$f":"IF(#REF!=\"\",\"\",#REF!)","v":{"$error":"#REF!"}},{"$error":"#REF!"},{"$f":"IF(COUNTIF(AC$2:AC723,AC723)=1,AC723,\"\")","v":""},"","",null,null,null,null,null,null,null,{"$f":"+IF(AT723=\"\",\"\",MAX(AO$1:AO722)+1)","v":""},{"$f":"IF(Deviation_Limits!B745=\"\",\"\",Deviation_Limits!B745)","v":""},{"$f":"IF(Deviation_Limits!C745=\"\",\"\",Deviation_Limits!C745)","v":""},{"$f":"IF(Deviation_Limits!D745=\"\",\"\",Deviation_Limits!D745)","v":""},"",{"$f":"IF(COUNTIF(AQ$2:AQ723,AQ723)=1,AQ723,\"\")","v":""},"","","",null,{"$f":"+IF(BD723=\"\",\"\",MAX(AY$1:AY722)+1)","v":""},{"$f":"IF(Deviation_CEM_CPMS!B745=\"\",\"\",Deviation_CEM_CPMS!B745)","v":""},{"$f":"IF(Deviation_CEM_CPMS!C745=\"\",\"\",Deviation_CEM_CPMS!C745)","v":""},{"$f":"IF(Deviation_CEM_CPMS!D745=\"\",\"\",Deviation_CEM_CPMS!D745)","v":""},"",{"$f":"IF(COUNTIF(BA$2:BA723,BA723)=1,BA723,\"\")","v":""},"","",""]
[null,null,null,null,null,null,null,null,null,null,null,null,null,null,null,null,null,null,null,null,null,null,null,null,null,null,{"$f":"+IF(AE724=\"\",\"\",MAX(AA$1:AA723)+1)","v":""},{"$f":"IF(#REF!=\"\",\"\",#REF!)","v":{"$error":"#REF!"}},{"$f":"IF(#REF!=\"\",\"\",#REF!)","v":{"$error":"#REF!"}},{"$error":"#REF!"},{"$f":"IF(COUNTIF(AC$2:AC724,AC724)=1,AC724,\"\")","v":""},"","",null,null,null,null,null,null,null,{"$f":"+IF(AT724=\"\",\"\",MAX(AO$1:AO723)+1)","v":""},{"$f":"IF(Deviation_Limits!B746=\"\",\"\",Deviation_Limits!B746)","v":""},{"$f":"IF(Deviation_Limits!C746=\"\",\"\",Deviation_Limits!C746)","v":""},{"$f":"IF(Deviation_Limits!D746=\"\",\"\",Deviation_Limits!D746)","v":""},"",{"$f":"IF(COUNTIF(AQ$2:AQ724,AQ724)=1,AQ724,\"\")","v":""},"","","",null,{"$f":"+IF(BD724=\"\",\"\",MAX(AY$1:AY723)+1)","v":""},{"$f":"IF(Deviation_CEM_CPMS!B746=\"\",\"\",Deviation_CEM_CPMS!B746)","v":""},{"$f":"IF(Deviation_CEM_CPMS!C746=\"\",\"\",Deviation_CEM_CPMS!C746)","v":""},{"$f":"IF(Deviation_CEM_CPMS!D746=\"\",\"\",Deviation_CEM_CPMS!D746)","v":""},"",{"$f":"IF(COUNTIF(BA$2:BA724,BA724)=1,BA724,\"\")","v":""},"","",""]
[null,null,null,null,null,null,null,null,null,null,null,null,null,null,null,null,null,null,null,null,null,null,null,null,null,null,{"$f":"+IF(AE725=\"\",\"\",MAX(AA$1:AA724)+1)","v":""},{"$f":"IF(#REF!=\"\",\"\",#REF!)","v":{"$error":"#REF!"}},{"$f":"IF(#REF!=\"\",\"\",#REF!)","v":{"$error":"#REF!"}},{"$error":"#REF!"},{"$f":"IF(COUNTIF(AC$2:AC725,AC725)=1,AC725,\"\")","v":""},"","",null,null,null,null,null,null,null,{"$f":"+IF(AT725=\"\",\"\",MAX(AO$1:AO724)+1)","v":""},{"$f":"IF(Deviation_Limits!B747=\"\",\"\",Deviation_Limits!B747)","v":""},{"$f":"IF(Deviation_Limits!C747=\"\",\"\",Deviation_Limits!C747)","v":""},{"$f":"IF(Deviation_Limits!D747=\"\",\"\",Deviation_Limits!D747)","v":""},"",{"$f":"IF(COUNTIF(AQ$2:AQ725,AQ725)=1,AQ725,\"\")","v":""},"","","",null,{"$f":"+IF(BD725=\"\",\"\",MAX(AY$1:AY724)+1)","v":""},{"$f":"IF(Deviation_CEM_CPMS!B747=\"\",\"\",Deviation_CEM_CPMS!B747)","v":""},{"$f":"IF(Deviation_CEM_CPMS!C747=\"\",\"\",Deviation_CEM_CPMS!C747)","v":""},{"$f":"IF(Deviation_CEM_CPMS!D747=\"\",\"\",Deviation_CEM_CPMS!D747)","v":""},"",{"$f":"IF(COUNTIF(BA$2:BA725,BA725)=1,BA725,\"\")","v":""},"","",""]
[null,null,null,null,null,null,null,null,null,null,null,null,null,null,null,null,null,null,null,null,null,null,null,null,null,null,{"$f":"+IF(AE726=\"\",\"\",MAX(AA$1:AA725)+1)","v":""},{"$f":"IF(#REF!=\"\",\"\",#REF!)","v":{"$error":"#REF!"}},{"$f":"IF(#REF!=\"\",\"\",#REF!)","v":{"$error":"#REF!"}},{"$error":"#REF!"},{"$f":"IF(COUNTIF(AC$2:AC726,AC726)=1,AC726,\"\")","v":""},"","",null,null,null,null,null,null,null,{"$f":"+IF(AT726=\"\",\"\",MAX(AO$1:AO725)+1)","v":""},{"$f":"IF(Deviation_Limits!B748=\"\",\"\",Deviation_Limits!B748)","v":""},{"$f":"IF(Deviation_Limits!C748=\"\",\"\",Deviation_Limits!C748)","v":""},{"$f":"IF(Deviation_Limits!D748=\"\",\"\",Deviation_Limits!D748)","v":""},"",{"$f":"IF(COUNTIF(AQ$2:AQ726,AQ726)=1,AQ726,\"\")","v":""},"","","",null,{"$f":"+IF(BD726=\"\",\"\",MAX(AY$1:AY725)+1)","v":""},{"$f":"IF(Deviation_CEM_CPMS!B748=\"\",\"\",Deviation_CEM_CPMS!B748)","v":""},{"$f":"IF(Deviation_CEM_CPMS!C748=\"\",\"\",Deviation_CEM_CPMS!C748)","v":""},{"$f":"IF(Deviation_CEM_CPMS!D748=\"\",\"\",Deviation_CEM_CPMS!D748)","v":""},"",{"$f":"IF(COUNTIF(BA$2:BA726,BA726)=1,BA726,\"\")","v":""},"","",""]
[null,null,null,null,null,null,null,null,null,null,null,null,null,null,null,null,null,null,null,null,null,null,null,null,null,null,{"$f":"+IF(AE727=\"\",\"\",MAX(AA$1:AA726)+1)","v":""},{"$f":"IF(#REF!=\"\",\"\",#REF!)","v":{"$error":"#REF!"}},{"$f":"IF(#REF!=\"\",\"\",#REF!)","v":{"$error":"#REF!"}},{"$error":"#REF!"},{"$f":"IF(COUNTIF(AC$2:AC727,AC727)=1,AC727,\"\")","v":""},"","",null,null,null,null,null,null,null,{"$f":"+IF(AT727=\"\",\"\",MAX(AO$1:AO726)+1)","v":""},{"$f":"IF(Deviation_Limits!B749=\"\",\"\",Deviation_Limits!B749)","v":""},{"$f":"IF(Deviation_Limits!C749=\"\",\"\",Deviation_Limits!C749)","v":""},{"$f":"IF(Deviation_Limits!D749=\"\",\"\",Deviation_Limits!D749)","v":""},"",{"$f":"IF(COUNTIF(AQ$2:AQ727,AQ727)=1,AQ727,\"\")","v":""},"","","",null,{"$f":"+IF(BD727=\"\",\"\",MAX(AY$1:AY726)+1)","v":""},{"$f":"IF(Deviation_CEM_CPMS!B749=\"\",\"\",Deviation_CEM_CPMS!B749)","v":""},{"$f":"IF(Deviation_CEM_CPMS!C749=\"\",\"\",Deviation_CEM_CPMS!C749)","v":""},{"$f":"IF(Deviation_CEM_CPMS!D749=\"\",\"\",Deviation_CEM_CPMS!D749)","v":""},"",{"$f":"IF(COUNTIF(BA$2:BA727,BA727)=1,BA727,\"\")","v":""},"","",""]
[null,null,null,null,null,null,null,null,null,null,null,null,null,null,null,null,null,null,null,null,null,null,null,null,null,null,{"$f":"+IF(AE728=\"\",\"\",MAX(AA$1:AA727)+1)","v":""},{"$f":"IF(#REF!=\"\",\"\",#REF!)","v":{"$error":"#REF!"}},{"$f":"IF(#REF!=\"\",\"\",#REF!)","v":{"$error":"#REF!"}},{"$error":"#REF!"},{"$f":"IF(COUNTIF(AC$2:AC728,AC728)=1,AC728,\"\")","v":""},"","",null,null,null,null,null,null,null,{"$f":"+IF(AT728=\"\",\"\",MAX(AO$1:AO727)+1)","v":""},{"$f":"IF(Deviation_Limits!B750=\"\",\"\",Deviation_Limits!B750)","v":""},{"$f":"IF(Deviation_Limits!C750=\"\",\"\",Deviation_Limits!C750)","v":""},{"$f":"IF(Deviation_Limits!D750=\"\",\"\",Deviation_Limits!D750)","v":""},"",{"$f":"IF(COUNTIF(AQ$2:AQ728,AQ728)=1,AQ728,\"\")","v":""},"","","",null,{"$f":"+IF(BD728=\"\",\"\",MAX(AY$1:AY727)+1)","v":""},{"$f":"IF(Deviation_CEM_CPMS!B750=\"\",\"\",Deviation_CEM_CPMS!B750)","v":""},{"$f":"IF(Deviation_CEM_CPMS!C750=\"\",\"\",Deviation_CEM_CPMS!C750)","v":""},{"$f":"IF(Deviation_CEM_CPMS!D750=\"\",\"\",Deviation_CEM_CPMS!D750)","v":""},"",{"$f":"IF(COUNTIF(BA$2:BA728,BA728)=1,BA728,\"\")","v":""},"","",""]
[null,null,null,null,null,null,null,null,null,null,null,null,null,null,null,null,null,null,null,null,null,null,null,null,null,null,{"$f":"+IF(AE729=\"\",\"\",MAX(AA$1:AA728)+1)","v":""},{"$f":"IF(#REF!=\"\",\"\",#REF!)","v":{"$error":"#REF!"}},{"$f":"IF(#REF!=\"\",\"\",#REF!)","v":{"$error":"#REF!"}},{"$error":"#REF!"},{"$f":"IF(COUNTIF(AC$2:AC729,AC729)=1,AC729,\"\")","v":""},"","",null,null,null,null,null,null,null,{"$f":"+IF(AT729=\"\",\"\",MAX(AO$1:AO728)+1)","v":""},{"$f":"IF(Deviation_Limits!B751=\"\",\"\",Deviation_Limits!B751)","v":""},{"$f":"IF(Deviation_Limits!C751=\"\",\"\",Deviation_Limits!C751)","v":""},{"$f":"IF(Deviation_Limits!D751=\"\",\"\",Deviation_Limits!D751)","v":""},"",{"$f":"IF(COUNTIF(AQ$2:AQ729,AQ729)=1,AQ729,\"\")","v":""},"","","",null,{"$f":"+IF(BD729=\"\",\"\",MAX(AY$1:AY728)+1)","v":""},{"$f":"IF(Deviation_CEM_CPMS!B751=\"\",\"\",Deviation_CEM_CPMS!B751)","v":""},{"$f":"IF(Deviation_CEM_CPMS!C751=\"\",\"\",Deviation_CEM_CPMS!C751)","v":""},{"$f":"IF(Deviation_CEM_CPMS!D751=\"\",\"\",Deviation_CEM_CPMS!D751)","v":""},"",{"$f":"IF(COUNTIF(BA$2:BA729,BA729)=1,BA729,\"\")","v":""},"","",""]
[null,null,null,null,null,null,null,null,null,null,null,null,null,null,null,null,null,null,null,null,null,null,null,null,null,null,{"$f":"+IF(AE730=\"\",\"\",MAX(AA$1:AA729)+1)","v":""},{"$f":"IF(#REF!=\"\",\"\",#REF!)","v":{"$error":"#REF!"}},{"$f":"IF(#REF!=\"\",\"\",#REF!)","v":{"$error":"#REF!"}},{"$error":"#REF!"},{"$f":"IF(COUNTIF(AC$2:AC730,AC730)=1,AC730,\"\")","v":""},"","",null,null,null,null,null,null,null,{"$f":"+IF(AT730=\"\",\"\",MAX(AO$1:AO729)+1)","v":""},{"$f":"IF(Deviation_Limits!B752=\"\",\"\",Deviation_Limits!B752)","v":""},{"$f":"IF(Deviation_Limits!C752=\"\",\"\",Deviation_Limits!C752)","v":""},{"$f":"IF(Deviation_Limits!D752=\"\",\"\",Deviation_Limits!D752)","v":""},"",{"$f":"IF(COUNTIF(AQ$2:AQ730,AQ730)=1,AQ730,\"\")","v":""},"","","",null,{"$f":"+IF(BD730=\"\",\"\",MAX(AY$1:AY729)+1)","v":""},{"$f":"IF(Deviation_CEM_CPMS!B752=\"\",\"\",Deviation_CEM_CPMS!B752)","v":""},{"$f":"IF(Deviation_CEM_CPMS!C752=\"\",\"\",Deviation_CEM_CPMS!C752)","v":""},{"$f":"IF(Deviation_CEM_CPMS!D752=\"\",\"\",Deviation_CEM_CPMS!D752)","v":""},"",{"$f":"IF(COUNTIF(BA$2:BA730,BA730)=1,BA730,\"\")","v":""},"","",""]
[null,null,null,null,null,null,null,null,null,null,null,null,null,null,null,null,null,null,null,null,null,null,null,null,null,null,{"$f":"+IF(AE731=\"\",\"\",MAX(AA$1:AA730)+1)","v":""},{"$f":"IF(#REF!=\"\",\"\",#REF!)","v":{"$error":"#REF!"}},{"$f":"IF(#REF!=\"\",\"\",#REF!)","v":{"$error":"#REF!"}},{"$error":"#REF!"},{"$f":"IF(COUNTIF(AC$2:AC731,AC731)=1,AC731,\"\")","v":""},"","",null,null,null,null,null,null,null,{"$f":"+IF(AT731=\"\",\"\",MAX(AO$1:AO730)+1)","v":""},{"$f":"IF(Deviation_Limits!B753=\"\",\"\",Deviation_Limits!B753)","v":""},{"$f":"IF(Deviation_Limits!C753=\"\",\"\",Deviation_Limits!C753)","v":""},{"$f":"IF(Deviation_Limits!D753=\"\",\"\",Deviation_Limits!D753)","v":""},"",{"$f":"IF(COUNTIF(AQ$2:AQ731,AQ731)=1,AQ731,\"\")","v":""},"","","",null,{"$f":"+IF(BD731=\"\",\"\",MAX(AY$1:AY730)+1)","v":""},{"$f":"IF(Deviation_CEM_CPMS!B753=\"\",\"\",Deviation_CEM_CPMS!B753)","v":""},{"$f":"IF(Deviation_CEM_CPMS!C753=\"\",\"\",Deviation_CEM_CPMS!C753)","v":""},{"$f":"IF(Deviation_CEM_CPMS!D753=\"\",\"\",Deviation_CEM_CPMS!D753)","v":""},"",{"$f":"IF(COUNTIF(BA$2:BA731,BA731)=1,BA731,\"\")","v":""},"","",""]
[null,null,null,null,null,null,null,null,null,null,null,null,null,null,null,null,null,null,null,null,null,null,null,null,null,null,{"$f":"+IF(AE732=\"\",\"\",MAX(AA$1:AA731)+1)","v":""},{"$f":"IF(#REF!=\"\",\"\",#REF!)","v":{"$error":"#REF!"}},{"$f":"IF(#REF!=\"\",\"\",#REF!)","v":{"$error":"#REF!"}},{"$error":"#REF!"},{"$f":"IF(COUNTIF(AC$2:AC732,AC732)=1,AC732,\"\")","v":""},"","",null,null,null,null,null,null,null,{"$f":"+IF(AT732=\"\",\"\",MAX(AO$1:AO731)+1)","v":""},{"$f":"IF(Deviation_Limits!B754=\"\",\"\",Deviation_Limits!B754)","v":""},{"$f":"IF(Deviation_Limits!C754=\"\",\"\",Deviation_Limits!C754)","v":""},{"$f":"IF(Deviation_Limits!D754=\"\",\"\",Deviation_Limits!D754)","v":""},"",{"$f":"IF(COUNTIF(AQ$2:AQ732,AQ732)=1,AQ732,\"\")","v":""},"","","",null,{"$f":"+IF(BD732=\"\",\"\",MAX(AY$1:AY731)+1)","v":""},{"$f":"IF(Deviation_CEM_CPMS!B754=\"\",\"\",Deviation_CEM_CPMS!B754)","v":""},{"$f":"IF(Deviation_CEM_CPMS!C754=\"\",\"\",Deviation_CEM_CPMS!C754)","v":""},{"$f":"IF(Deviation_CEM_CPMS!D754=\"\",\"\",Deviation_CEM_CPMS!D754)","v":""},"",{"$f":"IF(COUNTIF(BA$2:BA732,BA732)=1,BA732,\"\")","v":""},"","",""]
[null,null,null,null,null,null,null,null,null,null,null,null,null,null,null,null,null,null,null,null,null,null,null,null,null,null,{"$f":"+IF(AE733=\"\",\"\",MAX(AA$1:AA732)+1)","v":""},{"$f":"IF(#REF!=\"\",\"\",#REF!)","v":{"$error":"#REF!"}},{"$f":"IF(#REF!=\"\",\"\",#REF!)","v":{"$error":"#REF!"}},{"$error":"#REF!"},{"$f":"IF(COUNTIF(AC$2:AC733,AC733)=1,AC733,\"\")","v":""},"","",null,null,null,null,null,null,null,{"$f":"+IF(AT733=\"\",\"\",MAX(AO$1:AO732)+1)","v":""},{"$f":"IF(Deviation_Limits!B755=\"\",\"\",Deviation_Limits!B755)","v":""},{"$f":"IF(Deviation_Limits!C755=\"\",\"\",Deviation_Limits!C755)","v":""},{"$f":"IF(Deviation_Limits!D755=\"\",\"\",Deviation_Limits!D755)","v":""},"",{"$f":"IF(COUNTIF(AQ$2:AQ733,AQ733)=1,AQ733,\"\")","v":""},"","","",null,{"$f":"+IF(BD733=\"\",\"\",MAX(AY$1:AY732)+1)","v":""},{"$f":"IF(Deviation_CEM_CPMS!B755=\"\",\"\",Deviation_CEM_CPMS!B755)","v":""},{"$f":"IF(Deviation_CEM_CPMS!C755=\"\",\"\",Deviation_CEM_CPMS!C755)","v":""},{"$f":"IF(Deviation_CEM_CPMS!D755=\"\",\"\",Deviation_CEM_CPMS!D755)","v":""},"",{"$f":"IF(COUNTIF(BA$2:BA733,BA733)=1,BA733,\"\")","v":""},"","",""]
[null,null,null,null,null,null,null,null,null,null,null,null,null,null,null,null,null,null,null,null,null,null,null,null,null,null,{"$f":"+IF(AE734=\"\",\"\",MAX(AA$1:AA733)+1)","v":""},{"$f":"IF(#REF!=\"\",\"\",#REF!)","v":{"$error":"#REF!"}},{"$f":"IF(#REF!=\"\",\"\",#REF!)","v":{"$error":"#REF!"}},{"$error":"#REF!"},{"$f":"IF(COUNTIF(AC$2:AC734,AC734)=1,AC734,\"\")","v":""},"","",null,null,null,null,null,null,null,{"$f":"+IF(AT734=\"\",\"\",MAX(AO$1:AO733)+1)","v":""},{"$f":"IF(Deviation_Limits!B756=\"\",\"\",Deviation_Limits!B756)","v":""},{"$f":"IF(Deviation_Limits!C756=\"\",\"\",Deviation_Limits!C756)","v":""},{"$f":"IF(Deviation_Limits!D756=\"\",\"\",Deviation_Limits!D756)","v":""},"",{"$f":"IF(COUNTIF(AQ$2:AQ734,AQ734)=1,AQ734,\"\")","v":""},"","","",null,{"$f":"+IF(BD734=\"\",\"\",MAX(AY$1:AY733)+1)","v":""},{"$f":"IF(Deviation_CEM_CPMS!B756=\"\",\"\",Deviation_CEM_CPMS!B756)","v":""},{"$f":"IF(Deviation_CEM_CPMS!C756=\"\",\"\",Deviation_CEM_CPMS!C756)","v":""},{"$f":"IF(Deviation_CEM_CPMS!D756=\"\",\"\",Deviation_CEM_CPMS!D756)","v":""},"",{"$f":"IF(COUNTIF(BA$2:BA734,BA734)=1,BA734,\"\")","v":""},"","",""]
[null,null,null,null,null,null,null,null,null,null,null,null,null,null,null,null,null,null,null,null,null,null,null,null,null,null,{"$f":"+IF(AE735=\"\",\"\",MAX(AA$1:AA734)+1)","v":""},{"$f":"IF(#REF!=\"\",\"\",#REF!)","v":{"$error":"#REF!"}},{"$f":"IF(#REF!=\"\",\"\",#REF!)","v":{"$error":"#REF!"}},{"$error":"#REF!"},{"$f":"IF(COUNTIF(AC$2:AC735,AC735)=1,AC735,\"\")","v":""},"","",null,null,null,null,null,null,null,{"$f":"+IF(AT735=\"\",\"\",MAX(AO$1:AO734)+1)","v":""},{"$f":"IF(Deviation_Limits!B757=\"\",\"\",Deviation_Limits!B757)","v":""},{"$f":"IF(Deviation_Limits!C757=\"\",\"\",Deviation_Limits!C757)","v":""},{"$f":"IF(Deviation_Limits!D757=\"\",\"\",Deviation_Limits!D757)","v":""},"",{"$f":"IF(COUNTIF(AQ$2:AQ735,AQ735)=1,AQ735,\"\")","v":""},"","","",null,{"$f":"+IF(BD735=\"\",\"\",MAX(AY$1:AY734)+1)","v":""},{"$f":"IF(Deviation_CEM_CPMS!B757=\"\",\"\",Deviation_CEM_CPMS!B757)","v":""},{"$f":"IF(Deviation_CEM_CPMS!C757=\"\",\"\",Deviation_CEM_CPMS!C757)","v":""},{"$f":"IF(Deviation_CEM_CPMS!D757=\"\",\"\",Deviation_CEM_CPMS!D757)","v":""},"",{"$f":"IF(COUNTIF(BA$2:BA735,BA735)=1,BA735,\"\")","v":""},"","",""]
[null,null,null,null,null,null,null,null,null,null,null,null,null,null,null,null,null,null,null,null,null,null,null,null,null,null,{"$f":"+IF(AE736=\"\",\"\",MAX(AA$1:AA735)+1)","v":""},{"$f":"IF(#REF!=\"\",\"\",#REF!)","v":{"$error":"#REF!"}},{"$f":"IF(#REF!=\"\",\"\",#REF!)","v":{"$error":"#REF!"}},{"$f":"+AB736&AC736","v":{"$error":"#REF!"}},{"$f":"IF(COUNTIF(AC$2:AC736,AC736)=1,AC736,\"\")","v":""},"","",null,null,null,null,null,null,null,{"$f":"+IF(AT736=\"\",\"\",MAX(AO$1:AO735)+1)","v":""},{"$f":"IF(Deviation_Limits!B758=\"\",\"\",Deviation_Limits!B758)","v":""},{"$f":"IF(Deviation_Limits!C758=\"\",\"\",Deviation_Limits!C758)","v":""},{"$f":"IF(Deviation_Limits!D758=\"\",\"\",Deviation_Limits!D758)","v":""},"",{"$f":"IF(COUNTIF(AQ$2:AQ736,AQ736)=1,AQ736,\"\")","v":""},"","","",null,{"$f":"+IF(BD736=\"\",\"\",MAX(AY$1:AY735)+1)","v":""},{"$f":"IF(Deviation_CEM_CPMS!B758=\"\",\"\",Deviation_CEM_CPMS!B758)","v":""},{"$f":"IF(Deviation_CEM_CPMS!C758=\"\",\"\",Deviation_CEM_CPMS!C758)","v":""},{"$f":"IF(Deviation_CEM_CPMS!D758=\"\",\"\",Deviation_CEM_CPMS!D758)","v":""},"",{"$f":"IF(COUNTIF(BA$2:BA736,BA736)=1,BA736,\"\")","v":""},"","",""]
[null,null,null,null,null,null,null,null,null,null,null,null,null,null,null,null,null,null,null,null,null,null,null,null,null,null,{"$f":"+IF(AE737=\"\",\"\",MAX(AA$1:AA736)+1)","v":""},{"$f":"IF(#REF!=\"\",\"\",#REF!)","v":{"$error":"#REF!"}},{"$f":"IF(#REF!=\"\",\"\",#REF!)","v":{"$error":"#REF!"}},{"$error":"#REF!"},{"$f":"IF(COUNTIF(AC$2:AC737,AC737)=1,AC737,\"\")","v":""},"","",null,null,null,null,null,null,null,{"$f":"+IF(AT737=\"\",\"\",MAX(AO$1:AO736)+1)","v":""},{"$f":"IF(Deviation_Limits!B759=\"\",\"\",Deviation_Limits!B759)","v":""},{"$f":"IF(Deviation_Limits!C759=\"\",\"\",Deviation_Limits!C759)","v":""},{"$f":"IF(Deviation_Limits!D759=\"\",\"\",Deviation_Limits!D759)","v":""},"",{"$f":"IF(COUNTIF(AQ$2:AQ737,AQ737)=1,AQ737,\"\")","v":""},"","","",null,{"$f":"+IF(BD737=\"\",\"\",MAX(AY$1:AY736)+1)","v":""},{"$f":"IF(Deviation_CEM_CPMS!B759=\"\",\"\",Deviation_CEM_CPMS!B759)","v":""},{"$f":"IF(Deviation_CEM_CPMS!C759=\"\",\"\",Deviation_CEM_CPMS!C759)","v":""},{"$f":"IF(Deviation_CEM_CPMS!D759=\"\",\"\",Deviation_CEM_CPMS!D759)","v":""},"",{"$f":"IF(COUNTIF(BA$2:BA737,BA737)=1,BA737,\"\")","v":""},"","",""]
[null,null,null,null,null,null,null,null,null,null,null,null,null,null,null,null,null,null,null,null,null,null,null,null,null,null,{"$f":"+IF(AE738=\"\",\"\",MAX(AA$1:AA737)+1)","v":""},{"$f":"IF(#REF!=\"\",\"\",#REF!)","v":{"$error":"#REF!"}},{"$f":"IF(#REF!=\"\",\"\",#REF!)","v":{"$error":"#REF!"}},{"$error":"#REF!"},{"$f":"IF(COUNTIF(AC$2:AC738,AC738)=1,AC738,\"\")","v":""},"","",null,null,null,null,null,null,null,{"$f":"+IF(AT738=\"\",\"\",MAX(AO$1:AO737)+1)","v":""},{"$f":"IF(Deviation_Limits!B760=\"\",\"\",Deviation_Limits!B760)","v":""},{"$f":"IF(Deviation_Limits!C760=\"\",\"\",Deviation_Limits!C760)","v":""},{"$f":"IF(Deviation_Limits!D760=\"\",\"\",Deviation_Limits!D760)","v":""},"",{"$f":"IF(COUNTIF(AQ$2:AQ738,AQ738)=1,AQ738,\"\")","v":""},"","","",null,{"$f":"+IF(BD738=\"\",\"\",MAX(AY$1:AY737)+1)","v":""},{"$f":"IF(Deviation_CEM_CPMS!B760=\"\",\"\",Deviation_CEM_CPMS!B760)","v":""},{"$f":"IF(Deviation_CEM_CPMS!C760=\"\",\"\",Deviation_CEM_CPMS!C760)","v":""},{"$f":"IF(Deviation_CEM_CPMS!D760=\"\",\"\",Deviation_CEM_CPMS!D760)","v":""},"",{"$f":"IF(COUNTIF(BA$2:BA738,BA738)=1,BA738,\"\")","v":""},"","",""]
[null,null,null,null,null,null,null,null,null,null,null,null,null,null,null,null,null,null,null,null,null,null,null,null,null,null,{"$f":"+IF(AE739=\"\",\"\",MAX(AA$1:AA738)+1)","v":""},{"$f":"IF(#REF!=\"\",\"\",#REF!)","v":{"$error":"#REF!"}},{"$f":"IF(#REF!=\"\",\"\",#REF!)","v":{"$error":"#REF!"}},{"$error":"#REF!"},{"$f":"IF(COUNTIF(AC$2:AC739,AC739)=1,AC739,\"\")","v":""},"","",null,null,null,null,null,null,null,{"$f":"+IF(AT739=\"\",\"\",MAX(AO$1:AO738)+1)","v":""},{"$f":"IF(Deviation_Limits!B761=\"\",\"\",Deviation_Limits!B761)","v":""},{"$f":"IF(Deviation_Limits!C761=\"\",\"\",Deviation_Limits!C761)","v":""},{"$f":"IF(Deviation_Limits!D761=\"\",\"\",Deviation_Limits!D761)","v":""},"",{"$f":"IF(COUNTIF(AQ$2:AQ739,AQ739)=1,AQ739,\"\")","v":""},"","","",null,{"$f":"+IF(BD739=\"\",\"\",MAX(AY$1:AY738)+1)","v":""},{"$f":"IF(Deviation_CEM_CPMS!B761=\"\",\"\",Deviation_CEM_CPMS!B761)","v":""},{"$f":"IF(Deviation_CEM_CPMS!C761=\"\",\"\",Deviation_CEM_CPMS!C761)","v":""},{"$f":"IF(Deviation_CEM_CPMS!D761=\"\",\"\",Deviation_CEM_CPMS!D761)","v":""},"",{"$f":"IF(COUNTIF(BA$2:BA739,BA739)=1,BA739,\"\")","v":""},"","",""]
[null,null,null,null,null,null,null,null,null,null,null,null,null,null,null,null,null,null,null,null,null,null,null,null,null,null,{"$f":"+IF(AE740=\"\",\"\",MAX(AA$1:AA739)+1)","v":""},{"$f":"IF(#REF!=\"\",\"\",#REF!)","v":{"$error":"#REF!"}},{"$f":"IF(#REF!=\"\",\"\",#REF!)","v":{"$error":"#REF!"}},{"$error":"#REF!"},{"$f":"IF(COUNTIF(AC$2:AC740,AC740)=1,AC740,\"\")","v":""},"","",null,null,null,null,null,null,null,{"$f":"+IF(AT740=\"\",\"\",MAX(AO$1:AO739)+1)","v":""},{"$f":"IF(Deviation_Limits!B762=\"\",\"\",Deviation_Limits!B762)","v":""},{"$f":"IF(Deviation_Limits!C762=\"\",\"\",Deviation_Limits!C762)","v":""},{"$f":"IF(Deviation_Limits!D762=\"\",\"\",Deviation_Limits!D762)","v":""},"",{"$f":"IF(COUNTIF(AQ$2:AQ740,AQ740)=1,AQ740,\"\")","v":""},"","","",null,{"$f":"+IF(BD740=\"\",\"\",MAX(AY$1:AY739)+1)","v":""},{"$f":"IF(Deviation_CEM_CPMS!B762=\"\",\"\",Deviation_CEM_CPMS!B762)","v":""},{"$f":"IF(Deviation_CEM_CPMS!C762=\"\",\"\",Deviation_CEM_CPMS!C762)","v":""},{"$f":"IF(Deviation_CEM_CPMS!D762=\"\",\"\",Deviation_CEM_CPMS!D762)","v":""},"",{"$f":"IF(COUNTIF(BA$2:BA740,BA740)=1,BA740,\"\")","v":""},"","",""]
[null,null,null,null,null,null,null,null,null,null,null,null,null,null,null,null,null,null,null,null,null,null,null,null,null,null,{"$f":"+IF(AE741=\"\",\"\",MAX(AA$1:AA740)+1)","v":""},{"$f":"IF(#REF!=\"\",\"\",#REF!)","v":{"$error":"#REF!"}},{"$f":"IF(#REF!=\"\",\"\",#REF!)","v":{"$error":"#REF!"}},{"$error":"#REF!"},{"$f":"IF(COUNTIF(AC$2:AC741,AC741)=1,AC741,\"\")","v":""},"","",null,null,null,null,null,null,null,{"$f":"+IF(AT741=\"\",\"\",MAX(AO$1:AO740)+1)","v":""},{"$f":"IF(Deviation_Limits!B763=\"\",\"\",Deviation_Limits!B763)","v":""},{"$f":"IF(Deviation_Limits!C763=\"\",\"\",Deviation_Limits!C763)","v":""},{"$f":"IF(Deviation_Limits!D763=\"\",\"\",Deviation_Limits!D763)","v":""},"",{"$f":"IF(COUNTIF(AQ$2:AQ741,AQ741)=1,AQ741,\"\")","v":""},"","","",null,{"$f":"+IF(BD741=\"\",\"\",MAX(AY$1:AY740)+1)","v":""},{"$f":"IF(Deviation_CEM_CPMS!B763=\"\",\"\",Deviation_CEM_CPMS!B763)","v":""},{"$f":"IF(Deviation_CEM_CPMS!C763=\"\",\"\",Deviation_CEM_CPMS!C763)","v":""},{"$f":"IF(Deviation_CEM_CPMS!D763=\"\",\"\",Deviation_CEM_CPMS!D763)","v":""},"",{"$f":"IF(COUNTIF(BA$2:BA741,BA741)=1,BA741,\"\")","v":""},"","",""]
[null,null,null,null,null,null,null,null,null,null,null,null,null,null,null,null,null,null,null,null,null,null,null,null,null,null,{"$f":"+IF(AE742=\"\",\"\",MAX(AA$1:AA741)+1)","v":""},{"$f":"IF(#REF!=\"\",\"\",#REF!)","v":{"$error":"#REF!"}},{"$f":"IF(#REF!=\"\",\"\",#REF!)","v":{"$error":"#REF!"}},{"$error":"#REF!"},{"$f":"IF(COUNTIF(AC$2:AC742,AC742)=1,AC742,\"\")","v":""},"","",null,null,null,null,null,null,null,{"$f":"+IF(AT742=\"\",\"\",MAX(AO$1:AO741)+1)","v":""},{"$f":"IF(Deviation_Limits!B764=\"\",\"\",Deviation_Limits!B764)","v":""},{"$f":"IF(Deviation_Limits!C764=\"\",\"\",Deviation_Limits!C764)","v":""},{"$f":"IF(Deviation_Limits!D764=\"\",\"\",Deviation_Limits!D764)","v":""},"",{"$f":"IF(COUNTIF(AQ$2:AQ742,AQ742)=1,AQ742,\"\")","v":""},"","","",null,{"$f":"+IF(BD742=\"\",\"\",MAX(AY$1:AY741)+1)","v":""},{"$f":"IF(Deviation_CEM_CPMS!B764=\"\",\"\",Deviation_CEM_CPMS!B764)","v":""},{"$f":"IF(Deviation_CEM_CPMS!C764=\"\",\"\",Deviation_CEM_CPMS!C764)","v":""},{"$f":"IF(Deviation_CEM_CPMS!D764=\"\",\"\",Deviation_CEM_CPMS!D764)","v":""},"",{"$f":"IF(COUNTIF(BA$2:BA742,BA742)=1,BA742,\"\")","v":""},"","",""]
[null,null,null,null,null,null,null,null,null,null,null,null,null,null,null,null,null,null,null,null,null,null,null,null,null,null,{"$f":"+IF(AE743=\"\",\"\",MAX(AA$1:AA742)+1)","v":""},{"$f":"IF(#REF!=\"\",\"\",#REF!)","v":{"$error":"#REF!"}},{"$f":"IF(#REF!=\"\",\"\",#REF!)","v":{"$error":"#REF!"}},{"$error":"#REF!"},{"$f":"IF(COUNTIF(AC$2:AC743,AC743)=1,AC743,\"\")","v":""},"","",null,null,null,null,null,null,null,{"$f":"+IF(AT743=\"\",\"\",MAX(AO$1:AO742)+1)","v":""},{"$f":"IF(Deviation_Limits!B765=\"\",\"\",Deviation_Limits!B765)","v":""},{"$f":"IF(Deviation_Limits!C765=\"\",\"\",Deviation_Limits!C765)","v":""},{"$f":"IF(Deviation_Limits!D765=\"\",\"\",Deviation_Limits!D765)","v":""},"",{"$f":"IF(COUNTIF(AQ$2:AQ743,AQ743)=1,AQ743,\"\")","v":""},"","","",null,{"$f":"+IF(BD743=\"\",\"\",MAX(AY$1:AY742)+1)","v":""},{"$f":"IF(Deviation_CEM_CPMS!B765=\"\",\"\",Deviation_CEM_CPMS!B765)","v":""},{"$f":"IF(Deviation_CEM_CPMS!C765=\"\",\"\",Deviation_CEM_CPMS!C765)","v":""},{"$f":"IF(Deviation_CEM_CPMS!D765=\"\",\"\",Deviation_CEM_CPMS!D765)","v":""},"",{"$f":"IF(COUNTIF(BA$2:BA743,BA743)=1,BA743,\"\")","v":""},"","",""]
[null,null,null,null,null,null,null,null,null,null,null,null,null,null,null,null,null,null,null,null,null,null,null,null,null,null,{"$f":"+IF(AE744=\"\",\"\",MAX(AA$1:AA743)+1)","v":""},{"$f":"IF(#REF!=\"\",\"\",#REF!)","v":{"$error":"#REF!"}},{"$f":"IF(#REF!=\"\",\"\",#REF!)","v":{"$error":"#REF!"}},{"$error":"#REF!"},{"$f":"IF(COUNTIF(AC$2:AC744,AC744)=1,AC744,\"\")","v":""},"","",null,null,null,null,null,null,null,{"$f":"+IF(AT744=\"\",\"\",MAX(AO$1:AO743)+1)","v":""},{"$f":"IF(Deviation_Limits!B766=\"\",\"\",Deviation_Limits!B766)","v":""},{"$f":"IF(Deviation_Limits!C766=\"\",\"\",Deviation_Limits!C766)","v":""},{"$f":"IF(Deviation_Limits!D766=\"\",\"\",Deviation_Limits!D766)","v":""},"",{"$f":"IF(COUNTIF(AQ$2:AQ744,AQ744)=1,AQ744,\"\")","v":""},"","","",null,{"$f":"+IF(BD744=\"\",\"\",MAX(AY$1:AY743)+1)","v":""},{"$f":"IF(Deviation_CEM_CPMS!B766=\"\",\"\",Deviation_CEM_CPMS!B766)","v":""},{"$f":"IF(Deviation_CEM_CPMS!C766=\"\",\"\",Deviation_CEM_CPMS!C766)","v":""},{"$f":"IF(Deviation_CEM_CPMS!D766=\"\",\"\",Deviation_CEM_CPMS!D766)","v":""},"",{"$f":"IF(COUNTIF(BA$2:BA744,BA744)=1,BA744,\"\")","v":""},"","",""]
[null,null,null,null,null,null,null,null,null,null,null,null,null,null,null,null,null,null,null,null,null,null,null,null,null,null,{"$f":"+IF(AE745=\"\",\"\",MAX(AA$1:AA744)+1)","v":""},{"$f":"IF(#REF!=\"\",\"\",#REF!)","v":{"$error":"#REF!"}},{"$f":"IF(#REF!=\"\",\"\",#REF!)","v":{"$error":"#REF!"}},{"$error":"#REF!"},{"$f":"IF(COUNTIF(AC$2:AC745,AC745)=1,AC745,\"\")","v":""},"","",null,null,null,null,null,null,null,{"$f":"+IF(AT745=\"\",\"\",MAX(AO$1:AO744)+1)","v":""},{"$f":"IF(Deviation_Limits!B767=\"\",\"\",Deviation_Limits!B767)","v":""},{"$f":"IF(Deviation_Limits!C767=\"\",\"\",Deviation_Limits!C767)","v":""},{"$f":"IF(Deviation_Limits!D767=\"\",\"\",Deviation_Limits!D767)","v":""},"",{"$f":"IF(COUNTIF(AQ$2:AQ745,AQ745)=1,AQ745,\"\")","v":""},"","","",null,{"$f":"+IF(BD745=\"\",\"\",MAX(AY$1:AY744)+1)","v":""},{"$f":"IF(Deviation_CEM_CPMS!B767=\"\",\"\",Deviation_CEM_CPMS!B767)","v":""},{"$f":"IF(Deviation_CEM_CPMS!C767=\"\",\"\",Deviation_CEM_CPMS!C767)","v":""},{"$f":"IF(Deviation_CEM_CPMS!D767=\"\",\"\",Deviation_CEM_CPMS!D767)","v":""},"",{"$f":"IF(COUNTIF(BA$2:BA745,BA745)=1,BA745,\"\")","v":""},"","",""]
[null,null,null,null,null,null,null,null,null,null,null,null,null,null,null,null,null,null,null,null,null,null,null,null,null,null,{"$f":"+IF(AE746=\"\",\"\",MAX(AA$1:AA745)+1)","v":""},{"$f":"IF(#REF!=\"\",\"\",#REF!)","v":{"$error":"#REF!"}},{"$f":"IF(#REF!=\"\",\"\",#REF!)","v":{"$error":"#REF!"}},{"$error":"#REF!"},{"$f":"IF(COUNTIF(AC$2:AC746,AC746)=1,AC746,\"\")","v":""},"","",null,null,null,null,null,null,null,{"$f":"+IF(AT746=\"\",\"\",MAX(AO$1:AO745)+1)","v":""},{"$f":"IF(Deviation_Limits!B768=\"\",\"\",Deviation_Limits!B768)","v":""},{"$f":"IF(Deviation_Limits!C768=\"\",\"\",Deviation_Limits!C768)","v":""},{"$f":"IF(Deviation_Limits!D768=\"\",\"\",Deviation_Limits!D768)","v":""},"",{"$f":"IF(COUNTIF(AQ$2:AQ746,AQ746)=1,AQ746,\"\")","v":""},"","","",null,{"$f":"+IF(BD746=\"\",\"\",MAX(AY$1:AY745)+1)","v":""},{"$f":"IF(Deviation_CEM_CPMS!B768=\"\",\"\",Deviation_CEM_CPMS!B768)","v":""},{"$f":"IF(Deviation_CEM_CPMS!C768=\"\",\"\",Deviation_CEM_CPMS!C768)","v":""},{"$f":"IF(Deviation_CEM_CPMS!D768=\"\",\"\",Deviation_CEM_CPMS!D768)","v":""},"",{"$f":"IF(COUNTIF(BA$2:BA746,BA746)=1,BA746,\"\")","v":""},"","",""]
[null,null,null,null,null,null,null,null,null,null,null,null,null,null,null,null,null,null,null,null,null,null,null,null,null,null,{"$f":"+IF(AE747=\"\",\"\",MAX(AA$1:AA746)+1)","v":""},{"$f":"IF(#REF!=\"\",\"\",#REF!)","v":{"$error":"#REF!"}},{"$f":"IF(#REF!=\"\",\"\",#REF!)","v":{"$error":"#REF!"}},{"$error":"#REF!"},{"$f":"IF(COUNTIF(AC$2:AC747,AC747)=1,AC747,\"\")","v":""},"","",null,null,null,null,null,null,null,{"$f":"+IF(AT747=\"\",\"\",MAX(AO$1:AO746)+1)","v":""},{"$f":"IF(Deviation_Limits!B769=\"\",\"\",Deviation_Limits!B769)","v":""},{"$f":"IF(Deviation_Limits!C769=\"\",\"\",Deviation_Limits!C769)","v":""},{"$f":"IF(Deviation_Limits!D769=\"\",\"\",Deviation_Limits!D769)","v":""},"",{"$f":"IF(COUNTIF(AQ$2:AQ747,AQ747)=1,AQ747,\"\")","v":""},"","","",null,{"$f":"+IF(BD747=\"\",\"\",MAX(AY$1:AY746)+1)","v":""},{"$f":"IF(Deviation_CEM_CPMS!B769=\"\",\"\",Deviation_CEM_CPMS!B769)","v":""},{"$f":"IF(Deviation_CEM_CPMS!C769=\"\",\"\",Deviation_CEM_CPMS!C769)","v":""},{"$f":"IF(Deviation_CEM_CPMS!D769=\"\",\"\",Deviation_CEM_CPMS!D769)","v":""},"",{"$f":"IF(COUNTIF(BA$2:BA747,BA747)=1,BA747,\"\")","v":""},"","",""]
[null,null,null,null,null,null,null,null,null,null,null,null,null,null,null,null,null,null,null,null,null,null,null,null,null,null,{"$f":"+IF(AE748=\"\",\"\",MAX(AA$1:AA747)+1)","v":""},{"$f":"IF(#REF!=\"\",\"\",#REF!)","v":{"$error":"#REF!"}},{"$f":"IF(#REF!=\"\",\"\",#REF!)","v":{"$error":"#REF!"}},{"$error":"#REF!"},{"$f":"IF(COUNTIF(AC$2:AC748,AC748)=1,AC748,\"\")","v":""},"","",null,null,null,null,null,null,null,{"$f":"+IF(AT748=\"\",\"\",MAX(AO$1:AO747)+1)","v":""},{"$f":"IF(Deviation_Limits!B770=\"\",\"\",Deviation_Limits!B770)","v":""},{"$f":"IF(Deviation_Limits!C770=\"\",\"\",Deviation_Limits!C770)","v":""},{"$f":"IF(Deviation_Limits!D770=\"\",\"\",Deviation_Limits!D770)","v":""},"",{"$f":"IF(COUNTIF(AQ$2:AQ748,AQ748)=1,AQ748,\"\")","v":""},"","","",null,{"$f":"+IF(BD748=\"\",\"\",MAX(AY$1:AY747)+1)","v":""},{"$f":"IF(Deviation_CEM_CPMS!B770=\"\",\"\",Deviation_CEM_CPMS!B770)","v":""},{"$f":"IF(Deviation_CEM_CPMS!C770=\"\",\"\",Deviation_CEM_CPMS!C770)","v":""},{"$f":"IF(Deviation_CEM_CPMS!D770=\"\",\"\",Deviation_CEM_CPMS!D770)","v":""},"",{"$f":"IF(COUNTIF(BA$2:BA748,BA748)=1,BA748,\"\")","v":""},"","",""]
[null,null,null,null,null,null,null,null,null,null,null,null,null,null,null,null,null,null,null,null,null,null,null,null,null,null,{"$f":"+IF(AE749=\"\",\"\",MAX(AA$1:AA748)+1)","v":""},{"$f":"IF(#REF!=\"\",\"\",#REF!)","v":{"$error":"#REF!"}},{"$f":"IF(#REF!=\"\",\"\",#REF!)","v":{"$error":"#REF!"}},{"$error":"#REF!"},{"$f":"IF(COUNTIF(AC$2:AC749,AC749)=1,AC749,\"\")","v":""},"","",null,null,null,null,null,null,null,{"$f":"+IF(AT749=\"\",\"\",MAX(AO$1:AO748)+1)","v":""},{"$f":"IF(Deviation_Limits!B771=\"\",\"\",Deviation_Limits!B771)","v":""},{"$f":"IF(Deviation_Limits!C771=\"\",\"\",Deviation_Limits!C771)","v":""},{"$f":"IF(Deviation_Limits!D771=\"\",\"\",Deviation_Limits!D771)","v":""},"",{"$f":"IF(COUNTIF(AQ$2:AQ749,AQ749)=1,AQ749,\"\")","v":""},"","","",null,{"$f":"+IF(BD749=\"\",\"\",MAX(AY$1:AY748)+1)","v":""},{"$f":"IF(Deviation_CEM_CPMS!B771=\"\",\"\",Deviation_CEM_CPMS!B771)","v":""},{"$f":"IF(Deviation_CEM_CPMS!C771=\"\",\"\",Deviation_CEM_CPMS!C771)","v":""},{"$f":"IF(Deviation_CEM_CPMS!D771=\"\",\"\",Deviation_CEM_CPMS!D771)","v":""},"",{"$f":"IF(COUNTIF(BA$2:BA749,BA749)=1,BA749,\"\")","v":""},"","",""]
[null,null,null,null,null,null,null,null,null,null,null,null,null,null,null,null,null,null,null,null,null,null,null,null,null,null,{"$f":"+IF(AE750=\"\",\"\",MAX(AA$1:AA749)+1)","v":""},{"$f":"IF(#REF!=\"\",\"\",#REF!)","v":{"$error":"#REF!"}},{"$f":"IF(#REF!=\"\",\"\",#REF!)","v":{"$error":"#REF!"}},{"$error":"#REF!"},{"$f":"IF(COUNTIF(AC$2:AC750,AC750)=1,AC750,\"\")","v":""},"","",null,null,null,null,null,null,null,{"$f":"+IF(AT750=\"\",\"\",MAX(AO$1:AO749)+1)","v":""},{"$f":"IF(Deviation_Limits!B772=\"\",\"\",Deviation_Limits!B772)","v":""},{"$f":"IF(Deviation_Limits!C772=\"\",\"\",Deviation_Limits!C772)","v":""},{"$f":"IF(Deviation_Limits!D772=\"\",\"\",Deviation_Limits!D772)","v":""},"",{"$f":"IF(COUNTIF(AQ$2:AQ750,AQ750)=1,AQ750,\"\")","v":""},"","","",null,{"$f":"+IF(BD750=\"\",\"\",MAX(AY$1:AY749)+1)","v":""},{"$f":"IF(Deviation_CEM_CPMS!B772=\"\",\"\",Deviation_CEM_CPMS!B772)","v":""},{"$f":"IF(Deviation_CEM_CPMS!C772=\"\",\"\",Deviation_CEM_CPMS!C772)","v":""},{"$f":"IF(Deviation_CEM_CPMS!D772=\"\",\"\",Deviation_CEM_CPMS!D772)","v":""},"",{"$f":"IF(COUNTIF(BA$2:BA750,BA750)=1,BA750,\"\")","v":""},"","",""]
[null,null,null,null,null,null,null,null,null,null,null,null,null,null,null,null,null,null,null,null,null,null,null,null,null,null,{"$f":"+IF(AE751=\"\",\"\",MAX(AA$1:AA750)+1)","v":""},{"$f":"IF(#REF!=\"\",\"\",#REF!)","v":{"$error":"#REF!"}},{"$f":"IF(#REF!=\"\",\"\",#REF!)","v":{"$error":"#REF!"}},{"$error":"#REF!"},{"$f":"IF(COUNTIF(AC$2:AC751,AC751)=1,AC751,\"\")","v":""},"","",null,null,null,null,null,null,null,{"$f":"+IF(AT751=\"\",\"\",MAX(AO$1:AO750)+1)","v":""},{"$f":"IF(Deviation_Limits!B773=\"\",\"\",Deviation_Limits!B773)","v":""},{"$f":"IF(Deviation_Limits!C773=\"\",\"\",Deviation_Limits!C773)","v":""},{"$f":"IF(Deviation_Limits!D773=\"\",\"\",Deviation_Limits!D773)","v":""},"",{"$f":"IF(COUNTIF(AQ$2:AQ751,AQ751)=1,AQ751,\"\")","v":""},"","","",null,{"$f":"+IF(BD751=\"\",\"\",MAX(AY$1:AY750)+1)","v":""},{"$f":"IF(Deviation_CEM_CPMS!B773=\"\",\"\",Deviation_CEM_CPMS!B773)","v":""},{"$f":"IF(Deviation_CEM_CPMS!C773=\"\",\"\",Deviation_CEM_CPMS!C773)","v":""},{"$f":"IF(Deviation_CEM_CPMS!D773=\"\",\"\",Deviation_CEM_CPMS!D773)","v":""},"",{"$f":"IF(COUNTIF(BA$2:BA751,BA751)=1,BA751,\"\")","v":""},"","",""]
[null,null,null,null,null,null,null,null,null,null,null,null,null,null,null,null,null,null,null,null,null,null,null,null,null,null,{"$f":"+IF(AE752=\"\",\"\",MAX(AA$1:AA751)+1)","v":""},{"$f":"IF(#REF!=\"\",\"\",#REF!)","v":{"$error":"#REF!"}},{"$f":"IF(#REF!=\"\",\"\",#REF!)","v":{"$error":"#REF!"}},{"$error":"#REF!"},{"$f":"IF(COUNTIF(AC$2:AC752,AC752)=1,AC752,\"\")","v":""},"","",null,null,null,null,null,null,null,{"$f":"+IF(AT752=\"\",\"\",MAX(AO$1:AO751)+1)","v":""},{"$f":"IF(Deviation_Limits!B774=\"\",\"\",Deviation_Limits!B774)","v":""},{"$f":"IF(Deviation_Limits!C774=\"\",\"\",Deviation_Limits!C774)","v":""},{"$f":"IF(Deviation_Limits!D774=\"\",\"\",Deviation_Limits!D774)","v":""},"",{"$f":"IF(COUNTIF(AQ$2:AQ752,AQ752)=1,AQ752,\"\")","v":""},"","","",null,{"$f":"+IF(BD752=\"\",\"\",MAX(AY$1:AY751)+1)","v":""},{"$f":"IF(Deviation_CEM_CPMS!B774=\"\",\"\",Deviation_CEM_CPMS!B774)","v":""},{"$f":"IF(Deviation_CEM_CPMS!C774=\"\",\"\",Deviation_CEM_CPMS!C774)","v":""},{"$f":"IF(Deviation_CEM_CPMS!D774=\"\",\"\",Deviation_CEM_CPMS!D774)","v":""},"",{"$f":"IF(COUNTIF(BA$2:BA752,BA752)=1,BA752,\"\")","v":""},"","",""]
[null,null,null,null,null,null,null,null,null,null,null,null,null,null,null,null,null,null,null,null,null,null,null,null,null,null,{"$f":"+IF(AE753=\"\",\"\",MAX(AA$1:AA752)+1)","v":""},{"$f":"IF(#REF!=\"\",\"\",#REF!)","v":{"$error":"#REF!"}},{"$f":"IF(#REF!=\"\",\"\",#REF!)","v":{"$error":"#REF!"}},{"$error":"#REF!"},{"$f":"IF(COUNTIF(AC$2:AC753,AC753)=1,AC753,\"\")","v":""},"","",null,null,null,null,null,null,null,{"$f":"+IF(AT753=\"\",\"\",MAX(AO$1:AO752)+1)","v":""},{"$f":"IF(Deviation_Limits!B775=\"\",\"\",Deviation_Limits!B775)","v":""},{"$f":"IF(Deviation_Limits!C775=\"\",\"\",Deviation_Limits!C775)","v":""},{"$f":"IF(Deviation_Limits!D775=\"\",\"\",Deviation_Limits!D775)","v":""},"",{"$f":"IF(COUNTIF(AQ$2:AQ753,AQ753)=1,AQ753,\"\")","v":""},"","","",null,{"$f":"+IF(BD753=\"\",\"\",MAX(AY$1:AY752)+1)","v":""},{"$f":"IF(Deviation_CEM_CPMS!B775=\"\",\"\",Deviation_CEM_CPMS!B775)","v":""},{"$f":"IF(Deviation_CEM_CPMS!C775=\"\",\"\",Deviation_CEM_CPMS!C775)","v":""},{"$f":"IF(Deviation_CEM_CPMS!D775=\"\",\"\",Deviation_CEM_CPMS!D775)","v":""},"",{"$f":"IF(COUNTIF(BA$2:BA753,BA753)=1,BA753,\"\")","v":""},"","",""]
[null,null,null,null,null,null,null,null,null,null,null,null,null,null,null,null,null,null,null,null,null,null,null,null,null,null,{"$f":"+IF(AE754=\"\",\"\",MAX(AA$1:AA753)+1)","v":""},{"$f":"IF(#REF!=\"\",\"\",#REF!)","v":{"$error":"#REF!"}},{"$f":"IF(#REF!=\"\",\"\",#REF!)","v":{"$error":"#REF!"}},{"$error":"#REF!"},{"$f":"IF(COUNTIF(AC$2:AC754,AC754)=1,AC754,\"\")","v":""},"","",null,null,null,null,null,null,null,{"$f":"+IF(AT754=\"\",\"\",MAX(AO$1:AO753)+1)","v":""},{"$f":"IF(Deviation_Limits!B776=\"\",\"\",Deviation_Limits!B776)","v":""},{"$f":"IF(Deviation_Limits!C776=\"\",\"\",Deviation_Limits!C776)","v":""},{"$f":"IF(Deviation_Limits!D776=\"\",\"\",Deviation_Limits!D776)","v":""},"",{"$f":"IF(COUNTIF(AQ$2:AQ754,AQ754)=1,AQ754,\"\")","v":""},"","","",null,{"$f":"+IF(BD754=\"\",\"\",MAX(AY$1:AY753)+1)","v":""},{"$f":"IF(Deviation_CEM_CPMS!B776=\"\",\"\",Deviation_CEM_CPMS!B776)","v":""},{"$f":"IF(Deviation_CEM_CPMS!C776=\"\",\"\",Deviation_CEM_CPMS!C776)","v":""},{"$f":"IF(Deviation_CEM_CPMS!D776=\"\",\"\",Deviation_CEM_CPMS!D776)","v":""},"",{"$f":"IF(COUNTIF(BA$2:BA754,BA754)=1,BA754,\"\")","v":""},"","",""]
[null,null,null,null,null,null,null,null,null,null,null,null,null,null,null,null,null,null,null,null,null,null,null,null,null,null,{"$f":"+IF(AE755=\"\",\"\",MAX(AA$1:AA754)+1)","v":""},{"$f":"IF(#REF!=\"\",\"\",#REF!)","v":{"$error":"#REF!"}},{"$f":"IF(#REF!=\"\",\"\",#REF!)","v":{"$error":"#REF!"}},{"$error":"#REF!"},{"$f":"IF(COUNTIF(AC$2:AC755,AC755)=1,AC755,\"\")","v":""},"","",null,null,null,null,null,null,null,{"$f":"+IF(AT755=\"\",\"\",MAX(AO$1:AO754)+1)","v":""},{"$f":"IF(Deviation_Limits!B777=\"\",\"\",Deviation_Limits!B777)","v":""},{"$f":"IF(Deviation_Limits!C777=\"\",\"\",Deviation_Limits!C777)","v":""},{"$f":"IF(Deviation_Limits!D777=\"\",\"\",Deviation_Limits!D777)","v":""},"",{"$f":"IF(COUNTIF(AQ$2:AQ755,AQ755)=1,AQ755,\"\")","v":""},"","","",null,{"$f":"+IF(BD755=\"\",\"\",MAX(AY$1:AY754)+1)","v":""},{"$f":"IF(Deviation_CEM_CPMS!B777=\"\",\"\",Deviation_CEM_CPMS!B777)","v":""},{"$f":"IF(Deviation_CEM_CPMS!C777=\"\",\"\",Deviation_CEM_CPMS!C777)","v":""},{"$f":"IF(Deviation_CEM_CPMS!D777=\"\",\"\",Deviation_CEM_CPMS!D777)","v":""},"",{"$f":"IF(COUNTIF(BA$2:BA755,BA755)=1,BA755,\"\")","v":""},"","",""]
[null,null,null,null,null,null,null,null,null,null,null,null,null,null,null,null,null,null,null,null,null,null,null,null,null,null,{"$f":"+IF(AE756=\"\",\"\",MAX(AA$1:AA755)+1)","v":""},{"$f":"IF(#REF!=\"\",\"\",#REF!)","v":{"$error":"#REF!"}},{"$f":"IF(#REF!=\"\",\"\",#REF!)","v":{"$error":"#REF!"}},{"$error":"#REF!"},{"$f":"IF(COUNTIF(AC$2:AC756,AC756)=1,AC756,\"\")","v":""},"","",null,null,null,null,null,null,null,{"$f":"+IF(AT756=\"\",\"\",MAX(AO$1:AO755)+1)","v":""},{"$f":"IF(Deviation_Limits!B778=\"\",\"\",Deviation_Limits!B778)","v":""},{"$f":"IF(Deviation_Limits!C778=\"\",\"\",Deviation_Limits!C778)","v":""},{"$f":"IF(Deviation_Limits!D778=\"\",\"\",Deviation_Limits!D778)","v":""},"",{"$f":"IF(COUNTIF(AQ$2:AQ756,AQ756)=1,AQ756,\"\")","v":""},"","","",null,{"$f":"+IF(BD756=\"\",\"\",MAX(AY$1:AY755)+1)","v":""},{"$f":"IF(Deviation_CEM_CPMS!B778=\"\",\"\",Deviation_CEM_CPMS!B778)","v":""},{"$f":"IF(Deviation_CEM_CPMS!C778=\"\",\"\",Deviation_CEM_CPMS!C778)","v":""},{"$f":"IF(Deviation_CEM_CPMS!D778=\"\",\"\",Deviation_CEM_CPMS!D778)","v":""},"",{"$f":"IF(COUNTIF(BA$2:BA756,BA756)=1,BA756,\"\")","v":""},"","",""]
[null,null,null,null,null,null,null,null,null,null,null,null,null,null,null,null,null,null,null,null,null,null,null,null,null,null,{"$f":"+IF(AE757=\"\",\"\",MAX(AA$1:AA756)+1)","v":""},{"$f":"IF(#REF!=\"\",\"\",#REF!)","v":{"$error":"#REF!"}},{"$f":"IF(#REF!=\"\",\"\",#REF!)","v":{"$error":"#REF!"}},{"$error":"#REF!"},{"$f":"IF(COUNTIF(AC$2:AC757,AC757)=1,AC757,\"\")","v":""},"","",null,null,null,null,null,null,null,{"$f":"+IF(AT757=\"\",\"\",MAX(AO$1:AO756)+1)","v":""},{"$f":"IF(Deviation_Limits!B779=\"\",\"\",Deviation_Limits!B779)","v":""},{"$f":"IF(Deviation_Limits!C779=\"\",\"\",Deviation_Limits!C779)","v":""},{"$f":"IF(Deviation_Limits!D779=\"\",\"\",Deviation_Limits!D779)","v":""},"",{"$f":"IF(COUNTIF(AQ$2:AQ757,AQ757)=1,AQ757,\"\")","v":""},"","","",null,{"$f":"+IF(BD757=\"\",\"\",MAX(AY$1:AY756)+1)","v":""},{"$f":"IF(Deviation_CEM_CPMS!B779=\"\",\"\",Deviation_CEM_CPMS!B779)","v":""},{"$f":"IF(Deviation_CEM_CPMS!C779=\"\",\"\",Deviation_CEM_CPMS!C779)","v":""},{"$f":"IF(Deviation_CEM_CPMS!D779=\"\",\"\",Deviation_CEM_CPMS!D779)","v":""},"",{"$f":"IF(COUNTIF(BA$2:BA757,BA757)=1,BA757,\"\")","v":""},"","",""]
[null,null,null,null,null,null,null,null,null,null,null,null,null,null,null,null,null,null,null,null,null,null,null,null,null,null,{"$f":"+IF(AE758=\"\",\"\",MAX(AA$1:AA757)+1)","v":""},{"$f":"IF(#REF!=\"\",\"\",#REF!)","v":{"$error":"#REF!"}},{"$f":"IF(#REF!=\"\",\"\",#REF!)","v":{"$error":"#REF!"}},{"$error":"#REF!"},{"$f":"IF(COUNTIF(AC$2:AC758,AC758)=1,AC758,\"\")","v":""},"","",null,null,null,null,null,null,null,{"$f":"+IF(AT758=\"\",\"\",MAX(AO$1:AO757)+1)","v":""},{"$f":"IF(Deviation_Limits!B780=\"\",\"\",Deviation_Limits!B780)","v":""},{"$f":"IF(Deviation_Limits!C780=\"\",\"\",Deviation_Limits!C780)","v":""},{"$f":"IF(Deviation_Limits!D780=\"\",\"\",Deviation_Limits!D780)","v":""},"",{"$f":"IF(COUNTIF(AQ$2:AQ758,AQ758)=1,AQ758,\"\")","v":""},"","","",null,{"$f":"+IF(BD758=\"\",\"\",MAX(AY$1:AY757)+1)","v":""},{"$f":"IF(Deviation_CEM_CPMS!B780=\"\",\"\",Deviation_CEM_CPMS!B780)","v":""},{"$f":"IF(Deviation_CEM_CPMS!C780=\"\",\"\",Deviation_CEM_CPMS!C780)","v":""},{"$f":"IF(Deviation_CEM_CPMS!D780=\"\",\"\",Deviation_CEM_CPMS!D780)","v":""},"",{"$f":"IF(COUNTIF(BA$2:BA758,BA758)=1,BA758,\"\")","v":""},"","",""]
[null,null,null,null,null,null,null,null,null,null,null,null,null,null,null,null,null,null,null,null,null,null,null,null,null,null,{"$f":"+IF(AE759=\"\",\"\",MAX(AA$1:AA758)+1)","v":""},{"$f":"IF(#REF!=\"\",\"\",#REF!)","v":{"$error":"#REF!"}},{"$f":"IF(#REF!=\"\",\"\",#REF!)","v":{"$error":"#REF!"}},{"$error":"#REF!"},{"$f":"IF(COUNTIF(AC$2:AC759,AC759)=1,AC759,\"\")","v":""},"","",null,null,null,null,null,null,null,{"$f":"+IF(AT759=\"\",\"\",MAX(AO$1:AO758)+1)","v":""},{"$f":"IF(Deviation_Limits!B781=\"\",\"\",Deviation_Limits!B781)","v":""},{"$f":"IF(Deviation_Limits!C781=\"\",\"\",Deviation_Limits!C781)","v":""},{"$f":"IF(Deviation_Limits!D781=\"\",\"\",Deviation_Limits!D781)","v":""},"",{"$f":"IF(COUNTIF(AQ$2:AQ759,AQ759)=1,AQ759,\"\")","v":""},"","","",null,{"$f":"+IF(BD759=\"\",\"\",MAX(AY$1:AY758)+1)","v":""},{"$f":"IF(Deviation_CEM_CPMS!B781=\"\",\"\",Deviation_CEM_CPMS!B781)","v":""},{"$f":"IF(Deviation_CEM_CPMS!C781=\"\",\"\",Deviation_CEM_CPMS!C781)","v":""},{"$f":"IF(Deviation_CEM_CPMS!D781=\"\",\"\",Deviation_CEM_CPMS!D781)","v":""},"",{"$f":"IF(COUNTIF(BA$2:BA759,BA759)=1,BA759,\"\")","v":""},"","",""]
[null,null,null,null,null,null,null,null,null,null,null,null,null,null,null,null,null,null,null,null,null,null,null,null,null,null,{"$f":"+IF(AE760=\"\",\"\",MAX(AA$1:AA759)+1)","v":""},{"$f":"IF(#REF!=\"\",\"\",#REF!)","v":{"$error":"#REF!"}},{"$f":"IF(#REF!=\"\",\"\",#REF!)","v":{"$error":"#REF!"}},{"$error":"#REF!"},{"$f":"IF(COUNTIF(AC$2:AC760,AC760)=1,AC760,\"\")","v":""},"","",null,null,null,null,null,null,null,{"$f":"+IF(AT760=\"\",\"\",MAX(AO$1:AO759)+1)","v":""},{"$f":"IF(Deviation_Limits!B782=\"\",\"\",Deviation_Limits!B782)","v":""},{"$f":"IF(Deviation_Limits!C782=\"\",\"\",Deviation_Limits!C782)","v":""},{"$f":"IF(Deviation_Limits!D782=\"\",\"\",Deviation_Limits!D782)","v":""},"",{"$f":"IF(COUNTIF(AQ$2:AQ760,AQ760)=1,AQ760,\"\")","v":""},"","","",null,{"$f":"+IF(BD760=\"\",\"\",MAX(AY$1:AY759)+1)","v":""},{"$f":"IF(Deviation_CEM_CPMS!B782=\"\",\"\",Deviation_CEM_CPMS!B782)","v":""},{"$f":"IF(Deviation_CEM_CPMS!C782=\"\",\"\",Deviation_CEM_CPMS!C782)","v":""},{"$f":"IF(Deviation_CEM_CPMS!D782=\"\",\"\",Deviation_CEM_CPMS!D782)","v":""},"",{"$f":"IF(COUNTIF(BA$2:BA760,BA760)=1,BA760,\"\")","v":""},"","",""]
[null,null,null,null,null,null,null,null,null,null,null,null,null,null,null,null,null,null,null,null,null,null,null,null,null,null,{"$f":"+IF(AE761=\"\",\"\",MAX(AA$1:AA760)+1)","v":""},{"$f":"IF(#REF!=\"\",\"\",#REF!)","v":{"$error":"#REF!"}},{"$f":"IF(#REF!=\"\",\"\",#REF!)","v":{"$error":"#REF!"}},{"$error":"#REF!"},{"$f":"IF(COUNTIF(AC$2:AC761,AC761)=1,AC761,\"\")","v":""},"","",null,null,null,null,null,null,null,{"$f":"+IF(AT761=\"\",\"\",MAX(AO$1:AO760)+1)","v":""},{"$f":"IF(Deviation_Limits!B783=\"\",\"\",Deviation_Limits!B783)","v":""},{"$f":"IF(Deviation_Limits!C783=\"\",\"\",Deviation_Limits!C783)","v":""},{"$f":"IF(Deviation_Limits!D783=\"\",\"\",Deviation_Limits!D783)","v":""},"",{"$f":"IF(COUNTIF(AQ$2:AQ761,AQ761)=1,AQ761,\"\")","v":""},"","","",null,{"$f":"+IF(BD761=\"\",\"\",MAX(AY$1:AY760)+1)","v":""},{"$f":"IF(Deviation_CEM_CPMS!B783=\"\",\"\",Deviation_CEM_CPMS!B783)","v":""},{"$f":"IF(Deviation_CEM_CPMS!C783=\"\",\"\",Deviation_CEM_CPMS!C783)","v":""},{"$f":"IF(Deviation_CEM_CPMS!D783=\"\",\"\",Deviation_CEM_CPMS!D783)","v":""},"",{"$f":"IF(COUNTIF(BA$2:BA761,BA761)=1,BA761,\"\")","v":""},"","",""]
[null,null,null,null,null,null,null,null,null,null,null,null,null,null,null,null,null,null,null,null,null,null,null,null,null,null,{"$f":"+IF(AE762=\"\",\"\",MAX(AA$1:AA761)+1)","v":""},{"$f":"IF(#REF!=\"\",\"\",#REF!)","v":{"$error":"#REF!"}},{"$f":"IF(#REF!=\"\",\"\",#REF!)","v":{"$error":"#REF!"}},{"$error":"#REF!"},{"$f":"IF(COUNTIF(AC$2:AC762,AC762)=1,AC762,\"\")","v":""},"","",null,null,null,null,null,null,null,{"$f":"+IF(AT762=\"\",\"\",MAX(AO$1:AO761)+1)","v":""},{"$f":"IF(Deviation_Limits!B784=\"\",\"\",Deviation_Limits!B784)","v":""},{"$f":"IF(Deviation_Limits!C784=\"\",\"\",Deviation_Limits!C784)","v":""},{"$f":"IF(Deviation_Limits!D784=\"\",\"\",Deviation_Limits!D784)","v":""},"",{"$f":"IF(COUNTIF(AQ$2:AQ762,AQ762)=1,AQ762,\"\")","v":""},"","","",null,{"$f":"+IF(BD762=\"\",\"\",MAX(AY$1:AY761)+1)","v":""},{"$f":"IF(Deviation_CEM_CPMS!B784=\"\",\"\",Deviation_CEM_CPMS!B784)","v":""},{"$f":"IF(Deviation_CEM_CPMS!C784=\"\",\"\",Deviation_CEM_CPMS!C784)","v":""},{"$f":"IF(Deviation_CEM_CPMS!D784=\"\",\"\",Deviation_CEM_CPMS!D784)","v":""},"",{"$f":"IF(COUNTIF(BA$2:BA762,BA762)=1,BA762,\"\")","v":""},"","",""]
[null,null,null,null,null,null,null,null,null,null,null,null,null,null,null,null,null,null,null,null,null,null,null,null,null,null,{"$f":"+IF(AE763=\"\",\"\",MAX(AA$1:AA762)+1)","v":""},{"$f":"IF(#REF!=\"\",\"\",#REF!)","v":{"$error":"#REF!"}},{"$f":"IF(#REF!=\"\",\"\",#REF!)","v":{"$error":"#REF!"}},{"$error":"#REF!"},{"$f":"IF(COUNTIF(AC$2:AC763,AC763)=1,AC763,\"\")","v":""},"","",null,null,null,null,null,null,null,{"$f":"+IF(AT763=\"\",\"\",MAX(AO$1:AO762)+1)","v":""},{"$f":"IF(Deviation_Limits!B785=\"\",\"\",Deviation_Limits!B785)","v":""},{"$f":"IF(Deviation_Limits!C785=\"\",\"\",Deviation_Limits!C785)","v":""},{"$f":"IF(Deviation_Limits!D785=\"\",\"\",Deviation_Limits!D785)","v":""},"",{"$f":"IF(COUNTIF(AQ$2:AQ763,AQ763)=1,AQ763,\"\")","v":""},"","","",null,{"$f":"+IF(BD763=\"\",\"\",MAX(AY$1:AY762)+1)","v":""},{"$f":"IF(Deviation_CEM_CPMS!B785=\"\",\"\",Deviation_CEM_CPMS!B785)","v":""},{"$f":"IF(Deviation_CEM_CPMS!C785=\"\",\"\",Deviation_CEM_CPMS!C785)","v":""},{"$f":"IF(Deviation_CEM_CPMS!D785=\"\",\"\",Deviation_CEM_CPMS!D785)","v":""},"",{"$f":"IF(COUNTIF(BA$2:BA763,BA763)=1,BA763,\"\")","v":""},"","",""]
[null,null,null,null,null,null,null,null,null,null,null,null,null,null,null,null,null,null,null,null,null,null,null,null,null,null,{"$f":"+IF(AE764=\"\",\"\",MAX(AA$1:AA763)+1)","v":""},{"$f":"IF(#REF!=\"\",\"\",#REF!)","v":{"$error":"#REF!"}},{"$f":"IF(#REF!=\"\",\"\",#REF!)","v":{"$error":"#REF!"}},{"$error":"#REF!"},{"$f":"IF(COUNTIF(AC$2:AC764,AC764)=1,AC764,\"\")","v":""},"","",null,null,null,null,null,null,null,{"$f":"+IF(AT764=\"\",\"\",MAX(AO$1:AO763)+1)","v":""},{"$f":"IF(Deviation_Limits!B786=\"\",\"\",Deviation_Limits!B786)","v":""},{"$f":"IF(Deviation_Limits!C786=\"\",\"\",Deviation_Limits!C786)","v":""},{"$f":"IF(Deviation_Limits!D786=\"\",\"\",Deviation_Limits!D786)","v":""},"",{"$f":"IF(COUNTIF(AQ$2:AQ764,AQ764)=1,AQ764,\"\")","v":""},"","","",null,{"$f":"+IF(BD764=\"\",\"\",MAX(AY$1:AY763)+1)","v":""},{"$f":"IF(Deviation_CEM_CPMS!B786=\"\",\"\",Deviation_CEM_CPMS!B786)","v":""},{"$f":"IF(Deviation_CEM_CPMS!C786=\"\",\"\",Deviation_CEM_CPMS!C786)","v":""},{"$f":"IF(Deviation_CEM_CPMS!D786=\"\",\"\",Deviation_CEM_CPMS!D786)","v":""},"",{"$f":"IF(COUNTIF(BA$2:BA764,BA764)=1,BA764,\"\")","v":""},"","",""]
[null,null,null,null,null,null,null,null,null,null,null,null,null,null,null,null,null,null,null,null,null,null,null,null,null,null,{"$f":"+IF(AE765=\"\",\"\",MAX(AA$1:AA764)+1)","v":""},{"$f":"IF(#REF!=\"\",\"\",#REF!)","v":{"$error":"#REF!"}},{"$f":"IF(#REF!=\"\",\"\",#REF!)","v":{"$error":"#REF!"}},{"$error":"#REF!"},{"$f":"IF(COUNTIF(AC$2:AC765,AC765)=1,AC765,\"\")","v":""},"","",null,null,null,null,null,null,null,{"$f":"+IF(AT765=\"\",\"\",MAX(AO$1:AO764)+1)","v":""},{"$f":"IF(Deviation_Limits!B787=\"\",\"\",Deviation_Limits!B787)","v":""},{"$f":"IF(Deviation_Limits!C787=\"\",\"\",Deviation_Limits!C787)","v":""},{"$f":"IF(Deviation_Limits!D787=\"\",\"\",Deviation_Limits!D787)","v":""},"",{"$f":"IF(COUNTIF(AQ$2:AQ765,AQ765)=1,AQ765,\"\")","v":""},"","","",null,{"$f":"+IF(BD765=\"\",\"\",MAX(AY$1:AY764)+1)","v":""},{"$f":"IF(Deviation_CEM_CPMS!B787=\"\",\"\",Deviation_CEM_CPMS!B787)","v":""},{"$f":"IF(Deviation_CEM_CPMS!C787=\"\",\"\",Deviation_CEM_CPMS!C787)","v":""},{"$f":"IF(Deviation_CEM_CPMS!D787=\"\",\"\",Deviation_CEM_CPMS!D787)","v":""},"",{"$f":"IF(COUNTIF(BA$2:BA765,BA765)=1,BA765,\"\")","v":""},"","",""]
[null,null,null,null,null,null,null,null,null,null,null,null,null,null,null,null,null,null,null,null,null,null,null,null,null,null,{"$f":"+IF(AE766=\"\",\"\",MAX(AA$1:AA765)+1)","v":""},{"$f":"IF(#REF!=\"\",\"\",#REF!)","v":{"$error":"#REF!"}},{"$f":"IF(#REF!=\"\",\"\",#REF!)","v":{"$error":"#REF!"}},{"$error":"#REF!"},{"$f":"IF(COUNTIF(AC$2:AC766,AC766)=1,AC766,\"\")","v":""},"","",null,null,null,null,null,null,null,{"$f":"+IF(AT766=\"\",\"\",MAX(AO$1:AO765)+1)","v":""},{"$f":"IF(Deviation_Limits!B788=\"\",\"\",Deviation_Limits!B788)","v":""},{"$f":"IF(Deviation_Limits!C788=\"\",\"\",Deviation_Limits!C788)","v":""},{"$f":"IF(Deviation_Limits!D788=\"\",\"\",Deviation_Limits!D788)","v":""},"",{"$f":"IF(COUNTIF(AQ$2:AQ766,AQ766)=1,AQ766,\"\")","v":""},"","","",null,{"$f":"+IF(BD766=\"\",\"\",MAX(AY$1:AY765)+1)","v":""},{"$f":"IF(Deviation_CEM_CPMS!B788=\"\",\"\",Deviation_CEM_CPMS!B788)","v":""},{"$f":"IF(Deviation_CEM_CPMS!C788=\"\",\"\",Deviation_CEM_CPMS!C788)","v":""},{"$f":"IF(Deviation_CEM_CPMS!D788=\"\",\"\",Deviation_CEM_CPMS!D788)","v":""},"",{"$f":"IF(COUNTIF(BA$2:BA766,BA766)=1,BA766,\"\")","v":""},"","",""]
[null,null,null,null,null,null,null,null,null,null,null,null,null,null,null,null,null,null,null,null,null,null,null,null,null,null,{"$f":"+IF(AE767=\"\",\"\",MAX(AA$1:AA766)+1)","v":""},{"$f":"IF(#REF!=\"\",\"\",#REF!)","v":{"$error":"#REF!"}},{"$f":"IF(#REF!=\"\",\"\",#REF!)","v":{"$error":"#REF!"}},{"$error":"#REF!"},{"$f":"IF(COUNTIF(AC$2:AC767,AC767)=1,AC767,\"\")","v":""},"","",null,null,null,null,null,null,null,{"$f":"+IF(AT767=\"\",\"\",MAX(AO$1:AO766)+1)","v":""},{"$f":"IF(Deviation_Limits!B789=\"\",\"\",Deviation_Limits!B789)","v":""},{"$f":"IF(Deviation_Limits!C789=\"\",\"\",Deviation_Limits!C789)","v":""},{"$f":"IF(Deviation_Limits!D789=\"\",\"\",Deviation_Limits!D789)","v":""},"",{"$f":"IF(COUNTIF(AQ$2:AQ767,AQ767)=1,AQ767,\"\")","v":""},"","","",null,{"$f":"+IF(BD767=\"\",\"\",MAX(AY$1:AY766)+1)","v":""},{"$f":"IF(Deviation_CEM_CPMS!B789=\"\",\"\",Deviation_CEM_CPMS!B789)","v":""},{"$f":"IF(Deviation_CEM_CPMS!C789=\"\",\"\",Deviation_CEM_CPMS!C789)","v":""},{"$f":"IF(Deviation_CEM_CPMS!D789=\"\",\"\",Deviation_CEM_CPMS!D789)","v":""},"",{"$f":"IF(COUNTIF(BA$2:BA767,BA767)=1,BA767,\"\")","v":""},"","",""]
[null,null,null,null,null,null,null,null,null,null,null,null,null,null,null,null,null,null,null,null,null,null,null,null,null,null,{"$f":"+IF(AE768=\"\",\"\",MAX(AA$1:AA767)+1)","v":""},{"$f":"IF(#REF!=\"\",\"\",#REF!)","v":{"$error":"#REF!"}},{"$f":"IF(#REF!=\"\",\"\",#REF!)","v":{"$error":"#REF!"}},{"$error":"#REF!"},{"$f":"IF(COUNTIF(AC$2:AC768,AC768)=1,AC768,\"\")","v":""},"","",null,null,null,null,null,null,null,{"$f":"+IF(AT768=\"\",\"\",MAX(AO$1:AO767)+1)","v":""},{"$f":"IF(Deviation_Limits!B790=\"\",\"\",Deviation_Limits!B790)","v":""},{"$f":"IF(Deviation_Limits!C790=\"\",\"\",Deviation_Limits!C790)","v":""},{"$f":"IF(Deviation_Limits!D790=\"\",\"\",Deviation_Limits!D790)","v":""},"",{"$f":"IF(COUNTIF(AQ$2:AQ768,AQ768)=1,AQ768,\"\")","v":""},"","","",null,{"$f":"+IF(BD768=\"\",\"\",MAX(AY$1:AY767)+1)","v":""},{"$f":"IF(Deviation_CEM_CPMS!B790=\"\",\"\",Deviation_CEM_CPMS!B790)","v":""},{"$f":"IF(Deviation_CEM_CPMS!C790=\"\",\"\",Deviation_CEM_CPMS!C790)","v":""},{"$f":"IF(Deviation_CEM_CPMS!D790=\"\",\"\",Deviation_CEM_CPMS!D790)","v":""},"",{"$f":"IF(COUNTIF(BA$2:BA768,BA768)=1,BA768,\"\")","v":""},"","",""]
[null,null,null,null,null,null,null,null,null,null,null,null,null,null,null,null,null,null,null,null,null,null,null,null,null,null,{"$f":"+IF(AE769=\"\",\"\",MAX(AA$1:AA768)+1)","v":""},{"$f":"IF(#REF!=\"\",\"\",#REF!)","v":{"$error":"#REF!"}},{"$f":"IF(#REF!=\"\",\"\",#REF!)","v":{"$error":"#REF!"}},{"$error":"#REF!"},{"$f":"IF(COUNTIF(AC$2:AC769,AC769)=1,AC769,\"\")","v":""},"","",null,null,null,null,null,null,null,{"$f":"+IF(AT769=\"\",\"\",MAX(AO$1:AO768)+1)","v":""},{"$f":"IF(Deviation_Limits!B791=\"\",\"\",Deviation_Limits!B791)","v":""},{"$f":"IF(Deviation_Limits!C791=\"\",\"\",Deviation_Limits!C791)","v":""},{"$f":"IF(Deviation_Limits!D791=\"\",\"\",Deviation_Limits!D791)","v":""},"",{"$f":"IF(COUNTIF(AQ$2:AQ769,AQ769)=1,AQ769,\"\")","v":""},"","","",null,{"$f":"+IF(BD769=\"\",\"\",MAX(AY$1:AY768)+1)","v":""},{"$f":"IF(Deviation_CEM_CPMS!B791=\"\",\"\",Deviation_CEM_CPMS!B791)","v":""},{"$f":"IF(Deviation_CEM_CPMS!C791=\"\",\"\",Deviation_CEM_CPMS!C791)","v":""},{"$f":"IF(Deviation_CEM_CPMS!D791=\"\",\"\",Deviation_CEM_CPMS!D791)","v":""},"",{"$f":"IF(COUNTIF(BA$2:BA769,BA769)=1,BA769,\"\")","v":""},"","",""]
[null,null,null,null,null,null,null,null,null,null,null,null,null,null,null,null,null,null,null,null,null,null,null,null,null,null,{"$f":"+IF(AE770=\"\",\"\",MAX(AA$1:AA769)+1)","v":""},{"$f":"IF(#REF!=\"\",\"\",#REF!)","v":{"$error":"#REF!"}},{"$f":"IF(#REF!=\"\",\"\",#REF!)","v":{"$error":"#REF!"}},{"$error":"#REF!"},{"$f":"IF(COUNTIF(AC$2:AC770,AC770)=1,AC770,\"\")","v":""},"","",null,null,null,null,null,null,null,{"$f":"+IF(AT770=\"\",\"\",MAX(AO$1:AO769)+1)","v":""},{"$f":"IF(Deviation_Limits!B792=\"\",\"\",Deviation_Limits!B792)","v":""},{"$f":"IF(Deviation_Limits!C792=\"\",\"\",Deviation_Limits!C792)","v":""},{"$f":"IF(Deviation_Limits!D792=\"\",\"\",Deviation_Limits!D792)","v":""},"",{"$f":"IF(COUNTIF(AQ$2:AQ770,AQ770)=1,AQ770,\"\")","v":""},"","","",null,{"$f":"+IF(BD770=\"\",\"\",MAX(AY$1:AY769)+1)","v":""},{"$f":"IF(Deviation_CEM_CPMS!B792=\"\",\"\",Deviation_CEM_CPMS!B792)","v":""},{"$f":"IF(Deviation_CEM_CPMS!C792=\"\",\"\",Deviation_CEM_CPMS!C792)","v":""},{"$f":"IF(Deviation_CEM_CPMS!D792=\"\",\"\",Deviation_CEM_CPMS!D792)","v":""},{"$f":"+AZ770&BA770&BB770","v":""},{"$f":"IF(COUNTIF(BA$2:BA770,BA770)=1,BA770,\"\")","v":""},{"$f":"+IFERROR(INDEX(AZ$2:AZ$500,MATCH(ROW()-ROW(BE$1),$AA$2:$AA$500,0)),\"\")","v":""},{"$f":"+IFERROR(INDEX(BA$2:BA$500,MATCH(ROW()-ROW(BE$1),$AA$2:$AA$500,0)),\"\")","v":""},{"$f":"+IFERROR(INDEX(BB$2:BB$500,MATCH(ROW()-ROW(BE$1),$AA$2:$AA$500,0)),\"\")","v":""}]
[null,null,null,null,null,null,null,null,null,null,null,null,null,null,null,null,null,null,null,null,null,null,null,null,null,null,{"$f":"+IF(AE771=\"\",\"\",MAX(AA$1:AA770)+1)","v":""},{"$f":"IF(#REF!=\"\",\"\",#REF!)","v":{"$error":"#REF!"}},{"$f":"IF(#REF!=\"\",\"\",#REF!)","v":{"$error":"#REF!"}},{"$error":"#REF!"},{"$f":"IF(COUNTIF(AC$2:AC771,AC771)=1,AC771,\"\")","v":""},{"$f":"+IFERROR(INDEX(AB$2:AB$500,MATCH(ROW()-ROW($AF$1),$AA$2:$AA$500,0)),\"\")","v":""},{"$f":"+IFERROR(INDEX(AC$2:AC$500,MATCH(ROW()-ROW($AF$1),$AA$2:$AA$500,0)),\"\")","v":""},null,null,null,null,null,null,null,{"$f":"+IF(AT771=\"\",\"\",MAX(AO$1:AO770)+1)","v":""},{"$f":"IF(Deviation_Limits!B793=\"\",\"\",Deviation_Limits!B793)","v":""},{"$f":"IF(Deviation_Limits!C793=\"\",\"\",Deviation_Limits!C793)","v":""},{"$f":"IF(Deviation_Limits!D793=\"\",\"\",Deviation_Limits!D793)","v":""},{"$f":"+AP771&AQ771&C771","v":""},{"$f":"IF(COUNTIF(AQ$2:AQ771,AQ771)=1,AQ771,\"\")","v":""},{"$f":"+IFERROR(INDEX(AP$2:AP$500,MATCH(ROW()-ROW(AU$1),$AA$2:$AA$500,0)),\"\")","v":""},{"$f":"+IFERROR(INDEX(AQ$2:AQ$500,MATCH(ROW()-ROW(AU$1),$AA$2:$AA$500,0)),\"\")","v":""},{"$f":"+IFERROR(INDEX(AR$2:AR$500,MATCH(ROW()-ROW(AU$1),$AA$2:$AA$500,0)),\"\")","v":""},null,{"$f":"+IF(BD771=\"\",\"\",MAX(AY$1:AY770)+1)","v":""},{"$f":"IF(Deviation_CEM_CPMS!B793=\"\",\"\",Deviation_CEM_CPMS!B793)","v":""},{"$f":"IF(Deviation_CEM_CPMS!C793=\"\",\"\",Deviation_CEM_CPMS!C793)","v":""},{"$f":"IF(Deviation_CEM_CPMS!D793=\"\",\"\",Deviation_CEM_CPMS!D793)","v":""},"",{"$f":"IF(COUNTIF(BA$2:BA771,BA771)=1,BA771,\"\")","v":""},"","",""]
[null,null,null,null,null,null,null,null,null,null,null,null,null,null,null,null,null,null,null,null,null,null,null,null,null,null,{"$f":"+IF(AE772=\"\",\"\",MAX(AA$1:AA771)+1)","v":""},{"$f":"IF(#REF!=\"\",\"\",#REF!)","v":{"$error":"#REF!"}},{"$f":"IF(#REF!=\"\",\"\",#REF!)","v":{"$error":"#REF!"}},{"$error":"#REF!"},{"$f":"IF(COUNTIF(AC$2:AC772,AC772)=1,AC772,\"\")","v":""},"","",null,null,null,null,null,null,null,{"$f":"+IF(AT772=\"\",\"\",MAX(AO$1:AO771)+1)","v":""},{"$f":"IF(Deviation_Limits!B794=\"\",\"\",Deviation_Limits!B794)","v":""},{"$f":"IF(Deviation_Limits!C794=\"\",\"\",Deviation_Limits!C794)","v":""},{"$f":"IF(Deviation_Limits!D794=\"\",\"\",Deviation_Limits!D794)","v":""},"",{"$f":"IF(COUNTIF(AQ$2:AQ772,AQ772)=1,AQ772,\"\")","v":""},"","","",null,{"$f":"+IF(BD772=\"\",\"\",MAX(AY$1:AY771)+1)","v":""},{"$f":"IF(Deviation_CEM_CPMS!B794=\"\",\"\",Deviation_CEM_CPMS!B794)","v":""},{"$f":"IF(Deviation_CEM_CPMS!C794=\"\",\"\",Deviation_CEM_CPMS!C794)","v":""},{"$f":"IF(Deviation_CEM_CPMS!D794=\"\",\"\",Deviation_CEM_CPMS!D794)","v":""},"",{"$f":"IF(COUNTIF(BA$2:BA772,BA772)=1,BA772,\"\")","v":""},"","",""]
[null,null,null,null,null,null,null,null,null,null,null,null,null,null,null,null,null,null,null,null,null,null,null,null,null,null,{"$f":"+IF(AE773=\"\",\"\",MAX(AA$1:AA772)+1)","v":""},{"$f":"IF(#REF!=\"\",\"\",#REF!)","v":{"$error":"#REF!"}},{"$f":"IF(#REF!=\"\",\"\",#REF!)","v":{"$error":"#REF!"}},{"$error":"#REF!"},{"$f":"IF(COUNTIF(AC$2:AC773,AC773)=1,AC773,\"\")","v":""},"","",null,null,null,null,null,null,null,{"$f":"+IF(AT773=\"\",\"\",MAX(AO$1:AO772)+1)","v":""},{"$f":"IF(Deviation_Limits!B795=\"\",\"\",Deviation_Limits!B795)","v":""},{"$f":"IF(Deviation_Limits!C795=\"\",\"\",Deviation_Limits!C795)","v":""},{"$f":"IF(Deviation_Limits!D795=\"\",\"\",Deviation_Limits!D795)","v":""},"",{"$f":"IF(COUNTIF(AQ$2:AQ773,AQ773)=1,AQ773,\"\")","v":""},"","","",null,{"$f":"+IF(BD773=\"\",\"\",MAX(AY$1:AY772)+1)","v":""},{"$f":"IF(Deviation_CEM_CPMS!B795=\"\",\"\",Deviation_CEM_CPMS!B795)","v":""},{"$f":"IF(Deviation_CEM_CPMS!C795=\"\",\"\",Deviation_CEM_CPMS!C795)","v":""},{"$f":"IF(Deviation_CEM_CPMS!D795=\"\",\"\",Deviation_CEM_CPMS!D795)","v":""},"",{"$f":"IF(COUNTIF(BA$2:BA773,BA773)=1,BA773,\"\")","v":""},"","",""]
[null,null,null,null,null,null,null,null,null,null,null,null,null,null,null,null,null,null,null,null,null,null,null,null,null,null,{"$f":"+IF(AE774=\"\",\"\",MAX(AA$1:AA773)+1)","v":""},{"$f":"IF(#REF!=\"\",\"\",#REF!)","v":{"$error":"#REF!"}},{"$f":"IF(#REF!=\"\",\"\",#REF!)","v":{"$error":"#REF!"}},{"$error":"#REF!"},{"$f":"IF(COUNTIF(AC$2:AC774,AC774)=1,AC774,\"\")","v":""},"","",null,null,null,null,null,null,null,{"$f":"+IF(AT774=\"\",\"\",MAX(AO$1:AO773)+1)","v":""},{"$f":"IF(Deviation_Limits!B796=\"\",\"\",Deviation_Limits!B796)","v":""},{"$f":"IF(Deviation_Limits!C796=\"\",\"\",Deviation_Limits!C796)","v":""},{"$f":"IF(Deviation_Limits!D796=\"\",\"\",Deviation_Limits!D796)","v":""},"",{"$f":"IF(COUNTIF(AQ$2:AQ774,AQ774)=1,AQ774,\"\")","v":""},"","","",null,{"$f":"+IF(BD774=\"\",\"\",MAX(AY$1:AY773)+1)","v":""},{"$f":"IF(Deviation_CEM_CPMS!B796=\"\",\"\",Deviation_CEM_CPMS!B796)","v":""},{"$f":"IF(Deviation_CEM_CPMS!C796=\"\",\"\",Deviation_CEM_CPMS!C796)","v":""},{"$f":"IF(Deviation_CEM_CPMS!D796=\"\",\"\",Deviation_CEM_CPMS!D796)","v":""},"",{"$f":"IF(COUNTIF(BA$2:BA774,BA774)=1,BA774,\"\")","v":""},"","",""]
[null,null,null,null,null,null,null,null,null,null,null,null,null,null,null,null,null,null,null,null,null,null,null,null,null,null,{"$f":"+IF(AE775=\"\",\"\",MAX(AA$1:AA774)+1)","v":""},{"$f":"IF(#REF!=\"\",\"\",#REF!)","v":{"$error":"#REF!"}},{"$f":"IF(#REF!=\"\",\"\",#REF!)","v":{"$error":"#REF!"}},{"$error":"#REF!"},{"$f":"IF(COUNTIF(AC$2:AC775,AC775)=1,AC775,\"\")","v":""},"","",null,null,null,null,null,null,null,{"$f":"+IF(AT775=\"\",\"\",MAX(AO$1:AO774)+1)","v":""},{"$f":"IF(Deviation_Limits!B797=\"\",\"\",Deviation_Limits!B797)","v":""},{"$f":"IF(Deviation_Limits!C797=\"\",\"\",Deviation_Limits!C797)","v":""},{"$f":"IF(Deviation_Limits!D797=\"\",\"\",Deviation_Limits!D797)","v":""},"",{"$f":"IF(COUNTIF(AQ$2:AQ775,AQ775)=1,AQ775,\"\")","v":""},"","","",null,{"$f":"+IF(BD775=\"\",\"\",MAX(AY$1:AY774)+1)","v":""},{"$f":"IF(Deviation_CEM_CPMS!B797=\"\",\"\",Deviation_CEM_CPMS!B797)","v":""},{"$f":"IF(Deviation_CEM_CPMS!C797=\"\",\"\",Deviation_CEM_CPMS!C797)","v":""},{"$f":"IF(Deviation_CEM_CPMS!D797=\"\",\"\",Deviation_CEM_CPMS!D797)","v":""},"",{"$f":"IF(COUNTIF(BA$2:BA775,BA775)=1,BA775,\"\")","v":""},"","",""]
[null,null,null,null,null,null,null,null,null,null,null,null,null,null,null,null,null,null,null,null,null,null,null,null,null,null,{"$f":"+IF(AE776=\"\",\"\",MAX(AA$1:AA775)+1)","v":""},{"$f":"IF(#REF!=\"\",\"\",#REF!)","v":{"$error":"#REF!"}},{"$f":"IF(#REF!=\"\",\"\",#REF!)","v":{"$error":"#REF!"}},{"$error":"#REF!"},{"$f":"IF(COUNTIF(AC$2:AC776,AC776)=1,AC776,\"\")","v":""},"","",null,null,null,null,null,null,null,{"$f":"+IF(AT776=\"\",\"\",MAX(AO$1:AO775)+1)","v":""},{"$f":"IF(Deviation_Limits!B798=\"\",\"\",Deviation_Limits!B798)","v":""},{"$f":"IF(Deviation_Limits!C798=\"\",\"\",Deviation_Limits!C798)","v":""},{"$f":"IF(Deviation_Limits!D798=\"\",\"\",Deviation_Limits!D798)","v":""},"",{"$f":"IF(COUNTIF(AQ$2:AQ776,AQ776)=1,AQ776,\"\")","v":""},"","","",null,{"$f":"+IF(BD776=\"\",\"\",MAX(AY$1:AY775)+1)","v":""},{"$f":"IF(Deviation_CEM_CPMS!B798=\"\",\"\",Deviation_CEM_CPMS!B798)","v":""},{"$f":"IF(Deviation_CEM_CPMS!C798=\"\",\"\",Deviation_CEM_CPMS!C798)","v":""},{"$f":"IF(Deviation_CEM_CPMS!D798=\"\",\"\",Deviation_CEM_CPMS!D798)","v":""},"",{"$f":"IF(COUNTIF(BA$2:BA776,BA776)=1,BA776,\"\")","v":""},"","",""]
[null,null,null,null,null,null,null,null,null,null,null,null,null,null,null,null,null,null,null,null,null,null,null,null,null,null,{"$f":"+IF(AE777=\"\",\"\",MAX(AA$1:AA776)+1)","v":""},{"$f":"IF(#REF!=\"\",\"\",#REF!)","v":{"$error":"#REF!"}},{"$f":"IF(#REF!=\"\",\"\",#REF!)","v":{"$error":"#REF!"}},{"$error":"#REF!"},{"$f":"IF(COUNTIF(AC$2:AC777,AC777)=1,AC777,\"\")","v":""},"","",null,null,null,null,null,null,null,{"$f":"+IF(AT777=\"\",\"\",MAX(AO$1:AO776)+1)","v":""},{"$f":"IF(Deviation_Limits!B799=\"\",\"\",Deviation_Limits!B799)","v":""},{"$f":"IF(Deviation_Limits!C799=\"\",\"\",Deviation_Limits!C799)","v":""},{"$f":"IF(Deviation_Limits!D799=\"\",\"\",Deviation_Limits!D799)","v":""},"",{"$f":"IF(COUNTIF(AQ$2:AQ777,AQ777)=1,AQ777,\"\")","v":""},"","","",null,{"$f":"+IF(BD777=\"\",\"\",MAX(AY$1:AY776)+1)","v":""},{"$f":"IF(Deviation_CEM_CPMS!B799=\"\",\"\",Deviation_CEM_CPMS!B799)","v":""},{"$f":"IF(Deviation_CEM_CPMS!C799=\"\",\"\",Deviation_CEM_CPMS!C799)","v":""},{"$f":"IF(Deviation_CEM_CPMS!D799=\"\",\"\",Deviation_CEM_CPMS!D799)","v":""},"",{"$f":"IF(COUNTIF(BA$2:BA777,BA777)=1,BA777,\"\")","v":""},"","",""]
[null,null,null,null,null,null,null,null,null,null,null,null,null,null,null,null,null,null,null,null,null,null,null,null,null,null,{"$f":"+IF(AE778=\"\",\"\",MAX(AA$1:AA777)+1)","v":""},{"$f":"IF(#REF!=\"\",\"\",#REF!)","v":{"$error":"#REF!"}},{"$f":"IF(#REF!=\"\",\"\",#REF!)","v":{"$error":"#REF!"}},{"$error":"#REF!"},{"$f":"IF(COUNTIF(AC$2:AC778,AC778)=1,AC778,\"\")","v":""},"","",null,null,null,null,null,null,null,{"$f":"+IF(AT778=\"\",\"\",MAX(AO$1:AO777)+1)","v":""},{"$f":"IF(Deviation_Limits!B800=\"\",\"\",Deviation_Limits!B800)","v":""},{"$f":"IF(Deviation_Limits!C800=\"\",\"\",Deviation_Limits!C800)","v":""},{"$f":"IF(Deviation_Limits!D800=\"\",\"\",Deviation_Limits!D800)","v":""},"",{"$f":"IF(COUNTIF(AQ$2:AQ778,AQ778)=1,AQ778,\"\")","v":""},"","","",null,{"$f":"+IF(BD778=\"\",\"\",MAX(AY$1:AY777)+1)","v":""},{"$f":"IF(Deviation_CEM_CPMS!B800=\"\",\"\",Deviation_CEM_CPMS!B800)","v":""},{"$f":"IF(Deviation_CEM_CPMS!C800=\"\",\"\",Deviation_CEM_CPMS!C800)","v":""},{"$f":"IF(Deviation_CEM_CPMS!D800=\"\",\"\",Deviation_CEM_CPMS!D800)","v":""},"",{"$f":"IF(COUNTIF(BA$2:BA778,BA778)=1,BA778,\"\")","v":""},"","",""]
[null,null,null,null,null,null,null,null,null,null,null,null,null,null,null,null,null,null,null,null,null,null,null,null,null,null,{"$f":"+IF(AE779=\"\",\"\",MAX(AA$1:AA778)+1)","v":""},{"$f":"IF(#REF!=\"\",\"\",#REF!)","v":{"$error":"#REF!"}},{"$f":"IF(#REF!=\"\",\"\",#REF!)","v":{"$error":"#REF!"}},{"$error":"#REF!"},{"$f":"IF(COUNTIF(AC$2:AC779,AC779)=1,AC779,\"\")","v":""},"","",null,null,null,null,null,null,null,{"$f":"+IF(AT779=\"\",\"\",MAX(AO$1:AO778)+1)","v":""},{"$f":"IF(Deviation_Limits!B801=\"\",\"\",Deviation_Limits!B801)","v":""},{"$f":"IF(Deviation_Limits!C801=\"\",\"\",Deviation_Limits!C801)","v":""},{"$f":"IF(Deviation_Limits!D801=\"\",\"\",Deviation_Limits!D801)","v":""},"",{"$f":"IF(COUNTIF(AQ$2:AQ779,AQ779)=1,AQ779,\"\")","v":""},"","","",null,{"$f":"+IF(BD779=\"\",\"\",MAX(AY$1:AY778)+1)","v":""},{"$f":"IF(Deviation_CEM_CPMS!B801=\"\",\"\",Deviation_CEM_CPMS!B801)","v":""},{"$f":"IF(Deviation_CEM_CPMS!C801=\"\",\"\",Deviation_CEM_CPMS!C801)","v":""},{"$f":"IF(Deviation_CEM_CPMS!D801=\"\",\"\",Deviation_CEM_CPMS!D801)","v":""},"",{"$f":"IF(COUNTIF(BA$2:BA779,BA779)=1,BA779,\"\")","v":""},"","",""]
[null,null,null,null,null,null,null,null,null,null,null,null,null,null,null,null,null,null,null,null,null,null,null,null,null,null,{"$f":"+IF(AE780=\"\",\"\",MAX(AA$1:AA779)+1)","v":""},{"$f":"IF(#REF!=\"\",\"\",#REF!)","v":{"$error":"#REF!"}},{"$f":"IF(#REF!=\"\",\"\",#REF!)","v":{"$error":"#REF!"}},{"$error":"#REF!"},{"$f":"IF(COUNTIF(AC$2:AC780,AC780)=1,AC780,\"\")","v":""},"","",null,null,null,null,null,null,null,{"$f":"+IF(AT780=\"\",\"\",MAX(AO$1:AO779)+1)","v":""},{"$f":"IF(Deviation_Limits!B802=\"\",\"\",Deviation_Limits!B802)","v":""},{"$f":"IF(Deviation_Limits!C802=\"\",\"\",Deviation_Limits!C802)","v":""},{"$f":"IF(Deviation_Limits!D802=\"\",\"\",Deviation_Limits!D802)","v":""},"",{"$f":"IF(COUNTIF(AQ$2:AQ780,AQ780)=1,AQ780,\"\")","v":""},"","","",null,{"$f":"+IF(BD780=\"\",\"\",MAX(AY$1:AY779)+1)","v":""},{"$f":"IF(Deviation_CEM_CPMS!B802=\"\",\"\",Deviation_CEM_CPMS!B802)","v":""},{"$f":"IF(Deviation_CEM_CPMS!C802=\"\",\"\",Deviation_CEM_CPMS!C802)","v":""},{"$f":"IF(Deviation_CEM_CPMS!D802=\"\",\"\",Deviation_CEM_CPMS!D802)","v":""},"",{"$f":"IF(COUNTIF(BA$2:BA780,BA780)=1,BA780,\"\")","v":""},"","",""]
[null,null,null,null,null,null,null,null,null,null,null,null,null,null,null,null,null,null,null,null,null,null,null,null,null,null,{"$f":"+IF(AE781=\"\",\"\",MAX(AA$1:AA780)+1)","v":""},{"$f":"IF(#REF!=\"\",\"\",#REF!)","v":{"$error":"#REF!"}},{"$f":"IF(#REF!=\"\",\"\",#REF!)","v":{"$error":"#REF!"}},{"$error":"#REF!"},{"$f":"IF(COUNTIF(AC$2:AC781,AC781)=1,AC781,\"\")","v":""},"","",null,null,null,null,null,null,null,{"$f":"+IF(AT781=\"\",\"\",MAX(AO$1:AO780)+1)","v":""},{"$f":"IF(Deviation_Limits!B803=\"\",\"\",Deviation_Limits!B803)","v":""},{"$f":"IF(Deviation_Limits!C803=\"\",\"\",Deviation_Limits!C803)","v":""},{"$f":"IF(Deviation_Limits!D803=\"\",\"\",Deviation_Limits!D803)","v":""},"",{"$f":"IF(COUNTIF(AQ$2:AQ781,AQ781)=1,AQ781,\"\")","v":""},"","","",null,{"$f":"+IF(BD781=\"\",\"\",MAX(AY$1:AY780)+1)","v":""},{"$f":"IF(Deviation_CEM_CPMS!B803=\"\",\"\",Deviation_CEM_CPMS!B803)","v":""},{"$f":"IF(Deviation_CEM_CPMS!C803=\"\",\"\",Deviation_CEM_CPMS!C803)","v":""},{"$f":"IF(Deviation_CEM_CPMS!D803=\"\",\"\",Deviation_CEM_CPMS!D803)","v":""},"",{"$f":"IF(COUNTIF(BA$2:BA781,BA781)=1,BA781,\"\")","v":""},"","",""]
[null,null,null,null,null,null,null,null,null,null,null,null,null,null,null,null,null,null,null,null,null,null,null,null,null,null,{"$f":"+IF(AE782=\"\",\"\",MAX(AA$1:AA781)+1)","v":""},{"$f":"IF(#REF!=\"\",\"\",#REF!)","v":{"$error":"#REF!"}},{"$f":"IF(#REF!=\"\",\"\",#REF!)","v":{"$error":"#REF!"}},{"$error":"#REF!"},{"$f":"IF(COUNTIF(AC$2:AC782,AC782)=1,AC782,\"\")","v":""},"","",null,null,null,null,null,null,null,{"$f":"+IF(AT782=\"\",\"\",MAX(AO$1:AO781)+1)","v":""},{"$f":"IF(Deviation_Limits!B804=\"\",\"\",Deviation_Limits!B804)","v":""},{"$f":"IF(Deviation_Limits!C804=\"\",\"\",Deviation_Limits!C804)","v":""},{"$f":"IF(Deviation_Limits!D804=\"\",\"\",Deviation_Limits!D804)","v":""},"",{"$f":"IF(COUNTIF(AQ$2:AQ782,AQ782)=1,AQ782,\"\")","v":""},"","","",null,{"$f":"+IF(BD782=\"\",\"\",MAX(AY$1:AY781)+1)","v":""},{"$f":"IF(Deviation_CEM_CPMS!B804=\"\",\"\",Deviation_CEM_CPMS!B804)","v":""},{"$f":"IF(Deviation_CEM_CPMS!C804=\"\",\"\",Deviation_CEM_CPMS!C804)","v":""},{"$f":"IF(Deviation_CEM_CPMS!D804=\"\",\"\",Deviation_CEM_CPMS!D804)","v":""},"",{"$f":"IF(COUNTIF(BA$2:BA782,BA782)=1,BA782,\"\")","v":""},"","",""]
[null,null,null,null,null,null,null,null,null,null,null,null,null,null,null,null,null,null,null,null,null,null,null,null,null,null,{"$f":"+IF(AE783=\"\",\"\",MAX(AA$1:AA782)+1)","v":""},{"$f":"IF(#REF!=\"\",\"\",#REF!)","v":{"$error":"#REF!"}},{"$f":"IF(#REF!=\"\",\"\",#REF!)","v":{"$error":"#REF!"}},{"$error":"#REF!"},{"$f":"IF(COUNTIF(AC$2:AC783,AC783)=1,AC783,\"\")","v":""},"","",null,null,null,null,null,null,null,{"$f":"+IF(AT783=\"\",\"\",MAX(AO$1:AO782)+1)","v":""},{"$f":"IF(Deviation_Limits!B805=\"\",\"\",Deviation_Limits!B805)","v":""},{"$f":"IF(Deviation_Limits!C805=\"\",\"\",Deviation_Limits!C805)","v":""},{"$f":"IF(Deviation_Limits!D805=\"\",\"\",Deviation_Limits!D805)","v":""},"",{"$f":"IF(COUNTIF(AQ$2:AQ783,AQ783)=1,AQ783,\"\")","v":""},"","","",null,{"$f":"+IF(BD783=\"\",\"\",MAX(AY$1:AY782)+1)","v":""},{"$f":"IF(Deviation_CEM_CPMS!B805=\"\",\"\",Deviation_CEM_CPMS!B805)","v":""},{"$f":"IF(Deviation_CEM_CPMS!C805=\"\",\"\",Deviation_CEM_CPMS!C805)","v":""},{"$f":"IF(Deviation_CEM_CPMS!D805=\"\",\"\",Deviation_CEM_CPMS!D805)","v":""},"",{"$f":"IF(COUNTIF(BA$2:BA783,BA783)=1,BA783,\"\")","v":""},"","",""]
[null,null,null,null,null,null,null,null,null,null,null,null,null,null,null,null,null,null,null,null,null,null,null,null,null,null,{"$f":"+IF(AE784=\"\",\"\",MAX(AA$1:AA783)+1)","v":""},{"$f":"IF(#REF!=\"\",\"\",#REF!)","v":{"$error":"#REF!"}},{"$f":"IF(#REF!=\"\",\"\",#REF!)","v":{"$error":"#REF!"}},{"$error":"#REF!"},{"$f":"IF(COUNTIF(AC$2:AC784,AC784)=1,AC784,\"\")","v":""},"","",null,null,null,null,null,null,null,{"$f":"+IF(AT784=\"\",\"\",MAX(AO$1:AO783)+1)","v":""},{"$f":"IF(Deviation_Limits!B806=\"\",\"\",Deviation_Limits!B806)","v":""},{"$f":"IF(Deviation_Limits!C806=\"\",\"\",Deviation_Limits!C806)","v":""},{"$f":"IF(Deviation_Limits!D806=\"\",\"\",Deviation_Limits!D806)","v":""},"",{"$f":"IF(COUNTIF(AQ$2:AQ784,AQ784)=1,AQ784,\"\")","v":""},"","","",null,{"$f":"+IF(BD784=\"\",\"\",MAX(AY$1:AY783)+1)","v":""},{"$f":"IF(Deviation_CEM_CPMS!B806=\"\",\"\",Deviation_CEM_CPMS!B806)","v":""},{"$f":"IF(Deviation_CEM_CPMS!C806=\"\",\"\",Deviation_CEM_CPMS!C806)","v":""},{"$f":"IF(Deviation_CEM_CPMS!D806=\"\",\"\",Deviation_CEM_CPMS!D806)","v":""},"",{"$f":"IF(COUNTIF(BA$2:BA784,BA784)=1,BA784,\"\")","v":""},"","",""]
[null,null,null,null,null,null,null,null,null,null,null,null,null,null,null,null,null,null,null,null,null,null,null,null,null,null,{"$f":"+IF(AE785=\"\",\"\",MAX(AA$1:AA784)+1)","v":""},{"$f":"IF(#REF!=\"\",\"\",#REF!)","v":{"$error":"#REF!"}},{"$f":"IF(#REF!=\"\",\"\",#REF!)","v":{"$error":"#REF!"}},{"$error":"#REF!"},{"$f":"IF(COUNTIF(AC$2:AC785,AC785)=1,AC785,\"\")","v":""},"","",null,null,null,null,null,null,null,{"$f":"+IF(AT785=\"\",\"\",MAX(AO$1:AO784)+1)","v":""},{"$f":"IF(Deviation_Limits!B807=\"\",\"\",Deviation_Limits!B807)","v":""},{"$f":"IF(Deviation_Limits!C807=\"\",\"\",Deviation_Limits!C807)","v":""},{"$f":"IF(Deviation_Limits!D807=\"\",\"\",Deviation_Limits!D807)","v":""},"",{"$f":"IF(COUNTIF(AQ$2:AQ785,AQ785)=1,AQ785,\"\")","v":""},"","","",null,{"$f":"+IF(BD785=\"\",\"\",MAX(AY$1:AY784)+1)","v":""},{"$f":"IF(Deviation_CEM_CPMS!B807=\"\",\"\",Deviation_CEM_CPMS!B807)","v":""},{"$f":"IF(Deviation_CEM_CPMS!C807=\"\",\"\",Deviation_CEM_CPMS!C807)","v":""},{"$f":"IF(Deviation_CEM_CPMS!D807=\"\",\"\",Deviation_CEM_CPMS!D807)","v":""},"",{"$f":"IF(COUNTIF(BA$2:BA785,BA785)=1,BA785,\"\")","v":""},"","",""]
[null,null,null,null,null,null,null,null,null,null,null,null,null,null,null,null,null,null,null,null,null,null,null,null,null,null,{"$f":"+IF(AE786=\"\",\"\",MAX(AA$1:AA785)+1)","v":""},{"$f":"IF(#REF!=\"\",\"\",#REF!)","v":{"$error":"#REF!"}},{"$f":"IF(#REF!=\"\",\"\",#REF!)","v":{"$error":"#REF!"}},{"$error":"#REF!"},{"$f":"IF(COUNTIF(AC$2:AC786,AC786)=1,AC786,\"\")","v":""},"","",null,null,null,null,null,null,null,{"$f":"+IF(AT786=\"\",\"\",MAX(AO$1:AO785)+1)","v":""},{"$f":"IF(Deviation_Limits!B808=\"\",\"\",Deviation_Limits!B808)","v":""},{"$f":"IF(Deviation_Limits!C808=\"\",\"\",Deviation_Limits!C808)","v":""},{"$f":"IF(Deviation_Limits!D808=\"\",\"\",Deviation_Limits!D808)","v":""},"",{"$f":"IF(COUNTIF(AQ$2:AQ786,AQ786)=1,AQ786,\"\")","v":""},"","","",null,{"$f":"+IF(BD786=\"\",\"\",MAX(AY$1:AY785)+1)","v":""},{"$f":"IF(Deviation_CEM_CPMS!B808=\"\",\"\",Deviation_CEM_CPMS!B808)","v":""},{"$f":"IF(Deviation_CEM_CPMS!C808=\"\",\"\",Deviation_CEM_CPMS!C808)","v":""},{"$f":"IF(Deviation_CEM_CPMS!D808=\"\",\"\",Deviation_CEM_CPMS!D808)","v":""},"",{"$f":"IF(COUNTIF(BA$2:BA786,BA786)=1,BA786,\"\")","v":""},"","",""]
[null,null,null,null,null,null,null,null,null,null,null,null,null,null,null,null,null,null,null,null,null,null,null,null,null,null,{"$f":"+IF(AE787=\"\",\"\",MAX(AA$1:AA786)+1)","v":""},{"$f":"IF(#REF!=\"\",\"\",#REF!)","v":{"$error":"#REF!"}},{"$f":"IF(#REF!=\"\",\"\",#REF!)","v":{"$error":"#REF!"}},{"$error":"#REF!"},{"$f":"IF(COUNTIF(AC$2:AC787,AC787)=1,AC787,\"\")","v":""},"","",null,null,null,null,null,null,null,{"$f":"+IF(AT787=\"\",\"\",MAX(AO$1:AO786)+1)","v":""},{"$f":"IF(Deviation_Limits!B809=\"\",\"\",Deviation_Limits!B809)","v":""},{"$f":"IF(Deviation_Limits!C809=\"\",\"\",Deviation_Limits!C809)","v":""},{"$f":"IF(Deviation_Limits!D809=\"\",\"\",Deviation_Limits!D809)","v":""},"",{"$f":"IF(COUNTIF(AQ$2:AQ787,AQ787)=1,AQ787,\"\")","v":""},"","","",null,{"$f":"+IF(BD787=\"\",\"\",MAX(AY$1:AY786)+1)","v":""},{"$f":"IF(Deviation_CEM_CPMS!B809=\"\",\"\",Deviation_CEM_CPMS!B809)","v":""},{"$f":"IF(Deviation_CEM_CPMS!C809=\"\",\"\",Deviation_CEM_CPMS!C809)","v":""},{"$f":"IF(Deviation_CEM_CPMS!D809=\"\",\"\",Deviation_CEM_CPMS!D809)","v":""},"",{"$f":"IF(COUNTIF(BA$2:BA787,BA787)=1,BA787,\"\")","v":""},"","",""]
[null,null,null,null,null,null,null,null,null,null,null,null,null,null,null,null,null,null,null,null,null,null,null,null,null,null,{"$f":"+IF(AE788=\"\",\"\",MAX(AA$1:AA787)+1)","v":""},{"$f":"IF(#REF!=\"\",\"\",#REF!)","v":{"$error":"#REF!"}},{"$f":"IF(#REF!=\"\",\"\",#REF!)","v":{"$error":"#REF!"}},{"$error":"#REF!"},{"$f":"IF(COUNTIF(AC$2:AC788,AC788)=1,AC788,\"\")","v":""},"","",null,null,null,null,null,null,null,{"$f":"+IF(AT788=\"\",\"\",MAX(AO$1:AO787)+1)","v":""},{"$f":"IF(Deviation_Limits!B810=\"\",\"\",Deviation_Limits!B810)","v":""},{"$f":"IF(Deviation_Limits!C810=\"\",\"\",Deviation_Limits!C810)","v":""},{"$f":"IF(Deviation_Limits!D810=\"\",\"\",Deviation_Limits!D810)","v":""},"",{"$f":"IF(COUNTIF(AQ$2:AQ788,AQ788)=1,AQ788,\"\")","v":""},"","","",null,{"$f":"+IF(BD788=\"\",\"\",MAX(AY$1:AY787)+1)","v":""},{"$f":"IF(Deviation_CEM_CPMS!B810=\"\",\"\",Deviation_CEM_CPMS!B810)","v":""},{"$f":"IF(Deviation_CEM_CPMS!C810=\"\",\"\",Deviation_CEM_CPMS!C810)","v":""},{"$f":"IF(Deviation_CEM_CPMS!D810=\"\",\"\",Deviation_CEM_CPMS!D810)","v":""},"",{"$f":"IF(COUNTIF(BA$2:BA788,BA788)=1,BA788,\"\")","v":""},"","",""]
[null,null,null,null,null,null,null,null,null,null,null,null,null,null,null,null,null,null,null,null,null,null,null,null,null,null,{"$f":"+IF(AE789=\"\",\"\",MAX(AA$1:AA788)+1)","v":""},{"$f":"IF(#REF!=\"\",\"\",#REF!)","v":{"$error":"#REF!"}},{"$f":"IF(#REF!=\"\",\"\",#REF!)","v":{"$error":"#REF!"}},{"$error":"#REF!"},{"$f":"IF(COUNTIF(AC$2:AC789,AC789)=1,AC789,\"\")","v":""},"","",null,null,null,null,null,null,null,{"$f":"+IF(AT789=\"\",\"\",MAX(AO$1:AO788)+1)","v":""},{"$f":"IF(Deviation_Limits!B811=\"\",\"\",Deviation_Limits!B811)","v":""},{"$f":"IF(Deviation_Limits!C811=\"\",\"\",Deviation_Limits!C811)","v":""},{"$f":"IF(Deviation_Limits!D811=\"\",\"\",Deviation_Limits!D811)","v":""},"",{"$f":"IF(COUNTIF(AQ$2:AQ789,AQ789)=1,AQ789,\"\")","v":""},"","","",null,{"$f":"+IF(BD789=\"\",\"\",MAX(AY$1:AY788)+1)","v":""},{"$f":"IF(Deviation_CEM_CPMS!B811=\"\",\"\",Deviation_CEM_CPMS!B811)","v":""},{"$f":"IF(Deviation_CEM_CPMS!C811=\"\",\"\",Deviation_CEM_CPMS!C811)","v":""},{"$f":"IF(Deviation_CEM_CPMS!D811=\"\",\"\",Deviation_CEM_CPMS!D811)","v":""},"",{"$f":"IF(COUNTIF(BA$2:BA789,BA789)=1,BA789,\"\")","v":""},"","",""]
[null,null,null,null,null,null,null,null,null,null,null,null,null,null,null,null,null,null,null,null,null,null,null,null,null,null,{"$f":"+IF(AE790=\"\",\"\",MAX(AA$1:AA789)+1)","v":""},{"$f":"IF(#REF!=\"\",\"\",#REF!)","v":{"$error":"#REF!"}},{"$f":"IF(#REF!=\"\",\"\",#REF!)","v":{"$error":"#REF!"}},{"$error":"#REF!"},{"$f":"IF(COUNTIF(AC$2:AC790,AC790)=1,AC790,\"\")","v":""},"","",null,null,null,null,null,null,null,{"$f":"+IF(AT790=\"\",\"\",MAX(AO$1:AO789)+1)","v":""},{"$f":"IF(Deviation_Limits!B812=\"\",\"\",Deviation_Limits!B812)","v":""},{"$f":"IF(Deviation_Limits!C812=\"\",\"\",Deviation_Limits!C812)","v":""},{"$f":"IF(Deviation_Limits!D812=\"\",\"\",Deviation_Limits!D812)","v":""},"",{"$f":"IF(COUNTIF(AQ$2:AQ790,AQ790)=1,AQ790,\"\")","v":""},"","","",null,{"$f":"+IF(BD790=\"\",\"\",MAX(AY$1:AY789)+1)","v":""},{"$f":"IF(Deviation_CEM_CPMS!B812=\"\",\"\",Deviation_CEM_CPMS!B812)","v":""},{"$f":"IF(Deviation_CEM_CPMS!C812=\"\",\"\",Deviation_CEM_CPMS!C812)","v":""},{"$f":"IF(Deviation_CEM_CPMS!D812=\"\",\"\",Deviation_CEM_CPMS!D812)","v":""},"",{"$f":"IF(COUNTIF(BA$2:BA790,BA790)=1,BA790,\"\")","v":""},"","",""]
[null,null,null,null,null,null,null,null,null,null,null,null,null,null,null,null,null,null,null,null,null,null,null,null,null,null,{"$f":"+IF(AE791=\"\",\"\",MAX(AA$1:AA790)+1)","v":""},{"$f":"IF(#REF!=\"\",\"\",#REF!)","v":{"$error":"#REF!"}},{"$f":"IF(#REF!=\"\",\"\",#REF!)","v":{"$error":"#REF!"}},{"$error":"#REF!"},{"$f":"IF(COUNTIF(AC$2:AC791,AC791)=1,AC791,\"\")","v":""},"","",null,null,null,null,null,null,null,{"$f":"+IF(AT791=\"\",\"\",MAX(AO$1:AO790)+1)","v":""},{"$f":"IF(Deviation_Limits!B813=\"\",\"\",Deviation_Limits!B813)","v":""},{"$f":"IF(Deviation_Limits!C813=\"\",\"\",Deviation_Limits!C813)","v":""},{"$f":"IF(Deviation_Limits!D813=\"\",\"\",Deviation_Limits!D813)","v":""},"",{"$f":"IF(COUNTIF(AQ$2:AQ791,AQ791)=1,AQ791,\"\")","v":""},"","","",null,{"$f":"+IF(BD791=\"\",\"\",MAX(AY$1:AY790)+1)","v":""},{"$f":"IF(Deviation_CEM_CPMS!B813=\"\",\"\",Deviation_CEM_CPMS!B813)","v":""},{"$f":"IF(Deviation_CEM_CPMS!C813=\"\",\"\",Deviation_CEM_CPMS!C813)","v":""},{"$f":"IF(Deviation_CEM_CPMS!D813=\"\",\"\",Deviation_CEM_CPMS!D813)","v":""},"",{"$f":"IF(COUNTIF(BA$2:BA791,BA791)=1,BA791,\"\")","v":""},"","",""]
[null,null,null,null,null,null,null,null,null,null,null,null,null,null,null,null,null,null,null,null,null,null,null,null,null,null,{"$f":"+IF(AE792=\"\",\"\",MAX(AA$1:AA791)+1)","v":""},{"$f":"IF(#REF!=\"\",\"\",#REF!)","v":{"$error":"#REF!"}},{"$f":"IF(#REF!=\"\",\"\",#REF!)","v":{"$error":"#REF!"}},{"$error":"#REF!"},{"$f":"IF(COUNTIF(AC$2:AC792,AC792)=1,AC792,\"\")","v":""},"","",null,null,null,null,null,null,null,{"$f":"+IF(AT792=\"\",\"\",MAX(AO$1:AO791)+1)","v":""},{"$f":"IF(Deviation_Limits!B814=\"\",\"\",Deviation_Limits!B814)","v":""},{"$f":"IF(Deviation_Limits!C814=\"\",\"\",Deviation_Limits!C814)","v":""},{"$f":"IF(Deviation_Limits!D814=\"\",\"\",Deviation_Limits!D814)","v":""},"",{"$f":"IF(COUNTIF(AQ$2:AQ792,AQ792)=1,AQ792,\"\")","v":""},"","","",null,{"$f":"+IF(BD792=\"\",\"\",MAX(AY$1:AY791)+1)","v":""},{"$f":"IF(Deviation_CEM_CPMS!B814=\"\",\"\",Deviation_CEM_CPMS!B814)","v":""},{"$f":"IF(Deviation_CEM_CPMS!C814=\"\",\"\",Deviation_CEM_CPMS!C814)","v":""},{"$f":"IF(Deviation_CEM_CPMS!D814=\"\",\"\",Deviation_CEM_CPMS!D814)","v":""},"",{"$f":"IF(COUNTIF(BA$2:BA792,BA792)=1,BA792,\"\")","v":""},"","",""]
[null,null,null,null,null,null,null,null,null,null,null,null,null,null,null,null,null,null,null,null,null,null,null,null,null,null,{"$f":"+IF(AE793=\"\",\"\",MAX(AA$1:AA792)+1)","v":""},{"$f":"IF(#REF!=\"\",\"\",#REF!)","v":{"$error":"#REF!"}},{"$f":"IF(#REF!=\"\",\"\",#REF!)","v":{"$error":"#REF!"}},{"$error":"#REF!"},{"$f":"IF(COUNTIF(AC$2:AC793,AC793)=1,AC793,\"\")","v":""},"","",null,null,null,null,null,null,null,{"$f":"+IF(AT793=\"\",\"\",MAX(AO$1:AO792)+1)","v":""},{"$f":"IF(Deviation_Limits!B815=\"\",\"\",Deviation_Limits!B815)","v":""},{"$f":"IF(Deviation_Limits!C815=\"\",\"\",Deviation_Limits!C815)","v":""},{"$f":"IF(Deviation_Limits!D815=\"\",\"\",Deviation_Limits!D815)","v":""},"",{"$f":"IF(COUNTIF(AQ$2:AQ793,AQ793)=1,AQ793,\"\")","v":""},"","","",null,{"$f":"+IF(BD793=\"\",\"\",MAX(AY$1:AY792)+1)","v":""},{"$f":"IF(Deviation_CEM_CPMS!B815=\"\",\"\",Deviation_CEM_CPMS!B815)","v":""},{"$f":"IF(Deviation_CEM_CPMS!C815=\"\",\"\",Deviation_CEM_CPMS!C815)","v":""},{"$f":"IF(Deviation_CEM_CPMS!D815=\"\",\"\",Deviation_CEM_CPMS!D815)","v":""},"",{"$f":"IF(COUNTIF(BA$2:BA793,BA793)=1,BA793,\"\")","v":""},"","",""]
[null,null,null,null,null,null,null,null,null,null,null,null,null,null,null,null,null,null,null,null,null,null,null,null,null,null,{"$f":"+IF(AE794=\"\",\"\",MAX(AA$1:AA793)+1)","v":""},{"$f":"IF(#REF!=\"\",\"\",#REF!)","v":{"$error":"#REF!"}},{"$f":"IF(#REF!=\"\",\"\",#REF!)","v":{"$error":"#REF!"}},{"$error":"#REF!"},{"$f":"IF(COUNTIF(AC$2:AC794,AC794)=1,AC794,\"\")","v":""},"","",null,null,null,null,null,null,null,{"$f":"+IF(AT794=\"\",\"\",MAX(AO$1:AO793)+1)","v":""},{"$f":"IF(Deviation_Limits!B816=\"\",\"\",Deviation_Limits!B816)","v":""},{"$f":"IF(Deviation_Limits!C816=\"\",\"\",Deviation_Limits!C816)","v":""},{"$f":"IF(Deviation_Limits!D816=\"\",\"\",Deviation_Limits!D816)","v":""},"",{"$f":"IF(COUNTIF(AQ$2:AQ794,AQ794)=1,AQ794,\"\")","v":""},"","","",null,{"$f":"+IF(BD794=\"\",\"\",MAX(AY$1:AY793)+1)","v":""},{"$f":"IF(Deviation_CEM_CPMS!B816=\"\",\"\",Deviation_CEM_CPMS!B816)","v":""},{"$f":"IF(Deviation_CEM_CPMS!C816=\"\",\"\",Deviation_CEM_CPMS!C816)","v":""},{"$f":"IF(Deviation_CEM_CPMS!D816=\"\",\"\",Deviation_CEM_CPMS!D816)","v":""},"",{"$f":"IF(COUNTIF(BA$2:BA794,BA794)=1,BA794,\"\")","v":""},"","",""]
[null,null,null,null,null,null,null,null,null,null,null,null,null,null,null,null,null,null,null,null,null,null,null,null,null,null,{"$f":"+IF(AE795=\"\",\"\",MAX(AA$1:AA794)+1)","v":""},{"$f":"IF(#REF!=\"\",\"\",#REF!)","v":{"$error":"#REF!"}},{"$f":"IF(#REF!=\"\",\"\",#REF!)","v":{"$error":"#REF!"}},{"$error":"#REF!"},{"$f":"IF(COUNTIF(AC$2:AC795,AC795)=1,AC795,\"\")","v":""},"","",null,null,null,null,null,null,null,{"$f":"+IF(AT795=\"\",\"\",MAX(AO$1:AO794)+1)","v":""},{"$f":"IF(Deviation_Limits!B817=\"\",\"\",Deviation_Limits!B817)","v":""},{"$f":"IF(Deviation_Limits!C817=\"\",\"\",Deviation_Limits!C817)","v":""},{"$f":"IF(Deviation_Limits!D817=\"\",\"\",Deviation_Limits!D817)","v":""},"",{"$f":"IF(COUNTIF(AQ$2:AQ795,AQ795)=1,AQ795,\"\")","v":""},"","","",null,{"$f":"+IF(BD795=\"\",\"\",MAX(AY$1:AY794)+1)","v":""},{"$f":"IF(Deviation_CEM_CPMS!B817=\"\",\"\",Deviation_CEM_CPMS!B817)","v":""},{"$f":"IF(Deviation_CEM_CPMS!C817=\"\",\"\",Deviation_CEM_CPMS!C817)","v":""},{"$f":"IF(Deviation_CEM_CPMS!D817=\"\",\"\",Deviation_CEM_CPMS!D817)","v":""},"",{"$f":"IF(COUNTIF(BA$2:BA795,BA795)=1,BA795,\"\")","v":""},"","",""]
[null,null,null,null,null,null,null,null,null,null,null,null,null,null,null,null,null,null,null,null,null,null,null,null,null,null,{"$f":"+IF(AE796=\"\",\"\",MAX(AA$1:AA795)+1)","v":""},{"$f":"IF(#REF!=\"\",\"\",#REF!)","v":{"$error":"#REF!"}},{"$f":"IF(#REF!=\"\",\"\",#REF!)","v":{"$error":"#REF!"}},{"$error":"#REF!"},{"$f":"IF(COUNTIF(AC$2:AC796,AC796)=1,AC796,\"\")","v":""},"","",null,null,null,null,null,null,null,{"$f":"+IF(AT796=\"\",\"\",MAX(AO$1:AO795)+1)","v":""},{"$f":"IF(Deviation_Limits!B818=\"\",\"\",Deviation_Limits!B818)","v":""},{"$f":"IF(Deviation_Limits!C818=\"\",\"\",Deviation_Limits!C818)","v":""},{"$f":"IF(Deviation_Limits!D818=\"\",\"\",Deviation_Limits!D818)","v":""},"",{"$f":"IF(COUNTIF(AQ$2:AQ796,AQ796)=1,AQ796,\"\")","v":""},"","","",null,{"$f":"+IF(BD796=\"\",\"\",MAX(AY$1:AY795)+1)","v":""},{"$f":"IF(Deviation_CEM_CPMS!B818=\"\",\"\",Deviation_CEM_CPMS!B818)","v":""},{"$f":"IF(Deviation_CEM_CPMS!C818=\"\",\"\",Deviation_CEM_CPMS!C818)","v":""},{"$f":"IF(Deviation_CEM_CPMS!D818=\"\",\"\",Deviation_CEM_CPMS!D818)","v":""},"",{"$f":"IF(COUNTIF(BA$2:BA796,BA796)=1,BA796,\"\")","v":""},"","",""]
[null,null,null,null,null,null,null,null,null,null,null,null,null,null,null,null,null,null,null,null,null,null,null,null,null,null,{"$f":"+IF(AE797=\"\",\"\",MAX(AA$1:AA796)+1)","v":""},{"$f":"IF(#REF!=\"\",\"\",#REF!)","v":{"$error":"#REF!"}},{"$f":"IF(#REF!=\"\",\"\",#REF!)","v":{"$error":"#REF!"}},{"$error":"#REF!"},{"$f":"IF(COUNTIF(AC$2:AC797,AC797)=1,AC797,\"\")","v":""},"","",null,null,null,null,null,null,null,{"$f":"+IF(AT797=\"\",\"\",MAX(AO$1:AO796)+1)","v":""},{"$f":"IF(Deviation_Limits!B819=\"\",\"\",Deviation_Limits!B819)","v":""},{"$f":"IF(Deviation_Limits!C819=\"\",\"\",Deviation_Limits!C819)","v":""},{"$f":"IF(Deviation_Limits!D819=\"\",\"\",Deviation_Limits!D819)","v":""},"",{"$f":"IF(COUNTIF(AQ$2:AQ797,AQ797)=1,AQ797,\"\")","v":""},"","","",null,{"$f":"+IF(BD797=\"\",\"\",MAX(AY$1:AY796)+1)","v":""},{"$f":"IF(Deviation_CEM_CPMS!B819=\"\",\"\",Deviation_CEM_CPMS!B819)","v":""},{"$f":"IF(Deviation_CEM_CPMS!C819=\"\",\"\",Deviation_CEM_CPMS!C819)","v":""},{"$f":"IF(Deviation_CEM_CPMS!D819=\"\",\"\",Deviation_CEM_CPMS!D819)","v":""},"",{"$f":"IF(COUNTIF(BA$2:BA797,BA797)=1,BA797,\"\")","v":""},"","",""]
[null,null,null,null,null,null,null,null,null,null,null,null,null,null,null,null,null,null,null,null,null,null,null,null,null,null,{"$f":"+IF(AE798=\"\",\"\",MAX(AA$1:AA797)+1)","v":""},{"$f":"IF(#REF!=\"\",\"\",#REF!)","v":{"$error":"#REF!"}},{"$f":"IF(#REF!=\"\",\"\",#REF!)","v":{"$error":"#REF!"}},{"$error":"#REF!"},{"$f":"IF(COUNTIF(AC$2:AC798,AC798)=1,AC798,\"\")","v":""},"","",null,null,null,null,null,null,null,{"$f":"+IF(AT798=\"\",\"\",MAX(AO$1:AO797)+1)","v":""},{"$f":"IF(Deviation_Limits!B820=\"\",\"\",Deviation_Limits!B820)","v":""},{"$f":"IF(Deviation_Limits!C820=\"\",\"\",Deviation_Limits!C820)","v":""},{"$f":"IF(Deviation_Limits!D820=\"\",\"\",Deviation_Limits!D820)","v":""},"",{"$f":"IF(COUNTIF(AQ$2:AQ798,AQ798)=1,AQ798,\"\")","v":""},"","","",null,{"$f":"+IF(BD798=\"\",\"\",MAX(AY$1:AY797)+1)","v":""},{"$f":"IF(Deviation_CEM_CPMS!B820=\"\",\"\",Deviation_CEM_CPMS!B820)","v":""},{"$f":"IF(Deviation_CEM_CPMS!C820=\"\",\"\",Deviation_CEM_CPMS!C820)","v":""},{"$f":"IF(Deviation_CEM_CPMS!D820=\"\",\"\",Deviation_CEM_CPMS!D820)","v":""},"",{"$f":"IF(COUNTIF(BA$2:BA798,BA798)=1,BA798,\"\")","v":""},"","",""]
[null,null,null,null,null,null,null,null,null,null,null,null,null,null,null,null,null,null,null,null,null,null,null,null,null,null,{"$f":"+IF(AE799=\"\",\"\",MAX(AA$1:AA798)+1)","v":""},{"$f":"IF(#REF!=\"\",\"\",#REF!)","v":{"$error":"#REF!"}},{"$f":"IF(#REF!=\"\",\"\",#REF!)","v":{"$error":"#REF!"}},{"$error":"#REF!"},{"$f":"IF(COUNTIF(AC$2:AC799,AC799)=1,AC799,\"\")","v":""},"","",null,null,null,null,null,null,null,{"$f":"+IF(AT799=\"\",\"\",MAX(AO$1:AO798)+1)","v":""},{"$f":"IF(Deviation_Limits!B821=\"\",\"\",Deviation_Limits!B821)","v":""},{"$f":"IF(Deviation_Limits!C821=\"\",\"\",Deviation_Limits!C821)","v":""},{"$f":"IF(Deviation_Limits!D821=\"\",\"\",Deviation_Limits!D821)","v":""},"",{"$f":"IF(COUNTIF(AQ$2:AQ799,AQ799)=1,AQ799,\"\")","v":""},"","","",null,{"$f":"+IF(BD799=\"\",\"\",MAX(AY$1:AY798)+1)","v":""},{"$f":"IF(Deviation_CEM_CPMS!B821=\"\",\"\",Deviation_CEM_CPMS!B821)","v":""},{"$f":"IF(Deviation_CEM_CPMS!C821=\"\",\"\",Deviation_CEM_CPMS!C821)","v":""},{"$f":"IF(Deviation_CEM_CPMS!D821=\"\",\"\",Deviation_CEM_CPMS!D821)","v":""},"",{"$f":"IF(COUNTIF(BA$2:BA799,BA799)=1,BA799,\"\")","v":""},"","",""]
[null,null,null,null,null,null,null,null,null,null,null,null,null,null,null,null,null,null,null,null,null,null,null,null,null,null,{"$f":"+IF(AE800=\"\",\"\",MAX(AA$1:AA799)+1)","v":""},{"$f":"IF(#REF!=\"\",\"\",#REF!)","v":{"$error":"#REF!"}},{"$f":"IF(#REF!=\"\",\"\",#REF!)","v":{"$error":"#REF!"}},{"$f":"+AB800&AC800","v":{"$error":"#REF!"}},{"$f":"IF(COUNTIF(AC$2:AC800,AC800)=1,AC800,\"\")","v":""},"","",null,null,null,null,null,null,null,{"$f":"+IF(AT800=\"\",\"\",MAX(AO$1:AO799)+1)","v":""},{"$f":"IF(Deviation_Limits!B822=\"\",\"\",Deviation_Limits!B822)","v":""},{"$f":"IF(Deviation_Limits!C822=\"\",\"\",Deviation_Limits!C822)","v":""},{"$f":"IF(Deviation_Limits!D822=\"\",\"\",Deviation_Limits!D822)","v":""},"",{"$f":"IF(COUNTIF(AQ$2:AQ800,AQ800)=1,AQ800,\"\")","v":""},"","","",null,{"$f":"+IF(BD800=\"\",\"\",MAX(AY$1:AY799)+1)","v":""},{"$f":"IF(Deviation_CEM_CPMS!B822=\"\",\"\",Deviation_CEM_CPMS!B822)","v":""},{"$f":"IF(Deviation_CEM_CPMS!C822=\"\",\"\",Deviation_CEM_CPMS!C822)","v":""},{"$f":"IF(Deviation_CEM_CPMS!D822=\"\",\"\",Deviation_CEM_CPMS!D822)","v":""},"",{"$f":"IF(COUNTIF(BA$2:BA800,BA800)=1,BA800,\"\")","v":""},"","",""]
[null,null,null,null,null,null,null,null,null,null,null,null,null,null,null,null,null,null,null,null,null,null,null,null,null,null,{"$f":"+IF(AE801=\"\",\"\",MAX(AA$1:AA800)+1)","v":""},{"$f":"IF(#REF!=\"\",\"\",#REF!)","v":{"$error":"#REF!"}},{"$f":"IF(#REF!=\"\",\"\",#REF!)","v":{"$error":"#REF!"}},{"$error":"#REF!"},{"$f":"IF(COUNTIF(AC$2:AC801,AC801)=1,AC801,\"\")","v":""},"","",null,null,null,null,null,null,null,{"$f":"+IF(AT801=\"\",\"\",MAX(AO$1:AO800)+1)","v":""},{"$f":"IF(Deviation_Limits!B823=\"\",\"\",Deviation_Limits!B823)","v":""},{"$f":"IF(Deviation_Limits!C823=\"\",\"\",Deviation_Limits!C823)","v":""},{"$f":"IF(Deviation_Limits!D823=\"\",\"\",Deviation_Limits!D823)","v":""},"",{"$f":"IF(COUNTIF(AQ$2:AQ801,AQ801)=1,AQ801,\"\")","v":""},"","","",null,{"$f":"+IF(BD801=\"\",\"\",MAX(AY$1:AY800)+1)","v":""},{"$f":"IF(Deviation_CEM_CPMS!B823=\"\",\"\",Deviation_CEM_CPMS!B823)","v":""},{"$f":"IF(Deviation_CEM_CPMS!C823=\"\",\"\",Deviation_CEM_CPMS!C823)","v":""},{"$f":"IF(Deviation_CEM_CPMS!D823=\"\",\"\",Deviation_CEM_CPMS!D823)","v":""},"",{"$f":"IF(COUNTIF(BA$2:BA801,BA801)=1,BA801,\"\")","v":""},"","",""]
[null,null,null,null,null,null,null,null,null,null,null,null,null,null,null,null,null,null,null,null,null,null,null,null,null,null,{"$f":"+IF(AE802=\"\",\"\",MAX(AA$1:AA801)+1)","v":""},{"$f":"IF(#REF!=\"\",\"\",#REF!)","v":{"$error":"#REF!"}},{"$f":"IF(#REF!=\"\",\"\",#REF!)","v":{"$error":"#REF!"}},{"$error":"#REF!"},{"$f":"IF(COUNTIF(AC$2:AC802,AC802)=1,AC802,\"\")","v":""},"","",null,null,null,null,null,null,null,{"$f":"+IF(AT802=\"\",\"\",MAX(AO$1:AO801)+1)","v":""},{"$f":"IF(Deviation_Limits!B824=\"\",\"\",Deviation_Limits!B824)","v":""},{"$f":"IF(Deviation_Limits!C824=\"\",\"\",Deviation_Limits!C824)","v":""},{"$f":"IF(Deviation_Limits!D824=\"\",\"\",Deviation_Limits!D824)","v":""},"",{"$f":"IF(COUNTIF(AQ$2:AQ802,AQ802)=1,AQ802,\"\")","v":""},"","","",null,{"$f":"+IF(BD802=\"\",\"\",MAX(AY$1:AY801)+1)","v":""},{"$f":"IF(Deviation_CEM_CPMS!B824=\"\",\"\",Deviation_CEM_CPMS!B824)","v":""},{"$f":"IF(Deviation_CEM_CPMS!C824=\"\",\"\",Deviation_CEM_CPMS!C824)","v":""},{"$f":"IF(Deviation_CEM_CPMS!D824=\"\",\"\",Deviation_CEM_CPMS!D824)","v":""},"",{"$f":"IF(COUNTIF(BA$2:BA802,BA802)=1,BA802,\"\")","v":""},"","",""]
[null,null,null,null,null,null,null,null,null,null,null,null,null,null,null,null,null,null,null,null,null,null,null,null,null,null,{"$f":"+IF(AE803=\"\",\"\",MAX(AA$1:AA802)+1)","v":""},{"$f":"IF(#REF!=\"\",\"\",#REF!)","v":{"$error":"#REF!"}},{"$f":"IF(#REF!=\"\",\"\",#REF!)","v":{"$error":"#REF!"}},{"$error":"#REF!"},{"$f":"IF(COUNTIF(AC$2:AC803,AC803)=1,AC803,\"\")","v":""},"","",null,null,null,null,null,null,null,{"$f":"+IF(AT803=\"\",\"\",MAX(AO$1:AO802)+1)","v":""},{"$f":"IF(Deviation_Limits!B825=\"\",\"\",Deviation_Limits!B825)","v":""},{"$f":"IF(Deviation_Limits!C825=\"\",\"\",Deviation_Limits!C825)","v":""},{"$f":"IF(Deviation_Limits!D825=\"\",\"\",Deviation_Limits!D825)","v":""},"",{"$f":"IF(COUNTIF(AQ$2:AQ803,AQ803)=1,AQ803,\"\")","v":""},"","","",null,{"$f":"+IF(BD803=\"\",\"\",MAX(AY$1:AY802)+1)","v":""},{"$f":"IF(Deviation_CEM_CPMS!B825=\"\",\"\",Deviation_CEM_CPMS!B825)","v":""},{"$f":"IF(Deviation_CEM_CPMS!C825=\"\",\"\",Deviation_CEM_CPMS!C825)","v":""},{"$f":"IF(Deviation_CEM_CPMS!D825=\"\",\"\",Deviation_CEM_CPMS!D825)","v":""},"",{"$f":"IF(COUNTIF(BA$2:BA803,BA803)=1,BA803,\"\")","v":""},"","",""]
[null,null,null,null,null,null,null,null,null,null,null,null,null,null,null,null,null,null,null,null,null,null,null,null,null,null,{"$f":"+IF(AE804=\"\",\"\",MAX(AA$1:AA803)+1)","v":""},{"$f":"IF(#REF!=\"\",\"\",#REF!)","v":{"$error":"#REF!"}},{"$f":"IF(#REF!=\"\",\"\",#REF!)","v":{"$error":"#REF!"}},{"$error":"#REF!"},{"$f":"IF(COUNTIF(AC$2:AC804,AC804)=1,AC804,\"\")","v":""},"","",null,null,null,null,null,null,null,{"$f":"+IF(AT804=\"\",\"\",MAX(AO$1:AO803)+1)","v":""},{"$f":"IF(Deviation_Limits!B826=\"\",\"\",Deviation_Limits!B826)","v":""},{"$f":"IF(Deviation_Limits!C826=\"\",\"\",Deviation_Limits!C826)","v":""},{"$f":"IF(Deviation_Limits!D826=\"\",\"\",Deviation_Limits!D826)","v":""},"",{"$f":"IF(COUNTIF(AQ$2:AQ804,AQ804)=1,AQ804,\"\")","v":""},"","","",null,{"$f":"+IF(BD804=\"\",\"\",MAX(AY$1:AY803)+1)","v":""},{"$f":"IF(Deviation_CEM_CPMS!B826=\"\",\"\",Deviation_CEM_CPMS!B826)","v":""},{"$f":"IF(Deviation_CEM_CPMS!C826=\"\",\"\",Deviation_CEM_CPMS!C826)","v":""},{"$f":"IF(Deviation_CEM_CPMS!D826=\"\",\"\",Deviation_CEM_CPMS!D826)","v":""},"",{"$f":"IF(COUNTIF(BA$2:BA804,BA804)=1,BA804,\"\")","v":""},"","",""]
[null,null,null,null,null,null,null,null,null,null,null,null,null,null,null,null,null,null,null,null,null,null,null,null,null,null,{"$f":"+IF(AE805=\"\",\"\",MAX(AA$1:AA804)+1)","v":""},{"$f":"IF(#REF!=\"\",\"\",#REF!)","v":{"$error":"#REF!"}},{"$f":"IF(#REF!=\"\",\"\",#REF!)","v":{"$error":"#REF!"}},{"$error":"#REF!"},{"$f":"IF(COUNTIF(AC$2:AC805,AC805)=1,AC805,\"\")","v":""},"","",null,null,null,null,null,null,null,{"$f":"+IF(AT805=\"\",\"\",MAX(AO$1:AO804)+1)","v":""},{"$f":"IF(Deviation_Limits!B827=\"\",\"\",Deviation_Limits!B827)","v":""},{"$f":"IF(Deviation_Limits!C827=\"\",\"\",Deviation_Limits!C827)","v":""},{"$f":"IF(Deviation_Limits!D827=\"\",\"\",Deviation_Limits!D827)","v":""},"",{"$f":"IF(COUNTIF(AQ$2:AQ805,AQ805)=1,AQ805,\"\")","v":""},"","","",null,{"$f":"+IF(BD805=\"\",\"\",MAX(AY$1:AY804)+1)","v":""},{"$f":"IF(Deviation_CEM_CPMS!B827=\"\",\"\",Deviation_CEM_CPMS!B827)","v":""},{"$f":"IF(Deviation_CEM_CPMS!C827=\"\",\"\",Deviation_CEM_CPMS!C827)","v":""},{"$f":"IF(Deviation_CEM_CPMS!D827=\"\",\"\",Deviation_CEM_CPMS!D827)","v":""},"",{"$f":"IF(COUNTIF(BA$2:BA805,BA805)=1,BA805,\"\")","v":""},"","",""]
[null,null,null,null,null,null,null,null,null,null,null,null,null,null,null,null,null,null,null,null,null,null,null,null,null,null,{"$f":"+IF(AE806=\"\",\"\",MAX(AA$1:AA805)+1)","v":""},{"$f":"IF(#REF!=\"\",\"\",#REF!)","v":{"$error":"#REF!"}},{"$f":"IF(#REF!=\"\",\"\",#REF!)","v":{"$error":"#REF!"}},{"$error":"#REF!"},{"$f":"IF(COUNTIF(AC$2:AC806,AC806)=1,AC806,\"\")","v":""},"","",null,null,null,null,null,null,null,{"$f":"+IF(AT806=\"\",\"\",MAX(AO$1:AO805)+1)","v":""},{"$f":"IF(Deviation_Limits!B828=\"\",\"\",Deviation_Limits!B828)","v":""},{"$f":"IF(Deviation_Limits!C828=\"\",\"\",Deviation_Limits!C828)","v":""},{"$f":"IF(Deviation_Limits!D828=\"\",\"\",Deviation_Limits!D828)","v":""},"",{"$f":"IF(COUNTIF(AQ$2:AQ806,AQ806)=1,AQ806,\"\")","v":""},"","","",null,{"$f":"+IF(BD806=\"\",\"\",MAX(AY$1:AY805)+1)","v":""},{"$f":"IF(Deviation_CEM_CPMS!B828=\"\",\"\",Deviation_CEM_CPMS!B828)","v":""},{"$f":"IF(Deviation_CEM_CPMS!C828=\"\",\"\",Deviation_CEM_CPMS!C828)","v":""},{"$f":"IF(Deviation_CEM_CPMS!D828=\"\",\"\",Deviation_CEM_CPMS!D828)","v":""},"",{"$f":"IF(COUNTIF(BA$2:BA806,BA806)=1,BA806,\"\")","v":""},"","",""]
[null,null,null,null,null,null,null,null,null,null,null,null,null,null,null,null,null,null,null,null,null,null,null,null,null,null,{"$f":"+IF(AE807=\"\",\"\",MAX(AA$1:AA806)+1)","v":""},{"$f":"IF(#REF!=\"\",\"\",#REF!)","v":{"$error":"#REF!"}},{"$f":"IF(#REF!=\"\",\"\",#REF!)","v":{"$error":"#REF!"}},{"$error":"#REF!"},{"$f":"IF(COUNTIF(AC$2:AC807,AC807)=1,AC807,\"\")","v":""},"","",null,null,null,null,null,null,null,{"$f":"+IF(AT807=\"\",\"\",MAX(AO$1:AO806)+1)","v":""},{"$f":"IF(Deviation_Limits!B829=\"\",\"\",Deviation_Limits!B829)","v":""},{"$f":"IF(Deviation_Limits!C829=\"\",\"\",Deviation_Limits!C829)","v":""},{"$f":"IF(Deviation_Limits!D829=\"\",\"\",Deviation_Limits!D829)","v":""},"",{"$f":"IF(COUNTIF(AQ$2:AQ807,AQ807)=1,AQ807,\"\")","v":""},"","","",null,{"$f":"+IF(BD807=\"\",\"\",MAX(AY$1:AY806)+1)","v":""},{"$f":"IF(Deviation_CEM_CPMS!B829=\"\",\"\",Deviation_CEM_CPMS!B829)","v":""},{"$f":"IF(Deviation_CEM_CPMS!C829=\"\",\"\",Deviation_CEM_CPMS!C829)","v":""},{"$f":"IF(Deviation_CEM_CPMS!D829=\"\",\"\",Deviation_CEM_CPMS!D829)","v":""},"",{"$f":"IF(COUNTIF(BA$2:BA807,BA807)=1,BA807,\"\")","v":""},"","",""]
[null,null,null,null,null,null,null,null,null,null,null,null,null,null,null,null,null,null,null,null,null,null,null,null,null,null,{"$f":"+IF(AE808=\"\",\"\",MAX(AA$1:AA807)+1)","v":""},{"$f":"IF(#REF!=\"\",\"\",#REF!)","v":{"$error":"#REF!"}},{"$f":"IF(#REF!=\"\",\"\",#REF!)","v":{"$error":"#REF!"}},{"$error":"#REF!"},{"$f":"IF(COUNTIF(AC$2:AC808,AC808)=1,AC808,\"\")","v":""},"","",null,null,null,null,null,null,null,{"$f":"+IF(AT808=\"\",\"\",MAX(AO$1:AO807)+1)","v":""},{"$f":"IF(Deviation_Limits!B830=\"\",\"\",Deviation_Limits!B830)","v":""},{"$f":"IF(Deviation_Limits!C830=\"\",\"\",Deviation_Limits!C830)","v":""},{"$f":"IF(Deviation_Limits!D830=\"\",\"\",Deviation_Limits!D830)","v":""},"",{"$f":"IF(COUNTIF(AQ$2:AQ808,AQ808)=1,AQ808,\"\")","v":""},"","","",null,{"$f":"+IF(BD808=\"\",\"\",MAX(AY$1:AY807)+1)","v":""},{"$f":"IF(Deviation_CEM_CPMS!B830=\"\",\"\",Deviation_CEM_CPMS!B830)","v":""},{"$f":"IF(Deviation_CEM_CPMS!C830=\"\",\"\",Deviation_CEM_CPMS!C830)","v":""},{"$f":"IF(Deviation_CEM_CPMS!D830=\"\",\"\",Deviation_CEM_CPMS!D830)","v":""},"",{"$f":"IF(COUNTIF(BA$2:BA808,BA808)=1,BA808,\"\")","v":""},"","",""]
[null,null,null,null,null,null,null,null,null,null,null,null,null,null,null,null,null,null,null,null,null,null,null,null,null,null,{"$f":"+IF(AE809=\"\",\"\",MAX(AA$1:AA808)+1)","v":""},{"$f":"IF(#REF!=\"\",\"\",#REF!)","v":{"$error":"#REF!"}},{"$f":"IF(#REF!=\"\",\"\",#REF!)","v":{"$error":"#REF!"}},{"$error":"#REF!"},{"$f":"IF(COUNTIF(AC$2:AC809,AC809)=1,AC809,\"\")","v":""},"","",null,null,null,null,null,null,null,{"$f":"+IF(AT809=\"\",\"\",MAX(AO$1:AO808)+1)","v":""},{"$f":"IF(Deviation_Limits!B831=\"\",\"\",Deviation_Limits!B831)","v":""},{"$f":"IF(Deviation_Limits!C831=\"\",\"\",Deviation_Limits!C831)","v":""},{"$f":"IF(Deviation_Limits!D831=\"\",\"\",Deviation_Limits!D831)","v":""},"",{"$f":"IF(COUNTIF(AQ$2:AQ809,AQ809)=1,AQ809,\"\")","v":""},"","","",null,{"$f":"+IF(BD809=\"\",\"\",MAX(AY$1:AY808)+1)","v":""},{"$f":"IF(Deviation_CEM_CPMS!B831=\"\",\"\",Deviation_CEM_CPMS!B831)","v":""},{"$f":"IF(Deviation_CEM_CPMS!C831=\"\",\"\",Deviation_CEM_CPMS!C831)","v":""},{"$f":"IF(Deviation_CEM_CPMS!D831=\"\",\"\",Deviation_CEM_CPMS!D831)","v":""},"",{"$f":"IF(COUNTIF(BA$2:BA809,BA809)=1,BA809,\"\")","v":""},"","",""]
[null,null,null,null,null,null,null,null,null,null,null,null,null,null,null,null,null,null,null,null,null,null,null,null,null,null,{"$f":"+IF(AE810=\"\",\"\",MAX(AA$1:AA809)+1)","v":""},{"$f":"IF(#REF!=\"\",\"\",#REF!)","v":{"$error":"#REF!"}},{"$f":"IF(#REF!=\"\",\"\",#REF!)","v":{"$error":"#REF!"}},{"$error":"#REF!"},{"$f":"IF(COUNTIF(AC$2:AC810,AC810)=1,AC810,\"\")","v":""},"","",null,null,null,null,null,null,null,{"$f":"+IF(AT810=\"\",\"\",MAX(AO$1:AO809)+1)","v":""},{"$f":"IF(Deviation_Limits!B832=\"\",\"\",Deviation_Limits!B832)","v":""},{"$f":"IF(Deviation_Limits!C832=\"\",\"\",Deviation_Limits!C832)","v":""},{"$f":"IF(Deviation_Limits!D832=\"\",\"\",Deviation_Limits!D832)","v":""},"",{"$f":"IF(COUNTIF(AQ$2:AQ810,AQ810)=1,AQ810,\"\")","v":""},"","","",null,{"$f":"+IF(BD810=\"\",\"\",MAX(AY$1:AY809)+1)","v":""},{"$f":"IF(Deviation_CEM_CPMS!B832=\"\",\"\",Deviation_CEM_CPMS!B832)","v":""},{"$f":"IF(Deviation_CEM_CPMS!C832=\"\",\"\",Deviation_CEM_CPMS!C832)","v":""},{"$f":"IF(Deviation_CEM_CPMS!D832=\"\",\"\",Deviation_CEM_CPMS!D832)","v":""},"",{"$f":"IF(COUNTIF(BA$2:BA810,BA810)=1,BA810,\"\")","v":""},"","",""]
[null,null,null,null,null,null,null,null,null,null,null,null,null,null,null,null,null,null,null,null,null,null,null,null,null,null,{"$f":"+IF(AE811=\"\",\"\",MAX(AA$1:AA810)+1)","v":""},{"$f":"IF(#REF!=\"\",\"\",#REF!)","v":{"$error":"#REF!"}},{"$f":"IF(#REF!=\"\",\"\",#REF!)","v":{"$error":"#REF!"}},{"$error":"#REF!"},{"$f":"IF(COUNTIF(AC$2:AC811,AC811)=1,AC811,\"\")","v":""},"","",null,null,null,null,null,null,null,{"$f":"+IF(AT811=\"\",\"\",MAX(AO$1:AO810)+1)","v":""},{"$f":"IF(Deviation_Limits!B833=\"\",\"\",Deviation_Limits!B833)","v":""},{"$f":"IF(Deviation_Limits!C833=\"\",\"\",Deviation_Limits!C833)","v":""},{"$f":"IF(Deviation_Limits!D833=\"\",\"\",Deviation_Limits!D833)","v":""},"",{"$f":"IF(COUNTIF(AQ$2:AQ811,AQ811)=1,AQ811,\"\")","v":""},"","","",null,{"$f":"+IF(BD811=\"\",\"\",MAX(AY$1:AY810)+1)","v":""},{"$f":"IF(Deviation_CEM_CPMS!B833=\"\",\"\",Deviation_CEM_CPMS!B833)","v":""},{"$f":"IF(Deviation_CEM_CPMS!C833=\"\",\"\",Deviation_CEM_CPMS!C833)","v":""},{"$f":"IF(Deviation_CEM_CPMS!D833=\"\",\"\",Deviation_CEM_CPMS!D833)","v":""},"",{"$f":"IF(COUNTIF(BA$2:BA811,BA811)=1,BA811,\"\")","v":""},"","",""]
[null,null,null,null,null,null,null,null,null,null,null,null,null,null,null,null,null,null,null,null,null,null,null,null,null,null,{"$f":"+IF(AE812=\"\",\"\",MAX(AA$1:AA811)+1)","v":""},{"$f":"IF(#REF!=\"\",\"\",#REF!)","v":{"$error":"#REF!"}},{"$f":"IF(#REF!=\"\",\"\",#REF!)","v":{"$error":"#REF!"}},{"$error":"#REF!"},{"$f":"IF(COUNTIF(AC$2:AC812,AC812)=1,AC812,\"\")","v":""},"","",null,null,null,null,null,null,null,{"$f":"+IF(AT812=\"\",\"\",MAX(AO$1:AO811)+1)","v":""},{"$f":"IF(Deviation_Limits!B834=\"\",\"\",Deviation_Limits!B834)","v":""},{"$f":"IF(Deviation_Limits!C834=\"\",\"\",Deviation_Limits!C834)","v":""},{"$f":"IF(Deviation_Limits!D834=\"\",\"\",Deviation_Limits!D834)","v":""},"",{"$f":"IF(COUNTIF(AQ$2:AQ812,AQ812)=1,AQ812,\"\")","v":""},"","","",null,{"$f":"+IF(BD812=\"\",\"\",MAX(AY$1:AY811)+1)","v":""},{"$f":"IF(Deviation_CEM_CPMS!B834=\"\",\"\",Deviation_CEM_CPMS!B834)","v":""},{"$f":"IF(Deviation_CEM_CPMS!C834=\"\",\"\",Deviation_CEM_CPMS!C834)","v":""},{"$f":"IF(Deviation_CEM_CPMS!D834=\"\",\"\",Deviation_CEM_CPMS!D834)","v":""},"",{"$f":"IF(COUNTIF(BA$2:BA812,BA812)=1,BA812,\"\")","v":""},"","",""]
[null,null,null,null,null,null,null,null,null,null,null,null,null,null,null,null,null,null,null,null,null,null,null,null,null,null,{"$f":"+IF(AE813=\"\",\"\",MAX(AA$1:AA812)+1)","v":""},{"$f":"IF(#REF!=\"\",\"\",#REF!)","v":{"$error":"#REF!"}},{"$f":"IF(#REF!=\"\",\"\",#REF!)","v":{"$error":"#REF!"}},{"$error":"#REF!"},{"$f":"IF(COUNTIF(AC$2:AC813,AC813)=1,AC813,\"\")","v":""},"","",null,null,null,null,null,null,null,{"$f":"+IF(AT813=\"\",\"\",MAX(AO$1:AO812)+1)","v":""},{"$f":"IF(Deviation_Limits!B835=\"\",\"\",Deviation_Limits!B835)","v":""},{"$f":"IF(Deviation_Limits!C835=\"\",\"\",Deviation_Limits!C835)","v":""},{"$f":"IF(Deviation_Limits!D835=\"\",\"\",Deviation_Limits!D835)","v":""},"",{"$f":"IF(COUNTIF(AQ$2:AQ813,AQ813)=1,AQ813,\"\")","v":""},"","","",null,{"$f":"+IF(BD813=\"\",\"\",MAX(AY$1:AY812)+1)","v":""},{"$f":"IF(Deviation_CEM_CPMS!B835=\"\",\"\",Deviation_CEM_CPMS!B835)","v":""},{"$f":"IF(Deviation_CEM_CPMS!C835=\"\",\"\",Deviation_CEM_CPMS!C835)","v":""},{"$f":"IF(Deviation_CEM_CPMS!D835=\"\",\"\",Deviation_CEM_CPMS!D835)","v":""},"",{"$f":"IF(COUNTIF(BA$2:BA813,BA813)=1,BA813,\"\")","v":""},"","",""]
[null,null,null,null,null,null,null,null,null,null,null,null,null,null,null,null,null,null,null,null,null,null,null,null,null,null,{"$f":"+IF(AE814=\"\",\"\",MAX(AA$1:AA813)+1)","v":""},{"$f":"IF(#REF!=\"\",\"\",#REF!)","v":{"$error":"#REF!"}},{"$f":"IF(#REF!=\"\",\"\",#REF!)","v":{"$error":"#REF!"}},{"$error":"#REF!"},{"$f":"IF(COUNTIF(AC$2:AC814,AC814)=1,AC814,\"\")","v":""},"","",null,null,null,null,null,null,null,{"$f":"+IF(AT814=\"\",\"\",MAX(AO$1:AO813)+1)","v":""},{"$f":"IF(Deviation_Limits!B836=\"\",\"\",Deviation_Limits!B836)","v":""},{"$f":"IF(Deviation_Limits!C836=\"\",\"\",Deviation_Limits!C836)","v":""},{"$f":"IF(Deviation_Limits!D836=\"\",\"\",Deviation_Limits!D836)","v":""},"",{"$f":"IF(COUNTIF(AQ$2:AQ814,AQ814)=1,AQ814,\"\")","v":""},"","","",null,{"$f":"+IF(BD814=\"\",\"\",MAX(AY$1:AY813)+1)","v":""},{"$f":"IF(Deviation_CEM_CPMS!B836=\"\",\"\",Deviation_CEM_CPMS!B836)","v":""},{"$f":"IF(Deviation_CEM_CPMS!C836=\"\",\"\",Deviation_CEM_CPMS!C836)","v":""},{"$f":"IF(Deviation_CEM_CPMS!D836=\"\",\"\",Deviation_CEM_CPMS!D836)","v":""},"",{"$f":"IF(COUNTIF(BA$2:BA814,BA814)=1,BA814,\"\")","v":""},"","",""]
[null,null,null,null,null,null,null,null,null,null,null,null,null,null,null,null,null,null,null,null,null,null,null,null,null,null,{"$f":"+IF(AE815=\"\",\"\",MAX(AA$1:AA814)+1)","v":""},{"$f":"IF(#REF!=\"\",\"\",#REF!)","v":{"$error":"#REF!"}},{"$f":"IF(#REF!=\"\",\"\",#REF!)","v":{"$error":"#REF!"}},{"$error":"#REF!"},{"$f":"IF(COUNTIF(AC$2:AC815,AC815)=1,AC815,\"\")","v":""},"","",null,null,null,null,null,null,null,{"$f":"+IF(AT815=\"\",\"\",MAX(AO$1:AO814)+1)","v":""},{"$f":"IF(Deviation_Limits!B837=\"\",\"\",Deviation_Limits!B837)","v":""},{"$f":"IF(Deviation_Limits!C837=\"\",\"\",Deviation_Limits!C837)","v":""},{"$f":"IF(Deviation_Limits!D837=\"\",\"\",Deviation_Limits!D837)","v":""},"",{"$f":"IF(COUNTIF(AQ$2:AQ815,AQ815)=1,AQ815,\"\")","v":""},"","","",null,{"$f":"+IF(BD815=\"\",\"\",MAX(AY$1:AY814)+1)","v":""},{"$f":"IF(Deviation_CEM_CPMS!B837=\"\",\"\",Deviation_CEM_CPMS!B837)","v":""},{"$f":"IF(Deviation_CEM_CPMS!C837=\"\",\"\",Deviation_CEM_CPMS!C837)","v":""},{"$f":"IF(Deviation_CEM_CPMS!D837=\"\",\"\",Deviation_CEM_CPMS!D837)","v":""},"",{"$f":"IF(COUNTIF(BA$2:BA815,BA815)=1,BA815,\"\")","v":""},"","",""]
[null,null,null,null,null,null,null,null,null,null,null,null,null,null,null,null,null,null,null,null,null,null,null,null,null,null,{"$f":"+IF(AE816=\"\",\"\",MAX(AA$1:AA815)+1)","v":""},{"$f":"IF(#REF!=\"\",\"\",#REF!)","v":{"$error":"#REF!"}},{"$f":"IF(#REF!=\"\",\"\",#REF!)","v":{"$error":"#REF!"}},{"$error":"#REF!"},{"$f":"IF(COUNTIF(AC$2:AC816,AC816)=1,AC816,\"\")","v":""},"","",null,null,null,null,null,null,null,{"$f":"+IF(AT816=\"\",\"\",MAX(AO$1:AO815)+1)","v":""},{"$f":"IF(Deviation_Limits!B838=\"\",\"\",Deviation_Limits!B838)","v":""},{"$f":"IF(Deviation_Limits!C838=\"\",\"\",Deviation_Limits!C838)","v":""},{"$f":"IF(Deviation_Limits!D838=\"\",\"\",Deviation_Limits!D838)","v":""},"",{"$f":"IF(COUNTIF(AQ$2:AQ816,AQ816)=1,AQ816,\"\")","v":""},"","","",null,{"$f":"+IF(BD816=\"\",\"\",MAX(AY$1:AY815)+1)","v":""},{"$f":"IF(Deviation_CEM_CPMS!B838=\"\",\"\",Deviation_CEM_CPMS!B838)","v":""},{"$f":"IF(Deviation_CEM_CPMS!C838=\"\",\"\",Deviation_CEM_CPMS!C838)","v":""},{"$f":"IF(Deviation_CEM_CPMS!D838=\"\",\"\",Deviation_CEM_CPMS!D838)","v":""},"",{"$f":"IF(COUNTIF(BA$2:BA816,BA816)=1,BA816,\"\")","v":""},"","",""]
[null,null,null,null,null,null,null,null,null,null,null,null,null,null,null,null,null,null,null,null,null,null,null,null,null,null,{"$f":"+IF(AE817=\"\",\"\",MAX(AA$1:AA816)+1)","v":""},{"$f":"IF(#REF!=\"\",\"\",#REF!)","v":{"$error":"#REF!"}},{"$f":"IF(#REF!=\"\",\"\",#REF!)","v":{"$error":"#REF!"}},{"$error":"#REF!"},{"$f":"IF(COUNTIF(AC$2:AC817,AC817)=1,AC817,\"\")","v":""},"","",null,null,null,null,null,null,null,{"$f":"+IF(AT817=\"\",\"\",MAX(AO$1:AO816)+1)","v":""},{"$f":"IF(Deviation_Limits!B839=\"\",\"\",Deviation_Limits!B839)","v":""},{"$f":"IF(Deviation_Limits!C839=\"\",\"\",Deviation_Limits!C839)","v":""},{"$f":"IF(Deviation_Limits!D839=\"\",\"\",Deviation_Limits!D839)","v":""},"",{"$f":"IF(COUNTIF(AQ$2:AQ817,AQ817)=1,AQ817,\"\")","v":""},"","","",null,{"$f":"+IF(BD817=\"\",\"\",MAX(AY$1:AY816)+1)","v":""},{"$f":"IF(Deviation_CEM_CPMS!B839=\"\",\"\",Deviation_CEM_CPMS!B839)","v":""},{"$f":"IF(Deviation_CEM_CPMS!C839=\"\",\"\",Deviation_CEM_CPMS!C839)","v":""},{"$f":"IF(Deviation_CEM_CPMS!D839=\"\",\"\",Deviation_CEM_CPMS!D839)","v":""},"",{"$f":"IF(COUNTIF(BA$2:BA817,BA817)=1,BA817,\"\")","v":""},"","",""]
[null,null,null,null,null,null,null,null,null,null,null,null,null,null,null,null,null,null,null,null,null,null,null,null,null,null,{"$f":"+IF(AE818=\"\",\"\",MAX(AA$1:AA817)+1)","v":""},{"$f":"IF(#REF!=\"\",\"\",#REF!)","v":{"$error":"#REF!"}},{"$f":"IF(#REF!=\"\",\"\",#REF!)","v":{"$error":"#REF!"}},{"$error":"#REF!"},{"$f":"IF(COUNTIF(AC$2:AC818,AC818)=1,AC818,\"\")","v":""},"","",null,null,null,null,null,null,null,{"$f":"+IF(AT818=\"\",\"\",MAX(AO$1:AO817)+1)","v":""},{"$f":"IF(Deviation_Limits!B840=\"\",\"\",Deviation_Limits!B840)","v":""},{"$f":"IF(Deviation_Limits!C840=\"\",\"\",Deviation_Limits!C840)","v":""},{"$f":"IF(Deviation_Limits!D840=\"\",\"\",Deviation_Limits!D840)","v":""},"",{"$f":"IF(COUNTIF(AQ$2:AQ818,AQ818)=1,AQ818,\"\")","v":""},"","","",null,{"$f":"+IF(BD818=\"\",\"\",MAX(AY$1:AY817)+1)","v":""},{"$f":"IF(Deviation_CEM_CPMS!B840=\"\",\"\",Deviation_CEM_CPMS!B840)","v":""},{"$f":"IF(Deviation_CEM_CPMS!C840=\"\",\"\",Deviation_CEM_CPMS!C840)","v":""},{"$f":"IF(Deviation_CEM_CPMS!D840=\"\",\"\",Deviation_CEM_CPMS!D840)","v":""},"",{"$f":"IF(COUNTIF(BA$2:BA818,BA818)=1,BA818,\"\")","v":""},"","",""]
[null,null,null,null,null,null,null,null,null,null,null,null,null,null,null,null,null,null,null,null,null,null,null,null,null,null,{"$f":"+IF(AE819=\"\",\"\",MAX(AA$1:AA818)+1)","v":""},{"$f":"IF(#REF!=\"\",\"\",#REF!)","v":{"$error":"#REF!"}},{"$f":"IF(#REF!=\"\",\"\",#REF!)","v":{"$error":"#REF!"}},{"$error":"#REF!"},{"$f":"IF(COUNTIF(AC$2:AC819,AC819)=1,AC819,\"\")","v":""},"","",null,null,null,null,null,null,null,{"$f":"+IF(AT819=\"\",\"\",MAX(AO$1:AO818)+1)","v":""},{"$f":"IF(Deviation_Limits!B841=\"\",\"\",Deviation_Limits!B841)","v":""},{"$f":"IF(Deviation_Limits!C841=\"\",\"\",Deviation_Limits!C841)","v":""},{"$f":"IF(Deviation_Limits!D841=\"\",\"\",Deviation_Limits!D841)","v":""},"",{"$f":"IF(COUNTIF(AQ$2:AQ819,AQ819)=1,AQ819,\"\")","v":""},"","","",null,{"$f":"+IF(BD819=\"\",\"\",MAX(AY$1:AY818)+1)","v":""},{"$f":"IF(Deviation_CEM_CPMS!B841=\"\",\"\",Deviation_CEM_CPMS!B841)","v":""},{"$f":"IF(Deviation_CEM_CPMS!C841=\"\",\"\",Deviation_CEM_CPMS!C841)","v":""},{"$f":"IF(Deviation_CEM_CPMS!D841=\"\",\"\",Deviation_CEM_CPMS!D841)","v":""},"",{"$f":"IF(COUNTIF(BA$2:BA819,BA819)=1,BA819,\"\")","v":""},"","",""]
[null,null,null,null,null,null,null,null,null,null,null,null,null,null,null,null,null,null,null,null,null,null,null,null,null,null,{"$f":"+IF(AE820=\"\",\"\",MAX(AA$1:AA819)+1)","v":""},{"$f":"IF(#REF!=\"\",\"\",#REF!)","v":{"$error":"#REF!"}},{"$f":"IF(#REF!=\"\",\"\",#REF!)","v":{"$error":"#REF!"}},{"$error":"#REF!"},{"$f":"IF(COUNTIF(AC$2:AC820,AC820)=1,AC820,\"\")","v":""},"","",null,null,null,null,null,null,null,{"$f":"+IF(AT820=\"\",\"\",MAX(AO$1:AO819)+1)","v":""},{"$f":"IF(Deviation_Limits!B842=\"\",\"\",Deviation_Limits!B842)","v":""},{"$f":"IF(Deviation_Limits!C842=\"\",\"\",Deviation_Limits!C842)","v":""},{"$f":"IF(Deviation_Limits!D842=\"\",\"\",Deviation_Limits!D842)","v":""},"",{"$f":"IF(COUNTIF(AQ$2:AQ820,AQ820)=1,AQ820,\"\")","v":""},"","","",null,{"$f":"+IF(BD820=\"\",\"\",MAX(AY$1:AY819)+1)","v":""},{"$f":"IF(Deviation_CEM_CPMS!B842=\"\",\"\",Deviation_CEM_CPMS!B842)","v":""},{"$f":"IF(Deviation_CEM_CPMS!C842=\"\",\"\",Deviation_CEM_CPMS!C842)","v":""},{"$f":"IF(Deviation_CEM_CPMS!D842=\"\",\"\",Deviation_CEM_CPMS!D842)","v":""},"",{"$f":"IF(COUNTIF(BA$2:BA820,BA820)=1,BA820,\"\")","v":""},"","",""]
[null,null,null,null,null,null,null,null,null,null,null,null,null,null,null,null,null,null,null,null,null,null,null,null,null,null,{"$f":"+IF(AE821=\"\",\"\",MAX(AA$1:AA820)+1)","v":""},{"$f":"IF(#REF!=\"\",\"\",#REF!)","v":{"$error":"#REF!"}},{"$f":"IF(#REF!=\"\",\"\",#REF!)","v":{"$error":"#REF!"}},{"$error":"#REF!"},{"$f":"IF(COUNTIF(AC$2:AC821,AC821)=1,AC821,\"\")","v":""},"","",null,null,null,null,null,null,null,{"$f":"+IF(AT821=\"\",\"\",MAX(AO$1:AO820)+1)","v":""},{"$f":"IF(Deviation_Limits!B843=\"\",\"\",Deviation_Limits!B843)","v":""},{"$f":"IF(Deviation_Limits!C843=\"\",\"\",Deviation_Limits!C843)","v":""},{"$f":"IF(Deviation_Limits!D843=\"\",\"\",Deviation_Limits!D843)","v":""},"",{"$f":"IF(COUNTIF(AQ$2:AQ821,AQ821)=1,AQ821,\"\")","v":""},"","","",null,{"$f":"+IF(BD821=\"\",\"\",MAX(AY$1:AY820)+1)","v":""},{"$f":"IF(Deviation_CEM_CPMS!B843=\"\",\"\",Deviation_CEM_CPMS!B843)","v":""},{"$f":"IF(Deviation_CEM_CPMS!C843=\"\",\"\",Deviation_CEM_CPMS!C843)","v":""},{"$f":"IF(Deviation_CEM_CPMS!D843=\"\",\"\",Deviation_CEM_CPMS!D843)","v":""},"",{"$f":"IF(COUNTIF(BA$2:BA821,BA821)=1,BA821,\"\")","v":""},"","",""]
[null,null,null,null,null,null,null,null,null,null,null,null,null,null,null,null,null,null,null,null,null,null,null,null,null,null,{"$f":"+IF(AE822=\"\",\"\",MAX(AA$1:AA821)+1)","v":""},{"$f":"IF(#REF!=\"\",\"\",#REF!)","v":{"$error":"#REF!"}},{"$f":"IF(#REF!=\"\",\"\",#REF!)","v":{"$error":"#REF!"}},{"$error":"#REF!"},{"$f":"IF(COUNTIF(AC$2:AC822,AC822)=1,AC822,\"\")","v":""},"","",null,null,null,null,null,null,null,{"$f":"+IF(AT822=\"\",\"\",MAX(AO$1:AO821)+1)","v":""},{"$f":"IF(Deviation_Limits!B844=\"\",\"\",Deviation_Limits!B844)","v":""},{"$f":"IF(Deviation_Limits!C844=\"\",\"\",Deviation_Limits!C844)","v":""},{"$f":"IF(Deviation_Limits!D844=\"\",\"\",Deviation_Limits!D844)","v":""},"",{"$f":"IF(COUNTIF(AQ$2:AQ822,AQ822)=1,AQ822,\"\")","v":""},"","","",null,{"$f":"+IF(BD822=\"\",\"\",MAX(AY$1:AY821)+1)","v":""},{"$f":"IF(Deviation_CEM_CPMS!B844=\"\",\"\",Deviation_CEM_CPMS!B844)","v":""},{"$f":"IF(Deviation_CEM_CPMS!C844=\"\",\"\",Deviation_CEM_CPMS!C844)","v":""},{"$f":"IF(Deviation_CEM_CPMS!D844=\"\",\"\",Deviation_CEM_CPMS!D844)","v":""},"",{"$f":"IF(COUNTIF(BA$2:BA822,BA822)=1,BA822,\"\")","v":""},"","",""]
[null,null,null,null,null,null,null,null,null,null,null,null,null,null,null,null,null,null,null,null,null,null,null,null,null,null,{"$f":"+IF(AE823=\"\",\"\",MAX(AA$1:AA822)+1)","v":""},{"$f":"IF(#REF!=\"\",\"\",#REF!)","v":{"$error":"#REF!"}},{"$f":"IF(#REF!=\"\",\"\",#REF!)","v":{"$error":"#REF!"}},{"$error":"#REF!"},{"$f":"IF(COUNTIF(AC$2:AC823,AC823)=1,AC823,\"\")","v":""},"","",null,null,null,null,null,null,null,{"$f":"+IF(AT823=\"\",\"\",MAX(AO$1:AO822)+1)","v":""},{"$f":"IF(Deviation_Limits!B845=\"\",\"\",Deviation_Limits!B845)","v":""},{"$f":"IF(Deviation_Limits!C845=\"\",\"\",Deviation_Limits!C845)","v":""},{"$f":"IF(Deviation_Limits!D845=\"\",\"\",Deviation_Limits!D845)","v":""},"",{"$f":"IF(COUNTIF(AQ$2:AQ823,AQ823)=1,AQ823,\"\")","v":""},"","","",null,{"$f":"+IF(BD823=\"\",\"\",MAX(AY$1:AY822)+1)","v":""},{"$f":"IF(Deviation_CEM_CPMS!B845=\"\",\"\",Deviation_CEM_CPMS!B845)","v":""},{"$f":"IF(Deviation_CEM_CPMS!C845=\"\",\"\",Deviation_CEM_CPMS!C845)","v":""},{"$f":"IF(Deviation_CEM_CPMS!D845=\"\",\"\",Deviation_CEM_CPMS!D845)","v":""},"",{"$f":"IF(COUNTIF(BA$2:BA823,BA823)=1,BA823,\"\")","v":""},"","",""]
[null,null,null,null,null,null,null,null,null,null,null,null,null,null,null,null,null,null,null,null,null,null,null,null,null,null,{"$f":"+IF(AE824=\"\",\"\",MAX(AA$1:AA823)+1)","v":""},{"$f":"IF(#REF!=\"\",\"\",#REF!)","v":{"$error":"#REF!"}},{"$f":"IF(#REF!=\"\",\"\",#REF!)","v":{"$error":"#REF!"}},{"$error":"#REF!"},{"$f":"IF(COUNTIF(AC$2:AC824,AC824)=1,AC824,\"\")","v":""},"","",null,null,null,null,null,null,null,{"$f":"+IF(AT824=\"\",\"\",MAX(AO$1:AO823)+1)","v":""},{"$f":"IF(Deviation_Limits!B846=\"\",\"\",Deviation_Limits!B846)","v":""},{"$f":"IF(Deviation_Limits!C846=\"\",\"\",Deviation_Limits!C846)","v":""},{"$f":"IF(Deviation_Limits!D846=\"\",\"\",Deviation_Limits!D846)","v":""},"",{"$f":"IF(COUNTIF(AQ$2:AQ824,AQ824)=1,AQ824,\"\")","v":""},"","","",null,{"$f":"+IF(BD824=\"\",\"\",MAX(AY$1:AY823)+1)","v":""},{"$f":"IF(Deviation_CEM_CPMS!B846=\"\",\"\",Deviation_CEM_CPMS!B846)","v":""},{"$f":"IF(Deviation_CEM_CPMS!C846=\"\",\"\",Deviation_CEM_CPMS!C846)","v":""},{"$f":"IF(Deviation_CEM_CPMS!D846=\"\",\"\",Deviation_CEM_CPMS!D846)","v":""},"",{"$f":"IF(COUNTIF(BA$2:BA824,BA824)=1,BA824,\"\")","v":""},"","",""]
[null,null,null,null,null,null,null,null,null,null,null,null,null,null,null,null,null,null,null,null,null,null,null,null,null,null,{"$f":"+IF(AE825=\"\",\"\",MAX(AA$1:AA824)+1)","v":""},{"$f":"IF(#REF!=\"\",\"\",#REF!)","v":{"$error":"#REF!"}},{"$f":"IF(#REF!=\"\",\"\",#REF!)","v":{"$error":"#REF!"}},{"$error":"#REF!"},{"$f":"IF(COUNTIF(AC$2:AC825,AC825)=1,AC825,\"\")","v":""},"","",null,null,null,null,null,null,null,{"$f":"+IF(AT825=\"\",\"\",MAX(AO$1:AO824)+1)","v":""},{"$f":"IF(Deviation_Limits!B847=\"\",\"\",Deviation_Limits!B847)","v":""},{"$f":"IF(Deviation_Limits!C847=\"\",\"\",Deviation_Limits!C847)","v":""},{"$f":"IF(Deviation_Limits!D847=\"\",\"\",Deviation_Limits!D847)","v":""},"",{"$f":"IF(COUNTIF(AQ$2:AQ825,AQ825)=1,AQ825,\"\")","v":""},"","","",null,{"$f":"+IF(BD825=\"\",\"\",MAX(AY$1:AY824)+1)","v":""},{"$f":"IF(Deviation_CEM_CPMS!B847=\"\",\"\",Deviation_CEM_CPMS!B847)","v":""},{"$f":"IF(Deviation_CEM_CPMS!C847=\"\",\"\",Deviation_CEM_CPMS!C847)","v":""},{"$f":"IF(Deviation_CEM_CPMS!D847=\"\",\"\",Deviation_CEM_CPMS!D847)","v":""},"",{"$f":"IF(COUNTIF(BA$2:BA825,BA825)=1,BA825,\"\")","v":""},"","",""]
[null,null,null,null,null,null,null,null,null,null,null,null,null,null,null,null,null,null,null,null,null,null,null,null,null,null,{"$f":"+IF(AE826=\"\",\"\",MAX(AA$1:AA825)+1)","v":""},{"$f":"IF(#REF!=\"\",\"\",#REF!)","v":{"$error":"#REF!"}},{"$f":"IF(#REF!=\"\",\"\",#REF!)","v":{"$error":"#REF!"}},{"$error":"#REF!"},{"$f":"IF(COUNTIF(AC$2:AC826,AC826)=1,AC826,\"\")","v":""},"","",null,null,null,null,null,null,null,{"$f":"+IF(AT826=\"\",\"\",MAX(AO$1:AO825)+1)","v":""},{"$f":"IF(Deviation_Limits!B848=\"\",\"\",Deviation_Limits!B848)","v":""},{"$f":"IF(Deviation_Limits!C848=\"\",\"\",Deviation_Limits!C848)","v":""},{"$f":"IF(Deviation_Limits!D848=\"\",\"\",Deviation_Limits!D848)","v":""},"",{"$f":"IF(COUNTIF(AQ$2:AQ826,AQ826)=1,AQ826,\"\")","v":""},"","","",null,{"$f":"+IF(BD826=\"\",\"\",MAX(AY$1:AY825)+1)","v":""},{"$f":"IF(Deviation_CEM_CPMS!B848=\"\",\"\",Deviation_CEM_CPMS!B848)","v":""},{"$f":"IF(Deviation_CEM_CPMS!C848=\"\",\"\",Deviation_CEM_CPMS!C848)","v":""},{"$f":"IF(Deviation_CEM_CPMS!D848=\"\",\"\",Deviation_CEM_CPMS!D848)","v":""},"",{"$f":"IF(COUNTIF(BA$2:BA826,BA826)=1,BA826,\"\")","v":""},"","",""]
[null,null,null,null,null,null,null,null,null,null,null,null,null,null,null,null,null,null,null,null,null,null,null,null,null,null,{"$f":"+IF(AE827=\"\",\"\",MAX(AA$1:AA826)+1)","v":""},{"$f":"IF(#REF!=\"\",\"\",#REF!)","v":{"$error":"#REF!"}},{"$f":"IF(#REF!=\"\",\"\",#REF!)","v":{"$error":"#REF!"}},{"$error":"#REF!"},{"$f":"IF(COUNTIF(AC$2:AC827,AC827)=1,AC827,\"\")","v":""},"","",null,null,null,null,null,null,null,{"$f":"+IF(AT827=\"\",\"\",MAX(AO$1:AO826)+1)","v":""},{"$f":"IF(Deviation_Limits!B849=\"\",\"\",Deviation_Limits!B849)","v":""},{"$f":"IF(Deviation_Limits!C849=\"\",\"\",Deviation_Limits!C849)","v":""},{"$f":"IF(Deviation_Limits!D849=\"\",\"\",Deviation_Limits!D849)","v":""},"",{"$f":"IF(COUNTIF(AQ$2:AQ827,AQ827)=1,AQ827,\"\")","v":""},"","","",null,{"$f":"+IF(BD827=\"\",\"\",MAX(AY$1:AY826)+1)","v":""},{"$f":"IF(Deviation_CEM_CPMS!B849=\"\",\"\",Deviation_CEM_CPMS!B849)","v":""},{"$f":"IF(Deviation_CEM_CPMS!C849=\"\",\"\",Deviation_CEM_CPMS!C849)","v":""},{"$f":"IF(Deviation_CEM_CPMS!D849=\"\",\"\",Deviation_CEM_CPMS!D849)","v":""},"",{"$f":"IF(COUNTIF(BA$2:BA827,BA827)=1,BA827,\"\")","v":""},"","",""]
[null,null,null,null,null,null,null,null,null,null,null,null,null,null,null,null,null,null,null,null,null,null,null,null,null,null,{"$f":"+IF(AE828=\"\",\"\",MAX(AA$1:AA827)+1)","v":""},{"$f":"IF(#REF!=\"\",\"\",#REF!)","v":{"$error":"#REF!"}},{"$f":"IF(#REF!=\"\",\"\",#REF!)","v":{"$error":"#REF!"}},{"$error":"#REF!"},{"$f":"IF(COUNTIF(AC$2:AC828,AC828)=1,AC828,\"\")","v":""},"","",null,null,null,null,null,null,null,{"$f":"+IF(AT828=\"\",\"\",MAX(AO$1:AO827)+1)","v":""},{"$f":"IF(Deviation_Limits!B850=\"\",\"\",Deviation_Limits!B850)","v":""},{"$f":"IF(Deviation_Limits!C850=\"\",\"\",Deviation_Limits!C850)","v":""},{"$f":"IF(Deviation_Limits!D850=\"\",\"\",Deviation_Limits!D850)","v":""},"",{"$f":"IF(COUNTIF(AQ$2:AQ828,AQ828)=1,AQ828,\"\")","v":""},"","","",null,{"$f":"+IF(BD828=\"\",\"\",MAX(AY$1:AY827)+1)","v":""},{"$f":"IF(Deviation_CEM_CPMS!B850=\"\",\"\",Deviation_CEM_CPMS!B850)","v":""},{"$f":"IF(Deviation_CEM_CPMS!C850=\"\",\"\",Deviation_CEM_CPMS!C850)","v":""},{"$f":"IF(Deviation_CEM_CPMS!D850=\"\",\"\",Deviation_CEM_CPMS!D850)","v":""},"",{"$f":"IF(COUNTIF(BA$2:BA828,BA828)=1,BA828,\"\")","v":""},"","",""]
[null,null,null,null,null,null,null,null,null,null,null,null,null,null,null,null,null,null,null,null,null,null,null,null,null,null,{"$f":"+IF(AE829=\"\",\"\",MAX(AA$1:AA828)+1)","v":""},{"$f":"IF(#REF!=\"\",\"\",#REF!)","v":{"$error":"#REF!"}},{"$f":"IF(#REF!=\"\",\"\",#REF!)","v":{"$error":"#REF!"}},{"$error":"#REF!"},{"$f":"IF(COUNTIF(AC$2:AC829,AC829)=1,AC829,\"\")","v":""},"","",null,null,null,null,null,null,null,{"$f":"+IF(AT829=\"\",\"\",MAX(AO$1:AO828)+1)","v":""},{"$f":"IF(Deviation_Limits!B851=\"\",\"\",Deviation_Limits!B851)","v":""},{"$f":"IF(Deviation_Limits!C851=\"\",\"\",Deviation_Limits!C851)","v":""},{"$f":"IF(Deviation_Limits!D851=\"\",\"\",Deviation_Limits!D851)","v":""},"",{"$f":"IF(COUNTIF(AQ$2:AQ829,AQ829)=1,AQ829,\"\")","v":""},"","","",null,{"$f":"+IF(BD829=\"\",\"\",MAX(AY$1:AY828)+1)","v":""},{"$f":"IF(Deviation_CEM_CPMS!B851=\"\",\"\",Deviation_CEM_CPMS!B851)","v":""},{"$f":"IF(Deviation_CEM_CPMS!C851=\"\",\"\",Deviation_CEM_CPMS!C851)","v":""},{"$f":"IF(Deviation_CEM_CPMS!D851=\"\",\"\",Deviation_CEM_CPMS!D851)","v":""},"",{"$f":"IF(COUNTIF(BA$2:BA829,BA829)=1,BA829,\"\")","v":""},"","",""]
[null,null,null,null,null,null,null,null,null,null,null,null,null,null,null,null,null,null,null,null,null,null,null,null,null,null,{"$f":"+IF(AE830=\"\",\"\",MAX(AA$1:AA829)+1)","v":""},{"$f":"IF(#REF!=\"\",\"\",#REF!)","v":{"$error":"#REF!"}},{"$f":"IF(#REF!=\"\",\"\",#REF!)","v":{"$error":"#REF!"}},{"$error":"#REF!"},{"$f":"IF(COUNTIF(AC$2:AC830,AC830)=1,AC830,\"\")","v":""},"","",null,null,null,null,null,null,null,{"$f":"+IF(AT830=\"\",\"\",MAX(AO$1:AO829)+1)","v":""},{"$f":"IF(Deviation_Limits!B852=\"\",\"\",Deviation_Limits!B852)","v":""},{"$f":"IF(Deviation_Limits!C852=\"\",\"\",Deviation_Limits!C852)","v":""},{"$f":"IF(Deviation_Limits!D852=\"\",\"\",Deviation_Limits!D852)","v":""},"",{"$f":"IF(COUNTIF(AQ$2:AQ830,AQ830)=1,AQ830,\"\")","v":""},"","","",null,{"$f":"+IF(BD830=\"\",\"\",MAX(AY$1:AY829)+1)","v":""},{"$f":"IF(Deviation_CEM_CPMS!B852=\"\",\"\",Deviation_CEM_CPMS!B852)","v":""},{"$f":"IF(Deviation_CEM_CPMS!C852=\"\",\"\",Deviation_CEM_CPMS!C852)","v":""},{"$f":"IF(Deviation_CEM_CPMS!D852=\"\",\"\",Deviation_CEM_CPMS!D852)","v":""},"",{"$f":"IF(COUNTIF(BA$2:BA830,BA830)=1,BA830,\"\")","v":""},"","",""]
[null,null,null,null,null,null,null,null,null,null,null,null,null,null,null,null,null,null,null,null,null,null,null,null,null,null,{"$f":"+IF(AE831=\"\",\"\",MAX(AA$1:AA830)+1)","v":""},{"$f":"IF(#REF!=\"\",\"\",#REF!)","v":{"$error":"#REF!"}},{"$f":"IF(#REF!=\"\",\"\",#REF!)","v":{"$error":"#REF!"}},{"$error":"#REF!"},{"$f":"IF(COUNTIF(AC$2:AC831,AC831)=1,AC831,\"\")","v":""},"","",null,null,null,null,null,null,null,{"$f":"+IF(AT831=\"\",\"\",MAX(AO$1:AO830)+1)","v":""},{"$f":"IF(Deviation_Limits!B853=\"\",\"\",Deviation_Limits!B853)","v":""},{"$f":"IF(Deviation_Limits!C853=\"\",\"\",Deviation_Limits!C853)","v":""},{"$f":"IF(Deviation_Limits!D853=\"\",\"\",Deviation_Limits!D853)","v":""},"",{"$f":"IF(COUNTIF(AQ$2:AQ831,AQ831)=1,AQ831,\"\")","v":""},"","","",null,{"$f":"+IF(BD831=\"\",\"\",MAX(AY$1:AY830)+1)","v":""},{"$f":"IF(Deviation_CEM_CPMS!B853=\"\",\"\",Deviation_CEM_CPMS!B853)","v":""},{"$f":"IF(Deviation_CEM_CPMS!C853=\"\",\"\",Deviation_CEM_CPMS!C853)","v":""},{"$f":"IF(Deviation_CEM_CPMS!D853=\"\",\"\",Deviation_CEM_CPMS!D853)","v":""},"",{"$f":"IF(COUNTIF(BA$2:BA831,BA831)=1,BA831,\"\")","v":""},"","",""]
[null,null,null,null,null,null,null,null,null,null,null,null,null,null,null,null,null,null,null,null,null,null,null,null,null,null,{"$f":"+IF(AE832=\"\",\"\",MAX(AA$1:AA831)+1)","v":""},{"$f":"IF(#REF!=\"\",\"\",#REF!)","v":{"$error":"#REF!"}},{"$f":"IF(#REF!=\"\",\"\",#REF!)","v":{"$error":"#REF!"}},{"$error":"#REF!"},{"$f":"IF(COUNTIF(AC$2:AC832,AC832)=1,AC832,\"\")","v":""},"","",null,null,null,null,null,null,null,{"$f":"+IF(AT832=\"\",\"\",MAX(AO$1:AO831)+1)","v":""},{"$f":"IF(Deviation_Limits!B854=\"\",\"\",Deviation_Limits!B854)","v":""},{"$f":"IF(Deviation_Limits!C854=\"\",\"\",Deviation_Limits!C854)","v":""},{"$f":"IF(Deviation_Limits!D854=\"\",\"\",Deviation_Limits!D854)","v":""},"",{"$f":"IF(COUNTIF(AQ$2:AQ832,AQ832)=1,AQ832,\"\")","v":""},"","","",null,{"$f":"+IF(BD832=\"\",\"\",MAX(AY$1:AY831)+1)","v":""},{"$f":"IF(Deviation_CEM_CPMS!B854=\"\",\"\",Deviation_CEM_CPMS!B854)","v":""},{"$f":"IF(Deviation_CEM_CPMS!C854=\"\",\"\",Deviation_CEM_CPMS!C854)","v":""},{"$f":"IF(Deviation_CEM_CPMS!D854=\"\",\"\",Deviation_CEM_CPMS!D854)","v":""},"",{"$f":"IF(COUNTIF(BA$2:BA832,BA832)=1,BA832,\"\")","v":""},"","",""]
[null,null,null,null,null,null,null,null,null,null,null,null,null,null,null,null,null,null,null,null,null,null,null,null,null,null,{"$f":"+IF(AE833=\"\",\"\",MAX(AA$1:AA832)+1)","v":""},{"$f":"IF(#REF!=\"\",\"\",#REF!)","v":{"$error":"#REF!"}},{"$f":"IF(#REF!=\"\",\"\",#REF!)","v":{"$error":"#REF!"}},{"$error":"#REF!"},{"$f":"IF(COUNTIF(AC$2:AC833,AC833)=1,AC833,\"\")","v":""},"","",null,null,null,null,null,null,null,{"$f":"+IF(AT833=\"\",\"\",MAX(AO$1:AO832)+1)","v":""},{"$f":"IF(Deviation_Limits!B855=\"\",\"\",Deviation_Limits!B855)","v":""},{"$f":"IF(Deviation_Limits!C855=\"\",\"\",Deviation_Limits!C855)","v":""},{"$f":"IF(Deviation_Limits!D855=\"\",\"\",Deviation_Limits!D855)","v":""},"",{"$f":"IF(COUNTIF(AQ$2:AQ833,AQ833)=1,AQ833,\"\")","v":""},"","","",null,{"$f":"+IF(BD833=\"\",\"\",MAX(AY$1:AY832)+1)","v":""},{"$f":"IF(Deviation_CEM_CPMS!B855=\"\",\"\",Deviation_CEM_CPMS!B855)","v":""},{"$f":"IF(Deviation_CEM_CPMS!C855=\"\",\"\",Deviation_CEM_CPMS!C855)","v":""},{"$f":"IF(Deviation_CEM_CPMS!D855=\"\",\"\",Deviation_CEM_CPMS!D855)","v":""},"",{"$f":"IF(COUNTIF(BA$2:BA833,BA833)=1,BA833,\"\")","v":""},"","",""]
[null,null,null,null,null,null,null,null,null,null,null,null,null,null,null,null,null,null,null,null,null,null,null,null,null,null,{"$f":"+IF(AE834=\"\",\"\",MAX(AA$1:AA833)+1)","v":""},{"$f":"IF(#REF!=\"\",\"\",#REF!)","v":{"$error":"#REF!"}},{"$f":"IF(#REF!=\"\",\"\",#REF!)","v":{"$error":"#REF!"}},{"$error":"#REF!"},{"$f":"IF(COUNTIF(AC$2:AC834,AC834)=1,AC834,\"\")","v":""},"","",null,null,null,null,null,null,null,{"$f":"+IF(AT834=\"\",\"\",MAX(AO$1:AO833)+1)","v":""},{"$f":"IF(Deviation_Limits!B856=\"\",\"\",Deviation_Limits!B856)","v":""},{"$f":"IF(Deviation_Limits!C856=\"\",\"\",Deviation_Limits!C856)","v":""},{"$f":"IF(Deviation_Limits!D856=\"\",\"\",Deviation_Limits!D856)","v":""},"",{"$f":"IF(COUNTIF(AQ$2:AQ834,AQ834)=1,AQ834,\"\")","v":""},"","","",null,{"$f":"+IF(BD834=\"\",\"\",MAX(AY$1:AY833)+1)","v":""},{"$f":"IF(Deviation_CEM_CPMS!B856=\"\",\"\",Deviation_CEM_CPMS!B856)","v":""},{"$f":"IF(Deviation_CEM_CPMS!C856=\"\",\"\",Deviation_CEM_CPMS!C856)","v":""},{"$f":"IF(Deviation_CEM_CPMS!D856=\"\",\"\",Deviation_CEM_CPMS!D856)","v":""},{"$f":"+AZ834&BA834&BB834","v":""},{"$f":"IF(COUNTIF(BA$2:BA834,BA834)=1,BA834,\"\")","v":""},{"$f":"+IFERROR(INDEX(AZ$2:AZ$500,MATCH(ROW()-ROW(BE$1),$AA$2:$AA$500,0)),\"\")","v":""},{"$f":"+IFERROR(INDEX(BA$2:BA$500,MATCH(ROW()-ROW(BE$1),$AA$2:$AA$500,0)),\"\")","v":""},{"$f":"+IFERROR(INDEX(BB$2:BB$500,MATCH(ROW()-ROW(BE$1),$AA$2:$AA$500,0)),\"\")","v":""}]
[null,null,null,null,null,null,null,null,null,null,null,null,null,null,null,null,null,null,null,null,null,null,null,null,null,null,{"$f":"+IF(AE835=\"\",\"\",MAX(AA$1:AA834)+1)","v":""},{"$f":"IF(#REF!=\"\",\"\",#REF!)","v":{"$error":"#REF!"}},{"$f":"IF(#REF!=\"\",\"\",#REF!)","v":{"$error":"#REF!"}},{"$error":"#REF!"},{"$f":"IF(COUNTIF(AC$2:AC835,AC835)=1,AC835,\"\")","v":""},{"$f":"+IFERROR(INDEX(AB$2:AB$500,MATCH(ROW()-ROW($AF$1),$AA$2:$AA$500,0)),\"\")","v":""},{"$f":"+IFERROR(INDEX(AC$2:AC$500,MATCH(ROW()-ROW($AF$1),$AA$2:$AA$500,0)),\"\")","v":""},null,null,null,null,null,null,null,{"$f":"+IF(AT835=\"\",\"\",MAX(AO$1:AO834)+1)","v":""},{"$f":"IF(Deviation_Limits!B857=\"\",\"\",Deviation_Limits!B857)","v":""},{"$f":"IF(Deviation_Limits!C857=\"\",\"\",Deviation_Limits!C857)","v":""},{"$f":"IF(Deviation_Limits!D857=\"\",\"\",Deviation_Limits!D857)","v":""},{"$f":"+AP835&AQ835&C835","v":""},{"$f":"IF(COUNTIF(AQ$2:AQ835,AQ835)=1,AQ835,\"\")","v":""},{"$f":"+IFERROR(INDEX(AP$2:AP$500,MATCH(ROW()-ROW(AU$1),$AA$2:$AA$500,0)),\"\")","v":""},{"$f":"+IFERROR(INDEX(AQ$2:AQ$500,MATCH(ROW()-ROW(AU$1),$AA$2:$AA$500,0)),\"\")","v":""},{"$f":"+IFERROR(INDEX(AR$2:AR$500,MATCH(ROW()-ROW(AU$1),$AA$2:$AA$500,0)),\"\")","v":""},null,{"$f":"+IF(BD835=\"\",\"\",MAX(AY$1:AY834)+1)","v":""},{"$f":"IF(Deviation_CEM_CPMS!B857=\"\",\"\",Deviation_CEM_CPMS!B857)","v":""},{"$f":"IF(Deviation_CEM_CPMS!C857=\"\",\"\",Deviation_CEM_CPMS!C857)","v":""},{"$f":"IF(Deviation_CEM_CPMS!D857=\"\",\"\",Deviation_CEM_CPMS!D857)","v":""},"",{"$f":"IF(COUNTIF(BA$2:BA835,BA835)=1,BA835,\"\")","v":""},"","",""]
[null,null,null,null,null,null,null,null,null,null,null,null,null,null,null,null,null,null,null,null,null,null,null,null,null,null,{"$f":"+IF(AE836=\"\",\"\",MAX(AA$1:AA835)+1)","v":""},{"$f":"IF(#REF!=\"\",\"\",#REF!)","v":{"$error":"#REF!"}},{"$f":"IF(#REF!=\"\",\"\",#REF!)","v":{"$error":"#REF!"}},{"$error":"#REF!"},{"$f":"IF(COUNTIF(AC$2:AC836,AC836)=1,AC836,\"\")","v":""},"","",null,null,null,null,null,null,null,{"$f":"+IF(AT836=\"\",\"\",MAX(AO$1:AO835)+1)","v":""},{"$f":"IF(Deviation_Limits!B858=\"\",\"\",Deviation_Limits!B858)","v":""},{"$f":"IF(Deviation_Limits!C858=\"\",\"\",Deviation_Limits!C858)","v":""},{"$f":"IF(Deviation_Limits!D858=\"\",\"\",Deviation_Limits!D858)","v":""},"",{"$f":"IF(COUNTIF(AQ$2:AQ836,AQ836)=1,AQ836,\"\")","v":""},"","","",null,{"$f":"+IF(BD836=\"\",\"\",MAX(AY$1:AY835)+1)","v":""},{"$f":"IF(Deviation_CEM_CPMS!B858=\"\",\"\",Deviation_CEM_CPMS!B858)","v":""},{"$f":"IF(Deviation_CEM_CPMS!C858=\"\",\"\",Deviation_CEM_CPMS!C858)","v":""},{"$f":"IF(Deviation_CEM_CPMS!D858=\"\",\"\",Deviation_CEM_CPMS!D858)","v":""},"",{"$f":"IF(COUNTIF(BA$2:BA836,BA836)=1,BA836,\"\")","v":""},"","",""]
[null,null,null,null,null,null,null,null,null,null,null,null,null,null,null,null,null,null,null,null,null,null,null,null,null,null,{"$f":"+IF(AE837=\"\",\"\",MAX(AA$1:AA836)+1)","v":""},{"$f":"IF(#REF!=\"\",\"\",#REF!)","v":{"$error":"#REF!"}},{"$f":"IF(#REF!=\"\",\"\",#REF!)","v":{"$error":"#REF!"}},{"$error":"#REF!"},{"$f":"IF(COUNTIF(AC$2:AC837,AC837)=1,AC837,\"\")","v":""},"","",null,null,null,null,null,null,null,{"$f":"+IF(AT837=\"\",\"\",MAX(AO$1:AO836)+1)","v":""},{"$f":"IF(Deviation_Limits!B859=\"\",\"\",Deviation_Limits!B859)","v":""},{"$f":"IF(Deviation_Limits!C859=\"\",\"\",Deviation_Limits!C859)","v":""},{"$f":"IF(Deviation_Limits!D859=\"\",\"\",Deviation_Limits!D859)","v":""},"",{"$f":"IF(COUNTIF(AQ$2:AQ837,AQ837)=1,AQ837,\"\")","v":""},"","","",null,{"$f":"+IF(BD837=\"\",\"\",MAX(AY$1:AY836)+1)","v":""},{"$f":"IF(Deviation_CEM_CPMS!B859=\"\",\"\",Deviation_CEM_CPMS!B859)","v":""},{"$f":"IF(Deviation_CEM_CPMS!C859=\"\",\"\",Deviation_CEM_CPMS!C859)","v":""},{"$f":"IF(Deviation_CEM_CPMS!D859=\"\",\"\",Deviation_CEM_CPMS!D859)","v":""},"",{"$f":"IF(COUNTIF(BA$2:BA837,BA837)=1,BA837,\"\")","v":""},"","",""]
[null,null,null,null,null,null,null,null,null,null,null,null,null,null,null,null,null,null,null,null,null,null,null,null,null,null,{"$f":"+IF(AE838=\"\",\"\",MAX(AA$1:AA837)+1)","v":""},{"$f":"IF(#REF!=\"\",\"\",#REF!)","v":{"$error":"#REF!"}},{"$f":"IF(#REF!=\"\",\"\",#REF!)","v":{"$error":"#REF!"}},{"$error":"#REF!"},{"$f":"IF(COUNTIF(AC$2:AC838,AC838)=1,AC838,\"\")","v":""},"","",null,null,null,null,null,null,null,{"$f":"+IF(AT838=\"\",\"\",MAX(AO$1:AO837)+1)","v":""},{"$f":"IF(Deviation_Limits!B860=\"\",\"\",Deviation_Limits!B860)","v":""},{"$f":"IF(Deviation_Limits!C860=\"\",\"\",Deviation_Limits!C860)","v":""},{"$f":"IF(Deviation_Limits!D860=\"\",\"\",Deviation_Limits!D860)","v":""},"",{"$f":"IF(COUNTIF(AQ$2:AQ838,AQ838)=1,AQ838,\"\")","v":""},"","","",null,{"$f":"+IF(BD838=\"\",\"\",MAX(AY$1:AY837)+1)","v":""},{"$f":"IF(Deviation_CEM_CPMS!B860=\"\",\"\",Deviation_CEM_CPMS!B860)","v":""},{"$f":"IF(Deviation_CEM_CPMS!C860=\"\",\"\",Deviation_CEM_CPMS!C860)","v":""},{"$f":"IF(Deviation_CEM_CPMS!D860=\"\",\"\",Deviation_CEM_CPMS!D860)","v":""},"",{"$f":"IF(COUNTIF(BA$2:BA838,BA838)=1,BA838,\"\")","v":""},"","",""]
[null,null,null,null,null,null,null,null,null,null,null,null,null,null,null,null,null,null,null,null,null,null,null,null,null,null,{"$f":"+IF(AE839=\"\",\"\",MAX(AA$1:AA838)+1)","v":""},{"$f":"IF(#REF!=\"\",\"\",#REF!)","v":{"$error":"#REF!"}},{"$f":"IF(#REF!=\"\",\"\",#REF!)","v":{"$error":"#REF!"}},{"$error":"#REF!"},{"$f":"IF(COUNTIF(AC$2:AC839,AC839)=1,AC839,\"\")","v":""},"","",null,null,null,null,null,null,null,{"$f":"+IF(AT839=\"\",\"\",MAX(AO$1:AO838)+1)","v":""},{"$f":"IF(Deviation_Limits!B861=\"\",\"\",Deviation_Limits!B861)","v":""},{"$f":"IF(Deviation_Limits!C861=\"\",\"\",Deviation_Limits!C861)","v":""},{"$f":"IF(Deviation_Limits!D861=\"\",\"\",Deviation_Limits!D861)","v":""},"",{"$f":"IF(COUNTIF(AQ$2:AQ839,AQ839)=1,AQ839,\"\")","v":""},"","","",null,{"$f":"+IF(BD839=\"\",\"\",MAX(AY$1:AY838)+1)","v":""},{"$f":"IF(Deviation_CEM_CPMS!B861=\"\",\"\",Deviation_CEM_CPMS!B861)","v":""},{"$f":"IF(Deviation_CEM_CPMS!C861=\"\",\"\",Deviation_CEM_CPMS!C861)","v":""},{"$f":"IF(Deviation_CEM_CPMS!D861=\"\",\"\",Deviation_CEM_CPMS!D861)","v":""},"",{"$f":"IF(COUNTIF(BA$2:BA839,BA839)=1,BA839,\"\")","v":""},"","",""]
[null,null,null,null,null,null,null,null,null,null,null,null,null,null,null,null,null,null,null,null,null,null,null,null,null,null,{"$f":"+IF(AE840=\"\",\"\",MAX(AA$1:AA839)+1)","v":""},{"$f":"IF(#REF!=\"\",\"\",#REF!)","v":{"$error":"#REF!"}},{"$f":"IF(#REF!=\"\",\"\",#REF!)","v":{"$error":"#REF!"}},{"$error":"#REF!"},{"$f":"IF(COUNTIF(AC$2:AC840,AC840)=1,AC840,\"\")","v":""},"","",null,null,null,null,null,null,null,{"$f":"+IF(AT840=\"\",\"\",MAX(AO$1:AO839)+1)","v":""},{"$f":"IF(Deviation_Limits!B862=\"\",\"\",Deviation_Limits!B862)","v":""},{"$f":"IF(Deviation_Limits!C862=\"\",\"\",Deviation_Limits!C862)","v":""},{"$f":"IF(Deviation_Limits!D862=\"\",\"\",Deviation_Limits!D862)","v":""},"",{"$f":"IF(COUNTIF(AQ$2:AQ840,AQ840)=1,AQ840,\"\")","v":""},"","","",null,{"$f":"+IF(BD840=\"\",\"\",MAX(AY$1:AY839)+1)","v":""},{"$f":"IF(Deviation_CEM_CPMS!B862=\"\",\"\",Deviation_CEM_CPMS!B862)","v":""},{"$f":"IF(Deviation_CEM_CPMS!C862=\"\",\"\",Deviation_CEM_CPMS!C862)","v":""},{"$f":"IF(Deviation_CEM_CPMS!D862=\"\",\"\",Deviation_CEM_CPMS!D862)","v":""},"",{"$f":"IF(COUNTIF(BA$2:BA840,BA840)=1,BA840,\"\")","v":""},"","",""]
[null,null,null,null,null,null,null,null,null,null,null,null,null,null,null,null,null,null,null,null,null,null,null,null,null,null,{"$f":"+IF(AE841=\"\",\"\",MAX(AA$1:AA840)+1)","v":""},{"$f":"IF(#REF!=\"\",\"\",#REF!)","v":{"$error":"#REF!"}},{"$f":"IF(#REF!=\"\",\"\",#REF!)","v":{"$error":"#REF!"}},{"$error":"#REF!"},{"$f":"IF(COUNTIF(AC$2:AC841,AC841)=1,AC841,\"\")","v":""},"","",null,null,null,null,null,null,null,{"$f":"+IF(AT841=\"\",\"\",MAX(AO$1:AO840)+1)","v":""},{"$f":"IF(Deviation_Limits!B863=\"\",\"\",Deviation_Limits!B863)","v":""},{"$f":"IF(Deviation_Limits!C863=\"\",\"\",Deviation_Limits!C863)","v":""},{"$f":"IF(Deviation_Limits!D863=\"\",\"\",Deviation_Limits!D863)","v":""},"",{"$f":"IF(COUNTIF(AQ$2:AQ841,AQ841)=1,AQ841,\"\")","v":""},"","","",null,{"$f":"+IF(BD841=\"\",\"\",MAX(AY$1:AY840)+1)","v":""},{"$f":"IF(Deviation_CEM_CPMS!B863=\"\",\"\",Deviation_CEM_CPMS!B863)","v":""},{"$f":"IF(Deviation_CEM_CPMS!C863=\"\",\"\",Deviation_CEM_CPMS!C863)","v":""},{"$f":"IF(Deviation_CEM_CPMS!D863=\"\",\"\",Deviation_CEM_CPMS!D863)","v":""},"",{"$f":"IF(COUNTIF(BA$2:BA841,BA841)=1,BA841,\"\")","v":""},"","",""]
[null,null,null,null,null,null,null,null,null,null,null,null,null,null,null,null,null,null,null,null,null,null,null,null,null,null,{"$f":"+IF(AE842=\"\",\"\",MAX(AA$1:AA841)+1)","v":""},{"$f":"IF(#REF!=\"\",\"\",#REF!)","v":{"$error":"#REF!"}},{"$f":"IF(#REF!=\"\",\"\",#REF!)","v":{"$error":"#REF!"}},{"$error":"#REF!"},{"$f":"IF(COUNTIF(AC$2:AC842,AC842)=1,AC842,\"\")","v":""},"","",null,null,null,null,null,null,null,{"$f":"+IF(AT842=\"\",\"\",MAX(AO$1:AO841)+1)","v":""},{"$f":"IF(Deviation_Limits!B864=\"\",\"\",Deviation_Limits!B864)","v":""},{"$f":"IF(Deviation_Limits!C864=\"\",\"\",Deviation_Limits!C864)","v":""},{"$f":"IF(Deviation_Limits!D864=\"\",\"\",Deviation_Limits!D864)","v":""},"",{"$f":"IF(COUNTIF(AQ$2:AQ842,AQ842)=1,AQ842,\"\")","v":""},"","","",null,{"$f":"+IF(BD842=\"\",\"\",MAX(AY$1:AY841)+1)","v":""},{"$f":"IF(Deviation_CEM_CPMS!B864=\"\",\"\",Deviation_CEM_CPMS!B864)","v":""},{"$f":"IF(Deviation_CEM_CPMS!C864=\"\",\"\",Deviation_CEM_CPMS!C864)","v":""},{"$f":"IF(Deviation_CEM_CPMS!D864=\"\",\"\",Deviation_CEM_CPMS!D864)","v":""},"",{"$f":"IF(COUNTIF(BA$2:BA842,BA842)=1,BA842,\"\")","v":""},"","",""]
[null,null,null,null,null,null,null,null,null,null,null,null,null,null,null,null,null,null,null,null,null,null,null,null,null,null,{"$f":"+IF(AE843=\"\",\"\",MAX(AA$1:AA842)+1)","v":""},{"$f":"IF(#REF!=\"\",\"\",#REF!)","v":{"$error":"#REF!"}},{"$f":"IF(#REF!=\"\",\"\",#REF!)","v":{"$error":"#REF!"}},{"$error":"#REF!"},{"$f":"IF(COUNTIF(AC$2:AC843,AC843)=1,AC843,\"\")","v":""},"","",null,null,null,null,null,null,null,{"$f":"+IF(AT843=\"\",\"\",MAX(AO$1:AO842)+1)","v":""},{"$f":"IF(Deviation_Limits!B865=\"\",\"\",Deviation_Limits!B865)","v":""},{"$f":"IF(Deviation_Limits!C865=\"\",\"\",Deviation_Limits!C865)","v":""},{"$f":"IF(Deviation_Limits!D865=\"\",\"\",Deviation_Limits!D865)","v":""},"",{"$f":"IF(COUNTIF(AQ$2:AQ843,AQ843)=1,AQ843,\"\")","v":""},"","","",null,{"$f":"+IF(BD843=\"\",\"\",MAX(AY$1:AY842)+1)","v":""},{"$f":"IF(Deviation_CEM_CPMS!B865=\"\",\"\",Deviation_CEM_CPMS!B865)","v":""},{"$f":"IF(Deviation_CEM_CPMS!C865=\"\",\"\",Deviation_CEM_CPMS!C865)","v":""},{"$f":"IF(Deviation_CEM_CPMS!D865=\"\",\"\",Deviation_CEM_CPMS!D865)","v":""},"",{"$f":"IF(COUNTIF(BA$2:BA843,BA843)=1,BA843,\"\")","v":""},"","",""]
[null,null,null,null,null,null,null,null,null,null,null,null,null,null,null,null,null,null,null,null,null,null,null,null,null,null,{"$f":"+IF(AE844=\"\",\"\",MAX(AA$1:AA843)+1)","v":""},{"$f":"IF(#REF!=\"\",\"\",#REF!)","v":{"$error":"#REF!"}},{"$f":"IF(#REF!=\"\",\"\",#REF!)","v":{"$error":"#REF!"}},{"$error":"#REF!"},{"$f":"IF(COUNTIF(AC$2:AC844,AC844)=1,AC844,\"\")","v":""},"","",null,null,null,null,null,null,null,{"$f":"+IF(AT844=\"\",\"\",MAX(AO$1:AO843)+1)","v":""},{"$f":"IF(Deviation_Limits!B866=\"\",\"\",Deviation_Limits!B866)","v":""},{"$f":"IF(Deviation_Limits!C866=\"\",\"\",Deviation_Limits!C866)","v":""},{"$f":"IF(Deviation_Limits!D866=\"\",\"\",Deviation_Limits!D866)","v":""},"",{"$f":"IF(COUNTIF(AQ$2:AQ844,AQ844)=1,AQ844,\"\")","v":""},"","","",null,{"$f":"+IF(BD844=\"\",\"\",MAX(AY$1:AY843)+1)","v":""},{"$f":"IF(Deviation_CEM_CPMS!B866=\"\",\"\",Deviation_CEM_CPMS!B866)","v":""},{"$f":"IF(Deviation_CEM_CPMS!C866=\"\",\"\",Deviation_CEM_CPMS!C866)","v":""},{"$f":"IF(Deviation_CEM_CPMS!D866=\"\",\"\",Deviation_CEM_CPMS!D866)","v":""},"",{"$f":"IF(COUNTIF(BA$2:BA844,BA844)=1,BA844,\"\")","v":""},"","",""]
[null,null,null,null,null,null,null,null,null,null,null,null,null,null,null,null,null,null,null,null,null,null,null,null,null,null,{"$f":"+IF(AE845=\"\",\"\",MAX(AA$1:AA844)+1)","v":""},{"$f":"IF(#REF!=\"\",\"\",#REF!)","v":{"$error":"#REF!"}},{"$f":"IF(#REF!=\"\",\"\",#REF!)","v":{"$error":"#REF!"}},{"$error":"#REF!"},{"$f":"IF(COUNTIF(AC$2:AC845,AC845)=1,AC845,\"\")","v":""},"","",null,null,null,null,null,null,null,{"$f":"+IF(AT845=\"\",\"\",MAX(AO$1:AO844)+1)","v":""},{"$f":"IF(Deviation_Limits!B867=\"\",\"\",Deviation_Limits!B867)","v":""},{"$f":"IF(Deviation_Limits!C867=\"\",\"\",Deviation_Limits!C867)","v":""},{"$f":"IF(Deviation_Limits!D867=\"\",\"\",Deviation_Limits!D867)","v":""},"",{"$f":"IF(COUNTIF(AQ$2:AQ845,AQ845)=1,AQ845,\"\")","v":""},"","","",null,{"$f":"+IF(BD845=\"\",\"\",MAX(AY$1:AY844)+1)","v":""},{"$f":"IF(Deviation_CEM_CPMS!B867=\"\",\"\",Deviation_CEM_CPMS!B867)","v":""},{"$f":"IF(Deviation_CEM_CPMS!C867=\"\",\"\",Deviation_CEM_CPMS!C867)","v":""},{"$f":"IF(Deviation_CEM_CPMS!D867=\"\",\"\",Deviation_CEM_CPMS!D867)","v":""},"",{"$f":"IF(COUNTIF(BA$2:BA845,BA845)=1,BA845,\"\")","v":""},"","",""]
[null,null,null,null,null,null,null,null,null,null,null,null,null,null,null,null,null,null,null,null,null,null,null,null,null,null,{"$f":"+IF(AE846=\"\",\"\",MAX(AA$1:AA845)+1)","v":""},{"$f":"IF(#REF!=\"\",\"\",#REF!)","v":{"$error":"#REF!"}},{"$f":"IF(#REF!=\"\",\"\",#REF!)","v":{"$error":"#REF!"}},{"$error":"#REF!"},{"$f":"IF(COUNTIF(AC$2:AC846,AC846)=1,AC846,\"\")","v":""},"","",null,null,null,null,null,null,null,{"$f":"+IF(AT846=\"\",\"\",MAX(AO$1:AO845)+1)","v":""},{"$f":"IF(Deviation_Limits!B868=\"\",\"\",Deviation_Limits!B868)","v":""},{"$f":"IF(Deviation_Limits!C868=\"\",\"\",Deviation_Limits!C868)","v":""},{"$f":"IF(Deviation_Limits!D868=\"\",\"\",Deviation_Limits!D868)","v":""},"",{"$f":"IF(COUNTIF(AQ$2:AQ846,AQ846)=1,AQ846,\"\")","v":""},"","","",null,{"$f":"+IF(BD846=\"\",\"\",MAX(AY$1:AY845)+1)","v":""},{"$f":"IF(Deviation_CEM_CPMS!B868=\"\",\"\",Deviation_CEM_CPMS!B868)","v":""},{"$f":"IF(Deviation_CEM_CPMS!C868=\"\",\"\",Deviation_CEM_CPMS!C868)","v":""},{"$f":"IF(Deviation_CEM_CPMS!D868=\"\",\"\",Deviation_CEM_CPMS!D868)","v":""},"",{"$f":"IF(COUNTIF(BA$2:BA846,BA846)=1,BA846,\"\")","v":""},"","",""]
[null,null,null,null,null,null,null,null,null,null,null,null,null,null,null,null,null,null,null,null,null,null,null,null,null,null,{"$f":"+IF(AE847=\"\",\"\",MAX(AA$1:AA846)+1)","v":""},{"$f":"IF(#REF!=\"\",\"\",#REF!)","v":{"$error":"#REF!"}},{"$f":"IF(#REF!=\"\",\"\",#REF!)","v":{"$error":"#REF!"}},{"$error":"#REF!"},{"$f":"IF(COUNTIF(AC$2:AC847,AC847)=1,AC847,\"\")","v":""},"","",null,null,null,null,null,null,null,{"$f":"+IF(AT847=\"\",\"\",MAX(AO$1:AO846)+1)","v":""},{"$f":"IF(Deviation_Limits!B869=\"\",\"\",Deviation_Limits!B869)","v":""},{"$f":"IF(Deviation_Limits!C869=\"\",\"\",Deviation_Limits!C869)","v":""},{"$f":"IF(Deviation_Limits!D869=\"\",\"\",Deviation_Limits!D869)","v":""},"",{"$f":"IF(COUNTIF(AQ$2:AQ847,AQ847)=1,AQ847,\"\")","v":""},"","","",null,{"$f":"+IF(BD847=\"\",\"\",MAX(AY$1:AY846)+1)","v":""},{"$f":"IF(Deviation_CEM_CPMS!B869=\"\",\"\",Deviation_CEM_CPMS!B869)","v":""},{"$f":"IF(Deviation_CEM_CPMS!C869=\"\",\"\",Deviation_CEM_CPMS!C869)","v":""},{"$f":"IF(Deviation_CEM_CPMS!D869=\"\",\"\",Deviation_CEM_CPMS!D869)","v":""},"",{"$f":"IF(COUNTIF(BA$2:BA847,BA847)=1,BA847,\"\")","v":""},"","",""]
[null,null,null,null,null,null,null,null,null,null,null,null,null,null,null,null,null,null,null,null,null,null,null,null,null,null,{"$f":"+IF(AE848=\"\",\"\",MAX(AA$1:AA847)+1)","v":""},{"$f":"IF(#REF!=\"\",\"\",#REF!)","v":{"$error":"#REF!"}},{"$f":"IF(#REF!=\"\",\"\",#REF!)","v":{"$error":"#REF!"}},{"$error":"#REF!"},{"$f":"IF(COUNTIF(AC$2:AC848,AC848)=1,AC848,\"\")","v":""},"","",null,null,null,null,null,null,null,{"$f":"+IF(AT848=\"\",\"\",MAX(AO$1:AO847)+1)","v":""},{"$f":"IF(Deviation_Limits!B870=\"\",\"\",Deviation_Limits!B870)","v":""},{"$f":"IF(Deviation_Limits!C870=\"\",\"\",Deviation_Limits!C870)","v":""},{"$f":"IF(Deviation_Limits!D870=\"\",\"\",Deviation_Limits!D870)","v":""},"",{"$f":"IF(COUNTIF(AQ$2:AQ848,AQ848)=1,AQ848,\"\")","v":""},"","","",null,{"$f":"+IF(BD848=\"\",\"\",MAX(AY$1:AY847)+1)","v":""},{"$f":"IF(Deviation_CEM_CPMS!B870=\"\",\"\",Deviation_CEM_CPMS!B870)","v":""},{"$f":"IF(Deviation_CEM_CPMS!C870=\"\",\"\",Deviation_CEM_CPMS!C870)","v":""},{"$f":"IF(Deviation_CEM_CPMS!D870=\"\",\"\",Deviation_CEM_CPMS!D870)","v":""},"",{"$f":"IF(COUNTIF(BA$2:BA848,BA848)=1,BA848,\"\")","v":""},"","",""]
[null,null,null,null,null,null,null,null,null,null,null,null,null,null,null,null,null,null,null,null,null,null,null,null,null,null,{"$f":"+IF(AE849=\"\",\"\",MAX(AA$1:AA848)+1)","v":""},{"$f":"IF(#REF!=\"\",\"\",#REF!)","v":{"$error":"#REF!"}},{"$f":"IF(#REF!=\"\",\"\",#REF!)","v":{"$error":"#REF!"}},{"$error":"#REF!"},{"$f":"IF(COUNTIF(AC$2:AC849,AC849)=1,AC849,\"\")","v":""},"","",null,null,null,null,null,null,null,{"$f":"+IF(AT849=\"\",\"\",MAX(AO$1:AO848)+1)","v":""},{"$f":"IF(Deviation_Limits!B871=\"\",\"\",Deviation_Limits!B871)","v":""},{"$f":"IF(Deviation_Limits!C871=\"\",\"\",Deviation_Limits!C871)","v":""},{"$f":"IF(Deviation_Limits!D871=\"\",\"\",Deviation_Limits!D871)","v":""},"",{"$f":"IF(COUNTIF(AQ$2:AQ849,AQ849)=1,AQ849,\"\")","v":""},"","","",null,{"$f":"+IF(BD849=\"\",\"\",MAX(AY$1:AY848)+1)","v":""},{"$f":"IF(Deviation_CEM_CPMS!B871=\"\",\"\",Deviation_CEM_CPMS!B871)","v":""},{"$f":"IF(Deviation_CEM_CPMS!C871=\"\",\"\",Deviation_CEM_CPMS!C871)","v":""},{"$f":"IF(Deviation_CEM_CPMS!D871=\"\",\"\",Deviation_CEM_CPMS!D871)","v":""},"",{"$f":"IF(COUNTIF(BA$2:BA849,BA849)=1,BA849,\"\")","v":""},"","",""]
[null,null,null,null,null,null,null,null,null,null,null,null,null,null,null,null,null,null,null,null,null,null,null,null,null,null,{"$f":"+IF(AE850=\"\",\"\",MAX(AA$1:AA849)+1)","v":""},{"$f":"IF(#REF!=\"\",\"\",#REF!)","v":{"$error":"#REF!"}},{"$f":"IF(#REF!=\"\",\"\",#REF!)","v":{"$error":"#REF!"}},{"$error":"#REF!"},{"$f":"IF(COUNTIF(AC$2:AC850,AC850)=1,AC850,\"\")","v":""},"","",null,null,null,null,null,null,null,{"$f":"+IF(AT850=\"\",\"\",MAX(AO$1:AO849)+1)","v":""},{"$f":"IF(Deviation_Limits!B872=\"\",\"\",Deviation_Limits!B872)","v":""},{"$f":"IF(Deviation_Limits!C872=\"\",\"\",Deviation_Limits!C872)","v":""},{"$f":"IF(Deviation_Limits!D872=\"\",\"\",Deviation_Limits!D872)","v":""},"",{"$f":"IF(COUNTIF(AQ$2:AQ850,AQ850)=1,AQ850,\"\")","v":""},"","","",null,{"$f":"+IF(BD850=\"\",\"\",MAX(AY$1:AY849)+1)","v":""},{"$f":"IF(Deviation_CEM_CPMS!B872=\"\",\"\",Deviation_CEM_CPMS!B872)","v":""},{"$f":"IF(Deviation_CEM_CPMS!C872=\"\",\"\",Deviation_CEM_CPMS!C872)","v":""},{"$f":"IF(Deviation_CEM_CPMS!D872=\"\",\"\",Deviation_CEM_CPMS!D872)","v":""},"",{"$f":"IF(COUNTIF(BA$2:BA850,BA850)=1,BA850,\"\")","v":""},"","",""]
[null,null,null,null,null,null,null,null,null,null,null,null,null,null,null,null,null,null,null,null,null,null,null,null,null,null,{"$f":"+IF(AE851=\"\",\"\",MAX(AA$1:AA850)+1)","v":""},{"$f":"IF(#REF!=\"\",\"\",#REF!)","v":{"$error":"#REF!"}},{"$f":"IF(#REF!=\"\",\"\",#REF!)","v":{"$error":"#REF!"}},{"$error":"#REF!"},{"$f":"IF(COUNTIF(AC$2:AC851,AC851)=1,AC851,\"\")","v":""},"","",null,null,null,null,null,null,null,{"$f":"+IF(AT851=\"\",\"\",MAX(AO$1:AO850)+1)","v":""},{"$f":"IF(Deviation_Limits!B873=\"\",\"\",Deviation_Limits!B873)","v":""},{"$f":"IF(Deviation_Limits!C873=\"\",\"\",Deviation_Limits!C873)","v":""},{"$f":"IF(Deviation_Limits!D873=\"\",\"\",Deviation_Limits!D873)","v":""},"",{"$f":"IF(COUNTIF(AQ$2:AQ851,AQ851)=1,AQ851,\"\")","v":""},"","","",null,{"$f":"+IF(BD851=\"\",\"\",MAX(AY$1:AY850)+1)","v":""},{"$f":"IF(Deviation_CEM_CPMS!B873=\"\",\"\",Deviation_CEM_CPMS!B873)","v":""},{"$f":"IF(Deviation_CEM_CPMS!C873=\"\",\"\",Deviation_CEM_CPMS!C873)","v":""},{"$f":"IF(Deviation_CEM_CPMS!D873=\"\",\"\",Deviation_CEM_CPMS!D873)","v":""},"",{"$f":"IF(COUNTIF(BA$2:BA851,BA851)=1,BA851,\"\")","v":""},"","",""]
[null,null,null,null,null,null,null,null,null,null,null,null,null,null,null,null,null,null,null,null,null,null,null,null,null,null,{"$f":"+IF(AE852=\"\",\"\",MAX(AA$1:AA851)+1)","v":""},{"$f":"IF(#REF!=\"\",\"\",#REF!)","v":{"$error":"#REF!"}},{"$f":"IF(#REF!=\"\",\"\",#REF!)","v":{"$error":"#REF!"}},{"$error":"#REF!"},{"$f":"IF(COUNTIF(AC$2:AC852,AC852)=1,AC852,\"\")","v":""},"","",null,null,null,null,null,null,null,{"$f":"+IF(AT852=\"\",\"\",MAX(AO$1:AO851)+1)","v":""},{"$f":"IF(Deviation_Limits!B874=\"\",\"\",Deviation_Limits!B874)","v":""},{"$f":"IF(Deviation_Limits!C874=\"\",\"\",Deviation_Limits!C874)","v":""},{"$f":"IF(Deviation_Limits!D874=\"\",\"\",Deviation_Limits!D874)","v":""},"",{"$f":"IF(COUNTIF(AQ$2:AQ852,AQ852)=1,AQ852,\"\")","v":""},"","","",null,{"$f":"+IF(BD852=\"\",\"\",MAX(AY$1:AY851)+1)","v":""},{"$f":"IF(Deviation_CEM_CPMS!B874=\"\",\"\",Deviation_CEM_CPMS!B874)","v":""},{"$f":"IF(Deviation_CEM_CPMS!C874=\"\",\"\",Deviation_CEM_CPMS!C874)","v":""},{"$f":"IF(Deviation_CEM_CPMS!D874=\"\",\"\",Deviation_CEM_CPMS!D874)","v":""},"",{"$f":"IF(COUNTIF(BA$2:BA852,BA852)=1,BA852,\"\")","v":""},"","",""]
[null,null,null,null,null,null,null,null,null,null,null,null,null,null,null,null,null,null,null,null,null,null,null,null,null,null,{"$f":"+IF(AE853=\"\",\"\",MAX(AA$1:AA852)+1)","v":""},{"$f":"IF(#REF!=\"\",\"\",#REF!)","v":{"$error":"#REF!"}},{"$f":"IF(#REF!=\"\",\"\",#REF!)","v":{"$error":"#REF!"}},{"$error":"#REF!"},{"$f":"IF(COUNTIF(AC$2:AC853,AC853)=1,AC853,\"\")","v":""},"","",null,null,null,null,null,null,null,{"$f":"+IF(AT853=\"\",\"\",MAX(AO$1:AO852)+1)","v":""},{"$f":"IF(Deviation_Limits!B875=\"\",\"\",Deviation_Limits!B875)","v":""},{"$f":"IF(Deviation_Limits!C875=\"\",\"\",Deviation_Limits!C875)","v":""},{"$f":"IF(Deviation_Limits!D875=\"\",\"\",Deviation_Limits!D875)","v":""},"",{"$f":"IF(COUNTIF(AQ$2:AQ853,AQ853)=1,AQ853,\"\")","v":""},"","","",null,{"$f":"+IF(BD853=\"\",\"\",MAX(AY$1:AY852)+1)","v":""},{"$f":"IF(Deviation_CEM_CPMS!B875=\"\",\"\",Deviation_CEM_CPMS!B875)","v":""},{"$f":"IF(Deviation_CEM_CPMS!C875=\"\",\"\",Deviation_CEM_CPMS!C875)","v":""},{"$f":"IF(Deviation_CEM_CPMS!D875=\"\",\"\",Deviation_CEM_CPMS!D875)","v":""},"",{"$f":"IF(COUNTIF(BA$2:BA853,BA853)=1,BA853,\"\")","v":""},"","",""]
[null,null,null,null,null,null,null,null,null,null,null,null,null,null,null,null,null,null,null,null,null,null,null,null,null,null,{"$f":"+IF(AE854=\"\",\"\",MAX(AA$1:AA853)+1)","v":""},{"$f":"IF(#REF!=\"\",\"\",#REF!)","v":{"$error":"#REF!"}},{"$f":"IF(#REF!=\"\",\"\",#REF!)","v":{"$error":"#REF!"}},{"$error":"#REF!"},{"$f":"IF(COUNTIF(AC$2:AC854,AC854)=1,AC854,\"\")","v":""},"","",null,null,null,null,null,null,null,{"$f":"+IF(AT854=\"\",\"\",MAX(AO$1:AO853)+1)","v":""},{"$f":"IF(Deviation_Limits!B876=\"\",\"\",Deviation_Limits!B876)","v":""},{"$f":"IF(Deviation_Limits!C876=\"\",\"\",Deviation_Limits!C876)","v":""},{"$f":"IF(Deviation_Limits!D876=\"\",\"\",Deviation_Limits!D876)","v":""},"",{"$f":"IF(COUNTIF(AQ$2:AQ854,AQ854)=1,AQ854,\"\")","v":""},"","","",null,{"$f":"+IF(BD854=\"\",\"\",MAX(AY$1:AY853)+1)","v":""},{"$f":"IF(Deviation_CEM_CPMS!B876=\"\",\"\",Deviation_CEM_CPMS!B876)","v":""},{"$f":"IF(Deviation_CEM_CPMS!C876=\"\",\"\",Deviation_CEM_CPMS!C876)","v":""},{"$f":"IF(Deviation_CEM_CPMS!D876=\"\",\"\",Deviation_CEM_CPMS!D876)","v":""},"",{"$f":"IF(COUNTIF(BA$2:BA854,BA854)=1,BA854,\"\")","v":""},"","",""]
[null,null,null,null,null,null,null,null,null,null,null,null,null,null,null,null,null,null,null,null,null,null,null,null,null,null,{"$f":"+IF(AE855=\"\",\"\",MAX(AA$1:AA854)+1)","v":""},{"$f":"IF(#REF!=\"\",\"\",#REF!)","v":{"$error":"#REF!"}},{"$f":"IF(#REF!=\"\",\"\",#REF!)","v":{"$error":"#REF!"}},{"$error":"#REF!"},{"$f":"IF(COUNTIF(AC$2:AC855,AC855)=1,AC855,\"\")","v":""},"","",null,null,null,null,null,null,null,{"$f":"+IF(AT855=\"\",\"\",MAX(AO$1:AO854)+1)","v":""},{"$f":"IF(Deviation_Limits!B877=\"\",\"\",Deviation_Limits!B877)","v":""},{"$f":"IF(Deviation_Limits!C877=\"\",\"\",Deviation_Limits!C877)","v":""},{"$f":"IF(Deviation_Limits!D877=\"\",\"\",Deviation_Limits!D877)","v":""},"",{"$f":"IF(COUNTIF(AQ$2:AQ855,AQ855)=1,AQ855,\"\")","v":""},"","","",null,{"$f":"+IF(BD855=\"\",\"\",MAX(AY$1:AY854)+1)","v":""},{"$f":"IF(Deviation_CEM_CPMS!B877=\"\",\"\",Deviation_CEM_CPMS!B877)","v":""},{"$f":"IF(Deviation_CEM_CPMS!C877=\"\",\"\",Deviation_CEM_CPMS!C877)","v":""},{"$f":"IF(Deviation_CEM_CPMS!D877=\"\",\"\",Deviation_CEM_CPMS!D877)","v":""},"",{"$f":"IF(COUNTIF(BA$2:BA855,BA855)=1,BA855,\"\")","v":""},"","",""]
[null,null,null,null,null,null,null,null,null,null,null,null,null,null,null,null,null,null,null,null,null,null,null,null,null,null,{"$f":"+IF(AE856=\"\",\"\",MAX(AA$1:AA855)+1)","v":""},{"$f":"IF(#REF!=\"\",\"\",#REF!)","v":{"$error":"#REF!"}},{"$f":"IF(#REF!=\"\",\"\",#REF!)","v":{"$error":"#REF!"}},{"$error":"#REF!"},{"$f":"IF(COUNTIF(AC$2:AC856,AC856)=1,AC856,\"\")","v":""},"","",null,null,null,null,null,null,null,{"$f":"+IF(AT856=\"\",\"\",MAX(AO$1:AO855)+1)","v":""},{"$f":"IF(Deviation_Limits!B878=\"\",\"\",Deviation_Limits!B878)","v":""},{"$f":"IF(Deviation_Limits!C878=\"\",\"\",Deviation_Limits!C878)","v":""},{"$f":"IF(Deviation_Limits!D878=\"\",\"\",Deviation_Limits!D878)","v":""},"",{"$f":"IF(COUNTIF(AQ$2:AQ856,AQ856)=1,AQ856,\"\")","v":""},"","","",null,{"$f":"+IF(BD856=\"\",\"\",MAX(AY$1:AY855)+1)","v":""},{"$f":"IF(Deviation_CEM_CPMS!B878=\"\",\"\",Deviation_CEM_CPMS!B878)","v":""},{"$f":"IF(Deviation_CEM_CPMS!C878=\"\",\"\",Deviation_CEM_CPMS!C878)","v":""},{"$f":"IF(Deviation_CEM_CPMS!D878=\"\",\"\",Deviation_CEM_CPMS!D878)","v":""},"",{"$f":"IF(COUNTIF(BA$2:BA856,BA856)=1,BA856,\"\")","v":""},"","",""]
[null,null,null,null,null,null,null,null,null,null,null,null,null,null,null,null,null,null,null,null,null,null,null,null,null,null,{"$f":"+IF(AE857=\"\",\"\",MAX(AA$1:AA856)+1)","v":""},{"$f":"IF(#REF!=\"\",\"\",#REF!)","v":{"$error":"#REF!"}},{"$f":"IF(#REF!=\"\",\"\",#REF!)","v":{"$error":"#REF!"}},{"$error":"#REF!"},{"$f":"IF(COUNTIF(AC$2:AC857,AC857)=1,AC857,\"\")","v":""},"","",null,null,null,null,null,null,null,{"$f":"+IF(AT857=\"\",\"\",MAX(AO$1:AO856)+1)","v":""},{"$f":"IF(Deviation_Limits!B879=\"\",\"\",Deviation_Limits!B879)","v":""},{"$f":"IF(Deviation_Limits!C879=\"\",\"\",Deviation_Limits!C879)","v":""},{"$f":"IF(Deviation_Limits!D879=\"\",\"\",Deviation_Limits!D879)","v":""},"",{"$f":"IF(COUNTIF(AQ$2:AQ857,AQ857)=1,AQ857,\"\")","v":""},"","","",null,{"$f":"+IF(BD857=\"\",\"\",MAX(AY$1:AY856)+1)","v":""},{"$f":"IF(Deviation_CEM_CPMS!B879=\"\",\"\",Deviation_CEM_CPMS!B879)","v":""},{"$f":"IF(Deviation_CEM_CPMS!C879=\"\",\"\",Deviation_CEM_CPMS!C879)","v":""},{"$f":"IF(Deviation_CEM_CPMS!D879=\"\",\"\",Deviation_CEM_CPMS!D879)","v":""},"",{"$f":"IF(COUNTIF(BA$2:BA857,BA857)=1,BA857,\"\")","v":""},"","",""]
[null,null,null,null,null,null,null,null,null,null,null,null,null,null,null,null,null,null,null,null,null,null,null,null,null,null,{"$f":"+IF(AE858=\"\",\"\",MAX(AA$1:AA857)+1)","v":""},{"$f":"IF(#REF!=\"\",\"\",#REF!)","v":{"$error":"#REF!"}},{"$f":"IF(#REF!=\"\",\"\",#REF!)","v":{"$error":"#REF!"}},{"$error":"#REF!"},{"$f":"IF(COUNTIF(AC$2:AC858,AC858)=1,AC858,\"\")","v":""},"","",null,null,null,null,null,null,null,{"$f":"+IF(AT858=\"\",\"\",MAX(AO$1:AO857)+1)","v":""},{"$f":"IF(Deviation_Limits!B880=\"\",\"\",Deviation_Limits!B880)","v":""},{"$f":"IF(Deviation_Limits!C880=\"\",\"\",Deviation_Limits!C880)","v":""},{"$f":"IF(Deviation_Limits!D880=\"\",\"\",Deviation_Limits!D880)","v":""},"",{"$f":"IF(COUNTIF(AQ$2:AQ858,AQ858)=1,AQ858,\"\")","v":""},"","","",null,{"$f":"+IF(BD858=\"\",\"\",MAX(AY$1:AY857)+1)","v":""},{"$f":"IF(Deviation_CEM_CPMS!B880=\"\",\"\",Deviation_CEM_CPMS!B880)","v":""},{"$f":"IF(Deviation_CEM_CPMS!C880=\"\",\"\",Deviation_CEM_CPMS!C880)","v":""},{"$f":"IF(Deviation_CEM_CPMS!D880=\"\",\"\",Deviation_CEM_CPMS!D880)","v":""},"",{"$f":"IF(COUNTIF(BA$2:BA858,BA858)=1,BA858,\"\")","v":""},"","",""]
[null,null,null,null,null,null,null,null,null,null,null,null,null,null,null,null,null,null,null,null,null,null,null,null,null,null,{"$f":"+IF(AE859=\"\",\"\",MAX(AA$1:AA858)+1)","v":""},{"$f":"IF(#REF!=\"\",\"\",#REF!)","v":{"$error":"#REF!"}},{"$f":"IF(#REF!=\"\",\"\",#REF!)","v":{"$error":"#REF!"}},{"$error":"#REF!"},{"$f":"IF(COUNTIF(AC$2:AC859,AC859)=1,AC859,\"\")","v":""},"","",null,null,null,null,null,null,null,{"$f":"+IF(AT859=\"\",\"\",MAX(AO$1:AO858)+1)","v":""},{"$f":"IF(Deviation_Limits!B881=\"\",\"\",Deviation_Limits!B881)","v":""},{"$f":"IF(Deviation_Limits!C881=\"\",\"\",Deviation_Limits!C881)","v":""},{"$f":"IF(Deviation_Limits!D881=\"\",\"\",Deviation_Limits!D881)","v":""},"",{"$f":"IF(COUNTIF(AQ$2:AQ859,AQ859)=1,AQ859,\"\")","v":""},"","","",null,{"$f":"+IF(BD859=\"\",\"\",MAX(AY$1:AY858)+1)","v":""},{"$f":"IF(Deviation_CEM_CPMS!B881=\"\",\"\",Deviation_CEM_CPMS!B881)","v":""},{"$f":"IF(Deviation_CEM_CPMS!C881=\"\",\"\",Deviation_CEM_CPMS!C881)","v":""},{"$f":"IF(Deviation_CEM_CPMS!D881=\"\",\"\",Deviation_CEM_CPMS!D881)","v":""},"",{"$f":"IF(COUNTIF(BA$2:BA859,BA859)=1,BA859,\"\")","v":""},"","",""]
[null,null,null,null,null,null,null,null,null,null,null,null,null,null,null,null,null,null,null,null,null,null,null,null,null,null,{"$f":"+IF(AE860=\"\",\"\",MAX(AA$1:AA859)+1)","v":""},{"$f":"IF(#REF!=\"\",\"\",#REF!)","v":{"$error":"#REF!"}},{"$f":"IF(#REF!=\"\",\"\",#REF!)","v":{"$error":"#REF!"}},{"$error":"#REF!"},{"$f":"IF(COUNTIF(AC$2:AC860,AC860)=1,AC860,\"\")","v":""},"","",null,null,null,null,null,null,null,{"$f":"+IF(AT860=\"\",\"\",MAX(AO$1:AO859)+1)","v":""},{"$f":"IF(Deviation_Limits!B882=\"\",\"\",Deviation_Limits!B882)","v":""},{"$f":"IF(Deviation_Limits!C882=\"\",\"\",Deviation_Limits!C882)","v":""},{"$f":"IF(Deviation_Limits!D882=\"\",\"\",Deviation_Limits!D882)","v":""},"",{"$f":"IF(COUNTIF(AQ$2:AQ860,AQ860)=1,AQ860,\"\")","v":""},"","","",null,{"$f":"+IF(BD860=\"\",\"\",MAX(AY$1:AY859)+1)","v":""},{"$f":"IF(Deviation_CEM_CPMS!B882=\"\",\"\",Deviation_CEM_CPMS!B882)","v":""},{"$f":"IF(Deviation_CEM_CPMS!C882=\"\",\"\",Deviation_CEM_CPMS!C882)","v":""},{"$f":"IF(Deviation_CEM_CPMS!D882=\"\",\"\",Deviation_CEM_CPMS!D882)","v":""},"",{"$f":"IF(COUNTIF(BA$2:BA860,BA860)=1,BA860,\"\")","v":""},"","",""]
[null,null,null,null,null,null,null,null,null,null,null,null,null,null,null,null,null,null,null,null,null,null,null,null,null,null,{"$f":"+IF(AE861=\"\",\"\",MAX(AA$1:AA860)+1)","v":""},{"$f":"IF(#REF!=\"\",\"\",#REF!)","v":{"$error":"#REF!"}},{"$f":"IF(#REF!=\"\",\"\",#REF!)","v":{"$error":"#REF!"}},{"$error":"#REF!"},{"$f":"IF(COUNTIF(AC$2:AC861,AC861)=1,AC861,\"\")","v":""},"","",null,null,null,null,null,null,null,{"$f":"+IF(AT861=\"\",\"\",MAX(AO$1:AO860)+1)","v":""},{"$f":"IF(Deviation_Limits!B883=\"\",\"\",Deviation_Limits!B883)","v":""},{"$f":"IF(Deviation_Limits!C883=\"\",\"\",Deviation_Limits!C883)","v":""},{"$f":"IF(Deviation_Limits!D883=\"\",\"\",Deviation_Limits!D883)","v":""},"",{"$f":"IF(COUNTIF(AQ$2:AQ861,AQ861)=1,AQ861,\"\")","v":""},"","","",null,{"$f":"+IF(BD861=\"\",\"\",MAX(AY$1:AY860)+1)","v":""},{"$f":"IF(Deviation_CEM_CPMS!B883=\"\",\"\",Deviation_CEM_CPMS!B883)","v":""},{"$f":"IF(Deviation_CEM_CPMS!C883=\"\",\"\",Deviation_CEM_CPMS!C883)","v":""},{"$f":"IF(Deviation_CEM_CPMS!D883=\"\",\"\",Deviation_CEM_CPMS!D883)","v":""},"",{"$f":"IF(COUNTIF(BA$2:BA861,BA861)=1,BA861,\"\")","v":""},"","",""]
[null,null,null,null,null,null,null,null,null,null,null,null,null,null,null,null,null,null,null,null,null,null,null,null,null,null,{"$f":"+IF(AE862=\"\",\"\",MAX(AA$1:AA861)+1)","v":""},{"$f":"IF(#REF!=\"\",\"\",#REF!)","v":{"$error":"#REF!"}},{"$f":"IF(#REF!=\"\",\"\",#REF!)","v":{"$error":"#REF!"}},{"$error":"#REF!"},{"$f":"IF(COUNTIF(AC$2:AC862,AC862)=1,AC862,\"\")","v":""},"","",null,null,null,null,null,null,null,{"$f":"+IF(AT862=\"\",\"\",MAX(AO$1:AO861)+1)","v":""},{"$f":"IF(Deviation_Limits!B884=\"\",\"\",Deviation_Limits!B884)","v":""},{"$f":"IF(Deviation_Limits!C884=\"\",\"\",Deviation_Limits!C884)","v":""},{"$f":"IF(Deviation_Limits!D884=\"\",\"\",Deviation_Limits!D884)","v":""},"",{"$f":"IF(COUNTIF(AQ$2:AQ862,AQ862)=1,AQ862,\"\")","v":""},"","","",null,{"$f":"+IF(BD862=\"\",\"\",MAX(AY$1:AY861)+1)","v":""},{"$f":"IF(Deviation_CEM_CPMS!B884=\"\",\"\",Deviation_CEM_CPMS!B884)","v":""},{"$f":"IF(Deviation_CEM_CPMS!C884=\"\",\"\",Deviation_CEM_CPMS!C884)","v":""},{"$f":"IF(Deviation_CEM_CPMS!D884=\"\",\"\",Deviation_CEM_CPMS!D884)","v":""},"",{"$f":"IF(COUNTIF(BA$2:BA862,BA862)=1,BA862,\"\")","v":""},"","",""]
[null,null,null,null,null,null,null,null,null,null,null,null,null,null,null,null,null,null,null,null,null,null,null,null,null,null,{"$f":"+IF(AE863=\"\",\"\",MAX(AA$1:AA862)+1)","v":""},{"$f":"IF(#REF!=\"\",\"\",#REF!)","v":{"$error":"#REF!"}},{"$f":"IF(#REF!=\"\",\"\",#REF!)","v":{"$error":"#REF!"}},{"$error":"#REF!"},{"$f":"IF(COUNTIF(AC$2:AC863,AC863)=1,AC863,\"\")","v":""},"","",null,null,null,null,null,null,null,{"$f":"+IF(AT863=\"\",\"\",MAX(AO$1:AO862)+1)","v":""},{"$f":"IF(Deviation_Limits!B885=\"\",\"\",Deviation_Limits!B885)","v":""},{"$f":"IF(Deviation_Limits!C885=\"\",\"\",Deviation_Limits!C885)","v":""},{"$f":"IF(Deviation_Limits!D885=\"\",\"\",Deviation_Limits!D885)","v":""},"",{"$f":"IF(COUNTIF(AQ$2:AQ863,AQ863)=1,AQ863,\"\")","v":""},"","","",null,{"$f":"+IF(BD863=\"\",\"\",MAX(AY$1:AY862)+1)","v":""},{"$f":"IF(Deviation_CEM_CPMS!B885=\"\",\"\",Deviation_CEM_CPMS!B885)","v":""},{"$f":"IF(Deviation_CEM_CPMS!C885=\"\",\"\",Deviation_CEM_CPMS!C885)","v":""},{"$f":"IF(Deviation_CEM_CPMS!D885=\"\",\"\",Deviation_CEM_CPMS!D885)","v":""},"",{"$f":"IF(COUNTIF(BA$2:BA863,BA863)=1,BA863,\"\")","v":""},"","",""]
[null,null,null,null,null,null,null,null,null,null,null,null,null,null,null,null,null,null,null,null,null,null,null,null,null,null,{"$f":"+IF(AE864=\"\",\"\",MAX(AA$1:AA863)+1)","v":""},{"$f":"IF(#REF!=\"\",\"\",#REF!)","v":{"$error":"#REF!"}},{"$f":"IF(#REF!=\"\",\"\",#REF!)","v":{"$error":"#REF!"}},{"$f":"+AB864&AC864","v":{"$error":"#REF!"}},{"$f":"IF(COUNTIF(AC$2:AC864,AC864)=1,AC864,\"\")","v":""},"","",null,null,null,null,null,null,null,{"$f":"+IF(AT864=\"\",\"\",MAX(AO$1:AO863)+1)","v":""},{"$f":"IF(Deviation_Limits!B886=\"\",\"\",Deviation_Limits!B886)","v":""},{"$f":"IF(Deviation_Limits!C886=\"\",\"\",Deviation_Limits!C886)","v":""},{"$f":"IF(Deviation_Limits!D886=\"\",\"\",Deviation_Limits!D886)","v":""},"",{"$f":"IF(COUNTIF(AQ$2:AQ864,AQ864)=1,AQ864,\"\")","v":""},"","","",null,{"$f":"+IF(BD864=\"\",\"\",MAX(AY$1:AY863)+1)","v":""},{"$f":"IF(Deviation_CEM_CPMS!B886=\"\",\"\",Deviation_CEM_CPMS!B886)","v":""},{"$f":"IF(Deviation_CEM_CPMS!C886=\"\",\"\",Deviation_CEM_CPMS!C886)","v":""},{"$f":"IF(Deviation_CEM_CPMS!D886=\"\",\"\",Deviation_CEM_CPMS!D886)","v":""},"",{"$f":"IF(COUNTIF(BA$2:BA864,BA864)=1,BA864,\"\")","v":""},"","",""]
[null,null,null,null,null,null,null,null,null,null,null,null,null,null,null,null,null,null,null,null,null,null,null,null,null,null,{"$f":"+IF(AE865=\"\",\"\",MAX(AA$1:AA864)+1)","v":""},{"$f":"IF(#REF!=\"\",\"\",#REF!)","v":{"$error":"#REF!"}},{"$f":"IF(#REF!=\"\",\"\",#REF!)","v":{"$error":"#REF!"}},{"$error":"#REF!"},{"$f":"IF(COUNTIF(AC$2:AC865,AC865)=1,AC865,\"\")","v":""},"","",null,null,null,null,null,null,null,{"$f":"+IF(AT865=\"\",\"\",MAX(AO$1:AO864)+1)","v":""},{"$f":"IF(Deviation_Limits!B887=\"\",\"\",Deviation_Limits!B887)","v":""},{"$f":"IF(Deviation_Limits!C887=\"\",\"\",Deviation_Limits!C887)","v":""},{"$f":"IF(Deviation_Limits!D887=\"\",\"\",Deviation_Limits!D887)","v":""},"",{"$f":"IF(COUNTIF(AQ$2:AQ865,AQ865)=1,AQ865,\"\")","v":""},"","","",null,{"$f":"+IF(BD865=\"\",\"\",MAX(AY$1:AY864)+1)","v":""},{"$f":"IF(Deviation_CEM_CPMS!B887=\"\",\"\",Deviation_CEM_CPMS!B887)","v":""},{"$f":"IF(Deviation_CEM_CPMS!C887=\"\",\"\",Deviation_CEM_CPMS!C887)","v":""},{"$f":"IF(Deviation_CEM_CPMS!D887=\"\",\"\",Deviation_CEM_CPMS!D887)","v":""},"",{"$f":"IF(COUNTIF(BA$2:BA865,BA865)=1,BA865,\"\")","v":""},"","",""]
[null,null,null,null,null,null,null,null,null,null,null,null,null,null,null,null,null,null,null,null,null,null,null,null,null,null,{"$f":"+IF(AE866=\"\",\"\",MAX(AA$1:AA865)+1)","v":""},{"$f":"IF(#REF!=\"\",\"\",#REF!)","v":{"$error":"#REF!"}},{"$f":"IF(#REF!=\"\",\"\",#REF!)","v":{"$error":"#REF!"}},{"$error":"#REF!"},{"$f":"IF(COUNTIF(AC$2:AC866,AC866)=1,AC866,\"\")","v":""},"","",null,null,null,null,null,null,null,{"$f":"+IF(AT866=\"\",\"\",MAX(AO$1:AO865)+1)","v":""},{"$f":"IF(Deviation_Limits!B888=\"\",\"\",Deviation_Limits!B888)","v":""},{"$f":"IF(Deviation_Limits!C888=\"\",\"\",Deviation_Limits!C888)","v":""},{"$f":"IF(Deviation_Limits!D888=\"\",\"\",Deviation_Limits!D888)","v":""},"",{"$f":"IF(COUNTIF(AQ$2:AQ866,AQ866)=1,AQ866,\"\")","v":""},"","","",null,{"$f":"+IF(BD866=\"\",\"\",MAX(AY$1:AY865)+1)","v":""},{"$f":"IF(Deviation_CEM_CPMS!B888=\"\",\"\",Deviation_CEM_CPMS!B888)","v":""},{"$f":"IF(Deviation_CEM_CPMS!C888=\"\",\"\",Deviation_CEM_CPMS!C888)","v":""},{"$f":"IF(Deviation_CEM_CPMS!D888=\"\",\"\",Deviation_CEM_CPMS!D888)","v":""},"",{"$f":"IF(COUNTIF(BA$2:BA866,BA866)=1,BA866,\"\")","v":""},"","",""]
[null,null,null,null,null,null,null,null,null,null,null,null,null,null,null,null,null,null,null,null,null,null,null,null,null,null,{"$f":"+IF(AE867=\"\",\"\",MAX(AA$1:AA866)+1)","v":""},{"$f":"IF(#REF!=\"\",\"\",#REF!)","v":{"$error":"#REF!"}},{"$f":"IF(#REF!=\"\",\"\",#REF!)","v":{"$error":"#REF!"}},{"$error":"#REF!"},{"$f":"IF(COUNTIF(AC$2:AC867,AC867)=1,AC867,\"\")","v":""},"","",null,null,null,null,null,null,null,{"$f":"+IF(AT867=\"\",\"\",MAX(AO$1:AO866)+1)","v":""},{"$f":"IF(Deviation_Limits!B889=\"\",\"\",Deviation_Limits!B889)","v":""},{"$f":"IF(Deviation_Limits!C889=\"\",\"\",Deviation_Limits!C889)","v":""},{"$f":"IF(Deviation_Limits!D889=\"\",\"\",Deviation_Limits!D889)","v":""},"",{"$f":"IF(COUNTIF(AQ$2:AQ867,AQ867)=1,AQ867,\"\")","v":""},"","","",null,{"$f":"+IF(BD867=\"\",\"\",MAX(AY$1:AY866)+1)","v":""},{"$f":"IF(Deviation_CEM_CPMS!B889=\"\",\"\",Deviation_CEM_CPMS!B889)","v":""},{"$f":"IF(Deviation_CEM_CPMS!C889=\"\",\"\",Deviation_CEM_CPMS!C889)","v":""},{"$f":"IF(Deviation_CEM_CPMS!D889=\"\",\"\",Deviation_CEM_CPMS!D889)","v":""},"",{"$f":"IF(COUNTIF(BA$2:BA867,BA867)=1,BA867,\"\")","v":""},"","",""]
[null,null,null,null,null,null,null,null,null,null,null,null,null,null,null,null,null,null,null,null,null,null,null,null,null,null,{"$f":"+IF(AE868=\"\",\"\",MAX(AA$1:AA867)+1)","v":""},{"$f":"IF(#REF!=\"\",\"\",#REF!)","v":{"$error":"#REF!"}},{"$f":"IF(#REF!=\"\",\"\",#REF!)","v":{"$error":"#REF!"}},{"$error":"#REF!"},{"$f":"IF(COUNTIF(AC$2:AC868,AC868)=1,AC868,\"\")","v":""},"","",null,null,null,null,null,null,null,{"$f":"+IF(AT868=\"\",\"\",MAX(AO$1:AO867)+1)","v":""},{"$f":"IF(Deviation_Limits!B890=\"\",\"\",Deviation_Limits!B890)","v":""},{"$f":"IF(Deviation_Limits!C890=\"\",\"\",Deviation_Limits!C890)","v":""},{"$f":"IF(Deviation_Limits!D890=\"\",\"\",Deviation_Limits!D890)","v":""},"",{"$f":"IF(COUNTIF(AQ$2:AQ868,AQ868)=1,AQ868,\"\")","v":""},"","","",null,{"$f":"+IF(BD868=\"\",\"\",MAX(AY$1:AY867)+1)","v":""},{"$f":"IF(Deviation_CEM_CPMS!B890=\"\",\"\",Deviation_CEM_CPMS!B890)","v":""},{"$f":"IF(Deviation_CEM_CPMS!C890=\"\",\"\",Deviation_CEM_CPMS!C890)","v":""},{"$f":"IF(Deviation_CEM_CPMS!D890=\"\",\"\",Deviation_CEM_CPMS!D890)","v":""},"",{"$f":"IF(COUNTIF(BA$2:BA868,BA868)=1,BA868,\"\")","v":""},"","",""]
[null,null,null,null,null,null,null,null,null,null,null,null,null,null,null,null,null,null,null,null,null,null,null,null,null,null,{"$f":"+IF(AE869=\"\",\"\",MAX(AA$1:AA868)+1)","v":""},{"$f":"IF(#REF!=\"\",\"\",#REF!)","v":{"$error":"#REF!"}},{"$f":"IF(#REF!=\"\",\"\",#REF!)","v":{"$error":"#REF!"}},{"$error":"#REF!"},{"$f":"IF(COUNTIF(AC$2:AC869,AC869)=1,AC869,\"\")","v":""},"","",null,null,null,null,null,null,null,{"$f":"+IF(AT869=\"\",\"\",MAX(AO$1:AO868)+1)","v":""},{"$f":"IF(Deviation_Limits!B891=\"\",\"\",Deviation_Limits!B891)","v":""},{"$f":"IF(Deviation_Limits!C891=\"\",\"\",Deviation_Limits!C891)","v":""},{"$f":"IF(Deviation_Limits!D891=\"\",\"\",Deviation_Limits!D891)","v":""},"",{"$f":"IF(COUNTIF(AQ$2:AQ869,AQ869)=1,AQ869,\"\")","v":""},"","","",null,{"$f":"+IF(BD869=\"\",\"\",MAX(AY$1:AY868)+1)","v":""},{"$f":"IF(Deviation_CEM_CPMS!B891=\"\",\"\",Deviation_CEM_CPMS!B891)","v":""},{"$f":"IF(Deviation_CEM_CPMS!C891=\"\",\"\",Deviation_CEM_CPMS!C891)","v":""},{"$f":"IF(Deviation_CEM_CPMS!D891=\"\",\"\",Deviation_CEM_CPMS!D891)","v":""},"",{"$f":"IF(COUNTIF(BA$2:BA869,BA869)=1,BA869,\"\")","v":""},"","",""]
[null,null,null,null,null,null,null,null,null,null,null,null,null,null,null,null,null,null,null,null,null,null,null,null,null,null,{"$f":"+IF(AE870=\"\",\"\",MAX(AA$1:AA869)+1)","v":""},{"$f":"IF(#REF!=\"\",\"\",#REF!)","v":{"$error":"#REF!"}},{"$f":"IF(#REF!=\"\",\"\",#REF!)","v":{"$error":"#REF!"}},{"$error":"#REF!"},{"$f":"IF(COUNTIF(AC$2:AC870,AC870)=1,AC870,\"\")","v":""},"","",null,null,null,null,null,null,null,{"$f":"+IF(AT870=\"\",\"\",MAX(AO$1:AO869)+1)","v":""},{"$f":"IF(Deviation_Limits!B892=\"\",\"\",Deviation_Limits!B892)","v":""},{"$f":"IF(Deviation_Limits!C892=\"\",\"\",Deviation_Limits!C892)","v":""},{"$f":"IF(Deviation_Limits!D892=\"\",\"\",Deviation_Limits!D892)","v":""},"",{"$f":"IF(COUNTIF(AQ$2:AQ870,AQ870)=1,AQ870,\"\")","v":""},"","","",null,{"$f":"+IF(BD870=\"\",\"\",MAX(AY$1:AY869)+1)","v":""},{"$f":"IF(Deviation_CEM_CPMS!B892=\"\",\"\",Deviation_CEM_CPMS!B892)","v":""},{"$f":"IF(Deviation_CEM_CPMS!C892=\"\",\"\",Deviation_CEM_CPMS!C892)","v":""},{"$f":"IF(Deviation_CEM_CPMS!D892=\"\",\"\",Deviation_CEM_CPMS!D892)","v":""},"",{"$f":"IF(COUNTIF(BA$2:BA870,BA870)=1,BA870,\"\")","v":""},"","",""]
[null,null,null,null,null,null,null,null,null,null,null,null,null,null,null,null,null,null,null,null,null,null,null,null,null,null,{"$f":"+IF(AE871=\"\",\"\",MAX(AA$1:AA870)+1)","v":""},{"$f":"IF(#REF!=\"\",\"\",#REF!)","v":{"$error":"#REF!"}},{"$f":"IF(#REF!=\"\",\"\",#REF!)","v":{"$error":"#REF!"}},{"$error":"#REF!"},{"$f":"IF(COUNTIF(AC$2:AC871,AC871)=1,AC871,\"\")","v":""},"","",null,null,null,null,null,null,null,{"$f":"+IF(AT871=\"\",\"\",MAX(AO$1:AO870)+1)","v":""},{"$f":"IF(Deviation_Limits!B893=\"\",\"\",Deviation_Limits!B893)","v":""},{"$f":"IF(Deviation_Limits!C893=\"\",\"\",Deviation_Limits!C893)","v":""},{"$f":"IF(Deviation_Limits!D893=\"\",\"\",Deviation_Limits!D893)","v":""},"",{"$f":"IF(COUNTIF(AQ$2:AQ871,AQ871)=1,AQ871,\"\")","v":""},"","","",null,{"$f":"+IF(BD871=\"\",\"\",MAX(AY$1:AY870)+1)","v":""},{"$f":"IF(Deviation_CEM_CPMS!B893=\"\",\"\",Deviation_CEM_CPMS!B893)","v":""},{"$f":"IF(Deviation_CEM_CPMS!C893=\"\",\"\",Deviation_CEM_CPMS!C893)","v":""},{"$f":"IF(Deviation_CEM_CPMS!D893=\"\",\"\",Deviation_CEM_CPMS!D893)","v":""},"",{"$f":"IF(COUNTIF(BA$2:BA871,BA871)=1,BA871,\"\")","v":""},"","",""]
[null,null,null,null,null,null,null,null,null,null,null,null,null,null,null,null,null,null,null,null,null,null,null,null,null,null,{"$f":"+IF(AE872=\"\",\"\",MAX(AA$1:AA871)+1)","v":""},{"$f":"IF(#REF!=\"\",\"\",#REF!)","v":{"$error":"#REF!"}},{"$f":"IF(#REF!=\"\",\"\",#REF!)","v":{"$error":"#REF!"}},{"$error":"#REF!"},{"$f":"IF(COUNTIF(AC$2:AC872,AC872)=1,AC872,\"\")","v":""},"","",null,null,null,null,null,null,null,{"$f":"+IF(AT872=\"\",\"\",MAX(AO$1:AO871)+1)","v":""},{"$f":"IF(Deviation_Limits!B894=\"\",\"\",Deviation_Limits!B894)","v":""},{"$f":"IF(Deviation_Limits!C894=\"\",\"\",Deviation_Limits!C894)","v":""},{"$f":"IF(Deviation_Limits!D894=\"\",\"\",Deviation_Limits!D894)","v":""},"",{"$f":"IF(COUNTIF(AQ$2:AQ872,AQ872)=1,AQ872,\"\")","v":""},"","","",null,{"$f":"+IF(BD872=\"\",\"\",MAX(AY$1:AY871)+1)","v":""},{"$f":"IF(Deviation_CEM_CPMS!B894=\"\",\"\",Deviation_CEM_CPMS!B894)","v":""},{"$f":"IF(Deviation_CEM_CPMS!C894=\"\",\"\",Deviation_CEM_CPMS!C894)","v":""},{"$f":"IF(Deviation_CEM_CPMS!D894=\"\",\"\",Deviation_CEM_CPMS!D894)","v":""},"",{"$f":"IF(COUNTIF(BA$2:BA872,BA872)=1,BA872,\"\")","v":""},"","",""]
[null,null,null,null,null,null,null,null,null,null,null,null,null,null,null,null,null,null,null,null,null,null,null,null,null,null,{"$f":"+IF(AE873=\"\",\"\",MAX(AA$1:AA872)+1)","v":""},{"$f":"IF(#REF!=\"\",\"\",#REF!)","v":{"$error":"#REF!"}},{"$f":"IF(#REF!=\"\",\"\",#REF!)","v":{"$error":"#REF!"}},{"$error":"#REF!"},{"$f":"IF(COUNTIF(AC$2:AC873,AC873)=1,AC873,\"\")","v":""},"","",null,null,null,null,null,null,null,{"$f":"+IF(AT873=\"\",\"\",MAX(AO$1:AO872)+1)","v":""},{"$f":"IF(Deviation_Limits!B895=\"\",\"\",Deviation_Limits!B895)","v":""},{"$f":"IF(Deviation_Limits!C895=\"\",\"\",Deviation_Limits!C895)","v":""},{"$f":"IF(Deviation_Limits!D895=\"\",\"\",Deviation_Limits!D895)","v":""},"",{"$f":"IF(COUNTIF(AQ$2:AQ873,AQ873)=1,AQ873,\"\")","v":""},"","","",null,{"$f":"+IF(BD873=\"\",\"\",MAX(AY$1:AY872)+1)","v":""},{"$f":"IF(Deviation_CEM_CPMS!B895=\"\",\"\",Deviation_CEM_CPMS!B895)","v":""},{"$f":"IF(Deviation_CEM_CPMS!C895=\"\",\"\",Deviation_CEM_CPMS!C895)","v":""},{"$f":"IF(Deviation_CEM_CPMS!D895=\"\",\"\",Deviation_CEM_CPMS!D895)","v":""},"",{"$f":"IF(COUNTIF(BA$2:BA873,BA873)=1,BA873,\"\")","v":""},"","",""]
[null,null,null,null,null,null,null,null,null,null,null,null,null,null,null,null,null,null,null,null,null,null,null,null,null,null,{"$f":"+IF(AE874=\"\",\"\",MAX(AA$1:AA873)+1)","v":""},{"$f":"IF(#REF!=\"\",\"\",#REF!)","v":{"$error":"#REF!"}},{"$f":"IF(#REF!=\"\",\"\",#REF!)","v":{"$error":"#REF!"}},{"$error":"#REF!"},{"$f":"IF(COUNTIF(AC$2:AC874,AC874)=1,AC874,\"\")","v":""},"","",null,null,null,null,null,null,null,{"$f":"+IF(AT874=\"\",\"\",MAX(AO$1:AO873)+1)","v":""},{"$f":"IF(Deviation_Limits!B896=\"\",\"\",Deviation_Limits!B896)","v":""},{"$f":"IF(Deviation_Limits!C896=\"\",\"\",Deviation_Limits!C896)","v":""},{"$f":"IF(Deviation_Limits!D896=\"\",\"\",Deviation_Limits!D896)","v":""},"",{"$f":"IF(COUNTIF(AQ$2:AQ874,AQ874)=1,AQ874,\"\")","v":""},"","","",null,{"$f":"+IF(BD874=\"\",\"\",MAX(AY$1:AY873)+1)","v":""},{"$f":"IF(Deviation_CEM_CPMS!B896=\"\",\"\",Deviation_CEM_CPMS!B896)","v":""},{"$f":"IF(Deviation_CEM_CPMS!C896=\"\",\"\",Deviation_CEM_CPMS!C896)","v":""},{"$f":"IF(Deviation_CEM_CPMS!D896=\"\",\"\",Deviation_CEM_CPMS!D896)","v":""},"",{"$f":"IF(COUNTIF(BA$2:BA874,BA874)=1,BA874,\"\")","v":""},"","",""]
[null,null,null,null,null,null,null,null,null,null,null,null,null,null,null,null,null,null,null,null,null,null,null,null,null,null,{"$f":"+IF(AE875=\"\",\"\",MAX(AA$1:AA874)+1)","v":""},{"$f":"IF(#REF!=\"\",\"\",#REF!)","v":{"$error":"#REF!"}},{"$f":"IF(#REF!=\"\",\"\",#REF!)","v":{"$error":"#REF!"}},{"$error":"#REF!"},{"$f":"IF(COUNTIF(AC$2:AC875,AC875)=1,AC875,\"\")","v":""},"","",null,null,null,null,null,null,null,{"$f":"+IF(AT875=\"\",\"\",MAX(AO$1:AO874)+1)","v":""},{"$f":"IF(Deviation_Limits!B897=\"\",\"\",Deviation_Limits!B897)","v":""},{"$f":"IF(Deviation_Limits!C897=\"\",\"\",Deviation_Limits!C897)","v":""},{"$f":"IF(Deviation_Limits!D897=\"\",\"\",Deviation_Limits!D897)","v":""},"",{"$f":"IF(COUNTIF(AQ$2:AQ875,AQ875)=1,AQ875,\"\")","v":""},"","","",null,{"$f":"+IF(BD875=\"\",\"\",MAX(AY$1:AY874)+1)","v":""},{"$f":"IF(Deviation_CEM_CPMS!B897=\"\",\"\",Deviation_CEM_CPMS!B897)","v":""},{"$f":"IF(Deviation_CEM_CPMS!C897=\"\",\"\",Deviation_CEM_CPMS!C897)","v":""},{"$f":"IF(Deviation_CEM_CPMS!D897=\"\",\"\",Deviation_CEM_CPMS!D897)","v":""},"",{"$f":"IF(COUNTIF(BA$2:BA875,BA875)=1,BA875,\"\")","v":""},"","",""]
[null,null,null,null,null,null,null,null,null,null,null,null,null,null,null,null,null,null,null,null,null,null,null,null,null,null,{"$f":"+IF(AE876=\"\",\"\",MAX(AA$1:AA875)+1)","v":""},{"$f":"IF(#REF!=\"\",\"\",#REF!)","v":{"$error":"#REF!"}},{"$f":"IF(#REF!=\"\",\"\",#REF!)","v":{"$error":"#REF!"}},{"$error":"#REF!"},{"$f":"IF(COUNTIF(AC$2:AC876,AC876)=1,AC876,\"\")","v":""},"","",null,null,null,null,null,null,null,{"$f":"+IF(AT876=\"\",\"\",MAX(AO$1:AO875)+1)","v":""},{"$f":"IF(Deviation_Limits!B898=\"\",\"\",Deviation_Limits!B898)","v":""},{"$f":"IF(Deviation_Limits!C898=\"\",\"\",Deviation_Limits!C898)","v":""},{"$f":"IF(Deviation_Limits!D898=\"\",\"\",Deviation_Limits!D898)","v":""},"",{"$f":"IF(COUNTIF(AQ$2:AQ876,AQ876)=1,AQ876,\"\")","v":""},"","","",null,{"$f":"+IF(BD876=\"\",\"\",MAX(AY$1:AY875)+1)","v":""},{"$f":"IF(Deviation_CEM_CPMS!B898=\"\",\"\",Deviation_CEM_CPMS!B898)","v":""},{"$f":"IF(Deviation_CEM_CPMS!C898=\"\",\"\",Deviation_CEM_CPMS!C898)","v":""},{"$f":"IF(Deviation_CEM_CPMS!D898=\"\",\"\",Deviation_CEM_CPMS!D898)","v":""},"",{"$f":"IF(COUNTIF(BA$2:BA876,BA876)=1,BA876,\"\")","v":""},"","",""]
[null,null,null,null,null,null,null,null,null,null,null,null,null,null,null,null,null,null,null,null,null,null,null,null,null,null,{"$f":"+IF(AE877=\"\",\"\",MAX(AA$1:AA876)+1)","v":""},{"$f":"IF(#REF!=\"\",\"\",#REF!)","v":{"$error":"#REF!"}},{"$f":"IF(#REF!=\"\",\"\",#REF!)","v":{"$error":"#REF!"}},{"$error":"#REF!"},{"$f":"IF(COUNTIF(AC$2:AC877,AC877)=1,AC877,\"\")","v":""},"","",null,null,null,null,null,null,null,{"$f":"+IF(AT877=\"\",\"\",MAX(AO$1:AO876)+1)","v":""},{"$f":"IF(Deviation_Limits!B899=\"\",\"\",Deviation_Limits!B899)","v":""},{"$f":"IF(Deviation_Limits!C899=\"\",\"\",Deviation_Limits!C899)","v":""},{"$f":"IF(Deviation_Limits!D899=\"\",\"\",Deviation_Limits!D899)","v":""},"",{"$f":"IF(COUNTIF(AQ$2:AQ877,AQ877)=1,AQ877,\"\")","v":""},"","","",null,{"$f":"+IF(BD877=\"\",\"\",MAX(AY$1:AY876)+1)","v":""},{"$f":"IF(Deviation_CEM_CPMS!B899=\"\",\"\",Deviation_CEM_CPMS!B899)","v":""},{"$f":"IF(Deviation_CEM_CPMS!C899=\"\",\"\",Deviation_CEM_CPMS!C899)","v":""},{"$f":"IF(Deviation_CEM_CPMS!D899=\"\",\"\",Deviation_CEM_CPMS!D899)","v":""},"",{"$f":"IF(COUNTIF(BA$2:BA877,BA877)=1,BA877,\"\")","v":""},"","",""]
[null,null,null,null,null,null,null,null,null,null,null,null,null,null,null,null,null,null,null,null,null,null,null,null,null,null,{"$f":"+IF(AE878=\"\",\"\",MAX(AA$1:AA877)+1)","v":""},{"$f":"IF(#REF!=\"\",\"\",#REF!)","v":{"$error":"#REF!"}},{"$f":"IF(#REF!=\"\",\"\",#REF!)","v":{"$error":"#REF!"}},{"$error":"#REF!"},{"$f":"IF(COUNTIF(AC$2:AC878,AC878)=1,AC878,\"\")","v":""},"","",null,null,null,null,null,null,null,{"$f":"+IF(AT878=\"\",\"\",MAX(AO$1:AO877)+1)","v":""},{"$f":"IF(Deviation_Limits!B900=\"\",\"\",Deviation_Limits!B900)","v":""},{"$f":"IF(Deviation_Limits!C900=\"\",\"\",Deviation_Limits!C900)","v":""},{"$f":"IF(Deviation_Limits!D900=\"\",\"\",Deviation_Limits!D900)","v":""},"",{"$f":"IF(COUNTIF(AQ$2:AQ878,AQ878)=1,AQ878,\"\")","v":""},"","","",null,{"$f":"+IF(BD878=\"\",\"\",MAX(AY$1:AY877)+1)","v":""},{"$f":"IF(Deviation_CEM_CPMS!B900=\"\",\"\",Deviation_CEM_CPMS!B900)","v":""},{"$f":"IF(Deviation_CEM_CPMS!C900=\"\",\"\",Deviation_CEM_CPMS!C900)","v":""},{"$f":"IF(Deviation_CEM_CPMS!D900=\"\",\"\",Deviation_CEM_CPMS!D900)","v":""},"",{"$f":"IF(COUNTIF(BA$2:BA878,BA878)=1,BA878,\"\")","v":""},"","",""]
[null,null,null,null,null,null,null,null,null,null,null,null,null,null,null,null,null,null,null,null,null,null,null,null,null,null,{"$f":"+IF(AE879=\"\",\"\",MAX(AA$1:AA878)+1)","v":""},{"$f":"IF(#REF!=\"\",\"\",#REF!)","v":{"$error":"#REF!"}},{"$f":"IF(#REF!=\"\",\"\",#REF!)","v":{"$error":"#REF!"}},{"$error":"#REF!"},{"$f":"IF(COUNTIF(AC$2:AC879,AC879)=1,AC879,\"\")","v":""},"","",null,null,null,null,null,null,null,{"$f":"+IF(AT879=\"\",\"\",MAX(AO$1:AO878)+1)","v":""},{"$f":"IF(Deviation_Limits!B901=\"\",\"\",Deviation_Limits!B901)","v":""},{"$f":"IF(Deviation_Limits!C901=\"\",\"\",Deviation_Limits!C901)","v":""},{"$f":"IF(Deviation_Limits!D901=\"\",\"\",Deviation_Limits!D901)","v":""},"",{"$f":"IF(COUNTIF(AQ$2:AQ879,AQ879)=1,AQ879,\"\")","v":""},"","","",null,{"$f":"+IF(BD879=\"\",\"\",MAX(AY$1:AY878)+1)","v":""},{"$f":"IF(Deviation_CEM_CPMS!B901=\"\",\"\",Deviation_CEM_CPMS!B901)","v":""},{"$f":"IF(Deviation_CEM_CPMS!C901=\"\",\"\",Deviation_CEM_CPMS!C901)","v":""},{"$f":"IF(Deviation_CEM_CPMS!D901=\"\",\"\",Deviation_CEM_CPMS!D901)","v":""},"",{"$f":"IF(COUNTIF(BA$2:BA879,BA879)=1,BA879,\"\")","v":""},"","",""]
[null,null,null,null,null,null,null,null,null,null,null,null,null,null,null,null,null,null,null,null,null,null,null,null,null,null,{"$f":"+IF(AE880=\"\",\"\",MAX(AA$1:AA879)+1)","v":""},{"$f":"IF(#REF!=\"\",\"\",#REF!)","v":{"$error":"#REF!"}},{"$f":"IF(#REF!=\"\",\"\",#REF!)","v":{"$error":"#REF!"}},{"$error":"#REF!"},{"$f":"IF(COUNTIF(AC$2:AC880,AC880)=1,AC880,\"\")","v":""},"","",null,null,null,null,null,null,null,{"$f":"+IF(AT880=\"\",\"\",MAX(AO$1:AO879)+1)","v":""},{"$f":"IF(Deviation_Limits!B902=\"\",\"\",Deviation_Limits!B902)","v":""},{"$f":"IF(Deviation_Limits!C902=\"\",\"\",Deviation_Limits!C902)","v":""},{"$f":"IF(Deviation_Limits!D902=\"\",\"\",Deviation_Limits!D902)","v":""},"",{"$f":"IF(COUNTIF(AQ$2:AQ880,AQ880)=1,AQ880,\"\")","v":""},"","","",null,{"$f":"+IF(BD880=\"\",\"\",MAX(AY$1:AY879)+1)","v":""},{"$f":"IF(Deviation_CEM_CPMS!B902=\"\",\"\",Deviation_CEM_CPMS!B902)","v":""},{"$f":"IF(Deviation_CEM_CPMS!C902=\"\",\"\",Deviation_CEM_CPMS!C902)","v":""},{"$f":"IF(Deviation_CEM_CPMS!D902=\"\",\"\",Deviation_CEM_CPMS!D902)","v":""},"",{"$f":"IF(COUNTIF(BA$2:BA880,BA880)=1,BA880,\"\")","v":""},"","",""]
[null,null,null,null,null,null,null,null,null,null,null,null,null,null,null,null,null,null,null,null,null,null,null,null,null,null,{"$f":"+IF(AE881=\"\",\"\",MAX(AA$1:AA880)+1)","v":""},{"$f":"IF(#REF!=\"\",\"\",#REF!)","v":{"$error":"#REF!"}},{"$f":"IF(#REF!=\"\",\"\",#REF!)","v":{"$error":"#REF!"}},{"$error":"#REF!"},{"$f":"IF(COUNTIF(AC$2:AC881,AC881)=1,AC881,\"\")","v":""},"","",null,null,null,null,null,null,null,{"$f":"+IF(AT881=\"\",\"\",MAX(AO$1:AO880)+1)","v":""},{"$f":"IF(Deviation_Limits!B903=\"\",\"\",Deviation_Limits!B903)","v":""},{"$f":"IF(Deviation_Limits!C903=\"\",\"\",Deviation_Limits!C903)","v":""},{"$f":"IF(Deviation_Limits!D903=\"\",\"\",Deviation_Limits!D903)","v":""},"",{"$f":"IF(COUNTIF(AQ$2:AQ881,AQ881)=1,AQ881,\"\")","v":""},"","","",null,{"$f":"+IF(BD881=\"\",\"\",MAX(AY$1:AY880)+1)","v":""},{"$f":"IF(Deviation_CEM_CPMS!B903=\"\",\"\",Deviation_CEM_CPMS!B903)","v":""},{"$f":"IF(Deviation_CEM_CPMS!C903=\"\",\"\",Deviation_CEM_CPMS!C903)","v":""},{"$f":"IF(Deviation_CEM_CPMS!D903=\"\",\"\",Deviation_CEM_CPMS!D903)","v":""},"",{"$f":"IF(COUNTIF(BA$2:BA881,BA881)=1,BA881,\"\")","v":""},"","",""]
[null,null,null,null,null,null,null,null,null,null,null,null,null,null,null,null,null,null,null,null,null,null,null,null,null,null,{"$f":"+IF(AE882=\"\",\"\",MAX(AA$1:AA881)+1)","v":""},{"$f":"IF(#REF!=\"\",\"\",#REF!)","v":{"$error":"#REF!"}},{"$f":"IF(#REF!=\"\",\"\",#REF!)","v":{"$error":"#REF!"}},{"$error":"#REF!"},{"$f":"IF(COUNTIF(AC$2:AC882,AC882)=1,AC882,\"\")","v":""},"","",null,null,null,null,null,null,null,{"$f":"+IF(AT882=\"\",\"\",MAX(AO$1:AO881)+1)","v":""},{"$f":"IF(Deviation_Limits!B904=\"\",\"\",Deviation_Limits!B904)","v":""},{"$f":"IF(Deviation_Limits!C904=\"\",\"\",Deviation_Limits!C904)","v":""},{"$f":"IF(Deviation_Limits!D904=\"\",\"\",Deviation_Limits!D904)","v":""},"",{"$f":"IF(COUNTIF(AQ$2:AQ882,AQ882)=1,AQ882,\"\")","v":""},"","","",null,{"$f":"+IF(BD882=\"\",\"\",MAX(AY$1:AY881)+1)","v":""},{"$f":"IF(Deviation_CEM_CPMS!B904=\"\",\"\",Deviation_CEM_CPMS!B904)","v":""},{"$f":"IF(Deviation_CEM_CPMS!C904=\"\",\"\",Deviation_CEM_CPMS!C904)","v":""},{"$f":"IF(Deviation_CEM_CPMS!D904=\"\",\"\",Deviation_CEM_CPMS!D904)","v":""},"",{"$f":"IF(COUNTIF(BA$2:BA882,BA882)=1,BA882,\"\")","v":""},"","",""]
[null,null,null,null,null,null,null,null,null,null,null,null,null,null,null,null,null,null,null,null,null,null,null,null,null,null,{"$f":"+IF(AE883=\"\",\"\",MAX(AA$1:AA882)+1)","v":""},{"$f":"IF(#REF!=\"\",\"\",#REF!)","v":{"$error":"#REF!"}},{"$f":"IF(#REF!=\"\",\"\",#REF!)","v":{"$error":"#REF!"}},{"$error":"#REF!"},{"$f":"IF(COUNTIF(AC$2:AC883,AC883)=1,AC883,\"\")","v":""},"","",null,null,null,null,null,null,null,{"$f":"+IF(AT883=\"\",\"\",MAX(AO$1:AO882)+1)","v":""},{"$f":"IF(Deviation_Limits!B905=\"\",\"\",Deviation_Limits!B905)","v":""},{"$f":"IF(Deviation_Limits!C905=\"\",\"\",Deviation_Limits!C905)","v":""},{"$f":"IF(Deviation_Limits!D905=\"\",\"\",Deviation_Limits!D905)","v":""},"",{"$f":"IF(COUNTIF(AQ$2:AQ883,AQ883)=1,AQ883,\"\")","v":""},"","","",null,{"$f":"+IF(BD883=\"\",\"\",MAX(AY$1:AY882)+1)","v":""},{"$f":"IF(Deviation_CEM_CPMS!B905=\"\",\"\",Deviation_CEM_CPMS!B905)","v":""},{"$f":"IF(Deviation_CEM_CPMS!C905=\"\",\"\",Deviation_CEM_CPMS!C905)","v":""},{"$f":"IF(Deviation_CEM_CPMS!D905=\"\",\"\",Deviation_CEM_CPMS!D905)","v":""},"",{"$f":"IF(COUNTIF(BA$2:BA883,BA883)=1,BA883,\"\")","v":""},"","",""]
[null,null,null,null,null,null,null,null,null,null,null,null,null,null,null,null,null,null,null,null,null,null,null,null,null,null,{"$f":"+IF(AE884=\"\",\"\",MAX(AA$1:AA883)+1)","v":""},{"$f":"IF(#REF!=\"\",\"\",#REF!)","v":{"$error":"#REF!"}},{"$f":"IF(#REF!=\"\",\"\",#REF!)","v":{"$error":"#REF!"}},{"$error":"#REF!"},{"$f":"IF(COUNTIF(AC$2:AC884,AC884)=1,AC884,\"\")","v":""},"","",null,null,null,null,null,null,null,{"$f":"+IF(AT884=\"\",\"\",MAX(AO$1:AO883)+1)","v":""},{"$f":"IF(Deviation_Limits!B906=\"\",\"\",Deviation_Limits!B906)","v":""},{"$f":"IF(Deviation_Limits!C906=\"\",\"\",Deviation_Limits!C906)","v":""},{"$f":"IF(Deviation_Limits!D906=\"\",\"\",Deviation_Limits!D906)","v":""},"",{"$f":"IF(COUNTIF(AQ$2:AQ884,AQ884)=1,AQ884,\"\")","v":""},"","","",null,{"$f":"+IF(BD884=\"\",\"\",MAX(AY$1:AY883)+1)","v":""},{"$f":"IF(Deviation_CEM_CPMS!B906=\"\",\"\",Deviation_CEM_CPMS!B906)","v":""},{"$f":"IF(Deviation_CEM_CPMS!C906=\"\",\"\",Deviation_CEM_CPMS!C906)","v":""},{"$f":"IF(Deviation_CEM_CPMS!D906=\"\",\"\",Deviation_CEM_CPMS!D906)","v":""},"",{"$f":"IF(COUNTIF(BA$2:BA884,BA884)=1,BA884,\"\")","v":""},"","",""]
[null,null,null,null,null,null,null,null,null,null,null,null,null,null,null,null,null,null,null,null,null,null,null,null,null,null,{"$f":"+IF(AE885=\"\",\"\",MAX(AA$1:AA884)+1)","v":""},{"$f":"IF(#REF!=\"\",\"\",#REF!)","v":{"$error":"#REF!"}},{"$f":"IF(#REF!=\"\",\"\",#REF!)","v":{"$error":"#REF!"}},{"$error":"#REF!"},{"$f":"IF(COUNTIF(AC$2:AC885,AC885)=1,AC885,\"\")","v":""},"","",null,null,null,null,null,null,null,{"$f":"+IF(AT885=\"\",\"\",MAX(AO$1:AO884)+1)","v":""},{"$f":"IF(Deviation_Limits!B907=\"\",\"\",Deviation_Limits!B907)","v":""},{"$f":"IF(Deviation_Limits!C907=\"\",\"\",Deviation_Limits!C907)","v":""},{"$f":"IF(Deviation_Limits!D907=\"\",\"\",Deviation_Limits!D907)","v":""},"",{"$f":"IF(COUNTIF(AQ$2:AQ885,AQ885)=1,AQ885,\"\")","v":""},"","","",null,{"$f":"+IF(BD885=\"\",\"\",MAX(AY$1:AY884)+1)","v":""},{"$f":"IF(Deviation_CEM_CPMS!B907=\"\",\"\",Deviation_CEM_CPMS!B907)","v":""},{"$f":"IF(Deviation_CEM_CPMS!C907=\"\",\"\",Deviation_CEM_CPMS!C907)","v":""},{"$f":"IF(Deviation_CEM_CPMS!D907=\"\",\"\",Deviation_CEM_CPMS!D907)","v":""},"",{"$f":"IF(COUNTIF(BA$2:BA885,BA885)=1,BA885,\"\")","v":""},"","",""]
[null,null,null,null,null,null,null,null,null,null,null,null,null,null,null,null,null,null,null,null,null,null,null,null,null,null,{"$f":"+IF(AE886=\"\",\"\",MAX(AA$1:AA885)+1)","v":""},{"$f":"IF(#REF!=\"\",\"\",#REF!)","v":{"$error":"#REF!"}},{"$f":"IF(#REF!=\"\",\"\",#REF!)","v":{"$error":"#REF!"}},{"$error":"#REF!"},{"$f":"IF(COUNTIF(AC$2:AC886,AC886)=1,AC886,\"\")","v":""},"","",null,null,null,null,null,null,null,{"$f":"+IF(AT886=\"\",\"\",MAX(AO$1:AO885)+1)","v":""},{"$f":"IF(Deviation_Limits!B908=\"\",\"\",Deviation_Limits!B908)","v":""},{"$f":"IF(Deviation_Limits!C908=\"\",\"\",Deviation_Limits!C908)","v":""},{"$f":"IF(Deviation_Limits!D908=\"\",\"\",Deviation_Limits!D908)","v":""},"",{"$f":"IF(COUNTIF(AQ$2:AQ886,AQ886)=1,AQ886,\"\")","v":""},"","","",null,{"$f":"+IF(BD886=\"\",\"\",MAX(AY$1:AY885)+1)","v":""},{"$f":"IF(Deviation_CEM_CPMS!B908=\"\",\"\",Deviation_CEM_CPMS!B908)","v":""},{"$f":"IF(Deviation_CEM_CPMS!C908=\"\",\"\",Deviation_CEM_CPMS!C908)","v":""},{"$f":"IF(Deviation_CEM_CPMS!D908=\"\",\"\",Deviation_CEM_CPMS!D908)","v":""},"",{"$f":"IF(COUNTIF(BA$2:BA886,BA886)=1,BA886,\"\")","v":""},"","",""]
[null,null,null,null,null,null,null,null,null,null,null,null,null,null,null,null,null,null,null,null,null,null,null,null,null,null,{"$f":"+IF(AE887=\"\",\"\",MAX(AA$1:AA886)+1)","v":""},{"$f":"IF(#REF!=\"\",\"\",#REF!)","v":{"$error":"#REF!"}},{"$f":"IF(#REF!=\"\",\"\",#REF!)","v":{"$error":"#REF!"}},{"$error":"#REF!"},{"$f":"IF(COUNTIF(AC$2:AC887,AC887)=1,AC887,\"\")","v":""},"","",null,null,null,null,null,null,null,{"$f":"+IF(AT887=\"\",\"\",MAX(AO$1:AO886)+1)","v":""},{"$f":"IF(Deviation_Limits!B909=\"\",\"\",Deviation_Limits!B909)","v":""},{"$f":"IF(Deviation_Limits!C909=\"\",\"\",Deviation_Limits!C909)","v":""},{"$f":"IF(Deviation_Limits!D909=\"\",\"\",Deviation_Limits!D909)","v":""},"",{"$f":"IF(COUNTIF(AQ$2:AQ887,AQ887)=1,AQ887,\"\")","v":""},"","","",null,{"$f":"+IF(BD887=\"\",\"\",MAX(AY$1:AY886)+1)","v":""},{"$f":"IF(Deviation_CEM_CPMS!B909=\"\",\"\",Deviation_CEM_CPMS!B909)","v":""},{"$f":"IF(Deviation_CEM_CPMS!C909=\"\",\"\",Deviation_CEM_CPMS!C909)","v":""},{"$f":"IF(Deviation_CEM_CPMS!D909=\"\",\"\",Deviation_CEM_CPMS!D909)","v":""},"",{"$f":"IF(COUNTIF(BA$2:BA887,BA887)=1,BA887,\"\")","v":""},"","",""]
[null,null,null,null,null,null,null,null,null,null,null,null,null,null,null,null,null,null,null,null,null,null,null,null,null,null,{"$f":"+IF(AE888=\"\",\"\",MAX(AA$1:AA887)+1)","v":""},{"$f":"IF(#REF!=\"\",\"\",#REF!)","v":{"$error":"#REF!"}},{"$f":"IF(#REF!=\"\",\"\",#REF!)","v":{"$error":"#REF!"}},{"$error":"#REF!"},{"$f":"IF(COUNTIF(AC$2:AC888,AC888)=1,AC888,\"\")","v":""},"","",null,null,null,null,null,null,null,{"$f":"+IF(AT888=\"\",\"\",MAX(AO$1:AO887)+1)","v":""},{"$f":"IF(Deviation_Limits!B910=\"\",\"\",Deviation_Limits!B910)","v":""},{"$f":"IF(Deviation_Limits!C910=\"\",\"\",Deviation_Limits!C910)","v":""},{"$f":"IF(Deviation_Limits!D910=\"\",\"\",Deviation_Limits!D910)","v":""},"",{"$f":"IF(COUNTIF(AQ$2:AQ888,AQ888)=1,AQ888,\"\")","v":""},"","","",null,{"$f":"+IF(BD888=\"\",\"\",MAX(AY$1:AY887)+1)","v":""},{"$f":"IF(Deviation_CEM_CPMS!B910=\"\",\"\",Deviation_CEM_CPMS!B910)","v":""},{"$f":"IF(Deviation_CEM_CPMS!C910=\"\",\"\",Deviation_CEM_CPMS!C910)","v":""},{"$f":"IF(Deviation_CEM_CPMS!D910=\"\",\"\",Deviation_CEM_CPMS!D910)","v":""},"",{"$f":"IF(COUNTIF(BA$2:BA888,BA888)=1,BA888,\"\")","v":""},"","",""]
[null,null,null,null,null,null,null,null,null,null,null,null,null,null,null,null,null,null,null,null,null,null,null,null,null,null,{"$f":"+IF(AE889=\"\",\"\",MAX(AA$1:AA888)+1)","v":""},{"$f":"IF(#REF!=\"\",\"\",#REF!)","v":{"$error":"#REF!"}},{"$f":"IF(#REF!=\"\",\"\",#REF!)","v":{"$error":"#REF!"}},{"$error":"#REF!"},{"$f":"IF(COUNTIF(AC$2:AC889,AC889)=1,AC889,\"\")","v":""},"","",null,null,null,null,null,null,null,{"$f":"+IF(AT889=\"\",\"\",MAX(AO$1:AO888)+1)","v":""},{"$f":"IF(Deviation_Limits!B911=\"\",\"\",Deviation_Limits!B911)","v":""},{"$f":"IF(Deviation_Limits!C911=\"\",\"\",Deviation_Limits!C911)","v":""},{"$f":"IF(Deviation_Limits!D911=\"\",\"\",Deviation_Limits!D911)","v":""},"",{"$f":"IF(COUNTIF(AQ$2:AQ889,AQ889)=1,AQ889,\"\")","v":""},"","","",null,{"$f":"+IF(BD889=\"\",\"\",MAX(AY$1:AY888)+1)","v":""},{"$f":"IF(Deviation_CEM_CPMS!B911=\"\",\"\",Deviation_CEM_CPMS!B911)","v":""},{"$f":"IF(Deviation_CEM_CPMS!C911=\"\",\"\",Deviation_CEM_CPMS!C911)","v":""},{"$f":"IF(Deviation_CEM_CPMS!D911=\"\",\"\",Deviation_CEM_CPMS!D911)","v":""},"",{"$f":"IF(COUNTIF(BA$2:BA889,BA889)=1,BA889,\"\")","v":""},"","",""]
[null,null,null,null,null,null,null,null,null,null,null,null,null,null,null,null,null,null,null,null,null,null,null,null,null,null,{"$f":"+IF(AE890=\"\",\"\",MAX(AA$1:AA889)+1)","v":""},{"$f":"IF(#REF!=\"\",\"\",#REF!)","v":{"$error":"#REF!"}},{"$f":"IF(#REF!=\"\",\"\",#REF!)","v":{"$error":"#REF!"}},{"$error":"#REF!"},{"$f":"IF(COUNTIF(AC$2:AC890,AC890)=1,AC890,\"\")","v":""},"","",null,null,null,null,null,null,null,{"$f":"+IF(AT890=\"\",\"\",MAX(AO$1:AO889)+1)","v":""},{"$f":"IF(Deviation_Limits!B912=\"\",\"\",Deviation_Limits!B912)","v":""},{"$f":"IF(Deviation_Limits!C912=\"\",\"\",Deviation_Limits!C912)","v":""},{"$f":"IF(Deviation_Limits!D912=\"\",\"\",Deviation_Limits!D912)","v":""},"",{"$f":"IF(COUNTIF(AQ$2:AQ890,AQ890)=1,AQ890,\"\")","v":""},"","","",null,{"$f":"+IF(BD890=\"\",\"\",MAX(AY$1:AY889)+1)","v":""},{"$f":"IF(Deviation_CEM_CPMS!B912=\"\",\"\",Deviation_CEM_CPMS!B912)","v":""},{"$f":"IF(Deviation_CEM_CPMS!C912=\"\",\"\",Deviation_CEM_CPMS!C912)","v":""},{"$f":"IF(Deviation_CEM_CPMS!D912=\"\",\"\",Deviation_CEM_CPMS!D912)","v":""},"",{"$f":"IF(COUNTIF(BA$2:BA890,BA890)=1,BA890,\"\")","v":""},"","",""]
[null,null,null,null,null,null,null,null,null,null,null,null,null,null,null,null,null,null,null,null,null,null,null,null,null,null,{"$f":"+IF(AE891=\"\",\"\",MAX(AA$1:AA890)+1)","v":""},{"$f":"IF(#REF!=\"\",\"\",#REF!)","v":{"$error":"#REF!"}},{"$f":"IF(#REF!=\"\",\"\",#REF!)","v":{"$error":"#REF!"}},{"$error":"#REF!"},{"$f":"IF(COUNTIF(AC$2:AC891,AC891)=1,AC891,\"\")","v":""},"","",null,null,null,null,null,null,null,{"$f":"+IF(AT891=\"\",\"\",MAX(AO$1:AO890)+1)","v":""},{"$f":"IF(Deviation_Limits!B913=\"\",\"\",Deviation_Limits!B913)","v":""},{"$f":"IF(Deviation_Limits!C913=\"\",\"\",Deviation_Limits!C913)","v":""},{"$f":"IF(Deviation_Limits!D913=\"\",\"\",Deviation_Limits!D913)","v":""},"",{"$f":"IF(COUNTIF(AQ$2:AQ891,AQ891)=1,AQ891,\"\")","v":""},"","","",null,{"$f":"+IF(BD891=\"\",\"\",MAX(AY$1:AY890)+1)","v":""},{"$f":"IF(Deviation_CEM_CPMS!B913=\"\",\"\",Deviation_CEM_CPMS!B913)","v":""},{"$f":"IF(Deviation_CEM_CPMS!C913=\"\",\"\",Deviation_CEM_CPMS!C913)","v":""},{"$f":"IF(Deviation_CEM_CPMS!D913=\"\",\"\",Deviation_CEM_CPMS!D913)","v":""},"",{"$f":"IF(COUNTIF(BA$2:BA891,BA891)=1,BA891,\"\")","v":""},"","",""]
[null,null,null,null,null,null,null,null,null,null,null,null,null,null,null,null,null,null,null,null,null,null,null,null,null,null,{"$f":"+IF(AE892=\"\",\"\",MAX(AA$1:AA891)+1)","v":""},{"$f":"IF(#REF!=\"\",\"\",#REF!)","v":{"$error":"#REF!"}},{"$f":"IF(#REF!=\"\",\"\",#REF!)","v":{"$error":"#REF!"}},{"$error":"#REF!"},{"$f":"IF(COUNTIF(AC$2:AC892,AC892)=1,AC892,\"\")","v":""},"","",null,null,null,null,null,null,null,{"$f":"+IF(AT892=\"\",\"\",MAX(AO$1:AO891)+1)","v":""},{"$f":"IF(Deviation_Limits!B914=\"\",\"\",Deviation_Limits!B914)","v":""},{"$f":"IF(Deviation_Limits!C914=\"\",\"\",Deviation_Limits!C914)","v":""},{"$f":"IF(Deviation_Limits!D914=\"\",\"\",Deviation_Limits!D914)","v":""},"",{"$f":"IF(COUNTIF(AQ$2:AQ892,AQ892)=1,AQ892,\"\")","v":""},"","","",null,{"$f":"+IF(BD892=\"\",\"\",MAX(AY$1:AY891)+1)","v":""},{"$f":"IF(Deviation_CEM_CPMS!B914=\"\",\"\",Deviation_CEM_CPMS!B914)","v":""},{"$f":"IF(Deviation_CEM_CPMS!C914=\"\",\"\",Deviation_CEM_CPMS!C914)","v":""},{"$f":"IF(Deviation_CEM_CPMS!D914=\"\",\"\",Deviation_CEM_CPMS!D914)","v":""},"",{"$f":"IF(COUNTIF(BA$2:BA892,BA892)=1,BA892,\"\")","v":""},"","",""]
[null,null,null,null,null,null,null,null,null,null,null,null,null,null,null,null,null,null,null,null,null,null,null,null,null,null,{"$f":"+IF(AE893=\"\",\"\",MAX(AA$1:AA892)+1)","v":""},{"$f":"IF(#REF!=\"\",\"\",#REF!)","v":{"$error":"#REF!"}},{"$f":"IF(#REF!=\"\",\"\",#REF!)","v":{"$error":"#REF!"}},{"$error":"#REF!"},{"$f":"IF(COUNTIF(AC$2:AC893,AC893)=1,AC893,\"\")","v":""},"","",null,null,null,null,null,null,null,{"$f":"+IF(AT893=\"\",\"\",MAX(AO$1:AO892)+1)","v":""},{"$f":"IF(Deviation_Limits!B915=\"\",\"\",Deviation_Limits!B915)","v":""},{"$f":"IF(Deviation_Limits!C915=\"\",\"\",Deviation_Limits!C915)","v":""},{"$f":"IF(Deviation_Limits!D915=\"\",\"\",Deviation_Limits!D915)","v":""},"",{"$f":"IF(COUNTIF(AQ$2:AQ893,AQ893)=1,AQ893,\"\")","v":""},"","","",null,{"$f":"+IF(BD893=\"\",\"\",MAX(AY$1:AY892)+1)","v":""},{"$f":"IF(Deviation_CEM_CPMS!B915=\"\",\"\",Deviation_CEM_CPMS!B915)","v":""},{"$f":"IF(Deviation_CEM_CPMS!C915=\"\",\"\",Deviation_CEM_CPMS!C915)","v":""},{"$f":"IF(Deviation_CEM_CPMS!D915=\"\",\"\",Deviation_CEM_CPMS!D915)","v":""},"",{"$f":"IF(COUNTIF(BA$2:BA893,BA893)=1,BA893,\"\")","v":""},"","",""]
[null,null,null,null,null,null,null,null,null,null,null,null,null,null,null,null,null,null,null,null,null,null,null,null,null,null,{"$f":"+IF(AE894=\"\",\"\",MAX(AA$1:AA893)+1)","v":""},{"$f":"IF(#REF!=\"\",\"\",#REF!)","v":{"$error":"#REF!"}},{"$f":"IF(#REF!=\"\",\"\",#REF!)","v":{"$error":"#REF!"}},{"$error":"#REF!"},{"$f":"IF(COUNTIF(AC$2:AC894,AC894)=1,AC894,\"\")","v":""},"","",null,null,null,null,null,null,null,{"$f":"+IF(AT894=\"\",\"\",MAX(AO$1:AO893)+1)","v":""},{"$f":"IF(Deviation_Limits!B916=\"\",\"\",Deviation_Limits!B916)","v":""},{"$f":"IF(Deviation_Limits!C916=\"\",\"\",Deviation_Limits!C916)","v":""},{"$f":"IF(Deviation_Limits!D916=\"\",\"\",Deviation_Limits!D916)","v":""},"",{"$f":"IF(COUNTIF(AQ$2:AQ894,AQ894)=1,AQ894,\"\")","v":""},"","","",null,{"$f":"+IF(BD894=\"\",\"\",MAX(AY$1:AY893)+1)","v":""},{"$f":"IF(Deviation_CEM_CPMS!B916=\"\",\"\",Deviation_CEM_CPMS!B916)","v":""},{"$f":"IF(Deviation_CEM_CPMS!C916=\"\",\"\",Deviation_CEM_CPMS!C916)","v":""},{"$f":"IF(Deviation_CEM_CPMS!D916=\"\",\"\",Deviation_CEM_CPMS!D916)","v":""},"",{"$f":"IF(COUNTIF(BA$2:BA894,BA894)=1,BA894,\"\")","v":""},"","",""]
[null,null,null,null,null,null,null,null,null,null,null,null,null,null,null,null,null,null,null,null,null,null,null,null,null,null,{"$f":"+IF(AE895=\"\",\"\",MAX(AA$1:AA894)+1)","v":""},{"$f":"IF(#REF!=\"\",\"\",#REF!)","v":{"$error":"#REF!"}},{"$f":"IF(#REF!=\"\",\"\",#REF!)","v":{"$error":"#REF!"}},{"$error":"#REF!"},{"$f":"IF(COUNTIF(AC$2:AC895,AC895)=1,AC895,\"\")","v":""},"","",null,null,null,null,null,null,null,{"$f":"+IF(AT895=\"\",\"\",MAX(AO$1:AO894)+1)","v":""},{"$f":"IF(Deviation_Limits!B917=\"\",\"\",Deviation_Limits!B917)","v":""},{"$f":"IF(Deviation_Limits!C917=\"\",\"\",Deviation_Limits!C917)","v":""},{"$f":"IF(Deviation_Limits!D917=\"\",\"\",Deviation_Limits!D917)","v":""},"",{"$f":"IF(COUNTIF(AQ$2:AQ895,AQ895)=1,AQ895,\"\")","v":""},"","","",null,{"$f":"+IF(BD895=\"\",\"\",MAX(AY$1:AY894)+1)","v":""},{"$f":"IF(Deviation_CEM_CPMS!B917=\"\",\"\",Deviation_CEM_CPMS!B917)","v":""},{"$f":"IF(Deviation_CEM_CPMS!C917=\"\",\"\",Deviation_CEM_CPMS!C917)","v":""},{"$f":"IF(Deviation_CEM_CPMS!D917=\"\",\"\",Deviation_CEM_CPMS!D917)","v":""},"",{"$f":"IF(COUNTIF(BA$2:BA895,BA895)=1,BA895,\"\")","v":""},"","",""]
[null,null,null,null,null,null,null,null,null,null,null,null,null,null,null,null,null,null,null,null,null,null,null,null,null,null,{"$f":"+IF(AE896=\"\",\"\",MAX(AA$1:AA895)+1)","v":""},{"$f":"IF(#REF!=\"\",\"\",#REF!)","v":{"$error":"#REF!"}},{"$f":"IF(#REF!=\"\",\"\",#REF!)","v":{"$error":"#REF!"}},{"$error":"#REF!"},{"$f":"IF(COUNTIF(AC$2:AC896,AC896)=1,AC896,\"\")","v":""},"","",null,null,null,null,null,null,null,{"$f":"+IF(AT896=\"\",\"\",MAX(AO$1:AO895)+1)","v":""},{"$f":"IF(Deviation_Limits!B918=\"\",\"\",Deviation_Limits!B918)","v":""},{"$f":"IF(Deviation_Limits!C918=\"\",\"\",Deviation_Limits!C918)","v":""},{"$f":"IF(Deviation_Limits!D918=\"\",\"\",Deviation_Limits!D918)","v":""},"",{"$f":"IF(COUNTIF(AQ$2:AQ896,AQ896)=1,AQ896,\"\")","v":""},"","","",null,{"$f":"+IF(BD896=\"\",\"\",MAX(AY$1:AY895)+1)","v":""},{"$f":"IF(Deviation_CEM_CPMS!B918=\"\",\"\",Deviation_CEM_CPMS!B918)","v":""},{"$f":"IF(Deviation_CEM_CPMS!C918=\"\",\"\",Deviation_CEM_CPMS!C918)","v":""},{"$f":"IF(Deviation_CEM_CPMS!D918=\"\",\"\",Deviation_CEM_CPMS!D918)","v":""},"",{"$f":"IF(COUNTIF(BA$2:BA896,BA896)=1,BA896,\"\")","v":""},"","",""]
[null,null,null,null,null,null,null,null,null,null,null,null,null,null,null,null,null,null,null,null,null,null,null,null,null,null,{"$f":"+IF(AE897=\"\",\"\",MAX(AA$1:AA896)+1)","v":""},{"$f":"IF(#REF!=\"\",\"\",#REF!)","v":{"$error":"#REF!"}},{"$f":"IF(#REF!=\"\",\"\",#REF!)","v":{"$error":"#REF!"}},{"$error":"#REF!"},{"$f":"IF(COUNTIF(AC$2:AC897,AC897)=1,AC897,\"\")","v":""},"","",null,null,null,null,null,null,null,{"$f":"+IF(AT897=\"\",\"\",MAX(AO$1:AO896)+1)","v":""},{"$f":"IF(Deviation_Limits!B919=\"\",\"\",Deviation_Limits!B919)","v":""},{"$f":"IF(Deviation_Limits!C919=\"\",\"\",Deviation_Limits!C919)","v":""},{"$f":"IF(Deviation_Limits!D919=\"\",\"\",Deviation_Limits!D919)","v":""},"",{"$f":"IF(COUNTIF(AQ$2:AQ897,AQ897)=1,AQ897,\"\")","v":""},"","","",null,{"$f":"+IF(BD897=\"\",\"\",MAX(AY$1:AY896)+1)","v":""},{"$f":"IF(Deviation_CEM_CPMS!B919=\"\",\"\",Deviation_CEM_CPMS!B919)","v":""},{"$f":"IF(Deviation_CEM_CPMS!C919=\"\",\"\",Deviation_CEM_CPMS!C919)","v":""},{"$f":"IF(Deviation_CEM_CPMS!D919=\"\",\"\",Deviation_CEM_CPMS!D919)","v":""},"",{"$f":"IF(COUNTIF(BA$2:BA897,BA897)=1,BA897,\"\")","v":""},"","",""]
[null,null,null,null,null,null,null,null,null,null,null,null,null,null,null,null,null,null,null,null,null,null,null,null,null,null,{"$f":"+IF(AE898=\"\",\"\",MAX(AA$1:AA897)+1)","v":""},{"$f":"IF(#REF!=\"\",\"\",#REF!)","v":{"$error":"#REF!"}},{"$f":"IF(#REF!=\"\",\"\",#REF!)","v":{"$error":"#REF!"}},{"$error":"#REF!"},{"$f":"IF(COUNTIF(AC$2:AC898,AC898)=1,AC898,\"\")","v":""},"","",null,null,null,null,null,null,null,{"$f":"+IF(AT898=\"\",\"\",MAX(AO$1:AO897)+1)","v":""},{"$f":"IF(Deviation_Limits!B920=\"\",\"\",Deviation_Limits!B920)","v":""},{"$f":"IF(Deviation_Limits!C920=\"\",\"\",Deviation_Limits!C920)","v":""},{"$f":"IF(Deviation_Limits!D920=\"\",\"\",Deviation_Limits!D920)","v":""},"",{"$f":"IF(COUNTIF(AQ$2:AQ898,AQ898)=1,AQ898,\"\")","v":""},"","","",null,{"$f":"+IF(BD898=\"\",\"\",MAX(AY$1:AY897)+1)","v":""},{"$f":"IF(Deviation_CEM_CPMS!B920=\"\",\"\",Deviation_CEM_CPMS!B920)","v":""},{"$f":"IF(Deviation_CEM_CPMS!C920=\"\",\"\",Deviation_CEM_CPMS!C920)","v":""},{"$f":"IF(Deviation_CEM_CPMS!D920=\"\",\"\",Deviation_CEM_CPMS!D920)","v":""},{"$f":"+AZ898&BA898&BB898","v":""},{"$f":"IF(COUNTIF(BA$2:BA898,BA898)=1,BA898,\"\")","v":""},{"$f":"+IFERROR(INDEX(AZ$2:AZ$500,MATCH(ROW()-ROW(BE$1),$AA$2:$AA$500,0)),\"\")","v":""},{"$f":"+IFERROR(INDEX(BA$2:BA$500,MATCH(ROW()-ROW(BE$1),$AA$2:$AA$500,0)),\"\")","v":""},{"$f":"+IFERROR(INDEX(BB$2:BB$500,MATCH(ROW()-ROW(BE$1),$AA$2:$AA$500,0)),\"\")","v":""}]
[null,null,null,null,null,null,null,null,null,null,null,null,null,null,null,null,null,null,null,null,null,null,null,null,null,null,{"$f":"+IF(AE899=\"\",\"\",MAX(AA$1:AA898)+1)","v":""},{"$f":"IF(#REF!=\"\",\"\",#REF!)","v":{"$error":"#REF!"}},{"$f":"IF(#REF!=\"\",\"\",#REF!)","v":{"$error":"#REF!"}},{"$error":"#REF!"},{"$f":"IF(COUNTIF(AC$2:AC899,AC899)=1,AC899,\"\")","v":""},{"$f":"+IFERROR(INDEX(AB$2:AB$500,MATCH(ROW()-ROW($AF$1),$AA$2:$AA$500,0)),\"\")","v":""},{"$f":"+IFERROR(INDEX(AC$2:AC$500,MATCH(ROW()-ROW($AF$1),$AA$2:$AA$500,0)),\"\")","v":""},null,null,null,null,null,null,null,{"$f":"+IF(AT899=\"\",\"\",MAX(AO$1:AO898)+1)","v":""},{"$f":"IF(Deviation_Limits!B921=\"\",\"\",Deviation_Limits!B921)","v":""},{"$f":"IF(Deviation_Limits!C921=\"\",\"\",Deviation_Limits!C921)","v":""},{"$f":"IF(Deviation_Limits!D921=\"\",\"\",Deviation_Limits!D921)","v":""},{"$f":"+AP899&AQ899&C899","v":""},{"$f":"IF(COUNTIF(AQ$2:AQ899,AQ899)=1,AQ899,\"\")","v":""},{"$f":"+IFERROR(INDEX(AP$2:AP$500,MATCH(ROW()-ROW(AU$1),$AA$2:$AA$500,0)),\"\")","v":""},{"$f":"+IFERROR(INDEX(AQ$2:AQ$500,MATCH(ROW()-ROW(AU$1),$AA$2:$AA$500,0)),\"\")","v":""},{"$f":"+IFERROR(INDEX(AR$2:AR$500,MATCH(ROW()-ROW(AU$1),$AA$2:$AA$500,0)),\"\")","v":""},null,{"$f":"+IF(BD899=\"\",\"\",MAX(AY$1:AY898)+1)","v":""},{"$f":"IF(Deviation_CEM_CPMS!B921=\"\",\"\",Deviation_CEM_CPMS!B921)","v":""},{"$f":"IF(Deviation_CEM_CPMS!C921=\"\",\"\",Deviation_CEM_CPMS!C921)","v":""},{"$f":"IF(Deviation_CEM_CPMS!D921=\"\",\"\",Deviation_CEM_CPMS!D921)","v":""},"",{"$f":"IF(COUNTIF(BA$2:BA899,BA899)=1,BA899,\"\")","v":""},"","",""]
[null,null,null,null,null,null,null,null,null,null,null,null,null,null,null,null,null,null,null,null,null,null,null,null,null,null,{"$f":"+IF(AE900=\"\",\"\",MAX(AA$1:AA899)+1)","v":""},{"$f":"IF(#REF!=\"\",\"\",#REF!)","v":{"$error":"#REF!"}},{"$f":"IF(#REF!=\"\",\"\",#REF!)","v":{"$error":"#REF!"}},{"$error":"#REF!"},{"$f":"IF(COUNTIF(AC$2:AC900,AC900)=1,AC900,\"\")","v":""},"","",null,null,null,null,null,null,null,{"$f":"+IF(AT900=\"\",\"\",MAX(AO$1:AO899)+1)","v":""},{"$f":"IF(Deviation_Limits!B922=\"\",\"\",Deviation_Limits!B922)","v":""},{"$f":"IF(Deviation_Limits!C922=\"\",\"\",Deviation_Limits!C922)","v":""},{"$f":"IF(Deviation_Limits!D922=\"\",\"\",Deviation_Limits!D922)","v":""},"",{"$f":"IF(COUNTIF(AQ$2:AQ900,AQ900)=1,AQ900,\"\")","v":""},"","","",null,{"$f":"+IF(BD900=\"\",\"\",MAX(AY$1:AY899)+1)","v":""},{"$f":"IF(Deviation_CEM_CPMS!B922=\"\",\"\",Deviation_CEM_CPMS!B922)","v":""},{"$f":"IF(Deviation_CEM_CPMS!C922=\"\",\"\",Deviation_CEM_CPMS!C922)","v":""},{"$f":"IF(Deviation_CEM_CPMS!D922=\"\",\"\",Deviation_CEM_CPMS!D922)","v":""},"",{"$f":"IF(COUNTIF(BA$2:BA900,BA900)=1,BA900,\"\")","v":""},"","",""]
[null,null,null,null,null,null,null,null,null,null,null,null,null,null,null,null,null,null,null,null,null,null,null,null,null,null,{"$f":"+IF(AE901=\"\",\"\",MAX(AA$1:AA900)+1)","v":""},{"$f":"IF(#REF!=\"\",\"\",#REF!)","v":{"$error":"#REF!"}},{"$f":"IF(#REF!=\"\",\"\",#REF!)","v":{"$error":"#REF!"}},{"$error":"#REF!"},{"$f":"IF(COUNTIF(AC$2:AC901,AC901)=1,AC901,\"\")","v":""},"","",null,null,null,null,null,null,null,{"$f":"+IF(AT901=\"\",\"\",MAX(AO$1:AO900)+1)","v":""},{"$f":"IF(Deviation_Limits!B923=\"\",\"\",Deviation_Limits!B923)","v":""},{"$f":"IF(Deviation_Limits!C923=\"\",\"\",Deviation_Limits!C923)","v":""},{"$f":"IF(Deviation_Limits!D923=\"\",\"\",Deviation_Limits!D923)","v":""},"",{"$f":"IF(COUNTIF(AQ$2:AQ901,AQ901)=1,AQ901,\"\")","v":""},"","","",null,{"$f":"+IF(BD901=\"\",\"\",MAX(AY$1:AY900)+1)","v":""},{"$f":"IF(Deviation_CEM_CPMS!B923=\"\",\"\",Deviation_CEM_CPMS!B923)","v":""},{"$f":"IF(Deviation_CEM_CPMS!C923=\"\",\"\",Deviation_CEM_CPMS!C923)","v":""},{"$f":"IF(Deviation_CEM_CPMS!D923=\"\",\"\",Deviation_CEM_CPMS!D923)","v":""},"",{"$f":"IF(COUNTIF(BA$2:BA901,BA901)=1,BA901,\"\")","v":""},"","",""]
[null,null,null,null,null,null,null,null,null,null,null,null,null,null,null,null,null,null,null,null,null,null,null,null,null,null,{"$f":"+IF(AE902=\"\",\"\",MAX(AA$1:AA901)+1)","v":""},{"$f":"IF(#REF!=\"\",\"\",#REF!)","v":{"$error":"#REF!"}},{"$f":"IF(#REF!=\"\",\"\",#REF!)","v":{"$error":"#REF!"}},{"$error":"#REF!"},{"$f":"IF(COUNTIF(AC$2:AC902,AC902)=1,AC902,\"\")","v":""},"","",null,null,null,null,null,null,null,{"$f":"+IF(AT902=\"\",\"\",MAX(AO$1:AO901)+1)","v":""},{"$f":"IF(Deviation_Limits!B924=\"\",\"\",Deviation_Limits!B924)","v":""},{"$f":"IF(Deviation_Limits!C924=\"\",\"\",Deviation_Limits!C924)","v":""},{"$f":"IF(Deviation_Limits!D924=\"\",\"\",Deviation_Limits!D924)","v":""},"",{"$f":"IF(COUNTIF(AQ$2:AQ902,AQ902)=1,AQ902,\"\")","v":""},"","","",null,{"$f":"+IF(BD902=\"\",\"\",MAX(AY$1:AY901)+1)","v":""},{"$f":"IF(Deviation_CEM_CPMS!B924=\"\",\"\",Deviation_CEM_CPMS!B924)","v":""},{"$f":"IF(Deviation_CEM_CPMS!C924=\"\",\"\",Deviation_CEM_CPMS!C924)","v":""},{"$f":"IF(Deviation_CEM_CPMS!D924=\"\",\"\",Deviation_CEM_CPMS!D924)","v":""},"",{"$f":"IF(COUNTIF(BA$2:BA902,BA902)=1,BA902,\"\")","v":""},"","",""]
[null,null,null,null,null,null,null,null,null,null,null,null,null,null,null,null,null,null,null,null,null,null,null,null,null,null,{"$f":"+IF(AE903=\"\",\"\",MAX(AA$1:AA902)+1)","v":""},{"$f":"IF(#REF!=\"\",\"\",#REF!)","v":{"$error":"#REF!"}},{"$f":"IF(#REF!=\"\",\"\",#REF!)","v":{"$error":"#REF!"}},{"$error":"#REF!"},{"$f":"IF(COUNTIF(AC$2:AC903,AC903)=1,AC903,\"\")","v":""},"","",null,null,null,null,null,null,null,{"$f":"+IF(AT903=\"\",\"\",MAX(AO$1:AO902)+1)","v":""},{"$f":"IF(Deviation_Limits!B925=\"\",\"\",Deviation_Limits!B925)","v":""},{"$f":"IF(Deviation_Limits!C925=\"\",\"\",Deviation_Limits!C925)","v":""},{"$f":"IF(Deviation_Limits!D925=\"\",\"\",Deviation_Limits!D925)","v":""},"",{"$f":"IF(COUNTIF(AQ$2:AQ903,AQ903)=1,AQ903,\"\")","v":""},"","","",null,{"$f":"+IF(BD903=\"\",\"\",MAX(AY$1:AY902)+1)","v":""},{"$f":"IF(Deviation_CEM_CPMS!B925=\"\",\"\",Deviation_CEM_CPMS!B925)","v":""},{"$f":"IF(Deviation_CEM_CPMS!C925=\"\",\"\",Deviation_CEM_CPMS!C925)","v":""},{"$f":"IF(Deviation_CEM_CPMS!D925=\"\",\"\",Deviation_CEM_CPMS!D925)","v":""},"",{"$f":"IF(COUNTIF(BA$2:BA903,BA903)=1,BA903,\"\")","v":""},"","",""]
[null,null,null,null,null,null,null,null,null,null,null,null,null,null,null,null,null,null,null,null,null,null,null,null,null,null,{"$f":"+IF(AE904=\"\",\"\",MAX(AA$1:AA903)+1)","v":""},{"$f":"IF(#REF!=\"\",\"\",#REF!)","v":{"$error":"#REF!"}},{"$f":"IF(#REF!=\"\",\"\",#REF!)","v":{"$error":"#REF!"}},{"$error":"#REF!"},{"$f":"IF(COUNTIF(AC$2:AC904,AC904)=1,AC904,\"\")","v":""},"","",null,null,null,null,null,null,null,{"$f":"+IF(AT904=\"\",\"\",MAX(AO$1:AO903)+1)","v":""},{"$f":"IF(Deviation_Limits!B926=\"\",\"\",Deviation_Limits!B926)","v":""},{"$f":"IF(Deviation_Limits!C926=\"\",\"\",Deviation_Limits!C926)","v":""},{"$f":"IF(Deviation_Limits!D926=\"\",\"\",Deviation_Limits!D926)","v":""},"",{"$f":"IF(COUNTIF(AQ$2:AQ904,AQ904)=1,AQ904,\"\")","v":""},"","","",null,{"$f":"+IF(BD904=\"\",\"\",MAX(AY$1:AY903)+1)","v":""},{"$f":"IF(Deviation_CEM_CPMS!B926=\"\",\"\",Deviation_CEM_CPMS!B926)","v":""},{"$f":"IF(Deviation_CEM_CPMS!C926=\"\",\"\",Deviation_CEM_CPMS!C926)","v":""},{"$f":"IF(Deviation_CEM_CPMS!D926=\"\",\"\",Deviation_CEM_CPMS!D926)","v":""},"",{"$f":"IF(COUNTIF(BA$2:BA904,BA904)=1,BA904,\"\")","v":""},"","",""]
[null,null,null,null,null,null,null,null,null,null,null,null,null,null,null,null,null,null,null,null,null,null,null,null,null,null,{"$f":"+IF(AE905=\"\",\"\",MAX(AA$1:AA904)+1)","v":""},{"$f":"IF(#REF!=\"\",\"\",#REF!)","v":{"$error":"#REF!"}},{"$f":"IF(#REF!=\"\",\"\",#REF!)","v":{"$error":"#REF!"}},{"$error":"#REF!"},{"$f":"IF(COUNTIF(AC$2:AC905,AC905)=1,AC905,\"\")","v":""},"","",null,null,null,null,null,null,null,{"$f":"+IF(AT905=\"\",\"\",MAX(AO$1:AO904)+1)","v":""},{"$f":"IF(Deviation_Limits!B927=\"\",\"\",Deviation_Limits!B927)","v":""},{"$f":"IF(Deviation_Limits!C927=\"\",\"\",Deviation_Limits!C927)","v":""},{"$f":"IF(Deviation_Limits!D927=\"\",\"\",Deviation_Limits!D927)","v":""},"",{"$f":"IF(COUNTIF(AQ$2:AQ905,AQ905)=1,AQ905,\"\")","v":""},"","","",null,{"$f":"+IF(BD905=\"\",\"\",MAX(AY$1:AY904)+1)","v":""},{"$f":"IF(Deviation_CEM_CPMS!B927=\"\",\"\",Deviation_CEM_CPMS!B927)","v":""},{"$f":"IF(Deviation_CEM_CPMS!C927=\"\",\"\",Deviation_CEM_CPMS!C927)","v":""},{"$f":"IF(Deviation_CEM_CPMS!D927=\"\",\"\",Deviation_CEM_CPMS!D927)","v":""},"",{"$f":"IF(COUNTIF(BA$2:BA905,BA905)=1,BA905,\"\")","v":""},"","",""]
[null,null,null,null,null,null,null,null,null,null,null,null,null,null,null,null,null,null,null,null,null,null,null,null,null,null,{"$f":"+IF(AE906=\"\",\"\",MAX(AA$1:AA905)+1)","v":""},{"$f":"IF(#REF!=\"\",\"\",#REF!)","v":{"$error":"#REF!"}},{"$f":"IF(#REF!=\"\",\"\",#REF!)","v":{"$error":"#REF!"}},{"$error":"#REF!"},{"$f":"IF(COUNTIF(AC$2:AC906,AC906)=1,AC906,\"\")","v":""},"","",null,null,null,null,null,null,null,{"$f":"+IF(AT906=\"\",\"\",MAX(AO$1:AO905)+1)","v":""},{"$f":"IF(Deviation_Limits!B928=\"\",\"\",Deviation_Limits!B928)","v":""},{"$f":"IF(Deviation_Limits!C928=\"\",\"\",Deviation_Limits!C928)","v":""},{"$f":"IF(Deviation_Limits!D928=\"\",\"\",Deviation_Limits!D928)","v":""},"",{"$f":"IF(COUNTIF(AQ$2:AQ906,AQ906)=1,AQ906,\"\")","v":""},"","","",null,{"$f":"+IF(BD906=\"\",\"\",MAX(AY$1:AY905)+1)","v":""},{"$f":"IF(Deviation_CEM_CPMS!B928=\"\",\"\",Deviation_CEM_CPMS!B928)","v":""},{"$f":"IF(Deviation_CEM_CPMS!C928=\"\",\"\",Deviation_CEM_CPMS!C928)","v":""},{"$f":"IF(Deviation_CEM_CPMS!D928=\"\",\"\",Deviation_CEM_CPMS!D928)","v":""},"",{"$f":"IF(COUNTIF(BA$2:BA906,BA906)=1,BA906,\"\")","v":""},"","",""]
[null,null,null,null,null,null,null,null,null,null,null,null,null,null,null,null,null,null,null,null,null,null,null,null,null,null,{"$f":"+IF(AE907=\"\",\"\",MAX(AA$1:AA906)+1)","v":""},{"$f":"IF(#REF!=\"\",\"\",#REF!)","v":{"$error":"#REF!"}},{"$f":"IF(#REF!=\"\",\"\",#REF!)","v":{"$error":"#REF!"}},{"$error":"#REF!"},{"$f":"IF(COUNTIF(AC$2:AC907,AC907)=1,AC907,\"\")","v":""},"","",null,null,null,null,null,null,null,{"$f":"+IF(AT907=\"\",\"\",MAX(AO$1:AO906)+1)","v":""},{"$f":"IF(Deviation_Limits!B929=\"\",\"\",Deviation_Limits!B929)","v":""},{"$f":"IF(Deviation_Limits!C929=\"\",\"\",Deviation_Limits!C929)","v":""},{"$f":"IF(Deviation_Limits!D929=\"\",\"\",Deviation_Limits!D929)","v":""},"",{"$f":"IF(COUNTIF(AQ$2:AQ907,AQ907)=1,AQ907,\"\")","v":""},"","","",null,{"$f":"+IF(BD907=\"\",\"\",MAX(AY$1:AY906)+1)","v":""},{"$f":"IF(Deviation_CEM_CPMS!B929=\"\",\"\",Deviation_CEM_CPMS!B929)","v":""},{"$f":"IF(Deviation_CEM_CPMS!C929=\"\",\"\",Deviation_CEM_CPMS!C929)","v":""},{"$f":"IF(Deviation_CEM_CPMS!D929=\"\",\"\",Deviation_CEM_CPMS!D929)","v":""},"",{"$f":"IF(COUNTIF(BA$2:BA907,BA907)=1,BA907,\"\")","v":""},"","",""]
[null,null,null,null,null,null,null,null,null,null,null,null,null,null,null,null,null,null,null,null,null,null,null,null,null,null,{"$f":"+IF(AE908=\"\",\"\",MAX(AA$1:AA907)+1)","v":""},{"$f":"IF(#REF!=\"\",\"\",#REF!)","v":{"$error":"#REF!"}},{"$f":"IF(#REF!=\"\",\"\",#REF!)","v":{"$error":"#REF!"}},{"$error":"#REF!"},{"$f":"IF(COUNTIF(AC$2:AC908,AC908)=1,AC908,\"\")","v":""},"","",null,null,null,null,null,null,null,{"$f":"+IF(AT908=\"\",\"\",MAX(AO$1:AO907)+1)","v":""},{"$f":"IF(Deviation_Limits!B930=\"\",\"\",Deviation_Limits!B930)","v":""},{"$f":"IF(Deviation_Limits!C930=\"\",\"\",Deviation_Limits!C930)","v":""},{"$f":"IF(Deviation_Limits!D930=\"\",\"\",Deviation_Limits!D930)","v":""},"",{"$f":"IF(COUNTIF(AQ$2:AQ908,AQ908)=1,AQ908,\"\")","v":""},"","","",null,{"$f":"+IF(BD908=\"\",\"\",MAX(AY$1:AY907)+1)","v":""},{"$f":"IF(Deviation_CEM_CPMS!B930=\"\",\"\",Deviation_CEM_CPMS!B930)","v":""},{"$f":"IF(Deviation_CEM_CPMS!C930=\"\",\"\",Deviation_CEM_CPMS!C930)","v":""},{"$f":"IF(Deviation_CEM_CPMS!D930=\"\",\"\",Deviation_CEM_CPMS!D930)","v":""},"",{"$f":"IF(COUNTIF(BA$2:BA908,BA908)=1,BA908,\"\")","v":""},"","",""]
[null,null,null,null,null,null,null,null,null,null,null,null,null,null,null,null,null,null,null,null,null,null,null,null,null,null,{"$f":"+IF(AE909=\"\",\"\",MAX(AA$1:AA908)+1)","v":""},{"$f":"IF(#REF!=\"\",\"\",#REF!)","v":{"$error":"#REF!"}},{"$f":"IF(#REF!=\"\",\"\",#REF!)","v":{"$error":"#REF!"}},{"$error":"#REF!"},{"$f":"IF(COUNTIF(AC$2:AC909,AC909)=1,AC909,\"\")","v":""},"","",null,null,null,null,null,null,null,{"$f":"+IF(AT909=\"\",\"\",MAX(AO$1:AO908)+1)","v":""},{"$f":"IF(Deviation_Limits!B931=\"\",\"\",Deviation_Limits!B931)","v":""},{"$f":"IF(Deviation_Limits!C931=\"\",\"\",Deviation_Limits!C931)","v":""},{"$f":"IF(Deviation_Limits!D931=\"\",\"\",Deviation_Limits!D931)","v":""},"",{"$f":"IF(COUNTIF(AQ$2:AQ909,AQ909)=1,AQ909,\"\")","v":""},"","","",null,{"$f":"+IF(BD909=\"\",\"\",MAX(AY$1:AY908)+1)","v":""},{"$f":"IF(Deviation_CEM_CPMS!B931=\"\",\"\",Deviation_CEM_CPMS!B931)","v":""},{"$f":"IF(Deviation_CEM_CPMS!C931=\"\",\"\",Deviation_CEM_CPMS!C931)","v":""},{"$f":"IF(Deviation_CEM_CPMS!D931=\"\",\"\",Deviation_CEM_CPMS!D931)","v":""},"",{"$f":"IF(COUNTIF(BA$2:BA909,BA909)=1,BA909,\"\")","v":""},"","",""]
[null,null,null,null,null,null,null,null,null,null,null,null,null,null,null,null,null,null,null,null,null,null,null,null,null,null,{"$f":"+IF(AE910=\"\",\"\",MAX(AA$1:AA909)+1)","v":""},{"$f":"IF(#REF!=\"\",\"\",#REF!)","v":{"$error":"#REF!"}},{"$f":"IF(#REF!=\"\",\"\",#REF!)","v":{"$error":"#REF!"}},{"$error":"#REF!"},{"$f":"IF(COUNTIF(AC$2:AC910,AC910)=1,AC910,\"\")","v":""},"","",null,null,null,null,null,null,null,{"$f":"+IF(AT910=\"\",\"\",MAX(AO$1:AO909)+1)","v":""},{"$f":"IF(Deviation_Limits!B932=\"\",\"\",Deviation_Limits!B932)","v":""},{"$f":"IF(Deviation_Limits!C932=\"\",\"\",Deviation_Limits!C932)","v":""},{"$f":"IF(Deviation_Limits!D932=\"\",\"\",Deviation_Limits!D932)","v":""},"",{"$f":"IF(COUNTIF(AQ$2:AQ910,AQ910)=1,AQ910,\"\")","v":""},"","","",null,{"$f":"+IF(BD910=\"\",\"\",MAX(AY$1:AY909)+1)","v":""},{"$f":"IF(Deviation_CEM_CPMS!B932=\"\",\"\",Deviation_CEM_CPMS!B932)","v":""},{"$f":"IF(Deviation_CEM_CPMS!C932=\"\",\"\",Deviation_CEM_CPMS!C932)","v":""},{"$f":"IF(Deviation_CEM_CPMS!D932=\"\",\"\",Deviation_CEM_CPMS!D932)","v":""},"",{"$f":"IF(COUNTIF(BA$2:BA910,BA910)=1,BA910,\"\")","v":""},"","",""]
[null,null,null,null,null,null,null,null,null,null,null,null,null,null,null,null,null,null,null,null,null,null,null,null,null,null,{"$f":"+IF(AE911=\"\",\"\",MAX(AA$1:AA910)+1)","v":""},{"$f":"IF(#REF!=\"\",\"\",#REF!)","v":{"$error":"#REF!"}},{"$f":"IF(#REF!=\"\",\"\",#REF!)","v":{"$error":"#REF!"}},{"$error":"#REF!"},{"$f":"IF(COUNTIF(AC$2:AC911,AC911)=1,AC911,\"\")","v":""},"","",null,null,null,null,null,null,null,{"$f":"+IF(AT911=\"\",\"\",MAX(AO$1:AO910)+1)","v":""},{"$f":"IF(Deviation_Limits!B933=\"\",\"\",Deviation_Limits!B933)","v":""},{"$f":"IF(Deviation_Limits!C933=\"\",\"\",Deviation_Limits!C933)","v":""},{"$f":"IF(Deviation_Limits!D933=\"\",\"\",Deviation_Limits!D933)","v":""},"",{"$f":"IF(COUNTIF(AQ$2:AQ911,AQ911)=1,AQ911,\"\")","v":""},"","","",null,{"$f":"+IF(BD911=\"\",\"\",MAX(AY$1:AY910)+1)","v":""},{"$f":"IF(Deviation_CEM_CPMS!B933=\"\",\"\",Deviation_CEM_CPMS!B933)","v":""},{"$f":"IF(Deviation_CEM_CPMS!C933=\"\",\"\",Deviation_CEM_CPMS!C933)","v":""},{"$f":"IF(Deviation_CEM_CPMS!D933=\"\",\"\",Deviation_CEM_CPMS!D933)","v":""},"",{"$f":"IF(COUNTIF(BA$2:BA911,BA911)=1,BA911,\"\")","v":""},"","",""]
[null,null,null,null,null,null,null,null,null,null,null,null,null,null,null,null,null,null,null,null,null,null,null,null,null,null,{"$f":"+IF(AE912=\"\",\"\",MAX(AA$1:AA911)+1)","v":""},{"$f":"IF(#REF!=\"\",\"\",#REF!)","v":{"$error":"#REF!"}},{"$f":"IF(#REF!=\"\",\"\",#REF!)","v":{"$error":"#REF!"}},{"$error":"#REF!"},{"$f":"IF(COUNTIF(AC$2:AC912,AC912)=1,AC912,\"\")","v":""},"","",null,null,null,null,null,null,null,{"$f":"+IF(AT912=\"\",\"\",MAX(AO$1:AO911)+1)","v":""},{"$f":"IF(Deviation_Limits!B934=\"\",\"\",Deviation_Limits!B934)","v":""},{"$f":"IF(Deviation_Limits!C934=\"\",\"\",Deviation_Limits!C934)","v":""},{"$f":"IF(Deviation_Limits!D934=\"\",\"\",Deviation_Limits!D934)","v":""},"",{"$f":"IF(COUNTIF(AQ$2:AQ912,AQ912)=1,AQ912,\"\")","v":""},"","","",null,{"$f":"+IF(BD912=\"\",\"\",MAX(AY$1:AY911)+1)","v":""},{"$f":"IF(Deviation_CEM_CPMS!B934=\"\",\"\",Deviation_CEM_CPMS!B934)","v":""},{"$f":"IF(Deviation_CEM_CPMS!C934=\"\",\"\",Deviation_CEM_CPMS!C934)","v":""},{"$f":"IF(Deviation_CEM_CPMS!D934=\"\",\"\",Deviation_CEM_CPMS!D934)","v":""},"",{"$f":"IF(COUNTIF(BA$2:BA912,BA912)=1,BA912,\"\")","v":""},"","",""]
[null,null,null,null,null,null,null,null,null,null,null,null,null,null,null,null,null,null,null,null,null,null,null,null,null,null,{"$f":"+IF(AE913=\"\",\"\",MAX(AA$1:AA912)+1)","v":""},{"$f":"IF(#REF!=\"\",\"\",#REF!)","v":{"$error":"#REF!"}},{"$f":"IF(#REF!=\"\",\"\",#REF!)","v":{"$error":"#REF!"}},{"$error":"#REF!"},{"$f":"IF(COUNTIF(AC$2:AC913,AC913)=1,AC913,\"\")","v":""},"","",null,null,null,null,null,null,null,{"$f":"+IF(AT913=\"\",\"\",MAX(AO$1:AO912)+1)","v":""},{"$f":"IF(Deviation_Limits!B935=\"\",\"\",Deviation_Limits!B935)","v":""},{"$f":"IF(Deviation_Limits!C935=\"\",\"\",Deviation_Limits!C935)","v":""},{"$f":"IF(Deviation_Limits!D935=\"\",\"\",Deviation_Limits!D935)","v":""},"",{"$f":"IF(COUNTIF(AQ$2:AQ913,AQ913)=1,AQ913,\"\")","v":""},"","","",null,{"$f":"+IF(BD913=\"\",\"\",MAX(AY$1:AY912)+1)","v":""},{"$f":"IF(Deviation_CEM_CPMS!B935=\"\",\"\",Deviation_CEM_CPMS!B935)","v":""},{"$f":"IF(Deviation_CEM_CPMS!C935=\"\",\"\",Deviation_CEM_CPMS!C935)","v":""},{"$f":"IF(Deviation_CEM_CPMS!D935=\"\",\"\",Deviation_CEM_CPMS!D935)","v":""},"",{"$f":"IF(COUNTIF(BA$2:BA913,BA913)=1,BA913,\"\")","v":""},"","",""]
[null,null,null,null,null,null,null,null,null,null,null,null,null,null,null,null,null,null,null,null,null,null,null,null,null,null,{"$f":"+IF(AE914=\"\",\"\",MAX(AA$1:AA913)+1)","v":""},{"$f":"IF(#REF!=\"\",\"\",#REF!)","v":{"$error":"#REF!"}},{"$f":"IF(#REF!=\"\",\"\",#REF!)","v":{"$error":"#REF!"}},{"$error":"#REF!"},{"$f":"IF(COUNTIF(AC$2:AC914,AC914)=1,AC914,\"\")","v":""},"","",null,null,null,null,null,null,null,{"$f":"+IF(AT914=\"\",\"\",MAX(AO$1:AO913)+1)","v":""},{"$f":"IF(Deviation_Limits!B936=\"\",\"\",Deviation_Limits!B936)","v":""},{"$f":"IF(Deviation_Limits!C936=\"\",\"\",Deviation_Limits!C936)","v":""},{"$f":"IF(Deviation_Limits!D936=\"\",\"\",Deviation_Limits!D936)","v":""},"",{"$f":"IF(COUNTIF(AQ$2:AQ914,AQ914)=1,AQ914,\"\")","v":""},"","","",null,{"$f":"+IF(BD914=\"\",\"\",MAX(AY$1:AY913)+1)","v":""},{"$f":"IF(Deviation_CEM_CPMS!B936=\"\",\"\",Deviation_CEM_CPMS!B936)","v":""},{"$f":"IF(Deviation_CEM_CPMS!C936=\"\",\"\",Deviation_CEM_CPMS!C936)","v":""},{"$f":"IF(Deviation_CEM_CPMS!D936=\"\",\"\",Deviation_CEM_CPMS!D936)","v":""},"",{"$f":"IF(COUNTIF(BA$2:BA914,BA914)=1,BA914,\"\")","v":""},"","",""]
[null,null,null,null,null,null,null,null,null,null,null,null,null,null,null,null,null,null,null,null,null,null,null,null,null,null,{"$f":"+IF(AE915=\"\",\"\",MAX(AA$1:AA914)+1)","v":""},{"$f":"IF(#REF!=\"\",\"\",#REF!)","v":{"$error":"#REF!"}},{"$f":"IF(#REF!=\"\",\"\",#REF!)","v":{"$error":"#REF!"}},{"$error":"#REF!"},{"$f":"IF(COUNTIF(AC$2:AC915,AC915)=1,AC915,\"\")","v":""},"","",null,null,null,null,null,null,null,{"$f":"+IF(AT915=\"\",\"\",MAX(AO$1:AO914)+1)","v":""},{"$f":"IF(Deviation_Limits!B937=\"\",\"\",Deviation_Limits!B937)","v":""},{"$f":"IF(Deviation_Limits!C937=\"\",\"\",Deviation_Limits!C937)","v":""},{"$f":"IF(Deviation_Limits!D937=\"\",\"\",Deviation_Limits!D937)","v":""},"",{"$f":"IF(COUNTIF(AQ$2:AQ915,AQ915)=1,AQ915,\"\")","v":""},"","","",null,{"$f":"+IF(BD915=\"\",\"\",MAX(AY$1:AY914)+1)","v":""},{"$f":"IF(Deviation_CEM_CPMS!B937=\"\",\"\",Deviation_CEM_CPMS!B937)","v":""},{"$f":"IF(Deviation_CEM_CPMS!C937=\"\",\"\",Deviation_CEM_CPMS!C937)","v":""},{"$f":"IF(Deviation_CEM_CPMS!D937=\"\",\"\",Deviation_CEM_CPMS!D937)","v":""},"",{"$f":"IF(COUNTIF(BA$2:BA915,BA915)=1,BA915,\"\")","v":""},"","",""]
[null,null,null,null,null,null,null,null,null,null,null,null,null,null,null,null,null,null,null,null,null,null,null,null,null,null,{"$f":"+IF(AE916=\"\",\"\",MAX(AA$1:AA915)+1)","v":""},{"$f":"IF(#REF!=\"\",\"\",#REF!)","v":{"$error":"#REF!"}},{"$f":"IF(#REF!=\"\",\"\",#REF!)","v":{"$error":"#REF!"}},{"$error":"#REF!"},{"$f":"IF(COUNTIF(AC$2:AC916,AC916)=1,AC916,\"\")","v":""},"","",null,null,null,null,null,null,null,{"$f":"+IF(AT916=\"\",\"\",MAX(AO$1:AO915)+1)","v":""},{"$f":"IF(Deviation_Limits!B938=\"\",\"\",Deviation_Limits!B938)","v":""},{"$f":"IF(Deviation_Limits!C938=\"\",\"\",Deviation_Limits!C938)","v":""},{"$f":"IF(Deviation_Limits!D938=\"\",\"\",Deviation_Limits!D938)","v":""},"",{"$f":"IF(COUNTIF(AQ$2:AQ916,AQ916)=1,AQ916,\"\")","v":""},"","","",null,{"$f":"+IF(BD916=\"\",\"\",MAX(AY$1:AY915)+1)","v":""},{"$f":"IF(Deviation_CEM_CPMS!B938=\"\",\"\",Deviation_CEM_CPMS!B938)","v":""},{"$f":"IF(Deviation_CEM_CPMS!C938=\"\",\"\",Deviation_CEM_CPMS!C938)","v":""},{"$f":"IF(Deviation_CEM_CPMS!D938=\"\",\"\",Deviation_CEM_CPMS!D938)","v":""},"",{"$f":"IF(COUNTIF(BA$2:BA916,BA916)=1,BA916,\"\")","v":""},"","",""]
[null,null,null,null,null,null,null,null,null,null,null,null,null,null,null,null,null,null,null,null,null,null,null,null,null,null,{"$f":"+IF(AE917=\"\",\"\",MAX(AA$1:AA916)+1)","v":""},{"$f":"IF(#REF!=\"\",\"\",#REF!)","v":{"$error":"#REF!"}},{"$f":"IF(#REF!=\"\",\"\",#REF!)","v":{"$error":"#REF!"}},{"$error":"#REF!"},{"$f":"IF(COUNTIF(AC$2:AC917,AC917)=1,AC917,\"\")","v":""},"","",null,null,null,null,null,null,null,{"$f":"+IF(AT917=\"\",\"\",MAX(AO$1:AO916)+1)","v":""},{"$f":"IF(Deviation_Limits!B939=\"\",\"\",Deviation_Limits!B939)","v":""},{"$f":"IF(Deviation_Limits!C939=\"\",\"\",Deviation_Limits!C939)","v":""},{"$f":"IF(Deviation_Limits!D939=\"\",\"\",Deviation_Limits!D939)","v":""},"",{"$f":"IF(COUNTIF(AQ$2:AQ917,AQ917)=1,AQ917,\"\")","v":""},"","","",null,{"$f":"+IF(BD917=\"\",\"\",MAX(AY$1:AY916)+1)","v":""},{"$f":"IF(Deviation_CEM_CPMS!B939=\"\",\"\",Deviation_CEM_CPMS!B939)","v":""},{"$f":"IF(Deviation_CEM_CPMS!C939=\"\",\"\",Deviation_CEM_CPMS!C939)","v":""},{"$f":"IF(Deviation_CEM_CPMS!D939=\"\",\"\",Deviation_CEM_CPMS!D939)","v":""},"",{"$f":"IF(COUNTIF(BA$2:BA917,BA917)=1,BA917,\"\")","v":""},"","",""]
[null,null,null,null,null,null,null,null,null,null,null,null,null,null,null,null,null,null,null,null,null,null,null,null,null,null,{"$f":"+IF(AE918=\"\",\"\",MAX(AA$1:AA917)+1)","v":""},{"$f":"IF(#REF!=\"\",\"\",#REF!)","v":{"$error":"#REF!"}},{"$f":"IF(#REF!=\"\",\"\",#REF!)","v":{"$error":"#REF!"}},{"$error":"#REF!"},{"$f":"IF(COUNTIF(AC$2:AC918,AC918)=1,AC918,\"\")","v":""},"","",null,null,null,null,null,null,null,{"$f":"+IF(AT918=\"\",\"\",MAX(AO$1:AO917)+1)","v":""},{"$f":"IF(Deviation_Limits!B940=\"\",\"\",Deviation_Limits!B940)","v":""},{"$f":"IF(Deviation_Limits!C940=\"\",\"\",Deviation_Limits!C940)","v":""},{"$f":"IF(Deviation_Limits!D940=\"\",\"\",Deviation_Limits!D940)","v":""},"",{"$f":"IF(COUNTIF(AQ$2:AQ918,AQ918)=1,AQ918,\"\")","v":""},"","","",null,{"$f":"+IF(BD918=\"\",\"\",MAX(AY$1:AY917)+1)","v":""},{"$f":"IF(Deviation_CEM_CPMS!B940=\"\",\"\",Deviation_CEM_CPMS!B940)","v":""},{"$f":"IF(Deviation_CEM_CPMS!C940=\"\",\"\",Deviation_CEM_CPMS!C940)","v":""},{"$f":"IF(Deviation_CEM_CPMS!D940=\"\",\"\",Deviation_CEM_CPMS!D940)","v":""},"",{"$f":"IF(COUNTIF(BA$2:BA918,BA918)=1,BA918,\"\")","v":""},"","",""]
[null,null,null,null,null,null,null,null,null,null,null,null,null,null,null,null,null,null,null,null,null,null,null,null,null,null,{"$f":"+IF(AE919=\"\",\"\",MAX(AA$1:AA918)+1)","v":""},{"$f":"IF(#REF!=\"\",\"\",#REF!)","v":{"$error":"#REF!"}},{"$f":"IF(#REF!=\"\",\"\",#REF!)","v":{"$error":"#REF!"}},{"$error":"#REF!"},{"$f":"IF(COUNTIF(AC$2:AC919,AC919)=1,AC919,\"\")","v":""},"","",null,null,null,null,null,null,null,{"$f":"+IF(AT919=\"\",\"\",MAX(AO$1:AO918)+1)","v":""},{"$f":"IF(Deviation_Limits!B941=\"\",\"\",Deviation_Limits!B941)","v":""},{"$f":"IF(Deviation_Limits!C941=\"\",\"\",Deviation_Limits!C941)","v":""},{"$f":"IF(Deviation_Limits!D941=\"\",\"\",Deviation_Limits!D941)","v":""},"",{"$f":"IF(COUNTIF(AQ$2:AQ919,AQ919)=1,AQ919,\"\")","v":""},"","","",null,{"$f":"+IF(BD919=\"\",\"\",MAX(AY$1:AY918)+1)","v":""},{"$f":"IF(Deviation_CEM_CPMS!B941=\"\",\"\",Deviation_CEM_CPMS!B941)","v":""},{"$f":"IF(Deviation_CEM_CPMS!C941=\"\",\"\",Deviation_CEM_CPMS!C941)","v":""},{"$f":"IF(Deviation_CEM_CPMS!D941=\"\",\"\",Deviation_CEM_CPMS!D941)","v":""},"",{"$f":"IF(COUNTIF(BA$2:BA919,BA919)=1,BA919,\"\")","v":""},"","",""]
[null,null,null,null,null,null,null,null,null,null,null,null,null,null,null,null,null,null,null,null,null,null,null,null,null,null,{"$f":"+IF(AE920=\"\",\"\",MAX(AA$1:AA919)+1)","v":""},{"$f":"IF(#REF!=\"\",\"\",#REF!)","v":{"$error":"#REF!"}},{"$f":"IF(#REF!=\"\",\"\",#REF!)","v":{"$error":"#REF!"}},{"$error":"#REF!"},{"$f":"IF(COUNTIF(AC$2:AC920,AC920)=1,AC920,\"\")","v":""},"","",null,null,null,null,null,null,null,{"$f":"+IF(AT920=\"\",\"\",MAX(AO$1:AO919)+1)","v":""},{"$f":"IF(Deviation_Limits!B942=\"\",\"\",Deviation_Limits!B942)","v":""},{"$f":"IF(Deviation_Limits!C942=\"\",\"\",Deviation_Limits!C942)","v":""},{"$f":"IF(Deviation_Limits!D942=\"\",\"\",Deviation_Limits!D942)","v":""},"",{"$f":"IF(COUNTIF(AQ$2:AQ920,AQ920)=1,AQ920,\"\")","v":""},"","","",null,{"$f":"+IF(BD920=\"\",\"\",MAX(AY$1:AY919)+1)","v":""},{"$f":"IF(Deviation_CEM_CPMS!B942=\"\",\"\",Deviation_CEM_CPMS!B942)","v":""},{"$f":"IF(Deviation_CEM_CPMS!C942=\"\",\"\",Deviation_CEM_CPMS!C942)","v":""},{"$f":"IF(Deviation_CEM_CPMS!D942=\"\",\"\",Deviation_CEM_CPMS!D942)","v":""},"",{"$f":"IF(COUNTIF(BA$2:BA920,BA920)=1,BA920,\"\")","v":""},"","",""]
[null,null,null,null,null,null,null,null,null,null,null,null,null,null,null,null,null,null,null,null,null,null,null,null,null,null,{"$f":"+IF(AE921=\"\",\"\",MAX(AA$1:AA920)+1)","v":""},{"$f":"IF(#REF!=\"\",\"\",#REF!)","v":{"$error":"#REF!"}},{"$f":"IF(#REF!=\"\",\"\",#REF!)","v":{"$error":"#REF!"}},{"$error":"#REF!"},{"$f":"IF(COUNTIF(AC$2:AC921,AC921)=1,AC921,\"\")","v":""},"","",null,null,null,null,null,null,null,{"$f":"+IF(AT921=\"\",\"\",MAX(AO$1:AO920)+1)","v":""},{"$f":"IF(Deviation_Limits!B943=\"\",\"\",Deviation_Limits!B943)","v":""},{"$f":"IF(Deviation_Limits!C943=\"\",\"\",Deviation_Limits!C943)","v":""},{"$f":"IF(Deviation_Limits!D943=\"\",\"\",Deviation_Limits!D943)","v":""},"",{"$f":"IF(COUNTIF(AQ$2:AQ921,AQ921)=1,AQ921,\"\")","v":""},"","","",null,{"$f":"+IF(BD921=\"\",\"\",MAX(AY$1:AY920)+1)","v":""},{"$f":"IF(Deviation_CEM_CPMS!B943=\"\",\"\",Deviation_CEM_CPMS!B943)","v":""},{"$f":"IF(Deviation_CEM_CPMS!C943=\"\",\"\",Deviation_CEM_CPMS!C943)","v":""},{"$f":"IF(Deviation_CEM_CPMS!D943=\"\",\"\",Deviation_CEM_CPMS!D943)","v":""},"",{"$f":"IF(COUNTIF(BA$2:BA921,BA921)=1,BA921,\"\")","v":""},"","",""]
[null,null,null,null,null,null,null,null,null,null,null,null,null,null,null,null,null,null,null,null,null,null,null,null,null,null,{"$f":"+IF(AE922=\"\",\"\",MAX(AA$1:AA921)+1)","v":""},{"$f":"IF(#REF!=\"\",\"\",#REF!)","v":{"$error":"#REF!"}},{"$f":"IF(#REF!=\"\",\"\",#REF!)","v":{"$error":"#REF!"}},{"$error":"#REF!"},{"$f":"IF(COUNTIF(AC$2:AC922,AC922)=1,AC922,\"\")","v":""},"","",null,null,null,null,null,null,null,{"$f":"+IF(AT922=\"\",\"\",MAX(AO$1:AO921)+1)","v":""},{"$f":"IF(Deviation_Limits!B944=\"\",\"\",Deviation_Limits!B944)","v":""},{"$f":"IF(Deviation_Limits!C944=\"\",\"\",Deviation_Limits!C944)","v":""},{"$f":"IF(Deviation_Limits!D944=\"\",\"\",Deviation_Limits!D944)","v":""},"",{"$f":"IF(COUNTIF(AQ$2:AQ922,AQ922)=1,AQ922,\"\")","v":""},"","","",null,{"$f":"+IF(BD922=\"\",\"\",MAX(AY$1:AY921)+1)","v":""},{"$f":"IF(Deviation_CEM_CPMS!B944=\"\",\"\",Deviation_CEM_CPMS!B944)","v":""},{"$f":"IF(Deviation_CEM_CPMS!C944=\"\",\"\",Deviation_CEM_CPMS!C944)","v":""},{"$f":"IF(Deviation_CEM_CPMS!D944=\"\",\"\",Deviation_CEM_CPMS!D944)","v":""},"",{"$f":"IF(COUNTIF(BA$2:BA922,BA922)=1,BA922,\"\")","v":""},"","",""]
[null,null,null,null,null,null,null,null,null,null,null,null,null,null,null,null,null,null,null,null,null,null,null,null,null,null,{"$f":"+IF(AE923=\"\",\"\",MAX(AA$1:AA922)+1)","v":""},{"$f":"IF(#REF!=\"\",\"\",#REF!)","v":{"$error":"#REF!"}},{"$f":"IF(#REF!=\"\",\"\",#REF!)","v":{"$error":"#REF!"}},{"$error":"#REF!"},{"$f":"IF(COUNTIF(AC$2:AC923,AC923)=1,AC923,\"\")","v":""},"","",null,null,null,null,null,null,null,{"$f":"+IF(AT923=\"\",\"\",MAX(AO$1:AO922)+1)","v":""},{"$f":"IF(Deviation_Limits!B945=\"\",\"\",Deviation_Limits!B945)","v":""},{"$f":"IF(Deviation_Limits!C945=\"\",\"\",Deviation_Limits!C945)","v":""},{"$f":"IF(Deviation_Limits!D945=\"\",\"\",Deviation_Limits!D945)","v":""},"",{"$f":"IF(COUNTIF(AQ$2:AQ923,AQ923)=1,AQ923,\"\")","v":""},"","","",null,{"$f":"+IF(BD923=\"\",\"\",MAX(AY$1:AY922)+1)","v":""},{"$f":"IF(Deviation_CEM_CPMS!B945=\"\",\"\",Deviation_CEM_CPMS!B945)","v":""},{"$f":"IF(Deviation_CEM_CPMS!C945=\"\",\"\",Deviation_CEM_CPMS!C945)","v":""},{"$f":"IF(Deviation_CEM_CPMS!D945=\"\",\"\",Deviation_CEM_CPMS!D945)","v":""},"",{"$f":"IF(COUNTIF(BA$2:BA923,BA923)=1,BA923,\"\")","v":""},"","",""]
[null,null,null,null,null,null,null,null,null,null,null,null,null,null,null,null,null,null,null,null,null,null,null,null,null,null,{"$f":"+IF(AE924=\"\",\"\",MAX(AA$1:AA923)+1)","v":""},{"$f":"IF(#REF!=\"\",\"\",#REF!)","v":{"$error":"#REF!"}},{"$f":"IF(#REF!=\"\",\"\",#REF!)","v":{"$error":"#REF!"}},{"$error":"#REF!"},{"$f":"IF(COUNTIF(AC$2:AC924,AC924)=1,AC924,\"\")","v":""},"","",null,null,null,null,null,null,null,{"$f":"+IF(AT924=\"\",\"\",MAX(AO$1:AO923)+1)","v":""},{"$f":"IF(Deviation_Limits!B946=\"\",\"\",Deviation_Limits!B946)","v":""},{"$f":"IF(Deviation_Limits!C946=\"\",\"\",Deviation_Limits!C946)","v":""},{"$f":"IF(Deviation_Limits!D946=\"\",\"\",Deviation_Limits!D946)","v":""},"",{"$f":"IF(COUNTIF(AQ$2:AQ924,AQ924)=1,AQ924,\"\")","v":""},"","","",null,{"$f":"+IF(BD924=\"\",\"\",MAX(AY$1:AY923)+1)","v":""},{"$f":"IF(Deviation_CEM_CPMS!B946=\"\",\"\",Deviation_CEM_CPMS!B946)","v":""},{"$f":"IF(Deviation_CEM_CPMS!C946=\"\",\"\",Deviation_CEM_CPMS!C946)","v":""},{"$f":"IF(Deviation_CEM_CPMS!D946=\"\",\"\",Deviation_CEM_CPMS!D946)","v":""},"",{"$f":"IF(COUNTIF(BA$2:BA924,BA924)=1,BA924,\"\")","v":""},"","",""]
[null,null,null,null,null,null,null,null,null,null,null,null,null,null,null,null,null,null,null,null,null,null,null,null,null,null,{"$f":"+IF(AE925=\"\",\"\",MAX(AA$1:AA924)+1)","v":""},{"$f":"IF(#REF!=\"\",\"\",#REF!)","v":{"$error":"#REF!"}},{"$f":"IF(#REF!=\"\",\"\",#REF!)","v":{"$error":"#REF!"}},{"$error":"#REF!"},{"$f":"IF(COUNTIF(AC$2:AC925,AC925)=1,AC925,\"\")","v":""},"","",null,null,null,null,null,null,null,{"$f":"+IF(AT925=\"\",\"\",MAX(AO$1:AO924)+1)","v":""},{"$f":"IF(Deviation_Limits!B947=\"\",\"\",Deviation_Limits!B947)","v":""},{"$f":"IF(Deviation_Limits!C947=\"\",\"\",Deviation_Limits!C947)","v":""},{"$f":"IF(Deviation_Limits!D947=\"\",\"\",Deviation_Limits!D947)","v":""},"",{"$f":"IF(COUNTIF(AQ$2:AQ925,AQ925)=1,AQ925,\"\")","v":""},"","","",null,{"$f":"+IF(BD925=\"\",\"\",MAX(AY$1:AY924)+1)","v":""},{"$f":"IF(Deviation_CEM_CPMS!B947=\"\",\"\",Deviation_CEM_CPMS!B947)","v":""},{"$f":"IF(Deviation_CEM_CPMS!C947=\"\",\"\",Deviation_CEM_CPMS!C947)","v":""},{"$f":"IF(Deviation_CEM_CPMS!D947=\"\",\"\",Deviation_CEM_CPMS!D947)","v":""},"",{"$f":"IF(COUNTIF(BA$2:BA925,BA925)=1,BA925,\"\")","v":""},"","",""]
[null,null,null,null,null,null,null,null,null,null,null,null,null,null,null,null,null,null,null,null,null,null,null,null,null,null,{"$f":"+IF(AE926=\"\",\"\",MAX(AA$1:AA925)+1)","v":""},{"$f":"IF(#REF!=\"\",\"\",#REF!)","v":{"$error":"#REF!"}},{"$f":"IF(#REF!=\"\",\"\",#REF!)","v":{"$error":"#REF!"}},{"$error":"#REF!"},{"$f":"IF(COUNTIF(AC$2:AC926,AC926)=1,AC926,\"\")","v":""},"","",null,null,null,null,null,null,null,{"$f":"+IF(AT926=\"\",\"\",MAX(AO$1:AO925)+1)","v":""},{"$f":"IF(Deviation_Limits!B948=\"\",\"\",Deviation_Limits!B948)","v":""},{"$f":"IF(Deviation_Limits!C948=\"\",\"\",Deviation_Limits!C948)","v":""},{"$f":"IF(Deviation_Limits!D948=\"\",\"\",Deviation_Limits!D948)","v":""},"",{"$f":"IF(COUNTIF(AQ$2:AQ926,AQ926)=1,AQ926,\"\")","v":""},"","","",null,{"$f":"+IF(BD926=\"\",\"\",MAX(AY$1:AY925)+1)","v":""},{"$f":"IF(Deviation_CEM_CPMS!B948=\"\",\"\",Deviation_CEM_CPMS!B948)","v":""},{"$f":"IF(Deviation_CEM_CPMS!C948=\"\",\"\",Deviation_CEM_CPMS!C948)","v":""},{"$f":"IF(Deviation_CEM_CPMS!D948=\"\",\"\",Deviation_CEM_CPMS!D948)","v":""},"",{"$f":"IF(COUNTIF(BA$2:BA926,BA926)=1,BA926,\"\")","v":""},"","",""]
[null,null,null,null,null,null,null,null,null,null,null,null,null,null,null,null,null,null,null,null,null,null,null,null,null,null,{"$f":"+IF(AE927=\"\",\"\",MAX(AA$1:AA926)+1)","v":""},{"$f":"IF(#REF!=\"\",\"\",#REF!)","v":{"$error":"#REF!"}},{"$f":"IF(#REF!=\"\",\"\",#REF!)","v":{"$error":"#REF!"}},{"$error":"#REF!"},{"$f":"IF(COUNTIF(AC$2:AC927,AC927)=1,AC927,\"\")","v":""},"","",null,null,null,null,null,null,null,{"$f":"+IF(AT927=\"\",\"\",MAX(AO$1:AO926)+1)","v":""},{"$f":"IF(Deviation_Limits!B949=\"\",\"\",Deviation_Limits!B949)","v":""},{"$f":"IF(Deviation_Limits!C949=\"\",\"\",Deviation_Limits!C949)","v":""},{"$f":"IF(Deviation_Limits!D949=\"\",\"\",Deviation_Limits!D949)","v":""},"",{"$f":"IF(COUNTIF(AQ$2:AQ927,AQ927)=1,AQ927,\"\")","v":""},"","","",null,{"$f":"+IF(BD927=\"\",\"\",MAX(AY$1:AY926)+1)","v":""},{"$f":"IF(Deviation_CEM_CPMS!B949=\"\",\"\",Deviation_CEM_CPMS!B949)","v":""},{"$f":"IF(Deviation_CEM_CPMS!C949=\"\",\"\",Deviation_CEM_CPMS!C949)","v":""},{"$f":"IF(Deviation_CEM_CPMS!D949=\"\",\"\",Deviation_CEM_CPMS!D949)","v":""},"",{"$f":"IF(COUNTIF(BA$2:BA927,BA927)=1,BA927,\"\")","v":""},"","",""]
[null,null,null,null,null,null,null,null,null,null,null,null,null,null,null,null,null,null,null,null,null,null,null,null,null,null,{"$f":"+IF(AE928=\"\",\"\",MAX(AA$1:AA927)+1)","v":""},{"$f":"IF(#REF!=\"\",\"\",#REF!)","v":{"$error":"#REF!"}},{"$f":"IF(#REF!=\"\",\"\",#REF!)","v":{"$error":"#REF!"}},{"$f":"+AB928&AC928","v":{"$error":"#REF!"}},{"$f":"IF(COUNTIF(AC$2:AC928,AC928)=1,AC928,\"\")","v":""},"","",null,null,null,null,null,null,null,{"$f":"+IF(AT928=\"\",\"\",MAX(AO$1:AO927)+1)","v":""},{"$f":"IF(Deviation_Limits!B950=\"\",\"\",Deviation_Limits!B950)","v":""},{"$f":"IF(Deviation_Limits!C950=\"\",\"\",Deviation_Limits!C950)","v":""},{"$f":"IF(Deviation_Limits!D950=\"\",\"\",Deviation_Limits!D950)","v":""},"",{"$f":"IF(COUNTIF(AQ$2:AQ928,AQ928)=1,AQ928,\"\")","v":""},"","","",null,{"$f":"+IF(BD928=\"\",\"\",MAX(AY$1:AY927)+1)","v":""},{"$f":"IF(Deviation_CEM_CPMS!B950=\"\",\"\",Deviation_CEM_CPMS!B950)","v":""},{"$f":"IF(Deviation_CEM_CPMS!C950=\"\",\"\",Deviation_CEM_CPMS!C950)","v":""},{"$f":"IF(Deviation_CEM_CPMS!D950=\"\",\"\",Deviation_CEM_CPMS!D950)","v":""},"",{"$f":"IF(COUNTIF(BA$2:BA928,BA928)=1,BA928,\"\")","v":""},"","",""]
[null,null,null,null,null,null,null,null,null,null,null,null,null,null,null,null,null,null,null,null,null,null,null,null,null,null,{"$f":"+IF(AE929=\"\",\"\",MAX(AA$1:AA928)+1)","v":""},{"$f":"IF(#REF!=\"\",\"\",#REF!)","v":{"$error":"#REF!"}},{"$f":"IF(#REF!=\"\",\"\",#REF!)","v":{"$error":"#REF!"}},{"$error":"#REF!"},{"$f":"IF(COUNTIF(AC$2:AC929,AC929)=1,AC929,\"\")","v":""},"","",null,null,null,null,null,null,null,{"$f":"+IF(AT929=\"\",\"\",MAX(AO$1:AO928)+1)","v":""},{"$f":"IF(Deviation_Limits!B951=\"\",\"\",Deviation_Limits!B951)","v":""},{"$f":"IF(Deviation_Limits!C951=\"\",\"\",Deviation_Limits!C951)","v":""},{"$f":"IF(Deviation_Limits!D951=\"\",\"\",Deviation_Limits!D951)","v":""},"",{"$f":"IF(COUNTIF(AQ$2:AQ929,AQ929)=1,AQ929,\"\")","v":""},"","","",null,{"$f":"+IF(BD929=\"\",\"\",MAX(AY$1:AY928)+1)","v":""},{"$f":"IF(Deviation_CEM_CPMS!B951=\"\",\"\",Deviation_CEM_CPMS!B951)","v":""},{"$f":"IF(Deviation_CEM_CPMS!C951=\"\",\"\",Deviation_CEM_CPMS!C951)","v":""},{"$f":"IF(Deviation_CEM_CPMS!D951=\"\",\"\",Deviation_CEM_CPMS!D951)","v":""},"",{"$f":"IF(COUNTIF(BA$2:BA929,BA929)=1,BA929,\"\")","v":""},"","",""]
[null,null,null,null,null,null,null,null,null,null,null,null,null,null,null,null,null,null,null,null,null,null,null,null,null,null,{"$f":"+IF(AE930=\"\",\"\",MAX(AA$1:AA929)+1)","v":""},{"$f":"IF(#REF!=\"\",\"\",#REF!)","v":{"$error":"#REF!"}},{"$f":"IF(#REF!=\"\",\"\",#REF!)","v":{"$error":"#REF!"}},{"$error":"#REF!"},{"$f":"IF(COUNTIF(AC$2:AC930,AC930)=1,AC930,\"\")","v":""},"","",null,null,null,null,null,null,null,{"$f":"+IF(AT930=\"\",\"\",MAX(AO$1:AO929)+1)","v":""},{"$f":"IF(Deviation_Limits!B952=\"\",\"\",Deviation_Limits!B952)","v":""},{"$f":"IF(Deviation_Limits!C952=\"\",\"\",Deviation_Limits!C952)","v":""},{"$f":"IF(Deviation_Limits!D952=\"\",\"\",Deviation_Limits!D952)","v":""},"",{"$f":"IF(COUNTIF(AQ$2:AQ930,AQ930)=1,AQ930,\"\")","v":""},"","","",null,{"$f":"+IF(BD930=\"\",\"\",MAX(AY$1:AY929)+1)","v":""},{"$f":"IF(Deviation_CEM_CPMS!B952=\"\",\"\",Deviation_CEM_CPMS!B952)","v":""},{"$f":"IF(Deviation_CEM_CPMS!C952=\"\",\"\",Deviation_CEM_CPMS!C952)","v":""},{"$f":"IF(Deviation_CEM_CPMS!D952=\"\",\"\",Deviation_CEM_CPMS!D952)","v":""},"",{"$f":"IF(COUNTIF(BA$2:BA930,BA930)=1,BA930,\"\")","v":""},"","",""]
[null,null,null,null,null,null,null,null,null,null,null,null,null,null,null,null,null,null,null,null,null,null,null,null,null,null,{"$f":"+IF(AE931=\"\",\"\",MAX(AA$1:AA930)+1)","v":""},{"$f":"IF(#REF!=\"\",\"\",#REF!)","v":{"$error":"#REF!"}},{"$f":"IF(#REF!=\"\",\"\",#REF!)","v":{"$error":"#REF!"}},{"$error":"#REF!"},{"$f":"IF(COUNTIF(AC$2:AC931,AC931)=1,AC931,\"\")","v":""},"","",null,null,null,null,null,null,null,{"$f":"+IF(AT931=\"\",\"\",MAX(AO$1:AO930)+1)","v":""},{"$f":"IF(Deviation_Limits!B953=\"\",\"\",Deviation_Limits!B953)","v":""},{"$f":"IF(Deviation_Limits!C953=\"\",\"\",Deviation_Limits!C953)","v":""},{"$f":"IF(Deviation_Limits!D953=\"\",\"\",Deviation_Limits!D953)","v":""},"",{"$f":"IF(COUNTIF(AQ$2:AQ931,AQ931)=1,AQ931,\"\")","v":""},"","","",null,{"$f":"+IF(BD931=\"\",\"\",MAX(AY$1:AY930)+1)","v":""},{"$f":"IF(Deviation_CEM_CPMS!B953=\"\",\"\",Deviation_CEM_CPMS!B953)","v":""},{"$f":"IF(Deviation_CEM_CPMS!C953=\"\",\"\",Deviation_CEM_CPMS!C953)","v":""},{"$f":"IF(Deviation_CEM_CPMS!D953=\"\",\"\",Deviation_CEM_CPMS!D953)","v":""},"",{"$f":"IF(COUNTIF(BA$2:BA931,BA931)=1,BA931,\"\")","v":""},"","",""]
[null,null,null,null,null,null,null,null,null,null,null,null,null,null,null,null,null,null,null,null,null,null,null,null,null,null,{"$f":"+IF(AE932=\"\",\"\",MAX(AA$1:AA931)+1)","v":""},{"$f":"IF(#REF!=\"\",\"\",#REF!)","v":{"$error":"#REF!"}},{"$f":"IF(#REF!=\"\",\"\",#REF!)","v":{"$error":"#REF!"}},{"$error":"#REF!"},{"$f":"IF(COUNTIF(AC$2:AC932,AC932)=1,AC932,\"\")","v":""},"","",null,null,null,null,null,null,null,{"$f":"+IF(AT932=\"\",\"\",MAX(AO$1:AO931)+1)","v":""},{"$f":"IF(Deviation_Limits!B954=\"\",\"\",Deviation_Limits!B954)","v":""},{"$f":"IF(Deviation_Limits!C954=\"\",\"\",Deviation_Limits!C954)","v":""},{"$f":"IF(Deviation_Limits!D954=\"\",\"\",Deviation_Limits!D954)","v":""},"",{"$f":"IF(COUNTIF(AQ$2:AQ932,AQ932)=1,AQ932,\"\")","v":""},"","","",null,{"$f":"+IF(BD932=\"\",\"\",MAX(AY$1:AY931)+1)","v":""},{"$f":"IF(Deviation_CEM_CPMS!B954=\"\",\"\",Deviation_CEM_CPMS!B954)","v":""},{"$f":"IF(Deviation_CEM_CPMS!C954=\"\",\"\",Deviation_CEM_CPMS!C954)","v":""},{"$f":"IF(Deviation_CEM_CPMS!D954=\"\",\"\",Deviation_CEM_CPMS!D954)","v":""},"",{"$f":"IF(COUNTIF(BA$2:BA932,BA932)=1,BA932,\"\")","v":""},"","",""]
[null,null,null,null,null,null,null,null,null,null,null,null,null,null,null,null,null,null,null,null,null,null,null,null,null,null,{"$f":"+IF(AE933=\"\",\"\",MAX(AA$1:AA932)+1)","v":""},{"$f":"IF(#REF!=\"\",\"\",#REF!)","v":{"$error":"#REF!"}},{"$f":"IF(#REF!=\"\",\"\",#REF!)","v":{"$error":"#REF!"}},{"$error":"#REF!"},{"$f":"IF(COUNTIF(AC$2:AC933,AC933)=1,AC933,\"\")","v":""},"","",null,null,null,null,null,null,null,{"$f":"+IF(AT933=\"\",\"\",MAX(AO$1:AO932)+1)","v":""},{"$f":"IF(Deviation_Limits!B955=\"\",\"\",Deviation_Limits!B955)","v":""},{"$f":"IF(Deviation_Limits!C955=\"\",\"\",Deviation_Limits!C955)","v":""},{"$f":"IF(Deviation_Limits!D955=\"\",\"\",Deviation_Limits!D955)","v":""},"",{"$f":"IF(COUNTIF(AQ$2:AQ933,AQ933)=1,AQ933,\"\")","v":""},"","","",null,{"$f":"+IF(BD933=\"\",\"\",MAX(AY$1:AY932)+1)","v":""},{"$f":"IF(Deviation_CEM_CPMS!B955=\"\",\"\",Deviation_CEM_CPMS!B955)","v":""},{"$f":"IF(Deviation_CEM_CPMS!C955=\"\",\"\",Deviation_CEM_CPMS!C955)","v":""},{"$f":"IF(Deviation_CEM_CPMS!D955=\"\",\"\",Deviation_CEM_CPMS!D955)","v":""},"",{"$f":"IF(COUNTIF(BA$2:BA933,BA933)=1,BA933,\"\")","v":""},"","",""]
[null,null,null,null,null,null,null,null,null,null,null,null,null,null,null,null,null,null,null,null,null,null,null,null,null,null,{"$f":"+IF(AE934=\"\",\"\",MAX(AA$1:AA933)+1)","v":""},{"$f":"IF(#REF!=\"\",\"\",#REF!)","v":{"$error":"#REF!"}},{"$f":"IF(#REF!=\"\",\"\",#REF!)","v":{"$error":"#REF!"}},{"$error":"#REF!"},{"$f":"IF(COUNTIF(AC$2:AC934,AC934)=1,AC934,\"\")","v":""},"","",null,null,null,null,null,null,null,{"$f":"+IF(AT934=\"\",\"\",MAX(AO$1:AO933)+1)","v":""},{"$f":"IF(Deviation_Limits!B956=\"\",\"\",Deviation_Limits!B956)","v":""},{"$f":"IF(Deviation_Limits!C956=\"\",\"\",Deviation_Limits!C956)","v":""},{"$f":"IF(Deviation_Limits!D956=\"\",\"\",Deviation_Limits!D956)","v":""},"",{"$f":"IF(COUNTIF(AQ$2:AQ934,AQ934)=1,AQ934,\"\")","v":""},"","","",null,{"$f":"+IF(BD934=\"\",\"\",MAX(AY$1:AY933)+1)","v":""},{"$f":"IF(Deviation_CEM_CPMS!B956=\"\",\"\",Deviation_CEM_CPMS!B956)","v":""},{"$f":"IF(Deviation_CEM_CPMS!C956=\"\",\"\",Deviation_CEM_CPMS!C956)","v":""},{"$f":"IF(Deviation_CEM_CPMS!D956=\"\",\"\",Deviation_CEM_CPMS!D956)","v":""},"",{"$f":"IF(COUNTIF(BA$2:BA934,BA934)=1,BA934,\"\")","v":""},"","",""]
[null,null,null,null,null,null,null,null,null,null,null,null,null,null,null,null,null,null,null,null,null,null,null,null,null,null,{"$f":"+IF(AE935=\"\",\"\",MAX(AA$1:AA934)+1)","v":""},{"$f":"IF(#REF!=\"\",\"\",#REF!)","v":{"$error":"#REF!"}},{"$f":"IF(#REF!=\"\",\"\",#REF!)","v":{"$error":"#REF!"}},{"$error":"#REF!"},{"$f":"IF(COUNTIF(AC$2:AC935,AC935)=1,AC935,\"\")","v":""},"","",null,null,null,null,null,null,null,{"$f":"+IF(AT935=\"\",\"\",MAX(AO$1:AO934)+1)","v":""},{"$f":"IF(Deviation_Limits!B957=\"\",\"\",Deviation_Limits!B957)","v":""},{"$f":"IF(Deviation_Limits!C957=\"\",\"\",Deviation_Limits!C957)","v":""},{"$f":"IF(Deviation_Limits!D957=\"\",\"\",Deviation_Limits!D957)","v":""},"",{"$f":"IF(COUNTIF(AQ$2:AQ935,AQ935)=1,AQ935,\"\")","v":""},"","","",null,{"$f":"+IF(BD935=\"\",\"\",MAX(AY$1:AY934)+1)","v":""},{"$f":"IF(Deviation_CEM_CPMS!B957=\"\",\"\",Deviation_CEM_CPMS!B957)","v":""},{"$f":"IF(Deviation_CEM_CPMS!C957=\"\",\"\",Deviation_CEM_CPMS!C957)","v":""},{"$f":"IF(Deviation_CEM_CPMS!D957=\"\",\"\",Deviation_CEM_CPMS!D957)","v":""},"",{"$f":"IF(COUNTIF(BA$2:BA935,BA935)=1,BA935,\"\")","v":""},"","",""]
[null,null,null,null,null,null,null,null,null,null,null,null,null,null,null,null,null,null,null,null,null,null,null,null,null,null,{"$f":"+IF(AE936=\"\",\"\",MAX(AA$1:AA935)+1)","v":""},{"$f":"IF(#REF!=\"\",\"\",#REF!)","v":{"$error":"#REF!"}},{"$f":"IF(#REF!=\"\",\"\",#REF!)","v":{"$error":"#REF!"}},{"$error":"#REF!"},{"$f":"IF(COUNTIF(AC$2:AC936,AC936)=1,AC936,\"\")","v":""},"","",null,null,null,null,null,null,null,{"$f":"+IF(AT936=\"\",\"\",MAX(AO$1:AO935)+1)","v":""},{"$f":"IF(Deviation_Limits!B958=\"\",\"\",Deviation_Limits!B958)","v":""},{"$f":"IF(Deviation_Limits!C958=\"\",\"\",Deviation_Limits!C958)","v":""},{"$f":"IF(Deviation_Limits!D958=\"\",\"\",Deviation_Limits!D958)","v":""},"",{"$f":"IF(COUNTIF(AQ$2:AQ936,AQ936)=1,AQ936,\"\")","v":""},"","","",null,{"$f":"+IF(BD936=\"\",\"\",MAX(AY$1:AY935)+1)","v":""},{"$f":"IF(Deviation_CEM_CPMS!B958=\"\",\"\",Deviation_CEM_CPMS!B958)","v":""},{"$f":"IF(Deviation_CEM_CPMS!C958=\"\",\"\",Deviation_CEM_CPMS!C958)","v":""},{"$f":"IF(Deviation_CEM_CPMS!D958=\"\",\"\",Deviation_CEM_CPMS!D958)","v":""},"",{"$f":"IF(COUNTIF(BA$2:BA936,BA936)=1,BA936,\"\")","v":""},"","",""]
[null,null,null,null,null,null,null,null,null,null,null,null,null,null,null,null,null,null,null,null,null,null,null,null,null,null,{"$f":"+IF(AE937=\"\",\"\",MAX(AA$1:AA936)+1)","v":""},{"$f":"IF(#REF!=\"\",\"\",#REF!)","v":{"$error":"#REF!"}},{"$f":"IF(#REF!=\"\",\"\",#REF!)","v":{"$error":"#REF!"}},{"$error":"#REF!"},{"$f":"IF(COUNTIF(AC$2:AC937,AC937)=1,AC937,\"\")","v":""},"","",null,null,null,null,null,null,null,{"$f":"+IF(AT937=\"\",\"\",MAX(AO$1:AO936)+1)","v":""},{"$f":"IF(Deviation_Limits!B959=\"\",\"\",Deviation_Limits!B959)","v":""},{"$f":"IF(Deviation_Limits!C959=\"\",\"\",Deviation_Limits!C959)","v":""},{"$f":"IF(Deviation_Limits!D959=\"\",\"\",Deviation_Limits!D959)","v":""},"",{"$f":"IF(COUNTIF(AQ$2:AQ937,AQ937)=1,AQ937,\"\")","v":""},"","","",null,{"$f":"+IF(BD937=\"\",\"\",MAX(AY$1:AY936)+1)","v":""},{"$f":"IF(Deviation_CEM_CPMS!B959=\"\",\"\",Deviation_CEM_CPMS!B959)","v":""},{"$f":"IF(Deviation_CEM_CPMS!C959=\"\",\"\",Deviation_CEM_CPMS!C959)","v":""},{"$f":"IF(Deviation_CEM_CPMS!D959=\"\",\"\",Deviation_CEM_CPMS!D959)","v":""},"",{"$f":"IF(COUNTIF(BA$2:BA937,BA937)=1,BA937,\"\")","v":""},"","",""]
[null,null,null,null,null,null,null,null,null,null,null,null,null,null,null,null,null,null,null,null,null,null,null,null,null,null,{"$f":"+IF(AE938=\"\",\"\",MAX(AA$1:AA937)+1)","v":""},{"$f":"IF(#REF!=\"\",\"\",#REF!)","v":{"$error":"#REF!"}},{"$f":"IF(#REF!=\"\",\"\",#REF!)","v":{"$error":"#REF!"}},{"$error":"#REF!"},{"$f":"IF(COUNTIF(AC$2:AC938,AC938)=1,AC938,\"\")","v":""},"","",null,null,null,null,null,null,null,{"$f":"+IF(AT938=\"\",\"\",MAX(AO$1:AO937)+1)","v":""},{"$f":"IF(Deviation_Limits!B960=\"\",\"\",Deviation_Limits!B960)","v":""},{"$f":"IF(Deviation_Limits!C960=\"\",\"\",Deviation_Limits!C960)","v":""},{"$f":"IF(Deviation_Limits!D960=\"\",\"\",Deviation_Limits!D960)","v":""},"",{"$f":"IF(COUNTIF(AQ$2:AQ938,AQ938)=1,AQ938,\"\")","v":""},"","","",null,{"$f":"+IF(BD938=\"\",\"\",MAX(AY$1:AY937)+1)","v":""},{"$f":"IF(Deviation_CEM_CPMS!B960=\"\",\"\",Deviation_CEM_CPMS!B960)","v":""},{"$f":"IF(Deviation_CEM_CPMS!C960=\"\",\"\",Deviation_CEM_CPMS!C960)","v":""},{"$f":"IF(Deviation_CEM_CPMS!D960=\"\",\"\",Deviation_CEM_CPMS!D960)","v":""},"",{"$f":"IF(COUNTIF(BA$2:BA938,BA938)=1,BA938,\"\")","v":""},"","",""]
[null,null,null,null,null,null,null,null,null,null,null,null,null,null,null,null,null,null,null,null,null,null,null,null,null,null,{"$f":"+IF(AE939=\"\",\"\",MAX(AA$1:AA938)+1)","v":""},{"$f":"IF(#REF!=\"\",\"\",#REF!)","v":{"$error":"#REF!"}},{"$f":"IF(#REF!=\"\",\"\",#REF!)","v":{"$error":"#REF!"}},{"$error":"#REF!"},{"$f":"IF(COUNTIF(AC$2:AC939,AC939)=1,AC939,\"\")","v":""},"","",null,null,null,null,null,null,null,{"$f":"+IF(AT939=\"\",\"\",MAX(AO$1:AO938)+1)","v":""},{"$f":"IF(Deviation_Limits!B961=\"\",\"\",Deviation_Limits!B961)","v":""},{"$f":"IF(Deviation_Limits!C961=\"\",\"\",Deviation_Limits!C961)","v":""},{"$f":"IF(Deviation_Limits!D961=\"\",\"\",Deviation_Limits!D961)","v":""},"",{"$f":"IF(COUNTIF(AQ$2:AQ939,AQ939)=1,AQ939,\"\")","v":""},"","","",null,{"$f":"+IF(BD939=\"\",\"\",MAX(AY$1:AY938)+1)","v":""},{"$f":"IF(Deviation_CEM_CPMS!B961=\"\",\"\",Deviation_CEM_CPMS!B961)","v":""},{"$f":"IF(Deviation_CEM_CPMS!C961=\"\",\"\",Deviation_CEM_CPMS!C961)","v":""},{"$f":"IF(Deviation_CEM_CPMS!D961=\"\",\"\",Deviation_CEM_CPMS!D961)","v":""},"",{"$f":"IF(COUNTIF(BA$2:BA939,BA939)=1,BA939,\"\")","v":""},"","",""]
[null,null,null,null,null,null,null,null,null,null,null,null,null,null,null,null,null,null,null,null,null,null,null,null,null,null,{"$f":"+IF(AE940=\"\",\"\",MAX(AA$1:AA939)+1)","v":""},{"$f":"IF(#REF!=\"\",\"\",#REF!)","v":{"$error":"#REF!"}},{"$f":"IF(#REF!=\"\",\"\",#REF!)","v":{"$error":"#REF!"}},{"$error":"#REF!"},{"$f":"IF(COUNTIF(AC$2:AC940,AC940)=1,AC940,\"\")","v":""},"","",null,null,null,null,null,null,null,{"$f":"+IF(AT940=\"\",\"\",MAX(AO$1:AO939)+1)","v":""},{"$f":"IF(Deviation_Limits!B962=\"\",\"\",Deviation_Limits!B962)","v":""},{"$f":"IF(Deviation_Limits!C962=\"\",\"\",Deviation_Limits!C962)","v":""},{"$f":"IF(Deviation_Limits!D962=\"\",\"\",Deviation_Limits!D962)","v":""},"",{"$f":"IF(COUNTIF(AQ$2:AQ940,AQ940)=1,AQ940,\"\")","v":""},"","","",null,{"$f":"+IF(BD940=\"\",\"\",MAX(AY$1:AY939)+1)","v":""},{"$f":"IF(Deviation_CEM_CPMS!B962=\"\",\"\",Deviation_CEM_CPMS!B962)","v":""},{"$f":"IF(Deviation_CEM_CPMS!C962=\"\",\"\",Deviation_CEM_CPMS!C962)","v":""},{"$f":"IF(Deviation_CEM_CPMS!D962=\"\",\"\",Deviation_CEM_CPMS!D962)","v":""},"",{"$f":"IF(COUNTIF(BA$2:BA940,BA940)=1,BA940,\"\")","v":""},"","",""]
[null,null,null,null,null,null,null,null,null,null,null,null,null,null,null,null,null,null,null,null,null,null,null,null,null,null,{"$f":"+IF(AE941=\"\",\"\",MAX(AA$1:AA940)+1)","v":""},{"$f":"IF(#REF!=\"\",\"\",#REF!)","v":{"$error":"#REF!"}},{"$f":"IF(#REF!=\"\",\"\",#REF!)","v":{"$error":"#REF!"}},{"$error":"#REF!"},{"$f":"IF(COUNTIF(AC$2:AC941,AC941)=1,AC941,\"\")","v":""},"","",null,null,null,null,null,null,null,{"$f":"+IF(AT941=\"\",\"\",MAX(AO$1:AO940)+1)","v":""},{"$f":"IF(Deviation_Limits!B963=\"\",\"\",Deviation_Limits!B963)","v":""},{"$f":"IF(Deviation_Limits!C963=\"\",\"\",Deviation_Limits!C963)","v":""},{"$f":"IF(Deviation_Limits!D963=\"\",\"\",Deviation_Limits!D963)","v":""},"",{"$f":"IF(COUNTIF(AQ$2:AQ941,AQ941)=1,AQ941,\"\")","v":""},"","","",null,{"$f":"+IF(BD941=\"\",\"\",MAX(AY$1:AY940)+1)","v":""},{"$f":"IF(Deviation_CEM_CPMS!B963=\"\",\"\",Deviation_CEM_CPMS!B963)","v":""},{"$f":"IF(Deviation_CEM_CPMS!C963=\"\",\"\",Deviation_CEM_CPMS!C963)","v":""},{"$f":"IF(Deviation_CEM_CPMS!D963=\"\",\"\",Deviation_CEM_CPMS!D963)","v":""},"",{"$f":"IF(COUNTIF(BA$2:BA941,BA941)=1,BA941,\"\")","v":""},"","",""]
[null,null,null,null,null,null,null,null,null,null,null,null,null,null,null,null,null,null,null,null,null,null,null,null,null,null,{"$f":"+IF(AE942=\"\",\"\",MAX(AA$1:AA941)+1)","v":""},{"$f":"IF(#REF!=\"\",\"\",#REF!)","v":{"$error":"#REF!"}},{"$f":"IF(#REF!=\"\",\"\",#REF!)","v":{"$error":"#REF!"}},{"$error":"#REF!"},{"$f":"IF(COUNTIF(AC$2:AC942,AC942)=1,AC942,\"\")","v":""},"","",null,null,null,null,null,null,null,{"$f":"+IF(AT942=\"\",\"\",MAX(AO$1:AO941)+1)","v":""},{"$f":"IF(Deviation_Limits!B964=\"\",\"\",Deviation_Limits!B964)","v":""},{"$f":"IF(Deviation_Limits!C964=\"\",\"\",Deviation_Limits!C964)","v":""},{"$f":"IF(Deviation_Limits!D964=\"\",\"\",Deviation_Limits!D964)","v":""},"",{"$f":"IF(COUNTIF(AQ$2:AQ942,AQ942)=1,AQ942,\"\")","v":""},"","","",null,{"$f":"+IF(BD942=\"\",\"\",MAX(AY$1:AY941)+1)","v":""},{"$f":"IF(Deviation_CEM_CPMS!B964=\"\",\"\",Deviation_CEM_CPMS!B964)","v":""},{"$f":"IF(Deviation_CEM_CPMS!C964=\"\",\"\",Deviation_CEM_CPMS!C964)","v":""},{"$f":"IF(Deviation_CEM_CPMS!D964=\"\",\"\",Deviation_CEM_CPMS!D964)","v":""},"",{"$f":"IF(COUNTIF(BA$2:BA942,BA942)=1,BA942,\"\")","v":""},"","",""]
[null,null,null,null,null,null,null,null,null,null,null,null,null,null,null,null,null,null,null,null,null,null,null,null,null,null,{"$f":"+IF(AE943=\"\",\"\",MAX(AA$1:AA942)+1)","v":""},{"$f":"IF(#REF!=\"\",\"\",#REF!)","v":{"$error":"#REF!"}},{"$f":"IF(#REF!=\"\",\"\",#REF!)","v":{"$error":"#REF!"}},{"$error":"#REF!"},{"$f":"IF(COUNTIF(AC$2:AC943,AC943)=1,AC943,\"\")","v":""},"","",null,null,null,null,null,null,null,{"$f":"+IF(AT943=\"\",\"\",MAX(AO$1:AO942)+1)","v":""},{"$f":"IF(Deviation_Limits!B965=\"\",\"\",Deviation_Limits!B965)","v":""},{"$f":"IF(Deviation_Limits!C965=\"\",\"\",Deviation_Limits!C965)","v":""},{"$f":"IF(Deviation_Limits!D965=\"\",\"\",Deviation_Limits!D965)","v":""},"",{"$f":"IF(COUNTIF(AQ$2:AQ943,AQ943)=1,AQ943,\"\")","v":""},"","","",null,{"$f":"+IF(BD943=\"\",\"\",MAX(AY$1:AY942)+1)","v":""},{"$f":"IF(Deviation_CEM_CPMS!B965=\"\",\"\",Deviation_CEM_CPMS!B965)","v":""},{"$f":"IF(Deviation_CEM_CPMS!C965=\"\",\"\",Deviation_CEM_CPMS!C965)","v":""},{"$f":"IF(Deviation_CEM_CPMS!D965=\"\",\"\",Deviation_CEM_CPMS!D965)","v":""},"",{"$f":"IF(COUNTIF(BA$2:BA943,BA943)=1,BA943,\"\")","v":""},"","",""]
[null,null,null,null,null,null,null,null,null,null,null,null,null,null,null,null,null,null,null,null,null,null,null,null,null,null,{"$f":"+IF(AE944=\"\",\"\",MAX(AA$1:AA943)+1)","v":""},{"$f":"IF(#REF!=\"\",\"\",#REF!)","v":{"$error":"#REF!"}},{"$f":"IF(#REF!=\"\",\"\",#REF!)","v":{"$error":"#REF!"}},{"$error":"#REF!"},{"$f":"IF(COUNTIF(AC$2:AC944,AC944)=1,AC944,\"\")","v":""},"","",null,null,null,null,null,null,null,{"$f":"+IF(AT944=\"\",\"\",MAX(AO$1:AO943)+1)","v":""},{"$f":"IF(Deviation_Limits!B966=\"\",\"\",Deviation_Limits!B966)","v":""},{"$f":"IF(Deviation_Limits!C966=\"\",\"\",Deviation_Limits!C966)","v":""},{"$f":"IF(Deviation_Limits!D966=\"\",\"\",Deviation_Limits!D966)","v":""},"",{"$f":"IF(COUNTIF(AQ$2:AQ944,AQ944)=1,AQ944,\"\")","v":""},"","","",null,{"$f":"+IF(BD944=\"\",\"\",MAX(AY$1:AY943)+1)","v":""},{"$f":"IF(Deviation_CEM_CPMS!B966=\"\",\"\",Deviation_CEM_CPMS!B966)","v":""},{"$f":"IF(Deviation_CEM_CPMS!C966=\"\",\"\",Deviation_CEM_CPMS!C966)","v":""},{"$f":"IF(Deviation_CEM_CPMS!D966=\"\",\"\",Deviation_CEM_CPMS!D966)","v":""},"",{"$f":"IF(COUNTIF(BA$2:BA944,BA944)=1,BA944,\"\")","v":""},"","",""]
[null,null,null,null,null,null,null,null,null,null,null,null,null,null,null,null,null,null,null,null,null,null,null,null,null,null,{"$f":"+IF(AE945=\"\",\"\",MAX(AA$1:AA944)+1)","v":""},{"$f":"IF(#REF!=\"\",\"\",#REF!)","v":{"$error":"#REF!"}},{"$f":"IF(#REF!=\"\",\"\",#REF!)","v":{"$error":"#REF!"}},{"$error":"#REF!"},{"$f":"IF(COUNTIF(AC$2:AC945,AC945)=1,AC945,\"\")","v":""},"","",null,null,null,null,null,null,null,{"$f":"+IF(AT945=\"\",\"\",MAX(AO$1:AO944)+1)","v":""},{"$f":"IF(Deviation_Limits!B967=\"\",\"\",Deviation_Limits!B967)","v":""},{"$f":"IF(Deviation_Limits!C967=\"\",\"\",Deviation_Limits!C967)","v":""},{"$f":"IF(Deviation_Limits!D967=\"\",\"\",Deviation_Limits!D967)","v":""},"",{"$f":"IF(COUNTIF(AQ$2:AQ945,AQ945)=1,AQ945,\"\")","v":""},"","","",null,{"$f":"+IF(BD945=\"\",\"\",MAX(AY$1:AY944)+1)","v":""},{"$f":"IF(Deviation_CEM_CPMS!B967=\"\",\"\",Deviation_CEM_CPMS!B967)","v":""},{"$f":"IF(Deviation_CEM_CPMS!C967=\"\",\"\",Deviation_CEM_CPMS!C967)","v":""},{"$f":"IF(Deviation_CEM_CPMS!D967=\"\",\"\",Deviation_CEM_CPMS!D967)","v":""},"",{"$f":"IF(COUNTIF(BA$2:BA945,BA945)=1,BA945,\"\")","v":""},"","",""]
[null,null,null,null,null,null,null,null,null,null,null,null,null,null,null,null,null,null,null,null,null,null,null,null,null,null,{"$f":"+IF(AE946=\"\",\"\",MAX(AA$1:AA945)+1)","v":""},{"$f":"IF(#REF!=\"\",\"\",#REF!)","v":{"$error":"#REF!"}},{"$f":"IF(#REF!=\"\",\"\",#REF!)","v":{"$error":"#REF!"}},{"$error":"#REF!"},{"$f":"IF(COUNTIF(AC$2:AC946,AC946)=1,AC946,\"\")","v":""},"","",null,null,null,null,null,null,null,{"$f":"+IF(AT946=\"\",\"\",MAX(AO$1:AO945)+1)","v":""},{"$f":"IF(Deviation_Limits!B968=\"\",\"\",Deviation_Limits!B968)","v":""},{"$f":"IF(Deviation_Limits!C968=\"\",\"\",Deviation_Limits!C968)","v":""},{"$f":"IF(Deviation_Limits!D968=\"\",\"\",Deviation_Limits!D968)","v":""},"",{"$f":"IF(COUNTIF(AQ$2:AQ946,AQ946)=1,AQ946,\"\")","v":""},"","","",null,{"$f":"+IF(BD946=\"\",\"\",MAX(AY$1:AY945)+1)","v":""},{"$f":"IF(Deviation_CEM_CPMS!B968=\"\",\"\",Deviation_CEM_CPMS!B968)","v":""},{"$f":"IF(Deviation_CEM_CPMS!C968=\"\",\"\",Deviation_CEM_CPMS!C968)","v":""},{"$f":"IF(Deviation_CEM_CPMS!D968=\"\",\"\",Deviation_CEM_CPMS!D968)","v":""},"",{"$f":"IF(COUNTIF(BA$2:BA946,BA946)=1,BA946,\"\")","v":""},"","",""]
[null,null,null,null,null,null,null,null,null,null,null,null,null,null,null,null,null,null,null,null,null,null,null,null,null,null,{"$f":"+IF(AE947=\"\",\"\",MAX(AA$1:AA946)+1)","v":""},{"$f":"IF(#REF!=\"\",\"\",#REF!)","v":{"$error":"#REF!"}},{"$f":"IF(#REF!=\"\",\"\",#REF!)","v":{"$error":"#REF!"}},{"$error":"#REF!"},{"$f":"IF(COUNTIF(AC$2:AC947,AC947)=1,AC947,\"\")","v":""},"","",null,null,null,null,null,null,null,{"$f":"+IF(AT947=\"\",\"\",MAX(AO$1:AO946)+1)","v":""},{"$f":"IF(Deviation_Limits!B969=\"\",\"\",Deviation_Limits!B969)","v":""},{"$f":"IF(Deviation_Limits!C969=\"\",\"\",Deviation_Limits!C969)","v":""},{"$f":"IF(Deviation_Limits!D969=\"\",\"\",Deviation_Limits!D969)","v":""},"",{"$f":"IF(COUNTIF(AQ$2:AQ947,AQ947)=1,AQ947,\"\")","v":""},"","","",null,{"$f":"+IF(BD947=\"\",\"\",MAX(AY$1:AY946)+1)","v":""},{"$f":"IF(Deviation_CEM_CPMS!B969=\"\",\"\",Deviation_CEM_CPMS!B969)","v":""},{"$f":"IF(Deviation_CEM_CPMS!C969=\"\",\"\",Deviation_CEM_CPMS!C969)","v":""},{"$f":"IF(Deviation_CEM_CPMS!D969=\"\",\"\",Deviation_CEM_CPMS!D969)","v":""},"",{"$f":"IF(COUNTIF(BA$2:BA947,BA947)=1,BA947,\"\")","v":""},"","",""]
[null,null,null,null,null,null,null,null,null,null,null,null,null,null,null,null,null,null,null,null,null,null,null,null,null,null,{"$f":"+IF(AE948=\"\",\"\",MAX(AA$1:AA947)+1)","v":""},{"$f":"IF(#REF!=\"\",\"\",#REF!)","v":{"$error":"#REF!"}},{"$f":"IF(#REF!=\"\",\"\",#REF!)","v":{"$error":"#REF!"}},{"$error":"#REF!"},{"$f":"IF(COUNTIF(AC$2:AC948,AC948)=1,AC948,\"\")","v":""},"","",null,null,null,null,null,null,null,{"$f":"+IF(AT948=\"\",\"\",MAX(AO$1:AO947)+1)","v":""},{"$f":"IF(Deviation_Limits!B970=\"\",\"\",Deviation_Limits!B970)","v":""},{"$f":"IF(Deviation_Limits!C970=\"\",\"\",Deviation_Limits!C970)","v":""},{"$f":"IF(Deviation_Limits!D970=\"\",\"\",Deviation_Limits!D970)","v":""},"",{"$f":"IF(COUNTIF(AQ$2:AQ948,AQ948)=1,AQ948,\"\")","v":""},"","","",null,{"$f":"+IF(BD948=\"\",\"\",MAX(AY$1:AY947)+1)","v":""},{"$f":"IF(Deviation_CEM_CPMS!B970=\"\",\"\",Deviation_CEM_CPMS!B970)","v":""},{"$f":"IF(Deviation_CEM_CPMS!C970=\"\",\"\",Deviation_CEM_CPMS!C970)","v":""},{"$f":"IF(Deviation_CEM_CPMS!D970=\"\",\"\",Deviation_CEM_CPMS!D970)","v":""},"",{"$f":"IF(COUNTIF(BA$2:BA948,BA948)=1,BA948,\"\")","v":""},"","",""]
[null,null,null,null,null,null,null,null,null,null,null,null,null,null,null,null,null,null,null,null,null,null,null,null,null,null,{"$f":"+IF(AE949=\"\",\"\",MAX(AA$1:AA948)+1)","v":""},{"$f":"IF(#REF!=\"\",\"\",#REF!)","v":{"$error":"#REF!"}},{"$f":"IF(#REF!=\"\",\"\",#REF!)","v":{"$error":"#REF!"}},{"$error":"#REF!"},{"$f":"IF(COUNTIF(AC$2:AC949,AC949)=1,AC949,\"\")","v":""},"","",null,null,null,null,null,null,null,{"$f":"+IF(AT949=\"\",\"\",MAX(AO$1:AO948)+1)","v":""},{"$f":"IF(Deviation_Limits!B971=\"\",\"\",Deviation_Limits!B971)","v":""},{"$f":"IF(Deviation_Limits!C971=\"\",\"\",Deviation_Limits!C971)","v":""},{"$f":"IF(Deviation_Limits!D971=\"\",\"\",Deviation_Limits!D971)","v":""},"",{"$f":"IF(COUNTIF(AQ$2:AQ949,AQ949)=1,AQ949,\"\")","v":""},"","","",null,{"$f":"+IF(BD949=\"\",\"\",MAX(AY$1:AY948)+1)","v":""},{"$f":"IF(Deviation_CEM_CPMS!B971=\"\",\"\",Deviation_CEM_CPMS!B971)","v":""},{"$f":"IF(Deviation_CEM_CPMS!C971=\"\",\"\",Deviation_CEM_CPMS!C971)","v":""},{"$f":"IF(Deviation_CEM_CPMS!D971=\"\",\"\",Deviation_CEM_CPMS!D971)","v":""},"",{"$f":"IF(COUNTIF(BA$2:BA949,BA949)=1,BA949,\"\")","v":""},"","",""]
[null,null,null,null,null,null,null,null,null,null,null,null,null,null,null,null,null,null,null,null,null,null,null,null,null,null,{"$f":"+IF(AE950=\"\",\"\",MAX(AA$1:AA949)+1)","v":""},{"$f":"IF(#REF!=\"\",\"\",#REF!)","v":{"$error":"#REF!"}},{"$f":"IF(#REF!=\"\",\"\",#REF!)","v":{"$error":"#REF!"}},{"$error":"#REF!"},{"$f":"IF(COUNTIF(AC$2:AC950,AC950)=1,AC950,\"\")","v":""},"","",null,null,null,null,null,null,null,{"$f":"+IF(AT950=\"\",\"\",MAX(AO$1:AO949)+1)","v":""},{"$f":"IF(Deviation_Limits!B972=\"\",\"\",Deviation_Limits!B972)","v":""},{"$f":"IF(Deviation_Limits!C972=\"\",\"\",Deviation_Limits!C972)","v":""},{"$f":"IF(Deviation_Limits!D972=\"\",\"\",Deviation_Limits!D972)","v":""},"",{"$f":"IF(COUNTIF(AQ$2:AQ950,AQ950)=1,AQ950,\"\")","v":""},"","","",null,{"$f":"+IF(BD950=\"\",\"\",MAX(AY$1:AY949)+1)","v":""},{"$f":"IF(Deviation_CEM_CPMS!B972=\"\",\"\",Deviation_CEM_CPMS!B972)","v":""},{"$f":"IF(Deviation_CEM_CPMS!C972=\"\",\"\",Deviation_CEM_CPMS!C972)","v":""},{"$f":"IF(Deviation_CEM_CPMS!D972=\"\",\"\",Deviation_CEM_CPMS!D972)","v":""},"",{"$f":"IF(COUNTIF(BA$2:BA950,BA950)=1,BA950,\"\")","v":""},"","",""]
[null,null,null,null,null,null,null,null,null,null,null,null,null,null,null,null,null,null,null,null,null,null,null,null,null,null,{"$f":"+IF(AE951=\"\",\"\",MAX(AA$1:AA950)+1)","v":""},{"$f":"IF(#REF!=\"\",\"\",#REF!)","v":{"$error":"#REF!"}},{"$f":"IF(#REF!=\"\",\"\",#REF!)","v":{"$error":"#REF!"}},{"$error":"#REF!"},{"$f":"IF(COUNTIF(AC$2:AC951,AC951)=1,AC951,\"\")","v":""},"","",null,null,null,null,null,null,null,{"$f":"+IF(AT951=\"\",\"\",MAX(AO$1:AO950)+1)","v":""},{"$f":"IF(Deviation_Limits!B973=\"\",\"\",Deviation_Limits!B973)","v":""},{"$f":"IF(Deviation_Limits!C973=\"\",\"\",Deviation_Limits!C973)","v":""},{"$f":"IF(Deviation_Limits!D973=\"\",\"\",Deviation_Limits!D973)","v":""},"",{"$f":"IF(COUNTIF(AQ$2:AQ951,AQ951)=1,AQ951,\"\")","v":""},"","","",null,{"$f":"+IF(BD951=\"\",\"\",MAX(AY$1:AY950)+1)","v":""},{"$f":"IF(Deviation_CEM_CPMS!B973=\"\",\"\",Deviation_CEM_CPMS!B973)","v":""},{"$f":"IF(Deviation_CEM_CPMS!C973=\"\",\"\",Deviation_CEM_CPMS!C973)","v":""},{"$f":"IF(Deviation_CEM_CPMS!D973=\"\",\"\",Deviation_CEM_CPMS!D973)","v":""},"",{"$f":"IF(COUNTIF(BA$2:BA951,BA951)=1,BA951,\"\")","v":""},"","",""]
[null,null,null,null,null,null,null,null,null,null,null,null,null,null,null,null,null,null,null,null,null,null,null,null,null,null,{"$f":"+IF(AE952=\"\",\"\",MAX(AA$1:AA951)+1)","v":""},{"$f":"IF(#REF!=\"\",\"\",#REF!)","v":{"$error":"#REF!"}},{"$f":"IF(#REF!=\"\",\"\",#REF!)","v":{"$error":"#REF!"}},{"$error":"#REF!"},{"$f":"IF(COUNTIF(AC$2:AC952,AC952)=1,AC952,\"\")","v":""},"","",null,null,null,null,null,null,null,{"$f":"+IF(AT952=\"\",\"\",MAX(AO$1:AO951)+1)","v":""},{"$f":"IF(Deviation_Limits!B974=\"\",\"\",Deviation_Limits!B974)","v":""},{"$f":"IF(Deviation_Limits!C974=\"\",\"\",Deviation_Limits!C974)","v":""},{"$f":"IF(Deviation_Limits!D974=\"\",\"\",Deviation_Limits!D974)","v":""},"",{"$f":"IF(COUNTIF(AQ$2:AQ952,AQ952)=1,AQ952,\"\")","v":""},"","","",null,{"$f":"+IF(BD952=\"\",\"\",MAX(AY$1:AY951)+1)","v":""},{"$f":"IF(Deviation_CEM_CPMS!B974=\"\",\"\",Deviation_CEM_CPMS!B974)","v":""},{"$f":"IF(Deviation_CEM_CPMS!C974=\"\",\"\",Deviation_CEM_CPMS!C974)","v":""},{"$f":"IF(Deviation_CEM_CPMS!D974=\"\",\"\",Deviation_CEM_CPMS!D974)","v":""},"",{"$f":"IF(COUNTIF(BA$2:BA952,BA952)=1,BA952,\"\")","v":""},"","",""]
[null,null,null,null,null,null,null,null,null,null,null,null,null,null,null,null,null,null,null,null,null,null,null,null,null,null,{"$f":"+IF(AE953=\"\",\"\",MAX(AA$1:AA952)+1)","v":""},{"$f":"IF(#REF!=\"\",\"\",#REF!)","v":{"$error":"#REF!"}},{"$f":"IF(#REF!=\"\",\"\",#REF!)","v":{"$error":"#REF!"}},{"$error":"#REF!"},{"$f":"IF(COUNTIF(AC$2:AC953,AC953)=1,AC953,\"\")","v":""},"","",null,null,null,null,null,null,null,{"$f":"+IF(AT953=\"\",\"\",MAX(AO$1:AO952)+1)","v":""},{"$f":"IF(Deviation_Limits!B975=\"\",\"\",Deviation_Limits!B975)","v":""},{"$f":"IF(Deviation_Limits!C975=\"\",\"\",Deviation_Limits!C975)","v":""},{"$f":"IF(Deviation_Limits!D975=\"\",\"\",Deviation_Limits!D975)","v":""},"",{"$f":"IF(COUNTIF(AQ$2:AQ953,AQ953)=1,AQ953,\"\")","v":""},"","","",null,{"$f":"+IF(BD953=\"\",\"\",MAX(AY$1:AY952)+1)","v":""},{"$f":"IF(Deviation_CEM_CPMS!B975=\"\",\"\",Deviation_CEM_CPMS!B975)","v":""},{"$f":"IF(Deviation_CEM_CPMS!C975=\"\",\"\",Deviation_CEM_CPMS!C975)","v":""},{"$f":"IF(Deviation_CEM_CPMS!D975=\"\",\"\",Deviation_CEM_CPMS!D975)","v":""},"",{"$f":"IF(COUNTIF(BA$2:BA953,BA953)=1,BA953,\"\")","v":""},"","",""]
[null,null,null,null,null,null,null,null,null,null,null,null,null,null,null,null,null,null,null,null,null,null,null,null,null,null,{"$f":"+IF(AE954=\"\",\"\",MAX(AA$1:AA953)+1)","v":""},{"$f":"IF(#REF!=\"\",\"\",#REF!)","v":{"$error":"#REF!"}},{"$f":"IF(#REF!=\"\",\"\",#REF!)","v":{"$error":"#REF!"}},{"$error":"#REF!"},{"$f":"IF(COUNTIF(AC$2:AC954,AC954)=1,AC954,\"\")","v":""},"","",null,null,null,null,null,null,null,{"$f":"+IF(AT954=\"\",\"\",MAX(AO$1:AO953)+1)","v":""},{"$f":"IF(Deviation_Limits!B976=\"\",\"\",Deviation_Limits!B976)","v":""},{"$f":"IF(Deviation_Limits!C976=\"\",\"\",Deviation_Limits!C976)","v":""},{"$f":"IF(Deviation_Limits!D976=\"\",\"\",Deviation_Limits!D976)","v":""},"",{"$f":"IF(COUNTIF(AQ$2:AQ954,AQ954)=1,AQ954,\"\")","v":""},"","","",null,{"$f":"+IF(BD954=\"\",\"\",MAX(AY$1:AY953)+1)","v":""},{"$f":"IF(Deviation_CEM_CPMS!B976=\"\",\"\",Deviation_CEM_CPMS!B976)","v":""},{"$f":"IF(Deviation_CEM_CPMS!C976=\"\",\"\",Deviation_CEM_CPMS!C976)","v":""},{"$f":"IF(Deviation_CEM_CPMS!D976=\"\",\"\",Deviation_CEM_CPMS!D976)","v":""},"",{"$f":"IF(COUNTIF(BA$2:BA954,BA954)=1,BA954,\"\")","v":""},"","",""]
[null,null,null,null,null,null,null,null,null,null,null,null,null,null,null,null,null,null,null,null,null,null,null,null,null,null,{"$f":"+IF(AE955=\"\",\"\",MAX(AA$1:AA954)+1)","v":""},{"$f":"IF(#REF!=\"\",\"\",#REF!)","v":{"$error":"#REF!"}},{"$f":"IF(#REF!=\"\",\"\",#REF!)","v":{"$error":"#REF!"}},{"$error":"#REF!"},{"$f":"IF(COUNTIF(AC$2:AC955,AC955)=1,AC955,\"\")","v":""},"","",null,null,null,null,null,null,null,{"$f":"+IF(AT955=\"\",\"\",MAX(AO$1:AO954)+1)","v":""},{"$f":"IF(Deviation_Limits!B977=\"\",\"\",Deviation_Limits!B977)","v":""},{"$f":"IF(Deviation_Limits!C977=\"\",\"\",Deviation_Limits!C977)","v":""},{"$f":"IF(Deviation_Limits!D977=\"\",\"\",Deviation_Limits!D977)","v":""},"",{"$f":"IF(COUNTIF(AQ$2:AQ955,AQ955)=1,AQ955,\"\")","v":""},"","","",null,{"$f":"+IF(BD955=\"\",\"\",MAX(AY$1:AY954)+1)","v":""},{"$f":"IF(Deviation_CEM_CPMS!B977=\"\",\"\",Deviation_CEM_CPMS!B977)","v":""},{"$f":"IF(Deviation_CEM_CPMS!C977=\"\",\"\",Deviation_CEM_CPMS!C977)","v":""},{"$f":"IF(Deviation_CEM_CPMS!D977=\"\",\"\",Deviation_CEM_CPMS!D977)","v":""},"",{"$f":"IF(COUNTIF(BA$2:BA955,BA955)=1,BA955,\"\")","v":""},"","",""]

{"sheet":"Welcome","index":1,"n_rows":16,"n_cols":16384,"rows_kept":16,"cut":false,"hidden":false,"merged":[],"flags":["row_too_large"]}
["DO NOT REMOVE OR EDIT INFORMATION IN ROWS 1 THROUGH 5\nFOR INTERNAL USE ONLY"]
["Template Name","63.6150(a), (c) and (e) Semiannual and Annual Compliance Reports (Spreadsheet Template)"]
["CitationID","63.6150(a), (c), and (e)"]
["Template Version","v3.00"]
["Last Updated Date",44067]
["Blank","OMB No.: 2060-0540   Expiration: 11/16/2019"]
["Blank","40 CFR Part 63, Subpart YYYY National Emission Standards for Hazardous Air Pollutants for Stationary Combustion Turbines - \n§63.6150(a)-(e)  Compliance Reports Spreadsheet Template"]
[null,"Instructions for Spreadsheet Template\n\nPurpose:"]
[null,"This spreadsheet template was designed by the U.S. EPA to facilitate Compliance reporting for facilities subject under the 40 CFR part 63, subpart YYYY National Emission Standard for Hazardous Air Pollutants for Stationary Combustion Turbines.  \n\nElectronic reporting:\nElectronic submission of Compliance Reports through the EPA's Compliance and Emissions Data Reporting Interface (CEDRI) is required under §63.6150. CEDRI is accessed through the EPA's Central Data Exchange (https://cdx.epa.gov)."]
["Blank","\nThe CEDRI spreadsheet template upload feature allows you to submit data in a single report for a single company or multiple companies, as well as multiple sites, using this EPA provided Excel workbook.  Data for each company must be entered into the worksheet labeled \"Company Information\" in this Excel workbook.  Each row in the \"Company Information\" worksheet includes the data for a single company. The Company Record No. will be used to match the information on each tab to the appropriate company. \n\nFor each facility record found in the \"Company Information\" worksheet, you may reference a single file attachment that includes additional information. "]
[{"$cut":{"chars":2175843,"head":""}}]
["Blank","IMPORTANT: The spreadsheet must be uploaded into CEDRI as a single ZIP file, which must include this Excel workbook and any related attachments that were referenced in the workbook (i.e., additional information file found in the \"Company Information\" worksheet).\n\nNote: If you are uploading file attachments for your report, the uploaded files may be in any format (e.g., zip, docx, PDF). If you would like to include an Excel file(s) as an attachment, you must first zip the excel file(s) into a separate ZIP file to the master ZIP file that will be uploaded into CEDRI.\n\nOnce all data have been entered in the worksheet, combine this Excel workbook and all attachment files (including any ZIP file containing separate excel file(s), if applicable) into a single ZIP file for upload to CEDRI.\n\nPlease ensure your report includes all of the required data elements found in the listed citations below for this spreadsheet upload submission."]
["Blank","Template Navigation and Tabs to Complete:\nCompany_Information:  The Company_Information tab contains general information that is likely to be unchanged from report to report.  After completing the Company_Information tab, the workbook may be saved as a site specific template for use in subsequent reports to limit subsequent data entry.  Selections in Columns O, P, and Q will unhide applicable tabs for the various fuel types.  \n\nGreen Tabs:  Green tabs (CEM_CPMS_Identification, Deviation_Limits, Deviation_CEM_CPMS, Deviation_Summary_CPMS, Deviation_Summary_Limits, and Description_of_Changes) are to be completed as necessary for a turbine with a formaldehyde emission standard to complete the Semiannual report.   Some cells are linked to previous tabs or are calculations dependent upon data entry.  These tabs will still contain information when hidden, and should be cleared before completing any subsequent reports. The Number_of_Deviations tab will be autocompleted based on entries in Deviation_Limits and Deviation_CEM_CPMS.\n\nBlue Tabs:  Blue tabs (Landfill_Gas_ID, Landfill_Gas_Fuel, Landfill_Gas_Limits, and Landfill_Gas_Fuel_Meters) are to be completed as necessary to prepare an annual report as described in §63.6150(c) if you operate stationary combustion turbine which fires landfill gas or digester gas equivalent to 10% or more of the gross heat input on an annual basis. Some cells are linked to previous tabs or are calculations dependent upon data entry.  These tabs will still contain information when hidden, and should be cleared before completing any subsequent reports.\n"]
[null,"Grey Tabs: Grey tabs (Distillate_Oil, Distillate_Oil_Limits, and Distillate_Meters) are to be completed as necessary to prepare the annual report required by §63.6150(e) if you operate a lean premix gas-fired or diffusion flame gas-fired stationary combustion turbine and use any quantity of distillate oil to fire any new or existing stationary combustion turbine which is located at the same major source.  Some cells are linked to previous tabs or are calculations dependent upon data entry.  These tabs will still contain information when hidden, and should be cleared before completing any subsequent reports."]
[null,"Certification: The Certification tab must be completed for all reports.\n"]
[null,"Within the tabs, example rows are colored light red (rows 14 through 23), and the XML tags (row 13) are colored green.  These rows are locked; no data entry is made in these rows. "]

{"sheet":"Company_Information","index":2,"n_rows":33,"n_cols":25,"rows_kept":33,"cut":false,"hidden":false,"merged":[]}
[null,"DO NOT REMOVE OR EDIT INFORMATION IN ROWS 1 THROUGH 5\nFOR INTERNAL USE ONLY"]
[null,"Template Name",{"$f":"+Welcome!B2","v":"63.6150(a), (c) and (e) Semiannual and Annual Compliance Reports (Spreadsheet Template)"}]
[null,"CitationID",{"$f":"+Welcome!B3","v":"63.6150(a), (c), and (e)"}]
[null,"Template Version",{"$f":"+Welcome!B4","v":"v3.00"}]
[null,"Last Updated Date",{"$f":"+Welcome!B5","v":44067}]
[null,{"$f":"Welcome!B6","v":"OMB No.: 2060-0540   Expiration: 11/16/2019"}]
[null,"40 CFR Part 63, Subpart YYYY National Emission Standards for Hazardous Air Pollutants for Stationary Combustion Turbines - \n"]
[null,"§63.6150(a)-(e) Compliance Reports Spreadsheet Template"]
[]
[null,"* Required Field"]
[null,null,"SITE INFORMATION",null,null,null,null,null,null,null,"Optional Mailing Address Information",null,null,null,null,null,null,"REPORTING PERIOD",null,null,"ADDITIONAL INFORMATION",null,"Report Type"]
[null,"Company Record No. *\n(Field value will automatically generate if a value is not entered.)","Company Name * \n(§63.6150(a)(1) and §63.10(e)(3)(vi))","Address * \n(§63.6150(a)(1) and §63.10(e)(3)(vi))","Address 2 ","City *\n(§63.6150(a)(1) and §63.10(e)(3)(vi))","County","State Abbreviation *\n(§63.6150(a)(1) and §63.10(e)(3)(vi))","Zip Code *\n(§63.6150(a)(1) and §63.10(e)(3)(vi))","Responsible Agency Facility ID \n(State Facility Identifier)","Mailing Address  \n(Optional)","Mailing Address 2 \n(Optional)","Mailing Address City\n(Optional)","Mailing Address State Abbreviation\n(Optional)","Mailing Address Zip Code\n(Optional)","Contact Name\n(Optional)","Contact Number\n(Optional)","Date of Report *\n(§63.6150(a)(3))","Beginning Date of Reporting Period  *\n(§63.6150(a)(3) and §63.10(e)(3)(vi))","Ending Date of\n Reporting Period*\n(§63.6150(a)(3) and §63.10(e)(3)(vi))","Please enter any additional information.","Enter associated file name reference. ","Semiannual report for stationary combustion turbine with a formaldehyde emission limit\n(§63.6150(a))\n(Select from Dropdown)","Annual Report for Stationary Combustion Turbine which fires landfill gas or digester gas equivalent to 10% or more of gross annual heat input\n(§63.6150(c))\n(Select from Dropdown)","Annual Report for lean premix gas-fired or diffusion flame gas-fired stationary combustion turbine and use any quantity of distillate oil to fire any new or existing stationary combustion turbine\n(§63.6150(e))\n(Select from Dropdown)"]
[null,"RecordId","CompanyName","AddressLine1","AddressLine2","CityName","CountyName","StateName","ZIPCode","StateFacID","MailingAddressLine1","MailingAddressLine2","MailingAddressCity","MailingAddressState","MailingAddressZIP","ContactName","ContactNumber","ReportDate","PeriodStartDate","PeriodEndDate","AddInfo","AddFile","SemiannualFlag","AnnualFlag","AnnualPremixFlag"]
[null,"e.g.: 1","e.g.: ABC Company","e.g.: 123 Main Street","e.g.: Suite 100","e.g.: Brooklyn","e.g.: Kings","e.g.: NY","e.g.: 11221","e.g.: 9145555555","e.g.: 123 Main Street","e.g.: Suite 100","e.g.: Brooklyn","e.g.: NY","e.g.: 11221","e.g.: John Smith","e.g.: (555) 555-5555","e.g.: 7/15/2020","e.g.: 01/01/2020","e.g.: 6/30/2020",null,"e.g.: addlinfo.zip ","e.g.: Yes","e.g.: Yes","e.g.: No"]
[]
[]
[]
[]
[]
[]
[]
[]
[]
[null,{"$f":"IF(C24=\"\",\"\",MAX(B$23:C23)+1)","v":""},null,null,null,null,null,null,null,null,null,null,null,null,null,null,null,null,null,null,null,null,"Yes","No","No"]
[null,{"$f":"IF(C25=\"\",\"\",MAX(B$23:C24)+1)","v":""}]
[null,{"$f":"IF(C26=\"\",\"\",MAX(B$23:C25)+1)","v":""}]
[null,{"$f":"IF(C27=\"\",\"\",MAX(B$23:C26)+1)","v":""}]
[null,{"$f":"IF(C28=\"\",\"\",MAX(B$23:C27)+1)","v":""}]
[null,{"$f":"IF(C29=\"\",\"\",MAX(B$23:C28)+1)","v":""}]
[null,{"$f":"IF(C30=\"\",\"\",MAX(B$23:C29)+1)","v":""}]
[null,{"$f":"IF(C31=\"\",\"\",MAX(B$23:C30)+1)","v":""}]
[null,{"$f":"IF(C32=\"\",\"\",MAX(B$23:C31)+1)","v":""}]
[null,{"$f":"IF(C33=\"\",\"\",MAX(B$23:C32)+1)","v":""}]

{"sheet":"CPMS_Identification","index":3,"n_rows":14,"n_cols":7,"rows_kept":14,"cut":false,"hidden":false,"merged":[]}
[null,"DO NOT REMOVE OR EDIT INFORMATION IN ROWS 1 THROUGH 5\nFOR INTERNAL USE ONLY"]
[null,"Template Name",{"$f":"+Welcome!B2","v":"63.6150(a), (c) and (e) Semiannual and Annual Compliance Reports (Spreadsheet Template)"}]
[null,"CitationID",{"$f":"+Welcome!B3","v":"63.6150(a), (c), and (e)"}]
[null,"Template Version",{"$f":"+Welcome!B4","v":"v3.00"}]
[null,"Last Updated Date",{"$f":"+Welcome!B5","v":44067}]
[null,{"$f":"Welcome!B6","v":"OMB No.: 2060-0540   Expiration: 11/16/2019"}]
[null,"40 CFR Part 63, Subpart YYYY National Emission Standards for Hazardous Air Pollutants for Stationary Combustion Turbines - "]
[null,"§63.6150(a)-(e) Compliance Reports Spreadsheet Template"]
[]
[]
[null,"* Required Field"]
[null,"Company Record No. *\n(Select from dropdown)","Process Unit Description *\n(§63.10(e)(3)(vi))","Monitoring Equipment Manufacturer and Model Number *\n(§63.10(e)(3)(vi))","Identification of Air Pollutant Monitored/Related to CPMS \n(§63.10(e)(3)(vi))","Emission and Operating Parameter Limitation Specified in Standard*\n§63.10(e)(3)(vi)","Date of Last CPMS\nCertification or Audit *\n(§63.10(e)(3)(vi))"]
[null,"RecordId","ProcessUnit","CPMSEqDescription","CPMSPollutant","CPMSParameterLimitation","CPMSAuditDate"]
[null,"e.g.: 1","e.g. Turbine 1","e.g.: TC1792 Catalyst Inlet Temperature","e.g.: Formaldehyde","e.g.: 4-HRA inlet temperature; 91 ppvd @ 15% O2 formaldehyde","e.g.: 2/2/2020"]

{"sheet":"Deviation_Limits","index":4,"n_rows":500,"n_cols":14,"rows_kept":500,"cut":false,"hidden":false,"merged":[]}
[null,"DO NOT REMOVE OR EDIT INFORMATION IN ROWS 1 THROUGH 5\nFOR INTERNAL USE ONLY"]
[null,"Template Name",null,{"$f":"+Welcome!B2","v":"63.6150(a), (c) and (e) Semiannual and Annual Compliance Reports (Spreadsheet Template)"}]
[null,"CitationID",null,{"$f":"+Welcome!B3","v":"63.6150(a), (c), and (e)"}]
[null,"Template Version",null,{"$f":"+Welcome!B4","v":"v3.00"}]
[null,"Last Updated Date",null,{"$f":"+Welcome!B5","v":44067}]
[null,{"$f":"Welcome!B6","v":"OMB No.: 2060-0540   Expiration: 11/16/2019"}]
[null,"40 CFR Part 63, Subpart YYYY National Emission Standards for Hazardous Air Pollutants for Stationary Combustion Turbines - "]
[null,"§63.6150(a)-(e) Compliance Reports Spreadsheet Template"]
[]
[]
[null,"* Required Field"]
[null,"Company Record No.  *\n(Select from dropdown)","Affected Source\n(§63.10(e)(3)(vi) and §63.6150(a)(5)(ii))*\n(Select from dropdown)","Emission or Operating \nLimit Deviated From *\n(§63.10(e)(3)(vi) and §63.6150(a)(5)(i))\n(Select from dropdown)","Starting Date of Deviation *\n(§63.10(e)(3)(v) and §63.6150(a)(5)(i))","Starting Time of \nDeviation *\n(§63.10(e)(3)(v) and §63.6150(a)(5)(i))","Ending Date of \nDeviation *\n(§63.10(e)(3)(v))","Ending Time of \nDeviation *\n(§63.10(e)(3)(v))","Duration of \nDeviation *\n(hours)  \n(§63.10(e)(3)(v) and §63.6150(a)(5)(i))\n(Calculated value)","Cause of Deviation *\n(§63.6150(a)(5)(i))\n(Select from dropdown)","Estimate of Quantity of Formaldehyde Emitted Over Emission Limit *\n(§63.6150(a)(5)(ii))","Units of Quantity Emitted *\n(§63.6150(a)(5)(ii))\n(Select from dropdown)","Method of Estimation *\n(§63.6150(a)(5)(ii))","Corrective Action Taken *\n(§63.6150(a)(5)(i))"]
[null,"RecordId","AffectedSource","DeviceDeviationBypass","DeviationStartDate","DeviationStartTime","DeviationEndDate","DeviationEndTime","DeviationDuration","DeviationCause","EmissionQuantity","EmissionUnit","EstimationMethod","CorrectiveAction"]
[null,"e.g.: 1","e.g.: Turbine 1 ","e.g.:  Catalyst Inlet Temperature","e.g.: 2/12/2020","e.g.: 13:05","e.g.: 2/13/2020","e.g.: 08:00","e.g.: 16.08","e.g.: Control Equipment Problems","e.g.: 0.14 ","e.g.: kg","e.g.: Engineering judgement","e.g.: Increased natural gas flow"]
[]
[]
[]
[]
[]
[]
[]
[]
[]
[null,null,null,null,null,null,null,null,{"$f":"+IF(H24=\"\",\"\",(VALUE(TEXT(G24,\"m/dd/yy \")&TEXT(H24,\"hh:mm:ss\"))-(VALUE(TEXT(E24,\"m/dd/yy \")&TEXT(F24,\"hh:mm:ss\"))))*24)","v":""}]
[null,null,null,null,null,null,null,null,""]
[null,null,null,null,null,null,null,null,""]
[null,null,null,null,null,null,null,null,""]
[null,null,null,null,null,null,null,null,""]
[null,null,null,null,null,null,null,null,""]
[null,null,null,null,null,null,null,null,""]
[null,null,null,null,null,null,null,null,""]
[null,null,null,null,null,null,null,null,""]
[null,null,null,null,null,null,null,null,""]
[null,null,null,null,null,null,null,null,""]
[null,null,null,null,null,null,null,null,""]
[null,null,null,null,null,null,null,null,""]
[null,null,null,null,null,null,null,null,""]
[null,null,null,null,null,null,null,null,""]
[null,null,null,null,null,null,null,null,""]
[null,null,null,null,null,null,null,null,""]
[null,null,null,null,null,null,null,null,""]
[null,null,null,null,null,null,null,null,""]
[null,null,null,null,null,null,null,null,""]
[null,null,null,null,null,null,null,null,""]
[null,null,null,null,null,null,null,null,""]
[null,null,null,null,null,null,null,null,""]
[null,null,null,null,null,null,null,null,""]
[null,null,null,null,null,null,null,null,""]
[null,null,null,null,null,null,null,null,""]
[null,null,null,null,null,null,null,null,""]
[null,null,null,null,null,null,null,null,""]
[null,null,null,null,null,null,null,null,""]
[null,null,null,null,null,null,null,null,""]
[null,null,null,null,null,null,null,null,""]
[null,null,null,null,null,null,null,null,""]
[null,null,null,null,null,null,null,null,""]
[null,null,null,null,null,null,null,null,""]
[null,null,null,null,null,null,null,null,""]
[null,null,null,null,null,null,null,null,""]
[null,null,null,null,null,null,null,null,""]
[null,null,null,null,null,null,null,null,""]
[null,null,null,null,null,null,null,null,""]
[null,null,null,null,null,null,null,null,""]
[null,null,null,null,null,null,null,null,""]
[null,null,null,null,null,null,null,null,""]
[null,null,null,null,null,null,null,null,""]
[null,null,null,null,null,null,null,null,""]
[null,null,null,null,null,null,null,null,""]
[null,null,null,null,null,null,null,null,""]
[null,null,null,null,null,null,null,null,""]
[null,null,null,null,null,null,null,null,""]
[null,null,null,null,null,null,null,null,""]
[null,null,null,null,null,null,null,null,""]
[null,null,null,null,null,null,null,null,""]
[null,null,null,null,null,null,null,null,""]
[null,null,null,null,null,null,null,null,""]
[null,null,null,null,null,null,null,null,""]
[null,null,null,null,null,null,null,null,""]
[null,null,null,null,null,null,null,null,""]
[null,null,null,null,null,null,null,null,""]
[null,null,null,null,null,null,null,null,""]
[null,null,null,null,null,null,null,null,""]
[null,null,null,null,null,null,null,null,""]
[null,null,null,null,null,null,null,null,""]
[null,null,null,null,null,null,null,null,""]
[null,null,null,null,null,null,null,null,""]
[null,null,null,null,null,null,null,null,""]
[null,null,null,null,null,null,null,null,""]
[null,null,null,null,null,null,null,null,{"$f":"+IF(H89=\"\",\"\",(VALUE(TEXT(G89,\"m/dd/yy \")&TEXT(H89,\"hh:mm:ss\"))-(VALUE(TEXT(E89,\"m/dd/yy \")&TEXT(F89,\"hh:mm:ss\"))))*24)","v":""}]
[null,null,null,null,null,null,null,null,""]
[null,null,null,null,null,null,null,null,""]
[null,null,null,null,null,null,null,null,""]
[null,null,null,null,null,null,null,null,""]
[null,null,null,null,null,null,null,null,""]
[null,null,null,null,null,null,null,null,""]
[null,null,null,null,null,null,null,null,""]
[null,null,null,null,null,null,null,null,""]
[null,null,null,null,null,null,null,null,""]
[null,null,null,null,null,null,null,null,""]
[null,null,null,null,null,null,null,null,""]
[null,null,null,null,null,null,null,null,""]
[null,null,null,null,null,null,null,null,""]
[null,null,null,null,null,null,null,null,""]
[null,null,null,null,null,null,null,null,""]
[null,null,null,null,null,null,null,null,""]
[null,null,null,null,null,null,null,null,""]
[null,null,null,null,null,null,null,null,""]
[null,null,null,null,null,null,null,null,""]
[null,null,null,null,null,null,null,null,""]
[null,null,null,null,null,null,null,null,""]
[null,null,null,null,null,null,null,null,""]
[null,null,null,null,null,null,null,null,""]
[null,null,null,null,null,null,null,null,""]
[null,null,null,null,null,null,null,null,""]
[null,null,null,null,null,null,null,null,""]
[null,null,null,null,null,null,null,null,""]
[null,null,null,null,null,null,null,null,""]
[null,null,null,null,null,null,null,null,""]
[null,null,null,null,null,null,null,null,""]
[null,null,null,null,null,null,null,null,""]
[null,null,null,null,null,null,null,null,""]
[null,null,null,null,null,null,null,null,""]
[null,null,null,null,null,null,null,null,""]
[null,null,null,null,null,null,null,null,""]
[null,null,null,null,null,null,null,null,""]
[null,null,null,null,null,null,null,null,""]
[null,null,null,null,null,null,null,null,""]
[null,null,null,null,null,null,null,null,""]
[null,null,null,null,null,null,null,null,""]
[null,null,null,null,null,null,null,null,""]
[null,null,null,null,null,null,null,null,""]
[null,null,null,null,null,null,null,null,""]
[null,null,null,null,null,null,null,null,""]
[null,null,null,null,null,null,null,null,""]
[null,null,null,null,null,null,null,null,""]
[null,null,null,null,null,null,null,null,""]
[null,null,null,null,null,null,null,null,""]
[null,null,null,null,null,null,null,null,""]
[null,null,null,null,null,null,null,null,""]
[null,null,null,null,null,null,null,null,""]
[null,null,null,null,null,null,null,null,""]
[null,null,null,null,null,null,null,null,""]
[null,null,null,null,null,null,null,null,""]
[null,null,null,null,null,null,null,null,""]
[null,null,null,null,null,null,null,null,""]
[null,null,null,null,null,null,null,null,""]
[null,null,null,null,null,null,null,null,""]
[null,null,null,null,null,null,null,null,""]
[null,null,null,null,null,null,null,null,""]
[null,null,null,null,null,null,null,null,""]
[null,null,null,null,null,null,null,null,""]
[null,null,null,null,null,null,null,null,""]
[null,null,null,null,null,null,null,null,{"$f":"+IF(H153=\"\",\"\",(VALUE(TEXT(G153,\"m/dd/yy \")&TEXT(H153,\"hh:mm:ss\"))-(VALUE(TEXT(E153,\"m/dd/yy \")&TEXT(F153,\"hh:mm:ss\"))))*24)","v":""}]
[null,null,null,null,null,null,null,null,""]
[null,null,null,null,null,null,null,null,""]
[null,null,null,null,null,null,null,null,""]
[null,null,null,null,null,null,null,null,""]
[null,null,null,null,null,null,null,null,""]
[null,null,null,null,null,null,null,null,""]
[null,null,null,null,null,null,null,null,""]
[null,null,null,null,null,null,null,null,""]
[null,null,null,null,null,null,null,null,""]
[null,null,null,null,null,null,null,null,""]
[null,null,null,null,null,null,null,null,""]
[null,null,null,null,null,null,null,null,""]
[null,null,null,null,null,null,null,null,""]
[null,null,null,null,null,null,null,null,""]
[null,null,null,null,null,null,null,null,""]
[null,null,null,null,null,null,null,null,""]
[null,null,null,null,null,null,null,null,""]
[null,null,null,null,null,null,null,null,""]
[null,null,null,null,null,null,null,null,""]
[null,null,null,null,null,null,null,null,""]
[null,null,null,null,null,null,null,null,""]
[null,null,null,null,null,null,null,null,""]
[null,null,null,null,null,null,null,null,""]
[null,null,null,null,null,null,null,null,""]
[null,null,null,null,null,null,null,null,""]
[null,null,null,null,null,null,null,null,""]
[null,null,null,null,null,null,null,null,""]
[null,null,null,null,null,null,null,null,""]
[null,null,null,null,null,null,null,null,""]
[null,null,null,null,null,null,null,null,""]
[null,null,null,null,null,null,null,null,""]
[null,null,null,null,null,null,null,null,""]
[null,null,null,null,null,null,null,null,""]
[null,null,null,null,null,null,null,null,""]
[null,null,null,null,null,null,null,null,""]
[null,null,null,null,null,null,null,null,""]
[null,null,null,null,null,null,null,null,""]
[null,null,null,null,null,null,null,null,""]
[null,null,null,null,null,null,null,null,""]
[null,null,null,null,null,null,null,null,""]
[null,null,null,null,null,null,null,null,""]
[null,null,null,null,null,null,null,null,""]
[null,null,null,null,null,null,null,null,""]
[null,null,null,null,null,null,null,null,""]
[null,null,null,null,null,null,null,null,""]
[null,null,null,null,null,null,null,null,""]
[null,null,null,null,null,null,null,null,""]
[null,null,null,null,null,null,null,null,""]
[null,null,null,null,null,null,null,null,""]
[null,null,null,null,null,null,null,null,""]
[null,null,null,null,null,null,null,null,""]
[null,null,null,null,null,null,null,null,""]
[null,null,null,null,null,null,null,null,""]
[null,null,null,null,null,null,null,null,""]
[null,null,null,null,null,null,null,null,""]
[null,null,null,null,null,null,null,null,""]
[null,null,null,null,null,null,null,null,""]
[null,null,null,null,null,null,null,null,""]
[null,null,null,null,null,null,null,null,""]
[null,null,null,null,null,null,null,null,""]
[null,null,null,null,null,null,null,null,""]
[null,null,null,null,null,null,null,null,""]
[null,null,null,null,null,null,null,null,""]
[null,null,null,null,null,null,null,null,{"$f":"+IF(H217=\"\",\"\",(VALUE(TEXT(G217,\"m/dd/yy \")&TEXT(H217,\"hh:mm:ss\"))-(VALUE(TEXT(E217,\"m/dd/yy \")&TEXT(F217,\"hh:mm:ss\"))))*24)","v":""}]
[null,null,null,null,null,null,null,null,""]
[null,null,null,null,null,null,null,null,""]
[null,null,null,null,null,null,null,null,""]
[null,null,null,null,null,null,null,null,""]
[null,null,null,null,null,null,null,null,""]
[null,null,null,null,null,null,null,null,""]
[null,null,null,null,null,null,null,null,""]
[null,null,null,null,null,null,null,null,""]
[null,null,null,null,null,null,null,null,""]
[null,null,null,null,null,null,null,null,""]
[null,null,null,null,null,null,null,null,""]
[null,null,null,null,null,null,null,null,""]
[null,null,null,null,null,null,null,null,""]
[null,null,null,null,null,null,null,null,""]
[null,null,null,null,null,null,null,null,""]
[null,null,null,null,null,null,null,null,""]
[null,null,null,null,null,null,null,null,""]
[null,null,null,null,null,null,null,null,""]
[null,null,null,null,null,null,null,null,""]
[null,null,null,null,null,null,null,null,""]
[null,null,null,null,null,null,null,null,""]
[null,null,null,null,null,null,null,null,""]
[null,null,null,null,null,null,null,null,""]
[null,null,null,null,null,null,null,null,""]
[null,null,null,null,null,null,null,null,""]
[null,null,null,null,null,null,null,null,""]
[null,null,null,null,null,null,null,null,""]
[null,null,null,null,null,null,null,null,""]
[null,null,null,null,null,null,null,null,""]
[null,null,null,null,null,null,null,null,""]
[null,null,null,null,null,null,null,null,""]
[null,null,null,null,null,null,null,null,""]
[null,null,null,null,null,null,null,null,""]
[null,null,null,null,null,null,null,null,""]
[null,null,null,null,null,null,null,null,""]
[null,null,null,null,null,null,null,null,""]
[null,null,null,null,null,null,null,null,""]
[null,null,null,null,null,null,null,null,""]
[null,null,null,null,null,null,null,null,""]
[null,null,null,null,null,null,null,null,""]
[null,null,null,null,null,null,null,null,""]
[null,null,null,null,null,null,null,null,""]
[null,null,null,null,null,null,null,null,""]
[null,null,null,null,null,null,null,null,""]
[null,null,null,null,null,null,null,null,""]
[null,null,null,null,null,null,null,null,""]
[null,null,null,null,null,null,null,null,""]
[null,null,null,null,null,null,null,null,""]
[null,null,null,null,null,null,null,null,""]
[null,null,null,null,null,null,null,null,""]
[null,null,null,null,null,null,null,null,""]
[null,null,null,null,null,null,null,null,""]
[null,null,null,null,null,null,null,null,""]
[null,null,null,null,null,null,null,null,""]
[null,null,null,null,null,null,null,null,""]
[null,null,null,null,null,null,null,null,""]
[null,null,null,null,null,null,null,null,""]
[null,null,null,null,null,null,null,null,""]
[null,null,null,null,null,null,null,null,""]
[null,null,null,null,null,null,null,null,""]
[null,null,null,null,null,null,null,null,""]
[null,null,null,null,null,null,null,null,""]
[null,null,null,null,null,null,null,null,""]
[null,null,null,null,null,null,null,null,{"$f":"+IF(H281=\"\",\"\",(VALUE(TEXT(G281,\"m/dd/yy \")&TEXT(H281,\"hh:mm:ss\"))-(VALUE(TEXT(E281,\"m/dd/yy \")&TEXT(F281,\"hh:mm:ss\"))))*24)","v":""}]
[null,null,null,null,null,null,null,null,""]
[null,null,null,null,null,null,null,null,""]
[null,null,null,null,null,null,null,null,""]
[null,null,null,null,null,null,null,null,""]
[null,null,null,null,null,null,null,null,""]
[null,null,null,null,null,null,null,null,""]
[null,null,null,null,null,null,null,null,""]
[null,null,null,null,null,null,null,null,""]
[null,null,null,null,null,null,null,null,""]
[null,null,null,null,null,null,null,null,""]
[null,null,null,null,null,null,null,null,""]
[null,null,null,null,null,null,null,null,""]
[null,null,null,null,null,null,null,null,""]
[null,null,null,null,null,null,null,null,""]
[null,null,null,null,null,null,null,null,""]
[null,null,null,null,null,null,null,null,""]
[null,null,null,null,null,null,null,null,""]
[null,null,null,null,null,null,null,null,""]
[null,null,null,null,null,null,null,null,""]
[null,null,null,null,null,null,null,null,""]
[null,null,null,null,null,null,null,null,""]
[null,null,null,null,null,null,null,null,""]
[null,null,null,null,null,null,null,null,""]
[null,null,null,null,null,null,null,null,""]
[null,null,null,null,null,null,null,null,""]
[null,null,null,null,null,null,null,null,""]
[null,null,null,null,null,null,null,null,""]
[null,null,null,null,null,null,null,null,""]
[null,null,null,null,null,null,null,null,""]
[null,null,null,null,null,null,null,null,""]
[null,null,null,null,null,null,null,null,""]
[null,null,null,null,null,null,null,null,""]
[null,null,null,null,null,null,null,null,""]
[null,null,null,null,null,null,null,null,""]
[null,null,null,null,null,null,null,null,""]
[null,null,null,null,null,null,null,null,""]
[null,null,null,null,null,null,null,null,""]
[null,null,null,null,null,null,null,null,""]
[null,null,null,null,null,null,null,null,""]
[null,null,null,null,null,null,null,null,""]
[null,null,null,null,null,null,null,null,""]
[null,null,null,null,null,null,null,null,""]
[null,null,null,null,null,null,null,null,""]
[null,null,null,null,null,null,null,null,""]
[null,null,null,null,null,null,null,null,""]
[null,null,null,null,null,null,null,null,""]
[null,null,null,null,null,null,null,null,""]
[null,null,null,null,null,null,null,null,""]
[null,null,null,null,null,null,null,null,""]
[null,null,null,null,null,null,null,null,""]
[null,null,null,null,null,null,null,null,""]
[null,null,null,null,null,null,null,null,""]
[null,null,null,null,null,null,null,null,""]
[null,null,null,null,null,null,null,null,""]
[null,null,null,null,null,null,null,null,""]
[null,null,null,null,null,null,null,null,""]
[null,null,null,null,null,null,null,null,""]
[null,null,null,null,null,null,null,null,""]
[null,null,null,null,null,null,null,null,""]
[null,null,null,null,null,null,null,null,""]
[null,null,null,null,null,null,null,null,""]
[null,null,null,null,null,null,null,null,""]
[null,null,null,null,null,null,null,null,""]
[null,null,null,null,null,null,null,null,{"$f":"+IF(H345=\"\",\"\",(VALUE(TEXT(G345,\"m/dd/yy \")&TEXT(H345,\"hh:mm:ss\"))-(VALUE(TEXT(E345,\"m/dd/yy \")&TEXT(F345,\"hh:mm:ss\"))))*24)","v":""}]
[null,null,null,null,null,null,null,null,""]
[null,null,null,null,null,null,null,null,""]
[null,null,null,null,null,null,null,null,""]
[null,null,null,null,null,null,null,null,""]
[null,null,null,null,null,null,null,null,""]
[null,null,null,null,null,null,null,null,""]
[null,null,null,null,null,null,null,null,""]
[null,null,null,null,null,null,null,null,""]
[null,null,null,null,null,null,null,null,""]
[null,null,null,null,null,null,null,null,""]
[null,null,null,null,null,null,null,null,""]
[null,null,null,null,null,null,null,null,""]
[null,null,null,null,null,null,null,null,""]
[null,null,null,null,null,null,null,null,""]
[null,null,null,null,null,null,null,null,""]
[null,null,null,null,null,null,null,null,""]
[null,null,null,null,null,null,null,null,""]
[null,null,null,null,null,null,null,null,""]
[null,null,null,null,null,null,null,null,""]
[null,null,null,null,null,null,null,null,""]
[null,null,null,null,null,null,null,null,""]
[null,null,null,null,null,null,null,null,""]
[null,null,null,null,null,null,null,null,""]
[null,null,null,null,null,null,null,null,""]
[null,null,null,null,null,null,null,null,""]
[null,null,null,null,null,null,null,null,""]
[null,null,null,null,null,null,null,null,""]
[null,null,null,null,null,null,null,null,""]
[null,null,null,null,null,null,null,null,""]
[null,null,null,null,null,null,null,null,""]
[null,null,null,null,null,null,null,null,""]
[null,null,null,null,null,null,null,null,""]
[null,null,null,null,null,null,null,null,""]
[null,null,null,null,null,null,null,null,""]
[null,null,null,null,null,null,null,null,""]
[null,null,null,null,null,null,null,null,""]
[null,null,null,null,null,null,null,null,""]
[null,null,null,null,null,null,null,null,""]
[null,null,null,null,null,null,null,null,""]
[null,null,null,null,null,null,null,null,""]
[null,null,null,null,null,null,null,null,""]
[null,null,null,null,null,null,null,null,""]
[null,null,null,null,null,null,null,null,""]
[null,null,null,null,null,null,null,null,""]
[null,null,null,null,null,null,null,null,""]
[null,null,null,null,null,null,null,null,""]
[null,null,null,null,null,null,null,null,""]
[null,null,null,null,null,null,null,null,""]
[null,null,null,null,null,null,null,null,""]
[null,null,null,null,null,null,null,null,""]
[null,null,null,null,null,null,null,null,""]
[null,null,null,null,null,null,null,null,""]
[null,null,null,null,null,null,null,null,""]
[null,null,null,null,null,null,null,null,""]
[null,null,null,null,null,null,null,null,""]
[null,null,null,null,null,null,null,null,""]
[null,null,null,null,null,null,null,null,""]
[null,null,null,null,null,null,null,null,""]
[null,null,null,null,null,null,null,null,""]
[null,null,null,null,null,null,null,null,""]
[null,null,null,null,null,null,null,null,""]
[null,null,null,null,null,null,null,null,""]
[null,null,null,null,null,null,null,null,""]
[null,null,null,null,null,null,null,null,{"$f":"+IF(H409=\"\",\"\",(VALUE(TEXT(G409,\"m/dd/yy \")&TEXT(H409,\"hh:mm:ss\"))-(VALUE(TEXT(E409,\"m/dd/yy \")&TEXT(F409,\"hh:mm:ss\"))))*24)","v":""}]
[null,null,null,null,null,null,null,null,""]
[null,null,null,null,null,null,null,null,""]
[null,null,null,null,null,null,null,null,""]
[null,null,null,null,null,null,null,null,""]
[null,null,null,null,null,null,null,null,""]
[null,null,null,null,null,null,null,null,""]
[null,null,null,null,null,null,null,null,""]
[null,null,null,null,null,null,null,null,""]
[null,null,null,null,null,null,null,null,""]
[null,null,null,null,null,null,null,null,""]
[null,null,null,null,null,null,null,null,""]
[null,null,null,null,null,null,null,null,""]
[null,null,null,null,null,null,null,null,""]
[null,null,null,null,null,null,null,null,""]
[null,null,null,null,null,null,null,null,""]
[null,null,null,null,null,null,null,null,""]
[null,null,null,null,null,null,null,null,""]
[null,null,null,null,null,null,null,null,""]
[null,null,null,null,null,null,null,null,""]
[null,null,null,null,null,null,null,null,""]
[null,null,null,null,null,null,null,null,""]
[null,null,null,null,null,null,null,null,""]
[null,null,null,null,null,null,null,null,""]
[null,null,null,null,null,null,null,null,""]
[null,null,null,null,null,null,null,null,""]
[null,null,null,null,null,null,null,null,""]
[null,null,null,null,null,null,null,null,""]
[null,null,null,null,null,null,null,null,""]
[null,null,null,null,null,null,null,null,""]
[null,null,null,null,null,null,null,null,""]
[null,null,null,null,null,null,null,null,""]
[null,null,null,null,null,null,null,null,""]
[null,null,null,null,null,null,null,null,""]
[null,null,null,null,null,null,null,null,""]
[null,null,null,null,null,null,null,null,""]
[null,null,null,null,null,null,null,null,""]
[null,null,null,null,null,null,null,null,""]
[null,null,null,null,null,null,null,null,""]
[null,null,null,null,null,null,null,null,""]
[null,null,null,null,null,null,null,null,""]
[null,null,null,null,null,null,null,null,""]
[null,null,null,null,null,null,null,null,""]
[null,null,null,null,null,null,null,null,""]
[null,null,null,null,null,null,null,null,""]
[null,null,null,null,null,null,null,null,""]
[null,null,null,null,null,null,null,null,""]
[null,null,null,null,null,null,null,null,""]
[null,null,null,null,null,null,null,null,""]
[null,null,null,null,null,null,null,null,""]
[null,null,null,null,null,null,null,null,""]
[null,null,null,null,null,null,null,null,""]
[null,null,null,null,null,null,null,null,""]
[null,null,null,null,null,null,null,null,""]
[null,null,null,null,null,null,null,null,""]
[null,null,null,null,null,null,null,null,""]
[null,null,null,null,null,null,null,null,""]
[null,null,null,null,null,null,null,null,""]
[null,null,null,null,null,null,null,null,""]
[null,null,null,null,null,null,null,null,""]
[null,null,null,null,null,null,null,null,""]
[null,null,null,null,null,null,null,null,""]
[null,null,null,null,null,null,null,null,""]
[null,null,null,null,null,null,null,null,""]
[null,null,null,null,null,null,null,null,{"$f":"+IF(H473=\"\",\"\",(VALUE(TEXT(G473,\"m/dd/yy \")&TEXT(H473,\"hh:mm:ss\"))-(VALUE(TEXT(E473,\"m/dd/yy \")&TEXT(F473,\"hh:mm:ss\"))))*24)","v":""}]
[null,null,null,null,null,null,null,null,""]
[null,null,null,null,null,null,null,null,""]
[null,null,null,null,null,null,null,null,""]
[null,null,null,null,null,null,null,null,""]
[null,null,null,null,null,null,null,null,""]
[null,null,null,null,null,null,null,null,""]
[null,null,null,null,null,null,null,null,""]
[null,null,null,null,null,null,null,null,""]
[null,null,null,null,null,null,null,null,""]
[null,null,null,null,null,null,null,null,""]
[null,null,null,null,null,null,null,null,""]
[null,null,null,null,null,null,null,null,""]
[null,null,null,null,null,null,null,null,""]
[null,null,null,null,null,null,null,null,""]
[null,null,null,null,null,null,null,null,""]
[null,null,null,null,null,null,null,null,""]
[null,null,null,null,null,null,null,null,""]
[null,null,null,null,null,null,null,null,""]
[null,null,null,null,null,null,null,null,""]
[null,null,null,null,null,null,null,null,""]
[null,null,null,null,null,null,null,null,""]
[null,null,null,null,null,null,null,null,""]
[null,null,null,null,null,null,null,null,""]
[null,null,null,null,null,null,null,null,""]
[null,null,null,null,null,null,null,null,""]
[null,null,null,null,null,null,null,null,""]
[null,null,null,null,null,null,null,null,""]

{"sheet":"Deviation_Summary_Limits","index":5,"n_rows":100,"n_cols":11,"rows_kept":100,"cut":false,"hidden":false,"merged":[]}
[null,"DO NOT REMOVE OR EDIT INFORMATION IN ROWS 1 THROUGH 5\nFOR INTERNAL USE ONLY"]
[null,"Template Name",null,null,{"$f":"+Welcome!B2","v":"63.6150(a), (c) and (e) Semiannual and Annual Compliance Reports (Spreadsheet Template)"}]
[null,"CitationID",null,null,{"$f":"+Welcome!B3","v":"63.6150(a), (c), and (e)"}]
[null,"Template Version",null,null,{"$f":"+Welcome!B4","v":"v3.00"}]
[null,"Last Updated Date",null,null,{"$f":"+Welcome!B5","v":44067}]
[null,{"$f":"Welcome!B6","v":"OMB No.: 2060-0540   Expiration: 11/16/2019"}]
[null,"40 CFR Part 63, Subpart YYYY National Emission Standards for Hazardous Air Pollutants for Stationary Combustion Turbines - "]
[null,"§63.6150(a)-(e) Compliance Reports Spreadsheet Template"]
[]
[]
[null,"* Required Field"]
[null,"Company Record No. *\n(Autocompleted)","Affected Source\n(§63.10(e)(3)(vi) and §63.6150(a)(5)(ii))*\n(Autocompleted)","Emission or Operating \nLimit Deviated From *\n(§63.10(e)(3)(vi) and §63.6150(a)(5)(i))\n(Autocompleted)","Total Source\nOperating Time *\n(hours)\n(§63.6150(a)(5)(iv))","Total Duration of \nDeviations from \nEmission or Operating Limits *\n(hours) \n(§63.10(e)(3)(vi))\n(Calculated value)","Total Duration of \nDeviations from\nEmission or Operating Limits as a \nper cent of \nTotal Source Operating Time *\n(§63.10(e)(3)(vi))\n(Calculated value)","Total Duration of \nDeviations from \nEmission or Operating Limits Due to \nControl Equipment Problems *\n(hours)  \n(§63.10(e)(3)(vi))\n(Calculated value)","Total Duration of \nDeviations from\nEmission or Operating Limits Due to \nProcess Problems *\n(hours)  \n(§63.10(e)(3)(vi))\n(Calculated value)","Total Duration of\nDeviations from \nEmission or Operating Limits Due to \nOther Known Causes *\n(hours)  \n(§63.10(e)(3)(vi))\n(Calculated value)","Total Duration of Deviations from Emission or Operating Limits Due to Other Unknown Causes * (hours)  \n(§63.10(e)(3)(vi))\n(Calculated value)"]
[null,"RecordId","AffectedSource","DeviceDeviationBypass","TotalOperatingTime","TotalDeviationDuration","TotalDeviationPercent","EquipmentCausedDeviation","ProcessCausedDeviation","OtherCausedDeviation","UnknownCausedDeviation"]
[null,"e.g.: 1","e.g.: Turbine 1 ","e.g.:  Catalyst Inlet Temperature","e.g.: 4416","e.g.: 36.2","e.g.: 0.58%","e.g.: 36.2","e.g.: 0","e.g.: 0","e.g.: 0"]
[]
[]
[]
[]
[]
[]
[]
[]
[]
[null,{"$f":"IF(Lists!AU2=\"\",\"\",Lists!AU2)","v":""},{"$f":"IF(Lists!AV2=\"\",\"\",Lists!AV2)","v":""},{"$f":"IF(Lists!AW2=\"\",\"\",Lists!AW2)","v":""},null,{"$f":"IF(E24=\"\",\"\",SUMIFS(Deviation_Limits!$I$24:$I$1300,Deviation_Limits!$B$24:$B$1300,$B24,Deviation_Limits!$C$24:$C$1300,$C24,Deviation_Limits!$D$24:$D$1300,$D24))","v":""},{"$f":"IF($E24=\"\",\"\",IF(F24=0,\"N/A\",F24/$E24))","v":""},{"$f":"IF($E24=\"\",\"\",SUMIFS(Deviation_Limits!$I$24:$I$1300,Deviation_Limits!$B$24:$B$1300,$B24,Deviation_Limits!$C$24:$C$1300,$C24,Deviation_Limits!$D$24:$D$1300,$D24,Deviation_Limits!$J$24:$J$1300,\"Control Equipment Problems\"))","v":""},{"$f":"IF($E24=\"\",\"\",SUMIFS(Deviation_Limits!$I$24:$I$1300,Deviation_Limits!$B$24:$B$1300,$B24,Deviation_Limits!$C$24:$C$1300,$C24,Deviation_Limits!$D$24:$D$1300,$D24,Deviation_Limits!$J$24:$J$1300,\"Process Problems\"))","v":""},{"$f":"IF($E24=\"\",\"\",SUMIFS(Deviation_Limits!$I$24:$I$1300,Deviation_Limits!$B$24:$B$1300,$B24,Deviation_Limits!$C$24:$C$1300,$C24,Deviation_Limits!$D$24:$D$1300,$D24,Deviation_Limits!$J$24:$J$1300,\"Other Known Causes\"))","v":""},{"$f":"IF($E24=\"\",\"\",SUMIFS(Deviation_Limits!$I$24:$I$1300,Deviation_Limits!$B$24:$B$1300,$B24,Deviation_Limits!$C$24:$C$1300,$C24,Deviation_Limits!$D$24:$D$1300,$D24,Deviation_Limits!$J$24:$J$1300,\"Other Unknown Causes\"))","v":""}]
[null,{"$f":"IF(Lists!AU3=\"\",\"\",Lists!AU3)","v":""},{"$f":"IF(Lists!AV3=\"\",\"\",Lists!AV3)","v":""},{"$f":"IF(Lists!AW3=\"\",\"\",Lists!AW3)","v":""},null,{"$f":"IF(E25=\"\",\"\",SUMIFS(Deviation_Limits!$I$24:$I$1300,Deviation_Limits!$B$24:$B$1300,$B25,Deviation_Limits!$C$24:$C$1300,$C25,Deviation_Limits!$D$24:$D$1300,$D25))","v":""},{"$f":"IF($E25=\"\",\"\",IF(F25=0,\"N/A\",F25/$E25))","v":""},{"$f":"IF($E25=\"\",\"\",SUMIFS(Deviation_Limits!$I$24:$I$1300,Deviation_Limits!$B$24:$B$1300,$B25,Deviation_Limits!$C$24:$C$1300,$C25,Deviation_Limits!$D$24:$D$1300,$D25,Deviation_Limits!$J$24:$J$1300,\"Control Equipment Problems\"))","v":""},{"$f":"IF($E25=\"\",\"\",SUMIFS(Deviation_Limits!$I$24:$I$1300,Deviation_Limits!$B$24:$B$1300,$B25,Deviation_Limits!$C$24:$C$1300,$C25,Deviation_Limits!$D$24:$D$1300,$D25,Deviation_Limits!$J$24:$J$1300,\"Process Problems\"))","v":""},{"$f":"IF($E25=\"\",\"\",SUMIFS(Deviation_Limits!$I$24:$I$1300,Deviation_Limits!$B$24:$B$1300,$B25,Deviation_Limits!$C$24:$C$1300,$C25,Deviation_Limits!$D$24:$D$1300,$D25,Deviation_Limits!$J$24:$J$1300,\"Other Known Causes\"))","v":""},{"$f":"IF($E25=\"\",\"\",SUMIFS(Deviation_Limits!$I$24:$I$1300,Deviation_Limits!$B$24:$B$1300,$B25,Deviation_Limits!$C$24:$C$1300,$C25,Deviation_Limits!$D$24:$D$1300,$D25,Deviation_Limits!$J$24:$J$1300,\"Other Unknown Causes\"))","v":""}]
[null,{"$f":"IF(Lists!AU4=\"\",\"\",Lists!AU4)","v":""},{"$f":"IF(Lists!AV4=\"\",\"\",Lists!AV4)","v":""},{"$f":"IF(Lists!AW4=\"\",\"\",Lists!AW4)","v":""},null,{"$f":"IF(E26=\"\",\"\",SUMIFS(Deviation_Limits!$I$24:$I$1300,Deviation_Limits!$B$24:$B$1300,$B26,Deviation_Limits!$C$24:$C$1300,$C26,Deviation_Limits!$D$24:$D$1300,$D26))","v":""},"",{"$f":"IF($E26=\"\",\"\",SUMIFS(Deviation_Limits!$I$24:$I$1300,Deviation_Limits!$B$24:$B$1300,$B26,Deviation_Limits!$C$24:$C$1300,$C26,Deviation_Limits!$D$24:$D$1300,$D26,Deviation_Limits!$J$24:$J$1300,\"Control Equipment Problems\"))","v":""},{"$f":"IF($E26=\"\",\"\",SUMIFS(Deviation_Limits!$I$24:$I$1300,Deviation_Limits!$B$24:$B$1300,$B26,Deviation_Limits!$C$24:$C$1300,$C26,Deviation_Limits!$D$24:$D$1300,$D26,Deviation_Limits!$J$24:$J$1300,\"Process Problems\"))","v":""},{"$f":"IF($E26=\"\",\"\",SUMIFS(Deviation_Limits!$I$24:$I$1300,Deviation_Limits!$B$24:$B$1300,$B26,Deviation_Limits!$C$24:$C$1300,$C26,Deviation_Limits!$D$24:$D$1300,$D26,Deviation_Limits!$J$24:$J$1300,\"Other Known Causes\"))","v":""},{"$f":"IF($E26=\"\",\"\",SUMIFS(Deviation_Limits!$I$24:$I$1300,Deviation_Limits!$B$24:$B$1300,$B26,Deviation_Limits!$C$24:$C$1300,$C26,Deviation_Limits!$D$24:$D$1300,$D26,Deviation_Limits!$J$24:$J$1300,\"Other Unknown Causes\"))","v":""}]
[null,{"$f":"IF(Lists!AU5=\"\",\"\",Lists!AU5)","v":""},{"$f":"IF(Lists!AV5=\"\",\"\",Lists!AV5)","v":""},{"$f":"IF(Lists!AW5=\"\",\"\",Lists!AW5)","v":""},null,{"$f":"IF(E27=\"\",\"\",SUMIFS(Deviation_Limits!$I$24:$I$1300,Deviation_Limits!$B$24:$B$1300,$B27,Deviation_Limits!$C$24:$C$1300,$C27,Deviation_Limits!$D$24:$D$1300,$D27))","v":""},"",{"$f":"IF($E27=\"\",\"\",SUMIFS(Deviation_Limits!$I$24:$I$1300,Deviation_Limits!$B$24:$B$1300,$B27,Deviation_Limits!$C$24:$C$1300,$C27,Deviation_Limits!$D$24:$D$1300,$D27,Deviation_Limits!$J$24:$J$1300,\"Control Equipment Problems\"))","v":""},{"$f":"IF($E27=\"\",\"\",SUMIFS(Deviation_Limits!$I$24:$I$1300,Deviation_Limits!$B$24:$B$1300,$B27,Deviation_Limits!$C$24:$C$1300,$C27,Deviation_Limits!$D$24:$D$1300,$D27,Deviation_Limits!$J$24:$J$1300,\"Process Problems\"))","v":""},{"$f":"IF($E27=\"\",\"\",SUMIFS(Deviation_Limits!$I$24:$I$1300,Deviation_Limits!$B$24:$B$1300,$B27,Deviation_Limits!$C$24:$C$1300,$C27,Deviation_Limits!$D$24:$D$1300,$D27,Deviation_Limits!$J$24:$J$1300,\"Other Known Causes\"))","v":""},{"$f":"IF($E27=\"\",\"\",SUMIFS(Deviation_Limits!$I$24:$I$1300,Deviation_Limits!$B$24:$B$1300,$B27,Deviation_Limits!$C$24:$C$1300,$C27,Deviation_Limits!$D$24:$D$1300,$D27,Deviation_Limits!$J$24:$J$1300,\"Other Unknown Causes\"))","v":""}]
[null,{"$f":"IF(Lists!AU6=\"\",\"\",Lists!AU6)","v":""},{"$f":"IF(Lists!AV6=\"\",\"\",Lists!AV6)","v":""},{"$f":"IF(Lists!AW6=\"\",\"\",Lists!AW6)","v":""},null,{"$f":"IF(E28=\"\",\"\",SUMIFS(Deviation_Limits!$I$24:$I$1300,Deviation_Limits!$B$24:$B$1300,$B28,Deviation_Limits!$C$24:$C$1300,$C28,Deviation_Limits!$D$24:$D$1300,$D28))","v":""},"",{"$f":"IF($E28=\"\",\"\",SUMIFS(Deviation_Limits!$I$24:$I$1300,Deviation_Limits!$B$24:$B$1300,$B28,Deviation_Limits!$C$24:$C$1300,$C28,Deviation_Limits!$D$24:$D$1300,$D28,Deviation_Limits!$J$24:$J$1300,\"Control Equipment Problems\"))","v":""},{"$f":"IF($E28=\"\",\"\",SUMIFS(Deviation_Limits!$I$24:$I$1300,Deviation_Limits!$B$24:$B$1300,$B28,Deviation_Limits!$C$24:$C$1300,$C28,Deviation_Limits!$D$24:$D$1300,$D28,Deviation_Limits!$J$24:$J$1300,\"Process Problems\"))","v":""},{"$f":"IF($E28=\"\",\"\",SUMIFS(Deviation_Limits!$I$24:$I$1300,Deviation_Limits!$B$24:$B$1300,$B28,Deviation_Limits!$C$24:$C$1300,$C28,Deviation_Limits!$D$24:$D$1300,$D28,Deviation_Limits!$J$24:$J$1300,\"Other Known Causes\"))","v":""},{"$f":"IF($E28=\"\",\"\",SUMIFS(Deviation_Limits!$I$24:$I$1300,Deviation_Limits!$B$24:$B$1300,$B28,Deviation_Limits!$C$24:$C$1300,$C28,Deviation_Limits!$D$24:$D$1300,$D28,Deviation_Limits!$J$24:$J$1300,\"Other Unknown Causes\"))","v":""}]
[null,{"$f":"IF(Lists!AU7=\"\",\"\",Lists!AU7)","v":""},{"$f":"IF(Lists!AV7=\"\",\"\",Lists!AV7)","v":""},{"$f":"IF(Lists!AW7=\"\",\"\",Lists!AW7)","v":""},null,{"$f":"IF(E29=\"\",\"\",SUMIFS(Deviation_Limits!$I$24:$I$1300,Deviation_Limits!$B$24:$B$1300,$B29,Deviation_Limits!$C$24:$C$1300,$C29,Deviation_Limits!$D$24:$D$1300,$D29))","v":""},"",{"$f":"IF($E29=\"\",\"\",SUMIFS(Deviation_Limits!$I$24:$I$1300,Deviation_Limits!$B$24:$B$1300,$B29,Deviation_Limits!$C$24:$C$1300,$C29,Deviation_Limits!$D$24:$D$1300,$D29,Deviation_Limits!$J$24:$J$1300,\"Control Equipment Problems\"))","v":""},{"$f":"IF($E29=\"\",\"\",SUMIFS(Deviation_Limits!$I$24:$I$1300,Deviation_Limits!$B$24:$B$1300,$B29,Deviation_Limits!$C$24:$C$1300,$C29,Deviation_Limits!$D$24:$D$1300,$D29,Deviation_Limits!$J$24:$J$1300,\"Process Problems\"))","v":""},{"$f":"IF($E29=\"\",\"\",SUMIFS(Deviation_Limits!$I$24:$I$1300,Deviation_Limits!$B$24:$B$1300,$B29,Deviation_Limits!$C$24:$C$1300,$C29,Deviation_Limits!$D$24:$D$1300,$D29,Deviation_Limits!$J$24:$J$1300,\"Other Known Causes\"))","v":""},{"$f":"IF($E29=\"\",\"\",SUMIFS(Deviation_Limits!$I$24:$I$1300,Deviation_Limits!$B$24:$B$1300,$B29,Deviation_Limits!$C$24:$C$1300,$C29,Deviation_Limits!$D$24:$D$1300,$D29,Deviation_Limits!$J$24:$J$1300,\"Other Unknown Causes\"))","v":""}]
[null,{"$f":"IF(Lists!AU8=\"\",\"\",Lists!AU8)","v":""},{"$f":"IF(Lists!AV8=\"\",\"\",Lists!AV8)","v":""},{"$f":"IF(Lists!AW8=\"\",\"\",Lists!AW8)","v":""},null,{"$f":"IF(E30=\"\",\"\",SUMIFS(Deviation_Limits!$I$24:$I$1300,Deviation_Limits!$B$24:$B$1300,$B30,Deviation_Limits!$C$24:$C$1300,$C30,Deviation_Limits!$D$24:$D$1300,$D30))","v":""},"",{"$f":"IF($E30=\"\",\"\",SUMIFS(Deviation_Limits!$I$24:$I$1300,Deviation_Limits!$B$24:$B$1300,$B30,Deviation_Limits!$C$24:$C$1300,$C30,Deviation_Limits!$D$24:$D$1300,$D30,Deviation_Limits!$J$24:$J$1300,\"Control Equipment Problems\"))","v":""},{"$f":"IF($E30=\"\",\"\",SUMIFS(Deviation_Limits!$I$24:$I$1300,Deviation_Limits!$B$24:$B$1300,$B30,Deviation_Limits!$C$24:$C$1300,$C30,Deviation_Limits!$D$24:$D$1300,$D30,Deviation_Limits!$J$24:$J$1300,\"Process Problems\"))","v":""},{"$f":"IF($E30=\"\",\"\",SUMIFS(Deviation_Limits!$I$24:$I$1300,Deviation_Limits!$B$24:$B$1300,$B30,Deviation_Limits!$C$24:$C$1300,$C30,Deviation_Limits!$D$24:$D$1300,$D30,Deviation_Limits!$J$24:$J$1300,\"Other Known Causes\"))","v":""},{"$f":"IF($E30=\"\",\"\",SUMIFS(Deviation_Limits!$I$24:$I$1300,Deviation_Limits!$B$24:$B$1300,$B30,Deviation_Limits!$C$24:$C$1300,$C30,Deviation_Limits!$D$24:$D$1300,$D30,Deviation_Limits!$J$24:$J$1300,\"Other Unknown Causes\"))","v":""}]
[null,{"$f":"IF(Lists!AU9=\"\",\"\",Lists!AU9)","v":""},{"$f":"IF(Lists!AV9=\"\",\"\",Lists!AV9)","v":""},{"$f":"IF(Lists!AW9=\"\",\"\",Lists!AW9)","v":""},null,{"$f":"IF(E31=\"\",\"\",SUMIFS(Deviation_Limits!$I$24:$I$1300,Deviation_Limits!$B$24:$B$1300,$B31,Deviation_Limits!$C$24:$C$1300,$C31,Deviation_Limits!$D$24:$D$1300,$D31))","v":""},"",{"$f":"IF($E31=\"\",\"\",SUMIFS(Deviation_Limits!$I$24:$I$1300,Deviation_Limits!$B$24:$B$1300,$B31,Deviation_Limits!$C$24:$C$1300,$C31,Deviation_Limits!$D$24:$D$1300,$D31,Deviation_Limits!$J$24:$J$1300,\"Control Equipment Problems\"))","v":""},{"$f":"IF($E31=\"\",\"\",SUMIFS(Deviation_Limits!$I$24:$I$1300,Deviation_Limits!$B$24:$B$1300,$B31,Deviation_Limits!$C$24:$C$1300,$C31,Deviation_Limits!$D$24:$D$1300,$D31,Deviation_Limits!$J$24:$J$1300,\"Process Problems\"))","v":""},{"$f":"IF($E31=\"\",\"\",SUMIFS(Deviation_Limits!$I$24:$I$1300,Deviation_Limits!$B$24:$B$1300,$B31,Deviation_Limits!$C$24:$C$1300,$C31,Deviation_Limits!$D$24:$D$1300,$D31,Deviation_Limits!$J$24:$J$1300,\"Other Known Causes\"))","v":""},{"$f":"IF($E31=\"\",\"\",SUMIFS(Deviation_Limits!$I$24:$I$1300,Deviation_Limits!$B$24:$B$1300,$B31,Deviation_Limits!$C$24:$C$1300,$C31,Deviation_Limits!$D$24:$D$1300,$D31,Deviation_Limits!$J$24:$J$1300,\"Other Unknown Causes\"))","v":""}]
[null,{"$f":"IF(Lists!AU10=\"\",\"\",Lists!AU10)","v":""},{"$f":"IF(Lists!AV10=\"\",\"\",Lists!AV10)","v":""},{"$f":"IF(Lists!AW10=\"\",\"\",Lists!AW10)","v":""},null,{"$f":"IF(E32=\"\",\"\",SUMIFS(Deviation_Limits!$I$24:$I$1300,Deviation_Limits!$B$24:$B$1300,$B32,Deviation_Limits!$C$24:$C$1300,$C32,Deviation_Limits!$D$24:$D$1300,$D32))","v":""},"",{"$f":"IF($E32=\"\",\"\",SUMIFS(Deviation_Limits!$I$24:$I$1300,Deviation_Limits!$B$24:$B$1300,$B32,Deviation_Limits!$C$24:$C$1300,$C32,Deviation_Limits!$D$24:$D$1300,$D32,Deviation_Limits!$J$24:$J$1300,\"Control Equipment Problems\"))","v":""},{"$f":"IF($E32=\"\",\"\",SUMIFS(Deviation_Limits!$I$24:$I$1300,Deviation_Limits!$B$24:$B$1300,$B32,Deviation_Limits!$C$24:$C$1300,$C32,Deviation_Limits!$D$24:$D$1300,$D32,Deviation_Limits!$J$24:$J$1300,\"Process Problems\"))","v":""},{"$f":"IF($E32=\"\",\"\",SUMIFS(Deviation_Limits!$I$24:$I$1300,Deviation_Limits!$B$24:$B$1300,$B32,Deviation_Limits!$C$24:$C$1300,$C32,Deviation_Limits!$D$24:$D$1300,$D32,Deviation_Limits!$J$24:$J$1300,\"Other Known Causes\"))","v":""},{"$f":"IF($E32=\"\",\"\",SUMIFS(Deviation_Limits!$I$24:$I$1300,Deviation_Limits!$B$24:$B$1300,$B32,Deviation_Limits!$C$24:$C$1300,$C32,Deviation_Limits!$D$24:$D$1300,$D32,Deviation_Limits!$J$24:$J$1300,\"Other Unknown Causes\"))","v":""}]
[null,{"$f":"IF(Lists!AU11=\"\",\"\",Lists!AU11)","v":""},{"$f":"IF(Lists!AV11=\"\",\"\",Lists!AV11)","v":""},{"$f":"IF(Lists!AW11=\"\",\"\",Lists!AW11)","v":""},null,{"$f":"IF(E33=\"\",\"\",SUMIFS(Deviation_Limits!$I$24:$I$1300,Deviation_Limits!$B$24:$B$1300,$B33,Deviation_Limits!$C$24:$C$1300,$C33,Deviation_Limits!$D$24:$D$1300,$D33))","v":""},"",{"$f":"IF($E33=\"\",\"\",SUMIFS(Deviation_Limits!$I$24:$I$1300,Deviation_Limits!$B$24:$B$1300,$B33,Deviation_Limits!$C$24:$C$1300,$C33,Deviation_Limits!$D$24:$D$1300,$D33,Deviation_Limits!$J$24:$J$1300,\"Control Equipment Problems\"))","v":""},{"$f":"IF($E33=\"\",\"\",SUMIFS(Deviation_Limits!$I$24:$I$1300,Deviation_Limits!$B$24:$B$1300,$B33,Deviation_Limits!$C$24:$C$1300,$C33,Deviation_Limits!$D$24:$D$1300,$D33,Deviation_Limits!$J$24:$J$1300,\"Process Problems\"))","v":""},{"$f":"IF($E33=\"\",\"\",SUMIFS(Deviation_Limits!$I$24:$I$1300,Deviation_Limits!$B$24:$B$1300,$B33,Deviation_Limits!$C$24:$C$1300,$C33,Deviation_Limits!$D$24:$D$1300,$D33,Deviation_Limits!$J$24:$J$1300,\"Other Known Causes\"))","v":""},{"$f":"IF($E33=\"\",\"\",SUMIFS(Deviation_Limits!$I$24:$I$1300,Deviation_Limits!$B$24:$B$1300,$B33,Deviation_Limits!$C$24:$C$1300,$C33,Deviation_Limits!$D$24:$D$1300,$D33,Deviation_Limits!$J$24:$J$1300,\"Other Unknown Causes\"))","v":""}]
[null,{"$f":"IF(Lists!AU12=\"\",\"\",Lists!AU12)","v":""},{"$f":"IF(Lists!AV12=\"\",\"\",Lists!AV12)","v":""},{"$f":"IF(Lists!AW12=\"\",\"\",Lists!AW12)","v":""},null,{"$f":"IF(E34=\"\",\"\",SUMIFS(Deviation_Limits!$I$24:$I$1300,Deviation_Limits!$B$24:$B$1300,$B34,Deviation_Limits!$C$24:$C$1300,$C34,Deviation_Limits!$D$24:$D$1300,$D34))","v":""},"",{"$f":"IF($E34=\"\",\"\",SUMIFS(Deviation_Limits!$I$24:$I$1300,Deviation_Limits!$B$24:$B$1300,$B34,Deviation_Limits!$C$24:$C$1300,$C34,Deviation_Limits!$D$24:$D$1300,$D34,Deviation_Limits!$J$24:$J$1300,\"Control Equipment Problems\"))","v":""},{"$f":"IF($E34=\"\",\"\",SUMIFS(Deviation_Limits!$I$24:$I$1300,Deviation_Limits!$B$24:$B$1300,$B34,Deviation_Limits!$C$24:$C$1300,$C34,Deviation_Limits!$D$24:$D$1300,$D34,Deviation_Limits!$J$24:$J$1300,\"Process Problems\"))","v":""},{"$f":"IF($E34=\"\",\"\",SUMIFS(Deviation_Limits!$I$24:$I$1300,Deviation_Limits!$B$24:$B$1300,$B34,Deviation_Limits!$C$24:$C$1300,$C34,Deviation_Limits!$D$24:$D$1300,$D34,Deviation_Limits!$J$24:$J$1300,\"Other Known Causes\"))","v":""},{"$f":"IF($E34=\"\",\"\",SUMIFS(Deviation_Limits!$I$24:$I$1300,Deviation_Limits!$B$24:$B$1300,$B34,Deviation_Limits!$C$24:$C$1300,$C34,Deviation_Limits!$D$24:$D$1300,$D34,Deviation_Limits!$J$24:$J$1300,\"Other Unknown Causes\"))","v":""}]
[null,{"$f":"IF(Lists!AU13=\"\",\"\",Lists!AU13)","v":""},{"$f":"IF(Lists!AV13=\"\",\"\",Lists!AV13)","v":""},{"$f":"IF(Lists!AW13=\"\",\"\",Lists!AW13)","v":""},null,{"$f":"IF(E35=\"\",\"\",SUMIFS(Deviation_Limits!$I$24:$I$1300,Deviation_Limits!$B$24:$B$1300,$B35,Deviation_Limits!$C$24:$C$1300,$C35,Deviation_Limits!$D$24:$D$1300,$D35))","v":""},"",{"$f":"IF($E35=\"\",\"\",SUMIFS(Deviation_Limits!$I$24:$I$1300,Deviation_Limits!$B$24:$B$1300,$B35,Deviation_Limits!$C$24:$C$1300,$C35,Deviation_Limits!$D$24:$D$1300,$D35,Deviation_Limits!$J$24:$J$1300,\"Control Equipment Problems\"))","v":""},{"$f":"IF($E35=\"\",\"\",SUMIFS(Deviation_Limits!$I$24:$I$1300,Deviation_Limits!$B$24:$B$1300,$B35,Deviation_Limits!$C$24:$C$1300,$C35,Deviation_Limits!$D$24:$D$1300,$D35,Deviation_Limits!$J$24:$J$1300,\"Process Problems\"))","v":""},{"$f":"IF($E35=\"\",\"\",SUMIFS(Deviation_Limits!$I$24:$I$1300,Deviation_Limits!$B$24:$B$1300,$B35,Deviation_Limits!$C$24:$C$1300,$C35,Deviation_Limits!$D$24:$D$1300,$D35,Deviation_Limits!$J$24:$J$1300,\"Other Known Causes\"))","v":""},{"$f":"IF($E35=\"\",\"\",SUMIFS(Deviation_Limits!$I$24:$I$1300,Deviation_Limits!$B$24:$B$1300,$B35,Deviation_Limits!$C$24:$C$1300,$C35,Deviation_Limits!$D$24:$D$1300,$D35,Deviation_Limits!$J$24:$J$1300,\"Other Unknown Causes\"))","v":""}]
[null,{"$f":"IF(Lists!AU14=\"\",\"\",Lists!AU14)","v":""},{"$f":"IF(Lists!AV14=\"\",\"\",Lists!AV14)","v":""},{"$f":"IF(Lists!AW14=\"\",\"\",Lists!AW14)","v":""},null,{"$f":"IF(E36=\"\",\"\",SUMIFS(Deviation_Limits!$I$24:$I$1300,Deviation_Limits!$B$24:$B$1300,$B36,Deviation_Limits!$C$24:$C$1300,$C36,Deviation_Limits!$D$24:$D$1300,$D36))","v":""},"",{"$f":"IF($E36=\"\",\"\",SUMIFS(Deviation_Limits!$I$24:$I$1300,Deviation_Limits!$B$24:$B$1300,$B36,Deviation_Limits!$C$24:$C$1300,$C36,Deviation_Limits!$D$24:$D$1300,$D36,Deviation_Limits!$J$24:$J$1300,\"Control Equipment Problems\"))","v":""},{"$f":"IF($E36=\"\",\"\",SUMIFS(Deviation_Limits!$I$24:$I$1300,Deviation_Limits!$B$24:$B$1300,$B36,Deviation_Limits!$C$24:$C$1300,$C36,Deviation_Limits!$D$24:$D$1300,$D36,Deviation_Limits!$J$24:$J$1300,\"Process Problems\"))","v":""},{"$f":"IF($E36=\"\",\"\",SUMIFS(Deviation_Limits!$I$24:$I$1300,Deviation_Limits!$B$24:$B$1300,$B36,Deviation_Limits!$C$24:$C$1300,$C36,Deviation_Limits!$D$24:$D$1300,$D36,Deviation_Limits!$J$24:$J$1300,\"Other Known Causes\"))","v":""},{"$f":"IF($E36=\"\",\"\",SUMIFS(Deviation_Limits!$I$24:$I$1300,Deviation_Limits!$B$24:$B$1300,$B36,Deviation_Limits!$C$24:$C$1300,$C36,Deviation_Limits!$D$24:$D$1300,$D36,Deviation_Limits!$J$24:$J$1300,\"Other Unknown Causes\"))","v":""}]
[null,{"$f":"IF(Lists!AU15=\"\",\"\",Lists!AU15)","v":""},{"$f":"IF(Lists!AV15=\"\",\"\",Lists!AV15)","v":""},{"$f":"IF(Lists!AW15=\"\",\"\",Lists!AW15)","v":""},null,{"$f":"IF(E37=\"\",\"\",SUMIFS(Deviation_Limits!$I$24:$I$1300,Deviation_Limits!$B$24:$B$1300,$B37,Deviation_Limits!$C$24:$C$1300,$C37,Deviation_Limits!$D$24:$D$1300,$D37))","v":""},"",{"$f":"IF($E37=\"\",\"\",SUMIFS(Deviation_Limits!$I$24:$I$1300,Deviation_Limits!$B$24:$B$1300,$B37,Deviation_Limits!$C$24:$C$1300,$C37,Deviation_Limits!$D$24:$D$1300,$D37,Deviation_Limits!$J$24:$J$1300,\"Control Equipment Problems\"))","v":""},{"$f":"IF($E37=\"\",\"\",SUMIFS(Deviation_Limits!$I$24:$I$1300,Deviation_Limits!$B$24:$B$1300,$B37,Deviation_Limits!$C$24:$C$1300,$C37,Deviation_Limits!$D$24:$D$1300,$D37,Deviation_Limits!$J$24:$J$1300,\"Process Problems\"))","v":""},{"$f":"IF($E37=\"\",\"\",SUMIFS(Deviation_Limits!$I$24:$I$1300,Deviation_Limits!$B$24:$B$1300,$B37,Deviation_Limits!$C$24:$C$1300,$C37,Deviation_Limits!$D$24:$D$1300,$D37,Deviation_Limits!$J$24:$J$1300,\"Other Known Causes\"))","v":""},{"$f":"IF($E37=\"\",\"\",SUMIFS(Deviation_Limits!$I$24:$I$1300,Deviation_Limits!$B$24:$B$1300,$B37,Deviation_Limits!$C$24:$C$1300,$C37,Deviation_Limits!$D$24:$D$1300,$D37,Deviation_Limits!$J$24:$J$1300,\"Other Unknown Causes\"))","v":""}]
[null,{"$f":"IF(Lists!AU16=\"\",\"\",Lists!AU16)","v":""},{"$f":"IF(Lists!AV16=\"\",\"\",Lists!AV16)","v":""},{"$f":"IF(Lists!AW16=\"\",\"\",Lists!AW16)","v":""},null,{"$f":"IF(E38=\"\",\"\",SUMIFS(Deviation_Limits!$I$24:$I$1300,Deviation_Limits!$B$24:$B$1300,$B38,Deviation_Limits!$C$24:$C$1300,$C38,Deviation_Limits!$D$24:$D$1300,$D38))","v":""},"",{"$f":"IF($E38=\"\",\"\",SUMIFS(Deviation_Limits!$I$24:$I$1300,Deviation_Limits!$B$24:$B$1300,$B38,Deviation_Limits!$C$24:$C$1300,$C38,Deviation_Limits!$D$24:$D$1300,$D38,Deviation_Limits!$J$24:$J$1300,\"Control Equipment Problems\"))","v":""},{"$f":"IF($E38=\"\",\"\",SUMIFS(Deviation_Limits!$I$24:$I$1300,Deviation_Limits!$B$24:$B$1300,$B38,Deviation_Limits!$C$24:$C$1300,$C38,Deviation_Limits!$D$24:$D$1300,$D38,Deviation_Limits!$J$24:$J$1300,\"Process Problems\"))","v":""},{"$f":"IF($E38=\"\",\"\",SUMIFS(Deviation_Limits!$I$24:$I$1300,Deviation_Limits!$B$24:$B$1300,$B38,Deviation_Limits!$C$24:$C$1300,$C38,Deviation_Limits!$D$24:$D$1300,$D38,Deviation_Limits!$J$24:$J$1300,\"Other Known Causes\"))","v":""},{"$f":"IF($E38=\"\",\"\",SUMIFS(Deviation_Limits!$I$24:$I$1300,Deviation_Limits!$B$24:$B$1300,$B38,Deviation_Limits!$C$24:$C$1300,$C38,Deviation_Limits!$D$24:$D$1300,$D38,Deviation_Limits!$J$24:$J$1300,\"Other Unknown Causes\"))","v":""}]
[null,{"$f":"IF(Lists!AU17=\"\",\"\",Lists!AU17)","v":""},{"$f":"IF(Lists!AV17=\"\",\"\",Lists!AV17)","v":""},{"$f":"IF(Lists!AW17=\"\",\"\",Lists!AW17)","v":""},null,{"$f":"IF(E39=\"\",\"\",SUMIFS(Deviation_Limits!$I$24:$I$1300,Deviation_Limits!$B$24:$B$1300,$B39,Deviation_Limits!$C$24:$C$1300,$C39,Deviation_Limits!$D$24:$D$1300,$D39))","v":""},"",{"$f":"IF($E39=\"\",\"\",SUMIFS(Deviation_Limits!$I$24:$I$1300,Deviation_Limits!$B$24:$B$1300,$B39,Deviation_Limits!$C$24:$C$1300,$C39,Deviation_Limits!$D$24:$D$1300,$D39,Deviation_Limits!$J$24:$J$1300,\"Control Equipment Problems\"))","v":""},{"$f":"IF($E39=\"\",\"\",SUMIFS(Deviation_Limits!$I$24:$I$1300,Deviation_Limits!$B$24:$B$1300,$B39,Deviation_Limits!$C$24:$C$1300,$C39,Deviation_Limits!$D$24:$D$1300,$D39,Deviation_Limits!$J$24:$J$1300,\"Process Problems\"))","v":""},{"$f":"IF($E39=\"\",\"\",SUMIFS(Deviation_Limits!$I$24:$I$1300,Deviation_Limits!$B$24:$B$1300,$B39,Deviation_Limits!$C$24:$C$1300,$C39,Deviation_Limits!$D$24:$D$1300,$D39,Deviation_Limits!$J$24:$J$1300,\"Other Known Causes\"))","v":""},{"$f":"IF($E39=\"\",\"\",SUMIFS(Deviation_Limits!$I$24:$I$1300,Deviation_Limits!$B$24:$B$1300,$B39,Deviation_Limits!$C$24:$C$1300,$C39,Deviation_Limits!$D$24:$D$1300,$D39,Deviation_Limits!$J$24:$J$1300,\"Other Unknown Causes\"))","v":""}]
[null,{"$f":"IF(Lists!AU18=\"\",\"\",Lists!AU18)","v":""},{"$f":"IF(Lists!AV18=\"\",\"\",Lists!AV18)","v":""},{"$f":"IF(Lists!AW18=\"\",\"\",Lists!AW18)","v":""},null,{"$f":"IF(E40=\"\",\"\",SUMIFS(Deviation_Limits!$I$24:$I$1300,Deviation_Limits!$B$24:$B$1300,$B40,Deviation_Limits!$C$24:$C$1300,$C40,Deviation_Limits!$D$24:$D$1300,$D40))","v":""},"",{"$f":"IF($E40=\"\",\"\",SUMIFS(Deviation_Limits!$I$24:$I$1300,Deviation_Limits!$B$24:$B$1300,$B40,Deviation_Limits!$C$24:$C$1300,$C40,Deviation_Limits!$D$24:$D$1300,$D40,Deviation_Limits!$J$24:$J$1300,\"Control Equipment Problems\"))","v":""},{"$f":"IF($E40=\"\",\"\",SUMIFS(Deviation_Limits!$I$24:$I$1300,Deviation_Limits!$B$24:$B$1300,$B40,Deviation_Limits!$C$24:$C$1300,$C40,Deviation_Limits!$D$24:$D$1300,$D40,Deviation_Limits!$J$24:$J$1300,\"Process Problems\"))","v":""},{"$f":"IF($E40=\"\",\"\",SUMIFS(Deviation_Limits!$I$24:$I$1300,Deviation_Limits!$B$24:$B$1300,$B40,Deviation_Limits!$C$24:$C$1300,$C40,Deviation_Limits!$D$24:$D$1300,$D40,Deviation_Limits!$J$24:$J$1300,\"Other Known Causes\"))","v":""},{"$f":"IF($E40=\"\",\"\",SUMIFS(Deviation_Limits!$I$24:$I$1300,Deviation_Limits!$B$24:$B$1300,$B40,Deviation_Limits!$C$24:$C$1300,$C40,Deviation_Limits!$D$24:$D$1300,$D40,Deviation_Limits!$J$24:$J$1300,\"Other Unknown Causes\"))","v":""}]
[null,{"$f":"IF(Lists!AU19=\"\",\"\",Lists!AU19)","v":""},{"$f":"IF(Lists!AV19=\"\",\"\",Lists!AV19)","v":""},{"$f":"IF(Lists!AW19=\"\",\"\",Lists!AW19)","v":""},null,{"$f":"IF(E41=\"\",\"\",SUMIFS(Deviation_Limits!$I$24:$I$1300,Deviation_Limits!$B$24:$B$1300,$B41,Deviation_Limits!$C$24:$C$1300,$C41,Deviation_Limits!$D$24:$D$1300,$D41))","v":""},"",{"$f":"IF($E41=\"\",\"\",SUMIFS(Deviation_Limits!$I$24:$I$1300,Deviation_Limits!$B$24:$B$1300,$B41,Deviation_Limits!$C$24:$C$1300,$C41,Deviation_Limits!$D$24:$D$1300,$D41,Deviation_Limits!$J$24:$J$1300,\"Control Equipment Problems\"))","v":""},{"$f":"IF($E41=\"\",\"\",SUMIFS(Deviation_Limits!$I$24:$I$1300,Deviation_Limits!$B$24:$B$1300,$B41,Deviation_Limits!$C$24:$C$1300,$C41,Deviation_Limits!$D$24:$D$1300,$D41,Deviation_Limits!$J$24:$J$1300,\"Process Problems\"))","v":""},{"$f":"IF($E41=\"\",\"\",SUMIFS(Deviation_Limits!$I$24:$I$1300,Deviation_Limits!$B$24:$B$1300,$B41,Deviation_Limits!$C$24:$C$1300,$C41,Deviation_Limits!$D$24:$D$1300,$D41,Deviation_Limits!$J$24:$J$1300,\"Other Known Causes\"))","v":""},{"$f":"IF($E41=\"\",\"\",SUMIFS(Deviation_Limits!$I$24:$I$1300,Deviation_Limits!$B$24:$B$1300,$B41,Deviation_Limits!$C$24:$C$1300,$C41,Deviation_Limits!$D$24:$D$1300,$D41,Deviation_Limits!$J$24:$J$1300,\"Other Unknown Causes\"))","v":""}]
[null,{"$f":"IF(Lists!AU20=\"\",\"\",Lists!AU20)","v":""},{"$f":"IF(Lists!AV20=\"\",\"\",Lists!AV20)","v":""},{"$f":"IF(Lists!AW20=\"\",\"\",Lists!AW20)","v":""},null,{"$f":"IF(E42=\"\",\"\",SUMIFS(Deviation_Limits!$I$24:$I$1300,Deviation_Limits!$B$24:$B$1300,$B42,Deviation_Limits!$C$24:$C$1300,$C42,Deviation_Limits!$D$24:$D$1300,$D42))","v":""},"",{"$f":"IF($E42=\"\",\"\",SUMIFS(Deviation_Limits!$I$24:$I$1300,Deviation_Limits!$B$24:$B$1300,$B42,Deviation_Limits!$C$24:$C$1300,$C42,Deviation_Limits!$D$24:$D$1300,$D42,Deviation_Limits!$J$24:$J$1300,\"Control Equipment Problems\"))","v":""},{"$f":"IF($E42=\"\",\"\",SUMIFS(Deviation_Limits!$I$24:$I$1300,Deviation_Limits!$B$24:$B$1300,$B42,Deviation_Limits!$C$24:$C$1300,$C42,Deviation_Limits!$D$24:$D$1300,$D42,Deviation_Limits!$J$24:$J$1300,\"Process Problems\"))","v":""},{"$f":"IF($E42=\"\",\"\",SUMIFS(Deviation_Limits!$I$24:$I$1300,Deviation_Limits!$B$24:$B$1300,$B42,Deviation_Limits!$C$24:$C$1300,$C42,Deviation_Limits!$D$24:$D$1300,$D42,Deviation_Limits!$J$24:$J$1300,\"Other Known Causes\"))","v":""},{"$f":"IF($E42=\"\",\"\",SUMIFS(Deviation_Limits!$I$24:$I$1300,Deviation_Limits!$B$24:$B$1300,$B42,Deviation_Limits!$C$24:$C$1300,$C42,Deviation_Limits!$D$24:$D$1300,$D42,Deviation_Limits!$J$24:$J$1300,\"Other Unknown Causes\"))","v":""}]
[null,{"$f":"IF(Lists!AU21=\"\",\"\",Lists!AU21)","v":""},{"$f":"IF(Lists!AV21=\"\",\"\",Lists!AV21)","v":""},{"$f":"IF(Lists!AW21=\"\",\"\",Lists!AW21)","v":""},null,{"$f":"IF(E43=\"\",\"\",SUMIFS(Deviation_Limits!$I$24:$I$1300,Deviation_Limits!$B$24:$B$1300,$B43,Deviation_Limits!$C$24:$C$1300,$C43,Deviation_Limits!$D$24:$D$1300,$D43))","v":""},"",{"$f":"IF($E43=\"\",\"\",SUMIFS(Deviation_Limits!$I$24:$I$1300,Deviation_Limits!$B$24:$B$1300,$B43,Deviation_Limits!$C$24:$C$1300,$C43,Deviation_Limits!$D$24:$D$1300,$D43,Deviation_Limits!$J$24:$J$1300,\"Control Equipment Problems\"))","v":""},{"$f":"IF($E43=\"\",\"\",SUMIFS(Deviation_Limits!$I$24:$I$1300,Deviation_Limits!$B$24:$B$1300,$B43,Deviation_Limits!$C$24:$C$1300,$C43,Deviation_Limits!$D$24:$D$1300,$D43,Deviation_Limits!$J$24:$J$1300,\"Process Problems\"))","v":""},{"$f":"IF($E43=\"\",\"\",SUMIFS(Deviation_Limits!$I$24:$I$1300,Deviation_Limits!$B$24:$B$1300,$B43,Deviation_Limits!$C$24:$C$1300,$C43,Deviation_Limits!$D$24:$D$1300,$D43,Deviation_Limits!$J$24:$J$1300,\"Other Known Causes\"))","v":""},{"$f":"IF($E43=\"\",\"\",SUMIFS(Deviation_Limits!$I$24:$I$1300,Deviation_Limits!$B$24:$B$1300,$B43,Deviation_Limits!$C$24:$C$1300,$C43,Deviation_Limits!$D$24:$D$1300,$D43,Deviation_Limits!$J$24:$J$1300,\"Other Unknown Causes\"))","v":""}]
[null,{"$f":"IF(Lists!AU22=\"\",\"\",Lists!AU22)","v":""},{"$f":"IF(Lists!AV22=\"\",\"\",Lists!AV22)","v":""},{"$f":"IF(Lists!AW22=\"\",\"\",Lists!AW22)","v":""},null,{"$f":"IF(E44=\"\",\"\",SUMIFS(Deviation_Limits!$I$24:$I$1300,Deviation_Limits!$B$24:$B$1300,$B44,Deviation_Limits!$C$24:$C$1300,$C44,Deviation_Limits!$D$24:$D$1300,$D44))","v":""},"",{"$f":"IF($E44=\"\",\"\",SUMIFS(Deviation_Limits!$I$24:$I$1300,Deviation_Limits!$B$24:$B$1300,$B44,Deviation_Limits!$C$24:$C$1300,$C44,Deviation_Limits!$D$24:$D$1300,$D44,Deviation_Limits!$J$24:$J$1300,\"Control Equipment Problems\"))","v":""},{"$f":"IF($E44=\"\",\"\",SUMIFS(Deviation_Limits!$I$24:$I$1300,Deviation_Limits!$B$24:$B$1300,$B44,Deviation_Limits!$C$24:$C$1300,$C44,Deviation_Limits!$D$24:$D$1300,$D44,Deviation_Limits!$J$24:$J$1300,\"Process Problems\"))","v":""},{"$f":"IF($E44=\"\",\"\",SUMIFS(Deviation_Limits!$I$24:$I$1300,Deviation_Limits!$B$24:$B$1300,$B44,Deviation_Limits!$C$24:$C$1300,$C44,Deviation_Limits!$D$24:$D$1300,$D44,Deviation_Limits!$J$24:$J$1300,\"Other Known Causes\"))","v":""},{"$f":"IF($E44=\"\",\"\",SUMIFS(Deviation_Limits!$I$24:$I$1300,Deviation_Limits!$B$24:$B$1300,$B44,Deviation_Limits!$C$24:$C$1300,$C44,Deviation_Limits!$D$24:$D$1300,$D44,Deviation_Limits!$J$24:$J$1300,\"Other Unknown Causes\"))","v":""}]
[null,{"$f":"IF(Lists!AU23=\"\",\"\",Lists!AU23)","v":""},{"$f":"IF(Lists!AV23=\"\",\"\",Lists!AV23)","v":""},{"$f":"IF(Lists!AW23=\"\",\"\",Lists!AW23)","v":""},null,{"$f":"IF(E45=\"\",\"\",SUMIFS(Deviation_Limits!$I$24:$I$1300,Deviation_Limits!$B$24:$B$1300,$B45,Deviation_Limits!$C$24:$C$1300,$C45,Deviation_Limits!$D$24:$D$1300,$D45))","v":""},"",{"$f":"IF($E45=\"\",\"\",SUMIFS(Deviation_Limits!$I$24:$I$1300,Deviation_Limits!$B$24:$B$1300,$B45,Deviation_Limits!$C$24:$C$1300,$C45,Deviation_Limits!$D$24:$D$1300,$D45,Deviation_Limits!$J$24:$J$1300,\"Control Equipment Problems\"))","v":""},{"$f":"IF($E45=\"\",\"\",SUMIFS(Deviation_Limits!$I$24:$I$1300,Deviation_Limits!$B$24:$B$1300,$B45,Deviation_Limits!$C$24:$C$1300,$C45,Deviation_Limits!$D$24:$D$1300,$D45,Deviation_Limits!$J$24:$J$1300,\"Process Problems\"))","v":""},{"$f":"IF($E45=\"\",\"\",SUMIFS(Deviation_Limits!$I$24:$I$1300,Deviation_Limits!$B$24:$B$1300,$B45,Deviation_Limits!$C$24:$C$1300,$C45,Deviation_Limits!$D$24:$D$1300,$D45,Deviation_Limits!$J$24:$J$1300,\"Other Known Causes\"))","v":""},{"$f":"IF($E45=\"\",\"\",SUMIFS(Deviation_Limits!$I$24:$I$1300,Deviation_Limits!$B$24:$B$1300,$B45,Deviation_Limits!$C$24:$C$1300,$C45,Deviation_Limits!$D$24:$D$1300,$D45,Deviation_Limits!$J$24:$J$1300,\"Other Unknown Causes\"))","v":""}]
[null,{"$f":"IF(Lists!AU24=\"\",\"\",Lists!AU24)","v":""},{"$f":"IF(Lists!AV24=\"\",\"\",Lists!AV24)","v":""},{"$f":"IF(Lists!AW24=\"\",\"\",Lists!AW24)","v":""},null,{"$f":"IF(E46=\"\",\"\",SUMIFS(Deviation_Limits!$I$24:$I$1300,Deviation_Limits!$B$24:$B$1300,$B46,Deviation_Limits!$C$24:$C$1300,$C46,Deviation_Limits!$D$24:$D$1300,$D46))","v":""},"",{"$f":"IF($E46=\"\",\"\",SUMIFS(Deviation_Limits!$I$24:$I$1300,Deviation_Limits!$B$24:$B$1300,$B46,Deviation_Limits!$C$24:$C$1300,$C46,Deviation_Limits!$D$24:$D$1300,$D46,Deviation_Limits!$J$24:$J$1300,\"Control Equipment Problems\"))","v":""},{"$f":"IF($E46=\"\",\"\",SUMIFS(Deviation_Limits!$I$24:$I$1300,Deviation_Limits!$B$24:$B$1300,$B46,Deviation_Limits!$C$24:$C$1300,$C46,Deviation_Limits!$D$24:$D$1300,$D46,Deviation_Limits!$J$24:$J$1300,\"Process Problems\"))","v":""},{"$f":"IF($E46=\"\",\"\",SUMIFS(Deviation_Limits!$I$24:$I$1300,Deviation_Limits!$B$24:$B$1300,$B46,Deviation_Limits!$C$24:$C$1300,$C46,Deviation_Limits!$D$24:$D$1300,$D46,Deviation_Limits!$J$24:$J$1300,\"Other Known Causes\"))","v":""},{"$f":"IF($E46=\"\",\"\",SUMIFS(Deviation_Limits!$I$24:$I$1300,Deviation_Limits!$B$24:$B$1300,$B46,Deviation_Limits!$C$24:$C$1300,$C46,Deviation_Limits!$D$24:$D$1300,$D46,Deviation_Limits!$J$24:$J$1300,\"Other Unknown Causes\"))","v":""}]
[null,{"$f":"IF(Lists!AU25=\"\",\"\",Lists!AU25)","v":""},{"$f":"IF(Lists!AV25=\"\",\"\",Lists!AV25)","v":""},{"$f":"IF(Lists!AW25=\"\",\"\",Lists!AW25)","v":""},null,{"$f":"IF(E47=\"\",\"\",SUMIFS(Deviation_Limits!$I$24:$I$1300,Deviation_Limits!$B$24:$B$1300,$B47,Deviation_Limits!$C$24:$C$1300,$C47,Deviation_Limits!$D$24:$D$1300,$D47))","v":""},"",{"$f":"IF($E47=\"\",\"\",SUMIFS(Deviation_Limits!$I$24:$I$1300,Deviation_Limits!$B$24:$B$1300,$B47,Deviation_Limits!$C$24:$C$1300,$C47,Deviation_Limits!$D$24:$D$1300,$D47,Deviation_Limits!$J$24:$J$1300,\"Control Equipment Problems\"))","v":""},{"$f":"IF($E47=\"\",\"\",SUMIFS(Deviation_Limits!$I$24:$I$1300,Deviation_Limits!$B$24:$B$1300,$B47,Deviation_Limits!$C$24:$C$1300,$C47,Deviation_Limits!$D$24:$D$1300,$D47,Deviation_Limits!$J$24:$J$1300,\"Process Problems\"))","v":""},{"$f":"IF($E47=\"\",\"\",SUMIFS(Deviation_Limits!$I$24:$I$1300,Deviation_Limits!$B$24:$B$1300,$B47,Deviation_Limits!$C$24:$C$1300,$C47,Deviation_Limits!$D$24:$D$1300,$D47,Deviation_Limits!$J$24:$J$1300,\"Other Known Causes\"))","v":""},{"$f":"IF($E47=\"\",\"\",SUMIFS(Deviation_Limits!$I$24:$I$1300,Deviation_Limits!$B$24:$B$1300,$B47,Deviation_Limits!$C$24:$C$1300,$C47,Deviation_Limits!$D$24:$D$1300,$D47,Deviation_Limits!$J$24:$J$1300,\"Other Unknown Causes\"))","v":""}]
[null,{"$f":"IF(Lists!AU26=\"\",\"\",Lists!AU26)","v":""},{"$f":"IF(Lists!AV26=\"\",\"\",Lists!AV26)","v":""},{"$f":"IF(Lists!AW26=\"\",\"\",Lists!AW26)","v":""},null,{"$f":"IF(E48=\"\",\"\",SUMIFS(Deviation_Limits!$I$24:$I$1300,Deviation_Limits!$B$24:$B$1300,$B48,Deviation_Limits!$C$24:$C$1300,$C48,Deviation_Limits!$D$24:$D$1300,$D48))","v":""},"",{"$f":"IF($E48=\"\",\"\",SUMIFS(Deviation_Limits!$I$24:$I$1300,Deviation_Limits!$B$24:$B$1300,$B48,Deviation_Limits!$C$24:$C$1300,$C48,Deviation_Limits!$D$24:$D$1300,$D48,Deviation_Limits!$J$24:$J$1300,\"Control Equipment Problems\"))","v":""},{"$f":"IF($E48=\"\",\"\",SUMIFS(Deviation_Limits!$I$24:$I$1300,Deviation_Limits!$B$24:$B$1300,$B48,Deviation_Limits!$C$24:$C$1300,$C48,Deviation_Limits!$D$24:$D$1300,$D48,Deviation_Limits!$J$24:$J$1300,\"Process Problems\"))","v":""},{"$f":"IF($E48=\"\",\"\",SUMIFS(Deviation_Limits!$I$24:$I$1300,Deviation_Limits!$B$24:$B$1300,$B48,Deviation_Limits!$C$24:$C$1300,$C48,Deviation_Limits!$D$24:$D$1300,$D48,Deviation_Limits!$J$24:$J$1300,\"Other Known Causes\"))","v":""},{"$f":"IF($E48=\"\",\"\",SUMIFS(Deviation_Limits!$I$24:$I$1300,Deviation_Limits!$B$24:$B$1300,$B48,Deviation_Limits!$C$24:$C$1300,$C48,Deviation_Limits!$D$24:$D$1300,$D48,Deviation_Limits!$J$24:$J$1300,\"Other Unknown Causes\"))","v":""}]
[null,{"$f":"IF(Lists!AU27=\"\",\"\",Lists!AU27)","v":""},{"$f":"IF(Lists!AV27=\"\",\"\",Lists!AV27)","v":""},{"$f":"IF(Lists!AW27=\"\",\"\",Lists!AW27)","v":""},null,{"$f":"IF(E49=\"\",\"\",SUMIFS(Deviation_Limits!$I$24:$I$1300,Deviation_Limits!$B$24:$B$1300,$B49,Deviation_Limits!$C$24:$C$1300,$C49,Deviation_Limits!$D$24:$D$1300,$D49))","v":""},"",{"$f":"IF($E49=\"\",\"\",SUMIFS(Deviation_Limits!$I$24:$I$1300,Deviation_Limits!$B$24:$B$1300,$B49,Deviation_Limits!$C$24:$C$1300,$C49,Deviation_Limits!$D$24:$D$1300,$D49,Deviation_Limits!$J$24:$J$1300,\"Control Equipment Problems\"))","v":""},{"$f":"IF($E49=\"\",\"\",SUMIFS(Deviation_Limits!$I$24:$I$1300,Deviation_Limits!$B$24:$B$1300,$B49,Deviation_Limits!$C$24:$C$1300,$C49,Deviation_Limits!$D$24:$D$1300,$D49,Deviation_Limits!$J$24:$J$1300,\"Process Problems\"))","v":""},{"$f":"IF($E49=\"\",\"\",SUMIFS(Deviation_Limits!$I$24:$I$1300,Deviation_Limits!$B$24:$B$1300,$B49,Deviation_Limits!$C$24:$C$1300,$C49,Deviation_Limits!$D$24:$D$1300,$D49,Deviation_Limits!$J$24:$J$1300,\"Other Known Causes\"))","v":""},{"$f":"IF($E49=\"\",\"\",SUMIFS(Deviation_Limits!$I$24:$I$1300,Deviation_Limits!$B$24:$B$1300,$B49,Deviation_Limits!$C$24:$C$1300,$C49,Deviation_Limits!$D$24:$D$1300,$D49,Deviation_Limits!$J$24:$J$1300,\"Other Unknown Causes\"))","v":""}]
[null,{"$f":"IF(Lists!AU28=\"\",\"\",Lists!AU28)","v":""},{"$f":"IF(Lists!AV28=\"\",\"\",Lists!AV28)","v":""},{"$f":"IF(Lists!AW28=\"\",\"\",Lists!AW28)","v":""},null,{"$f":"IF(E50=\"\",\"\",SUMIFS(Deviation_Limits!$I$24:$I$1300,Deviation_Limits!$B$24:$B$1300,$B50,Deviation_Limits!$C$24:$C$1300,$C50,Deviation_Limits!$D$24:$D$1300,$D50))","v":""},"",{"$f":"IF($E50=\"\",\"\",SUMIFS(Deviation_Limits!$I$24:$I$1300,Deviation_Limits!$B$24:$B$1300,$B50,Deviation_Limits!$C$24:$C$1300,$C50,Deviation_Limits!$D$24:$D$1300,$D50,Deviation_Limits!$J$24:$J$1300,\"Control Equipment Problems\"))","v":""},{"$f":"IF($E50=\"\",\"\",SUMIFS(Deviation_Limits!$I$24:$I$1300,Deviation_Limits!$B$24:$B$1300,$B50,Deviation_Limits!$C$24:$C$1300,$C50,Deviation_Limits!$D$24:$D$1300,$D50,Deviation_Limits!$J$24:$J$1300,\"Process Problems\"))","v":""},{"$f":"IF($E50=\"\",\"\",SUMIFS(Deviation_Limits!$I$24:$I$1300,Deviation_Limits!$B$24:$B$1300,$B50,Deviation_Limits!$C$24:$C$1300,$C50,Deviation_Limits!$D$24:$D$1300,$D50,Deviation_Limits!$J$24:$J$1300,\"Other Known Causes\"))","v":""},{"$f":"IF($E50=\"\",\"\",SUMIFS(Deviation_Limits!$I$24:$I$1300,Deviation_Limits!$B$24:$B$1300,$B50,Deviation_Limits!$C$24:$C$1300,$C50,Deviation_Limits!$D$24:$D$1300,$D50,Deviation_Limits!$J$24:$J$1300,\"Other Unknown Causes\"))","v":""}]
[null,{"$f":"IF(Lists!AU29=\"\",\"\",Lists!AU29)","v":""},{"$f":"IF(Lists!AV29=\"\",\"\",Lists!AV29)","v":""},{"$f":"IF(Lists!AW29=\"\",\"\",Lists!AW29)","v":""},null,{"$f":"IF(E51=\"\",\"\",SUMIFS(Deviation_Limits!$I$24:$I$1300,Deviation_Limits!$B$24:$B$1300,$B51,Deviation_Limits!$C$24:$C$1300,$C51,Deviation_Limits!$D$24:$D$1300,$D51))","v":""},"",{"$f":"IF($E51=\"\",\"\",SUMIFS(Deviation_Limits!$I$24:$I$1300,Deviation_Limits!$B$24:$B$1300,$B51,Deviation_Limits!$C$24:$C$1300,$C51,Deviation_Limits!$D$24:$D$1300,$D51,Deviation_Limits!$J$24:$J$1300,\"Control Equipment Problems\"))","v":""},{"$f":"IF($E51=\"\",\"\",SUMIFS(Deviation_Limits!$I$24:$I$1300,Deviation_Limits!$B$24:$B$1300,$B51,Deviation_Limits!$C$24:$C$1300,$C51,Deviation_Limits!$D$24:$D$1300,$D51,Deviation_Limits!$J$24:$J$1300,\"Process Problems\"))","v":""},{"$f":"IF($E51=\"\",\"\",SUMIFS(Deviation_Limits!$I$24:$I$1300,Deviation_Limits!$B$24:$B$1300,$B51,Deviation_Limits!$C$24:$C$1300,$C51,Deviation_Limits!$D$24:$D$1300,$D51,Deviation_Limits!$J$24:$J$1300,\"Other Known Causes\"))","v":""},{"$f":"IF($E51=\"\",\"\",SUMIFS(Deviation_Limits!$I$24:$I$1300,Deviation_Limits!$B$24:$B$1300,$B51,Deviation_Limits!$C$24:$C$1300,$C51,Deviation_Limits!$D$24:$D$1300,$D51,Deviation_Limits!$J$24:$J$1300,\"Other Unknown Causes\"))","v":""}]
[null,{"$f":"IF(Lists!AU30=\"\",\"\",Lists!AU30)","v":""},{"$f":"IF(Lists!AV30=\"\",\"\",Lists!AV30)","v":""},{"$f":"IF(Lists!AW30=\"\",\"\",Lists!AW30)","v":""},null,{"$f":"IF(E52=\"\",\"\",SUMIFS(Deviation_Limits!$I$24:$I$1300,Deviation_Limits!$B$24:$B$1300,$B52,Deviation_Limits!$C$24:$C$1300,$C52,Deviation_Limits!$D$24:$D$1300,$D52))","v":""},"",{"$f":"IF($E52=\"\",\"\",SUMIFS(Deviation_Limits!$I$24:$I$1300,Deviation_Limits!$B$24:$B$1300,$B52,Deviation_Limits!$C$24:$C$1300,$C52,Deviation_Limits!$D$24:$D$1300,$D52,Deviation_Limits!$J$24:$J$1300,\"Control Equipment Problems\"))","v":""},{"$f":"IF($E52=\"\",\"\",SUMIFS(Deviation_Limits!$I$24:$I$1300,Deviation_Limits!$B$24:$B$1300,$B52,Deviation_Limits!$C$24:$C$1300,$C52,Deviation_Limits!$D$24:$D$1300,$D52,Deviation_Limits!$J$24:$J$1300,\"Process Problems\"))","v":""},{"$f":"IF($E52=\"\",\"\",SUMIFS(Deviation_Limits!$I$24:$I$1300,Deviation_Limits!$B$24:$B$1300,$B52,Deviation_Limits!$C$24:$C$1300,$C52,Deviation_Limits!$D$24:$D$1300,$D52,Deviation_Limits!$J$24:$J$1300,\"Other Known Causes\"))","v":""},{"$f":"IF($E52=\"\",\"\",SUMIFS(Deviation_Limits!$I$24:$I$1300,Deviation_Limits!$B$24:$B$1300,$B52,Deviation_Limits!$C$24:$C$1300,$C52,Deviation_Limits!$D$24:$D$1300,$D52,Deviation_Limits!$J$24:$J$1300,\"Other Unknown Causes\"))","v":""}]
[null,{"$f":"IF(Lists!AU31=\"\",\"\",Lists!AU31)","v":""},{"$f":"IF(Lists!AV31=\"\",\"\",Lists!AV31)","v":""},{"$f":"IF(Lists!AW31=\"\",\"\",Lists!AW31)","v":""},null,{"$f":"IF(E53=\"\",\"\",SUMIFS(Deviation_Limits!$I$24:$I$1300,Deviation_Limits!$B$24:$B$1300,$B53,Deviation_Limits!$C$24:$C$1300,$C53,Deviation_Limits!$D$24:$D$1300,$D53))","v":""},"",{"$f":"IF($E53=\"\",\"\",SUMIFS(Deviation_Limits!$I$24:$I$1300,Deviation_Limits!$B$24:$B$1300,$B53,Deviation_Limits!$C$24:$C$1300,$C53,Deviation_Limits!$D$24:$D$1300,$D53,Deviation_Limits!$J$24:$J$1300,\"Control Equipment Problems\"))","v":""},{"$f":"IF($E53=\"\",\"\",SUMIFS(Deviation_Limits!$I$24:$I$1300,Deviation_Limits!$B$24:$B$1300,$B53,Deviation_Limits!$C$24:$C$1300,$C53,Deviation_Limits!$D$24:$D$1300,$D53,Deviation_Limits!$J$24:$J$1300,\"Process Problems\"))","v":""},{"$f":"IF($E53=\"\",\"\",SUMIFS(Deviation_Limits!$I$24:$I$1300,Deviation_Limits!$B$24:$B$1300,$B53,Deviation_Limits!$C$24:$C$1300,$C53,Deviation_Limits!$D$24:$D$1300,$D53,Deviation_Limits!$J$24:$J$1300,\"Other Known Causes\"))","v":""},{"$f":"IF($E53=\"\",\"\",SUMIFS(Deviation_Limits!$I$24:$I$1300,Deviation_Limits!$B$24:$B$1300,$B53,Deviation_Limits!$C$24:$C$1300,$C53,Deviation_Limits!$D$24:$D$1300,$D53,Deviation_Limits!$J$24:$J$1300,\"Other Unknown Causes\"))","v":""}]
[null,{"$f":"IF(Lists!AU32=\"\",\"\",Lists!AU32)","v":""},{"$f":"IF(Lists!AV32=\"\",\"\",Lists!AV32)","v":""},{"$f":"IF(Lists!AW32=\"\",\"\",Lists!AW32)","v":""},null,{"$f":"IF(E54=\"\",\"\",SUMIFS(Deviation_Limits!$I$24:$I$1300,Deviation_Limits!$B$24:$B$1300,$B54,Deviation_Limits!$C$24:$C$1300,$C54,Deviation_Limits!$D$24:$D$1300,$D54))","v":""},"",{"$f":"IF($E54=\"\",\"\",SUMIFS(Deviation_Limits!$I$24:$I$1300,Deviation_Limits!$B$24:$B$1300,$B54,Deviation_Limits!$C$24:$C$1300,$C54,Deviation_Limits!$D$24:$D$1300,$D54,Deviation_Limits!$J$24:$J$1300,\"Control Equipment Problems\"))","v":""},{"$f":"IF($E54=\"\",\"\",SUMIFS(Deviation_Limits!$I$24:$I$1300,Deviation_Limits!$B$24:$B$1300,$B54,Deviation_Limits!$C$24:$C$1300,$C54,Deviation_Limits!$D$24:$D$1300,$D54,Deviation_Limits!$J$24:$J$1300,\"Process Problems\"))","v":""},{"$f":"IF($E54=\"\",\"\",SUMIFS(Deviation_Limits!$I$24:$I$1300,Deviation_Limits!$B$24:$B$1300,$B54,Deviation_Limits!$C$24:$C$1300,$C54,Deviation_Limits!$D$24:$D$1300,$D54,Deviation_Limits!$J$24:$J$1300,\"Other Known Causes\"))","v":""},{"$f":"IF($E54=\"\",\"\",SUMIFS(Deviation_Limits!$I$24:$I$1300,Deviation_Limits!$B$24:$B$1300,$B54,Deviation_Limits!$C$24:$C$1300,$C54,Deviation_Limits!$D$24:$D$1300,$D54,Deviation_Limits!$J$24:$J$1300,\"Other Unknown Causes\"))","v":""}]
[null,{"$f":"IF(Lists!AU33=\"\",\"\",Lists!AU33)","v":""},{"$f":"IF(Lists!AV33=\"\",\"\",Lists!AV33)","v":""},{"$f":"IF(Lists!AW33=\"\",\"\",Lists!AW33)","v":""},null,{"$f":"IF(E55=\"\",\"\",SUMIFS(Deviation_Limits!$I$24:$I$1300,Deviation_Limits!$B$24:$B$1300,$B55,Deviation_Limits!$C$24:$C$1300,$C55,Deviation_Limits!$D$24:$D$1300,$D55))","v":""},"",{"$f":"IF($E55=\"\",\"\",SUMIFS(Deviation_Limits!$I$24:$I$1300,Deviation_Limits!$B$24:$B$1300,$B55,Deviation_Limits!$C$24:$C$1300,$C55,Deviation_Limits!$D$24:$D$1300,$D55,Deviation_Limits!$J$24:$J$1300,\"Control Equipment Problems\"))","v":""},{"$f":"IF($E55=\"\",\"\",SUMIFS(Deviation_Limits!$I$24:$I$1300,Deviation_Limits!$B$24:$B$1300,$B55,Deviation_Limits!$C$24:$C$1300,$C55,Deviation_Limits!$D$24:$D$1300,$D55,Deviation_Limits!$J$24:$J$1300,\"Process Problems\"))","v":""},{"$f":"IF($E55=\"\",\"\",SUMIFS(Deviation_Limits!$I$24:$I$1300,Deviation_Limits!$B$24:$B$1300,$B55,Deviation_Limits!$C$24:$C$1300,$C55,Deviation_Limits!$D$24:$D$1300,$D55,Deviation_Limits!$J$24:$J$1300,\"Other Known Causes\"))","v":""},{"$f":"IF($E55=\"\",\"\",SUMIFS(Deviation_Limits!$I$24:$I$1300,Deviation_Limits!$B$24:$B$1300,$B55,Deviation_Limits!$C$24:$C$1300,$C55,Deviation_Limits!$D$24:$D$1300,$D55,Deviation_Limits!$J$24:$J$1300,\"Other Unknown Causes\"))","v":""}]
[null,{"$f":"IF(Lists!AU34=\"\",\"\",Lists!AU34)","v":""},{"$f":"IF(Lists!AV34=\"\",\"\",Lists!AV34)","v":""},{"$f":"IF(Lists!AW34=\"\",\"\",Lists!AW34)","v":""},null,{"$f":"IF(E56=\"\",\"\",SUMIFS(Deviation_Limits!$I$24:$I$1300,Deviation_Limits!$B$24:$B$1300,$B56,Deviation_Limits!$C$24:$C$1300,$C56,Deviation_Limits!$D$24:$D$1300,$D56))","v":""},"",{"$f":"IF($E56=\"\",\"\",SUMIFS(Deviation_Limits!$I$24:$I$1300,Deviation_Limits!$B$24:$B$1300,$B56,Deviation_Limits!$C$24:$C$1300,$C56,Deviation_Limits!$D$24:$D$1300,$D56,Deviation_Limits!$J$24:$J$1300,\"Control Equipment Problems\"))","v":""},{"$f":"IF($E56=\"\",\"\",SUMIFS(Deviation_Limits!$I$24:$I$1300,Deviation_Limits!$B$24:$B$1300,$B56,Deviation_Limits!$C$24:$C$1300,$C56,Deviation_Limits!$D$24:$D$1300,$D56,Deviation_Limits!$J$24:$J$1300,\"Process Problems\"))","v":""},{"$f":"IF($E56=\"\",\"\",SUMIFS(Deviation_Limits!$I$24:$I$1300,Deviation_Limits!$B$24:$B$1300,$B56,Deviation_Limits!$C$24:$C$1300,$C56,Deviation_Limits!$D$24:$D$1300,$D56,Deviation_Limits!$J$24:$J$1300,\"Other Known Causes\"))","v":""},{"$f":"IF($E56=\"\",\"\",SUMIFS(Deviation_Limits!$I$24:$I$1300,Deviation_Limits!$B$24:$B$1300,$B56,Deviation_Limits!$C$24:$C$1300,$C56,Deviation_Limits!$D$24:$D$1300,$D56,Deviation_Limits!$J$24:$J$1300,\"Other Unknown Causes\"))","v":""}]
[null,{"$f":"IF(Lists!AU35=\"\",\"\",Lists!AU35)","v":""},{"$f":"IF(Lists!AV35=\"\",\"\",Lists!AV35)","v":""},{"$f":"IF(Lists!AW35=\"\",\"\",Lists!AW35)","v":""},null,{"$f":"IF(E57=\"\",\"\",SUMIFS(Deviation_Limits!$I$24:$I$1300,Deviation_Limits!$B$24:$B$1300,$B57,Deviation_Limits!$C$24:$C$1300,$C57,Deviation_Limits!$D$24:$D$1300,$D57))","v":""},"",{"$f":"IF($E57=\"\",\"\",SUMIFS(Deviation_Limits!$I$24:$I$1300,Deviation_Limits!$B$24:$B$1300,$B57,Deviation_Limits!$C$24:$C$1300,$C57,Deviation_Limits!$D$24:$D$1300,$D57,Deviation_Limits!$J$24:$J$1300,\"Control Equipment Problems\"))","v":""},{"$f":"IF($E57=\"\",\"\",SUMIFS(Deviation_Limits!$I$24:$I$1300,Deviation_Limits!$B$24:$B$1300,$B57,Deviation_Limits!$C$24:$C$1300,$C57,Deviation_Limits!$D$24:$D$1300,$D57,Deviation_Limits!$J$24:$J$1300,\"Process Problems\"))","v":""},{"$f":"IF($E57=\"\",\"\",SUMIFS(Deviation_Limits!$I$24:$I$1300,Deviation_Limits!$B$24:$B$1300,$B57,Deviation_Limits!$C$24:$C$1300,$C57,Deviation_Limits!$D$24:$D$1300,$D57,Deviation_Limits!$J$24:$J$1300,\"Other Known Causes\"))","v":""},{"$f":"IF($E57=\"\",\"\",SUMIFS(Deviation_Limits!$I$24:$I$1300,Deviation_Limits!$B$24:$B$1300,$B57,Deviation_Limits!$C$24:$C$1300,$C57,Deviation_Limits!$D$24:$D$1300,$D57,Deviation_Limits!$J$24:$J$1300,\"Other Unknown Causes\"))","v":""}]
[null,{"$f":"IF(Lists!AU36=\"\",\"\",Lists!AU36)","v":""},{"$f":"IF(Lists!AV36=\"\",\"\",Lists!AV36)","v":""},{"$f":"IF(Lists!AW36=\"\",\"\",Lists!AW36)","v":""},null,{"$f":"IF(E58=\"\",\"\",SUMIFS(Deviation_Limits!$I$24:$I$1300,Deviation_Limits!$B$24:$B$1300,$B58,Deviation_Limits!$C$24:$C$1300,$C58,Deviation_Limits!$D$24:$D$1300,$D58))","v":""},"",{"$f":"IF($E58=\"\",\"\",SUMIFS(Deviation_Limits!$I$24:$I$1300,Deviation_Limits!$B$24:$B$1300,$B58,Deviation_Limits!$C$24:$C$1300,$C58,Deviation_Limits!$D$24:$D$1300,$D58,Deviation_Limits!$J$24:$J$1300,\"Control Equipment Problems\"))","v":""},{"$f":"IF($E58=\"\",\"\",SUMIFS(Deviation_Limits!$I$24:$I$1300,Deviation_Limits!$B$24:$B$1300,$B58,Deviation_Limits!$C$24:$C$1300,$C58,Deviation_Limits!$D$24:$D$1300,$D58,Deviation_Limits!$J$24:$J$1300,\"Process Problems\"))","v":""},{"$f":"IF($E58=\"\",\"\",SUMIFS(Deviation_Limits!$I$24:$I$1300,Deviation_Limits!$B$24:$B$1300,$B58,Deviation_Limits!$C$24:$C$1300,$C58,Deviation_Limits!$D$24:$D$1300,$D58,Deviation_Limits!$J$24:$J$1300,\"Other Known Causes\"))","v":""},{"$f":"IF($E58=\"\",\"\",SUMIFS(Deviation_Limits!$I$24:$I$1300,Deviation_Limits!$B$24:$B$1300,$B58,Deviation_Limits!$C$24:$C$1300,$C58,Deviation_Limits!$D$24:$D$1300,$D58,Deviation_Limits!$J$24:$J$1300,\"Other Unknown Causes\"))","v":""}]
[null,{"$f":"IF(Lists!AU37=\"\",\"\",Lists!AU37)","v":""},{"$f":"IF(Lists!AV37=\"\",\"\",Lists!AV37)","v":""},{"$f":"IF(Lists!AW37=\"\",\"\",Lists!AW37)","v":""},null,{"$f":"IF(E59=\"\",\"\",SUMIFS(Deviation_Limits!$I$24:$I$1300,Deviation_Limits!$B$24:$B$1300,$B59,Deviation_Limits!$C$24:$C$1300,$C59,Deviation_Limits!$D$24:$D$1300,$D59))","v":""},"",{"$f":"IF($E59=\"\",\"\",SUMIFS(Deviation_Limits!$I$24:$I$1300,Deviation_Limits!$B$24:$B$1300,$B59,Deviation_Limits!$C$24:$C$1300,$C59,Deviation_Limits!$D$24:$D$1300,$D59,Deviation_Limits!$J$24:$J$1300,\"Control Equipment Problems\"))","v":""},{"$f":"IF($E59=\"\",\"\",SUMIFS(Deviation_Limits!$I$24:$I$1300,Deviation_Limits!$B$24:$B$1300,$B59,Deviation_Limits!$C$24:$C$1300,$C59,Deviation_Limits!$D$24:$D$1300,$D59,Deviation_Limits!$J$24:$J$1300,\"Process Problems\"))","v":""},{"$f":"IF($E59=\"\",\"\",SUMIFS(Deviation_Limits!$I$24:$I$1300,Deviation_Limits!$B$24:$B$1300,$B59,Deviation_Limits!$C$24:$C$1300,$C59,Deviation_Limits!$D$24:$D$1300,$D59,Deviation_Limits!$J$24:$J$1300,\"Other Known Causes\"))","v":""},{"$f":"IF($E59=\"\",\"\",SUMIFS(Deviation_Limits!$I$24:$I$1300,Deviation_Limits!$B$24:$B$1300,$B59,Deviation_Limits!$C$24:$C$1300,$C59,Deviation_Limits!$D$24:$D$1300,$D59,Deviation_Limits!$J$24:$J$1300,\"Other Unknown Causes\"))","v":""}]
[null,{"$f":"IF(Lists!AU38=\"\",\"\",Lists!AU38)","v":""},{"$f":"IF(Lists!AV38=\"\",\"\",Lists!AV38)","v":""},{"$f":"IF(Lists!AW38=\"\",\"\",Lists!AW38)","v":""},null,{"$f":"IF(E60=\"\",\"\",SUMIFS(Deviation_Limits!$I$24:$I$1300,Deviation_Limits!$B$24:$B$1300,$B60,Deviation_Limits!$C$24:$C$1300,$C60,Deviation_Limits!$D$24:$D$1300,$D60))","v":""},"",{"$f":"IF($E60=\"\",\"\",SUMIFS(Deviation_Limits!$I$24:$I$1300,Deviation_Limits!$B$24:$B$1300,$B60,Deviation_Limits!$C$24:$C$1300,$C60,Deviation_Limits!$D$24:$D$1300,$D60,Deviation_Limits!$J$24:$J$1300,\"Control Equipment Problems\"))","v":""},{"$f":"IF($E60=\"\",\"\",SUMIFS(Deviation_Limits!$I$24:$I$1300,Deviation_Limits!$B$24:$B$1300,$B60,Deviation_Limits!$C$24:$C$1300,$C60,Deviation_Limits!$D$24:$D$1300,$D60,Deviation_Limits!$J$24:$J$1300,\"Process Problems\"))","v":""},{"$f":"IF($E60=\"\",\"\",SUMIFS(Deviation_Limits!$I$24:$I$1300,Deviation_Limits!$B$24:$B$1300,$B60,Deviation_Limits!$C$24:$C$1300,$C60,Deviation_Limits!$D$24:$D$1300,$D60,Deviation_Limits!$J$24:$J$1300,\"Other Known Causes\"))","v":""},{"$f":"IF($E60=\"\",\"\",SUMIFS(Deviation_Limits!$I$24:$I$1300,Deviation_Limits!$B$24:$B$1300,$B60,Deviation_Limits!$C$24:$C$1300,$C60,Deviation_Limits!$D$24:$D$1300,$D60,Deviation_Limits!$J$24:$J$1300,\"Other Unknown Causes\"))","v":""}]
[null,{"$f":"IF(Lists!AU39=\"\",\"\",Lists!AU39)","v":""},{"$f":"IF(Lists!AV39=\"\",\"\",Lists!AV39)","v":""},{"$f":"IF(Lists!AW39=\"\",\"\",Lists!AW39)","v":""},null,{"$f":"IF(E61=\"\",\"\",SUMIFS(Deviation_Limits!$I$24:$I$1300,Deviation_Limits!$B$24:$B$1300,$B61,Deviation_Limits!$C$24:$C$1300,$C61,Deviation_Limits!$D$24:$D$1300,$D61))","v":""},"",{"$f":"IF($E61=\"\",\"\",SUMIFS(Deviation_Limits!$I$24:$I$1300,Deviation_Limits!$B$24:$B$1300,$B61,Deviation_Limits!$C$24:$C$1300,$C61,Deviation_Limits!$D$24:$D$1300,$D61,Deviation_Limits!$J$24:$J$1300,\"Control Equipment Problems\"))","v":""},{"$f":"IF($E61=\"\",\"\",SUMIFS(Deviation_Limits!$I$24:$I$1300,Deviation_Limits!$B$24:$B$1300,$B61,Deviation_Limits!$C$24:$C$1300,$C61,Deviation_Limits!$D$24:$D$1300,$D61,Deviation_Limits!$J$24:$J$1300,\"Process Problems\"))","v":""},{"$f":"IF($E61=\"\",\"\",SUMIFS(Deviation_Limits!$I$24:$I$1300,Deviation_Limits!$B$24:$B$1300,$B61,Deviation_Limits!$C$24:$C$1300,$C61,Deviation_Limits!$D$24:$D$1300,$D61,Deviation_Limits!$J$24:$J$1300,\"Other Known Causes\"))","v":""},{"$f":"IF($E61=\"\",\"\",SUMIFS(Deviation_Limits!$I$24:$I$1300,Deviation_Limits!$B$24:$B$1300,$B61,Deviation_Limits!$C$24:$C$1300,$C61,Deviation_Limits!$D$24:$D$1300,$D61,Deviation_Limits!$J$24:$J$1300,\"Other Unknown Causes\"))","v":""}]
[null,{"$f":"IF(Lists!AU40=\"\",\"\",Lists!AU40)","v":""},{"$f":"IF(Lists!AV40=\"\",\"\",Lists!AV40)","v":""},{"$f":"IF(Lists!AW40=\"\",\"\",Lists!AW40)","v":""},null,{"$f":"IF(E62=\"\",\"\",SUMIFS(Deviation_Limits!$I$24:$I$1300,Deviation_Limits!$B$24:$B$1300,$B62,Deviation_Limits!$C$24:$C$1300,$C62,Deviation_Limits!$D$24:$D$1300,$D62))","v":""},"",{"$f":"IF($E62=\"\",\"\",SUMIFS(Deviation_Limits!$I$24:$I$1300,Deviation_Limits!$B$24:$B$1300,$B62,Deviation_Limits!$C$24:$C$1300,$C62,Deviation_Limits!$D$24:$D$1300,$D62,Deviation_Limits!$J$24:$J$1300,\"Control Equipment Problems\"))","v":""},{"$f":"IF($E62=\"\",\"\",SUMIFS(Deviation_Limits!$I$24:$I$1300,Deviation_Limits!$B$24:$B$1300,$B62,Deviation_Limits!$C$24:$C$1300,$C62,Deviation_Limits!$D$24:$D$1300,$D62,Deviation_Limits!$J$24:$J$1300,\"Process Problems\"))","v":""},{"$f":"IF($E62=\"\",\"\",SUMIFS(Deviation_Limits!$I$24:$I$1300,Deviation_Limits!$B$24:$B$1300,$B62,Deviation_Limits!$C$24:$C$1300,$C62,Deviation_Limits!$D$24:$D$1300,$D62,Deviation_Limits!$J$24:$J$1300,\"Other Known Causes\"))","v":""},{"$f":"IF($E62=\"\",\"\",SUMIFS(Deviation_Limits!$I$24:$I$1300,Deviation_Limits!$B$24:$B$1300,$B62,Deviation_Limits!$C$24:$C$1300,$C62,Deviation_Limits!$D$24:$D$1300,$D62,Deviation_Limits!$J$24:$J$1300,\"Other Unknown Causes\"))","v":""}]
[null,{"$f":"IF(Lists!AU41=\"\",\"\",Lists!AU41)","v":""},{"$f":"IF(Lists!AV41=\"\",\"\",Lists!AV41)","v":""},{"$f":"IF(Lists!AW41=\"\",\"\",Lists!AW41)","v":""},null,{"$f":"IF(E63=\"\",\"\",SUMIFS(Deviation_Limits!$I$24:$I$1300,Deviation_Limits!$B$24:$B$1300,$B63,Deviation_Limits!$C$24:$C$1300,$C63,Deviation_Limits!$D$24:$D$1300,$D63))","v":""},"",{"$f":"IF($E63=\"\",\"\",SUMIFS(Deviation_Limits!$I$24:$I$1300,Deviation_Limits!$B$24:$B$1300,$B63,Deviation_Limits!$C$24:$C$1300,$C63,Deviation_Limits!$D$24:$D$1300,$D63,Deviation_Limits!$J$24:$J$1300,\"Control Equipment Problems\"))","v":""},{"$f":"IF($E63=\"\",\"\",SUMIFS(Deviation_Limits!$I$24:$I$1300,Deviation_Limits!$B$24:$B$1300,$B63,Deviation_Limits!$C$24:$C$1300,$C63,Deviation_Limits!$D$24:$D$1300,$D63,Deviation_Limits!$J$24:$J$1300,\"Process Problems\"))","v":""},{"$f":"IF($E63=\"\",\"\",SUMIFS(Deviation_Limits!$I$24:$I$1300,Deviation_Limits!$B$24:$B$1300,$B63,Deviation_Limits!$C$24:$C$1300,$C63,Deviation_Limits!$D$24:$D$1300,$D63,Deviation_Limits!$J$24:$J$1300,\"Other Known Causes\"))","v":""},{"$f":"IF($E63=\"\",\"\",SUMIFS(Deviation_Limits!$I$24:$I$1300,Deviation_Limits!$B$24:$B$1300,$B63,Deviation_Limits!$C$24:$C$1300,$C63,Deviation_Limits!$D$24:$D$1300,$D63,Deviation_Limits!$J$24:$J$1300,\"Other Unknown Causes\"))","v":""}]
[null,{"$f":"IF(Lists!AU42=\"\",\"\",Lists!AU42)","v":""},{"$f":"IF(Lists!AV42=\"\",\"\",Lists!AV42)","v":""},{"$f":"IF(Lists!AW42=\"\",\"\",Lists!AW42)","v":""},null,{"$f":"IF(E64=\"\",\"\",SUMIFS(Deviation_Limits!$I$24:$I$1300,Deviation_Limits!$B$24:$B$1300,$B64,Deviation_Limits!$C$24:$C$1300,$C64,Deviation_Limits!$D$24:$D$1300,$D64))","v":""},"",{"$f":"IF($E64=\"\",\"\",SUMIFS(Deviation_Limits!$I$24:$I$1300,Deviation_Limits!$B$24:$B$1300,$B64,Deviation_Limits!$C$24:$C$1300,$C64,Deviation_Limits!$D$24:$D$1300,$D64,Deviation_Limits!$J$24:$J$1300,\"Control Equipment Problems\"))","v":""},{"$f":"IF($E64=\"\",\"\",SUMIFS(Deviation_Limits!$I$24:$I$1300,Deviation_Limits!$B$24:$B$1300,$B64,Deviation_Limits!$C$24:$C$1300,$C64,Deviation_Limits!$D$24:$D$1300,$D64,Deviation_Limits!$J$24:$J$1300,\"Process Problems\"))","v":""},{"$f":"IF($E64=\"\",\"\",SUMIFS(Deviation_Limits!$I$24:$I$1300,Deviation_Limits!$B$24:$B$1300,$B64,Deviation_Limits!$C$24:$C$1300,$C64,Deviation_Limits!$D$24:$D$1300,$D64,Deviation_Limits!$J$24:$J$1300,\"Other Known Causes\"))","v":""},{"$f":"IF($E64=\"\",\"\",SUMIFS(Deviation_Limits!$I$24:$I$1300,Deviation_Limits!$B$24:$B$1300,$B64,Deviation_Limits!$C$24:$C$1300,$C64,Deviation_Limits!$D$24:$D$1300,$D64,Deviation_Limits!$J$24:$J$1300,\"Other Unknown Causes\"))","v":""}]
[null,{"$f":"IF(Lists!AU43=\"\",\"\",Lists!AU43)","v":""},{"$f":"IF(Lists!AV43=\"\",\"\",Lists!AV43)","v":""},{"$f":"IF(Lists!AW43=\"\",\"\",Lists!AW43)","v":""},null,{"$f":"IF(E65=\"\",\"\",SUMIFS(Deviation_Limits!$I$24:$I$1300,Deviation_Limits!$B$24:$B$1300,$B65,Deviation_Limits!$C$24:$C$1300,$C65,Deviation_Limits!$D$24:$D$1300,$D65))","v":""},"",{"$f":"IF($E65=\"\",\"\",SUMIFS(Deviation_Limits!$I$24:$I$1300,Deviation_Limits!$B$24:$B$1300,$B65,Deviation_Limits!$C$24:$C$1300,$C65,Deviation_Limits!$D$24:$D$1300,$D65,Deviation_Limits!$J$24:$J$1300,\"Control Equipment Problems\"))","v":""},{"$f":"IF($E65=\"\",\"\",SUMIFS(Deviation_Limits!$I$24:$I$1300,Deviation_Limits!$B$24:$B$1300,$B65,Deviation_Limits!$C$24:$C$1300,$C65,Deviation_Limits!$D$24:$D$1300,$D65,Deviation_Limits!$J$24:$J$1300,\"Process Problems\"))","v":""},{"$f":"IF($E65=\"\",\"\",SUMIFS(Deviation_Limits!$I$24:$I$1300,Deviation_Limits!$B$24:$B$1300,$B65,Deviation_Limits!$C$24:$C$1300,$C65,Deviation_Limits!$D$24:$D$1300,$D65,Deviation_Limits!$J$24:$J$1300,\"Other Known Causes\"))","v":""},{"$f":"IF($E65=\"\",\"\",SUMIFS(Deviation_Limits!$I$24:$I$1300,Deviation_Limits!$B$24:$B$1300,$B65,Deviation_Limits!$C$24:$C$1300,$C65,Deviation_Limits!$D$24:$D$1300,$D65,Deviation_Limits!$J$24:$J$1300,\"Other Unknown Causes\"))","v":""}]
[null,{"$f":"IF(Lists!AU44=\"\",\"\",Lists!AU44)","v":""},{"$f":"IF(Lists!AV44=\"\",\"\",Lists!AV44)","v":""},{"$f":"IF(Lists!AW44=\"\",\"\",Lists!AW44)","v":""},null,{"$f":"IF(E66=\"\",\"\",SUMIFS(Deviation_Limits!$I$24:$I$1300,Deviation_Limits!$B$24:$B$1300,$B66,Deviation_Limits!$C$24:$C$1300,$C66,Deviation_Limits!$D$24:$D$1300,$D66))","v":""},"",{"$f":"IF($E66=\"\",\"\",SUMIFS(Deviation_Limits!$I$24:$I$1300,Deviation_Limits!$B$24:$B$1300,$B66,Deviation_Limits!$C$24:$C$1300,$C66,Deviation_Limits!$D$24:$D$1300,$D66,Deviation_Limits!$J$24:$J$1300,\"Control Equipment Problems\"))","v":""},{"$f":"IF($E66=\"\",\"\",SUMIFS(Deviation_Limits!$I$24:$I$1300,Deviation_Limits!$B$24:$B$1300,$B66,Deviation_Limits!$C$24:$C$1300,$C66,Deviation_Limits!$D$24:$D$1300,$D66,Deviation_Limits!$J$24:$J$1300,\"Process Problems\"))","v":""},{"$f":"IF($E66=\"\",\"\",SUMIFS(Deviation_Limits!$I$24:$I$1300,Deviation_Limits!$B$24:$B$1300,$B66,Deviation_Limits!$C$24:$C$1300,$C66,Deviation_Limits!$D$24:$D$1300,$D66,Deviation_Limits!$J$24:$J$1300,\"Other Known Causes\"))","v":""},{"$f":"IF($E66=\"\",\"\",SUMIFS(Deviation_Limits!$I$24:$I$1300,Deviation_Limits!$B$24:$B$1300,$B66,Deviation_Limits!$C$24:$C$1300,$C66,Deviation_Limits!$D$24:$D$1300,$D66,Deviation_Limits!$J$24:$J$1300,\"Other Unknown Causes\"))","v":""}]
[null,{"$f":"IF(Lists!AU45=\"\",\"\",Lists!AU45)","v":""},{"$f":"IF(Lists!AV45=\"\",\"\",Lists!AV45)","v":""},{"$f":"IF(Lists!AW45=\"\",\"\",Lists!AW45)","v":""},null,{"$f":"IF(E67=\"\",\"\",SUMIFS(Deviation_Limits!$I$24:$I$1300,Deviation_Limits!$B$24:$B$1300,$B67,Deviation_Limits!$C$24:$C$1300,$C67,Deviation_Limits!$D$24:$D$1300,$D67))","v":""},"",{"$f":"IF($E67=\"\",\"\",SUMIFS(Deviation_Limits!$I$24:$I$1300,Deviation_Limits!$B$24:$B$1300,$B67,Deviation_Limits!$C$24:$C$1300,$C67,Deviation_Limits!$D$24:$D$1300,$D67,Deviation_Limits!$J$24:$J$1300,\"Control Equipment Problems\"))","v":""},{"$f":"IF($E67=\"\",\"\",SUMIFS(Deviation_Limits!$I$24:$I$1300,Deviation_Limits!$B$24:$B$1300,$B67,Deviation_Limits!$C$24:$C$1300,$C67,Deviation_Limits!$D$24:$D$1300,$D67,Deviation_Limits!$J$24:$J$1300,\"Process Problems\"))","v":""},{"$f":"IF($E67=\"\",\"\",SUMIFS(Deviation_Limits!$I$24:$I$1300,Deviation_Limits!$B$24:$B$1300,$B67,Deviation_Limits!$C$24:$C$1300,$C67,Deviation_Limits!$D$24:$D$1300,$D67,Deviation_Limits!$J$24:$J$1300,\"Other Known Causes\"))","v":""},{"$f":"IF($E67=\"\",\"\",SUMIFS(Deviation_Limits!$I$24:$I$1300,Deviation_Limits!$B$24:$B$1300,$B67,Deviation_Limits!$C$24:$C$1300,$C67,Deviation_Limits!$D$24:$D$1300,$D67,Deviation_Limits!$J$24:$J$1300,\"Other Unknown Causes\"))","v":""}]
[null,{"$f":"IF(Lists!AU46=\"\",\"\",Lists!AU46)","v":""},{"$f":"IF(Lists!AV46=\"\",\"\",Lists!AV46)","v":""},{"$f":"IF(Lists!AW46=\"\",\"\",Lists!AW46)","v":""},null,{"$f":"IF(E68=\"\",\"\",SUMIFS(Deviation_Limits!$I$24:$I$1300,Deviation_Limits!$B$24:$B$1300,$B68,Deviation_Limits!$C$24:$C$1300,$C68,Deviation_Limits!$D$24:$D$1300,$D68))","v":""},"",{"$f":"IF($E68=\"\",\"\",SUMIFS(Deviation_Limits!$I$24:$I$1300,Deviation_Limits!$B$24:$B$1300,$B68,Deviation_Limits!$C$24:$C$1300,$C68,Deviation_Limits!$D$24:$D$1300,$D68,Deviation_Limits!$J$24:$J$1300,\"Control Equipment Problems\"))","v":""},{"$f":"IF($E68=\"\",\"\",SUMIFS(Deviation_Limits!$I$24:$I$1300,Deviation_Limits!$B$24:$B$1300,$B68,Deviation_Limits!$C$24:$C$1300,$C68,Deviation_Limits!$D$24:$D$1300,$D68,Deviation_Limits!$J$24:$J$1300,\"Process Problems\"))","v":""},{"$f":"IF($E68=\"\",\"\",SUMIFS(Deviation_Limits!$I$24:$I$1300,Deviation_Limits!$B$24:$B$1300,$B68,Deviation_Limits!$C$24:$C$1300,$C68,Deviation_Limits!$D$24:$D$1300,$D68,Deviation_Limits!$J$24:$J$1300,\"Other Known Causes\"))","v":""},{"$f":"IF($E68=\"\",\"\",SUMIFS(Deviation_Limits!$I$24:$I$1300,Deviation_Limits!$B$24:$B$1300,$B68,Deviation_Limits!$C$24:$C$1300,$C68,Deviation_Limits!$D$24:$D$1300,$D68,Deviation_Limits!$J$24:$J$1300,\"Other Unknown Causes\"))","v":""}]
[null,{"$f":"IF(Lists!AU47=\"\",\"\",Lists!AU47)","v":""},{"$f":"IF(Lists!AV47=\"\",\"\",Lists!AV47)","v":""},{"$f":"IF(Lists!AW47=\"\",\"\",Lists!AW47)","v":""},null,{"$f":"IF(E69=\"\",\"\",SUMIFS(Deviation_Limits!$I$24:$I$1300,Deviation_Limits!$B$24:$B$1300,$B69,Deviation_Limits!$C$24:$C$1300,$C69,Deviation_Limits!$D$24:$D$1300,$D69))","v":""},"",{"$f":"IF($E69=\"\",\"\",SUMIFS(Deviation_Limits!$I$24:$I$1300,Deviation_Limits!$B$24:$B$1300,$B69,Deviation_Limits!$C$24:$C$1300,$C69,Deviation_Limits!$D$24:$D$1300,$D69,Deviation_Limits!$J$24:$J$1300,\"Control Equipment Problems\"))","v":""},{"$f":"IF($E69=\"\",\"\",SUMIFS(Deviation_Limits!$I$24:$I$1300,Deviation_Limits!$B$24:$B$1300,$B69,Deviation_Limits!$C$24:$C$1300,$C69,Deviation_Limits!$D$24:$D$1300,$D69,Deviation_Limits!$J$24:$J$1300,\"Process Problems\"))","v":""},{"$f":"IF($E69=\"\",\"\",SUMIFS(Deviation_Limits!$I$24:$I$1300,Deviation_Limits!$B$24:$B$1300,$B69,Deviation_Limits!$C$24:$C$1300,$C69,Deviation_Limits!$D$24:$D$1300,$D69,Deviation_Limits!$J$24:$J$1300,\"Other Known Causes\"))","v":""},{"$f":"IF($E69=\"\",\"\",SUMIFS(Deviation_Limits!$I$24:$I$1300,Deviation_Limits!$B$24:$B$1300,$B69,Deviation_Limits!$C$24:$C$1300,$C69,Deviation_Limits!$D$24:$D$1300,$D69,Deviation_Limits!$J$24:$J$1300,\"Other Unknown Causes\"))","v":""}]
[null,{"$f":"IF(Lists!AU48=\"\",\"\",Lists!AU48)","v":""},{"$f":"IF(Lists!AV48=\"\",\"\",Lists!AV48)","v":""},{"$f":"IF(Lists!AW48=\"\",\"\",Lists!AW48)","v":""},null,{"$f":"IF(E70=\"\",\"\",SUMIFS(Deviation_Limits!$I$24:$I$1300,Deviation_Limits!$B$24:$B$1300,$B70,Deviation_Limits!$C$24:$C$1300,$C70,Deviation_Limits!$D$24:$D$1300,$D70))","v":""},"",{"$f":"IF($E70=\"\",\"\",SUMIFS(Deviation_Limits!$I$24:$I$1300,Deviation_Limits!$B$24:$B$1300,$B70,Deviation_Limits!$C$24:$C$1300,$C70,Deviation_Limits!$D$24:$D$1300,$D70,Deviation_Limits!$J$24:$J$1300,\"Control Equipment Problems\"))","v":""},{"$f":"IF($E70=\"\",\"\",SUMIFS(Deviation_Limits!$I$24:$I$1300,Deviation_Limits!$B$24:$B$1300,$B70,Deviation_Limits!$C$24:$C$1300,$C70,Deviation_Limits!$D$24:$D$1300,$D70,Deviation_Limits!$J$24:$J$1300,\"Process Problems\"))","v":""},{"$f":"IF($E70=\"\",\"\",SUMIFS(Deviation_Limits!$I$24:$I$1300,Deviation_Limits!$B$24:$B$1300,$B70,Deviation_Limits!$C$24:$C$1300,$C70,Deviation_Limits!$D$24:$D$1300,$D70,Deviation_Limits!$J$24:$J$1300,\"Other Known Causes\"))","v":""},{"$f":"IF($E70=\"\",\"\",SUMIFS(Deviation_Limits!$I$24:$I$1300,Deviation_Limits!$B$24:$B$1300,$B70,Deviation_Limits!$C$24:$C$1300,$C70,Deviation_Limits!$D$24:$D$1300,$D70,Deviation_Limits!$J$24:$J$1300,\"Other Unknown Causes\"))","v":""}]
[null,{"$f":"IF(Lists!AU49=\"\",\"\",Lists!AU49)","v":""},{"$f":"IF(Lists!AV49=\"\",\"\",Lists!AV49)","v":""},{"$f":"IF(Lists!AW49=\"\",\"\",Lists!AW49)","v":""},null,{"$f":"IF(E71=\"\",\"\",SUMIFS(Deviation_Limits!$I$24:$I$1300,Deviation_Limits!$B$24:$B$1300,$B71,Deviation_Limits!$C$24:$C$1300,$C71,Deviation_Limits!$D$24:$D$1300,$D71))","v":""},"",{"$f":"IF($E71=\"\",\"\",SUMIFS(Deviation_Limits!$I$24:$I$1300,Deviation_Limits!$B$24:$B$1300,$B71,Deviation_Limits!$C$24:$C$1300,$C71,Deviation_Limits!$D$24:$D$1300,$D71,Deviation_Limits!$J$24:$J$1300,\"Control Equipment Problems\"))","v":""},{"$f":"IF($E71=\"\",\"\",SUMIFS(Deviation_Limits!$I$24:$I$1300,Deviation_Limits!$B$24:$B$1300,$B71,Deviation_Limits!$C$24:$C$1300,$C71,Deviation_Limits!$D$24:$D$1300,$D71,Deviation_Limits!$J$24:$J$1300,\"Process Problems\"))","v":""},{"$f":"IF($E71=\"\",\"\",SUMIFS(Deviation_Limits!$I$24:$I$1300,Deviation_Limits!$B$24:$B$1300,$B71,Deviation_Limits!$C$24:$C$1300,$C71,Deviation_Limits!$D$24:$D$1300,$D71,Deviation_Limits!$J$24:$J$1300,\"Other Known Causes\"))","v":""},{"$f":"IF($E71=\"\",\"\",SUMIFS(Deviation_Limits!$I$24:$I$1300,Deviation_Limits!$B$24:$B$1300,$B71,Deviation_Limits!$C$24:$C$1300,$C71,Deviation_Limits!$D$24:$D$1300,$D71,Deviation_Limits!$J$24:$J$1300,\"Other Unknown Causes\"))","v":""}]
[null,{"$f":"IF(Lists!AU50=\"\",\"\",Lists!AU50)","v":""},{"$f":"IF(Lists!AV50=\"\",\"\",Lists!AV50)","v":""},{"$f":"IF(Lists!AW50=\"\",\"\",Lists!AW50)","v":""},null,{"$f":"IF(E72=\"\",\"\",SUMIFS(Deviation_Limits!$I$24:$I$1300,Deviation_Limits!$B$24:$B$1300,$B72,Deviation_Limits!$C$24:$C$1300,$C72,Deviation_Limits!$D$24:$D$1300,$D72))","v":""},"",{"$f":"IF($E72=\"\",\"\",SUMIFS(Deviation_Limits!$I$24:$I$1300,Deviation_Limits!$B$24:$B$1300,$B72,Deviation_Limits!$C$24:$C$1300,$C72,Deviation_Limits!$D$24:$D$1300,$D72,Deviation_Limits!$J$24:$J$1300,\"Control Equipment Problems\"))","v":""},{"$f":"IF($E72=\"\",\"\",SUMIFS(Deviation_Limits!$I$24:$I$1300,Deviation_Limits!$B$24:$B$1300,$B72,Deviation_Limits!$C$24:$C$1300,$C72,Deviation_Limits!$D$24:$D$1300,$D72,Deviation_Limits!$J$24:$J$1300,\"Process Problems\"))","v":""},{"$f":"IF($E72=\"\",\"\",SUMIFS(Deviation_Limits!$I$24:$I$1300,Deviation_Limits!$B$24:$B$1300,$B72,Deviation_Limits!$C$24:$C$1300,$C72,Deviation_Limits!$D$24:$D$1300,$D72,Deviation_Limits!$J$24:$J$1300,\"Other Known Causes\"))","v":""},{"$f":"IF($E72=\"\",\"\",SUMIFS(Deviation_Limits!$I$24:$I$1300,Deviation_Limits!$B$24:$B$1300,$B72,Deviation_Limits!$C$24:$C$1300,$C72,Deviation_Limits!$D$24:$D$1300,$D72,Deviation_Limits!$J$24:$J$1300,\"Other Unknown Causes\"))","v":""}]
[null,{"$f":"IF(Lists!AU51=\"\",\"\",Lists!AU51)","v":""},{"$f":"IF(Lists!AV51=\"\",\"\",Lists!AV51)","v":""},{"$f":"IF(Lists!AW51=\"\",\"\",Lists!AW51)","v":""},null,{"$f":"IF(E73=\"\",\"\",SUMIFS(Deviation_Limits!$I$24:$I$1300,Deviation_Limits!$B$24:$B$1300,$B73,Deviation_Limits!$C$24:$C$1300,$C73,Deviation_Limits!$D$24:$D$1300,$D73))","v":""},"",{"$f":"IF($E73=\"\",\"\",SUMIFS(Deviation_Limits!$I$24:$I$1300,Deviation_Limits!$B$24:$B$1300,$B73,Deviation_Limits!$C$24:$C$1300,$C73,Deviation_Limits!$D$24:$D$1300,$D73,Deviation_Limits!$J$24:$J$1300,\"Control Equipment Problems\"))","v":""},{"$f":"IF($E73=\"\",\"\",SUMIFS(Deviation_Limits!$I$24:$I$1300,Deviation_Limits!$B$24:$B$1300,$B73,Deviation_Limits!$C$24:$C$1300,$C73,Deviation_Limits!$D$24:$D$1300,$D73,Deviation_Limits!$J$24:$J$1300,\"Process Problems\"))","v":""},{"$f":"IF($E73=\"\",\"\",SUMIFS(Deviation_Limits!$I$24:$I$1300,Deviation_Limits!$B$24:$B$1300,$B73,Deviation_Limits!$C$24:$C$1300,$C73,Deviation_Limits!$D$24:$D$1300,$D73,Deviation_Limits!$J$24:$J$1300,\"Other Known Causes\"))","v":""},{"$f":"IF($E73=\"\",\"\",SUMIFS(Deviation_Limits!$I$24:$I$1300,Deviation_Limits!$B$24:$B$1300,$B73,Deviation_Limits!$C$24:$C$1300,$C73,Deviation_Limits!$D$24:$D$1300,$D73,Deviation_Limits!$J$24:$J$1300,\"Other Unknown Causes\"))","v":""}]
[null,{"$f":"IF(Lists!AU52=\"\",\"\",Lists!AU52)","v":""},{"$f":"IF(Lists!AV52=\"\",\"\",Lists!AV52)","v":""},{"$f":"IF(Lists!AW52=\"\",\"\",Lists!AW52)","v":""},null,{"$f":"IF(E74=\"\",\"\",SUMIFS(Deviation_Limits!$I$24:$I$1300,Deviation_Limits!$B$24:$B$1300,$B74,Deviation_Limits!$C$24:$C$1300,$C74,Deviation_Limits!$D$24:$D$1300,$D74))","v":""},"",{"$f":"IF($E74=\"\",\"\",SUMIFS(Deviation_Limits!$I$24:$I$1300,Deviation_Limits!$B$24:$B$1300,$B74,Deviation_Limits!$C$24:$C$1300,$C74,Deviation_Limits!$D$24:$D$1300,$D74,Deviation_Limits!$J$24:$J$1300,\"Control Equipment Problems\"))","v":""},{"$f":"IF($E74=\"\",\"\",SUMIFS(Deviation_Limits!$I$24:$I$1300,Deviation_Limits!$B$24:$B$1300,$B74,Deviation_Limits!$C$24:$C$1300,$C74,Deviation_Limits!$D$24:$D$1300,$D74,Deviation_Limits!$J$24:$J$1300,\"Process Problems\"))","v":""},{"$f":"IF($E74=\"\",\"\",SUMIFS(Deviation_Limits!$I$24:$I$1300,Deviation_Limits!$B$24:$B$1300,$B74,Deviation_Limits!$C$24:$C$1300,$C74,Deviation_Limits!$D$24:$D$1300,$D74,Deviation_Limits!$J$24:$J$1300,\"Other Known Causes\"))","v":""},{"$f":"IF($E74=\"\",\"\",SUMIFS(Deviation_Limits!$I$24:$I$1300,Deviation_Limits!$B$24:$B$1300,$B74,Deviation_Limits!$C$24:$C$1300,$C74,Deviation_Limits!$D$24:$D$1300,$D74,Deviation_Limits!$J$24:$J$1300,\"Other Unknown Causes\"))","v":""}]
[null,{"$f":"IF(Lists!AU53=\"\",\"\",Lists!AU53)","v":""},{"$f":"IF(Lists!AV53=\"\",\"\",Lists!AV53)","v":""},{"$f":"IF(Lists!AW53=\"\",\"\",Lists!AW53)","v":""},null,{"$f":"IF(E75=\"\",\"\",SUMIFS(Deviation_Limits!$I$24:$I$1300,Deviation_Limits!$B$24:$B$1300,$B75,Deviation_Limits!$C$24:$C$1300,$C75,Deviation_Limits!$D$24:$D$1300,$D75))","v":""},"",{"$f":"IF($E75=\"\",\"\",SUMIFS(Deviation_Limits!$I$24:$I$1300,Deviation_Limits!$B$24:$B$1300,$B75,Deviation_Limits!$C$24:$C$1300,$C75,Deviation_Limits!$D$24:$D$1300,$D75,Deviation_Limits!$J$24:$J$1300,\"Control Equipment Problems\"))","v":""},{"$f":"IF($E75=\"\",\"\",SUMIFS(Deviation_Limits!$I$24:$I$1300,Deviation_Limits!$B$24:$B$1300,$B75,Deviation_Limits!$C$24:$C$1300,$C75,Deviation_Limits!$D$24:$D$1300,$D75,Deviation_Limits!$J$24:$J$1300,\"Process Problems\"))","v":""},{"$f":"IF($E75=\"\",\"\",SUMIFS(Deviation_Limits!$I$24:$I$1300,Deviation_Limits!$B$24:$B$1300,$B75,Deviation_Limits!$C$24:$C$1300,$C75,Deviation_Limits!$D$24:$D$1300,$D75,Deviation_Limits!$J$24:$J$1300,\"Other Known Causes\"))","v":""},{"$f":"IF($E75=\"\",\"\",SUMIFS(Deviation_Limits!$I$24:$I$1300,Deviation_Limits!$B$24:$B$1300,$B75,Deviation_Limits!$C$24:$C$1300,$C75,Deviation_Limits!$D$24:$D$1300,$D75,Deviation_Limits!$J$24:$J$1300,\"Other Unknown Causes\"))","v":""}]
[null,{"$f":"IF(Lists!AU54=\"\",\"\",Lists!AU54)","v":""},{"$f":"IF(Lists!AV54=\"\",\"\",Lists!AV54)","v":""},{"$f":"IF(Lists!AW54=\"\",\"\",Lists!AW54)","v":""},null,{"$f":"IF(E76=\"\",\"\",SUMIFS(Deviation_Limits!$I$24:$I$1300,Deviation_Limits!$B$24:$B$1300,$B76,Deviation_Limits!$C$24:$C$1300,$C76,Deviation_Limits!$D$24:$D$1300,$D76))","v":""},"",{"$f":"IF($E76=\"\",\"\",SUMIFS(Deviation_Limits!$I$24:$I$1300,Deviation_Limits!$B$24:$B$1300,$B76,Deviation_Limits!$C$24:$C$1300,$C76,Deviation_Limits!$D$24:$D$1300,$D76,Deviation_Limits!$J$24:$J$1300,\"Control Equipment Problems\"))","v":""},{"$f":"IF($E76=\"\",\"\",SUMIFS(Deviation_Limits!$I$24:$I$1300,Deviation_Limits!$B$24:$B$1300,$B76,Deviation_Limits!$C$24:$C$1300,$C76,Deviation_Limits!$D$24:$D$1300,$D76,Deviation_Limits!$J$24:$J$1300,\"Process Problems\"))","v":""},{"$f":"IF($E76=\"\",\"\",SUMIFS(Deviation_Limits!$I$24:$I$1300,Deviation_Limits!$B$24:$B$1300,$B76,Deviation_Limits!$C$24:$C$1300,$C76,Deviation_Limits!$D$24:$D$1300,$D76,Deviation_Limits!$J$24:$J$1300,\"Other Known Causes\"))","v":""},{"$f":"IF($E76=\"\",\"\",SUMIFS(Deviation_Limits!$I$24:$I$1300,Deviation_Limits!$B$24:$B$1300,$B76,Deviation_Limits!$C$24:$C$1300,$C76,Deviation_Limits!$D$24:$D$1300,$D76,Deviation_Limits!$J$24:$J$1300,\"Other Unknown Causes\"))","v":""}]
[null,{"$f":"IF(Lists!AU55=\"\",\"\",Lists!AU55)","v":""},{"$f":"IF(Lists!AV55=\"\",\"\",Lists!AV55)","v":""},{"$f":"IF(Lists!AW55=\"\",\"\",Lists!AW55)","v":""},null,{"$f":"IF(E77=\"\",\"\",SUMIFS(Deviation_Limits!$I$24:$I$1300,Deviation_Limits!$B$24:$B$1300,$B77,Deviation_Limits!$C$24:$C$1300,$C77,Deviation_Limits!$D$24:$D$1300,$D77))","v":""},"",{"$f":"IF($E77=\"\",\"\",SUMIFS(Deviation_Limits!$I$24:$I$1300,Deviation_Limits!$B$24:$B$1300,$B77,Deviation_Limits!$C$24:$C$1300,$C77,Deviation_Limits!$D$24:$D$1300,$D77,Deviation_Limits!$J$24:$J$1300,\"Control Equipment Problems\"))","v":""},{"$f":"IF($E77=\"\",\"\",SUMIFS(Deviation_Limits!$I$24:$I$1300,Deviation_Limits!$B$24:$B$1300,$B77,Deviation_Limits!$C$24:$C$1300,$C77,Deviation_Limits!$D$24:$D$1300,$D77,Deviation_Limits!$J$24:$J$1300,\"Process Problems\"))","v":""},{"$f":"IF($E77=\"\",\"\",SUMIFS(Deviation_Limits!$I$24:$I$1300,Deviation_Limits!$B$24:$B$1300,$B77,Deviation_Limits!$C$24:$C$1300,$C77,Deviation_Limits!$D$24:$D$1300,$D77,Deviation_Limits!$J$24:$J$1300,\"Other Known Causes\"))","v":""},{"$f":"IF($E77=\"\",\"\",SUMIFS(Deviation_Limits!$I$24:$I$1300,Deviation_Limits!$B$24:$B$1300,$B77,Deviation_Limits!$C$24:$C$1300,$C77,Deviation_Limits!$D$24:$D$1300,$D77,Deviation_Limits!$J$24:$J$1300,\"Other Unknown Causes\"))","v":""}]
[null,{"$f":"IF(Lists!AU56=\"\",\"\",Lists!AU56)","v":""},{"$f":"IF(Lists!AV56=\"\",\"\",Lists!AV56)","v":""},{"$f":"IF(Lists!AW56=\"\",\"\",Lists!AW56)","v":""},null,{"$f":"IF(E78=\"\",\"\",SUMIFS(Deviation_Limits!$I$24:$I$1300,Deviation_Limits!$B$24:$B$1300,$B78,Deviation_Limits!$C$24:$C$1300,$C78,Deviation_Limits!$D$24:$D$1300,$D78))","v":""},"",{"$f":"IF($E78=\"\",\"\",SUMIFS(Deviation_Limits!$I$24:$I$1300,Deviation_Limits!$B$24:$B$1300,$B78,Deviation_Limits!$C$24:$C$1300,$C78,Deviation_Limits!$D$24:$D$1300,$D78,Deviation_Limits!$J$24:$J$1300,\"Control Equipment Problems\"))","v":""},{"$f":"IF($E78=\"\",\"\",SUMIFS(Deviation_Limits!$I$24:$I$1300,Deviation_Limits!$B$24:$B$1300,$B78,Deviation_Limits!$C$24:$C$1300,$C78,Deviation_Limits!$D$24:$D$1300,$D78,Deviation_Limits!$J$24:$J$1300,\"Process Problems\"))","v":""},{"$f":"IF($E78=\"\",\"\",SUMIFS(Deviation_Limits!$I$24:$I$1300,Deviation_Limits!$B$24:$B$1300,$B78,Deviation_Limits!$C$24:$C$1300,$C78,Deviation_Limits!$D$24:$D$1300,$D78,Deviation_Limits!$J$24:$J$1300,\"Other Known Causes\"))","v":""},{"$f":"IF($E78=\"\",\"\",SUMIFS(Deviation_Limits!$I$24:$I$1300,Deviation_Limits!$B$24:$B$1300,$B78,Deviation_Limits!$C$24:$C$1300,$C78,Deviation_Limits!$D$24:$D$1300,$D78,Deviation_Limits!$J$24:$J$1300,\"Other Unknown Causes\"))","v":""}]
[null,{"$f":"IF(Lists!AU57=\"\",\"\",Lists!AU57)","v":""},{"$f":"IF(Lists!AV57=\"\",\"\",Lists!AV57)","v":""},{"$f":"IF(Lists!AW57=\"\",\"\",Lists!AW57)","v":""},null,{"$f":"IF(E79=\"\",\"\",SUMIFS(Deviation_Limits!$I$24:$I$1300,Deviation_Limits!$B$24:$B$1300,$B79,Deviation_Limits!$C$24:$C$1300,$C79,Deviation_Limits!$D$24:$D$1300,$D79))","v":""},"",{"$f":"IF($E79=\"\",\"\",SUMIFS(Deviation_Limits!$I$24:$I$1300,Deviation_Limits!$B$24:$B$1300,$B79,Deviation_Limits!$C$24:$C$1300,$C79,Deviation_Limits!$D$24:$D$1300,$D79,Deviation_Limits!$J$24:$J$1300,\"Control Equipment Problems\"))","v":""},{"$f":"IF($E79=\"\",\"\",SUMIFS(Deviation_Limits!$I$24:$I$1300,Deviation_Limits!$B$24:$B$1300,$B79,Deviation_Limits!$C$24:$C$1300,$C79,Deviation_Limits!$D$24:$D$1300,$D79,Deviation_Limits!$J$24:$J$1300,\"Process Problems\"))","v":""},{"$f":"IF($E79=\"\",\"\",SUMIFS(Deviation_Limits!$I$24:$I$1300,Deviation_Limits!$B$24:$B$1300,$B79,Deviation_Limits!$C$24:$C$1300,$C79,Deviation_Limits!$D$24:$D$1300,$D79,Deviation_Limits!$J$24:$J$1300,\"Other Known Causes\"))","v":""},{"$f":"IF($E79=\"\",\"\",SUMIFS(Deviation_Limits!$I$24:$I$1300,Deviation_Limits!$B$24:$B$1300,$B79,Deviation_Limits!$C$24:$C$1300,$C79,Deviation_Limits!$D$24:$D$1300,$D79,Deviation_Limits!$J$24:$J$1300,\"Other Unknown Causes\"))","v":""}]
[null,{"$f":"IF(Lists!AU58=\"\",\"\",Lists!AU58)","v":""},{"$f":"IF(Lists!AV58=\"\",\"\",Lists!AV58)","v":""},{"$f":"IF(Lists!AW58=\"\",\"\",Lists!AW58)","v":""},null,{"$f":"IF(E80=\"\",\"\",SUMIFS(Deviation_Limits!$I$24:$I$1300,Deviation_Limits!$B$24:$B$1300,$B80,Deviation_Limits!$C$24:$C$1300,$C80,Deviation_Limits!$D$24:$D$1300,$D80))","v":""},"",{"$f":"IF($E80=\"\",\"\",SUMIFS(Deviation_Limits!$I$24:$I$1300,Deviation_Limits!$B$24:$B$1300,$B80,Deviation_Limits!$C$24:$C$1300,$C80,Deviation_Limits!$D$24:$D$1300,$D80,Deviation_Limits!$J$24:$J$1300,\"Control Equipment Problems\"))","v":""},{"$f":"IF($E80=\"\",\"\",SUMIFS(Deviation_Limits!$I$24:$I$1300,Deviation_Limits!$B$24:$B$1300,$B80,Deviation_Limits!$C$24:$C$1300,$C80,Deviation_Limits!$D$24:$D$1300,$D80,Deviation_Limits!$J$24:$J$1300,\"Process Problems\"))","v":""},{"$f":"IF($E80=\"\",\"\",SUMIFS(Deviation_Limits!$I$24:$I$1300,Deviation_Limits!$B$24:$B$1300,$B80,Deviation_Limits!$C$24:$C$1300,$C80,Deviation_Limits!$D$24:$D$1300,$D80,Deviation_Limits!$J$24:$J$1300,\"Other Known Causes\"))","v":""},{"$f":"IF($E80=\"\",\"\",SUMIFS(Deviation_Limits!$I$24:$I$1300,Deviation_Limits!$B$24:$B$1300,$B80,Deviation_Limits!$C$24:$C$1300,$C80,Deviation_Limits!$D$24:$D$1300,$D80,Deviation_Limits!$J$24:$J$1300,\"Other Unknown Causes\"))","v":""}]
[null,{"$f":"IF(Lists!AU59=\"\",\"\",Lists!AU59)","v":""},{"$f":"IF(Lists!AV59=\"\",\"\",Lists!AV59)","v":""},{"$f":"IF(Lists!AW59=\"\",\"\",Lists!AW59)","v":""},null,{"$f":"IF(E81=\"\",\"\",SUMIFS(Deviation_Limits!$I$24:$I$1300,Deviation_Limits!$B$24:$B$1300,$B81,Deviation_Limits!$C$24:$C$1300,$C81,Deviation_Limits!$D$24:$D$1300,$D81))","v":""},"",{"$f":"IF($E81=\"\",\"\",SUMIFS(Deviation_Limits!$I$24:$I$1300,Deviation_Limits!$B$24:$B$1300,$B81,Deviation_Limits!$C$24:$C$1300,$C81,Deviation_Limits!$D$24:$D$1300,$D81,Deviation_Limits!$J$24:$J$1300,\"Control Equipment Problems\"))","v":""},{"$f":"IF($E81=\"\",\"\",SUMIFS(Deviation_Limits!$I$24:$I$1300,Deviation_Limits!$B$24:$B$1300,$B81,Deviation_Limits!$C$24:$C$1300,$C81,Deviation_Limits!$D$24:$D$1300,$D81,Deviation_Limits!$J$24:$J$1300,\"Process Problems\"))","v":""},{"$f":"IF($E81=\"\",\"\",SUMIFS(Deviation_Limits!$I$24:$I$1300,Deviation_Limits!$B$24:$B$1300,$B81,Deviation_Limits!$C$24:$C$1300,$C81,Deviation_Limits!$D$24:$D$1300,$D81,Deviation_Limits!$J$24:$J$1300,\"Other Known Causes\"))","v":""},{"$f":"IF($E81=\"\",\"\",SUMIFS(Deviation_Limits!$I$24:$I$1300,Deviation_Limits!$B$24:$B$1300,$B81,Deviation_Limits!$C$24:$C$1300,$C81,Deviation_Limits!$D$24:$D$1300,$D81,Deviation_Limits!$J$24:$J$1300,\"Other Unknown Causes\"))","v":""}]
[null,{"$f":"IF(Lists!AU60=\"\",\"\",Lists!AU60)","v":""},{"$f":"IF(Lists!AV60=\"\",\"\",Lists!AV60)","v":""},{"$f":"IF(Lists!AW60=\"\",\"\",Lists!AW60)","v":""},null,{"$f":"IF(E82=\"\",\"\",SUMIFS(Deviation_Limits!$I$24:$I$1300,Deviation_Limits!$B$24:$B$1300,$B82,Deviation_Limits!$C$24:$C$1300,$C82,Deviation_Limits!$D$24:$D$1300,$D82))","v":""},"",{"$f":"IF($E82=\"\",\"\",SUMIFS(Deviation_Limits!$I$24:$I$1300,Deviation_Limits!$B$24:$B$1300,$B82,Deviation_Limits!$C$24:$C$1300,$C82,Deviation_Limits!$D$24:$D$1300,$D82,Deviation_Limits!$J$24:$J$1300,\"Control Equipment Problems\"))","v":""},{"$f":"IF($E82=\"\",\"\",SUMIFS(Deviation_Limits!$I$24:$I$1300,Deviation_Limits!$B$24:$B$1300,$B82,Deviation_Limits!$C$24:$C$1300,$C82,Deviation_Limits!$D$24:$D$1300,$D82,Deviation_Limits!$J$24:$J$1300,\"Process Problems\"))","v":""},{"$f":"IF($E82=\"\",\"\",SUMIFS(Deviation_Limits!$I$24:$I$1300,Deviation_Limits!$B$24:$B$1300,$B82,Deviation_Limits!$C$24:$C$1300,$C82,Deviation_Limits!$D$24:$D$1300,$D82,Deviation_Limits!$J$24:$J$1300,\"Other Known Causes\"))","v":""},{"$f":"IF($E82=\"\",\"\",SUMIFS(Deviation_Limits!$I$24:$I$1300,Deviation_Limits!$B$24:$B$1300,$B82,Deviation_Limits!$C$24:$C$1300,$C82,Deviation_Limits!$D$24:$D$1300,$D82,Deviation_Limits!$J$24:$J$1300,\"Other Unknown Causes\"))","v":""}]
[null,{"$f":"IF(Lists!AU61=\"\",\"\",Lists!AU61)","v":""},{"$f":"IF(Lists!AV61=\"\",\"\",Lists!AV61)","v":""},{"$f":"IF(Lists!AW61=\"\",\"\",Lists!AW61)","v":""},null,{"$f":"IF(E83=\"\",\"\",SUMIFS(Deviation_Limits!$I$24:$I$1300,Deviation_Limits!$B$24:$B$1300,$B83,Deviation_Limits!$C$24:$C$1300,$C83,Deviation_Limits!$D$24:$D$1300,$D83))","v":""},"",{"$f":"IF($E83=\"\",\"\",SUMIFS(Deviation_Limits!$I$24:$I$1300,Deviation_Limits!$B$24:$B$1300,$B83,Deviation_Limits!$C$24:$C$1300,$C83,Deviation_Limits!$D$24:$D$1300,$D83,Deviation_Limits!$J$24:$J$1300,\"Control Equipment Problems\"))","v":""},{"$f":"IF($E83=\"\",\"\",SUMIFS(Deviation_Limits!$I$24:$I$1300,Deviation_Limits!$B$24:$B$1300,$B83,Deviation_Limits!$C$24:$C$1300,$C83,Deviation_Limits!$D$24:$D$1300,$D83,Deviation_Limits!$J$24:$J$1300,\"Process Problems\"))","v":""},{"$f":"IF($E83=\"\",\"\",SUMIFS(Deviation_Limits!$I$24:$I$1300,Deviation_Limits!$B$24:$B$1300,$B83,Deviation_Limits!$C$24:$C$1300,$C83,Deviation_Limits!$D$24:$D$1300,$D83,Deviation_Limits!$J$24:$J$1300,\"Other Known Causes\"))","v":""},{"$f":"IF($E83=\"\",\"\",SUMIFS(Deviation_Limits!$I$24:$I$1300,Deviation_Limits!$B$24:$B$1300,$B83,Deviation_Limits!$C$24:$C$1300,$C83,Deviation_Limits!$D$24:$D$1300,$D83,Deviation_Limits!$J$24:$J$1300,\"Other Unknown Causes\"))","v":""}]
[null,{"$f":"IF(Lists!AU62=\"\",\"\",Lists!AU62)","v":""},{"$f":"IF(Lists!AV62=\"\",\"\",Lists!AV62)","v":""},{"$f":"IF(Lists!AW62=\"\",\"\",Lists!AW62)","v":""},null,{"$f":"IF(E84=\"\",\"\",SUMIFS(Deviation_Limits!$I$24:$I$1300,Deviation_Limits!$B$24:$B$1300,$B84,Deviation_Limits!$C$24:$C$1300,$C84,Deviation_Limits!$D$24:$D$1300,$D84))","v":""},"",{"$f":"IF($E84=\"\",\"\",SUMIFS(Deviation_Limits!$I$24:$I$1300,Deviation_Limits!$B$24:$B$1300,$B84,Deviation_Limits!$C$24:$C$1300,$C84,Deviation_Limits!$D$24:$D$1300,$D84,Deviation_Limits!$J$24:$J$1300,\"Control Equipment Problems\"))","v":""},{"$f":"IF($E84=\"\",\"\",SUMIFS(Deviation_Limits!$I$24:$I$1300,Deviation_Limits!$B$24:$B$1300,$B84,Deviation_Limits!$C$24:$C$1300,$C84,Deviation_Limits!$D$24:$D$1300,$D84,Deviation_Limits!$J$24:$J$1300,\"Process Problems\"))","v":""},{"$f":"IF($E84=\"\",\"\",SUMIFS(Deviation_Limits!$I$24:$I$1300,Deviation_Limits!$B$24:$B$1300,$B84,Deviation_Limits!$C$24:$C$1300,$C84,Deviation_Limits!$D$24:$D$1300,$D84,Deviation_Limits!$J$24:$J$1300,\"Other Known Causes\"))","v":""},{"$f":"IF($E84=\"\",\"\",SUMIFS(Deviation_Limits!$I$24:$I$1300,Deviation_Limits!$B$24:$B$1300,$B84,Deviation_Limits!$C$24:$C$1300,$C84,Deviation_Limits!$D$24:$D$1300,$D84,Deviation_Limits!$J$24:$J$1300,\"Other Unknown Causes\"))","v":""}]
[null,{"$f":"IF(Lists!AU63=\"\",\"\",Lists!AU63)","v":""},{"$f":"IF(Lists!AV63=\"\",\"\",Lists!AV63)","v":""},{"$f":"IF(Lists!AW63=\"\",\"\",Lists!AW63)","v":""},null,{"$f":"IF(E85=\"\",\"\",SUMIFS(Deviation_Limits!$I$24:$I$1300,Deviation_Limits!$B$24:$B$1300,$B85,Deviation_Limits!$C$24:$C$1300,$C85,Deviation_Limits!$D$24:$D$1300,$D85))","v":""},"",{"$f":"IF($E85=\"\",\"\",SUMIFS(Deviation_Limits!$I$24:$I$1300,Deviation_Limits!$B$24:$B$1300,$B85,Deviation_Limits!$C$24:$C$1300,$C85,Deviation_Limits!$D$24:$D$1300,$D85,Deviation_Limits!$J$24:$J$1300,\"Control Equipment Problems\"))","v":""},{"$f":"IF($E85=\"\",\"\",SUMIFS(Deviation_Limits!$I$24:$I$1300,Deviation_Limits!$B$24:$B$1300,$B85,Deviation_Limits!$C$24:$C$1300,$C85,Deviation_Limits!$D$24:$D$1300,$D85,Deviation_Limits!$J$24:$J$1300,\"Process Problems\"))","v":""},{"$f":"IF($E85=\"\",\"\",SUMIFS(Deviation_Limits!$I$24:$I$1300,Deviation_Limits!$B$24:$B$1300,$B85,Deviation_Limits!$C$24:$C$1300,$C85,Deviation_Limits!$D$24:$D$1300,$D85,Deviation_Limits!$J$24:$J$1300,\"Other Known Causes\"))","v":""},{"$f":"IF($E85=\"\",\"\",SUMIFS(Deviation_Limits!$I$24:$I$1300,Deviation_Limits!$B$24:$B$1300,$B85,Deviation_Limits!$C$24:$C$1300,$C85,Deviation_Limits!$D$24:$D$1300,$D85,Deviation_Limits!$J$24:$J$1300,\"Other Unknown Causes\"))","v":""}]
[null,{"$f":"IF(Lists!AU64=\"\",\"\",Lists!AU64)","v":""},{"$f":"IF(Lists!AV64=\"\",\"\",Lists!AV64)","v":""},{"$f":"IF(Lists!AW64=\"\",\"\",Lists!AW64)","v":""},null,{"$f":"IF(E86=\"\",\"\",SUMIFS(Deviation_Limits!$I$24:$I$1300,Deviation_Limits!$B$24:$B$1300,$B86,Deviation_Limits!$C$24:$C$1300,$C86,Deviation_Limits!$D$24:$D$1300,$D86))","v":""},"",{"$f":"IF($E86=\"\",\"\",SUMIFS(Deviation_Limits!$I$24:$I$1300,Deviation_Limits!$B$24:$B$1300,$B86,Deviation_Limits!$C$24:$C$1300,$C86,Deviation_Limits!$D$24:$D$1300,$D86,Deviation_Limits!$J$24:$J$1300,\"Control Equipment Problems\"))","v":""},{"$f":"IF($E86=\"\",\"\",SUMIFS(Deviation_Limits!$I$24:$I$1300,Deviation_Limits!$B$24:$B$1300,$B86,Deviation_Limits!$C$24:$C$1300,$C86,Deviation_Limits!$D$24:$D$1300,$D86,Deviation_Limits!$J$24:$J$1300,\"Process Problems\"))","v":""},{"$f":"IF($E86=\"\",\"\",SUMIFS(Deviation_Limits!$I$24:$I$1300,Deviation_Limits!$B$24:$B$1300,$B86,Deviation_Limits!$C$24:$C$1300,$C86,Deviation_Limits!$D$24:$D$1300,$D86,Deviation_Limits!$J$24:$J$1300,\"Other Known Causes\"))","v":""},{"$f":"IF($E86=\"\",\"\",SUMIFS(Deviation_Limits!$I$24:$I$1300,Deviation_Limits!$B$24:$B$1300,$B86,Deviation_Limits!$C$24:$C$1300,$C86,Deviation_Limits!$D$24:$D$1300,$D86,Deviation_Limits!$J$24:$J$1300,\"Other Unknown Causes\"))","v":""}]
[null,{"$f":"IF(Lists!AU65=\"\",\"\",Lists!AU65)","v":""},{"$f":"IF(Lists!AV65=\"\",\"\",Lists!AV65)","v":""},{"$f":"IF(Lists!AW65=\"\",\"\",Lists!AW65)","v":""},null,{"$f":"IF(E87=\"\",\"\",SUMIFS(Deviation_Limits!$I$24:$I$1300,Deviation_Limits!$B$24:$B$1300,$B87,Deviation_Limits!$C$24:$C$1300,$C87,Deviation_Limits!$D$24:$D$1300,$D87))","v":""},"",{"$f":"IF($E87=\"\",\"\",SUMIFS(Deviation_Limits!$I$24:$I$1300,Deviation_Limits!$B$24:$B$1300,$B87,Deviation_Limits!$C$24:$C$1300,$C87,Deviation_Limits!$D$24:$D$1300,$D87,Deviation_Limits!$J$24:$J$1300,\"Control Equipment Problems\"))","v":""},{"$f":"IF($E87=\"\",\"\",SUMIFS(Deviation_Limits!$I$24:$I$1300,Deviation_Limits!$B$24:$B$1300,$B87,Deviation_Limits!$C$24:$C$1300,$C87,Deviation_Limits!$D$24:$D$1300,$D87,Deviation_Limits!$J$24:$J$1300,\"Process Problems\"))","v":""},{"$f":"IF($E87=\"\",\"\",SUMIFS(Deviation_Limits!$I$24:$I$1300,Deviation_Limits!$B$24:$B$1300,$B87,Deviation_Limits!$C$24:$C$1300,$C87,Deviation_Limits!$D$24:$D$1300,$D87,Deviation_Limits!$J$24:$J$1300,\"Other Known Causes\"))","v":""},{"$f":"IF($E87=\"\",\"\",SUMIFS(Deviation_Limits!$I$24:$I$1300,Deviation_Limits!$B$24:$B$1300,$B87,Deviation_Limits!$C$24:$C$1300,$C87,Deviation_Limits!$D$24:$D$1300,$D87,Deviation_Limits!$J$24:$J$1300,\"Other Unknown Causes\"))","v":""}]
[null,{"$f":"IF(Lists!AU66=\"\",\"\",Lists!AU66)","v":""},{"$f":"IF(Lists!AV66=\"\",\"\",Lists!AV66)","v":""},{"$f":"IF(Lists!AW66=\"\",\"\",Lists!AW66)","v":""},null,{"$f":"IF(E88=\"\",\"\",SUMIFS(Deviation_Limits!$I$24:$I$1300,Deviation_Limits!$B$24:$B$1300,$B88,Deviation_Limits!$C$24:$C$1300,$C88,Deviation_Limits!$D$24:$D$1300,$D88))","v":""},"",{"$f":"IF($E88=\"\",\"\",SUMIFS(Deviation_Limits!$I$24:$I$1300,Deviation_Limits!$B$24:$B$1300,$B88,Deviation_Limits!$C$24:$C$1300,$C88,Deviation_Limits!$D$24:$D$1300,$D88,Deviation_Limits!$J$24:$J$1300,\"Control Equipment Problems\"))","v":""},{"$f":"IF($E88=\"\",\"\",SUMIFS(Deviation_Limits!$I$24:$I$1300,Deviation_Limits!$B$24:$B$1300,$B88,Deviation_Limits!$C$24:$C$1300,$C88,Deviation_Limits!$D$24:$D$1300,$D88,Deviation_Limits!$J$24:$J$1300,\"Process Problems\"))","v":""},{"$f":"IF($E88=\"\",\"\",SUMIFS(Deviation_Limits!$I$24:$I$1300,Deviation_Limits!$B$24:$B$1300,$B88,Deviation_Limits!$C$24:$C$1300,$C88,Deviation_Limits!$D$24:$D$1300,$D88,Deviation_Limits!$J$24:$J$1300,\"Other Known Causes\"))","v":""},{"$f":"IF($E88=\"\",\"\",SUMIFS(Deviation_Limits!$I$24:$I$1300,Deviation_Limits!$B$24:$B$1300,$B88,Deviation_Limits!$C$24:$C$1300,$C88,Deviation_Limits!$D$24:$D$1300,$D88,Deviation_Limits!$J$24:$J$1300,\"Other Unknown Causes\"))","v":""}]
[null,{"$f":"IF(Lists!AU67=\"\",\"\",Lists!AU67)","v":""},{"$f":"IF(Lists!AV67=\"\",\"\",Lists!AV67)","v":""},{"$f":"IF(Lists!AW67=\"\",\"\",Lists!AW67)","v":""},null,{"$f":"IF(E89=\"\",\"\",SUMIFS(Deviation_Limits!$I$24:$I$1300,Deviation_Limits!$B$24:$B$1300,$B89,Deviation_Limits!$C$24:$C$1300,$C89,Deviation_Limits!$D$24:$D$1300,$D89))","v":""},{"$f":"IF($E89=\"\",\"\",IF(F89=0,\"N/A\",F89/$E89))","v":""},{"$f":"IF($E89=\"\",\"\",SUMIFS(Deviation_Limits!$I$24:$I$1300,Deviation_Limits!$B$24:$B$1300,$B89,Deviation_Limits!$C$24:$C$1300,$C89,Deviation_Limits!$D$24:$D$1300,$D89,Deviation_Limits!$J$24:$J$1300,\"Control Equipment Problems\"))","v":""},{"$f":"IF($E89=\"\",\"\",SUMIFS(Deviation_Limits!$I$24:$I$1300,Deviation_Limits!$B$24:$B$1300,$B89,Deviation_Limits!$C$24:$C$1300,$C89,Deviation_Limits!$D$24:$D$1300,$D89,Deviation_Limits!$J$24:$J$1300,\"Process Problems\"))","v":""},{"$f":"IF($E89=\"\",\"\",SUMIFS(Deviation_Limits!$I$24:$I$1300,Deviation_Limits!$B$24:$B$1300,$B89,Deviation_Limits!$C$24:$C$1300,$C89,Deviation_Limits!$D$24:$D$1300,$D89,Deviation_Limits!$J$24:$J$1300,\"Other Known Causes\"))","v":""},{"$f":"IF($E89=\"\",\"\",SUMIFS(Deviation_Limits!$I$24:$I$1300,Deviation_Limits!$B$24:$B$1300,$B89,Deviation_Limits!$C$24:$C$1300,$C89,Deviation_Limits!$D$24:$D$1300,$D89,Deviation_Limits!$J$24:$J$1300,\"Other Unknown Causes\"))","v":""}]
[null,{"$f":"IF(Lists!AU68=\"\",\"\",Lists!AU68)","v":""},{"$f":"IF(Lists!AV68=\"\",\"\",Lists!AV68)","v":""},{"$f":"IF(Lists!AW68=\"\",\"\",Lists!AW68)","v":""},null,{"$f":"IF(E90=\"\",\"\",SUMIFS(Deviation_Limits!$I$24:$I$1300,Deviation_Limits!$B$24:$B$1300,$B90,Deviation_Limits!$C$24:$C$1300,$C90,Deviation_Limits!$D$24:$D$1300,$D90))","v":""},"",{"$f":"IF($E90=\"\",\"\",SUMIFS(Deviation_Limits!$I$24:$I$1300,Deviation_Limits!$B$24:$B$1300,$B90,Deviation_Limits!$C$24:$C$1300,$C90,Deviation_Limits!$D$24:$D$1300,$D90,Deviation_Limits!$J$24:$J$1300,\"Control Equipment Problems\"))","v":""},{"$f":"IF($E90=\"\",\"\",SUMIFS(Deviation_Limits!$I$24:$I$1300,Deviation_Limits!$B$24:$B$1300,$B90,Deviation_Limits!$C$24:$C$1300,$C90,Deviation_Limits!$D$24:$D$1300,$D90,Deviation_Limits!$J$24:$J$1300,\"Process Problems\"))","v":""},{"$f":"IF($E90=\"\",\"\",SUMIFS(Deviation_Limits!$I$24:$I$1300,Deviation_Limits!$B$24:$B$1300,$B90,Deviation_Limits!$C$24:$C$1300,$C90,Deviation_Limits!$D$24:$D$1300,$D90,Deviation_Limits!$J$24:$J$1300,\"Other Known Causes\"))","v":""},{"$f":"IF($E90=\"\",\"\",SUMIFS(Deviation_Limits!$I$24:$I$1300,Deviation_Limits!$B$24:$B$1300,$B90,Deviation_Limits!$C$24:$C$1300,$C90,Deviation_Limits!$D$24:$D$1300,$D90,Deviation_Limits!$J$24:$J$1300,\"Other Unknown Causes\"))","v":""}]
[null,{"$f":"IF(Lists!AU69=\"\",\"\",Lists!AU69)","v":""},{"$f":"IF(Lists!AV69=\"\",\"\",Lists!AV69)","v":""},{"$f":"IF(Lists!AW69=\"\",\"\",Lists!AW69)","v":""},null,{"$f":"IF(E91=\"\",\"\",SUMIFS(Deviation_Limits!$I$24:$I$1300,Deviation_Limits!$B$24:$B$1300,$B91,Deviation_Limits!$C$24:$C$1300,$C91,Deviation_Limits!$D$24:$D$1300,$D91))","v":""},"",{"$f":"IF($E91=\"\",\"\",SUMIFS(Deviation_Limits!$I$24:$I$1300,Deviation_Limits!$B$24:$B$1300,$B91,Deviation_Limits!$C$24:$C$1300,$C91,Deviation_Limits!$D$24:$D$1300,$D91,Deviation_Limits!$J$24:$J$1300,\"Control Equipment Problems\"))","v":""},{"$f":"IF($E91=\"\",\"\",SUMIFS(Deviation_Limits!$I$24:$I$1300,Deviation_Limits!$B$24:$B$1300,$B91,Deviation_Limits!$C$24:$C$1300,$C91,Deviation_Limits!$D$24:$D$1300,$D91,Deviation_Limits!$J$24:$J$1300,\"Process Problems\"))","v":""},{"$f":"IF($E91=\"\",\"\",SUMIFS(Deviation_Limits!$I$24:$I$1300,Deviation_Limits!$B$24:$B$1300,$B91,Deviation_Limits!$C$24:$C$1300,$C91,Deviation_Limits!$D$24:$D$1300,$D91,Deviation_Limits!$J$24:$J$1300,\"Other Known Causes\"))","v":""},{"$f":"IF($E91=\"\",\"\",SUMIFS(Deviation_Limits!$I$24:$I$1300,Deviation_Limits!$B$24:$B$1300,$B91,Deviation_Limits!$C$24:$C$1300,$C91,Deviation_Limits!$D$24:$D$1300,$D91,Deviation_Limits!$J$24:$J$1300,\"Other Unknown Causes\"))","v":""}]
[null,{"$f":"IF(Lists!AU70=\"\",\"\",Lists!AU70)","v":""},{"$f":"IF(Lists!AV70=\"\",\"\",Lists!AV70)","v":""},{"$f":"IF(Lists!AW70=\"\",\"\",Lists!AW70)","v":""},null,{"$f":"IF(E92=\"\",\"\",SUMIFS(Deviation_Limits!$I$24:$I$1300,Deviation_Limits!$B$24:$B$1300,$B92,Deviation_Limits!$C$24:$C$1300,$C92,Deviation_Limits!$D$24:$D$1300,$D92))","v":""},"",{"$f":"IF($E92=\"\",\"\",SUMIFS(Deviation_Limits!$I$24:$I$1300,Deviation_Limits!$B$24:$B$1300,$B92,Deviation_Limits!$C$24:$C$1300,$C92,Deviation_Limits!$D$24:$D$1300,$D92,Deviation_Limits!$J$24:$J$1300,\"Control Equipment Problems\"))","v":""},{"$f":"IF($E92=\"\",\"\",SUMIFS(Deviation_Limits!$I$24:$I$1300,Deviation_Limits!$B$24:$B$1300,$B92,Deviation_Limits!$C$24:$C$1300,$C92,Deviation_Limits!$D$24:$D$1300,$D92,Deviation_Limits!$J$24:$J$1300,\"Process Problems\"))","v":""},{"$f":"IF($E92=\"\",\"\",SUMIFS(Deviation_Limits!$I$24:$I$1300,Deviation_Limits!$B$24:$B$1300,$B92,Deviation_Limits!$C$24:$C$1300,$C92,Deviation_Limits!$D$24:$D$1300,$D92,Deviation_Limits!$J$24:$J$1300,\"Other Known Causes\"))","v":""},{"$f":"IF($E92=\"\",\"\",SUMIFS(Deviation_Limits!$I$24:$I$1300,Deviation_Limits!$B$24:$B$1300,$B92,Deviation_Limits!$C$24:$C$1300,$C92,Deviation_Limits!$D$24:$D$1300,$D92,Deviation_Limits!$J$24:$J$1300,\"Other Unknown Causes\"))","v":""}]
[null,{"$f":"IF(Lists!AU71=\"\",\"\",Lists!AU71)","v":""},{"$f":"IF(Lists!AV71=\"\",\"\",Lists!AV71)","v":""},{"$f":"IF(Lists!AW71=\"\",\"\",Lists!AW71)","v":""},null,{"$f":"IF(E93=\"\",\"\",SUMIFS(Deviation_Limits!$I$24:$I$1300,Deviation_Limits!$B$24:$B$1300,$B93,Deviation_Limits!$C$24:$C$1300,$C93,Deviation_Limits!$D$24:$D$1300,$D93))","v":""},"",{"$f":"IF($E93=\"\",\"\",SUMIFS(Deviation_Limits!$I$24:$I$1300,Deviation_Limits!$B$24:$B$1300,$B93,Deviation_Limits!$C$24:$C$1300,$C93,Deviation_Limits!$D$24:$D$1300,$D93,Deviation_Limits!$J$24:$J$1300,\"Control Equipment Problems\"))","v":""},{"$f":"IF($E93=\"\",\"\",SUMIFS(Deviation_Limits!$I$24:$I$1300,Deviation_Limits!$B$24:$B$1300,$B93,Deviation_Limits!$C$24:$C$1300,$C93,Deviation_Limits!$D$24:$D$1300,$D93,Deviation_Limits!$J$24:$J$1300,\"Process Problems\"))","v":""},{"$f":"IF($E93=\"\",\"\",SUMIFS(Deviation_Limits!$I$24:$I$1300,Deviation_Limits!$B$24:$B$1300,$B93,Deviation_Limits!$C$24:$C$1300,$C93,Deviation_Limits!$D$24:$D$1300,$D93,Deviation_Limits!$J$24:$J$1300,\"Other Known Causes\"))","v":""},{"$f":"IF($E93=\"\",\"\",SUMIFS(Deviation_Limits!$I$24:$I$1300,Deviation_Limits!$B$24:$B$1300,$B93,Deviation_Limits!$C$24:$C$1300,$C93,Deviation_Limits!$D$24:$D$1300,$D93,Deviation_Limits!$J$24:$J$1300,\"Other Unknown Causes\"))","v":""}]
[null,{"$f":"IF(Lists!AU72=\"\",\"\",Lists!AU72)","v":""},{"$f":"IF(Lists!AV72=\"\",\"\",Lists!AV72)","v":""},{"$f":"IF(Lists!AW72=\"\",\"\",Lists!AW72)","v":""},null,{"$f":"IF(E94=\"\",\"\",SUMIFS(Deviation_Limits!$I$24:$I$1300,Deviation_Limits!$B$24:$B$1300,$B94,Deviation_Limits!$C$24:$C$1300,$C94,Deviation_Limits!$D$24:$D$1300,$D94))","v":""},"",{"$f":"IF($E94=\"\",\"\",SUMIFS(Deviation_Limits!$I$24:$I$1300,Deviation_Limits!$B$24:$B$1300,$B94,Deviation_Limits!$C$24:$C$1300,$C94,Deviation_Limits!$D$24:$D$1300,$D94,Deviation_Limits!$J$24:$J$1300,\"Control Equipment Problems\"))","v":""},{"$f":"IF($E94=\"\",\"\",SUMIFS(Deviation_Limits!$I$24:$I$1300,Deviation_Limits!$B$24:$B$1300,$B94,Deviation_Limits!$C$24:$C$1300,$C94,Deviation_Limits!$D$24:$D$1300,$D94,Deviation_Limits!$J$24:$J$1300,\"Process Problems\"))","v":""},{"$f":"IF($E94=\"\",\"\",SUMIFS(Deviation_Limits!$I$24:$I$1300,Deviation_Limits!$B$24:$B$1300,$B94,Deviation_Limits!$C$24:$C$1300,$C94,Deviation_Limits!$D$24:$D$1300,$D94,Deviation_Limits!$J$24:$J$1300,\"Other Known Causes\"))","v":""},{"$f":"IF($E94=\"\",\"\",SUMIFS(Deviation_Limits!$I$24:$I$1300,Deviation_Limits!$B$24:$B$1300,$B94,Deviation_Limits!$C$24:$C$1300,$C94,Deviation_Limits!$D$24:$D$1300,$D94,Deviation_Limits!$J$24:$J$1300,\"Other Unknown Causes\"))","v":""}]
[null,{"$f":"IF(Lists!AU73=\"\",\"\",Lists!AU73)","v":""},{"$f":"IF(Lists!AV73=\"\",\"\",Lists!AV73)","v":""},{"$f":"IF(Lists!AW73=\"\",\"\",Lists!AW73)","v":""},null,{"$f":"IF(E95=\"\",\"\",SUMIFS(Deviation_Limits!$I$24:$I$1300,Deviation_Limits!$B$24:$B$1300,$B95,Deviation_Limits!$C$24:$C$1300,$C95,Deviation_Limits!$D$24:$D$1300,$D95))","v":""},"",{"$f":"IF($E95=\"\",\"\",SUMIFS(Deviation_Limits!$I$24:$I$1300,Deviation_Limits!$B$24:$B$1300,$B95,Deviation_Limits!$C$24:$C$1300,$C95,Deviation_Limits!$D$24:$D$1300,$D95,Deviation_Limits!$J$24:$J$1300,\"Control Equipment Problems\"))","v":""},{"$f":"IF($E95=\"\",\"\",SUMIFS(Deviation_Limits!$I$24:$I$1300,Deviation_Limits!$B$24:$B$1300,$B95,Deviation_Limits!$C$24:$C$1300,$C95,Deviation_Limits!$D$24:$D$1300,$D95,Deviation_Limits!$J$24:$J$1300,\"Process Problems\"))","v":""},{"$f":"IF($E95=\"\",\"\",SUMIFS(Deviation_Limits!$I$24:$I$1300,Deviation_Limits!$B$24:$B$1300,$B95,Deviation_Limits!$C$24:$C$1300,$C95,Deviation_Limits!$D$24:$D$1300,$D95,Deviation_Limits!$J$24:$J$1300,\"Other Known Causes\"))","v":""},{"$f":"IF($E95=\"\",\"\",SUMIFS(Deviation_Limits!$I$24:$I$1300,Deviation_Limits!$B$24:$B$1300,$B95,Deviation_Limits!$C$24:$C$1300,$C95,Deviation_Limits!$D$24:$D$1300,$D95,Deviation_Limits!$J$24:$J$1300,\"Other Unknown Causes\"))","v":""}]
[null,{"$f":"IF(Lists!AU74=\"\",\"\",Lists!AU74)","v":""},{"$f":"IF(Lists!AV74=\"\",\"\",Lists!AV74)","v":""},{"$f":"IF(Lists!AW74=\"\",\"\",Lists!AW74)","v":""},null,{"$f":"IF(E96=\"\",\"\",SUMIFS(Deviation_Limits!$I$24:$I$1300,Deviation_Limits!$B$24:$B$1300,$B96,Deviation_Limits!$C$24:$C$1300,$C96,Deviation_Limits!$D$24:$D$1300,$D96))","v":""},"",{"$f":"IF($E96=\"\",\"\",SUMIFS(Deviation_Limits!$I$24:$I$1300,Deviation_Limits!$B$24:$B$1300,$B96,Deviation_Limits!$C$24:$C$1300,$C96,Deviation_Limits!$D$24:$D$1300,$D96,Deviation_Limits!$J$24:$J$1300,\"Control Equipment Problems\"))","v":""},{"$f":"IF($E96=\"\",\"\",SUMIFS(Deviation_Limits!$I$24:$I$1300,Deviation_Limits!$B$24:$B$1300,$B96,Deviation_Limits!$C$24:$C$1300,$C96,Deviation_Limits!$D$24:$D$1300,$D96,Deviation_Limits!$J$24:$J$1300,\"Process Problems\"))","v":""},{"$f":"IF($E96=\"\",\"\",SUMIFS(Deviation_Limits!$I$24:$I$1300,Deviation_Limits!$B$24:$B$1300,$B96,Deviation_Limits!$C$24:$C$1300,$C96,Deviation_Limits!$D$24:$D$1300,$D96,Deviation_Limits!$J$24:$J$1300,\"Other Known Causes\"))","v":""},{"$f":"IF($E96=\"\",\"\",SUMIFS(Deviation_Limits!$I$24:$I$1300,Deviation_Limits!$B$24:$B$1300,$B96,Deviation_Limits!$C$24:$C$1300,$C96,Deviation_Limits!$D$24:$D$1300,$D96,Deviation_Limits!$J$24:$J$1300,\"Other Unknown Causes\"))","v":""}]
[null,{"$f":"IF(Lists!AU75=\"\",\"\",Lists!AU75)","v":""},{"$f":"IF(Lists!AV75=\"\",\"\",Lists!AV75)","v":""},{"$f":"IF(Lists!AW75=\"\",\"\",Lists!AW75)","v":""},null,{"$f":"IF(E97=\"\",\"\",SUMIFS(Deviation_Limits!$I$24:$I$1300,Deviation_Limits!$B$24:$B$1300,$B97,Deviation_Limits!$C$24:$C$1300,$C97,Deviation_Limits!$D$24:$D$1300,$D97))","v":""},"",{"$f":"IF($E97=\"\",\"\",SUMIFS(Deviation_Limits!$I$24:$I$1300,Deviation_Limits!$B$24:$B$1300,$B97,Deviation_Limits!$C$24:$C$1300,$C97,Deviation_Limits!$D$24:$D$1300,$D97,Deviation_Limits!$J$24:$J$1300,\"Control Equipment Problems\"))","v":""},{"$f":"IF($E97=\"\",\"\",SUMIFS(Deviation_Limits!$I$24:$I$1300,Deviation_Limits!$B$24:$B$1300,$B97,Deviation_Limits!$C$24:$C$1300,$C97,Deviation_Limits!$D$24:$D$1300,$D97,Deviation_Limits!$J$24:$J$1300,\"Process Problems\"))","v":""},{"$f":"IF($E97=\"\",\"\",SUMIFS(Deviation_Limits!$I$24:$I$1300,Deviation_Limits!$B$24:$B$1300,$B97,Deviation_Limits!$C$24:$C$1300,$C97,Deviation_Limits!$D$24:$D$1300,$D97,Deviation_Limits!$J$24:$J$1300,\"Other Known Causes\"))","v":""},{"$f":"IF($E97=\"\",\"\",SUMIFS(Deviation_Limits!$I$24:$I$1300,Deviation_Limits!$B$24:$B$1300,$B97,Deviation_Limits!$C$24:$C$1300,$C97,Deviation_Limits!$D$24:$D$1300,$D97,Deviation_Limits!$J$24:$J$1300,\"Other Unknown Causes\"))","v":""}]
[null,{"$f":"IF(Lists!AU76=\"\",\"\",Lists!AU76)","v":""},{"$f":"IF(Lists!AV76=\"\",\"\",Lists!AV76)","v":""},{"$f":"IF(Lists!AW76=\"\",\"\",Lists!AW76)","v":""},null,{"$f":"IF(E98=\"\",\"\",SUMIFS(Deviation_Limits!$I$24:$I$1300,Deviation_Limits!$B$24:$B$1300,$B98,Deviation_Limits!$C$24:$C$1300,$C98,Deviation_Limits!$D$24:$D$1300,$D98))","v":""},"",{"$f":"IF($E98=\"\",\"\",SUMIFS(Deviation_Limits!$I$24:$I$1300,Deviation_Limits!$B$24:$B$1300,$B98,Deviation_Limits!$C$24:$C$1300,$C98,Deviation_Limits!$D$24:$D$1300,$D98,Deviation_Limits!$J$24:$J$1300,\"Control Equipment Problems\"))","v":""},{"$f":"IF($E98=\"\",\"\",SUMIFS(Deviation_Limits!$I$24:$I$1300,Deviation_Limits!$B$24:$B$1300,$B98,Deviation_Limits!$C$24:$C$1300,$C98,Deviation_Limits!$D$24:$D$1300,$D98,Deviation_Limits!$J$24:$J$1300,\"Process Problems\"))","v":""},{"$f":"IF($E98=\"\",\"\",SUMIFS(Deviation_Limits!$I$24:$I$1300,Deviation_Limits!$B$24:$B$1300,$B98,Deviation_Limits!$C$24:$C$1300,$C98,Deviation_Limits!$D$24:$D$1300,$D98,Deviation_Limits!$J$24:$J$1300,\"Other Known Causes\"))","v":""},{"$f":"IF($E98=\"\",\"\",SUMIFS(Deviation_Limits!$I$24:$I$1300,Deviation_Limits!$B$24:$B$1300,$B98,Deviation_Limits!$C$24:$C$1300,$C98,Deviation_Limits!$D$24:$D$1300,$D98,Deviation_Limits!$J$24:$J$1300,\"Other Unknown Causes\"))","v":""}]
[null,{"$f":"IF(Lists!AU77=\"\",\"\",Lists!AU77)","v":""},{"$f":"IF(Lists!AV77=\"\",\"\",Lists!AV77)","v":""},{"$f":"IF(Lists!AW77=\"\",\"\",Lists!AW77)","v":""},null,{"$f":"IF(E99=\"\",\"\",SUMIFS(Deviation_Limits!$I$24:$I$1300,Deviation_Limits!$B$24:$B$1300,$B99,Deviation_Limits!$C$24:$C$1300,$C99,Deviation_Limits!$D$24:$D$1300,$D99))","v":""},"",{"$f":"IF($E99=\"\",\"\",SUMIFS(Deviation_Limits!$I$24:$I$1300,Deviation_Limits!$B$24:$B$1300,$B99,Deviation_Limits!$C$24:$C$1300,$C99,Deviation_Limits!$D$24:$D$1300,$D99,Deviation_Limits!$J$24:$J$1300,\"Control Equipment Problems\"))","v":""},{"$f":"IF($E99=\"\",\"\",SUMIFS(Deviation_Limits!$I$24:$I$1300,Deviation_Limits!$B$24:$B$1300,$B99,Deviation_Limits!$C$24:$C$1300,$C99,Deviation_Limits!$D$24:$D$1300,$D99,Deviation_Limits!$J$24:$J$1300,\"Process Problems\"))","v":""},{"$f":"IF($E99=\"\",\"\",SUMIFS(Deviation_Limits!$I$24:$I$1300,Deviation_Limits!$B$24:$B$1300,$B99,Deviation_Limits!$C$24:$C$1300,$C99,Deviation_Limits!$D$24:$D$1300,$D99,Deviation_Limits!$J$24:$J$1300,\"Other Known Causes\"))","v":""},{"$f":"IF($E99=\"\",\"\",SUMIFS(Deviation_Limits!$I$24:$I$1300,Deviation_Limits!$B$24:$B$1300,$B99,Deviation_Limits!$C$24:$C$1300,$C99,Deviation_Limits!$D$24:$D$1300,$D99,Deviation_Limits!$J$24:$J$1300,\"Other Unknown Causes\"))","v":""}]
[null,{"$f":"IF(Lists!AU78=\"\",\"\",Lists!AU78)","v":""},{"$f":"IF(Lists!AV78=\"\",\"\",Lists!AV78)","v":""},{"$f":"IF(Lists!AW78=\"\",\"\",Lists!AW78)","v":""},null,{"$f":"IF(E100=\"\",\"\",SUMIFS(Deviation_Limits!$I$24:$I$1300,Deviation_Limits!$B$24:$B$1300,$B100,Deviation_Limits!$C$24:$C$1300,$C100,Deviation_Limits!$D$24:$D$1300,$D100))","v":""},"",{"$f":"IF($E100=\"\",\"\",SUMIFS(Deviation_Limits!$I$24:$I$1300,Deviation_Limits!$B$24:$B$1300,$B100,Deviation_Limits!$C$24:$C$1300,$C100,Deviation_Limits!$D$24:$D$1300,$D100,Deviation_Limits!$J$24:$J$1300,\"Control Equipment Problems\"))","v":""},{"$f":"IF($E100=\"\",\"\",SUMIFS(Deviation_Limits!$I$24:$I$1300,Deviation_Limits!$B$24:$B$1300,$B100,Deviation_Limits!$C$24:$C$1300,$C100,Deviation_Limits!$D$24:$D$1300,$D100,Deviation_Limits!$J$24:$J$1300,\"Process Problems\"))","v":""},{"$f":"IF($E100=\"\",\"\",SUMIFS(Deviation_Limits!$I$24:$I$1300,Deviation_Limits!$B$24:$B$1300,$B100,Deviation_Limits!$C$24:$C$1300,$C100,Deviation_Limits!$D$24:$D$1300,$D100,Deviation_Limits!$J$24:$J$1300,\"Other Known Causes\"))","v":""},{"$f":"IF($E100=\"\",\"\",SUMIFS(Deviation_Limits!$I$24:$I$1300,Deviation_Limits!$B$24:$B$1300,$B100,Deviation_Limits!$C$24:$C$1300,$C100,Deviation_Limits!$D$24:$D$1300,$D100,Deviation_Limits!$J$24:$J$1300,\"Other Unknown Causes\"))","v":""}]

{"sheet":"Deviation_CEM_CPMS","index":6,"n_rows":500,"n_cols":13,"rows_kept":500,"cut":false,"hidden":false,"merged":[]}
[null,"DO NOT REMOVE OR EDIT INFORMATION IN ROWS 1 THROUGH 5\nFOR INTERNAL USE ONLY"]
[null,"Template Name",null,{"$f":"+Welcome!B2","v":"63.6150(a), (c) and (e) Semiannual and Annual Compliance Reports (Spreadsheet Template)"}]
[null,"CitationID",null,{"$f":"+Welcome!B3","v":"63.6150(a), (c), and (e)"}]
[null,"Template Version",null,{"$f":"+Welcome!B4","v":"v3.00"}]
[null,"Last Updated Date",null,{"$f":"+Welcome!B5","v":44067}]
[null,{"$f":"Welcome!B6","v":"OMB No.: 2060-0540   Expiration: 11/16/2019"}]
[null,"40 CFR Part 63, Subpart YYYY National Emission Standards for Hazardous Air Pollutants for Stationary Combustion Turbines - "]
[null,"§63.6150(a)-(e) Compliance Reports Spreadsheet Template"]
[]
[]
[null,"* Required Field"]
[null,"Company Record No. *\n(Select from dropdown)","Process Unit Description\n(§63.10(e)(3)(vi))*\n(Select from dropdown)","Brief Description of CPMS, CEMS, or COMS *\n(§63.10(e)(3)(vi))\n(Select from dropdown)","CPMS Inoperative or \nOut of Control *\n(§63.10(e)(3)(v))\n(Select from dropdown)","Starting Date CPMS \nInoperative or Out of Control *\n(§63.10(e)(3)(v))","Starting Time CPMS Inoperative or Out of Control *\n(§63.10(e)(3)(v))","Ending Date CPMS \nOut of Control *\n(§63.10(e)(3)(v))","Ending Time CPMS Out of Control *\n(§63.8(c)(8))","Duration CPMS Inoperative \nor Out of Control * (hours)\n(§63.10(e)(3)(v) and §63.6150(a)(5)(iii))","Cause of CPMS Being\n Inoperative or Out of Control *\n(§63.10(e)(3)(v) and §63.6150(a)(5)(iii))\n(Select from dropdown)","Corrective Action Taken or Preventative Measures Adopted*\n(§63.10(e)(3)(v))\n","Nature of Repairs or Adjustments to CMS\n(§63.10(e)(3)(v))"]
[null,"RecordId","AffectedSource","CPMSDescription","CPMSOutageDescription","CPMSOutageStartDate","CPMSOutageStartTime","CPMSOutageEndDate","CPMSOutageEndTime","CPMSOutageDuration","CPMSOutageCause","CorrectiveAction","CPMSAdjustments"]
[null,"e.g.: 1","e.g. Turbine 1","e.g.: TC1792 Catalyst Inlet Temperature","e.g. Inoperative","e.g.: 3/2/2020","e.g.: 15:52","e.g.: 3/2/2020","e.g.: 17:45","e.g.: 72.0","e.g.: Other Known Causes","e.g.: replaced thermocouple"]
[]
[]
[]
[]
[]
[]
[]
[]
[]
[null,null,null,null,null,null,null,null,null,{"$f":"+IF(I24=\"\",\"\",(VALUE(TEXT(H24,\"m/dd/yy \")&TEXT(I24,\"hh:mm:ss\"))-(VALUE(TEXT(F24,\"m/dd/yy \")&TEXT(G24,\"hh:mm:ss\"))))*24)","v":""}]
[null,null,null,null,null,null,null,null,null,""]
[null,null,null,null,null,null,null,null,null,""]
[null,null,null,null,null,null,null,null,null,""]
[null,null,null,null,null,null,null,null,null,""]
[null,null,null,null,null,null,null,null,null,""]
[null,null,null,null,null,null,null,null,null,""]
[null,null,null,null,null,null,null,null,null,""]
[null,null,null,null,null,null,null,null,null,""]
[null,null,null,null,null,null,null,null,null,""]
[null,null,null,null,null,null,null,null,null,""]
[null,null,null,null,null,null,null,null,null,""]
[null,null,null,null,null,null,null,null,null,""]
[null,null,null,null,null,null,null,null,null,""]
[null,null,null,null,null,null,null,null,null,""]
[null,null,null,null,null,null,null,null,null,""]
[null,null,null,null,null,null,null,null,null,""]
[null,null,null,null,null,null,null,null,null,""]
[null,null,null,null,null,null,null,null,null,""]
[null,null,null,null,null,null,null,null,null,""]
[null,null,null,null,null,null,null,null,null,""]
[null,null,null,null,null,null,null,null,null,""]
[null,null,null,null,null,null,null,null,null,""]
[null,null,null,null,null,null,null,null,null,""]
[null,null,null,null,null,null,null,null,null,""]
[null,null,null,null,null,null,null,null,null,""]
[null,null,null,null,null,null,null,null,null,""]
[null,null,null,null,null,null,null,null,null,""]
[null,null,null,null,null,null,null,null,null,""]
[null,null,null,null,null,null,null,null,null,""]
[null,null,null,null,null,null,null,null,null,""]
[null,null,null,null,null,null,null,null,null,""]
[null,null,null,null,null,null,null,null,null,""]
[null,null,null,null,null,null,null,null,null,""]
[null,null,null,null,null,null,null,null,null,""]
[null,null,null,null,null,null,null,null,null,""]
[null,null,null,null,null,null,null,null,null,""]
[null,null,null,null,null,null,null,null,null,""]
[null,null,null,null,null,null,null,null,null,""]
[null,null,null,null,null,null,null,null,null,""]
[null,null,null,null,null,null,null,null,null,""]
[null,null,null,null,null,null,null,null,null,""]
[null,null,null,null,null,null,null,null,null,""]
[null,null,null,null,null,null,null,null,null,""]
[null,null,null,null,null,null,null,null,null,""]
[null,null,null,null,null,null,null,null,null,""]
[null,null,null,null,null,null,null,null,null,""]
[null,null,null,null,null,null,null,null,null,""]
[null,null,null,null,null,null,null,null,null,""]
[null,null,null,null,null,null,null,null,null,""]
[null,null,null,null,null,null,null,null,null,""]
[null,null,null,null,null,null,null,null,null,""]
[null,null,null,null,null,null,null,null,null,""]
[null,null,null,null,null,null,null,null,null,""]
[null,null,null,null,null,null,null,null,null,""]
[null,null,null,null,null,null,null,null,null,""]
[null,null,null,null,null,null,null,null,null,""]
[null,null,null,null,null,null,null,null,null,""]
[null,null,null,null,null,null,null,null,null,""]
[null,null,null,null,null,null,null,null,null,""]
[null,null,null,null,null,null,null,null,null,""]
[null,null,null,null,null,null,null,null,null,""]
[null,null,null,null,null,null,null,null,null,""]
[null,null,null,null,null,null,null,null,null,""]
[null,null,null,null,null,null,null,null,null,""]
[null,null,null,null,null,null,null,null,null,{"$f":"+IF(I89=\"\",\"\",(VALUE(TEXT(H89,\"m/dd/yy \")&TEXT(I89,\"hh:mm:ss\"))-(VALUE(TEXT(F89,\"m/dd/yy \")&TEXT(G89,\"hh:mm:ss\"))))*24)","v":""}]
[null,null,null,null,null,null,null,null,null,""]
[null,null,null,null,null,null,null,null,null,""]
[null,null,null,null,null,null,null,null,null,""]
[null,null,null,null,null,null,null,null,null,""]
[null,null,null,null,null,null,null,null,null,""]
[null,null,null,null,null,null,null,null,null,""]
[null,null,null,null,null,null,null,null,null,""]
[null,null,null,null,null,null,null,null,null,""]
[null,null,null,null,null,null,null,null,null,""]
[null,null,null,null,null,null,null,null,null,""]
[null,null,null,null,null,null,null,null,null,""]
[null,null,null,null,null,null,null,null,null,""]
[null,null,null,null,null,null,null,null,null,""]
[null,null,null,null,null,null,null,null,null,""]
[null,null,null,null,null,null,null,null,null,""]
[null,null,null,null,null,null,null,null,null,""]
[null,null,null,null,null,null,null,null,null,""]
[null,null,null,null,null,null,null,null,null,""]
[null,null,null,null,null,null,null,null,null,""]
[null,null,null,null,null,null,null,null,null,""]
[null,null,null,null,null,null,null,null,null,""]
[null,null,null,null,null,null,null,null,null,""]
[null,null,null,null,null,null,null,null,null,""]
[null,null,null,null,null,null,null,null,null,""]
[null,null,null,null,null,null,null,null,null,""]
[null,null,null,null,null,null,null,null,null,""]
[null,null,null,null,null,null,null,null,null,""]
[null,null,null,null,null,null,null,null,null,""]
[null,null,null,null,null,null,null,null,null,""]
[null,null,null,null,null,null,null,null,null,""]
[null,null,null,null,null,null,null,null,null,""]
[null,null,null,null,null,null,null,null,null,""]
[null,null,null,null,null,null,null,null,null,""]
[null,null,null,null,null,null,null,null,null,""]
[null,null,null,null,null,null,null,null,null,""]
[null,null,null,null,null,null,null,null,null,""]
[null,null,null,null,null,null,null,null,null,""]
[null,null,null,null,null,null,null,null,null,""]
[null,null,null,null,null,null,null,null,null,""]
[null,null,null,null,null,null,null,null,null,""]
[null,null,null,null,null,null,null,null,null,""]
[null,null,null,null,null,null,null,null,null,""]
[null,null,null,null,null,null,null,null,null,""]
[null,null,null,null,null,null,null,null,null,""]
[null,null,null,null,null,null,null,null,null,""]
[null,null,null,null,null,null,null,null,null,""]
[null,null,null,null,null,null,null,null,null,""]
[null,null,null,null,null,null,null,null,null,""]
[null,null,null,null,null,null,null,null,null,""]
[null,null,null,null,null,null,null,null,null,""]
[null,null,null,null,null,null,null,null,null,""]
[null,null,null,null,null,null,null,null,null,""]
[null,null,null,null,null,null,null,null,null,""]
[null,null,null,null,null,null,null,null,null,""]
[null,null,null,null,null,null,null,null,null,""]
[null,null,null,null,null,null,null,null,null,""]
[null,null,null,null,null,null,null,null,null,""]
[null,null,null,null,null,null,null,null,null,""]
[null,null,null,null,null,null,null,null,null,""]
[null,null,null,null,null,null,null,null,null,""]
[null,null,null,null,null,null,null,null,null,""]
[null,null,null,null,null,null,null,null,null,""]
[null,null,null,null,null,null,null,null,null,""]
[null,null,null,null,null,null,null,null,null,{"$f":"+IF(I153=\"\",\"\",(VALUE(TEXT(H153,\"m/dd/yy \")&TEXT(I153,\"hh:mm:ss\"))-(VALUE(TEXT(F153,\"m/dd/yy \")&TEXT(G153,\"hh:mm:ss\"))))*24)","v":""}]
[null,null,null,null,null,null,null,null,null,""]
[null,null,null,null,null,null,null,null,null,""]
[null,null,null,null,null,null,null,null,null,""]
[null,null,null,null,null,null,null,null,null,""]
[null,null,null,null,null,null,null,null,null,""]
[null,null,null,null,null,null,null,null,null,""]
[null,null,null,null,null,null,null,null,null,""]
[null,null,null,null,null,null,null,null,null,""]
[null,null,null,null,null,null,null,null,null,""]
[null,null,null,null,null,null,null,null,null,""]
[null,null,null,null,null,null,null,null,null,""]
[null,null,null,null,null,null,null,null,null,""]
[null,null,null,null,null,null,null,null,null,""]
[null,null,null,null,null,null,null,null,null,""]
[null,null,null,null,null,null,null,null,null,""]
[null,null,null,null,null,null,null,null,null,""]
[null,null,null,null,null,null,null,null,null,""]
[null,null,null,null,null,null,null,null,null,""]
[null,null,null,null,null,null,null,null,null,""]
[null,null,null,null,null,null,null,null,null,""]
[null,null,null,null,null,null,null,null,null,""]
[null,null,null,null,null,null,null,null,null,""]
[null,null,null,null,null,null,null,null,null,""]
[null,null,null,null,null,null,null,null,null,""]
[null,null,null,null,null,null,null,null,null,""]
[null,null,null,null,null,null,null,null,null,""]
[null,null,null,null,null,null,null,null,null,""]
[null,null,null,null,null,null,null,null,null,""]
[null,null,null,null,null,null,null,null,null,""]
[null,null,null,null,null,null,null,null,null,""]
[null,null,null,null,null,null,null,null,null,""]
[null,null,null,null,null,null,null,null,null,""]
[null,null,null,null,null,null,null,null,null,""]
[null,null,null,null,null,null,null,null,null,""]
[null,null,null,null,null,null,null,null,null,""]
[null,null,null,null,null,null,null,null,null,""]
[null,null,null,null,null,null,null,null,null,""]
[null,null,null,null,null,null,null,null,null,""]
[null,null,null,null,null,null,null,null,null,""]
[null,null,null,null,null,null,null,null,null,""]
[null,null,null,null,null,null,null,null,null,""]
[null,null,null,null,null,null,null,null,null,""]
[null,null,null,null,null,null,null,null,null,""]
[null,null,null,null,null,null,null,null,null,""]
[null,null,null,null,null,null,null,null,null,""]
[null,null,null,null,null,null,null,null,null,""]
[null,null,null,null,null,null,null,null,null,""]
[null,null,null,null,null,null,null,null,null,""]
[null,null,null,null,null,null,null,null,null,""]
[null,null,null,null,null,null,null,null,null,""]
[null,null,null,null,null,null,null,null,null,""]
[null,null,null,null,null,null,null,null,null,""]
[null,null,null,null,null,null,null,null,null,""]
[null,null,null,null,null,null,null,null,null,""]
[null,null,null,null,null,null,null,null,null,""]
[null,null,null,null,null,null,null,null,null,""]
[null,null,null,null,null,null,null,null,null,""]
[null,null,null,null,null,null,null,null,null,""]
[null,null,null,null,null,null,null,null,null,""]
[null,null,null,null,null,null,null,null,null,""]
[null,null,null,null,null,null,null,null,null,""]
[null,null,null,null,null,null,null,null,null,""]
[null,null,null,null,null,null,null,null,null,""]
[null,null,null,null,null,null,null,null,null,{"$f":"+IF(I217=\"\",\"\",(VALUE(TEXT(H217,\"m/dd/yy \")&TEXT(I217,\"hh:mm:ss\"))-(VALUE(TEXT(F217,\"m/dd/yy \")&TEXT(G217,\"hh:mm:ss\"))))*24)","v":""}]
[null,null,null,null,null,null,null,null,null,""]
[null,null,null,null,null,null,null,null,null,""]
[null,null,null,null,null,null,null,null,null,""]
[null,null,null,null,null,null,null,null,null,""]
[null,null,null,null,null,null,null,null,null,""]
[null,null,null,null,null,null,null,null,null,""]
[null,null,null,null,null,null,null,null,null,""]
[null,null,null,null,null,null,null,null,null,""]
[null,null,null,null,null,null,null,null,null,""]
[null,null,null,null,null,null,null,null,null,""]
[null,null,null,null,null,null,null,null,null,""]
[null,null,null,null,null,null,null,null,null,""]
[null,null,null,null,null,null,null,null,null,""]
[null,null,null,null,null,null,null,null,null,""]
[null,null,null,null,null,null,null,null,null,""]
[null,null,null,null,null,null,null,null,null,""]
[null,null,null,null,null,null,null,null,null,""]
[null,null,null,null,null,null,null,null,null,""]
[null,null,null,null,null,null,null,null,null,""]
[null,null,null,null,null,null,null,null,null,""]
[null,null,null,null,null,null,null,null,null,""]
[null,null,null,null,null,null,null,null,null,""]
[null,null,null,null,null,null,null,null,null,""]
[null,null,null,null,null,null,null,null,null,""]
[null,null,null,null,null,null,null,null,null,""]
[null,null,null,null,null,null,null,null,null,""]
[null,null,null,null,null,null,null,null,null,""]
[null,null,null,null,null,null,null,null,null,""]
[null,null,null,null,null,null,null,null,null,""]
[null,null,null,null,null,null,null,null,null,""]
[null,null,null,null,null,null,null,null,null,""]
[null,null,null,null,null,null,null,null,null,""]
[null,null,null,null,null,null,null,null,null,""]
[null,null,null,null,null,null,null,null,null,""]
[null,null,null,null,null,null,null,null,null,""]
[null,null,null,null,null,null,null,null,null,""]
[null,null,null,null,null,null,null,null,null,""]
[null,null,null,null,null,null,null,null,null,""]
[null,null,null,null,null,null,null,null,null,""]
[null,null,null,null,null,null,null,null,null,""]
[null,null,null,null,null,null,null,null,null,""]
[null,null,null,null,null,null,null,null,null,""]
[null,null,null,null,null,null,null,null,null,""]
[null,null,null,null,null,null,null,null,null,""]
[null,null,null,null,null,null,null,null,null,""]
[null,null,null,null,null,null,null,null,null,""]
[null,null,null,null,null,null,null,null,null,""]
[null,null,null,null,null,null,null,null,null,""]
[null,null,null,null,null,null,null,null,null,""]
[null,null,null,null,null,null,null,null,null,""]
[null,null,null,null,null,null,null,null,null,""]
[null,null,null,null,null,null,null,null,null,""]
[null,null,null,null,null,null,null,null,null,""]
[null,null,null,null,null,null,null,null,null,""]
[null,null,null,null,null,null,null,null,null,""]
[null,null,null,null,null,null,null,null,null,""]
[null,null,null,null,null,null,null,null,null,""]
[null,null,null,null,null,null,null,null,null,""]
[null,null,null,null,null,null,null,null,null,""]
[null,null,null,null,null,null,null,null,null,""]
[null,null,null,null,null,null,null,null,null,""]
[null,null,null,null,null,null,null,null,null,""]
[null,null,null,null,null,null,null,null,null,""]
[null,null,null,null,null,null,null,null,null,{"$f":"+IF(I281=\"\",\"\",(VALUE(TEXT(H281,\"m/dd/yy \")&TEXT(I281,\"hh:mm:ss\"))-(VALUE(TEXT(F281,\"m/dd/yy \")&TEXT(G281,\"hh:mm:ss\"))))*24)","v":""}]
[null,null,null,null,null,null,null,null,null,""]
[null,null,null,null,null,null,null,null,null,""]
[null,null,null,null,null,null,null,null,null,""]
[null,null,null,null,null,null,null,null,null,""]
[null,null,null,null,null,null,null,null,null,""]
[null,null,null,null,null,null,null,null,null,""]
[null,null,null,null,null,null,null,null,null,""]
[null,null,null,null,null,null,null,null,null,""]
[null,null,null,null,null,null,null,null,null,""]
[null,null,null,null,null,null,null,null,null,""]
[null,null,null,null,null,null,null,null,null,""]
[null,null,null,null,null,null,null,null,null,""]
[null,null,null,null,null,null,null,null,null,""]
[null,null,null,null,null,null,null,null,null,""]
[null,null,null,null,null,null,null,null,null,""]
[null,null,null,null,null,null,null,null,null,""]
[null,null,null,null,null,null,null,null,null,""]
[null,null,null,null,null,null,null,null,null,""]
[null,null,null,null,null,null,null,null,null,""]
[null,null,null,null,null,null,null,null,null,""]
[null,null,null,null,null,null,null,null,null,""]
[null,null,null,null,null,null,null,null,null,""]
[null,null,null,null,null,null,null,null,null,""]
[null,null,null,null,null,null,null,null,null,""]
[null,null,null,null,null,null,null,null,null,""]
[null,null,null,null,null,null,null,null,null,""]
[null,null,null,null,null,null,null,null,null,""]
[null,null,null,null,null,null,null,null,null,""]
[null,null,null,null,null,null,null,null,null,""]
[null,null,null,null,null,null,null,null,null,""]
[null,null,null,null,null,null,null,null,null,""]
[null,null,null,null,null,null,null,null,null,""]
[null,null,null,null,null,null,null,null,null,""]
[null,null,null,null,null,null,null,null,null,""]
[null,null,null,null,null,null,null,null,null,""]
[null,null,null,null,null,null,null,null,null,""]
[null,null,null,null,null,null,null,null,null,""]
[null,null,null,null,null,null,null,null,null,""]
[null,null,null,null,null,null,null,null,null,""]
[null,null,null,null,null,null,null,null,null,""]
[null,null,null,null,null,null,null,null,null,""]
[null,null,null,null,null,null,null,null,null,""]
[null,null,null,null,null,null,null,null,null,""]
[null,null,null,null,null,null,null,null,null,""]
[null,null,null,null,null,null,null,null,null,""]
[null,null,null,null,null,null,null,null,null,""]
[null,null,null,null,null,null,null,null,null,""]
[null,null,null,null,null,null,null,null,null,""]
[null,null,null,null,null,null,null,null,null,""]
[null,null,null,null,null,null,null,null,null,""]
[null,null,null,null,null,null,null,null,null,""]
[null,null,null,null,null,null,null,null,null,""]
[null,null,null,null,null,null,null,null,null,""]
[null,null,null,null,null,null,null,null,null,""]
[null,null,null,null,null,null,null,null,null,""]
[null,null,null,null,null,null,null,null,null,""]
[null,null,null,null,null,null,null,null,null,""]
[null,null,null,null,null,null,null,null,null,""]
[null,null,null,null,null,null,null,null,null,""]
[null,null,null,null,null,null,null,null,null,""]
[null,null,null,null,null,null,null,null,null,""]
[null,null,null,null,null,null,null,null,null,""]
[null,null,null,null,null,null,null,null,null,""]
[null,null,null,null,null,null,null,null,null,{"$f":"+IF(I345=\"\",\"\",(VALUE(TEXT(H345,\"m/dd/yy \")&TEXT(I345,\"hh:mm:ss\"))-(VALUE(TEXT(F345,\"m/dd/yy \")&TEXT(G345,\"hh:mm:ss\"))))*24)","v":""}]
[null,null,null,null,null,null,null,null,null,""]
[null,null,null,null,null,null,null,null,null,""]
[null,null,null,null,null,null,null,null,null,""]
[null,null,null,null,null,null,null,null,null,""]
[null,null,null,null,null,null,null,null,null,""]
[null,null,null,null,null,null,null,null,null,""]
[null,null,null,null,null,null,null,null,null,""]
[null,null,null,null,null,null,null,null,null,""]
[null,null,null,null,null,null,null,null,null,""]
[null,null,null,null,null,null,null,null,null,""]
[null,null,null,null,null,null,null,null,null,""]
[null,null,null,null,null,null,null,null,null,""]
[null,null,null,null,null,null,null,null,null,""]
[null,null,null,null,null,null,null,null,null,""]
[null,null,null,null,null,null,null,null,null,""]
[null,null,null,null,null,null,null,null,null,""]
[null,null,null,null,null,null,null,null,null,""]
[null,null,null,null,null,null,null,null,null,""]
[null,null,null,null,null,null,null,null,null,""]
[null,null,null,null,null,null,null,null,null,""]
[null,null,null,null,null,null,null,null,null,""]
[null,null,null,null,null,null,null,null,null,""]
[null,null,null,null,null,null,null,null,null,""]
[null,null,null,null,null,null,null,null,null,""]
[null,null,null,null,null,null,null,null,null,""]
[null,null,null,null,null,null,null,null,null,""]
[null,null,null,null,null,null,null,null,null,""]
[null,null,null,null,null,null,null,null,null,""]
[null,null,null,null,null,null,null,null,null,""]
[null,null,null,null,null,null,null,null,null,""]
[null,null,null,null,null,null,null,null,null,""]
[null,null,null,null,null,null,null,null,null,""]
[null,null,null,null,null,null,null,null,null,""]
[null,null,null,null,null,null,null,null,null,""]
[null,null,null,null,null,null,null,null,null,""]
[null,null,null,null,null,null,null,null,null,""]
[null,null,null,null,null,null,null,null,null,""]
[null,null,null,null,null,null,null,null,null,""]
[null,null,null,null,null,null,null,null,null,""]
[null,null,null,null,null,null,null,null,null,""]
[null,null,null,null,null,null,null,null,null,""]
[null,null,null,null,null,null,null,null,null,""]
[null,null,null,null,null,null,null,null,null,""]
[null,null,null,null,null,null,null,null,null,""]
[null,null,null,null,null,null,null,null,null,""]
[null,null,null,null,null,null,null,null,null,""]
[null,null,null,null,null,null,null,null,null,""]
[null,null,null,null,null,null,null,null,null,""]
[null,null,null,null,null,null,null,null,null,""]
[null,null,null,null,null,null,null,null,null,""]
[null,null,null,null,null,null,null,null,null,""]
[null,null,null,null,null,null,null,null,null,""]
[null,null,null,null,null,null,null,null,null,""]
[null,null,null,null,null,null,null,null,null,""]
[null,null,null,null,null,null,null,null,null,""]
[null,null,null,null,null,null,null,null,null,""]
[null,null,null,null,null,null,null,null,null,""]
[null,null,null,null,null,null,null,null,null,""]
[null,null,null,null,null,null,null,null,null,""]
[null,null,null,null,null,null,null,null,null,""]
[null,null,null,null,null,null,null,null,null,""]
[null,null,null,null,null,null,null,null,null,""]
[null,null,null,null,null,null,null,null,null,""]
[null,null,null,null,null,null,null,null,null,{"$f":"+IF(I409=\"\",\"\",(VALUE(TEXT(H409,\"m/dd/yy \")&TEXT(I409,\"hh:mm:ss\"))-(VALUE(TEXT(F409,\"m/dd/yy \")&TEXT(G409,\"hh:mm:ss\"))))*24)","v":""}]
[null,null,null,null,null,null,null,null,null,""]
[null,null,null,null,null,null,null,null,null,""]
[null,null,null,null,null,null,null,null,null,""]
[null,null,null,null,null,null,null,null,null,""]
[null,null,null,null,null,null,null,null,null,""]
[null,null,null,null,null,null,null,null,null,""]
[null,null,null,null,null,null,null,null,null,""]
[null,null,null,null,null,null,null,null,null,""]
[null,null,null,null,null,null,null,null,null,""]
[null,null,null,null,null,null,null,null,null,""]
[null,null,null,null,null,null,null,null,null,""]
[null,null,null,null,null,null,null,null,null,""]
[null,null,null,null,null,null,null,null,null,""]
[null,null,null,null,null,null,null,null,null,""]
[null,null,null,null,null,null,null,null,null,""]
[null,null,null,null,null,null,null,null,null,""]
[null,null,null,null,null,null,null,null,null,""]
[null,null,null,null,null,null,null,null,null,""]
[null,null,null,null,null,null,null,null,null,""]
[null,null,null,null,null,null,null,null,null,""]
[null,null,null,null,null,null,null,null,null,""]
[null,null,null,null,null,null,null,null,null,""]
[null,null,null,null,null,null,null,null,null,""]
[null,null,null,null,null,null,null,null,null,""]
[null,null,null,null,null,null,null,null,null,""]
[null,null,null,null,null,null,null,null,null,""]
[null,null,null,null,null,null,null,null,null,""]
[null,null,null,null,null,null,null,null,null,""]
[null,null,null,null,null,null,null,null,null,""]
[null,null,null,null,null,null,null,null,null,""]
[null,null,null,null,null,null,null,null,null,""]
[null,null,null,null,null,null,null,null,null,""]
[null,null,null,null,null,null,null,null,null,""]
[null,null,null,null,null,null,null,null,null,""]
[null,null,null,null,null,null,null,null,null,""]
[null,null,null,null,null,null,null,null,null,""]
[null,null,null,null,null,null,null,null,null,""]
[null,null,null,null,null,null,null,null,null,""]
[null,null,null,null,null,null,null,null,null,""]
[null,null,null,null,null,null,null,null,null,""]
[null,null,null,null,null,null,null,null,null,""]
[null,null,null,null,null,null,null,null,null,""]
[null,null,null,null,null,null,null,null,null,""]
[null,null,null,null,null,null,null,null,null,""]
[null,null,null,null,null,null,null,null,null,""]
[null,null,null,null,null,null,null,null,null,""]
[null,null,null,null,null,null,null,null,null,""]
[null,null,null,null,null,null,null,null,null,""]
[null,null,null,null,null,null,null,null,null,""]
[null,null,null,null,null,null,null,null,null,""]
[null,null,null,null,null,null,null,null,null,""]
[null,null,null,null,null,null,null,null,null,""]
[null,null,null,null,null,null,null,null,null,""]
[null,null,null,null,null,null,null,null,null,""]
[null,null,null,null,null,null,null,null,null,""]
[null,null,null,null,null,null,null,null,null,""]
[null,null,null,null,null,null,null,null,null,""]
[null,null,null,null,null,null,null,null,null,""]
[null,null,null,null,null,null,null,null,null,""]
[null,null,null,null,null,null,null,null,null,""]
[null,null,null,null,null,null,null,null,null,""]
[null,null,null,null,null,null,null,null,null,""]
[null,null,null,null,null,null,null,null,null,""]
[null,null,null,null,null,null,null,null,null,{"$f":"+IF(I473=\"\",\"\",(VALUE(TEXT(H473,\"m/dd/yy \")&TEXT(I473,\"hh:mm:ss\"))-(VALUE(TEXT(F473,\"m/dd/yy \")&TEXT(G473,\"hh:mm:ss\"))))*24)","v":""}]
[null,null,null,null,null,null,null,null,null,""]
[null,null,null,null,null,null,null,null,null,""]
[null,null,null,null,null,null,null,null,null,""]
[null,null,null,null,null,null,null,null,null,""]
[null,null,null,null,null,null,null,null,null,""]
[null,null,null,null,null,null,null,null,null,""]
[null,null,null,null,null,null,null,null,null,""]
[null,null,null,null,null,null,null,null,null,""]
[null,null,null,null,null,null,null,null,null,""]
[null,null,null,null,null,null,null,null,null,""]
[null,null,null,null,null,null,null,null,null,""]
[null,null,null,null,null,null,null,null,null,""]
[null,null,null,null,null,null,null,null,null,""]
[null,null,null,null,null,null,null,null,null,""]
[null,null,null,null,null,null,null,null,null,""]
[null,null,null,null,null,null,null,null,null,""]
[null,null,null,null,null,null,null,null,null,""]
[null,null,null,null,null,null,null,null,null,""]
[null,null,null,null,null,null,null,null,null,""]
[null,null,null,null,null,null,null,null,null,""]
[null,null,null,null,null,null,null,null,null,""]
[null,null,null,null,null,null,null,null,null,""]
[null,null,null,null,null,null,null,null,null,""]
[null,null,null,null,null,null,null,null,null,""]
[null,null,null,null,null,null,null,null,null,""]
[null,null,null,null,null,null,null,null,null,""]
[null,null,null,null,null,null,null,null,null,""]

{"sheet":"Deviation_Summary_CPMS","index":7,"n_rows":100,"n_cols":12,"rows_kept":100,"cut":false,"hidden":false,"merged":[]}
[null,"DO NOT REMOVE OR EDIT INFORMATION IN ROWS 1 THROUGH 5\nFOR INTERNAL USE ONLY"]
[null,"Template Name",null,null,{"$f":"+Welcome!B2","v":"63.6150(a), (c) and (e) Semiannual and Annual Compliance Reports (Spreadsheet Template)"}]
[null,"CitationID",null,null,{"$f":"+Welcome!B3","v":"63.6150(a), (c), and (e)"}]
[null,"Template Version",null,null,{"$f":"+Welcome!B4","v":"v3.00"}]
[null,"Last Updated Date",null,null,{"$f":"+Welcome!B5","v":44067}]
[null,{"$f":"Welcome!B6","v":"OMB No.: 2060-0540   Expiration: 11/16/2019"}]
[null,"40 CFR Part 63, Subpart YYYY National Emission Standards for Hazardous Air Pollutants for Stationary Combustion Turbines - "]
[null,"§63.6150(a)-(e) Compliance Reports Spreadsheet Template"]
[]
[]
[null,"* Required Field"]
[null,"Company Record No. *\n(Autocompleted)","Process Unit Description\n(§63.10(e)(3)(vi))*\n(Autocompleted)","Brief Description of CPMS, CEMS, or COMS *\n(§63.10(e)(3)(vi))\n(Autocompleted)","Total Source\nOperating Time *\n(hours)\n(§63.6150(a)(5)(iv))","Total Duration of\n CPMS, CEMS, or COMS\n Downtime * (hours) \n(§63.10(e)(3)(vi))\n(Calculated value)","Total Duration of\n CPMS Downtime as\n a per cent of Total\n Source Operating Time *\n(§63.10(e)(3)(vi))\n(Calculated value)","Total Duration of\n CPMS Downtime Due\n to Monitoring Equipment Malfunctions * (hours)   \n(§63.10(e)(3)(vi))\n(Calculated value)","Total Duration of\n CPMS Downtime\n Due to Nonmonitoring Equipment Malfunctions * (hours)  \n(§63.10(e)(3)(vi))\n(Calculated value)","Total Duration of\n CPMS Downtime\n Due to Quality Assurance/Quality Control Calibrations * (hours)  \n(§63.10(e)(3)(vi))\n(Calculated value)","Total Duration of \nCPMS Downtime \nDue to Other Known \nCauses * (hours)   \n(§63.10(e)(3)(vi))\n(Calculated value)","Total Duration of\n CPMS Downtime \nDue to Other Unknown\n Causes * (hours)   \n(§63.10(e)(3)(vi))\n(Calculated value)"]
[null,"RecordId","ProcessUnit","CPMSDescription","TotalOperatingTime","CPMSDowntimeDuration","CPMSDowntimePercent","CPMSDowntimeMonitoringMal","CPMSDowntimeNonmonitoringMal","CPMSDowntimeCalibrations","CPMSDowntimeOtherKnown","CPMSDowntimeOtherUnknown"]
[null,"e.g.: 1","e.g.: Turbine 1","e.g.: TC1792 Catalyst Inlet Temperature","e.g.: 4416","e.g.: 0","e.g.: N/A","e.g.: 0","e.g.: 0","e.g.: 0","e.g.: 0","e.g.: 0"]
[]
[]
[]
[]
[]
[]
[]
[]
[]
[null,{"$f":"IF(Lists!BE2=\"\",\"\",Lists!BE2)","v":""},{"$f":"IF(Lists!BF2=\"\",\"\",Lists!BF2)","v":""},{"$f":"IF(Lists!BG2=\"\",\"\",Lists!BG2)","v":""},null,{"$f":"IF($E24=\"\",\"\",SUMIFS(Deviation_CEM_CPMS!$J$24:$J$5400,Deviation_CEM_CPMS!$B$24:$B$5400,B24,Deviation_CEM_CPMS!$C$24:$C$5400,C24,Deviation_CEM_CPMS!$D$24:$D$5400,D24))","v":""},{"$f":"IF($E24=\"\",\"\",IF(F24=0,\"N/A\",F24/$E24))","v":""},{"$f":"IF($E24=\"\",\"\",SUMIFS(Deviation_CEM_CPMS!$J$24:$J$5400,Deviation_CEM_CPMS!$B$24:$B$5400,B24,Deviation_CEM_CPMS!$C$24:$C$5400,C24,Deviation_CEM_CPMS!$D$24:$D$5400,D24,Deviation_CEM_CPMS!$K$24:$K$5400,\"Monitoring Equipment Malfunctions\"))","v":""},{"$f":"IF($E24=\"\",\"\",SUMIFS(Deviation_CEM_CPMS!$J$24:$J$5400,Deviation_CEM_CPMS!$B$24:$B$5400,B24,Deviation_CEM_CPMS!$C$24:$C$5400,C24,Deviation_CEM_CPMS!$D$24:$D$5400,D24,Deviation_CEM_CPMS!$K$24:$K$5400,\"Nonmonitoring Equipment Malfunctions\"))","v":""},{"$f":"IF($E24=\"\",\"\",SUMIFS(Deviation_CEM_CPMS!$J$24:$J$5400,Deviation_CEM_CPMS!$B$24:$B$5400,B24,Deviation_CEM_CPMS!$C$24:$C$5400,C24,Deviation_CEM_CPMS!$D$24:$D$5400,D24,Deviation_CEM_CPMS!$K$24:$K$5400,\"Quality Assurance/Quality Control Calibrations\"))","v":""},{"$f":"IF($E24=\"\",\"\",SUMIFS(Deviation_CEM_CPMS!$J$24:$J$5400,Deviation_CEM_CPMS!$B$24:$B$5400,B24,Deviation_CEM_CPMS!$C$24:$C$5400,C24,Deviation_CEM_CPMS!$D$24:$D$5400,D24,Deviation_CEM_CPMS!$K$24:$K$5400,\"Other Known Causes\"))","v":""},{"$f":"IF($E24=\"\",\"\",SUMIFS(Deviation_CEM_CPMS!$J$24:$J$5400,Deviation_CEM_CPMS!$B$24:$B$5400,B24,Deviation_CEM_CPMS!$C$24:$C$5400,C24,Deviation_CEM_CPMS!$D$24:$D$5400,D24,Deviation_CEM_CPMS!$K$24:$K$5400,\"Other Unknown Causes\"))","v":""}]
[null,{"$f":"IF(Lists!BE3=\"\",\"\",Lists!BE3)","v":""},{"$f":"IF(Lists!BF3=\"\",\"\",Lists!BF3)","v":""},{"$f":"IF(Lists!BG3=\"\",\"\",Lists!BG3)","v":""},null,{"$f":"IF($E25=\"\",\"\",SUMIFS(Deviation_CEM_CPMS!$J$24:$J$5400,Deviation_CEM_CPMS!$B$24:$B$5400,B25,Deviation_CEM_CPMS!$C$24:$C$5400,C25,Deviation_CEM_CPMS!$D$24:$D$5400,D25))","v":""},"",{"$f":"IF($E25=\"\",\"\",SUMIFS(Deviation_CEM_CPMS!$J$24:$J$5400,Deviation_CEM_CPMS!$B$24:$B$5400,B25,Deviation_CEM_CPMS!$C$24:$C$5400,C25,Deviation_CEM_CPMS!$D$24:$D$5400,D25,Deviation_CEM_CPMS!$K$24:$K$5400,\"Monitoring Equipment Malfunctions\"))","v":""},{"$f":"IF($E25=\"\",\"\",SUMIFS(Deviation_CEM_CPMS!$J$24:$J$5400,Deviation_CEM_CPMS!$B$24:$B$5400,B25,Deviation_CEM_CPMS!$C$24:$C$5400,C25,Deviation_CEM_CPMS!$D$24:$D$5400,D25,Deviation_CEM_CPMS!$K$24:$K$5400,\"Nonmonitoring Equipment Malfunctions\"))","v":""},{"$f":"IF($E25=\"\",\"\",SUMIFS(Deviation_CEM_CPMS!$J$24:$J$5400,Deviation_CEM_CPMS!$B$24:$B$5400,B25,Deviation_CEM_CPMS!$C$24:$C$5400,C25,Deviation_CEM_CPMS!$D$24:$D$5400,D25,Deviation_CEM_CPMS!$K$24:$K$5400,\"Quality Assurance/Quality Control Calibrations\"))","v":""},{"$f":"IF($E25=\"\",\"\",SUMIFS(Deviation_CEM_CPMS!$J$24:$J$5400,Deviation_CEM_CPMS!$B$24:$B$5400,B25,Deviation_CEM_CPMS!$C$24:$C$5400,C25,Deviation_CEM_CPMS!$D$24:$D$5400,D25,Deviation_CEM_CPMS!$K$24:$K$5400,\"Other Known Causes\"))","v":""},{"$f":"IF($E25=\"\",\"\",SUMIFS(Deviation_CEM_CPMS!$J$24:$J$5400,Deviation_CEM_CPMS!$B$24:$B$5400,B25,Deviation_CEM_CPMS!$C$24:$C$5400,C25,Deviation_CEM_CPMS!$D$24:$D$5400,D25,Deviation_CEM_CPMS!$K$24:$K$5400,\"Other Unknown Causes\"))","v":""}]
[null,{"$f":"IF(Lists!BE4=\"\",\"\",Lists!BE4)","v":""},{"$f":"IF(Lists!BF4=\"\",\"\",Lists!BF4)","v":""},{"$f":"IF(Lists!BG4=\"\",\"\",Lists!BG4)","v":""},null,{"$f":"IF($E26=\"\",\"\",SUMIFS(Deviation_CEM_CPMS!$J$24:$J$5400,Deviation_CEM_CPMS!$B$24:$B$5400,B26,Deviation_CEM_CPMS!$C$24:$C$5400,C26,Deviation_CEM_CPMS!$D$24:$D$5400,D26))","v":""},{"$f":"IF($E26=\"\",\"\",IF(F26=0,\"N/A\",F26/$E26))","v":""},{"$f":"IF($E26=\"\",\"\",SUMIFS(Deviation_CEM_CPMS!$J$24:$J$5400,Deviation_CEM_CPMS!$B$24:$B$5400,B26,Deviation_CEM_CPMS!$C$24:$C$5400,C26,Deviation_CEM_CPMS!$D$24:$D$5400,D26,Deviation_CEM_CPMS!$K$24:$K$5400,\"Monitoring Equipment Malfunctions\"))","v":""},{"$f":"IF($E26=\"\",\"\",SUMIFS(Deviation_CEM_CPMS!$J$24:$J$5400,Deviation_CEM_CPMS!$B$24:$B$5400,B26,Deviation_CEM_CPMS!$C$24:$C$5400,C26,Deviation_CEM_CPMS!$D$24:$D$5400,D26,Deviation_CEM_CPMS!$K$24:$K$5400,\"Nonmonitoring Equipment Malfunctions\"))","v":""},{"$f":"IF($E26=\"\",\"\",SUMIFS(Deviation_CEM_CPMS!$J$24:$J$5400,Deviation_CEM_CPMS!$B$24:$B$5400,B26,Deviation_CEM_CPMS!$C$24:$C$5400,C26,Deviation_CEM_CPMS!$D$24:$D$5400,D26,Deviation_CEM_CPMS!$K$24:$K$5400,\"Quality Assurance/Quality Control Calibrations\"))","v":""},{"$f":"IF($E26=\"\",\"\",SUMIFS(Deviation_CEM_CPMS!$J$24:$J$5400,Deviation_CEM_CPMS!$B$24:$B$5400,B26,Deviation_CEM_CPMS!$C$24:$C$5400,C26,Deviation_CEM_CPMS!$D$24:$D$5400,D26,Deviation_CEM_CPMS!$K$24:$K$5400,\"Other Known Causes\"))","v":""},{"$f":"IF($E26=\"\",\"\",SUMIFS(Deviation_CEM_CPMS!$J$24:$J$5400,Deviation_CEM_CPMS!$B$24:$B$5400,B26,Deviation_CEM_CPMS!$C$24:$C$5400,C26,Deviation_CEM_CPMS!$D$24:$D$5400,D26,Deviation_CEM_CPMS!$K$24:$K$5400,\"Other Unknown Causes\"))","v":""}]
[null,{"$f":"IF(Lists!BE5=\"\",\"\",Lists!BE5)","v":""},{"$f":"IF(Lists!BF5=\"\",\"\",Lists!BF5)","v":""},{"$f":"IF(Lists!BG5=\"\",\"\",Lists!BG5)","v":""},null,{"$f":"IF($E27=\"\",\"\",SUMIFS(Deviation_CEM_CPMS!$J$24:$J$5400,Deviation_CEM_CPMS!$B$24:$B$5400,B27,Deviation_CEM_CPMS!$C$24:$C$5400,C27,Deviation_CEM_CPMS!$D$24:$D$5400,D27))","v":""},"",{"$f":"IF($E27=\"\",\"\",SUMIFS(Deviation_CEM_CPMS!$J$24:$J$5400,Deviation_CEM_CPMS!$B$24:$B$5400,B27,Deviation_CEM_CPMS!$C$24:$C$5400,C27,Deviation_CEM_CPMS!$D$24:$D$5400,D27,Deviation_CEM_CPMS!$K$24:$K$5400,\"Monitoring Equipment Malfunctions\"))","v":""},{"$f":"IF($E27=\"\",\"\",SUMIFS(Deviation_CEM_CPMS!$J$24:$J$5400,Deviation_CEM_CPMS!$B$24:$B$5400,B27,Deviation_CEM_CPMS!$C$24:$C$5400,C27,Deviation_CEM_CPMS!$D$24:$D$5400,D27,Deviation_CEM_CPMS!$K$24:$K$5400,\"Nonmonitoring Equipment Malfunctions\"))","v":""},{"$f":"IF($E27=\"\",\"\",SUMIFS(Deviation_CEM_CPMS!$J$24:$J$5400,Deviation_CEM_CPMS!$B$24:$B$5400,B27,Deviation_CEM_CPMS!$C$24:$C$5400,C27,Deviation_CEM_CPMS!$D$24:$D$5400,D27,Deviation_CEM_CPMS!$K$24:$K$5400,\"Quality Assurance/Quality Control Calibrations\"))","v":""},{"$f":"IF($E27=\"\",\"\",SUMIFS(Deviation_CEM_CPMS!$J$24:$J$5400,Deviation_CEM_CPMS!$B$24:$B$5400,B27,Deviation_CEM_CPMS!$C$24:$C$5400,C27,Deviation_CEM_CPMS!$D$24:$D$5400,D27,Deviation_CEM_CPMS!$K$24:$K$5400,\"Other Known Causes\"))","v":""},{"$f":"IF($E27=\"\",\"\",SUMIFS(Deviation_CEM_CPMS!$J$24:$J$5400,Deviation_CEM_CPMS!$B$24:$B$5400,B27,Deviation_CEM_CPMS!$C$24:$C$5400,C27,Deviation_CEM_CPMS!$D$24:$D$5400,D27,Deviation_CEM_CPMS!$K$24:$K$5400,\"Other Unknown Causes\"))","v":""}]
[null,{"$f":"IF(Lists!BE6=\"\",\"\",Lists!BE6)","v":""},{"$f":"IF(Lists!BF6=\"\",\"\",Lists!BF6)","v":""},{"$f":"IF(Lists!BG6=\"\",\"\",Lists!BG6)","v":""},null,{"$f":"IF($E28=\"\",\"\",SUMIFS(Deviation_CEM_CPMS!$J$24:$J$5400,Deviation_CEM_CPMS!$B$24:$B$5400,B28,Deviation_CEM_CPMS!$C$24:$C$5400,C28,Deviation_CEM_CPMS!$D$24:$D$5400,D28))","v":""},"",{"$f":"IF($E28=\"\",\"\",SUMIFS(Deviation_CEM_CPMS!$J$24:$J$5400,Deviation_CEM_CPMS!$B$24:$B$5400,B28,Deviation_CEM_CPMS!$C$24:$C$5400,C28,Deviation_CEM_CPMS!$D$24:$D$5400,D28,Deviation_CEM_CPMS!$K$24:$K$5400,\"Monitoring Equipment Malfunctions\"))","v":""},{"$f":"IF($E28=\"\",\"\",SUMIFS(Deviation_CEM_CPMS!$J$24:$J$5400,Deviation_CEM_CPMS!$B$24:$B$5400,B28,Deviation_CEM_CPMS!$C$24:$C$5400,C28,Deviation_CEM_CPMS!$D$24:$D$5400,D28,Deviation_CEM_CPMS!$K$24:$K$5400,\"Nonmonitoring Equipment Malfunctions\"))","v":""},{"$f":"IF($E28=\"\",\"\",SUMIFS(Deviation_CEM_CPMS!$J$24:$J$5400,Deviation_CEM_CPMS!$B$24:$B$5400,B28,Deviation_CEM_CPMS!$C$24:$C$5400,C28,Deviation_CEM_CPMS!$D$24:$D$5400,D28,Deviation_CEM_CPMS!$K$24:$K$5400,\"Quality Assurance/Quality Control Calibrations\"))","v":""},{"$f":"IF($E28=\"\",\"\",SUMIFS(Deviation_CEM_CPMS!$J$24:$J$5400,Deviation_CEM_CPMS!$B$24:$B$5400,B28,Deviation_CEM_CPMS!$C$24:$C$5400,C28,Deviation_CEM_CPMS!$D$24:$D$5400,D28,Deviation_CEM_CPMS!$K$24:$K$5400,\"Other Known Causes\"))","v":""},{"$f":"IF($E28=\"\",\"\",SUMIFS(Deviation_CEM_CPMS!$J$24:$J$5400,Deviation_CEM_CPMS!$B$24:$B$5400,B28,Deviation_CEM_CPMS!$C$24:$C$5400,C28,Deviation_CEM_CPMS!$D$24:$D$5400,D28,Deviation_CEM_CPMS!$K$24:$K$5400,\"Other Unknown Causes\"))","v":""}]
[null,{"$f":"IF(Lists!BE7=\"\",\"\",Lists!BE7)","v":""},{"$f":"IF(Lists!BF7=\"\",\"\",Lists!BF7)","v":""},{"$f":"IF(Lists!BG7=\"\",\"\",Lists!BG7)","v":""},null,{"$f":"IF($E29=\"\",\"\",SUMIFS(Deviation_CEM_CPMS!$J$24:$J$5400,Deviation_CEM_CPMS!$B$24:$B$5400,B29,Deviation_CEM_CPMS!$C$24:$C$5400,C29,Deviation_CEM_CPMS!$D$24:$D$5400,D29))","v":""},"",{"$f":"IF($E29=\"\",\"\",SUMIFS(Deviation_CEM_CPMS!$J$24:$J$5400,Deviation_CEM_CPMS!$B$24:$B$5400,B29,Deviation_CEM_CPMS!$C$24:$C$5400,C29,Deviation_CEM_CPMS!$D$24:$D$5400,D29,Deviation_CEM_CPMS!$K$24:$K$5400,\"Monitoring Equipment Malfunctions\"))","v":""},{"$f":"IF($E29=\"\",\"\",SUMIFS(Deviation_CEM_CPMS!$J$24:$J$5400,Deviation_CEM_CPMS!$B$24:$B$5400,B29,Deviation_CEM_CPMS!$C$24:$C$5400,C29,Deviation_CEM_CPMS!$D$24:$D$5400,D29,Deviation_CEM_CPMS!$K$24:$K$5400,\"Nonmonitoring Equipment Malfunctions\"))","v":""},{"$f":"IF($E29=\"\",\"\",SUMIFS(Deviation_CEM_CPMS!$J$24:$J$5400,Deviation_CEM_CPMS!$B$24:$B$5400,B29,Deviation_CEM_CPMS!$C$24:$C$5400,C29,Deviation_CEM_CPMS!$D$24:$D$5400,D29,Deviation_CEM_CPMS!$K$24:$K$5400,\"Quality Assurance/Quality Control Calibrations\"))","v":""},{"$f":"IF($E29=\"\",\"\",SUMIFS(Deviation_CEM_CPMS!$J$24:$J$5400,Deviation_CEM_CPMS!$B$24:$B$5400,B29,Deviation_CEM_CPMS!$C$24:$C$5400,C29,Deviation_CEM_CPMS!$D$24:$D$5400,D29,Deviation_CEM_CPMS!$K$24:$K$5400,\"Other Known Causes\"))","v":""},{"$f":"IF($E29=\"\",\"\",SUMIFS(Deviation_CEM_CPMS!$J$24:$J$5400,Deviation_CEM_CPMS!$B$24:$B$5400,B29,Deviation_CEM_CPMS!$C$24:$C$5400,C29,Deviation_CEM_CPMS!$D$24:$D$5400,D29,Deviation_CEM_CPMS!$K$24:$K$5400,\"Other Unknown Causes\"))","v":""}]
[null,{"$f":"IF(Lists!BE8=\"\",\"\",Lists!BE8)","v":""},{"$f":"IF(Lists!BF8=\"\",\"\",Lists!BF8)","v":""},{"$f":"IF(Lists!BG8=\"\",\"\",Lists!BG8)","v":""},null,{"$f":"IF($E30=\"\",\"\",SUMIFS(Deviation_CEM_CPMS!$J$24:$J$5400,Deviation_CEM_CPMS!$B$24:$B$5400,B30,Deviation_CEM_CPMS!$C$24:$C$5400,C30,Deviation_CEM_CPMS!$D$24:$D$5400,D30))","v":""},"",{"$f":"IF($E30=\"\",\"\",SUMIFS(Deviation_CEM_CPMS!$J$24:$J$5400,Deviation_CEM_CPMS!$B$24:$B$5400,B30,Deviation_CEM_CPMS!$C$24:$C$5400,C30,Deviation_CEM_CPMS!$D$24:$D$5400,D30,Deviation_CEM_CPMS!$K$24:$K$5400,\"Monitoring Equipment Malfunctions\"))","v":""},{"$f":"IF($E30=\"\",\"\",SUMIFS(Deviation_CEM_CPMS!$J$24:$J$5400,Deviation_CEM_CPMS!$B$24:$B$5400,B30,Deviation_CEM_CPMS!$C$24:$C$5400,C30,Deviation_CEM_CPMS!$D$24:$D$5400,D30,Deviation_CEM_CPMS!$K$24:$K$5400,\"Nonmonitoring Equipment Malfunctions\"))","v":""},{"$f":"IF($E30=\"\",\"\",SUMIFS(Deviation_CEM_CPMS!$J$24:$J$5400,Deviation_CEM_CPMS!$B$24:$B$5400,B30,Deviation_CEM_CPMS!$C$24:$C$5400,C30,Deviation_CEM_CPMS!$D$24:$D$5400,D30,Deviation_CEM_CPMS!$K$24:$K$5400,\"Quality Assurance/Quality Control Calibrations\"))","v":""},{"$f":"IF($E30=\"\",\"\",SUMIFS(Deviation_CEM_CPMS!$J$24:$J$5400,Deviation_CEM_CPMS!$B$24:$B$5400,B30,Deviation_CEM_CPMS!$C$24:$C$5400,C30,Deviation_CEM_CPMS!$D$24:$D$5400,D30,Deviation_CEM_CPMS!$K$24:$K$5400,\"Other Known Causes\"))","v":""},{"$f":"IF($E30=\"\",\"\",SUMIFS(Deviation_CEM_CPMS!$J$24:$J$5400,Deviation_CEM_CPMS!$B$24:$B$5400,B30,Deviation_CEM_CPMS!$C$24:$C$5400,C30,Deviation_CEM_CPMS!$D$24:$D$5400,D30,Deviation_CEM_CPMS!$K$24:$K$5400,\"Other Unknown Causes\"))","v":""}]
[null,{"$f":"IF(Lists!BE9=\"\",\"\",Lists!BE9)","v":""},{"$f":"IF(Lists!BF9=\"\",\"\",Lists!BF9)","v":""},{"$f":"IF(Lists!BG9=\"\",\"\",Lists!BG9)","v":""},null,{"$f":"IF($E31=\"\",\"\",SUMIFS(Deviation_CEM_CPMS!$J$24:$J$5400,Deviation_CEM_CPMS!$B$24:$B$5400,B31,Deviation_CEM_CPMS!$C$24:$C$5400,C31,Deviation_CEM_CPMS!$D$24:$D$5400,D31))","v":""},"",{"$f":"IF($E31=\"\",\"\",SUMIFS(Deviation_CEM_CPMS!$J$24:$J$5400,Deviation_CEM_CPMS!$B$24:$B$5400,B31,Deviation_CEM_CPMS!$C$24:$C$5400,C31,Deviation_CEM_CPMS!$D$24:$D$5400,D31,Deviation_CEM_CPMS!$K$24:$K$5400,\"Monitoring Equipment Malfunctions\"))","v":""},{"$f":"IF($E31=\"\",\"\",SUMIFS(Deviation_CEM_CPMS!$J$24:$J$5400,Deviation_CEM_CPMS!$B$24:$B$5400,B31,Deviation_CEM_CPMS!$C$24:$C$5400,C31,Deviation_CEM_CPMS!$D$24:$D$5400,D31,Deviation_CEM_CPMS!$K$24:$K$5400,\"Nonmonitoring Equipment Malfunctions\"))","v":""},{"$f":"IF($E31=\"\",\"\",SUMIFS(Deviation_CEM_CPMS!$J$24:$J$5400,Deviation_CEM_CPMS!$B$24:$B$5400,B31,Deviation_CEM_CPMS!$C$24:$C$5400,C31,Deviation_CEM_CPMS!$D$24:$D$5400,D31,Deviation_CEM_CPMS!$K$24:$K$5400,\"Quality Assurance/Quality Control Calibrations\"))","v":""},{"$f":"IF($E31=\"\",\"\",SUMIFS(Deviation_CEM_CPMS!$J$24:$J$5400,Deviation_CEM_CPMS!$B$24:$B$5400,B31,Deviation_CEM_CPMS!$C$24:$C$5400,C31,Deviation_CEM_CPMS!$D$24:$D$5400,D31,Deviation_CEM_CPMS!$K$24:$K$5400,\"Other Known Causes\"))","v":""},{"$f":"IF($E31=\"\",\"\",SUMIFS(Deviation_CEM_CPMS!$J$24:$J$5400,Deviation_CEM_CPMS!$B$24:$B$5400,B31,Deviation_CEM_CPMS!$C$24:$C$5400,C31,Deviation_CEM_CPMS!$D$24:$D$5400,D31,Deviation_CEM_CPMS!$K$24:$K$5400,\"Other Unknown Causes\"))","v":""}]
[null,{"$f":"IF(Lists!BE10=\"\",\"\",Lists!BE10)","v":""},{"$f":"IF(Lists!BF10=\"\",\"\",Lists!BF10)","v":""},{"$f":"IF(Lists!BG10=\"\",\"\",Lists!BG10)","v":""},null,{"$f":"IF($E32=\"\",\"\",SUMIFS(Deviation_CEM_CPMS!$J$24:$J$5400,Deviation_CEM_CPMS!$B$24:$B$5400,B32,Deviation_CEM_CPMS!$C$24:$C$5400,C32,Deviation_CEM_CPMS!$D$24:$D$5400,D32))","v":""},"",{"$f":"IF($E32=\"\",\"\",SUMIFS(Deviation_CEM_CPMS!$J$24:$J$5400,Deviation_CEM_CPMS!$B$24:$B$5400,B32,Deviation_CEM_CPMS!$C$24:$C$5400,C32,Deviation_CEM_CPMS!$D$24:$D$5400,D32,Deviation_CEM_CPMS!$K$24:$K$5400,\"Monitoring Equipment Malfunctions\"))","v":""},{"$f":"IF($E32=\"\",\"\",SUMIFS(Deviation_CEM_CPMS!$J$24:$J$5400,Deviation_CEM_CPMS!$B$24:$B$5400,B32,Deviation_CEM_CPMS!$C$24:$C$5400,C32,Deviation_CEM_CPMS!$D$24:$D$5400,D32,Deviation_CEM_CPMS!$K$24:$K$5400,\"Nonmonitoring Equipment Malfunctions\"))","v":""},{"$f":"IF($E32=\"\",\"\",SUMIFS(Deviation_CEM_CPMS!$J$24:$J$5400,Deviation_CEM_CPMS!$B$24:$B$5400,B32,Deviation_CEM_CPMS!$C$24:$C$5400,C32,Deviation_CEM_CPMS!$D$24:$D$5400,D32,Deviation_CEM_CPMS!$K$24:$K$5400,\"Quality Assurance/Quality Control Calibrations\"))","v":""},{"$f":"IF($E32=\"\",\"\",SUMIFS(Deviation_CEM_CPMS!$J$24:$J$5400,Deviation_CEM_CPMS!$B$24:$B$5400,B32,Deviation_CEM_CPMS!$C$24:$C$5400,C32,Deviation_CEM_CPMS!$D$24:$D$5400,D32,Deviation_CEM_CPMS!$K$24:$K$5400,\"Other Known Causes\"))","v":""},{"$f":"IF($E32=\"\",\"\",SUMIFS(Deviation_CEM_CPMS!$J$24:$J$5400,Deviation_CEM_CPMS!$B$24:$B$5400,B32,Deviation_CEM_CPMS!$C$24:$C$5400,C32,Deviation_CEM_CPMS!$D$24:$D$5400,D32,Deviation_CEM_CPMS!$K$24:$K$5400,\"Other Unknown Causes\"))","v":""}]
[null,{"$f":"IF(Lists!BE11=\"\",\"\",Lists!BE11)","v":""},{"$f":"IF(Lists!BF11=\"\",\"\",Lists!BF11)","v":""},{"$f":"IF(Lists!BG11=\"\",\"\",Lists!BG11)","v":""},null,{"$f":"IF($E33=\"\",\"\",SUMIFS(Deviation_CEM_CPMS!$J$24:$J$5400,Deviation_CEM_CPMS!$B$24:$B$5400,B33,Deviation_CEM_CPMS!$C$24:$C$5400,C33,Deviation_CEM_CPMS!$D$24:$D$5400,D33))","v":""},"",{"$f":"IF($E33=\"\",\"\",SUMIFS(Deviation_CEM_CPMS!$J$24:$J$5400,Deviation_CEM_CPMS!$B$24:$B$5400,B33,Deviation_CEM_CPMS!$C$24:$C$5400,C33,Deviation_CEM_CPMS!$D$24:$D$5400,D33,Deviation_CEM_CPMS!$K$24:$K$5400,\"Monitoring Equipment Malfunctions\"))","v":""},{"$f":"IF($E33=\"\",\"\",SUMIFS(Deviation_CEM_CPMS!$J$24:$J$5400,Deviation_CEM_CPMS!$B$24:$B$5400,B33,Deviation_CEM_CPMS!$C$24:$C$5400,C33,Deviation_CEM_CPMS!$D$24:$D$5400,D33,Deviation_CEM_CPMS!$K$24:$K$5400,\"Nonmonitoring Equipment Malfunctions\"))","v":""},{"$f":"IF($E33=\"\",\"\",SUMIFS(Deviation_CEM_CPMS!$J$24:$J$5400,Deviation_CEM_CPMS!$B$24:$B$5400,B33,Deviation_CEM_CPMS!$C$24:$C$5400,C33,Deviation_CEM_CPMS!$D$24:$D$5400,D33,Deviation_CEM_CPMS!$K$24:$K$5400,\"Quality Assurance/Quality Control Calibrations\"))","v":""},{"$f":"IF($E33=\"\",\"\",SUMIFS(Deviation_CEM_CPMS!$J$24:$J$5400,Deviation_CEM_CPMS!$B$24:$B$5400,B33,Deviation_CEM_CPMS!$C$24:$C$5400,C33,Deviation_CEM_CPMS!$D$24:$D$5400,D33,Deviation_CEM_CPMS!$K$24:$K$5400,\"Other Known Causes\"))","v":""},{"$f":"IF($E33=\"\",\"\",SUMIFS(Deviation_CEM_CPMS!$J$24:$J$5400,Deviation_CEM_CPMS!$B$24:$B$5400,B33,Deviation_CEM_CPMS!$C$24:$C$5400,C33,Deviation_CEM_CPMS!$D$24:$D$5400,D33,Deviation_CEM_CPMS!$K$24:$K$5400,\"Other Unknown Causes\"))","v":""}]
[null,{"$f":"IF(Lists!BE12=\"\",\"\",Lists!BE12)","v":""},{"$f":"IF(Lists!BF12=\"\",\"\",Lists!BF12)","v":""},{"$f":"IF(Lists!BG12=\"\",\"\",Lists!BG12)","v":""},null,{"$f":"IF($E34=\"\",\"\",SUMIFS(Deviation_CEM_CPMS!$J$24:$J$5400,Deviation_CEM_CPMS!$B$24:$B$5400,B34,Deviation_CEM_CPMS!$C$24:$C$5400,C34,Deviation_CEM_CPMS!$D$24:$D$5400,D34))","v":""},"",{"$f":"IF($E34=\"\",\"\",SUMIFS(Deviation_CEM_CPMS!$J$24:$J$5400,Deviation_CEM_CPMS!$B$24:$B$5400,B34,Deviation_CEM_CPMS!$C$24:$C$5400,C34,Deviation_CEM_CPMS!$D$24:$D$5400,D34,Deviation_CEM_CPMS!$K$24:$K$5400,\"Monitoring Equipment Malfunctions\"))","v":""},{"$f":"IF($E34=\"\",\"\",SUMIFS(Deviation_CEM_CPMS!$J$24:$J$5400,Deviation_CEM_CPMS!$B$24:$B$5400,B34,Deviation_CEM_CPMS!$C$24:$C$5400,C34,Deviation_CEM_CPMS!$D$24:$D$5400,D34,Deviation_CEM_CPMS!$K$24:$K$5400,\"Nonmonitoring Equipment Malfunctions\"))","v":""},{"$f":"IF($E34=\"\",\"\",SUMIFS(Deviation_CEM_CPMS!$J$24:$J$5400,Deviation_CEM_CPMS!$B$24:$B$5400,B34,Deviation_CEM_CPMS!$C$24:$C$5400,C34,Deviation_CEM_CPMS!$D$24:$D$5400,D34,Deviation_CEM_CPMS!$K$24:$K$5400,\"Quality Assurance/Quality Control Calibrations\"))","v":""},{"$f":"IF($E34=\"\",\"\",SUMIFS(Deviation_CEM_CPMS!$J$24:$J$5400,Deviation_CEM_CPMS!$B$24:$B$5400,B34,Deviation_CEM_CPMS!$C$24:$C$5400,C34,Deviation_CEM_CPMS!$D$24:$D$5400,D34,Deviation_CEM_CPMS!$K$24:$K$5400,\"Other Known Causes\"))","v":""},{"$f":"IF($E34=\"\",\"\",SUMIFS(Deviation_CEM_CPMS!$J$24:$J$5400,Deviation_CEM_CPMS!$B$24:$B$5400,B34,Deviation_CEM_CPMS!$C$24:$C$5400,C34,Deviation_CEM_CPMS!$D$24:$D$5400,D34,Deviation_CEM_CPMS!$K$24:$K$5400,\"Other Unknown Causes\"))","v":""}]
[null,{"$f":"IF(Lists!BE13=\"\",\"\",Lists!BE13)","v":""},{"$f":"IF(Lists!BF13=\"\",\"\",Lists!BF13)","v":""},{"$f":"IF(Lists!BG13=\"\",\"\",Lists!BG13)","v":""},null,{"$f":"IF($E35=\"\",\"\",SUMIFS(Deviation_CEM_CPMS!$J$24:$J$5400,Deviation_CEM_CPMS!$B$24:$B$5400,B35,Deviation_CEM_CPMS!$C$24:$C$5400,C35,Deviation_CEM_CPMS!$D$24:$D$5400,D35))","v":""},"",{"$f":"IF($E35=\"\",\"\",SUMIFS(Deviation_CEM_CPMS!$J$24:$J$5400,Deviation_CEM_CPMS!$B$24:$B$5400,B35,Deviation_CEM_CPMS!$C$24:$C$5400,C35,Deviation_CEM_CPMS!$D$24:$D$5400,D35,Deviation_CEM_CPMS!$K$24:$K$5400,\"Monitoring Equipment Malfunctions\"))","v":""},{"$f":"IF($E35=\"\",\"\",SUMIFS(Deviation_CEM_CPMS!$J$24:$J$5400,Deviation_CEM_CPMS!$B$24:$B$5400,B35,Deviation_CEM_CPMS!$C$24:$C$5400,C35,Deviation_CEM_CPMS!$D$24:$D$5400,D35,Deviation_CEM_CPMS!$K$24:$K$5400,\"Nonmonitoring Equipment Malfunctions\"))","v":""},{"$f":"IF($E35=\"\",\"\",SUMIFS(Deviation_CEM_CPMS!$J$24:$J$5400,Deviation_CEM_CPMS!$B$24:$B$5400,B35,Deviation_CEM_CPMS!$C$24:$C$5400,C35,Deviation_CEM_CPMS!$D$24:$D$5400,D35,Deviation_CEM_CPMS!$K$24:$K$5400,\"Quality Assurance/Quality Control Calibrations\"))","v":""},{"$f":"IF($E35=\"\",\"\",SUMIFS(Deviation_CEM_CPMS!$J$24:$J$5400,Deviation_CEM_CPMS!$B$24:$B$5400,B35,Deviation_CEM_CPMS!$C$24:$C$5400,C35,Deviation_CEM_CPMS!$D$24:$D$5400,D35,Deviation_CEM_CPMS!$K$24:$K$5400,\"Other Known Causes\"))","v":""},{"$f":"IF($E35=\"\",\"\",SUMIFS(Deviation_CEM_CPMS!$J$24:$J$5400,Deviation_CEM_CPMS!$B$24:$B$5400,B35,Deviation_CEM_CPMS!$C$24:$C$5400,C35,Deviation_CEM_CPMS!$D$24:$D$5400,D35,Deviation_CEM_CPMS!$K$24:$K$5400,\"Other Unknown Causes\"))","v":""}]
[null,{"$f":"IF(Lists!BE14=\"\",\"\",Lists!BE14)","v":""},{"$f":"IF(Lists!BF14=\"\",\"\",Lists!BF14)","v":""},{"$f":"IF(Lists!BG14=\"\",\"\",Lists!BG14)","v":""},null,{"$f":"IF($E36=\"\",\"\",SUMIFS(Deviation_CEM_CPMS!$J$24:$J$5400,Deviation_CEM_CPMS!$B$24:$B$5400,B36,Deviation_CEM_CPMS!$C$24:$C$5400,C36,Deviation_CEM_CPMS!$D$24:$D$5400,D36))","v":""},"",{"$f":"IF($E36=\"\",\"\",SUMIFS(Deviation_CEM_CPMS!$J$24:$J$5400,Deviation_CEM_CPMS!$B$24:$B$5400,B36,Deviation_CEM_CPMS!$C$24:$C$5400,C36,Deviation_CEM_CPMS!$D$24:$D$5400,D36,Deviation_CEM_CPMS!$K$24:$K$5400,\"Monitoring Equipment Malfunctions\"))","v":""},{"$f":"IF($E36=\"\",\"\",SUMIFS(Deviation_CEM_CPMS!$J$24:$J$5400,Deviation_CEM_CPMS!$B$24:$B$5400,B36,Deviation_CEM_CPMS!$C$24:$C$5400,C36,Deviation_CEM_CPMS!$D$24:$D$5400,D36,Deviation_CEM_CPMS!$K$24:$K$5400,\"Nonmonitoring Equipment Malfunctions\"))","v":""},{"$f":"IF($E36=\"\",\"\",SUMIFS(Deviation_CEM_CPMS!$J$24:$J$5400,Deviation_CEM_CPMS!$B$24:$B$5400,B36,Deviation_CEM_CPMS!$C$24:$C$5400,C36,Deviation_CEM_CPMS!$D$24:$D$5400,D36,Deviation_CEM_CPMS!$K$24:$K$5400,\"Quality Assurance/Quality Control Calibrations\"))","v":""},{"$f":"IF($E36=\"\",\"\",SUMIFS(Deviation_CEM_CPMS!$J$24:$J$5400,Deviation_CEM_CPMS!$B$24:$B$5400,B36,Deviation_CEM_CPMS!$C$24:$C$5400,C36,Deviation_CEM_CPMS!$D$24:$D$5400,D36,Deviation_CEM_CPMS!$K$24:$K$5400,\"Other Known Causes\"))","v":""},{"$f":"IF($E36=\"\",\"\",SUMIFS(Deviation_CEM_CPMS!$J$24:$J$5400,Deviation_CEM_CPMS!$B$24:$B$5400,B36,Deviation_CEM_CPMS!$C$24:$C$5400,C36,Deviation_CEM_CPMS!$D$24:$D$5400,D36,Deviation_CEM_CPMS!$K$24:$K$5400,\"Other Unknown Causes\"))","v":""}]
[null,{"$f":"IF(Lists!BE15=\"\",\"\",Lists!BE15)","v":""},{"$f":"IF(Lists!BF15=\"\",\"\",Lists!BF15)","v":""},{"$f":"IF(Lists!BG15=\"\",\"\",Lists!BG15)","v":""},null,{"$f":"IF($E37=\"\",\"\",SUMIFS(Deviation_CEM_CPMS!$J$24:$J$5400,Deviation_CEM_CPMS!$B$24:$B$5400,B37,Deviation_CEM_CPMS!$C$24:$C$5400,C37,Deviation_CEM_CPMS!$D$24:$D$5400,D37))","v":""},"",{"$f":"IF($E37=\"\",\"\",SUMIFS(Deviation_CEM_CPMS!$J$24:$J$5400,Deviation_CEM_CPMS!$B$24:$B$5400,B37,Deviation_CEM_CPMS!$C$24:$C$5400,C37,Deviation_CEM_CPMS!$D$24:$D$5400,D37,Deviation_CEM_CPMS!$K$24:$K$5400,\"Monitoring Equipment Malfunctions\"))","v":""},{"$f":"IF($E37=\"\",\"\",SUMIFS(Deviation_CEM_CPMS!$J$24:$J$5400,Deviation_CEM_CPMS!$B$24:$B$5400,B37,Deviation_CEM_CPMS!$C$24:$C$5400,C37,Deviation_CEM_CPMS!$D$24:$D$5400,D37,Deviation_CEM_CPMS!$K$24:$K$5400,\"Nonmonitoring Equipment Malfunctions\"))","v":""},{"$f":"IF($E37=\"\",\"\",SUMIFS(Deviation_CEM_CPMS!$J$24:$J$5400,Deviation_CEM_CPMS!$B$24:$B$5400,B37,Deviation_CEM_CPMS!$C$24:$C$5400,C37,Deviation_CEM_CPMS!$D$24:$D$5400,D37,Deviation_CEM_CPMS!$K$24:$K$5400,\"Quality Assurance/Quality Control Calibrations\"))","v":""},{"$f":"IF($E37=\"\",\"\",SUMIFS(Deviation_CEM_CPMS!$J$24:$J$5400,Deviation_CEM_CPMS!$B$24:$B$5400,B37,Deviation_CEM_CPMS!$C$24:$C$5400,C37,Deviation_CEM_CPMS!$D$24:$D$5400,D37,Deviation_CEM_CPMS!$K$24:$K$5400,\"Other Known Causes\"))","v":""},{"$f":"IF($E37=\"\",\"\",SUMIFS(Deviation_CEM_CPMS!$J$24:$J$5400,Deviation_CEM_CPMS!$B$24:$B$5400,B37,Deviation_CEM_CPMS!$C$24:$C$5400,C37,Deviation_CEM_CPMS!$D$24:$D$5400,D37,Deviation_CEM_CPMS!$K$24:$K$5400,\"Other Unknown Causes\"))","v":""}]
[null,{"$f":"IF(Lists!BE16=\"\",\"\",Lists!BE16)","v":""},{"$f":"IF(Lists!BF16=\"\",\"\",Lists!BF16)","v":""},{"$f":"IF(Lists!BG16=\"\",\"\",Lists!BG16)","v":""},null,{"$f":"IF($E38=\"\",\"\",SUMIFS(Deviation_CEM_CPMS!$J$24:$J$5400,Deviation_CEM_CPMS!$B$24:$B$5400,B38,Deviation_CEM_CPMS!$C$24:$C$5400,C38,Deviation_CEM_CPMS!$D$24:$D$5400,D38))","v":""},"",{"$f":"IF($E38=\"\",\"\",SUMIFS(Deviation_CEM_CPMS!$J$24:$J$5400,Deviation_CEM_CPMS!$B$24:$B$5400,B38,Deviation_CEM_CPMS!$C$24:$C$5400,C38,Deviation_CEM_CPMS!$D$24:$D$5400,D38,Deviation_CEM_CPMS!$K$24:$K$5400,\"Monitoring Equipment Malfunctions\"))","v":""},{"$f":"IF($E38=\"\",\"\",SUMIFS(Deviation_CEM_CPMS!$J$24:$J$5400,Deviation_CEM_CPMS!$B$24:$B$5400,B38,Deviation_CEM_CPMS!$C$24:$C$5400,C38,Deviation_CEM_CPMS!$D$24:$D$5400,D38,Deviation_CEM_CPMS!$K$24:$K$5400,\"Nonmonitoring Equipment Malfunctions\"))","v":""},{"$f":"IF($E38=\"\",\"\",SUMIFS(Deviation_CEM_CPMS!$J$24:$J$5400,Deviation_CEM_CPMS!$B$24:$B$5400,B38,Deviation_CEM_CPMS!$C$24:$C$5400,C38,Deviation_CEM_CPMS!$D$24:$D$5400,D38,Deviation_CEM_CPMS!$K$24:$K$5400,\"Quality Assurance/Quality Control Calibrations\"))","v":""},{"$f":"IF($E38=\"\",\"\",SUMIFS(Deviation_CEM_CPMS!$J$24:$J$5400,Deviation_CEM_CPMS!$B$24:$B$5400,B38,Deviation_CEM_CPMS!$C$24:$C$5400,C38,Deviation_CEM_CPMS!$D$24:$D$5400,D38,Deviation_CEM_CPMS!$K$24:$K$5400,\"Other Known Causes\"))","v":""},{"$f":"IF($E38=\"\",\"\",SUMIFS(Deviation_CEM_CPMS!$J$24:$J$5400,Deviation_CEM_CPMS!$B$24:$B$5400,B38,Deviation_CEM_CPMS!$C$24:$C$5400,C38,Deviation_CEM_CPMS!$D$24:$D$5400,D38,Deviation_CEM_CPMS!$K$24:$K$5400,\"Other Unknown Causes\"))","v":""}]
[null,{"$f":"IF(Lists!BE17=\"\",\"\",Lists!BE17)","v":""},{"$f":"IF(Lists!BF17=\"\",\"\",Lists!BF17)","v":""},{"$f":"IF(Lists!BG17=\"\",\"\",Lists!BG17)","v":""},null,{"$f":"IF($E39=\"\",\"\",SUMIFS(Deviation_CEM_CPMS!$J$24:$J$5400,Deviation_CEM_CPMS!$B$24:$B$5400,B39,Deviation_CEM_CPMS!$C$24:$C$5400,C39,Deviation_CEM_CPMS!$D$24:$D$5400,D39))","v":""},"",{"$f":"IF($E39=\"\",\"\",SUMIFS(Deviation_CEM_CPMS!$J$24:$J$5400,Deviation_CEM_CPMS!$B$24:$B$5400,B39,Deviation_CEM_CPMS!$C$24:$C$5400,C39,Deviation_CEM_CPMS!$D$24:$D$5400,D39,Deviation_CEM_CPMS!$K$24:$K$5400,\"Monitoring Equipment Malfunctions\"))","v":""},{"$f":"IF($E39=\"\",\"\",SUMIFS(Deviation_CEM_CPMS!$J$24:$J$5400,Deviation_CEM_CPMS!$B$24:$B$5400,B39,Deviation_CEM_CPMS!$C$24:$C$5400,C39,Deviation_CEM_CPMS!$D$24:$D$5400,D39,Deviation_CEM_CPMS!$K$24:$K$5400,\"Nonmonitoring Equipment Malfunctions\"))","v":""},{"$f":"IF($E39=\"\",\"\",SUMIFS(Deviation_CEM_CPMS!$J$24:$J$5400,Deviation_CEM_CPMS!$B$24:$B$5400,B39,Deviation_CEM_CPMS!$C$24:$C$5400,C39,Deviation_CEM_CPMS!$D$24:$D$5400,D39,Deviation_CEM_CPMS!$K$24:$K$5400,\"Quality Assurance/Quality Control Calibrations\"))","v":""},{"$f":"IF($E39=\"\",\"\",SUMIFS(Deviation_CEM_CPMS!$J$24:$J$5400,Deviation_CEM_CPMS!$B$24:$B$5400,B39,Deviation_CEM_CPMS!$C$24:$C$5400,C39,Deviation_CEM_CPMS!$D$24:$D$5400,D39,Deviation_CEM_CPMS!$K$24:$K$5400,\"Other Known Causes\"))","v":""},{"$f":"IF($E39=\"\",\"\",SUMIFS(Deviation_CEM_CPMS!$J$24:$J$5400,Deviation_CEM_CPMS!$B$24:$B$5400,B39,Deviation_CEM_CPMS!$C$24:$C$5400,C39,Deviation_CEM_CPMS!$D$24:$D$5400,D39,Deviation_CEM_CPMS!$K$24:$K$5400,\"Other Unknown Causes\"))","v":""}]
[null,{"$f":"IF(Lists!BE18=\"\",\"\",Lists!BE18)","v":""},{"$f":"IF(Lists!BF18=\"\",\"\",Lists!BF18)","v":""},{"$f":"IF(Lists!BG18=\"\",\"\",Lists!BG18)","v":""},null,{"$f":"IF($E40=\"\",\"\",SUMIFS(Deviation_CEM_CPMS!$J$24:$J$5400,Deviation_CEM_CPMS!$B$24:$B$5400,B40,Deviation_CEM_CPMS!$C$24:$C$5400,C40,Deviation_CEM_CPMS!$D$24:$D$5400,D40))","v":""},"",{"$f":"IF($E40=\"\",\"\",SUMIFS(Deviation_CEM_CPMS!$J$24:$J$5400,Deviation_CEM_CPMS!$B$24:$B$5400,B40,Deviation_CEM_CPMS!$C$24:$C$5400,C40,Deviation_CEM_CPMS!$D$24:$D$5400,D40,Deviation_CEM_CPMS!$K$24:$K$5400,\"Monitoring Equipment Malfunctions\"))","v":""},{"$f":"IF($E40=\"\",\"\",SUMIFS(Deviation_CEM_CPMS!$J$24:$J$5400,Deviation_CEM_CPMS!$B$24:$B$5400,B40,Deviation_CEM_CPMS!$C$24:$C$5400,C40,Deviation_CEM_CPMS!$D$24:$D$5400,D40,Deviation_CEM_CPMS!$K$24:$K$5400,\"Nonmonitoring Equipment Malfunctions\"))","v":""},{"$f":"IF($E40=\"\",\"\",SUMIFS(Deviation_CEM_CPMS!$J$24:$J$5400,Deviation_CEM_CPMS!$B$24:$B$5400,B40,Deviation_CEM_CPMS!$C$24:$C$5400,C40,Deviation_CEM_CPMS!$D$24:$D$5400,D40,Deviation_CEM_CPMS!$K$24:$K$5400,\"Quality Assurance/Quality Control Calibrations\"))","v":""},{"$f":"IF($E40=\"\",\"\",SUMIFS(Deviation_CEM_CPMS!$J$24:$J$5400,Deviation_CEM_CPMS!$B$24:$B$5400,B40,Deviation_CEM_CPMS!$C$24:$C$5400,C40,Deviation_CEM_CPMS!$D$24:$D$5400,D40,Deviation_CEM_CPMS!$K$24:$K$5400,\"Other Known Causes\"))","v":""},{"$f":"IF($E40=\"\",\"\",SUMIFS(Deviation_CEM_CPMS!$J$24:$J$5400,Deviation_CEM_CPMS!$B$24:$B$5400,B40,Deviation_CEM_CPMS!$C$24:$C$5400,C40,Deviation_CEM_CPMS!$D$24:$D$5400,D40,Deviation_CEM_CPMS!$K$24:$K$5400,\"Other Unknown Causes\"))","v":""}]
[null,{"$f":"IF(Lists!BE19=\"\",\"\",Lists!BE19)","v":""},{"$f":"IF(Lists!BF19=\"\",\"\",Lists!BF19)","v":""},{"$f":"IF(Lists!BG19=\"\",\"\",Lists!BG19)","v":""},null,{"$f":"IF($E41=\"\",\"\",SUMIFS(Deviation_CEM_CPMS!$J$24:$J$5400,Deviation_CEM_CPMS!$B$24:$B$5400,B41,Deviation_CEM_CPMS!$C$24:$C$5400,C41,Deviation_CEM_CPMS!$D$24:$D$5400,D41))","v":""},"",{"$f":"IF($E41=\"\",\"\",SUMIFS(Deviation_CEM_CPMS!$J$24:$J$5400,Deviation_CEM_CPMS!$B$24:$B$5400,B41,Deviation_CEM_CPMS!$C$24:$C$5400,C41,Deviation_CEM_CPMS!$D$24:$D$5400,D41,Deviation_CEM_CPMS!$K$24:$K$5400,\"Monitoring Equipment Malfunctions\"))","v":""},{"$f":"IF($E41=\"\",\"\",SUMIFS(Deviation_CEM_CPMS!$J$24:$J$5400,Deviation_CEM_CPMS!$B$24:$B$5400,B41,Deviation_CEM_CPMS!$C$24:$C$5400,C41,Deviation_CEM_CPMS!$D$24:$D$5400,D41,Deviation_CEM_CPMS!$K$24:$K$5400,\"Nonmonitoring Equipment Malfunctions\"))","v":""},{"$f":"IF($E41=\"\",\"\",SUMIFS(Deviation_CEM_CPMS!$J$24:$J$5400,Deviation_CEM_CPMS!$B$24:$B$5400,B41,Deviation_CEM_CPMS!$C$24:$C$5400,C41,Deviation_CEM_CPMS!$D$24:$D$5400,D41,Deviation_CEM_CPMS!$K$24:$K$5400,\"Quality Assurance/Quality Control Calibrations\"))","v":""},{"$f":"IF($E41=\"\",\"\",SUMIFS(Deviation_CEM_CPMS!$J$24:$J$5400,Deviation_CEM_CPMS!$B$24:$B$5400,B41,Deviation_CEM_CPMS!$C$24:$C$5400,C41,Deviation_CEM_CPMS!$D$24:$D$5400,D41,Deviation_CEM_CPMS!$K$24:$K$5400,\"Other Known Causes\"))","v":""},{"$f":"IF($E41=\"\",\"\",SUMIFS(Deviation_CEM_CPMS!$J$24:$J$5400,Deviation_CEM_CPMS!$B$24:$B$5400,B41,Deviation_CEM_CPMS!$C$24:$C$5400,C41,Deviation_CEM_CPMS!$D$24:$D$5400,D41,Deviation_CEM_CPMS!$K$24:$K$5400,\"Other Unknown Causes\"))","v":""}]
[null,{"$f":"IF(Lists!BE20=\"\",\"\",Lists!BE20)","v":""},{"$f":"IF(Lists!BF20=\"\",\"\",Lists!BF20)","v":""},{"$f":"IF(Lists!BG20=\"\",\"\",Lists!BG20)","v":""},null,{"$f":"IF($E42=\"\",\"\",SUMIFS(Deviation_CEM_CPMS!$J$24:$J$5400,Deviation_CEM_CPMS!$B$24:$B$5400,B42,Deviation_CEM_CPMS!$C$24:$C$5400,C42,Deviation_CEM_CPMS!$D$24:$D$5400,D42))","v":""},"",{"$f":"IF($E42=\"\",\"\",SUMIFS(Deviation_CEM_CPMS!$J$24:$J$5400,Deviation_CEM_CPMS!$B$24:$B$5400,B42,Deviation_CEM_CPMS!$C$24:$C$5400,C42,Deviation_CEM_CPMS!$D$24:$D$5400,D42,Deviation_CEM_CPMS!$K$24:$K$5400,\"Monitoring Equipment Malfunctions\"))","v":""},{"$f":"IF($E42=\"\",\"\",SUMIFS(Deviation_CEM_CPMS!$J$24:$J$5400,Deviation_CEM_CPMS!$B$24:$B$5400,B42,Deviation_CEM_CPMS!$C$24:$C$5400,C42,Deviation_CEM_CPMS!$D$24:$D$5400,D42,Deviation_CEM_CPMS!$K$24:$K$5400,\"Nonmonitoring Equipment Malfunctions\"))","v":""},{"$f":"IF($E42=\"\",\"\",SUMIFS(Deviation_CEM_CPMS!$J$24:$J$5400,Deviation_CEM_CPMS!$B$24:$B$5400,B42,Deviation_CEM_CPMS!$C$24:$C$5400,C42,Deviation_CEM_CPMS!$D$24:$D$5400,D42,Deviation_CEM_CPMS!$K$24:$K$5400,\"Quality Assurance/Quality Control Calibrations\"))","v":""},{"$f":"IF($E42=\"\",\"\",SUMIFS(Deviation_CEM_CPMS!$J$24:$J$5400,Deviation_CEM_CPMS!$B$24:$B$5400,B42,Deviation_CEM_CPMS!$C$24:$C$5400,C42,Deviation_CEM_CPMS!$D$24:$D$5400,D42,Deviation_CEM_CPMS!$K$24:$K$5400,\"Other Known Causes\"))","v":""},{"$f":"IF($E42=\"\",\"\",SUMIFS(Deviation_CEM_CPMS!$J$24:$J$5400,Deviation_CEM_CPMS!$B$24:$B$5400,B42,Deviation_CEM_CPMS!$C$24:$C$5400,C42,Deviation_CEM_CPMS!$D$24:$D$5400,D42,Deviation_CEM_CPMS!$K$24:$K$5400,\"Other Unknown Causes\"))","v":""}]
[null,{"$f":"IF(Lists!BE21=\"\",\"\",Lists!BE21)","v":""},{"$f":"IF(Lists!BF21=\"\",\"\",Lists!BF21)","v":""},{"$f":"IF(Lists!BG21=\"\",\"\",Lists!BG21)","v":""},null,{"$f":"IF($E43=\"\",\"\",SUMIFS(Deviation_CEM_CPMS!$J$24:$J$5400,Deviation_CEM_CPMS!$B$24:$B$5400,B43,Deviation_CEM_CPMS!$C$24:$C$5400,C43,Deviation_CEM_CPMS!$D$24:$D$5400,D43))","v":""},"",{"$f":"IF($E43=\"\",\"\",SUMIFS(Deviation_CEM_CPMS!$J$24:$J$5400,Deviation_CEM_CPMS!$B$24:$B$5400,B43,Deviation_CEM_CPMS!$C$24:$C$5400,C43,Deviation_CEM_CPMS!$D$24:$D$5400,D43,Deviation_CEM_CPMS!$K$24:$K$5400,\"Monitoring Equipment Malfunctions\"))","v":""},{"$f":"IF($E43=\"\",\"\",SUMIFS(Deviation_CEM_CPMS!$J$24:$J$5400,Deviation_CEM_CPMS!$B$24:$B$5400,B43,Deviation_CEM_CPMS!$C$24:$C$5400,C43,Deviation_CEM_CPMS!$D$24:$D$5400,D43,Deviation_CEM_CPMS!$K$24:$K$5400,\"Nonmonitoring Equipment Malfunctions\"))","v":""},{"$f":"IF($E43=\"\",\"\",SUMIFS(Deviation_CEM_CPMS!$J$24:$J$5400,Deviation_CEM_CPMS!$B$24:$B$5400,B43,Deviation_CEM_CPMS!$C$24:$C$5400,C43,Deviation_CEM_CPMS!$D$24:$D$5400,D43,Deviation_CEM_CPMS!$K$24:$K$5400,\"Quality Assurance/Quality Control Calibrations\"))","v":""},{"$f":"IF($E43=\"\",\"\",SUMIFS(Deviation_CEM_CPMS!$J$24:$J$5400,Deviation_CEM_CPMS!$B$24:$B$5400,B43,Deviation_CEM_CPMS!$C$24:$C$5400,C43,Deviation_CEM_CPMS!$D$24:$D$5400,D43,Deviation_CEM_CPMS!$K$24:$K$5400,\"Other Known Causes\"))","v":""},{"$f":"IF($E43=\"\",\"\",SUMIFS(Deviation_CEM_CPMS!$J$24:$J$5400,Deviation_CEM_CPMS!$B$24:$B$5400,B43,Deviation_CEM_CPMS!$C$24:$C$5400,C43,Deviation_CEM_CPMS!$D$24:$D$5400,D43,Deviation_CEM_CPMS!$K$24:$K$5400,\"Other Unknown Causes\"))","v":""}]
[null,{"$f":"IF(Lists!BE22=\"\",\"\",Lists!BE22)","v":""},{"$f":"IF(Lists!BF22=\"\",\"\",Lists!BF22)","v":""},{"$f":"IF(Lists!BG22=\"\",\"\",Lists!BG22)","v":""},null,{"$f":"IF($E44=\"\",\"\",SUMIFS(Deviation_CEM_CPMS!$J$24:$J$5400,Deviation_CEM_CPMS!$B$24:$B$5400,B44,Deviation_CEM_CPMS!$C$24:$C$5400,C44,Deviation_CEM_CPMS!$D$24:$D$5400,D44))","v":""},"",{"$f":"IF($E44=\"\",\"\",SUMIFS(Deviation_CEM_CPMS!$J$24:$J$5400,Deviation_CEM_CPMS!$B$24:$B$5400,B44,Deviation_CEM_CPMS!$C$24:$C$5400,C44,Deviation_CEM_CPMS!$D$24:$D$5400,D44,Deviation_CEM_CPMS!$K$24:$K$5400,\"Monitoring Equipment Malfunctions\"))","v":""},{"$f":"IF($E44=\"\",\"\",SUMIFS(Deviation_CEM_CPMS!$J$24:$J$5400,Deviation_CEM_CPMS!$B$24:$B$5400,B44,Deviation_CEM_CPMS!$C$24:$C$5400,C44,Deviation_CEM_CPMS!$D$24:$D$5400,D44,Deviation_CEM_CPMS!$K$24:$K$5400,\"Nonmonitoring Equipment Malfunctions\"))","v":""},{"$f":"IF($E44=\"\",\"\",SUMIFS(Deviation_CEM_CPMS!$J$24:$J$5400,Deviation_CEM_CPMS!$B$24:$B$5400,B44,Deviation_CEM_CPMS!$C$24:$C$5400,C44,Deviation_CEM_CPMS!$D$24:$D$5400,D44,Deviation_CEM_CPMS!$K$24:$K$5400,\"Quality Assurance/Quality Control Calibrations\"))","v":""},{"$f":"IF($E44=\"\",\"\",SUMIFS(Deviation_CEM_CPMS!$J$24:$J$5400,Deviation_CEM_CPMS!$B$24:$B$5400,B44,Deviation_CEM_CPMS!$C$24:$C$5400,C44,Deviation_CEM_CPMS!$D$24:$D$5400,D44,Deviation_CEM_CPMS!$K$24:$K$5400,\"Other Known Causes\"))","v":""},{"$f":"IF($E44=\"\",\"\",SUMIFS(Deviation_CEM_CPMS!$J$24:$J$5400,Deviation_CEM_CPMS!$B$24:$B$5400,B44,Deviation_CEM_CPMS!$C$24:$C$5400,C44,Deviation_CEM_CPMS!$D$24:$D$5400,D44,Deviation_CEM_CPMS!$K$24:$K$5400,\"Other Unknown Causes\"))","v":""}]
[null,{"$f":"IF(Lists!BE23=\"\",\"\",Lists!BE23)","v":""},{"$f":"IF(Lists!BF23=\"\",\"\",Lists!BF23)","v":""},{"$f":"IF(Lists!BG23=\"\",\"\",Lists!BG23)","v":""},null,{"$f":"IF($E45=\"\",\"\",SUMIFS(Deviation_CEM_CPMS!$J$24:$J$5400,Deviation_CEM_CPMS!$B$24:$B$5400,B45,Deviation_CEM_CPMS!$C$24:$C$5400,C45,Deviation_CEM_CPMS!$D$24:$D$5400,D45))","v":""},"",{"$f":"IF($E45=\"\",\"\",SUMIFS(Deviation_CEM_CPMS!$J$24:$J$5400,Deviation_CEM_CPMS!$B$24:$B$5400,B45,Deviation_CEM_CPMS!$C$24:$C$5400,C45,Deviation_CEM_CPMS!$D$24:$D$5400,D45,Deviation_CEM_CPMS!$K$24:$K$5400,\"Monitoring Equipment Malfunctions\"))","v":""},{"$f":"IF($E45=\"\",\"\",SUMIFS(Deviation_CEM_CPMS!$J$24:$J$5400,Deviation_CEM_CPMS!$B$24:$B$5400,B45,Deviation_CEM_CPMS!$C$24:$C$5400,C45,Deviation_CEM_CPMS!$D$24:$D$5400,D45,Deviation_CEM_CPMS!$K$24:$K$5400,\"Nonmonitoring Equipment Malfunctions\"))","v":""},{"$f":"IF($E45=\"\",\"\",SUMIFS(Deviation_CEM_CPMS!$J$24:$J$5400,Deviation_CEM_CPMS!$B$24:$B$5400,B45,Deviation_CEM_CPMS!$C$24:$C$5400,C45,Deviation_CEM_CPMS!$D$24:$D$5400,D45,Deviation_CEM_CPMS!$K$24:$K$5400,\"Quality Assurance/Quality Control Calibrations\"))","v":""},{"$f":"IF($E45=\"\",\"\",SUMIFS(Deviation_CEM_CPMS!$J$24:$J$5400,Deviation_CEM_CPMS!$B$24:$B$5400,B45,Deviation_CEM_CPMS!$C$24:$C$5400,C45,Deviation_CEM_CPMS!$D$24:$D$5400,D45,Deviation_CEM_CPMS!$K$24:$K$5400,\"Other Known Causes\"))","v":""},{"$f":"IF($E45=\"\",\"\",SUMIFS(Deviation_CEM_CPMS!$J$24:$J$5400,Deviation_CEM_CPMS!$B$24:$B$5400,B45,Deviation_CEM_CPMS!$C$24:$C$5400,C45,Deviation_CEM_CPMS!$D$24:$D$5400,D45,Deviation_CEM_CPMS!$K$24:$K$5400,\"Other Unknown Causes\"))","v":""}]
[null,{"$f":"IF(Lists!BE24=\"\",\"\",Lists!BE24)","v":""},{"$f":"IF(Lists!BF24=\"\",\"\",Lists!BF24)","v":""},{"$f":"IF(Lists!BG24=\"\",\"\",Lists!BG24)","v":""},null,{"$f":"IF($E46=\"\",\"\",SUMIFS(Deviation_CEM_CPMS!$J$24:$J$5400,Deviation_CEM_CPMS!$B$24:$B$5400,B46,Deviation_CEM_CPMS!$C$24:$C$5400,C46,Deviation_CEM_CPMS!$D$24:$D$5400,D46))","v":""},"",{"$f":"IF($E46=\"\",\"\",SUMIFS(Deviation_CEM_CPMS!$J$24:$J$5400,Deviation_CEM_CPMS!$B$24:$B$5400,B46,Deviation_CEM_CPMS!$C$24:$C$5400,C46,Deviation_CEM_CPMS!$D$24:$D$5400,D46,Deviation_CEM_CPMS!$K$24:$K$5400,\"Monitoring Equipment Malfunctions\"))","v":""},{"$f":"IF($E46=\"\",\"\",SUMIFS(Deviation_CEM_CPMS!$J$24:$J$5400,Deviation_CEM_CPMS!$B$24:$B$5400,B46,Deviation_CEM_CPMS!$C$24:$C$5400,C46,Deviation_CEM_CPMS!$D$24:$D$5400,D46,Deviation_CEM_CPMS!$K$24:$K$5400,\"Nonmonitoring Equipment Malfunctions\"))","v":""},{"$f":"IF($E46=\"\",\"\",SUMIFS(Deviation_CEM_CPMS!$J$24:$J$5400,Deviation_CEM_CPMS!$B$24:$B$5400,B46,Deviation_CEM_CPMS!$C$24:$C$5400,C46,Deviation_CEM_CPMS!$D$24:$D$5400,D46,Deviation_CEM_CPMS!$K$24:$K$5400,\"Quality Assurance/Quality Control Calibrations\"))","v":""},{"$f":"IF($E46=\"\",\"\",SUMIFS(Deviation_CEM_CPMS!$J$24:$J$5400,Deviation_CEM_CPMS!$B$24:$B$5400,B46,Deviation_CEM_CPMS!$C$24:$C$5400,C46,Deviation_CEM_CPMS!$D$24:$D$5400,D46,Deviation_CEM_CPMS!$K$24:$K$5400,\"Other Known Causes\"))","v":""},{"$f":"IF($E46=\"\",\"\",SUMIFS(Deviation_CEM_CPMS!$J$24:$J$5400,Deviation_CEM_CPMS!$B$24:$B$5400,B46,Deviation_CEM_CPMS!$C$24:$C$5400,C46,Deviation_CEM_CPMS!$D$24:$D$5400,D46,Deviation_CEM_CPMS!$K$24:$K$5400,\"Other Unknown Causes\"))","v":""}]
[null,{"$f":"IF(Lists!BE25=\"\",\"\",Lists!BE25)","v":""},{"$f":"IF(Lists!BF25=\"\",\"\",Lists!BF25)","v":""},{"$f":"IF(Lists!BG25=\"\",\"\",Lists!BG25)","v":""},null,{"$f":"IF($E47=\"\",\"\",SUMIFS(Deviation_CEM_CPMS!$J$24:$J$5400,Deviation_CEM_CPMS!$B$24:$B$5400,B47,Deviation_CEM_CPMS!$C$24:$C$5400,C47,Deviation_CEM_CPMS!$D$24:$D$5400,D47))","v":""},"",{"$f":"IF($E47=\"\",\"\",SUMIFS(Deviation_CEM_CPMS!$J$24:$J$5400,Deviation_CEM_CPMS!$B$24:$B$5400,B47,Deviation_CEM_CPMS!$C$24:$C$5400,C47,Deviation_CEM_CPMS!$D$24:$D$5400,D47,Deviation_CEM_CPMS!$K$24:$K$5400,\"Monitoring Equipment Malfunctions\"))","v":""},{"$f":"IF($E47=\"\",\"\",SUMIFS(Deviation_CEM_CPMS!$J$24:$J$5400,Deviation_CEM_CPMS!$B$24:$B$5400,B47,Deviation_CEM_CPMS!$C$24:$C$5400,C47,Deviation_CEM_CPMS!$D$24:$D$5400,D47,Deviation_CEM_CPMS!$K$24:$K$5400,\"Nonmonitoring Equipment Malfunctions\"))","v":""},{"$f":"IF($E47=\"\",\"\",SUMIFS(Deviation_CEM_CPMS!$J$24:$J$5400,Deviation_CEM_CPMS!$B$24:$B$5400,B47,Deviation_CEM_CPMS!$C$24:$C$5400,C47,Deviation_CEM_CPMS!$D$24:$D$5400,D47,Deviation_CEM_CPMS!$K$24:$K$5400,\"Quality Assurance/Quality Control Calibrations\"))","v":""},{"$f":"IF($E47=\"\",\"\",SUMIFS(Deviation_CEM_CPMS!$J$24:$J$5400,Deviation_CEM_CPMS!$B$24:$B$5400,B47,Deviation_CEM_CPMS!$C$24:$C$5400,C47,Deviation_CEM_CPMS!$D$24:$D$5400,D47,Deviation_CEM_CPMS!$K$24:$K$5400,\"Other Known Causes\"))","v":""},{"$f":"IF($E47=\"\",\"\",SUMIFS(Deviation_CEM_CPMS!$J$24:$J$5400,Deviation_CEM_CPMS!$B$24:$B$5400,B47,Deviation_CEM_CPMS!$C$24:$C$5400,C47,Deviation_CEM_CPMS!$D$24:$D$5400,D47,Deviation_CEM_CPMS!$K$24:$K$5400,\"Other Unknown Causes\"))","v":""}]
[null,{"$f":"IF(Lists!BE26=\"\",\"\",Lists!BE26)","v":""},{"$f":"IF(Lists!BF26=\"\",\"\",Lists!BF26)","v":""},{"$f":"IF(Lists!BG26=\"\",\"\",Lists!BG26)","v":""},null,{"$f":"IF($E48=\"\",\"\",SUMIFS(Deviation_CEM_CPMS!$J$24:$J$5400,Deviation_CEM_CPMS!$B$24:$B$5400,B48,Deviation_CEM_CPMS!$C$24:$C$5400,C48,Deviation_CEM_CPMS!$D$24:$D$5400,D48))","v":""},"",{"$f":"IF($E48=\"\",\"\",SUMIFS(Deviation_CEM_CPMS!$J$24:$J$5400,Deviation_CEM_CPMS!$B$24:$B$5400,B48,Deviation_CEM_CPMS!$C$24:$C$5400,C48,Deviation_CEM_CPMS!$D$24:$D$5400,D48,Deviation_CEM_CPMS!$K$24:$K$5400,\"Monitoring Equipment Malfunctions\"))","v":""},{"$f":"IF($E48=\"\",\"\",SUMIFS(Deviation_CEM_CPMS!$J$24:$J$5400,Deviation_CEM_CPMS!$B$24:$B$5400,B48,Deviation_CEM_CPMS!$C$24:$C$5400,C48,Deviation_CEM_CPMS!$D$24:$D$5400,D48,Deviation_CEM_CPMS!$K$24:$K$5400,\"Nonmonitoring Equipment Malfunctions\"))","v":""},{"$f":"IF($E48=\"\",\"\",SUMIFS(Deviation_CEM_CPMS!$J$24:$J$5400,Deviation_CEM_CPMS!$B$24:$B$5400,B48,Deviation_CEM_CPMS!$C$24:$C$5400,C48,Deviation_CEM_CPMS!$D$24:$D$5400,D48,Deviation_CEM_CPMS!$K$24:$K$5400,\"Quality Assurance/Quality Control Calibrations\"))","v":""},{"$f":"IF($E48=\"\",\"\",SUMIFS(Deviation_CEM_CPMS!$J$24:$J$5400,Deviation_CEM_CPMS!$B$24:$B$5400,B48,Deviation_CEM_CPMS!$C$24:$C$5400,C48,Deviation_CEM_CPMS!$D$24:$D$5400,D48,Deviation_CEM_CPMS!$K$24:$K$5400,\"Other Known Causes\"))","v":""},{"$f":"IF($E48=\"\",\"\",SUMIFS(Deviation_CEM_CPMS!$J$24:$J$5400,Deviation_CEM_CPMS!$B$24:$B$5400,B48,Deviation_CEM_CPMS!$C$24:$C$5400,C48,Deviation_CEM_CPMS!$D$24:$D$5400,D48,Deviation_CEM_CPMS!$K$24:$K$5400,\"Other Unknown Causes\"))","v":""}]
[null,{"$f":"IF(Lists!BE27=\"\",\"\",Lists!BE27)","v":""},{"$f":"IF(Lists!BF27=\"\",\"\",Lists!BF27)","v":""},{"$f":"IF(Lists!BG27=\"\",\"\",Lists!BG27)","v":""},null,{"$f":"IF($E49=\"\",\"\",SUMIFS(Deviation_CEM_CPMS!$J$24:$J$5400,Deviation_CEM_CPMS!$B$24:$B$5400,B49,Deviation_CEM_CPMS!$C$24:$C$5400,C49,Deviation_CEM_CPMS!$D$24:$D$5400,D49))","v":""},"",{"$f":"IF($E49=\"\",\"\",SUMIFS(Deviation_CEM_CPMS!$J$24:$J$5400,Deviation_CEM_CPMS!$B$24:$B$5400,B49,Deviation_CEM_CPMS!$C$24:$C$5400,C49,Deviation_CEM_CPMS!$D$24:$D$5400,D49,Deviation_CEM_CPMS!$K$24:$K$5400,\"Monitoring Equipment Malfunctions\"))","v":""},{"$f":"IF($E49=\"\",\"\",SUMIFS(Deviation_CEM_CPMS!$J$24:$J$5400,Deviation_CEM_CPMS!$B$24:$B$5400,B49,Deviation_CEM_CPMS!$C$24:$C$5400,C49,Deviation_CEM_CPMS!$D$24:$D$5400,D49,Deviation_CEM_CPMS!$K$24:$K$5400,\"Nonmonitoring Equipment Malfunctions\"))","v":""},{"$f":"IF($E49=\"\",\"\",SUMIFS(Deviation_CEM_CPMS!$J$24:$J$5400,Deviation_CEM_CPMS!$B$24:$B$5400,B49,Deviation_CEM_CPMS!$C$24:$C$5400,C49,Deviation_CEM_CPMS!$D$24:$D$5400,D49,Deviation_CEM_CPMS!$K$24:$K$5400,\"Quality Assurance/Quality Control Calibrations\"))","v":""},{"$f":"IF($E49=\"\",\"\",SUMIFS(Deviation_CEM_CPMS!$J$24:$J$5400,Deviation_CEM_CPMS!$B$24:$B$5400,B49,Deviation_CEM_CPMS!$C$24:$C$5400,C49,Deviation_CEM_CPMS!$D$24:$D$5400,D49,Deviation_CEM_CPMS!$K$24:$K$5400,\"Other Known Causes\"))","v":""},{"$f":"IF($E49=\"\",\"\",SUMIFS(Deviation_CEM_CPMS!$J$24:$J$5400,Deviation_CEM_CPMS!$B$24:$B$5400,B49,Deviation_CEM_CPMS!$C$24:$C$5400,C49,Deviation_CEM_CPMS!$D$24:$D$5400,D49,Deviation_CEM_CPMS!$K$24:$K$5400,\"Other Unknown Causes\"))","v":""}]
[null,{"$f":"IF(Lists!BE28=\"\",\"\",Lists!BE28)","v":""},{"$f":"IF(Lists!BF28=\"\",\"\",Lists!BF28)","v":""},{"$f":"IF(Lists!BG28=\"\",\"\",Lists!BG28)","v":""},null,{"$f":"IF($E50=\"\",\"\",SUMIFS(Deviation_CEM_CPMS!$J$24:$J$5400,Deviation_CEM_CPMS!$B$24:$B$5400,B50,Deviation_CEM_CPMS!$C$24:$C$5400,C50,Deviation_CEM_CPMS!$D$24:$D$5400,D50))","v":""},"",{"$f":"IF($E50=\"\",\"\",SUMIFS(Deviation_CEM_CPMS!$J$24:$J$5400,Deviation_CEM_CPMS!$B$24:$B$5400,B50,Deviation_CEM_CPMS!$C$24:$C$5400,C50,Deviation_CEM_CPMS!$D$24:$D$5400,D50,Deviation_CEM_CPMS!$K$24:$K$5400,\"Monitoring Equipment Malfunctions\"))","v":""},{"$f":"IF($E50=\"\",\"\",SUMIFS(Deviation_CEM_CPMS!$J$24:$J$5400,Deviation_CEM_CPMS!$B$24:$B$5400,B50,Deviation_CEM_CPMS!$C$24:$C$5400,C50,Deviation_CEM_CPMS!$D$24:$D$5400,D50,Deviation_CEM_CPMS!$K$24:$K$5400,\"Nonmonitoring Equipment Malfunctions\"))","v":""},{"$f":"IF($E50=\"\",\"\",SUMIFS(Deviation_CEM_CPMS!$J$24:$J$5400,Deviation_CEM_CPMS!$B$24:$B$5400,B50,Deviation_CEM_CPMS!$C$24:$C$5400,C50,Deviation_CEM_CPMS!$D$24:$D$5400,D50,Deviation_CEM_CPMS!$K$24:$K$5400,\"Quality Assurance/Quality Control Calibrations\"))","v":""},{"$f":"IF($E50=\"\",\"\",SUMIFS(Deviation_CEM_CPMS!$J$24:$J$5400,Deviation_CEM_CPMS!$B$24:$B$5400,B50,Deviation_CEM_CPMS!$C$24:$C$5400,C50,Deviation_CEM_CPMS!$D$24:$D$5400,D50,Deviation_CEM_CPMS!$K$24:$K$5400,\"Other Known Causes\"))","v":""},{"$f":"IF($E50=\"\",\"\",SUMIFS(Deviation_CEM_CPMS!$J$24:$J$5400,Deviation_CEM_CPMS!$B$24:$B$5400,B50,Deviation_CEM_CPMS!$C$24:$C$5400,C50,Deviation_CEM_CPMS!$D$24:$D$5400,D50,Deviation_CEM_CPMS!$K$24:$K$5400,\"Other Unknown Causes\"))","v":""}]
[null,{"$f":"IF(Lists!BE29=\"\",\"\",Lists!BE29)","v":""},{"$f":"IF(Lists!BF29=\"\",\"\",Lists!BF29)","v":""},{"$f":"IF(Lists!BG29=\"\",\"\",Lists!BG29)","v":""},null,{"$f":"IF($E51=\"\",\"\",SUMIFS(Deviation_CEM_CPMS!$J$24:$J$5400,Deviation_CEM_CPMS!$B$24:$B$5400,B51,Deviation_CEM_CPMS!$C$24:$C$5400,C51,Deviation_CEM_CPMS!$D$24:$D$5400,D51))","v":""},"",{"$f":"IF($E51=\"\",\"\",SUMIFS(Deviation_CEM_CPMS!$J$24:$J$5400,Deviation_CEM_CPMS!$B$24:$B$5400,B51,Deviation_CEM_CPMS!$C$24:$C$5400,C51,Deviation_CEM_CPMS!$D$24:$D$5400,D51,Deviation_CEM_CPMS!$K$24:$K$5400,\"Monitoring Equipment Malfunctions\"))","v":""},{"$f":"IF($E51=\"\",\"\",SUMIFS(Deviation_CEM_CPMS!$J$24:$J$5400,Deviation_CEM_CPMS!$B$24:$B$5400,B51,Deviation_CEM_CPMS!$C$24:$C$5400,C51,Deviation_CEM_CPMS!$D$24:$D$5400,D51,Deviation_CEM_CPMS!$K$24:$K$5400,\"Nonmonitoring Equipment Malfunctions\"))","v":""},{"$f":"IF($E51=\"\",\"\",SUMIFS(Deviation_CEM_CPMS!$J$24:$J$5400,Deviation_CEM_CPMS!$B$24:$B$5400,B51,Deviation_CEM_CPMS!$C$24:$C$5400,C51,Deviation_CEM_CPMS!$D$24:$D$5400,D51,Deviation_CEM_CPMS!$K$24:$K$5400,\"Quality Assurance/Quality Control Calibrations\"))","v":""},{"$f":"IF($E51=\"\",\"\",SUMIFS(Deviation_CEM_CPMS!$J$24:$J$5400,Deviation_CEM_CPMS!$B$24:$B$5400,B51,Deviation_CEM_CPMS!$C$24:$C$5400,C51,Deviation_CEM_CPMS!$D$24:$D$5400,D51,Deviation_CEM_CPMS!$K$24:$K$5400,\"Other Known Causes\"))","v":""},{"$f":"IF($E51=\"\",\"\",SUMIFS(Deviation_CEM_CPMS!$J$24:$J$5400,Deviation_CEM_CPMS!$B$24:$B$5400,B51,Deviation_CEM_CPMS!$C$24:$C$5400,C51,Deviation_CEM_CPMS!$D$24:$D$5400,D51,Deviation_CEM_CPMS!$K$24:$K$5400,\"Other Unknown Causes\"))","v":""}]
[null,{"$f":"IF(Lists!BE30=\"\",\"\",Lists!BE30)","v":""},{"$f":"IF(Lists!BF30=\"\",\"\",Lists!BF30)","v":""},{"$f":"IF(Lists!BG30=\"\",\"\",Lists!BG30)","v":""},null,{"$f":"IF($E52=\"\",\"\",SUMIFS(Deviation_CEM_CPMS!$J$24:$J$5400,Deviation_CEM_CPMS!$B$24:$B$5400,B52,Deviation_CEM_CPMS!$C$24:$C$5400,C52,Deviation_CEM_CPMS!$D$24:$D$5400,D52))","v":""},"",{"$f":"IF($E52=\"\",\"\",SUMIFS(Deviation_CEM_CPMS!$J$24:$J$5400,Deviation_CEM_CPMS!$B$24:$B$5400,B52,Deviation_CEM_CPMS!$C$24:$C$5400,C52,Deviation_CEM_CPMS!$D$24:$D$5400,D52,Deviation_CEM_CPMS!$K$24:$K$5400,\"Monitoring Equipment Malfunctions\"))","v":""},{"$f":"IF($E52=\"\",\"\",SUMIFS(Deviation_CEM_CPMS!$J$24:$J$5400,Deviation_CEM_CPMS!$B$24:$B$5400,B52,Deviation_CEM_CPMS!$C$24:$C$5400,C52,Deviation_CEM_CPMS!$D$24:$D$5400,D52,Deviation_CEM_CPMS!$K$24:$K$5400,\"Nonmonitoring Equipment Malfunctions\"))","v":""},{"$f":"IF($E52=\"\",\"\",SUMIFS(Deviation_CEM_CPMS!$J$24:$J$5400,Deviation_CEM_CPMS!$B$24:$B$5400,B52,Deviation_CEM_CPMS!$C$24:$C$5400,C52,Deviation_CEM_CPMS!$D$24:$D$5400,D52,Deviation_CEM_CPMS!$K$24:$K$5400,\"Quality Assurance/Quality Control Calibrations\"))","v":""},{"$f":"IF($E52=\"\",\"\",SUMIFS(Deviation_CEM_CPMS!$J$24:$J$5400,Deviation_CEM_CPMS!$B$24:$B$5400,B52,Deviation_CEM_CPMS!$C$24:$C$5400,C52,Deviation_CEM_CPMS!$D$24:$D$5400,D52,Deviation_CEM_CPMS!$K$24:$K$5400,\"Other Known Causes\"))","v":""},{"$f":"IF($E52=\"\",\"\",SUMIFS(Deviation_CEM_CPMS!$J$24:$J$5400,Deviation_CEM_CPMS!$B$24:$B$5400,B52,Deviation_CEM_CPMS!$C$24:$C$5400,C52,Deviation_CEM_CPMS!$D$24:$D$5400,D52,Deviation_CEM_CPMS!$K$24:$K$5400,\"Other Unknown Causes\"))","v":""}]
[null,{"$f":"IF(Lists!BE31=\"\",\"\",Lists!BE31)","v":""},{"$f":"IF(Lists!BF31=\"\",\"\",Lists!BF31)","v":""},{"$f":"IF(Lists!BG31=\"\",\"\",Lists!BG31)","v":""},null,{"$f":"IF($E53=\"\",\"\",SUMIFS(Deviation_CEM_CPMS!$J$24:$J$5400,Deviation_CEM_CPMS!$B$24:$B$5400,B53,Deviation_CEM_CPMS!$C$24:$C$5400,C53,Deviation_CEM_CPMS!$D$24:$D$5400,D53))","v":""},"",{"$f":"IF($E53=\"\",\"\",SUMIFS(Deviation_CEM_CPMS!$J$24:$J$5400,Deviation_CEM_CPMS!$B$24:$B$5400,B53,Deviation_CEM_CPMS!$C$24:$C$5400,C53,Deviation_CEM_CPMS!$D$24:$D$5400,D53,Deviation_CEM_CPMS!$K$24:$K$5400,\"Monitoring Equipment Malfunctions\"))","v":""},{"$f":"IF($E53=\"\",\"\",SUMIFS(Deviation_CEM_CPMS!$J$24:$J$5400,Deviation_CEM_CPMS!$B$24:$B$5400,B53,Deviation_CEM_CPMS!$C$24:$C$5400,C53,Deviation_CEM_CPMS!$D$24:$D$5400,D53,Deviation_CEM_CPMS!$K$24:$K$5400,\"Nonmonitoring Equipment Malfunctions\"))","v":""},{"$f":"IF($E53=\"\",\"\",SUMIFS(Deviation_CEM_CPMS!$J$24:$J$5400,Deviation_CEM_CPMS!$B$24:$B$5400,B53,Deviation_CEM_CPMS!$C$24:$C$5400,C53,Deviation_CEM_CPMS!$D$24:$D$5400,D53,Deviation_CEM_CPMS!$K$24:$K$5400,\"Quality Assurance/Quality Control Calibrations\"))","v":""},{"$f":"IF($E53=\"\",\"\",SUMIFS(Deviation_CEM_CPMS!$J$24:$J$5400,Deviation_CEM_CPMS!$B$24:$B$5400,B53,Deviation_CEM_CPMS!$C$24:$C$5400,C53,Deviation_CEM_CPMS!$D$24:$D$5400,D53,Deviation_CEM_CPMS!$K$24:$K$5400,\"Other Known Causes\"))","v":""},{"$f":"IF($E53=\"\",\"\",SUMIFS(Deviation_CEM_CPMS!$J$24:$J$5400,Deviation_CEM_CPMS!$B$24:$B$5400,B53,Deviation_CEM_CPMS!$C$24:$C$5400,C53,Deviation_CEM_CPMS!$D$24:$D$5400,D53,Deviation_CEM_CPMS!$K$24:$K$5400,\"Other Unknown Causes\"))","v":""}]
[null,{"$f":"IF(Lists!BE32=\"\",\"\",Lists!BE32)","v":""},{"$f":"IF(Lists!BF32=\"\",\"\",Lists!BF32)","v":""},{"$f":"IF(Lists!BG32=\"\",\"\",Lists!BG32)","v":""},null,{"$f":"IF($E54=\"\",\"\",SUMIFS(Deviation_CEM_CPMS!$J$24:$J$5400,Deviation_CEM_CPMS!$B$24:$B$5400,B54,Deviation_CEM_CPMS!$C$24:$C$5400,C54,Deviation_CEM_CPMS!$D$24:$D$5400,D54))","v":""},"",{"$f":"IF($E54=\"\",\"\",SUMIFS(Deviation_CEM_CPMS!$J$24:$J$5400,Deviation_CEM_CPMS!$B$24:$B$5400,B54,Deviation_CEM_CPMS!$C$24:$C$5400,C54,Deviation_CEM_CPMS!$D$24:$D$5400,D54,Deviation_CEM_CPMS!$K$24:$K$5400,\"Monitoring Equipment Malfunctions\"))","v":""},{"$f":"IF($E54=\"\",\"\",SUMIFS(Deviation_CEM_CPMS!$J$24:$J$5400,Deviation_CEM_CPMS!$B$24:$B$5400,B54,Deviation_CEM_CPMS!$C$24:$C$5400,C54,Deviation_CEM_CPMS!$D$24:$D$5400,D54,Deviation_CEM_CPMS!$K$24:$K$5400,\"Nonmonitoring Equipment Malfunctions\"))","v":""},{"$f":"IF($E54=\"\",\"\",SUMIFS(Deviation_CEM_CPMS!$J$24:$J$5400,Deviation_CEM_CPMS!$B$24:$B$5400,B54,Deviation_CEM_CPMS!$C$24:$C$5400,C54,Deviation_CEM_CPMS!$D$24:$D$5400,D54,Deviation_CEM_CPMS!$K$24:$K$5400,\"Quality Assurance/Quality Control Calibrations\"))","v":""},{"$f":"IF($E54=\"\",\"\",SUMIFS(Deviation_CEM_CPMS!$J$24:$J$5400,Deviation_CEM_CPMS!$B$24:$B$5400,B54,Deviation_CEM_CPMS!$C$24:$C$5400,C54,Deviation_CEM_CPMS!$D$24:$D$5400,D54,Deviation_CEM_CPMS!$K$24:$K$5400,\"Other Known Causes\"))","v":""},{"$f":"IF($E54=\"\",\"\",SUMIFS(Deviation_CEM_CPMS!$J$24:$J$5400,Deviation_CEM_CPMS!$B$24:$B$5400,B54,Deviation_CEM_CPMS!$C$24:$C$5400,C54,Deviation_CEM_CPMS!$D$24:$D$5400,D54,Deviation_CEM_CPMS!$K$24:$K$5400,\"Other Unknown Causes\"))","v":""}]
[null,{"$f":"IF(Lists!BE33=\"\",\"\",Lists!BE33)","v":""},{"$f":"IF(Lists!BF33=\"\",\"\",Lists!BF33)","v":""},{"$f":"IF(Lists!BG33=\"\",\"\",Lists!BG33)","v":""},null,{"$f":"IF($E55=\"\",\"\",SUMIFS(Deviation_CEM_CPMS!$J$24:$J$5400,Deviation_CEM_CPMS!$B$24:$B$5400,B55,Deviation_CEM_CPMS!$C$24:$C$5400,C55,Deviation_CEM_CPMS!$D$24:$D$5400,D55))","v":""},"",{"$f":"IF($E55=\"\",\"\",SUMIFS(Deviation_CEM_CPMS!$J$24:$J$5400,Deviation_CEM_CPMS!$B$24:$B$5400,B55,Deviation_CEM_CPMS!$C$24:$C$5400,C55,Deviation_CEM_CPMS!$D$24:$D$5400,D55,Deviation_CEM_CPMS!$K$24:$K$5400,\"Monitoring Equipment Malfunctions\"))","v":""},{"$f":"IF($E55=\"\",\"\",SUMIFS(Deviation_CEM_CPMS!$J$24:$J$5400,Deviation_CEM_CPMS!$B$24:$B$5400,B55,Deviation_CEM_CPMS!$C$24:$C$5400,C55,Deviation_CEM_CPMS!$D$24:$D$5400,D55,Deviation_CEM_CPMS!$K$24:$K$5400,\"Nonmonitoring Equipment Malfunctions\"))","v":""},{"$f":"IF($E55=\"\",\"\",SUMIFS(Deviation_CEM_CPMS!$J$24:$J$5400,Deviation_CEM_CPMS!$B$24:$B$5400,B55,Deviation_CEM_CPMS!$C$24:$C$5400,C55,Deviation_CEM_CPMS!$D$24:$D$5400,D55,Deviation_CEM_CPMS!$K$24:$K$5400,\"Quality Assurance/Quality Control Calibrations\"))","v":""},{"$f":"IF($E55=\"\",\"\",SUMIFS(Deviation_CEM_CPMS!$J$24:$J$5400,Deviation_CEM_CPMS!$B$24:$B$5400,B55,Deviation_CEM_CPMS!$C$24:$C$5400,C55,Deviation_CEM_CPMS!$D$24:$D$5400,D55,Deviation_CEM_CPMS!$K$24:$K$5400,\"Other Known Causes\"))","v":""},{"$f":"IF($E55=\"\",\"\",SUMIFS(Deviation_CEM_CPMS!$J$24:$J$5400,Deviation_CEM_CPMS!$B$24:$B$5400,B55,Deviation_CEM_CPMS!$C$24:$C$5400,C55,Deviation_CEM_CPMS!$D$24:$D$5400,D55,Deviation_CEM_CPMS!$K$24:$K$5400,\"Other Unknown Causes\"))","v":""}]
[null,{"$f":"IF(Lists!BE34=\"\",\"\",Lists!BE34)","v":""},{"$f":"IF(Lists!BF34=\"\",\"\",Lists!BF34)","v":""},{"$f":"IF(Lists!BG34=\"\",\"\",Lists!BG34)","v":""},null,{"$f":"IF($E56=\"\",\"\",SUMIFS(Deviation_CEM_CPMS!$J$24:$J$5400,Deviation_CEM_CPMS!$B$24:$B$5400,B56,Deviation_CEM_CPMS!$C$24:$C$5400,C56,Deviation_CEM_CPMS!$D$24:$D$5400,D56))","v":""},"",{"$f":"IF($E56=\"\",\"\",SUMIFS(Deviation_CEM_CPMS!$J$24:$J$5400,Deviation_CEM_CPMS!$B$24:$B$5400,B56,Deviation_CEM_CPMS!$C$24:$C$5400,C56,Deviation_CEM_CPMS!$D$24:$D$5400,D56,Deviation_CEM_CPMS!$K$24:$K$5400,\"Monitoring Equipment Malfunctions\"))","v":""},{"$f":"IF($E56=\"\",\"\",SUMIFS(Deviation_CEM_CPMS!$J$24:$J$5400,Deviation_CEM_CPMS!$B$24:$B$5400,B56,Deviation_CEM_CPMS!$C$24:$C$5400,C56,Deviation_CEM_CPMS!$D$24:$D$5400,D56,Deviation_CEM_CPMS!$K$24:$K$5400,\"Nonmonitoring Equipment Malfunctions\"))","v":""},{"$f":"IF($E56=\"\",\"\",SUMIFS(Deviation_CEM_CPMS!$J$24:$J$5400,Deviation_CEM_CPMS!$B$24:$B$5400,B56,Deviation_CEM_CPMS!$C$24:$C$5400,C56,Deviation_CEM_CPMS!$D$24:$D$5400,D56,Deviation_CEM_CPMS!$K$24:$K$5400,\"Quality Assurance/Quality Control Calibrations\"))","v":""},{"$f":"IF($E56=\"\",\"\",SUMIFS(Deviation_CEM_CPMS!$J$24:$J$5400,Deviation_CEM_CPMS!$B$24:$B$5400,B56,Deviation_CEM_CPMS!$C$24:$C$5400,C56,Deviation_CEM_CPMS!$D$24:$D$5400,D56,Deviation_CEM_CPMS!$K$24:$K$5400,\"Other Known Causes\"))","v":""},{"$f":"IF($E56=\"\",\"\",SUMIFS(Deviation_CEM_CPMS!$J$24:$J$5400,Deviation_CEM_CPMS!$B$24:$B$5400,B56,Deviation_CEM_CPMS!$C$24:$C$5400,C56,Deviation_CEM_CPMS!$D$24:$D$5400,D56,Deviation_CEM_CPMS!$K$24:$K$5400,\"Other Unknown Causes\"))","v":""}]
[null,{"$f":"IF(Lists!BE35=\"\",\"\",Lists!BE35)","v":""},{"$f":"IF(Lists!BF35=\"\",\"\",Lists!BF35)","v":""},{"$f":"IF(Lists!BG35=\"\",\"\",Lists!BG35)","v":""},null,{"$f":"IF($E57=\"\",\"\",SUMIFS(Deviation_CEM_CPMS!$J$24:$J$5400,Deviation_CEM_CPMS!$B$24:$B$5400,B57,Deviation_CEM_CPMS!$C$24:$C$5400,C57,Deviation_CEM_CPMS!$D$24:$D$5400,D57))","v":""},"",{"$f":"IF($E57=\"\",\"\",SUMIFS(Deviation_CEM_CPMS!$J$24:$J$5400,Deviation_CEM_CPMS!$B$24:$B$5400,B57,Deviation_CEM_CPMS!$C$24:$C$5400,C57,Deviation_CEM_CPMS!$D$24:$D$5400,D57,Deviation_CEM_CPMS!$K$24:$K$5400,\"Monitoring Equipment Malfunctions\"))","v":""},{"$f":"IF($E57=\"\",\"\",SUMIFS(Deviation_CEM_CPMS!$J$24:$J$5400,Deviation_CEM_CPMS!$B$24:$B$5400,B57,Deviation_CEM_CPMS!$C$24:$C$5400,C57,Deviation_CEM_CPMS!$D$24:$D$5400,D57,Deviation_CEM_CPMS!$K$24:$K$5400,\"Nonmonitoring Equipment Malfunctions\"))","v":""},{"$f":"IF($E57=\"\",\"\",SUMIFS(Deviation_CEM_CPMS!$J$24:$J$5400,Deviation_CEM_CPMS!$B$24:$B$5400,B57,Deviation_CEM_CPMS!$C$24:$C$5400,C57,Deviation_CEM_CPMS!$D$24:$D$5400,D57,Deviation_CEM_CPMS!$K$24:$K$5400,\"Quality Assurance/Quality Control Calibrations\"))","v":""},{"$f":"IF($E57=\"\",\"\",SUMIFS(Deviation_CEM_CPMS!$J$24:$J$5400,Deviation_CEM_CPMS!$B$24:$B$5400,B57,Deviation_CEM_CPMS!$C$24:$C$5400,C57,Deviation_CEM_CPMS!$D$24:$D$5400,D57,Deviation_CEM_CPMS!$K$24:$K$5400,\"Other Known Causes\"))","v":""},{"$f":"IF($E57=\"\",\"\",SUMIFS(Deviation_CEM_CPMS!$J$24:$J$5400,Deviation_CEM_CPMS!$B$24:$B$5400,B57,Deviation_CEM_CPMS!$C$24:$C$5400,C57,Deviation_CEM_CPMS!$D$24:$D$5400,D57,Deviation_CEM_CPMS!$K$24:$K$5400,\"Other Unknown Causes\"))","v":""}]
[null,{"$f":"IF(Lists!BE36=\"\",\"\",Lists!BE36)","v":""},{"$f":"IF(Lists!BF36=\"\",\"\",Lists!BF36)","v":""},{"$f":"IF(Lists!BG36=\"\",\"\",Lists!BG36)","v":""},null,{"$f":"IF($E58=\"\",\"\",SUMIFS(Deviation_CEM_CPMS!$J$24:$J$5400,Deviation_CEM_CPMS!$B$24:$B$5400,B58,Deviation_CEM_CPMS!$C$24:$C$5400,C58,Deviation_CEM_CPMS!$D$24:$D$5400,D58))","v":""},"",{"$f":"IF($E58=\"\",\"\",SUMIFS(Deviation_CEM_CPMS!$J$24:$J$5400,Deviation_CEM_CPMS!$B$24:$B$5400,B58,Deviation_CEM_CPMS!$C$24:$C$5400,C58,Deviation_CEM_CPMS!$D$24:$D$5400,D58,Deviation_CEM_CPMS!$K$24:$K$5400,\"Monitoring Equipment Malfunctions\"))","v":""},{"$f":"IF($E58=\"\",\"\",SUMIFS(Deviation_CEM_CPMS!$J$24:$J$5400,Deviation_CEM_CPMS!$B$24:$B$5400,B58,Deviation_CEM_CPMS!$C$24:$C$5400,C58,Deviation_CEM_CPMS!$D$24:$D$5400,D58,Deviation_CEM_CPMS!$K$24:$K$5400,\"Nonmonitoring Equipment Malfunctions\"))","v":""},{"$f":"IF($E58=\"\",\"\",SUMIFS(Deviation_CEM_CPMS!$J$24:$J$5400,Deviation_CEM_CPMS!$B$24:$B$5400,B58,Deviation_CEM_CPMS!$C$24:$C$5400,C58,Deviation_CEM_CPMS!$D$24:$D$5400,D58,Deviation_CEM_CPMS!$K$24:$K$5400,\"Quality Assurance/Quality Control Calibrations\"))","v":""},{"$f":"IF($E58=\"\",\"\",SUMIFS(Deviation_CEM_CPMS!$J$24:$J$5400,Deviation_CEM_CPMS!$B$24:$B$5400,B58,Deviation_CEM_CPMS!$C$24:$C$5400,C58,Deviation_CEM_CPMS!$D$24:$D$5400,D58,Deviation_CEM_CPMS!$K$24:$K$5400,\"Other Known Causes\"))","v":""},{"$f":"IF($E58=\"\",\"\",SUMIFS(Deviation_CEM_CPMS!$J$24:$J$5400,Deviation_CEM_CPMS!$B$24:$B$5400,B58,Deviation_CEM_CPMS!$C$24:$C$5400,C58,Deviation_CEM_CPMS!$D$24:$D$5400,D58,Deviation_CEM_CPMS!$K$24:$K$5400,\"Other Unknown Causes\"))","v":""}]
[null,{"$f":"IF(Lists!BE37=\"\",\"\",Lists!BE37)","v":""},{"$f":"IF(Lists!BF37=\"\",\"\",Lists!BF37)","v":""},{"$f":"IF(Lists!BG37=\"\",\"\",Lists!BG37)","v":""},null,{"$f":"IF($E59=\"\",\"\",SUMIFS(Deviation_CEM_CPMS!$J$24:$J$5400,Deviation_CEM_CPMS!$B$24:$B$5400,B59,Deviation_CEM_CPMS!$C$24:$C$5400,C59,Deviation_CEM_CPMS!$D$24:$D$5400,D59))","v":""},"",{"$f":"IF($E59=\"\",\"\",SUMIFS(Deviation_CEM_CPMS!$J$24:$J$5400,Deviation_CEM_CPMS!$B$24:$B$5400,B59,Deviation_CEM_CPMS!$C$24:$C$5400,C59,Deviation_CEM_CPMS!$D$24:$D$5400,D59,Deviation_CEM_CPMS!$K$24:$K$5400,\"Monitoring Equipment Malfunctions\"))","v":""},{"$f":"IF($E59=\"\",\"\",SUMIFS(Deviation_CEM_CPMS!$J$24:$J$5400,Deviation_CEM_CPMS!$B$24:$B$5400,B59,Deviation_CEM_CPMS!$C$24:$C$5400,C59,Deviation_CEM_CPMS!$D$24:$D$5400,D59,Deviation_CEM_CPMS!$K$24:$K$5400,\"Nonmonitoring Equipment Malfunctions\"))","v":""},{"$f":"IF($E59=\"\",\"\",SUMIFS(Deviation_CEM_CPMS!$J$24:$J$5400,Deviation_CEM_CPMS!$B$24:$B$5400,B59,Deviation_CEM_CPMS!$C$24:$C$5400,C59,Deviation_CEM_CPMS!$D$24:$D$5400,D59,Deviation_CEM_CPMS!$K$24:$K$5400,\"Quality Assurance/Quality Control Calibrations\"))","v":""},{"$f":"IF($E59=\"\",\"\",SUMIFS(Deviation_CEM_CPMS!$J$24:$J$5400,Deviation_CEM_CPMS!$B$24:$B$5400,B59,Deviation_CEM_CPMS!$C$24:$C$5400,C59,Deviation_CEM_CPMS!$D$24:$D$5400,D59,Deviation_CEM_CPMS!$K$24:$K$5400,\"Other Known Causes\"))","v":""},{"$f":"IF($E59=\"\",\"\",SUMIFS(Deviation_CEM_CPMS!$J$24:$J$5400,Deviation_CEM_CPMS!$B$24:$B$5400,B59,Deviation_CEM_CPMS!$C$24:$C$5400,C59,Deviation_CEM_CPMS!$D$24:$D$5400,D59,Deviation_CEM_CPMS!$K$24:$K$5400,\"Other Unknown Causes\"))","v":""}]
[null,{"$f":"IF(Lists!BE38=\"\",\"\",Lists!BE38)","v":""},{"$f":"IF(Lists!BF38=\"\",\"\",Lists!BF38)","v":""},{"$f":"IF(Lists!BG38=\"\",\"\",Lists!BG38)","v":""},null,{"$f":"IF($E60=\"\",\"\",SUMIFS(Deviation_CEM_CPMS!$J$24:$J$5400,Deviation_CEM_CPMS!$B$24:$B$5400,B60,Deviation_CEM_CPMS!$C$24:$C$5400,C60,Deviation_CEM_CPMS!$D$24:$D$5400,D60))","v":""},"",{"$f":"IF($E60=\"\",\"\",SUMIFS(Deviation_CEM_CPMS!$J$24:$J$5400,Deviation_CEM_CPMS!$B$24:$B$5400,B60,Deviation_CEM_CPMS!$C$24:$C$5400,C60,Deviation_CEM_CPMS!$D$24:$D$5400,D60,Deviation_CEM_CPMS!$K$24:$K$5400,\"Monitoring Equipment Malfunctions\"))","v":""},{"$f":"IF($E60=\"\",\"\",SUMIFS(Deviation_CEM_CPMS!$J$24:$J$5400,Deviation_CEM_CPMS!$B$24:$B$5400,B60,Deviation_CEM_CPMS!$C$24:$C$5400,C60,Deviation_CEM_CPMS!$D$24:$D$5400,D60,Deviation_CEM_CPMS!$K$24:$K$5400,\"Nonmonitoring Equipment Malfunctions\"))","v":""},{"$f":"IF($E60=\"\",\"\",SUMIFS(Deviation_CEM_CPMS!$J$24:$J$5400,Deviation_CEM_CPMS!$B$24:$B$5400,B60,Deviation_CEM_CPMS!$C$24:$C$5400,C60,Deviation_CEM_CPMS!$D$24:$D$5400,D60,Deviation_CEM_CPMS!$K$24:$K$5400,\"Quality Assurance/Quality Control Calibrations\"))","v":""},{"$f":"IF($E60=\"\",\"\",SUMIFS(Deviation_CEM_CPMS!$J$24:$J$5400,Deviation_CEM_CPMS!$B$24:$B$5400,B60,Deviation_CEM_CPMS!$C$24:$C$5400,C60,Deviation_CEM_CPMS!$D$24:$D$5400,D60,Deviation_CEM_CPMS!$K$24:$K$5400,\"Other Known Causes\"))","v":""},{"$f":"IF($E60=\"\",\"\",SUMIFS(Deviation_CEM_CPMS!$J$24:$J$5400,Deviation_CEM_CPMS!$B$24:$B$5400,B60,Deviation_CEM_CPMS!$C$24:$C$5400,C60,Deviation_CEM_CPMS!$D$24:$D$5400,D60,Deviation_CEM_CPMS!$K$24:$K$5400,\"Other Unknown Causes\"))","v":""}]
[null,{"$f":"IF(Lists!BE39=\"\",\"\",Lists!BE39)","v":""},{"$f":"IF(Lists!BF39=\"\",\"\",Lists!BF39)","v":""},{"$f":"IF(Lists!BG39=\"\",\"\",Lists!BG39)","v":""},null,{"$f":"IF($E61=\"\",\"\",SUMIFS(Deviation_CEM_CPMS!$J$24:$J$5400,Deviation_CEM_CPMS!$B$24:$B$5400,B61,Deviation_CEM_CPMS!$C$24:$C$5400,C61,Deviation_CEM_CPMS!$D$24:$D$5400,D61))","v":""},"",{"$f":"IF($E61=\"\",\"\",SUMIFS(Deviation_CEM_CPMS!$J$24:$J$5400,Deviation_CEM_CPMS!$B$24:$B$5400,B61,Deviation_CEM_CPMS!$C$24:$C$5400,C61,Deviation_CEM_CPMS!$D$24:$D$5400,D61,Deviation_CEM_CPMS!$K$24:$K$5400,\"Monitoring Equipment Malfunctions\"))","v":""},{"$f":"IF($E61=\"\",\"\",SUMIFS(Deviation_CEM_CPMS!$J$24:$J$5400,Deviation_CEM_CPMS!$B$24:$B$5400,B61,Deviation_CEM_CPMS!$C$24:$C$5400,C61,Deviation_CEM_CPMS!$D$24:$D$5400,D61,Deviation_CEM_CPMS!$K$24:$K$5400,\"Nonmonitoring Equipment Malfunctions\"))","v":""},{"$f":"IF($E61=\"\",\"\",SUMIFS(Deviation_CEM_CPMS!$J$24:$J$5400,Deviation_CEM_CPMS!$B$24:$B$5400,B61,Deviation_CEM_CPMS!$C$24:$C$5400,C61,Deviation_CEM_CPMS!$D$24:$D$5400,D61,Deviation_CEM_CPMS!$K$24:$K$5400,\"Quality Assurance/Quality Control Calibrations\"))","v":""},{"$f":"IF($E61=\"\",\"\",SUMIFS(Deviation_CEM_CPMS!$J$24:$J$5400,Deviation_CEM_CPMS!$B$24:$B$5400,B61,Deviation_CEM_CPMS!$C$24:$C$5400,C61,Deviation_CEM_CPMS!$D$24:$D$5400,D61,Deviation_CEM_CPMS!$K$24:$K$5400,\"Other Known Causes\"))","v":""},{"$f":"IF($E61=\"\",\"\",SUMIFS(Deviation_CEM_CPMS!$J$24:$J$5400,Deviation_CEM_CPMS!$B$24:$B$5400,B61,Deviation_CEM_CPMS!$C$24:$C$5400,C61,Deviation_CEM_CPMS!$D$24:$D$5400,D61,Deviation_CEM_CPMS!$K$24:$K$5400,\"Other Unknown Causes\"))","v":""}]
[null,{"$f":"IF(Lists!BE40=\"\",\"\",Lists!BE40)","v":""},{"$f":"IF(Lists!BF40=\"\",\"\",Lists!BF40)","v":""},{"$f":"IF(Lists!BG40=\"\",\"\",Lists!BG40)","v":""},null,{"$f":"IF($E62=\"\",\"\",SUMIFS(Deviation_CEM_CPMS!$J$24:$J$5400,Deviation_CEM_CPMS!$B$24:$B$5400,B62,Deviation_CEM_CPMS!$C$24:$C$5400,C62,Deviation_CEM_CPMS!$D$24:$D$5400,D62))","v":""},"",{"$f":"IF($E62=\"\",\"\",SUMIFS(Deviation_CEM_CPMS!$J$24:$J$5400,Deviation_CEM_CPMS!$B$24:$B$5400,B62,Deviation_CEM_CPMS!$C$24:$C$5400,C62,Deviation_CEM_CPMS!$D$24:$D$5400,D62,Deviation_CEM_CPMS!$K$24:$K$5400,\"Monitoring Equipment Malfunctions\"))","v":""},{"$f":"IF($E62=\"\",\"\",SUMIFS(Deviation_CEM_CPMS!$J$24:$J$5400,Deviation_CEM_CPMS!$B$24:$B$5400,B62,Deviation_CEM_CPMS!$C$24:$C$5400,C62,Deviation_CEM_CPMS!$D$24:$D$5400,D62,Deviation_CEM_CPMS!$K$24:$K$5400,\"Nonmonitoring Equipment Malfunctions\"))","v":""},{"$f":"IF($E62=\"\",\"\",SUMIFS(Deviation_CEM_CPMS!$J$24:$J$5400,Deviation_CEM_CPMS!$B$24:$B$5400,B62,Deviation_CEM_CPMS!$C$24:$C$5400,C62,Deviation_CEM_CPMS!$D$24:$D$5400,D62,Deviation_CEM_CPMS!$K$24:$K$5400,\"Quality Assurance/Quality Control Calibrations\"))","v":""},{"$f":"IF($E62=\"\",\"\",SUMIFS(Deviation_CEM_CPMS!$J$24:$J$5400,Deviation_CEM_CPMS!$B$24:$B$5400,B62,Deviation_CEM_CPMS!$C$24:$C$5400,C62,Deviation_CEM_CPMS!$D$24:$D$5400,D62,Deviation_CEM_CPMS!$K$24:$K$5400,\"Other Known Causes\"))","v":""},{"$f":"IF($E62=\"\",\"\",SUMIFS(Deviation_CEM_CPMS!$J$24:$J$5400,Deviation_CEM_CPMS!$B$24:$B$5400,B62,Deviation_CEM_CPMS!$C$24:$C$5400,C62,Deviation_CEM_CPMS!$D$24:$D$5400,D62,Deviation_CEM_CPMS!$K$24:$K$5400,\"Other Unknown Causes\"))","v":""}]
[null,{"$f":"IF(Lists!BE41=\"\",\"\",Lists!BE41)","v":""},{"$f":"IF(Lists!BF41=\"\",\"\",Lists!BF41)","v":""},{"$f":"IF(Lists!BG41=\"\",\"\",Lists!BG41)","v":""},null,{"$f":"IF($E63=\"\",\"\",SUMIFS(Deviation_CEM_CPMS!$J$24:$J$5400,Deviation_CEM_CPMS!$B$24:$B$5400,B63,Deviation_CEM_CPMS!$C$24:$C$5400,C63,Deviation_CEM_CPMS!$D$24:$D$5400,D63))","v":""},"",{"$f":"IF($E63=\"\",\"\",SUMIFS(Deviation_CEM_CPMS!$J$24:$J$5400,Deviation_CEM_CPMS!$B$24:$B$5400,B63,Deviation_CEM_CPMS!$C$24:$C$5400,C63,Deviation_CEM_CPMS!$D$24:$D$5400,D63,Deviation_CEM_CPMS!$K$24:$K$5400,\"Monitoring Equipment Malfunctions\"))","v":""},{"$f":"IF($E63=\"\",\"\",SUMIFS(Deviation_CEM_CPMS!$J$24:$J$5400,Deviation_CEM_CPMS!$B$24:$B$5400,B63,Deviation_CEM_CPMS!$C$24:$C$5400,C63,Deviation_CEM_CPMS!$D$24:$D$5400,D63,Deviation_CEM_CPMS!$K$24:$K$5400,\"Nonmonitoring Equipment Malfunctions\"))","v":""},{"$f":"IF($E63=\"\",\"\",SUMIFS(Deviation_CEM_CPMS!$J$24:$J$5400,Deviation_CEM_CPMS!$B$24:$B$5400,B63,Deviation_CEM_CPMS!$C$24:$C$5400,C63,Deviation_CEM_CPMS!$D$24:$D$5400,D63,Deviation_CEM_CPMS!$K$24:$K$5400,\"Quality Assurance/Quality Control Calibrations\"))","v":""},{"$f":"IF($E63=\"\",\"\",SUMIFS(Deviation_CEM_CPMS!$J$24:$J$5400,Deviation_CEM_CPMS!$B$24:$B$5400,B63,Deviation_CEM_CPMS!$C$24:$C$5400,C63,Deviation_CEM_CPMS!$D$24:$D$5400,D63,Deviation_CEM_CPMS!$K$24:$K$5400,\"Other Known Causes\"))","v":""},{"$f":"IF($E63=\"\",\"\",SUMIFS(Deviation_CEM_CPMS!$J$24:$J$5400,Deviation_CEM_CPMS!$B$24:$B$5400,B63,Deviation_CEM_CPMS!$C$24:$C$5400,C63,Deviation_CEM_CPMS!$D$24:$D$5400,D63,Deviation_CEM_CPMS!$K$24:$K$5400,\"Other Unknown Causes\"))","v":""}]
[null,{"$f":"IF(Lists!BE42=\"\",\"\",Lists!BE42)","v":""},{"$f":"IF(Lists!BF42=\"\",\"\",Lists!BF42)","v":""},{"$f":"IF(Lists!BG42=\"\",\"\",Lists!BG42)","v":""},null,{"$f":"IF($E64=\"\",\"\",SUMIFS(Deviation_CEM_CPMS!$J$24:$J$5400,Deviation_CEM_CPMS!$B$24:$B$5400,B64,Deviation_CEM_CPMS!$C$24:$C$5400,C64,Deviation_CEM_CPMS!$D$24:$D$5400,D64))","v":""},"",{"$f":"IF($E64=\"\",\"\",SUMIFS(Deviation_CEM_CPMS!$J$24:$J$5400,Deviation_CEM_CPMS!$B$24:$B$5400,B64,Deviation_CEM_CPMS!$C$24:$C$5400,C64,Deviation_CEM_CPMS!$D$24:$D$5400,D64,Deviation_CEM_CPMS!$K$24:$K$5400,\"Monitoring Equipment Malfunctions\"))","v":""},{"$f":"IF($E64=\"\",\"\",SUMIFS(Deviation_CEM_CPMS!$J$24:$J$5400,Deviation_CEM_CPMS!$B$24:$B$5400,B64,Deviation_CEM_CPMS!$C$24:$C$5400,C64,Deviation_CEM_CPMS!$D$24:$D$5400,D64,Deviation_CEM_CPMS!$K$24:$K$5400,\"Nonmonitoring Equipment Malfunctions\"))","v":""},{"$f":"IF($E64=\"\",\"\",SUMIFS(Deviation_CEM_CPMS!$J$24:$J$5400,Deviation_CEM_CPMS!$B$24:$B$5400,B64,Deviation_CEM_CPMS!$C$24:$C$5400,C64,Deviation_CEM_CPMS!$D$24:$D$5400,D64,Deviation_CEM_CPMS!$K$24:$K$5400,\"Quality Assurance/Quality Control Calibrations\"))","v":""},{"$f":"IF($E64=\"\",\"\",SUMIFS(Deviation_CEM_CPMS!$J$24:$J$5400,Deviation_CEM_CPMS!$B$24:$B$5400,B64,Deviation_CEM_CPMS!$C$24:$C$5400,C64,Deviation_CEM_CPMS!$D$24:$D$5400,D64,Deviation_CEM_CPMS!$K$24:$K$5400,\"Other Known Causes\"))","v":""},{"$f":"IF($E64=\"\",\"\",SUMIFS(Deviation_CEM_CPMS!$J$24:$J$5400,Deviation_CEM_CPMS!$B$24:$B$5400,B64,Deviation_CEM_CPMS!$C$24:$C$5400,C64,Deviation_CEM_CPMS!$D$24:$D$5400,D64,Deviation_CEM_CPMS!$K$24:$K$5400,\"Other Unknown Causes\"))","v":""}]
[null,{"$f":"IF(Lists!BE43=\"\",\"\",Lists!BE43)","v":""},{"$f":"IF(Lists!BF43=\"\",\"\",Lists!BF43)","v":""},{"$f":"IF(Lists!BG43=\"\",\"\",Lists!BG43)","v":""},null,{"$f":"IF($E65=\"\",\"\",SUMIFS(Deviation_CEM_CPMS!$J$24:$J$5400,Deviation_CEM_CPMS!$B$24:$B$5400,B65,Deviation_CEM_CPMS!$C$24:$C$5400,C65,Deviation_CEM_CPMS!$D$24:$D$5400,D65))","v":""},"",{"$f":"IF($E65=\"\",\"\",SUMIFS(Deviation_CEM_CPMS!$J$24:$J$5400,Deviation_CEM_CPMS!$B$24:$B$5400,B65,Deviation_CEM_CPMS!$C$24:$C$5400,C65,Deviation_CEM_CPMS!$D$24:$D$5400,D65,Deviation_CEM_CPMS!$K$24:$K$5400,\"Monitoring Equipment Malfunctions\"))","v":""},{"$f":"IF($E65=\"\",\"\",SUMIFS(Deviation_CEM_CPMS!$J$24:$J$5400,Deviation_CEM_CPMS!$B$24:$B$5400,B65,Deviation_CEM_CPMS!$C$24:$C$5400,C65,Deviation_CEM_CPMS!$D$24:$D$5400,D65,Deviation_CEM_CPMS!$K$24:$K$5400,\"Nonmonitoring Equipment Malfunctions\"))","v":""},{"$f":"IF($E65=\"\",\"\",SUMIFS(Deviation_CEM_CPMS!$J$24:$J$5400,Deviation_CEM_CPMS!$B$24:$B$5400,B65,Deviation_CEM_CPMS!$C$24:$C$5400,C65,Deviation_CEM_CPMS!$D$24:$D$5400,D65,Deviation_CEM_CPMS!$K$24:$K$5400,\"Quality Assurance/Quality Control Calibrations\"))","v":""},{"$f":"IF($E65=\"\",\"\",SUMIFS(Deviation_CEM_CPMS!$J$24:$J$5400,Deviation_CEM_CPMS!$B$24:$B$5400,B65,Deviation_CEM_CPMS!$C$24:$C$5400,C65,Deviation_CEM_CPMS!$D$24:$D$5400,D65,Deviation_CEM_CPMS!$K$24:$K$5400,\"Other Known Causes\"))","v":""},{"$f":"IF($E65=\"\",\"\",SUMIFS(Deviation_CEM_CPMS!$J$24:$J$5400,Deviation_CEM_CPMS!$B$24:$B$5400,B65,Deviation_CEM_CPMS!$C$24:$C$5400,C65,Deviation_CEM_CPMS!$D$24:$D$5400,D65,Deviation_CEM_CPMS!$K$24:$K$5400,\"Other Unknown Causes\"))","v":""}]
[null,{"$f":"IF(Lists!BE44=\"\",\"\",Lists!BE44)","v":""},{"$f":"IF(Lists!BF44=\"\",\"\",Lists!BF44)","v":""},{"$f":"IF(Lists!BG44=\"\",\"\",Lists!BG44)","v":""},null,{"$f":"IF($E66=\"\",\"\",SUMIFS(Deviation_CEM_CPMS!$J$24:$J$5400,Deviation_CEM_CPMS!$B$24:$B$5400,B66,Deviation_CEM_CPMS!$C$24:$C$5400,C66,Deviation_CEM_CPMS!$D$24:$D$5400,D66))","v":""},"",{"$f":"IF($E66=\"\",\"\",SUMIFS(Deviation_CEM_CPMS!$J$24:$J$5400,Deviation_CEM_CPMS!$B$24:$B$5400,B66,Deviation_CEM_CPMS!$C$24:$C$5400,C66,Deviation_CEM_CPMS!$D$24:$D$5400,D66,Deviation_CEM_CPMS!$K$24:$K$5400,\"Monitoring Equipment Malfunctions\"))","v":""},{"$f":"IF($E66=\"\",\"\",SUMIFS(Deviation_CEM_CPMS!$J$24:$J$5400,Deviation_CEM_CPMS!$B$24:$B$5400,B66,Deviation_CEM_CPMS!$C$24:$C$5400,C66,Deviation_CEM_CPMS!$D$24:$D$5400,D66,Deviation_CEM_CPMS!$K$24:$K$5400,\"Nonmonitoring Equipment Malfunctions\"))","v":""},{"$f":"IF($E66=\"\",\"\",SUMIFS(Deviation_CEM_CPMS!$J$24:$J$5400,Deviation_CEM_CPMS!$B$24:$B$5400,B66,Deviation_CEM_CPMS!$C$24:$C$5400,C66,Deviation_CEM_CPMS!$D$24:$D$5400,D66,Deviation_CEM_CPMS!$K$24:$K$5400,\"Quality Assurance/Quality Control Calibrations\"))","v":""},{"$f":"IF($E66=\"\",\"\",SUMIFS(Deviation_CEM_CPMS!$J$24:$J$5400,Deviation_CEM_CPMS!$B$24:$B$5400,B66,Deviation_CEM_CPMS!$C$24:$C$5400,C66,Deviation_CEM_CPMS!$D$24:$D$5400,D66,Deviation_CEM_CPMS!$K$24:$K$5400,\"Other Known Causes\"))","v":""},{"$f":"IF($E66=\"\",\"\",SUMIFS(Deviation_CEM_CPMS!$J$24:$J$5400,Deviation_CEM_CPMS!$B$24:$B$5400,B66,Deviation_CEM_CPMS!$C$24:$C$5400,C66,Deviation_CEM_CPMS!$D$24:$D$5400,D66,Deviation_CEM_CPMS!$K$24:$K$5400,\"Other Unknown Causes\"))","v":""}]
[null,{"$f":"IF(Lists!BE45=\"\",\"\",Lists!BE45)","v":""},{"$f":"IF(Lists!BF45=\"\",\"\",Lists!BF45)","v":""},{"$f":"IF(Lists!BG45=\"\",\"\",Lists!BG45)","v":""},null,{"$f":"IF($E67=\"\",\"\",SUMIFS(Deviation_CEM_CPMS!$J$24:$J$5400,Deviation_CEM_CPMS!$B$24:$B$5400,B67,Deviation_CEM_CPMS!$C$24:$C$5400,C67,Deviation_CEM_CPMS!$D$24:$D$5400,D67))","v":""},"",{"$f":"IF($E67=\"\",\"\",SUMIFS(Deviation_CEM_CPMS!$J$24:$J$5400,Deviation_CEM_CPMS!$B$24:$B$5400,B67,Deviation_CEM_CPMS!$C$24:$C$5400,C67,Deviation_CEM_CPMS!$D$24:$D$5400,D67,Deviation_CEM_CPMS!$K$24:$K$5400,\"Monitoring Equipment Malfunctions\"))","v":""},{"$f":"IF($E67=\"\",\"\",SUMIFS(Deviation_CEM_CPMS!$J$24:$J$5400,Deviation_CEM_CPMS!$B$24:$B$5400,B67,Deviation_CEM_CPMS!$C$24:$C$5400,C67,Deviation_CEM_CPMS!$D$24:$D$5400,D67,Deviation_CEM_CPMS!$K$24:$K$5400,\"Nonmonitoring Equipment Malfunctions\"))","v":""},{"$f":"IF($E67=\"\",\"\",SUMIFS(Deviation_CEM_CPMS!$J$24:$J$5400,Deviation_CEM_CPMS!$B$24:$B$5400,B67,Deviation_CEM_CPMS!$C$24:$C$5400,C67,Deviation_CEM_CPMS!$D$24:$D$5400,D67,Deviation_CEM_CPMS!$K$24:$K$5400,\"Quality Assurance/Quality Control Calibrations\"))","v":""},{"$f":"IF($E67=\"\",\"\",SUMIFS(Deviation_CEM_CPMS!$J$24:$J$5400,Deviation_CEM_CPMS!$B$24:$B$5400,B67,Deviation_CEM_CPMS!$C$24:$C$5400,C67,Deviation_CEM_CPMS!$D$24:$D$5400,D67,Deviation_CEM_CPMS!$K$24:$K$5400,\"Other Known Causes\"))","v":""},{"$f":"IF($E67=\"\",\"\",SUMIFS(Deviation_CEM_CPMS!$J$24:$J$5400,Deviation_CEM_CPMS!$B$24:$B$5400,B67,Deviation_CEM_CPMS!$C$24:$C$5400,C67,Deviation_CEM_CPMS!$D$24:$D$5400,D67,Deviation_CEM_CPMS!$K$24:$K$5400,\"Other Unknown Causes\"))","v":""}]
[null,{"$f":"IF(Lists!BE46=\"\",\"\",Lists!BE46)","v":""},{"$f":"IF(Lists!BF46=\"\",\"\",Lists!BF46)","v":""},{"$f":"IF(Lists!BG46=\"\",\"\",Lists!BG46)","v":""},null,{"$f":"IF($E68=\"\",\"\",SUMIFS(Deviation_CEM_CPMS!$J$24:$J$5400,Deviation_CEM_CPMS!$B$24:$B$5400,B68,Deviation_CEM_CPMS!$C$24:$C$5400,C68,Deviation_CEM_CPMS!$D$24:$D$5400,D68))","v":""},"",{"$f":"IF($E68=\"\",\"\",SUMIFS(Deviation_CEM_CPMS!$J$24:$J$5400,Deviation_CEM_CPMS!$B$24:$B$5400,B68,Deviation_CEM_CPMS!$C$24:$C$5400,C68,Deviation_CEM_CPMS!$D$24:$D$5400,D68,Deviation_CEM_CPMS!$K$24:$K$5400,\"Monitoring Equipment Malfunctions\"))","v":""},{"$f":"IF($E68=\"\",\"\",SUMIFS(Deviation_CEM_CPMS!$J$24:$J$5400,Deviation_CEM_CPMS!$B$24:$B$5400,B68,Deviation_CEM_CPMS!$C$24:$C$5400,C68,Deviation_CEM_CPMS!$D$24:$D$5400,D68,Deviation_CEM_CPMS!$K$24:$K$5400,\"Nonmonitoring Equipment Malfunctions\"))","v":""},{"$f":"IF($E68=\"\",\"\",SUMIFS(Deviation_CEM_CPMS!$J$24:$J$5400,Deviation_CEM_CPMS!$B$24:$B$5400,B68,Deviation_CEM_CPMS!$C$24:$C$5400,C68,Deviation_CEM_CPMS!$D$24:$D$5400,D68,Deviation_CEM_CPMS!$K$24:$K$5400,\"Quality Assurance/Quality Control Calibrations\"))","v":""},{"$f":"IF($E68=\"\",\"\",SUMIFS(Deviation_CEM_CPMS!$J$24:$J$5400,Deviation_CEM_CPMS!$B$24:$B$5400,B68,Deviation_CEM_CPMS!$C$24:$C$5400,C68,Deviation_CEM_CPMS!$D$24:$D$5400,D68,Deviation_CEM_CPMS!$K$24:$K$5400,\"Other Known Causes\"))","v":""},{"$f":"IF($E68=\"\",\"\",SUMIFS(Deviation_CEM_CPMS!$J$24:$J$5400,Deviation_CEM_CPMS!$B$24:$B$5400,B68,Deviation_CEM_CPMS!$C$24:$C$5400,C68,Deviation_CEM_CPMS!$D$24:$D$5400,D68,Deviation_CEM_CPMS!$K$24:$K$5400,\"Other Unknown Causes\"))","v":""}]
[null,{"$f":"IF(Lists!BE47=\"\",\"\",Lists!BE47)","v":""},{"$f":"IF(Lists!BF47=\"\",\"\",Lists!BF47)","v":""},{"$f":"IF(Lists!BG47=\"\",\"\",Lists!BG47)","v":""},null,{"$f":"IF($E69=\"\",\"\",SUMIFS(Deviation_CEM_CPMS!$J$24:$J$5400,Deviation_CEM_CPMS!$B$24:$B$5400,B69,Deviation_CEM_CPMS!$C$24:$C$5400,C69,Deviation_CEM_CPMS!$D$24:$D$5400,D69))","v":""},"",{"$f":"IF($E69=\"\",\"\",SUMIFS(Deviation_CEM_CPMS!$J$24:$J$5400,Deviation_CEM_CPMS!$B$24:$B$5400,B69,Deviation_CEM_CPMS!$C$24:$C$5400,C69,Deviation_CEM_CPMS!$D$24:$D$5400,D69,Deviation_CEM_CPMS!$K$24:$K$5400,\"Monitoring Equipment Malfunctions\"))","v":""},{"$f":"IF($E69=\"\",\"\",SUMIFS(Deviation_CEM_CPMS!$J$24:$J$5400,Deviation_CEM_CPMS!$B$24:$B$5400,B69,Deviation_CEM_CPMS!$C$24:$C$5400,C69,Deviation_CEM_CPMS!$D$24:$D$5400,D69,Deviation_CEM_CPMS!$K$24:$K$5400,\"Nonmonitoring Equipment Malfunctions\"))","v":""},{"$f":"IF($E69=\"\",\"\",SUMIFS(Deviation_CEM_CPMS!$J$24:$J$5400,Deviation_CEM_CPMS!$B$24:$B$5400,B69,Deviation_CEM_CPMS!$C$24:$C$5400,C69,Deviation_CEM_CPMS!$D$24:$D$5400,D69,Deviation_CEM_CPMS!$K$24:$K$5400,\"Quality Assurance/Quality Control Calibrations\"))","v":""},{"$f":"IF($E69=\"\",\"\",SUMIFS(Deviation_CEM_CPMS!$J$24:$J$5400,Deviation_CEM_CPMS!$B$24:$B$5400,B69,Deviation_CEM_CPMS!$C$24:$C$5400,C69,Deviation_CEM_CPMS!$D$24:$D$5400,D69,Deviation_CEM_CPMS!$K$24:$K$5400,\"Other Known Causes\"))","v":""},{"$f":"IF($E69=\"\",\"\",SUMIFS(Deviation_CEM_CPMS!$J$24:$J$5400,Deviation_CEM_CPMS!$B$24:$B$5400,B69,Deviation_CEM_CPMS!$C$24:$C$5400,C69,Deviation_CEM_CPMS!$D$24:$D$5400,D69,Deviation_CEM_CPMS!$K$24:$K$5400,\"Other Unknown Causes\"))","v":""}]
[null,{"$f":"IF(Lists!BE48=\"\",\"\",Lists!BE48)","v":""},{"$f":"IF(Lists!BF48=\"\",\"\",Lists!BF48)","v":""},{"$f":"IF(Lists!BG48=\"\",\"\",Lists!BG48)","v":""},null,{"$f":"IF($E70=\"\",\"\",SUMIFS(Deviation_CEM_CPMS!$J$24:$J$5400,Deviation_CEM_CPMS!$B$24:$B$5400,B70,Deviation_CEM_CPMS!$C$24:$C$5400,C70,Deviation_CEM_CPMS!$D$24:$D$5400,D70))","v":""},"",{"$f":"IF($E70=\"\",\"\",SUMIFS(Deviation_CEM_CPMS!$J$24:$J$5400,Deviation_CEM_CPMS!$B$24:$B$5400,B70,Deviation_CEM_CPMS!$C$24:$C$5400,C70,Deviation_CEM_CPMS!$D$24:$D$5400,D70,Deviation_CEM_CPMS!$K$24:$K$5400,\"Monitoring Equipment Malfunctions\"))","v":""},{"$f":"IF($E70=\"\",\"\",SUMIFS(Deviation_CEM_CPMS!$J$24:$J$5400,Deviation_CEM_CPMS!$B$24:$B$5400,B70,Deviation_CEM_CPMS!$C$24:$C$5400,C70,Deviation_CEM_CPMS!$D$24:$D$5400,D70,Deviation_CEM_CPMS!$K$24:$K$5400,\"Nonmonitoring Equipment Malfunctions\"))","v":""},{"$f":"IF($E70=\"\",\"\",SUMIFS(Deviation_CEM_CPMS!$J$24:$J$5400,Deviation_CEM_CPMS!$B$24:$B$5400,B70,Deviation_CEM_CPMS!$C$24:$C$5400,C70,Deviation_CEM_CPMS!$D$24:$D$5400,D70,Deviation_CEM_CPMS!$K$24:$K$5400,\"Quality Assurance/Quality Control Calibrations\"))","v":""},{"$f":"IF($E70=\"\",\"\",SUMIFS(Deviation_CEM_CPMS!$J$24:$J$5400,Deviation_CEM_CPMS!$B$24:$B$5400,B70,Deviation_CEM_CPMS!$C$24:$C$5400,C70,Deviation_CEM_CPMS!$D$24:$D$5400,D70,Deviation_CEM_CPMS!$K$24:$K$5400,\"Other Known Causes\"))","v":""},{"$f":"IF($E70=\"\",\"\",SUMIFS(Deviation_CEM_CPMS!$J$24:$J$5400,Deviation_CEM_CPMS!$B$24:$B$5400,B70,Deviation_CEM_CPMS!$C$24:$C$5400,C70,Deviation_CEM_CPMS!$D$24:$D$5400,D70,Deviation_CEM_CPMS!$K$24:$K$5400,\"Other Unknown Causes\"))","v":""}]
[null,{"$f":"IF(Lists!BE49=\"\",\"\",Lists!BE49)","v":""},{"$f":"IF(Lists!BF49=\"\",\"\",Lists!BF49)","v":""},{"$f":"IF(Lists!BG49=\"\",\"\",Lists!BG49)","v":""},null,{"$f":"IF($E71=\"\",\"\",SUMIFS(Deviation_CEM_CPMS!$J$24:$J$5400,Deviation_CEM_CPMS!$B$24:$B$5400,B71,Deviation_CEM_CPMS!$C$24:$C$5400,C71,Deviation_CEM_CPMS!$D$24:$D$5400,D71))","v":""},"",{"$f":"IF($E71=\"\",\"\",SUMIFS(Deviation_CEM_CPMS!$J$24:$J$5400,Deviation_CEM_CPMS!$B$24:$B$5400,B71,Deviation_CEM_CPMS!$C$24:$C$5400,C71,Deviation_CEM_CPMS!$D$24:$D$5400,D71,Deviation_CEM_CPMS!$K$24:$K$5400,\"Monitoring Equipment Malfunctions\"))","v":""},{"$f":"IF($E71=\"\",\"\",SUMIFS(Deviation_CEM_CPMS!$J$24:$J$5400,Deviation_CEM_CPMS!$B$24:$B$5400,B71,Deviation_CEM_CPMS!$C$24:$C$5400,C71,Deviation_CEM_CPMS!$D$24:$D$5400,D71,Deviation_CEM_CPMS!$K$24:$K$5400,\"Nonmonitoring Equipment Malfunctions\"))","v":""},{"$f":"IF($E71=\"\",\"\",SUMIFS(Deviation_CEM_CPMS!$J$24:$J$5400,Deviation_CEM_CPMS!$B$24:$B$5400,B71,Deviation_CEM_CPMS!$C$24:$C$5400,C71,Deviation_CEM_CPMS!$D$24:$D$5400,D71,Deviation_CEM_CPMS!$K$24:$K$5400,\"Quality Assurance/Quality Control Calibrations\"))","v":""},{"$f":"IF($E71=\"\",\"\",SUMIFS(Deviation_CEM_CPMS!$J$24:$J$5400,Deviation_CEM_CPMS!$B$24:$B$5400,B71,Deviation_CEM_CPMS!$C$24:$C$5400,C71,Deviation_CEM_CPMS!$D$24:$D$5400,D71,Deviation_CEM_CPMS!$K$24:$K$5400,\"Other Known Causes\"))","v":""},{"$f":"IF($E71=\"\",\"\",SUMIFS(Deviation_CEM_CPMS!$J$24:$J$5400,Deviation_CEM_CPMS!$B$24:$B$5400,B71,Deviation_CEM_CPMS!$C$24:$C$5400,C71,Deviation_CEM_CPMS!$D$24:$D$5400,D71,Deviation_CEM_CPMS!$K$24:$K$5400,\"Other Unknown Causes\"))","v":""}]
[null,{"$f":"IF(Lists!BE50=\"\",\"\",Lists!BE50)","v":""},{"$f":"IF(Lists!BF50=\"\",\"\",Lists!BF50)","v":""},{"$f":"IF(Lists!BG50=\"\",\"\",Lists!BG50)","v":""},null,{"$f":"IF($E72=\"\",\"\",SUMIFS(Deviation_CEM_CPMS!$J$24:$J$5400,Deviation_CEM_CPMS!$B$24:$B$5400,B72,Deviation_CEM_CPMS!$C$24:$C$5400,C72,Deviation_CEM_CPMS!$D$24:$D$5400,D72))","v":""},"",{"$f":"IF($E72=\"\",\"\",SUMIFS(Deviation_CEM_CPMS!$J$24:$J$5400,Deviation_CEM_CPMS!$B$24:$B$5400,B72,Deviation_CEM_CPMS!$C$24:$C$5400,C72,Deviation_CEM_CPMS!$D$24:$D$5400,D72,Deviation_CEM_CPMS!$K$24:$K$5400,\"Monitoring Equipment Malfunctions\"))","v":""},{"$f":"IF($E72=\"\",\"\",SUMIFS(Deviation_CEM_CPMS!$J$24:$J$5400,Deviation_CEM_CPMS!$B$24:$B$5400,B72,Deviation_CEM_CPMS!$C$24:$C$5400,C72,Deviation_CEM_CPMS!$D$24:$D$5400,D72,Deviation_CEM_CPMS!$K$24:$K$5400,\"Nonmonitoring Equipment Malfunctions\"))","v":""},{"$f":"IF($E72=\"\",\"\",SUMIFS(Deviation_CEM_CPMS!$J$24:$J$5400,Deviation_CEM_CPMS!$B$24:$B$5400,B72,Deviation_CEM_CPMS!$C$24:$C$5400,C72,Deviation_CEM_CPMS!$D$24:$D$5400,D72,Deviation_CEM_CPMS!$K$24:$K$5400,\"Quality Assurance/Quality Control Calibrations\"))","v":""},{"$f":"IF($E72=\"\",\"\",SUMIFS(Deviation_CEM_CPMS!$J$24:$J$5400,Deviation_CEM_CPMS!$B$24:$B$5400,B72,Deviation_CEM_CPMS!$C$24:$C$5400,C72,Deviation_CEM_CPMS!$D$24:$D$5400,D72,Deviation_CEM_CPMS!$K$24:$K$5400,\"Other Known Causes\"))","v":""},{"$f":"IF($E72=\"\",\"\",SUMIFS(Deviation_CEM_CPMS!$J$24:$J$5400,Deviation_CEM_CPMS!$B$24:$B$5400,B72,Deviation_CEM_CPMS!$C$24:$C$5400,C72,Deviation_CEM_CPMS!$D$24:$D$5400,D72,Deviation_CEM_CPMS!$K$24:$K$5400,\"Other Unknown Causes\"))","v":""}]
[null,{"$f":"IF(Lists!BE51=\"\",\"\",Lists!BE51)","v":""},{"$f":"IF(Lists!BF51=\"\",\"\",Lists!BF51)","v":""},{"$f":"IF(Lists!BG51=\"\",\"\",Lists!BG51)","v":""},null,{"$f":"IF($E73=\"\",\"\",SUMIFS(Deviation_CEM_CPMS!$J$24:$J$5400,Deviation_CEM_CPMS!$B$24:$B$5400,B73,Deviation_CEM_CPMS!$C$24:$C$5400,C73,Deviation_CEM_CPMS!$D$24:$D$5400,D73))","v":""},"",{"$f":"IF($E73=\"\",\"\",SUMIFS(Deviation_CEM_CPMS!$J$24:$J$5400,Deviation_CEM_CPMS!$B$24:$B$5400,B73,Deviation_CEM_CPMS!$C$24:$C$5400,C73,Deviation_CEM_CPMS!$D$24:$D$5400,D73,Deviation_CEM_CPMS!$K$24:$K$5400,\"Monitoring Equipment Malfunctions\"))","v":""},{"$f":"IF($E73=\"\",\"\",SUMIFS(Deviation_CEM_CPMS!$J$24:$J$5400,Deviation_CEM_CPMS!$B$24:$B$5400,B73,Deviation_CEM_CPMS!$C$24:$C$5400,C73,Deviation_CEM_CPMS!$D$24:$D$5400,D73,Deviation_CEM_CPMS!$K$24:$K$5400,\"Nonmonitoring Equipment Malfunctions\"))","v":""},{"$f":"IF($E73=\"\",\"\",SUMIFS(Deviation_CEM_CPMS!$J$24:$J$5400,Deviation_CEM_CPMS!$B$24:$B$5400,B73,Deviation_CEM_CPMS!$C$24:$C$5400,C73,Deviation_CEM_CPMS!$D$24:$D$5400,D73,Deviation_CEM_CPMS!$K$24:$K$5400,\"Quality Assurance/Quality Control Calibrations\"))","v":""},{"$f":"IF($E73=\"\",\"\",SUMIFS(Deviation_CEM_CPMS!$J$24:$J$5400,Deviation_CEM_CPMS!$B$24:$B$5400,B73,Deviation_CEM_CPMS!$C$24:$C$5400,C73,Deviation_CEM_CPMS!$D$24:$D$5400,D73,Deviation_CEM_CPMS!$K$24:$K$5400,\"Other Known Causes\"))","v":""},{"$f":"IF($E73=\"\",\"\",SUMIFS(Deviation_CEM_CPMS!$J$24:$J$5400,Deviation_CEM_CPMS!$B$24:$B$5400,B73,Deviation_CEM_CPMS!$C$24:$C$5400,C73,Deviation_CEM_CPMS!$D$24:$D$5400,D73,Deviation_CEM_CPMS!$K$24:$K$5400,\"Other Unknown Causes\"))","v":""}]
[null,{"$f":"IF(Lists!BE52=\"\",\"\",Lists!BE52)","v":""},{"$f":"IF(Lists!BF52=\"\",\"\",Lists!BF52)","v":""},{"$f":"IF(Lists!BG52=\"\",\"\",Lists!BG52)","v":""},null,{"$f":"IF($E74=\"\",\"\",SUMIFS(Deviation_CEM_CPMS!$J$24:$J$5400,Deviation_CEM_CPMS!$B$24:$B$5400,B74,Deviation_CEM_CPMS!$C$24:$C$5400,C74,Deviation_CEM_CPMS!$D$24:$D$5400,D74))","v":""},"",{"$f":"IF($E74=\"\",\"\",SUMIFS(Deviation_CEM_CPMS!$J$24:$J$5400,Deviation_CEM_CPMS!$B$24:$B$5400,B74,Deviation_CEM_CPMS!$C$24:$C$5400,C74,Deviation_CEM_CPMS!$D$24:$D$5400,D74,Deviation_CEM_CPMS!$K$24:$K$5400,\"Monitoring Equipment Malfunctions\"))","v":""},{"$f":"IF($E74=\"\",\"\",SUMIFS(Deviation_CEM_CPMS!$J$24:$J$5400,Deviation_CEM_CPMS!$B$24:$B$5400,B74,Deviation_CEM_CPMS!$C$24:$C$5400,C74,Deviation_CEM_CPMS!$D$24:$D$5400,D74,Deviation_CEM_CPMS!$K$24:$K$5400,\"Nonmonitoring Equipment Malfunctions\"))","v":""},{"$f":"IF($E74=\"\",\"\",SUMIFS(Deviation_CEM_CPMS!$J$24:$J$5400,Deviation_CEM_CPMS!$B$24:$B$5400,B74,Deviation_CEM_CPMS!$C$24:$C$5400,C74,Deviation_CEM_CPMS!$D$24:$D$5400,D74,Deviation_CEM_CPMS!$K$24:$K$5400,\"Quality Assurance/Quality Control Calibrations\"))","v":""},{"$f":"IF($E74=\"\",\"\",SUMIFS(Deviation_CEM_CPMS!$J$24:$J$5400,Deviation_CEM_CPMS!$B$24:$B$5400,B74,Deviation_CEM_CPMS!$C$24:$C$5400,C74,Deviation_CEM_CPMS!$D$24:$D$5400,D74,Deviation_CEM_CPMS!$K$24:$K$5400,\"Other Known Causes\"))","v":""},{"$f":"IF($E74=\"\",\"\",SUMIFS(Deviation_CEM_CPMS!$J$24:$J$5400,Deviation_CEM_CPMS!$B$24:$B$5400,B74,Deviation_CEM_CPMS!$C$24:$C$5400,C74,Deviation_CEM_CPMS!$D$24:$D$5400,D74,Deviation_CEM_CPMS!$K$24:$K$5400,\"Other Unknown Causes\"))","v":""}]
[null,{"$f":"IF(Lists!BE53=\"\",\"\",Lists!BE53)","v":""},{"$f":"IF(Lists!BF53=\"\",\"\",Lists!BF53)","v":""},{"$f":"IF(Lists!BG53=\"\",\"\",Lists!BG53)","v":""},null,{"$f":"IF($E75=\"\",\"\",SUMIFS(Deviation_CEM_CPMS!$J$24:$J$5400,Deviation_CEM_CPMS!$B$24:$B$5400,B75,Deviation_CEM_CPMS!$C$24:$C$5400,C75,Deviation_CEM_CPMS!$D$24:$D$5400,D75))","v":""},"",{"$f":"IF($E75=\"\",\"\",SUMIFS(Deviation_CEM_CPMS!$J$24:$J$5400,Deviation_CEM_CPMS!$B$24:$B$5400,B75,Deviation_CEM_CPMS!$C$24:$C$5400,C75,Deviation_CEM_CPMS!$D$24:$D$5400,D75,Deviation_CEM_CPMS!$K$24:$K$5400,\"Monitoring Equipment Malfunctions\"))","v":""},{"$f":"IF($E75=\"\",\"\",SUMIFS(Deviation_CEM_CPMS!$J$24:$J$5400,Deviation_CEM_CPMS!$B$24:$B$5400,B75,Deviation_CEM_CPMS!$C$24:$C$5400,C75,Deviation_CEM_CPMS!$D$24:$D$5400,D75,Deviation_CEM_CPMS!$K$24:$K$5400,\"Nonmonitoring Equipment Malfunctions\"))","v":""},{"$f":"IF($E75=\"\",\"\",SUMIFS(Deviation_CEM_CPMS!$J$24:$J$5400,Deviation_CEM_CPMS!$B$24:$B$5400,B75,Deviation_CEM_CPMS!$C$24:$C$5400,C75,Deviation_CEM_CPMS!$D$24:$D$5400,D75,Deviation_CEM_CPMS!$K$24:$K$5400,\"Quality Assurance/Quality Control Calibrations\"))","v":""},{"$f":"IF($E75=\"\",\"\",SUMIFS(Deviation_CEM_CPMS!$J$24:$J$5400,Deviation_CEM_CPMS!$B$24:$B$5400,B75,Deviation_CEM_CPMS!$C$24:$C$5400,C75,Deviation_CEM_CPMS!$D$24:$D$5400,D75,Deviation_CEM_CPMS!$K$24:$K$5400,\"Other Known Causes\"))","v":""},{"$f":"IF($E75=\"\",\"\",SUMIFS(Deviation_CEM_CPMS!$J$24:$J$5400,Deviation_CEM_CPMS!$B$24:$B$5400,B75,Deviation_CEM_CPMS!$C$24:$C$5400,C75,Deviation_CEM_CPMS!$D$24:$D$5400,D75,Deviation_CEM_CPMS!$K$24:$K$5400,\"Other Unknown Causes\"))","v":""}]
[null,{"$f":"IF(Lists!BE54=\"\",\"\",Lists!BE54)","v":""},{"$f":"IF(Lists!BF54=\"\",\"\",Lists!BF54)","v":""},{"$f":"IF(Lists!BG54=\"\",\"\",Lists!BG54)","v":""},null,{"$f":"IF($E76=\"\",\"\",SUMIFS(Deviation_CEM_CPMS!$J$24:$J$5400,Deviation_CEM_CPMS!$B$24:$B$5400,B76,Deviation_CEM_CPMS!$C$24:$C$5400,C76,Deviation_CEM_CPMS!$D$24:$D$5400,D76))","v":""},"",{"$f":"IF($E76=\"\",\"\",SUMIFS(Deviation_CEM_CPMS!$J$24:$J$5400,Deviation_CEM_CPMS!$B$24:$B$5400,B76,Deviation_CEM_CPMS!$C$24:$C$5400,C76,Deviation_CEM_CPMS!$D$24:$D$5400,D76,Deviation_CEM_CPMS!$K$24:$K$5400,\"Monitoring Equipment Malfunctions\"))","v":""},{"$f":"IF($E76=\"\",\"\",SUMIFS(Deviation_CEM_CPMS!$J$24:$J$5400,Deviation_CEM_CPMS!$B$24:$B$5400,B76,Deviation_CEM_CPMS!$C$24:$C$5400,C76,Deviation_CEM_CPMS!$D$24:$D$5400,D76,Deviation_CEM_CPMS!$K$24:$K$5400,\"Nonmonitoring Equipment Malfunctions\"))","v":""},{"$f":"IF($E76=\"\",\"\",SUMIFS(Deviation_CEM_CPMS!$J$24:$J$5400,Deviation_CEM_CPMS!$B$24:$B$5400,B76,Deviation_CEM_CPMS!$C$24:$C$5400,C76,Deviation_CEM_CPMS!$D$24:$D$5400,D76,Deviation_CEM_CPMS!$K$24:$K$5400,\"Quality Assurance/Quality Control Calibrations\"))","v":""},{"$f":"IF($E76=\"\",\"\",SUMIFS(Deviation_CEM_CPMS!$J$24:$J$5400,Deviation_CEM_CPMS!$B$24:$B$5400,B76,Deviation_CEM_CPMS!$C$24:$C$5400,C76,Deviation_CEM_CPMS!$D$24:$D$5400,D76,Deviation_CEM_CPMS!$K$24:$K$5400,\"Other Known Causes\"))","v":""},{"$f":"IF($E76=\"\",\"\",SUMIFS(Deviation_CEM_CPMS!$J$24:$J$5400,Deviation_CEM_CPMS!$B$24:$B$5400,B76,Deviation_CEM_CPMS!$C$24:$C$5400,C76,Deviation_CEM_CPMS!$D$24:$D$5400,D76,Deviation_CEM_CPMS!$K$24:$K$5400,\"Other Unknown Causes\"))","v":""}]
[null,{"$f":"IF(Lists!BE55=\"\",\"\",Lists!BE55)","v":""},{"$f":"IF(Lists!BF55=\"\",\"\",Lists!BF55)","v":""},{"$f":"IF(Lists!BG55=\"\",\"\",Lists!BG55)","v":""},null,{"$f":"IF($E77=\"\",\"\",SUMIFS(Deviation_CEM_CPMS!$J$24:$J$5400,Deviation_CEM_CPMS!$B$24:$B$5400,B77,Deviation_CEM_CPMS!$C$24:$C$5400,C77,Deviation_CEM_CPMS!$D$24:$D$5400,D77))","v":""},"",{"$f":"IF($E77=\"\",\"\",SUMIFS(Deviation_CEM_CPMS!$J$24:$J$5400,Deviation_CEM_CPMS!$B$24:$B$5400,B77,Deviation_CEM_CPMS!$C$24:$C$5400,C77,Deviation_CEM_CPMS!$D$24:$D$5400,D77,Deviation_CEM_CPMS!$K$24:$K$5400,\"Monitoring Equipment Malfunctions\"))","v":""},{"$f":"IF($E77=\"\",\"\",SUMIFS(Deviation_CEM_CPMS!$J$24:$J$5400,Deviation_CEM_CPMS!$B$24:$B$5400,B77,Deviation_CEM_CPMS!$C$24:$C$5400,C77,Deviation_CEM_CPMS!$D$24:$D$5400,D77,Deviation_CEM_CPMS!$K$24:$K$5400,\"Nonmonitoring Equipment Malfunctions\"))","v":""},{"$f":"IF($E77=\"\",\"\",SUMIFS(Deviation_CEM_CPMS!$J$24:$J$5400,Deviation_CEM_CPMS!$B$24:$B$5400,B77,Deviation_CEM_CPMS!$C$24:$C$5400,C77,Deviation_CEM_CPMS!$D$24:$D$5400,D77,Deviation_CEM_CPMS!$K$24:$K$5400,\"Quality Assurance/Quality Control Calibrations\"))","v":""},{"$f":"IF($E77=\"\",\"\",SUMIFS(Deviation_CEM_CPMS!$J$24:$J$5400,Deviation_CEM_CPMS!$B$24:$B$5400,B77,Deviation_CEM_CPMS!$C$24:$C$5400,C77,Deviation_CEM_CPMS!$D$24:$D$5400,D77,Deviation_CEM_CPMS!$K$24:$K$5400,\"Other Known Causes\"))","v":""},{"$f":"IF($E77=\"\",\"\",SUMIFS(Deviation_CEM_CPMS!$J$24:$J$5400,Deviation_CEM_CPMS!$B$24:$B$5400,B77,Deviation_CEM_CPMS!$C$24:$C$5400,C77,Deviation_CEM_CPMS!$D$24:$D$5400,D77,Deviation_CEM_CPMS!$K$24:$K$5400,\"Other Unknown Causes\"))","v":""}]
[null,{"$f":"IF(Lists!BE56=\"\",\"\",Lists!BE56)","v":""},{"$f":"IF(Lists!BF56=\"\",\"\",Lists!BF56)","v":""},{"$f":"IF(Lists!BG56=\"\",\"\",Lists!BG56)","v":""},null,{"$f":"IF($E78=\"\",\"\",SUMIFS(Deviation_CEM_CPMS!$J$24:$J$5400,Deviation_CEM_CPMS!$B$24:$B$5400,B78,Deviation_CEM_CPMS!$C$24:$C$5400,C78,Deviation_CEM_CPMS!$D$24:$D$5400,D78))","v":""},"",{"$f":"IF($E78=\"\",\"\",SUMIFS(Deviation_CEM_CPMS!$J$24:$J$5400,Deviation_CEM_CPMS!$B$24:$B$5400,B78,Deviation_CEM_CPMS!$C$24:$C$5400,C78,Deviation_CEM_CPMS!$D$24:$D$5400,D78,Deviation_CEM_CPMS!$K$24:$K$5400,\"Monitoring Equipment Malfunctions\"))","v":""},{"$f":"IF($E78=\"\",\"\",SUMIFS(Deviation_CEM_CPMS!$J$24:$J$5400,Deviation_CEM_CPMS!$B$24:$B$5400,B78,Deviation_CEM_CPMS!$C$24:$C$5400,C78,Deviation_CEM_CPMS!$D$24:$D$5400,D78,Deviation_CEM_CPMS!$K$24:$K$5400,\"Nonmonitoring Equipment Malfunctions\"))","v":""},{"$f":"IF($E78=\"\",\"\",SUMIFS(Deviation_CEM_CPMS!$J$24:$J$5400,Deviation_CEM_CPMS!$B$24:$B$5400,B78,Deviation_CEM_CPMS!$C$24:$C$5400,C78,Deviation_CEM_CPMS!$D$24:$D$5400,D78,Deviation_CEM_CPMS!$K$24:$K$5400,\"Quality Assurance/Quality Control Calibrations\"))","v":""},{"$f":"IF($E78=\"\",\"\",SUMIFS(Deviation_CEM_CPMS!$J$24:$J$5400,Deviation_CEM_CPMS!$B$24:$B$5400,B78,Deviation_CEM_CPMS!$C$24:$C$5400,C78,Deviation_CEM_CPMS!$D$24:$D$5400,D78,Deviation_CEM_CPMS!$K$24:$K$5400,\"Other Known Causes\"))","v":""},{"$f":"IF($E78=\"\",\"\",SUMIFS(Deviation_CEM_CPMS!$J$24:$J$5400,Deviation_CEM_CPMS!$B$24:$B$5400,B78,Deviation_CEM_CPMS!$C$24:$C$5400,C78,Deviation_CEM_CPMS!$D$24:$D$5400,D78,Deviation_CEM_CPMS!$K$24:$K$5400,\"Other Unknown Causes\"))","v":""}]
[null,{"$f":"IF(Lists!BE57=\"\",\"\",Lists!BE57)","v":""},{"$f":"IF(Lists!BF57=\"\",\"\",Lists!BF57)","v":""},{"$f":"IF(Lists!BG57=\"\",\"\",Lists!BG57)","v":""},null,{"$f":"IF($E79=\"\",\"\",SUMIFS(Deviation_CEM_CPMS!$J$24:$J$5400,Deviation_CEM_CPMS!$B$24:$B$5400,B79,Deviation_CEM_CPMS!$C$24:$C$5400,C79,Deviation_CEM_CPMS!$D$24:$D$5400,D79))","v":""},"",{"$f":"IF($E79=\"\",\"\",SUMIFS(Deviation_CEM_CPMS!$J$24:$J$5400,Deviation_CEM_CPMS!$B$24:$B$5400,B79,Deviation_CEM_CPMS!$C$24:$C$5400,C79,Deviation_CEM_CPMS!$D$24:$D$5400,D79,Deviation_CEM_CPMS!$K$24:$K$5400,\"Monitoring Equipment Malfunctions\"))","v":""},{"$f":"IF($E79=\"\",\"\",SUMIFS(Deviation_CEM_CPMS!$J$24:$J$5400,Deviation_CEM_CPMS!$B$24:$B$5400,B79,Deviation_CEM_CPMS!$C$24:$C$5400,C79,Deviation_CEM_CPMS!$D$24:$D$5400,D79,Deviation_CEM_CPMS!$K$24:$K$5400,\"Nonmonitoring Equipment Malfunctions\"))","v":""},{"$f":"IF($E79=\"\",\"\",SUMIFS(Deviation_CEM_CPMS!$J$24:$J$5400,Deviation_CEM_CPMS!$B$24:$B$5400,B79,Deviation_CEM_CPMS!$C$24:$C$5400,C79,Deviation_CEM_CPMS!$D$24:$D$5400,D79,Deviation_CEM_CPMS!$K$24:$K$5400,\"Quality Assurance/Quality Control Calibrations\"))","v":""},{"$f":"IF($E79=\"\",\"\",SUMIFS(Deviation_CEM_CPMS!$J$24:$J$5400,Deviation_CEM_CPMS!$B$24:$B$5400,B79,Deviation_CEM_CPMS!$C$24:$C$5400,C79,Deviation_CEM_CPMS!$D$24:$D$5400,D79,Deviation_CEM_CPMS!$K$24:$K$5400,\"Other Known Causes\"))","v":""},{"$f":"IF($E79=\"\",\"\",SUMIFS(Deviation_CEM_CPMS!$J$24:$J$5400,Deviation_CEM_CPMS!$B$24:$B$5400,B79,Deviation_CEM_CPMS!$C$24:$C$5400,C79,Deviation_CEM_CPMS!$D$24:$D$5400,D79,Deviation_CEM_CPMS!$K$24:$K$5400,\"Other Unknown Causes\"))","v":""}]
[null,{"$f":"IF(Lists!BE58=\"\",\"\",Lists!BE58)","v":""},{"$f":"IF(Lists!BF58=\"\",\"\",Lists!BF58)","v":""},{"$f":"IF(Lists!BG58=\"\",\"\",Lists!BG58)","v":""},null,{"$f":"IF($E80=\"\",\"\",SUMIFS(Deviation_CEM_CPMS!$J$24:$J$5400,Deviation_CEM_CPMS!$B$24:$B$5400,B80,Deviation_CEM_CPMS!$C$24:$C$5400,C80,Deviation_CEM_CPMS!$D$24:$D$5400,D80))","v":""},"",{"$f":"IF($E80=\"\",\"\",SUMIFS(Deviation_CEM_CPMS!$J$24:$J$5400,Deviation_CEM_CPMS!$B$24:$B$5400,B80,Deviation_CEM_CPMS!$C$24:$C$5400,C80,Deviation_CEM_CPMS!$D$24:$D$5400,D80,Deviation_CEM_CPMS!$K$24:$K$5400,\"Monitoring Equipment Malfunctions\"))","v":""},{"$f":"IF($E80=\"\",\"\",SUMIFS(Deviation_CEM_CPMS!$J$24:$J$5400,Deviation_CEM_CPMS!$B$24:$B$5400,B80,Deviation_CEM_CPMS!$C$24:$C$5400,C80,Deviation_CEM_CPMS!$D$24:$D$5400,D80,Deviation_CEM_CPMS!$K$24:$K$5400,\"Nonmonitoring Equipment Malfunctions\"))","v":""},{"$f":"IF($E80=\"\",\"\",SUMIFS(Deviation_CEM_CPMS!$J$24:$J$5400,Deviation_CEM_CPMS!$B$24:$B$5400,B80,Deviation_CEM_CPMS!$C$24:$C$5400,C80,Deviation_CEM_CPMS!$D$24:$D$5400,D80,Deviation_CEM_CPMS!$K$24:$K$5400,\"Quality Assurance/Quality Control Calibrations\"))","v":""},{"$f":"IF($E80=\"\",\"\",SUMIFS(Deviation_CEM_CPMS!$J$24:$J$5400,Deviation_CEM_CPMS!$B$24:$B$5400,B80,Deviation_CEM_CPMS!$C$24:$C$5400,C80,Deviation_CEM_CPMS!$D$24:$D$5400,D80,Deviation_CEM_CPMS!$K$24:$K$5400,\"Other Known Causes\"))","v":""},{"$f":"IF($E80=\"\",\"\",SUMIFS(Deviation_CEM_CPMS!$J$24:$J$5400,Deviation_CEM_CPMS!$B$24:$B$5400,B80,Deviation_CEM_CPMS!$C$24:$C$5400,C80,Deviation_CEM_CPMS!$D$24:$D$5400,D80,Deviation_CEM_CPMS!$K$24:$K$5400,\"Other Unknown Causes\"))","v":""}]
[null,{"$f":"IF(Lists!BE59=\"\",\"\",Lists!BE59)","v":""},{"$f":"IF(Lists!BF59=\"\",\"\",Lists!BF59)","v":""},{"$f":"IF(Lists!BG59=\"\",\"\",Lists!BG59)","v":""},null,{"$f":"IF($E81=\"\",\"\",SUMIFS(Deviation_CEM_CPMS!$J$24:$J$5400,Deviation_CEM_CPMS!$B$24:$B$5400,B81,Deviation_CEM_CPMS!$C$24:$C$5400,C81,Deviation_CEM_CPMS!$D$24:$D$5400,D81))","v":""},"",{"$f":"IF($E81=\"\",\"\",SUMIFS(Deviation_CEM_CPMS!$J$24:$J$5400,Deviation_CEM_CPMS!$B$24:$B$5400,B81,Deviation_CEM_CPMS!$C$24:$C$5400,C81,Deviation_CEM_CPMS!$D$24:$D$5400,D81,Deviation_CEM_CPMS!$K$24:$K$5400,\"Monitoring Equipment Malfunctions\"))","v":""},{"$f":"IF($E81=\"\",\"\",SUMIFS(Deviation_CEM_CPMS!$J$24:$J$5400,Deviation_CEM_CPMS!$B$24:$B$5400,B81,Deviation_CEM_CPMS!$C$24:$C$5400,C81,Deviation_CEM_CPMS!$D$24:$D$5400,D81,Deviation_CEM_CPMS!$K$24:$K$5400,\"Nonmonitoring Equipment Malfunctions\"))","v":""},{"$f":"IF($E81=\"\",\"\",SUMIFS(Deviation_CEM_CPMS!$J$24:$J$5400,Deviation_CEM_CPMS!$B$24:$B$5400,B81,Deviation_CEM_CPMS!$C$24:$C$5400,C81,Deviation_CEM_CPMS!$D$24:$D$5400,D81,Deviation_CEM_CPMS!$K$24:$K$5400,\"Quality Assurance/Quality Control Calibrations\"))","v":""},{"$f":"IF($E81=\"\",\"\",SUMIFS(Deviation_CEM_CPMS!$J$24:$J$5400,Deviation_CEM_CPMS!$B$24:$B$5400,B81,Deviation_CEM_CPMS!$C$24:$C$5400,C81,Deviation_CEM_CPMS!$D$24:$D$5400,D81,Deviation_CEM_CPMS!$K$24:$K$5400,\"Other Known Causes\"))","v":""},{"$f":"IF($E81=\"\",\"\",SUMIFS(Deviation_CEM_CPMS!$J$24:$J$5400,Deviation_CEM_CPMS!$B$24:$B$5400,B81,Deviation_CEM_CPMS!$C$24:$C$5400,C81,Deviation_CEM_CPMS!$D$24:$D$5400,D81,Deviation_CEM_CPMS!$K$24:$K$5400,\"Other Unknown Causes\"))","v":""}]
[null,{"$f":"IF(Lists!BE60=\"\",\"\",Lists!BE60)","v":""},{"$f":"IF(Lists!BF60=\"\",\"\",Lists!BF60)","v":""},{"$f":"IF(Lists!BG60=\"\",\"\",Lists!BG60)","v":""},null,{"$f":"IF($E82=\"\",\"\",SUMIFS(Deviation_CEM_CPMS!$J$24:$J$5400,Deviation_CEM_CPMS!$B$24:$B$5400,B82,Deviation_CEM_CPMS!$C$24:$C$5400,C82,Deviation_CEM_CPMS!$D$24:$D$5400,D82))","v":""},"",{"$f":"IF($E82=\"\",\"\",SUMIFS(Deviation_CEM_CPMS!$J$24:$J$5400,Deviation_CEM_CPMS!$B$24:$B$5400,B82,Deviation_CEM_CPMS!$C$24:$C$5400,C82,Deviation_CEM_CPMS!$D$24:$D$5400,D82,Deviation_CEM_CPMS!$K$24:$K$5400,\"Monitoring Equipment Malfunctions\"))","v":""},{"$f":"IF($E82=\"\",\"\",SUMIFS(Deviation_CEM_CPMS!$J$24:$J$5400,Deviation_CEM_CPMS!$B$24:$B$5400,B82,Deviation_CEM_CPMS!$C$24:$C$5400,C82,Deviation_CEM_CPMS!$D$24:$D$5400,D82,Deviation_CEM_CPMS!$K$24:$K$5400,\"Nonmonitoring Equipment Malfunctions\"))","v":""},{"$f":"IF($E82=\"\",\"\",SUMIFS(Deviation_CEM_CPMS!$J$24:$J$5400,Deviation_CEM_CPMS!$B$24:$B$5400,B82,Deviation_CEM_CPMS!$C$24:$C$5400,C82,Deviation_CEM_CPMS!$D$24:$D$5400,D82,Deviation_CEM_CPMS!$K$24:$K$5400,\"Quality Assurance/Quality Control Calibrations\"))","v":""},{"$f":"IF($E82=\"\",\"\",SUMIFS(Deviation_CEM_CPMS!$J$24:$J$5400,Deviation_CEM_CPMS!$B$24:$B$5400,B82,Deviation_CEM_CPMS!$C$24:$C$5400,C82,Deviation_CEM_CPMS!$D$24:$D$5400,D82,Deviation_CEM_CPMS!$K$24:$K$5400,\"Other Known Causes\"))","v":""},{"$f":"IF($E82=\"\",\"\",SUMIFS(Deviation_CEM_CPMS!$J$24:$J$5400,Deviation_CEM_CPMS!$B$24:$B$5400,B82,Deviation_CEM_CPMS!$C$24:$C$5400,C82,Deviation_CEM_CPMS!$D$24:$D$5400,D82,Deviation_CEM_CPMS!$K$24:$K$5400,\"Other Unknown Causes\"))","v":""}]
[null,{"$f":"IF(Lists!BE61=\"\",\"\",Lists!BE61)","v":""},{"$f":"IF(Lists!BF61=\"\",\"\",Lists!BF61)","v":""},{"$f":"IF(Lists!BG61=\"\",\"\",Lists!BG61)","v":""},null,{"$f":"IF($E83=\"\",\"\",SUMIFS(Deviation_CEM_CPMS!$J$24:$J$5400,Deviation_CEM_CPMS!$B$24:$B$5400,B83,Deviation_CEM_CPMS!$C$24:$C$5400,C83,Deviation_CEM_CPMS!$D$24:$D$5400,D83))","v":""},"",{"$f":"IF($E83=\"\",\"\",SUMIFS(Deviation_CEM_CPMS!$J$24:$J$5400,Deviation_CEM_CPMS!$B$24:$B$5400,B83,Deviation_CEM_CPMS!$C$24:$C$5400,C83,Deviation_CEM_CPMS!$D$24:$D$5400,D83,Deviation_CEM_CPMS!$K$24:$K$5400,\"Monitoring Equipment Malfunctions\"))","v":""},{"$f":"IF($E83=\"\",\"\",SUMIFS(Deviation_CEM_CPMS!$J$24:$J$5400,Deviation_CEM_CPMS!$B$24:$B$5400,B83,Deviation_CEM_CPMS!$C$24:$C$5400,C83,Deviation_CEM_CPMS!$D$24:$D$5400,D83,Deviation_CEM_CPMS!$K$24:$K$5400,\"Nonmonitoring Equipment Malfunctions\"))","v":""},{"$f":"IF($E83=\"\",\"\",SUMIFS(Deviation_CEM_CPMS!$J$24:$J$5400,Deviation_CEM_CPMS!$B$24:$B$5400,B83,Deviation_CEM_CPMS!$C$24:$C$5400,C83,Deviation_CEM_CPMS!$D$24:$D$5400,D83,Deviation_CEM_CPMS!$K$24:$K$5400,\"Quality Assurance/Quality Control Calibrations\"))","v":""},{"$f":"IF($E83=\"\",\"\",SUMIFS(Deviation_CEM_CPMS!$J$24:$J$5400,Deviation_CEM_CPMS!$B$24:$B$5400,B83,Deviation_CEM_CPMS!$C$24:$C$5400,C83,Deviation_CEM_CPMS!$D$24:$D$5400,D83,Deviation_CEM_CPMS!$K$24:$K$5400,\"Other Known Causes\"))","v":""},{"$f":"IF($E83=\"\",\"\",SUMIFS(Deviation_CEM_CPMS!$J$24:$J$5400,Deviation_CEM_CPMS!$B$24:$B$5400,B83,Deviation_CEM_CPMS!$C$24:$C$5400,C83,Deviation_CEM_CPMS!$D$24:$D$5400,D83,Deviation_CEM_CPMS!$K$24:$K$5400,\"Other Unknown Causes\"))","v":""}]
[null,{"$f":"IF(Lists!BE62=\"\",\"\",Lists!BE62)","v":""},{"$f":"IF(Lists!BF62=\"\",\"\",Lists!BF62)","v":""},{"$f":"IF(Lists!BG62=\"\",\"\",Lists!BG62)","v":""},null,{"$f":"IF($E84=\"\",\"\",SUMIFS(Deviation_CEM_CPMS!$J$24:$J$5400,Deviation_CEM_CPMS!$B$24:$B$5400,B84,Deviation_CEM_CPMS!$C$24:$C$5400,C84,Deviation_CEM_CPMS!$D$24:$D$5400,D84))","v":""},"",{"$f":"IF($E84=\"\",\"\",SUMIFS(Deviation_CEM_CPMS!$J$24:$J$5400,Deviation_CEM_CPMS!$B$24:$B$5400,B84,Deviation_CEM_CPMS!$C$24:$C$5400,C84,Deviation_CEM_CPMS!$D$24:$D$5400,D84,Deviation_CEM_CPMS!$K$24:$K$5400,\"Monitoring Equipment Malfunctions\"))","v":""},{"$f":"IF($E84=\"\",\"\",SUMIFS(Deviation_CEM_CPMS!$J$24:$J$5400,Deviation_CEM_CPMS!$B$24:$B$5400,B84,Deviation_CEM_CPMS!$C$24:$C$5400,C84,Deviation_CEM_CPMS!$D$24:$D$5400,D84,Deviation_CEM_CPMS!$K$24:$K$5400,\"Nonmonitoring Equipment Malfunctions\"))","v":""},{"$f":"IF($E84=\"\",\"\",SUMIFS(Deviation_CEM_CPMS!$J$24:$J$5400,Deviation_CEM_CPMS!$B$24:$B$5400,B84,Deviation_CEM_CPMS!$C$24:$C$5400,C84,Deviation_CEM_CPMS!$D$24:$D$5400,D84,Deviation_CEM_CPMS!$K$24:$K$5400,\"Quality Assurance/Quality Control Calibrations\"))","v":""},{"$f":"IF($E84=\"\",\"\",SUMIFS(Deviation_CEM_CPMS!$J$24:$J$5400,Deviation_CEM_CPMS!$B$24:$B$5400,B84,Deviation_CEM_CPMS!$C$24:$C$5400,C84,Deviation_CEM_CPMS!$D$24:$D$5400,D84,Deviation_CEM_CPMS!$K$24:$K$5400,\"Other Known Causes\"))","v":""},{"$f":"IF($E84=\"\",\"\",SUMIFS(Deviation_CEM_CPMS!$J$24:$J$5400,Deviation_CEM_CPMS!$B$24:$B$5400,B84,Deviation_CEM_CPMS!$C$24:$C$5400,C84,Deviation_CEM_CPMS!$D$24:$D$5400,D84,Deviation_CEM_CPMS!$K$24:$K$5400,\"Other Unknown Causes\"))","v":""}]
[null,{"$f":"IF(Lists!BE63=\"\",\"\",Lists!BE63)","v":""},{"$f":"IF(Lists!BF63=\"\",\"\",Lists!BF63)","v":""},{"$f":"IF(Lists!BG63=\"\",\"\",Lists!BG63)","v":""},null,{"$f":"IF($E85=\"\",\"\",SUMIFS(Deviation_CEM_CPMS!$J$24:$J$5400,Deviation_CEM_CPMS!$B$24:$B$5400,B85,Deviation_CEM_CPMS!$C$24:$C$5400,C85,Deviation_CEM_CPMS!$D$24:$D$5400,D85))","v":""},"",{"$f":"IF($E85=\"\",\"\",SUMIFS(Deviation_CEM_CPMS!$J$24:$J$5400,Deviation_CEM_CPMS!$B$24:$B$5400,B85,Deviation_CEM_CPMS!$C$24:$C$5400,C85,Deviation_CEM_CPMS!$D$24:$D$5400,D85,Deviation_CEM_CPMS!$K$24:$K$5400,\"Monitoring Equipment Malfunctions\"))","v":""},{"$f":"IF($E85=\"\",\"\",SUMIFS(Deviation_CEM_CPMS!$J$24:$J$5400,Deviation_CEM_CPMS!$B$24:$B$5400,B85,Deviation_CEM_CPMS!$C$24:$C$5400,C85,Deviation_CEM_CPMS!$D$24:$D$5400,D85,Deviation_CEM_CPMS!$K$24:$K$5400,\"Nonmonitoring Equipment Malfunctions\"))","v":""},{"$f":"IF($E85=\"\",\"\",SUMIFS(Deviation_CEM_CPMS!$J$24:$J$5400,Deviation_CEM_CPMS!$B$24:$B$5400,B85,Deviation_CEM_CPMS!$C$24:$C$5400,C85,Deviation_CEM_CPMS!$D$24:$D$5400,D85,Deviation_CEM_CPMS!$K$24:$K$5400,\"Quality Assurance/Quality Control Calibrations\"))","v":""},{"$f":"IF($E85=\"\",\"\",SUMIFS(Deviation_CEM_CPMS!$J$24:$J$5400,Deviation_CEM_CPMS!$B$24:$B$5400,B85,Deviation_CEM_CPMS!$C$24:$C$5400,C85,Deviation_CEM_CPMS!$D$24:$D$5400,D85,Deviation_CEM_CPMS!$K$24:$K$5400,\"Other Known Causes\"))","v":""},{"$f":"IF($E85=\"\",\"\",SUMIFS(Deviation_CEM_CPMS!$J$24:$J$5400,Deviation_CEM_CPMS!$B$24:$B$5400,B85,Deviation_CEM_CPMS!$C$24:$C$5400,C85,Deviation_CEM_CPMS!$D$24:$D$5400,D85,Deviation_CEM_CPMS!$K$24:$K$5400,\"Other Unknown Causes\"))","v":""}]
[null,{"$f":"IF(Lists!BE64=\"\",\"\",Lists!BE64)","v":""},{"$f":"IF(Lists!BF64=\"\",\"\",Lists!BF64)","v":""},{"$f":"IF(Lists!BG64=\"\",\"\",Lists!BG64)","v":""},null,{"$f":"IF($E86=\"\",\"\",SUMIFS(Deviation_CEM_CPMS!$J$24:$J$5400,Deviation_CEM_CPMS!$B$24:$B$5400,B86,Deviation_CEM_CPMS!$C$24:$C$5400,C86,Deviation_CEM_CPMS!$D$24:$D$5400,D86))","v":""},"",{"$f":"IF($E86=\"\",\"\",SUMIFS(Deviation_CEM_CPMS!$J$24:$J$5400,Deviation_CEM_CPMS!$B$24:$B$5400,B86,Deviation_CEM_CPMS!$C$24:$C$5400,C86,Deviation_CEM_CPMS!$D$24:$D$5400,D86,Deviation_CEM_CPMS!$K$24:$K$5400,\"Monitoring Equipment Malfunctions\"))","v":""},{"$f":"IF($E86=\"\",\"\",SUMIFS(Deviation_CEM_CPMS!$J$24:$J$5400,Deviation_CEM_CPMS!$B$24:$B$5400,B86,Deviation_CEM_CPMS!$C$24:$C$5400,C86,Deviation_CEM_CPMS!$D$24:$D$5400,D86,Deviation_CEM_CPMS!$K$24:$K$5400,\"Nonmonitoring Equipment Malfunctions\"))","v":""},{"$f":"IF($E86=\"\",\"\",SUMIFS(Deviation_CEM_CPMS!$J$24:$J$5400,Deviation_CEM_CPMS!$B$24:$B$5400,B86,Deviation_CEM_CPMS!$C$24:$C$5400,C86,Deviation_CEM_CPMS!$D$24:$D$5400,D86,Deviation_CEM_CPMS!$K$24:$K$5400,\"Quality Assurance/Quality Control Calibrations\"))","v":""},{"$f":"IF($E86=\"\",\"\",SUMIFS(Deviation_CEM_CPMS!$J$24:$J$5400,Deviation_CEM_CPMS!$B$24:$B$5400,B86,Deviation_CEM_CPMS!$C$24:$C$5400,C86,Deviation_CEM_CPMS!$D$24:$D$5400,D86,Deviation_CEM_CPMS!$K$24:$K$5400,\"Other Known Causes\"))","v":""},{"$f":"IF($E86=\"\",\"\",SUMIFS(Deviation_CEM_CPMS!$J$24:$J$5400,Deviation_CEM_CPMS!$B$24:$B$5400,B86,Deviation_CEM_CPMS!$C$24:$C$5400,C86,Deviation_CEM_CPMS!$D$24:$D$5400,D86,Deviation_CEM_CPMS!$K$24:$K$5400,\"Other Unknown Causes\"))","v":""}]
[null,{"$f":"IF(Lists!BE65=\"\",\"\",Lists!BE65)","v":""},{"$f":"IF(Lists!BF65=\"\",\"\",Lists!BF65)","v":""},{"$f":"IF(Lists!BG65=\"\",\"\",Lists!BG65)","v":""},null,{"$f":"IF($E87=\"\",\"\",SUMIFS(Deviation_CEM_CPMS!$J$24:$J$5400,Deviation_CEM_CPMS!$B$24:$B$5400,B87,Deviation_CEM_CPMS!$C$24:$C$5400,C87,Deviation_CEM_CPMS!$D$24:$D$5400,D87))","v":""},"",{"$f":"IF($E87=\"\",\"\",SUMIFS(Deviation_CEM_CPMS!$J$24:$J$5400,Deviation_CEM_CPMS!$B$24:$B$5400,B87,Deviation_CEM_CPMS!$C$24:$C$5400,C87,Deviation_CEM_CPMS!$D$24:$D$5400,D87,Deviation_CEM_CPMS!$K$24:$K$5400,\"Monitoring Equipment Malfunctions\"))","v":""},{"$f":"IF($E87=\"\",\"\",SUMIFS(Deviation_CEM_CPMS!$J$24:$J$5400,Deviation_CEM_CPMS!$B$24:$B$5400,B87,Deviation_CEM_CPMS!$C$24:$C$5400,C87,Deviation_CEM_CPMS!$D$24:$D$5400,D87,Deviation_CEM_CPMS!$K$24:$K$5400,\"Nonmonitoring Equipment Malfunctions\"))","v":""},{"$f":"IF($E87=\"\",\"\",SUMIFS(Deviation_CEM_CPMS!$J$24:$J$5400,Deviation_CEM_CPMS!$B$24:$B$5400,B87,Deviation_CEM_CPMS!$C$24:$C$5400,C87,Deviation_CEM_CPMS!$D$24:$D$5400,D87,Deviation_CEM_CPMS!$K$24:$K$5400,\"Quality Assurance/Quality Control Calibrations\"))","v":""},{"$f":"IF($E87=\"\",\"\",SUMIFS(Deviation_CEM_CPMS!$J$24:$J$5400,Deviation_CEM_CPMS!$B$24:$B$5400,B87,Deviation_CEM_CPMS!$C$24:$C$5400,C87,Deviation_CEM_CPMS!$D$24:$D$5400,D87,Deviation_CEM_CPMS!$K$24:$K$5400,\"Other Known Causes\"))","v":""},{"$f":"IF($E87=\"\",\"\",SUMIFS(Deviation_CEM_CPMS!$J$24:$J$5400,Deviation_CEM_CPMS!$B$24:$B$5400,B87,Deviation_CEM_CPMS!$C$24:$C$5400,C87,Deviation_CEM_CPMS!$D$24:$D$5400,D87,Deviation_CEM_CPMS!$K$24:$K$5400,\"Other Unknown Causes\"))","v":""}]
[null,{"$f":"IF(Lists!BE66=\"\",\"\",Lists!BE66)","v":""},{"$f":"IF(Lists!BF66=\"\",\"\",Lists!BF66)","v":""},{"$f":"IF(Lists!BG66=\"\",\"\",Lists!BG66)","v":""},null,{"$f":"IF($E88=\"\",\"\",SUMIFS(Deviation_CEM_CPMS!$J$24:$J$5400,Deviation_CEM_CPMS!$B$24:$B$5400,B88,Deviation_CEM_CPMS!$C$24:$C$5400,C88,Deviation_CEM_CPMS!$D$24:$D$5400,D88))","v":""},"",{"$f":"IF($E88=\"\",\"\",SUMIFS(Deviation_CEM_CPMS!$J$24:$J$5400,Deviation_CEM_CPMS!$B$24:$B$5400,B88,Deviation_CEM_CPMS!$C$24:$C$5400,C88,Deviation_CEM_CPMS!$D$24:$D$5400,D88,Deviation_CEM_CPMS!$K$24:$K$5400,\"Monitoring Equipment Malfunctions\"))","v":""},{"$f":"IF($E88=\"\",\"\",SUMIFS(Deviation_CEM_CPMS!$J$24:$J$5400,Deviation_CEM_CPMS!$B$24:$B$5400,B88,Deviation_CEM_CPMS!$C$24:$C$5400,C88,Deviation_CEM_CPMS!$D$24:$D$5400,D88,Deviation_CEM_CPMS!$K$24:$K$5400,\"Nonmonitoring Equipment Malfunctions\"))","v":""},{"$f":"IF($E88=\"\",\"\",SUMIFS(Deviation_CEM_CPMS!$J$24:$J$5400,Deviation_CEM_CPMS!$B$24:$B$5400,B88,Deviation_CEM_CPMS!$C$24:$C$5400,C88,Deviation_CEM_CPMS!$D$24:$D$5400,D88,Deviation_CEM_CPMS!$K$24:$K$5400,\"Quality Assurance/Quality Control Calibrations\"))","v":""},{"$f":"IF($E88=\"\",\"\",SUMIFS(Deviation_CEM_CPMS!$J$24:$J$5400,Deviation_CEM_CPMS!$B$24:$B$5400,B88,Deviation_CEM_CPMS!$C$24:$C$5400,C88,Deviation_CEM_CPMS!$D$24:$D$5400,D88,Deviation_CEM_CPMS!$K$24:$K$5400,\"Other Known Causes\"))","v":""},{"$f":"IF($E88=\"\",\"\",SUMIFS(Deviation_CEM_CPMS!$J$24:$J$5400,Deviation_CEM_CPMS!$B$24:$B$5400,B88,Deviation_CEM_CPMS!$C$24:$C$5400,C88,Deviation_CEM_CPMS!$D$24:$D$5400,D88,Deviation_CEM_CPMS!$K$24:$K$5400,\"Other Unknown Causes\"))","v":""}]
[null,{"$f":"IF(Lists!BE67=\"\",\"\",Lists!BE67)","v":""},{"$f":"IF(Lists!BF67=\"\",\"\",Lists!BF67)","v":""},{"$f":"IF(Lists!BG67=\"\",\"\",Lists!BG67)","v":""},null,{"$f":"IF($E89=\"\",\"\",SUMIFS(Deviation_CEM_CPMS!$J$24:$J$5400,Deviation_CEM_CPMS!$B$24:$B$5400,B89,Deviation_CEM_CPMS!$C$24:$C$5400,C89,Deviation_CEM_CPMS!$D$24:$D$5400,D89))","v":""},{"$f":"IF($E89=\"\",\"\",IF(F89=0,\"N/A\",F89/$E89))","v":""},{"$f":"IF($E89=\"\",\"\",SUMIFS(Deviation_CEM_CPMS!$J$24:$J$5400,Deviation_CEM_CPMS!$B$24:$B$5400,B89,Deviation_CEM_CPMS!$C$24:$C$5400,C89,Deviation_CEM_CPMS!$D$24:$D$5400,D89,Deviation_CEM_CPMS!$K$24:$K$5400,\"Monitoring Equipment Malfunctions\"))","v":""},{"$f":"IF($E89=\"\",\"\",SUMIFS(Deviation_CEM_CPMS!$J$24:$J$5400,Deviation_CEM_CPMS!$B$24:$B$5400,B89,Deviation_CEM_CPMS!$C$24:$C$5400,C89,Deviation_CEM_CPMS!$D$24:$D$5400,D89,Deviation_CEM_CPMS!$K$24:$K$5400,\"Nonmonitoring Equipment Malfunctions\"))","v":""},{"$f":"IF($E89=\"\",\"\",SUMIFS(Deviation_CEM_CPMS!$J$24:$J$5400,Deviation_CEM_CPMS!$B$24:$B$5400,B89,Deviation_CEM_CPMS!$C$24:$C$5400,C89,Deviation_CEM_CPMS!$D$24:$D$5400,D89,Deviation_CEM_CPMS!$K$24:$K$5400,\"Quality Assurance/Quality Control Calibrations\"))","v":""},{"$f":"IF($E89=\"\",\"\",SUMIFS(Deviation_CEM_CPMS!$J$24:$J$5400,Deviation_CEM_CPMS!$B$24:$B$5400,B89,Deviation_CEM_CPMS!$C$24:$C$5400,C89,Deviation_CEM_CPMS!$D$24:$D$5400,D89,Deviation_CEM_CPMS!$K$24:$K$5400,\"Other Known Causes\"))","v":""},{"$f":"IF($E89=\"\",\"\",SUMIFS(Deviation_CEM_CPMS!$J$24:$J$5400,Deviation_CEM_CPMS!$B$24:$B$5400,B89,Deviation_CEM_CPMS!$C$24:$C$5400,C89,Deviation_CEM_CPMS!$D$24:$D$5400,D89,Deviation_CEM_CPMS!$K$24:$K$5400,\"Other Unknown Causes\"))","v":""}]
[null,{"$f":"IF(Lists!BE68=\"\",\"\",Lists!BE68)","v":""},{"$f":"IF(Lists!BF68=\"\",\"\",Lists!BF68)","v":""},{"$f":"IF(Lists!BG68=\"\",\"\",Lists!BG68)","v":""},null,{"$f":"IF($E90=\"\",\"\",SUMIFS(Deviation_CEM_CPMS!$J$24:$J$5400,Deviation_CEM_CPMS!$B$24:$B$5400,B90,Deviation_CEM_CPMS!$C$24:$C$5400,C90,Deviation_CEM_CPMS!$D$24:$D$5400,D90))","v":""},"",{"$f":"IF($E90=\"\",\"\",SUMIFS(Deviation_CEM_CPMS!$J$24:$J$5400,Deviation_CEM_CPMS!$B$24:$B$5400,B90,Deviation_CEM_CPMS!$C$24:$C$5400,C90,Deviation_CEM_CPMS!$D$24:$D$5400,D90,Deviation_CEM_CPMS!$K$24:$K$5400,\"Monitoring Equipment Malfunctions\"))","v":""},{"$f":"IF($E90=\"\",\"\",SUMIFS(Deviation_CEM_CPMS!$J$24:$J$5400,Deviation_CEM_CPMS!$B$24:$B$5400,B90,Deviation_CEM_CPMS!$C$24:$C$5400,C90,Deviation_CEM_CPMS!$D$24:$D$5400,D90,Deviation_CEM_CPMS!$K$24:$K$5400,\"Nonmonitoring Equipment Malfunctions\"))","v":""},{"$f":"IF($E90=\"\",\"\",SUMIFS(Deviation_CEM_CPMS!$J$24:$J$5400,Deviation_CEM_CPMS!$B$24:$B$5400,B90,Deviation_CEM_CPMS!$C$24:$C$5400,C90,Deviation_CEM_CPMS!$D$24:$D$5400,D90,Deviation_CEM_CPMS!$K$24:$K$5400,\"Quality Assurance/Quality Control Calibrations\"))","v":""},{"$f":"IF($E90=\"\",\"\",SUMIFS(Deviation_CEM_CPMS!$J$24:$J$5400,Deviation_CEM_CPMS!$B$24:$B$5400,B90,Deviation_CEM_CPMS!$C$24:$C$5400,C90,Deviation_CEM_CPMS!$D$24:$D$5400,D90,Deviation_CEM_CPMS!$K$24:$K$5400,\"Other Known Causes\"))","v":""},{"$f":"IF($E90=\"\",\"\",SUMIFS(Deviation_CEM_CPMS!$J$24:$J$5400,Deviation_CEM_CPMS!$B$24:$B$5400,B90,Deviation_CEM_CPMS!$C$24:$C$5400,C90,Deviation_CEM_CPMS!$D$24:$D$5400,D90,Deviation_CEM_CPMS!$K$24:$K$5400,\"Other Unknown Causes\"))","v":""}]
[null,{"$f":"IF(Lists!BE69=\"\",\"\",Lists!BE69)","v":""},{"$f":"IF(Lists!BF69=\"\",\"\",Lists!BF69)","v":""},{"$f":"IF(Lists!BG69=\"\",\"\",Lists!BG69)","v":""},null,{"$f":"IF($E91=\"\",\"\",SUMIFS(Deviation_CEM_CPMS!$J$24:$J$5400,Deviation_CEM_CPMS!$B$24:$B$5400,B91,Deviation_CEM_CPMS!$C$24:$C$5400,C91,Deviation_CEM_CPMS!$D$24:$D$5400,D91))","v":""},"",{"$f":"IF($E91=\"\",\"\",SUMIFS(Deviation_CEM_CPMS!$J$24:$J$5400,Deviation_CEM_CPMS!$B$24:$B$5400,B91,Deviation_CEM_CPMS!$C$24:$C$5400,C91,Deviation_CEM_CPMS!$D$24:$D$5400,D91,Deviation_CEM_CPMS!$K$24:$K$5400,\"Monitoring Equipment Malfunctions\"))","v":""},{"$f":"IF($E91=\"\",\"\",SUMIFS(Deviation_CEM_CPMS!$J$24:$J$5400,Deviation_CEM_CPMS!$B$24:$B$5400,B91,Deviation_CEM_CPMS!$C$24:$C$5400,C91,Deviation_CEM_CPMS!$D$24:$D$5400,D91,Deviation_CEM_CPMS!$K$24:$K$5400,\"Nonmonitoring Equipment Malfunctions\"))","v":""},{"$f":"IF($E91=\"\",\"\",SUMIFS(Deviation_CEM_CPMS!$J$24:$J$5400,Deviation_CEM_CPMS!$B$24:$B$5400,B91,Deviation_CEM_CPMS!$C$24:$C$5400,C91,Deviation_CEM_CPMS!$D$24:$D$5400,D91,Deviation_CEM_CPMS!$K$24:$K$5400,\"Quality Assurance/Quality Control Calibrations\"))","v":""},{"$f":"IF($E91=\"\",\"\",SUMIFS(Deviation_CEM_CPMS!$J$24:$J$5400,Deviation_CEM_CPMS!$B$24:$B$5400,B91,Deviation_CEM_CPMS!$C$24:$C$5400,C91,Deviation_CEM_CPMS!$D$24:$D$5400,D91,Deviation_CEM_CPMS!$K$24:$K$5400,\"Other Known Causes\"))","v":""},{"$f":"IF($E91=\"\",\"\",SUMIFS(Deviation_CEM_CPMS!$J$24:$J$5400,Deviation_CEM_CPMS!$B$24:$B$5400,B91,Deviation_CEM_CPMS!$C$24:$C$5400,C91,Deviation_CEM_CPMS!$D$24:$D$5400,D91,Deviation_CEM_CPMS!$K$24:$K$5400,\"Other Unknown Causes\"))","v":""}]
[null,{"$f":"IF(Lists!BE70=\"\",\"\",Lists!BE70)","v":""},{"$f":"IF(Lists!BF70=\"\",\"\",Lists!BF70)","v":""},{"$f":"IF(Lists!BG70=\"\",\"\",Lists!BG70)","v":""},null,{"$f":"IF($E92=\"\",\"\",SUMIFS(Deviation_CEM_CPMS!$J$24:$J$5400,Deviation_CEM_CPMS!$B$24:$B$5400,B92,Deviation_CEM_CPMS!$C$24:$C$5400,C92,Deviation_CEM_CPMS!$D$24:$D$5400,D92))","v":""},"",{"$f":"IF($E92=\"\",\"\",SUMIFS(Deviation_CEM_CPMS!$J$24:$J$5400,Deviation_CEM_CPMS!$B$24:$B$5400,B92,Deviation_CEM_CPMS!$C$24:$C$5400,C92,Deviation_CEM_CPMS!$D$24:$D$5400,D92,Deviation_CEM_CPMS!$K$24:$K$5400,\"Monitoring Equipment Malfunctions\"))","v":""},{"$f":"IF($E92=\"\",\"\",SUMIFS(Deviation_CEM_CPMS!$J$24:$J$5400,Deviation_CEM_CPMS!$B$24:$B$5400,B92,Deviation_CEM_CPMS!$C$24:$C$5400,C92,Deviation_CEM_CPMS!$D$24:$D$5400,D92,Deviation_CEM_CPMS!$K$24:$K$5400,\"Nonmonitoring Equipment Malfunctions\"))","v":""},{"$f":"IF($E92=\"\",\"\",SUMIFS(Deviation_CEM_CPMS!$J$24:$J$5400,Deviation_CEM_CPMS!$B$24:$B$5400,B92,Deviation_CEM_CPMS!$C$24:$C$5400,C92,Deviation_CEM_CPMS!$D$24:$D$5400,D92,Deviation_CEM_CPMS!$K$24:$K$5400,\"Quality Assurance/Quality Control Calibrations\"))","v":""},{"$f":"IF($E92=\"\",\"\",SUMIFS(Deviation_CEM_CPMS!$J$24:$J$5400,Deviation_CEM_CPMS!$B$24:$B$5400,B92,Deviation_CEM_CPMS!$C$24:$C$5400,C92,Deviation_CEM_CPMS!$D$24:$D$5400,D92,Deviation_CEM_CPMS!$K$24:$K$5400,\"Other Known Causes\"))","v":""},{"$f":"IF($E92=\"\",\"\",SUMIFS(Deviation_CEM_CPMS!$J$24:$J$5400,Deviation_CEM_CPMS!$B$24:$B$5400,B92,Deviation_CEM_CPMS!$C$24:$C$5400,C92,Deviation_CEM_CPMS!$D$24:$D$5400,D92,Deviation_CEM_CPMS!$K$24:$K$5400,\"Other Unknown Causes\"))","v":""}]
[null,{"$f":"IF(Lists!BE71=\"\",\"\",Lists!BE71)","v":""},{"$f":"IF(Lists!BF71=\"\",\"\",Lists!BF71)","v":""},{"$f":"IF(Lists!BG71=\"\",\"\",Lists!BG71)","v":""},null,{"$f":"IF($E93=\"\",\"\",SUMIFS(Deviation_CEM_CPMS!$J$24:$J$5400,Deviation_CEM_CPMS!$B$24:$B$5400,B93,Deviation_CEM_CPMS!$C$24:$C$5400,C93,Deviation_CEM_CPMS!$D$24:$D$5400,D93))","v":""},"",{"$f":"IF($E93=\"\",\"\",SUMIFS(Deviation_CEM_CPMS!$J$24:$J$5400,Deviation_CEM_CPMS!$B$24:$B$5400,B93,Deviation_CEM_CPMS!$C$24:$C$5400,C93,Deviation_CEM_CPMS!$D$24:$D$5400,D93,Deviation_CEM_CPMS!$K$24:$K$5400,\"Monitoring Equipment Malfunctions\"))","v":""},{"$f":"IF($E93=\"\",\"\",SUMIFS(Deviation_CEM_CPMS!$J$24:$J$5400,Deviation_CEM_CPMS!$B$24:$B$5400,B93,Deviation_CEM_CPMS!$C$24:$C$5400,C93,Deviation_CEM_CPMS!$D$24:$D$5400,D93,Deviation_CEM_CPMS!$K$24:$K$5400,\"Nonmonitoring Equipment Malfunctions\"))","v":""},{"$f":"IF($E93=\"\",\"\",SUMIFS(Deviation_CEM_CPMS!$J$24:$J$5400,Deviation_CEM_CPMS!$B$24:$B$5400,B93,Deviation_CEM_CPMS!$C$24:$C$5400,C93,Deviation_CEM_CPMS!$D$24:$D$5400,D93,Deviation_CEM_CPMS!$K$24:$K$5400,\"Quality Assurance/Quality Control Calibrations\"))","v":""},{"$f":"IF($E93=\"\",\"\",SUMIFS(Deviation_CEM_CPMS!$J$24:$J$5400,Deviation_CEM_CPMS!$B$24:$B$5400,B93,Deviation_CEM_CPMS!$C$24:$C$5400,C93,Deviation_CEM_CPMS!$D$24:$D$5400,D93,Deviation_CEM_CPMS!$K$24:$K$5400,\"Other Known Causes\"))","v":""},{"$f":"IF($E93=\"\",\"\",SUMIFS(Deviation_CEM_CPMS!$J$24:$J$5400,Deviation_CEM_CPMS!$B$24:$B$5400,B93,Deviation_CEM_CPMS!$C$24:$C$5400,C93,Deviation_CEM_CPMS!$D$24:$D$5400,D93,Deviation_CEM_CPMS!$K$24:$K$5400,\"Other Unknown Causes\"))","v":""}]
[null,{"$f":"IF(Lists!BE72=\"\",\"\",Lists!BE72)","v":""},{"$f":"IF(Lists!BF72=\"\",\"\",Lists!BF72)","v":""},{"$f":"IF(Lists!BG72=\"\",\"\",Lists!BG72)","v":""},null,{"$f":"IF($E94=\"\",\"\",SUMIFS(Deviation_CEM_CPMS!$J$24:$J$5400,Deviation_CEM_CPMS!$B$24:$B$5400,B94,Deviation_CEM_CPMS!$C$24:$C$5400,C94,Deviation_CEM_CPMS!$D$24:$D$5400,D94))","v":""},"",{"$f":"IF($E94=\"\",\"\",SUMIFS(Deviation_CEM_CPMS!$J$24:$J$5400,Deviation_CEM_CPMS!$B$24:$B$5400,B94,Deviation_CEM_CPMS!$C$24:$C$5400,C94,Deviation_CEM_CPMS!$D$24:$D$5400,D94,Deviation_CEM_CPMS!$K$24:$K$5400,\"Monitoring Equipment Malfunctions\"))","v":""},{"$f":"IF($E94=\"\",\"\",SUMIFS(Deviation_CEM_CPMS!$J$24:$J$5400,Deviation_CEM_CPMS!$B$24:$B$5400,B94,Deviation_CEM_CPMS!$C$24:$C$5400,C94,Deviation_CEM_CPMS!$D$24:$D$5400,D94,Deviation_CEM_CPMS!$K$24:$K$5400,\"Nonmonitoring Equipment Malfunctions\"))","v":""},{"$f":"IF($E94=\"\",\"\",SUMIFS(Deviation_CEM_CPMS!$J$24:$J$5400,Deviation_CEM_CPMS!$B$24:$B$5400,B94,Deviation_CEM_CPMS!$C$24:$C$5400,C94,Deviation_CEM_CPMS!$D$24:$D$5400,D94,Deviation_CEM_CPMS!$K$24:$K$5400,\"Quality Assurance/Quality Control Calibrations\"))","v":""},{"$f":"IF($E94=\"\",\"\",SUMIFS(Deviation_CEM_CPMS!$J$24:$J$5400,Deviation_CEM_CPMS!$B$24:$B$5400,B94,Deviation_CEM_CPMS!$C$24:$C$5400,C94,Deviation_CEM_CPMS!$D$24:$D$5400,D94,Deviation_CEM_CPMS!$K$24:$K$5400,\"Other Known Causes\"))","v":""},{"$f":"IF($E94=\"\",\"\",SUMIFS(Deviation_CEM_CPMS!$J$24:$J$5400,Deviation_CEM_CPMS!$B$24:$B$5400,B94,Deviation_CEM_CPMS!$C$24:$C$5400,C94,Deviation_CEM_CPMS!$D$24:$D$5400,D94,Deviation_CEM_CPMS!$K$24:$K$5400,\"Other Unknown Causes\"))","v":""}]
[null,{"$f":"IF(Lists!BE73=\"\",\"\",Lists!BE73)","v":""},{"$f":"IF(Lists!BF73=\"\",\"\",Lists!BF73)","v":""},{"$f":"IF(Lists!BG73=\"\",\"\",Lists!BG73)","v":""},null,{"$f":"IF($E95=\"\",\"\",SUMIFS(Deviation_CEM_CPMS!$J$24:$J$5400,Deviation_CEM_CPMS!$B$24:$B$5400,B95,Deviation_CEM_CPMS!$C$24:$C$5400,C95,Deviation_CEM_CPMS!$D$24:$D$5400,D95))","v":""},"",{"$f":"IF($E95=\"\",\"\",SUMIFS(Deviation_CEM_CPMS!$J$24:$J$5400,Deviation_CEM_CPMS!$B$24:$B$5400,B95,Deviation_CEM_CPMS!$C$24:$C$5400,C95,Deviation_CEM_CPMS!$D$24:$D$5400,D95,Deviation_CEM_CPMS!$K$24:$K$5400,\"Monitoring Equipment Malfunctions\"))","v":""},{"$f":"IF($E95=\"\",\"\",SUMIFS(Deviation_CEM_CPMS!$J$24:$J$5400,Deviation_CEM_CPMS!$B$24:$B$5400,B95,Deviation_CEM_CPMS!$C$24:$C$5400,C95,Deviation_CEM_CPMS!$D$24:$D$5400,D95,Deviation_CEM_CPMS!$K$24:$K$5400,\"Nonmonitoring Equipment Malfunctions\"))","v":""},{"$f":"IF($E95=\"\",\"\",SUMIFS(Deviation_CEM_CPMS!$J$24:$J$5400,Deviation_CEM_CPMS!$B$24:$B$5400,B95,Deviation_CEM_CPMS!$C$24:$C$5400,C95,Deviation_CEM_CPMS!$D$24:$D$5400,D95,Deviation_CEM_CPMS!$K$24:$K$5400,\"Quality Assurance/Quality Control Calibrations\"))","v":""},{"$f":"IF($E95=\"\",\"\",SUMIFS(Deviation_CEM_CPMS!$J$24:$J$5400,Deviation_CEM_CPMS!$B$24:$B$5400,B95,Deviation_CEM_CPMS!$C$24:$C$5400,C95,Deviation_CEM_CPMS!$D$24:$D$5400,D95,Deviation_CEM_CPMS!$K$24:$K$5400,\"Other Known Causes\"))","v":""},{"$f":"IF($E95=\"\",\"\",SUMIFS(Deviation_CEM_CPMS!$J$24:$J$5400,Deviation_CEM_CPMS!$B$24:$B$5400,B95,Deviation_CEM_CPMS!$C$24:$C$5400,C95,Deviation_CEM_CPMS!$D$24:$D$5400,D95,Deviation_CEM_CPMS!$K$24:$K$5400,\"Other Unknown Causes\"))","v":""}]
[null,{"$f":"IF(Lists!BE74=\"\",\"\",Lists!BE74)","v":""},{"$f":"IF(Lists!BF74=\"\",\"\",Lists!BF74)","v":""},{"$f":"IF(Lists!BG74=\"\",\"\",Lists!BG74)","v":""},null,{"$f":"IF($E96=\"\",\"\",SUMIFS(Deviation_CEM_CPMS!$J$24:$J$5400,Deviation_CEM_CPMS!$B$24:$B$5400,B96,Deviation_CEM_CPMS!$C$24:$C$5400,C96,Deviation_CEM_CPMS!$D$24:$D$5400,D96))","v":""},"",{"$f":"IF($E96=\"\",\"\",SUMIFS(Deviation_CEM_CPMS!$J$24:$J$5400,Deviation_CEM_CPMS!$B$24:$B$5400,B96,Deviation_CEM_CPMS!$C$24:$C$5400,C96,Deviation_CEM_CPMS!$D$24:$D$5400,D96,Deviation_CEM_CPMS!$K$24:$K$5400,\"Monitoring Equipment Malfunctions\"))","v":""},{"$f":"IF($E96=\"\",\"\",SUMIFS(Deviation_CEM_CPMS!$J$24:$J$5400,Deviation_CEM_CPMS!$B$24:$B$5400,B96,Deviation_CEM_CPMS!$C$24:$C$5400,C96,Deviation_CEM_CPMS!$D$24:$D$5400,D96,Deviation_CEM_CPMS!$K$24:$K$5400,\"Nonmonitoring Equipment Malfunctions\"))","v":""},{"$f":"IF($E96=\"\",\"\",SUMIFS(Deviation_CEM_CPMS!$J$24:$J$5400,Deviation_CEM_CPMS!$B$24:$B$5400,B96,Deviation_CEM_CPMS!$C$24:$C$5400,C96,Deviation_CEM_CPMS!$D$24:$D$5400,D96,Deviation_CEM_CPMS!$K$24:$K$5400,\"Quality Assurance/Quality Control Calibrations\"))","v":""},{"$f":"IF($E96=\"\",\"\",SUMIFS(Deviation_CEM_CPMS!$J$24:$J$5400,Deviation_CEM_CPMS!$B$24:$B$5400,B96,Deviation_CEM_CPMS!$C$24:$C$5400,C96,Deviation_CEM_CPMS!$D$24:$D$5400,D96,Deviation_CEM_CPMS!$K$24:$K$5400,\"Other Known Causes\"))","v":""},{"$f":"IF($E96=\"\",\"\",SUMIFS(Deviation_CEM_CPMS!$J$24:$J$5400,Deviation_CEM_CPMS!$B$24:$B$5400,B96,Deviation_CEM_CPMS!$C$24:$C$5400,C96,Deviation_CEM_CPMS!$D$24:$D$5400,D96,Deviation_CEM_CPMS!$K$24:$K$5400,\"Other Unknown Causes\"))","v":""}]
[null,{"$f":"IF(Lists!BE75=\"\",\"\",Lists!BE75)","v":""},{"$f":"IF(Lists!BF75=\"\",\"\",Lists!BF75)","v":""},{"$f":"IF(Lists!BG75=\"\",\"\",Lists!BG75)","v":""},null,{"$f":"IF($E97=\"\",\"\",SUMIFS(Deviation_CEM_CPMS!$J$24:$J$5400,Deviation_CEM_CPMS!$B$24:$B$5400,B97,Deviation_CEM_CPMS!$C$24:$C$5400,C97,Deviation_CEM_CPMS!$D$24:$D$5400,D97))","v":""},"",{"$f":"IF($E97=\"\",\"\",SUMIFS(Deviation_CEM_CPMS!$J$24:$J$5400,Deviation_CEM_CPMS!$B$24:$B$5400,B97,Deviation_CEM_CPMS!$C$24:$C$5400,C97,Deviation_CEM_CPMS!$D$24:$D$5400,D97,Deviation_CEM_CPMS!$K$24:$K$5400,\"Monitoring Equipment Malfunctions\"))","v":""},{"$f":"IF($E97=\"\",\"\",SUMIFS(Deviation_CEM_CPMS!$J$24:$J$5400,Deviation_CEM_CPMS!$B$24:$B$5400,B97,Deviation_CEM_CPMS!$C$24:$C$5400,C97,Deviation_CEM_CPMS!$D$24:$D$5400,D97,Deviation_CEM_CPMS!$K$24:$K$5400,\"Nonmonitoring Equipment Malfunctions\"))","v":""},{"$f":"IF($E97=\"\",\"\",SUMIFS(Deviation_CEM_CPMS!$J$24:$J$5400,Deviation_CEM_CPMS!$B$24:$B$5400,B97,Deviation_CEM_CPMS!$C$24:$C$5400,C97,Deviation_CEM_CPMS!$D$24:$D$5400,D97,Deviation_CEM_CPMS!$K$24:$K$5400,\"Quality Assurance/Quality Control Calibrations\"))","v":""},{"$f":"IF($E97=\"\",\"\",SUMIFS(Deviation_CEM_CPMS!$J$24:$J$5400,Deviation_CEM_CPMS!$B$24:$B$5400,B97,Deviation_CEM_CPMS!$C$24:$C$5400,C97,Deviation_CEM_CPMS!$D$24:$D$5400,D97,Deviation_CEM_CPMS!$K$24:$K$5400,\"Other Known Causes\"))","v":""},{"$f":"IF($E97=\"\",\"\",SUMIFS(Deviation_CEM_CPMS!$J$24:$J$5400,Deviation_CEM_CPMS!$B$24:$B$5400,B97,Deviation_CEM_CPMS!$C$24:$C$5400,C97,Deviation_CEM_CPMS!$D$24:$D$5400,D97,Deviation_CEM_CPMS!$K$24:$K$5400,\"Other Unknown Causes\"))","v":""}]
[null,{"$f":"IF(Lists!BE76=\"\",\"\",Lists!BE76)","v":""},{"$f":"IF(Lists!BF76=\"\",\"\",Lists!BF76)","v":""},{"$f":"IF(Lists!BG76=\"\",\"\",Lists!BG76)","v":""},null,{"$f":"IF($E98=\"\",\"\",SUMIFS(Deviation_CEM_CPMS!$J$24:$J$5400,Deviation_CEM_CPMS!$B$24:$B$5400,B98,Deviation_CEM_CPMS!$C$24:$C$5400,C98,Deviation_CEM_CPMS!$D$24:$D$5400,D98))","v":""},"",{"$f":"IF($E98=\"\",\"\",SUMIFS(Deviation_CEM_CPMS!$J$24:$J$5400,Deviation_CEM_CPMS!$B$24:$B$5400,B98,Deviation_CEM_CPMS!$C$24:$C$5400,C98,Deviation_CEM_CPMS!$D$24:$D$5400,D98,Deviation_CEM_CPMS!$K$24:$K$5400,\"Monitoring Equipment Malfunctions\"))","v":""},{"$f":"IF($E98=\"\",\"\",SUMIFS(Deviation_CEM_CPMS!$J$24:$J$5400,Deviation_CEM_CPMS!$B$24:$B$5400,B98,Deviation_CEM_CPMS!$C$24:$C$5400,C98,Deviation_CEM_CPMS!$D$24:$D$5400,D98,Deviation_CEM_CPMS!$K$24:$K$5400,\"Nonmonitoring Equipment Malfunctions\"))","v":""},{"$f":"IF($E98=\"\",\"\",SUMIFS(Deviation_CEM_CPMS!$J$24:$J$5400,Deviation_CEM_CPMS!$B$24:$B$5400,B98,Deviation_CEM_CPMS!$C$24:$C$5400,C98,Deviation_CEM_CPMS!$D$24:$D$5400,D98,Deviation_CEM_CPMS!$K$24:$K$5400,\"Quality Assurance/Quality Control Calibrations\"))","v":""},{"$f":"IF($E98=\"\",\"\",SUMIFS(Deviation_CEM_CPMS!$J$24:$J$5400,Deviation_CEM_CPMS!$B$24:$B$5400,B98,Deviation_CEM_CPMS!$C$24:$C$5400,C98,Deviation_CEM_CPMS!$D$24:$D$5400,D98,Deviation_CEM_CPMS!$K$24:$K$5400,\"Other Known Causes\"))","v":""},{"$f":"IF($E98=\"\",\"\",SUMIFS(Deviation_CEM_CPMS!$J$24:$J$5400,Deviation_CEM_CPMS!$B$24:$B$5400,B98,Deviation_CEM_CPMS!$C$24:$C$5400,C98,Deviation_CEM_CPMS!$D$24:$D$5400,D98,Deviation_CEM_CPMS!$K$24:$K$5400,\"Other Unknown Causes\"))","v":""}]
[null,{"$f":"IF(Lists!BE77=\"\",\"\",Lists!BE77)","v":""},{"$f":"IF(Lists!BF77=\"\",\"\",Lists!BF77)","v":""},{"$f":"IF(Lists!BG77=\"\",\"\",Lists!BG77)","v":""},null,{"$f":"IF($E99=\"\",\"\",SUMIFS(Deviation_CEM_CPMS!$J$24:$J$5400,Deviation_CEM_CPMS!$B$24:$B$5400,B99,Deviation_CEM_CPMS!$C$24:$C$5400,C99,Deviation_CEM_CPMS!$D$24:$D$5400,D99))","v":""},"",{"$f":"IF($E99=\"\",\"\",SUMIFS(Deviation_CEM_CPMS!$J$24:$J$5400,Deviation_CEM_CPMS!$B$24:$B$5400,B99,Deviation_CEM_CPMS!$C$24:$C$5400,C99,Deviation_CEM_CPMS!$D$24:$D$5400,D99,Deviation_CEM_CPMS!$K$24:$K$5400,\"Monitoring Equipment Malfunctions\"))","v":""},{"$f":"IF($E99=\"\",\"\",SUMIFS(Deviation_CEM_CPMS!$J$24:$J$5400,Deviation_CEM_CPMS!$B$24:$B$5400,B99,Deviation_CEM_CPMS!$C$24:$C$5400,C99,Deviation_CEM_CPMS!$D$24:$D$5400,D99,Deviation_CEM_CPMS!$K$24:$K$5400,\"Nonmonitoring Equipment Malfunctions\"))","v":""},{"$f":"IF($E99=\"\",\"\",SUMIFS(Deviation_CEM_CPMS!$J$24:$J$5400,Deviation_CEM_CPMS!$B$24:$B$5400,B99,Deviation_CEM_CPMS!$C$24:$C$5400,C99,Deviation_CEM_CPMS!$D$24:$D$5400,D99,Deviation_CEM_CPMS!$K$24:$K$5400,\"Quality Assurance/Quality Control Calibrations\"))","v":""},{"$f":"IF($E99=\"\",\"\",SUMIFS(Deviation_CEM_CPMS!$J$24:$J$5400,Deviation_CEM_CPMS!$B$24:$B$5400,B99,Deviation_CEM_CPMS!$C$24:$C$5400,C99,Deviation_CEM_CPMS!$D$24:$D$5400,D99,Deviation_CEM_CPMS!$K$24:$K$5400,\"Other Known Causes\"))","v":""},{"$f":"IF($E99=\"\",\"\",SUMIFS(Deviation_CEM_CPMS!$J$24:$J$5400,Deviation_CEM_CPMS!$B$24:$B$5400,B99,Deviation_CEM_CPMS!$C$24:$C$5400,C99,Deviation_CEM_CPMS!$D$24:$D$5400,D99,Deviation_CEM_CPMS!$K$24:$K$5400,\"Other Unknown Causes\"))","v":""}]
[null,{"$f":"IF(Lists!BE78=\"\",\"\",Lists!BE78)","v":""},{"$f":"IF(Lists!BF78=\"\",\"\",Lists!BF78)","v":""},{"$f":"IF(Lists!BG78=\"\",\"\",Lists!BG78)","v":""},null,{"$f":"IF($E100=\"\",\"\",SUMIFS(Deviation_CEM_CPMS!$J$24:$J$5400,Deviation_CEM_CPMS!$B$24:$B$5400,B100,Deviation_CEM_CPMS!$C$24:$C$5400,C100,Deviation_CEM_CPMS!$D$24:$D$5400,D100))","v":""},"",{"$f":"IF($E100=\"\",\"\",SUMIFS(Deviation_CEM_CPMS!$J$24:$J$5400,Deviation_CEM_CPMS!$B$24:$B$5400,B100,Deviation_CEM_CPMS!$C$24:$C$5400,C100,Deviation_CEM_CPMS!$D$24:$D$5400,D100,Deviation_CEM_CPMS!$K$24:$K$5400,\"Monitoring Equipment Malfunctions\"))","v":""},{"$f":"IF($E100=\"\",\"\",SUMIFS(Deviation_CEM_CPMS!$J$24:$J$5400,Deviation_CEM_CPMS!$B$24:$B$5400,B100,Deviation_CEM_CPMS!$C$24:$C$5400,C100,Deviation_CEM_CPMS!$D$24:$D$5400,D100,Deviation_CEM_CPMS!$K$24:$K$5400,\"Nonmonitoring Equipment Malfunctions\"))","v":""},{"$f":"IF($E100=\"\",\"\",SUMIFS(Deviation_CEM_CPMS!$J$24:$J$5400,Deviation_CEM_CPMS!$B$24:$B$5400,B100,Deviation_CEM_CPMS!$C$24:$C$5400,C100,Deviation_CEM_CPMS!$D$24:$D$5400,D100,Deviation_CEM_CPMS!$K$24:$K$5400,\"Quality Assurance/Quality Control Calibrations\"))","v":""},{"$f":"IF($E100=\"\",\"\",SUMIFS(Deviation_CEM_CPMS!$J$24:$J$5400,Deviation_CEM_CPMS!$B$24:$B$5400,B100,Deviation_CEM_CPMS!$C$24:$C$5400,C100,Deviation_CEM_CPMS!$D$24:$D$5400,D100,Deviation_CEM_CPMS!$K$24:$K$5400,\"Other Known Causes\"))","v":""},{"$f":"IF($E100=\"\",\"\",SUMIFS(Deviation_CEM_CPMS!$J$24:$J$5400,Deviation_CEM_CPMS!$B$24:$B$5400,B100,Deviation_CEM_CPMS!$C$24:$C$5400,C100,Deviation_CEM_CPMS!$D$24:$D$5400,D100,Deviation_CEM_CPMS!$K$24:$K$5400,\"Other Unknown Causes\"))","v":""}]

{"sheet":"Description_of_Changes","index":8,"n_rows":14,"n_cols":3,"rows_kept":14,"cut":false,"hidden":false,"merged":[]}
[null,"DO NOT REMOVE OR EDIT INFORMATION IN ROWS 1 THROUGH 5\nFOR INTERNAL USE ONLY"]
[null,"Template Name",{"$f":"+Welcome!B2","v":"63.6150(a), (c) and (e) Semiannual and Annual Compliance Reports (Spreadsheet Template)"}]
[null,"CitationID",{"$f":"+Welcome!B3","v":"63.6150(a), (c), and (e)"}]
[null,"Template Version",{"$f":"+Welcome!B4","v":"v3.00"}]
[null,"Last Updated Date",{"$f":"+Welcome!B5","v":44067}]
[null,{"$f":"Welcome!B6","v":"OMB No.: 2060-0540   Expiration: 11/16/2019"}]
[null,"40 CFR Part 63, Subpart YYYY National Emission Standards for Hazardous Air Pollutants for Stationary Combustion Turbines - "]
[null,"§63.6150(a)-(e) Compliance Reports Spreadsheet Template"]
[null,"CMS, Processes, or Control Changes"]
[null,"A description of any changes in the CMS, processes or controls since the last semiannual reporting period."]
[null,"* Required Field"]
[null,"Company Record No. *\n(Select from dropdown)","Description of any changes to CMS, processes, or controls which have occurred since the last reporting period \n(§63.10(e)(3)(vi))"]
[null,"RecordId","PeriodChangeDesc"]
[null,"e.g.: 1"]

{"sheet":"Number_of_Deviations","index":9,"n_rows":600,"n_cols":10,"rows_kept":600,"cut":false,"hidden":false,"merged":[]}
[null,"DO NOT REMOVE OR EDIT INFORMATION IN ROWS 1 THROUGH 5\nFOR INTERNAL USE ONLY"]
[null,"Template Name",null,{"$f":"+Welcome!B2","v":"63.6150(a), (c) and (e) Semiannual and Annual Compliance Reports (Spreadsheet Template)"}]
[null,"CitationID",null,{"$f":"+Welcome!B3","v":"63.6150(a), (c), and (e)"}]
[null,"Template Version",null,{"$f":"+Welcome!B4","v":"v3.00"}]
[null,"Last Updated Date",null,{"$f":"+Welcome!B5","v":44067}]
[null,{"$f":"Welcome!B6","v":"OMB No.: 2060-0540   Expiration: 11/16/2019"}]
[null,"40 CFR Part 63, Subpart YYYY National Emission Standards for Hazardous Air Pollutants for Stationary Combustion Turbines - "]
[null,"§63.6150(a)-(e) Compliance Reports Spreadsheet Template"]
[]
[]
[null,"* Required Field"]
[null,"Company Record No.  *\n(Autofilled)","Affected Source\n(§63.10(e)(3)(vi) and §63.6150(a)(5)(ii))*\n(Autofilled)","Number of Deviations from an Applicable Standard *\n(§63.6150(a)(5)(i))\n(Autofilled)","Number of Monitor Downtime Incidents *\n(§63.6150(a)(5)(iii))\n(Autofilled)"]
[null,"RecordId","AffectedSource","DeviationCountStandard","DeviationCountDowntime"]
[null,"e.g.: 1","e.g.: Turbine 1 ","e.g.:  0","e.g.:  0"]
[]
[]
[]
[]
[]
[]
[]
[]
[]
[null,{"$f":"+Lists!AF2","v":""},{"$f":"+Lists!AG2","v":""},{"$f":"IF(B24=\"\",\"\",COUNTIFS(Deviation_Limits!$B$24:$B$500,Number_of_Deviations!$B24,Deviation_Limits!$C$24:$C$500,Number_of_Deviations!$C24))","v":""},{"$f":"IF(B24=\"\",\"\",COUNTIFS(Deviation_CEM_CPMS!$B$24:'Deviation_CEM_CPMS'!$B$500,B24,Deviation_CEM_CPMS!$C$24:'Deviation_CEM_CPMS'!$C$500,C24))","v":""}]
[null,{"$f":"+Lists!AF3","v":""},{"$f":"+Lists!AG3","v":""},{"$f":"IF(B25=\"\",\"\",COUNTIFS(Deviation_Limits!$B$24:$B$500,Number_of_Deviations!$B25,Deviation_Limits!$C$24:$C$500,Number_of_Deviations!$C25))","v":""},{"$f":"IF(B25=\"\",\"\",COUNTIFS(Deviation_CEM_CPMS!$B$24:'Deviation_CEM_CPMS'!$B$500,B25,Deviation_CEM_CPMS!$C$24:'Deviation_CEM_CPMS'!$C$500,C25))","v":""}]
[null,{"$f":"+Lists!AF4","v":""},{"$f":"+Lists!AG4","v":""},{"$f":"IF(B26=\"\",\"\",COUNTIFS(Deviation_Limits!$B$24:$B$500,Number_of_Deviations!$B26,Deviation_Limits!$C$24:$C$500,Number_of_Deviations!$C26))","v":""},{"$f":"IF(B26=\"\",\"\",COUNTIFS(Deviation_CEM_CPMS!$B$24:'Deviation_CEM_CPMS'!$B$500,B26,Deviation_CEM_CPMS!$C$24:'Deviation_CEM_CPMS'!$C$500,C26))","v":""}]
[null,{"$f":"+Lists!AF5","v":""},{"$f":"+Lists!AG5","v":""},{"$f":"IF(B27=\"\",\"\",COUNTIFS(Deviation_Limits!$B$24:$B$500,Number_of_Deviations!$B27,Deviation_Limits!$C$24:$C$500,Number_of_Deviations!$C27))","v":""},{"$f":"IF(B27=\"\",\"\",COUNTIFS(Deviation_CEM_CPMS!$B$24:'Deviation_CEM_CPMS'!$B$500,B27,Deviation_CEM_CPMS!$C$24:'Deviation_CEM_CPMS'!$C$500,C27))","v":""}]
[null,{"$f":"+Lists!AF6","v":""},{"$f":"+Lists!AG6","v":""},{"$f":"IF(B28=\"\",\"\",COUNTIFS(Deviation_Limits!$B$24:$B$500,Number_of_Deviations!$B28,Deviation_Limits!$C$24:$C$500,Number_of_Deviations!$C28))","v":""},{"$f":"IF(B28=\"\",\"\",COUNTIFS(Deviation_CEM_CPMS!$B$24:'Deviation_CEM_CPMS'!$B$500,B28,Deviation_CEM_CPMS!$C$24:'Deviation_CEM_CPMS'!$C$500,C28))","v":""}]
[null,{"$f":"+Lists!AF7","v":""},{"$f":"+Lists!AG7","v":""},{"$f":"IF(B29=\"\",\"\",COUNTIFS(Deviation_Limits!$B$24:$B$500,Number_of_Deviations!$B29,Deviation_Limits!$C$24:$C$500,Number_of_Deviations!$C29))","v":""},{"$f":"IF(B29=\"\",\"\",COUNTIFS(Deviation_CEM_CPMS!$B$24:'Deviation_CEM_CPMS'!$B$500,B29,Deviation_CEM_CPMS!$C$24:'Deviation_CEM_CPMS'!$C$500,C29))","v":""}]
[null,{"$f":"+Lists!AF8","v":""},{"$f":"+Lists!AG8","v":""},{"$f":"IF(B30=\"\",\"\",COUNTIFS(Deviation_Limits!$B$24:$B$500,Number_of_Deviations!$B30,Deviation_Limits!$C$24:$C$500,Number_of_Deviations!$C30))","v":""},{"$f":"IF(B30=\"\",\"\",COUNTIFS(Deviation_CEM_CPMS!$B$24:'Deviation_CEM_CPMS'!$B$500,B30,Deviation_CEM_CPMS!$C$24:'Deviation_CEM_CPMS'!$C$500,C30))","v":""}]
[null,{"$f":"+Lists!AF9","v":""},{"$f":"+Lists!AG9","v":""},{"$f":"IF(B31=\"\",\"\",COUNTIFS(Deviation_Limits!$B$24:$B$500,Number_of_Deviations!$B31,Deviation_Limits!$C$24:$C$500,Number_of_Deviations!$C31))","v":""},{"$f":"IF(B31=\"\",\"\",COUNTIFS(Deviation_CEM_CPMS!$B$24:'Deviation_CEM_CPMS'!$B$500,B31,Deviation_CEM_CPMS!$C$24:'Deviation_CEM_CPMS'!$C$500,C31))","v":""}]
[null,{"$f":"+Lists!AF10","v":""},{"$f":"+Lists!AG10","v":""},{"$f":"IF(B32=\"\",\"\",COUNTIFS(Deviation_Limits!$B$24:$B$500,Number_of_Deviations!$B32,Deviation_Limits!$C$24:$C$500,Number_of_Deviations!$C32))","v":""},{"$f":"IF(B32=\"\",\"\",COUNTIFS(Deviation_CEM_CPMS!$B$24:'Deviation_CEM_CPMS'!$B$500,B32,Deviation_CEM_CPMS!$C$24:'Deviation_CEM_CPMS'!$C$500,C32))","v":""}]
[null,{"$f":"+Lists!AF11","v":""},{"$f":"+Lists!AG11","v":""},{"$f":"IF(B33=\"\",\"\",COUNTIFS(Deviation_Limits!$B$24:$B$500,Number_of_Deviations!$B33,Deviation_Limits!$C$24:$C$500,Number_of_Deviations!$C33))","v":""},{"$f":"IF(B33=\"\",\"\",COUNTIFS(Deviation_CEM_CPMS!$B$24:'Deviation_CEM_CPMS'!$B$500,B33,Deviation_CEM_CPMS!$C$24:'Deviation_CEM_CPMS'!$C$500,C33))","v":""}]
[null,{"$f":"+Lists!AF12","v":""},{"$f":"+Lists!AG12","v":""},{"$f":"IF(B34=\"\",\"\",COUNTIFS(Deviation_Limits!$B$24:$B$500,Number_of_Deviations!$B34,Deviation_Limits!$C$24:$C$500,Number_of_Deviations!$C34))","v":""},{"$f":"IF(B34=\"\",\"\",COUNTIFS(Deviation_CEM_CPMS!$B$24:'Deviation_CEM_CPMS'!$B$500,B34,Deviation_CEM_CPMS!$C$24:'Deviation_CEM_CPMS'!$C$500,C34))","v":""}]
[null,{"$f":"+Lists!AF13","v":""},{"$f":"+Lists!AG13","v":""},{"$f":"IF(B35=\"\",\"\",COUNTIFS(Deviation_Limits!$B$24:$B$500,Number_of_Deviations!$B35,Deviation_Limits!$C$24:$C$500,Number_of_Deviations!$C35))","v":""},{"$f":"IF(B35=\"\",\"\",COUNTIFS(Deviation_CEM_CPMS!$B$24:'Deviation_CEM_CPMS'!$B$500,B35,Deviation_CEM_CPMS!$C$24:'Deviation_CEM_CPMS'!$C$500,C35))","v":""}]
[null,{"$f":"+Lists!AF14","v":""},{"$f":"+Lists!AG14","v":""},{"$f":"IF(B36=\"\",\"\",COUNTIFS(Deviation_Limits!$B$24:$B$500,Number_of_Deviations!$B36,Deviation_Limits!$C$24:$C$500,Number_of_Deviations!$C36))","v":""},{"$f":"IF(B36=\"\",\"\",COUNTIFS(Deviation_CEM_CPMS!$B$24:'Deviation_CEM_CPMS'!$B$500,B36,Deviation_CEM_CPMS!$C$24:'Deviation_CEM_CPMS'!$C$500,C36))","v":""}]
[null,{"$f":"+Lists!AF15","v":""},{"$f":"+Lists!AG15","v":""},{"$f":"IF(B37=\"\",\"\",COUNTIFS(Deviation_Limits!$B$24:$B$500,Number_of_Deviations!$B37,Deviation_Limits!$C$24:$C$500,Number_of_Deviations!$C37))","v":""},{"$f":"IF(B37=\"\",\"\",COUNTIFS(Deviation_CEM_CPMS!$B$24:'Deviation_CEM_CPMS'!$B$500,B37,Deviation_CEM_CPMS!$C$24:'Deviation_CEM_CPMS'!$C$500,C37))","v":""}]
[null,{"$f":"+Lists!AF16","v":""},{"$f":"+Lists!AG16","v":""},{"$f":"IF(B38=\"\",\"\",COUNTIFS(Deviation_Limits!$B$24:$B$500,Number_of_Deviations!$B38,Deviation_Limits!$C$24:$C$500,Number_of_Deviations!$C38))","v":""},{"$f":"IF(B38=\"\",\"\",COUNTIFS(Deviation_CEM_CPMS!$B$24:'Deviation_CEM_CPMS'!$B$500,B38,Deviation_CEM_CPMS!$C$24:'Deviation_CEM_CPMS'!$C$500,C38))","v":""}]
[null,{"$f":"+Lists!AF17","v":""},{"$f":"+Lists!AG17","v":""},{"$f":"IF(B39=\"\",\"\",COUNTIFS(Deviation_Limits!$B$24:$B$500,Number_of_Deviations!$B39,Deviation_Limits!$C$24:$C$500,Number_of_Deviations!$C39))","v":""},{"$f":"IF(B39=\"\",\"\",COUNTIFS(Deviation_CEM_CPMS!$B$24:'Deviation_CEM_CPMS'!$B$500,B39,Deviation_CEM_CPMS!$C$24:'Deviation_CEM_CPMS'!$C$500,C39))","v":""}]
[null,{"$f":"+Lists!AF18","v":""},{"$f":"+Lists!AG18","v":""},{"$f":"IF(B40=\"\",\"\",COUNTIFS(Deviation_Limits!$B$24:$B$500,Number_of_Deviations!$B40,Deviation_Limits!$C$24:$C$500,Number_of_Deviations!$C40))","v":""},{"$f":"IF(B40=\"\",\"\",COUNTIFS(Deviation_CEM_CPMS!$B$24:'Deviation_CEM_CPMS'!$B$500,B40,Deviation_CEM_CPMS!$C$24:'Deviation_CEM_CPMS'!$C$500,C40))","v":""}]
[null,{"$f":"+Lists!AF19","v":""},{"$f":"+Lists!AG19","v":""},{"$f":"IF(B41=\"\",\"\",COUNTIFS(Deviation_Limits!$B$24:$B$500,Number_of_Deviations!$B41,Deviation_Limits!$C$24:$C$500,Number_of_Deviations!$C41))","v":""},{"$f":"IF(B41=\"\",\"\",COUNTIFS(Deviation_CEM_CPMS!$B$24:'Deviation_CEM_CPMS'!$B$500,B41,Deviation_CEM_CPMS!$C$24:'Deviation_CEM_CPMS'!$C$500,C41))","v":""}]
[null,{"$f":"+Lists!AF20","v":""},{"$f":"+Lists!AG20","v":""},{"$f":"IF(B42=\"\",\"\",COUNTIFS(Deviation_Limits!$B$24:$B$500,Number_of_Deviations!$B42,Deviation_Limits!$C$24:$C$500,Number_of_Deviations!$C42))","v":""},{"$f":"IF(B42=\"\",\"\",COUNTIFS(Deviation_CEM_CPMS!$B$24:'Deviation_CEM_CPMS'!$B$500,B42,Deviation_CEM_CPMS!$C$24:'Deviation_CEM_CPMS'!$C$500,C42))","v":""}]
[null,{"$f":"+Lists!AF21","v":""},{"$f":"+Lists!AG21","v":""},{"$f":"IF(B43=\"\",\"\",COUNTIFS(Deviation_Limits!$B$24:$B$500,Number_of_Deviations!$B43,Deviation_Limits!$C$24:$C$500,Number_of_Deviations!$C43))","v":""},{"$f":"IF(B43=\"\",\"\",COUNTIFS(Deviation_CEM_CPMS!$B$24:'Deviation_CEM_CPMS'!$B$500,B43,Deviation_CEM_CPMS!$C$24:'Deviation_CEM_CPMS'!$C$500,C43))","v":""}]
[null,{"$f":"+Lists!AF22","v":""},{"$f":"+Lists!AG22","v":""},{"$f":"IF(B44=\"\",\"\",COUNTIFS(Deviation_Limits!$B$24:$B$500,Number_of_Deviations!$B44,Deviation_Limits!$C$24:$C$500,Number_of_Deviations!$C44))","v":""},{"$f":"IF(B44=\"\",\"\",COUNTIFS(Deviation_CEM_CPMS!$B$24:'Deviation_CEM_CPMS'!$B$500,B44,Deviation_CEM_CPMS!$C$24:'Deviation_CEM_CPMS'!$C$500,C44))","v":""}]
[null,{"$f":"+Lists!AF23","v":""},{"$f":"+Lists!AG23","v":""},{"$f":"IF(B45=\"\",\"\",COUNTIFS(Deviation_Limits!$B$24:$B$500,Number_of_Deviations!$B45,Deviation_Limits!$C$24:$C$500,Number_of_Deviations!$C45))","v":""},{"$f":"IF(B45=\"\",\"\",COUNTIFS(Deviation_CEM_CPMS!$B$24:'Deviation_CEM_CPMS'!$B$500,B45,Deviation_CEM_CPMS!$C$24:'Deviation_CEM_CPMS'!$C$500,C45))","v":""}]
[null,{"$f":"+Lists!AF24","v":""},{"$f":"+Lists!AG24","v":""},{"$f":"IF(B46=\"\",\"\",COUNTIFS(Deviation_Limits!$B$24:$B$500,Number_of_Deviations!$B46,Deviation_Limits!$C$24:$C$500,Number_of_Deviations!$C46))","v":""},{"$f":"IF(B46=\"\",\"\",COUNTIFS(Deviation_CEM_CPMS!$B$24:'Deviation_CEM_CPMS'!$B$500,B46,Deviation_CEM_CPMS!$C$24:'Deviation_CEM_CPMS'!$C$500,C46))","v":""}]
[null,{"$f":"+Lists!AF25","v":""},{"$f":"+Lists!AG25","v":""},{"$f":"IF(B47=\"\",\"\",COUNTIFS(Deviation_Limits!$B$24:$B$500,Number_of_Deviations!$B47,Deviation_Limits!$C$24:$C$500,Number_of_Deviations!$C47))","v":""},{"$f":"IF(B47=\"\",\"\",COUNTIFS(Deviation_CEM_CPMS!$B$24:'Deviation_CEM_CPMS'!$B$500,B47,Deviation_CEM_CPMS!$C$24:'Deviation_CEM_CPMS'!$C$500,C47))","v":""}]
[null,{"$f":"+Lists!AF26","v":""},{"$f":"+Lists!AG26","v":""},{"$f":"IF(B48=\"\",\"\",COUNTIFS(Deviation_Limits!$B$24:$B$500,Number_of_Deviations!$B48,Deviation_Limits!$C$24:$C$500,Number_of_Deviations!$C48))","v":""},{"$f":"IF(B48=\"\",\"\",COUNTIFS(Deviation_CEM_CPMS!$B$24:'Deviation_CEM_CPMS'!$B$500,B48,Deviation_CEM_CPMS!$C$24:'Deviation_CEM_CPMS'!$C$500,C48))","v":""}]
[null,{"$f":"+Lists!AF27","v":""},{"$f":"+Lists!AG27","v":""},{"$f":"IF(B49=\"\",\"\",COUNTIFS(Deviation_Limits!$B$24:$B$500,Number_of_Deviations!$B49,Deviation_Limits!$C$24:$C$500,Number_of_Deviations!$C49))","v":""},{"$f":"IF(B49=\"\",\"\",COUNTIFS(Deviation_CEM_CPMS!$B$24:'Deviation_CEM_CPMS'!$B$500,B49,Deviation_CEM_CPMS!$C$24:'Deviation_CEM_CPMS'!$C$500,C49))","v":""}]
[null,{"$f":"+Lists!AF28","v":""},{"$f":"+Lists!AG28","v":""},{"$f":"IF(B50=\"\",\"\",COUNTIFS(Deviation_Limits!$B$24:$B$500,Number_of_Deviations!$B50,Deviation_Limits!$C$24:$C$500,Number_of_Deviations!$C50))","v":""},{"$f":"IF(B50=\"\",\"\",COUNTIFS(Deviation_CEM_CPMS!$B$24:'Deviation_CEM_CPMS'!$B$500,B50,Deviation_CEM_CPMS!$C$24:'Deviation_CEM_CPMS'!$C$500,C50))","v":""}]
[null,{"$f":"+Lists!AF29","v":""},{"$f":"+Lists!AG29","v":""},{"$f":"IF(B51=\"\",\"\",COUNTIFS(Deviation_Limits!$B$24:$B$500,Number_of_Deviations!$B51,Deviation_Limits!$C$24:$C$500,Number_of_Deviations!$C51))","v":""},{"$f":"IF(B51=\"\",\"\",COUNTIFS(Deviation_CEM_CPMS!$B$24:'Deviation_CEM_CPMS'!$B$500,B51,Deviation_CEM_CPMS!$C$24:'Deviation_CEM_CPMS'!$C$500,C51))","v":""}]
[null,{"$f":"+Lists!AF30","v":""},{"$f":"+Lists!AG30","v":""},{"$f":"IF(B52=\"\",\"\",COUNTIFS(Deviation_Limits!$B$24:$B$500,Number_of_Deviations!$B52,Deviation_Limits!$C$24:$C$500,Number_of_Deviations!$C52))","v":""},{"$f":"IF(B52=\"\",\"\",COUNTIFS(Deviation_CEM_CPMS!$B$24:'Deviation_CEM_CPMS'!$B$500,B52,Deviation_CEM_CPMS!$C$24:'Deviation_CEM_CPMS'!$C$500,C52))","v":""}]
[null,{"$f":"+Lists!AF31","v":""},{"$f":"+Lists!AG31","v":""},{"$f":"IF(B53=\"\",\"\",COUNTIFS(Deviation_Limits!$B$24:$B$500,Number_of_Deviations!$B53,Deviation_Limits!$C$24:$C$500,Number_of_Deviations!$C53))","v":""},{"$f":"IF(B53=\"\",\"\",COUNTIFS(Deviation_CEM_CPMS!$B$24:'Deviation_CEM_CPMS'!$B$500,B53,Deviation_CEM_CPMS!$C$24:'Deviation_CEM_CPMS'!$C$500,C53))","v":""}]
[null,{"$f":"+Lists!AF32","v":""},{"$f":"+Lists!AG32","v":""},{"$f":"IF(B54=\"\",\"\",COUNTIFS(Deviation_Limits!$B$24:$B$500,Number_of_Deviations!$B54,Deviation_Limits!$C$24:$C$500,Number_of_Deviations!$C54))","v":""},{"$f":"IF(B54=\"\",\"\",COUNTIFS(Deviation_CEM_CPMS!$B$24:'Deviation_CEM_CPMS'!$B$500,B54,Deviation_CEM_CPMS!$C$24:'Deviation_CEM_CPMS'!$C$500,C54))","v":""}]
[null,{"$f":"+Lists!AF33","v":""},{"$f":"+Lists!AG33","v":""},{"$f":"IF(B55=\"\",\"\",COUNTIFS(Deviation_Limits!$B$24:$B$500,Number_of_Deviations!$B55,Deviation_Limits!$C$24:$C$500,Number_of_Deviations!$C55))","v":""},{"$f":"IF(B55=\"\",\"\",COUNTIFS(Deviation_CEM_CPMS!$B$24:'Deviation_CEM_CPMS'!$B$500,B55,Deviation_CEM_CPMS!$C$24:'Deviation_CEM_CPMS'!$C$500,C55))","v":""}]
[null,{"$f":"+Lists!AF34","v":""},{"$f":"+Lists!AG34","v":""},{"$f":"IF(B56=\"\",\"\",COUNTIFS(Deviation_Limits!$B$24:$B$500,Number_of_Deviations!$B56,Deviation_Limits!$C$24:$C$500,Number_of_Deviations!$C56))","v":""},{"$f":"IF(B56=\"\",\"\",COUNTIFS(Deviation_CEM_CPMS!$B$24:'Deviation_CEM_CPMS'!$B$500,B56,Deviation_CEM_CPMS!$C$24:'Deviation_CEM_CPMS'!$C$500,C56))","v":""}]
[null,{"$f":"+Lists!AF35","v":""},{"$f":"+Lists!AG35","v":""},{"$f":"IF(B57=\"\",\"\",COUNTIFS(Deviation_Limits!$B$24:$B$500,Number_of_Deviations!$B57,Deviation_Limits!$C$24:$C$500,Number_of_Deviations!$C57))","v":""},{"$f":"IF(B57=\"\",\"\",COUNTIFS(Deviation_CEM_CPMS!$B$24:'Deviation_CEM_CPMS'!$B$500,B57,Deviation_CEM_CPMS!$C$24:'Deviation_CEM_CPMS'!$C$500,C57))","v":""}]
[null,{"$f":"+Lists!AF36","v":""},{"$f":"+Lists!AG36","v":""},{"$f":"IF(B58=\"\",\"\",COUNTIFS(Deviation_Limits!$B$24:$B$500,Number_of_Deviations!$B58,Deviation_Limits!$C$24:$C$500,Number_of_Deviations!$C58))","v":""},{"$f":"IF(B58=\"\",\"\",COUNTIFS(Deviation_CEM_CPMS!$B$24:'Deviation_CEM_CPMS'!$B$500,B58,Deviation_CEM_CPMS!$C$24:'Deviation_CEM_CPMS'!$C$500,C58))","v":""}]
[null,{"$f":"+Lists!AF37","v":""},{"$f":"+Lists!AG37","v":""},{"$f":"IF(B59=\"\",\"\",COUNTIFS(Deviation_Limits!$B$24:$B$500,Number_of_Deviations!$B59,Deviation_Limits!$C$24:$C$500,Number_of_Deviations!$C59))","v":""},{"$f":"IF(B59=\"\",\"\",COUNTIFS(Deviation_CEM_CPMS!$B$24:'Deviation_CEM_CPMS'!$B$500,B59,Deviation_CEM_CPMS!$C$24:'Deviation_CEM_CPMS'!$C$500,C59))","v":""}]
[null,{"$f":"+Lists!AF38","v":""},{"$f":"+Lists!AG38","v":""},{"$f":"IF(B60=\"\",\"\",COUNTIFS(Deviation_Limits!$B$24:$B$500,Number_of_Deviations!$B60,Deviation_Limits!$C$24:$C$500,Number_of_Deviations!$C60))","v":""},{"$f":"IF(B60=\"\",\"\",COUNTIFS(Deviation_CEM_CPMS!$B$24:'Deviation_CEM_CPMS'!$B$500,B60,Deviation_CEM_CPMS!$C$24:'Deviation_CEM_CPMS'!$C$500,C60))","v":""}]
[null,{"$f":"+Lists!AF39","v":""},{"$f":"+Lists!AG39","v":""},{"$f":"IF(B61=\"\",\"\",COUNTIFS(Deviation_Limits!$B$24:$B$500,Number_of_Deviations!$B61,Deviation_Limits!$C$24:$C$500,Number_of_Deviations!$C61))","v":""},{"$f":"IF(B61=\"\",\"\",COUNTIFS(Deviation_CEM_CPMS!$B$24:'Deviation_CEM_CPMS'!$B$500,B61,Deviation_CEM_CPMS!$C$24:'Deviation_CEM_CPMS'!$C$500,C61))","v":""}]
[null,{"$f":"+Lists!AF40","v":""},{"$f":"+Lists!AG40","v":""},{"$f":"IF(B62=\"\",\"\",COUNTIFS(Deviation_Limits!$B$24:$B$500,Number_of_Deviations!$B62,Deviation_Limits!$C$24:$C$500,Number_of_Deviations!$C62))","v":""},{"$f":"IF(B62=\"\",\"\",COUNTIFS(Deviation_CEM_CPMS!$B$24:'Deviation_CEM_CPMS'!$B$500,B62,Deviation_CEM_CPMS!$C$24:'Deviation_CEM_CPMS'!$C$500,C62))","v":""}]
[null,{"$f":"+Lists!AF41","v":""},{"$f":"+Lists!AG41","v":""},{"$f":"IF(B63=\"\",\"\",COUNTIFS(Deviation_Limits!$B$24:$B$500,Number_of_Deviations!$B63,Deviation_Limits!$C$24:$C$500,Number_of_Deviations!$C63))","v":""},{"$f":"IF(B63=\"\",\"\",COUNTIFS(Deviation_CEM_CPMS!$B$24:'Deviation_CEM_CPMS'!$B$500,B63,Deviation_CEM_CPMS!$C$24:'Deviation_CEM_CPMS'!$C$500,C63))","v":""}]
[null,{"$f":"+Lists!AF42","v":""},{"$f":"+Lists!AG42","v":""},{"$f":"IF(B64=\"\",\"\",COUNTIFS(Deviation_Limits!$B$24:$B$500,Number_of_Deviations!$B64,Deviation_Limits!$C$24:$C$500,Number_of_Deviations!$C64))","v":""},{"$f":"IF(B64=\"\",\"\",COUNTIFS(Deviation_CEM_CPMS!$B$24:'Deviation_CEM_CPMS'!$B$500,B64,Deviation_CEM_CPMS!$C$24:'Deviation_CEM_CPMS'!$C$500,C64))","v":""}]
[null,{"$f":"+Lists!AF43","v":""},{"$f":"+Lists!AG43","v":""},{"$f":"IF(B65=\"\",\"\",COUNTIFS(Deviation_Limits!$B$24:$B$500,Number_of_Deviations!$B65,Deviation_Limits!$C$24:$C$500,Number_of_Deviations!$C65))","v":""},{"$f":"IF(B65=\"\",\"\",COUNTIFS(Deviation_CEM_CPMS!$B$24:'Deviation_CEM_CPMS'!$B$500,B65,Deviation_CEM_CPMS!$C$24:'Deviation_CEM_CPMS'!$C$500,C65))","v":""}]
[null,{"$f":"+Lists!AF44","v":""},{"$f":"+Lists!AG44","v":""},{"$f":"IF(B66=\"\",\"\",COUNTIFS(Deviation_Limits!$B$24:$B$500,Number_of_Deviations!$B66,Deviation_Limits!$C$24:$C$500,Number_of_Deviations!$C66))","v":""},{"$f":"IF(B66=\"\",\"\",COUNTIFS(Deviation_CEM_CPMS!$B$24:'Deviation_CEM_CPMS'!$B$500,B66,Deviation_CEM_CPMS!$C$24:'Deviation_CEM_CPMS'!$C$500,C66))","v":""}]
[null,{"$f":"+Lists!AF45","v":""},{"$f":"+Lists!AG45","v":""},{"$f":"IF(B67=\"\",\"\",COUNTIFS(Deviation_Limits!$B$24:$B$500,Number_of_Deviations!$B67,Deviation_Limits!$C$24:$C$500,Number_of_Deviations!$C67))","v":""},{"$f":"IF(B67=\"\",\"\",COUNTIFS(Deviation_CEM_CPMS!$B$24:'Deviation_CEM_CPMS'!$B$500,B67,Deviation_CEM_CPMS!$C$24:'Deviation_CEM_CPMS'!$C$500,C67))","v":""}]
[null,{"$f":"+Lists!AF46","v":""},{"$f":"+Lists!AG46","v":""},{"$f":"IF(B68=\"\",\"\",COUNTIFS(Deviation_Limits!$B$24:$B$500,Number_of_Deviations!$B68,Deviation_Limits!$C$24:$C$500,Number_of_Deviations!$C68))","v":""},{"$f":"IF(B68=\"\",\"\",COUNTIFS(Deviation_CEM_CPMS!$B$24:'Deviation_CEM_CPMS'!$B$500,B68,Deviation_CEM_CPMS!$C$24:'Deviation_CEM_CPMS'!$C$500,C68))","v":""}]
[null,{"$f":"+Lists!AF47","v":""},{"$f":"+Lists!AG47","v":""},{"$f":"IF(B69=\"\",\"\",COUNTIFS(Deviation_Limits!$B$24:$B$500,Number_of_Deviations!$B69,Deviation_Limits!$C$24:$C$500,Number_of_Deviations!$C69))","v":""},{"$f":"IF(B69=\"\",\"\",COUNTIFS(Deviation_CEM_CPMS!$B$24:'Deviation_CEM_CPMS'!$B$500,B69,Deviation_CEM_CPMS!$C$24:'Deviation_CEM_CPMS'!$C$500,C69))","v":""}]
[null,{"$f":"+Lists!AF48","v":""},{"$f":"+Lists!AG48","v":""},{"$f":"IF(B70=\"\",\"\",COUNTIFS(Deviation_Limits!$B$24:$B$500,Number_of_Deviations!$B70,Deviation_Limits!$C$24:$C$500,Number_of_Deviations!$C70))","v":""},{"$f":"IF(B70=\"\",\"\",COUNTIFS(Deviation_CEM_CPMS!$B$24:'Deviation_CEM_CPMS'!$B$500,B70,Deviation_CEM_CPMS!$C$24:'Deviation_CEM_CPMS'!$C$500,C70))","v":""}]
[null,{"$f":"+Lists!AF49","v":""},{"$f":"+Lists!AG49","v":""},{"$f":"IF(B71=\"\",\"\",COUNTIFS(Deviation_Limits!$B$24:$B$500,Number_of_Deviations!$B71,Deviation_Limits!$C$24:$C$500,Number_of_Deviations!$C71))","v":""},{"$f":"IF(B71=\"\",\"\",COUNTIFS(Deviation_CEM_CPMS!$B$24:'Deviation_CEM_CPMS'!$B$500,B71,Deviation_CEM_CPMS!$C$24:'Deviation_CEM_CPMS'!$C$500,C71))","v":""}]
[null,{"$f":"+Lists!AF50","v":""},{"$f":"+Lists!AG50","v":""},{"$f":"IF(B72=\"\",\"\",COUNTIFS(Deviation_Limits!$B$24:$B$500,Number_of_Deviations!$B72,Deviation_Limits!$C$24:$C$500,Number_of_Deviations!$C72))","v":""},{"$f":"IF(B72=\"\",\"\",COUNTIFS(Deviation_CEM_CPMS!$B$24:'Deviation_CEM_CPMS'!$B$500,B72,Deviation_CEM_CPMS!$C$24:'Deviation_CEM_CPMS'!$C$500,C72))","v":""}]
[null,{"$f":"+Lists!AF51","v":""},{"$f":"+Lists!AG51","v":""},{"$f":"IF(B73=\"\",\"\",COUNTIFS(Deviation_Limits!$B$24:$B$500,Number_of_Deviations!$B73,Deviation_Limits!$C$24:$C$500,Number_of_Deviations!$C73))","v":""},{"$f":"IF(B73=\"\",\"\",COUNTIFS(Deviation_CEM_CPMS!$B$24:'Deviation_CEM_CPMS'!$B$500,B73,Deviation_CEM_CPMS!$C$24:'Deviation_CEM_CPMS'!$C$500,C73))","v":""}]
[null,{"$f":"+Lists!AF52","v":""},{"$f":"+Lists!AG52","v":""},{"$f":"IF(B74=\"\",\"\",COUNTIFS(Deviation_Limits!$B$24:$B$500,Number_of_Deviations!$B74,Deviation_Limits!$C$24:$C$500,Number_of_Deviations!$C74))","v":""},{"$f":"IF(B74=\"\",\"\",COUNTIFS(Deviation_CEM_CPMS!$B$24:'Deviation_CEM_CPMS'!$B$500,B74,Deviation_CEM_CPMS!$C$24:'Deviation_CEM_CPMS'!$C$500,C74))","v":""}]
[null,{"$f":"+Lists!AF53","v":""},{"$f":"+Lists!AG53","v":""},{"$f":"IF(B75=\"\",\"\",COUNTIFS(Deviation_Limits!$B$24:$B$500,Number_of_Deviations!$B75,Deviation_Limits!$C$24:$C$500,Number_of_Deviations!$C75))","v":""},{"$f":"IF(B75=\"\",\"\",COUNTIFS(Deviation_CEM_CPMS!$B$24:'Deviation_CEM_CPMS'!$B$500,B75,Deviation_CEM_CPMS!$C$24:'Deviation_CEM_CPMS'!$C$500,C75))","v":""}]
[null,{"$f":"+Lists!AF54","v":""},{"$f":"+Lists!AG54","v":""},{"$f":"IF(B76=\"\",\"\",COUNTIFS(Deviation_Limits!$B$24:$B$500,Number_of_Deviations!$B76,Deviation_Limits!$C$24:$C$500,Number_of_Deviations!$C76))","v":""},{"$f":"IF(B76=\"\",\"\",COUNTIFS(Deviation_CEM_CPMS!$B$24:'Deviation_CEM_CPMS'!$B$500,B76,Deviation_CEM_CPMS!$C$24:'Deviation_CEM_CPMS'!$C$500,C76))","v":""}]
[null,{"$f":"+Lists!AF55","v":""},{"$f":"+Lists!AG55","v":""},{"$f":"IF(B77=\"\",\"\",COUNTIFS(Deviation_Limits!$B$24:$B$500,Number_of_Deviations!$B77,Deviation_Limits!$C$24:$C$500,Number_of_Deviations!$C77))","v":""},{"$f":"IF(B77=\"\",\"\",COUNTIFS(Deviation_CEM_CPMS!$B$24:'Deviation_CEM_CPMS'!$B$500,B77,Deviation_CEM_CPMS!$C$24:'Deviation_CEM_CPMS'!$C$500,C77))","v":""}]
[null,{"$f":"+Lists!AF56","v":""},{"$f":"+Lists!AG56","v":""},{"$f":"IF(B78=\"\",\"\",COUNTIFS(Deviation_Limits!$B$24:$B$500,Number_of_Deviations!$B78,Deviation_Limits!$C$24:$C$500,Number_of_Deviations!$C78))","v":""},{"$f":"IF(B78=\"\",\"\",COUNTIFS(Deviation_CEM_CPMS!$B$24:'Deviation_CEM_CPMS'!$B$500,B78,Deviation_CEM_CPMS!$C$24:'Deviation_CEM_CPMS'!$C$500,C78))","v":""}]
[null,{"$f":"+Lists!AF57","v":""},{"$f":"+Lists!AG57","v":""},{"$f":"IF(B79=\"\",\"\",COUNTIFS(Deviation_Limits!$B$24:$B$500,Number_of_Deviations!$B79,Deviation_Limits!$C$24:$C$500,Number_of_Deviations!$C79))","v":""},{"$f":"IF(B79=\"\",\"\",COUNTIFS(Deviation_CEM_CPMS!$B$24:'Deviation_CEM_CPMS'!$B$500,B79,Deviation_CEM_CPMS!$C$24:'Deviation_CEM_CPMS'!$C$500,C79))","v":""}]
[null,{"$f":"+Lists!AF58","v":""},{"$f":"+Lists!AG58","v":""},{"$f":"IF(B80=\"\",\"\",COUNTIFS(Deviation_Limits!$B$24:$B$500,Number_of_Deviations!$B80,Deviation_Limits!$C$24:$C$500,Number_of_Deviations!$C80))","v":""},{"$f":"IF(B80=\"\",\"\",COUNTIFS(Deviation_CEM_CPMS!$B$24:'Deviation_CEM_CPMS'!$B$500,B80,Deviation_CEM_CPMS!$C$24:'Deviation_CEM_CPMS'!$C$500,C80))","v":""}]
[null,{"$f":"+Lists!AF59","v":""},{"$f":"+Lists!AG59","v":""},{"$f":"IF(B81=\"\",\"\",COUNTIFS(Deviation_Limits!$B$24:$B$500,Number_of_Deviations!$B81,Deviation_Limits!$C$24:$C$500,Number_of_Deviations!$C81))","v":""},{"$f":"IF(B81=\"\",\"\",COUNTIFS(Deviation_CEM_CPMS!$B$24:'Deviation_CEM_CPMS'!$B$500,B81,Deviation_CEM_CPMS!$C$24:'Deviation_CEM_CPMS'!$C$500,C81))","v":""}]
[null,{"$f":"+Lists!AF60","v":""},{"$f":"+Lists!AG60","v":""},{"$f":"IF(B82=\"\",\"\",COUNTIFS(Deviation_Limits!$B$24:$B$500,Number_of_Deviations!$B82,Deviation_Limits!$C$24:$C$500,Number_of_Deviations!$C82))","v":""},{"$f":"IF(B82=\"\",\"\",COUNTIFS(Deviation_CEM_CPMS!$B$24:'Deviation_CEM_CPMS'!$B$500,B82,Deviation_CEM_CPMS!$C$24:'Deviation_CEM_CPMS'!$C$500,C82))","v":""}]
[null,{"$f":"+Lists!AF61","v":""},{"$f":"+Lists!AG61","v":""},{"$f":"IF(B83=\"\",\"\",COUNTIFS(Deviation_Limits!$B$24:$B$500,Number_of_Deviations!$B83,Deviation_Limits!$C$24:$C$500,Number_of_Deviations!$C83))","v":""},{"$f":"IF(B83=\"\",\"\",COUNTIFS(Deviation_CEM_CPMS!$B$24:'Deviation_CEM_CPMS'!$B$500,B83,Deviation_CEM_CPMS!$C$24:'Deviation_CEM_CPMS'!$C$500,C83))","v":""}]
[null,{"$f":"+Lists!AF62","v":""},{"$f":"+Lists!AG62","v":""},{"$f":"IF(B84=\"\",\"\",COUNTIFS(Deviation_Limits!$B$24:$B$500,Number_of_Deviations!$B84,Deviation_Limits!$C$24:$C$500,Number_of_Deviations!$C84))","v":""},{"$f":"IF(B84=\"\",\"\",COUNTIFS(Deviation_CEM_CPMS!$B$24:'Deviation_CEM_CPMS'!$B$500,B84,Deviation_CEM_CPMS!$C$24:'Deviation_CEM_CPMS'!$C$500,C84))","v":""}]
[null,{"$f":"+Lists!AF63","v":""},{"$f":"+Lists!AG63","v":""},{"$f":"IF(B85=\"\",\"\",COUNTIFS(Deviation_Limits!$B$24:$B$500,Number_of_Deviations!$B85,Deviation_Limits!$C$24:$C$500,Number_of_Deviations!$C85))","v":""},{"$f":"IF(B85=\"\",\"\",COUNTIFS(Deviation_CEM_CPMS!$B$24:'Deviation_CEM_CPMS'!$B$500,B85,Deviation_CEM_CPMS!$C$24:'Deviation_CEM_CPMS'!$C$500,C85))","v":""}]
[null,{"$f":"+Lists!AF64","v":""},{"$f":"+Lists!AG64","v":""},{"$f":"IF(B86=\"\",\"\",COUNTIFS(Deviation_Limits!$B$24:$B$500,Number_of_Deviations!$B86,Deviation_Limits!$C$24:$C$500,Number_of_Deviations!$C86))","v":""},{"$f":"IF(B86=\"\",\"\",COUNTIFS(Deviation_CEM_CPMS!$B$24:'Deviation_CEM_CPMS'!$B$500,B86,Deviation_CEM_CPMS!$C$24:'Deviation_CEM_CPMS'!$C$500,C86))","v":""}]
[null,{"$f":"+Lists!AF65","v":""},{"$f":"+Lists!AG65","v":""},{"$f":"IF(B87=\"\",\"\",COUNTIFS(Deviation_Limits!$B$24:$B$500,Number_of_Deviations!$B87,Deviation_Limits!$C$24:$C$500,Number_of_Deviations!$C87))","v":""},{"$f":"IF(B87=\"\",\"\",COUNTIFS(Deviation_CEM_CPMS!$B$24:'Deviation_CEM_CPMS'!$B$500,B87,Deviation_CEM_CPMS!$C$24:'Deviation_CEM_CPMS'!$C$500,C87))","v":""}]
[null,{"$f":"+Lists!AF66","v":""},{"$f":"+Lists!AG66","v":""},{"$f":"IF(B88=\"\",\"\",COUNTIFS(Deviation_Limits!$B$24:$B$500,Number_of_Deviations!$B88,Deviation_Limits!$C$24:$C$500,Number_of_Deviations!$C88))","v":""},{"$f":"IF(B88=\"\",\"\",COUNTIFS(Deviation_CEM_CPMS!$B$24:'Deviation_CEM_CPMS'!$B$500,B88,Deviation_CEM_CPMS!$C$24:'Deviation_CEM_CPMS'!$C$500,C88))","v":""}]
[null,{"$f":"+Lists!AF67","v":""},{"$f":"+Lists!AG67","v":""},{"$f":"IF(B89=\"\",\"\",COUNTIFS(Deviation_Limits!$B$24:$B$500,Number_of_Deviations!$B89,Deviation_Limits!$C$24:$C$500,Number_of_Deviations!$C89))","v":""},{"$f":"IF(B89=\"\",\"\",COUNTIFS(Deviation_CEM_CPMS!$B$24:'Deviation_CEM_CPMS'!$B$500,B89,Deviation_CEM_CPMS!$C$24:'Deviation_CEM_CPMS'!$C$500,C89))","v":""}]
[null,{"$f":"+Lists!AF68","v":""},{"$f":"+Lists!AG68","v":""},{"$f":"IF(B90=\"\",\"\",COUNTIFS(Deviation_Limits!$B$24:$B$500,Number_of_Deviations!$B90,Deviation_Limits!$C$24:$C$500,Number_of_Deviations!$C90))","v":""},{"$f":"IF(B90=\"\",\"\",COUNTIFS(Deviation_CEM_CPMS!$B$24:'Deviation_CEM_CPMS'!$B$500,B90,Deviation_CEM_CPMS!$C$24:'Deviation_CEM_CPMS'!$C$500,C90))","v":""}]
[null,{"$f":"+Lists!AF69","v":""},{"$f":"+Lists!AG69","v":""},{"$f":"IF(B91=\"\",\"\",COUNTIFS(Deviation_Limits!$B$24:$B$500,Number_of_Deviations!$B91,Deviation_Limits!$C$24:$C$500,Number_of_Deviations!$C91))","v":""},{"$f":"IF(B91=\"\",\"\",COUNTIFS(Deviation_CEM_CPMS!$B$24:'Deviation_CEM_CPMS'!$B$500,B91,Deviation_CEM_CPMS!$C$24:'Deviation_CEM_CPMS'!$C$500,C91))","v":""}]
[null,{"$f":"+Lists!AF70","v":""},{"$f":"+Lists!AG70","v":""},{"$f":"IF(B92=\"\",\"\",COUNTIFS(Deviation_Limits!$B$24:$B$500,Number_of_Deviations!$B92,Deviation_Limits!$C$24:$C$500,Number_of_Deviations!$C92))","v":""},{"$f":"IF(B92=\"\",\"\",COUNTIFS(Deviation_CEM_CPMS!$B$24:'Deviation_CEM_CPMS'!$B$500,B92,Deviation_CEM_CPMS!$C$24:'Deviation_CEM_CPMS'!$C$500,C92))","v":""}]
[null,{"$f":"+Lists!AF71","v":""},{"$f":"+Lists!AG71","v":""},{"$f":"IF(B93=\"\",\"\",COUNTIFS(Deviation_Limits!$B$24:$B$500,Number_of_Deviations!$B93,Deviation_Limits!$C$24:$C$500,Number_of_Deviations!$C93))","v":""},{"$f":"IF(B93=\"\",\"\",COUNTIFS(Deviation_CEM_CPMS!$B$24:'Deviation_CEM_CPMS'!$B$500,B93,Deviation_CEM_CPMS!$C$24:'Deviation_CEM_CPMS'!$C$500,C93))","v":""}]
[null,{"$f":"+Lists!AF72","v":""},{"$f":"+Lists!AG72","v":""},{"$f":"IF(B94=\"\",\"\",COUNTIFS(Deviation_Limits!$B$24:$B$500,Number_of_Deviations!$B94,Deviation_Limits!$C$24:$C$500,Number_of_Deviations!$C94))","v":""},{"$f":"IF(B94=\"\",\"\",COUNTIFS(Deviation_CEM_CPMS!$B$24:'Deviation_CEM_CPMS'!$B$500,B94,Deviation_CEM_CPMS!$C$24:'Deviation_CEM_CPMS'!$C$500,C94))","v":""}]
[null,{"$f":"+Lists!AF73","v":""},{"$f":"+Lists!AG73","v":""},{"$f":"IF(B95=\"\",\"\",COUNTIFS(Deviation_Limits!$B$24:$B$500,Number_of_Deviations!$B95,Deviation_Limits!$C$24:$C$500,Number_of_Deviations!$C95))","v":""},{"$f":"IF(B95=\"\",\"\",COUNTIFS(Deviation_CEM_CPMS!$B$24:'Deviation_CEM_CPMS'!$B$500,B95,Deviation_CEM_CPMS!$C$24:'Deviation_CEM_CPMS'!$C$500,C95))","v":""}]
[null,{"$f":"+Lists!AF74","v":""},{"$f":"+Lists!AG74","v":""},{"$f":"IF(B96=\"\",\"\",COUNTIFS(Deviation_Limits!$B$24:$B$500,Number_of_Deviations!$B96,Deviation_Limits!$C$24:$C$500,Number_of_Deviations!$C96))","v":""},{"$f":"IF(B96=\"\",\"\",COUNTIFS(Deviation_CEM_CPMS!$B$24:'Deviation_CEM_CPMS'!$B$500,B96,Deviation_CEM_CPMS!$C$24:'Deviation_CEM_CPMS'!$C$500,C96))","v":""}]
[null,{"$f":"+Lists!AF75","v":""},{"$f":"+Lists!AG75","v":""},{"$f":"IF(B97=\"\",\"\",COUNTIFS(Deviation_Limits!$B$24:$B$500,Number_of_Deviations!$B97,Deviation_Limits!$C$24:$C$500,Number_of_Deviations!$C97))","v":""},{"$f":"IF(B97=\"\",\"\",COUNTIFS(Deviation_CEM_CPMS!$B$24:'Deviation_CEM_CPMS'!$B$500,B97,Deviation_CEM_CPMS!$C$24:'Deviation_CEM_CPMS'!$C$500,C97))","v":""}]
[null,{"$f":"+Lists!AF76","v":""},{"$f":"+Lists!AG76","v":""},{"$f":"IF(B98=\"\",\"\",COUNTIFS(Deviation_Limits!$B$24:$B$500,Number_of_Deviations!$B98,Deviation_Limits!$C$24:$C$500,Number_of_Deviations!$C98))","v":""},{"$f":"IF(B98=\"\",\"\",COUNTIFS(Deviation_CEM_CPMS!$B$24:'Deviation_CEM_CPMS'!$B$500,B98,Deviation_CEM_CPMS!$C$24:'Deviation_CEM_CPMS'!$C$500,C98))","v":""}]
[null,{"$f":"+Lists!AF77","v":""},{"$f":"+Lists!AG77","v":""},{"$f":"IF(B99=\"\",\"\",COUNTIFS(Deviation_Limits!$B$24:$B$500,Number_of_Deviations!$B99,Deviation_Limits!$C$24:$C$500,Number_of_Deviations!$C99))","v":""},{"$f":"IF(B99=\"\",\"\",COUNTIFS(Deviation_CEM_CPMS!$B$24:'Deviation_CEM_CPMS'!$B$500,B99,Deviation_CEM_CPMS!$C$24:'Deviation_CEM_CPMS'!$C$500,C99))","v":""}]
[null,{"$f":"+Lists!AF78","v":""},{"$f":"+Lists!AG78","v":""},{"$f":"IF(B100=\"\",\"\",COUNTIFS(Deviation_Limits!$B$24:$B$500,Number_of_Deviations!$B100,Deviation_Limits!$C$24:$C$500,Number_of_Deviations!$C100))","v":""},{"$f":"IF(B100=\"\",\"\",COUNTIFS(Deviation_CEM_CPMS!$B$24:'Deviation_CEM_CPMS'!$B$500,B100,Deviation_CEM_CPMS!$C$24:'Deviation_CEM_CPMS'!$C$500,C100))","v":""}]
[null,{"$f":"+Lists!AF79","v":""},{"$f":"+Lists!AG79","v":""},{"$f":"IF(B101=\"\",\"\",COUNTIFS(Deviation_Limits!$B$24:$B$500,Number_of_Deviations!$B101,Deviation_Limits!$C$24:$C$500,Number_of_Deviations!$C101))","v":""},{"$f":"IF(B101=\"\",\"\",COUNTIFS(Deviation_CEM_CPMS!$B$24:'Deviation_CEM_CPMS'!$B$500,B101,Deviation_CEM_CPMS!$C$24:'Deviation_CEM_CPMS'!$C$500,C101))","v":""}]
[null,{"$f":"+Lists!AF80","v":""},{"$f":"+Lists!AG80","v":""},{"$f":"IF(B102=\"\",\"\",COUNTIFS(Deviation_Limits!$B$24:$B$500,Number_of_Deviations!$B102,Deviation_Limits!$C$24:$C$500,Number_of_Deviations!$C102))","v":""},{"$f":"IF(B102=\"\",\"\",COUNTIFS(Deviation_CEM_CPMS!$B$24:'Deviation_CEM_CPMS'!$B$500,B102,Deviation_CEM_CPMS!$C$24:'Deviation_CEM_CPMS'!$C$500,C102))","v":""}]
[null,{"$f":"+Lists!AF81","v":""},{"$f":"+Lists!AG81","v":""},{"$f":"IF(B103=\"\",\"\",COUNTIFS(Deviation_Limits!$B$24:$B$500,Number_of_Deviations!$B103,Deviation_Limits!$C$24:$C$500,Number_of_Deviations!$C103))","v":""},{"$f":"IF(B103=\"\",\"\",COUNTIFS(Deviation_CEM_CPMS!$B$24:'Deviation_CEM_CPMS'!$B$500,B103,Deviation_CEM_CPMS!$C$24:'Deviation_CEM_CPMS'!$C$500,C103))","v":""}]
[null,{"$f":"+Lists!AF82","v":""},{"$f":"+Lists!AG82","v":""},{"$f":"IF(B104=\"\",\"\",COUNTIFS(Deviation_Limits!$B$24:$B$500,Number_of_Deviations!$B104,Deviation_Limits!$C$24:$C$500,Number_of_Deviations!$C104))","v":""},{"$f":"IF(B104=\"\",\"\",COUNTIFS(Deviation_CEM_CPMS!$B$24:'Deviation_CEM_CPMS'!$B$500,B104,Deviation_CEM_CPMS!$C$24:'Deviation_CEM_CPMS'!$C$500,C104))","v":""}]
[null,{"$f":"+Lists!AF83","v":""},{"$f":"+Lists!AG83","v":""},{"$f":"IF(B105=\"\",\"\",COUNTIFS(Deviation_Limits!$B$24:$B$500,Number_of_Deviations!$B105,Deviation_Limits!$C$24:$C$500,Number_of_Deviations!$C105))","v":""},{"$f":"IF(B105=\"\",\"\",COUNTIFS(Deviation_CEM_CPMS!$B$24:'Deviation_CEM_CPMS'!$B$500,B105,Deviation_CEM_CPMS!$C$24:'Deviation_CEM_CPMS'!$C$500,C105))","v":""}]
[null,{"$f":"+Lists!AF84","v":""},{"$f":"+Lists!AG84","v":""},{"$f":"IF(B106=\"\",\"\",COUNTIFS(Deviation_Limits!$B$24:$B$500,Number_of_Deviations!$B106,Deviation_Limits!$C$24:$C$500,Number_of_Deviations!$C106))","v":""},{"$f":"IF(B106=\"\",\"\",COUNTIFS(Deviation_CEM_CPMS!$B$24:'Deviation_CEM_CPMS'!$B$500,B106,Deviation_CEM_CPMS!$C$24:'Deviation_CEM_CPMS'!$C$500,C106))","v":""}]
[null,{"$f":"+Lists!AF85","v":""},{"$f":"+Lists!AG85","v":""},{"$f":"IF(B107=\"\",\"\",COUNTIFS(Deviation_Limits!$B$24:$B$500,Number_of_Deviations!$B107,Deviation_Limits!$C$24:$C$500,Number_of_Deviations!$C107))","v":""},{"$f":"IF(B107=\"\",\"\",COUNTIFS(Deviation_CEM_CPMS!$B$24:'Deviation_CEM_CPMS'!$B$500,B107,Deviation_CEM_CPMS!$C$24:'Deviation_CEM_CPMS'!$C$500,C107))","v":""}]
[null,{"$f":"+Lists!AF86","v":""},{"$f":"+Lists!AG86","v":""},{"$f":"IF(B108=\"\",\"\",COUNTIFS(Deviation_Limits!$B$24:$B$500,Number_of_Deviations!$B108,Deviation_Limits!$C$24:$C$500,Number_of_Deviations!$C108))","v":""},{"$f":"IF(B108=\"\",\"\",COUNTIFS(Deviation_CEM_CPMS!$B$24:'Deviation_CEM_CPMS'!$B$500,B108,Deviation_CEM_CPMS!$C$24:'Deviation_CEM_CPMS'!$C$500,C108))","v":""}]
[null,{"$f":"+Lists!AF87","v":""},{"$f":"+Lists!AG87","v":""},{"$f":"IF(B109=\"\",\"\",COUNTIFS(Deviation_Limits!$B$24:$B$500,Number_of_Deviations!$B109,Deviation_Limits!$C$24:$C$500,Number_of_Deviations!$C109))","v":""},{"$f":"IF(B109=\"\",\"\",COUNTIFS(Deviation_CEM_CPMS!$B$24:'Deviation_CEM_CPMS'!$B$500,B109,Deviation_CEM_CPMS!$C$24:'Deviation_CEM_CPMS'!$C$500,C109))","v":""}]
[null,{"$f":"+Lists!AF88","v":""},{"$f":"+Lists!AG88","v":""},{"$f":"IF(B110=\"\",\"\",COUNTIFS(Deviation_Limits!$B$24:$B$500,Number_of_Deviations!$B110,Deviation_Limits!$C$24:$C$500,Number_of_Deviations!$C110))","v":""},{"$f":"IF(B110=\"\",\"\",COUNTIFS(Deviation_CEM_CPMS!$B$24:'Deviation_CEM_CPMS'!$B$500,B110,Deviation_CEM_CPMS!$C$24:'Deviation_CEM_CPMS'!$C$500,C110))","v":""}]
[null,{"$f":"+Lists!AF89","v":""},{"$f":"+Lists!AG89","v":""},{"$f":"IF(B111=\"\",\"\",COUNTIFS(Deviation_Limits!$B$24:$B$500,Number_of_Deviations!$B111,Deviation_Limits!$C$24:$C$500,Number_of_Deviations!$C111))","v":""},{"$f":"IF(B111=\"\",\"\",COUNTIFS(Deviation_CEM_CPMS!$B$24:'Deviation_CEM_CPMS'!$B$500,B111,Deviation_CEM_CPMS!$C$24:'Deviation_CEM_CPMS'!$C$500,C111))","v":""}]
[null,{"$f":"+Lists!AF90","v":""},{"$f":"+Lists!AG90","v":""},{"$f":"IF(B112=\"\",\"\",COUNTIFS(Deviation_Limits!$B$24:$B$500,Number_of_Deviations!$B112,Deviation_Limits!$C$24:$C$500,Number_of_Deviations!$C112))","v":""},{"$f":"IF(B112=\"\",\"\",COUNTIFS(Deviation_CEM_CPMS!$B$24:'Deviation_CEM_CPMS'!$B$500,B112,Deviation_CEM_CPMS!$C$24:'Deviation_CEM_CPMS'!$C$500,C112))","v":""}]
[null,{"$f":"+Lists!AF91","v":""},{"$f":"+Lists!AG91","v":""},{"$f":"IF(B113=\"\",\"\",COUNTIFS(Deviation_Limits!$B$24:$B$500,Number_of_Deviations!$B113,Deviation_Limits!$C$24:$C$500,Number_of_Deviations!$C113))","v":""},{"$f":"IF(B113=\"\",\"\",COUNTIFS(Deviation_CEM_CPMS!$B$24:'Deviation_CEM_CPMS'!$B$500,B113,Deviation_CEM_CPMS!$C$24:'Deviation_CEM_CPMS'!$C$500,C113))","v":""}]
[null,{"$f":"+Lists!AF92","v":""},{"$f":"+Lists!AG92","v":""},{"$f":"IF(B114=\"\",\"\",COUNTIFS(Deviation_Limits!$B$24:$B$500,Number_of_Deviations!$B114,Deviation_Limits!$C$24:$C$500,Number_of_Deviations!$C114))","v":""},{"$f":"IF(B114=\"\",\"\",COUNTIFS(Deviation_CEM_CPMS!$B$24:'Deviation_CEM_CPMS'!$B$500,B114,Deviation_CEM_CPMS!$C$24:'Deviation_CEM_CPMS'!$C$500,C114))","v":""}]
[null,{"$f":"+Lists!AF93","v":""},{"$f":"+Lists!AG93","v":""},{"$f":"IF(B115=\"\",\"\",COUNTIFS(Deviation_Limits!$B$24:$B$500,Number_of_Deviations!$B115,Deviation_Limits!$C$24:$C$500,Number_of_Deviations!$C115))","v":""},{"$f":"IF(B115=\"\",\"\",COUNTIFS(Deviation_CEM_CPMS!$B$24:'Deviation_CEM_CPMS'!$B$500,B115,Deviation_CEM_CPMS!$C$24:'Deviation_CEM_CPMS'!$C$500,C115))","v":""}]
[null,{"$f":"+Lists!AF94","v":""},{"$f":"+Lists!AG94","v":""},{"$f":"IF(B116=\"\",\"\",COUNTIFS(Deviation_Limits!$B$24:$B$500,Number_of_Deviations!$B116,Deviation_Limits!$C$24:$C$500,Number_of_Deviations!$C116))","v":""},{"$f":"IF(B116=\"\",\"\",COUNTIFS(Deviation_CEM_CPMS!$B$24:'Deviation_CEM_CPMS'!$B$500,B116,Deviation_CEM_CPMS!$C$24:'Deviation_CEM_CPMS'!$C$500,C116))","v":""}]
[null,{"$f":"+Lists!AF95","v":""},{"$f":"+Lists!AG95","v":""},{"$f":"IF(B117=\"\",\"\",COUNTIFS(Deviation_Limits!$B$24:$B$500,Number_of_Deviations!$B117,Deviation_Limits!$C$24:$C$500,Number_of_Deviations!$C117))","v":""},{"$f":"IF(B117=\"\",\"\",COUNTIFS(Deviation_CEM_CPMS!$B$24:'Deviation_CEM_CPMS'!$B$500,B117,Deviation_CEM_CPMS!$C$24:'Deviation_CEM_CPMS'!$C$500,C117))","v":""}]
[null,{"$f":"+Lists!AF96","v":""},{"$f":"+Lists!AG96","v":""},{"$f":"IF(B118=\"\",\"\",COUNTIFS(Deviation_Limits!$B$24:$B$500,Number_of_Deviations!$B118,Deviation_Limits!$C$24:$C$500,Number_of_Deviations!$C118))","v":""},{"$f":"IF(B118=\"\",\"\",COUNTIFS(Deviation_CEM_CPMS!$B$24:'Deviation_CEM_CPMS'!$B$500,B118,Deviation_CEM_CPMS!$C$24:'Deviation_CEM_CPMS'!$C$500,C118))","v":""}]
[null,{"$f":"+Lists!AF97","v":""},{"$f":"+Lists!AG97","v":""},{"$f":"IF(B119=\"\",\"\",COUNTIFS(Deviation_Limits!$B$24:$B$500,Number_of_Deviations!$B119,Deviation_Limits!$C$24:$C$500,Number_of_Deviations!$C119))","v":""},{"$f":"IF(B119=\"\",\"\",COUNTIFS(Deviation_CEM_CPMS!$B$24:'Deviation_CEM_CPMS'!$B$500,B119,Deviation_CEM_CPMS!$C$24:'Deviation_CEM_CPMS'!$C$500,C119))","v":""}]
[null,{"$f":"+Lists!AF98","v":""},{"$f":"+Lists!AG98","v":""},{"$f":"IF(B120=\"\",\"\",COUNTIFS(Deviation_Limits!$B$24:$B$500,Number_of_Deviations!$B120,Deviation_Limits!$C$24:$C$500,Number_of_Deviations!$C120))","v":""},{"$f":"IF(B120=\"\",\"\",COUNTIFS(Deviation_CEM_CPMS!$B$24:'Deviation_CEM_CPMS'!$B$500,B120,Deviation_CEM_CPMS!$C$24:'Deviation_CEM_CPMS'!$C$500,C120))","v":""}]
[null,{"$f":"+Lists!AF99","v":""},{"$f":"+Lists!AG99","v":""},{"$f":"IF(B121=\"\",\"\",COUNTIFS(Deviation_Limits!$B$24:$B$500,Number_of_Deviations!$B121,Deviation_Limits!$C$24:$C$500,Number_of_Deviations!$C121))","v":""},{"$f":"IF(B121=\"\",\"\",COUNTIFS(Deviation_CEM_CPMS!$B$24:'Deviation_CEM_CPMS'!$B$500,B121,Deviation_CEM_CPMS!$C$24:'Deviation_CEM_CPMS'!$C$500,C121))","v":""}]
[null,{"$f":"+Lists!AF100","v":""},{"$f":"+Lists!AG100","v":""},{"$f":"IF(B122=\"\",\"\",COUNTIFS(Deviation_Limits!$B$24:$B$500,Number_of_Deviations!$B122,Deviation_Limits!$C$24:$C$500,Number_of_Deviations!$C122))","v":""},{"$f":"IF(B122=\"\",\"\",COUNTIFS(Deviation_CEM_CPMS!$B$24:'Deviation_CEM_CPMS'!$B$500,B122,Deviation_CEM_CPMS!$C$24:'Deviation_CEM_CPMS'!$C$500,C122))","v":""}]
[null,{"$f":"+Lists!AF101","v":""},{"$f":"+Lists!AG101","v":""},{"$f":"IF(B123=\"\",\"\",COUNTIFS(Deviation_Limits!$B$24:$B$500,Number_of_Deviations!$B123,Deviation_Limits!$C$24:$C$500,Number_of_Deviations!$C123))","v":""},{"$f":"IF(B123=\"\",\"\",COUNTIFS(Deviation_CEM_CPMS!$B$24:'Deviation_CEM_CPMS'!$B$500,B123,Deviation_CEM_CPMS!$C$24:'Deviation_CEM_CPMS'!$C$500,C123))","v":""}]
[null,{"$f":"+Lists!AF102","v":""},{"$f":"+Lists!AG102","v":""},{"$f":"IF(B124=\"\",\"\",COUNTIFS(Deviation_Limits!$B$24:$B$500,Number_of_Deviations!$B124,Deviation_Limits!$C$24:$C$500,Number_of_Deviations!$C124))","v":""},{"$f":"IF(B124=\"\",\"\",COUNTIFS(Deviation_CEM_CPMS!$B$24:'Deviation_CEM_CPMS'!$B$500,B124,Deviation_CEM_CPMS!$C$24:'Deviation_CEM_CPMS'!$C$500,C124))","v":""}]
[null,{"$f":"+Lists!AF103","v":""},{"$f":"+Lists!AG103","v":""},{"$f":"IF(B125=\"\",\"\",COUNTIFS(Deviation_Limits!$B$24:$B$500,Number_of_Deviations!$B125,Deviation_Limits!$C$24:$C$500,Number_of_Deviations!$C125))","v":""},{"$f":"IF(B125=\"\",\"\",COUNTIFS(Deviation_CEM_CPMS!$B$24:'Deviation_CEM_CPMS'!$B$500,B125,Deviation_CEM_CPMS!$C$24:'Deviation_CEM_CPMS'!$C$500,C125))","v":""}]
[null,{"$f":"+Lists!AF104","v":""},{"$f":"+Lists!AG104","v":""},{"$f":"IF(B126=\"\",\"\",COUNTIFS(Deviation_Limits!$B$24:$B$500,Number_of_Deviations!$B126,Deviation_Limits!$C$24:$C$500,Number_of_Deviations!$C126))","v":""},{"$f":"IF(B126=\"\",\"\",COUNTIFS(Deviation_CEM_CPMS!$B$24:'Deviation_CEM_CPMS'!$B$500,B126,Deviation_CEM_CPMS!$C$24:'Deviation_CEM_CPMS'!$C$500,C126))","v":""}]
[null,{"$f":"+Lists!AF105","v":""},{"$f":"+Lists!AG105","v":""},{"$f":"IF(B127=\"\",\"\",COUNTIFS(Deviation_Limits!$B$24:$B$500,Number_of_Deviations!$B127,Deviation_Limits!$C$24:$C$500,Number_of_Deviations!$C127))","v":""},{"$f":"IF(B127=\"\",\"\",COUNTIFS(Deviation_CEM_CPMS!$B$24:'Deviation_CEM_CPMS'!$B$500,B127,Deviation_CEM_CPMS!$C$24:'Deviation_CEM_CPMS'!$C$500,C127))","v":""}]
[null,{"$f":"+Lists!AF106","v":""},{"$f":"+Lists!AG106","v":""},{"$f":"IF(B128=\"\",\"\",COUNTIFS(Deviation_Limits!$B$24:$B$500,Number_of_Deviations!$B128,Deviation_Limits!$C$24:$C$500,Number_of_Deviations!$C128))","v":""},{"$f":"IF(B128=\"\",\"\",COUNTIFS(Deviation_CEM_CPMS!$B$24:'Deviation_CEM_CPMS'!$B$500,B128,Deviation_CEM_CPMS!$C$24:'Deviation_CEM_CPMS'!$C$500,C128))","v":""}]
[null,{"$f":"+Lists!AF107","v":""},{"$f":"+Lists!AG107","v":""},{"$f":"IF(B129=\"\",\"\",COUNTIFS(Deviation_Limits!$B$24:$B$500,Number_of_Deviations!$B129,Deviation_Limits!$C$24:$C$500,Number_of_Deviations!$C129))","v":""},{"$f":"IF(B129=\"\",\"\",COUNTIFS(Deviation_CEM_CPMS!$B$24:'Deviation_CEM_CPMS'!$B$500,B129,Deviation_CEM_CPMS!$C$24:'Deviation_CEM_CPMS'!$C$500,C129))","v":""}]
[null,{"$f":"+Lists!AF108","v":""},{"$f":"+Lists!AG108","v":""},{"$f":"IF(B130=\"\",\"\",COUNTIFS(Deviation_Limits!$B$24:$B$500,Number_of_Deviations!$B130,Deviation_Limits!$C$24:$C$500,Number_of_Deviations!$C130))","v":""},{"$f":"IF(B130=\"\",\"\",COUNTIFS(Deviation_CEM_CPMS!$B$24:'Deviation_CEM_CPMS'!$B$500,B130,Deviation_CEM_CPMS!$C$24:'Deviation_CEM_CPMS'!$C$500,C130))","v":""}]
[null,{"$f":"+Lists!AF109","v":""},{"$f":"+Lists!AG109","v":""},{"$f":"IF(B131=\"\",\"\",COUNTIFS(Deviation_Limits!$B$24:$B$500,Number_of_Deviations!$B131,Deviation_Limits!$C$24:$C$500,Number_of_Deviations!$C131))","v":""},{"$f":"IF(B131=\"\",\"\",COUNTIFS(Deviation_CEM_CPMS!$B$24:'Deviation_CEM_CPMS'!$B$500,B131,Deviation_CEM_CPMS!$C$24:'Deviation_CEM_CPMS'!$C$500,C131))","v":""}]
[null,{"$f":"+Lists!AF110","v":""},{"$f":"+Lists!AG110","v":""},{"$f":"IF(B132=\"\",\"\",COUNTIFS(Deviation_Limits!$B$24:$B$500,Number_of_Deviations!$B132,Deviation_Limits!$C$24:$C$500,Number_of_Deviations!$C132))","v":""},{"$f":"IF(B132=\"\",\"\",COUNTIFS(Deviation_CEM_CPMS!$B$24:'Deviation_CEM_CPMS'!$B$500,B132,Deviation_CEM_CPMS!$C$24:'Deviation_CEM_CPMS'!$C$500,C132))","v":""}]
[null,{"$f":"+Lists!AF111","v":""},{"$f":"+Lists!AG111","v":""},{"$f":"IF(B133=\"\",\"\",COUNTIFS(Deviation_Limits!$B$24:$B$500,Number_of_Deviations!$B133,Deviation_Limits!$C$24:$C$500,Number_of_Deviations!$C133))","v":""},{"$f":"IF(B133=\"\",\"\",COUNTIFS(Deviation_CEM_CPMS!$B$24:'Deviation_CEM_CPMS'!$B$500,B133,Deviation_CEM_CPMS!$C$24:'Deviation_CEM_CPMS'!$C$500,C133))","v":""}]
[null,{"$f":"+Lists!AF112","v":""},{"$f":"+Lists!AG112","v":""},{"$f":"IF(B134=\"\",\"\",COUNTIFS(Deviation_Limits!$B$24:$B$500,Number_of_Deviations!$B134,Deviation_Limits!$C$24:$C$500,Number_of_Deviations!$C134))","v":""},{"$f":"IF(B134=\"\",\"\",COUNTIFS(Deviation_CEM_CPMS!$B$24:'Deviation_CEM_CPMS'!$B$500,B134,Deviation_CEM_CPMS!$C$24:'Deviation_CEM_CPMS'!$C$500,C134))","v":""}]
[null,{"$f":"+Lists!AF113","v":""},{"$f":"+Lists!AG113","v":""},{"$f":"IF(B135=\"\",\"\",COUNTIFS(Deviation_Limits!$B$24:$B$500,Number_of_Deviations!$B135,Deviation_Limits!$C$24:$C$500,Number_of_Deviations!$C135))","v":""},{"$f":"IF(B135=\"\",\"\",COUNTIFS(Deviation_CEM_CPMS!$B$24:'Deviation_CEM_CPMS'!$B$500,B135,Deviation_CEM_CPMS!$C$24:'Deviation_CEM_CPMS'!$C$500,C135))","v":""}]
[null,{"$f":"+Lists!AF114","v":""},{"$f":"+Lists!AG114","v":""},{"$f":"IF(B136=\"\",\"\",COUNTIFS(Deviation_Limits!$B$24:$B$500,Number_of_Deviations!$B136,Deviation_Limits!$C$24:$C$500,Number_of_Deviations!$C136))","v":""},{"$f":"IF(B136=\"\",\"\",COUNTIFS(Deviation_CEM_CPMS!$B$24:'Deviation_CEM_CPMS'!$B$500,B136,Deviation_CEM_CPMS!$C$24:'Deviation_CEM_CPMS'!$C$500,C136))","v":""}]
[null,{"$f":"+Lists!AF115","v":""},{"$f":"+Lists!AG115","v":""},{"$f":"IF(B137=\"\",\"\",COUNTIFS(Deviation_Limits!$B$24:$B$500,Number_of_Deviations!$B137,Deviation_Limits!$C$24:$C$500,Number_of_Deviations!$C137))","v":""},{"$f":"IF(B137=\"\",\"\",COUNTIFS(Deviation_CEM_CPMS!$B$24:'Deviation_CEM_CPMS'!$B$500,B137,Deviation_CEM_CPMS!$C$24:'Deviation_CEM_CPMS'!$C$500,C137))","v":""}]
[null,{"$f":"+Lists!AF116","v":""},{"$f":"+Lists!AG116","v":""},{"$f":"IF(B138=\"\",\"\",COUNTIFS(Deviation_Limits!$B$24:$B$500,Number_of_Deviations!$B138,Deviation_Limits!$C$24:$C$500,Number_of_Deviations!$C138))","v":""},{"$f":"IF(B138=\"\",\"\",COUNTIFS(Deviation_CEM_CPMS!$B$24:'Deviation_CEM_CPMS'!$B$500,B138,Deviation_CEM_CPMS!$C$24:'Deviation_CEM_CPMS'!$C$500,C138))","v":""}]
[null,{"$f":"+Lists!AF117","v":""},{"$f":"+Lists!AG117","v":""},{"$f":"IF(B139=\"\",\"\",COUNTIFS(Deviation_Limits!$B$24:$B$500,Number_of_Deviations!$B139,Deviation_Limits!$C$24:$C$500,Number_of_Deviations!$C139))","v":""},{"$f":"IF(B139=\"\",\"\",COUNTIFS(Deviation_CEM_CPMS!$B$24:'Deviation_CEM_CPMS'!$B$500,B139,Deviation_CEM_CPMS!$C$24:'Deviation_CEM_CPMS'!$C$500,C139))","v":""}]
[null,{"$f":"+Lists!AF118","v":""},{"$f":"+Lists!AG118","v":""},{"$f":"IF(B140=\"\",\"\",COUNTIFS(Deviation_Limits!$B$24:$B$500,Number_of_Deviations!$B140,Deviation_Limits!$C$24:$C$500,Number_of_Deviations!$C140))","v":""},{"$f":"IF(B140=\"\",\"\",COUNTIFS(Deviation_CEM_CPMS!$B$24:'Deviation_CEM_CPMS'!$B$500,B140,Deviation_CEM_CPMS!$C$24:'Deviation_CEM_CPMS'!$C$500,C140))","v":""}]
[null,{"$f":"+Lists!AF119","v":""},{"$f":"+Lists!AG119","v":""},{"$f":"IF(B141=\"\",\"\",COUNTIFS(Deviation_Limits!$B$24:$B$500,Number_of_Deviations!$B141,Deviation_Limits!$C$24:$C$500,Number_of_Deviations!$C141))","v":""},{"$f":"IF(B141=\"\",\"\",COUNTIFS(Deviation_CEM_CPMS!$B$24:'Deviation_CEM_CPMS'!$B$500,B141,Deviation_CEM_CPMS!$C$24:'Deviation_CEM_CPMS'!$C$500,C141))","v":""}]
[null,{"$f":"+Lists!AF120","v":""},{"$f":"+Lists!AG120","v":""},{"$f":"IF(B142=\"\",\"\",COUNTIFS(Deviation_Limits!$B$24:$B$500,Number_of_Deviations!$B142,Deviation_Limits!$C$24:$C$500,Number_of_Deviations!$C142))","v":""},{"$f":"IF(B142=\"\",\"\",COUNTIFS(Deviation_CEM_CPMS!$B$24:'Deviation_CEM_CPMS'!$B$500,B142,Deviation_CEM_CPMS!$C$24:'Deviation_CEM_CPMS'!$C$500,C142))","v":""}]
[null,{"$f":"+Lists!AF121","v":""},{"$f":"+Lists!AG121","v":""},{"$f":"IF(B143=\"\",\"\",COUNTIFS(Deviation_Limits!$B$24:$B$500,Number_of_Deviations!$B143,Deviation_Limits!$C$24:$C$500,Number_of_Deviations!$C143))","v":""},{"$f":"IF(B143=\"\",\"\",COUNTIFS(Deviation_CEM_CPMS!$B$24:'Deviation_CEM_CPMS'!$B$500,B143,Deviation_CEM_CPMS!$C$24:'Deviation_CEM_CPMS'!$C$500,C143))","v":""}]
[null,{"$f":"+Lists!AF122","v":""},{"$f":"+Lists!AG122","v":""},{"$f":"IF(B144=\"\",\"\",COUNTIFS(Deviation_Limits!$B$24:$B$500,Number_of_Deviations!$B144,Deviation_Limits!$C$24:$C$500,Number_of_Deviations!$C144))","v":""},{"$f":"IF(B144=\"\",\"\",COUNTIFS(Deviation_CEM_CPMS!$B$24:'Deviation_CEM_CPMS'!$B$500,B144,Deviation_CEM_CPMS!$C$24:'Deviation_CEM_CPMS'!$C$500,C144))","v":""}]
[null,{"$f":"+Lists!AF123","v":""},{"$f":"+Lists!AG123","v":""},{"$f":"IF(B145=\"\",\"\",COUNTIFS(Deviation_Limits!$B$24:$B$500,Number_of_Deviations!$B145,Deviation_Limits!$C$24:$C$500,Number_of_Deviations!$C145))","v":""},{"$f":"IF(B145=\"\",\"\",COUNTIFS(Deviation_CEM_CPMS!$B$24:'Deviation_CEM_CPMS'!$B$500,B145,Deviation_CEM_CPMS!$C$24:'Deviation_CEM_CPMS'!$C$500,C145))","v":""}]
[null,{"$f":"+Lists!AF124","v":""},{"$f":"+Lists!AG124","v":""},{"$f":"IF(B146=\"\",\"\",COUNTIFS(Deviation_Limits!$B$24:$B$500,Number_of_Deviations!$B146,Deviation_Limits!$C$24:$C$500,Number_of_Deviations!$C146))","v":""},{"$f":"IF(B146=\"\",\"\",COUNTIFS(Deviation_CEM_CPMS!$B$24:'Deviation_CEM_CPMS'!$B$500,B146,Deviation_CEM_CPMS!$C$24:'Deviation_CEM_CPMS'!$C$500,C146))","v":""}]
[null,{"$f":"+Lists!AF125","v":""},{"$f":"+Lists!AG125","v":""},{"$f":"IF(B147=\"\",\"\",COUNTIFS(Deviation_Limits!$B$24:$B$500,Number_of_Deviations!$B147,Deviation_Limits!$C$24:$C$500,Number_of_Deviations!$C147))","v":""},{"$f":"IF(B147=\"\",\"\",COUNTIFS(Deviation_CEM_CPMS!$B$24:'Deviation_CEM_CPMS'!$B$500,B147,Deviation_CEM_CPMS!$C$24:'Deviation_CEM_CPMS'!$C$500,C147))","v":""}]
[null,{"$f":"+Lists!AF126","v":""},{"$f":"+Lists!AG126","v":""},{"$f":"IF(B148=\"\",\"\",COUNTIFS(Deviation_Limits!$B$24:$B$500,Number_of_Deviations!$B148,Deviation_Limits!$C$24:$C$500,Number_of_Deviations!$C148))","v":""},{"$f":"IF(B148=\"\",\"\",COUNTIFS(Deviation_CEM_CPMS!$B$24:'Deviation_CEM_CPMS'!$B$500,B148,Deviation_CEM_CPMS!$C$24:'Deviation_CEM_CPMS'!$C$500,C148))","v":""}]
[null,{"$f":"+Lists!AF127","v":""},{"$f":"+Lists!AG127","v":""},{"$f":"IF(B149=\"\",\"\",COUNTIFS(Deviation_Limits!$B$24:$B$500,Number_of_Deviations!$B149,Deviation_Limits!$C$24:$C$500,Number_of_Deviations!$C149))","v":""},{"$f":"IF(B149=\"\",\"\",COUNTIFS(Deviation_CEM_CPMS!$B$24:'Deviation_CEM_CPMS'!$B$500,B149,Deviation_CEM_CPMS!$C$24:'Deviation_CEM_CPMS'!$C$500,C149))","v":""}]
[null,{"$f":"+Lists!AF128","v":""},{"$f":"+Lists!AG128","v":""},{"$f":"IF(B150=\"\",\"\",COUNTIFS(Deviation_Limits!$B$24:$B$500,Number_of_Deviations!$B150,Deviation_Limits!$C$24:$C$500,Number_of_Deviations!$C150))","v":""},{"$f":"IF(B150=\"\",\"\",COUNTIFS(Deviation_CEM_CPMS!$B$24:'Deviation_CEM_CPMS'!$B$500,B150,Deviation_CEM_CPMS!$C$24:'Deviation_CEM_CPMS'!$C$500,C150))","v":""}]
[null,{"$f":"+Lists!AF129","v":""},{"$f":"+Lists!AG129","v":""},{"$f":"IF(B151=\"\",\"\",COUNTIFS(Deviation_Limits!$B$24:$B$500,Number_of_Deviations!$B151,Deviation_Limits!$C$24:$C$500,Number_of_Deviations!$C151))","v":""},{"$f":"IF(B151=\"\",\"\",COUNTIFS(Deviation_CEM_CPMS!$B$24:'Deviation_CEM_CPMS'!$B$500,B151,Deviation_CEM_CPMS!$C$24:'Deviation_CEM_CPMS'!$C$500,C151))","v":""}]
[null,{"$f":"+Lists!AF130","v":""},{"$f":"+Lists!AG130","v":""},{"$f":"IF(B152=\"\",\"\",COUNTIFS(Deviation_Limits!$B$24:$B$500,Number_of_Deviations!$B152,Deviation_Limits!$C$24:$C$500,Number_of_Deviations!$C152))","v":""},{"$f":"IF(B152=\"\",\"\",COUNTIFS(Deviation_CEM_CPMS!$B$24:'Deviation_CEM_CPMS'!$B$500,B152,Deviation_CEM_CPMS!$C$24:'Deviation_CEM_CPMS'!$C$500,C152))","v":""}]
[null,{"$f":"+Lists!AF131","v":""},{"$f":"+Lists!AG131","v":""},{"$f":"IF(B153=\"\",\"\",COUNTIFS(Deviation_Limits!$B$24:$B$500,Number_of_Deviations!$B153,Deviation_Limits!$C$24:$C$500,Number_of_Deviations!$C153))","v":""},{"$f":"IF(B153=\"\",\"\",COUNTIFS(Deviation_CEM_CPMS!$B$24:'Deviation_CEM_CPMS'!$B$500,B153,Deviation_CEM_CPMS!$C$24:'Deviation_CEM_CPMS'!$C$500,C153))","v":""}]
[null,{"$f":"+Lists!AF132","v":""},{"$f":"+Lists!AG132","v":""},{"$f":"IF(B154=\"\",\"\",COUNTIFS(Deviation_Limits!$B$24:$B$500,Number_of_Deviations!$B154,Deviation_Limits!$C$24:$C$500,Number_of_Deviations!$C154))","v":""},{"$f":"IF(B154=\"\",\"\",COUNTIFS(Deviation_CEM_CPMS!$B$24:'Deviation_CEM_CPMS'!$B$500,B154,Deviation_CEM_CPMS!$C$24:'Deviation_CEM_CPMS'!$C$500,C154))","v":""}]
[null,{"$f":"+Lists!AF133","v":""},{"$f":"+Lists!AG133","v":""},{"$f":"IF(B155=\"\",\"\",COUNTIFS(Deviation_Limits!$B$24:$B$500,Number_of_Deviations!$B155,Deviation_Limits!$C$24:$C$500,Number_of_Deviations!$C155))","v":""},{"$f":"IF(B155=\"\",\"\",COUNTIFS(Deviation_CEM_CPMS!$B$24:'Deviation_CEM_CPMS'!$B$500,B155,Deviation_CEM_CPMS!$C$24:'Deviation_CEM_CPMS'!$C$500,C155))","v":""}]
[null,{"$f":"+Lists!AF134","v":""},{"$f":"+Lists!AG134","v":""},{"$f":"IF(B156=\"\",\"\",COUNTIFS(Deviation_Limits!$B$24:$B$500,Number_of_Deviations!$B156,Deviation_Limits!$C$24:$C$500,Number_of_Deviations!$C156))","v":""},{"$f":"IF(B156=\"\",\"\",COUNTIFS(Deviation_CEM_CPMS!$B$24:'Deviation_CEM_CPMS'!$B$500,B156,Deviation_CEM_CPMS!$C$24:'Deviation_CEM_CPMS'!$C$500,C156))","v":""}]
[null,{"$f":"+Lists!AF135","v":""},{"$f":"+Lists!AG135","v":""},{"$f":"IF(B157=\"\",\"\",COUNTIFS(Deviation_Limits!$B$24:$B$500,Number_of_Deviations!$B157,Deviation_Limits!$C$24:$C$500,Number_of_Deviations!$C157))","v":""},{"$f":"IF(B157=\"\",\"\",COUNTIFS(Deviation_CEM_CPMS!$B$24:'Deviation_CEM_CPMS'!$B$500,B157,Deviation_CEM_CPMS!$C$24:'Deviation_CEM_CPMS'!$C$500,C157))","v":""}]
[null,{"$f":"+Lists!AF136","v":""},{"$f":"+Lists!AG136","v":""},{"$f":"IF(B158=\"\",\"\",COUNTIFS(Deviation_Limits!$B$24:$B$500,Number_of_Deviations!$B158,Deviation_Limits!$C$24:$C$500,Number_of_Deviations!$C158))","v":""},{"$f":"IF(B158=\"\",\"\",COUNTIFS(Deviation_CEM_CPMS!$B$24:'Deviation_CEM_CPMS'!$B$500,B158,Deviation_CEM_CPMS!$C$24:'Deviation_CEM_CPMS'!$C$500,C158))","v":""}]
[null,{"$f":"+Lists!AF137","v":""},{"$f":"+Lists!AG137","v":""},{"$f":"IF(B159=\"\",\"\",COUNTIFS(Deviation_Limits!$B$24:$B$500,Number_of_Deviations!$B159,Deviation_Limits!$C$24:$C$500,Number_of_Deviations!$C159))","v":""},{"$f":"IF(B159=\"\",\"\",COUNTIFS(Deviation_CEM_CPMS!$B$24:'Deviation_CEM_CPMS'!$B$500,B159,Deviation_CEM_CPMS!$C$24:'Deviation_CEM_CPMS'!$C$500,C159))","v":""}]
[null,{"$f":"+Lists!AF138","v":""},{"$f":"+Lists!AG138","v":""},{"$f":"IF(B160=\"\",\"\",COUNTIFS(Deviation_Limits!$B$24:$B$500,Number_of_Deviations!$B160,Deviation_Limits!$C$24:$C$500,Number_of_Deviations!$C160))","v":""},{"$f":"IF(B160=\"\",\"\",COUNTIFS(Deviation_CEM_CPMS!$B$24:'Deviation_CEM_CPMS'!$B$500,B160,Deviation_CEM_CPMS!$C$24:'Deviation_CEM_CPMS'!$C$500,C160))","v":""}]
[null,{"$f":"+Lists!AF139","v":""},{"$f":"+Lists!AG139","v":""},{"$f":"IF(B161=\"\",\"\",COUNTIFS(Deviation_Limits!$B$24:$B$500,Number_of_Deviations!$B161,Deviation_Limits!$C$24:$C$500,Number_of_Deviations!$C161))","v":""},{"$f":"IF(B161=\"\",\"\",COUNTIFS(Deviation_CEM_CPMS!$B$24:'Deviation_CEM_CPMS'!$B$500,B161,Deviation_CEM_CPMS!$C$24:'Deviation_CEM_CPMS'!$C$500,C161))","v":""}]
[null,{"$f":"+Lists!AF140","v":""},{"$f":"+Lists!AG140","v":""},{"$f":"IF(B162=\"\",\"\",COUNTIFS(Deviation_Limits!$B$24:$B$500,Number_of_Deviations!$B162,Deviation_Limits!$C$24:$C$500,Number_of_Deviations!$C162))","v":""},{"$f":"IF(B162=\"\",\"\",COUNTIFS(Deviation_CEM_CPMS!$B$24:'Deviation_CEM_CPMS'!$B$500,B162,Deviation_CEM_CPMS!$C$24:'Deviation_CEM_CPMS'!$C$500,C162))","v":""}]
[null,{"$f":"+Lists!AF141","v":""},{"$f":"+Lists!AG141","v":""},{"$f":"IF(B163=\"\",\"\",COUNTIFS(Deviation_Limits!$B$24:$B$500,Number_of_Deviations!$B163,Deviation_Limits!$C$24:$C$500,Number_of_Deviations!$C163))","v":""},{"$f":"IF(B163=\"\",\"\",COUNTIFS(Deviation_CEM_CPMS!$B$24:'Deviation_CEM_CPMS'!$B$500,B163,Deviation_CEM_CPMS!$C$24:'Deviation_CEM_CPMS'!$C$500,C163))","v":""}]
[null,{"$f":"+Lists!AF142","v":""},{"$f":"+Lists!AG142","v":""},{"$f":"IF(B164=\"\",\"\",COUNTIFS(Deviation_Limits!$B$24:$B$500,Number_of_Deviations!$B164,Deviation_Limits!$C$24:$C$500,Number_of_Deviations!$C164))","v":""},{"$f":"IF(B164=\"\",\"\",COUNTIFS(Deviation_CEM_CPMS!$B$24:'Deviation_CEM_CPMS'!$B$500,B164,Deviation_CEM_CPMS!$C$24:'Deviation_CEM_CPMS'!$C$500,C164))","v":""}]
[null,{"$f":"+Lists!AF143","v":""},{"$f":"+Lists!AG143","v":""},{"$f":"IF(B165=\"\",\"\",COUNTIFS(Deviation_Limits!$B$24:$B$500,Number_of_Deviations!$B165,Deviation_Limits!$C$24:$C$500,Number_of_Deviations!$C165))","v":""},{"$f":"IF(B165=\"\",\"\",COUNTIFS(Deviation_CEM_CPMS!$B$24:'Deviation_CEM_CPMS'!$B$500,B165,Deviation_CEM_CPMS!$C$24:'Deviation_CEM_CPMS'!$C$500,C165))","v":""}]
[null,{"$f":"+Lists!AF144","v":""},{"$f":"+Lists!AG144","v":""},{"$f":"IF(B166=\"\",\"\",COUNTIFS(Deviation_Limits!$B$24:$B$500,Number_of_Deviations!$B166,Deviation_Limits!$C$24:$C$500,Number_of_Deviations!$C166))","v":""},{"$f":"IF(B166=\"\",\"\",COUNTIFS(Deviation_CEM_CPMS!$B$24:'Deviation_CEM_CPMS'!$B$500,B166,Deviation_CEM_CPMS!$C$24:'Deviation_CEM_CPMS'!$C$500,C166))","v":""}]
[null,{"$f":"+Lists!AF145","v":""},{"$f":"+Lists!AG145","v":""},{"$f":"IF(B167=\"\",\"\",COUNTIFS(Deviation_Limits!$B$24:$B$500,Number_of_Deviations!$B167,Deviation_Limits!$C$24:$C$500,Number_of_Deviations!$C167))","v":""},{"$f":"IF(B167=\"\",\"\",COUNTIFS(Deviation_CEM_CPMS!$B$24:'Deviation_CEM_CPMS'!$B$500,B167,Deviation_CEM_CPMS!$C$24:'Deviation_CEM_CPMS'!$C$500,C167))","v":""}]
[null,{"$f":"+Lists!AF146","v":""},{"$f":"+Lists!AG146","v":""},{"$f":"IF(B168=\"\",\"\",COUNTIFS(Deviation_Limits!$B$24:$B$500,Number_of_Deviations!$B168,Deviation_Limits!$C$24:$C$500,Number_of_Deviations!$C168))","v":""},{"$f":"IF(B168=\"\",\"\",COUNTIFS(Deviation_CEM_CPMS!$B$24:'Deviation_CEM_CPMS'!$B$500,B168,Deviation_CEM_CPMS!$C$24:'Deviation_CEM_CPMS'!$C$500,C168))","v":""}]
[null,{"$f":"+Lists!AF147","v":""},{"$f":"+Lists!AG147","v":""},{"$f":"IF(B169=\"\",\"\",COUNTIFS(Deviation_Limits!$B$24:$B$500,Number_of_Deviations!$B169,Deviation_Limits!$C$24:$C$500,Number_of_Deviations!$C169))","v":""},{"$f":"IF(B169=\"\",\"\",COUNTIFS(Deviation_CEM_CPMS!$B$24:'Deviation_CEM_CPMS'!$B$500,B169,Deviation_CEM_CPMS!$C$24:'Deviation_CEM_CPMS'!$C$500,C169))","v":""}]
[null,{"$f":"+Lists!AF148","v":""},{"$f":"+Lists!AG148","v":""},{"$f":"IF(B170=\"\",\"\",COUNTIFS(Deviation_Limits!$B$24:$B$500,Number_of_Deviations!$B170,Deviation_Limits!$C$24:$C$500,Number_of_Deviations!$C170))","v":""},{"$f":"IF(B170=\"\",\"\",COUNTIFS(Deviation_CEM_CPMS!$B$24:'Deviation_CEM_CPMS'!$B$500,B170,Deviation_CEM_CPMS!$C$24:'Deviation_CEM_CPMS'!$C$500,C170))","v":""}]
[null,{"$f":"+Lists!AF149","v":""},{"$f":"+Lists!AG149","v":""},{"$f":"IF(B171=\"\",\"\",COUNTIFS(Deviation_Limits!$B$24:$B$500,Number_of_Deviations!$B171,Deviation_Limits!$C$24:$C$500,Number_of_Deviations!$C171))","v":""},{"$f":"IF(B171=\"\",\"\",COUNTIFS(Deviation_CEM_CPMS!$B$24:'Deviation_CEM_CPMS'!$B$500,B171,Deviation_CEM_CPMS!$C$24:'Deviation_CEM_CPMS'!$C$500,C171))","v":""}]
[null,{"$f":"+Lists!AF150","v":""},{"$f":"+Lists!AG150","v":""},{"$f":"IF(B172=\"\",\"\",COUNTIFS(Deviation_Limits!$B$24:$B$500,Number_of_Deviations!$B172,Deviation_Limits!$C$24:$C$500,Number_of_Deviations!$C172))","v":""},{"$f":"IF(B172=\"\",\"\",COUNTIFS(Deviation_CEM_CPMS!$B$24:'Deviation_CEM_CPMS'!$B$500,B172,Deviation_CEM_CPMS!$C$24:'Deviation_CEM_CPMS'!$C$500,C172))","v":""}]
[null,{"$f":"+Lists!AF151","v":""},{"$f":"+Lists!AG151","v":""},{"$f":"IF(B173=\"\",\"\",COUNTIFS(Deviation_Limits!$B$24:$B$500,Number_of_Deviations!$B173,Deviation_Limits!$C$24:$C$500,Number_of_Deviations!$C173))","v":""},{"$f":"IF(B173=\"\",\"\",COUNTIFS(Deviation_CEM_CPMS!$B$24:'Deviation_CEM_CPMS'!$B$500,B173,Deviation_CEM_CPMS!$C$24:'Deviation_CEM_CPMS'!$C$500,C173))","v":""}]
[null,{"$f":"+Lists!AF152","v":""},{"$f":"+Lists!AG152","v":""},{"$f":"IF(B174=\"\",\"\",COUNTIFS(Deviation_Limits!$B$24:$B$500,Number_of_Deviations!$B174,Deviation_Limits!$C$24:$C$500,Number_of_Deviations!$C174))","v":""},{"$f":"IF(B174=\"\",\"\",COUNTIFS(Deviation_CEM_CPMS!$B$24:'Deviation_CEM_CPMS'!$B$500,B174,Deviation_CEM_CPMS!$C$24:'Deviation_CEM_CPMS'!$C$500,C174))","v":""}]
[null,{"$f":"+Lists!AF153","v":""},{"$f":"+Lists!AG153","v":""},{"$f":"IF(B175=\"\",\"\",COUNTIFS(Deviation_Limits!$B$24:$B$500,Number_of_Deviations!$B175,Deviation_Limits!$C$24:$C$500,Number_of_Deviations!$C175))","v":""},{"$f":"IF(B175=\"\",\"\",COUNTIFS(Deviation_CEM_CPMS!$B$24:'Deviation_CEM_CPMS'!$B$500,B175,Deviation_CEM_CPMS!$C$24:'Deviation_CEM_CPMS'!$C$500,C175))","v":""}]
[null,{"$f":"+Lists!AF154","v":""},{"$f":"+Lists!AG154","v":""},{"$f":"IF(B176=\"\",\"\",COUNTIFS(Deviation_Limits!$B$24:$B$500,Number_of_Deviations!$B176,Deviation_Limits!$C$24:$C$500,Number_of_Deviations!$C176))","v":""},{"$f":"IF(B176=\"\",\"\",COUNTIFS(Deviation_CEM_CPMS!$B$24:'Deviation_CEM_CPMS'!$B$500,B176,Deviation_CEM_CPMS!$C$24:'Deviation_CEM_CPMS'!$C$500,C176))","v":""}]
[null,{"$f":"+Lists!AF155","v":""},{"$f":"+Lists!AG155","v":""},{"$f":"IF(B177=\"\",\"\",COUNTIFS(Deviation_Limits!$B$24:$B$500,Number_of_Deviations!$B177,Deviation_Limits!$C$24:$C$500,Number_of_Deviations!$C177))","v":""},{"$f":"IF(B177=\"\",\"\",COUNTIFS(Deviation_CEM_CPMS!$B$24:'Deviation_CEM_CPMS'!$B$500,B177,Deviation_CEM_CPMS!$C$24:'Deviation_CEM_CPMS'!$C$500,C177))","v":""}]
[null,{"$f":"+Lists!AF156","v":""},{"$f":"+Lists!AG156","v":""},{"$f":"IF(B178=\"\",\"\",COUNTIFS(Deviation_Limits!$B$24:$B$500,Number_of_Deviations!$B178,Deviation_Limits!$C$24:$C$500,Number_of_Deviations!$C178))","v":""},{"$f":"IF(B178=\"\",\"\",COUNTIFS(Deviation_CEM_CPMS!$B$24:'Deviation_CEM_CPMS'!$B$500,B178,Deviation_CEM_CPMS!$C$24:'Deviation_CEM_CPMS'!$C$500,C178))","v":""}]
[null,{"$f":"+Lists!AF157","v":""},{"$f":"+Lists!AG157","v":""},{"$f":"IF(B179=\"\",\"\",COUNTIFS(Deviation_Limits!$B$24:$B$500,Number_of_Deviations!$B179,Deviation_Limits!$C$24:$C$500,Number_of_Deviations!$C179))","v":""},{"$f":"IF(B179=\"\",\"\",COUNTIFS(Deviation_CEM_CPMS!$B$24:'Deviation_CEM_CPMS'!$B$500,B179,Deviation_CEM_CPMS!$C$24:'Deviation_CEM_CPMS'!$C$500,C179))","v":""}]
[null,{"$f":"+Lists!AF158","v":""},{"$f":"+Lists!AG158","v":""},{"$f":"IF(B180=\"\",\"\",COUNTIFS(Deviation_Limits!$B$24:$B$500,Number_of_Deviations!$B180,Deviation_Limits!$C$24:$C$500,Number_of_Deviations!$C180))","v":""},{"$f":"IF(B180=\"\",\"\",COUNTIFS(Deviation_CEM_CPMS!$B$24:'Deviation_CEM_CPMS'!$B$500,B180,Deviation_CEM_CPMS!$C$24:'Deviation_CEM_CPMS'!$C$500,C180))","v":""}]
[null,{"$f":"+Lists!AF159","v":""},{"$f":"+Lists!AG159","v":""},{"$f":"IF(B181=\"\",\"\",COUNTIFS(Deviation_Limits!$B$24:$B$500,Number_of_Deviations!$B181,Deviation_Limits!$C$24:$C$500,Number_of_Deviations!$C181))","v":""},{"$f":"IF(B181=\"\",\"\",COUNTIFS(Deviation_CEM_CPMS!$B$24:'Deviation_CEM_CPMS'!$B$500,B181,Deviation_CEM_CPMS!$C$24:'Deviation_CEM_CPMS'!$C$500,C181))","v":""}]
[null,{"$f":"+Lists!AF160","v":""},{"$f":"+Lists!AG160","v":""},{"$f":"IF(B182=\"\",\"\",COUNTIFS(Deviation_Limits!$B$24:$B$500,Number_of_Deviations!$B182,Deviation_Limits!$C$24:$C$500,Number_of_Deviations!$C182))","v":""},{"$f":"IF(B182=\"\",\"\",COUNTIFS(Deviation_CEM_CPMS!$B$24:'Deviation_CEM_CPMS'!$B$500,B182,Deviation_CEM_CPMS!$C$24:'Deviation_CEM_CPMS'!$C$500,C182))","v":""}]
[null,{"$f":"+Lists!AF161","v":""},{"$f":"+Lists!AG161","v":""},{"$f":"IF(B183=\"\",\"\",COUNTIFS(Deviation_Limits!$B$24:$B$500,Number_of_Deviations!$B183,Deviation_Limits!$C$24:$C$500,Number_of_Deviations!$C183))","v":""},{"$f":"IF(B183=\"\",\"\",COUNTIFS(Deviation_CEM_CPMS!$B$24:'Deviation_CEM_CPMS'!$B$500,B183,Deviation_CEM_CPMS!$C$24:'Deviation_CEM_CPMS'!$C$500,C183))","v":""}]
[null,{"$f":"+Lists!AF162","v":""},{"$f":"+Lists!AG162","v":""},{"$f":"IF(B184=\"\",\"\",COUNTIFS(Deviation_Limits!$B$24:$B$500,Number_of_Deviations!$B184,Deviation_Limits!$C$24:$C$500,Number_of_Deviations!$C184))","v":""},{"$f":"IF(B184=\"\",\"\",COUNTIFS(Deviation_CEM_CPMS!$B$24:'Deviation_CEM_CPMS'!$B$500,B184,Deviation_CEM_CPMS!$C$24:'Deviation_CEM_CPMS'!$C$500,C184))","v":""}]
[null,{"$f":"+Lists!AF163","v":""},{"$f":"+Lists!AG163","v":""},{"$f":"IF(B185=\"\",\"\",COUNTIFS(Deviation_Limits!$B$24:$B$500,Number_of_Deviations!$B185,Deviation_Limits!$C$24:$C$500,Number_of_Deviations!$C185))","v":""},{"$f":"IF(B185=\"\",\"\",COUNTIFS(Deviation_CEM_CPMS!$B$24:'Deviation_CEM_CPMS'!$B$500,B185,Deviation_CEM_CPMS!$C$24:'Deviation_CEM_CPMS'!$C$500,C185))","v":""}]
[null,{"$f":"+Lists!AF164","v":""},{"$f":"+Lists!AG164","v":""},{"$f":"IF(B186=\"\",\"\",COUNTIFS(Deviation_Limits!$B$24:$B$500,Number_of_Deviations!$B186,Deviation_Limits!$C$24:$C$500,Number_of_Deviations!$C186))","v":""},{"$f":"IF(B186=\"\",\"\",COUNTIFS(Deviation_CEM_CPMS!$B$24:'Deviation_CEM_CPMS'!$B$500,B186,Deviation_CEM_CPMS!$C$24:'Deviation_CEM_CPMS'!$C$500,C186))","v":""}]
[null,{"$f":"+Lists!AF165","v":""},{"$f":"+Lists!AG165","v":""},{"$f":"IF(B187=\"\",\"\",COUNTIFS(Deviation_Limits!$B$24:$B$500,Number_of_Deviations!$B187,Deviation_Limits!$C$24:$C$500,Number_of_Deviations!$C187))","v":""},{"$f":"IF(B187=\"\",\"\",COUNTIFS(Deviation_CEM_CPMS!$B$24:'Deviation_CEM_CPMS'!$B$500,B187,Deviation_CEM_CPMS!$C$24:'Deviation_CEM_CPMS'!$C$500,C187))","v":""}]
[null,{"$f":"+Lists!AF166","v":""},{"$f":"+Lists!AG166","v":""},{"$f":"IF(B188=\"\",\"\",COUNTIFS(Deviation_Limits!$B$24:$B$500,Number_of_Deviations!$B188,Deviation_Limits!$C$24:$C$500,Number_of_Deviations!$C188))","v":""},{"$f":"IF(B188=\"\",\"\",COUNTIFS(Deviation_CEM_CPMS!$B$24:'Deviation_CEM_CPMS'!$B$500,B188,Deviation_CEM_CPMS!$C$24:'Deviation_CEM_CPMS'!$C$500,C188))","v":""}]
[null,{"$f":"+Lists!AF167","v":""},{"$f":"+Lists!AG167","v":""},{"$f":"IF(B189=\"\",\"\",COUNTIFS(Deviation_Limits!$B$24:$B$500,Number_of_Deviations!$B189,Deviation_Limits!$C$24:$C$500,Number_of_Deviations!$C189))","v":""},{"$f":"IF(B189=\"\",\"\",COUNTIFS(Deviation_CEM_CPMS!$B$24:'Deviation_CEM_CPMS'!$B$500,B189,Deviation_CEM_CPMS!$C$24:'Deviation_CEM_CPMS'!$C$500,C189))","v":""}]
[null,{"$f":"+Lists!AF168","v":""},{"$f":"+Lists!AG168","v":""},{"$f":"IF(B190=\"\",\"\",COUNTIFS(Deviation_Limits!$B$24:$B$500,Number_of_Deviations!$B190,Deviation_Limits!$C$24:$C$500,Number_of_Deviations!$C190))","v":""},{"$f":"IF(B190=\"\",\"\",COUNTIFS(Deviation_CEM_CPMS!$B$24:'Deviation_CEM_CPMS'!$B$500,B190,Deviation_CEM_CPMS!$C$24:'Deviation_CEM_CPMS'!$C$500,C190))","v":""}]
[null,{"$f":"+Lists!AF169","v":""},{"$f":"+Lists!AG169","v":""},{"$f":"IF(B191=\"\",\"\",COUNTIFS(Deviation_Limits!$B$24:$B$500,Number_of_Deviations!$B191,Deviation_Limits!$C$24:$C$500,Number_of_Deviations!$C191))","v":""},{"$f":"IF(B191=\"\",\"\",COUNTIFS(Deviation_CEM_CPMS!$B$24:'Deviation_CEM_CPMS'!$B$500,B191,Deviation_CEM_CPMS!$C$24:'Deviation_CEM_CPMS'!$C$500,C191))","v":""}]
[null,{"$f":"+Lists!AF170","v":""},{"$f":"+Lists!AG170","v":""},{"$f":"IF(B192=\"\",\"\",COUNTIFS(Deviation_Limits!$B$24:$B$500,Number_of_Deviations!$B192,Deviation_Limits!$C$24:$C$500,Number_of_Deviations!$C192))","v":""},{"$f":"IF(B192=\"\",\"\",COUNTIFS(Deviation_CEM_CPMS!$B$24:'Deviation_CEM_CPMS'!$B$500,B192,Deviation_CEM_CPMS!$C$24:'Deviation_CEM_CPMS'!$C$500,C192))","v":""}]
[null,{"$f":"+Lists!AF171","v":""},{"$f":"+Lists!AG171","v":""},{"$f":"IF(B193=\"\",\"\",COUNTIFS(Deviation_Limits!$B$24:$B$500,Number_of_Deviations!$B193,Deviation_Limits!$C$24:$C$500,Number_of_Deviations!$C193))","v":""},{"$f":"IF(B193=\"\",\"\",COUNTIFS(Deviation_CEM_CPMS!$B$24:'Deviation_CEM_CPMS'!$B$500,B193,Deviation_CEM_CPMS!$C$24:'Deviation_CEM_CPMS'!$C$500,C193))","v":""}]
[null,{"$f":"+Lists!AF172","v":""},{"$f":"+Lists!AG172","v":""},{"$f":"IF(B194=\"\",\"\",COUNTIFS(Deviation_Limits!$B$24:$B$500,Number_of_Deviations!$B194,Deviation_Limits!$C$24:$C$500,Number_of_Deviations!$C194))","v":""},{"$f":"IF(B194=\"\",\"\",COUNTIFS(Deviation_CEM_CPMS!$B$24:'Deviation_CEM_CPMS'!$B$500,B194,Deviation_CEM_CPMS!$C$24:'Deviation_CEM_CPMS'!$C$500,C194))","v":""}]
[null,{"$f":"+Lists!AF173","v":""},{"$f":"+Lists!AG173","v":""},{"$f":"IF(B195=\"\",\"\",COUNTIFS(Deviation_Limits!$B$24:$B$500,Number_of_Deviations!$B195,Deviation_Limits!$C$24:$C$500,Number_of_Deviations!$C195))","v":""},{"$f":"IF(B195=\"\",\"\",COUNTIFS(Deviation_CEM_CPMS!$B$24:'Deviation_CEM_CPMS'!$B$500,B195,Deviation_CEM_CPMS!$C$24:'Deviation_CEM_CPMS'!$C$500,C195))","v":""}]
[null,{"$f":"+Lists!AF174","v":""},{"$f":"+Lists!AG174","v":""},{"$f":"IF(B196=\"\",\"\",COUNTIFS(Deviation_Limits!$B$24:$B$500,Number_of_Deviations!$B196,Deviation_Limits!$C$24:$C$500,Number_of_Deviations!$C196))","v":""},{"$f":"IF(B196=\"\",\"\",COUNTIFS(Deviation_CEM_CPMS!$B$24:'Deviation_CEM_CPMS'!$B$500,B196,Deviation_CEM_CPMS!$C$24:'Deviation_CEM_CPMS'!$C$500,C196))","v":""}]
[null,{"$f":"+Lists!AF175","v":""},{"$f":"+Lists!AG175","v":""},{"$f":"IF(B197=\"\",\"\",COUNTIFS(Deviation_Limits!$B$24:$B$500,Number_of_Deviations!$B197,Deviation_Limits!$C$24:$C$500,Number_of_Deviations!$C197))","v":""},{"$f":"IF(B197=\"\",\"\",COUNTIFS(Deviation_CEM_CPMS!$B$24:'Deviation_CEM_CPMS'!$B$500,B197,Deviation_CEM_CPMS!$C$24:'Deviation_CEM_CPMS'!$C$500,C197))","v":""}]
[null,{"$f":"+Lists!AF176","v":""},{"$f":"+Lists!AG176","v":""},{"$f":"IF(B198=\"\",\"\",COUNTIFS(Deviation_Limits!$B$24:$B$500,Number_of_Deviations!$B198,Deviation_Limits!$C$24:$C$500,Number_of_Deviations!$C198))","v":""},{"$f":"IF(B198=\"\",\"\",COUNTIFS(Deviation_CEM_CPMS!$B$24:'Deviation_CEM_CPMS'!$B$500,B198,Deviation_CEM_CPMS!$C$24:'Deviation_CEM_CPMS'!$C$500,C198))","v":""}]
[null,{"$f":"+Lists!AF177","v":""},{"$f":"+Lists!AG177","v":""},{"$f":"IF(B199=\"\",\"\",COUNTIFS(Deviation_Limits!$B$24:$B$500,Number_of_Deviations!$B199,Deviation_Limits!$C$24:$C$500,Number_of_Deviations!$C199))","v":""},{"$f":"IF(B199=\"\",\"\",COUNTIFS(Deviation_CEM_CPMS!$B$24:'Deviation_CEM_CPMS'!$B$500,B199,Deviation_CEM_CPMS!$C$24:'Deviation_CEM_CPMS'!$C$500,C199))","v":""}]
[null,{"$f":"+Lists!AF178","v":""},{"$f":"+Lists!AG178","v":""},{"$f":"IF(B200=\"\",\"\",COUNTIFS(Deviation_Limits!$B$24:$B$500,Number_of_Deviations!$B200,Deviation_Limits!$C$24:$C$500,Number_of_Deviations!$C200))","v":""},{"$f":"IF(B200=\"\",\"\",COUNTIFS(Deviation_CEM_CPMS!$B$24:'Deviation_CEM_CPMS'!$B$500,B200,Deviation_CEM_CPMS!$C$24:'Deviation_CEM_CPMS'!$C$500,C200))","v":""}]
[null,null,null,null,null,null,null,null,null,{"$f":"IF(I201=\"\",\"\",I201/#REF!)","v":""}]
[null,null,null,null,null,null,null,null,null,{"$f":"IF(I202=\"\",\"\",I202/#REF!)","v":""}]
[null,null,null,null,null,null,null,null,null,{"$f":"IF(I203=\"\",\"\",I203/#REF!)","v":""}]
[null,null,null,null,null,null,null,null,null,{"$f":"IF(I204=\"\",\"\",I204/#REF!)","v":""}]
[null,null,null,null,null,null,null,null,null,{"$f":"IF(I205=\"\",\"\",I205/#REF!)","v":""}]
[null,null,null,null,null,null,null,null,null,{"$f":"IF(I206=\"\",\"\",I206/#REF!)","v":""}]
[null,null,null,null,null,null,null,null,null,{"$f":"IF(I207=\"\",\"\",I207/#REF!)","v":""}]
[null,null,null,null,null,null,null,null,null,{"$f":"IF(I208=\"\",\"\",I208/#REF!)","v":""}]
[null,null,null,null,null,null,null,null,null,{"$f":"IF(I209=\"\",\"\",I209/#REF!)","v":""}]
[null,null,null,null,null,null,null,null,null,{"$f":"IF(I210=\"\",\"\",I210/#REF!)","v":""}]
[null,null,null,null,null,null,null,null,null,{"$f":"IF(I211=\"\",\"\",I211/#REF!)","v":""}]
[null,null,null,null,null,null,null,null,null,{"$f":"IF(I212=\"\",\"\",I212/#REF!)","v":""}]
[null,null,null,null,null,null,null,null,null,{"$f":"IF(I213=\"\",\"\",I213/#REF!)","v":""}]
[null,null,null,null,null,null,null,null,null,{"$f":"IF(I214=\"\",\"\",I214/#REF!)","v":""}]
[null,null,null,null,null,null,null,null,null,{"$f":"IF(I215=\"\",\"\",I215/#REF!)","v":""}]
[null,null,null,null,null,null,null,null,null,{"$f":"IF(I216=\"\",\"\",I216/#REF!)","v":""}]
[null,null,null,null,null,null,null,null,null,{"$f":"IF(I217=\"\",\"\",I217/#REF!)","v":""}]
[null,null,null,null,null,null,null,null,null,{"$f":"IF(I218=\"\",\"\",I218/#REF!)","v":""}]
[null,null,null,null,null,null,null,null,null,{"$f":"IF(I219=\"\",\"\",I219/#REF!)","v":""}]
[null,null,null,null,null,null,null,null,null,{"$f":"IF(I220=\"\",\"\",I220/#REF!)","v":""}]
[null,null,null,null,null,null,null,null,null,{"$f":"IF(I221=\"\",\"\",I221/#REF!)","v":""}]
[null,null,null,null,null,null,null,null,null,{"$f":"IF(I222=\"\",\"\",I222/#REF!)","v":""}]
[null,null,null,null,null,null,null,null,null,{"$f":"IF(I223=\"\",\"\",I223/#REF!)","v":""}]
[null,null,null,null,null,null,null,null,null,{"$f":"IF(I224=\"\",\"\",I224/#REF!)","v":""}]
[null,null,null,null,null,null,null,null,null,{"$f":"IF(I225=\"\",\"\",I225/#REF!)","v":""}]
[null,null,null,null,null,null,null,null,null,{"$f":"IF(I226=\"\",\"\",I226/#REF!)","v":""}]
[null,null,null,null,null,null,null,null,null,{"$f":"IF(I227=\"\",\"\",I227/#REF!)","v":""}]
[null,null,null,null,null,null,null,null,null,{"$f":"IF(I228=\"\",\"\",I228/#REF!)","v":""}]
[null,null,null,null,null,null,null,null,null,{"$f":"IF(I229=\"\",\"\",I229/#REF!)","v":""}]
[null,null,null,null,null,null,null,null,null,{"$f":"IF(I230=\"\",\"\",I230/#REF!)","v":""}]
[null,null,null,null,null,null,null,null,null,{"$f":"IF(I231=\"\",\"\",I231/#REF!)","v":""}]
[null,null,null,null,null,null,null,null,null,{"$f":"IF(I232=\"\",\"\",I232/#REF!)","v":""}]
[null,null,null,null,null,null,null,null,null,{"$f":"IF(I233=\"\",\"\",I233/#REF!)","v":""}]
[null,null,null,null,null,null,null,null,null,{"$f":"IF(I234=\"\",\"\",I234/#REF!)","v":""}]
[null,null,null,null,null,null,null,null,null,{"$f":"IF(I235=\"\",\"\",I235/#REF!)","v":""}]
[null,null,null,null,null,null,null,null,null,{"$f":"IF(I236=\"\",\"\",I236/#REF!)","v":""}]
[null,null,null,null,null,null,null,null,null,{"$f":"IF(I237=\"\",\"\",I237/#REF!)","v":""}]
[null,null,null,null,null,null,null,null,null,{"$f":"IF(I238=\"\",\"\",I238/#REF!)","v":""}]
[null,null,null,null,null,null,null,null,null,{"$f":"IF(I239=\"\",\"\",I239/#REF!)","v":""}]
[null,null,null,null,null,null,null,null,null,{"$f":"IF(I240=\"\",\"\",I240/#REF!)","v":""}]
[null,null,null,null,null,null,null,null,null,{"$f":"IF(I241=\"\",\"\",I241/#REF!)","v":""}]
[null,null,null,null,null,null,null,null,null,{"$f":"IF(I242=\"\",\"\",I242/#REF!)","v":""}]
[null,null,null,null,null,null,null,null,null,{"$f":"IF(I243=\"\",\"\",I243/#REF!)","v":""}]
[null,null,null,null,null,null,null,null,null,{"$f":"IF(I244=\"\",\"\",I244/#REF!)","v":""}]
[null,null,null,null,null,null,null,null,null,{"$f":"IF(I245=\"\",\"\",I245/#REF!)","v":""}]
[null,null,null,null,null,null,null,null,null,{"$f":"IF(I246=\"\",\"\",I246/#REF!)","v":""}]
[null,null,null,null,null,null,null,null,null,{"$f":"IF(I247=\"\",\"\",I247/#REF!)","v":""}]
[null,null,null,null,null,null,null,null,null,{"$f":"IF(I248=\"\",\"\",I248/#REF!)","v":""}]
[null,null,null,null,null,null,null,null,null,{"$f":"IF(I249=\"\",\"\",I249/#REF!)","v":""}]
[null,null,null,null,null,null,null,null,null,{"$f":"IF(I250=\"\",\"\",I250/#REF!)","v":""}]
[null,null,null,null,null,null,null,null,null,{"$f":"IF(I251=\"\",\"\",I251/#REF!)","v":""}]
[null,null,null,null,null,null,null,null,null,{"$f":"IF(I252=\"\",\"\",I252/#REF!)","v":""}]
[null,null,null,null,null,null,null,null,null,{"$f":"IF(I253=\"\",\"\",I253/#REF!)","v":""}]
[null,null,null,null,null,null,null,null,null,{"$f":"IF(I254=\"\",\"\",I254/#REF!)","v":""}]
[null,null,null,null,null,null,null,null,null,{"$f":"IF(I255=\"\",\"\",I255/#REF!)","v":""}]
[null,null,null,null,null,null,null,null,null,{"$f":"IF(I256=\"\",\"\",I256/#REF!)","v":""}]
[null,null,null,null,null,null,null,null,null,{"$f":"IF(I257=\"\",\"\",I257/#REF!)","v":""}]
[null,null,null,null,null,null,null,null,null,{"$f":"IF(I258=\"\",\"\",I258/#REF!)","v":""}]
[null,null,null,null,null,null,null,null,null,{"$f":"IF(I259=\"\",\"\",I259/#REF!)","v":""}]
[null,null,null,null,null,null,null,null,null,{"$f":"IF(I260=\"\",\"\",I260/#REF!)","v":""}]
[null,null,null,null,null,null,null,null,null,{"$f":"IF(I261=\"\",\"\",I261/#REF!)","v":""}]
[null,null,null,null,null,null,null,null,null,{"$f":"IF(I262=\"\",\"\",I262/#REF!)","v":""}]
[null,null,null,null,null,null,null,null,null,{"$f":"IF(I263=\"\",\"\",I263/#REF!)","v":""}]
[null,null,null,null,null,null,null,null,null,{"$f":"IF(I264=\"\",\"\",I264/#REF!)","v":""}]
[null,null,null,null,null,null,null,null,null,{"$f":"IF(I265=\"\",\"\",I265/#REF!)","v":""}]
[null,null,null,null,null,null,null,null,null,{"$f":"IF(I266=\"\",\"\",I266/#REF!)","v":""}]
[null,null,null,null,null,null,null,null,null,{"$f":"IF(I267=\"\",\"\",I267/#REF!)","v":""}]
[null,null,null,null,null,null,null,null,null,{"$f":"IF(I268=\"\",\"\",I268/#REF!)","v":""}]
[null,null,null,null,null,null,null,null,null,{"$f":"IF(I269=\"\",\"\",I269/#REF!)","v":""}]
[null,null,null,null,null,null,null,null,null,{"$f":"IF(I270=\"\",\"\",I270/#REF!)","v":""}]
[null,null,null,null,null,null,null,null,null,{"$f":"IF(I271=\"\",\"\",I271/#REF!)","v":""}]
[null,null,null,null,null,null,null,null,null,{"$f":"IF(I272=\"\",\"\",I272/#REF!)","v":""}]
[null,null,null,null,null,null,null,null,null,{"$f":"IF(I273=\"\",\"\",I273/#REF!)","v":""}]
[null,null,null,null,null,null,null,null,null,{"$f":"IF(I274=\"\",\"\",I274/#REF!)","v":""}]
[null,null,null,null,null,null,null,null,null,{"$f":"IF(I275=\"\",\"\",I275/#REF!)","v":""}]
[null,null,null,null,null,null,null,null,null,{"$f":"IF(I276=\"\",\"\",I276/#REF!)","v":""}]
[null,null,null,null,null,null,null,null,null,{"$f":"IF(I277=\"\",\"\",I277/#REF!)","v":""}]
[null,null,null,null,null,null,null,null,null,{"$f":"IF(I278=\"\",\"\",I278/#REF!)","v":""}]
[null,null,null,null,null,null,null,null,null,{"$f":"IF(I279=\"\",\"\",I279/#REF!)","v":""}]
[null,null,null,null,null,null,null,null,null,{"$f":"IF(I280=\"\",\"\",I280/#REF!)","v":""}]
[null,null,null,null,null,null,null,null,null,{"$f":"IF(I281=\"\",\"\",I281/#REF!)","v":""}]
[null,null,null,null,null,null,null,null,null,{"$f":"IF(I282=\"\",\"\",I282/#REF!)","v":""}]
[null,null,null,null,null,null,null,null,null,{"$f":"IF(I283=\"\",\"\",I283/#REF!)","v":""}]
[null,null,null,null,null,null,null,null,null,{"$f":"IF(I284=\"\",\"\",I284/#REF!)","v":""}]
[null,null,null,null,null,null,null,null,null,{"$f":"IF(I285=\"\",\"\",I285/#REF!)","v":""}]
[null,null,null,null,null,null,null,null,null,{"$f":"IF(I286=\"\",\"\",I286/#REF!)","v":""}]
[null,null,null,null,null,null,null,null,null,{"$f":"IF(I287=\"\",\"\",I287/#REF!)","v":""}]
[null,null,null,null,null,null,null,null,null,{"$f":"IF(I288=\"\",\"\",I288/#REF!)","v":""}]
[null,null,null,null,null,null,null,null,null,{"$f":"IF(I289=\"\",\"\",I289/#REF!)","v":""}]
[null,null,null,null,null,null,null,null,null,{"$f":"IF(I290=\"\",\"\",I290/#REF!)","v":""}]
[null,null,null,null,null,null,null,null,null,{"$f":"IF(I291=\"\",\"\",I291/#REF!)","v":""}]
[null,null,null,null,null,null,null,null,null,{"$f":"IF(I292=\"\",\"\",I292/#REF!)","v":""}]
[null,null,null,null,null,null,null,null,null,{"$f":"IF(I293=\"\",\"\",I293/#REF!)","v":""}]
[null,null,null,null,null,null,null,null,null,{"$f":"IF(I294=\"\",\"\",I294/#REF!)","v":""}]
[null,null,null,null,null,null,null,null,null,{"$f":"IF(I295=\"\",\"\",I295/#REF!)","v":""}]
[null,null,null,null,null,null,null,null,null,{"$f":"IF(I296=\"\",\"\",I296/#REF!)","v":""}]
[null,null,null,null,null,null,null,null,null,{"$f":"IF(I297=\"\",\"\",I297/#REF!)","v":""}]
[null,null,null,null,null,null,null,null,null,{"$f":"IF(I298=\"\",\"\",I298/#REF!)","v":""}]
[null,null,null,null,null,null,null,null,null,{"$f":"IF(I299=\"\",\"\",I299/#REF!)","v":""}]
[null,null,null,null,null,null,null,null,null,{"$f":"IF(I300=\"\",\"\",I300/#REF!)","v":""}]
[null,null,null,null,null,null,null,null,null,{"$f":"IF(I301=\"\",\"\",I301/#REF!)","v":""}]
[null,null,null,null,null,null,null,null,null,{"$f":"IF(I302=\"\",\"\",I302/#REF!)","v":""}]
[null,null,null,null,null,null,null,null,null,{"$f":"IF(I303=\"\",\"\",I303/#REF!)","v":""}]
[null,null,null,null,null,null,null,null,null,{"$f":"IF(I304=\"\",\"\",I304/#REF!)","v":""}]
[null,null,null,null,null,null,null,null,null,{"$f":"IF(I305=\"\",\"\",I305/#REF!)","v":""}]
[null,null,null,null,null,null,null,null,null,{"$f":"IF(I306=\"\",\"\",I306/#REF!)","v":""}]
[null,null,null,null,null,null,null,null,null,{"$f":"IF(I307=\"\",\"\",I307/#REF!)","v":""}]
[null,null,null,null,null,null,null,null,null,{"$f":"IF(I308=\"\",\"\",I308/#REF!)","v":""}]
[null,null,null,null,null,null,null,null,null,{"$f":"IF(I309=\"\",\"\",I309/#REF!)","v":""}]
[null,null,null,null,null,null,null,null,null,{"$f":"IF(I310=\"\",\"\",I310/#REF!)","v":""}]
[null,null,null,null,null,null,null,null,null,{"$f":"IF(I311=\"\",\"\",I311/#REF!)","v":""}]
[null,null,null,null,null,null,null,null,null,{"$f":"IF(I312=\"\",\"\",I312/#REF!)","v":""}]
[null,null,null,null,null,null,null,null,null,{"$f":"IF(I313=\"\",\"\",I313/#REF!)","v":""}]
[null,null,null,null,null,null,null,null,null,{"$f":"IF(I314=\"\",\"\",I314/#REF!)","v":""}]
[null,null,null,null,null,null,null,null,null,{"$f":"IF(I315=\"\",\"\",I315/#REF!)","v":""}]
[null,null,null,null,null,null,null,null,null,{"$f":"IF(I316=\"\",\"\",I316/#REF!)","v":""}]
[null,null,null,null,null,null,null,null,null,{"$f":"IF(I317=\"\",\"\",I317/#REF!)","v":""}]
[null,null,null,null,null,null,null,null,null,{"$f":"IF(I318=\"\",\"\",I318/#REF!)","v":""}]
[null,null,null,null,null,null,null,null,null,{"$f":"IF(I319=\"\",\"\",I319/#REF!)","v":""}]
[null,null,null,null,null,null,null,null,null,{"$f":"IF(I320=\"\",\"\",I320/#REF!)","v":""}]
[null,null,null,null,null,null,null,null,null,{"$f":"IF(I321=\"\",\"\",I321/#REF!)","v":""}]
[null,null,null,null,null,null,null,null,null,{"$f":"IF(I322=\"\",\"\",I322/#REF!)","v":""}]
[null,null,null,null,null,null,null,null,null,{"$f":"IF(I323=\"\",\"\",I323/#REF!)","v":""}]
[null,null,null,null,null,null,null,null,null,{"$f":"IF(I324=\"\",\"\",I324/#REF!)","v":""}]
[null,null,null,null,null,null,null,null,null,{"$f":"IF(I325=\"\",\"\",I325/#REF!)","v":""}]
[null,null,null,null,null,null,null,null,null,{"$f":"IF(I326=\"\",\"\",I326/#REF!)","v":""}]
[null,null,null,null,null,null,null,null,null,{"$f":"IF(I327=\"\",\"\",I327/#REF!)","v":""}]
[null,null,null,null,null,null,null,null,null,{"$f":"IF(I328=\"\",\"\",I328/#REF!)","v":""}]
[null,null,null,null,null,null,null,null,null,{"$f":"IF(I329=\"\",\"\",I329/#REF!)","v":""}]
[null,null,null,null,null,null,null,null,null,{"$f":"IF(I330=\"\",\"\",I330/#REF!)","v":""}]
[null,null,null,null,null,null,null,null,null,{"$f":"IF(I331=\"\",\"\",I331/#REF!)","v":""}]
[null,null,null,null,null,null,null,null,null,{"$f":"IF(I332=\"\",\"\",I332/#REF!)","v":""}]
[null,null,null,null,null,null,null,null,null,{"$f":"IF(I333=\"\",\"\",I333/#REF!)","v":""}]
[null,null,null,null,null,null,null,null,null,{"$f":"IF(I334=\"\",\"\",I334/#REF!)","v":""}]
[null,null,null,null,null,null,null,null,null,{"$f":"IF(I335=\"\",\"\",I335/#REF!)","v":""}]
[null,null,null,null,null,null,null,null,null,{"$f":"IF(I336=\"\",\"\",I336/#REF!)","v":""}]
[null,null,null,null,null,null,null,null,null,{"$f":"IF(I337=\"\",\"\",I337/#REF!)","v":""}]
[null,null,null,null,null,null,null,null,null,{"$f":"IF(I338=\"\",\"\",I338/#REF!)","v":""}]
[null,null,null,null,null,null,null,null,null,{"$f":"IF(I339=\"\",\"\",I339/#REF!)","v":""}]
[null,null,null,null,null,null,null,null,null,{"$f":"IF(I340=\"\",\"\",I340/#REF!)","v":""}]
[null,null,null,null,null,null,null,null,null,{"$f":"IF(I341=\"\",\"\",I341/#REF!)","v":""}]
[null,null,null,null,null,null,null,null,null,{"$f":"IF(I342=\"\",\"\",I342/#REF!)","v":""}]
[null,null,null,null,null,null,null,null,null,{"$f":"IF(I343=\"\",\"\",I343/#REF!)","v":""}]
[null,null,null,null,null,null,null,null,null,{"$f":"IF(I344=\"\",\"\",I344/#REF!)","v":""}]
[null,null,null,null,null,null,null,null,null,{"$f":"IF(I345=\"\",\"\",I345/#REF!)","v":""}]
[null,null,null,null,null,null,null,null,null,{"$f":"IF(I346=\"\",\"\",I346/#REF!)","v":""}]
[null,null,null,null,null,null,null,null,null,{"$f":"IF(I347=\"\",\"\",I347/#REF!)","v":""}]
[null,null,null,null,null,null,null,null,null,{"$f":"IF(I348=\"\",\"\",I348/#REF!)","v":""}]
[null,null,null,null,null,null,null,null,null,{"$f":"IF(I349=\"\",\"\",I349/#REF!)","v":""}]
[null,null,null,null,null,null,null,null,null,{"$f":"IF(I350=\"\",\"\",I350/#REF!)","v":""}]
[null,null,null,null,null,null,null,null,null,{"$f":"IF(I351=\"\",\"\",I351/#REF!)","v":""}]
[null,null,null,null,null,null,null,null,null,{"$f":"IF(I352=\"\",\"\",I352/#REF!)","v":""}]
[null,null,null,null,null,null,null,null,null,{"$f":"IF(I353=\"\",\"\",I353/#REF!)","v":""}]
[null,null,null,null,null,null,null,null,null,{"$f":"IF(I354=\"\",\"\",I354/#REF!)","v":""}]
[null,null,null,null,null,null,null,null,null,{"$f":"IF(I355=\"\",\"\",I355/#REF!)","v":""}]
[null,null,null,null,null,null,null,null,null,{"$f":"IF(I356=\"\",\"\",I356/#REF!)","v":""}]
[null,null,null,null,null,null,null,null,null,{"$f":"IF(I357=\"\",\"\",I357/#REF!)","v":""}]
[null,null,null,null,null,null,null,null,null,{"$f":"IF(I358=\"\",\"\",I358/#REF!)","v":""}]
[null,null,null,null,null,null,null,null,null,{"$f":"IF(I359=\"\",\"\",I359/#REF!)","v":""}]
[null,null,null,null,null,null,null,null,null,{"$f":"IF(I360=\"\",\"\",I360/#REF!)","v":""}]
[null,null,null,null,null,null,null,null,null,{"$f":"IF(I361=\"\",\"\",I361/#REF!)","v":""}]
[null,null,null,null,null,null,null,null,null,{"$f":"IF(I362=\"\",\"\",I362/#REF!)","v":""}]
[null,null,null,null,null,null,null,null,null,{"$f":"IF(I363=\"\",\"\",I363/#REF!)","v":""}]
[null,null,null,null,null,null,null,null,null,{"$f":"IF(I364=\"\",\"\",I364/#REF!)","v":""}]
[null,null,null,null,null,null,null,null,null,{"$f":"IF(I365=\"\",\"\",I365/#REF!)","v":""}]
[null,null,null,null,null,null,null,null,null,{"$f":"IF(I366=\"\",\"\",I366/#REF!)","v":""}]
[null,null,null,null,null,null,null,null,null,{"$f":"IF(I367=\"\",\"\",I367/#REF!)","v":""}]
[null,null,null,null,null,null,null,null,null,{"$f":"IF(I368=\"\",\"\",I368/#REF!)","v":""}]
[null,null,null,null,null,null,null,null,null,{"$f":"IF(I369=\"\",\"\",I369/#REF!)","v":""}]
[null,null,null,null,null,null,null,null,null,{"$f":"IF(I370=\"\",\"\",I370/#REF!)","v":""}]
[null,null,null,null,null,null,null,null,null,{"$f":"IF(I371=\"\",\"\",I371/#REF!)","v":""}]
[null,null,null,null,null,null,null,null,null,{"$f":"IF(I372=\"\",\"\",I372/#REF!)","v":""}]
[null,null,null,null,null,null,null,null,null,{"$f":"IF(I373=\"\",\"\",I373/#REF!)","v":""}]
[null,null,null,null,null,null,null,null,null,{"$f":"IF(I374=\"\",\"\",I374/#REF!)","v":""}]
[null,null,null,null,null,null,null,null,null,{"$f":"IF(I375=\"\",\"\",I375/#REF!)","v":""}]
[null,null,null,null,null,null,null,null,null,{"$f":"IF(I376=\"\",\"\",I376/#REF!)","v":""}]
[null,null,null,null,null,null,null,null,null,{"$f":"IF(I377=\"\",\"\",I377/#REF!)","v":""}]
[null,null,null,null,null,null,null,null,null,{"$f":"IF(I378=\"\",\"\",I378/#REF!)","v":""}]
[null,null,null,null,null,null,null,null,null,{"$f":"IF(I379=\"\",\"\",I379/#REF!)","v":""}]
[null,null,null,null,null,null,null,null,null,{"$f":"IF(I380=\"\",\"\",I380/#REF!)","v":""}]
[null,null,null,null,null,null,null,null,null,{"$f":"IF(I381=\"\",\"\",I381/#REF!)","v":""}]
[null,null,null,null,null,null,null,null,null,{"$f":"IF(I382=\"\",\"\",I382/#REF!)","v":""}]
[null,null,null,null,null,null,null,null,null,{"$f":"IF(I383=\"\",\"\",I383/#REF!)","v":""}]
[null,null,null,null,null,null,null,null,null,{"$f":"IF(I384=\"\",\"\",I384/#REF!)","v":""}]
[null,null,null,null,null,null,null,null,null,{"$f":"IF(I385=\"\",\"\",I385/#REF!)","v":""}]
[null,null,null,null,null,null,null,null,null,{"$f":"IF(I386=\"\",\"\",I386/#REF!)","v":""}]
[null,null,null,null,null,null,null,null,null,{"$f":"IF(I387=\"\",\"\",I387/#REF!)","v":""}]
[null,null,null,null,null,null,null,null,null,{"$f":"IF(I388=\"\",\"\",I388/#REF!)","v":""}]
[null,null,null,null,null,null,null,null,null,{"$f":"IF(I389=\"\",\"\",I389/#REF!)","v":""}]
[null,null,null,null,null,null,null,null,null,{"$f":"IF(I390=\"\",\"\",I390/#REF!)","v":""}]
[null,null,null,null,null,null,null,null,null,{"$f":"IF(I391=\"\",\"\",I391/#REF!)","v":""}]
[null,null,null,null,null,null,null,null,null,{"$f":"IF(I392=\"\",\"\",I392/#REF!)","v":""}]
[null,null,null,null,null,null,null,null,null,{"$f":"IF(I393=\"\",\"\",I393/#REF!)","v":""}]
[null,null,null,null,null,null,null,null,null,{"$f":"IF(I394=\"\",\"\",I394/#REF!)","v":""}]
[null,null,null,null,null,null,null,null,null,{"$f":"IF(I395=\"\",\"\",I395/#REF!)","v":""}]
[null,null,null,null,null,null,null,null,null,{"$f":"IF(I396=\"\",\"\",I396/#REF!)","v":""}]
[null,null,null,null,null,null,null,null,null,{"$f":"IF(I397=\"\",\"\",I397/#REF!)","v":""}]
[null,null,null,null,null,null,null,null,null,{"$f":"IF(I398=\"\",\"\",I398/#REF!)","v":""}]
[null,null,null,null,null,null,null,null,null,{"$f":"IF(I399=\"\",\"\",I399/#REF!)","v":""}]
[null,null,null,null,null,null,null,null,null,{"$f":"IF(I400=\"\",\"\",I400/#REF!)","v":""}]
[null,null,null,null,null,null,null,null,null,{"$f":"IF(I401=\"\",\"\",I401/#REF!)","v":""}]
[null,null,null,null,null,null,null,null,null,{"$f":"IF(I402=\"\",\"\",I402/#REF!)","v":""}]
[null,null,null,null,null,null,null,null,null,{"$f":"IF(I403=\"\",\"\",I403/#REF!)","v":""}]
[null,null,null,null,null,null,null,null,null,{"$f":"IF(I404=\"\",\"\",I404/#REF!)","v":""}]
[null,null,null,null,null,null,null,null,null,{"$f":"IF(I405=\"\",\"\",I405/#REF!)","v":""}]
[null,null,null,null,null,null,null,null,null,{"$f":"IF(I406=\"\",\"\",I406/#REF!)","v":""}]
[null,null,null,null,null,null,null,null,null,{"$f":"IF(I407=\"\",\"\",I407/#REF!)","v":""}]
[null,null,null,null,null,null,null,null,null,{"$f":"IF(I408=\"\",\"\",I408/#REF!)","v":""}]
[null,null,null,null,null,null,null,null,null,{"$f":"IF(I409=\"\",\"\",I409/#REF!)","v":""}]
[null,null,null,null,null,null,null,null,null,{"$f":"IF(I410=\"\",\"\",I410/#REF!)","v":""}]
[null,null,null,null,null,null,null,null,null,{"$f":"IF(I411=\"\",\"\",I411/#REF!)","v":""}]
[null,null,null,null,null,null,null,null,null,{"$f":"IF(I412=\"\",\"\",I412/#REF!)","v":""}]
[null,null,null,null,null,null,null,null,null,{"$f":"IF(I413=\"\",\"\",I413/#REF!)","v":""}]
[null,null,null,null,null,null,null,null,null,{"$f":"IF(I414=\"\",\"\",I414/#REF!)","v":""}]
[null,null,null,null,null,null,null,null,null,{"$f":"IF(I415=\"\",\"\",I415/#REF!)","v":""}]
[null,null,null,null,null,null,null,null,null,{"$f":"IF(I416=\"\",\"\",I416/#REF!)","v":""}]
[null,null,null,null,null,null,null,null,null,{"$f":"IF(I417=\"\",\"\",I417/#REF!)","v":""}]
[null,null,null,null,null,null,null,null,null,{"$f":"IF(I418=\"\",\"\",I418/#REF!)","v":""}]
[null,null,null,null,null,null,null,null,null,{"$f":"IF(I419=\"\",\"\",I419/#REF!)","v":""}]
[null,null,null,null,null,null,null,null,null,{"$f":"IF(I420=\"\",\"\",I420/#REF!)","v":""}]
[null,null,null,null,null,null,null,null,null,{"$f":"IF(I421=\"\",\"\",I421/#REF!)","v":""}]
[null,null,null,null,null,null,null,null,null,{"$f":"IF(I422=\"\",\"\",I422/#REF!)","v":""}]
[null,null,null,null,null,null,null,null,null,{"$f":"IF(I423=\"\",\"\",I423/#REF!)","v":""}]
[null,null,null,null,null,null,null,null,null,{"$f":"IF(I424=\"\",\"\",I424/#REF!)","v":""}]
[null,null,null,null,null,null,null,null,null,{"$f":"IF(I425=\"\",\"\",I425/#REF!)","v":""}]
[null,null,null,null,null,null,null,null,null,{"$f":"IF(I426=\"\",\"\",I426/#REF!)","v":""}]
[null,null,null,null,null,null,null,null,null,{"$f":"IF(I427=\"\",\"\",I427/#REF!)","v":""}]
[null,null,null,null,null,null,null,null,null,{"$f":"IF(I428=\"\",\"\",I428/#REF!)","v":""}]
[null,null,null,null,null,null,null,null,null,{"$f":"IF(I429=\"\",\"\",I429/#REF!)","v":""}]
[null,null,null,null,null,null,null,null,null,{"$f":"IF(I430=\"\",\"\",I430/#REF!)","v":""}]
[null,null,null,null,null,null,null,null,null,{"$f":"IF(I431=\"\",\"\",I431/#REF!)","v":""}]
[null,null,null,null,null,null,null,null,null,{"$f":"IF(I432=\"\",\"\",I432/#REF!)","v":""}]
[null,null,null,null,null,null,null,null,null,{"$f":"IF(I433=\"\",\"\",I433/#REF!)","v":""}]
[null,null,null,null,null,null,null,null,null,{"$f":"IF(I434=\"\",\"\",I434/#REF!)","v":""}]
[null,null,null,null,null,null,null,null,null,{"$f":"IF(I435=\"\",\"\",I435/#REF!)","v":""}]
[null,null,null,null,null,null,null,null,null,{"$f":"IF(I436=\"\",\"\",I436/#REF!)","v":""}]
[null,null,null,null,null,null,null,null,null,{"$f":"IF(I437=\"\",\"\",I437/#REF!)","v":""}]
[null,null,null,null,null,null,null,null,null,{"$f":"IF(I438=\"\",\"\",I438/#REF!)","v":""}]
[null,null,null,null,null,null,null,null,null,{"$f":"IF(I439=\"\",\"\",I439/#REF!)","v":""}]
[null,null,null,null,null,null,null,null,null,{"$f":"IF(I440=\"\",\"\",I440/#REF!)","v":""}]
[null,null,null,null,null,null,null,null,null,{"$f":"IF(I441=\"\",\"\",I441/#REF!)","v":""}]
[null,null,null,null,null,null,null,null,null,{"$f":"IF(I442=\"\",\"\",I442/#REF!)","v":""}]
[null,null,null,null,null,null,null,null,null,{"$f":"IF(I443=\"\",\"\",I443/#REF!)","v":""}]
[null,null,null,null,null,null,null,null,null,{"$f":"IF(I444=\"\",\"\",I444/#REF!)","v":""}]
[null,null,null,null,null,null,null,null,null,{"$f":"IF(I445=\"\",\"\",I445/#REF!)","v":""}]
[null,null,null,null,null,null,null,null,null,{"$f":"IF(I446=\"\",\"\",I446/#REF!)","v":""}]
[null,null,null,null,null,null,null,null,null,{"$f":"IF(I447=\"\",\"\",I447/#REF!)","v":""}]
[null,null,null,null,null,null,null,null,null,{"$f":"IF(I448=\"\",\"\",I448/#REF!)","v":""}]
[null,null,null,null,null,null,null,null,null,{"$f":"IF(I449=\"\",\"\",I449/#REF!)","v":""}]
[null,null,null,null,null,null,null,null,null,{"$f":"IF(I450=\"\",\"\",I450/#REF!)","v":""}]
[null,null,null,null,null,null,null,null,null,{"$f":"IF(I451=\"\",\"\",I451/#REF!)","v":""}]
[null,null,null,null,null,null,null,null,null,{"$f":"IF(I452=\"\",\"\",I452/#REF!)","v":""}]
[null,null,null,null,null,null,null,null,null,{"$f":"IF(I453=\"\",\"\",I453/#REF!)","v":""}]
[null,null,null,null,null,null,null,null,null,{"$f":"IF(I454=\"\",\"\",I454/#REF!)","v":""}]
[null,null,null,null,null,null,null,null,null,{"$f":"IF(I455=\"\",\"\",I455/#REF!)","v":""}]
[null,null,null,null,null,null,null,null,null,{"$f":"IF(I456=\"\",\"\",I456/#REF!)","v":""}]
[null,null,null,null,null,null,null,null,null,{"$f":"IF(I457=\"\",\"\",I457/#REF!)","v":""}]
[null,null,null,null,null,null,null,null,null,{"$f":"IF(I458=\"\",\"\",I458/#REF!)","v":""}]
[null,null,null,null,null,null,null,null,null,{"$f":"IF(I459=\"\",\"\",I459/#REF!)","v":""}]
[null,null,null,null,null,null,null,null,null,{"$f":"IF(I460=\"\",\"\",I460/#REF!)","v":""}]
[null,null,null,null,null,null,null,null,null,{"$f":"IF(I461=\"\",\"\",I461/#REF!)","v":""}]
[null,null,null,null,null,null,null,null,null,{"$f":"IF(I462=\"\",\"\",I462/#REF!)","v":""}]
[null,null,null,null,null,null,null,null,null,{"$f":"IF(I463=\"\",\"\",I463/#REF!)","v":""}]
[null,null,null,null,null,null,null,null,null,{"$f":"IF(I464=\"\",\"\",I464/#REF!)","v":""}]
[null,null,null,null,null,null,null,null,null,{"$f":"IF(I465=\"\",\"\",I465/#REF!)","v":""}]
[null,null,null,null,null,null,null,null,null,{"$f":"IF(I466=\"\",\"\",I466/#REF!)","v":""}]
[null,null,null,null,null,null,null,null,null,{"$f":"IF(I467=\"\",\"\",I467/#REF!)","v":""}]
[null,null,null,null,null,null,null,null,null,{"$f":"IF(I468=\"\",\"\",I468/#REF!)","v":""}]
[null,null,null,null,null,null,null,null,null,{"$f":"IF(I469=\"\",\"\",I469/#REF!)","v":""}]
[null,null,null,null,null,null,null,null,null,{"$f":"IF(I470=\"\",\"\",I470/#REF!)","v":""}]
[null,null,null,null,null,null,null,null,null,{"$f":"IF(I471=\"\",\"\",I471/#REF!)","v":""}]
[null,null,null,null,null,null,null,null,null,{"$f":"IF(I472=\"\",\"\",I472/#REF!)","v":""}]
[null,null,null,null,null,null,null,null,null,{"$f":"IF(I473=\"\",\"\",I473/#REF!)","v":""}]
[null,null,null,null,null,null,null,null,null,{"$f":"IF(I474=\"\",\"\",I474/#REF!)","v":""}]
[null,null,null,null,null,null,null,null,null,{"$f":"IF(I475=\"\",\"\",I475/#REF!)","v":""}]
[null,null,null,null,null,null,null,null,null,{"$f":"IF(I476=\"\",\"\",I476/#REF!)","v":""}]
[null,null,null,null,null,null,null,null,null,{"$f":"IF(I477=\"\",\"\",I477/#REF!)","v":""}]
[null,null,null,null,null,null,null,null,null,{"$f":"IF(I478=\"\",\"\",I478/#REF!)","v":""}]
[null,null,null,null,null,null,null,null,null,{"$f":"IF(I479=\"\",\"\",I479/#REF!)","v":""}]
[null,null,null,null,null,null,null,null,null,{"$f":"IF(I480=\"\",\"\",I480/#REF!)","v":""}]
[null,null,null,null,null,null,null,null,null,{"$f":"IF(I481=\"\",\"\",I481/#REF!)","v":""}]
[null,null,null,null,null,null,null,null,null,{"$f":"IF(I482=\"\",\"\",I482/#REF!)","v":""}]
[null,null,null,null,null,null,null,null,null,{"$f":"IF(I483=\"\",\"\",I483/#REF!)","v":""}]
[null,null,null,null,null,null,null,null,null,{"$f":"IF(I484=\"\",\"\",I484/#REF!)","v":""}]
[null,null,null,null,null,null,null,null,null,{"$f":"IF(I485=\"\",\"\",I485/#REF!)","v":""}]
[null,null,null,null,null,null,null,null,null,{"$f":"IF(I486=\"\",\"\",I486/#REF!)","v":""}]
[null,null,null,null,null,null,null,null,null,{"$f":"IF(I487=\"\",\"\",I487/#REF!)","v":""}]
[null,null,null,null,null,null,null,null,null,{"$f":"IF(I488=\"\",\"\",I488/#REF!)","v":""}]
[null,null,null,null,null,null,null,null,null,{"$f":"IF(I489=\"\",\"\",I489/#REF!)","v":""}]
[null,null,null,null,null,null,null,null,null,{"$f":"IF(I490=\"\",\"\",I490/#REF!)","v":""}]
[null,null,null,null,null,null,null,null,null,{"$f":"IF(I491=\"\",\"\",I491/#REF!)","v":""}]
[null,null,null,null,null,null,null,null,null,{"$f":"IF(I492=\"\",\"\",I492/#REF!)","v":""}]
[null,null,null,null,null,null,null,null,null,{"$f":"IF(I493=\"\",\"\",I493/#REF!)","v":""}]
[null,null,null,null,null,null,null,null,null,{"$f":"IF(I494=\"\",\"\",I494/#REF!)","v":""}]
[null,null,null,null,null,null,null,null,null,{"$f":"IF(I495=\"\",\"\",I495/#REF!)","v":""}]
[null,null,null,null,null,null,null,null,null,{"$f":"IF(I496=\"\",\"\",I496/#REF!)","v":""}]
[null,null,null,null,null,null,null,null,null,{"$f":"IF(I497=\"\",\"\",I497/#REF!)","v":""}]
[null,null,null,null,null,null,null,null,null,{"$f":"IF(I498=\"\",\"\",I498/#REF!)","v":""}]
[null,null,null,null,null,null,null,null,null,{"$f":"IF(I499=\"\",\"\",I499/#REF!)","v":""}]
[null,null,null,null,null,null,null,null,null,{"$f":"IF(I500=\"\",\"\",I500/#REF!)","v":""}]
[null,null,null,null,null,null,null,null,null,{"$f":"IF(I501=\"\",\"\",I501/#REF!)","v":""}]
[null,null,null,null,null,null,null,null,null,{"$f":"IF(I502=\"\",\"\",I502/#REF!)","v":""}]
[null,null,null,null,null,null,null,null,null,{"$f":"IF(I503=\"\",\"\",I503/#REF!)","v":""}]
[null,null,null,null,null,null,null,null,null,{"$f":"IF(I504=\"\",\"\",I504/#REF!)","v":""}]
[null,null,null,null,null,null,null,null,null,{"$f":"IF(I505=\"\",\"\",I505/#REF!)","v":""}]
[null,null,null,null,null,null,null,null,null,{"$f":"IF(I506=\"\",\"\",I506/#REF!)","v":""}]
[null,null,null,null,null,null,null,null,null,{"$f":"IF(I507=\"\",\"\",I507/#REF!)","v":""}]
[null,null,null,null,null,null,null,null,null,{"$f":"IF(I508=\"\",\"\",I508/#REF!)","v":""}]
[null,null,null,null,null,null,null,null,null,{"$f":"IF(I509=\"\",\"\",I509/#REF!)","v":""}]
[null,null,null,null,null,null,null,null,null,{"$f":"IF(I510=\"\",\"\",I510/#REF!)","v":""}]
[null,null,null,null,null,null,null,null,null,{"$f":"IF(I511=\"\",\"\",I511/#REF!)","v":""}]
[null,null,null,null,null,null,null,null,null,{"$f":"IF(I512=\"\",\"\",I512/#REF!)","v":""}]
[null,null,null,null,null,null,null,null,null,{"$f":"IF(I513=\"\",\"\",I513/#REF!)","v":""}]
[null,null,null,null,null,null,null,null,null,{"$f":"IF(I514=\"\",\"\",I514/#REF!)","v":""}]
[null,null,null,null,null,null,null,null,null,{"$f":"IF(I515=\"\",\"\",I515/#REF!)","v":""}]
[null,null,null,null,null,null,null,null,null,{"$f":"IF(I516=\"\",\"\",I516/#REF!)","v":""}]
[null,null,null,null,null,null,null,null,null,{"$f":"IF(I517=\"\",\"\",I517/#REF!)","v":""}]
[null,null,null,null,null,null,null,null,null,{"$f":"IF(I518=\"\",\"\",I518/#REF!)","v":""}]
[null,null,null,null,null,null,null,null,null,{"$f":"IF(I519=\"\",\"\",I519/#REF!)","v":""}]
[null,null,null,null,null,null,null,null,null,{"$f":"IF(I520=\"\",\"\",I520/#REF!)","v":""}]
[null,null,null,null,null,null,null,null,null,{"$f":"IF(I521=\"\",\"\",I521/#REF!)","v":""}]
[null,null,null,null,null,null,null,null,null,{"$f":"IF(I522=\"\",\"\",I522/#REF!)","v":""}]
[null,null,null,null,null,null,null,null,null,{"$f":"IF(I523=\"\",\"\",I523/#REF!)","v":""}]
[null,null,null,null,null,null,null,null,null,{"$f":"IF(I524=\"\",\"\",I524/#REF!)","v":""}]
[null,null,null,null,null,null,null,null,null,{"$f":"IF(I525=\"\",\"\",I525/#REF!)","v":""}]
[null,null,null,null,null,null,null,null,null,{"$f":"IF(I526=\"\",\"\",I526/#REF!)","v":""}]
[null,null,null,null,null,null,null,null,null,{"$f":"IF(I527=\"\",\"\",I527/#REF!)","v":""}]
[null,null,null,null,null,null,null,null,null,{"$f":"IF(I528=\"\",\"\",I528/#REF!)","v":""}]
[null,null,null,null,null,null,null,null,null,{"$f":"IF(I529=\"\",\"\",I529/#REF!)","v":""}]
[null,null,null,null,null,null,null,null,null,{"$f":"IF(I530=\"\",\"\",I530/#REF!)","v":""}]
[null,null,null,null,null,null,null,null,null,{"$f":"IF(I531=\"\",\"\",I531/#REF!)","v":""}]
[null,null,null,null,null,null,null,null,null,{"$f":"IF(I532=\"\",\"\",I532/#REF!)","v":""}]
[null,null,null,null,null,null,null,null,null,{"$f":"IF(I533=\"\",\"\",I533/#REF!)","v":""}]
[null,null,null,null,null,null,null,null,null,{"$f":"IF(I534=\"\",\"\",I534/#REF!)","v":""}]
[null,null,null,null,null,null,null,null,null,{"$f":"IF(I535=\"\",\"\",I535/#REF!)","v":""}]
[null,null,null,null,null,null,null,null,null,{"$f":"IF(I536=\"\",\"\",I536/#REF!)","v":""}]
[null,null,null,null,null,null,null,null,null,{"$f":"IF(I537=\"\",\"\",I537/#REF!)","v":""}]
[null,null,null,null,null,null,null,null,null,{"$f":"IF(I538=\"\",\"\",I538/#REF!)","v":""}]
[null,null,null,null,null,null,null,null,null,{"$f":"IF(I539=\"\",\"\",I539/#REF!)","v":""}]
[null,null,null,null,null,null,null,null,null,{"$f":"IF(I540=\"\",\"\",I540/#REF!)","v":""}]
[null,null,null,null,null,null,null,null,null,{"$f":"IF(I541=\"\",\"\",I541/#REF!)","v":""}]
[null,null,null,null,null,null,null,null,null,{"$f":"IF(I542=\"\",\"\",I542/#REF!)","v":""}]
[null,null,null,null,null,null,null,null,null,{"$f":"IF(I543=\"\",\"\",I543/#REF!)","v":""}]
[null,null,null,null,null,null,null,null,null,{"$f":"IF(I544=\"\",\"\",I544/#REF!)","v":""}]
[null,null,null,null,null,null,null,null,null,{"$f":"IF(I545=\"\",\"\",I545/#REF!)","v":""}]
[null,null,null,null,null,null,null,null,null,{"$f":"IF(I546=\"\",\"\",I546/#REF!)","v":""}]
[null,null,null,null,null,null,null,null,null,{"$f":"IF(I547=\"\",\"\",I547/#REF!)","v":""}]
[null,null,null,null,null,null,null,null,null,{"$f":"IF(I548=\"\",\"\",I548/#REF!)","v":""}]
[null,null,null,null,null,null,null,null,null,{"$f":"IF(I549=\"\",\"\",I549/#REF!)","v":""}]
[null,null,null,null,null,null,null,null,null,{"$f":"IF(I550=\"\",\"\",I550/#REF!)","v":""}]
[null,null,null,null,null,null,null,null,null,{"$f":"IF(I551=\"\",\"\",I551/#REF!)","v":""}]
[null,null,null,null,null,null,null,null,null,{"$f":"IF(I552=\"\",\"\",I552/#REF!)","v":""}]
[null,null,null,null,null,null,null,null,null,{"$f":"IF(I553=\"\",\"\",I553/#REF!)","v":""}]
[null,null,null,null,null,null,null,null,null,{"$f":"IF(I554=\"\",\"\",I554/#REF!)","v":""}]
[null,null,null,null,null,null,null,null,null,{"$f":"IF(I555=\"\",\"\",I555/#REF!)","v":""}]
[null,null,null,null,null,null,null,null,null,{"$f":"IF(I556=\"\",\"\",I556/#REF!)","v":""}]
[null,null,null,null,null,null,null,null,null,{"$f":"IF(I557=\"\",\"\",I557/#REF!)","v":""}]
[null,null,null,null,null,null,null,null,null,{"$f":"IF(I558=\"\",\"\",I558/#REF!)","v":""}]
[null,null,null,null,null,null,null,null,null,{"$f":"IF(I559=\"\",\"\",I559/#REF!)","v":""}]
[null,null,null,null,null,null,null,null,null,{"$f":"IF(I560=\"\",\"\",I560/#REF!)","v":""}]
[null,null,null,null,null,null,null,null,null,{"$f":"IF(I561=\"\",\"\",I561/#REF!)","v":""}]
[null,null,null,null,null,null,null,null,null,{"$f":"IF(I562=\"\",\"\",I562/#REF!)","v":""}]
[null,null,null,null,null,null,null,null,null,{"$f":"IF(I563=\"\",\"\",I563/#REF!)","v":""}]
[null,null,null,null,null,null,null,null,null,{"$f":"IF(I564=\"\",\"\",I564/#REF!)","v":""}]
[null,null,null,null,null,null,null,null,null,{"$f":"IF(I565=\"\",\"\",I565/#REF!)","v":""}]
[null,null,null,null,null,null,null,null,null,{"$f":"IF(I566=\"\",\"\",I566/#REF!)","v":""}]
[null,null,null,null,null,null,null,null,null,{"$f":"IF(I567=\"\",\"\",I567/#REF!)","v":""}]
[null,null,null,null,null,null,null,null,null,{"$f":"IF(I568=\"\",\"\",I568/#REF!)","v":""}]
[null,null,null,null,null,null,null,null,null,{"$f":"IF(I569=\"\",\"\",I569/#REF!)","v":""}]
[null,null,null,null,null,null,null,null,null,{"$f":"IF(I570=\"\",\"\",I570/#REF!)","v":""}]
[null,null,null,null,null,null,null,null,null,{"$f":"IF(I571=\"\",\"\",I571/#REF!)","v":""}]
[null,null,null,null,null,null,null,null,null,{"$f":"IF(I572=\"\",\"\",I572/#REF!)","v":""}]
[null,null,null,null,null,null,null,null,null,{"$f":"IF(I573=\"\",\"\",I573/#REF!)","v":""}]
[null,null,null,null,null,null,null,null,null,{"$f":"IF(I574=\"\",\"\",I574/#REF!)","v":""}]
[null,null,null,null,null,null,null,null,null,{"$f":"IF(I575=\"\",\"\",I575/#REF!)","v":""}]
[null,null,null,null,null,null,null,null,null,{"$f":"IF(I576=\"\",\"\",I576/#REF!)","v":""}]
[null,null,null,null,null,null,null,null,null,{"$f":"IF(I577=\"\",\"\",I577/#REF!)","v":""}]
[null,null,null,null,null,null,null,null,null,{"$f":"IF(I578=\"\",\"\",I578/#REF!)","v":""}]
[null,null,null,null,null,null,null,null,null,{"$f":"IF(I579=\"\",\"\",I579/#REF!)","v":""}]
[null,null,null,null,null,null,null,null,null,{"$f":"IF(I580=\"\",\"\",I580/#REF!)","v":""}]
[null,null,null,null,null,null,null,null,null,{"$f":"IF(I581=\"\",\"\",I581/#REF!)","v":""}]
[null,null,null,null,null,null,null,null,null,{"$f":"IF(I582=\"\",\"\",I582/#REF!)","v":""}]
[null,null,null,null,null,null,null,null,null,{"$f":"IF(I583=\"\",\"\",I583/#REF!)","v":""}]
[null,null,null,null,null,null,null,null,null,{"$f":"IF(I584=\"\",\"\",I584/#REF!)","v":""}]
[null,null,null,null,null,null,null,null,null,{"$f":"IF(I585=\"\",\"\",I585/#REF!)","v":""}]
[null,null,null,null,null,null,null,null,null,{"$f":"IF(I586=\"\",\"\",I586/#REF!)","v":""}]
[null,null,null,null,null,null,null,null,null,{"$f":"IF(I587=\"\",\"\",I587/#REF!)","v":""}]
[null,null,null,null,null,null,null,null,null,{"$f":"IF(I588=\"\",\"\",I588/#REF!)","v":""}]
[null,null,null,null,null,null,null,null,null,{"$f":"IF(I589=\"\",\"\",I589/#REF!)","v":""}]
[null,null,null,null,null,null,null,null,null,{"$f":"IF(I590=\"\",\"\",I590/#REF!)","v":""}]
[null,null,null,null,null,null,null,null,null,{"$f":"IF(I591=\"\",\"\",I591/#REF!)","v":""}]
[null,null,null,null,null,null,null,null,null,{"$f":"IF(I592=\"\",\"\",I592/#REF!)","v":""}]
[null,null,null,null,null,null,null,null,null,{"$f":"IF(I593=\"\",\"\",I593/#REF!)","v":""}]
[null,null,null,null,null,null,null,null,null,{"$f":"IF(I594=\"\",\"\",I594/#REF!)","v":""}]
[null,null,null,null,null,null,null,null,null,{"$f":"IF(I595=\"\",\"\",I595/#REF!)","v":""}]
[null,null,null,null,null,null,null,null,null,{"$f":"IF(I596=\"\",\"\",I596/#REF!)","v":""}]
[null,null,null,null,null,null,null,null,null,{"$f":"IF(I597=\"\",\"\",I597/#REF!)","v":""}]
[null,null,null,null,null,null,null,null,null,{"$f":"IF(I598=\"\",\"\",I598/#REF!)","v":""}]
[null,null,null,null,null,null,null,null,null,{"$f":"IF(I599=\"\",\"\",I599/#REF!)","v":""}]
[null,null,null,null,null,null,null,null,null,{"$f":"IF(I600=\"\",\"\",I600/#REF!)","v":""}]

{"sheet":"Landfill_Gas_ID","index":10,"n_rows":14,"n_cols":4,"rows_kept":14,"cut":false,"hidden":true,"merged":[]}
[null,"DO NOT REMOVE OR EDIT INFORMATION IN ROWS 1 THROUGH 5\nFOR INTERNAL USE ONLY"]
[null,"Template Name",{"$f":"+Welcome!B2","v":"63.6150(a), (c) and (e) Semiannual and Annual Compliance Reports (Spreadsheet Template)"}]
[null,"CitationID",{"$f":"+Welcome!B3","v":"63.6150(a), (c), and (e)"}]
[null,"Template Version",{"$f":"+Welcome!B4","v":"v3.00"}]
[null,"Last Updated Date",{"$f":"+Welcome!B5","v":44067}]
[null,{"$f":"Welcome!B6","v":"OMB No.: 2060-0540   Expiration: 11/16/2019"}]
[null,"40 CFR Part 63, Subpart YYYY National Emission Standards for Hazardous Air Pollutants "]
[null,"for Stationary Combustion Turbines - "]
[null,"§63.6150(a)-(e) Compliance Reports Spreadsheet Template"]
[]
[null,"* Required Field"]
[null,"Company Record No. *\n(Select from dropdown)","Stationary Landfill/Digester Gas Turbine Identification","Percentage Heat Input Provided by Landfill Gas, Digester Gas, or Equivalent *\n(§63.6150(c)(1))"]
[null,"RecordId","LandfillTurbineID","HeatInputPercentage"]
[null,"e.g.: 1","e.g. Turbine 1","e.g.: 12.5%"]

{"sheet":"Landfill_Gas_Fuel","index":11,"n_rows":14,"n_cols":8,"rows_kept":14,"cut":false,"hidden":true,"merged":[]}
[null,"DO NOT REMOVE OR EDIT INFORMATION IN ROWS 1 THROUGH 5\nFOR INTERNAL USE ONLY"]
[null,"Template Name",{"$f":"+Welcome!B2","v":"63.6150(a), (c) and (e) Semiannual and Annual Compliance Reports (Spreadsheet Template)"}]
[null,"CitationID",{"$f":"+Welcome!B3","v":"63.6150(a), (c), and (e)"}]
[null,"Template Version",{"$f":"+Welcome!B4","v":"v3.00"}]
[null,"Last Updated Date",{"$f":"+Welcome!B5","v":44067}]
[null,{"$f":"Welcome!B6","v":"OMB No.: 2060-0540   Expiration: 11/16/2019"}]
[null,"40 CFR Part 63, Subpart YYYY National Emission Standards for Hazardous Air Pollutants for Stationary Combustion Turbines - "]
[null,"§63.6150(a)-(e) Compliance Reports Spreadsheet Template"]
[]
[]
[null,"* Required Field"]
[null,"Company Record No. *\n(Select from dropdown)","Stationary  Landfill/Digester Turbine Identification\n(Select from dropdown)","Identification of Fuel Type Used *\n(§63.6150(c)(1))","Fuel Flow Rate *\n(§63.6150(c)(1))","Fuel Flow Rate Units *\n(§63.6150(c)(1))\n(Select from dropdown)","Fuel Heating Value *\n(§63.6150(c)(1))","Fuel Heating Value Units *\n(§63.6150(c)(1))\n(Select from dropdown)"]
[null,"RecordId","LandfillTurbineID","FuelType","FuelFlowRate","FuelFlowRateUnits","FuelHeatingValue","FuelHeatingValueUnits"]
[null,"e.g.: 1","e.g. Turbine 1","e.g.: Landfill Gas","e.g.: 1252","e.g.: cubic foot/hour","e.g.: 647","e.g.: BTU/cubic foot"]

{"sheet":"Landfill_Gas_Limits","index":12,"n_rows":14,"n_cols":5,"rows_kept":14,"cut":false,"hidden":true,"merged":[]}
[null,"DO NOT REMOVE OR EDIT INFORMATION IN ROWS 1 THROUGH 5\nFOR INTERNAL USE ONLY"]
[null,"Template Name",{"$f":"+Welcome!B2","v":"63.6150(a), (c) and (e) Semiannual and Annual Compliance Reports (Spreadsheet Template)"}]
[null,"CitationID",{"$f":"+Welcome!B3","v":"63.6150(a), (c), and (e)"}]
[null,"Template Version",{"$f":"+Welcome!B4","v":"v3.00"}]
[null,"Last Updated Date",{"$f":"+Welcome!B5","v":44067}]
[null,{"$f":"Welcome!B6","v":"OMB No.: 2060-0540   Expiration: 11/16/2019"}]
[null,"40 CFR Part 63, Subpart YYYY National Emission Standards for Hazardous Air Pollutants for Stationary Combustion Turbines - "]
[null,"§63.6150(a)-(e) Compliance Reports Spreadsheet Template"]
[]
[]
[null,"* Required Field"]
[null,"Company Record No. *\n(Select from dropdown)","Stationary  Landfill/Digester Turbine Identification\n(Select from dropdown)","Operating Limits of Federally Enforceable Permit *\n(§63.6150(c)(2))","Deviation of Limit (if Any) *\n(§63.6150(c)(2))"]
[null,"RecordId","LandfillTurbineID","OperatingLimits","DeviationLimit"]
[null,"e.g.: 1","e.g. Turbine 1","e.g.: Minimum Catalyst Inlet Temperature","e.g.: None"]

{"sheet":"Landfill_Gas_Fuel_Meters","index":13,"n_rows":14,"n_cols":4,"rows_kept":14,"cut":false,"hidden":true,"merged":[]}
[null,"DO NOT REMOVE OR EDIT INFORMATION IN ROWS 1 THROUGH 5\nFOR INTERNAL USE ONLY"]
[null,"Template Name",{"$f":"+Welcome!B2","v":"63.6150(a), (c) and (e) Semiannual and Annual Compliance Reports (Spreadsheet Template)"}]
[null,"CitationID",{"$f":"+Welcome!B3","v":"63.6150(a), (c), and (e)"}]
[null,"Template Version",{"$f":"+Welcome!B4","v":"v3.00"}]
[null,"Last Updated Date",{"$f":"+Welcome!B5","v":44067}]
[null,{"$f":"Welcome!B6","v":"OMB No.: 2060-0540   Expiration: 11/16/2019"}]
[null,"40 CFR Part 63, Subpart YYYY National Emission Standards for Hazardous Air Pollutants"]
[null," for Stationary Combustion Turbines - "]
[null,"§63.6150(a)-(e) Compliance Reports Spreadsheet Template"]
[]
[null,"* Required Field"]
[null,"Company Record No. *\n(Select from dropdown)","Stationary  Landfill/Digester Turbine Identification\n(Select from dropdown)","Any Problems or Errors Suspected with Meters *\n(§63.6150(c)(3))"]
[null,"RecordId","LandfillTurbineID","MeterErrors"]
[null,"e.g.: 1","e.g. Turbine 1","e.g.: Failed calibration check, replaced meter 3/30/2020"]

{"sheet":"Distillate_Oil","index":14,"n_rows":14,"n_cols":4,"rows_kept":14,"cut":false,"hidden":true,"merged":[]}
[null,"DO NOT REMOVE OR EDIT INFORMATION IN ROWS 1 THROUGH 5\nFOR INTERNAL USE ONLY"]
[null,"Template Name",{"$f":"+Welcome!B2","v":"63.6150(a), (c) and (e) Semiannual and Annual Compliance Reports (Spreadsheet Template)"}]
[null,"CitationID",{"$f":"+Welcome!B3","v":"63.6150(a), (c), and (e)"}]
[null,"Template Version",{"$f":"+Welcome!B4","v":"v3.00"}]
[null,"Last Updated Date",{"$f":"+Welcome!B5","v":44067}]
[null,{"$f":"Welcome!B6","v":"OMB No.: 2060-0540   Expiration: 11/16/2019"}]
[null,"40 CFR Part 63, Subpart YYYY National Emission Standards for Hazardous Air  "]
[null,"Pollutants for Stationary Combustion Turbines - "]
[null,"§63.6150(a)-(e) Compliance Reports Spreadsheet Template"]
[]
[null,"* Required Field"]
[null,"Company Record No. *\n(Select from dropdown)","Stationary Gas Turbine Identification","Number of Hours Distillate Oil Fired *\n(hours)\n(§63.6150(e)(1))"]
[null,"RecordId","GasTurbineID","OilFiredDuration"]
[null,"e.g.: 1","e.g. Turbine 3","e.g.: 125.5"]

{"sheet":"Distillate_Oil_Limits","index":15,"n_rows":14,"n_cols":5,"rows_kept":14,"cut":false,"hidden":true,"merged":[]}
[null,"DO NOT REMOVE OR EDIT INFORMATION IN ROWS 1 THROUGH 5\nFOR INTERNAL USE ONLY"]
[null,"Template Name",{"$f":"+Welcome!B2","v":"63.6150(a), (c) and (e) Semiannual and Annual Compliance Reports (Spreadsheet Template)"}]
[null,"CitationID",{"$f":"+Welcome!B3","v":"63.6150(a), (c), and (e)"}]
[null,"Template Version",{"$f":"+Welcome!B4","v":"v3.00"}]
[null,"Last Updated Date",{"$f":"+Welcome!B5","v":44067}]
[null,{"$f":"Welcome!B6","v":"OMB No.: 2060-0540   Expiration: 11/16/2019"}]
[]
[null,"40 CFR Part 63, Subpart YYYY National Emission Standards for Hazardous Air Pollutants for Stationary Combustion Turbines - "]
[null,"§63.6150(a)-(e) Compliance Reports Spreadsheet Template"]
[]
[null,"* Required Field"]
[null,"Company Record No. *\n(Select from dropdown)","Stationary Gas Turbine Identification\n(Select from dropdown)","Operating Limits if Federally Enforceable Permit *\n(§63.6150(e)(2))","Deviation of Limit (if Any) *\n(§63.6150(e)(2))"]
[null,"RecordId","GasTurbineID","OperatingLimits","DeviationLimit"]
[null,"e.g.: 1","e.g. Turbine 3","e.g.: TC1792 Catalyst Inlet Temperature","e.g.: None"]

{"sheet":"Distillate_Meters","index":16,"n_rows":14,"n_cols":4,"rows_kept":14,"cut":false,"hidden":true,"merged":[]}
[null,"DO NOT REMOVE OR EDIT INFORMATION IN ROWS 1 THROUGH 5\nFOR INTERNAL USE ONLY"]
[null,"Template Name",{"$f":"+Welcome!B2","v":"63.6150(a), (c) and (e) Semiannual and Annual Compliance Reports (Spreadsheet Template)"}]
[null,"CitationID",{"$f":"+Welcome!B3","v":"63.6150(a), (c), and (e)"}]
[null,"Template Version",{"$f":"+Welcome!B4","v":"v3.00"}]
[null,"Last Updated Date",{"$f":"+Welcome!B5","v":44067}]
[null,{"$f":"Welcome!B6","v":"OMB No.: 2060-0540   Expiration: 11/16/2019"}]
[null,"40 CFR Part 63, Subpart YYYY National Emission Standards for Hazardous Air Pollutants "]
[null,"for Stationary Combustion Turbines - "]
[null,"§63.6150(a)-(e) Compliance Reports Spreadsheet Template"]
[]
[null,"* Required Field"]
[null,"Company Record No. *\n(Select from dropdown)","Stationary Gas Turbine Identification\n(Select from dropdown)","Any Problems or Errors Suspected with Meters \n(If Applicable) *\n(§63.6150(e)(3))"]
[null,"RecordId","GasTurbineID","MeterErrors"]
[null,"e.g.: 1","e.g. Turbine 3","e.g.: Meter failed calibration, replaced 3/30/2020"]

{"sheet":"Certification","index":17,"n_rows":33,"n_cols":4,"rows_kept":33,"cut":false,"hidden":false,"merged":[]}
[null,"DO NOT REMOVE OR EDIT INFORMATION IN ROWS 1 THROUGH 5\nFOR INTERNAL USE ONLY"]
[null,"Template Name",{"$f":"+Welcome!B2","v":"63.6150(a), (c) and (e) Semiannual and Annual Compliance Reports (Spreadsheet Template)"}]
[null,"CitationID",{"$f":"+Welcome!B3","v":"63.6150(a), (c), and (e)"}]
[null,"Template Version",{"$f":"+Welcome!B4","v":"v3.00"}]
[null,"Last Updated Date",{"$f":"+Welcome!B5","v":44067}]
[null,{"$f":"Welcome!B6","v":"OMB No.: 2060-0540   Expiration: 11/16/2019"}]
[null,"40 CFR Part 63, Subpart YYYY National Emission Standards for Hazardous Air Pollutants for Stationary Combustion Turbines - "]
[null,"§63.6150(a)-(e) Compliance Reports Spreadsheet Template"]
[null,"* Required Field"]
[]
[]
[null,"Company Record No. *\n(Autofilled)","There were no excess emissions or exceedances of a parameter during this reporting period.* (§63.10(e)(3)(v)) \n(Select from Dropdown)","There were no periods during which CPMS, CEMS, or COMS were out of control as specified in §63.8(c)(7) during the reporting period * (§63.10(e)(3)(v))\n(Select from Dropdown)"]
[null,"RecordId","PeriodDeviationFlag","CPMSComplianceFlag"]
[null,"e.g.: 1"]
[]
[]
[]
[]
[]
[]
[]
[]
[]
[null,{"$f":"IF(Lists!Q2=\"\",\"\",Lists!Q2)","v":""}]
[null,{"$f":"IF(Lists!Q3=\"\",\"\",Lists!Q3)","v":""}]
[null,{"$f":"IF(Lists!Q4=\"\",\"\",Lists!Q4)","v":""}]
[null,{"$f":"IF(Lists!Q5=\"\",\"\",Lists!Q5)","v":""}]
[null,{"$f":"IF(Lists!Q6=\"\",\"\",Lists!Q6)","v":""}]
[null,{"$f":"IF(Lists!Q7=\"\",\"\",Lists!Q7)","v":""}]
[null,{"$f":"IF(Lists!Q8=\"\",\"\",Lists!Q8)","v":""}]
[null,{"$f":"IF(Lists!Q9=\"\",\"\",Lists!Q9)","v":""}]
[null,{"$f":"IF(Lists!Q10=\"\",\"\",Lists!Q10)","v":""}]
[null,{"$f":"IF(Lists!Q11=\"\",\"\",Lists!Q11)","v":""}]

{"sheet":"Revisions","index":18,"n_rows":4,"n_cols":3,"rows_kept":4,"cut":false,"hidden":false,"merged":[]}
["Revision Number","Date","Revisions"]
[1,43871,"Initial Release Version"]
[2,43999,"Updated version/CBI, Hidden column A, added Worksheet Map"]
[3,44067,"Added missing formulas in cells : Deviation_Limits I24, Deviation_Summary_Limits A-D24 and F24-L24, Deviation_CEMS_CPMS J24, and A24-D25 and F24-L25, and Certification  B24 "]

{"sheet":"Worksheet Map","index":19,"n_rows":17,"n_cols":5,"rows_kept":17,"cut":false,"hidden":true,"merged":[]}
["Worksheet Name","Parent","JSON Key","Parent Primary Key","Child Foreign Key"]
["Company_Information",null,"records"]
["CPMS_Identification","records","CPMSIdentification","RecordId","RecordId"]
["Deviation_Limits","records","DeviationLimits","RecordId","RecordId"]
["Deviation_Summary_Limits","records","DeviationSummaryLimits","RecordId","RecordId"]
["Deviation_CEM_CPMS","records","DeviationCEMCPMS","RecordId","RecordId"]
["Deviation_Summary_CPMS","records","DeviationSummaryCPMS","RecordId","RecordId"]
["Description_of_Changes","records","DescriptionOfChanges","RecordId","RecordId"]
["Number_of_Deviations","records","NumberOfDeviations","RecordId","RecordId"]
["Landfill_Gas_ID","records","LandfillGasID","RecordId","RecordId"]
["Landfill_Gas_Fuel","records","LandfillGasFuel","RecordId","RecordId"]
["Landfill_Gas_Limits","records","LandfillGasLimits","RecordId","RecordId"]
["Landfill_Gas_Fuel_Meters","records","LandfillGasFuelMeters","RecordId","RecordId"]
["Distillate_Oil","records","DistillateOil","RecordId","RecordId"]
["Distillate_Oil_Limits","records","DistillateOilLimits","RecordId","RecordId"]
["Distillate_Meters","records","DistillateMeters","RecordId","RecordId"]
["Certification","records","Certification","RecordId","RecordId"]