{"text_format":"1","workbook":"xlsx","n_sheets":13,"sheets":["Lists","Welcome","Company_Information","Affected_Sources","CMS_Identification","Description_of_Changes","CMS_Deviation_Detail","CMS_Deviation_Summary","Limit_Deviation_Detail","Limit_Deviation_Summary","Certification","Revisions","Worksheet Map"],"not_rendered":{"charts":0,"images":1,"macros":1,"external_links":0,"defined_names":8,"comments":0,"pivot_tables":0},"unopened":[],"bounds":{"document_bytes":16777216,"sheet_cells":100000,"rows_first":2000,"rows_last":500,"rows_between":2000,"halvings":0,"cell_chars":16384,"cell_head_chars":4096},"cells_cut":0,"cells_raw":0,"read":"whole","date_system":"1900"}

{"sheet":"Lists","index":0,"n_rows":500,"n_cols":79,"rows_kept":500,"cut":false,"hidden":true,"merged":[]}
["Rank","Name","Unitlist","Column1",null,"Column2","Column1","Companylist","Column3",null,"Rank","Cem","CEMName","Column1",null,"CMSCauseList",null,"Limits",null,"Column5","Facility","Source","Limit","Unique","Column4","Column42","Column43","Column432","Column1","Column2",null,null,"states",null,"Column1","Column2","Column3","Column4","Column5","Column6","Column7","Column8","Column9","Column10","Column12","Column23",null,"Column1","Column2","Column3","Column4","Column5","Column6","Column7","Column8","Column9","Column10",null,"Column5","Facility","Source","operating hours","Unique","Column4","Column43","Column42","43","Column432",null,"Column5","Facility","Source","operating hours","Unique","Column4","Column43","Column42","43","Column432"]
[{"$f":"+IF(D2=\"\",\"\",MAX(A1:A$1)+1)","v":""},{"$f":"IF(Affected_Sources!C24=\"\",\"\",Affected_Sources!C24)","v":""},{"$f":"+IFERROR(INDEX(B$2:B$501,MATCH(ROW()-ROW($C$1),A$2:A$501,0)),\"\")","v":""},{"$f":"IF(COUNTIF(B$2:B2,B2)=1,B2,\"\")","v":""},null,{"$f":"+IF(I2=\"\",\"\",MAX(F1:F$1)+1)","v":""},{"$f":"+IF(Company_Information!B24=\"\",\"\",Company_Information!B24)","v":""},{"$f":"+IFERROR(INDEX(G$2:G$501,MATCH(ROW()-ROW($H$1),F$2:F$501,0)),\"\")","v":""},{"$f":"IF(COUNTIF(G$2:G2,G2)=1,G2,\"\")","v":""},null,{"$f":"+IF(N2=\"\",\"\",MAX(K1:K$1)+1)","v":""},{"$f":"IF(CMS_Identification!E24=\"\",\"\",CMS_Identification!E24)","v":""},{"$f":"+IFERROR(INDEX(L$2:L$501,MATCH(ROW()-ROW($M$1),K$2:K$501,0)),\"\")","v":""},{"$f":"IF(COUNTIF(L$2:L2,L2)=1,L2,\"\")","v":""},null,"Monitoring System Malfunctions",null,"Particulate Matter",null,{"$f":"+IF(Y2=\"\",\"\",MAX(T1:T$1)+1)","v":""},{"$f":"IF(Limit_Deviation_Detail!B24=\"\",\"\",Limit_Deviation_Detail!B24)","v":""},{"$f":"IF(Limit_Deviation_Detail!C24=\"\",\"\",Limit_Deviation_Detail!C24)","v":""},{"$f":"IF(Limit_Deviation_Detail!E24=\"\",\"\",Limit_Deviation_Detail!E24)","v":""},{"$f":"U2&V2&W2","v":""},{"$f":"IF(COUNTIF(X$2:X2,X2)=1,X2,\"\")","v":""},{"$f":"+IFERROR(INDEX(U$2:U$955,MATCH(ROW()-ROW(HU$1),T$2:T$955,0)),\"\")","v":""},{"$f":"+IFERROR(INDEX(V$2:V$955,MATCH(ROW()-ROW(Y$1),T$2:T$955,0)),\"\")","v":""},{"$f":"+IFERROR(INDEX(W$2:W$955,MATCH(ROW()-ROW(Y$1),T$2:T$955,0)),\"\")","v":""},{"$f":"IF(Z2=\"\",\"\",Z2&AA2)","v":""},{"$f":"IF(Z2=\"\",\"\",VLOOKUP(AC2,$BL$2:$BP$78,5,FALSE))","v":""},null,null,"AK",null,{"$f":"IF(COUNTIF(AM$2:AM2,AM2)=1,AM2,\"\")","v":""},{"$f":"IF(CMS_Deviation_Detail!B24=\"\",\"\",CMS_Deviation_Detail!B24)","v":""},{"$f":"IF(CMS_Deviation_Detail!C24=\"\",\"\",CMS_Deviation_Detail!C24)","v":""},{"$f":"IF(CMS_Deviation_Detail!D24=\"\",\"\",CMS_Deviation_Detail!D24)","v":""},{"$f":"IF(AL2=\"\",\"\",AJ2&\" \"&AK2&\" \"&AL2)","v":""},{"$f":"+IF(AI2=\"\",\"\",MAX(AN1:AN$1)+1)","v":""},{"$f":"+IFERROR(INDEX(AI$2:AI$955,MATCH(ROW()-ROW(AI$1),AN$2:AN$955,0)),\"\")","v":""},{"$f":"+IFERROR(INDEX(AJ$2:AJ$955,MATCH(ROW()-ROW(AJ$1),$AN$2:$AN$955,0)),\"\")","v":""},{"$f":"+IFERROR(INDEX(AK$2:AK$955,MATCH(ROW()-ROW(AK$1),$AN$2:$AN$955,0)),\"\")","v":""},{"$f":"+IFERROR(INDEX(AL$2:AL$955,MATCH(ROW()-ROW(AL$1),$AN$2:$AN$955,0)),\"\")","v":""},{"$f":"IF(AP2=\"\",\"\",AP2&AQ2)","v":""},{"$f":"IF(AP2=\"\",\"\",VLOOKUP(AS2,$BL$2:$BP$78,5,FALSE))","v":""},null,{"$f":"IF(COUNTIF(AZ$2:AZ2,AZ2)=1,AZ2,\"\")","v":""},{"$f":"IF(Limit_Deviation_Detail!B24=\"\",\"\",Limit_Deviation_Detail!B24)","v":""},{"$f":"IF(Limit_Deviation_Detail!C24=\"\",\"\",Limit_Deviation_Detail!C24)","v":""},{"$f":"IF(Limit_Deviation_Detail!E24=\"\",\"\",Limit_Deviation_Detail!E24)","v":""},{"$f":"IF(AY2=\"\",\"\",AW2&\" \"&AX2&\" \"&AY2)","v":""},{"$f":"+IF(AV2=\"\",\"\",MAX(BA1:BA$1)+1)","v":""},{"$f":"+IFERROR(INDEX(AV$2:AV$955,MATCH(ROW()-ROW(AV$1),BA$2:BA$955,0)),\"\")","v":""},{"$f":"+IFERROR(INDEX(AW$2:AW$955,MATCH(ROW()-ROW(AW$1),$BA$2:$BA$955,0)),\"\")","v":""},{"$f":"+IFERROR(INDEX(AX$2:AX$955,MATCH(ROW()-ROW(AX$1),$BA$2:$BA$955,0)),\"\")","v":""},"",null,{"$f":"+IF(BL2=\"\",\"\",MAX(BG1:BG$1)+1)","v":""},{"$f":"IF(Affected_Sources!B24=\"\",\"\",Affected_Sources!B24)","v":""},{"$f":"IF(Affected_Sources!C24=\"\",\"\",Affected_Sources!C24)","v":""},{"$f":"IF(Affected_Sources!D24=\"\",\"\",Affected_Sources!D24)","v":""},{"$f":"BH2&BI2","v":""},{"$f":"IF(COUNTIF(BK$2:BK2,BK2)=1,BK2,\"\")","v":""},{"$f":"IF(BN2=\"\",\"\",BN2&\" \"&BO2)","v":""},{"$f":"+IFERROR(INDEX(BH$2:BH$78,MATCH(ROW()-ROW(BL$1),BG$2:BG$78,0)),\"\")","v":""},{"$f":"+IFERROR(INDEX(BI$2:BI$78,MATCH(ROW()-ROW(BN$1),BG$2:BG$78,0)),\"\")","v":""},{"$f":"+IFERROR(INDEX(BJ$2:BJ$78,MATCH(ROW()-ROW(BO$1),BG$2:BG$78,0)),\"\")","v":""},null,{"$f":"+IF(BW2=\"\",\"\",MAX(BR1:BR$1)+1)","v":""},{"$f":"IF(CMS_Identification!B24=\"\",\"\",CMS_Identification!B24)","v":""},{"$f":"IF(CMS_Identification!C24=\"\",\"\",CMS_Identification!C24)","v":""},{"$f":"IF(CMS_Identification!E24=\"\",\"\",CMS_Identification!E24)","v":""},{"$f":"BS2&BT2&BU2","v":""},{"$f":"IF(COUNTIF(BV$2:BV2,BV2)=1,BV2,\"\")","v":""},{"$f":"IF(BY2=\"\",\"\",BY2&\" \"&BZ2&\" \"&BU2)","v":""},{"$f":"+IFERROR(INDEX(BS$2:BS$78,MATCH(ROW()-ROW(BW$1),BR$2:BR$78,0)),\"\")","v":""},{"$f":"+IFERROR(INDEX(BT$2:BT$78,MATCH(ROW()-ROW(BY$1),BR$2:BR$78,0)),\"\")","v":""},{"$f":"+IFERROR(INDEX(BU$2:BU$78,MATCH(ROW()-ROW(BZ$1),BR$2:BR$78,0)),\"\")","v":""}]
[{"$f":"+IF(D3=\"\",\"\",MAX(A$1:A2)+1)","v":""},{"$f":"IF(Affected_Sources!C25=\"\",\"\",Affected_Sources!C25)","v":""},"",{"$f":"IF(COUNTIF(B$2:B3,B3)=1,B3,\"\")","v":""},null,{"$f":"+IF(I3=\"\",\"\",MAX(F$1:F2)+1)","v":""},{"$f":"+IF(Company_Information!B25=\"\",\"\",Company_Information!B25)","v":""},"",{"$f":"IF(COUNTIF(G$2:G3,G3)=1,G3,\"\")","v":""},null,{"$f":"+IF(N3=\"\",\"\",MAX(K$1:K2)+1)","v":""},{"$f":"IF(CMS_Identification!E25=\"\",\"\",CMS_Identification!E25)","v":""},{"$f":"+IFERROR(INDEX(L$2:L$501,MATCH(ROW()-ROW($M$1),K$2:K$501,0)),\"\")","v":""},{"$f":"IF(COUNTIF(L$2:L3,L3)=1,L3,\"\")","v":""},null,"Nonmonitoring Equipment Malfunctions",null,"Total Metal HAP",null,{"$f":"+IF(Y3=\"\",\"\",MAX(T$1:T2)+1)","v":""},{"$f":"IF(Limit_Deviation_Detail!B25=\"\",\"\",Limit_Deviation_Detail!B25)","v":""},{"$f":"IF(Limit_Deviation_Detail!C25=\"\",\"\",Limit_Deviation_Detail!C25)","v":""},{"$f":"IF(Limit_Deviation_Detail!E25=\"\",\"\",Limit_Deviation_Detail!E25)","v":""},"",{"$f":"IF(COUNTIF(X$2:X3,X3)=1,X3,\"\")","v":""},"","","","","",null,null,"AL",null,{"$f":"IF(COUNTIF(AM$2:AM3,AM3)=1,AM3,\"\")","v":""},{"$f":"IF(CMS_Deviation_Detail!B25=\"\",\"\",CMS_Deviation_Detail!B25)","v":""},{"$f":"IF(CMS_Deviation_Detail!C25=\"\",\"\",CMS_Deviation_Detail!C25)","v":""},{"$f":"IF(CMS_Deviation_Detail!D25=\"\",\"\",CMS_Deviation_Detail!D25)","v":""},{"$f":"IF(AL3=\"\",\"\",AJ3&\" \"&AK3&\" \"&AL3)","v":""},{"$f":"+IF(AI3=\"\",\"\",MAX(AN$1:AN2)+1)","v":""},{"$f":"+IFERROR(INDEX(AI$2:AI$955,MATCH(ROW()-ROW(AI$1),AN$2:AN$955,0)),\"\")","v":""},{"$f":"+IFERROR(INDEX(AJ$2:AJ$955,MATCH(ROW()-ROW(AJ$1),$AN$2:$AN$955,0)),\"\")","v":""},{"$f":"+IFERROR(INDEX(AK$2:AK$955,MATCH(ROW()-ROW(AK$1),$AN$2:$AN$955,0)),\"\")","v":""},{"$f":"+IFERROR(INDEX(AL$2:AL$955,MATCH(ROW()-ROW(AL$1),$AN$2:$AN$955,0)),\"\")","v":""},"","",null,{"$f":"IF(COUNTIF(AZ$2:AZ3,AZ3)=1,AZ3,\"\")","v":""},{"$f":"IF(Limit_Deviation_Detail!B25=\"\",\"\",Limit_Deviation_Detail!B25)","v":""},{"$f":"IF(Limit_Deviation_Detail!C25=\"\",\"\",Limit_Deviation_Detail!C25)","v":""},{"$f":"IF(Limit_Deviation_Detail!E25=\"\",\"\",Limit_Deviation_Detail!E25)","v":""},{"$f":"IF(AY3=\"\",\"\",AW3&\" \"&AX3&\" \"&AY3)","v":""},{"$f":"+IF(AV3=\"\",\"\",MAX(BA$1:BA2)+1)","v":""},{"$f":"+IFERROR(INDEX(AV$2:AV$955,MATCH(ROW()-ROW(AV$1),BA$2:BA$955,0)),\"\")","v":""},{"$f":"+IFERROR(INDEX(AW$2:AW$955,MATCH(ROW()-ROW(AW$1),$BA$2:$BA$955,0)),\"\")","v":""},{"$f":"+IFERROR(INDEX(AX$2:AX$955,MATCH(ROW()-ROW(AX$1),$BA$2:$BA$955,0)),\"\")","v":""},{"$f":"+IFERROR(INDEX(AY$2:AY$955,MATCH(ROW()-ROW(AY$1),$BA$2:$BA$955,0)),\"\")","v":""},null,{"$f":"+IF(BL3=\"\",\"\",MAX(BG$1:BG2)+1)","v":""},{"$f":"IF(Affected_Sources!B25=\"\",\"\",Affected_Sources!B25)","v":""},{"$f":"IF(Affected_Sources!C25=\"\",\"\",Affected_Sources!C25)","v":""},{"$f":"IF(Affected_Sources!D25=\"\",\"\",Affected_Sources!D25)","v":""},{"$f":"BH3&BI3","v":""},{"$f":"IF(COUNTIF(BK$2:BK3,BK3)=1,BK3,\"\")","v":""},"",{"$f":"+IFERROR(INDEX(BH$2:BH$78,MATCH(ROW()-ROW(BL$1),BG$2:BG$78,0)),\"\")","v":""},{"$f":"+IFERROR(INDEX(BI$2:BI$78,MATCH(ROW()-ROW(BN$1),BG$2:BG$78,0)),\"\")","v":""},{"$f":"+IFERROR(INDEX(BJ$2:BJ$78,MATCH(ROW()-ROW(BO$1),BG$2:BG$78,0)),\"\")","v":""},null,{"$f":"+IF(BW3=\"\",\"\",MAX(BR$1:BR2)+1)","v":""},{"$f":"IF(CMS_Identification!B25=\"\",\"\",CMS_Identification!B25)","v":""},{"$f":"IF(CMS_Identification!C25=\"\",\"\",CMS_Identification!C25)","v":""},{"$f":"IF(CMS_Identification!E25=\"\",\"\",CMS_Identification!E25)","v":""},{"$f":"BS3&BT3&BU3","v":""},{"$f":"IF(COUNTIF(BV$2:BV3,BV3)=1,BV3,\"\")","v":""},{"$f":"IF(BY3=\"\",\"\",BY3&\" \"&BZ3&\" \"&BU3)","v":""},{"$f":"+IFERROR(INDEX(BS$2:BS$78,MATCH(ROW()-ROW(BW$1),BR$2:BR$78,0)),\"\")","v":""},{"$f":"+IFERROR(INDEX(BT$2:BT$78,MATCH(ROW()-ROW(BY$1),BR$2:BR$78,0)),\"\")","v":""},{"$f":"+IFERROR(INDEX(BU$2:BU$78,MATCH(ROW()-ROW(BZ$1),BR$2:BR$78,0)),\"\")","v":""}]
[{"$f":"+IF(D4=\"\",\"\",MAX(A$1:A3)+1)","v":""},{"$f":"IF(Affected_Sources!C26=\"\",\"\",Affected_Sources!C26)","v":""},"",{"$f":"IF(COUNTIF(B$2:B4,B4)=1,B4,\"\")","v":""},null,{"$f":"+IF(I4=\"\",\"\",MAX(F$1:F3)+1)","v":""},{"$f":"+IF(Company_Information!B26=\"\",\"\",Company_Information!B26)","v":""},"",{"$f":"IF(COUNTIF(G$2:G4,G4)=1,G4,\"\")","v":""},null,{"$f":"+IF(N4=\"\",\"\",MAX(K$1:K3)+1)","v":""},{"$f":"IF(CMS_Identification!E26=\"\",\"\",CMS_Identification!E26)","v":""},"",{"$f":"IF(COUNTIF(L$2:L4,L4)=1,L4,\"\")","v":""},null,"Quality Assurance/Quality Control Calibrations",null,"Volatile Organic HAP",null,{"$f":"+IF(Y4=\"\",\"\",MAX(T$1:T3)+1)","v":""},{"$f":"IF(Limit_Deviation_Detail!B26=\"\",\"\",Limit_Deviation_Detail!B26)","v":""},{"$f":"IF(Limit_Deviation_Detail!C26=\"\",\"\",Limit_Deviation_Detail!C26)","v":""},{"$f":"IF(Limit_Deviation_Detail!E26=\"\",\"\",Limit_Deviation_Detail!E26)","v":""},"",{"$f":"IF(COUNTIF(X$2:X4,X4)=1,X4,\"\")","v":""},"","","","","",null,null,"AR",null,{"$f":"IF(COUNTIF(AM$2:AM4,AM4)=1,AM4,\"\")","v":""},{"$f":"IF(CMS_Deviation_Detail!B26=\"\",\"\",CMS_Deviation_Detail!B26)","v":""},{"$f":"IF(CMS_Deviation_Detail!C26=\"\",\"\",CMS_Deviation_Detail!C26)","v":""},{"$f":"IF(CMS_Deviation_Detail!D26=\"\",\"\",CMS_Deviation_Detail!D26)","v":""},"",{"$f":"+IF(AI4=\"\",\"\",MAX(AN$1:AN3)+1)","v":""},"","","","","","",null,{"$f":"IF(COUNTIF(AZ$2:AZ4,AZ4)=1,AZ4,\"\")","v":""},{"$f":"IF(Limit_Deviation_Detail!B26=\"\",\"\",Limit_Deviation_Detail!B26)","v":""},{"$f":"IF(Limit_Deviation_Detail!C26=\"\",\"\",Limit_Deviation_Detail!C26)","v":""},{"$f":"IF(Limit_Deviation_Detail!E26=\"\",\"\",Limit_Deviation_Detail!E26)","v":""},"",{"$f":"+IF(AV4=\"\",\"\",MAX(BA$1:BA3)+1)","v":""},"","","","",null,{"$f":"+IF(BL4=\"\",\"\",MAX(BG$1:BG3)+1)","v":""},{"$f":"IF(Affected_Sources!B26=\"\",\"\",Affected_Sources!B26)","v":""},{"$f":"IF(Affected_Sources!C26=\"\",\"\",Affected_Sources!C26)","v":""},{"$f":"IF(Affected_Sources!D26=\"\",\"\",Affected_Sources!D26)","v":""},"",{"$f":"IF(COUNTIF(BK$2:BK4,BK4)=1,BK4,\"\")","v":""},"","","","",null,{"$f":"+IF(BW4=\"\",\"\",MAX(BR$1:BR3)+1)","v":""},{"$f":"IF(CMS_Identification!B26=\"\",\"\",CMS_Identification!B26)","v":""},{"$f":"IF(CMS_Identification!C26=\"\",\"\",CMS_Identification!C26)","v":""},{"$f":"IF(CMS_Identification!E26=\"\",\"\",CMS_Identification!E26)","v":""},"",{"$f":"IF(COUNTIF(BV$2:BV4,BV4)=1,BV4,\"\")","v":""},"","","",{"$f":"+IFERROR(INDEX(BU$2:BU$78,MATCH(ROW()-ROW(BZ$1),BR$2:BR$78,0)),\"\")","v":""}]
[{"$f":"+IF(D5=\"\",\"\",MAX(A$1:A4)+1)","v":""},{"$f":"IF(Affected_Sources!C27=\"\",\"\",Affected_Sources!C27)","v":""},"",{"$f":"IF(COUNTIF(B$2:B5,B5)=1,B5,\"\")","v":""},null,{"$f":"+IF(I5=\"\",\"\",MAX(F$1:F4)+1)","v":""},{"$f":"+IF(Company_Information!B27=\"\",\"\",Company_Information!B27)","v":""},"",{"$f":"IF(COUNTIF(G$2:G5,G5)=1,G5,\"\")","v":""},null,{"$f":"+IF(N5=\"\",\"\",MAX(K$1:K4)+1)","v":""},{"$f":"IF(CMS_Identification!E27=\"\",\"\",CMS_Identification!E27)","v":""},"",{"$f":"IF(COUNTIF(L$2:L5,L5)=1,L5,\"\")","v":""},null,"Other Known Causes",null,"Triethylamine",null,{"$f":"+IF(Y5=\"\",\"\",MAX(T$1:T4)+1)","v":""},{"$f":"IF(Limit_Deviation_Detail!B27=\"\",\"\",Limit_Deviation_Detail!B27)","v":""},{"$f":"IF(Limit_Deviation_Detail!C27=\"\",\"\",Limit_Deviation_Detail!C27)","v":""},{"$f":"IF(Limit_Deviation_Detail!E27=\"\",\"\",Limit_Deviation_Detail!E27)","v":""},"",{"$f":"IF(COUNTIF(X$2:X5,X5)=1,X5,\"\")","v":""},"","","","","",null,null,"AS",null,{"$f":"IF(COUNTIF(AM$2:AM5,AM5)=1,AM5,\"\")","v":""},{"$f":"IF(CMS_Deviation_Detail!B27=\"\",\"\",CMS_Deviation_Detail!B27)","v":""},{"$f":"IF(CMS_Deviation_Detail!C27=\"\",\"\",CMS_Deviation_Detail!C27)","v":""},{"$f":"IF(CMS_Deviation_Detail!D27=\"\",\"\",CMS_Deviation_Detail!D27)","v":""},"",{"$f":"+IF(AI5=\"\",\"\",MAX(AN$1:AN4)+1)","v":""},"","","","","","",null,{"$f":"IF(COUNTIF(AZ$2:AZ5,AZ5)=1,AZ5,\"\")","v":""},{"$f":"IF(Limit_Deviation_Detail!B27=\"\",\"\",Limit_Deviation_Detail!B27)","v":""},{"$f":"IF(Limit_Deviation_Detail!C27=\"\",\"\",Limit_Deviation_Detail!C27)","v":""},{"$f":"IF(Limit_Deviation_Detail!E27=\"\",\"\",Limit_Deviation_Detail!E27)","v":""},"",{"$f":"+IF(AV5=\"\",\"\",MAX(BA$1:BA4)+1)","v":""},"","","","",null,{"$f":"+IF(BL5=\"\",\"\",MAX(BG$1:BG4)+1)","v":""},{"$f":"IF(Affected_Sources!B27=\"\",\"\",Affected_Sources!B27)","v":""},{"$f":"IF(Affected_Sources!C27=\"\",\"\",Affected_Sources!C27)","v":""},{"$f":"IF(Affected_Sources!D27=\"\",\"\",Affected_Sources!D27)","v":""},"",{"$f":"IF(COUNTIF(BK$2:BK5,BK5)=1,BK5,\"\")","v":""},"","","","",null,{"$f":"+IF(BW5=\"\",\"\",MAX(BR$1:BR4)+1)","v":""},{"$f":"IF(CMS_Identification!B27=\"\",\"\",CMS_Identification!B27)","v":""},{"$f":"IF(CMS_Identification!C27=\"\",\"\",CMS_Identification!C27)","v":""},{"$f":"IF(CMS_Identification!E27=\"\",\"\",CMS_Identification!E27)","v":""},"",{"$f":"IF(COUNTIF(BV$2:BV5,BV5)=1,BV5,\"\")","v":""},"","","",""]
[{"$f":"+IF(D6=\"\",\"\",MAX(A$1:A5)+1)","v":""},{"$f":"IF(Affected_Sources!C28=\"\",\"\",Affected_Sources!C28)","v":""},"",{"$f":"IF(COUNTIF(B$2:B6,B6)=1,B6,\"\")","v":""},null,{"$f":"+IF(I6=\"\",\"\",MAX(F$1:F5)+1)","v":""},{"$f":"+IF(Company_Information!B28=\"\",\"\",Company_Information!B28)","v":""},"",{"$f":"IF(COUNTIF(G$2:G6,G6)=1,G6,\"\")","v":""},null,{"$f":"+IF(N6=\"\",\"\",MAX(K$1:K5)+1)","v":""},{"$f":"IF(CMS_Identification!E28=\"\",\"\",CMS_Identification!E28)","v":""},"",{"$f":"IF(COUNTIF(L$2:L6,L6)=1,L6,\"\")","v":""},null,"Unknown Causes",null,"Opacity",null,{"$f":"+IF(Y6=\"\",\"\",MAX(T$1:T5)+1)","v":""},{"$f":"IF(Limit_Deviation_Detail!B28=\"\",\"\",Limit_Deviation_Detail!B28)","v":""},{"$f":"IF(Limit_Deviation_Detail!C28=\"\",\"\",Limit_Deviation_Detail!C28)","v":""},{"$f":"IF(Limit_Deviation_Detail!E28=\"\",\"\",Limit_Deviation_Detail!E28)","v":""},"",{"$f":"IF(COUNTIF(X$2:X6,X6)=1,X6,\"\")","v":""},"","","","","",null,null,"AZ",null,{"$f":"IF(COUNTIF(AM$2:AM6,AM6)=1,AM6,\"\")","v":""},{"$f":"IF(CMS_Deviation_Detail!B28=\"\",\"\",CMS_Deviation_Detail!B28)","v":""},{"$f":"IF(CMS_Deviation_Detail!C28=\"\",\"\",CMS_Deviation_Detail!C28)","v":""},{"$f":"IF(CMS_Deviation_Detail!D28=\"\",\"\",CMS_Deviation_Detail!D28)","v":""},"",{"$f":"+IF(AI6=\"\",\"\",MAX(AN$1:AN5)+1)","v":""},"","","","","","",null,{"$f":"IF(COUNTIF(AZ$2:AZ6,AZ6)=1,AZ6,\"\")","v":""},{"$f":"IF(Limit_Deviation_Detail!B28=\"\",\"\",Limit_Deviation_Detail!B28)","v":""},{"$f":"IF(Limit_Deviation_Detail!C28=\"\",\"\",Limit_Deviation_Detail!C28)","v":""},{"$f":"IF(Limit_Deviation_Detail!E28=\"\",\"\",Limit_Deviation_Detail!E28)","v":""},"",{"$f":"+IF(AV6=\"\",\"\",MAX(BA$1:BA5)+1)","v":""},"","","","",null,{"$f":"+IF(BL6=\"\",\"\",MAX(BG$1:BG5)+1)","v":""},{"$f":"IF(Affected_Sources!B28=\"\",\"\",Affected_Sources!B28)","v":""},{"$f":"IF(Affected_Sources!C28=\"\",\"\",Affected_Sources!C28)","v":""},{"$f":"IF(Affected_Sources!D28=\"\",\"\",Affected_Sources!D28)","v":""},"",{"$f":"IF(COUNTIF(BK$2:BK6,BK6)=1,BK6,\"\")","v":""},"","","","",null,{"$f":"+IF(BW6=\"\",\"\",MAX(BR$1:BR5)+1)","v":""},{"$f":"IF(CMS_Identification!B28=\"\",\"\",CMS_Identification!B28)","v":""},{"$f":"IF(CMS_Identification!C28=\"\",\"\",CMS_Identification!C28)","v":""},{"$f":"IF(CMS_Identification!E28=\"\",\"\",CMS_Identification!E28)","v":""},"",{"$f":"IF(COUNTIF(BV$2:BV6,BV6)=1,BV6,\"\")","v":""},"","","",""]
[{"$f":"+IF(D7=\"\",\"\",MAX(A$1:A6)+1)","v":""},{"$f":"IF(Affected_Sources!C29=\"\",\"\",Affected_Sources!C29)","v":""},"",{"$f":"IF(COUNTIF(B$2:B7,B7)=1,B7,\"\")","v":""},null,{"$f":"+IF(I7=\"\",\"\",MAX(F$1:F6)+1)","v":""},{"$f":"+IF(Company_Information!B29=\"\",\"\",Company_Information!B29)","v":""},"",{"$f":"IF(COUNTIF(G$2:G7,G7)=1,G7,\"\")","v":""},null,{"$f":"+IF(N7=\"\",\"\",MAX(K$1:K6)+1)","v":""},{"$f":"IF(CMS_Identification!E29=\"\",\"\",CMS_Identification!E29)","v":""},"",{"$f":"IF(COUNTIF(L$2:L7,L7)=1,L7,\"\")","v":""},null,null,null,"Operation of Capture System",null,{"$f":"+IF(Y7=\"\",\"\",MAX(T$1:T6)+1)","v":""},{"$f":"IF(Limit_Deviation_Detail!B29=\"\",\"\",Limit_Deviation_Detail!B29)","v":""},{"$f":"IF(Limit_Deviation_Detail!C29=\"\",\"\",Limit_Deviation_Detail!C29)","v":""},{"$f":"IF(Limit_Deviation_Detail!E29=\"\",\"\",Limit_Deviation_Detail!E29)","v":""},"",{"$f":"IF(COUNTIF(X$2:X7,X7)=1,X7,\"\")","v":""},"","","","","",null,null,"CA",null,{"$f":"IF(COUNTIF(AM$2:AM7,AM7)=1,AM7,\"\")","v":""},{"$f":"IF(CMS_Deviation_Detail!B29=\"\",\"\",CMS_Deviation_Detail!B29)","v":""},{"$f":"IF(CMS_Deviation_Detail!C29=\"\",\"\",CMS_Deviation_Detail!C29)","v":""},{"$f":"IF(CMS_Deviation_Detail!D29=\"\",\"\",CMS_Deviation_Detail!D29)","v":""},"",{"$f":"+IF(AI7=\"\",\"\",MAX(AN$1:AN6)+1)","v":""},"","","","","","",null,{"$f":"IF(COUNTIF(AZ$2:AZ7,AZ7)=1,AZ7,\"\")","v":""},{"$f":"IF(Limit_Deviation_Detail!B29=\"\",\"\",Limit_Deviation_Detail!B29)","v":""},{"$f":"IF(Limit_Deviation_Detail!C29=\"\",\"\",Limit_Deviation_Detail!C29)","v":""},{"$f":"IF(Limit_Deviation_Detail!E29=\"\",\"\",Limit_Deviation_Detail!E29)","v":""},{"$f":"IF(AY7=\"\",\"\",AW7&\" \"&AX7&\" \"&AY7)","v":""},{"$f":"+IF(AV7=\"\",\"\",MAX(BA$1:BA6)+1)","v":""},{"$f":"+IFERROR(INDEX(AV$2:AV$955,MATCH(ROW()-ROW(AV$1),BA$2:BA$955,0)),\"\")","v":""},{"$f":"+IFERROR(INDEX(AW$2:AW$955,MATCH(ROW()-ROW(AW$1),$BA$2:$BA$955,0)),\"\")","v":""},{"$f":"+IFERROR(INDEX(AX$2:AX$955,MATCH(ROW()-ROW(AX$1),$BA$2:$BA$955,0)),\"\")","v":""},{"$f":"+IFERROR(INDEX(AY$2:AY$955,MATCH(ROW()-ROW(AY$1),$BA$2:$BA$955,0)),\"\")","v":""},null,{"$f":"+IF(BL7=\"\",\"\",MAX(BG$1:BG6)+1)","v":""},{"$f":"IF(Affected_Sources!B29=\"\",\"\",Affected_Sources!B29)","v":""},{"$f":"IF(Affected_Sources!C29=\"\",\"\",Affected_Sources!C29)","v":""},{"$f":"IF(Affected_Sources!D29=\"\",\"\",Affected_Sources!D29)","v":""},"",{"$f":"IF(COUNTIF(BK$2:BK7,BK7)=1,BK7,\"\")","v":""},"","","","",null,{"$f":"+IF(BW7=\"\",\"\",MAX(BR$1:BR6)+1)","v":""},{"$f":"IF(CMS_Identification!B29=\"\",\"\",CMS_Identification!B29)","v":""},{"$f":"IF(CMS_Identification!C29=\"\",\"\",CMS_Identification!C29)","v":""},{"$f":"IF(CMS_Identification!E29=\"\",\"\",CMS_Identification!E29)","v":""},"",{"$f":"IF(COUNTIF(BV$2:BV7,BV7)=1,BV7,\"\")","v":""},"","","",""]
[{"$f":"+IF(D8=\"\",\"\",MAX(A$1:A7)+1)","v":""},{"$f":"IF(Affected_Sources!C30=\"\",\"\",Affected_Sources!C30)","v":""},"",{"$f":"IF(COUNTIF(B$2:B8,B8)=1,B8,\"\")","v":""},null,{"$f":"+IF(I8=\"\",\"\",MAX(F$1:F7)+1)","v":""},{"$f":"+IF(Company_Information!B30=\"\",\"\",Company_Information!B30)","v":""},"",{"$f":"IF(COUNTIF(G$2:G8,G8)=1,G8,\"\")","v":""},null,{"$f":"+IF(N8=\"\",\"\",MAX(K$1:K7)+1)","v":""},{"$f":"IF(CMS_Identification!E30=\"\",\"\",CMS_Identification!E30)","v":""},"",{"$f":"IF(COUNTIF(L$2:L8,L8)=1,L8,\"\")","v":""},null,null,null,"Scrubber Pressure Drop ",null,{"$f":"+IF(Y8=\"\",\"\",MAX(T$1:T7)+1)","v":""},{"$f":"IF(Limit_Deviation_Detail!B30=\"\",\"\",Limit_Deviation_Detail!B30)","v":""},{"$f":"IF(Limit_Deviation_Detail!C30=\"\",\"\",Limit_Deviation_Detail!C30)","v":""},{"$f":"IF(Limit_Deviation_Detail!E30=\"\",\"\",Limit_Deviation_Detail!E30)","v":""},"",{"$f":"IF(COUNTIF(X$2:X8,X8)=1,X8,\"\")","v":""},"","","","","",null,null,"CO",null,{"$f":"IF(COUNTIF(AM$2:AM8,AM8)=1,AM8,\"\")","v":""},{"$f":"IF(CMS_Deviation_Detail!B30=\"\",\"\",CMS_Deviation_Detail!B30)","v":""},{"$f":"IF(CMS_Deviation_Detail!C30=\"\",\"\",CMS_Deviation_Detail!C30)","v":""},{"$f":"IF(CMS_Deviation_Detail!D30=\"\",\"\",CMS_Deviation_Detail!D30)","v":""},"",{"$f":"+IF(AI8=\"\",\"\",MAX(AN$1:AN7)+1)","v":""},"","","","","","",null,{"$f":"IF(COUNTIF(AZ$2:AZ8,AZ8)=1,AZ8,\"\")","v":""},{"$f":"IF(Limit_Deviation_Detail!B30=\"\",\"\",Limit_Deviation_Detail!B30)","v":""},{"$f":"IF(Limit_Deviation_Detail!C30=\"\",\"\",Limit_Deviation_Detail!C30)","v":""},{"$f":"IF(Limit_Deviation_Detail!E30=\"\",\"\",Limit_Deviation_Detail!E30)","v":""},"",{"$f":"+IF(AV8=\"\",\"\",MAX(BA$1:BA7)+1)","v":""},"","","","",null,{"$f":"+IF(BL8=\"\",\"\",MAX(BG$1:BG7)+1)","v":""},{"$f":"IF(Affected_Sources!B30=\"\",\"\",Affected_Sources!B30)","v":""},{"$f":"IF(Affected_Sources!C30=\"\",\"\",Affected_Sources!C30)","v":""},{"$f":"IF(Affected_Sources!D30=\"\",\"\",Affected_Sources!D30)","v":""},"",{"$f":"IF(COUNTIF(BK$2:BK8,BK8)=1,BK8,\"\")","v":""},"","","","",null,{"$f":"+IF(BW8=\"\",\"\",MAX(BR$1:BR7)+1)","v":""},{"$f":"IF(CMS_Identification!B30=\"\",\"\",CMS_Identification!B30)","v":""},{"$f":"IF(CMS_Identification!C30=\"\",\"\",CMS_Identification!C30)","v":""},{"$f":"IF(CMS_Identification!E30=\"\",\"\",CMS_Identification!E30)","v":""},"",{"$f":"IF(COUNTIF(BV$2:BV8,BV8)=1,BV8,\"\")","v":""},"","","",""]
[{"$f":"+IF(D9=\"\",\"\",MAX(A$1:A8)+1)","v":""},{"$f":"IF(Affected_Sources!C31=\"\",\"\",Affected_Sources!C31)","v":""},"",{"$f":"IF(COUNTIF(B$2:B9,B9)=1,B9,\"\")","v":""},null,{"$f":"+IF(I9=\"\",\"\",MAX(F$1:F8)+1)","v":""},{"$f":"+IF(Company_Information!B31=\"\",\"\",Company_Information!B31)","v":""},"",{"$f":"IF(COUNTIF(G$2:G9,G9)=1,G9,\"\")","v":""},null,{"$f":"+IF(N9=\"\",\"\",MAX(K$1:K8)+1)","v":""},{"$f":"IF(CMS_Identification!E31=\"\",\"\",CMS_Identification!E31)","v":""},"",{"$f":"IF(COUNTIF(L$2:L9,L9)=1,L9,\"\")","v":""},null,null,null,"Combustion Device Combustion Zone Temperature",null,{"$f":"+IF(Y9=\"\",\"\",MAX(T$1:T8)+1)","v":""},{"$f":"IF(Limit_Deviation_Detail!B31=\"\",\"\",Limit_Deviation_Detail!B31)","v":""},{"$f":"IF(Limit_Deviation_Detail!C31=\"\",\"\",Limit_Deviation_Detail!C31)","v":""},{"$f":"IF(Limit_Deviation_Detail!E31=\"\",\"\",Limit_Deviation_Detail!E31)","v":""},"",{"$f":"IF(COUNTIF(X$2:X9,X9)=1,X9,\"\")","v":""},"","","","","",null,null,"CT",null,{"$f":"IF(COUNTIF(AM$2:AM9,AM9)=1,AM9,\"\")","v":""},{"$f":"IF(CMS_Deviation_Detail!B31=\"\",\"\",CMS_Deviation_Detail!B31)","v":""},{"$f":"IF(CMS_Deviation_Detail!C31=\"\",\"\",CMS_Deviation_Detail!C31)","v":""},{"$f":"IF(CMS_Deviation_Detail!D31=\"\",\"\",CMS_Deviation_Detail!D31)","v":""},"",{"$f":"+IF(AI9=\"\",\"\",MAX(AN$1:AN8)+1)","v":""},"","","","","","",null,{"$f":"IF(COUNTIF(AZ$2:AZ9,AZ9)=1,AZ9,\"\")","v":""},{"$f":"IF(Limit_Deviation_Detail!B31=\"\",\"\",Limit_Deviation_Detail!B31)","v":""},{"$f":"IF(Limit_Deviation_Detail!C31=\"\",\"\",Limit_Deviation_Detail!C31)","v":""},{"$f":"IF(Limit_Deviation_Detail!E31=\"\",\"\",Limit_Deviation_Detail!E31)","v":""},"",{"$f":"+IF(AV9=\"\",\"\",MAX(BA$1:BA8)+1)","v":""},"","","","",null,{"$f":"+IF(BL9=\"\",\"\",MAX(BG$1:BG8)+1)","v":""},{"$f":"IF(Affected_Sources!B31=\"\",\"\",Affected_Sources!B31)","v":""},{"$f":"IF(Affected_Sources!C31=\"\",\"\",Affected_Sources!C31)","v":""},{"$f":"IF(Affected_Sources!D31=\"\",\"\",Affected_Sources!D31)","v":""},"",{"$f":"IF(COUNTIF(BK$2:BK9,BK9)=1,BK9,\"\")","v":""},"","","","",null,{"$f":"+IF(BW9=\"\",\"\",MAX(BR$1:BR8)+1)","v":""},{"$f":"IF(CMS_Identification!B31=\"\",\"\",CMS_Identification!B31)","v":""},{"$f":"IF(CMS_Identification!C31=\"\",\"\",CMS_Identification!C31)","v":""},{"$f":"IF(CMS_Identification!E31=\"\",\"\",CMS_Identification!E31)","v":""},"",{"$f":"IF(COUNTIF(BV$2:BV9,BV9)=1,BV9,\"\")","v":""},"","","",""]
[{"$f":"+IF(D10=\"\",\"\",MAX(A$1:A9)+1)","v":""},{"$f":"IF(Affected_Sources!C32=\"\",\"\",Affected_Sources!C32)","v":""},"",{"$f":"IF(COUNTIF(B$2:B10,B10)=1,B10,\"\")","v":""},null,{"$f":"+IF(I10=\"\",\"\",MAX(F$1:F9)+1)","v":""},{"$f":"+IF(Company_Information!B32=\"\",\"\",Company_Information!B32)","v":""},"",{"$f":"IF(COUNTIF(G$2:G10,G10)=1,G10,\"\")","v":""},null,{"$f":"+IF(N10=\"\",\"\",MAX(K$1:K9)+1)","v":""},{"$f":"IF(CMS_Identification!E32=\"\",\"\",CMS_Identification!E32)","v":""},"",{"$f":"IF(COUNTIF(L$2:L10,L10)=1,L10,\"\")","v":""},null,null,null,"Wet Acid Scrubber Liquid Flow Rate",null,{"$f":"+IF(Y10=\"\",\"\",MAX(T$1:T9)+1)","v":""},{"$f":"IF(Limit_Deviation_Detail!B32=\"\",\"\",Limit_Deviation_Detail!B32)","v":""},{"$f":"IF(Limit_Deviation_Detail!C32=\"\",\"\",Limit_Deviation_Detail!C32)","v":""},{"$f":"IF(Limit_Deviation_Detail!E32=\"\",\"\",Limit_Deviation_Detail!E32)","v":""},"",{"$f":"IF(COUNTIF(X$2:X10,X10)=1,X10,\"\")","v":""},"","","","","",null,null,"DC",null,{"$f":"IF(COUNTIF(AM$2:AM10,AM10)=1,AM10,\"\")","v":""},{"$f":"IF(CMS_Deviation_Detail!B32=\"\",\"\",CMS_Deviation_Detail!B32)","v":""},{"$f":"IF(CMS_Deviation_Detail!C32=\"\",\"\",CMS_Deviation_Detail!C32)","v":""},{"$f":"IF(CMS_Deviation_Detail!D32=\"\",\"\",CMS_Deviation_Detail!D32)","v":""},"",{"$f":"+IF(AI10=\"\",\"\",MAX(AN$1:AN9)+1)","v":""},"","","","","","",null,{"$f":"IF(COUNTIF(AZ$2:AZ10,AZ10)=1,AZ10,\"\")","v":""},{"$f":"IF(Limit_Deviation_Detail!B32=\"\",\"\",Limit_Deviation_Detail!B32)","v":""},{"$f":"IF(Limit_Deviation_Detail!C32=\"\",\"\",Limit_Deviation_Detail!C32)","v":""},{"$f":"IF(Limit_Deviation_Detail!E32=\"\",\"\",Limit_Deviation_Detail!E32)","v":""},"",{"$f":"+IF(AV10=\"\",\"\",MAX(BA$1:BA9)+1)","v":""},"","","","",null,{"$f":"+IF(BL10=\"\",\"\",MAX(BG$1:BG9)+1)","v":""},{"$f":"IF(Affected_Sources!B32=\"\",\"\",Affected_Sources!B32)","v":""},{"$f":"IF(Affected_Sources!C32=\"\",\"\",Affected_Sources!C32)","v":""},{"$f":"IF(Affected_Sources!D32=\"\",\"\",Affected_Sources!D32)","v":""},"",{"$f":"IF(COUNTIF(BK$2:BK10,BK10)=1,BK10,\"\")","v":""},"","","","",null,{"$f":"+IF(BW10=\"\",\"\",MAX(BR$1:BR9)+1)","v":""},{"$f":"IF(CMS_Identification!B32=\"\",\"\",CMS_Identification!B32)","v":""},{"$f":"IF(CMS_Identification!C32=\"\",\"\",CMS_Identification!C32)","v":""},{"$f":"IF(CMS_Identification!E32=\"\",\"\",CMS_Identification!E32)","v":""},"",{"$f":"IF(COUNTIF(BV$2:BV10,BV10)=1,BV10,\"\")","v":""},"","","",""]
[{"$f":"+IF(D11=\"\",\"\",MAX(A$1:A10)+1)","v":""},{"$f":"IF(Affected_Sources!C33=\"\",\"\",Affected_Sources!C33)","v":""},"",{"$f":"IF(COUNTIF(B$2:B11,B11)=1,B11,\"\")","v":""},null,{"$f":"+IF(I11=\"\",\"\",MAX(F$1:F10)+1)","v":""},{"$f":"+IF(Company_Information!B33=\"\",\"\",Company_Information!B33)","v":""},"",{"$f":"IF(COUNTIF(G$2:G11,G11)=1,G11,\"\")","v":""},null,{"$f":"+IF(N11=\"\",\"\",MAX(K$1:K10)+1)","v":""},{"$f":"IF(CMS_Identification!E33=\"\",\"\",CMS_Identification!E33)","v":""},"",{"$f":"IF(COUNTIF(L$2:L11,L11)=1,L11,\"\")","v":""},null,null,null,"Wet Acid Scrubber pH",null,{"$f":"+IF(Y11=\"\",\"\",MAX(T$1:T10)+1)","v":""},{"$f":"IF(Limit_Deviation_Detail!B33=\"\",\"\",Limit_Deviation_Detail!B33)","v":""},{"$f":"IF(Limit_Deviation_Detail!C33=\"\",\"\",Limit_Deviation_Detail!C33)","v":""},{"$f":"IF(Limit_Deviation_Detail!E33=\"\",\"\",Limit_Deviation_Detail!E33)","v":""},"",{"$f":"IF(COUNTIF(X$2:X11,X11)=1,X11,\"\")","v":""},"","","","","",null,null,"DE",null,{"$f":"IF(COUNTIF(AM$2:AM11,AM11)=1,AM11,\"\")","v":""},{"$f":"IF(CMS_Deviation_Detail!B33=\"\",\"\",CMS_Deviation_Detail!B33)","v":""},{"$f":"IF(CMS_Deviation_Detail!C33=\"\",\"\",CMS_Deviation_Detail!C33)","v":""},{"$f":"IF(CMS_Deviation_Detail!D33=\"\",\"\",CMS_Deviation_Detail!D33)","v":""},"",{"$f":"+IF(AI11=\"\",\"\",MAX(AN$1:AN10)+1)","v":""},"","","","","","",null,{"$f":"IF(COUNTIF(AZ$2:AZ11,AZ11)=1,AZ11,\"\")","v":""},{"$f":"IF(Limit_Deviation_Detail!B33=\"\",\"\",Limit_Deviation_Detail!B33)","v":""},{"$f":"IF(Limit_Deviation_Detail!C33=\"\",\"\",Limit_Deviation_Detail!C33)","v":""},{"$f":"IF(Limit_Deviation_Detail!E33=\"\",\"\",Limit_Deviation_Detail!E33)","v":""},"",{"$f":"+IF(AV11=\"\",\"\",MAX(BA$1:BA10)+1)","v":""},"","","","",null,{"$f":"+IF(BL11=\"\",\"\",MAX(BG$1:BG10)+1)","v":""},{"$f":"IF(Affected_Sources!B33=\"\",\"\",Affected_Sources!B33)","v":""},{"$f":"IF(Affected_Sources!C33=\"\",\"\",Affected_Sources!C33)","v":""},{"$f":"IF(Affected_Sources!D33=\"\",\"\",Affected_Sources!D33)","v":""},"",{"$f":"IF(COUNTIF(BK$2:BK11,BK11)=1,BK11,\"\")","v":""},"","","","",null,{"$f":"+IF(BW11=\"\",\"\",MAX(BR$1:BR10)+1)","v":""},{"$f":"IF(CMS_Identification!B33=\"\",\"\",CMS_Identification!B33)","v":""},{"$f":"IF(CMS_Identification!C33=\"\",\"\",CMS_Identification!C33)","v":""},{"$f":"IF(CMS_Identification!E33=\"\",\"\",CMS_Identification!E33)","v":""},"",{"$f":"IF(COUNTIF(BV$2:BV11,BV11)=1,BV11,\"\")","v":""},"","","",""]
[{"$f":"+IF(D12=\"\",\"\",MAX(A$1:A11)+1)","v":""},{"$f":"IF(Affected_Sources!C34=\"\",\"\",Affected_Sources!C34)","v":""},"",{"$f":"IF(COUNTIF(B$2:B12,B12)=1,B12,\"\")","v":""},null,null,null,null,null,null,{"$f":"+IF(N12=\"\",\"\",MAX(K$1:K11)+1)","v":""},{"$f":"IF(CMS_Identification!E34=\"\",\"\",CMS_Identification!E34)","v":""},"",{"$f":"IF(COUNTIF(L$2:L12,L12)=1,L12,\"\")","v":""},null,"Malfunction",null,"Other Control Device Operating Parameter",null,{"$f":"+IF(Y12=\"\",\"\",MAX(T$1:T11)+1)","v":""},{"$f":"IF(Limit_Deviation_Detail!B34=\"\",\"\",Limit_Deviation_Detail!B34)","v":""},{"$f":"IF(Limit_Deviation_Detail!C34=\"\",\"\",Limit_Deviation_Detail!C34)","v":""},{"$f":"IF(Limit_Deviation_Detail!E34=\"\",\"\",Limit_Deviation_Detail!E34)","v":""},"",{"$f":"IF(COUNTIF(X$2:X12,X12)=1,X12,\"\")","v":""},"","","","","",null,null,"FL",null,{"$f":"IF(COUNTIF(AM$2:AM12,AM12)=1,AM12,\"\")","v":""},{"$f":"IF(CMS_Deviation_Detail!B34=\"\",\"\",CMS_Deviation_Detail!B34)","v":""},{"$f":"IF(CMS_Deviation_Detail!C34=\"\",\"\",CMS_Deviation_Detail!C34)","v":""},{"$f":"IF(CMS_Deviation_Detail!D34=\"\",\"\",CMS_Deviation_Detail!D34)","v":""},"",{"$f":"+IF(AI12=\"\",\"\",MAX(AN$1:AN11)+1)","v":""},"","","","","","",null,{"$f":"IF(COUNTIF(AZ$2:AZ12,AZ12)=1,AZ12,\"\")","v":""},{"$f":"IF(Limit_Deviation_Detail!B34=\"\",\"\",Limit_Deviation_Detail!B34)","v":""},{"$f":"IF(Limit_Deviation_Detail!C34=\"\",\"\",Limit_Deviation_Detail!C34)","v":""},{"$f":"IF(Limit_Deviation_Detail!E34=\"\",\"\",Limit_Deviation_Detail!E34)","v":""},"",{"$f":"+IF(AV12=\"\",\"\",MAX(BA$1:BA11)+1)","v":""},"","","","",null,{"$f":"+IF(BL12=\"\",\"\",MAX(BG$1:BG11)+1)","v":""},{"$f":"IF(Affected_Sources!B34=\"\",\"\",Affected_Sources!B34)","v":""},{"$f":"IF(Affected_Sources!C34=\"\",\"\",Affected_Sources!C34)","v":""},{"$f":"IF(Affected_Sources!D34=\"\",\"\",Affected_Sources!D34)","v":""},"",{"$f":"IF(COUNTIF(BK$2:BK12,BK12)=1,BK12,\"\")","v":""},"","","","",null,{"$f":"+IF(BW12=\"\",\"\",MAX(BR$1:BR11)+1)","v":""},{"$f":"IF(CMS_Identification!B34=\"\",\"\",CMS_Identification!B34)","v":""},{"$f":"IF(CMS_Identification!C34=\"\",\"\",CMS_Identification!C34)","v":""},{"$f":"IF(CMS_Identification!E34=\"\",\"\",CMS_Identification!E34)","v":""},"",{"$f":"IF(COUNTIF(BV$2:BV12,BV12)=1,BV12,\"\")","v":""},"","","",""]
[{"$f":"+IF(D13=\"\",\"\",MAX(A$1:A12)+1)","v":""},{"$f":"IF(Affected_Sources!C35=\"\",\"\",Affected_Sources!C35)","v":""},"",{"$f":"IF(COUNTIF(B$2:B13,B13)=1,B13,\"\")","v":""},null,null,null,null,null,null,{"$f":"+IF(N13=\"\",\"\",MAX(K$1:K12)+1)","v":""},{"$f":"IF(CMS_Identification!E35=\"\",\"\",CMS_Identification!E35)","v":""},"",{"$f":"IF(COUNTIF(L$2:L13,L13)=1,L13,\"\")","v":""},null,"Other Period",null,"Certification of Scrap per §63.7700(b)",null,{"$f":"+IF(Y13=\"\",\"\",MAX(T$1:T12)+1)","v":""},{"$f":"IF(Limit_Deviation_Detail!B35=\"\",\"\",Limit_Deviation_Detail!B35)","v":""},{"$f":"IF(Limit_Deviation_Detail!C35=\"\",\"\",Limit_Deviation_Detail!C35)","v":""},{"$f":"IF(Limit_Deviation_Detail!E35=\"\",\"\",Limit_Deviation_Detail!E35)","v":""},"",{"$f":"IF(COUNTIF(X$2:X13,X13)=1,X13,\"\")","v":""},"","","","","",null,null,"GA",null,{"$f":"IF(COUNTIF(AM$2:AM13,AM13)=1,AM13,\"\")","v":""},{"$f":"IF(CMS_Deviation_Detail!B35=\"\",\"\",CMS_Deviation_Detail!B35)","v":""},{"$f":"IF(CMS_Deviation_Detail!C35=\"\",\"\",CMS_Deviation_Detail!C35)","v":""},{"$f":"IF(CMS_Deviation_Detail!D35=\"\",\"\",CMS_Deviation_Detail!D35)","v":""},"",{"$f":"+IF(AI13=\"\",\"\",MAX(AN$1:AN12)+1)","v":""},"","","","","","",null,{"$f":"IF(COUNTIF(AZ$2:AZ13,AZ13)=1,AZ13,\"\")","v":""},{"$f":"IF(Limit_Deviation_Detail!B35=\"\",\"\",Limit_Deviation_Detail!B35)","v":""},{"$f":"IF(Limit_Deviation_Detail!C35=\"\",\"\",Limit_Deviation_Detail!C35)","v":""},{"$f":"IF(Limit_Deviation_Detail!E35=\"\",\"\",Limit_Deviation_Detail!E35)","v":""},"",{"$f":"+IF(AV13=\"\",\"\",MAX(BA$1:BA12)+1)","v":""},"","","","",null,{"$f":"+IF(BL13=\"\",\"\",MAX(BG$1:BG12)+1)","v":""},{"$f":"IF(Affected_Sources!B35=\"\",\"\",Affected_Sources!B35)","v":""},{"$f":"IF(Affected_Sources!C35=\"\",\"\",Affected_Sources!C35)","v":""},{"$f":"IF(Affected_Sources!D35=\"\",\"\",Affected_Sources!D35)","v":""},"",{"$f":"IF(COUNTIF(BK$2:BK13,BK13)=1,BK13,\"\")","v":""},"","","","",null,{"$f":"+IF(BW13=\"\",\"\",MAX(BR$1:BR12)+1)","v":""},{"$f":"IF(CMS_Identification!B35=\"\",\"\",CMS_Identification!B35)","v":""},{"$f":"IF(CMS_Identification!C35=\"\",\"\",CMS_Identification!C35)","v":""},{"$f":"IF(CMS_Identification!E35=\"\",\"\",CMS_Identification!E35)","v":""},"",{"$f":"IF(COUNTIF(BV$2:BV13,BV13)=1,BV13,\"\")","v":""},"","","",""]
[{"$f":"+IF(D14=\"\",\"\",MAX(A$1:A13)+1)","v":""},{"$f":"IF(Affected_Sources!C36=\"\",\"\",Affected_Sources!C36)","v":""},"",{"$f":"IF(COUNTIF(B$2:B14,B14)=1,B14,\"\")","v":""},null,null,null,null,null,null,{"$f":"+IF(N14=\"\",\"\",MAX(K$1:K13)+1)","v":""},{"$f":"IF(CMS_Identification!E36=\"\",\"\",CMS_Identification!E36)","v":""},"",{"$f":"IF(COUNTIF(L$2:L14,L14)=1,L14,\"\")","v":""},null,null,null,"Plan for Inspection and Selection of Scrap per §63.7700(c)",null,{"$f":"+IF(Y14=\"\",\"\",MAX(T$1:T13)+1)","v":""},{"$f":"IF(Limit_Deviation_Detail!B36=\"\",\"\",Limit_Deviation_Detail!B36)","v":""},{"$f":"IF(Limit_Deviation_Detail!C36=\"\",\"\",Limit_Deviation_Detail!C36)","v":""},{"$f":"IF(Limit_Deviation_Detail!E36=\"\",\"\",Limit_Deviation_Detail!E36)","v":""},"",{"$f":"IF(COUNTIF(X$2:X14,X14)=1,X14,\"\")","v":""},"","","","","",null,null,"GU",null,{"$f":"IF(COUNTIF(AM$2:AM14,AM14)=1,AM14,\"\")","v":""},{"$f":"IF(CMS_Deviation_Detail!B36=\"\",\"\",CMS_Deviation_Detail!B36)","v":""},{"$f":"IF(CMS_Deviation_Detail!C36=\"\",\"\",CMS_Deviation_Detail!C36)","v":""},{"$f":"IF(CMS_Deviation_Detail!D36=\"\",\"\",CMS_Deviation_Detail!D36)","v":""},"",{"$f":"+IF(AI14=\"\",\"\",MAX(AN$1:AN13)+1)","v":""},"","","","","","",null,{"$f":"IF(COUNTIF(AZ$2:AZ14,AZ14)=1,AZ14,\"\")","v":""},{"$f":"IF(Limit_Deviation_Detail!B36=\"\",\"\",Limit_Deviation_Detail!B36)","v":""},{"$f":"IF(Limit_Deviation_Detail!C36=\"\",\"\",Limit_Deviation_Detail!C36)","v":""},{"$f":"IF(Limit_Deviation_Detail!E36=\"\",\"\",Limit_Deviation_Detail!E36)","v":""},"",{"$f":"+IF(AV14=\"\",\"\",MAX(BA$1:BA13)+1)","v":""},"","","","",null,{"$f":"+IF(BL14=\"\",\"\",MAX(BG$1:BG13)+1)","v":""},{"$f":"IF(Affected_Sources!B36=\"\",\"\",Affected_Sources!B36)","v":""},{"$f":"IF(Affected_Sources!C36=\"\",\"\",Affected_Sources!C36)","v":""},{"$f":"IF(Affected_Sources!D36=\"\",\"\",Affected_Sources!D36)","v":""},"",{"$f":"IF(COUNTIF(BK$2:BK14,BK14)=1,BK14,\"\")","v":""},"","","","",null,{"$f":"+IF(BW14=\"\",\"\",MAX(BR$1:BR13)+1)","v":""},{"$f":"IF(CMS_Identification!B36=\"\",\"\",CMS_Identification!B36)","v":""},{"$f":"IF(CMS_Identification!C36=\"\",\"\",CMS_Identification!C36)","v":""},{"$f":"IF(CMS_Identification!E36=\"\",\"\",CMS_Identification!E36)","v":""},"",{"$f":"IF(COUNTIF(BV$2:BV14,BV14)=1,BV14,\"\")","v":""},"","","",""]
[{"$f":"+IF(D15=\"\",\"\",MAX(A$1:A14)+1)","v":""},{"$f":"IF(Affected_Sources!C37=\"\",\"\",Affected_Sources!C37)","v":""},"",{"$f":"IF(COUNTIF(B$2:B15,B15)=1,B15,\"\")","v":""},null,null,null,null,null,null,{"$f":"+IF(N15=\"\",\"\",MAX(K$1:K14)+1)","v":""},{"$f":"IF(CMS_Identification!E37=\"\",\"\",CMS_Identification!E37)","v":""},"",{"$f":"IF(COUNTIF(L$2:L15,L15)=1,L15,\"\")","v":""},null,"Deviation Causes",null,"Methanol Free Binder Chemical Formulation",null,{"$f":"+IF(Y15=\"\",\"\",MAX(T$1:T14)+1)","v":""},{"$f":"IF(Limit_Deviation_Detail!B37=\"\",\"\",Limit_Deviation_Detail!B37)","v":""},{"$f":"IF(Limit_Deviation_Detail!C37=\"\",\"\",Limit_Deviation_Detail!C37)","v":""},{"$f":"IF(Limit_Deviation_Detail!E37=\"\",\"\",Limit_Deviation_Detail!E37)","v":""},"",{"$f":"IF(COUNTIF(X$2:X15,X15)=1,X15,\"\")","v":""},"","","","","",null,null,"HI",null,{"$f":"IF(COUNTIF(AM$2:AM15,AM15)=1,AM15,\"\")","v":""},{"$f":"IF(CMS_Deviation_Detail!B37=\"\",\"\",CMS_Deviation_Detail!B37)","v":""},{"$f":"IF(CMS_Deviation_Detail!C37=\"\",\"\",CMS_Deviation_Detail!C37)","v":""},{"$f":"IF(CMS_Deviation_Detail!D37=\"\",\"\",CMS_Deviation_Detail!D37)","v":""},"",{"$f":"+IF(AI15=\"\",\"\",MAX(AN$1:AN14)+1)","v":""},"","","","","","",null,{"$f":"IF(COUNTIF(AZ$2:AZ15,AZ15)=1,AZ15,\"\")","v":""},{"$f":"IF(Limit_Deviation_Detail!B37=\"\",\"\",Limit_Deviation_Detail!B37)","v":""},{"$f":"IF(Limit_Deviation_Detail!C37=\"\",\"\",Limit_Deviation_Detail!C37)","v":""},{"$f":"IF(Limit_Deviation_Detail!E37=\"\",\"\",Limit_Deviation_Detail!E37)","v":""},"",{"$f":"+IF(AV15=\"\",\"\",MAX(BA$1:BA14)+1)","v":""},"","","","",null,{"$f":"+IF(BL15=\"\",\"\",MAX(BG$1:BG14)+1)","v":""},{"$f":"IF(Affected_Sources!B37=\"\",\"\",Affected_Sources!B37)","v":""},{"$f":"IF(Affected_Sources!C37=\"\",\"\",Affected_Sources!C37)","v":""},{"$f":"IF(Affected_Sources!D37=\"\",\"\",Affected_Sources!D37)","v":""},"",{"$f":"IF(COUNTIF(BK$2:BK15,BK15)=1,BK15,\"\")","v":""},"","","","",null,{"$f":"+IF(BW15=\"\",\"\",MAX(BR$1:BR14)+1)","v":""},{"$f":"IF(CMS_Identification!B37=\"\",\"\",CMS_Identification!B37)","v":""},{"$f":"IF(CMS_Identification!C37=\"\",\"\",CMS_Identification!C37)","v":""},{"$f":"IF(CMS_Identification!E37=\"\",\"\",CMS_Identification!E37)","v":""},"",{"$f":"IF(COUNTIF(BV$2:BV15,BV15)=1,BV15,\"\")","v":""},"","","",""]
[{"$f":"+IF(D16=\"\",\"\",MAX(A$1:A15)+1)","v":""},{"$f":"IF(Affected_Sources!C38=\"\",\"\",Affected_Sources!C38)","v":""},"",{"$f":"IF(COUNTIF(B$2:B16,B16)=1,B16,\"\")","v":""},null,null,null,null,null,null,{"$f":"+IF(N16=\"\",\"\",MAX(K$1:K15)+1)","v":""},{"$f":"IF(CMS_Identification!E38=\"\",\"\",CMS_Identification!E38)","v":""},"",{"$f":"IF(COUNTIF(L$2:L16,L16)=1,L16,\"\")","v":""},null,"Startup/Shutdown",null,"Preheater Flame Directly in Contact with Scrap",null,{"$f":"+IF(Y16=\"\",\"\",MAX(T$1:T15)+1)","v":""},{"$f":"IF(Limit_Deviation_Detail!B38=\"\",\"\",Limit_Deviation_Detail!B38)","v":""},{"$f":"IF(Limit_Deviation_Detail!C38=\"\",\"\",Limit_Deviation_Detail!C38)","v":""},{"$f":"IF(Limit_Deviation_Detail!E38=\"\",\"\",Limit_Deviation_Detail!E38)","v":""},"",{"$f":"IF(COUNTIF(X$2:X16,X16)=1,X16,\"\")","v":""},"","","","","",null,null,"IA",null,{"$f":"IF(COUNTIF(AM$2:AM16,AM16)=1,AM16,\"\")","v":""},{"$f":"IF(CMS_Deviation_Detail!B38=\"\",\"\",CMS_Deviation_Detail!B38)","v":""},{"$f":"IF(CMS_Deviation_Detail!C38=\"\",\"\",CMS_Deviation_Detail!C38)","v":""},{"$f":"IF(CMS_Deviation_Detail!D38=\"\",\"\",CMS_Deviation_Detail!D38)","v":""},"",{"$f":"+IF(AI16=\"\",\"\",MAX(AN$1:AN15)+1)","v":""},"","","","","","",null,{"$f":"IF(COUNTIF(AZ$2:AZ16,AZ16)=1,AZ16,\"\")","v":""},{"$f":"IF(Limit_Deviation_Detail!B38=\"\",\"\",Limit_Deviation_Detail!B38)","v":""},{"$f":"IF(Limit_Deviation_Detail!C38=\"\",\"\",Limit_Deviation_Detail!C38)","v":""},{"$f":"IF(Limit_Deviation_Detail!E38=\"\",\"\",Limit_Deviation_Detail!E38)","v":""},"",{"$f":"+IF(AV16=\"\",\"\",MAX(BA$1:BA15)+1)","v":""},"","","","",null,{"$f":"+IF(BL16=\"\",\"\",MAX(BG$1:BG15)+1)","v":""},{"$f":"IF(Affected_Sources!B38=\"\",\"\",Affected_Sources!B38)","v":""},{"$f":"IF(Affected_Sources!C38=\"\",\"\",Affected_Sources!C38)","v":""},{"$f":"IF(Affected_Sources!D38=\"\",\"\",Affected_Sources!D38)","v":""},"",{"$f":"IF(COUNTIF(BK$2:BK16,BK16)=1,BK16,\"\")","v":""},"","","","",null,{"$f":"+IF(BW16=\"\",\"\",MAX(BR$1:BR15)+1)","v":""},{"$f":"IF(CMS_Identification!B38=\"\",\"\",CMS_Identification!B38)","v":""},{"$f":"IF(CMS_Identification!C38=\"\",\"\",CMS_Identification!C38)","v":""},{"$f":"IF(CMS_Identification!E38=\"\",\"\",CMS_Identification!E38)","v":""},"",{"$f":"IF(COUNTIF(BV$2:BV16,BV16)=1,BV16,\"\")","v":""},"","","",""]
[{"$f":"+IF(D17=\"\",\"\",MAX(A$1:A16)+1)","v":""},{"$f":"IF(Affected_Sources!C39=\"\",\"\",Affected_Sources!C39)","v":""},"",{"$f":"IF(COUNTIF(B$2:B17,B17)=1,B17,\"\")","v":""},null,null,null,null,null,null,{"$f":"+IF(N17=\"\",\"\",MAX(K$1:K16)+1)","v":""},{"$f":"IF(CMS_Identification!E39=\"\",\"\",CMS_Identification!E39)","v":""},"",{"$f":"IF(COUNTIF(L$2:L17,L17)=1,L17,\"\")","v":""},null,"Control Equipment Problems",null,"Feed Material in Compliance with Scrap Certification",null,{"$f":"+IF(Y17=\"\",\"\",MAX(T$1:T16)+1)","v":""},{"$f":"IF(Limit_Deviation_Detail!B39=\"\",\"\",Limit_Deviation_Detail!B39)","v":""},{"$f":"IF(Limit_Deviation_Detail!C39=\"\",\"\",Limit_Deviation_Detail!C39)","v":""},{"$f":"IF(Limit_Deviation_Detail!E39=\"\",\"\",Limit_Deviation_Detail!E39)","v":""},"",{"$f":"IF(COUNTIF(X$2:X17,X17)=1,X17,\"\")","v":""},"","","","","",null,null,"ID",null,{"$f":"IF(COUNTIF(AM$2:AM17,AM17)=1,AM17,\"\")","v":""},{"$f":"IF(CMS_Deviation_Detail!B39=\"\",\"\",CMS_Deviation_Detail!B39)","v":""},{"$f":"IF(CMS_Deviation_Detail!C39=\"\",\"\",CMS_Deviation_Detail!C39)","v":""},{"$f":"IF(CMS_Deviation_Detail!D39=\"\",\"\",CMS_Deviation_Detail!D39)","v":""},"",{"$f":"+IF(AI17=\"\",\"\",MAX(AN$1:AN16)+1)","v":""},"","","","","","",null,{"$f":"IF(COUNTIF(AZ$2:AZ17,AZ17)=1,AZ17,\"\")","v":""},{"$f":"IF(Limit_Deviation_Detail!B39=\"\",\"\",Limit_Deviation_Detail!B39)","v":""},{"$f":"IF(Limit_Deviation_Detail!C39=\"\",\"\",Limit_Deviation_Detail!C39)","v":""},{"$f":"IF(Limit_Deviation_Detail!E39=\"\",\"\",Limit_Deviation_Detail!E39)","v":""},"",{"$f":"+IF(AV17=\"\",\"\",MAX(BA$1:BA16)+1)","v":""},"","","","",null,{"$f":"+IF(BL17=\"\",\"\",MAX(BG$1:BG16)+1)","v":""},{"$f":"IF(Affected_Sources!B39=\"\",\"\",Affected_Sources!B39)","v":""},{"$f":"IF(Affected_Sources!C39=\"\",\"\",Affected_Sources!C39)","v":""},{"$f":"IF(Affected_Sources!D39=\"\",\"\",Affected_Sources!D39)","v":""},"",{"$f":"IF(COUNTIF(BK$2:BK17,BK17)=1,BK17,\"\")","v":""},"","","","",null,{"$f":"+IF(BW17=\"\",\"\",MAX(BR$1:BR16)+1)","v":""},{"$f":"IF(CMS_Identification!B39=\"\",\"\",CMS_Identification!B39)","v":""},{"$f":"IF(CMS_Identification!C39=\"\",\"\",CMS_Identification!C39)","v":""},{"$f":"IF(CMS_Identification!E39=\"\",\"\",CMS_Identification!E39)","v":""},"",{"$f":"IF(COUNTIF(BV$2:BV17,BV17)=1,BV17,\"\")","v":""},"","","",""]
[{"$f":"+IF(D18=\"\",\"\",MAX(A$1:A17)+1)","v":""},{"$f":"IF(Affected_Sources!C40=\"\",\"\",Affected_Sources!C40)","v":""},"",{"$f":"IF(COUNTIF(B$2:B18,B18)=1,B18,\"\")","v":""},null,null,null,null,null,null,{"$f":"+IF(N18=\"\",\"\",MAX(K$1:K17)+1)","v":""},{"$f":"IF(CMS_Identification!E40=\"\",\"\",CMS_Identification!E40)","v":""},"",{"$f":"IF(COUNTIF(L$2:L18,L18)=1,L18,\"\")","v":""},null,"Process Problems",null,"Light cupola afterburner no later than 30 minutes after blast air is started to begin the coke bed burn-in",null,{"$f":"+IF(Y18=\"\",\"\",MAX(T$1:T17)+1)","v":""},{"$f":"IF(Limit_Deviation_Detail!B40=\"\",\"\",Limit_Deviation_Detail!B40)","v":""},{"$f":"IF(Limit_Deviation_Detail!C40=\"\",\"\",Limit_Deviation_Detail!C40)","v":""},{"$f":"IF(Limit_Deviation_Detail!E40=\"\",\"\",Limit_Deviation_Detail!E40)","v":""},"",{"$f":"IF(COUNTIF(X$2:X18,X18)=1,X18,\"\")","v":""},"","","","","",null,null,"IL",null,{"$f":"IF(COUNTIF(AM$2:AM18,AM18)=1,AM18,\"\")","v":""},{"$f":"IF(CMS_Deviation_Detail!B40=\"\",\"\",CMS_Deviation_Detail!B40)","v":""},{"$f":"IF(CMS_Deviation_Detail!C40=\"\",\"\",CMS_Deviation_Detail!C40)","v":""},{"$f":"IF(CMS_Deviation_Detail!D40=\"\",\"\",CMS_Deviation_Detail!D40)","v":""},"",{"$f":"+IF(AI18=\"\",\"\",MAX(AN$1:AN17)+1)","v":""},"","","","","","",null,{"$f":"IF(COUNTIF(AZ$2:AZ18,AZ18)=1,AZ18,\"\")","v":""},{"$f":"IF(Limit_Deviation_Detail!B40=\"\",\"\",Limit_Deviation_Detail!B40)","v":""},{"$f":"IF(Limit_Deviation_Detail!C40=\"\",\"\",Limit_Deviation_Detail!C40)","v":""},{"$f":"IF(Limit_Deviation_Detail!E40=\"\",\"\",Limit_Deviation_Detail!E40)","v":""},"",{"$f":"+IF(AV18=\"\",\"\",MAX(BA$1:BA17)+1)","v":""},"","","","",null,{"$f":"+IF(BL18=\"\",\"\",MAX(BG$1:BG17)+1)","v":""},{"$f":"IF(Affected_Sources!B40=\"\",\"\",Affected_Sources!B40)","v":""},{"$f":"IF(Affected_Sources!C40=\"\",\"\",Affected_Sources!C40)","v":""},{"$f":"IF(Affected_Sources!D40=\"\",\"\",Affected_Sources!D40)","v":""},"",{"$f":"IF(COUNTIF(BK$2:BK18,BK18)=1,BK18,\"\")","v":""},"","","","",null,{"$f":"+IF(BW18=\"\",\"\",MAX(BR$1:BR17)+1)","v":""},{"$f":"IF(CMS_Identification!B40=\"\",\"\",CMS_Identification!B40)","v":""},{"$f":"IF(CMS_Identification!C40=\"\",\"\",CMS_Identification!C40)","v":""},{"$f":"IF(CMS_Identification!E40=\"\",\"\",CMS_Identification!E40)","v":""},"",{"$f":"IF(COUNTIF(BV$2:BV18,BV18)=1,BV18,\"\")","v":""},"","","",""]
[{"$f":"+IF(D19=\"\",\"\",MAX(A$1:A18)+1)","v":""},{"$f":"IF(Affected_Sources!C41=\"\",\"\",Affected_Sources!C41)","v":""},"",{"$f":"IF(COUNTIF(B$2:B19,B19)=1,B19,\"\")","v":""},null,null,null,null,null,null,{"$f":"+IF(N19=\"\",\"\",MAX(K$1:K18)+1)","v":""},{"$f":"IF(CMS_Identification!E41=\"\",\"\",CMS_Identification!E41)","v":""},"",{"$f":"IF(COUNTIF(L$2:L19,L19)=1,L19,\"\")","v":""},null,"Other Known Causes",null,"Operate afterburner or combustion control device with a flame present while the cupola is off blast except as provided by 63.7700(g)(2)(ii) and (iii)",null,{"$f":"+IF(Y19=\"\",\"\",MAX(T$1:T18)+1)","v":""},{"$f":"IF(Limit_Deviation_Detail!B41=\"\",\"\",Limit_Deviation_Detail!B41)","v":""},{"$f":"IF(Limit_Deviation_Detail!C41=\"\",\"\",Limit_Deviation_Detail!C41)","v":""},{"$f":"IF(Limit_Deviation_Detail!E41=\"\",\"\",Limit_Deviation_Detail!E41)","v":""},"",{"$f":"IF(COUNTIF(X$2:X19,X19)=1,X19,\"\")","v":""},"","","","","",null,null,"IN",null,{"$f":"IF(COUNTIF(AM$2:AM19,AM19)=1,AM19,\"\")","v":""},{"$f":"IF(CMS_Deviation_Detail!B41=\"\",\"\",CMS_Deviation_Detail!B41)","v":""},{"$f":"IF(CMS_Deviation_Detail!C41=\"\",\"\",CMS_Deviation_Detail!C41)","v":""},{"$f":"IF(CMS_Deviation_Detail!D41=\"\",\"\",CMS_Deviation_Detail!D41)","v":""},"",{"$f":"+IF(AI19=\"\",\"\",MAX(AN$1:AN18)+1)","v":""},"","","","","","",null,{"$f":"IF(COUNTIF(AZ$2:AZ19,AZ19)=1,AZ19,\"\")","v":""},{"$f":"IF(Limit_Deviation_Detail!B41=\"\",\"\",Limit_Deviation_Detail!B41)","v":""},{"$f":"IF(Limit_Deviation_Detail!C41=\"\",\"\",Limit_Deviation_Detail!C41)","v":""},{"$f":"IF(Limit_Deviation_Detail!E41=\"\",\"\",Limit_Deviation_Detail!E41)","v":""},"",{"$f":"+IF(AV19=\"\",\"\",MAX(BA$1:BA18)+1)","v":""},"","","","",null,{"$f":"+IF(BL19=\"\",\"\",MAX(BG$1:BG18)+1)","v":""},{"$f":"IF(Affected_Sources!B41=\"\",\"\",Affected_Sources!B41)","v":""},{"$f":"IF(Affected_Sources!C41=\"\",\"\",Affected_Sources!C41)","v":""},{"$f":"IF(Affected_Sources!D41=\"\",\"\",Affected_Sources!D41)","v":""},"",{"$f":"IF(COUNTIF(BK$2:BK19,BK19)=1,BK19,\"\")","v":""},"","","","",null,{"$f":"+IF(BW19=\"\",\"\",MAX(BR$1:BR18)+1)","v":""},{"$f":"IF(CMS_Identification!B41=\"\",\"\",CMS_Identification!B41)","v":""},{"$f":"IF(CMS_Identification!C41=\"\",\"\",CMS_Identification!C41)","v":""},{"$f":"IF(CMS_Identification!E41=\"\",\"\",CMS_Identification!E41)","v":""},"",{"$f":"IF(COUNTIF(BV$2:BV19,BV19)=1,BV19,\"\")","v":""},"","","",""]
[{"$f":"+IF(D20=\"\",\"\",MAX(A$1:A19)+1)","v":""},{"$f":"IF(Affected_Sources!C42=\"\",\"\",Affected_Sources!C42)","v":""},"",{"$f":"IF(COUNTIF(B$2:B20,B20)=1,B20,\"\")","v":""},null,null,null,null,null,null,{"$f":"+IF(N20=\"\",\"\",MAX(K$1:K19)+1)","v":""},{"$f":"IF(CMS_Identification!E42=\"\",\"\",CMS_Identification!E42)","v":""},"",{"$f":"IF(COUNTIF(L$2:L20,L20)=1,L20,\"\")","v":""},null,"Unknown Causes",null,null,null,{"$f":"+IF(Y20=\"\",\"\",MAX(T$1:T19)+1)","v":""},{"$f":"IF(Limit_Deviation_Detail!B42=\"\",\"\",Limit_Deviation_Detail!B42)","v":""},{"$f":"IF(Limit_Deviation_Detail!C42=\"\",\"\",Limit_Deviation_Detail!C42)","v":""},{"$f":"IF(Limit_Deviation_Detail!E42=\"\",\"\",Limit_Deviation_Detail!E42)","v":""},"",{"$f":"IF(COUNTIF(X$2:X20,X20)=1,X20,\"\")","v":""},"","","","","",null,null,"KS",null,{"$f":"IF(COUNTIF(AM$2:AM20,AM20)=1,AM20,\"\")","v":""},{"$f":"IF(CMS_Deviation_Detail!B42=\"\",\"\",CMS_Deviation_Detail!B42)","v":""},{"$f":"IF(CMS_Deviation_Detail!C42=\"\",\"\",CMS_Deviation_Detail!C42)","v":""},{"$f":"IF(CMS_Deviation_Detail!D42=\"\",\"\",CMS_Deviation_Detail!D42)","v":""},"",{"$f":"+IF(AI20=\"\",\"\",MAX(AN$1:AN19)+1)","v":""},"","","","","","",null,{"$f":"IF(COUNTIF(AZ$2:AZ20,AZ20)=1,AZ20,\"\")","v":""},{"$f":"IF(Limit_Deviation_Detail!B42=\"\",\"\",Limit_Deviation_Detail!B42)","v":""},{"$f":"IF(Limit_Deviation_Detail!C42=\"\",\"\",Limit_Deviation_Detail!C42)","v":""},{"$f":"IF(Limit_Deviation_Detail!E42=\"\",\"\",Limit_Deviation_Detail!E42)","v":""},"",{"$f":"+IF(AV20=\"\",\"\",MAX(BA$1:BA19)+1)","v":""},"","","","",null,{"$f":"+IF(BL20=\"\",\"\",MAX(BG$1:BG19)+1)","v":""},{"$f":"IF(Affected_Sources!B42=\"\",\"\",Affected_Sources!B42)","v":""},{"$f":"IF(Affected_Sources!C42=\"\",\"\",Affected_Sources!C42)","v":""},{"$f":"IF(Affected_Sources!D42=\"\",\"\",Affected_Sources!D42)","v":""},"",{"$f":"IF(COUNTIF(BK$2:BK20,BK20)=1,BK20,\"\")","v":""},"","","","",null,{"$f":"+IF(BW20=\"\",\"\",MAX(BR$1:BR19)+1)","v":""},{"$f":"IF(CMS_Identification!B42=\"\",\"\",CMS_Identification!B42)","v":""},{"$f":"IF(CMS_Identification!C42=\"\",\"\",CMS_Identification!C42)","v":""},{"$f":"IF(CMS_Identification!E42=\"\",\"\",CMS_Identification!E42)","v":""},"",{"$f":"IF(COUNTIF(BV$2:BV20,BV20)=1,BV20,\"\")","v":""},"","","",""]
[{"$f":"+IF(D21=\"\",\"\",MAX(A$1:A20)+1)","v":""},{"$f":"IF(Affected_Sources!C43=\"\",\"\",Affected_Sources!C43)","v":""},"",{"$f":"IF(COUNTIF(B$2:B21,B21)=1,B21,\"\")","v":""},null,null,null,null,null,null,{"$f":"+IF(N21=\"\",\"\",MAX(K$1:K20)+1)","v":""},{"$f":"IF(CMS_Identification!E43=\"\",\"\",CMS_Identification!E43)","v":""},"",{"$f":"IF(COUNTIF(L$2:L21,L21)=1,L21,\"\")","v":""},null,null,null,null,null,{"$f":"+IF(Y21=\"\",\"\",MAX(T$1:T20)+1)","v":""},{"$f":"IF(Limit_Deviation_Detail!B43=\"\",\"\",Limit_Deviation_Detail!B43)","v":""},{"$f":"IF(Limit_Deviation_Detail!C43=\"\",\"\",Limit_Deviation_Detail!C43)","v":""},{"$f":"IF(Limit_Deviation_Detail!E43=\"\",\"\",Limit_Deviation_Detail!E43)","v":""},"",{"$f":"IF(COUNTIF(X$2:X21,X21)=1,X21,\"\")","v":""},"","","","","",null,null,"KY",null,{"$f":"IF(COUNTIF(AM$2:AM21,AM21)=1,AM21,\"\")","v":""},{"$f":"IF(CMS_Deviation_Detail!B43=\"\",\"\",CMS_Deviation_Detail!B43)","v":""},{"$f":"IF(CMS_Deviation_Detail!C43=\"\",\"\",CMS_Deviation_Detail!C43)","v":""},{"$f":"IF(CMS_Deviation_Detail!D43=\"\",\"\",CMS_Deviation_Detail!D43)","v":""},"",{"$f":"+IF(AI21=\"\",\"\",MAX(AN$1:AN20)+1)","v":""},"","","","","","",null,{"$f":"IF(COUNTIF(AZ$2:AZ21,AZ21)=1,AZ21,\"\")","v":""},{"$f":"IF(Limit_Deviation_Detail!B43=\"\",\"\",Limit_Deviation_Detail!B43)","v":""},{"$f":"IF(Limit_Deviation_Detail!C43=\"\",\"\",Limit_Deviation_Detail!C43)","v":""},{"$f":"IF(Limit_Deviation_Detail!E43=\"\",\"\",Limit_Deviation_Detail!E43)","v":""},"",{"$f":"+IF(AV21=\"\",\"\",MAX(BA$1:BA20)+1)","v":""},"","","","",null,{"$f":"+IF(BL21=\"\",\"\",MAX(BG$1:BG20)+1)","v":""},{"$f":"IF(Affected_Sources!B43=\"\",\"\",Affected_Sources!B43)","v":""},{"$f":"IF(Affected_Sources!C43=\"\",\"\",Affected_Sources!C43)","v":""},{"$f":"IF(Affected_Sources!D43=\"\",\"\",Affected_Sources!D43)","v":""},"",{"$f":"IF(COUNTIF(BK$2:BK21,BK21)=1,BK21,\"\")","v":""},"","","","",null,{"$f":"+IF(BW21=\"\",\"\",MAX(BR$1:BR20)+1)","v":""},{"$f":"IF(CMS_Identification!B43=\"\",\"\",CMS_Identification!B43)","v":""},{"$f":"IF(CMS_Identification!C43=\"\",\"\",CMS_Identification!C43)","v":""},{"$f":"IF(CMS_Identification!E43=\"\",\"\",CMS_Identification!E43)","v":""},"",{"$f":"IF(COUNTIF(BV$2:BV21,BV21)=1,BV21,\"\")","v":""},"","","",""]
[{"$f":"+IF(D22=\"\",\"\",MAX(A$1:A21)+1)","v":""},{"$f":"IF(Affected_Sources!C44=\"\",\"\",Affected_Sources!C44)","v":""},"",{"$f":"IF(COUNTIF(B$2:B22,B22)=1,B22,\"\")","v":""},null,null,null,null,null,null,{"$f":"+IF(N22=\"\",\"\",MAX(K$1:K21)+1)","v":""},{"$f":"IF(CMS_Identification!E44=\"\",\"\",CMS_Identification!E44)","v":""},"",{"$f":"IF(COUNTIF(L$2:L22,L22)=1,L22,\"\")","v":""},null,"Engineering Calculation",null,null,null,{"$f":"+IF(Y22=\"\",\"\",MAX(T$1:T21)+1)","v":""},{"$f":"IF(Limit_Deviation_Detail!B44=\"\",\"\",Limit_Deviation_Detail!B44)","v":""},{"$f":"IF(Limit_Deviation_Detail!C44=\"\",\"\",Limit_Deviation_Detail!C44)","v":""},{"$f":"IF(Limit_Deviation_Detail!E44=\"\",\"\",Limit_Deviation_Detail!E44)","v":""},"",{"$f":"IF(COUNTIF(X$2:X22,X22)=1,X22,\"\")","v":""},"","","","","",null,null,"LA",null,{"$f":"IF(COUNTIF(AM$2:AM22,AM22)=1,AM22,\"\")","v":""},{"$f":"IF(CMS_Deviation_Detail!B44=\"\",\"\",CMS_Deviation_Detail!B44)","v":""},{"$f":"IF(CMS_Deviation_Detail!C44=\"\",\"\",CMS_Deviation_Detail!C44)","v":""},{"$f":"IF(CMS_Deviation_Detail!D44=\"\",\"\",CMS_Deviation_Detail!D44)","v":""},"",{"$f":"+IF(AI22=\"\",\"\",MAX(AN$1:AN21)+1)","v":""},"","","","","","",null,{"$f":"IF(COUNTIF(AZ$2:AZ22,AZ22)=1,AZ22,\"\")","v":""},{"$f":"IF(Limit_Deviation_Detail!B44=\"\",\"\",Limit_Deviation_Detail!B44)","v":""},{"$f":"IF(Limit_Deviation_Detail!C44=\"\",\"\",Limit_Deviation_Detail!C44)","v":""},{"$f":"IF(Limit_Deviation_Detail!E44=\"\",\"\",Limit_Deviation_Detail!E44)","v":""},"",{"$f":"+IF(AV22=\"\",\"\",MAX(BA$1:BA21)+1)","v":""},"","","","",null,{"$f":"+IF(BL22=\"\",\"\",MAX(BG$1:BG21)+1)","v":""},{"$f":"IF(Affected_Sources!B44=\"\",\"\",Affected_Sources!B44)","v":""},{"$f":"IF(Affected_Sources!C44=\"\",\"\",Affected_Sources!C44)","v":""},{"$f":"IF(Affected_Sources!D44=\"\",\"\",Affected_Sources!D44)","v":""},"",{"$f":"IF(COUNTIF(BK$2:BK22,BK22)=1,BK22,\"\")","v":""},"","","","",null,{"$f":"+IF(BW22=\"\",\"\",MAX(BR$1:BR21)+1)","v":""},{"$f":"IF(CMS_Identification!B44=\"\",\"\",CMS_Identification!B44)","v":""},{"$f":"IF(CMS_Identification!C44=\"\",\"\",CMS_Identification!C44)","v":""},{"$f":"IF(CMS_Identification!E44=\"\",\"\",CMS_Identification!E44)","v":""},"",{"$f":"IF(COUNTIF(BV$2:BV22,BV22)=1,BV22,\"\")","v":""},"","","",""]
[{"$f":"+IF(D23=\"\",\"\",MAX(A$1:A22)+1)","v":""},{"$f":"IF(Affected_Sources!C45=\"\",\"\",Affected_Sources!C45)","v":""},"",{"$f":"IF(COUNTIF(B$2:B23,B23)=1,B23,\"\")","v":""},null,null,null,null,null,null,{"$f":"+IF(N23=\"\",\"\",MAX(K$1:K22)+1)","v":""},{"$f":"IF(CMS_Identification!E45=\"\",\"\",CMS_Identification!E45)","v":""},"",{"$f":"IF(COUNTIF(L$2:L23,L23)=1,L23,\"\")","v":""},null,"Process Knowledge",null,null,null,{"$f":"+IF(Y23=\"\",\"\",MAX(T$1:T22)+1)","v":""},{"$f":"IF(Limit_Deviation_Detail!B45=\"\",\"\",Limit_Deviation_Detail!B45)","v":""},{"$f":"IF(Limit_Deviation_Detail!C45=\"\",\"\",Limit_Deviation_Detail!C45)","v":""},{"$f":"IF(Limit_Deviation_Detail!E45=\"\",\"\",Limit_Deviation_Detail!E45)","v":""},"",{"$f":"IF(COUNTIF(X$2:X23,X23)=1,X23,\"\")","v":""},"","","","","",null,null,"MA",null,{"$f":"IF(COUNTIF(AM$2:AM23,AM23)=1,AM23,\"\")","v":""},{"$f":"IF(CMS_Deviation_Detail!B45=\"\",\"\",CMS_Deviation_Detail!B45)","v":""},{"$f":"IF(CMS_Deviation_Detail!C45=\"\",\"\",CMS_Deviation_Detail!C45)","v":""},{"$f":"IF(CMS_Deviation_Detail!D45=\"\",\"\",CMS_Deviation_Detail!D45)","v":""},"",{"$f":"+IF(AI23=\"\",\"\",MAX(AN$1:AN22)+1)","v":""},"","","","","","",null,{"$f":"IF(COUNTIF(AZ$2:AZ23,AZ23)=1,AZ23,\"\")","v":""},{"$f":"IF(Limit_Deviation_Detail!B45=\"\",\"\",Limit_Deviation_Detail!B45)","v":""},{"$f":"IF(Limit_Deviation_Detail!C45=\"\",\"\",Limit_Deviation_Detail!C45)","v":""},{"$f":"IF(Limit_Deviation_Detail!E45=\"\",\"\",Limit_Deviation_Detail!E45)","v":""},"",{"$f":"+IF(AV23=\"\",\"\",MAX(BA$1:BA22)+1)","v":""},"","","","",null,{"$f":"+IF(BL23=\"\",\"\",MAX(BG$1:BG22)+1)","v":""},{"$f":"IF(Affected_Sources!B45=\"\",\"\",Affected_Sources!B45)","v":""},{"$f":"IF(Affected_Sources!C45=\"\",\"\",Affected_Sources!C45)","v":""},{"$f":"IF(Affected_Sources!D45=\"\",\"\",Affected_Sources!D45)","v":""},"",{"$f":"IF(COUNTIF(BK$2:BK23,BK23)=1,BK23,\"\")","v":""},"","","","",null,{"$f":"+IF(BW23=\"\",\"\",MAX(BR$1:BR22)+1)","v":""},{"$f":"IF(CMS_Identification!B45=\"\",\"\",CMS_Identification!B45)","v":""},{"$f":"IF(CMS_Identification!C45=\"\",\"\",CMS_Identification!C45)","v":""},{"$f":"IF(CMS_Identification!E45=\"\",\"\",CMS_Identification!E45)","v":""},"",{"$f":"IF(COUNTIF(BV$2:BV23,BV23)=1,BV23,\"\")","v":""},"","","",""]
[{"$f":"+IF(D24=\"\",\"\",MAX(A$1:A23)+1)","v":""},{"$f":"IF(Affected_Sources!C46=\"\",\"\",Affected_Sources!C46)","v":""},"",{"$f":"IF(COUNTIF(B$2:B24,B24)=1,B24,\"\")","v":""},null,null,null,null,null,null,{"$f":"+IF(N24=\"\",\"\",MAX(K$1:K23)+1)","v":""},{"$f":"IF(CMS_Identification!E46=\"\",\"\",CMS_Identification!E46)","v":""},"",{"$f":"IF(COUNTIF(L$2:L24,L24)=1,L24,\"\")","v":""},null,"Emission Factor (AP-42 or similar)",null,null,null,{"$f":"+IF(Y24=\"\",\"\",MAX(T$1:T23)+1)","v":""},{"$f":"IF(Limit_Deviation_Detail!B46=\"\",\"\",Limit_Deviation_Detail!B46)","v":""},{"$f":"IF(Limit_Deviation_Detail!C46=\"\",\"\",Limit_Deviation_Detail!C46)","v":""},{"$f":"IF(Limit_Deviation_Detail!E46=\"\",\"\",Limit_Deviation_Detail!E46)","v":""},"",{"$f":"IF(COUNTIF(X$2:X24,X24)=1,X24,\"\")","v":""},"","","","","",null,null,"MD",null,{"$f":"IF(COUNTIF(AM$2:AM24,AM24)=1,AM24,\"\")","v":""},{"$f":"IF(CMS_Deviation_Detail!B46=\"\",\"\",CMS_Deviation_Detail!B46)","v":""},{"$f":"IF(CMS_Deviation_Detail!C46=\"\",\"\",CMS_Deviation_Detail!C46)","v":""},{"$f":"IF(CMS_Deviation_Detail!D46=\"\",\"\",CMS_Deviation_Detail!D46)","v":""},"",{"$f":"+IF(AI24=\"\",\"\",MAX(AN$1:AN23)+1)","v":""},"","","","","","",null,{"$f":"IF(COUNTIF(AZ$2:AZ24,AZ24)=1,AZ24,\"\")","v":""},{"$f":"IF(Limit_Deviation_Detail!B46=\"\",\"\",Limit_Deviation_Detail!B46)","v":""},{"$f":"IF(Limit_Deviation_Detail!C46=\"\",\"\",Limit_Deviation_Detail!C46)","v":""},{"$f":"IF(Limit_Deviation_Detail!E46=\"\",\"\",Limit_Deviation_Detail!E46)","v":""},"",{"$f":"+IF(AV24=\"\",\"\",MAX(BA$1:BA23)+1)","v":""},"","","","",null,{"$f":"+IF(BL24=\"\",\"\",MAX(BG$1:BG23)+1)","v":""},{"$f":"IF(Affected_Sources!B46=\"\",\"\",Affected_Sources!B46)","v":""},{"$f":"IF(Affected_Sources!C46=\"\",\"\",Affected_Sources!C46)","v":""},{"$f":"IF(Affected_Sources!D46=\"\",\"\",Affected_Sources!D46)","v":""},"",{"$f":"IF(COUNTIF(BK$2:BK24,BK24)=1,BK24,\"\")","v":""},"","","","",null,{"$f":"+IF(BW24=\"\",\"\",MAX(BR$1:BR23)+1)","v":""},{"$f":"IF(CMS_Identification!B46=\"\",\"\",CMS_Identification!B46)","v":""},{"$f":"IF(CMS_Identification!C46=\"\",\"\",CMS_Identification!C46)","v":""},{"$f":"IF(CMS_Identification!E46=\"\",\"\",CMS_Identification!E46)","v":""},"",{"$f":"IF(COUNTIF(BV$2:BV24,BV24)=1,BV24,\"\")","v":""},"","","",""]
[{"$f":"+IF(D25=\"\",\"\",MAX(A$1:A24)+1)","v":""},{"$f":"IF(Affected_Sources!C47=\"\",\"\",Affected_Sources!C47)","v":""},"",{"$f":"IF(COUNTIF(B$2:B25,B25)=1,B25,\"\")","v":""},null,null,null,null,null,null,{"$f":"+IF(N25=\"\",\"\",MAX(K$1:K24)+1)","v":""},{"$f":"IF(CMS_Identification!E47=\"\",\"\",CMS_Identification!E47)","v":""},"",{"$f":"IF(COUNTIF(L$2:L25,L25)=1,L25,\"\")","v":""},null,"Combination of Engineering Calculation, Process Knowledge, and/or Emission Factor",null,null,null,{"$f":"+IF(Y25=\"\",\"\",MAX(T$1:T24)+1)","v":""},{"$f":"IF(Limit_Deviation_Detail!B47=\"\",\"\",Limit_Deviation_Detail!B47)","v":""},{"$f":"IF(Limit_Deviation_Detail!C47=\"\",\"\",Limit_Deviation_Detail!C47)","v":""},{"$f":"IF(Limit_Deviation_Detail!E47=\"\",\"\",Limit_Deviation_Detail!E47)","v":""},"",{"$f":"IF(COUNTIF(X$2:X25,X25)=1,X25,\"\")","v":""},"","","","","",null,null,"ME",null,{"$f":"IF(COUNTIF(AM$2:AM25,AM25)=1,AM25,\"\")","v":""},{"$f":"IF(CMS_Deviation_Detail!B47=\"\",\"\",CMS_Deviation_Detail!B47)","v":""},{"$f":"IF(CMS_Deviation_Detail!C47=\"\",\"\",CMS_Deviation_Detail!C47)","v":""},{"$f":"IF(CMS_Deviation_Detail!D47=\"\",\"\",CMS_Deviation_Detail!D47)","v":""},"",{"$f":"+IF(AI25=\"\",\"\",MAX(AN$1:AN24)+1)","v":""},"","","","","","",null,{"$f":"IF(COUNTIF(AZ$2:AZ25,AZ25)=1,AZ25,\"\")","v":""},{"$f":"IF(Limit_Deviation_Detail!B47=\"\",\"\",Limit_Deviation_Detail!B47)","v":""},{"$f":"IF(Limit_Deviation_Detail!C47=\"\",\"\",Limit_Deviation_Detail!C47)","v":""},{"$f":"IF(Limit_Deviation_Detail!E47=\"\",\"\",Limit_Deviation_Detail!E47)","v":""},"",{"$f":"+IF(AV25=\"\",\"\",MAX(BA$1:BA24)+1)","v":""},"","","","",null,{"$f":"+IF(BL25=\"\",\"\",MAX(BG$1:BG24)+1)","v":""},{"$f":"IF(Affected_Sources!B47=\"\",\"\",Affected_Sources!B47)","v":""},{"$f":"IF(Affected_Sources!C47=\"\",\"\",Affected_Sources!C47)","v":""},{"$f":"IF(Affected_Sources!D47=\"\",\"\",Affected_Sources!D47)","v":""},"",{"$f":"IF(COUNTIF(BK$2:BK25,BK25)=1,BK25,\"\")","v":""},"","","","",null,{"$f":"+IF(BW25=\"\",\"\",MAX(BR$1:BR24)+1)","v":""},{"$f":"IF(CMS_Identification!B47=\"\",\"\",CMS_Identification!B47)","v":""},{"$f":"IF(CMS_Identification!C47=\"\",\"\",CMS_Identification!C47)","v":""},{"$f":"IF(CMS_Identification!E47=\"\",\"\",CMS_Identification!E47)","v":""},"",{"$f":"IF(COUNTIF(BV$2:BV25,BV25)=1,BV25,\"\")","v":""},"","","",""]
[{"$f":"+IF(D26=\"\",\"\",MAX(A$1:A25)+1)","v":""},{"$f":"IF(Affected_Sources!C48=\"\",\"\",Affected_Sources!C48)","v":""},"",{"$f":"IF(COUNTIF(B$2:B26,B26)=1,B26,\"\")","v":""},null,null,null,null,null,null,{"$f":"+IF(N26=\"\",\"\",MAX(K$1:K25)+1)","v":""},{"$f":"IF(CMS_Identification!E48=\"\",\"\",CMS_Identification!E48)","v":""},"",{"$f":"IF(COUNTIF(L$2:L26,L26)=1,L26,\"\")","v":""},null,"Other (Specify by typing here in formula bar above)",null,null,null,{"$f":"+IF(Y26=\"\",\"\",MAX(T$1:T25)+1)","v":""},{"$f":"IF(Limit_Deviation_Detail!B48=\"\",\"\",Limit_Deviation_Detail!B48)","v":""},{"$f":"IF(Limit_Deviation_Detail!C48=\"\",\"\",Limit_Deviation_Detail!C48)","v":""},{"$f":"IF(Limit_Deviation_Detail!E48=\"\",\"\",Limit_Deviation_Detail!E48)","v":""},"",{"$f":"IF(COUNTIF(X$2:X26,X26)=1,X26,\"\")","v":""},"","","","","",null,null,"MI",null,{"$f":"IF(COUNTIF(AM$2:AM26,AM26)=1,AM26,\"\")","v":""},{"$f":"IF(CMS_Deviation_Detail!B48=\"\",\"\",CMS_Deviation_Detail!B48)","v":""},{"$f":"IF(CMS_Deviation_Detail!C48=\"\",\"\",CMS_Deviation_Detail!C48)","v":""},{"$f":"IF(CMS_Deviation_Detail!D48=\"\",\"\",CMS_Deviation_Detail!D48)","v":""},"",{"$f":"+IF(AI26=\"\",\"\",MAX(AN$1:AN25)+1)","v":""},"","","","","","",null,{"$f":"IF(COUNTIF(AZ$2:AZ26,AZ26)=1,AZ26,\"\")","v":""},{"$f":"IF(Limit_Deviation_Detail!B48=\"\",\"\",Limit_Deviation_Detail!B48)","v":""},{"$f":"IF(Limit_Deviation_Detail!C48=\"\",\"\",Limit_Deviation_Detail!C48)","v":""},{"$f":"IF(Limit_Deviation_Detail!E48=\"\",\"\",Limit_Deviation_Detail!E48)","v":""},"",{"$f":"+IF(AV26=\"\",\"\",MAX(BA$1:BA25)+1)","v":""},"","","","",null,{"$f":"+IF(BL26=\"\",\"\",MAX(BG$1:BG25)+1)","v":""},{"$f":"IF(Affected_Sources!B48=\"\",\"\",Affected_Sources!B48)","v":""},{"$f":"IF(Affected_Sources!C48=\"\",\"\",Affected_Sources!C48)","v":""},{"$f":"IF(Affected_Sources!D48=\"\",\"\",Affected_Sources!D48)","v":""},"",{"$f":"IF(COUNTIF(BK$2:BK26,BK26)=1,BK26,\"\")","v":""},"","","","",null,{"$f":"+IF(BW26=\"\",\"\",MAX(BR$1:BR25)+1)","v":""},{"$f":"IF(CMS_Identification!B48=\"\",\"\",CMS_Identification!B48)","v":""},{"$f":"IF(CMS_Identification!C48=\"\",\"\",CMS_Identification!C48)","v":""},{"$f":"IF(CMS_Identification!E48=\"\",\"\",CMS_Identification!E48)","v":""},"",{"$f":"IF(COUNTIF(BV$2:BV26,BV26)=1,BV26,\"\")","v":""},"","","",""]
[{"$f":"+IF(D27=\"\",\"\",MAX(A$1:A26)+1)","v":""},{"$f":"IF(Affected_Sources!C49=\"\",\"\",Affected_Sources!C49)","v":""},"",{"$f":"IF(COUNTIF(B$2:B27,B27)=1,B27,\"\")","v":""},null,null,null,null,null,null,{"$f":"+IF(N27=\"\",\"\",MAX(K$1:K26)+1)","v":""},{"$f":"IF(CMS_Identification!E49=\"\",\"\",CMS_Identification!E49)","v":""},"",{"$f":"IF(COUNTIF(L$2:L27,L27)=1,L27,\"\")","v":""},null,null,null,null,null,{"$f":"+IF(Y27=\"\",\"\",MAX(T$1:T26)+1)","v":""},{"$f":"IF(Limit_Deviation_Detail!B49=\"\",\"\",Limit_Deviation_Detail!B49)","v":""},{"$f":"IF(Limit_Deviation_Detail!C49=\"\",\"\",Limit_Deviation_Detail!C49)","v":""},{"$f":"IF(Limit_Deviation_Detail!E49=\"\",\"\",Limit_Deviation_Detail!E49)","v":""},"",{"$f":"IF(COUNTIF(X$2:X27,X27)=1,X27,\"\")","v":""},"","","","","",null,null,"MN",null,{"$f":"IF(COUNTIF(AM$2:AM27,AM27)=1,AM27,\"\")","v":""},{"$f":"IF(CMS_Deviation_Detail!B49=\"\",\"\",CMS_Deviation_Detail!B49)","v":""},{"$f":"IF(CMS_Deviation_Detail!C49=\"\",\"\",CMS_Deviation_Detail!C49)","v":""},{"$f":"IF(CMS_Deviation_Detail!D49=\"\",\"\",CMS_Deviation_Detail!D49)","v":""},"",{"$f":"+IF(AI27=\"\",\"\",MAX(AN$1:AN26)+1)","v":""},"","","","","","",null,{"$f":"IF(COUNTIF(AZ$2:AZ27,AZ27)=1,AZ27,\"\")","v":""},{"$f":"IF(Limit_Deviation_Detail!B49=\"\",\"\",Limit_Deviation_Detail!B49)","v":""},{"$f":"IF(Limit_Deviation_Detail!C49=\"\",\"\",Limit_Deviation_Detail!C49)","v":""},{"$f":"IF(Limit_Deviation_Detail!E49=\"\",\"\",Limit_Deviation_Detail!E49)","v":""},"",{"$f":"+IF(AV27=\"\",\"\",MAX(BA$1:BA26)+1)","v":""},"","","","",null,{"$f":"+IF(BL27=\"\",\"\",MAX(BG$1:BG26)+1)","v":""},{"$f":"IF(Affected_Sources!B49=\"\",\"\",Affected_Sources!B49)","v":""},{"$f":"IF(Affected_Sources!C49=\"\",\"\",Affected_Sources!C49)","v":""},{"$f":"IF(Affected_Sources!D49=\"\",\"\",Affected_Sources!D49)","v":""},"",{"$f":"IF(COUNTIF(BK$2:BK27,BK27)=1,BK27,\"\")","v":""},"","","","",null,{"$f":"+IF(BW27=\"\",\"\",MAX(BR$1:BR26)+1)","v":""},{"$f":"IF(CMS_Identification!B49=\"\",\"\",CMS_Identification!B49)","v":""},{"$f":"IF(CMS_Identification!C49=\"\",\"\",CMS_Identification!C49)","v":""},{"$f":"IF(CMS_Identification!E49=\"\",\"\",CMS_Identification!E49)","v":""},"",{"$f":"IF(COUNTIF(BV$2:BV27,BV27)=1,BV27,\"\")","v":""},"","","",""]
[{"$f":"+IF(D28=\"\",\"\",MAX(A$1:A27)+1)","v":""},{"$f":"IF(Affected_Sources!C50=\"\",\"\",Affected_Sources!C50)","v":""},"",{"$f":"IF(COUNTIF(B$2:B28,B28)=1,B28,\"\")","v":""},null,null,null,null,null,null,{"$f":"+IF(N28=\"\",\"\",MAX(K$1:K27)+1)","v":""},{"$f":"IF(CMS_Identification!E50=\"\",\"\",CMS_Identification!E50)","v":""},"",{"$f":"IF(COUNTIF(L$2:L28,L28)=1,L28,\"\")","v":""},null,null,null,null,null,{"$f":"+IF(Y28=\"\",\"\",MAX(T$1:T27)+1)","v":""},{"$f":"IF(Limit_Deviation_Detail!B50=\"\",\"\",Limit_Deviation_Detail!B50)","v":""},{"$f":"IF(Limit_Deviation_Detail!C50=\"\",\"\",Limit_Deviation_Detail!C50)","v":""},{"$f":"IF(Limit_Deviation_Detail!E50=\"\",\"\",Limit_Deviation_Detail!E50)","v":""},"",{"$f":"IF(COUNTIF(X$2:X28,X28)=1,X28,\"\")","v":""},"","","","","",null,null,"MO",null,{"$f":"IF(COUNTIF(AM$2:AM28,AM28)=1,AM28,\"\")","v":""},{"$f":"IF(CMS_Deviation_Detail!B50=\"\",\"\",CMS_Deviation_Detail!B50)","v":""},{"$f":"IF(CMS_Deviation_Detail!C50=\"\",\"\",CMS_Deviation_Detail!C50)","v":""},{"$f":"IF(CMS_Deviation_Detail!D50=\"\",\"\",CMS_Deviation_Detail!D50)","v":""},"",{"$f":"+IF(AI28=\"\",\"\",MAX(AN$1:AN27)+1)","v":""},"","","","","","",null,{"$f":"IF(COUNTIF(AZ$2:AZ28,AZ28)=1,AZ28,\"\")","v":""},{"$f":"IF(Limit_Deviation_Detail!B50=\"\",\"\",Limit_Deviation_Detail!B50)","v":""},{"$f":"IF(Limit_Deviation_Detail!C50=\"\",\"\",Limit_Deviation_Detail!C50)","v":""},{"$f":"IF(Limit_Deviation_Detail!E50=\"\",\"\",Limit_Deviation_Detail!E50)","v":""},"",{"$f":"+IF(AV28=\"\",\"\",MAX(BA$1:BA27)+1)","v":""},"","","","",null,{"$f":"+IF(BL28=\"\",\"\",MAX(BG$1:BG27)+1)","v":""},{"$f":"IF(Affected_Sources!B50=\"\",\"\",Affected_Sources!B50)","v":""},{"$f":"IF(Affected_Sources!C50=\"\",\"\",Affected_Sources!C50)","v":""},{"$f":"IF(Affected_Sources!D50=\"\",\"\",Affected_Sources!D50)","v":""},"",{"$f":"IF(COUNTIF(BK$2:BK28,BK28)=1,BK28,\"\")","v":""},"","","","",null,{"$f":"+IF(BW28=\"\",\"\",MAX(BR$1:BR27)+1)","v":""},{"$f":"IF(CMS_Identification!B50=\"\",\"\",CMS_Identification!B50)","v":""},{"$f":"IF(CMS_Identification!C50=\"\",\"\",CMS_Identification!C50)","v":""},{"$f":"IF(CMS_Identification!E50=\"\",\"\",CMS_Identification!E50)","v":""},"",{"$f":"IF(COUNTIF(BV$2:BV28,BV28)=1,BV28,\"\")","v":""},"","","",""]
[{"$f":"+IF(D29=\"\",\"\",MAX(A$1:A28)+1)","v":""},{"$f":"IF(Affected_Sources!C51=\"\",\"\",Affected_Sources!C51)","v":""},"",{"$f":"IF(COUNTIF(B$2:B29,B29)=1,B29,\"\")","v":""},null,null,null,null,null,null,{"$f":"+IF(N29=\"\",\"\",MAX(K$1:K28)+1)","v":""},{"$f":"IF(CMS_Identification!E51=\"\",\"\",CMS_Identification!E51)","v":""},"",{"$f":"IF(COUNTIF(L$2:L29,L29)=1,L29,\"\")","v":""},null,null,null,null,null,{"$f":"+IF(Y29=\"\",\"\",MAX(T$1:T28)+1)","v":""},{"$f":"IF(Limit_Deviation_Detail!B51=\"\",\"\",Limit_Deviation_Detail!B51)","v":""},{"$f":"IF(Limit_Deviation_Detail!C51=\"\",\"\",Limit_Deviation_Detail!C51)","v":""},{"$f":"IF(Limit_Deviation_Detail!E51=\"\",\"\",Limit_Deviation_Detail!E51)","v":""},"",{"$f":"IF(COUNTIF(X$2:X29,X29)=1,X29,\"\")","v":""},"","","","","",null,null,"MP",null,{"$f":"IF(COUNTIF(AM$2:AM29,AM29)=1,AM29,\"\")","v":""},{"$f":"IF(CMS_Deviation_Detail!B51=\"\",\"\",CMS_Deviation_Detail!B51)","v":""},{"$f":"IF(CMS_Deviation_Detail!C51=\"\",\"\",CMS_Deviation_Detail!C51)","v":""},{"$f":"IF(CMS_Deviation_Detail!D51=\"\",\"\",CMS_Deviation_Detail!D51)","v":""},"",{"$f":"+IF(AI29=\"\",\"\",MAX(AN$1:AN28)+1)","v":""},"","","","","","",null,{"$f":"IF(COUNTIF(AZ$2:AZ29,AZ29)=1,AZ29,\"\")","v":""},{"$f":"IF(Limit_Deviation_Detail!B51=\"\",\"\",Limit_Deviation_Detail!B51)","v":""},{"$f":"IF(Limit_Deviation_Detail!C51=\"\",\"\",Limit_Deviation_Detail!C51)","v":""},{"$f":"IF(Limit_Deviation_Detail!E51=\"\",\"\",Limit_Deviation_Detail!E51)","v":""},"",{"$f":"+IF(AV29=\"\",\"\",MAX(BA$1:BA28)+1)","v":""},"","","","",null,{"$f":"+IF(BL29=\"\",\"\",MAX(BG$1:BG28)+1)","v":""},{"$f":"IF(Affected_Sources!B51=\"\",\"\",Affected_Sources!B51)","v":""},{"$f":"IF(Affected_Sources!C51=\"\",\"\",Affected_Sources!C51)","v":""},{"$f":"IF(Affected_Sources!D51=\"\",\"\",Affected_Sources!D51)","v":""},"",{"$f":"IF(COUNTIF(BK$2:BK29,BK29)=1,BK29,\"\")","v":""},"","","","",null,{"$f":"+IF(BW29=\"\",\"\",MAX(BR$1:BR28)+1)","v":""},{"$f":"IF(CMS_Identification!B51=\"\",\"\",CMS_Identification!B51)","v":""},{"$f":"IF(CMS_Identification!C51=\"\",\"\",CMS_Identification!C51)","v":""},{"$f":"IF(CMS_Identification!E51=\"\",\"\",CMS_Identification!E51)","v":""},"",{"$f":"IF(COUNTIF(BV$2:BV29,BV29)=1,BV29,\"\")","v":""},"","","",""]
[{"$f":"+IF(D30=\"\",\"\",MAX(A$1:A29)+1)","v":""},{"$f":"IF(Affected_Sources!C52=\"\",\"\",Affected_Sources!C52)","v":""},"",{"$f":"IF(COUNTIF(B$2:B30,B30)=1,B30,\"\")","v":""},null,null,null,null,null,null,{"$f":"+IF(N30=\"\",\"\",MAX(K$1:K29)+1)","v":""},{"$f":"IF(CMS_Identification!E52=\"\",\"\",CMS_Identification!E52)","v":""},"",{"$f":"IF(COUNTIF(L$2:L30,L30)=1,L30,\"\")","v":""},null,null,null,null,null,{"$f":"+IF(Y30=\"\",\"\",MAX(T$1:T29)+1)","v":""},{"$f":"IF(Limit_Deviation_Detail!B52=\"\",\"\",Limit_Deviation_Detail!B52)","v":""},{"$f":"IF(Limit_Deviation_Detail!C52=\"\",\"\",Limit_Deviation_Detail!C52)","v":""},{"$f":"IF(Limit_Deviation_Detail!E52=\"\",\"\",Limit_Deviation_Detail!E52)","v":""},"",{"$f":"IF(COUNTIF(X$2:X30,X30)=1,X30,\"\")","v":""},"","","","","",null,null,"MS",null,{"$f":"IF(COUNTIF(AM$2:AM30,AM30)=1,AM30,\"\")","v":""},{"$f":"IF(CMS_Deviation_Detail!B52=\"\",\"\",CMS_Deviation_Detail!B52)","v":""},{"$f":"IF(CMS_Deviation_Detail!C52=\"\",\"\",CMS_Deviation_Detail!C52)","v":""},{"$f":"IF(CMS_Deviation_Detail!D52=\"\",\"\",CMS_Deviation_Detail!D52)","v":""},"",{"$f":"+IF(AI30=\"\",\"\",MAX(AN$1:AN29)+1)","v":""},"","","","","","",null,{"$f":"IF(COUNTIF(AZ$2:AZ30,AZ30)=1,AZ30,\"\")","v":""},{"$f":"IF(Limit_Deviation_Detail!B52=\"\",\"\",Limit_Deviation_Detail!B52)","v":""},{"$f":"IF(Limit_Deviation_Detail!C52=\"\",\"\",Limit_Deviation_Detail!C52)","v":""},{"$f":"IF(Limit_Deviation_Detail!E52=\"\",\"\",Limit_Deviation_Detail!E52)","v":""},"",{"$f":"+IF(AV30=\"\",\"\",MAX(BA$1:BA29)+1)","v":""},"","","","",null,{"$f":"+IF(BL30=\"\",\"\",MAX(BG$1:BG29)+1)","v":""},{"$f":"IF(Affected_Sources!B52=\"\",\"\",Affected_Sources!B52)","v":""},{"$f":"IF(Affected_Sources!C52=\"\",\"\",Affected_Sources!C52)","v":""},{"$f":"IF(Affected_Sources!D52=\"\",\"\",Affected_Sources!D52)","v":""},"",{"$f":"IF(COUNTIF(BK$2:BK30,BK30)=1,BK30,\"\")","v":""},"","","","",null,{"$f":"+IF(BW30=\"\",\"\",MAX(BR$1:BR29)+1)","v":""},{"$f":"IF(CMS_Identification!B52=\"\",\"\",CMS_Identification!B52)","v":""},{"$f":"IF(CMS_Identification!C52=\"\",\"\",CMS_Identification!C52)","v":""},{"$f":"IF(CMS_Identification!E52=\"\",\"\",CMS_Identification!E52)","v":""},"",{"$f":"IF(COUNTIF(BV$2:BV30,BV30)=1,BV30,\"\")","v":""},"","","",""]
[{"$f":"+IF(D31=\"\",\"\",MAX(A$1:A30)+1)","v":""},{"$f":"IF(Affected_Sources!C53=\"\",\"\",Affected_Sources!C53)","v":""},"",{"$f":"IF(COUNTIF(B$2:B31,B31)=1,B31,\"\")","v":""},null,null,null,null,null,null,{"$f":"+IF(N31=\"\",\"\",MAX(K$1:K30)+1)","v":""},{"$f":"IF(CMS_Identification!E53=\"\",\"\",CMS_Identification!E53)","v":""},"",{"$f":"IF(COUNTIF(L$2:L31,L31)=1,L31,\"\")","v":""},null,null,null,null,null,{"$f":"+IF(Y31=\"\",\"\",MAX(T$1:T30)+1)","v":""},{"$f":"IF(Limit_Deviation_Detail!B53=\"\",\"\",Limit_Deviation_Detail!B53)","v":""},{"$f":"IF(Limit_Deviation_Detail!C53=\"\",\"\",Limit_Deviation_Detail!C53)","v":""},{"$f":"IF(Limit_Deviation_Detail!E53=\"\",\"\",Limit_Deviation_Detail!E53)","v":""},"",{"$f":"IF(COUNTIF(X$2:X31,X31)=1,X31,\"\")","v":""},"","","","","",null,null,"MT",null,{"$f":"IF(COUNTIF(AM$2:AM31,AM31)=1,AM31,\"\")","v":""},{"$f":"IF(CMS_Deviation_Detail!B53=\"\",\"\",CMS_Deviation_Detail!B53)","v":""},{"$f":"IF(CMS_Deviation_Detail!C53=\"\",\"\",CMS_Deviation_Detail!C53)","v":""},{"$f":"IF(CMS_Deviation_Detail!D53=\"\",\"\",CMS_Deviation_Detail!D53)","v":""},"",{"$f":"+IF(AI31=\"\",\"\",MAX(AN$1:AN30)+1)","v":""},"","","","","","",null,{"$f":"IF(COUNTIF(AZ$2:AZ31,AZ31)=1,AZ31,\"\")","v":""},{"$f":"IF(Limit_Deviation_Detail!B53=\"\",\"\",Limit_Deviation_Detail!B53)","v":""},{"$f":"IF(Limit_Deviation_Detail!C53=\"\",\"\",Limit_Deviation_Detail!C53)","v":""},{"$f":"IF(Limit_Deviation_Detail!E53=\"\",\"\",Limit_Deviation_Detail!E53)","v":""},"",{"$f":"+IF(AV31=\"\",\"\",MAX(BA$1:BA30)+1)","v":""},"","","","",null,{"$f":"+IF(BL31=\"\",\"\",MAX(BG$1:BG30)+1)","v":""},{"$f":"IF(Affected_Sources!B53=\"\",\"\",Affected_Sources!B53)","v":""},{"$f":"IF(Affected_Sources!C53=\"\",\"\",Affected_Sources!C53)","v":""},{"$f":"IF(Affected_Sources!D53=\"\",\"\",Affected_Sources!D53)","v":""},"",{"$f":"IF(COUNTIF(BK$2:BK31,BK31)=1,BK31,\"\")","v":""},"","","","",null,{"$f":"+IF(BW31=\"\",\"\",MAX(BR$1:BR30)+1)","v":""},{"$f":"IF(CMS_Identification!B53=\"\",\"\",CMS_Identification!B53)","v":""},{"$f":"IF(CMS_Identification!C53=\"\",\"\",CMS_Identification!C53)","v":""},{"$f":"IF(CMS_Identification!E53=\"\",\"\",CMS_Identification!E53)","v":""},"",{"$f":"IF(COUNTIF(BV$2:BV31,BV31)=1,BV31,\"\")","v":""},"","","",""]
[{"$f":"+IF(D32=\"\",\"\",MAX(A$1:A31)+1)","v":""},{"$f":"IF(Affected_Sources!C54=\"\",\"\",Affected_Sources!C54)","v":""},"",{"$f":"IF(COUNTIF(B$2:B32,B32)=1,B32,\"\")","v":""},null,null,null,null,null,null,{"$f":"+IF(N32=\"\",\"\",MAX(K$1:K31)+1)","v":""},{"$f":"IF(CMS_Identification!E54=\"\",\"\",CMS_Identification!E54)","v":""},"",{"$f":"IF(COUNTIF(L$2:L32,L32)=1,L32,\"\")","v":""},null,null,null,null,null,{"$f":"+IF(Y32=\"\",\"\",MAX(T$1:T31)+1)","v":""},{"$f":"IF(Limit_Deviation_Detail!B54=\"\",\"\",Limit_Deviation_Detail!B54)","v":""},{"$f":"IF(Limit_Deviation_Detail!C54=\"\",\"\",Limit_Deviation_Detail!C54)","v":""},{"$f":"IF(Limit_Deviation_Detail!E54=\"\",\"\",Limit_Deviation_Detail!E54)","v":""},"",{"$f":"IF(COUNTIF(X$2:X32,X32)=1,X32,\"\")","v":""},"","","","","",null,null,"NC",null,{"$f":"IF(COUNTIF(AM$2:AM32,AM32)=1,AM32,\"\")","v":""},{"$f":"IF(CMS_Deviation_Detail!B54=\"\",\"\",CMS_Deviation_Detail!B54)","v":""},{"$f":"IF(CMS_Deviation_Detail!C54=\"\",\"\",CMS_Deviation_Detail!C54)","v":""},{"$f":"IF(CMS_Deviation_Detail!D54=\"\",\"\",CMS_Deviation_Detail!D54)","v":""},"",{"$f":"+IF(AI32=\"\",\"\",MAX(AN$1:AN31)+1)","v":""},"","","","","","",null,{"$f":"IF(COUNTIF(AZ$2:AZ32,AZ32)=1,AZ32,\"\")","v":""},{"$f":"IF(Limit_Deviation_Detail!B54=\"\",\"\",Limit_Deviation_Detail!B54)","v":""},{"$f":"IF(Limit_Deviation_Detail!C54=\"\",\"\",Limit_Deviation_Detail!C54)","v":""},{"$f":"IF(Limit_Deviation_Detail!E54=\"\",\"\",Limit_Deviation_Detail!E54)","v":""},"",{"$f":"+IF(AV32=\"\",\"\",MAX(BA$1:BA31)+1)","v":""},"","","","",null,{"$f":"+IF(BL32=\"\",\"\",MAX(BG$1:BG31)+1)","v":""},{"$f":"IF(Affected_Sources!B54=\"\",\"\",Affected_Sources!B54)","v":""},{"$f":"IF(Affected_Sources!C54=\"\",\"\",Affected_Sources!C54)","v":""},{"$f":"IF(Affected_Sources!D54=\"\",\"\",Affected_Sources!D54)","v":""},"",{"$f":"IF(COUNTIF(BK$2:BK32,BK32)=1,BK32,\"\")","v":""},"","","","",null,{"$f":"+IF(BW32=\"\",\"\",MAX(BR$1:BR31)+1)","v":""},{"$f":"IF(CMS_Identification!B54=\"\",\"\",CMS_Identification!B54)","v":""},{"$f":"IF(CMS_Identification!C54=\"\",\"\",CMS_Identification!C54)","v":""},{"$f":"IF(CMS_Identification!E54=\"\",\"\",CMS_Identification!E54)","v":""},"",{"$f":"IF(COUNTIF(BV$2:BV32,BV32)=1,BV32,\"\")","v":""},"","","",""]
[{"$f":"+IF(D33=\"\",\"\",MAX(A$1:A32)+1)","v":""},{"$f":"IF(Affected_Sources!C55=\"\",\"\",Affected_Sources!C55)","v":""},"",{"$f":"IF(COUNTIF(B$2:B33,B33)=1,B33,\"\")","v":""},null,null,null,null,null,null,{"$f":"+IF(N33=\"\",\"\",MAX(K$1:K32)+1)","v":""},{"$f":"IF(CMS_Identification!E55=\"\",\"\",CMS_Identification!E55)","v":""},"",{"$f":"IF(COUNTIF(L$2:L33,L33)=1,L33,\"\")","v":""},null,null,null,null,null,{"$f":"+IF(Y33=\"\",\"\",MAX(T$1:T32)+1)","v":""},{"$f":"IF(Limit_Deviation_Detail!B55=\"\",\"\",Limit_Deviation_Detail!B55)","v":""},{"$f":"IF(Limit_Deviation_Detail!C55=\"\",\"\",Limit_Deviation_Detail!C55)","v":""},{"$f":"IF(Limit_Deviation_Detail!E55=\"\",\"\",Limit_Deviation_Detail!E55)","v":""},"",{"$f":"IF(COUNTIF(X$2:X33,X33)=1,X33,\"\")","v":""},"","","","","",null,null,"ND",null,{"$f":"IF(COUNTIF(AM$2:AM33,AM33)=1,AM33,\"\")","v":""},{"$f":"IF(CMS_Deviation_Detail!B55=\"\",\"\",CMS_Deviation_Detail!B55)","v":""},{"$f":"IF(CMS_Deviation_Detail!C55=\"\",\"\",CMS_Deviation_Detail!C55)","v":""},{"$f":"IF(CMS_Deviation_Detail!D55=\"\",\"\",CMS_Deviation_Detail!D55)","v":""},"",{"$f":"+IF(AI33=\"\",\"\",MAX(AN$1:AN32)+1)","v":""},"","","","","","",null,{"$f":"IF(COUNTIF(AZ$2:AZ33,AZ33)=1,AZ33,\"\")","v":""},{"$f":"IF(Limit_Deviation_Detail!B55=\"\",\"\",Limit_Deviation_Detail!B55)","v":""},{"$f":"IF(Limit_Deviation_Detail!C55=\"\",\"\",Limit_Deviation_Detail!C55)","v":""},{"$f":"IF(Limit_Deviation_Detail!E55=\"\",\"\",Limit_Deviation_Detail!E55)","v":""},"",{"$f":"+IF(AV33=\"\",\"\",MAX(BA$1:BA32)+1)","v":""},"","","","",null,{"$f":"+IF(BL33=\"\",\"\",MAX(BG$1:BG32)+1)","v":""},{"$f":"IF(Affected_Sources!B55=\"\",\"\",Affected_Sources!B55)","v":""},{"$f":"IF(Affected_Sources!C55=\"\",\"\",Affected_Sources!C55)","v":""},{"$f":"IF(Affected_Sources!D55=\"\",\"\",Affected_Sources!D55)","v":""},"",{"$f":"IF(COUNTIF(BK$2:BK33,BK33)=1,BK33,\"\")","v":""},"","","","",null,{"$f":"+IF(BW33=\"\",\"\",MAX(BR$1:BR32)+1)","v":""},{"$f":"IF(CMS_Identification!B55=\"\",\"\",CMS_Identification!B55)","v":""},{"$f":"IF(CMS_Identification!C55=\"\",\"\",CMS_Identification!C55)","v":""},{"$f":"IF(CMS_Identification!E55=\"\",\"\",CMS_Identification!E55)","v":""},"",{"$f":"IF(COUNTIF(BV$2:BV33,BV33)=1,BV33,\"\")","v":""},"","","",""]
[{"$f":"+IF(D34=\"\",\"\",MAX(A$1:A33)+1)","v":""},{"$f":"IF(Affected_Sources!C56=\"\",\"\",Affected_Sources!C56)","v":""},"",{"$f":"IF(COUNTIF(B$2:B34,B34)=1,B34,\"\")","v":""},null,null,null,null,null,null,{"$f":"+IF(N34=\"\",\"\",MAX(K$1:K33)+1)","v":""},{"$f":"IF(CMS_Identification!E56=\"\",\"\",CMS_Identification!E56)","v":""},"",{"$f":"IF(COUNTIF(L$2:L34,L34)=1,L34,\"\")","v":""},null,null,null,null,null,{"$f":"+IF(Y34=\"\",\"\",MAX(T$1:T33)+1)","v":""},{"$f":"IF(Limit_Deviation_Detail!B56=\"\",\"\",Limit_Deviation_Detail!B56)","v":""},{"$f":"IF(Limit_Deviation_Detail!C56=\"\",\"\",Limit_Deviation_Detail!C56)","v":""},{"$f":"IF(Limit_Deviation_Detail!E56=\"\",\"\",Limit_Deviation_Detail!E56)","v":""},"",{"$f":"IF(COUNTIF(X$2:X34,X34)=1,X34,\"\")","v":""},"","","","","",null,null,"NE",null,{"$f":"IF(COUNTIF(AM$2:AM34,AM34)=1,AM34,\"\")","v":""},{"$f":"IF(CMS_Deviation_Detail!B56=\"\",\"\",CMS_Deviation_Detail!B56)","v":""},{"$f":"IF(CMS_Deviation_Detail!C56=\"\",\"\",CMS_Deviation_Detail!C56)","v":""},{"$f":"IF(CMS_Deviation_Detail!D56=\"\",\"\",CMS_Deviation_Detail!D56)","v":""},"",{"$f":"+IF(AI34=\"\",\"\",MAX(AN$1:AN33)+1)","v":""},"","","","","","",null,{"$f":"IF(COUNTIF(AZ$2:AZ34,AZ34)=1,AZ34,\"\")","v":""},{"$f":"IF(Limit_Deviation_Detail!B56=\"\",\"\",Limit_Deviation_Detail!B56)","v":""},{"$f":"IF(Limit_Deviation_Detail!C56=\"\",\"\",Limit_Deviation_Detail!C56)","v":""},{"$f":"IF(Limit_Deviation_Detail!E56=\"\",\"\",Limit_Deviation_Detail!E56)","v":""},"",{"$f":"+IF(AV34=\"\",\"\",MAX(BA$1:BA33)+1)","v":""},"","","","",null,{"$f":"+IF(BL34=\"\",\"\",MAX(BG$1:BG33)+1)","v":""},{"$f":"IF(Affected_Sources!B56=\"\",\"\",Affected_Sources!B56)","v":""},{"$f":"IF(Affected_Sources!C56=\"\",\"\",Affected_Sources!C56)","v":""},{"$f":"IF(Affected_Sources!D56=\"\",\"\",Affected_Sources!D56)","v":""},"",{"$f":"IF(COUNTIF(BK$2:BK34,BK34)=1,BK34,\"\")","v":""},{"$f":"IF(BN34=\"\",\"\",BN34&\" \"&BO34)","v":""},"","","",null,{"$f":"+IF(BW34=\"\",\"\",MAX(BR$1:BR33)+1)","v":""},{"$f":"IF(CMS_Identification!B56=\"\",\"\",CMS_Identification!B56)","v":""},{"$f":"IF(CMS_Identification!C56=\"\",\"\",CMS_Identification!C56)","v":""},{"$f":"IF(CMS_Identification!E56=\"\",\"\",CMS_Identification!E56)","v":""},"",{"$f":"IF(COUNTIF(BV$2:BV34,BV34)=1,BV34,\"\")","v":""},"","","",""]
[{"$f":"+IF(D35=\"\",\"\",MAX(A$1:A34)+1)","v":""},{"$f":"IF(Affected_Sources!C57=\"\",\"\",Affected_Sources!C57)","v":""},"",{"$f":"IF(COUNTIF(B$2:B35,B35)=1,B35,\"\")","v":""},null,null,null,null,null,null,{"$f":"+IF(N35=\"\",\"\",MAX(K$1:K34)+1)","v":""},{"$f":"IF(CMS_Identification!E57=\"\",\"\",CMS_Identification!E57)","v":""},"",{"$f":"IF(COUNTIF(L$2:L35,L35)=1,L35,\"\")","v":""},null,null,null,null,null,{"$f":"+IF(Y35=\"\",\"\",MAX(T$1:T34)+1)","v":""},{"$f":"IF(Limit_Deviation_Detail!B57=\"\",\"\",Limit_Deviation_Detail!B57)","v":""},{"$f":"IF(Limit_Deviation_Detail!C57=\"\",\"\",Limit_Deviation_Detail!C57)","v":""},{"$f":"IF(Limit_Deviation_Detail!E57=\"\",\"\",Limit_Deviation_Detail!E57)","v":""},"",{"$f":"IF(COUNTIF(X$2:X35,X35)=1,X35,\"\")","v":""},"","","","","",null,null,"NH",null,{"$f":"IF(COUNTIF(AM$2:AM35,AM35)=1,AM35,\"\")","v":""},{"$f":"IF(CMS_Deviation_Detail!B57=\"\",\"\",CMS_Deviation_Detail!B57)","v":""},{"$f":"IF(CMS_Deviation_Detail!C57=\"\",\"\",CMS_Deviation_Detail!C57)","v":""},{"$f":"IF(CMS_Deviation_Detail!D57=\"\",\"\",CMS_Deviation_Detail!D57)","v":""},"",{"$f":"+IF(AI35=\"\",\"\",MAX(AN$1:AN34)+1)","v":""},"","","","","","",null,{"$f":"IF(COUNTIF(AZ$2:AZ35,AZ35)=1,AZ35,\"\")","v":""},{"$f":"IF(Limit_Deviation_Detail!B57=\"\",\"\",Limit_Deviation_Detail!B57)","v":""},{"$f":"IF(Limit_Deviation_Detail!C57=\"\",\"\",Limit_Deviation_Detail!C57)","v":""},{"$f":"IF(Limit_Deviation_Detail!E57=\"\",\"\",Limit_Deviation_Detail!E57)","v":""},"",{"$f":"+IF(AV35=\"\",\"\",MAX(BA$1:BA34)+1)","v":""},"","","","",null,{"$f":"+IF(BL35=\"\",\"\",MAX(BG$1:BG34)+1)","v":""},{"$f":"IF(Affected_Sources!B57=\"\",\"\",Affected_Sources!B57)","v":""},{"$f":"IF(Affected_Sources!C57=\"\",\"\",Affected_Sources!C57)","v":""},{"$f":"IF(Affected_Sources!D57=\"\",\"\",Affected_Sources!D57)","v":""},"",{"$f":"IF(COUNTIF(BK$2:BK35,BK35)=1,BK35,\"\")","v":""},"","","","",null,{"$f":"+IF(BW35=\"\",\"\",MAX(BR$1:BR34)+1)","v":""},{"$f":"IF(CMS_Identification!B57=\"\",\"\",CMS_Identification!B57)","v":""},{"$f":"IF(CMS_Identification!C57=\"\",\"\",CMS_Identification!C57)","v":""},{"$f":"IF(CMS_Identification!E57=\"\",\"\",CMS_Identification!E57)","v":""},"",{"$f":"IF(COUNTIF(BV$2:BV35,BV35)=1,BV35,\"\")","v":""},"","","",""]
[{"$f":"+IF(D36=\"\",\"\",MAX(A$1:A35)+1)","v":""},{"$f":"IF(Affected_Sources!C58=\"\",\"\",Affected_Sources!C58)","v":""},"",{"$f":"IF(COUNTIF(B$2:B36,B36)=1,B36,\"\")","v":""},null,null,null,null,null,null,{"$f":"+IF(N36=\"\",\"\",MAX(K$1:K35)+1)","v":""},{"$f":"IF(CMS_Identification!E58=\"\",\"\",CMS_Identification!E58)","v":""},"",{"$f":"IF(COUNTIF(L$2:L36,L36)=1,L36,\"\")","v":""},null,null,null,null,null,{"$f":"+IF(Y36=\"\",\"\",MAX(T$1:T35)+1)","v":""},{"$f":"IF(Limit_Deviation_Detail!B58=\"\",\"\",Limit_Deviation_Detail!B58)","v":""},{"$f":"IF(Limit_Deviation_Detail!C58=\"\",\"\",Limit_Deviation_Detail!C58)","v":""},{"$f":"IF(Limit_Deviation_Detail!E58=\"\",\"\",Limit_Deviation_Detail!E58)","v":""},"",{"$f":"IF(COUNTIF(X$2:X36,X36)=1,X36,\"\")","v":""},"","","","","",null,null,"NJ",null,{"$f":"IF(COUNTIF(AM$2:AM36,AM36)=1,AM36,\"\")","v":""},{"$f":"IF(CMS_Deviation_Detail!B58=\"\",\"\",CMS_Deviation_Detail!B58)","v":""},{"$f":"IF(CMS_Deviation_Detail!C58=\"\",\"\",CMS_Deviation_Detail!C58)","v":""},{"$f":"IF(CMS_Deviation_Detail!D58=\"\",\"\",CMS_Deviation_Detail!D58)","v":""},"",{"$f":"+IF(AI36=\"\",\"\",MAX(AN$1:AN35)+1)","v":""},"","","","","","",null,{"$f":"IF(COUNTIF(AZ$2:AZ36,AZ36)=1,AZ36,\"\")","v":""},{"$f":"IF(Limit_Deviation_Detail!B58=\"\",\"\",Limit_Deviation_Detail!B58)","v":""},{"$f":"IF(Limit_Deviation_Detail!C58=\"\",\"\",Limit_Deviation_Detail!C58)","v":""},{"$f":"IF(Limit_Deviation_Detail!E58=\"\",\"\",Limit_Deviation_Detail!E58)","v":""},"",{"$f":"+IF(AV36=\"\",\"\",MAX(BA$1:BA35)+1)","v":""},"","","","",null,{"$f":"+IF(BL36=\"\",\"\",MAX(BG$1:BG35)+1)","v":""},{"$f":"IF(Affected_Sources!B58=\"\",\"\",Affected_Sources!B58)","v":""},{"$f":"IF(Affected_Sources!C58=\"\",\"\",Affected_Sources!C58)","v":""},{"$f":"IF(Affected_Sources!D58=\"\",\"\",Affected_Sources!D58)","v":""},"",{"$f":"IF(COUNTIF(BK$2:BK36,BK36)=1,BK36,\"\")","v":""},"","","","",null,{"$f":"+IF(BW36=\"\",\"\",MAX(BR$1:BR35)+1)","v":""},{"$f":"IF(CMS_Identification!B58=\"\",\"\",CMS_Identification!B58)","v":""},{"$f":"IF(CMS_Identification!C58=\"\",\"\",CMS_Identification!C58)","v":""},{"$f":"IF(CMS_Identification!E58=\"\",\"\",CMS_Identification!E58)","v":""},"",{"$f":"IF(COUNTIF(BV$2:BV36,BV36)=1,BV36,\"\")","v":""},"","","",""]
[{"$f":"+IF(D37=\"\",\"\",MAX(A$1:A36)+1)","v":""},{"$f":"IF(Affected_Sources!C59=\"\",\"\",Affected_Sources!C59)","v":""},"",{"$f":"IF(COUNTIF(B$2:B37,B37)=1,B37,\"\")","v":""},null,null,null,null,null,null,{"$f":"+IF(N37=\"\",\"\",MAX(K$1:K36)+1)","v":""},{"$f":"IF(CMS_Identification!E59=\"\",\"\",CMS_Identification!E59)","v":""},"",{"$f":"IF(COUNTIF(L$2:L37,L37)=1,L37,\"\")","v":""},null,null,null,null,null,{"$f":"+IF(Y37=\"\",\"\",MAX(T$1:T36)+1)","v":""},{"$f":"IF(Limit_Deviation_Detail!B59=\"\",\"\",Limit_Deviation_Detail!B59)","v":""},{"$f":"IF(Limit_Deviation_Detail!C59=\"\",\"\",Limit_Deviation_Detail!C59)","v":""},{"$f":"IF(Limit_Deviation_Detail!E59=\"\",\"\",Limit_Deviation_Detail!E59)","v":""},"",{"$f":"IF(COUNTIF(X$2:X37,X37)=1,X37,\"\")","v":""},"","","","","",null,null,"NM",null,{"$f":"IF(COUNTIF(AM$2:AM37,AM37)=1,AM37,\"\")","v":""},{"$f":"IF(CMS_Deviation_Detail!B59=\"\",\"\",CMS_Deviation_Detail!B59)","v":""},{"$f":"IF(CMS_Deviation_Detail!C59=\"\",\"\",CMS_Deviation_Detail!C59)","v":""},{"$f":"IF(CMS_Deviation_Detail!D59=\"\",\"\",CMS_Deviation_Detail!D59)","v":""},"",{"$f":"+IF(AI37=\"\",\"\",MAX(AN$1:AN36)+1)","v":""},"","","","","","",null,{"$f":"IF(COUNTIF(AZ$2:AZ37,AZ37)=1,AZ37,\"\")","v":""},{"$f":"IF(Limit_Deviation_Detail!B59=\"\",\"\",Limit_Deviation_Detail!B59)","v":""},{"$f":"IF(Limit_Deviation_Detail!C59=\"\",\"\",Limit_Deviation_Detail!C59)","v":""},{"$f":"IF(Limit_Deviation_Detail!E59=\"\",\"\",Limit_Deviation_Detail!E59)","v":""},"",{"$f":"+IF(AV37=\"\",\"\",MAX(BA$1:BA36)+1)","v":""},"","","","",null,{"$f":"+IF(BL37=\"\",\"\",MAX(BG$1:BG36)+1)","v":""},{"$f":"IF(Affected_Sources!B59=\"\",\"\",Affected_Sources!B59)","v":""},{"$f":"IF(Affected_Sources!C59=\"\",\"\",Affected_Sources!C59)","v":""},{"$f":"IF(Affected_Sources!D59=\"\",\"\",Affected_Sources!D59)","v":""},"",{"$f":"IF(COUNTIF(BK$2:BK37,BK37)=1,BK37,\"\")","v":""},"","","","",null,{"$f":"+IF(BW37=\"\",\"\",MAX(BR$1:BR36)+1)","v":""},{"$f":"IF(CMS_Identification!B59=\"\",\"\",CMS_Identification!B59)","v":""},{"$f":"IF(CMS_Identification!C59=\"\",\"\",CMS_Identification!C59)","v":""},{"$f":"IF(CMS_Identification!E59=\"\",\"\",CMS_Identification!E59)","v":""},"",{"$f":"IF(COUNTIF(BV$2:BV37,BV37)=1,BV37,\"\")","v":""},"","","",""]
[{"$f":"+IF(D38=\"\",\"\",MAX(A$1:A37)+1)","v":""},{"$f":"IF(Affected_Sources!C60=\"\",\"\",Affected_Sources!C60)","v":""},"",{"$f":"IF(COUNTIF(B$2:B38,B38)=1,B38,\"\")","v":""},null,null,null,null,null,null,{"$f":"+IF(N38=\"\",\"\",MAX(K$1:K37)+1)","v":""},{"$f":"IF(CMS_Identification!E60=\"\",\"\",CMS_Identification!E60)","v":""},"",{"$f":"IF(COUNTIF(L$2:L38,L38)=1,L38,\"\")","v":""},null,null,null,null,null,{"$f":"+IF(Y38=\"\",\"\",MAX(T$1:T37)+1)","v":""},{"$f":"IF(Limit_Deviation_Detail!B60=\"\",\"\",Limit_Deviation_Detail!B60)","v":""},{"$f":"IF(Limit_Deviation_Detail!C60=\"\",\"\",Limit_Deviation_Detail!C60)","v":""},{"$f":"IF(Limit_Deviation_Detail!E60=\"\",\"\",Limit_Deviation_Detail!E60)","v":""},"",{"$f":"IF(COUNTIF(X$2:X38,X38)=1,X38,\"\")","v":""},"","","","","",null,null,"NV",null,{"$f":"IF(COUNTIF(AM$2:AM38,AM38)=1,AM38,\"\")","v":""},{"$f":"IF(CMS_Deviation_Detail!B60=\"\",\"\",CMS_Deviation_Detail!B60)","v":""},{"$f":"IF(CMS_Deviation_Detail!C60=\"\",\"\",CMS_Deviation_Detail!C60)","v":""},{"$f":"IF(CMS_Deviation_Detail!D60=\"\",\"\",CMS_Deviation_Detail!D60)","v":""},"",{"$f":"+IF(AI38=\"\",\"\",MAX(AN$1:AN37)+1)","v":""},"","","","","","",null,{"$f":"IF(COUNTIF(AZ$2:AZ38,AZ38)=1,AZ38,\"\")","v":""},{"$f":"IF(Limit_Deviation_Detail!B60=\"\",\"\",Limit_Deviation_Detail!B60)","v":""},{"$f":"IF(Limit_Deviation_Detail!C60=\"\",\"\",Limit_Deviation_Detail!C60)","v":""},{"$f":"IF(Limit_Deviation_Detail!E60=\"\",\"\",Limit_Deviation_Detail!E60)","v":""},"",{"$f":"+IF(AV38=\"\",\"\",MAX(BA$1:BA37)+1)","v":""},"","","","",null,{"$f":"+IF(BL38=\"\",\"\",MAX(BG$1:BG37)+1)","v":""},{"$f":"IF(Affected_Sources!B60=\"\",\"\",Affected_Sources!B60)","v":""},{"$f":"IF(Affected_Sources!C60=\"\",\"\",Affected_Sources!C60)","v":""},{"$f":"IF(Affected_Sources!D60=\"\",\"\",Affected_Sources!D60)","v":""},"",{"$f":"IF(COUNTIF(BK$2:BK38,BK38)=1,BK38,\"\")","v":""},"","","","",null,{"$f":"+IF(BW38=\"\",\"\",MAX(BR$1:BR37)+1)","v":""},{"$f":"IF(CMS_Identification!B60=\"\",\"\",CMS_Identification!B60)","v":""},{"$f":"IF(CMS_Identification!C60=\"\",\"\",CMS_Identification!C60)","v":""},{"$f":"IF(CMS_Identification!E60=\"\",\"\",CMS_Identification!E60)","v":""},"",{"$f":"IF(COUNTIF(BV$2:BV38,BV38)=1,BV38,\"\")","v":""},"","","",""]
[{"$f":"+IF(D39=\"\",\"\",MAX(A$1:A38)+1)","v":""},{"$f":"IF(Affected_Sources!C61=\"\",\"\",Affected_Sources!C61)","v":""},"",{"$f":"IF(COUNTIF(B$2:B39,B39)=1,B39,\"\")","v":""},null,null,null,null,null,null,{"$f":"+IF(N39=\"\",\"\",MAX(K$1:K38)+1)","v":""},{"$f":"IF(CMS_Identification!E61=\"\",\"\",CMS_Identification!E61)","v":""},"",{"$f":"IF(COUNTIF(L$2:L39,L39)=1,L39,\"\")","v":""},null,null,null,null,null,{"$f":"+IF(Y39=\"\",\"\",MAX(T$1:T38)+1)","v":""},{"$f":"IF(Limit_Deviation_Detail!B61=\"\",\"\",Limit_Deviation_Detail!B61)","v":""},{"$f":"IF(Limit_Deviation_Detail!C61=\"\",\"\",Limit_Deviation_Detail!C61)","v":""},{"$f":"IF(Limit_Deviation_Detail!E61=\"\",\"\",Limit_Deviation_Detail!E61)","v":""},"",{"$f":"IF(COUNTIF(X$2:X39,X39)=1,X39,\"\")","v":""},"","","","","",null,null,"NY",null,{"$f":"IF(COUNTIF(AM$2:AM39,AM39)=1,AM39,\"\")","v":""},{"$f":"IF(CMS_Deviation_Detail!B61=\"\",\"\",CMS_Deviation_Detail!B61)","v":""},{"$f":"IF(CMS_Deviation_Detail!C61=\"\",\"\",CMS_Deviation_Detail!C61)","v":""},{"$f":"IF(CMS_Deviation_Detail!D61=\"\",\"\",CMS_Deviation_Detail!D61)","v":""},"",{"$f":"+IF(AI39=\"\",\"\",MAX(AN$1:AN38)+1)","v":""},"","","","","","",null,{"$f":"IF(COUNTIF(AZ$2:AZ39,AZ39)=1,AZ39,\"\")","v":""},{"$f":"IF(Limit_Deviation_Detail!B61=\"\",\"\",Limit_Deviation_Detail!B61)","v":""},{"$f":"IF(Limit_Deviation_Detail!C61=\"\",\"\",Limit_Deviation_Detail!C61)","v":""},{"$f":"IF(Limit_Deviation_Detail!E61=\"\",\"\",Limit_Deviation_Detail!E61)","v":""},"",{"$f":"+IF(AV39=\"\",\"\",MAX(BA$1:BA38)+1)","v":""},"","","","",null,{"$f":"+IF(BL39=\"\",\"\",MAX(BG$1:BG38)+1)","v":""},{"$f":"IF(Affected_Sources!B61=\"\",\"\",Affected_Sources!B61)","v":""},{"$f":"IF(Affected_Sources!C61=\"\",\"\",Affected_Sources!C61)","v":""},{"$f":"IF(Affected_Sources!D61=\"\",\"\",Affected_Sources!D61)","v":""},"",{"$f":"IF(COUNTIF(BK$2:BK39,BK39)=1,BK39,\"\")","v":""},"","","","",null,{"$f":"+IF(BW39=\"\",\"\",MAX(BR$1:BR38)+1)","v":""},{"$f":"IF(CMS_Identification!B61=\"\",\"\",CMS_Identification!B61)","v":""},{"$f":"IF(CMS_Identification!C61=\"\",\"\",CMS_Identification!C61)","v":""},{"$f":"IF(CMS_Identification!E61=\"\",\"\",CMS_Identification!E61)","v":""},"",{"$f":"IF(COUNTIF(BV$2:BV39,BV39)=1,BV39,\"\")","v":""},"","","",""]
[{"$f":"+IF(D40=\"\",\"\",MAX(A$1:A39)+1)","v":""},{"$f":"IF(Affected_Sources!C62=\"\",\"\",Affected_Sources!C62)","v":""},"",{"$f":"IF(COUNTIF(B$2:B40,B40)=1,B40,\"\")","v":""},null,null,null,null,null,null,{"$f":"+IF(N40=\"\",\"\",MAX(K$1:K39)+1)","v":""},{"$f":"IF(CMS_Identification!E62=\"\",\"\",CMS_Identification!E62)","v":""},"",{"$f":"IF(COUNTIF(L$2:L40,L40)=1,L40,\"\")","v":""},null,null,null,null,null,{"$f":"+IF(Y40=\"\",\"\",MAX(T$1:T39)+1)","v":""},{"$f":"IF(Limit_Deviation_Detail!B62=\"\",\"\",Limit_Deviation_Detail!B62)","v":""},{"$f":"IF(Limit_Deviation_Detail!C62=\"\",\"\",Limit_Deviation_Detail!C62)","v":""},{"$f":"IF(Limit_Deviation_Detail!E62=\"\",\"\",Limit_Deviation_Detail!E62)","v":""},"",{"$f":"IF(COUNTIF(X$2:X40,X40)=1,X40,\"\")","v":""},"","","","","",null,null,"OH",null,{"$f":"IF(COUNTIF(AM$2:AM40,AM40)=1,AM40,\"\")","v":""},{"$f":"IF(CMS_Deviation_Detail!B62=\"\",\"\",CMS_Deviation_Detail!B62)","v":""},{"$f":"IF(CMS_Deviation_Detail!C62=\"\",\"\",CMS_Deviation_Detail!C62)","v":""},{"$f":"IF(CMS_Deviation_Detail!D62=\"\",\"\",CMS_Deviation_Detail!D62)","v":""},"",{"$f":"+IF(AI40=\"\",\"\",MAX(AN$1:AN39)+1)","v":""},"","","","","","",null,{"$f":"IF(COUNTIF(AZ$2:AZ40,AZ40)=1,AZ40,\"\")","v":""},{"$f":"IF(Limit_Deviation_Detail!B62=\"\",\"\",Limit_Deviation_Detail!B62)","v":""},{"$f":"IF(Limit_Deviation_Detail!C62=\"\",\"\",Limit_Deviation_Detail!C62)","v":""},{"$f":"IF(Limit_Deviation_Detail!E62=\"\",\"\",Limit_Deviation_Detail!E62)","v":""},"",{"$f":"+IF(AV40=\"\",\"\",MAX(BA$1:BA39)+1)","v":""},"","","","",null,{"$f":"+IF(BL40=\"\",\"\",MAX(BG$1:BG39)+1)","v":""},{"$f":"IF(Affected_Sources!B62=\"\",\"\",Affected_Sources!B62)","v":""},{"$f":"IF(Affected_Sources!C62=\"\",\"\",Affected_Sources!C62)","v":""},{"$f":"IF(Affected_Sources!D62=\"\",\"\",Affected_Sources!D62)","v":""},"",{"$f":"IF(COUNTIF(BK$2:BK40,BK40)=1,BK40,\"\")","v":""},"","","","",null,{"$f":"+IF(BW40=\"\",\"\",MAX(BR$1:BR39)+1)","v":""},{"$f":"IF(CMS_Identification!B62=\"\",\"\",CMS_Identification!B62)","v":""},{"$f":"IF(CMS_Identification!C62=\"\",\"\",CMS_Identification!C62)","v":""},{"$f":"IF(CMS_Identification!E62=\"\",\"\",CMS_Identification!E62)","v":""},"",{"$f":"IF(COUNTIF(BV$2:BV40,BV40)=1,BV40,\"\")","v":""},"","","",""]
[{"$f":"+IF(D41=\"\",\"\",MAX(A$1:A40)+1)","v":""},{"$f":"IF(Affected_Sources!C63=\"\",\"\",Affected_Sources!C63)","v":""},"",{"$f":"IF(COUNTIF(B$2:B41,B41)=1,B41,\"\")","v":""},null,null,null,null,null,null,{"$f":"+IF(N41=\"\",\"\",MAX(K$1:K40)+1)","v":""},{"$f":"IF(CMS_Identification!E63=\"\",\"\",CMS_Identification!E63)","v":""},"",{"$f":"IF(COUNTIF(L$2:L41,L41)=1,L41,\"\")","v":""},null,null,null,null,null,{"$f":"+IF(Y41=\"\",\"\",MAX(T$1:T40)+1)","v":""},{"$f":"IF(Limit_Deviation_Detail!B63=\"\",\"\",Limit_Deviation_Detail!B63)","v":""},{"$f":"IF(Limit_Deviation_Detail!C63=\"\",\"\",Limit_Deviation_Detail!C63)","v":""},{"$f":"IF(Limit_Deviation_Detail!E63=\"\",\"\",Limit_Deviation_Detail!E63)","v":""},"",{"$f":"IF(COUNTIF(X$2:X41,X41)=1,X41,\"\")","v":""},"","","","","",null,null,"OK",null,{"$f":"IF(COUNTIF(AM$2:AM41,AM41)=1,AM41,\"\")","v":""},{"$f":"IF(CMS_Deviation_Detail!B63=\"\",\"\",CMS_Deviation_Detail!B63)","v":""},{"$f":"IF(CMS_Deviation_Detail!C63=\"\",\"\",CMS_Deviation_Detail!C63)","v":""},{"$f":"IF(CMS_Deviation_Detail!D63=\"\",\"\",CMS_Deviation_Detail!D63)","v":""},"",{"$f":"+IF(AI41=\"\",\"\",MAX(AN$1:AN40)+1)","v":""},"","","","","","",null,{"$f":"IF(COUNTIF(AZ$2:AZ41,AZ41)=1,AZ41,\"\")","v":""},{"$f":"IF(Limit_Deviation_Detail!B63=\"\",\"\",Limit_Deviation_Detail!B63)","v":""},{"$f":"IF(Limit_Deviation_Detail!C63=\"\",\"\",Limit_Deviation_Detail!C63)","v":""},{"$f":"IF(Limit_Deviation_Detail!E63=\"\",\"\",Limit_Deviation_Detail!E63)","v":""},"",{"$f":"+IF(AV41=\"\",\"\",MAX(BA$1:BA40)+1)","v":""},"","","","",null,{"$f":"+IF(BL41=\"\",\"\",MAX(BG$1:BG40)+1)","v":""},{"$f":"IF(Affected_Sources!B63=\"\",\"\",Affected_Sources!B63)","v":""},{"$f":"IF(Affected_Sources!C63=\"\",\"\",Affected_Sources!C63)","v":""},{"$f":"IF(Affected_Sources!D63=\"\",\"\",Affected_Sources!D63)","v":""},"",{"$f":"IF(COUNTIF(BK$2:BK41,BK41)=1,BK41,\"\")","v":""},"","","","",null,{"$f":"+IF(BW41=\"\",\"\",MAX(BR$1:BR40)+1)","v":""},{"$f":"IF(CMS_Identification!B63=\"\",\"\",CMS_Identification!B63)","v":""},{"$f":"IF(CMS_Identification!C63=\"\",\"\",CMS_Identification!C63)","v":""},{"$f":"IF(CMS_Identification!E63=\"\",\"\",CMS_Identification!E63)","v":""},"",{"$f":"IF(COUNTIF(BV$2:BV41,BV41)=1,BV41,\"\")","v":""},"","","",""]
[{"$f":"+IF(D42=\"\",\"\",MAX(A$1:A41)+1)","v":""},{"$f":"IF(Affected_Sources!C64=\"\",\"\",Affected_Sources!C64)","v":""},"",{"$f":"IF(COUNTIF(B$2:B42,B42)=1,B42,\"\")","v":""},null,null,null,null,null,null,{"$f":"+IF(N42=\"\",\"\",MAX(K$1:K41)+1)","v":""},{"$f":"IF(CMS_Identification!E64=\"\",\"\",CMS_Identification!E64)","v":""},"",{"$f":"IF(COUNTIF(L$2:L42,L42)=1,L42,\"\")","v":""},null,null,null,null,null,{"$f":"+IF(Y42=\"\",\"\",MAX(T$1:T41)+1)","v":""},{"$f":"IF(Limit_Deviation_Detail!B64=\"\",\"\",Limit_Deviation_Detail!B64)","v":""},{"$f":"IF(Limit_Deviation_Detail!C64=\"\",\"\",Limit_Deviation_Detail!C64)","v":""},{"$f":"IF(Limit_Deviation_Detail!E64=\"\",\"\",Limit_Deviation_Detail!E64)","v":""},"",{"$f":"IF(COUNTIF(X$2:X42,X42)=1,X42,\"\")","v":""},"","","","","",null,null,"OR",null,{"$f":"IF(COUNTIF(AM$2:AM42,AM42)=1,AM42,\"\")","v":""},{"$f":"IF(CMS_Deviation_Detail!B64=\"\",\"\",CMS_Deviation_Detail!B64)","v":""},{"$f":"IF(CMS_Deviation_Detail!C64=\"\",\"\",CMS_Deviation_Detail!C64)","v":""},{"$f":"IF(CMS_Deviation_Detail!D64=\"\",\"\",CMS_Deviation_Detail!D64)","v":""},"",{"$f":"+IF(AI42=\"\",\"\",MAX(AN$1:AN41)+1)","v":""},"","","","","","",null,{"$f":"IF(COUNTIF(AZ$2:AZ42,AZ42)=1,AZ42,\"\")","v":""},{"$f":"IF(Limit_Deviation_Detail!B64=\"\",\"\",Limit_Deviation_Detail!B64)","v":""},{"$f":"IF(Limit_Deviation_Detail!C64=\"\",\"\",Limit_Deviation_Detail!C64)","v":""},{"$f":"IF(Limit_Deviation_Detail!E64=\"\",\"\",Limit_Deviation_Detail!E64)","v":""},"",{"$f":"+IF(AV42=\"\",\"\",MAX(BA$1:BA41)+1)","v":""},"","","","",null,{"$f":"+IF(BL42=\"\",\"\",MAX(BG$1:BG41)+1)","v":""},{"$f":"IF(Affected_Sources!B64=\"\",\"\",Affected_Sources!B64)","v":""},{"$f":"IF(Affected_Sources!C64=\"\",\"\",Affected_Sources!C64)","v":""},{"$f":"IF(Affected_Sources!D64=\"\",\"\",Affected_Sources!D64)","v":""},"",{"$f":"IF(COUNTIF(BK$2:BK42,BK42)=1,BK42,\"\")","v":""},"","","","",null,{"$f":"+IF(BW42=\"\",\"\",MAX(BR$1:BR41)+1)","v":""},{"$f":"IF(CMS_Identification!B64=\"\",\"\",CMS_Identification!B64)","v":""},{"$f":"IF(CMS_Identification!C64=\"\",\"\",CMS_Identification!C64)","v":""},{"$f":"IF(CMS_Identification!E64=\"\",\"\",CMS_Identification!E64)","v":""},"",{"$f":"IF(COUNTIF(BV$2:BV42,BV42)=1,BV42,\"\")","v":""},"","","",""]
[{"$f":"+IF(D43=\"\",\"\",MAX(A$1:A42)+1)","v":""},{"$f":"IF(Affected_Sources!C65=\"\",\"\",Affected_Sources!C65)","v":""},"",{"$f":"IF(COUNTIF(B$2:B43,B43)=1,B43,\"\")","v":""},null,null,null,null,null,null,{"$f":"+IF(N43=\"\",\"\",MAX(K$1:K42)+1)","v":""},{"$f":"IF(CMS_Identification!E65=\"\",\"\",CMS_Identification!E65)","v":""},"",{"$f":"IF(COUNTIF(L$2:L43,L43)=1,L43,\"\")","v":""},null,null,null,null,null,{"$f":"+IF(Y43=\"\",\"\",MAX(T$1:T42)+1)","v":""},{"$f":"IF(Limit_Deviation_Detail!B65=\"\",\"\",Limit_Deviation_Detail!B65)","v":""},{"$f":"IF(Limit_Deviation_Detail!C65=\"\",\"\",Limit_Deviation_Detail!C65)","v":""},{"$f":"IF(Limit_Deviation_Detail!E65=\"\",\"\",Limit_Deviation_Detail!E65)","v":""},"",{"$f":"IF(COUNTIF(X$2:X43,X43)=1,X43,\"\")","v":""},"","","","","",null,null,"PA",null,{"$f":"IF(COUNTIF(AM$2:AM43,AM43)=1,AM43,\"\")","v":""},{"$f":"IF(CMS_Deviation_Detail!B65=\"\",\"\",CMS_Deviation_Detail!B65)","v":""},{"$f":"IF(CMS_Deviation_Detail!C65=\"\",\"\",CMS_Deviation_Detail!C65)","v":""},{"$f":"IF(CMS_Deviation_Detail!D65=\"\",\"\",CMS_Deviation_Detail!D65)","v":""},"",{"$f":"+IF(AI43=\"\",\"\",MAX(AN$1:AN42)+1)","v":""},"","","","","","",null,{"$f":"IF(COUNTIF(AZ$2:AZ43,AZ43)=1,AZ43,\"\")","v":""},{"$f":"IF(Limit_Deviation_Detail!B65=\"\",\"\",Limit_Deviation_Detail!B65)","v":""},{"$f":"IF(Limit_Deviation_Detail!C65=\"\",\"\",Limit_Deviation_Detail!C65)","v":""},{"$f":"IF(Limit_Deviation_Detail!E65=\"\",\"\",Limit_Deviation_Detail!E65)","v":""},"",{"$f":"+IF(AV43=\"\",\"\",MAX(BA$1:BA42)+1)","v":""},"","","","",null,{"$f":"+IF(BL43=\"\",\"\",MAX(BG$1:BG42)+1)","v":""},{"$f":"IF(Affected_Sources!B65=\"\",\"\",Affected_Sources!B65)","v":""},{"$f":"IF(Affected_Sources!C65=\"\",\"\",Affected_Sources!C65)","v":""},{"$f":"IF(Affected_Sources!D65=\"\",\"\",Affected_Sources!D65)","v":""},"",{"$f":"IF(COUNTIF(BK$2:BK43,BK43)=1,BK43,\"\")","v":""},"","","","",null,{"$f":"+IF(BW43=\"\",\"\",MAX(BR$1:BR42)+1)","v":""},{"$f":"IF(CMS_Identification!B65=\"\",\"\",CMS_Identification!B65)","v":""},{"$f":"IF(CMS_Identification!C65=\"\",\"\",CMS_Identification!C65)","v":""},{"$f":"IF(CMS_Identification!E65=\"\",\"\",CMS_Identification!E65)","v":""},"",{"$f":"IF(COUNTIF(BV$2:BV43,BV43)=1,BV43,\"\")","v":""},"","","",""]
[{"$f":"+IF(D44=\"\",\"\",MAX(A$1:A43)+1)","v":""},{"$f":"IF(Affected_Sources!C66=\"\",\"\",Affected_Sources!C66)","v":""},"",{"$f":"IF(COUNTIF(B$2:B44,B44)=1,B44,\"\")","v":""},null,null,null,null,null,null,{"$f":"+IF(N44=\"\",\"\",MAX(K$1:K43)+1)","v":""},{"$f":"IF(CMS_Identification!E66=\"\",\"\",CMS_Identification!E66)","v":""},"",{"$f":"IF(COUNTIF(L$2:L44,L44)=1,L44,\"\")","v":""},null,null,null,null,null,{"$f":"+IF(Y44=\"\",\"\",MAX(T$1:T43)+1)","v":""},{"$f":"IF(Limit_Deviation_Detail!B66=\"\",\"\",Limit_Deviation_Detail!B66)","v":""},{"$f":"IF(Limit_Deviation_Detail!C66=\"\",\"\",Limit_Deviation_Detail!C66)","v":""},{"$f":"IF(Limit_Deviation_Detail!E66=\"\",\"\",Limit_Deviation_Detail!E66)","v":""},"",{"$f":"IF(COUNTIF(X$2:X44,X44)=1,X44,\"\")","v":""},"","","","","",null,null,"PR",null,{"$f":"IF(COUNTIF(AM$2:AM44,AM44)=1,AM44,\"\")","v":""},{"$f":"IF(CMS_Deviation_Detail!B66=\"\",\"\",CMS_Deviation_Detail!B66)","v":""},{"$f":"IF(CMS_Deviation_Detail!C66=\"\",\"\",CMS_Deviation_Detail!C66)","v":""},{"$f":"IF(CMS_Deviation_Detail!D66=\"\",\"\",CMS_Deviation_Detail!D66)","v":""},"",{"$f":"+IF(AI44=\"\",\"\",MAX(AN$1:AN43)+1)","v":""},"","","","","","",null,{"$f":"IF(COUNTIF(AZ$2:AZ44,AZ44)=1,AZ44,\"\")","v":""},{"$f":"IF(Limit_Deviation_Detail!B66=\"\",\"\",Limit_Deviation_Detail!B66)","v":""},{"$f":"IF(Limit_Deviation_Detail!C66=\"\",\"\",Limit_Deviation_Detail!C66)","v":""},{"$f":"IF(Limit_Deviation_Detail!E66=\"\",\"\",Limit_Deviation_Detail!E66)","v":""},"",{"$f":"+IF(AV44=\"\",\"\",MAX(BA$1:BA43)+1)","v":""},"","","","",null,{"$f":"+IF(BL44=\"\",\"\",MAX(BG$1:BG43)+1)","v":""},{"$f":"IF(Affected_Sources!B66=\"\",\"\",Affected_Sources!B66)","v":""},{"$f":"IF(Affected_Sources!C66=\"\",\"\",Affected_Sources!C66)","v":""},{"$f":"IF(Affected_Sources!D66=\"\",\"\",Affected_Sources!D66)","v":""},"",{"$f":"IF(COUNTIF(BK$2:BK44,BK44)=1,BK44,\"\")","v":""},"","","","",null,{"$f":"+IF(BW44=\"\",\"\",MAX(BR$1:BR43)+1)","v":""},{"$f":"IF(CMS_Identification!B66=\"\",\"\",CMS_Identification!B66)","v":""},{"$f":"IF(CMS_Identification!C66=\"\",\"\",CMS_Identification!C66)","v":""},{"$f":"IF(CMS_Identification!E66=\"\",\"\",CMS_Identification!E66)","v":""},"",{"$f":"IF(COUNTIF(BV$2:BV44,BV44)=1,BV44,\"\")","v":""},"","","",""]
[{"$f":"+IF(D45=\"\",\"\",MAX(A$1:A44)+1)","v":""},{"$f":"IF(Affected_Sources!C67=\"\",\"\",Affected_Sources!C67)","v":""},"",{"$f":"IF(COUNTIF(B$2:B45,B45)=1,B45,\"\")","v":""},null,null,null,null,null,null,{"$f":"+IF(N45=\"\",\"\",MAX(K$1:K44)+1)","v":""},{"$f":"IF(CMS_Identification!E67=\"\",\"\",CMS_Identification!E67)","v":""},"",{"$f":"IF(COUNTIF(L$2:L45,L45)=1,L45,\"\")","v":""},null,null,null,null,null,{"$f":"+IF(Y45=\"\",\"\",MAX(T$1:T44)+1)","v":""},{"$f":"IF(Limit_Deviation_Detail!B67=\"\",\"\",Limit_Deviation_Detail!B67)","v":""},{"$f":"IF(Limit_Deviation_Detail!C67=\"\",\"\",Limit_Deviation_Detail!C67)","v":""},{"$f":"IF(Limit_Deviation_Detail!E67=\"\",\"\",Limit_Deviation_Detail!E67)","v":""},"",{"$f":"IF(COUNTIF(X$2:X45,X45)=1,X45,\"\")","v":""},"","","","","",null,null,"RI",null,{"$f":"IF(COUNTIF(AM$2:AM45,AM45)=1,AM45,\"\")","v":""},{"$f":"IF(CMS_Deviation_Detail!B67=\"\",\"\",CMS_Deviation_Detail!B67)","v":""},{"$f":"IF(CMS_Deviation_Detail!C67=\"\",\"\",CMS_Deviation_Detail!C67)","v":""},{"$f":"IF(CMS_Deviation_Detail!D67=\"\",\"\",CMS_Deviation_Detail!D67)","v":""},"",{"$f":"+IF(AI45=\"\",\"\",MAX(AN$1:AN44)+1)","v":""},"","","","","","",null,{"$f":"IF(COUNTIF(AZ$2:AZ45,AZ45)=1,AZ45,\"\")","v":""},{"$f":"IF(Limit_Deviation_Detail!B67=\"\",\"\",Limit_Deviation_Detail!B67)","v":""},{"$f":"IF(Limit_Deviation_Detail!C67=\"\",\"\",Limit_Deviation_Detail!C67)","v":""},{"$f":"IF(Limit_Deviation_Detail!E67=\"\",\"\",Limit_Deviation_Detail!E67)","v":""},"",{"$f":"+IF(AV45=\"\",\"\",MAX(BA$1:BA44)+1)","v":""},"","","","",null,{"$f":"+IF(BL45=\"\",\"\",MAX(BG$1:BG44)+1)","v":""},{"$f":"IF(Affected_Sources!B67=\"\",\"\",Affected_Sources!B67)","v":""},{"$f":"IF(Affected_Sources!C67=\"\",\"\",Affected_Sources!C67)","v":""},{"$f":"IF(Affected_Sources!D67=\"\",\"\",Affected_Sources!D67)","v":""},"",{"$f":"IF(COUNTIF(BK$2:BK45,BK45)=1,BK45,\"\")","v":""},"","","","",null,{"$f":"+IF(BW45=\"\",\"\",MAX(BR$1:BR44)+1)","v":""},{"$f":"IF(CMS_Identification!B67=\"\",\"\",CMS_Identification!B67)","v":""},{"$f":"IF(CMS_Identification!C67=\"\",\"\",CMS_Identification!C67)","v":""},{"$f":"IF(CMS_Identification!E67=\"\",\"\",CMS_Identification!E67)","v":""},"",{"$f":"IF(COUNTIF(BV$2:BV45,BV45)=1,BV45,\"\")","v":""},"","","",""]
[{"$f":"+IF(D46=\"\",\"\",MAX(A$1:A45)+1)","v":""},{"$f":"IF(Affected_Sources!C68=\"\",\"\",Affected_Sources!C68)","v":""},"",{"$f":"IF(COUNTIF(B$2:B46,B46)=1,B46,\"\")","v":""},null,null,null,null,null,null,{"$f":"+IF(N46=\"\",\"\",MAX(K$1:K45)+1)","v":""},{"$f":"IF(CMS_Identification!E68=\"\",\"\",CMS_Identification!E68)","v":""},"",{"$f":"IF(COUNTIF(L$2:L46,L46)=1,L46,\"\")","v":""},null,null,null,null,null,{"$f":"+IF(Y46=\"\",\"\",MAX(T$1:T45)+1)","v":""},{"$f":"IF(Limit_Deviation_Detail!B68=\"\",\"\",Limit_Deviation_Detail!B68)","v":""},{"$f":"IF(Limit_Deviation_Detail!C68=\"\",\"\",Limit_Deviation_Detail!C68)","v":""},{"$f":"IF(Limit_Deviation_Detail!E68=\"\",\"\",Limit_Deviation_Detail!E68)","v":""},"",{"$f":"IF(COUNTIF(X$2:X46,X46)=1,X46,\"\")","v":""},"","","","","",null,null,"SC",null,{"$f":"IF(COUNTIF(AM$2:AM46,AM46)=1,AM46,\"\")","v":""},{"$f":"IF(CMS_Deviation_Detail!B68=\"\",\"\",CMS_Deviation_Detail!B68)","v":""},{"$f":"IF(CMS_Deviation_Detail!C68=\"\",\"\",CMS_Deviation_Detail!C68)","v":""},{"$f":"IF(CMS_Deviation_Detail!D68=\"\",\"\",CMS_Deviation_Detail!D68)","v":""},"",{"$f":"+IF(AI46=\"\",\"\",MAX(AN$1:AN45)+1)","v":""},"","","","","","",null,{"$f":"IF(COUNTIF(AZ$2:AZ46,AZ46)=1,AZ46,\"\")","v":""},{"$f":"IF(Limit_Deviation_Detail!B68=\"\",\"\",Limit_Deviation_Detail!B68)","v":""},{"$f":"IF(Limit_Deviation_Detail!C68=\"\",\"\",Limit_Deviation_Detail!C68)","v":""},{"$f":"IF(Limit_Deviation_Detail!E68=\"\",\"\",Limit_Deviation_Detail!E68)","v":""},"",{"$f":"+IF(AV46=\"\",\"\",MAX(BA$1:BA45)+1)","v":""},"","","","",null,{"$f":"+IF(BL46=\"\",\"\",MAX(BG$1:BG45)+1)","v":""},{"$f":"IF(Affected_Sources!B68=\"\",\"\",Affected_Sources!B68)","v":""},{"$f":"IF(Affected_Sources!C68=\"\",\"\",Affected_Sources!C68)","v":""},{"$f":"IF(Affected_Sources!D68=\"\",\"\",Affected_Sources!D68)","v":""},"",{"$f":"IF(COUNTIF(BK$2:BK46,BK46)=1,BK46,\"\")","v":""},"","","","",null,{"$f":"+IF(BW46=\"\",\"\",MAX(BR$1:BR45)+1)","v":""},{"$f":"IF(CMS_Identification!B68=\"\",\"\",CMS_Identification!B68)","v":""},{"$f":"IF(CMS_Identification!C68=\"\",\"\",CMS_Identification!C68)","v":""},{"$f":"IF(CMS_Identification!E68=\"\",\"\",CMS_Identification!E68)","v":""},"",{"$f":"IF(COUNTIF(BV$2:BV46,BV46)=1,BV46,\"\")","v":""},"","","",""]
[{"$f":"+IF(D47=\"\",\"\",MAX(A$1:A46)+1)","v":""},{"$f":"IF(Affected_Sources!C69=\"\",\"\",Affected_Sources!C69)","v":""},"",{"$f":"IF(COUNTIF(B$2:B47,B47)=1,B47,\"\")","v":""},null,null,null,null,null,null,{"$f":"+IF(N47=\"\",\"\",MAX(K$1:K46)+1)","v":""},{"$f":"IF(CMS_Identification!E69=\"\",\"\",CMS_Identification!E69)","v":""},"",{"$f":"IF(COUNTIF(L$2:L47,L47)=1,L47,\"\")","v":""},null,null,null,null,null,{"$f":"+IF(Y47=\"\",\"\",MAX(T$1:T46)+1)","v":""},{"$f":"IF(Limit_Deviation_Detail!B69=\"\",\"\",Limit_Deviation_Detail!B69)","v":""},{"$f":"IF(Limit_Deviation_Detail!C69=\"\",\"\",Limit_Deviation_Detail!C69)","v":""},{"$f":"IF(Limit_Deviation_Detail!E69=\"\",\"\",Limit_Deviation_Detail!E69)","v":""},"",{"$f":"IF(COUNTIF(X$2:X47,X47)=1,X47,\"\")","v":""},"","","","","",null,null,"SD",null,{"$f":"IF(COUNTIF(AM$2:AM47,AM47)=1,AM47,\"\")","v":""},{"$f":"IF(CMS_Deviation_Detail!B69=\"\",\"\",CMS_Deviation_Detail!B69)","v":""},{"$f":"IF(CMS_Deviation_Detail!C69=\"\",\"\",CMS_Deviation_Detail!C69)","v":""},{"$f":"IF(CMS_Deviation_Detail!D69=\"\",\"\",CMS_Deviation_Detail!D69)","v":""},"",{"$f":"+IF(AI47=\"\",\"\",MAX(AN$1:AN46)+1)","v":""},"","","","","","",null,{"$f":"IF(COUNTIF(AZ$2:AZ47,AZ47)=1,AZ47,\"\")","v":""},{"$f":"IF(Limit_Deviation_Detail!B69=\"\",\"\",Limit_Deviation_Detail!B69)","v":""},{"$f":"IF(Limit_Deviation_Detail!C69=\"\",\"\",Limit_Deviation_Detail!C69)","v":""},{"$f":"IF(Limit_Deviation_Detail!E69=\"\",\"\",Limit_Deviation_Detail!E69)","v":""},"",{"$f":"+IF(AV47=\"\",\"\",MAX(BA$1:BA46)+1)","v":""},"","","","",null,{"$f":"+IF(BL47=\"\",\"\",MAX(BG$1:BG46)+1)","v":""},{"$f":"IF(Affected_Sources!B69=\"\",\"\",Affected_Sources!B69)","v":""},{"$f":"IF(Affected_Sources!C69=\"\",\"\",Affected_Sources!C69)","v":""},{"$f":"IF(Affected_Sources!D69=\"\",\"\",Affected_Sources!D69)","v":""},"",{"$f":"IF(COUNTIF(BK$2:BK47,BK47)=1,BK47,\"\")","v":""},"","","","",null,{"$f":"+IF(BW47=\"\",\"\",MAX(BR$1:BR46)+1)","v":""},{"$f":"IF(CMS_Identification!B69=\"\",\"\",CMS_Identification!B69)","v":""},{"$f":"IF(CMS_Identification!C69=\"\",\"\",CMS_Identification!C69)","v":""},{"$f":"IF(CMS_Identification!E69=\"\",\"\",CMS_Identification!E69)","v":""},"",{"$f":"IF(COUNTIF(BV$2:BV47,BV47)=1,BV47,\"\")","v":""},"","","",""]
[{"$f":"+IF(D48=\"\",\"\",MAX(A$1:A47)+1)","v":""},{"$f":"IF(Affected_Sources!C70=\"\",\"\",Affected_Sources!C70)","v":""},"",{"$f":"IF(COUNTIF(B$2:B48,B48)=1,B48,\"\")","v":""},null,null,null,null,null,null,{"$f":"+IF(N48=\"\",\"\",MAX(K$1:K47)+1)","v":""},{"$f":"IF(CMS_Identification!E70=\"\",\"\",CMS_Identification!E70)","v":""},"",{"$f":"IF(COUNTIF(L$2:L48,L48)=1,L48,\"\")","v":""},null,null,null,null,null,{"$f":"+IF(Y48=\"\",\"\",MAX(T$1:T47)+1)","v":""},{"$f":"IF(Limit_Deviation_Detail!B70=\"\",\"\",Limit_Deviation_Detail!B70)","v":""},{"$f":"IF(Limit_Deviation_Detail!C70=\"\",\"\",Limit_Deviation_Detail!C70)","v":""},{"$f":"IF(Limit_Deviation_Detail!E70=\"\",\"\",Limit_Deviation_Detail!E70)","v":""},"",{"$f":"IF(COUNTIF(X$2:X48,X48)=1,X48,\"\")","v":""},"","","","","",null,null,"TN",null,{"$f":"IF(COUNTIF(AM$2:AM48,AM48)=1,AM48,\"\")","v":""},{"$f":"IF(CMS_Deviation_Detail!B70=\"\",\"\",CMS_Deviation_Detail!B70)","v":""},{"$f":"IF(CMS_Deviation_Detail!C70=\"\",\"\",CMS_Deviation_Detail!C70)","v":""},{"$f":"IF(CMS_Deviation_Detail!D70=\"\",\"\",CMS_Deviation_Detail!D70)","v":""},"",{"$f":"+IF(AI48=\"\",\"\",MAX(AN$1:AN47)+1)","v":""},"","","","","","",null,{"$f":"IF(COUNTIF(AZ$2:AZ48,AZ48)=1,AZ48,\"\")","v":""},{"$f":"IF(Limit_Deviation_Detail!B70=\"\",\"\",Limit_Deviation_Detail!B70)","v":""},{"$f":"IF(Limit_Deviation_Detail!C70=\"\",\"\",Limit_Deviation_Detail!C70)","v":""},{"$f":"IF(Limit_Deviation_Detail!E70=\"\",\"\",Limit_Deviation_Detail!E70)","v":""},"",{"$f":"+IF(AV48=\"\",\"\",MAX(BA$1:BA47)+1)","v":""},"","","","",null,{"$f":"+IF(BL48=\"\",\"\",MAX(BG$1:BG47)+1)","v":""},{"$f":"IF(Affected_Sources!B70=\"\",\"\",Affected_Sources!B70)","v":""},{"$f":"IF(Affected_Sources!C70=\"\",\"\",Affected_Sources!C70)","v":""},{"$f":"IF(Affected_Sources!D70=\"\",\"\",Affected_Sources!D70)","v":""},"",{"$f":"IF(COUNTIF(BK$2:BK48,BK48)=1,BK48,\"\")","v":""},"","","","",null,{"$f":"+IF(BW48=\"\",\"\",MAX(BR$1:BR47)+1)","v":""},{"$f":"IF(CMS_Identification!B70=\"\",\"\",CMS_Identification!B70)","v":""},{"$f":"IF(CMS_Identification!C70=\"\",\"\",CMS_Identification!C70)","v":""},{"$f":"IF(CMS_Identification!E70=\"\",\"\",CMS_Identification!E70)","v":""},"",{"$f":"IF(COUNTIF(BV$2:BV48,BV48)=1,BV48,\"\")","v":""},"","","",""]
[{"$f":"+IF(D49=\"\",\"\",MAX(A$1:A48)+1)","v":""},{"$f":"IF(Affected_Sources!C71=\"\",\"\",Affected_Sources!C71)","v":""},"",{"$f":"IF(COUNTIF(B$2:B49,B49)=1,B49,\"\")","v":""},null,null,null,null,null,null,{"$f":"+IF(N49=\"\",\"\",MAX(K$1:K48)+1)","v":""},{"$f":"IF(CMS_Identification!E71=\"\",\"\",CMS_Identification!E71)","v":""},"",{"$f":"IF(COUNTIF(L$2:L49,L49)=1,L49,\"\")","v":""},null,null,null,null,null,{"$f":"+IF(Y49=\"\",\"\",MAX(T$1:T48)+1)","v":""},{"$f":"IF(Limit_Deviation_Detail!B71=\"\",\"\",Limit_Deviation_Detail!B71)","v":""},{"$f":"IF(Limit_Deviation_Detail!C71=\"\",\"\",Limit_Deviation_Detail!C71)","v":""},{"$f":"IF(Limit_Deviation_Detail!E71=\"\",\"\",Limit_Deviation_Detail!E71)","v":""},"",{"$f":"IF(COUNTIF(X$2:X49,X49)=1,X49,\"\")","v":""},"","","","","",null,null,"TX",null,{"$f":"IF(COUNTIF(AM$2:AM49,AM49)=1,AM49,\"\")","v":""},{"$f":"IF(CMS_Deviation_Detail!B71=\"\",\"\",CMS_Deviation_Detail!B71)","v":""},{"$f":"IF(CMS_Deviation_Detail!C71=\"\",\"\",CMS_Deviation_Detail!C71)","v":""},{"$f":"IF(CMS_Deviation_Detail!D71=\"\",\"\",CMS_Deviation_Detail!D71)","v":""},"",{"$f":"+IF(AI49=\"\",\"\",MAX(AN$1:AN48)+1)","v":""},"","","","","","",null,{"$f":"IF(COUNTIF(AZ$2:AZ49,AZ49)=1,AZ49,\"\")","v":""},{"$f":"IF(Limit_Deviation_Detail!B71=\"\",\"\",Limit_Deviation_Detail!B71)","v":""},{"$f":"IF(Limit_Deviation_Detail!C71=\"\",\"\",Limit_Deviation_Detail!C71)","v":""},{"$f":"IF(Limit_Deviation_Detail!E71=\"\",\"\",Limit_Deviation_Detail!E71)","v":""},"",{"$f":"+IF(AV49=\"\",\"\",MAX(BA$1:BA48)+1)","v":""},"","","","",null,{"$f":"+IF(BL49=\"\",\"\",MAX(BG$1:BG48)+1)","v":""},{"$f":"IF(Affected_Sources!B71=\"\",\"\",Affected_Sources!B71)","v":""},{"$f":"IF(Affected_Sources!C71=\"\",\"\",Affected_Sources!C71)","v":""},{"$f":"IF(Affected_Sources!D71=\"\",\"\",Affected_Sources!D71)","v":""},"",{"$f":"IF(COUNTIF(BK$2:BK49,BK49)=1,BK49,\"\")","v":""},"","","","",null,{"$f":"+IF(BW49=\"\",\"\",MAX(BR$1:BR48)+1)","v":""},{"$f":"IF(CMS_Identification!B71=\"\",\"\",CMS_Identification!B71)","v":""},{"$f":"IF(CMS_Identification!C71=\"\",\"\",CMS_Identification!C71)","v":""},{"$f":"IF(CMS_Identification!E71=\"\",\"\",CMS_Identification!E71)","v":""},"",{"$f":"IF(COUNTIF(BV$2:BV49,BV49)=1,BV49,\"\")","v":""},"","","",""]
[{"$f":"+IF(D50=\"\",\"\",MAX(A$1:A49)+1)","v":""},{"$f":"IF(Affected_Sources!C72=\"\",\"\",Affected_Sources!C72)","v":""},"",{"$f":"IF(COUNTIF(B$2:B50,B50)=1,B50,\"\")","v":""},null,null,null,null,null,null,{"$f":"+IF(N50=\"\",\"\",MAX(K$1:K49)+1)","v":""},{"$f":"IF(CMS_Identification!E72=\"\",\"\",CMS_Identification!E72)","v":""},"",{"$f":"IF(COUNTIF(L$2:L50,L50)=1,L50,\"\")","v":""},null,null,null,null,null,{"$f":"+IF(Y50=\"\",\"\",MAX(T$1:T49)+1)","v":""},{"$f":"IF(Limit_Deviation_Detail!B72=\"\",\"\",Limit_Deviation_Detail!B72)","v":""},{"$f":"IF(Limit_Deviation_Detail!C72=\"\",\"\",Limit_Deviation_Detail!C72)","v":""},{"$f":"IF(Limit_Deviation_Detail!E72=\"\",\"\",Limit_Deviation_Detail!E72)","v":""},"",{"$f":"IF(COUNTIF(X$2:X50,X50)=1,X50,\"\")","v":""},"","","","","",null,null,"UT",null,{"$f":"IF(COUNTIF(AM$2:AM50,AM50)=1,AM50,\"\")","v":""},{"$f":"IF(CMS_Deviation_Detail!B72=\"\",\"\",CMS_Deviation_Detail!B72)","v":""},{"$f":"IF(CMS_Deviation_Detail!C72=\"\",\"\",CMS_Deviation_Detail!C72)","v":""},{"$f":"IF(CMS_Deviation_Detail!D72=\"\",\"\",CMS_Deviation_Detail!D72)","v":""},"",{"$f":"+IF(AI50=\"\",\"\",MAX(AN$1:AN49)+1)","v":""},"","","","","","",null,{"$f":"IF(COUNTIF(AZ$2:AZ50,AZ50)=1,AZ50,\"\")","v":""},{"$f":"IF(Limit_Deviation_Detail!B72=\"\",\"\",Limit_Deviation_Detail!B72)","v":""},{"$f":"IF(Limit_Deviation_Detail!C72=\"\",\"\",Limit_Deviation_Detail!C72)","v":""},{"$f":"IF(Limit_Deviation_Detail!E72=\"\",\"\",Limit_Deviation_Detail!E72)","v":""},"",{"$f":"+IF(AV50=\"\",\"\",MAX(BA$1:BA49)+1)","v":""},"","","","",null,{"$f":"+IF(BL50=\"\",\"\",MAX(BG$1:BG49)+1)","v":""},{"$f":"IF(Affected_Sources!B72=\"\",\"\",Affected_Sources!B72)","v":""},{"$f":"IF(Affected_Sources!C72=\"\",\"\",Affected_Sources!C72)","v":""},{"$f":"IF(Affected_Sources!D72=\"\",\"\",Affected_Sources!D72)","v":""},"",{"$f":"IF(COUNTIF(BK$2:BK50,BK50)=1,BK50,\"\")","v":""},"","","","",null,{"$f":"+IF(BW50=\"\",\"\",MAX(BR$1:BR49)+1)","v":""},{"$f":"IF(CMS_Identification!B72=\"\",\"\",CMS_Identification!B72)","v":""},{"$f":"IF(CMS_Identification!C72=\"\",\"\",CMS_Identification!C72)","v":""},{"$f":"IF(CMS_Identification!E72=\"\",\"\",CMS_Identification!E72)","v":""},"",{"$f":"IF(COUNTIF(BV$2:BV50,BV50)=1,BV50,\"\")","v":""},"","","",""]
[{"$f":"+IF(D51=\"\",\"\",MAX(A$1:A50)+1)","v":""},{"$f":"IF(Affected_Sources!C73=\"\",\"\",Affected_Sources!C73)","v":""},"",{"$f":"IF(COUNTIF(B$2:B51,B51)=1,B51,\"\")","v":""},null,null,null,null,null,null,{"$f":"+IF(N51=\"\",\"\",MAX(K$1:K50)+1)","v":""},{"$f":"IF(CMS_Identification!E73=\"\",\"\",CMS_Identification!E73)","v":""},"",{"$f":"IF(COUNTIF(L$2:L51,L51)=1,L51,\"\")","v":""},null,null,null,null,null,{"$f":"+IF(Y51=\"\",\"\",MAX(T$1:T50)+1)","v":""},{"$f":"IF(Limit_Deviation_Detail!B73=\"\",\"\",Limit_Deviation_Detail!B73)","v":""},{"$f":"IF(Limit_Deviation_Detail!C73=\"\",\"\",Limit_Deviation_Detail!C73)","v":""},{"$f":"IF(Limit_Deviation_Detail!E73=\"\",\"\",Limit_Deviation_Detail!E73)","v":""},"",{"$f":"IF(COUNTIF(X$2:X51,X51)=1,X51,\"\")","v":""},"","","","","",null,null,"VA",null,{"$f":"IF(COUNTIF(AM$2:AM51,AM51)=1,AM51,\"\")","v":""},{"$f":"IF(CMS_Deviation_Detail!B73=\"\",\"\",CMS_Deviation_Detail!B73)","v":""},{"$f":"IF(CMS_Deviation_Detail!C73=\"\",\"\",CMS_Deviation_Detail!C73)","v":""},{"$f":"IF(CMS_Deviation_Detail!D73=\"\",\"\",CMS_Deviation_Detail!D73)","v":""},"",{"$f":"+IF(AI51=\"\",\"\",MAX(AN$1:AN50)+1)","v":""},"","","","","","",null,{"$f":"IF(COUNTIF(AZ$2:AZ51,AZ51)=1,AZ51,\"\")","v":""},{"$f":"IF(Limit_Deviation_Detail!B73=\"\",\"\",Limit_Deviation_Detail!B73)","v":""},{"$f":"IF(Limit_Deviation_Detail!C73=\"\",\"\",Limit_Deviation_Detail!C73)","v":""},{"$f":"IF(Limit_Deviation_Detail!E73=\"\",\"\",Limit_Deviation_Detail!E73)","v":""},"",{"$f":"+IF(AV51=\"\",\"\",MAX(BA$1:BA50)+1)","v":""},"","","","",null,{"$f":"+IF(BL51=\"\",\"\",MAX(BG$1:BG50)+1)","v":""},{"$f":"IF(Affected_Sources!B73=\"\",\"\",Affected_Sources!B73)","v":""},{"$f":"IF(Affected_Sources!C73=\"\",\"\",Affected_Sources!C73)","v":""},{"$f":"IF(Affected_Sources!D73=\"\",\"\",Affected_Sources!D73)","v":""},"",{"$f":"IF(COUNTIF(BK$2:BK51,BK51)=1,BK51,\"\")","v":""},"","","","",null,{"$f":"+IF(BW51=\"\",\"\",MAX(BR$1:BR50)+1)","v":""},{"$f":"IF(CMS_Identification!B73=\"\",\"\",CMS_Identification!B73)","v":""},{"$f":"IF(CMS_Identification!C73=\"\",\"\",CMS_Identification!C73)","v":""},{"$f":"IF(CMS_Identification!E73=\"\",\"\",CMS_Identification!E73)","v":""},"",{"$f":"IF(COUNTIF(BV$2:BV51,BV51)=1,BV51,\"\")","v":""},"","","",""]
[{"$f":"+IF(D52=\"\",\"\",MAX(A$1:A51)+1)","v":""},{"$f":"IF(Affected_Sources!C74=\"\",\"\",Affected_Sources!C74)","v":""},"",{"$f":"IF(COUNTIF(B$2:B52,B52)=1,B52,\"\")","v":""},null,null,null,null,null,null,{"$f":"+IF(N52=\"\",\"\",MAX(K$1:K51)+1)","v":""},{"$f":"IF(CMS_Identification!E74=\"\",\"\",CMS_Identification!E74)","v":""},"",{"$f":"IF(COUNTIF(L$2:L52,L52)=1,L52,\"\")","v":""},null,null,null,null,null,{"$f":"+IF(Y52=\"\",\"\",MAX(T$1:T51)+1)","v":""},{"$f":"IF(Limit_Deviation_Detail!B74=\"\",\"\",Limit_Deviation_Detail!B74)","v":""},{"$f":"IF(Limit_Deviation_Detail!C74=\"\",\"\",Limit_Deviation_Detail!C74)","v":""},{"$f":"IF(Limit_Deviation_Detail!E74=\"\",\"\",Limit_Deviation_Detail!E74)","v":""},"",{"$f":"IF(COUNTIF(X$2:X52,X52)=1,X52,\"\")","v":""},"","","","","",null,null,"VI",null,{"$f":"IF(COUNTIF(AM$2:AM52,AM52)=1,AM52,\"\")","v":""},{"$f":"IF(CMS_Deviation_Detail!B74=\"\",\"\",CMS_Deviation_Detail!B74)","v":""},{"$f":"IF(CMS_Deviation_Detail!C74=\"\",\"\",CMS_Deviation_Detail!C74)","v":""},{"$f":"IF(CMS_Deviation_Detail!D74=\"\",\"\",CMS_Deviation_Detail!D74)","v":""},"",{"$f":"+IF(AI52=\"\",\"\",MAX(AN$1:AN51)+1)","v":""},"","","","","","",null,{"$f":"IF(COUNTIF(AZ$2:AZ52,AZ52)=1,AZ52,\"\")","v":""},{"$f":"IF(Limit_Deviation_Detail!B74=\"\",\"\",Limit_Deviation_Detail!B74)","v":""},{"$f":"IF(Limit_Deviation_Detail!C74=\"\",\"\",Limit_Deviation_Detail!C74)","v":""},{"$f":"IF(Limit_Deviation_Detail!E74=\"\",\"\",Limit_Deviation_Detail!E74)","v":""},"",{"$f":"+IF(AV52=\"\",\"\",MAX(BA$1:BA51)+1)","v":""},"","","","",null,{"$f":"+IF(BL52=\"\",\"\",MAX(BG$1:BG51)+1)","v":""},{"$f":"IF(Affected_Sources!B74=\"\",\"\",Affected_Sources!B74)","v":""},{"$f":"IF(Affected_Sources!C74=\"\",\"\",Affected_Sources!C74)","v":""},{"$f":"IF(Affected_Sources!D74=\"\",\"\",Affected_Sources!D74)","v":""},"",{"$f":"IF(COUNTIF(BK$2:BK52,BK52)=1,BK52,\"\")","v":""},"","","","",null,{"$f":"+IF(BW52=\"\",\"\",MAX(BR$1:BR51)+1)","v":""},{"$f":"IF(CMS_Identification!B74=\"\",\"\",CMS_Identification!B74)","v":""},{"$f":"IF(CMS_Identification!C74=\"\",\"\",CMS_Identification!C74)","v":""},{"$f":"IF(CMS_Identification!E74=\"\",\"\",CMS_Identification!E74)","v":""},"",{"$f":"IF(COUNTIF(BV$2:BV52,BV52)=1,BV52,\"\")","v":""},"","","",""]
[{"$f":"+IF(D53=\"\",\"\",MAX(A$1:A52)+1)","v":""},{"$f":"IF(Affected_Sources!C75=\"\",\"\",Affected_Sources!C75)","v":""},"",{"$f":"IF(COUNTIF(B$2:B53,B53)=1,B53,\"\")","v":""},null,null,null,null,null,null,{"$f":"+IF(N53=\"\",\"\",MAX(K$1:K52)+1)","v":""},{"$f":"IF(CMS_Identification!E75=\"\",\"\",CMS_Identification!E75)","v":""},"",{"$f":"IF(COUNTIF(L$2:L53,L53)=1,L53,\"\")","v":""},null,null,null,null,null,{"$f":"+IF(Y53=\"\",\"\",MAX(T$1:T52)+1)","v":""},{"$f":"IF(Limit_Deviation_Detail!B75=\"\",\"\",Limit_Deviation_Detail!B75)","v":""},{"$f":"IF(Limit_Deviation_Detail!C75=\"\",\"\",Limit_Deviation_Detail!C75)","v":""},{"$f":"IF(Limit_Deviation_Detail!E75=\"\",\"\",Limit_Deviation_Detail!E75)","v":""},"",{"$f":"IF(COUNTIF(X$2:X53,X53)=1,X53,\"\")","v":""},"","","","","",null,null,"VT",null,{"$f":"IF(COUNTIF(AM$2:AM53,AM53)=1,AM53,\"\")","v":""},{"$f":"IF(CMS_Deviation_Detail!B75=\"\",\"\",CMS_Deviation_Detail!B75)","v":""},{"$f":"IF(CMS_Deviation_Detail!C75=\"\",\"\",CMS_Deviation_Detail!C75)","v":""},{"$f":"IF(CMS_Deviation_Detail!D75=\"\",\"\",CMS_Deviation_Detail!D75)","v":""},"",{"$f":"+IF(AI53=\"\",\"\",MAX(AN$1:AN52)+1)","v":""},"","","","","","",null,{"$f":"IF(COUNTIF(AZ$2:AZ53,AZ53)=1,AZ53,\"\")","v":""},{"$f":"IF(Limit_Deviation_Detail!B75=\"\",\"\",Limit_Deviation_Detail!B75)","v":""},{"$f":"IF(Limit_Deviation_Detail!C75=\"\",\"\",Limit_Deviation_Detail!C75)","v":""},{"$f":"IF(Limit_Deviation_Detail!E75=\"\",\"\",Limit_Deviation_Detail!E75)","v":""},"",{"$f":"+IF(AV53=\"\",\"\",MAX(BA$1:BA52)+1)","v":""},"","","","",null,{"$f":"+IF(BL53=\"\",\"\",MAX(BG$1:BG52)+1)","v":""},{"$f":"IF(Affected_Sources!B75=\"\",\"\",Affected_Sources!B75)","v":""},{"$f":"IF(Affected_Sources!C75=\"\",\"\",Affected_Sources!C75)","v":""},{"$f":"IF(Affected_Sources!D75=\"\",\"\",Affected_Sources!D75)","v":""},"",{"$f":"IF(COUNTIF(BK$2:BK53,BK53)=1,BK53,\"\")","v":""},"","","","",null,{"$f":"+IF(BW53=\"\",\"\",MAX(BR$1:BR52)+1)","v":""},{"$f":"IF(CMS_Identification!B75=\"\",\"\",CMS_Identification!B75)","v":""},{"$f":"IF(CMS_Identification!C75=\"\",\"\",CMS_Identification!C75)","v":""},{"$f":"IF(CMS_Identification!E75=\"\",\"\",CMS_Identification!E75)","v":""},"",{"$f":"IF(COUNTIF(BV$2:BV53,BV53)=1,BV53,\"\")","v":""},"","","",""]
[{"$f":"+IF(D54=\"\",\"\",MAX(A$1:A53)+1)","v":""},{"$f":"IF(Affected_Sources!C76=\"\",\"\",Affected_Sources!C76)","v":""},"",{"$f":"IF(COUNTIF(B$2:B54,B54)=1,B54,\"\")","v":""},null,null,null,null,null,null,{"$f":"+IF(N54=\"\",\"\",MAX(K$1:K53)+1)","v":""},{"$f":"IF(CMS_Identification!E76=\"\",\"\",CMS_Identification!E76)","v":""},"",{"$f":"IF(COUNTIF(L$2:L54,L54)=1,L54,\"\")","v":""},null,null,null,null,null,{"$f":"+IF(Y54=\"\",\"\",MAX(T$1:T53)+1)","v":""},{"$f":"IF(Limit_Deviation_Detail!B76=\"\",\"\",Limit_Deviation_Detail!B76)","v":""},{"$f":"IF(Limit_Deviation_Detail!C76=\"\",\"\",Limit_Deviation_Detail!C76)","v":""},{"$f":"IF(Limit_Deviation_Detail!E76=\"\",\"\",Limit_Deviation_Detail!E76)","v":""},"",{"$f":"IF(COUNTIF(X$2:X54,X54)=1,X54,\"\")","v":""},"","","","","",null,null,"WA",null,{"$f":"IF(COUNTIF(AM$2:AM54,AM54)=1,AM54,\"\")","v":""},{"$f":"IF(CMS_Deviation_Detail!B76=\"\",\"\",CMS_Deviation_Detail!B76)","v":""},{"$f":"IF(CMS_Deviation_Detail!C76=\"\",\"\",CMS_Deviation_Detail!C76)","v":""},{"$f":"IF(CMS_Deviation_Detail!D76=\"\",\"\",CMS_Deviation_Detail!D76)","v":""},"",{"$f":"+IF(AI54=\"\",\"\",MAX(AN$1:AN53)+1)","v":""},"","","","","","",null,{"$f":"IF(COUNTIF(AZ$2:AZ54,AZ54)=1,AZ54,\"\")","v":""},{"$f":"IF(Limit_Deviation_Detail!B76=\"\",\"\",Limit_Deviation_Detail!B76)","v":""},{"$f":"IF(Limit_Deviation_Detail!C76=\"\",\"\",Limit_Deviation_Detail!C76)","v":""},{"$f":"IF(Limit_Deviation_Detail!E76=\"\",\"\",Limit_Deviation_Detail!E76)","v":""},"",{"$f":"+IF(AV54=\"\",\"\",MAX(BA$1:BA53)+1)","v":""},"","","","",null,{"$f":"+IF(BL54=\"\",\"\",MAX(BG$1:BG53)+1)","v":""},{"$f":"IF(Affected_Sources!B76=\"\",\"\",Affected_Sources!B76)","v":""},{"$f":"IF(Affected_Sources!C76=\"\",\"\",Affected_Sources!C76)","v":""},{"$f":"IF(Affected_Sources!D76=\"\",\"\",Affected_Sources!D76)","v":""},"",{"$f":"IF(COUNTIF(BK$2:BK54,BK54)=1,BK54,\"\")","v":""},"","","","",null,{"$f":"+IF(BW54=\"\",\"\",MAX(BR$1:BR53)+1)","v":""},{"$f":"IF(CMS_Identification!B76=\"\",\"\",CMS_Identification!B76)","v":""},{"$f":"IF(CMS_Identification!C76=\"\",\"\",CMS_Identification!C76)","v":""},{"$f":"IF(CMS_Identification!E76=\"\",\"\",CMS_Identification!E76)","v":""},"",{"$f":"IF(COUNTIF(BV$2:BV54,BV54)=1,BV54,\"\")","v":""},"","","",""]
[{"$f":"+IF(D55=\"\",\"\",MAX(A$1:A54)+1)","v":""},{"$f":"IF(Affected_Sources!C77=\"\",\"\",Affected_Sources!C77)","v":""},"",{"$f":"IF(COUNTIF(B$2:B55,B55)=1,B55,\"\")","v":""},null,null,null,null,null,null,{"$f":"+IF(N55=\"\",\"\",MAX(K$1:K54)+1)","v":""},{"$f":"IF(CMS_Identification!E77=\"\",\"\",CMS_Identification!E77)","v":""},"",{"$f":"IF(COUNTIF(L$2:L55,L55)=1,L55,\"\")","v":""},null,null,null,null,null,{"$f":"+IF(Y55=\"\",\"\",MAX(T$1:T54)+1)","v":""},{"$f":"IF(Limit_Deviation_Detail!B77=\"\",\"\",Limit_Deviation_Detail!B77)","v":""},{"$f":"IF(Limit_Deviation_Detail!C77=\"\",\"\",Limit_Deviation_Detail!C77)","v":""},{"$f":"IF(Limit_Deviation_Detail!E77=\"\",\"\",Limit_Deviation_Detail!E77)","v":""},"",{"$f":"IF(COUNTIF(X$2:X55,X55)=1,X55,\"\")","v":""},"","","","","",null,null,"WI",null,{"$f":"IF(COUNTIF(AM$2:AM55,AM55)=1,AM55,\"\")","v":""},{"$f":"IF(CMS_Deviation_Detail!B77=\"\",\"\",CMS_Deviation_Detail!B77)","v":""},{"$f":"IF(CMS_Deviation_Detail!C77=\"\",\"\",CMS_Deviation_Detail!C77)","v":""},{"$f":"IF(CMS_Deviation_Detail!D77=\"\",\"\",CMS_Deviation_Detail!D77)","v":""},"",{"$f":"+IF(AI55=\"\",\"\",MAX(AN$1:AN54)+1)","v":""},"","","","","","",null,{"$f":"IF(COUNTIF(AZ$2:AZ55,AZ55)=1,AZ55,\"\")","v":""},{"$f":"IF(Limit_Deviation_Detail!B77=\"\",\"\",Limit_Deviation_Detail!B77)","v":""},{"$f":"IF(Limit_Deviation_Detail!C77=\"\",\"\",Limit_Deviation_Detail!C77)","v":""},{"$f":"IF(Limit_Deviation_Detail!E77=\"\",\"\",Limit_Deviation_Detail!E77)","v":""},"",{"$f":"+IF(AV55=\"\",\"\",MAX(BA$1:BA54)+1)","v":""},"","","","",null,{"$f":"+IF(BL55=\"\",\"\",MAX(BG$1:BG54)+1)","v":""},{"$f":"IF(Affected_Sources!B77=\"\",\"\",Affected_Sources!B77)","v":""},{"$f":"IF(Affected_Sources!C77=\"\",\"\",Affected_Sources!C77)","v":""},{"$f":"IF(Affected_Sources!D77=\"\",\"\",Affected_Sources!D77)","v":""},"",{"$f":"IF(COUNTIF(BK$2:BK55,BK55)=1,BK55,\"\")","v":""},"","","","",null,{"$f":"+IF(BW55=\"\",\"\",MAX(BR$1:BR54)+1)","v":""},{"$f":"IF(CMS_Identification!B77=\"\",\"\",CMS_Identification!B77)","v":""},{"$f":"IF(CMS_Identification!C77=\"\",\"\",CMS_Identification!C77)","v":""},{"$f":"IF(CMS_Identification!E77=\"\",\"\",CMS_Identification!E77)","v":""},"",{"$f":"IF(COUNTIF(BV$2:BV55,BV55)=1,BV55,\"\")","v":""},"","","",""]
[{"$f":"+IF(D56=\"\",\"\",MAX(A$1:A55)+1)","v":""},{"$f":"IF(Affected_Sources!C78=\"\",\"\",Affected_Sources!C78)","v":""},"",{"$f":"IF(COUNTIF(B$2:B56,B56)=1,B56,\"\")","v":""},null,null,null,null,null,null,{"$f":"+IF(N56=\"\",\"\",MAX(K$1:K55)+1)","v":""},{"$f":"IF(CMS_Identification!E78=\"\",\"\",CMS_Identification!E78)","v":""},"",{"$f":"IF(COUNTIF(L$2:L56,L56)=1,L56,\"\")","v":""},null,null,null,null,null,{"$f":"+IF(Y56=\"\",\"\",MAX(T$1:T55)+1)","v":""},{"$f":"IF(Limit_Deviation_Detail!B78=\"\",\"\",Limit_Deviation_Detail!B78)","v":""},{"$f":"IF(Limit_Deviation_Detail!C78=\"\",\"\",Limit_Deviation_Detail!C78)","v":""},{"$f":"IF(Limit_Deviation_Detail!E78=\"\",\"\",Limit_Deviation_Detail!E78)","v":""},"",{"$f":"IF(COUNTIF(X$2:X56,X56)=1,X56,\"\")","v":""},"","","","","",null,null,"WV",null,{"$f":"IF(COUNTIF(AM$2:AM56,AM56)=1,AM56,\"\")","v":""},{"$f":"IF(CMS_Deviation_Detail!B78=\"\",\"\",CMS_Deviation_Detail!B78)","v":""},{"$f":"IF(CMS_Deviation_Detail!C78=\"\",\"\",CMS_Deviation_Detail!C78)","v":""},{"$f":"IF(CMS_Deviation_Detail!D78=\"\",\"\",CMS_Deviation_Detail!D78)","v":""},"",{"$f":"+IF(AI56=\"\",\"\",MAX(AN$1:AN55)+1)","v":""},"","","","","","",null,{"$f":"IF(COUNTIF(AZ$2:AZ56,AZ56)=1,AZ56,\"\")","v":""},{"$f":"IF(Limit_Deviation_Detail!B78=\"\",\"\",Limit_Deviation_Detail!B78)","v":""},{"$f":"IF(Limit_Deviation_Detail!C78=\"\",\"\",Limit_Deviation_Detail!C78)","v":""},{"$f":"IF(Limit_Deviation_Detail!E78=\"\",\"\",Limit_Deviation_Detail!E78)","v":""},"",{"$f":"+IF(AV56=\"\",\"\",MAX(BA$1:BA55)+1)","v":""},"","","","",null,{"$f":"+IF(BL56=\"\",\"\",MAX(BG$1:BG55)+1)","v":""},{"$f":"IF(Affected_Sources!B78=\"\",\"\",Affected_Sources!B78)","v":""},{"$f":"IF(Affected_Sources!C78=\"\",\"\",Affected_Sources!C78)","v":""},{"$f":"IF(Affected_Sources!D78=\"\",\"\",Affected_Sources!D78)","v":""},"",{"$f":"IF(COUNTIF(BK$2:BK56,BK56)=1,BK56,\"\")","v":""},"","","","",null,{"$f":"+IF(BW56=\"\",\"\",MAX(BR$1:BR55)+1)","v":""},{"$f":"IF(CMS_Identification!B78=\"\",\"\",CMS_Identification!B78)","v":""},{"$f":"IF(CMS_Identification!C78=\"\",\"\",CMS_Identification!C78)","v":""},{"$f":"IF(CMS_Identification!E78=\"\",\"\",CMS_Identification!E78)","v":""},"",{"$f":"IF(COUNTIF(BV$2:BV56,BV56)=1,BV56,\"\")","v":""},"","","",""]
[{"$f":"+IF(D57=\"\",\"\",MAX(A$1:A56)+1)","v":""},{"$f":"IF(Affected_Sources!C79=\"\",\"\",Affected_Sources!C79)","v":""},"",{"$f":"IF(COUNTIF(B$2:B57,B57)=1,B57,\"\")","v":""},null,null,null,null,null,null,{"$f":"+IF(N57=\"\",\"\",MAX(K$1:K56)+1)","v":""},{"$f":"IF(CMS_Identification!E79=\"\",\"\",CMS_Identification!E79)","v":""},"",{"$f":"IF(COUNTIF(L$2:L57,L57)=1,L57,\"\")","v":""},null,null,null,null,null,{"$f":"+IF(Y57=\"\",\"\",MAX(T$1:T56)+1)","v":""},{"$f":"IF(Limit_Deviation_Detail!B79=\"\",\"\",Limit_Deviation_Detail!B79)","v":""},{"$f":"IF(Limit_Deviation_Detail!C79=\"\",\"\",Limit_Deviation_Detail!C79)","v":""},{"$f":"IF(Limit_Deviation_Detail!E79=\"\",\"\",Limit_Deviation_Detail!E79)","v":""},"",{"$f":"IF(COUNTIF(X$2:X57,X57)=1,X57,\"\")","v":""},"","","","","",null,null,"WY",null,{"$f":"IF(COUNTIF(AM$2:AM57,AM57)=1,AM57,\"\")","v":""},{"$f":"IF(CMS_Deviation_Detail!B79=\"\",\"\",CMS_Deviation_Detail!B79)","v":""},{"$f":"IF(CMS_Deviation_Detail!C79=\"\",\"\",CMS_Deviation_Detail!C79)","v":""},{"$f":"IF(CMS_Deviation_Detail!D79=\"\",\"\",CMS_Deviation_Detail!D79)","v":""},"",{"$f":"+IF(AI57=\"\",\"\",MAX(AN$1:AN56)+1)","v":""},"","","","","","",null,{"$f":"IF(COUNTIF(AZ$2:AZ57,AZ57)=1,AZ57,\"\")","v":""},{"$f":"IF(Limit_Deviation_Detail!B79=\"\",\"\",Limit_Deviation_Detail!B79)","v":""},{"$f":"IF(Limit_Deviation_Detail!C79=\"\",\"\",Limit_Deviation_Detail!C79)","v":""},{"$f":"IF(Limit_Deviation_Detail!E79=\"\",\"\",Limit_Deviation_Detail!E79)","v":""},"",{"$f":"+IF(AV57=\"\",\"\",MAX(BA$1:BA56)+1)","v":""},"","","","",null,{"$f":"+IF(BL57=\"\",\"\",MAX(BG$1:BG56)+1)","v":""},{"$f":"IF(Affected_Sources!B79=\"\",\"\",Affected_Sources!B79)","v":""},{"$f":"IF(Affected_Sources!C79=\"\",\"\",Affected_Sources!C79)","v":""},{"$f":"IF(Affected_Sources!D79=\"\",\"\",Affected_Sources!D79)","v":""},"",{"$f":"IF(COUNTIF(BK$2:BK57,BK57)=1,BK57,\"\")","v":""},"","","","",null,{"$f":"+IF(BW57=\"\",\"\",MAX(BR$1:BR56)+1)","v":""},{"$f":"IF(CMS_Identification!B79=\"\",\"\",CMS_Identification!B79)","v":""},{"$f":"IF(CMS_Identification!C79=\"\",\"\",CMS_Identification!C79)","v":""},{"$f":"IF(CMS_Identification!E79=\"\",\"\",CMS_Identification!E79)","v":""},"",{"$f":"IF(COUNTIF(BV$2:BV57,BV57)=1,BV57,\"\")","v":""},"","","",""]
[{"$f":"+IF(D58=\"\",\"\",MAX(A$1:A57)+1)","v":""},{"$f":"IF(Affected_Sources!C80=\"\",\"\",Affected_Sources!C80)","v":""},"",{"$f":"IF(COUNTIF(B$2:B58,B58)=1,B58,\"\")","v":""},null,null,null,null,null,null,{"$f":"+IF(N58=\"\",\"\",MAX(K$1:K57)+1)","v":""},{"$f":"IF(CMS_Identification!E80=\"\",\"\",CMS_Identification!E80)","v":""},"",{"$f":"IF(COUNTIF(L$2:L58,L58)=1,L58,\"\")","v":""},null,null,null,null,null,{"$f":"+IF(Y58=\"\",\"\",MAX(T$1:T57)+1)","v":""},{"$f":"IF(Limit_Deviation_Detail!B80=\"\",\"\",Limit_Deviation_Detail!B80)","v":""},{"$f":"IF(Limit_Deviation_Detail!C80=\"\",\"\",Limit_Deviation_Detail!C80)","v":""},{"$f":"IF(Limit_Deviation_Detail!E80=\"\",\"\",Limit_Deviation_Detail!E80)","v":""},"",{"$f":"IF(COUNTIF(X$2:X58,X58)=1,X58,\"\")","v":""},"","","","","",null,null,null,null,{"$f":"IF(COUNTIF(AM$2:AM58,AM58)=1,AM58,\"\")","v":""},{"$f":"IF(CMS_Deviation_Detail!B80=\"\",\"\",CMS_Deviation_Detail!B80)","v":""},{"$f":"IF(CMS_Deviation_Detail!C80=\"\",\"\",CMS_Deviation_Detail!C80)","v":""},{"$f":"IF(CMS_Deviation_Detail!D80=\"\",\"\",CMS_Deviation_Detail!D80)","v":""},"",{"$f":"+IF(AI58=\"\",\"\",MAX(AN$1:AN57)+1)","v":""},"","","","","","",null,{"$f":"IF(COUNTIF(AZ$2:AZ58,AZ58)=1,AZ58,\"\")","v":""},{"$f":"IF(Limit_Deviation_Detail!B80=\"\",\"\",Limit_Deviation_Detail!B80)","v":""},{"$f":"IF(Limit_Deviation_Detail!C80=\"\",\"\",Limit_Deviation_Detail!C80)","v":""},{"$f":"IF(Limit_Deviation_Detail!E80=\"\",\"\",Limit_Deviation_Detail!E80)","v":""},"",{"$f":"+IF(AV58=\"\",\"\",MAX(BA$1:BA57)+1)","v":""},"","","","",null,{"$f":"+IF(BL58=\"\",\"\",MAX(BG$1:BG57)+1)","v":""},{"$f":"IF(Affected_Sources!B80=\"\",\"\",Affected_Sources!B80)","v":""},{"$f":"IF(Affected_Sources!C80=\"\",\"\",Affected_Sources!C80)","v":""},{"$f":"IF(Affected_Sources!D80=\"\",\"\",Affected_Sources!D80)","v":""},"",{"$f":"IF(COUNTIF(BK$2:BK58,BK58)=1,BK58,\"\")","v":""},"","","","",null,{"$f":"+IF(BW58=\"\",\"\",MAX(BR$1:BR57)+1)","v":""},{"$f":"IF(CMS_Identification!B80=\"\",\"\",CMS_Identification!B80)","v":""},{"$f":"IF(CMS_Identification!C80=\"\",\"\",CMS_Identification!C80)","v":""},{"$f":"IF(CMS_Identification!E80=\"\",\"\",CMS_Identification!E80)","v":""},"",{"$f":"IF(COUNTIF(BV$2:BV58,BV58)=1,BV58,\"\")","v":""},"","","",""]
[{"$f":"+IF(D59=\"\",\"\",MAX(A$1:A58)+1)","v":""},{"$f":"IF(Affected_Sources!C81=\"\",\"\",Affected_Sources!C81)","v":""},"",{"$f":"IF(COUNTIF(B$2:B59,B59)=1,B59,\"\")","v":""},null,null,null,null,null,null,{"$f":"+IF(N59=\"\",\"\",MAX(K$1:K58)+1)","v":""},{"$f":"IF(CMS_Identification!E81=\"\",\"\",CMS_Identification!E81)","v":""},"",{"$f":"IF(COUNTIF(L$2:L59,L59)=1,L59,\"\")","v":""},null,null,null,null,null,{"$f":"+IF(Y59=\"\",\"\",MAX(T$1:T58)+1)","v":""},{"$f":"IF(Limit_Deviation_Detail!B81=\"\",\"\",Limit_Deviation_Detail!B81)","v":""},{"$f":"IF(Limit_Deviation_Detail!C81=\"\",\"\",Limit_Deviation_Detail!C81)","v":""},{"$f":"IF(Limit_Deviation_Detail!E81=\"\",\"\",Limit_Deviation_Detail!E81)","v":""},"",{"$f":"IF(COUNTIF(X$2:X59,X59)=1,X59,\"\")","v":""},"","","","","",null,null,null,null,{"$f":"IF(COUNTIF(AM$2:AM59,AM59)=1,AM59,\"\")","v":""},{"$f":"IF(CMS_Deviation_Detail!B81=\"\",\"\",CMS_Deviation_Detail!B81)","v":""},{"$f":"IF(CMS_Deviation_Detail!C81=\"\",\"\",CMS_Deviation_Detail!C81)","v":""},{"$f":"IF(CMS_Deviation_Detail!D81=\"\",\"\",CMS_Deviation_Detail!D81)","v":""},"",{"$f":"+IF(AI59=\"\",\"\",MAX(AN$1:AN58)+1)","v":""},"","","","","","",null,{"$f":"IF(COUNTIF(AZ$2:AZ59,AZ59)=1,AZ59,\"\")","v":""},{"$f":"IF(Limit_Deviation_Detail!B81=\"\",\"\",Limit_Deviation_Detail!B81)","v":""},{"$f":"IF(Limit_Deviation_Detail!C81=\"\",\"\",Limit_Deviation_Detail!C81)","v":""},{"$f":"IF(Limit_Deviation_Detail!E81=\"\",\"\",Limit_Deviation_Detail!E81)","v":""},"",{"$f":"+IF(AV59=\"\",\"\",MAX(BA$1:BA58)+1)","v":""},"","","","",null,{"$f":"+IF(BL59=\"\",\"\",MAX(BG$1:BG58)+1)","v":""},{"$f":"IF(Affected_Sources!B81=\"\",\"\",Affected_Sources!B81)","v":""},{"$f":"IF(Affected_Sources!C81=\"\",\"\",Affected_Sources!C81)","v":""},{"$f":"IF(Affected_Sources!D81=\"\",\"\",Affected_Sources!D81)","v":""},"",{"$f":"IF(COUNTIF(BK$2:BK59,BK59)=1,BK59,\"\")","v":""},"","","","",null,{"$f":"+IF(BW59=\"\",\"\",MAX(BR$1:BR58)+1)","v":""},{"$f":"IF(CMS_Identification!B81=\"\",\"\",CMS_Identification!B81)","v":""},{"$f":"IF(CMS_Identification!C81=\"\",\"\",CMS_Identification!C81)","v":""},{"$f":"IF(CMS_Identification!E81=\"\",\"\",CMS_Identification!E81)","v":""},"",{"$f":"IF(COUNTIF(BV$2:BV59,BV59)=1,BV59,\"\")","v":""},"","","",""]
[{"$f":"+IF(D60=\"\",\"\",MAX(A$1:A59)+1)","v":""},{"$f":"IF(Affected_Sources!C82=\"\",\"\",Affected_Sources!C82)","v":""},"",{"$f":"IF(COUNTIF(B$2:B60,B60)=1,B60,\"\")","v":""},null,null,null,null,null,null,{"$f":"+IF(N60=\"\",\"\",MAX(K$1:K59)+1)","v":""},{"$f":"IF(CMS_Identification!E82=\"\",\"\",CMS_Identification!E82)","v":""},"",{"$f":"IF(COUNTIF(L$2:L60,L60)=1,L60,\"\")","v":""},null,null,null,null,null,{"$f":"+IF(Y60=\"\",\"\",MAX(T$1:T59)+1)","v":""},{"$f":"IF(Limit_Deviation_Detail!B82=\"\",\"\",Limit_Deviation_Detail!B82)","v":""},{"$f":"IF(Limit_Deviation_Detail!C82=\"\",\"\",Limit_Deviation_Detail!C82)","v":""},{"$f":"IF(Limit_Deviation_Detail!E82=\"\",\"\",Limit_Deviation_Detail!E82)","v":""},"",{"$f":"IF(COUNTIF(X$2:X60,X60)=1,X60,\"\")","v":""},"","","","","",null,null,null,null,{"$f":"IF(COUNTIF(AM$2:AM60,AM60)=1,AM60,\"\")","v":""},{"$f":"IF(CMS_Deviation_Detail!B82=\"\",\"\",CMS_Deviation_Detail!B82)","v":""},{"$f":"IF(CMS_Deviation_Detail!C82=\"\",\"\",CMS_Deviation_Detail!C82)","v":""},{"$f":"IF(CMS_Deviation_Detail!D82=\"\",\"\",CMS_Deviation_Detail!D82)","v":""},"",{"$f":"+IF(AI60=\"\",\"\",MAX(AN$1:AN59)+1)","v":""},"","","","","","",null,{"$f":"IF(COUNTIF(AZ$2:AZ60,AZ60)=1,AZ60,\"\")","v":""},{"$f":"IF(Limit_Deviation_Detail!B82=\"\",\"\",Limit_Deviation_Detail!B82)","v":""},{"$f":"IF(Limit_Deviation_Detail!C82=\"\",\"\",Limit_Deviation_Detail!C82)","v":""},{"$f":"IF(Limit_Deviation_Detail!E82=\"\",\"\",Limit_Deviation_Detail!E82)","v":""},"",{"$f":"+IF(AV60=\"\",\"\",MAX(BA$1:BA59)+1)","v":""},"","","","",null,{"$f":"+IF(BL60=\"\",\"\",MAX(BG$1:BG59)+1)","v":""},{"$f":"IF(Affected_Sources!B82=\"\",\"\",Affected_Sources!B82)","v":""},{"$f":"IF(Affected_Sources!C82=\"\",\"\",Affected_Sources!C82)","v":""},{"$f":"IF(Affected_Sources!D82=\"\",\"\",Affected_Sources!D82)","v":""},"",{"$f":"IF(COUNTIF(BK$2:BK60,BK60)=1,BK60,\"\")","v":""},"","","","",null,{"$f":"+IF(BW60=\"\",\"\",MAX(BR$1:BR59)+1)","v":""},{"$f":"IF(CMS_Identification!B82=\"\",\"\",CMS_Identification!B82)","v":""},{"$f":"IF(CMS_Identification!C82=\"\",\"\",CMS_Identification!C82)","v":""},{"$f":"IF(CMS_Identification!E82=\"\",\"\",CMS_Identification!E82)","v":""},"",{"$f":"IF(COUNTIF(BV$2:BV60,BV60)=1,BV60,\"\")","v":""},"","","",""]
[{"$f":"+IF(D61=\"\",\"\",MAX(A$1:A60)+1)","v":""},{"$f":"IF(Affected_Sources!C83=\"\",\"\",Affected_Sources!C83)","v":""},"",{"$f":"IF(COUNTIF(B$2:B61,B61)=1,B61,\"\")","v":""},null,null,null,null,null,null,{"$f":"+IF(N61=\"\",\"\",MAX(K$1:K60)+1)","v":""},{"$f":"IF(CMS_Identification!E83=\"\",\"\",CMS_Identification!E83)","v":""},"",{"$f":"IF(COUNTIF(L$2:L61,L61)=1,L61,\"\")","v":""},null,null,null,null,null,{"$f":"+IF(Y61=\"\",\"\",MAX(T$1:T60)+1)","v":""},{"$f":"IF(Limit_Deviation_Detail!B83=\"\",\"\",Limit_Deviation_Detail!B83)","v":""},{"$f":"IF(Limit_Deviation_Detail!C83=\"\",\"\",Limit_Deviation_Detail!C83)","v":""},{"$f":"IF(Limit_Deviation_Detail!E83=\"\",\"\",Limit_Deviation_Detail!E83)","v":""},"",{"$f":"IF(COUNTIF(X$2:X61,X61)=1,X61,\"\")","v":""},"","","","","",null,null,null,null,{"$f":"IF(COUNTIF(AM$2:AM61,AM61)=1,AM61,\"\")","v":""},{"$f":"IF(CMS_Deviation_Detail!B83=\"\",\"\",CMS_Deviation_Detail!B83)","v":""},{"$f":"IF(CMS_Deviation_Detail!C83=\"\",\"\",CMS_Deviation_Detail!C83)","v":""},{"$f":"IF(CMS_Deviation_Detail!D83=\"\",\"\",CMS_Deviation_Detail!D83)","v":""},"",{"$f":"+IF(AI61=\"\",\"\",MAX(AN$1:AN60)+1)","v":""},"","","","","","",null,{"$f":"IF(COUNTIF(AZ$2:AZ61,AZ61)=1,AZ61,\"\")","v":""},{"$f":"IF(Limit_Deviation_Detail!B83=\"\",\"\",Limit_Deviation_Detail!B83)","v":""},{"$f":"IF(Limit_Deviation_Detail!C83=\"\",\"\",Limit_Deviation_Detail!C83)","v":""},{"$f":"IF(Limit_Deviation_Detail!E83=\"\",\"\",Limit_Deviation_Detail!E83)","v":""},"",{"$f":"+IF(AV61=\"\",\"\",MAX(BA$1:BA60)+1)","v":""},"","","","",null,{"$f":"+IF(BL61=\"\",\"\",MAX(BG$1:BG60)+1)","v":""},{"$f":"IF(Affected_Sources!B83=\"\",\"\",Affected_Sources!B83)","v":""},{"$f":"IF(Affected_Sources!C83=\"\",\"\",Affected_Sources!C83)","v":""},{"$f":"IF(Affected_Sources!D83=\"\",\"\",Affected_Sources!D83)","v":""},"",{"$f":"IF(COUNTIF(BK$2:BK61,BK61)=1,BK61,\"\")","v":""},"","","","",null,{"$f":"+IF(BW61=\"\",\"\",MAX(BR$1:BR60)+1)","v":""},{"$f":"IF(CMS_Identification!B83=\"\",\"\",CMS_Identification!B83)","v":""},{"$f":"IF(CMS_Identification!C83=\"\",\"\",CMS_Identification!C83)","v":""},{"$f":"IF(CMS_Identification!E83=\"\",\"\",CMS_Identification!E83)","v":""},"",{"$f":"IF(COUNTIF(BV$2:BV61,BV61)=1,BV61,\"\")","v":""},"","","",""]
[{"$f":"+IF(D62=\"\",\"\",MAX(A$1:A61)+1)","v":""},{"$f":"IF(Affected_Sources!C84=\"\",\"\",Affected_Sources!C84)","v":""},"",{"$f":"IF(COUNTIF(B$2:B62,B62)=1,B62,\"\")","v":""},null,null,null,null,null,null,{"$f":"+IF(N62=\"\",\"\",MAX(K$1:K61)+1)","v":""},{"$f":"IF(CMS_Identification!E84=\"\",\"\",CMS_Identification!E84)","v":""},"",{"$f":"IF(COUNTIF(L$2:L62,L62)=1,L62,\"\")","v":""},null,null,null,null,null,{"$f":"+IF(Y62=\"\",\"\",MAX(T$1:T61)+1)","v":""},{"$f":"IF(Limit_Deviation_Detail!B84=\"\",\"\",Limit_Deviation_Detail!B84)","v":""},{"$f":"IF(Limit_Deviation_Detail!C84=\"\",\"\",Limit_Deviation_Detail!C84)","v":""},{"$f":"IF(Limit_Deviation_Detail!E84=\"\",\"\",Limit_Deviation_Detail!E84)","v":""},"",{"$f":"IF(COUNTIF(X$2:X62,X62)=1,X62,\"\")","v":""},"","","","","",null,null,null,null,{"$f":"IF(COUNTIF(AM$2:AM62,AM62)=1,AM62,\"\")","v":""},{"$f":"IF(CMS_Deviation_Detail!B84=\"\",\"\",CMS_Deviation_Detail!B84)","v":""},{"$f":"IF(CMS_Deviation_Detail!C84=\"\",\"\",CMS_Deviation_Detail!C84)","v":""},{"$f":"IF(CMS_Deviation_Detail!D84=\"\",\"\",CMS_Deviation_Detail!D84)","v":""},"",{"$f":"+IF(AI62=\"\",\"\",MAX(AN$1:AN61)+1)","v":""},"","","","","","",null,{"$f":"IF(COUNTIF(AZ$2:AZ62,AZ62)=1,AZ62,\"\")","v":""},{"$f":"IF(Limit_Deviation_Detail!B84=\"\",\"\",Limit_Deviation_Detail!B84)","v":""},{"$f":"IF(Limit_Deviation_Detail!C84=\"\",\"\",Limit_Deviation_Detail!C84)","v":""},{"$f":"IF(Limit_Deviation_Detail!E84=\"\",\"\",Limit_Deviation_Detail!E84)","v":""},"",{"$f":"+IF(AV62=\"\",\"\",MAX(BA$1:BA61)+1)","v":""},"","","","",null,{"$f":"+IF(BL62=\"\",\"\",MAX(BG$1:BG61)+1)","v":""},{"$f":"IF(Affected_Sources!B84=\"\",\"\",Affected_Sources!B84)","v":""},{"$f":"IF(Affected_Sources!C84=\"\",\"\",Affected_Sources!C84)","v":""},{"$f":"IF(Affected_Sources!D84=\"\",\"\",Affected_Sources!D84)","v":""},"",{"$f":"IF(COUNTIF(BK$2:BK62,BK62)=1,BK62,\"\")","v":""},"","","","",null,{"$f":"+IF(BW62=\"\",\"\",MAX(BR$1:BR61)+1)","v":""},{"$f":"IF(CMS_Identification!B84=\"\",\"\",CMS_Identification!B84)","v":""},{"$f":"IF(CMS_Identification!C84=\"\",\"\",CMS_Identification!C84)","v":""},{"$f":"IF(CMS_Identification!E84=\"\",\"\",CMS_Identification!E84)","v":""},"",{"$f":"IF(COUNTIF(BV$2:BV62,BV62)=1,BV62,\"\")","v":""},"","","",""]
[{"$f":"+IF(D63=\"\",\"\",MAX(A$1:A62)+1)","v":""},{"$f":"IF(Affected_Sources!C85=\"\",\"\",Affected_Sources!C85)","v":""},"",{"$f":"IF(COUNTIF(B$2:B63,B63)=1,B63,\"\")","v":""},null,null,null,null,null,null,{"$f":"+IF(N63=\"\",\"\",MAX(K$1:K62)+1)","v":""},{"$f":"IF(CMS_Identification!E85=\"\",\"\",CMS_Identification!E85)","v":""},"",{"$f":"IF(COUNTIF(L$2:L63,L63)=1,L63,\"\")","v":""},null,null,null,null,null,{"$f":"+IF(Y63=\"\",\"\",MAX(T$1:T62)+1)","v":""},{"$f":"IF(Limit_Deviation_Detail!B85=\"\",\"\",Limit_Deviation_Detail!B85)","v":""},{"$f":"IF(Limit_Deviation_Detail!C85=\"\",\"\",Limit_Deviation_Detail!C85)","v":""},{"$f":"IF(Limit_Deviation_Detail!E85=\"\",\"\",Limit_Deviation_Detail!E85)","v":""},"",{"$f":"IF(COUNTIF(X$2:X63,X63)=1,X63,\"\")","v":""},"","","","","",null,null,null,null,{"$f":"IF(COUNTIF(AM$2:AM63,AM63)=1,AM63,\"\")","v":""},{"$f":"IF(CMS_Deviation_Detail!B85=\"\",\"\",CMS_Deviation_Detail!B85)","v":""},{"$f":"IF(CMS_Deviation_Detail!C85=\"\",\"\",CMS_Deviation_Detail!C85)","v":""},{"$f":"IF(CMS_Deviation_Detail!D85=\"\",\"\",CMS_Deviation_Detail!D85)","v":""},"",{"$f":"+IF(AI63=\"\",\"\",MAX(AN$1:AN62)+1)","v":""},"","","","","","",null,{"$f":"IF(COUNTIF(AZ$2:AZ63,AZ63)=1,AZ63,\"\")","v":""},{"$f":"IF(Limit_Deviation_Detail!B85=\"\",\"\",Limit_Deviation_Detail!B85)","v":""},{"$f":"IF(Limit_Deviation_Detail!C85=\"\",\"\",Limit_Deviation_Detail!C85)","v":""},{"$f":"IF(Limit_Deviation_Detail!E85=\"\",\"\",Limit_Deviation_Detail!E85)","v":""},"",{"$f":"+IF(AV63=\"\",\"\",MAX(BA$1:BA62)+1)","v":""},"","","","",null,{"$f":"+IF(BL63=\"\",\"\",MAX(BG$1:BG62)+1)","v":""},{"$f":"IF(Affected_Sources!B85=\"\",\"\",Affected_Sources!B85)","v":""},{"$f":"IF(Affected_Sources!C85=\"\",\"\",Affected_Sources!C85)","v":""},{"$f":"IF(Affected_Sources!D85=\"\",\"\",Affected_Sources!D85)","v":""},"",{"$f":"IF(COUNTIF(BK$2:BK63,BK63)=1,BK63,\"\")","v":""},"","","","",null,{"$f":"+IF(BW63=\"\",\"\",MAX(BR$1:BR62)+1)","v":""},{"$f":"IF(CMS_Identification!B85=\"\",\"\",CMS_Identification!B85)","v":""},{"$f":"IF(CMS_Identification!C85=\"\",\"\",CMS_Identification!C85)","v":""},{"$f":"IF(CMS_Identification!E85=\"\",\"\",CMS_Identification!E85)","v":""},"",{"$f":"IF(COUNTIF(BV$2:BV63,BV63)=1,BV63,\"\")","v":""},"","","",""]
[{"$f":"+IF(D64=\"\",\"\",MAX(A$1:A63)+1)","v":""},{"$f":"IF(Affected_Sources!C86=\"\",\"\",Affected_Sources!C86)","v":""},"",{"$f":"IF(COUNTIF(B$2:B64,B64)=1,B64,\"\")","v":""},null,null,null,null,null,null,{"$f":"+IF(N64=\"\",\"\",MAX(K$1:K63)+1)","v":""},{"$f":"IF(CMS_Identification!E86=\"\",\"\",CMS_Identification!E86)","v":""},"",{"$f":"IF(COUNTIF(L$2:L64,L64)=1,L64,\"\")","v":""},null,null,null,null,null,{"$f":"+IF(Y64=\"\",\"\",MAX(T$1:T63)+1)","v":""},{"$f":"IF(Limit_Deviation_Detail!B86=\"\",\"\",Limit_Deviation_Detail!B86)","v":""},{"$f":"IF(Limit_Deviation_Detail!C86=\"\",\"\",Limit_Deviation_Detail!C86)","v":""},{"$f":"IF(Limit_Deviation_Detail!E86=\"\",\"\",Limit_Deviation_Detail!E86)","v":""},"",{"$f":"IF(COUNTIF(X$2:X64,X64)=1,X64,\"\")","v":""},"","","","","",null,null,null,null,{"$f":"IF(COUNTIF(AM$2:AM64,AM64)=1,AM64,\"\")","v":""},{"$f":"IF(CMS_Deviation_Detail!B86=\"\",\"\",CMS_Deviation_Detail!B86)","v":""},{"$f":"IF(CMS_Deviation_Detail!C86=\"\",\"\",CMS_Deviation_Detail!C86)","v":""},{"$f":"IF(CMS_Deviation_Detail!D86=\"\",\"\",CMS_Deviation_Detail!D86)","v":""},"",{"$f":"+IF(AI64=\"\",\"\",MAX(AN$1:AN63)+1)","v":""},"","","","","","",null,{"$f":"IF(COUNTIF(AZ$2:AZ64,AZ64)=1,AZ64,\"\")","v":""},{"$f":"IF(Limit_Deviation_Detail!B86=\"\",\"\",Limit_Deviation_Detail!B86)","v":""},{"$f":"IF(Limit_Deviation_Detail!C86=\"\",\"\",Limit_Deviation_Detail!C86)","v":""},{"$f":"IF(Limit_Deviation_Detail!E86=\"\",\"\",Limit_Deviation_Detail!E86)","v":""},"",{"$f":"+IF(AV64=\"\",\"\",MAX(BA$1:BA63)+1)","v":""},"","","","",null,{"$f":"+IF(BL64=\"\",\"\",MAX(BG$1:BG63)+1)","v":""},{"$f":"IF(Affected_Sources!B86=\"\",\"\",Affected_Sources!B86)","v":""},{"$f":"IF(Affected_Sources!C86=\"\",\"\",Affected_Sources!C86)","v":""},{"$f":"IF(Affected_Sources!D86=\"\",\"\",Affected_Sources!D86)","v":""},"",{"$f":"IF(COUNTIF(BK$2:BK64,BK64)=1,BK64,\"\")","v":""},"","","","",null,{"$f":"+IF(BW64=\"\",\"\",MAX(BR$1:BR63)+1)","v":""},{"$f":"IF(CMS_Identification!B86=\"\",\"\",CMS_Identification!B86)","v":""},{"$f":"IF(CMS_Identification!C86=\"\",\"\",CMS_Identification!C86)","v":""},{"$f":"IF(CMS_Identification!E86=\"\",\"\",CMS_Identification!E86)","v":""},"",{"$f":"IF(COUNTIF(BV$2:BV64,BV64)=1,BV64,\"\")","v":""},"","","",""]
[{"$f":"+IF(D65=\"\",\"\",MAX(A$1:A64)+1)","v":""},{"$f":"IF(Affected_Sources!C87=\"\",\"\",Affected_Sources!C87)","v":""},"",{"$f":"IF(COUNTIF(B$2:B65,B65)=1,B65,\"\")","v":""},null,null,null,null,null,null,{"$f":"+IF(N65=\"\",\"\",MAX(K$1:K64)+1)","v":""},{"$f":"IF(CMS_Identification!E87=\"\",\"\",CMS_Identification!E87)","v":""},"",{"$f":"IF(COUNTIF(L$2:L65,L65)=1,L65,\"\")","v":""},null,null,null,null,null,{"$f":"+IF(Y65=\"\",\"\",MAX(T$1:T64)+1)","v":""},{"$f":"IF(Limit_Deviation_Detail!B87=\"\",\"\",Limit_Deviation_Detail!B87)","v":""},{"$f":"IF(Limit_Deviation_Detail!C87=\"\",\"\",Limit_Deviation_Detail!C87)","v":""},{"$f":"IF(Limit_Deviation_Detail!E87=\"\",\"\",Limit_Deviation_Detail!E87)","v":""},"",{"$f":"IF(COUNTIF(X$2:X65,X65)=1,X65,\"\")","v":""},"","","","","",null,null,null,null,{"$f":"IF(COUNTIF(AM$2:AM65,AM65)=1,AM65,\"\")","v":""},{"$f":"IF(CMS_Deviation_Detail!B87=\"\",\"\",CMS_Deviation_Detail!B87)","v":""},{"$f":"IF(CMS_Deviation_Detail!C87=\"\",\"\",CMS_Deviation_Detail!C87)","v":""},{"$f":"IF(CMS_Deviation_Detail!D87=\"\",\"\",CMS_Deviation_Detail!D87)","v":""},"",{"$f":"+IF(AI65=\"\",\"\",MAX(AN$1:AN64)+1)","v":""},"","","","","","",null,{"$f":"IF(COUNTIF(AZ$2:AZ65,AZ65)=1,AZ65,\"\")","v":""},{"$f":"IF(Limit_Deviation_Detail!B87=\"\",\"\",Limit_Deviation_Detail!B87)","v":""},{"$f":"IF(Limit_Deviation_Detail!C87=\"\",\"\",Limit_Deviation_Detail!C87)","v":""},{"$f":"IF(Limit_Deviation_Detail!E87=\"\",\"\",Limit_Deviation_Detail!E87)","v":""},"",{"$f":"+IF(AV65=\"\",\"\",MAX(BA$1:BA64)+1)","v":""},"","","","",null,{"$f":"+IF(BL65=\"\",\"\",MAX(BG$1:BG64)+1)","v":""},{"$f":"IF(Affected_Sources!B87=\"\",\"\",Affected_Sources!B87)","v":""},{"$f":"IF(Affected_Sources!C87=\"\",\"\",Affected_Sources!C87)","v":""},{"$f":"IF(Affected_Sources!D87=\"\",\"\",Affected_Sources!D87)","v":""},"",{"$f":"IF(COUNTIF(BK$2:BK65,BK65)=1,BK65,\"\")","v":""},"","","","",null,{"$f":"+IF(BW65=\"\",\"\",MAX(BR$1:BR64)+1)","v":""},{"$f":"IF(CMS_Identification!B87=\"\",\"\",CMS_Identification!B87)","v":""},{"$f":"IF(CMS_Identification!C87=\"\",\"\",CMS_Identification!C87)","v":""},{"$f":"IF(CMS_Identification!E87=\"\",\"\",CMS_Identification!E87)","v":""},"",{"$f":"IF(COUNTIF(BV$2:BV65,BV65)=1,BV65,\"\")","v":""},"","","",""]
[{"$f":"+IF(D66=\"\",\"\",MAX(A$1:A65)+1)","v":""},{"$f":"IF(Affected_Sources!C88=\"\",\"\",Affected_Sources!C88)","v":""},{"$f":"+IFERROR(INDEX(B$2:B$501,MATCH(ROW()-ROW($C$1),A$2:A$501,0)),\"\")","v":""},{"$f":"IF(COUNTIF(B$2:B66,B66)=1,B66,\"\")","v":""},null,null,null,null,null,null,{"$f":"+IF(N66=\"\",\"\",MAX(K$1:K65)+1)","v":""},{"$f":"IF(CMS_Identification!E88=\"\",\"\",CMS_Identification!E88)","v":""},"",{"$f":"IF(COUNTIF(L$2:L66,L66)=1,L66,\"\")","v":""},null,null,null,null,null,{"$f":"+IF(Y66=\"\",\"\",MAX(T$1:T65)+1)","v":""},{"$f":"IF(Limit_Deviation_Detail!B88=\"\",\"\",Limit_Deviation_Detail!B88)","v":""},{"$f":"IF(Limit_Deviation_Detail!C88=\"\",\"\",Limit_Deviation_Detail!C88)","v":""},{"$f":"IF(Limit_Deviation_Detail!E88=\"\",\"\",Limit_Deviation_Detail!E88)","v":""},{"$f":"U66&V66&W66","v":""},{"$f":"IF(COUNTIF(X$2:X66,X66)=1,X66,\"\")","v":""},{"$f":"+IFERROR(INDEX(U$2:U$955,MATCH(ROW()-ROW(HU$1),T$2:T$955,0)),\"\")","v":""},{"$f":"+IFERROR(INDEX(V$2:V$955,MATCH(ROW()-ROW(Y$1),T$2:T$955,0)),\"\")","v":""},{"$f":"+IFERROR(INDEX(W$2:W$955,MATCH(ROW()-ROW(Y$1),T$2:T$955,0)),\"\")","v":""},{"$f":"IF(Z66=\"\",\"\",Z66&AA66)","v":""},{"$f":"IF(Z66=\"\",\"\",VLOOKUP(AC66,$BL$2:$BP$78,5,FALSE))","v":""},null,null,null,null,{"$f":"IF(COUNTIF(AM$2:AM66,AM66)=1,AM66,\"\")","v":""},{"$f":"IF(CMS_Deviation_Detail!B88=\"\",\"\",CMS_Deviation_Detail!B88)","v":""},{"$f":"IF(CMS_Deviation_Detail!C88=\"\",\"\",CMS_Deviation_Detail!C88)","v":""},{"$f":"IF(CMS_Deviation_Detail!D88=\"\",\"\",CMS_Deviation_Detail!D88)","v":""},"",{"$f":"+IF(AI66=\"\",\"\",MAX(AN$1:AN65)+1)","v":""},"","","","",{"$f":"IF(AP66=\"\",\"\",AP66&AQ66)","v":""},{"$f":"IF(AP66=\"\",\"\",VLOOKUP(AS66,$BL$2:$BP$78,5,FALSE))","v":""},null,{"$f":"IF(COUNTIF(AZ$2:AZ66,AZ66)=1,AZ66,\"\")","v":""},{"$f":"IF(Limit_Deviation_Detail!B88=\"\",\"\",Limit_Deviation_Detail!B88)","v":""},{"$f":"IF(Limit_Deviation_Detail!C88=\"\",\"\",Limit_Deviation_Detail!C88)","v":""},{"$f":"IF(Limit_Deviation_Detail!E88=\"\",\"\",Limit_Deviation_Detail!E88)","v":""},"",{"$f":"+IF(AV66=\"\",\"\",MAX(BA$1:BA65)+1)","v":""},"","","","",null,{"$f":"+IF(BL66=\"\",\"\",MAX(BG$1:BG65)+1)","v":""},{"$f":"IF(Affected_Sources!B88=\"\",\"\",Affected_Sources!B88)","v":""},{"$f":"IF(Affected_Sources!C88=\"\",\"\",Affected_Sources!C88)","v":""},{"$f":"IF(Affected_Sources!D88=\"\",\"\",Affected_Sources!D88)","v":""},"",{"$f":"IF(COUNTIF(BK$2:BK66,BK66)=1,BK66,\"\")","v":""},{"$f":"IF(BN66=\"\",\"\",BN66&\" \"&BO66)","v":""},"","","",null,{"$f":"+IF(BW66=\"\",\"\",MAX(BR$1:BR65)+1)","v":""},{"$f":"IF(CMS_Identification!B88=\"\",\"\",CMS_Identification!B88)","v":""},{"$f":"IF(CMS_Identification!C88=\"\",\"\",CMS_Identification!C88)","v":""},{"$f":"IF(CMS_Identification!E88=\"\",\"\",CMS_Identification!E88)","v":""},"",{"$f":"IF(COUNTIF(BV$2:BV66,BV66)=1,BV66,\"\")","v":""},"","","",""]
[{"$f":"+IF(D67=\"\",\"\",MAX(A$1:A66)+1)","v":""},{"$f":"IF(Affected_Sources!C89=\"\",\"\",Affected_Sources!C89)","v":""},"",{"$f":"IF(COUNTIF(B$2:B67,B67)=1,B67,\"\")","v":""},null,null,null,null,null,null,{"$f":"+IF(N67=\"\",\"\",MAX(K$1:K66)+1)","v":""},{"$f":"IF(CMS_Identification!E89=\"\",\"\",CMS_Identification!E89)","v":""},{"$f":"+IFERROR(INDEX(L$2:L$501,MATCH(ROW()-ROW($M$1),K$2:K$501,0)),\"\")","v":""},{"$f":"IF(COUNTIF(L$2:L67,L67)=1,L67,\"\")","v":""},null,null,null,null,null,{"$f":"+IF(Y67=\"\",\"\",MAX(T$1:T66)+1)","v":""},{"$f":"IF(Limit_Deviation_Detail!B89=\"\",\"\",Limit_Deviation_Detail!B89)","v":""},{"$f":"IF(Limit_Deviation_Detail!C89=\"\",\"\",Limit_Deviation_Detail!C89)","v":""},{"$f":"IF(Limit_Deviation_Detail!E89=\"\",\"\",Limit_Deviation_Detail!E89)","v":""},"",{"$f":"IF(COUNTIF(X$2:X67,X67)=1,X67,\"\")","v":""},"","","","","",null,null,null,null,{"$f":"IF(COUNTIF(AM$2:AM67,AM67)=1,AM67,\"\")","v":""},{"$f":"IF(CMS_Deviation_Detail!B89=\"\",\"\",CMS_Deviation_Detail!B89)","v":""},{"$f":"IF(CMS_Deviation_Detail!C89=\"\",\"\",CMS_Deviation_Detail!C89)","v":""},{"$f":"IF(CMS_Deviation_Detail!D89=\"\",\"\",CMS_Deviation_Detail!D89)","v":""},{"$f":"IF(AL67=\"\",\"\",AJ67&\" \"&AK67&\" \"&AL67)","v":""},{"$f":"+IF(AI67=\"\",\"\",MAX(AN$1:AN66)+1)","v":""},{"$f":"+IFERROR(INDEX(AI$2:AI$955,MATCH(ROW()-ROW(AI$1),AN$2:AN$955,0)),\"\")","v":""},{"$f":"+IFERROR(INDEX(AJ$2:AJ$955,MATCH(ROW()-ROW(AJ$1),$AN$2:$AN$955,0)),\"\")","v":""},{"$f":"+IFERROR(INDEX(AK$2:AK$955,MATCH(ROW()-ROW(AK$1),$AN$2:$AN$955,0)),\"\")","v":""},{"$f":"+IFERROR(INDEX(AL$2:AL$955,MATCH(ROW()-ROW(AL$1),$AN$2:$AN$955,0)),\"\")","v":""},"","",null,{"$f":"IF(COUNTIF(AZ$2:AZ67,AZ67)=1,AZ67,\"\")","v":""},{"$f":"IF(Limit_Deviation_Detail!B89=\"\",\"\",Limit_Deviation_Detail!B89)","v":""},{"$f":"IF(Limit_Deviation_Detail!C89=\"\",\"\",Limit_Deviation_Detail!C89)","v":""},{"$f":"IF(Limit_Deviation_Detail!E89=\"\",\"\",Limit_Deviation_Detail!E89)","v":""},"",{"$f":"+IF(AV67=\"\",\"\",MAX(BA$1:BA66)+1)","v":""},"","","","",null,{"$f":"+IF(BL67=\"\",\"\",MAX(BG$1:BG66)+1)","v":""},{"$f":"IF(Affected_Sources!B89=\"\",\"\",Affected_Sources!B89)","v":""},{"$f":"IF(Affected_Sources!C89=\"\",\"\",Affected_Sources!C89)","v":""},{"$f":"IF(Affected_Sources!D89=\"\",\"\",Affected_Sources!D89)","v":""},{"$f":"BH67&BI67","v":""},{"$f":"IF(COUNTIF(BK$2:BK67,BK67)=1,BK67,\"\")","v":""},"",{"$f":"+IFERROR(INDEX(BH$2:BH$78,MATCH(ROW()-ROW(BL$1),BG$2:BG$78,0)),\"\")","v":""},{"$f":"+IFERROR(INDEX(BI$2:BI$78,MATCH(ROW()-ROW(BN$1),BG$2:BG$78,0)),\"\")","v":""},{"$f":"+IFERROR(INDEX(BJ$2:BJ$78,MATCH(ROW()-ROW(BO$1),BG$2:BG$78,0)),\"\")","v":""},null,{"$f":"+IF(BW67=\"\",\"\",MAX(BR$1:BR66)+1)","v":""},{"$f":"IF(CMS_Identification!B89=\"\",\"\",CMS_Identification!B89)","v":""},{"$f":"IF(CMS_Identification!C89=\"\",\"\",CMS_Identification!C89)","v":""},{"$f":"IF(CMS_Identification!E89=\"\",\"\",CMS_Identification!E89)","v":""},{"$f":"BS67&BT67&BU67","v":""},{"$f":"IF(COUNTIF(BV$2:BV67,BV67)=1,BV67,\"\")","v":""},{"$f":"IF(BY67=\"\",\"\",BY67&\" \"&BZ67&\" \"&BU67)","v":""},{"$f":"+IFERROR(INDEX(BS$2:BS$78,MATCH(ROW()-ROW(BW$1),BR$2:BR$78,0)),\"\")","v":""},{"$f":"+IFERROR(INDEX(BT$2:BT$78,MATCH(ROW()-ROW(BY$1),BR$2:BR$78,0)),\"\")","v":""},""]
[{"$f":"+IF(D68=\"\",\"\",MAX(A$1:A67)+1)","v":""},{"$f":"IF(Affected_Sources!C90=\"\",\"\",Affected_Sources!C90)","v":""},"",{"$f":"IF(COUNTIF(B$2:B68,B68)=1,B68,\"\")","v":""},null,null,null,null,null,null,{"$f":"+IF(N68=\"\",\"\",MAX(K$1:K67)+1)","v":""},{"$f":"IF(CMS_Identification!E90=\"\",\"\",CMS_Identification!E90)","v":""},"",{"$f":"IF(COUNTIF(L$2:L68,L68)=1,L68,\"\")","v":""},null,null,null,null,null,{"$f":"+IF(Y68=\"\",\"\",MAX(T$1:T67)+1)","v":""},{"$f":"IF(Limit_Deviation_Detail!B90=\"\",\"\",Limit_Deviation_Detail!B90)","v":""},{"$f":"IF(Limit_Deviation_Detail!C90=\"\",\"\",Limit_Deviation_Detail!C90)","v":""},{"$f":"IF(Limit_Deviation_Detail!E90=\"\",\"\",Limit_Deviation_Detail!E90)","v":""},"",{"$f":"IF(COUNTIF(X$2:X68,X68)=1,X68,\"\")","v":""},"","","","","",null,null,null,null,{"$f":"IF(COUNTIF(AM$2:AM68,AM68)=1,AM68,\"\")","v":""},{"$f":"IF(CMS_Deviation_Detail!B90=\"\",\"\",CMS_Deviation_Detail!B90)","v":""},{"$f":"IF(CMS_Deviation_Detail!C90=\"\",\"\",CMS_Deviation_Detail!C90)","v":""},{"$f":"IF(CMS_Deviation_Detail!D90=\"\",\"\",CMS_Deviation_Detail!D90)","v":""},"",{"$f":"+IF(AI68=\"\",\"\",MAX(AN$1:AN67)+1)","v":""},"","","","","","",null,{"$f":"IF(COUNTIF(AZ$2:AZ68,AZ68)=1,AZ68,\"\")","v":""},{"$f":"IF(Limit_Deviation_Detail!B90=\"\",\"\",Limit_Deviation_Detail!B90)","v":""},{"$f":"IF(Limit_Deviation_Detail!C90=\"\",\"\",Limit_Deviation_Detail!C90)","v":""},{"$f":"IF(Limit_Deviation_Detail!E90=\"\",\"\",Limit_Deviation_Detail!E90)","v":""},"",{"$f":"+IF(AV68=\"\",\"\",MAX(BA$1:BA67)+1)","v":""},"","","","",null,{"$f":"+IF(BL68=\"\",\"\",MAX(BG$1:BG67)+1)","v":""},{"$f":"IF(Affected_Sources!B90=\"\",\"\",Affected_Sources!B90)","v":""},{"$f":"IF(Affected_Sources!C90=\"\",\"\",Affected_Sources!C90)","v":""},{"$f":"IF(Affected_Sources!D90=\"\",\"\",Affected_Sources!D90)","v":""},"",{"$f":"IF(COUNTIF(BK$2:BK68,BK68)=1,BK68,\"\")","v":""},"","","","",null,{"$f":"+IF(BW68=\"\",\"\",MAX(BR$1:BR67)+1)","v":""},{"$f":"IF(CMS_Identification!B90=\"\",\"\",CMS_Identification!B90)","v":""},{"$f":"IF(CMS_Identification!C90=\"\",\"\",CMS_Identification!C90)","v":""},{"$f":"IF(CMS_Identification!E90=\"\",\"\",CMS_Identification!E90)","v":""},"",{"$f":"IF(COUNTIF(BV$2:BV68,BV68)=1,BV68,\"\")","v":""},"","","",{"$f":"+IFERROR(INDEX(BU$2:BU$78,MATCH(ROW()-ROW(BZ$1),BR$2:BR$78,0)),\"\")","v":""}]
[{"$f":"+IF(D69=\"\",\"\",MAX(A$1:A68)+1)","v":""},{"$f":"IF(Affected_Sources!C91=\"\",\"\",Affected_Sources!C91)","v":""},"",{"$f":"IF(COUNTIF(B$2:B69,B69)=1,B69,\"\")","v":""},null,null,null,null,null,null,{"$f":"+IF(N69=\"\",\"\",MAX(K$1:K68)+1)","v":""},{"$f":"IF(CMS_Identification!E91=\"\",\"\",CMS_Identification!E91)","v":""},"",{"$f":"IF(COUNTIF(L$2:L69,L69)=1,L69,\"\")","v":""},null,null,null,null,null,{"$f":"+IF(Y69=\"\",\"\",MAX(T$1:T68)+1)","v":""},{"$f":"IF(Limit_Deviation_Detail!B91=\"\",\"\",Limit_Deviation_Detail!B91)","v":""},{"$f":"IF(Limit_Deviation_Detail!C91=\"\",\"\",Limit_Deviation_Detail!C91)","v":""},{"$f":"IF(Limit_Deviation_Detail!E91=\"\",\"\",Limit_Deviation_Detail!E91)","v":""},"",{"$f":"IF(COUNTIF(X$2:X69,X69)=1,X69,\"\")","v":""},"","","","","",null,null,null,null,{"$f":"IF(COUNTIF(AM$2:AM69,AM69)=1,AM69,\"\")","v":""},{"$f":"IF(CMS_Deviation_Detail!B91=\"\",\"\",CMS_Deviation_Detail!B91)","v":""},{"$f":"IF(CMS_Deviation_Detail!C91=\"\",\"\",CMS_Deviation_Detail!C91)","v":""},{"$f":"IF(CMS_Deviation_Detail!D91=\"\",\"\",CMS_Deviation_Detail!D91)","v":""},"",{"$f":"+IF(AI69=\"\",\"\",MAX(AN$1:AN68)+1)","v":""},"","","","","","",null,{"$f":"IF(COUNTIF(AZ$2:AZ69,AZ69)=1,AZ69,\"\")","v":""},{"$f":"IF(Limit_Deviation_Detail!B91=\"\",\"\",Limit_Deviation_Detail!B91)","v":""},{"$f":"IF(Limit_Deviation_Detail!C91=\"\",\"\",Limit_Deviation_Detail!C91)","v":""},{"$f":"IF(Limit_Deviation_Detail!E91=\"\",\"\",Limit_Deviation_Detail!E91)","v":""},"",{"$f":"+IF(AV69=\"\",\"\",MAX(BA$1:BA68)+1)","v":""},"","","","",null,{"$f":"+IF(BL69=\"\",\"\",MAX(BG$1:BG68)+1)","v":""},{"$f":"IF(Affected_Sources!B91=\"\",\"\",Affected_Sources!B91)","v":""},{"$f":"IF(Affected_Sources!C91=\"\",\"\",Affected_Sources!C91)","v":""},{"$f":"IF(Affected_Sources!D91=\"\",\"\",Affected_Sources!D91)","v":""},"",{"$f":"IF(COUNTIF(BK$2:BK69,BK69)=1,BK69,\"\")","v":""},"","","","",null,{"$f":"+IF(BW69=\"\",\"\",MAX(BR$1:BR68)+1)","v":""},{"$f":"IF(CMS_Identification!B91=\"\",\"\",CMS_Identification!B91)","v":""},{"$f":"IF(CMS_Identification!C91=\"\",\"\",CMS_Identification!C91)","v":""},{"$f":"IF(CMS_Identification!E91=\"\",\"\",CMS_Identification!E91)","v":""},"",{"$f":"IF(COUNTIF(BV$2:BV69,BV69)=1,BV69,\"\")","v":""},"","","",""]
[{"$f":"+IF(D70=\"\",\"\",MAX(A$1:A69)+1)","v":""},{"$f":"IF(Affected_Sources!C92=\"\",\"\",Affected_Sources!C92)","v":""},"",{"$f":"IF(COUNTIF(B$2:B70,B70)=1,B70,\"\")","v":""},null,null,null,null,null,null,{"$f":"+IF(N70=\"\",\"\",MAX(K$1:K69)+1)","v":""},{"$f":"IF(CMS_Identification!E92=\"\",\"\",CMS_Identification!E92)","v":""},"",{"$f":"IF(COUNTIF(L$2:L70,L70)=1,L70,\"\")","v":""},null,null,null,null,null,{"$f":"+IF(Y70=\"\",\"\",MAX(T$1:T69)+1)","v":""},{"$f":"IF(Limit_Deviation_Detail!B92=\"\",\"\",Limit_Deviation_Detail!B92)","v":""},{"$f":"IF(Limit_Deviation_Detail!C92=\"\",\"\",Limit_Deviation_Detail!C92)","v":""},{"$f":"IF(Limit_Deviation_Detail!E92=\"\",\"\",Limit_Deviation_Detail!E92)","v":""},"",{"$f":"IF(COUNTIF(X$2:X70,X70)=1,X70,\"\")","v":""},"","","","","",null,null,null,null,{"$f":"IF(COUNTIF(AM$2:AM70,AM70)=1,AM70,\"\")","v":""},{"$f":"IF(CMS_Deviation_Detail!B92=\"\",\"\",CMS_Deviation_Detail!B92)","v":""},{"$f":"IF(CMS_Deviation_Detail!C92=\"\",\"\",CMS_Deviation_Detail!C92)","v":""},{"$f":"IF(CMS_Deviation_Detail!D92=\"\",\"\",CMS_Deviation_Detail!D92)","v":""},"",{"$f":"+IF(AI70=\"\",\"\",MAX(AN$1:AN69)+1)","v":""},"","","","","","",null,{"$f":"IF(COUNTIF(AZ$2:AZ70,AZ70)=1,AZ70,\"\")","v":""},{"$f":"IF(Limit_Deviation_Detail!B92=\"\",\"\",Limit_Deviation_Detail!B92)","v":""},{"$f":"IF(Limit_Deviation_Detail!C92=\"\",\"\",Limit_Deviation_Detail!C92)","v":""},{"$f":"IF(Limit_Deviation_Detail!E92=\"\",\"\",Limit_Deviation_Detail!E92)","v":""},"",{"$f":"+IF(AV70=\"\",\"\",MAX(BA$1:BA69)+1)","v":""},"","","","",null,{"$f":"+IF(BL70=\"\",\"\",MAX(BG$1:BG69)+1)","v":""},{"$f":"IF(Affected_Sources!B92=\"\",\"\",Affected_Sources!B92)","v":""},{"$f":"IF(Affected_Sources!C92=\"\",\"\",Affected_Sources!C92)","v":""},{"$f":"IF(Affected_Sources!D92=\"\",\"\",Affected_Sources!D92)","v":""},"",{"$f":"IF(COUNTIF(BK$2:BK70,BK70)=1,BK70,\"\")","v":""},"","","","",null,{"$f":"+IF(BW70=\"\",\"\",MAX(BR$1:BR69)+1)","v":""},{"$f":"IF(CMS_Identification!B92=\"\",\"\",CMS_Identification!B92)","v":""},{"$f":"IF(CMS_Identification!C92=\"\",\"\",CMS_Identification!C92)","v":""},{"$f":"IF(CMS_Identification!E92=\"\",\"\",CMS_Identification!E92)","v":""},"",{"$f":"IF(COUNTIF(BV$2:BV70,BV70)=1,BV70,\"\")","v":""},"","","",""]
[{"$f":"+IF(D71=\"\",\"\",MAX(A$1:A70)+1)","v":""},{"$f":"IF(Affected_Sources!C93=\"\",\"\",Affected_Sources!C93)","v":""},"",{"$f":"IF(COUNTIF(B$2:B71,B71)=1,B71,\"\")","v":""},null,null,null,null,null,null,{"$f":"+IF(N71=\"\",\"\",MAX(K$1:K70)+1)","v":""},{"$f":"IF(CMS_Identification!E93=\"\",\"\",CMS_Identification!E93)","v":""},"",{"$f":"IF(COUNTIF(L$2:L71,L71)=1,L71,\"\")","v":""},null,null,null,null,null,{"$f":"+IF(Y71=\"\",\"\",MAX(T$1:T70)+1)","v":""},{"$f":"IF(Limit_Deviation_Detail!B93=\"\",\"\",Limit_Deviation_Detail!B93)","v":""},{"$f":"IF(Limit_Deviation_Detail!C93=\"\",\"\",Limit_Deviation_Detail!C93)","v":""},{"$f":"IF(Limit_Deviation_Detail!E93=\"\",\"\",Limit_Deviation_Detail!E93)","v":""},"",{"$f":"IF(COUNTIF(X$2:X71,X71)=1,X71,\"\")","v":""},"","","","","",null,null,null,null,{"$f":"IF(COUNTIF(AM$2:AM71,AM71)=1,AM71,\"\")","v":""},{"$f":"IF(CMS_Deviation_Detail!B93=\"\",\"\",CMS_Deviation_Detail!B93)","v":""},{"$f":"IF(CMS_Deviation_Detail!C93=\"\",\"\",CMS_Deviation_Detail!C93)","v":""},{"$f":"IF(CMS_Deviation_Detail!D93=\"\",\"\",CMS_Deviation_Detail!D93)","v":""},"",{"$f":"+IF(AI71=\"\",\"\",MAX(AN$1:AN70)+1)","v":""},"","","","","","",null,{"$f":"IF(COUNTIF(AZ$2:AZ71,AZ71)=1,AZ71,\"\")","v":""},{"$f":"IF(Limit_Deviation_Detail!B93=\"\",\"\",Limit_Deviation_Detail!B93)","v":""},{"$f":"IF(Limit_Deviation_Detail!C93=\"\",\"\",Limit_Deviation_Detail!C93)","v":""},{"$f":"IF(Limit_Deviation_Detail!E93=\"\",\"\",Limit_Deviation_Detail!E93)","v":""},{"$f":"IF(AY71=\"\",\"\",AW71&\" \"&AX71&\" \"&AY71)","v":""},{"$f":"+IF(AV71=\"\",\"\",MAX(BA$1:BA70)+1)","v":""},{"$f":"+IFERROR(INDEX(AV$2:AV$955,MATCH(ROW()-ROW(AV$1),BA$2:BA$955,0)),\"\")","v":""},{"$f":"+IFERROR(INDEX(AW$2:AW$955,MATCH(ROW()-ROW(AW$1),$BA$2:$BA$955,0)),\"\")","v":""},{"$f":"+IFERROR(INDEX(AX$2:AX$955,MATCH(ROW()-ROW(AX$1),$BA$2:$BA$955,0)),\"\")","v":""},{"$f":"+IFERROR(INDEX(AY$2:AY$955,MATCH(ROW()-ROW(AY$1),$BA$2:$BA$955,0)),\"\")","v":""},null,{"$f":"+IF(BL71=\"\",\"\",MAX(BG$1:BG70)+1)","v":""},{"$f":"IF(Affected_Sources!B93=\"\",\"\",Affected_Sources!B93)","v":""},{"$f":"IF(Affected_Sources!C93=\"\",\"\",Affected_Sources!C93)","v":""},{"$f":"IF(Affected_Sources!D93=\"\",\"\",Affected_Sources!D93)","v":""},"",{"$f":"IF(COUNTIF(BK$2:BK71,BK71)=1,BK71,\"\")","v":""},"","","","",null,{"$f":"+IF(BW71=\"\",\"\",MAX(BR$1:BR70)+1)","v":""},{"$f":"IF(CMS_Identification!B93=\"\",\"\",CMS_Identification!B93)","v":""},{"$f":"IF(CMS_Identification!C93=\"\",\"\",CMS_Identification!C93)","v":""},{"$f":"IF(CMS_Identification!E93=\"\",\"\",CMS_Identification!E93)","v":""},"",{"$f":"IF(COUNTIF(BV$2:BV71,BV71)=1,BV71,\"\")","v":""},"","","",""]
[{"$f":"+IF(D72=\"\",\"\",MAX(A$1:A71)+1)","v":""},{"$f":"IF(Affected_Sources!C94=\"\",\"\",Affected_Sources!C94)","v":""},"",{"$f":"IF(COUNTIF(B$2:B72,B72)=1,B72,\"\")","v":""},null,null,null,null,null,null,{"$f":"+IF(N72=\"\",\"\",MAX(K$1:K71)+1)","v":""},{"$f":"IF(CMS_Identification!E94=\"\",\"\",CMS_Identification!E94)","v":""},"",{"$f":"IF(COUNTIF(L$2:L72,L72)=1,L72,\"\")","v":""},null,null,null,null,null,{"$f":"+IF(Y72=\"\",\"\",MAX(T$1:T71)+1)","v":""},{"$f":"IF(Limit_Deviation_Detail!B94=\"\",\"\",Limit_Deviation_Detail!B94)","v":""},{"$f":"IF(Limit_Deviation_Detail!C94=\"\",\"\",Limit_Deviation_Detail!C94)","v":""},{"$f":"IF(Limit_Deviation_Detail!E94=\"\",\"\",Limit_Deviation_Detail!E94)","v":""},"",{"$f":"IF(COUNTIF(X$2:X72,X72)=1,X72,\"\")","v":""},"","","","","",null,null,null,null,{"$f":"IF(COUNTIF(AM$2:AM72,AM72)=1,AM72,\"\")","v":""},{"$f":"IF(CMS_Deviation_Detail!B94=\"\",\"\",CMS_Deviation_Detail!B94)","v":""},{"$f":"IF(CMS_Deviation_Detail!C94=\"\",\"\",CMS_Deviation_Detail!C94)","v":""},{"$f":"IF(CMS_Deviation_Detail!D94=\"\",\"\",CMS_Deviation_Detail!D94)","v":""},"",{"$f":"+IF(AI72=\"\",\"\",MAX(AN$1:AN71)+1)","v":""},"","","","","","",null,{"$f":"IF(COUNTIF(AZ$2:AZ72,AZ72)=1,AZ72,\"\")","v":""},{"$f":"IF(Limit_Deviation_Detail!B94=\"\",\"\",Limit_Deviation_Detail!B94)","v":""},{"$f":"IF(Limit_Deviation_Detail!C94=\"\",\"\",Limit_Deviation_Detail!C94)","v":""},{"$f":"IF(Limit_Deviation_Detail!E94=\"\",\"\",Limit_Deviation_Detail!E94)","v":""},"",{"$f":"+IF(AV72=\"\",\"\",MAX(BA$1:BA71)+1)","v":""},"","","","",null,{"$f":"+IF(BL72=\"\",\"\",MAX(BG$1:BG71)+1)","v":""},{"$f":"IF(Affected_Sources!B94=\"\",\"\",Affected_Sources!B94)","v":""},{"$f":"IF(Affected_Sources!C94=\"\",\"\",Affected_Sources!C94)","v":""},{"$f":"IF(Affected_Sources!D94=\"\",\"\",Affected_Sources!D94)","v":""},"",{"$f":"IF(COUNTIF(BK$2:BK72,BK72)=1,BK72,\"\")","v":""},"","","","",null,{"$f":"+IF(BW72=\"\",\"\",MAX(BR$1:BR71)+1)","v":""},{"$f":"IF(CMS_Identification!B94=\"\",\"\",CMS_Identification!B94)","v":""},{"$f":"IF(CMS_Identification!C94=\"\",\"\",CMS_Identification!C94)","v":""},{"$f":"IF(CMS_Identification!E94=\"\",\"\",CMS_Identification!E94)","v":""},"",{"$f":"IF(COUNTIF(BV$2:BV72,BV72)=1,BV72,\"\")","v":""},"","","",""]
[{"$f":"+IF(D73=\"\",\"\",MAX(A$1:A72)+1)","v":""},{"$f":"IF(Affected_Sources!C95=\"\",\"\",Affected_Sources!C95)","v":""},"",{"$f":"IF(COUNTIF(B$2:B73,B73)=1,B73,\"\")","v":""},null,null,null,null,null,null,{"$f":"+IF(N73=\"\",\"\",MAX(K$1:K72)+1)","v":""},{"$f":"IF(CMS_Identification!E95=\"\",\"\",CMS_Identification!E95)","v":""},"",{"$f":"IF(COUNTIF(L$2:L73,L73)=1,L73,\"\")","v":""},null,null,null,null,null,{"$f":"+IF(Y73=\"\",\"\",MAX(T$1:T72)+1)","v":""},{"$f":"IF(Limit_Deviation_Detail!B95=\"\",\"\",Limit_Deviation_Detail!B95)","v":""},{"$f":"IF(Limit_Deviation_Detail!C95=\"\",\"\",Limit_Deviation_Detail!C95)","v":""},{"$f":"IF(Limit_Deviation_Detail!E95=\"\",\"\",Limit_Deviation_Detail!E95)","v":""},"",{"$f":"IF(COUNTIF(X$2:X73,X73)=1,X73,\"\")","v":""},"","","","","",null,null,null,null,{"$f":"IF(COUNTIF(AM$2:AM73,AM73)=1,AM73,\"\")","v":""},{"$f":"IF(CMS_Deviation_Detail!B95=\"\",\"\",CMS_Deviation_Detail!B95)","v":""},{"$f":"IF(CMS_Deviation_Detail!C95=\"\",\"\",CMS_Deviation_Detail!C95)","v":""},{"$f":"IF(CMS_Deviation_Detail!D95=\"\",\"\",CMS_Deviation_Detail!D95)","v":""},"",{"$f":"+IF(AI73=\"\",\"\",MAX(AN$1:AN72)+1)","v":""},"","","","","","",null,{"$f":"IF(COUNTIF(AZ$2:AZ73,AZ73)=1,AZ73,\"\")","v":""},{"$f":"IF(Limit_Deviation_Detail!B95=\"\",\"\",Limit_Deviation_Detail!B95)","v":""},{"$f":"IF(Limit_Deviation_Detail!C95=\"\",\"\",Limit_Deviation_Detail!C95)","v":""},{"$f":"IF(Limit_Deviation_Detail!E95=\"\",\"\",Limit_Deviation_Detail!E95)","v":""},"",{"$f":"+IF(AV73=\"\",\"\",MAX(BA$1:BA72)+1)","v":""},"","","","",null,{"$f":"+IF(BL73=\"\",\"\",MAX(BG$1:BG72)+1)","v":""},{"$f":"IF(Affected_Sources!B95=\"\",\"\",Affected_Sources!B95)","v":""},{"$f":"IF(Affected_Sources!C95=\"\",\"\",Affected_Sources!C95)","v":""},{"$f":"IF(Affected_Sources!D95=\"\",\"\",Affected_Sources!D95)","v":""},"",{"$f":"IF(COUNTIF(BK$2:BK73,BK73)=1,BK73,\"\")","v":""},"","","","",null,{"$f":"+IF(BW73=\"\",\"\",MAX(BR$1:BR72)+1)","v":""},{"$f":"IF(CMS_Identification!B95=\"\",\"\",CMS_Identification!B95)","v":""},{"$f":"IF(CMS_Identification!C95=\"\",\"\",CMS_Identification!C95)","v":""},{"$f":"IF(CMS_Identification!E95=\"\",\"\",CMS_Identification!E95)","v":""},"",{"$f":"IF(COUNTIF(BV$2:BV73,BV73)=1,BV73,\"\")","v":""},"","","",""]
[{"$f":"+IF(D74=\"\",\"\",MAX(A$1:A73)+1)","v":""},{"$f":"IF(Affected_Sources!C96=\"\",\"\",Affected_Sources!C96)","v":""},"",{"$f":"IF(COUNTIF(B$2:B74,B74)=1,B74,\"\")","v":""},null,null,null,null,null,null,{"$f":"+IF(N74=\"\",\"\",MAX(K$1:K73)+1)","v":""},{"$f":"IF(CMS_Identification!E96=\"\",\"\",CMS_Identification!E96)","v":""},"",{"$f":"IF(COUNTIF(L$2:L74,L74)=1,L74,\"\")","v":""},null,null,null,null,null,{"$f":"+IF(Y74=\"\",\"\",MAX(T$1:T73)+1)","v":""},{"$f":"IF(Limit_Deviation_Detail!B96=\"\",\"\",Limit_Deviation_Detail!B96)","v":""},{"$f":"IF(Limit_Deviation_Detail!C96=\"\",\"\",Limit_Deviation_Detail!C96)","v":""},{"$f":"IF(Limit_Deviation_Detail!E96=\"\",\"\",Limit_Deviation_Detail!E96)","v":""},"",{"$f":"IF(COUNTIF(X$2:X74,X74)=1,X74,\"\")","v":""},"","","","","",null,null,null,null,{"$f":"IF(COUNTIF(AM$2:AM74,AM74)=1,AM74,\"\")","v":""},{"$f":"IF(CMS_Deviation_Detail!B96=\"\",\"\",CMS_Deviation_Detail!B96)","v":""},{"$f":"IF(CMS_Deviation_Detail!C96=\"\",\"\",CMS_Deviation_Detail!C96)","v":""},{"$f":"IF(CMS_Deviation_Detail!D96=\"\",\"\",CMS_Deviation_Detail!D96)","v":""},"",{"$f":"+IF(AI74=\"\",\"\",MAX(AN$1:AN73)+1)","v":""},"","","","","","",null,{"$f":"IF(COUNTIF(AZ$2:AZ74,AZ74)=1,AZ74,\"\")","v":""},{"$f":"IF(Limit_Deviation_Detail!B96=\"\",\"\",Limit_Deviation_Detail!B96)","v":""},{"$f":"IF(Limit_Deviation_Detail!C96=\"\",\"\",Limit_Deviation_Detail!C96)","v":""},{"$f":"IF(Limit_Deviation_Detail!E96=\"\",\"\",Limit_Deviation_Detail!E96)","v":""},"",{"$f":"+IF(AV74=\"\",\"\",MAX(BA$1:BA73)+1)","v":""},"","","","",null,{"$f":"+IF(BL74=\"\",\"\",MAX(BG$1:BG73)+1)","v":""},{"$f":"IF(Affected_Sources!B96=\"\",\"\",Affected_Sources!B96)","v":""},{"$f":"IF(Affected_Sources!C96=\"\",\"\",Affected_Sources!C96)","v":""},{"$f":"IF(Affected_Sources!D96=\"\",\"\",Affected_Sources!D96)","v":""},"",{"$f":"IF(COUNTIF(BK$2:BK74,BK74)=1,BK74,\"\")","v":""},"","","","",null,{"$f":"+IF(BW74=\"\",\"\",MAX(BR$1:BR73)+1)","v":""},{"$f":"IF(CMS_Identification!B96=\"\",\"\",CMS_Identification!B96)","v":""},{"$f":"IF(CMS_Identification!C96=\"\",\"\",CMS_Identification!C96)","v":""},{"$f":"IF(CMS_Identification!E96=\"\",\"\",CMS_Identification!E96)","v":""},"",{"$f":"IF(COUNTIF(BV$2:BV74,BV74)=1,BV74,\"\")","v":""},"","","",""]
[{"$f":"+IF(D75=\"\",\"\",MAX(A$1:A74)+1)","v":""},{"$f":"IF(Affected_Sources!C97=\"\",\"\",Affected_Sources!C97)","v":""},"",{"$f":"IF(COUNTIF(B$2:B75,B75)=1,B75,\"\")","v":""},null,null,null,null,null,null,{"$f":"+IF(N75=\"\",\"\",MAX(K$1:K74)+1)","v":""},{"$f":"IF(CMS_Identification!E97=\"\",\"\",CMS_Identification!E97)","v":""},"",{"$f":"IF(COUNTIF(L$2:L75,L75)=1,L75,\"\")","v":""},null,null,null,null,null,{"$f":"+IF(Y75=\"\",\"\",MAX(T$1:T74)+1)","v":""},{"$f":"IF(Limit_Deviation_Detail!B97=\"\",\"\",Limit_Deviation_Detail!B97)","v":""},{"$f":"IF(Limit_Deviation_Detail!C97=\"\",\"\",Limit_Deviation_Detail!C97)","v":""},{"$f":"IF(Limit_Deviation_Detail!E97=\"\",\"\",Limit_Deviation_Detail!E97)","v":""},"",{"$f":"IF(COUNTIF(X$2:X75,X75)=1,X75,\"\")","v":""},"","","","","",null,null,null,null,{"$f":"IF(COUNTIF(AM$2:AM75,AM75)=1,AM75,\"\")","v":""},{"$f":"IF(CMS_Deviation_Detail!B97=\"\",\"\",CMS_Deviation_Detail!B97)","v":""},{"$f":"IF(CMS_Deviation_Detail!C97=\"\",\"\",CMS_Deviation_Detail!C97)","v":""},{"$f":"IF(CMS_Deviation_Detail!D97=\"\",\"\",CMS_Deviation_Detail!D97)","v":""},"",{"$f":"+IF(AI75=\"\",\"\",MAX(AN$1:AN74)+1)","v":""},"","","","","","",null,{"$f":"IF(COUNTIF(AZ$2:AZ75,AZ75)=1,AZ75,\"\")","v":""},{"$f":"IF(Limit_Deviation_Detail!B97=\"\",\"\",Limit_Deviation_Detail!B97)","v":""},{"$f":"IF(Limit_Deviation_Detail!C97=\"\",\"\",Limit_Deviation_Detail!C97)","v":""},{"$f":"IF(Limit_Deviation_Detail!E97=\"\",\"\",Limit_Deviation_Detail!E97)","v":""},"",{"$f":"+IF(AV75=\"\",\"\",MAX(BA$1:BA74)+1)","v":""},"","","","",null,{"$f":"+IF(BL75=\"\",\"\",MAX(BG$1:BG74)+1)","v":""},{"$f":"IF(Affected_Sources!B97=\"\",\"\",Affected_Sources!B97)","v":""},{"$f":"IF(Affected_Sources!C97=\"\",\"\",Affected_Sources!C97)","v":""},{"$f":"IF(Affected_Sources!D97=\"\",\"\",Affected_Sources!D97)","v":""},"",{"$f":"IF(COUNTIF(BK$2:BK75,BK75)=1,BK75,\"\")","v":""},"","","","",null,{"$f":"+IF(BW75=\"\",\"\",MAX(BR$1:BR74)+1)","v":""},{"$f":"IF(CMS_Identification!B97=\"\",\"\",CMS_Identification!B97)","v":""},{"$f":"IF(CMS_Identification!C97=\"\",\"\",CMS_Identification!C97)","v":""},{"$f":"IF(CMS_Identification!E97=\"\",\"\",CMS_Identification!E97)","v":""},"",{"$f":"IF(COUNTIF(BV$2:BV75,BV75)=1,BV75,\"\")","v":""},"","","",""]
[{"$f":"+IF(D76=\"\",\"\",MAX(A$1:A75)+1)","v":""},{"$f":"IF(Affected_Sources!C98=\"\",\"\",Affected_Sources!C98)","v":""},"",{"$f":"IF(COUNTIF(B$2:B76,B76)=1,B76,\"\")","v":""},null,null,null,null,null,null,{"$f":"+IF(N76=\"\",\"\",MAX(K$1:K75)+1)","v":""},{"$f":"IF(CMS_Identification!E98=\"\",\"\",CMS_Identification!E98)","v":""},"",{"$f":"IF(COUNTIF(L$2:L76,L76)=1,L76,\"\")","v":""},null,null,null,null,null,{"$f":"+IF(Y76=\"\",\"\",MAX(T$1:T75)+1)","v":""},{"$f":"IF(Limit_Deviation_Detail!B98=\"\",\"\",Limit_Deviation_Detail!B98)","v":""},{"$f":"IF(Limit_Deviation_Detail!C98=\"\",\"\",Limit_Deviation_Detail!C98)","v":""},{"$f":"IF(Limit_Deviation_Detail!E98=\"\",\"\",Limit_Deviation_Detail!E98)","v":""},"",{"$f":"IF(COUNTIF(X$2:X76,X76)=1,X76,\"\")","v":""},"","","","","",null,null,null,null,{"$f":"IF(COUNTIF(AM$2:AM76,AM76)=1,AM76,\"\")","v":""},{"$f":"IF(CMS_Deviation_Detail!B98=\"\",\"\",CMS_Deviation_Detail!B98)","v":""},{"$f":"IF(CMS_Deviation_Detail!C98=\"\",\"\",CMS_Deviation_Detail!C98)","v":""},{"$f":"IF(CMS_Deviation_Detail!D98=\"\",\"\",CMS_Deviation_Detail!D98)","v":""},"",{"$f":"+IF(AI76=\"\",\"\",MAX(AN$1:AN75)+1)","v":""},"","","","","","",null,{"$f":"IF(COUNTIF(AZ$2:AZ76,AZ76)=1,AZ76,\"\")","v":""},{"$f":"IF(Limit_Deviation_Detail!B98=\"\",\"\",Limit_Deviation_Detail!B98)","v":""},{"$f":"IF(Limit_Deviation_Detail!C98=\"\",\"\",Limit_Deviation_Detail!C98)","v":""},{"$f":"IF(Limit_Deviation_Detail!E98=\"\",\"\",Limit_Deviation_Detail!E98)","v":""},"",{"$f":"+IF(AV76=\"\",\"\",MAX(BA$1:BA75)+1)","v":""},"","","","",null,{"$f":"+IF(BL76=\"\",\"\",MAX(BG$1:BG75)+1)","v":""},{"$f":"IF(Affected_Sources!B98=\"\",\"\",Affected_Sources!B98)","v":""},{"$f":"IF(Affected_Sources!C98=\"\",\"\",Affected_Sources!C98)","v":""},{"$f":"IF(Affected_Sources!D98=\"\",\"\",Affected_Sources!D98)","v":""},"",{"$f":"IF(COUNTIF(BK$2:BK76,BK76)=1,BK76,\"\")","v":""},"","","","",null,{"$f":"+IF(BW76=\"\",\"\",MAX(BR$1:BR75)+1)","v":""},{"$f":"IF(CMS_Identification!B98=\"\",\"\",CMS_Identification!B98)","v":""},{"$f":"IF(CMS_Identification!C98=\"\",\"\",CMS_Identification!C98)","v":""},{"$f":"IF(CMS_Identification!E98=\"\",\"\",CMS_Identification!E98)","v":""},"",{"$f":"IF(COUNTIF(BV$2:BV76,BV76)=1,BV76,\"\")","v":""},"","","",""]
[{"$f":"+IF(D77=\"\",\"\",MAX(A$1:A76)+1)","v":""},{"$f":"IF(Affected_Sources!C99=\"\",\"\",Affected_Sources!C99)","v":""},"",{"$f":"IF(COUNTIF(B$2:B77,B77)=1,B77,\"\")","v":""},null,null,null,null,null,null,{"$f":"+IF(N77=\"\",\"\",MAX(K$1:K76)+1)","v":""},{"$f":"IF(CMS_Identification!E99=\"\",\"\",CMS_Identification!E99)","v":""},"",{"$f":"IF(COUNTIF(L$2:L77,L77)=1,L77,\"\")","v":""},null,null,null,null,null,{"$f":"+IF(Y77=\"\",\"\",MAX(T$1:T76)+1)","v":""},{"$f":"IF(Limit_Deviation_Detail!B99=\"\",\"\",Limit_Deviation_Detail!B99)","v":""},{"$f":"IF(Limit_Deviation_Detail!C99=\"\",\"\",Limit_Deviation_Detail!C99)","v":""},{"$f":"IF(Limit_Deviation_Detail!E99=\"\",\"\",Limit_Deviation_Detail!E99)","v":""},"",{"$f":"IF(COUNTIF(X$2:X77,X77)=1,X77,\"\")","v":""},"","","","","",null,null,null,null,{"$f":"IF(COUNTIF(AM$2:AM77,AM77)=1,AM77,\"\")","v":""},{"$f":"IF(CMS_Deviation_Detail!B99=\"\",\"\",CMS_Deviation_Detail!B99)","v":""},{"$f":"IF(CMS_Deviation_Detail!C99=\"\",\"\",CMS_Deviation_Detail!C99)","v":""},{"$f":"IF(CMS_Deviation_Detail!D99=\"\",\"\",CMS_Deviation_Detail!D99)","v":""},"",{"$f":"+IF(AI77=\"\",\"\",MAX(AN$1:AN76)+1)","v":""},"","","","","","",null,{"$f":"IF(COUNTIF(AZ$2:AZ77,AZ77)=1,AZ77,\"\")","v":""},{"$f":"IF(Limit_Deviation_Detail!B99=\"\",\"\",Limit_Deviation_Detail!B99)","v":""},{"$f":"IF(Limit_Deviation_Detail!C99=\"\",\"\",Limit_Deviation_Detail!C99)","v":""},{"$f":"IF(Limit_Deviation_Detail!E99=\"\",\"\",Limit_Deviation_Detail!E99)","v":""},"",{"$f":"+IF(AV77=\"\",\"\",MAX(BA$1:BA76)+1)","v":""},"","","","",null,{"$f":"+IF(BL77=\"\",\"\",MAX(BG$1:BG76)+1)","v":""},{"$f":"IF(Affected_Sources!B99=\"\",\"\",Affected_Sources!B99)","v":""},{"$f":"IF(Affected_Sources!C99=\"\",\"\",Affected_Sources!C99)","v":""},{"$f":"IF(Affected_Sources!D99=\"\",\"\",Affected_Sources!D99)","v":""},"",{"$f":"IF(COUNTIF(BK$2:BK77,BK77)=1,BK77,\"\")","v":""},"","","","",null,{"$f":"+IF(BW77=\"\",\"\",MAX(BR$1:BR76)+1)","v":""},{"$f":"IF(CMS_Identification!B99=\"\",\"\",CMS_Identification!B99)","v":""},{"$f":"IF(CMS_Identification!C99=\"\",\"\",CMS_Identification!C99)","v":""},{"$f":"IF(CMS_Identification!E99=\"\",\"\",CMS_Identification!E99)","v":""},"",{"$f":"IF(COUNTIF(BV$2:BV77,BV77)=1,BV77,\"\")","v":""},"","","",""]
[{"$f":"+IF(D78=\"\",\"\",MAX(A$1:A77)+1)","v":""},{"$f":"IF(Affected_Sources!C100=\"\",\"\",Affected_Sources!C100)","v":""},"",{"$f":"IF(COUNTIF(B$2:B78,B78)=1,B78,\"\")","v":""},null,null,null,null,null,null,{"$f":"+IF(N78=\"\",\"\",MAX(K$1:K77)+1)","v":""},{"$f":"IF(CMS_Identification!E100=\"\",\"\",CMS_Identification!E100)","v":""},"",{"$f":"IF(COUNTIF(L$2:L78,L78)=1,L78,\"\")","v":""},null,null,null,null,null,{"$f":"+IF(Y78=\"\",\"\",MAX(T$1:T77)+1)","v":""},{"$f":"IF(Limit_Deviation_Detail!B100=\"\",\"\",Limit_Deviation_Detail!B100)","v":""},{"$f":"IF(Limit_Deviation_Detail!C100=\"\",\"\",Limit_Deviation_Detail!C100)","v":""},{"$f":"IF(Limit_Deviation_Detail!E100=\"\",\"\",Limit_Deviation_Detail!E100)","v":""},"",{"$f":"IF(COUNTIF(X$2:X78,X78)=1,X78,\"\")","v":""},"","","","","",null,null,null,null,{"$f":"IF(COUNTIF(AM$2:AM78,AM78)=1,AM78,\"\")","v":""},{"$f":"IF(CMS_Deviation_Detail!B100=\"\",\"\",CMS_Deviation_Detail!B100)","v":""},{"$f":"IF(CMS_Deviation_Detail!C100=\"\",\"\",CMS_Deviation_Detail!C100)","v":""},{"$f":"IF(CMS_Deviation_Detail!D100=\"\",\"\",CMS_Deviation_Detail!D100)","v":""},"",{"$f":"+IF(AI78=\"\",\"\",MAX(AN$1:AN77)+1)","v":""},"","","","","","",null,{"$f":"IF(COUNTIF(AZ$2:AZ78,AZ78)=1,AZ78,\"\")","v":""},{"$f":"IF(Limit_Deviation_Detail!B100=\"\",\"\",Limit_Deviation_Detail!B100)","v":""},{"$f":"IF(Limit_Deviation_Detail!C100=\"\",\"\",Limit_Deviation_Detail!C100)","v":""},{"$f":"IF(Limit_Deviation_Detail!E100=\"\",\"\",Limit_Deviation_Detail!E100)","v":""},"",{"$f":"+IF(AV78=\"\",\"\",MAX(BA$1:BA77)+1)","v":""},"","","","",null,{"$f":"+IF(BL78=\"\",\"\",MAX(BG$1:BG77)+1)","v":""},{"$f":"IF(Affected_Sources!B100=\"\",\"\",Affected_Sources!B100)","v":""},{"$f":"IF(Affected_Sources!C100=\"\",\"\",Affected_Sources!C100)","v":""},{"$f":"IF(Affected_Sources!D100=\"\",\"\",Affected_Sources!D100)","v":""},"",{"$f":"IF(COUNTIF(BK$2:BK78,BK78)=1,BK78,\"\")","v":""},"","","","",null,{"$f":"+IF(BW78=\"\",\"\",MAX(BR$1:BR77)+1)","v":""},{"$f":"IF(CMS_Identification!B100=\"\",\"\",CMS_Identification!B100)","v":""},{"$f":"IF(CMS_Identification!C100=\"\",\"\",CMS_Identification!C100)","v":""},{"$f":"IF(CMS_Identification!E100=\"\",\"\",CMS_Identification!E100)","v":""},"",{"$f":"IF(COUNTIF(BV$2:BV78,BV78)=1,BV78,\"\")","v":""},"","","",""]
[{"$f":"+IF(D79=\"\",\"\",MAX(A$1:A78)+1)","v":""},{"$f":"IF(Affected_Sources!C101=\"\",\"\",Affected_Sources!C101)","v":""},"",{"$f":"IF(COUNTIF(B$2:B79,B79)=1,B79,\"\")","v":""},null,null,null,null,null,null,{"$f":"+IF(N79=\"\",\"\",MAX(K$1:K78)+1)","v":""},{"$f":"IF(CMS_Identification!E101=\"\",\"\",CMS_Identification!E101)","v":""},"",{"$f":"IF(COUNTIF(L$2:L79,L79)=1,L79,\"\")","v":""},null,null,null,null,null,{"$f":"+IF(Y79=\"\",\"\",MAX(T$1:T78)+1)","v":""},{"$f":"IF(Limit_Deviation_Detail!B101=\"\",\"\",Limit_Deviation_Detail!B101)","v":""},{"$f":"IF(Limit_Deviation_Detail!C101=\"\",\"\",Limit_Deviation_Detail!C101)","v":""},{"$f":"IF(Limit_Deviation_Detail!E101=\"\",\"\",Limit_Deviation_Detail!E101)","v":""},"",{"$f":"IF(COUNTIF(X$2:X79,X79)=1,X79,\"\")","v":""},"","","","","",null,null,null,null,{"$f":"IF(COUNTIF(AM$2:AM79,AM79)=1,AM79,\"\")","v":""},{"$f":"IF(CMS_Deviation_Detail!B101=\"\",\"\",CMS_Deviation_Detail!B101)","v":""},{"$f":"IF(CMS_Deviation_Detail!C101=\"\",\"\",CMS_Deviation_Detail!C101)","v":""},{"$f":"IF(CMS_Deviation_Detail!D101=\"\",\"\",CMS_Deviation_Detail!D101)","v":""},"",{"$f":"+IF(AI79=\"\",\"\",MAX(AN$1:AN78)+1)","v":""},"","","","","","",null,{"$f":"IF(COUNTIF(AZ$2:AZ79,AZ79)=1,AZ79,\"\")","v":""},{"$f":"IF(Limit_Deviation_Detail!B101=\"\",\"\",Limit_Deviation_Detail!B101)","v":""},{"$f":"IF(Limit_Deviation_Detail!C101=\"\",\"\",Limit_Deviation_Detail!C101)","v":""},{"$f":"IF(Limit_Deviation_Detail!E101=\"\",\"\",Limit_Deviation_Detail!E101)","v":""},"",{"$f":"+IF(AV79=\"\",\"\",MAX(BA$1:BA78)+1)","v":""},"","","",""]
[{"$f":"+IF(D80=\"\",\"\",MAX(A$1:A79)+1)","v":""},{"$f":"IF(Affected_Sources!C102=\"\",\"\",Affected_Sources!C102)","v":""},"",{"$f":"IF(COUNTIF(B$2:B80,B80)=1,B80,\"\")","v":""},null,null,null,null,null,null,{"$f":"+IF(N80=\"\",\"\",MAX(K$1:K79)+1)","v":""},{"$f":"IF(CMS_Identification!E102=\"\",\"\",CMS_Identification!E102)","v":""},"",{"$f":"IF(COUNTIF(L$2:L80,L80)=1,L80,\"\")","v":""},null,null,null,null,null,{"$f":"+IF(Y80=\"\",\"\",MAX(T$1:T79)+1)","v":""},{"$f":"IF(Limit_Deviation_Detail!B102=\"\",\"\",Limit_Deviation_Detail!B102)","v":""},{"$f":"IF(Limit_Deviation_Detail!C102=\"\",\"\",Limit_Deviation_Detail!C102)","v":""},{"$f":"IF(Limit_Deviation_Detail!E102=\"\",\"\",Limit_Deviation_Detail!E102)","v":""},"",{"$f":"IF(COUNTIF(X$2:X80,X80)=1,X80,\"\")","v":""},"","","","","",null,null,null,null,{"$f":"IF(COUNTIF(AM$2:AM80,AM80)=1,AM80,\"\")","v":""},{"$f":"IF(CMS_Deviation_Detail!B102=\"\",\"\",CMS_Deviation_Detail!B102)","v":""},{"$f":"IF(CMS_Deviation_Detail!C102=\"\",\"\",CMS_Deviation_Detail!C102)","v":""},{"$f":"IF(CMS_Deviation_Detail!D102=\"\",\"\",CMS_Deviation_Detail!D102)","v":""},"",{"$f":"+IF(AI80=\"\",\"\",MAX(AN$1:AN79)+1)","v":""},"","","","","","",null,{"$f":"IF(COUNTIF(AZ$2:AZ80,AZ80)=1,AZ80,\"\")","v":""},{"$f":"IF(Limit_Deviation_Detail!B102=\"\",\"\",Limit_Deviation_Detail!B102)","v":""},{"$f":"IF(Limit_Deviation_Detail!C102=\"\",\"\",Limit_Deviation_Detail!C102)","v":""},{"$f":"IF(Limit_Deviation_Detail!E102=\"\",\"\",Limit_Deviation_Detail!E102)","v":""},"",{"$f":"+IF(AV80=\"\",\"\",MAX(BA$1:BA79)+1)","v":""},"","","",""]
[{"$f":"+IF(D81=\"\",\"\",MAX(A$1:A80)+1)","v":""},{"$f":"IF(Affected_Sources!C103=\"\",\"\",Affected_Sources!C103)","v":""},"",{"$f":"IF(COUNTIF(B$2:B81,B81)=1,B81,\"\")","v":""},null,null,null,null,null,null,{"$f":"+IF(N81=\"\",\"\",MAX(K$1:K80)+1)","v":""},{"$f":"IF(CMS_Identification!E103=\"\",\"\",CMS_Identification!E103)","v":""},"",{"$f":"IF(COUNTIF(L$2:L81,L81)=1,L81,\"\")","v":""},null,null,null,null,null,{"$f":"+IF(Y81=\"\",\"\",MAX(T$1:T80)+1)","v":""},{"$f":"IF(Limit_Deviation_Detail!B103=\"\",\"\",Limit_Deviation_Detail!B103)","v":""},{"$f":"IF(Limit_Deviation_Detail!C103=\"\",\"\",Limit_Deviation_Detail!C103)","v":""},{"$f":"IF(Limit_Deviation_Detail!E103=\"\",\"\",Limit_Deviation_Detail!E103)","v":""},"",{"$f":"IF(COUNTIF(X$2:X81,X81)=1,X81,\"\")","v":""},"","","","","",null,null,null,null,{"$f":"IF(COUNTIF(AM$2:AM81,AM81)=1,AM81,\"\")","v":""},{"$f":"IF(CMS_Deviation_Detail!B103=\"\",\"\",CMS_Deviation_Detail!B103)","v":""},{"$f":"IF(CMS_Deviation_Detail!C103=\"\",\"\",CMS_Deviation_Detail!C103)","v":""},{"$f":"IF(CMS_Deviation_Detail!D103=\"\",\"\",CMS_Deviation_Detail!D103)","v":""},"",{"$f":"+IF(AI81=\"\",\"\",MAX(AN$1:AN80)+1)","v":""},"","","","","","",null,{"$f":"IF(COUNTIF(AZ$2:AZ81,AZ81)=1,AZ81,\"\")","v":""},{"$f":"IF(Limit_Deviation_Detail!B103=\"\",\"\",Limit_Deviation_Detail!B103)","v":""},{"$f":"IF(Limit_Deviation_Detail!C103=\"\",\"\",Limit_Deviation_Detail!C103)","v":""},{"$f":"IF(Limit_Deviation_Detail!E103=\"\",\"\",Limit_Deviation_Detail!E103)","v":""},"",{"$f":"+IF(AV81=\"\",\"\",MAX(BA$1:BA80)+1)","v":""},"","","",""]
[{"$f":"+IF(D82=\"\",\"\",MAX(A$1:A81)+1)","v":""},{"$f":"IF(Affected_Sources!C104=\"\",\"\",Affected_Sources!C104)","v":""},"",{"$f":"IF(COUNTIF(B$2:B82,B82)=1,B82,\"\")","v":""},null,null,null,null,null,null,{"$f":"+IF(N82=\"\",\"\",MAX(K$1:K81)+1)","v":""},{"$f":"IF(CMS_Identification!E104=\"\",\"\",CMS_Identification!E104)","v":""},"",{"$f":"IF(COUNTIF(L$2:L82,L82)=1,L82,\"\")","v":""},null,null,null,null,null,{"$f":"+IF(Y82=\"\",\"\",MAX(T$1:T81)+1)","v":""},{"$f":"IF(Limit_Deviation_Detail!B104=\"\",\"\",Limit_Deviation_Detail!B104)","v":""},{"$f":"IF(Limit_Deviation_Detail!C104=\"\",\"\",Limit_Deviation_Detail!C104)","v":""},{"$f":"IF(Limit_Deviation_Detail!E104=\"\",\"\",Limit_Deviation_Detail!E104)","v":""},"",{"$f":"IF(COUNTIF(X$2:X82,X82)=1,X82,\"\")","v":""},"","","","","",null,null,null,null,{"$f":"IF(COUNTIF(AM$2:AM82,AM82)=1,AM82,\"\")","v":""},{"$f":"IF(CMS_Deviation_Detail!B104=\"\",\"\",CMS_Deviation_Detail!B104)","v":""},{"$f":"IF(CMS_Deviation_Detail!C104=\"\",\"\",CMS_Deviation_Detail!C104)","v":""},{"$f":"IF(CMS_Deviation_Detail!D104=\"\",\"\",CMS_Deviation_Detail!D104)","v":""},"",{"$f":"+IF(AI82=\"\",\"\",MAX(AN$1:AN81)+1)","v":""},"","","","","","",null,{"$f":"IF(COUNTIF(AZ$2:AZ82,AZ82)=1,AZ82,\"\")","v":""},{"$f":"IF(Limit_Deviation_Detail!B104=\"\",\"\",Limit_Deviation_Detail!B104)","v":""},{"$f":"IF(Limit_Deviation_Detail!C104=\"\",\"\",Limit_Deviation_Detail!C104)","v":""},{"$f":"IF(Limit_Deviation_Detail!E104=\"\",\"\",Limit_Deviation_Detail!E104)","v":""},"",{"$f":"+IF(AV82=\"\",\"\",MAX(BA$1:BA81)+1)","v":""},"","","",""]
[{"$f":"+IF(D83=\"\",\"\",MAX(A$1:A82)+1)","v":""},{"$f":"IF(Affected_Sources!C105=\"\",\"\",Affected_Sources!C105)","v":""},"",{"$f":"IF(COUNTIF(B$2:B83,B83)=1,B83,\"\")","v":""},null,null,null,null,null,null,{"$f":"+IF(N83=\"\",\"\",MAX(K$1:K82)+1)","v":""},{"$f":"IF(CMS_Identification!E105=\"\",\"\",CMS_Identification!E105)","v":""},"",{"$f":"IF(COUNTIF(L$2:L83,L83)=1,L83,\"\")","v":""},null,null,null,null,null,{"$f":"+IF(Y83=\"\",\"\",MAX(T$1:T82)+1)","v":""},{"$f":"IF(Limit_Deviation_Detail!B105=\"\",\"\",Limit_Deviation_Detail!B105)","v":""},{"$f":"IF(Limit_Deviation_Detail!C105=\"\",\"\",Limit_Deviation_Detail!C105)","v":""},{"$f":"IF(Limit_Deviation_Detail!E105=\"\",\"\",Limit_Deviation_Detail!E105)","v":""},"",{"$f":"IF(COUNTIF(X$2:X83,X83)=1,X83,\"\")","v":""},"","","","","",null,null,null,null,{"$f":"IF(COUNTIF(AM$2:AM83,AM83)=1,AM83,\"\")","v":""},{"$f":"IF(CMS_Deviation_Detail!B105=\"\",\"\",CMS_Deviation_Detail!B105)","v":""},{"$f":"IF(CMS_Deviation_Detail!C105=\"\",\"\",CMS_Deviation_Detail!C105)","v":""},{"$f":"IF(CMS_Deviation_Detail!D105=\"\",\"\",CMS_Deviation_Detail!D105)","v":""},"",{"$f":"+IF(AI83=\"\",\"\",MAX(AN$1:AN82)+1)","v":""},"","","","","","",null,{"$f":"IF(COUNTIF(AZ$2:AZ83,AZ83)=1,AZ83,\"\")","v":""},{"$f":"IF(Limit_Deviation_Detail!B105=\"\",\"\",Limit_Deviation_Detail!B105)","v":""},{"$f":"IF(Limit_Deviation_Detail!C105=\"\",\"\",Limit_Deviation_Detail!C105)","v":""},{"$f":"IF(Limit_Deviation_Detail!E105=\"\",\"\",Limit_Deviation_Detail!E105)","v":""},"",{"$f":"+IF(AV83=\"\",\"\",MAX(BA$1:BA82)+1)","v":""},"","","",""]
[{"$f":"+IF(D84=\"\",\"\",MAX(A$1:A83)+1)","v":""},{"$f":"IF(Affected_Sources!C106=\"\",\"\",Affected_Sources!C106)","v":""},"",{"$f":"IF(COUNTIF(B$2:B84,B84)=1,B84,\"\")","v":""},null,null,null,null,null,null,{"$f":"+IF(N84=\"\",\"\",MAX(K$1:K83)+1)","v":""},{"$f":"IF(CMS_Identification!E106=\"\",\"\",CMS_Identification!E106)","v":""},"",{"$f":"IF(COUNTIF(L$2:L84,L84)=1,L84,\"\")","v":""},null,null,null,null,null,{"$f":"+IF(Y84=\"\",\"\",MAX(T$1:T83)+1)","v":""},{"$f":"IF(Limit_Deviation_Detail!B106=\"\",\"\",Limit_Deviation_Detail!B106)","v":""},{"$f":"IF(Limit_Deviation_Detail!C106=\"\",\"\",Limit_Deviation_Detail!C106)","v":""},{"$f":"IF(Limit_Deviation_Detail!E106=\"\",\"\",Limit_Deviation_Detail!E106)","v":""},"",{"$f":"IF(COUNTIF(X$2:X84,X84)=1,X84,\"\")","v":""},"","","","","",null,null,null,null,{"$f":"IF(COUNTIF(AM$2:AM84,AM84)=1,AM84,\"\")","v":""},{"$f":"IF(CMS_Deviation_Detail!B106=\"\",\"\",CMS_Deviation_Detail!B106)","v":""},{"$f":"IF(CMS_Deviation_Detail!C106=\"\",\"\",CMS_Deviation_Detail!C106)","v":""},{"$f":"IF(CMS_Deviation_Detail!D106=\"\",\"\",CMS_Deviation_Detail!D106)","v":""},"",{"$f":"+IF(AI84=\"\",\"\",MAX(AN$1:AN83)+1)","v":""},"","","","","","",null,{"$f":"IF(COUNTIF(AZ$2:AZ84,AZ84)=1,AZ84,\"\")","v":""},{"$f":"IF(Limit_Deviation_Detail!B106=\"\",\"\",Limit_Deviation_Detail!B106)","v":""},{"$f":"IF(Limit_Deviation_Detail!C106=\"\",\"\",Limit_Deviation_Detail!C106)","v":""},{"$f":"IF(Limit_Deviation_Detail!E106=\"\",\"\",Limit_Deviation_Detail!E106)","v":""},"",{"$f":"+IF(AV84=\"\",\"\",MAX(BA$1:BA83)+1)","v":""},"","","",""]
[{"$f":"+IF(D85=\"\",\"\",MAX(A$1:A84)+1)","v":""},{"$f":"IF(Affected_Sources!C107=\"\",\"\",Affected_Sources!C107)","v":""},"",{"$f":"IF(COUNTIF(B$2:B85,B85)=1,B85,\"\")","v":""},null,null,null,null,null,null,{"$f":"+IF(N85=\"\",\"\",MAX(K$1:K84)+1)","v":""},{"$f":"IF(CMS_Identification!E107=\"\",\"\",CMS_Identification!E107)","v":""},"",{"$f":"IF(COUNTIF(L$2:L85,L85)=1,L85,\"\")","v":""},null,null,null,null,null,{"$f":"+IF(Y85=\"\",\"\",MAX(T$1:T84)+1)","v":""},{"$f":"IF(Limit_Deviation_Detail!B107=\"\",\"\",Limit_Deviation_Detail!B107)","v":""},{"$f":"IF(Limit_Deviation_Detail!C107=\"\",\"\",Limit_Deviation_Detail!C107)","v":""},{"$f":"IF(Limit_Deviation_Detail!E107=\"\",\"\",Limit_Deviation_Detail!E107)","v":""},"",{"$f":"IF(COUNTIF(X$2:X85,X85)=1,X85,\"\")","v":""},"","","","","",null,null,null,null,{"$f":"IF(COUNTIF(AM$2:AM85,AM85)=1,AM85,\"\")","v":""},{"$f":"IF(CMS_Deviation_Detail!B107=\"\",\"\",CMS_Deviation_Detail!B107)","v":""},{"$f":"IF(CMS_Deviation_Detail!C107=\"\",\"\",CMS_Deviation_Detail!C107)","v":""},{"$f":"IF(CMS_Deviation_Detail!D107=\"\",\"\",CMS_Deviation_Detail!D107)","v":""},"",{"$f":"+IF(AI85=\"\",\"\",MAX(AN$1:AN84)+1)","v":""},"","","","","","",null,{"$f":"IF(COUNTIF(AZ$2:AZ85,AZ85)=1,AZ85,\"\")","v":""},{"$f":"IF(Limit_Deviation_Detail!B107=\"\",\"\",Limit_Deviation_Detail!B107)","v":""},{"$f":"IF(Limit_Deviation_Detail!C107=\"\",\"\",Limit_Deviation_Detail!C107)","v":""},{"$f":"IF(Limit_Deviation_Detail!E107=\"\",\"\",Limit_Deviation_Detail!E107)","v":""},"",{"$f":"+IF(AV85=\"\",\"\",MAX(BA$1:BA84)+1)","v":""},"","","",""]
[{"$f":"+IF(D86=\"\",\"\",MAX(A$1:A85)+1)","v":""},{"$f":"IF(Affected_Sources!C108=\"\",\"\",Affected_Sources!C108)","v":""},"",{"$f":"IF(COUNTIF(B$2:B86,B86)=1,B86,\"\")","v":""},null,null,null,null,null,null,{"$f":"+IF(N86=\"\",\"\",MAX(K$1:K85)+1)","v":""},{"$f":"IF(CMS_Identification!E108=\"\",\"\",CMS_Identification!E108)","v":""},"",{"$f":"IF(COUNTIF(L$2:L86,L86)=1,L86,\"\")","v":""},null,null,null,null,null,{"$f":"+IF(Y86=\"\",\"\",MAX(T$1:T85)+1)","v":""},{"$f":"IF(Limit_Deviation_Detail!B108=\"\",\"\",Limit_Deviation_Detail!B108)","v":""},{"$f":"IF(Limit_Deviation_Detail!C108=\"\",\"\",Limit_Deviation_Detail!C108)","v":""},{"$f":"IF(Limit_Deviation_Detail!E108=\"\",\"\",Limit_Deviation_Detail!E108)","v":""},"",{"$f":"IF(COUNTIF(X$2:X86,X86)=1,X86,\"\")","v":""},"","","","","",null,null,null,null,{"$f":"IF(COUNTIF(AM$2:AM86,AM86)=1,AM86,\"\")","v":""},{"$f":"IF(CMS_Deviation_Detail!B108=\"\",\"\",CMS_Deviation_Detail!B108)","v":""},{"$f":"IF(CMS_Deviation_Detail!C108=\"\",\"\",CMS_Deviation_Detail!C108)","v":""},{"$f":"IF(CMS_Deviation_Detail!D108=\"\",\"\",CMS_Deviation_Detail!D108)","v":""},"",{"$f":"+IF(AI86=\"\",\"\",MAX(AN$1:AN85)+1)","v":""},"","","","","","",null,{"$f":"IF(COUNTIF(AZ$2:AZ86,AZ86)=1,AZ86,\"\")","v":""},{"$f":"IF(Limit_Deviation_Detail!B108=\"\",\"\",Limit_Deviation_Detail!B108)","v":""},{"$f":"IF(Limit_Deviation_Detail!C108=\"\",\"\",Limit_Deviation_Detail!C108)","v":""},{"$f":"IF(Limit_Deviation_Detail!E108=\"\",\"\",Limit_Deviation_Detail!E108)","v":""},"",{"$f":"+IF(AV86=\"\",\"\",MAX(BA$1:BA85)+1)","v":""},"","","",""]
[{"$f":"+IF(D87=\"\",\"\",MAX(A$1:A86)+1)","v":""},{"$f":"IF(Affected_Sources!C109=\"\",\"\",Affected_Sources!C109)","v":""},"",{"$f":"IF(COUNTIF(B$2:B87,B87)=1,B87,\"\")","v":""},null,null,null,null,null,null,{"$f":"+IF(N87=\"\",\"\",MAX(K$1:K86)+1)","v":""},{"$f":"IF(CMS_Identification!E109=\"\",\"\",CMS_Identification!E109)","v":""},"",{"$f":"IF(COUNTIF(L$2:L87,L87)=1,L87,\"\")","v":""},null,null,null,null,null,{"$f":"+IF(Y87=\"\",\"\",MAX(T$1:T86)+1)","v":""},{"$f":"IF(Limit_Deviation_Detail!B109=\"\",\"\",Limit_Deviation_Detail!B109)","v":""},{"$f":"IF(Limit_Deviation_Detail!C109=\"\",\"\",Limit_Deviation_Detail!C109)","v":""},{"$f":"IF(Limit_Deviation_Detail!E109=\"\",\"\",Limit_Deviation_Detail!E109)","v":""},"",{"$f":"IF(COUNTIF(X$2:X87,X87)=1,X87,\"\")","v":""},"","","","","",null,null,null,null,{"$f":"IF(COUNTIF(AM$2:AM87,AM87)=1,AM87,\"\")","v":""},{"$f":"IF(CMS_Deviation_Detail!B109=\"\",\"\",CMS_Deviation_Detail!B109)","v":""},{"$f":"IF(CMS_Deviation_Detail!C109=\"\",\"\",CMS_Deviation_Detail!C109)","v":""},{"$f":"IF(CMS_Deviation_Detail!D109=\"\",\"\",CMS_Deviation_Detail!D109)","v":""},"",{"$f":"+IF(AI87=\"\",\"\",MAX(AN$1:AN86)+1)","v":""},"","","","","","",null,{"$f":"IF(COUNTIF(AZ$2:AZ87,AZ87)=1,AZ87,\"\")","v":""},{"$f":"IF(Limit_Deviation_Detail!B109=\"\",\"\",Limit_Deviation_Detail!B109)","v":""},{"$f":"IF(Limit_Deviation_Detail!C109=\"\",\"\",Limit_Deviation_Detail!C109)","v":""},{"$f":"IF(Limit_Deviation_Detail!E109=\"\",\"\",Limit_Deviation_Detail!E109)","v":""},"",{"$f":"+IF(AV87=\"\",\"\",MAX(BA$1:BA86)+1)","v":""},"","","",""]
[{"$f":"+IF(D88=\"\",\"\",MAX(A$1:A87)+1)","v":""},{"$f":"IF(Affected_Sources!C110=\"\",\"\",Affected_Sources!C110)","v":""},"",{"$f":"IF(COUNTIF(B$2:B88,B88)=1,B88,\"\")","v":""},null,null,null,null,null,null,{"$f":"+IF(N88=\"\",\"\",MAX(K$1:K87)+1)","v":""},{"$f":"IF(CMS_Identification!E110=\"\",\"\",CMS_Identification!E110)","v":""},"",{"$f":"IF(COUNTIF(L$2:L88,L88)=1,L88,\"\")","v":""},null,null,null,null,null,{"$f":"+IF(Y88=\"\",\"\",MAX(T$1:T87)+1)","v":""},{"$f":"IF(Limit_Deviation_Detail!B110=\"\",\"\",Limit_Deviation_Detail!B110)","v":""},{"$f":"IF(Limit_Deviation_Detail!C110=\"\",\"\",Limit_Deviation_Detail!C110)","v":""},{"$f":"IF(Limit_Deviation_Detail!E110=\"\",\"\",Limit_Deviation_Detail!E110)","v":""},"",{"$f":"IF(COUNTIF(X$2:X88,X88)=1,X88,\"\")","v":""},"","","","","",null,null,null,null,{"$f":"IF(COUNTIF(AM$2:AM88,AM88)=1,AM88,\"\")","v":""},{"$f":"IF(CMS_Deviation_Detail!B110=\"\",\"\",CMS_Deviation_Detail!B110)","v":""},{"$f":"IF(CMS_Deviation_Detail!C110=\"\",\"\",CMS_Deviation_Detail!C110)","v":""},{"$f":"IF(CMS_Deviation_Detail!D110=\"\",\"\",CMS_Deviation_Detail!D110)","v":""},"",{"$f":"+IF(AI88=\"\",\"\",MAX(AN$1:AN87)+1)","v":""},"","","","","","",null,{"$f":"IF(COUNTIF(AZ$2:AZ88,AZ88)=1,AZ88,\"\")","v":""},{"$f":"IF(Limit_Deviation_Detail!B110=\"\",\"\",Limit_Deviation_Detail!B110)","v":""},{"$f":"IF(Limit_Deviation_Detail!C110=\"\",\"\",Limit_Deviation_Detail!C110)","v":""},{"$f":"IF(Limit_Deviation_Detail!E110=\"\",\"\",Limit_Deviation_Detail!E110)","v":""},"",{"$f":"+IF(AV88=\"\",\"\",MAX(BA$1:BA87)+1)","v":""},"","","",""]
[{"$f":"+IF(D89=\"\",\"\",MAX(A$1:A88)+1)","v":""},{"$f":"IF(Affected_Sources!C111=\"\",\"\",Affected_Sources!C111)","v":""},"",{"$f":"IF(COUNTIF(B$2:B89,B89)=1,B89,\"\")","v":""},null,null,null,null,null,null,{"$f":"+IF(N89=\"\",\"\",MAX(K$1:K88)+1)","v":""},{"$f":"IF(CMS_Identification!E111=\"\",\"\",CMS_Identification!E111)","v":""},"",{"$f":"IF(COUNTIF(L$2:L89,L89)=1,L89,\"\")","v":""},null,null,null,null,null,{"$f":"+IF(Y89=\"\",\"\",MAX(T$1:T88)+1)","v":""},{"$f":"IF(Limit_Deviation_Detail!B111=\"\",\"\",Limit_Deviation_Detail!B111)","v":""},{"$f":"IF(Limit_Deviation_Detail!C111=\"\",\"\",Limit_Deviation_Detail!C111)","v":""},{"$f":"IF(Limit_Deviation_Detail!E111=\"\",\"\",Limit_Deviation_Detail!E111)","v":""},"",{"$f":"IF(COUNTIF(X$2:X89,X89)=1,X89,\"\")","v":""},"","","","","",null,null,null,null,{"$f":"IF(COUNTIF(AM$2:AM89,AM89)=1,AM89,\"\")","v":""},{"$f":"IF(CMS_Deviation_Detail!B111=\"\",\"\",CMS_Deviation_Detail!B111)","v":""},{"$f":"IF(CMS_Deviation_Detail!C111=\"\",\"\",CMS_Deviation_Detail!C111)","v":""},{"$f":"IF(CMS_Deviation_Detail!D111=\"\",\"\",CMS_Deviation_Detail!D111)","v":""},"",{"$f":"+IF(AI89=\"\",\"\",MAX(AN$1:AN88)+1)","v":""},"","","","","","",null,{"$f":"IF(COUNTIF(AZ$2:AZ89,AZ89)=1,AZ89,\"\")","v":""},{"$f":"IF(Limit_Deviation_Detail!B111=\"\",\"\",Limit_Deviation_Detail!B111)","v":""},{"$f":"IF(Limit_Deviation_Detail!C111=\"\",\"\",Limit_Deviation_Detail!C111)","v":""},{"$f":"IF(Limit_Deviation_Detail!E111=\"\",\"\",Limit_Deviation_Detail!E111)","v":""},"",{"$f":"+IF(AV89=\"\",\"\",MAX(BA$1:BA88)+1)","v":""},"","","",""]
[{"$f":"+IF(D90=\"\",\"\",MAX(A$1:A89)+1)","v":""},{"$f":"IF(Affected_Sources!C112=\"\",\"\",Affected_Sources!C112)","v":""},"",{"$f":"IF(COUNTIF(B$2:B90,B90)=1,B90,\"\")","v":""},null,null,null,null,null,null,{"$f":"+IF(N90=\"\",\"\",MAX(K$1:K89)+1)","v":""},{"$f":"IF(CMS_Identification!E112=\"\",\"\",CMS_Identification!E112)","v":""},"",{"$f":"IF(COUNTIF(L$2:L90,L90)=1,L90,\"\")","v":""},null,null,null,null,null,{"$f":"+IF(Y90=\"\",\"\",MAX(T$1:T89)+1)","v":""},{"$f":"IF(Limit_Deviation_Detail!B112=\"\",\"\",Limit_Deviation_Detail!B112)","v":""},{"$f":"IF(Limit_Deviation_Detail!C112=\"\",\"\",Limit_Deviation_Detail!C112)","v":""},{"$f":"IF(Limit_Deviation_Detail!E112=\"\",\"\",Limit_Deviation_Detail!E112)","v":""},"",{"$f":"IF(COUNTIF(X$2:X90,X90)=1,X90,\"\")","v":""},"","","","","",null,null,null,null,{"$f":"IF(COUNTIF(AM$2:AM90,AM90)=1,AM90,\"\")","v":""},{"$f":"IF(CMS_Deviation_Detail!B112=\"\",\"\",CMS_Deviation_Detail!B112)","v":""},{"$f":"IF(CMS_Deviation_Detail!C112=\"\",\"\",CMS_Deviation_Detail!C112)","v":""},{"$f":"IF(CMS_Deviation_Detail!D112=\"\",\"\",CMS_Deviation_Detail!D112)","v":""},"",{"$f":"+IF(AI90=\"\",\"\",MAX(AN$1:AN89)+1)","v":""},"","","","","","",null,{"$f":"IF(COUNTIF(AZ$2:AZ90,AZ90)=1,AZ90,\"\")","v":""},{"$f":"IF(Limit_Deviation_Detail!B112=\"\",\"\",Limit_Deviation_Detail!B112)","v":""},{"$f":"IF(Limit_Deviation_Detail!C112=\"\",\"\",Limit_Deviation_Detail!C112)","v":""},{"$f":"IF(Limit_Deviation_Detail!E112=\"\",\"\",Limit_Deviation_Detail!E112)","v":""},"",{"$f":"+IF(AV90=\"\",\"\",MAX(BA$1:BA89)+1)","v":""},"","","",""]
[{"$f":"+IF(D91=\"\",\"\",MAX(A$1:A90)+1)","v":""},{"$f":"IF(Affected_Sources!C113=\"\",\"\",Affected_Sources!C113)","v":""},"",{"$f":"IF(COUNTIF(B$2:B91,B91)=1,B91,\"\")","v":""},null,null,null,null,null,null,{"$f":"+IF(N91=\"\",\"\",MAX(K$1:K90)+1)","v":""},{"$f":"IF(CMS_Identification!E113=\"\",\"\",CMS_Identification!E113)","v":""},"",{"$f":"IF(COUNTIF(L$2:L91,L91)=1,L91,\"\")","v":""},null,null,null,null,null,{"$f":"+IF(Y91=\"\",\"\",MAX(T$1:T90)+1)","v":""},{"$f":"IF(Limit_Deviation_Detail!B113=\"\",\"\",Limit_Deviation_Detail!B113)","v":""},{"$f":"IF(Limit_Deviation_Detail!C113=\"\",\"\",Limit_Deviation_Detail!C113)","v":""},{"$f":"IF(Limit_Deviation_Detail!E113=\"\",\"\",Limit_Deviation_Detail!E113)","v":""},"",{"$f":"IF(COUNTIF(X$2:X91,X91)=1,X91,\"\")","v":""},"","","","","",null,null,null,null,{"$f":"IF(COUNTIF(AM$2:AM91,AM91)=1,AM91,\"\")","v":""},{"$f":"IF(CMS_Deviation_Detail!B113=\"\",\"\",CMS_Deviation_Detail!B113)","v":""},{"$f":"IF(CMS_Deviation_Detail!C113=\"\",\"\",CMS_Deviation_Detail!C113)","v":""},{"$f":"IF(CMS_Deviation_Detail!D113=\"\",\"\",CMS_Deviation_Detail!D113)","v":""},"",{"$f":"+IF(AI91=\"\",\"\",MAX(AN$1:AN90)+1)","v":""},"","","","","","",null,{"$f":"IF(COUNTIF(AZ$2:AZ91,AZ91)=1,AZ91,\"\")","v":""},{"$f":"IF(Limit_Deviation_Detail!B113=\"\",\"\",Limit_Deviation_Detail!B113)","v":""},{"$f":"IF(Limit_Deviation_Detail!C113=\"\",\"\",Limit_Deviation_Detail!C113)","v":""},{"$f":"IF(Limit_Deviation_Detail!E113=\"\",\"\",Limit_Deviation_Detail!E113)","v":""},"",{"$f":"+IF(AV91=\"\",\"\",MAX(BA$1:BA90)+1)","v":""},"","","",""]
[{"$f":"+IF(D92=\"\",\"\",MAX(A$1:A91)+1)","v":""},{"$f":"IF(Affected_Sources!C114=\"\",\"\",Affected_Sources!C114)","v":""},"",{"$f":"IF(COUNTIF(B$2:B92,B92)=1,B92,\"\")","v":""},null,null,null,null,null,null,{"$f":"+IF(N92=\"\",\"\",MAX(K$1:K91)+1)","v":""},{"$f":"IF(CMS_Identification!E114=\"\",\"\",CMS_Identification!E114)","v":""},"",{"$f":"IF(COUNTIF(L$2:L92,L92)=1,L92,\"\")","v":""},null,null,null,null,null,{"$f":"+IF(Y92=\"\",\"\",MAX(T$1:T91)+1)","v":""},{"$f":"IF(Limit_Deviation_Detail!B114=\"\",\"\",Limit_Deviation_Detail!B114)","v":""},{"$f":"IF(Limit_Deviation_Detail!C114=\"\",\"\",Limit_Deviation_Detail!C114)","v":""},{"$f":"IF(Limit_Deviation_Detail!E114=\"\",\"\",Limit_Deviation_Detail!E114)","v":""},"",{"$f":"IF(COUNTIF(X$2:X92,X92)=1,X92,\"\")","v":""},"","","","","",null,null,null,null,{"$f":"IF(COUNTIF(AM$2:AM92,AM92)=1,AM92,\"\")","v":""},{"$f":"IF(CMS_Deviation_Detail!B114=\"\",\"\",CMS_Deviation_Detail!B114)","v":""},{"$f":"IF(CMS_Deviation_Detail!C114=\"\",\"\",CMS_Deviation_Detail!C114)","v":""},{"$f":"IF(CMS_Deviation_Detail!D114=\"\",\"\",CMS_Deviation_Detail!D114)","v":""},"",{"$f":"+IF(AI92=\"\",\"\",MAX(AN$1:AN91)+1)","v":""},"","","","","","",null,{"$f":"IF(COUNTIF(AZ$2:AZ92,AZ92)=1,AZ92,\"\")","v":""},{"$f":"IF(Limit_Deviation_Detail!B114=\"\",\"\",Limit_Deviation_Detail!B114)","v":""},{"$f":"IF(Limit_Deviation_Detail!C114=\"\",\"\",Limit_Deviation_Detail!C114)","v":""},{"$f":"IF(Limit_Deviation_Detail!E114=\"\",\"\",Limit_Deviation_Detail!E114)","v":""},"",{"$f":"+IF(AV92=\"\",\"\",MAX(BA$1:BA91)+1)","v":""},"","","",""]
[{"$f":"+IF(D93=\"\",\"\",MAX(A$1:A92)+1)","v":""},{"$f":"IF(Affected_Sources!C115=\"\",\"\",Affected_Sources!C115)","v":""},"",{"$f":"IF(COUNTIF(B$2:B93,B93)=1,B93,\"\")","v":""},null,null,null,null,null,null,{"$f":"+IF(N93=\"\",\"\",MAX(K$1:K92)+1)","v":""},{"$f":"IF(CMS_Identification!E115=\"\",\"\",CMS_Identification!E115)","v":""},"",{"$f":"IF(COUNTIF(L$2:L93,L93)=1,L93,\"\")","v":""},null,null,null,null,null,{"$f":"+IF(Y93=\"\",\"\",MAX(T$1:T92)+1)","v":""},{"$f":"IF(Limit_Deviation_Detail!B115=\"\",\"\",Limit_Deviation_Detail!B115)","v":""},{"$f":"IF(Limit_Deviation_Detail!C115=\"\",\"\",Limit_Deviation_Detail!C115)","v":""},{"$f":"IF(Limit_Deviation_Detail!E115=\"\",\"\",Limit_Deviation_Detail!E115)","v":""},"",{"$f":"IF(COUNTIF(X$2:X93,X93)=1,X93,\"\")","v":""},"","","","","",null,null,null,null,{"$f":"IF(COUNTIF(AM$2:AM93,AM93)=1,AM93,\"\")","v":""},{"$f":"IF(CMS_Deviation_Detail!B115=\"\",\"\",CMS_Deviation_Detail!B115)","v":""},{"$f":"IF(CMS_Deviation_Detail!C115=\"\",\"\",CMS_Deviation_Detail!C115)","v":""},{"$f":"IF(CMS_Deviation_Detail!D115=\"\",\"\",CMS_Deviation_Detail!D115)","v":""},"",{"$f":"+IF(AI93=\"\",\"\",MAX(AN$1:AN92)+1)","v":""},"","","","","","",null,{"$f":"IF(COUNTIF(AZ$2:AZ93,AZ93)=1,AZ93,\"\")","v":""},{"$f":"IF(Limit_Deviation_Detail!B115=\"\",\"\",Limit_Deviation_Detail!B115)","v":""},{"$f":"IF(Limit_Deviation_Detail!C115=\"\",\"\",Limit_Deviation_Detail!C115)","v":""},{"$f":"IF(Limit_Deviation_Detail!E115=\"\",\"\",Limit_Deviation_Detail!E115)","v":""},"",{"$f":"+IF(AV93=\"\",\"\",MAX(BA$1:BA92)+1)","v":""},"","","",""]
[{"$f":"+IF(D94=\"\",\"\",MAX(A$1:A93)+1)","v":""},{"$f":"IF(Affected_Sources!C116=\"\",\"\",Affected_Sources!C116)","v":""},"",{"$f":"IF(COUNTIF(B$2:B94,B94)=1,B94,\"\")","v":""},null,null,null,null,null,null,{"$f":"+IF(N94=\"\",\"\",MAX(K$1:K93)+1)","v":""},{"$f":"IF(CMS_Identification!E116=\"\",\"\",CMS_Identification!E116)","v":""},"",{"$f":"IF(COUNTIF(L$2:L94,L94)=1,L94,\"\")","v":""},null,null,null,null,null,{"$f":"+IF(Y94=\"\",\"\",MAX(T$1:T93)+1)","v":""},{"$f":"IF(Limit_Deviation_Detail!B116=\"\",\"\",Limit_Deviation_Detail!B116)","v":""},{"$f":"IF(Limit_Deviation_Detail!C116=\"\",\"\",Limit_Deviation_Detail!C116)","v":""},{"$f":"IF(Limit_Deviation_Detail!E116=\"\",\"\",Limit_Deviation_Detail!E116)","v":""},"",{"$f":"IF(COUNTIF(X$2:X94,X94)=1,X94,\"\")","v":""},"","","","","",null,null,null,null,{"$f":"IF(COUNTIF(AM$2:AM94,AM94)=1,AM94,\"\")","v":""},{"$f":"IF(CMS_Deviation_Detail!B116=\"\",\"\",CMS_Deviation_Detail!B116)","v":""},{"$f":"IF(CMS_Deviation_Detail!C116=\"\",\"\",CMS_Deviation_Detail!C116)","v":""},{"$f":"IF(CMS_Deviation_Detail!D116=\"\",\"\",CMS_Deviation_Detail!D116)","v":""},"",{"$f":"+IF(AI94=\"\",\"\",MAX(AN$1:AN93)+1)","v":""},"","","","","","",null,{"$f":"IF(COUNTIF(AZ$2:AZ94,AZ94)=1,AZ94,\"\")","v":""},{"$f":"IF(Limit_Deviation_Detail!B116=\"\",\"\",Limit_Deviation_Detail!B116)","v":""},{"$f":"IF(Limit_Deviation_Detail!C116=\"\",\"\",Limit_Deviation_Detail!C116)","v":""},{"$f":"IF(Limit_Deviation_Detail!E116=\"\",\"\",Limit_Deviation_Detail!E116)","v":""},"",{"$f":"+IF(AV94=\"\",\"\",MAX(BA$1:BA93)+1)","v":""},"","","",""]
[{"$f":"+IF(D95=\"\",\"\",MAX(A$1:A94)+1)","v":""},{"$f":"IF(Affected_Sources!C117=\"\",\"\",Affected_Sources!C117)","v":""},"",{"$f":"IF(COUNTIF(B$2:B95,B95)=1,B95,\"\")","v":""},null,null,null,null,null,null,{"$f":"+IF(N95=\"\",\"\",MAX(K$1:K94)+1)","v":""},{"$f":"IF(CMS_Identification!E117=\"\",\"\",CMS_Identification!E117)","v":""},"",{"$f":"IF(COUNTIF(L$2:L95,L95)=1,L95,\"\")","v":""},null,null,null,null,null,{"$f":"+IF(Y95=\"\",\"\",MAX(T$1:T94)+1)","v":""},{"$f":"IF(Limit_Deviation_Detail!B117=\"\",\"\",Limit_Deviation_Detail!B117)","v":""},{"$f":"IF(Limit_Deviation_Detail!C117=\"\",\"\",Limit_Deviation_Detail!C117)","v":""},{"$f":"IF(Limit_Deviation_Detail!E117=\"\",\"\",Limit_Deviation_Detail!E117)","v":""},"",{"$f":"IF(COUNTIF(X$2:X95,X95)=1,X95,\"\")","v":""},"","","","","",null,null,null,null,{"$f":"IF(COUNTIF(AM$2:AM95,AM95)=1,AM95,\"\")","v":""},{"$f":"IF(CMS_Deviation_Detail!B117=\"\",\"\",CMS_Deviation_Detail!B117)","v":""},{"$f":"IF(CMS_Deviation_Detail!C117=\"\",\"\",CMS_Deviation_Detail!C117)","v":""},{"$f":"IF(CMS_Deviation_Detail!D117=\"\",\"\",CMS_Deviation_Detail!D117)","v":""},"",{"$f":"+IF(AI95=\"\",\"\",MAX(AN$1:AN94)+1)","v":""},"","","","","","",null,{"$f":"IF(COUNTIF(AZ$2:AZ95,AZ95)=1,AZ95,\"\")","v":""},{"$f":"IF(Limit_Deviation_Detail!B117=\"\",\"\",Limit_Deviation_Detail!B117)","v":""},{"$f":"IF(Limit_Deviation_Detail!C117=\"\",\"\",Limit_Deviation_Detail!C117)","v":""},{"$f":"IF(Limit_Deviation_Detail!E117=\"\",\"\",Limit_Deviation_Detail!E117)","v":""},"",{"$f":"+IF(AV95=\"\",\"\",MAX(BA$1:BA94)+1)","v":""},"","","",""]
[{"$f":"+IF(D96=\"\",\"\",MAX(A$1:A95)+1)","v":""},{"$f":"IF(Affected_Sources!C118=\"\",\"\",Affected_Sources!C118)","v":""},"",{"$f":"IF(COUNTIF(B$2:B96,B96)=1,B96,\"\")","v":""},null,null,null,null,null,null,{"$f":"+IF(N96=\"\",\"\",MAX(K$1:K95)+1)","v":""},{"$f":"IF(CMS_Identification!E118=\"\",\"\",CMS_Identification!E118)","v":""},"",{"$f":"IF(COUNTIF(L$2:L96,L96)=1,L96,\"\")","v":""},null,null,null,null,null,{"$f":"+IF(Y96=\"\",\"\",MAX(T$1:T95)+1)","v":""},{"$f":"IF(Limit_Deviation_Detail!B118=\"\",\"\",Limit_Deviation_Detail!B118)","v":""},{"$f":"IF(Limit_Deviation_Detail!C118=\"\",\"\",Limit_Deviation_Detail!C118)","v":""},{"$f":"IF(Limit_Deviation_Detail!E118=\"\",\"\",Limit_Deviation_Detail!E118)","v":""},"",{"$f":"IF(COUNTIF(X$2:X96,X96)=1,X96,\"\")","v":""},"","","","","",null,null,null,null,{"$f":"IF(COUNTIF(AM$2:AM96,AM96)=1,AM96,\"\")","v":""},{"$f":"IF(CMS_Deviation_Detail!B118=\"\",\"\",CMS_Deviation_Detail!B118)","v":""},{"$f":"IF(CMS_Deviation_Detail!C118=\"\",\"\",CMS_Deviation_Detail!C118)","v":""},{"$f":"IF(CMS_Deviation_Detail!D118=\"\",\"\",CMS_Deviation_Detail!D118)","v":""},"",{"$f":"+IF(AI96=\"\",\"\",MAX(AN$1:AN95)+1)","v":""},"","","","","","",null,{"$f":"IF(COUNTIF(AZ$2:AZ96,AZ96)=1,AZ96,\"\")","v":""},{"$f":"IF(Limit_Deviation_Detail!B118=\"\",\"\",Limit_Deviation_Detail!B118)","v":""},{"$f":"IF(Limit_Deviation_Detail!C118=\"\",\"\",Limit_Deviation_Detail!C118)","v":""},{"$f":"IF(Limit_Deviation_Detail!E118=\"\",\"\",Limit_Deviation_Detail!E118)","v":""},"",{"$f":"+IF(AV96=\"\",\"\",MAX(BA$1:BA95)+1)","v":""},"","","",""]
[{"$f":"+IF(D97=\"\",\"\",MAX(A$1:A96)+1)","v":""},{"$f":"IF(Affected_Sources!C119=\"\",\"\",Affected_Sources!C119)","v":""},"",{"$f":"IF(COUNTIF(B$2:B97,B97)=1,B97,\"\")","v":""},null,null,null,null,null,null,{"$f":"+IF(N97=\"\",\"\",MAX(K$1:K96)+1)","v":""},{"$f":"IF(CMS_Identification!E119=\"\",\"\",CMS_Identification!E119)","v":""},"",{"$f":"IF(COUNTIF(L$2:L97,L97)=1,L97,\"\")","v":""},null,null,null,null,null,{"$f":"+IF(Y97=\"\",\"\",MAX(T$1:T96)+1)","v":""},{"$f":"IF(Limit_Deviation_Detail!B119=\"\",\"\",Limit_Deviation_Detail!B119)","v":""},{"$f":"IF(Limit_Deviation_Detail!C119=\"\",\"\",Limit_Deviation_Detail!C119)","v":""},{"$f":"IF(Limit_Deviation_Detail!E119=\"\",\"\",Limit_Deviation_Detail!E119)","v":""},"",{"$f":"IF(COUNTIF(X$2:X97,X97)=1,X97,\"\")","v":""},"","","","","",null,null,null,null,{"$f":"IF(COUNTIF(AM$2:AM97,AM97)=1,AM97,\"\")","v":""},{"$f":"IF(CMS_Deviation_Detail!B119=\"\",\"\",CMS_Deviation_Detail!B119)","v":""},{"$f":"IF(CMS_Deviation_Detail!C119=\"\",\"\",CMS_Deviation_Detail!C119)","v":""},{"$f":"IF(CMS_Deviation_Detail!D119=\"\",\"\",CMS_Deviation_Detail!D119)","v":""},"",{"$f":"+IF(AI97=\"\",\"\",MAX(AN$1:AN96)+1)","v":""},"","","","","","",null,{"$f":"IF(COUNTIF(AZ$2:AZ97,AZ97)=1,AZ97,\"\")","v":""},{"$f":"IF(Limit_Deviation_Detail!B119=\"\",\"\",Limit_Deviation_Detail!B119)","v":""},{"$f":"IF(Limit_Deviation_Detail!C119=\"\",\"\",Limit_Deviation_Detail!C119)","v":""},{"$f":"IF(Limit_Deviation_Detail!E119=\"\",\"\",Limit_Deviation_Detail!E119)","v":""},"",{"$f":"+IF(AV97=\"\",\"\",MAX(BA$1:BA96)+1)","v":""},"","","",""]
[{"$f":"+IF(D98=\"\",\"\",MAX(A$1:A97)+1)","v":""},{"$f":"IF(Affected_Sources!C120=\"\",\"\",Affected_Sources!C120)","v":""},"",{"$f":"IF(COUNTIF(B$2:B98,B98)=1,B98,\"\")","v":""},null,null,null,null,null,null,{"$f":"+IF(N98=\"\",\"\",MAX(K$1:K97)+1)","v":""},{"$f":"IF(CMS_Identification!E120=\"\",\"\",CMS_Identification!E120)","v":""},"",{"$f":"IF(COUNTIF(L$2:L98,L98)=1,L98,\"\")","v":""},null,null,null,null,null,{"$f":"+IF(Y98=\"\",\"\",MAX(T$1:T97)+1)","v":""},{"$f":"IF(Limit_Deviation_Detail!B120=\"\",\"\",Limit_Deviation_Detail!B120)","v":""},{"$f":"IF(Limit_Deviation_Detail!C120=\"\",\"\",Limit_Deviation_Detail!C120)","v":""},{"$f":"IF(Limit_Deviation_Detail!E120=\"\",\"\",Limit_Deviation_Detail!E120)","v":""},"",{"$f":"IF(COUNTIF(X$2:X98,X98)=1,X98,\"\")","v":""},"","","","","",null,null,null,null,{"$f":"IF(COUNTIF(AM$2:AM98,AM98)=1,AM98,\"\")","v":""},{"$f":"IF(CMS_Deviation_Detail!B120=\"\",\"\",CMS_Deviation_Detail!B120)","v":""},{"$f":"IF(CMS_Deviation_Detail!C120=\"\",\"\",CMS_Deviation_Detail!C120)","v":""},{"$f":"IF(CMS_Deviation_Detail!D120=\"\",\"\",CMS_Deviation_Detail!D120)","v":""},"",{"$f":"+IF(AI98=\"\",\"\",MAX(AN$1:AN97)+1)","v":""},"","","","","","",null,{"$f":"IF(COUNTIF(AZ$2:AZ98,AZ98)=1,AZ98,\"\")","v":""},{"$f":"IF(Limit_Deviation_Detail!B120=\"\",\"\",Limit_Deviation_Detail!B120)","v":""},{"$f":"IF(Limit_Deviation_Detail!C120=\"\",\"\",Limit_Deviation_Detail!C120)","v":""},{"$f":"IF(Limit_Deviation_Detail!E120=\"\",\"\",Limit_Deviation_Detail!E120)","v":""},"",{"$f":"+IF(AV98=\"\",\"\",MAX(BA$1:BA97)+1)","v":""},"","","",""]
[{"$f":"+IF(D99=\"\",\"\",MAX(A$1:A98)+1)","v":""},{"$f":"IF(Affected_Sources!C121=\"\",\"\",Affected_Sources!C121)","v":""},"",{"$f":"IF(COUNTIF(B$2:B99,B99)=1,B99,\"\")","v":""},null,null,null,null,null,null,{"$f":"+IF(N99=\"\",\"\",MAX(K$1:K98)+1)","v":""},{"$f":"IF(CMS_Identification!E121=\"\",\"\",CMS_Identification!E121)","v":""},"",{"$f":"IF(COUNTIF(L$2:L99,L99)=1,L99,\"\")","v":""},null,null,null,null,null,{"$f":"+IF(Y99=\"\",\"\",MAX(T$1:T98)+1)","v":""},{"$f":"IF(Limit_Deviation_Detail!B121=\"\",\"\",Limit_Deviation_Detail!B121)","v":""},{"$f":"IF(Limit_Deviation_Detail!C121=\"\",\"\",Limit_Deviation_Detail!C121)","v":""},{"$f":"IF(Limit_Deviation_Detail!E121=\"\",\"\",Limit_Deviation_Detail!E121)","v":""},"",{"$f":"IF(COUNTIF(X$2:X99,X99)=1,X99,\"\")","v":""},"","","","","",null,null,null,null,{"$f":"IF(COUNTIF(AM$2:AM99,AM99)=1,AM99,\"\")","v":""},{"$f":"IF(CMS_Deviation_Detail!B121=\"\",\"\",CMS_Deviation_Detail!B121)","v":""},{"$f":"IF(CMS_Deviation_Detail!C121=\"\",\"\",CMS_Deviation_Detail!C121)","v":""},{"$f":"IF(CMS_Deviation_Detail!D121=\"\",\"\",CMS_Deviation_Detail!D121)","v":""},"",{"$f":"+IF(AI99=\"\",\"\",MAX(AN$1:AN98)+1)","v":""},"","","","","","",null,{"$f":"IF(COUNTIF(AZ$2:AZ99,AZ99)=1,AZ99,\"\")","v":""},{"$f":"IF(Limit_Deviation_Detail!B121=\"\",\"\",Limit_Deviation_Detail!B121)","v":""},{"$f":"IF(Limit_Deviation_Detail!C121=\"\",\"\",Limit_Deviation_Detail!C121)","v":""},{"$f":"IF(Limit_Deviation_Detail!E121=\"\",\"\",Limit_Deviation_Detail!E121)","v":""},"",{"$f":"+IF(AV99=\"\",\"\",MAX(BA$1:BA98)+1)","v":""},"","","",""]
[{"$f":"+IF(D100=\"\",\"\",MAX(A$1:A99)+1)","v":""},{"$f":"IF(Affected_Sources!C122=\"\",\"\",Affected_Sources!C122)","v":""},"",{"$f":"IF(COUNTIF(B$2:B100,B100)=1,B100,\"\")","v":""},null,null,null,null,null,null,{"$f":"+IF(N100=\"\",\"\",MAX(K$1:K99)+1)","v":""},{"$f":"IF(CMS_Identification!E122=\"\",\"\",CMS_Identification!E122)","v":""},"",{"$f":"IF(COUNTIF(L$2:L100,L100)=1,L100,\"\")","v":""},null,null,null,null,null,{"$f":"+IF(Y100=\"\",\"\",MAX(T$1:T99)+1)","v":""},{"$f":"IF(Limit_Deviation_Detail!B122=\"\",\"\",Limit_Deviation_Detail!B122)","v":""},{"$f":"IF(Limit_Deviation_Detail!C122=\"\",\"\",Limit_Deviation_Detail!C122)","v":""},{"$f":"IF(Limit_Deviation_Detail!E122=\"\",\"\",Limit_Deviation_Detail!E122)","v":""},"",{"$f":"IF(COUNTIF(X$2:X100,X100)=1,X100,\"\")","v":""},"","","","","",null,null,null,null,{"$f":"IF(COUNTIF(AM$2:AM100,AM100)=1,AM100,\"\")","v":""},{"$f":"IF(CMS_Deviation_Detail!B122=\"\",\"\",CMS_Deviation_Detail!B122)","v":""},{"$f":"IF(CMS_Deviation_Detail!C122=\"\",\"\",CMS_Deviation_Detail!C122)","v":""},{"$f":"IF(CMS_Deviation_Detail!D122=\"\",\"\",CMS_Deviation_Detail!D122)","v":""},"",{"$f":"+IF(AI100=\"\",\"\",MAX(AN$1:AN99)+1)","v":""},"","","","","","",null,{"$f":"IF(COUNTIF(AZ$2:AZ100,AZ100)=1,AZ100,\"\")","v":""},{"$f":"IF(Limit_Deviation_Detail!B122=\"\",\"\",Limit_Deviation_Detail!B122)","v":""},{"$f":"IF(Limit_Deviation_Detail!C122=\"\",\"\",Limit_Deviation_Detail!C122)","v":""},{"$f":"IF(Limit_Deviation_Detail!E122=\"\",\"\",Limit_Deviation_Detail!E122)","v":""},"",{"$f":"+IF(AV100=\"\",\"\",MAX(BA$1:BA99)+1)","v":""},"","","",""]
[{"$f":"+IF(D101=\"\",\"\",MAX(A$1:A100)+1)","v":""},{"$f":"IF(Affected_Sources!C123=\"\",\"\",Affected_Sources!C123)","v":""},"",{"$f":"IF(COUNTIF(B$2:B101,B101)=1,B101,\"\")","v":""},null,null,null,null,null,null,{"$f":"+IF(N101=\"\",\"\",MAX(K$1:K100)+1)","v":""},{"$f":"IF(CMS_Identification!E123=\"\",\"\",CMS_Identification!E123)","v":""},"",{"$f":"IF(COUNTIF(L$2:L101,L101)=1,L101,\"\")","v":""},null,null,null,null,null,{"$f":"+IF(Y101=\"\",\"\",MAX(T$1:T100)+1)","v":""},{"$f":"IF(Limit_Deviation_Detail!B123=\"\",\"\",Limit_Deviation_Detail!B123)","v":""},{"$f":"IF(Limit_Deviation_Detail!C123=\"\",\"\",Limit_Deviation_Detail!C123)","v":""},{"$f":"IF(Limit_Deviation_Detail!E123=\"\",\"\",Limit_Deviation_Detail!E123)","v":""},"",{"$f":"IF(COUNTIF(X$2:X101,X101)=1,X101,\"\")","v":""},"","","","","",null,null,null,null,{"$f":"IF(COUNTIF(AM$2:AM101,AM101)=1,AM101,\"\")","v":""},{"$f":"IF(CMS_Deviation_Detail!B123=\"\",\"\",CMS_Deviation_Detail!B123)","v":""},{"$f":"IF(CMS_Deviation_Detail!C123=\"\",\"\",CMS_Deviation_Detail!C123)","v":""},{"$f":"IF(CMS_Deviation_Detail!D123=\"\",\"\",CMS_Deviation_Detail!D123)","v":""},"",{"$f":"+IF(AI101=\"\",\"\",MAX(AN$1:AN100)+1)","v":""},"","","","","","",null,{"$f":"IF(COUNTIF(AZ$2:AZ101,AZ101)=1,AZ101,\"\")","v":""},{"$f":"IF(Limit_Deviation_Detail!B123=\"\",\"\",Limit_Deviation_Detail!B123)","v":""},{"$f":"IF(Limit_Deviation_Detail!C123=\"\",\"\",Limit_Deviation_Detail!C123)","v":""},{"$f":"IF(Limit_Deviation_Detail!E123=\"\",\"\",Limit_Deviation_Detail!E123)","v":""},"",{"$f":"+IF(AV101=\"\",\"\",MAX(BA$1:BA100)+1)","v":""},"","","",""]
[{"$f":"+IF(D102=\"\",\"\",MAX(A$1:A101)+1)","v":""},{"$f":"IF(Affected_Sources!C124=\"\",\"\",Affected_Sources!C124)","v":""},"",{"$f":"IF(COUNTIF(B$2:B102,B102)=1,B102,\"\")","v":""},null,null,null,null,null,null,null,null,null,null,null,null,null,null,null,{"$f":"+IF(Y102=\"\",\"\",MAX(T$1:T101)+1)","v":""},{"$f":"IF(Limit_Deviation_Detail!B124=\"\",\"\",Limit_Deviation_Detail!B124)","v":""},{"$f":"IF(Limit_Deviation_Detail!C124=\"\",\"\",Limit_Deviation_Detail!C124)","v":""},{"$f":"IF(Limit_Deviation_Detail!E124=\"\",\"\",Limit_Deviation_Detail!E124)","v":""},"",{"$f":"IF(COUNTIF(X$2:X102,X102)=1,X102,\"\")","v":""},"","","","","",null,null,null,null,{"$f":"IF(COUNTIF(AM$2:AM102,AM102)=1,AM102,\"\")","v":""},{"$f":"IF(CMS_Deviation_Detail!B124=\"\",\"\",CMS_Deviation_Detail!B124)","v":""},{"$f":"IF(CMS_Deviation_Detail!C124=\"\",\"\",CMS_Deviation_Detail!C124)","v":""},{"$f":"IF(CMS_Deviation_Detail!D124=\"\",\"\",CMS_Deviation_Detail!D124)","v":""},"",{"$f":"+IF(AI102=\"\",\"\",MAX(AN$1:AN101)+1)","v":""},"","","","","","",null,{"$f":"IF(COUNTIF(AZ$2:AZ102,AZ102)=1,AZ102,\"\")","v":""},{"$f":"IF(Limit_Deviation_Detail!B124=\"\",\"\",Limit_Deviation_Detail!B124)","v":""},{"$f":"IF(Limit_Deviation_Detail!C124=\"\",\"\",Limit_Deviation_Detail!C124)","v":""},{"$f":"IF(Limit_Deviation_Detail!E124=\"\",\"\",Limit_Deviation_Detail!E124)","v":""},"",{"$f":"+IF(AV102=\"\",\"\",MAX(BA$1:BA101)+1)","v":""},"","","",""]
[{"$f":"+IF(D103=\"\",\"\",MAX(A$1:A102)+1)","v":""},{"$f":"IF(Affected_Sources!C125=\"\",\"\",Affected_Sources!C125)","v":""},"",{"$f":"IF(COUNTIF(B$2:B103,B103)=1,B103,\"\")","v":""},null,null,null,null,null,null,null,null,null,null,null,null,null,null,null,{"$f":"+IF(Y103=\"\",\"\",MAX(T$1:T102)+1)","v":""},{"$f":"IF(Limit_Deviation_Detail!B125=\"\",\"\",Limit_Deviation_Detail!B125)","v":""},{"$f":"IF(Limit_Deviation_Detail!C125=\"\",\"\",Limit_Deviation_Detail!C125)","v":""},{"$f":"IF(Limit_Deviation_Detail!E125=\"\",\"\",Limit_Deviation_Detail!E125)","v":""},"",{"$f":"IF(COUNTIF(X$2:X103,X103)=1,X103,\"\")","v":""},"","","","","",null,null,null,null,{"$f":"IF(COUNTIF(AM$2:AM103,AM103)=1,AM103,\"\")","v":""},{"$f":"IF(CMS_Deviation_Detail!B125=\"\",\"\",CMS_Deviation_Detail!B125)","v":""},{"$f":"IF(CMS_Deviation_Detail!C125=\"\",\"\",CMS_Deviation_Detail!C125)","v":""},{"$f":"IF(CMS_Deviation_Detail!D125=\"\",\"\",CMS_Deviation_Detail!D125)","v":""},"",{"$f":"+IF(AI103=\"\",\"\",MAX(AN$1:AN102)+1)","v":""},"","","","","","",null,{"$f":"IF(COUNTIF(AZ$2:AZ103,AZ103)=1,AZ103,\"\")","v":""},{"$f":"IF(Limit_Deviation_Detail!B125=\"\",\"\",Limit_Deviation_Detail!B125)","v":""},{"$f":"IF(Limit_Deviation_Detail!C125=\"\",\"\",Limit_Deviation_Detail!C125)","v":""},{"$f":"IF(Limit_Deviation_Detail!E125=\"\",\"\",Limit_Deviation_Detail!E125)","v":""},"",{"$f":"+IF(AV103=\"\",\"\",MAX(BA$1:BA102)+1)","v":""},"","","",""]
[{"$f":"+IF(D104=\"\",\"\",MAX(A$1:A103)+1)","v":""},{"$f":"IF(Affected_Sources!C126=\"\",\"\",Affected_Sources!C126)","v":""},"",{"$f":"IF(COUNTIF(B$2:B104,B104)=1,B104,\"\")","v":""},null,null,null,null,null,null,null,null,null,null,null,null,null,null,null,{"$f":"+IF(Y104=\"\",\"\",MAX(T$1:T103)+1)","v":""},{"$f":"IF(Limit_Deviation_Detail!B126=\"\",\"\",Limit_Deviation_Detail!B126)","v":""},{"$f":"IF(Limit_Deviation_Detail!C126=\"\",\"\",Limit_Deviation_Detail!C126)","v":""},{"$f":"IF(Limit_Deviation_Detail!E126=\"\",\"\",Limit_Deviation_Detail!E126)","v":""},"",{"$f":"IF(COUNTIF(X$2:X104,X104)=1,X104,\"\")","v":""},"","","","","",null,null,null,null,{"$f":"IF(COUNTIF(AM$2:AM104,AM104)=1,AM104,\"\")","v":""},{"$f":"IF(CMS_Deviation_Detail!B126=\"\",\"\",CMS_Deviation_Detail!B126)","v":""},{"$f":"IF(CMS_Deviation_Detail!C126=\"\",\"\",CMS_Deviation_Detail!C126)","v":""},{"$f":"IF(CMS_Deviation_Detail!D126=\"\",\"\",CMS_Deviation_Detail!D126)","v":""},"",{"$f":"+IF(AI104=\"\",\"\",MAX(AN$1:AN103)+1)","v":""},"","","","","","",null,{"$f":"IF(COUNTIF(AZ$2:AZ104,AZ104)=1,AZ104,\"\")","v":""},{"$f":"IF(Limit_Deviation_Detail!B126=\"\",\"\",Limit_Deviation_Detail!B126)","v":""},{"$f":"IF(Limit_Deviation_Detail!C126=\"\",\"\",Limit_Deviation_Detail!C126)","v":""},{"$f":"IF(Limit_Deviation_Detail!E126=\"\",\"\",Limit_Deviation_Detail!E126)","v":""},"",{"$f":"+IF(AV104=\"\",\"\",MAX(BA$1:BA103)+1)","v":""},"","","",""]
[{"$f":"+IF(D105=\"\",\"\",MAX(A$1:A104)+1)","v":""},{"$f":"IF(Affected_Sources!C127=\"\",\"\",Affected_Sources!C127)","v":""},"",{"$f":"IF(COUNTIF(B$2:B105,B105)=1,B105,\"\")","v":""},null,null,null,null,null,null,null,null,null,null,null,null,null,null,null,{"$f":"+IF(Y105=\"\",\"\",MAX(T$1:T104)+1)","v":""},{"$f":"IF(Limit_Deviation_Detail!B127=\"\",\"\",Limit_Deviation_Detail!B127)","v":""},{"$f":"IF(Limit_Deviation_Detail!C127=\"\",\"\",Limit_Deviation_Detail!C127)","v":""},{"$f":"IF(Limit_Deviation_Detail!E127=\"\",\"\",Limit_Deviation_Detail!E127)","v":""},"",{"$f":"IF(COUNTIF(X$2:X105,X105)=1,X105,\"\")","v":""},"","","","","",null,null,null,null,{"$f":"IF(COUNTIF(AM$2:AM105,AM105)=1,AM105,\"\")","v":""},{"$f":"IF(CMS_Deviation_Detail!B127=\"\",\"\",CMS_Deviation_Detail!B127)","v":""},{"$f":"IF(CMS_Deviation_Detail!C127=\"\",\"\",CMS_Deviation_Detail!C127)","v":""},{"$f":"IF(CMS_Deviation_Detail!D127=\"\",\"\",CMS_Deviation_Detail!D127)","v":""},"",{"$f":"+IF(AI105=\"\",\"\",MAX(AN$1:AN104)+1)","v":""},"","","","","","",null,{"$f":"IF(COUNTIF(AZ$2:AZ105,AZ105)=1,AZ105,\"\")","v":""},{"$f":"IF(Limit_Deviation_Detail!B127=\"\",\"\",Limit_Deviation_Detail!B127)","v":""},{"$f":"IF(Limit_Deviation_Detail!C127=\"\",\"\",Limit_Deviation_Detail!C127)","v":""},{"$f":"IF(Limit_Deviation_Detail!E127=\"\",\"\",Limit_Deviation_Detail!E127)","v":""},"",{"$f":"+IF(AV105=\"\",\"\",MAX(BA$1:BA104)+1)","v":""},"","","",""]
[{"$f":"+IF(D106=\"\",\"\",MAX(A$1:A105)+1)","v":""},{"$f":"IF(Affected_Sources!C128=\"\",\"\",Affected_Sources!C128)","v":""},"",{"$f":"IF(COUNTIF(B$2:B106,B106)=1,B106,\"\")","v":""},null,null,null,null,null,null,null,null,null,null,null,null,null,null,null,{"$f":"+IF(Y106=\"\",\"\",MAX(T$1:T105)+1)","v":""},{"$f":"IF(Limit_Deviation_Detail!B128=\"\",\"\",Limit_Deviation_Detail!B128)","v":""},{"$f":"IF(Limit_Deviation_Detail!C128=\"\",\"\",Limit_Deviation_Detail!C128)","v":""},{"$f":"IF(Limit_Deviation_Detail!E128=\"\",\"\",Limit_Deviation_Detail!E128)","v":""},"",{"$f":"IF(COUNTIF(X$2:X106,X106)=1,X106,\"\")","v":""},"","","","","",null,null,null,null,{"$f":"IF(COUNTIF(AM$2:AM106,AM106)=1,AM106,\"\")","v":""},{"$f":"IF(CMS_Deviation_Detail!B128=\"\",\"\",CMS_Deviation_Detail!B128)","v":""},{"$f":"IF(CMS_Deviation_Detail!C128=\"\",\"\",CMS_Deviation_Detail!C128)","v":""},{"$f":"IF(CMS_Deviation_Detail!D128=\"\",\"\",CMS_Deviation_Detail!D128)","v":""},"",{"$f":"+IF(AI106=\"\",\"\",MAX(AN$1:AN105)+1)","v":""},"","","","","","",null,{"$f":"IF(COUNTIF(AZ$2:AZ106,AZ106)=1,AZ106,\"\")","v":""},{"$f":"IF(Limit_Deviation_Detail!B128=\"\",\"\",Limit_Deviation_Detail!B128)","v":""},{"$f":"IF(Limit_Deviation_Detail!C128=\"\",\"\",Limit_Deviation_Detail!C128)","v":""},{"$f":"IF(Limit_Deviation_Detail!E128=\"\",\"\",Limit_Deviation_Detail!E128)","v":""},"",{"$f":"+IF(AV106=\"\",\"\",MAX(BA$1:BA105)+1)","v":""},"","","",""]
[{"$f":"+IF(D107=\"\",\"\",MAX(A$1:A106)+1)","v":""},{"$f":"IF(Affected_Sources!C129=\"\",\"\",Affected_Sources!C129)","v":""},"",{"$f":"IF(COUNTIF(B$2:B107,B107)=1,B107,\"\")","v":""},null,null,null,null,null,null,null,null,null,null,null,null,null,null,null,{"$f":"+IF(Y107=\"\",\"\",MAX(T$1:T106)+1)","v":""},{"$f":"IF(Limit_Deviation_Detail!B129=\"\",\"\",Limit_Deviation_Detail!B129)","v":""},{"$f":"IF(Limit_Deviation_Detail!C129=\"\",\"\",Limit_Deviation_Detail!C129)","v":""},{"$f":"IF(Limit_Deviation_Detail!E129=\"\",\"\",Limit_Deviation_Detail!E129)","v":""},"",{"$f":"IF(COUNTIF(X$2:X107,X107)=1,X107,\"\")","v":""},"","","","","",null,null,null,null,{"$f":"IF(COUNTIF(AM$2:AM107,AM107)=1,AM107,\"\")","v":""},{"$f":"IF(CMS_Deviation_Detail!B129=\"\",\"\",CMS_Deviation_Detail!B129)","v":""},{"$f":"IF(CMS_Deviation_Detail!C129=\"\",\"\",CMS_Deviation_Detail!C129)","v":""},{"$f":"IF(CMS_Deviation_Detail!D129=\"\",\"\",CMS_Deviation_Detail!D129)","v":""},"",{"$f":"+IF(AI107=\"\",\"\",MAX(AN$1:AN106)+1)","v":""},"","","","","","",null,{"$f":"IF(COUNTIF(AZ$2:AZ107,AZ107)=1,AZ107,\"\")","v":""},{"$f":"IF(Limit_Deviation_Detail!B129=\"\",\"\",Limit_Deviation_Detail!B129)","v":""},{"$f":"IF(Limit_Deviation_Detail!C129=\"\",\"\",Limit_Deviation_Detail!C129)","v":""},{"$f":"IF(Limit_Deviation_Detail!E129=\"\",\"\",Limit_Deviation_Detail!E129)","v":""},"",{"$f":"+IF(AV107=\"\",\"\",MAX(BA$1:BA106)+1)","v":""},"","","",""]
[{"$f":"+IF(D108=\"\",\"\",MAX(A$1:A107)+1)","v":""},{"$f":"IF(Affected_Sources!C130=\"\",\"\",Affected_Sources!C130)","v":""},"",{"$f":"IF(COUNTIF(B$2:B108,B108)=1,B108,\"\")","v":""},null,null,null,null,null,null,null,null,null,null,null,null,null,null,null,{"$f":"+IF(Y108=\"\",\"\",MAX(T$1:T107)+1)","v":""},{"$f":"IF(Limit_Deviation_Detail!B130=\"\",\"\",Limit_Deviation_Detail!B130)","v":""},{"$f":"IF(Limit_Deviation_Detail!C130=\"\",\"\",Limit_Deviation_Detail!C130)","v":""},{"$f":"IF(Limit_Deviation_Detail!E130=\"\",\"\",Limit_Deviation_Detail!E130)","v":""},"",{"$f":"IF(COUNTIF(X$2:X108,X108)=1,X108,\"\")","v":""},"","","","","",null,null,null,null,{"$f":"IF(COUNTIF(AM$2:AM108,AM108)=1,AM108,\"\")","v":""},{"$f":"IF(CMS_Deviation_Detail!B130=\"\",\"\",CMS_Deviation_Detail!B130)","v":""},{"$f":"IF(CMS_Deviation_Detail!C130=\"\",\"\",CMS_Deviation_Detail!C130)","v":""},{"$f":"IF(CMS_Deviation_Detail!D130=\"\",\"\",CMS_Deviation_Detail!D130)","v":""},"",{"$f":"+IF(AI108=\"\",\"\",MAX(AN$1:AN107)+1)","v":""},"","","","","","",null,{"$f":"IF(COUNTIF(AZ$2:AZ108,AZ108)=1,AZ108,\"\")","v":""},{"$f":"IF(Limit_Deviation_Detail!B130=\"\",\"\",Limit_Deviation_Detail!B130)","v":""},{"$f":"IF(Limit_Deviation_Detail!C130=\"\",\"\",Limit_Deviation_Detail!C130)","v":""},{"$f":"IF(Limit_Deviation_Detail!E130=\"\",\"\",Limit_Deviation_Detail!E130)","v":""},"",{"$f":"+IF(AV108=\"\",\"\",MAX(BA$1:BA107)+1)","v":""},"","","",""]
[{"$f":"+IF(D109=\"\",\"\",MAX(A$1:A108)+1)","v":""},{"$f":"IF(Affected_Sources!C131=\"\",\"\",Affected_Sources!C131)","v":""},"",{"$f":"IF(COUNTIF(B$2:B109,B109)=1,B109,\"\")","v":""},null,null,null,null,null,null,null,null,null,null,null,null,null,null,null,{"$f":"+IF(Y109=\"\",\"\",MAX(T$1:T108)+1)","v":""},{"$f":"IF(Limit_Deviation_Detail!B131=\"\",\"\",Limit_Deviation_Detail!B131)","v":""},{"$f":"IF(Limit_Deviation_Detail!C131=\"\",\"\",Limit_Deviation_Detail!C131)","v":""},{"$f":"IF(Limit_Deviation_Detail!E131=\"\",\"\",Limit_Deviation_Detail!E131)","v":""},"",{"$f":"IF(COUNTIF(X$2:X109,X109)=1,X109,\"\")","v":""},"","","","","",null,null,null,null,{"$f":"IF(COUNTIF(AM$2:AM109,AM109)=1,AM109,\"\")","v":""},{"$f":"IF(CMS_Deviation_Detail!B131=\"\",\"\",CMS_Deviation_Detail!B131)","v":""},{"$f":"IF(CMS_Deviation_Detail!C131=\"\",\"\",CMS_Deviation_Detail!C131)","v":""},{"$f":"IF(CMS_Deviation_Detail!D131=\"\",\"\",CMS_Deviation_Detail!D131)","v":""},"",{"$f":"+IF(AI109=\"\",\"\",MAX(AN$1:AN108)+1)","v":""},"","","","","","",null,{"$f":"IF(COUNTIF(AZ$2:AZ109,AZ109)=1,AZ109,\"\")","v":""},{"$f":"IF(Limit_Deviation_Detail!B131=\"\",\"\",Limit_Deviation_Detail!B131)","v":""},{"$f":"IF(Limit_Deviation_Detail!C131=\"\",\"\",Limit_Deviation_Detail!C131)","v":""},{"$f":"IF(Limit_Deviation_Detail!E131=\"\",\"\",Limit_Deviation_Detail!E131)","v":""},"",{"$f":"+IF(AV109=\"\",\"\",MAX(BA$1:BA108)+1)","v":""},"","","",""]
[{"$f":"+IF(D110=\"\",\"\",MAX(A$1:A109)+1)","v":""},{"$f":"IF(Affected_Sources!C132=\"\",\"\",Affected_Sources!C132)","v":""},"",{"$f":"IF(COUNTIF(B$2:B110,B110)=1,B110,\"\")","v":""},null,null,null,null,null,null,null,null,null,null,null,null,null,null,null,{"$f":"+IF(Y110=\"\",\"\",MAX(T$1:T109)+1)","v":""},{"$f":"IF(Limit_Deviation_Detail!B132=\"\",\"\",Limit_Deviation_Detail!B132)","v":""},{"$f":"IF(Limit_Deviation_Detail!C132=\"\",\"\",Limit_Deviation_Detail!C132)","v":""},{"$f":"IF(Limit_Deviation_Detail!E132=\"\",\"\",Limit_Deviation_Detail!E132)","v":""},"",{"$f":"IF(COUNTIF(X$2:X110,X110)=1,X110,\"\")","v":""},"","","","","",null,null,null,null,{"$f":"IF(COUNTIF(AM$2:AM110,AM110)=1,AM110,\"\")","v":""},{"$f":"IF(CMS_Deviation_Detail!B132=\"\",\"\",CMS_Deviation_Detail!B132)","v":""},{"$f":"IF(CMS_Deviation_Detail!C132=\"\",\"\",CMS_Deviation_Detail!C132)","v":""},{"$f":"IF(CMS_Deviation_Detail!D132=\"\",\"\",CMS_Deviation_Detail!D132)","v":""},"",{"$f":"+IF(AI110=\"\",\"\",MAX(AN$1:AN109)+1)","v":""},"","","","","","",null,{"$f":"IF(COUNTIF(AZ$2:AZ110,AZ110)=1,AZ110,\"\")","v":""},{"$f":"IF(Limit_Deviation_Detail!B132=\"\",\"\",Limit_Deviation_Detail!B132)","v":""},{"$f":"IF(Limit_Deviation_Detail!C132=\"\",\"\",Limit_Deviation_Detail!C132)","v":""},{"$f":"IF(Limit_Deviation_Detail!E132=\"\",\"\",Limit_Deviation_Detail!E132)","v":""},"",{"$f":"+IF(AV110=\"\",\"\",MAX(BA$1:BA109)+1)","v":""},"","","",""]
[{"$f":"+IF(D111=\"\",\"\",MAX(A$1:A110)+1)","v":""},{"$f":"IF(Affected_Sources!C133=\"\",\"\",Affected_Sources!C133)","v":""},"",{"$f":"IF(COUNTIF(B$2:B111,B111)=1,B111,\"\")","v":""},null,null,null,null,null,null,null,null,null,null,null,null,null,null,null,{"$f":"+IF(Y111=\"\",\"\",MAX(T$1:T110)+1)","v":""},{"$f":"IF(Limit_Deviation_Detail!B133=\"\",\"\",Limit_Deviation_Detail!B133)","v":""},{"$f":"IF(Limit_Deviation_Detail!C133=\"\",\"\",Limit_Deviation_Detail!C133)","v":""},{"$f":"IF(Limit_Deviation_Detail!E133=\"\",\"\",Limit_Deviation_Detail!E133)","v":""},"",{"$f":"IF(COUNTIF(X$2:X111,X111)=1,X111,\"\")","v":""},"","","","","",null,null,null,null,{"$f":"IF(COUNTIF(AM$2:AM111,AM111)=1,AM111,\"\")","v":""},{"$f":"IF(CMS_Deviation_Detail!B133=\"\",\"\",CMS_Deviation_Detail!B133)","v":""},{"$f":"IF(CMS_Deviation_Detail!C133=\"\",\"\",CMS_Deviation_Detail!C133)","v":""},{"$f":"IF(CMS_Deviation_Detail!D133=\"\",\"\",CMS_Deviation_Detail!D133)","v":""},"",{"$f":"+IF(AI111=\"\",\"\",MAX(AN$1:AN110)+1)","v":""},"","","","","","",null,{"$f":"IF(COUNTIF(AZ$2:AZ111,AZ111)=1,AZ111,\"\")","v":""},{"$f":"IF(Limit_Deviation_Detail!B133=\"\",\"\",Limit_Deviation_Detail!B133)","v":""},{"$f":"IF(Limit_Deviation_Detail!C133=\"\",\"\",Limit_Deviation_Detail!C133)","v":""},{"$f":"IF(Limit_Deviation_Detail!E133=\"\",\"\",Limit_Deviation_Detail!E133)","v":""},"",{"$f":"+IF(AV111=\"\",\"\",MAX(BA$1:BA110)+1)","v":""},"","","",""]
[{"$f":"+IF(D112=\"\",\"\",MAX(A$1:A111)+1)","v":""},{"$f":"IF(Affected_Sources!C134=\"\",\"\",Affected_Sources!C134)","v":""},"",{"$f":"IF(COUNTIF(B$2:B112,B112)=1,B112,\"\")","v":""},null,null,null,null,null,null,null,null,null,null,null,null,null,null,null,{"$f":"+IF(Y112=\"\",\"\",MAX(T$1:T111)+1)","v":""},{"$f":"IF(Limit_Deviation_Detail!B134=\"\",\"\",Limit_Deviation_Detail!B134)","v":""},{"$f":"IF(Limit_Deviation_Detail!C134=\"\",\"\",Limit_Deviation_Detail!C134)","v":""},{"$f":"IF(Limit_Deviation_Detail!E134=\"\",\"\",Limit_Deviation_Detail!E134)","v":""},"",{"$f":"IF(COUNTIF(X$2:X112,X112)=1,X112,\"\")","v":""},"","","","","",null,null,null,null,{"$f":"IF(COUNTIF(AM$2:AM112,AM112)=1,AM112,\"\")","v":""},{"$f":"IF(CMS_Deviation_Detail!B134=\"\",\"\",CMS_Deviation_Detail!B134)","v":""},{"$f":"IF(CMS_Deviation_Detail!C134=\"\",\"\",CMS_Deviation_Detail!C134)","v":""},{"$f":"IF(CMS_Deviation_Detail!D134=\"\",\"\",CMS_Deviation_Detail!D134)","v":""},"",{"$f":"+IF(AI112=\"\",\"\",MAX(AN$1:AN111)+1)","v":""},"","","","","","",null,{"$f":"IF(COUNTIF(AZ$2:AZ112,AZ112)=1,AZ112,\"\")","v":""},{"$f":"IF(Limit_Deviation_Detail!B134=\"\",\"\",Limit_Deviation_Detail!B134)","v":""},{"$f":"IF(Limit_Deviation_Detail!C134=\"\",\"\",Limit_Deviation_Detail!C134)","v":""},{"$f":"IF(Limit_Deviation_Detail!E134=\"\",\"\",Limit_Deviation_Detail!E134)","v":""},"",{"$f":"+IF(AV112=\"\",\"\",MAX(BA$1:BA111)+1)","v":""},"","","",""]
[{"$f":"+IF(D113=\"\",\"\",MAX(A$1:A112)+1)","v":""},{"$f":"IF(Affected_Sources!C135=\"\",\"\",Affected_Sources!C135)","v":""},"",{"$f":"IF(COUNTIF(B$2:B113,B113)=1,B113,\"\")","v":""},null,null,null,null,null,null,null,null,null,null,null,null,null,null,null,{"$f":"+IF(Y113=\"\",\"\",MAX(T$1:T112)+1)","v":""},{"$f":"IF(Limit_Deviation_Detail!B135=\"\",\"\",Limit_Deviation_Detail!B135)","v":""},{"$f":"IF(Limit_Deviation_Detail!C135=\"\",\"\",Limit_Deviation_Detail!C135)","v":""},{"$f":"IF(Limit_Deviation_Detail!E135=\"\",\"\",Limit_Deviation_Detail!E135)","v":""},"",{"$f":"IF(COUNTIF(X$2:X113,X113)=1,X113,\"\")","v":""},"","","","","",null,null,null,null,{"$f":"IF(COUNTIF(AM$2:AM113,AM113)=1,AM113,\"\")","v":""},{"$f":"IF(CMS_Deviation_Detail!B135=\"\",\"\",CMS_Deviation_Detail!B135)","v":""},{"$f":"IF(CMS_Deviation_Detail!C135=\"\",\"\",CMS_Deviation_Detail!C135)","v":""},{"$f":"IF(CMS_Deviation_Detail!D135=\"\",\"\",CMS_Deviation_Detail!D135)","v":""},"",{"$f":"+IF(AI113=\"\",\"\",MAX(AN$1:AN112)+1)","v":""},"","","","","","",null,{"$f":"IF(COUNTIF(AZ$2:AZ113,AZ113)=1,AZ113,\"\")","v":""},{"$f":"IF(Limit_Deviation_Detail!B135=\"\",\"\",Limit_Deviation_Detail!B135)","v":""},{"$f":"IF(Limit_Deviation_Detail!C135=\"\",\"\",Limit_Deviation_Detail!C135)","v":""},{"$f":"IF(Limit_Deviation_Detail!E135=\"\",\"\",Limit_Deviation_Detail!E135)","v":""},"",{"$f":"+IF(AV113=\"\",\"\",MAX(BA$1:BA112)+1)","v":""},"","","",""]
[{"$f":"+IF(D114=\"\",\"\",MAX(A$1:A113)+1)","v":""},{"$f":"IF(Affected_Sources!C136=\"\",\"\",Affected_Sources!C136)","v":""},"",{"$f":"IF(COUNTIF(B$2:B114,B114)=1,B114,\"\")","v":""},null,null,null,null,null,null,null,null,null,null,null,null,null,null,null,{"$f":"+IF(Y114=\"\",\"\",MAX(T$1:T113)+1)","v":""},{"$f":"IF(Limit_Deviation_Detail!B136=\"\",\"\",Limit_Deviation_Detail!B136)","v":""},{"$f":"IF(Limit_Deviation_Detail!C136=\"\",\"\",Limit_Deviation_Detail!C136)","v":""},{"$f":"IF(Limit_Deviation_Detail!E136=\"\",\"\",Limit_Deviation_Detail!E136)","v":""},"",{"$f":"IF(COUNTIF(X$2:X114,X114)=1,X114,\"\")","v":""},"","","","","",null,null,null,null,{"$f":"IF(COUNTIF(AM$2:AM114,AM114)=1,AM114,\"\")","v":""},{"$f":"IF(CMS_Deviation_Detail!B136=\"\",\"\",CMS_Deviation_Detail!B136)","v":""},{"$f":"IF(CMS_Deviation_Detail!C136=\"\",\"\",CMS_Deviation_Detail!C136)","v":""},{"$f":"IF(CMS_Deviation_Detail!D136=\"\",\"\",CMS_Deviation_Detail!D136)","v":""},"",{"$f":"+IF(AI114=\"\",\"\",MAX(AN$1:AN113)+1)","v":""},"","","","","","",null,{"$f":"IF(COUNTIF(AZ$2:AZ114,AZ114)=1,AZ114,\"\")","v":""},{"$f":"IF(Limit_Deviation_Detail!B136=\"\",\"\",Limit_Deviation_Detail!B136)","v":""},{"$f":"IF(Limit_Deviation_Detail!C136=\"\",\"\",Limit_Deviation_Detail!C136)","v":""},{"$f":"IF(Limit_Deviation_Detail!E136=\"\",\"\",Limit_Deviation_Detail!E136)","v":""},"",{"$f":"+IF(AV114=\"\",\"\",MAX(BA$1:BA113)+1)","v":""},"","","",""]
[{"$f":"+IF(D115=\"\",\"\",MAX(A$1:A114)+1)","v":""},{"$f":"IF(Affected_Sources!C137=\"\",\"\",Affected_Sources!C137)","v":""},"",{"$f":"IF(COUNTIF(B$2:B115,B115)=1,B115,\"\")","v":""},null,null,null,null,null,null,null,null,null,null,null,null,null,null,null,{"$f":"+IF(Y115=\"\",\"\",MAX(T$1:T114)+1)","v":""},{"$f":"IF(Limit_Deviation_Detail!B137=\"\",\"\",Limit_Deviation_Detail!B137)","v":""},{"$f":"IF(Limit_Deviation_Detail!C137=\"\",\"\",Limit_Deviation_Detail!C137)","v":""},{"$f":"IF(Limit_Deviation_Detail!E137=\"\",\"\",Limit_Deviation_Detail!E137)","v":""},"",{"$f":"IF(COUNTIF(X$2:X115,X115)=1,X115,\"\")","v":""},"","","","","",null,null,null,null,{"$f":"IF(COUNTIF(AM$2:AM115,AM115)=1,AM115,\"\")","v":""},{"$f":"IF(CMS_Deviation_Detail!B137=\"\",\"\",CMS_Deviation_Detail!B137)","v":""},{"$f":"IF(CMS_Deviation_Detail!C137=\"\",\"\",CMS_Deviation_Detail!C137)","v":""},{"$f":"IF(CMS_Deviation_Detail!D137=\"\",\"\",CMS_Deviation_Detail!D137)","v":""},"",{"$f":"+IF(AI115=\"\",\"\",MAX(AN$1:AN114)+1)","v":""},"","","","","","",null,{"$f":"IF(COUNTIF(AZ$2:AZ115,AZ115)=1,AZ115,\"\")","v":""},{"$f":"IF(Limit_Deviation_Detail!B137=\"\",\"\",Limit_Deviation_Detail!B137)","v":""},{"$f":"IF(Limit_Deviation_Detail!C137=\"\",\"\",Limit_Deviation_Detail!C137)","v":""},{"$f":"IF(Limit_Deviation_Detail!E137=\"\",\"\",Limit_Deviation_Detail!E137)","v":""},"",{"$f":"+IF(AV115=\"\",\"\",MAX(BA$1:BA114)+1)","v":""},"","","",""]
[{"$f":"+IF(D116=\"\",\"\",MAX(A$1:A115)+1)","v":""},{"$f":"IF(Affected_Sources!C138=\"\",\"\",Affected_Sources!C138)","v":""},"",{"$f":"IF(COUNTIF(B$2:B116,B116)=1,B116,\"\")","v":""},null,null,null,null,null,null,null,null,null,null,null,null,null,null,null,{"$f":"+IF(Y116=\"\",\"\",MAX(T$1:T115)+1)","v":""},{"$f":"IF(Limit_Deviation_Detail!B138=\"\",\"\",Limit_Deviation_Detail!B138)","v":""},{"$f":"IF(Limit_Deviation_Detail!C138=\"\",\"\",Limit_Deviation_Detail!C138)","v":""},{"$f":"IF(Limit_Deviation_Detail!E138=\"\",\"\",Limit_Deviation_Detail!E138)","v":""},"",{"$f":"IF(COUNTIF(X$2:X116,X116)=1,X116,\"\")","v":""},"","","","","",null,null,null,null,{"$f":"IF(COUNTIF(AM$2:AM116,AM116)=1,AM116,\"\")","v":""},{"$f":"IF(CMS_Deviation_Detail!B138=\"\",\"\",CMS_Deviation_Detail!B138)","v":""},{"$f":"IF(CMS_Deviation_Detail!C138=\"\",\"\",CMS_Deviation_Detail!C138)","v":""},{"$f":"IF(CMS_Deviation_Detail!D138=\"\",\"\",CMS_Deviation_Detail!D138)","v":""},"",{"$f":"+IF(AI116=\"\",\"\",MAX(AN$1:AN115)+1)","v":""},"","","","","","",null,{"$f":"IF(COUNTIF(AZ$2:AZ116,AZ116)=1,AZ116,\"\")","v":""},{"$f":"IF(Limit_Deviation_Detail!B138=\"\",\"\",Limit_Deviation_Detail!B138)","v":""},{"$f":"IF(Limit_Deviation_Detail!C138=\"\",\"\",Limit_Deviation_Detail!C138)","v":""},{"$f":"IF(Limit_Deviation_Detail!E138=\"\",\"\",Limit_Deviation_Detail!E138)","v":""},"",{"$f":"+IF(AV116=\"\",\"\",MAX(BA$1:BA115)+1)","v":""},"","","",""]
[{"$f":"+IF(D117=\"\",\"\",MAX(A$1:A116)+1)","v":""},{"$f":"IF(Affected_Sources!C139=\"\",\"\",Affected_Sources!C139)","v":""},"",{"$f":"IF(COUNTIF(B$2:B117,B117)=1,B117,\"\")","v":""},null,null,null,null,null,null,null,null,null,null,null,null,null,null,null,{"$f":"+IF(Y117=\"\",\"\",MAX(T$1:T116)+1)","v":""},{"$f":"IF(Limit_Deviation_Detail!B139=\"\",\"\",Limit_Deviation_Detail!B139)","v":""},{"$f":"IF(Limit_Deviation_Detail!C139=\"\",\"\",Limit_Deviation_Detail!C139)","v":""},{"$f":"IF(Limit_Deviation_Detail!E139=\"\",\"\",Limit_Deviation_Detail!E139)","v":""},"",{"$f":"IF(COUNTIF(X$2:X117,X117)=1,X117,\"\")","v":""},"","","","","",null,null,null,null,{"$f":"IF(COUNTIF(AM$2:AM117,AM117)=1,AM117,\"\")","v":""},{"$f":"IF(CMS_Deviation_Detail!B139=\"\",\"\",CMS_Deviation_Detail!B139)","v":""},{"$f":"IF(CMS_Deviation_Detail!C139=\"\",\"\",CMS_Deviation_Detail!C139)","v":""},{"$f":"IF(CMS_Deviation_Detail!D139=\"\",\"\",CMS_Deviation_Detail!D139)","v":""},"",{"$f":"+IF(AI117=\"\",\"\",MAX(AN$1:AN116)+1)","v":""},"","","","","","",null,{"$f":"IF(COUNTIF(AZ$2:AZ117,AZ117)=1,AZ117,\"\")","v":""},{"$f":"IF(Limit_Deviation_Detail!B139=\"\",\"\",Limit_Deviation_Detail!B139)","v":""},{"$f":"IF(Limit_Deviation_Detail!C139=\"\",\"\",Limit_Deviation_Detail!C139)","v":""},{"$f":"IF(Limit_Deviation_Detail!E139=\"\",\"\",Limit_Deviation_Detail!E139)","v":""},"",{"$f":"+IF(AV117=\"\",\"\",MAX(BA$1:BA116)+1)","v":""},"","","",""]
[{"$f":"+IF(D118=\"\",\"\",MAX(A$1:A117)+1)","v":""},{"$f":"IF(Affected_Sources!C140=\"\",\"\",Affected_Sources!C140)","v":""},"",{"$f":"IF(COUNTIF(B$2:B118,B118)=1,B118,\"\")","v":""},null,null,null,null,null,null,null,null,null,null,null,null,null,null,null,{"$f":"+IF(Y118=\"\",\"\",MAX(T$1:T117)+1)","v":""},{"$f":"IF(Limit_Deviation_Detail!B140=\"\",\"\",Limit_Deviation_Detail!B140)","v":""},{"$f":"IF(Limit_Deviation_Detail!C140=\"\",\"\",Limit_Deviation_Detail!C140)","v":""},{"$f":"IF(Limit_Deviation_Detail!E140=\"\",\"\",Limit_Deviation_Detail!E140)","v":""},"",{"$f":"IF(COUNTIF(X$2:X118,X118)=1,X118,\"\")","v":""},"","","","","",null,null,null,null,{"$f":"IF(COUNTIF(AM$2:AM118,AM118)=1,AM118,\"\")","v":""},{"$f":"IF(CMS_Deviation_Detail!B140=\"\",\"\",CMS_Deviation_Detail!B140)","v":""},{"$f":"IF(CMS_Deviation_Detail!C140=\"\",\"\",CMS_Deviation_Detail!C140)","v":""},{"$f":"IF(CMS_Deviation_Detail!D140=\"\",\"\",CMS_Deviation_Detail!D140)","v":""},"",{"$f":"+IF(AI118=\"\",\"\",MAX(AN$1:AN117)+1)","v":""},"","","","","","",null,{"$f":"IF(COUNTIF(AZ$2:AZ118,AZ118)=1,AZ118,\"\")","v":""},{"$f":"IF(Limit_Deviation_Detail!B140=\"\",\"\",Limit_Deviation_Detail!B140)","v":""},{"$f":"IF(Limit_Deviation_Detail!C140=\"\",\"\",Limit_Deviation_Detail!C140)","v":""},{"$f":"IF(Limit_Deviation_Detail!E140=\"\",\"\",Limit_Deviation_Detail!E140)","v":""},"",{"$f":"+IF(AV118=\"\",\"\",MAX(BA$1:BA117)+1)","v":""},"","","",""]
[{"$f":"+IF(D119=\"\",\"\",MAX(A$1:A118)+1)","v":""},{"$f":"IF(Affected_Sources!C141=\"\",\"\",Affected_Sources!C141)","v":""},"",{"$f":"IF(COUNTIF(B$2:B119,B119)=1,B119,\"\")","v":""},null,null,null,null,null,null,null,null,null,null,null,null,null,null,null,{"$f":"+IF(Y119=\"\",\"\",MAX(T$1:T118)+1)","v":""},{"$f":"IF(Limit_Deviation_Detail!B141=\"\",\"\",Limit_Deviation_Detail!B141)","v":""},{"$f":"IF(Limit_Deviation_Detail!C141=\"\",\"\",Limit_Deviation_Detail!C141)","v":""},{"$f":"IF(Limit_Deviation_Detail!E141=\"\",\"\",Limit_Deviation_Detail!E141)","v":""},"",{"$f":"IF(COUNTIF(X$2:X119,X119)=1,X119,\"\")","v":""},"","","","","",null,null,null,null,{"$f":"IF(COUNTIF(AM$2:AM119,AM119)=1,AM119,\"\")","v":""},{"$f":"IF(CMS_Deviation_Detail!B141=\"\",\"\",CMS_Deviation_Detail!B141)","v":""},{"$f":"IF(CMS_Deviation_Detail!C141=\"\",\"\",CMS_Deviation_Detail!C141)","v":""},{"$f":"IF(CMS_Deviation_Detail!D141=\"\",\"\",CMS_Deviation_Detail!D141)","v":""},"",{"$f":"+IF(AI119=\"\",\"\",MAX(AN$1:AN118)+1)","v":""},"","","","","","",null,{"$f":"IF(COUNTIF(AZ$2:AZ119,AZ119)=1,AZ119,\"\")","v":""},{"$f":"IF(Limit_Deviation_Detail!B141=\"\",\"\",Limit_Deviation_Detail!B141)","v":""},{"$f":"IF(Limit_Deviation_Detail!C141=\"\",\"\",Limit_Deviation_Detail!C141)","v":""},{"$f":"IF(Limit_Deviation_Detail!E141=\"\",\"\",Limit_Deviation_Detail!E141)","v":""},"",{"$f":"+IF(AV119=\"\",\"\",MAX(BA$1:BA118)+1)","v":""},"","","",""]
[{"$f":"+IF(D120=\"\",\"\",MAX(A$1:A119)+1)","v":""},{"$f":"IF(Affected_Sources!C142=\"\",\"\",Affected_Sources!C142)","v":""},"",{"$f":"IF(COUNTIF(B$2:B120,B120)=1,B120,\"\")","v":""},null,null,null,null,null,null,null,null,null,null,null,null,null,null,null,{"$f":"+IF(Y120=\"\",\"\",MAX(T$1:T119)+1)","v":""},{"$f":"IF(Limit_Deviation_Detail!B142=\"\",\"\",Limit_Deviation_Detail!B142)","v":""},{"$f":"IF(Limit_Deviation_Detail!C142=\"\",\"\",Limit_Deviation_Detail!C142)","v":""},{"$f":"IF(Limit_Deviation_Detail!E142=\"\",\"\",Limit_Deviation_Detail!E142)","v":""},"",{"$f":"IF(COUNTIF(X$2:X120,X120)=1,X120,\"\")","v":""},"","","","","",null,null,null,null,{"$f":"IF(COUNTIF(AM$2:AM120,AM120)=1,AM120,\"\")","v":""},{"$f":"IF(CMS_Deviation_Detail!B142=\"\",\"\",CMS_Deviation_Detail!B142)","v":""},{"$f":"IF(CMS_Deviation_Detail!C142=\"\",\"\",CMS_Deviation_Detail!C142)","v":""},{"$f":"IF(CMS_Deviation_Detail!D142=\"\",\"\",CMS_Deviation_Detail!D142)","v":""},"",{"$f":"+IF(AI120=\"\",\"\",MAX(AN$1:AN119)+1)","v":""},"","","","","","",null,{"$f":"IF(COUNTIF(AZ$2:AZ120,AZ120)=1,AZ120,\"\")","v":""},{"$f":"IF(Limit_Deviation_Detail!B142=\"\",\"\",Limit_Deviation_Detail!B142)","v":""},{"$f":"IF(Limit_Deviation_Detail!C142=\"\",\"\",Limit_Deviation_Detail!C142)","v":""},{"$f":"IF(Limit_Deviation_Detail!E142=\"\",\"\",Limit_Deviation_Detail!E142)","v":""},"",{"$f":"+IF(AV120=\"\",\"\",MAX(BA$1:BA119)+1)","v":""},"","","",""]
[{"$f":"+IF(D121=\"\",\"\",MAX(A$1:A120)+1)","v":""},{"$f":"IF(Affected_Sources!C143=\"\",\"\",Affected_Sources!C143)","v":""},"",{"$f":"IF(COUNTIF(B$2:B121,B121)=1,B121,\"\")","v":""},null,null,null,null,null,null,null,null,null,null,null,null,null,null,null,{"$f":"+IF(Y121=\"\",\"\",MAX(T$1:T120)+1)","v":""},{"$f":"IF(Limit_Deviation_Detail!B143=\"\",\"\",Limit_Deviation_Detail!B143)","v":""},{"$f":"IF(Limit_Deviation_Detail!C143=\"\",\"\",Limit_Deviation_Detail!C143)","v":""},{"$f":"IF(Limit_Deviation_Detail!E143=\"\",\"\",Limit_Deviation_Detail!E143)","v":""},"",{"$f":"IF(COUNTIF(X$2:X121,X121)=1,X121,\"\")","v":""},"","","","","",null,null,null,null,{"$f":"IF(COUNTIF(AM$2:AM121,AM121)=1,AM121,\"\")","v":""},{"$f":"IF(CMS_Deviation_Detail!B143=\"\",\"\",CMS_Deviation_Detail!B143)","v":""},{"$f":"IF(CMS_Deviation_Detail!C143=\"\",\"\",CMS_Deviation_Detail!C143)","v":""},{"$f":"IF(CMS_Deviation_Detail!D143=\"\",\"\",CMS_Deviation_Detail!D143)","v":""},"",{"$f":"+IF(AI121=\"\",\"\",MAX(AN$1:AN120)+1)","v":""},"","","","","","",null,{"$f":"IF(COUNTIF(AZ$2:AZ121,AZ121)=1,AZ121,\"\")","v":""},{"$f":"IF(Limit_Deviation_Detail!B143=\"\",\"\",Limit_Deviation_Detail!B143)","v":""},{"$f":"IF(Limit_Deviation_Detail!C143=\"\",\"\",Limit_Deviation_Detail!C143)","v":""},{"$f":"IF(Limit_Deviation_Detail!E143=\"\",\"\",Limit_Deviation_Detail!E143)","v":""},"",{"$f":"+IF(AV121=\"\",\"\",MAX(BA$1:BA120)+1)","v":""},"","","",""]
[{"$f":"+IF(D122=\"\",\"\",MAX(A$1:A121)+1)","v":""},{"$f":"IF(Affected_Sources!C144=\"\",\"\",Affected_Sources!C144)","v":""},"",{"$f":"IF(COUNTIF(B$2:B122,B122)=1,B122,\"\")","v":""},null,null,null,null,null,null,null,null,null,null,null,null,null,null,null,{"$f":"+IF(Y122=\"\",\"\",MAX(T$1:T121)+1)","v":""},{"$f":"IF(Limit_Deviation_Detail!B144=\"\",\"\",Limit_Deviation_Detail!B144)","v":""},{"$f":"IF(Limit_Deviation_Detail!C144=\"\",\"\",Limit_Deviation_Detail!C144)","v":""},{"$f":"IF(Limit_Deviation_Detail!E144=\"\",\"\",Limit_Deviation_Detail!E144)","v":""},"",{"$f":"IF(COUNTIF(X$2:X122,X122)=1,X122,\"\")","v":""},"","","","","",null,null,null,null,{"$f":"IF(COUNTIF(AM$2:AM122,AM122)=1,AM122,\"\")","v":""},{"$f":"IF(CMS_Deviation_Detail!B144=\"\",\"\",CMS_Deviation_Detail!B144)","v":""},{"$f":"IF(CMS_Deviation_Detail!C144=\"\",\"\",CMS_Deviation_Detail!C144)","v":""},{"$f":"IF(CMS_Deviation_Detail!D144=\"\",\"\",CMS_Deviation_Detail!D144)","v":""},"",{"$f":"+IF(AI122=\"\",\"\",MAX(AN$1:AN121)+1)","v":""},"","","","","","",null,{"$f":"IF(COUNTIF(AZ$2:AZ122,AZ122)=1,AZ122,\"\")","v":""},{"$f":"IF(Limit_Deviation_Detail!B144=\"\",\"\",Limit_Deviation_Detail!B144)","v":""},{"$f":"IF(Limit_Deviation_Detail!C144=\"\",\"\",Limit_Deviation_Detail!C144)","v":""},{"$f":"IF(Limit_Deviation_Detail!E144=\"\",\"\",Limit_Deviation_Detail!E144)","v":""},"",{"$f":"+IF(AV122=\"\",\"\",MAX(BA$1:BA121)+1)","v":""},"","","",""]
[{"$f":"+IF(D123=\"\",\"\",MAX(A$1:A122)+1)","v":""},{"$f":"IF(Affected_Sources!C145=\"\",\"\",Affected_Sources!C145)","v":""},"",{"$f":"IF(COUNTIF(B$2:B123,B123)=1,B123,\"\")","v":""},null,null,null,null,null,null,null,null,null,null,null,null,null,null,null,{"$f":"+IF(Y123=\"\",\"\",MAX(T$1:T122)+1)","v":""},{"$f":"IF(Limit_Deviation_Detail!B145=\"\",\"\",Limit_Deviation_Detail!B145)","v":""},{"$f":"IF(Limit_Deviation_Detail!C145=\"\",\"\",Limit_Deviation_Detail!C145)","v":""},{"$f":"IF(Limit_Deviation_Detail!E145=\"\",\"\",Limit_Deviation_Detail!E145)","v":""},"",{"$f":"IF(COUNTIF(X$2:X123,X123)=1,X123,\"\")","v":""},"","","","","",null,null,null,null,{"$f":"IF(COUNTIF(AM$2:AM123,AM123)=1,AM123,\"\")","v":""},{"$f":"IF(CMS_Deviation_Detail!B145=\"\",\"\",CMS_Deviation_Detail!B145)","v":""},{"$f":"IF(CMS_Deviation_Detail!C145=\"\",\"\",CMS_Deviation_Detail!C145)","v":""},{"$f":"IF(CMS_Deviation_Detail!D145=\"\",\"\",CMS_Deviation_Detail!D145)","v":""},"",{"$f":"+IF(AI123=\"\",\"\",MAX(AN$1:AN122)+1)","v":""},"","","","","","",null,{"$f":"IF(COUNTIF(AZ$2:AZ123,AZ123)=1,AZ123,\"\")","v":""},{"$f":"IF(Limit_Deviation_Detail!B145=\"\",\"\",Limit_Deviation_Detail!B145)","v":""},{"$f":"IF(Limit_Deviation_Detail!C145=\"\",\"\",Limit_Deviation_Detail!C145)","v":""},{"$f":"IF(Limit_Deviation_Detail!E145=\"\",\"\",Limit_Deviation_Detail!E145)","v":""},"",{"$f":"+IF(AV123=\"\",\"\",MAX(BA$1:BA122)+1)","v":""},"","","",""]
[{"$f":"+IF(D124=\"\",\"\",MAX(A$1:A123)+1)","v":""},{"$f":"IF(Affected_Sources!C146=\"\",\"\",Affected_Sources!C146)","v":""},"",{"$f":"IF(COUNTIF(B$2:B124,B124)=1,B124,\"\")","v":""},null,null,null,null,null,null,null,null,null,null,null,null,null,null,null,{"$f":"+IF(Y124=\"\",\"\",MAX(T$1:T123)+1)","v":""},{"$f":"IF(Limit_Deviation_Detail!B146=\"\",\"\",Limit_Deviation_Detail!B146)","v":""},{"$f":"IF(Limit_Deviation_Detail!C146=\"\",\"\",Limit_Deviation_Detail!C146)","v":""},{"$f":"IF(Limit_Deviation_Detail!E146=\"\",\"\",Limit_Deviation_Detail!E146)","v":""},"",{"$f":"IF(COUNTIF(X$2:X124,X124)=1,X124,\"\")","v":""},"","","","","",null,null,null,null,{"$f":"IF(COUNTIF(AM$2:AM124,AM124)=1,AM124,\"\")","v":""},{"$f":"IF(CMS_Deviation_Detail!B146=\"\",\"\",CMS_Deviation_Detail!B146)","v":""},{"$f":"IF(CMS_Deviation_Detail!C146=\"\",\"\",CMS_Deviation_Detail!C146)","v":""},{"$f":"IF(CMS_Deviation_Detail!D146=\"\",\"\",CMS_Deviation_Detail!D146)","v":""},"",{"$f":"+IF(AI124=\"\",\"\",MAX(AN$1:AN123)+1)","v":""},"","","","","","",null,{"$f":"IF(COUNTIF(AZ$2:AZ124,AZ124)=1,AZ124,\"\")","v":""},{"$f":"IF(Limit_Deviation_Detail!B146=\"\",\"\",Limit_Deviation_Detail!B146)","v":""},{"$f":"IF(Limit_Deviation_Detail!C146=\"\",\"\",Limit_Deviation_Detail!C146)","v":""},{"$f":"IF(Limit_Deviation_Detail!E146=\"\",\"\",Limit_Deviation_Detail!E146)","v":""},"",{"$f":"+IF(AV124=\"\",\"\",MAX(BA$1:BA123)+1)","v":""},"","","",""]
[{"$f":"+IF(D125=\"\",\"\",MAX(A$1:A124)+1)","v":""},{"$f":"IF(Affected_Sources!C147=\"\",\"\",Affected_Sources!C147)","v":""},"",{"$f":"IF(COUNTIF(B$2:B125,B125)=1,B125,\"\")","v":""},null,null,null,null,null,null,null,null,null,null,null,null,null,null,null,{"$f":"+IF(Y125=\"\",\"\",MAX(T$1:T124)+1)","v":""},{"$f":"IF(Limit_Deviation_Detail!B147=\"\",\"\",Limit_Deviation_Detail!B147)","v":""},{"$f":"IF(Limit_Deviation_Detail!C147=\"\",\"\",Limit_Deviation_Detail!C147)","v":""},{"$f":"IF(Limit_Deviation_Detail!E147=\"\",\"\",Limit_Deviation_Detail!E147)","v":""},"",{"$f":"IF(COUNTIF(X$2:X125,X125)=1,X125,\"\")","v":""},"","","","","",null,null,null,null,{"$f":"IF(COUNTIF(AM$2:AM125,AM125)=1,AM125,\"\")","v":""},{"$f":"IF(CMS_Deviation_Detail!B147=\"\",\"\",CMS_Deviation_Detail!B147)","v":""},{"$f":"IF(CMS_Deviation_Detail!C147=\"\",\"\",CMS_Deviation_Detail!C147)","v":""},{"$f":"IF(CMS_Deviation_Detail!D147=\"\",\"\",CMS_Deviation_Detail!D147)","v":""},"",{"$f":"+IF(AI125=\"\",\"\",MAX(AN$1:AN124)+1)","v":""},"","","","","","",null,{"$f":"IF(COUNTIF(AZ$2:AZ125,AZ125)=1,AZ125,\"\")","v":""},{"$f":"IF(Limit_Deviation_Detail!B147=\"\",\"\",Limit_Deviation_Detail!B147)","v":""},{"$f":"IF(Limit_Deviation_Detail!C147=\"\",\"\",Limit_Deviation_Detail!C147)","v":""},{"$f":"IF(Limit_Deviation_Detail!E147=\"\",\"\",Limit_Deviation_Detail!E147)","v":""},"",{"$f":"+IF(AV125=\"\",\"\",MAX(BA$1:BA124)+1)","v":""},"","","",""]
[{"$f":"+IF(D126=\"\",\"\",MAX(A$1:A125)+1)","v":""},{"$f":"IF(Affected_Sources!C148=\"\",\"\",Affected_Sources!C148)","v":""},"",{"$f":"IF(COUNTIF(B$2:B126,B126)=1,B126,\"\")","v":""},null,null,null,null,null,null,null,null,null,null,null,null,null,null,null,{"$f":"+IF(Y126=\"\",\"\",MAX(T$1:T125)+1)","v":""},{"$f":"IF(Limit_Deviation_Detail!B148=\"\",\"\",Limit_Deviation_Detail!B148)","v":""},{"$f":"IF(Limit_Deviation_Detail!C148=\"\",\"\",Limit_Deviation_Detail!C148)","v":""},{"$f":"IF(Limit_Deviation_Detail!E148=\"\",\"\",Limit_Deviation_Detail!E148)","v":""},"",{"$f":"IF(COUNTIF(X$2:X126,X126)=1,X126,\"\")","v":""},"","","","","",null,null,null,null,{"$f":"IF(COUNTIF(AM$2:AM126,AM126)=1,AM126,\"\")","v":""},{"$f":"IF(CMS_Deviation_Detail!B148=\"\",\"\",CMS_Deviation_Detail!B148)","v":""},{"$f":"IF(CMS_Deviation_Detail!C148=\"\",\"\",CMS_Deviation_Detail!C148)","v":""},{"$f":"IF(CMS_Deviation_Detail!D148=\"\",\"\",CMS_Deviation_Detail!D148)","v":""},"",{"$f":"+IF(AI126=\"\",\"\",MAX(AN$1:AN125)+1)","v":""},"","","","","","",null,{"$f":"IF(COUNTIF(AZ$2:AZ126,AZ126)=1,AZ126,\"\")","v":""},{"$f":"IF(Limit_Deviation_Detail!B148=\"\",\"\",Limit_Deviation_Detail!B148)","v":""},{"$f":"IF(Limit_Deviation_Detail!C148=\"\",\"\",Limit_Deviation_Detail!C148)","v":""},{"$f":"IF(Limit_Deviation_Detail!E148=\"\",\"\",Limit_Deviation_Detail!E148)","v":""},"",{"$f":"+IF(AV126=\"\",\"\",MAX(BA$1:BA125)+1)","v":""},"","","",""]
[{"$f":"+IF(D127=\"\",\"\",MAX(A$1:A126)+1)","v":""},{"$f":"IF(Affected_Sources!C149=\"\",\"\",Affected_Sources!C149)","v":""},"",{"$f":"IF(COUNTIF(B$2:B127,B127)=1,B127,\"\")","v":""},null,null,null,null,null,null,null,null,null,null,null,null,null,null,null,{"$f":"+IF(Y127=\"\",\"\",MAX(T$1:T126)+1)","v":""},{"$f":"IF(Limit_Deviation_Detail!B149=\"\",\"\",Limit_Deviation_Detail!B149)","v":""},{"$f":"IF(Limit_Deviation_Detail!C149=\"\",\"\",Limit_Deviation_Detail!C149)","v":""},{"$f":"IF(Limit_Deviation_Detail!E149=\"\",\"\",Limit_Deviation_Detail!E149)","v":""},"",{"$f":"IF(COUNTIF(X$2:X127,X127)=1,X127,\"\")","v":""},"","","","","",null,null,null,null,{"$f":"IF(COUNTIF(AM$2:AM127,AM127)=1,AM127,\"\")","v":""},{"$f":"IF(CMS_Deviation_Detail!B149=\"\",\"\",CMS_Deviation_Detail!B149)","v":""},{"$f":"IF(CMS_Deviation_Detail!C149=\"\",\"\",CMS_Deviation_Detail!C149)","v":""},{"$f":"IF(CMS_Deviation_Detail!D149=\"\",\"\",CMS_Deviation_Detail!D149)","v":""},"",{"$f":"+IF(AI127=\"\",\"\",MAX(AN$1:AN126)+1)","v":""},"","","","","","",null,{"$f":"IF(COUNTIF(AZ$2:AZ127,AZ127)=1,AZ127,\"\")","v":""},{"$f":"IF(Limit_Deviation_Detail!B149=\"\",\"\",Limit_Deviation_Detail!B149)","v":""},{"$f":"IF(Limit_Deviation_Detail!C149=\"\",\"\",Limit_Deviation_Detail!C149)","v":""},{"$f":"IF(Limit_Deviation_Detail!E149=\"\",\"\",Limit_Deviation_Detail!E149)","v":""},"",{"$f":"+IF(AV127=\"\",\"\",MAX(BA$1:BA126)+1)","v":""},"","","",""]
[{"$f":"+IF(D128=\"\",\"\",MAX(A$1:A127)+1)","v":""},{"$f":"IF(Affected_Sources!C150=\"\",\"\",Affected_Sources!C150)","v":""},"",{"$f":"IF(COUNTIF(B$2:B128,B128)=1,B128,\"\")","v":""},null,null,null,null,null,null,null,null,null,null,null,null,null,null,null,{"$f":"+IF(Y128=\"\",\"\",MAX(T$1:T127)+1)","v":""},{"$f":"IF(Limit_Deviation_Detail!B150=\"\",\"\",Limit_Deviation_Detail!B150)","v":""},{"$f":"IF(Limit_Deviation_Detail!C150=\"\",\"\",Limit_Deviation_Detail!C150)","v":""},{"$f":"IF(Limit_Deviation_Detail!E150=\"\",\"\",Limit_Deviation_Detail!E150)","v":""},"",{"$f":"IF(COUNTIF(X$2:X128,X128)=1,X128,\"\")","v":""},"","","","","",null,null,null,null,{"$f":"IF(COUNTIF(AM$2:AM128,AM128)=1,AM128,\"\")","v":""},{"$f":"IF(CMS_Deviation_Detail!B150=\"\",\"\",CMS_Deviation_Detail!B150)","v":""},{"$f":"IF(CMS_Deviation_Detail!C150=\"\",\"\",CMS_Deviation_Detail!C150)","v":""},{"$f":"IF(CMS_Deviation_Detail!D150=\"\",\"\",CMS_Deviation_Detail!D150)","v":""},"",{"$f":"+IF(AI128=\"\",\"\",MAX(AN$1:AN127)+1)","v":""},"","","","","","",null,{"$f":"IF(COUNTIF(AZ$2:AZ128,AZ128)=1,AZ128,\"\")","v":""},{"$f":"IF(Limit_Deviation_Detail!B150=\"\",\"\",Limit_Deviation_Detail!B150)","v":""},{"$f":"IF(Limit_Deviation_Detail!C150=\"\",\"\",Limit_Deviation_Detail!C150)","v":""},{"$f":"IF(Limit_Deviation_Detail!E150=\"\",\"\",Limit_Deviation_Detail!E150)","v":""},"",{"$f":"+IF(AV128=\"\",\"\",MAX(BA$1:BA127)+1)","v":""},"","","",""]
[{"$f":"+IF(D129=\"\",\"\",MAX(A$1:A128)+1)","v":""},{"$f":"IF(Affected_Sources!C151=\"\",\"\",Affected_Sources!C151)","v":""},"",{"$f":"IF(COUNTIF(B$2:B129,B129)=1,B129,\"\")","v":""},null,null,null,null,null,null,null,null,null,null,null,null,null,null,null,{"$f":"+IF(Y129=\"\",\"\",MAX(T$1:T128)+1)","v":""},{"$f":"IF(Limit_Deviation_Detail!B151=\"\",\"\",Limit_Deviation_Detail!B151)","v":""},{"$f":"IF(Limit_Deviation_Detail!C151=\"\",\"\",Limit_Deviation_Detail!C151)","v":""},{"$f":"IF(Limit_Deviation_Detail!E151=\"\",\"\",Limit_Deviation_Detail!E151)","v":""},"",{"$f":"IF(COUNTIF(X$2:X129,X129)=1,X129,\"\")","v":""},"","","","","",null,null,null,null,{"$f":"IF(COUNTIF(AM$2:AM129,AM129)=1,AM129,\"\")","v":""},{"$f":"IF(CMS_Deviation_Detail!B151=\"\",\"\",CMS_Deviation_Detail!B151)","v":""},{"$f":"IF(CMS_Deviation_Detail!C151=\"\",\"\",CMS_Deviation_Detail!C151)","v":""},{"$f":"IF(CMS_Deviation_Detail!D151=\"\",\"\",CMS_Deviation_Detail!D151)","v":""},"",{"$f":"+IF(AI129=\"\",\"\",MAX(AN$1:AN128)+1)","v":""},"","","","","","",null,{"$f":"IF(COUNTIF(AZ$2:AZ129,AZ129)=1,AZ129,\"\")","v":""},{"$f":"IF(Limit_Deviation_Detail!B151=\"\",\"\",Limit_Deviation_Detail!B151)","v":""},{"$f":"IF(Limit_Deviation_Detail!C151=\"\",\"\",Limit_Deviation_Detail!C151)","v":""},{"$f":"IF(Limit_Deviation_Detail!E151=\"\",\"\",Limit_Deviation_Detail!E151)","v":""},"",{"$f":"+IF(AV129=\"\",\"\",MAX(BA$1:BA128)+1)","v":""},"","","",""]
[{"$f":"+IF(D130=\"\",\"\",MAX(A$1:A129)+1)","v":""},{"$f":"IF(Affected_Sources!C152=\"\",\"\",Affected_Sources!C152)","v":""},{"$f":"+IFERROR(INDEX(B$2:B$501,MATCH(ROW()-ROW($C$1),A$2:A$501,0)),\"\")","v":""},{"$f":"IF(COUNTIF(B$2:B130,B130)=1,B130,\"\")","v":""},null,null,null,null,null,null,null,null,null,null,null,null,null,null,null,{"$f":"+IF(Y130=\"\",\"\",MAX(T$1:T129)+1)","v":""},{"$f":"IF(Limit_Deviation_Detail!B152=\"\",\"\",Limit_Deviation_Detail!B152)","v":""},{"$f":"IF(Limit_Deviation_Detail!C152=\"\",\"\",Limit_Deviation_Detail!C152)","v":""},{"$f":"IF(Limit_Deviation_Detail!E152=\"\",\"\",Limit_Deviation_Detail!E152)","v":""},{"$f":"U130&V130&W130","v":""},{"$f":"IF(COUNTIF(X$2:X130,X130)=1,X130,\"\")","v":""},{"$f":"+IFERROR(INDEX(U$2:U$955,MATCH(ROW()-ROW(HU$1),T$2:T$955,0)),\"\")","v":""},{"$f":"+IFERROR(INDEX(V$2:V$955,MATCH(ROW()-ROW(Y$1),T$2:T$955,0)),\"\")","v":""},{"$f":"+IFERROR(INDEX(W$2:W$955,MATCH(ROW()-ROW(Y$1),T$2:T$955,0)),\"\")","v":""},{"$f":"IF(Z130=\"\",\"\",Z130&AA130)","v":""},{"$f":"IF(Z130=\"\",\"\",VLOOKUP(AC130,$BL$2:$BP$78,5,FALSE))","v":""},null,null,null,null,{"$f":"IF(COUNTIF(AM$2:AM130,AM130)=1,AM130,\"\")","v":""},{"$f":"IF(CMS_Deviation_Detail!B152=\"\",\"\",CMS_Deviation_Detail!B152)","v":""},{"$f":"IF(CMS_Deviation_Detail!C152=\"\",\"\",CMS_Deviation_Detail!C152)","v":""},{"$f":"IF(CMS_Deviation_Detail!D152=\"\",\"\",CMS_Deviation_Detail!D152)","v":""},"",{"$f":"+IF(AI130=\"\",\"\",MAX(AN$1:AN129)+1)","v":""},"","","","",{"$f":"IF(AP130=\"\",\"\",AP130&AQ130)","v":""},{"$f":"IF(AP130=\"\",\"\",VLOOKUP(AS130,$BL$2:$BP$78,5,FALSE))","v":""},null,{"$f":"IF(COUNTIF(AZ$2:AZ130,AZ130)=1,AZ130,\"\")","v":""},{"$f":"IF(Limit_Deviation_Detail!B152=\"\",\"\",Limit_Deviation_Detail!B152)","v":""},{"$f":"IF(Limit_Deviation_Detail!C152=\"\",\"\",Limit_Deviation_Detail!C152)","v":""},{"$f":"IF(Limit_Deviation_Detail!E152=\"\",\"\",Limit_Deviation_Detail!E152)","v":""},"",{"$f":"+IF(AV130=\"\",\"\",MAX(BA$1:BA129)+1)","v":""},"","","",""]
[{"$f":"+IF(D131=\"\",\"\",MAX(A$1:A130)+1)","v":""},{"$f":"IF(Affected_Sources!C153=\"\",\"\",Affected_Sources!C153)","v":""},"",{"$f":"IF(COUNTIF(B$2:B131,B131)=1,B131,\"\")","v":""},null,null,null,null,null,null,null,null,null,null,null,null,null,null,null,{"$f":"+IF(Y131=\"\",\"\",MAX(T$1:T130)+1)","v":""},{"$f":"IF(Limit_Deviation_Detail!B153=\"\",\"\",Limit_Deviation_Detail!B153)","v":""},{"$f":"IF(Limit_Deviation_Detail!C153=\"\",\"\",Limit_Deviation_Detail!C153)","v":""},{"$f":"IF(Limit_Deviation_Detail!E153=\"\",\"\",Limit_Deviation_Detail!E153)","v":""},"",{"$f":"IF(COUNTIF(X$2:X131,X131)=1,X131,\"\")","v":""},"","","","","",null,null,null,null,{"$f":"IF(COUNTIF(AM$2:AM131,AM131)=1,AM131,\"\")","v":""},{"$f":"IF(CMS_Deviation_Detail!B153=\"\",\"\",CMS_Deviation_Detail!B153)","v":""},{"$f":"IF(CMS_Deviation_Detail!C153=\"\",\"\",CMS_Deviation_Detail!C153)","v":""},{"$f":"IF(CMS_Deviation_Detail!D153=\"\",\"\",CMS_Deviation_Detail!D153)","v":""},{"$f":"IF(AL131=\"\",\"\",AJ131&\" \"&AK131&\" \"&AL131)","v":""},{"$f":"+IF(AI131=\"\",\"\",MAX(AN$1:AN130)+1)","v":""},{"$f":"+IFERROR(INDEX(AI$2:AI$955,MATCH(ROW()-ROW(AI$1),AN$2:AN$955,0)),\"\")","v":""},{"$f":"+IFERROR(INDEX(AJ$2:AJ$955,MATCH(ROW()-ROW(AJ$1),$AN$2:$AN$955,0)),\"\")","v":""},{"$f":"+IFERROR(INDEX(AK$2:AK$955,MATCH(ROW()-ROW(AK$1),$AN$2:$AN$955,0)),\"\")","v":""},{"$f":"+IFERROR(INDEX(AL$2:AL$955,MATCH(ROW()-ROW(AL$1),$AN$2:$AN$955,0)),\"\")","v":""},"","",null,{"$f":"IF(COUNTIF(AZ$2:AZ131,AZ131)=1,AZ131,\"\")","v":""},{"$f":"IF(Limit_Deviation_Detail!B153=\"\",\"\",Limit_Deviation_Detail!B153)","v":""},{"$f":"IF(Limit_Deviation_Detail!C153=\"\",\"\",Limit_Deviation_Detail!C153)","v":""},{"$f":"IF(Limit_Deviation_Detail!E153=\"\",\"\",Limit_Deviation_Detail!E153)","v":""},"",{"$f":"+IF(AV131=\"\",\"\",MAX(BA$1:BA130)+1)","v":""},"","","",""]
[{"$f":"+IF(D132=\"\",\"\",MAX(A$1:A131)+1)","v":""},{"$f":"IF(Affected_Sources!C154=\"\",\"\",Affected_Sources!C154)","v":""},"",{"$f":"IF(COUNTIF(B$2:B132,B132)=1,B132,\"\")","v":""},null,null,null,null,null,null,null,null,null,null,null,null,null,null,null,{"$f":"+IF(Y132=\"\",\"\",MAX(T$1:T131)+1)","v":""},{"$f":"IF(Limit_Deviation_Detail!B154=\"\",\"\",Limit_Deviation_Detail!B154)","v":""},{"$f":"IF(Limit_Deviation_Detail!C154=\"\",\"\",Limit_Deviation_Detail!C154)","v":""},{"$f":"IF(Limit_Deviation_Detail!E154=\"\",\"\",Limit_Deviation_Detail!E154)","v":""},"",{"$f":"IF(COUNTIF(X$2:X132,X132)=1,X132,\"\")","v":""},"","","","","",null,null,null,null,{"$f":"IF(COUNTIF(AM$2:AM132,AM132)=1,AM132,\"\")","v":""},{"$f":"IF(CMS_Deviation_Detail!B154=\"\",\"\",CMS_Deviation_Detail!B154)","v":""},{"$f":"IF(CMS_Deviation_Detail!C154=\"\",\"\",CMS_Deviation_Detail!C154)","v":""},{"$f":"IF(CMS_Deviation_Detail!D154=\"\",\"\",CMS_Deviation_Detail!D154)","v":""},"",{"$f":"+IF(AI132=\"\",\"\",MAX(AN$1:AN131)+1)","v":""},"","","","","","",null,{"$f":"IF(COUNTIF(AZ$2:AZ132,AZ132)=1,AZ132,\"\")","v":""},{"$f":"IF(Limit_Deviation_Detail!B154=\"\",\"\",Limit_Deviation_Detail!B154)","v":""},{"$f":"IF(Limit_Deviation_Detail!C154=\"\",\"\",Limit_Deviation_Detail!C154)","v":""},{"$f":"IF(Limit_Deviation_Detail!E154=\"\",\"\",Limit_Deviation_Detail!E154)","v":""},"",{"$f":"+IF(AV132=\"\",\"\",MAX(BA$1:BA131)+1)","v":""},"","","",""]
[{"$f":"+IF(D133=\"\",\"\",MAX(A$1:A132)+1)","v":""},{"$f":"IF(Affected_Sources!C155=\"\",\"\",Affected_Sources!C155)","v":""},"",{"$f":"IF(COUNTIF(B$2:B133,B133)=1,B133,\"\")","v":""},null,null,null,null,null,null,null,null,null,null,null,null,null,null,null,{"$f":"+IF(Y133=\"\",\"\",MAX(T$1:T132)+1)","v":""},{"$f":"IF(Limit_Deviation_Detail!B155=\"\",\"\",Limit_Deviation_Detail!B155)","v":""},{"$f":"IF(Limit_Deviation_Detail!C155=\"\",\"\",Limit_Deviation_Detail!C155)","v":""},{"$f":"IF(Limit_Deviation_Detail!E155=\"\",\"\",Limit_Deviation_Detail!E155)","v":""},"",{"$f":"IF(COUNTIF(X$2:X133,X133)=1,X133,\"\")","v":""},"","","","","",null,null,null,null,{"$f":"IF(COUNTIF(AM$2:AM133,AM133)=1,AM133,\"\")","v":""},{"$f":"IF(CMS_Deviation_Detail!B155=\"\",\"\",CMS_Deviation_Detail!B155)","v":""},{"$f":"IF(CMS_Deviation_Detail!C155=\"\",\"\",CMS_Deviation_Detail!C155)","v":""},{"$f":"IF(CMS_Deviation_Detail!D155=\"\",\"\",CMS_Deviation_Detail!D155)","v":""},"",{"$f":"+IF(AI133=\"\",\"\",MAX(AN$1:AN132)+1)","v":""},"","","","","","",null,{"$f":"IF(COUNTIF(AZ$2:AZ133,AZ133)=1,AZ133,\"\")","v":""},{"$f":"IF(Limit_Deviation_Detail!B155=\"\",\"\",Limit_Deviation_Detail!B155)","v":""},{"$f":"IF(Limit_Deviation_Detail!C155=\"\",\"\",Limit_Deviation_Detail!C155)","v":""},{"$f":"IF(Limit_Deviation_Detail!E155=\"\",\"\",Limit_Deviation_Detail!E155)","v":""},"",{"$f":"+IF(AV133=\"\",\"\",MAX(BA$1:BA132)+1)","v":""},"","","",""]
[{"$f":"+IF(D134=\"\",\"\",MAX(A$1:A133)+1)","v":""},{"$f":"IF(Affected_Sources!C156=\"\",\"\",Affected_Sources!C156)","v":""},"",{"$f":"IF(COUNTIF(B$2:B134,B134)=1,B134,\"\")","v":""},null,null,null,null,null,null,null,null,null,null,null,null,null,null,null,{"$f":"+IF(Y134=\"\",\"\",MAX(T$1:T133)+1)","v":""},{"$f":"IF(Limit_Deviation_Detail!B156=\"\",\"\",Limit_Deviation_Detail!B156)","v":""},{"$f":"IF(Limit_Deviation_Detail!C156=\"\",\"\",Limit_Deviation_Detail!C156)","v":""},{"$f":"IF(Limit_Deviation_Detail!E156=\"\",\"\",Limit_Deviation_Detail!E156)","v":""},"",{"$f":"IF(COUNTIF(X$2:X134,X134)=1,X134,\"\")","v":""},"","","","","",null,null,null,null,{"$f":"IF(COUNTIF(AM$2:AM134,AM134)=1,AM134,\"\")","v":""},{"$f":"IF(CMS_Deviation_Detail!B156=\"\",\"\",CMS_Deviation_Detail!B156)","v":""},{"$f":"IF(CMS_Deviation_Detail!C156=\"\",\"\",CMS_Deviation_Detail!C156)","v":""},{"$f":"IF(CMS_Deviation_Detail!D156=\"\",\"\",CMS_Deviation_Detail!D156)","v":""},"",{"$f":"+IF(AI134=\"\",\"\",MAX(AN$1:AN133)+1)","v":""},"","","","","","",null,{"$f":"IF(COUNTIF(AZ$2:AZ134,AZ134)=1,AZ134,\"\")","v":""},{"$f":"IF(Limit_Deviation_Detail!B156=\"\",\"\",Limit_Deviation_Detail!B156)","v":""},{"$f":"IF(Limit_Deviation_Detail!C156=\"\",\"\",Limit_Deviation_Detail!C156)","v":""},{"$f":"IF(Limit_Deviation_Detail!E156=\"\",\"\",Limit_Deviation_Detail!E156)","v":""},"",{"$f":"+IF(AV134=\"\",\"\",MAX(BA$1:BA133)+1)","v":""},"","","",""]
[{"$f":"+IF(D135=\"\",\"\",MAX(A$1:A134)+1)","v":""},{"$f":"IF(Affected_Sources!C157=\"\",\"\",Affected_Sources!C157)","v":""},"",{"$f":"IF(COUNTIF(B$2:B135,B135)=1,B135,\"\")","v":""},null,null,null,null,null,null,null,null,null,null,null,null,null,null,null,{"$f":"+IF(Y135=\"\",\"\",MAX(T$1:T134)+1)","v":""},{"$f":"IF(Limit_Deviation_Detail!B157=\"\",\"\",Limit_Deviation_Detail!B157)","v":""},{"$f":"IF(Limit_Deviation_Detail!C157=\"\",\"\",Limit_Deviation_Detail!C157)","v":""},{"$f":"IF(Limit_Deviation_Detail!E157=\"\",\"\",Limit_Deviation_Detail!E157)","v":""},"",{"$f":"IF(COUNTIF(X$2:X135,X135)=1,X135,\"\")","v":""},"","","","","",null,null,null,null,{"$f":"IF(COUNTIF(AM$2:AM135,AM135)=1,AM135,\"\")","v":""},{"$f":"IF(CMS_Deviation_Detail!B157=\"\",\"\",CMS_Deviation_Detail!B157)","v":""},{"$f":"IF(CMS_Deviation_Detail!C157=\"\",\"\",CMS_Deviation_Detail!C157)","v":""},{"$f":"IF(CMS_Deviation_Detail!D157=\"\",\"\",CMS_Deviation_Detail!D157)","v":""},"",{"$f":"+IF(AI135=\"\",\"\",MAX(AN$1:AN134)+1)","v":""},"","","","","","",null,{"$f":"IF(COUNTIF(AZ$2:AZ135,AZ135)=1,AZ135,\"\")","v":""},{"$f":"IF(Limit_Deviation_Detail!B157=\"\",\"\",Limit_Deviation_Detail!B157)","v":""},{"$f":"IF(Limit_Deviation_Detail!C157=\"\",\"\",Limit_Deviation_Detail!C157)","v":""},{"$f":"IF(Limit_Deviation_Detail!E157=\"\",\"\",Limit_Deviation_Detail!E157)","v":""},{"$f":"IF(AY135=\"\",\"\",AW135&\" \"&AX135&\" \"&AY135)","v":""},{"$f":"+IF(AV135=\"\",\"\",MAX(BA$1:BA134)+1)","v":""},{"$f":"+IFERROR(INDEX(AV$2:AV$955,MATCH(ROW()-ROW(AV$1),BA$2:BA$955,0)),\"\")","v":""},{"$f":"+IFERROR(INDEX(AW$2:AW$955,MATCH(ROW()-ROW(AW$1),$BA$2:$BA$955,0)),\"\")","v":""},{"$f":"+IFERROR(INDEX(AX$2:AX$955,MATCH(ROW()-ROW(AX$1),$BA$2:$BA$955,0)),\"\")","v":""},{"$f":"+IFERROR(INDEX(AY$2:AY$955,MATCH(ROW()-ROW(AY$1),$BA$2:$BA$955,0)),\"\")","v":""}]
[{"$f":"+IF(D136=\"\",\"\",MAX(A$1:A135)+1)","v":""},{"$f":"IF(Affected_Sources!C158=\"\",\"\",Affected_Sources!C158)","v":""},"",{"$f":"IF(COUNTIF(B$2:B136,B136)=1,B136,\"\")","v":""},null,null,null,null,null,null,null,null,null,null,null,null,null,null,null,{"$f":"+IF(Y136=\"\",\"\",MAX(T$1:T135)+1)","v":""},{"$f":"IF(Limit_Deviation_Detail!B158=\"\",\"\",Limit_Deviation_Detail!B158)","v":""},{"$f":"IF(Limit_Deviation_Detail!C158=\"\",\"\",Limit_Deviation_Detail!C158)","v":""},{"$f":"IF(Limit_Deviation_Detail!E158=\"\",\"\",Limit_Deviation_Detail!E158)","v":""},"",{"$f":"IF(COUNTIF(X$2:X136,X136)=1,X136,\"\")","v":""},"","","","","",null,null,null,null,{"$f":"IF(COUNTIF(AM$2:AM136,AM136)=1,AM136,\"\")","v":""},{"$f":"IF(CMS_Deviation_Detail!B158=\"\",\"\",CMS_Deviation_Detail!B158)","v":""},{"$f":"IF(CMS_Deviation_Detail!C158=\"\",\"\",CMS_Deviation_Detail!C158)","v":""},{"$f":"IF(CMS_Deviation_Detail!D158=\"\",\"\",CMS_Deviation_Detail!D158)","v":""},"",{"$f":"+IF(AI136=\"\",\"\",MAX(AN$1:AN135)+1)","v":""},"","","","","","",null,{"$f":"IF(COUNTIF(AZ$2:AZ136,AZ136)=1,AZ136,\"\")","v":""},{"$f":"IF(Limit_Deviation_Detail!B158=\"\",\"\",Limit_Deviation_Detail!B158)","v":""},{"$f":"IF(Limit_Deviation_Detail!C158=\"\",\"\",Limit_Deviation_Detail!C158)","v":""},{"$f":"IF(Limit_Deviation_Detail!E158=\"\",\"\",Limit_Deviation_Detail!E158)","v":""},"",{"$f":"+IF(AV136=\"\",\"\",MAX(BA$1:BA135)+1)","v":""},"","","",""]
[{"$f":"+IF(D137=\"\",\"\",MAX(A$1:A136)+1)","v":""},{"$f":"IF(Affected_Sources!C159=\"\",\"\",Affected_Sources!C159)","v":""},"",{"$f":"IF(COUNTIF(B$2:B137,B137)=1,B137,\"\")","v":""},null,null,null,null,null,null,null,null,null,null,null,null,null,null,null,{"$f":"+IF(Y137=\"\",\"\",MAX(T$1:T136)+1)","v":""},{"$f":"IF(Limit_Deviation_Detail!B159=\"\",\"\",Limit_Deviation_Detail!B159)","v":""},{"$f":"IF(Limit_Deviation_Detail!C159=\"\",\"\",Limit_Deviation_Detail!C159)","v":""},{"$f":"IF(Limit_Deviation_Detail!E159=\"\",\"\",Limit_Deviation_Detail!E159)","v":""},"",{"$f":"IF(COUNTIF(X$2:X137,X137)=1,X137,\"\")","v":""},"","","","","",null,null,null,null,{"$f":"IF(COUNTIF(AM$2:AM137,AM137)=1,AM137,\"\")","v":""},{"$f":"IF(CMS_Deviation_Detail!B159=\"\",\"\",CMS_Deviation_Detail!B159)","v":""},{"$f":"IF(CMS_Deviation_Detail!C159=\"\",\"\",CMS_Deviation_Detail!C159)","v":""},{"$f":"IF(CMS_Deviation_Detail!D159=\"\",\"\",CMS_Deviation_Detail!D159)","v":""},"",{"$f":"+IF(AI137=\"\",\"\",MAX(AN$1:AN136)+1)","v":""},"","","","","","",null,{"$f":"IF(COUNTIF(AZ$2:AZ137,AZ137)=1,AZ137,\"\")","v":""},{"$f":"IF(Limit_Deviation_Detail!B159=\"\",\"\",Limit_Deviation_Detail!B159)","v":""},{"$f":"IF(Limit_Deviation_Detail!C159=\"\",\"\",Limit_Deviation_Detail!C159)","v":""},{"$f":"IF(Limit_Deviation_Detail!E159=\"\",\"\",Limit_Deviation_Detail!E159)","v":""},"",{"$f":"+IF(AV137=\"\",\"\",MAX(BA$1:BA136)+1)","v":""},"","","",""]
[{"$f":"+IF(D138=\"\",\"\",MAX(A$1:A137)+1)","v":""},{"$f":"IF(Affected_Sources!C160=\"\",\"\",Affected_Sources!C160)","v":""},"",{"$f":"IF(COUNTIF(B$2:B138,B138)=1,B138,\"\")","v":""},null,null,null,null,null,null,null,null,null,null,null,null,null,null,null,{"$f":"+IF(Y138=\"\",\"\",MAX(T$1:T137)+1)","v":""},{"$f":"IF(Limit_Deviation_Detail!B160=\"\",\"\",Limit_Deviation_Detail!B160)","v":""},{"$f":"IF(Limit_Deviation_Detail!C160=\"\",\"\",Limit_Deviation_Detail!C160)","v":""},{"$f":"IF(Limit_Deviation_Detail!E160=\"\",\"\",Limit_Deviation_Detail!E160)","v":""},"",{"$f":"IF(COUNTIF(X$2:X138,X138)=1,X138,\"\")","v":""},"","","","","",null,null,null,null,{"$f":"IF(COUNTIF(AM$2:AM138,AM138)=1,AM138,\"\")","v":""},{"$f":"IF(CMS_Deviation_Detail!B160=\"\",\"\",CMS_Deviation_Detail!B160)","v":""},{"$f":"IF(CMS_Deviation_Detail!C160=\"\",\"\",CMS_Deviation_Detail!C160)","v":""},{"$f":"IF(CMS_Deviation_Detail!D160=\"\",\"\",CMS_Deviation_Detail!D160)","v":""},"",{"$f":"+IF(AI138=\"\",\"\",MAX(AN$1:AN137)+1)","v":""},"","","","","","",null,{"$f":"IF(COUNTIF(AZ$2:AZ138,AZ138)=1,AZ138,\"\")","v":""},{"$f":"IF(Limit_Deviation_Detail!B160=\"\",\"\",Limit_Deviation_Detail!B160)","v":""},{"$f":"IF(Limit_Deviation_Detail!C160=\"\",\"\",Limit_Deviation_Detail!C160)","v":""},{"$f":"IF(Limit_Deviation_Detail!E160=\"\",\"\",Limit_Deviation_Detail!E160)","v":""},"",{"$f":"+IF(AV138=\"\",\"\",MAX(BA$1:BA137)+1)","v":""},"","","",""]
[{"$f":"+IF(D139=\"\",\"\",MAX(A$1:A138)+1)","v":""},{"$f":"IF(Affected_Sources!C161=\"\",\"\",Affected_Sources!C161)","v":""},"",{"$f":"IF(COUNTIF(B$2:B139,B139)=1,B139,\"\")","v":""},null,null,null,null,null,null,null,null,null,null,null,null,null,null,null,{"$f":"+IF(Y139=\"\",\"\",MAX(T$1:T138)+1)","v":""},{"$f":"IF(Limit_Deviation_Detail!B161=\"\",\"\",Limit_Deviation_Detail!B161)","v":""},{"$f":"IF(Limit_Deviation_Detail!C161=\"\",\"\",Limit_Deviation_Detail!C161)","v":""},{"$f":"IF(Limit_Deviation_Detail!E161=\"\",\"\",Limit_Deviation_Detail!E161)","v":""},"",{"$f":"IF(COUNTIF(X$2:X139,X139)=1,X139,\"\")","v":""},"","","","","",null,null,null,null,{"$f":"IF(COUNTIF(AM$2:AM139,AM139)=1,AM139,\"\")","v":""},{"$f":"IF(CMS_Deviation_Detail!B161=\"\",\"\",CMS_Deviation_Detail!B161)","v":""},{"$f":"IF(CMS_Deviation_Detail!C161=\"\",\"\",CMS_Deviation_Detail!C161)","v":""},{"$f":"IF(CMS_Deviation_Detail!D161=\"\",\"\",CMS_Deviation_Detail!D161)","v":""},"",{"$f":"+IF(AI139=\"\",\"\",MAX(AN$1:AN138)+1)","v":""},"","","","","","",null,{"$f":"IF(COUNTIF(AZ$2:AZ139,AZ139)=1,AZ139,\"\")","v":""},{"$f":"IF(Limit_Deviation_Detail!B161=\"\",\"\",Limit_Deviation_Detail!B161)","v":""},{"$f":"IF(Limit_Deviation_Detail!C161=\"\",\"\",Limit_Deviation_Detail!C161)","v":""},{"$f":"IF(Limit_Deviation_Detail!E161=\"\",\"\",Limit_Deviation_Detail!E161)","v":""},"",{"$f":"+IF(AV139=\"\",\"\",MAX(BA$1:BA138)+1)","v":""},"","","",""]
[{"$f":"+IF(D140=\"\",\"\",MAX(A$1:A139)+1)","v":""},{"$f":"IF(Affected_Sources!C162=\"\",\"\",Affected_Sources!C162)","v":""},"",{"$f":"IF(COUNTIF(B$2:B140,B140)=1,B140,\"\")","v":""},null,null,null,null,null,null,null,null,null,null,null,null,null,null,null,{"$f":"+IF(Y140=\"\",\"\",MAX(T$1:T139)+1)","v":""},{"$f":"IF(Limit_Deviation_Detail!B162=\"\",\"\",Limit_Deviation_Detail!B162)","v":""},{"$f":"IF(Limit_Deviation_Detail!C162=\"\",\"\",Limit_Deviation_Detail!C162)","v":""},{"$f":"IF(Limit_Deviation_Detail!E162=\"\",\"\",Limit_Deviation_Detail!E162)","v":""},"",{"$f":"IF(COUNTIF(X$2:X140,X140)=1,X140,\"\")","v":""},"","","","","",null,null,null,null,{"$f":"IF(COUNTIF(AM$2:AM140,AM140)=1,AM140,\"\")","v":""},{"$f":"IF(CMS_Deviation_Detail!B162=\"\",\"\",CMS_Deviation_Detail!B162)","v":""},{"$f":"IF(CMS_Deviation_Detail!C162=\"\",\"\",CMS_Deviation_Detail!C162)","v":""},{"$f":"IF(CMS_Deviation_Detail!D162=\"\",\"\",CMS_Deviation_Detail!D162)","v":""},"",{"$f":"+IF(AI140=\"\",\"\",MAX(AN$1:AN139)+1)","v":""},"","","","","","",null,{"$f":"IF(COUNTIF(AZ$2:AZ140,AZ140)=1,AZ140,\"\")","v":""},{"$f":"IF(Limit_Deviation_Detail!B162=\"\",\"\",Limit_Deviation_Detail!B162)","v":""},{"$f":"IF(Limit_Deviation_Detail!C162=\"\",\"\",Limit_Deviation_Detail!C162)","v":""},{"$f":"IF(Limit_Deviation_Detail!E162=\"\",\"\",Limit_Deviation_Detail!E162)","v":""},"",{"$f":"+IF(AV140=\"\",\"\",MAX(BA$1:BA139)+1)","v":""},"","","",""]
[{"$f":"+IF(D141=\"\",\"\",MAX(A$1:A140)+1)","v":""},{"$f":"IF(Affected_Sources!C163=\"\",\"\",Affected_Sources!C163)","v":""},"",{"$f":"IF(COUNTIF(B$2:B141,B141)=1,B141,\"\")","v":""},null,null,null,null,null,null,null,null,null,null,null,null,null,null,null,{"$f":"+IF(Y141=\"\",\"\",MAX(T$1:T140)+1)","v":""},{"$f":"IF(Limit_Deviation_Detail!B163=\"\",\"\",Limit_Deviation_Detail!B163)","v":""},{"$f":"IF(Limit_Deviation_Detail!C163=\"\",\"\",Limit_Deviation_Detail!C163)","v":""},{"$f":"IF(Limit_Deviation_Detail!E163=\"\",\"\",Limit_Deviation_Detail!E163)","v":""},"",{"$f":"IF(COUNTIF(X$2:X141,X141)=1,X141,\"\")","v":""},"","","","","",null,null,null,null,{"$f":"IF(COUNTIF(AM$2:AM141,AM141)=1,AM141,\"\")","v":""},{"$f":"IF(CMS_Deviation_Detail!B163=\"\",\"\",CMS_Deviation_Detail!B163)","v":""},{"$f":"IF(CMS_Deviation_Detail!C163=\"\",\"\",CMS_Deviation_Detail!C163)","v":""},{"$f":"IF(CMS_Deviation_Detail!D163=\"\",\"\",CMS_Deviation_Detail!D163)","v":""},"",{"$f":"+IF(AI141=\"\",\"\",MAX(AN$1:AN140)+1)","v":""},"","","","","","",null,{"$f":"IF(COUNTIF(AZ$2:AZ141,AZ141)=1,AZ141,\"\")","v":""},{"$f":"IF(Limit_Deviation_Detail!B163=\"\",\"\",Limit_Deviation_Detail!B163)","v":""},{"$f":"IF(Limit_Deviation_Detail!C163=\"\",\"\",Limit_Deviation_Detail!C163)","v":""},{"$f":"IF(Limit_Deviation_Detail!E163=\"\",\"\",Limit_Deviation_Detail!E163)","v":""},"",{"$f":"+IF(AV141=\"\",\"\",MAX(BA$1:BA140)+1)","v":""},"","","",""]
[{"$f":"+IF(D142=\"\",\"\",MAX(A$1:A141)+1)","v":""},{"$f":"IF(Affected_Sources!C164=\"\",\"\",Affected_Sources!C164)","v":""},"",{"$f":"IF(COUNTIF(B$2:B142,B142)=1,B142,\"\")","v":""},null,null,null,null,null,null,null,null,null,null,null,null,null,null,null,{"$f":"+IF(Y142=\"\",\"\",MAX(T$1:T141)+1)","v":""},{"$f":"IF(Limit_Deviation_Detail!B164=\"\",\"\",Limit_Deviation_Detail!B164)","v":""},{"$f":"IF(Limit_Deviation_Detail!C164=\"\",\"\",Limit_Deviation_Detail!C164)","v":""},{"$f":"IF(Limit_Deviation_Detail!E164=\"\",\"\",Limit_Deviation_Detail!E164)","v":""},"",{"$f":"IF(COUNTIF(X$2:X142,X142)=1,X142,\"\")","v":""},"","","","","",null,null,null,null,{"$f":"IF(COUNTIF(AM$2:AM142,AM142)=1,AM142,\"\")","v":""},{"$f":"IF(CMS_Deviation_Detail!B164=\"\",\"\",CMS_Deviation_Detail!B164)","v":""},{"$f":"IF(CMS_Deviation_Detail!C164=\"\",\"\",CMS_Deviation_Detail!C164)","v":""},{"$f":"IF(CMS_Deviation_Detail!D164=\"\",\"\",CMS_Deviation_Detail!D164)","v":""},"",{"$f":"+IF(AI142=\"\",\"\",MAX(AN$1:AN141)+1)","v":""},"","","","","","",null,{"$f":"IF(COUNTIF(AZ$2:AZ142,AZ142)=1,AZ142,\"\")","v":""},{"$f":"IF(Limit_Deviation_Detail!B164=\"\",\"\",Limit_Deviation_Detail!B164)","v":""},{"$f":"IF(Limit_Deviation_Detail!C164=\"\",\"\",Limit_Deviation_Detail!C164)","v":""},{"$f":"IF(Limit_Deviation_Detail!E164=\"\",\"\",Limit_Deviation_Detail!E164)","v":""},"",{"$f":"+IF(AV142=\"\",\"\",MAX(BA$1:BA141)+1)","v":""},"","","",""]
[{"$f":"+IF(D143=\"\",\"\",MAX(A$1:A142)+1)","v":""},{"$f":"IF(Affected_Sources!C165=\"\",\"\",Affected_Sources!C165)","v":""},"",{"$f":"IF(COUNTIF(B$2:B143,B143)=1,B143,\"\")","v":""},null,null,null,null,null,null,null,null,null,null,null,null,null,null,null,{"$f":"+IF(Y143=\"\",\"\",MAX(T$1:T142)+1)","v":""},{"$f":"IF(Limit_Deviation_Detail!B165=\"\",\"\",Limit_Deviation_Detail!B165)","v":""},{"$f":"IF(Limit_Deviation_Detail!C165=\"\",\"\",Limit_Deviation_Detail!C165)","v":""},{"$f":"IF(Limit_Deviation_Detail!E165=\"\",\"\",Limit_Deviation_Detail!E165)","v":""},"",{"$f":"IF(COUNTIF(X$2:X143,X143)=1,X143,\"\")","v":""},"","","","","",null,null,null,null,{"$f":"IF(COUNTIF(AM$2:AM143,AM143)=1,AM143,\"\")","v":""},{"$f":"IF(CMS_Deviation_Detail!B165=\"\",\"\",CMS_Deviation_Detail!B165)","v":""},{"$f":"IF(CMS_Deviation_Detail!C165=\"\",\"\",CMS_Deviation_Detail!C165)","v":""},{"$f":"IF(CMS_Deviation_Detail!D165=\"\",\"\",CMS_Deviation_Detail!D165)","v":""},"",{"$f":"+IF(AI143=\"\",\"\",MAX(AN$1:AN142)+1)","v":""},"","","","","","",null,{"$f":"IF(COUNTIF(AZ$2:AZ143,AZ143)=1,AZ143,\"\")","v":""},{"$f":"IF(Limit_Deviation_Detail!B165=\"\",\"\",Limit_Deviation_Detail!B165)","v":""},{"$f":"IF(Limit_Deviation_Detail!C165=\"\",\"\",Limit_Deviation_Detail!C165)","v":""},{"$f":"IF(Limit_Deviation_Detail!E165=\"\",\"\",Limit_Deviation_Detail!E165)","v":""},"",{"$f":"+IF(AV143=\"\",\"\",MAX(BA$1:BA142)+1)","v":""},"","","",""]
[{"$f":"+IF(D144=\"\",\"\",MAX(A$1:A143)+1)","v":""},{"$f":"IF(Affected_Sources!C166=\"\",\"\",Affected_Sources!C166)","v":""},"",{"$f":"IF(COUNTIF(B$2:B144,B144)=1,B144,\"\")","v":""},null,null,null,null,null,null,null,null,null,null,null,null,null,null,null,{"$f":"+IF(Y144=\"\",\"\",MAX(T$1:T143)+1)","v":""},{"$f":"IF(Limit_Deviation_Detail!B166=\"\",\"\",Limit_Deviation_Detail!B166)","v":""},{"$f":"IF(Limit_Deviation_Detail!C166=\"\",\"\",Limit_Deviation_Detail!C166)","v":""},{"$f":"IF(Limit_Deviation_Detail!E166=\"\",\"\",Limit_Deviation_Detail!E166)","v":""},"",{"$f":"IF(COUNTIF(X$2:X144,X144)=1,X144,\"\")","v":""},"","","","","",null,null,null,null,{"$f":"IF(COUNTIF(AM$2:AM144,AM144)=1,AM144,\"\")","v":""},{"$f":"IF(CMS_Deviation_Detail!B166=\"\",\"\",CMS_Deviation_Detail!B166)","v":""},{"$f":"IF(CMS_Deviation_Detail!C166=\"\",\"\",CMS_Deviation_Detail!C166)","v":""},{"$f":"IF(CMS_Deviation_Detail!D166=\"\",\"\",CMS_Deviation_Detail!D166)","v":""},"",{"$f":"+IF(AI144=\"\",\"\",MAX(AN$1:AN143)+1)","v":""},"","","","","","",null,{"$f":"IF(COUNTIF(AZ$2:AZ144,AZ144)=1,AZ144,\"\")","v":""},{"$f":"IF(Limit_Deviation_Detail!B166=\"\",\"\",Limit_Deviation_Detail!B166)","v":""},{"$f":"IF(Limit_Deviation_Detail!C166=\"\",\"\",Limit_Deviation_Detail!C166)","v":""},{"$f":"IF(Limit_Deviation_Detail!E166=\"\",\"\",Limit_Deviation_Detail!E166)","v":""},"",{"$f":"+IF(AV144=\"\",\"\",MAX(BA$1:BA143)+1)","v":""},"","","",""]
[{"$f":"+IF(D145=\"\",\"\",MAX(A$1:A144)+1)","v":""},{"$f":"IF(Affected_Sources!C167=\"\",\"\",Affected_Sources!C167)","v":""},"",{"$f":"IF(COUNTIF(B$2:B145,B145)=1,B145,\"\")","v":""},null,null,null,null,null,null,null,null,null,null,null,null,null,null,null,{"$f":"+IF(Y145=\"\",\"\",MAX(T$1:T144)+1)","v":""},{"$f":"IF(Limit_Deviation_Detail!B167=\"\",\"\",Limit_Deviation_Detail!B167)","v":""},{"$f":"IF(Limit_Deviation_Detail!C167=\"\",\"\",Limit_Deviation_Detail!C167)","v":""},{"$f":"IF(Limit_Deviation_Detail!E167=\"\",\"\",Limit_Deviation_Detail!E167)","v":""},"",{"$f":"IF(COUNTIF(X$2:X145,X145)=1,X145,\"\")","v":""},"","","","","",null,null,null,null,{"$f":"IF(COUNTIF(AM$2:AM145,AM145)=1,AM145,\"\")","v":""},{"$f":"IF(CMS_Deviation_Detail!B167=\"\",\"\",CMS_Deviation_Detail!B167)","v":""},{"$f":"IF(CMS_Deviation_Detail!C167=\"\",\"\",CMS_Deviation_Detail!C167)","v":""},{"$f":"IF(CMS_Deviation_Detail!D167=\"\",\"\",CMS_Deviation_Detail!D167)","v":""},"",{"$f":"+IF(AI145=\"\",\"\",MAX(AN$1:AN144)+1)","v":""},"","","","","","",null,{"$f":"IF(COUNTIF(AZ$2:AZ145,AZ145)=1,AZ145,\"\")","v":""},{"$f":"IF(Limit_Deviation_Detail!B167=\"\",\"\",Limit_Deviation_Detail!B167)","v":""},{"$f":"IF(Limit_Deviation_Detail!C167=\"\",\"\",Limit_Deviation_Detail!C167)","v":""},{"$f":"IF(Limit_Deviation_Detail!E167=\"\",\"\",Limit_Deviation_Detail!E167)","v":""},"",{"$f":"+IF(AV145=\"\",\"\",MAX(BA$1:BA144)+1)","v":""},"","","",""]
[{"$f":"+IF(D146=\"\",\"\",MAX(A$1:A145)+1)","v":""},{"$f":"IF(Affected_Sources!C168=\"\",\"\",Affected_Sources!C168)","v":""},"",{"$f":"IF(COUNTIF(B$2:B146,B146)=1,B146,\"\")","v":""},null,null,null,null,null,null,null,null,null,null,null,null,null,null,null,{"$f":"+IF(Y146=\"\",\"\",MAX(T$1:T145)+1)","v":""},{"$f":"IF(Limit_Deviation_Detail!B168=\"\",\"\",Limit_Deviation_Detail!B168)","v":""},{"$f":"IF(Limit_Deviation_Detail!C168=\"\",\"\",Limit_Deviation_Detail!C168)","v":""},{"$f":"IF(Limit_Deviation_Detail!E168=\"\",\"\",Limit_Deviation_Detail!E168)","v":""},"",{"$f":"IF(COUNTIF(X$2:X146,X146)=1,X146,\"\")","v":""},"","","","","",null,null,null,null,{"$f":"IF(COUNTIF(AM$2:AM146,AM146)=1,AM146,\"\")","v":""},{"$f":"IF(CMS_Deviation_Detail!B168=\"\",\"\",CMS_Deviation_Detail!B168)","v":""},{"$f":"IF(CMS_Deviation_Detail!C168=\"\",\"\",CMS_Deviation_Detail!C168)","v":""},{"$f":"IF(CMS_Deviation_Detail!D168=\"\",\"\",CMS_Deviation_Detail!D168)","v":""},"",{"$f":"+IF(AI146=\"\",\"\",MAX(AN$1:AN145)+1)","v":""},"","","","","","",null,{"$f":"IF(COUNTIF(AZ$2:AZ146,AZ146)=1,AZ146,\"\")","v":""},{"$f":"IF(Limit_Deviation_Detail!B168=\"\",\"\",Limit_Deviation_Detail!B168)","v":""},{"$f":"IF(Limit_Deviation_Detail!C168=\"\",\"\",Limit_Deviation_Detail!C168)","v":""},{"$f":"IF(Limit_Deviation_Detail!E168=\"\",\"\",Limit_Deviation_Detail!E168)","v":""},"",{"$f":"+IF(AV146=\"\",\"\",MAX(BA$1:BA145)+1)","v":""},"","","",""]
[{"$f":"+IF(D147=\"\",\"\",MAX(A$1:A146)+1)","v":""},{"$f":"IF(Affected_Sources!C169=\"\",\"\",Affected_Sources!C169)","v":""},"",{"$f":"IF(COUNTIF(B$2:B147,B147)=1,B147,\"\")","v":""},null,null,null,null,null,null,null,null,null,null,null,null,null,null,null,{"$f":"+IF(Y147=\"\",\"\",MAX(T$1:T146)+1)","v":""},{"$f":"IF(Limit_Deviation_Detail!B169=\"\",\"\",Limit_Deviation_Detail!B169)","v":""},{"$f":"IF(Limit_Deviation_Detail!C169=\"\",\"\",Limit_Deviation_Detail!C169)","v":""},{"$f":"IF(Limit_Deviation_Detail!E169=\"\",\"\",Limit_Deviation_Detail!E169)","v":""},"",{"$f":"IF(COUNTIF(X$2:X147,X147)=1,X147,\"\")","v":""},"","","","","",null,null,null,null,{"$f":"IF(COUNTIF(AM$2:AM147,AM147)=1,AM147,\"\")","v":""},{"$f":"IF(CMS_Deviation_Detail!B169=\"\",\"\",CMS_Deviation_Detail!B169)","v":""},{"$f":"IF(CMS_Deviation_Detail!C169=\"\",\"\",CMS_Deviation_Detail!C169)","v":""},{"$f":"IF(CMS_Deviation_Detail!D169=\"\",\"\",CMS_Deviation_Detail!D169)","v":""},"",{"$f":"+IF(AI147=\"\",\"\",MAX(AN$1:AN146)+1)","v":""},"","","","","","",null,{"$f":"IF(COUNTIF(AZ$2:AZ147,AZ147)=1,AZ147,\"\")","v":""},{"$f":"IF(Limit_Deviation_Detail!B169=\"\",\"\",Limit_Deviation_Detail!B169)","v":""},{"$f":"IF(Limit_Deviation_Detail!C169=\"\",\"\",Limit_Deviation_Detail!C169)","v":""},{"$f":"IF(Limit_Deviation_Detail!E169=\"\",\"\",Limit_Deviation_Detail!E169)","v":""},"",{"$f":"+IF(AV147=\"\",\"\",MAX(BA$1:BA146)+1)","v":""},"","","",""]
[{"$f":"+IF(D148=\"\",\"\",MAX(A$1:A147)+1)","v":""},{"$f":"IF(Affected_Sources!C170=\"\",\"\",Affected_Sources!C170)","v":""},"",{"$f":"IF(COUNTIF(B$2:B148,B148)=1,B148,\"\")","v":""},null,null,null,null,null,null,null,null,null,null,null,null,null,null,null,{"$f":"+IF(Y148=\"\",\"\",MAX(T$1:T147)+1)","v":""},{"$f":"IF(Limit_Deviation_Detail!B170=\"\",\"\",Limit_Deviation_Detail!B170)","v":""},{"$f":"IF(Limit_Deviation_Detail!C170=\"\",\"\",Limit_Deviation_Detail!C170)","v":""},{"$f":"IF(Limit_Deviation_Detail!E170=\"\",\"\",Limit_Deviation_Detail!E170)","v":""},"",{"$f":"IF(COUNTIF(X$2:X148,X148)=1,X148,\"\")","v":""},"","","","","",null,null,null,null,{"$f":"IF(COUNTIF(AM$2:AM148,AM148)=1,AM148,\"\")","v":""},{"$f":"IF(CMS_Deviation_Detail!B170=\"\",\"\",CMS_Deviation_Detail!B170)","v":""},{"$f":"IF(CMS_Deviation_Detail!C170=\"\",\"\",CMS_Deviation_Detail!C170)","v":""},{"$f":"IF(CMS_Deviation_Detail!D170=\"\",\"\",CMS_Deviation_Detail!D170)","v":""},"",{"$f":"+IF(AI148=\"\",\"\",MAX(AN$1:AN147)+1)","v":""},"","","","","","",null,{"$f":"IF(COUNTIF(AZ$2:AZ148,AZ148)=1,AZ148,\"\")","v":""},{"$f":"IF(Limit_Deviation_Detail!B170=\"\",\"\",Limit_Deviation_Detail!B170)","v":""},{"$f":"IF(Limit_Deviation_Detail!C170=\"\",\"\",Limit_Deviation_Detail!C170)","v":""},{"$f":"IF(Limit_Deviation_Detail!E170=\"\",\"\",Limit_Deviation_Detail!E170)","v":""},"",{"$f":"+IF(AV148=\"\",\"\",MAX(BA$1:BA147)+1)","v":""},"","","",""]
[{"$f":"+IF(D149=\"\",\"\",MAX(A$1:A148)+1)","v":""},{"$f":"IF(Affected_Sources!C171=\"\",\"\",Affected_Sources!C171)","v":""},"",{"$f":"IF(COUNTIF(B$2:B149,B149)=1,B149,\"\")","v":""},null,null,null,null,null,null,null,null,null,null,null,null,null,null,null,{"$f":"+IF(Y149=\"\",\"\",MAX(T$1:T148)+1)","v":""},{"$f":"IF(Limit_Deviation_Detail!B171=\"\",\"\",Limit_Deviation_Detail!B171)","v":""},{"$f":"IF(Limit_Deviation_Detail!C171=\"\",\"\",Limit_Deviation_Detail!C171)","v":""},{"$f":"IF(Limit_Deviation_Detail!E171=\"\",\"\",Limit_Deviation_Detail!E171)","v":""},"",{"$f":"IF(COUNTIF(X$2:X149,X149)=1,X149,\"\")","v":""},"","","","","",null,null,null,null,{"$f":"IF(COUNTIF(AM$2:AM149,AM149)=1,AM149,\"\")","v":""},{"$f":"IF(CMS_Deviation_Detail!B171=\"\",\"\",CMS_Deviation_Detail!B171)","v":""},{"$f":"IF(CMS_Deviation_Detail!C171=\"\",\"\",CMS_Deviation_Detail!C171)","v":""},{"$f":"IF(CMS_Deviation_Detail!D171=\"\",\"\",CMS_Deviation_Detail!D171)","v":""},"",{"$f":"+IF(AI149=\"\",\"\",MAX(AN$1:AN148)+1)","v":""},"","","","","","",null,{"$f":"IF(COUNTIF(AZ$2:AZ149,AZ149)=1,AZ149,\"\")","v":""},{"$f":"IF(Limit_Deviation_Detail!B171=\"\",\"\",Limit_Deviation_Detail!B171)","v":""},{"$f":"IF(Limit_Deviation_Detail!C171=\"\",\"\",Limit_Deviation_Detail!C171)","v":""},{"$f":"IF(Limit_Deviation_Detail!E171=\"\",\"\",Limit_Deviation_Detail!E171)","v":""},"",{"$f":"+IF(AV149=\"\",\"\",MAX(BA$1:BA148)+1)","v":""},"","","",""]
[{"$f":"+IF(D150=\"\",\"\",MAX(A$1:A149)+1)","v":""},{"$f":"IF(Affected_Sources!C172=\"\",\"\",Affected_Sources!C172)","v":""},"",{"$f":"IF(COUNTIF(B$2:B150,B150)=1,B150,\"\")","v":""},null,null,null,null,null,null,null,null,null,null,null,null,null,null,null,{"$f":"+IF(Y150=\"\",\"\",MAX(T$1:T149)+1)","v":""},{"$f":"IF(Limit_Deviation_Detail!B172=\"\",\"\",Limit_Deviation_Detail!B172)","v":""},{"$f":"IF(Limit_Deviation_Detail!C172=\"\",\"\",Limit_Deviation_Detail!C172)","v":""},{"$f":"IF(Limit_Deviation_Detail!E172=\"\",\"\",Limit_Deviation_Detail!E172)","v":""},"",{"$f":"IF(COUNTIF(X$2:X150,X150)=1,X150,\"\")","v":""},"","","","","",null,null,null,null,{"$f":"IF(COUNTIF(AM$2:AM150,AM150)=1,AM150,\"\")","v":""},{"$f":"IF(CMS_Deviation_Detail!B172=\"\",\"\",CMS_Deviation_Detail!B172)","v":""},{"$f":"IF(CMS_Deviation_Detail!C172=\"\",\"\",CMS_Deviation_Detail!C172)","v":""},{"$f":"IF(CMS_Deviation_Detail!D172=\"\",\"\",CMS_Deviation_Detail!D172)","v":""},"",{"$f":"+IF(AI150=\"\",\"\",MAX(AN$1:AN149)+1)","v":""},"","","","","","",null,{"$f":"IF(COUNTIF(AZ$2:AZ150,AZ150)=1,AZ150,\"\")","v":""},{"$f":"IF(Limit_Deviation_Detail!B172=\"\",\"\",Limit_Deviation_Detail!B172)","v":""},{"$f":"IF(Limit_Deviation_Detail!C172=\"\",\"\",Limit_Deviation_Detail!C172)","v":""},{"$f":"IF(Limit_Deviation_Detail!E172=\"\",\"\",Limit_Deviation_Detail!E172)","v":""},"",{"$f":"+IF(AV150=\"\",\"\",MAX(BA$1:BA149)+1)","v":""},"","","",""]
[{"$f":"+IF(D151=\"\",\"\",MAX(A$1:A150)+1)","v":""},{"$f":"IF(Affected_Sources!C173=\"\",\"\",Affected_Sources!C173)","v":""},"",{"$f":"IF(COUNTIF(B$2:B151,B151)=1,B151,\"\")","v":""},null,null,null,null,null,null,null,null,null,null,null,null,null,null,null,{"$f":"+IF(Y151=\"\",\"\",MAX(T$1:T150)+1)","v":""},{"$f":"IF(Limit_Deviation_Detail!B173=\"\",\"\",Limit_Deviation_Detail!B173)","v":""},{"$f":"IF(Limit_Deviation_Detail!C173=\"\",\"\",Limit_Deviation_Detail!C173)","v":""},{"$f":"IF(Limit_Deviation_Detail!E173=\"\",\"\",Limit_Deviation_Detail!E173)","v":""},"",{"$f":"IF(COUNTIF(X$2:X151,X151)=1,X151,\"\")","v":""},"","","","","",null,null,null,null,{"$f":"IF(COUNTIF(AM$2:AM151,AM151)=1,AM151,\"\")","v":""},{"$f":"IF(CMS_Deviation_Detail!B173=\"\",\"\",CMS_Deviation_Detail!B173)","v":""},{"$f":"IF(CMS_Deviation_Detail!C173=\"\",\"\",CMS_Deviation_Detail!C173)","v":""},{"$f":"IF(CMS_Deviation_Detail!D173=\"\",\"\",CMS_Deviation_Detail!D173)","v":""},"",{"$f":"+IF(AI151=\"\",\"\",MAX(AN$1:AN150)+1)","v":""},"","","","","","",null,{"$f":"IF(COUNTIF(AZ$2:AZ151,AZ151)=1,AZ151,\"\")","v":""},{"$f":"IF(Limit_Deviation_Detail!B173=\"\",\"\",Limit_Deviation_Detail!B173)","v":""},{"$f":"IF(Limit_Deviation_Detail!C173=\"\",\"\",Limit_Deviation_Detail!C173)","v":""},{"$f":"IF(Limit_Deviation_Detail!E173=\"\",\"\",Limit_Deviation_Detail!E173)","v":""},"",{"$f":"+IF(AV151=\"\",\"\",MAX(BA$1:BA150)+1)","v":""},"","","",""]
[{"$f":"+IF(D152=\"\",\"\",MAX(A$1:A151)+1)","v":""},{"$f":"IF(Affected_Sources!C174=\"\",\"\",Affected_Sources!C174)","v":""},"",{"$f":"IF(COUNTIF(B$2:B152,B152)=1,B152,\"\")","v":""},null,null,null,null,null,null,null,null,null,null,null,null,null,null,null,{"$f":"+IF(Y152=\"\",\"\",MAX(T$1:T151)+1)","v":""},{"$f":"IF(Limit_Deviation_Detail!B174=\"\",\"\",Limit_Deviation_Detail!B174)","v":""},{"$f":"IF(Limit_Deviation_Detail!C174=\"\",\"\",Limit_Deviation_Detail!C174)","v":""},{"$f":"IF(Limit_Deviation_Detail!E174=\"\",\"\",Limit_Deviation_Detail!E174)","v":""},"",{"$f":"IF(COUNTIF(X$2:X152,X152)=1,X152,\"\")","v":""},"","","","","",null,null,null,null,{"$f":"IF(COUNTIF(AM$2:AM152,AM152)=1,AM152,\"\")","v":""},{"$f":"IF(CMS_Deviation_Detail!B174=\"\",\"\",CMS_Deviation_Detail!B174)","v":""},{"$f":"IF(CMS_Deviation_Detail!C174=\"\",\"\",CMS_Deviation_Detail!C174)","v":""},{"$f":"IF(CMS_Deviation_Detail!D174=\"\",\"\",CMS_Deviation_Detail!D174)","v":""},"",{"$f":"+IF(AI152=\"\",\"\",MAX(AN$1:AN151)+1)","v":""},"","","","","","",null,{"$f":"IF(COUNTIF(AZ$2:AZ152,AZ152)=1,AZ152,\"\")","v":""},{"$f":"IF(Limit_Deviation_Detail!B174=\"\",\"\",Limit_Deviation_Detail!B174)","v":""},{"$f":"IF(Limit_Deviation_Detail!C174=\"\",\"\",Limit_Deviation_Detail!C174)","v":""},{"$f":"IF(Limit_Deviation_Detail!E174=\"\",\"\",Limit_Deviation_Detail!E174)","v":""},"",{"$f":"+IF(AV152=\"\",\"\",MAX(BA$1:BA151)+1)","v":""},"","","",""]
[{"$f":"+IF(D153=\"\",\"\",MAX(A$1:A152)+1)","v":""},{"$f":"IF(Affected_Sources!C175=\"\",\"\",Affected_Sources!C175)","v":""},"",{"$f":"IF(COUNTIF(B$2:B153,B153)=1,B153,\"\")","v":""},null,null,null,null,null,null,null,null,null,null,null,null,null,null,null,{"$f":"+IF(Y153=\"\",\"\",MAX(T$1:T152)+1)","v":""},{"$f":"IF(Limit_Deviation_Detail!B175=\"\",\"\",Limit_Deviation_Detail!B175)","v":""},{"$f":"IF(Limit_Deviation_Detail!C175=\"\",\"\",Limit_Deviation_Detail!C175)","v":""},{"$f":"IF(Limit_Deviation_Detail!E175=\"\",\"\",Limit_Deviation_Detail!E175)","v":""},"",{"$f":"IF(COUNTIF(X$2:X153,X153)=1,X153,\"\")","v":""},"","","","","",null,null,null,null,{"$f":"IF(COUNTIF(AM$2:AM153,AM153)=1,AM153,\"\")","v":""},{"$f":"IF(CMS_Deviation_Detail!B175=\"\",\"\",CMS_Deviation_Detail!B175)","v":""},{"$f":"IF(CMS_Deviation_Detail!C175=\"\",\"\",CMS_Deviation_Detail!C175)","v":""},{"$f":"IF(CMS_Deviation_Detail!D175=\"\",\"\",CMS_Deviation_Detail!D175)","v":""},"",{"$f":"+IF(AI153=\"\",\"\",MAX(AN$1:AN152)+1)","v":""},"","","","","","",null,{"$f":"IF(COUNTIF(AZ$2:AZ153,AZ153)=1,AZ153,\"\")","v":""},{"$f":"IF(Limit_Deviation_Detail!B175=\"\",\"\",Limit_Deviation_Detail!B175)","v":""},{"$f":"IF(Limit_Deviation_Detail!C175=\"\",\"\",Limit_Deviation_Detail!C175)","v":""},{"$f":"IF(Limit_Deviation_Detail!E175=\"\",\"\",Limit_Deviation_Detail!E175)","v":""},"",{"$f":"+IF(AV153=\"\",\"\",MAX(BA$1:BA152)+1)","v":""},"","","",""]
[{"$f":"+IF(D154=\"\",\"\",MAX(A$1:A153)+1)","v":""},{"$f":"IF(Affected_Sources!C176=\"\",\"\",Affected_Sources!C176)","v":""},"",{"$f":"IF(COUNTIF(B$2:B154,B154)=1,B154,\"\")","v":""},null,null,null,null,null,null,null,null,null,null,null,null,null,null,null,{"$f":"+IF(Y154=\"\",\"\",MAX(T$1:T153)+1)","v":""},{"$f":"IF(Limit_Deviation_Detail!B176=\"\",\"\",Limit_Deviation_Detail!B176)","v":""},{"$f":"IF(Limit_Deviation_Detail!C176=\"\",\"\",Limit_Deviation_Detail!C176)","v":""},{"$f":"IF(Limit_Deviation_Detail!E176=\"\",\"\",Limit_Deviation_Detail!E176)","v":""},"",{"$f":"IF(COUNTIF(X$2:X154,X154)=1,X154,\"\")","v":""},"","","","","",null,null,null,null,{"$f":"IF(COUNTIF(AM$2:AM154,AM154)=1,AM154,\"\")","v":""},{"$f":"IF(CMS_Deviation_Detail!B176=\"\",\"\",CMS_Deviation_Detail!B176)","v":""},{"$f":"IF(CMS_Deviation_Detail!C176=\"\",\"\",CMS_Deviation_Detail!C176)","v":""},{"$f":"IF(CMS_Deviation_Detail!D176=\"\",\"\",CMS_Deviation_Detail!D176)","v":""},"",{"$f":"+IF(AI154=\"\",\"\",MAX(AN$1:AN153)+1)","v":""},"","","","","","",null,{"$f":"IF(COUNTIF(AZ$2:AZ154,AZ154)=1,AZ154,\"\")","v":""},{"$f":"IF(Limit_Deviation_Detail!B176=\"\",\"\",Limit_Deviation_Detail!B176)","v":""},{"$f":"IF(Limit_Deviation_Detail!C176=\"\",\"\",Limit_Deviation_Detail!C176)","v":""},{"$f":"IF(Limit_Deviation_Detail!E176=\"\",\"\",Limit_Deviation_Detail!E176)","v":""},"",{"$f":"+IF(AV154=\"\",\"\",MAX(BA$1:BA153)+1)","v":""},"","","",""]
[{"$f":"+IF(D155=\"\",\"\",MAX(A$1:A154)+1)","v":""},{"$f":"IF(Affected_Sources!C177=\"\",\"\",Affected_Sources!C177)","v":""},"",{"$f":"IF(COUNTIF(B$2:B155,B155)=1,B155,\"\")","v":""},null,null,null,null,null,null,null,null,null,null,null,null,null,null,null,{"$f":"+IF(Y155=\"\",\"\",MAX(T$1:T154)+1)","v":""},{"$f":"IF(Limit_Deviation_Detail!B177=\"\",\"\",Limit_Deviation_Detail!B177)","v":""},{"$f":"IF(Limit_Deviation_Detail!C177=\"\",\"\",Limit_Deviation_Detail!C177)","v":""},{"$f":"IF(Limit_Deviation_Detail!E177=\"\",\"\",Limit_Deviation_Detail!E177)","v":""},"",{"$f":"IF(COUNTIF(X$2:X155,X155)=1,X155,\"\")","v":""},"","","","","",null,null,null,null,{"$f":"IF(COUNTIF(AM$2:AM155,AM155)=1,AM155,\"\")","v":""},{"$f":"IF(CMS_Deviation_Detail!B177=\"\",\"\",CMS_Deviation_Detail!B177)","v":""},{"$f":"IF(CMS_Deviation_Detail!C177=\"\",\"\",CMS_Deviation_Detail!C177)","v":""},{"$f":"IF(CMS_Deviation_Detail!D177=\"\",\"\",CMS_Deviation_Detail!D177)","v":""},"",{"$f":"+IF(AI155=\"\",\"\",MAX(AN$1:AN154)+1)","v":""},"","","","","","",null,{"$f":"IF(COUNTIF(AZ$2:AZ155,AZ155)=1,AZ155,\"\")","v":""},{"$f":"IF(Limit_Deviation_Detail!B177=\"\",\"\",Limit_Deviation_Detail!B177)","v":""},{"$f":"IF(Limit_Deviation_Detail!C177=\"\",\"\",Limit_Deviation_Detail!C177)","v":""},{"$f":"IF(Limit_Deviation_Detail!E177=\"\",\"\",Limit_Deviation_Detail!E177)","v":""},"",{"$f":"+IF(AV155=\"\",\"\",MAX(BA$1:BA154)+1)","v":""},"","","",""]
[{"$f":"+IF(D156=\"\",\"\",MAX(A$1:A155)+1)","v":""},{"$f":"IF(Affected_Sources!C178=\"\",\"\",Affected_Sources!C178)","v":""},"",{"$f":"IF(COUNTIF(B$2:B156,B156)=1,B156,\"\")","v":""},null,null,null,null,null,null,null,null,null,null,null,null,null,null,null,{"$f":"+IF(Y156=\"\",\"\",MAX(T$1:T155)+1)","v":""},{"$f":"IF(Limit_Deviation_Detail!B178=\"\",\"\",Limit_Deviation_Detail!B178)","v":""},{"$f":"IF(Limit_Deviation_Detail!C178=\"\",\"\",Limit_Deviation_Detail!C178)","v":""},{"$f":"IF(Limit_Deviation_Detail!E178=\"\",\"\",Limit_Deviation_Detail!E178)","v":""},"",{"$f":"IF(COUNTIF(X$2:X156,X156)=1,X156,\"\")","v":""},"","","","","",null,null,null,null,{"$f":"IF(COUNTIF(AM$2:AM156,AM156)=1,AM156,\"\")","v":""},{"$f":"IF(CMS_Deviation_Detail!B178=\"\",\"\",CMS_Deviation_Detail!B178)","v":""},{"$f":"IF(CMS_Deviation_Detail!C178=\"\",\"\",CMS_Deviation_Detail!C178)","v":""},{"$f":"IF(CMS_Deviation_Detail!D178=\"\",\"\",CMS_Deviation_Detail!D178)","v":""},"",{"$f":"+IF(AI156=\"\",\"\",MAX(AN$1:AN155)+1)","v":""},"","","","","","",null,{"$f":"IF(COUNTIF(AZ$2:AZ156,AZ156)=1,AZ156,\"\")","v":""},{"$f":"IF(Limit_Deviation_Detail!B178=\"\",\"\",Limit_Deviation_Detail!B178)","v":""},{"$f":"IF(Limit_Deviation_Detail!C178=\"\",\"\",Limit_Deviation_Detail!C178)","v":""},{"$f":"IF(Limit_Deviation_Detail!E178=\"\",\"\",Limit_Deviation_Detail!E178)","v":""},"",{"$f":"+IF(AV156=\"\",\"\",MAX(BA$1:BA155)+1)","v":""},"","","",""]
[{"$f":"+IF(D157=\"\",\"\",MAX(A$1:A156)+1)","v":""},{"$f":"IF(Affected_Sources!C179=\"\",\"\",Affected_Sources!C179)","v":""},"",{"$f":"IF(COUNTIF(B$2:B157,B157)=1,B157,\"\")","v":""},null,null,null,null,null,null,null,null,null,null,null,null,null,null,null,{"$f":"+IF(Y157=\"\",\"\",MAX(T$1:T156)+1)","v":""},{"$f":"IF(Limit_Deviation_Detail!B179=\"\",\"\",Limit_Deviation_Detail!B179)","v":""},{"$f":"IF(Limit_Deviation_Detail!C179=\"\",\"\",Limit_Deviation_Detail!C179)","v":""},{"$f":"IF(Limit_Deviation_Detail!E179=\"\",\"\",Limit_Deviation_Detail!E179)","v":""},"",{"$f":"IF(COUNTIF(X$2:X157,X157)=1,X157,\"\")","v":""},"","","","","",null,null,null,null,{"$f":"IF(COUNTIF(AM$2:AM157,AM157)=1,AM157,\"\")","v":""},{"$f":"IF(CMS_Deviation_Detail!B179=\"\",\"\",CMS_Deviation_Detail!B179)","v":""},{"$f":"IF(CMS_Deviation_Detail!C179=\"\",\"\",CMS_Deviation_Detail!C179)","v":""},{"$f":"IF(CMS_Deviation_Detail!D179=\"\",\"\",CMS_Deviation_Detail!D179)","v":""},"",{"$f":"+IF(AI157=\"\",\"\",MAX(AN$1:AN156)+1)","v":""},"","","","","","",null,{"$f":"IF(COUNTIF(AZ$2:AZ157,AZ157)=1,AZ157,\"\")","v":""},{"$f":"IF(Limit_Deviation_Detail!B179=\"\",\"\",Limit_Deviation_Detail!B179)","v":""},{"$f":"IF(Limit_Deviation_Detail!C179=\"\",\"\",Limit_Deviation_Detail!C179)","v":""},{"$f":"IF(Limit_Deviation_Detail!E179=\"\",\"\",Limit_Deviation_Detail!E179)","v":""},"",{"$f":"+IF(AV157=\"\",\"\",MAX(BA$1:BA156)+1)","v":""},"","","",""]
[{"$f":"+IF(D158=\"\",\"\",MAX(A$1:A157)+1)","v":""},{"$f":"IF(Affected_Sources!C180=\"\",\"\",Affected_Sources!C180)","v":""},"",{"$f":"IF(COUNTIF(B$2:B158,B158)=1,B158,\"\")","v":""},null,null,null,null,null,null,null,null,null,null,null,null,null,null,null,{"$f":"+IF(Y158=\"\",\"\",MAX(T$1:T157)+1)","v":""},{"$f":"IF(Limit_Deviation_Detail!B180=\"\",\"\",Limit_Deviation_Detail!B180)","v":""},{"$f":"IF(Limit_Deviation_Detail!C180=\"\",\"\",Limit_Deviation_Detail!C180)","v":""},{"$f":"IF(Limit_Deviation_Detail!E180=\"\",\"\",Limit_Deviation_Detail!E180)","v":""},"",{"$f":"IF(COUNTIF(X$2:X158,X158)=1,X158,\"\")","v":""},"","","","","",null,null,null,null,{"$f":"IF(COUNTIF(AM$2:AM158,AM158)=1,AM158,\"\")","v":""},{"$f":"IF(CMS_Deviation_Detail!B180=\"\",\"\",CMS_Deviation_Detail!B180)","v":""},{"$f":"IF(CMS_Deviation_Detail!C180=\"\",\"\",CMS_Deviation_Detail!C180)","v":""},{"$f":"IF(CMS_Deviation_Detail!D180=\"\",\"\",CMS_Deviation_Detail!D180)","v":""},"",{"$f":"+IF(AI158=\"\",\"\",MAX(AN$1:AN157)+1)","v":""},"","","","","","",null,{"$f":"IF(COUNTIF(AZ$2:AZ158,AZ158)=1,AZ158,\"\")","v":""},{"$f":"IF(Limit_Deviation_Detail!B180=\"\",\"\",Limit_Deviation_Detail!B180)","v":""},{"$f":"IF(Limit_Deviation_Detail!C180=\"\",\"\",Limit_Deviation_Detail!C180)","v":""},{"$f":"IF(Limit_Deviation_Detail!E180=\"\",\"\",Limit_Deviation_Detail!E180)","v":""},"",{"$f":"+IF(AV158=\"\",\"\",MAX(BA$1:BA157)+1)","v":""},"","","",""]
[{"$f":"+IF(D159=\"\",\"\",MAX(A$1:A158)+1)","v":""},{"$f":"IF(Affected_Sources!C181=\"\",\"\",Affected_Sources!C181)","v":""},"",{"$f":"IF(COUNTIF(B$2:B159,B159)=1,B159,\"\")","v":""},null,null,null,null,null,null,null,null,null,null,null,null,null,null,null,{"$f":"+IF(Y159=\"\",\"\",MAX(T$1:T158)+1)","v":""},{"$f":"IF(Limit_Deviation_Detail!B181=\"\",\"\",Limit_Deviation_Detail!B181)","v":""},{"$f":"IF(Limit_Deviation_Detail!C181=\"\",\"\",Limit_Deviation_Detail!C181)","v":""},{"$f":"IF(Limit_Deviation_Detail!E181=\"\",\"\",Limit_Deviation_Detail!E181)","v":""},"",{"$f":"IF(COUNTIF(X$2:X159,X159)=1,X159,\"\")","v":""},"","","","","",null,null,null,null,{"$f":"IF(COUNTIF(AM$2:AM159,AM159)=1,AM159,\"\")","v":""},{"$f":"IF(CMS_Deviation_Detail!B181=\"\",\"\",CMS_Deviation_Detail!B181)","v":""},{"$f":"IF(CMS_Deviation_Detail!C181=\"\",\"\",CMS_Deviation_Detail!C181)","v":""},{"$f":"IF(CMS_Deviation_Detail!D181=\"\",\"\",CMS_Deviation_Detail!D181)","v":""},"",{"$f":"+IF(AI159=\"\",\"\",MAX(AN$1:AN158)+1)","v":""},"","","","","","",null,{"$f":"IF(COUNTIF(AZ$2:AZ159,AZ159)=1,AZ159,\"\")","v":""},{"$f":"IF(Limit_Deviation_Detail!B181=\"\",\"\",Limit_Deviation_Detail!B181)","v":""},{"$f":"IF(Limit_Deviation_Detail!C181=\"\",\"\",Limit_Deviation_Detail!C181)","v":""},{"$f":"IF(Limit_Deviation_Detail!E181=\"\",\"\",Limit_Deviation_Detail!E181)","v":""},"",{"$f":"+IF(AV159=\"\",\"\",MAX(BA$1:BA158)+1)","v":""},"","","",""]
[{"$f":"+IF(D160=\"\",\"\",MAX(A$1:A159)+1)","v":""},{"$f":"IF(Affected_Sources!C182=\"\",\"\",Affected_Sources!C182)","v":""},"",{"$f":"IF(COUNTIF(B$2:B160,B160)=1,B160,\"\")","v":""},null,null,null,null,null,null,null,null,null,null,null,null,null,null,null,{"$f":"+IF(Y160=\"\",\"\",MAX(T$1:T159)+1)","v":""},{"$f":"IF(Limit_Deviation_Detail!B182=\"\",\"\",Limit_Deviation_Detail!B182)","v":""},{"$f":"IF(Limit_Deviation_Detail!C182=\"\",\"\",Limit_Deviation_Detail!C182)","v":""},{"$f":"IF(Limit_Deviation_Detail!E182=\"\",\"\",Limit_Deviation_Detail!E182)","v":""},"",{"$f":"IF(COUNTIF(X$2:X160,X160)=1,X160,\"\")","v":""},"","","","","",null,null,null,null,{"$f":"IF(COUNTIF(AM$2:AM160,AM160)=1,AM160,\"\")","v":""},{"$f":"IF(CMS_Deviation_Detail!B182=\"\",\"\",CMS_Deviation_Detail!B182)","v":""},{"$f":"IF(CMS_Deviation_Detail!C182=\"\",\"\",CMS_Deviation_Detail!C182)","v":""},{"$f":"IF(CMS_Deviation_Detail!D182=\"\",\"\",CMS_Deviation_Detail!D182)","v":""},"",{"$f":"+IF(AI160=\"\",\"\",MAX(AN$1:AN159)+1)","v":""},"","","","","","",null,{"$f":"IF(COUNTIF(AZ$2:AZ160,AZ160)=1,AZ160,\"\")","v":""},{"$f":"IF(Limit_Deviation_Detail!B182=\"\",\"\",Limit_Deviation_Detail!B182)","v":""},{"$f":"IF(Limit_Deviation_Detail!C182=\"\",\"\",Limit_Deviation_Detail!C182)","v":""},{"$f":"IF(Limit_Deviation_Detail!E182=\"\",\"\",Limit_Deviation_Detail!E182)","v":""},"",{"$f":"+IF(AV160=\"\",\"\",MAX(BA$1:BA159)+1)","v":""},"","","",""]
[{"$f":"+IF(D161=\"\",\"\",MAX(A$1:A160)+1)","v":""},{"$f":"IF(Affected_Sources!C183=\"\",\"\",Affected_Sources!C183)","v":""},"",{"$f":"IF(COUNTIF(B$2:B161,B161)=1,B161,\"\")","v":""},null,null,null,null,null,null,null,null,null,null,null,null,null,null,null,{"$f":"+IF(Y161=\"\",\"\",MAX(T$1:T160)+1)","v":""},{"$f":"IF(Limit_Deviation_Detail!B183=\"\",\"\",Limit_Deviation_Detail!B183)","v":""},{"$f":"IF(Limit_Deviation_Detail!C183=\"\",\"\",Limit_Deviation_Detail!C183)","v":""},{"$f":"IF(Limit_Deviation_Detail!E183=\"\",\"\",Limit_Deviation_Detail!E183)","v":""},"",{"$f":"IF(COUNTIF(X$2:X161,X161)=1,X161,\"\")","v":""},"","","","","",null,null,null,null,{"$f":"IF(COUNTIF(AM$2:AM161,AM161)=1,AM161,\"\")","v":""},{"$f":"IF(CMS_Deviation_Detail!B183=\"\",\"\",CMS_Deviation_Detail!B183)","v":""},{"$f":"IF(CMS_Deviation_Detail!C183=\"\",\"\",CMS_Deviation_Detail!C183)","v":""},{"$f":"IF(CMS_Deviation_Detail!D183=\"\",\"\",CMS_Deviation_Detail!D183)","v":""},"",{"$f":"+IF(AI161=\"\",\"\",MAX(AN$1:AN160)+1)","v":""},"","","","","","",null,{"$f":"IF(COUNTIF(AZ$2:AZ161,AZ161)=1,AZ161,\"\")","v":""},{"$f":"IF(Limit_Deviation_Detail!B183=\"\",\"\",Limit_Deviation_Detail!B183)","v":""},{"$f":"IF(Limit_Deviation_Detail!C183=\"\",\"\",Limit_Deviation_Detail!C183)","v":""},{"$f":"IF(Limit_Deviation_Detail!E183=\"\",\"\",Limit_Deviation_Detail!E183)","v":""},"",{"$f":"+IF(AV161=\"\",\"\",MAX(BA$1:BA160)+1)","v":""},"","","",""]
[{"$f":"+IF(D162=\"\",\"\",MAX(A$1:A161)+1)","v":""},{"$f":"IF(Affected_Sources!C184=\"\",\"\",Affected_Sources!C184)","v":""},"",{"$f":"IF(COUNTIF(B$2:B162,B162)=1,B162,\"\")","v":""},null,null,null,null,null,null,null,null,null,null,null,null,null,null,null,{"$f":"+IF(Y162=\"\",\"\",MAX(T$1:T161)+1)","v":""},{"$f":"IF(Limit_Deviation_Detail!B184=\"\",\"\",Limit_Deviation_Detail!B184)","v":""},{"$f":"IF(Limit_Deviation_Detail!C184=\"\",\"\",Limit_Deviation_Detail!C184)","v":""},{"$f":"IF(Limit_Deviation_Detail!E184=\"\",\"\",Limit_Deviation_Detail!E184)","v":""},"",{"$f":"IF(COUNTIF(X$2:X162,X162)=1,X162,\"\")","v":""},"","","","","",null,null,null,null,{"$f":"IF(COUNTIF(AM$2:AM162,AM162)=1,AM162,\"\")","v":""},{"$f":"IF(CMS_Deviation_Detail!B184=\"\",\"\",CMS_Deviation_Detail!B184)","v":""},{"$f":"IF(CMS_Deviation_Detail!C184=\"\",\"\",CMS_Deviation_Detail!C184)","v":""},{"$f":"IF(CMS_Deviation_Detail!D184=\"\",\"\",CMS_Deviation_Detail!D184)","v":""},"",{"$f":"+IF(AI162=\"\",\"\",MAX(AN$1:AN161)+1)","v":""},"","","","","","",null,{"$f":"IF(COUNTIF(AZ$2:AZ162,AZ162)=1,AZ162,\"\")","v":""},{"$f":"IF(Limit_Deviation_Detail!B184=\"\",\"\",Limit_Deviation_Detail!B184)","v":""},{"$f":"IF(Limit_Deviation_Detail!C184=\"\",\"\",Limit_Deviation_Detail!C184)","v":""},{"$f":"IF(Limit_Deviation_Detail!E184=\"\",\"\",Limit_Deviation_Detail!E184)","v":""},"",{"$f":"+IF(AV162=\"\",\"\",MAX(BA$1:BA161)+1)","v":""},"","","",""]
[{"$f":"+IF(D163=\"\",\"\",MAX(A$1:A162)+1)","v":""},{"$f":"IF(Affected_Sources!C185=\"\",\"\",Affected_Sources!C185)","v":""},"",{"$f":"IF(COUNTIF(B$2:B163,B163)=1,B163,\"\")","v":""},null,null,null,null,null,null,null,null,null,null,null,null,null,null,null,{"$f":"+IF(Y163=\"\",\"\",MAX(T$1:T162)+1)","v":""},{"$f":"IF(Limit_Deviation_Detail!B185=\"\",\"\",Limit_Deviation_Detail!B185)","v":""},{"$f":"IF(Limit_Deviation_Detail!C185=\"\",\"\",Limit_Deviation_Detail!C185)","v":""},{"$f":"IF(Limit_Deviation_Detail!E185=\"\",\"\",Limit_Deviation_Detail!E185)","v":""},"",{"$f":"IF(COUNTIF(X$2:X163,X163)=1,X163,\"\")","v":""},"","","","","",null,null,null,null,{"$f":"IF(COUNTIF(AM$2:AM163,AM163)=1,AM163,\"\")","v":""},{"$f":"IF(CMS_Deviation_Detail!B185=\"\",\"\",CMS_Deviation_Detail!B185)","v":""},{"$f":"IF(CMS_Deviation_Detail!C185=\"\",\"\",CMS_Deviation_Detail!C185)","v":""},{"$f":"IF(CMS_Deviation_Detail!D185=\"\",\"\",CMS_Deviation_Detail!D185)","v":""},"",{"$f":"+IF(AI163=\"\",\"\",MAX(AN$1:AN162)+1)","v":""},"","","","","","",null,{"$f":"IF(COUNTIF(AZ$2:AZ163,AZ163)=1,AZ163,\"\")","v":""},{"$f":"IF(Limit_Deviation_Detail!B185=\"\",\"\",Limit_Deviation_Detail!B185)","v":""},{"$f":"IF(Limit_Deviation_Detail!C185=\"\",\"\",Limit_Deviation_Detail!C185)","v":""},{"$f":"IF(Limit_Deviation_Detail!E185=\"\",\"\",Limit_Deviation_Detail!E185)","v":""},"",{"$f":"+IF(AV163=\"\",\"\",MAX(BA$1:BA162)+1)","v":""},"","","",""]
[{"$f":"+IF(D164=\"\",\"\",MAX(A$1:A163)+1)","v":""},{"$f":"IF(Affected_Sources!C186=\"\",\"\",Affected_Sources!C186)","v":""},"",{"$f":"IF(COUNTIF(B$2:B164,B164)=1,B164,\"\")","v":""},null,null,null,null,null,null,null,null,null,null,null,null,null,null,null,{"$f":"+IF(Y164=\"\",\"\",MAX(T$1:T163)+1)","v":""},{"$f":"IF(Limit_Deviation_Detail!B186=\"\",\"\",Limit_Deviation_Detail!B186)","v":""},{"$f":"IF(Limit_Deviation_Detail!C186=\"\",\"\",Limit_Deviation_Detail!C186)","v":""},{"$f":"IF(Limit_Deviation_Detail!E186=\"\",\"\",Limit_Deviation_Detail!E186)","v":""},"",{"$f":"IF(COUNTIF(X$2:X164,X164)=1,X164,\"\")","v":""},"","","","","",null,null,null,null,{"$f":"IF(COUNTIF(AM$2:AM164,AM164)=1,AM164,\"\")","v":""},{"$f":"IF(CMS_Deviation_Detail!B186=\"\",\"\",CMS_Deviation_Detail!B186)","v":""},{"$f":"IF(CMS_Deviation_Detail!C186=\"\",\"\",CMS_Deviation_Detail!C186)","v":""},{"$f":"IF(CMS_Deviation_Detail!D186=\"\",\"\",CMS_Deviation_Detail!D186)","v":""},"",{"$f":"+IF(AI164=\"\",\"\",MAX(AN$1:AN163)+1)","v":""},"","","","","","",null,{"$f":"IF(COUNTIF(AZ$2:AZ164,AZ164)=1,AZ164,\"\")","v":""},{"$f":"IF(Limit_Deviation_Detail!B186=\"\",\"\",Limit_Deviation_Detail!B186)","v":""},{"$f":"IF(Limit_Deviation_Detail!C186=\"\",\"\",Limit_Deviation_Detail!C186)","v":""},{"$f":"IF(Limit_Deviation_Detail!E186=\"\",\"\",Limit_Deviation_Detail!E186)","v":""},"",{"$f":"+IF(AV164=\"\",\"\",MAX(BA$1:BA163)+1)","v":""},"","","",""]
[{"$f":"+IF(D165=\"\",\"\",MAX(A$1:A164)+1)","v":""},{"$f":"IF(Affected_Sources!C187=\"\",\"\",Affected_Sources!C187)","v":""},"",{"$f":"IF(COUNTIF(B$2:B165,B165)=1,B165,\"\")","v":""},null,null,null,null,null,null,null,null,null,null,null,null,null,null,null,{"$f":"+IF(Y165=\"\",\"\",MAX(T$1:T164)+1)","v":""},{"$f":"IF(Limit_Deviation_Detail!B187=\"\",\"\",Limit_Deviation_Detail!B187)","v":""},{"$f":"IF(Limit_Deviation_Detail!C187=\"\",\"\",Limit_Deviation_Detail!C187)","v":""},{"$f":"IF(Limit_Deviation_Detail!E187=\"\",\"\",Limit_Deviation_Detail!E187)","v":""},"",{"$f":"IF(COUNTIF(X$2:X165,X165)=1,X165,\"\")","v":""},"","","","","",null,null,null,null,{"$f":"IF(COUNTIF(AM$2:AM165,AM165)=1,AM165,\"\")","v":""},{"$f":"IF(CMS_Deviation_Detail!B187=\"\",\"\",CMS_Deviation_Detail!B187)","v":""},{"$f":"IF(CMS_Deviation_Detail!C187=\"\",\"\",CMS_Deviation_Detail!C187)","v":""},{"$f":"IF(CMS_Deviation_Detail!D187=\"\",\"\",CMS_Deviation_Detail!D187)","v":""},"",{"$f":"+IF(AI165=\"\",\"\",MAX(AN$1:AN164)+1)","v":""},"","","","","","",null,{"$f":"IF(COUNTIF(AZ$2:AZ165,AZ165)=1,AZ165,\"\")","v":""},{"$f":"IF(Limit_Deviation_Detail!B187=\"\",\"\",Limit_Deviation_Detail!B187)","v":""},{"$f":"IF(Limit_Deviation_Detail!C187=\"\",\"\",Limit_Deviation_Detail!C187)","v":""},{"$f":"IF(Limit_Deviation_Detail!E187=\"\",\"\",Limit_Deviation_Detail!E187)","v":""},"",{"$f":"+IF(AV165=\"\",\"\",MAX(BA$1:BA164)+1)","v":""},"","","",""]
[{"$f":"+IF(D166=\"\",\"\",MAX(A$1:A165)+1)","v":""},{"$f":"IF(Affected_Sources!C188=\"\",\"\",Affected_Sources!C188)","v":""},"",{"$f":"IF(COUNTIF(B$2:B166,B166)=1,B166,\"\")","v":""},null,null,null,null,null,null,null,null,null,null,null,null,null,null,null,{"$f":"+IF(Y166=\"\",\"\",MAX(T$1:T165)+1)","v":""},{"$f":"IF(Limit_Deviation_Detail!B188=\"\",\"\",Limit_Deviation_Detail!B188)","v":""},{"$f":"IF(Limit_Deviation_Detail!C188=\"\",\"\",Limit_Deviation_Detail!C188)","v":""},{"$f":"IF(Limit_Deviation_Detail!E188=\"\",\"\",Limit_Deviation_Detail!E188)","v":""},"",{"$f":"IF(COUNTIF(X$2:X166,X166)=1,X166,\"\")","v":""},"","","","","",null,null,null,null,{"$f":"IF(COUNTIF(AM$2:AM166,AM166)=1,AM166,\"\")","v":""},{"$f":"IF(CMS_Deviation_Detail!B188=\"\",\"\",CMS_Deviation_Detail!B188)","v":""},{"$f":"IF(CMS_Deviation_Detail!C188=\"\",\"\",CMS_Deviation_Detail!C188)","v":""},{"$f":"IF(CMS_Deviation_Detail!D188=\"\",\"\",CMS_Deviation_Detail!D188)","v":""},"",{"$f":"+IF(AI166=\"\",\"\",MAX(AN$1:AN165)+1)","v":""},"","","","","","",null,{"$f":"IF(COUNTIF(AZ$2:AZ166,AZ166)=1,AZ166,\"\")","v":""},{"$f":"IF(Limit_Deviation_Detail!B188=\"\",\"\",Limit_Deviation_Detail!B188)","v":""},{"$f":"IF(Limit_Deviation_Detail!C188=\"\",\"\",Limit_Deviation_Detail!C188)","v":""},{"$f":"IF(Limit_Deviation_Detail!E188=\"\",\"\",Limit_Deviation_Detail!E188)","v":""},"",{"$f":"+IF(AV166=\"\",\"\",MAX(BA$1:BA165)+1)","v":""},"","","",""]
[{"$f":"+IF(D167=\"\",\"\",MAX(A$1:A166)+1)","v":""},{"$f":"IF(Affected_Sources!C189=\"\",\"\",Affected_Sources!C189)","v":""},"",{"$f":"IF(COUNTIF(B$2:B167,B167)=1,B167,\"\")","v":""},null,null,null,null,null,null,null,null,null,null,null,null,null,null,null,{"$f":"+IF(Y167=\"\",\"\",MAX(T$1:T166)+1)","v":""},{"$f":"IF(Limit_Deviation_Detail!B189=\"\",\"\",Limit_Deviation_Detail!B189)","v":""},{"$f":"IF(Limit_Deviation_Detail!C189=\"\",\"\",Limit_Deviation_Detail!C189)","v":""},{"$f":"IF(Limit_Deviation_Detail!E189=\"\",\"\",Limit_Deviation_Detail!E189)","v":""},"",{"$f":"IF(COUNTIF(X$2:X167,X167)=1,X167,\"\")","v":""},"","","","","",null,null,null,null,{"$f":"IF(COUNTIF(AM$2:AM167,AM167)=1,AM167,\"\")","v":""},{"$f":"IF(CMS_Deviation_Detail!B189=\"\",\"\",CMS_Deviation_Detail!B189)","v":""},{"$f":"IF(CMS_Deviation_Detail!C189=\"\",\"\",CMS_Deviation_Detail!C189)","v":""},{"$f":"IF(CMS_Deviation_Detail!D189=\"\",\"\",CMS_Deviation_Detail!D189)","v":""},"",{"$f":"+IF(AI167=\"\",\"\",MAX(AN$1:AN166)+1)","v":""},"","","","","","",null,{"$f":"IF(COUNTIF(AZ$2:AZ167,AZ167)=1,AZ167,\"\")","v":""},{"$f":"IF(Limit_Deviation_Detail!B189=\"\",\"\",Limit_Deviation_Detail!B189)","v":""},{"$f":"IF(Limit_Deviation_Detail!C189=\"\",\"\",Limit_Deviation_Detail!C189)","v":""},{"$f":"IF(Limit_Deviation_Detail!E189=\"\",\"\",Limit_Deviation_Detail!E189)","v":""},"",{"$f":"+IF(AV167=\"\",\"\",MAX(BA$1:BA166)+1)","v":""},"","","",""]
[{"$f":"+IF(D168=\"\",\"\",MAX(A$1:A167)+1)","v":""},{"$f":"IF(Affected_Sources!C190=\"\",\"\",Affected_Sources!C190)","v":""},"",{"$f":"IF(COUNTIF(B$2:B168,B168)=1,B168,\"\")","v":""},null,null,null,null,null,null,null,null,null,null,null,null,null,null,null,{"$f":"+IF(Y168=\"\",\"\",MAX(T$1:T167)+1)","v":""},{"$f":"IF(Limit_Deviation_Detail!B190=\"\",\"\",Limit_Deviation_Detail!B190)","v":""},{"$f":"IF(Limit_Deviation_Detail!C190=\"\",\"\",Limit_Deviation_Detail!C190)","v":""},{"$f":"IF(Limit_Deviation_Detail!E190=\"\",\"\",Limit_Deviation_Detail!E190)","v":""},"",{"$f":"IF(COUNTIF(X$2:X168,X168)=1,X168,\"\")","v":""},"","","","","",null,null,null,null,{"$f":"IF(COUNTIF(AM$2:AM168,AM168)=1,AM168,\"\")","v":""},{"$f":"IF(CMS_Deviation_Detail!B190=\"\",\"\",CMS_Deviation_Detail!B190)","v":""},{"$f":"IF(CMS_Deviation_Detail!C190=\"\",\"\",CMS_Deviation_Detail!C190)","v":""},{"$f":"IF(CMS_Deviation_Detail!D190=\"\",\"\",CMS_Deviation_Detail!D190)","v":""},"",{"$f":"+IF(AI168=\"\",\"\",MAX(AN$1:AN167)+1)","v":""},"","","","","","",null,{"$f":"IF(COUNTIF(AZ$2:AZ168,AZ168)=1,AZ168,\"\")","v":""},{"$f":"IF(Limit_Deviation_Detail!B190=\"\",\"\",Limit_Deviation_Detail!B190)","v":""},{"$f":"IF(Limit_Deviation_Detail!C190=\"\",\"\",Limit_Deviation_Detail!C190)","v":""},{"$f":"IF(Limit_Deviation_Detail!E190=\"\",\"\",Limit_Deviation_Detail!E190)","v":""},"",{"$f":"+IF(AV168=\"\",\"\",MAX(BA$1:BA167)+1)","v":""},"","","",""]
[{"$f":"+IF(D169=\"\",\"\",MAX(A$1:A168)+1)","v":""},{"$f":"IF(Affected_Sources!C191=\"\",\"\",Affected_Sources!C191)","v":""},"",{"$f":"IF(COUNTIF(B$2:B169,B169)=1,B169,\"\")","v":""},null,null,null,null,null,null,null,null,null,null,null,null,null,null,null,{"$f":"+IF(Y169=\"\",\"\",MAX(T$1:T168)+1)","v":""},{"$f":"IF(Limit_Deviation_Detail!B191=\"\",\"\",Limit_Deviation_Detail!B191)","v":""},{"$f":"IF(Limit_Deviation_Detail!C191=\"\",\"\",Limit_Deviation_Detail!C191)","v":""},{"$f":"IF(Limit_Deviation_Detail!E191=\"\",\"\",Limit_Deviation_Detail!E191)","v":""},"",{"$f":"IF(COUNTIF(X$2:X169,X169)=1,X169,\"\")","v":""},"","","","","",null,null,null,null,{"$f":"IF(COUNTIF(AM$2:AM169,AM169)=1,AM169,\"\")","v":""},{"$f":"IF(CMS_Deviation_Detail!B191=\"\",\"\",CMS_Deviation_Detail!B191)","v":""},{"$f":"IF(CMS_Deviation_Detail!C191=\"\",\"\",CMS_Deviation_Detail!C191)","v":""},{"$f":"IF(CMS_Deviation_Detail!D191=\"\",\"\",CMS_Deviation_Detail!D191)","v":""},"",{"$f":"+IF(AI169=\"\",\"\",MAX(AN$1:AN168)+1)","v":""},"","","","","","",null,{"$f":"IF(COUNTIF(AZ$2:AZ169,AZ169)=1,AZ169,\"\")","v":""},{"$f":"IF(Limit_Deviation_Detail!B191=\"\",\"\",Limit_Deviation_Detail!B191)","v":""},{"$f":"IF(Limit_Deviation_Detail!C191=\"\",\"\",Limit_Deviation_Detail!C191)","v":""},{"$f":"IF(Limit_Deviation_Detail!E191=\"\",\"\",Limit_Deviation_Detail!E191)","v":""},"",{"$f":"+IF(AV169=\"\",\"\",MAX(BA$1:BA168)+1)","v":""},"","","",""]
[{"$f":"+IF(D170=\"\",\"\",MAX(A$1:A169)+1)","v":""},{"$f":"IF(Affected_Sources!C192=\"\",\"\",Affected_Sources!C192)","v":""},"",{"$f":"IF(COUNTIF(B$2:B170,B170)=1,B170,\"\")","v":""},null,null,null,null,null,null,null,null,null,null,null,null,null,null,null,{"$f":"+IF(Y170=\"\",\"\",MAX(T$1:T169)+1)","v":""},{"$f":"IF(Limit_Deviation_Detail!B192=\"\",\"\",Limit_Deviation_Detail!B192)","v":""},{"$f":"IF(Limit_Deviation_Detail!C192=\"\",\"\",Limit_Deviation_Detail!C192)","v":""},{"$f":"IF(Limit_Deviation_Detail!E192=\"\",\"\",Limit_Deviation_Detail!E192)","v":""},"",{"$f":"IF(COUNTIF(X$2:X170,X170)=1,X170,\"\")","v":""},"","","","","",null,null,null,null,{"$f":"IF(COUNTIF(AM$2:AM170,AM170)=1,AM170,\"\")","v":""},{"$f":"IF(CMS_Deviation_Detail!B192=\"\",\"\",CMS_Deviation_Detail!B192)","v":""},{"$f":"IF(CMS_Deviation_Detail!C192=\"\",\"\",CMS_Deviation_Detail!C192)","v":""},{"$f":"IF(CMS_Deviation_Detail!D192=\"\",\"\",CMS_Deviation_Detail!D192)","v":""},"",{"$f":"+IF(AI170=\"\",\"\",MAX(AN$1:AN169)+1)","v":""},"","","","","","",null,{"$f":"IF(COUNTIF(AZ$2:AZ170,AZ170)=1,AZ170,\"\")","v":""},{"$f":"IF(Limit_Deviation_Detail!B192=\"\",\"\",Limit_Deviation_Detail!B192)","v":""},{"$f":"IF(Limit_Deviation_Detail!C192=\"\",\"\",Limit_Deviation_Detail!C192)","v":""},{"$f":"IF(Limit_Deviation_Detail!E192=\"\",\"\",Limit_Deviation_Detail!E192)","v":""},"",{"$f":"+IF(AV170=\"\",\"\",MAX(BA$1:BA169)+1)","v":""},"","","",""]
[{"$f":"+IF(D171=\"\",\"\",MAX(A$1:A170)+1)","v":""},{"$f":"IF(Affected_Sources!C193=\"\",\"\",Affected_Sources!C193)","v":""},"",{"$f":"IF(COUNTIF(B$2:B171,B171)=1,B171,\"\")","v":""},null,null,null,null,null,null,null,null,null,null,null,null,null,null,null,{"$f":"+IF(Y171=\"\",\"\",MAX(T$1:T170)+1)","v":""},{"$f":"IF(Limit_Deviation_Detail!B193=\"\",\"\",Limit_Deviation_Detail!B193)","v":""},{"$f":"IF(Limit_Deviation_Detail!C193=\"\",\"\",Limit_Deviation_Detail!C193)","v":""},{"$f":"IF(Limit_Deviation_Detail!E193=\"\",\"\",Limit_Deviation_Detail!E193)","v":""},"",{"$f":"IF(COUNTIF(X$2:X171,X171)=1,X171,\"\")","v":""},"","","","","",null,null,null,null,{"$f":"IF(COUNTIF(AM$2:AM171,AM171)=1,AM171,\"\")","v":""},{"$f":"IF(CMS_Deviation_Detail!B193=\"\",\"\",CMS_Deviation_Detail!B193)","v":""},{"$f":"IF(CMS_Deviation_Detail!C193=\"\",\"\",CMS_Deviation_Detail!C193)","v":""},{"$f":"IF(CMS_Deviation_Detail!D193=\"\",\"\",CMS_Deviation_Detail!D193)","v":""},"",{"$f":"+IF(AI171=\"\",\"\",MAX(AN$1:AN170)+1)","v":""},"","","","","","",null,{"$f":"IF(COUNTIF(AZ$2:AZ171,AZ171)=1,AZ171,\"\")","v":""},{"$f":"IF(Limit_Deviation_Detail!B193=\"\",\"\",Limit_Deviation_Detail!B193)","v":""},{"$f":"IF(Limit_Deviation_Detail!C193=\"\",\"\",Limit_Deviation_Detail!C193)","v":""},{"$f":"IF(Limit_Deviation_Detail!E193=\"\",\"\",Limit_Deviation_Detail!E193)","v":""},"",{"$f":"+IF(AV171=\"\",\"\",MAX(BA$1:BA170)+1)","v":""},"","","",""]
[{"$f":"+IF(D172=\"\",\"\",MAX(A$1:A171)+1)","v":""},{"$f":"IF(Affected_Sources!C194=\"\",\"\",Affected_Sources!C194)","v":""},"",{"$f":"IF(COUNTIF(B$2:B172,B172)=1,B172,\"\")","v":""},null,null,null,null,null,null,null,null,null,null,null,null,null,null,null,{"$f":"+IF(Y172=\"\",\"\",MAX(T$1:T171)+1)","v":""},{"$f":"IF(Limit_Deviation_Detail!B194=\"\",\"\",Limit_Deviation_Detail!B194)","v":""},{"$f":"IF(Limit_Deviation_Detail!C194=\"\",\"\",Limit_Deviation_Detail!C194)","v":""},{"$f":"IF(Limit_Deviation_Detail!E194=\"\",\"\",Limit_Deviation_Detail!E194)","v":""},"",{"$f":"IF(COUNTIF(X$2:X172,X172)=1,X172,\"\")","v":""},"","","","","",null,null,null,null,{"$f":"IF(COUNTIF(AM$2:AM172,AM172)=1,AM172,\"\")","v":""},{"$f":"IF(CMS_Deviation_Detail!B194=\"\",\"\",CMS_Deviation_Detail!B194)","v":""},{"$f":"IF(CMS_Deviation_Detail!C194=\"\",\"\",CMS_Deviation_Detail!C194)","v":""},{"$f":"IF(CMS_Deviation_Detail!D194=\"\",\"\",CMS_Deviation_Detail!D194)","v":""},"",{"$f":"+IF(AI172=\"\",\"\",MAX(AN$1:AN171)+1)","v":""},"","","","","","",null,{"$f":"IF(COUNTIF(AZ$2:AZ172,AZ172)=1,AZ172,\"\")","v":""},{"$f":"IF(Limit_Deviation_Detail!B194=\"\",\"\",Limit_Deviation_Detail!B194)","v":""},{"$f":"IF(Limit_Deviation_Detail!C194=\"\",\"\",Limit_Deviation_Detail!C194)","v":""},{"$f":"IF(Limit_Deviation_Detail!E194=\"\",\"\",Limit_Deviation_Detail!E194)","v":""},"",{"$f":"+IF(AV172=\"\",\"\",MAX(BA$1:BA171)+1)","v":""},"","","",""]
[{"$f":"+IF(D173=\"\",\"\",MAX(A$1:A172)+1)","v":""},{"$f":"IF(Affected_Sources!C195=\"\",\"\",Affected_Sources!C195)","v":""},"",{"$f":"IF(COUNTIF(B$2:B173,B173)=1,B173,\"\")","v":""},null,null,null,null,null,null,null,null,null,null,null,null,null,null,null,{"$f":"+IF(Y173=\"\",\"\",MAX(T$1:T172)+1)","v":""},{"$f":"IF(Limit_Deviation_Detail!B195=\"\",\"\",Limit_Deviation_Detail!B195)","v":""},{"$f":"IF(Limit_Deviation_Detail!C195=\"\",\"\",Limit_Deviation_Detail!C195)","v":""},{"$f":"IF(Limit_Deviation_Detail!E195=\"\",\"\",Limit_Deviation_Detail!E195)","v":""},"",{"$f":"IF(COUNTIF(X$2:X173,X173)=1,X173,\"\")","v":""},"","","","","",null,null,null,null,{"$f":"IF(COUNTIF(AM$2:AM173,AM173)=1,AM173,\"\")","v":""},{"$f":"IF(CMS_Deviation_Detail!B195=\"\",\"\",CMS_Deviation_Detail!B195)","v":""},{"$f":"IF(CMS_Deviation_Detail!C195=\"\",\"\",CMS_Deviation_Detail!C195)","v":""},{"$f":"IF(CMS_Deviation_Detail!D195=\"\",\"\",CMS_Deviation_Detail!D195)","v":""},"",{"$f":"+IF(AI173=\"\",\"\",MAX(AN$1:AN172)+1)","v":""},"","","","","","",null,{"$f":"IF(COUNTIF(AZ$2:AZ173,AZ173)=1,AZ173,\"\")","v":""},{"$f":"IF(Limit_Deviation_Detail!B195=\"\",\"\",Limit_Deviation_Detail!B195)","v":""},{"$f":"IF(Limit_Deviation_Detail!C195=\"\",\"\",Limit_Deviation_Detail!C195)","v":""},{"$f":"IF(Limit_Deviation_Detail!E195=\"\",\"\",Limit_Deviation_Detail!E195)","v":""},"",{"$f":"+IF(AV173=\"\",\"\",MAX(BA$1:BA172)+1)","v":""},"","","",""]
[{"$f":"+IF(D174=\"\",\"\",MAX(A$1:A173)+1)","v":""},{"$f":"IF(Affected_Sources!C196=\"\",\"\",Affected_Sources!C196)","v":""},"",{"$f":"IF(COUNTIF(B$2:B174,B174)=1,B174,\"\")","v":""},null,null,null,null,null,null,null,null,null,null,null,null,null,null,null,{"$f":"+IF(Y174=\"\",\"\",MAX(T$1:T173)+1)","v":""},{"$f":"IF(Limit_Deviation_Detail!B196=\"\",\"\",Limit_Deviation_Detail!B196)","v":""},{"$f":"IF(Limit_Deviation_Detail!C196=\"\",\"\",Limit_Deviation_Detail!C196)","v":""},{"$f":"IF(Limit_Deviation_Detail!E196=\"\",\"\",Limit_Deviation_Detail!E196)","v":""},"",{"$f":"IF(COUNTIF(X$2:X174,X174)=1,X174,\"\")","v":""},"","","","","",null,null,null,null,{"$f":"IF(COUNTIF(AM$2:AM174,AM174)=1,AM174,\"\")","v":""},{"$f":"IF(CMS_Deviation_Detail!B196=\"\",\"\",CMS_Deviation_Detail!B196)","v":""},{"$f":"IF(CMS_Deviation_Detail!C196=\"\",\"\",CMS_Deviation_Detail!C196)","v":""},{"$f":"IF(CMS_Deviation_Detail!D196=\"\",\"\",CMS_Deviation_Detail!D196)","v":""},"",{"$f":"+IF(AI174=\"\",\"\",MAX(AN$1:AN173)+1)","v":""},"","","","","","",null,{"$f":"IF(COUNTIF(AZ$2:AZ174,AZ174)=1,AZ174,\"\")","v":""},{"$f":"IF(Limit_Deviation_Detail!B196=\"\",\"\",Limit_Deviation_Detail!B196)","v":""},{"$f":"IF(Limit_Deviation_Detail!C196=\"\",\"\",Limit_Deviation_Detail!C196)","v":""},{"$f":"IF(Limit_Deviation_Detail!E196=\"\",\"\",Limit_Deviation_Detail!E196)","v":""},"",{"$f":"+IF(AV174=\"\",\"\",MAX(BA$1:BA173)+1)","v":""},"","","",""]
[{"$f":"+IF(D175=\"\",\"\",MAX(A$1:A174)+1)","v":""},{"$f":"IF(Affected_Sources!C197=\"\",\"\",Affected_Sources!C197)","v":""},"",{"$f":"IF(COUNTIF(B$2:B175,B175)=1,B175,\"\")","v":""},null,null,null,null,null,null,null,null,null,null,null,null,null,null,null,{"$f":"+IF(Y175=\"\",\"\",MAX(T$1:T174)+1)","v":""},{"$f":"IF(Limit_Deviation_Detail!B197=\"\",\"\",Limit_Deviation_Detail!B197)","v":""},{"$f":"IF(Limit_Deviation_Detail!C197=\"\",\"\",Limit_Deviation_Detail!C197)","v":""},{"$f":"IF(Limit_Deviation_Detail!E197=\"\",\"\",Limit_Deviation_Detail!E197)","v":""},"",{"$f":"IF(COUNTIF(X$2:X175,X175)=1,X175,\"\")","v":""},"","","","","",null,null,null,null,{"$f":"IF(COUNTIF(AM$2:AM175,AM175)=1,AM175,\"\")","v":""},{"$f":"IF(CMS_Deviation_Detail!B197=\"\",\"\",CMS_Deviation_Detail!B197)","v":""},{"$f":"IF(CMS_Deviation_Detail!C197=\"\",\"\",CMS_Deviation_Detail!C197)","v":""},{"$f":"IF(CMS_Deviation_Detail!D197=\"\",\"\",CMS_Deviation_Detail!D197)","v":""},"",{"$f":"+IF(AI175=\"\",\"\",MAX(AN$1:AN174)+1)","v":""},"","","","","","",null,{"$f":"IF(COUNTIF(AZ$2:AZ175,AZ175)=1,AZ175,\"\")","v":""},{"$f":"IF(Limit_Deviation_Detail!B197=\"\",\"\",Limit_Deviation_Detail!B197)","v":""},{"$f":"IF(Limit_Deviation_Detail!C197=\"\",\"\",Limit_Deviation_Detail!C197)","v":""},{"$f":"IF(Limit_Deviation_Detail!E197=\"\",\"\",Limit_Deviation_Detail!E197)","v":""},"",{"$f":"+IF(AV175=\"\",\"\",MAX(BA$1:BA174)+1)","v":""},"","","",""]
[{"$f":"+IF(D176=\"\",\"\",MAX(A$1:A175)+1)","v":""},{"$f":"IF(Affected_Sources!C198=\"\",\"\",Affected_Sources!C198)","v":""},"",{"$f":"IF(COUNTIF(B$2:B176,B176)=1,B176,\"\")","v":""},null,null,null,null,null,null,null,null,null,null,null,null,null,null,null,{"$f":"+IF(Y176=\"\",\"\",MAX(T$1:T175)+1)","v":""},{"$f":"IF(Limit_Deviation_Detail!B198=\"\",\"\",Limit_Deviation_Detail!B198)","v":""},{"$f":"IF(Limit_Deviation_Detail!C198=\"\",\"\",Limit_Deviation_Detail!C198)","v":""},{"$f":"IF(Limit_Deviation_Detail!E198=\"\",\"\",Limit_Deviation_Detail!E198)","v":""},"",{"$f":"IF(COUNTIF(X$2:X176,X176)=1,X176,\"\")","v":""},"","","","","",null,null,null,null,{"$f":"IF(COUNTIF(AM$2:AM176,AM176)=1,AM176,\"\")","v":""},{"$f":"IF(CMS_Deviation_Detail!B198=\"\",\"\",CMS_Deviation_Detail!B198)","v":""},{"$f":"IF(CMS_Deviation_Detail!C198=\"\",\"\",CMS_Deviation_Detail!C198)","v":""},{"$f":"IF(CMS_Deviation_Detail!D198=\"\",\"\",CMS_Deviation_Detail!D198)","v":""},"",{"$f":"+IF(AI176=\"\",\"\",MAX(AN$1:AN175)+1)","v":""},"","","","","","",null,{"$f":"IF(COUNTIF(AZ$2:AZ176,AZ176)=1,AZ176,\"\")","v":""},{"$f":"IF(Limit_Deviation_Detail!B198=\"\",\"\",Limit_Deviation_Detail!B198)","v":""},{"$f":"IF(Limit_Deviation_Detail!C198=\"\",\"\",Limit_Deviation_Detail!C198)","v":""},{"$f":"IF(Limit_Deviation_Detail!E198=\"\",\"\",Limit_Deviation_Detail!E198)","v":""},"",{"$f":"+IF(AV176=\"\",\"\",MAX(BA$1:BA175)+1)","v":""},"","","",""]
[{"$f":"+IF(D177=\"\",\"\",MAX(A$1:A176)+1)","v":""},{"$f":"IF(Affected_Sources!C199=\"\",\"\",Affected_Sources!C199)","v":""},"",{"$f":"IF(COUNTIF(B$2:B177,B177)=1,B177,\"\")","v":""},null,null,null,null,null,null,null,null,null,null,null,null,null,null,null,{"$f":"+IF(Y177=\"\",\"\",MAX(T$1:T176)+1)","v":""},{"$f":"IF(Limit_Deviation_Detail!B199=\"\",\"\",Limit_Deviation_Detail!B199)","v":""},{"$f":"IF(Limit_Deviation_Detail!C199=\"\",\"\",Limit_Deviation_Detail!C199)","v":""},{"$f":"IF(Limit_Deviation_Detail!E199=\"\",\"\",Limit_Deviation_Detail!E199)","v":""},"",{"$f":"IF(COUNTIF(X$2:X177,X177)=1,X177,\"\")","v":""},"","","","","",null,null,null,null,{"$f":"IF(COUNTIF(AM$2:AM177,AM177)=1,AM177,\"\")","v":""},{"$f":"IF(CMS_Deviation_Detail!B199=\"\",\"\",CMS_Deviation_Detail!B199)","v":""},{"$f":"IF(CMS_Deviation_Detail!C199=\"\",\"\",CMS_Deviation_Detail!C199)","v":""},{"$f":"IF(CMS_Deviation_Detail!D199=\"\",\"\",CMS_Deviation_Detail!D199)","v":""},"",{"$f":"+IF(AI177=\"\",\"\",MAX(AN$1:AN176)+1)","v":""},"","","","","","",null,{"$f":"IF(COUNTIF(AZ$2:AZ177,AZ177)=1,AZ177,\"\")","v":""},{"$f":"IF(Limit_Deviation_Detail!B199=\"\",\"\",Limit_Deviation_Detail!B199)","v":""},{"$f":"IF(Limit_Deviation_Detail!C199=\"\",\"\",Limit_Deviation_Detail!C199)","v":""},{"$f":"IF(Limit_Deviation_Detail!E199=\"\",\"\",Limit_Deviation_Detail!E199)","v":""},"",{"$f":"+IF(AV177=\"\",\"\",MAX(BA$1:BA176)+1)","v":""},"","","",""]
[{"$f":"+IF(D178=\"\",\"\",MAX(A$1:A177)+1)","v":""},{"$f":"IF(Affected_Sources!C200=\"\",\"\",Affected_Sources!C200)","v":""},"",{"$f":"IF(COUNTIF(B$2:B178,B178)=1,B178,\"\")","v":""},null,null,null,null,null,null,null,null,null,null,null,null,null,null,null,{"$f":"+IF(Y178=\"\",\"\",MAX(T$1:T177)+1)","v":""},{"$f":"IF(Limit_Deviation_Detail!B200=\"\",\"\",Limit_Deviation_Detail!B200)","v":""},{"$f":"IF(Limit_Deviation_Detail!C200=\"\",\"\",Limit_Deviation_Detail!C200)","v":""},{"$f":"IF(Limit_Deviation_Detail!E200=\"\",\"\",Limit_Deviation_Detail!E200)","v":""},"",{"$f":"IF(COUNTIF(X$2:X178,X178)=1,X178,\"\")","v":""},"","","","","",null,null,null,null,{"$f":"IF(COUNTIF(AM$2:AM178,AM178)=1,AM178,\"\")","v":""},{"$f":"IF(CMS_Deviation_Detail!B200=\"\",\"\",CMS_Deviation_Detail!B200)","v":""},{"$f":"IF(CMS_Deviation_Detail!C200=\"\",\"\",CMS_Deviation_Detail!C200)","v":""},{"$f":"IF(CMS_Deviation_Detail!D200=\"\",\"\",CMS_Deviation_Detail!D200)","v":""},"",{"$f":"+IF(AI178=\"\",\"\",MAX(AN$1:AN177)+1)","v":""},"","","","","","",null,{"$f":"IF(COUNTIF(AZ$2:AZ178,AZ178)=1,AZ178,\"\")","v":""},{"$f":"IF(Limit_Deviation_Detail!B200=\"\",\"\",Limit_Deviation_Detail!B200)","v":""},{"$f":"IF(Limit_Deviation_Detail!C200=\"\",\"\",Limit_Deviation_Detail!C200)","v":""},{"$f":"IF(Limit_Deviation_Detail!E200=\"\",\"\",Limit_Deviation_Detail!E200)","v":""},"",{"$f":"+IF(AV178=\"\",\"\",MAX(BA$1:BA177)+1)","v":""},"","","",""]
[{"$f":"+IF(D179=\"\",\"\",MAX(A$1:A178)+1)","v":""},{"$f":"IF(Affected_Sources!C201=\"\",\"\",Affected_Sources!C201)","v":""},"",{"$f":"IF(COUNTIF(B$2:B179,B179)=1,B179,\"\")","v":""},null,null,null,null,null,null,null,null,null,null,null,null,null,null,null,{"$f":"+IF(Y179=\"\",\"\",MAX(T$1:T178)+1)","v":""},{"$f":"IF(Limit_Deviation_Detail!B201=\"\",\"\",Limit_Deviation_Detail!B201)","v":""},{"$f":"IF(Limit_Deviation_Detail!C201=\"\",\"\",Limit_Deviation_Detail!C201)","v":""},{"$f":"IF(Limit_Deviation_Detail!E201=\"\",\"\",Limit_Deviation_Detail!E201)","v":""},"",{"$f":"IF(COUNTIF(X$2:X179,X179)=1,X179,\"\")","v":""},"","","","","",null,null,null,null,{"$f":"IF(COUNTIF(AM$2:AM179,AM179)=1,AM179,\"\")","v":""},{"$f":"IF(CMS_Deviation_Detail!B201=\"\",\"\",CMS_Deviation_Detail!B201)","v":""},{"$f":"IF(CMS_Deviation_Detail!C201=\"\",\"\",CMS_Deviation_Detail!C201)","v":""},{"$f":"IF(CMS_Deviation_Detail!D201=\"\",\"\",CMS_Deviation_Detail!D201)","v":""},"",{"$f":"+IF(AI179=\"\",\"\",MAX(AN$1:AN178)+1)","v":""},"","","","","","",null,{"$f":"IF(COUNTIF(AZ$2:AZ179,AZ179)=1,AZ179,\"\")","v":""},{"$f":"IF(Limit_Deviation_Detail!B201=\"\",\"\",Limit_Deviation_Detail!B201)","v":""},{"$f":"IF(Limit_Deviation_Detail!C201=\"\",\"\",Limit_Deviation_Detail!C201)","v":""},{"$f":"IF(Limit_Deviation_Detail!E201=\"\",\"\",Limit_Deviation_Detail!E201)","v":""},"",{"$f":"+IF(AV179=\"\",\"\",MAX(BA$1:BA178)+1)","v":""},"","","",""]
[{"$f":"+IF(D180=\"\",\"\",MAX(A$1:A179)+1)","v":""},{"$f":"IF(Affected_Sources!C202=\"\",\"\",Affected_Sources!C202)","v":""},"",{"$f":"IF(COUNTIF(B$2:B180,B180)=1,B180,\"\")","v":""},null,null,null,null,null,null,null,null,null,null,null,null,null,null,null,{"$f":"+IF(Y180=\"\",\"\",MAX(T$1:T179)+1)","v":""},{"$f":"IF(Limit_Deviation_Detail!B202=\"\",\"\",Limit_Deviation_Detail!B202)","v":""},{"$f":"IF(Limit_Deviation_Detail!C202=\"\",\"\",Limit_Deviation_Detail!C202)","v":""},{"$f":"IF(Limit_Deviation_Detail!E202=\"\",\"\",Limit_Deviation_Detail!E202)","v":""},"",{"$f":"IF(COUNTIF(X$2:X180,X180)=1,X180,\"\")","v":""},"","","","","",null,null,null,null,{"$f":"IF(COUNTIF(AM$2:AM180,AM180)=1,AM180,\"\")","v":""},{"$f":"IF(CMS_Deviation_Detail!B202=\"\",\"\",CMS_Deviation_Detail!B202)","v":""},{"$f":"IF(CMS_Deviation_Detail!C202=\"\",\"\",CMS_Deviation_Detail!C202)","v":""},{"$f":"IF(CMS_Deviation_Detail!D202=\"\",\"\",CMS_Deviation_Detail!D202)","v":""},"",{"$f":"+IF(AI180=\"\",\"\",MAX(AN$1:AN179)+1)","v":""},"","","","","","",null,{"$f":"IF(COUNTIF(AZ$2:AZ180,AZ180)=1,AZ180,\"\")","v":""},{"$f":"IF(Limit_Deviation_Detail!B202=\"\",\"\",Limit_Deviation_Detail!B202)","v":""},{"$f":"IF(Limit_Deviation_Detail!C202=\"\",\"\",Limit_Deviation_Detail!C202)","v":""},{"$f":"IF(Limit_Deviation_Detail!E202=\"\",\"\",Limit_Deviation_Detail!E202)","v":""},"",{"$f":"+IF(AV180=\"\",\"\",MAX(BA$1:BA179)+1)","v":""},"","","",""]
[{"$f":"+IF(D181=\"\",\"\",MAX(A$1:A180)+1)","v":""},{"$f":"IF(Affected_Sources!C203=\"\",\"\",Affected_Sources!C203)","v":""},"",{"$f":"IF(COUNTIF(B$2:B181,B181)=1,B181,\"\")","v":""},null,null,null,null,null,null,null,null,null,null,null,null,null,null,null,{"$f":"+IF(Y181=\"\",\"\",MAX(T$1:T180)+1)","v":""},{"$f":"IF(Limit_Deviation_Detail!B203=\"\",\"\",Limit_Deviation_Detail!B203)","v":""},{"$f":"IF(Limit_Deviation_Detail!C203=\"\",\"\",Limit_Deviation_Detail!C203)","v":""},{"$f":"IF(Limit_Deviation_Detail!E203=\"\",\"\",Limit_Deviation_Detail!E203)","v":""},"",{"$f":"IF(COUNTIF(X$2:X181,X181)=1,X181,\"\")","v":""},"","","","","",null,null,null,null,{"$f":"IF(COUNTIF(AM$2:AM181,AM181)=1,AM181,\"\")","v":""},{"$f":"IF(CMS_Deviation_Detail!B203=\"\",\"\",CMS_Deviation_Detail!B203)","v":""},{"$f":"IF(CMS_Deviation_Detail!C203=\"\",\"\",CMS_Deviation_Detail!C203)","v":""},{"$f":"IF(CMS_Deviation_Detail!D203=\"\",\"\",CMS_Deviation_Detail!D203)","v":""},"",{"$f":"+IF(AI181=\"\",\"\",MAX(AN$1:AN180)+1)","v":""},"","","","","","",null,{"$f":"IF(COUNTIF(AZ$2:AZ181,AZ181)=1,AZ181,\"\")","v":""},{"$f":"IF(Limit_Deviation_Detail!B203=\"\",\"\",Limit_Deviation_Detail!B203)","v":""},{"$f":"IF(Limit_Deviation_Detail!C203=\"\",\"\",Limit_Deviation_Detail!C203)","v":""},{"$f":"IF(Limit_Deviation_Detail!E203=\"\",\"\",Limit_Deviation_Detail!E203)","v":""},"",{"$f":"+IF(AV181=\"\",\"\",MAX(BA$1:BA180)+1)","v":""},"","","",""]
[{"$f":"+IF(D182=\"\",\"\",MAX(A$1:A181)+1)","v":""},{"$f":"IF(Affected_Sources!C204=\"\",\"\",Affected_Sources!C204)","v":""},"",{"$f":"IF(COUNTIF(B$2:B182,B182)=1,B182,\"\")","v":""},null,null,null,null,null,null,null,null,null,null,null,null,null,null,null,{"$f":"+IF(Y182=\"\",\"\",MAX(T$1:T181)+1)","v":""},{"$f":"IF(Limit_Deviation_Detail!B204=\"\",\"\",Limit_Deviation_Detail!B204)","v":""},{"$f":"IF(Limit_Deviation_Detail!C204=\"\",\"\",Limit_Deviation_Detail!C204)","v":""},{"$f":"IF(Limit_Deviation_Detail!E204=\"\",\"\",Limit_Deviation_Detail!E204)","v":""},"",{"$f":"IF(COUNTIF(X$2:X182,X182)=1,X182,\"\")","v":""},"","","","","",null,null,null,null,{"$f":"IF(COUNTIF(AM$2:AM182,AM182)=1,AM182,\"\")","v":""},{"$f":"IF(CMS_Deviation_Detail!B204=\"\",\"\",CMS_Deviation_Detail!B204)","v":""},{"$f":"IF(CMS_Deviation_Detail!C204=\"\",\"\",CMS_Deviation_Detail!C204)","v":""},{"$f":"IF(CMS_Deviation_Detail!D204=\"\",\"\",CMS_Deviation_Detail!D204)","v":""},"",{"$f":"+IF(AI182=\"\",\"\",MAX(AN$1:AN181)+1)","v":""},"","","","","","",null,{"$f":"IF(COUNTIF(AZ$2:AZ182,AZ182)=1,AZ182,\"\")","v":""},{"$f":"IF(Limit_Deviation_Detail!B204=\"\",\"\",Limit_Deviation_Detail!B204)","v":""},{"$f":"IF(Limit_Deviation_Detail!C204=\"\",\"\",Limit_Deviation_Detail!C204)","v":""},{"$f":"IF(Limit_Deviation_Detail!E204=\"\",\"\",Limit_Deviation_Detail!E204)","v":""},"",{"$f":"+IF(AV182=\"\",\"\",MAX(BA$1:BA181)+1)","v":""},"","","",""]
[{"$f":"+IF(D183=\"\",\"\",MAX(A$1:A182)+1)","v":""},{"$f":"IF(Affected_Sources!C205=\"\",\"\",Affected_Sources!C205)","v":""},"",{"$f":"IF(COUNTIF(B$2:B183,B183)=1,B183,\"\")","v":""},null,null,null,null,null,null,null,null,null,null,null,null,null,null,null,{"$f":"+IF(Y183=\"\",\"\",MAX(T$1:T182)+1)","v":""},{"$f":"IF(Limit_Deviation_Detail!B205=\"\",\"\",Limit_Deviation_Detail!B205)","v":""},{"$f":"IF(Limit_Deviation_Detail!C205=\"\",\"\",Limit_Deviation_Detail!C205)","v":""},{"$f":"IF(Limit_Deviation_Detail!E205=\"\",\"\",Limit_Deviation_Detail!E205)","v":""},"",{"$f":"IF(COUNTIF(X$2:X183,X183)=1,X183,\"\")","v":""},"","","","","",null,null,null,null,{"$f":"IF(COUNTIF(AM$2:AM183,AM183)=1,AM183,\"\")","v":""},{"$f":"IF(CMS_Deviation_Detail!B205=\"\",\"\",CMS_Deviation_Detail!B205)","v":""},{"$f":"IF(CMS_Deviation_Detail!C205=\"\",\"\",CMS_Deviation_Detail!C205)","v":""},{"$f":"IF(CMS_Deviation_Detail!D205=\"\",\"\",CMS_Deviation_Detail!D205)","v":""},"",{"$f":"+IF(AI183=\"\",\"\",MAX(AN$1:AN182)+1)","v":""},"","","","","","",null,{"$f":"IF(COUNTIF(AZ$2:AZ183,AZ183)=1,AZ183,\"\")","v":""},{"$f":"IF(Limit_Deviation_Detail!B205=\"\",\"\",Limit_Deviation_Detail!B205)","v":""},{"$f":"IF(Limit_Deviation_Detail!C205=\"\",\"\",Limit_Deviation_Detail!C205)","v":""},{"$f":"IF(Limit_Deviation_Detail!E205=\"\",\"\",Limit_Deviation_Detail!E205)","v":""},"",{"$f":"+IF(AV183=\"\",\"\",MAX(BA$1:BA182)+1)","v":""},"","","",""]
[{"$f":"+IF(D184=\"\",\"\",MAX(A$1:A183)+1)","v":""},{"$f":"IF(Affected_Sources!C206=\"\",\"\",Affected_Sources!C206)","v":""},"",{"$f":"IF(COUNTIF(B$2:B184,B184)=1,B184,\"\")","v":""},null,null,null,null,null,null,null,null,null,null,null,null,null,null,null,{"$f":"+IF(Y184=\"\",\"\",MAX(T$1:T183)+1)","v":""},{"$f":"IF(Limit_Deviation_Detail!B206=\"\",\"\",Limit_Deviation_Detail!B206)","v":""},{"$f":"IF(Limit_Deviation_Detail!C206=\"\",\"\",Limit_Deviation_Detail!C206)","v":""},{"$f":"IF(Limit_Deviation_Detail!E206=\"\",\"\",Limit_Deviation_Detail!E206)","v":""},"",{"$f":"IF(COUNTIF(X$2:X184,X184)=1,X184,\"\")","v":""},"","","","","",null,null,null,null,{"$f":"IF(COUNTIF(AM$2:AM184,AM184)=1,AM184,\"\")","v":""},{"$f":"IF(CMS_Deviation_Detail!B206=\"\",\"\",CMS_Deviation_Detail!B206)","v":""},{"$f":"IF(CMS_Deviation_Detail!C206=\"\",\"\",CMS_Deviation_Detail!C206)","v":""},{"$f":"IF(CMS_Deviation_Detail!D206=\"\",\"\",CMS_Deviation_Detail!D206)","v":""},"",{"$f":"+IF(AI184=\"\",\"\",MAX(AN$1:AN183)+1)","v":""},"","","","","","",null,{"$f":"IF(COUNTIF(AZ$2:AZ184,AZ184)=1,AZ184,\"\")","v":""},{"$f":"IF(Limit_Deviation_Detail!B206=\"\",\"\",Limit_Deviation_Detail!B206)","v":""},{"$f":"IF(Limit_Deviation_Detail!C206=\"\",\"\",Limit_Deviation_Detail!C206)","v":""},{"$f":"IF(Limit_Deviation_Detail!E206=\"\",\"\",Limit_Deviation_Detail!E206)","v":""},"",{"$f":"+IF(AV184=\"\",\"\",MAX(BA$1:BA183)+1)","v":""},"","","",""]
[{"$f":"+IF(D185=\"\",\"\",MAX(A$1:A184)+1)","v":""},{"$f":"IF(Affected_Sources!C207=\"\",\"\",Affected_Sources!C207)","v":""},"",{"$f":"IF(COUNTIF(B$2:B185,B185)=1,B185,\"\")","v":""},null,null,null,null,null,null,null,null,null,null,null,null,null,null,null,{"$f":"+IF(Y185=\"\",\"\",MAX(T$1:T184)+1)","v":""},{"$f":"IF(Limit_Deviation_Detail!B207=\"\",\"\",Limit_Deviation_Detail!B207)","v":""},{"$f":"IF(Limit_Deviation_Detail!C207=\"\",\"\",Limit_Deviation_Detail!C207)","v":""},{"$f":"IF(Limit_Deviation_Detail!E207=\"\",\"\",Limit_Deviation_Detail!E207)","v":""},"",{"$f":"IF(COUNTIF(X$2:X185,X185)=1,X185,\"\")","v":""},"","","","","",null,null,null,null,{"$f":"IF(COUNTIF(AM$2:AM185,AM185)=1,AM185,\"\")","v":""},{"$f":"IF(CMS_Deviation_Detail!B207=\"\",\"\",CMS_Deviation_Detail!B207)","v":""},{"$f":"IF(CMS_Deviation_Detail!C207=\"\",\"\",CMS_Deviation_Detail!C207)","v":""},{"$f":"IF(CMS_Deviation_Detail!D207=\"\",\"\",CMS_Deviation_Detail!D207)","v":""},"",{"$f":"+IF(AI185=\"\",\"\",MAX(AN$1:AN184)+1)","v":""},"","","","","","",null,{"$f":"IF(COUNTIF(AZ$2:AZ185,AZ185)=1,AZ185,\"\")","v":""},{"$f":"IF(Limit_Deviation_Detail!B207=\"\",\"\",Limit_Deviation_Detail!B207)","v":""},{"$f":"IF(Limit_Deviation_Detail!C207=\"\",\"\",Limit_Deviation_Detail!C207)","v":""},{"$f":"IF(Limit_Deviation_Detail!E207=\"\",\"\",Limit_Deviation_Detail!E207)","v":""},"",{"$f":"+IF(AV185=\"\",\"\",MAX(BA$1:BA184)+1)","v":""},"","","",""]
[{"$f":"+IF(D186=\"\",\"\",MAX(A$1:A185)+1)","v":""},{"$f":"IF(Affected_Sources!C208=\"\",\"\",Affected_Sources!C208)","v":""},"",{"$f":"IF(COUNTIF(B$2:B186,B186)=1,B186,\"\")","v":""},null,null,null,null,null,null,null,null,null,null,null,null,null,null,null,{"$f":"+IF(Y186=\"\",\"\",MAX(T$1:T185)+1)","v":""},{"$f":"IF(Limit_Deviation_Detail!B208=\"\",\"\",Limit_Deviation_Detail!B208)","v":""},{"$f":"IF(Limit_Deviation_Detail!C208=\"\",\"\",Limit_Deviation_Detail!C208)","v":""},{"$f":"IF(Limit_Deviation_Detail!E208=\"\",\"\",Limit_Deviation_Detail!E208)","v":""},"",{"$f":"IF(COUNTIF(X$2:X186,X186)=1,X186,\"\")","v":""},"","","","","",null,null,null,null,{"$f":"IF(COUNTIF(AM$2:AM186,AM186)=1,AM186,\"\")","v":""},{"$f":"IF(CMS_Deviation_Detail!B208=\"\",\"\",CMS_Deviation_Detail!B208)","v":""},{"$f":"IF(CMS_Deviation_Detail!C208=\"\",\"\",CMS_Deviation_Detail!C208)","v":""},{"$f":"IF(CMS_Deviation_Detail!D208=\"\",\"\",CMS_Deviation_Detail!D208)","v":""},"",{"$f":"+IF(AI186=\"\",\"\",MAX(AN$1:AN185)+1)","v":""},"","","","","","",null,{"$f":"IF(COUNTIF(AZ$2:AZ186,AZ186)=1,AZ186,\"\")","v":""},{"$f":"IF(Limit_Deviation_Detail!B208=\"\",\"\",Limit_Deviation_Detail!B208)","v":""},{"$f":"IF(Limit_Deviation_Detail!C208=\"\",\"\",Limit_Deviation_Detail!C208)","v":""},{"$f":"IF(Limit_Deviation_Detail!E208=\"\",\"\",Limit_Deviation_Detail!E208)","v":""},"",{"$f":"+IF(AV186=\"\",\"\",MAX(BA$1:BA185)+1)","v":""},"","","",""]
[{"$f":"+IF(D187=\"\",\"\",MAX(A$1:A186)+1)","v":""},{"$f":"IF(Affected_Sources!C209=\"\",\"\",Affected_Sources!C209)","v":""},"",{"$f":"IF(COUNTIF(B$2:B187,B187)=1,B187,\"\")","v":""},null,null,null,null,null,null,null,null,null,null,null,null,null,null,null,{"$f":"+IF(Y187=\"\",\"\",MAX(T$1:T186)+1)","v":""},{"$f":"IF(Limit_Deviation_Detail!B209=\"\",\"\",Limit_Deviation_Detail!B209)","v":""},{"$f":"IF(Limit_Deviation_Detail!C209=\"\",\"\",Limit_Deviation_Detail!C209)","v":""},{"$f":"IF(Limit_Deviation_Detail!E209=\"\",\"\",Limit_Deviation_Detail!E209)","v":""},"",{"$f":"IF(COUNTIF(X$2:X187,X187)=1,X187,\"\")","v":""},"","","","","",null,null,null,null,{"$f":"IF(COUNTIF(AM$2:AM187,AM187)=1,AM187,\"\")","v":""},{"$f":"IF(CMS_Deviation_Detail!B209=\"\",\"\",CMS_Deviation_Detail!B209)","v":""},{"$f":"IF(CMS_Deviation_Detail!C209=\"\",\"\",CMS_Deviation_Detail!C209)","v":""},{"$f":"IF(CMS_Deviation_Detail!D209=\"\",\"\",CMS_Deviation_Detail!D209)","v":""},"",{"$f":"+IF(AI187=\"\",\"\",MAX(AN$1:AN186)+1)","v":""},"","","","","","",null,{"$f":"IF(COUNTIF(AZ$2:AZ187,AZ187)=1,AZ187,\"\")","v":""},{"$f":"IF(Limit_Deviation_Detail!B209=\"\",\"\",Limit_Deviation_Detail!B209)","v":""},{"$f":"IF(Limit_Deviation_Detail!C209=\"\",\"\",Limit_Deviation_Detail!C209)","v":""},{"$f":"IF(Limit_Deviation_Detail!E209=\"\",\"\",Limit_Deviation_Detail!E209)","v":""},"",{"$f":"+IF(AV187=\"\",\"\",MAX(BA$1:BA186)+1)","v":""},"","","",""]
[{"$f":"+IF(D188=\"\",\"\",MAX(A$1:A187)+1)","v":""},{"$f":"IF(Affected_Sources!C210=\"\",\"\",Affected_Sources!C210)","v":""},"",{"$f":"IF(COUNTIF(B$2:B188,B188)=1,B188,\"\")","v":""},null,null,null,null,null,null,null,null,null,null,null,null,null,null,null,{"$f":"+IF(Y188=\"\",\"\",MAX(T$1:T187)+1)","v":""},{"$f":"IF(Limit_Deviation_Detail!B210=\"\",\"\",Limit_Deviation_Detail!B210)","v":""},{"$f":"IF(Limit_Deviation_Detail!C210=\"\",\"\",Limit_Deviation_Detail!C210)","v":""},{"$f":"IF(Limit_Deviation_Detail!E210=\"\",\"\",Limit_Deviation_Detail!E210)","v":""},"",{"$f":"IF(COUNTIF(X$2:X188,X188)=1,X188,\"\")","v":""},"","","","","",null,null,null,null,{"$f":"IF(COUNTIF(AM$2:AM188,AM188)=1,AM188,\"\")","v":""},{"$f":"IF(CMS_Deviation_Detail!B210=\"\",\"\",CMS_Deviation_Detail!B210)","v":""},{"$f":"IF(CMS_Deviation_Detail!C210=\"\",\"\",CMS_Deviation_Detail!C210)","v":""},{"$f":"IF(CMS_Deviation_Detail!D210=\"\",\"\",CMS_Deviation_Detail!D210)","v":""},"",{"$f":"+IF(AI188=\"\",\"\",MAX(AN$1:AN187)+1)","v":""},"","","","","","",null,{"$f":"IF(COUNTIF(AZ$2:AZ188,AZ188)=1,AZ188,\"\")","v":""},{"$f":"IF(Limit_Deviation_Detail!B210=\"\",\"\",Limit_Deviation_Detail!B210)","v":""},{"$f":"IF(Limit_Deviation_Detail!C210=\"\",\"\",Limit_Deviation_Detail!C210)","v":""},{"$f":"IF(Limit_Deviation_Detail!E210=\"\",\"\",Limit_Deviation_Detail!E210)","v":""},"",{"$f":"+IF(AV188=\"\",\"\",MAX(BA$1:BA187)+1)","v":""},"","","",""]
[{"$f":"+IF(D189=\"\",\"\",MAX(A$1:A188)+1)","v":""},{"$f":"IF(Affected_Sources!C211=\"\",\"\",Affected_Sources!C211)","v":""},"",{"$f":"IF(COUNTIF(B$2:B189,B189)=1,B189,\"\")","v":""},null,null,null,null,null,null,null,null,null,null,null,null,null,null,null,{"$f":"+IF(Y189=\"\",\"\",MAX(T$1:T188)+1)","v":""},{"$f":"IF(Limit_Deviation_Detail!B211=\"\",\"\",Limit_Deviation_Detail!B211)","v":""},{"$f":"IF(Limit_Deviation_Detail!C211=\"\",\"\",Limit_Deviation_Detail!C211)","v":""},{"$f":"IF(Limit_Deviation_Detail!E211=\"\",\"\",Limit_Deviation_Detail!E211)","v":""},"",{"$f":"IF(COUNTIF(X$2:X189,X189)=1,X189,\"\")","v":""},"","","","","",null,null,null,null,{"$f":"IF(COUNTIF(AM$2:AM189,AM189)=1,AM189,\"\")","v":""},{"$f":"IF(CMS_Deviation_Detail!B211=\"\",\"\",CMS_Deviation_Detail!B211)","v":""},{"$f":"IF(CMS_Deviation_Detail!C211=\"\",\"\",CMS_Deviation_Detail!C211)","v":""},{"$f":"IF(CMS_Deviation_Detail!D211=\"\",\"\",CMS_Deviation_Detail!D211)","v":""},"",{"$f":"+IF(AI189=\"\",\"\",MAX(AN$1:AN188)+1)","v":""},"","","","","","",null,{"$f":"IF(COUNTIF(AZ$2:AZ189,AZ189)=1,AZ189,\"\")","v":""},{"$f":"IF(Limit_Deviation_Detail!B211=\"\",\"\",Limit_Deviation_Detail!B211)","v":""},{"$f":"IF(Limit_Deviation_Detail!C211=\"\",\"\",Limit_Deviation_Detail!C211)","v":""},{"$f":"IF(Limit_Deviation_Detail!E211=\"\",\"\",Limit_Deviation_Detail!E211)","v":""},"",{"$f":"+IF(AV189=\"\",\"\",MAX(BA$1:BA188)+1)","v":""},"","","",""]
[{"$f":"+IF(D190=\"\",\"\",MAX(A$1:A189)+1)","v":""},{"$f":"IF(Affected_Sources!C212=\"\",\"\",Affected_Sources!C212)","v":""},"",{"$f":"IF(COUNTIF(B$2:B190,B190)=1,B190,\"\")","v":""},null,null,null,null,null,null,null,null,null,null,null,null,null,null,null,{"$f":"+IF(Y190=\"\",\"\",MAX(T$1:T189)+1)","v":""},{"$f":"IF(Limit_Deviation_Detail!B212=\"\",\"\",Limit_Deviation_Detail!B212)","v":""},{"$f":"IF(Limit_Deviation_Detail!C212=\"\",\"\",Limit_Deviation_Detail!C212)","v":""},{"$f":"IF(Limit_Deviation_Detail!E212=\"\",\"\",Limit_Deviation_Detail!E212)","v":""},"",{"$f":"IF(COUNTIF(X$2:X190,X190)=1,X190,\"\")","v":""},"","","","","",null,null,null,null,{"$f":"IF(COUNTIF(AM$2:AM190,AM190)=1,AM190,\"\")","v":""},{"$f":"IF(CMS_Deviation_Detail!B212=\"\",\"\",CMS_Deviation_Detail!B212)","v":""},{"$f":"IF(CMS_Deviation_Detail!C212=\"\",\"\",CMS_Deviation_Detail!C212)","v":""},{"$f":"IF(CMS_Deviation_Detail!D212=\"\",\"\",CMS_Deviation_Detail!D212)","v":""},"",{"$f":"+IF(AI190=\"\",\"\",MAX(AN$1:AN189)+1)","v":""},"","","","","","",null,{"$f":"IF(COUNTIF(AZ$2:AZ190,AZ190)=1,AZ190,\"\")","v":""},{"$f":"IF(Limit_Deviation_Detail!B212=\"\",\"\",Limit_Deviation_Detail!B212)","v":""},{"$f":"IF(Limit_Deviation_Detail!C212=\"\",\"\",Limit_Deviation_Detail!C212)","v":""},{"$f":"IF(Limit_Deviation_Detail!E212=\"\",\"\",Limit_Deviation_Detail!E212)","v":""},"",{"$f":"+IF(AV190=\"\",\"\",MAX(BA$1:BA189)+1)","v":""},"","","",""]
[{"$f":"+IF(D191=\"\",\"\",MAX(A$1:A190)+1)","v":""},{"$f":"IF(Affected_Sources!C213=\"\",\"\",Affected_Sources!C213)","v":""},"",{"$f":"IF(COUNTIF(B$2:B191,B191)=1,B191,\"\")","v":""},null,null,null,null,null,null,null,null,null,null,null,null,null,null,null,{"$f":"+IF(Y191=\"\",\"\",MAX(T$1:T190)+1)","v":""},{"$f":"IF(Limit_Deviation_Detail!B213=\"\",\"\",Limit_Deviation_Detail!B213)","v":""},{"$f":"IF(Limit_Deviation_Detail!C213=\"\",\"\",Limit_Deviation_Detail!C213)","v":""},{"$f":"IF(Limit_Deviation_Detail!E213=\"\",\"\",Limit_Deviation_Detail!E213)","v":""},"",{"$f":"IF(COUNTIF(X$2:X191,X191)=1,X191,\"\")","v":""},"","","","","",null,null,null,null,{"$f":"IF(COUNTIF(AM$2:AM191,AM191)=1,AM191,\"\")","v":""},{"$f":"IF(CMS_Deviation_Detail!B213=\"\",\"\",CMS_Deviation_Detail!B213)","v":""},{"$f":"IF(CMS_Deviation_Detail!C213=\"\",\"\",CMS_Deviation_Detail!C213)","v":""},{"$f":"IF(CMS_Deviation_Detail!D213=\"\",\"\",CMS_Deviation_Detail!D213)","v":""},"",{"$f":"+IF(AI191=\"\",\"\",MAX(AN$1:AN190)+1)","v":""},"","","","","","",null,{"$f":"IF(COUNTIF(AZ$2:AZ191,AZ191)=1,AZ191,\"\")","v":""},{"$f":"IF(Limit_Deviation_Detail!B213=\"\",\"\",Limit_Deviation_Detail!B213)","v":""},{"$f":"IF(Limit_Deviation_Detail!C213=\"\",\"\",Limit_Deviation_Detail!C213)","v":""},{"$f":"IF(Limit_Deviation_Detail!E213=\"\",\"\",Limit_Deviation_Detail!E213)","v":""},"",{"$f":"+IF(AV191=\"\",\"\",MAX(BA$1:BA190)+1)","v":""},"","","",""]
[{"$f":"+IF(D192=\"\",\"\",MAX(A$1:A191)+1)","v":""},{"$f":"IF(Affected_Sources!C214=\"\",\"\",Affected_Sources!C214)","v":""},"",{"$f":"IF(COUNTIF(B$2:B192,B192)=1,B192,\"\")","v":""},null,null,null,null,null,null,null,null,null,null,null,null,null,null,null,{"$f":"+IF(Y192=\"\",\"\",MAX(T$1:T191)+1)","v":""},{"$f":"IF(Limit_Deviation_Detail!B214=\"\",\"\",Limit_Deviation_Detail!B214)","v":""},{"$f":"IF(Limit_Deviation_Detail!C214=\"\",\"\",Limit_Deviation_Detail!C214)","v":""},{"$f":"IF(Limit_Deviation_Detail!E214=\"\",\"\",Limit_Deviation_Detail!E214)","v":""},"",{"$f":"IF(COUNTIF(X$2:X192,X192)=1,X192,\"\")","v":""},"","","","","",null,null,null,null,{"$f":"IF(COUNTIF(AM$2:AM192,AM192)=1,AM192,\"\")","v":""},{"$f":"IF(CMS_Deviation_Detail!B214=\"\",\"\",CMS_Deviation_Detail!B214)","v":""},{"$f":"IF(CMS_Deviation_Detail!C214=\"\",\"\",CMS_Deviation_Detail!C214)","v":""},{"$f":"IF(CMS_Deviation_Detail!D214=\"\",\"\",CMS_Deviation_Detail!D214)","v":""},"",{"$f":"+IF(AI192=\"\",\"\",MAX(AN$1:AN191)+1)","v":""},"","","","","","",null,{"$f":"IF(COUNTIF(AZ$2:AZ192,AZ192)=1,AZ192,\"\")","v":""},{"$f":"IF(Limit_Deviation_Detail!B214=\"\",\"\",Limit_Deviation_Detail!B214)","v":""},{"$f":"IF(Limit_Deviation_Detail!C214=\"\",\"\",Limit_Deviation_Detail!C214)","v":""},{"$f":"IF(Limit_Deviation_Detail!E214=\"\",\"\",Limit_Deviation_Detail!E214)","v":""},"",{"$f":"+IF(AV192=\"\",\"\",MAX(BA$1:BA191)+1)","v":""},"","","",""]
[{"$f":"+IF(D193=\"\",\"\",MAX(A$1:A192)+1)","v":""},{"$f":"IF(Affected_Sources!C215=\"\",\"\",Affected_Sources!C215)","v":""},"",{"$f":"IF(COUNTIF(B$2:B193,B193)=1,B193,\"\")","v":""},null,null,null,null,null,null,null,null,null,null,null,null,null,null,null,{"$f":"+IF(Y193=\"\",\"\",MAX(T$1:T192)+1)","v":""},{"$f":"IF(Limit_Deviation_Detail!B215=\"\",\"\",Limit_Deviation_Detail!B215)","v":""},{"$f":"IF(Limit_Deviation_Detail!C215=\"\",\"\",Limit_Deviation_Detail!C215)","v":""},{"$f":"IF(Limit_Deviation_Detail!E215=\"\",\"\",Limit_Deviation_Detail!E215)","v":""},"",{"$f":"IF(COUNTIF(X$2:X193,X193)=1,X193,\"\")","v":""},"","","","","",null,null,null,null,{"$f":"IF(COUNTIF(AM$2:AM193,AM193)=1,AM193,\"\")","v":""},{"$f":"IF(CMS_Deviation_Detail!B215=\"\",\"\",CMS_Deviation_Detail!B215)","v":""},{"$f":"IF(CMS_Deviation_Detail!C215=\"\",\"\",CMS_Deviation_Detail!C215)","v":""},{"$f":"IF(CMS_Deviation_Detail!D215=\"\",\"\",CMS_Deviation_Detail!D215)","v":""},"",{"$f":"+IF(AI193=\"\",\"\",MAX(AN$1:AN192)+1)","v":""},"","","","","","",null,{"$f":"IF(COUNTIF(AZ$2:AZ193,AZ193)=1,AZ193,\"\")","v":""},{"$f":"IF(Limit_Deviation_Detail!B215=\"\",\"\",Limit_Deviation_Detail!B215)","v":""},{"$f":"IF(Limit_Deviation_Detail!C215=\"\",\"\",Limit_Deviation_Detail!C215)","v":""},{"$f":"IF(Limit_Deviation_Detail!E215=\"\",\"\",Limit_Deviation_Detail!E215)","v":""},"",{"$f":"+IF(AV193=\"\",\"\",MAX(BA$1:BA192)+1)","v":""},"","","",""]
[{"$f":"+IF(D194=\"\",\"\",MAX(A$1:A193)+1)","v":""},{"$f":"IF(Affected_Sources!C216=\"\",\"\",Affected_Sources!C216)","v":""},{"$f":"+IFERROR(INDEX(B$2:B$501,MATCH(ROW()-ROW($C$1),A$2:A$501,0)),\"\")","v":""},{"$f":"IF(COUNTIF(B$2:B194,B194)=1,B194,\"\")","v":""},null,null,null,null,null,null,null,null,null,null,null,null,null,null,null,{"$f":"+IF(Y194=\"\",\"\",MAX(T$1:T193)+1)","v":""},{"$f":"IF(Limit_Deviation_Detail!B216=\"\",\"\",Limit_Deviation_Detail!B216)","v":""},{"$f":"IF(Limit_Deviation_Detail!C216=\"\",\"\",Limit_Deviation_Detail!C216)","v":""},{"$f":"IF(Limit_Deviation_Detail!E216=\"\",\"\",Limit_Deviation_Detail!E216)","v":""},{"$f":"U194&V194&W194","v":""},{"$f":"IF(COUNTIF(X$2:X194,X194)=1,X194,\"\")","v":""},{"$f":"+IFERROR(INDEX(U$2:U$955,MATCH(ROW()-ROW(HU$1),T$2:T$955,0)),\"\")","v":""},{"$f":"+IFERROR(INDEX(V$2:V$955,MATCH(ROW()-ROW(Y$1),T$2:T$955,0)),\"\")","v":""},{"$f":"+IFERROR(INDEX(W$2:W$955,MATCH(ROW()-ROW(Y$1),T$2:T$955,0)),\"\")","v":""},{"$f":"IF(Z194=\"\",\"\",Z194&AA194)","v":""},{"$f":"IF(Z194=\"\",\"\",VLOOKUP(AC194,$BL$2:$BP$78,5,FALSE))","v":""},null,null,null,null,{"$f":"IF(COUNTIF(AM$2:AM194,AM194)=1,AM194,\"\")","v":""},{"$f":"IF(CMS_Deviation_Detail!B216=\"\",\"\",CMS_Deviation_Detail!B216)","v":""},{"$f":"IF(CMS_Deviation_Detail!C216=\"\",\"\",CMS_Deviation_Detail!C216)","v":""},{"$f":"IF(CMS_Deviation_Detail!D216=\"\",\"\",CMS_Deviation_Detail!D216)","v":""},"",{"$f":"+IF(AI194=\"\",\"\",MAX(AN$1:AN193)+1)","v":""},"","","","",{"$f":"IF(AP194=\"\",\"\",AP194&AQ194)","v":""},{"$f":"IF(AP194=\"\",\"\",VLOOKUP(AS194,$BL$2:$BP$78,5,FALSE))","v":""},null,{"$f":"IF(COUNTIF(AZ$2:AZ194,AZ194)=1,AZ194,\"\")","v":""},{"$f":"IF(Limit_Deviation_Detail!B216=\"\",\"\",Limit_Deviation_Detail!B216)","v":""},{"$f":"IF(Limit_Deviation_Detail!C216=\"\",\"\",Limit_Deviation_Detail!C216)","v":""},{"$f":"IF(Limit_Deviation_Detail!E216=\"\",\"\",Limit_Deviation_Detail!E216)","v":""},"",{"$f":"+IF(AV194=\"\",\"\",MAX(BA$1:BA193)+1)","v":""},"","","",""]
[{"$f":"+IF(D195=\"\",\"\",MAX(A$1:A194)+1)","v":""},{"$f":"IF(Affected_Sources!C217=\"\",\"\",Affected_Sources!C217)","v":""},"",{"$f":"IF(COUNTIF(B$2:B195,B195)=1,B195,\"\")","v":""},null,null,null,null,null,null,null,null,null,null,null,null,null,null,null,{"$f":"+IF(Y195=\"\",\"\",MAX(T$1:T194)+1)","v":""},{"$f":"IF(Limit_Deviation_Detail!B217=\"\",\"\",Limit_Deviation_Detail!B217)","v":""},{"$f":"IF(Limit_Deviation_Detail!C217=\"\",\"\",Limit_Deviation_Detail!C217)","v":""},{"$f":"IF(Limit_Deviation_Detail!E217=\"\",\"\",Limit_Deviation_Detail!E217)","v":""},"",{"$f":"IF(COUNTIF(X$2:X195,X195)=1,X195,\"\")","v":""},"","","","","",null,null,null,null,{"$f":"IF(COUNTIF(AM$2:AM195,AM195)=1,AM195,\"\")","v":""},{"$f":"IF(CMS_Deviation_Detail!B217=\"\",\"\",CMS_Deviation_Detail!B217)","v":""},{"$f":"IF(CMS_Deviation_Detail!C217=\"\",\"\",CMS_Deviation_Detail!C217)","v":""},{"$f":"IF(CMS_Deviation_Detail!D217=\"\",\"\",CMS_Deviation_Detail!D217)","v":""},{"$f":"IF(AL195=\"\",\"\",AJ195&\" \"&AK195&\" \"&AL195)","v":""},{"$f":"+IF(AI195=\"\",\"\",MAX(AN$1:AN194)+1)","v":""},{"$f":"+IFERROR(INDEX(AI$2:AI$955,MATCH(ROW()-ROW(AI$1),AN$2:AN$955,0)),\"\")","v":""},{"$f":"+IFERROR(INDEX(AJ$2:AJ$955,MATCH(ROW()-ROW(AJ$1),$AN$2:$AN$955,0)),\"\")","v":""},{"$f":"+IFERROR(INDEX(AK$2:AK$955,MATCH(ROW()-ROW(AK$1),$AN$2:$AN$955,0)),\"\")","v":""},{"$f":"+IFERROR(INDEX(AL$2:AL$955,MATCH(ROW()-ROW(AL$1),$AN$2:$AN$955,0)),\"\")","v":""},"","",null,{"$f":"IF(COUNTIF(AZ$2:AZ195,AZ195)=1,AZ195,\"\")","v":""},{"$f":"IF(Limit_Deviation_Detail!B217=\"\",\"\",Limit_Deviation_Detail!B217)","v":""},{"$f":"IF(Limit_Deviation_Detail!C217=\"\",\"\",Limit_Deviation_Detail!C217)","v":""},{"$f":"IF(Limit_Deviation_Detail!E217=\"\",\"\",Limit_Deviation_Detail!E217)","v":""},"",{"$f":"+IF(AV195=\"\",\"\",MAX(BA$1:BA194)+1)","v":""},"","","",""]
[{"$f":"+IF(D196=\"\",\"\",MAX(A$1:A195)+1)","v":""},{"$f":"IF(Affected_Sources!C218=\"\",\"\",Affected_Sources!C218)","v":""},"",{"$f":"IF(COUNTIF(B$2:B196,B196)=1,B196,\"\")","v":""},null,null,null,null,null,null,null,null,null,null,null,null,null,null,null,{"$f":"+IF(Y196=\"\",\"\",MAX(T$1:T195)+1)","v":""},{"$f":"IF(Limit_Deviation_Detail!B218=\"\",\"\",Limit_Deviation_Detail!B218)","v":""},{"$f":"IF(Limit_Deviation_Detail!C218=\"\",\"\",Limit_Deviation_Detail!C218)","v":""},{"$f":"IF(Limit_Deviation_Detail!E218=\"\",\"\",Limit_Deviation_Detail!E218)","v":""},"",{"$f":"IF(COUNTIF(X$2:X196,X196)=1,X196,\"\")","v":""},"","","","","",null,null,null,null,{"$f":"IF(COUNTIF(AM$2:AM196,AM196)=1,AM196,\"\")","v":""},{"$f":"IF(CMS_Deviation_Detail!B218=\"\",\"\",CMS_Deviation_Detail!B218)","v":""},{"$f":"IF(CMS_Deviation_Detail!C218=\"\",\"\",CMS_Deviation_Detail!C218)","v":""},{"$f":"IF(CMS_Deviation_Detail!D218=\"\",\"\",CMS_Deviation_Detail!D218)","v":""},"",{"$f":"+IF(AI196=\"\",\"\",MAX(AN$1:AN195)+1)","v":""},"","","","","","",null,{"$f":"IF(COUNTIF(AZ$2:AZ196,AZ196)=1,AZ196,\"\")","v":""},{"$f":"IF(Limit_Deviation_Detail!B218=\"\",\"\",Limit_Deviation_Detail!B218)","v":""},{"$f":"IF(Limit_Deviation_Detail!C218=\"\",\"\",Limit_Deviation_Detail!C218)","v":""},{"$f":"IF(Limit_Deviation_Detail!E218=\"\",\"\",Limit_Deviation_Detail!E218)","v":""},"",{"$f":"+IF(AV196=\"\",\"\",MAX(BA$1:BA195)+1)","v":""},"","","",""]
[{"$f":"+IF(D197=\"\",\"\",MAX(A$1:A196)+1)","v":""},{"$f":"IF(Affected_Sources!C219=\"\",\"\",Affected_Sources!C219)","v":""},"",{"$f":"IF(COUNTIF(B$2:B197,B197)=1,B197,\"\")","v":""},null,null,null,null,null,null,null,null,null,null,null,null,null,null,null,{"$f":"+IF(Y197=\"\",\"\",MAX(T$1:T196)+1)","v":""},{"$f":"IF(Limit_Deviation_Detail!B219=\"\",\"\",Limit_Deviation_Detail!B219)","v":""},{"$f":"IF(Limit_Deviation_Detail!C219=\"\",\"\",Limit_Deviation_Detail!C219)","v":""},{"$f":"IF(Limit_Deviation_Detail!E219=\"\",\"\",Limit_Deviation_Detail!E219)","v":""},"",{"$f":"IF(COUNTIF(X$2:X197,X197)=1,X197,\"\")","v":""},"","","","","",null,null,null,null,{"$f":"IF(COUNTIF(AM$2:AM197,AM197)=1,AM197,\"\")","v":""},{"$f":"IF(CMS_Deviation_Detail!B219=\"\",\"\",CMS_Deviation_Detail!B219)","v":""},{"$f":"IF(CMS_Deviation_Detail!C219=\"\",\"\",CMS_Deviation_Detail!C219)","v":""},{"$f":"IF(CMS_Deviation_Detail!D219=\"\",\"\",CMS_Deviation_Detail!D219)","v":""},"",{"$f":"+IF(AI197=\"\",\"\",MAX(AN$1:AN196)+1)","v":""},"","","","","","",null,{"$f":"IF(COUNTIF(AZ$2:AZ197,AZ197)=1,AZ197,\"\")","v":""},{"$f":"IF(Limit_Deviation_Detail!B219=\"\",\"\",Limit_Deviation_Detail!B219)","v":""},{"$f":"IF(Limit_Deviation_Detail!C219=\"\",\"\",Limit_Deviation_Detail!C219)","v":""},{"$f":"IF(Limit_Deviation_Detail!E219=\"\",\"\",Limit_Deviation_Detail!E219)","v":""},"",{"$f":"+IF(AV197=\"\",\"\",MAX(BA$1:BA196)+1)","v":""},"","","",""]
[{"$f":"+IF(D198=\"\",\"\",MAX(A$1:A197)+1)","v":""},{"$f":"IF(Affected_Sources!C220=\"\",\"\",Affected_Sources!C220)","v":""},"",{"$f":"IF(COUNTIF(B$2:B198,B198)=1,B198,\"\")","v":""},null,null,null,null,null,null,null,null,null,null,null,null,null,null,null,{"$f":"+IF(Y198=\"\",\"\",MAX(T$1:T197)+1)","v":""},{"$f":"IF(Limit_Deviation_Detail!B220=\"\",\"\",Limit_Deviation_Detail!B220)","v":""},{"$f":"IF(Limit_Deviation_Detail!C220=\"\",\"\",Limit_Deviation_Detail!C220)","v":""},{"$f":"IF(Limit_Deviation_Detail!E220=\"\",\"\",Limit_Deviation_Detail!E220)","v":""},"",{"$f":"IF(COUNTIF(X$2:X198,X198)=1,X198,\"\")","v":""},"","","","","",null,null,null,null,{"$f":"IF(COUNTIF(AM$2:AM198,AM198)=1,AM198,\"\")","v":""},{"$f":"IF(CMS_Deviation_Detail!B220=\"\",\"\",CMS_Deviation_Detail!B220)","v":""},{"$f":"IF(CMS_Deviation_Detail!C220=\"\",\"\",CMS_Deviation_Detail!C220)","v":""},{"$f":"IF(CMS_Deviation_Detail!D220=\"\",\"\",CMS_Deviation_Detail!D220)","v":""},"",{"$f":"+IF(AI198=\"\",\"\",MAX(AN$1:AN197)+1)","v":""},"","","","","","",null,{"$f":"IF(COUNTIF(AZ$2:AZ198,AZ198)=1,AZ198,\"\")","v":""},{"$f":"IF(Limit_Deviation_Detail!B220=\"\",\"\",Limit_Deviation_Detail!B220)","v":""},{"$f":"IF(Limit_Deviation_Detail!C220=\"\",\"\",Limit_Deviation_Detail!C220)","v":""},{"$f":"IF(Limit_Deviation_Detail!E220=\"\",\"\",Limit_Deviation_Detail!E220)","v":""},"",{"$f":"+IF(AV198=\"\",\"\",MAX(BA$1:BA197)+1)","v":""},"","","",""]
[{"$f":"+IF(D199=\"\",\"\",MAX(A$1:A198)+1)","v":""},{"$f":"IF(Affected_Sources!C221=\"\",\"\",Affected_Sources!C221)","v":""},"",{"$f":"IF(COUNTIF(B$2:B199,B199)=1,B199,\"\")","v":""},null,null,null,null,null,null,null,null,null,null,null,null,null,null,null,{"$f":"+IF(Y199=\"\",\"\",MAX(T$1:T198)+1)","v":""},{"$f":"IF(Limit_Deviation_Detail!B221=\"\",\"\",Limit_Deviation_Detail!B221)","v":""},{"$f":"IF(Limit_Deviation_Detail!C221=\"\",\"\",Limit_Deviation_Detail!C221)","v":""},{"$f":"IF(Limit_Deviation_Detail!E221=\"\",\"\",Limit_Deviation_Detail!E221)","v":""},"",{"$f":"IF(COUNTIF(X$2:X199,X199)=1,X199,\"\")","v":""},"","","","","",null,null,null,null,{"$f":"IF(COUNTIF(AM$2:AM199,AM199)=1,AM199,\"\")","v":""},{"$f":"IF(CMS_Deviation_Detail!B221=\"\",\"\",CMS_Deviation_Detail!B221)","v":""},{"$f":"IF(CMS_Deviation_Detail!C221=\"\",\"\",CMS_Deviation_Detail!C221)","v":""},{"$f":"IF(CMS_Deviation_Detail!D221=\"\",\"\",CMS_Deviation_Detail!D221)","v":""},"",{"$f":"+IF(AI199=\"\",\"\",MAX(AN$1:AN198)+1)","v":""},"","","","","","",null,{"$f":"IF(COUNTIF(AZ$2:AZ199,AZ199)=1,AZ199,\"\")","v":""},{"$f":"IF(Limit_Deviation_Detail!B221=\"\",\"\",Limit_Deviation_Detail!B221)","v":""},{"$f":"IF(Limit_Deviation_Detail!C221=\"\",\"\",Limit_Deviation_Detail!C221)","v":""},{"$f":"IF(Limit_Deviation_Detail!E221=\"\",\"\",Limit_Deviation_Detail!E221)","v":""},{"$f":"IF(AY199=\"\",\"\",AW199&\" \"&AX199&\" \"&AY199)","v":""},{"$f":"+IF(AV199=\"\",\"\",MAX(BA$1:BA198)+1)","v":""},{"$f":"+IFERROR(INDEX(AV$2:AV$955,MATCH(ROW()-ROW(AV$1),BA$2:BA$955,0)),\"\")","v":""},{"$f":"+IFERROR(INDEX(AW$2:AW$955,MATCH(ROW()-ROW(AW$1),$BA$2:$BA$955,0)),\"\")","v":""},{"$f":"+IFERROR(INDEX(AX$2:AX$955,MATCH(ROW()-ROW(AX$1),$BA$2:$BA$955,0)),\"\")","v":""},{"$f":"+IFERROR(INDEX(AY$2:AY$955,MATCH(ROW()-ROW(AY$1),$BA$2:$BA$955,0)),\"\")","v":""}]
[{"$f":"+IF(D200=\"\",\"\",MAX(A$1:A199)+1)","v":""},{"$f":"IF(Affected_Sources!C222=\"\",\"\",Affected_Sources!C222)","v":""},"",{"$f":"IF(COUNTIF(B$2:B200,B200)=1,B200,\"\")","v":""},null,null,null,null,null,null,null,null,null,null,null,null,null,null,null,{"$f":"+IF(Y200=\"\",\"\",MAX(T$1:T199)+1)","v":""},{"$f":"IF(Limit_Deviation_Detail!B222=\"\",\"\",Limit_Deviation_Detail!B222)","v":""},{"$f":"IF(Limit_Deviation_Detail!C222=\"\",\"\",Limit_Deviation_Detail!C222)","v":""},{"$f":"IF(Limit_Deviation_Detail!E222=\"\",\"\",Limit_Deviation_Detail!E222)","v":""},"",{"$f":"IF(COUNTIF(X$2:X200,X200)=1,X200,\"\")","v":""},"","","","","",null,null,null,null,{"$f":"IF(COUNTIF(AM$2:AM200,AM200)=1,AM200,\"\")","v":""},{"$f":"IF(CMS_Deviation_Detail!B222=\"\",\"\",CMS_Deviation_Detail!B222)","v":""},{"$f":"IF(CMS_Deviation_Detail!C222=\"\",\"\",CMS_Deviation_Detail!C222)","v":""},{"$f":"IF(CMS_Deviation_Detail!D222=\"\",\"\",CMS_Deviation_Detail!D222)","v":""},"",{"$f":"+IF(AI200=\"\",\"\",MAX(AN$1:AN199)+1)","v":""},"","","","","","",null,{"$f":"IF(COUNTIF(AZ$2:AZ200,AZ200)=1,AZ200,\"\")","v":""},{"$f":"IF(Limit_Deviation_Detail!B222=\"\",\"\",Limit_Deviation_Detail!B222)","v":""},{"$f":"IF(Limit_Deviation_Detail!C222=\"\",\"\",Limit_Deviation_Detail!C222)","v":""},{"$f":"IF(Limit_Deviation_Detail!E222=\"\",\"\",Limit_Deviation_Detail!E222)","v":""},"",{"$f":"+IF(AV200=\"\",\"\",MAX(BA$1:BA199)+1)","v":""},"","","",""]
[{"$f":"+IF(D201=\"\",\"\",MAX(A$1:A200)+1)","v":""},{"$f":"IF(Affected_Sources!C223=\"\",\"\",Affected_Sources!C223)","v":""},"",{"$f":"IF(COUNTIF(B$2:B201,B201)=1,B201,\"\")","v":""},null,null,null,null,null,null,null,null,null,null,null,null,null,null,null,{"$f":"+IF(Y201=\"\",\"\",MAX(T$1:T200)+1)","v":""},{"$f":"IF(Limit_Deviation_Detail!B223=\"\",\"\",Limit_Deviation_Detail!B223)","v":""},{"$f":"IF(Limit_Deviation_Detail!C223=\"\",\"\",Limit_Deviation_Detail!C223)","v":""},{"$f":"IF(Limit_Deviation_Detail!E223=\"\",\"\",Limit_Deviation_Detail!E223)","v":""},"",{"$f":"IF(COUNTIF(X$2:X201,X201)=1,X201,\"\")","v":""},"","","","","",null,null,null,null,{"$f":"IF(COUNTIF(AM$2:AM201,AM201)=1,AM201,\"\")","v":""},{"$f":"IF(CMS_Deviation_Detail!B223=\"\",\"\",CMS_Deviation_Detail!B223)","v":""},{"$f":"IF(CMS_Deviation_Detail!C223=\"\",\"\",CMS_Deviation_Detail!C223)","v":""},{"$f":"IF(CMS_Deviation_Detail!D223=\"\",\"\",CMS_Deviation_Detail!D223)","v":""},"",{"$f":"+IF(AI201=\"\",\"\",MAX(AN$1:AN200)+1)","v":""},"","","","","","",null,{"$f":"IF(COUNTIF(AZ$2:AZ201,AZ201)=1,AZ201,\"\")","v":""},{"$f":"IF(Limit_Deviation_Detail!B223=\"\",\"\",Limit_Deviation_Detail!B223)","v":""},{"$f":"IF(Limit_Deviation_Detail!C223=\"\",\"\",Limit_Deviation_Detail!C223)","v":""},{"$f":"IF(Limit_Deviation_Detail!E223=\"\",\"\",Limit_Deviation_Detail!E223)","v":""},"",{"$f":"+IF(AV201=\"\",\"\",MAX(BA$1:BA200)+1)","v":""},"","","",""]
[{"$f":"+IF(D202=\"\",\"\",MAX(A$1:A201)+1)","v":""},{"$f":"IF(Affected_Sources!C224=\"\",\"\",Affected_Sources!C224)","v":""},"",{"$f":"IF(COUNTIF(B$2:B202,B202)=1,B202,\"\")","v":""},null,null,null,null,null,null,null,null,null,null,null,null,null,null,null,{"$f":"+IF(Y202=\"\",\"\",MAX(T$1:T201)+1)","v":""},{"$f":"IF(Limit_Deviation_Detail!B224=\"\",\"\",Limit_Deviation_Detail!B224)","v":""},{"$f":"IF(Limit_Deviation_Detail!C224=\"\",\"\",Limit_Deviation_Detail!C224)","v":""},{"$f":"IF(Limit_Deviation_Detail!E224=\"\",\"\",Limit_Deviation_Detail!E224)","v":""},"",{"$f":"IF(COUNTIF(X$2:X202,X202)=1,X202,\"\")","v":""},"","","","","",null,null,null,null,{"$f":"IF(COUNTIF(AM$2:AM202,AM202)=1,AM202,\"\")","v":""},{"$f":"IF(CMS_Deviation_Detail!B224=\"\",\"\",CMS_Deviation_Detail!B224)","v":""},{"$f":"IF(CMS_Deviation_Detail!C224=\"\",\"\",CMS_Deviation_Detail!C224)","v":""},{"$f":"IF(CMS_Deviation_Detail!D224=\"\",\"\",CMS_Deviation_Detail!D224)","v":""},"",{"$f":"+IF(AI202=\"\",\"\",MAX(AN$1:AN201)+1)","v":""},"","","","","","",null,{"$f":"IF(COUNTIF(AZ$2:AZ202,AZ202)=1,AZ202,\"\")","v":""},{"$f":"IF(Limit_Deviation_Detail!B224=\"\",\"\",Limit_Deviation_Detail!B224)","v":""},{"$f":"IF(Limit_Deviation_Detail!C224=\"\",\"\",Limit_Deviation_Detail!C224)","v":""},{"$f":"IF(Limit_Deviation_Detail!E224=\"\",\"\",Limit_Deviation_Detail!E224)","v":""},"",{"$f":"+IF(AV202=\"\",\"\",MAX(BA$1:BA201)+1)","v":""},"","","",""]
[{"$f":"+IF(D203=\"\",\"\",MAX(A$1:A202)+1)","v":""},{"$f":"IF(Affected_Sources!C225=\"\",\"\",Affected_Sources!C225)","v":""},"",{"$f":"IF(COUNTIF(B$2:B203,B203)=1,B203,\"\")","v":""},null,null,null,null,null,null,null,null,null,null,null,null,null,null,null,{"$f":"+IF(Y203=\"\",\"\",MAX(T$1:T202)+1)","v":""},{"$f":"IF(Limit_Deviation_Detail!B225=\"\",\"\",Limit_Deviation_Detail!B225)","v":""},{"$f":"IF(Limit_Deviation_Detail!C225=\"\",\"\",Limit_Deviation_Detail!C225)","v":""},{"$f":"IF(Limit_Deviation_Detail!E225=\"\",\"\",Limit_Deviation_Detail!E225)","v":""},"",{"$f":"IF(COUNTIF(X$2:X203,X203)=1,X203,\"\")","v":""},"","","","","",null,null,null,null,{"$f":"IF(COUNTIF(AM$2:AM203,AM203)=1,AM203,\"\")","v":""},{"$f":"IF(CMS_Deviation_Detail!B225=\"\",\"\",CMS_Deviation_Detail!B225)","v":""},{"$f":"IF(CMS_Deviation_Detail!C225=\"\",\"\",CMS_Deviation_Detail!C225)","v":""},{"$f":"IF(CMS_Deviation_Detail!D225=\"\",\"\",CMS_Deviation_Detail!D225)","v":""},"",{"$f":"+IF(AI203=\"\",\"\",MAX(AN$1:AN202)+1)","v":""},"","","","","","",null,{"$f":"IF(COUNTIF(AZ$2:AZ203,AZ203)=1,AZ203,\"\")","v":""},{"$f":"IF(Limit_Deviation_Detail!B225=\"\",\"\",Limit_Deviation_Detail!B225)","v":""},{"$f":"IF(Limit_Deviation_Detail!C225=\"\",\"\",Limit_Deviation_Detail!C225)","v":""},{"$f":"IF(Limit_Deviation_Detail!E225=\"\",\"\",Limit_Deviation_Detail!E225)","v":""},"",{"$f":"+IF(AV203=\"\",\"\",MAX(BA$1:BA202)+1)","v":""},"","","",""]
[{"$f":"+IF(D204=\"\",\"\",MAX(A$1:A203)+1)","v":""},{"$f":"IF(Affected_Sources!C226=\"\",\"\",Affected_Sources!C226)","v":""},"",{"$f":"IF(COUNTIF(B$2:B204,B204)=1,B204,\"\")","v":""},null,null,null,null,null,null,null,null,null,null,null,null,null,null,null,{"$f":"+IF(Y204=\"\",\"\",MAX(T$1:T203)+1)","v":""},{"$f":"IF(Limit_Deviation_Detail!B226=\"\",\"\",Limit_Deviation_Detail!B226)","v":""},{"$f":"IF(Limit_Deviation_Detail!C226=\"\",\"\",Limit_Deviation_Detail!C226)","v":""},{"$f":"IF(Limit_Deviation_Detail!E226=\"\",\"\",Limit_Deviation_Detail!E226)","v":""},"",{"$f":"IF(COUNTIF(X$2:X204,X204)=1,X204,\"\")","v":""},"","","","","",null,null,null,null,{"$f":"IF(COUNTIF(AM$2:AM204,AM204)=1,AM204,\"\")","v":""},{"$f":"IF(CMS_Deviation_Detail!B226=\"\",\"\",CMS_Deviation_Detail!B226)","v":""},{"$f":"IF(CMS_Deviation_Detail!C226=\"\",\"\",CMS_Deviation_Detail!C226)","v":""},{"$f":"IF(CMS_Deviation_Detail!D226=\"\",\"\",CMS_Deviation_Detail!D226)","v":""},"",{"$f":"+IF(AI204=\"\",\"\",MAX(AN$1:AN203)+1)","v":""},"","","","","","",null,{"$f":"IF(COUNTIF(AZ$2:AZ204,AZ204)=1,AZ204,\"\")","v":""},{"$f":"IF(Limit_Deviation_Detail!B226=\"\",\"\",Limit_Deviation_Detail!B226)","v":""},{"$f":"IF(Limit_Deviation_Detail!C226=\"\",\"\",Limit_Deviation_Detail!C226)","v":""},{"$f":"IF(Limit_Deviation_Detail!E226=\"\",\"\",Limit_Deviation_Detail!E226)","v":""},"",{"$f":"+IF(AV204=\"\",\"\",MAX(BA$1:BA203)+1)","v":""},"","","",""]
[{"$f":"+IF(D205=\"\",\"\",MAX(A$1:A204)+1)","v":""},{"$f":"IF(Affected_Sources!C227=\"\",\"\",Affected_Sources!C227)","v":""},"",{"$f":"IF(COUNTIF(B$2:B205,B205)=1,B205,\"\")","v":""},null,null,null,null,null,null,null,null,null,null,null,null,null,null,null,{"$f":"+IF(Y205=\"\",\"\",MAX(T$1:T204)+1)","v":""},{"$f":"IF(Limit_Deviation_Detail!B227=\"\",\"\",Limit_Deviation_Detail!B227)","v":""},{"$f":"IF(Limit_Deviation_Detail!C227=\"\",\"\",Limit_Deviation_Detail!C227)","v":""},{"$f":"IF(Limit_Deviation_Detail!E227=\"\",\"\",Limit_Deviation_Detail!E227)","v":""},"",{"$f":"IF(COUNTIF(X$2:X205,X205)=1,X205,\"\")","v":""},"","","","","",null,null,null,null,{"$f":"IF(COUNTIF(AM$2:AM205,AM205)=1,AM205,\"\")","v":""},{"$f":"IF(CMS_Deviation_Detail!B227=\"\",\"\",CMS_Deviation_Detail!B227)","v":""},{"$f":"IF(CMS_Deviation_Detail!C227=\"\",\"\",CMS_Deviation_Detail!C227)","v":""},{"$f":"IF(CMS_Deviation_Detail!D227=\"\",\"\",CMS_Deviation_Detail!D227)","v":""},"",{"$f":"+IF(AI205=\"\",\"\",MAX(AN$1:AN204)+1)","v":""},"","","","","","",null,{"$f":"IF(COUNTIF(AZ$2:AZ205,AZ205)=1,AZ205,\"\")","v":""},{"$f":"IF(Limit_Deviation_Detail!B227=\"\",\"\",Limit_Deviation_Detail!B227)","v":""},{"$f":"IF(Limit_Deviation_Detail!C227=\"\",\"\",Limit_Deviation_Detail!C227)","v":""},{"$f":"IF(Limit_Deviation_Detail!E227=\"\",\"\",Limit_Deviation_Detail!E227)","v":""},"",{"$f":"+IF(AV205=\"\",\"\",MAX(BA$1:BA204)+1)","v":""},"","","",""]
[{"$f":"+IF(D206=\"\",\"\",MAX(A$1:A205)+1)","v":""},{"$f":"IF(Affected_Sources!C228=\"\",\"\",Affected_Sources!C228)","v":""},"",{"$f":"IF(COUNTIF(B$2:B206,B206)=1,B206,\"\")","v":""},null,null,null,null,null,null,null,null,null,null,null,null,null,null,null,{"$f":"+IF(Y206=\"\",\"\",MAX(T$1:T205)+1)","v":""},{"$f":"IF(Limit_Deviation_Detail!B228=\"\",\"\",Limit_Deviation_Detail!B228)","v":""},{"$f":"IF(Limit_Deviation_Detail!C228=\"\",\"\",Limit_Deviation_Detail!C228)","v":""},{"$f":"IF(Limit_Deviation_Detail!E228=\"\",\"\",Limit_Deviation_Detail!E228)","v":""},"",{"$f":"IF(COUNTIF(X$2:X206,X206)=1,X206,\"\")","v":""},"","","","","",null,null,null,null,{"$f":"IF(COUNTIF(AM$2:AM206,AM206)=1,AM206,\"\")","v":""},{"$f":"IF(CMS_Deviation_Detail!B228=\"\",\"\",CMS_Deviation_Detail!B228)","v":""},{"$f":"IF(CMS_Deviation_Detail!C228=\"\",\"\",CMS_Deviation_Detail!C228)","v":""},{"$f":"IF(CMS_Deviation_Detail!D228=\"\",\"\",CMS_Deviation_Detail!D228)","v":""},"",{"$f":"+IF(AI206=\"\",\"\",MAX(AN$1:AN205)+1)","v":""},"","","","","","",null,{"$f":"IF(COUNTIF(AZ$2:AZ206,AZ206)=1,AZ206,\"\")","v":""},{"$f":"IF(Limit_Deviation_Detail!B228=\"\",\"\",Limit_Deviation_Detail!B228)","v":""},{"$f":"IF(Limit_Deviation_Detail!C228=\"\",\"\",Limit_Deviation_Detail!C228)","v":""},{"$f":"IF(Limit_Deviation_Detail!E228=\"\",\"\",Limit_Deviation_Detail!E228)","v":""},"",{"$f":"+IF(AV206=\"\",\"\",MAX(BA$1:BA205)+1)","v":""},"","","",""]
[{"$f":"+IF(D207=\"\",\"\",MAX(A$1:A206)+1)","v":""},{"$f":"IF(Affected_Sources!C229=\"\",\"\",Affected_Sources!C229)","v":""},"",{"$f":"IF(COUNTIF(B$2:B207,B207)=1,B207,\"\")","v":""},null,null,null,null,null,null,null,null,null,null,null,null,null,null,null,{"$f":"+IF(Y207=\"\",\"\",MAX(T$1:T206)+1)","v":""},{"$f":"IF(Limit_Deviation_Detail!B229=\"\",\"\",Limit_Deviation_Detail!B229)","v":""},{"$f":"IF(Limit_Deviation_Detail!C229=\"\",\"\",Limit_Deviation_Detail!C229)","v":""},{"$f":"IF(Limit_Deviation_Detail!E229=\"\",\"\",Limit_Deviation_Detail!E229)","v":""},"",{"$f":"IF(COUNTIF(X$2:X207,X207)=1,X207,\"\")","v":""},"","","","","",null,null,null,null,{"$f":"IF(COUNTIF(AM$2:AM207,AM207)=1,AM207,\"\")","v":""},{"$f":"IF(CMS_Deviation_Detail!B229=\"\",\"\",CMS_Deviation_Detail!B229)","v":""},{"$f":"IF(CMS_Deviation_Detail!C229=\"\",\"\",CMS_Deviation_Detail!C229)","v":""},{"$f":"IF(CMS_Deviation_Detail!D229=\"\",\"\",CMS_Deviation_Detail!D229)","v":""},"",{"$f":"+IF(AI207=\"\",\"\",MAX(AN$1:AN206)+1)","v":""},"","","","","","",null,{"$f":"IF(COUNTIF(AZ$2:AZ207,AZ207)=1,AZ207,\"\")","v":""},{"$f":"IF(Limit_Deviation_Detail!B229=\"\",\"\",Limit_Deviation_Detail!B229)","v":""},{"$f":"IF(Limit_Deviation_Detail!C229=\"\",\"\",Limit_Deviation_Detail!C229)","v":""},{"$f":"IF(Limit_Deviation_Detail!E229=\"\",\"\",Limit_Deviation_Detail!E229)","v":""},"",{"$f":"+IF(AV207=\"\",\"\",MAX(BA$1:BA206)+1)","v":""},"","","",""]
[{"$f":"+IF(D208=\"\",\"\",MAX(A$1:A207)+1)","v":""},{"$f":"IF(Affected_Sources!C230=\"\",\"\",Affected_Sources!C230)","v":""},"",{"$f":"IF(COUNTIF(B$2:B208,B208)=1,B208,\"\")","v":""},null,null,null,null,null,null,null,null,null,null,null,null,null,null,null,{"$f":"+IF(Y208=\"\",\"\",MAX(T$1:T207)+1)","v":""},{"$f":"IF(Limit_Deviation_Detail!B230=\"\",\"\",Limit_Deviation_Detail!B230)","v":""},{"$f":"IF(Limit_Deviation_Detail!C230=\"\",\"\",Limit_Deviation_Detail!C230)","v":""},{"$f":"IF(Limit_Deviation_Detail!E230=\"\",\"\",Limit_Deviation_Detail!E230)","v":""},"",{"$f":"IF(COUNTIF(X$2:X208,X208)=1,X208,\"\")","v":""},"","","","","",null,null,null,null,{"$f":"IF(COUNTIF(AM$2:AM208,AM208)=1,AM208,\"\")","v":""},{"$f":"IF(CMS_Deviation_Detail!B230=\"\",\"\",CMS_Deviation_Detail!B230)","v":""},{"$f":"IF(CMS_Deviation_Detail!C230=\"\",\"\",CMS_Deviation_Detail!C230)","v":""},{"$f":"IF(CMS_Deviation_Detail!D230=\"\",\"\",CMS_Deviation_Detail!D230)","v":""},"",{"$f":"+IF(AI208=\"\",\"\",MAX(AN$1:AN207)+1)","v":""},"","","","","","",null,{"$f":"IF(COUNTIF(AZ$2:AZ208,AZ208)=1,AZ208,\"\")","v":""},{"$f":"IF(Limit_Deviation_Detail!B230=\"\",\"\",Limit_Deviation_Detail!B230)","v":""},{"$f":"IF(Limit_Deviation_Detail!C230=\"\",\"\",Limit_Deviation_Detail!C230)","v":""},{"$f":"IF(Limit_Deviation_Detail!E230=\"\",\"\",Limit_Deviation_Detail!E230)","v":""},"",{"$f":"+IF(AV208=\"\",\"\",MAX(BA$1:BA207)+1)","v":""},"","","",""]
[{"$f":"+IF(D209=\"\",\"\",MAX(A$1:A208)+1)","v":""},{"$f":"IF(Affected_Sources!C231=\"\",\"\",Affected_Sources!C231)","v":""},"",{"$f":"IF(COUNTIF(B$2:B209,B209)=1,B209,\"\")","v":""},null,null,null,null,null,null,null,null,null,null,null,null,null,null,null,{"$f":"+IF(Y209=\"\",\"\",MAX(T$1:T208)+1)","v":""},{"$f":"IF(Limit_Deviation_Detail!B231=\"\",\"\",Limit_Deviation_Detail!B231)","v":""},{"$f":"IF(Limit_Deviation_Detail!C231=\"\",\"\",Limit_Deviation_Detail!C231)","v":""},{"$f":"IF(Limit_Deviation_Detail!E231=\"\",\"\",Limit_Deviation_Detail!E231)","v":""},"",{"$f":"IF(COUNTIF(X$2:X209,X209)=1,X209,\"\")","v":""},"","","","","",null,null,null,null,{"$f":"IF(COUNTIF(AM$2:AM209,AM209)=1,AM209,\"\")","v":""},{"$f":"IF(CMS_Deviation_Detail!B231=\"\",\"\",CMS_Deviation_Detail!B231)","v":""},{"$f":"IF(CMS_Deviation_Detail!C231=\"\",\"\",CMS_Deviation_Detail!C231)","v":""},{"$f":"IF(CMS_Deviation_Detail!D231=\"\",\"\",CMS_Deviation_Detail!D231)","v":""},"",{"$f":"+IF(AI209=\"\",\"\",MAX(AN$1:AN208)+1)","v":""},"","","","","","",null,{"$f":"IF(COUNTIF(AZ$2:AZ209,AZ209)=1,AZ209,\"\")","v":""},{"$f":"IF(Limit_Deviation_Detail!B231=\"\",\"\",Limit_Deviation_Detail!B231)","v":""},{"$f":"IF(Limit_Deviation_Detail!C231=\"\",\"\",Limit_Deviation_Detail!C231)","v":""},{"$f":"IF(Limit_Deviation_Detail!E231=\"\",\"\",Limit_Deviation_Detail!E231)","v":""},"",{"$f":"+IF(AV209=\"\",\"\",MAX(BA$1:BA208)+1)","v":""},"","","",""]
[{"$f":"+IF(D210=\"\",\"\",MAX(A$1:A209)+1)","v":""},{"$f":"IF(Affected_Sources!C232=\"\",\"\",Affected_Sources!C232)","v":""},"",{"$f":"IF(COUNTIF(B$2:B210,B210)=1,B210,\"\")","v":""},null,null,null,null,null,null,null,null,null,null,null,null,null,null,null,{"$f":"+IF(Y210=\"\",\"\",MAX(T$1:T209)+1)","v":""},{"$f":"IF(Limit_Deviation_Detail!B232=\"\",\"\",Limit_Deviation_Detail!B232)","v":""},{"$f":"IF(Limit_Deviation_Detail!C232=\"\",\"\",Limit_Deviation_Detail!C232)","v":""},{"$f":"IF(Limit_Deviation_Detail!E232=\"\",\"\",Limit_Deviation_Detail!E232)","v":""},"",{"$f":"IF(COUNTIF(X$2:X210,X210)=1,X210,\"\")","v":""},"","","","","",null,null,null,null,{"$f":"IF(COUNTIF(AM$2:AM210,AM210)=1,AM210,\"\")","v":""},{"$f":"IF(CMS_Deviation_Detail!B232=\"\",\"\",CMS_Deviation_Detail!B232)","v":""},{"$f":"IF(CMS_Deviation_Detail!C232=\"\",\"\",CMS_Deviation_Detail!C232)","v":""},{"$f":"IF(CMS_Deviation_Detail!D232=\"\",\"\",CMS_Deviation_Detail!D232)","v":""},"",{"$f":"+IF(AI210=\"\",\"\",MAX(AN$1:AN209)+1)","v":""},"","","","","","",null,{"$f":"IF(COUNTIF(AZ$2:AZ210,AZ210)=1,AZ210,\"\")","v":""},{"$f":"IF(Limit_Deviation_Detail!B232=\"\",\"\",Limit_Deviation_Detail!B232)","v":""},{"$f":"IF(Limit_Deviation_Detail!C232=\"\",\"\",Limit_Deviation_Detail!C232)","v":""},{"$f":"IF(Limit_Deviation_Detail!E232=\"\",\"\",Limit_Deviation_Detail!E232)","v":""},"",{"$f":"+IF(AV210=\"\",\"\",MAX(BA$1:BA209)+1)","v":""},"","","",""]
[{"$f":"+IF(D211=\"\",\"\",MAX(A$1:A210)+1)","v":""},{"$f":"IF(Affected_Sources!C233=\"\",\"\",Affected_Sources!C233)","v":""},"",{"$f":"IF(COUNTIF(B$2:B211,B211)=1,B211,\"\")","v":""},null,null,null,null,null,null,null,null,null,null,null,null,null,null,null,{"$f":"+IF(Y211=\"\",\"\",MAX(T$1:T210)+1)","v":""},{"$f":"IF(Limit_Deviation_Detail!B233=\"\",\"\",Limit_Deviation_Detail!B233)","v":""},{"$f":"IF(Limit_Deviation_Detail!C233=\"\",\"\",Limit_Deviation_Detail!C233)","v":""},{"$f":"IF(Limit_Deviation_Detail!E233=\"\",\"\",Limit_Deviation_Detail!E233)","v":""},"",{"$f":"IF(COUNTIF(X$2:X211,X211)=1,X211,\"\")","v":""},"","","","","",null,null,null,null,{"$f":"IF(COUNTIF(AM$2:AM211,AM211)=1,AM211,\"\")","v":""},{"$f":"IF(CMS_Deviation_Detail!B233=\"\",\"\",CMS_Deviation_Detail!B233)","v":""},{"$f":"IF(CMS_Deviation_Detail!C233=\"\",\"\",CMS_Deviation_Detail!C233)","v":""},{"$f":"IF(CMS_Deviation_Detail!D233=\"\",\"\",CMS_Deviation_Detail!D233)","v":""},"",{"$f":"+IF(AI211=\"\",\"\",MAX(AN$1:AN210)+1)","v":""},"","","","","","",null,{"$f":"IF(COUNTIF(AZ$2:AZ211,AZ211)=1,AZ211,\"\")","v":""},{"$f":"IF(Limit_Deviation_Detail!B233=\"\",\"\",Limit_Deviation_Detail!B233)","v":""},{"$f":"IF(Limit_Deviation_Detail!C233=\"\",\"\",Limit_Deviation_Detail!C233)","v":""},{"$f":"IF(Limit_Deviation_Detail!E233=\"\",\"\",Limit_Deviation_Detail!E233)","v":""},"",{"$f":"+IF(AV211=\"\",\"\",MAX(BA$1:BA210)+1)","v":""},"","","",""]
[{"$f":"+IF(D212=\"\",\"\",MAX(A$1:A211)+1)","v":""},{"$f":"IF(Affected_Sources!C234=\"\",\"\",Affected_Sources!C234)","v":""},"",{"$f":"IF(COUNTIF(B$2:B212,B212)=1,B212,\"\")","v":""},null,null,null,null,null,null,null,null,null,null,null,null,null,null,null,{"$f":"+IF(Y212=\"\",\"\",MAX(T$1:T211)+1)","v":""},{"$f":"IF(Limit_Deviation_Detail!B234=\"\",\"\",Limit_Deviation_Detail!B234)","v":""},{"$f":"IF(Limit_Deviation_Detail!C234=\"\",\"\",Limit_Deviation_Detail!C234)","v":""},{"$f":"IF(Limit_Deviation_Detail!E234=\"\",\"\",Limit_Deviation_Detail!E234)","v":""},"",{"$f":"IF(COUNTIF(X$2:X212,X212)=1,X212,\"\")","v":""},"","","","","",null,null,null,null,{"$f":"IF(COUNTIF(AM$2:AM212,AM212)=1,AM212,\"\")","v":""},{"$f":"IF(CMS_Deviation_Detail!B234=\"\",\"\",CMS_Deviation_Detail!B234)","v":""},{"$f":"IF(CMS_Deviation_Detail!C234=\"\",\"\",CMS_Deviation_Detail!C234)","v":""},{"$f":"IF(CMS_Deviation_Detail!D234=\"\",\"\",CMS_Deviation_Detail!D234)","v":""},"",{"$f":"+IF(AI212=\"\",\"\",MAX(AN$1:AN211)+1)","v":""},"","","","","","",null,{"$f":"IF(COUNTIF(AZ$2:AZ212,AZ212)=1,AZ212,\"\")","v":""},{"$f":"IF(Limit_Deviation_Detail!B234=\"\",\"\",Limit_Deviation_Detail!B234)","v":""},{"$f":"IF(Limit_Deviation_Detail!C234=\"\",\"\",Limit_Deviation_Detail!C234)","v":""},{"$f":"IF(Limit_Deviation_Detail!E234=\"\",\"\",Limit_Deviation_Detail!E234)","v":""},"",{"$f":"+IF(AV212=\"\",\"\",MAX(BA$1:BA211)+1)","v":""},"","","",""]
[{"$f":"+IF(D213=\"\",\"\",MAX(A$1:A212)+1)","v":""},{"$f":"IF(Affected_Sources!C235=\"\",\"\",Affected_Sources!C235)","v":""},"",{"$f":"IF(COUNTIF(B$2:B213,B213)=1,B213,\"\")","v":""},null,null,null,null,null,null,null,null,null,null,null,null,null,null,null,{"$f":"+IF(Y213=\"\",\"\",MAX(T$1:T212)+1)","v":""},{"$f":"IF(Limit_Deviation_Detail!B235=\"\",\"\",Limit_Deviation_Detail!B235)","v":""},{"$f":"IF(Limit_Deviation_Detail!C235=\"\",\"\",Limit_Deviation_Detail!C235)","v":""},{"$f":"IF(Limit_Deviation_Detail!E235=\"\",\"\",Limit_Deviation_Detail!E235)","v":""},"",{"$f":"IF(COUNTIF(X$2:X213,X213)=1,X213,\"\")","v":""},"","","","","",null,null,null,null,{"$f":"IF(COUNTIF(AM$2:AM213,AM213)=1,AM213,\"\")","v":""},{"$f":"IF(CMS_Deviation_Detail!B235=\"\",\"\",CMS_Deviation_Detail!B235)","v":""},{"$f":"IF(CMS_Deviation_Detail!C235=\"\",\"\",CMS_Deviation_Detail!C235)","v":""},{"$f":"IF(CMS_Deviation_Detail!D235=\"\",\"\",CMS_Deviation_Detail!D235)","v":""},"",{"$f":"+IF(AI213=\"\",\"\",MAX(AN$1:AN212)+1)","v":""},"","","","","","",null,{"$f":"IF(COUNTIF(AZ$2:AZ213,AZ213)=1,AZ213,\"\")","v":""},{"$f":"IF(Limit_Deviation_Detail!B235=\"\",\"\",Limit_Deviation_Detail!B235)","v":""},{"$f":"IF(Limit_Deviation_Detail!C235=\"\",\"\",Limit_Deviation_Detail!C235)","v":""},{"$f":"IF(Limit_Deviation_Detail!E235=\"\",\"\",Limit_Deviation_Detail!E235)","v":""},"",{"$f":"+IF(AV213=\"\",\"\",MAX(BA$1:BA212)+1)","v":""},"","","",""]
[{"$f":"+IF(D214=\"\",\"\",MAX(A$1:A213)+1)","v":""},{"$f":"IF(Affected_Sources!C236=\"\",\"\",Affected_Sources!C236)","v":""},"",{"$f":"IF(COUNTIF(B$2:B214,B214)=1,B214,\"\")","v":""},null,null,null,null,null,null,null,null,null,null,null,null,null,null,null,{"$f":"+IF(Y214=\"\",\"\",MAX(T$1:T213)+1)","v":""},{"$f":"IF(Limit_Deviation_Detail!B236=\"\",\"\",Limit_Deviation_Detail!B236)","v":""},{"$f":"IF(Limit_Deviation_Detail!C236=\"\",\"\",Limit_Deviation_Detail!C236)","v":""},{"$f":"IF(Limit_Deviation_Detail!E236=\"\",\"\",Limit_Deviation_Detail!E236)","v":""},"",{"$f":"IF(COUNTIF(X$2:X214,X214)=1,X214,\"\")","v":""},"","","","","",null,null,null,null,{"$f":"IF(COUNTIF(AM$2:AM214,AM214)=1,AM214,\"\")","v":""},{"$f":"IF(CMS_Deviation_Detail!B236=\"\",\"\",CMS_Deviation_Detail!B236)","v":""},{"$f":"IF(CMS_Deviation_Detail!C236=\"\",\"\",CMS_Deviation_Detail!C236)","v":""},{"$f":"IF(CMS_Deviation_Detail!D236=\"\",\"\",CMS_Deviation_Detail!D236)","v":""},"",{"$f":"+IF(AI214=\"\",\"\",MAX(AN$1:AN213)+1)","v":""},"","","","","","",null,{"$f":"IF(COUNTIF(AZ$2:AZ214,AZ214)=1,AZ214,\"\")","v":""},{"$f":"IF(Limit_Deviation_Detail!B236=\"\",\"\",Limit_Deviation_Detail!B236)","v":""},{"$f":"IF(Limit_Deviation_Detail!C236=\"\",\"\",Limit_Deviation_Detail!C236)","v":""},{"$f":"IF(Limit_Deviation_Detail!E236=\"\",\"\",Limit_Deviation_Detail!E236)","v":""},"",{"$f":"+IF(AV214=\"\",\"\",MAX(BA$1:BA213)+1)","v":""},"","","",""]
[{"$f":"+IF(D215=\"\",\"\",MAX(A$1:A214)+1)","v":""},{"$f":"IF(Affected_Sources!C237=\"\",\"\",Affected_Sources!C237)","v":""},"",{"$f":"IF(COUNTIF(B$2:B215,B215)=1,B215,\"\")","v":""},null,null,null,null,null,null,null,null,null,null,null,null,null,null,null,{"$f":"+IF(Y215=\"\",\"\",MAX(T$1:T214)+1)","v":""},{"$f":"IF(Limit_Deviation_Detail!B237=\"\",\"\",Limit_Deviation_Detail!B237)","v":""},{"$f":"IF(Limit_Deviation_Detail!C237=\"\",\"\",Limit_Deviation_Detail!C237)","v":""},{"$f":"IF(Limit_Deviation_Detail!E237=\"\",\"\",Limit_Deviation_Detail!E237)","v":""},"",{"$f":"IF(COUNTIF(X$2:X215,X215)=1,X215,\"\")","v":""},"","","","","",null,null,null,null,{"$f":"IF(COUNTIF(AM$2:AM215,AM215)=1,AM215,\"\")","v":""},{"$f":"IF(CMS_Deviation_Detail!B237=\"\",\"\",CMS_Deviation_Detail!B237)","v":""},{"$f":"IF(CMS_Deviation_Detail!C237=\"\",\"\",CMS_Deviation_Detail!C237)","v":""},{"$f":"IF(CMS_Deviation_Detail!D237=\"\",\"\",CMS_Deviation_Detail!D237)","v":""},"",{"$f":"+IF(AI215=\"\",\"\",MAX(AN$1:AN214)+1)","v":""},"","","","","","",null,{"$f":"IF(COUNTIF(AZ$2:AZ215,AZ215)=1,AZ215,\"\")","v":""},{"$f":"IF(Limit_Deviation_Detail!B237=\"\",\"\",Limit_Deviation_Detail!B237)","v":""},{"$f":"IF(Limit_Deviation_Detail!C237=\"\",\"\",Limit_Deviation_Detail!C237)","v":""},{"$f":"IF(Limit_Deviation_Detail!E237=\"\",\"\",Limit_Deviation_Detail!E237)","v":""},"",{"$f":"+IF(AV215=\"\",\"\",MAX(BA$1:BA214)+1)","v":""},"","","",""]
[{"$f":"+IF(D216=\"\",\"\",MAX(A$1:A215)+1)","v":""},{"$f":"IF(Affected_Sources!C238=\"\",\"\",Affected_Sources!C238)","v":""},"",{"$f":"IF(COUNTIF(B$2:B216,B216)=1,B216,\"\")","v":""},null,null,null,null,null,null,null,null,null,null,null,null,null,null,null,{"$f":"+IF(Y216=\"\",\"\",MAX(T$1:T215)+1)","v":""},{"$f":"IF(Limit_Deviation_Detail!B238=\"\",\"\",Limit_Deviation_Detail!B238)","v":""},{"$f":"IF(Limit_Deviation_Detail!C238=\"\",\"\",Limit_Deviation_Detail!C238)","v":""},{"$f":"IF(Limit_Deviation_Detail!E238=\"\",\"\",Limit_Deviation_Detail!E238)","v":""},"",{"$f":"IF(COUNTIF(X$2:X216,X216)=1,X216,\"\")","v":""},"","","","","",null,null,null,null,{"$f":"IF(COUNTIF(AM$2:AM216,AM216)=1,AM216,\"\")","v":""},{"$f":"IF(CMS_Deviation_Detail!B238=\"\",\"\",CMS_Deviation_Detail!B238)","v":""},{"$f":"IF(CMS_Deviation_Detail!C238=\"\",\"\",CMS_Deviation_Detail!C238)","v":""},{"$f":"IF(CMS_Deviation_Detail!D238=\"\",\"\",CMS_Deviation_Detail!D238)","v":""},"",{"$f":"+IF(AI216=\"\",\"\",MAX(AN$1:AN215)+1)","v":""},"","","","","","",null,{"$f":"IF(COUNTIF(AZ$2:AZ216,AZ216)=1,AZ216,\"\")","v":""},{"$f":"IF(Limit_Deviation_Detail!B238=\"\",\"\",Limit_Deviation_Detail!B238)","v":""},{"$f":"IF(Limit_Deviation_Detail!C238=\"\",\"\",Limit_Deviation_Detail!C238)","v":""},{"$f":"IF(Limit_Deviation_Detail!E238=\"\",\"\",Limit_Deviation_Detail!E238)","v":""},"",{"$f":"+IF(AV216=\"\",\"\",MAX(BA$1:BA215)+1)","v":""},"","","",""]
[{"$f":"+IF(D217=\"\",\"\",MAX(A$1:A216)+1)","v":""},{"$f":"IF(Affected_Sources!C239=\"\",\"\",Affected_Sources!C239)","v":""},"",{"$f":"IF(COUNTIF(B$2:B217,B217)=1,B217,\"\")","v":""},null,null,null,null,null,null,null,null,null,null,null,null,null,null,null,{"$f":"+IF(Y217=\"\",\"\",MAX(T$1:T216)+1)","v":""},{"$f":"IF(Limit_Deviation_Detail!B239=\"\",\"\",Limit_Deviation_Detail!B239)","v":""},{"$f":"IF(Limit_Deviation_Detail!C239=\"\",\"\",Limit_Deviation_Detail!C239)","v":""},{"$f":"IF(Limit_Deviation_Detail!E239=\"\",\"\",Limit_Deviation_Detail!E239)","v":""},"",{"$f":"IF(COUNTIF(X$2:X217,X217)=1,X217,\"\")","v":""},"","","","","",null,null,null,null,{"$f":"IF(COUNTIF(AM$2:AM217,AM217)=1,AM217,\"\")","v":""},{"$f":"IF(CMS_Deviation_Detail!B239=\"\",\"\",CMS_Deviation_Detail!B239)","v":""},{"$f":"IF(CMS_Deviation_Detail!C239=\"\",\"\",CMS_Deviation_Detail!C239)","v":""},{"$f":"IF(CMS_Deviation_Detail!D239=\"\",\"\",CMS_Deviation_Detail!D239)","v":""},"",{"$f":"+IF(AI217=\"\",\"\",MAX(AN$1:AN216)+1)","v":""},"","","","","","",null,{"$f":"IF(COUNTIF(AZ$2:AZ217,AZ217)=1,AZ217,\"\")","v":""},{"$f":"IF(Limit_Deviation_Detail!B239=\"\",\"\",Limit_Deviation_Detail!B239)","v":""},{"$f":"IF(Limit_Deviation_Detail!C239=\"\",\"\",Limit_Deviation_Detail!C239)","v":""},{"$f":"IF(Limit_Deviation_Detail!E239=\"\",\"\",Limit_Deviation_Detail!E239)","v":""},"",{"$f":"+IF(AV217=\"\",\"\",MAX(BA$1:BA216)+1)","v":""},"","","",""]
[{"$f":"+IF(D218=\"\",\"\",MAX(A$1:A217)+1)","v":""},{"$f":"IF(Affected_Sources!C240=\"\",\"\",Affected_Sources!C240)","v":""},"",{"$f":"IF(COUNTIF(B$2:B218,B218)=1,B218,\"\")","v":""},null,null,null,null,null,null,null,null,null,null,null,null,null,null,null,{"$f":"+IF(Y218=\"\",\"\",MAX(T$1:T217)+1)","v":""},{"$f":"IF(Limit_Deviation_Detail!B240=\"\",\"\",Limit_Deviation_Detail!B240)","v":""},{"$f":"IF(Limit_Deviation_Detail!C240=\"\",\"\",Limit_Deviation_Detail!C240)","v":""},{"$f":"IF(Limit_Deviation_Detail!E240=\"\",\"\",Limit_Deviation_Detail!E240)","v":""},"",{"$f":"IF(COUNTIF(X$2:X218,X218)=1,X218,\"\")","v":""},"","","","","",null,null,null,null,{"$f":"IF(COUNTIF(AM$2:AM218,AM218)=1,AM218,\"\")","v":""},{"$f":"IF(CMS_Deviation_Detail!B240=\"\",\"\",CMS_Deviation_Detail!B240)","v":""},{"$f":"IF(CMS_Deviation_Detail!C240=\"\",\"\",CMS_Deviation_Detail!C240)","v":""},{"$f":"IF(CMS_Deviation_Detail!D240=\"\",\"\",CMS_Deviation_Detail!D240)","v":""},"",{"$f":"+IF(AI218=\"\",\"\",MAX(AN$1:AN217)+1)","v":""},"","","","","","",null,{"$f":"IF(COUNTIF(AZ$2:AZ218,AZ218)=1,AZ218,\"\")","v":""},{"$f":"IF(Limit_Deviation_Detail!B240=\"\",\"\",Limit_Deviation_Detail!B240)","v":""},{"$f":"IF(Limit_Deviation_Detail!C240=\"\",\"\",Limit_Deviation_Detail!C240)","v":""},{"$f":"IF(Limit_Deviation_Detail!E240=\"\",\"\",Limit_Deviation_Detail!E240)","v":""},"",{"$f":"+IF(AV218=\"\",\"\",MAX(BA$1:BA217)+1)","v":""},"","","",""]
[{"$f":"+IF(D219=\"\",\"\",MAX(A$1:A218)+1)","v":""},{"$f":"IF(Affected_Sources!C241=\"\",\"\",Affected_Sources!C241)","v":""},"",{"$f":"IF(COUNTIF(B$2:B219,B219)=1,B219,\"\")","v":""},null,null,null,null,null,null,null,null,null,null,null,null,null,null,null,{"$f":"+IF(Y219=\"\",\"\",MAX(T$1:T218)+1)","v":""},{"$f":"IF(Limit_Deviation_Detail!B241=\"\",\"\",Limit_Deviation_Detail!B241)","v":""},{"$f":"IF(Limit_Deviation_Detail!C241=\"\",\"\",Limit_Deviation_Detail!C241)","v":""},{"$f":"IF(Limit_Deviation_Detail!E241=\"\",\"\",Limit_Deviation_Detail!E241)","v":""},"",{"$f":"IF(COUNTIF(X$2:X219,X219)=1,X219,\"\")","v":""},"","","","","",null,null,null,null,{"$f":"IF(COUNTIF(AM$2:AM219,AM219)=1,AM219,\"\")","v":""},{"$f":"IF(CMS_Deviation_Detail!B241=\"\",\"\",CMS_Deviation_Detail!B241)","v":""},{"$f":"IF(CMS_Deviation_Detail!C241=\"\",\"\",CMS_Deviation_Detail!C241)","v":""},{"$f":"IF(CMS_Deviation_Detail!D241=\"\",\"\",CMS_Deviation_Detail!D241)","v":""},"",{"$f":"+IF(AI219=\"\",\"\",MAX(AN$1:AN218)+1)","v":""},"","","","","","",null,{"$f":"IF(COUNTIF(AZ$2:AZ219,AZ219)=1,AZ219,\"\")","v":""},{"$f":"IF(Limit_Deviation_Detail!B241=\"\",\"\",Limit_Deviation_Detail!B241)","v":""},{"$f":"IF(Limit_Deviation_Detail!C241=\"\",\"\",Limit_Deviation_Detail!C241)","v":""},{"$f":"IF(Limit_Deviation_Detail!E241=\"\",\"\",Limit_Deviation_Detail!E241)","v":""},"",{"$f":"+IF(AV219=\"\",\"\",MAX(BA$1:BA218)+1)","v":""},"","","",""]
[{"$f":"+IF(D220=\"\",\"\",MAX(A$1:A219)+1)","v":""},{"$f":"IF(Affected_Sources!C242=\"\",\"\",Affected_Sources!C242)","v":""},"",{"$f":"IF(COUNTIF(B$2:B220,B220)=1,B220,\"\")","v":""},null,null,null,null,null,null,null,null,null,null,null,null,null,null,null,{"$f":"+IF(Y220=\"\",\"\",MAX(T$1:T219)+1)","v":""},{"$f":"IF(Limit_Deviation_Detail!B242=\"\",\"\",Limit_Deviation_Detail!B242)","v":""},{"$f":"IF(Limit_Deviation_Detail!C242=\"\",\"\",Limit_Deviation_Detail!C242)","v":""},{"$f":"IF(Limit_Deviation_Detail!E242=\"\",\"\",Limit_Deviation_Detail!E242)","v":""},"",{"$f":"IF(COUNTIF(X$2:X220,X220)=1,X220,\"\")","v":""},"","","","","",null,null,null,null,{"$f":"IF(COUNTIF(AM$2:AM220,AM220)=1,AM220,\"\")","v":""},{"$f":"IF(CMS_Deviation_Detail!B242=\"\",\"\",CMS_Deviation_Detail!B242)","v":""},{"$f":"IF(CMS_Deviation_Detail!C242=\"\",\"\",CMS_Deviation_Detail!C242)","v":""},{"$f":"IF(CMS_Deviation_Detail!D242=\"\",\"\",CMS_Deviation_Detail!D242)","v":""},"",{"$f":"+IF(AI220=\"\",\"\",MAX(AN$1:AN219)+1)","v":""},"","","","","","",null,{"$f":"IF(COUNTIF(AZ$2:AZ220,AZ220)=1,AZ220,\"\")","v":""},{"$f":"IF(Limit_Deviation_Detail!B242=\"\",\"\",Limit_Deviation_Detail!B242)","v":""},{"$f":"IF(Limit_Deviation_Detail!C242=\"\",\"\",Limit_Deviation_Detail!C242)","v":""},{"$f":"IF(Limit_Deviation_Detail!E242=\"\",\"\",Limit_Deviation_Detail!E242)","v":""},"",{"$f":"+IF(AV220=\"\",\"\",MAX(BA$1:BA219)+1)","v":""},"","","",""]
[{"$f":"+IF(D221=\"\",\"\",MAX(A$1:A220)+1)","v":""},{"$f":"IF(Affected_Sources!C243=\"\",\"\",Affected_Sources!C243)","v":""},"",{"$f":"IF(COUNTIF(B$2:B221,B221)=1,B221,\"\")","v":""},null,null,null,null,null,null,null,null,null,null,null,null,null,null,null,{"$f":"+IF(Y221=\"\",\"\",MAX(T$1:T220)+1)","v":""},{"$f":"IF(Limit_Deviation_Detail!B243=\"\",\"\",Limit_Deviation_Detail!B243)","v":""},{"$f":"IF(Limit_Deviation_Detail!C243=\"\",\"\",Limit_Deviation_Detail!C243)","v":""},{"$f":"IF(Limit_Deviation_Detail!E243=\"\",\"\",Limit_Deviation_Detail!E243)","v":""},"",{"$f":"IF(COUNTIF(X$2:X221,X221)=1,X221,\"\")","v":""},"","","","","",null,null,null,null,{"$f":"IF(COUNTIF(AM$2:AM221,AM221)=1,AM221,\"\")","v":""},{"$f":"IF(CMS_Deviation_Detail!B243=\"\",\"\",CMS_Deviation_Detail!B243)","v":""},{"$f":"IF(CMS_Deviation_Detail!C243=\"\",\"\",CMS_Deviation_Detail!C243)","v":""},{"$f":"IF(CMS_Deviation_Detail!D243=\"\",\"\",CMS_Deviation_Detail!D243)","v":""},"",{"$f":"+IF(AI221=\"\",\"\",MAX(AN$1:AN220)+1)","v":""},"","","","","","",null,{"$f":"IF(COUNTIF(AZ$2:AZ221,AZ221)=1,AZ221,\"\")","v":""},{"$f":"IF(Limit_Deviation_Detail!B243=\"\",\"\",Limit_Deviation_Detail!B243)","v":""},{"$f":"IF(Limit_Deviation_Detail!C243=\"\",\"\",Limit_Deviation_Detail!C243)","v":""},{"$f":"IF(Limit_Deviation_Detail!E243=\"\",\"\",Limit_Deviation_Detail!E243)","v":""},"",{"$f":"+IF(AV221=\"\",\"\",MAX(BA$1:BA220)+1)","v":""},"","","",""]
[{"$f":"+IF(D222=\"\",\"\",MAX(A$1:A221)+1)","v":""},{"$f":"IF(Affected_Sources!C244=\"\",\"\",Affected_Sources!C244)","v":""},"",{"$f":"IF(COUNTIF(B$2:B222,B222)=1,B222,\"\")","v":""},null,null,null,null,null,null,null,null,null,null,null,null,null,null,null,{"$f":"+IF(Y222=\"\",\"\",MAX(T$1:T221)+1)","v":""},{"$f":"IF(Limit_Deviation_Detail!B244=\"\",\"\",Limit_Deviation_Detail!B244)","v":""},{"$f":"IF(Limit_Deviation_Detail!C244=\"\",\"\",Limit_Deviation_Detail!C244)","v":""},{"$f":"IF(Limit_Deviation_Detail!E244=\"\",\"\",Limit_Deviation_Detail!E244)","v":""},"",{"$f":"IF(COUNTIF(X$2:X222,X222)=1,X222,\"\")","v":""},"","","","","",null,null,null,null,{"$f":"IF(COUNTIF(AM$2:AM222,AM222)=1,AM222,\"\")","v":""},{"$f":"IF(CMS_Deviation_Detail!B244=\"\",\"\",CMS_Deviation_Detail!B244)","v":""},{"$f":"IF(CMS_Deviation_Detail!C244=\"\",\"\",CMS_Deviation_Detail!C244)","v":""},{"$f":"IF(CMS_Deviation_Detail!D244=\"\",\"\",CMS_Deviation_Detail!D244)","v":""},"",{"$f":"+IF(AI222=\"\",\"\",MAX(AN$1:AN221)+1)","v":""},"","","","","","",null,{"$f":"IF(COUNTIF(AZ$2:AZ222,AZ222)=1,AZ222,\"\")","v":""},{"$f":"IF(Limit_Deviation_Detail!B244=\"\",\"\",Limit_Deviation_Detail!B244)","v":""},{"$f":"IF(Limit_Deviation_Detail!C244=\"\",\"\",Limit_Deviation_Detail!C244)","v":""},{"$f":"IF(Limit_Deviation_Detail!E244=\"\",\"\",Limit_Deviation_Detail!E244)","v":""},"",{"$f":"+IF(AV222=\"\",\"\",MAX(BA$1:BA221)+1)","v":""},"","","",""]
[{"$f":"+IF(D223=\"\",\"\",MAX(A$1:A222)+1)","v":""},{"$f":"IF(Affected_Sources!C245=\"\",\"\",Affected_Sources!C245)","v":""},"",{"$f":"IF(COUNTIF(B$2:B223,B223)=1,B223,\"\")","v":""},null,null,null,null,null,null,null,null,null,null,null,null,null,null,null,{"$f":"+IF(Y223=\"\",\"\",MAX(T$1:T222)+1)","v":""},{"$f":"IF(Limit_Deviation_Detail!B245=\"\",\"\",Limit_Deviation_Detail!B245)","v":""},{"$f":"IF(Limit_Deviation_Detail!C245=\"\",\"\",Limit_Deviation_Detail!C245)","v":""},{"$f":"IF(Limit_Deviation_Detail!E245=\"\",\"\",Limit_Deviation_Detail!E245)","v":""},"",{"$f":"IF(COUNTIF(X$2:X223,X223)=1,X223,\"\")","v":""},"","","","","",null,null,null,null,{"$f":"IF(COUNTIF(AM$2:AM223,AM223)=1,AM223,\"\")","v":""},{"$f":"IF(CMS_Deviation_Detail!B245=\"\",\"\",CMS_Deviation_Detail!B245)","v":""},{"$f":"IF(CMS_Deviation_Detail!C245=\"\",\"\",CMS_Deviation_Detail!C245)","v":""},{"$f":"IF(CMS_Deviation_Detail!D245=\"\",\"\",CMS_Deviation_Detail!D245)","v":""},"",{"$f":"+IF(AI223=\"\",\"\",MAX(AN$1:AN222)+1)","v":""},"","","","","","",null,{"$f":"IF(COUNTIF(AZ$2:AZ223,AZ223)=1,AZ223,\"\")","v":""},{"$f":"IF(Limit_Deviation_Detail!B245=\"\",\"\",Limit_Deviation_Detail!B245)","v":""},{"$f":"IF(Limit_Deviation_Detail!C245=\"\",\"\",Limit_Deviation_Detail!C245)","v":""},{"$f":"IF(Limit_Deviation_Detail!E245=\"\",\"\",Limit_Deviation_Detail!E245)","v":""},"",{"$f":"+IF(AV223=\"\",\"\",MAX(BA$1:BA222)+1)","v":""},"","","",""]
[{"$f":"+IF(D224=\"\",\"\",MAX(A$1:A223)+1)","v":""},{"$f":"IF(Affected_Sources!C246=\"\",\"\",Affected_Sources!C246)","v":""},"",{"$f":"IF(COUNTIF(B$2:B224,B224)=1,B224,\"\")","v":""},null,null,null,null,null,null,null,null,null,null,null,null,null,null,null,{"$f":"+IF(Y224=\"\",\"\",MAX(T$1:T223)+1)","v":""},{"$f":"IF(Limit_Deviation_Detail!B246=\"\",\"\",Limit_Deviation_Detail!B246)","v":""},{"$f":"IF(Limit_Deviation_Detail!C246=\"\",\"\",Limit_Deviation_Detail!C246)","v":""},{"$f":"IF(Limit_Deviation_Detail!E246=\"\",\"\",Limit_Deviation_Detail!E246)","v":""},"",{"$f":"IF(COUNTIF(X$2:X224,X224)=1,X224,\"\")","v":""},"","","","","",null,null,null,null,{"$f":"IF(COUNTIF(AM$2:AM224,AM224)=1,AM224,\"\")","v":""},{"$f":"IF(CMS_Deviation_Detail!B246=\"\",\"\",CMS_Deviation_Detail!B246)","v":""},{"$f":"IF(CMS_Deviation_Detail!C246=\"\",\"\",CMS_Deviation_Detail!C246)","v":""},{"$f":"IF(CMS_Deviation_Detail!D246=\"\",\"\",CMS_Deviation_Detail!D246)","v":""},"",{"$f":"+IF(AI224=\"\",\"\",MAX(AN$1:AN223)+1)","v":""},"","","","","","",null,{"$f":"IF(COUNTIF(AZ$2:AZ224,AZ224)=1,AZ224,\"\")","v":""},{"$f":"IF(Limit_Deviation_Detail!B246=\"\",\"\",Limit_Deviation_Detail!B246)","v":""},{"$f":"IF(Limit_Deviation_Detail!C246=\"\",\"\",Limit_Deviation_Detail!C246)","v":""},{"$f":"IF(Limit_Deviation_Detail!E246=\"\",\"\",Limit_Deviation_Detail!E246)","v":""},"",{"$f":"+IF(AV224=\"\",\"\",MAX(BA$1:BA223)+1)","v":""},"","","",""]
[{"$f":"+IF(D225=\"\",\"\",MAX(A$1:A224)+1)","v":""},{"$f":"IF(Affected_Sources!C247=\"\",\"\",Affected_Sources!C247)","v":""},"",{"$f":"IF(COUNTIF(B$2:B225,B225)=1,B225,\"\")","v":""},null,null,null,null,null,null,null,null,null,null,null,null,null,null,null,{"$f":"+IF(Y225=\"\",\"\",MAX(T$1:T224)+1)","v":""},{"$f":"IF(Limit_Deviation_Detail!B247=\"\",\"\",Limit_Deviation_Detail!B247)","v":""},{"$f":"IF(Limit_Deviation_Detail!C247=\"\",\"\",Limit_Deviation_Detail!C247)","v":""},{"$f":"IF(Limit_Deviation_Detail!E247=\"\",\"\",Limit_Deviation_Detail!E247)","v":""},"",{"$f":"IF(COUNTIF(X$2:X225,X225)=1,X225,\"\")","v":""},"","","","","",null,null,null,null,{"$f":"IF(COUNTIF(AM$2:AM225,AM225)=1,AM225,\"\")","v":""},{"$f":"IF(CMS_Deviation_Detail!B247=\"\",\"\",CMS_Deviation_Detail!B247)","v":""},{"$f":"IF(CMS_Deviation_Detail!C247=\"\",\"\",CMS_Deviation_Detail!C247)","v":""},{"$f":"IF(CMS_Deviation_Detail!D247=\"\",\"\",CMS_Deviation_Detail!D247)","v":""},"",{"$f":"+IF(AI225=\"\",\"\",MAX(AN$1:AN224)+1)","v":""},"","","","","","",null,{"$f":"IF(COUNTIF(AZ$2:AZ225,AZ225)=1,AZ225,\"\")","v":""},{"$f":"IF(Limit_Deviation_Detail!B247=\"\",\"\",Limit_Deviation_Detail!B247)","v":""},{"$f":"IF(Limit_Deviation_Detail!C247=\"\",\"\",Limit_Deviation_Detail!C247)","v":""},{"$f":"IF(Limit_Deviation_Detail!E247=\"\",\"\",Limit_Deviation_Detail!E247)","v":""},"",{"$f":"+IF(AV225=\"\",\"\",MAX(BA$1:BA224)+1)","v":""},"","","",""]
[{"$f":"+IF(D226=\"\",\"\",MAX(A$1:A225)+1)","v":""},{"$f":"IF(Affected_Sources!C248=\"\",\"\",Affected_Sources!C248)","v":""},"",{"$f":"IF(COUNTIF(B$2:B226,B226)=1,B226,\"\")","v":""},null,null,null,null,null,null,null,null,null,null,null,null,null,null,null,{"$f":"+IF(Y226=\"\",\"\",MAX(T$1:T225)+1)","v":""},{"$f":"IF(Limit_Deviation_Detail!B248=\"\",\"\",Limit_Deviation_Detail!B248)","v":""},{"$f":"IF(Limit_Deviation_Detail!C248=\"\",\"\",Limit_Deviation_Detail!C248)","v":""},{"$f":"IF(Limit_Deviation_Detail!E248=\"\",\"\",Limit_Deviation_Detail!E248)","v":""},"",{"$f":"IF(COUNTIF(X$2:X226,X226)=1,X226,\"\")","v":""},"","","","","",null,null,null,null,{"$f":"IF(COUNTIF(AM$2:AM226,AM226)=1,AM226,\"\")","v":""},{"$f":"IF(CMS_Deviation_Detail!B248=\"\",\"\",CMS_Deviation_Detail!B248)","v":""},{"$f":"IF(CMS_Deviation_Detail!C248=\"\",\"\",CMS_Deviation_Detail!C248)","v":""},{"$f":"IF(CMS_Deviation_Detail!D248=\"\",\"\",CMS_Deviation_Detail!D248)","v":""},"",{"$f":"+IF(AI226=\"\",\"\",MAX(AN$1:AN225)+1)","v":""},"","","","","","",null,{"$f":"IF(COUNTIF(AZ$2:AZ226,AZ226)=1,AZ226,\"\")","v":""},{"$f":"IF(Limit_Deviation_Detail!B248=\"\",\"\",Limit_Deviation_Detail!B248)","v":""},{"$f":"IF(Limit_Deviation_Detail!C248=\"\",\"\",Limit_Deviation_Detail!C248)","v":""},{"$f":"IF(Limit_Deviation_Detail!E248=\"\",\"\",Limit_Deviation_Detail!E248)","v":""},"",{"$f":"+IF(AV226=\"\",\"\",MAX(BA$1:BA225)+1)","v":""},"","","",""]
[{"$f":"+IF(D227=\"\",\"\",MAX(A$1:A226)+1)","v":""},{"$f":"IF(Affected_Sources!C249=\"\",\"\",Affected_Sources!C249)","v":""},"",{"$f":"IF(COUNTIF(B$2:B227,B227)=1,B227,\"\")","v":""},null,null,null,null,null,null,null,null,null,null,null,null,null,null,null,{"$f":"+IF(Y227=\"\",\"\",MAX(T$1:T226)+1)","v":""},{"$f":"IF(Limit_Deviation_Detail!B249=\"\",\"\",Limit_Deviation_Detail!B249)","v":""},{"$f":"IF(Limit_Deviation_Detail!C249=\"\",\"\",Limit_Deviation_Detail!C249)","v":""},{"$f":"IF(Limit_Deviation_Detail!E249=\"\",\"\",Limit_Deviation_Detail!E249)","v":""},"",{"$f":"IF(COUNTIF(X$2:X227,X227)=1,X227,\"\")","v":""},"","","","","",null,null,null,null,{"$f":"IF(COUNTIF(AM$2:AM227,AM227)=1,AM227,\"\")","v":""},{"$f":"IF(CMS_Deviation_Detail!B249=\"\",\"\",CMS_Deviation_Detail!B249)","v":""},{"$f":"IF(CMS_Deviation_Detail!C249=\"\",\"\",CMS_Deviation_Detail!C249)","v":""},{"$f":"IF(CMS_Deviation_Detail!D249=\"\",\"\",CMS_Deviation_Detail!D249)","v":""},"",{"$f":"+IF(AI227=\"\",\"\",MAX(AN$1:AN226)+1)","v":""},"","","","","","",null,{"$f":"IF(COUNTIF(AZ$2:AZ227,AZ227)=1,AZ227,\"\")","v":""},{"$f":"IF(Limit_Deviation_Detail!B249=\"\",\"\",Limit_Deviation_Detail!B249)","v":""},{"$f":"IF(Limit_Deviation_Detail!C249=\"\",\"\",Limit_Deviation_Detail!C249)","v":""},{"$f":"IF(Limit_Deviation_Detail!E249=\"\",\"\",Limit_Deviation_Detail!E249)","v":""},"",{"$f":"+IF(AV227=\"\",\"\",MAX(BA$1:BA226)+1)","v":""},"","","",""]
[{"$f":"+IF(D228=\"\",\"\",MAX(A$1:A227)+1)","v":""},{"$f":"IF(Affected_Sources!C250=\"\",\"\",Affected_Sources!C250)","v":""},"",{"$f":"IF(COUNTIF(B$2:B228,B228)=1,B228,\"\")","v":""},null,null,null,null,null,null,null,null,null,null,null,null,null,null,null,{"$f":"+IF(Y228=\"\",\"\",MAX(T$1:T227)+1)","v":""},{"$f":"IF(Limit_Deviation_Detail!B250=\"\",\"\",Limit_Deviation_Detail!B250)","v":""},{"$f":"IF(Limit_Deviation_Detail!C250=\"\",\"\",Limit_Deviation_Detail!C250)","v":""},{"$f":"IF(Limit_Deviation_Detail!E250=\"\",\"\",Limit_Deviation_Detail!E250)","v":""},"",{"$f":"IF(COUNTIF(X$2:X228,X228)=1,X228,\"\")","v":""},"","","","","",null,null,null,null,{"$f":"IF(COUNTIF(AM$2:AM228,AM228)=1,AM228,\"\")","v":""},{"$f":"IF(CMS_Deviation_Detail!B250=\"\",\"\",CMS_Deviation_Detail!B250)","v":""},{"$f":"IF(CMS_Deviation_Detail!C250=\"\",\"\",CMS_Deviation_Detail!C250)","v":""},{"$f":"IF(CMS_Deviation_Detail!D250=\"\",\"\",CMS_Deviation_Detail!D250)","v":""},"",{"$f":"+IF(AI228=\"\",\"\",MAX(AN$1:AN227)+1)","v":""},"","","","","","",null,{"$f":"IF(COUNTIF(AZ$2:AZ228,AZ228)=1,AZ228,\"\")","v":""},{"$f":"IF(Limit_Deviation_Detail!B250=\"\",\"\",Limit_Deviation_Detail!B250)","v":""},{"$f":"IF(Limit_Deviation_Detail!C250=\"\",\"\",Limit_Deviation_Detail!C250)","v":""},{"$f":"IF(Limit_Deviation_Detail!E250=\"\",\"\",Limit_Deviation_Detail!E250)","v":""},"",{"$f":"+IF(AV228=\"\",\"\",MAX(BA$1:BA227)+1)","v":""},"","","",""]
[{"$f":"+IF(D229=\"\",\"\",MAX(A$1:A228)+1)","v":""},{"$f":"IF(Affected_Sources!C251=\"\",\"\",Affected_Sources!C251)","v":""},"",{"$f":"IF(COUNTIF(B$2:B229,B229)=1,B229,\"\")","v":""},null,null,null,null,null,null,null,null,null,null,null,null,null,null,null,{"$f":"+IF(Y229=\"\",\"\",MAX(T$1:T228)+1)","v":""},{"$f":"IF(Limit_Deviation_Detail!B251=\"\",\"\",Limit_Deviation_Detail!B251)","v":""},{"$f":"IF(Limit_Deviation_Detail!C251=\"\",\"\",Limit_Deviation_Detail!C251)","v":""},{"$f":"IF(Limit_Deviation_Detail!E251=\"\",\"\",Limit_Deviation_Detail!E251)","v":""},"",{"$f":"IF(COUNTIF(X$2:X229,X229)=1,X229,\"\")","v":""},"","","","","",null,null,null,null,{"$f":"IF(COUNTIF(AM$2:AM229,AM229)=1,AM229,\"\")","v":""},{"$f":"IF(CMS_Deviation_Detail!B251=\"\",\"\",CMS_Deviation_Detail!B251)","v":""},{"$f":"IF(CMS_Deviation_Detail!C251=\"\",\"\",CMS_Deviation_Detail!C251)","v":""},{"$f":"IF(CMS_Deviation_Detail!D251=\"\",\"\",CMS_Deviation_Detail!D251)","v":""},"",{"$f":"+IF(AI229=\"\",\"\",MAX(AN$1:AN228)+1)","v":""},"","","","","","",null,{"$f":"IF(COUNTIF(AZ$2:AZ229,AZ229)=1,AZ229,\"\")","v":""},{"$f":"IF(Limit_Deviation_Detail!B251=\"\",\"\",Limit_Deviation_Detail!B251)","v":""},{"$f":"IF(Limit_Deviation_Detail!C251=\"\",\"\",Limit_Deviation_Detail!C251)","v":""},{"$f":"IF(Limit_Deviation_Detail!E251=\"\",\"\",Limit_Deviation_Detail!E251)","v":""},"",{"$f":"+IF(AV229=\"\",\"\",MAX(BA$1:BA228)+1)","v":""},"","","",""]
[{"$f":"+IF(D230=\"\",\"\",MAX(A$1:A229)+1)","v":""},{"$f":"IF(Affected_Sources!C252=\"\",\"\",Affected_Sources!C252)","v":""},"",{"$f":"IF(COUNTIF(B$2:B230,B230)=1,B230,\"\")","v":""},null,null,null,null,null,null,null,null,null,null,null,null,null,null,null,{"$f":"+IF(Y230=\"\",\"\",MAX(T$1:T229)+1)","v":""},{"$f":"IF(Limit_Deviation_Detail!B252=\"\",\"\",Limit_Deviation_Detail!B252)","v":""},{"$f":"IF(Limit_Deviation_Detail!C252=\"\",\"\",Limit_Deviation_Detail!C252)","v":""},{"$f":"IF(Limit_Deviation_Detail!E252=\"\",\"\",Limit_Deviation_Detail!E252)","v":""},"",{"$f":"IF(COUNTIF(X$2:X230,X230)=1,X230,\"\")","v":""},"","","","","",null,null,null,null,{"$f":"IF(COUNTIF(AM$2:AM230,AM230)=1,AM230,\"\")","v":""},{"$f":"IF(CMS_Deviation_Detail!B252=\"\",\"\",CMS_Deviation_Detail!B252)","v":""},{"$f":"IF(CMS_Deviation_Detail!C252=\"\",\"\",CMS_Deviation_Detail!C252)","v":""},{"$f":"IF(CMS_Deviation_Detail!D252=\"\",\"\",CMS_Deviation_Detail!D252)","v":""},"",{"$f":"+IF(AI230=\"\",\"\",MAX(AN$1:AN229)+1)","v":""},"","","","","","",null,{"$f":"IF(COUNTIF(AZ$2:AZ230,AZ230)=1,AZ230,\"\")","v":""},{"$f":"IF(Limit_Deviation_Detail!B252=\"\",\"\",Limit_Deviation_Detail!B252)","v":""},{"$f":"IF(Limit_Deviation_Detail!C252=\"\",\"\",Limit_Deviation_Detail!C252)","v":""},{"$f":"IF(Limit_Deviation_Detail!E252=\"\",\"\",Limit_Deviation_Detail!E252)","v":""},"",{"$f":"+IF(AV230=\"\",\"\",MAX(BA$1:BA229)+1)","v":""},"","","",""]
[{"$f":"+IF(D231=\"\",\"\",MAX(A$1:A230)+1)","v":""},{"$f":"IF(Affected_Sources!C253=\"\",\"\",Affected_Sources!C253)","v":""},"",{"$f":"IF(COUNTIF(B$2:B231,B231)=1,B231,\"\")","v":""},null,null,null,null,null,null,null,null,null,null,null,null,null,null,null,{"$f":"+IF(Y231=\"\",\"\",MAX(T$1:T230)+1)","v":""},{"$f":"IF(Limit_Deviation_Detail!B253=\"\",\"\",Limit_Deviation_Detail!B253)","v":""},{"$f":"IF(Limit_Deviation_Detail!C253=\"\",\"\",Limit_Deviation_Detail!C253)","v":""},{"$f":"IF(Limit_Deviation_Detail!E253=\"\",\"\",Limit_Deviation_Detail!E253)","v":""},"",{"$f":"IF(COUNTIF(X$2:X231,X231)=1,X231,\"\")","v":""},"","","","","",null,null,null,null,{"$f":"IF(COUNTIF(AM$2:AM231,AM231)=1,AM231,\"\")","v":""},{"$f":"IF(CMS_Deviation_Detail!B253=\"\",\"\",CMS_Deviation_Detail!B253)","v":""},{"$f":"IF(CMS_Deviation_Detail!C253=\"\",\"\",CMS_Deviation_Detail!C253)","v":""},{"$f":"IF(CMS_Deviation_Detail!D253=\"\",\"\",CMS_Deviation_Detail!D253)","v":""},"",{"$f":"+IF(AI231=\"\",\"\",MAX(AN$1:AN230)+1)","v":""},"","","","","","",null,{"$f":"IF(COUNTIF(AZ$2:AZ231,AZ231)=1,AZ231,\"\")","v":""},{"$f":"IF(Limit_Deviation_Detail!B253=\"\",\"\",Limit_Deviation_Detail!B253)","v":""},{"$f":"IF(Limit_Deviation_Detail!C253=\"\",\"\",Limit_Deviation_Detail!C253)","v":""},{"$f":"IF(Limit_Deviation_Detail!E253=\"\",\"\",Limit_Deviation_Detail!E253)","v":""},"",{"$f":"+IF(AV231=\"\",\"\",MAX(BA$1:BA230)+1)","v":""},"","","",""]
[{"$f":"+IF(D232=\"\",\"\",MAX(A$1:A231)+1)","v":""},{"$f":"IF(Affected_Sources!C254=\"\",\"\",Affected_Sources!C254)","v":""},"",{"$f":"IF(COUNTIF(B$2:B232,B232)=1,B232,\"\")","v":""},null,null,null,null,null,null,null,null,null,null,null,null,null,null,null,{"$f":"+IF(Y232=\"\",\"\",MAX(T$1:T231)+1)","v":""},{"$f":"IF(Limit_Deviation_Detail!B254=\"\",\"\",Limit_Deviation_Detail!B254)","v":""},{"$f":"IF(Limit_Deviation_Detail!C254=\"\",\"\",Limit_Deviation_Detail!C254)","v":""},{"$f":"IF(Limit_Deviation_Detail!E254=\"\",\"\",Limit_Deviation_Detail!E254)","v":""},"",{"$f":"IF(COUNTIF(X$2:X232,X232)=1,X232,\"\")","v":""},"","","","","",null,null,null,null,{"$f":"IF(COUNTIF(AM$2:AM232,AM232)=1,AM232,\"\")","v":""},{"$f":"IF(CMS_Deviation_Detail!B254=\"\",\"\",CMS_Deviation_Detail!B254)","v":""},{"$f":"IF(CMS_Deviation_Detail!C254=\"\",\"\",CMS_Deviation_Detail!C254)","v":""},{"$f":"IF(CMS_Deviation_Detail!D254=\"\",\"\",CMS_Deviation_Detail!D254)","v":""},"",{"$f":"+IF(AI232=\"\",\"\",MAX(AN$1:AN231)+1)","v":""},"","","","","","",null,{"$f":"IF(COUNTIF(AZ$2:AZ232,AZ232)=1,AZ232,\"\")","v":""},{"$f":"IF(Limit_Deviation_Detail!B254=\"\",\"\",Limit_Deviation_Detail!B254)","v":""},{"$f":"IF(Limit_Deviation_Detail!C254=\"\",\"\",Limit_Deviation_Detail!C254)","v":""},{"$f":"IF(Limit_Deviation_Detail!E254=\"\",\"\",Limit_Deviation_Detail!E254)","v":""},"",{"$f":"+IF(AV232=\"\",\"\",MAX(BA$1:BA231)+1)","v":""},"","","",""]
[{"$f":"+IF(D233=\"\",\"\",MAX(A$1:A232)+1)","v":""},{"$f":"IF(Affected_Sources!C255=\"\",\"\",Affected_Sources!C255)","v":""},"",{"$f":"IF(COUNTIF(B$2:B233,B233)=1,B233,\"\")","v":""},null,null,null,null,null,null,null,null,null,null,null,null,null,null,null,{"$f":"+IF(Y233=\"\",\"\",MAX(T$1:T232)+1)","v":""},{"$f":"IF(Limit_Deviation_Detail!B255=\"\",\"\",Limit_Deviation_Detail!B255)","v":""},{"$f":"IF(Limit_Deviation_Detail!C255=\"\",\"\",Limit_Deviation_Detail!C255)","v":""},{"$f":"IF(Limit_Deviation_Detail!E255=\"\",\"\",Limit_Deviation_Detail!E255)","v":""},"",{"$f":"IF(COUNTIF(X$2:X233,X233)=1,X233,\"\")","v":""},"","","","","",null,null,null,null,{"$f":"IF(COUNTIF(AM$2:AM233,AM233)=1,AM233,\"\")","v":""},{"$f":"IF(CMS_Deviation_Detail!B255=\"\",\"\",CMS_Deviation_Detail!B255)","v":""},{"$f":"IF(CMS_Deviation_Detail!C255=\"\",\"\",CMS_Deviation_Detail!C255)","v":""},{"$f":"IF(CMS_Deviation_Detail!D255=\"\",\"\",CMS_Deviation_Detail!D255)","v":""},"",{"$f":"+IF(AI233=\"\",\"\",MAX(AN$1:AN232)+1)","v":""},"","","","","","",null,{"$f":"IF(COUNTIF(AZ$2:AZ233,AZ233)=1,AZ233,\"\")","v":""},{"$f":"IF(Limit_Deviation_Detail!B255=\"\",\"\",Limit_Deviation_Detail!B255)","v":""},{"$f":"IF(Limit_Deviation_Detail!C255=\"\",\"\",Limit_Deviation_Detail!C255)","v":""},{"$f":"IF(Limit_Deviation_Detail!E255=\"\",\"\",Limit_Deviation_Detail!E255)","v":""},"",{"$f":"+IF(AV233=\"\",\"\",MAX(BA$1:BA232)+1)","v":""},"","","",""]
[{"$f":"+IF(D234=\"\",\"\",MAX(A$1:A233)+1)","v":""},{"$f":"IF(Affected_Sources!C256=\"\",\"\",Affected_Sources!C256)","v":""},"",{"$f":"IF(COUNTIF(B$2:B234,B234)=1,B234,\"\")","v":""},null,null,null,null,null,null,null,null,null,null,null,null,null,null,null,{"$f":"+IF(Y234=\"\",\"\",MAX(T$1:T233)+1)","v":""},{"$f":"IF(Limit_Deviation_Detail!B256=\"\",\"\",Limit_Deviation_Detail!B256)","v":""},{"$f":"IF(Limit_Deviation_Detail!C256=\"\",\"\",Limit_Deviation_Detail!C256)","v":""},{"$f":"IF(Limit_Deviation_Detail!E256=\"\",\"\",Limit_Deviation_Detail!E256)","v":""},"",{"$f":"IF(COUNTIF(X$2:X234,X234)=1,X234,\"\")","v":""},"","","","","",null,null,null,null,{"$f":"IF(COUNTIF(AM$2:AM234,AM234)=1,AM234,\"\")","v":""},{"$f":"IF(CMS_Deviation_Detail!B256=\"\",\"\",CMS_Deviation_Detail!B256)","v":""},{"$f":"IF(CMS_Deviation_Detail!C256=\"\",\"\",CMS_Deviation_Detail!C256)","v":""},{"$f":"IF(CMS_Deviation_Detail!D256=\"\",\"\",CMS_Deviation_Detail!D256)","v":""},"",{"$f":"+IF(AI234=\"\",\"\",MAX(AN$1:AN233)+1)","v":""},"","","","","","",null,{"$f":"IF(COUNTIF(AZ$2:AZ234,AZ234)=1,AZ234,\"\")","v":""},{"$f":"IF(Limit_Deviation_Detail!B256=\"\",\"\",Limit_Deviation_Detail!B256)","v":""},{"$f":"IF(Limit_Deviation_Detail!C256=\"\",\"\",Limit_Deviation_Detail!C256)","v":""},{"$f":"IF(Limit_Deviation_Detail!E256=\"\",\"\",Limit_Deviation_Detail!E256)","v":""},"",{"$f":"+IF(AV234=\"\",\"\",MAX(BA$1:BA233)+1)","v":""},"","","",""]
[{"$f":"+IF(D235=\"\",\"\",MAX(A$1:A234)+1)","v":""},{"$f":"IF(Affected_Sources!C257=\"\",\"\",Affected_Sources!C257)","v":""},"",{"$f":"IF(COUNTIF(B$2:B235,B235)=1,B235,\"\")","v":""},null,null,null,null,null,null,null,null,null,null,null,null,null,null,null,{"$f":"+IF(Y235=\"\",\"\",MAX(T$1:T234)+1)","v":""},{"$f":"IF(Limit_Deviation_Detail!B257=\"\",\"\",Limit_Deviation_Detail!B257)","v":""},{"$f":"IF(Limit_Deviation_Detail!C257=\"\",\"\",Limit_Deviation_Detail!C257)","v":""},{"$f":"IF(Limit_Deviation_Detail!E257=\"\",\"\",Limit_Deviation_Detail!E257)","v":""},"",{"$f":"IF(COUNTIF(X$2:X235,X235)=1,X235,\"\")","v":""},"","","","","",null,null,null,null,{"$f":"IF(COUNTIF(AM$2:AM235,AM235)=1,AM235,\"\")","v":""},{"$f":"IF(CMS_Deviation_Detail!B257=\"\",\"\",CMS_Deviation_Detail!B257)","v":""},{"$f":"IF(CMS_Deviation_Detail!C257=\"\",\"\",CMS_Deviation_Detail!C257)","v":""},{"$f":"IF(CMS_Deviation_Detail!D257=\"\",\"\",CMS_Deviation_Detail!D257)","v":""},"",{"$f":"+IF(AI235=\"\",\"\",MAX(AN$1:AN234)+1)","v":""},"","","","","","",null,{"$f":"IF(COUNTIF(AZ$2:AZ235,AZ235)=1,AZ235,\"\")","v":""},{"$f":"IF(Limit_Deviation_Detail!B257=\"\",\"\",Limit_Deviation_Detail!B257)","v":""},{"$f":"IF(Limit_Deviation_Detail!C257=\"\",\"\",Limit_Deviation_Detail!C257)","v":""},{"$f":"IF(Limit_Deviation_Detail!E257=\"\",\"\",Limit_Deviation_Detail!E257)","v":""},"",{"$f":"+IF(AV235=\"\",\"\",MAX(BA$1:BA234)+1)","v":""},"","","",""]
[{"$f":"+IF(D236=\"\",\"\",MAX(A$1:A235)+1)","v":""},{"$f":"IF(Affected_Sources!C258=\"\",\"\",Affected_Sources!C258)","v":""},"",{"$f":"IF(COUNTIF(B$2:B236,B236)=1,B236,\"\")","v":""},null,null,null,null,null,null,null,null,null,null,null,null,null,null,null,{"$f":"+IF(Y236=\"\",\"\",MAX(T$1:T235)+1)","v":""},{"$f":"IF(Limit_Deviation_Detail!B258=\"\",\"\",Limit_Deviation_Detail!B258)","v":""},{"$f":"IF(Limit_Deviation_Detail!C258=\"\",\"\",Limit_Deviation_Detail!C258)","v":""},{"$f":"IF(Limit_Deviation_Detail!E258=\"\",\"\",Limit_Deviation_Detail!E258)","v":""},"",{"$f":"IF(COUNTIF(X$2:X236,X236)=1,X236,\"\")","v":""},"","","","","",null,null,null,null,{"$f":"IF(COUNTIF(AM$2:AM236,AM236)=1,AM236,\"\")","v":""},{"$f":"IF(CMS_Deviation_Detail!B258=\"\",\"\",CMS_Deviation_Detail!B258)","v":""},{"$f":"IF(CMS_Deviation_Detail!C258=\"\",\"\",CMS_Deviation_Detail!C258)","v":""},{"$f":"IF(CMS_Deviation_Detail!D258=\"\",\"\",CMS_Deviation_Detail!D258)","v":""},"",{"$f":"+IF(AI236=\"\",\"\",MAX(AN$1:AN235)+1)","v":""},"","","","","","",null,{"$f":"IF(COUNTIF(AZ$2:AZ236,AZ236)=1,AZ236,\"\")","v":""},{"$f":"IF(Limit_Deviation_Detail!B258=\"\",\"\",Limit_Deviation_Detail!B258)","v":""},{"$f":"IF(Limit_Deviation_Detail!C258=\"\",\"\",Limit_Deviation_Detail!C258)","v":""},{"$f":"IF(Limit_Deviation_Detail!E258=\"\",\"\",Limit_Deviation_Detail!E258)","v":""},"",{"$f":"+IF(AV236=\"\",\"\",MAX(BA$1:BA235)+1)","v":""},"","","",""]
[{"$f":"+IF(D237=\"\",\"\",MAX(A$1:A236)+1)","v":""},{"$f":"IF(Affected_Sources!C259=\"\",\"\",Affected_Sources!C259)","v":""},"",{"$f":"IF(COUNTIF(B$2:B237,B237)=1,B237,\"\")","v":""},null,null,null,null,null,null,null,null,null,null,null,null,null,null,null,{"$f":"+IF(Y237=\"\",\"\",MAX(T$1:T236)+1)","v":""},{"$f":"IF(Limit_Deviation_Detail!B259=\"\",\"\",Limit_Deviation_Detail!B259)","v":""},{"$f":"IF(Limit_Deviation_Detail!C259=\"\",\"\",Limit_Deviation_Detail!C259)","v":""},{"$f":"IF(Limit_Deviation_Detail!E259=\"\",\"\",Limit_Deviation_Detail!E259)","v":""},"",{"$f":"IF(COUNTIF(X$2:X237,X237)=1,X237,\"\")","v":""},"","","","","",null,null,null,null,{"$f":"IF(COUNTIF(AM$2:AM237,AM237)=1,AM237,\"\")","v":""},{"$f":"IF(CMS_Deviation_Detail!B259=\"\",\"\",CMS_Deviation_Detail!B259)","v":""},{"$f":"IF(CMS_Deviation_Detail!C259=\"\",\"\",CMS_Deviation_Detail!C259)","v":""},{"$f":"IF(CMS_Deviation_Detail!D259=\"\",\"\",CMS_Deviation_Detail!D259)","v":""},"",{"$f":"+IF(AI237=\"\",\"\",MAX(AN$1:AN236)+1)","v":""},"","","","","","",null,{"$f":"IF(COUNTIF(AZ$2:AZ237,AZ237)=1,AZ237,\"\")","v":""},{"$f":"IF(Limit_Deviation_Detail!B259=\"\",\"\",Limit_Deviation_Detail!B259)","v":""},{"$f":"IF(Limit_Deviation_Detail!C259=\"\",\"\",Limit_Deviation_Detail!C259)","v":""},{"$f":"IF(Limit_Deviation_Detail!E259=\"\",\"\",Limit_Deviation_Detail!E259)","v":""},"",{"$f":"+IF(AV237=\"\",\"\",MAX(BA$1:BA236)+1)","v":""},"","","",""]
[{"$f":"+IF(D238=\"\",\"\",MAX(A$1:A237)+1)","v":""},{"$f":"IF(Affected_Sources!C260=\"\",\"\",Affected_Sources!C260)","v":""},"",{"$f":"IF(COUNTIF(B$2:B238,B238)=1,B238,\"\")","v":""},null,null,null,null,null,null,null,null,null,null,null,null,null,null,null,{"$f":"+IF(Y238=\"\",\"\",MAX(T$1:T237)+1)","v":""},{"$f":"IF(Limit_Deviation_Detail!B260=\"\",\"\",Limit_Deviation_Detail!B260)","v":""},{"$f":"IF(Limit_Deviation_Detail!C260=\"\",\"\",Limit_Deviation_Detail!C260)","v":""},{"$f":"IF(Limit_Deviation_Detail!E260=\"\",\"\",Limit_Deviation_Detail!E260)","v":""},"",{"$f":"IF(COUNTIF(X$2:X238,X238)=1,X238,\"\")","v":""},"","","","","",null,null,null,null,{"$f":"IF(COUNTIF(AM$2:AM238,AM238)=1,AM238,\"\")","v":""},{"$f":"IF(CMS_Deviation_Detail!B260=\"\",\"\",CMS_Deviation_Detail!B260)","v":""},{"$f":"IF(CMS_Deviation_Detail!C260=\"\",\"\",CMS_Deviation_Detail!C260)","v":""},{"$f":"IF(CMS_Deviation_Detail!D260=\"\",\"\",CMS_Deviation_Detail!D260)","v":""},"",{"$f":"+IF(AI238=\"\",\"\",MAX(AN$1:AN237)+1)","v":""},"","","","","","",null,{"$f":"IF(COUNTIF(AZ$2:AZ238,AZ238)=1,AZ238,\"\")","v":""},{"$f":"IF(Limit_Deviation_Detail!B260=\"\",\"\",Limit_Deviation_Detail!B260)","v":""},{"$f":"IF(Limit_Deviation_Detail!C260=\"\",\"\",Limit_Deviation_Detail!C260)","v":""},{"$f":"IF(Limit_Deviation_Detail!E260=\"\",\"\",Limit_Deviation_Detail!E260)","v":""},"",{"$f":"+IF(AV238=\"\",\"\",MAX(BA$1:BA237)+1)","v":""},"","","",""]
[{"$f":"+IF(D239=\"\",\"\",MAX(A$1:A238)+1)","v":""},{"$f":"IF(Affected_Sources!C261=\"\",\"\",Affected_Sources!C261)","v":""},"",{"$f":"IF(COUNTIF(B$2:B239,B239)=1,B239,\"\")","v":""},null,null,null,null,null,null,null,null,null,null,null,null,null,null,null,{"$f":"+IF(Y239=\"\",\"\",MAX(T$1:T238)+1)","v":""},{"$f":"IF(Limit_Deviation_Detail!B261=\"\",\"\",Limit_Deviation_Detail!B261)","v":""},{"$f":"IF(Limit_Deviation_Detail!C261=\"\",\"\",Limit_Deviation_Detail!C261)","v":""},{"$f":"IF(Limit_Deviation_Detail!E261=\"\",\"\",Limit_Deviation_Detail!E261)","v":""},"",{"$f":"IF(COUNTIF(X$2:X239,X239)=1,X239,\"\")","v":""},"","","","","",null,null,null,null,{"$f":"IF(COUNTIF(AM$2:AM239,AM239)=1,AM239,\"\")","v":""},{"$f":"IF(CMS_Deviation_Detail!B261=\"\",\"\",CMS_Deviation_Detail!B261)","v":""},{"$f":"IF(CMS_Deviation_Detail!C261=\"\",\"\",CMS_Deviation_Detail!C261)","v":""},{"$f":"IF(CMS_Deviation_Detail!D261=\"\",\"\",CMS_Deviation_Detail!D261)","v":""},"",{"$f":"+IF(AI239=\"\",\"\",MAX(AN$1:AN238)+1)","v":""},"","","","","","",null,{"$f":"IF(COUNTIF(AZ$2:AZ239,AZ239)=1,AZ239,\"\")","v":""},{"$f":"IF(Limit_Deviation_Detail!B261=\"\",\"\",Limit_Deviation_Detail!B261)","v":""},{"$f":"IF(Limit_Deviation_Detail!C261=\"\",\"\",Limit_Deviation_Detail!C261)","v":""},{"$f":"IF(Limit_Deviation_Detail!E261=\"\",\"\",Limit_Deviation_Detail!E261)","v":""},"",{"$f":"+IF(AV239=\"\",\"\",MAX(BA$1:BA238)+1)","v":""},"","","",""]
[{"$f":"+IF(D240=\"\",\"\",MAX(A$1:A239)+1)","v":""},{"$f":"IF(Affected_Sources!C262=\"\",\"\",Affected_Sources!C262)","v":""},"",{"$f":"IF(COUNTIF(B$2:B240,B240)=1,B240,\"\")","v":""},null,null,null,null,null,null,null,null,null,null,null,null,null,null,null,{"$f":"+IF(Y240=\"\",\"\",MAX(T$1:T239)+1)","v":""},{"$f":"IF(Limit_Deviation_Detail!B262=\"\",\"\",Limit_Deviation_Detail!B262)","v":""},{"$f":"IF(Limit_Deviation_Detail!C262=\"\",\"\",Limit_Deviation_Detail!C262)","v":""},{"$f":"IF(Limit_Deviation_Detail!E262=\"\",\"\",Limit_Deviation_Detail!E262)","v":""},"",{"$f":"IF(COUNTIF(X$2:X240,X240)=1,X240,\"\")","v":""},"","","","","",null,null,null,null,{"$f":"IF(COUNTIF(AM$2:AM240,AM240)=1,AM240,\"\")","v":""},{"$f":"IF(CMS_Deviation_Detail!B262=\"\",\"\",CMS_Deviation_Detail!B262)","v":""},{"$f":"IF(CMS_Deviation_Detail!C262=\"\",\"\",CMS_Deviation_Detail!C262)","v":""},{"$f":"IF(CMS_Deviation_Detail!D262=\"\",\"\",CMS_Deviation_Detail!D262)","v":""},"",{"$f":"+IF(AI240=\"\",\"\",MAX(AN$1:AN239)+1)","v":""},"","","","","","",null,{"$f":"IF(COUNTIF(AZ$2:AZ240,AZ240)=1,AZ240,\"\")","v":""},{"$f":"IF(Limit_Deviation_Detail!B262=\"\",\"\",Limit_Deviation_Detail!B262)","v":""},{"$f":"IF(Limit_Deviation_Detail!C262=\"\",\"\",Limit_Deviation_Detail!C262)","v":""},{"$f":"IF(Limit_Deviation_Detail!E262=\"\",\"\",Limit_Deviation_Detail!E262)","v":""},"",{"$f":"+IF(AV240=\"\",\"\",MAX(BA$1:BA239)+1)","v":""},"","","",""]
[{"$f":"+IF(D241=\"\",\"\",MAX(A$1:A240)+1)","v":""},{"$f":"IF(Affected_Sources!C263=\"\",\"\",Affected_Sources!C263)","v":""},"",{"$f":"IF(COUNTIF(B$2:B241,B241)=1,B241,\"\")","v":""},null,null,null,null,null,null,null,null,null,null,null,null,null,null,null,{"$f":"+IF(Y241=\"\",\"\",MAX(T$1:T240)+1)","v":""},{"$f":"IF(Limit_Deviation_Detail!B263=\"\",\"\",Limit_Deviation_Detail!B263)","v":""},{"$f":"IF(Limit_Deviation_Detail!C263=\"\",\"\",Limit_Deviation_Detail!C263)","v":""},{"$f":"IF(Limit_Deviation_Detail!E263=\"\",\"\",Limit_Deviation_Detail!E263)","v":""},"",{"$f":"IF(COUNTIF(X$2:X241,X241)=1,X241,\"\")","v":""},"","","","","",null,null,null,null,{"$f":"IF(COUNTIF(AM$2:AM241,AM241)=1,AM241,\"\")","v":""},{"$f":"IF(CMS_Deviation_Detail!B263=\"\",\"\",CMS_Deviation_Detail!B263)","v":""},{"$f":"IF(CMS_Deviation_Detail!C263=\"\",\"\",CMS_Deviation_Detail!C263)","v":""},{"$f":"IF(CMS_Deviation_Detail!D263=\"\",\"\",CMS_Deviation_Detail!D263)","v":""},"",{"$f":"+IF(AI241=\"\",\"\",MAX(AN$1:AN240)+1)","v":""},"","","","","","",null,{"$f":"IF(COUNTIF(AZ$2:AZ241,AZ241)=1,AZ241,\"\")","v":""},{"$f":"IF(Limit_Deviation_Detail!B263=\"\",\"\",Limit_Deviation_Detail!B263)","v":""},{"$f":"IF(Limit_Deviation_Detail!C263=\"\",\"\",Limit_Deviation_Detail!C263)","v":""},{"$f":"IF(Limit_Deviation_Detail!E263=\"\",\"\",Limit_Deviation_Detail!E263)","v":""},"",{"$f":"+IF(AV241=\"\",\"\",MAX(BA$1:BA240)+1)","v":""},"","","",""]
[{"$f":"+IF(D242=\"\",\"\",MAX(A$1:A241)+1)","v":""},{"$f":"IF(Affected_Sources!C264=\"\",\"\",Affected_Sources!C264)","v":""},"",{"$f":"IF(COUNTIF(B$2:B242,B242)=1,B242,\"\")","v":""},null,null,null,null,null,null,null,null,null,null,null,null,null,null,null,{"$f":"+IF(Y242=\"\",\"\",MAX(T$1:T241)+1)","v":""},{"$f":"IF(Limit_Deviation_Detail!B264=\"\",\"\",Limit_Deviation_Detail!B264)","v":""},{"$f":"IF(Limit_Deviation_Detail!C264=\"\",\"\",Limit_Deviation_Detail!C264)","v":""},{"$f":"IF(Limit_Deviation_Detail!E264=\"\",\"\",Limit_Deviation_Detail!E264)","v":""},"",{"$f":"IF(COUNTIF(X$2:X242,X242)=1,X242,\"\")","v":""},"","","","","",null,null,null,null,{"$f":"IF(COUNTIF(AM$2:AM242,AM242)=1,AM242,\"\")","v":""},{"$f":"IF(CMS_Deviation_Detail!B264=\"\",\"\",CMS_Deviation_Detail!B264)","v":""},{"$f":"IF(CMS_Deviation_Detail!C264=\"\",\"\",CMS_Deviation_Detail!C264)","v":""},{"$f":"IF(CMS_Deviation_Detail!D264=\"\",\"\",CMS_Deviation_Detail!D264)","v":""},"",{"$f":"+IF(AI242=\"\",\"\",MAX(AN$1:AN241)+1)","v":""},"","","","","","",null,{"$f":"IF(COUNTIF(AZ$2:AZ242,AZ242)=1,AZ242,\"\")","v":""},{"$f":"IF(Limit_Deviation_Detail!B264=\"\",\"\",Limit_Deviation_Detail!B264)","v":""},{"$f":"IF(Limit_Deviation_Detail!C264=\"\",\"\",Limit_Deviation_Detail!C264)","v":""},{"$f":"IF(Limit_Deviation_Detail!E264=\"\",\"\",Limit_Deviation_Detail!E264)","v":""},"",{"$f":"+IF(AV242=\"\",\"\",MAX(BA$1:BA241)+1)","v":""},"","","",""]
[{"$f":"+IF(D243=\"\",\"\",MAX(A$1:A242)+1)","v":""},{"$f":"IF(Affected_Sources!C265=\"\",\"\",Affected_Sources!C265)","v":""},"",{"$f":"IF(COUNTIF(B$2:B243,B243)=1,B243,\"\")","v":""},null,null,null,null,null,null,null,null,null,null,null,null,null,null,null,{"$f":"+IF(Y243=\"\",\"\",MAX(T$1:T242)+1)","v":""},{"$f":"IF(Limit_Deviation_Detail!B265=\"\",\"\",Limit_Deviation_Detail!B265)","v":""},{"$f":"IF(Limit_Deviation_Detail!C265=\"\",\"\",Limit_Deviation_Detail!C265)","v":""},{"$f":"IF(Limit_Deviation_Detail!E265=\"\",\"\",Limit_Deviation_Detail!E265)","v":""},"",{"$f":"IF(COUNTIF(X$2:X243,X243)=1,X243,\"\")","v":""},"","","","","",null,null,null,null,{"$f":"IF(COUNTIF(AM$2:AM243,AM243)=1,AM243,\"\")","v":""},{"$f":"IF(CMS_Deviation_Detail!B265=\"\",\"\",CMS_Deviation_Detail!B265)","v":""},{"$f":"IF(CMS_Deviation_Detail!C265=\"\",\"\",CMS_Deviation_Detail!C265)","v":""},{"$f":"IF(CMS_Deviation_Detail!D265=\"\",\"\",CMS_Deviation_Detail!D265)","v":""},"",{"$f":"+IF(AI243=\"\",\"\",MAX(AN$1:AN242)+1)","v":""},"","","","","","",null,{"$f":"IF(COUNTIF(AZ$2:AZ243,AZ243)=1,AZ243,\"\")","v":""},{"$f":"IF(Limit_Deviation_Detail!B265=\"\",\"\",Limit_Deviation_Detail!B265)","v":""},{"$f":"IF(Limit_Deviation_Detail!C265=\"\",\"\",Limit_Deviation_Detail!C265)","v":""},{"$f":"IF(Limit_Deviation_Detail!E265=\"\",\"\",Limit_Deviation_Detail!E265)","v":""},"",{"$f":"+IF(AV243=\"\",\"\",MAX(BA$1:BA242)+1)","v":""},"","","",""]
[{"$f":"+IF(D244=\"\",\"\",MAX(A$1:A243)+1)","v":""},{"$f":"IF(Affected_Sources!C266=\"\",\"\",Affected_Sources!C266)","v":""},"",{"$f":"IF(COUNTIF(B$2:B244,B244)=1,B244,\"\")","v":""},null,null,null,null,null,null,null,null,null,null,null,null,null,null,null,{"$f":"+IF(Y244=\"\",\"\",MAX(T$1:T243)+1)","v":""},{"$f":"IF(Limit_Deviation_Detail!B266=\"\",\"\",Limit_Deviation_Detail!B266)","v":""},{"$f":"IF(Limit_Deviation_Detail!C266=\"\",\"\",Limit_Deviation_Detail!C266)","v":""},{"$f":"IF(Limit_Deviation_Detail!E266=\"\",\"\",Limit_Deviation_Detail!E266)","v":""},"",{"$f":"IF(COUNTIF(X$2:X244,X244)=1,X244,\"\")","v":""},"","","","","",null,null,null,null,{"$f":"IF(COUNTIF(AM$2:AM244,AM244)=1,AM244,\"\")","v":""},{"$f":"IF(CMS_Deviation_Detail!B266=\"\",\"\",CMS_Deviation_Detail!B266)","v":""},{"$f":"IF(CMS_Deviation_Detail!C266=\"\",\"\",CMS_Deviation_Detail!C266)","v":""},{"$f":"IF(CMS_Deviation_Detail!D266=\"\",\"\",CMS_Deviation_Detail!D266)","v":""},"",{"$f":"+IF(AI244=\"\",\"\",MAX(AN$1:AN243)+1)","v":""},"","","","","","",null,{"$f":"IF(COUNTIF(AZ$2:AZ244,AZ244)=1,AZ244,\"\")","v":""},{"$f":"IF(Limit_Deviation_Detail!B266=\"\",\"\",Limit_Deviation_Detail!B266)","v":""},{"$f":"IF(Limit_Deviation_Detail!C266=\"\",\"\",Limit_Deviation_Detail!C266)","v":""},{"$f":"IF(Limit_Deviation_Detail!E266=\"\",\"\",Limit_Deviation_Detail!E266)","v":""},"",{"$f":"+IF(AV244=\"\",\"\",MAX(BA$1:BA243)+1)","v":""},"","","",""]
[{"$f":"+IF(D245=\"\",\"\",MAX(A$1:A244)+1)","v":""},{"$f":"IF(Affected_Sources!C267=\"\",\"\",Affected_Sources!C267)","v":""},"",{"$f":"IF(COUNTIF(B$2:B245,B245)=1,B245,\"\")","v":""},null,null,null,null,null,null,null,null,null,null,null,null,null,null,null,{"$f":"+IF(Y245=\"\",\"\",MAX(T$1:T244)+1)","v":""},{"$f":"IF(Limit_Deviation_Detail!B267=\"\",\"\",Limit_Deviation_Detail!B267)","v":""},{"$f":"IF(Limit_Deviation_Detail!C267=\"\",\"\",Limit_Deviation_Detail!C267)","v":""},{"$f":"IF(Limit_Deviation_Detail!E267=\"\",\"\",Limit_Deviation_Detail!E267)","v":""},"",{"$f":"IF(COUNTIF(X$2:X245,X245)=1,X245,\"\")","v":""},"","","","","",null,null,null,null,{"$f":"IF(COUNTIF(AM$2:AM245,AM245)=1,AM245,\"\")","v":""},{"$f":"IF(CMS_Deviation_Detail!B267=\"\",\"\",CMS_Deviation_Detail!B267)","v":""},{"$f":"IF(CMS_Deviation_Detail!C267=\"\",\"\",CMS_Deviation_Detail!C267)","v":""},{"$f":"IF(CMS_Deviation_Detail!D267=\"\",\"\",CMS_Deviation_Detail!D267)","v":""},"",{"$f":"+IF(AI245=\"\",\"\",MAX(AN$1:AN244)+1)","v":""},"","","","","","",null,{"$f":"IF(COUNTIF(AZ$2:AZ245,AZ245)=1,AZ245,\"\")","v":""},{"$f":"IF(Limit_Deviation_Detail!B267=\"\",\"\",Limit_Deviation_Detail!B267)","v":""},{"$f":"IF(Limit_Deviation_Detail!C267=\"\",\"\",Limit_Deviation_Detail!C267)","v":""},{"$f":"IF(Limit_Deviation_Detail!E267=\"\",\"\",Limit_Deviation_Detail!E267)","v":""},"",{"$f":"+IF(AV245=\"\",\"\",MAX(BA$1:BA244)+1)","v":""},"","","",""]
[{"$f":"+IF(D246=\"\",\"\",MAX(A$1:A245)+1)","v":""},{"$f":"IF(Affected_Sources!C268=\"\",\"\",Affected_Sources!C268)","v":""},"",{"$f":"IF(COUNTIF(B$2:B246,B246)=1,B246,\"\")","v":""},null,null,null,null,null,null,null,null,null,null,null,null,null,null,null,{"$f":"+IF(Y246=\"\",\"\",MAX(T$1:T245)+1)","v":""},{"$f":"IF(Limit_Deviation_Detail!B268=\"\",\"\",Limit_Deviation_Detail!B268)","v":""},{"$f":"IF(Limit_Deviation_Detail!C268=\"\",\"\",Limit_Deviation_Detail!C268)","v":""},{"$f":"IF(Limit_Deviation_Detail!E268=\"\",\"\",Limit_Deviation_Detail!E268)","v":""},"",{"$f":"IF(COUNTIF(X$2:X246,X246)=1,X246,\"\")","v":""},"","","","","",null,null,null,null,{"$f":"IF(COUNTIF(AM$2:AM246,AM246)=1,AM246,\"\")","v":""},{"$f":"IF(CMS_Deviation_Detail!B268=\"\",\"\",CMS_Deviation_Detail!B268)","v":""},{"$f":"IF(CMS_Deviation_Detail!C268=\"\",\"\",CMS_Deviation_Detail!C268)","v":""},{"$f":"IF(CMS_Deviation_Detail!D268=\"\",\"\",CMS_Deviation_Detail!D268)","v":""},"",{"$f":"+IF(AI246=\"\",\"\",MAX(AN$1:AN245)+1)","v":""},"","","","","","",null,{"$f":"IF(COUNTIF(AZ$2:AZ246,AZ246)=1,AZ246,\"\")","v":""},{"$f":"IF(Limit_Deviation_Detail!B268=\"\",\"\",Limit_Deviation_Detail!B268)","v":""},{"$f":"IF(Limit_Deviation_Detail!C268=\"\",\"\",Limit_Deviation_Detail!C268)","v":""},{"$f":"IF(Limit_Deviation_Detail!E268=\"\",\"\",Limit_Deviation_Detail!E268)","v":""},"",{"$f":"+IF(AV246=\"\",\"\",MAX(BA$1:BA245)+1)","v":""},"","","",""]
[{"$f":"+IF(D247=\"\",\"\",MAX(A$1:A246)+1)","v":""},{"$f":"IF(Affected_Sources!C269=\"\",\"\",Affected_Sources!C269)","v":""},"",{"$f":"IF(COUNTIF(B$2:B247,B247)=1,B247,\"\")","v":""},null,null,null,null,null,null,null,null,null,null,null,null,null,null,null,{"$f":"+IF(Y247=\"\",\"\",MAX(T$1:T246)+1)","v":""},{"$f":"IF(Limit_Deviation_Detail!B269=\"\",\"\",Limit_Deviation_Detail!B269)","v":""},{"$f":"IF(Limit_Deviation_Detail!C269=\"\",\"\",Limit_Deviation_Detail!C269)","v":""},{"$f":"IF(Limit_Deviation_Detail!E269=\"\",\"\",Limit_Deviation_Detail!E269)","v":""},"",{"$f":"IF(COUNTIF(X$2:X247,X247)=1,X247,\"\")","v":""},"","","","","",null,null,null,null,{"$f":"IF(COUNTIF(AM$2:AM247,AM247)=1,AM247,\"\")","v":""},{"$f":"IF(CMS_Deviation_Detail!B269=\"\",\"\",CMS_Deviation_Detail!B269)","v":""},{"$f":"IF(CMS_Deviation_Detail!C269=\"\",\"\",CMS_Deviation_Detail!C269)","v":""},{"$f":"IF(CMS_Deviation_Detail!D269=\"\",\"\",CMS_Deviation_Detail!D269)","v":""},"",{"$f":"+IF(AI247=\"\",\"\",MAX(AN$1:AN246)+1)","v":""},"","","","","","",null,{"$f":"IF(COUNTIF(AZ$2:AZ247,AZ247)=1,AZ247,\"\")","v":""},{"$f":"IF(Limit_Deviation_Detail!B269=\"\",\"\",Limit_Deviation_Detail!B269)","v":""},{"$f":"IF(Limit_Deviation_Detail!C269=\"\",\"\",Limit_Deviation_Detail!C269)","v":""},{"$f":"IF(Limit_Deviation_Detail!E269=\"\",\"\",Limit_Deviation_Detail!E269)","v":""},"",{"$f":"+IF(AV247=\"\",\"\",MAX(BA$1:BA246)+1)","v":""},"","","",""]
[{"$f":"+IF(D248=\"\",\"\",MAX(A$1:A247)+1)","v":""},{"$f":"IF(Affected_Sources!C270=\"\",\"\",Affected_Sources!C270)","v":""},"",{"$f":"IF(COUNTIF(B$2:B248,B248)=1,B248,\"\")","v":""},null,null,null,null,null,null,null,null,null,null,null,null,null,null,null,{"$f":"+IF(Y248=\"\",\"\",MAX(T$1:T247)+1)","v":""},{"$f":"IF(Limit_Deviation_Detail!B270=\"\",\"\",Limit_Deviation_Detail!B270)","v":""},{"$f":"IF(Limit_Deviation_Detail!C270=\"\",\"\",Limit_Deviation_Detail!C270)","v":""},{"$f":"IF(Limit_Deviation_Detail!E270=\"\",\"\",Limit_Deviation_Detail!E270)","v":""},"",{"$f":"IF(COUNTIF(X$2:X248,X248)=1,X248,\"\")","v":""},"","","","","",null,null,null,null,{"$f":"IF(COUNTIF(AM$2:AM248,AM248)=1,AM248,\"\")","v":""},{"$f":"IF(CMS_Deviation_Detail!B270=\"\",\"\",CMS_Deviation_Detail!B270)","v":""},{"$f":"IF(CMS_Deviation_Detail!C270=\"\",\"\",CMS_Deviation_Detail!C270)","v":""},{"$f":"IF(CMS_Deviation_Detail!D270=\"\",\"\",CMS_Deviation_Detail!D270)","v":""},"",{"$f":"+IF(AI248=\"\",\"\",MAX(AN$1:AN247)+1)","v":""},"","","","","","",null,{"$f":"IF(COUNTIF(AZ$2:AZ248,AZ248)=1,AZ248,\"\")","v":""},{"$f":"IF(Limit_Deviation_Detail!B270=\"\",\"\",Limit_Deviation_Detail!B270)","v":""},{"$f":"IF(Limit_Deviation_Detail!C270=\"\",\"\",Limit_Deviation_Detail!C270)","v":""},{"$f":"IF(Limit_Deviation_Detail!E270=\"\",\"\",Limit_Deviation_Detail!E270)","v":""},"",{"$f":"+IF(AV248=\"\",\"\",MAX(BA$1:BA247)+1)","v":""},"","","",""]
[{"$f":"+IF(D249=\"\",\"\",MAX(A$1:A248)+1)","v":""},{"$f":"IF(Affected_Sources!C271=\"\",\"\",Affected_Sources!C271)","v":""},"",{"$f":"IF(COUNTIF(B$2:B249,B249)=1,B249,\"\")","v":""},null,null,null,null,null,null,null,null,null,null,null,null,null,null,null,{"$f":"+IF(Y249=\"\",\"\",MAX(T$1:T248)+1)","v":""},{"$f":"IF(Limit_Deviation_Detail!B271=\"\",\"\",Limit_Deviation_Detail!B271)","v":""},{"$f":"IF(Limit_Deviation_Detail!C271=\"\",\"\",Limit_Deviation_Detail!C271)","v":""},{"$f":"IF(Limit_Deviation_Detail!E271=\"\",\"\",Limit_Deviation_Detail!E271)","v":""},"",{"$f":"IF(COUNTIF(X$2:X249,X249)=1,X249,\"\")","v":""},"","","","","",null,null,null,null,{"$f":"IF(COUNTIF(AM$2:AM249,AM249)=1,AM249,\"\")","v":""},{"$f":"IF(CMS_Deviation_Detail!B271=\"\",\"\",CMS_Deviation_Detail!B271)","v":""},{"$f":"IF(CMS_Deviation_Detail!C271=\"\",\"\",CMS_Deviation_Detail!C271)","v":""},{"$f":"IF(CMS_Deviation_Detail!D271=\"\",\"\",CMS_Deviation_Detail!D271)","v":""},"",{"$f":"+IF(AI249=\"\",\"\",MAX(AN$1:AN248)+1)","v":""},"","","","","","",null,{"$f":"IF(COUNTIF(AZ$2:AZ249,AZ249)=1,AZ249,\"\")","v":""},{"$f":"IF(Limit_Deviation_Detail!B271=\"\",\"\",Limit_Deviation_Detail!B271)","v":""},{"$f":"IF(Limit_Deviation_Detail!C271=\"\",\"\",Limit_Deviation_Detail!C271)","v":""},{"$f":"IF(Limit_Deviation_Detail!E271=\"\",\"\",Limit_Deviation_Detail!E271)","v":""},"",{"$f":"+IF(AV249=\"\",\"\",MAX(BA$1:BA248)+1)","v":""},"","","",""]
[{"$f":"+IF(D250=\"\",\"\",MAX(A$1:A249)+1)","v":""},{"$f":"IF(Affected_Sources!C272=\"\",\"\",Affected_Sources!C272)","v":""},"",{"$f":"IF(COUNTIF(B$2:B250,B250)=1,B250,\"\")","v":""},null,null,null,null,null,null,null,null,null,null,null,null,null,null,null,{"$f":"+IF(Y250=\"\",\"\",MAX(T$1:T249)+1)","v":""},{"$f":"IF(Limit_Deviation_Detail!B272=\"\",\"\",Limit_Deviation_Detail!B272)","v":""},{"$f":"IF(Limit_Deviation_Detail!C272=\"\",\"\",Limit_Deviation_Detail!C272)","v":""},{"$f":"IF(Limit_Deviation_Detail!E272=\"\",\"\",Limit_Deviation_Detail!E272)","v":""},"",{"$f":"IF(COUNTIF(X$2:X250,X250)=1,X250,\"\")","v":""},"","","","","",null,null,null,null,{"$f":"IF(COUNTIF(AM$2:AM250,AM250)=1,AM250,\"\")","v":""},{"$f":"IF(CMS_Deviation_Detail!B272=\"\",\"\",CMS_Deviation_Detail!B272)","v":""},{"$f":"IF(CMS_Deviation_Detail!C272=\"\",\"\",CMS_Deviation_Detail!C272)","v":""},{"$f":"IF(CMS_Deviation_Detail!D272=\"\",\"\",CMS_Deviation_Detail!D272)","v":""},"",{"$f":"+IF(AI250=\"\",\"\",MAX(AN$1:AN249)+1)","v":""},"","","","","","",null,{"$f":"IF(COUNTIF(AZ$2:AZ250,AZ250)=1,AZ250,\"\")","v":""},{"$f":"IF(Limit_Deviation_Detail!B272=\"\",\"\",Limit_Deviation_Detail!B272)","v":""},{"$f":"IF(Limit_Deviation_Detail!C272=\"\",\"\",Limit_Deviation_Detail!C272)","v":""},{"$f":"IF(Limit_Deviation_Detail!E272=\"\",\"\",Limit_Deviation_Detail!E272)","v":""},"",{"$f":"+IF(AV250=\"\",\"\",MAX(BA$1:BA249)+1)","v":""},"","","",""]
[{"$f":"+IF(D251=\"\",\"\",MAX(A$1:A250)+1)","v":""},{"$f":"IF(Affected_Sources!C273=\"\",\"\",Affected_Sources!C273)","v":""},"",{"$f":"IF(COUNTIF(B$2:B251,B251)=1,B251,\"\")","v":""},null,null,null,null,null,null,null,null,null,null,null,null,null,null,null,{"$f":"+IF(Y251=\"\",\"\",MAX(T$1:T250)+1)","v":""},{"$f":"IF(Limit_Deviation_Detail!B273=\"\",\"\",Limit_Deviation_Detail!B273)","v":""},{"$f":"IF(Limit_Deviation_Detail!C273=\"\",\"\",Limit_Deviation_Detail!C273)","v":""},{"$f":"IF(Limit_Deviation_Detail!E273=\"\",\"\",Limit_Deviation_Detail!E273)","v":""},"",{"$f":"IF(COUNTIF(X$2:X251,X251)=1,X251,\"\")","v":""},"","","","","",null,null,null,null,{"$f":"IF(COUNTIF(AM$2:AM251,AM251)=1,AM251,\"\")","v":""},{"$f":"IF(CMS_Deviation_Detail!B273=\"\",\"\",CMS_Deviation_Detail!B273)","v":""},{"$f":"IF(CMS_Deviation_Detail!C273=\"\",\"\",CMS_Deviation_Detail!C273)","v":""},{"$f":"IF(CMS_Deviation_Detail!D273=\"\",\"\",CMS_Deviation_Detail!D273)","v":""},"",{"$f":"+IF(AI251=\"\",\"\",MAX(AN$1:AN250)+1)","v":""},"","","","","","",null,{"$f":"IF(COUNTIF(AZ$2:AZ251,AZ251)=1,AZ251,\"\")","v":""},{"$f":"IF(Limit_Deviation_Detail!B273=\"\",\"\",Limit_Deviation_Detail!B273)","v":""},{"$f":"IF(Limit_Deviation_Detail!C273=\"\",\"\",Limit_Deviation_Detail!C273)","v":""},{"$f":"IF(Limit_Deviation_Detail!E273=\"\",\"\",Limit_Deviation_Detail!E273)","v":""},"",{"$f":"+IF(AV251=\"\",\"\",MAX(BA$1:BA250)+1)","v":""},"","","",""]
[{"$f":"+IF(D252=\"\",\"\",MAX(A$1:A251)+1)","v":""},{"$f":"IF(Affected_Sources!C274=\"\",\"\",Affected_Sources!C274)","v":""},"",{"$f":"IF(COUNTIF(B$2:B252,B252)=1,B252,\"\")","v":""},null,null,null,null,null,null,null,null,null,null,null,null,null,null,null,{"$f":"+IF(Y252=\"\",\"\",MAX(T$1:T251)+1)","v":""},{"$f":"IF(Limit_Deviation_Detail!B274=\"\",\"\",Limit_Deviation_Detail!B274)","v":""},{"$f":"IF(Limit_Deviation_Detail!C274=\"\",\"\",Limit_Deviation_Detail!C274)","v":""},{"$f":"IF(Limit_Deviation_Detail!E274=\"\",\"\",Limit_Deviation_Detail!E274)","v":""},"",{"$f":"IF(COUNTIF(X$2:X252,X252)=1,X252,\"\")","v":""},"","","","","",null,null,null,null,{"$f":"IF(COUNTIF(AM$2:AM252,AM252)=1,AM252,\"\")","v":""},{"$f":"IF(CMS_Deviation_Detail!B274=\"\",\"\",CMS_Deviation_Detail!B274)","v":""},{"$f":"IF(CMS_Deviation_Detail!C274=\"\",\"\",CMS_Deviation_Detail!C274)","v":""},{"$f":"IF(CMS_Deviation_Detail!D274=\"\",\"\",CMS_Deviation_Detail!D274)","v":""},"",{"$f":"+IF(AI252=\"\",\"\",MAX(AN$1:AN251)+1)","v":""},"","","","","","",null,{"$f":"IF(COUNTIF(AZ$2:AZ252,AZ252)=1,AZ252,\"\")","v":""},{"$f":"IF(Limit_Deviation_Detail!B274=\"\",\"\",Limit_Deviation_Detail!B274)","v":""},{"$f":"IF(Limit_Deviation_Detail!C274=\"\",\"\",Limit_Deviation_Detail!C274)","v":""},{"$f":"IF(Limit_Deviation_Detail!E274=\"\",\"\",Limit_Deviation_Detail!E274)","v":""},"",{"$f":"+IF(AV252=\"\",\"\",MAX(BA$1:BA251)+1)","v":""},"","","",""]
[{"$f":"+IF(D253=\"\",\"\",MAX(A$1:A252)+1)","v":""},{"$f":"IF(Affected_Sources!C275=\"\",\"\",Affected_Sources!C275)","v":""},"",{"$f":"IF(COUNTIF(B$2:B253,B253)=1,B253,\"\")","v":""},null,null,null,null,null,null,null,null,null,null,null,null,null,null,null,{"$f":"+IF(Y253=\"\",\"\",MAX(T$1:T252)+1)","v":""},{"$f":"IF(Limit_Deviation_Detail!B275=\"\",\"\",Limit_Deviation_Detail!B275)","v":""},{"$f":"IF(Limit_Deviation_Detail!C275=\"\",\"\",Limit_Deviation_Detail!C275)","v":""},{"$f":"IF(Limit_Deviation_Detail!E275=\"\",\"\",Limit_Deviation_Detail!E275)","v":""},"",{"$f":"IF(COUNTIF(X$2:X253,X253)=1,X253,\"\")","v":""},"","","","","",null,null,null,null,{"$f":"IF(COUNTIF(AM$2:AM253,AM253)=1,AM253,\"\")","v":""},{"$f":"IF(CMS_Deviation_Detail!B275=\"\",\"\",CMS_Deviation_Detail!B275)","v":""},{"$f":"IF(CMS_Deviation_Detail!C275=\"\",\"\",CMS_Deviation_Detail!C275)","v":""},{"$f":"IF(CMS_Deviation_Detail!D275=\"\",\"\",CMS_Deviation_Detail!D275)","v":""},"",{"$f":"+IF(AI253=\"\",\"\",MAX(AN$1:AN252)+1)","v":""},"","","","","","",null,{"$f":"IF(COUNTIF(AZ$2:AZ253,AZ253)=1,AZ253,\"\")","v":""},{"$f":"IF(Limit_Deviation_Detail!B275=\"\",\"\",Limit_Deviation_Detail!B275)","v":""},{"$f":"IF(Limit_Deviation_Detail!C275=\"\",\"\",Limit_Deviation_Detail!C275)","v":""},{"$f":"IF(Limit_Deviation_Detail!E275=\"\",\"\",Limit_Deviation_Detail!E275)","v":""},"",{"$f":"+IF(AV253=\"\",\"\",MAX(BA$1:BA252)+1)","v":""},"","","",""]
[{"$f":"+IF(D254=\"\",\"\",MAX(A$1:A253)+1)","v":""},{"$f":"IF(Affected_Sources!C276=\"\",\"\",Affected_Sources!C276)","v":""},"",{"$f":"IF(COUNTIF(B$2:B254,B254)=1,B254,\"\")","v":""},null,null,null,null,null,null,null,null,null,null,null,null,null,null,null,{"$f":"+IF(Y254=\"\",\"\",MAX(T$1:T253)+1)","v":""},{"$f":"IF(Limit_Deviation_Detail!B276=\"\",\"\",Limit_Deviation_Detail!B276)","v":""},{"$f":"IF(Limit_Deviation_Detail!C276=\"\",\"\",Limit_Deviation_Detail!C276)","v":""},{"$f":"IF(Limit_Deviation_Detail!E276=\"\",\"\",Limit_Deviation_Detail!E276)","v":""},"",{"$f":"IF(COUNTIF(X$2:X254,X254)=1,X254,\"\")","v":""},"","","","","",null,null,null,null,{"$f":"IF(COUNTIF(AM$2:AM254,AM254)=1,AM254,\"\")","v":""},{"$f":"IF(CMS_Deviation_Detail!B276=\"\",\"\",CMS_Deviation_Detail!B276)","v":""},{"$f":"IF(CMS_Deviation_Detail!C276=\"\",\"\",CMS_Deviation_Detail!C276)","v":""},{"$f":"IF(CMS_Deviation_Detail!D276=\"\",\"\",CMS_Deviation_Detail!D276)","v":""},"",{"$f":"+IF(AI254=\"\",\"\",MAX(AN$1:AN253)+1)","v":""},"","","","","","",null,{"$f":"IF(COUNTIF(AZ$2:AZ254,AZ254)=1,AZ254,\"\")","v":""},{"$f":"IF(Limit_Deviation_Detail!B276=\"\",\"\",Limit_Deviation_Detail!B276)","v":""},{"$f":"IF(Limit_Deviation_Detail!C276=\"\",\"\",Limit_Deviation_Detail!C276)","v":""},{"$f":"IF(Limit_Deviation_Detail!E276=\"\",\"\",Limit_Deviation_Detail!E276)","v":""},"",{"$f":"+IF(AV254=\"\",\"\",MAX(BA$1:BA253)+1)","v":""},"","","",""]
[{"$f":"+IF(D255=\"\",\"\",MAX(A$1:A254)+1)","v":""},{"$f":"IF(Affected_Sources!C277=\"\",\"\",Affected_Sources!C277)","v":""},"",{"$f":"IF(COUNTIF(B$2:B255,B255)=1,B255,\"\")","v":""},null,null,null,null,null,null,null,null,null,null,null,null,null,null,null,{"$f":"+IF(Y255=\"\",\"\",MAX(T$1:T254)+1)","v":""},{"$f":"IF(Limit_Deviation_Detail!B277=\"\",\"\",Limit_Deviation_Detail!B277)","v":""},{"$f":"IF(Limit_Deviation_Detail!C277=\"\",\"\",Limit_Deviation_Detail!C277)","v":""},{"$f":"IF(Limit_Deviation_Detail!E277=\"\",\"\",Limit_Deviation_Detail!E277)","v":""},"",{"$f":"IF(COUNTIF(X$2:X255,X255)=1,X255,\"\")","v":""},"","","","","",null,null,null,null,{"$f":"IF(COUNTIF(AM$2:AM255,AM255)=1,AM255,\"\")","v":""},{"$f":"IF(CMS_Deviation_Detail!B277=\"\",\"\",CMS_Deviation_Detail!B277)","v":""},{"$f":"IF(CMS_Deviation_Detail!C277=\"\",\"\",CMS_Deviation_Detail!C277)","v":""},{"$f":"IF(CMS_Deviation_Detail!D277=\"\",\"\",CMS_Deviation_Detail!D277)","v":""},"",{"$f":"+IF(AI255=\"\",\"\",MAX(AN$1:AN254)+1)","v":""},"","","","","","",null,{"$f":"IF(COUNTIF(AZ$2:AZ255,AZ255)=1,AZ255,\"\")","v":""},{"$f":"IF(Limit_Deviation_Detail!B277=\"\",\"\",Limit_Deviation_Detail!B277)","v":""},{"$f":"IF(Limit_Deviation_Detail!C277=\"\",\"\",Limit_Deviation_Detail!C277)","v":""},{"$f":"IF(Limit_Deviation_Detail!E277=\"\",\"\",Limit_Deviation_Detail!E277)","v":""},"",{"$f":"+IF(AV255=\"\",\"\",MAX(BA$1:BA254)+1)","v":""},"","","",""]
[{"$f":"+IF(D256=\"\",\"\",MAX(A$1:A255)+1)","v":""},{"$f":"IF(Affected_Sources!C278=\"\",\"\",Affected_Sources!C278)","v":""},"",{"$f":"IF(COUNTIF(B$2:B256,B256)=1,B256,\"\")","v":""},null,null,null,null,null,null,null,null,null,null,null,null,null,null,null,{"$f":"+IF(Y256=\"\",\"\",MAX(T$1:T255)+1)","v":""},{"$f":"IF(Limit_Deviation_Detail!B278=\"\",\"\",Limit_Deviation_Detail!B278)","v":""},{"$f":"IF(Limit_Deviation_Detail!C278=\"\",\"\",Limit_Deviation_Detail!C278)","v":""},{"$f":"IF(Limit_Deviation_Detail!E278=\"\",\"\",Limit_Deviation_Detail!E278)","v":""},"",{"$f":"IF(COUNTIF(X$2:X256,X256)=1,X256,\"\")","v":""},"","","","","",null,null,null,null,{"$f":"IF(COUNTIF(AM$2:AM256,AM256)=1,AM256,\"\")","v":""},{"$f":"IF(CMS_Deviation_Detail!B278=\"\",\"\",CMS_Deviation_Detail!B278)","v":""},{"$f":"IF(CMS_Deviation_Detail!C278=\"\",\"\",CMS_Deviation_Detail!C278)","v":""},{"$f":"IF(CMS_Deviation_Detail!D278=\"\",\"\",CMS_Deviation_Detail!D278)","v":""},"",{"$f":"+IF(AI256=\"\",\"\",MAX(AN$1:AN255)+1)","v":""},"","","","","","",null,{"$f":"IF(COUNTIF(AZ$2:AZ256,AZ256)=1,AZ256,\"\")","v":""},{"$f":"IF(Limit_Deviation_Detail!B278=\"\",\"\",Limit_Deviation_Detail!B278)","v":""},{"$f":"IF(Limit_Deviation_Detail!C278=\"\",\"\",Limit_Deviation_Detail!C278)","v":""},{"$f":"IF(Limit_Deviation_Detail!E278=\"\",\"\",Limit_Deviation_Detail!E278)","v":""},"",{"$f":"+IF(AV256=\"\",\"\",MAX(BA$1:BA255)+1)","v":""},"","","",""]
[{"$f":"+IF(D257=\"\",\"\",MAX(A$1:A256)+1)","v":""},{"$f":"IF(Affected_Sources!C279=\"\",\"\",Affected_Sources!C279)","v":""},"",{"$f":"IF(COUNTIF(B$2:B257,B257)=1,B257,\"\")","v":""},null,null,null,null,null,null,null,null,null,null,null,null,null,null,null,{"$f":"+IF(Y257=\"\",\"\",MAX(T$1:T256)+1)","v":""},{"$f":"IF(Limit_Deviation_Detail!B279=\"\",\"\",Limit_Deviation_Detail!B279)","v":""},{"$f":"IF(Limit_Deviation_Detail!C279=\"\",\"\",Limit_Deviation_Detail!C279)","v":""},{"$f":"IF(Limit_Deviation_Detail!E279=\"\",\"\",Limit_Deviation_Detail!E279)","v":""},"",{"$f":"IF(COUNTIF(X$2:X257,X257)=1,X257,\"\")","v":""},"","","","","",null,null,null,null,{"$f":"IF(COUNTIF(AM$2:AM257,AM257)=1,AM257,\"\")","v":""},{"$f":"IF(CMS_Deviation_Detail!B279=\"\",\"\",CMS_Deviation_Detail!B279)","v":""},{"$f":"IF(CMS_Deviation_Detail!C279=\"\",\"\",CMS_Deviation_Detail!C279)","v":""},{"$f":"IF(CMS_Deviation_Detail!D279=\"\",\"\",CMS_Deviation_Detail!D279)","v":""},"",{"$f":"+IF(AI257=\"\",\"\",MAX(AN$1:AN256)+1)","v":""},"","","","","","",null,{"$f":"IF(COUNTIF(AZ$2:AZ257,AZ257)=1,AZ257,\"\")","v":""},{"$f":"IF(Limit_Deviation_Detail!B279=\"\",\"\",Limit_Deviation_Detail!B279)","v":""},{"$f":"IF(Limit_Deviation_Detail!C279=\"\",\"\",Limit_Deviation_Detail!C279)","v":""},{"$f":"IF(Limit_Deviation_Detail!E279=\"\",\"\",Limit_Deviation_Detail!E279)","v":""},"",{"$f":"+IF(AV257=\"\",\"\",MAX(BA$1:BA256)+1)","v":""},"","","",""]
[{"$f":"+IF(D258=\"\",\"\",MAX(A$1:A257)+1)","v":""},{"$f":"IF(Affected_Sources!C280=\"\",\"\",Affected_Sources!C280)","v":""},{"$f":"+IFERROR(INDEX(B$2:B$501,MATCH(ROW()-ROW($C$1),A$2:A$501,0)),\"\")","v":""},{"$f":"IF(COUNTIF(B$2:B258,B258)=1,B258,\"\")","v":""},null,null,null,null,null,null,null,null,null,null,null,null,null,null,null,{"$f":"+IF(Y258=\"\",\"\",MAX(T$1:T257)+1)","v":""},{"$f":"IF(Limit_Deviation_Detail!B280=\"\",\"\",Limit_Deviation_Detail!B280)","v":""},{"$f":"IF(Limit_Deviation_Detail!C280=\"\",\"\",Limit_Deviation_Detail!C280)","v":""},{"$f":"IF(Limit_Deviation_Detail!E280=\"\",\"\",Limit_Deviation_Detail!E280)","v":""},{"$f":"U258&V258&W258","v":""},{"$f":"IF(COUNTIF(X$2:X258,X258)=1,X258,\"\")","v":""},{"$f":"+IFERROR(INDEX(U$2:U$955,MATCH(ROW()-ROW(HU$1),T$2:T$955,0)),\"\")","v":""},{"$f":"+IFERROR(INDEX(V$2:V$955,MATCH(ROW()-ROW(Y$1),T$2:T$955,0)),\"\")","v":""},{"$f":"+IFERROR(INDEX(W$2:W$955,MATCH(ROW()-ROW(Y$1),T$2:T$955,0)),\"\")","v":""},{"$f":"IF(Z258=\"\",\"\",Z258&AA258)","v":""},{"$f":"IF(Z258=\"\",\"\",VLOOKUP(AC258,$BL$2:$BP$78,5,FALSE))","v":""},null,null,null,null,{"$f":"IF(COUNTIF(AM$2:AM258,AM258)=1,AM258,\"\")","v":""},{"$f":"IF(CMS_Deviation_Detail!B280=\"\",\"\",CMS_Deviation_Detail!B280)","v":""},{"$f":"IF(CMS_Deviation_Detail!C280=\"\",\"\",CMS_Deviation_Detail!C280)","v":""},{"$f":"IF(CMS_Deviation_Detail!D280=\"\",\"\",CMS_Deviation_Detail!D280)","v":""},"",{"$f":"+IF(AI258=\"\",\"\",MAX(AN$1:AN257)+1)","v":""},"","","","",{"$f":"IF(AP258=\"\",\"\",AP258&AQ258)","v":""},{"$f":"IF(AP258=\"\",\"\",VLOOKUP(AS258,$BL$2:$BP$78,5,FALSE))","v":""},null,{"$f":"IF(COUNTIF(AZ$2:AZ258,AZ258)=1,AZ258,\"\")","v":""},{"$f":"IF(Limit_Deviation_Detail!B280=\"\",\"\",Limit_Deviation_Detail!B280)","v":""},{"$f":"IF(Limit_Deviation_Detail!C280=\"\",\"\",Limit_Deviation_Detail!C280)","v":""},{"$f":"IF(Limit_Deviation_Detail!E280=\"\",\"\",Limit_Deviation_Detail!E280)","v":""},"",{"$f":"+IF(AV258=\"\",\"\",MAX(BA$1:BA257)+1)","v":""},"","","",""]
[{"$f":"+IF(D259=\"\",\"\",MAX(A$1:A258)+1)","v":""},{"$f":"IF(Affected_Sources!C281=\"\",\"\",Affected_Sources!C281)","v":""},"",{"$f":"IF(COUNTIF(B$2:B259,B259)=1,B259,\"\")","v":""},null,null,null,null,null,null,null,null,null,null,null,null,null,null,null,{"$f":"+IF(Y259=\"\",\"\",MAX(T$1:T258)+1)","v":""},{"$f":"IF(Limit_Deviation_Detail!B281=\"\",\"\",Limit_Deviation_Detail!B281)","v":""},{"$f":"IF(Limit_Deviation_Detail!C281=\"\",\"\",Limit_Deviation_Detail!C281)","v":""},{"$f":"IF(Limit_Deviation_Detail!E281=\"\",\"\",Limit_Deviation_Detail!E281)","v":""},"",{"$f":"IF(COUNTIF(X$2:X259,X259)=1,X259,\"\")","v":""},"","","","","",null,null,null,null,{"$f":"IF(COUNTIF(AM$2:AM259,AM259)=1,AM259,\"\")","v":""},{"$f":"IF(CMS_Deviation_Detail!B281=\"\",\"\",CMS_Deviation_Detail!B281)","v":""},{"$f":"IF(CMS_Deviation_Detail!C281=\"\",\"\",CMS_Deviation_Detail!C281)","v":""},{"$f":"IF(CMS_Deviation_Detail!D281=\"\",\"\",CMS_Deviation_Detail!D281)","v":""},{"$f":"IF(AL259=\"\",\"\",AJ259&\" \"&AK259&\" \"&AL259)","v":""},{"$f":"+IF(AI259=\"\",\"\",MAX(AN$1:AN258)+1)","v":""},{"$f":"+IFERROR(INDEX(AI$2:AI$955,MATCH(ROW()-ROW(AI$1),AN$2:AN$955,0)),\"\")","v":""},{"$f":"+IFERROR(INDEX(AJ$2:AJ$955,MATCH(ROW()-ROW(AJ$1),$AN$2:$AN$955,0)),\"\")","v":""},{"$f":"+IFERROR(INDEX(AK$2:AK$955,MATCH(ROW()-ROW(AK$1),$AN$2:$AN$955,0)),\"\")","v":""},{"$f":"+IFERROR(INDEX(AL$2:AL$955,MATCH(ROW()-ROW(AL$1),$AN$2:$AN$955,0)),\"\")","v":""},"","",null,{"$f":"IF(COUNTIF(AZ$2:AZ259,AZ259)=1,AZ259,\"\")","v":""},{"$f":"IF(Limit_Deviation_Detail!B281=\"\",\"\",Limit_Deviation_Detail!B281)","v":""},{"$f":"IF(Limit_Deviation_Detail!C281=\"\",\"\",Limit_Deviation_Detail!C281)","v":""},{"$f":"IF(Limit_Deviation_Detail!E281=\"\",\"\",Limit_Deviation_Detail!E281)","v":""},"",{"$f":"+IF(AV259=\"\",\"\",MAX(BA$1:BA258)+1)","v":""},"","","",""]
[{"$f":"+IF(D260=\"\",\"\",MAX(A$1:A259)+1)","v":""},{"$f":"IF(Affected_Sources!C282=\"\",\"\",Affected_Sources!C282)","v":""},"",{"$f":"IF(COUNTIF(B$2:B260,B260)=1,B260,\"\")","v":""},null,null,null,null,null,null,null,null,null,null,null,null,null,null,null,{"$f":"+IF(Y260=\"\",\"\",MAX(T$1:T259)+1)","v":""},{"$f":"IF(Limit_Deviation_Detail!B282=\"\",\"\",Limit_Deviation_Detail!B282)","v":""},{"$f":"IF(Limit_Deviation_Detail!C282=\"\",\"\",Limit_Deviation_Detail!C282)","v":""},{"$f":"IF(Limit_Deviation_Detail!E282=\"\",\"\",Limit_Deviation_Detail!E282)","v":""},"",{"$f":"IF(COUNTIF(X$2:X260,X260)=1,X260,\"\")","v":""},"","","","","",null,null,null,null,{"$f":"IF(COUNTIF(AM$2:AM260,AM260)=1,AM260,\"\")","v":""},{"$f":"IF(CMS_Deviation_Detail!B282=\"\",\"\",CMS_Deviation_Detail!B282)","v":""},{"$f":"IF(CMS_Deviation_Detail!C282=\"\",\"\",CMS_Deviation_Detail!C282)","v":""},{"$f":"IF(CMS_Deviation_Detail!D282=\"\",\"\",CMS_Deviation_Detail!D282)","v":""},"",{"$f":"+IF(AI260=\"\",\"\",MAX(AN$1:AN259)+1)","v":""},"","","","","","",null,{"$f":"IF(COUNTIF(AZ$2:AZ260,AZ260)=1,AZ260,\"\")","v":""},{"$f":"IF(Limit_Deviation_Detail!B282=\"\",\"\",Limit_Deviation_Detail!B282)","v":""},{"$f":"IF(Limit_Deviation_Detail!C282=\"\",\"\",Limit_Deviation_Detail!C282)","v":""},{"$f":"IF(Limit_Deviation_Detail!E282=\"\",\"\",Limit_Deviation_Detail!E282)","v":""},"",{"$f":"+IF(AV260=\"\",\"\",MAX(BA$1:BA259)+1)","v":""},"","","",""]
[{"$f":"+IF(D261=\"\",\"\",MAX(A$1:A260)+1)","v":""},{"$f":"IF(Affected_Sources!C283=\"\",\"\",Affected_Sources!C283)","v":""},"",{"$f":"IF(COUNTIF(B$2:B261,B261)=1,B261,\"\")","v":""},null,null,null,null,null,null,null,null,null,null,null,null,null,null,null,{"$f":"+IF(Y261=\"\",\"\",MAX(T$1:T260)+1)","v":""},{"$f":"IF(Limit_Deviation_Detail!B283=\"\",\"\",Limit_Deviation_Detail!B283)","v":""},{"$f":"IF(Limit_Deviation_Detail!C283=\"\",\"\",Limit_Deviation_Detail!C283)","v":""},{"$f":"IF(Limit_Deviation_Detail!E283=\"\",\"\",Limit_Deviation_Detail!E283)","v":""},"",{"$f":"IF(COUNTIF(X$2:X261,X261)=1,X261,\"\")","v":""},"","","","","",null,null,null,null,{"$f":"IF(COUNTIF(AM$2:AM261,AM261)=1,AM261,\"\")","v":""},{"$f":"IF(CMS_Deviation_Detail!B283=\"\",\"\",CMS_Deviation_Detail!B283)","v":""},{"$f":"IF(CMS_Deviation_Detail!C283=\"\",\"\",CMS_Deviation_Detail!C283)","v":""},{"$f":"IF(CMS_Deviation_Detail!D283=\"\",\"\",CMS_Deviation_Detail!D283)","v":""},"",{"$f":"+IF(AI261=\"\",\"\",MAX(AN$1:AN260)+1)","v":""},"","","","","","",null,{"$f":"IF(COUNTIF(AZ$2:AZ261,AZ261)=1,AZ261,\"\")","v":""},{"$f":"IF(Limit_Deviation_Detail!B283=\"\",\"\",Limit_Deviation_Detail!B283)","v":""},{"$f":"IF(Limit_Deviation_Detail!C283=\"\",\"\",Limit_Deviation_Detail!C283)","v":""},{"$f":"IF(Limit_Deviation_Detail!E283=\"\",\"\",Limit_Deviation_Detail!E283)","v":""},"",{"$f":"+IF(AV261=\"\",\"\",MAX(BA$1:BA260)+1)","v":""},"","","",""]
[{"$f":"+IF(D262=\"\",\"\",MAX(A$1:A261)+1)","v":""},{"$f":"IF(Affected_Sources!C284=\"\",\"\",Affected_Sources!C284)","v":""},"",{"$f":"IF(COUNTIF(B$2:B262,B262)=1,B262,\"\")","v":""},null,null,null,null,null,null,null,null,null,null,null,null,null,null,null,{"$f":"+IF(Y262=\"\",\"\",MAX(T$1:T261)+1)","v":""},{"$f":"IF(Limit_Deviation_Detail!B284=\"\",\"\",Limit_Deviation_Detail!B284)","v":""},{"$f":"IF(Limit_Deviation_Detail!C284=\"\",\"\",Limit_Deviation_Detail!C284)","v":""},{"$f":"IF(Limit_Deviation_Detail!E284=\"\",\"\",Limit_Deviation_Detail!E284)","v":""},"",{"$f":"IF(COUNTIF(X$2:X262,X262)=1,X262,\"\")","v":""},"","","","","",null,null,null,null,{"$f":"IF(COUNTIF(AM$2:AM262,AM262)=1,AM262,\"\")","v":""},{"$f":"IF(CMS_Deviation_Detail!B284=\"\",\"\",CMS_Deviation_Detail!B284)","v":""},{"$f":"IF(CMS_Deviation_Detail!C284=\"\",\"\",CMS_Deviation_Detail!C284)","v":""},{"$f":"IF(CMS_Deviation_Detail!D284=\"\",\"\",CMS_Deviation_Detail!D284)","v":""},"",{"$f":"+IF(AI262=\"\",\"\",MAX(AN$1:AN261)+1)","v":""},"","","","","","",null,{"$f":"IF(COUNTIF(AZ$2:AZ262,AZ262)=1,AZ262,\"\")","v":""},{"$f":"IF(Limit_Deviation_Detail!B284=\"\",\"\",Limit_Deviation_Detail!B284)","v":""},{"$f":"IF(Limit_Deviation_Detail!C284=\"\",\"\",Limit_Deviation_Detail!C284)","v":""},{"$f":"IF(Limit_Deviation_Detail!E284=\"\",\"\",Limit_Deviation_Detail!E284)","v":""},"",{"$f":"+IF(AV262=\"\",\"\",MAX(BA$1:BA261)+1)","v":""},"","","",""]
[{"$f":"+IF(D263=\"\",\"\",MAX(A$1:A262)+1)","v":""},{"$f":"IF(Affected_Sources!C285=\"\",\"\",Affected_Sources!C285)","v":""},"",{"$f":"IF(COUNTIF(B$2:B263,B263)=1,B263,\"\")","v":""},null,null,null,null,null,null,null,null,null,null,null,null,null,null,null,{"$f":"+IF(Y263=\"\",\"\",MAX(T$1:T262)+1)","v":""},{"$f":"IF(Limit_Deviation_Detail!B285=\"\",\"\",Limit_Deviation_Detail!B285)","v":""},{"$f":"IF(Limit_Deviation_Detail!C285=\"\",\"\",Limit_Deviation_Detail!C285)","v":""},{"$f":"IF(Limit_Deviation_Detail!E285=\"\",\"\",Limit_Deviation_Detail!E285)","v":""},"",{"$f":"IF(COUNTIF(X$2:X263,X263)=1,X263,\"\")","v":""},"","","","","",null,null,null,null,{"$f":"IF(COUNTIF(AM$2:AM263,AM263)=1,AM263,\"\")","v":""},{"$f":"IF(CMS_Deviation_Detail!B285=\"\",\"\",CMS_Deviation_Detail!B285)","v":""},{"$f":"IF(CMS_Deviation_Detail!C285=\"\",\"\",CMS_Deviation_Detail!C285)","v":""},{"$f":"IF(CMS_Deviation_Detail!D285=\"\",\"\",CMS_Deviation_Detail!D285)","v":""},"",{"$f":"+IF(AI263=\"\",\"\",MAX(AN$1:AN262)+1)","v":""},"","","","","","",null,{"$f":"IF(COUNTIF(AZ$2:AZ263,AZ263)=1,AZ263,\"\")","v":""},{"$f":"IF(Limit_Deviation_Detail!B285=\"\",\"\",Limit_Deviation_Detail!B285)","v":""},{"$f":"IF(Limit_Deviation_Detail!C285=\"\",\"\",Limit_Deviation_Detail!C285)","v":""},{"$f":"IF(Limit_Deviation_Detail!E285=\"\",\"\",Limit_Deviation_Detail!E285)","v":""},{"$f":"IF(AY263=\"\",\"\",AW263&\" \"&AX263&\" \"&AY263)","v":""},{"$f":"+IF(AV263=\"\",\"\",MAX(BA$1:BA262)+1)","v":""},{"$f":"+IFERROR(INDEX(AV$2:AV$955,MATCH(ROW()-ROW(AV$1),BA$2:BA$955,0)),\"\")","v":""},{"$f":"+IFERROR(INDEX(AW$2:AW$955,MATCH(ROW()-ROW(AW$1),$BA$2:$BA$955,0)),\"\")","v":""},{"$f":"+IFERROR(INDEX(AX$2:AX$955,MATCH(ROW()-ROW(AX$1),$BA$2:$BA$955,0)),\"\")","v":""},{"$f":"+IFERROR(INDEX(AY$2:AY$955,MATCH(ROW()-ROW(AY$1),$BA$2:$BA$955,0)),\"\")","v":""}]
[{"$f":"+IF(D264=\"\",\"\",MAX(A$1:A263)+1)","v":""},{"$f":"IF(Affected_Sources!C286=\"\",\"\",Affected_Sources!C286)","v":""},"",{"$f":"IF(COUNTIF(B$2:B264,B264)=1,B264,\"\")","v":""},null,null,null,null,null,null,null,null,null,null,null,null,null,null,null,{"$f":"+IF(Y264=\"\",\"\",MAX(T$1:T263)+1)","v":""},{"$f":"IF(Limit_Deviation_Detail!B286=\"\",\"\",Limit_Deviation_Detail!B286)","v":""},{"$f":"IF(Limit_Deviation_Detail!C286=\"\",\"\",Limit_Deviation_Detail!C286)","v":""},{"$f":"IF(Limit_Deviation_Detail!E286=\"\",\"\",Limit_Deviation_Detail!E286)","v":""},"",{"$f":"IF(COUNTIF(X$2:X264,X264)=1,X264,\"\")","v":""},"","","","","",null,null,null,null,{"$f":"IF(COUNTIF(AM$2:AM264,AM264)=1,AM264,\"\")","v":""},{"$f":"IF(CMS_Deviation_Detail!B286=\"\",\"\",CMS_Deviation_Detail!B286)","v":""},{"$f":"IF(CMS_Deviation_Detail!C286=\"\",\"\",CMS_Deviation_Detail!C286)","v":""},{"$f":"IF(CMS_Deviation_Detail!D286=\"\",\"\",CMS_Deviation_Detail!D286)","v":""},"",{"$f":"+IF(AI264=\"\",\"\",MAX(AN$1:AN263)+1)","v":""},"","","","","","",null,{"$f":"IF(COUNTIF(AZ$2:AZ264,AZ264)=1,AZ264,\"\")","v":""},{"$f":"IF(Limit_Deviation_Detail!B286=\"\",\"\",Limit_Deviation_Detail!B286)","v":""},{"$f":"IF(Limit_Deviation_Detail!C286=\"\",\"\",Limit_Deviation_Detail!C286)","v":""},{"$f":"IF(Limit_Deviation_Detail!E286=\"\",\"\",Limit_Deviation_Detail!E286)","v":""},"",{"$f":"+IF(AV264=\"\",\"\",MAX(BA$1:BA263)+1)","v":""},"","","",""]
[{"$f":"+IF(D265=\"\",\"\",MAX(A$1:A264)+1)","v":""},{"$f":"IF(Affected_Sources!C287=\"\",\"\",Affected_Sources!C287)","v":""},"",{"$f":"IF(COUNTIF(B$2:B265,B265)=1,B265,\"\")","v":""},null,null,null,null,null,null,null,null,null,null,null,null,null,null,null,{"$f":"+IF(Y265=\"\",\"\",MAX(T$1:T264)+1)","v":""},{"$f":"IF(Limit_Deviation_Detail!B287=\"\",\"\",Limit_Deviation_Detail!B287)","v":""},{"$f":"IF(Limit_Deviation_Detail!C287=\"\",\"\",Limit_Deviation_Detail!C287)","v":""},{"$f":"IF(Limit_Deviation_Detail!E287=\"\",\"\",Limit_Deviation_Detail!E287)","v":""},"",{"$f":"IF(COUNTIF(X$2:X265,X265)=1,X265,\"\")","v":""},"","","","","",null,null,null,null,{"$f":"IF(COUNTIF(AM$2:AM265,AM265)=1,AM265,\"\")","v":""},{"$f":"IF(CMS_Deviation_Detail!B287=\"\",\"\",CMS_Deviation_Detail!B287)","v":""},{"$f":"IF(CMS_Deviation_Detail!C287=\"\",\"\",CMS_Deviation_Detail!C287)","v":""},{"$f":"IF(CMS_Deviation_Detail!D287=\"\",\"\",CMS_Deviation_Detail!D287)","v":""},"",{"$f":"+IF(AI265=\"\",\"\",MAX(AN$1:AN264)+1)","v":""},"","","","","","",null,{"$f":"IF(COUNTIF(AZ$2:AZ265,AZ265)=1,AZ265,\"\")","v":""},{"$f":"IF(Limit_Deviation_Detail!B287=\"\",\"\",Limit_Deviation_Detail!B287)","v":""},{"$f":"IF(Limit_Deviation_Detail!C287=\"\",\"\",Limit_Deviation_Detail!C287)","v":""},{"$f":"IF(Limit_Deviation_Detail!E287=\"\",\"\",Limit_Deviation_Detail!E287)","v":""},"",{"$f":"+IF(AV265=\"\",\"\",MAX(BA$1:BA264)+1)","v":""},"","","",""]
[{"$f":"+IF(D266=\"\",\"\",MAX(A$1:A265)+1)","v":""},{"$f":"IF(Affected_Sources!C288=\"\",\"\",Affected_Sources!C288)","v":""},"",{"$f":"IF(COUNTIF(B$2:B266,B266)=1,B266,\"\")","v":""},null,null,null,null,null,null,null,null,null,null,null,null,null,null,null,{"$f":"+IF(Y266=\"\",\"\",MAX(T$1:T265)+1)","v":""},{"$f":"IF(Limit_Deviation_Detail!B288=\"\",\"\",Limit_Deviation_Detail!B288)","v":""},{"$f":"IF(Limit_Deviation_Detail!C288=\"\",\"\",Limit_Deviation_Detail!C288)","v":""},{"$f":"IF(Limit_Deviation_Detail!E288=\"\",\"\",Limit_Deviation_Detail!E288)","v":""},"",{"$f":"IF(COUNTIF(X$2:X266,X266)=1,X266,\"\")","v":""},"","","","","",null,null,null,null,{"$f":"IF(COUNTIF(AM$2:AM266,AM266)=1,AM266,\"\")","v":""},{"$f":"IF(CMS_Deviation_Detail!B288=\"\",\"\",CMS_Deviation_Detail!B288)","v":""},{"$f":"IF(CMS_Deviation_Detail!C288=\"\",\"\",CMS_Deviation_Detail!C288)","v":""},{"$f":"IF(CMS_Deviation_Detail!D288=\"\",\"\",CMS_Deviation_Detail!D288)","v":""},"",{"$f":"+IF(AI266=\"\",\"\",MAX(AN$1:AN265)+1)","v":""},"","","","","","",null,{"$f":"IF(COUNTIF(AZ$2:AZ266,AZ266)=1,AZ266,\"\")","v":""},{"$f":"IF(Limit_Deviation_Detail!B288=\"\",\"\",Limit_Deviation_Detail!B288)","v":""},{"$f":"IF(Limit_Deviation_Detail!C288=\"\",\"\",Limit_Deviation_Detail!C288)","v":""},{"$f":"IF(Limit_Deviation_Detail!E288=\"\",\"\",Limit_Deviation_Detail!E288)","v":""},"",{"$f":"+IF(AV266=\"\",\"\",MAX(BA$1:BA265)+1)","v":""},"","","",""]
[{"$f":"+IF(D267=\"\",\"\",MAX(A$1:A266)+1)","v":""},{"$f":"IF(Affected_Sources!C289=\"\",\"\",Affected_Sources!C289)","v":""},"",{"$f":"IF(COUNTIF(B$2:B267,B267)=1,B267,\"\")","v":""},null,null,null,null,null,null,null,null,null,null,null,null,null,null,null,{"$f":"+IF(Y267=\"\",\"\",MAX(T$1:T266)+1)","v":""},{"$f":"IF(Limit_Deviation_Detail!B289=\"\",\"\",Limit_Deviation_Detail!B289)","v":""},{"$f":"IF(Limit_Deviation_Detail!C289=\"\",\"\",Limit_Deviation_Detail!C289)","v":""},{"$f":"IF(Limit_Deviation_Detail!E289=\"\",\"\",Limit_Deviation_Detail!E289)","v":""},"",{"$f":"IF(COUNTIF(X$2:X267,X267)=1,X267,\"\")","v":""},"","","","","",null,null,null,null,{"$f":"IF(COUNTIF(AM$2:AM267,AM267)=1,AM267,\"\")","v":""},{"$f":"IF(CMS_Deviation_Detail!B289=\"\",\"\",CMS_Deviation_Detail!B289)","v":""},{"$f":"IF(CMS_Deviation_Detail!C289=\"\",\"\",CMS_Deviation_Detail!C289)","v":""},{"$f":"IF(CMS_Deviation_Detail!D289=\"\",\"\",CMS_Deviation_Detail!D289)","v":""},"",{"$f":"+IF(AI267=\"\",\"\",MAX(AN$1:AN266)+1)","v":""},"","","","","","",null,{"$f":"IF(COUNTIF(AZ$2:AZ267,AZ267)=1,AZ267,\"\")","v":""},{"$f":"IF(Limit_Deviation_Detail!B289=\"\",\"\",Limit_Deviation_Detail!B289)","v":""},{"$f":"IF(Limit_Deviation_Detail!C289=\"\",\"\",Limit_Deviation_Detail!C289)","v":""},{"$f":"IF(Limit_Deviation_Detail!E289=\"\",\"\",Limit_Deviation_Detail!E289)","v":""},"",{"$f":"+IF(AV267=\"\",\"\",MAX(BA$1:BA266)+1)","v":""},"","","",""]
[{"$f":"+IF(D268=\"\",\"\",MAX(A$1:A267)+1)","v":""},{"$f":"IF(Affected_Sources!C290=\"\",\"\",Affected_Sources!C290)","v":""},"",{"$f":"IF(COUNTIF(B$2:B268,B268)=1,B268,\"\")","v":""},null,null,null,null,null,null,null,null,null,null,null,null,null,null,null,{"$f":"+IF(Y268=\"\",\"\",MAX(T$1:T267)+1)","v":""},{"$f":"IF(Limit_Deviation_Detail!B290=\"\",\"\",Limit_Deviation_Detail!B290)","v":""},{"$f":"IF(Limit_Deviation_Detail!C290=\"\",\"\",Limit_Deviation_Detail!C290)","v":""},{"$f":"IF(Limit_Deviation_Detail!E290=\"\",\"\",Limit_Deviation_Detail!E290)","v":""},"",{"$f":"IF(COUNTIF(X$2:X268,X268)=1,X268,\"\")","v":""},"","","","","",null,null,null,null,{"$f":"IF(COUNTIF(AM$2:AM268,AM268)=1,AM268,\"\")","v":""},{"$f":"IF(CMS_Deviation_Detail!B290=\"\",\"\",CMS_Deviation_Detail!B290)","v":""},{"$f":"IF(CMS_Deviation_Detail!C290=\"\",\"\",CMS_Deviation_Detail!C290)","v":""},{"$f":"IF(CMS_Deviation_Detail!D290=\"\",\"\",CMS_Deviation_Detail!D290)","v":""},"",{"$f":"+IF(AI268=\"\",\"\",MAX(AN$1:AN267)+1)","v":""},"","","","","","",null,{"$f":"IF(COUNTIF(AZ$2:AZ268,AZ268)=1,AZ268,\"\")","v":""},{"$f":"IF(Limit_Deviation_Detail!B290=\"\",\"\",Limit_Deviation_Detail!B290)","v":""},{"$f":"IF(Limit_Deviation_Detail!C290=\"\",\"\",Limit_Deviation_Detail!C290)","v":""},{"$f":"IF(Limit_Deviation_Detail!E290=\"\",\"\",Limit_Deviation_Detail!E290)","v":""},"",{"$f":"+IF(AV268=\"\",\"\",MAX(BA$1:BA267)+1)","v":""},"","","",""]
[{"$f":"+IF(D269=\"\",\"\",MAX(A$1:A268)+1)","v":""},{"$f":"IF(Affected_Sources!C291=\"\",\"\",Affected_Sources!C291)","v":""},"",{"$f":"IF(COUNTIF(B$2:B269,B269)=1,B269,\"\")","v":""},null,null,null,null,null,null,null,null,null,null,null,null,null,null,null,{"$f":"+IF(Y269=\"\",\"\",MAX(T$1:T268)+1)","v":""},{"$f":"IF(Limit_Deviation_Detail!B291=\"\",\"\",Limit_Deviation_Detail!B291)","v":""},{"$f":"IF(Limit_Deviation_Detail!C291=\"\",\"\",Limit_Deviation_Detail!C291)","v":""},{"$f":"IF(Limit_Deviation_Detail!E291=\"\",\"\",Limit_Deviation_Detail!E291)","v":""},"",{"$f":"IF(COUNTIF(X$2:X269,X269)=1,X269,\"\")","v":""},"","","","","",null,null,null,null,{"$f":"IF(COUNTIF(AM$2:AM269,AM269)=1,AM269,\"\")","v":""},{"$f":"IF(CMS_Deviation_Detail!B291=\"\",\"\",CMS_Deviation_Detail!B291)","v":""},{"$f":"IF(CMS_Deviation_Detail!C291=\"\",\"\",CMS_Deviation_Detail!C291)","v":""},{"$f":"IF(CMS_Deviation_Detail!D291=\"\",\"\",CMS_Deviation_Detail!D291)","v":""},"",{"$f":"+IF(AI269=\"\",\"\",MAX(AN$1:AN268)+1)","v":""},"","","","","","",null,{"$f":"IF(COUNTIF(AZ$2:AZ269,AZ269)=1,AZ269,\"\")","v":""},{"$f":"IF(Limit_Deviation_Detail!B291=\"\",\"\",Limit_Deviation_Detail!B291)","v":""},{"$f":"IF(Limit_Deviation_Detail!C291=\"\",\"\",Limit_Deviation_Detail!C291)","v":""},{"$f":"IF(Limit_Deviation_Detail!E291=\"\",\"\",Limit_Deviation_Detail!E291)","v":""},"",{"$f":"+IF(AV269=\"\",\"\",MAX(BA$1:BA268)+1)","v":""},"","","",""]
[{"$f":"+IF(D270=\"\",\"\",MAX(A$1:A269)+1)","v":""},{"$f":"IF(Affected_Sources!C292=\"\",\"\",Affected_Sources!C292)","v":""},"",{"$f":"IF(COUNTIF(B$2:B270,B270)=1,B270,\"\")","v":""},null,null,null,null,null,null,null,null,null,null,null,null,null,null,null,{"$f":"+IF(Y270=\"\",\"\",MAX(T$1:T269)+1)","v":""},{"$f":"IF(Limit_Deviation_Detail!B292=\"\",\"\",Limit_Deviation_Detail!B292)","v":""},{"$f":"IF(Limit_Deviation_Detail!C292=\"\",\"\",Limit_Deviation_Detail!C292)","v":""},{"$f":"IF(Limit_Deviation_Detail!E292=\"\",\"\",Limit_Deviation_Detail!E292)","v":""},"",{"$f":"IF(COUNTIF(X$2:X270,X270)=1,X270,\"\")","v":""},"","","","","",null,null,null,null,{"$f":"IF(COUNTIF(AM$2:AM270,AM270)=1,AM270,\"\")","v":""},{"$f":"IF(CMS_Deviation_Detail!B292=\"\",\"\",CMS_Deviation_Detail!B292)","v":""},{"$f":"IF(CMS_Deviation_Detail!C292=\"\",\"\",CMS_Deviation_Detail!C292)","v":""},{"$f":"IF(CMS_Deviation_Detail!D292=\"\",\"\",CMS_Deviation_Detail!D292)","v":""},"",{"$f":"+IF(AI270=\"\",\"\",MAX(AN$1:AN269)+1)","v":""},"","","","","","",null,{"$f":"IF(COUNTIF(AZ$2:AZ270,AZ270)=1,AZ270,\"\")","v":""},{"$f":"IF(Limit_Deviation_Detail!B292=\"\",\"\",Limit_Deviation_Detail!B292)","v":""},{"$f":"IF(Limit_Deviation_Detail!C292=\"\",\"\",Limit_Deviation_Detail!C292)","v":""},{"$f":"IF(Limit_Deviation_Detail!E292=\"\",\"\",Limit_Deviation_Detail!E292)","v":""},"",{"$f":"+IF(AV270=\"\",\"\",MAX(BA$1:BA269)+1)","v":""},"","","",""]
[{"$f":"+IF(D271=\"\",\"\",MAX(A$1:A270)+1)","v":""},{"$f":"IF(Affected_Sources!C293=\"\",\"\",Affected_Sources!C293)","v":""},"",{"$f":"IF(COUNTIF(B$2:B271,B271)=1,B271,\"\")","v":""},null,null,null,null,null,null,null,null,null,null,null,null,null,null,null,{"$f":"+IF(Y271=\"\",\"\",MAX(T$1:T270)+1)","v":""},{"$f":"IF(Limit_Deviation_Detail!B293=\"\",\"\",Limit_Deviation_Detail!B293)","v":""},{"$f":"IF(Limit_Deviation_Detail!C293=\"\",\"\",Limit_Deviation_Detail!C293)","v":""},{"$f":"IF(Limit_Deviation_Detail!E293=\"\",\"\",Limit_Deviation_Detail!E293)","v":""},"",{"$f":"IF(COUNTIF(X$2:X271,X271)=1,X271,\"\")","v":""},"","","","","",null,null,null,null,{"$f":"IF(COUNTIF(AM$2:AM271,AM271)=1,AM271,\"\")","v":""},{"$f":"IF(CMS_Deviation_Detail!B293=\"\",\"\",CMS_Deviation_Detail!B293)","v":""},{"$f":"IF(CMS_Deviation_Detail!C293=\"\",\"\",CMS_Deviation_Detail!C293)","v":""},{"$f":"IF(CMS_Deviation_Detail!D293=\"\",\"\",CMS_Deviation_Detail!D293)","v":""},"",{"$f":"+IF(AI271=\"\",\"\",MAX(AN$1:AN270)+1)","v":""},"","","","","","",null,{"$f":"IF(COUNTIF(AZ$2:AZ271,AZ271)=1,AZ271,\"\")","v":""},{"$f":"IF(Limit_Deviation_Detail!B293=\"\",\"\",Limit_Deviation_Detail!B293)","v":""},{"$f":"IF(Limit_Deviation_Detail!C293=\"\",\"\",Limit_Deviation_Detail!C293)","v":""},{"$f":"IF(Limit_Deviation_Detail!E293=\"\",\"\",Limit_Deviation_Detail!E293)","v":""},"",{"$f":"+IF(AV271=\"\",\"\",MAX(BA$1:BA270)+1)","v":""},"","","",""]
[{"$f":"+IF(D272=\"\",\"\",MAX(A$1:A271)+1)","v":""},{"$f":"IF(Affected_Sources!C294=\"\",\"\",Affected_Sources!C294)","v":""},"",{"$f":"IF(COUNTIF(B$2:B272,B272)=1,B272,\"\")","v":""},null,null,null,null,null,null,null,null,null,null,null,null,null,null,null,{"$f":"+IF(Y272=\"\",\"\",MAX(T$1:T271)+1)","v":""},{"$f":"IF(Limit_Deviation_Detail!B294=\"\",\"\",Limit_Deviation_Detail!B294)","v":""},{"$f":"IF(Limit_Deviation_Detail!C294=\"\",\"\",Limit_Deviation_Detail!C294)","v":""},{"$f":"IF(Limit_Deviation_Detail!E294=\"\",\"\",Limit_Deviation_Detail!E294)","v":""},"",{"$f":"IF(COUNTIF(X$2:X272,X272)=1,X272,\"\")","v":""},"","","","","",null,null,null,null,{"$f":"IF(COUNTIF(AM$2:AM272,AM272)=1,AM272,\"\")","v":""},{"$f":"IF(CMS_Deviation_Detail!B294=\"\",\"\",CMS_Deviation_Detail!B294)","v":""},{"$f":"IF(CMS_Deviation_Detail!C294=\"\",\"\",CMS_Deviation_Detail!C294)","v":""},{"$f":"IF(CMS_Deviation_Detail!D294=\"\",\"\",CMS_Deviation_Detail!D294)","v":""},"",{"$f":"+IF(AI272=\"\",\"\",MAX(AN$1:AN271)+1)","v":""},"","","","","","",null,{"$f":"IF(COUNTIF(AZ$2:AZ272,AZ272)=1,AZ272,\"\")","v":""},{"$f":"IF(Limit_Deviation_Detail!B294=\"\",\"\",Limit_Deviation_Detail!B294)","v":""},{"$f":"IF(Limit_Deviation_Detail!C294=\"\",\"\",Limit_Deviation_Detail!C294)","v":""},{"$f":"IF(Limit_Deviation_Detail!E294=\"\",\"\",Limit_Deviation_Detail!E294)","v":""},"",{"$f":"+IF(AV272=\"\",\"\",MAX(BA$1:BA271)+1)","v":""},"","","",""]
[{"$f":"+IF(D273=\"\",\"\",MAX(A$1:A272)+1)","v":""},{"$f":"IF(Affected_Sources!C295=\"\",\"\",Affected_Sources!C295)","v":""},"",{"$f":"IF(COUNTIF(B$2:B273,B273)=1,B273,\"\")","v":""},null,null,null,null,null,null,null,null,null,null,null,null,null,null,null,{"$f":"+IF(Y273=\"\",\"\",MAX(T$1:T272)+1)","v":""},{"$f":"IF(Limit_Deviation_Detail!B295=\"\",\"\",Limit_Deviation_Detail!B295)","v":""},{"$f":"IF(Limit_Deviation_Detail!C295=\"\",\"\",Limit_Deviation_Detail!C295)","v":""},{"$f":"IF(Limit_Deviation_Detail!E295=\"\",\"\",Limit_Deviation_Detail!E295)","v":""},"",{"$f":"IF(COUNTIF(X$2:X273,X273)=1,X273,\"\")","v":""},"","","","","",null,null,null,null,{"$f":"IF(COUNTIF(AM$2:AM273,AM273)=1,AM273,\"\")","v":""},{"$f":"IF(CMS_Deviation_Detail!B295=\"\",\"\",CMS_Deviation_Detail!B295)","v":""},{"$f":"IF(CMS_Deviation_Detail!C295=\"\",\"\",CMS_Deviation_Detail!C295)","v":""},{"$f":"IF(CMS_Deviation_Detail!D295=\"\",\"\",CMS_Deviation_Detail!D295)","v":""},"",{"$f":"+IF(AI273=\"\",\"\",MAX(AN$1:AN272)+1)","v":""},"","","","","","",null,{"$f":"IF(COUNTIF(AZ$2:AZ273,AZ273)=1,AZ273,\"\")","v":""},{"$f":"IF(Limit_Deviation_Detail!B295=\"\",\"\",Limit_Deviation_Detail!B295)","v":""},{"$f":"IF(Limit_Deviation_Detail!C295=\"\",\"\",Limit_Deviation_Detail!C295)","v":""},{"$f":"IF(Limit_Deviation_Detail!E295=\"\",\"\",Limit_Deviation_Detail!E295)","v":""},"",{"$f":"+IF(AV273=\"\",\"\",MAX(BA$1:BA272)+1)","v":""},"","","",""]
[{"$f":"+IF(D274=\"\",\"\",MAX(A$1:A273)+1)","v":""},{"$f":"IF(Affected_Sources!C296=\"\",\"\",Affected_Sources!C296)","v":""},"",{"$f":"IF(COUNTIF(B$2:B274,B274)=1,B274,\"\")","v":""},null,null,null,null,null,null,null,null,null,null,null,null,null,null,null,{"$f":"+IF(Y274=\"\",\"\",MAX(T$1:T273)+1)","v":""},{"$f":"IF(Limit_Deviation_Detail!B296=\"\",\"\",Limit_Deviation_Detail!B296)","v":""},{"$f":"IF(Limit_Deviation_Detail!C296=\"\",\"\",Limit_Deviation_Detail!C296)","v":""},{"$f":"IF(Limit_Deviation_Detail!E296=\"\",\"\",Limit_Deviation_Detail!E296)","v":""},"",{"$f":"IF(COUNTIF(X$2:X274,X274)=1,X274,\"\")","v":""},"","","","","",null,null,null,null,{"$f":"IF(COUNTIF(AM$2:AM274,AM274)=1,AM274,\"\")","v":""},{"$f":"IF(CMS_Deviation_Detail!B296=\"\",\"\",CMS_Deviation_Detail!B296)","v":""},{"$f":"IF(CMS_Deviation_Detail!C296=\"\",\"\",CMS_Deviation_Detail!C296)","v":""},{"$f":"IF(CMS_Deviation_Detail!D296=\"\",\"\",CMS_Deviation_Detail!D296)","v":""},"",{"$f":"+IF(AI274=\"\",\"\",MAX(AN$1:AN273)+1)","v":""},"","","","","","",null,{"$f":"IF(COUNTIF(AZ$2:AZ274,AZ274)=1,AZ274,\"\")","v":""},{"$f":"IF(Limit_Deviation_Detail!B296=\"\",\"\",Limit_Deviation_Detail!B296)","v":""},{"$f":"IF(Limit_Deviation_Detail!C296=\"\",\"\",Limit_Deviation_Detail!C296)","v":""},{"$f":"IF(Limit_Deviation_Detail!E296=\"\",\"\",Limit_Deviation_Detail!E296)","v":""},"",{"$f":"+IF(AV274=\"\",\"\",MAX(BA$1:BA273)+1)","v":""},"","","",""]
[{"$f":"+IF(D275=\"\",\"\",MAX(A$1:A274)+1)","v":""},{"$f":"IF(Affected_Sources!C297=\"\",\"\",Affected_Sources!C297)","v":""},"",{"$f":"IF(COUNTIF(B$2:B275,B275)=1,B275,\"\")","v":""},null,null,null,null,null,null,null,null,null,null,null,null,null,null,null,{"$f":"+IF(Y275=\"\",\"\",MAX(T$1:T274)+1)","v":""},{"$f":"IF(Limit_Deviation_Detail!B297=\"\",\"\",Limit_Deviation_Detail!B297)","v":""},{"$f":"IF(Limit_Deviation_Detail!C297=\"\",\"\",Limit_Deviation_Detail!C297)","v":""},{"$f":"IF(Limit_Deviation_Detail!E297=\"\",\"\",Limit_Deviation_Detail!E297)","v":""},"",{"$f":"IF(COUNTIF(X$2:X275,X275)=1,X275,\"\")","v":""},"","","","","",null,null,null,null,{"$f":"IF(COUNTIF(AM$2:AM275,AM275)=1,AM275,\"\")","v":""},{"$f":"IF(CMS_Deviation_Detail!B297=\"\",\"\",CMS_Deviation_Detail!B297)","v":""},{"$f":"IF(CMS_Deviation_Detail!C297=\"\",\"\",CMS_Deviation_Detail!C297)","v":""},{"$f":"IF(CMS_Deviation_Detail!D297=\"\",\"\",CMS_Deviation_Detail!D297)","v":""},"",{"$f":"+IF(AI275=\"\",\"\",MAX(AN$1:AN274)+1)","v":""},"","","","","","",null,{"$f":"IF(COUNTIF(AZ$2:AZ275,AZ275)=1,AZ275,\"\")","v":""},{"$f":"IF(Limit_Deviation_Detail!B297=\"\",\"\",Limit_Deviation_Detail!B297)","v":""},{"$f":"IF(Limit_Deviation_Detail!C297=\"\",\"\",Limit_Deviation_Detail!C297)","v":""},{"$f":"IF(Limit_Deviation_Detail!E297=\"\",\"\",Limit_Deviation_Detail!E297)","v":""},"",{"$f":"+IF(AV275=\"\",\"\",MAX(BA$1:BA274)+1)","v":""},"","","",""]
[{"$f":"+IF(D276=\"\",\"\",MAX(A$1:A275)+1)","v":""},{"$f":"IF(Affected_Sources!C298=\"\",\"\",Affected_Sources!C298)","v":""},"",{"$f":"IF(COUNTIF(B$2:B276,B276)=1,B276,\"\")","v":""},null,null,null,null,null,null,null,null,null,null,null,null,null,null,null,{"$f":"+IF(Y276=\"\",\"\",MAX(T$1:T275)+1)","v":""},{"$f":"IF(Limit_Deviation_Detail!B298=\"\",\"\",Limit_Deviation_Detail!B298)","v":""},{"$f":"IF(Limit_Deviation_Detail!C298=\"\",\"\",Limit_Deviation_Detail!C298)","v":""},{"$f":"IF(Limit_Deviation_Detail!E298=\"\",\"\",Limit_Deviation_Detail!E298)","v":""},"",{"$f":"IF(COUNTIF(X$2:X276,X276)=1,X276,\"\")","v":""},"","","","","",null,null,null,null,{"$f":"IF(COUNTIF(AM$2:AM276,AM276)=1,AM276,\"\")","v":""},{"$f":"IF(CMS_Deviation_Detail!B298=\"\",\"\",CMS_Deviation_Detail!B298)","v":""},{"$f":"IF(CMS_Deviation_Detail!C298=\"\",\"\",CMS_Deviation_Detail!C298)","v":""},{"$f":"IF(CMS_Deviation_Detail!D298=\"\",\"\",CMS_Deviation_Detail!D298)","v":""},"",{"$f":"+IF(AI276=\"\",\"\",MAX(AN$1:AN275)+1)","v":""},"","","","","","",null,{"$f":"IF(COUNTIF(AZ$2:AZ276,AZ276)=1,AZ276,\"\")","v":""},{"$f":"IF(Limit_Deviation_Detail!B298=\"\",\"\",Limit_Deviation_Detail!B298)","v":""},{"$f":"IF(Limit_Deviation_Detail!C298=\"\",\"\",Limit_Deviation_Detail!C298)","v":""},{"$f":"IF(Limit_Deviation_Detail!E298=\"\",\"\",Limit_Deviation_Detail!E298)","v":""},"",{"$f":"+IF(AV276=\"\",\"\",MAX(BA$1:BA275)+1)","v":""},"","","",""]
[{"$f":"+IF(D277=\"\",\"\",MAX(A$1:A276)+1)","v":""},{"$f":"IF(Affected_Sources!C299=\"\",\"\",Affected_Sources!C299)","v":""},"",{"$f":"IF(COUNTIF(B$2:B277,B277)=1,B277,\"\")","v":""},null,null,null,null,null,null,null,null,null,null,null,null,null,null,null,{"$f":"+IF(Y277=\"\",\"\",MAX(T$1:T276)+1)","v":""},{"$f":"IF(Limit_Deviation_Detail!B299=\"\",\"\",Limit_Deviation_Detail!B299)","v":""},{"$f":"IF(Limit_Deviation_Detail!C299=\"\",\"\",Limit_Deviation_Detail!C299)","v":""},{"$f":"IF(Limit_Deviation_Detail!E299=\"\",\"\",Limit_Deviation_Detail!E299)","v":""},"",{"$f":"IF(COUNTIF(X$2:X277,X277)=1,X277,\"\")","v":""},"","","","","",null,null,null,null,{"$f":"IF(COUNTIF(AM$2:AM277,AM277)=1,AM277,\"\")","v":""},{"$f":"IF(CMS_Deviation_Detail!B299=\"\",\"\",CMS_Deviation_Detail!B299)","v":""},{"$f":"IF(CMS_Deviation_Detail!C299=\"\",\"\",CMS_Deviation_Detail!C299)","v":""},{"$f":"IF(CMS_Deviation_Detail!D299=\"\",\"\",CMS_Deviation_Detail!D299)","v":""},"",{"$f":"+IF(AI277=\"\",\"\",MAX(AN$1:AN276)+1)","v":""},"","","","","","",null,{"$f":"IF(COUNTIF(AZ$2:AZ277,AZ277)=1,AZ277,\"\")","v":""},{"$f":"IF(Limit_Deviation_Detail!B299=\"\",\"\",Limit_Deviation_Detail!B299)","v":""},{"$f":"IF(Limit_Deviation_Detail!C299=\"\",\"\",Limit_Deviation_Detail!C299)","v":""},{"$f":"IF(Limit_Deviation_Detail!E299=\"\",\"\",Limit_Deviation_Detail!E299)","v":""},"",{"$f":"+IF(AV277=\"\",\"\",MAX(BA$1:BA276)+1)","v":""},"","","",""]
[{"$f":"+IF(D278=\"\",\"\",MAX(A$1:A277)+1)","v":""},{"$f":"IF(Affected_Sources!C300=\"\",\"\",Affected_Sources!C300)","v":""},"",{"$f":"IF(COUNTIF(B$2:B278,B278)=1,B278,\"\")","v":""},null,null,null,null,null,null,null,null,null,null,null,null,null,null,null,{"$f":"+IF(Y278=\"\",\"\",MAX(T$1:T277)+1)","v":""},{"$f":"IF(Limit_Deviation_Detail!B300=\"\",\"\",Limit_Deviation_Detail!B300)","v":""},{"$f":"IF(Limit_Deviation_Detail!C300=\"\",\"\",Limit_Deviation_Detail!C300)","v":""},{"$f":"IF(Limit_Deviation_Detail!E300=\"\",\"\",Limit_Deviation_Detail!E300)","v":""},"",{"$f":"IF(COUNTIF(X$2:X278,X278)=1,X278,\"\")","v":""},"","","","","",null,null,null,null,{"$f":"IF(COUNTIF(AM$2:AM278,AM278)=1,AM278,\"\")","v":""},{"$f":"IF(CMS_Deviation_Detail!B300=\"\",\"\",CMS_Deviation_Detail!B300)","v":""},{"$f":"IF(CMS_Deviation_Detail!C300=\"\",\"\",CMS_Deviation_Detail!C300)","v":""},{"$f":"IF(CMS_Deviation_Detail!D300=\"\",\"\",CMS_Deviation_Detail!D300)","v":""},"",{"$f":"+IF(AI278=\"\",\"\",MAX(AN$1:AN277)+1)","v":""},"","","","","","",null,{"$f":"IF(COUNTIF(AZ$2:AZ278,AZ278)=1,AZ278,\"\")","v":""},{"$f":"IF(Limit_Deviation_Detail!B300=\"\",\"\",Limit_Deviation_Detail!B300)","v":""},{"$f":"IF(Limit_Deviation_Detail!C300=\"\",\"\",Limit_Deviation_Detail!C300)","v":""},{"$f":"IF(Limit_Deviation_Detail!E300=\"\",\"\",Limit_Deviation_Detail!E300)","v":""},"",{"$f":"+IF(AV278=\"\",\"\",MAX(BA$1:BA277)+1)","v":""},"","","",""]
[{"$f":"+IF(D279=\"\",\"\",MAX(A$1:A278)+1)","v":""},{"$f":"IF(Affected_Sources!C301=\"\",\"\",Affected_Sources!C301)","v":""},"",{"$f":"IF(COUNTIF(B$2:B279,B279)=1,B279,\"\")","v":""},null,null,null,null,null,null,null,null,null,null,null,null,null,null,null,{"$f":"+IF(Y279=\"\",\"\",MAX(T$1:T278)+1)","v":""},{"$f":"IF(Limit_Deviation_Detail!B301=\"\",\"\",Limit_Deviation_Detail!B301)","v":""},{"$f":"IF(Limit_Deviation_Detail!C301=\"\",\"\",Limit_Deviation_Detail!C301)","v":""},{"$f":"IF(Limit_Deviation_Detail!E301=\"\",\"\",Limit_Deviation_Detail!E301)","v":""},"",{"$f":"IF(COUNTIF(X$2:X279,X279)=1,X279,\"\")","v":""},"","","","","",null,null,null,null,{"$f":"IF(COUNTIF(AM$2:AM279,AM279)=1,AM279,\"\")","v":""},{"$f":"IF(CMS_Deviation_Detail!B301=\"\",\"\",CMS_Deviation_Detail!B301)","v":""},{"$f":"IF(CMS_Deviation_Detail!C301=\"\",\"\",CMS_Deviation_Detail!C301)","v":""},{"$f":"IF(CMS_Deviation_Detail!D301=\"\",\"\",CMS_Deviation_Detail!D301)","v":""},"",{"$f":"+IF(AI279=\"\",\"\",MAX(AN$1:AN278)+1)","v":""},"","","","","","",null,{"$f":"IF(COUNTIF(AZ$2:AZ279,AZ279)=1,AZ279,\"\")","v":""},{"$f":"IF(Limit_Deviation_Detail!B301=\"\",\"\",Limit_Deviation_Detail!B301)","v":""},{"$f":"IF(Limit_Deviation_Detail!C301=\"\",\"\",Limit_Deviation_Detail!C301)","v":""},{"$f":"IF(Limit_Deviation_Detail!E301=\"\",\"\",Limit_Deviation_Detail!E301)","v":""},"",{"$f":"+IF(AV279=\"\",\"\",MAX(BA$1:BA278)+1)","v":""},"","","",""]
[{"$f":"+IF(D280=\"\",\"\",MAX(A$1:A279)+1)","v":""},{"$f":"IF(Affected_Sources!C302=\"\",\"\",Affected_Sources!C302)","v":""},"",{"$f":"IF(COUNTIF(B$2:B280,B280)=1,B280,\"\")","v":""},null,null,null,null,null,null,null,null,null,null,null,null,null,null,null,{"$f":"+IF(Y280=\"\",\"\",MAX(T$1:T279)+1)","v":""},{"$f":"IF(Limit_Deviation_Detail!B302=\"\",\"\",Limit_Deviation_Detail!B302)","v":""},{"$f":"IF(Limit_Deviation_Detail!C302=\"\",\"\",Limit_Deviation_Detail!C302)","v":""},{"$f":"IF(Limit_Deviation_Detail!E302=\"\",\"\",Limit_Deviation_Detail!E302)","v":""},"",{"$f":"IF(COUNTIF(X$2:X280,X280)=1,X280,\"\")","v":""},"","","","","",null,null,null,null,{"$f":"IF(COUNTIF(AM$2:AM280,AM280)=1,AM280,\"\")","v":""},{"$f":"IF(CMS_Deviation_Detail!B302=\"\",\"\",CMS_Deviation_Detail!B302)","v":""},{"$f":"IF(CMS_Deviation_Detail!C302=\"\",\"\",CMS_Deviation_Detail!C302)","v":""},{"$f":"IF(CMS_Deviation_Detail!D302=\"\",\"\",CMS_Deviation_Detail!D302)","v":""},"",{"$f":"+IF(AI280=\"\",\"\",MAX(AN$1:AN279)+1)","v":""},"","","","","","",null,{"$f":"IF(COUNTIF(AZ$2:AZ280,AZ280)=1,AZ280,\"\")","v":""},{"$f":"IF(Limit_Deviation_Detail!B302=\"\",\"\",Limit_Deviation_Detail!B302)","v":""},{"$f":"IF(Limit_Deviation_Detail!C302=\"\",\"\",Limit_Deviation_Detail!C302)","v":""},{"$f":"IF(Limit_Deviation_Detail!E302=\"\",\"\",Limit_Deviation_Detail!E302)","v":""},"",{"$f":"+IF(AV280=\"\",\"\",MAX(BA$1:BA279)+1)","v":""},"","","",""]
[{"$f":"+IF(D281=\"\",\"\",MAX(A$1:A280)+1)","v":""},{"$f":"IF(Affected_Sources!C303=\"\",\"\",Affected_Sources!C303)","v":""},"",{"$f":"IF(COUNTIF(B$2:B281,B281)=1,B281,\"\")","v":""},null,null,null,null,null,null,null,null,null,null,null,null,null,null,null,{"$f":"+IF(Y281=\"\",\"\",MAX(T$1:T280)+1)","v":""},{"$f":"IF(Limit_Deviation_Detail!B303=\"\",\"\",Limit_Deviation_Detail!B303)","v":""},{"$f":"IF(Limit_Deviation_Detail!C303=\"\",\"\",Limit_Deviation_Detail!C303)","v":""},{"$f":"IF(Limit_Deviation_Detail!E303=\"\",\"\",Limit_Deviation_Detail!E303)","v":""},"",{"$f":"IF(COUNTIF(X$2:X281,X281)=1,X281,\"\")","v":""},"","","","","",null,null,null,null,{"$f":"IF(COUNTIF(AM$2:AM281,AM281)=1,AM281,\"\")","v":""},{"$f":"IF(CMS_Deviation_Detail!B303=\"\",\"\",CMS_Deviation_Detail!B303)","v":""},{"$f":"IF(CMS_Deviation_Detail!C303=\"\",\"\",CMS_Deviation_Detail!C303)","v":""},{"$f":"IF(CMS_Deviation_Detail!D303=\"\",\"\",CMS_Deviation_Detail!D303)","v":""},"",{"$f":"+IF(AI281=\"\",\"\",MAX(AN$1:AN280)+1)","v":""},"","","","","","",null,{"$f":"IF(COUNTIF(AZ$2:AZ281,AZ281)=1,AZ281,\"\")","v":""},{"$f":"IF(Limit_Deviation_Detail!B303=\"\",\"\",Limit_Deviation_Detail!B303)","v":""},{"$f":"IF(Limit_Deviation_Detail!C303=\"\",\"\",Limit_Deviation_Detail!C303)","v":""},{"$f":"IF(Limit_Deviation_Detail!E303=\"\",\"\",Limit_Deviation_Detail!E303)","v":""},"",{"$f":"+IF(AV281=\"\",\"\",MAX(BA$1:BA280)+1)","v":""},"","","",""]
[{"$f":"+IF(D282=\"\",\"\",MAX(A$1:A281)+1)","v":""},{"$f":"IF(Affected_Sources!C304=\"\",\"\",Affected_Sources!C304)","v":""},"",{"$f":"IF(COUNTIF(B$2:B282,B282)=1,B282,\"\")","v":""},null,null,null,null,null,null,null,null,null,null,null,null,null,null,null,{"$f":"+IF(Y282=\"\",\"\",MAX(T$1:T281)+1)","v":""},{"$f":"IF(Limit_Deviation_Detail!B304=\"\",\"\",Limit_Deviation_Detail!B304)","v":""},{"$f":"IF(Limit_Deviation_Detail!C304=\"\",\"\",Limit_Deviation_Detail!C304)","v":""},{"$f":"IF(Limit_Deviation_Detail!E304=\"\",\"\",Limit_Deviation_Detail!E304)","v":""},"",{"$f":"IF(COUNTIF(X$2:X282,X282)=1,X282,\"\")","v":""},"","","","","",null,null,null,null,{"$f":"IF(COUNTIF(AM$2:AM282,AM282)=1,AM282,\"\")","v":""},{"$f":"IF(CMS_Deviation_Detail!B304=\"\",\"\",CMS_Deviation_Detail!B304)","v":""},{"$f":"IF(CMS_Deviation_Detail!C304=\"\",\"\",CMS_Deviation_Detail!C304)","v":""},{"$f":"IF(CMS_Deviation_Detail!D304=\"\",\"\",CMS_Deviation_Detail!D304)","v":""},"",{"$f":"+IF(AI282=\"\",\"\",MAX(AN$1:AN281)+1)","v":""},"","","","","","",null,{"$f":"IF(COUNTIF(AZ$2:AZ282,AZ282)=1,AZ282,\"\")","v":""},{"$f":"IF(Limit_Deviation_Detail!B304=\"\",\"\",Limit_Deviation_Detail!B304)","v":""},{"$f":"IF(Limit_Deviation_Detail!C304=\"\",\"\",Limit_Deviation_Detail!C304)","v":""},{"$f":"IF(Limit_Deviation_Detail!E304=\"\",\"\",Limit_Deviation_Detail!E304)","v":""},"",{"$f":"+IF(AV282=\"\",\"\",MAX(BA$1:BA281)+1)","v":""},"","","",""]
[{"$f":"+IF(D283=\"\",\"\",MAX(A$1:A282)+1)","v":""},{"$f":"IF(Affected_Sources!C305=\"\",\"\",Affected_Sources!C305)","v":""},"",{"$f":"IF(COUNTIF(B$2:B283,B283)=1,B283,\"\")","v":""},null,null,null,null,null,null,null,null,null,null,null,null,null,null,null,{"$f":"+IF(Y283=\"\",\"\",MAX(T$1:T282)+1)","v":""},{"$f":"IF(Limit_Deviation_Detail!B305=\"\",\"\",Limit_Deviation_Detail!B305)","v":""},{"$f":"IF(Limit_Deviation_Detail!C305=\"\",\"\",Limit_Deviation_Detail!C305)","v":""},{"$f":"IF(Limit_Deviation_Detail!E305=\"\",\"\",Limit_Deviation_Detail!E305)","v":""},"",{"$f":"IF(COUNTIF(X$2:X283,X283)=1,X283,\"\")","v":""},"","","","","",null,null,null,null,{"$f":"IF(COUNTIF(AM$2:AM283,AM283)=1,AM283,\"\")","v":""},{"$f":"IF(CMS_Deviation_Detail!B305=\"\",\"\",CMS_Deviation_Detail!B305)","v":""},{"$f":"IF(CMS_Deviation_Detail!C305=\"\",\"\",CMS_Deviation_Detail!C305)","v":""},{"$f":"IF(CMS_Deviation_Detail!D305=\"\",\"\",CMS_Deviation_Detail!D305)","v":""},"",{"$f":"+IF(AI283=\"\",\"\",MAX(AN$1:AN282)+1)","v":""},"","","","","","",null,{"$f":"IF(COUNTIF(AZ$2:AZ283,AZ283)=1,AZ283,\"\")","v":""},{"$f":"IF(Limit_Deviation_Detail!B305=\"\",\"\",Limit_Deviation_Detail!B305)","v":""},{"$f":"IF(Limit_Deviation_Detail!C305=\"\",\"\",Limit_Deviation_Detail!C305)","v":""},{"$f":"IF(Limit_Deviation_Detail!E305=\"\",\"\",Limit_Deviation_Detail!E305)","v":""},"",{"$f":"+IF(AV283=\"\",\"\",MAX(BA$1:BA282)+1)","v":""},"","","",""]
[{"$f":"+IF(D284=\"\",\"\",MAX(A$1:A283)+1)","v":""},{"$f":"IF(Affected_Sources!C306=\"\",\"\",Affected_Sources!C306)","v":""},"",{"$f":"IF(COUNTIF(B$2:B284,B284)=1,B284,\"\")","v":""},null,null,null,null,null,null,null,null,null,null,null,null,null,null,null,{"$f":"+IF(Y284=\"\",\"\",MAX(T$1:T283)+1)","v":""},{"$f":"IF(Limit_Deviation_Detail!B306=\"\",\"\",Limit_Deviation_Detail!B306)","v":""},{"$f":"IF(Limit_Deviation_Detail!C306=\"\",\"\",Limit_Deviation_Detail!C306)","v":""},{"$f":"IF(Limit_Deviation_Detail!E306=\"\",\"\",Limit_Deviation_Detail!E306)","v":""},"",{"$f":"IF(COUNTIF(X$2:X284,X284)=1,X284,\"\")","v":""},"","","","","",null,null,null,null,{"$f":"IF(COUNTIF(AM$2:AM284,AM284)=1,AM284,\"\")","v":""},{"$f":"IF(CMS_Deviation_Detail!B306=\"\",\"\",CMS_Deviation_Detail!B306)","v":""},{"$f":"IF(CMS_Deviation_Detail!C306=\"\",\"\",CMS_Deviation_Detail!C306)","v":""},{"$f":"IF(CMS_Deviation_Detail!D306=\"\",\"\",CMS_Deviation_Detail!D306)","v":""},"",{"$f":"+IF(AI284=\"\",\"\",MAX(AN$1:AN283)+1)","v":""},"","","","","","",null,{"$f":"IF(COUNTIF(AZ$2:AZ284,AZ284)=1,AZ284,\"\")","v":""},{"$f":"IF(Limit_Deviation_Detail!B306=\"\",\"\",Limit_Deviation_Detail!B306)","v":""},{"$f":"IF(Limit_Deviation_Detail!C306=\"\",\"\",Limit_Deviation_Detail!C306)","v":""},{"$f":"IF(Limit_Deviation_Detail!E306=\"\",\"\",Limit_Deviation_Detail!E306)","v":""},"",{"$f":"+IF(AV284=\"\",\"\",MAX(BA$1:BA283)+1)","v":""},"","","",""]
[{"$f":"+IF(D285=\"\",\"\",MAX(A$1:A284)+1)","v":""},{"$f":"IF(Affected_Sources!C307=\"\",\"\",Affected_Sources!C307)","v":""},"",{"$f":"IF(COUNTIF(B$2:B285,B285)=1,B285,\"\")","v":""},null,null,null,null,null,null,null,null,null,null,null,null,null,null,null,{"$f":"+IF(Y285=\"\",\"\",MAX(T$1:T284)+1)","v":""},{"$f":"IF(Limit_Deviation_Detail!B307=\"\",\"\",Limit_Deviation_Detail!B307)","v":""},{"$f":"IF(Limit_Deviation_Detail!C307=\"\",\"\",Limit_Deviation_Detail!C307)","v":""},{"$f":"IF(Limit_Deviation_Detail!E307=\"\",\"\",Limit_Deviation_Detail!E307)","v":""},"",{"$f":"IF(COUNTIF(X$2:X285,X285)=1,X285,\"\")","v":""},"","","","","",null,null,null,null,{"$f":"IF(COUNTIF(AM$2:AM285,AM285)=1,AM285,\"\")","v":""},{"$f":"IF(CMS_Deviation_Detail!B307=\"\",\"\",CMS_Deviation_Detail!B307)","v":""},{"$f":"IF(CMS_Deviation_Detail!C307=\"\",\"\",CMS_Deviation_Detail!C307)","v":""},{"$f":"IF(CMS_Deviation_Detail!D307=\"\",\"\",CMS_Deviation_Detail!D307)","v":""},"",{"$f":"+IF(AI285=\"\",\"\",MAX(AN$1:AN284)+1)","v":""},"","","","","","",null,{"$f":"IF(COUNTIF(AZ$2:AZ285,AZ285)=1,AZ285,\"\")","v":""},{"$f":"IF(Limit_Deviation_Detail!B307=\"\",\"\",Limit_Deviation_Detail!B307)","v":""},{"$f":"IF(Limit_Deviation_Detail!C307=\"\",\"\",Limit_Deviation_Detail!C307)","v":""},{"$f":"IF(Limit_Deviation_Detail!E307=\"\",\"\",Limit_Deviation_Detail!E307)","v":""},"",{"$f":"+IF(AV285=\"\",\"\",MAX(BA$1:BA284)+1)","v":""},"","","",""]
[{"$f":"+IF(D286=\"\",\"\",MAX(A$1:A285)+1)","v":""},{"$f":"IF(Affected_Sources!C308=\"\",\"\",Affected_Sources!C308)","v":""},"",{"$f":"IF(COUNTIF(B$2:B286,B286)=1,B286,\"\")","v":""},null,null,null,null,null,null,null,null,null,null,null,null,null,null,null,{"$f":"+IF(Y286=\"\",\"\",MAX(T$1:T285)+1)","v":""},{"$f":"IF(Limit_Deviation_Detail!B308=\"\",\"\",Limit_Deviation_Detail!B308)","v":""},{"$f":"IF(Limit_Deviation_Detail!C308=\"\",\"\",Limit_Deviation_Detail!C308)","v":""},{"$f":"IF(Limit_Deviation_Detail!E308=\"\",\"\",Limit_Deviation_Detail!E308)","v":""},"",{"$f":"IF(COUNTIF(X$2:X286,X286)=1,X286,\"\")","v":""},"","","","","",null,null,null,null,{"$f":"IF(COUNTIF(AM$2:AM286,AM286)=1,AM286,\"\")","v":""},{"$f":"IF(CMS_Deviation_Detail!B308=\"\",\"\",CMS_Deviation_Detail!B308)","v":""},{"$f":"IF(CMS_Deviation_Detail!C308=\"\",\"\",CMS_Deviation_Detail!C308)","v":""},{"$f":"IF(CMS_Deviation_Detail!D308=\"\",\"\",CMS_Deviation_Detail!D308)","v":""},"",{"$f":"+IF(AI286=\"\",\"\",MAX(AN$1:AN285)+1)","v":""},"","","","","","",null,{"$f":"IF(COUNTIF(AZ$2:AZ286,AZ286)=1,AZ286,\"\")","v":""},{"$f":"IF(Limit_Deviation_Detail!B308=\"\",\"\",Limit_Deviation_Detail!B308)","v":""},{"$f":"IF(Limit_Deviation_Detail!C308=\"\",\"\",Limit_Deviation_Detail!C308)","v":""},{"$f":"IF(Limit_Deviation_Detail!E308=\"\",\"\",Limit_Deviation_Detail!E308)","v":""},"",{"$f":"+IF(AV286=\"\",\"\",MAX(BA$1:BA285)+1)","v":""},"","","",""]
[{"$f":"+IF(D287=\"\",\"\",MAX(A$1:A286)+1)","v":""},{"$f":"IF(Affected_Sources!C309=\"\",\"\",Affected_Sources!C309)","v":""},"",{"$f":"IF(COUNTIF(B$2:B287,B287)=1,B287,\"\")","v":""},null,null,null,null,null,null,null,null,null,null,null,null,null,null,null,{"$f":"+IF(Y287=\"\",\"\",MAX(T$1:T286)+1)","v":""},{"$f":"IF(Limit_Deviation_Detail!B309=\"\",\"\",Limit_Deviation_Detail!B309)","v":""},{"$f":"IF(Limit_Deviation_Detail!C309=\"\",\"\",Limit_Deviation_Detail!C309)","v":""},{"$f":"IF(Limit_Deviation_Detail!E309=\"\",\"\",Limit_Deviation_Detail!E309)","v":""},"",{"$f":"IF(COUNTIF(X$2:X287,X287)=1,X287,\"\")","v":""},"","","","","",null,null,null,null,{"$f":"IF(COUNTIF(AM$2:AM287,AM287)=1,AM287,\"\")","v":""},{"$f":"IF(CMS_Deviation_Detail!B309=\"\",\"\",CMS_Deviation_Detail!B309)","v":""},{"$f":"IF(CMS_Deviation_Detail!C309=\"\",\"\",CMS_Deviation_Detail!C309)","v":""},{"$f":"IF(CMS_Deviation_Detail!D309=\"\",\"\",CMS_Deviation_Detail!D309)","v":""},"",{"$f":"+IF(AI287=\"\",\"\",MAX(AN$1:AN286)+1)","v":""},"","","","","","",null,{"$f":"IF(COUNTIF(AZ$2:AZ287,AZ287)=1,AZ287,\"\")","v":""},{"$f":"IF(Limit_Deviation_Detail!B309=\"\",\"\",Limit_Deviation_Detail!B309)","v":""},{"$f":"IF(Limit_Deviation_Detail!C309=\"\",\"\",Limit_Deviation_Detail!C309)","v":""},{"$f":"IF(Limit_Deviation_Detail!E309=\"\",\"\",Limit_Deviation_Detail!E309)","v":""},"",{"$f":"+IF(AV287=\"\",\"\",MAX(BA$1:BA286)+1)","v":""},"","","",""]
[{"$f":"+IF(D288=\"\",\"\",MAX(A$1:A287)+1)","v":""},{"$f":"IF(Affected_Sources!C310=\"\",\"\",Affected_Sources!C310)","v":""},"",{"$f":"IF(COUNTIF(B$2:B288,B288)=1,B288,\"\")","v":""},null,null,null,null,null,null,null,null,null,null,null,null,null,null,null,{"$f":"+IF(Y288=\"\",\"\",MAX(T$1:T287)+1)","v":""},{"$f":"IF(Limit_Deviation_Detail!B310=\"\",\"\",Limit_Deviation_Detail!B310)","v":""},{"$f":"IF(Limit_Deviation_Detail!C310=\"\",\"\",Limit_Deviation_Detail!C310)","v":""},{"$f":"IF(Limit_Deviation_Detail!E310=\"\",\"\",Limit_Deviation_Detail!E310)","v":""},"",{"$f":"IF(COUNTIF(X$2:X288,X288)=1,X288,\"\")","v":""},"","","","","",null,null,null,null,{"$f":"IF(COUNTIF(AM$2:AM288,AM288)=1,AM288,\"\")","v":""},{"$f":"IF(CMS_Deviation_Detail!B310=\"\",\"\",CMS_Deviation_Detail!B310)","v":""},{"$f":"IF(CMS_Deviation_Detail!C310=\"\",\"\",CMS_Deviation_Detail!C310)","v":""},{"$f":"IF(CMS_Deviation_Detail!D310=\"\",\"\",CMS_Deviation_Detail!D310)","v":""},"",{"$f":"+IF(AI288=\"\",\"\",MAX(AN$1:AN287)+1)","v":""},"","","","","","",null,{"$f":"IF(COUNTIF(AZ$2:AZ288,AZ288)=1,AZ288,\"\")","v":""},{"$f":"IF(Limit_Deviation_Detail!B310=\"\",\"\",Limit_Deviation_Detail!B310)","v":""},{"$f":"IF(Limit_Deviation_Detail!C310=\"\",\"\",Limit_Deviation_Detail!C310)","v":""},{"$f":"IF(Limit_Deviation_Detail!E310=\"\",\"\",Limit_Deviation_Detail!E310)","v":""},"",{"$f":"+IF(AV288=\"\",\"\",MAX(BA$1:BA287)+1)","v":""},"","","",""]
[{"$f":"+IF(D289=\"\",\"\",MAX(A$1:A288)+1)","v":""},{"$f":"IF(Affected_Sources!C311=\"\",\"\",Affected_Sources!C311)","v":""},"",{"$f":"IF(COUNTIF(B$2:B289,B289)=1,B289,\"\")","v":""},null,null,null,null,null,null,null,null,null,null,null,null,null,null,null,{"$f":"+IF(Y289=\"\",\"\",MAX(T$1:T288)+1)","v":""},{"$f":"IF(Limit_Deviation_Detail!B311=\"\",\"\",Limit_Deviation_Detail!B311)","v":""},{"$f":"IF(Limit_Deviation_Detail!C311=\"\",\"\",Limit_Deviation_Detail!C311)","v":""},{"$f":"IF(Limit_Deviation_Detail!E311=\"\",\"\",Limit_Deviation_Detail!E311)","v":""},"",{"$f":"IF(COUNTIF(X$2:X289,X289)=1,X289,\"\")","v":""},"","","","","",null,null,null,null,{"$f":"IF(COUNTIF(AM$2:AM289,AM289)=1,AM289,\"\")","v":""},{"$f":"IF(CMS_Deviation_Detail!B311=\"\",\"\",CMS_Deviation_Detail!B311)","v":""},{"$f":"IF(CMS_Deviation_Detail!C311=\"\",\"\",CMS_Deviation_Detail!C311)","v":""},{"$f":"IF(CMS_Deviation_Detail!D311=\"\",\"\",CMS_Deviation_Detail!D311)","v":""},"",{"$f":"+IF(AI289=\"\",\"\",MAX(AN$1:AN288)+1)","v":""},"","","","","","",null,{"$f":"IF(COUNTIF(AZ$2:AZ289,AZ289)=1,AZ289,\"\")","v":""},{"$f":"IF(Limit_Deviation_Detail!B311=\"\",\"\",Limit_Deviation_Detail!B311)","v":""},{"$f":"IF(Limit_Deviation_Detail!C311=\"\",\"\",Limit_Deviation_Detail!C311)","v":""},{"$f":"IF(Limit_Deviation_Detail!E311=\"\",\"\",Limit_Deviation_Detail!E311)","v":""},"",{"$f":"+IF(AV289=\"\",\"\",MAX(BA$1:BA288)+1)","v":""},"","","",""]
[{"$f":"+IF(D290=\"\",\"\",MAX(A$1:A289)+1)","v":""},{"$f":"IF(Affected_Sources!C312=\"\",\"\",Affected_Sources!C312)","v":""},"",{"$f":"IF(COUNTIF(B$2:B290,B290)=1,B290,\"\")","v":""},null,null,null,null,null,null,null,null,null,null,null,null,null,null,null,{"$f":"+IF(Y290=\"\",\"\",MAX(T$1:T289)+1)","v":""},{"$f":"IF(Limit_Deviation_Detail!B312=\"\",\"\",Limit_Deviation_Detail!B312)","v":""},{"$f":"IF(Limit_Deviation_Detail!C312=\"\",\"\",Limit_Deviation_Detail!C312)","v":""},{"$f":"IF(Limit_Deviation_Detail!E312=\"\",\"\",Limit_Deviation_Detail!E312)","v":""},"",{"$f":"IF(COUNTIF(X$2:X290,X290)=1,X290,\"\")","v":""},"","","","","",null,null,null,null,{"$f":"IF(COUNTIF(AM$2:AM290,AM290)=1,AM290,\"\")","v":""},{"$f":"IF(CMS_Deviation_Detail!B312=\"\",\"\",CMS_Deviation_Detail!B312)","v":""},{"$f":"IF(CMS_Deviation_Detail!C312=\"\",\"\",CMS_Deviation_Detail!C312)","v":""},{"$f":"IF(CMS_Deviation_Detail!D312=\"\",\"\",CMS_Deviation_Detail!D312)","v":""},"",{"$f":"+IF(AI290=\"\",\"\",MAX(AN$1:AN289)+1)","v":""},"","","","","","",null,{"$f":"IF(COUNTIF(AZ$2:AZ290,AZ290)=1,AZ290,\"\")","v":""},{"$f":"IF(Limit_Deviation_Detail!B312=\"\",\"\",Limit_Deviation_Detail!B312)","v":""},{"$f":"IF(Limit_Deviation_Detail!C312=\"\",\"\",Limit_Deviation_Detail!C312)","v":""},{"$f":"IF(Limit_Deviation_Detail!E312=\"\",\"\",Limit_Deviation_Detail!E312)","v":""},"",{"$f":"+IF(AV290=\"\",\"\",MAX(BA$1:BA289)+1)","v":""},"","","",""]
[{"$f":"+IF(D291=\"\",\"\",MAX(A$1:A290)+1)","v":""},{"$f":"IF(Affected_Sources!C313=\"\",\"\",Affected_Sources!C313)","v":""},"",{"$f":"IF(COUNTIF(B$2:B291,B291)=1,B291,\"\")","v":""},null,null,null,null,null,null,null,null,null,null,null,null,null,null,null,{"$f":"+IF(Y291=\"\",\"\",MAX(T$1:T290)+1)","v":""},{"$f":"IF(Limit_Deviation_Detail!B313=\"\",\"\",Limit_Deviation_Detail!B313)","v":""},{"$f":"IF(Limit_Deviation_Detail!C313=\"\",\"\",Limit_Deviation_Detail!C313)","v":""},{"$f":"IF(Limit_Deviation_Detail!E313=\"\",\"\",Limit_Deviation_Detail!E313)","v":""},"",{"$f":"IF(COUNTIF(X$2:X291,X291)=1,X291,\"\")","v":""},"","","","","",null,null,null,null,{"$f":"IF(COUNTIF(AM$2:AM291,AM291)=1,AM291,\"\")","v":""},{"$f":"IF(CMS_Deviation_Detail!B313=\"\",\"\",CMS_Deviation_Detail!B313)","v":""},{"$f":"IF(CMS_Deviation_Detail!C313=\"\",\"\",CMS_Deviation_Detail!C313)","v":""},{"$f":"IF(CMS_Deviation_Detail!D313=\"\",\"\",CMS_Deviation_Detail!D313)","v":""},"",{"$f":"+IF(AI291=\"\",\"\",MAX(AN$1:AN290)+1)","v":""},"","","","","","",null,{"$f":"IF(COUNTIF(AZ$2:AZ291,AZ291)=1,AZ291,\"\")","v":""},{"$f":"IF(Limit_Deviation_Detail!B313=\"\",\"\",Limit_Deviation_Detail!B313)","v":""},{"$f":"IF(Limit_Deviation_Detail!C313=\"\",\"\",Limit_Deviation_Detail!C313)","v":""},{"$f":"IF(Limit_Deviation_Detail!E313=\"\",\"\",Limit_Deviation_Detail!E313)","v":""},"",{"$f":"+IF(AV291=\"\",\"\",MAX(BA$1:BA290)+1)","v":""},"","","",""]
[{"$f":"+IF(D292=\"\",\"\",MAX(A$1:A291)+1)","v":""},{"$f":"IF(Affected_Sources!C314=\"\",\"\",Affected_Sources!C314)","v":""},"",{"$f":"IF(COUNTIF(B$2:B292,B292)=1,B292,\"\")","v":""},null,null,null,null,null,null,null,null,null,null,null,null,null,null,null,{"$f":"+IF(Y292=\"\",\"\",MAX(T$1:T291)+1)","v":""},{"$f":"IF(Limit_Deviation_Detail!B314=\"\",\"\",Limit_Deviation_Detail!B314)","v":""},{"$f":"IF(Limit_Deviation_Detail!C314=\"\",\"\",Limit_Deviation_Detail!C314)","v":""},{"$f":"IF(Limit_Deviation_Detail!E314=\"\",\"\",Limit_Deviation_Detail!E314)","v":""},"",{"$f":"IF(COUNTIF(X$2:X292,X292)=1,X292,\"\")","v":""},"","","","","",null,null,null,null,{"$f":"IF(COUNTIF(AM$2:AM292,AM292)=1,AM292,\"\")","v":""},{"$f":"IF(CMS_Deviation_Detail!B314=\"\",\"\",CMS_Deviation_Detail!B314)","v":""},{"$f":"IF(CMS_Deviation_Detail!C314=\"\",\"\",CMS_Deviation_Detail!C314)","v":""},{"$f":"IF(CMS_Deviation_Detail!D314=\"\",\"\",CMS_Deviation_Detail!D314)","v":""},"",{"$f":"+IF(AI292=\"\",\"\",MAX(AN$1:AN291)+1)","v":""},"","","","","","",null,{"$f":"IF(COUNTIF(AZ$2:AZ292,AZ292)=1,AZ292,\"\")","v":""},{"$f":"IF(Limit_Deviation_Detail!B314=\"\",\"\",Limit_Deviation_Detail!B314)","v":""},{"$f":"IF(Limit_Deviation_Detail!C314=\"\",\"\",Limit_Deviation_Detail!C314)","v":""},{"$f":"IF(Limit_Deviation_Detail!E314=\"\",\"\",Limit_Deviation_Detail!E314)","v":""},"",{"$f":"+IF(AV292=\"\",\"\",MAX(BA$1:BA291)+1)","v":""},"","","",""]
[{"$f":"+IF(D293=\"\",\"\",MAX(A$1:A292)+1)","v":""},{"$f":"IF(Affected_Sources!C315=\"\",\"\",Affected_Sources!C315)","v":""},"",{"$f":"IF(COUNTIF(B$2:B293,B293)=1,B293,\"\")","v":""},null,null,null,null,null,null,null,null,null,null,null,null,null,null,null,{"$f":"+IF(Y293=\"\",\"\",MAX(T$1:T292)+1)","v":""},{"$f":"IF(Limit_Deviation_Detail!B315=\"\",\"\",Limit_Deviation_Detail!B315)","v":""},{"$f":"IF(Limit_Deviation_Detail!C315=\"\",\"\",Limit_Deviation_Detail!C315)","v":""},{"$f":"IF(Limit_Deviation_Detail!E315=\"\",\"\",Limit_Deviation_Detail!E315)","v":""},"",{"$f":"IF(COUNTIF(X$2:X293,X293)=1,X293,\"\")","v":""},"","","","","",null,null,null,null,{"$f":"IF(COUNTIF(AM$2:AM293,AM293)=1,AM293,\"\")","v":""},{"$f":"IF(CMS_Deviation_Detail!B315=\"\",\"\",CMS_Deviation_Detail!B315)","v":""},{"$f":"IF(CMS_Deviation_Detail!C315=\"\",\"\",CMS_Deviation_Detail!C315)","v":""},{"$f":"IF(CMS_Deviation_Detail!D315=\"\",\"\",CMS_Deviation_Detail!D315)","v":""},"",{"$f":"+IF(AI293=\"\",\"\",MAX(AN$1:AN292)+1)","v":""},"","","","","","",null,{"$f":"IF(COUNTIF(AZ$2:AZ293,AZ293)=1,AZ293,\"\")","v":""},{"$f":"IF(Limit_Deviation_Detail!B315=\"\",\"\",Limit_Deviation_Detail!B315)","v":""},{"$f":"IF(Limit_Deviation_Detail!C315=\"\",\"\",Limit_Deviation_Detail!C315)","v":""},{"$f":"IF(Limit_Deviation_Detail!E315=\"\",\"\",Limit_Deviation_Detail!E315)","v":""},"",{"$f":"+IF(AV293=\"\",\"\",MAX(BA$1:BA292)+1)","v":""},"","","",""]
[{"$f":"+IF(D294=\"\",\"\",MAX(A$1:A293)+1)","v":""},{"$f":"IF(Affected_Sources!C316=\"\",\"\",Affected_Sources!C316)","v":""},"",{"$f":"IF(COUNTIF(B$2:B294,B294)=1,B294,\"\")","v":""},null,null,null,null,null,null,null,null,null,null,null,null,null,null,null,{"$f":"+IF(Y294=\"\",\"\",MAX(T$1:T293)+1)","v":""},{"$f":"IF(Limit_Deviation_Detail!B316=\"\",\"\",Limit_Deviation_Detail!B316)","v":""},{"$f":"IF(Limit_Deviation_Detail!C316=\"\",\"\",Limit_Deviation_Detail!C316)","v":""},{"$f":"IF(Limit_Deviation_Detail!E316=\"\",\"\",Limit_Deviation_Detail!E316)","v":""},"",{"$f":"IF(COUNTIF(X$2:X294,X294)=1,X294,\"\")","v":""},"","","","","",null,null,null,null,{"$f":"IF(COUNTIF(AM$2:AM294,AM294)=1,AM294,\"\")","v":""},{"$f":"IF(CMS_Deviation_Detail!B316=\"\",\"\",CMS_Deviation_Detail!B316)","v":""},{"$f":"IF(CMS_Deviation_Detail!C316=\"\",\"\",CMS_Deviation_Detail!C316)","v":""},{"$f":"IF(CMS_Deviation_Detail!D316=\"\",\"\",CMS_Deviation_Detail!D316)","v":""},"",{"$f":"+IF(AI294=\"\",\"\",MAX(AN$1:AN293)+1)","v":""},"","","","","","",null,{"$f":"IF(COUNTIF(AZ$2:AZ294,AZ294)=1,AZ294,\"\")","v":""},{"$f":"IF(Limit_Deviation_Detail!B316=\"\",\"\",Limit_Deviation_Detail!B316)","v":""},{"$f":"IF(Limit_Deviation_Detail!C316=\"\",\"\",Limit_Deviation_Detail!C316)","v":""},{"$f":"IF(Limit_Deviation_Detail!E316=\"\",\"\",Limit_Deviation_Detail!E316)","v":""},"",{"$f":"+IF(AV294=\"\",\"\",MAX(BA$1:BA293)+1)","v":""},"","","",""]
[{"$f":"+IF(D295=\"\",\"\",MAX(A$1:A294)+1)","v":""},{"$f":"IF(Affected_Sources!C317=\"\",\"\",Affected_Sources!C317)","v":""},"",{"$f":"IF(COUNTIF(B$2:B295,B295)=1,B295,\"\")","v":""},null,null,null,null,null,null,null,null,null,null,null,null,null,null,null,{"$f":"+IF(Y295=\"\",\"\",MAX(T$1:T294)+1)","v":""},{"$f":"IF(Limit_Deviation_Detail!B317=\"\",\"\",Limit_Deviation_Detail!B317)","v":""},{"$f":"IF(Limit_Deviation_Detail!C317=\"\",\"\",Limit_Deviation_Detail!C317)","v":""},{"$f":"IF(Limit_Deviation_Detail!E317=\"\",\"\",Limit_Deviation_Detail!E317)","v":""},"",{"$f":"IF(COUNTIF(X$2:X295,X295)=1,X295,\"\")","v":""},"","","","","",null,null,null,null,{"$f":"IF(COUNTIF(AM$2:AM295,AM295)=1,AM295,\"\")","v":""},{"$f":"IF(CMS_Deviation_Detail!B317=\"\",\"\",CMS_Deviation_Detail!B317)","v":""},{"$f":"IF(CMS_Deviation_Detail!C317=\"\",\"\",CMS_Deviation_Detail!C317)","v":""},{"$f":"IF(CMS_Deviation_Detail!D317=\"\",\"\",CMS_Deviation_Detail!D317)","v":""},"",{"$f":"+IF(AI295=\"\",\"\",MAX(AN$1:AN294)+1)","v":""},"","","","","","",null,{"$f":"IF(COUNTIF(AZ$2:AZ295,AZ295)=1,AZ295,\"\")","v":""},{"$f":"IF(Limit_Deviation_Detail!B317=\"\",\"\",Limit_Deviation_Detail!B317)","v":""},{"$f":"IF(Limit_Deviation_Detail!C317=\"\",\"\",Limit_Deviation_Detail!C317)","v":""},{"$f":"IF(Limit_Deviation_Detail!E317=\"\",\"\",Limit_Deviation_Detail!E317)","v":""},"",{"$f":"+IF(AV295=\"\",\"\",MAX(BA$1:BA294)+1)","v":""},"","","",""]
[{"$f":"+IF(D296=\"\",\"\",MAX(A$1:A295)+1)","v":""},{"$f":"IF(Affected_Sources!C318=\"\",\"\",Affected_Sources!C318)","v":""},"",{"$f":"IF(COUNTIF(B$2:B296,B296)=1,B296,\"\")","v":""},null,null,null,null,null,null,null,null,null,null,null,null,null,null,null,{"$f":"+IF(Y296=\"\",\"\",MAX(T$1:T295)+1)","v":""},{"$f":"IF(Limit_Deviation_Detail!B318=\"\",\"\",Limit_Deviation_Detail!B318)","v":""},{"$f":"IF(Limit_Deviation_Detail!C318=\"\",\"\",Limit_Deviation_Detail!C318)","v":""},{"$f":"IF(Limit_Deviation_Detail!E318=\"\",\"\",Limit_Deviation_Detail!E318)","v":""},"",{"$f":"IF(COUNTIF(X$2:X296,X296)=1,X296,\"\")","v":""},"","","","","",null,null,null,null,{"$f":"IF(COUNTIF(AM$2:AM296,AM296)=1,AM296,\"\")","v":""},{"$f":"IF(CMS_Deviation_Detail!B318=\"\",\"\",CMS_Deviation_Detail!B318)","v":""},{"$f":"IF(CMS_Deviation_Detail!C318=\"\",\"\",CMS_Deviation_Detail!C318)","v":""},{"$f":"IF(CMS_Deviation_Detail!D318=\"\",\"\",CMS_Deviation_Detail!D318)","v":""},"",{"$f":"+IF(AI296=\"\",\"\",MAX(AN$1:AN295)+1)","v":""},"","","","","","",null,{"$f":"IF(COUNTIF(AZ$2:AZ296,AZ296)=1,AZ296,\"\")","v":""},{"$f":"IF(Limit_Deviation_Detail!B318=\"\",\"\",Limit_Deviation_Detail!B318)","v":""},{"$f":"IF(Limit_Deviation_Detail!C318=\"\",\"\",Limit_Deviation_Detail!C318)","v":""},{"$f":"IF(Limit_Deviation_Detail!E318=\"\",\"\",Limit_Deviation_Detail!E318)","v":""},"",{"$f":"+IF(AV296=\"\",\"\",MAX(BA$1:BA295)+1)","v":""},"","","",""]
[{"$f":"+IF(D297=\"\",\"\",MAX(A$1:A296)+1)","v":""},{"$f":"IF(Affected_Sources!C319=\"\",\"\",Affected_Sources!C319)","v":""},"",{"$f":"IF(COUNTIF(B$2:B297,B297)=1,B297,\"\")","v":""},null,null,null,null,null,null,null,null,null,null,null,null,null,null,null,{"$f":"+IF(Y297=\"\",\"\",MAX(T$1:T296)+1)","v":""},{"$f":"IF(Limit_Deviation_Detail!B319=\"\",\"\",Limit_Deviation_Detail!B319)","v":""},{"$f":"IF(Limit_Deviation_Detail!C319=\"\",\"\",Limit_Deviation_Detail!C319)","v":""},{"$f":"IF(Limit_Deviation_Detail!E319=\"\",\"\",Limit_Deviation_Detail!E319)","v":""},"",{"$f":"IF(COUNTIF(X$2:X297,X297)=1,X297,\"\")","v":""},"","","","","",null,null,null,null,{"$f":"IF(COUNTIF(AM$2:AM297,AM297)=1,AM297,\"\")","v":""},{"$f":"IF(CMS_Deviation_Detail!B319=\"\",\"\",CMS_Deviation_Detail!B319)","v":""},{"$f":"IF(CMS_Deviation_Detail!C319=\"\",\"\",CMS_Deviation_Detail!C319)","v":""},{"$f":"IF(CMS_Deviation_Detail!D319=\"\",\"\",CMS_Deviation_Detail!D319)","v":""},"",{"$f":"+IF(AI297=\"\",\"\",MAX(AN$1:AN296)+1)","v":""},"","","","","","",null,{"$f":"IF(COUNTIF(AZ$2:AZ297,AZ297)=1,AZ297,\"\")","v":""},{"$f":"IF(Limit_Deviation_Detail!B319=\"\",\"\",Limit_Deviation_Detail!B319)","v":""},{"$f":"IF(Limit_Deviation_Detail!C319=\"\",\"\",Limit_Deviation_Detail!C319)","v":""},{"$f":"IF(Limit_Deviation_Detail!E319=\"\",\"\",Limit_Deviation_Detail!E319)","v":""},"",{"$f":"+IF(AV297=\"\",\"\",MAX(BA$1:BA296)+1)","v":""},"","","",""]
[{"$f":"+IF(D298=\"\",\"\",MAX(A$1:A297)+1)","v":""},{"$f":"IF(Affected_Sources!C320=\"\",\"\",Affected_Sources!C320)","v":""},"",{"$f":"IF(COUNTIF(B$2:B298,B298)=1,B298,\"\")","v":""},null,null,null,null,null,null,null,null,null,null,null,null,null,null,null,{"$f":"+IF(Y298=\"\",\"\",MAX(T$1:T297)+1)","v":""},{"$f":"IF(Limit_Deviation_Detail!B320=\"\",\"\",Limit_Deviation_Detail!B320)","v":""},{"$f":"IF(Limit_Deviation_Detail!C320=\"\",\"\",Limit_Deviation_Detail!C320)","v":""},{"$f":"IF(Limit_Deviation_Detail!E320=\"\",\"\",Limit_Deviation_Detail!E320)","v":""},"",{"$f":"IF(COUNTIF(X$2:X298,X298)=1,X298,\"\")","v":""},"","","","","",null,null,null,null,{"$f":"IF(COUNTIF(AM$2:AM298,AM298)=1,AM298,\"\")","v":""},{"$f":"IF(CMS_Deviation_Detail!B320=\"\",\"\",CMS_Deviation_Detail!B320)","v":""},{"$f":"IF(CMS_Deviation_Detail!C320=\"\",\"\",CMS_Deviation_Detail!C320)","v":""},{"$f":"IF(CMS_Deviation_Detail!D320=\"\",\"\",CMS_Deviation_Detail!D320)","v":""},"",{"$f":"+IF(AI298=\"\",\"\",MAX(AN$1:AN297)+1)","v":""},"","","","","","",null,{"$f":"IF(COUNTIF(AZ$2:AZ298,AZ298)=1,AZ298,\"\")","v":""},{"$f":"IF(Limit_Deviation_Detail!B320=\"\",\"\",Limit_Deviation_Detail!B320)","v":""},{"$f":"IF(Limit_Deviation_Detail!C320=\"\",\"\",Limit_Deviation_Detail!C320)","v":""},{"$f":"IF(Limit_Deviation_Detail!E320=\"\",\"\",Limit_Deviation_Detail!E320)","v":""},"",{"$f":"+IF(AV298=\"\",\"\",MAX(BA$1:BA297)+1)","v":""},"","","",""]
[{"$f":"+IF(D299=\"\",\"\",MAX(A$1:A298)+1)","v":""},{"$f":"IF(Affected_Sources!C321=\"\",\"\",Affected_Sources!C321)","v":""},"",{"$f":"IF(COUNTIF(B$2:B299,B299)=1,B299,\"\")","v":""},null,null,null,null,null,null,null,null,null,null,null,null,null,null,null,{"$f":"+IF(Y299=\"\",\"\",MAX(T$1:T298)+1)","v":""},{"$f":"IF(Limit_Deviation_Detail!B321=\"\",\"\",Limit_Deviation_Detail!B321)","v":""},{"$f":"IF(Limit_Deviation_Detail!C321=\"\",\"\",Limit_Deviation_Detail!C321)","v":""},{"$f":"IF(Limit_Deviation_Detail!E321=\"\",\"\",Limit_Deviation_Detail!E321)","v":""},"",{"$f":"IF(COUNTIF(X$2:X299,X299)=1,X299,\"\")","v":""},"","","","","",null,null,null,null,{"$f":"IF(COUNTIF(AM$2:AM299,AM299)=1,AM299,\"\")","v":""},{"$f":"IF(CMS_Deviation_Detail!B321=\"\",\"\",CMS_Deviation_Detail!B321)","v":""},{"$f":"IF(CMS_Deviation_Detail!C321=\"\",\"\",CMS_Deviation_Detail!C321)","v":""},{"$f":"IF(CMS_Deviation_Detail!D321=\"\",\"\",CMS_Deviation_Detail!D321)","v":""},"",{"$f":"+IF(AI299=\"\",\"\",MAX(AN$1:AN298)+1)","v":""},"","","","","","",null,{"$f":"IF(COUNTIF(AZ$2:AZ299,AZ299)=1,AZ299,\"\")","v":""},{"$f":"IF(Limit_Deviation_Detail!B321=\"\",\"\",Limit_Deviation_Detail!B321)","v":""},{"$f":"IF(Limit_Deviation_Detail!C321=\"\",\"\",Limit_Deviation_Detail!C321)","v":""},{"$f":"IF(Limit_Deviation_Detail!E321=\"\",\"\",Limit_Deviation_Detail!E321)","v":""},"",{"$f":"+IF(AV299=\"\",\"\",MAX(BA$1:BA298)+1)","v":""},"","","",""]
[{"$f":"+IF(D300=\"\",\"\",MAX(A$1:A299)+1)","v":""},{"$f":"IF(Affected_Sources!C322=\"\",\"\",Affected_Sources!C322)","v":""},"",{"$f":"IF(COUNTIF(B$2:B300,B300)=1,B300,\"\")","v":""},null,null,null,null,null,null,null,null,null,null,null,null,null,null,null,{"$f":"+IF(Y300=\"\",\"\",MAX(T$1:T299)+1)","v":""},{"$f":"IF(Limit_Deviation_Detail!B322=\"\",\"\",Limit_Deviation_Detail!B322)","v":""},{"$f":"IF(Limit_Deviation_Detail!C322=\"\",\"\",Limit_Deviation_Detail!C322)","v":""},{"$f":"IF(Limit_Deviation_Detail!E322=\"\",\"\",Limit_Deviation_Detail!E322)","v":""},"",{"$f":"IF(COUNTIF(X$2:X300,X300)=1,X300,\"\")","v":""},"","","","","",null,null,null,null,{"$f":"IF(COUNTIF(AM$2:AM300,AM300)=1,AM300,\"\")","v":""},{"$f":"IF(CMS_Deviation_Detail!B322=\"\",\"\",CMS_Deviation_Detail!B322)","v":""},{"$f":"IF(CMS_Deviation_Detail!C322=\"\",\"\",CMS_Deviation_Detail!C322)","v":""},{"$f":"IF(CMS_Deviation_Detail!D322=\"\",\"\",CMS_Deviation_Detail!D322)","v":""},"",{"$f":"+IF(AI300=\"\",\"\",MAX(AN$1:AN299)+1)","v":""},"","","","","","",null,{"$f":"IF(COUNTIF(AZ$2:AZ300,AZ300)=1,AZ300,\"\")","v":""},{"$f":"IF(Limit_Deviation_Detail!B322=\"\",\"\",Limit_Deviation_Detail!B322)","v":""},{"$f":"IF(Limit_Deviation_Detail!C322=\"\",\"\",Limit_Deviation_Detail!C322)","v":""},{"$f":"IF(Limit_Deviation_Detail!E322=\"\",\"\",Limit_Deviation_Detail!E322)","v":""},"",{"$f":"+IF(AV300=\"\",\"\",MAX(BA$1:BA299)+1)","v":""},"","","",""]
[{"$f":"+IF(D301=\"\",\"\",MAX(A$1:A300)+1)","v":""},{"$f":"IF(Affected_Sources!C323=\"\",\"\",Affected_Sources!C323)","v":""},"",{"$f":"IF(COUNTIF(B$2:B301,B301)=1,B301,\"\")","v":""},null,null,null,null,null,null,null,null,null,null,null,null,null,null,null,{"$f":"+IF(Y301=\"\",\"\",MAX(T$1:T300)+1)","v":""},{"$f":"IF(Limit_Deviation_Detail!B323=\"\",\"\",Limit_Deviation_Detail!B323)","v":""},{"$f":"IF(Limit_Deviation_Detail!C323=\"\",\"\",Limit_Deviation_Detail!C323)","v":""},{"$f":"IF(Limit_Deviation_Detail!E323=\"\",\"\",Limit_Deviation_Detail!E323)","v":""},"",{"$f":"IF(COUNTIF(X$2:X301,X301)=1,X301,\"\")","v":""},"","","","","",null,null,null,null,{"$f":"IF(COUNTIF(AM$2:AM301,AM301)=1,AM301,\"\")","v":""},{"$f":"IF(CMS_Deviation_Detail!B323=\"\",\"\",CMS_Deviation_Detail!B323)","v":""},{"$f":"IF(CMS_Deviation_Detail!C323=\"\",\"\",CMS_Deviation_Detail!C323)","v":""},{"$f":"IF(CMS_Deviation_Detail!D323=\"\",\"\",CMS_Deviation_Detail!D323)","v":""},"",{"$f":"+IF(AI301=\"\",\"\",MAX(AN$1:AN300)+1)","v":""},"","","","","","",null,{"$f":"IF(COUNTIF(AZ$2:AZ301,AZ301)=1,AZ301,\"\")","v":""},{"$f":"IF(Limit_Deviation_Detail!B323=\"\",\"\",Limit_Deviation_Detail!B323)","v":""},{"$f":"IF(Limit_Deviation_Detail!C323=\"\",\"\",Limit_Deviation_Detail!C323)","v":""},{"$f":"IF(Limit_Deviation_Detail!E323=\"\",\"\",Limit_Deviation_Detail!E323)","v":""},"",{"$f":"+IF(AV301=\"\",\"\",MAX(BA$1:BA300)+1)","v":""},"","","",""]
[{"$f":"+IF(D302=\"\",\"\",MAX(A$1:A301)+1)","v":""},{"$f":"IF(Affected_Sources!C324=\"\",\"\",Affected_Sources!C324)","v":""},"",{"$f":"IF(COUNTIF(B$2:B302,B302)=1,B302,\"\")","v":""},null,null,null,null,null,null,null,null,null,null,null,null,null,null,null,{"$f":"+IF(Y302=\"\",\"\",MAX(T$1:T301)+1)","v":""},{"$f":"IF(Limit_Deviation_Detail!B324=\"\",\"\",Limit_Deviation_Detail!B324)","v":""},{"$f":"IF(Limit_Deviation_Detail!C324=\"\",\"\",Limit_Deviation_Detail!C324)","v":""},{"$f":"IF(Limit_Deviation_Detail!E324=\"\",\"\",Limit_Deviation_Detail!E324)","v":""},"",{"$f":"IF(COUNTIF(X$2:X302,X302)=1,X302,\"\")","v":""},"","","","","",null,null,null,null,{"$f":"IF(COUNTIF(AM$2:AM302,AM302)=1,AM302,\"\")","v":""},{"$f":"IF(CMS_Deviation_Detail!B324=\"\",\"\",CMS_Deviation_Detail!B324)","v":""},{"$f":"IF(CMS_Deviation_Detail!C324=\"\",\"\",CMS_Deviation_Detail!C324)","v":""},{"$f":"IF(CMS_Deviation_Detail!D324=\"\",\"\",CMS_Deviation_Detail!D324)","v":""},"",{"$f":"+IF(AI302=\"\",\"\",MAX(AN$1:AN301)+1)","v":""},"","","","","","",null,{"$f":"IF(COUNTIF(AZ$2:AZ302,AZ302)=1,AZ302,\"\")","v":""},{"$f":"IF(Limit_Deviation_Detail!B324=\"\",\"\",Limit_Deviation_Detail!B324)","v":""},{"$f":"IF(Limit_Deviation_Detail!C324=\"\",\"\",Limit_Deviation_Detail!C324)","v":""},{"$f":"IF(Limit_Deviation_Detail!E324=\"\",\"\",Limit_Deviation_Detail!E324)","v":""},"",{"$f":"+IF(AV302=\"\",\"\",MAX(BA$1:BA301)+1)","v":""},"","","",""]
[{"$f":"+IF(D303=\"\",\"\",MAX(A$1:A302)+1)","v":""},{"$f":"IF(Affected_Sources!C325=\"\",\"\",Affected_Sources!C325)","v":""},"",{"$f":"IF(COUNTIF(B$2:B303,B303)=1,B303,\"\")","v":""},null,null,null,null,null,null,null,null,null,null,null,null,null,null,null,{"$f":"+IF(Y303=\"\",\"\",MAX(T$1:T302)+1)","v":""},{"$f":"IF(Limit_Deviation_Detail!B325=\"\",\"\",Limit_Deviation_Detail!B325)","v":""},{"$f":"IF(Limit_Deviation_Detail!C325=\"\",\"\",Limit_Deviation_Detail!C325)","v":""},{"$f":"IF(Limit_Deviation_Detail!E325=\"\",\"\",Limit_Deviation_Detail!E325)","v":""},"",{"$f":"IF(COUNTIF(X$2:X303,X303)=1,X303,\"\")","v":""},"","","","","",null,null,null,null,{"$f":"IF(COUNTIF(AM$2:AM303,AM303)=1,AM303,\"\")","v":""},{"$f":"IF(CMS_Deviation_Detail!B325=\"\",\"\",CMS_Deviation_Detail!B325)","v":""},{"$f":"IF(CMS_Deviation_Detail!C325=\"\",\"\",CMS_Deviation_Detail!C325)","v":""},{"$f":"IF(CMS_Deviation_Detail!D325=\"\",\"\",CMS_Deviation_Detail!D325)","v":""},"",{"$f":"+IF(AI303=\"\",\"\",MAX(AN$1:AN302)+1)","v":""},"","","","","","",null,{"$f":"IF(COUNTIF(AZ$2:AZ303,AZ303)=1,AZ303,\"\")","v":""},{"$f":"IF(Limit_Deviation_Detail!B325=\"\",\"\",Limit_Deviation_Detail!B325)","v":""},{"$f":"IF(Limit_Deviation_Detail!C325=\"\",\"\",Limit_Deviation_Detail!C325)","v":""},{"$f":"IF(Limit_Deviation_Detail!E325=\"\",\"\",Limit_Deviation_Detail!E325)","v":""},"",{"$f":"+IF(AV303=\"\",\"\",MAX(BA$1:BA302)+1)","v":""},"","","",""]
[{"$f":"+IF(D304=\"\",\"\",MAX(A$1:A303)+1)","v":""},{"$f":"IF(Affected_Sources!C326=\"\",\"\",Affected_Sources!C326)","v":""},"",{"$f":"IF(COUNTIF(B$2:B304,B304)=1,B304,\"\")","v":""},null,null,null,null,null,null,null,null,null,null,null,null,null,null,null,{"$f":"+IF(Y304=\"\",\"\",MAX(T$1:T303)+1)","v":""},{"$f":"IF(Limit_Deviation_Detail!B326=\"\",\"\",Limit_Deviation_Detail!B326)","v":""},{"$f":"IF(Limit_Deviation_Detail!C326=\"\",\"\",Limit_Deviation_Detail!C326)","v":""},{"$f":"IF(Limit_Deviation_Detail!E326=\"\",\"\",Limit_Deviation_Detail!E326)","v":""},"",{"$f":"IF(COUNTIF(X$2:X304,X304)=1,X304,\"\")","v":""},"","","","","",null,null,null,null,{"$f":"IF(COUNTIF(AM$2:AM304,AM304)=1,AM304,\"\")","v":""},{"$f":"IF(CMS_Deviation_Detail!B326=\"\",\"\",CMS_Deviation_Detail!B326)","v":""},{"$f":"IF(CMS_Deviation_Detail!C326=\"\",\"\",CMS_Deviation_Detail!C326)","v":""},{"$f":"IF(CMS_Deviation_Detail!D326=\"\",\"\",CMS_Deviation_Detail!D326)","v":""},"",{"$f":"+IF(AI304=\"\",\"\",MAX(AN$1:AN303)+1)","v":""},"","","","","","",null,{"$f":"IF(COUNTIF(AZ$2:AZ304,AZ304)=1,AZ304,\"\")","v":""},{"$f":"IF(Limit_Deviation_Detail!B326=\"\",\"\",Limit_Deviation_Detail!B326)","v":""},{"$f":"IF(Limit_Deviation_Detail!C326=\"\",\"\",Limit_Deviation_Detail!C326)","v":""},{"$f":"IF(Limit_Deviation_Detail!E326=\"\",\"\",Limit_Deviation_Detail!E326)","v":""},"",{"$f":"+IF(AV304=\"\",\"\",MAX(BA$1:BA303)+1)","v":""},"","","",""]
[{"$f":"+IF(D305=\"\",\"\",MAX(A$1:A304)+1)","v":""},{"$f":"IF(Affected_Sources!C327=\"\",\"\",Affected_Sources!C327)","v":""},"",{"$f":"IF(COUNTIF(B$2:B305,B305)=1,B305,\"\")","v":""},null,null,null,null,null,null,null,null,null,null,null,null,null,null,null,{"$f":"+IF(Y305=\"\",\"\",MAX(T$1:T304)+1)","v":""},{"$f":"IF(Limit_Deviation_Detail!B327=\"\",\"\",Limit_Deviation_Detail!B327)","v":""},{"$f":"IF(Limit_Deviation_Detail!C327=\"\",\"\",Limit_Deviation_Detail!C327)","v":""},{"$f":"IF(Limit_Deviation_Detail!E327=\"\",\"\",Limit_Deviation_Detail!E327)","v":""},"",{"$f":"IF(COUNTIF(X$2:X305,X305)=1,X305,\"\")","v":""},"","","","","",null,null,null,null,{"$f":"IF(COUNTIF(AM$2:AM305,AM305)=1,AM305,\"\")","v":""},{"$f":"IF(CMS_Deviation_Detail!B327=\"\",\"\",CMS_Deviation_Detail!B327)","v":""},{"$f":"IF(CMS_Deviation_Detail!C327=\"\",\"\",CMS_Deviation_Detail!C327)","v":""},{"$f":"IF(CMS_Deviation_Detail!D327=\"\",\"\",CMS_Deviation_Detail!D327)","v":""},"",{"$f":"+IF(AI305=\"\",\"\",MAX(AN$1:AN304)+1)","v":""},"","","","","","",null,{"$f":"IF(COUNTIF(AZ$2:AZ305,AZ305)=1,AZ305,\"\")","v":""},{"$f":"IF(Limit_Deviation_Detail!B327=\"\",\"\",Limit_Deviation_Detail!B327)","v":""},{"$f":"IF(Limit_Deviation_Detail!C327=\"\",\"\",Limit_Deviation_Detail!C327)","v":""},{"$f":"IF(Limit_Deviation_Detail!E327=\"\",\"\",Limit_Deviation_Detail!E327)","v":""},"",{"$f":"+IF(AV305=\"\",\"\",MAX(BA$1:BA304)+1)","v":""},"","","",""]
[{"$f":"+IF(D306=\"\",\"\",MAX(A$1:A305)+1)","v":""},{"$f":"IF(Affected_Sources!C328=\"\",\"\",Affected_Sources!C328)","v":""},"",{"$f":"IF(COUNTIF(B$2:B306,B306)=1,B306,\"\")","v":""},null,null,null,null,null,null,null,null,null,null,null,null,null,null,null,{"$f":"+IF(Y306=\"\",\"\",MAX(T$1:T305)+1)","v":""},{"$f":"IF(Limit_Deviation_Detail!B328=\"\",\"\",Limit_Deviation_Detail!B328)","v":""},{"$f":"IF(Limit_Deviation_Detail!C328=\"\",\"\",Limit_Deviation_Detail!C328)","v":""},{"$f":"IF(Limit_Deviation_Detail!E328=\"\",\"\",Limit_Deviation_Detail!E328)","v":""},"",{"$f":"IF(COUNTIF(X$2:X306,X306)=1,X306,\"\")","v":""},"","","","","",null,null,null,null,{"$f":"IF(COUNTIF(AM$2:AM306,AM306)=1,AM306,\"\")","v":""},{"$f":"IF(CMS_Deviation_Detail!B328=\"\",\"\",CMS_Deviation_Detail!B328)","v":""},{"$f":"IF(CMS_Deviation_Detail!C328=\"\",\"\",CMS_Deviation_Detail!C328)","v":""},{"$f":"IF(CMS_Deviation_Detail!D328=\"\",\"\",CMS_Deviation_Detail!D328)","v":""},"",{"$f":"+IF(AI306=\"\",\"\",MAX(AN$1:AN305)+1)","v":""},"","","","","","",null,{"$f":"IF(COUNTIF(AZ$2:AZ306,AZ306)=1,AZ306,\"\")","v":""},{"$f":"IF(Limit_Deviation_Detail!B328=\"\",\"\",Limit_Deviation_Detail!B328)","v":""},{"$f":"IF(Limit_Deviation_Detail!C328=\"\",\"\",Limit_Deviation_Detail!C328)","v":""},{"$f":"IF(Limit_Deviation_Detail!E328=\"\",\"\",Limit_Deviation_Detail!E328)","v":""},"",{"$f":"+IF(AV306=\"\",\"\",MAX(BA$1:BA305)+1)","v":""},"","","",""]
[{"$f":"+IF(D307=\"\",\"\",MAX(A$1:A306)+1)","v":""},{"$f":"IF(Affected_Sources!C329=\"\",\"\",Affected_Sources!C329)","v":""},"",{"$f":"IF(COUNTIF(B$2:B307,B307)=1,B307,\"\")","v":""},null,null,null,null,null,null,null,null,null,null,null,null,null,null,null,{"$f":"+IF(Y307=\"\",\"\",MAX(T$1:T306)+1)","v":""},{"$f":"IF(Limit_Deviation_Detail!B329=\"\",\"\",Limit_Deviation_Detail!B329)","v":""},{"$f":"IF(Limit_Deviation_Detail!C329=\"\",\"\",Limit_Deviation_Detail!C329)","v":""},{"$f":"IF(Limit_Deviation_Detail!E329=\"\",\"\",Limit_Deviation_Detail!E329)","v":""},"",{"$f":"IF(COUNTIF(X$2:X307,X307)=1,X307,\"\")","v":""},"","","","","",null,null,null,null,{"$f":"IF(COUNTIF(AM$2:AM307,AM307)=1,AM307,\"\")","v":""},{"$f":"IF(CMS_Deviation_Detail!B329=\"\",\"\",CMS_Deviation_Detail!B329)","v":""},{"$f":"IF(CMS_Deviation_Detail!C329=\"\",\"\",CMS_Deviation_Detail!C329)","v":""},{"$f":"IF(CMS_Deviation_Detail!D329=\"\",\"\",CMS_Deviation_Detail!D329)","v":""},"",{"$f":"+IF(AI307=\"\",\"\",MAX(AN$1:AN306)+1)","v":""},"","","","","","",null,{"$f":"IF(COUNTIF(AZ$2:AZ307,AZ307)=1,AZ307,\"\")","v":""},{"$f":"IF(Limit_Deviation_Detail!B329=\"\",\"\",Limit_Deviation_Detail!B329)","v":""},{"$f":"IF(Limit_Deviation_Detail!C329=\"\",\"\",Limit_Deviation_Detail!C329)","v":""},{"$f":"IF(Limit_Deviation_Detail!E329=\"\",\"\",Limit_Deviation_Detail!E329)","v":""},"",{"$f":"+IF(AV307=\"\",\"\",MAX(BA$1:BA306)+1)","v":""},"","","",""]
[{"$f":"+IF(D308=\"\",\"\",MAX(A$1:A307)+1)","v":""},{"$f":"IF(Affected_Sources!C330=\"\",\"\",Affected_Sources!C330)","v":""},"",{"$f":"IF(COUNTIF(B$2:B308,B308)=1,B308,\"\")","v":""},null,null,null,null,null,null,null,null,null,null,null,null,null,null,null,{"$f":"+IF(Y308=\"\",\"\",MAX(T$1:T307)+1)","v":""},{"$f":"IF(Limit_Deviation_Detail!B330=\"\",\"\",Limit_Deviation_Detail!B330)","v":""},{"$f":"IF(Limit_Deviation_Detail!C330=\"\",\"\",Limit_Deviation_Detail!C330)","v":""},{"$f":"IF(Limit_Deviation_Detail!E330=\"\",\"\",Limit_Deviation_Detail!E330)","v":""},"",{"$f":"IF(COUNTIF(X$2:X308,X308)=1,X308,\"\")","v":""},"","","","","",null,null,null,null,{"$f":"IF(COUNTIF(AM$2:AM308,AM308)=1,AM308,\"\")","v":""},{"$f":"IF(CMS_Deviation_Detail!B330=\"\",\"\",CMS_Deviation_Detail!B330)","v":""},{"$f":"IF(CMS_Deviation_Detail!C330=\"\",\"\",CMS_Deviation_Detail!C330)","v":""},{"$f":"IF(CMS_Deviation_Detail!D330=\"\",\"\",CMS_Deviation_Detail!D330)","v":""},"",{"$f":"+IF(AI308=\"\",\"\",MAX(AN$1:AN307)+1)","v":""},"","","","","","",null,{"$f":"IF(COUNTIF(AZ$2:AZ308,AZ308)=1,AZ308,\"\")","v":""},{"$f":"IF(Limit_Deviation_Detail!B330=\"\",\"\",Limit_Deviation_Detail!B330)","v":""},{"$f":"IF(Limit_Deviation_Detail!C330=\"\",\"\",Limit_Deviation_Detail!C330)","v":""},{"$f":"IF(Limit_Deviation_Detail!E330=\"\",\"\",Limit_Deviation_Detail!E330)","v":""},"",{"$f":"+IF(AV308=\"\",\"\",MAX(BA$1:BA307)+1)","v":""},"","","",""]
[{"$f":"+IF(D309=\"\",\"\",MAX(A$1:A308)+1)","v":""},{"$f":"IF(Affected_Sources!C331=\"\",\"\",Affected_Sources!C331)","v":""},"",{"$f":"IF(COUNTIF(B$2:B309,B309)=1,B309,\"\")","v":""},null,null,null,null,null,null,null,null,null,null,null,null,null,null,null,{"$f":"+IF(Y309=\"\",\"\",MAX(T$1:T308)+1)","v":""},{"$f":"IF(Limit_Deviation_Detail!B331=\"\",\"\",Limit_Deviation_Detail!B331)","v":""},{"$f":"IF(Limit_Deviation_Detail!C331=\"\",\"\",Limit_Deviation_Detail!C331)","v":""},{"$f":"IF(Limit_Deviation_Detail!E331=\"\",\"\",Limit_Deviation_Detail!E331)","v":""},"",{"$f":"IF(COUNTIF(X$2:X309,X309)=1,X309,\"\")","v":""},"","","","","",null,null,null,null,{"$f":"IF(COUNTIF(AM$2:AM309,AM309)=1,AM309,\"\")","v":""},{"$f":"IF(CMS_Deviation_Detail!B331=\"\",\"\",CMS_Deviation_Detail!B331)","v":""},{"$f":"IF(CMS_Deviation_Detail!C331=\"\",\"\",CMS_Deviation_Detail!C331)","v":""},{"$f":"IF(CMS_Deviation_Detail!D331=\"\",\"\",CMS_Deviation_Detail!D331)","v":""},"",{"$f":"+IF(AI309=\"\",\"\",MAX(AN$1:AN308)+1)","v":""},"","","","","","",null,{"$f":"IF(COUNTIF(AZ$2:AZ309,AZ309)=1,AZ309,\"\")","v":""},{"$f":"IF(Limit_Deviation_Detail!B331=\"\",\"\",Limit_Deviation_Detail!B331)","v":""},{"$f":"IF(Limit_Deviation_Detail!C331=\"\",\"\",Limit_Deviation_Detail!C331)","v":""},{"$f":"IF(Limit_Deviation_Detail!E331=\"\",\"\",Limit_Deviation_Detail!E331)","v":""},"",{"$f":"+IF(AV309=\"\",\"\",MAX(BA$1:BA308)+1)","v":""},"","","",""]
[{"$f":"+IF(D310=\"\",\"\",MAX(A$1:A309)+1)","v":""},{"$f":"IF(Affected_Sources!C332=\"\",\"\",Affected_Sources!C332)","v":""},"",{"$f":"IF(COUNTIF(B$2:B310,B310)=1,B310,\"\")","v":""},null,null,null,null,null,null,null,null,null,null,null,null,null,null,null,{"$f":"+IF(Y310=\"\",\"\",MAX(T$1:T309)+1)","v":""},{"$f":"IF(Limit_Deviation_Detail!B332=\"\",\"\",Limit_Deviation_Detail!B332)","v":""},{"$f":"IF(Limit_Deviation_Detail!C332=\"\",\"\",Limit_Deviation_Detail!C332)","v":""},{"$f":"IF(Limit_Deviation_Detail!E332=\"\",\"\",Limit_Deviation_Detail!E332)","v":""},"",{"$f":"IF(COUNTIF(X$2:X310,X310)=1,X310,\"\")","v":""},"","","","","",null,null,null,null,{"$f":"IF(COUNTIF(AM$2:AM310,AM310)=1,AM310,\"\")","v":""},{"$f":"IF(CMS_Deviation_Detail!B332=\"\",\"\",CMS_Deviation_Detail!B332)","v":""},{"$f":"IF(CMS_Deviation_Detail!C332=\"\",\"\",CMS_Deviation_Detail!C332)","v":""},{"$f":"IF(CMS_Deviation_Detail!D332=\"\",\"\",CMS_Deviation_Detail!D332)","v":""},"",{"$f":"+IF(AI310=\"\",\"\",MAX(AN$1:AN309)+1)","v":""},"","","","","","",null,{"$f":"IF(COUNTIF(AZ$2:AZ310,AZ310)=1,AZ310,\"\")","v":""},{"$f":"IF(Limit_Deviation_Detail!B332=\"\",\"\",Limit_Deviation_Detail!B332)","v":""},{"$f":"IF(Limit_Deviation_Detail!C332=\"\",\"\",Limit_Deviation_Detail!C332)","v":""},{"$f":"IF(Limit_Deviation_Detail!E332=\"\",\"\",Limit_Deviation_Detail!E332)","v":""},"",{"$f":"+IF(AV310=\"\",\"\",MAX(BA$1:BA309)+1)","v":""},"","","",""]
[{"$f":"+IF(D311=\"\",\"\",MAX(A$1:A310)+1)","v":""},{"$f":"IF(Affected_Sources!C333=\"\",\"\",Affected_Sources!C333)","v":""},"",{"$f":"IF(COUNTIF(B$2:B311,B311)=1,B311,\"\")","v":""},null,null,null,null,null,null,null,null,null,null,null,null,null,null,null,{"$f":"+IF(Y311=\"\",\"\",MAX(T$1:T310)+1)","v":""},{"$f":"IF(Limit_Deviation_Detail!B333=\"\",\"\",Limit_Deviation_Detail!B333)","v":""},{"$f":"IF(Limit_Deviation_Detail!C333=\"\",\"\",Limit_Deviation_Detail!C333)","v":""},{"$f":"IF(Limit_Deviation_Detail!E333=\"\",\"\",Limit_Deviation_Detail!E333)","v":""},"",{"$f":"IF(COUNTIF(X$2:X311,X311)=1,X311,\"\")","v":""},"","","","","",null,null,null,null,{"$f":"IF(COUNTIF(AM$2:AM311,AM311)=1,AM311,\"\")","v":""},{"$f":"IF(CMS_Deviation_Detail!B333=\"\",\"\",CMS_Deviation_Detail!B333)","v":""},{"$f":"IF(CMS_Deviation_Detail!C333=\"\",\"\",CMS_Deviation_Detail!C333)","v":""},{"$f":"IF(CMS_Deviation_Detail!D333=\"\",\"\",CMS_Deviation_Detail!D333)","v":""},"",{"$f":"+IF(AI311=\"\",\"\",MAX(AN$1:AN310)+1)","v":""},"","","","","","",null,{"$f":"IF(COUNTIF(AZ$2:AZ311,AZ311)=1,AZ311,\"\")","v":""},{"$f":"IF(Limit_Deviation_Detail!B333=\"\",\"\",Limit_Deviation_Detail!B333)","v":""},{"$f":"IF(Limit_Deviation_Detail!C333=\"\",\"\",Limit_Deviation_Detail!C333)","v":""},{"$f":"IF(Limit_Deviation_Detail!E333=\"\",\"\",Limit_Deviation_Detail!E333)","v":""},"",{"$f":"+IF(AV311=\"\",\"\",MAX(BA$1:BA310)+1)","v":""},"","","",""]
[{"$f":"+IF(D312=\"\",\"\",MAX(A$1:A311)+1)","v":""},{"$f":"IF(Affected_Sources!C334=\"\",\"\",Affected_Sources!C334)","v":""},"",{"$f":"IF(COUNTIF(B$2:B312,B312)=1,B312,\"\")","v":""},null,null,null,null,null,null,null,null,null,null,null,null,null,null,null,{"$f":"+IF(Y312=\"\",\"\",MAX(T$1:T311)+1)","v":""},{"$f":"IF(Limit_Deviation_Detail!B334=\"\",\"\",Limit_Deviation_Detail!B334)","v":""},{"$f":"IF(Limit_Deviation_Detail!C334=\"\",\"\",Limit_Deviation_Detail!C334)","v":""},{"$f":"IF(Limit_Deviation_Detail!E334=\"\",\"\",Limit_Deviation_Detail!E334)","v":""},"",{"$f":"IF(COUNTIF(X$2:X312,X312)=1,X312,\"\")","v":""},"","","","","",null,null,null,null,{"$f":"IF(COUNTIF(AM$2:AM312,AM312)=1,AM312,\"\")","v":""},{"$f":"IF(CMS_Deviation_Detail!B334=\"\",\"\",CMS_Deviation_Detail!B334)","v":""},{"$f":"IF(CMS_Deviation_Detail!C334=\"\",\"\",CMS_Deviation_Detail!C334)","v":""},{"$f":"IF(CMS_Deviation_Detail!D334=\"\",\"\",CMS_Deviation_Detail!D334)","v":""},"",{"$f":"+IF(AI312=\"\",\"\",MAX(AN$1:AN311)+1)","v":""},"","","","","","",null,{"$f":"IF(COUNTIF(AZ$2:AZ312,AZ312)=1,AZ312,\"\")","v":""},{"$f":"IF(Limit_Deviation_Detail!B334=\"\",\"\",Limit_Deviation_Detail!B334)","v":""},{"$f":"IF(Limit_Deviation_Detail!C334=\"\",\"\",Limit_Deviation_Detail!C334)","v":""},{"$f":"IF(Limit_Deviation_Detail!E334=\"\",\"\",Limit_Deviation_Detail!E334)","v":""},"",{"$f":"+IF(AV312=\"\",\"\",MAX(BA$1:BA311)+1)","v":""},"","","",""]
[{"$f":"+IF(D313=\"\",\"\",MAX(A$1:A312)+1)","v":""},{"$f":"IF(Affected_Sources!C335=\"\",\"\",Affected_Sources!C335)","v":""},"",{"$f":"IF(COUNTIF(B$2:B313,B313)=1,B313,\"\")","v":""},null,null,null,null,null,null,null,null,null,null,null,null,null,null,null,{"$f":"+IF(Y313=\"\",\"\",MAX(T$1:T312)+1)","v":""},{"$f":"IF(Limit_Deviation_Detail!B335=\"\",\"\",Limit_Deviation_Detail!B335)","v":""},{"$f":"IF(Limit_Deviation_Detail!C335=\"\",\"\",Limit_Deviation_Detail!C335)","v":""},{"$f":"IF(Limit_Deviation_Detail!E335=\"\",\"\",Limit_Deviation_Detail!E335)","v":""},"",{"$f":"IF(COUNTIF(X$2:X313,X313)=1,X313,\"\")","v":""},"","","","","",null,null,null,null,{"$f":"IF(COUNTIF(AM$2:AM313,AM313)=1,AM313,\"\")","v":""},{"$f":"IF(CMS_Deviation_Detail!B335=\"\",\"\",CMS_Deviation_Detail!B335)","v":""},{"$f":"IF(CMS_Deviation_Detail!C335=\"\",\"\",CMS_Deviation_Detail!C335)","v":""},{"$f":"IF(CMS_Deviation_Detail!D335=\"\",\"\",CMS_Deviation_Detail!D335)","v":""},"",{"$f":"+IF(AI313=\"\",\"\",MAX(AN$1:AN312)+1)","v":""},"","","","","","",null,{"$f":"IF(COUNTIF(AZ$2:AZ313,AZ313)=1,AZ313,\"\")","v":""},{"$f":"IF(Limit_Deviation_Detail!B335=\"\",\"\",Limit_Deviation_Detail!B335)","v":""},{"$f":"IF(Limit_Deviation_Detail!C335=\"\",\"\",Limit_Deviation_Detail!C335)","v":""},{"$f":"IF(Limit_Deviation_Detail!E335=\"\",\"\",Limit_Deviation_Detail!E335)","v":""},"",{"$f":"+IF(AV313=\"\",\"\",MAX(BA$1:BA312)+1)","v":""},"","","",""]
[{"$f":"+IF(D314=\"\",\"\",MAX(A$1:A313)+1)","v":""},{"$f":"IF(Affected_Sources!C336=\"\",\"\",Affected_Sources!C336)","v":""},"",{"$f":"IF(COUNTIF(B$2:B314,B314)=1,B314,\"\")","v":""},null,null,null,null,null,null,null,null,null,null,null,null,null,null,null,{"$f":"+IF(Y314=\"\",\"\",MAX(T$1:T313)+1)","v":""},{"$f":"IF(Limit_Deviation_Detail!B336=\"\",\"\",Limit_Deviation_Detail!B336)","v":""},{"$f":"IF(Limit_Deviation_Detail!C336=\"\",\"\",Limit_Deviation_Detail!C336)","v":""},{"$f":"IF(Limit_Deviation_Detail!E336=\"\",\"\",Limit_Deviation_Detail!E336)","v":""},"",{"$f":"IF(COUNTIF(X$2:X314,X314)=1,X314,\"\")","v":""},"","","","","",null,null,null,null,{"$f":"IF(COUNTIF(AM$2:AM314,AM314)=1,AM314,\"\")","v":""},{"$f":"IF(CMS_Deviation_Detail!B336=\"\",\"\",CMS_Deviation_Detail!B336)","v":""},{"$f":"IF(CMS_Deviation_Detail!C336=\"\",\"\",CMS_Deviation_Detail!C336)","v":""},{"$f":"IF(CMS_Deviation_Detail!D336=\"\",\"\",CMS_Deviation_Detail!D336)","v":""},"",{"$f":"+IF(AI314=\"\",\"\",MAX(AN$1:AN313)+1)","v":""},"","","","","","",null,{"$f":"IF(COUNTIF(AZ$2:AZ314,AZ314)=1,AZ314,\"\")","v":""},{"$f":"IF(Limit_Deviation_Detail!B336=\"\",\"\",Limit_Deviation_Detail!B336)","v":""},{"$f":"IF(Limit_Deviation_Detail!C336=\"\",\"\",Limit_Deviation_Detail!C336)","v":""},{"$f":"IF(Limit_Deviation_Detail!E336=\"\",\"\",Limit_Deviation_Detail!E336)","v":""},"",{"$f":"+IF(AV314=\"\",\"\",MAX(BA$1:BA313)+1)","v":""},"","","",""]
[{"$f":"+IF(D315=\"\",\"\",MAX(A$1:A314)+1)","v":""},{"$f":"IF(Affected_Sources!C337=\"\",\"\",Affected_Sources!C337)","v":""},"",{"$f":"IF(COUNTIF(B$2:B315,B315)=1,B315,\"\")","v":""},null,null,null,null,null,null,null,null,null,null,null,null,null,null,null,{"$f":"+IF(Y315=\"\",\"\",MAX(T$1:T314)+1)","v":""},{"$f":"IF(Limit_Deviation_Detail!B337=\"\",\"\",Limit_Deviation_Detail!B337)","v":""},{"$f":"IF(Limit_Deviation_Detail!C337=\"\",\"\",Limit_Deviation_Detail!C337)","v":""},{"$f":"IF(Limit_Deviation_Detail!E337=\"\",\"\",Limit_Deviation_Detail!E337)","v":""},"",{"$f":"IF(COUNTIF(X$2:X315,X315)=1,X315,\"\")","v":""},"","","","","",null,null,null,null,{"$f":"IF(COUNTIF(AM$2:AM315,AM315)=1,AM315,\"\")","v":""},{"$f":"IF(CMS_Deviation_Detail!B337=\"\",\"\",CMS_Deviation_Detail!B337)","v":""},{"$f":"IF(CMS_Deviation_Detail!C337=\"\",\"\",CMS_Deviation_Detail!C337)","v":""},{"$f":"IF(CMS_Deviation_Detail!D337=\"\",\"\",CMS_Deviation_Detail!D337)","v":""},"",{"$f":"+IF(AI315=\"\",\"\",MAX(AN$1:AN314)+1)","v":""},"","","","","","",null,{"$f":"IF(COUNTIF(AZ$2:AZ315,AZ315)=1,AZ315,\"\")","v":""},{"$f":"IF(Limit_Deviation_Detail!B337=\"\",\"\",Limit_Deviation_Detail!B337)","v":""},{"$f":"IF(Limit_Deviation_Detail!C337=\"\",\"\",Limit_Deviation_Detail!C337)","v":""},{"$f":"IF(Limit_Deviation_Detail!E337=\"\",\"\",Limit_Deviation_Detail!E337)","v":""},"",{"$f":"+IF(AV315=\"\",\"\",MAX(BA$1:BA314)+1)","v":""},"","","",""]
[{"$f":"+IF(D316=\"\",\"\",MAX(A$1:A315)+1)","v":""},{"$f":"IF(Affected_Sources!C338=\"\",\"\",Affected_Sources!C338)","v":""},"",{"$f":"IF(COUNTIF(B$2:B316,B316)=1,B316,\"\")","v":""},null,null,null,null,null,null,null,null,null,null,null,null,null,null,null,{"$f":"+IF(Y316=\"\",\"\",MAX(T$1:T315)+1)","v":""},{"$f":"IF(Limit_Deviation_Detail!B338=\"\",\"\",Limit_Deviation_Detail!B338)","v":""},{"$f":"IF(Limit_Deviation_Detail!C338=\"\",\"\",Limit_Deviation_Detail!C338)","v":""},{"$f":"IF(Limit_Deviation_Detail!E338=\"\",\"\",Limit_Deviation_Detail!E338)","v":""},"",{"$f":"IF(COUNTIF(X$2:X316,X316)=1,X316,\"\")","v":""},"","","","","",null,null,null,null,{"$f":"IF(COUNTIF(AM$2:AM316,AM316)=1,AM316,\"\")","v":""},{"$f":"IF(CMS_Deviation_Detail!B338=\"\",\"\",CMS_Deviation_Detail!B338)","v":""},{"$f":"IF(CMS_Deviation_Detail!C338=\"\",\"\",CMS_Deviation_Detail!C338)","v":""},{"$f":"IF(CMS_Deviation_Detail!D338=\"\",\"\",CMS_Deviation_Detail!D338)","v":""},"",{"$f":"+IF(AI316=\"\",\"\",MAX(AN$1:AN315)+1)","v":""},"","","","","","",null,{"$f":"IF(COUNTIF(AZ$2:AZ316,AZ316)=1,AZ316,\"\")","v":""},{"$f":"IF(Limit_Deviation_Detail!B338=\"\",\"\",Limit_Deviation_Detail!B338)","v":""},{"$f":"IF(Limit_Deviation_Detail!C338=\"\",\"\",Limit_Deviation_Detail!C338)","v":""},{"$f":"IF(Limit_Deviation_Detail!E338=\"\",\"\",Limit_Deviation_Detail!E338)","v":""},"",{"$f":"+IF(AV316=\"\",\"\",MAX(BA$1:BA315)+1)","v":""},"","","",""]
[{"$f":"+IF(D317=\"\",\"\",MAX(A$1:A316)+1)","v":""},{"$f":"IF(Affected_Sources!C339=\"\",\"\",Affected_Sources!C339)","v":""},"",{"$f":"IF(COUNTIF(B$2:B317,B317)=1,B317,\"\")","v":""},null,null,null,null,null,null,null,null,null,null,null,null,null,null,null,{"$f":"+IF(Y317=\"\",\"\",MAX(T$1:T316)+1)","v":""},{"$f":"IF(Limit_Deviation_Detail!B339=\"\",\"\",Limit_Deviation_Detail!B339)","v":""},{"$f":"IF(Limit_Deviation_Detail!C339=\"\",\"\",Limit_Deviation_Detail!C339)","v":""},{"$f":"IF(Limit_Deviation_Detail!E339=\"\",\"\",Limit_Deviation_Detail!E339)","v":""},"",{"$f":"IF(COUNTIF(X$2:X317,X317)=1,X317,\"\")","v":""},"","","","","",null,null,null,null,{"$f":"IF(COUNTIF(AM$2:AM317,AM317)=1,AM317,\"\")","v":""},{"$f":"IF(CMS_Deviation_Detail!B339=\"\",\"\",CMS_Deviation_Detail!B339)","v":""},{"$f":"IF(CMS_Deviation_Detail!C339=\"\",\"\",CMS_Deviation_Detail!C339)","v":""},{"$f":"IF(CMS_Deviation_Detail!D339=\"\",\"\",CMS_Deviation_Detail!D339)","v":""},"",{"$f":"+IF(AI317=\"\",\"\",MAX(AN$1:AN316)+1)","v":""},"","","","","","",null,{"$f":"IF(COUNTIF(AZ$2:AZ317,AZ317)=1,AZ317,\"\")","v":""},{"$f":"IF(Limit_Deviation_Detail!B339=\"\",\"\",Limit_Deviation_Detail!B339)","v":""},{"$f":"IF(Limit_Deviation_Detail!C339=\"\",\"\",Limit_Deviation_Detail!C339)","v":""},{"$f":"IF(Limit_Deviation_Detail!E339=\"\",\"\",Limit_Deviation_Detail!E339)","v":""},"",{"$f":"+IF(AV317=\"\",\"\",MAX(BA$1:BA316)+1)","v":""},"","","",""]
[{"$f":"+IF(D318=\"\",\"\",MAX(A$1:A317)+1)","v":""},{"$f":"IF(Affected_Sources!C340=\"\",\"\",Affected_Sources!C340)","v":""},"",{"$f":"IF(COUNTIF(B$2:B318,B318)=1,B318,\"\")","v":""},null,null,null,null,null,null,null,null,null,null,null,null,null,null,null,{"$f":"+IF(Y318=\"\",\"\",MAX(T$1:T317)+1)","v":""},{"$f":"IF(Limit_Deviation_Detail!B340=\"\",\"\",Limit_Deviation_Detail!B340)","v":""},{"$f":"IF(Limit_Deviation_Detail!C340=\"\",\"\",Limit_Deviation_Detail!C340)","v":""},{"$f":"IF(Limit_Deviation_Detail!E340=\"\",\"\",Limit_Deviation_Detail!E340)","v":""},"",{"$f":"IF(COUNTIF(X$2:X318,X318)=1,X318,\"\")","v":""},"","","","","",null,null,null,null,{"$f":"IF(COUNTIF(AM$2:AM318,AM318)=1,AM318,\"\")","v":""},{"$f":"IF(CMS_Deviation_Detail!B340=\"\",\"\",CMS_Deviation_Detail!B340)","v":""},{"$f":"IF(CMS_Deviation_Detail!C340=\"\",\"\",CMS_Deviation_Detail!C340)","v":""},{"$f":"IF(CMS_Deviation_Detail!D340=\"\",\"\",CMS_Deviation_Detail!D340)","v":""},"",{"$f":"+IF(AI318=\"\",\"\",MAX(AN$1:AN317)+1)","v":""},"","","","","","",null,{"$f":"IF(COUNTIF(AZ$2:AZ318,AZ318)=1,AZ318,\"\")","v":""},{"$f":"IF(Limit_Deviation_Detail!B340=\"\",\"\",Limit_Deviation_Detail!B340)","v":""},{"$f":"IF(Limit_Deviation_Detail!C340=\"\",\"\",Limit_Deviation_Detail!C340)","v":""},{"$f":"IF(Limit_Deviation_Detail!E340=\"\",\"\",Limit_Deviation_Detail!E340)","v":""},"",{"$f":"+IF(AV318=\"\",\"\",MAX(BA$1:BA317)+1)","v":""},"","","",""]
[{"$f":"+IF(D319=\"\",\"\",MAX(A$1:A318)+1)","v":""},{"$f":"IF(Affected_Sources!C341=\"\",\"\",Affected_Sources!C341)","v":""},"",{"$f":"IF(COUNTIF(B$2:B319,B319)=1,B319,\"\")","v":""},null,null,null,null,null,null,null,null,null,null,null,null,null,null,null,{"$f":"+IF(Y319=\"\",\"\",MAX(T$1:T318)+1)","v":""},{"$f":"IF(Limit_Deviation_Detail!B341=\"\",\"\",Limit_Deviation_Detail!B341)","v":""},{"$f":"IF(Limit_Deviation_Detail!C341=\"\",\"\",Limit_Deviation_Detail!C341)","v":""},{"$f":"IF(Limit_Deviation_Detail!E341=\"\",\"\",Limit_Deviation_Detail!E341)","v":""},"",{"$f":"IF(COUNTIF(X$2:X319,X319)=1,X319,\"\")","v":""},"","","","","",null,null,null,null,{"$f":"IF(COUNTIF(AM$2:AM319,AM319)=1,AM319,\"\")","v":""},{"$f":"IF(CMS_Deviation_Detail!B341=\"\",\"\",CMS_Deviation_Detail!B341)","v":""},{"$f":"IF(CMS_Deviation_Detail!C341=\"\",\"\",CMS_Deviation_Detail!C341)","v":""},{"$f":"IF(CMS_Deviation_Detail!D341=\"\",\"\",CMS_Deviation_Detail!D341)","v":""},"",{"$f":"+IF(AI319=\"\",\"\",MAX(AN$1:AN318)+1)","v":""},"","","","","","",null,{"$f":"IF(COUNTIF(AZ$2:AZ319,AZ319)=1,AZ319,\"\")","v":""},{"$f":"IF(Limit_Deviation_Detail!B341=\"\",\"\",Limit_Deviation_Detail!B341)","v":""},{"$f":"IF(Limit_Deviation_Detail!C341=\"\",\"\",Limit_Deviation_Detail!C341)","v":""},{"$f":"IF(Limit_Deviation_Detail!E341=\"\",\"\",Limit_Deviation_Detail!E341)","v":""},"",{"$f":"+IF(AV319=\"\",\"\",MAX(BA$1:BA318)+1)","v":""},"","","",""]
[{"$f":"+IF(D320=\"\",\"\",MAX(A$1:A319)+1)","v":""},{"$f":"IF(Affected_Sources!C342=\"\",\"\",Affected_Sources!C342)","v":""},"",{"$f":"IF(COUNTIF(B$2:B320,B320)=1,B320,\"\")","v":""},null,null,null,null,null,null,null,null,null,null,null,null,null,null,null,{"$f":"+IF(Y320=\"\",\"\",MAX(T$1:T319)+1)","v":""},{"$f":"IF(Limit_Deviation_Detail!B342=\"\",\"\",Limit_Deviation_Detail!B342)","v":""},{"$f":"IF(Limit_Deviation_Detail!C342=\"\",\"\",Limit_Deviation_Detail!C342)","v":""},{"$f":"IF(Limit_Deviation_Detail!E342=\"\",\"\",Limit_Deviation_Detail!E342)","v":""},"",{"$f":"IF(COUNTIF(X$2:X320,X320)=1,X320,\"\")","v":""},"","","","","",null,null,null,null,{"$f":"IF(COUNTIF(AM$2:AM320,AM320)=1,AM320,\"\")","v":""},{"$f":"IF(CMS_Deviation_Detail!B342=\"\",\"\",CMS_Deviation_Detail!B342)","v":""},{"$f":"IF(CMS_Deviation_Detail!C342=\"\",\"\",CMS_Deviation_Detail!C342)","v":""},{"$f":"IF(CMS_Deviation_Detail!D342=\"\",\"\",CMS_Deviation_Detail!D342)","v":""},"",{"$f":"+IF(AI320=\"\",\"\",MAX(AN$1:AN319)+1)","v":""},"","","","","","",null,{"$f":"IF(COUNTIF(AZ$2:AZ320,AZ320)=1,AZ320,\"\")","v":""},{"$f":"IF(Limit_Deviation_Detail!B342=\"\",\"\",Limit_Deviation_Detail!B342)","v":""},{"$f":"IF(Limit_Deviation_Detail!C342=\"\",\"\",Limit_Deviation_Detail!C342)","v":""},{"$f":"IF(Limit_Deviation_Detail!E342=\"\",\"\",Limit_Deviation_Detail!E342)","v":""},"",{"$f":"+IF(AV320=\"\",\"\",MAX(BA$1:BA319)+1)","v":""},"","","",""]
[{"$f":"+IF(D321=\"\",\"\",MAX(A$1:A320)+1)","v":""},{"$f":"IF(Affected_Sources!C343=\"\",\"\",Affected_Sources!C343)","v":""},"",{"$f":"IF(COUNTIF(B$2:B321,B321)=1,B321,\"\")","v":""},null,null,null,null,null,null,null,null,null,null,null,null,null,null,null,{"$f":"+IF(Y321=\"\",\"\",MAX(T$1:T320)+1)","v":""},{"$f":"IF(Limit_Deviation_Detail!B343=\"\",\"\",Limit_Deviation_Detail!B343)","v":""},{"$f":"IF(Limit_Deviation_Detail!C343=\"\",\"\",Limit_Deviation_Detail!C343)","v":""},{"$f":"IF(Limit_Deviation_Detail!E343=\"\",\"\",Limit_Deviation_Detail!E343)","v":""},"",{"$f":"IF(COUNTIF(X$2:X321,X321)=1,X321,\"\")","v":""},"","","","","",null,null,null,null,{"$f":"IF(COUNTIF(AM$2:AM321,AM321)=1,AM321,\"\")","v":""},{"$f":"IF(CMS_Deviation_Detail!B343=\"\",\"\",CMS_Deviation_Detail!B343)","v":""},{"$f":"IF(CMS_Deviation_Detail!C343=\"\",\"\",CMS_Deviation_Detail!C343)","v":""},{"$f":"IF(CMS_Deviation_Detail!D343=\"\",\"\",CMS_Deviation_Detail!D343)","v":""},"",{"$f":"+IF(AI321=\"\",\"\",MAX(AN$1:AN320)+1)","v":""},"","","","","","",null,{"$f":"IF(COUNTIF(AZ$2:AZ321,AZ321)=1,AZ321,\"\")","v":""},{"$f":"IF(Limit_Deviation_Detail!B343=\"\",\"\",Limit_Deviation_Detail!B343)","v":""},{"$f":"IF(Limit_Deviation_Detail!C343=\"\",\"\",Limit_Deviation_Detail!C343)","v":""},{"$f":"IF(Limit_Deviation_Detail!E343=\"\",\"\",Limit_Deviation_Detail!E343)","v":""},"",{"$f":"+IF(AV321=\"\",\"\",MAX(BA$1:BA320)+1)","v":""},"","","",""]
[{"$f":"+IF(D322=\"\",\"\",MAX(A$1:A321)+1)","v":""},{"$f":"IF(Affected_Sources!C344=\"\",\"\",Affected_Sources!C344)","v":""},{"$f":"+IFERROR(INDEX(B$2:B$501,MATCH(ROW()-ROW($C$1),A$2:A$501,0)),\"\")","v":""},{"$f":"IF(COUNTIF(B$2:B322,B322)=1,B322,\"\")","v":""},null,null,null,null,null,null,null,null,null,null,null,null,null,null,null,{"$f":"+IF(Y322=\"\",\"\",MAX(T$1:T321)+1)","v":""},{"$f":"IF(Limit_Deviation_Detail!B344=\"\",\"\",Limit_Deviation_Detail!B344)","v":""},{"$f":"IF(Limit_Deviation_Detail!C344=\"\",\"\",Limit_Deviation_Detail!C344)","v":""},{"$f":"IF(Limit_Deviation_Detail!E344=\"\",\"\",Limit_Deviation_Detail!E344)","v":""},{"$f":"U322&V322&W322","v":""},{"$f":"IF(COUNTIF(X$2:X322,X322)=1,X322,\"\")","v":""},{"$f":"+IFERROR(INDEX(U$2:U$955,MATCH(ROW()-ROW(HU$1),T$2:T$955,0)),\"\")","v":""},{"$f":"+IFERROR(INDEX(V$2:V$955,MATCH(ROW()-ROW(Y$1),T$2:T$955,0)),\"\")","v":""},{"$f":"+IFERROR(INDEX(W$2:W$955,MATCH(ROW()-ROW(Y$1),T$2:T$955,0)),\"\")","v":""},{"$f":"IF(Z322=\"\",\"\",Z322&AA322)","v":""},{"$f":"IF(Z322=\"\",\"\",VLOOKUP(AC322,$BL$2:$BP$78,5,FALSE))","v":""},null,null,null,null,{"$f":"IF(COUNTIF(AM$2:AM322,AM322)=1,AM322,\"\")","v":""},{"$f":"IF(CMS_Deviation_Detail!B344=\"\",\"\",CMS_Deviation_Detail!B344)","v":""},{"$f":"IF(CMS_Deviation_Detail!C344=\"\",\"\",CMS_Deviation_Detail!C344)","v":""},{"$f":"IF(CMS_Deviation_Detail!D344=\"\",\"\",CMS_Deviation_Detail!D344)","v":""},"",{"$f":"+IF(AI322=\"\",\"\",MAX(AN$1:AN321)+1)","v":""},"","","","",{"$f":"IF(AP322=\"\",\"\",AP322&AQ322)","v":""},{"$f":"IF(AP322=\"\",\"\",VLOOKUP(AS322,$BL$2:$BP$78,5,FALSE))","v":""},null,{"$f":"IF(COUNTIF(AZ$2:AZ322,AZ322)=1,AZ322,\"\")","v":""},{"$f":"IF(Limit_Deviation_Detail!B344=\"\",\"\",Limit_Deviation_Detail!B344)","v":""},{"$f":"IF(Limit_Deviation_Detail!C344=\"\",\"\",Limit_Deviation_Detail!C344)","v":""},{"$f":"IF(Limit_Deviation_Detail!E344=\"\",\"\",Limit_Deviation_Detail!E344)","v":""},"",{"$f":"+IF(AV322=\"\",\"\",MAX(BA$1:BA321)+1)","v":""},"","","",""]
[{"$f":"+IF(D323=\"\",\"\",MAX(A$1:A322)+1)","v":""},{"$f":"IF(Affected_Sources!C345=\"\",\"\",Affected_Sources!C345)","v":""},"",{"$f":"IF(COUNTIF(B$2:B323,B323)=1,B323,\"\")","v":""},null,null,null,null,null,null,null,null,null,null,null,null,null,null,null,{"$f":"+IF(Y323=\"\",\"\",MAX(T$1:T322)+1)","v":""},{"$f":"IF(Limit_Deviation_Detail!B345=\"\",\"\",Limit_Deviation_Detail!B345)","v":""},{"$f":"IF(Limit_Deviation_Detail!C345=\"\",\"\",Limit_Deviation_Detail!C345)","v":""},{"$f":"IF(Limit_Deviation_Detail!E345=\"\",\"\",Limit_Deviation_Detail!E345)","v":""},"",{"$f":"IF(COUNTIF(X$2:X323,X323)=1,X323,\"\")","v":""},"","","","","",null,null,null,null,{"$f":"IF(COUNTIF(AM$2:AM323,AM323)=1,AM323,\"\")","v":""},{"$f":"IF(CMS_Deviation_Detail!B345=\"\",\"\",CMS_Deviation_Detail!B345)","v":""},{"$f":"IF(CMS_Deviation_Detail!C345=\"\",\"\",CMS_Deviation_Detail!C345)","v":""},{"$f":"IF(CMS_Deviation_Detail!D345=\"\",\"\",CMS_Deviation_Detail!D345)","v":""},{"$f":"IF(AL323=\"\",\"\",AJ323&\" \"&AK323&\" \"&AL323)","v":""},{"$f":"+IF(AI323=\"\",\"\",MAX(AN$1:AN322)+1)","v":""},{"$f":"+IFERROR(INDEX(AI$2:AI$955,MATCH(ROW()-ROW(AI$1),AN$2:AN$955,0)),\"\")","v":""},{"$f":"+IFERROR(INDEX(AJ$2:AJ$955,MATCH(ROW()-ROW(AJ$1),$AN$2:$AN$955,0)),\"\")","v":""},{"$f":"+IFERROR(INDEX(AK$2:AK$955,MATCH(ROW()-ROW(AK$1),$AN$2:$AN$955,0)),\"\")","v":""},{"$f":"+IFERROR(INDEX(AL$2:AL$955,MATCH(ROW()-ROW(AL$1),$AN$2:$AN$955,0)),\"\")","v":""},"","",null,{"$f":"IF(COUNTIF(AZ$2:AZ323,AZ323)=1,AZ323,\"\")","v":""},{"$f":"IF(Limit_Deviation_Detail!B345=\"\",\"\",Limit_Deviation_Detail!B345)","v":""},{"$f":"IF(Limit_Deviation_Detail!C345=\"\",\"\",Limit_Deviation_Detail!C345)","v":""},{"$f":"IF(Limit_Deviation_Detail!E345=\"\",\"\",Limit_Deviation_Detail!E345)","v":""},"",{"$f":"+IF(AV323=\"\",\"\",MAX(BA$1:BA322)+1)","v":""},"","","",""]
[{"$f":"+IF(D324=\"\",\"\",MAX(A$1:A323)+1)","v":""},{"$f":"IF(Affected_Sources!C346=\"\",\"\",Affected_Sources!C346)","v":""},"",{"$f":"IF(COUNTIF(B$2:B324,B324)=1,B324,\"\")","v":""},null,null,null,null,null,null,null,null,null,null,null,null,null,null,null,{"$f":"+IF(Y324=\"\",\"\",MAX(T$1:T323)+1)","v":""},{"$f":"IF(Limit_Deviation_Detail!B346=\"\",\"\",Limit_Deviation_Detail!B346)","v":""},{"$f":"IF(Limit_Deviation_Detail!C346=\"\",\"\",Limit_Deviation_Detail!C346)","v":""},{"$f":"IF(Limit_Deviation_Detail!E346=\"\",\"\",Limit_Deviation_Detail!E346)","v":""},"",{"$f":"IF(COUNTIF(X$2:X324,X324)=1,X324,\"\")","v":""},"","","","","",null,null,null,null,{"$f":"IF(COUNTIF(AM$2:AM324,AM324)=1,AM324,\"\")","v":""},{"$f":"IF(CMS_Deviation_Detail!B346=\"\",\"\",CMS_Deviation_Detail!B346)","v":""},{"$f":"IF(CMS_Deviation_Detail!C346=\"\",\"\",CMS_Deviation_Detail!C346)","v":""},{"$f":"IF(CMS_Deviation_Detail!D346=\"\",\"\",CMS_Deviation_Detail!D346)","v":""},"",{"$f":"+IF(AI324=\"\",\"\",MAX(AN$1:AN323)+1)","v":""},"","","","","","",null,{"$f":"IF(COUNTIF(AZ$2:AZ324,AZ324)=1,AZ324,\"\")","v":""},{"$f":"IF(Limit_Deviation_Detail!B346=\"\",\"\",Limit_Deviation_Detail!B346)","v":""},{"$f":"IF(Limit_Deviation_Detail!C346=\"\",\"\",Limit_Deviation_Detail!C346)","v":""},{"$f":"IF(Limit_Deviation_Detail!E346=\"\",\"\",Limit_Deviation_Detail!E346)","v":""},"",{"$f":"+IF(AV324=\"\",\"\",MAX(BA$1:BA323)+1)","v":""},"","","",""]
[{"$f":"+IF(D325=\"\",\"\",MAX(A$1:A324)+1)","v":""},{"$f":"IF(Affected_Sources!C347=\"\",\"\",Affected_Sources!C347)","v":""},"",{"$f":"IF(COUNTIF(B$2:B325,B325)=1,B325,\"\")","v":""},null,null,null,null,null,null,null,null,null,null,null,null,null,null,null,{"$f":"+IF(Y325=\"\",\"\",MAX(T$1:T324)+1)","v":""},{"$f":"IF(Limit_Deviation_Detail!B347=\"\",\"\",Limit_Deviation_Detail!B347)","v":""},{"$f":"IF(Limit_Deviation_Detail!C347=\"\",\"\",Limit_Deviation_Detail!C347)","v":""},{"$f":"IF(Limit_Deviation_Detail!E347=\"\",\"\",Limit_Deviation_Detail!E347)","v":""},"",{"$f":"IF(COUNTIF(X$2:X325,X325)=1,X325,\"\")","v":""},"","","","","",null,null,null,null,{"$f":"IF(COUNTIF(AM$2:AM325,AM325)=1,AM325,\"\")","v":""},{"$f":"IF(CMS_Deviation_Detail!B347=\"\",\"\",CMS_Deviation_Detail!B347)","v":""},{"$f":"IF(CMS_Deviation_Detail!C347=\"\",\"\",CMS_Deviation_Detail!C347)","v":""},{"$f":"IF(CMS_Deviation_Detail!D347=\"\",\"\",CMS_Deviation_Detail!D347)","v":""},"",{"$f":"+IF(AI325=\"\",\"\",MAX(AN$1:AN324)+1)","v":""},"","","","","","",null,{"$f":"IF(COUNTIF(AZ$2:AZ325,AZ325)=1,AZ325,\"\")","v":""},{"$f":"IF(Limit_Deviation_Detail!B347=\"\",\"\",Limit_Deviation_Detail!B347)","v":""},{"$f":"IF(Limit_Deviation_Detail!C347=\"\",\"\",Limit_Deviation_Detail!C347)","v":""},{"$f":"IF(Limit_Deviation_Detail!E347=\"\",\"\",Limit_Deviation_Detail!E347)","v":""},"",{"$f":"+IF(AV325=\"\",\"\",MAX(BA$1:BA324)+1)","v":""},"","","",""]
[{"$f":"+IF(D326=\"\",\"\",MAX(A$1:A325)+1)","v":""},{"$f":"IF(Affected_Sources!C348=\"\",\"\",Affected_Sources!C348)","v":""},"",{"$f":"IF(COUNTIF(B$2:B326,B326)=1,B326,\"\")","v":""},null,null,null,null,null,null,null,null,null,null,null,null,null,null,null,{"$f":"+IF(Y326=\"\",\"\",MAX(T$1:T325)+1)","v":""},{"$f":"IF(Limit_Deviation_Detail!B348=\"\",\"\",Limit_Deviation_Detail!B348)","v":""},{"$f":"IF(Limit_Deviation_Detail!C348=\"\",\"\",Limit_Deviation_Detail!C348)","v":""},{"$f":"IF(Limit_Deviation_Detail!E348=\"\",\"\",Limit_Deviation_Detail!E348)","v":""},"",{"$f":"IF(COUNTIF(X$2:X326,X326)=1,X326,\"\")","v":""},"","","","","",null,null,null,null,{"$f":"IF(COUNTIF(AM$2:AM326,AM326)=1,AM326,\"\")","v":""},{"$f":"IF(CMS_Deviation_Detail!B348=\"\",\"\",CMS_Deviation_Detail!B348)","v":""},{"$f":"IF(CMS_Deviation_Detail!C348=\"\",\"\",CMS_Deviation_Detail!C348)","v":""},{"$f":"IF(CMS_Deviation_Detail!D348=\"\",\"\",CMS_Deviation_Detail!D348)","v":""},"",{"$f":"+IF(AI326=\"\",\"\",MAX(AN$1:AN325)+1)","v":""},"","","","","","",null,{"$f":"IF(COUNTIF(AZ$2:AZ326,AZ326)=1,AZ326,\"\")","v":""},{"$f":"IF(Limit_Deviation_Detail!B348=\"\",\"\",Limit_Deviation_Detail!B348)","v":""},{"$f":"IF(Limit_Deviation_Detail!C348=\"\",\"\",Limit_Deviation_Detail!C348)","v":""},{"$f":"IF(Limit_Deviation_Detail!E348=\"\",\"\",Limit_Deviation_Detail!E348)","v":""},"",{"$f":"+IF(AV326=\"\",\"\",MAX(BA$1:BA325)+1)","v":""},"","","",""]
[{"$f":"+IF(D327=\"\",\"\",MAX(A$1:A326)+1)","v":""},{"$f":"IF(Affected_Sources!C349=\"\",\"\",Affected_Sources!C349)","v":""},"",{"$f":"IF(COUNTIF(B$2:B327,B327)=1,B327,\"\")","v":""},null,null,null,null,null,null,null,null,null,null,null,null,null,null,null,{"$f":"+IF(Y327=\"\",\"\",MAX(T$1:T326)+1)","v":""},{"$f":"IF(Limit_Deviation_Detail!B349=\"\",\"\",Limit_Deviation_Detail!B349)","v":""},{"$f":"IF(Limit_Deviation_Detail!C349=\"\",\"\",Limit_Deviation_Detail!C349)","v":""},{"$f":"IF(Limit_Deviation_Detail!E349=\"\",\"\",Limit_Deviation_Detail!E349)","v":""},"",{"$f":"IF(COUNTIF(X$2:X327,X327)=1,X327,\"\")","v":""},"","","","","",null,null,null,null,{"$f":"IF(COUNTIF(AM$2:AM327,AM327)=1,AM327,\"\")","v":""},{"$f":"IF(CMS_Deviation_Detail!B349=\"\",\"\",CMS_Deviation_Detail!B349)","v":""},{"$f":"IF(CMS_Deviation_Detail!C349=\"\",\"\",CMS_Deviation_Detail!C349)","v":""},{"$f":"IF(CMS_Deviation_Detail!D349=\"\",\"\",CMS_Deviation_Detail!D349)","v":""},"",{"$f":"+IF(AI327=\"\",\"\",MAX(AN$1:AN326)+1)","v":""},"","","","","","",null,{"$f":"IF(COUNTIF(AZ$2:AZ327,AZ327)=1,AZ327,\"\")","v":""},{"$f":"IF(Limit_Deviation_Detail!B349=\"\",\"\",Limit_Deviation_Detail!B349)","v":""},{"$f":"IF(Limit_Deviation_Detail!C349=\"\",\"\",Limit_Deviation_Detail!C349)","v":""},{"$f":"IF(Limit_Deviation_Detail!E349=\"\",\"\",Limit_Deviation_Detail!E349)","v":""},{"$f":"IF(AY327=\"\",\"\",AW327&\" \"&AX327&\" \"&AY327)","v":""},{"$f":"+IF(AV327=\"\",\"\",MAX(BA$1:BA326)+1)","v":""},{"$f":"+IFERROR(INDEX(AV$2:AV$955,MATCH(ROW()-ROW(AV$1),BA$2:BA$955,0)),\"\")","v":""},{"$f":"+IFERROR(INDEX(AW$2:AW$955,MATCH(ROW()-ROW(AW$1),$BA$2:$BA$955,0)),\"\")","v":""},{"$f":"+IFERROR(INDEX(AX$2:AX$955,MATCH(ROW()-ROW(AX$1),$BA$2:$BA$955,0)),\"\")","v":""},{"$f":"+IFERROR(INDEX(AY$2:AY$955,MATCH(ROW()-ROW(AY$1),$BA$2:$BA$955,0)),\"\")","v":""}]
[{"$f":"+IF(D328=\"\",\"\",MAX(A$1:A327)+1)","v":""},{"$f":"IF(Affected_Sources!C350=\"\",\"\",Affected_Sources!C350)","v":""},"",{"$f":"IF(COUNTIF(B$2:B328,B328)=1,B328,\"\")","v":""},null,null,null,null,null,null,null,null,null,null,null,null,null,null,null,{"$f":"+IF(Y328=\"\",\"\",MAX(T$1:T327)+1)","v":""},{"$f":"IF(Limit_Deviation_Detail!B350=\"\",\"\",Limit_Deviation_Detail!B350)","v":""},{"$f":"IF(Limit_Deviation_Detail!C350=\"\",\"\",Limit_Deviation_Detail!C350)","v":""},{"$f":"IF(Limit_Deviation_Detail!E350=\"\",\"\",Limit_Deviation_Detail!E350)","v":""},"",{"$f":"IF(COUNTIF(X$2:X328,X328)=1,X328,\"\")","v":""},"","","","","",null,null,null,null,{"$f":"IF(COUNTIF(AM$2:AM328,AM328)=1,AM328,\"\")","v":""},{"$f":"IF(CMS_Deviation_Detail!B350=\"\",\"\",CMS_Deviation_Detail!B350)","v":""},{"$f":"IF(CMS_Deviation_Detail!C350=\"\",\"\",CMS_Deviation_Detail!C350)","v":""},{"$f":"IF(CMS_Deviation_Detail!D350=\"\",\"\",CMS_Deviation_Detail!D350)","v":""},"",{"$f":"+IF(AI328=\"\",\"\",MAX(AN$1:AN327)+1)","v":""},"","","","","","",null,{"$f":"IF(COUNTIF(AZ$2:AZ328,AZ328)=1,AZ328,\"\")","v":""},{"$f":"IF(Limit_Deviation_Detail!B350=\"\",\"\",Limit_Deviation_Detail!B350)","v":""},{"$f":"IF(Limit_Deviation_Detail!C350=\"\",\"\",Limit_Deviation_Detail!C350)","v":""},{"$f":"IF(Limit_Deviation_Detail!E350=\"\",\"\",Limit_Deviation_Detail!E350)","v":""},"",{"$f":"+IF(AV328=\"\",\"\",MAX(BA$1:BA327)+1)","v":""},"","","",""]
[{"$f":"+IF(D329=\"\",\"\",MAX(A$1:A328)+1)","v":""},{"$f":"IF(Affected_Sources!C351=\"\",\"\",Affected_Sources!C351)","v":""},"",{"$f":"IF(COUNTIF(B$2:B329,B329)=1,B329,\"\")","v":""},null,null,null,null,null,null,null,null,null,null,null,null,null,null,null,{"$f":"+IF(Y329=\"\",\"\",MAX(T$1:T328)+1)","v":""},{"$f":"IF(Limit_Deviation_Detail!B351=\"\",\"\",Limit_Deviation_Detail!B351)","v":""},{"$f":"IF(Limit_Deviation_Detail!C351=\"\",\"\",Limit_Deviation_Detail!C351)","v":""},{"$f":"IF(Limit_Deviation_Detail!E351=\"\",\"\",Limit_Deviation_Detail!E351)","v":""},"",{"$f":"IF(COUNTIF(X$2:X329,X329)=1,X329,\"\")","v":""},"","","","","",null,null,null,null,{"$f":"IF(COUNTIF(AM$2:AM329,AM329)=1,AM329,\"\")","v":""},{"$f":"IF(CMS_Deviation_Detail!B351=\"\",\"\",CMS_Deviation_Detail!B351)","v":""},{"$f":"IF(CMS_Deviation_Detail!C351=\"\",\"\",CMS_Deviation_Detail!C351)","v":""},{"$f":"IF(CMS_Deviation_Detail!D351=\"\",\"\",CMS_Deviation_Detail!D351)","v":""},"",{"$f":"+IF(AI329=\"\",\"\",MAX(AN$1:AN328)+1)","v":""},"","","","","","",null,{"$f":"IF(COUNTIF(AZ$2:AZ329,AZ329)=1,AZ329,\"\")","v":""},{"$f":"IF(Limit_Deviation_Detail!B351=\"\",\"\",Limit_Deviation_Detail!B351)","v":""},{"$f":"IF(Limit_Deviation_Detail!C351=\"\",\"\",Limit_Deviation_Detail!C351)","v":""},{"$f":"IF(Limit_Deviation_Detail!E351=\"\",\"\",Limit_Deviation_Detail!E351)","v":""},"",{"$f":"+IF(AV329=\"\",\"\",MAX(BA$1:BA328)+1)","v":""},"","","",""]
[{"$f":"+IF(D330=\"\",\"\",MAX(A$1:A329)+1)","v":""},{"$f":"IF(Affected_Sources!C352=\"\",\"\",Affected_Sources!C352)","v":""},"",{"$f":"IF(COUNTIF(B$2:B330,B330)=1,B330,\"\")","v":""},null,null,null,null,null,null,null,null,null,null,null,null,null,null,null,{"$f":"+IF(Y330=\"\",\"\",MAX(T$1:T329)+1)","v":""},{"$f":"IF(Limit_Deviation_Detail!B352=\"\",\"\",Limit_Deviation_Detail!B352)","v":""},{"$f":"IF(Limit_Deviation_Detail!C352=\"\",\"\",Limit_Deviation_Detail!C352)","v":""},{"$f":"IF(Limit_Deviation_Detail!E352=\"\",\"\",Limit_Deviation_Detail!E352)","v":""},"",{"$f":"IF(COUNTIF(X$2:X330,X330)=1,X330,\"\")","v":""},"","","","","",null,null,null,null,{"$f":"IF(COUNTIF(AM$2:AM330,AM330)=1,AM330,\"\")","v":""},{"$f":"IF(CMS_Deviation_Detail!B352=\"\",\"\",CMS_Deviation_Detail!B352)","v":""},{"$f":"IF(CMS_Deviation_Detail!C352=\"\",\"\",CMS_Deviation_Detail!C352)","v":""},{"$f":"IF(CMS_Deviation_Detail!D352=\"\",\"\",CMS_Deviation_Detail!D352)","v":""},"",{"$f":"+IF(AI330=\"\",\"\",MAX(AN$1:AN329)+1)","v":""},"","","","","","",null,{"$f":"IF(COUNTIF(AZ$2:AZ330,AZ330)=1,AZ330,\"\")","v":""},{"$f":"IF(Limit_Deviation_Detail!B352=\"\",\"\",Limit_Deviation_Detail!B352)","v":""},{"$f":"IF(Limit_Deviation_Detail!C352=\"\",\"\",Limit_Deviation_Detail!C352)","v":""},{"$f":"IF(Limit_Deviation_Detail!E352=\"\",\"\",Limit_Deviation_Detail!E352)","v":""},"",{"$f":"+IF(AV330=\"\",\"\",MAX(BA$1:BA329)+1)","v":""},"","","",""]
[{"$f":"+IF(D331=\"\",\"\",MAX(A$1:A330)+1)","v":""},{"$f":"IF(Affected_Sources!C353=\"\",\"\",Affected_Sources!C353)","v":""},"",{"$f":"IF(COUNTIF(B$2:B331,B331)=1,B331,\"\")","v":""},null,null,null,null,null,null,null,null,null,null,null,null,null,null,null,{"$f":"+IF(Y331=\"\",\"\",MAX(T$1:T330)+1)","v":""},{"$f":"IF(Limit_Deviation_Detail!B353=\"\",\"\",Limit_Deviation_Detail!B353)","v":""},{"$f":"IF(Limit_Deviation_Detail!C353=\"\",\"\",Limit_Deviation_Detail!C353)","v":""},{"$f":"IF(Limit_Deviation_Detail!E353=\"\",\"\",Limit_Deviation_Detail!E353)","v":""},"",{"$f":"IF(COUNTIF(X$2:X331,X331)=1,X331,\"\")","v":""},"","","","","",null,null,null,null,{"$f":"IF(COUNTIF(AM$2:AM331,AM331)=1,AM331,\"\")","v":""},{"$f":"IF(CMS_Deviation_Detail!B353=\"\",\"\",CMS_Deviation_Detail!B353)","v":""},{"$f":"IF(CMS_Deviation_Detail!C353=\"\",\"\",CMS_Deviation_Detail!C353)","v":""},{"$f":"IF(CMS_Deviation_Detail!D353=\"\",\"\",CMS_Deviation_Detail!D353)","v":""},"",{"$f":"+IF(AI331=\"\",\"\",MAX(AN$1:AN330)+1)","v":""},"","","","","","",null,{"$f":"IF(COUNTIF(AZ$2:AZ331,AZ331)=1,AZ331,\"\")","v":""},{"$f":"IF(Limit_Deviation_Detail!B353=\"\",\"\",Limit_Deviation_Detail!B353)","v":""},{"$f":"IF(Limit_Deviation_Detail!C353=\"\",\"\",Limit_Deviation_Detail!C353)","v":""},{"$f":"IF(Limit_Deviation_Detail!E353=\"\",\"\",Limit_Deviation_Detail!E353)","v":""},"",{"$f":"+IF(AV331=\"\",\"\",MAX(BA$1:BA330)+1)","v":""},"","","",""]
[{"$f":"+IF(D332=\"\",\"\",MAX(A$1:A331)+1)","v":""},{"$f":"IF(Affected_Sources!C354=\"\",\"\",Affected_Sources!C354)","v":""},"",{"$f":"IF(COUNTIF(B$2:B332,B332)=1,B332,\"\")","v":""},null,null,null,null,null,null,null,null,null,null,null,null,null,null,null,{"$f":"+IF(Y332=\"\",\"\",MAX(T$1:T331)+1)","v":""},{"$f":"IF(Limit_Deviation_Detail!B354=\"\",\"\",Limit_Deviation_Detail!B354)","v":""},{"$f":"IF(Limit_Deviation_Detail!C354=\"\",\"\",Limit_Deviation_Detail!C354)","v":""},{"$f":"IF(Limit_Deviation_Detail!E354=\"\",\"\",Limit_Deviation_Detail!E354)","v":""},"",{"$f":"IF(COUNTIF(X$2:X332,X332)=1,X332,\"\")","v":""},"","","","","",null,null,null,null,{"$f":"IF(COUNTIF(AM$2:AM332,AM332)=1,AM332,\"\")","v":""},{"$f":"IF(CMS_Deviation_Detail!B354=\"\",\"\",CMS_Deviation_Detail!B354)","v":""},{"$f":"IF(CMS_Deviation_Detail!C354=\"\",\"\",CMS_Deviation_Detail!C354)","v":""},{"$f":"IF(CMS_Deviation_Detail!D354=\"\",\"\",CMS_Deviation_Detail!D354)","v":""},"",{"$f":"+IF(AI332=\"\",\"\",MAX(AN$1:AN331)+1)","v":""},"","","","","","",null,{"$f":"IF(COUNTIF(AZ$2:AZ332,AZ332)=1,AZ332,\"\")","v":""},{"$f":"IF(Limit_Deviation_Detail!B354=\"\",\"\",Limit_Deviation_Detail!B354)","v":""},{"$f":"IF(Limit_Deviation_Detail!C354=\"\",\"\",Limit_Deviation_Detail!C354)","v":""},{"$f":"IF(Limit_Deviation_Detail!E354=\"\",\"\",Limit_Deviation_Detail!E354)","v":""},"",{"$f":"+IF(AV332=\"\",\"\",MAX(BA$1:BA331)+1)","v":""},"","","",""]
[{"$f":"+IF(D333=\"\",\"\",MAX(A$1:A332)+1)","v":""},{"$f":"IF(Affected_Sources!C355=\"\",\"\",Affected_Sources!C355)","v":""},"",{"$f":"IF(COUNTIF(B$2:B333,B333)=1,B333,\"\")","v":""},null,null,null,null,null,null,null,null,null,null,null,null,null,null,null,{"$f":"+IF(Y333=\"\",\"\",MAX(T$1:T332)+1)","v":""},{"$f":"IF(Limit_Deviation_Detail!B355=\"\",\"\",Limit_Deviation_Detail!B355)","v":""},{"$f":"IF(Limit_Deviation_Detail!C355=\"\",\"\",Limit_Deviation_Detail!C355)","v":""},{"$f":"IF(Limit_Deviation_Detail!E355=\"\",\"\",Limit_Deviation_Detail!E355)","v":""},"",{"$f":"IF(COUNTIF(X$2:X333,X333)=1,X333,\"\")","v":""},"","","","","",null,null,null,null,{"$f":"IF(COUNTIF(AM$2:AM333,AM333)=1,AM333,\"\")","v":""},{"$f":"IF(CMS_Deviation_Detail!B355=\"\",\"\",CMS_Deviation_Detail!B355)","v":""},{"$f":"IF(CMS_Deviation_Detail!C355=\"\",\"\",CMS_Deviation_Detail!C355)","v":""},{"$f":"IF(CMS_Deviation_Detail!D355=\"\",\"\",CMS_Deviation_Detail!D355)","v":""},"",{"$f":"+IF(AI333=\"\",\"\",MAX(AN$1:AN332)+1)","v":""},"","","","","","",null,{"$f":"IF(COUNTIF(AZ$2:AZ333,AZ333)=1,AZ333,\"\")","v":""},{"$f":"IF(Limit_Deviation_Detail!B355=\"\",\"\",Limit_Deviation_Detail!B355)","v":""},{"$f":"IF(Limit_Deviation_Detail!C355=\"\",\"\",Limit_Deviation_Detail!C355)","v":""},{"$f":"IF(Limit_Deviation_Detail!E355=\"\",\"\",Limit_Deviation_Detail!E355)","v":""},"",{"$f":"+IF(AV333=\"\",\"\",MAX(BA$1:BA332)+1)","v":""},"","","",""]
[{"$f":"+IF(D334=\"\",\"\",MAX(A$1:A333)+1)","v":""},{"$f":"IF(Affected_Sources!C356=\"\",\"\",Affected_Sources!C356)","v":""},"",{"$f":"IF(COUNTIF(B$2:B334,B334)=1,B334,\"\")","v":""},null,null,null,null,null,null,null,null,null,null,null,null,null,null,null,{"$f":"+IF(Y334=\"\",\"\",MAX(T$1:T333)+1)","v":""},{"$f":"IF(Limit_Deviation_Detail!B356=\"\",\"\",Limit_Deviation_Detail!B356)","v":""},{"$f":"IF(Limit_Deviation_Detail!C356=\"\",\"\",Limit_Deviation_Detail!C356)","v":""},{"$f":"IF(Limit_Deviation_Detail!E356=\"\",\"\",Limit_Deviation_Detail!E356)","v":""},"",{"$f":"IF(COUNTIF(X$2:X334,X334)=1,X334,\"\")","v":""},"","","","","",null,null,null,null,{"$f":"IF(COUNTIF(AM$2:AM334,AM334)=1,AM334,\"\")","v":""},{"$f":"IF(CMS_Deviation_Detail!B356=\"\",\"\",CMS_Deviation_Detail!B356)","v":""},{"$f":"IF(CMS_Deviation_Detail!C356=\"\",\"\",CMS_Deviation_Detail!C356)","v":""},{"$f":"IF(CMS_Deviation_Detail!D356=\"\",\"\",CMS_Deviation_Detail!D356)","v":""},"",{"$f":"+IF(AI334=\"\",\"\",MAX(AN$1:AN333)+1)","v":""},"","","","","","",null,{"$f":"IF(COUNTIF(AZ$2:AZ334,AZ334)=1,AZ334,\"\")","v":""},{"$f":"IF(Limit_Deviation_Detail!B356=\"\",\"\",Limit_Deviation_Detail!B356)","v":""},{"$f":"IF(Limit_Deviation_Detail!C356=\"\",\"\",Limit_Deviation_Detail!C356)","v":""},{"$f":"IF(Limit_Deviation_Detail!E356=\"\",\"\",Limit_Deviation_Detail!E356)","v":""},"",{"$f":"+IF(AV334=\"\",\"\",MAX(BA$1:BA333)+1)","v":""},"","","",""]
[{"$f":"+IF(D335=\"\",\"\",MAX(A$1:A334)+1)","v":""},{"$f":"IF(Affected_Sources!C357=\"\",\"\",Affected_Sources!C357)","v":""},"",{"$f":"IF(COUNTIF(B$2:B335,B335)=1,B335,\"\")","v":""},null,null,null,null,null,null,null,null,null,null,null,null,null,null,null,{"$f":"+IF(Y335=\"\",\"\",MAX(T$1:T334)+1)","v":""},{"$f":"IF(Limit_Deviation_Detail!B357=\"\",\"\",Limit_Deviation_Detail!B357)","v":""},{"$f":"IF(Limit_Deviation_Detail!C357=\"\",\"\",Limit_Deviation_Detail!C357)","v":""},{"$f":"IF(Limit_Deviation_Detail!E357=\"\",\"\",Limit_Deviation_Detail!E357)","v":""},"",{"$f":"IF(COUNTIF(X$2:X335,X335)=1,X335,\"\")","v":""},"","","","","",null,null,null,null,{"$f":"IF(COUNTIF(AM$2:AM335,AM335)=1,AM335,\"\")","v":""},{"$f":"IF(CMS_Deviation_Detail!B357=\"\",\"\",CMS_Deviation_Detail!B357)","v":""},{"$f":"IF(CMS_Deviation_Detail!C357=\"\",\"\",CMS_Deviation_Detail!C357)","v":""},{"$f":"IF(CMS_Deviation_Detail!D357=\"\",\"\",CMS_Deviation_Detail!D357)","v":""},"",{"$f":"+IF(AI335=\"\",\"\",MAX(AN$1:AN334)+1)","v":""},"","","","","","",null,{"$f":"IF(COUNTIF(AZ$2:AZ335,AZ335)=1,AZ335,\"\")","v":""},{"$f":"IF(Limit_Deviation_Detail!B357=\"\",\"\",Limit_Deviation_Detail!B357)","v":""},{"$f":"IF(Limit_Deviation_Detail!C357=\"\",\"\",Limit_Deviation_Detail!C357)","v":""},{"$f":"IF(Limit_Deviation_Detail!E357=\"\",\"\",Limit_Deviation_Detail!E357)","v":""},"",{"$f":"+IF(AV335=\"\",\"\",MAX(BA$1:BA334)+1)","v":""},"","","",""]
[{"$f":"+IF(D336=\"\",\"\",MAX(A$1:A335)+1)","v":""},{"$f":"IF(Affected_Sources!C358=\"\",\"\",Affected_Sources!C358)","v":""},"",{"$f":"IF(COUNTIF(B$2:B336,B336)=1,B336,\"\")","v":""},null,null,null,null,null,null,null,null,null,null,null,null,null,null,null,{"$f":"+IF(Y336=\"\",\"\",MAX(T$1:T335)+1)","v":""},{"$f":"IF(Limit_Deviation_Detail!B358=\"\",\"\",Limit_Deviation_Detail!B358)","v":""},{"$f":"IF(Limit_Deviation_Detail!C358=\"\",\"\",Limit_Deviation_Detail!C358)","v":""},{"$f":"IF(Limit_Deviation_Detail!E358=\"\",\"\",Limit_Deviation_Detail!E358)","v":""},"",{"$f":"IF(COUNTIF(X$2:X336,X336)=1,X336,\"\")","v":""},"","","","","",null,null,null,null,{"$f":"IF(COUNTIF(AM$2:AM336,AM336)=1,AM336,\"\")","v":""},{"$f":"IF(CMS_Deviation_Detail!B358=\"\",\"\",CMS_Deviation_Detail!B358)","v":""},{"$f":"IF(CMS_Deviation_Detail!C358=\"\",\"\",CMS_Deviation_Detail!C358)","v":""},{"$f":"IF(CMS_Deviation_Detail!D358=\"\",\"\",CMS_Deviation_Detail!D358)","v":""},"",{"$f":"+IF(AI336=\"\",\"\",MAX(AN$1:AN335)+1)","v":""},"","","","","","",null,{"$f":"IF(COUNTIF(AZ$2:AZ336,AZ336)=1,AZ336,\"\")","v":""},{"$f":"IF(Limit_Deviation_Detail!B358=\"\",\"\",Limit_Deviation_Detail!B358)","v":""},{"$f":"IF(Limit_Deviation_Detail!C358=\"\",\"\",Limit_Deviation_Detail!C358)","v":""},{"$f":"IF(Limit_Deviation_Detail!E358=\"\",\"\",Limit_Deviation_Detail!E358)","v":""},"",{"$f":"+IF(AV336=\"\",\"\",MAX(BA$1:BA335)+1)","v":""},"","","",""]
[{"$f":"+IF(D337=\"\",\"\",MAX(A$1:A336)+1)","v":""},{"$f":"IF(Affected_Sources!C359=\"\",\"\",Affected_Sources!C359)","v":""},"",{"$f":"IF(COUNTIF(B$2:B337,B337)=1,B337,\"\")","v":""},null,null,null,null,null,null,null,null,null,null,null,null,null,null,null,{"$f":"+IF(Y337=\"\",\"\",MAX(T$1:T336)+1)","v":""},{"$f":"IF(Limit_Deviation_Detail!B359=\"\",\"\",Limit_Deviation_Detail!B359)","v":""},{"$f":"IF(Limit_Deviation_Detail!C359=\"\",\"\",Limit_Deviation_Detail!C359)","v":""},{"$f":"IF(Limit_Deviation_Detail!E359=\"\",\"\",Limit_Deviation_Detail!E359)","v":""},"",{"$f":"IF(COUNTIF(X$2:X337,X337)=1,X337,\"\")","v":""},"","","","","",null,null,null,null,{"$f":"IF(COUNTIF(AM$2:AM337,AM337)=1,AM337,\"\")","v":""},{"$f":"IF(CMS_Deviation_Detail!B359=\"\",\"\",CMS_Deviation_Detail!B359)","v":""},{"$f":"IF(CMS_Deviation_Detail!C359=\"\",\"\",CMS_Deviation_Detail!C359)","v":""},{"$f":"IF(CMS_Deviation_Detail!D359=\"\",\"\",CMS_Deviation_Detail!D359)","v":""},"",{"$f":"+IF(AI337=\"\",\"\",MAX(AN$1:AN336)+1)","v":""},"","","","","","",null,{"$f":"IF(COUNTIF(AZ$2:AZ337,AZ337)=1,AZ337,\"\")","v":""},{"$f":"IF(Limit_Deviation_Detail!B359=\"\",\"\",Limit_Deviation_Detail!B359)","v":""},{"$f":"IF(Limit_Deviation_Detail!C359=\"\",\"\",Limit_Deviation_Detail!C359)","v":""},{"$f":"IF(Limit_Deviation_Detail!E359=\"\",\"\",Limit_Deviation_Detail!E359)","v":""},"",{"$f":"+IF(AV337=\"\",\"\",MAX(BA$1:BA336)+1)","v":""},"","","",""]
[{"$f":"+IF(D338=\"\",\"\",MAX(A$1:A337)+1)","v":""},{"$f":"IF(Affected_Sources!C360=\"\",\"\",Affected_Sources!C360)","v":""},"",{"$f":"IF(COUNTIF(B$2:B338,B338)=1,B338,\"\")","v":""},null,null,null,null,null,null,null,null,null,null,null,null,null,null,null,{"$f":"+IF(Y338=\"\",\"\",MAX(T$1:T337)+1)","v":""},{"$f":"IF(Limit_Deviation_Detail!B360=\"\",\"\",Limit_Deviation_Detail!B360)","v":""},{"$f":"IF(Limit_Deviation_Detail!C360=\"\",\"\",Limit_Deviation_Detail!C360)","v":""},{"$f":"IF(Limit_Deviation_Detail!E360=\"\",\"\",Limit_Deviation_Detail!E360)","v":""},"",{"$f":"IF(COUNTIF(X$2:X338,X338)=1,X338,\"\")","v":""},"","","","","",null,null,null,null,{"$f":"IF(COUNTIF(AM$2:AM338,AM338)=1,AM338,\"\")","v":""},{"$f":"IF(CMS_Deviation_Detail!B360=\"\",\"\",CMS_Deviation_Detail!B360)","v":""},{"$f":"IF(CMS_Deviation_Detail!C360=\"\",\"\",CMS_Deviation_Detail!C360)","v":""},{"$f":"IF(CMS_Deviation_Detail!D360=\"\",\"\",CMS_Deviation_Detail!D360)","v":""},"",{"$f":"+IF(AI338=\"\",\"\",MAX(AN$1:AN337)+1)","v":""},"","","","","","",null,{"$f":"IF(COUNTIF(AZ$2:AZ338,AZ338)=1,AZ338,\"\")","v":""},{"$f":"IF(Limit_Deviation_Detail!B360=\"\",\"\",Limit_Deviation_Detail!B360)","v":""},{"$f":"IF(Limit_Deviation_Detail!C360=\"\",\"\",Limit_Deviation_Detail!C360)","v":""},{"$f":"IF(Limit_Deviation_Detail!E360=\"\",\"\",Limit_Deviation_Detail!E360)","v":""},"",{"$f":"+IF(AV338=\"\",\"\",MAX(BA$1:BA337)+1)","v":""},"","","",""]
[{"$f":"+IF(D339=\"\",\"\",MAX(A$1:A338)+1)","v":""},{"$f":"IF(Affected_Sources!C361=\"\",\"\",Affected_Sources!C361)","v":""},"",{"$f":"IF(COUNTIF(B$2:B339,B339)=1,B339,\"\")","v":""},null,null,null,null,null,null,null,null,null,null,null,null,null,null,null,{"$f":"+IF(Y339=\"\",\"\",MAX(T$1:T338)+1)","v":""},{"$f":"IF(Limit_Deviation_Detail!B361=\"\",\"\",Limit_Deviation_Detail!B361)","v":""},{"$f":"IF(Limit_Deviation_Detail!C361=\"\",\"\",Limit_Deviation_Detail!C361)","v":""},{"$f":"IF(Limit_Deviation_Detail!E361=\"\",\"\",Limit_Deviation_Detail!E361)","v":""},"",{"$f":"IF(COUNTIF(X$2:X339,X339)=1,X339,\"\")","v":""},"","","","","",null,null,null,null,{"$f":"IF(COUNTIF(AM$2:AM339,AM339)=1,AM339,\"\")","v":""},{"$f":"IF(CMS_Deviation_Detail!B361=\"\",\"\",CMS_Deviation_Detail!B361)","v":""},{"$f":"IF(CMS_Deviation_Detail!C361=\"\",\"\",CMS_Deviation_Detail!C361)","v":""},{"$f":"IF(CMS_Deviation_Detail!D361=\"\",\"\",CMS_Deviation_Detail!D361)","v":""},"",{"$f":"+IF(AI339=\"\",\"\",MAX(AN$1:AN338)+1)","v":""},"","","","","","",null,{"$f":"IF(COUNTIF(AZ$2:AZ339,AZ339)=1,AZ339,\"\")","v":""},{"$f":"IF(Limit_Deviation_Detail!B361=\"\",\"\",Limit_Deviation_Detail!B361)","v":""},{"$f":"IF(Limit_Deviation_Detail!C361=\"\",\"\",Limit_Deviation_Detail!C361)","v":""},{"$f":"IF(Limit_Deviation_Detail!E361=\"\",\"\",Limit_Deviation_Detail!E361)","v":""},"",{"$f":"+IF(AV339=\"\",\"\",MAX(BA$1:BA338)+1)","v":""},"","","",""]
[{"$f":"+IF(D340=\"\",\"\",MAX(A$1:A339)+1)","v":""},{"$f":"IF(Affected_Sources!C362=\"\",\"\",Affected_Sources!C362)","v":""},"",{"$f":"IF(COUNTIF(B$2:B340,B340)=1,B340,\"\")","v":""},null,null,null,null,null,null,null,null,null,null,null,null,null,null,null,{"$f":"+IF(Y340=\"\",\"\",MAX(T$1:T339)+1)","v":""},{"$f":"IF(Limit_Deviation_Detail!B362=\"\",\"\",Limit_Deviation_Detail!B362)","v":""},{"$f":"IF(Limit_Deviation_Detail!C362=\"\",\"\",Limit_Deviation_Detail!C362)","v":""},{"$f":"IF(Limit_Deviation_Detail!E362=\"\",\"\",Limit_Deviation_Detail!E362)","v":""},"",{"$f":"IF(COUNTIF(X$2:X340,X340)=1,X340,\"\")","v":""},"","","","","",null,null,null,null,{"$f":"IF(COUNTIF(AM$2:AM340,AM340)=1,AM340,\"\")","v":""},{"$f":"IF(CMS_Deviation_Detail!B362=\"\",\"\",CMS_Deviation_Detail!B362)","v":""},{"$f":"IF(CMS_Deviation_Detail!C362=\"\",\"\",CMS_Deviation_Detail!C362)","v":""},{"$f":"IF(CMS_Deviation_Detail!D362=\"\",\"\",CMS_Deviation_Detail!D362)","v":""},"",{"$f":"+IF(AI340=\"\",\"\",MAX(AN$1:AN339)+1)","v":""},"","","","","","",null,{"$f":"IF(COUNTIF(AZ$2:AZ340,AZ340)=1,AZ340,\"\")","v":""},{"$f":"IF(Limit_Deviation_Detail!B362=\"\",\"\",Limit_Deviation_Detail!B362)","v":""},{"$f":"IF(Limit_Deviation_Detail!C362=\"\",\"\",Limit_Deviation_Detail!C362)","v":""},{"$f":"IF(Limit_Deviation_Detail!E362=\"\",\"\",Limit_Deviation_Detail!E362)","v":""},"",{"$f":"+IF(AV340=\"\",\"\",MAX(BA$1:BA339)+1)","v":""},"","","",""]
[{"$f":"+IF(D341=\"\",\"\",MAX(A$1:A340)+1)","v":""},{"$f":"IF(Affected_Sources!C363=\"\",\"\",Affected_Sources!C363)","v":""},"",{"$f":"IF(COUNTIF(B$2:B341,B341)=1,B341,\"\")","v":""},null,null,null,null,null,null,null,null,null,null,null,null,null,null,null,{"$f":"+IF(Y341=\"\",\"\",MAX(T$1:T340)+1)","v":""},{"$f":"IF(Limit_Deviation_Detail!B363=\"\",\"\",Limit_Deviation_Detail!B363)","v":""},{"$f":"IF(Limit_Deviation_Detail!C363=\"\",\"\",Limit_Deviation_Detail!C363)","v":""},{"$f":"IF(Limit_Deviation_Detail!E363=\"\",\"\",Limit_Deviation_Detail!E363)","v":""},"",{"$f":"IF(COUNTIF(X$2:X341,X341)=1,X341,\"\")","v":""},"","","","","",null,null,null,null,{"$f":"IF(COUNTIF(AM$2:AM341,AM341)=1,AM341,\"\")","v":""},{"$f":"IF(CMS_Deviation_Detail!B363=\"\",\"\",CMS_Deviation_Detail!B363)","v":""},{"$f":"IF(CMS_Deviation_Detail!C363=\"\",\"\",CMS_Deviation_Detail!C363)","v":""},{"$f":"IF(CMS_Deviation_Detail!D363=\"\",\"\",CMS_Deviation_Detail!D363)","v":""},"",{"$f":"+IF(AI341=\"\",\"\",MAX(AN$1:AN340)+1)","v":""},"","","","","","",null,{"$f":"IF(COUNTIF(AZ$2:AZ341,AZ341)=1,AZ341,\"\")","v":""},{"$f":"IF(Limit_Deviation_Detail!B363=\"\",\"\",Limit_Deviation_Detail!B363)","v":""},{"$f":"IF(Limit_Deviation_Detail!C363=\"\",\"\",Limit_Deviation_Detail!C363)","v":""},{"$f":"IF(Limit_Deviation_Detail!E363=\"\",\"\",Limit_Deviation_Detail!E363)","v":""},"",{"$f":"+IF(AV341=\"\",\"\",MAX(BA$1:BA340)+1)","v":""},"","","",""]
[{"$f":"+IF(D342=\"\",\"\",MAX(A$1:A341)+1)","v":""},{"$f":"IF(Affected_Sources!C364=\"\",\"\",Affected_Sources!C364)","v":""},"",{"$f":"IF(COUNTIF(B$2:B342,B342)=1,B342,\"\")","v":""},null,null,null,null,null,null,null,null,null,null,null,null,null,null,null,{"$f":"+IF(Y342=\"\",\"\",MAX(T$1:T341)+1)","v":""},{"$f":"IF(Limit_Deviation_Detail!B364=\"\",\"\",Limit_Deviation_Detail!B364)","v":""},{"$f":"IF(Limit_Deviation_Detail!C364=\"\",\"\",Limit_Deviation_Detail!C364)","v":""},{"$f":"IF(Limit_Deviation_Detail!E364=\"\",\"\",Limit_Deviation_Detail!E364)","v":""},"",{"$f":"IF(COUNTIF(X$2:X342,X342)=1,X342,\"\")","v":""},"","","","","",null,null,null,null,{"$f":"IF(COUNTIF(AM$2:AM342,AM342)=1,AM342,\"\")","v":""},{"$f":"IF(CMS_Deviation_Detail!B364=\"\",\"\",CMS_Deviation_Detail!B364)","v":""},{"$f":"IF(CMS_Deviation_Detail!C364=\"\",\"\",CMS_Deviation_Detail!C364)","v":""},{"$f":"IF(CMS_Deviation_Detail!D364=\"\",\"\",CMS_Deviation_Detail!D364)","v":""},"",{"$f":"+IF(AI342=\"\",\"\",MAX(AN$1:AN341)+1)","v":""},"","","","","","",null,{"$f":"IF(COUNTIF(AZ$2:AZ342,AZ342)=1,AZ342,\"\")","v":""},{"$f":"IF(Limit_Deviation_Detail!B364=\"\",\"\",Limit_Deviation_Detail!B364)","v":""},{"$f":"IF(Limit_Deviation_Detail!C364=\"\",\"\",Limit_Deviation_Detail!C364)","v":""},{"$f":"IF(Limit_Deviation_Detail!E364=\"\",\"\",Limit_Deviation_Detail!E364)","v":""},"",{"$f":"+IF(AV342=\"\",\"\",MAX(BA$1:BA341)+1)","v":""},"","","",""]
[{"$f":"+IF(D343=\"\",\"\",MAX(A$1:A342)+1)","v":""},{"$f":"IF(Affected_Sources!C365=\"\",\"\",Affected_Sources!C365)","v":""},"",{"$f":"IF(COUNTIF(B$2:B343,B343)=1,B343,\"\")","v":""},null,null,null,null,null,null,null,null,null,null,null,null,null,null,null,{"$f":"+IF(Y343=\"\",\"\",MAX(T$1:T342)+1)","v":""},{"$f":"IF(Limit_Deviation_Detail!B365=\"\",\"\",Limit_Deviation_Detail!B365)","v":""},{"$f":"IF(Limit_Deviation_Detail!C365=\"\",\"\",Limit_Deviation_Detail!C365)","v":""},{"$f":"IF(Limit_Deviation_Detail!E365=\"\",\"\",Limit_Deviation_Detail!E365)","v":""},"",{"$f":"IF(COUNTIF(X$2:X343,X343)=1,X343,\"\")","v":""},"","","","","",null,null,null,null,{"$f":"IF(COUNTIF(AM$2:AM343,AM343)=1,AM343,\"\")","v":""},{"$f":"IF(CMS_Deviation_Detail!B365=\"\",\"\",CMS_Deviation_Detail!B365)","v":""},{"$f":"IF(CMS_Deviation_Detail!C365=\"\",\"\",CMS_Deviation_Detail!C365)","v":""},{"$f":"IF(CMS_Deviation_Detail!D365=\"\",\"\",CMS_Deviation_Detail!D365)","v":""},"",{"$f":"+IF(AI343=\"\",\"\",MAX(AN$1:AN342)+1)","v":""},"","","","","","",null,{"$f":"IF(COUNTIF(AZ$2:AZ343,AZ343)=1,AZ343,\"\")","v":""},{"$f":"IF(Limit_Deviation_Detail!B365=\"\",\"\",Limit_Deviation_Detail!B365)","v":""},{"$f":"IF(Limit_Deviation_Detail!C365=\"\",\"\",Limit_Deviation_Detail!C365)","v":""},{"$f":"IF(Limit_Deviation_Detail!E365=\"\",\"\",Limit_Deviation_Detail!E365)","v":""},"",{"$f":"+IF(AV343=\"\",\"\",MAX(BA$1:BA342)+1)","v":""},"","","",""]
[{"$f":"+IF(D344=\"\",\"\",MAX(A$1:A343)+1)","v":""},{"$f":"IF(Affected_Sources!C366=\"\",\"\",Affected_Sources!C366)","v":""},"",{"$f":"IF(COUNTIF(B$2:B344,B344)=1,B344,\"\")","v":""},null,null,null,null,null,null,null,null,null,null,null,null,null,null,null,{"$f":"+IF(Y344=\"\",\"\",MAX(T$1:T343)+1)","v":""},{"$f":"IF(Limit_Deviation_Detail!B366=\"\",\"\",Limit_Deviation_Detail!B366)","v":""},{"$f":"IF(Limit_Deviation_Detail!C366=\"\",\"\",Limit_Deviation_Detail!C366)","v":""},{"$f":"IF(Limit_Deviation_Detail!E366=\"\",\"\",Limit_Deviation_Detail!E366)","v":""},"",{"$f":"IF(COUNTIF(X$2:X344,X344)=1,X344,\"\")","v":""},"","","","","",null,null,null,null,{"$f":"IF(COUNTIF(AM$2:AM344,AM344)=1,AM344,\"\")","v":""},{"$f":"IF(CMS_Deviation_Detail!B366=\"\",\"\",CMS_Deviation_Detail!B366)","v":""},{"$f":"IF(CMS_Deviation_Detail!C366=\"\",\"\",CMS_Deviation_Detail!C366)","v":""},{"$f":"IF(CMS_Deviation_Detail!D366=\"\",\"\",CMS_Deviation_Detail!D366)","v":""},"",{"$f":"+IF(AI344=\"\",\"\",MAX(AN$1:AN343)+1)","v":""},"","","","","","",null,{"$f":"IF(COUNTIF(AZ$2:AZ344,AZ344)=1,AZ344,\"\")","v":""},{"$f":"IF(Limit_Deviation_Detail!B366=\"\",\"\",Limit_Deviation_Detail!B366)","v":""},{"$f":"IF(Limit_Deviation_Detail!C366=\"\",\"\",Limit_Deviation_Detail!C366)","v":""},{"$f":"IF(Limit_Deviation_Detail!E366=\"\",\"\",Limit_Deviation_Detail!E366)","v":""},"",{"$f":"+IF(AV344=\"\",\"\",MAX(BA$1:BA343)+1)","v":""},"","","",""]
[{"$f":"+IF(D345=\"\",\"\",MAX(A$1:A344)+1)","v":""},{"$f":"IF(Affected_Sources!C367=\"\",\"\",Affected_Sources!C367)","v":""},"",{"$f":"IF(COUNTIF(B$2:B345,B345)=1,B345,\"\")","v":""},null,null,null,null,null,null,null,null,null,null,null,null,null,null,null,{"$f":"+IF(Y345=\"\",\"\",MAX(T$1:T344)+1)","v":""},{"$f":"IF(Limit_Deviation_Detail!B367=\"\",\"\",Limit_Deviation_Detail!B367)","v":""},{"$f":"IF(Limit_Deviation_Detail!C367=\"\",\"\",Limit_Deviation_Detail!C367)","v":""},{"$f":"IF(Limit_Deviation_Detail!E367=\"\",\"\",Limit_Deviation_Detail!E367)","v":""},"",{"$f":"IF(COUNTIF(X$2:X345,X345)=1,X345,\"\")","v":""},"","","","","",null,null,null,null,{"$f":"IF(COUNTIF(AM$2:AM345,AM345)=1,AM345,\"\")","v":""},{"$f":"IF(CMS_Deviation_Detail!B367=\"\",\"\",CMS_Deviation_Detail!B367)","v":""},{"$f":"IF(CMS_Deviation_Detail!C367=\"\",\"\",CMS_Deviation_Detail!C367)","v":""},{"$f":"IF(CMS_Deviation_Detail!D367=\"\",\"\",CMS_Deviation_Detail!D367)","v":""},"",{"$f":"+IF(AI345=\"\",\"\",MAX(AN$1:AN344)+1)","v":""},"","","","","","",null,{"$f":"IF(COUNTIF(AZ$2:AZ345,AZ345)=1,AZ345,\"\")","v":""},{"$f":"IF(Limit_Deviation_Detail!B367=\"\",\"\",Limit_Deviation_Detail!B367)","v":""},{"$f":"IF(Limit_Deviation_Detail!C367=\"\",\"\",Limit_Deviation_Detail!C367)","v":""},{"$f":"IF(Limit_Deviation_Detail!E367=\"\",\"\",Limit_Deviation_Detail!E367)","v":""},"",{"$f":"+IF(AV345=\"\",\"\",MAX(BA$1:BA344)+1)","v":""},"","","",""]
[{"$f":"+IF(D346=\"\",\"\",MAX(A$1:A345)+1)","v":""},{"$f":"IF(Affected_Sources!C368=\"\",\"\",Affected_Sources!C368)","v":""},"",{"$f":"IF(COUNTIF(B$2:B346,B346)=1,B346,\"\")","v":""},null,null,null,null,null,null,null,null,null,null,null,null,null,null,null,{"$f":"+IF(Y346=\"\",\"\",MAX(T$1:T345)+1)","v":""},{"$f":"IF(Limit_Deviation_Detail!B368=\"\",\"\",Limit_Deviation_Detail!B368)","v":""},{"$f":"IF(Limit_Deviation_Detail!C368=\"\",\"\",Limit_Deviation_Detail!C368)","v":""},{"$f":"IF(Limit_Deviation_Detail!E368=\"\",\"\",Limit_Deviation_Detail!E368)","v":""},"",{"$f":"IF(COUNTIF(X$2:X346,X346)=1,X346,\"\")","v":""},"","","","","",null,null,null,null,{"$f":"IF(COUNTIF(AM$2:AM346,AM346)=1,AM346,\"\")","v":""},{"$f":"IF(CMS_Deviation_Detail!B368=\"\",\"\",CMS_Deviation_Detail!B368)","v":""},{"$f":"IF(CMS_Deviation_Detail!C368=\"\",\"\",CMS_Deviation_Detail!C368)","v":""},{"$f":"IF(CMS_Deviation_Detail!D368=\"\",\"\",CMS_Deviation_Detail!D368)","v":""},"",{"$f":"+IF(AI346=\"\",\"\",MAX(AN$1:AN345)+1)","v":""},"","","","","","",null,{"$f":"IF(COUNTIF(AZ$2:AZ346,AZ346)=1,AZ346,\"\")","v":""},{"$f":"IF(Limit_Deviation_Detail!B368=\"\",\"\",Limit_Deviation_Detail!B368)","v":""},{"$f":"IF(Limit_Deviation_Detail!C368=\"\",\"\",Limit_Deviation_Detail!C368)","v":""},{"$f":"IF(Limit_Deviation_Detail!E368=\"\",\"\",Limit_Deviation_Detail!E368)","v":""},"",{"$f":"+IF(AV346=\"\",\"\",MAX(BA$1:BA345)+1)","v":""},"","","",""]
[{"$f":"+IF(D347=\"\",\"\",MAX(A$1:A346)+1)","v":""},{"$f":"IF(Affected_Sources!C369=\"\",\"\",Affected_Sources!C369)","v":""},"",{"$f":"IF(COUNTIF(B$2:B347,B347)=1,B347,\"\")","v":""},null,null,null,null,null,null,null,null,null,null,null,null,null,null,null,{"$f":"+IF(Y347=\"\",\"\",MAX(T$1:T346)+1)","v":""},{"$f":"IF(Limit_Deviation_Detail!B369=\"\",\"\",Limit_Deviation_Detail!B369)","v":""},{"$f":"IF(Limit_Deviation_Detail!C369=\"\",\"\",Limit_Deviation_Detail!C369)","v":""},{"$f":"IF(Limit_Deviation_Detail!E369=\"\",\"\",Limit_Deviation_Detail!E369)","v":""},"",{"$f":"IF(COUNTIF(X$2:X347,X347)=1,X347,\"\")","v":""},"","","","","",null,null,null,null,{"$f":"IF(COUNTIF(AM$2:AM347,AM347)=1,AM347,\"\")","v":""},{"$f":"IF(CMS_Deviation_Detail!B369=\"\",\"\",CMS_Deviation_Detail!B369)","v":""},{"$f":"IF(CMS_Deviation_Detail!C369=\"\",\"\",CMS_Deviation_Detail!C369)","v":""},{"$f":"IF(CMS_Deviation_Detail!D369=\"\",\"\",CMS_Deviation_Detail!D369)","v":""},"",{"$f":"+IF(AI347=\"\",\"\",MAX(AN$1:AN346)+1)","v":""},"","","","","","",null,{"$f":"IF(COUNTIF(AZ$2:AZ347,AZ347)=1,AZ347,\"\")","v":""},{"$f":"IF(Limit_Deviation_Detail!B369=\"\",\"\",Limit_Deviation_Detail!B369)","v":""},{"$f":"IF(Limit_Deviation_Detail!C369=\"\",\"\",Limit_Deviation_Detail!C369)","v":""},{"$f":"IF(Limit_Deviation_Detail!E369=\"\",\"\",Limit_Deviation_Detail!E369)","v":""},"",{"$f":"+IF(AV347=\"\",\"\",MAX(BA$1:BA346)+1)","v":""},"","","",""]
[{"$f":"+IF(D348=\"\",\"\",MAX(A$1:A347)+1)","v":""},{"$f":"IF(Affected_Sources!C370=\"\",\"\",Affected_Sources!C370)","v":""},"",{"$f":"IF(COUNTIF(B$2:B348,B348)=1,B348,\"\")","v":""},null,null,null,null,null,null,null,null,null,null,null,null,null,null,null,{"$f":"+IF(Y348=\"\",\"\",MAX(T$1:T347)+1)","v":""},{"$f":"IF(Limit_Deviation_Detail!B370=\"\",\"\",Limit_Deviation_Detail!B370)","v":""},{"$f":"IF(Limit_Deviation_Detail!C370=\"\",\"\",Limit_Deviation_Detail!C370)","v":""},{"$f":"IF(Limit_Deviation_Detail!E370=\"\",\"\",Limit_Deviation_Detail!E370)","v":""},"",{"$f":"IF(COUNTIF(X$2:X348,X348)=1,X348,\"\")","v":""},"","","","","",null,null,null,null,{"$f":"IF(COUNTIF(AM$2:AM348,AM348)=1,AM348,\"\")","v":""},{"$f":"IF(CMS_Deviation_Detail!B370=\"\",\"\",CMS_Deviation_Detail!B370)","v":""},{"$f":"IF(CMS_Deviation_Detail!C370=\"\",\"\",CMS_Deviation_Detail!C370)","v":""},{"$f":"IF(CMS_Deviation_Detail!D370=\"\",\"\",CMS_Deviation_Detail!D370)","v":""},"",{"$f":"+IF(AI348=\"\",\"\",MAX(AN$1:AN347)+1)","v":""},"","","","","","",null,{"$f":"IF(COUNTIF(AZ$2:AZ348,AZ348)=1,AZ348,\"\")","v":""},{"$f":"IF(Limit_Deviation_Detail!B370=\"\",\"\",Limit_Deviation_Detail!B370)","v":""},{"$f":"IF(Limit_Deviation_Detail!C370=\"\",\"\",Limit_Deviation_Detail!C370)","v":""},{"$f":"IF(Limit_Deviation_Detail!E370=\"\",\"\",Limit_Deviation_Detail!E370)","v":""},"",{"$f":"+IF(AV348=\"\",\"\",MAX(BA$1:BA347)+1)","v":""},"","","",""]
[{"$f":"+IF(D349=\"\",\"\",MAX(A$1:A348)+1)","v":""},{"$f":"IF(Affected_Sources!C371=\"\",\"\",Affected_Sources!C371)","v":""},"",{"$f":"IF(COUNTIF(B$2:B349,B349)=1,B349,\"\")","v":""},null,null,null,null,null,null,null,null,null,null,null,null,null,null,null,{"$f":"+IF(Y349=\"\",\"\",MAX(T$1:T348)+1)","v":""},{"$f":"IF(Limit_Deviation_Detail!B371=\"\",\"\",Limit_Deviation_Detail!B371)","v":""},{"$f":"IF(Limit_Deviation_Detail!C371=\"\",\"\",Limit_Deviation_Detail!C371)","v":""},{"$f":"IF(Limit_Deviation_Detail!E371=\"\",\"\",Limit_Deviation_Detail!E371)","v":""},"",{"$f":"IF(COUNTIF(X$2:X349,X349)=1,X349,\"\")","v":""},"","","","","",null,null,null,null,{"$f":"IF(COUNTIF(AM$2:AM349,AM349)=1,AM349,\"\")","v":""},{"$f":"IF(CMS_Deviation_Detail!B371=\"\",\"\",CMS_Deviation_Detail!B371)","v":""},{"$f":"IF(CMS_Deviation_Detail!C371=\"\",\"\",CMS_Deviation_Detail!C371)","v":""},{"$f":"IF(CMS_Deviation_Detail!D371=\"\",\"\",CMS_Deviation_Detail!D371)","v":""},"",{"$f":"+IF(AI349=\"\",\"\",MAX(AN$1:AN348)+1)","v":""},"","","","","","",null,{"$f":"IF(COUNTIF(AZ$2:AZ349,AZ349)=1,AZ349,\"\")","v":""},{"$f":"IF(Limit_Deviation_Detail!B371=\"\",\"\",Limit_Deviation_Detail!B371)","v":""},{"$f":"IF(Limit_Deviation_Detail!C371=\"\",\"\",Limit_Deviation_Detail!C371)","v":""},{"$f":"IF(Limit_Deviation_Detail!E371=\"\",\"\",Limit_Deviation_Detail!E371)","v":""},"",{"$f":"+IF(AV349=\"\",\"\",MAX(BA$1:BA348)+1)","v":""},"","","",""]
[{"$f":"+IF(D350=\"\",\"\",MAX(A$1:A349)+1)","v":""},{"$f":"IF(Affected_Sources!C372=\"\",\"\",Affected_Sources!C372)","v":""},"",{"$f":"IF(COUNTIF(B$2:B350,B350)=1,B350,\"\")","v":""},null,null,null,null,null,null,null,null,null,null,null,null,null,null,null,{"$f":"+IF(Y350=\"\",\"\",MAX(T$1:T349)+1)","v":""},{"$f":"IF(Limit_Deviation_Detail!B372=\"\",\"\",Limit_Deviation_Detail!B372)","v":""},{"$f":"IF(Limit_Deviation_Detail!C372=\"\",\"\",Limit_Deviation_Detail!C372)","v":""},{"$f":"IF(Limit_Deviation_Detail!E372=\"\",\"\",Limit_Deviation_Detail!E372)","v":""},"",{"$f":"IF(COUNTIF(X$2:X350,X350)=1,X350,\"\")","v":""},"","","","","",null,null,null,null,{"$f":"IF(COUNTIF(AM$2:AM350,AM350)=1,AM350,\"\")","v":""},{"$f":"IF(CMS_Deviation_Detail!B372=\"\",\"\",CMS_Deviation_Detail!B372)","v":""},{"$f":"IF(CMS_Deviation_Detail!C372=\"\",\"\",CMS_Deviation_Detail!C372)","v":""},{"$f":"IF(CMS_Deviation_Detail!D372=\"\",\"\",CMS_Deviation_Detail!D372)","v":""},"",{"$f":"+IF(AI350=\"\",\"\",MAX(AN$1:AN349)+1)","v":""},"","","","","","",null,{"$f":"IF(COUNTIF(AZ$2:AZ350,AZ350)=1,AZ350,\"\")","v":""},{"$f":"IF(Limit_Deviation_Detail!B372=\"\",\"\",Limit_Deviation_Detail!B372)","v":""},{"$f":"IF(Limit_Deviation_Detail!C372=\"\",\"\",Limit_Deviation_Detail!C372)","v":""},{"$f":"IF(Limit_Deviation_Detail!E372=\"\",\"\",Limit_Deviation_Detail!E372)","v":""},"",{"$f":"+IF(AV350=\"\",\"\",MAX(BA$1:BA349)+1)","v":""},"","","",""]
[{"$f":"+IF(D351=\"\",\"\",MAX(A$1:A350)+1)","v":""},{"$f":"IF(Affected_Sources!C373=\"\",\"\",Affected_Sources!C373)","v":""},"",{"$f":"IF(COUNTIF(B$2:B351,B351)=1,B351,\"\")","v":""},null,null,null,null,null,null,null,null,null,null,null,null,null,null,null,{"$f":"+IF(Y351=\"\",\"\",MAX(T$1:T350)+1)","v":""},{"$f":"IF(Limit_Deviation_Detail!B373=\"\",\"\",Limit_Deviation_Detail!B373)","v":""},{"$f":"IF(Limit_Deviation_Detail!C373=\"\",\"\",Limit_Deviation_Detail!C373)","v":""},{"$f":"IF(Limit_Deviation_Detail!E373=\"\",\"\",Limit_Deviation_Detail!E373)","v":""},"",{"$f":"IF(COUNTIF(X$2:X351,X351)=1,X351,\"\")","v":""},"","","","","",null,null,null,null,{"$f":"IF(COUNTIF(AM$2:AM351,AM351)=1,AM351,\"\")","v":""},{"$f":"IF(CMS_Deviation_Detail!B373=\"\",\"\",CMS_Deviation_Detail!B373)","v":""},{"$f":"IF(CMS_Deviation_Detail!C373=\"\",\"\",CMS_Deviation_Detail!C373)","v":""},{"$f":"IF(CMS_Deviation_Detail!D373=\"\",\"\",CMS_Deviation_Detail!D373)","v":""},"",{"$f":"+IF(AI351=\"\",\"\",MAX(AN$1:AN350)+1)","v":""},"","","","","","",null,{"$f":"IF(COUNTIF(AZ$2:AZ351,AZ351)=1,AZ351,\"\")","v":""},{"$f":"IF(Limit_Deviation_Detail!B373=\"\",\"\",Limit_Deviation_Detail!B373)","v":""},{"$f":"IF(Limit_Deviation_Detail!C373=\"\",\"\",Limit_Deviation_Detail!C373)","v":""},{"$f":"IF(Limit_Deviation_Detail!E373=\"\",\"\",Limit_Deviation_Detail!E373)","v":""},"",{"$f":"+IF(AV351=\"\",\"\",MAX(BA$1:BA350)+1)","v":""},"","","",""]
[{"$f":"+IF(D352=\"\",\"\",MAX(A$1:A351)+1)","v":""},{"$f":"IF(Affected_Sources!C374=\"\",\"\",Affected_Sources!C374)","v":""},"",{"$f":"IF(COUNTIF(B$2:B352,B352)=1,B352,\"\")","v":""},null,null,null,null,null,null,null,null,null,null,null,null,null,null,null,{"$f":"+IF(Y352=\"\",\"\",MAX(T$1:T351)+1)","v":""},{"$f":"IF(Limit_Deviation_Detail!B374=\"\",\"\",Limit_Deviation_Detail!B374)","v":""},{"$f":"IF(Limit_Deviation_Detail!C374=\"\",\"\",Limit_Deviation_Detail!C374)","v":""},{"$f":"IF(Limit_Deviation_Detail!E374=\"\",\"\",Limit_Deviation_Detail!E374)","v":""},"",{"$f":"IF(COUNTIF(X$2:X352,X352)=1,X352,\"\")","v":""},"","","","","",null,null,null,null,{"$f":"IF(COUNTIF(AM$2:AM352,AM352)=1,AM352,\"\")","v":""},{"$f":"IF(CMS_Deviation_Detail!B374=\"\",\"\",CMS_Deviation_Detail!B374)","v":""},{"$f":"IF(CMS_Deviation_Detail!C374=\"\",\"\",CMS_Deviation_Detail!C374)","v":""},{"$f":"IF(CMS_Deviation_Detail!D374=\"\",\"\",CMS_Deviation_Detail!D374)","v":""},"",{"$f":"+IF(AI352=\"\",\"\",MAX(AN$1:AN351)+1)","v":""},"","","","","","",null,{"$f":"IF(COUNTIF(AZ$2:AZ352,AZ352)=1,AZ352,\"\")","v":""},{"$f":"IF(Limit_Deviation_Detail!B374=\"\",\"\",Limit_Deviation_Detail!B374)","v":""},{"$f":"IF(Limit_Deviation_Detail!C374=\"\",\"\",Limit_Deviation_Detail!C374)","v":""},{"$f":"IF(Limit_Deviation_Detail!E374=\"\",\"\",Limit_Deviation_Detail!E374)","v":""},"",{"$f":"+IF(AV352=\"\",\"\",MAX(BA$1:BA351)+1)","v":""},"","","",""]
[{"$f":"+IF(D353=\"\",\"\",MAX(A$1:A352)+1)","v":""},{"$f":"IF(Affected_Sources!C375=\"\",\"\",Affected_Sources!C375)","v":""},"",{"$f":"IF(COUNTIF(B$2:B353,B353)=1,B353,\"\")","v":""},null,null,null,null,null,null,null,null,null,null,null,null,null,null,null,{"$f":"+IF(Y353=\"\",\"\",MAX(T$1:T352)+1)","v":""},{"$f":"IF(Limit_Deviation_Detail!B375=\"\",\"\",Limit_Deviation_Detail!B375)","v":""},{"$f":"IF(Limit_Deviation_Detail!C375=\"\",\"\",Limit_Deviation_Detail!C375)","v":""},{"$f":"IF(Limit_Deviation_Detail!E375=\"\",\"\",Limit_Deviation_Detail!E375)","v":""},"",{"$f":"IF(COUNTIF(X$2:X353,X353)=1,X353,\"\")","v":""},"","","","","",null,null,null,null,{"$f":"IF(COUNTIF(AM$2:AM353,AM353)=1,AM353,\"\")","v":""},{"$f":"IF(CMS_Deviation_Detail!B375=\"\",\"\",CMS_Deviation_Detail!B375)","v":""},{"$f":"IF(CMS_Deviation_Detail!C375=\"\",\"\",CMS_Deviation_Detail!C375)","v":""},{"$f":"IF(CMS_Deviation_Detail!D375=\"\",\"\",CMS_Deviation_Detail!D375)","v":""},"",{"$f":"+IF(AI353=\"\",\"\",MAX(AN$1:AN352)+1)","v":""},"","","","","","",null,{"$f":"IF(COUNTIF(AZ$2:AZ353,AZ353)=1,AZ353,\"\")","v":""},{"$f":"IF(Limit_Deviation_Detail!B375=\"\",\"\",Limit_Deviation_Detail!B375)","v":""},{"$f":"IF(Limit_Deviation_Detail!C375=\"\",\"\",Limit_Deviation_Detail!C375)","v":""},{"$f":"IF(Limit_Deviation_Detail!E375=\"\",\"\",Limit_Deviation_Detail!E375)","v":""},"",{"$f":"+IF(AV353=\"\",\"\",MAX(BA$1:BA352)+1)","v":""},"","","",""]
[{"$f":"+IF(D354=\"\",\"\",MAX(A$1:A353)+1)","v":""},{"$f":"IF(Affected_Sources!C376=\"\",\"\",Affected_Sources!C376)","v":""},"",{"$f":"IF(COUNTIF(B$2:B354,B354)=1,B354,\"\")","v":""},null,null,null,null,null,null,null,null,null,null,null,null,null,null,null,{"$f":"+IF(Y354=\"\",\"\",MAX(T$1:T353)+1)","v":""},{"$f":"IF(Limit_Deviation_Detail!B376=\"\",\"\",Limit_Deviation_Detail!B376)","v":""},{"$f":"IF(Limit_Deviation_Detail!C376=\"\",\"\",Limit_Deviation_Detail!C376)","v":""},{"$f":"IF(Limit_Deviation_Detail!E376=\"\",\"\",Limit_Deviation_Detail!E376)","v":""},"",{"$f":"IF(COUNTIF(X$2:X354,X354)=1,X354,\"\")","v":""},"","","","","",null,null,null,null,{"$f":"IF(COUNTIF(AM$2:AM354,AM354)=1,AM354,\"\")","v":""},{"$f":"IF(CMS_Deviation_Detail!B376=\"\",\"\",CMS_Deviation_Detail!B376)","v":""},{"$f":"IF(CMS_Deviation_Detail!C376=\"\",\"\",CMS_Deviation_Detail!C376)","v":""},{"$f":"IF(CMS_Deviation_Detail!D376=\"\",\"\",CMS_Deviation_Detail!D376)","v":""},"",{"$f":"+IF(AI354=\"\",\"\",MAX(AN$1:AN353)+1)","v":""},"","","","","","",null,{"$f":"IF(COUNTIF(AZ$2:AZ354,AZ354)=1,AZ354,\"\")","v":""},{"$f":"IF(Limit_Deviation_Detail!B376=\"\",\"\",Limit_Deviation_Detail!B376)","v":""},{"$f":"IF(Limit_Deviation_Detail!C376=\"\",\"\",Limit_Deviation_Detail!C376)","v":""},{"$f":"IF(Limit_Deviation_Detail!E376=\"\",\"\",Limit_Deviation_Detail!E376)","v":""},"",{"$f":"+IF(AV354=\"\",\"\",MAX(BA$1:BA353)+1)","v":""},"","","",""]
[{"$f":"+IF(D355=\"\",\"\",MAX(A$1:A354)+1)","v":""},{"$f":"IF(Affected_Sources!C377=\"\",\"\",Affected_Sources!C377)","v":""},"",{"$f":"IF(COUNTIF(B$2:B355,B355)=1,B355,\"\")","v":""},null,null,null,null,null,null,null,null,null,null,null,null,null,null,null,{"$f":"+IF(Y355=\"\",\"\",MAX(T$1:T354)+1)","v":""},{"$f":"IF(Limit_Deviation_Detail!B377=\"\",\"\",Limit_Deviation_Detail!B377)","v":""},{"$f":"IF(Limit_Deviation_Detail!C377=\"\",\"\",Limit_Deviation_Detail!C377)","v":""},{"$f":"IF(Limit_Deviation_Detail!E377=\"\",\"\",Limit_Deviation_Detail!E377)","v":""},"",{"$f":"IF(COUNTIF(X$2:X355,X355)=1,X355,\"\")","v":""},"","","","","",null,null,null,null,{"$f":"IF(COUNTIF(AM$2:AM355,AM355)=1,AM355,\"\")","v":""},{"$f":"IF(CMS_Deviation_Detail!B377=\"\",\"\",CMS_Deviation_Detail!B377)","v":""},{"$f":"IF(CMS_Deviation_Detail!C377=\"\",\"\",CMS_Deviation_Detail!C377)","v":""},{"$f":"IF(CMS_Deviation_Detail!D377=\"\",\"\",CMS_Deviation_Detail!D377)","v":""},"",{"$f":"+IF(AI355=\"\",\"\",MAX(AN$1:AN354)+1)","v":""},"","","","","","",null,{"$f":"IF(COUNTIF(AZ$2:AZ355,AZ355)=1,AZ355,\"\")","v":""},{"$f":"IF(Limit_Deviation_Detail!B377=\"\",\"\",Limit_Deviation_Detail!B377)","v":""},{"$f":"IF(Limit_Deviation_Detail!C377=\"\",\"\",Limit_Deviation_Detail!C377)","v":""},{"$f":"IF(Limit_Deviation_Detail!E377=\"\",\"\",Limit_Deviation_Detail!E377)","v":""},"",{"$f":"+IF(AV355=\"\",\"\",MAX(BA$1:BA354)+1)","v":""},"","","",""]
[{"$f":"+IF(D356=\"\",\"\",MAX(A$1:A355)+1)","v":""},{"$f":"IF(Affected_Sources!C378=\"\",\"\",Affected_Sources!C378)","v":""},"",{"$f":"IF(COUNTIF(B$2:B356,B356)=1,B356,\"\")","v":""},null,null,null,null,null,null,null,null,null,null,null,null,null,null,null,{"$f":"+IF(Y356=\"\",\"\",MAX(T$1:T355)+1)","v":""},{"$f":"IF(Limit_Deviation_Detail!B378=\"\",\"\",Limit_Deviation_Detail!B378)","v":""},{"$f":"IF(Limit_Deviation_Detail!C378=\"\",\"\",Limit_Deviation_Detail!C378)","v":""},{"$f":"IF(Limit_Deviation_Detail!E378=\"\",\"\",Limit_Deviation_Detail!E378)","v":""},"",{"$f":"IF(COUNTIF(X$2:X356,X356)=1,X356,\"\")","v":""},"","","","","",null,null,null,null,{"$f":"IF(COUNTIF(AM$2:AM356,AM356)=1,AM356,\"\")","v":""},{"$f":"IF(CMS_Deviation_Detail!B378=\"\",\"\",CMS_Deviation_Detail!B378)","v":""},{"$f":"IF(CMS_Deviation_Detail!C378=\"\",\"\",CMS_Deviation_Detail!C378)","v":""},{"$f":"IF(CMS_Deviation_Detail!D378=\"\",\"\",CMS_Deviation_Detail!D378)","v":""},"",{"$f":"+IF(AI356=\"\",\"\",MAX(AN$1:AN355)+1)","v":""},"","","","","","",null,{"$f":"IF(COUNTIF(AZ$2:AZ356,AZ356)=1,AZ356,\"\")","v":""},{"$f":"IF(Limit_Deviation_Detail!B378=\"\",\"\",Limit_Deviation_Detail!B378)","v":""},{"$f":"IF(Limit_Deviation_Detail!C378=\"\",\"\",Limit_Deviation_Detail!C378)","v":""},{"$f":"IF(Limit_Deviation_Detail!E378=\"\",\"\",Limit_Deviation_Detail!E378)","v":""},"",{"$f":"+IF(AV356=\"\",\"\",MAX(BA$1:BA355)+1)","v":""},"","","",""]
[{"$f":"+IF(D357=\"\",\"\",MAX(A$1:A356)+1)","v":""},{"$f":"IF(Affected_Sources!C379=\"\",\"\",Affected_Sources!C379)","v":""},"",{"$f":"IF(COUNTIF(B$2:B357,B357)=1,B357,\"\")","v":""},null,null,null,null,null,null,null,null,null,null,null,null,null,null,null,{"$f":"+IF(Y357=\"\",\"\",MAX(T$1:T356)+1)","v":""},{"$f":"IF(Limit_Deviation_Detail!B379=\"\",\"\",Limit_Deviation_Detail!B379)","v":""},{"$f":"IF(Limit_Deviation_Detail!C379=\"\",\"\",Limit_Deviation_Detail!C379)","v":""},{"$f":"IF(Limit_Deviation_Detail!E379=\"\",\"\",Limit_Deviation_Detail!E379)","v":""},"",{"$f":"IF(COUNTIF(X$2:X357,X357)=1,X357,\"\")","v":""},"","","","","",null,null,null,null,{"$f":"IF(COUNTIF(AM$2:AM357,AM357)=1,AM357,\"\")","v":""},{"$f":"IF(CMS_Deviation_Detail!B379=\"\",\"\",CMS_Deviation_Detail!B379)","v":""},{"$f":"IF(CMS_Deviation_Detail!C379=\"\",\"\",CMS_Deviation_Detail!C379)","v":""},{"$f":"IF(CMS_Deviation_Detail!D379=\"\",\"\",CMS_Deviation_Detail!D379)","v":""},"",{"$f":"+IF(AI357=\"\",\"\",MAX(AN$1:AN356)+1)","v":""},"","","","","","",null,{"$f":"IF(COUNTIF(AZ$2:AZ357,AZ357)=1,AZ357,\"\")","v":""},{"$f":"IF(Limit_Deviation_Detail!B379=\"\",\"\",Limit_Deviation_Detail!B379)","v":""},{"$f":"IF(Limit_Deviation_Detail!C379=\"\",\"\",Limit_Deviation_Detail!C379)","v":""},{"$f":"IF(Limit_Deviation_Detail!E379=\"\",\"\",Limit_Deviation_Detail!E379)","v":""},"",{"$f":"+IF(AV357=\"\",\"\",MAX(BA$1:BA356)+1)","v":""},"","","",""]
[{"$f":"+IF(D358=\"\",\"\",MAX(A$1:A357)+1)","v":""},{"$f":"IF(Affected_Sources!C380=\"\",\"\",Affected_Sources!C380)","v":""},"",{"$f":"IF(COUNTIF(B$2:B358,B358)=1,B358,\"\")","v":""},null,null,null,null,null,null,null,null,null,null,null,null,null,null,null,{"$f":"+IF(Y358=\"\",\"\",MAX(T$1:T357)+1)","v":""},{"$f":"IF(Limit_Deviation_Detail!B380=\"\",\"\",Limit_Deviation_Detail!B380)","v":""},{"$f":"IF(Limit_Deviation_Detail!C380=\"\",\"\",Limit_Deviation_Detail!C380)","v":""},{"$f":"IF(Limit_Deviation_Detail!E380=\"\",\"\",Limit_Deviation_Detail!E380)","v":""},"",{"$f":"IF(COUNTIF(X$2:X358,X358)=1,X358,\"\")","v":""},"","","","","",null,null,null,null,{"$f":"IF(COUNTIF(AM$2:AM358,AM358)=1,AM358,\"\")","v":""},{"$f":"IF(CMS_Deviation_Detail!B380=\"\",\"\",CMS_Deviation_Detail!B380)","v":""},{"$f":"IF(CMS_Deviation_Detail!C380=\"\",\"\",CMS_Deviation_Detail!C380)","v":""},{"$f":"IF(CMS_Deviation_Detail!D380=\"\",\"\",CMS_Deviation_Detail!D380)","v":""},"",{"$f":"+IF(AI358=\"\",\"\",MAX(AN$1:AN357)+1)","v":""},"","","","","","",null,{"$f":"IF(COUNTIF(AZ$2:AZ358,AZ358)=1,AZ358,\"\")","v":""},{"$f":"IF(Limit_Deviation_Detail!B380=\"\",\"\",Limit_Deviation_Detail!B380)","v":""},{"$f":"IF(Limit_Deviation_Detail!C380=\"\",\"\",Limit_Deviation_Detail!C380)","v":""},{"$f":"IF(Limit_Deviation_Detail!E380=\"\",\"\",Limit_Deviation_Detail!E380)","v":""},"",{"$f":"+IF(AV358=\"\",\"\",MAX(BA$1:BA357)+1)","v":""},"","","",""]
[{"$f":"+IF(D359=\"\",\"\",MAX(A$1:A358)+1)","v":""},{"$f":"IF(Affected_Sources!C381=\"\",\"\",Affected_Sources!C381)","v":""},"",{"$f":"IF(COUNTIF(B$2:B359,B359)=1,B359,\"\")","v":""},null,null,null,null,null,null,null,null,null,null,null,null,null,null,null,{"$f":"+IF(Y359=\"\",\"\",MAX(T$1:T358)+1)","v":""},{"$f":"IF(Limit_Deviation_Detail!B381=\"\",\"\",Limit_Deviation_Detail!B381)","v":""},{"$f":"IF(Limit_Deviation_Detail!C381=\"\",\"\",Limit_Deviation_Detail!C381)","v":""},{"$f":"IF(Limit_Deviation_Detail!E381=\"\",\"\",Limit_Deviation_Detail!E381)","v":""},"",{"$f":"IF(COUNTIF(X$2:X359,X359)=1,X359,\"\")","v":""},"","","","","",null,null,null,null,{"$f":"IF(COUNTIF(AM$2:AM359,AM359)=1,AM359,\"\")","v":""},{"$f":"IF(CMS_Deviation_Detail!B381=\"\",\"\",CMS_Deviation_Detail!B381)","v":""},{"$f":"IF(CMS_Deviation_Detail!C381=\"\",\"\",CMS_Deviation_Detail!C381)","v":""},{"$f":"IF(CMS_Deviation_Detail!D381=\"\",\"\",CMS_Deviation_Detail!D381)","v":""},"",{"$f":"+IF(AI359=\"\",\"\",MAX(AN$1:AN358)+1)","v":""},"","","","","","",null,{"$f":"IF(COUNTIF(AZ$2:AZ359,AZ359)=1,AZ359,\"\")","v":""},{"$f":"IF(Limit_Deviation_Detail!B381=\"\",\"\",Limit_Deviation_Detail!B381)","v":""},{"$f":"IF(Limit_Deviation_Detail!C381=\"\",\"\",Limit_Deviation_Detail!C381)","v":""},{"$f":"IF(Limit_Deviation_Detail!E381=\"\",\"\",Limit_Deviation_Detail!E381)","v":""},"",{"$f":"+IF(AV359=\"\",\"\",MAX(BA$1:BA358)+1)","v":""},"","","",""]
[{"$f":"+IF(D360=\"\",\"\",MAX(A$1:A359)+1)","v":""},{"$f":"IF(Affected_Sources!C382=\"\",\"\",Affected_Sources!C382)","v":""},"",{"$f":"IF(COUNTIF(B$2:B360,B360)=1,B360,\"\")","v":""},null,null,null,null,null,null,null,null,null,null,null,null,null,null,null,{"$f":"+IF(Y360=\"\",\"\",MAX(T$1:T359)+1)","v":""},{"$f":"IF(Limit_Deviation_Detail!B382=\"\",\"\",Limit_Deviation_Detail!B382)","v":""},{"$f":"IF(Limit_Deviation_Detail!C382=\"\",\"\",Limit_Deviation_Detail!C382)","v":""},{"$f":"IF(Limit_Deviation_Detail!E382=\"\",\"\",Limit_Deviation_Detail!E382)","v":""},"",{"$f":"IF(COUNTIF(X$2:X360,X360)=1,X360,\"\")","v":""},"","","","","",null,null,null,null,{"$f":"IF(COUNTIF(AM$2:AM360,AM360)=1,AM360,\"\")","v":""},{"$f":"IF(CMS_Deviation_Detail!B382=\"\",\"\",CMS_Deviation_Detail!B382)","v":""},{"$f":"IF(CMS_Deviation_Detail!C382=\"\",\"\",CMS_Deviation_Detail!C382)","v":""},{"$f":"IF(CMS_Deviation_Detail!D382=\"\",\"\",CMS_Deviation_Detail!D382)","v":""},"",{"$f":"+IF(AI360=\"\",\"\",MAX(AN$1:AN359)+1)","v":""},"","","","","","",null,{"$f":"IF(COUNTIF(AZ$2:AZ360,AZ360)=1,AZ360,\"\")","v":""},{"$f":"IF(Limit_Deviation_Detail!B382=\"\",\"\",Limit_Deviation_Detail!B382)","v":""},{"$f":"IF(Limit_Deviation_Detail!C382=\"\",\"\",Limit_Deviation_Detail!C382)","v":""},{"$f":"IF(Limit_Deviation_Detail!E382=\"\",\"\",Limit_Deviation_Detail!E382)","v":""},"",{"$f":"+IF(AV360=\"\",\"\",MAX(BA$1:BA359)+1)","v":""},"","","",""]
[{"$f":"+IF(D361=\"\",\"\",MAX(A$1:A360)+1)","v":""},{"$f":"IF(Affected_Sources!C383=\"\",\"\",Affected_Sources!C383)","v":""},"",{"$f":"IF(COUNTIF(B$2:B361,B361)=1,B361,\"\")","v":""},null,null,null,null,null,null,null,null,null,null,null,null,null,null,null,{"$f":"+IF(Y361=\"\",\"\",MAX(T$1:T360)+1)","v":""},{"$f":"IF(Limit_Deviation_Detail!B383=\"\",\"\",Limit_Deviation_Detail!B383)","v":""},{"$f":"IF(Limit_Deviation_Detail!C383=\"\",\"\",Limit_Deviation_Detail!C383)","v":""},{"$f":"IF(Limit_Deviation_Detail!E383=\"\",\"\",Limit_Deviation_Detail!E383)","v":""},"",{"$f":"IF(COUNTIF(X$2:X361,X361)=1,X361,\"\")","v":""},"","","","","",null,null,null,null,{"$f":"IF(COUNTIF(AM$2:AM361,AM361)=1,AM361,\"\")","v":""},{"$f":"IF(CMS_Deviation_Detail!B383=\"\",\"\",CMS_Deviation_Detail!B383)","v":""},{"$f":"IF(CMS_Deviation_Detail!C383=\"\",\"\",CMS_Deviation_Detail!C383)","v":""},{"$f":"IF(CMS_Deviation_Detail!D383=\"\",\"\",CMS_Deviation_Detail!D383)","v":""},"",{"$f":"+IF(AI361=\"\",\"\",MAX(AN$1:AN360)+1)","v":""},"","","","","","",null,{"$f":"IF(COUNTIF(AZ$2:AZ361,AZ361)=1,AZ361,\"\")","v":""},{"$f":"IF(Limit_Deviation_Detail!B383=\"\",\"\",Limit_Deviation_Detail!B383)","v":""},{"$f":"IF(Limit_Deviation_Detail!C383=\"\",\"\",Limit_Deviation_Detail!C383)","v":""},{"$f":"IF(Limit_Deviation_Detail!E383=\"\",\"\",Limit_Deviation_Detail!E383)","v":""},"",{"$f":"+IF(AV361=\"\",\"\",MAX(BA$1:BA360)+1)","v":""},"","","",""]
[{"$f":"+IF(D362=\"\",\"\",MAX(A$1:A361)+1)","v":""},{"$f":"IF(Affected_Sources!C384=\"\",\"\",Affected_Sources!C384)","v":""},"",{"$f":"IF(COUNTIF(B$2:B362,B362)=1,B362,\"\")","v":""},null,null,null,null,null,null,null,null,null,null,null,null,null,null,null,{"$f":"+IF(Y362=\"\",\"\",MAX(T$1:T361)+1)","v":""},{"$f":"IF(Limit_Deviation_Detail!B384=\"\",\"\",Limit_Deviation_Detail!B384)","v":""},{"$f":"IF(Limit_Deviation_Detail!C384=\"\",\"\",Limit_Deviation_Detail!C384)","v":""},{"$f":"IF(Limit_Deviation_Detail!E384=\"\",\"\",Limit_Deviation_Detail!E384)","v":""},"",{"$f":"IF(COUNTIF(X$2:X362,X362)=1,X362,\"\")","v":""},"","","","","",null,null,null,null,{"$f":"IF(COUNTIF(AM$2:AM362,AM362)=1,AM362,\"\")","v":""},{"$f":"IF(CMS_Deviation_Detail!B384=\"\",\"\",CMS_Deviation_Detail!B384)","v":""},{"$f":"IF(CMS_Deviation_Detail!C384=\"\",\"\",CMS_Deviation_Detail!C384)","v":""},{"$f":"IF(CMS_Deviation_Detail!D384=\"\",\"\",CMS_Deviation_Detail!D384)","v":""},"",{"$f":"+IF(AI362=\"\",\"\",MAX(AN$1:AN361)+1)","v":""},"","","","","","",null,{"$f":"IF(COUNTIF(AZ$2:AZ362,AZ362)=1,AZ362,\"\")","v":""},{"$f":"IF(Limit_Deviation_Detail!B384=\"\",\"\",Limit_Deviation_Detail!B384)","v":""},{"$f":"IF(Limit_Deviation_Detail!C384=\"\",\"\",Limit_Deviation_Detail!C384)","v":""},{"$f":"IF(Limit_Deviation_Detail!E384=\"\",\"\",Limit_Deviation_Detail!E384)","v":""},"",{"$f":"+IF(AV362=\"\",\"\",MAX(BA$1:BA361)+1)","v":""},"","","",""]
[{"$f":"+IF(D363=\"\",\"\",MAX(A$1:A362)+1)","v":""},{"$f":"IF(Affected_Sources!C385=\"\",\"\",Affected_Sources!C385)","v":""},"",{"$f":"IF(COUNTIF(B$2:B363,B363)=1,B363,\"\")","v":""},null,null,null,null,null,null,null,null,null,null,null,null,null,null,null,{"$f":"+IF(Y363=\"\",\"\",MAX(T$1:T362)+1)","v":""},{"$f":"IF(Limit_Deviation_Detail!B385=\"\",\"\",Limit_Deviation_Detail!B385)","v":""},{"$f":"IF(Limit_Deviation_Detail!C385=\"\",\"\",Limit_Deviation_Detail!C385)","v":""},{"$f":"IF(Limit_Deviation_Detail!E385=\"\",\"\",Limit_Deviation_Detail!E385)","v":""},"",{"$f":"IF(COUNTIF(X$2:X363,X363)=1,X363,\"\")","v":""},"","","","","",null,null,null,null,{"$f":"IF(COUNTIF(AM$2:AM363,AM363)=1,AM363,\"\")","v":""},{"$f":"IF(CMS_Deviation_Detail!B385=\"\",\"\",CMS_Deviation_Detail!B385)","v":""},{"$f":"IF(CMS_Deviation_Detail!C385=\"\",\"\",CMS_Deviation_Detail!C385)","v":""},{"$f":"IF(CMS_Deviation_Detail!D385=\"\",\"\",CMS_Deviation_Detail!D385)","v":""},"",{"$f":"+IF(AI363=\"\",\"\",MAX(AN$1:AN362)+1)","v":""},"","","","","","",null,{"$f":"IF(COUNTIF(AZ$2:AZ363,AZ363)=1,AZ363,\"\")","v":""},{"$f":"IF(Limit_Deviation_Detail!B385=\"\",\"\",Limit_Deviation_Detail!B385)","v":""},{"$f":"IF(Limit_Deviation_Detail!C385=\"\",\"\",Limit_Deviation_Detail!C385)","v":""},{"$f":"IF(Limit_Deviation_Detail!E385=\"\",\"\",Limit_Deviation_Detail!E385)","v":""},"",{"$f":"+IF(AV363=\"\",\"\",MAX(BA$1:BA362)+1)","v":""},"","","",""]
[{"$f":"+IF(D364=\"\",\"\",MAX(A$1:A363)+1)","v":""},{"$f":"IF(Affected_Sources!C386=\"\",\"\",Affected_Sources!C386)","v":""},"",{"$f":"IF(COUNTIF(B$2:B364,B364)=1,B364,\"\")","v":""},null,null,null,null,null,null,null,null,null,null,null,null,null,null,null,{"$f":"+IF(Y364=\"\",\"\",MAX(T$1:T363)+1)","v":""},{"$f":"IF(Limit_Deviation_Detail!B386=\"\",\"\",Limit_Deviation_Detail!B386)","v":""},{"$f":"IF(Limit_Deviation_Detail!C386=\"\",\"\",Limit_Deviation_Detail!C386)","v":""},{"$f":"IF(Limit_Deviation_Detail!E386=\"\",\"\",Limit_Deviation_Detail!E386)","v":""},"",{"$f":"IF(COUNTIF(X$2:X364,X364)=1,X364,\"\")","v":""},"","","","","",null,null,null,null,{"$f":"IF(COUNTIF(AM$2:AM364,AM364)=1,AM364,\"\")","v":""},{"$f":"IF(CMS_Deviation_Detail!B386=\"\",\"\",CMS_Deviation_Detail!B386)","v":""},{"$f":"IF(CMS_Deviation_Detail!C386=\"\",\"\",CMS_Deviation_Detail!C386)","v":""},{"$f":"IF(CMS_Deviation_Detail!D386=\"\",\"\",CMS_Deviation_Detail!D386)","v":""},"",{"$f":"+IF(AI364=\"\",\"\",MAX(AN$1:AN363)+1)","v":""},"","","","","","",null,{"$f":"IF(COUNTIF(AZ$2:AZ364,AZ364)=1,AZ364,\"\")","v":""},{"$f":"IF(Limit_Deviation_Detail!B386=\"\",\"\",Limit_Deviation_Detail!B386)","v":""},{"$f":"IF(Limit_Deviation_Detail!C386=\"\",\"\",Limit_Deviation_Detail!C386)","v":""},{"$f":"IF(Limit_Deviation_Detail!E386=\"\",\"\",Limit_Deviation_Detail!E386)","v":""},"",{"$f":"+IF(AV364=\"\",\"\",MAX(BA$1:BA363)+1)","v":""},"","","",""]
[{"$f":"+IF(D365=\"\",\"\",MAX(A$1:A364)+1)","v":""},{"$f":"IF(Affected_Sources!C387=\"\",\"\",Affected_Sources!C387)","v":""},"",{"$f":"IF(COUNTIF(B$2:B365,B365)=1,B365,\"\")","v":""},null,null,null,null,null,null,null,null,null,null,null,null,null,null,null,{"$f":"+IF(Y365=\"\",\"\",MAX(T$1:T364)+1)","v":""},{"$f":"IF(Limit_Deviation_Detail!B387=\"\",\"\",Limit_Deviation_Detail!B387)","v":""},{"$f":"IF(Limit_Deviation_Detail!C387=\"\",\"\",Limit_Deviation_Detail!C387)","v":""},{"$f":"IF(Limit_Deviation_Detail!E387=\"\",\"\",Limit_Deviation_Detail!E387)","v":""},"",{"$f":"IF(COUNTIF(X$2:X365,X365)=1,X365,\"\")","v":""},"","","","","",null,null,null,null,{"$f":"IF(COUNTIF(AM$2:AM365,AM365)=1,AM365,\"\")","v":""},{"$f":"IF(CMS_Deviation_Detail!B387=\"\",\"\",CMS_Deviation_Detail!B387)","v":""},{"$f":"IF(CMS_Deviation_Detail!C387=\"\",\"\",CMS_Deviation_Detail!C387)","v":""},{"$f":"IF(CMS_Deviation_Detail!D387=\"\",\"\",CMS_Deviation_Detail!D387)","v":""},"",{"$f":"+IF(AI365=\"\",\"\",MAX(AN$1:AN364)+1)","v":""},"","","","","","",null,{"$f":"IF(COUNTIF(AZ$2:AZ365,AZ365)=1,AZ365,\"\")","v":""},{"$f":"IF(Limit_Deviation_Detail!B387=\"\",\"\",Limit_Deviation_Detail!B387)","v":""},{"$f":"IF(Limit_Deviation_Detail!C387=\"\",\"\",Limit_Deviation_Detail!C387)","v":""},{"$f":"IF(Limit_Deviation_Detail!E387=\"\",\"\",Limit_Deviation_Detail!E387)","v":""},"",{"$f":"+IF(AV365=\"\",\"\",MAX(BA$1:BA364)+1)","v":""},"","","",""]
[{"$f":"+IF(D366=\"\",\"\",MAX(A$1:A365)+1)","v":""},{"$f":"IF(Affected_Sources!C388=\"\",\"\",Affected_Sources!C388)","v":""},"",{"$f":"IF(COUNTIF(B$2:B366,B366)=1,B366,\"\")","v":""},null,null,null,null,null,null,null,null,null,null,null,null,null,null,null,{"$f":"+IF(Y366=\"\",\"\",MAX(T$1:T365)+1)","v":""},{"$f":"IF(Limit_Deviation_Detail!B388=\"\",\"\",Limit_Deviation_Detail!B388)","v":""},{"$f":"IF(Limit_Deviation_Detail!C388=\"\",\"\",Limit_Deviation_Detail!C388)","v":""},{"$f":"IF(Limit_Deviation_Detail!E388=\"\",\"\",Limit_Deviation_Detail!E388)","v":""},"",{"$f":"IF(COUNTIF(X$2:X366,X366)=1,X366,\"\")","v":""},"","","","","",null,null,null,null,{"$f":"IF(COUNTIF(AM$2:AM366,AM366)=1,AM366,\"\")","v":""},{"$f":"IF(CMS_Deviation_Detail!B388=\"\",\"\",CMS_Deviation_Detail!B388)","v":""},{"$f":"IF(CMS_Deviation_Detail!C388=\"\",\"\",CMS_Deviation_Detail!C388)","v":""},{"$f":"IF(CMS_Deviation_Detail!D388=\"\",\"\",CMS_Deviation_Detail!D388)","v":""},"",{"$f":"+IF(AI366=\"\",\"\",MAX(AN$1:AN365)+1)","v":""},"","","","","","",null,{"$f":"IF(COUNTIF(AZ$2:AZ366,AZ366)=1,AZ366,\"\")","v":""},{"$f":"IF(Limit_Deviation_Detail!B388=\"\",\"\",Limit_Deviation_Detail!B388)","v":""},{"$f":"IF(Limit_Deviation_Detail!C388=\"\",\"\",Limit_Deviation_Detail!C388)","v":""},{"$f":"IF(Limit_Deviation_Detail!E388=\"\",\"\",Limit_Deviation_Detail!E388)","v":""},"",{"$f":"+IF(AV366=\"\",\"\",MAX(BA$1:BA365)+1)","v":""},"","","",""]
[{"$f":"+IF(D367=\"\",\"\",MAX(A$1:A366)+1)","v":""},{"$f":"IF(Affected_Sources!C389=\"\",\"\",Affected_Sources!C389)","v":""},"",{"$f":"IF(COUNTIF(B$2:B367,B367)=1,B367,\"\")","v":""},null,null,null,null,null,null,null,null,null,null,null,null,null,null,null,{"$f":"+IF(Y367=\"\",\"\",MAX(T$1:T366)+1)","v":""},{"$f":"IF(Limit_Deviation_Detail!B389=\"\",\"\",Limit_Deviation_Detail!B389)","v":""},{"$f":"IF(Limit_Deviation_Detail!C389=\"\",\"\",Limit_Deviation_Detail!C389)","v":""},{"$f":"IF(Limit_Deviation_Detail!E389=\"\",\"\",Limit_Deviation_Detail!E389)","v":""},"",{"$f":"IF(COUNTIF(X$2:X367,X367)=1,X367,\"\")","v":""},"","","","","",null,null,null,null,{"$f":"IF(COUNTIF(AM$2:AM367,AM367)=1,AM367,\"\")","v":""},{"$f":"IF(CMS_Deviation_Detail!B389=\"\",\"\",CMS_Deviation_Detail!B389)","v":""},{"$f":"IF(CMS_Deviation_Detail!C389=\"\",\"\",CMS_Deviation_Detail!C389)","v":""},{"$f":"IF(CMS_Deviation_Detail!D389=\"\",\"\",CMS_Deviation_Detail!D389)","v":""},"",{"$f":"+IF(AI367=\"\",\"\",MAX(AN$1:AN366)+1)","v":""},"","","","","","",null,{"$f":"IF(COUNTIF(AZ$2:AZ367,AZ367)=1,AZ367,\"\")","v":""},{"$f":"IF(Limit_Deviation_Detail!B389=\"\",\"\",Limit_Deviation_Detail!B389)","v":""},{"$f":"IF(Limit_Deviation_Detail!C389=\"\",\"\",Limit_Deviation_Detail!C389)","v":""},{"$f":"IF(Limit_Deviation_Detail!E389=\"\",\"\",Limit_Deviation_Detail!E389)","v":""},"",{"$f":"+IF(AV367=\"\",\"\",MAX(BA$1:BA366)+1)","v":""},"","","",""]
[{"$f":"+IF(D368=\"\",\"\",MAX(A$1:A367)+1)","v":""},{"$f":"IF(Affected_Sources!C390=\"\",\"\",Affected_Sources!C390)","v":""},"",{"$f":"IF(COUNTIF(B$2:B368,B368)=1,B368,\"\")","v":""},null,null,null,null,null,null,null,null,null,null,null,null,null,null,null,{"$f":"+IF(Y368=\"\",\"\",MAX(T$1:T367)+1)","v":""},{"$f":"IF(Limit_Deviation_Detail!B390=\"\",\"\",Limit_Deviation_Detail!B390)","v":""},{"$f":"IF(Limit_Deviation_Detail!C390=\"\",\"\",Limit_Deviation_Detail!C390)","v":""},{"$f":"IF(Limit_Deviation_Detail!E390=\"\",\"\",Limit_Deviation_Detail!E390)","v":""},"",{"$f":"IF(COUNTIF(X$2:X368,X368)=1,X368,\"\")","v":""},"","","","","",null,null,null,null,{"$f":"IF(COUNTIF(AM$2:AM368,AM368)=1,AM368,\"\")","v":""},{"$f":"IF(CMS_Deviation_Detail!B390=\"\",\"\",CMS_Deviation_Detail!B390)","v":""},{"$f":"IF(CMS_Deviation_Detail!C390=\"\",\"\",CMS_Deviation_Detail!C390)","v":""},{"$f":"IF(CMS_Deviation_Detail!D390=\"\",\"\",CMS_Deviation_Detail!D390)","v":""},"",{"$f":"+IF(AI368=\"\",\"\",MAX(AN$1:AN367)+1)","v":""},"","","","","","",null,{"$f":"IF(COUNTIF(AZ$2:AZ368,AZ368)=1,AZ368,\"\")","v":""},{"$f":"IF(Limit_Deviation_Detail!B390=\"\",\"\",Limit_Deviation_Detail!B390)","v":""},{"$f":"IF(Limit_Deviation_Detail!C390=\"\",\"\",Limit_Deviation_Detail!C390)","v":""},{"$f":"IF(Limit_Deviation_Detail!E390=\"\",\"\",Limit_Deviation_Detail!E390)","v":""},"",{"$f":"+IF(AV368=\"\",\"\",MAX(BA$1:BA367)+1)","v":""},"","","",""]
[{"$f":"+IF(D369=\"\",\"\",MAX(A$1:A368)+1)","v":""},{"$f":"IF(Affected_Sources!C391=\"\",\"\",Affected_Sources!C391)","v":""},"",{"$f":"IF(COUNTIF(B$2:B369,B369)=1,B369,\"\")","v":""},null,null,null,null,null,null,null,null,null,null,null,null,null,null,null,{"$f":"+IF(Y369=\"\",\"\",MAX(T$1:T368)+1)","v":""},{"$f":"IF(Limit_Deviation_Detail!B391=\"\",\"\",Limit_Deviation_Detail!B391)","v":""},{"$f":"IF(Limit_Deviation_Detail!C391=\"\",\"\",Limit_Deviation_Detail!C391)","v":""},{"$f":"IF(Limit_Deviation_Detail!E391=\"\",\"\",Limit_Deviation_Detail!E391)","v":""},"",{"$f":"IF(COUNTIF(X$2:X369,X369)=1,X369,\"\")","v":""},"","","","","",null,null,null,null,{"$f":"IF(COUNTIF(AM$2:AM369,AM369)=1,AM369,\"\")","v":""},{"$f":"IF(CMS_Deviation_Detail!B391=\"\",\"\",CMS_Deviation_Detail!B391)","v":""},{"$f":"IF(CMS_Deviation_Detail!C391=\"\",\"\",CMS_Deviation_Detail!C391)","v":""},{"$f":"IF(CMS_Deviation_Detail!D391=\"\",\"\",CMS_Deviation_Detail!D391)","v":""},"",{"$f":"+IF(AI369=\"\",\"\",MAX(AN$1:AN368)+1)","v":""},"","","","","","",null,{"$f":"IF(COUNTIF(AZ$2:AZ369,AZ369)=1,AZ369,\"\")","v":""},{"$f":"IF(Limit_Deviation_Detail!B391=\"\",\"\",Limit_Deviation_Detail!B391)","v":""},{"$f":"IF(Limit_Deviation_Detail!C391=\"\",\"\",Limit_Deviation_Detail!C391)","v":""},{"$f":"IF(Limit_Deviation_Detail!E391=\"\",\"\",Limit_Deviation_Detail!E391)","v":""},"",{"$f":"+IF(AV369=\"\",\"\",MAX(BA$1:BA368)+1)","v":""},"","","",""]
[{"$f":"+IF(D370=\"\",\"\",MAX(A$1:A369)+1)","v":""},{"$f":"IF(Affected_Sources!C392=\"\",\"\",Affected_Sources!C392)","v":""},"",{"$f":"IF(COUNTIF(B$2:B370,B370)=1,B370,\"\")","v":""},null,null,null,null,null,null,null,null,null,null,null,null,null,null,null,{"$f":"+IF(Y370=\"\",\"\",MAX(T$1:T369)+1)","v":""},{"$f":"IF(Limit_Deviation_Detail!B392=\"\",\"\",Limit_Deviation_Detail!B392)","v":""},{"$f":"IF(Limit_Deviation_Detail!C392=\"\",\"\",Limit_Deviation_Detail!C392)","v":""},{"$f":"IF(Limit_Deviation_Detail!E392=\"\",\"\",Limit_Deviation_Detail!E392)","v":""},"",{"$f":"IF(COUNTIF(X$2:X370,X370)=1,X370,\"\")","v":""},"","","","","",null,null,null,null,{"$f":"IF(COUNTIF(AM$2:AM370,AM370)=1,AM370,\"\")","v":""},{"$f":"IF(CMS_Deviation_Detail!B392=\"\",\"\",CMS_Deviation_Detail!B392)","v":""},{"$f":"IF(CMS_Deviation_Detail!C392=\"\",\"\",CMS_Deviation_Detail!C392)","v":""},{"$f":"IF(CMS_Deviation_Detail!D392=\"\",\"\",CMS_Deviation_Detail!D392)","v":""},"",{"$f":"+IF(AI370=\"\",\"\",MAX(AN$1:AN369)+1)","v":""},"","","","","","",null,{"$f":"IF(COUNTIF(AZ$2:AZ370,AZ370)=1,AZ370,\"\")","v":""},{"$f":"IF(Limit_Deviation_Detail!B392=\"\",\"\",Limit_Deviation_Detail!B392)","v":""},{"$f":"IF(Limit_Deviation_Detail!C392=\"\",\"\",Limit_Deviation_Detail!C392)","v":""},{"$f":"IF(Limit_Deviation_Detail!E392=\"\",\"\",Limit_Deviation_Detail!E392)","v":""},"",{"$f":"+IF(AV370=\"\",\"\",MAX(BA$1:BA369)+1)","v":""},"","","",""]
[{"$f":"+IF(D371=\"\",\"\",MAX(A$1:A370)+1)","v":""},{"$f":"IF(Affected_Sources!C393=\"\",\"\",Affected_Sources!C393)","v":""},"",{"$f":"IF(COUNTIF(B$2:B371,B371)=1,B371,\"\")","v":""},null,null,null,null,null,null,null,null,null,null,null,null,null,null,null,{"$f":"+IF(Y371=\"\",\"\",MAX(T$1:T370)+1)","v":""},{"$f":"IF(Limit_Deviation_Detail!B393=\"\",\"\",Limit_Deviation_Detail!B393)","v":""},{"$f":"IF(Limit_Deviation_Detail!C393=\"\",\"\",Limit_Deviation_Detail!C393)","v":""},{"$f":"IF(Limit_Deviation_Detail!E393=\"\",\"\",Limit_Deviation_Detail!E393)","v":""},"",{"$f":"IF(COUNTIF(X$2:X371,X371)=1,X371,\"\")","v":""},"","","","","",null,null,null,null,{"$f":"IF(COUNTIF(AM$2:AM371,AM371)=1,AM371,\"\")","v":""},{"$f":"IF(CMS_Deviation_Detail!B393=\"\",\"\",CMS_Deviation_Detail!B393)","v":""},{"$f":"IF(CMS_Deviation_Detail!C393=\"\",\"\",CMS_Deviation_Detail!C393)","v":""},{"$f":"IF(CMS_Deviation_Detail!D393=\"\",\"\",CMS_Deviation_Detail!D393)","v":""},"",{"$f":"+IF(AI371=\"\",\"\",MAX(AN$1:AN370)+1)","v":""},"","","","","","",null,{"$f":"IF(COUNTIF(AZ$2:AZ371,AZ371)=1,AZ371,\"\")","v":""},{"$f":"IF(Limit_Deviation_Detail!B393=\"\",\"\",Limit_Deviation_Detail!B393)","v":""},{"$f":"IF(Limit_Deviation_Detail!C393=\"\",\"\",Limit_Deviation_Detail!C393)","v":""},{"$f":"IF(Limit_Deviation_Detail!E393=\"\",\"\",Limit_Deviation_Detail!E393)","v":""},"",{"$f":"+IF(AV371=\"\",\"\",MAX(BA$1:BA370)+1)","v":""},"","","",""]
[{"$f":"+IF(D372=\"\",\"\",MAX(A$1:A371)+1)","v":""},{"$f":"IF(Affected_Sources!C394=\"\",\"\",Affected_Sources!C394)","v":""},"",{"$f":"IF(COUNTIF(B$2:B372,B372)=1,B372,\"\")","v":""},null,null,null,null,null,null,null,null,null,null,null,null,null,null,null,{"$f":"+IF(Y372=\"\",\"\",MAX(T$1:T371)+1)","v":""},{"$f":"IF(Limit_Deviation_Detail!B394=\"\",\"\",Limit_Deviation_Detail!B394)","v":""},{"$f":"IF(Limit_Deviation_Detail!C394=\"\",\"\",Limit_Deviation_Detail!C394)","v":""},{"$f":"IF(Limit_Deviation_Detail!E394=\"\",\"\",Limit_Deviation_Detail!E394)","v":""},"",{"$f":"IF(COUNTIF(X$2:X372,X372)=1,X372,\"\")","v":""},"","","","","",null,null,null,null,{"$f":"IF(COUNTIF(AM$2:AM372,AM372)=1,AM372,\"\")","v":""},{"$f":"IF(CMS_Deviation_Detail!B394=\"\",\"\",CMS_Deviation_Detail!B394)","v":""},{"$f":"IF(CMS_Deviation_Detail!C394=\"\",\"\",CMS_Deviation_Detail!C394)","v":""},{"$f":"IF(CMS_Deviation_Detail!D394=\"\",\"\",CMS_Deviation_Detail!D394)","v":""},"",{"$f":"+IF(AI372=\"\",\"\",MAX(AN$1:AN371)+1)","v":""},"","","","","","",null,{"$f":"IF(COUNTIF(AZ$2:AZ372,AZ372)=1,AZ372,\"\")","v":""},{"$f":"IF(Limit_Deviation_Detail!B394=\"\",\"\",Limit_Deviation_Detail!B394)","v":""},{"$f":"IF(Limit_Deviation_Detail!C394=\"\",\"\",Limit_Deviation_Detail!C394)","v":""},{"$f":"IF(Limit_Deviation_Detail!E394=\"\",\"\",Limit_Deviation_Detail!E394)","v":""},"",{"$f":"+IF(AV372=\"\",\"\",MAX(BA$1:BA371)+1)","v":""},"","","",""]
[{"$f":"+IF(D373=\"\",\"\",MAX(A$1:A372)+1)","v":""},{"$f":"IF(Affected_Sources!C395=\"\",\"\",Affected_Sources!C395)","v":""},"",{"$f":"IF(COUNTIF(B$2:B373,B373)=1,B373,\"\")","v":""},null,null,null,null,null,null,null,null,null,null,null,null,null,null,null,{"$f":"+IF(Y373=\"\",\"\",MAX(T$1:T372)+1)","v":""},{"$f":"IF(Limit_Deviation_Detail!B395=\"\",\"\",Limit_Deviation_Detail!B395)","v":""},{"$f":"IF(Limit_Deviation_Detail!C395=\"\",\"\",Limit_Deviation_Detail!C395)","v":""},{"$f":"IF(Limit_Deviation_Detail!E395=\"\",\"\",Limit_Deviation_Detail!E395)","v":""},"",{"$f":"IF(COUNTIF(X$2:X373,X373)=1,X373,\"\")","v":""},"","","","","",null,null,null,null,{"$f":"IF(COUNTIF(AM$2:AM373,AM373)=1,AM373,\"\")","v":""},{"$f":"IF(CMS_Deviation_Detail!B395=\"\",\"\",CMS_Deviation_Detail!B395)","v":""},{"$f":"IF(CMS_Deviation_Detail!C395=\"\",\"\",CMS_Deviation_Detail!C395)","v":""},{"$f":"IF(CMS_Deviation_Detail!D395=\"\",\"\",CMS_Deviation_Detail!D395)","v":""},"",{"$f":"+IF(AI373=\"\",\"\",MAX(AN$1:AN372)+1)","v":""},"","","","","","",null,{"$f":"IF(COUNTIF(AZ$2:AZ373,AZ373)=1,AZ373,\"\")","v":""},{"$f":"IF(Limit_Deviation_Detail!B395=\"\",\"\",Limit_Deviation_Detail!B395)","v":""},{"$f":"IF(Limit_Deviation_Detail!C395=\"\",\"\",Limit_Deviation_Detail!C395)","v":""},{"$f":"IF(Limit_Deviation_Detail!E395=\"\",\"\",Limit_Deviation_Detail!E395)","v":""},"",{"$f":"+IF(AV373=\"\",\"\",MAX(BA$1:BA372)+1)","v":""},"","","",""]
[{"$f":"+IF(D374=\"\",\"\",MAX(A$1:A373)+1)","v":""},{"$f":"IF(Affected_Sources!C396=\"\",\"\",Affected_Sources!C396)","v":""},"",{"$f":"IF(COUNTIF(B$2:B374,B374)=1,B374,\"\")","v":""},null,null,null,null,null,null,null,null,null,null,null,null,null,null,null,{"$f":"+IF(Y374=\"\",\"\",MAX(T$1:T373)+1)","v":""},{"$f":"IF(Limit_Deviation_Detail!B396=\"\",\"\",Limit_Deviation_Detail!B396)","v":""},{"$f":"IF(Limit_Deviation_Detail!C396=\"\",\"\",Limit_Deviation_Detail!C396)","v":""},{"$f":"IF(Limit_Deviation_Detail!E396=\"\",\"\",Limit_Deviation_Detail!E396)","v":""},"",{"$f":"IF(COUNTIF(X$2:X374,X374)=1,X374,\"\")","v":""},"","","","","",null,null,null,null,{"$f":"IF(COUNTIF(AM$2:AM374,AM374)=1,AM374,\"\")","v":""},{"$f":"IF(CMS_Deviation_Detail!B396=\"\",\"\",CMS_Deviation_Detail!B396)","v":""},{"$f":"IF(CMS_Deviation_Detail!C396=\"\",\"\",CMS_Deviation_Detail!C396)","v":""},{"$f":"IF(CMS_Deviation_Detail!D396=\"\",\"\",CMS_Deviation_Detail!D396)","v":""},"",{"$f":"+IF(AI374=\"\",\"\",MAX(AN$1:AN373)+1)","v":""},"","","","","","",null,{"$f":"IF(COUNTIF(AZ$2:AZ374,AZ374)=1,AZ374,\"\")","v":""},{"$f":"IF(Limit_Deviation_Detail!B396=\"\",\"\",Limit_Deviation_Detail!B396)","v":""},{"$f":"IF(Limit_Deviation_Detail!C396=\"\",\"\",Limit_Deviation_Detail!C396)","v":""},{"$f":"IF(Limit_Deviation_Detail!E396=\"\",\"\",Limit_Deviation_Detail!E396)","v":""},"",{"$f":"+IF(AV374=\"\",\"\",MAX(BA$1:BA373)+1)","v":""},"","","",""]
[{"$f":"+IF(D375=\"\",\"\",MAX(A$1:A374)+1)","v":""},{"$f":"IF(Affected_Sources!C397=\"\",\"\",Affected_Sources!C397)","v":""},"",{"$f":"IF(COUNTIF(B$2:B375,B375)=1,B375,\"\")","v":""},null,null,null,null,null,null,null,null,null,null,null,null,null,null,null,{"$f":"+IF(Y375=\"\",\"\",MAX(T$1:T374)+1)","v":""},{"$f":"IF(Limit_Deviation_Detail!B397=\"\",\"\",Limit_Deviation_Detail!B397)","v":""},{"$f":"IF(Limit_Deviation_Detail!C397=\"\",\"\",Limit_Deviation_Detail!C397)","v":""},{"$f":"IF(Limit_Deviation_Detail!E397=\"\",\"\",Limit_Deviation_Detail!E397)","v":""},"",{"$f":"IF(COUNTIF(X$2:X375,X375)=1,X375,\"\")","v":""},"","","","","",null,null,null,null,{"$f":"IF(COUNTIF(AM$2:AM375,AM375)=1,AM375,\"\")","v":""},{"$f":"IF(CMS_Deviation_Detail!B397=\"\",\"\",CMS_Deviation_Detail!B397)","v":""},{"$f":"IF(CMS_Deviation_Detail!C397=\"\",\"\",CMS_Deviation_Detail!C397)","v":""},{"$f":"IF(CMS_Deviation_Detail!D397=\"\",\"\",CMS_Deviation_Detail!D397)","v":""},"",{"$f":"+IF(AI375=\"\",\"\",MAX(AN$1:AN374)+1)","v":""},"","","","","","",null,{"$f":"IF(COUNTIF(AZ$2:AZ375,AZ375)=1,AZ375,\"\")","v":""},{"$f":"IF(Limit_Deviation_Detail!B397=\"\",\"\",Limit_Deviation_Detail!B397)","v":""},{"$f":"IF(Limit_Deviation_Detail!C397=\"\",\"\",Limit_Deviation_Detail!C397)","v":""},{"$f":"IF(Limit_Deviation_Detail!E397=\"\",\"\",Limit_Deviation_Detail!E397)","v":""},"",{"$f":"+IF(AV375=\"\",\"\",MAX(BA$1:BA374)+1)","v":""},"","","",""]
[{"$f":"+IF(D376=\"\",\"\",MAX(A$1:A375)+1)","v":""},{"$f":"IF(Affected_Sources!C398=\"\",\"\",Affected_Sources!C398)","v":""},"",{"$f":"IF(COUNTIF(B$2:B376,B376)=1,B376,\"\")","v":""},null,null,null,null,null,null,null,null,null,null,null,null,null,null,null,{"$f":"+IF(Y376=\"\",\"\",MAX(T$1:T375)+1)","v":""},{"$f":"IF(Limit_Deviation_Detail!B398=\"\",\"\",Limit_Deviation_Detail!B398)","v":""},{"$f":"IF(Limit_Deviation_Detail!C398=\"\",\"\",Limit_Deviation_Detail!C398)","v":""},{"$f":"IF(Limit_Deviation_Detail!E398=\"\",\"\",Limit_Deviation_Detail!E398)","v":""},"",{"$f":"IF(COUNTIF(X$2:X376,X376)=1,X376,\"\")","v":""},"","","","","",null,null,null,null,{"$f":"IF(COUNTIF(AM$2:AM376,AM376)=1,AM376,\"\")","v":""},{"$f":"IF(CMS_Deviation_Detail!B398=\"\",\"\",CMS_Deviation_Detail!B398)","v":""},{"$f":"IF(CMS_Deviation_Detail!C398=\"\",\"\",CMS_Deviation_Detail!C398)","v":""},{"$f":"IF(CMS_Deviation_Detail!D398=\"\",\"\",CMS_Deviation_Detail!D398)","v":""},"",{"$f":"+IF(AI376=\"\",\"\",MAX(AN$1:AN375)+1)","v":""},"","","","","","",null,{"$f":"IF(COUNTIF(AZ$2:AZ376,AZ376)=1,AZ376,\"\")","v":""},{"$f":"IF(Limit_Deviation_Detail!B398=\"\",\"\",Limit_Deviation_Detail!B398)","v":""},{"$f":"IF(Limit_Deviation_Detail!C398=\"\",\"\",Limit_Deviation_Detail!C398)","v":""},{"$f":"IF(Limit_Deviation_Detail!E398=\"\",\"\",Limit_Deviation_Detail!E398)","v":""},"",{"$f":"+IF(AV376=\"\",\"\",MAX(BA$1:BA375)+1)","v":""},"","","",""]
[{"$f":"+IF(D377=\"\",\"\",MAX(A$1:A376)+1)","v":""},{"$f":"IF(Affected_Sources!C399=\"\",\"\",Affected_Sources!C399)","v":""},"",{"$f":"IF(COUNTIF(B$2:B377,B377)=1,B377,\"\")","v":""},null,null,null,null,null,null,null,null,null,null,null,null,null,null,null,{"$f":"+IF(Y377=\"\",\"\",MAX(T$1:T376)+1)","v":""},{"$f":"IF(Limit_Deviation_Detail!B399=\"\",\"\",Limit_Deviation_Detail!B399)","v":""},{"$f":"IF(Limit_Deviation_Detail!C399=\"\",\"\",Limit_Deviation_Detail!C399)","v":""},{"$f":"IF(Limit_Deviation_Detail!E399=\"\",\"\",Limit_Deviation_Detail!E399)","v":""},"",{"$f":"IF(COUNTIF(X$2:X377,X377)=1,X377,\"\")","v":""},"","","","","",null,null,null,null,{"$f":"IF(COUNTIF(AM$2:AM377,AM377)=1,AM377,\"\")","v":""},{"$f":"IF(CMS_Deviation_Detail!B399=\"\",\"\",CMS_Deviation_Detail!B399)","v":""},{"$f":"IF(CMS_Deviation_Detail!C399=\"\",\"\",CMS_Deviation_Detail!C399)","v":""},{"$f":"IF(CMS_Deviation_Detail!D399=\"\",\"\",CMS_Deviation_Detail!D399)","v":""},"",{"$f":"+IF(AI377=\"\",\"\",MAX(AN$1:AN376)+1)","v":""},"","","","","","",null,{"$f":"IF(COUNTIF(AZ$2:AZ377,AZ377)=1,AZ377,\"\")","v":""},{"$f":"IF(Limit_Deviation_Detail!B399=\"\",\"\",Limit_Deviation_Detail!B399)","v":""},{"$f":"IF(Limit_Deviation_Detail!C399=\"\",\"\",Limit_Deviation_Detail!C399)","v":""},{"$f":"IF(Limit_Deviation_Detail!E399=\"\",\"\",Limit_Deviation_Detail!E399)","v":""},"",{"$f":"+IF(AV377=\"\",\"\",MAX(BA$1:BA376)+1)","v":""},"","","",""]
[{"$f":"+IF(D378=\"\",\"\",MAX(A$1:A377)+1)","v":""},{"$f":"IF(Affected_Sources!C400=\"\",\"\",Affected_Sources!C400)","v":""},"",{"$f":"IF(COUNTIF(B$2:B378,B378)=1,B378,\"\")","v":""},null,null,null,null,null,null,null,null,null,null,null,null,null,null,null,{"$f":"+IF(Y378=\"\",\"\",MAX(T$1:T377)+1)","v":""},{"$f":"IF(Limit_Deviation_Detail!B400=\"\",\"\",Limit_Deviation_Detail!B400)","v":""},{"$f":"IF(Limit_Deviation_Detail!C400=\"\",\"\",Limit_Deviation_Detail!C400)","v":""},{"$f":"IF(Limit_Deviation_Detail!E400=\"\",\"\",Limit_Deviation_Detail!E400)","v":""},"",{"$f":"IF(COUNTIF(X$2:X378,X378)=1,X378,\"\")","v":""},"","","","","",null,null,null,null,{"$f":"IF(COUNTIF(AM$2:AM378,AM378)=1,AM378,\"\")","v":""},{"$f":"IF(CMS_Deviation_Detail!B400=\"\",\"\",CMS_Deviation_Detail!B400)","v":""},{"$f":"IF(CMS_Deviation_Detail!C400=\"\",\"\",CMS_Deviation_Detail!C400)","v":""},{"$f":"IF(CMS_Deviation_Detail!D400=\"\",\"\",CMS_Deviation_Detail!D400)","v":""},"",{"$f":"+IF(AI378=\"\",\"\",MAX(AN$1:AN377)+1)","v":""},"","","","","","",null,{"$f":"IF(COUNTIF(AZ$2:AZ378,AZ378)=1,AZ378,\"\")","v":""},{"$f":"IF(Limit_Deviation_Detail!B400=\"\",\"\",Limit_Deviation_Detail!B400)","v":""},{"$f":"IF(Limit_Deviation_Detail!C400=\"\",\"\",Limit_Deviation_Detail!C400)","v":""},{"$f":"IF(Limit_Deviation_Detail!E400=\"\",\"\",Limit_Deviation_Detail!E400)","v":""},"",{"$f":"+IF(AV378=\"\",\"\",MAX(BA$1:BA377)+1)","v":""},"","","",""]
[{"$f":"+IF(D379=\"\",\"\",MAX(A$1:A378)+1)","v":""},{"$f":"IF(Affected_Sources!C401=\"\",\"\",Affected_Sources!C401)","v":""},"",{"$f":"IF(COUNTIF(B$2:B379,B379)=1,B379,\"\")","v":""},null,null,null,null,null,null,null,null,null,null,null,null,null,null,null,{"$f":"+IF(Y379=\"\",\"\",MAX(T$1:T378)+1)","v":""},{"$f":"IF(Limit_Deviation_Detail!B401=\"\",\"\",Limit_Deviation_Detail!B401)","v":""},{"$f":"IF(Limit_Deviation_Detail!C401=\"\",\"\",Limit_Deviation_Detail!C401)","v":""},{"$f":"IF(Limit_Deviation_Detail!E401=\"\",\"\",Limit_Deviation_Detail!E401)","v":""},"",{"$f":"IF(COUNTIF(X$2:X379,X379)=1,X379,\"\")","v":""},"","","","","",null,null,null,null,{"$f":"IF(COUNTIF(AM$2:AM379,AM379)=1,AM379,\"\")","v":""},{"$f":"IF(CMS_Deviation_Detail!B401=\"\",\"\",CMS_Deviation_Detail!B401)","v":""},{"$f":"IF(CMS_Deviation_Detail!C401=\"\",\"\",CMS_Deviation_Detail!C401)","v":""},{"$f":"IF(CMS_Deviation_Detail!D401=\"\",\"\",CMS_Deviation_Detail!D401)","v":""},"",{"$f":"+IF(AI379=\"\",\"\",MAX(AN$1:AN378)+1)","v":""},"","","","","","",null,{"$f":"IF(COUNTIF(AZ$2:AZ379,AZ379)=1,AZ379,\"\")","v":""},{"$f":"IF(Limit_Deviation_Detail!B401=\"\",\"\",Limit_Deviation_Detail!B401)","v":""},{"$f":"IF(Limit_Deviation_Detail!C401=\"\",\"\",Limit_Deviation_Detail!C401)","v":""},{"$f":"IF(Limit_Deviation_Detail!E401=\"\",\"\",Limit_Deviation_Detail!E401)","v":""},"",{"$f":"+IF(AV379=\"\",\"\",MAX(BA$1:BA378)+1)","v":""},"","","",""]
[{"$f":"+IF(D380=\"\",\"\",MAX(A$1:A379)+1)","v":""},{"$f":"IF(Affected_Sources!C402=\"\",\"\",Affected_Sources!C402)","v":""},"",{"$f":"IF(COUNTIF(B$2:B380,B380)=1,B380,\"\")","v":""},null,null,null,null,null,null,null,null,null,null,null,null,null,null,null,{"$f":"+IF(Y380=\"\",\"\",MAX(T$1:T379)+1)","v":""},{"$f":"IF(Limit_Deviation_Detail!B402=\"\",\"\",Limit_Deviation_Detail!B402)","v":""},{"$f":"IF(Limit_Deviation_Detail!C402=\"\",\"\",Limit_Deviation_Detail!C402)","v":""},{"$f":"IF(Limit_Deviation_Detail!E402=\"\",\"\",Limit_Deviation_Detail!E402)","v":""},"",{"$f":"IF(COUNTIF(X$2:X380,X380)=1,X380,\"\")","v":""},"","","","","",null,null,null,null,{"$f":"IF(COUNTIF(AM$2:AM380,AM380)=1,AM380,\"\")","v":""},{"$f":"IF(CMS_Deviation_Detail!B402=\"\",\"\",CMS_Deviation_Detail!B402)","v":""},{"$f":"IF(CMS_Deviation_Detail!C402=\"\",\"\",CMS_Deviation_Detail!C402)","v":""},{"$f":"IF(CMS_Deviation_Detail!D402=\"\",\"\",CMS_Deviation_Detail!D402)","v":""},"",{"$f":"+IF(AI380=\"\",\"\",MAX(AN$1:AN379)+1)","v":""},"","","","","","",null,{"$f":"IF(COUNTIF(AZ$2:AZ380,AZ380)=1,AZ380,\"\")","v":""},{"$f":"IF(Limit_Deviation_Detail!B402=\"\",\"\",Limit_Deviation_Detail!B402)","v":""},{"$f":"IF(Limit_Deviation_Detail!C402=\"\",\"\",Limit_Deviation_Detail!C402)","v":""},{"$f":"IF(Limit_Deviation_Detail!E402=\"\",\"\",Limit_Deviation_Detail!E402)","v":""},"",{"$f":"+IF(AV380=\"\",\"\",MAX(BA$1:BA379)+1)","v":""},"","","",""]
[{"$f":"+IF(D381=\"\",\"\",MAX(A$1:A380)+1)","v":""},{"$f":"IF(Affected_Sources!C403=\"\",\"\",Affected_Sources!C403)","v":""},"",{"$f":"IF(COUNTIF(B$2:B381,B381)=1,B381,\"\")","v":""},null,null,null,null,null,null,null,null,null,null,null,null,null,null,null,{"$f":"+IF(Y381=\"\",\"\",MAX(T$1:T380)+1)","v":""},{"$f":"IF(Limit_Deviation_Detail!B403=\"\",\"\",Limit_Deviation_Detail!B403)","v":""},{"$f":"IF(Limit_Deviation_Detail!C403=\"\",\"\",Limit_Deviation_Detail!C403)","v":""},{"$f":"IF(Limit_Deviation_Detail!E403=\"\",\"\",Limit_Deviation_Detail!E403)","v":""},"",{"$f":"IF(COUNTIF(X$2:X381,X381)=1,X381,\"\")","v":""},"","","","","",null,null,null,null,{"$f":"IF(COUNTIF(AM$2:AM381,AM381)=1,AM381,\"\")","v":""},{"$f":"IF(CMS_Deviation_Detail!B403=\"\",\"\",CMS_Deviation_Detail!B403)","v":""},{"$f":"IF(CMS_Deviation_Detail!C403=\"\",\"\",CMS_Deviation_Detail!C403)","v":""},{"$f":"IF(CMS_Deviation_Detail!D403=\"\",\"\",CMS_Deviation_Detail!D403)","v":""},"",{"$f":"+IF(AI381=\"\",\"\",MAX(AN$1:AN380)+1)","v":""},"","","","","","",null,{"$f":"IF(COUNTIF(AZ$2:AZ381,AZ381)=1,AZ381,\"\")","v":""},{"$f":"IF(Limit_Deviation_Detail!B403=\"\",\"\",Limit_Deviation_Detail!B403)","v":""},{"$f":"IF(Limit_Deviation_Detail!C403=\"\",\"\",Limit_Deviation_Detail!C403)","v":""},{"$f":"IF(Limit_Deviation_Detail!E403=\"\",\"\",Limit_Deviation_Detail!E403)","v":""},"",{"$f":"+IF(AV381=\"\",\"\",MAX(BA$1:BA380)+1)","v":""},"","","",""]
[{"$f":"+IF(D382=\"\",\"\",MAX(A$1:A381)+1)","v":""},{"$f":"IF(Affected_Sources!C404=\"\",\"\",Affected_Sources!C404)","v":""},"",{"$f":"IF(COUNTIF(B$2:B382,B382)=1,B382,\"\")","v":""},null,null,null,null,null,null,null,null,null,null,null,null,null,null,null,{"$f":"+IF(Y382=\"\",\"\",MAX(T$1:T381)+1)","v":""},{"$f":"IF(Limit_Deviation_Detail!B404=\"\",\"\",Limit_Deviation_Detail!B404)","v":""},{"$f":"IF(Limit_Deviation_Detail!C404=\"\",\"\",Limit_Deviation_Detail!C404)","v":""},{"$f":"IF(Limit_Deviation_Detail!E404=\"\",\"\",Limit_Deviation_Detail!E404)","v":""},"",{"$f":"IF(COUNTIF(X$2:X382,X382)=1,X382,\"\")","v":""},"","","","","",null,null,null,null,{"$f":"IF(COUNTIF(AM$2:AM382,AM382)=1,AM382,\"\")","v":""},{"$f":"IF(CMS_Deviation_Detail!B404=\"\",\"\",CMS_Deviation_Detail!B404)","v":""},{"$f":"IF(CMS_Deviation_Detail!C404=\"\",\"\",CMS_Deviation_Detail!C404)","v":""},{"$f":"IF(CMS_Deviation_Detail!D404=\"\",\"\",CMS_Deviation_Detail!D404)","v":""},"",{"$f":"+IF(AI382=\"\",\"\",MAX(AN$1:AN381)+1)","v":""},"","","","","","",null,{"$f":"IF(COUNTIF(AZ$2:AZ382,AZ382)=1,AZ382,\"\")","v":""},{"$f":"IF(Limit_Deviation_Detail!B404=\"\",\"\",Limit_Deviation_Detail!B404)","v":""},{"$f":"IF(Limit_Deviation_Detail!C404=\"\",\"\",Limit_Deviation_Detail!C404)","v":""},{"$f":"IF(Limit_Deviation_Detail!E404=\"\",\"\",Limit_Deviation_Detail!E404)","v":""},"",{"$f":"+IF(AV382=\"\",\"\",MAX(BA$1:BA381)+1)","v":""},"","","",""]
[{"$f":"+IF(D383=\"\",\"\",MAX(A$1:A382)+1)","v":""},{"$f":"IF(Affected_Sources!C405=\"\",\"\",Affected_Sources!C405)","v":""},"",{"$f":"IF(COUNTIF(B$2:B383,B383)=1,B383,\"\")","v":""},null,null,null,null,null,null,null,null,null,null,null,null,null,null,null,{"$f":"+IF(Y383=\"\",\"\",MAX(T$1:T382)+1)","v":""},{"$f":"IF(Limit_Deviation_Detail!B405=\"\",\"\",Limit_Deviation_Detail!B405)","v":""},{"$f":"IF(Limit_Deviation_Detail!C405=\"\",\"\",Limit_Deviation_Detail!C405)","v":""},{"$f":"IF(Limit_Deviation_Detail!E405=\"\",\"\",Limit_Deviation_Detail!E405)","v":""},"",{"$f":"IF(COUNTIF(X$2:X383,X383)=1,X383,\"\")","v":""},"","","","","",null,null,null,null,{"$f":"IF(COUNTIF(AM$2:AM383,AM383)=1,AM383,\"\")","v":""},{"$f":"IF(CMS_Deviation_Detail!B405=\"\",\"\",CMS_Deviation_Detail!B405)","v":""},{"$f":"IF(CMS_Deviation_Detail!C405=\"\",\"\",CMS_Deviation_Detail!C405)","v":""},{"$f":"IF(CMS_Deviation_Detail!D405=\"\",\"\",CMS_Deviation_Detail!D405)","v":""},"",{"$f":"+IF(AI383=\"\",\"\",MAX(AN$1:AN382)+1)","v":""},"","","","","","",null,{"$f":"IF(COUNTIF(AZ$2:AZ383,AZ383)=1,AZ383,\"\")","v":""},{"$f":"IF(Limit_Deviation_Detail!B405=\"\",\"\",Limit_Deviation_Detail!B405)","v":""},{"$f":"IF(Limit_Deviation_Detail!C405=\"\",\"\",Limit_Deviation_Detail!C405)","v":""},{"$f":"IF(Limit_Deviation_Detail!E405=\"\",\"\",Limit_Deviation_Detail!E405)","v":""},"",{"$f":"+IF(AV383=\"\",\"\",MAX(BA$1:BA382)+1)","v":""},"","","",""]
[{"$f":"+IF(D384=\"\",\"\",MAX(A$1:A383)+1)","v":""},{"$f":"IF(Affected_Sources!C406=\"\",\"\",Affected_Sources!C406)","v":""},"",{"$f":"IF(COUNTIF(B$2:B384,B384)=1,B384,\"\")","v":""},null,null,null,null,null,null,null,null,null,null,null,null,null,null,null,{"$f":"+IF(Y384=\"\",\"\",MAX(T$1:T383)+1)","v":""},{"$f":"IF(Limit_Deviation_Detail!B406=\"\",\"\",Limit_Deviation_Detail!B406)","v":""},{"$f":"IF(Limit_Deviation_Detail!C406=\"\",\"\",Limit_Deviation_Detail!C406)","v":""},{"$f":"IF(Limit_Deviation_Detail!E406=\"\",\"\",Limit_Deviation_Detail!E406)","v":""},"",{"$f":"IF(COUNTIF(X$2:X384,X384)=1,X384,\"\")","v":""},"","","","","",null,null,null,null,{"$f":"IF(COUNTIF(AM$2:AM384,AM384)=1,AM384,\"\")","v":""},{"$f":"IF(CMS_Deviation_Detail!B406=\"\",\"\",CMS_Deviation_Detail!B406)","v":""},{"$f":"IF(CMS_Deviation_Detail!C406=\"\",\"\",CMS_Deviation_Detail!C406)","v":""},{"$f":"IF(CMS_Deviation_Detail!D406=\"\",\"\",CMS_Deviation_Detail!D406)","v":""},"",{"$f":"+IF(AI384=\"\",\"\",MAX(AN$1:AN383)+1)","v":""},"","","","","","",null,{"$f":"IF(COUNTIF(AZ$2:AZ384,AZ384)=1,AZ384,\"\")","v":""},{"$f":"IF(Limit_Deviation_Detail!B406=\"\",\"\",Limit_Deviation_Detail!B406)","v":""},{"$f":"IF(Limit_Deviation_Detail!C406=\"\",\"\",Limit_Deviation_Detail!C406)","v":""},{"$f":"IF(Limit_Deviation_Detail!E406=\"\",\"\",Limit_Deviation_Detail!E406)","v":""},"",{"$f":"+IF(AV384=\"\",\"\",MAX(BA$1:BA383)+1)","v":""},"","","",""]
[{"$f":"+IF(D385=\"\",\"\",MAX(A$1:A384)+1)","v":""},{"$f":"IF(Affected_Sources!C407=\"\",\"\",Affected_Sources!C407)","v":""},"",{"$f":"IF(COUNTIF(B$2:B385,B385)=1,B385,\"\")","v":""},null,null,null,null,null,null,null,null,null,null,null,null,null,null,null,{"$f":"+IF(Y385=\"\",\"\",MAX(T$1:T384)+1)","v":""},{"$f":"IF(Limit_Deviation_Detail!B407=\"\",\"\",Limit_Deviation_Detail!B407)","v":""},{"$f":"IF(Limit_Deviation_Detail!C407=\"\",\"\",Limit_Deviation_Detail!C407)","v":""},{"$f":"IF(Limit_Deviation_Detail!E407=\"\",\"\",Limit_Deviation_Detail!E407)","v":""},"",{"$f":"IF(COUNTIF(X$2:X385,X385)=1,X385,\"\")","v":""},"","","","","",null,null,null,null,{"$f":"IF(COUNTIF(AM$2:AM385,AM385)=1,AM385,\"\")","v":""},{"$f":"IF(CMS_Deviation_Detail!B407=\"\",\"\",CMS_Deviation_Detail!B407)","v":""},{"$f":"IF(CMS_Deviation_Detail!C407=\"\",\"\",CMS_Deviation_Detail!C407)","v":""},{"$f":"IF(CMS_Deviation_Detail!D407=\"\",\"\",CMS_Deviation_Detail!D407)","v":""},"",{"$f":"+IF(AI385=\"\",\"\",MAX(AN$1:AN384)+1)","v":""},"","","","","","",null,{"$f":"IF(COUNTIF(AZ$2:AZ385,AZ385)=1,AZ385,\"\")","v":""},{"$f":"IF(Limit_Deviation_Detail!B407=\"\",\"\",Limit_Deviation_Detail!B407)","v":""},{"$f":"IF(Limit_Deviation_Detail!C407=\"\",\"\",Limit_Deviation_Detail!C407)","v":""},{"$f":"IF(Limit_Deviation_Detail!E407=\"\",\"\",Limit_Deviation_Detail!E407)","v":""},"",{"$f":"+IF(AV385=\"\",\"\",MAX(BA$1:BA384)+1)","v":""},"","","",""]
[{"$f":"+IF(D386=\"\",\"\",MAX(A$1:A385)+1)","v":""},{"$f":"IF(Affected_Sources!C408=\"\",\"\",Affected_Sources!C408)","v":""},{"$f":"+IFERROR(INDEX(B$2:B$501,MATCH(ROW()-ROW($C$1),A$2:A$501,0)),\"\")","v":""},{"$f":"IF(COUNTIF(B$2:B386,B386)=1,B386,\"\")","v":""},null,null,null,null,null,null,null,null,null,null,null,null,null,null,null,{"$f":"+IF(Y386=\"\",\"\",MAX(T$1:T385)+1)","v":""},{"$f":"IF(Limit_Deviation_Detail!B408=\"\",\"\",Limit_Deviation_Detail!B408)","v":""},{"$f":"IF(Limit_Deviation_Detail!C408=\"\",\"\",Limit_Deviation_Detail!C408)","v":""},{"$f":"IF(Limit_Deviation_Detail!E408=\"\",\"\",Limit_Deviation_Detail!E408)","v":""},{"$f":"U386&V386&W386","v":""},{"$f":"IF(COUNTIF(X$2:X386,X386)=1,X386,\"\")","v":""},{"$f":"+IFERROR(INDEX(U$2:U$955,MATCH(ROW()-ROW(HU$1),T$2:T$955,0)),\"\")","v":""},{"$f":"+IFERROR(INDEX(V$2:V$955,MATCH(ROW()-ROW(Y$1),T$2:T$955,0)),\"\")","v":""},{"$f":"+IFERROR(INDEX(W$2:W$955,MATCH(ROW()-ROW(Y$1),T$2:T$955,0)),\"\")","v":""},{"$f":"IF(Z386=\"\",\"\",Z386&AA386)","v":""},{"$f":"IF(Z386=\"\",\"\",VLOOKUP(AC386,$BL$2:$BP$78,5,FALSE))","v":""},null,null,null,null,{"$f":"IF(COUNTIF(AM$2:AM386,AM386)=1,AM386,\"\")","v":""},{"$f":"IF(CMS_Deviation_Detail!B408=\"\",\"\",CMS_Deviation_Detail!B408)","v":""},{"$f":"IF(CMS_Deviation_Detail!C408=\"\",\"\",CMS_Deviation_Detail!C408)","v":""},{"$f":"IF(CMS_Deviation_Detail!D408=\"\",\"\",CMS_Deviation_Detail!D408)","v":""},"",{"$f":"+IF(AI386=\"\",\"\",MAX(AN$1:AN385)+1)","v":""},"","","","",{"$f":"IF(AP386=\"\",\"\",AP386&AQ386)","v":""},{"$f":"IF(AP386=\"\",\"\",VLOOKUP(AS386,$BL$2:$BP$78,5,FALSE))","v":""},null,{"$f":"IF(COUNTIF(AZ$2:AZ386,AZ386)=1,AZ386,\"\")","v":""},{"$f":"IF(Limit_Deviation_Detail!B408=\"\",\"\",Limit_Deviation_Detail!B408)","v":""},{"$f":"IF(Limit_Deviation_Detail!C408=\"\",\"\",Limit_Deviation_Detail!C408)","v":""},{"$f":"IF(Limit_Deviation_Detail!E408=\"\",\"\",Limit_Deviation_Detail!E408)","v":""},"",{"$f":"+IF(AV386=\"\",\"\",MAX(BA$1:BA385)+1)","v":""},"","","",""]
[{"$f":"+IF(D387=\"\",\"\",MAX(A$1:A386)+1)","v":""},{"$f":"IF(Affected_Sources!C409=\"\",\"\",Affected_Sources!C409)","v":""},"",{"$f":"IF(COUNTIF(B$2:B387,B387)=1,B387,\"\")","v":""},null,null,null,null,null,null,null,null,null,null,null,null,null,null,null,{"$f":"+IF(Y387=\"\",\"\",MAX(T$1:T386)+1)","v":""},{"$f":"IF(Limit_Deviation_Detail!B409=\"\",\"\",Limit_Deviation_Detail!B409)","v":""},{"$f":"IF(Limit_Deviation_Detail!C409=\"\",\"\",Limit_Deviation_Detail!C409)","v":""},{"$f":"IF(Limit_Deviation_Detail!E409=\"\",\"\",Limit_Deviation_Detail!E409)","v":""},"",{"$f":"IF(COUNTIF(X$2:X387,X387)=1,X387,\"\")","v":""},"","","","","",null,null,null,null,{"$f":"IF(COUNTIF(AM$2:AM387,AM387)=1,AM387,\"\")","v":""},{"$f":"IF(CMS_Deviation_Detail!B409=\"\",\"\",CMS_Deviation_Detail!B409)","v":""},{"$f":"IF(CMS_Deviation_Detail!C409=\"\",\"\",CMS_Deviation_Detail!C409)","v":""},{"$f":"IF(CMS_Deviation_Detail!D409=\"\",\"\",CMS_Deviation_Detail!D409)","v":""},{"$f":"IF(AL387=\"\",\"\",AJ387&\" \"&AK387&\" \"&AL387)","v":""},{"$f":"+IF(AI387=\"\",\"\",MAX(AN$1:AN386)+1)","v":""},{"$f":"+IFERROR(INDEX(AI$2:AI$955,MATCH(ROW()-ROW(AI$1),AN$2:AN$955,0)),\"\")","v":""},{"$f":"+IFERROR(INDEX(AJ$2:AJ$955,MATCH(ROW()-ROW(AJ$1),$AN$2:$AN$955,0)),\"\")","v":""},{"$f":"+IFERROR(INDEX(AK$2:AK$955,MATCH(ROW()-ROW(AK$1),$AN$2:$AN$955,0)),\"\")","v":""},{"$f":"+IFERROR(INDEX(AL$2:AL$955,MATCH(ROW()-ROW(AL$1),$AN$2:$AN$955,0)),\"\")","v":""},"","",null,{"$f":"IF(COUNTIF(AZ$2:AZ387,AZ387)=1,AZ387,\"\")","v":""},{"$f":"IF(Limit_Deviation_Detail!B409=\"\",\"\",Limit_Deviation_Detail!B409)","v":""},{"$f":"IF(Limit_Deviation_Detail!C409=\"\",\"\",Limit_Deviation_Detail!C409)","v":""},{"$f":"IF(Limit_Deviation_Detail!E409=\"\",\"\",Limit_Deviation_Detail!E409)","v":""},"",{"$f":"+IF(AV387=\"\",\"\",MAX(BA$1:BA386)+1)","v":""},"","","",""]
[{"$f":"+IF(D388=\"\",\"\",MAX(A$1:A387)+1)","v":""},{"$f":"IF(Affected_Sources!C410=\"\",\"\",Affected_Sources!C410)","v":""},"",{"$f":"IF(COUNTIF(B$2:B388,B388)=1,B388,\"\")","v":""},null,null,null,null,null,null,null,null,null,null,null,null,null,null,null,{"$f":"+IF(Y388=\"\",\"\",MAX(T$1:T387)+1)","v":""},{"$f":"IF(Limit_Deviation_Detail!B410=\"\",\"\",Limit_Deviation_Detail!B410)","v":""},{"$f":"IF(Limit_Deviation_Detail!C410=\"\",\"\",Limit_Deviation_Detail!C410)","v":""},{"$f":"IF(Limit_Deviation_Detail!E410=\"\",\"\",Limit_Deviation_Detail!E410)","v":""},"",{"$f":"IF(COUNTIF(X$2:X388,X388)=1,X388,\"\")","v":""},"","","","","",null,null,null,null,{"$f":"IF(COUNTIF(AM$2:AM388,AM388)=1,AM388,\"\")","v":""},{"$f":"IF(CMS_Deviation_Detail!B410=\"\",\"\",CMS_Deviation_Detail!B410)","v":""},{"$f":"IF(CMS_Deviation_Detail!C410=\"\",\"\",CMS_Deviation_Detail!C410)","v":""},{"$f":"IF(CMS_Deviation_Detail!D410=\"\",\"\",CMS_Deviation_Detail!D410)","v":""},"",{"$f":"+IF(AI388=\"\",\"\",MAX(AN$1:AN387)+1)","v":""},"","","","","","",null,{"$f":"IF(COUNTIF(AZ$2:AZ388,AZ388)=1,AZ388,\"\")","v":""},{"$f":"IF(Limit_Deviation_Detail!B410=\"\",\"\",Limit_Deviation_Detail!B410)","v":""},{"$f":"IF(Limit_Deviation_Detail!C410=\"\",\"\",Limit_Deviation_Detail!C410)","v":""},{"$f":"IF(Limit_Deviation_Detail!E410=\"\",\"\",Limit_Deviation_Detail!E410)","v":""},"",{"$f":"+IF(AV388=\"\",\"\",MAX(BA$1:BA387)+1)","v":""},"","","",""]
[{"$f":"+IF(D389=\"\",\"\",MAX(A$1:A388)+1)","v":""},{"$f":"IF(Affected_Sources!C411=\"\",\"\",Affected_Sources!C411)","v":""},"",{"$f":"IF(COUNTIF(B$2:B389,B389)=1,B389,\"\")","v":""},null,null,null,null,null,null,null,null,null,null,null,null,null,null,null,{"$f":"+IF(Y389=\"\",\"\",MAX(T$1:T388)+1)","v":""},{"$f":"IF(Limit_Deviation_Detail!B411=\"\",\"\",Limit_Deviation_Detail!B411)","v":""},{"$f":"IF(Limit_Deviation_Detail!C411=\"\",\"\",Limit_Deviation_Detail!C411)","v":""},{"$f":"IF(Limit_Deviation_Detail!E411=\"\",\"\",Limit_Deviation_Detail!E411)","v":""},"",{"$f":"IF(COUNTIF(X$2:X389,X389)=1,X389,\"\")","v":""},"","","","","",null,null,null,null,{"$f":"IF(COUNTIF(AM$2:AM389,AM389)=1,AM389,\"\")","v":""},{"$f":"IF(CMS_Deviation_Detail!B411=\"\",\"\",CMS_Deviation_Detail!B411)","v":""},{"$f":"IF(CMS_Deviation_Detail!C411=\"\",\"\",CMS_Deviation_Detail!C411)","v":""},{"$f":"IF(CMS_Deviation_Detail!D411=\"\",\"\",CMS_Deviation_Detail!D411)","v":""},"",{"$f":"+IF(AI389=\"\",\"\",MAX(AN$1:AN388)+1)","v":""},"","","","","","",null,{"$f":"IF(COUNTIF(AZ$2:AZ389,AZ389)=1,AZ389,\"\")","v":""},{"$f":"IF(Limit_Deviation_Detail!B411=\"\",\"\",Limit_Deviation_Detail!B411)","v":""},{"$f":"IF(Limit_Deviation_Detail!C411=\"\",\"\",Limit_Deviation_Detail!C411)","v":""},{"$f":"IF(Limit_Deviation_Detail!E411=\"\",\"\",Limit_Deviation_Detail!E411)","v":""},"",{"$f":"+IF(AV389=\"\",\"\",MAX(BA$1:BA388)+1)","v":""},"","","",""]
[{"$f":"+IF(D390=\"\",\"\",MAX(A$1:A389)+1)","v":""},{"$f":"IF(Affected_Sources!C412=\"\",\"\",Affected_Sources!C412)","v":""},"",{"$f":"IF(COUNTIF(B$2:B390,B390)=1,B390,\"\")","v":""},null,null,null,null,null,null,null,null,null,null,null,null,null,null,null,{"$f":"+IF(Y390=\"\",\"\",MAX(T$1:T389)+1)","v":""},{"$f":"IF(Limit_Deviation_Detail!B412=\"\",\"\",Limit_Deviation_Detail!B412)","v":""},{"$f":"IF(Limit_Deviation_Detail!C412=\"\",\"\",Limit_Deviation_Detail!C412)","v":""},{"$f":"IF(Limit_Deviation_Detail!E412=\"\",\"\",Limit_Deviation_Detail!E412)","v":""},"",{"$f":"IF(COUNTIF(X$2:X390,X390)=1,X390,\"\")","v":""},"","","","","",null,null,null,null,{"$f":"IF(COUNTIF(AM$2:AM390,AM390)=1,AM390,\"\")","v":""},{"$f":"IF(CMS_Deviation_Detail!B412=\"\",\"\",CMS_Deviation_Detail!B412)","v":""},{"$f":"IF(CMS_Deviation_Detail!C412=\"\",\"\",CMS_Deviation_Detail!C412)","v":""},{"$f":"IF(CMS_Deviation_Detail!D412=\"\",\"\",CMS_Deviation_Detail!D412)","v":""},"",{"$f":"+IF(AI390=\"\",\"\",MAX(AN$1:AN389)+1)","v":""},"","","","","","",null,{"$f":"IF(COUNTIF(AZ$2:AZ390,AZ390)=1,AZ390,\"\")","v":""},{"$f":"IF(Limit_Deviation_Detail!B412=\"\",\"\",Limit_Deviation_Detail!B412)","v":""},{"$f":"IF(Limit_Deviation_Detail!C412=\"\",\"\",Limit_Deviation_Detail!C412)","v":""},{"$f":"IF(Limit_Deviation_Detail!E412=\"\",\"\",Limit_Deviation_Detail!E412)","v":""},"",{"$f":"+IF(AV390=\"\",\"\",MAX(BA$1:BA389)+1)","v":""},"","","",""]
[{"$f":"+IF(D391=\"\",\"\",MAX(A$1:A390)+1)","v":""},{"$f":"IF(Affected_Sources!C413=\"\",\"\",Affected_Sources!C413)","v":""},"",{"$f":"IF(COUNTIF(B$2:B391,B391)=1,B391,\"\")","v":""},null,null,null,null,null,null,null,null,null,null,null,null,null,null,null,{"$f":"+IF(Y391=\"\",\"\",MAX(T$1:T390)+1)","v":""},{"$f":"IF(Limit_Deviation_Detail!B413=\"\",\"\",Limit_Deviation_Detail!B413)","v":""},{"$f":"IF(Limit_Deviation_Detail!C413=\"\",\"\",Limit_Deviation_Detail!C413)","v":""},{"$f":"IF(Limit_Deviation_Detail!E413=\"\",\"\",Limit_Deviation_Detail!E413)","v":""},"",{"$f":"IF(COUNTIF(X$2:X391,X391)=1,X391,\"\")","v":""},"","","","","",null,null,null,null,{"$f":"IF(COUNTIF(AM$2:AM391,AM391)=1,AM391,\"\")","v":""},{"$f":"IF(CMS_Deviation_Detail!B413=\"\",\"\",CMS_Deviation_Detail!B413)","v":""},{"$f":"IF(CMS_Deviation_Detail!C413=\"\",\"\",CMS_Deviation_Detail!C413)","v":""},{"$f":"IF(CMS_Deviation_Detail!D413=\"\",\"\",CMS_Deviation_Detail!D413)","v":""},"",{"$f":"+IF(AI391=\"\",\"\",MAX(AN$1:AN390)+1)","v":""},"","","","","","",null,{"$f":"IF(COUNTIF(AZ$2:AZ391,AZ391)=1,AZ391,\"\")","v":""},{"$f":"IF(Limit_Deviation_Detail!B413=\"\",\"\",Limit_Deviation_Detail!B413)","v":""},{"$f":"IF(Limit_Deviation_Detail!C413=\"\",\"\",Limit_Deviation_Detail!C413)","v":""},{"$f":"IF(Limit_Deviation_Detail!E413=\"\",\"\",Limit_Deviation_Detail!E413)","v":""},{"$f":"IF(AY391=\"\",\"\",AW391&\" \"&AX391&\" \"&AY391)","v":""},{"$f":"+IF(AV391=\"\",\"\",MAX(BA$1:BA390)+1)","v":""},{"$f":"+IFERROR(INDEX(AV$2:AV$955,MATCH(ROW()-ROW(AV$1),BA$2:BA$955,0)),\"\")","v":""},{"$f":"+IFERROR(INDEX(AW$2:AW$955,MATCH(ROW()-ROW(AW$1),$BA$2:$BA$955,0)),\"\")","v":""},{"$f":"+IFERROR(INDEX(AX$2:AX$955,MATCH(ROW()-ROW(AX$1),$BA$2:$BA$955,0)),\"\")","v":""},{"$f":"+IFERROR(INDEX(AY$2:AY$955,MATCH(ROW()-ROW(AY$1),$BA$2:$BA$955,0)),\"\")","v":""}]
[{"$f":"+IF(D392=\"\",\"\",MAX(A$1:A391)+1)","v":""},{"$f":"IF(Affected_Sources!C414=\"\",\"\",Affected_Sources!C414)","v":""},"",{"$f":"IF(COUNTIF(B$2:B392,B392)=1,B392,\"\")","v":""},null,null,null,null,null,null,null,null,null,null,null,null,null,null,null,{"$f":"+IF(Y392=\"\",\"\",MAX(T$1:T391)+1)","v":""},{"$f":"IF(Limit_Deviation_Detail!B414=\"\",\"\",Limit_Deviation_Detail!B414)","v":""},{"$f":"IF(Limit_Deviation_Detail!C414=\"\",\"\",Limit_Deviation_Detail!C414)","v":""},{"$f":"IF(Limit_Deviation_Detail!E414=\"\",\"\",Limit_Deviation_Detail!E414)","v":""},"",{"$f":"IF(COUNTIF(X$2:X392,X392)=1,X392,\"\")","v":""},"","","","","",null,null,null,null,{"$f":"IF(COUNTIF(AM$2:AM392,AM392)=1,AM392,\"\")","v":""},{"$f":"IF(CMS_Deviation_Detail!B414=\"\",\"\",CMS_Deviation_Detail!B414)","v":""},{"$f":"IF(CMS_Deviation_Detail!C414=\"\",\"\",CMS_Deviation_Detail!C414)","v":""},{"$f":"IF(CMS_Deviation_Detail!D414=\"\",\"\",CMS_Deviation_Detail!D414)","v":""},"",{"$f":"+IF(AI392=\"\",\"\",MAX(AN$1:AN391)+1)","v":""},"","","","","","",null,{"$f":"IF(COUNTIF(AZ$2:AZ392,AZ392)=1,AZ392,\"\")","v":""},{"$f":"IF(Limit_Deviation_Detail!B414=\"\",\"\",Limit_Deviation_Detail!B414)","v":""},{"$f":"IF(Limit_Deviation_Detail!C414=\"\",\"\",Limit_Deviation_Detail!C414)","v":""},{"$f":"IF(Limit_Deviation_Detail!E414=\"\",\"\",Limit_Deviation_Detail!E414)","v":""},"",{"$f":"+IF(AV392=\"\",\"\",MAX(BA$1:BA391)+1)","v":""},"","","",""]
[{"$f":"+IF(D393=\"\",\"\",MAX(A$1:A392)+1)","v":""},{"$f":"IF(Affected_Sources!C415=\"\",\"\",Affected_Sources!C415)","v":""},"",{"$f":"IF(COUNTIF(B$2:B393,B393)=1,B393,\"\")","v":""},null,null,null,null,null,null,null,null,null,null,null,null,null,null,null,{"$f":"+IF(Y393=\"\",\"\",MAX(T$1:T392)+1)","v":""},{"$f":"IF(Limit_Deviation_Detail!B415=\"\",\"\",Limit_Deviation_Detail!B415)","v":""},{"$f":"IF(Limit_Deviation_Detail!C415=\"\",\"\",Limit_Deviation_Detail!C415)","v":""},{"$f":"IF(Limit_Deviation_Detail!E415=\"\",\"\",Limit_Deviation_Detail!E415)","v":""},"",{"$f":"IF(COUNTIF(X$2:X393,X393)=1,X393,\"\")","v":""},"","","","","",null,null,null,null,{"$f":"IF(COUNTIF(AM$2:AM393,AM393)=1,AM393,\"\")","v":""},{"$f":"IF(CMS_Deviation_Detail!B415=\"\",\"\",CMS_Deviation_Detail!B415)","v":""},{"$f":"IF(CMS_Deviation_Detail!C415=\"\",\"\",CMS_Deviation_Detail!C415)","v":""},{"$f":"IF(CMS_Deviation_Detail!D415=\"\",\"\",CMS_Deviation_Detail!D415)","v":""},"",{"$f":"+IF(AI393=\"\",\"\",MAX(AN$1:AN392)+1)","v":""},"","","","","","",null,{"$f":"IF(COUNTIF(AZ$2:AZ393,AZ393)=1,AZ393,\"\")","v":""},{"$f":"IF(Limit_Deviation_Detail!B415=\"\",\"\",Limit_Deviation_Detail!B415)","v":""},{"$f":"IF(Limit_Deviation_Detail!C415=\"\",\"\",Limit_Deviation_Detail!C415)","v":""},{"$f":"IF(Limit_Deviation_Detail!E415=\"\",\"\",Limit_Deviation_Detail!E415)","v":""},"",{"$f":"+IF(AV393=\"\",\"\",MAX(BA$1:BA392)+1)","v":""},"","","",""]
[{"$f":"+IF(D394=\"\",\"\",MAX(A$1:A393)+1)","v":""},{"$f":"IF(Affected_Sources!C416=\"\",\"\",Affected_Sources!C416)","v":""},"",{"$f":"IF(COUNTIF(B$2:B394,B394)=1,B394,\"\")","v":""},null,null,null,null,null,null,null,null,null,null,null,null,null,null,null,{"$f":"+IF(Y394=\"\",\"\",MAX(T$1:T393)+1)","v":""},{"$f":"IF(Limit_Deviation_Detail!B416=\"\",\"\",Limit_Deviation_Detail!B416)","v":""},{"$f":"IF(Limit_Deviation_Detail!C416=\"\",\"\",Limit_Deviation_Detail!C416)","v":""},{"$f":"IF(Limit_Deviation_Detail!E416=\"\",\"\",Limit_Deviation_Detail!E416)","v":""},"",{"$f":"IF(COUNTIF(X$2:X394,X394)=1,X394,\"\")","v":""},"","","","","",null,null,null,null,{"$f":"IF(COUNTIF(AM$2:AM394,AM394)=1,AM394,\"\")","v":""},{"$f":"IF(CMS_Deviation_Detail!B416=\"\",\"\",CMS_Deviation_Detail!B416)","v":""},{"$f":"IF(CMS_Deviation_Detail!C416=\"\",\"\",CMS_Deviation_Detail!C416)","v":""},{"$f":"IF(CMS_Deviation_Detail!D416=\"\",\"\",CMS_Deviation_Detail!D416)","v":""},"",{"$f":"+IF(AI394=\"\",\"\",MAX(AN$1:AN393)+1)","v":""},"","","","","","",null,{"$f":"IF(COUNTIF(AZ$2:AZ394,AZ394)=1,AZ394,\"\")","v":""},{"$f":"IF(Limit_Deviation_Detail!B416=\"\",\"\",Limit_Deviation_Detail!B416)","v":""},{"$f":"IF(Limit_Deviation_Detail!C416=\"\",\"\",Limit_Deviation_Detail!C416)","v":""},{"$f":"IF(Limit_Deviation_Detail!E416=\"\",\"\",Limit_Deviation_Detail!E416)","v":""},"",{"$f":"+IF(AV394=\"\",\"\",MAX(BA$1:BA393)+1)","v":""},"","","",""]
[{"$f":"+IF(D395=\"\",\"\",MAX(A$1:A394)+1)","v":""},{"$f":"IF(Affected_Sources!C417=\"\",\"\",Affected_Sources!C417)","v":""},"",{"$f":"IF(COUNTIF(B$2:B395,B395)=1,B395,\"\")","v":""},null,null,null,null,null,null,null,null,null,null,null,null,null,null,null,{"$f":"+IF(Y395=\"\",\"\",MAX(T$1:T394)+1)","v":""},{"$f":"IF(Limit_Deviation_Detail!B417=\"\",\"\",Limit_Deviation_Detail!B417)","v":""},{"$f":"IF(Limit_Deviation_Detail!C417=\"\",\"\",Limit_Deviation_Detail!C417)","v":""},{"$f":"IF(Limit_Deviation_Detail!E417=\"\",\"\",Limit_Deviation_Detail!E417)","v":""},"",{"$f":"IF(COUNTIF(X$2:X395,X395)=1,X395,\"\")","v":""},"","","","","",null,null,null,null,{"$f":"IF(COUNTIF(AM$2:AM395,AM395)=1,AM395,\"\")","v":""},{"$f":"IF(CMS_Deviation_Detail!B417=\"\",\"\",CMS_Deviation_Detail!B417)","v":""},{"$f":"IF(CMS_Deviation_Detail!C417=\"\",\"\",CMS_Deviation_Detail!C417)","v":""},{"$f":"IF(CMS_Deviation_Detail!D417=\"\",\"\",CMS_Deviation_Detail!D417)","v":""},"",{"$f":"+IF(AI395=\"\",\"\",MAX(AN$1:AN394)+1)","v":""},"","","","","","",null,{"$f":"IF(COUNTIF(AZ$2:AZ395,AZ395)=1,AZ395,\"\")","v":""},{"$f":"IF(Limit_Deviation_Detail!B417=\"\",\"\",Limit_Deviation_Detail!B417)","v":""},{"$f":"IF(Limit_Deviation_Detail!C417=\"\",\"\",Limit_Deviation_Detail!C417)","v":""},{"$f":"IF(Limit_Deviation_Detail!E417=\"\",\"\",Limit_Deviation_Detail!E417)","v":""},"",{"$f":"+IF(AV395=\"\",\"\",MAX(BA$1:BA394)+1)","v":""},"","","",""]
[{"$f":"+IF(D396=\"\",\"\",MAX(A$1:A395)+1)","v":""},{"$f":"IF(Affected_Sources!C418=\"\",\"\",Affected_Sources!C418)","v":""},"",{"$f":"IF(COUNTIF(B$2:B396,B396)=1,B396,\"\")","v":""},null,null,null,null,null,null,null,null,null,null,null,null,null,null,null,{"$f":"+IF(Y396=\"\",\"\",MAX(T$1:T395)+1)","v":""},{"$f":"IF(Limit_Deviation_Detail!B418=\"\",\"\",Limit_Deviation_Detail!B418)","v":""},{"$f":"IF(Limit_Deviation_Detail!C418=\"\",\"\",Limit_Deviation_Detail!C418)","v":""},{"$f":"IF(Limit_Deviation_Detail!E418=\"\",\"\",Limit_Deviation_Detail!E418)","v":""},"",{"$f":"IF(COUNTIF(X$2:X396,X396)=1,X396,\"\")","v":""},"","","","","",null,null,null,null,{"$f":"IF(COUNTIF(AM$2:AM396,AM396)=1,AM396,\"\")","v":""},{"$f":"IF(CMS_Deviation_Detail!B418=\"\",\"\",CMS_Deviation_Detail!B418)","v":""},{"$f":"IF(CMS_Deviation_Detail!C418=\"\",\"\",CMS_Deviation_Detail!C418)","v":""},{"$f":"IF(CMS_Deviation_Detail!D418=\"\",\"\",CMS_Deviation_Detail!D418)","v":""},"",{"$f":"+IF(AI396=\"\",\"\",MAX(AN$1:AN395)+1)","v":""},"","","","","","",null,{"$f":"IF(COUNTIF(AZ$2:AZ396,AZ396)=1,AZ396,\"\")","v":""},{"$f":"IF(Limit_Deviation_Detail!B418=\"\",\"\",Limit_Deviation_Detail!B418)","v":""},{"$f":"IF(Limit_Deviation_Detail!C418=\"\",\"\",Limit_Deviation_Detail!C418)","v":""},{"$f":"IF(Limit_Deviation_Detail!E418=\"\",\"\",Limit_Deviation_Detail!E418)","v":""},"",{"$f":"+IF(AV396=\"\",\"\",MAX(BA$1:BA395)+1)","v":""},"","","",""]
[{"$f":"+IF(D397=\"\",\"\",MAX(A$1:A396)+1)","v":""},{"$f":"IF(Affected_Sources!C419=\"\",\"\",Affected_Sources!C419)","v":""},"",{"$f":"IF(COUNTIF(B$2:B397,B397)=1,B397,\"\")","v":""},null,null,null,null,null,null,null,null,null,null,null,null,null,null,null,{"$f":"+IF(Y397=\"\",\"\",MAX(T$1:T396)+1)","v":""},{"$f":"IF(Limit_Deviation_Detail!B419=\"\",\"\",Limit_Deviation_Detail!B419)","v":""},{"$f":"IF(Limit_Deviation_Detail!C419=\"\",\"\",Limit_Deviation_Detail!C419)","v":""},{"$f":"IF(Limit_Deviation_Detail!E419=\"\",\"\",Limit_Deviation_Detail!E419)","v":""},"",{"$f":"IF(COUNTIF(X$2:X397,X397)=1,X397,\"\")","v":""},"","","","","",null,null,null,null,{"$f":"IF(COUNTIF(AM$2:AM397,AM397)=1,AM397,\"\")","v":""},{"$f":"IF(CMS_Deviation_Detail!B419=\"\",\"\",CMS_Deviation_Detail!B419)","v":""},{"$f":"IF(CMS_Deviation_Detail!C419=\"\",\"\",CMS_Deviation_Detail!C419)","v":""},{"$f":"IF(CMS_Deviation_Detail!D419=\"\",\"\",CMS_Deviation_Detail!D419)","v":""},"",{"$f":"+IF(AI397=\"\",\"\",MAX(AN$1:AN396)+1)","v":""},"","","","","","",null,{"$f":"IF(COUNTIF(AZ$2:AZ397,AZ397)=1,AZ397,\"\")","v":""},{"$f":"IF(Limit_Deviation_Detail!B419=\"\",\"\",Limit_Deviation_Detail!B419)","v":""},{"$f":"IF(Limit_Deviation_Detail!C419=\"\",\"\",Limit_Deviation_Detail!C419)","v":""},{"$f":"IF(Limit_Deviation_Detail!E419=\"\",\"\",Limit_Deviation_Detail!E419)","v":""},"",{"$f":"+IF(AV397=\"\",\"\",MAX(BA$1:BA396)+1)","v":""},"","","",""]
[{"$f":"+IF(D398=\"\",\"\",MAX(A$1:A397)+1)","v":""},{"$f":"IF(Affected_Sources!C420=\"\",\"\",Affected_Sources!C420)","v":""},"",{"$f":"IF(COUNTIF(B$2:B398,B398)=1,B398,\"\")","v":""},null,null,null,null,null,null,null,null,null,null,null,null,null,null,null,{"$f":"+IF(Y398=\"\",\"\",MAX(T$1:T397)+1)","v":""},{"$f":"IF(Limit_Deviation_Detail!B420=\"\",\"\",Limit_Deviation_Detail!B420)","v":""},{"$f":"IF(Limit_Deviation_Detail!C420=\"\",\"\",Limit_Deviation_Detail!C420)","v":""},{"$f":"IF(Limit_Deviation_Detail!E420=\"\",\"\",Limit_Deviation_Detail!E420)","v":""},"",{"$f":"IF(COUNTIF(X$2:X398,X398)=1,X398,\"\")","v":""},"","","","","",null,null,null,null,{"$f":"IF(COUNTIF(AM$2:AM398,AM398)=1,AM398,\"\")","v":""},{"$f":"IF(CMS_Deviation_Detail!B420=\"\",\"\",CMS_Deviation_Detail!B420)","v":""},{"$f":"IF(CMS_Deviation_Detail!C420=\"\",\"\",CMS_Deviation_Detail!C420)","v":""},{"$f":"IF(CMS_Deviation_Detail!D420=\"\",\"\",CMS_Deviation_Detail!D420)","v":""},"",{"$f":"+IF(AI398=\"\",\"\",MAX(AN$1:AN397)+1)","v":""},"","","","","","",null,{"$f":"IF(COUNTIF(AZ$2:AZ398,AZ398)=1,AZ398,\"\")","v":""},{"$f":"IF(Limit_Deviation_Detail!B420=\"\",\"\",Limit_Deviation_Detail!B420)","v":""},{"$f":"IF(Limit_Deviation_Detail!C420=\"\",\"\",Limit_Deviation_Detail!C420)","v":""},{"$f":"IF(Limit_Deviation_Detail!E420=\"\",\"\",Limit_Deviation_Detail!E420)","v":""},"",{"$f":"+IF(AV398=\"\",\"\",MAX(BA$1:BA397)+1)","v":""},"","","",""]
[{"$f":"+IF(D399=\"\",\"\",MAX(A$1:A398)+1)","v":""},{"$f":"IF(Affected_Sources!C421=\"\",\"\",Affected_Sources!C421)","v":""},"",{"$f":"IF(COUNTIF(B$2:B399,B399)=1,B399,\"\")","v":""},null,null,null,null,null,null,null,null,null,null,null,null,null,null,null,{"$f":"+IF(Y399=\"\",\"\",MAX(T$1:T398)+1)","v":""},{"$f":"IF(Limit_Deviation_Detail!B421=\"\",\"\",Limit_Deviation_Detail!B421)","v":""},{"$f":"IF(Limit_Deviation_Detail!C421=\"\",\"\",Limit_Deviation_Detail!C421)","v":""},{"$f":"IF(Limit_Deviation_Detail!E421=\"\",\"\",Limit_Deviation_Detail!E421)","v":""},"",{"$f":"IF(COUNTIF(X$2:X399,X399)=1,X399,\"\")","v":""},"","","","","",null,null,null,null,{"$f":"IF(COUNTIF(AM$2:AM399,AM399)=1,AM399,\"\")","v":""},{"$f":"IF(CMS_Deviation_Detail!B421=\"\",\"\",CMS_Deviation_Detail!B421)","v":""},{"$f":"IF(CMS_Deviation_Detail!C421=\"\",\"\",CMS_Deviation_Detail!C421)","v":""},{"$f":"IF(CMS_Deviation_Detail!D421=\"\",\"\",CMS_Deviation_Detail!D421)","v":""},"",{"$f":"+IF(AI399=\"\",\"\",MAX(AN$1:AN398)+1)","v":""},"","","","","","",null,{"$f":"IF(COUNTIF(AZ$2:AZ399,AZ399)=1,AZ399,\"\")","v":""},{"$f":"IF(Limit_Deviation_Detail!B421=\"\",\"\",Limit_Deviation_Detail!B421)","v":""},{"$f":"IF(Limit_Deviation_Detail!C421=\"\",\"\",Limit_Deviation_Detail!C421)","v":""},{"$f":"IF(Limit_Deviation_Detail!E421=\"\",\"\",Limit_Deviation_Detail!E421)","v":""},"",{"$f":"+IF(AV399=\"\",\"\",MAX(BA$1:BA398)+1)","v":""},"","","",""]
[{"$f":"+IF(D400=\"\",\"\",MAX(A$1:A399)+1)","v":""},{"$f":"IF(Affected_Sources!C422=\"\",\"\",Affected_Sources!C422)","v":""},"",{"$f":"IF(COUNTIF(B$2:B400,B400)=1,B400,\"\")","v":""},null,null,null,null,null,null,null,null,null,null,null,null,null,null,null,{"$f":"+IF(Y400=\"\",\"\",MAX(T$1:T399)+1)","v":""},{"$f":"IF(Limit_Deviation_Detail!B422=\"\",\"\",Limit_Deviation_Detail!B422)","v":""},{"$f":"IF(Limit_Deviation_Detail!C422=\"\",\"\",Limit_Deviation_Detail!C422)","v":""},{"$f":"IF(Limit_Deviation_Detail!E422=\"\",\"\",Limit_Deviation_Detail!E422)","v":""},"",{"$f":"IF(COUNTIF(X$2:X400,X400)=1,X400,\"\")","v":""},"","","","","",null,null,null,null,{"$f":"IF(COUNTIF(AM$2:AM400,AM400)=1,AM400,\"\")","v":""},{"$f":"IF(CMS_Deviation_Detail!B422=\"\",\"\",CMS_Deviation_Detail!B422)","v":""},{"$f":"IF(CMS_Deviation_Detail!C422=\"\",\"\",CMS_Deviation_Detail!C422)","v":""},{"$f":"IF(CMS_Deviation_Detail!D422=\"\",\"\",CMS_Deviation_Detail!D422)","v":""},"",{"$f":"+IF(AI400=\"\",\"\",MAX(AN$1:AN399)+1)","v":""},"","","","","","",null,{"$f":"IF(COUNTIF(AZ$2:AZ400,AZ400)=1,AZ400,\"\")","v":""},{"$f":"IF(Limit_Deviation_Detail!B422=\"\",\"\",Limit_Deviation_Detail!B422)","v":""},{"$f":"IF(Limit_Deviation_Detail!C422=\"\",\"\",Limit_Deviation_Detail!C422)","v":""},{"$f":"IF(Limit_Deviation_Detail!E422=\"\",\"\",Limit_Deviation_Detail!E422)","v":""},"",{"$f":"+IF(AV400=\"\",\"\",MAX(BA$1:BA399)+1)","v":""},"","","",""]
[{"$f":"+IF(D401=\"\",\"\",MAX(A$1:A400)+1)","v":""},{"$f":"IF(Affected_Sources!C423=\"\",\"\",Affected_Sources!C423)","v":""},"",{"$f":"IF(COUNTIF(B$2:B401,B401)=1,B401,\"\")","v":""},null,null,null,null,null,null,null,null,null,null,null,null,null,null,null,{"$f":"+IF(Y401=\"\",\"\",MAX(T$1:T400)+1)","v":""},{"$f":"IF(Limit_Deviation_Detail!B423=\"\",\"\",Limit_Deviation_Detail!B423)","v":""},{"$f":"IF(Limit_Deviation_Detail!C423=\"\",\"\",Limit_Deviation_Detail!C423)","v":""},{"$f":"IF(Limit_Deviation_Detail!E423=\"\",\"\",Limit_Deviation_Detail!E423)","v":""},"",{"$f":"IF(COUNTIF(X$2:X401,X401)=1,X401,\"\")","v":""},"","","","","",null,null,null,null,{"$f":"IF(COUNTIF(AM$2:AM401,AM401)=1,AM401,\"\")","v":""},{"$f":"IF(CMS_Deviation_Detail!B423=\"\",\"\",CMS_Deviation_Detail!B423)","v":""},{"$f":"IF(CMS_Deviation_Detail!C423=\"\",\"\",CMS_Deviation_Detail!C423)","v":""},{"$f":"IF(CMS_Deviation_Detail!D423=\"\",\"\",CMS_Deviation_Detail!D423)","v":""},"",{"$f":"+IF(AI401=\"\",\"\",MAX(AN$1:AN400)+1)","v":""},"","","","","","",null,{"$f":"IF(COUNTIF(AZ$2:AZ401,AZ401)=1,AZ401,\"\")","v":""},{"$f":"IF(Limit_Deviation_Detail!B423=\"\",\"\",Limit_Deviation_Detail!B423)","v":""},{"$f":"IF(Limit_Deviation_Detail!C423=\"\",\"\",Limit_Deviation_Detail!C423)","v":""},{"$f":"IF(Limit_Deviation_Detail!E423=\"\",\"\",Limit_Deviation_Detail!E423)","v":""},"",{"$f":"+IF(AV401=\"\",\"\",MAX(BA$1:BA400)+1)","v":""},"","","",""]
[{"$f":"+IF(D402=\"\",\"\",MAX(A$1:A401)+1)","v":""},{"$f":"IF(Affected_Sources!C424=\"\",\"\",Affected_Sources!C424)","v":""},"",{"$f":"IF(COUNTIF(B$2:B402,B402)=1,B402,\"\")","v":""},null,null,null,null,null,null,null,null,null,null,null,null,null,null,null,{"$f":"+IF(Y402=\"\",\"\",MAX(T$1:T401)+1)","v":""},{"$f":"IF(Limit_Deviation_Detail!B424=\"\",\"\",Limit_Deviation_Detail!B424)","v":""},{"$f":"IF(Limit_Deviation_Detail!C424=\"\",\"\",Limit_Deviation_Detail!C424)","v":""},{"$f":"IF(Limit_Deviation_Detail!E424=\"\",\"\",Limit_Deviation_Detail!E424)","v":""},"",{"$f":"IF(COUNTIF(X$2:X402,X402)=1,X402,\"\")","v":""},"","","","","",null,null,null,null,{"$f":"IF(COUNTIF(AM$2:AM402,AM402)=1,AM402,\"\")","v":""},{"$f":"IF(CMS_Deviation_Detail!B424=\"\",\"\",CMS_Deviation_Detail!B424)","v":""},{"$f":"IF(CMS_Deviation_Detail!C424=\"\",\"\",CMS_Deviation_Detail!C424)","v":""},{"$f":"IF(CMS_Deviation_Detail!D424=\"\",\"\",CMS_Deviation_Detail!D424)","v":""},"",{"$f":"+IF(AI402=\"\",\"\",MAX(AN$1:AN401)+1)","v":""},"","","","","","",null,{"$f":"IF(COUNTIF(AZ$2:AZ402,AZ402)=1,AZ402,\"\")","v":""},{"$f":"IF(Limit_Deviation_Detail!B424=\"\",\"\",Limit_Deviation_Detail!B424)","v":""},{"$f":"IF(Limit_Deviation_Detail!C424=\"\",\"\",Limit_Deviation_Detail!C424)","v":""},{"$f":"IF(Limit_Deviation_Detail!E424=\"\",\"\",Limit_Deviation_Detail!E424)","v":""},"",{"$f":"+IF(AV402=\"\",\"\",MAX(BA$1:BA401)+1)","v":""},"","","",""]
[{"$f":"+IF(D403=\"\",\"\",MAX(A$1:A402)+1)","v":""},{"$f":"IF(Affected_Sources!C425=\"\",\"\",Affected_Sources!C425)","v":""},"",{"$f":"IF(COUNTIF(B$2:B403,B403)=1,B403,\"\")","v":""},null,null,null,null,null,null,null,null,null,null,null,null,null,null,null,{"$f":"+IF(Y403=\"\",\"\",MAX(T$1:T402)+1)","v":""},{"$f":"IF(Limit_Deviation_Detail!B425=\"\",\"\",Limit_Deviation_Detail!B425)","v":""},{"$f":"IF(Limit_Deviation_Detail!C425=\"\",\"\",Limit_Deviation_Detail!C425)","v":""},{"$f":"IF(Limit_Deviation_Detail!E425=\"\",\"\",Limit_Deviation_Detail!E425)","v":""},"",{"$f":"IF(COUNTIF(X$2:X403,X403)=1,X403,\"\")","v":""},"","","","","",null,null,null,null,{"$f":"IF(COUNTIF(AM$2:AM403,AM403)=1,AM403,\"\")","v":""},{"$f":"IF(CMS_Deviation_Detail!B425=\"\",\"\",CMS_Deviation_Detail!B425)","v":""},{"$f":"IF(CMS_Deviation_Detail!C425=\"\",\"\",CMS_Deviation_Detail!C425)","v":""},{"$f":"IF(CMS_Deviation_Detail!D425=\"\",\"\",CMS_Deviation_Detail!D425)","v":""},"",{"$f":"+IF(AI403=\"\",\"\",MAX(AN$1:AN402)+1)","v":""},"","","","","","",null,{"$f":"IF(COUNTIF(AZ$2:AZ403,AZ403)=1,AZ403,\"\")","v":""},{"$f":"IF(Limit_Deviation_Detail!B425=\"\",\"\",Limit_Deviation_Detail!B425)","v":""},{"$f":"IF(Limit_Deviation_Detail!C425=\"\",\"\",Limit_Deviation_Detail!C425)","v":""},{"$f":"IF(Limit_Deviation_Detail!E425=\"\",\"\",Limit_Deviation_Detail!E425)","v":""},"",{"$f":"+IF(AV403=\"\",\"\",MAX(BA$1:BA402)+1)","v":""},"","","",""]
[{"$f":"+IF(D404=\"\",\"\",MAX(A$1:A403)+1)","v":""},{"$f":"IF(Affected_Sources!C426=\"\",\"\",Affected_Sources!C426)","v":""},"",{"$f":"IF(COUNTIF(B$2:B404,B404)=1,B404,\"\")","v":""},null,null,null,null,null,null,null,null,null,null,null,null,null,null,null,{"$f":"+IF(Y404=\"\",\"\",MAX(T$1:T403)+1)","v":""},{"$f":"IF(Limit_Deviation_Detail!B426=\"\",\"\",Limit_Deviation_Detail!B426)","v":""},{"$f":"IF(Limit_Deviation_Detail!C426=\"\",\"\",Limit_Deviation_Detail!C426)","v":""},{"$f":"IF(Limit_Deviation_Detail!E426=\"\",\"\",Limit_Deviation_Detail!E426)","v":""},"",{"$f":"IF(COUNTIF(X$2:X404,X404)=1,X404,\"\")","v":""},"","","","","",null,null,null,null,{"$f":"IF(COUNTIF(AM$2:AM404,AM404)=1,AM404,\"\")","v":""},{"$f":"IF(CMS_Deviation_Detail!B426=\"\",\"\",CMS_Deviation_Detail!B426)","v":""},{"$f":"IF(CMS_Deviation_Detail!C426=\"\",\"\",CMS_Deviation_Detail!C426)","v":""},{"$f":"IF(CMS_Deviation_Detail!D426=\"\",\"\",CMS_Deviation_Detail!D426)","v":""},"",{"$f":"+IF(AI404=\"\",\"\",MAX(AN$1:AN403)+1)","v":""},"","","","","","",null,{"$f":"IF(COUNTIF(AZ$2:AZ404,AZ404)=1,AZ404,\"\")","v":""},{"$f":"IF(Limit_Deviation_Detail!B426=\"\",\"\",Limit_Deviation_Detail!B426)","v":""},{"$f":"IF(Limit_Deviation_Detail!C426=\"\",\"\",Limit_Deviation_Detail!C426)","v":""},{"$f":"IF(Limit_Deviation_Detail!E426=\"\",\"\",Limit_Deviation_Detail!E426)","v":""},"",{"$f":"+IF(AV404=\"\",\"\",MAX(BA$1:BA403)+1)","v":""},"","","",""]
[{"$f":"+IF(D405=\"\",\"\",MAX(A$1:A404)+1)","v":""},{"$f":"IF(Affected_Sources!C427=\"\",\"\",Affected_Sources!C427)","v":""},"",{"$f":"IF(COUNTIF(B$2:B405,B405)=1,B405,\"\")","v":""},null,null,null,null,null,null,null,null,null,null,null,null,null,null,null,{"$f":"+IF(Y405=\"\",\"\",MAX(T$1:T404)+1)","v":""},{"$f":"IF(Limit_Deviation_Detail!B427=\"\",\"\",Limit_Deviation_Detail!B427)","v":""},{"$f":"IF(Limit_Deviation_Detail!C427=\"\",\"\",Limit_Deviation_Detail!C427)","v":""},{"$f":"IF(Limit_Deviation_Detail!E427=\"\",\"\",Limit_Deviation_Detail!E427)","v":""},"",{"$f":"IF(COUNTIF(X$2:X405,X405)=1,X405,\"\")","v":""},"","","","","",null,null,null,null,{"$f":"IF(COUNTIF(AM$2:AM405,AM405)=1,AM405,\"\")","v":""},{"$f":"IF(CMS_Deviation_Detail!B427=\"\",\"\",CMS_Deviation_Detail!B427)","v":""},{"$f":"IF(CMS_Deviation_Detail!C427=\"\",\"\",CMS_Deviation_Detail!C427)","v":""},{"$f":"IF(CMS_Deviation_Detail!D427=\"\",\"\",CMS_Deviation_Detail!D427)","v":""},"",{"$f":"+IF(AI405=\"\",\"\",MAX(AN$1:AN404)+1)","v":""},"","","","","","",null,{"$f":"IF(COUNTIF(AZ$2:AZ405,AZ405)=1,AZ405,\"\")","v":""},{"$f":"IF(Limit_Deviation_Detail!B427=\"\",\"\",Limit_Deviation_Detail!B427)","v":""},{"$f":"IF(Limit_Deviation_Detail!C427=\"\",\"\",Limit_Deviation_Detail!C427)","v":""},{"$f":"IF(Limit_Deviation_Detail!E427=\"\",\"\",Limit_Deviation_Detail!E427)","v":""},"",{"$f":"+IF(AV405=\"\",\"\",MAX(BA$1:BA404)+1)","v":""},"","","",""]
[{"$f":"+IF(D406=\"\",\"\",MAX(A$1:A405)+1)","v":""},{"$f":"IF(Affected_Sources!C428=\"\",\"\",Affected_Sources!C428)","v":""},"",{"$f":"IF(COUNTIF(B$2:B406,B406)=1,B406,\"\")","v":""},null,null,null,null,null,null,null,null,null,null,null,null,null,null,null,{"$f":"+IF(Y406=\"\",\"\",MAX(T$1:T405)+1)","v":""},{"$f":"IF(Limit_Deviation_Detail!B428=\"\",\"\",Limit_Deviation_Detail!B428)","v":""},{"$f":"IF(Limit_Deviation_Detail!C428=\"\",\"\",Limit_Deviation_Detail!C428)","v":""},{"$f":"IF(Limit_Deviation_Detail!E428=\"\",\"\",Limit_Deviation_Detail!E428)","v":""},"",{"$f":"IF(COUNTIF(X$2:X406,X406)=1,X406,\"\")","v":""},"","","","","",null,null,null,null,{"$f":"IF(COUNTIF(AM$2:AM406,AM406)=1,AM406,\"\")","v":""},{"$f":"IF(CMS_Deviation_Detail!B428=\"\",\"\",CMS_Deviation_Detail!B428)","v":""},{"$f":"IF(CMS_Deviation_Detail!C428=\"\",\"\",CMS_Deviation_Detail!C428)","v":""},{"$f":"IF(CMS_Deviation_Detail!D428=\"\",\"\",CMS_Deviation_Detail!D428)","v":""},"",{"$f":"+IF(AI406=\"\",\"\",MAX(AN$1:AN405)+1)","v":""},"","","","","","",null,{"$f":"IF(COUNTIF(AZ$2:AZ406,AZ406)=1,AZ406,\"\")","v":""},{"$f":"IF(Limit_Deviation_Detail!B428=\"\",\"\",Limit_Deviation_Detail!B428)","v":""},{"$f":"IF(Limit_Deviation_Detail!C428=\"\",\"\",Limit_Deviation_Detail!C428)","v":""},{"$f":"IF(Limit_Deviation_Detail!E428=\"\",\"\",Limit_Deviation_Detail!E428)","v":""},"",{"$f":"+IF(AV406=\"\",\"\",MAX(BA$1:BA405)+1)","v":""},"","","",""]
[{"$f":"+IF(D407=\"\",\"\",MAX(A$1:A406)+1)","v":""},{"$f":"IF(Affected_Sources!C429=\"\",\"\",Affected_Sources!C429)","v":""},"",{"$f":"IF(COUNTIF(B$2:B407,B407)=1,B407,\"\")","v":""},null,null,null,null,null,null,null,null,null,null,null,null,null,null,null,{"$f":"+IF(Y407=\"\",\"\",MAX(T$1:T406)+1)","v":""},{"$f":"IF(Limit_Deviation_Detail!B429=\"\",\"\",Limit_Deviation_Detail!B429)","v":""},{"$f":"IF(Limit_Deviation_Detail!C429=\"\",\"\",Limit_Deviation_Detail!C429)","v":""},{"$f":"IF(Limit_Deviation_Detail!E429=\"\",\"\",Limit_Deviation_Detail!E429)","v":""},"",{"$f":"IF(COUNTIF(X$2:X407,X407)=1,X407,\"\")","v":""},"","","","","",null,null,null,null,{"$f":"IF(COUNTIF(AM$2:AM407,AM407)=1,AM407,\"\")","v":""},{"$f":"IF(CMS_Deviation_Detail!B429=\"\",\"\",CMS_Deviation_Detail!B429)","v":""},{"$f":"IF(CMS_Deviation_Detail!C429=\"\",\"\",CMS_Deviation_Detail!C429)","v":""},{"$f":"IF(CMS_Deviation_Detail!D429=\"\",\"\",CMS_Deviation_Detail!D429)","v":""},"",{"$f":"+IF(AI407=\"\",\"\",MAX(AN$1:AN406)+1)","v":""},"","","","","","",null,{"$f":"IF(COUNTIF(AZ$2:AZ407,AZ407)=1,AZ407,\"\")","v":""},{"$f":"IF(Limit_Deviation_Detail!B429=\"\",\"\",Limit_Deviation_Detail!B429)","v":""},{"$f":"IF(Limit_Deviation_Detail!C429=\"\",\"\",Limit_Deviation_Detail!C429)","v":""},{"$f":"IF(Limit_Deviation_Detail!E429=\"\",\"\",Limit_Deviation_Detail!E429)","v":""},"",{"$f":"+IF(AV407=\"\",\"\",MAX(BA$1:BA406)+1)","v":""},"","","",""]
[{"$f":"+IF(D408=\"\",\"\",MAX(A$1:A407)+1)","v":""},{"$f":"IF(Affected_Sources!C430=\"\",\"\",Affected_Sources!C430)","v":""},"",{"$f":"IF(COUNTIF(B$2:B408,B408)=1,B408,\"\")","v":""},null,null,null,null,null,null,null,null,null,null,null,null,null,null,null,{"$f":"+IF(Y408=\"\",\"\",MAX(T$1:T407)+1)","v":""},{"$f":"IF(Limit_Deviation_Detail!B430=\"\",\"\",Limit_Deviation_Detail!B430)","v":""},{"$f":"IF(Limit_Deviation_Detail!C430=\"\",\"\",Limit_Deviation_Detail!C430)","v":""},{"$f":"IF(Limit_Deviation_Detail!E430=\"\",\"\",Limit_Deviation_Detail!E430)","v":""},"",{"$f":"IF(COUNTIF(X$2:X408,X408)=1,X408,\"\")","v":""},"","","","","",null,null,null,null,{"$f":"IF(COUNTIF(AM$2:AM408,AM408)=1,AM408,\"\")","v":""},{"$f":"IF(CMS_Deviation_Detail!B430=\"\",\"\",CMS_Deviation_Detail!B430)","v":""},{"$f":"IF(CMS_Deviation_Detail!C430=\"\",\"\",CMS_Deviation_Detail!C430)","v":""},{"$f":"IF(CMS_Deviation_Detail!D430=\"\",\"\",CMS_Deviation_Detail!D430)","v":""},"",{"$f":"+IF(AI408=\"\",\"\",MAX(AN$1:AN407)+1)","v":""},"","","","","","",null,{"$f":"IF(COUNTIF(AZ$2:AZ408,AZ408)=1,AZ408,\"\")","v":""},{"$f":"IF(Limit_Deviation_Detail!B430=\"\",\"\",Limit_Deviation_Detail!B430)","v":""},{"$f":"IF(Limit_Deviation_Detail!C430=\"\",\"\",Limit_Deviation_Detail!C430)","v":""},{"$f":"IF(Limit_Deviation_Detail!E430=\"\",\"\",Limit_Deviation_Detail!E430)","v":""},"",{"$f":"+IF(AV408=\"\",\"\",MAX(BA$1:BA407)+1)","v":""},"","","",""]
[{"$f":"+IF(D409=\"\",\"\",MAX(A$1:A408)+1)","v":""},{"$f":"IF(Affected_Sources!C431=\"\",\"\",Affected_Sources!C431)","v":""},"",{"$f":"IF(COUNTIF(B$2:B409,B409)=1,B409,\"\")","v":""},null,null,null,null,null,null,null,null,null,null,null,null,null,null,null,{"$f":"+IF(Y409=\"\",\"\",MAX(T$1:T408)+1)","v":""},{"$f":"IF(Limit_Deviation_Detail!B431=\"\",\"\",Limit_Deviation_Detail!B431)","v":""},{"$f":"IF(Limit_Deviation_Detail!C431=\"\",\"\",Limit_Deviation_Detail!C431)","v":""},{"$f":"IF(Limit_Deviation_Detail!E431=\"\",\"\",Limit_Deviation_Detail!E431)","v":""},"",{"$f":"IF(COUNTIF(X$2:X409,X409)=1,X409,\"\")","v":""},"","","","","",null,null,null,null,{"$f":"IF(COUNTIF(AM$2:AM409,AM409)=1,AM409,\"\")","v":""},{"$f":"IF(CMS_Deviation_Detail!B431=\"\",\"\",CMS_Deviation_Detail!B431)","v":""},{"$f":"IF(CMS_Deviation_Detail!C431=\"\",\"\",CMS_Deviation_Detail!C431)","v":""},{"$f":"IF(CMS_Deviation_Detail!D431=\"\",\"\",CMS_Deviation_Detail!D431)","v":""},"",{"$f":"+IF(AI409=\"\",\"\",MAX(AN$1:AN408)+1)","v":""},"","","","","","",null,{"$f":"IF(COUNTIF(AZ$2:AZ409,AZ409)=1,AZ409,\"\")","v":""},{"$f":"IF(Limit_Deviation_Detail!B431=\"\",\"\",Limit_Deviation_Detail!B431)","v":""},{"$f":"IF(Limit_Deviation_Detail!C431=\"\",\"\",Limit_Deviation_Detail!C431)","v":""},{"$f":"IF(Limit_Deviation_Detail!E431=\"\",\"\",Limit_Deviation_Detail!E431)","v":""},"",{"$f":"+IF(AV409=\"\",\"\",MAX(BA$1:BA408)+1)","v":""},"","","",""]
[{"$f":"+IF(D410=\"\",\"\",MAX(A$1:A409)+1)","v":""},{"$f":"IF(Affected_Sources!C432=\"\",\"\",Affected_Sources!C432)","v":""},"",{"$f":"IF(COUNTIF(B$2:B410,B410)=1,B410,\"\")","v":""},null,null,null,null,null,null,null,null,null,null,null,null,null,null,null,{"$f":"+IF(Y410=\"\",\"\",MAX(T$1:T409)+1)","v":""},{"$f":"IF(Limit_Deviation_Detail!B432=\"\",\"\",Limit_Deviation_Detail!B432)","v":""},{"$f":"IF(Limit_Deviation_Detail!C432=\"\",\"\",Limit_Deviation_Detail!C432)","v":""},{"$f":"IF(Limit_Deviation_Detail!E432=\"\",\"\",Limit_Deviation_Detail!E432)","v":""},"",{"$f":"IF(COUNTIF(X$2:X410,X410)=1,X410,\"\")","v":""},"","","","","",null,null,null,null,{"$f":"IF(COUNTIF(AM$2:AM410,AM410)=1,AM410,\"\")","v":""},{"$f":"IF(CMS_Deviation_Detail!B432=\"\",\"\",CMS_Deviation_Detail!B432)","v":""},{"$f":"IF(CMS_Deviation_Detail!C432=\"\",\"\",CMS_Deviation_Detail!C432)","v":""},{"$f":"IF(CMS_Deviation_Detail!D432=\"\",\"\",CMS_Deviation_Detail!D432)","v":""},"",{"$f":"+IF(AI410=\"\",\"\",MAX(AN$1:AN409)+1)","v":""},"","","","","","",null,{"$f":"IF(COUNTIF(AZ$2:AZ410,AZ410)=1,AZ410,\"\")","v":""},{"$f":"IF(Limit_Deviation_Detail!B432=\"\",\"\",Limit_Deviation_Detail!B432)","v":""},{"$f":"IF(Limit_Deviation_Detail!C432=\"\",\"\",Limit_Deviation_Detail!C432)","v":""},{"$f":"IF(Limit_Deviation_Detail!E432=\"\",\"\",Limit_Deviation_Detail!E432)","v":""},"",{"$f":"+IF(AV410=\"\",\"\",MAX(BA$1:BA409)+1)","v":""},"","","",""]
[{"$f":"+IF(D411=\"\",\"\",MAX(A$1:A410)+1)","v":""},{"$f":"IF(Affected_Sources!C433=\"\",\"\",Affected_Sources!C433)","v":""},"",{"$f":"IF(COUNTIF(B$2:B411,B411)=1,B411,\"\")","v":""},null,null,null,null,null,null,null,null,null,null,null,null,null,null,null,{"$f":"+IF(Y411=\"\",\"\",MAX(T$1:T410)+1)","v":""},{"$f":"IF(Limit_Deviation_Detail!B433=\"\",\"\",Limit_Deviation_Detail!B433)","v":""},{"$f":"IF(Limit_Deviation_Detail!C433=\"\",\"\",Limit_Deviation_Detail!C433)","v":""},{"$f":"IF(Limit_Deviation_Detail!E433=\"\",\"\",Limit_Deviation_Detail!E433)","v":""},"",{"$f":"IF(COUNTIF(X$2:X411,X411)=1,X411,\"\")","v":""},"","","","","",null,null,null,null,{"$f":"IF(COUNTIF(AM$2:AM411,AM411)=1,AM411,\"\")","v":""},{"$f":"IF(CMS_Deviation_Detail!B433=\"\",\"\",CMS_Deviation_Detail!B433)","v":""},{"$f":"IF(CMS_Deviation_Detail!C433=\"\",\"\",CMS_Deviation_Detail!C433)","v":""},{"$f":"IF(CMS_Deviation_Detail!D433=\"\",\"\",CMS_Deviation_Detail!D433)","v":""},"",{"$f":"+IF(AI411=\"\",\"\",MAX(AN$1:AN410)+1)","v":""},"","","","","","",null,{"$f":"IF(COUNTIF(AZ$2:AZ411,AZ411)=1,AZ411,\"\")","v":""},{"$f":"IF(Limit_Deviation_Detail!B433=\"\",\"\",Limit_Deviation_Detail!B433)","v":""},{"$f":"IF(Limit_Deviation_Detail!C433=\"\",\"\",Limit_Deviation_Detail!C433)","v":""},{"$f":"IF(Limit_Deviation_Detail!E433=\"\",\"\",Limit_Deviation_Detail!E433)","v":""},"",{"$f":"+IF(AV411=\"\",\"\",MAX(BA$1:BA410)+1)","v":""},"","","",""]
[{"$f":"+IF(D412=\"\",\"\",MAX(A$1:A411)+1)","v":""},{"$f":"IF(Affected_Sources!C434=\"\",\"\",Affected_Sources!C434)","v":""},"",{"$f":"IF(COUNTIF(B$2:B412,B412)=1,B412,\"\")","v":""},null,null,null,null,null,null,null,null,null,null,null,null,null,null,null,{"$f":"+IF(Y412=\"\",\"\",MAX(T$1:T411)+1)","v":""},{"$f":"IF(Limit_Deviation_Detail!B434=\"\",\"\",Limit_Deviation_Detail!B434)","v":""},{"$f":"IF(Limit_Deviation_Detail!C434=\"\",\"\",Limit_Deviation_Detail!C434)","v":""},{"$f":"IF(Limit_Deviation_Detail!E434=\"\",\"\",Limit_Deviation_Detail!E434)","v":""},"",{"$f":"IF(COUNTIF(X$2:X412,X412)=1,X412,\"\")","v":""},"","","","","",null,null,null,null,{"$f":"IF(COUNTIF(AM$2:AM412,AM412)=1,AM412,\"\")","v":""},{"$f":"IF(CMS_Deviation_Detail!B434=\"\",\"\",CMS_Deviation_Detail!B434)","v":""},{"$f":"IF(CMS_Deviation_Detail!C434=\"\",\"\",CMS_Deviation_Detail!C434)","v":""},{"$f":"IF(CMS_Deviation_Detail!D434=\"\",\"\",CMS_Deviation_Detail!D434)","v":""},"",{"$f":"+IF(AI412=\"\",\"\",MAX(AN$1:AN411)+1)","v":""},"","","","","","",null,{"$f":"IF(COUNTIF(AZ$2:AZ412,AZ412)=1,AZ412,\"\")","v":""},{"$f":"IF(Limit_Deviation_Detail!B434=\"\",\"\",Limit_Deviation_Detail!B434)","v":""},{"$f":"IF(Limit_Deviation_Detail!C434=\"\",\"\",Limit_Deviation_Detail!C434)","v":""},{"$f":"IF(Limit_Deviation_Detail!E434=\"\",\"\",Limit_Deviation_Detail!E434)","v":""},"",{"$f":"+IF(AV412=\"\",\"\",MAX(BA$1:BA411)+1)","v":""},"","","",""]
[{"$f":"+IF(D413=\"\",\"\",MAX(A$1:A412)+1)","v":""},{"$f":"IF(Affected_Sources!C435=\"\",\"\",Affected_Sources!C435)","v":""},"",{"$f":"IF(COUNTIF(B$2:B413,B413)=1,B413,\"\")","v":""},null,null,null,null,null,null,null,null,null,null,null,null,null,null,null,{"$f":"+IF(Y413=\"\",\"\",MAX(T$1:T412)+1)","v":""},{"$f":"IF(Limit_Deviation_Detail!B435=\"\",\"\",Limit_Deviation_Detail!B435)","v":""},{"$f":"IF(Limit_Deviation_Detail!C435=\"\",\"\",Limit_Deviation_Detail!C435)","v":""},{"$f":"IF(Limit_Deviation_Detail!E435=\"\",\"\",Limit_Deviation_Detail!E435)","v":""},"",{"$f":"IF(COUNTIF(X$2:X413,X413)=1,X413,\"\")","v":""},"","","","","",null,null,null,null,{"$f":"IF(COUNTIF(AM$2:AM413,AM413)=1,AM413,\"\")","v":""},{"$f":"IF(CMS_Deviation_Detail!B435=\"\",\"\",CMS_Deviation_Detail!B435)","v":""},{"$f":"IF(CMS_Deviation_Detail!C435=\"\",\"\",CMS_Deviation_Detail!C435)","v":""},{"$f":"IF(CMS_Deviation_Detail!D435=\"\",\"\",CMS_Deviation_Detail!D435)","v":""},"",{"$f":"+IF(AI413=\"\",\"\",MAX(AN$1:AN412)+1)","v":""},"","","","","","",null,{"$f":"IF(COUNTIF(AZ$2:AZ413,AZ413)=1,AZ413,\"\")","v":""},{"$f":"IF(Limit_Deviation_Detail!B435=\"\",\"\",Limit_Deviation_Detail!B435)","v":""},{"$f":"IF(Limit_Deviation_Detail!C435=\"\",\"\",Limit_Deviation_Detail!C435)","v":""},{"$f":"IF(Limit_Deviation_Detail!E435=\"\",\"\",Limit_Deviation_Detail!E435)","v":""},"",{"$f":"+IF(AV413=\"\",\"\",MAX(BA$1:BA412)+1)","v":""},"","","",""]
[{"$f":"+IF(D414=\"\",\"\",MAX(A$1:A413)+1)","v":""},{"$f":"IF(Affected_Sources!C436=\"\",\"\",Affected_Sources!C436)","v":""},"",{"$f":"IF(COUNTIF(B$2:B414,B414)=1,B414,\"\")","v":""},null,null,null,null,null,null,null,null,null,null,null,null,null,null,null,{"$f":"+IF(Y414=\"\",\"\",MAX(T$1:T413)+1)","v":""},{"$f":"IF(Limit_Deviation_Detail!B436=\"\",\"\",Limit_Deviation_Detail!B436)","v":""},{"$f":"IF(Limit_Deviation_Detail!C436=\"\",\"\",Limit_Deviation_Detail!C436)","v":""},{"$f":"IF(Limit_Deviation_Detail!E436=\"\",\"\",Limit_Deviation_Detail!E436)","v":""},"",{"$f":"IF(COUNTIF(X$2:X414,X414)=1,X414,\"\")","v":""},"","","","","",null,null,null,null,{"$f":"IF(COUNTIF(AM$2:AM414,AM414)=1,AM414,\"\")","v":""},{"$f":"IF(CMS_Deviation_Detail!B436=\"\",\"\",CMS_Deviation_Detail!B436)","v":""},{"$f":"IF(CMS_Deviation_Detail!C436=\"\",\"\",CMS_Deviation_Detail!C436)","v":""},{"$f":"IF(CMS_Deviation_Detail!D436=\"\",\"\",CMS_Deviation_Detail!D436)","v":""},"",{"$f":"+IF(AI414=\"\",\"\",MAX(AN$1:AN413)+1)","v":""},"","","","","","",null,{"$f":"IF(COUNTIF(AZ$2:AZ414,AZ414)=1,AZ414,\"\")","v":""},{"$f":"IF(Limit_Deviation_Detail!B436=\"\",\"\",Limit_Deviation_Detail!B436)","v":""},{"$f":"IF(Limit_Deviation_Detail!C436=\"\",\"\",Limit_Deviation_Detail!C436)","v":""},{"$f":"IF(Limit_Deviation_Detail!E436=\"\",\"\",Limit_Deviation_Detail!E436)","v":""},"",{"$f":"+IF(AV414=\"\",\"\",MAX(BA$1:BA413)+1)","v":""},"","","",""]
[{"$f":"+IF(D415=\"\",\"\",MAX(A$1:A414)+1)","v":""},{"$f":"IF(Affected_Sources!C437=\"\",\"\",Affected_Sources!C437)","v":""},"",{"$f":"IF(COUNTIF(B$2:B415,B415)=1,B415,\"\")","v":""},null,null,null,null,null,null,null,null,null,null,null,null,null,null,null,{"$f":"+IF(Y415=\"\",\"\",MAX(T$1:T414)+1)","v":""},{"$f":"IF(Limit_Deviation_Detail!B437=\"\",\"\",Limit_Deviation_Detail!B437)","v":""},{"$f":"IF(Limit_Deviation_Detail!C437=\"\",\"\",Limit_Deviation_Detail!C437)","v":""},{"$f":"IF(Limit_Deviation_Detail!E437=\"\",\"\",Limit_Deviation_Detail!E437)","v":""},"",{"$f":"IF(COUNTIF(X$2:X415,X415)=1,X415,\"\")","v":""},"","","","","",null,null,null,null,{"$f":"IF(COUNTIF(AM$2:AM415,AM415)=1,AM415,\"\")","v":""},{"$f":"IF(CMS_Deviation_Detail!B437=\"\",\"\",CMS_Deviation_Detail!B437)","v":""},{"$f":"IF(CMS_Deviation_Detail!C437=\"\",\"\",CMS_Deviation_Detail!C437)","v":""},{"$f":"IF(CMS_Deviation_Detail!D437=\"\",\"\",CMS_Deviation_Detail!D437)","v":""},"",{"$f":"+IF(AI415=\"\",\"\",MAX(AN$1:AN414)+1)","v":""},"","","","","","",null,{"$f":"IF(COUNTIF(AZ$2:AZ415,AZ415)=1,AZ415,\"\")","v":""},{"$f":"IF(Limit_Deviation_Detail!B437=\"\",\"\",Limit_Deviation_Detail!B437)","v":""},{"$f":"IF(Limit_Deviation_Detail!C437=\"\",\"\",Limit_Deviation_Detail!C437)","v":""},{"$f":"IF(Limit_Deviation_Detail!E437=\"\",\"\",Limit_Deviation_Detail!E437)","v":""},"",{"$f":"+IF(AV415=\"\",\"\",MAX(BA$1:BA414)+1)","v":""},"","","",""]
[{"$f":"+IF(D416=\"\",\"\",MAX(A$1:A415)+1)","v":""},{"$f":"IF(Affected_Sources!C438=\"\",\"\",Affected_Sources!C438)","v":""},"",{"$f":"IF(COUNTIF(B$2:B416,B416)=1,B416,\"\")","v":""},null,null,null,null,null,null,null,null,null,null,null,null,null,null,null,{"$f":"+IF(Y416=\"\",\"\",MAX(T$1:T415)+1)","v":""},{"$f":"IF(Limit_Deviation_Detail!B438=\"\",\"\",Limit_Deviation_Detail!B438)","v":""},{"$f":"IF(Limit_Deviation_Detail!C438=\"\",\"\",Limit_Deviation_Detail!C438)","v":""},{"$f":"IF(Limit_Deviation_Detail!E438=\"\",\"\",Limit_Deviation_Detail!E438)","v":""},"",{"$f":"IF(COUNTIF(X$2:X416,X416)=1,X416,\"\")","v":""},"","","","","",null,null,null,null,{"$f":"IF(COUNTIF(AM$2:AM416,AM416)=1,AM416,\"\")","v":""},{"$f":"IF(CMS_Deviation_Detail!B438=\"\",\"\",CMS_Deviation_Detail!B438)","v":""},{"$f":"IF(CMS_Deviation_Detail!C438=\"\",\"\",CMS_Deviation_Detail!C438)","v":""},{"$f":"IF(CMS_Deviation_Detail!D438=\"\",\"\",CMS_Deviation_Detail!D438)","v":""},"",{"$f":"+IF(AI416=\"\",\"\",MAX(AN$1:AN415)+1)","v":""},"","","","","","",null,{"$f":"IF(COUNTIF(AZ$2:AZ416,AZ416)=1,AZ416,\"\")","v":""},{"$f":"IF(Limit_Deviation_Detail!B438=\"\",\"\",Limit_Deviation_Detail!B438)","v":""},{"$f":"IF(Limit_Deviation_Detail!C438=\"\",\"\",Limit_Deviation_Detail!C438)","v":""},{"$f":"IF(Limit_Deviation_Detail!E438=\"\",\"\",Limit_Deviation_Detail!E438)","v":""},"",{"$f":"+IF(AV416=\"\",\"\",MAX(BA$1:BA415)+1)","v":""},"","","",""]
[{"$f":"+IF(D417=\"\",\"\",MAX(A$1:A416)+1)","v":""},{"$f":"IF(Affected_Sources!C439=\"\",\"\",Affected_Sources!C439)","v":""},"",{"$f":"IF(COUNTIF(B$2:B417,B417)=1,B417,\"\")","v":""},null,null,null,null,null,null,null,null,null,null,null,null,null,null,null,{"$f":"+IF(Y417=\"\",\"\",MAX(T$1:T416)+1)","v":""},{"$f":"IF(Limit_Deviation_Detail!B439=\"\",\"\",Limit_Deviation_Detail!B439)","v":""},{"$f":"IF(Limit_Deviation_Detail!C439=\"\",\"\",Limit_Deviation_Detail!C439)","v":""},{"$f":"IF(Limit_Deviation_Detail!E439=\"\",\"\",Limit_Deviation_Detail!E439)","v":""},"",{"$f":"IF(COUNTIF(X$2:X417,X417)=1,X417,\"\")","v":""},"","","","","",null,null,null,null,{"$f":"IF(COUNTIF(AM$2:AM417,AM417)=1,AM417,\"\")","v":""},{"$f":"IF(CMS_Deviation_Detail!B439=\"\",\"\",CMS_Deviation_Detail!B439)","v":""},{"$f":"IF(CMS_Deviation_Detail!C439=\"\",\"\",CMS_Deviation_Detail!C439)","v":""},{"$f":"IF(CMS_Deviation_Detail!D439=\"\",\"\",CMS_Deviation_Detail!D439)","v":""},"",{"$f":"+IF(AI417=\"\",\"\",MAX(AN$1:AN416)+1)","v":""},"","","","","","",null,{"$f":"IF(COUNTIF(AZ$2:AZ417,AZ417)=1,AZ417,\"\")","v":""},{"$f":"IF(Limit_Deviation_Detail!B439=\"\",\"\",Limit_Deviation_Detail!B439)","v":""},{"$f":"IF(Limit_Deviation_Detail!C439=\"\",\"\",Limit_Deviation_Detail!C439)","v":""},{"$f":"IF(Limit_Deviation_Detail!E439=\"\",\"\",Limit_Deviation_Detail!E439)","v":""},"",{"$f":"+IF(AV417=\"\",\"\",MAX(BA$1:BA416)+1)","v":""},"","","",""]
[{"$f":"+IF(D418=\"\",\"\",MAX(A$1:A417)+1)","v":""},{"$f":"IF(Affected_Sources!C440=\"\",\"\",Affected_Sources!C440)","v":""},"",{"$f":"IF(COUNTIF(B$2:B418,B418)=1,B418,\"\")","v":""},null,null,null,null,null,null,null,null,null,null,null,null,null,null,null,{"$f":"+IF(Y418=\"\",\"\",MAX(T$1:T417)+1)","v":""},{"$f":"IF(Limit_Deviation_Detail!B440=\"\",\"\",Limit_Deviation_Detail!B440)","v":""},{"$f":"IF(Limit_Deviation_Detail!C440=\"\",\"\",Limit_Deviation_Detail!C440)","v":""},{"$f":"IF(Limit_Deviation_Detail!E440=\"\",\"\",Limit_Deviation_Detail!E440)","v":""},"",{"$f":"IF(COUNTIF(X$2:X418,X418)=1,X418,\"\")","v":""},"","","","","",null,null,null,null,{"$f":"IF(COUNTIF(AM$2:AM418,AM418)=1,AM418,\"\")","v":""},{"$f":"IF(CMS_Deviation_Detail!B440=\"\",\"\",CMS_Deviation_Detail!B440)","v":""},{"$f":"IF(CMS_Deviation_Detail!C440=\"\",\"\",CMS_Deviation_Detail!C440)","v":""},{"$f":"IF(CMS_Deviation_Detail!D440=\"\",\"\",CMS_Deviation_Detail!D440)","v":""},"",{"$f":"+IF(AI418=\"\",\"\",MAX(AN$1:AN417)+1)","v":""},"","","","","","",null,{"$f":"IF(COUNTIF(AZ$2:AZ418,AZ418)=1,AZ418,\"\")","v":""},{"$f":"IF(Limit_Deviation_Detail!B440=\"\",\"\",Limit_Deviation_Detail!B440)","v":""},{"$f":"IF(Limit_Deviation_Detail!C440=\"\",\"\",Limit_Deviation_Detail!C440)","v":""},{"$f":"IF(Limit_Deviation_Detail!E440=\"\",\"\",Limit_Deviation_Detail!E440)","v":""},"",{"$f":"+IF(AV418=\"\",\"\",MAX(BA$1:BA417)+1)","v":""},"","","",""]
[{"$f":"+IF(D419=\"\",\"\",MAX(A$1:A418)+1)","v":""},{"$f":"IF(Affected_Sources!C441=\"\",\"\",Affected_Sources!C441)","v":""},"",{"$f":"IF(COUNTIF(B$2:B419,B419)=1,B419,\"\")","v":""},null,null,null,null,null,null,null,null,null,null,null,null,null,null,null,{"$f":"+IF(Y419=\"\",\"\",MAX(T$1:T418)+1)","v":""},{"$f":"IF(Limit_Deviation_Detail!B441=\"\",\"\",Limit_Deviation_Detail!B441)","v":""},{"$f":"IF(Limit_Deviation_Detail!C441=\"\",\"\",Limit_Deviation_Detail!C441)","v":""},{"$f":"IF(Limit_Deviation_Detail!E441=\"\",\"\",Limit_Deviation_Detail!E441)","v":""},"",{"$f":"IF(COUNTIF(X$2:X419,X419)=1,X419,\"\")","v":""},"","","","","",null,null,null,null,{"$f":"IF(COUNTIF(AM$2:AM419,AM419)=1,AM419,\"\")","v":""},{"$f":"IF(CMS_Deviation_Detail!B441=\"\",\"\",CMS_Deviation_Detail!B441)","v":""},{"$f":"IF(CMS_Deviation_Detail!C441=\"\",\"\",CMS_Deviation_Detail!C441)","v":""},{"$f":"IF(CMS_Deviation_Detail!D441=\"\",\"\",CMS_Deviation_Detail!D441)","v":""},"",{"$f":"+IF(AI419=\"\",\"\",MAX(AN$1:AN418)+1)","v":""},"","","","","","",null,{"$f":"IF(COUNTIF(AZ$2:AZ419,AZ419)=1,AZ419,\"\")","v":""},{"$f":"IF(Limit_Deviation_Detail!B441=\"\",\"\",Limit_Deviation_Detail!B441)","v":""},{"$f":"IF(Limit_Deviation_Detail!C441=\"\",\"\",Limit_Deviation_Detail!C441)","v":""},{"$f":"IF(Limit_Deviation_Detail!E441=\"\",\"\",Limit_Deviation_Detail!E441)","v":""},"",{"$f":"+IF(AV419=\"\",\"\",MAX(BA$1:BA418)+1)","v":""},"","","",""]
[{"$f":"+IF(D420=\"\",\"\",MAX(A$1:A419)+1)","v":""},{"$f":"IF(Affected_Sources!C442=\"\",\"\",Affected_Sources!C442)","v":""},"",{"$f":"IF(COUNTIF(B$2:B420,B420)=1,B420,\"\")","v":""},null,null,null,null,null,null,null,null,null,null,null,null,null,null,null,{"$f":"+IF(Y420=\"\",\"\",MAX(T$1:T419)+1)","v":""},{"$f":"IF(Limit_Deviation_Detail!B442=\"\",\"\",Limit_Deviation_Detail!B442)","v":""},{"$f":"IF(Limit_Deviation_Detail!C442=\"\",\"\",Limit_Deviation_Detail!C442)","v":""},{"$f":"IF(Limit_Deviation_Detail!E442=\"\",\"\",Limit_Deviation_Detail!E442)","v":""},"",{"$f":"IF(COUNTIF(X$2:X420,X420)=1,X420,\"\")","v":""},"","","","","",null,null,null,null,{"$f":"IF(COUNTIF(AM$2:AM420,AM420)=1,AM420,\"\")","v":""},{"$f":"IF(CMS_Deviation_Detail!B442=\"\",\"\",CMS_Deviation_Detail!B442)","v":""},{"$f":"IF(CMS_Deviation_Detail!C442=\"\",\"\",CMS_Deviation_Detail!C442)","v":""},{"$f":"IF(CMS_Deviation_Detail!D442=\"\",\"\",CMS_Deviation_Detail!D442)","v":""},"",{"$f":"+IF(AI420=\"\",\"\",MAX(AN$1:AN419)+1)","v":""},"","","","","","",null,{"$f":"IF(COUNTIF(AZ$2:AZ420,AZ420)=1,AZ420,\"\")","v":""},{"$f":"IF(Limit_Deviation_Detail!B442=\"\",\"\",Limit_Deviation_Detail!B442)","v":""},{"$f":"IF(Limit_Deviation_Detail!C442=\"\",\"\",Limit_Deviation_Detail!C442)","v":""},{"$f":"IF(Limit_Deviation_Detail!E442=\"\",\"\",Limit_Deviation_Detail!E442)","v":""},"",{"$f":"+IF(AV420=\"\",\"\",MAX(BA$1:BA419)+1)","v":""},"","","",""]
[{"$f":"+IF(D421=\"\",\"\",MAX(A$1:A420)+1)","v":""},{"$f":"IF(Affected_Sources!C443=\"\",\"\",Affected_Sources!C443)","v":""},"",{"$f":"IF(COUNTIF(B$2:B421,B421)=1,B421,\"\")","v":""},null,null,null,null,null,null,null,null,null,null,null,null,null,null,null,{"$f":"+IF(Y421=\"\",\"\",MAX(T$1:T420)+1)","v":""},{"$f":"IF(Limit_Deviation_Detail!B443=\"\",\"\",Limit_Deviation_Detail!B443)","v":""},{"$f":"IF(Limit_Deviation_Detail!C443=\"\",\"\",Limit_Deviation_Detail!C443)","v":""},{"$f":"IF(Limit_Deviation_Detail!E443=\"\",\"\",Limit_Deviation_Detail!E443)","v":""},"",{"$f":"IF(COUNTIF(X$2:X421,X421)=1,X421,\"\")","v":""},"","","","","",null,null,null,null,{"$f":"IF(COUNTIF(AM$2:AM421,AM421)=1,AM421,\"\")","v":""},{"$f":"IF(CMS_Deviation_Detail!B443=\"\",\"\",CMS_Deviation_Detail!B443)","v":""},{"$f":"IF(CMS_Deviation_Detail!C443=\"\",\"\",CMS_Deviation_Detail!C443)","v":""},{"$f":"IF(CMS_Deviation_Detail!D443=\"\",\"\",CMS_Deviation_Detail!D443)","v":""},"",{"$f":"+IF(AI421=\"\",\"\",MAX(AN$1:AN420)+1)","v":""},"","","","","","",null,{"$f":"IF(COUNTIF(AZ$2:AZ421,AZ421)=1,AZ421,\"\")","v":""},{"$f":"IF(Limit_Deviation_Detail!B443=\"\",\"\",Limit_Deviation_Detail!B443)","v":""},{"$f":"IF(Limit_Deviation_Detail!C443=\"\",\"\",Limit_Deviation_Detail!C443)","v":""},{"$f":"IF(Limit_Deviation_Detail!E443=\"\",\"\",Limit_Deviation_Detail!E443)","v":""},"",{"$f":"+IF(AV421=\"\",\"\",MAX(BA$1:BA420)+1)","v":""},"","","",""]
[{"$f":"+IF(D422=\"\",\"\",MAX(A$1:A421)+1)","v":""},{"$f":"IF(Affected_Sources!C444=\"\",\"\",Affected_Sources!C444)","v":""},"",{"$f":"IF(COUNTIF(B$2:B422,B422)=1,B422,\"\")","v":""},null,null,null,null,null,null,null,null,null,null,null,null,null,null,null,{"$f":"+IF(Y422=\"\",\"\",MAX(T$1:T421)+1)","v":""},{"$f":"IF(Limit_Deviation_Detail!B444=\"\",\"\",Limit_Deviation_Detail!B444)","v":""},{"$f":"IF(Limit_Deviation_Detail!C444=\"\",\"\",Limit_Deviation_Detail!C444)","v":""},{"$f":"IF(Limit_Deviation_Detail!E444=\"\",\"\",Limit_Deviation_Detail!E444)","v":""},"",{"$f":"IF(COUNTIF(X$2:X422,X422)=1,X422,\"\")","v":""},"","","","","",null,null,null,null,{"$f":"IF(COUNTIF(AM$2:AM422,AM422)=1,AM422,\"\")","v":""},{"$f":"IF(CMS_Deviation_Detail!B444=\"\",\"\",CMS_Deviation_Detail!B444)","v":""},{"$f":"IF(CMS_Deviation_Detail!C444=\"\",\"\",CMS_Deviation_Detail!C444)","v":""},{"$f":"IF(CMS_Deviation_Detail!D444=\"\",\"\",CMS_Deviation_Detail!D444)","v":""},"",{"$f":"+IF(AI422=\"\",\"\",MAX(AN$1:AN421)+1)","v":""},"","","","","","",null,{"$f":"IF(COUNTIF(AZ$2:AZ422,AZ422)=1,AZ422,\"\")","v":""},{"$f":"IF(Limit_Deviation_Detail!B444=\"\",\"\",Limit_Deviation_Detail!B444)","v":""},{"$f":"IF(Limit_Deviation_Detail!C444=\"\",\"\",Limit_Deviation_Detail!C444)","v":""},{"$f":"IF(Limit_Deviation_Detail!E444=\"\",\"\",Limit_Deviation_Detail!E444)","v":""},"",{"$f":"+IF(AV422=\"\",\"\",MAX(BA$1:BA421)+1)","v":""},"","","",""]
[{"$f":"+IF(D423=\"\",\"\",MAX(A$1:A422)+1)","v":""},{"$f":"IF(Affected_Sources!C445=\"\",\"\",Affected_Sources!C445)","v":""},"",{"$f":"IF(COUNTIF(B$2:B423,B423)=1,B423,\"\")","v":""},null,null,null,null,null,null,null,null,null,null,null,null,null,null,null,{"$f":"+IF(Y423=\"\",\"\",MAX(T$1:T422)+1)","v":""},{"$f":"IF(Limit_Deviation_Detail!B445=\"\",\"\",Limit_Deviation_Detail!B445)","v":""},{"$f":"IF(Limit_Deviation_Detail!C445=\"\",\"\",Limit_Deviation_Detail!C445)","v":""},{"$f":"IF(Limit_Deviation_Detail!E445=\"\",\"\",Limit_Deviation_Detail!E445)","v":""},"",{"$f":"IF(COUNTIF(X$2:X423,X423)=1,X423,\"\")","v":""},"","","","","",null,null,null,null,{"$f":"IF(COUNTIF(AM$2:AM423,AM423)=1,AM423,\"\")","v":""},{"$f":"IF(CMS_Deviation_Detail!B445=\"\",\"\",CMS_Deviation_Detail!B445)","v":""},{"$f":"IF(CMS_Deviation_Detail!C445=\"\",\"\",CMS_Deviation_Detail!C445)","v":""},{"$f":"IF(CMS_Deviation_Detail!D445=\"\",\"\",CMS_Deviation_Detail!D445)","v":""},"",{"$f":"+IF(AI423=\"\",\"\",MAX(AN$1:AN422)+1)","v":""},"","","","","","",null,{"$f":"IF(COUNTIF(AZ$2:AZ423,AZ423)=1,AZ423,\"\")","v":""},{"$f":"IF(Limit_Deviation_Detail!B445=\"\",\"\",Limit_Deviation_Detail!B445)","v":""},{"$f":"IF(Limit_Deviation_Detail!C445=\"\",\"\",Limit_Deviation_Detail!C445)","v":""},{"$f":"IF(Limit_Deviation_Detail!E445=\"\",\"\",Limit_Deviation_Detail!E445)","v":""},"",{"$f":"+IF(AV423=\"\",\"\",MAX(BA$1:BA422)+1)","v":""},"","","",""]
[{"$f":"+IF(D424=\"\",\"\",MAX(A$1:A423)+1)","v":""},{"$f":"IF(Affected_Sources!C446=\"\",\"\",Affected_Sources!C446)","v":""},"",{"$f":"IF(COUNTIF(B$2:B424,B424)=1,B424,\"\")","v":""},null,null,null,null,null,null,null,null,null,null,null,null,null,null,null,{"$f":"+IF(Y424=\"\",\"\",MAX(T$1:T423)+1)","v":""},{"$f":"IF(Limit_Deviation_Detail!B446=\"\",\"\",Limit_Deviation_Detail!B446)","v":""},{"$f":"IF(Limit_Deviation_Detail!C446=\"\",\"\",Limit_Deviation_Detail!C446)","v":""},{"$f":"IF(Limit_Deviation_Detail!E446=\"\",\"\",Limit_Deviation_Detail!E446)","v":""},"",{"$f":"IF(COUNTIF(X$2:X424,X424)=1,X424,\"\")","v":""},"","","","","",null,null,null,null,{"$f":"IF(COUNTIF(AM$2:AM424,AM424)=1,AM424,\"\")","v":""},{"$f":"IF(CMS_Deviation_Detail!B446=\"\",\"\",CMS_Deviation_Detail!B446)","v":""},{"$f":"IF(CMS_Deviation_Detail!C446=\"\",\"\",CMS_Deviation_Detail!C446)","v":""},{"$f":"IF(CMS_Deviation_Detail!D446=\"\",\"\",CMS_Deviation_Detail!D446)","v":""},"",{"$f":"+IF(AI424=\"\",\"\",MAX(AN$1:AN423)+1)","v":""},"","","","","","",null,{"$f":"IF(COUNTIF(AZ$2:AZ424,AZ424)=1,AZ424,\"\")","v":""},{"$f":"IF(Limit_Deviation_Detail!B446=\"\",\"\",Limit_Deviation_Detail!B446)","v":""},{"$f":"IF(Limit_Deviation_Detail!C446=\"\",\"\",Limit_Deviation_Detail!C446)","v":""},{"$f":"IF(Limit_Deviation_Detail!E446=\"\",\"\",Limit_Deviation_Detail!E446)","v":""},"",{"$f":"+IF(AV424=\"\",\"\",MAX(BA$1:BA423)+1)","v":""},"","","",""]
[{"$f":"+IF(D425=\"\",\"\",MAX(A$1:A424)+1)","v":""},{"$f":"IF(Affected_Sources!C447=\"\",\"\",Affected_Sources!C447)","v":""},"",{"$f":"IF(COUNTIF(B$2:B425,B425)=1,B425,\"\")","v":""},null,null,null,null,null,null,null,null,null,null,null,null,null,null,null,{"$f":"+IF(Y425=\"\",\"\",MAX(T$1:T424)+1)","v":""},{"$f":"IF(Limit_Deviation_Detail!B447=\"\",\"\",Limit_Deviation_Detail!B447)","v":""},{"$f":"IF(Limit_Deviation_Detail!C447=\"\",\"\",Limit_Deviation_Detail!C447)","v":""},{"$f":"IF(Limit_Deviation_Detail!E447=\"\",\"\",Limit_Deviation_Detail!E447)","v":""},"",{"$f":"IF(COUNTIF(X$2:X425,X425)=1,X425,\"\")","v":""},"","","","","",null,null,null,null,{"$f":"IF(COUNTIF(AM$2:AM425,AM425)=1,AM425,\"\")","v":""},{"$f":"IF(CMS_Deviation_Detail!B447=\"\",\"\",CMS_Deviation_Detail!B447)","v":""},{"$f":"IF(CMS_Deviation_Detail!C447=\"\",\"\",CMS_Deviation_Detail!C447)","v":""},{"$f":"IF(CMS_Deviation_Detail!D447=\"\",\"\",CMS_Deviation_Detail!D447)","v":""},"",{"$f":"+IF(AI425=\"\",\"\",MAX(AN$1:AN424)+1)","v":""},"","","","","","",null,{"$f":"IF(COUNTIF(AZ$2:AZ425,AZ425)=1,AZ425,\"\")","v":""},{"$f":"IF(Limit_Deviation_Detail!B447=\"\",\"\",Limit_Deviation_Detail!B447)","v":""},{"$f":"IF(Limit_Deviation_Detail!C447=\"\",\"\",Limit_Deviation_Detail!C447)","v":""},{"$f":"IF(Limit_Deviation_Detail!E447=\"\",\"\",Limit_Deviation_Detail!E447)","v":""},"",{"$f":"+IF(AV425=\"\",\"\",MAX(BA$1:BA424)+1)","v":""},"","","",""]
[{"$f":"+IF(D426=\"\",\"\",MAX(A$1:A425)+1)","v":""},{"$f":"IF(Affected_Sources!C448=\"\",\"\",Affected_Sources!C448)","v":""},"",{"$f":"IF(COUNTIF(B$2:B426,B426)=1,B426,\"\")","v":""},null,null,null,null,null,null,null,null,null,null,null,null,null,null,null,{"$f":"+IF(Y426=\"\",\"\",MAX(T$1:T425)+1)","v":""},{"$f":"IF(Limit_Deviation_Detail!B448=\"\",\"\",Limit_Deviation_Detail!B448)","v":""},{"$f":"IF(Limit_Deviation_Detail!C448=\"\",\"\",Limit_Deviation_Detail!C448)","v":""},{"$f":"IF(Limit_Deviation_Detail!E448=\"\",\"\",Limit_Deviation_Detail!E448)","v":""},"",{"$f":"IF(COUNTIF(X$2:X426,X426)=1,X426,\"\")","v":""},"","","","","",null,null,null,null,{"$f":"IF(COUNTIF(AM$2:AM426,AM426)=1,AM426,\"\")","v":""},{"$f":"IF(CMS_Deviation_Detail!B448=\"\",\"\",CMS_Deviation_Detail!B448)","v":""},{"$f":"IF(CMS_Deviation_Detail!C448=\"\",\"\",CMS_Deviation_Detail!C448)","v":""},{"$f":"IF(CMS_Deviation_Detail!D448=\"\",\"\",CMS_Deviation_Detail!D448)","v":""},"",{"$f":"+IF(AI426=\"\",\"\",MAX(AN$1:AN425)+1)","v":""},"","","","","","",null,{"$f":"IF(COUNTIF(AZ$2:AZ426,AZ426)=1,AZ426,\"\")","v":""},{"$f":"IF(Limit_Deviation_Detail!B448=\"\",\"\",Limit_Deviation_Detail!B448)","v":""},{"$f":"IF(Limit_Deviation_Detail!C448=\"\",\"\",Limit_Deviation_Detail!C448)","v":""},{"$f":"IF(Limit_Deviation_Detail!E448=\"\",\"\",Limit_Deviation_Detail!E448)","v":""},"",{"$f":"+IF(AV426=\"\",\"\",MAX(BA$1:BA425)+1)","v":""},"","","",""]
[{"$f":"+IF(D427=\"\",\"\",MAX(A$1:A426)+1)","v":""},{"$f":"IF(Affected_Sources!C449=\"\",\"\",Affected_Sources!C449)","v":""},"",{"$f":"IF(COUNTIF(B$2:B427,B427)=1,B427,\"\")","v":""},null,null,null,null,null,null,null,null,null,null,null,null,null,null,null,{"$f":"+IF(Y427=\"\",\"\",MAX(T$1:T426)+1)","v":""},{"$f":"IF(Limit_Deviation_Detail!B449=\"\",\"\",Limit_Deviation_Detail!B449)","v":""},{"$f":"IF(Limit_Deviation_Detail!C449=\"\",\"\",Limit_Deviation_Detail!C449)","v":""},{"$f":"IF(Limit_Deviation_Detail!E449=\"\",\"\",Limit_Deviation_Detail!E449)","v":""},"",{"$f":"IF(COUNTIF(X$2:X427,X427)=1,X427,\"\")","v":""},"","","","","",null,null,null,null,{"$f":"IF(COUNTIF(AM$2:AM427,AM427)=1,AM427,\"\")","v":""},{"$f":"IF(CMS_Deviation_Detail!B449=\"\",\"\",CMS_Deviation_Detail!B449)","v":""},{"$f":"IF(CMS_Deviation_Detail!C449=\"\",\"\",CMS_Deviation_Detail!C449)","v":""},{"$f":"IF(CMS_Deviation_Detail!D449=\"\",\"\",CMS_Deviation_Detail!D449)","v":""},"",{"$f":"+IF(AI427=\"\",\"\",MAX(AN$1:AN426)+1)","v":""},"","","","","","",null,{"$f":"IF(COUNTIF(AZ$2:AZ427,AZ427)=1,AZ427,\"\")","v":""},{"$f":"IF(Limit_Deviation_Detail!B449=\"\",\"\",Limit_Deviation_Detail!B449)","v":""},{"$f":"IF(Limit_Deviation_Detail!C449=\"\",\"\",Limit_Deviation_Detail!C449)","v":""},{"$f":"IF(Limit_Deviation_Detail!E449=\"\",\"\",Limit_Deviation_Detail!E449)","v":""},"",{"$f":"+IF(AV427=\"\",\"\",MAX(BA$1:BA426)+1)","v":""},"","","",""]
[{"$f":"+IF(D428=\"\",\"\",MAX(A$1:A427)+1)","v":""},{"$f":"IF(Affected_Sources!C450=\"\",\"\",Affected_Sources!C450)","v":""},"",{"$f":"IF(COUNTIF(B$2:B428,B428)=1,B428,\"\")","v":""},null,null,null,null,null,null,null,null,null,null,null,null,null,null,null,{"$f":"+IF(Y428=\"\",\"\",MAX(T$1:T427)+1)","v":""},{"$f":"IF(Limit_Deviation_Detail!B450=\"\",\"\",Limit_Deviation_Detail!B450)","v":""},{"$f":"IF(Limit_Deviation_Detail!C450=\"\",\"\",Limit_Deviation_Detail!C450)","v":""},{"$f":"IF(Limit_Deviation_Detail!E450=\"\",\"\",Limit_Deviation_Detail!E450)","v":""},"",{"$f":"IF(COUNTIF(X$2:X428,X428)=1,X428,\"\")","v":""},"","","","","",null,null,null,null,{"$f":"IF(COUNTIF(AM$2:AM428,AM428)=1,AM428,\"\")","v":""},{"$f":"IF(CMS_Deviation_Detail!B450=\"\",\"\",CMS_Deviation_Detail!B450)","v":""},{"$f":"IF(CMS_Deviation_Detail!C450=\"\",\"\",CMS_Deviation_Detail!C450)","v":""},{"$f":"IF(CMS_Deviation_Detail!D450=\"\",\"\",CMS_Deviation_Detail!D450)","v":""},"",{"$f":"+IF(AI428=\"\",\"\",MAX(AN$1:AN427)+1)","v":""},"","","","","","",null,{"$f":"IF(COUNTIF(AZ$2:AZ428,AZ428)=1,AZ428,\"\")","v":""},{"$f":"IF(Limit_Deviation_Detail!B450=\"\",\"\",Limit_Deviation_Detail!B450)","v":""},{"$f":"IF(Limit_Deviation_Detail!C450=\"\",\"\",Limit_Deviation_Detail!C450)","v":""},{"$f":"IF(Limit_Deviation_Detail!E450=\"\",\"\",Limit_Deviation_Detail!E450)","v":""},"",{"$f":"+IF(AV428=\"\",\"\",MAX(BA$1:BA427)+1)","v":""},"","","",""]
[{"$f":"+IF(D429=\"\",\"\",MAX(A$1:A428)+1)","v":""},{"$f":"IF(Affected_Sources!C451=\"\",\"\",Affected_Sources!C451)","v":""},"",{"$f":"IF(COUNTIF(B$2:B429,B429)=1,B429,\"\")","v":""},null,null,null,null,null,null,null,null,null,null,null,null,null,null,null,{"$f":"+IF(Y429=\"\",\"\",MAX(T$1:T428)+1)","v":""},{"$f":"IF(Limit_Deviation_Detail!B451=\"\",\"\",Limit_Deviation_Detail!B451)","v":""},{"$f":"IF(Limit_Deviation_Detail!C451=\"\",\"\",Limit_Deviation_Detail!C451)","v":""},{"$f":"IF(Limit_Deviation_Detail!E451=\"\",\"\",Limit_Deviation_Detail!E451)","v":""},"",{"$f":"IF(COUNTIF(X$2:X429,X429)=1,X429,\"\")","v":""},"","","","","",null,null,null,null,{"$f":"IF(COUNTIF(AM$2:AM429,AM429)=1,AM429,\"\")","v":""},{"$f":"IF(CMS_Deviation_Detail!B451=\"\",\"\",CMS_Deviation_Detail!B451)","v":""},{"$f":"IF(CMS_Deviation_Detail!C451=\"\",\"\",CMS_Deviation_Detail!C451)","v":""},{"$f":"IF(CMS_Deviation_Detail!D451=\"\",\"\",CMS_Deviation_Detail!D451)","v":""},"",{"$f":"+IF(AI429=\"\",\"\",MAX(AN$1:AN428)+1)","v":""},"","","","","","",null,{"$f":"IF(COUNTIF(AZ$2:AZ429,AZ429)=1,AZ429,\"\")","v":""},{"$f":"IF(Limit_Deviation_Detail!B451=\"\",\"\",Limit_Deviation_Detail!B451)","v":""},{"$f":"IF(Limit_Deviation_Detail!C451=\"\",\"\",Limit_Deviation_Detail!C451)","v":""},{"$f":"IF(Limit_Deviation_Detail!E451=\"\",\"\",Limit_Deviation_Detail!E451)","v":""},"",{"$f":"+IF(AV429=\"\",\"\",MAX(BA$1:BA428)+1)","v":""},"","","",""]
[{"$f":"+IF(D430=\"\",\"\",MAX(A$1:A429)+1)","v":""},{"$f":"IF(Affected_Sources!C452=\"\",\"\",Affected_Sources!C452)","v":""},"",{"$f":"IF(COUNTIF(B$2:B430,B430)=1,B430,\"\")","v":""},null,null,null,null,null,null,null,null,null,null,null,null,null,null,null,{"$f":"+IF(Y430=\"\",\"\",MAX(T$1:T429)+1)","v":""},{"$f":"IF(Limit_Deviation_Detail!B452=\"\",\"\",Limit_Deviation_Detail!B452)","v":""},{"$f":"IF(Limit_Deviation_Detail!C452=\"\",\"\",Limit_Deviation_Detail!C452)","v":""},{"$f":"IF(Limit_Deviation_Detail!E452=\"\",\"\",Limit_Deviation_Detail!E452)","v":""},"",{"$f":"IF(COUNTIF(X$2:X430,X430)=1,X430,\"\")","v":""},"","","","","",null,null,null,null,{"$f":"IF(COUNTIF(AM$2:AM430,AM430)=1,AM430,\"\")","v":""},{"$f":"IF(CMS_Deviation_Detail!B452=\"\",\"\",CMS_Deviation_Detail!B452)","v":""},{"$f":"IF(CMS_Deviation_Detail!C452=\"\",\"\",CMS_Deviation_Detail!C452)","v":""},{"$f":"IF(CMS_Deviation_Detail!D452=\"\",\"\",CMS_Deviation_Detail!D452)","v":""},"",{"$f":"+IF(AI430=\"\",\"\",MAX(AN$1:AN429)+1)","v":""},"","","","","","",null,{"$f":"IF(COUNTIF(AZ$2:AZ430,AZ430)=1,AZ430,\"\")","v":""},{"$f":"IF(Limit_Deviation_Detail!B452=\"\",\"\",Limit_Deviation_Detail!B452)","v":""},{"$f":"IF(Limit_Deviation_Detail!C452=\"\",\"\",Limit_Deviation_Detail!C452)","v":""},{"$f":"IF(Limit_Deviation_Detail!E452=\"\",\"\",Limit_Deviation_Detail!E452)","v":""},"",{"$f":"+IF(AV430=\"\",\"\",MAX(BA$1:BA429)+1)","v":""},"","","",""]
[{"$f":"+IF(D431=\"\",\"\",MAX(A$1:A430)+1)","v":""},{"$f":"IF(Affected_Sources!C453=\"\",\"\",Affected_Sources!C453)","v":""},"",{"$f":"IF(COUNTIF(B$2:B431,B431)=1,B431,\"\")","v":""},null,null,null,null,null,null,null,null,null,null,null,null,null,null,null,{"$f":"+IF(Y431=\"\",\"\",MAX(T$1:T430)+1)","v":""},{"$f":"IF(Limit_Deviation_Detail!B453=\"\",\"\",Limit_Deviation_Detail!B453)","v":""},{"$f":"IF(Limit_Deviation_Detail!C453=\"\",\"\",Limit_Deviation_Detail!C453)","v":""},{"$f":"IF(Limit_Deviation_Detail!E453=\"\",\"\",Limit_Deviation_Detail!E453)","v":""},"",{"$f":"IF(COUNTIF(X$2:X431,X431)=1,X431,\"\")","v":""},"","","","","",null,null,null,null,{"$f":"IF(COUNTIF(AM$2:AM431,AM431)=1,AM431,\"\")","v":""},{"$f":"IF(CMS_Deviation_Detail!B453=\"\",\"\",CMS_Deviation_Detail!B453)","v":""},{"$f":"IF(CMS_Deviation_Detail!C453=\"\",\"\",CMS_Deviation_Detail!C453)","v":""},{"$f":"IF(CMS_Deviation_Detail!D453=\"\",\"\",CMS_Deviation_Detail!D453)","v":""},"",{"$f":"+IF(AI431=\"\",\"\",MAX(AN$1:AN430)+1)","v":""},"","","","","","",null,{"$f":"IF(COUNTIF(AZ$2:AZ431,AZ431)=1,AZ431,\"\")","v":""},{"$f":"IF(Limit_Deviation_Detail!B453=\"\",\"\",Limit_Deviation_Detail!B453)","v":""},{"$f":"IF(Limit_Deviation_Detail!C453=\"\",\"\",Limit_Deviation_Detail!C453)","v":""},{"$f":"IF(Limit_Deviation_Detail!E453=\"\",\"\",Limit_Deviation_Detail!E453)","v":""},"",{"$f":"+IF(AV431=\"\",\"\",MAX(BA$1:BA430)+1)","v":""},"","","",""]
[{"$f":"+IF(D432=\"\",\"\",MAX(A$1:A431)+1)","v":""},{"$f":"IF(Affected_Sources!C454=\"\",\"\",Affected_Sources!C454)","v":""},"",{"$f":"IF(COUNTIF(B$2:B432,B432)=1,B432,\"\")","v":""},null,null,null,null,null,null,null,null,null,null,null,null,null,null,null,{"$f":"+IF(Y432=\"\",\"\",MAX(T$1:T431)+1)","v":""},{"$f":"IF(Limit_Deviation_Detail!B454=\"\",\"\",Limit_Deviation_Detail!B454)","v":""},{"$f":"IF(Limit_Deviation_Detail!C454=\"\",\"\",Limit_Deviation_Detail!C454)","v":""},{"$f":"IF(Limit_Deviation_Detail!E454=\"\",\"\",Limit_Deviation_Detail!E454)","v":""},"",{"$f":"IF(COUNTIF(X$2:X432,X432)=1,X432,\"\")","v":""},"","","","","",null,null,null,null,{"$f":"IF(COUNTIF(AM$2:AM432,AM432)=1,AM432,\"\")","v":""},{"$f":"IF(CMS_Deviation_Detail!B454=\"\",\"\",CMS_Deviation_Detail!B454)","v":""},{"$f":"IF(CMS_Deviation_Detail!C454=\"\",\"\",CMS_Deviation_Detail!C454)","v":""},{"$f":"IF(CMS_Deviation_Detail!D454=\"\",\"\",CMS_Deviation_Detail!D454)","v":""},"",{"$f":"+IF(AI432=\"\",\"\",MAX(AN$1:AN431)+1)","v":""},"","","","","","",null,{"$f":"IF(COUNTIF(AZ$2:AZ432,AZ432)=1,AZ432,\"\")","v":""},{"$f":"IF(Limit_Deviation_Detail!B454=\"\",\"\",Limit_Deviation_Detail!B454)","v":""},{"$f":"IF(Limit_Deviation_Detail!C454=\"\",\"\",Limit_Deviation_Detail!C454)","v":""},{"$f":"IF(Limit_Deviation_Detail!E454=\"\",\"\",Limit_Deviation_Detail!E454)","v":""},"",{"$f":"+IF(AV432=\"\",\"\",MAX(BA$1:BA431)+1)","v":""},"","","",""]
[{"$f":"+IF(D433=\"\",\"\",MAX(A$1:A432)+1)","v":""},{"$f":"IF(Affected_Sources!C455=\"\",\"\",Affected_Sources!C455)","v":""},"",{"$f":"IF(COUNTIF(B$2:B433,B433)=1,B433,\"\")","v":""},null,null,null,null,null,null,null,null,null,null,null,null,null,null,null,{"$f":"+IF(Y433=\"\",\"\",MAX(T$1:T432)+1)","v":""},{"$f":"IF(Limit_Deviation_Detail!B455=\"\",\"\",Limit_Deviation_Detail!B455)","v":""},{"$f":"IF(Limit_Deviation_Detail!C455=\"\",\"\",Limit_Deviation_Detail!C455)","v":""},{"$f":"IF(Limit_Deviation_Detail!E455=\"\",\"\",Limit_Deviation_Detail!E455)","v":""},"",{"$f":"IF(COUNTIF(X$2:X433,X433)=1,X433,\"\")","v":""},"","","","","",null,null,null,null,{"$f":"IF(COUNTIF(AM$2:AM433,AM433)=1,AM433,\"\")","v":""},{"$f":"IF(CMS_Deviation_Detail!B455=\"\",\"\",CMS_Deviation_Detail!B455)","v":""},{"$f":"IF(CMS_Deviation_Detail!C455=\"\",\"\",CMS_Deviation_Detail!C455)","v":""},{"$f":"IF(CMS_Deviation_Detail!D455=\"\",\"\",CMS_Deviation_Detail!D455)","v":""},"",{"$f":"+IF(AI433=\"\",\"\",MAX(AN$1:AN432)+1)","v":""},"","","","","","",null,{"$f":"IF(COUNTIF(AZ$2:AZ433,AZ433)=1,AZ433,\"\")","v":""},{"$f":"IF(Limit_Deviation_Detail!B455=\"\",\"\",Limit_Deviation_Detail!B455)","v":""},{"$f":"IF(Limit_Deviation_Detail!C455=\"\",\"\",Limit_Deviation_Detail!C455)","v":""},{"$f":"IF(Limit_Deviation_Detail!E455=\"\",\"\",Limit_Deviation_Detail!E455)","v":""},"",{"$f":"+IF(AV433=\"\",\"\",MAX(BA$1:BA432)+1)","v":""},"","","",""]
[{"$f":"+IF(D434=\"\",\"\",MAX(A$1:A433)+1)","v":""},{"$f":"IF(Affected_Sources!C456=\"\",\"\",Affected_Sources!C456)","v":""},"",{"$f":"IF(COUNTIF(B$2:B434,B434)=1,B434,\"\")","v":""},null,null,null,null,null,null,null,null,null,null,null,null,null,null,null,{"$f":"+IF(Y434=\"\",\"\",MAX(T$1:T433)+1)","v":""},{"$f":"IF(Limit_Deviation_Detail!B456=\"\",\"\",Limit_Deviation_Detail!B456)","v":""},{"$f":"IF(Limit_Deviation_Detail!C456=\"\",\"\",Limit_Deviation_Detail!C456)","v":""},{"$f":"IF(Limit_Deviation_Detail!E456=\"\",\"\",Limit_Deviation_Detail!E456)","v":""},"",{"$f":"IF(COUNTIF(X$2:X434,X434)=1,X434,\"\")","v":""},"","","","","",null,null,null,null,{"$f":"IF(COUNTIF(AM$2:AM434,AM434)=1,AM434,\"\")","v":""},{"$f":"IF(CMS_Deviation_Detail!B456=\"\",\"\",CMS_Deviation_Detail!B456)","v":""},{"$f":"IF(CMS_Deviation_Detail!C456=\"\",\"\",CMS_Deviation_Detail!C456)","v":""},{"$f":"IF(CMS_Deviation_Detail!D456=\"\",\"\",CMS_Deviation_Detail!D456)","v":""},"",{"$f":"+IF(AI434=\"\",\"\",MAX(AN$1:AN433)+1)","v":""},"","","","","","",null,{"$f":"IF(COUNTIF(AZ$2:AZ434,AZ434)=1,AZ434,\"\")","v":""},{"$f":"IF(Limit_Deviation_Detail!B456=\"\",\"\",Limit_Deviation_Detail!B456)","v":""},{"$f":"IF(Limit_Deviation_Detail!C456=\"\",\"\",Limit_Deviation_Detail!C456)","v":""},{"$f":"IF(Limit_Deviation_Detail!E456=\"\",\"\",Limit_Deviation_Detail!E456)","v":""},"",{"$f":"+IF(AV434=\"\",\"\",MAX(BA$1:BA433)+1)","v":""},"","","",""]
[{"$f":"+IF(D435=\"\",\"\",MAX(A$1:A434)+1)","v":""},{"$f":"IF(Affected_Sources!C457=\"\",\"\",Affected_Sources!C457)","v":""},"",{"$f":"IF(COUNTIF(B$2:B435,B435)=1,B435,\"\")","v":""},null,null,null,null,null,null,null,null,null,null,null,null,null,null,null,{"$f":"+IF(Y435=\"\",\"\",MAX(T$1:T434)+1)","v":""},{"$f":"IF(Limit_Deviation_Detail!B457=\"\",\"\",Limit_Deviation_Detail!B457)","v":""},{"$f":"IF(Limit_Deviation_Detail!C457=\"\",\"\",Limit_Deviation_Detail!C457)","v":""},{"$f":"IF(Limit_Deviation_Detail!E457=\"\",\"\",Limit_Deviation_Detail!E457)","v":""},"",{"$f":"IF(COUNTIF(X$2:X435,X435)=1,X435,\"\")","v":""},"","","","","",null,null,null,null,{"$f":"IF(COUNTIF(AM$2:AM435,AM435)=1,AM435,\"\")","v":""},{"$f":"IF(CMS_Deviation_Detail!B457=\"\",\"\",CMS_Deviation_Detail!B457)","v":""},{"$f":"IF(CMS_Deviation_Detail!C457=\"\",\"\",CMS_Deviation_Detail!C457)","v":""},{"$f":"IF(CMS_Deviation_Detail!D457=\"\",\"\",CMS_Deviation_Detail!D457)","v":""},"",{"$f":"+IF(AI435=\"\",\"\",MAX(AN$1:AN434)+1)","v":""},"","","","","","",null,{"$f":"IF(COUNTIF(AZ$2:AZ435,AZ435)=1,AZ435,\"\")","v":""},{"$f":"IF(Limit_Deviation_Detail!B457=\"\",\"\",Limit_Deviation_Detail!B457)","v":""},{"$f":"IF(Limit_Deviation_Detail!C457=\"\",\"\",Limit_Deviation_Detail!C457)","v":""},{"$f":"IF(Limit_Deviation_Detail!E457=\"\",\"\",Limit_Deviation_Detail!E457)","v":""},"",{"$f":"+IF(AV435=\"\",\"\",MAX(BA$1:BA434)+1)","v":""},"","","",""]
[{"$f":"+IF(D436=\"\",\"\",MAX(A$1:A435)+1)","v":""},{"$f":"IF(Affected_Sources!C458=\"\",\"\",Affected_Sources!C458)","v":""},"",{"$f":"IF(COUNTIF(B$2:B436,B436)=1,B436,\"\")","v":""},null,null,null,null,null,null,null,null,null,null,null,null,null,null,null,{"$f":"+IF(Y436=\"\",\"\",MAX(T$1:T435)+1)","v":""},{"$f":"IF(Limit_Deviation_Detail!B458=\"\",\"\",Limit_Deviation_Detail!B458)","v":""},{"$f":"IF(Limit_Deviation_Detail!C458=\"\",\"\",Limit_Deviation_Detail!C458)","v":""},{"$f":"IF(Limit_Deviation_Detail!E458=\"\",\"\",Limit_Deviation_Detail!E458)","v":""},"",{"$f":"IF(COUNTIF(X$2:X436,X436)=1,X436,\"\")","v":""},"","","","","",null,null,null,null,{"$f":"IF(COUNTIF(AM$2:AM436,AM436)=1,AM436,\"\")","v":""},{"$f":"IF(CMS_Deviation_Detail!B458=\"\",\"\",CMS_Deviation_Detail!B458)","v":""},{"$f":"IF(CMS_Deviation_Detail!C458=\"\",\"\",CMS_Deviation_Detail!C458)","v":""},{"$f":"IF(CMS_Deviation_Detail!D458=\"\",\"\",CMS_Deviation_Detail!D458)","v":""},"",{"$f":"+IF(AI436=\"\",\"\",MAX(AN$1:AN435)+1)","v":""},"","","","","","",null,{"$f":"IF(COUNTIF(AZ$2:AZ436,AZ436)=1,AZ436,\"\")","v":""},{"$f":"IF(Limit_Deviation_Detail!B458=\"\",\"\",Limit_Deviation_Detail!B458)","v":""},{"$f":"IF(Limit_Deviation_Detail!C458=\"\",\"\",Limit_Deviation_Detail!C458)","v":""},{"$f":"IF(Limit_Deviation_Detail!E458=\"\",\"\",Limit_Deviation_Detail!E458)","v":""},"",{"$f":"+IF(AV436=\"\",\"\",MAX(BA$1:BA435)+1)","v":""},"","","",""]
[{"$f":"+IF(D437=\"\",\"\",MAX(A$1:A436)+1)","v":""},{"$f":"IF(Affected_Sources!C459=\"\",\"\",Affected_Sources!C459)","v":""},"",{"$f":"IF(COUNTIF(B$2:B437,B437)=1,B437,\"\")","v":""},null,null,null,null,null,null,null,null,null,null,null,null,null,null,null,{"$f":"+IF(Y437=\"\",\"\",MAX(T$1:T436)+1)","v":""},{"$f":"IF(Limit_Deviation_Detail!B459=\"\",\"\",Limit_Deviation_Detail!B459)","v":""},{"$f":"IF(Limit_Deviation_Detail!C459=\"\",\"\",Limit_Deviation_Detail!C459)","v":""},{"$f":"IF(Limit_Deviation_Detail!E459=\"\",\"\",Limit_Deviation_Detail!E459)","v":""},"",{"$f":"IF(COUNTIF(X$2:X437,X437)=1,X437,\"\")","v":""},"","","","","",null,null,null,null,{"$f":"IF(COUNTIF(AM$2:AM437,AM437)=1,AM437,\"\")","v":""},{"$f":"IF(CMS_Deviation_Detail!B459=\"\",\"\",CMS_Deviation_Detail!B459)","v":""},{"$f":"IF(CMS_Deviation_Detail!C459=\"\",\"\",CMS_Deviation_Detail!C459)","v":""},{"$f":"IF(CMS_Deviation_Detail!D459=\"\",\"\",CMS_Deviation_Detail!D459)","v":""},"",{"$f":"+IF(AI437=\"\",\"\",MAX(AN$1:AN436)+1)","v":""},"","","","","","",null,{"$f":"IF(COUNTIF(AZ$2:AZ437,AZ437)=1,AZ437,\"\")","v":""},{"$f":"IF(Limit_Deviation_Detail!B459=\"\",\"\",Limit_Deviation_Detail!B459)","v":""},{"$f":"IF(Limit_Deviation_Detail!C459=\"\",\"\",Limit_Deviation_Detail!C459)","v":""},{"$f":"IF(Limit_Deviation_Detail!E459=\"\",\"\",Limit_Deviation_Detail!E459)","v":""},"",{"$f":"+IF(AV437=\"\",\"\",MAX(BA$1:BA436)+1)","v":""},"","","",""]
[{"$f":"+IF(D438=\"\",\"\",MAX(A$1:A437)+1)","v":""},{"$f":"IF(Affected_Sources!C460=\"\",\"\",Affected_Sources!C460)","v":""},"",{"$f":"IF(COUNTIF(B$2:B438,B438)=1,B438,\"\")","v":""},null,null,null,null,null,null,null,null,null,null,null,null,null,null,null,{"$f":"+IF(Y438=\"\",\"\",MAX(T$1:T437)+1)","v":""},{"$f":"IF(Limit_Deviation_Detail!B460=\"\",\"\",Limit_Deviation_Detail!B460)","v":""},{"$f":"IF(Limit_Deviation_Detail!C460=\"\",\"\",Limit_Deviation_Detail!C460)","v":""},{"$f":"IF(Limit_Deviation_Detail!E460=\"\",\"\",Limit_Deviation_Detail!E460)","v":""},"",{"$f":"IF(COUNTIF(X$2:X438,X438)=1,X438,\"\")","v":""},"","","","","",null,null,null,null,{"$f":"IF(COUNTIF(AM$2:AM438,AM438)=1,AM438,\"\")","v":""},{"$f":"IF(CMS_Deviation_Detail!B460=\"\",\"\",CMS_Deviation_Detail!B460)","v":""},{"$f":"IF(CMS_Deviation_Detail!C460=\"\",\"\",CMS_Deviation_Detail!C460)","v":""},{"$f":"IF(CMS_Deviation_Detail!D460=\"\",\"\",CMS_Deviation_Detail!D460)","v":""},"",{"$f":"+IF(AI438=\"\",\"\",MAX(AN$1:AN437)+1)","v":""},"","","","","","",null,{"$f":"IF(COUNTIF(AZ$2:AZ438,AZ438)=1,AZ438,\"\")","v":""},{"$f":"IF(Limit_Deviation_Detail!B460=\"\",\"\",Limit_Deviation_Detail!B460)","v":""},{"$f":"IF(Limit_Deviation_Detail!C460=\"\",\"\",Limit_Deviation_Detail!C460)","v":""},{"$f":"IF(Limit_Deviation_Detail!E460=\"\",\"\",Limit_Deviation_Detail!E460)","v":""},"",{"$f":"+IF(AV438=\"\",\"\",MAX(BA$1:BA437)+1)","v":""},"","","",""]
[{"$f":"+IF(D439=\"\",\"\",MAX(A$1:A438)+1)","v":""},{"$f":"IF(Affected_Sources!C461=\"\",\"\",Affected_Sources!C461)","v":""},"",{"$f":"IF(COUNTIF(B$2:B439,B439)=1,B439,\"\")","v":""},null,null,null,null,null,null,null,null,null,null,null,null,null,null,null,{"$f":"+IF(Y439=\"\",\"\",MAX(T$1:T438)+1)","v":""},{"$f":"IF(Limit_Deviation_Detail!B461=\"\",\"\",Limit_Deviation_Detail!B461)","v":""},{"$f":"IF(Limit_Deviation_Detail!C461=\"\",\"\",Limit_Deviation_Detail!C461)","v":""},{"$f":"IF(Limit_Deviation_Detail!E461=\"\",\"\",Limit_Deviation_Detail!E461)","v":""},"",{"$f":"IF(COUNTIF(X$2:X439,X439)=1,X439,\"\")","v":""},"","","","","",null,null,null,null,{"$f":"IF(COUNTIF(AM$2:AM439,AM439)=1,AM439,\"\")","v":""},{"$f":"IF(CMS_Deviation_Detail!B461=\"\",\"\",CMS_Deviation_Detail!B461)","v":""},{"$f":"IF(CMS_Deviation_Detail!C461=\"\",\"\",CMS_Deviation_Detail!C461)","v":""},{"$f":"IF(CMS_Deviation_Detail!D461=\"\",\"\",CMS_Deviation_Detail!D461)","v":""},"",{"$f":"+IF(AI439=\"\",\"\",MAX(AN$1:AN438)+1)","v":""},"","","","","","",null,{"$f":"IF(COUNTIF(AZ$2:AZ439,AZ439)=1,AZ439,\"\")","v":""},{"$f":"IF(Limit_Deviation_Detail!B461=\"\",\"\",Limit_Deviation_Detail!B461)","v":""},{"$f":"IF(Limit_Deviation_Detail!C461=\"\",\"\",Limit_Deviation_Detail!C461)","v":""},{"$f":"IF(Limit_Deviation_Detail!E461=\"\",\"\",Limit_Deviation_Detail!E461)","v":""},"",{"$f":"+IF(AV439=\"\",\"\",MAX(BA$1:BA438)+1)","v":""},"","","",""]
[{"$f":"+IF(D440=\"\",\"\",MAX(A$1:A439)+1)","v":""},{"$f":"IF(Affected_Sources!C462=\"\",\"\",Affected_Sources!C462)","v":""},"",{"$f":"IF(COUNTIF(B$2:B440,B440)=1,B440,\"\")","v":""},null,null,null,null,null,null,null,null,null,null,null,null,null,null,null,{"$f":"+IF(Y440=\"\",\"\",MAX(T$1:T439)+1)","v":""},{"$f":"IF(Limit_Deviation_Detail!B462=\"\",\"\",Limit_Deviation_Detail!B462)","v":""},{"$f":"IF(Limit_Deviation_Detail!C462=\"\",\"\",Limit_Deviation_Detail!C462)","v":""},{"$f":"IF(Limit_Deviation_Detail!E462=\"\",\"\",Limit_Deviation_Detail!E462)","v":""},"",{"$f":"IF(COUNTIF(X$2:X440,X440)=1,X440,\"\")","v":""},"","","","","",null,null,null,null,{"$f":"IF(COUNTIF(AM$2:AM440,AM440)=1,AM440,\"\")","v":""},{"$f":"IF(CMS_Deviation_Detail!B462=\"\",\"\",CMS_Deviation_Detail!B462)","v":""},{"$f":"IF(CMS_Deviation_Detail!C462=\"\",\"\",CMS_Deviation_Detail!C462)","v":""},{"$f":"IF(CMS_Deviation_Detail!D462=\"\",\"\",CMS_Deviation_Detail!D462)","v":""},"",{"$f":"+IF(AI440=\"\",\"\",MAX(AN$1:AN439)+1)","v":""},"","","","","","",null,{"$f":"IF(COUNTIF(AZ$2:AZ440,AZ440)=1,AZ440,\"\")","v":""},{"$f":"IF(Limit_Deviation_Detail!B462=\"\",\"\",Limit_Deviation_Detail!B462)","v":""},{"$f":"IF(Limit_Deviation_Detail!C462=\"\",\"\",Limit_Deviation_Detail!C462)","v":""},{"$f":"IF(Limit_Deviation_Detail!E462=\"\",\"\",Limit_Deviation_Detail!E462)","v":""},"",{"$f":"+IF(AV440=\"\",\"\",MAX(BA$1:BA439)+1)","v":""},"","","",""]
[{"$f":"+IF(D441=\"\",\"\",MAX(A$1:A440)+1)","v":""},{"$f":"IF(Affected_Sources!C463=\"\",\"\",Affected_Sources!C463)","v":""},"",{"$f":"IF(COUNTIF(B$2:B441,B441)=1,B441,\"\")","v":""},null,null,null,null,null,null,null,null,null,null,null,null,null,null,null,{"$f":"+IF(Y441=\"\",\"\",MAX(T$1:T440)+1)","v":""},{"$f":"IF(Limit_Deviation_Detail!B463=\"\",\"\",Limit_Deviation_Detail!B463)","v":""},{"$f":"IF(Limit_Deviation_Detail!C463=\"\",\"\",Limit_Deviation_Detail!C463)","v":""},{"$f":"IF(Limit_Deviation_Detail!E463=\"\",\"\",Limit_Deviation_Detail!E463)","v":""},"",{"$f":"IF(COUNTIF(X$2:X441,X441)=1,X441,\"\")","v":""},"","","","","",null,null,null,null,{"$f":"IF(COUNTIF(AM$2:AM441,AM441)=1,AM441,\"\")","v":""},{"$f":"IF(CMS_Deviation_Detail!B463=\"\",\"\",CMS_Deviation_Detail!B463)","v":""},{"$f":"IF(CMS_Deviation_Detail!C463=\"\",\"\",CMS_Deviation_Detail!C463)","v":""},{"$f":"IF(CMS_Deviation_Detail!D463=\"\",\"\",CMS_Deviation_Detail!D463)","v":""},"",{"$f":"+IF(AI441=\"\",\"\",MAX(AN$1:AN440)+1)","v":""},"","","","","","",null,{"$f":"IF(COUNTIF(AZ$2:AZ441,AZ441)=1,AZ441,\"\")","v":""},{"$f":"IF(Limit_Deviation_Detail!B463=\"\",\"\",Limit_Deviation_Detail!B463)","v":""},{"$f":"IF(Limit_Deviation_Detail!C463=\"\",\"\",Limit_Deviation_Detail!C463)","v":""},{"$f":"IF(Limit_Deviation_Detail!E463=\"\",\"\",Limit_Deviation_Detail!E463)","v":""},"",{"$f":"+IF(AV441=\"\",\"\",MAX(BA$1:BA440)+1)","v":""},"","","",""]
[{"$f":"+IF(D442=\"\",\"\",MAX(A$1:A441)+1)","v":""},{"$f":"IF(Affected_Sources!C464=\"\",\"\",Affected_Sources!C464)","v":""},"",{"$f":"IF(COUNTIF(B$2:B442,B442)=1,B442,\"\")","v":""},null,null,null,null,null,null,null,null,null,null,null,null,null,null,null,{"$f":"+IF(Y442=\"\",\"\",MAX(T$1:T441)+1)","v":""},{"$f":"IF(Limit_Deviation_Detail!B464=\"\",\"\",Limit_Deviation_Detail!B464)","v":""},{"$f":"IF(Limit_Deviation_Detail!C464=\"\",\"\",Limit_Deviation_Detail!C464)","v":""},{"$f":"IF(Limit_Deviation_Detail!E464=\"\",\"\",Limit_Deviation_Detail!E464)","v":""},"",{"$f":"IF(COUNTIF(X$2:X442,X442)=1,X442,\"\")","v":""},"","","","","",null,null,null,null,{"$f":"IF(COUNTIF(AM$2:AM442,AM442)=1,AM442,\"\")","v":""},{"$f":"IF(CMS_Deviation_Detail!B464=\"\",\"\",CMS_Deviation_Detail!B464)","v":""},{"$f":"IF(CMS_Deviation_Detail!C464=\"\",\"\",CMS_Deviation_Detail!C464)","v":""},{"$f":"IF(CMS_Deviation_Detail!D464=\"\",\"\",CMS_Deviation_Detail!D464)","v":""},"",{"$f":"+IF(AI442=\"\",\"\",MAX(AN$1:AN441)+1)","v":""},"","","","","","",null,{"$f":"IF(COUNTIF(AZ$2:AZ442,AZ442)=1,AZ442,\"\")","v":""},{"$f":"IF(Limit_Deviation_Detail!B464=\"\",\"\",Limit_Deviation_Detail!B464)","v":""},{"$f":"IF(Limit_Deviation_Detail!C464=\"\",\"\",Limit_Deviation_Detail!C464)","v":""},{"$f":"IF(Limit_Deviation_Detail!E464=\"\",\"\",Limit_Deviation_Detail!E464)","v":""},"",{"$f":"+IF(AV442=\"\",\"\",MAX(BA$1:BA441)+1)","v":""},"","","",""]
[{"$f":"+IF(D443=\"\",\"\",MAX(A$1:A442)+1)","v":""},{"$f":"IF(Affected_Sources!C465=\"\",\"\",Affected_Sources!C465)","v":""},"",{"$f":"IF(COUNTIF(B$2:B443,B443)=1,B443,\"\")","v":""},null,null,null,null,null,null,null,null,null,null,null,null,null,null,null,{"$f":"+IF(Y443=\"\",\"\",MAX(T$1:T442)+1)","v":""},{"$f":"IF(Limit_Deviation_Detail!B465=\"\",\"\",Limit_Deviation_Detail!B465)","v":""},{"$f":"IF(Limit_Deviation_Detail!C465=\"\",\"\",Limit_Deviation_Detail!C465)","v":""},{"$f":"IF(Limit_Deviation_Detail!E465=\"\",\"\",Limit_Deviation_Detail!E465)","v":""},"",{"$f":"IF(COUNTIF(X$2:X443,X443)=1,X443,\"\")","v":""},"","","","","",null,null,null,null,{"$f":"IF(COUNTIF(AM$2:AM443,AM443)=1,AM443,\"\")","v":""},{"$f":"IF(CMS_Deviation_Detail!B465=\"\",\"\",CMS_Deviation_Detail!B465)","v":""},{"$f":"IF(CMS_Deviation_Detail!C465=\"\",\"\",CMS_Deviation_Detail!C465)","v":""},{"$f":"IF(CMS_Deviation_Detail!D465=\"\",\"\",CMS_Deviation_Detail!D465)","v":""},"",{"$f":"+IF(AI443=\"\",\"\",MAX(AN$1:AN442)+1)","v":""},"","","","","","",null,{"$f":"IF(COUNTIF(AZ$2:AZ443,AZ443)=1,AZ443,\"\")","v":""},{"$f":"IF(Limit_Deviation_Detail!B465=\"\",\"\",Limit_Deviation_Detail!B465)","v":""},{"$f":"IF(Limit_Deviation_Detail!C465=\"\",\"\",Limit_Deviation_Detail!C465)","v":""},{"$f":"IF(Limit_Deviation_Detail!E465=\"\",\"\",Limit_Deviation_Detail!E465)","v":""},"",{"$f":"+IF(AV443=\"\",\"\",MAX(BA$1:BA442)+1)","v":""},"","","",""]
[{"$f":"+IF(D444=\"\",\"\",MAX(A$1:A443)+1)","v":""},{"$f":"IF(Affected_Sources!C466=\"\",\"\",Affected_Sources!C466)","v":""},"",{"$f":"IF(COUNTIF(B$2:B444,B444)=1,B444,\"\")","v":""},null,null,null,null,null,null,null,null,null,null,null,null,null,null,null,{"$f":"+IF(Y444=\"\",\"\",MAX(T$1:T443)+1)","v":""},{"$f":"IF(Limit_Deviation_Detail!B466=\"\",\"\",Limit_Deviation_Detail!B466)","v":""},{"$f":"IF(Limit_Deviation_Detail!C466=\"\",\"\",Limit_Deviation_Detail!C466)","v":""},{"$f":"IF(Limit_Deviation_Detail!E466=\"\",\"\",Limit_Deviation_Detail!E466)","v":""},"",{"$f":"IF(COUNTIF(X$2:X444,X444)=1,X444,\"\")","v":""},"","","","","",null,null,null,null,{"$f":"IF(COUNTIF(AM$2:AM444,AM444)=1,AM444,\"\")","v":""},{"$f":"IF(CMS_Deviation_Detail!B466=\"\",\"\",CMS_Deviation_Detail!B466)","v":""},{"$f":"IF(CMS_Deviation_Detail!C466=\"\",\"\",CMS_Deviation_Detail!C466)","v":""},{"$f":"IF(CMS_Deviation_Detail!D466=\"\",\"\",CMS_Deviation_Detail!D466)","v":""},"",{"$f":"+IF(AI444=\"\",\"\",MAX(AN$1:AN443)+1)","v":""},"","","","","","",null,{"$f":"IF(COUNTIF(AZ$2:AZ444,AZ444)=1,AZ444,\"\")","v":""},{"$f":"IF(Limit_Deviation_Detail!B466=\"\",\"\",Limit_Deviation_Detail!B466)","v":""},{"$f":"IF(Limit_Deviation_Detail!C466=\"\",\"\",Limit_Deviation_Detail!C466)","v":""},{"$f":"IF(Limit_Deviation_Detail!E466=\"\",\"\",Limit_Deviation_Detail!E466)","v":""},"",{"$f":"+IF(AV444=\"\",\"\",MAX(BA$1:BA443)+1)","v":""},"","","",""]
[{"$f":"+IF(D445=\"\",\"\",MAX(A$1:A444)+1)","v":""},{"$f":"IF(Affected_Sources!C467=\"\",\"\",Affected_Sources!C467)","v":""},"",{"$f":"IF(COUNTIF(B$2:B445,B445)=1,B445,\"\")","v":""},null,null,null,null,null,null,null,null,null,null,null,null,null,null,null,{"$f":"+IF(Y445=\"\",\"\",MAX(T$1:T444)+1)","v":""},{"$f":"IF(Limit_Deviation_Detail!B467=\"\",\"\",Limit_Deviation_Detail!B467)","v":""},{"$f":"IF(Limit_Deviation_Detail!C467=\"\",\"\",Limit_Deviation_Detail!C467)","v":""},{"$f":"IF(Limit_Deviation_Detail!E467=\"\",\"\",Limit_Deviation_Detail!E467)","v":""},"",{"$f":"IF(COUNTIF(X$2:X445,X445)=1,X445,\"\")","v":""},"","","","","",null,null,null,null,{"$f":"IF(COUNTIF(AM$2:AM445,AM445)=1,AM445,\"\")","v":""},{"$f":"IF(CMS_Deviation_Detail!B467=\"\",\"\",CMS_Deviation_Detail!B467)","v":""},{"$f":"IF(CMS_Deviation_Detail!C467=\"\",\"\",CMS_Deviation_Detail!C467)","v":""},{"$f":"IF(CMS_Deviation_Detail!D467=\"\",\"\",CMS_Deviation_Detail!D467)","v":""},"",{"$f":"+IF(AI445=\"\",\"\",MAX(AN$1:AN444)+1)","v":""},"","","","","","",null,{"$f":"IF(COUNTIF(AZ$2:AZ445,AZ445)=1,AZ445,\"\")","v":""},{"$f":"IF(Limit_Deviation_Detail!B467=\"\",\"\",Limit_Deviation_Detail!B467)","v":""},{"$f":"IF(Limit_Deviation_Detail!C467=\"\",\"\",Limit_Deviation_Detail!C467)","v":""},{"$f":"IF(Limit_Deviation_Detail!E467=\"\",\"\",Limit_Deviation_Detail!E467)","v":""},"",{"$f":"+IF(AV445=\"\",\"\",MAX(BA$1:BA444)+1)","v":""},"","","",""]
[{"$f":"+IF(D446=\"\",\"\",MAX(A$1:A445)+1)","v":""},{"$f":"IF(Affected_Sources!C468=\"\",\"\",Affected_Sources!C468)","v":""},"",{"$f":"IF(COUNTIF(B$2:B446,B446)=1,B446,\"\")","v":""},null,null,null,null,null,null,null,null,null,null,null,null,null,null,null,{"$f":"+IF(Y446=\"\",\"\",MAX(T$1:T445)+1)","v":""},{"$f":"IF(Limit_Deviation_Detail!B468=\"\",\"\",Limit_Deviation_Detail!B468)","v":""},{"$f":"IF(Limit_Deviation_Detail!C468=\"\",\"\",Limit_Deviation_Detail!C468)","v":""},{"$f":"IF(Limit_Deviation_Detail!E468=\"\",\"\",Limit_Deviation_Detail!E468)","v":""},"",{"$f":"IF(COUNTIF(X$2:X446,X446)=1,X446,\"\")","v":""},"","","","","",null,null,null,null,{"$f":"IF(COUNTIF(AM$2:AM446,AM446)=1,AM446,\"\")","v":""},{"$f":"IF(CMS_Deviation_Detail!B468=\"\",\"\",CMS_Deviation_Detail!B468)","v":""},{"$f":"IF(CMS_Deviation_Detail!C468=\"\",\"\",CMS_Deviation_Detail!C468)","v":""},{"$f":"IF(CMS_Deviation_Detail!D468=\"\",\"\",CMS_Deviation_Detail!D468)","v":""},"",{"$f":"+IF(AI446=\"\",\"\",MAX(AN$1:AN445)+1)","v":""},"","","","","","",null,{"$f":"IF(COUNTIF(AZ$2:AZ446,AZ446)=1,AZ446,\"\")","v":""},{"$f":"IF(Limit_Deviation_Detail!B468=\"\",\"\",Limit_Deviation_Detail!B468)","v":""},{"$f":"IF(Limit_Deviation_Detail!C468=\"\",\"\",Limit_Deviation_Detail!C468)","v":""},{"$f":"IF(Limit_Deviation_Detail!E468=\"\",\"\",Limit_Deviation_Detail!E468)","v":""},"",{"$f":"+IF(AV446=\"\",\"\",MAX(BA$1:BA445)+1)","v":""},"","","",""]
[{"$f":"+IF(D447=\"\",\"\",MAX(A$1:A446)+1)","v":""},{"$f":"IF(Affected_Sources!C469=\"\",\"\",Affected_Sources!C469)","v":""},"",{"$f":"IF(COUNTIF(B$2:B447,B447)=1,B447,\"\")","v":""},null,null,null,null,null,null,null,null,null,null,null,null,null,null,null,{"$f":"+IF(Y447=\"\",\"\",MAX(T$1:T446)+1)","v":""},{"$f":"IF(Limit_Deviation_Detail!B469=\"\",\"\",Limit_Deviation_Detail!B469)","v":""},{"$f":"IF(Limit_Deviation_Detail!C469=\"\",\"\",Limit_Deviation_Detail!C469)","v":""},{"$f":"IF(Limit_Deviation_Detail!E469=\"\",\"\",Limit_Deviation_Detail!E469)","v":""},"",{"$f":"IF(COUNTIF(X$2:X447,X447)=1,X447,\"\")","v":""},"","","","","",null,null,null,null,{"$f":"IF(COUNTIF(AM$2:AM447,AM447)=1,AM447,\"\")","v":""},{"$f":"IF(CMS_Deviation_Detail!B469=\"\",\"\",CMS_Deviation_Detail!B469)","v":""},{"$f":"IF(CMS_Deviation_Detail!C469=\"\",\"\",CMS_Deviation_Detail!C469)","v":""},{"$f":"IF(CMS_Deviation_Detail!D469=\"\",\"\",CMS_Deviation_Detail!D469)","v":""},"",{"$f":"+IF(AI447=\"\",\"\",MAX(AN$1:AN446)+1)","v":""},"","","","","","",null,{"$f":"IF(COUNTIF(AZ$2:AZ447,AZ447)=1,AZ447,\"\")","v":""},{"$f":"IF(Limit_Deviation_Detail!B469=\"\",\"\",Limit_Deviation_Detail!B469)","v":""},{"$f":"IF(Limit_Deviation_Detail!C469=\"\",\"\",Limit_Deviation_Detail!C469)","v":""},{"$f":"IF(Limit_Deviation_Detail!E469=\"\",\"\",Limit_Deviation_Detail!E469)","v":""},"",{"$f":"+IF(AV447=\"\",\"\",MAX(BA$1:BA446)+1)","v":""},"","","",""]
[{"$f":"+IF(D448=\"\",\"\",MAX(A$1:A447)+1)","v":""},{"$f":"IF(Affected_Sources!C470=\"\",\"\",Affected_Sources!C470)","v":""},"",{"$f":"IF(COUNTIF(B$2:B448,B448)=1,B448,\"\")","v":""},null,null,null,null,null,null,null,null,null,null,null,null,null,null,null,{"$f":"+IF(Y448=\"\",\"\",MAX(T$1:T447)+1)","v":""},{"$f":"IF(Limit_Deviation_Detail!B470=\"\",\"\",Limit_Deviation_Detail!B470)","v":""},{"$f":"IF(Limit_Deviation_Detail!C470=\"\",\"\",Limit_Deviation_Detail!C470)","v":""},{"$f":"IF(Limit_Deviation_Detail!E470=\"\",\"\",Limit_Deviation_Detail!E470)","v":""},"",{"$f":"IF(COUNTIF(X$2:X448,X448)=1,X448,\"\")","v":""},"","","","","",null,null,null,null,{"$f":"IF(COUNTIF(AM$2:AM448,AM448)=1,AM448,\"\")","v":""},{"$f":"IF(CMS_Deviation_Detail!B470=\"\",\"\",CMS_Deviation_Detail!B470)","v":""},{"$f":"IF(CMS_Deviation_Detail!C470=\"\",\"\",CMS_Deviation_Detail!C470)","v":""},{"$f":"IF(CMS_Deviation_Detail!D470=\"\",\"\",CMS_Deviation_Detail!D470)","v":""},"",{"$f":"+IF(AI448=\"\",\"\",MAX(AN$1:AN447)+1)","v":""},"","","","","","",null,{"$f":"IF(COUNTIF(AZ$2:AZ448,AZ448)=1,AZ448,\"\")","v":""},{"$f":"IF(Limit_Deviation_Detail!B470=\"\",\"\",Limit_Deviation_Detail!B470)","v":""},{"$f":"IF(Limit_Deviation_Detail!C470=\"\",\"\",Limit_Deviation_Detail!C470)","v":""},{"$f":"IF(Limit_Deviation_Detail!E470=\"\",\"\",Limit_Deviation_Detail!E470)","v":""},"",{"$f":"+IF(AV448=\"\",\"\",MAX(BA$1:BA447)+1)","v":""},"","","",""]
[{"$f":"+IF(D449=\"\",\"\",MAX(A$1:A448)+1)","v":""},{"$f":"IF(Affected_Sources!C471=\"\",\"\",Affected_Sources!C471)","v":""},"",{"$f":"IF(COUNTIF(B$2:B449,B449)=1,B449,\"\")","v":""},null,null,null,null,null,null,null,null,null,null,null,null,null,null,null,{"$f":"+IF(Y449=\"\",\"\",MAX(T$1:T448)+1)","v":""},{"$f":"IF(Limit_Deviation_Detail!B471=\"\",\"\",Limit_Deviation_Detail!B471)","v":""},{"$f":"IF(Limit_Deviation_Detail!C471=\"\",\"\",Limit_Deviation_Detail!C471)","v":""},{"$f":"IF(Limit_Deviation_Detail!E471=\"\",\"\",Limit_Deviation_Detail!E471)","v":""},"",{"$f":"IF(COUNTIF(X$2:X449,X449)=1,X449,\"\")","v":""},"","","","","",null,null,null,null,{"$f":"IF(COUNTIF(AM$2:AM449,AM449)=1,AM449,\"\")","v":""},{"$f":"IF(CMS_Deviation_Detail!B471=\"\",\"\",CMS_Deviation_Detail!B471)","v":""},{"$f":"IF(CMS_Deviation_Detail!C471=\"\",\"\",CMS_Deviation_Detail!C471)","v":""},{"$f":"IF(CMS_Deviation_Detail!D471=\"\",\"\",CMS_Deviation_Detail!D471)","v":""},"",{"$f":"+IF(AI449=\"\",\"\",MAX(AN$1:AN448)+1)","v":""},"","","","","","",null,{"$f":"IF(COUNTIF(AZ$2:AZ449,AZ449)=1,AZ449,\"\")","v":""},{"$f":"IF(Limit_Deviation_Detail!B471=\"\",\"\",Limit_Deviation_Detail!B471)","v":""},{"$f":"IF(Limit_Deviation_Detail!C471=\"\",\"\",Limit_Deviation_Detail!C471)","v":""},{"$f":"IF(Limit_Deviation_Detail!E471=\"\",\"\",Limit_Deviation_Detail!E471)","v":""},"",{"$f":"+IF(AV449=\"\",\"\",MAX(BA$1:BA448)+1)","v":""},"","","",""]
[{"$f":"+IF(D450=\"\",\"\",MAX(A$1:A449)+1)","v":""},{"$f":"IF(Affected_Sources!C472=\"\",\"\",Affected_Sources!C472)","v":""},{"$f":"+IFERROR(INDEX(B$2:B$501,MATCH(ROW()-ROW($C$1),A$2:A$501,0)),\"\")","v":""},{"$f":"IF(COUNTIF(B$2:B450,B450)=1,B450,\"\")","v":""},null,null,null,null,null,null,null,null,null,null,null,null,null,null,null,{"$f":"+IF(Y450=\"\",\"\",MAX(T$1:T449)+1)","v":""},{"$f":"IF(Limit_Deviation_Detail!B472=\"\",\"\",Limit_Deviation_Detail!B472)","v":""},{"$f":"IF(Limit_Deviation_Detail!C472=\"\",\"\",Limit_Deviation_Detail!C472)","v":""},{"$f":"IF(Limit_Deviation_Detail!E472=\"\",\"\",Limit_Deviation_Detail!E472)","v":""},{"$f":"U450&V450&W450","v":""},{"$f":"IF(COUNTIF(X$2:X450,X450)=1,X450,\"\")","v":""},{"$f":"+IFERROR(INDEX(U$2:U$955,MATCH(ROW()-ROW(HU$1),T$2:T$955,0)),\"\")","v":""},{"$f":"+IFERROR(INDEX(V$2:V$955,MATCH(ROW()-ROW(Y$1),T$2:T$955,0)),\"\")","v":""},{"$f":"+IFERROR(INDEX(W$2:W$955,MATCH(ROW()-ROW(Y$1),T$2:T$955,0)),\"\")","v":""},{"$f":"IF(Z450=\"\",\"\",Z450&AA450)","v":""},{"$f":"IF(Z450=\"\",\"\",VLOOKUP(AC450,$BL$2:$BP$78,5,FALSE))","v":""},null,null,null,null,{"$f":"IF(COUNTIF(AM$2:AM450,AM450)=1,AM450,\"\")","v":""},{"$f":"IF(CMS_Deviation_Detail!B472=\"\",\"\",CMS_Deviation_Detail!B472)","v":""},{"$f":"IF(CMS_Deviation_Detail!C472=\"\",\"\",CMS_Deviation_Detail!C472)","v":""},{"$f":"IF(CMS_Deviation_Detail!D472=\"\",\"\",CMS_Deviation_Detail!D472)","v":""},"",{"$f":"+IF(AI450=\"\",\"\",MAX(AN$1:AN449)+1)","v":""},"","","","",{"$f":"IF(AP450=\"\",\"\",AP450&AQ450)","v":""},{"$f":"IF(AP450=\"\",\"\",VLOOKUP(AS450,$BL$2:$BP$78,5,FALSE))","v":""},null,{"$f":"IF(COUNTIF(AZ$2:AZ450,AZ450)=1,AZ450,\"\")","v":""},{"$f":"IF(Limit_Deviation_Detail!B472=\"\",\"\",Limit_Deviation_Detail!B472)","v":""},{"$f":"IF(Limit_Deviation_Detail!C472=\"\",\"\",Limit_Deviation_Detail!C472)","v":""},{"$f":"IF(Limit_Deviation_Detail!E472=\"\",\"\",Limit_Deviation_Detail!E472)","v":""},"",{"$f":"+IF(AV450=\"\",\"\",MAX(BA$1:BA449)+1)","v":""},"","","",""]
[{"$f":"+IF(D451=\"\",\"\",MAX(A$1:A450)+1)","v":""},{"$f":"IF(Affected_Sources!C473=\"\",\"\",Affected_Sources!C473)","v":""},"",{"$f":"IF(COUNTIF(B$2:B451,B451)=1,B451,\"\")","v":""},null,null,null,null,null,null,null,null,null,null,null,null,null,null,null,{"$f":"+IF(Y451=\"\",\"\",MAX(T$1:T450)+1)","v":""},{"$f":"IF(Limit_Deviation_Detail!B473=\"\",\"\",Limit_Deviation_Detail!B473)","v":""},{"$f":"IF(Limit_Deviation_Detail!C473=\"\",\"\",Limit_Deviation_Detail!C473)","v":""},{"$f":"IF(Limit_Deviation_Detail!E473=\"\",\"\",Limit_Deviation_Detail!E473)","v":""},"",{"$f":"IF(COUNTIF(X$2:X451,X451)=1,X451,\"\")","v":""},"","","","","",null,null,null,null,{"$f":"IF(COUNTIF(AM$2:AM451,AM451)=1,AM451,\"\")","v":""},{"$f":"IF(CMS_Deviation_Detail!B473=\"\",\"\",CMS_Deviation_Detail!B473)","v":""},{"$f":"IF(CMS_Deviation_Detail!C473=\"\",\"\",CMS_Deviation_Detail!C473)","v":""},{"$f":"IF(CMS_Deviation_Detail!D473=\"\",\"\",CMS_Deviation_Detail!D473)","v":""},{"$f":"IF(AL451=\"\",\"\",AJ451&\" \"&AK451&\" \"&AL451)","v":""},{"$f":"+IF(AI451=\"\",\"\",MAX(AN$1:AN450)+1)","v":""},{"$f":"+IFERROR(INDEX(AI$2:AI$955,MATCH(ROW()-ROW(AI$1),AN$2:AN$955,0)),\"\")","v":""},{"$f":"+IFERROR(INDEX(AJ$2:AJ$955,MATCH(ROW()-ROW(AJ$1),$AN$2:$AN$955,0)),\"\")","v":""},{"$f":"+IFERROR(INDEX(AK$2:AK$955,MATCH(ROW()-ROW(AK$1),$AN$2:$AN$955,0)),\"\")","v":""},{"$f":"+IFERROR(INDEX(AL$2:AL$955,MATCH(ROW()-ROW(AL$1),$AN$2:$AN$955,0)),\"\")","v":""},"","",null,{"$f":"IF(COUNTIF(AZ$2:AZ451,AZ451)=1,AZ451,\"\")","v":""},{"$f":"IF(Limit_Deviation_Detail!B473=\"\",\"\",Limit_Deviation_Detail!B473)","v":""},{"$f":"IF(Limit_Deviation_Detail!C473=\"\",\"\",Limit_Deviation_Detail!C473)","v":""},{"$f":"IF(Limit_Deviation_Detail!E473=\"\",\"\",Limit_Deviation_Detail!E473)","v":""},"",{"$f":"+IF(AV451=\"\",\"\",MAX(BA$1:BA450)+1)","v":""},"","","",""]
[{"$f":"+IF(D452=\"\",\"\",MAX(A$1:A451)+1)","v":""},{"$f":"IF(Affected_Sources!C474=\"\",\"\",Affected_Sources!C474)","v":""},"",{"$f":"IF(COUNTIF(B$2:B452,B452)=1,B452,\"\")","v":""},null,null,null,null,null,null,null,null,null,null,null,null,null,null,null,{"$f":"+IF(Y452=\"\",\"\",MAX(T$1:T451)+1)","v":""},{"$f":"IF(Limit_Deviation_Detail!B474=\"\",\"\",Limit_Deviation_Detail!B474)","v":""},{"$f":"IF(Limit_Deviation_Detail!C474=\"\",\"\",Limit_Deviation_Detail!C474)","v":""},{"$f":"IF(Limit_Deviation_Detail!E474=\"\",\"\",Limit_Deviation_Detail!E474)","v":""},"",{"$f":"IF(COUNTIF(X$2:X452,X452)=1,X452,\"\")","v":""},"","","","","",null,null,null,null,{"$f":"IF(COUNTIF(AM$2:AM452,AM452)=1,AM452,\"\")","v":""},{"$f":"IF(CMS_Deviation_Detail!B474=\"\",\"\",CMS_Deviation_Detail!B474)","v":""},{"$f":"IF(CMS_Deviation_Detail!C474=\"\",\"\",CMS_Deviation_Detail!C474)","v":""},{"$f":"IF(CMS_Deviation_Detail!D474=\"\",\"\",CMS_Deviation_Detail!D474)","v":""},"",{"$f":"+IF(AI452=\"\",\"\",MAX(AN$1:AN451)+1)","v":""},"","","","","","",null,{"$f":"IF(COUNTIF(AZ$2:AZ452,AZ452)=1,AZ452,\"\")","v":""},{"$f":"IF(Limit_Deviation_Detail!B474=\"\",\"\",Limit_Deviation_Detail!B474)","v":""},{"$f":"IF(Limit_Deviation_Detail!C474=\"\",\"\",Limit_Deviation_Detail!C474)","v":""},{"$f":"IF(Limit_Deviation_Detail!E474=\"\",\"\",Limit_Deviation_Detail!E474)","v":""},"",{"$f":"+IF(AV452=\"\",\"\",MAX(BA$1:BA451)+1)","v":""},"","","",""]
[{"$f":"+IF(D453=\"\",\"\",MAX(A$1:A452)+1)","v":""},{"$f":"IF(Affected_Sources!C475=\"\",\"\",Affected_Sources!C475)","v":""},"",{"$f":"IF(COUNTIF(B$2:B453,B453)=1,B453,\"\")","v":""},null,null,null,null,null,null,null,null,null,null,null,null,null,null,null,{"$f":"+IF(Y453=\"\",\"\",MAX(T$1:T452)+1)","v":""},{"$f":"IF(Limit_Deviation_Detail!B475=\"\",\"\",Limit_Deviation_Detail!B475)","v":""},{"$f":"IF(Limit_Deviation_Detail!C475=\"\",\"\",Limit_Deviation_Detail!C475)","v":""},{"$f":"IF(Limit_Deviation_Detail!E475=\"\",\"\",Limit_Deviation_Detail!E475)","v":""},"",{"$f":"IF(COUNTIF(X$2:X453,X453)=1,X453,\"\")","v":""},"","","","","",null,null,null,null,{"$f":"IF(COUNTIF(AM$2:AM453,AM453)=1,AM453,\"\")","v":""},{"$f":"IF(CMS_Deviation_Detail!B475=\"\",\"\",CMS_Deviation_Detail!B475)","v":""},{"$f":"IF(CMS_Deviation_Detail!C475=\"\",\"\",CMS_Deviation_Detail!C475)","v":""},{"$f":"IF(CMS_Deviation_Detail!D475=\"\",\"\",CMS_Deviation_Detail!D475)","v":""},"",{"$f":"+IF(AI453=\"\",\"\",MAX(AN$1:AN452)+1)","v":""},"","","","","","",null,{"$f":"IF(COUNTIF(AZ$2:AZ453,AZ453)=1,AZ453,\"\")","v":""},{"$f":"IF(Limit_Deviation_Detail!B475=\"\",\"\",Limit_Deviation_Detail!B475)","v":""},{"$f":"IF(Limit_Deviation_Detail!C475=\"\",\"\",Limit_Deviation_Detail!C475)","v":""},{"$f":"IF(Limit_Deviation_Detail!E475=\"\",\"\",Limit_Deviation_Detail!E475)","v":""},"",{"$f":"+IF(AV453=\"\",\"\",MAX(BA$1:BA452)+1)","v":""},"","","",""]
[{"$f":"+IF(D454=\"\",\"\",MAX(A$1:A453)+1)","v":""},{"$f":"IF(Affected_Sources!C476=\"\",\"\",Affected_Sources!C476)","v":""},"",{"$f":"IF(COUNTIF(B$2:B454,B454)=1,B454,\"\")","v":""},null,null,null,null,null,null,null,null,null,null,null,null,null,null,null,{"$f":"+IF(Y454=\"\",\"\",MAX(T$1:T453)+1)","v":""},{"$f":"IF(Limit_Deviation_Detail!B476=\"\",\"\",Limit_Deviation_Detail!B476)","v":""},{"$f":"IF(Limit_Deviation_Detail!C476=\"\",\"\",Limit_Deviation_Detail!C476)","v":""},{"$f":"IF(Limit_Deviation_Detail!E476=\"\",\"\",Limit_Deviation_Detail!E476)","v":""},"",{"$f":"IF(COUNTIF(X$2:X454,X454)=1,X454,\"\")","v":""},"","","","","",null,null,null,null,{"$f":"IF(COUNTIF(AM$2:AM454,AM454)=1,AM454,\"\")","v":""},{"$f":"IF(CMS_Deviation_Detail!B476=\"\",\"\",CMS_Deviation_Detail!B476)","v":""},{"$f":"IF(CMS_Deviation_Detail!C476=\"\",\"\",CMS_Deviation_Detail!C476)","v":""},{"$f":"IF(CMS_Deviation_Detail!D476=\"\",\"\",CMS_Deviation_Detail!D476)","v":""},"",{"$f":"+IF(AI454=\"\",\"\",MAX(AN$1:AN453)+1)","v":""},"","","","","","",null,{"$f":"IF(COUNTIF(AZ$2:AZ454,AZ454)=1,AZ454,\"\")","v":""},{"$f":"IF(Limit_Deviation_Detail!B476=\"\",\"\",Limit_Deviation_Detail!B476)","v":""},{"$f":"IF(Limit_Deviation_Detail!C476=\"\",\"\",Limit_Deviation_Detail!C476)","v":""},{"$f":"IF(Limit_Deviation_Detail!E476=\"\",\"\",Limit_Deviation_Detail!E476)","v":""},"",{"$f":"+IF(AV454=\"\",\"\",MAX(BA$1:BA453)+1)","v":""},"","","",""]
[{"$f":"+IF(D455=\"\",\"\",MAX(A$1:A454)+1)","v":""},{"$f":"IF(Affected_Sources!C477=\"\",\"\",Affected_Sources!C477)","v":""},"",{"$f":"IF(COUNTIF(B$2:B455,B455)=1,B455,\"\")","v":""},null,null,null,null,null,null,null,null,null,null,null,null,null,null,null,{"$f":"+IF(Y455=\"\",\"\",MAX(T$1:T454)+1)","v":""},{"$f":"IF(Limit_Deviation_Detail!B477=\"\",\"\",Limit_Deviation_Detail!B477)","v":""},{"$f":"IF(Limit_Deviation_Detail!C477=\"\",\"\",Limit_Deviation_Detail!C477)","v":""},{"$f":"IF(Limit_Deviation_Detail!E477=\"\",\"\",Limit_Deviation_Detail!E477)","v":""},"",{"$f":"IF(COUNTIF(X$2:X455,X455)=1,X455,\"\")","v":""},"","","","","",null,null,null,null,{"$f":"IF(COUNTIF(AM$2:AM455,AM455)=1,AM455,\"\")","v":""},{"$f":"IF(CMS_Deviation_Detail!B477=\"\",\"\",CMS_Deviation_Detail!B477)","v":""},{"$f":"IF(CMS_Deviation_Detail!C477=\"\",\"\",CMS_Deviation_Detail!C477)","v":""},{"$f":"IF(CMS_Deviation_Detail!D477=\"\",\"\",CMS_Deviation_Detail!D477)","v":""},"",{"$f":"+IF(AI455=\"\",\"\",MAX(AN$1:AN454)+1)","v":""},"","","","","","",null,{"$f":"IF(COUNTIF(AZ$2:AZ455,AZ455)=1,AZ455,\"\")","v":""},{"$f":"IF(Limit_Deviation_Detail!B477=\"\",\"\",Limit_Deviation_Detail!B477)","v":""},{"$f":"IF(Limit_Deviation_Detail!C477=\"\",\"\",Limit_Deviation_Detail!C477)","v":""},{"$f":"IF(Limit_Deviation_Detail!E477=\"\",\"\",Limit_Deviation_Detail!E477)","v":""},{"$f":"IF(AY455=\"\",\"\",AW455&\" \"&AX455&\" \"&AY455)","v":""},{"$f":"+IF(AV455=\"\",\"\",MAX(BA$1:BA454)+1)","v":""},{"$f":"+IFERROR(INDEX(AV$2:AV$955,MATCH(ROW()-ROW(AV$1),BA$2:BA$955,0)),\"\")","v":""},{"$f":"+IFERROR(INDEX(AW$2:AW$955,MATCH(ROW()-ROW(AW$1),$BA$2:$BA$955,0)),\"\")","v":""},{"$f":"+IFERROR(INDEX(AX$2:AX$955,MATCH(ROW()-ROW(AX$1),$BA$2:$BA$955,0)),\"\")","v":""},{"$f":"+IFERROR(INDEX(AY$2:AY$955,MATCH(ROW()-ROW(AY$1),$BA$2:$BA$955,0)),\"\")","v":""}]
[{"$f":"+IF(D456=\"\",\"\",MAX(A$1:A455)+1)","v":""},{"$f":"IF(Affected_Sources!C478=\"\",\"\",Affected_Sources!C478)","v":""},"",{"$f":"IF(COUNTIF(B$2:B456,B456)=1,B456,\"\")","v":""},null,null,null,null,null,null,null,null,null,null,null,null,null,null,null,{"$f":"+IF(Y456=\"\",\"\",MAX(T$1:T455)+1)","v":""},{"$f":"IF(Limit_Deviation_Detail!B478=\"\",\"\",Limit_Deviation_Detail!B478)","v":""},{"$f":"IF(Limit_Deviation_Detail!C478=\"\",\"\",Limit_Deviation_Detail!C478)","v":""},{"$f":"IF(Limit_Deviation_Detail!E478=\"\",\"\",Limit_Deviation_Detail!E478)","v":""},"",{"$f":"IF(COUNTIF(X$2:X456,X456)=1,X456,\"\")","v":""},"","","","","",null,null,null,null,{"$f":"IF(COUNTIF(AM$2:AM456,AM456)=1,AM456,\"\")","v":""},{"$f":"IF(CMS_Deviation_Detail!B478=\"\",\"\",CMS_Deviation_Detail!B478)","v":""},{"$f":"IF(CMS_Deviation_Detail!C478=\"\",\"\",CMS_Deviation_Detail!C478)","v":""},{"$f":"IF(CMS_Deviation_Detail!D478=\"\",\"\",CMS_Deviation_Detail!D478)","v":""},"",{"$f":"+IF(AI456=\"\",\"\",MAX(AN$1:AN455)+1)","v":""},"","","","","","",null,{"$f":"IF(COUNTIF(AZ$2:AZ456,AZ456)=1,AZ456,\"\")","v":""},{"$f":"IF(Limit_Deviation_Detail!B478=\"\",\"\",Limit_Deviation_Detail!B478)","v":""},{"$f":"IF(Limit_Deviation_Detail!C478=\"\",\"\",Limit_Deviation_Detail!C478)","v":""},{"$f":"IF(Limit_Deviation_Detail!E478=\"\",\"\",Limit_Deviation_Detail!E478)","v":""},"",{"$f":"+IF(AV456=\"\",\"\",MAX(BA$1:BA455)+1)","v":""},"","","",""]
[{"$f":"+IF(D457=\"\",\"\",MAX(A$1:A456)+1)","v":""},{"$f":"IF(Affected_Sources!C479=\"\",\"\",Affected_Sources!C479)","v":""},"",{"$f":"IF(COUNTIF(B$2:B457,B457)=1,B457,\"\")","v":""},null,null,null,null,null,null,null,null,null,null,null,null,null,null,null,{"$f":"+IF(Y457=\"\",\"\",MAX(T$1:T456)+1)","v":""},{"$f":"IF(Limit_Deviation_Detail!B479=\"\",\"\",Limit_Deviation_Detail!B479)","v":""},{"$f":"IF(Limit_Deviation_Detail!C479=\"\",\"\",Limit_Deviation_Detail!C479)","v":""},{"$f":"IF(Limit_Deviation_Detail!E479=\"\",\"\",Limit_Deviation_Detail!E479)","v":""},"",{"$f":"IF(COUNTIF(X$2:X457,X457)=1,X457,\"\")","v":""},"","","","","",null,null,null,null,{"$f":"IF(COUNTIF(AM$2:AM457,AM457)=1,AM457,\"\")","v":""},{"$f":"IF(CMS_Deviation_Detail!B479=\"\",\"\",CMS_Deviation_Detail!B479)","v":""},{"$f":"IF(CMS_Deviation_Detail!C479=\"\",\"\",CMS_Deviation_Detail!C479)","v":""},{"$f":"IF(CMS_Deviation_Detail!D479=\"\",\"\",CMS_Deviation_Detail!D479)","v":""},"",{"$f":"+IF(AI457=\"\",\"\",MAX(AN$1:AN456)+1)","v":""},"","","","","","",null,{"$f":"IF(COUNTIF(AZ$2:AZ457,AZ457)=1,AZ457,\"\")","v":""},{"$f":"IF(Limit_Deviation_Detail!B479=\"\",\"\",Limit_Deviation_Detail!B479)","v":""},{"$f":"IF(Limit_Deviation_Detail!C479=\"\",\"\",Limit_Deviation_Detail!C479)","v":""},{"$f":"IF(Limit_Deviation_Detail!E479=\"\",\"\",Limit_Deviation_Detail!E479)","v":""},"",{"$f":"+IF(AV457=\"\",\"\",MAX(BA$1:BA456)+1)","v":""},"","","",""]
[{"$f":"+IF(D458=\"\",\"\",MAX(A$1:A457)+1)","v":""},{"$f":"IF(Affected_Sources!C480=\"\",\"\",Affected_Sources!C480)","v":""},"",{"$f":"IF(COUNTIF(B$2:B458,B458)=1,B458,\"\")","v":""},null,null,null,null,null,null,null,null,null,null,null,null,null,null,null,{"$f":"+IF(Y458=\"\",\"\",MAX(T$1:T457)+1)","v":""},{"$f":"IF(Limit_Deviation_Detail!B480=\"\",\"\",Limit_Deviation_Detail!B480)","v":""},{"$f":"IF(Limit_Deviation_Detail!C480=\"\",\"\",Limit_Deviation_Detail!C480)","v":""},{"$f":"IF(Limit_Deviation_Detail!E480=\"\",\"\",Limit_Deviation_Detail!E480)","v":""},"",{"$f":"IF(COUNTIF(X$2:X458,X458)=1,X458,\"\")","v":""},"","","","","",null,null,null,null,{"$f":"IF(COUNTIF(AM$2:AM458,AM458)=1,AM458,\"\")","v":""},{"$f":"IF(CMS_Deviation_Detail!B480=\"\",\"\",CMS_Deviation_Detail!B480)","v":""},{"$f":"IF(CMS_Deviation_Detail!C480=\"\",\"\",CMS_Deviation_Detail!C480)","v":""},{"$f":"IF(CMS_Deviation_Detail!D480=\"\",\"\",CMS_Deviation_Detail!D480)","v":""},"",{"$f":"+IF(AI458=\"\",\"\",MAX(AN$1:AN457)+1)","v":""},"","","","","","",null,{"$f":"IF(COUNTIF(AZ$2:AZ458,AZ458)=1,AZ458,\"\")","v":""},{"$f":"IF(Limit_Deviation_Detail!B480=\"\",\"\",Limit_Deviation_Detail!B480)","v":""},{"$f":"IF(Limit_Deviation_Detail!C480=\"\",\"\",Limit_Deviation_Detail!C480)","v":""},{"$f":"IF(Limit_Deviation_Detail!E480=\"\",\"\",Limit_Deviation_Detail!E480)","v":""},"",{"$f":"+IF(AV458=\"\",\"\",MAX(BA$1:BA457)+1)","v":""},"","","",""]
[{"$f":"+IF(D459=\"\",\"\",MAX(A$1:A458)+1)","v":""},{"$f":"IF(Affected_Sources!C481=\"\",\"\",Affected_Sources!C481)","v":""},"",{"$f":"IF(COUNTIF(B$2:B459,B459)=1,B459,\"\")","v":""},null,null,null,null,null,null,null,null,null,null,null,null,null,null,null,{"$f":"+IF(Y459=\"\",\"\",MAX(T$1:T458)+1)","v":""},{"$f":"IF(Limit_Deviation_Detail!B481=\"\",\"\",Limit_Deviation_Detail!B481)","v":""},{"$f":"IF(Limit_Deviation_Detail!C481=\"\",\"\",Limit_Deviation_Detail!C481)","v":""},{"$f":"IF(Limit_Deviation_Detail!E481=\"\",\"\",Limit_Deviation_Detail!E481)","v":""},"",{"$f":"IF(COUNTIF(X$2:X459,X459)=1,X459,\"\")","v":""},"","","","","",null,null,null,null,{"$f":"IF(COUNTIF(AM$2:AM459,AM459)=1,AM459,\"\")","v":""},{"$f":"IF(CMS_Deviation_Detail!B481=\"\",\"\",CMS_Deviation_Detail!B481)","v":""},{"$f":"IF(CMS_Deviation_Detail!C481=\"\",\"\",CMS_Deviation_Detail!C481)","v":""},{"$f":"IF(CMS_Deviation_Detail!D481=\"\",\"\",CMS_Deviation_Detail!D481)","v":""},"",{"$f":"+IF(AI459=\"\",\"\",MAX(AN$1:AN458)+1)","v":""},"","","","","","",null,{"$f":"IF(COUNTIF(AZ$2:AZ459,AZ459)=1,AZ459,\"\")","v":""},{"$f":"IF(Limit_Deviation_Detail!B481=\"\",\"\",Limit_Deviation_Detail!B481)","v":""},{"$f":"IF(Limit_Deviation_Detail!C481=\"\",\"\",Limit_Deviation_Detail!C481)","v":""},{"$f":"IF(Limit_Deviation_Detail!E481=\"\",\"\",Limit_Deviation_Detail!E481)","v":""},"",{"$f":"+IF(AV459=\"\",\"\",MAX(BA$1:BA458)+1)","v":""},"","","",""]
[{"$f":"+IF(D460=\"\",\"\",MAX(A$1:A459)+1)","v":""},{"$f":"IF(Affected_Sources!C482=\"\",\"\",Affected_Sources!C482)","v":""},"",{"$f":"IF(COUNTIF(B$2:B460,B460)=1,B460,\"\")","v":""},null,null,null,null,null,null,null,null,null,null,null,null,null,null,null,{"$f":"+IF(Y460=\"\",\"\",MAX(T$1:T459)+1)","v":""},{"$f":"IF(Limit_Deviation_Detail!B482=\"\",\"\",Limit_Deviation_Detail!B482)","v":""},{"$f":"IF(Limit_Deviation_Detail!C482=\"\",\"\",Limit_Deviation_Detail!C482)","v":""},{"$f":"IF(Limit_Deviation_Detail!E482=\"\",\"\",Limit_Deviation_Detail!E482)","v":""},"",{"$f":"IF(COUNTIF(X$2:X460,X460)=1,X460,\"\")","v":""},"","","","","",null,null,null,null,{"$f":"IF(COUNTIF(AM$2:AM460,AM460)=1,AM460,\"\")","v":""},{"$f":"IF(CMS_Deviation_Detail!B482=\"\",\"\",CMS_Deviation_Detail!B482)","v":""},{"$f":"IF(CMS_Deviation_Detail!C482=\"\",\"\",CMS_Deviation_Detail!C482)","v":""},{"$f":"IF(CMS_Deviation_Detail!D482=\"\",\"\",CMS_Deviation_Detail!D482)","v":""},"",{"$f":"+IF(AI460=\"\",\"\",MAX(AN$1:AN459)+1)","v":""},"","","","","","",null,{"$f":"IF(COUNTIF(AZ$2:AZ460,AZ460)=1,AZ460,\"\")","v":""},{"$f":"IF(Limit_Deviation_Detail!B482=\"\",\"\",Limit_Deviation_Detail!B482)","v":""},{"$f":"IF(Limit_Deviation_Detail!C482=\"\",\"\",Limit_Deviation_Detail!C482)","v":""},{"$f":"IF(Limit_Deviation_Detail!E482=\"\",\"\",Limit_Deviation_Detail!E482)","v":""},"",{"$f":"+IF(AV460=\"\",\"\",MAX(BA$1:BA459)+1)","v":""},"","","",""]
[{"$f":"+IF(D461=\"\",\"\",MAX(A$1:A460)+1)","v":""},{"$f":"IF(Affected_Sources!C483=\"\",\"\",Affected_Sources!C483)","v":""},"",{"$f":"IF(COUNTIF(B$2:B461,B461)=1,B461,\"\")","v":""},null,null,null,null,null,null,null,null,null,null,null,null,null,null,null,{"$f":"+IF(Y461=\"\",\"\",MAX(T$1:T460)+1)","v":""},{"$f":"IF(Limit_Deviation_Detail!B483=\"\",\"\",Limit_Deviation_Detail!B483)","v":""},{"$f":"IF(Limit_Deviation_Detail!C483=\"\",\"\",Limit_Deviation_Detail!C483)","v":""},{"$f":"IF(Limit_Deviation_Detail!E483=\"\",\"\",Limit_Deviation_Detail!E483)","v":""},"",{"$f":"IF(COUNTIF(X$2:X461,X461)=1,X461,\"\")","v":""},"","","","","",null,null,null,null,{"$f":"IF(COUNTIF(AM$2:AM461,AM461)=1,AM461,\"\")","v":""},{"$f":"IF(CMS_Deviation_Detail!B483=\"\",\"\",CMS_Deviation_Detail!B483)","v":""},{"$f":"IF(CMS_Deviation_Detail!C483=\"\",\"\",CMS_Deviation_Detail!C483)","v":""},{"$f":"IF(CMS_Deviation_Detail!D483=\"\",\"\",CMS_Deviation_Detail!D483)","v":""},"",{"$f":"+IF(AI461=\"\",\"\",MAX(AN$1:AN460)+1)","v":""},"","","","","","",null,{"$f":"IF(COUNTIF(AZ$2:AZ461,AZ461)=1,AZ461,\"\")","v":""},{"$f":"IF(Limit_Deviation_Detail!B483=\"\",\"\",Limit_Deviation_Detail!B483)","v":""},{"$f":"IF(Limit_Deviation_Detail!C483=\"\",\"\",Limit_Deviation_Detail!C483)","v":""},{"$f":"IF(Limit_Deviation_Detail!E483=\"\",\"\",Limit_Deviation_Detail!E483)","v":""},"",{"$f":"+IF(AV461=\"\",\"\",MAX(BA$1:BA460)+1)","v":""},"","","",""]
[{"$f":"+IF(D462=\"\",\"\",MAX(A$1:A461)+1)","v":""},{"$f":"IF(Affected_Sources!C484=\"\",\"\",Affected_Sources!C484)","v":""},"",{"$f":"IF(COUNTIF(B$2:B462,B462)=1,B462,\"\")","v":""},null,null,null,null,null,null,null,null,null,null,null,null,null,null,null,{"$f":"+IF(Y462=\"\",\"\",MAX(T$1:T461)+1)","v":""},{"$f":"IF(Limit_Deviation_Detail!B484=\"\",\"\",Limit_Deviation_Detail!B484)","v":""},{"$f":"IF(Limit_Deviation_Detail!C484=\"\",\"\",Limit_Deviation_Detail!C484)","v":""},{"$f":"IF(Limit_Deviation_Detail!E484=\"\",\"\",Limit_Deviation_Detail!E484)","v":""},"",{"$f":"IF(COUNTIF(X$2:X462,X462)=1,X462,\"\")","v":""},"","","","","",null,null,null,null,{"$f":"IF(COUNTIF(AM$2:AM462,AM462)=1,AM462,\"\")","v":""},{"$f":"IF(CMS_Deviation_Detail!B484=\"\",\"\",CMS_Deviation_Detail!B484)","v":""},{"$f":"IF(CMS_Deviation_Detail!C484=\"\",\"\",CMS_Deviation_Detail!C484)","v":""},{"$f":"IF(CMS_Deviation_Detail!D484=\"\",\"\",CMS_Deviation_Detail!D484)","v":""},"",{"$f":"+IF(AI462=\"\",\"\",MAX(AN$1:AN461)+1)","v":""},"","","","","","",null,{"$f":"IF(COUNTIF(AZ$2:AZ462,AZ462)=1,AZ462,\"\")","v":""},{"$f":"IF(Limit_Deviation_Detail!B484=\"\",\"\",Limit_Deviation_Detail!B484)","v":""},{"$f":"IF(Limit_Deviation_Detail!C484=\"\",\"\",Limit_Deviation_Detail!C484)","v":""},{"$f":"IF(Limit_Deviation_Detail!E484=\"\",\"\",Limit_Deviation_Detail!E484)","v":""},"",{"$f":"+IF(AV462=\"\",\"\",MAX(BA$1:BA461)+1)","v":""},"","","",""]
[{"$f":"+IF(D463=\"\",\"\",MAX(A$1:A462)+1)","v":""},{"$f":"IF(Affected_Sources!C485=\"\",\"\",Affected_Sources!C485)","v":""},"",{"$f":"IF(COUNTIF(B$2:B463,B463)=1,B463,\"\")","v":""},null,null,null,null,null,null,null,null,null,null,null,null,null,null,null,{"$f":"+IF(Y463=\"\",\"\",MAX(T$1:T462)+1)","v":""},{"$f":"IF(Limit_Deviation_Detail!B485=\"\",\"\",Limit_Deviation_Detail!B485)","v":""},{"$f":"IF(Limit_Deviation_Detail!C485=\"\",\"\",Limit_Deviation_Detail!C485)","v":""},{"$f":"IF(Limit_Deviation_Detail!E485=\"\",\"\",Limit_Deviation_Detail!E485)","v":""},"",{"$f":"IF(COUNTIF(X$2:X463,X463)=1,X463,\"\")","v":""},"","","","","",null,null,null,null,{"$f":"IF(COUNTIF(AM$2:AM463,AM463)=1,AM463,\"\")","v":""},{"$f":"IF(CMS_Deviation_Detail!B485=\"\",\"\",CMS_Deviation_Detail!B485)","v":""},{"$f":"IF(CMS_Deviation_Detail!C485=\"\",\"\",CMS_Deviation_Detail!C485)","v":""},{"$f":"IF(CMS_Deviation_Detail!D485=\"\",\"\",CMS_Deviation_Detail!D485)","v":""},"",{"$f":"+IF(AI463=\"\",\"\",MAX(AN$1:AN462)+1)","v":""},"","","","","","",null,{"$f":"IF(COUNTIF(AZ$2:AZ463,AZ463)=1,AZ463,\"\")","v":""},{"$f":"IF(Limit_Deviation_Detail!B485=\"\",\"\",Limit_Deviation_Detail!B485)","v":""},{"$f":"IF(Limit_Deviation_Detail!C485=\"\",\"\",Limit_Deviation_Detail!C485)","v":""},{"$f":"IF(Limit_Deviation_Detail!E485=\"\",\"\",Limit_Deviation_Detail!E485)","v":""},"",{"$f":"+IF(AV463=\"\",\"\",MAX(BA$1:BA462)+1)","v":""},"","","",""]
[{"$f":"+IF(D464=\"\",\"\",MAX(A$1:A463)+1)","v":""},{"$f":"IF(Affected_Sources!C486=\"\",\"\",Affected_Sources!C486)","v":""},"",{"$f":"IF(COUNTIF(B$2:B464,B464)=1,B464,\"\")","v":""},null,null,null,null,null,null,null,null,null,null,null,null,null,null,null,{"$f":"+IF(Y464=\"\",\"\",MAX(T$1:T463)+1)","v":""},{"$f":"IF(Limit_Deviation_Detail!B486=\"\",\"\",Limit_Deviation_Detail!B486)","v":""},{"$f":"IF(Limit_Deviation_Detail!C486=\"\",\"\",Limit_Deviation_Detail!C486)","v":""},{"$f":"IF(Limit_Deviation_Detail!E486=\"\",\"\",Limit_Deviation_Detail!E486)","v":""},"",{"$f":"IF(COUNTIF(X$2:X464,X464)=1,X464,\"\")","v":""},"","","","","",null,null,null,null,{"$f":"IF(COUNTIF(AM$2:AM464,AM464)=1,AM464,\"\")","v":""},{"$f":"IF(CMS_Deviation_Detail!B486=\"\",\"\",CMS_Deviation_Detail!B486)","v":""},{"$f":"IF(CMS_Deviation_Detail!C486=\"\",\"\",CMS_Deviation_Detail!C486)","v":""},{"$f":"IF(CMS_Deviation_Detail!D486=\"\",\"\",CMS_Deviation_Detail!D486)","v":""},"",{"$f":"+IF(AI464=\"\",\"\",MAX(AN$1:AN463)+1)","v":""},"","","","","","",null,{"$f":"IF(COUNTIF(AZ$2:AZ464,AZ464)=1,AZ464,\"\")","v":""},{"$f":"IF(Limit_Deviation_Detail!B486=\"\",\"\",Limit_Deviation_Detail!B486)","v":""},{"$f":"IF(Limit_Deviation_Detail!C486=\"\",\"\",Limit_Deviation_Detail!C486)","v":""},{"$f":"IF(Limit_Deviation_Detail!E486=\"\",\"\",Limit_Deviation_Detail!E486)","v":""},"",{"$f":"+IF(AV464=\"\",\"\",MAX(BA$1:BA463)+1)","v":""},"","","",""]
[{"$f":"+IF(D465=\"\",\"\",MAX(A$1:A464)+1)","v":""},{"$f":"IF(Affected_Sources!C487=\"\",\"\",Affected_Sources!C487)","v":""},"",{"$f":"IF(COUNTIF(B$2:B465,B465)=1,B465,\"\")","v":""},null,null,null,null,null,null,null,null,null,null,null,null,null,null,null,{"$f":"+IF(Y465=\"\",\"\",MAX(T$1:T464)+1)","v":""},{"$f":"IF(Limit_Deviation_Detail!B487=\"\",\"\",Limit_Deviation_Detail!B487)","v":""},{"$f":"IF(Limit_Deviation_Detail!C487=\"\",\"\",Limit_Deviation_Detail!C487)","v":""},{"$f":"IF(Limit_Deviation_Detail!E487=\"\",\"\",Limit_Deviation_Detail!E487)","v":""},"",{"$f":"IF(COUNTIF(X$2:X465,X465)=1,X465,\"\")","v":""},"","","","","",null,null,null,null,{"$f":"IF(COUNTIF(AM$2:AM465,AM465)=1,AM465,\"\")","v":""},{"$f":"IF(CMS_Deviation_Detail!B487=\"\",\"\",CMS_Deviation_Detail!B487)","v":""},{"$f":"IF(CMS_Deviation_Detail!C487=\"\",\"\",CMS_Deviation_Detail!C487)","v":""},{"$f":"IF(CMS_Deviation_Detail!D487=\"\",\"\",CMS_Deviation_Detail!D487)","v":""},"",{"$f":"+IF(AI465=\"\",\"\",MAX(AN$1:AN464)+1)","v":""},"","","","","","",null,{"$f":"IF(COUNTIF(AZ$2:AZ465,AZ465)=1,AZ465,\"\")","v":""},{"$f":"IF(Limit_Deviation_Detail!B487=\"\",\"\",Limit_Deviation_Detail!B487)","v":""},{"$f":"IF(Limit_Deviation_Detail!C487=\"\",\"\",Limit_Deviation_Detail!C487)","v":""},{"$f":"IF(Limit_Deviation_Detail!E487=\"\",\"\",Limit_Deviation_Detail!E487)","v":""},"",{"$f":"+IF(AV465=\"\",\"\",MAX(BA$1:BA464)+1)","v":""},"","","",""]
[{"$f":"+IF(D466=\"\",\"\",MAX(A$1:A465)+1)","v":""},{"$f":"IF(Affected_Sources!C488=\"\",\"\",Affected_Sources!C488)","v":""},"",{"$f":"IF(COUNTIF(B$2:B466,B466)=1,B466,\"\")","v":""},null,null,null,null,null,null,null,null,null,null,null,null,null,null,null,{"$f":"+IF(Y466=\"\",\"\",MAX(T$1:T465)+1)","v":""},{"$f":"IF(Limit_Deviation_Detail!B488=\"\",\"\",Limit_Deviation_Detail!B488)","v":""},{"$f":"IF(Limit_Deviation_Detail!C488=\"\",\"\",Limit_Deviation_Detail!C488)","v":""},{"$f":"IF(Limit_Deviation_Detail!E488=\"\",\"\",Limit_Deviation_Detail!E488)","v":""},"",{"$f":"IF(COUNTIF(X$2:X466,X466)=1,X466,\"\")","v":""},"","","","","",null,null,null,null,{"$f":"IF(COUNTIF(AM$2:AM466,AM466)=1,AM466,\"\")","v":""},{"$f":"IF(CMS_Deviation_Detail!B488=\"\",\"\",CMS_Deviation_Detail!B488)","v":""},{"$f":"IF(CMS_Deviation_Detail!C488=\"\",\"\",CMS_Deviation_Detail!C488)","v":""},{"$f":"IF(CMS_Deviation_Detail!D488=\"\",\"\",CMS_Deviation_Detail!D488)","v":""},"",{"$f":"+IF(AI466=\"\",\"\",MAX(AN$1:AN465)+1)","v":""},"","","","","","",null,{"$f":"IF(COUNTIF(AZ$2:AZ466,AZ466)=1,AZ466,\"\")","v":""},{"$f":"IF(Limit_Deviation_Detail!B488=\"\",\"\",Limit_Deviation_Detail!B488)","v":""},{"$f":"IF(Limit_Deviation_Detail!C488=\"\",\"\",Limit_Deviation_Detail!C488)","v":""},{"$f":"IF(Limit_Deviation_Detail!E488=\"\",\"\",Limit_Deviation_Detail!E488)","v":""},"",{"$f":"+IF(AV466=\"\",\"\",MAX(BA$1:BA465)+1)","v":""},"","","",""]
[{"$f":"+IF(D467=\"\",\"\",MAX(A$1:A466)+1)","v":""},{"$f":"IF(Affected_Sources!C489=\"\",\"\",Affected_Sources!C489)","v":""},"",{"$f":"IF(COUNTIF(B$2:B467,B467)=1,B467,\"\")","v":""},null,null,null,null,null,null,null,null,null,null,null,null,null,null,null,{"$f":"+IF(Y467=\"\",\"\",MAX(T$1:T466)+1)","v":""},{"$f":"IF(Limit_Deviation_Detail!B489=\"\",\"\",Limit_Deviation_Detail!B489)","v":""},{"$f":"IF(Limit_Deviation_Detail!C489=\"\",\"\",Limit_Deviation_Detail!C489)","v":""},{"$f":"IF(Limit_Deviation_Detail!E489=\"\",\"\",Limit_Deviation_Detail!E489)","v":""},"",{"$f":"IF(COUNTIF(X$2:X467,X467)=1,X467,\"\")","v":""},"","","","","",null,null,null,null,{"$f":"IF(COUNTIF(AM$2:AM467,AM467)=1,AM467,\"\")","v":""},{"$f":"IF(CMS_Deviation_Detail!B489=\"\",\"\",CMS_Deviation_Detail!B489)","v":""},{"$f":"IF(CMS_Deviation_Detail!C489=\"\",\"\",CMS_Deviation_Detail!C489)","v":""},{"$f":"IF(CMS_Deviation_Detail!D489=\"\",\"\",CMS_Deviation_Detail!D489)","v":""},"",{"$f":"+IF(AI467=\"\",\"\",MAX(AN$1:AN466)+1)","v":""},"","","","","","",null,{"$f":"IF(COUNTIF(AZ$2:AZ467,AZ467)=1,AZ467,\"\")","v":""},{"$f":"IF(Limit_Deviation_Detail!B489=\"\",\"\",Limit_Deviation_Detail!B489)","v":""},{"$f":"IF(Limit_Deviation_Detail!C489=\"\",\"\",Limit_Deviation_Detail!C489)","v":""},{"$f":"IF(Limit_Deviation_Detail!E489=\"\",\"\",Limit_Deviation_Detail!E489)","v":""},"",{"$f":"+IF(AV467=\"\",\"\",MAX(BA$1:BA466)+1)","v":""},"","","",""]
[{"$f":"+IF(D468=\"\",\"\",MAX(A$1:A467)+1)","v":""},{"$f":"IF(Affected_Sources!C490=\"\",\"\",Affected_Sources!C490)","v":""},"",{"$f":"IF(COUNTIF(B$2:B468,B468)=1,B468,\"\")","v":""},null,null,null,null,null,null,null,null,null,null,null,null,null,null,null,{"$f":"+IF(Y468=\"\",\"\",MAX(T$1:T467)+1)","v":""},{"$f":"IF(Limit_Deviation_Detail!B490=\"\",\"\",Limit_Deviation_Detail!B490)","v":""},{"$f":"IF(Limit_Deviation_Detail!C490=\"\",\"\",Limit_Deviation_Detail!C490)","v":""},{"$f":"IF(Limit_Deviation_Detail!E490=\"\",\"\",Limit_Deviation_Detail!E490)","v":""},"",{"$f":"IF(COUNTIF(X$2:X468,X468)=1,X468,\"\")","v":""},"","","","","",null,null,null,null,{"$f":"IF(COUNTIF(AM$2:AM468,AM468)=1,AM468,\"\")","v":""},{"$f":"IF(CMS_Deviation_Detail!B490=\"\",\"\",CMS_Deviation_Detail!B490)","v":""},{"$f":"IF(CMS_Deviation_Detail!C490=\"\",\"\",CMS_Deviation_Detail!C490)","v":""},{"$f":"IF(CMS_Deviation_Detail!D490=\"\",\"\",CMS_Deviation_Detail!D490)","v":""},"",{"$f":"+IF(AI468=\"\",\"\",MAX(AN$1:AN467)+1)","v":""},"","","","","","",null,{"$f":"IF(COUNTIF(AZ$2:AZ468,AZ468)=1,AZ468,\"\")","v":""},{"$f":"IF(Limit_Deviation_Detail!B490=\"\",\"\",Limit_Deviation_Detail!B490)","v":""},{"$f":"IF(Limit_Deviation_Detail!C490=\"\",\"\",Limit_Deviation_Detail!C490)","v":""},{"$f":"IF(Limit_Deviation_Detail!E490=\"\",\"\",Limit_Deviation_Detail!E490)","v":""},"",{"$f":"+IF(AV468=\"\",\"\",MAX(BA$1:BA467)+1)","v":""},"","","",""]
[{"$f":"+IF(D469=\"\",\"\",MAX(A$1:A468)+1)","v":""},{"$f":"IF(Affected_Sources!C491=\"\",\"\",Affected_Sources!C491)","v":""},"",{"$f":"IF(COUNTIF(B$2:B469,B469)=1,B469,\"\")","v":""},null,null,null,null,null,null,null,null,null,null,null,null,null,null,null,{"$f":"+IF(Y469=\"\",\"\",MAX(T$1:T468)+1)","v":""},{"$f":"IF(Limit_Deviation_Detail!B491=\"\",\"\",Limit_Deviation_Detail!B491)","v":""},{"$f":"IF(Limit_Deviation_Detail!C491=\"\",\"\",Limit_Deviation_Detail!C491)","v":""},{"$f":"IF(Limit_Deviation_Detail!E491=\"\",\"\",Limit_Deviation_Detail!E491)","v":""},"",{"$f":"IF(COUNTIF(X$2:X469,X469)=1,X469,\"\")","v":""},"","","","","",null,null,null,null,{"$f":"IF(COUNTIF(AM$2:AM469,AM469)=1,AM469,\"\")","v":""},{"$f":"IF(CMS_Deviation_Detail!B491=\"\",\"\",CMS_Deviation_Detail!B491)","v":""},{"$f":"IF(CMS_Deviation_Detail!C491=\"\",\"\",CMS_Deviation_Detail!C491)","v":""},{"$f":"IF(CMS_Deviation_Detail!D491=\"\",\"\",CMS_Deviation_Detail!D491)","v":""},"",{"$f":"+IF(AI469=\"\",\"\",MAX(AN$1:AN468)+1)","v":""},"","","","","","",null,{"$f":"IF(COUNTIF(AZ$2:AZ469,AZ469)=1,AZ469,\"\")","v":""},{"$f":"IF(Limit_Deviation_Detail!B491=\"\",\"\",Limit_Deviation_Detail!B491)","v":""},{"$f":"IF(Limit_Deviation_Detail!C491=\"\",\"\",Limit_Deviation_Detail!C491)","v":""},{"$f":"IF(Limit_Deviation_Detail!E491=\"\",\"\",Limit_Deviation_Detail!E491)","v":""},"",{"$f":"+IF(AV469=\"\",\"\",MAX(BA$1:BA468)+1)","v":""},"","","",""]
[{"$f":"+IF(D470=\"\",\"\",MAX(A$1:A469)+1)","v":""},{"$f":"IF(Affected_Sources!C492=\"\",\"\",Affected_Sources!C492)","v":""},"",{"$f":"IF(COUNTIF(B$2:B470,B470)=1,B470,\"\")","v":""},null,null,null,null,null,null,null,null,null,null,null,null,null,null,null,{"$f":"+IF(Y470=\"\",\"\",MAX(T$1:T469)+1)","v":""},{"$f":"IF(Limit_Deviation_Detail!B492=\"\",\"\",Limit_Deviation_Detail!B492)","v":""},{"$f":"IF(Limit_Deviation_Detail!C492=\"\",\"\",Limit_Deviation_Detail!C492)","v":""},{"$f":"IF(Limit_Deviation_Detail!E492=\"\",\"\",Limit_Deviation_Detail!E492)","v":""},"",{"$f":"IF(COUNTIF(X$2:X470,X470)=1,X470,\"\")","v":""},"","","","","",null,null,null,null,{"$f":"IF(COUNTIF(AM$2:AM470,AM470)=1,AM470,\"\")","v":""},{"$f":"IF(CMS_Deviation_Detail!B492=\"\",\"\",CMS_Deviation_Detail!B492)","v":""},{"$f":"IF(CMS_Deviation_Detail!C492=\"\",\"\",CMS_Deviation_Detail!C492)","v":""},{"$f":"IF(CMS_Deviation_Detail!D492=\"\",\"\",CMS_Deviation_Detail!D492)","v":""},"",{"$f":"+IF(AI470=\"\",\"\",MAX(AN$1:AN469)+1)","v":""},"","","","","","",null,{"$f":"IF(COUNTIF(AZ$2:AZ470,AZ470)=1,AZ470,\"\")","v":""},{"$f":"IF(Limit_Deviation_Detail!B492=\"\",\"\",Limit_Deviation_Detail!B492)","v":""},{"$f":"IF(Limit_Deviation_Detail!C492=\"\",\"\",Limit_Deviation_Detail!C492)","v":""},{"$f":"IF(Limit_Deviation_Detail!E492=\"\",\"\",Limit_Deviation_Detail!E492)","v":""},"",{"$f":"+IF(AV470=\"\",\"\",MAX(BA$1:BA469)+1)","v":""},"","","",""]
[{"$f":"+IF(D471=\"\",\"\",MAX(A$1:A470)+1)","v":""},{"$f":"IF(Affected_Sources!C493=\"\",\"\",Affected_Sources!C493)","v":""},"",{"$f":"IF(COUNTIF(B$2:B471,B471)=1,B471,\"\")","v":""},null,null,null,null,null,null,null,null,null,null,null,null,null,null,null,{"$f":"+IF(Y471=\"\",\"\",MAX(T$1:T470)+1)","v":""},{"$f":"IF(Limit_Deviation_Detail!B493=\"\",\"\",Limit_Deviation_Detail!B493)","v":""},{"$f":"IF(Limit_Deviation_Detail!C493=\"\",\"\",Limit_Deviation_Detail!C493)","v":""},{"$f":"IF(Limit_Deviation_Detail!E493=\"\",\"\",Limit_Deviation_Detail!E493)","v":""},"",{"$f":"IF(COUNTIF(X$2:X471,X471)=1,X471,\"\")","v":""},"","","","","",null,null,null,null,{"$f":"IF(COUNTIF(AM$2:AM471,AM471)=1,AM471,\"\")","v":""},{"$f":"IF(CMS_Deviation_Detail!B493=\"\",\"\",CMS_Deviation_Detail!B493)","v":""},{"$f":"IF(CMS_Deviation_Detail!C493=\"\",\"\",CMS_Deviation_Detail!C493)","v":""},{"$f":"IF(CMS_Deviation_Detail!D493=\"\",\"\",CMS_Deviation_Detail!D493)","v":""},"",{"$f":"+IF(AI471=\"\",\"\",MAX(AN$1:AN470)+1)","v":""},"","","","","","",null,{"$f":"IF(COUNTIF(AZ$2:AZ471,AZ471)=1,AZ471,\"\")","v":""},{"$f":"IF(Limit_Deviation_Detail!B493=\"\",\"\",Limit_Deviation_Detail!B493)","v":""},{"$f":"IF(Limit_Deviation_Detail!C493=\"\",\"\",Limit_Deviation_Detail!C493)","v":""},{"$f":"IF(Limit_Deviation_Detail!E493=\"\",\"\",Limit_Deviation_Detail!E493)","v":""},"",{"$f":"+IF(AV471=\"\",\"\",MAX(BA$1:BA470)+1)","v":""},"","","",""]
[{"$f":"+IF(D472=\"\",\"\",MAX(A$1:A471)+1)","v":""},{"$f":"IF(Affected_Sources!C494=\"\",\"\",Affected_Sources!C494)","v":""},"",{"$f":"IF(COUNTIF(B$2:B472,B472)=1,B472,\"\")","v":""},null,null,null,null,null,null,null,null,null,null,null,null,null,null,null,{"$f":"+IF(Y472=\"\",\"\",MAX(T$1:T471)+1)","v":""},{"$f":"IF(Limit_Deviation_Detail!B494=\"\",\"\",Limit_Deviation_Detail!B494)","v":""},{"$f":"IF(Limit_Deviation_Detail!C494=\"\",\"\",Limit_Deviation_Detail!C494)","v":""},{"$f":"IF(Limit_Deviation_Detail!E494=\"\",\"\",Limit_Deviation_Detail!E494)","v":""},"",{"$f":"IF(COUNTIF(X$2:X472,X472)=1,X472,\"\")","v":""},"","","","","",null,null,null,null,{"$f":"IF(COUNTIF(AM$2:AM472,AM472)=1,AM472,\"\")","v":""},{"$f":"IF(CMS_Deviation_Detail!B494=\"\",\"\",CMS_Deviation_Detail!B494)","v":""},{"$f":"IF(CMS_Deviation_Detail!C494=\"\",\"\",CMS_Deviation_Detail!C494)","v":""},{"$f":"IF(CMS_Deviation_Detail!D494=\"\",\"\",CMS_Deviation_Detail!D494)","v":""},"",{"$f":"+IF(AI472=\"\",\"\",MAX(AN$1:AN471)+1)","v":""},"","","","","","",null,{"$f":"IF(COUNTIF(AZ$2:AZ472,AZ472)=1,AZ472,\"\")","v":""},{"$f":"IF(Limit_Deviation_Detail!B494=\"\",\"\",Limit_Deviation_Detail!B494)","v":""},{"$f":"IF(Limit_Deviation_Detail!C494=\"\",\"\",Limit_Deviation_Detail!C494)","v":""},{"$f":"IF(Limit_Deviation_Detail!E494=\"\",\"\",Limit_Deviation_Detail!E494)","v":""},"",{"$f":"+IF(AV472=\"\",\"\",MAX(BA$1:BA471)+1)","v":""},"","","",""]
[{"$f":"+IF(D473=\"\",\"\",MAX(A$1:A472)+1)","v":""},{"$f":"IF(Affected_Sources!C495=\"\",\"\",Affected_Sources!C495)","v":""},"",{"$f":"IF(COUNTIF(B$2:B473,B473)=1,B473,\"\")","v":""},null,null,null,null,null,null,null,null,null,null,null,null,null,null,null,{"$f":"+IF(Y473=\"\",\"\",MAX(T$1:T472)+1)","v":""},{"$f":"IF(Limit_Deviation_Detail!B495=\"\",\"\",Limit_Deviation_Detail!B495)","v":""},{"$f":"IF(Limit_Deviation_Detail!C495=\"\",\"\",Limit_Deviation_Detail!C495)","v":""},{"$f":"IF(Limit_Deviation_Detail!E495=\"\",\"\",Limit_Deviation_Detail!E495)","v":""},"",{"$f":"IF(COUNTIF(X$2:X473,X473)=1,X473,\"\")","v":""},"","","","","",null,null,null,null,{"$f":"IF(COUNTIF(AM$2:AM473,AM473)=1,AM473,\"\")","v":""},{"$f":"IF(CMS_Deviation_Detail!B495=\"\",\"\",CMS_Deviation_Detail!B495)","v":""},{"$f":"IF(CMS_Deviation_Detail!C495=\"\",\"\",CMS_Deviation_Detail!C495)","v":""},{"$f":"IF(CMS_Deviation_Detail!D495=\"\",\"\",CMS_Deviation_Detail!D495)","v":""},"",{"$f":"+IF(AI473=\"\",\"\",MAX(AN$1:AN472)+1)","v":""},"","","","","","",null,{"$f":"IF(COUNTIF(AZ$2:AZ473,AZ473)=1,AZ473,\"\")","v":""},{"$f":"IF(Limit_Deviation_Detail!B495=\"\",\"\",Limit_Deviation_Detail!B495)","v":""},{"$f":"IF(Limit_Deviation_Detail!C495=\"\",\"\",Limit_Deviation_Detail!C495)","v":""},{"$f":"IF(Limit_Deviation_Detail!E495=\"\",\"\",Limit_Deviation_Detail!E495)","v":""},"",{"$f":"+IF(AV473=\"\",\"\",MAX(BA$1:BA472)+1)","v":""},"","","",""]
[{"$f":"+IF(D474=\"\",\"\",MAX(A$1:A473)+1)","v":""},{"$f":"IF(Affected_Sources!C496=\"\",\"\",Affected_Sources!C496)","v":""},"",{"$f":"IF(COUNTIF(B$2:B474,B474)=1,B474,\"\")","v":""},null,null,null,null,null,null,null,null,null,null,null,null,null,null,null,{"$f":"+IF(Y474=\"\",\"\",MAX(T$1:T473)+1)","v":""},{"$f":"IF(Limit_Deviation_Detail!B496=\"\",\"\",Limit_Deviation_Detail!B496)","v":""},{"$f":"IF(Limit_Deviation_Detail!C496=\"\",\"\",Limit_Deviation_Detail!C496)","v":""},{"$f":"IF(Limit_Deviation_Detail!E496=\"\",\"\",Limit_Deviation_Detail!E496)","v":""},"",{"$f":"IF(COUNTIF(X$2:X474,X474)=1,X474,\"\")","v":""},"","","","","",null,null,null,null,{"$f":"IF(COUNTIF(AM$2:AM474,AM474)=1,AM474,\"\")","v":""},{"$f":"IF(CMS_Deviation_Detail!B496=\"\",\"\",CMS_Deviation_Detail!B496)","v":""},{"$f":"IF(CMS_Deviation_Detail!C496=\"\",\"\",CMS_Deviation_Detail!C496)","v":""},{"$f":"IF(CMS_Deviation_Detail!D496=\"\",\"\",CMS_Deviation_Detail!D496)","v":""},"",{"$f":"+IF(AI474=\"\",\"\",MAX(AN$1:AN473)+1)","v":""},"","","","","","",null,{"$f":"IF(COUNTIF(AZ$2:AZ474,AZ474)=1,AZ474,\"\")","v":""},{"$f":"IF(Limit_Deviation_Detail!B496=\"\",\"\",Limit_Deviation_Detail!B496)","v":""},{"$f":"IF(Limit_Deviation_Detail!C496=\"\",\"\",Limit_Deviation_Detail!C496)","v":""},{"$f":"IF(Limit_Deviation_Detail!E496=\"\",\"\",Limit_Deviation_Detail!E496)","v":""},"",{"$f":"+IF(AV474=\"\",\"\",MAX(BA$1:BA473)+1)","v":""},"","","",""]
[{"$f":"+IF(D475=\"\",\"\",MAX(A$1:A474)+1)","v":""},{"$f":"IF(Affected_Sources!C497=\"\",\"\",Affected_Sources!C497)","v":""},"",{"$f":"IF(COUNTIF(B$2:B475,B475)=1,B475,\"\")","v":""},null,null,null,null,null,null,null,null,null,null,null,null,null,null,null,{"$f":"+IF(Y475=\"\",\"\",MAX(T$1:T474)+1)","v":""},{"$f":"IF(Limit_Deviation_Detail!B497=\"\",\"\",Limit_Deviation_Detail!B497)","v":""},{"$f":"IF(Limit_Deviation_Detail!C497=\"\",\"\",Limit_Deviation_Detail!C497)","v":""},{"$f":"IF(Limit_Deviation_Detail!E497=\"\",\"\",Limit_Deviation_Detail!E497)","v":""},"",{"$f":"IF(COUNTIF(X$2:X475,X475)=1,X475,\"\")","v":""},"","","","","",null,null,null,null,{"$f":"IF(COUNTIF(AM$2:AM475,AM475)=1,AM475,\"\")","v":""},{"$f":"IF(CMS_Deviation_Detail!B497=\"\",\"\",CMS_Deviation_Detail!B497)","v":""},{"$f":"IF(CMS_Deviation_Detail!C497=\"\",\"\",CMS_Deviation_Detail!C497)","v":""},{"$f":"IF(CMS_Deviation_Detail!D497=\"\",\"\",CMS_Deviation_Detail!D497)","v":""},"",{"$f":"+IF(AI475=\"\",\"\",MAX(AN$1:AN474)+1)","v":""},"","","","","","",null,{"$f":"IF(COUNTIF(AZ$2:AZ475,AZ475)=1,AZ475,\"\")","v":""},{"$f":"IF(Limit_Deviation_Detail!B497=\"\",\"\",Limit_Deviation_Detail!B497)","v":""},{"$f":"IF(Limit_Deviation_Detail!C497=\"\",\"\",Limit_Deviation_Detail!C497)","v":""},{"$f":"IF(Limit_Deviation_Detail!E497=\"\",\"\",Limit_Deviation_Detail!E497)","v":""},"",{"$f":"+IF(AV475=\"\",\"\",MAX(BA$1:BA474)+1)","v":""},"","","",""]
[{"$f":"+IF(D476=\"\",\"\",MAX(A$1:A475)+1)","v":""},{"$f":"IF(Affected_Sources!C498=\"\",\"\",Affected_Sources!C498)","v":""},"",{"$f":"IF(COUNTIF(B$2:B476,B476)=1,B476,\"\")","v":""},null,null,null,null,null,null,null,null,null,null,null,null,null,null,null,{"$f":"+IF(Y476=\"\",\"\",MAX(T$1:T475)+1)","v":""},{"$f":"IF(Limit_Deviation_Detail!B498=\"\",\"\",Limit_Deviation_Detail!B498)","v":""},{"$f":"IF(Limit_Deviation_Detail!C498=\"\",\"\",Limit_Deviation_Detail!C498)","v":""},{"$f":"IF(Limit_Deviation_Detail!E498=\"\",\"\",Limit_Deviation_Detail!E498)","v":""},"",{"$f":"IF(COUNTIF(X$2:X476,X476)=1,X476,\"\")","v":""},"","","","","",null,null,null,null,{"$f":"IF(COUNTIF(AM$2:AM476,AM476)=1,AM476,\"\")","v":""},{"$f":"IF(CMS_Deviation_Detail!B498=\"\",\"\",CMS_Deviation_Detail!B498)","v":""},{"$f":"IF(CMS_Deviation_Detail!C498=\"\",\"\",CMS_Deviation_Detail!C498)","v":""},{"$f":"IF(CMS_Deviation_Detail!D498=\"\",\"\",CMS_Deviation_Detail!D498)","v":""},"",{"$f":"+IF(AI476=\"\",\"\",MAX(AN$1:AN475)+1)","v":""},"","","","","","",null,{"$f":"IF(COUNTIF(AZ$2:AZ476,AZ476)=1,AZ476,\"\")","v":""},{"$f":"IF(Limit_Deviation_Detail!B498=\"\",\"\",Limit_Deviation_Detail!B498)","v":""},{"$f":"IF(Limit_Deviation_Detail!C498=\"\",\"\",Limit_Deviation_Detail!C498)","v":""},{"$f":"IF(Limit_Deviation_Detail!E498=\"\",\"\",Limit_Deviation_Detail!E498)","v":""},"",{"$f":"+IF(AV476=\"\",\"\",MAX(BA$1:BA475)+1)","v":""},"","","",""]
[{"$f":"+IF(D477=\"\",\"\",MAX(A$1:A476)+1)","v":""},{"$f":"IF(Affected_Sources!C499=\"\",\"\",Affected_Sources!C499)","v":""},"",{"$f":"IF(COUNTIF(B$2:B477,B477)=1,B477,\"\")","v":""},null,null,null,null,null,null,null,null,null,null,null,null,null,null,null,{"$f":"+IF(Y477=\"\",\"\",MAX(T$1:T476)+1)","v":""},{"$f":"IF(Limit_Deviation_Detail!B499=\"\",\"\",Limit_Deviation_Detail!B499)","v":""},{"$f":"IF(Limit_Deviation_Detail!C499=\"\",\"\",Limit_Deviation_Detail!C499)","v":""},{"$f":"IF(Limit_Deviation_Detail!E499=\"\",\"\",Limit_Deviation_Detail!E499)","v":""},"",{"$f":"IF(COUNTIF(X$2:X477,X477)=1,X477,\"\")","v":""},"","","","","",null,null,null,null,{"$f":"IF(COUNTIF(AM$2:AM477,AM477)=1,AM477,\"\")","v":""},{"$f":"IF(CMS_Deviation_Detail!B499=\"\",\"\",CMS_Deviation_Detail!B499)","v":""},{"$f":"IF(CMS_Deviation_Detail!C499=\"\",\"\",CMS_Deviation_Detail!C499)","v":""},{"$f":"IF(CMS_Deviation_Detail!D499=\"\",\"\",CMS_Deviation_Detail!D499)","v":""},"",{"$f":"+IF(AI477=\"\",\"\",MAX(AN$1:AN476)+1)","v":""},"","","","","","",null,{"$f":"IF(COUNTIF(AZ$2:AZ477,AZ477)=1,AZ477,\"\")","v":""},{"$f":"IF(Limit_Deviation_Detail!B499=\"\",\"\",Limit_Deviation_Detail!B499)","v":""},{"$f":"IF(Limit_Deviation_Detail!C499=\"\",\"\",Limit_Deviation_Detail!C499)","v":""},{"$f":"IF(Limit_Deviation_Detail!E499=\"\",\"\",Limit_Deviation_Detail!E499)","v":""},"",{"$f":"+IF(AV477=\"\",\"\",MAX(BA$1:BA476)+1)","v":""},"","","",""]
[{"$f":"+IF(D478=\"\",\"\",MAX(A$1:A477)+1)","v":""},{"$f":"IF(Affected_Sources!C500=\"\",\"\",Affected_Sources!C500)","v":""},"",{"$f":"IF(COUNTIF(B$2:B478,B478)=1,B478,\"\")","v":""},null,null,null,null,null,null,null,null,null,null,null,null,null,null,null,{"$f":"+IF(Y478=\"\",\"\",MAX(T$1:T477)+1)","v":""},{"$f":"IF(Limit_Deviation_Detail!B500=\"\",\"\",Limit_Deviation_Detail!B500)","v":""},{"$f":"IF(Limit_Deviation_Detail!C500=\"\",\"\",Limit_Deviation_Detail!C500)","v":""},{"$f":"IF(Limit_Deviation_Detail!E500=\"\",\"\",Limit_Deviation_Detail!E500)","v":""},"",{"$f":"IF(COUNTIF(X$2:X478,X478)=1,X478,\"\")","v":""},"","","","","",null,null,null,null,{"$f":"IF(COUNTIF(AM$2:AM478,AM478)=1,AM478,\"\")","v":""},{"$f":"IF(CMS_Deviation_Detail!B500=\"\",\"\",CMS_Deviation_Detail!B500)","v":""},{"$f":"IF(CMS_Deviation_Detail!C500=\"\",\"\",CMS_Deviation_Detail!C500)","v":""},{"$f":"IF(CMS_Deviation_Detail!D500=\"\",\"\",CMS_Deviation_Detail!D500)","v":""},"",{"$f":"+IF(AI478=\"\",\"\",MAX(AN$1:AN477)+1)","v":""},"","","","","","",null,{"$f":"IF(COUNTIF(AZ$2:AZ478,AZ478)=1,AZ478,\"\")","v":""},{"$f":"IF(Limit_Deviation_Detail!B500=\"\",\"\",Limit_Deviation_Detail!B500)","v":""},{"$f":"IF(Limit_Deviation_Detail!C500=\"\",\"\",Limit_Deviation_Detail!C500)","v":""},{"$f":"IF(Limit_Deviation_Detail!E500=\"\",\"\",Limit_Deviation_Detail!E500)","v":""},"",{"$f":"+IF(AV478=\"\",\"\",MAX(BA$1:BA477)+1)","v":""},"","","",""]
[{"$f":"+IF(D479=\"\",\"\",MAX(A$1:A478)+1)","v":""},{"$f":"IF(Affected_Sources!C501=\"\",\"\",Affected_Sources!C501)","v":""},"",{"$f":"IF(COUNTIF(B$2:B479,B479)=1,B479,\"\")","v":""}]
[{"$f":"+IF(D480=\"\",\"\",MAX(A$1:A479)+1)","v":""},{"$f":"IF(Affected_Sources!C502=\"\",\"\",Affected_Sources!C502)","v":""},"",{"$f":"IF(COUNTIF(B$2:B480,B480)=1,B480,\"\")","v":""}]
[{"$f":"+IF(D481=\"\",\"\",MAX(A$1:A480)+1)","v":""},{"$f":"IF(Affected_Sources!C503=\"\",\"\",Affected_Sources!C503)","v":""},"",{"$f":"IF(COUNTIF(B$2:B481,B481)=1,B481,\"\")","v":""}]
[{"$f":"+IF(D482=\"\",\"\",MAX(A$1:A481)+1)","v":""},{"$f":"IF(Affected_Sources!C504=\"\",\"\",Affected_Sources!C504)","v":""},"",{"$f":"IF(COUNTIF(B$2:B482,B482)=1,B482,\"\")","v":""}]
[{"$f":"+IF(D483=\"\",\"\",MAX(A$1:A482)+1)","v":""},{"$f":"IF(Affected_Sources!C505=\"\",\"\",Affected_Sources!C505)","v":""},"",{"$f":"IF(COUNTIF(B$2:B483,B483)=1,B483,\"\")","v":""}]
[{"$f":"+IF(D484=\"\",\"\",MAX(A$1:A483)+1)","v":""},{"$f":"IF(Affected_Sources!C506=\"\",\"\",Affected_Sources!C506)","v":""},"",{"$f":"IF(COUNTIF(B$2:B484,B484)=1,B484,\"\")","v":""}]
[{"$f":"+IF(D485=\"\",\"\",MAX(A$1:A484)+1)","v":""},{"$f":"IF(Affected_Sources!C507=\"\",\"\",Affected_Sources!C507)","v":""},"",{"$f":"IF(COUNTIF(B$2:B485,B485)=1,B485,\"\")","v":""}]
[{"$f":"+IF(D486=\"\",\"\",MAX(A$1:A485)+1)","v":""},{"$f":"IF(Affected_Sources!C508=\"\",\"\",Affected_Sources!C508)","v":""},"",{"$f":"IF(COUNTIF(B$2:B486,B486)=1,B486,\"\")","v":""}]
[{"$f":"+IF(D487=\"\",\"\",MAX(A$1:A486)+1)","v":""},{"$f":"IF(Affected_Sources!C509=\"\",\"\",Affected_Sources!C509)","v":""},"",{"$f":"IF(COUNTIF(B$2:B487,B487)=1,B487,\"\")","v":""}]
[{"$f":"+IF(D488=\"\",\"\",MAX(A$1:A487)+1)","v":""},{"$f":"IF(Affected_Sources!C510=\"\",\"\",Affected_Sources!C510)","v":""},"",{"$f":"IF(COUNTIF(B$2:B488,B488)=1,B488,\"\")","v":""}]
[{"$f":"+IF(D489=\"\",\"\",MAX(A$1:A488)+1)","v":""},{"$f":"IF(Affected_Sources!C511=\"\",\"\",Affected_Sources!C511)","v":""},"",{"$f":"IF(COUNTIF(B$2:B489,B489)=1,B489,\"\")","v":""}]
[{"$f":"+IF(D490=\"\",\"\",MAX(A$1:A489)+1)","v":""},{"$f":"IF(Affected_Sources!C512=\"\",\"\",Affected_Sources!C512)","v":""},"",{"$f":"IF(COUNTIF(B$2:B490,B490)=1,B490,\"\")","v":""}]
[{"$f":"+IF(D491=\"\",\"\",MAX(A$1:A490)+1)","v":""},{"$f":"IF(Affected_Sources!C513=\"\",\"\",Affected_Sources!C513)","v":""},"",{"$f":"IF(COUNTIF(B$2:B491,B491)=1,B491,\"\")","v":""}]
[{"$f":"+IF(D492=\"\",\"\",MAX(A$1:A491)+1)","v":""},{"$f":"IF(Affected_Sources!C514=\"\",\"\",Affected_Sources!C514)","v":""},"",{"$f":"IF(COUNTIF(B$2:B492,B492)=1,B492,\"\")","v":""}]
[{"$f":"+IF(D493=\"\",\"\",MAX(A$1:A492)+1)","v":""},{"$f":"IF(Affected_Sources!C515=\"\",\"\",Affected_Sources!C515)","v":""},"",{"$f":"IF(COUNTIF(B$2:B493,B493)=1,B493,\"\")","v":""}]
[{"$f":"+IF(D494=\"\",\"\",MAX(A$1:A493)+1)","v":""},{"$f":"IF(Affected_Sources!C516=\"\",\"\",Affected_Sources!C516)","v":""},"",{"$f":"IF(COUNTIF(B$2:B494,B494)=1,B494,\"\")","v":""}]
[{"$f":"+IF(D495=\"\",\"\",MAX(A$1:A494)+1)","v":""},{"$f":"IF(Affected_Sources!C517=\"\",\"\",Affected_Sources!C517)","v":""},"",{"$f":"IF(COUNTIF(B$2:B495,B495)=1,B495,\"\")","v":""}]
[{"$f":"+IF(D496=\"\",\"\",MAX(A$1:A495)+1)","v":""},{"$f":"IF(Affected_Sources!C518=\"\",\"\",Affected_Sources!C518)","v":""},"",{"$f":"IF(COUNTIF(B$2:B496,B496)=1,B496,\"\")","v":""}]
[{"$f":"+IF(D497=\"\",\"\",MAX(A$1:A496)+1)","v":""},{"$f":"IF(Affected_Sources!C519=\"\",\"\",Affected_Sources!C519)","v":""},"",{"$f":"IF(COUNTIF(B$2:B497,B497)=1,B497,\"\")","v":""}]
[{"$f":"+IF(D498=\"\",\"\",MAX(A$1:A497)+1)","v":""},{"$f":"IF(Affected_Sources!C520=\"\",\"\",Affected_Sources!C520)","v":""},"",{"$f":"IF(COUNTIF(B$2:B498,B498)=1,B498,\"\")","v":""}]
[{"$f":"+IF(D499=\"\",\"\",MAX(A$1:A498)+1)","v":""},{"$f":"IF(Affected_Sources!C521=\"\",\"\",Affected_Sources!C521)","v":""},"",{"$f":"IF(COUNTIF(B$2:B499,B499)=1,B499,\"\")","v":""}]
[{"$f":"+IF(D500=\"\",\"\",MAX(A$1:A499)+1)","v":""},{"$f":"IF(Affected_Sources!C522=\"\",\"\",Affected_Sources!C522)","v":""},"",{"$f":"IF(COUNTIF(B$2:B500,B500)=1,B500,\"\")","v":""}]

{"sheet":"Welcome","index":1,"n_rows":15,"n_cols":2,"rows_kept":15,"cut":false,"hidden":false,"merged":[]}
[]
["Template Name","63.7751(a) Semiannual Compliance Report (Spreadsheet Template)"]
["CitationID","63.7751(a)"]
["Template Version","v1.00"]
["Last Updated Date",44008]
["Blank","OMB No.: 2060-0543 Expiration Date: 11/30/2019"]
["Blank","40 CFR Part 63, Subpart EEEEE National Emission Standards for Hazardous Air Pollutants: Iron and Steel Foundries - \n§63.7751(a)  Semiannual Compliance Report Spreadsheet Template"]
[null,"Instructions for Spreadsheet Template\n\nPurpose:\nThis spreadsheet template was designed by the U.S. EPA to facilitate Semiannual Compliance reporting for facilities subject under the 40 CFR part 63, subpart EEEEE National Emission Standard for Hazardous Air Pollutants: Iron and Steel Foundries.  \n"]
[null,"Electronic reporting:\nElectronic submission of Semiannual Compliance Reports through the EPA's Compliance and Emissions Data Reporting Interface (CEDRI) is required under §63.7751(e). CEDRI is accessed through the EPA's Central Data Exchange (https://cdx.epa.gov).\n"]
[null,"The CEDRI spreadsheet template upload feature allows you to submit data in a single report for a single company or multiple companies, as well as multiple sites, using this EPA provided Excel workbook.  Data for each company must be entered into the worksheet labeled \"Company Information\" in this Excel workbook.  Each row in the \"Company Information\" worksheet includes the data for a single company. The Company Record No. will be used to match the information on each worksheet to the appropriate company. \n\nFor each facility record found in the \"Company Information\" worksheet, you may reference a single file attachment that includes additional information. \n"]
[null,"IMPORTANT: The spreadsheet must be uploaded into CEDRI as a single ZIP file, which must include this Excel workbook and any related attachments that were referenced in the workbook (i.e., additional information file found in the \"Company Information\" worksheet).\n\nNote: If you are uploading file attachments for your report, the uploaded files may be in any format (e.g., zip, docx, PDF). If you would like to include an Excel file(s) as an attachment, you must first zip the Excel file(s) into a separate ZIP file to the master ZIP file that will be uploaded into CEDRI.\n"]
[null,"Once all data have been entered in the worksheet, combine this Excel workbook and all attachment files (including any ZIP file containing separate Excel file(s), if applicable) into a single ZIP file for upload to CEDRI.\n\nPlease ensure your report includes all of the required data elements found in the listed citations below for this spreadsheet upload submission."]
[null,"Do not submit information you claim as confidential business information (CBI) to EPA via CEDRI. EPA will make all the information submitted through this form via CEDRI available to the public without further notice to you. Anything submitted using CEDRI cannot later be claimed to be CBI. Furthermore, under CAA section 114(c) emissions data is not entitled to confidential treatment and requires EPA to make emissions data available to the public. Thus, emissions data will not be protected as CBI and will be made publicly available.\n"]
[null,"Although we do not expect persons to assert a claim of CBI, if persons wish to assert a CBI claim, you must submit the report via CEDRI with the CBI omitted and mail a complete report, including any information claimed to be CBI, to EPA on a compact disc, flash drive, or other commonly used electronic storage media via U.S. postal service. You must mark the outside of the digital storage media as CBI and then identify electronically within the digital storage media the specific information that is claimed as CBI. Mail the media to the address in the referencing federal regulation. If no address is specified, mail the media to:\n\nU.S. EPA/OAQPS/CORE CBI Office Attention: Group Leader, \nMeasurement Policy Group MD C404-02\n4930 Old Page Rd\nDurham, North Carolina 27703"]
["Blank","Template Navigation and Tabs to Complete:\nGray Tabs (Complete first):  The gray tabs (Company_Information, Affected_Sources, and CMS_Identificaiton) contains general information that is likely to be mostly unchanged from report to report.  These tabs do contain dates and the operating time of the sources over the reporting period, which must be updated with each report. After completing the gray tabs, the workbook may be saved as a site specific template for use in subsequent reports to limit subsequent data entry.  \n\nGreen Tabs:  Green tabs are completed as necessary for the facility.  Complete in the following order: CMS_Identification, Description_of_Changes, CMS_Deviation_Detail, CMS_Deviation_Summary, Limit_Deviation_Detail, and Limit_Deviation_Summary tabs. Some cells are linked to previous tabs or are calculations dependent upon data entry.  The two Summary tabs, CMS_Deviation_Summary and Limit_Deviation_Summary, are autocompleted based on entry in the respective detail tabs.\n\nBlue Tab: The blue tab (Certification) must be completed for each report. \n\nWithin the tabs, example rows are colored light red (rows 14 through 23), and the XML tags (row 13) are colored green.  These rows are locked; no data entry is made in these rows. "]

{"sheet":"Company_Information","index":2,"n_rows":33,"n_cols":15,"rows_kept":33,"cut":false,"hidden":false,"merged":[]}
[null,"DO NOT REMOVE OR EDIT INFORMATION IN ROWS 1 THROUGH 5\nFOR INTERNAL USE ONLY"]
[null,"Template Name",{"$f":"+Welcome!B2","v":"63.7751(a) Semiannual Compliance Report (Spreadsheet Template)"}]
[null,"CitationID",{"$f":"+Welcome!B3","v":"63.7751(a)"}]
[null,"Template Version",{"$f":"+Welcome!B4","v":"v1.00"}]
[null,"Last Updated Date",{"$f":"+Welcome!B5","v":44008}]
[null,{"$f":"Welcome!B6","v":"OMB No.: 2060-0543 Expiration Date: 11/30/2019"}]
[null,"40 CFR Part 63, Subpart EEEEE National Emission Standards for Hazardous Air Pollutants: Iron and Steel Foundries - "]
[null,"§63.7751(b) Semiannual Compliance Report Spreadsheet Template"]
[]
[]
[null,null,"SITE INFORMATION",null,null,null,null,null,null,null,"REPORTING PERIOD",null,null,"ADDITIONAL INFORMATION"]
[null,"Company Record No. \n(Field value will automatically generate if a value is not entered.)","Company Name \n(§63.7751(b)(1))","Address \n(§63.7751(b)(1))","Address 2 ","City \n(§63.7751(b)(1))","County","State Abbreviation \n(§63.7751(b)(1))","Zip Code \n(§63.7751(b)(1))","Responsible Agency Facility ID \n(State Facility Identifier)","Date of Report \n(§63.7751(b)(3))","Beginning Date of Reporting Period  \n(§63.7751(b)(3))","Ending Date of\n Reporting Period\n(§63.7751(b)(3))","Please enter any additional information.","Enter associated file name reference. "]
[null,"RecordId","CompanyName","AddressLine1","AddressLine2","CityName","CountyName","StateName","ZipCode","StateFacId","ReportDate","PeriodStartDate","PeriodEndDate","AddInfo","AddFile"]
[null,"e.g.: 1","e.g.: ABC Company","e.g.: 123 Main Street","e.g.: Suite 100","e.g.: Brooklyn","e.g.: Kings","e.g.: NY","e.g.: 11221","e.g.: 9145555555","e.g.: 7/15/2017","e.g.: 01/01/2017","e.g.: 6/30/2017",null,"e.g.: addlinfo.zip "]
[]
[]
[]
[]
[]
[]
[]
[]
[]
[null,{"$f":"IF(C24=\"\",\"\",MAX($B$23:B23)+1)","v":""}]
[null,{"$f":"IF(C25=\"\",\"\",MAX($B$23:B24)+1)","v":""}]
[null,{"$f":"IF(C26=\"\",\"\",MAX($B$23:B25)+1)","v":""}]
[null,{"$f":"IF(C27=\"\",\"\",MAX($B$23:B26)+1)","v":""}]
[null,{"$f":"IF(C28=\"\",\"\",MAX($B$23:B27)+1)","v":""}]
[null,{"$f":"IF(C29=\"\",\"\",MAX($B$23:B28)+1)","v":""}]
[null,{"$f":"IF(C30=\"\",\"\",MAX($B$23:B29)+1)","v":""}]
[null,{"$f":"IF(C31=\"\",\"\",MAX($B$23:B30)+1)","v":""}]
[null,{"$f":"IF(C32=\"\",\"\",MAX($B$23:B31)+1)","v":""}]
[null,{"$f":"IF(C33=\"\",\"\",MAX($B$23:B32)+1)","v":""}]

{"sheet":"Affected_Sources","index":3,"n_rows":14,"n_cols":4,"rows_kept":14,"cut":false,"hidden":false,"merged":[]}
[null,"DO NOT REMOVE OR EDIT INFORMATION IN ROWS 1 THROUGH 5\nFOR INTERNAL USE ONLY"]
[null,"Template Name",{"$f":"+Welcome!B2","v":"63.7751(a) Semiannual Compliance Report (Spreadsheet Template)"}]
[null,"CitationID",{"$f":"+Welcome!B3","v":"63.7751(a)"}]
[null,"Template Version",{"$f":"+Welcome!B4","v":"v1.00"}]
[null,"Last Updated Date",{"$f":"+Welcome!B5","v":44008}]
[null,{"$f":"Welcome!B6","v":"OMB No.: 2060-0543 Expiration Date: 11/30/2019"}]
[null,"40 CFR Part 63, Subpart EEEEE National Emission Standards for Hazardous Air Pollutants:  Iron and Steel Foundries - "]
[null,"§63.7751(b) Semiannual Compliance Report Spreadsheet Template"]
[]
[]
[null,"* Required Field"]
[null,"Company Record No. *\n(Select from dropdown)","Affected Source or Equipment *\n(§63.7751(b)(7)(i) or (8)(iii))","Total Operating Tme of Affected Source (Hours)\n(§63.7751(b)(7)(i) or (8)(iii))"]
[null,"RecordId","AffectedSource_AS","TotalOperatingTime_AS"]
[null,"e.g.: 1","e.g. Line 1","e.g.: 5421.25"]

{"sheet":"CMS_Identification","index":4,"n_rows":100,"n_cols":6,"rows_kept":100,"cut":false,"hidden":false,"merged":[]}
[null,"DO NOT REMOVE OR EDIT INFORMATION IN ROWS 1 THROUGH 5\nFOR INTERNAL USE ONLY"]
[null,"Template Name",{"$f":"+Welcome!B2","v":"63.7751(a) Semiannual Compliance Report (Spreadsheet Template)"}]
[null,"CitationID",{"$f":"+Welcome!B3","v":"63.7751(a)"}]
[null,"Template Version",{"$f":"+Welcome!B4","v":"v1.00"}]
[null,"Last Updated Date",{"$f":"+Welcome!B5","v":44008}]
[null,{"$f":"Welcome!B6","v":"OMB No.: 2060-0543 Expiration Date: 11/30/2019"}]
[null,"40 CFR Part 63, Subpart EEEEE National Emission Standards for Hazardous Air Pollutants:  Iron and Steel Foundries - "]
[null,"§63.7751(b) Semiannual Compliance Report Spreadsheet Template"]
[]
[]
[null,"* Required Field"]
[null,"Company Record No. *\n(Autocompleted from Column D)","Affected Source or Equipment *\n(§63.7751(b)(8)(iii))\n(Autocompleted from Column D)","Company Record Number and Affected Source *\n(Select from dropdown)","Brief Description of CMS Including Manufacturer and Model Number *\n(§63.7751(b)(8)(i))","Date of Last CMS\nCertification or Audit *\n(§63.7751(b)(8)(ii))"]
[null,"RecordId","AffectedSource_Identification","RecordSource_Identification","CPMSEqDesc_Identification","CPMSDescription_Identification"]
[null,"e.g.: 1","e.g. Line 1","e.g.: 1 Line 1","e.g.: TC1792 PM Filter Bank Inlet Temperature","e.g.: 2/2/2017"]
[]
[]
[]
[]
[]
[]
[]
[]
[]
[null,{"$f":"IF($D24=\"\",\"\",VLOOKUP($D24,Lists!$BM$2:$BO$78,2,FALSE))","v":""},{"$f":"IF($D24=\"\",\"\",VLOOKUP($D24,Lists!$BM$2:$BO$78,3,FALSE))","v":""}]
[null,{"$f":"IF($D25=\"\",\"\",VLOOKUP($D25,Lists!$BM$2:$BO$78,2,FALSE))","v":""},{"$f":"IF($D25=\"\",\"\",VLOOKUP($D25,Lists!$BM$2:$BO$78,3,FALSE))","v":""}]
[null,{"$f":"IF($D26=\"\",\"\",VLOOKUP($D26,Lists!$BM$2:$BO$78,2,FALSE))","v":""},{"$f":"IF($D26=\"\",\"\",VLOOKUP($D26,Lists!$BM$2:$BO$78,3,FALSE))","v":""}]
[null,{"$f":"IF($D27=\"\",\"\",VLOOKUP($D27,Lists!$BM$2:$BO$78,2,FALSE))","v":""},{"$f":"IF($D27=\"\",\"\",VLOOKUP($D27,Lists!$BM$2:$BO$78,3,FALSE))","v":""}]
[null,{"$f":"IF($D28=\"\",\"\",VLOOKUP($D28,Lists!$BM$2:$BO$78,2,FALSE))","v":""},{"$f":"IF($D28=\"\",\"\",VLOOKUP($D28,Lists!$BM$2:$BO$78,3,FALSE))","v":""}]
[null,{"$f":"IF($D29=\"\",\"\",VLOOKUP($D29,Lists!$BM$2:$BO$78,2,FALSE))","v":""},{"$f":"IF($D29=\"\",\"\",VLOOKUP($D29,Lists!$BM$2:$BO$78,3,FALSE))","v":""}]
[null,{"$f":"IF($D30=\"\",\"\",VLOOKUP($D30,Lists!$BM$2:$BO$78,2,FALSE))","v":""},{"$f":"IF($D30=\"\",\"\",VLOOKUP($D30,Lists!$BM$2:$BO$78,3,FALSE))","v":""}]
[null,{"$f":"IF($D31=\"\",\"\",VLOOKUP($D31,Lists!$BM$2:$BO$78,2,FALSE))","v":""},{"$f":"IF($D31=\"\",\"\",VLOOKUP($D31,Lists!$BM$2:$BO$78,3,FALSE))","v":""}]
[null,{"$f":"IF($D32=\"\",\"\",VLOOKUP($D32,Lists!$BM$2:$BO$78,2,FALSE))","v":""},{"$f":"IF($D32=\"\",\"\",VLOOKUP($D32,Lists!$BM$2:$BO$78,3,FALSE))","v":""}]
[null,{"$f":"IF($D33=\"\",\"\",VLOOKUP($D33,Lists!$BM$2:$BO$78,2,FALSE))","v":""},{"$f":"IF($D33=\"\",\"\",VLOOKUP($D33,Lists!$BM$2:$BO$78,3,FALSE))","v":""}]
[null,{"$f":"IF($D34=\"\",\"\",VLOOKUP($D34,Lists!$BM$2:$BO$78,2,FALSE))","v":""},{"$f":"IF($D34=\"\",\"\",VLOOKUP($D34,Lists!$BM$2:$BO$78,3,FALSE))","v":""}]
[null,{"$f":"IF($D35=\"\",\"\",VLOOKUP($D35,Lists!$BM$2:$BO$78,2,FALSE))","v":""},{"$f":"IF($D35=\"\",\"\",VLOOKUP($D35,Lists!$BM$2:$BO$78,3,FALSE))","v":""}]
[null,{"$f":"IF($D36=\"\",\"\",VLOOKUP($D36,Lists!$BM$2:$BO$78,2,FALSE))","v":""},{"$f":"IF($D36=\"\",\"\",VLOOKUP($D36,Lists!$BM$2:$BO$78,3,FALSE))","v":""}]
[null,{"$f":"IF($D37=\"\",\"\",VLOOKUP($D37,Lists!$BM$2:$BO$78,2,FALSE))","v":""},{"$f":"IF($D37=\"\",\"\",VLOOKUP($D37,Lists!$BM$2:$BO$78,3,FALSE))","v":""}]
[null,{"$f":"IF($D38=\"\",\"\",VLOOKUP($D38,Lists!$BM$2:$BO$78,2,FALSE))","v":""},{"$f":"IF($D38=\"\",\"\",VLOOKUP($D38,Lists!$BM$2:$BO$78,3,FALSE))","v":""}]
[null,{"$f":"IF($D39=\"\",\"\",VLOOKUP($D39,Lists!$BM$2:$BO$78,2,FALSE))","v":""},{"$f":"IF($D39=\"\",\"\",VLOOKUP($D39,Lists!$BM$2:$BO$78,3,FALSE))","v":""}]
[null,{"$f":"IF($D40=\"\",\"\",VLOOKUP($D40,Lists!$BM$2:$BO$78,2,FALSE))","v":""},{"$f":"IF($D40=\"\",\"\",VLOOKUP($D40,Lists!$BM$2:$BO$78,3,FALSE))","v":""}]
[null,{"$f":"IF($D41=\"\",\"\",VLOOKUP($D41,Lists!$BM$2:$BO$78,2,FALSE))","v":""},{"$f":"IF($D41=\"\",\"\",VLOOKUP($D41,Lists!$BM$2:$BO$78,3,FALSE))","v":""}]
[null,{"$f":"IF($D42=\"\",\"\",VLOOKUP($D42,Lists!$BM$2:$BO$78,2,FALSE))","v":""},{"$f":"IF($D42=\"\",\"\",VLOOKUP($D42,Lists!$BM$2:$BO$78,3,FALSE))","v":""}]
[null,{"$f":"IF($D43=\"\",\"\",VLOOKUP($D43,Lists!$BM$2:$BO$78,2,FALSE))","v":""},{"$f":"IF($D43=\"\",\"\",VLOOKUP($D43,Lists!$BM$2:$BO$78,3,FALSE))","v":""}]
[null,{"$f":"IF($D44=\"\",\"\",VLOOKUP($D44,Lists!$BM$2:$BO$78,2,FALSE))","v":""},{"$f":"IF($D44=\"\",\"\",VLOOKUP($D44,Lists!$BM$2:$BO$78,3,FALSE))","v":""}]
[null,{"$f":"IF($D45=\"\",\"\",VLOOKUP($D45,Lists!$BM$2:$BO$78,2,FALSE))","v":""},{"$f":"IF($D45=\"\",\"\",VLOOKUP($D45,Lists!$BM$2:$BO$78,3,FALSE))","v":""}]
[null,{"$f":"IF($D46=\"\",\"\",VLOOKUP($D46,Lists!$BM$2:$BO$78,2,FALSE))","v":""},{"$f":"IF($D46=\"\",\"\",VLOOKUP($D46,Lists!$BM$2:$BO$78,3,FALSE))","v":""}]
[null,{"$f":"IF($D47=\"\",\"\",VLOOKUP($D47,Lists!$BM$2:$BO$78,2,FALSE))","v":""},{"$f":"IF($D47=\"\",\"\",VLOOKUP($D47,Lists!$BM$2:$BO$78,3,FALSE))","v":""}]
[null,{"$f":"IF($D48=\"\",\"\",VLOOKUP($D48,Lists!$BM$2:$BO$78,2,FALSE))","v":""},{"$f":"IF($D48=\"\",\"\",VLOOKUP($D48,Lists!$BM$2:$BO$78,3,FALSE))","v":""}]
[null,{"$f":"IF($D49=\"\",\"\",VLOOKUP($D49,Lists!$BM$2:$BO$78,2,FALSE))","v":""},{"$f":"IF($D49=\"\",\"\",VLOOKUP($D49,Lists!$BM$2:$BO$78,3,FALSE))","v":""}]
[null,{"$f":"IF($D50=\"\",\"\",VLOOKUP($D50,Lists!$BM$2:$BO$78,2,FALSE))","v":""},{"$f":"IF($D50=\"\",\"\",VLOOKUP($D50,Lists!$BM$2:$BO$78,3,FALSE))","v":""}]
[null,{"$f":"IF($D51=\"\",\"\",VLOOKUP($D51,Lists!$BM$2:$BO$78,2,FALSE))","v":""},{"$f":"IF($D51=\"\",\"\",VLOOKUP($D51,Lists!$BM$2:$BO$78,3,FALSE))","v":""}]
[null,{"$f":"IF($D52=\"\",\"\",VLOOKUP($D52,Lists!$BM$2:$BO$78,2,FALSE))","v":""},{"$f":"IF($D52=\"\",\"\",VLOOKUP($D52,Lists!$BM$2:$BO$78,3,FALSE))","v":""}]
[null,{"$f":"IF($D53=\"\",\"\",VLOOKUP($D53,Lists!$BM$2:$BO$78,2,FALSE))","v":""},{"$f":"IF($D53=\"\",\"\",VLOOKUP($D53,Lists!$BM$2:$BO$78,3,FALSE))","v":""}]
[null,{"$f":"IF($D54=\"\",\"\",VLOOKUP($D54,Lists!$BM$2:$BO$78,2,FALSE))","v":""},{"$f":"IF($D54=\"\",\"\",VLOOKUP($D54,Lists!$BM$2:$BO$78,3,FALSE))","v":""}]
[null,{"$f":"IF($D55=\"\",\"\",VLOOKUP($D55,Lists!$BM$2:$BO$78,2,FALSE))","v":""},{"$f":"IF($D55=\"\",\"\",VLOOKUP($D55,Lists!$BM$2:$BO$78,3,FALSE))","v":""}]
[null,{"$f":"IF($D56=\"\",\"\",VLOOKUP($D56,Lists!$BM$2:$BO$78,2,FALSE))","v":""},{"$f":"IF($D56=\"\",\"\",VLOOKUP($D56,Lists!$BM$2:$BO$78,3,FALSE))","v":""}]
[null,{"$f":"IF($D57=\"\",\"\",VLOOKUP($D57,Lists!$BM$2:$BO$78,2,FALSE))","v":""},{"$f":"IF($D57=\"\",\"\",VLOOKUP($D57,Lists!$BM$2:$BO$78,3,FALSE))","v":""}]
[null,{"$f":"IF($D58=\"\",\"\",VLOOKUP($D58,Lists!$BM$2:$BO$78,2,FALSE))","v":""},{"$f":"IF($D58=\"\",\"\",VLOOKUP($D58,Lists!$BM$2:$BO$78,3,FALSE))","v":""}]
[null,{"$f":"IF($D59=\"\",\"\",VLOOKUP($D59,Lists!$BM$2:$BO$78,2,FALSE))","v":""},{"$f":"IF($D59=\"\",\"\",VLOOKUP($D59,Lists!$BM$2:$BO$78,3,FALSE))","v":""}]
[null,{"$f":"IF($D60=\"\",\"\",VLOOKUP($D60,Lists!$BM$2:$BO$78,2,FALSE))","v":""},{"$f":"IF($D60=\"\",\"\",VLOOKUP($D60,Lists!$BM$2:$BO$78,3,FALSE))","v":""}]
[null,{"$f":"IF($D61=\"\",\"\",VLOOKUP($D61,Lists!$BM$2:$BO$78,2,FALSE))","v":""},{"$f":"IF($D61=\"\",\"\",VLOOKUP($D61,Lists!$BM$2:$BO$78,3,FALSE))","v":""}]
[null,{"$f":"IF($D62=\"\",\"\",VLOOKUP($D62,Lists!$BM$2:$BO$78,2,FALSE))","v":""},{"$f":"IF($D62=\"\",\"\",VLOOKUP($D62,Lists!$BM$2:$BO$78,3,FALSE))","v":""}]
[null,{"$f":"IF($D63=\"\",\"\",VLOOKUP($D63,Lists!$BM$2:$BO$78,2,FALSE))","v":""},{"$f":"IF($D63=\"\",\"\",VLOOKUP($D63,Lists!$BM$2:$BO$78,3,FALSE))","v":""}]
[null,{"$f":"IF($D64=\"\",\"\",VLOOKUP($D64,Lists!$BM$2:$BO$78,2,FALSE))","v":""},{"$f":"IF($D64=\"\",\"\",VLOOKUP($D64,Lists!$BM$2:$BO$78,3,FALSE))","v":""}]
[null,{"$f":"IF($D65=\"\",\"\",VLOOKUP($D65,Lists!$BM$2:$BO$78,2,FALSE))","v":""},{"$f":"IF($D65=\"\",\"\",VLOOKUP($D65,Lists!$BM$2:$BO$78,3,FALSE))","v":""}]
[null,{"$f":"IF($D66=\"\",\"\",VLOOKUP($D66,Lists!$BM$2:$BO$78,2,FALSE))","v":""},{"$f":"IF($D66=\"\",\"\",VLOOKUP($D66,Lists!$BM$2:$BO$78,3,FALSE))","v":""}]
[null,{"$f":"IF($D67=\"\",\"\",VLOOKUP($D67,Lists!$BM$2:$BO$78,2,FALSE))","v":""},{"$f":"IF($D67=\"\",\"\",VLOOKUP($D67,Lists!$BM$2:$BO$78,3,FALSE))","v":""}]
[null,{"$f":"IF($D68=\"\",\"\",VLOOKUP($D68,Lists!$BM$2:$BO$78,2,FALSE))","v":""},{"$f":"IF($D68=\"\",\"\",VLOOKUP($D68,Lists!$BM$2:$BO$78,3,FALSE))","v":""}]
[null,{"$f":"IF($D69=\"\",\"\",VLOOKUP($D69,Lists!$BM$2:$BO$78,2,FALSE))","v":""},{"$f":"IF($D69=\"\",\"\",VLOOKUP($D69,Lists!$BM$2:$BO$78,3,FALSE))","v":""}]
[null,{"$f":"IF($D70=\"\",\"\",VLOOKUP($D70,Lists!$BM$2:$BO$78,2,FALSE))","v":""},{"$f":"IF($D70=\"\",\"\",VLOOKUP($D70,Lists!$BM$2:$BO$78,3,FALSE))","v":""}]
[null,{"$f":"IF($D71=\"\",\"\",VLOOKUP($D71,Lists!$BM$2:$BO$78,2,FALSE))","v":""},{"$f":"IF($D71=\"\",\"\",VLOOKUP($D71,Lists!$BM$2:$BO$78,3,FALSE))","v":""}]
[null,{"$f":"IF($D72=\"\",\"\",VLOOKUP($D72,Lists!$BM$2:$BO$78,2,FALSE))","v":""},{"$f":"IF($D72=\"\",\"\",VLOOKUP($D72,Lists!$BM$2:$BO$78,3,FALSE))","v":""}]
[null,{"$f":"IF($D73=\"\",\"\",VLOOKUP($D73,Lists!$BM$2:$BO$78,2,FALSE))","v":""},{"$f":"IF($D73=\"\",\"\",VLOOKUP($D73,Lists!$BM$2:$BO$78,3,FALSE))","v":""}]
[null,{"$f":"IF($D74=\"\",\"\",VLOOKUP($D74,Lists!$BM$2:$BO$78,2,FALSE))","v":""},{"$f":"IF($D74=\"\",\"\",VLOOKUP($D74,Lists!$BM$2:$BO$78,3,FALSE))","v":""}]
[null,{"$f":"IF($D75=\"\",\"\",VLOOKUP($D75,Lists!$BM$2:$BO$78,2,FALSE))","v":""},{"$f":"IF($D75=\"\",\"\",VLOOKUP($D75,Lists!$BM$2:$BO$78,3,FALSE))","v":""}]
[null,{"$f":"IF($D76=\"\",\"\",VLOOKUP($D76,Lists!$BM$2:$BO$78,2,FALSE))","v":""},{"$f":"IF($D76=\"\",\"\",VLOOKUP($D76,Lists!$BM$2:$BO$78,3,FALSE))","v":""}]
[null,{"$f":"IF($D77=\"\",\"\",VLOOKUP($D77,Lists!$BM$2:$BO$78,2,FALSE))","v":""},{"$f":"IF($D77=\"\",\"\",VLOOKUP($D77,Lists!$BM$2:$BO$78,3,FALSE))","v":""}]
[null,{"$f":"IF($D78=\"\",\"\",VLOOKUP($D78,Lists!$BM$2:$BO$78,2,FALSE))","v":""},{"$f":"IF($D78=\"\",\"\",VLOOKUP($D78,Lists!$BM$2:$BO$78,3,FALSE))","v":""}]
[null,{"$f":"IF($D79=\"\",\"\",VLOOKUP($D79,Lists!$BM$2:$BO$78,2,FALSE))","v":""},{"$f":"IF($D79=\"\",\"\",VLOOKUP($D79,Lists!$BM$2:$BO$78,3,FALSE))","v":""}]
[null,{"$f":"IF($D80=\"\",\"\",VLOOKUP($D80,Lists!$BM$2:$BO$78,2,FALSE))","v":""},{"$f":"IF($D80=\"\",\"\",VLOOKUP($D80,Lists!$BM$2:$BO$78,3,FALSE))","v":""}]
[null,{"$f":"IF($D81=\"\",\"\",VLOOKUP($D81,Lists!$BM$2:$BO$78,2,FALSE))","v":""},{"$f":"IF($D81=\"\",\"\",VLOOKUP($D81,Lists!$BM$2:$BO$78,3,FALSE))","v":""}]
[null,{"$f":"IF($D82=\"\",\"\",VLOOKUP($D82,Lists!$BM$2:$BO$78,2,FALSE))","v":""},{"$f":"IF($D82=\"\",\"\",VLOOKUP($D82,Lists!$BM$2:$BO$78,3,FALSE))","v":""}]
[null,{"$f":"IF($D83=\"\",\"\",VLOOKUP($D83,Lists!$BM$2:$BO$78,2,FALSE))","v":""},{"$f":"IF($D83=\"\",\"\",VLOOKUP($D83,Lists!$BM$2:$BO$78,3,FALSE))","v":""}]
[null,{"$f":"IF($D84=\"\",\"\",VLOOKUP($D84,Lists!$BM$2:$BO$78,2,FALSE))","v":""},{"$f":"IF($D84=\"\",\"\",VLOOKUP($D84,Lists!$BM$2:$BO$78,3,FALSE))","v":""}]
[null,{"$f":"IF($D85=\"\",\"\",VLOOKUP($D85,Lists!$BM$2:$BO$78,2,FALSE))","v":""},{"$f":"IF($D85=\"\",\"\",VLOOKUP($D85,Lists!$BM$2:$BO$78,3,FALSE))","v":""}]
[null,{"$f":"IF($D86=\"\",\"\",VLOOKUP($D86,Lists!$BM$2:$BO$78,2,FALSE))","v":""},{"$f":"IF($D86=\"\",\"\",VLOOKUP($D86,Lists!$BM$2:$BO$78,3,FALSE))","v":""}]
[null,{"$f":"IF($D87=\"\",\"\",VLOOKUP($D87,Lists!$BM$2:$BO$78,2,FALSE))","v":""},{"$f":"IF($D87=\"\",\"\",VLOOKUP($D87,Lists!$BM$2:$BO$78,3,FALSE))","v":""}]
[null,{"$f":"IF($D88=\"\",\"\",VLOOKUP($D88,Lists!$BM$2:$BO$78,2,FALSE))","v":""},{"$f":"IF($D88=\"\",\"\",VLOOKUP($D88,Lists!$BM$2:$BO$78,3,FALSE))","v":""}]
[null,{"$f":"IF($D89=\"\",\"\",VLOOKUP($D89,Lists!$BM$2:$BO$78,2,FALSE))","v":""},{"$f":"IF($D89=\"\",\"\",VLOOKUP($D89,Lists!$BM$2:$BO$78,3,FALSE))","v":""}]
[null,{"$f":"IF($D90=\"\",\"\",VLOOKUP($D90,Lists!$BM$2:$BO$78,2,FALSE))","v":""},{"$f":"IF($D90=\"\",\"\",VLOOKUP($D90,Lists!$BM$2:$BO$78,3,FALSE))","v":""}]
[null,{"$f":"IF($D91=\"\",\"\",VLOOKUP($D91,Lists!$BM$2:$BO$78,2,FALSE))","v":""},{"$f":"IF($D91=\"\",\"\",VLOOKUP($D91,Lists!$BM$2:$BO$78,3,FALSE))","v":""}]
[null,{"$f":"IF($D92=\"\",\"\",VLOOKUP($D92,Lists!$BM$2:$BO$78,2,FALSE))","v":""},{"$f":"IF($D92=\"\",\"\",VLOOKUP($D92,Lists!$BM$2:$BO$78,3,FALSE))","v":""}]
[null,{"$f":"IF($D93=\"\",\"\",VLOOKUP($D93,Lists!$BM$2:$BO$78,2,FALSE))","v":""},{"$f":"IF($D93=\"\",\"\",VLOOKUP($D93,Lists!$BM$2:$BO$78,3,FALSE))","v":""}]
[null,{"$f":"IF($D94=\"\",\"\",VLOOKUP($D94,Lists!$BM$2:$BO$78,2,FALSE))","v":""},{"$f":"IF($D94=\"\",\"\",VLOOKUP($D94,Lists!$BM$2:$BO$78,3,FALSE))","v":""}]
[null,{"$f":"IF($D95=\"\",\"\",VLOOKUP($D95,Lists!$BM$2:$BO$78,2,FALSE))","v":""},{"$f":"IF($D95=\"\",\"\",VLOOKUP($D95,Lists!$BM$2:$BO$78,3,FALSE))","v":""}]
[null,{"$f":"IF($D96=\"\",\"\",VLOOKUP($D96,Lists!$BM$2:$BO$78,2,FALSE))","v":""},{"$f":"IF($D96=\"\",\"\",VLOOKUP($D96,Lists!$BM$2:$BO$78,3,FALSE))","v":""}]
[null,{"$f":"IF($D97=\"\",\"\",VLOOKUP($D97,Lists!$BM$2:$BO$78,2,FALSE))","v":""},{"$f":"IF($D97=\"\",\"\",VLOOKUP($D97,Lists!$BM$2:$BO$78,3,FALSE))","v":""}]
[null,{"$f":"IF($D98=\"\",\"\",VLOOKUP($D98,Lists!$BM$2:$BO$78,2,FALSE))","v":""},{"$f":"IF($D98=\"\",\"\",VLOOKUP($D98,Lists!$BM$2:$BO$78,3,FALSE))","v":""}]
[null,{"$f":"IF($D99=\"\",\"\",VLOOKUP($D99,Lists!$BM$2:$BO$78,2,FALSE))","v":""},{"$f":"IF($D99=\"\",\"\",VLOOKUP($D99,Lists!$BM$2:$BO$78,3,FALSE))","v":""}]
[null,{"$f":"IF($D100=\"\",\"\",VLOOKUP($D100,Lists!$BM$2:$BO$78,2,FALSE))","v":""},{"$f":"IF($D100=\"\",\"\",VLOOKUP($D100,Lists!$BM$2:$BO$78,3,FALSE))","v":""}]

{"sheet":"Description_of_Changes","index":5,"n_rows":14,"n_cols":4,"rows_kept":14,"cut":false,"hidden":false,"merged":[]}
[null,"DO NOT REMOVE OR EDIT INFORMATION IN ROWS 1 THROUGH 5\nFOR INTERNAL USE ONLY"]
[null,"Template Name",{"$f":"+Welcome!B2","v":"63.7751(a) Semiannual Compliance Report (Spreadsheet Template)"}]
[null,"CitationID",{"$f":"+Welcome!B3","v":"63.7751(a)"}]
[null,"Template Version",{"$f":"+Welcome!B4","v":"v1.00"}]
[null,"Last Updated Date",{"$f":"+Welcome!B5","v":44008}]
[null,{"$f":"Welcome!B6","v":"OMB No.: 2060-0543 Expiration Date: 11/30/2019"},null,"Intentionally Blank"]
[null,"40 CFR Part 63, Subpart EEEEE National Emission Standards for Hazardous Air Pollutants: Iron and Steel Foundries - ",null,"Intentionally Blank"]
[null,"§63.7751(b) Semiannual Compliance Report Spreadsheet Template"]
[null,"CPMS, CEMS, COMS, Processes, or Control Changes"]
[]
[null,"* Required Field"]
[null,"Company Record No.  *\n(Select from dropdown)","Description of any continuous monitoring systems, processes, or controls which have occurred since the last reporting period *\n(§63.7751(b)(8)(iv))","Intentionally Blank"]
[null,"RecordId","CmsChangesDesc"]
[null,"e.g.: 1"]

{"sheet":"CMS_Deviation_Detail","index":6,"n_rows":500,"n_cols":11,"rows_kept":500,"cut":false,"hidden":false,"merged":[]}
[null,"DO NOT REMOVE OR EDIT INFORMATION IN ROWS 1 THROUGH 5\nFOR INTERNAL USE ONLY"]
[null,"Template Name",null,{"$f":"+Welcome!B2","v":"63.7751(a) Semiannual Compliance Report (Spreadsheet Template)"}]
[null,"CitationID",null,{"$f":"+Welcome!B3","v":"63.7751(a)"}]
[null,"Template Version",null,{"$f":"+Welcome!B4","v":"v1.00"}]
[null,"Last Updated Date",null,{"$f":"+Welcome!B5","v":44008}]
[null,{"$f":"Welcome!B6","v":"OMB No.: 2060-0543 Expiration Date: 11/30/2019"}]
[null,"40 CFR Part 63, Subpart EEEEE National Emission Standards for Hazardous Air Pollutants: Iron and Steel Foundries - "]
[null,"§63.7751(b) Semiannual Compliance Report Spreadsheet Template"]
[]
[]
[null,"* Required Field"]
[null,"Company Record No. *\n(Autocomplete from Column E)","Affected Source or Equipment *\n(§63.7751(b)(8)(iii))\n(Autocomplete from Column E)","Brief Description of CPMS, CEMS, or COMS *\n(§63.7751(b)(8)(i))\n(Autocomplete from Column E)","Company Record Number, Affected Source, and Brief Description\n(Select from dropdown)","CMS Inoperable or \nOut of Control *\n(§63.7751(b)(8)(v)(B))\n(Select from dropdown)","Starting Date CMS \nInoperable or Out of Control *\n(§63.7751(b)(8)(v)(A))","Starting Time CMS Inoperable or Out of Control *\n(§63.7751(b)(8)(v)(A))","Duration CMS Inoperable \nor Out of Control * (hours)\n(§63.7751(b)(8)(v)(A))","Cause of Deviation *\n(§63.7751(b)(8)(v)(C))\n(Select from dropdown)","Corrective Action Taken *\n(§63.7751(b)(8)(v)(C))\n"]
[null,"RecordId","AffectedSource_CMSDetail","CPMSEqDesc_CMSDetail","RecordSource_CMSDetail","DeviationDescription_CMSDetail","DeviationStartDate_CMSDetail","DeviationStartTime_CMSDetail","DeviationDuration_CMSDetail","DeviationCause_CMSDetail","CorrectiveAction_CMSDetail"]
[null,"e.g.: 1","e.g. Line 1","e.g.: TC1792 PM Filter Bank Inlet Temperature","e.g.: 1 Line 1 TC1792 PM Filter Bank Inlet Temperature","e.g. Inoperable","e.g.: 3/2/2017","e.g.: 15:52","e.g.: 72.00","e.g.: Monitoring System Malfunction","e.g.: Replaced thermocouple"]
[]
[]
[]
[]
[]
[]
[]
[]
[]
[null,{"$f":"IF($E24=\"\",\"\",VLOOKUP($E24,Lists!$BX$2:$CA$78,2,FALSE))","v":""},{"$f":"IF($E24=\"\",\"\",VLOOKUP($E24,Lists!$BX$2:$CA$78,3,FALSE))","v":""},{"$f":"IF($E24=\"\",\"\",VLOOKUP($E24,Lists!$BX$2:$CA$78,4,FALSE))","v":""}]
[null,{"$f":"IF($E25=\"\",\"\",VLOOKUP($E25,Lists!$BX$2:$CA$78,2,FALSE))","v":""},{"$f":"IF($E25=\"\",\"\",VLOOKUP($E25,Lists!$BX$2:$CA$78,3,FALSE))","v":""},{"$f":"IF($E25=\"\",\"\",VLOOKUP($E25,Lists!$BX$2:$CA$78,4,FALSE))","v":""}]
[null,{"$f":"IF($E26=\"\",\"\",VLOOKUP($E26,Lists!$BX$2:$CA$78,2,FALSE))","v":""},{"$f":"IF($E26=\"\",\"\",VLOOKUP($E26,Lists!$BX$2:$CA$78,3,FALSE))","v":""},{"$f":"IF($E26=\"\",\"\",VLOOKUP($E26,Lists!$BX$2:$CA$78,4,FALSE))","v":""}]
[null,{"$f":"IF($E27=\"\",\"\",VLOOKUP($E27,Lists!$BX$2:$CA$78,2,FALSE))","v":""},{"$f":"IF($E27=\"\",\"\",VLOOKUP($E27,Lists!$BX$2:$CA$78,3,FALSE))","v":""},{"$f":"IF($E27=\"\",\"\",VLOOKUP($E27,Lists!$BX$2:$CA$78,4,FALSE))","v":""}]
[null,{"$f":"IF($E28=\"\",\"\",VLOOKUP($E28,Lists!$BX$2:$CA$78,2,FALSE))","v":""},{"$f":"IF($E28=\"\",\"\",VLOOKUP($E28,Lists!$BX$2:$CA$78,3,FALSE))","v":""},{"$f":"IF($E28=\"\",\"\",VLOOKUP($E28,Lists!$BX$2:$CA$78,4,FALSE))","v":""}]
[null,{"$f":"IF($E29=\"\",\"\",VLOOKUP($E29,Lists!$BX$2:$CA$78,2,FALSE))","v":""},{"$f":"IF($E29=\"\",\"\",VLOOKUP($E29,Lists!$BX$2:$CA$78,3,FALSE))","v":""},{"$f":"IF($E29=\"\",\"\",VLOOKUP($E29,Lists!$BX$2:$CA$78,4,FALSE))","v":""}]
[null,{"$f":"IF($E30=\"\",\"\",VLOOKUP($E30,Lists!$BX$2:$CA$78,2,FALSE))","v":""},{"$f":"IF($E30=\"\",\"\",VLOOKUP($E30,Lists!$BX$2:$CA$78,3,FALSE))","v":""},{"$f":"IF($E30=\"\",\"\",VLOOKUP($E30,Lists!$BX$2:$CA$78,4,FALSE))","v":""}]
[null,{"$f":"IF($E31=\"\",\"\",VLOOKUP($E31,Lists!$BX$2:$CA$78,2,FALSE))","v":""},{"$f":"IF($E31=\"\",\"\",VLOOKUP($E31,Lists!$BX$2:$CA$78,3,FALSE))","v":""},{"$f":"IF($E31=\"\",\"\",VLOOKUP($E31,Lists!$BX$2:$CA$78,4,FALSE))","v":""}]
[null,{"$f":"IF($E32=\"\",\"\",VLOOKUP($E32,Lists!$BX$2:$CA$78,2,FALSE))","v":""},{"$f":"IF($E32=\"\",\"\",VLOOKUP($E32,Lists!$BX$2:$CA$78,3,FALSE))","v":""},{"$f":"IF($E32=\"\",\"\",VLOOKUP($E32,Lists!$BX$2:$CA$78,4,FALSE))","v":""}]
[null,{"$f":"IF($E33=\"\",\"\",VLOOKUP($E33,Lists!$BX$2:$CA$78,2,FALSE))","v":""},{"$f":"IF($E33=\"\",\"\",VLOOKUP($E33,Lists!$BX$2:$CA$78,3,FALSE))","v":""},{"$f":"IF($E33=\"\",\"\",VLOOKUP($E33,Lists!$BX$2:$CA$78,4,FALSE))","v":""}]
[null,{"$f":"IF($E34=\"\",\"\",VLOOKUP($E34,Lists!$BX$2:$CA$78,2,FALSE))","v":""},{"$f":"IF($E34=\"\",\"\",VLOOKUP($E34,Lists!$BX$2:$CA$78,3,FALSE))","v":""},{"$f":"IF($E34=\"\",\"\",VLOOKUP($E34,Lists!$BX$2:$CA$78,4,FALSE))","v":""}]
[null,{"$f":"IF($E35=\"\",\"\",VLOOKUP($E35,Lists!$BX$2:$CA$78,2,FALSE))","v":""},{"$f":"IF($E35=\"\",\"\",VLOOKUP($E35,Lists!$BX$2:$CA$78,3,FALSE))","v":""},{"$f":"IF($E35=\"\",\"\",VLOOKUP($E35,Lists!$BX$2:$CA$78,4,FALSE))","v":""}]
[null,{"$f":"IF($E36=\"\",\"\",VLOOKUP($E36,Lists!$BX$2:$CA$78,2,FALSE))","v":""},{"$f":"IF($E36=\"\",\"\",VLOOKUP($E36,Lists!$BX$2:$CA$78,3,FALSE))","v":""},{"$f":"IF($E36=\"\",\"\",VLOOKUP($E36,Lists!$BX$2:$CA$78,4,FALSE))","v":""}]
[null,{"$f":"IF($E37=\"\",\"\",VLOOKUP($E37,Lists!$BX$2:$CA$78,2,FALSE))","v":""},{"$f":"IF($E37=\"\",\"\",VLOOKUP($E37,Lists!$BX$2:$CA$78,3,FALSE))","v":""},{"$f":"IF($E37=\"\",\"\",VLOOKUP($E37,Lists!$BX$2:$CA$78,4,FALSE))","v":""}]
[null,{"$f":"IF($E38=\"\",\"\",VLOOKUP($E38,Lists!$BX$2:$CA$78,2,FALSE))","v":""},{"$f":"IF($E38=\"\",\"\",VLOOKUP($E38,Lists!$BX$2:$CA$78,3,FALSE))","v":""},{"$f":"IF($E38=\"\",\"\",VLOOKUP($E38,Lists!$BX$2:$CA$78,4,FALSE))","v":""}]
[null,{"$f":"IF($E39=\"\",\"\",VLOOKUP($E39,Lists!$BX$2:$CA$78,2,FALSE))","v":""},{"$f":"IF($E39=\"\",\"\",VLOOKUP($E39,Lists!$BX$2:$CA$78,3,FALSE))","v":""},{"$f":"IF($E39=\"\",\"\",VLOOKUP($E39,Lists!$BX$2:$CA$78,4,FALSE))","v":""}]
[null,{"$f":"IF($E40=\"\",\"\",VLOOKUP($E40,Lists!$BX$2:$CA$78,2,FALSE))","v":""},{"$f":"IF($E40=\"\",\"\",VLOOKUP($E40,Lists!$BX$2:$CA$78,3,FALSE))","v":""},{"$f":"IF($E40=\"\",\"\",VLOOKUP($E40,Lists!$BX$2:$CA$78,4,FALSE))","v":""}]
[null,{"$f":"IF($E41=\"\",\"\",VLOOKUP($E41,Lists!$BX$2:$CA$78,2,FALSE))","v":""},{"$f":"IF($E41=\"\",\"\",VLOOKUP($E41,Lists!$BX$2:$CA$78,3,FALSE))","v":""},{"$f":"IF($E41=\"\",\"\",VLOOKUP($E41,Lists!$BX$2:$CA$78,4,FALSE))","v":""}]
[null,{"$f":"IF($E42=\"\",\"\",VLOOKUP($E42,Lists!$BX$2:$CA$78,2,FALSE))","v":""},{"$f":"IF($E42=\"\",\"\",VLOOKUP($E42,Lists!$BX$2:$CA$78,3,FALSE))","v":""},{"$f":"IF($E42=\"\",\"\",VLOOKUP($E42,Lists!$BX$2:$CA$78,4,FALSE))","v":""}]
[null,{"$f":"IF($E43=\"\",\"\",VLOOKUP($E43,Lists!$BX$2:$CA$78,2,FALSE))","v":""},{"$f":"IF($E43=\"\",\"\",VLOOKUP($E43,Lists!$BX$2:$CA$78,3,FALSE))","v":""},{"$f":"IF($E43=\"\",\"\",VLOOKUP($E43,Lists!$BX$2:$CA$78,4,FALSE))","v":""}]
[null,{"$f":"IF($E44=\"\",\"\",VLOOKUP($E44,Lists!$BX$2:$CA$78,2,FALSE))","v":""},{"$f":"IF($E44=\"\",\"\",VLOOKUP($E44,Lists!$BX$2:$CA$78,3,FALSE))","v":""},{"$f":"IF($E44=\"\",\"\",VLOOKUP($E44,Lists!$BX$2:$CA$78,4,FALSE))","v":""}]
[null,{"$f":"IF($E45=\"\",\"\",VLOOKUP($E45,Lists!$BX$2:$CA$78,2,FALSE))","v":""},{"$f":"IF($E45=\"\",\"\",VLOOKUP($E45,Lists!$BX$2:$CA$78,3,FALSE))","v":""},{"$f":"IF($E45=\"\",\"\",VLOOKUP($E45,Lists!$BX$2:$CA$78,4,FALSE))","v":""}]
[null,{"$f":"IF($E46=\"\",\"\",VLOOKUP($E46,Lists!$BX$2:$CA$78,2,FALSE))","v":""},{"$f":"IF($E46=\"\",\"\",VLOOKUP($E46,Lists!$BX$2:$CA$78,3,FALSE))","v":""},{"$f":"IF($E46=\"\",\"\",VLOOKUP($E46,Lists!$BX$2:$CA$78,4,FALSE))","v":""}]
[null,{"$f":"IF($E47=\"\",\"\",VLOOKUP($E47,Lists!$BX$2:$CA$78,2,FALSE))","v":""},{"$f":"IF($E47=\"\",\"\",VLOOKUP($E47,Lists!$BX$2:$CA$78,3,FALSE))","v":""},{"$f":"IF($E47=\"\",\"\",VLOOKUP($E47,Lists!$BX$2:$CA$78,4,FALSE))","v":""}]
[null,{"$f":"IF($E48=\"\",\"\",VLOOKUP($E48,Lists!$BX$2:$CA$78,2,FALSE))","v":""},{"$f":"IF($E48=\"\",\"\",VLOOKUP($E48,Lists!$BX$2:$CA$78,3,FALSE))","v":""},{"$f":"IF($E48=\"\",\"\",VLOOKUP($E48,Lists!$BX$2:$CA$78,4,FALSE))","v":""}]
[null,{"$f":"IF($E49=\"\",\"\",VLOOKUP($E49,Lists!$BX$2:$CA$78,2,FALSE))","v":""},{"$f":"IF($E49=\"\",\"\",VLOOKUP($E49,Lists!$BX$2:$CA$78,3,FALSE))","v":""},{"$f":"IF($E49=\"\",\"\",VLOOKUP($E49,Lists!$BX$2:$CA$78,4,FALSE))","v":""}]
[null,{"$f":"IF($E50=\"\",\"\",VLOOKUP($E50,Lists!$BX$2:$CA$78,2,FALSE))","v":""},{"$f":"IF($E50=\"\",\"\",VLOOKUP($E50,Lists!$BX$2:$CA$78,3,FALSE))","v":""},{"$f":"IF($E50=\"\",\"\",VLOOKUP($E50,Lists!$BX$2:$CA$78,4,FALSE))","v":""}]
[null,{"$f":"IF($E51=\"\",\"\",VLOOKUP($E51,Lists!$BX$2:$CA$78,2,FALSE))","v":""},{"$f":"IF($E51=\"\",\"\",VLOOKUP($E51,Lists!$BX$2:$CA$78,3,FALSE))","v":""},{"$f":"IF($E51=\"\",\"\",VLOOKUP($E51,Lists!$BX$2:$CA$78,4,FALSE))","v":""}]
[null,{"$f":"IF($E52=\"\",\"\",VLOOKUP($E52,Lists!$BX$2:$CA$78,2,FALSE))","v":""},{"$f":"IF($E52=\"\",\"\",VLOOKUP($E52,Lists!$BX$2:$CA$78,3,FALSE))","v":""},{"$f":"IF($E52=\"\",\"\",VLOOKUP($E52,Lists!$BX$2:$CA$78,4,FALSE))","v":""}]
[null,{"$f":"IF($E53=\"\",\"\",VLOOKUP($E53,Lists!$BX$2:$CA$78,2,FALSE))","v":""},{"$f":"IF($E53=\"\",\"\",VLOOKUP($E53,Lists!$BX$2:$CA$78,3,FALSE))","v":""},{"$f":"IF($E53=\"\",\"\",VLOOKUP($E53,Lists!$BX$2:$CA$78,4,FALSE))","v":""}]
[null,{"$f":"IF($E54=\"\",\"\",VLOOKUP($E54,Lists!$BX$2:$CA$78,2,FALSE))","v":""},{"$f":"IF($E54=\"\",\"\",VLOOKUP($E54,Lists!$BX$2:$CA$78,3,FALSE))","v":""},{"$f":"IF($E54=\"\",\"\",VLOOKUP($E54,Lists!$BX$2:$CA$78,4,FALSE))","v":""}]
[null,{"$f":"IF($E55=\"\",\"\",VLOOKUP($E55,Lists!$BX$2:$CA$78,2,FALSE))","v":""},{"$f":"IF($E55=\"\",\"\",VLOOKUP($E55,Lists!$BX$2:$CA$78,3,FALSE))","v":""},{"$f":"IF($E55=\"\",\"\",VLOOKUP($E55,Lists!$BX$2:$CA$78,4,FALSE))","v":""}]
[null,{"$f":"IF($E56=\"\",\"\",VLOOKUP($E56,Lists!$BX$2:$CA$78,2,FALSE))","v":""},{"$f":"IF($E56=\"\",\"\",VLOOKUP($E56,Lists!$BX$2:$CA$78,3,FALSE))","v":""},{"$f":"IF($E56=\"\",\"\",VLOOKUP($E56,Lists!$BX$2:$CA$78,4,FALSE))","v":""}]
[null,{"$f":"IF($E57=\"\",\"\",VLOOKUP($E57,Lists!$BX$2:$CA$78,2,FALSE))","v":""},{"$f":"IF($E57=\"\",\"\",VLOOKUP($E57,Lists!$BX$2:$CA$78,3,FALSE))","v":""},{"$f":"IF($E57=\"\",\"\",VLOOKUP($E57,Lists!$BX$2:$CA$78,4,FALSE))","v":""}]
[null,{"$f":"IF($E58=\"\",\"\",VLOOKUP($E58,Lists!$BX$2:$CA$78,2,FALSE))","v":""},{"$f":"IF($E58=\"\",\"\",VLOOKUP($E58,Lists!$BX$2:$CA$78,3,FALSE))","v":""},{"$f":"IF($E58=\"\",\"\",VLOOKUP($E58,Lists!$BX$2:$CA$78,4,FALSE))","v":""}]
[null,{"$f":"IF($E59=\"\",\"\",VLOOKUP($E59,Lists!$BX$2:$CA$78,2,FALSE))","v":""},{"$f":"IF($E59=\"\",\"\",VLOOKUP($E59,Lists!$BX$2:$CA$78,3,FALSE))","v":""},{"$f":"IF($E59=\"\",\"\",VLOOKUP($E59,Lists!$BX$2:$CA$78,4,FALSE))","v":""}]
[null,{"$f":"IF($E60=\"\",\"\",VLOOKUP($E60,Lists!$BX$2:$CA$78,2,FALSE))","v":""},{"$f":"IF($E60=\"\",\"\",VLOOKUP($E60,Lists!$BX$2:$CA$78,3,FALSE))","v":""},{"$f":"IF($E60=\"\",\"\",VLOOKUP($E60,Lists!$BX$2:$CA$78,4,FALSE))","v":""}]
[null,{"$f":"IF($E61=\"\",\"\",VLOOKUP($E61,Lists!$BX$2:$CA$78,2,FALSE))","v":""},{"$f":"IF($E61=\"\",\"\",VLOOKUP($E61,Lists!$BX$2:$CA$78,3,FALSE))","v":""},{"$f":"IF($E61=\"\",\"\",VLOOKUP($E61,Lists!$BX$2:$CA$78,4,FALSE))","v":""}]
[null,{"$f":"IF($E62=\"\",\"\",VLOOKUP($E62,Lists!$BX$2:$CA$78,2,FALSE))","v":""},{"$f":"IF($E62=\"\",\"\",VLOOKUP($E62,Lists!$BX$2:$CA$78,3,FALSE))","v":""},{"$f":"IF($E62=\"\",\"\",VLOOKUP($E62,Lists!$BX$2:$CA$78,4,FALSE))","v":""}]
[null,{"$f":"IF($E63=\"\",\"\",VLOOKUP($E63,Lists!$BX$2:$CA$78,2,FALSE))","v":""},{"$f":"IF($E63=\"\",\"\",VLOOKUP($E63,Lists!$BX$2:$CA$78,3,FALSE))","v":""},{"$f":"IF($E63=\"\",\"\",VLOOKUP($E63,Lists!$BX$2:$CA$78,4,FALSE))","v":""}]
[null,{"$f":"IF($E64=\"\",\"\",VLOOKUP($E64,Lists!$BX$2:$CA$78,2,FALSE))","v":""},{"$f":"IF($E64=\"\",\"\",VLOOKUP($E64,Lists!$BX$2:$CA$78,3,FALSE))","v":""},{"$f":"IF($E64=\"\",\"\",VLOOKUP($E64,Lists!$BX$2:$CA$78,4,FALSE))","v":""}]
[null,{"$f":"IF($E65=\"\",\"\",VLOOKUP($E65,Lists!$BX$2:$CA$78,2,FALSE))","v":""},{"$f":"IF($E65=\"\",\"\",VLOOKUP($E65,Lists!$BX$2:$CA$78,3,FALSE))","v":""},{"$f":"IF($E65=\"\",\"\",VLOOKUP($E65,Lists!$BX$2:$CA$78,4,FALSE))","v":""}]
[null,{"$f":"IF($E66=\"\",\"\",VLOOKUP($E66,Lists!$BX$2:$CA$78,2,FALSE))","v":""},{"$f":"IF($E66=\"\",\"\",VLOOKUP($E66,Lists!$BX$2:$CA$78,3,FALSE))","v":""},{"$f":"IF($E66=\"\",\"\",VLOOKUP($E66,Lists!$BX$2:$CA$78,4,FALSE))","v":""}]
[null,{"$f":"IF($E67=\"\",\"\",VLOOKUP($E67,Lists!$BX$2:$CA$78,2,FALSE))","v":""},{"$f":"IF($E67=\"\",\"\",VLOOKUP($E67,Lists!$BX$2:$CA$78,3,FALSE))","v":""},{"$f":"IF($E67=\"\",\"\",VLOOKUP($E67,Lists!$BX$2:$CA$78,4,FALSE))","v":""}]
[null,{"$f":"IF($E68=\"\",\"\",VLOOKUP($E68,Lists!$BX$2:$CA$78,2,FALSE))","v":""},{"$f":"IF($E68=\"\",\"\",VLOOKUP($E68,Lists!$BX$2:$CA$78,3,FALSE))","v":""},{"$f":"IF($E68=\"\",\"\",VLOOKUP($E68,Lists!$BX$2:$CA$78,4,FALSE))","v":""}]
[null,{"$f":"IF($E69=\"\",\"\",VLOOKUP($E69,Lists!$BX$2:$CA$78,2,FALSE))","v":""},{"$f":"IF($E69=\"\",\"\",VLOOKUP($E69,Lists!$BX$2:$CA$78,3,FALSE))","v":""},{"$f":"IF($E69=\"\",\"\",VLOOKUP($E69,Lists!$BX$2:$CA$78,4,FALSE))","v":""}]
[null,{"$f":"IF($E70=\"\",\"\",VLOOKUP($E70,Lists!$BX$2:$CA$78,2,FALSE))","v":""},{"$f":"IF($E70=\"\",\"\",VLOOKUP($E70,Lists!$BX$2:$CA$78,3,FALSE))","v":""},{"$f":"IF($E70=\"\",\"\",VLOOKUP($E70,Lists!$BX$2:$CA$78,4,FALSE))","v":""}]
[null,{"$f":"IF($E71=\"\",\"\",VLOOKUP($E71,Lists!$BX$2:$CA$78,2,FALSE))","v":""},{"$f":"IF($E71=\"\",\"\",VLOOKUP($E71,Lists!$BX$2:$CA$78,3,FALSE))","v":""},{"$f":"IF($E71=\"\",\"\",VLOOKUP($E71,Lists!$BX$2:$CA$78,4,FALSE))","v":""}]
[null,{"$f":"IF($E72=\"\",\"\",VLOOKUP($E72,Lists!$BX$2:$CA$78,2,FALSE))","v":""},{"$f":"IF($E72=\"\",\"\",VLOOKUP($E72,Lists!$BX$2:$CA$78,3,FALSE))","v":""},{"$f":"IF($E72=\"\",\"\",VLOOKUP($E72,Lists!$BX$2:$CA$78,4,FALSE))","v":""}]
[null,{"$f":"IF($E73=\"\",\"\",VLOOKUP($E73,Lists!$BX$2:$CA$78,2,FALSE))","v":""},{"$f":"IF($E73=\"\",\"\",VLOOKUP($E73,Lists!$BX$2:$CA$78,3,FALSE))","v":""},{"$f":"IF($E73=\"\",\"\",VLOOKUP($E73,Lists!$BX$2:$CA$78,4,FALSE))","v":""}]
[null,{"$f":"IF($E74=\"\",\"\",VLOOKUP($E74,Lists!$BX$2:$CA$78,2,FALSE))","v":""},{"$f":"IF($E74=\"\",\"\",VLOOKUP($E74,Lists!$BX$2:$CA$78,3,FALSE))","v":""},{"$f":"IF($E74=\"\",\"\",VLOOKUP($E74,Lists!$BX$2:$CA$78,4,FALSE))","v":""}]
[null,{"$f":"IF($E75=\"\",\"\",VLOOKUP($E75,Lists!$BX$2:$CA$78,2,FALSE))","v":""},{"$f":"IF($E75=\"\",\"\",VLOOKUP($E75,Lists!$BX$2:$CA$78,3,FALSE))","v":""},{"$f":"IF($E75=\"\",\"\",VLOOKUP($E75,Lists!$BX$2:$CA$78,4,FALSE))","v":""}]
[null,{"$f":"IF($E76=\"\",\"\",VLOOKUP($E76,Lists!$BX$2:$CA$78,2,FALSE))","v":""},{"$f":"IF($E76=\"\",\"\",VLOOKUP($E76,Lists!$BX$2:$CA$78,3,FALSE))","v":""},{"$f":"IF($E76=\"\",\"\",VLOOKUP($E76,Lists!$BX$2:$CA$78,4,FALSE))","v":""}]
[null,{"$f":"IF($E77=\"\",\"\",VLOOKUP($E77,Lists!$BX$2:$CA$78,2,FALSE))","v":""},{"$f":"IF($E77=\"\",\"\",VLOOKUP($E77,Lists!$BX$2:$CA$78,3,FALSE))","v":""},{"$f":"IF($E77=\"\",\"\",VLOOKUP($E77,Lists!$BX$2:$CA$78,4,FALSE))","v":""}]
[null,{"$f":"IF($E78=\"\",\"\",VLOOKUP($E78,Lists!$BX$2:$CA$78,2,FALSE))","v":""},{"$f":"IF($E78=\"\",\"\",VLOOKUP($E78,Lists!$BX$2:$CA$78,3,FALSE))","v":""},{"$f":"IF($E78=\"\",\"\",VLOOKUP($E78,Lists!$BX$2:$CA$78,4,FALSE))","v":""}]
[null,{"$f":"IF($E79=\"\",\"\",VLOOKUP($E79,Lists!$BX$2:$CA$78,2,FALSE))","v":""},{"$f":"IF($E79=\"\",\"\",VLOOKUP($E79,Lists!$BX$2:$CA$78,3,FALSE))","v":""},{"$f":"IF($E79=\"\",\"\",VLOOKUP($E79,Lists!$BX$2:$CA$78,4,FALSE))","v":""}]
[null,{"$f":"IF($E80=\"\",\"\",VLOOKUP($E80,Lists!$BX$2:$CA$78,2,FALSE))","v":""},{"$f":"IF($E80=\"\",\"\",VLOOKUP($E80,Lists!$BX$2:$CA$78,3,FALSE))","v":""},{"$f":"IF($E80=\"\",\"\",VLOOKUP($E80,Lists!$BX$2:$CA$78,4,FALSE))","v":""}]
[null,{"$f":"IF($E81=\"\",\"\",VLOOKUP($E81,Lists!$BX$2:$CA$78,2,FALSE))","v":""},{"$f":"IF($E81=\"\",\"\",VLOOKUP($E81,Lists!$BX$2:$CA$78,3,FALSE))","v":""},{"$f":"IF($E81=\"\",\"\",VLOOKUP($E81,Lists!$BX$2:$CA$78,4,FALSE))","v":""}]
[null,{"$f":"IF($E82=\"\",\"\",VLOOKUP($E82,Lists!$BX$2:$CA$78,2,FALSE))","v":""},{"$f":"IF($E82=\"\",\"\",VLOOKUP($E82,Lists!$BX$2:$CA$78,3,FALSE))","v":""},{"$f":"IF($E82=\"\",\"\",VLOOKUP($E82,Lists!$BX$2:$CA$78,4,FALSE))","v":""}]
[null,{"$f":"IF($E83=\"\",\"\",VLOOKUP($E83,Lists!$BX$2:$CA$78,2,FALSE))","v":""},{"$f":"IF($E83=\"\",\"\",VLOOKUP($E83,Lists!$BX$2:$CA$78,3,FALSE))","v":""},{"$f":"IF($E83=\"\",\"\",VLOOKUP($E83,Lists!$BX$2:$CA$78,4,FALSE))","v":""}]
[null,{"$f":"IF($E84=\"\",\"\",VLOOKUP($E84,Lists!$BX$2:$CA$78,2,FALSE))","v":""},{"$f":"IF($E84=\"\",\"\",VLOOKUP($E84,Lists!$BX$2:$CA$78,3,FALSE))","v":""},{"$f":"IF($E84=\"\",\"\",VLOOKUP($E84,Lists!$BX$2:$CA$78,4,FALSE))","v":""}]
[null,{"$f":"IF($E85=\"\",\"\",VLOOKUP($E85,Lists!$BX$2:$CA$78,2,FALSE))","v":""},{"$f":"IF($E85=\"\",\"\",VLOOKUP($E85,Lists!$BX$2:$CA$78,3,FALSE))","v":""},{"$f":"IF($E85=\"\",\"\",VLOOKUP($E85,Lists!$BX$2:$CA$78,4,FALSE))","v":""}]
[null,{"$f":"IF($E86=\"\",\"\",VLOOKUP($E86,Lists!$BX$2:$CA$78,2,FALSE))","v":""},{"$f":"IF($E86=\"\",\"\",VLOOKUP($E86,Lists!$BX$2:$CA$78,3,FALSE))","v":""},{"$f":"IF($E86=\"\",\"\",VLOOKUP($E86,Lists!$BX$2:$CA$78,4,FALSE))","v":""}]
[null,{"$f":"IF($E87=\"\",\"\",VLOOKUP($E87,Lists!$BX$2:$CA$78,2,FALSE))","v":""},{"$f":"IF($E87=\"\",\"\",VLOOKUP($E87,Lists!$BX$2:$CA$78,3,FALSE))","v":""},{"$f":"IF($E87=\"\",\"\",VLOOKUP($E87,Lists!$BX$2:$CA$78,4,FALSE))","v":""}]
[null,{"$f":"IF($E88=\"\",\"\",VLOOKUP($E88,Lists!$BX$2:$CA$78,2,FALSE))","v":""},{"$f":"IF($E88=\"\",\"\",VLOOKUP($E88,Lists!$BX$2:$CA$78,3,FALSE))","v":""},{"$f":"IF($E88=\"\",\"\",VLOOKUP($E88,Lists!$BX$2:$CA$78,4,FALSE))","v":""}]
[null,{"$f":"IF($E89=\"\",\"\",VLOOKUP($E89,Lists!$BX$2:$CA$78,2,FALSE))","v":""},{"$f":"IF($E89=\"\",\"\",VLOOKUP($E89,Lists!$BX$2:$CA$78,3,FALSE))","v":""},{"$f":"IF($E89=\"\",\"\",VLOOKUP($E89,Lists!$BX$2:$CA$78,4,FALSE))","v":""}]
[null,{"$f":"IF($E90=\"\",\"\",VLOOKUP($E90,Lists!$BX$2:$CA$78,2,FALSE))","v":""},{"$f":"IF($E90=\"\",\"\",VLOOKUP($E90,Lists!$BX$2:$CA$78,3,FALSE))","v":""},{"$f":"IF($E90=\"\",\"\",VLOOKUP($E90,Lists!$BX$2:$CA$78,4,FALSE))","v":""}]
[null,{"$f":"IF($E91=\"\",\"\",VLOOKUP($E91,Lists!$BX$2:$CA$78,2,FALSE))","v":""},{"$f":"IF($E91=\"\",\"\",VLOOKUP($E91,Lists!$BX$2:$CA$78,3,FALSE))","v":""},{"$f":"IF($E91=\"\",\"\",VLOOKUP($E91,Lists!$BX$2:$CA$78,4,FALSE))","v":""}]
[null,{"$f":"IF($E92=\"\",\"\",VLOOKUP($E92,Lists!$BX$2:$CA$78,2,FALSE))","v":""},{"$f":"IF($E92=\"\",\"\",VLOOKUP($E92,Lists!$BX$2:$CA$78,3,FALSE))","v":""},{"$f":"IF($E92=\"\",\"\",VLOOKUP($E92,Lists!$BX$2:$CA$78,4,FALSE))","v":""}]
[null,{"$f":"IF($E93=\"\",\"\",VLOOKUP($E93,Lists!$BX$2:$CA$78,2,FALSE))","v":""},{"$f":"IF($E93=\"\",\"\",VLOOKUP($E93,Lists!$BX$2:$CA$78,3,FALSE))","v":""},{"$f":"IF($E93=\"\",\"\",VLOOKUP($E93,Lists!$BX$2:$CA$78,4,FALSE))","v":""}]
[null,{"$f":"IF($E94=\"\",\"\",VLOOKUP($E94,Lists!$BX$2:$CA$78,2,FALSE))","v":""},{"$f":"IF($E94=\"\",\"\",VLOOKUP($E94,Lists!$BX$2:$CA$78,3,FALSE))","v":""},{"$f":"IF($E94=\"\",\"\",VLOOKUP($E94,Lists!$BX$2:$CA$78,4,FALSE))","v":""}]
[null,{"$f":"IF($E95=\"\",\"\",VLOOKUP($E95,Lists!$BX$2:$CA$78,2,FALSE))","v":""},{"$f":"IF($E95=\"\",\"\",VLOOKUP($E95,Lists!$BX$2:$CA$78,3,FALSE))","v":""},{"$f":"IF($E95=\"\",\"\",VLOOKUP($E95,Lists!$BX$2:$CA$78,4,FALSE))","v":""}]
[null,{"$f":"IF($E96=\"\",\"\",VLOOKUP($E96,Lists!$BX$2:$CA$78,2,FALSE))","v":""},{"$f":"IF($E96=\"\",\"\",VLOOKUP($E96,Lists!$BX$2:$CA$78,3,FALSE))","v":""},{"$f":"IF($E96=\"\",\"\",VLOOKUP($E96,Lists!$BX$2:$CA$78,4,FALSE))","v":""}]
[null,{"$f":"IF($E97=\"\",\"\",VLOOKUP($E97,Lists!$BX$2:$CA$78,2,FALSE))","v":""},{"$f":"IF($E97=\"\",\"\",VLOOKUP($E97,Lists!$BX$2:$CA$78,3,FALSE))","v":""},{"$f":"IF($E97=\"\",\"\",VLOOKUP($E97,Lists!$BX$2:$CA$78,4,FALSE))","v":""}]
[null,{"$f":"IF($E98=\"\",\"\",VLOOKUP($E98,Lists!$BX$2:$CA$78,2,FALSE))","v":""},{"$f":"IF($E98=\"\",\"\",VLOOKUP($E98,Lists!$BX$2:$CA$78,3,FALSE))","v":""},{"$f":"IF($E98=\"\",\"\",VLOOKUP($E98,Lists!$BX$2:$CA$78,4,FALSE))","v":""}]
[null,{"$f":"IF($E99=\"\",\"\",VLOOKUP($E99,Lists!$BX$2:$CA$78,2,FALSE))","v":""},{"$f":"IF($E99=\"\",\"\",VLOOKUP($E99,Lists!$BX$2:$CA$78,3,FALSE))","v":""},{"$f":"IF($E99=\"\",\"\",VLOOKUP($E99,Lists!$BX$2:$CA$78,4,FALSE))","v":""}]
[null,{"$f":"IF($E100=\"\",\"\",VLOOKUP($E100,Lists!$BX$2:$CA$78,2,FALSE))","v":""},{"$f":"IF($E100=\"\",\"\",VLOOKUP($E100,Lists!$BX$2:$CA$78,3,FALSE))","v":""},{"$f":"IF($E100=\"\",\"\",VLOOKUP($E100,Lists!$BX$2:$CA$78,4,FALSE))","v":""}]
[null,{"$f":"IF($E101=\"\",\"\",VLOOKUP($E101,Lists!$BX$2:$CA$78,2,FALSE))","v":""},{"$f":"IF($E101=\"\",\"\",VLOOKUP($E101,Lists!$BX$2:$CA$78,3,FALSE))","v":""},{"$f":"IF($E101=\"\",\"\",VLOOKUP($E101,Lists!$BX$2:$CA$78,4,FALSE))","v":""}]
[null,{"$f":"IF($E102=\"\",\"\",VLOOKUP($E102,Lists!$BX$2:$CA$78,2,FALSE))","v":""},{"$f":"IF($E102=\"\",\"\",VLOOKUP($E102,Lists!$BX$2:$CA$78,3,FALSE))","v":""},{"$f":"IF($E102=\"\",\"\",VLOOKUP($E102,Lists!$BX$2:$CA$78,4,FALSE))","v":""}]
[null,{"$f":"IF($E103=\"\",\"\",VLOOKUP($E103,Lists!$BX$2:$CA$78,2,FALSE))","v":""},{"$f":"IF($E103=\"\",\"\",VLOOKUP($E103,Lists!$BX$2:$CA$78,3,FALSE))","v":""},{"$f":"IF($E103=\"\",\"\",VLOOKUP($E103,Lists!$BX$2:$CA$78,4,FALSE))","v":""}]
[null,{"$f":"IF($E104=\"\",\"\",VLOOKUP($E104,Lists!$BX$2:$CA$78,2,FALSE))","v":""},{"$f":"IF($E104=\"\",\"\",VLOOKUP($E104,Lists!$BX$2:$CA$78,3,FALSE))","v":""},{"$f":"IF($E104=\"\",\"\",VLOOKUP($E104,Lists!$BX$2:$CA$78,4,FALSE))","v":""}]
[null,{"$f":"IF($E105=\"\",\"\",VLOOKUP($E105,Lists!$BX$2:$CA$78,2,FALSE))","v":""},{"$f":"IF($E105=\"\",\"\",VLOOKUP($E105,Lists!$BX$2:$CA$78,3,FALSE))","v":""},{"$f":"IF($E105=\"\",\"\",VLOOKUP($E105,Lists!$BX$2:$CA$78,4,FALSE))","v":""}]
[null,{"$f":"IF($E106=\"\",\"\",VLOOKUP($E106,Lists!$BX$2:$CA$78,2,FALSE))","v":""},{"$f":"IF($E106=\"\",\"\",VLOOKUP($E106,Lists!$BX$2:$CA$78,3,FALSE))","v":""},{"$f":"IF($E106=\"\",\"\",VLOOKUP($E106,Lists!$BX$2:$CA$78,4,FALSE))","v":""}]
[null,{"$f":"IF($E107=\"\",\"\",VLOOKUP($E107,Lists!$BX$2:$CA$78,2,FALSE))","v":""},{"$f":"IF($E107=\"\",\"\",VLOOKUP($E107,Lists!$BX$2:$CA$78,3,FALSE))","v":""},{"$f":"IF($E107=\"\",\"\",VLOOKUP($E107,Lists!$BX$2:$CA$78,4,FALSE))","v":""}]
[null,{"$f":"IF($E108=\"\",\"\",VLOOKUP($E108,Lists!$BX$2:$CA$78,2,FALSE))","v":""},{"$f":"IF($E108=\"\",\"\",VLOOKUP($E108,Lists!$BX$2:$CA$78,3,FALSE))","v":""},{"$f":"IF($E108=\"\",\"\",VLOOKUP($E108,Lists!$BX$2:$CA$78,4,FALSE))","v":""}]
[null,{"$f":"IF($E109=\"\",\"\",VLOOKUP($E109,Lists!$BX$2:$CA$78,2,FALSE))","v":""},{"$f":"IF($E109=\"\",\"\",VLOOKUP($E109,Lists!$BX$2:$CA$78,3,FALSE))","v":""},{"$f":"IF($E109=\"\",\"\",VLOOKUP($E109,Lists!$BX$2:$CA$78,4,FALSE))","v":""}]
[null,{"$f":"IF($E110=\"\",\"\",VLOOKUP($E110,Lists!$BX$2:$CA$78,2,FALSE))","v":""},{"$f":"IF($E110=\"\",\"\",VLOOKUP($E110,Lists!$BX$2:$CA$78,3,FALSE))","v":""},{"$f":"IF($E110=\"\",\"\",VLOOKUP($E110,Lists!$BX$2:$CA$78,4,FALSE))","v":""}]
[null,{"$f":"IF($E111=\"\",\"\",VLOOKUP($E111,Lists!$BX$2:$CA$78,2,FALSE))","v":""},{"$f":"IF($E111=\"\",\"\",VLOOKUP($E111,Lists!$BX$2:$CA$78,3,FALSE))","v":""},{"$f":"IF($E111=\"\",\"\",VLOOKUP($E111,Lists!$BX$2:$CA$78,4,FALSE))","v":""}]
[null,{"$f":"IF($E112=\"\",\"\",VLOOKUP($E112,Lists!$BX$2:$CA$78,2,FALSE))","v":""},{"$f":"IF($E112=\"\",\"\",VLOOKUP($E112,Lists!$BX$2:$CA$78,3,FALSE))","v":""},{"$f":"IF($E112=\"\",\"\",VLOOKUP($E112,Lists!$BX$2:$CA$78,4,FALSE))","v":""}]
[null,{"$f":"IF($E113=\"\",\"\",VLOOKUP($E113,Lists!$BX$2:$CA$78,2,FALSE))","v":""},{"$f":"IF($E113=\"\",\"\",VLOOKUP($E113,Lists!$BX$2:$CA$78,3,FALSE))","v":""},{"$f":"IF($E113=\"\",\"\",VLOOKUP($E113,Lists!$BX$2:$CA$78,4,FALSE))","v":""}]
[null,{"$f":"IF($E114=\"\",\"\",VLOOKUP($E114,Lists!$BX$2:$CA$78,2,FALSE))","v":""},{"$f":"IF($E114=\"\",\"\",VLOOKUP($E114,Lists!$BX$2:$CA$78,3,FALSE))","v":""},{"$f":"IF($E114=\"\",\"\",VLOOKUP($E114,Lists!$BX$2:$CA$78,4,FALSE))","v":""}]
[null,{"$f":"IF($E115=\"\",\"\",VLOOKUP($E115,Lists!$BX$2:$CA$78,2,FALSE))","v":""},{"$f":"IF($E115=\"\",\"\",VLOOKUP($E115,Lists!$BX$2:$CA$78,3,FALSE))","v":""},{"$f":"IF($E115=\"\",\"\",VLOOKUP($E115,Lists!$BX$2:$CA$78,4,FALSE))","v":""}]
[null,{"$f":"IF($E116=\"\",\"\",VLOOKUP($E116,Lists!$BX$2:$CA$78,2,FALSE))","v":""},{"$f":"IF($E116=\"\",\"\",VLOOKUP($E116,Lists!$BX$2:$CA$78,3,FALSE))","v":""},{"$f":"IF($E116=\"\",\"\",VLOOKUP($E116,Lists!$BX$2:$CA$78,4,FALSE))","v":""}]
[null,{"$f":"IF($E117=\"\",\"\",VLOOKUP($E117,Lists!$BX$2:$CA$78,2,FALSE))","v":""},{"$f":"IF($E117=\"\",\"\",VLOOKUP($E117,Lists!$BX$2:$CA$78,3,FALSE))","v":""},{"$f":"IF($E117=\"\",\"\",VLOOKUP($E117,Lists!$BX$2:$CA$78,4,FALSE))","v":""}]
[null,{"$f":"IF($E118=\"\",\"\",VLOOKUP($E118,Lists!$BX$2:$CA$78,2,FALSE))","v":""},{"$f":"IF($E118=\"\",\"\",VLOOKUP($E118,Lists!$BX$2:$CA$78,3,FALSE))","v":""},{"$f":"IF($E118=\"\",\"\",VLOOKUP($E118,Lists!$BX$2:$CA$78,4,FALSE))","v":""}]
[null,{"$f":"IF($E119=\"\",\"\",VLOOKUP($E119,Lists!$BX$2:$CA$78,2,FALSE))","v":""},{"$f":"IF($E119=\"\",\"\",VLOOKUP($E119,Lists!$BX$2:$CA$78,3,FALSE))","v":""},{"$f":"IF($E119=\"\",\"\",VLOOKUP($E119,Lists!$BX$2:$CA$78,4,FALSE))","v":""}]
[null,{"$f":"IF($E120=\"\",\"\",VLOOKUP($E120,Lists!$BX$2:$CA$78,2,FALSE))","v":""},{"$f":"IF($E120=\"\",\"\",VLOOKUP($E120,Lists!$BX$2:$CA$78,3,FALSE))","v":""},{"$f":"IF($E120=\"\",\"\",VLOOKUP($E120,Lists!$BX$2:$CA$78,4,FALSE))","v":""}]
[null,{"$f":"IF($E121=\"\",\"\",VLOOKUP($E121,Lists!$BX$2:$CA$78,2,FALSE))","v":""},{"$f":"IF($E121=\"\",\"\",VLOOKUP($E121,Lists!$BX$2:$CA$78,3,FALSE))","v":""},{"$f":"IF($E121=\"\",\"\",VLOOKUP($E121,Lists!$BX$2:$CA$78,4,FALSE))","v":""}]
[null,{"$f":"IF($E122=\"\",\"\",VLOOKUP($E122,Lists!$BX$2:$CA$78,2,FALSE))","v":""},{"$f":"IF($E122=\"\",\"\",VLOOKUP($E122,Lists!$BX$2:$CA$78,3,FALSE))","v":""},{"$f":"IF($E122=\"\",\"\",VLOOKUP($E122,Lists!$BX$2:$CA$78,4,FALSE))","v":""}]
[null,{"$f":"IF($E123=\"\",\"\",VLOOKUP($E123,Lists!$BX$2:$CA$78,2,FALSE))","v":""},{"$f":"IF($E123=\"\",\"\",VLOOKUP($E123,Lists!$BX$2:$CA$78,3,FALSE))","v":""},{"$f":"IF($E123=\"\",\"\",VLOOKUP($E123,Lists!$BX$2:$CA$78,4,FALSE))","v":""}]
[null,{"$f":"IF($E124=\"\",\"\",VLOOKUP($E124,Lists!$BX$2:$CA$78,2,FALSE))","v":""},{"$f":"IF($E124=\"\",\"\",VLOOKUP($E124,Lists!$BX$2:$CA$78,3,FALSE))","v":""},{"$f":"IF($E124=\"\",\"\",VLOOKUP($E124,Lists!$BX$2:$CA$78,4,FALSE))","v":""}]
[null,{"$f":"IF($E125=\"\",\"\",VLOOKUP($E125,Lists!$BX$2:$CA$78,2,FALSE))","v":""},{"$f":"IF($E125=\"\",\"\",VLOOKUP($E125,Lists!$BX$2:$CA$78,3,FALSE))","v":""},{"$f":"IF($E125=\"\",\"\",VLOOKUP($E125,Lists!$BX$2:$CA$78,4,FALSE))","v":""}]
[null,{"$f":"IF($E126=\"\",\"\",VLOOKUP($E126,Lists!$BX$2:$CA$78,2,FALSE))","v":""},{"$f":"IF($E126=\"\",\"\",VLOOKUP($E126,Lists!$BX$2:$CA$78,3,FALSE))","v":""},{"$f":"IF($E126=\"\",\"\",VLOOKUP($E126,Lists!$BX$2:$CA$78,4,FALSE))","v":""}]
[null,{"$f":"IF($E127=\"\",\"\",VLOOKUP($E127,Lists!$BX$2:$CA$78,2,FALSE))","v":""},{"$f":"IF($E127=\"\",\"\",VLOOKUP($E127,Lists!$BX$2:$CA$78,3,FALSE))","v":""},{"$f":"IF($E127=\"\",\"\",VLOOKUP($E127,Lists!$BX$2:$CA$78,4,FALSE))","v":""}]
[null,{"$f":"IF($E128=\"\",\"\",VLOOKUP($E128,Lists!$BX$2:$CA$78,2,FALSE))","v":""},{"$f":"IF($E128=\"\",\"\",VLOOKUP($E128,Lists!$BX$2:$CA$78,3,FALSE))","v":""},{"$f":"IF($E128=\"\",\"\",VLOOKUP($E128,Lists!$BX$2:$CA$78,4,FALSE))","v":""}]
[null,{"$f":"IF($E129=\"\",\"\",VLOOKUP($E129,Lists!$BX$2:$CA$78,2,FALSE))","v":""},{"$f":"IF($E129=\"\",\"\",VLOOKUP($E129,Lists!$BX$2:$CA$78,3,FALSE))","v":""},{"$f":"IF($E129=\"\",\"\",VLOOKUP($E129,Lists!$BX$2:$CA$78,4,FALSE))","v":""}]
[null,{"$f":"IF($E130=\"\",\"\",VLOOKUP($E130,Lists!$BX$2:$CA$78,2,FALSE))","v":""},{"$f":"IF($E130=\"\",\"\",VLOOKUP($E130,Lists!$BX$2:$CA$78,3,FALSE))","v":""},{"$f":"IF($E130=\"\",\"\",VLOOKUP($E130,Lists!$BX$2:$CA$78,4,FALSE))","v":""}]
[null,{"$f":"IF($E131=\"\",\"\",VLOOKUP($E131,Lists!$BX$2:$CA$78,2,FALSE))","v":""},{"$f":"IF($E131=\"\",\"\",VLOOKUP($E131,Lists!$BX$2:$CA$78,3,FALSE))","v":""},{"$f":"IF($E131=\"\",\"\",VLOOKUP($E131,Lists!$BX$2:$CA$78,4,FALSE))","v":""}]
[null,{"$f":"IF($E132=\"\",\"\",VLOOKUP($E132,Lists!$BX$2:$CA$78,2,FALSE))","v":""},{"$f":"IF($E132=\"\",\"\",VLOOKUP($E132,Lists!$BX$2:$CA$78,3,FALSE))","v":""},{"$f":"IF($E132=\"\",\"\",VLOOKUP($E132,Lists!$BX$2:$CA$78,4,FALSE))","v":""}]
[null,{"$f":"IF($E133=\"\",\"\",VLOOKUP($E133,Lists!$BX$2:$CA$78,2,FALSE))","v":""},{"$f":"IF($E133=\"\",\"\",VLOOKUP($E133,Lists!$BX$2:$CA$78,3,FALSE))","v":""},{"$f":"IF($E133=\"\",\"\",VLOOKUP($E133,Lists!$BX$2:$CA$78,4,FALSE))","v":""}]
[null,{"$f":"IF($E134=\"\",\"\",VLOOKUP($E134,Lists!$BX$2:$CA$78,2,FALSE))","v":""},{"$f":"IF($E134=\"\",\"\",VLOOKUP($E134,Lists!$BX$2:$CA$78,3,FALSE))","v":""},{"$f":"IF($E134=\"\",\"\",VLOOKUP($E134,Lists!$BX$2:$CA$78,4,FALSE))","v":""}]
[null,{"$f":"IF($E135=\"\",\"\",VLOOKUP($E135,Lists!$BX$2:$CA$78,2,FALSE))","v":""},{"$f":"IF($E135=\"\",\"\",VLOOKUP($E135,Lists!$BX$2:$CA$78,3,FALSE))","v":""},{"$f":"IF($E135=\"\",\"\",VLOOKUP($E135,Lists!$BX$2:$CA$78,4,FALSE))","v":""}]
[null,{"$f":"IF($E136=\"\",\"\",VLOOKUP($E136,Lists!$BX$2:$CA$78,2,FALSE))","v":""},{"$f":"IF($E136=\"\",\"\",VLOOKUP($E136,Lists!$BX$2:$CA$78,3,FALSE))","v":""},{"$f":"IF($E136=\"\",\"\",VLOOKUP($E136,Lists!$BX$2:$CA$78,4,FALSE))","v":""}]
[null,{"$f":"IF($E137=\"\",\"\",VLOOKUP($E137,Lists!$BX$2:$CA$78,2,FALSE))","v":""},{"$f":"IF($E137=\"\",\"\",VLOOKUP($E137,Lists!$BX$2:$CA$78,3,FALSE))","v":""},{"$f":"IF($E137=\"\",\"\",VLOOKUP($E137,Lists!$BX$2:$CA$78,4,FALSE))","v":""}]
[null,{"$f":"IF($E138=\"\",\"\",VLOOKUP($E138,Lists!$BX$2:$CA$78,2,FALSE))","v":""},{"$f":"IF($E138=\"\",\"\",VLOOKUP($E138,Lists!$BX$2:$CA$78,3,FALSE))","v":""},{"$f":"IF($E138=\"\",\"\",VLOOKUP($E138,Lists!$BX$2:$CA$78,4,FALSE))","v":""}]
[null,{"$f":"IF($E139=\"\",\"\",VLOOKUP($E139,Lists!$BX$2:$CA$78,2,FALSE))","v":""},{"$f":"IF($E139=\"\",\"\",VLOOKUP($E139,Lists!$BX$2:$CA$78,3,FALSE))","v":""},{"$f":"IF($E139=\"\",\"\",VLOOKUP($E139,Lists!$BX$2:$CA$78,4,FALSE))","v":""}]
[null,{"$f":"IF($E140=\"\",\"\",VLOOKUP($E140,Lists!$BX$2:$CA$78,2,FALSE))","v":""},{"$f":"IF($E140=\"\",\"\",VLOOKUP($E140,Lists!$BX$2:$CA$78,3,FALSE))","v":""},{"$f":"IF($E140=\"\",\"\",VLOOKUP($E140,Lists!$BX$2:$CA$78,4,FALSE))","v":""}]
[null,{"$f":"IF($E141=\"\",\"\",VLOOKUP($E141,Lists!$BX$2:$CA$78,2,FALSE))","v":""},{"$f":"IF($E141=\"\",\"\",VLOOKUP($E141,Lists!$BX$2:$CA$78,3,FALSE))","v":""},{"$f":"IF($E141=\"\",\"\",VLOOKUP($E141,Lists!$BX$2:$CA$78,4,FALSE))","v":""}]
[null,{"$f":"IF($E142=\"\",\"\",VLOOKUP($E142,Lists!$BX$2:$CA$78,2,FALSE))","v":""},{"$f":"IF($E142=\"\",\"\",VLOOKUP($E142,Lists!$BX$2:$CA$78,3,FALSE))","v":""},{"$f":"IF($E142=\"\",\"\",VLOOKUP($E142,Lists!$BX$2:$CA$78,4,FALSE))","v":""}]
[null,{"$f":"IF($E143=\"\",\"\",VLOOKUP($E143,Lists!$BX$2:$CA$78,2,FALSE))","v":""},{"$f":"IF($E143=\"\",\"\",VLOOKUP($E143,Lists!$BX$2:$CA$78,3,FALSE))","v":""},{"$f":"IF($E143=\"\",\"\",VLOOKUP($E143,Lists!$BX$2:$CA$78,4,FALSE))","v":""}]
[null,{"$f":"IF($E144=\"\",\"\",VLOOKUP($E144,Lists!$BX$2:$CA$78,2,FALSE))","v":""},{"$f":"IF($E144=\"\",\"\",VLOOKUP($E144,Lists!$BX$2:$CA$78,3,FALSE))","v":""},{"$f":"IF($E144=\"\",\"\",VLOOKUP($E144,Lists!$BX$2:$CA$78,4,FALSE))","v":""}]
[null,{"$f":"IF($E145=\"\",\"\",VLOOKUP($E145,Lists!$BX$2:$CA$78,2,FALSE))","v":""},{"$f":"IF($E145=\"\",\"\",VLOOKUP($E145,Lists!$BX$2:$CA$78,3,FALSE))","v":""},{"$f":"IF($E145=\"\",\"\",VLOOKUP($E145,Lists!$BX$2:$CA$78,4,FALSE))","v":""}]
[null,{"$f":"IF($E146=\"\",\"\",VLOOKUP($E146,Lists!$BX$2:$CA$78,2,FALSE))","v":""},{"$f":"IF($E146=\"\",\"\",VLOOKUP($E146,Lists!$BX$2:$CA$78,3,FALSE))","v":""},{"$f":"IF($E146=\"\",\"\",VLOOKUP($E146,Lists!$BX$2:$CA$78,4,FALSE))","v":""}]
[null,{"$f":"IF($E147=\"\",\"\",VLOOKUP($E147,Lists!$BX$2:$CA$78,2,FALSE))","v":""},{"$f":"IF($E147=\"\",\"\",VLOOKUP($E147,Lists!$BX$2:$CA$78,3,FALSE))","v":""},{"$f":"IF($E147=\"\",\"\",VLOOKUP($E147,Lists!$BX$2:$CA$78,4,FALSE))","v":""}]
[null,{"$f":"IF($E148=\"\",\"\",VLOOKUP($E148,Lists!$BX$2:$CA$78,2,FALSE))","v":""},{"$f":"IF($E148=\"\",\"\",VLOOKUP($E148,Lists!$BX$2:$CA$78,3,FALSE))","v":""},{"$f":"IF($E148=\"\",\"\",VLOOKUP($E148,Lists!$BX$2:$CA$78,4,FALSE))","v":""}]
[null,{"$f":"IF($E149=\"\",\"\",VLOOKUP($E149,Lists!$BX$2:$CA$78,2,FALSE))","v":""},{"$f":"IF($E149=\"\",\"\",VLOOKUP($E149,Lists!$BX$2:$CA$78,3,FALSE))","v":""},{"$f":"IF($E149=\"\",\"\",VLOOKUP($E149,Lists!$BX$2:$CA$78,4,FALSE))","v":""}]
[null,{"$f":"IF($E150=\"\",\"\",VLOOKUP($E150,Lists!$BX$2:$CA$78,2,FALSE))","v":""},{"$f":"IF($E150=\"\",\"\",VLOOKUP($E150,Lists!$BX$2:$CA$78,3,FALSE))","v":""},{"$f":"IF($E150=\"\",\"\",VLOOKUP($E150,Lists!$BX$2:$CA$78,4,FALSE))","v":""}]
[null,{"$f":"IF($E151=\"\",\"\",VLOOKUP($E151,Lists!$BX$2:$CA$78,2,FALSE))","v":""},{"$f":"IF($E151=\"\",\"\",VLOOKUP($E151,Lists!$BX$2:$CA$78,3,FALSE))","v":""},{"$f":"IF($E151=\"\",\"\",VLOOKUP($E151,Lists!$BX$2:$CA$78,4,FALSE))","v":""}]
[null,{"$f":"IF($E152=\"\",\"\",VLOOKUP($E152,Lists!$BX$2:$CA$78,2,FALSE))","v":""},{"$f":"IF($E152=\"\",\"\",VLOOKUP($E152,Lists!$BX$2:$CA$78,3,FALSE))","v":""},{"$f":"IF($E152=\"\",\"\",VLOOKUP($E152,Lists!$BX$2:$CA$78,4,FALSE))","v":""}]
[null,{"$f":"IF($E153=\"\",\"\",VLOOKUP($E153,Lists!$BX$2:$CA$78,2,FALSE))","v":""},{"$f":"IF($E153=\"\",\"\",VLOOKUP($E153,Lists!$BX$2:$CA$78,3,FALSE))","v":""},{"$f":"IF($E153=\"\",\"\",VLOOKUP($E153,Lists!$BX$2:$CA$78,4,FALSE))","v":""}]
[null,{"$f":"IF($E154=\"\",\"\",VLOOKUP($E154,Lists!$BX$2:$CA$78,2,FALSE))","v":""},{"$f":"IF($E154=\"\",\"\",VLOOKUP($E154,Lists!$BX$2:$CA$78,3,FALSE))","v":""},{"$f":"IF($E154=\"\",\"\",VLOOKUP($E154,Lists!$BX$2:$CA$78,4,FALSE))","v":""}]
[null,{"$f":"IF($E155=\"\",\"\",VLOOKUP($E155,Lists!$BX$2:$CA$78,2,FALSE))","v":""},{"$f":"IF($E155=\"\",\"\",VLOOKUP($E155,Lists!$BX$2:$CA$78,3,FALSE))","v":""},{"$f":"IF($E155=\"\",\"\",VLOOKUP($E155,Lists!$BX$2:$CA$78,4,FALSE))","v":""}]
[null,{"$f":"IF($E156=\"\",\"\",VLOOKUP($E156,Lists!$BX$2:$CA$78,2,FALSE))","v":""},{"$f":"IF($E156=\"\",\"\",VLOOKUP($E156,Lists!$BX$2:$CA$78,3,FALSE))","v":""},{"$f":"IF($E156=\"\",\"\",VLOOKUP($E156,Lists!$BX$2:$CA$78,4,FALSE))","v":""}]
[null,{"$f":"IF($E157=\"\",\"\",VLOOKUP($E157,Lists!$BX$2:$CA$78,2,FALSE))","v":""},{"$f":"IF($E157=\"\",\"\",VLOOKUP($E157,Lists!$BX$2:$CA$78,3,FALSE))","v":""},{"$f":"IF($E157=\"\",\"\",VLOOKUP($E157,Lists!$BX$2:$CA$78,4,FALSE))","v":""}]
[null,{"$f":"IF($E158=\"\",\"\",VLOOKUP($E158,Lists!$BX$2:$CA$78,2,FALSE))","v":""},{"$f":"IF($E158=\"\",\"\",VLOOKUP($E158,Lists!$BX$2:$CA$78,3,FALSE))","v":""},{"$f":"IF($E158=\"\",\"\",VLOOKUP($E158,Lists!$BX$2:$CA$78,4,FALSE))","v":""}]
[null,{"$f":"IF($E159=\"\",\"\",VLOOKUP($E159,Lists!$BX$2:$CA$78,2,FALSE))","v":""},{"$f":"IF($E159=\"\",\"\",VLOOKUP($E159,Lists!$BX$2:$CA$78,3,FALSE))","v":""},{"$f":"IF($E159=\"\",\"\",VLOOKUP($E159,Lists!$BX$2:$CA$78,4,FALSE))","v":""}]
[null,{"$f":"IF($E160=\"\",\"\",VLOOKUP($E160,Lists!$BX$2:$CA$78,2,FALSE))","v":""},{"$f":"IF($E160=\"\",\"\",VLOOKUP($E160,Lists!$BX$2:$CA$78,3,FALSE))","v":""},{"$f":"IF($E160=\"\",\"\",VLOOKUP($E160,Lists!$BX$2:$CA$78,4,FALSE))","v":""}]
[null,{"$f":"IF($E161=\"\",\"\",VLOOKUP($E161,Lists!$BX$2:$CA$78,2,FALSE))","v":""},{"$f":"IF($E161=\"\",\"\",VLOOKUP($E161,Lists!$BX$2:$CA$78,3,FALSE))","v":""},{"$f":"IF($E161=\"\",\"\",VLOOKUP($E161,Lists!$BX$2:$CA$78,4,FALSE))","v":""}]
[null,{"$f":"IF($E162=\"\",\"\",VLOOKUP($E162,Lists!$BX$2:$CA$78,2,FALSE))","v":""},{"$f":"IF($E162=\"\",\"\",VLOOKUP($E162,Lists!$BX$2:$CA$78,3,FALSE))","v":""},{"$f":"IF($E162=\"\",\"\",VLOOKUP($E162,Lists!$BX$2:$CA$78,4,FALSE))","v":""}]
[null,{"$f":"IF($E163=\"\",\"\",VLOOKUP($E163,Lists!$BX$2:$CA$78,2,FALSE))","v":""},{"$f":"IF($E163=\"\",\"\",VLOOKUP($E163,Lists!$BX$2:$CA$78,3,FALSE))","v":""},{"$f":"IF($E163=\"\",\"\",VLOOKUP($E163,Lists!$BX$2:$CA$78,4,FALSE))","v":""}]
[null,{"$f":"IF($E164=\"\",\"\",VLOOKUP($E164,Lists!$BX$2:$CA$78,2,FALSE))","v":""},{"$f":"IF($E164=\"\",\"\",VLOOKUP($E164,Lists!$BX$2:$CA$78,3,FALSE))","v":""},{"$f":"IF($E164=\"\",\"\",VLOOKUP($E164,Lists!$BX$2:$CA$78,4,FALSE))","v":""}]
[null,{"$f":"IF($E165=\"\",\"\",VLOOKUP($E165,Lists!$BX$2:$CA$78,2,FALSE))","v":""},{"$f":"IF($E165=\"\",\"\",VLOOKUP($E165,Lists!$BX$2:$CA$78,3,FALSE))","v":""},{"$f":"IF($E165=\"\",\"\",VLOOKUP($E165,Lists!$BX$2:$CA$78,4,FALSE))","v":""}]
[null,{"$f":"IF($E166=\"\",\"\",VLOOKUP($E166,Lists!$BX$2:$CA$78,2,FALSE))","v":""},{"$f":"IF($E166=\"\",\"\",VLOOKUP($E166,Lists!$BX$2:$CA$78,3,FALSE))","v":""},{"$f":"IF($E166=\"\",\"\",VLOOKUP($E166,Lists!$BX$2:$CA$78,4,FALSE))","v":""}]
[null,{"$f":"IF($E167=\"\",\"\",VLOOKUP($E167,Lists!$BX$2:$CA$78,2,FALSE))","v":""},{"$f":"IF($E167=\"\",\"\",VLOOKUP($E167,Lists!$BX$2:$CA$78,3,FALSE))","v":""},{"$f":"IF($E167=\"\",\"\",VLOOKUP($E167,Lists!$BX$2:$CA$78,4,FALSE))","v":""}]
[null,{"$f":"IF($E168=\"\",\"\",VLOOKUP($E168,Lists!$BX$2:$CA$78,2,FALSE))","v":""},{"$f":"IF($E168=\"\",\"\",VLOOKUP($E168,Lists!$BX$2:$CA$78,3,FALSE))","v":""},{"$f":"IF($E168=\"\",\"\",VLOOKUP($E168,Lists!$BX$2:$CA$78,4,FALSE))","v":""}]
[null,{"$f":"IF($E169=\"\",\"\",VLOOKUP($E169,Lists!$BX$2:$CA$78,2,FALSE))","v":""},{"$f":"IF($E169=\"\",\"\",VLOOKUP($E169,Lists!$BX$2:$CA$78,3,FALSE))","v":""},{"$f":"IF($E169=\"\",\"\",VLOOKUP($E169,Lists!$BX$2:$CA$78,4,FALSE))","v":""}]
[null,{"$f":"IF($E170=\"\",\"\",VLOOKUP($E170,Lists!$BX$2:$CA$78,2,FALSE))","v":""},{"$f":"IF($E170=\"\",\"\",VLOOKUP($E170,Lists!$BX$2:$CA$78,3,FALSE))","v":""},{"$f":"IF($E170=\"\",\"\",VLOOKUP($E170,Lists!$BX$2:$CA$78,4,FALSE))","v":""}]
[null,{"$f":"IF($E171=\"\",\"\",VLOOKUP($E171,Lists!$BX$2:$CA$78,2,FALSE))","v":""},{"$f":"IF($E171=\"\",\"\",VLOOKUP($E171,Lists!$BX$2:$CA$78,3,FALSE))","v":""},{"$f":"IF($E171=\"\",\"\",VLOOKUP($E171,Lists!$BX$2:$CA$78,4,FALSE))","v":""}]
[null,{"$f":"IF($E172=\"\",\"\",VLOOKUP($E172,Lists!$BX$2:$CA$78,2,FALSE))","v":""},{"$f":"IF($E172=\"\",\"\",VLOOKUP($E172,Lists!$BX$2:$CA$78,3,FALSE))","v":""},{"$f":"IF($E172=\"\",\"\",VLOOKUP($E172,Lists!$BX$2:$CA$78,4,FALSE))","v":""}]
[null,{"$f":"IF($E173=\"\",\"\",VLOOKUP($E173,Lists!$BX$2:$CA$78,2,FALSE))","v":""},{"$f":"IF($E173=\"\",\"\",VLOOKUP($E173,Lists!$BX$2:$CA$78,3,FALSE))","v":""},{"$f":"IF($E173=\"\",\"\",VLOOKUP($E173,Lists!$BX$2:$CA$78,4,FALSE))","v":""}]
[null,{"$f":"IF($E174=\"\",\"\",VLOOKUP($E174,Lists!$BX$2:$CA$78,2,FALSE))","v":""},{"$f":"IF($E174=\"\",\"\",VLOOKUP($E174,Lists!$BX$2:$CA$78,3,FALSE))","v":""},{"$f":"IF($E174=\"\",\"\",VLOOKUP($E174,Lists!$BX$2:$CA$78,4,FALSE))","v":""}]
[null,{"$f":"IF($E175=\"\",\"\",VLOOKUP($E175,Lists!$BX$2:$CA$78,2,FALSE))","v":""},{"$f":"IF($E175=\"\",\"\",VLOOKUP($E175,Lists!$BX$2:$CA$78,3,FALSE))","v":""},{"$f":"IF($E175=\"\",\"\",VLOOKUP($E175,Lists!$BX$2:$CA$78,4,FALSE))","v":""}]
[null,{"$f":"IF($E176=\"\",\"\",VLOOKUP($E176,Lists!$BX$2:$CA$78,2,FALSE))","v":""},{"$f":"IF($E176=\"\",\"\",VLOOKUP($E176,Lists!$BX$2:$CA$78,3,FALSE))","v":""},{"$f":"IF($E176=\"\",\"\",VLOOKUP($E176,Lists!$BX$2:$CA$78,4,FALSE))","v":""}]
[null,{"$f":"IF($E177=\"\",\"\",VLOOKUP($E177,Lists!$BX$2:$CA$78,2,FALSE))","v":""},{"$f":"IF($E177=\"\",\"\",VLOOKUP($E177,Lists!$BX$2:$CA$78,3,FALSE))","v":""},{"$f":"IF($E177=\"\",\"\",VLOOKUP($E177,Lists!$BX$2:$CA$78,4,FALSE))","v":""}]
[null,{"$f":"IF($E178=\"\",\"\",VLOOKUP($E178,Lists!$BX$2:$CA$78,2,FALSE))","v":""},{"$f":"IF($E178=\"\",\"\",VLOOKUP($E178,Lists!$BX$2:$CA$78,3,FALSE))","v":""},{"$f":"IF($E178=\"\",\"\",VLOOKUP($E178,Lists!$BX$2:$CA$78,4,FALSE))","v":""}]
[null,{"$f":"IF($E179=\"\",\"\",VLOOKUP($E179,Lists!$BX$2:$CA$78,2,FALSE))","v":""},{"$f":"IF($E179=\"\",\"\",VLOOKUP($E179,Lists!$BX$2:$CA$78,3,FALSE))","v":""},{"$f":"IF($E179=\"\",\"\",VLOOKUP($E179,Lists!$BX$2:$CA$78,4,FALSE))","v":""}]
[null,{"$f":"IF($E180=\"\",\"\",VLOOKUP($E180,Lists!$BX$2:$CA$78,2,FALSE))","v":""},{"$f":"IF($E180=\"\",\"\",VLOOKUP($E180,Lists!$BX$2:$CA$78,3,FALSE))","v":""},{"$f":"IF($E180=\"\",\"\",VLOOKUP($E180,Lists!$BX$2:$CA$78,4,FALSE))","v":""}]
[null,{"$f":"IF($E181=\"\",\"\",VLOOKUP($E181,Lists!$BX$2:$CA$78,2,FALSE))","v":""},{"$f":"IF($E181=\"\",\"\",VLOOKUP($E181,Lists!$BX$2:$CA$78,3,FALSE))","v":""},{"$f":"IF($E181=\"\",\"\",VLOOKUP($E181,Lists!$BX$2:$CA$78,4,FALSE))","v":""}]
[null,{"$f":"IF($E182=\"\",\"\",VLOOKUP($E182,Lists!$BX$2:$CA$78,2,FALSE))","v":""},{"$f":"IF($E182=\"\",\"\",VLOOKUP($E182,Lists!$BX$2:$CA$78,3,FALSE))","v":""},{"$f":"IF($E182=\"\",\"\",VLOOKUP($E182,Lists!$BX$2:$CA$78,4,FALSE))","v":""}]
[null,{"$f":"IF($E183=\"\",\"\",VLOOKUP($E183,Lists!$BX$2:$CA$78,2,FALSE))","v":""},{"$f":"IF($E183=\"\",\"\",VLOOKUP($E183,Lists!$BX$2:$CA$78,3,FALSE))","v":""},{"$f":"IF($E183=\"\",\"\",VLOOKUP($E183,Lists!$BX$2:$CA$78,4,FALSE))","v":""}]
[null,{"$f":"IF($E184=\"\",\"\",VLOOKUP($E184,Lists!$BX$2:$CA$78,2,FALSE))","v":""},{"$f":"IF($E184=\"\",\"\",VLOOKUP($E184,Lists!$BX$2:$CA$78,3,FALSE))","v":""},{"$f":"IF($E184=\"\",\"\",VLOOKUP($E184,Lists!$BX$2:$CA$78,4,FALSE))","v":""}]
[null,{"$f":"IF($E185=\"\",\"\",VLOOKUP($E185,Lists!$BX$2:$CA$78,2,FALSE))","v":""},{"$f":"IF($E185=\"\",\"\",VLOOKUP($E185,Lists!$BX$2:$CA$78,3,FALSE))","v":""},{"$f":"IF($E185=\"\",\"\",VLOOKUP($E185,Lists!$BX$2:$CA$78,4,FALSE))","v":""}]
[null,{"$f":"IF($E186=\"\",\"\",VLOOKUP($E186,Lists!$BX$2:$CA$78,2,FALSE))","v":""},{"$f":"IF($E186=\"\",\"\",VLOOKUP($E186,Lists!$BX$2:$CA$78,3,FALSE))","v":""},{"$f":"IF($E186=\"\",\"\",VLOOKUP($E186,Lists!$BX$2:$CA$78,4,FALSE))","v":""}]
[null,{"$f":"IF($E187=\"\",\"\",VLOOKUP($E187,Lists!$BX$2:$CA$78,2,FALSE))","v":""},{"$f":"IF($E187=\"\",\"\",VLOOKUP($E187,Lists!$BX$2:$CA$78,3,FALSE))","v":""},{"$f":"IF($E187=\"\",\"\",VLOOKUP($E187,Lists!$BX$2:$CA$78,4,FALSE))","v":""}]
[null,{"$f":"IF($E188=\"\",\"\",VLOOKUP($E188,Lists!$BX$2:$CA$78,2,FALSE))","v":""},{"$f":"IF($E188=\"\",\"\",VLOOKUP($E188,Lists!$BX$2:$CA$78,3,FALSE))","v":""},{"$f":"IF($E188=\"\",\"\",VLOOKUP($E188,Lists!$BX$2:$CA$78,4,FALSE))","v":""}]
[null,{"$f":"IF($E189=\"\",\"\",VLOOKUP($E189,Lists!$BX$2:$CA$78,2,FALSE))","v":""},{"$f":"IF($E189=\"\",\"\",VLOOKUP($E189,Lists!$BX$2:$CA$78,3,FALSE))","v":""},{"$f":"IF($E189=\"\",\"\",VLOOKUP($E189,Lists!$BX$2:$CA$78,4,FALSE))","v":""}]
[null,{"$f":"IF($E190=\"\",\"\",VLOOKUP($E190,Lists!$BX$2:$CA$78,2,FALSE))","v":""},{"$f":"IF($E190=\"\",\"\",VLOOKUP($E190,Lists!$BX$2:$CA$78,3,FALSE))","v":""},{"$f":"IF($E190=\"\",\"\",VLOOKUP($E190,Lists!$BX$2:$CA$78,4,FALSE))","v":""}]
[null,{"$f":"IF($E191=\"\",\"\",VLOOKUP($E191,Lists!$BX$2:$CA$78,2,FALSE))","v":""},{"$f":"IF($E191=\"\",\"\",VLOOKUP($E191,Lists!$BX$2:$CA$78,3,FALSE))","v":""},{"$f":"IF($E191=\"\",\"\",VLOOKUP($E191,Lists!$BX$2:$CA$78,4,FALSE))","v":""}]
[null,{"$f":"IF($E192=\"\",\"\",VLOOKUP($E192,Lists!$BX$2:$CA$78,2,FALSE))","v":""},{"$f":"IF($E192=\"\",\"\",VLOOKUP($E192,Lists!$BX$2:$CA$78,3,FALSE))","v":""},{"$f":"IF($E192=\"\",\"\",VLOOKUP($E192,Lists!$BX$2:$CA$78,4,FALSE))","v":""}]
[null,{"$f":"IF($E193=\"\",\"\",VLOOKUP($E193,Lists!$BX$2:$CA$78,2,FALSE))","v":""},{"$f":"IF($E193=\"\",\"\",VLOOKUP($E193,Lists!$BX$2:$CA$78,3,FALSE))","v":""},{"$f":"IF($E193=\"\",\"\",VLOOKUP($E193,Lists!$BX$2:$CA$78,4,FALSE))","v":""}]
[null,{"$f":"IF($E194=\"\",\"\",VLOOKUP($E194,Lists!$BX$2:$CA$78,2,FALSE))","v":""},{"$f":"IF($E194=\"\",\"\",VLOOKUP($E194,Lists!$BX$2:$CA$78,3,FALSE))","v":""},{"$f":"IF($E194=\"\",\"\",VLOOKUP($E194,Lists!$BX$2:$CA$78,4,FALSE))","v":""}]
[null,{"$f":"IF($E195=\"\",\"\",VLOOKUP($E195,Lists!$BX$2:$CA$78,2,FALSE))","v":""},{"$f":"IF($E195=\"\",\"\",VLOOKUP($E195,Lists!$BX$2:$CA$78,3,FALSE))","v":""},{"$f":"IF($E195=\"\",\"\",VLOOKUP($E195,Lists!$BX$2:$CA$78,4,FALSE))","v":""}]
[null,{"$f":"IF($E196=\"\",\"\",VLOOKUP($E196,Lists!$BX$2:$CA$78,2,FALSE))","v":""},{"$f":"IF($E196=\"\",\"\",VLOOKUP($E196,Lists!$BX$2:$CA$78,3,FALSE))","v":""},{"$f":"IF($E196=\"\",\"\",VLOOKUP($E196,Lists!$BX$2:$CA$78,4,FALSE))","v":""}]
[null,{"$f":"IF($E197=\"\",\"\",VLOOKUP($E197,Lists!$BX$2:$CA$78,2,FALSE))","v":""},{"$f":"IF($E197=\"\",\"\",VLOOKUP($E197,Lists!$BX$2:$CA$78,3,FALSE))","v":""},{"$f":"IF($E197=\"\",\"\",VLOOKUP($E197,Lists!$BX$2:$CA$78,4,FALSE))","v":""}]
[null,{"$f":"IF($E198=\"\",\"\",VLOOKUP($E198,Lists!$BX$2:$CA$78,2,FALSE))","v":""},{"$f":"IF($E198=\"\",\"\",VLOOKUP($E198,Lists!$BX$2:$CA$78,3,FALSE))","v":""},{"$f":"IF($E198=\"\",\"\",VLOOKUP($E198,Lists!$BX$2:$CA$78,4,FALSE))","v":""}]
[null,{"$f":"IF($E199=\"\",\"\",VLOOKUP($E199,Lists!$BX$2:$CA$78,2,FALSE))","v":""},{"$f":"IF($E199=\"\",\"\",VLOOKUP($E199,Lists!$BX$2:$CA$78,3,FALSE))","v":""},{"$f":"IF($E199=\"\",\"\",VLOOKUP($E199,Lists!$BX$2:$CA$78,4,FALSE))","v":""}]
[null,{"$f":"IF($E200=\"\",\"\",VLOOKUP($E200,Lists!$BX$2:$CA$78,2,FALSE))","v":""},{"$f":"IF($E200=\"\",\"\",VLOOKUP($E200,Lists!$BX$2:$CA$78,3,FALSE))","v":""},{"$f":"IF($E200=\"\",\"\",VLOOKUP($E200,Lists!$BX$2:$CA$78,4,FALSE))","v":""}]
[null,{"$f":"IF($E201=\"\",\"\",VLOOKUP($E201,Lists!$BX$2:$CA$78,2,FALSE))","v":""},{"$f":"IF($E201=\"\",\"\",VLOOKUP($E201,Lists!$BX$2:$CA$78,3,FALSE))","v":""},{"$f":"IF($E201=\"\",\"\",VLOOKUP($E201,Lists!$BX$2:$CA$78,4,FALSE))","v":""}]
[null,{"$f":"IF($E202=\"\",\"\",VLOOKUP($E202,Lists!$BX$2:$CA$78,2,FALSE))","v":""},{"$f":"IF($E202=\"\",\"\",VLOOKUP($E202,Lists!$BX$2:$CA$78,3,FALSE))","v":""},{"$f":"IF($E202=\"\",\"\",VLOOKUP($E202,Lists!$BX$2:$CA$78,4,FALSE))","v":""}]
[null,{"$f":"IF($E203=\"\",\"\",VLOOKUP($E203,Lists!$BX$2:$CA$78,2,FALSE))","v":""},{"$f":"IF($E203=\"\",\"\",VLOOKUP($E203,Lists!$BX$2:$CA$78,3,FALSE))","v":""},{"$f":"IF($E203=\"\",\"\",VLOOKUP($E203,Lists!$BX$2:$CA$78,4,FALSE))","v":""}]
[null,{"$f":"IF($E204=\"\",\"\",VLOOKUP($E204,Lists!$BX$2:$CA$78,2,FALSE))","v":""},{"$f":"IF($E204=\"\",\"\",VLOOKUP($E204,Lists!$BX$2:$CA$78,3,FALSE))","v":""},{"$f":"IF($E204=\"\",\"\",VLOOKUP($E204,Lists!$BX$2:$CA$78,4,FALSE))","v":""}]
[null,{"$f":"IF($E205=\"\",\"\",VLOOKUP($E205,Lists!$BX$2:$CA$78,2,FALSE))","v":""},{"$f":"IF($E205=\"\",\"\",VLOOKUP($E205,Lists!$BX$2:$CA$78,3,FALSE))","v":""},{"$f":"IF($E205=\"\",\"\",VLOOKUP($E205,Lists!$BX$2:$CA$78,4,FALSE))","v":""}]
[null,{"$f":"IF($E206=\"\",\"\",VLOOKUP($E206,Lists!$BX$2:$CA$78,2,FALSE))","v":""},{"$f":"IF($E206=\"\",\"\",VLOOKUP($E206,Lists!$BX$2:$CA$78,3,FALSE))","v":""},{"$f":"IF($E206=\"\",\"\",VLOOKUP($E206,Lists!$BX$2:$CA$78,4,FALSE))","v":""}]
[null,{"$f":"IF($E207=\"\",\"\",VLOOKUP($E207,Lists!$BX$2:$CA$78,2,FALSE))","v":""},{"$f":"IF($E207=\"\",\"\",VLOOKUP($E207,Lists!$BX$2:$CA$78,3,FALSE))","v":""},{"$f":"IF($E207=\"\",\"\",VLOOKUP($E207,Lists!$BX$2:$CA$78,4,FALSE))","v":""}]
[null,{"$f":"IF($E208=\"\",\"\",VLOOKUP($E208,Lists!$BX$2:$CA$78,2,FALSE))","v":""},{"$f":"IF($E208=\"\",\"\",VLOOKUP($E208,Lists!$BX$2:$CA$78,3,FALSE))","v":""},{"$f":"IF($E208=\"\",\"\",VLOOKUP($E208,Lists!$BX$2:$CA$78,4,FALSE))","v":""}]
[null,{"$f":"IF($E209=\"\",\"\",VLOOKUP($E209,Lists!$BX$2:$CA$78,2,FALSE))","v":""},{"$f":"IF($E209=\"\",\"\",VLOOKUP($E209,Lists!$BX$2:$CA$78,3,FALSE))","v":""},{"$f":"IF($E209=\"\",\"\",VLOOKUP($E209,Lists!$BX$2:$CA$78,4,FALSE))","v":""}]
[null,{"$f":"IF($E210=\"\",\"\",VLOOKUP($E210,Lists!$BX$2:$CA$78,2,FALSE))","v":""},{"$f":"IF($E210=\"\",\"\",VLOOKUP($E210,Lists!$BX$2:$CA$78,3,FALSE))","v":""},{"$f":"IF($E210=\"\",\"\",VLOOKUP($E210,Lists!$BX$2:$CA$78,4,FALSE))","v":""}]
[null,{"$f":"IF($E211=\"\",\"\",VLOOKUP($E211,Lists!$BX$2:$CA$78,2,FALSE))","v":""},{"$f":"IF($E211=\"\",\"\",VLOOKUP($E211,Lists!$BX$2:$CA$78,3,FALSE))","v":""},{"$f":"IF($E211=\"\",\"\",VLOOKUP($E211,Lists!$BX$2:$CA$78,4,FALSE))","v":""}]
[null,{"$f":"IF($E212=\"\",\"\",VLOOKUP($E212,Lists!$BX$2:$CA$78,2,FALSE))","v":""},{"$f":"IF($E212=\"\",\"\",VLOOKUP($E212,Lists!$BX$2:$CA$78,3,FALSE))","v":""},{"$f":"IF($E212=\"\",\"\",VLOOKUP($E212,Lists!$BX$2:$CA$78,4,FALSE))","v":""}]
[null,{"$f":"IF($E213=\"\",\"\",VLOOKUP($E213,Lists!$BX$2:$CA$78,2,FALSE))","v":""},{"$f":"IF($E213=\"\",\"\",VLOOKUP($E213,Lists!$BX$2:$CA$78,3,FALSE))","v":""},{"$f":"IF($E213=\"\",\"\",VLOOKUP($E213,Lists!$BX$2:$CA$78,4,FALSE))","v":""}]
[null,{"$f":"IF($E214=\"\",\"\",VLOOKUP($E214,Lists!$BX$2:$CA$78,2,FALSE))","v":""},{"$f":"IF($E214=\"\",\"\",VLOOKUP($E214,Lists!$BX$2:$CA$78,3,FALSE))","v":""},{"$f":"IF($E214=\"\",\"\",VLOOKUP($E214,Lists!$BX$2:$CA$78,4,FALSE))","v":""}]
[null,{"$f":"IF($E215=\"\",\"\",VLOOKUP($E215,Lists!$BX$2:$CA$78,2,FALSE))","v":""},{"$f":"IF($E215=\"\",\"\",VLOOKUP($E215,Lists!$BX$2:$CA$78,3,FALSE))","v":""},{"$f":"IF($E215=\"\",\"\",VLOOKUP($E215,Lists!$BX$2:$CA$78,4,FALSE))","v":""}]
[null,{"$f":"IF($E216=\"\",\"\",VLOOKUP($E216,Lists!$BX$2:$CA$78,2,FALSE))","v":""},{"$f":"IF($E216=\"\",\"\",VLOOKUP($E216,Lists!$BX$2:$CA$78,3,FALSE))","v":""},{"$f":"IF($E216=\"\",\"\",VLOOKUP($E216,Lists!$BX$2:$CA$78,4,FALSE))","v":""}]
[null,{"$f":"IF($E217=\"\",\"\",VLOOKUP($E217,Lists!$BX$2:$CA$78,2,FALSE))","v":""},{"$f":"IF($E217=\"\",\"\",VLOOKUP($E217,Lists!$BX$2:$CA$78,3,FALSE))","v":""},{"$f":"IF($E217=\"\",\"\",VLOOKUP($E217,Lists!$BX$2:$CA$78,4,FALSE))","v":""}]
[null,{"$f":"IF($E218=\"\",\"\",VLOOKUP($E218,Lists!$BX$2:$CA$78,2,FALSE))","v":""},{"$f":"IF($E218=\"\",\"\",VLOOKUP($E218,Lists!$BX$2:$CA$78,3,FALSE))","v":""},{"$f":"IF($E218=\"\",\"\",VLOOKUP($E218,Lists!$BX$2:$CA$78,4,FALSE))","v":""}]
[null,{"$f":"IF($E219=\"\",\"\",VLOOKUP($E219,Lists!$BX$2:$CA$78,2,FALSE))","v":""},{"$f":"IF($E219=\"\",\"\",VLOOKUP($E219,Lists!$BX$2:$CA$78,3,FALSE))","v":""},{"$f":"IF($E219=\"\",\"\",VLOOKUP($E219,Lists!$BX$2:$CA$78,4,FALSE))","v":""}]
[null,{"$f":"IF($E220=\"\",\"\",VLOOKUP($E220,Lists!$BX$2:$CA$78,2,FALSE))","v":""},{"$f":"IF($E220=\"\",\"\",VLOOKUP($E220,Lists!$BX$2:$CA$78,3,FALSE))","v":""},{"$f":"IF($E220=\"\",\"\",VLOOKUP($E220,Lists!$BX$2:$CA$78,4,FALSE))","v":""}]
[null,{"$f":"IF($E221=\"\",\"\",VLOOKUP($E221,Lists!$BX$2:$CA$78,2,FALSE))","v":""},{"$f":"IF($E221=\"\",\"\",VLOOKUP($E221,Lists!$BX$2:$CA$78,3,FALSE))","v":""},{"$f":"IF($E221=\"\",\"\",VLOOKUP($E221,Lists!$BX$2:$CA$78,4,FALSE))","v":""}]
[null,{"$f":"IF($E222=\"\",\"\",VLOOKUP($E222,Lists!$BX$2:$CA$78,2,FALSE))","v":""},{"$f":"IF($E222=\"\",\"\",VLOOKUP($E222,Lists!$BX$2:$CA$78,3,FALSE))","v":""},{"$f":"IF($E222=\"\",\"\",VLOOKUP($E222,Lists!$BX$2:$CA$78,4,FALSE))","v":""}]
[null,{"$f":"IF($E223=\"\",\"\",VLOOKUP($E223,Lists!$BX$2:$CA$78,2,FALSE))","v":""},{"$f":"IF($E223=\"\",\"\",VLOOKUP($E223,Lists!$BX$2:$CA$78,3,FALSE))","v":""},{"$f":"IF($E223=\"\",\"\",VLOOKUP($E223,Lists!$BX$2:$CA$78,4,FALSE))","v":""}]
[null,{"$f":"IF($E224=\"\",\"\",VLOOKUP($E224,Lists!$BX$2:$CA$78,2,FALSE))","v":""},{"$f":"IF($E224=\"\",\"\",VLOOKUP($E224,Lists!$BX$2:$CA$78,3,FALSE))","v":""},{"$f":"IF($E224=\"\",\"\",VLOOKUP($E224,Lists!$BX$2:$CA$78,4,FALSE))","v":""}]
[null,{"$f":"IF($E225=\"\",\"\",VLOOKUP($E225,Lists!$BX$2:$CA$78,2,FALSE))","v":""},{"$f":"IF($E225=\"\",\"\",VLOOKUP($E225,Lists!$BX$2:$CA$78,3,FALSE))","v":""},{"$f":"IF($E225=\"\",\"\",VLOOKUP($E225,Lists!$BX$2:$CA$78,4,FALSE))","v":""}]
[null,{"$f":"IF($E226=\"\",\"\",VLOOKUP($E226,Lists!$BX$2:$CA$78,2,FALSE))","v":""},{"$f":"IF($E226=\"\",\"\",VLOOKUP($E226,Lists!$BX$2:$CA$78,3,FALSE))","v":""},{"$f":"IF($E226=\"\",\"\",VLOOKUP($E226,Lists!$BX$2:$CA$78,4,FALSE))","v":""}]
[null,{"$f":"IF($E227=\"\",\"\",VLOOKUP($E227,Lists!$BX$2:$CA$78,2,FALSE))","v":""},{"$f":"IF($E227=\"\",\"\",VLOOKUP($E227,Lists!$BX$2:$CA$78,3,FALSE))","v":""},{"$f":"IF($E227=\"\",\"\",VLOOKUP($E227,Lists!$BX$2:$CA$78,4,FALSE))","v":""}]
[null,{"$f":"IF($E228=\"\",\"\",VLOOKUP($E228,Lists!$BX$2:$CA$78,2,FALSE))","v":""},{"$f":"IF($E228=\"\",\"\",VLOOKUP($E228,Lists!$BX$2:$CA$78,3,FALSE))","v":""},{"$f":"IF($E228=\"\",\"\",VLOOKUP($E228,Lists!$BX$2:$CA$78,4,FALSE))","v":""}]
[null,{"$f":"IF($E229=\"\",\"\",VLOOKUP($E229,Lists!$BX$2:$CA$78,2,FALSE))","v":""},{"$f":"IF($E229=\"\",\"\",VLOOKUP($E229,Lists!$BX$2:$CA$78,3,FALSE))","v":""},{"$f":"IF($E229=\"\",\"\",VLOOKUP($E229,Lists!$BX$2:$CA$78,4,FALSE))","v":""}]
[null,{"$f":"IF($E230=\"\",\"\",VLOOKUP($E230,Lists!$BX$2:$CA$78,2,FALSE))","v":""},{"$f":"IF($E230=\"\",\"\",VLOOKUP($E230,Lists!$BX$2:$CA$78,3,FALSE))","v":""},{"$f":"IF($E230=\"\",\"\",VLOOKUP($E230,Lists!$BX$2:$CA$78,4,FALSE))","v":""}]
[null,{"$f":"IF($E231=\"\",\"\",VLOOKUP($E231,Lists!$BX$2:$CA$78,2,FALSE))","v":""},{"$f":"IF($E231=\"\",\"\",VLOOKUP($E231,Lists!$BX$2:$CA$78,3,FALSE))","v":""},{"$f":"IF($E231=\"\",\"\",VLOOKUP($E231,Lists!$BX$2:$CA$78,4,FALSE))","v":""}]
[null,{"$f":"IF($E232=\"\",\"\",VLOOKUP($E232,Lists!$BX$2:$CA$78,2,FALSE))","v":""},{"$f":"IF($E232=\"\",\"\",VLOOKUP($E232,Lists!$BX$2:$CA$78,3,FALSE))","v":""},{"$f":"IF($E232=\"\",\"\",VLOOKUP($E232,Lists!$BX$2:$CA$78,4,FALSE))","v":""}]
[null,{"$f":"IF($E233=\"\",\"\",VLOOKUP($E233,Lists!$BX$2:$CA$78,2,FALSE))","v":""},{"$f":"IF($E233=\"\",\"\",VLOOKUP($E233,Lists!$BX$2:$CA$78,3,FALSE))","v":""},{"$f":"IF($E233=\"\",\"\",VLOOKUP($E233,Lists!$BX$2:$CA$78,4,FALSE))","v":""}]
[null,{"$f":"IF($E234=\"\",\"\",VLOOKUP($E234,Lists!$BX$2:$CA$78,2,FALSE))","v":""},{"$f":"IF($E234=\"\",\"\",VLOOKUP($E234,Lists!$BX$2:$CA$78,3,FALSE))","v":""},{"$f":"IF($E234=\"\",\"\",VLOOKUP($E234,Lists!$BX$2:$CA$78,4,FALSE))","v":""}]
[null,{"$f":"IF($E235=\"\",\"\",VLOOKUP($E235,Lists!$BX$2:$CA$78,2,FALSE))","v":""},{"$f":"IF($E235=\"\",\"\",VLOOKUP($E235,Lists!$BX$2:$CA$78,3,FALSE))","v":""},{"$f":"IF($E235=\"\",\"\",VLOOKUP($E235,Lists!$BX$2:$CA$78,4,FALSE))","v":""}]
[null,{"$f":"IF($E236=\"\",\"\",VLOOKUP($E236,Lists!$BX$2:$CA$78,2,FALSE))","v":""},{"$f":"IF($E236=\"\",\"\",VLOOKUP($E236,Lists!$BX$2:$CA$78,3,FALSE))","v":""},{"$f":"IF($E236=\"\",\"\",VLOOKUP($E236,Lists!$BX$2:$CA$78,4,FALSE))","v":""}]
[null,{"$f":"IF($E237=\"\",\"\",VLOOKUP($E237,Lists!$BX$2:$CA$78,2,FALSE))","v":""},{"$f":"IF($E237=\"\",\"\",VLOOKUP($E237,Lists!$BX$2:$CA$78,3,FALSE))","v":""},{"$f":"IF($E237=\"\",\"\",VLOOKUP($E237,Lists!$BX$2:$CA$78,4,FALSE))","v":""}]
[null,{"$f":"IF($E238=\"\",\"\",VLOOKUP($E238,Lists!$BX$2:$CA$78,2,FALSE))","v":""},{"$f":"IF($E238=\"\",\"\",VLOOKUP($E238,Lists!$BX$2:$CA$78,3,FALSE))","v":""},{"$f":"IF($E238=\"\",\"\",VLOOKUP($E238,Lists!$BX$2:$CA$78,4,FALSE))","v":""}]
[null,{"$f":"IF($E239=\"\",\"\",VLOOKUP($E239,Lists!$BX$2:$CA$78,2,FALSE))","v":""},{"$f":"IF($E239=\"\",\"\",VLOOKUP($E239,Lists!$BX$2:$CA$78,3,FALSE))","v":""},{"$f":"IF($E239=\"\",\"\",VLOOKUP($E239,Lists!$BX$2:$CA$78,4,FALSE))","v":""}]
[null,{"$f":"IF($E240=\"\",\"\",VLOOKUP($E240,Lists!$BX$2:$CA$78,2,FALSE))","v":""},{"$f":"IF($E240=\"\",\"\",VLOOKUP($E240,Lists!$BX$2:$CA$78,3,FALSE))","v":""},{"$f":"IF($E240=\"\",\"\",VLOOKUP($E240,Lists!$BX$2:$CA$78,4,FALSE))","v":""}]
[null,{"$f":"IF($E241=\"\",\"\",VLOOKUP($E241,Lists!$BX$2:$CA$78,2,FALSE))","v":""},{"$f":"IF($E241=\"\",\"\",VLOOKUP($E241,Lists!$BX$2:$CA$78,3,FALSE))","v":""},{"$f":"IF($E241=\"\",\"\",VLOOKUP($E241,Lists!$BX$2:$CA$78,4,FALSE))","v":""}]
[null,{"$f":"IF($E242=\"\",\"\",VLOOKUP($E242,Lists!$BX$2:$CA$78,2,FALSE))","v":""},{"$f":"IF($E242=\"\",\"\",VLOOKUP($E242,Lists!$BX$2:$CA$78,3,FALSE))","v":""},{"$f":"IF($E242=\"\",\"\",VLOOKUP($E242,Lists!$BX$2:$CA$78,4,FALSE))","v":""}]
[null,{"$f":"IF($E243=\"\",\"\",VLOOKUP($E243,Lists!$BX$2:$CA$78,2,FALSE))","v":""},{"$f":"IF($E243=\"\",\"\",VLOOKUP($E243,Lists!$BX$2:$CA$78,3,FALSE))","v":""},{"$f":"IF($E243=\"\",\"\",VLOOKUP($E243,Lists!$BX$2:$CA$78,4,FALSE))","v":""}]
[null,{"$f":"IF($E244=\"\",\"\",VLOOKUP($E244,Lists!$BX$2:$CA$78,2,FALSE))","v":""},{"$f":"IF($E244=\"\",\"\",VLOOKUP($E244,Lists!$BX$2:$CA$78,3,FALSE))","v":""},{"$f":"IF($E244=\"\",\"\",VLOOKUP($E244,Lists!$BX$2:$CA$78,4,FALSE))","v":""}]
[null,{"$f":"IF($E245=\"\",\"\",VLOOKUP($E245,Lists!$BX$2:$CA$78,2,FALSE))","v":""},{"$f":"IF($E245=\"\",\"\",VLOOKUP($E245,Lists!$BX$2:$CA$78,3,FALSE))","v":""},{"$f":"IF($E245=\"\",\"\",VLOOKUP($E245,Lists!$BX$2:$CA$78,4,FALSE))","v":""}]
[null,{"$f":"IF($E246=\"\",\"\",VLOOKUP($E246,Lists!$BX$2:$CA$78,2,FALSE))","v":""},{"$f":"IF($E246=\"\",\"\",VLOOKUP($E246,Lists!$BX$2:$CA$78,3,FALSE))","v":""},{"$f":"IF($E246=\"\",\"\",VLOOKUP($E246,Lists!$BX$2:$CA$78,4,FALSE))","v":""}]
[null,{"$f":"IF($E247=\"\",\"\",VLOOKUP($E247,Lists!$BX$2:$CA$78,2,FALSE))","v":""},{"$f":"IF($E247=\"\",\"\",VLOOKUP($E247,Lists!$BX$2:$CA$78,3,FALSE))","v":""},{"$f":"IF($E247=\"\",\"\",VLOOKUP($E247,Lists!$BX$2:$CA$78,4,FALSE))","v":""}]
[null,{"$f":"IF($E248=\"\",\"\",VLOOKUP($E248,Lists!$BX$2:$CA$78,2,FALSE))","v":""},{"$f":"IF($E248=\"\",\"\",VLOOKUP($E248,Lists!$BX$2:$CA$78,3,FALSE))","v":""},{"$f":"IF($E248=\"\",\"\",VLOOKUP($E248,Lists!$BX$2:$CA$78,4,FALSE))","v":""}]
[null,{"$f":"IF($E249=\"\",\"\",VLOOKUP($E249,Lists!$BX$2:$CA$78,2,FALSE))","v":""},{"$f":"IF($E249=\"\",\"\",VLOOKUP($E249,Lists!$BX$2:$CA$78,3,FALSE))","v":""},{"$f":"IF($E249=\"\",\"\",VLOOKUP($E249,Lists!$BX$2:$CA$78,4,FALSE))","v":""}]
[null,{"$f":"IF($E250=\"\",\"\",VLOOKUP($E250,Lists!$BX$2:$CA$78,2,FALSE))","v":""},{"$f":"IF($E250=\"\",\"\",VLOOKUP($E250,Lists!$BX$2:$CA$78,3,FALSE))","v":""},{"$f":"IF($E250=\"\",\"\",VLOOKUP($E250,Lists!$BX$2:$CA$78,4,FALSE))","v":""}]
[null,{"$f":"IF($E251=\"\",\"\",VLOOKUP($E251,Lists!$BX$2:$CA$78,2,FALSE))","v":""},{"$f":"IF($E251=\"\",\"\",VLOOKUP($E251,Lists!$BX$2:$CA$78,3,FALSE))","v":""},{"$f":"IF($E251=\"\",\"\",VLOOKUP($E251,Lists!$BX$2:$CA$78,4,FALSE))","v":""}]
[null,{"$f":"IF($E252=\"\",\"\",VLOOKUP($E252,Lists!$BX$2:$CA$78,2,FALSE))","v":""},{"$f":"IF($E252=\"\",\"\",VLOOKUP($E252,Lists!$BX$2:$CA$78,3,FALSE))","v":""},{"$f":"IF($E252=\"\",\"\",VLOOKUP($E252,Lists!$BX$2:$CA$78,4,FALSE))","v":""}]
[null,{"$f":"IF($E253=\"\",\"\",VLOOKUP($E253,Lists!$BX$2:$CA$78,2,FALSE))","v":""},{"$f":"IF($E253=\"\",\"\",VLOOKUP($E253,Lists!$BX$2:$CA$78,3,FALSE))","v":""},{"$f":"IF($E253=\"\",\"\",VLOOKUP($E253,Lists!$BX$2:$CA$78,4,FALSE))","v":""}]
[null,{"$f":"IF($E254=\"\",\"\",VLOOKUP($E254,Lists!$BX$2:$CA$78,2,FALSE))","v":""},{"$f":"IF($E254=\"\",\"\",VLOOKUP($E254,Lists!$BX$2:$CA$78,3,FALSE))","v":""},{"$f":"IF($E254=\"\",\"\",VLOOKUP($E254,Lists!$BX$2:$CA$78,4,FALSE))","v":""}]
[null,{"$f":"IF($E255=\"\",\"\",VLOOKUP($E255,Lists!$BX$2:$CA$78,2,FALSE))","v":""},{"$f":"IF($E255=\"\",\"\",VLOOKUP($E255,Lists!$BX$2:$CA$78,3,FALSE))","v":""},{"$f":"IF($E255=\"\",\"\",VLOOKUP($E255,Lists!$BX$2:$CA$78,4,FALSE))","v":""}]
[null,{"$f":"IF($E256=\"\",\"\",VLOOKUP($E256,Lists!$BX$2:$CA$78,2,FALSE))","v":""},{"$f":"IF($E256=\"\",\"\",VLOOKUP($E256,Lists!$BX$2:$CA$78,3,FALSE))","v":""},{"$f":"IF($E256=\"\",\"\",VLOOKUP($E256,Lists!$BX$2:$CA$78,4,FALSE))","v":""}]
[null,{"$f":"IF($E257=\"\",\"\",VLOOKUP($E257,Lists!$BX$2:$CA$78,2,FALSE))","v":""},{"$f":"IF($E257=\"\",\"\",VLOOKUP($E257,Lists!$BX$2:$CA$78,3,FALSE))","v":""},{"$f":"IF($E257=\"\",\"\",VLOOKUP($E257,Lists!$BX$2:$CA$78,4,FALSE))","v":""}]
[null,{"$f":"IF($E258=\"\",\"\",VLOOKUP($E258,Lists!$BX$2:$CA$78,2,FALSE))","v":""},{"$f":"IF($E258=\"\",\"\",VLOOKUP($E258,Lists!$BX$2:$CA$78,3,FALSE))","v":""},{"$f":"IF($E258=\"\",\"\",VLOOKUP($E258,Lists!$BX$2:$CA$78,4,FALSE))","v":""}]
[null,{"$f":"IF($E259=\"\",\"\",VLOOKUP($E259,Lists!$BX$2:$CA$78,2,FALSE))","v":""},{"$f":"IF($E259=\"\",\"\",VLOOKUP($E259,Lists!$BX$2:$CA$78,3,FALSE))","v":""},{"$f":"IF($E259=\"\",\"\",VLOOKUP($E259,Lists!$BX$2:$CA$78,4,FALSE))","v":""}]
[null,{"$f":"IF($E260=\"\",\"\",VLOOKUP($E260,Lists!$BX$2:$CA$78,2,FALSE))","v":""},{"$f":"IF($E260=\"\",\"\",VLOOKUP($E260,Lists!$BX$2:$CA$78,3,FALSE))","v":""},{"$f":"IF($E260=\"\",\"\",VLOOKUP($E260,Lists!$BX$2:$CA$78,4,FALSE))","v":""}]
[null,{"$f":"IF($E261=\"\",\"\",VLOOKUP($E261,Lists!$BX$2:$CA$78,2,FALSE))","v":""},{"$f":"IF($E261=\"\",\"\",VLOOKUP($E261,Lists!$BX$2:$CA$78,3,FALSE))","v":""},{"$f":"IF($E261=\"\",\"\",VLOOKUP($E261,Lists!$BX$2:$CA$78,4,FALSE))","v":""}]
[null,{"$f":"IF($E262=\"\",\"\",VLOOKUP($E262,Lists!$BX$2:$CA$78,2,FALSE))","v":""},{"$f":"IF($E262=\"\",\"\",VLOOKUP($E262,Lists!$BX$2:$CA$78,3,FALSE))","v":""},{"$f":"IF($E262=\"\",\"\",VLOOKUP($E262,Lists!$BX$2:$CA$78,4,FALSE))","v":""}]
[null,{"$f":"IF($E263=\"\",\"\",VLOOKUP($E263,Lists!$BX$2:$CA$78,2,FALSE))","v":""},{"$f":"IF($E263=\"\",\"\",VLOOKUP($E263,Lists!$BX$2:$CA$78,3,FALSE))","v":""},{"$f":"IF($E263=\"\",\"\",VLOOKUP($E263,Lists!$BX$2:$CA$78,4,FALSE))","v":""}]
[null,{"$f":"IF($E264=\"\",\"\",VLOOKUP($E264,Lists!$BX$2:$CA$78,2,FALSE))","v":""},{"$f":"IF($E264=\"\",\"\",VLOOKUP($E264,Lists!$BX$2:$CA$78,3,FALSE))","v":""},{"$f":"IF($E264=\"\",\"\",VLOOKUP($E264,Lists!$BX$2:$CA$78,4,FALSE))","v":""}]
[null,{"$f":"IF($E265=\"\",\"\",VLOOKUP($E265,Lists!$BX$2:$CA$78,2,FALSE))","v":""},{"$f":"IF($E265=\"\",\"\",VLOOKUP($E265,Lists!$BX$2:$CA$78,3,FALSE))","v":""},{"$f":"IF($E265=\"\",\"\",VLOOKUP($E265,Lists!$BX$2:$CA$78,4,FALSE))","v":""}]
[null,{"$f":"IF($E266=\"\",\"\",VLOOKUP($E266,Lists!$BX$2:$CA$78,2,FALSE))","v":""},{"$f":"IF($E266=\"\",\"\",VLOOKUP($E266,Lists!$BX$2:$CA$78,3,FALSE))","v":""},{"$f":"IF($E266=\"\",\"\",VLOOKUP($E266,Lists!$BX$2:$CA$78,4,FALSE))","v":""}]
[null,{"$f":"IF($E267=\"\",\"\",VLOOKUP($E267,Lists!$BX$2:$CA$78,2,FALSE))","v":""},{"$f":"IF($E267=\"\",\"\",VLOOKUP($E267,Lists!$BX$2:$CA$78,3,FALSE))","v":""},{"$f":"IF($E267=\"\",\"\",VLOOKUP($E267,Lists!$BX$2:$CA$78,4,FALSE))","v":""}]
[null,{"$f":"IF($E268=\"\",\"\",VLOOKUP($E268,Lists!$BX$2:$CA$78,2,FALSE))","v":""},{"$f":"IF($E268=\"\",\"\",VLOOKUP($E268,Lists!$BX$2:$CA$78,3,FALSE))","v":""},{"$f":"IF($E268=\"\",\"\",VLOOKUP($E268,Lists!$BX$2:$CA$78,4,FALSE))","v":""}]
[null,{"$f":"IF($E269=\"\",\"\",VLOOKUP($E269,Lists!$BX$2:$CA$78,2,FALSE))","v":""},{"$f":"IF($E269=\"\",\"\",VLOOKUP($E269,Lists!$BX$2:$CA$78,3,FALSE))","v":""},{"$f":"IF($E269=\"\",\"\",VLOOKUP($E269,Lists!$BX$2:$CA$78,4,FALSE))","v":""}]
[null,{"$f":"IF($E270=\"\",\"\",VLOOKUP($E270,Lists!$BX$2:$CA$78,2,FALSE))","v":""},{"$f":"IF($E270=\"\",\"\",VLOOKUP($E270,Lists!$BX$2:$CA$78,3,FALSE))","v":""},{"$f":"IF($E270=\"\",\"\",VLOOKUP($E270,Lists!$BX$2:$CA$78,4,FALSE))","v":""}]
[null,{"$f":"IF($E271=\"\",\"\",VLOOKUP($E271,Lists!$BX$2:$CA$78,2,FALSE))","v":""},{"$f":"IF($E271=\"\",\"\",VLOOKUP($E271,Lists!$BX$2:$CA$78,3,FALSE))","v":""},{"$f":"IF($E271=\"\",\"\",VLOOKUP($E271,Lists!$BX$2:$CA$78,4,FALSE))","v":""}]
[null,{"$f":"IF($E272=\"\",\"\",VLOOKUP($E272,Lists!$BX$2:$CA$78,2,FALSE))","v":""},{"$f":"IF($E272=\"\",\"\",VLOOKUP($E272,Lists!$BX$2:$CA$78,3,FALSE))","v":""},{"$f":"IF($E272=\"\",\"\",VLOOKUP($E272,Lists!$BX$2:$CA$78,4,FALSE))","v":""}]
[null,{"$f":"IF($E273=\"\",\"\",VLOOKUP($E273,Lists!$BX$2:$CA$78,2,FALSE))","v":""},{"$f":"IF($E273=\"\",\"\",VLOOKUP($E273,Lists!$BX$2:$CA$78,3,FALSE))","v":""},{"$f":"IF($E273=\"\",\"\",VLOOKUP($E273,Lists!$BX$2:$CA$78,4,FALSE))","v":""}]
[null,{"$f":"IF($E274=\"\",\"\",VLOOKUP($E274,Lists!$BX$2:$CA$78,2,FALSE))","v":""},{"$f":"IF($E274=\"\",\"\",VLOOKUP($E274,Lists!$BX$2:$CA$78,3,FALSE))","v":""},{"$f":"IF($E274=\"\",\"\",VLOOKUP($E274,Lists!$BX$2:$CA$78,4,FALSE))","v":""}]
[null,{"$f":"IF($E275=\"\",\"\",VLOOKUP($E275,Lists!$BX$2:$CA$78,2,FALSE))","v":""},{"$f":"IF($E275=\"\",\"\",VLOOKUP($E275,Lists!$BX$2:$CA$78,3,FALSE))","v":""},{"$f":"IF($E275=\"\",\"\",VLOOKUP($E275,Lists!$BX$2:$CA$78,4,FALSE))","v":""}]
[null,{"$f":"IF($E276=\"\",\"\",VLOOKUP($E276,Lists!$BX$2:$CA$78,2,FALSE))","v":""},{"$f":"IF($E276=\"\",\"\",VLOOKUP($E276,Lists!$BX$2:$CA$78,3,FALSE))","v":""},{"$f":"IF($E276=\"\",\"\",VLOOKUP($E276,Lists!$BX$2:$CA$78,4,FALSE))","v":""}]
[null,{"$f":"IF($E277=\"\",\"\",VLOOKUP($E277,Lists!$BX$2:$CA$78,2,FALSE))","v":""},{"$f":"IF($E277=\"\",\"\",VLOOKUP($E277,Lists!$BX$2:$CA$78,3,FALSE))","v":""},{"$f":"IF($E277=\"\",\"\",VLOOKUP($E277,Lists!$BX$2:$CA$78,4,FALSE))","v":""}]
[null,{"$f":"IF($E278=\"\",\"\",VLOOKUP($E278,Lists!$BX$2:$CA$78,2,FALSE))","v":""},{"$f":"IF($E278=\"\",\"\",VLOOKUP($E278,Lists!$BX$2:$CA$78,3,FALSE))","v":""},{"$f":"IF($E278=\"\",\"\",VLOOKUP($E278,Lists!$BX$2:$CA$78,4,FALSE))","v":""}]
[null,{"$f":"IF($E279=\"\",\"\",VLOOKUP($E279,Lists!$BX$2:$CA$78,2,FALSE))","v":""},{"$f":"IF($E279=\"\",\"\",VLOOKUP($E279,Lists!$BX$2:$CA$78,3,FALSE))","v":""},{"$f":"IF($E279=\"\",\"\",VLOOKUP($E279,Lists!$BX$2:$CA$78,4,FALSE))","v":""}]
[null,{"$f":"IF($E280=\"\",\"\",VLOOKUP($E280,Lists!$BX$2:$CA$78,2,FALSE))","v":""},{"$f":"IF($E280=\"\",\"\",VLOOKUP($E280,Lists!$BX$2:$CA$78,3,FALSE))","v":""},{"$f":"IF($E280=\"\",\"\",VLOOKUP($E280,Lists!$BX$2:$CA$78,4,FALSE))","v":""}]
[null,{"$f":"IF($E281=\"\",\"\",VLOOKUP($E281,Lists!$BX$2:$CA$78,2,FALSE))","v":""},{"$f":"IF($E281=\"\",\"\",VLOOKUP($E281,Lists!$BX$2:$CA$78,3,FALSE))","v":""},{"$f":"IF($E281=\"\",\"\",VLOOKUP($E281,Lists!$BX$2:$CA$78,4,FALSE))","v":""}]
[null,{"$f":"IF($E282=\"\",\"\",VLOOKUP($E282,Lists!$BX$2:$CA$78,2,FALSE))","v":""},{"$f":"IF($E282=\"\",\"\",VLOOKUP($E282,Lists!$BX$2:$CA$78,3,FALSE))","v":""},{"$f":"IF($E282=\"\",\"\",VLOOKUP($E282,Lists!$BX$2:$CA$78,4,FALSE))","v":""}]
[null,{"$f":"IF($E283=\"\",\"\",VLOOKUP($E283,Lists!$BX$2:$CA$78,2,FALSE))","v":""},{"$f":"IF($E283=\"\",\"\",VLOOKUP($E283,Lists!$BX$2:$CA$78,3,FALSE))","v":""},{"$f":"IF($E283=\"\",\"\",VLOOKUP($E283,Lists!$BX$2:$CA$78,4,FALSE))","v":""}]
[null,{"$f":"IF($E284=\"\",\"\",VLOOKUP($E284,Lists!$BX$2:$CA$78,2,FALSE))","v":""},{"$f":"IF($E284=\"\",\"\",VLOOKUP($E284,Lists!$BX$2:$CA$78,3,FALSE))","v":""},{"$f":"IF($E284=\"\",\"\",VLOOKUP($E284,Lists!$BX$2:$CA$78,4,FALSE))","v":""}]
[null,{"$f":"IF($E285=\"\",\"\",VLOOKUP($E285,Lists!$BX$2:$CA$78,2,FALSE))","v":""},{"$f":"IF($E285=\"\",\"\",VLOOKUP($E285,Lists!$BX$2:$CA$78,3,FALSE))","v":""},{"$f":"IF($E285=\"\",\"\",VLOOKUP($E285,Lists!$BX$2:$CA$78,4,FALSE))","v":""}]
[null,{"$f":"IF($E286=\"\",\"\",VLOOKUP($E286,Lists!$BX$2:$CA$78,2,FALSE))","v":""},{"$f":"IF($E286=\"\",\"\",VLOOKUP($E286,Lists!$BX$2:$CA$78,3,FALSE))","v":""},{"$f":"IF($E286=\"\",\"\",VLOOKUP($E286,Lists!$BX$2:$CA$78,4,FALSE))","v":""}]
[null,{"$f":"IF($E287=\"\",\"\",VLOOKUP($E287,Lists!$BX$2:$CA$78,2,FALSE))","v":""},{"$f":"IF($E287=\"\",\"\",VLOOKUP($E287,Lists!$BX$2:$CA$78,3,FALSE))","v":""},{"$f":"IF($E287=\"\",\"\",VLOOKUP($E287,Lists!$BX$2:$CA$78,4,FALSE))","v":""}]
[null,{"$f":"IF($E288=\"\",\"\",VLOOKUP($E288,Lists!$BX$2:$CA$78,2,FALSE))","v":""},{"$f":"IF($E288=\"\",\"\",VLOOKUP($E288,Lists!$BX$2:$CA$78,3,FALSE))","v":""},{"$f":"IF($E288=\"\",\"\",VLOOKUP($E288,Lists!$BX$2:$CA$78,4,FALSE))","v":""}]
[null,{"$f":"IF($E289=\"\",\"\",VLOOKUP($E289,Lists!$BX$2:$CA$78,2,FALSE))","v":""},{"$f":"IF($E289=\"\",\"\",VLOOKUP($E289,Lists!$BX$2:$CA$78,3,FALSE))","v":""},{"$f":"IF($E289=\"\",\"\",VLOOKUP($E289,Lists!$BX$2:$CA$78,4,FALSE))","v":""}]
[null,{"$f":"IF($E290=\"\",\"\",VLOOKUP($E290,Lists!$BX$2:$CA$78,2,FALSE))","v":""},{"$f":"IF($E290=\"\",\"\",VLOOKUP($E290,Lists!$BX$2:$CA$78,3,FALSE))","v":""},{"$f":"IF($E290=\"\",\"\",VLOOKUP($E290,Lists!$BX$2:$CA$78,4,FALSE))","v":""}]
[null,{"$f":"IF($E291=\"\",\"\",VLOOKUP($E291,Lists!$BX$2:$CA$78,2,FALSE))","v":""},{"$f":"IF($E291=\"\",\"\",VLOOKUP($E291,Lists!$BX$2:$CA$78,3,FALSE))","v":""},{"$f":"IF($E291=\"\",\"\",VLOOKUP($E291,Lists!$BX$2:$CA$78,4,FALSE))","v":""}]
[null,{"$f":"IF($E292=\"\",\"\",VLOOKUP($E292,Lists!$BX$2:$CA$78,2,FALSE))","v":""},{"$f":"IF($E292=\"\",\"\",VLOOKUP($E292,Lists!$BX$2:$CA$78,3,FALSE))","v":""},{"$f":"IF($E292=\"\",\"\",VLOOKUP($E292,Lists!$BX$2:$CA$78,4,FALSE))","v":""}]
[null,{"$f":"IF($E293=\"\",\"\",VLOOKUP($E293,Lists!$BX$2:$CA$78,2,FALSE))","v":""},{"$f":"IF($E293=\"\",\"\",VLOOKUP($E293,Lists!$BX$2:$CA$78,3,FALSE))","v":""},{"$f":"IF($E293=\"\",\"\",VLOOKUP($E293,Lists!$BX$2:$CA$78,4,FALSE))","v":""}]
[null,{"$f":"IF($E294=\"\",\"\",VLOOKUP($E294,Lists!$BX$2:$CA$78,2,FALSE))","v":""},{"$f":"IF($E294=\"\",\"\",VLOOKUP($E294,Lists!$BX$2:$CA$78,3,FALSE))","v":""},{"$f":"IF($E294=\"\",\"\",VLOOKUP($E294,Lists!$BX$2:$CA$78,4,FALSE))","v":""}]
[null,{"$f":"IF($E295=\"\",\"\",VLOOKUP($E295,Lists!$BX$2:$CA$78,2,FALSE))","v":""},{"$f":"IF($E295=\"\",\"\",VLOOKUP($E295,Lists!$BX$2:$CA$78,3,FALSE))","v":""},{"$f":"IF($E295=\"\",\"\",VLOOKUP($E295,Lists!$BX$2:$CA$78,4,FALSE))","v":""}]
[null,{"$f":"IF($E296=\"\",\"\",VLOOKUP($E296,Lists!$BX$2:$CA$78,2,FALSE))","v":""},{"$f":"IF($E296=\"\",\"\",VLOOKUP($E296,Lists!$BX$2:$CA$78,3,FALSE))","v":""},{"$f":"IF($E296=\"\",\"\",VLOOKUP($E296,Lists!$BX$2:$CA$78,4,FALSE))","v":""}]
[null,{"$f":"IF($E297=\"\",\"\",VLOOKUP($E297,Lists!$BX$2:$CA$78,2,FALSE))","v":""},{"$f":"IF($E297=\"\",\"\",VLOOKUP($E297,Lists!$BX$2:$CA$78,3,FALSE))","v":""},{"$f":"IF($E297=\"\",\"\",VLOOKUP($E297,Lists!$BX$2:$CA$78,4,FALSE))","v":""}]
[null,{"$f":"IF($E298=\"\",\"\",VLOOKUP($E298,Lists!$BX$2:$CA$78,2,FALSE))","v":""},{"$f":"IF($E298=\"\",\"\",VLOOKUP($E298,Lists!$BX$2:$CA$78,3,FALSE))","v":""},{"$f":"IF($E298=\"\",\"\",VLOOKUP($E298,Lists!$BX$2:$CA$78,4,FALSE))","v":""}]
[null,{"$f":"IF($E299=\"\",\"\",VLOOKUP($E299,Lists!$BX$2:$CA$78,2,FALSE))","v":""},{"$f":"IF($E299=\"\",\"\",VLOOKUP($E299,Lists!$BX$2:$CA$78,3,FALSE))","v":""},{"$f":"IF($E299=\"\",\"\",VLOOKUP($E299,Lists!$BX$2:$CA$78,4,FALSE))","v":""}]
[null,{"$f":"IF($E300=\"\",\"\",VLOOKUP($E300,Lists!$BX$2:$CA$78,2,FALSE))","v":""},{"$f":"IF($E300=\"\",\"\",VLOOKUP($E300,Lists!$BX$2:$CA$78,3,FALSE))","v":""},{"$f":"IF($E300=\"\",\"\",VLOOKUP($E300,Lists!$BX$2:$CA$78,4,FALSE))","v":""}]
[null,{"$f":"IF($E301=\"\",\"\",VLOOKUP($E301,Lists!$BX$2:$CA$78,2,FALSE))","v":""},{"$f":"IF($E301=\"\",\"\",VLOOKUP($E301,Lists!$BX$2:$CA$78,3,FALSE))","v":""},{"$f":"IF($E301=\"\",\"\",VLOOKUP($E301,Lists!$BX$2:$CA$78,4,FALSE))","v":""}]
[null,{"$f":"IF($E302=\"\",\"\",VLOOKUP($E302,Lists!$BX$2:$CA$78,2,FALSE))","v":""},{"$f":"IF($E302=\"\",\"\",VLOOKUP($E302,Lists!$BX$2:$CA$78,3,FALSE))","v":""},{"$f":"IF($E302=\"\",\"\",VLOOKUP($E302,Lists!$BX$2:$CA$78,4,FALSE))","v":""}]
[null,{"$f":"IF($E303=\"\",\"\",VLOOKUP($E303,Lists!$BX$2:$CA$78,2,FALSE))","v":""},{"$f":"IF($E303=\"\",\"\",VLOOKUP($E303,Lists!$BX$2:$CA$78,3,FALSE))","v":""},{"$f":"IF($E303=\"\",\"\",VLOOKUP($E303,Lists!$BX$2:$CA$78,4,FALSE))","v":""}]
[null,{"$f":"IF($E304=\"\",\"\",VLOOKUP($E304,Lists!$BX$2:$CA$78,2,FALSE))","v":""},{"$f":"IF($E304=\"\",\"\",VLOOKUP($E304,Lists!$BX$2:$CA$78,3,FALSE))","v":""},{"$f":"IF($E304=\"\",\"\",VLOOKUP($E304,Lists!$BX$2:$CA$78,4,FALSE))","v":""}]
[null,{"$f":"IF($E305=\"\",\"\",VLOOKUP($E305,Lists!$BX$2:$CA$78,2,FALSE))","v":""},{"$f":"IF($E305=\"\",\"\",VLOOKUP($E305,Lists!$BX$2:$CA$78,3,FALSE))","v":""},{"$f":"IF($E305=\"\",\"\",VLOOKUP($E305,Lists!$BX$2:$CA$78,4,FALSE))","v":""}]
[null,{"$f":"IF($E306=\"\",\"\",VLOOKUP($E306,Lists!$BX$2:$CA$78,2,FALSE))","v":""},{"$f":"IF($E306=\"\",\"\",VLOOKUP($E306,Lists!$BX$2:$CA$78,3,FALSE))","v":""},{"$f":"IF($E306=\"\",\"\",VLOOKUP($E306,Lists!$BX$2:$CA$78,4,FALSE))","v":""}]
[null,{"$f":"IF($E307=\"\",\"\",VLOOKUP($E307,Lists!$BX$2:$CA$78,2,FALSE))","v":""},{"$f":"IF($E307=\"\",\"\",VLOOKUP($E307,Lists!$BX$2:$CA$78,3,FALSE))","v":""},{"$f":"IF($E307=\"\",\"\",VLOOKUP($E307,Lists!$BX$2:$CA$78,4,FALSE))","v":""}]
[null,{"$f":"IF($E308=\"\",\"\",VLOOKUP($E308,Lists!$BX$2:$CA$78,2,FALSE))","v":""},{"$f":"IF($E308=\"\",\"\",VLOOKUP($E308,Lists!$BX$2:$CA$78,3,FALSE))","v":""},{"$f":"IF($E308=\"\",\"\",VLOOKUP($E308,Lists!$BX$2:$CA$78,4,FALSE))","v":""}]
[null,{"$f":"IF($E309=\"\",\"\",VLOOKUP($E309,Lists!$BX$2:$CA$78,2,FALSE))","v":""},{"$f":"IF($E309=\"\",\"\",VLOOKUP($E309,Lists!$BX$2:$CA$78,3,FALSE))","v":""},{"$f":"IF($E309=\"\",\"\",VLOOKUP($E309,Lists!$BX$2:$CA$78,4,FALSE))","v":""}]
[null,{"$f":"IF($E310=\"\",\"\",VLOOKUP($E310,Lists!$BX$2:$CA$78,2,FALSE))","v":""},{"$f":"IF($E310=\"\",\"\",VLOOKUP($E310,Lists!$BX$2:$CA$78,3,FALSE))","v":""},{"$f":"IF($E310=\"\",\"\",VLOOKUP($E310,Lists!$BX$2:$CA$78,4,FALSE))","v":""}]
[null,{"$f":"IF($E311=\"\",\"\",VLOOKUP($E311,Lists!$BX$2:$CA$78,2,FALSE))","v":""},{"$f":"IF($E311=\"\",\"\",VLOOKUP($E311,Lists!$BX$2:$CA$78,3,FALSE))","v":""},{"$f":"IF($E311=\"\",\"\",VLOOKUP($E311,Lists!$BX$2:$CA$78,4,FALSE))","v":""}]
[null,{"$f":"IF($E312=\"\",\"\",VLOOKUP($E312,Lists!$BX$2:$CA$78,2,FALSE))","v":""},{"$f":"IF($E312=\"\",\"\",VLOOKUP($E312,Lists!$BX$2:$CA$78,3,FALSE))","v":""},{"$f":"IF($E312=\"\",\"\",VLOOKUP($E312,Lists!$BX$2:$CA$78,4,FALSE))","v":""}]
[null,{"$f":"IF($E313=\"\",\"\",VLOOKUP($E313,Lists!$BX$2:$CA$78,2,FALSE))","v":""},{"$f":"IF($E313=\"\",\"\",VLOOKUP($E313,Lists!$BX$2:$CA$78,3,FALSE))","v":""},{"$f":"IF($E313=\"\",\"\",VLOOKUP($E313,Lists!$BX$2:$CA$78,4,FALSE))","v":""}]
[null,{"$f":"IF($E314=\"\",\"\",VLOOKUP($E314,Lists!$BX$2:$CA$78,2,FALSE))","v":""},{"$f":"IF($E314=\"\",\"\",VLOOKUP($E314,Lists!$BX$2:$CA$78,3,FALSE))","v":""},{"$f":"IF($E314=\"\",\"\",VLOOKUP($E314,Lists!$BX$2:$CA$78,4,FALSE))","v":""}]
[null,{"$f":"IF($E315=\"\",\"\",VLOOKUP($E315,Lists!$BX$2:$CA$78,2,FALSE))","v":""},{"$f":"IF($E315=\"\",\"\",VLOOKUP($E315,Lists!$BX$2:$CA$78,3,FALSE))","v":""},{"$f":"IF($E315=\"\",\"\",VLOOKUP($E315,Lists!$BX$2:$CA$78,4,FALSE))","v":""}]
[null,{"$f":"IF($E316=\"\",\"\",VLOOKUP($E316,Lists!$BX$2:$CA$78,2,FALSE))","v":""},{"$f":"IF($E316=\"\",\"\",VLOOKUP($E316,Lists!$BX$2:$CA$78,3,FALSE))","v":""},{"$f":"IF($E316=\"\",\"\",VLOOKUP($E316,Lists!$BX$2:$CA$78,4,FALSE))","v":""}]
[null,{"$f":"IF($E317=\"\",\"\",VLOOKUP($E317,Lists!$BX$2:$CA$78,2,FALSE))","v":""},{"$f":"IF($E317=\"\",\"\",VLOOKUP($E317,Lists!$BX$2:$CA$78,3,FALSE))","v":""},{"$f":"IF($E317=\"\",\"\",VLOOKUP($E317,Lists!$BX$2:$CA$78,4,FALSE))","v":""}]
[null,{"$f":"IF($E318=\"\",\"\",VLOOKUP($E318,Lists!$BX$2:$CA$78,2,FALSE))","v":""},{"$f":"IF($E318=\"\",\"\",VLOOKUP($E318,Lists!$BX$2:$CA$78,3,FALSE))","v":""},{"$f":"IF($E318=\"\",\"\",VLOOKUP($E318,Lists!$BX$2:$CA$78,4,FALSE))","v":""}]
[null,{"$f":"IF($E319=\"\",\"\",VLOOKUP($E319,Lists!$BX$2:$CA$78,2,FALSE))","v":""},{"$f":"IF($E319=\"\",\"\",VLOOKUP($E319,Lists!$BX$2:$CA$78,3,FALSE))","v":""},{"$f":"IF($E319=\"\",\"\",VLOOKUP($E319,Lists!$BX$2:$CA$78,4,FALSE))","v":""}]
[null,{"$f":"IF($E320=\"\",\"\",VLOOKUP($E320,Lists!$BX$2:$CA$78,2,FALSE))","v":""},{"$f":"IF($E320=\"\",\"\",VLOOKUP($E320,Lists!$BX$2:$CA$78,3,FALSE))","v":""},{"$f":"IF($E320=\"\",\"\",VLOOKUP($E320,Lists!$BX$2:$CA$78,4,FALSE))","v":""}]
[null,{"$f":"IF($E321=\"\",\"\",VLOOKUP($E321,Lists!$BX$2:$CA$78,2,FALSE))","v":""},{"$f":"IF($E321=\"\",\"\",VLOOKUP($E321,Lists!$BX$2:$CA$78,3,FALSE))","v":""},{"$f":"IF($E321=\"\",\"\",VLOOKUP($E321,Lists!$BX$2:$CA$78,4,FALSE))","v":""}]
[null,{"$f":"IF($E322=\"\",\"\",VLOOKUP($E322,Lists!$BX$2:$CA$78,2,FALSE))","v":""},{"$f":"IF($E322=\"\",\"\",VLOOKUP($E322,Lists!$BX$2:$CA$78,3,FALSE))","v":""},{"$f":"IF($E322=\"\",\"\",VLOOKUP($E322,Lists!$BX$2:$CA$78,4,FALSE))","v":""}]
[null,{"$f":"IF($E323=\"\",\"\",VLOOKUP($E323,Lists!$BX$2:$CA$78,2,FALSE))","v":""},{"$f":"IF($E323=\"\",\"\",VLOOKUP($E323,Lists!$BX$2:$CA$78,3,FALSE))","v":""},{"$f":"IF($E323=\"\",\"\",VLOOKUP($E323,Lists!$BX$2:$CA$78,4,FALSE))","v":""}]
[null,{"$f":"IF($E324=\"\",\"\",VLOOKUP($E324,Lists!$BX$2:$CA$78,2,FALSE))","v":""},{"$f":"IF($E324=\"\",\"\",VLOOKUP($E324,Lists!$BX$2:$CA$78,3,FALSE))","v":""},{"$f":"IF($E324=\"\",\"\",VLOOKUP($E324,Lists!$BX$2:$CA$78,4,FALSE))","v":""}]
[null,{"$f":"IF($E325=\"\",\"\",VLOOKUP($E325,Lists!$BX$2:$CA$78,2,FALSE))","v":""},{"$f":"IF($E325=\"\",\"\",VLOOKUP($E325,Lists!$BX$2:$CA$78,3,FALSE))","v":""},{"$f":"IF($E325=\"\",\"\",VLOOKUP($E325,Lists!$BX$2:$CA$78,4,FALSE))","v":""}]
[null,{"$f":"IF($E326=\"\",\"\",VLOOKUP($E326,Lists!$BX$2:$CA$78,2,FALSE))","v":""},{"$f":"IF($E326=\"\",\"\",VLOOKUP($E326,Lists!$BX$2:$CA$78,3,FALSE))","v":""},{"$f":"IF($E326=\"\",\"\",VLOOKUP($E326,Lists!$BX$2:$CA$78,4,FALSE))","v":""}]
[null,{"$f":"IF($E327=\"\",\"\",VLOOKUP($E327,Lists!$BX$2:$CA$78,2,FALSE))","v":""},{"$f":"IF($E327=\"\",\"\",VLOOKUP($E327,Lists!$BX$2:$CA$78,3,FALSE))","v":""},{"$f":"IF($E327=\"\",\"\",VLOOKUP($E327,Lists!$BX$2:$CA$78,4,FALSE))","v":""}]
[null,{"$f":"IF($E328=\"\",\"\",VLOOKUP($E328,Lists!$BX$2:$CA$78,2,FALSE))","v":""},{"$f":"IF($E328=\"\",\"\",VLOOKUP($E328,Lists!$BX$2:$CA$78,3,FALSE))","v":""},{"$f":"IF($E328=\"\",\"\",VLOOKUP($E328,Lists!$BX$2:$CA$78,4,FALSE))","v":""}]
[null,{"$f":"IF($E329=\"\",\"\",VLOOKUP($E329,Lists!$BX$2:$CA$78,2,FALSE))","v":""},{"$f":"IF($E329=\"\",\"\",VLOOKUP($E329,Lists!$BX$2:$CA$78,3,FALSE))","v":""},{"$f":"IF($E329=\"\",\"\",VLOOKUP($E329,Lists!$BX$2:$CA$78,4,FALSE))","v":""}]
[null,{"$f":"IF($E330=\"\",\"\",VLOOKUP($E330,Lists!$BX$2:$CA$78,2,FALSE))","v":""},{"$f":"IF($E330=\"\",\"\",VLOOKUP($E330,Lists!$BX$2:$CA$78,3,FALSE))","v":""},{"$f":"IF($E330=\"\",\"\",VLOOKUP($E330,Lists!$BX$2:$CA$78,4,FALSE))","v":""}]
[null,{"$f":"IF($E331=\"\",\"\",VLOOKUP($E331,Lists!$BX$2:$CA$78,2,FALSE))","v":""},{"$f":"IF($E331=\"\",\"\",VLOOKUP($E331,Lists!$BX$2:$CA$78,3,FALSE))","v":""},{"$f":"IF($E331=\"\",\"\",VLOOKUP($E331,Lists!$BX$2:$CA$78,4,FALSE))","v":""}]
[null,{"$f":"IF($E332=\"\",\"\",VLOOKUP($E332,Lists!$BX$2:$CA$78,2,FALSE))","v":""},{"$f":"IF($E332=\"\",\"\",VLOOKUP($E332,Lists!$BX$2:$CA$78,3,FALSE))","v":""},{"$f":"IF($E332=\"\",\"\",VLOOKUP($E332,Lists!$BX$2:$CA$78,4,FALSE))","v":""}]
[null,{"$f":"IF($E333=\"\",\"\",VLOOKUP($E333,Lists!$BX$2:$CA$78,2,FALSE))","v":""},{"$f":"IF($E333=\"\",\"\",VLOOKUP($E333,Lists!$BX$2:$CA$78,3,FALSE))","v":""},{"$f":"IF($E333=\"\",\"\",VLOOKUP($E333,Lists!$BX$2:$CA$78,4,FALSE))","v":""}]
[null,{"$f":"IF($E334=\"\",\"\",VLOOKUP($E334,Lists!$BX$2:$CA$78,2,FALSE))","v":""},{"$f":"IF($E334=\"\",\"\",VLOOKUP($E334,Lists!$BX$2:$CA$78,3,FALSE))","v":""},{"$f":"IF($E334=\"\",\"\",VLOOKUP($E334,Lists!$BX$2:$CA$78,4,FALSE))","v":""}]
[null,{"$f":"IF($E335=\"\",\"\",VLOOKUP($E335,Lists!$BX$2:$CA$78,2,FALSE))","v":""},{"$f":"IF($E335=\"\",\"\",VLOOKUP($E335,Lists!$BX$2:$CA$78,3,FALSE))","v":""},{"$f":"IF($E335=\"\",\"\",VLOOKUP($E335,Lists!$BX$2:$CA$78,4,FALSE))","v":""}]
[null,{"$f":"IF($E336=\"\",\"\",VLOOKUP($E336,Lists!$BX$2:$CA$78,2,FALSE))","v":""},{"$f":"IF($E336=\"\",\"\",VLOOKUP($E336,Lists!$BX$2:$CA$78,3,FALSE))","v":""},{"$f":"IF($E336=\"\",\"\",VLOOKUP($E336,Lists!$BX$2:$CA$78,4,FALSE))","v":""}]
[null,{"$f":"IF($E337=\"\",\"\",VLOOKUP($E337,Lists!$BX$2:$CA$78,2,FALSE))","v":""},{"$f":"IF($E337=\"\",\"\",VLOOKUP($E337,Lists!$BX$2:$CA$78,3,FALSE))","v":""},{"$f":"IF($E337=\"\",\"\",VLOOKUP($E337,Lists!$BX$2:$CA$78,4,FALSE))","v":""}]
[null,{"$f":"IF($E338=\"\",\"\",VLOOKUP($E338,Lists!$BX$2:$CA$78,2,FALSE))","v":""},{"$f":"IF($E338=\"\",\"\",VLOOKUP($E338,Lists!$BX$2:$CA$78,3,FALSE))","v":""},{"$f":"IF($E338=\"\",\"\",VLOOKUP($E338,Lists!$BX$2:$CA$78,4,FALSE))","v":""}]
[null,{"$f":"IF($E339=\"\",\"\",VLOOKUP($E339,Lists!$BX$2:$CA$78,2,FALSE))","v":""},{"$f":"IF($E339=\"\",\"\",VLOOKUP($E339,Lists!$BX$2:$CA$78,3,FALSE))","v":""},{"$f":"IF($E339=\"\",\"\",VLOOKUP($E339,Lists!$BX$2:$CA$78,4,FALSE))","v":""}]
[null,{"$f":"IF($E340=\"\",\"\",VLOOKUP($E340,Lists!$BX$2:$CA$78,2,FALSE))","v":""},{"$f":"IF($E340=\"\",\"\",VLOOKUP($E340,Lists!$BX$2:$CA$78,3,FALSE))","v":""},{"$f":"IF($E340=\"\",\"\",VLOOKUP($E340,Lists!$BX$2:$CA$78,4,FALSE))","v":""}]
[null,{"$f":"IF($E341=\"\",\"\",VLOOKUP($E341,Lists!$BX$2:$CA$78,2,FALSE))","v":""},{"$f":"IF($E341=\"\",\"\",VLOOKUP($E341,Lists!$BX$2:$CA$78,3,FALSE))","v":""},{"$f":"IF($E341=\"\",\"\",VLOOKUP($E341,Lists!$BX$2:$CA$78,4,FALSE))","v":""}]
[null,{"$f":"IF($E342=\"\",\"\",VLOOKUP($E342,Lists!$BX$2:$CA$78,2,FALSE))","v":""},{"$f":"IF($E342=\"\",\"\",VLOOKUP($E342,Lists!$BX$2:$CA$78,3,FALSE))","v":""},{"$f":"IF($E342=\"\",\"\",VLOOKUP($E342,Lists!$BX$2:$CA$78,4,FALSE))","v":""}]
[null,{"$f":"IF($E343=\"\",\"\",VLOOKUP($E343,Lists!$BX$2:$CA$78,2,FALSE))","v":""},{"$f":"IF($E343=\"\",\"\",VLOOKUP($E343,Lists!$BX$2:$CA$78,3,FALSE))","v":""},{"$f":"IF($E343=\"\",\"\",VLOOKUP($E343,Lists!$BX$2:$CA$78,4,FALSE))","v":""}]
[null,{"$f":"IF($E344=\"\",\"\",VLOOKUP($E344,Lists!$BX$2:$CA$78,2,FALSE))","v":""},{"$f":"IF($E344=\"\",\"\",VLOOKUP($E344,Lists!$BX$2:$CA$78,3,FALSE))","v":""},{"$f":"IF($E344=\"\",\"\",VLOOKUP($E344,Lists!$BX$2:$CA$78,4,FALSE))","v":""}]
[null,{"$f":"IF($E345=\"\",\"\",VLOOKUP($E345,Lists!$BX$2:$CA$78,2,FALSE))","v":""},{"$f":"IF($E345=\"\",\"\",VLOOKUP($E345,Lists!$BX$2:$CA$78,3,FALSE))","v":""},{"$f":"IF($E345=\"\",\"\",VLOOKUP($E345,Lists!$BX$2:$CA$78,4,FALSE))","v":""}]
[null,{"$f":"IF($E346=\"\",\"\",VLOOKUP($E346,Lists!$BX$2:$CA$78,2,FALSE))","v":""},{"$f":"IF($E346=\"\",\"\",VLOOKUP($E346,Lists!$BX$2:$CA$78,3,FALSE))","v":""},{"$f":"IF($E346=\"\",\"\",VLOOKUP($E346,Lists!$BX$2:$CA$78,4,FALSE))","v":""}]
[null,{"$f":"IF($E347=\"\",\"\",VLOOKUP($E347,Lists!$BX$2:$CA$78,2,FALSE))","v":""},{"$f":"IF($E347=\"\",\"\",VLOOKUP($E347,Lists!$BX$2:$CA$78,3,FALSE))","v":""},{"$f":"IF($E347=\"\",\"\",VLOOKUP($E347,Lists!$BX$2:$CA$78,4,FALSE))","v":""}]
[null,{"$f":"IF($E348=\"\",\"\",VLOOKUP($E348,Lists!$BX$2:$CA$78,2,FALSE))","v":""},{"$f":"IF($E348=\"\",\"\",VLOOKUP($E348,Lists!$BX$2:$CA$78,3,FALSE))","v":""},{"$f":"IF($E348=\"\",\"\",VLOOKUP($E348,Lists!$BX$2:$CA$78,4,FALSE))","v":""}]
[null,{"$f":"IF($E349=\"\",\"\",VLOOKUP($E349,Lists!$BX$2:$CA$78,2,FALSE))","v":""},{"$f":"IF($E349=\"\",\"\",VLOOKUP($E349,Lists!$BX$2:$CA$78,3,FALSE))","v":""},{"$f":"IF($E349=\"\",\"\",VLOOKUP($E349,Lists!$BX$2:$CA$78,4,FALSE))","v":""}]
[null,{"$f":"IF($E350=\"\",\"\",VLOOKUP($E350,Lists!$BX$2:$CA$78,2,FALSE))","v":""},{"$f":"IF($E350=\"\",\"\",VLOOKUP($E350,Lists!$BX$2:$CA$78,3,FALSE))","v":""},{"$f":"IF($E350=\"\",\"\",VLOOKUP($E350,Lists!$BX$2:$CA$78,4,FALSE))","v":""}]
[null,{"$f":"IF($E351=\"\",\"\",VLOOKUP($E351,Lists!$BX$2:$CA$78,2,FALSE))","v":""},{"$f":"IF($E351=\"\",\"\",VLOOKUP($E351,Lists!$BX$2:$CA$78,3,FALSE))","v":""},{"$f":"IF($E351=\"\",\"\",VLOOKUP($E351,Lists!$BX$2:$CA$78,4,FALSE))","v":""}]
[null,{"$f":"IF($E352=\"\",\"\",VLOOKUP($E352,Lists!$BX$2:$CA$78,2,FALSE))","v":""},{"$f":"IF($E352=\"\",\"\",VLOOKUP($E352,Lists!$BX$2:$CA$78,3,FALSE))","v":""},{"$f":"IF($E352=\"\",\"\",VLOOKUP($E352,Lists!$BX$2:$CA$78,4,FALSE))","v":""}]
[null,{"$f":"IF($E353=\"\",\"\",VLOOKUP($E353,Lists!$BX$2:$CA$78,2,FALSE))","v":""},{"$f":"IF($E353=\"\",\"\",VLOOKUP($E353,Lists!$BX$2:$CA$78,3,FALSE))","v":""},{"$f":"IF($E353=\"\",\"\",VLOOKUP($E353,Lists!$BX$2:$CA$78,4,FALSE))","v":""}]
[null,{"$f":"IF($E354=\"\",\"\",VLOOKUP($E354,Lists!$BX$2:$CA$78,2,FALSE))","v":""},{"$f":"IF($E354=\"\",\"\",VLOOKUP($E354,Lists!$BX$2:$CA$78,3,FALSE))","v":""},{"$f":"IF($E354=\"\",\"\",VLOOKUP($E354,Lists!$BX$2:$CA$78,4,FALSE))","v":""}]
[null,{"$f":"IF($E355=\"\",\"\",VLOOKUP($E355,Lists!$BX$2:$CA$78,2,FALSE))","v":""},{"$f":"IF($E355=\"\",\"\",VLOOKUP($E355,Lists!$BX$2:$CA$78,3,FALSE))","v":""},{"$f":"IF($E355=\"\",\"\",VLOOKUP($E355,Lists!$BX$2:$CA$78,4,FALSE))","v":""}]
[null,{"$f":"IF($E356=\"\",\"\",VLOOKUP($E356,Lists!$BX$2:$CA$78,2,FALSE))","v":""},{"$f":"IF($E356=\"\",\"\",VLOOKUP($E356,Lists!$BX$2:$CA$78,3,FALSE))","v":""},{"$f":"IF($E356=\"\",\"\",VLOOKUP($E356,Lists!$BX$2:$CA$78,4,FALSE))","v":""}]
[null,{"$f":"IF($E357=\"\",\"\",VLOOKUP($E357,Lists!$BX$2:$CA$78,2,FALSE))","v":""},{"$f":"IF($E357=\"\",\"\",VLOOKUP($E357,Lists!$BX$2:$CA$78,3,FALSE))","v":""},{"$f":"IF($E357=\"\",\"\",VLOOKUP($E357,Lists!$BX$2:$CA$78,4,FALSE))","v":""}]
[null,{"$f":"IF($E358=\"\",\"\",VLOOKUP($E358,Lists!$BX$2:$CA$78,2,FALSE))","v":""},{"$f":"IF($E358=\"\",\"\",VLOOKUP($E358,Lists!$BX$2:$CA$78,3,FALSE))","v":""},{"$f":"IF($E358=\"\",\"\",VLOOKUP($E358,Lists!$BX$2:$CA$78,4,FALSE))","v":""}]
[null,{"$f":"IF($E359=\"\",\"\",VLOOKUP($E359,Lists!$BX$2:$CA$78,2,FALSE))","v":""},{"$f":"IF($E359=\"\",\"\",VLOOKUP($E359,Lists!$BX$2:$CA$78,3,FALSE))","v":""},{"$f":"IF($E359=\"\",\"\",VLOOKUP($E359,Lists!$BX$2:$CA$78,4,FALSE))","v":""}]
[null,{"$f":"IF($E360=\"\",\"\",VLOOKUP($E360,Lists!$BX$2:$CA$78,2,FALSE))","v":""},{"$f":"IF($E360=\"\",\"\",VLOOKUP($E360,Lists!$BX$2:$CA$78,3,FALSE))","v":""},{"$f":"IF($E360=\"\",\"\",VLOOKUP($E360,Lists!$BX$2:$CA$78,4,FALSE))","v":""}]
[null,{"$f":"IF($E361=\"\",\"\",VLOOKUP($E361,Lists!$BX$2:$CA$78,2,FALSE))","v":""},{"$f":"IF($E361=\"\",\"\",VLOOKUP($E361,Lists!$BX$2:$CA$78,3,FALSE))","v":""},{"$f":"IF($E361=\"\",\"\",VLOOKUP($E361,Lists!$BX$2:$CA$78,4,FALSE))","v":""}]
[null,{"$f":"IF($E362=\"\",\"\",VLOOKUP($E362,Lists!$BX$2:$CA$78,2,FALSE))","v":""},{"$f":"IF($E362=\"\",\"\",VLOOKUP($E362,Lists!$BX$2:$CA$78,3,FALSE))","v":""},{"$f":"IF($E362=\"\",\"\",VLOOKUP($E362,Lists!$BX$2:$CA$78,4,FALSE))","v":""}]
[null,{"$f":"IF($E363=\"\",\"\",VLOOKUP($E363,Lists!$BX$2:$CA$78,2,FALSE))","v":""},{"$f":"IF($E363=\"\",\"\",VLOOKUP($E363,Lists!$BX$2:$CA$78,3,FALSE))","v":""},{"$f":"IF($E363=\"\",\"\",VLOOKUP($E363,Lists!$BX$2:$CA$78,4,FALSE))","v":""}]
[null,{"$f":"IF($E364=\"\",\"\",VLOOKUP($E364,Lists!$BX$2:$CA$78,2,FALSE))","v":""},{"$f":"IF($E364=\"\",\"\",VLOOKUP($E364,Lists!$BX$2:$CA$78,3,FALSE))","v":""},{"$f":"IF($E364=\"\",\"\",VLOOKUP($E364,Lists!$BX$2:$CA$78,4,FALSE))","v":""}]
[null,{"$f":"IF($E365=\"\",\"\",VLOOKUP($E365,Lists!$BX$2:$CA$78,2,FALSE))","v":""},{"$f":"IF($E365=\"\",\"\",VLOOKUP($E365,Lists!$BX$2:$CA$78,3,FALSE))","v":""},{"$f":"IF($E365=\"\",\"\",VLOOKUP($E365,Lists!$BX$2:$CA$78,4,FALSE))","v":""}]
[null,{"$f":"IF($E366=\"\",\"\",VLOOKUP($E366,Lists!$BX$2:$CA$78,2,FALSE))","v":""},{"$f":"IF($E366=\"\",\"\",VLOOKUP($E366,Lists!$BX$2:$CA$78,3,FALSE))","v":""},{"$f":"IF($E366=\"\",\"\",VLOOKUP($E366,Lists!$BX$2:$CA$78,4,FALSE))","v":""}]
[null,{"$f":"IF($E367=\"\",\"\",VLOOKUP($E367,Lists!$BX$2:$CA$78,2,FALSE))","v":""},{"$f":"IF($E367=\"\",\"\",VLOOKUP($E367,Lists!$BX$2:$CA$78,3,FALSE))","v":""},{"$f":"IF($E367=\"\",\"\",VLOOKUP($E367,Lists!$BX$2:$CA$78,4,FALSE))","v":""}]
[null,{"$f":"IF($E368=\"\",\"\",VLOOKUP($E368,Lists!$BX$2:$CA$78,2,FALSE))","v":""},{"$f":"IF($E368=\"\",\"\",VLOOKUP($E368,Lists!$BX$2:$CA$78,3,FALSE))","v":""},{"$f":"IF($E368=\"\",\"\",VLOOKUP($E368,Lists!$BX$2:$CA$78,4,FALSE))","v":""}]
[null,{"$f":"IF($E369=\"\",\"\",VLOOKUP($E369,Lists!$BX$2:$CA$78,2,FALSE))","v":""},{"$f":"IF($E369=\"\",\"\",VLOOKUP($E369,Lists!$BX$2:$CA$78,3,FALSE))","v":""},{"$f":"IF($E369=\"\",\"\",VLOOKUP($E369,Lists!$BX$2:$CA$78,4,FALSE))","v":""}]
[null,{"$f":"IF($E370=\"\",\"\",VLOOKUP($E370,Lists!$BX$2:$CA$78,2,FALSE))","v":""},{"$f":"IF($E370=\"\",\"\",VLOOKUP($E370,Lists!$BX$2:$CA$78,3,FALSE))","v":""},{"$f":"IF($E370=\"\",\"\",VLOOKUP($E370,Lists!$BX$2:$CA$78,4,FALSE))","v":""}]
[null,{"$f":"IF($E371=\"\",\"\",VLOOKUP($E371,Lists!$BX$2:$CA$78,2,FALSE))","v":""},{"$f":"IF($E371=\"\",\"\",VLOOKUP($E371,Lists!$BX$2:$CA$78,3,FALSE))","v":""},{"$f":"IF($E371=\"\",\"\",VLOOKUP($E371,Lists!$BX$2:$CA$78,4,FALSE))","v":""}]
[null,{"$f":"IF($E372=\"\",\"\",VLOOKUP($E372,Lists!$BX$2:$CA$78,2,FALSE))","v":""},{"$f":"IF($E372=\"\",\"\",VLOOKUP($E372,Lists!$BX$2:$CA$78,3,FALSE))","v":""},{"$f":"IF($E372=\"\",\"\",VLOOKUP($E372,Lists!$BX$2:$CA$78,4,FALSE))","v":""}]
[null,{"$f":"IF($E373=\"\",\"\",VLOOKUP($E373,Lists!$BX$2:$CA$78,2,FALSE))","v":""},{"$f":"IF($E373=\"\",\"\",VLOOKUP($E373,Lists!$BX$2:$CA$78,3,FALSE))","v":""},{"$f":"IF($E373=\"\",\"\",VLOOKUP($E373,Lists!$BX$2:$CA$78,4,FALSE))","v":""}]
[null,{"$f":"IF($E374=\"\",\"\",VLOOKUP($E374,Lists!$BX$2:$CA$78,2,FALSE))","v":""},{"$f":"IF($E374=\"\",\"\",VLOOKUP($E374,Lists!$BX$2:$CA$78,3,FALSE))","v":""},{"$f":"IF($E374=\"\",\"\",VLOOKUP($E374,Lists!$BX$2:$CA$78,4,FALSE))","v":""}]
[null,{"$f":"IF($E375=\"\",\"\",VLOOKUP($E375,Lists!$BX$2:$CA$78,2,FALSE))","v":""},{"$f":"IF($E375=\"\",\"\",VLOOKUP($E375,Lists!$BX$2:$CA$78,3,FALSE))","v":""},{"$f":"IF($E375=\"\",\"\",VLOOKUP($E375,Lists!$BX$2:$CA$78,4,FALSE))","v":""}]
[null,{"$f":"IF($E376=\"\",\"\",VLOOKUP($E376,Lists!$BX$2:$CA$78,2,FALSE))","v":""},{"$f":"IF($E376=\"\",\"\",VLOOKUP($E376,Lists!$BX$2:$CA$78,3,FALSE))","v":""},{"$f":"IF($E376=\"\",\"\",VLOOKUP($E376,Lists!$BX$2:$CA$78,4,FALSE))","v":""}]
[null,{"$f":"IF($E377=\"\",\"\",VLOOKUP($E377,Lists!$BX$2:$CA$78,2,FALSE))","v":""},{"$f":"IF($E377=\"\",\"\",VLOOKUP($E377,Lists!$BX$2:$CA$78,3,FALSE))","v":""},{"$f":"IF($E377=\"\",\"\",VLOOKUP($E377,Lists!$BX$2:$CA$78,4,FALSE))","v":""}]
[null,{"$f":"IF($E378=\"\",\"\",VLOOKUP($E378,Lists!$BX$2:$CA$78,2,FALSE))","v":""},{"$f":"IF($E378=\"\",\"\",VLOOKUP($E378,Lists!$BX$2:$CA$78,3,FALSE))","v":""},{"$f":"IF($E378=\"\",\"\",VLOOKUP($E378,Lists!$BX$2:$CA$78,4,FALSE))","v":""}]
[null,{"$f":"IF($E379=\"\",\"\",VLOOKUP($E379,Lists!$BX$2:$CA$78,2,FALSE))","v":""},{"$f":"IF($E379=\"\",\"\",VLOOKUP($E379,Lists!$BX$2:$CA$78,3,FALSE))","v":""},{"$f":"IF($E379=\"\",\"\",VLOOKUP($E379,Lists!$BX$2:$CA$78,4,FALSE))","v":""}]
[null,{"$f":"IF($E380=\"\",\"\",VLOOKUP($E380,Lists!$BX$2:$CA$78,2,FALSE))","v":""},{"$f":"IF($E380=\"\",\"\",VLOOKUP($E380,Lists!$BX$2:$CA$78,3,FALSE))","v":""},{"$f":"IF($E380=\"\",\"\",VLOOKUP($E380,Lists!$BX$2:$CA$78,4,FALSE))","v":""}]
[null,{"$f":"IF($E381=\"\",\"\",VLOOKUP($E381,Lists!$BX$2:$CA$78,2,FALSE))","v":""},{"$f":"IF($E381=\"\",\"\",VLOOKUP($E381,Lists!$BX$2:$CA$78,3,FALSE))","v":""},{"$f":"IF($E381=\"\",\"\",VLOOKUP($E381,Lists!$BX$2:$CA$78,4,FALSE))","v":""}]
[null,{"$f":"IF($E382=\"\",\"\",VLOOKUP($E382,Lists!$BX$2:$CA$78,2,FALSE))","v":""},{"$f":"IF($E382=\"\",\"\",VLOOKUP($E382,Lists!$BX$2:$CA$78,3,FALSE))","v":""},{"$f":"IF($E382=\"\",\"\",VLOOKUP($E382,Lists!$BX$2:$CA$78,4,FALSE))","v":""}]
[null,{"$f":"IF($E383=\"\",\"\",VLOOKUP($E383,Lists!$BX$2:$CA$78,2,FALSE))","v":""},{"$f":"IF($E383=\"\",\"\",VLOOKUP($E383,Lists!$BX$2:$CA$78,3,FALSE))","v":""},{"$f":"IF($E383=\"\",\"\",VLOOKUP($E383,Lists!$BX$2:$CA$78,4,FALSE))","v":""}]
[null,{"$f":"IF($E384=\"\",\"\",VLOOKUP($E384,Lists!$BX$2:$CA$78,2,FALSE))","v":""},{"$f":"IF($E384=\"\",\"\",VLOOKUP($E384,Lists!$BX$2:$CA$78,3,FALSE))","v":""},{"$f":"IF($E384=\"\",\"\",VLOOKUP($E384,Lists!$BX$2:$CA$78,4,FALSE))","v":""}]
[null,{"$f":"IF($E385=\"\",\"\",VLOOKUP($E385,Lists!$BX$2:$CA$78,2,FALSE))","v":""},{"$f":"IF($E385=\"\",\"\",VLOOKUP($E385,Lists!$BX$2:$CA$78,3,FALSE))","v":""},{"$f":"IF($E385=\"\",\"\",VLOOKUP($E385,Lists!$BX$2:$CA$78,4,FALSE))","v":""}]
[null,{"$f":"IF($E386=\"\",\"\",VLOOKUP($E386,Lists!$BX$2:$CA$78,2,FALSE))","v":""},{"$f":"IF($E386=\"\",\"\",VLOOKUP($E386,Lists!$BX$2:$CA$78,3,FALSE))","v":""},{"$f":"IF($E386=\"\",\"\",VLOOKUP($E386,Lists!$BX$2:$CA$78,4,FALSE))","v":""}]
[null,{"$f":"IF($E387=\"\",\"\",VLOOKUP($E387,Lists!$BX$2:$CA$78,2,FALSE))","v":""},{"$f":"IF($E387=\"\",\"\",VLOOKUP($E387,Lists!$BX$2:$CA$78,3,FALSE))","v":""},{"$f":"IF($E387=\"\",\"\",VLOOKUP($E387,Lists!$BX$2:$CA$78,4,FALSE))","v":""}]
[null,{"$f":"IF($E388=\"\",\"\",VLOOKUP($E388,Lists!$BX$2:$CA$78,2,FALSE))","v":""},{"$f":"IF($E388=\"\",\"\",VLOOKUP($E388,Lists!$BX$2:$CA$78,3,FALSE))","v":""},{"$f":"IF($E388=\"\",\"\",VLOOKUP($E388,Lists!$BX$2:$CA$78,4,FALSE))","v":""}]
[null,{"$f":"IF($E389=\"\",\"\",VLOOKUP($E389,Lists!$BX$2:$CA$78,2,FALSE))","v":""},{"$f":"IF($E389=\"\",\"\",VLOOKUP($E389,Lists!$BX$2:$CA$78,3,FALSE))","v":""},{"$f":"IF($E389=\"\",\"\",VLOOKUP($E389,Lists!$BX$2:$CA$78,4,FALSE))","v":""}]
[null,{"$f":"IF($E390=\"\",\"\",VLOOKUP($E390,Lists!$BX$2:$CA$78,2,FALSE))","v":""},{"$f":"IF($E390=\"\",\"\",VLOOKUP($E390,Lists!$BX$2:$CA$78,3,FALSE))","v":""},{"$f":"IF($E390=\"\",\"\",VLOOKUP($E390,Lists!$BX$2:$CA$78,4,FALSE))","v":""}]
[null,{"$f":"IF($E391=\"\",\"\",VLOOKUP($E391,Lists!$BX$2:$CA$78,2,FALSE))","v":""},{"$f":"IF($E391=\"\",\"\",VLOOKUP($E391,Lists!$BX$2:$CA$78,3,FALSE))","v":""},{"$f":"IF($E391=\"\",\"\",VLOOKUP($E391,Lists!$BX$2:$CA$78,4,FALSE))","v":""}]
[null,{"$f":"IF($E392=\"\",\"\",VLOOKUP($E392,Lists!$BX$2:$CA$78,2,FALSE))","v":""},{"$f":"IF($E392=\"\",\"\",VLOOKUP($E392,Lists!$BX$2:$CA$78,3,FALSE))","v":""},{"$f":"IF($E392=\"\",\"\",VLOOKUP($E392,Lists!$BX$2:$CA$78,4,FALSE))","v":""}]
[null,{"$f":"IF($E393=\"\",\"\",VLOOKUP($E393,Lists!$BX$2:$CA$78,2,FALSE))","v":""},{"$f":"IF($E393=\"\",\"\",VLOOKUP($E393,Lists!$BX$2:$CA$78,3,FALSE))","v":""},{"$f":"IF($E393=\"\",\"\",VLOOKUP($E393,Lists!$BX$2:$CA$78,4,FALSE))","v":""}]
[null,{"$f":"IF($E394=\"\",\"\",VLOOKUP($E394,Lists!$BX$2:$CA$78,2,FALSE))","v":""},{"$f":"IF($E394=\"\",\"\",VLOOKUP($E394,Lists!$BX$2:$CA$78,3,FALSE))","v":""},{"$f":"IF($E394=\"\",\"\",VLOOKUP($E394,Lists!$BX$2:$CA$78,4,FALSE))","v":""}]
[null,{"$f":"IF($E395=\"\",\"\",VLOOKUP($E395,Lists!$BX$2:$CA$78,2,FALSE))","v":""},{"$f":"IF($E395=\"\",\"\",VLOOKUP($E395,Lists!$BX$2:$CA$78,3,FALSE))","v":""},{"$f":"IF($E395=\"\",\"\",VLOOKUP($E395,Lists!$BX$2:$CA$78,4,FALSE))","v":""}]
[null,{"$f":"IF($E396=\"\",\"\",VLOOKUP($E396,Lists!$BX$2:$CA$78,2,FALSE))","v":""},{"$f":"IF($E396=\"\",\"\",VLOOKUP($E396,Lists!$BX$2:$CA$78,3,FALSE))","v":""},{"$f":"IF($E396=\"\",\"\",VLOOKUP($E396,Lists!$BX$2:$CA$78,4,FALSE))","v":""}]
[null,{"$f":"IF($E397=\"\",\"\",VLOOKUP($E397,Lists!$BX$2:$CA$78,2,FALSE))","v":""},{"$f":"IF($E397=\"\",\"\",VLOOKUP($E397,Lists!$BX$2:$CA$78,3,FALSE))","v":""},{"$f":"IF($E397=\"\",\"\",VLOOKUP($E397,Lists!$BX$2:$CA$78,4,FALSE))","v":""}]
[null,{"$f":"IF($E398=\"\",\"\",VLOOKUP($E398,Lists!$BX$2:$CA$78,2,FALSE))","v":""},{"$f":"IF($E398=\"\",\"\",VLOOKUP($E398,Lists!$BX$2:$CA$78,3,FALSE))","v":""},{"$f":"IF($E398=\"\",\"\",VLOOKUP($E398,Lists!$BX$2:$CA$78,4,FALSE))","v":""}]
[null,{"$f":"IF($E399=\"\",\"\",VLOOKUP($E399,Lists!$BX$2:$CA$78,2,FALSE))","v":""},{"$f":"IF($E399=\"\",\"\",VLOOKUP($E399,Lists!$BX$2:$CA$78,3,FALSE))","v":""},{"$f":"IF($E399=\"\",\"\",VLOOKUP($E399,Lists!$BX$2:$CA$78,4,FALSE))","v":""}]
[null,{"$f":"IF($E400=\"\",\"\",VLOOKUP($E400,Lists!$BX$2:$CA$78,2,FALSE))","v":""},{"$f":"IF($E400=\"\",\"\",VLOOKUP($E400,Lists!$BX$2:$CA$78,3,FALSE))","v":""},{"$f":"IF($E400=\"\",\"\",VLOOKUP($E400,Lists!$BX$2:$CA$78,4,FALSE))","v":""}]
[null,{"$f":"IF($E401=\"\",\"\",VLOOKUP($E401,Lists!$BX$2:$CA$78,2,FALSE))","v":""},{"$f":"IF($E401=\"\",\"\",VLOOKUP($E401,Lists!$BX$2:$CA$78,3,FALSE))","v":""},{"$f":"IF($E401=\"\",\"\",VLOOKUP($E401,Lists!$BX$2:$CA$78,4,FALSE))","v":""}]
[null,{"$f":"IF($E402=\"\",\"\",VLOOKUP($E402,Lists!$BX$2:$CA$78,2,FALSE))","v":""},{"$f":"IF($E402=\"\",\"\",VLOOKUP($E402,Lists!$BX$2:$CA$78,3,FALSE))","v":""},{"$f":"IF($E402=\"\",\"\",VLOOKUP($E402,Lists!$BX$2:$CA$78,4,FALSE))","v":""}]
[null,{"$f":"IF($E403=\"\",\"\",VLOOKUP($E403,Lists!$BX$2:$CA$78,2,FALSE))","v":""},{"$f":"IF($E403=\"\",\"\",VLOOKUP($E403,Lists!$BX$2:$CA$78,3,FALSE))","v":""},{"$f":"IF($E403=\"\",\"\",VLOOKUP($E403,Lists!$BX$2:$CA$78,4,FALSE))","v":""}]
[null,{"$f":"IF($E404=\"\",\"\",VLOOKUP($E404,Lists!$BX$2:$CA$78,2,FALSE))","v":""},{"$f":"IF($E404=\"\",\"\",VLOOKUP($E404,Lists!$BX$2:$CA$78,3,FALSE))","v":""},{"$f":"IF($E404=\"\",\"\",VLOOKUP($E404,Lists!$BX$2:$CA$78,4,FALSE))","v":""}]
[null,{"$f":"IF($E405=\"\",\"\",VLOOKUP($E405,Lists!$BX$2:$CA$78,2,FALSE))","v":""},{"$f":"IF($E405=\"\",\"\",VLOOKUP($E405,Lists!$BX$2:$CA$78,3,FALSE))","v":""},{"$f":"IF($E405=\"\",\"\",VLOOKUP($E405,Lists!$BX$2:$CA$78,4,FALSE))","v":""}]
[null,{"$f":"IF($E406=\"\",\"\",VLOOKUP($E406,Lists!$BX$2:$CA$78,2,FALSE))","v":""},{"$f":"IF($E406=\"\",\"\",VLOOKUP($E406,Lists!$BX$2:$CA$78,3,FALSE))","v":""},{"$f":"IF($E406=\"\",\"\",VLOOKUP($E406,Lists!$BX$2:$CA$78,4,FALSE))","v":""}]
[null,{"$f":"IF($E407=\"\",\"\",VLOOKUP($E407,Lists!$BX$2:$CA$78,2,FALSE))","v":""},{"$f":"IF($E407=\"\",\"\",VLOOKUP($E407,Lists!$BX$2:$CA$78,3,FALSE))","v":""},{"$f":"IF($E407=\"\",\"\",VLOOKUP($E407,Lists!$BX$2:$CA$78,4,FALSE))","v":""}]
[null,{"$f":"IF($E408=\"\",\"\",VLOOKUP($E408,Lists!$BX$2:$CA$78,2,FALSE))","v":""},{"$f":"IF($E408=\"\",\"\",VLOOKUP($E408,Lists!$BX$2:$CA$78,3,FALSE))","v":""},{"$f":"IF($E408=\"\",\"\",VLOOKUP($E408,Lists!$BX$2:$CA$78,4,FALSE))","v":""}]
[null,{"$f":"IF($E409=\"\",\"\",VLOOKUP($E409,Lists!$BX$2:$CA$78,2,FALSE))","v":""},{"$f":"IF($E409=\"\",\"\",VLOOKUP($E409,Lists!$BX$2:$CA$78,3,FALSE))","v":""},{"$f":"IF($E409=\"\",\"\",VLOOKUP($E409,Lists!$BX$2:$CA$78,4,FALSE))","v":""}]
[null,{"$f":"IF($E410=\"\",\"\",VLOOKUP($E410,Lists!$BX$2:$CA$78,2,FALSE))","v":""},{"$f":"IF($E410=\"\",\"\",VLOOKUP($E410,Lists!$BX$2:$CA$78,3,FALSE))","v":""},{"$f":"IF($E410=\"\",\"\",VLOOKUP($E410,Lists!$BX$2:$CA$78,4,FALSE))","v":""}]
[null,{"$f":"IF($E411=\"\",\"\",VLOOKUP($E411,Lists!$BX$2:$CA$78,2,FALSE))","v":""},{"$f":"IF($E411=\"\",\"\",VLOOKUP($E411,Lists!$BX$2:$CA$78,3,FALSE))","v":""},{"$f":"IF($E411=\"\",\"\",VLOOKUP($E411,Lists!$BX$2:$CA$78,4,FALSE))","v":""}]
[null,{"$f":"IF($E412=\"\",\"\",VLOOKUP($E412,Lists!$BX$2:$CA$78,2,FALSE))","v":""},{"$f":"IF($E412=\"\",\"\",VLOOKUP($E412,Lists!$BX$2:$CA$78,3,FALSE))","v":""},{"$f":"IF($E412=\"\",\"\",VLOOKUP($E412,Lists!$BX$2:$CA$78,4,FALSE))","v":""}]
[null,{"$f":"IF($E413=\"\",\"\",VLOOKUP($E413,Lists!$BX$2:$CA$78,2,FALSE))","v":""},{"$f":"IF($E413=\"\",\"\",VLOOKUP($E413,Lists!$BX$2:$CA$78,3,FALSE))","v":""},{"$f":"IF($E413=\"\",\"\",VLOOKUP($E413,Lists!$BX$2:$CA$78,4,FALSE))","v":""}]
[null,{"$f":"IF($E414=\"\",\"\",VLOOKUP($E414,Lists!$BX$2:$CA$78,2,FALSE))","v":""},{"$f":"IF($E414=\"\",\"\",VLOOKUP($E414,Lists!$BX$2:$CA$78,3,FALSE))","v":""},{"$f":"IF($E414=\"\",\"\",VLOOKUP($E414,Lists!$BX$2:$CA$78,4,FALSE))","v":""}]
[null,{"$f":"IF($E415=\"\",\"\",VLOOKUP($E415,Lists!$BX$2:$CA$78,2,FALSE))","v":""},{"$f":"IF($E415=\"\",\"\",VLOOKUP($E415,Lists!$BX$2:$CA$78,3,FALSE))","v":""},{"$f":"IF($E415=\"\",\"\",VLOOKUP($E415,Lists!$BX$2:$CA$78,4,FALSE))","v":""}]
[null,{"$f":"IF($E416=\"\",\"\",VLOOKUP($E416,Lists!$BX$2:$CA$78,2,FALSE))","v":""},{"$f":"IF($E416=\"\",\"\",VLOOKUP($E416,Lists!$BX$2:$CA$78,3,FALSE))","v":""},{"$f":"IF($E416=\"\",\"\",VLOOKUP($E416,Lists!$BX$2:$CA$78,4,FALSE))","v":""}]
[null,{"$f":"IF($E417=\"\",\"\",VLOOKUP($E417,Lists!$BX$2:$CA$78,2,FALSE))","v":""},{"$f":"IF($E417=\"\",\"\",VLOOKUP($E417,Lists!$BX$2:$CA$78,3,FALSE))","v":""},{"$f":"IF($E417=\"\",\"\",VLOOKUP($E417,Lists!$BX$2:$CA$78,4,FALSE))","v":""}]
[null,{"$f":"IF($E418=\"\",\"\",VLOOKUP($E418,Lists!$BX$2:$CA$78,2,FALSE))","v":""},{"$f":"IF($E418=\"\",\"\",VLOOKUP($E418,Lists!$BX$2:$CA$78,3,FALSE))","v":""},{"$f":"IF($E418=\"\",\"\",VLOOKUP($E418,Lists!$BX$2:$CA$78,4,FALSE))","v":""}]
[null,{"$f":"IF($E419=\"\",\"\",VLOOKUP($E419,Lists!$BX$2:$CA$78,2,FALSE))","v":""},{"$f":"IF($E419=\"\",\"\",VLOOKUP($E419,Lists!$BX$2:$CA$78,3,FALSE))","v":""},{"$f":"IF($E419=\"\",\"\",VLOOKUP($E419,Lists!$BX$2:$CA$78,4,FALSE))","v":""}]
[null,{"$f":"IF($E420=\"\",\"\",VLOOKUP($E420,Lists!$BX$2:$CA$78,2,FALSE))","v":""},{"$f":"IF($E420=\"\",\"\",VLOOKUP($E420,Lists!$BX$2:$CA$78,3,FALSE))","v":""},{"$f":"IF($E420=\"\",\"\",VLOOKUP($E420,Lists!$BX$2:$CA$78,4,FALSE))","v":""}]
[null,{"$f":"IF($E421=\"\",\"\",VLOOKUP($E421,Lists!$BX$2:$CA$78,2,FALSE))","v":""},{"$f":"IF($E421=\"\",\"\",VLOOKUP($E421,Lists!$BX$2:$CA$78,3,FALSE))","v":""},{"$f":"IF($E421=\"\",\"\",VLOOKUP($E421,Lists!$BX$2:$CA$78,4,FALSE))","v":""}]
[null,{"$f":"IF($E422=\"\",\"\",VLOOKUP($E422,Lists!$BX$2:$CA$78,2,FALSE))","v":""},{"$f":"IF($E422=\"\",\"\",VLOOKUP($E422,Lists!$BX$2:$CA$78,3,FALSE))","v":""},{"$f":"IF($E422=\"\",\"\",VLOOKUP($E422,Lists!$BX$2:$CA$78,4,FALSE))","v":""}]
[null,{"$f":"IF($E423=\"\",\"\",VLOOKUP($E423,Lists!$BX$2:$CA$78,2,FALSE))","v":""},{"$f":"IF($E423=\"\",\"\",VLOOKUP($E423,Lists!$BX$2:$CA$78,3,FALSE))","v":""},{"$f":"IF($E423=\"\",\"\",VLOOKUP($E423,Lists!$BX$2:$CA$78,4,FALSE))","v":""}]
[null,{"$f":"IF($E424=\"\",\"\",VLOOKUP($E424,Lists!$BX$2:$CA$78,2,FALSE))","v":""},{"$f":"IF($E424=\"\",\"\",VLOOKUP($E424,Lists!$BX$2:$CA$78,3,FALSE))","v":""},{"$f":"IF($E424=\"\",\"\",VLOOKUP($E424,Lists!$BX$2:$CA$78,4,FALSE))","v":""}]
[null,{"$f":"IF($E425=\"\",\"\",VLOOKUP($E425,Lists!$BX$2:$CA$78,2,FALSE))","v":""},{"$f":"IF($E425=\"\",\"\",VLOOKUP($E425,Lists!$BX$2:$CA$78,3,FALSE))","v":""},{"$f":"IF($E425=\"\",\"\",VLOOKUP($E425,Lists!$BX$2:$CA$78,4,FALSE))","v":""}]
[null,{"$f":"IF($E426=\"\",\"\",VLOOKUP($E426,Lists!$BX$2:$CA$78,2,FALSE))","v":""},{"$f":"IF($E426=\"\",\"\",VLOOKUP($E426,Lists!$BX$2:$CA$78,3,FALSE))","v":""},{"$f":"IF($E426=\"\",\"\",VLOOKUP($E426,Lists!$BX$2:$CA$78,4,FALSE))","v":""}]
[null,{"$f":"IF($E427=\"\",\"\",VLOOKUP($E427,Lists!$BX$2:$CA$78,2,FALSE))","v":""},{"$f":"IF($E427=\"\",\"\",VLOOKUP($E427,Lists!$BX$2:$CA$78,3,FALSE))","v":""},{"$f":"IF($E427=\"\",\"\",VLOOKUP($E427,Lists!$BX$2:$CA$78,4,FALSE))","v":""}]
[null,{"$f":"IF($E428=\"\",\"\",VLOOKUP($E428,Lists!$BX$2:$CA$78,2,FALSE))","v":""},{"$f":"IF($E428=\"\",\"\",VLOOKUP($E428,Lists!$BX$2:$CA$78,3,FALSE))","v":""},{"$f":"IF($E428=\"\",\"\",VLOOKUP($E428,Lists!$BX$2:$CA$78,4,FALSE))","v":""}]
[null,{"$f":"IF($E429=\"\",\"\",VLOOKUP($E429,Lists!$BX$2:$CA$78,2,FALSE))","v":""},{"$f":"IF($E429=\"\",\"\",VLOOKUP($E429,Lists!$BX$2:$CA$78,3,FALSE))","v":""},{"$f":"IF($E429=\"\",\"\",VLOOKUP($E429,Lists!$BX$2:$CA$78,4,FALSE))","v":""}]
[null,{"$f":"IF($E430=\"\",\"\",VLOOKUP($E430,Lists!$BX$2:$CA$78,2,FALSE))","v":""},{"$f":"IF($E430=\"\",\"\",VLOOKUP($E430,Lists!$BX$2:$CA$78,3,FALSE))","v":""},{"$f":"IF($E430=\"\",\"\",VLOOKUP($E430,Lists!$BX$2:$CA$78,4,FALSE))","v":""}]
[null,{"$f":"IF($E431=\"\",\"\",VLOOKUP($E431,Lists!$BX$2:$CA$78,2,FALSE))","v":""},{"$f":"IF($E431=\"\",\"\",VLOOKUP($E431,Lists!$BX$2:$CA$78,3,FALSE))","v":""},{"$f":"IF($E431=\"\",\"\",VLOOKUP($E431,Lists!$BX$2:$CA$78,4,FALSE))","v":""}]
[null,{"$f":"IF($E432=\"\",\"\",VLOOKUP($E432,Lists!$BX$2:$CA$78,2,FALSE))","v":""},{"$f":"IF($E432=\"\",\"\",VLOOKUP($E432,Lists!$BX$2:$CA$78,3,FALSE))","v":""},{"$f":"IF($E432=\"\",\"\",VLOOKUP($E432,Lists!$BX$2:$CA$78,4,FALSE))","v":""}]
[null,{"$f":"IF($E433=\"\",\"\",VLOOKUP($E433,Lists!$BX$2:$CA$78,2,FALSE))","v":""},{"$f":"IF($E433=\"\",\"\",VLOOKUP($E433,Lists!$BX$2:$CA$78,3,FALSE))","v":""},{"$f":"IF($E433=\"\",\"\",VLOOKUP($E433,Lists!$BX$2:$CA$78,4,FALSE))","v":""}]
[null,{"$f":"IF($E434=\"\",\"\",VLOOKUP($E434,Lists!$BX$2:$CA$78,2,FALSE))","v":""},{"$f":"IF($E434=\"\",\"\",VLOOKUP($E434,Lists!$BX$2:$CA$78,3,FALSE))","v":""},{"$f":"IF($E434=\"\",\"\",VLOOKUP($E434,Lists!$BX$2:$CA$78,4,FALSE))","v":""}]
[null,{"$f":"IF($E435=\"\",\"\",VLOOKUP($E435,Lists!$BX$2:$CA$78,2,FALSE))","v":""},{"$f":"IF($E435=\"\",\"\",VLOOKUP($E435,Lists!$BX$2:$CA$78,3,FALSE))","v":""},{"$f":"IF($E435=\"\",\"\",VLOOKUP($E435,Lists!$BX$2:$CA$78,4,FALSE))","v":""}]
[null,{"$f":"IF($E436=\"\",\"\",VLOOKUP($E436,Lists!$BX$2:$CA$78,2,FALSE))","v":""},{"$f":"IF($E436=\"\",\"\",VLOOKUP($E436,Lists!$BX$2:$CA$78,3,FALSE))","v":""},{"$f":"IF($E436=\"\",\"\",VLOOKUP($E436,Lists!$BX$2:$CA$78,4,FALSE))","v":""}]
[null,{"$f":"IF($E437=\"\",\"\",VLOOKUP($E437,Lists!$BX$2:$CA$78,2,FALSE))","v":""},{"$f":"IF($E437=\"\",\"\",VLOOKUP($E437,Lists!$BX$2:$CA$78,3,FALSE))","v":""},{"$f":"IF($E437=\"\",\"\",VLOOKUP($E437,Lists!$BX$2:$CA$78,4,FALSE))","v":""}]
[null,{"$f":"IF($E438=\"\",\"\",VLOOKUP($E438,Lists!$BX$2:$CA$78,2,FALSE))","v":""},{"$f":"IF($E438=\"\",\"\",VLOOKUP($E438,Lists!$BX$2:$CA$78,3,FALSE))","v":""},{"$f":"IF($E438=\"\",\"\",VLOOKUP($E438,Lists!$BX$2:$CA$78,4,FALSE))","v":""}]
[null,{"$f":"IF($E439=\"\",\"\",VLOOKUP($E439,Lists!$BX$2:$CA$78,2,FALSE))","v":""},{"$f":"IF($E439=\"\",\"\",VLOOKUP($E439,Lists!$BX$2:$CA$78,3,FALSE))","v":""},{"$f":"IF($E439=\"\",\"\",VLOOKUP($E439,Lists!$BX$2:$CA$78,4,FALSE))","v":""}]
[null,{"$f":"IF($E440=\"\",\"\",VLOOKUP($E440,Lists!$BX$2:$CA$78,2,FALSE))","v":""},{"$f":"IF($E440=\"\",\"\",VLOOKUP($E440,Lists!$BX$2:$CA$78,3,FALSE))","v":""},{"$f":"IF($E440=\"\",\"\",VLOOKUP($E440,Lists!$BX$2:$CA$78,4,FALSE))","v":""}]
[null,{"$f":"IF($E441=\"\",\"\",VLOOKUP($E441,Lists!$BX$2:$CA$78,2,FALSE))","v":""},{"$f":"IF($E441=\"\",\"\",VLOOKUP($E441,Lists!$BX$2:$CA$78,3,FALSE))","v":""},{"$f":"IF($E441=\"\",\"\",VLOOKUP($E441,Lists!$BX$2:$CA$78,4,FALSE))","v":""}]
[null,{"$f":"IF($E442=\"\",\"\",VLOOKUP($E442,Lists!$BX$2:$CA$78,2,FALSE))","v":""},{"$f":"IF($E442=\"\",\"\",VLOOKUP($E442,Lists!$BX$2:$CA$78,3,FALSE))","v":""},{"$f":"IF($E442=\"\",\"\",VLOOKUP($E442,Lists!$BX$2:$CA$78,4,FALSE))","v":""}]
[null,{"$f":"IF($E443=\"\",\"\",VLOOKUP($E443,Lists!$BX$2:$CA$78,2,FALSE))","v":""},{"$f":"IF($E443=\"\",\"\",VLOOKUP($E443,Lists!$BX$2:$CA$78,3,FALSE))","v":""},{"$f":"IF($E443=\"\",\"\",VLOOKUP($E443,Lists!$BX$2:$CA$78,4,FALSE))","v":""}]
[null,{"$f":"IF($E444=\"\",\"\",VLOOKUP($E444,Lists!$BX$2:$CA$78,2,FALSE))","v":""},{"$f":"IF($E444=\"\",\"\",VLOOKUP($E444,Lists!$BX$2:$CA$78,3,FALSE))","v":""},{"$f":"IF($E444=\"\",\"\",VLOOKUP($E444,Lists!$BX$2:$CA$78,4,FALSE))","v":""}]
[null,{"$f":"IF($E445=\"\",\"\",VLOOKUP($E445,Lists!$BX$2:$CA$78,2,FALSE))","v":""},{"$f":"IF($E445=\"\",\"\",VLOOKUP($E445,Lists!$BX$2:$CA$78,3,FALSE))","v":""},{"$f":"IF($E445=\"\",\"\",VLOOKUP($E445,Lists!$BX$2:$CA$78,4,FALSE))","v":""}]
[null,{"$f":"IF($E446=\"\",\"\",VLOOKUP($E446,Lists!$BX$2:$CA$78,2,FALSE))","v":""},{"$f":"IF($E446=\"\",\"\",VLOOKUP($E446,Lists!$BX$2:$CA$78,3,FALSE))","v":""},{"$f":"IF($E446=\"\",\"\",VLOOKUP($E446,Lists!$BX$2:$CA$78,4,FALSE))","v":""}]
[null,{"$f":"IF($E447=\"\",\"\",VLOOKUP($E447,Lists!$BX$2:$CA$78,2,FALSE))","v":""},{"$f":"IF($E447=\"\",\"\",VLOOKUP($E447,Lists!$BX$2:$CA$78,3,FALSE))","v":""},{"$f":"IF($E447=\"\",\"\",VLOOKUP($E447,Lists!$BX$2:$CA$78,4,FALSE))","v":""}]
[null,{"$f":"IF($E448=\"\",\"\",VLOOKUP($E448,Lists!$BX$2:$CA$78,2,FALSE))","v":""},{"$f":"IF($E448=\"\",\"\",VLOOKUP($E448,Lists!$BX$2:$CA$78,3,FALSE))","v":""},{"$f":"IF($E448=\"\",\"\",VLOOKUP($E448,Lists!$BX$2:$CA$78,4,FALSE))","v":""}]
[null,{"$f":"IF($E449=\"\",\"\",VLOOKUP($E449,Lists!$BX$2:$CA$78,2,FALSE))","v":""},{"$f":"IF($E449=\"\",\"\",VLOOKUP($E449,Lists!$BX$2:$CA$78,3,FALSE))","v":""},{"$f":"IF($E449=\"\",\"\",VLOOKUP($E449,Lists!$BX$2:$CA$78,4,FALSE))","v":""}]
[null,{"$f":"IF($E450=\"\",\"\",VLOOKUP($E450,Lists!$BX$2:$CA$78,2,FALSE))","v":""},{"$f":"IF($E450=\"\",\"\",VLOOKUP($E450,Lists!$BX$2:$CA$78,3,FALSE))","v":""},{"$f":"IF($E450=\"\",\"\",VLOOKUP($E450,Lists!$BX$2:$CA$78,4,FALSE))","v":""}]
[null,{"$f":"IF($E451=\"\",\"\",VLOOKUP($E451,Lists!$BX$2:$CA$78,2,FALSE))","v":""},{"$f":"IF($E451=\"\",\"\",VLOOKUP($E451,Lists!$BX$2:$CA$78,3,FALSE))","v":""},{"$f":"IF($E451=\"\",\"\",VLOOKUP($E451,Lists!$BX$2:$CA$78,4,FALSE))","v":""}]
[null,{"$f":"IF($E452=\"\",\"\",VLOOKUP($E452,Lists!$BX$2:$CA$78,2,FALSE))","v":""},{"$f":"IF($E452=\"\",\"\",VLOOKUP($E452,Lists!$BX$2:$CA$78,3,FALSE))","v":""},{"$f":"IF($E452=\"\",\"\",VLOOKUP($E452,Lists!$BX$2:$CA$78,4,FALSE))","v":""}]
[null,{"$f":"IF($E453=\"\",\"\",VLOOKUP($E453,Lists!$BX$2:$CA$78,2,FALSE))","v":""},{"$f":"IF($E453=\"\",\"\",VLOOKUP($E453,Lists!$BX$2:$CA$78,3,FALSE))","v":""},{"$f":"IF($E453=\"\",\"\",VLOOKUP($E453,Lists!$BX$2:$CA$78,4,FALSE))","v":""}]
[null,{"$f":"IF($E454=\"\",\"\",VLOOKUP($E454,Lists!$BX$2:$CA$78,2,FALSE))","v":""},{"$f":"IF($E454=\"\",\"\",VLOOKUP($E454,Lists!$BX$2:$CA$78,3,FALSE))","v":""},{"$f":"IF($E454=\"\",\"\",VLOOKUP($E454,Lists!$BX$2:$CA$78,4,FALSE))","v":""}]
[null,{"$f":"IF($E455=\"\",\"\",VLOOKUP($E455,Lists!$BX$2:$CA$78,2,FALSE))","v":""},{"$f":"IF($E455=\"\",\"\",VLOOKUP($E455,Lists!$BX$2:$CA$78,3,FALSE))","v":""},{"$f":"IF($E455=\"\",\"\",VLOOKUP($E455,Lists!$BX$2:$CA$78,4,FALSE))","v":""}]
[null,{"$f":"IF($E456=\"\",\"\",VLOOKUP($E456,Lists!$BX$2:$CA$78,2,FALSE))","v":""},{"$f":"IF($E456=\"\",\"\",VLOOKUP($E456,Lists!$BX$2:$CA$78,3,FALSE))","v":""},{"$f":"IF($E456=\"\",\"\",VLOOKUP($E456,Lists!$BX$2:$CA$78,4,FALSE))","v":""}]
[null,{"$f":"IF($E457=\"\",\"\",VLOOKUP($E457,Lists!$BX$2:$CA$78,2,FALSE))","v":""},{"$f":"IF($E457=\"\",\"\",VLOOKUP($E457,Lists!$BX$2:$CA$78,3,FALSE))","v":""},{"$f":"IF($E457=\"\",\"\",VLOOKUP($E457,Lists!$BX$2:$CA$78,4,FALSE))","v":""}]
[null,{"$f":"IF($E458=\"\",\"\",VLOOKUP($E458,Lists!$BX$2:$CA$78,2,FALSE))","v":""},{"$f":"IF($E458=\"\",\"\",VLOOKUP($E458,Lists!$BX$2:$CA$78,3,FALSE))","v":""},{"$f":"IF($E458=\"\",\"\",VLOOKUP($E458,Lists!$BX$2:$CA$78,4,FALSE))","v":""}]
[null,{"$f":"IF($E459=\"\",\"\",VLOOKUP($E459,Lists!$BX$2:$CA$78,2,FALSE))","v":""},{"$f":"IF($E459=\"\",\"\",VLOOKUP($E459,Lists!$BX$2:$CA$78,3,FALSE))","v":""},{"$f":"IF($E459=\"\",\"\",VLOOKUP($E459,Lists!$BX$2:$CA$78,4,FALSE))","v":""}]
[null,{"$f":"IF($E460=\"\",\"\",VLOOKUP($E460,Lists!$BX$2:$CA$78,2,FALSE))","v":""},{"$f":"IF($E460=\"\",\"\",VLOOKUP($E460,Lists!$BX$2:$CA$78,3,FALSE))","v":""},{"$f":"IF($E460=\"\",\"\",VLOOKUP($E460,Lists!$BX$2:$CA$78,4,FALSE))","v":""}]
[null,{"$f":"IF($E461=\"\",\"\",VLOOKUP($E461,Lists!$BX$2:$CA$78,2,FALSE))","v":""},{"$f":"IF($E461=\"\",\"\",VLOOKUP($E461,Lists!$BX$2:$CA$78,3,FALSE))","v":""},{"$f":"IF($E461=\"\",\"\",VLOOKUP($E461,Lists!$BX$2:$CA$78,4,FALSE))","v":""}]
[null,{"$f":"IF($E462=\"\",\"\",VLOOKUP($E462,Lists!$BX$2:$CA$78,2,FALSE))","v":""},{"$f":"IF($E462=\"\",\"\",VLOOKUP($E462,Lists!$BX$2:$CA$78,3,FALSE))","v":""},{"$f":"IF($E462=\"\",\"\",VLOOKUP($E462,Lists!$BX$2:$CA$78,4,FALSE))","v":""}]
[null,{"$f":"IF($E463=\"\",\"\",VLOOKUP($E463,Lists!$BX$2:$CA$78,2,FALSE))","v":""},{"$f":"IF($E463=\"\",\"\",VLOOKUP($E463,Lists!$BX$2:$CA$78,3,FALSE))","v":""},{"$f":"IF($E463=\"\",\"\",VLOOKUP($E463,Lists!$BX$2:$CA$78,4,FALSE))","v":""}]
[null,{"$f":"IF($E464=\"\",\"\",VLOOKUP($E464,Lists!$BX$2:$CA$78,2,FALSE))","v":""},{"$f":"IF($E464=\"\",\"\",VLOOKUP($E464,Lists!$BX$2:$CA$78,3,FALSE))","v":""},{"$f":"IF($E464=\"\",\"\",VLOOKUP($E464,Lists!$BX$2:$CA$78,4,FALSE))","v":""}]
[null,{"$f":"IF($E465=\"\",\"\",VLOOKUP($E465,Lists!$BX$2:$CA$78,2,FALSE))","v":""},{"$f":"IF($E465=\"\",\"\",VLOOKUP($E465,Lists!$BX$2:$CA$78,3,FALSE))","v":""},{"$f":"IF($E465=\"\",\"\",VLOOKUP($E465,Lists!$BX$2:$CA$78,4,FALSE))","v":""}]
[null,{"$f":"IF($E466=\"\",\"\",VLOOKUP($E466,Lists!$BX$2:$CA$78,2,FALSE))","v":""},{"$f":"IF($E466=\"\",\"\",VLOOKUP($E466,Lists!$BX$2:$CA$78,3,FALSE))","v":""},{"$f":"IF($E466=\"\",\"\",VLOOKUP($E466,Lists!$BX$2:$CA$78,4,FALSE))","v":""}]
[null,{"$f":"IF($E467=\"\",\"\",VLOOKUP($E467,Lists!$BX$2:$CA$78,2,FALSE))","v":""},{"$f":"IF($E467=\"\",\"\",VLOOKUP($E467,Lists!$BX$2:$CA$78,3,FALSE))","v":""},{"$f":"IF($E467=\"\",\"\",VLOOKUP($E467,Lists!$BX$2:$CA$78,4,FALSE))","v":""}]
[null,{"$f":"IF($E468=\"\",\"\",VLOOKUP($E468,Lists!$BX$2:$CA$78,2,FALSE))","v":""},{"$f":"IF($E468=\"\",\"\",VLOOKUP($E468,Lists!$BX$2:$CA$78,3,FALSE))","v":""},{"$f":"IF($E468=\"\",\"\",VLOOKUP($E468,Lists!$BX$2:$CA$78,4,FALSE))","v":""}]
[null,{"$f":"IF($E469=\"\",\"\",VLOOKUP($E469,Lists!$BX$2:$CA$78,2,FALSE))","v":""},{"$f":"IF($E469=\"\",\"\",VLOOKUP($E469,Lists!$BX$2:$CA$78,3,FALSE))","v":""},{"$f":"IF($E469=\"\",\"\",VLOOKUP($E469,Lists!$BX$2:$CA$78,4,FALSE))","v":""}]
[null,{"$f":"IF($E470=\"\",\"\",VLOOKUP($E470,Lists!$BX$2:$CA$78,2,FALSE))","v":""},{"$f":"IF($E470=\"\",\"\",VLOOKUP($E470,Lists!$BX$2:$CA$78,3,FALSE))","v":""},{"$f":"IF($E470=\"\",\"\",VLOOKUP($E470,Lists!$BX$2:$CA$78,4,FALSE))","v":""}]
[null,{"$f":"IF($E471=\"\",\"\",VLOOKUP($E471,Lists!$BX$2:$CA$78,2,FALSE))","v":""},{"$f":"IF($E471=\"\",\"\",VLOOKUP($E471,Lists!$BX$2:$CA$78,3,FALSE))","v":""},{"$f":"IF($E471=\"\",\"\",VLOOKUP($E471,Lists!$BX$2:$CA$78,4,FALSE))","v":""}]
[null,{"$f":"IF($E472=\"\",\"\",VLOOKUP($E472,Lists!$BX$2:$CA$78,2,FALSE))","v":""},{"$f":"IF($E472=\"\",\"\",VLOOKUP($E472,Lists!$BX$2:$CA$78,3,FALSE))","v":""},{"$f":"IF($E472=\"\",\"\",VLOOKUP($E472,Lists!$BX$2:$CA$78,4,FALSE))","v":""}]
[null,{"$f":"IF($E473=\"\",\"\",VLOOKUP($E473,Lists!$BX$2:$CA$78,2,FALSE))","v":""},{"$f":"IF($E473=\"\",\"\",VLOOKUP($E473,Lists!$BX$2:$CA$78,3,FALSE))","v":""},{"$f":"IF($E473=\"\",\"\",VLOOKUP($E473,Lists!$BX$2:$CA$78,4,FALSE))","v":""}]
[null,{"$f":"IF($E474=\"\",\"\",VLOOKUP($E474,Lists!$BX$2:$CA$78,2,FALSE))","v":""},{"$f":"IF($E474=\"\",\"\",VLOOKUP($E474,Lists!$BX$2:$CA$78,3,FALSE))","v":""},{"$f":"IF($E474=\"\",\"\",VLOOKUP($E474,Lists!$BX$2:$CA$78,4,FALSE))","v":""}]
[null,{"$f":"IF($E475=\"\",\"\",VLOOKUP($E475,Lists!$BX$2:$CA$78,2,FALSE))","v":""},{"$f":"IF($E475=\"\",\"\",VLOOKUP($E475,Lists!$BX$2:$CA$78,3,FALSE))","v":""},{"$f":"IF($E475=\"\",\"\",VLOOKUP($E475,Lists!$BX$2:$CA$78,4,FALSE))","v":""}]
[null,{"$f":"IF($E476=\"\",\"\",VLOOKUP($E476,Lists!$BX$2:$CA$78,2,FALSE))","v":""},{"$f":"IF($E476=\"\",\"\",VLOOKUP($E476,Lists!$BX$2:$CA$78,3,FALSE))","v":""},{"$f":"IF($E476=\"\",\"\",VLOOKUP($E476,Lists!$BX$2:$CA$78,4,FALSE))","v":""}]
[null,{"$f":"IF($E477=\"\",\"\",VLOOKUP($E477,Lists!$BX$2:$CA$78,2,FALSE))","v":""},{"$f":"IF($E477=\"\",\"\",VLOOKUP($E477,Lists!$BX$2:$CA$78,3,FALSE))","v":""},{"$f":"IF($E477=\"\",\"\",VLOOKUP($E477,Lists!$BX$2:$CA$78,4,FALSE))","v":""}]
[null,{"$f":"IF($E478=\"\",\"\",VLOOKUP($E478,Lists!$BX$2:$CA$78,2,FALSE))","v":""},{"$f":"IF($E478=\"\",\"\",VLOOKUP($E478,Lists!$BX$2:$CA$78,3,FALSE))","v":""},{"$f":"IF($E478=\"\",\"\",VLOOKUP($E478,Lists!$BX$2:$CA$78,4,FALSE))","v":""}]
[null,{"$f":"IF($E479=\"\",\"\",VLOOKUP($E479,Lists!$BX$2:$CA$78,2,FALSE))","v":""},{"$f":"IF($E479=\"\",\"\",VLOOKUP($E479,Lists!$BX$2:$CA$78,3,FALSE))","v":""},{"$f":"IF($E479=\"\",\"\",VLOOKUP($E479,Lists!$BX$2:$CA$78,4,FALSE))","v":""}]
[null,{"$f":"IF($E480=\"\",\"\",VLOOKUP($E480,Lists!$BX$2:$CA$78,2,FALSE))","v":""},{"$f":"IF($E480=\"\",\"\",VLOOKUP($E480,Lists!$BX$2:$CA$78,3,FALSE))","v":""},{"$f":"IF($E480=\"\",\"\",VLOOKUP($E480,Lists!$BX$2:$CA$78,4,FALSE))","v":""}]
[null,{"$f":"IF($E481=\"\",\"\",VLOOKUP($E481,Lists!$BX$2:$CA$78,2,FALSE))","v":""},{"$f":"IF($E481=\"\",\"\",VLOOKUP($E481,Lists!$BX$2:$CA$78,3,FALSE))","v":""},{"$f":"IF($E481=\"\",\"\",VLOOKUP($E481,Lists!$BX$2:$CA$78,4,FALSE))","v":""}]
[null,{"$f":"IF($E482=\"\",\"\",VLOOKUP($E482,Lists!$BX$2:$CA$78,2,FALSE))","v":""},{"$f":"IF($E482=\"\",\"\",VLOOKUP($E482,Lists!$BX$2:$CA$78,3,FALSE))","v":""},{"$f":"IF($E482=\"\",\"\",VLOOKUP($E482,Lists!$BX$2:$CA$78,4,FALSE))","v":""}]
[null,{"$f":"IF($E483=\"\",\"\",VLOOKUP($E483,Lists!$BX$2:$CA$78,2,FALSE))","v":""},{"$f":"IF($E483=\"\",\"\",VLOOKUP($E483,Lists!$BX$2:$CA$78,3,FALSE))","v":""},{"$f":"IF($E483=\"\",\"\",VLOOKUP($E483,Lists!$BX$2:$CA$78,4,FALSE))","v":""}]
[null,{"$f":"IF($E484=\"\",\"\",VLOOKUP($E484,Lists!$BX$2:$CA$78,2,FALSE))","v":""},{"$f":"IF($E484=\"\",\"\",VLOOKUP($E484,Lists!$BX$2:$CA$78,3,FALSE))","v":""},{"$f":"IF($E484=\"\",\"\",VLOOKUP($E484,Lists!$BX$2:$CA$78,4,FALSE))","v":""}]
[null,{"$f":"IF($E485=\"\",\"\",VLOOKUP($E485,Lists!$BX$2:$CA$78,2,FALSE))","v":""},{"$f":"IF($E485=\"\",\"\",VLOOKUP($E485,Lists!$BX$2:$CA$78,3,FALSE))","v":""},{"$f":"IF($E485=\"\",\"\",VLOOKUP($E485,Lists!$BX$2:$CA$78,4,FALSE))","v":""}]
[null,{"$f":"IF($E486=\"\",\"\",VLOOKUP($E486,Lists!$BX$2:$CA$78,2,FALSE))","v":""},{"$f":"IF($E486=\"\",\"\",VLOOKUP($E486,Lists!$BX$2:$CA$78,3,FALSE))","v":""},{"$f":"IF($E486=\"\",\"\",VLOOKUP($E486,Lists!$BX$2:$CA$78,4,FALSE))","v":""}]
[null,{"$f":"IF($E487=\"\",\"\",VLOOKUP($E487,Lists!$BX$2:$CA$78,2,FALSE))","v":""},{"$f":"IF($E487=\"\",\"\",VLOOKUP($E487,Lists!$BX$2:$CA$78,3,FALSE))","v":""},{"$f":"IF($E487=\"\",\"\",VLOOKUP($E487,Lists!$BX$2:$CA$78,4,FALSE))","v":""}]
[null,{"$f":"IF($E488=\"\",\"\",VLOOKUP($E488,Lists!$BX$2:$CA$78,2,FALSE))","v":""},{"$f":"IF($E488=\"\",\"\",VLOOKUP($E488,Lists!$BX$2:$CA$78,3,FALSE))","v":""},{"$f":"IF($E488=\"\",\"\",VLOOKUP($E488,Lists!$BX$2:$CA$78,4,FALSE))","v":""}]
[null,{"$f":"IF($E489=\"\",\"\",VLOOKUP($E489,Lists!$BX$2:$CA$78,2,FALSE))","v":""},{"$f":"IF($E489=\"\",\"\",VLOOKUP($E489,Lists!$BX$2:$CA$78,3,FALSE))","v":""},{"$f":"IF($E489=\"\",\"\",VLOOKUP($E489,Lists!$BX$2:$CA$78,4,FALSE))","v":""}]
[null,{"$f":"IF($E490=\"\",\"\",VLOOKUP($E490,Lists!$BX$2:$CA$78,2,FALSE))","v":""},{"$f":"IF($E490=\"\",\"\",VLOOKUP($E490,Lists!$BX$2:$CA$78,3,FALSE))","v":""},{"$f":"IF($E490=\"\",\"\",VLOOKUP($E490,Lists!$BX$2:$CA$78,4,FALSE))","v":""}]
[null,{"$f":"IF($E491=\"\",\"\",VLOOKUP($E491,Lists!$BX$2:$CA$78,2,FALSE))","v":""},{"$f":"IF($E491=\"\",\"\",VLOOKUP($E491,Lists!$BX$2:$CA$78,3,FALSE))","v":""},{"$f":"IF($E491=\"\",\"\",VLOOKUP($E491,Lists!$BX$2:$CA$78,4,FALSE))","v":""}]
[null,{"$f":"IF($E492=\"\",\"\",VLOOKUP($E492,Lists!$BX$2:$CA$78,2,FALSE))","v":""},{"$f":"IF($E492=\"\",\"\",VLOOKUP($E492,Lists!$BX$2:$CA$78,3,FALSE))","v":""},{"$f":"IF($E492=\"\",\"\",VLOOKUP($E492,Lists!$BX$2:$CA$78,4,FALSE))","v":""}]
[null,{"$f":"IF($E493=\"\",\"\",VLOOKUP($E493,Lists!$BX$2:$CA$78,2,FALSE))","v":""},{"$f":"IF($E493=\"\",\"\",VLOOKUP($E493,Lists!$BX$2:$CA$78,3,FALSE))","v":""},{"$f":"IF($E493=\"\",\"\",VLOOKUP($E493,Lists!$BX$2:$CA$78,4,FALSE))","v":""}]
[null,{"$f":"IF($E494=\"\",\"\",VLOOKUP($E494,Lists!$BX$2:$CA$78,2,FALSE))","v":""},{"$f":"IF($E494=\"\",\"\",VLOOKUP($E494,Lists!$BX$2:$CA$78,3,FALSE))","v":""},{"$f":"IF($E494=\"\",\"\",VLOOKUP($E494,Lists!$BX$2:$CA$78,4,FALSE))","v":""}]
[null,{"$f":"IF($E495=\"\",\"\",VLOOKUP($E495,Lists!$BX$2:$CA$78,2,FALSE))","v":""},{"$f":"IF($E495=\"\",\"\",VLOOKUP($E495,Lists!$BX$2:$CA$78,3,FALSE))","v":""},{"$f":"IF($E495=\"\",\"\",VLOOKUP($E495,Lists!$BX$2:$CA$78,4,FALSE))","v":""}]
[null,{"$f":"IF($E496=\"\",\"\",VLOOKUP($E496,Lists!$BX$2:$CA$78,2,FALSE))","v":""},{"$f":"IF($E496=\"\",\"\",VLOOKUP($E496,Lists!$BX$2:$CA$78,3,FALSE))","v":""},{"$f":"IF($E496=\"\",\"\",VLOOKUP($E496,Lists!$BX$2:$CA$78,4,FALSE))","v":""}]
[null,{"$f":"IF($E497=\"\",\"\",VLOOKUP($E497,Lists!$BX$2:$CA$78,2,FALSE))","v":""},{"$f":"IF($E497=\"\",\"\",VLOOKUP($E497,Lists!$BX$2:$CA$78,3,FALSE))","v":""},{"$f":"IF($E497=\"\",\"\",VLOOKUP($E497,Lists!$BX$2:$CA$78,4,FALSE))","v":""}]
[null,{"$f":"IF($E498=\"\",\"\",VLOOKUP($E498,Lists!$BX$2:$CA$78,2,FALSE))","v":""},{"$f":"IF($E498=\"\",\"\",VLOOKUP($E498,Lists!$BX$2:$CA$78,3,FALSE))","v":""},{"$f":"IF($E498=\"\",\"\",VLOOKUP($E498,Lists!$BX$2:$CA$78,4,FALSE))","v":""}]
[null,{"$f":"IF($E499=\"\",\"\",VLOOKUP($E499,Lists!$BX$2:$CA$78,2,FALSE))","v":""},{"$f":"IF($E499=\"\",\"\",VLOOKUP($E499,Lists!$BX$2:$CA$78,3,FALSE))","v":""},{"$f":"IF($E499=\"\",\"\",VLOOKUP($E499,Lists!$BX$2:$CA$78,4,FALSE))","v":""}]
[null,{"$f":"IF($E500=\"\",\"\",VLOOKUP($E500,Lists!$BX$2:$CA$78,2,FALSE))","v":""},{"$f":"IF($E500=\"\",\"\",VLOOKUP($E500,Lists!$BX$2:$CA$78,3,FALSE))","v":""},{"$f":"IF($E500=\"\",\"\",VLOOKUP($E500,Lists!$BX$2:$CA$78,4,FALSE))","v":""}]

{"sheet":"CMS_Deviation_Summary","index":7,"n_rows":707,"n_cols":12,"rows_kept":707,"cut":false,"hidden":false,"merged":[]}
[null,"DO NOT REMOVE OR EDIT INFORMATION IN ROWS 1 THROUGH 5\nFOR INTERNAL USE ONLY"]
[null,"Template Name",null,{"$f":"+Welcome!B2","v":"63.7751(a) Semiannual Compliance Report (Spreadsheet Template)"}]
[null,"CitationID",null,{"$f":"+Welcome!B3","v":"63.7751(a)"}]
[null,"Template Version",null,{"$f":"+Welcome!B4","v":"v1.00"}]
[null,"Last Updated Date",null,{"$f":"+Welcome!B5","v":44008}]
[null,{"$f":"Welcome!B6","v":"OMB No.: 2060-0543 Expiration Date: 11/30/2019"}]
[null,"40 CFR Part 63, Subpart EEEEE National Emission Standards for Hazardous Air Pollutants: Iron and Steel Foundries - "]
[null,"§63.7751(b) Semiannual Compliance Report Spreadsheet Template"]
[]
[]
[null,"* Required Field"]
[null,"Company Record No. *\n(Autocompleted)","Affected Source or Equipment Description *\n(§63.7751(b)(8)(iii))\n(Autocompleted)","Brief Description of CPMS, CEMS, or COMS *\n(§63.7751(b)(8)(i))\n(Autocompleted)","Total Source\nOperating Time \n(hours)\n(§63.7751(b)(8)(iii))\n(Autocompleted)\n","Total Duration of\n CMS Downtime * (hours) \n(§63.7751(b)(8)(vi))\n(Calculated value)","Total Duration of\n CMS Downtime as\n a per cent of Total\n Source Operating Time *\n(§63.7751(b)(8)(vi))\n(Calculated value)","Total Duration of \nCMS Downtime Due to \nMonitoring System Malfunctions *\n(§63.7751(b)(8)(vi))\n(Calculated value)","Total Duration of \nCMS Downtime Due to \nNonmonitoring Equipment Malfunctions *\n(§63.7751(b)(8)(vi))\n(Calculated value)","Total Duration of \nCMS Downtime Due to \nQuality Assurance/Quality Control Calibrations * \n(§63.7751(b)(8)(vi))\n(Calculated value)","Total Duration of \nCMS Downtime Due to \nOther Known Causes *\n(§63.7751(b)(8)(vi))\n(Calculated value)","Total Duration of \nCMS Downtime Due to Unknown Causes * \n(§63.7751(b)(8)(vi))\n(Calculated value)"]
[null,"RecordId","AffectedSource_CMSSummary","CPMSEqDesc_CMSSummary","TotalOperatingTime_CMSSummary","CPMSDowntimeDuration_CMSSummary","CPMSDowntimePercent_CMSSummary","StartupCausedDeviation_CMSSummary","EquipmentCausedDeviation_CMSSummary","ProcessCausedDeviation_CMSSummary","OtherCausedDeviation_CMSSummary","UnknownCausedDeviation_CMSSummary"]
[null,"e.g.: 1","e.g.: Line 1","e.g.: TC1792 PM Filter Bank Inlet Temperature","e.g.: 6240","e.g.: 0","e.g.: 0.58%","e.g.: 36.2","e.g.: 36.2","e.g.: 0","e.g.: 0","e.g.: 0"]
[]
[]
[]
[]
[]
[]
[]
[]
[]
[null,{"$f":"IF(Lists!AP2=\"\",\"\",Lists!AP2)","v":""},{"$f":"IF(Lists!AQ2=\"\",\"\",Lists!AQ2)","v":""},{"$f":"IF(Lists!AR2=\"\",\"\",Lists!AR2)","v":""},{"$f":"IF(Lists!AW2=\"\",\"\",Lists!AT2)","v":""},{"$f":"IF($E24=\"\",\"\",SUMIFS(CMS_Deviation_Detail!$I$24:$I$5400,CMS_Deviation_Detail!$B$24:$B$5400,B24,CMS_Deviation_Detail!$C$24:$C$5400,C24,CMS_Deviation_Detail!$D$24:$D$5400,D24))","v":""},{"$f":"IF($E24=\"\",\"\",IF(F24=0,\"N/A\",F24/$E24))","v":""},{"$f":"IF($E24=\"\",\"\",SUMIFS(CMS_Deviation_Detail!$I$24:$I$5800,CMS_Deviation_Detail!$B$24:$B$5800,$B24,CMS_Deviation_Detail!$C$24:$C$5800,$C24,CMS_Deviation_Detail!$D$24:$D$5800,$D24,CMS_Deviation_Detail!$J$24:$J$5800,\"Monitoring System Malfunctions\"))","v":""},{"$f":"IF($E24=\"\",\"\",SUMIFS(CMS_Deviation_Detail!$I$24:$I$5800,CMS_Deviation_Detail!$B$24:$B$5800,$B24,CMS_Deviation_Detail!$C$24:$C$5800,$C24,CMS_Deviation_Detail!$D$24:$D$5800,$D24,CMS_Deviation_Detail!$J$24:$J$5800,\"Nonmonitoring Equipment Malfunctions\"))","v":""},{"$f":"IF($E24=\"\",\"\",SUMIFS(CMS_Deviation_Detail!$I$24:$I$5800,CMS_Deviation_Detail!$B$24:$B$5800,$B24,CMS_Deviation_Detail!$C$24:$C$5800,$C24,CMS_Deviation_Detail!$D$24:$D$5800,$D24,CMS_Deviation_Detail!$J$24:$J$5800,\"Quality Assurance/Quality Control Calibrations\"))","v":""},{"$f":"IF($E24=\"\",\"\",SUMIFS(CMS_Deviation_Detail!$I$24:$I$5800,CMS_Deviation_Detail!$B$24:$B$5800,$B24,CMS_Deviation_Detail!$C$24:$C$5800,$C24,CMS_Deviation_Detail!$D$24:$D$5800,$D24,CMS_Deviation_Detail!$J$24:$J$5800,\"Other Known Causes\"))","v":""},{"$f":"IF($E24=\"\",\"\",SUMIFS(CMS_Deviation_Detail!$I$24:$I$5800,CMS_Deviation_Detail!$B$24:$B$5800,$B24,CMS_Deviation_Detail!$C$24:$C$5800,$C24,CMS_Deviation_Detail!$D$24:$D$5800,$D24,CMS_Deviation_Detail!$J$24:$J$5800,\"Unknown Causes\"))","v":""}]
[null,{"$f":"IF(Lists!AP3=\"\",\"\",Lists!AP3)","v":""},{"$f":"IF(Lists!AQ3=\"\",\"\",Lists!AQ3)","v":""},{"$f":"IF(Lists!AR3=\"\",\"\",Lists!AR3)","v":""},{"$f":"IF(Lists!AW3=\"\",\"\",Lists!AT3)","v":""},{"$f":"IF($E25=\"\",\"\",SUMIFS(CMS_Deviation_Detail!$I$24:$I$5400,CMS_Deviation_Detail!$B$24:$B$5400,B25,CMS_Deviation_Detail!$C$24:$C$5400,C25,CMS_Deviation_Detail!$D$24:$D$5400,D25))","v":""},{"$f":"IF($E25=\"\",\"\",IF(F25=0,\"N/A\",F25/$E25))","v":""},{"$f":"IF($E25=\"\",\"\",SUMIFS(CMS_Deviation_Detail!$I$24:$I$5800,CMS_Deviation_Detail!$B$24:$B$5800,$B25,CMS_Deviation_Detail!$C$24:$C$5800,$C25,CMS_Deviation_Detail!$D$24:$D$5800,$D25,CMS_Deviation_Detail!$J$24:$J$5800,\"Monitoring System Malfunctions\"))","v":""},{"$f":"IF($E25=\"\",\"\",SUMIFS(CMS_Deviation_Detail!$I$24:$I$5800,CMS_Deviation_Detail!$B$24:$B$5800,$B25,CMS_Deviation_Detail!$C$24:$C$5800,$C25,CMS_Deviation_Detail!$D$24:$D$5800,$D25,CMS_Deviation_Detail!$J$24:$J$5800,\"Nonmonitoring Equipment Malfunctions\"))","v":""},{"$f":"IF($E25=\"\",\"\",SUMIFS(CMS_Deviation_Detail!$I$24:$I$5800,CMS_Deviation_Detail!$B$24:$B$5800,$B25,CMS_Deviation_Detail!$C$24:$C$5800,$C25,CMS_Deviation_Detail!$D$24:$D$5800,$D25,CMS_Deviation_Detail!$J$24:$J$5800,\"Quality Assurance/Quality Control Calibrations\"))","v":""},{"$f":"IF($E25=\"\",\"\",SUMIFS(CMS_Deviation_Detail!$I$24:$I$5800,CMS_Deviation_Detail!$B$24:$B$5800,$B25,CMS_Deviation_Detail!$C$24:$C$5800,$C25,CMS_Deviation_Detail!$D$24:$D$5800,$D25,CMS_Deviation_Detail!$J$24:$J$5800,\"Other Known Causes\"))","v":""},{"$f":"IF($E25=\"\",\"\",SUMIFS(CMS_Deviation_Detail!$I$24:$I$5800,CMS_Deviation_Detail!$B$24:$B$5800,$B25,CMS_Deviation_Detail!$C$24:$C$5800,$C25,CMS_Deviation_Detail!$D$24:$D$5800,$D25,CMS_Deviation_Detail!$J$24:$J$5800,\"Unknown Causes\"))","v":""}]
[null,{"$f":"IF(Lists!AP4=\"\",\"\",Lists!AP4)","v":""},{"$f":"IF(Lists!AQ4=\"\",\"\",Lists!AQ4)","v":""},{"$f":"IF(Lists!AR4=\"\",\"\",Lists!AR4)","v":""},{"$f":"IF(Lists!AW4=\"\",\"\",Lists!AT4)","v":""},{"$f":"IF($E26=\"\",\"\",SUMIFS(CMS_Deviation_Detail!$I$24:$I$5400,CMS_Deviation_Detail!$B$24:$B$5400,B26,CMS_Deviation_Detail!$C$24:$C$5400,C26,CMS_Deviation_Detail!$D$24:$D$5400,D26))","v":""},"",{"$f":"IF($E26=\"\",\"\",SUMIFS(CMS_Deviation_Detail!$I$24:$I$5800,CMS_Deviation_Detail!$B$24:$B$5800,$B26,CMS_Deviation_Detail!$C$24:$C$5800,$C26,CMS_Deviation_Detail!$D$24:$D$5800,$D26,CMS_Deviation_Detail!$J$24:$J$5800,\"Monitoring System Malfunctions\"))","v":""},{"$f":"IF($E26=\"\",\"\",SUMIFS(CMS_Deviation_Detail!$I$24:$I$5800,CMS_Deviation_Detail!$B$24:$B$5800,$B26,CMS_Deviation_Detail!$C$24:$C$5800,$C26,CMS_Deviation_Detail!$D$24:$D$5800,$D26,CMS_Deviation_Detail!$J$24:$J$5800,\"Nonmonitoring Equipment Malfunctions\"))","v":""},{"$f":"IF($E26=\"\",\"\",SUMIFS(CMS_Deviation_Detail!$I$24:$I$5800,CMS_Deviation_Detail!$B$24:$B$5800,$B26,CMS_Deviation_Detail!$C$24:$C$5800,$C26,CMS_Deviation_Detail!$D$24:$D$5800,$D26,CMS_Deviation_Detail!$J$24:$J$5800,\"Quality Assurance/Quality Control Calibrations\"))","v":""},{"$f":"IF($E26=\"\",\"\",SUMIFS(CMS_Deviation_Detail!$I$24:$I$5800,CMS_Deviation_Detail!$B$24:$B$5800,$B26,CMS_Deviation_Detail!$C$24:$C$5800,$C26,CMS_Deviation_Detail!$D$24:$D$5800,$D26,CMS_Deviation_Detail!$J$24:$J$5800,\"Other Known Causes\"))","v":""},{"$f":"IF($E26=\"\",\"\",SUMIFS(CMS_Deviation_Detail!$I$24:$I$5800,CMS_Deviation_Detail!$B$24:$B$5800,$B26,CMS_Deviation_Detail!$C$24:$C$5800,$C26,CMS_Deviation_Detail!$D$24:$D$5800,$D26,CMS_Deviation_Detail!$J$24:$J$5800,\"Unknown Causes\"))","v":""}]
[null,{"$f":"IF(Lists!AP5=\"\",\"\",Lists!AP5)","v":""},{"$f":"IF(Lists!AQ5=\"\",\"\",Lists!AQ5)","v":""},{"$f":"IF(Lists!AR5=\"\",\"\",Lists!AR5)","v":""},{"$f":"IF(Lists!AW5=\"\",\"\",Lists!AT5)","v":""},{"$f":"IF($E27=\"\",\"\",SUMIFS(CMS_Deviation_Detail!$I$24:$I$5400,CMS_Deviation_Detail!$B$24:$B$5400,B27,CMS_Deviation_Detail!$C$24:$C$5400,C27,CMS_Deviation_Detail!$D$24:$D$5400,D27))","v":""},"",{"$f":"IF($E27=\"\",\"\",SUMIFS(CMS_Deviation_Detail!$I$24:$I$5800,CMS_Deviation_Detail!$B$24:$B$5800,$B27,CMS_Deviation_Detail!$C$24:$C$5800,$C27,CMS_Deviation_Detail!$D$24:$D$5800,$D27,CMS_Deviation_Detail!$J$24:$J$5800,\"Monitoring System Malfunctions\"))","v":""},{"$f":"IF($E27=\"\",\"\",SUMIFS(CMS_Deviation_Detail!$I$24:$I$5800,CMS_Deviation_Detail!$B$24:$B$5800,$B27,CMS_Deviation_Detail!$C$24:$C$5800,$C27,CMS_Deviation_Detail!$D$24:$D$5800,$D27,CMS_Deviation_Detail!$J$24:$J$5800,\"Nonmonitoring Equipment Malfunctions\"))","v":""},{"$f":"IF($E27=\"\",\"\",SUMIFS(CMS_Deviation_Detail!$I$24:$I$5800,CMS_Deviation_Detail!$B$24:$B$5800,$B27,CMS_Deviation_Detail!$C$24:$C$5800,$C27,CMS_Deviation_Detail!$D$24:$D$5800,$D27,CMS_Deviation_Detail!$J$24:$J$5800,\"Quality Assurance/Quality Control Calibrations\"))","v":""},{"$f":"IF($E27=\"\",\"\",SUMIFS(CMS_Deviation_Detail!$I$24:$I$5800,CMS_Deviation_Detail!$B$24:$B$5800,$B27,CMS_Deviation_Detail!$C$24:$C$5800,$C27,CMS_Deviation_Detail!$D$24:$D$5800,$D27,CMS_Deviation_Detail!$J$24:$J$5800,\"Other Known Causes\"))","v":""},{"$f":"IF($E27=\"\",\"\",SUMIFS(CMS_Deviation_Detail!$I$24:$I$5800,CMS_Deviation_Detail!$B$24:$B$5800,$B27,CMS_Deviation_Detail!$C$24:$C$5800,$C27,CMS_Deviation_Detail!$D$24:$D$5800,$D27,CMS_Deviation_Detail!$J$24:$J$5800,\"Unknown Causes\"))","v":""}]
[null,{"$f":"IF(Lists!AP6=\"\",\"\",Lists!AP6)","v":""},{"$f":"IF(Lists!AQ6=\"\",\"\",Lists!AQ6)","v":""},{"$f":"IF(Lists!AR6=\"\",\"\",Lists!AR6)","v":""},{"$f":"IF(Lists!AW6=\"\",\"\",Lists!AT6)","v":""},{"$f":"IF($E28=\"\",\"\",SUMIFS(CMS_Deviation_Detail!$I$24:$I$5400,CMS_Deviation_Detail!$B$24:$B$5400,B28,CMS_Deviation_Detail!$C$24:$C$5400,C28,CMS_Deviation_Detail!$D$24:$D$5400,D28))","v":""},"",{"$f":"IF($E28=\"\",\"\",SUMIFS(CMS_Deviation_Detail!$I$24:$I$5800,CMS_Deviation_Detail!$B$24:$B$5800,$B28,CMS_Deviation_Detail!$C$24:$C$5800,$C28,CMS_Deviation_Detail!$D$24:$D$5800,$D28,CMS_Deviation_Detail!$J$24:$J$5800,\"Monitoring System Malfunctions\"))","v":""},{"$f":"IF($E28=\"\",\"\",SUMIFS(CMS_Deviation_Detail!$I$24:$I$5800,CMS_Deviation_Detail!$B$24:$B$5800,$B28,CMS_Deviation_Detail!$C$24:$C$5800,$C28,CMS_Deviation_Detail!$D$24:$D$5800,$D28,CMS_Deviation_Detail!$J$24:$J$5800,\"Nonmonitoring Equipment Malfunctions\"))","v":""},{"$f":"IF($E28=\"\",\"\",SUMIFS(CMS_Deviation_Detail!$I$24:$I$5800,CMS_Deviation_Detail!$B$24:$B$5800,$B28,CMS_Deviation_Detail!$C$24:$C$5800,$C28,CMS_Deviation_Detail!$D$24:$D$5800,$D28,CMS_Deviation_Detail!$J$24:$J$5800,\"Quality Assurance/Quality Control Calibrations\"))","v":""},{"$f":"IF($E28=\"\",\"\",SUMIFS(CMS_Deviation_Detail!$I$24:$I$5800,CMS_Deviation_Detail!$B$24:$B$5800,$B28,CMS_Deviation_Detail!$C$24:$C$5800,$C28,CMS_Deviation_Detail!$D$24:$D$5800,$D28,CMS_Deviation_Detail!$J$24:$J$5800,\"Other Known Causes\"))","v":""},{"$f":"IF($E28=\"\",\"\",SUMIFS(CMS_Deviation_Detail!$I$24:$I$5800,CMS_Deviation_Detail!$B$24:$B$5800,$B28,CMS_Deviation_Detail!$C$24:$C$5800,$C28,CMS_Deviation_Detail!$D$24:$D$5800,$D28,CMS_Deviation_Detail!$J$24:$J$5800,\"Unknown Causes\"))","v":""}]
[null,{"$f":"IF(Lists!AP7=\"\",\"\",Lists!AP7)","v":""},{"$f":"IF(Lists!AQ7=\"\",\"\",Lists!AQ7)","v":""},{"$f":"IF(Lists!AR7=\"\",\"\",Lists!AR7)","v":""},{"$f":"IF(Lists!AW7=\"\",\"\",Lists!AT7)","v":""},{"$f":"IF($E29=\"\",\"\",SUMIFS(CMS_Deviation_Detail!$I$24:$I$5400,CMS_Deviation_Detail!$B$24:$B$5400,B29,CMS_Deviation_Detail!$C$24:$C$5400,C29,CMS_Deviation_Detail!$D$24:$D$5400,D29))","v":""},"",{"$f":"IF($E29=\"\",\"\",SUMIFS(CMS_Deviation_Detail!$I$24:$I$5800,CMS_Deviation_Detail!$B$24:$B$5800,$B29,CMS_Deviation_Detail!$C$24:$C$5800,$C29,CMS_Deviation_Detail!$D$24:$D$5800,$D29,CMS_Deviation_Detail!$J$24:$J$5800,\"Monitoring System Malfunctions\"))","v":""},{"$f":"IF($E29=\"\",\"\",SUMIFS(CMS_Deviation_Detail!$I$24:$I$5800,CMS_Deviation_Detail!$B$24:$B$5800,$B29,CMS_Deviation_Detail!$C$24:$C$5800,$C29,CMS_Deviation_Detail!$D$24:$D$5800,$D29,CMS_Deviation_Detail!$J$24:$J$5800,\"Nonmonitoring Equipment Malfunctions\"))","v":""},{"$f":"IF($E29=\"\",\"\",SUMIFS(CMS_Deviation_Detail!$I$24:$I$5800,CMS_Deviation_Detail!$B$24:$B$5800,$B29,CMS_Deviation_Detail!$C$24:$C$5800,$C29,CMS_Deviation_Detail!$D$24:$D$5800,$D29,CMS_Deviation_Detail!$J$24:$J$5800,\"Quality Assurance/Quality Control Calibrations\"))","v":""},{"$f":"IF($E29=\"\",\"\",SUMIFS(CMS_Deviation_Detail!$I$24:$I$5800,CMS_Deviation_Detail!$B$24:$B$5800,$B29,CMS_Deviation_Detail!$C$24:$C$5800,$C29,CMS_Deviation_Detail!$D$24:$D$5800,$D29,CMS_Deviation_Detail!$J$24:$J$5800,\"Other Known Causes\"))","v":""},{"$f":"IF($E29=\"\",\"\",SUMIFS(CMS_Deviation_Detail!$I$24:$I$5800,CMS_Deviation_Detail!$B$24:$B$5800,$B29,CMS_Deviation_Detail!$C$24:$C$5800,$C29,CMS_Deviation_Detail!$D$24:$D$5800,$D29,CMS_Deviation_Detail!$J$24:$J$5800,\"Unknown Causes\"))","v":""}]
[null,{"$f":"IF(Lists!AP8=\"\",\"\",Lists!AP8)","v":""},{"$f":"IF(Lists!AQ8=\"\",\"\",Lists!AQ8)","v":""},{"$f":"IF(Lists!AR8=\"\",\"\",Lists!AR8)","v":""},{"$f":"IF(Lists!AW8=\"\",\"\",Lists!AT8)","v":""},{"$f":"IF($E30=\"\",\"\",SUMIFS(CMS_Deviation_Detail!$I$24:$I$5400,CMS_Deviation_Detail!$B$24:$B$5400,B30,CMS_Deviation_Detail!$C$24:$C$5400,C30,CMS_Deviation_Detail!$D$24:$D$5400,D30))","v":""},"",{"$f":"IF($E30=\"\",\"\",SUMIFS(CMS_Deviation_Detail!$I$24:$I$5800,CMS_Deviation_Detail!$B$24:$B$5800,$B30,CMS_Deviation_Detail!$C$24:$C$5800,$C30,CMS_Deviation_Detail!$D$24:$D$5800,$D30,CMS_Deviation_Detail!$J$24:$J$5800,\"Monitoring System Malfunctions\"))","v":""},{"$f":"IF($E30=\"\",\"\",SUMIFS(CMS_Deviation_Detail!$I$24:$I$5800,CMS_Deviation_Detail!$B$24:$B$5800,$B30,CMS_Deviation_Detail!$C$24:$C$5800,$C30,CMS_Deviation_Detail!$D$24:$D$5800,$D30,CMS_Deviation_Detail!$J$24:$J$5800,\"Nonmonitoring Equipment Malfunctions\"))","v":""},{"$f":"IF($E30=\"\",\"\",SUMIFS(CMS_Deviation_Detail!$I$24:$I$5800,CMS_Deviation_Detail!$B$24:$B$5800,$B30,CMS_Deviation_Detail!$C$24:$C$5800,$C30,CMS_Deviation_Detail!$D$24:$D$5800,$D30,CMS_Deviation_Detail!$J$24:$J$5800,\"Quality Assurance/Quality Control Calibrations\"))","v":""},{"$f":"IF($E30=\"\",\"\",SUMIFS(CMS_Deviation_Detail!$I$24:$I$5800,CMS_Deviation_Detail!$B$24:$B$5800,$B30,CMS_Deviation_Detail!$C$24:$C$5800,$C30,CMS_Deviation_Detail!$D$24:$D$5800,$D30,CMS_Deviation_Detail!$J$24:$J$5800,\"Other Known Causes\"))","v":""},{"$f":"IF($E30=\"\",\"\",SUMIFS(CMS_Deviation_Detail!$I$24:$I$5800,CMS_Deviation_Detail!$B$24:$B$5800,$B30,CMS_Deviation_Detail!$C$24:$C$5800,$C30,CMS_Deviation_Detail!$D$24:$D$5800,$D30,CMS_Deviation_Detail!$J$24:$J$5800,\"Unknown Causes\"))","v":""}]
[null,{"$f":"IF(Lists!AP9=\"\",\"\",Lists!AP9)","v":""},{"$f":"IF(Lists!AQ9=\"\",\"\",Lists!AQ9)","v":""},{"$f":"IF(Lists!AR9=\"\",\"\",Lists!AR9)","v":""},{"$f":"IF(Lists!AW9=\"\",\"\",Lists!AT9)","v":""},{"$f":"IF($E31=\"\",\"\",SUMIFS(CMS_Deviation_Detail!$I$24:$I$5400,CMS_Deviation_Detail!$B$24:$B$5400,B31,CMS_Deviation_Detail!$C$24:$C$5400,C31,CMS_Deviation_Detail!$D$24:$D$5400,D31))","v":""},"",{"$f":"IF($E31=\"\",\"\",SUMIFS(CMS_Deviation_Detail!$I$24:$I$5800,CMS_Deviation_Detail!$B$24:$B$5800,$B31,CMS_Deviation_Detail!$C$24:$C$5800,$C31,CMS_Deviation_Detail!$D$24:$D$5800,$D31,CMS_Deviation_Detail!$J$24:$J$5800,\"Monitoring System Malfunctions\"))","v":""},{"$f":"IF($E31=\"\",\"\",SUMIFS(CMS_Deviation_Detail!$I$24:$I$5800,CMS_Deviation_Detail!$B$24:$B$5800,$B31,CMS_Deviation_Detail!$C$24:$C$5800,$C31,CMS_Deviation_Detail!$D$24:$D$5800,$D31,CMS_Deviation_Detail!$J$24:$J$5800,\"Nonmonitoring Equipment Malfunctions\"))","v":""},{"$f":"IF($E31=\"\",\"\",SUMIFS(CMS_Deviation_Detail!$I$24:$I$5800,CMS_Deviation_Detail!$B$24:$B$5800,$B31,CMS_Deviation_Detail!$C$24:$C$5800,$C31,CMS_Deviation_Detail!$D$24:$D$5800,$D31,CMS_Deviation_Detail!$J$24:$J$5800,\"Quality Assurance/Quality Control Calibrations\"))","v":""},{"$f":"IF($E31=\"\",\"\",SUMIFS(CMS_Deviation_Detail!$I$24:$I$5800,CMS_Deviation_Detail!$B$24:$B$5800,$B31,CMS_Deviation_Detail!$C$24:$C$5800,$C31,CMS_Deviation_Detail!$D$24:$D$5800,$D31,CMS_Deviation_Detail!$J$24:$J$5800,\"Other Known Causes\"))","v":""},{"$f":"IF($E31=\"\",\"\",SUMIFS(CMS_Deviation_Detail!$I$24:$I$5800,CMS_Deviation_Detail!$B$24:$B$5800,$B31,CMS_Deviation_Detail!$C$24:$C$5800,$C31,CMS_Deviation_Detail!$D$24:$D$5800,$D31,CMS_Deviation_Detail!$J$24:$J$5800,\"Unknown Causes\"))","v":""}]
[null,{"$f":"IF(Lists!AP10=\"\",\"\",Lists!AP10)","v":""},{"$f":"IF(Lists!AQ10=\"\",\"\",Lists!AQ10)","v":""},{"$f":"IF(Lists!AR10=\"\",\"\",Lists!AR10)","v":""},{"$f":"IF(Lists!AW10=\"\",\"\",Lists!AT10)","v":""},{"$f":"IF($E32=\"\",\"\",SUMIFS(CMS_Deviation_Detail!$I$24:$I$5400,CMS_Deviation_Detail!$B$24:$B$5400,B32,CMS_Deviation_Detail!$C$24:$C$5400,C32,CMS_Deviation_Detail!$D$24:$D$5400,D32))","v":""},"",{"$f":"IF($E32=\"\",\"\",SUMIFS(CMS_Deviation_Detail!$I$24:$I$5800,CMS_Deviation_Detail!$B$24:$B$5800,$B32,CMS_Deviation_Detail!$C$24:$C$5800,$C32,CMS_Deviation_Detail!$D$24:$D$5800,$D32,CMS_Deviation_Detail!$J$24:$J$5800,\"Monitoring System Malfunctions\"))","v":""},{"$f":"IF($E32=\"\",\"\",SUMIFS(CMS_Deviation_Detail!$I$24:$I$5800,CMS_Deviation_Detail!$B$24:$B$5800,$B32,CMS_Deviation_Detail!$C$24:$C$5800,$C32,CMS_Deviation_Detail!$D$24:$D$5800,$D32,CMS_Deviation_Detail!$J$24:$J$5800,\"Nonmonitoring Equipment Malfunctions\"))","v":""},{"$f":"IF($E32=\"\",\"\",SUMIFS(CMS_Deviation_Detail!$I$24:$I$5800,CMS_Deviation_Detail!$B$24:$B$5800,$B32,CMS_Deviation_Detail!$C$24:$C$5800,$C32,CMS_Deviation_Detail!$D$24:$D$5800,$D32,CMS_Deviation_Detail!$J$24:$J$5800,\"Quality Assurance/Quality Control Calibrations\"))","v":""},{"$f":"IF($E32=\"\",\"\",SUMIFS(CMS_Deviation_Detail!$I$24:$I$5800,CMS_Deviation_Detail!$B$24:$B$5800,$B32,CMS_Deviation_Detail!$C$24:$C$5800,$C32,CMS_Deviation_Detail!$D$24:$D$5800,$D32,CMS_Deviation_Detail!$J$24:$J$5800,\"Other Known Causes\"))","v":""},{"$f":"IF($E32=\"\",\"\",SUMIFS(CMS_Deviation_Detail!$I$24:$I$5800,CMS_Deviation_Detail!$B$24:$B$5800,$B32,CMS_Deviation_Detail!$C$24:$C$5800,$C32,CMS_Deviation_Detail!$D$24:$D$5800,$D32,CMS_Deviation_Detail!$J$24:$J$5800,\"Unknown Causes\"))","v":""}]
[null,{"$f":"IF(Lists!AP11=\"\",\"\",Lists!AP11)","v":""},{"$f":"IF(Lists!AQ11=\"\",\"\",Lists!AQ11)","v":""},{"$f":"IF(Lists!AR11=\"\",\"\",Lists!AR11)","v":""},{"$f":"IF(Lists!AW11=\"\",\"\",Lists!AT11)","v":""},{"$f":"IF($E33=\"\",\"\",SUMIFS(CMS_Deviation_Detail!$I$24:$I$5400,CMS_Deviation_Detail!$B$24:$B$5400,B33,CMS_Deviation_Detail!$C$24:$C$5400,C33,CMS_Deviation_Detail!$D$24:$D$5400,D33))","v":""},"",{"$f":"IF($E33=\"\",\"\",SUMIFS(CMS_Deviation_Detail!$I$24:$I$5800,CMS_Deviation_Detail!$B$24:$B$5800,$B33,CMS_Deviation_Detail!$C$24:$C$5800,$C33,CMS_Deviation_Detail!$D$24:$D$5800,$D33,CMS_Deviation_Detail!$J$24:$J$5800,\"Monitoring System Malfunctions\"))","v":""},{"$f":"IF($E33=\"\",\"\",SUMIFS(CMS_Deviation_Detail!$I$24:$I$5800,CMS_Deviation_Detail!$B$24:$B$5800,$B33,CMS_Deviation_Detail!$C$24:$C$5800,$C33,CMS_Deviation_Detail!$D$24:$D$5800,$D33,CMS_Deviation_Detail!$J$24:$J$5800,\"Nonmonitoring Equipment Malfunctions\"))","v":""},{"$f":"IF($E33=\"\",\"\",SUMIFS(CMS_Deviation_Detail!$I$24:$I$5800,CMS_Deviation_Detail!$B$24:$B$5800,$B33,CMS_Deviation_Detail!$C$24:$C$5800,$C33,CMS_Deviation_Detail!$D$24:$D$5800,$D33,CMS_Deviation_Detail!$J$24:$J$5800,\"Quality Assurance/Quality Control Calibrations\"))","v":""},{"$f":"IF($E33=\"\",\"\",SUMIFS(CMS_Deviation_Detail!$I$24:$I$5800,CMS_Deviation_Detail!$B$24:$B$5800,$B33,CMS_Deviation_Detail!$C$24:$C$5800,$C33,CMS_Deviation_Detail!$D$24:$D$5800,$D33,CMS_Deviation_Detail!$J$24:$J$5800,\"Other Known Causes\"))","v":""},{"$f":"IF($E33=\"\",\"\",SUMIFS(CMS_Deviation_Detail!$I$24:$I$5800,CMS_Deviation_Detail!$B$24:$B$5800,$B33,CMS_Deviation_Detail!$C$24:$C$5800,$C33,CMS_Deviation_Detail!$D$24:$D$5800,$D33,CMS_Deviation_Detail!$J$24:$J$5800,\"Unknown Causes\"))","v":""}]
[null,{"$f":"IF(Lists!AP12=\"\",\"\",Lists!AP12)","v":""},{"$f":"IF(Lists!AQ12=\"\",\"\",Lists!AQ12)","v":""},{"$f":"IF(Lists!AR12=\"\",\"\",Lists!AR12)","v":""},{"$f":"IF(Lists!AW12=\"\",\"\",Lists!AT12)","v":""},{"$f":"IF($E34=\"\",\"\",SUMIFS(CMS_Deviation_Detail!$I$24:$I$5400,CMS_Deviation_Detail!$B$24:$B$5400,B34,CMS_Deviation_Detail!$C$24:$C$5400,C34,CMS_Deviation_Detail!$D$24:$D$5400,D34))","v":""},"",{"$f":"IF($E34=\"\",\"\",SUMIFS(CMS_Deviation_Detail!$I$24:$I$5800,CMS_Deviation_Detail!$B$24:$B$5800,$B34,CMS_Deviation_Detail!$C$24:$C$5800,$C34,CMS_Deviation_Detail!$D$24:$D$5800,$D34,CMS_Deviation_Detail!$J$24:$J$5800,\"Monitoring System Malfunctions\"))","v":""},{"$f":"IF($E34=\"\",\"\",SUMIFS(CMS_Deviation_Detail!$I$24:$I$5800,CMS_Deviation_Detail!$B$24:$B$5800,$B34,CMS_Deviation_Detail!$C$24:$C$5800,$C34,CMS_Deviation_Detail!$D$24:$D$5800,$D34,CMS_Deviation_Detail!$J$24:$J$5800,\"Nonmonitoring Equipment Malfunctions\"))","v":""},{"$f":"IF($E34=\"\",\"\",SUMIFS(CMS_Deviation_Detail!$I$24:$I$5800,CMS_Deviation_Detail!$B$24:$B$5800,$B34,CMS_Deviation_Detail!$C$24:$C$5800,$C34,CMS_Deviation_Detail!$D$24:$D$5800,$D34,CMS_Deviation_Detail!$J$24:$J$5800,\"Quality Assurance/Quality Control Calibrations\"))","v":""},{"$f":"IF($E34=\"\",\"\",SUMIFS(CMS_Deviation_Detail!$I$24:$I$5800,CMS_Deviation_Detail!$B$24:$B$5800,$B34,CMS_Deviation_Detail!$C$24:$C$5800,$C34,CMS_Deviation_Detail!$D$24:$D$5800,$D34,CMS_Deviation_Detail!$J$24:$J$5800,\"Other Known Causes\"))","v":""},{"$f":"IF($E34=\"\",\"\",SUMIFS(CMS_Deviation_Detail!$I$24:$I$5800,CMS_Deviation_Detail!$B$24:$B$5800,$B34,CMS_Deviation_Detail!$C$24:$C$5800,$C34,CMS_Deviation_Detail!$D$24:$D$5800,$D34,CMS_Deviation_Detail!$J$24:$J$5800,\"Unknown Causes\"))","v":""}]
[null,{"$f":"IF(Lists!AP13=\"\",\"\",Lists!AP13)","v":""},{"$f":"IF(Lists!AQ13=\"\",\"\",Lists!AQ13)","v":""},{"$f":"IF(Lists!AR13=\"\",\"\",Lists!AR13)","v":""},{"$f":"IF(Lists!AW13=\"\",\"\",Lists!AT13)","v":""},{"$f":"IF($E35=\"\",\"\",SUMIFS(CMS_Deviation_Detail!$I$24:$I$5400,CMS_Deviation_Detail!$B$24:$B$5400,B35,CMS_Deviation_Detail!$C$24:$C$5400,C35,CMS_Deviation_Detail!$D$24:$D$5400,D35))","v":""},"",{"$f":"IF($E35=\"\",\"\",SUMIFS(CMS_Deviation_Detail!$I$24:$I$5800,CMS_Deviation_Detail!$B$24:$B$5800,$B35,CMS_Deviation_Detail!$C$24:$C$5800,$C35,CMS_Deviation_Detail!$D$24:$D$5800,$D35,CMS_Deviation_Detail!$J$24:$J$5800,\"Monitoring System Malfunctions\"))","v":""},{"$f":"IF($E35=\"\",\"\",SUMIFS(CMS_Deviation_Detail!$I$24:$I$5800,CMS_Deviation_Detail!$B$24:$B$5800,$B35,CMS_Deviation_Detail!$C$24:$C$5800,$C35,CMS_Deviation_Detail!$D$24:$D$5800,$D35,CMS_Deviation_Detail!$J$24:$J$5800,\"Nonmonitoring Equipment Malfunctions\"))","v":""},{"$f":"IF($E35=\"\",\"\",SUMIFS(CMS_Deviation_Detail!$I$24:$I$5800,CMS_Deviation_Detail!$B$24:$B$5800,$B35,CMS_Deviation_Detail!$C$24:$C$5800,$C35,CMS_Deviation_Detail!$D$24:$D$5800,$D35,CMS_Deviation_Detail!$J$24:$J$5800,\"Quality Assurance/Quality Control Calibrations\"))","v":""},{"$f":"IF($E35=\"\",\"\",SUMIFS(CMS_Deviation_Detail!$I$24:$I$5800,CMS_Deviation_Detail!$B$24:$B$5800,$B35,CMS_Deviation_Detail!$C$24:$C$5800,$C35,CMS_Deviation_Detail!$D$24:$D$5800,$D35,CMS_Deviation_Detail!$J$24:$J$5800,\"Other Known Causes\"))","v":""},{"$f":"IF($E35=\"\",\"\",SUMIFS(CMS_Deviation_Detail!$I$24:$I$5800,CMS_Deviation_Detail!$B$24:$B$5800,$B35,CMS_Deviation_Detail!$C$24:$C$5800,$C35,CMS_Deviation_Detail!$D$24:$D$5800,$D35,CMS_Deviation_Detail!$J$24:$J$5800,\"Unknown Causes\"))","v":""}]
[null,{"$f":"IF(Lists!AP14=\"\",\"\",Lists!AP14)","v":""},{"$f":"IF(Lists!AQ14=\"\",\"\",Lists!AQ14)","v":""},{"$f":"IF(Lists!AR14=\"\",\"\",Lists!AR14)","v":""},{"$f":"IF(Lists!AW14=\"\",\"\",Lists!AT14)","v":""},{"$f":"IF($E36=\"\",\"\",SUMIFS(CMS_Deviation_Detail!$I$24:$I$5400,CMS_Deviation_Detail!$B$24:$B$5400,B36,CMS_Deviation_Detail!$C$24:$C$5400,C36,CMS_Deviation_Detail!$D$24:$D$5400,D36))","v":""},"",{"$f":"IF($E36=\"\",\"\",SUMIFS(CMS_Deviation_Detail!$I$24:$I$5800,CMS_Deviation_Detail!$B$24:$B$5800,$B36,CMS_Deviation_Detail!$C$24:$C$5800,$C36,CMS_Deviation_Detail!$D$24:$D$5800,$D36,CMS_Deviation_Detail!$J$24:$J$5800,\"Monitoring System Malfunctions\"))","v":""},{"$f":"IF($E36=\"\",\"\",SUMIFS(CMS_Deviation_Detail!$I$24:$I$5800,CMS_Deviation_Detail!$B$24:$B$5800,$B36,CMS_Deviation_Detail!$C$24:$C$5800,$C36,CMS_Deviation_Detail!$D$24:$D$5800,$D36,CMS_Deviation_Detail!$J$24:$J$5800,\"Nonmonitoring Equipment Malfunctions\"))","v":""},{"$f":"IF($E36=\"\",\"\",SUMIFS(CMS_Deviation_Detail!$I$24:$I$5800,CMS_Deviation_Detail!$B$24:$B$5800,$B36,CMS_Deviation_Detail!$C$24:$C$5800,$C36,CMS_Deviation_Detail!$D$24:$D$5800,$D36,CMS_Deviation_Detail!$J$24:$J$5800,\"Quality Assurance/Quality Control Calibrations\"))","v":""},{"$f":"IF($E36=\"\",\"\",SUMIFS(CMS_Deviation_Detail!$I$24:$I$5800,CMS_Deviation_Detail!$B$24:$B$5800,$B36,CMS_Deviation_Detail!$C$24:$C$5800,$C36,CMS_Deviation_Detail!$D$24:$D$5800,$D36,CMS_Deviation_Detail!$J$24:$J$5800,\"Other Known Causes\"))","v":""},{"$f":"IF($E36=\"\",\"\",SUMIFS(CMS_Deviation_Detail!$I$24:$I$5800,CMS_Deviation_Detail!$B$24:$B$5800,$B36,CMS_Deviation_Detail!$C$24:$C$5800,$C36,CMS_Deviation_Detail!$D$24:$D$5800,$D36,CMS_Deviation_Detail!$J$24:$J$5800,\"Unknown Causes\"))","v":""}]
[null,{"$f":"IF(Lists!AP15=\"\",\"\",Lists!AP15)","v":""},{"$f":"IF(Lists!AQ15=\"\",\"\",Lists!AQ15)","v":""},{"$f":"IF(Lists!AR15=\"\",\"\",Lists!AR15)","v":""},{"$f":"IF(Lists!AW15=\"\",\"\",Lists!AT15)","v":""},{"$f":"IF($E37=\"\",\"\",SUMIFS(CMS_Deviation_Detail!$I$24:$I$5400,CMS_Deviation_Detail!$B$24:$B$5400,B37,CMS_Deviation_Detail!$C$24:$C$5400,C37,CMS_Deviation_Detail!$D$24:$D$5400,D37))","v":""},"",{"$f":"IF($E37=\"\",\"\",SUMIFS(CMS_Deviation_Detail!$I$24:$I$5800,CMS_Deviation_Detail!$B$24:$B$5800,$B37,CMS_Deviation_Detail!$C$24:$C$5800,$C37,CMS_Deviation_Detail!$D$24:$D$5800,$D37,CMS_Deviation_Detail!$J$24:$J$5800,\"Monitoring System Malfunctions\"))","v":""},{"$f":"IF($E37=\"\",\"\",SUMIFS(CMS_Deviation_Detail!$I$24:$I$5800,CMS_Deviation_Detail!$B$24:$B$5800,$B37,CMS_Deviation_Detail!$C$24:$C$5800,$C37,CMS_Deviation_Detail!$D$24:$D$5800,$D37,CMS_Deviation_Detail!$J$24:$J$5800,\"Nonmonitoring Equipment Malfunctions\"))","v":""},{"$f":"IF($E37=\"\",\"\",SUMIFS(CMS_Deviation_Detail!$I$24:$I$5800,CMS_Deviation_Detail!$B$24:$B$5800,$B37,CMS_Deviation_Detail!$C$24:$C$5800,$C37,CMS_Deviation_Detail!$D$24:$D$5800,$D37,CMS_Deviation_Detail!$J$24:$J$5800,\"Quality Assurance/Quality Control Calibrations\"))","v":""},{"$f":"IF($E37=\"\",\"\",SUMIFS(CMS_Deviation_Detail!$I$24:$I$5800,CMS_Deviation_Detail!$B$24:$B$5800,$B37,CMS_Deviation_Detail!$C$24:$C$5800,$C37,CMS_Deviation_Detail!$D$24:$D$5800,$D37,CMS_Deviation_Detail!$J$24:$J$5800,\"Other Known Causes\"))","v":""},{"$f":"IF($E37=\"\",\"\",SUMIFS(CMS_Deviation_Detail!$I$24:$I$5800,CMS_Deviation_Detail!$B$24:$B$5800,$B37,CMS_Deviation_Detail!$C$24:$C$5800,$C37,CMS_Deviation_Detail!$D$24:$D$5800,$D37,CMS_Deviation_Detail!$J$24:$J$5800,\"Unknown Causes\"))","v":""}]
[null,{"$f":"IF(Lists!AP16=\"\",\"\",Lists!AP16)","v":""},{"$f":"IF(Lists!AQ16=\"\",\"\",Lists!AQ16)","v":""},{"$f":"IF(Lists!AR16=\"\",\"\",Lists!AR16)","v":""},{"$f":"IF(Lists!AW16=\"\",\"\",Lists!AT16)","v":""},{"$f":"IF($E38=\"\",\"\",SUMIFS(CMS_Deviation_Detail!$I$24:$I$5400,CMS_Deviation_Detail!$B$24:$B$5400,B38,CMS_Deviation_Detail!$C$24:$C$5400,C38,CMS_Deviation_Detail!$D$24:$D$5400,D38))","v":""},"",{"$f":"IF($E38=\"\",\"\",SUMIFS(CMS_Deviation_Detail!$I$24:$I$5800,CMS_Deviation_Detail!$B$24:$B$5800,$B38,CMS_Deviation_Detail!$C$24:$C$5800,$C38,CMS_Deviation_Detail!$D$24:$D$5800,$D38,CMS_Deviation_Detail!$J$24:$J$5800,\"Monitoring System Malfunctions\"))","v":""},{"$f":"IF($E38=\"\",\"\",SUMIFS(CMS_Deviation_Detail!$I$24:$I$5800,CMS_Deviation_Detail!$B$24:$B$5800,$B38,CMS_Deviation_Detail!$C$24:$C$5800,$C38,CMS_Deviation_Detail!$D$24:$D$5800,$D38,CMS_Deviation_Detail!$J$24:$J$5800,\"Nonmonitoring Equipment Malfunctions\"))","v":""},{"$f":"IF($E38=\"\",\"\",SUMIFS(CMS_Deviation_Detail!$I$24:$I$5800,CMS_Deviation_Detail!$B$24:$B$5800,$B38,CMS_Deviation_Detail!$C$24:$C$5800,$C38,CMS_Deviation_Detail!$D$24:$D$5800,$D38,CMS_Deviation_Detail!$J$24:$J$5800,\"Quality Assurance/Quality Control Calibrations\"))","v":""},{"$f":"IF($E38=\"\",\"\",SUMIFS(CMS_Deviation_Detail!$I$24:$I$5800,CMS_Deviation_Detail!$B$24:$B$5800,$B38,CMS_Deviation_Detail!$C$24:$C$5800,$C38,CMS_Deviation_Detail!$D$24:$D$5800,$D38,CMS_Deviation_Detail!$J$24:$J$5800,\"Other Known Causes\"))","v":""},{"$f":"IF($E38=\"\",\"\",SUMIFS(CMS_Deviation_Detail!$I$24:$I$5800,CMS_Deviation_Detail!$B$24:$B$5800,$B38,CMS_Deviation_Detail!$C$24:$C$5800,$C38,CMS_Deviation_Detail!$D$24:$D$5800,$D38,CMS_Deviation_Detail!$J$24:$J$5800,\"Unknown Causes\"))","v":""}]
[null,{"$f":"IF(Lists!AP17=\"\",\"\",Lists!AP17)","v":""},{"$f":"IF(Lists!AQ17=\"\",\"\",Lists!AQ17)","v":""},{"$f":"IF(Lists!AR17=\"\",\"\",Lists!AR17)","v":""},{"$f":"IF(Lists!AW17=\"\",\"\",Lists!AT17)","v":""},{"$f":"IF($E39=\"\",\"\",SUMIFS(CMS_Deviation_Detail!$I$24:$I$5400,CMS_Deviation_Detail!$B$24:$B$5400,B39,CMS_Deviation_Detail!$C$24:$C$5400,C39,CMS_Deviation_Detail!$D$24:$D$5400,D39))","v":""},"",{"$f":"IF($E39=\"\",\"\",SUMIFS(CMS_Deviation_Detail!$I$24:$I$5800,CMS_Deviation_Detail!$B$24:$B$5800,$B39,CMS_Deviation_Detail!$C$24:$C$5800,$C39,CMS_Deviation_Detail!$D$24:$D$5800,$D39,CMS_Deviation_Detail!$J$24:$J$5800,\"Monitoring System Malfunctions\"))","v":""},{"$f":"IF($E39=\"\",\"\",SUMIFS(CMS_Deviation_Detail!$I$24:$I$5800,CMS_Deviation_Detail!$B$24:$B$5800,$B39,CMS_Deviation_Detail!$C$24:$C$5800,$C39,CMS_Deviation_Detail!$D$24:$D$5800,$D39,CMS_Deviation_Detail!$J$24:$J$5800,\"Nonmonitoring Equipment Malfunctions\"))","v":""},{"$f":"IF($E39=\"\",\"\",SUMIFS(CMS_Deviation_Detail!$I$24:$I$5800,CMS_Deviation_Detail!$B$24:$B$5800,$B39,CMS_Deviation_Detail!$C$24:$C$5800,$C39,CMS_Deviation_Detail!$D$24:$D$5800,$D39,CMS_Deviation_Detail!$J$24:$J$5800,\"Quality Assurance/Quality Control Calibrations\"))","v":""},{"$f":"IF($E39=\"\",\"\",SUMIFS(CMS_Deviation_Detail!$I$24:$I$5800,CMS_Deviation_Detail!$B$24:$B$5800,$B39,CMS_Deviation_Detail!$C$24:$C$5800,$C39,CMS_Deviation_Detail!$D$24:$D$5800,$D39,CMS_Deviation_Detail!$J$24:$J$5800,\"Other Known Causes\"))","v":""},{"$f":"IF($E39=\"\",\"\",SUMIFS(CMS_Deviation_Detail!$I$24:$I$5800,CMS_Deviation_Detail!$B$24:$B$5800,$B39,CMS_Deviation_Detail!$C$24:$C$5800,$C39,CMS_Deviation_Detail!$D$24:$D$5800,$D39,CMS_Deviation_Detail!$J$24:$J$5800,\"Unknown Causes\"))","v":""}]
[null,{"$f":"IF(Lists!AP18=\"\",\"\",Lists!AP18)","v":""},{"$f":"IF(Lists!AQ18=\"\",\"\",Lists!AQ18)","v":""},{"$f":"IF(Lists!AR18=\"\",\"\",Lists!AR18)","v":""},{"$f":"IF(Lists!AW18=\"\",\"\",Lists!AT18)","v":""},{"$f":"IF($E40=\"\",\"\",SUMIFS(CMS_Deviation_Detail!$I$24:$I$5400,CMS_Deviation_Detail!$B$24:$B$5400,B40,CMS_Deviation_Detail!$C$24:$C$5400,C40,CMS_Deviation_Detail!$D$24:$D$5400,D40))","v":""},"",{"$f":"IF($E40=\"\",\"\",SUMIFS(CMS_Deviation_Detail!$I$24:$I$5800,CMS_Deviation_Detail!$B$24:$B$5800,$B40,CMS_Deviation_Detail!$C$24:$C$5800,$C40,CMS_Deviation_Detail!$D$24:$D$5800,$D40,CMS_Deviation_Detail!$J$24:$J$5800,\"Monitoring System Malfunctions\"))","v":""},{"$f":"IF($E40=\"\",\"\",SUMIFS(CMS_Deviation_Detail!$I$24:$I$5800,CMS_Deviation_Detail!$B$24:$B$5800,$B40,CMS_Deviation_Detail!$C$24:$C$5800,$C40,CMS_Deviation_Detail!$D$24:$D$5800,$D40,CMS_Deviation_Detail!$J$24:$J$5800,\"Nonmonitoring Equipment Malfunctions\"))","v":""},{"$f":"IF($E40=\"\",\"\",SUMIFS(CMS_Deviation_Detail!$I$24:$I$5800,CMS_Deviation_Detail!$B$24:$B$5800,$B40,CMS_Deviation_Detail!$C$24:$C$5800,$C40,CMS_Deviation_Detail!$D$24:$D$5800,$D40,CMS_Deviation_Detail!$J$24:$J$5800,\"Quality Assurance/Quality Control Calibrations\"))","v":""},{"$f":"IF($E40=\"\",\"\",SUMIFS(CMS_Deviation_Detail!$I$24:$I$5800,CMS_Deviation_Detail!$B$24:$B$5800,$B40,CMS_Deviation_Detail!$C$24:$C$5800,$C40,CMS_Deviation_Detail!$D$24:$D$5800,$D40,CMS_Deviation_Detail!$J$24:$J$5800,\"Other Known Causes\"))","v":""},{"$f":"IF($E40=\"\",\"\",SUMIFS(CMS_Deviation_Detail!$I$24:$I$5800,CMS_Deviation_Detail!$B$24:$B$5800,$B40,CMS_Deviation_Detail!$C$24:$C$5800,$C40,CMS_Deviation_Detail!$D$24:$D$5800,$D40,CMS_Deviation_Detail!$J$24:$J$5800,\"Unknown Causes\"))","v":""}]
[null,{"$f":"IF(Lists!AP19=\"\",\"\",Lists!AP19)","v":""},{"$f":"IF(Lists!AQ19=\"\",\"\",Lists!AQ19)","v":""},{"$f":"IF(Lists!AR19=\"\",\"\",Lists!AR19)","v":""},{"$f":"IF(Lists!AW19=\"\",\"\",Lists!AT19)","v":""},{"$f":"IF($E41=\"\",\"\",SUMIFS(CMS_Deviation_Detail!$I$24:$I$5400,CMS_Deviation_Detail!$B$24:$B$5400,B41,CMS_Deviation_Detail!$C$24:$C$5400,C41,CMS_Deviation_Detail!$D$24:$D$5400,D41))","v":""},"",{"$f":"IF($E41=\"\",\"\",SUMIFS(CMS_Deviation_Detail!$I$24:$I$5800,CMS_Deviation_Detail!$B$24:$B$5800,$B41,CMS_Deviation_Detail!$C$24:$C$5800,$C41,CMS_Deviation_Detail!$D$24:$D$5800,$D41,CMS_Deviation_Detail!$J$24:$J$5800,\"Monitoring System Malfunctions\"))","v":""},{"$f":"IF($E41=\"\",\"\",SUMIFS(CMS_Deviation_Detail!$I$24:$I$5800,CMS_Deviation_Detail!$B$24:$B$5800,$B41,CMS_Deviation_Detail!$C$24:$C$5800,$C41,CMS_Deviation_Detail!$D$24:$D$5800,$D41,CMS_Deviation_Detail!$J$24:$J$5800,\"Nonmonitoring Equipment Malfunctions\"))","v":""},{"$f":"IF($E41=\"\",\"\",SUMIFS(CMS_Deviation_Detail!$I$24:$I$5800,CMS_Deviation_Detail!$B$24:$B$5800,$B41,CMS_Deviation_Detail!$C$24:$C$5800,$C41,CMS_Deviation_Detail!$D$24:$D$5800,$D41,CMS_Deviation_Detail!$J$24:$J$5800,\"Quality Assurance/Quality Control Calibrations\"))","v":""},{"$f":"IF($E41=\"\",\"\",SUMIFS(CMS_Deviation_Detail!$I$24:$I$5800,CMS_Deviation_Detail!$B$24:$B$5800,$B41,CMS_Deviation_Detail!$C$24:$C$5800,$C41,CMS_Deviation_Detail!$D$24:$D$5800,$D41,CMS_Deviation_Detail!$J$24:$J$5800,\"Other Known Causes\"))","v":""},{"$f":"IF($E41=\"\",\"\",SUMIFS(CMS_Deviation_Detail!$I$24:$I$5800,CMS_Deviation_Detail!$B$24:$B$5800,$B41,CMS_Deviation_Detail!$C$24:$C$5800,$C41,CMS_Deviation_Detail!$D$24:$D$5800,$D41,CMS_Deviation_Detail!$J$24:$J$5800,\"Unknown Causes\"))","v":""}]
[null,{"$f":"IF(Lists!AP20=\"\",\"\",Lists!AP20)","v":""},{"$f":"IF(Lists!AQ20=\"\",\"\",Lists!AQ20)","v":""},{"$f":"IF(Lists!AR20=\"\",\"\",Lists!AR20)","v":""},{"$f":"IF(Lists!AW20=\"\",\"\",Lists!AT20)","v":""},{"$f":"IF($E42=\"\",\"\",SUMIFS(CMS_Deviation_Detail!$I$24:$I$5400,CMS_Deviation_Detail!$B$24:$B$5400,B42,CMS_Deviation_Detail!$C$24:$C$5400,C42,CMS_Deviation_Detail!$D$24:$D$5400,D42))","v":""},"",{"$f":"IF($E42=\"\",\"\",SUMIFS(CMS_Deviation_Detail!$I$24:$I$5800,CMS_Deviation_Detail!$B$24:$B$5800,$B42,CMS_Deviation_Detail!$C$24:$C$5800,$C42,CMS_Deviation_Detail!$D$24:$D$5800,$D42,CMS_Deviation_Detail!$J$24:$J$5800,\"Monitoring System Malfunctions\"))","v":""},{"$f":"IF($E42=\"\",\"\",SUMIFS(CMS_Deviation_Detail!$I$24:$I$5800,CMS_Deviation_Detail!$B$24:$B$5800,$B42,CMS_Deviation_Detail!$C$24:$C$5800,$C42,CMS_Deviation_Detail!$D$24:$D$5800,$D42,CMS_Deviation_Detail!$J$24:$J$5800,\"Nonmonitoring Equipment Malfunctions\"))","v":""},{"$f":"IF($E42=\"\",\"\",SUMIFS(CMS_Deviation_Detail!$I$24:$I$5800,CMS_Deviation_Detail!$B$24:$B$5800,$B42,CMS_Deviation_Detail!$C$24:$C$5800,$C42,CMS_Deviation_Detail!$D$24:$D$5800,$D42,CMS_Deviation_Detail!$J$24:$J$5800,\"Quality Assurance/Quality Control Calibrations\"))","v":""},{"$f":"IF($E42=\"\",\"\",SUMIFS(CMS_Deviation_Detail!$I$24:$I$5800,CMS_Deviation_Detail!$B$24:$B$5800,$B42,CMS_Deviation_Detail!$C$24:$C$5800,$C42,CMS_Deviation_Detail!$D$24:$D$5800,$D42,CMS_Deviation_Detail!$J$24:$J$5800,\"Other Known Causes\"))","v":""},{"$f":"IF($E42=\"\",\"\",SUMIFS(CMS_Deviation_Detail!$I$24:$I$5800,CMS_Deviation_Detail!$B$24:$B$5800,$B42,CMS_Deviation_Detail!$C$24:$C$5800,$C42,CMS_Deviation_Detail!$D$24:$D$5800,$D42,CMS_Deviation_Detail!$J$24:$J$5800,\"Unknown Causes\"))","v":""}]
[null,{"$f":"IF(Lists!AP21=\"\",\"\",Lists!AP21)","v":""},{"$f":"IF(Lists!AQ21=\"\",\"\",Lists!AQ21)","v":""},{"$f":"IF(Lists!AR21=\"\",\"\",Lists!AR21)","v":""},{"$f":"IF(Lists!AW21=\"\",\"\",Lists!AT21)","v":""},{"$f":"IF($E43=\"\",\"\",SUMIFS(CMS_Deviation_Detail!$I$24:$I$5400,CMS_Deviation_Detail!$B$24:$B$5400,B43,CMS_Deviation_Detail!$C$24:$C$5400,C43,CMS_Deviation_Detail!$D$24:$D$5400,D43))","v":""},"",{"$f":"IF($E43=\"\",\"\",SUMIFS(CMS_Deviation_Detail!$I$24:$I$5800,CMS_Deviation_Detail!$B$24:$B$5800,$B43,CMS_Deviation_Detail!$C$24:$C$5800,$C43,CMS_Deviation_Detail!$D$24:$D$5800,$D43,CMS_Deviation_Detail!$J$24:$J$5800,\"Monitoring System Malfunctions\"))","v":""},{"$f":"IF($E43=\"\",\"\",SUMIFS(CMS_Deviation_Detail!$I$24:$I$5800,CMS_Deviation_Detail!$B$24:$B$5800,$B43,CMS_Deviation_Detail!$C$24:$C$5800,$C43,CMS_Deviation_Detail!$D$24:$D$5800,$D43,CMS_Deviation_Detail!$J$24:$J$5800,\"Nonmonitoring Equipment Malfunctions\"))","v":""},{"$f":"IF($E43=\"\",\"\",SUMIFS(CMS_Deviation_Detail!$I$24:$I$5800,CMS_Deviation_Detail!$B$24:$B$5800,$B43,CMS_Deviation_Detail!$C$24:$C$5800,$C43,CMS_Deviation_Detail!$D$24:$D$5800,$D43,CMS_Deviation_Detail!$J$24:$J$5800,\"Quality Assurance/Quality Control Calibrations\"))","v":""},{"$f":"IF($E43=\"\",\"\",SUMIFS(CMS_Deviation_Detail!$I$24:$I$5800,CMS_Deviation_Detail!$B$24:$B$5800,$B43,CMS_Deviation_Detail!$C$24:$C$5800,$C43,CMS_Deviation_Detail!$D$24:$D$5800,$D43,CMS_Deviation_Detail!$J$24:$J$5800,\"Other Known Causes\"))","v":""},{"$f":"IF($E43=\"\",\"\",SUMIFS(CMS_Deviation_Detail!$I$24:$I$5800,CMS_Deviation_Detail!$B$24:$B$5800,$B43,CMS_Deviation_Detail!$C$24:$C$5800,$C43,CMS_Deviation_Detail!$D$24:$D$5800,$D43,CMS_Deviation_Detail!$J$24:$J$5800,\"Unknown Causes\"))","v":""}]
[null,{"$f":"IF(Lists!AP22=\"\",\"\",Lists!AP22)","v":""},{"$f":"IF(Lists!AQ22=\"\",\"\",Lists!AQ22)","v":""},{"$f":"IF(Lists!AR22=\"\",\"\",Lists!AR22)","v":""},{"$f":"IF(Lists!AW22=\"\",\"\",Lists!AT22)","v":""},{"$f":"IF($E44=\"\",\"\",SUMIFS(CMS_Deviation_Detail!$I$24:$I$5400,CMS_Deviation_Detail!$B$24:$B$5400,B44,CMS_Deviation_Detail!$C$24:$C$5400,C44,CMS_Deviation_Detail!$D$24:$D$5400,D44))","v":""},"",{"$f":"IF($E44=\"\",\"\",SUMIFS(CMS_Deviation_Detail!$I$24:$I$5800,CMS_Deviation_Detail!$B$24:$B$5800,$B44,CMS_Deviation_Detail!$C$24:$C$5800,$C44,CMS_Deviation_Detail!$D$24:$D$5800,$D44,CMS_Deviation_Detail!$J$24:$J$5800,\"Monitoring System Malfunctions\"))","v":""},{"$f":"IF($E44=\"\",\"\",SUMIFS(CMS_Deviation_Detail!$I$24:$I$5800,CMS_Deviation_Detail!$B$24:$B$5800,$B44,CMS_Deviation_Detail!$C$24:$C$5800,$C44,CMS_Deviation_Detail!$D$24:$D$5800,$D44,CMS_Deviation_Detail!$J$24:$J$5800,\"Nonmonitoring Equipment Malfunctions\"))","v":""},{"$f":"IF($E44=\"\",\"\",SUMIFS(CMS_Deviation_Detail!$I$24:$I$5800,CMS_Deviation_Detail!$B$24:$B$5800,$B44,CMS_Deviation_Detail!$C$24:$C$5800,$C44,CMS_Deviation_Detail!$D$24:$D$5800,$D44,CMS_Deviation_Detail!$J$24:$J$5800,\"Quality Assurance/Quality Control Calibrations\"))","v":""},{"$f":"IF($E44=\"\",\"\",SUMIFS(CMS_Deviation_Detail!$I$24:$I$5800,CMS_Deviation_Detail!$B$24:$B$5800,$B44,CMS_Deviation_Detail!$C$24:$C$5800,$C44,CMS_Deviation_Detail!$D$24:$D$5800,$D44,CMS_Deviation_Detail!$J$24:$J$5800,\"Other Known Causes\"))","v":""},{"$f":"IF($E44=\"\",\"\",SUMIFS(CMS_Deviation_Detail!$I$24:$I$5800,CMS_Deviation_Detail!$B$24:$B$5800,$B44,CMS_Deviation_Detail!$C$24:$C$5800,$C44,CMS_Deviation_Detail!$D$24:$D$5800,$D44,CMS_Deviation_Detail!$J$24:$J$5800,\"Unknown Causes\"))","v":""}]
[null,{"$f":"IF(Lists!AP23=\"\",\"\",Lists!AP23)","v":""},{"$f":"IF(Lists!AQ23=\"\",\"\",Lists!AQ23)","v":""},{"$f":"IF(Lists!AR23=\"\",\"\",Lists!AR23)","v":""},{"$f":"IF(Lists!AW23=\"\",\"\",Lists!AT23)","v":""},{"$f":"IF($E45=\"\",\"\",SUMIFS(CMS_Deviation_Detail!$I$24:$I$5400,CMS_Deviation_Detail!$B$24:$B$5400,B45,CMS_Deviation_Detail!$C$24:$C$5400,C45,CMS_Deviation_Detail!$D$24:$D$5400,D45))","v":""},"",{"$f":"IF($E45=\"\",\"\",SUMIFS(CMS_Deviation_Detail!$I$24:$I$5800,CMS_Deviation_Detail!$B$24:$B$5800,$B45,CMS_Deviation_Detail!$C$24:$C$5800,$C45,CMS_Deviation_Detail!$D$24:$D$5800,$D45,CMS_Deviation_Detail!$J$24:$J$5800,\"Monitoring System Malfunctions\"))","v":""},{"$f":"IF($E45=\"\",\"\",SUMIFS(CMS_Deviation_Detail!$I$24:$I$5800,CMS_Deviation_Detail!$B$24:$B$5800,$B45,CMS_Deviation_Detail!$C$24:$C$5800,$C45,CMS_Deviation_Detail!$D$24:$D$5800,$D45,CMS_Deviation_Detail!$J$24:$J$5800,\"Nonmonitoring Equipment Malfunctions\"))","v":""},{"$f":"IF($E45=\"\",\"\",SUMIFS(CMS_Deviation_Detail!$I$24:$I$5800,CMS_Deviation_Detail!$B$24:$B$5800,$B45,CMS_Deviation_Detail!$C$24:$C$5800,$C45,CMS_Deviation_Detail!$D$24:$D$5800,$D45,CMS_Deviation_Detail!$J$24:$J$5800,\"Quality Assurance/Quality Control Calibrations\"))","v":""},{"$f":"IF($E45=\"\",\"\",SUMIFS(CMS_Deviation_Detail!$I$24:$I$5800,CMS_Deviation_Detail!$B$24:$B$5800,$B45,CMS_Deviation_Detail!$C$24:$C$5800,$C45,CMS_Deviation_Detail!$D$24:$D$5800,$D45,CMS_Deviation_Detail!$J$24:$J$5800,\"Other Known Causes\"))","v":""},{"$f":"IF($E45=\"\",\"\",SUMIFS(CMS_Deviation_Detail!$I$24:$I$5800,CMS_Deviation_Detail!$B$24:$B$5800,$B45,CMS_Deviation_Detail!$C$24:$C$5800,$C45,CMS_Deviation_Detail!$D$24:$D$5800,$D45,CMS_Deviation_Detail!$J$24:$J$5800,\"Unknown Causes\"))","v":""}]
[null,{"$f":"IF(Lists!AP24=\"\",\"\",Lists!AP24)","v":""},{"$f":"IF(Lists!AQ24=\"\",\"\",Lists!AQ24)","v":""},{"$f":"IF(Lists!AR24=\"\",\"\",Lists!AR24)","v":""},{"$f":"IF(Lists!AW24=\"\",\"\",Lists!AT24)","v":""},{"$f":"IF($E46=\"\",\"\",SUMIFS(CMS_Deviation_Detail!$I$24:$I$5400,CMS_Deviation_Detail!$B$24:$B$5400,B46,CMS_Deviation_Detail!$C$24:$C$5400,C46,CMS_Deviation_Detail!$D$24:$D$5400,D46))","v":""},"",{"$f":"IF($E46=\"\",\"\",SUMIFS(CMS_Deviation_Detail!$I$24:$I$5800,CMS_Deviation_Detail!$B$24:$B$5800,$B46,CMS_Deviation_Detail!$C$24:$C$5800,$C46,CMS_Deviation_Detail!$D$24:$D$5800,$D46,CMS_Deviation_Detail!$J$24:$J$5800,\"Monitoring System Malfunctions\"))","v":""},{"$f":"IF($E46=\"\",\"\",SUMIFS(CMS_Deviation_Detail!$I$24:$I$5800,CMS_Deviation_Detail!$B$24:$B$5800,$B46,CMS_Deviation_Detail!$C$24:$C$5800,$C46,CMS_Deviation_Detail!$D$24:$D$5800,$D46,CMS_Deviation_Detail!$J$24:$J$5800,\"Nonmonitoring Equipment Malfunctions\"))","v":""},{"$f":"IF($E46=\"\",\"\",SUMIFS(CMS_Deviation_Detail!$I$24:$I$5800,CMS_Deviation_Detail!$B$24:$B$5800,$B46,CMS_Deviation_Detail!$C$24:$C$5800,$C46,CMS_Deviation_Detail!$D$24:$D$5800,$D46,CMS_Deviation_Detail!$J$24:$J$5800,\"Quality Assurance/Quality Control Calibrations\"))","v":""},{"$f":"IF($E46=\"\",\"\",SUMIFS(CMS_Deviation_Detail!$I$24:$I$5800,CMS_Deviation_Detail!$B$24:$B$5800,$B46,CMS_Deviation_Detail!$C$24:$C$5800,$C46,CMS_Deviation_Detail!$D$24:$D$5800,$D46,CMS_Deviation_Detail!$J$24:$J$5800,\"Other Known Causes\"))","v":""},{"$f":"IF($E46=\"\",\"\",SUMIFS(CMS_Deviation_Detail!$I$24:$I$5800,CMS_Deviation_Detail!$B$24:$B$5800,$B46,CMS_Deviation_Detail!$C$24:$C$5800,$C46,CMS_Deviation_Detail!$D$24:$D$5800,$D46,CMS_Deviation_Detail!$J$24:$J$5800,\"Unknown Causes\"))","v":""}]
[null,{"$f":"IF(Lists!AP25=\"\",\"\",Lists!AP25)","v":""},{"$f":"IF(Lists!AQ25=\"\",\"\",Lists!AQ25)","v":""},{"$f":"IF(Lists!AR25=\"\",\"\",Lists!AR25)","v":""},{"$f":"IF(Lists!AW25=\"\",\"\",Lists!AT25)","v":""},{"$f":"IF($E47=\"\",\"\",SUMIFS(CMS_Deviation_Detail!$I$24:$I$5400,CMS_Deviation_Detail!$B$24:$B$5400,B47,CMS_Deviation_Detail!$C$24:$C$5400,C47,CMS_Deviation_Detail!$D$24:$D$5400,D47))","v":""},"",{"$f":"IF($E47=\"\",\"\",SUMIFS(CMS_Deviation_Detail!$I$24:$I$5800,CMS_Deviation_Detail!$B$24:$B$5800,$B47,CMS_Deviation_Detail!$C$24:$C$5800,$C47,CMS_Deviation_Detail!$D$24:$D$5800,$D47,CMS_Deviation_Detail!$J$24:$J$5800,\"Monitoring System Malfunctions\"))","v":""},{"$f":"IF($E47=\"\",\"\",SUMIFS(CMS_Deviation_Detail!$I$24:$I$5800,CMS_Deviation_Detail!$B$24:$B$5800,$B47,CMS_Deviation_Detail!$C$24:$C$5800,$C47,CMS_Deviation_Detail!$D$24:$D$5800,$D47,CMS_Deviation_Detail!$J$24:$J$5800,\"Nonmonitoring Equipment Malfunctions\"))","v":""},{"$f":"IF($E47=\"\",\"\",SUMIFS(CMS_Deviation_Detail!$I$24:$I$5800,CMS_Deviation_Detail!$B$24:$B$5800,$B47,CMS_Deviation_Detail!$C$24:$C$5800,$C47,CMS_Deviation_Detail!$D$24:$D$5800,$D47,CMS_Deviation_Detail!$J$24:$J$5800,\"Quality Assurance/Quality Control Calibrations\"))","v":""},{"$f":"IF($E47=\"\",\"\",SUMIFS(CMS_Deviation_Detail!$I$24:$I$5800,CMS_Deviation_Detail!$B$24:$B$5800,$B47,CMS_Deviation_Detail!$C$24:$C$5800,$C47,CMS_Deviation_Detail!$D$24:$D$5800,$D47,CMS_Deviation_Detail!$J$24:$J$5800,\"Other Known Causes\"))","v":""},{"$f":"IF($E47=\"\",\"\",SUMIFS(CMS_Deviation_Detail!$I$24:$I$5800,CMS_Deviation_Detail!$B$24:$B$5800,$B47,CMS_Deviation_Detail!$C$24:$C$5800,$C47,CMS_Deviation_Detail!$D$24:$D$5800,$D47,CMS_Deviation_Detail!$J$24:$J$5800,\"Unknown Causes\"))","v":""}]
[null,{"$f":"IF(Lists!AP26=\"\",\"\",Lists!AP26)","v":""},{"$f":"IF(Lists!AQ26=\"\",\"\",Lists!AQ26)","v":""},{"$f":"IF(Lists!AR26=\"\",\"\",Lists!AR26)","v":""},{"$f":"IF(Lists!AW26=\"\",\"\",Lists!AT26)","v":""},{"$f":"IF($E48=\"\",\"\",SUMIFS(CMS_Deviation_Detail!$I$24:$I$5400,CMS_Deviation_Detail!$B$24:$B$5400,B48,CMS_Deviation_Detail!$C$24:$C$5400,C48,CMS_Deviation_Detail!$D$24:$D$5400,D48))","v":""},"",{"$f":"IF($E48=\"\",\"\",SUMIFS(CMS_Deviation_Detail!$I$24:$I$5800,CMS_Deviation_Detail!$B$24:$B$5800,$B48,CMS_Deviation_Detail!$C$24:$C$5800,$C48,CMS_Deviation_Detail!$D$24:$D$5800,$D48,CMS_Deviation_Detail!$J$24:$J$5800,\"Monitoring System Malfunctions\"))","v":""},{"$f":"IF($E48=\"\",\"\",SUMIFS(CMS_Deviation_Detail!$I$24:$I$5800,CMS_Deviation_Detail!$B$24:$B$5800,$B48,CMS_Deviation_Detail!$C$24:$C$5800,$C48,CMS_Deviation_Detail!$D$24:$D$5800,$D48,CMS_Deviation_Detail!$J$24:$J$5800,\"Nonmonitoring Equipment Malfunctions\"))","v":""},{"$f":"IF($E48=\"\",\"\",SUMIFS(CMS_Deviation_Detail!$I$24:$I$5800,CMS_Deviation_Detail!$B$24:$B$5800,$B48,CMS_Deviation_Detail!$C$24:$C$5800,$C48,CMS_Deviation_Detail!$D$24:$D$5800,$D48,CMS_Deviation_Detail!$J$24:$J$5800,\"Quality Assurance/Quality Control Calibrations\"))","v":""},{"$f":"IF($E48=\"\",\"\",SUMIFS(CMS_Deviation_Detail!$I$24:$I$5800,CMS_Deviation_Detail!$B$24:$B$5800,$B48,CMS_Deviation_Detail!$C$24:$C$5800,$C48,CMS_Deviation_Detail!$D$24:$D$5800,$D48,CMS_Deviation_Detail!$J$24:$J$5800,\"Other Known Causes\"))","v":""},{"$f":"IF($E48=\"\",\"\",SUMIFS(CMS_Deviation_Detail!$I$24:$I$5800,CMS_Deviation_Detail!$B$24:$B$5800,$B48,CMS_Deviation_Detail!$C$24:$C$5800,$C48,CMS_Deviation_Detail!$D$24:$D$5800,$D48,CMS_Deviation_Detail!$J$24:$J$5800,\"Unknown Causes\"))","v":""}]
[null,{"$f":"IF(Lists!AP27=\"\",\"\",Lists!AP27)","v":""},{"$f":"IF(Lists!AQ27=\"\",\"\",Lists!AQ27)","v":""},{"$f":"IF(Lists!AR27=\"\",\"\",Lists!AR27)","v":""},{"$f":"IF(Lists!AW27=\"\",\"\",Lists!AT27)","v":""},{"$f":"IF($E49=\"\",\"\",SUMIFS(CMS_Deviation_Detail!$I$24:$I$5400,CMS_Deviation_Detail!$B$24:$B$5400,B49,CMS_Deviation_Detail!$C$24:$C$5400,C49,CMS_Deviation_Detail!$D$24:$D$5400,D49))","v":""},"",{"$f":"IF($E49=\"\",\"\",SUMIFS(CMS_Deviation_Detail!$I$24:$I$5800,CMS_Deviation_Detail!$B$24:$B$5800,$B49,CMS_Deviation_Detail!$C$24:$C$5800,$C49,CMS_Deviation_Detail!$D$24:$D$5800,$D49,CMS_Deviation_Detail!$J$24:$J$5800,\"Monitoring System Malfunctions\"))","v":""},{"$f":"IF($E49=\"\",\"\",SUMIFS(CMS_Deviation_Detail!$I$24:$I$5800,CMS_Deviation_Detail!$B$24:$B$5800,$B49,CMS_Deviation_Detail!$C$24:$C$5800,$C49,CMS_Deviation_Detail!$D$24:$D$5800,$D49,CMS_Deviation_Detail!$J$24:$J$5800,\"Nonmonitoring Equipment Malfunctions\"))","v":""},{"$f":"IF($E49=\"\",\"\",SUMIFS(CMS_Deviation_Detail!$I$24:$I$5800,CMS_Deviation_Detail!$B$24:$B$5800,$B49,CMS_Deviation_Detail!$C$24:$C$5800,$C49,CMS_Deviation_Detail!$D$24:$D$5800,$D49,CMS_Deviation_Detail!$J$24:$J$5800,\"Quality Assurance/Quality Control Calibrations\"))","v":""},{"$f":"IF($E49=\"\",\"\",SUMIFS(CMS_Deviation_Detail!$I$24:$I$5800,CMS_Deviation_Detail!$B$24:$B$5800,$B49,CMS_Deviation_Detail!$C$24:$C$5800,$C49,CMS_Deviation_Detail!$D$24:$D$5800,$D49,CMS_Deviation_Detail!$J$24:$J$5800,\"Other Known Causes\"))","v":""},{"$f":"IF($E49=\"\",\"\",SUMIFS(CMS_Deviation_Detail!$I$24:$I$5800,CMS_Deviation_Detail!$B$24:$B$5800,$B49,CMS_Deviation_Detail!$C$24:$C$5800,$C49,CMS_Deviation_Detail!$D$24:$D$5800,$D49,CMS_Deviation_Detail!$J$24:$J$5800,\"Unknown Causes\"))","v":""}]
[null,{"$f":"IF(Lists!AP28=\"\",\"\",Lists!AP28)","v":""},{"$f":"IF(Lists!AQ28=\"\",\"\",Lists!AQ28)","v":""},{"$f":"IF(Lists!AR28=\"\",\"\",Lists!AR28)","v":""},{"$f":"IF(Lists!AW28=\"\",\"\",Lists!AT28)","v":""},{"$f":"IF($E50=\"\",\"\",SUMIFS(CMS_Deviation_Detail!$I$24:$I$5400,CMS_Deviation_Detail!$B$24:$B$5400,B50,CMS_Deviation_Detail!$C$24:$C$5400,C50,CMS_Deviation_Detail!$D$24:$D$5400,D50))","v":""},"",{"$f":"IF($E50=\"\",\"\",SUMIFS(CMS_Deviation_Detail!$I$24:$I$5800,CMS_Deviation_Detail!$B$24:$B$5800,$B50,CMS_Deviation_Detail!$C$24:$C$5800,$C50,CMS_Deviation_Detail!$D$24:$D$5800,$D50,CMS_Deviation_Detail!$J$24:$J$5800,\"Monitoring System Malfunctions\"))","v":""},{"$f":"IF($E50=\"\",\"\",SUMIFS(CMS_Deviation_Detail!$I$24:$I$5800,CMS_Deviation_Detail!$B$24:$B$5800,$B50,CMS_Deviation_Detail!$C$24:$C$5800,$C50,CMS_Deviation_Detail!$D$24:$D$5800,$D50,CMS_Deviation_Detail!$J$24:$J$5800,\"Nonmonitoring Equipment Malfunctions\"))","v":""},{"$f":"IF($E50=\"\",\"\",SUMIFS(CMS_Deviation_Detail!$I$24:$I$5800,CMS_Deviation_Detail!$B$24:$B$5800,$B50,CMS_Deviation_Detail!$C$24:$C$5800,$C50,CMS_Deviation_Detail!$D$24:$D$5800,$D50,CMS_Deviation_Detail!$J$24:$J$5800,\"Quality Assurance/Quality Control Calibrations\"))","v":""},{"$f":"IF($E50=\"\",\"\",SUMIFS(CMS_Deviation_Detail!$I$24:$I$5800,CMS_Deviation_Detail!$B$24:$B$5800,$B50,CMS_Deviation_Detail!$C$24:$C$5800,$C50,CMS_Deviation_Detail!$D$24:$D$5800,$D50,CMS_Deviation_Detail!$J$24:$J$5800,\"Other Known Causes\"))","v":""},{"$f":"IF($E50=\"\",\"\",SUMIFS(CMS_Deviation_Detail!$I$24:$I$5800,CMS_Deviation_Detail!$B$24:$B$5800,$B50,CMS_Deviation_Detail!$C$24:$C$5800,$C50,CMS_Deviation_Detail!$D$24:$D$5800,$D50,CMS_Deviation_Detail!$J$24:$J$5800,\"Unknown Causes\"))","v":""}]
[null,{"$f":"IF(Lists!AP29=\"\",\"\",Lists!AP29)","v":""},{"$f":"IF(Lists!AQ29=\"\",\"\",Lists!AQ29)","v":""},{"$f":"IF(Lists!AR29=\"\",\"\",Lists!AR29)","v":""},{"$f":"IF(Lists!AW29=\"\",\"\",Lists!AT29)","v":""},{"$f":"IF($E51=\"\",\"\",SUMIFS(CMS_Deviation_Detail!$I$24:$I$5400,CMS_Deviation_Detail!$B$24:$B$5400,B51,CMS_Deviation_Detail!$C$24:$C$5400,C51,CMS_Deviation_Detail!$D$24:$D$5400,D51))","v":""},"",{"$f":"IF($E51=\"\",\"\",SUMIFS(CMS_Deviation_Detail!$I$24:$I$5800,CMS_Deviation_Detail!$B$24:$B$5800,$B51,CMS_Deviation_Detail!$C$24:$C$5800,$C51,CMS_Deviation_Detail!$D$24:$D$5800,$D51,CMS_Deviation_Detail!$J$24:$J$5800,\"Monitoring System Malfunctions\"))","v":""},{"$f":"IF($E51=\"\",\"\",SUMIFS(CMS_Deviation_Detail!$I$24:$I$5800,CMS_Deviation_Detail!$B$24:$B$5800,$B51,CMS_Deviation_Detail!$C$24:$C$5800,$C51,CMS_Deviation_Detail!$D$24:$D$5800,$D51,CMS_Deviation_Detail!$J$24:$J$5800,\"Nonmonitoring Equipment Malfunctions\"))","v":""},{"$f":"IF($E51=\"\",\"\",SUMIFS(CMS_Deviation_Detail!$I$24:$I$5800,CMS_Deviation_Detail!$B$24:$B$5800,$B51,CMS_Deviation_Detail!$C$24:$C$5800,$C51,CMS_Deviation_Detail!$D$24:$D$5800,$D51,CMS_Deviation_Detail!$J$24:$J$5800,\"Quality Assurance/Quality Control Calibrations\"))","v":""},{"$f":"IF($E51=\"\",\"\",SUMIFS(CMS_Deviation_Detail!$I$24:$I$5800,CMS_Deviation_Detail!$B$24:$B$5800,$B51,CMS_Deviation_Detail!$C$24:$C$5800,$C51,CMS_Deviation_Detail!$D$24:$D$5800,$D51,CMS_Deviation_Detail!$J$24:$J$5800,\"Other Known Causes\"))","v":""},{"$f":"IF($E51=\"\",\"\",SUMIFS(CMS_Deviation_Detail!$I$24:$I$5800,CMS_Deviation_Detail!$B$24:$B$5800,$B51,CMS_Deviation_Detail!$C$24:$C$5800,$C51,CMS_Deviation_Detail!$D$24:$D$5800,$D51,CMS_Deviation_Detail!$J$24:$J$5800,\"Unknown Causes\"))","v":""}]
[null,{"$f":"IF(Lists!AP30=\"\",\"\",Lists!AP30)","v":""},{"$f":"IF(Lists!AQ30=\"\",\"\",Lists!AQ30)","v":""},{"$f":"IF(Lists!AR30=\"\",\"\",Lists!AR30)","v":""},{"$f":"IF(Lists!AW30=\"\",\"\",Lists!AT30)","v":""},{"$f":"IF($E52=\"\",\"\",SUMIFS(CMS_Deviation_Detail!$I$24:$I$5400,CMS_Deviation_Detail!$B$24:$B$5400,B52,CMS_Deviation_Detail!$C$24:$C$5400,C52,CMS_Deviation_Detail!$D$24:$D$5400,D52))","v":""},"",{"$f":"IF($E52=\"\",\"\",SUMIFS(CMS_Deviation_Detail!$I$24:$I$5800,CMS_Deviation_Detail!$B$24:$B$5800,$B52,CMS_Deviation_Detail!$C$24:$C$5800,$C52,CMS_Deviation_Detail!$D$24:$D$5800,$D52,CMS_Deviation_Detail!$J$24:$J$5800,\"Monitoring System Malfunctions\"))","v":""},{"$f":"IF($E52=\"\",\"\",SUMIFS(CMS_Deviation_Detail!$I$24:$I$5800,CMS_Deviation_Detail!$B$24:$B$5800,$B52,CMS_Deviation_Detail!$C$24:$C$5800,$C52,CMS_Deviation_Detail!$D$24:$D$5800,$D52,CMS_Deviation_Detail!$J$24:$J$5800,\"Nonmonitoring Equipment Malfunctions\"))","v":""},{"$f":"IF($E52=\"\",\"\",SUMIFS(CMS_Deviation_Detail!$I$24:$I$5800,CMS_Deviation_Detail!$B$24:$B$5800,$B52,CMS_Deviation_Detail!$C$24:$C$5800,$C52,CMS_Deviation_Detail!$D$24:$D$5800,$D52,CMS_Deviation_Detail!$J$24:$J$5800,\"Quality Assurance/Quality Control Calibrations\"))","v":""},{"$f":"IF($E52=\"\",\"\",SUMIFS(CMS_Deviation_Detail!$I$24:$I$5800,CMS_Deviation_Detail!$B$24:$B$5800,$B52,CMS_Deviation_Detail!$C$24:$C$5800,$C52,CMS_Deviation_Detail!$D$24:$D$5800,$D52,CMS_Deviation_Detail!$J$24:$J$5800,\"Other Known Causes\"))","v":""},{"$f":"IF($E52=\"\",\"\",SUMIFS(CMS_Deviation_Detail!$I$24:$I$5800,CMS_Deviation_Detail!$B$24:$B$5800,$B52,CMS_Deviation_Detail!$C$24:$C$5800,$C52,CMS_Deviation_Detail!$D$24:$D$5800,$D52,CMS_Deviation_Detail!$J$24:$J$5800,\"Unknown Causes\"))","v":""}]
[null,{"$f":"IF(Lists!AP31=\"\",\"\",Lists!AP31)","v":""},{"$f":"IF(Lists!AQ31=\"\",\"\",Lists!AQ31)","v":""},{"$f":"IF(Lists!AR31=\"\",\"\",Lists!AR31)","v":""},{"$f":"IF(Lists!AW31=\"\",\"\",Lists!AT31)","v":""},{"$f":"IF($E53=\"\",\"\",SUMIFS(CMS_Deviation_Detail!$I$24:$I$5400,CMS_Deviation_Detail!$B$24:$B$5400,B53,CMS_Deviation_Detail!$C$24:$C$5400,C53,CMS_Deviation_Detail!$D$24:$D$5400,D53))","v":""},"",{"$f":"IF($E53=\"\",\"\",SUMIFS(CMS_Deviation_Detail!$I$24:$I$5800,CMS_Deviation_Detail!$B$24:$B$5800,$B53,CMS_Deviation_Detail!$C$24:$C$5800,$C53,CMS_Deviation_Detail!$D$24:$D$5800,$D53,CMS_Deviation_Detail!$J$24:$J$5800,\"Monitoring System Malfunctions\"))","v":""},{"$f":"IF($E53=\"\",\"\",SUMIFS(CMS_Deviation_Detail!$I$24:$I$5800,CMS_Deviation_Detail!$B$24:$B$5800,$B53,CMS_Deviation_Detail!$C$24:$C$5800,$C53,CMS_Deviation_Detail!$D$24:$D$5800,$D53,CMS_Deviation_Detail!$J$24:$J$5800,\"Nonmonitoring Equipment Malfunctions\"))","v":""},{"$f":"IF($E53=\"\",\"\",SUMIFS(CMS_Deviation_Detail!$I$24:$I$5800,CMS_Deviation_Detail!$B$24:$B$5800,$B53,CMS_Deviation_Detail!$C$24:$C$5800,$C53,CMS_Deviation_Detail!$D$24:$D$5800,$D53,CMS_Deviation_Detail!$J$24:$J$5800,\"Quality Assurance/Quality Control Calibrations\"))","v":""},{"$f":"IF($E53=\"\",\"\",SUMIFS(CMS_Deviation_Detail!$I$24:$I$5800,CMS_Deviation_Detail!$B$24:$B$5800,$B53,CMS_Deviation_Detail!$C$24:$C$5800,$C53,CMS_Deviation_Detail!$D$24:$D$5800,$D53,CMS_Deviation_Detail!$J$24:$J$5800,\"Other Known Causes\"))","v":""},{"$f":"IF($E53=\"\",\"\",SUMIFS(CMS_Deviation_Detail!$I$24:$I$5800,CMS_Deviation_Detail!$B$24:$B$5800,$B53,CMS_Deviation_Detail!$C$24:$C$5800,$C53,CMS_Deviation_Detail!$D$24:$D$5800,$D53,CMS_Deviation_Detail!$J$24:$J$5800,\"Unknown Causes\"))","v":""}]
[null,{"$f":"IF(Lists!AP32=\"\",\"\",Lists!AP32)","v":""},{"$f":"IF(Lists!AQ32=\"\",\"\",Lists!AQ32)","v":""},{"$f":"IF(Lists!AR32=\"\",\"\",Lists!AR32)","v":""},{"$f":"IF(Lists!AW32=\"\",\"\",Lists!AT32)","v":""},{"$f":"IF($E54=\"\",\"\",SUMIFS(CMS_Deviation_Detail!$I$24:$I$5400,CMS_Deviation_Detail!$B$24:$B$5400,B54,CMS_Deviation_Detail!$C$24:$C$5400,C54,CMS_Deviation_Detail!$D$24:$D$5400,D54))","v":""},"",{"$f":"IF($E54=\"\",\"\",SUMIFS(CMS_Deviation_Detail!$I$24:$I$5800,CMS_Deviation_Detail!$B$24:$B$5800,$B54,CMS_Deviation_Detail!$C$24:$C$5800,$C54,CMS_Deviation_Detail!$D$24:$D$5800,$D54,CMS_Deviation_Detail!$J$24:$J$5800,\"Monitoring System Malfunctions\"))","v":""},{"$f":"IF($E54=\"\",\"\",SUMIFS(CMS_Deviation_Detail!$I$24:$I$5800,CMS_Deviation_Detail!$B$24:$B$5800,$B54,CMS_Deviation_Detail!$C$24:$C$5800,$C54,CMS_Deviation_Detail!$D$24:$D$5800,$D54,CMS_Deviation_Detail!$J$24:$J$5800,\"Nonmonitoring Equipment Malfunctions\"))","v":""},{"$f":"IF($E54=\"\",\"\",SUMIFS(CMS_Deviation_Detail!$I$24:$I$5800,CMS_Deviation_Detail!$B$24:$B$5800,$B54,CMS_Deviation_Detail!$C$24:$C$5800,$C54,CMS_Deviation_Detail!$D$24:$D$5800,$D54,CMS_Deviation_Detail!$J$24:$J$5800,\"Quality Assurance/Quality Control Calibrations\"))","v":""},{"$f":"IF($E54=\"\",\"\",SUMIFS(CMS_Deviation_Detail!$I$24:$I$5800,CMS_Deviation_Detail!$B$24:$B$5800,$B54,CMS_Deviation_Detail!$C$24:$C$5800,$C54,CMS_Deviation_Detail!$D$24:$D$5800,$D54,CMS_Deviation_Detail!$J$24:$J$5800,\"Other Known Causes\"))","v":""},{"$f":"IF($E54=\"\",\"\",SUMIFS(CMS_Deviation_Detail!$I$24:$I$5800,CMS_Deviation_Detail!$B$24:$B$5800,$B54,CMS_Deviation_Detail!$C$24:$C$5800,$C54,CMS_Deviation_Detail!$D$24:$D$5800,$D54,CMS_Deviation_Detail!$J$24:$J$5800,\"Unknown Causes\"))","v":""}]
[null,{"$f":"IF(Lists!AP33=\"\",\"\",Lists!AP33)","v":""},{"$f":"IF(Lists!AQ33=\"\",\"\",Lists!AQ33)","v":""},{"$f":"IF(Lists!AR33=\"\",\"\",Lists!AR33)","v":""},{"$f":"IF(Lists!AW33=\"\",\"\",Lists!AT33)","v":""},{"$f":"IF($E55=\"\",\"\",SUMIFS(CMS_Deviation_Detail!$I$24:$I$5400,CMS_Deviation_Detail!$B$24:$B$5400,B55,CMS_Deviation_Detail!$C$24:$C$5400,C55,CMS_Deviation_Detail!$D$24:$D$5400,D55))","v":""},"",{"$f":"IF($E55=\"\",\"\",SUMIFS(CMS_Deviation_Detail!$I$24:$I$5800,CMS_Deviation_Detail!$B$24:$B$5800,$B55,CMS_Deviation_Detail!$C$24:$C$5800,$C55,CMS_Deviation_Detail!$D$24:$D$5800,$D55,CMS_Deviation_Detail!$J$24:$J$5800,\"Monitoring System Malfunctions\"))","v":""},{"$f":"IF($E55=\"\",\"\",SUMIFS(CMS_Deviation_Detail!$I$24:$I$5800,CMS_Deviation_Detail!$B$24:$B$5800,$B55,CMS_Deviation_Detail!$C$24:$C$5800,$C55,CMS_Deviation_Detail!$D$24:$D$5800,$D55,CMS_Deviation_Detail!$J$24:$J$5800,\"Nonmonitoring Equipment Malfunctions\"))","v":""},{"$f":"IF($E55=\"\",\"\",SUMIFS(CMS_Deviation_Detail!$I$24:$I$5800,CMS_Deviation_Detail!$B$24:$B$5800,$B55,CMS_Deviation_Detail!$C$24:$C$5800,$C55,CMS_Deviation_Detail!$D$24:$D$5800,$D55,CMS_Deviation_Detail!$J$24:$J$5800,\"Quality Assurance/Quality Control Calibrations\"))","v":""},{"$f":"IF($E55=\"\",\"\",SUMIFS(CMS_Deviation_Detail!$I$24:$I$5800,CMS_Deviation_Detail!$B$24:$B$5800,$B55,CMS_Deviation_Detail!$C$24:$C$5800,$C55,CMS_Deviation_Detail!$D$24:$D$5800,$D55,CMS_Deviation_Detail!$J$24:$J$5800,\"Other Known Causes\"))","v":""},{"$f":"IF($E55=\"\",\"\",SUMIFS(CMS_Deviation_Detail!$I$24:$I$5800,CMS_Deviation_Detail!$B$24:$B$5800,$B55,CMS_Deviation_Detail!$C$24:$C$5800,$C55,CMS_Deviation_Detail!$D$24:$D$5800,$D55,CMS_Deviation_Detail!$J$24:$J$5800,\"Unknown Causes\"))","v":""}]
[null,{"$f":"IF(Lists!AP34=\"\",\"\",Lists!AP34)","v":""},{"$f":"IF(Lists!AQ34=\"\",\"\",Lists!AQ34)","v":""},{"$f":"IF(Lists!AR34=\"\",\"\",Lists!AR34)","v":""},{"$f":"IF(Lists!AW34=\"\",\"\",Lists!AT34)","v":""},{"$f":"IF($E56=\"\",\"\",SUMIFS(CMS_Deviation_Detail!$I$24:$I$5400,CMS_Deviation_Detail!$B$24:$B$5400,B56,CMS_Deviation_Detail!$C$24:$C$5400,C56,CMS_Deviation_Detail!$D$24:$D$5400,D56))","v":""},"",{"$f":"IF($E56=\"\",\"\",SUMIFS(CMS_Deviation_Detail!$I$24:$I$5800,CMS_Deviation_Detail!$B$24:$B$5800,$B56,CMS_Deviation_Detail!$C$24:$C$5800,$C56,CMS_Deviation_Detail!$D$24:$D$5800,$D56,CMS_Deviation_Detail!$J$24:$J$5800,\"Monitoring System Malfunctions\"))","v":""},{"$f":"IF($E56=\"\",\"\",SUMIFS(CMS_Deviation_Detail!$I$24:$I$5800,CMS_Deviation_Detail!$B$24:$B$5800,$B56,CMS_Deviation_Detail!$C$24:$C$5800,$C56,CMS_Deviation_Detail!$D$24:$D$5800,$D56,CMS_Deviation_Detail!$J$24:$J$5800,\"Nonmonitoring Equipment Malfunctions\"))","v":""},{"$f":"IF($E56=\"\",\"\",SUMIFS(CMS_Deviation_Detail!$I$24:$I$5800,CMS_Deviation_Detail!$B$24:$B$5800,$B56,CMS_Deviation_Detail!$C$24:$C$5800,$C56,CMS_Deviation_Detail!$D$24:$D$5800,$D56,CMS_Deviation_Detail!$J$24:$J$5800,\"Quality Assurance/Quality Control Calibrations\"))","v":""},{"$f":"IF($E56=\"\",\"\",SUMIFS(CMS_Deviation_Detail!$I$24:$I$5800,CMS_Deviation_Detail!$B$24:$B$5800,$B56,CMS_Deviation_Detail!$C$24:$C$5800,$C56,CMS_Deviation_Detail!$D$24:$D$5800,$D56,CMS_Deviation_Detail!$J$24:$J$5800,\"Other Known Causes\"))","v":""},{"$f":"IF($E56=\"\",\"\",SUMIFS(CMS_Deviation_Detail!$I$24:$I$5800,CMS_Deviation_Detail!$B$24:$B$5800,$B56,CMS_Deviation_Detail!$C$24:$C$5800,$C56,CMS_Deviation_Detail!$D$24:$D$5800,$D56,CMS_Deviation_Detail!$J$24:$J$5800,\"Unknown Causes\"))","v":""}]
[null,{"$f":"IF(Lists!AP35=\"\",\"\",Lists!AP35)","v":""},{"$f":"IF(Lists!AQ35=\"\",\"\",Lists!AQ35)","v":""},{"$f":"IF(Lists!AR35=\"\",\"\",Lists!AR35)","v":""},{"$f":"IF(Lists!AW35=\"\",\"\",Lists!AT35)","v":""},{"$f":"IF($E57=\"\",\"\",SUMIFS(CMS_Deviation_Detail!$I$24:$I$5400,CMS_Deviation_Detail!$B$24:$B$5400,B57,CMS_Deviation_Detail!$C$24:$C$5400,C57,CMS_Deviation_Detail!$D$24:$D$5400,D57))","v":""},"",{"$f":"IF($E57=\"\",\"\",SUMIFS(CMS_Deviation_Detail!$I$24:$I$5800,CMS_Deviation_Detail!$B$24:$B$5800,$B57,CMS_Deviation_Detail!$C$24:$C$5800,$C57,CMS_Deviation_Detail!$D$24:$D$5800,$D57,CMS_Deviation_Detail!$J$24:$J$5800,\"Monitoring System Malfunctions\"))","v":""},{"$f":"IF($E57=\"\",\"\",SUMIFS(CMS_Deviation_Detail!$I$24:$I$5800,CMS_Deviation_Detail!$B$24:$B$5800,$B57,CMS_Deviation_Detail!$C$24:$C$5800,$C57,CMS_Deviation_Detail!$D$24:$D$5800,$D57,CMS_Deviation_Detail!$J$24:$J$5800,\"Nonmonitoring Equipment Malfunctions\"))","v":""},{"$f":"IF($E57=\"\",\"\",SUMIFS(CMS_Deviation_Detail!$I$24:$I$5800,CMS_Deviation_Detail!$B$24:$B$5800,$B57,CMS_Deviation_Detail!$C$24:$C$5800,$C57,CMS_Deviation_Detail!$D$24:$D$5800,$D57,CMS_Deviation_Detail!$J$24:$J$5800,\"Quality Assurance/Quality Control Calibrations\"))","v":""},{"$f":"IF($E57=\"\",\"\",SUMIFS(CMS_Deviation_Detail!$I$24:$I$5800,CMS_Deviation_Detail!$B$24:$B$5800,$B57,CMS_Deviation_Detail!$C$24:$C$5800,$C57,CMS_Deviation_Detail!$D$24:$D$5800,$D57,CMS_Deviation_Detail!$J$24:$J$5800,\"Other Known Causes\"))","v":""},{"$f":"IF($E57=\"\",\"\",SUMIFS(CMS_Deviation_Detail!$I$24:$I$5800,CMS_Deviation_Detail!$B$24:$B$5800,$B57,CMS_Deviation_Detail!$C$24:$C$5800,$C57,CMS_Deviation_Detail!$D$24:$D$5800,$D57,CMS_Deviation_Detail!$J$24:$J$5800,\"Unknown Causes\"))","v":""}]
[null,{"$f":"IF(Lists!AP36=\"\",\"\",Lists!AP36)","v":""},{"$f":"IF(Lists!AQ36=\"\",\"\",Lists!AQ36)","v":""},{"$f":"IF(Lists!AR36=\"\",\"\",Lists!AR36)","v":""},{"$f":"IF(Lists!AW36=\"\",\"\",Lists!AT36)","v":""},{"$f":"IF($E58=\"\",\"\",SUMIFS(CMS_Deviation_Detail!$I$24:$I$5400,CMS_Deviation_Detail!$B$24:$B$5400,B58,CMS_Deviation_Detail!$C$24:$C$5400,C58,CMS_Deviation_Detail!$D$24:$D$5400,D58))","v":""},"",{"$f":"IF($E58=\"\",\"\",SUMIFS(CMS_Deviation_Detail!$I$24:$I$5800,CMS_Deviation_Detail!$B$24:$B$5800,$B58,CMS_Deviation_Detail!$C$24:$C$5800,$C58,CMS_Deviation_Detail!$D$24:$D$5800,$D58,CMS_Deviation_Detail!$J$24:$J$5800,\"Monitoring System Malfunctions\"))","v":""},{"$f":"IF($E58=\"\",\"\",SUMIFS(CMS_Deviation_Detail!$I$24:$I$5800,CMS_Deviation_Detail!$B$24:$B$5800,$B58,CMS_Deviation_Detail!$C$24:$C$5800,$C58,CMS_Deviation_Detail!$D$24:$D$5800,$D58,CMS_Deviation_Detail!$J$24:$J$5800,\"Nonmonitoring Equipment Malfunctions\"))","v":""},{"$f":"IF($E58=\"\",\"\",SUMIFS(CMS_Deviation_Detail!$I$24:$I$5800,CMS_Deviation_Detail!$B$24:$B$5800,$B58,CMS_Deviation_Detail!$C$24:$C$5800,$C58,CMS_Deviation_Detail!$D$24:$D$5800,$D58,CMS_Deviation_Detail!$J$24:$J$5800,\"Quality Assurance/Quality Control Calibrations\"))","v":""},{"$f":"IF($E58=\"\",\"\",SUMIFS(CMS_Deviation_Detail!$I$24:$I$5800,CMS_Deviation_Detail!$B$24:$B$5800,$B58,CMS_Deviation_Detail!$C$24:$C$5800,$C58,CMS_Deviation_Detail!$D$24:$D$5800,$D58,CMS_Deviation_Detail!$J$24:$J$5800,\"Other Known Causes\"))","v":""},{"$f":"IF($E58=\"\",\"\",SUMIFS(CMS_Deviation_Detail!$I$24:$I$5800,CMS_Deviation_Detail!$B$24:$B$5800,$B58,CMS_Deviation_Detail!$C$24:$C$5800,$C58,CMS_Deviation_Detail!$D$24:$D$5800,$D58,CMS_Deviation_Detail!$J$24:$J$5800,\"Unknown Causes\"))","v":""}]
[null,{"$f":"IF(Lists!AP37=\"\",\"\",Lists!AP37)","v":""},{"$f":"IF(Lists!AQ37=\"\",\"\",Lists!AQ37)","v":""},{"$f":"IF(Lists!AR37=\"\",\"\",Lists!AR37)","v":""},{"$f":"IF(Lists!AW37=\"\",\"\",Lists!AT37)","v":""},{"$f":"IF($E59=\"\",\"\",SUMIFS(CMS_Deviation_Detail!$I$24:$I$5400,CMS_Deviation_Detail!$B$24:$B$5400,B59,CMS_Deviation_Detail!$C$24:$C$5400,C59,CMS_Deviation_Detail!$D$24:$D$5400,D59))","v":""},"",{"$f":"IF($E59=\"\",\"\",SUMIFS(CMS_Deviation_Detail!$I$24:$I$5800,CMS_Deviation_Detail!$B$24:$B$5800,$B59,CMS_Deviation_Detail!$C$24:$C$5800,$C59,CMS_Deviation_Detail!$D$24:$D$5800,$D59,CMS_Deviation_Detail!$J$24:$J$5800,\"Monitoring System Malfunctions\"))","v":""},{"$f":"IF($E59=\"\",\"\",SUMIFS(CMS_Deviation_Detail!$I$24:$I$5800,CMS_Deviation_Detail!$B$24:$B$5800,$B59,CMS_Deviation_Detail!$C$24:$C$5800,$C59,CMS_Deviation_Detail!$D$24:$D$5800,$D59,CMS_Deviation_Detail!$J$24:$J$5800,\"Nonmonitoring Equipment Malfunctions\"))","v":""},{"$f":"IF($E59=\"\",\"\",SUMIFS(CMS_Deviation_Detail!$I$24:$I$5800,CMS_Deviation_Detail!$B$24:$B$5800,$B59,CMS_Deviation_Detail!$C$24:$C$5800,$C59,CMS_Deviation_Detail!$D$24:$D$5800,$D59,CMS_Deviation_Detail!$J$24:$J$5800,\"Quality Assurance/Quality Control Calibrations\"))","v":""},{"$f":"IF($E59=\"\",\"\",SUMIFS(CMS_Deviation_Detail!$I$24:$I$5800,CMS_Deviation_Detail!$B$24:$B$5800,$B59,CMS_Deviation_Detail!$C$24:$C$5800,$C59,CMS_Deviation_Detail!$D$24:$D$5800,$D59,CMS_Deviation_Detail!$J$24:$J$5800,\"Other Known Causes\"))","v":""},{"$f":"IF($E59=\"\",\"\",SUMIFS(CMS_Deviation_Detail!$I$24:$I$5800,CMS_Deviation_Detail!$B$24:$B$5800,$B59,CMS_Deviation_Detail!$C$24:$C$5800,$C59,CMS_Deviation_Detail!$D$24:$D$5800,$D59,CMS_Deviation_Detail!$J$24:$J$5800,\"Unknown Causes\"))","v":""}]
[null,{"$f":"IF(Lists!AP38=\"\",\"\",Lists!AP38)","v":""},{"$f":"IF(Lists!AQ38=\"\",\"\",Lists!AQ38)","v":""},{"$f":"IF(Lists!AR38=\"\",\"\",Lists!AR38)","v":""},{"$f":"IF(Lists!AW38=\"\",\"\",Lists!AT38)","v":""},{"$f":"IF($E60=\"\",\"\",SUMIFS(CMS_Deviation_Detail!$I$24:$I$5400,CMS_Deviation_Detail!$B$24:$B$5400,B60,CMS_Deviation_Detail!$C$24:$C$5400,C60,CMS_Deviation_Detail!$D$24:$D$5400,D60))","v":""},"",{"$f":"IF($E60=\"\",\"\",SUMIFS(CMS_Deviation_Detail!$I$24:$I$5800,CMS_Deviation_Detail!$B$24:$B$5800,$B60,CMS_Deviation_Detail!$C$24:$C$5800,$C60,CMS_Deviation_Detail!$D$24:$D$5800,$D60,CMS_Deviation_Detail!$J$24:$J$5800,\"Monitoring System Malfunctions\"))","v":""},{"$f":"IF($E60=\"\",\"\",SUMIFS(CMS_Deviation_Detail!$I$24:$I$5800,CMS_Deviation_Detail!$B$24:$B$5800,$B60,CMS_Deviation_Detail!$C$24:$C$5800,$C60,CMS_Deviation_Detail!$D$24:$D$5800,$D60,CMS_Deviation_Detail!$J$24:$J$5800,\"Nonmonitoring Equipment Malfunctions\"))","v":""},{"$f":"IF($E60=\"\",\"\",SUMIFS(CMS_Deviation_Detail!$I$24:$I$5800,CMS_Deviation_Detail!$B$24:$B$5800,$B60,CMS_Deviation_Detail!$C$24:$C$5800,$C60,CMS_Deviation_Detail!$D$24:$D$5800,$D60,CMS_Deviation_Detail!$J$24:$J$5800,\"Quality Assurance/Quality Control Calibrations\"))","v":""},{"$f":"IF($E60=\"\",\"\",SUMIFS(CMS_Deviation_Detail!$I$24:$I$5800,CMS_Deviation_Detail!$B$24:$B$5800,$B60,CMS_Deviation_Detail!$C$24:$C$5800,$C60,CMS_Deviation_Detail!$D$24:$D$5800,$D60,CMS_Deviation_Detail!$J$24:$J$5800,\"Other Known Causes\"))","v":""},{"$f":"IF($E60=\"\",\"\",SUMIFS(CMS_Deviation_Detail!$I$24:$I$5800,CMS_Deviation_Detail!$B$24:$B$5800,$B60,CMS_Deviation_Detail!$C$24:$C$5800,$C60,CMS_Deviation_Detail!$D$24:$D$5800,$D60,CMS_Deviation_Detail!$J$24:$J$5800,\"Unknown Causes\"))","v":""}]
[null,{"$f":"IF(Lists!AP39=\"\",\"\",Lists!AP39)","v":""},{"$f":"IF(Lists!AQ39=\"\",\"\",Lists!AQ39)","v":""},{"$f":"IF(Lists!AR39=\"\",\"\",Lists!AR39)","v":""},{"$f":"IF(Lists!AW39=\"\",\"\",Lists!AT39)","v":""},{"$f":"IF($E61=\"\",\"\",SUMIFS(CMS_Deviation_Detail!$I$24:$I$5400,CMS_Deviation_Detail!$B$24:$B$5400,B61,CMS_Deviation_Detail!$C$24:$C$5400,C61,CMS_Deviation_Detail!$D$24:$D$5400,D61))","v":""},"",{"$f":"IF($E61=\"\",\"\",SUMIFS(CMS_Deviation_Detail!$I$24:$I$5800,CMS_Deviation_Detail!$B$24:$B$5800,$B61,CMS_Deviation_Detail!$C$24:$C$5800,$C61,CMS_Deviation_Detail!$D$24:$D$5800,$D61,CMS_Deviation_Detail!$J$24:$J$5800,\"Monitoring System Malfunctions\"))","v":""},{"$f":"IF($E61=\"\",\"\",SUMIFS(CMS_Deviation_Detail!$I$24:$I$5800,CMS_Deviation_Detail!$B$24:$B$5800,$B61,CMS_Deviation_Detail!$C$24:$C$5800,$C61,CMS_Deviation_Detail!$D$24:$D$5800,$D61,CMS_Deviation_Detail!$J$24:$J$5800,\"Nonmonitoring Equipment Malfunctions\"))","v":""},{"$f":"IF($E61=\"\",\"\",SUMIFS(CMS_Deviation_Detail!$I$24:$I$5800,CMS_Deviation_Detail!$B$24:$B$5800,$B61,CMS_Deviation_Detail!$C$24:$C$5800,$C61,CMS_Deviation_Detail!$D$24:$D$5800,$D61,CMS_Deviation_Detail!$J$24:$J$5800,\"Quality Assurance/Quality Control Calibrations\"))","v":""},{"$f":"IF($E61=\"\",\"\",SUMIFS(CMS_Deviation_Detail!$I$24:$I$5800,CMS_Deviation_Detail!$B$24:$B$5800,$B61,CMS_Deviation_Detail!$C$24:$C$5800,$C61,CMS_Deviation_Detail!$D$24:$D$5800,$D61,CMS_Deviation_Detail!$J$24:$J$5800,\"Other Known Causes\"))","v":""},{"$f":"IF($E61=\"\",\"\",SUMIFS(CMS_Deviation_Detail!$I$24:$I$5800,CMS_Deviation_Detail!$B$24:$B$5800,$B61,CMS_Deviation_Detail!$C$24:$C$5800,$C61,CMS_Deviation_Detail!$D$24:$D$5800,$D61,CMS_Deviation_Detail!$J$24:$J$5800,\"Unknown Causes\"))","v":""}]
[null,{"$f":"IF(Lists!AP40=\"\",\"\",Lists!AP40)","v":""},{"$f":"IF(Lists!AQ40=\"\",\"\",Lists!AQ40)","v":""},{"$f":"IF(Lists!AR40=\"\",\"\",Lists!AR40)","v":""},{"$f":"IF(Lists!AW40=\"\",\"\",Lists!AT40)","v":""},{"$f":"IF($E62=\"\",\"\",SUMIFS(CMS_Deviation_Detail!$I$24:$I$5400,CMS_Deviation_Detail!$B$24:$B$5400,B62,CMS_Deviation_Detail!$C$24:$C$5400,C62,CMS_Deviation_Detail!$D$24:$D$5400,D62))","v":""},"",{"$f":"IF($E62=\"\",\"\",SUMIFS(CMS_Deviation_Detail!$I$24:$I$5800,CMS_Deviation_Detail!$B$24:$B$5800,$B62,CMS_Deviation_Detail!$C$24:$C$5800,$C62,CMS_Deviation_Detail!$D$24:$D$5800,$D62,CMS_Deviation_Detail!$J$24:$J$5800,\"Monitoring System Malfunctions\"))","v":""},{"$f":"IF($E62=\"\",\"\",SUMIFS(CMS_Deviation_Detail!$I$24:$I$5800,CMS_Deviation_Detail!$B$24:$B$5800,$B62,CMS_Deviation_Detail!$C$24:$C$5800,$C62,CMS_Deviation_Detail!$D$24:$D$5800,$D62,CMS_Deviation_Detail!$J$24:$J$5800,\"Nonmonitoring Equipment Malfunctions\"))","v":""},{"$f":"IF($E62=\"\",\"\",SUMIFS(CMS_Deviation_Detail!$I$24:$I$5800,CMS_Deviation_Detail!$B$24:$B$5800,$B62,CMS_Deviation_Detail!$C$24:$C$5800,$C62,CMS_Deviation_Detail!$D$24:$D$5800,$D62,CMS_Deviation_Detail!$J$24:$J$5800,\"Quality Assurance/Quality Control Calibrations\"))","v":""},{"$f":"IF($E62=\"\",\"\",SUMIFS(CMS_Deviation_Detail!$I$24:$I$5800,CMS_Deviation_Detail!$B$24:$B$5800,$B62,CMS_Deviation_Detail!$C$24:$C$5800,$C62,CMS_Deviation_Detail!$D$24:$D$5800,$D62,CMS_Deviation_Detail!$J$24:$J$5800,\"Other Known Causes\"))","v":""},{"$f":"IF($E62=\"\",\"\",SUMIFS(CMS_Deviation_Detail!$I$24:$I$5800,CMS_Deviation_Detail!$B$24:$B$5800,$B62,CMS_Deviation_Detail!$C$24:$C$5800,$C62,CMS_Deviation_Detail!$D$24:$D$5800,$D62,CMS_Deviation_Detail!$J$24:$J$5800,\"Unknown Causes\"))","v":""}]
[null,{"$f":"IF(Lists!AP41=\"\",\"\",Lists!AP41)","v":""},{"$f":"IF(Lists!AQ41=\"\",\"\",Lists!AQ41)","v":""},{"$f":"IF(Lists!AR41=\"\",\"\",Lists!AR41)","v":""},{"$f":"IF(Lists!AW41=\"\",\"\",Lists!AT41)","v":""},{"$f":"IF($E63=\"\",\"\",SUMIFS(CMS_Deviation_Detail!$I$24:$I$5400,CMS_Deviation_Detail!$B$24:$B$5400,B63,CMS_Deviation_Detail!$C$24:$C$5400,C63,CMS_Deviation_Detail!$D$24:$D$5400,D63))","v":""},"",{"$f":"IF($E63=\"\",\"\",SUMIFS(CMS_Deviation_Detail!$I$24:$I$5800,CMS_Deviation_Detail!$B$24:$B$5800,$B63,CMS_Deviation_Detail!$C$24:$C$5800,$C63,CMS_Deviation_Detail!$D$24:$D$5800,$D63,CMS_Deviation_Detail!$J$24:$J$5800,\"Monitoring System Malfunctions\"))","v":""},{"$f":"IF($E63=\"\",\"\",SUMIFS(CMS_Deviation_Detail!$I$24:$I$5800,CMS_Deviation_Detail!$B$24:$B$5800,$B63,CMS_Deviation_Detail!$C$24:$C$5800,$C63,CMS_Deviation_Detail!$D$24:$D$5800,$D63,CMS_Deviation_Detail!$J$24:$J$5800,\"Nonmonitoring Equipment Malfunctions\"))","v":""},{"$f":"IF($E63=\"\",\"\",SUMIFS(CMS_Deviation_Detail!$I$24:$I$5800,CMS_Deviation_Detail!$B$24:$B$5800,$B63,CMS_Deviation_Detail!$C$24:$C$5800,$C63,CMS_Deviation_Detail!$D$24:$D$5800,$D63,CMS_Deviation_Detail!$J$24:$J$5800,\"Quality Assurance/Quality Control Calibrations\"))","v":""},{"$f":"IF($E63=\"\",\"\",SUMIFS(CMS_Deviation_Detail!$I$24:$I$5800,CMS_Deviation_Detail!$B$24:$B$5800,$B63,CMS_Deviation_Detail!$C$24:$C$5800,$C63,CMS_Deviation_Detail!$D$24:$D$5800,$D63,CMS_Deviation_Detail!$J$24:$J$5800,\"Other Known Causes\"))","v":""},{"$f":"IF($E63=\"\",\"\",SUMIFS(CMS_Deviation_Detail!$I$24:$I$5800,CMS_Deviation_Detail!$B$24:$B$5800,$B63,CMS_Deviation_Detail!$C$24:$C$5800,$C63,CMS_Deviation_Detail!$D$24:$D$5800,$D63,CMS_Deviation_Detail!$J$24:$J$5800,\"Unknown Causes\"))","v":""}]
[null,{"$f":"IF(Lists!AP42=\"\",\"\",Lists!AP42)","v":""},{"$f":"IF(Lists!AQ42=\"\",\"\",Lists!AQ42)","v":""},{"$f":"IF(Lists!AR42=\"\",\"\",Lists!AR42)","v":""},{"$f":"IF(Lists!AW42=\"\",\"\",Lists!AT42)","v":""},{"$f":"IF($E64=\"\",\"\",SUMIFS(CMS_Deviation_Detail!$I$24:$I$5400,CMS_Deviation_Detail!$B$24:$B$5400,B64,CMS_Deviation_Detail!$C$24:$C$5400,C64,CMS_Deviation_Detail!$D$24:$D$5400,D64))","v":""},"",{"$f":"IF($E64=\"\",\"\",SUMIFS(CMS_Deviation_Detail!$I$24:$I$5800,CMS_Deviation_Detail!$B$24:$B$5800,$B64,CMS_Deviation_Detail!$C$24:$C$5800,$C64,CMS_Deviation_Detail!$D$24:$D$5800,$D64,CMS_Deviation_Detail!$J$24:$J$5800,\"Monitoring System Malfunctions\"))","v":""},{"$f":"IF($E64=\"\",\"\",SUMIFS(CMS_Deviation_Detail!$I$24:$I$5800,CMS_Deviation_Detail!$B$24:$B$5800,$B64,CMS_Deviation_Detail!$C$24:$C$5800,$C64,CMS_Deviation_Detail!$D$24:$D$5800,$D64,CMS_Deviation_Detail!$J$24:$J$5800,\"Nonmonitoring Equipment Malfunctions\"))","v":""},{"$f":"IF($E64=\"\",\"\",SUMIFS(CMS_Deviation_Detail!$I$24:$I$5800,CMS_Deviation_Detail!$B$24:$B$5800,$B64,CMS_Deviation_Detail!$C$24:$C$5800,$C64,CMS_Deviation_Detail!$D$24:$D$5800,$D64,CMS_Deviation_Detail!$J$24:$J$5800,\"Quality Assurance/Quality Control Calibrations\"))","v":""},{"$f":"IF($E64=\"\",\"\",SUMIFS(CMS_Deviation_Detail!$I$24:$I$5800,CMS_Deviation_Detail!$B$24:$B$5800,$B64,CMS_Deviation_Detail!$C$24:$C$5800,$C64,CMS_Deviation_Detail!$D$24:$D$5800,$D64,CMS_Deviation_Detail!$J$24:$J$5800,\"Other Known Causes\"))","v":""},{"$f":"IF($E64=\"\",\"\",SUMIFS(CMS_Deviation_Detail!$I$24:$I$5800,CMS_Deviation_Detail!$B$24:$B$5800,$B64,CMS_Deviation_Detail!$C$24:$C$5800,$C64,CMS_Deviation_Detail!$D$24:$D$5800,$D64,CMS_Deviation_Detail!$J$24:$J$5800,\"Unknown Causes\"))","v":""}]
[null,{"$f":"IF(Lists!AP43=\"\",\"\",Lists!AP43)","v":""},{"$f":"IF(Lists!AQ43=\"\",\"\",Lists!AQ43)","v":""},{"$f":"IF(Lists!AR43=\"\",\"\",Lists!AR43)","v":""},{"$f":"IF(Lists!AW43=\"\",\"\",Lists!AT43)","v":""},{"$f":"IF($E65=\"\",\"\",SUMIFS(CMS_Deviation_Detail!$I$24:$I$5400,CMS_Deviation_Detail!$B$24:$B$5400,B65,CMS_Deviation_Detail!$C$24:$C$5400,C65,CMS_Deviation_Detail!$D$24:$D$5400,D65))","v":""},"",{"$f":"IF($E65=\"\",\"\",SUMIFS(CMS_Deviation_Detail!$I$24:$I$5800,CMS_Deviation_Detail!$B$24:$B$5800,$B65,CMS_Deviation_Detail!$C$24:$C$5800,$C65,CMS_Deviation_Detail!$D$24:$D$5800,$D65,CMS_Deviation_Detail!$J$24:$J$5800,\"Monitoring System Malfunctions\"))","v":""},{"$f":"IF($E65=\"\",\"\",SUMIFS(CMS_Deviation_Detail!$I$24:$I$5800,CMS_Deviation_Detail!$B$24:$B$5800,$B65,CMS_Deviation_Detail!$C$24:$C$5800,$C65,CMS_Deviation_Detail!$D$24:$D$5800,$D65,CMS_Deviation_Detail!$J$24:$J$5800,\"Nonmonitoring Equipment Malfunctions\"))","v":""},{"$f":"IF($E65=\"\",\"\",SUMIFS(CMS_Deviation_Detail!$I$24:$I$5800,CMS_Deviation_Detail!$B$24:$B$5800,$B65,CMS_Deviation_Detail!$C$24:$C$5800,$C65,CMS_Deviation_Detail!$D$24:$D$5800,$D65,CMS_Deviation_Detail!$J$24:$J$5800,\"Quality Assurance/Quality Control Calibrations\"))","v":""},{"$f":"IF($E65=\"\",\"\",SUMIFS(CMS_Deviation_Detail!$I$24:$I$5800,CMS_Deviation_Detail!$B$24:$B$5800,$B65,CMS_Deviation_Detail!$C$24:$C$5800,$C65,CMS_Deviation_Detail!$D$24:$D$5800,$D65,CMS_Deviation_Detail!$J$24:$J$5800,\"Other Known Causes\"))","v":""},{"$f":"IF($E65=\"\",\"\",SUMIFS(CMS_Deviation_Detail!$I$24:$I$5800,CMS_Deviation_Detail!$B$24:$B$5800,$B65,CMS_Deviation_Detail!$C$24:$C$5800,$C65,CMS_Deviation_Detail!$D$24:$D$5800,$D65,CMS_Deviation_Detail!$J$24:$J$5800,\"Unknown Causes\"))","v":""}]
[null,{"$f":"IF(Lists!AP44=\"\",\"\",Lists!AP44)","v":""},{"$f":"IF(Lists!AQ44=\"\",\"\",Lists!AQ44)","v":""},{"$f":"IF(Lists!AR44=\"\",\"\",Lists!AR44)","v":""},{"$f":"IF(Lists!AW44=\"\",\"\",Lists!AT44)","v":""},{"$f":"IF($E66=\"\",\"\",SUMIFS(CMS_Deviation_Detail!$I$24:$I$5400,CMS_Deviation_Detail!$B$24:$B$5400,B66,CMS_Deviation_Detail!$C$24:$C$5400,C66,CMS_Deviation_Detail!$D$24:$D$5400,D66))","v":""},"",{"$f":"IF($E66=\"\",\"\",SUMIFS(CMS_Deviation_Detail!$I$24:$I$5800,CMS_Deviation_Detail!$B$24:$B$5800,$B66,CMS_Deviation_Detail!$C$24:$C$5800,$C66,CMS_Deviation_Detail!$D$24:$D$5800,$D66,CMS_Deviation_Detail!$J$24:$J$5800,\"Monitoring System Malfunctions\"))","v":""},{"$f":"IF($E66=\"\",\"\",SUMIFS(CMS_Deviation_Detail!$I$24:$I$5800,CMS_Deviation_Detail!$B$24:$B$5800,$B66,CMS_Deviation_Detail!$C$24:$C$5800,$C66,CMS_Deviation_Detail!$D$24:$D$5800,$D66,CMS_Deviation_Detail!$J$24:$J$5800,\"Nonmonitoring Equipment Malfunctions\"))","v":""},{"$f":"IF($E66=\"\",\"\",SUMIFS(CMS_Deviation_Detail!$I$24:$I$5800,CMS_Deviation_Detail!$B$24:$B$5800,$B66,CMS_Deviation_Detail!$C$24:$C$5800,$C66,CMS_Deviation_Detail!$D$24:$D$5800,$D66,CMS_Deviation_Detail!$J$24:$J$5800,\"Quality Assurance/Quality Control Calibrations\"))","v":""},{"$f":"IF($E66=\"\",\"\",SUMIFS(CMS_Deviation_Detail!$I$24:$I$5800,CMS_Deviation_Detail!$B$24:$B$5800,$B66,CMS_Deviation_Detail!$C$24:$C$5800,$C66,CMS_Deviation_Detail!$D$24:$D$5800,$D66,CMS_Deviation_Detail!$J$24:$J$5800,\"Other Known Causes\"))","v":""},{"$f":"IF($E66=\"\",\"\",SUMIFS(CMS_Deviation_Detail!$I$24:$I$5800,CMS_Deviation_Detail!$B$24:$B$5800,$B66,CMS_Deviation_Detail!$C$24:$C$5800,$C66,CMS_Deviation_Detail!$D$24:$D$5800,$D66,CMS_Deviation_Detail!$J$24:$J$5800,\"Unknown Causes\"))","v":""}]
[null,{"$f":"IF(Lists!AP45=\"\",\"\",Lists!AP45)","v":""},{"$f":"IF(Lists!AQ45=\"\",\"\",Lists!AQ45)","v":""},{"$f":"IF(Lists!AR45=\"\",\"\",Lists!AR45)","v":""},{"$f":"IF(Lists!AW45=\"\",\"\",Lists!AT45)","v":""},{"$f":"IF($E67=\"\",\"\",SUMIFS(CMS_Deviation_Detail!$I$24:$I$5400,CMS_Deviation_Detail!$B$24:$B$5400,B67,CMS_Deviation_Detail!$C$24:$C$5400,C67,CMS_Deviation_Detail!$D$24:$D$5400,D67))","v":""},"",{"$f":"IF($E67=\"\",\"\",SUMIFS(CMS_Deviation_Detail!$I$24:$I$5800,CMS_Deviation_Detail!$B$24:$B$5800,$B67,CMS_Deviation_Detail!$C$24:$C$5800,$C67,CMS_Deviation_Detail!$D$24:$D$5800,$D67,CMS_Deviation_Detail!$J$24:$J$5800,\"Monitoring System Malfunctions\"))","v":""},{"$f":"IF($E67=\"\",\"\",SUMIFS(CMS_Deviation_Detail!$I$24:$I$5800,CMS_Deviation_Detail!$B$24:$B$5800,$B67,CMS_Deviation_Detail!$C$24:$C$5800,$C67,CMS_Deviation_Detail!$D$24:$D$5800,$D67,CMS_Deviation_Detail!$J$24:$J$5800,\"Nonmonitoring Equipment Malfunctions\"))","v":""},{"$f":"IF($E67=\"\",\"\",SUMIFS(CMS_Deviation_Detail!$I$24:$I$5800,CMS_Deviation_Detail!$B$24:$B$5800,$B67,CMS_Deviation_Detail!$C$24:$C$5800,$C67,CMS_Deviation_Detail!$D$24:$D$5800,$D67,CMS_Deviation_Detail!$J$24:$J$5800,\"Quality Assurance/Quality Control Calibrations\"))","v":""},{"$f":"IF($E67=\"\",\"\",SUMIFS(CMS_Deviation_Detail!$I$24:$I$5800,CMS_Deviation_Detail!$B$24:$B$5800,$B67,CMS_Deviation_Detail!$C$24:$C$5800,$C67,CMS_Deviation_Detail!$D$24:$D$5800,$D67,CMS_Deviation_Detail!$J$24:$J$5800,\"Other Known Causes\"))","v":""},{"$f":"IF($E67=\"\",\"\",SUMIFS(CMS_Deviation_Detail!$I$24:$I$5800,CMS_Deviation_Detail!$B$24:$B$5800,$B67,CMS_Deviation_Detail!$C$24:$C$5800,$C67,CMS_Deviation_Detail!$D$24:$D$5800,$D67,CMS_Deviation_Detail!$J$24:$J$5800,\"Unknown Causes\"))","v":""}]
[null,{"$f":"IF(Lists!AP46=\"\",\"\",Lists!AP46)","v":""},{"$f":"IF(Lists!AQ46=\"\",\"\",Lists!AQ46)","v":""},{"$f":"IF(Lists!AR46=\"\",\"\",Lists!AR46)","v":""},{"$f":"IF(Lists!AW46=\"\",\"\",Lists!AT46)","v":""},{"$f":"IF($E68=\"\",\"\",SUMIFS(CMS_Deviation_Detail!$I$24:$I$5400,CMS_Deviation_Detail!$B$24:$B$5400,B68,CMS_Deviation_Detail!$C$24:$C$5400,C68,CMS_Deviation_Detail!$D$24:$D$5400,D68))","v":""},"",{"$f":"IF($E68=\"\",\"\",SUMIFS(CMS_Deviation_Detail!$I$24:$I$5800,CMS_Deviation_Detail!$B$24:$B$5800,$B68,CMS_Deviation_Detail!$C$24:$C$5800,$C68,CMS_Deviation_Detail!$D$24:$D$5800,$D68,CMS_Deviation_Detail!$J$24:$J$5800,\"Monitoring System Malfunctions\"))","v":""},{"$f":"IF($E68=\"\",\"\",SUMIFS(CMS_Deviation_Detail!$I$24:$I$5800,CMS_Deviation_Detail!$B$24:$B$5800,$B68,CMS_Deviation_Detail!$C$24:$C$5800,$C68,CMS_Deviation_Detail!$D$24:$D$5800,$D68,CMS_Deviation_Detail!$J$24:$J$5800,\"Nonmonitoring Equipment Malfunctions\"))","v":""},{"$f":"IF($E68=\"\",\"\",SUMIFS(CMS_Deviation_Detail!$I$24:$I$5800,CMS_Deviation_Detail!$B$24:$B$5800,$B68,CMS_Deviation_Detail!$C$24:$C$5800,$C68,CMS_Deviation_Detail!$D$24:$D$5800,$D68,CMS_Deviation_Detail!$J$24:$J$5800,\"Quality Assurance/Quality Control Calibrations\"))","v":""},{"$f":"IF($E68=\"\",\"\",SUMIFS(CMS_Deviation_Detail!$I$24:$I$5800,CMS_Deviation_Detail!$B$24:$B$5800,$B68,CMS_Deviation_Detail!$C$24:$C$5800,$C68,CMS_Deviation_Detail!$D$24:$D$5800,$D68,CMS_Deviation_Detail!$J$24:$J$5800,\"Other Known Causes\"))","v":""},{"$f":"IF($E68=\"\",\"\",SUMIFS(CMS_Deviation_Detail!$I$24:$I$5800,CMS_Deviation_Detail!$B$24:$B$5800,$B68,CMS_Deviation_Detail!$C$24:$C$5800,$C68,CMS_Deviation_Detail!$D$24:$D$5800,$D68,CMS_Deviation_Detail!$J$24:$J$5800,\"Unknown Causes\"))","v":""}]
[null,{"$f":"IF(Lists!AP47=\"\",\"\",Lists!AP47)","v":""},{"$f":"IF(Lists!AQ47=\"\",\"\",Lists!AQ47)","v":""},{"$f":"IF(Lists!AR47=\"\",\"\",Lists!AR47)","v":""},{"$f":"IF(Lists!AW47=\"\",\"\",Lists!AT47)","v":""},{"$f":"IF($E69=\"\",\"\",SUMIFS(CMS_Deviation_Detail!$I$24:$I$5400,CMS_Deviation_Detail!$B$24:$B$5400,B69,CMS_Deviation_Detail!$C$24:$C$5400,C69,CMS_Deviation_Detail!$D$24:$D$5400,D69))","v":""},"",{"$f":"IF($E69=\"\",\"\",SUMIFS(CMS_Deviation_Detail!$I$24:$I$5800,CMS_Deviation_Detail!$B$24:$B$5800,$B69,CMS_Deviation_Detail!$C$24:$C$5800,$C69,CMS_Deviation_Detail!$D$24:$D$5800,$D69,CMS_Deviation_Detail!$J$24:$J$5800,\"Monitoring System Malfunctions\"))","v":""},{"$f":"IF($E69=\"\",\"\",SUMIFS(CMS_Deviation_Detail!$I$24:$I$5800,CMS_Deviation_Detail!$B$24:$B$5800,$B69,CMS_Deviation_Detail!$C$24:$C$5800,$C69,CMS_Deviation_Detail!$D$24:$D$5800,$D69,CMS_Deviation_Detail!$J$24:$J$5800,\"Nonmonitoring Equipment Malfunctions\"))","v":""},{"$f":"IF($E69=\"\",\"\",SUMIFS(CMS_Deviation_Detail!$I$24:$I$5800,CMS_Deviation_Detail!$B$24:$B$5800,$B69,CMS_Deviation_Detail!$C$24:$C$5800,$C69,CMS_Deviation_Detail!$D$24:$D$5800,$D69,CMS_Deviation_Detail!$J$24:$J$5800,\"Quality Assurance/Quality Control Calibrations\"))","v":""},{"$f":"IF($E69=\"\",\"\",SUMIFS(CMS_Deviation_Detail!$I$24:$I$5800,CMS_Deviation_Detail!$B$24:$B$5800,$B69,CMS_Deviation_Detail!$C$24:$C$5800,$C69,CMS_Deviation_Detail!$D$24:$D$5800,$D69,CMS_Deviation_Detail!$J$24:$J$5800,\"Other Known Causes\"))","v":""},{"$f":"IF($E69=\"\",\"\",SUMIFS(CMS_Deviation_Detail!$I$24:$I$5800,CMS_Deviation_Detail!$B$24:$B$5800,$B69,CMS_Deviation_Detail!$C$24:$C$5800,$C69,CMS_Deviation_Detail!$D$24:$D$5800,$D69,CMS_Deviation_Detail!$J$24:$J$5800,\"Unknown Causes\"))","v":""}]
[null,{"$f":"IF(Lists!AP48=\"\",\"\",Lists!AP48)","v":""},{"$f":"IF(Lists!AQ48=\"\",\"\",Lists!AQ48)","v":""},{"$f":"IF(Lists!AR48=\"\",\"\",Lists!AR48)","v":""},{"$f":"IF(Lists!AW48=\"\",\"\",Lists!AT48)","v":""},{"$f":"IF($E70=\"\",\"\",SUMIFS(CMS_Deviation_Detail!$I$24:$I$5400,CMS_Deviation_Detail!$B$24:$B$5400,B70,CMS_Deviation_Detail!$C$24:$C$5400,C70,CMS_Deviation_Detail!$D$24:$D$5400,D70))","v":""},"",{"$f":"IF($E70=\"\",\"\",SUMIFS(CMS_Deviation_Detail!$I$24:$I$5800,CMS_Deviation_Detail!$B$24:$B$5800,$B70,CMS_Deviation_Detail!$C$24:$C$5800,$C70,CMS_Deviation_Detail!$D$24:$D$5800,$D70,CMS_Deviation_Detail!$J$24:$J$5800,\"Monitoring System Malfunctions\"))","v":""},{"$f":"IF($E70=\"\",\"\",SUMIFS(CMS_Deviation_Detail!$I$24:$I$5800,CMS_Deviation_Detail!$B$24:$B$5800,$B70,CMS_Deviation_Detail!$C$24:$C$5800,$C70,CMS_Deviation_Detail!$D$24:$D$5800,$D70,CMS_Deviation_Detail!$J$24:$J$5800,\"Nonmonitoring Equipment Malfunctions\"))","v":""},{"$f":"IF($E70=\"\",\"\",SUMIFS(CMS_Deviation_Detail!$I$24:$I$5800,CMS_Deviation_Detail!$B$24:$B$5800,$B70,CMS_Deviation_Detail!$C$24:$C$5800,$C70,CMS_Deviation_Detail!$D$24:$D$5800,$D70,CMS_Deviation_Detail!$J$24:$J$5800,\"Quality Assurance/Quality Control Calibrations\"))","v":""},{"$f":"IF($E70=\"\",\"\",SUMIFS(CMS_Deviation_Detail!$I$24:$I$5800,CMS_Deviation_Detail!$B$24:$B$5800,$B70,CMS_Deviation_Detail!$C$24:$C$5800,$C70,CMS_Deviation_Detail!$D$24:$D$5800,$D70,CMS_Deviation_Detail!$J$24:$J$5800,\"Other Known Causes\"))","v":""},{"$f":"IF($E70=\"\",\"\",SUMIFS(CMS_Deviation_Detail!$I$24:$I$5800,CMS_Deviation_Detail!$B$24:$B$5800,$B70,CMS_Deviation_Detail!$C$24:$C$5800,$C70,CMS_Deviation_Detail!$D$24:$D$5800,$D70,CMS_Deviation_Detail!$J$24:$J$5800,\"Unknown Causes\"))","v":""}]
[null,{"$f":"IF(Lists!AP49=\"\",\"\",Lists!AP49)","v":""},{"$f":"IF(Lists!AQ49=\"\",\"\",Lists!AQ49)","v":""},{"$f":"IF(Lists!AR49=\"\",\"\",Lists!AR49)","v":""},{"$f":"IF(Lists!AW49=\"\",\"\",Lists!AT49)","v":""},{"$f":"IF($E71=\"\",\"\",SUMIFS(CMS_Deviation_Detail!$I$24:$I$5400,CMS_Deviation_Detail!$B$24:$B$5400,B71,CMS_Deviation_Detail!$C$24:$C$5400,C71,CMS_Deviation_Detail!$D$24:$D$5400,D71))","v":""},"",{"$f":"IF($E71=\"\",\"\",SUMIFS(CMS_Deviation_Detail!$I$24:$I$5800,CMS_Deviation_Detail!$B$24:$B$5800,$B71,CMS_Deviation_Detail!$C$24:$C$5800,$C71,CMS_Deviation_Detail!$D$24:$D$5800,$D71,CMS_Deviation_Detail!$J$24:$J$5800,\"Monitoring System Malfunctions\"))","v":""},{"$f":"IF($E71=\"\",\"\",SUMIFS(CMS_Deviation_Detail!$I$24:$I$5800,CMS_Deviation_Detail!$B$24:$B$5800,$B71,CMS_Deviation_Detail!$C$24:$C$5800,$C71,CMS_Deviation_Detail!$D$24:$D$5800,$D71,CMS_Deviation_Detail!$J$24:$J$5800,\"Nonmonitoring Equipment Malfunctions\"))","v":""},{"$f":"IF($E71=\"\",\"\",SUMIFS(CMS_Deviation_Detail!$I$24:$I$5800,CMS_Deviation_Detail!$B$24:$B$5800,$B71,CMS_Deviation_Detail!$C$24:$C$5800,$C71,CMS_Deviation_Detail!$D$24:$D$5800,$D71,CMS_Deviation_Detail!$J$24:$J$5800,\"Quality Assurance/Quality Control Calibrations\"))","v":""},{"$f":"IF($E71=\"\",\"\",SUMIFS(CMS_Deviation_Detail!$I$24:$I$5800,CMS_Deviation_Detail!$B$24:$B$5800,$B71,CMS_Deviation_Detail!$C$24:$C$5800,$C71,CMS_Deviation_Detail!$D$24:$D$5800,$D71,CMS_Deviation_Detail!$J$24:$J$5800,\"Other Known Causes\"))","v":""},{"$f":"IF($E71=\"\",\"\",SUMIFS(CMS_Deviation_Detail!$I$24:$I$5800,CMS_Deviation_Detail!$B$24:$B$5800,$B71,CMS_Deviation_Detail!$C$24:$C$5800,$C71,CMS_Deviation_Detail!$D$24:$D$5800,$D71,CMS_Deviation_Detail!$J$24:$J$5800,\"Unknown Causes\"))","v":""}]
[null,{"$f":"IF(Lists!AP50=\"\",\"\",Lists!AP50)","v":""},{"$f":"IF(Lists!AQ50=\"\",\"\",Lists!AQ50)","v":""},{"$f":"IF(Lists!AR50=\"\",\"\",Lists!AR50)","v":""},{"$f":"IF(Lists!AW50=\"\",\"\",Lists!AT50)","v":""},{"$f":"IF($E72=\"\",\"\",SUMIFS(CMS_Deviation_Detail!$I$24:$I$5400,CMS_Deviation_Detail!$B$24:$B$5400,B72,CMS_Deviation_Detail!$C$24:$C$5400,C72,CMS_Deviation_Detail!$D$24:$D$5400,D72))","v":""},"",{"$f":"IF($E72=\"\",\"\",SUMIFS(CMS_Deviation_Detail!$I$24:$I$5800,CMS_Deviation_Detail!$B$24:$B$5800,$B72,CMS_Deviation_Detail!$C$24:$C$5800,$C72,CMS_Deviation_Detail!$D$24:$D$5800,$D72,CMS_Deviation_Detail!$J$24:$J$5800,\"Monitoring System Malfunctions\"))","v":""},{"$f":"IF($E72=\"\",\"\",SUMIFS(CMS_Deviation_Detail!$I$24:$I$5800,CMS_Deviation_Detail!$B$24:$B$5800,$B72,CMS_Deviation_Detail!$C$24:$C$5800,$C72,CMS_Deviation_Detail!$D$24:$D$5800,$D72,CMS_Deviation_Detail!$J$24:$J$5800,\"Nonmonitoring Equipment Malfunctions\"))","v":""},{"$f":"IF($E72=\"\",\"\",SUMIFS(CMS_Deviation_Detail!$I$24:$I$5800,CMS_Deviation_Detail!$B$24:$B$5800,$B72,CMS_Deviation_Detail!$C$24:$C$5800,$C72,CMS_Deviation_Detail!$D$24:$D$5800,$D72,CMS_Deviation_Detail!$J$24:$J$5800,\"Quality Assurance/Quality Control Calibrations\"))","v":""},{"$f":"IF($E72=\"\",\"\",SUMIFS(CMS_Deviation_Detail!$I$24:$I$5800,CMS_Deviation_Detail!$B$24:$B$5800,$B72,CMS_Deviation_Detail!$C$24:$C$5800,$C72,CMS_Deviation_Detail!$D$24:$D$5800,$D72,CMS_Deviation_Detail!$J$24:$J$5800,\"Other Known Causes\"))","v":""},{"$f":"IF($E72=\"\",\"\",SUMIFS(CMS_Deviation_Detail!$I$24:$I$5800,CMS_Deviation_Detail!$B$24:$B$5800,$B72,CMS_Deviation_Detail!$C$24:$C$5800,$C72,CMS_Deviation_Detail!$D$24:$D$5800,$D72,CMS_Deviation_Detail!$J$24:$J$5800,\"Unknown Causes\"))","v":""}]
[null,{"$f":"IF(Lists!AP51=\"\",\"\",Lists!AP51)","v":""},{"$f":"IF(Lists!AQ51=\"\",\"\",Lists!AQ51)","v":""},{"$f":"IF(Lists!AR51=\"\",\"\",Lists!AR51)","v":""},{"$f":"IF(Lists!AW51=\"\",\"\",Lists!AT51)","v":""},{"$f":"IF($E73=\"\",\"\",SUMIFS(CMS_Deviation_Detail!$I$24:$I$5400,CMS_Deviation_Detail!$B$24:$B$5400,B73,CMS_Deviation_Detail!$C$24:$C$5400,C73,CMS_Deviation_Detail!$D$24:$D$5400,D73))","v":""},"",{"$f":"IF($E73=\"\",\"\",SUMIFS(CMS_Deviation_Detail!$I$24:$I$5800,CMS_Deviation_Detail!$B$24:$B$5800,$B73,CMS_Deviation_Detail!$C$24:$C$5800,$C73,CMS_Deviation_Detail!$D$24:$D$5800,$D73,CMS_Deviation_Detail!$J$24:$J$5800,\"Monitoring System Malfunctions\"))","v":""},{"$f":"IF($E73=\"\",\"\",SUMIFS(CMS_Deviation_Detail!$I$24:$I$5800,CMS_Deviation_Detail!$B$24:$B$5800,$B73,CMS_Deviation_Detail!$C$24:$C$5800,$C73,CMS_Deviation_Detail!$D$24:$D$5800,$D73,CMS_Deviation_Detail!$J$24:$J$5800,\"Nonmonitoring Equipment Malfunctions\"))","v":""},{"$f":"IF($E73=\"\",\"\",SUMIFS(CMS_Deviation_Detail!$I$24:$I$5800,CMS_Deviation_Detail!$B$24:$B$5800,$B73,CMS_Deviation_Detail!$C$24:$C$5800,$C73,CMS_Deviation_Detail!$D$24:$D$5800,$D73,CMS_Deviation_Detail!$J$24:$J$5800,\"Quality Assurance/Quality Control Calibrations\"))","v":""},{"$f":"IF($E73=\"\",\"\",SUMIFS(CMS_Deviation_Detail!$I$24:$I$5800,CMS_Deviation_Detail!$B$24:$B$5800,$B73,CMS_Deviation_Detail!$C$24:$C$5800,$C73,CMS_Deviation_Detail!$D$24:$D$5800,$D73,CMS_Deviation_Detail!$J$24:$J$5800,\"Other Known Causes\"))","v":""},{"$f":"IF($E73=\"\",\"\",SUMIFS(CMS_Deviation_Detail!$I$24:$I$5800,CMS_Deviation_Detail!$B$24:$B$5800,$B73,CMS_Deviation_Detail!$C$24:$C$5800,$C73,CMS_Deviation_Detail!$D$24:$D$5800,$D73,CMS_Deviation_Detail!$J$24:$J$5800,\"Unknown Causes\"))","v":""}]
[null,{"$f":"IF(Lists!AP52=\"\",\"\",Lists!AP52)","v":""},{"$f":"IF(Lists!AQ52=\"\",\"\",Lists!AQ52)","v":""},{"$f":"IF(Lists!AR52=\"\",\"\",Lists!AR52)","v":""},{"$f":"IF(Lists!AW52=\"\",\"\",Lists!AT52)","v":""},{"$f":"IF($E74=\"\",\"\",SUMIFS(CMS_Deviation_Detail!$I$24:$I$5400,CMS_Deviation_Detail!$B$24:$B$5400,B74,CMS_Deviation_Detail!$C$24:$C$5400,C74,CMS_Deviation_Detail!$D$24:$D$5400,D74))","v":""},"",{"$f":"IF($E74=\"\",\"\",SUMIFS(CMS_Deviation_Detail!$I$24:$I$5800,CMS_Deviation_Detail!$B$24:$B$5800,$B74,CMS_Deviation_Detail!$C$24:$C$5800,$C74,CMS_Deviation_Detail!$D$24:$D$5800,$D74,CMS_Deviation_Detail!$J$24:$J$5800,\"Monitoring System Malfunctions\"))","v":""},{"$f":"IF($E74=\"\",\"\",SUMIFS(CMS_Deviation_Detail!$I$24:$I$5800,CMS_Deviation_Detail!$B$24:$B$5800,$B74,CMS_Deviation_Detail!$C$24:$C$5800,$C74,CMS_Deviation_Detail!$D$24:$D$5800,$D74,CMS_Deviation_Detail!$J$24:$J$5800,\"Nonmonitoring Equipment Malfunctions\"))","v":""},{"$f":"IF($E74=\"\",\"\",SUMIFS(CMS_Deviation_Detail!$I$24:$I$5800,CMS_Deviation_Detail!$B$24:$B$5800,$B74,CMS_Deviation_Detail!$C$24:$C$5800,$C74,CMS_Deviation_Detail!$D$24:$D$5800,$D74,CMS_Deviation_Detail!$J$24:$J$5800,\"Quality Assurance/Quality Control Calibrations\"))","v":""},{"$f":"IF($E74=\"\",\"\",SUMIFS(CMS_Deviation_Detail!$I$24:$I$5800,CMS_Deviation_Detail!$B$24:$B$5800,$B74,CMS_Deviation_Detail!$C$24:$C$5800,$C74,CMS_Deviation_Detail!$D$24:$D$5800,$D74,CMS_Deviation_Detail!$J$24:$J$5800,\"Other Known Causes\"))","v":""},{"$f":"IF($E74=\"\",\"\",SUMIFS(CMS_Deviation_Detail!$I$24:$I$5800,CMS_Deviation_Detail!$B$24:$B$5800,$B74,CMS_Deviation_Detail!$C$24:$C$5800,$C74,CMS_Deviation_Detail!$D$24:$D$5800,$D74,CMS_Deviation_Detail!$J$24:$J$5800,\"Unknown Causes\"))","v":""}]
[null,{"$f":"IF(Lists!AP53=\"\",\"\",Lists!AP53)","v":""},{"$f":"IF(Lists!AQ53=\"\",\"\",Lists!AQ53)","v":""},{"$f":"IF(Lists!AR53=\"\",\"\",Lists!AR53)","v":""},{"$f":"IF(Lists!AW53=\"\",\"\",Lists!AT53)","v":""},{"$f":"IF($E75=\"\",\"\",SUMIFS(CMS_Deviation_Detail!$I$24:$I$5400,CMS_Deviation_Detail!$B$24:$B$5400,B75,CMS_Deviation_Detail!$C$24:$C$5400,C75,CMS_Deviation_Detail!$D$24:$D$5400,D75))","v":""},"",{"$f":"IF($E75=\"\",\"\",SUMIFS(CMS_Deviation_Detail!$I$24:$I$5800,CMS_Deviation_Detail!$B$24:$B$5800,$B75,CMS_Deviation_Detail!$C$24:$C$5800,$C75,CMS_Deviation_Detail!$D$24:$D$5800,$D75,CMS_Deviation_Detail!$J$24:$J$5800,\"Monitoring System Malfunctions\"))","v":""},{"$f":"IF($E75=\"\",\"\",SUMIFS(CMS_Deviation_Detail!$I$24:$I$5800,CMS_Deviation_Detail!$B$24:$B$5800,$B75,CMS_Deviation_Detail!$C$24:$C$5800,$C75,CMS_Deviation_Detail!$D$24:$D$5800,$D75,CMS_Deviation_Detail!$J$24:$J$5800,\"Nonmonitoring Equipment Malfunctions\"))","v":""},{"$f":"IF($E75=\"\",\"\",SUMIFS(CMS_Deviation_Detail!$I$24:$I$5800,CMS_Deviation_Detail!$B$24:$B$5800,$B75,CMS_Deviation_Detail!$C$24:$C$5800,$C75,CMS_Deviation_Detail!$D$24:$D$5800,$D75,CMS_Deviation_Detail!$J$24:$J$5800,\"Quality Assurance/Quality Control Calibrations\"))","v":""},{"$f":"IF($E75=\"\",\"\",SUMIFS(CMS_Deviation_Detail!$I$24:$I$5800,CMS_Deviation_Detail!$B$24:$B$5800,$B75,CMS_Deviation_Detail!$C$24:$C$5800,$C75,CMS_Deviation_Detail!$D$24:$D$5800,$D75,CMS_Deviation_Detail!$J$24:$J$5800,\"Other Known Causes\"))","v":""},{"$f":"IF($E75=\"\",\"\",SUMIFS(CMS_Deviation_Detail!$I$24:$I$5800,CMS_Deviation_Detail!$B$24:$B$5800,$B75,CMS_Deviation_Detail!$C$24:$C$5800,$C75,CMS_Deviation_Detail!$D$24:$D$5800,$D75,CMS_Deviation_Detail!$J$24:$J$5800,\"Unknown Causes\"))","v":""}]
[null,{"$f":"IF(Lists!AP54=\"\",\"\",Lists!AP54)","v":""},{"$f":"IF(Lists!AQ54=\"\",\"\",Lists!AQ54)","v":""},{"$f":"IF(Lists!AR54=\"\",\"\",Lists!AR54)","v":""},{"$f":"IF(Lists!AW54=\"\",\"\",Lists!AT54)","v":""},{"$f":"IF($E76=\"\",\"\",SUMIFS(CMS_Deviation_Detail!$I$24:$I$5400,CMS_Deviation_Detail!$B$24:$B$5400,B76,CMS_Deviation_Detail!$C$24:$C$5400,C76,CMS_Deviation_Detail!$D$24:$D$5400,D76))","v":""},"",{"$f":"IF($E76=\"\",\"\",SUMIFS(CMS_Deviation_Detail!$I$24:$I$5800,CMS_Deviation_Detail!$B$24:$B$5800,$B76,CMS_Deviation_Detail!$C$24:$C$5800,$C76,CMS_Deviation_Detail!$D$24:$D$5800,$D76,CMS_Deviation_Detail!$J$24:$J$5800,\"Monitoring System Malfunctions\"))","v":""},{"$f":"IF($E76=\"\",\"\",SUMIFS(CMS_Deviation_Detail!$I$24:$I$5800,CMS_Deviation_Detail!$B$24:$B$5800,$B76,CMS_Deviation_Detail!$C$24:$C$5800,$C76,CMS_Deviation_Detail!$D$24:$D$5800,$D76,CMS_Deviation_Detail!$J$24:$J$5800,\"Nonmonitoring Equipment Malfunctions\"))","v":""},{"$f":"IF($E76=\"\",\"\",SUMIFS(CMS_Deviation_Detail!$I$24:$I$5800,CMS_Deviation_Detail!$B$24:$B$5800,$B76,CMS_Deviation_Detail!$C$24:$C$5800,$C76,CMS_Deviation_Detail!$D$24:$D$5800,$D76,CMS_Deviation_Detail!$J$24:$J$5800,\"Quality Assurance/Quality Control Calibrations\"))","v":""},{"$f":"IF($E76=\"\",\"\",SUMIFS(CMS_Deviation_Detail!$I$24:$I$5800,CMS_Deviation_Detail!$B$24:$B$5800,$B76,CMS_Deviation_Detail!$C$24:$C$5800,$C76,CMS_Deviation_Detail!$D$24:$D$5800,$D76,CMS_Deviation_Detail!$J$24:$J$5800,\"Other Known Causes\"))","v":""},{"$f":"IF($E76=\"\",\"\",SUMIFS(CMS_Deviation_Detail!$I$24:$I$5800,CMS_Deviation_Detail!$B$24:$B$5800,$B76,CMS_Deviation_Detail!$C$24:$C$5800,$C76,CMS_Deviation_Detail!$D$24:$D$5800,$D76,CMS_Deviation_Detail!$J$24:$J$5800,\"Unknown Causes\"))","v":""}]
[null,{"$f":"IF(Lists!AP55=\"\",\"\",Lists!AP55)","v":""},{"$f":"IF(Lists!AQ55=\"\",\"\",Lists!AQ55)","v":""},{"$f":"IF(Lists!AR55=\"\",\"\",Lists!AR55)","v":""},{"$f":"IF(Lists!AW55=\"\",\"\",Lists!AT55)","v":""},{"$f":"IF($E77=\"\",\"\",SUMIFS(CMS_Deviation_Detail!$I$24:$I$5400,CMS_Deviation_Detail!$B$24:$B$5400,B77,CMS_Deviation_Detail!$C$24:$C$5400,C77,CMS_Deviation_Detail!$D$24:$D$5400,D77))","v":""},"",{"$f":"IF($E77=\"\",\"\",SUMIFS(CMS_Deviation_Detail!$I$24:$I$5800,CMS_Deviation_Detail!$B$24:$B$5800,$B77,CMS_Deviation_Detail!$C$24:$C$5800,$C77,CMS_Deviation_Detail!$D$24:$D$5800,$D77,CMS_Deviation_Detail!$J$24:$J$5800,\"Monitoring System Malfunctions\"))","v":""},{"$f":"IF($E77=\"\",\"\",SUMIFS(CMS_Deviation_Detail!$I$24:$I$5800,CMS_Deviation_Detail!$B$24:$B$5800,$B77,CMS_Deviation_Detail!$C$24:$C$5800,$C77,CMS_Deviation_Detail!$D$24:$D$5800,$D77,CMS_Deviation_Detail!$J$24:$J$5800,\"Nonmonitoring Equipment Malfunctions\"))","v":""},{"$f":"IF($E77=\"\",\"\",SUMIFS(CMS_Deviation_Detail!$I$24:$I$5800,CMS_Deviation_Detail!$B$24:$B$5800,$B77,CMS_Deviation_Detail!$C$24:$C$5800,$C77,CMS_Deviation_Detail!$D$24:$D$5800,$D77,CMS_Deviation_Detail!$J$24:$J$5800,\"Quality Assurance/Quality Control Calibrations\"))","v":""},{"$f":"IF($E77=\"\",\"\",SUMIFS(CMS_Deviation_Detail!$I$24:$I$5800,CMS_Deviation_Detail!$B$24:$B$5800,$B77,CMS_Deviation_Detail!$C$24:$C$5800,$C77,CMS_Deviation_Detail!$D$24:$D$5800,$D77,CMS_Deviation_Detail!$J$24:$J$5800,\"Other Known Causes\"))","v":""},{"$f":"IF($E77=\"\",\"\",SUMIFS(CMS_Deviation_Detail!$I$24:$I$5800,CMS_Deviation_Detail!$B$24:$B$5800,$B77,CMS_Deviation_Detail!$C$24:$C$5800,$C77,CMS_Deviation_Detail!$D$24:$D$5800,$D77,CMS_Deviation_Detail!$J$24:$J$5800,\"Unknown Causes\"))","v":""}]
[null,{"$f":"IF(Lists!AP56=\"\",\"\",Lists!AP56)","v":""},{"$f":"IF(Lists!AQ56=\"\",\"\",Lists!AQ56)","v":""},{"$f":"IF(Lists!AR56=\"\",\"\",Lists!AR56)","v":""},{"$f":"IF(Lists!AW56=\"\",\"\",Lists!AT56)","v":""},{"$f":"IF($E78=\"\",\"\",SUMIFS(CMS_Deviation_Detail!$I$24:$I$5400,CMS_Deviation_Detail!$B$24:$B$5400,B78,CMS_Deviation_Detail!$C$24:$C$5400,C78,CMS_Deviation_Detail!$D$24:$D$5400,D78))","v":""},"",{"$f":"IF($E78=\"\",\"\",SUMIFS(CMS_Deviation_Detail!$I$24:$I$5800,CMS_Deviation_Detail!$B$24:$B$5800,$B78,CMS_Deviation_Detail!$C$24:$C$5800,$C78,CMS_Deviation_Detail!$D$24:$D$5800,$D78,CMS_Deviation_Detail!$J$24:$J$5800,\"Monitoring System Malfunctions\"))","v":""},{"$f":"IF($E78=\"\",\"\",SUMIFS(CMS_Deviation_Detail!$I$24:$I$5800,CMS_Deviation_Detail!$B$24:$B$5800,$B78,CMS_Deviation_Detail!$C$24:$C$5800,$C78,CMS_Deviation_Detail!$D$24:$D$5800,$D78,CMS_Deviation_Detail!$J$24:$J$5800,\"Nonmonitoring Equipment Malfunctions\"))","v":""},{"$f":"IF($E78=\"\",\"\",SUMIFS(CMS_Deviation_Detail!$I$24:$I$5800,CMS_Deviation_Detail!$B$24:$B$5800,$B78,CMS_Deviation_Detail!$C$24:$C$5800,$C78,CMS_Deviation_Detail!$D$24:$D$5800,$D78,CMS_Deviation_Detail!$J$24:$J$5800,\"Quality Assurance/Quality Control Calibrations\"))","v":""},{"$f":"IF($E78=\"\",\"\",SUMIFS(CMS_Deviation_Detail!$I$24:$I$5800,CMS_Deviation_Detail!$B$24:$B$5800,$B78,CMS_Deviation_Detail!$C$24:$C$5800,$C78,CMS_Deviation_Detail!$D$24:$D$5800,$D78,CMS_Deviation_Detail!$J$24:$J$5800,\"Other Known Causes\"))","v":""},{"$f":"IF($E78=\"\",\"\",SUMIFS(CMS_Deviation_Detail!$I$24:$I$5800,CMS_Deviation_Detail!$B$24:$B$5800,$B78,CMS_Deviation_Detail!$C$24:$C$5800,$C78,CMS_Deviation_Detail!$D$24:$D$5800,$D78,CMS_Deviation_Detail!$J$24:$J$5800,\"Unknown Causes\"))","v":""}]
[null,{"$f":"IF(Lists!AP57=\"\",\"\",Lists!AP57)","v":""},{"$f":"IF(Lists!AQ57=\"\",\"\",Lists!AQ57)","v":""},{"$f":"IF(Lists!AR57=\"\",\"\",Lists!AR57)","v":""},{"$f":"IF(Lists!AW57=\"\",\"\",Lists!AT57)","v":""},{"$f":"IF($E79=\"\",\"\",SUMIFS(CMS_Deviation_Detail!$I$24:$I$5400,CMS_Deviation_Detail!$B$24:$B$5400,B79,CMS_Deviation_Detail!$C$24:$C$5400,C79,CMS_Deviation_Detail!$D$24:$D$5400,D79))","v":""},"",{"$f":"IF($E79=\"\",\"\",SUMIFS(CMS_Deviation_Detail!$I$24:$I$5800,CMS_Deviation_Detail!$B$24:$B$5800,$B79,CMS_Deviation_Detail!$C$24:$C$5800,$C79,CMS_Deviation_Detail!$D$24:$D$5800,$D79,CMS_Deviation_Detail!$J$24:$J$5800,\"Monitoring System Malfunctions\"))","v":""},{"$f":"IF($E79=\"\",\"\",SUMIFS(CMS_Deviation_Detail!$I$24:$I$5800,CMS_Deviation_Detail!$B$24:$B$5800,$B79,CMS_Deviation_Detail!$C$24:$C$5800,$C79,CMS_Deviation_Detail!$D$24:$D$5800,$D79,CMS_Deviation_Detail!$J$24:$J$5800,\"Nonmonitoring Equipment Malfunctions\"))","v":""},{"$f":"IF($E79=\"\",\"\",SUMIFS(CMS_Deviation_Detail!$I$24:$I$5800,CMS_Deviation_Detail!$B$24:$B$5800,$B79,CMS_Deviation_Detail!$C$24:$C$5800,$C79,CMS_Deviation_Detail!$D$24:$D$5800,$D79,CMS_Deviation_Detail!$J$24:$J$5800,\"Quality Assurance/Quality Control Calibrations\"))","v":""},{"$f":"IF($E79=\"\",\"\",SUMIFS(CMS_Deviation_Detail!$I$24:$I$5800,CMS_Deviation_Detail!$B$24:$B$5800,$B79,CMS_Deviation_Detail!$C$24:$C$5800,$C79,CMS_Deviation_Detail!$D$24:$D$5800,$D79,CMS_Deviation_Detail!$J$24:$J$5800,\"Other Known Causes\"))","v":""},{"$f":"IF($E79=\"\",\"\",SUMIFS(CMS_Deviation_Detail!$I$24:$I$5800,CMS_Deviation_Detail!$B$24:$B$5800,$B79,CMS_Deviation_Detail!$C$24:$C$5800,$C79,CMS_Deviation_Detail!$D$24:$D$5800,$D79,CMS_Deviation_Detail!$J$24:$J$5800,\"Unknown Causes\"))","v":""}]
[null,{"$f":"IF(Lists!AP58=\"\",\"\",Lists!AP58)","v":""},{"$f":"IF(Lists!AQ58=\"\",\"\",Lists!AQ58)","v":""},{"$f":"IF(Lists!AR58=\"\",\"\",Lists!AR58)","v":""},{"$f":"IF(Lists!AW58=\"\",\"\",Lists!AT58)","v":""},{"$f":"IF($E80=\"\",\"\",SUMIFS(CMS_Deviation_Detail!$I$24:$I$5400,CMS_Deviation_Detail!$B$24:$B$5400,B80,CMS_Deviation_Detail!$C$24:$C$5400,C80,CMS_Deviation_Detail!$D$24:$D$5400,D80))","v":""},"",{"$f":"IF($E80=\"\",\"\",SUMIFS(CMS_Deviation_Detail!$I$24:$I$5800,CMS_Deviation_Detail!$B$24:$B$5800,$B80,CMS_Deviation_Detail!$C$24:$C$5800,$C80,CMS_Deviation_Detail!$D$24:$D$5800,$D80,CMS_Deviation_Detail!$J$24:$J$5800,\"Monitoring System Malfunctions\"))","v":""},{"$f":"IF($E80=\"\",\"\",SUMIFS(CMS_Deviation_Detail!$I$24:$I$5800,CMS_Deviation_Detail!$B$24:$B$5800,$B80,CMS_Deviation_Detail!$C$24:$C$5800,$C80,CMS_Deviation_Detail!$D$24:$D$5800,$D80,CMS_Deviation_Detail!$J$24:$J$5800,\"Nonmonitoring Equipment Malfunctions\"))","v":""},{"$f":"IF($E80=\"\",\"\",SUMIFS(CMS_Deviation_Detail!$I$24:$I$5800,CMS_Deviation_Detail!$B$24:$B$5800,$B80,CMS_Deviation_Detail!$C$24:$C$5800,$C80,CMS_Deviation_Detail!$D$24:$D$5800,$D80,CMS_Deviation_Detail!$J$24:$J$5800,\"Quality Assurance/Quality Control Calibrations\"))","v":""},{"$f":"IF($E80=\"\",\"\",SUMIFS(CMS_Deviation_Detail!$I$24:$I$5800,CMS_Deviation_Detail!$B$24:$B$5800,$B80,CMS_Deviation_Detail!$C$24:$C$5800,$C80,CMS_Deviation_Detail!$D$24:$D$5800,$D80,CMS_Deviation_Detail!$J$24:$J$5800,\"Other Known Causes\"))","v":""},{"$f":"IF($E80=\"\",\"\",SUMIFS(CMS_Deviation_Detail!$I$24:$I$5800,CMS_Deviation_Detail!$B$24:$B$5800,$B80,CMS_Deviation_Detail!$C$24:$C$5800,$C80,CMS_Deviation_Detail!$D$24:$D$5800,$D80,CMS_Deviation_Detail!$J$24:$J$5800,\"Unknown Causes\"))","v":""}]
[null,{"$f":"IF(Lists!AP59=\"\",\"\",Lists!AP59)","v":""},{"$f":"IF(Lists!AQ59=\"\",\"\",Lists!AQ59)","v":""},{"$f":"IF(Lists!AR59=\"\",\"\",Lists!AR59)","v":""},{"$f":"IF(Lists!AW59=\"\",\"\",Lists!AT59)","v":""},{"$f":"IF($E81=\"\",\"\",SUMIFS(CMS_Deviation_Detail!$I$24:$I$5400,CMS_Deviation_Detail!$B$24:$B$5400,B81,CMS_Deviation_Detail!$C$24:$C$5400,C81,CMS_Deviation_Detail!$D$24:$D$5400,D81))","v":""},"",{"$f":"IF($E81=\"\",\"\",SUMIFS(CMS_Deviation_Detail!$I$24:$I$5800,CMS_Deviation_Detail!$B$24:$B$5800,$B81,CMS_Deviation_Detail!$C$24:$C$5800,$C81,CMS_Deviation_Detail!$D$24:$D$5800,$D81,CMS_Deviation_Detail!$J$24:$J$5800,\"Monitoring System Malfunctions\"))","v":""},{"$f":"IF($E81=\"\",\"\",SUMIFS(CMS_Deviation_Detail!$I$24:$I$5800,CMS_Deviation_Detail!$B$24:$B$5800,$B81,CMS_Deviation_Detail!$C$24:$C$5800,$C81,CMS_Deviation_Detail!$D$24:$D$5800,$D81,CMS_Deviation_Detail!$J$24:$J$5800,\"Nonmonitoring Equipment Malfunctions\"))","v":""},{"$f":"IF($E81=\"\",\"\",SUMIFS(CMS_Deviation_Detail!$I$24:$I$5800,CMS_Deviation_Detail!$B$24:$B$5800,$B81,CMS_Deviation_Detail!$C$24:$C$5800,$C81,CMS_Deviation_Detail!$D$24:$D$5800,$D81,CMS_Deviation_Detail!$J$24:$J$5800,\"Quality Assurance/Quality Control Calibrations\"))","v":""},{"$f":"IF($E81=\"\",\"\",SUMIFS(CMS_Deviation_Detail!$I$24:$I$5800,CMS_Deviation_Detail!$B$24:$B$5800,$B81,CMS_Deviation_Detail!$C$24:$C$5800,$C81,CMS_Deviation_Detail!$D$24:$D$5800,$D81,CMS_Deviation_Detail!$J$24:$J$5800,\"Other Known Causes\"))","v":""},{"$f":"IF($E81=\"\",\"\",SUMIFS(CMS_Deviation_Detail!$I$24:$I$5800,CMS_Deviation_Detail!$B$24:$B$5800,$B81,CMS_Deviation_Detail!$C$24:$C$5800,$C81,CMS_Deviation_Detail!$D$24:$D$5800,$D81,CMS_Deviation_Detail!$J$24:$J$5800,\"Unknown Causes\"))","v":""}]
[null,{"$f":"IF(Lists!AP60=\"\",\"\",Lists!AP60)","v":""},{"$f":"IF(Lists!AQ60=\"\",\"\",Lists!AQ60)","v":""},{"$f":"IF(Lists!AR60=\"\",\"\",Lists!AR60)","v":""},{"$f":"IF(Lists!AW60=\"\",\"\",Lists!AT60)","v":""},{"$f":"IF($E82=\"\",\"\",SUMIFS(CMS_Deviation_Detail!$I$24:$I$5400,CMS_Deviation_Detail!$B$24:$B$5400,B82,CMS_Deviation_Detail!$C$24:$C$5400,C82,CMS_Deviation_Detail!$D$24:$D$5400,D82))","v":""},"",{"$f":"IF($E82=\"\",\"\",SUMIFS(CMS_Deviation_Detail!$I$24:$I$5800,CMS_Deviation_Detail!$B$24:$B$5800,$B82,CMS_Deviation_Detail!$C$24:$C$5800,$C82,CMS_Deviation_Detail!$D$24:$D$5800,$D82,CMS_Deviation_Detail!$J$24:$J$5800,\"Monitoring System Malfunctions\"))","v":""},{"$f":"IF($E82=\"\",\"\",SUMIFS(CMS_Deviation_Detail!$I$24:$I$5800,CMS_Deviation_Detail!$B$24:$B$5800,$B82,CMS_Deviation_Detail!$C$24:$C$5800,$C82,CMS_Deviation_Detail!$D$24:$D$5800,$D82,CMS_Deviation_Detail!$J$24:$J$5800,\"Nonmonitoring Equipment Malfunctions\"))","v":""},{"$f":"IF($E82=\"\",\"\",SUMIFS(CMS_Deviation_Detail!$I$24:$I$5800,CMS_Deviation_Detail!$B$24:$B$5800,$B82,CMS_Deviation_Detail!$C$24:$C$5800,$C82,CMS_Deviation_Detail!$D$24:$D$5800,$D82,CMS_Deviation_Detail!$J$24:$J$5800,\"Quality Assurance/Quality Control Calibrations\"))","v":""},{"$f":"IF($E82=\"\",\"\",SUMIFS(CMS_Deviation_Detail!$I$24:$I$5800,CMS_Deviation_Detail!$B$24:$B$5800,$B82,CMS_Deviation_Detail!$C$24:$C$5800,$C82,CMS_Deviation_Detail!$D$24:$D$5800,$D82,CMS_Deviation_Detail!$J$24:$J$5800,\"Other Known Causes\"))","v":""},{"$f":"IF($E82=\"\",\"\",SUMIFS(CMS_Deviation_Detail!$I$24:$I$5800,CMS_Deviation_Detail!$B$24:$B$5800,$B82,CMS_Deviation_Detail!$C$24:$C$5800,$C82,CMS_Deviation_Detail!$D$24:$D$5800,$D82,CMS_Deviation_Detail!$J$24:$J$5800,\"Unknown Causes\"))","v":""}]
[null,{"$f":"IF(Lists!AP61=\"\",\"\",Lists!AP61)","v":""},{"$f":"IF(Lists!AQ61=\"\",\"\",Lists!AQ61)","v":""},{"$f":"IF(Lists!AR61=\"\",\"\",Lists!AR61)","v":""},{"$f":"IF(Lists!AW61=\"\",\"\",Lists!AT61)","v":""},{"$f":"IF($E83=\"\",\"\",SUMIFS(CMS_Deviation_Detail!$I$24:$I$5400,CMS_Deviation_Detail!$B$24:$B$5400,B83,CMS_Deviation_Detail!$C$24:$C$5400,C83,CMS_Deviation_Detail!$D$24:$D$5400,D83))","v":""},"",{"$f":"IF($E83=\"\",\"\",SUMIFS(CMS_Deviation_Detail!$I$24:$I$5800,CMS_Deviation_Detail!$B$24:$B$5800,$B83,CMS_Deviation_Detail!$C$24:$C$5800,$C83,CMS_Deviation_Detail!$D$24:$D$5800,$D83,CMS_Deviation_Detail!$J$24:$J$5800,\"Monitoring System Malfunctions\"))","v":""},{"$f":"IF($E83=\"\",\"\",SUMIFS(CMS_Deviation_Detail!$I$24:$I$5800,CMS_Deviation_Detail!$B$24:$B$5800,$B83,CMS_Deviation_Detail!$C$24:$C$5800,$C83,CMS_Deviation_Detail!$D$24:$D$5800,$D83,CMS_Deviation_Detail!$J$24:$J$5800,\"Nonmonitoring Equipment Malfunctions\"))","v":""},{"$f":"IF($E83=\"\",\"\",SUMIFS(CMS_Deviation_Detail!$I$24:$I$5800,CMS_Deviation_Detail!$B$24:$B$5800,$B83,CMS_Deviation_Detail!$C$24:$C$5800,$C83,CMS_Deviation_Detail!$D$24:$D$5800,$D83,CMS_Deviation_Detail!$J$24:$J$5800,\"Quality Assurance/Quality Control Calibrations\"))","v":""},{"$f":"IF($E83=\"\",\"\",SUMIFS(CMS_Deviation_Detail!$I$24:$I$5800,CMS_Deviation_Detail!$B$24:$B$5800,$B83,CMS_Deviation_Detail!$C$24:$C$5800,$C83,CMS_Deviation_Detail!$D$24:$D$5800,$D83,CMS_Deviation_Detail!$J$24:$J$5800,\"Other Known Causes\"))","v":""},{"$f":"IF($E83=\"\",\"\",SUMIFS(CMS_Deviation_Detail!$I$24:$I$5800,CMS_Deviation_Detail!$B$24:$B$5800,$B83,CMS_Deviation_Detail!$C$24:$C$5800,$C83,CMS_Deviation_Detail!$D$24:$D$5800,$D83,CMS_Deviation_Detail!$J$24:$J$5800,\"Unknown Causes\"))","v":""}]
[null,{"$f":"IF(Lists!AP62=\"\",\"\",Lists!AP62)","v":""},{"$f":"IF(Lists!AQ62=\"\",\"\",Lists!AQ62)","v":""},{"$f":"IF(Lists!AR62=\"\",\"\",Lists!AR62)","v":""},{"$f":"IF(Lists!AW62=\"\",\"\",Lists!AT62)","v":""},{"$f":"IF($E84=\"\",\"\",SUMIFS(CMS_Deviation_Detail!$I$24:$I$5400,CMS_Deviation_Detail!$B$24:$B$5400,B84,CMS_Deviation_Detail!$C$24:$C$5400,C84,CMS_Deviation_Detail!$D$24:$D$5400,D84))","v":""},"",{"$f":"IF($E84=\"\",\"\",SUMIFS(CMS_Deviation_Detail!$I$24:$I$5800,CMS_Deviation_Detail!$B$24:$B$5800,$B84,CMS_Deviation_Detail!$C$24:$C$5800,$C84,CMS_Deviation_Detail!$D$24:$D$5800,$D84,CMS_Deviation_Detail!$J$24:$J$5800,\"Monitoring System Malfunctions\"))","v":""},{"$f":"IF($E84=\"\",\"\",SUMIFS(CMS_Deviation_Detail!$I$24:$I$5800,CMS_Deviation_Detail!$B$24:$B$5800,$B84,CMS_Deviation_Detail!$C$24:$C$5800,$C84,CMS_Deviation_Detail!$D$24:$D$5800,$D84,CMS_Deviation_Detail!$J$24:$J$5800,\"Nonmonitoring Equipment Malfunctions\"))","v":""},{"$f":"IF($E84=\"\",\"\",SUMIFS(CMS_Deviation_Detail!$I$24:$I$5800,CMS_Deviation_Detail!$B$24:$B$5800,$B84,CMS_Deviation_Detail!$C$24:$C$5800,$C84,CMS_Deviation_Detail!$D$24:$D$5800,$D84,CMS_Deviation_Detail!$J$24:$J$5800,\"Quality Assurance/Quality Control Calibrations\"))","v":""},{"$f":"IF($E84=\"\",\"\",SUMIFS(CMS_Deviation_Detail!$I$24:$I$5800,CMS_Deviation_Detail!$B$24:$B$5800,$B84,CMS_Deviation_Detail!$C$24:$C$5800,$C84,CMS_Deviation_Detail!$D$24:$D$5800,$D84,CMS_Deviation_Detail!$J$24:$J$5800,\"Other Known Causes\"))","v":""},{"$f":"IF($E84=\"\",\"\",SUMIFS(CMS_Deviation_Detail!$I$24:$I$5800,CMS_Deviation_Detail!$B$24:$B$5800,$B84,CMS_Deviation_Detail!$C$24:$C$5800,$C84,CMS_Deviation_Detail!$D$24:$D$5800,$D84,CMS_Deviation_Detail!$J$24:$J$5800,\"Unknown Causes\"))","v":""}]
[null,{"$f":"IF(Lists!AP63=\"\",\"\",Lists!AP63)","v":""},{"$f":"IF(Lists!AQ63=\"\",\"\",Lists!AQ63)","v":""},{"$f":"IF(Lists!AR63=\"\",\"\",Lists!AR63)","v":""},{"$f":"IF(Lists!AW63=\"\",\"\",Lists!AT63)","v":""},{"$f":"IF($E85=\"\",\"\",SUMIFS(CMS_Deviation_Detail!$I$24:$I$5400,CMS_Deviation_Detail!$B$24:$B$5400,B85,CMS_Deviation_Detail!$C$24:$C$5400,C85,CMS_Deviation_Detail!$D$24:$D$5400,D85))","v":""},"",{"$f":"IF($E85=\"\",\"\",SUMIFS(CMS_Deviation_Detail!$I$24:$I$5800,CMS_Deviation_Detail!$B$24:$B$5800,$B85,CMS_Deviation_Detail!$C$24:$C$5800,$C85,CMS_Deviation_Detail!$D$24:$D$5800,$D85,CMS_Deviation_Detail!$J$24:$J$5800,\"Monitoring System Malfunctions\"))","v":""},{"$f":"IF($E85=\"\",\"\",SUMIFS(CMS_Deviation_Detail!$I$24:$I$5800,CMS_Deviation_Detail!$B$24:$B$5800,$B85,CMS_Deviation_Detail!$C$24:$C$5800,$C85,CMS_Deviation_Detail!$D$24:$D$5800,$D85,CMS_Deviation_Detail!$J$24:$J$5800,\"Nonmonitoring Equipment Malfunctions\"))","v":""},{"$f":"IF($E85=\"\",\"\",SUMIFS(CMS_Deviation_Detail!$I$24:$I$5800,CMS_Deviation_Detail!$B$24:$B$5800,$B85,CMS_Deviation_Detail!$C$24:$C$5800,$C85,CMS_Deviation_Detail!$D$24:$D$5800,$D85,CMS_Deviation_Detail!$J$24:$J$5800,\"Quality Assurance/Quality Control Calibrations\"))","v":""},{"$f":"IF($E85=\"\",\"\",SUMIFS(CMS_Deviation_Detail!$I$24:$I$5800,CMS_Deviation_Detail!$B$24:$B$5800,$B85,CMS_Deviation_Detail!$C$24:$C$5800,$C85,CMS_Deviation_Detail!$D$24:$D$5800,$D85,CMS_Deviation_Detail!$J$24:$J$5800,\"Other Known Causes\"))","v":""},{"$f":"IF($E85=\"\",\"\",SUMIFS(CMS_Deviation_Detail!$I$24:$I$5800,CMS_Deviation_Detail!$B$24:$B$5800,$B85,CMS_Deviation_Detail!$C$24:$C$5800,$C85,CMS_Deviation_Detail!$D$24:$D$5800,$D85,CMS_Deviation_Detail!$J$24:$J$5800,\"Unknown Causes\"))","v":""}]
[null,{"$f":"IF(Lists!AP64=\"\",\"\",Lists!AP64)","v":""},{"$f":"IF(Lists!AQ64=\"\",\"\",Lists!AQ64)","v":""},{"$f":"IF(Lists!AR64=\"\",\"\",Lists!AR64)","v":""},{"$f":"IF(Lists!AW64=\"\",\"\",Lists!AT64)","v":""},{"$f":"IF($E86=\"\",\"\",SUMIFS(CMS_Deviation_Detail!$I$24:$I$5400,CMS_Deviation_Detail!$B$24:$B$5400,B86,CMS_Deviation_Detail!$C$24:$C$5400,C86,CMS_Deviation_Detail!$D$24:$D$5400,D86))","v":""},"",{"$f":"IF($E86=\"\",\"\",SUMIFS(CMS_Deviation_Detail!$I$24:$I$5800,CMS_Deviation_Detail!$B$24:$B$5800,$B86,CMS_Deviation_Detail!$C$24:$C$5800,$C86,CMS_Deviation_Detail!$D$24:$D$5800,$D86,CMS_Deviation_Detail!$J$24:$J$5800,\"Monitoring System Malfunctions\"))","v":""},{"$f":"IF($E86=\"\",\"\",SUMIFS(CMS_Deviation_Detail!$I$24:$I$5800,CMS_Deviation_Detail!$B$24:$B$5800,$B86,CMS_Deviation_Detail!$C$24:$C$5800,$C86,CMS_Deviation_Detail!$D$24:$D$5800,$D86,CMS_Deviation_Detail!$J$24:$J$5800,\"Nonmonitoring Equipment Malfunctions\"))","v":""},{"$f":"IF($E86=\"\",\"\",SUMIFS(CMS_Deviation_Detail!$I$24:$I$5800,CMS_Deviation_Detail!$B$24:$B$5800,$B86,CMS_Deviation_Detail!$C$24:$C$5800,$C86,CMS_Deviation_Detail!$D$24:$D$5800,$D86,CMS_Deviation_Detail!$J$24:$J$5800,\"Quality Assurance/Quality Control Calibrations\"))","v":""},{"$f":"IF($E86=\"\",\"\",SUMIFS(CMS_Deviation_Detail!$I$24:$I$5800,CMS_Deviation_Detail!$B$24:$B$5800,$B86,CMS_Deviation_Detail!$C$24:$C$5800,$C86,CMS_Deviation_Detail!$D$24:$D$5800,$D86,CMS_Deviation_Detail!$J$24:$J$5800,\"Other Known Causes\"))","v":""},{"$f":"IF($E86=\"\",\"\",SUMIFS(CMS_Deviation_Detail!$I$24:$I$5800,CMS_Deviation_Detail!$B$24:$B$5800,$B86,CMS_Deviation_Detail!$C$24:$C$5800,$C86,CMS_Deviation_Detail!$D$24:$D$5800,$D86,CMS_Deviation_Detail!$J$24:$J$5800,\"Unknown Causes\"))","v":""}]
[null,{"$f":"IF(Lists!AP65=\"\",\"\",Lists!AP65)","v":""},{"$f":"IF(Lists!AQ65=\"\",\"\",Lists!AQ65)","v":""},{"$f":"IF(Lists!AR65=\"\",\"\",Lists!AR65)","v":""},{"$f":"IF(Lists!AW65=\"\",\"\",Lists!AT65)","v":""},{"$f":"IF($E87=\"\",\"\",SUMIFS(CMS_Deviation_Detail!$I$24:$I$5400,CMS_Deviation_Detail!$B$24:$B$5400,B87,CMS_Deviation_Detail!$C$24:$C$5400,C87,CMS_Deviation_Detail!$D$24:$D$5400,D87))","v":""},"",{"$f":"IF($E87=\"\",\"\",SUMIFS(CMS_Deviation_Detail!$I$24:$I$5800,CMS_Deviation_Detail!$B$24:$B$5800,$B87,CMS_Deviation_Detail!$C$24:$C$5800,$C87,CMS_Deviation_Detail!$D$24:$D$5800,$D87,CMS_Deviation_Detail!$J$24:$J$5800,\"Monitoring System Malfunctions\"))","v":""},{"$f":"IF($E87=\"\",\"\",SUMIFS(CMS_Deviation_Detail!$I$24:$I$5800,CMS_Deviation_Detail!$B$24:$B$5800,$B87,CMS_Deviation_Detail!$C$24:$C$5800,$C87,CMS_Deviation_Detail!$D$24:$D$5800,$D87,CMS_Deviation_Detail!$J$24:$J$5800,\"Nonmonitoring Equipment Malfunctions\"))","v":""},{"$f":"IF($E87=\"\",\"\",SUMIFS(CMS_Deviation_Detail!$I$24:$I$5800,CMS_Deviation_Detail!$B$24:$B$5800,$B87,CMS_Deviation_Detail!$C$24:$C$5800,$C87,CMS_Deviation_Detail!$D$24:$D$5800,$D87,CMS_Deviation_Detail!$J$24:$J$5800,\"Quality Assurance/Quality Control Calibrations\"))","v":""},{"$f":"IF($E87=\"\",\"\",SUMIFS(CMS_Deviation_Detail!$I$24:$I$5800,CMS_Deviation_Detail!$B$24:$B$5800,$B87,CMS_Deviation_Detail!$C$24:$C$5800,$C87,CMS_Deviation_Detail!$D$24:$D$5800,$D87,CMS_Deviation_Detail!$J$24:$J$5800,\"Other Known Causes\"))","v":""},{"$f":"IF($E87=\"\",\"\",SUMIFS(CMS_Deviation_Detail!$I$24:$I$5800,CMS_Deviation_Detail!$B$24:$B$5800,$B87,CMS_Deviation_Detail!$C$24:$C$5800,$C87,CMS_Deviation_Detail!$D$24:$D$5800,$D87,CMS_Deviation_Detail!$J$24:$J$5800,\"Unknown Causes\"))","v":""}]
[null,{"$f":"IF(Lists!AP66=\"\",\"\",Lists!AP66)","v":""},{"$f":"IF(Lists!AQ66=\"\",\"\",Lists!AQ66)","v":""},{"$f":"IF(Lists!AR66=\"\",\"\",Lists!AR66)","v":""},{"$f":"IF(Lists!AW66=\"\",\"\",Lists!AT66)","v":""},{"$f":"IF($E88=\"\",\"\",SUMIFS(CMS_Deviation_Detail!$I$24:$I$5400,CMS_Deviation_Detail!$B$24:$B$5400,B88,CMS_Deviation_Detail!$C$24:$C$5400,C88,CMS_Deviation_Detail!$D$24:$D$5400,D88))","v":""},"",{"$f":"IF($E88=\"\",\"\",SUMIFS(CMS_Deviation_Detail!$I$24:$I$5800,CMS_Deviation_Detail!$B$24:$B$5800,$B88,CMS_Deviation_Detail!$C$24:$C$5800,$C88,CMS_Deviation_Detail!$D$24:$D$5800,$D88,CMS_Deviation_Detail!$J$24:$J$5800,\"Monitoring System Malfunctions\"))","v":""},{"$f":"IF($E88=\"\",\"\",SUMIFS(CMS_Deviation_Detail!$I$24:$I$5800,CMS_Deviation_Detail!$B$24:$B$5800,$B88,CMS_Deviation_Detail!$C$24:$C$5800,$C88,CMS_Deviation_Detail!$D$24:$D$5800,$D88,CMS_Deviation_Detail!$J$24:$J$5800,\"Nonmonitoring Equipment Malfunctions\"))","v":""},{"$f":"IF($E88=\"\",\"\",SUMIFS(CMS_Deviation_Detail!$I$24:$I$5800,CMS_Deviation_Detail!$B$24:$B$5800,$B88,CMS_Deviation_Detail!$C$24:$C$5800,$C88,CMS_Deviation_Detail!$D$24:$D$5800,$D88,CMS_Deviation_Detail!$J$24:$J$5800,\"Quality Assurance/Quality Control Calibrations\"))","v":""},{"$f":"IF($E88=\"\",\"\",SUMIFS(CMS_Deviation_Detail!$I$24:$I$5800,CMS_Deviation_Detail!$B$24:$B$5800,$B88,CMS_Deviation_Detail!$C$24:$C$5800,$C88,CMS_Deviation_Detail!$D$24:$D$5800,$D88,CMS_Deviation_Detail!$J$24:$J$5800,\"Other Known Causes\"))","v":""},{"$f":"IF($E88=\"\",\"\",SUMIFS(CMS_Deviation_Detail!$I$24:$I$5800,CMS_Deviation_Detail!$B$24:$B$5800,$B88,CMS_Deviation_Detail!$C$24:$C$5800,$C88,CMS_Deviation_Detail!$D$24:$D$5800,$D88,CMS_Deviation_Detail!$J$24:$J$5800,\"Unknown Causes\"))","v":""}]
[null,{"$f":"IF(Lists!AP67=\"\",\"\",Lists!AP67)","v":""},{"$f":"IF(Lists!AQ67=\"\",\"\",Lists!AQ67)","v":""},{"$f":"IF(Lists!AR67=\"\",\"\",Lists!AR67)","v":""},{"$f":"IF(Lists!AW67=\"\",\"\",Lists!AT67)","v":""},{"$f":"IF($E89=\"\",\"\",SUMIFS(CMS_Deviation_Detail!$I$24:$I$5400,CMS_Deviation_Detail!$B$24:$B$5400,B89,CMS_Deviation_Detail!$C$24:$C$5400,C89,CMS_Deviation_Detail!$D$24:$D$5400,D89))","v":""},{"$f":"IF($E89=\"\",\"\",IF(F89=0,\"N/A\",F89/$E89))","v":""},{"$f":"IF($E89=\"\",\"\",SUMIFS(CMS_Deviation_Detail!$I$24:$I$5800,CMS_Deviation_Detail!$B$24:$B$5800,$B89,CMS_Deviation_Detail!$C$24:$C$5800,$C89,CMS_Deviation_Detail!$D$24:$D$5800,$D89,CMS_Deviation_Detail!$J$24:$J$5800,\"Monitoring System Malfunctions\"))","v":""},{"$f":"IF($E89=\"\",\"\",SUMIFS(CMS_Deviation_Detail!$I$24:$I$5800,CMS_Deviation_Detail!$B$24:$B$5800,$B89,CMS_Deviation_Detail!$C$24:$C$5800,$C89,CMS_Deviation_Detail!$D$24:$D$5800,$D89,CMS_Deviation_Detail!$J$24:$J$5800,\"Nonmonitoring Equipment Malfunctions\"))","v":""},{"$f":"IF($E89=\"\",\"\",SUMIFS(CMS_Deviation_Detail!$I$24:$I$5800,CMS_Deviation_Detail!$B$24:$B$5800,$B89,CMS_Deviation_Detail!$C$24:$C$5800,$C89,CMS_Deviation_Detail!$D$24:$D$5800,$D89,CMS_Deviation_Detail!$J$24:$J$5800,\"Quality Assurance/Quality Control Calibrations\"))","v":""},{"$f":"IF($E89=\"\",\"\",SUMIFS(CMS_Deviation_Detail!$I$24:$I$5800,CMS_Deviation_Detail!$B$24:$B$5800,$B89,CMS_Deviation_Detail!$C$24:$C$5800,$C89,CMS_Deviation_Detail!$D$24:$D$5800,$D89,CMS_Deviation_Detail!$J$24:$J$5800,\"Other Known Causes\"))","v":""},{"$f":"IF($E89=\"\",\"\",SUMIFS(CMS_Deviation_Detail!$I$24:$I$5800,CMS_Deviation_Detail!$B$24:$B$5800,$B89,CMS_Deviation_Detail!$C$24:$C$5800,$C89,CMS_Deviation_Detail!$D$24:$D$5800,$D89,CMS_Deviation_Detail!$J$24:$J$5800,\"Unknown Causes\"))","v":""}]
[null,{"$f":"IF(Lists!AP68=\"\",\"\",Lists!AP68)","v":""},{"$f":"IF(Lists!AQ68=\"\",\"\",Lists!AQ68)","v":""},{"$f":"IF(Lists!AR68=\"\",\"\",Lists!AR68)","v":""},{"$f":"IF(Lists!AW68=\"\",\"\",Lists!AT68)","v":""},{"$f":"IF($E90=\"\",\"\",SUMIFS(CMS_Deviation_Detail!$I$24:$I$5400,CMS_Deviation_Detail!$B$24:$B$5400,B90,CMS_Deviation_Detail!$C$24:$C$5400,C90,CMS_Deviation_Detail!$D$24:$D$5400,D90))","v":""},"",{"$f":"IF($E90=\"\",\"\",SUMIFS(CMS_Deviation_Detail!$I$24:$I$5800,CMS_Deviation_Detail!$B$24:$B$5800,$B90,CMS_Deviation_Detail!$C$24:$C$5800,$C90,CMS_Deviation_Detail!$D$24:$D$5800,$D90,CMS_Deviation_Detail!$J$24:$J$5800,\"Monitoring System Malfunctions\"))","v":""},{"$f":"IF($E90=\"\",\"\",SUMIFS(CMS_Deviation_Detail!$I$24:$I$5800,CMS_Deviation_Detail!$B$24:$B$5800,$B90,CMS_Deviation_Detail!$C$24:$C$5800,$C90,CMS_Deviation_Detail!$D$24:$D$5800,$D90,CMS_Deviation_Detail!$J$24:$J$5800,\"Nonmonitoring Equipment Malfunctions\"))","v":""},{"$f":"IF($E90=\"\",\"\",SUMIFS(CMS_Deviation_Detail!$I$24:$I$5800,CMS_Deviation_Detail!$B$24:$B$5800,$B90,CMS_Deviation_Detail!$C$24:$C$5800,$C90,CMS_Deviation_Detail!$D$24:$D$5800,$D90,CMS_Deviation_Detail!$J$24:$J$5800,\"Quality Assurance/Quality Control Calibrations\"))","v":""},{"$f":"IF($E90=\"\",\"\",SUMIFS(CMS_Deviation_Detail!$I$24:$I$5800,CMS_Deviation_Detail!$B$24:$B$5800,$B90,CMS_Deviation_Detail!$C$24:$C$5800,$C90,CMS_Deviation_Detail!$D$24:$D$5800,$D90,CMS_Deviation_Detail!$J$24:$J$5800,\"Other Known Causes\"))","v":""},{"$f":"IF($E90=\"\",\"\",SUMIFS(CMS_Deviation_Detail!$I$24:$I$5800,CMS_Deviation_Detail!$B$24:$B$5800,$B90,CMS_Deviation_Detail!$C$24:$C$5800,$C90,CMS_Deviation_Detail!$D$24:$D$5800,$D90,CMS_Deviation_Detail!$J$24:$J$5800,\"Unknown Causes\"))","v":""}]
[null,{"$f":"IF(Lists!AP69=\"\",\"\",Lists!AP69)","v":""},{"$f":"IF(Lists!AQ69=\"\",\"\",Lists!AQ69)","v":""},{"$f":"IF(Lists!AR69=\"\",\"\",Lists!AR69)","v":""},{"$f":"IF(Lists!AW69=\"\",\"\",Lists!AT69)","v":""},{"$f":"IF($E91=\"\",\"\",SUMIFS(CMS_Deviation_Detail!$I$24:$I$5400,CMS_Deviation_Detail!$B$24:$B$5400,B91,CMS_Deviation_Detail!$C$24:$C$5400,C91,CMS_Deviation_Detail!$D$24:$D$5400,D91))","v":""},"",{"$f":"IF($E91=\"\",\"\",SUMIFS(CMS_Deviation_Detail!$I$24:$I$5800,CMS_Deviation_Detail!$B$24:$B$5800,$B91,CMS_Deviation_Detail!$C$24:$C$5800,$C91,CMS_Deviation_Detail!$D$24:$D$5800,$D91,CMS_Deviation_Detail!$J$24:$J$5800,\"Monitoring System Malfunctions\"))","v":""},{"$f":"IF($E91=\"\",\"\",SUMIFS(CMS_Deviation_Detail!$I$24:$I$5800,CMS_Deviation_Detail!$B$24:$B$5800,$B91,CMS_Deviation_Detail!$C$24:$C$5800,$C91,CMS_Deviation_Detail!$D$24:$D$5800,$D91,CMS_Deviation_Detail!$J$24:$J$5800,\"Nonmonitoring Equipment Malfunctions\"))","v":""},{"$f":"IF($E91=\"\",\"\",SUMIFS(CMS_Deviation_Detail!$I$24:$I$5800,CMS_Deviation_Detail!$B$24:$B$5800,$B91,CMS_Deviation_Detail!$C$24:$C$5800,$C91,CMS_Deviation_Detail!$D$24:$D$5800,$D91,CMS_Deviation_Detail!$J$24:$J$5800,\"Quality Assurance/Quality Control Calibrations\"))","v":""},{"$f":"IF($E91=\"\",\"\",SUMIFS(CMS_Deviation_Detail!$I$24:$I$5800,CMS_Deviation_Detail!$B$24:$B$5800,$B91,CMS_Deviation_Detail!$C$24:$C$5800,$C91,CMS_Deviation_Detail!$D$24:$D$5800,$D91,CMS_Deviation_Detail!$J$24:$J$5800,\"Other Known Causes\"))","v":""},{"$f":"IF($E91=\"\",\"\",SUMIFS(CMS_Deviation_Detail!$I$24:$I$5800,CMS_Deviation_Detail!$B$24:$B$5800,$B91,CMS_Deviation_Detail!$C$24:$C$5800,$C91,CMS_Deviation_Detail!$D$24:$D$5800,$D91,CMS_Deviation_Detail!$J$24:$J$5800,\"Unknown Causes\"))","v":""}]
[null,{"$f":"IF(Lists!AP70=\"\",\"\",Lists!AP70)","v":""},{"$f":"IF(Lists!AQ70=\"\",\"\",Lists!AQ70)","v":""},{"$f":"IF(Lists!AR70=\"\",\"\",Lists!AR70)","v":""},{"$f":"IF(Lists!AW70=\"\",\"\",Lists!AT70)","v":""},{"$f":"IF($E92=\"\",\"\",SUMIFS(CMS_Deviation_Detail!$I$24:$I$5400,CMS_Deviation_Detail!$B$24:$B$5400,B92,CMS_Deviation_Detail!$C$24:$C$5400,C92,CMS_Deviation_Detail!$D$24:$D$5400,D92))","v":""},"",{"$f":"IF($E92=\"\",\"\",SUMIFS(CMS_Deviation_Detail!$I$24:$I$5800,CMS_Deviation_Detail!$B$24:$B$5800,$B92,CMS_Deviation_Detail!$C$24:$C$5800,$C92,CMS_Deviation_Detail!$D$24:$D$5800,$D92,CMS_Deviation_Detail!$J$24:$J$5800,\"Monitoring System Malfunctions\"))","v":""},{"$f":"IF($E92=\"\",\"\",SUMIFS(CMS_Deviation_Detail!$I$24:$I$5800,CMS_Deviation_Detail!$B$24:$B$5800,$B92,CMS_Deviation_Detail!$C$24:$C$5800,$C92,CMS_Deviation_Detail!$D$24:$D$5800,$D92,CMS_Deviation_Detail!$J$24:$J$5800,\"Nonmonitoring Equipment Malfunctions\"))","v":""},{"$f":"IF($E92=\"\",\"\",SUMIFS(CMS_Deviation_Detail!$I$24:$I$5800,CMS_Deviation_Detail!$B$24:$B$5800,$B92,CMS_Deviation_Detail!$C$24:$C$5800,$C92,CMS_Deviation_Detail!$D$24:$D$5800,$D92,CMS_Deviation_Detail!$J$24:$J$5800,\"Quality Assurance/Quality Control Calibrations\"))","v":""},{"$f":"IF($E92=\"\",\"\",SUMIFS(CMS_Deviation_Detail!$I$24:$I$5800,CMS_Deviation_Detail!$B$24:$B$5800,$B92,CMS_Deviation_Detail!$C$24:$C$5800,$C92,CMS_Deviation_Detail!$D$24:$D$5800,$D92,CMS_Deviation_Detail!$J$24:$J$5800,\"Other Known Causes\"))","v":""},{"$f":"IF($E92=\"\",\"\",SUMIFS(CMS_Deviation_Detail!$I$24:$I$5800,CMS_Deviation_Detail!$B$24:$B$5800,$B92,CMS_Deviation_Detail!$C$24:$C$5800,$C92,CMS_Deviation_Detail!$D$24:$D$5800,$D92,CMS_Deviation_Detail!$J$24:$J$5800,\"Unknown Causes\"))","v":""}]
[null,{"$f":"IF(Lists!AP71=\"\",\"\",Lists!AP71)","v":""},{"$f":"IF(Lists!AQ71=\"\",\"\",Lists!AQ71)","v":""},{"$f":"IF(Lists!AR71=\"\",\"\",Lists!AR71)","v":""},{"$f":"IF(Lists!AW71=\"\",\"\",Lists!AT71)","v":""},{"$f":"IF($E93=\"\",\"\",SUMIFS(CMS_Deviation_Detail!$I$24:$I$5400,CMS_Deviation_Detail!$B$24:$B$5400,B93,CMS_Deviation_Detail!$C$24:$C$5400,C93,CMS_Deviation_Detail!$D$24:$D$5400,D93))","v":""},"",{"$f":"IF($E93=\"\",\"\",SUMIFS(CMS_Deviation_Detail!$I$24:$I$5800,CMS_Deviation_Detail!$B$24:$B$5800,$B93,CMS_Deviation_Detail!$C$24:$C$5800,$C93,CMS_Deviation_Detail!$D$24:$D$5800,$D93,CMS_Deviation_Detail!$J$24:$J$5800,\"Monitoring System Malfunctions\"))","v":""},{"$f":"IF($E93=\"\",\"\",SUMIFS(CMS_Deviation_Detail!$I$24:$I$5800,CMS_Deviation_Detail!$B$24:$B$5800,$B93,CMS_Deviation_Detail!$C$24:$C$5800,$C93,CMS_Deviation_Detail!$D$24:$D$5800,$D93,CMS_Deviation_Detail!$J$24:$J$5800,\"Nonmonitoring Equipment Malfunctions\"))","v":""},{"$f":"IF($E93=\"\",\"\",SUMIFS(CMS_Deviation_Detail!$I$24:$I$5800,CMS_Deviation_Detail!$B$24:$B$5800,$B93,CMS_Deviation_Detail!$C$24:$C$5800,$C93,CMS_Deviation_Detail!$D$24:$D$5800,$D93,CMS_Deviation_Detail!$J$24:$J$5800,\"Quality Assurance/Quality Control Calibrations\"))","v":""},{"$f":"IF($E93=\"\",\"\",SUMIFS(CMS_Deviation_Detail!$I$24:$I$5800,CMS_Deviation_Detail!$B$24:$B$5800,$B93,CMS_Deviation_Detail!$C$24:$C$5800,$C93,CMS_Deviation_Detail!$D$24:$D$5800,$D93,CMS_Deviation_Detail!$J$24:$J$5800,\"Other Known Causes\"))","v":""},{"$f":"IF($E93=\"\",\"\",SUMIFS(CMS_Deviation_Detail!$I$24:$I$5800,CMS_Deviation_Detail!$B$24:$B$5800,$B93,CMS_Deviation_Detail!$C$24:$C$5800,$C93,CMS_Deviation_Detail!$D$24:$D$5800,$D93,CMS_Deviation_Detail!$J$24:$J$5800,\"Unknown Causes\"))","v":""}]
[null,{"$f":"IF(Lists!AP72=\"\",\"\",Lists!AP72)","v":""},{"$f":"IF(Lists!AQ72=\"\",\"\",Lists!AQ72)","v":""},{"$f":"IF(Lists!AR72=\"\",\"\",Lists!AR72)","v":""},{"$f":"IF(Lists!AW72=\"\",\"\",Lists!AT72)","v":""},{"$f":"IF($E94=\"\",\"\",SUMIFS(CMS_Deviation_Detail!$I$24:$I$5400,CMS_Deviation_Detail!$B$24:$B$5400,B94,CMS_Deviation_Detail!$C$24:$C$5400,C94,CMS_Deviation_Detail!$D$24:$D$5400,D94))","v":""},"",{"$f":"IF($E94=\"\",\"\",SUMIFS(CMS_Deviation_Detail!$I$24:$I$5800,CMS_Deviation_Detail!$B$24:$B$5800,$B94,CMS_Deviation_Detail!$C$24:$C$5800,$C94,CMS_Deviation_Detail!$D$24:$D$5800,$D94,CMS_Deviation_Detail!$J$24:$J$5800,\"Monitoring System Malfunctions\"))","v":""},{"$f":"IF($E94=\"\",\"\",SUMIFS(CMS_Deviation_Detail!$I$24:$I$5800,CMS_Deviation_Detail!$B$24:$B$5800,$B94,CMS_Deviation_Detail!$C$24:$C$5800,$C94,CMS_Deviation_Detail!$D$24:$D$5800,$D94,CMS_Deviation_Detail!$J$24:$J$5800,\"Nonmonitoring Equipment Malfunctions\"))","v":""},{"$f":"IF($E94=\"\",\"\",SUMIFS(CMS_Deviation_Detail!$I$24:$I$5800,CMS_Deviation_Detail!$B$24:$B$5800,$B94,CMS_Deviation_Detail!$C$24:$C$5800,$C94,CMS_Deviation_Detail!$D$24:$D$5800,$D94,CMS_Deviation_Detail!$J$24:$J$5800,\"Quality Assurance/Quality Control Calibrations\"))","v":""},{"$f":"IF($E94=\"\",\"\",SUMIFS(CMS_Deviation_Detail!$I$24:$I$5800,CMS_Deviation_Detail!$B$24:$B$5800,$B94,CMS_Deviation_Detail!$C$24:$C$5800,$C94,CMS_Deviation_Detail!$D$24:$D$5800,$D94,CMS_Deviation_Detail!$J$24:$J$5800,\"Other Known Causes\"))","v":""},{"$f":"IF($E94=\"\",\"\",SUMIFS(CMS_Deviation_Detail!$I$24:$I$5800,CMS_Deviation_Detail!$B$24:$B$5800,$B94,CMS_Deviation_Detail!$C$24:$C$5800,$C94,CMS_Deviation_Detail!$D$24:$D$5800,$D94,CMS_Deviation_Detail!$J$24:$J$5800,\"Unknown Causes\"))","v":""}]
[null,{"$f":"IF(Lists!AP73=\"\",\"\",Lists!AP73)","v":""},{"$f":"IF(Lists!AQ73=\"\",\"\",Lists!AQ73)","v":""},{"$f":"IF(Lists!AR73=\"\",\"\",Lists!AR73)","v":""},{"$f":"IF(Lists!AW73=\"\",\"\",Lists!AT73)","v":""},{"$f":"IF($E95=\"\",\"\",SUMIFS(CMS_Deviation_Detail!$I$24:$I$5400,CMS_Deviation_Detail!$B$24:$B$5400,B95,CMS_Deviation_Detail!$C$24:$C$5400,C95,CMS_Deviation_Detail!$D$24:$D$5400,D95))","v":""},"",{"$f":"IF($E95=\"\",\"\",SUMIFS(CMS_Deviation_Detail!$I$24:$I$5800,CMS_Deviation_Detail!$B$24:$B$5800,$B95,CMS_Deviation_Detail!$C$24:$C$5800,$C95,CMS_Deviation_Detail!$D$24:$D$5800,$D95,CMS_Deviation_Detail!$J$24:$J$5800,\"Monitoring System Malfunctions\"))","v":""},{"$f":"IF($E95=\"\",\"\",SUMIFS(CMS_Deviation_Detail!$I$24:$I$5800,CMS_Deviation_Detail!$B$24:$B$5800,$B95,CMS_Deviation_Detail!$C$24:$C$5800,$C95,CMS_Deviation_Detail!$D$24:$D$5800,$D95,CMS_Deviation_Detail!$J$24:$J$5800,\"Nonmonitoring Equipment Malfunctions\"))","v":""},{"$f":"IF($E95=\"\",\"\",SUMIFS(CMS_Deviation_Detail!$I$24:$I$5800,CMS_Deviation_Detail!$B$24:$B$5800,$B95,CMS_Deviation_Detail!$C$24:$C$5800,$C95,CMS_Deviation_Detail!$D$24:$D$5800,$D95,CMS_Deviation_Detail!$J$24:$J$5800,\"Quality Assurance/Quality Control Calibrations\"))","v":""},{"$f":"IF($E95=\"\",\"\",SUMIFS(CMS_Deviation_Detail!$I$24:$I$5800,CMS_Deviation_Detail!$B$24:$B$5800,$B95,CMS_Deviation_Detail!$C$24:$C$5800,$C95,CMS_Deviation_Detail!$D$24:$D$5800,$D95,CMS_Deviation_Detail!$J$24:$J$5800,\"Other Known Causes\"))","v":""},{"$f":"IF($E95=\"\",\"\",SUMIFS(CMS_Deviation_Detail!$I$24:$I$5800,CMS_Deviation_Detail!$B$24:$B$5800,$B95,CMS_Deviation_Detail!$C$24:$C$5800,$C95,CMS_Deviation_Detail!$D$24:$D$5800,$D95,CMS_Deviation_Detail!$J$24:$J$5800,\"Unknown Causes\"))","v":""}]
[null,{"$f":"IF(Lists!AP74=\"\",\"\",Lists!AP74)","v":""},{"$f":"IF(Lists!AQ74=\"\",\"\",Lists!AQ74)","v":""},{"$f":"IF(Lists!AR74=\"\",\"\",Lists!AR74)","v":""},{"$f":"IF(Lists!AW74=\"\",\"\",Lists!AT74)","v":""},{"$f":"IF($E96=\"\",\"\",SUMIFS(CMS_Deviation_Detail!$I$24:$I$5400,CMS_Deviation_Detail!$B$24:$B$5400,B96,CMS_Deviation_Detail!$C$24:$C$5400,C96,CMS_Deviation_Detail!$D$24:$D$5400,D96))","v":""},"",{"$f":"IF($E96=\"\",\"\",SUMIFS(CMS_Deviation_Detail!$I$24:$I$5800,CMS_Deviation_Detail!$B$24:$B$5800,$B96,CMS_Deviation_Detail!$C$24:$C$5800,$C96,CMS_Deviation_Detail!$D$24:$D$5800,$D96,CMS_Deviation_Detail!$J$24:$J$5800,\"Monitoring System Malfunctions\"))","v":""},{"$f":"IF($E96=\"\",\"\",SUMIFS(CMS_Deviation_Detail!$I$24:$I$5800,CMS_Deviation_Detail!$B$24:$B$5800,$B96,CMS_Deviation_Detail!$C$24:$C$5800,$C96,CMS_Deviation_Detail!$D$24:$D$5800,$D96,CMS_Deviation_Detail!$J$24:$J$5800,\"Nonmonitoring Equipment Malfunctions\"))","v":""},{"$f":"IF($E96=\"\",\"\",SUMIFS(CMS_Deviation_Detail!$I$24:$I$5800,CMS_Deviation_Detail!$B$24:$B$5800,$B96,CMS_Deviation_Detail!$C$24:$C$5800,$C96,CMS_Deviation_Detail!$D$24:$D$5800,$D96,CMS_Deviation_Detail!$J$24:$J$5800,\"Quality Assurance/Quality Control Calibrations\"))","v":""},{"$f":"IF($E96=\"\",\"\",SUMIFS(CMS_Deviation_Detail!$I$24:$I$5800,CMS_Deviation_Detail!$B$24:$B$5800,$B96,CMS_Deviation_Detail!$C$24:$C$5800,$C96,CMS_Deviation_Detail!$D$24:$D$5800,$D96,CMS_Deviation_Detail!$J$24:$J$5800,\"Other Known Causes\"))","v":""},{"$f":"IF($E96=\"\",\"\",SUMIFS(CMS_Deviation_Detail!$I$24:$I$5800,CMS_Deviation_Detail!$B$24:$B$5800,$B96,CMS_Deviation_Detail!$C$24:$C$5800,$C96,CMS_Deviation_Detail!$D$24:$D$5800,$D96,CMS_Deviation_Detail!$J$24:$J$5800,\"Unknown Causes\"))","v":""}]
[null,{"$f":"IF(Lists!AP75=\"\",\"\",Lists!AP75)","v":""},{"$f":"IF(Lists!AQ75=\"\",\"\",Lists!AQ75)","v":""},{"$f":"IF(Lists!AR75=\"\",\"\",Lists!AR75)","v":""},{"$f":"IF(Lists!AW75=\"\",\"\",Lists!AT75)","v":""},{"$f":"IF($E97=\"\",\"\",SUMIFS(CMS_Deviation_Detail!$I$24:$I$5400,CMS_Deviation_Detail!$B$24:$B$5400,B97,CMS_Deviation_Detail!$C$24:$C$5400,C97,CMS_Deviation_Detail!$D$24:$D$5400,D97))","v":""},"",{"$f":"IF($E97=\"\",\"\",SUMIFS(CMS_Deviation_Detail!$I$24:$I$5800,CMS_Deviation_Detail!$B$24:$B$5800,$B97,CMS_Deviation_Detail!$C$24:$C$5800,$C97,CMS_Deviation_Detail!$D$24:$D$5800,$D97,CMS_Deviation_Detail!$J$24:$J$5800,\"Monitoring System Malfunctions\"))","v":""},{"$f":"IF($E97=\"\",\"\",SUMIFS(CMS_Deviation_Detail!$I$24:$I$5800,CMS_Deviation_Detail!$B$24:$B$5800,$B97,CMS_Deviation_Detail!$C$24:$C$5800,$C97,CMS_Deviation_Detail!$D$24:$D$5800,$D97,CMS_Deviation_Detail!$J$24:$J$5800,\"Nonmonitoring Equipment Malfunctions\"))","v":""},{"$f":"IF($E97=\"\",\"\",SUMIFS(CMS_Deviation_Detail!$I$24:$I$5800,CMS_Deviation_Detail!$B$24:$B$5800,$B97,CMS_Deviation_Detail!$C$24:$C$5800,$C97,CMS_Deviation_Detail!$D$24:$D$5800,$D97,CMS_Deviation_Detail!$J$24:$J$5800,\"Quality Assurance/Quality Control Calibrations\"))","v":""},{"$f":"IF($E97=\"\",\"\",SUMIFS(CMS_Deviation_Detail!$I$24:$I$5800,CMS_Deviation_Detail!$B$24:$B$5800,$B97,CMS_Deviation_Detail!$C$24:$C$5800,$C97,CMS_Deviation_Detail!$D$24:$D$5800,$D97,CMS_Deviation_Detail!$J$24:$J$5800,\"Other Known Causes\"))","v":""},{"$f":"IF($E97=\"\",\"\",SUMIFS(CMS_Deviation_Detail!$I$24:$I$5800,CMS_Deviation_Detail!$B$24:$B$5800,$B97,CMS_Deviation_Detail!$C$24:$C$5800,$C97,CMS_Deviation_Detail!$D$24:$D$5800,$D97,CMS_Deviation_Detail!$J$24:$J$5800,\"Unknown Causes\"))","v":""}]
[null,{"$f":"IF(Lists!AP76=\"\",\"\",Lists!AP76)","v":""},{"$f":"IF(Lists!AQ76=\"\",\"\",Lists!AQ76)","v":""},{"$f":"IF(Lists!AR76=\"\",\"\",Lists!AR76)","v":""},{"$f":"IF(Lists!AW76=\"\",\"\",Lists!AT76)","v":""},{"$f":"IF($E98=\"\",\"\",SUMIFS(CMS_Deviation_Detail!$I$24:$I$5400,CMS_Deviation_Detail!$B$24:$B$5400,B98,CMS_Deviation_Detail!$C$24:$C$5400,C98,CMS_Deviation_Detail!$D$24:$D$5400,D98))","v":""},"",{"$f":"IF($E98=\"\",\"\",SUMIFS(CMS_Deviation_Detail!$I$24:$I$5800,CMS_Deviation_Detail!$B$24:$B$5800,$B98,CMS_Deviation_Detail!$C$24:$C$5800,$C98,CMS_Deviation_Detail!$D$24:$D$5800,$D98,CMS_Deviation_Detail!$J$24:$J$5800,\"Monitoring System Malfunctions\"))","v":""},{"$f":"IF($E98=\"\",\"\",SUMIFS(CMS_Deviation_Detail!$I$24:$I$5800,CMS_Deviation_Detail!$B$24:$B$5800,$B98,CMS_Deviation_Detail!$C$24:$C$5800,$C98,CMS_Deviation_Detail!$D$24:$D$5800,$D98,CMS_Deviation_Detail!$J$24:$J$5800,\"Nonmonitoring Equipment Malfunctions\"))","v":""},{"$f":"IF($E98=\"\",\"\",SUMIFS(CMS_Deviation_Detail!$I$24:$I$5800,CMS_Deviation_Detail!$B$24:$B$5800,$B98,CMS_Deviation_Detail!$C$24:$C$5800,$C98,CMS_Deviation_Detail!$D$24:$D$5800,$D98,CMS_Deviation_Detail!$J$24:$J$5800,\"Quality Assurance/Quality Control Calibrations\"))","v":""},{"$f":"IF($E98=\"\",\"\",SUMIFS(CMS_Deviation_Detail!$I$24:$I$5800,CMS_Deviation_Detail!$B$24:$B$5800,$B98,CMS_Deviation_Detail!$C$24:$C$5800,$C98,CMS_Deviation_Detail!$D$24:$D$5800,$D98,CMS_Deviation_Detail!$J$24:$J$5800,\"Other Known Causes\"))","v":""},{"$f":"IF($E98=\"\",\"\",SUMIFS(CMS_Deviation_Detail!$I$24:$I$5800,CMS_Deviation_Detail!$B$24:$B$5800,$B98,CMS_Deviation_Detail!$C$24:$C$5800,$C98,CMS_Deviation_Detail!$D$24:$D$5800,$D98,CMS_Deviation_Detail!$J$24:$J$5800,\"Unknown Causes\"))","v":""}]
[null,{"$f":"IF(Lists!AP77=\"\",\"\",Lists!AP77)","v":""},{"$f":"IF(Lists!AQ77=\"\",\"\",Lists!AQ77)","v":""},{"$f":"IF(Lists!AR77=\"\",\"\",Lists!AR77)","v":""},{"$f":"IF(Lists!AW77=\"\",\"\",Lists!AT77)","v":""},{"$f":"IF($E99=\"\",\"\",SUMIFS(CMS_Deviation_Detail!$I$24:$I$5400,CMS_Deviation_Detail!$B$24:$B$5400,B99,CMS_Deviation_Detail!$C$24:$C$5400,C99,CMS_Deviation_Detail!$D$24:$D$5400,D99))","v":""},"",{"$f":"IF($E99=\"\",\"\",SUMIFS(CMS_Deviation_Detail!$I$24:$I$5800,CMS_Deviation_Detail!$B$24:$B$5800,$B99,CMS_Deviation_Detail!$C$24:$C$5800,$C99,CMS_Deviation_Detail!$D$24:$D$5800,$D99,CMS_Deviation_Detail!$J$24:$J$5800,\"Monitoring System Malfunctions\"))","v":""},{"$f":"IF($E99=\"\",\"\",SUMIFS(CMS_Deviation_Detail!$I$24:$I$5800,CMS_Deviation_Detail!$B$24:$B$5800,$B99,CMS_Deviation_Detail!$C$24:$C$5800,$C99,CMS_Deviation_Detail!$D$24:$D$5800,$D99,CMS_Deviation_Detail!$J$24:$J$5800,\"Nonmonitoring Equipment Malfunctions\"))","v":""},{"$f":"IF($E99=\"\",\"\",SUMIFS(CMS_Deviation_Detail!$I$24:$I$5800,CMS_Deviation_Detail!$B$24:$B$5800,$B99,CMS_Deviation_Detail!$C$24:$C$5800,$C99,CMS_Deviation_Detail!$D$24:$D$5800,$D99,CMS_Deviation_Detail!$J$24:$J$5800,\"Quality Assurance/Quality Control Calibrations\"))","v":""},{"$f":"IF($E99=\"\",\"\",SUMIFS(CMS_Deviation_Detail!$I$24:$I$5800,CMS_Deviation_Detail!$B$24:$B$5800,$B99,CMS_Deviation_Detail!$C$24:$C$5800,$C99,CMS_Deviation_Detail!$D$24:$D$5800,$D99,CMS_Deviation_Detail!$J$24:$J$5800,\"Other Known Causes\"))","v":""},{"$f":"IF($E99=\"\",\"\",SUMIFS(CMS_Deviation_Detail!$I$24:$I$5800,CMS_Deviation_Detail!$B$24:$B$5800,$B99,CMS_Deviation_Detail!$C$24:$C$5800,$C99,CMS_Deviation_Detail!$D$24:$D$5800,$D99,CMS_Deviation_Detail!$J$24:$J$5800,\"Unknown Causes\"))","v":""}]
[null,{"$f":"IF(Lists!AP78=\"\",\"\",Lists!AP78)","v":""},{"$f":"IF(Lists!AQ78=\"\",\"\",Lists!AQ78)","v":""},{"$f":"IF(Lists!AR78=\"\",\"\",Lists!AR78)","v":""},{"$f":"IF(Lists!AW78=\"\",\"\",Lists!AT78)","v":""},{"$f":"IF($E100=\"\",\"\",SUMIFS(CMS_Deviation_Detail!$I$24:$I$5400,CMS_Deviation_Detail!$B$24:$B$5400,B100,CMS_Deviation_Detail!$C$24:$C$5400,C100,CMS_Deviation_Detail!$D$24:$D$5400,D100))","v":""},"",{"$f":"IF($E100=\"\",\"\",SUMIFS(CMS_Deviation_Detail!$I$24:$I$5800,CMS_Deviation_Detail!$B$24:$B$5800,$B100,CMS_Deviation_Detail!$C$24:$C$5800,$C100,CMS_Deviation_Detail!$D$24:$D$5800,$D100,CMS_Deviation_Detail!$J$24:$J$5800,\"Monitoring System Malfunctions\"))","v":""},{"$f":"IF($E100=\"\",\"\",SUMIFS(CMS_Deviation_Detail!$I$24:$I$5800,CMS_Deviation_Detail!$B$24:$B$5800,$B100,CMS_Deviation_Detail!$C$24:$C$5800,$C100,CMS_Deviation_Detail!$D$24:$D$5800,$D100,CMS_Deviation_Detail!$J$24:$J$5800,\"Nonmonitoring Equipment Malfunctions\"))","v":""},{"$f":"IF($E100=\"\",\"\",SUMIFS(CMS_Deviation_Detail!$I$24:$I$5800,CMS_Deviation_Detail!$B$24:$B$5800,$B100,CMS_Deviation_Detail!$C$24:$C$5800,$C100,CMS_Deviation_Detail!$D$24:$D$5800,$D100,CMS_Deviation_Detail!$J$24:$J$5800,\"Quality Assurance/Quality Control Calibrations\"))","v":""},{"$f":"IF($E100=\"\",\"\",SUMIFS(CMS_Deviation_Detail!$I$24:$I$5800,CMS_Deviation_Detail!$B$24:$B$5800,$B100,CMS_Deviation_Detail!$C$24:$C$5800,$C100,CMS_Deviation_Detail!$D$24:$D$5800,$D100,CMS_Deviation_Detail!$J$24:$J$5800,\"Other Known Causes\"))","v":""},{"$f":"IF($E100=\"\",\"\",SUMIFS(CMS_Deviation_Detail!$I$24:$I$5800,CMS_Deviation_Detail!$B$24:$B$5800,$B100,CMS_Deviation_Detail!$C$24:$C$5800,$C100,CMS_Deviation_Detail!$D$24:$D$5800,$D100,CMS_Deviation_Detail!$J$24:$J$5800,\"Unknown Causes\"))","v":""}]
[null,{"$f":"IF(D101=\"\",\"\",COUNT($D$24:$D$452)-COUNT(D102:$D$452))","v":""}]
[null,{"$f":"IF(D102=\"\",\"\",COUNT($D$24:$D$452)-COUNT(D103:$D$452))","v":""}]
[null,{"$f":"IF(D103=\"\",\"\",COUNT($D$24:$D$452)-COUNT(D104:$D$452))","v":""}]
[null,{"$f":"IF(D104=\"\",\"\",COUNT($D$24:$D$452)-COUNT(D105:$D$452))","v":""}]
[null,{"$f":"IF(D105=\"\",\"\",COUNT($D$24:$D$452)-COUNT(D106:$D$452))","v":""}]
[null,{"$f":"IF(D106=\"\",\"\",COUNT($D$24:$D$452)-COUNT(D107:$D$452))","v":""}]
[null,{"$f":"IF(D107=\"\",\"\",COUNT($D$24:$D$452)-COUNT(D108:$D$452))","v":""}]
[null,{"$f":"IF(D108=\"\",\"\",COUNT($D$24:$D$452)-COUNT(D109:$D$452))","v":""}]
[null,{"$f":"IF(D109=\"\",\"\",COUNT($D$24:$D$452)-COUNT(D110:$D$452))","v":""}]
[null,{"$f":"IF(D110=\"\",\"\",COUNT($D$24:$D$452)-COUNT(D111:$D$452))","v":""}]
[null,{"$f":"IF(D111=\"\",\"\",COUNT($D$24:$D$452)-COUNT(D112:$D$452))","v":""}]
[null,{"$f":"IF(D112=\"\",\"\",COUNT($D$24:$D$452)-COUNT(D113:$D$452))","v":""}]
[null,{"$f":"IF(D113=\"\",\"\",COUNT($D$24:$D$452)-COUNT(D114:$D$452))","v":""}]
[null,{"$f":"IF(D114=\"\",\"\",COUNT($D$24:$D$452)-COUNT(D115:$D$452))","v":""}]
[null,{"$f":"IF(D115=\"\",\"\",COUNT($D$24:$D$452)-COUNT(D116:$D$452))","v":""}]
[null,{"$f":"IF(D116=\"\",\"\",COUNT($D$24:$D$452)-COUNT(D117:$D$452))","v":""}]
[null,{"$f":"IF(D117=\"\",\"\",COUNT($D$24:$D$452)-COUNT(D118:$D$452))","v":""}]
[null,{"$f":"IF(D118=\"\",\"\",COUNT($D$24:$D$452)-COUNT(D119:$D$452))","v":""}]
[null,{"$f":"IF(D119=\"\",\"\",COUNT($D$24:$D$452)-COUNT(D120:$D$452))","v":""}]
[null,{"$f":"IF(D120=\"\",\"\",COUNT($D$24:$D$452)-COUNT(D121:$D$452))","v":""}]
[null,{"$f":"IF(D121=\"\",\"\",COUNT($D$24:$D$452)-COUNT(D122:$D$452))","v":""}]
[null,{"$f":"IF(D122=\"\",\"\",COUNT($D$24:$D$452)-COUNT(D123:$D$452))","v":""}]
[null,{"$f":"IF(D123=\"\",\"\",COUNT($D$24:$D$452)-COUNT(D124:$D$452))","v":""}]
[null,{"$f":"IF(D124=\"\",\"\",COUNT($D$24:$D$452)-COUNT(D125:$D$452))","v":""}]
[null,{"$f":"IF(D125=\"\",\"\",COUNT($D$24:$D$452)-COUNT(D126:$D$452))","v":""}]
[null,{"$f":"IF(D126=\"\",\"\",COUNT($D$24:$D$452)-COUNT(D127:$D$452))","v":""}]
[null,{"$f":"IF(D127=\"\",\"\",COUNT($D$24:$D$452)-COUNT(D128:$D$452))","v":""}]
[null,{"$f":"IF(D128=\"\",\"\",COUNT($D$24:$D$452)-COUNT(D129:$D$452))","v":""}]
[null,{"$f":"IF(D129=\"\",\"\",COUNT($D$24:$D$452)-COUNT(D130:$D$452))","v":""}]
[null,{"$f":"IF(D130=\"\",\"\",COUNT($D$24:$D$452)-COUNT(D131:$D$452))","v":""}]
[null,{"$f":"IF(D131=\"\",\"\",COUNT($D$24:$D$452)-COUNT(D132:$D$452))","v":""}]
[null,{"$f":"IF(D132=\"\",\"\",COUNT($D$24:$D$452)-COUNT(D133:$D$452))","v":""}]
[null,{"$f":"IF(D133=\"\",\"\",COUNT($D$24:$D$452)-COUNT(D134:$D$452))","v":""}]
[null,{"$f":"IF(D134=\"\",\"\",COUNT($D$24:$D$452)-COUNT(D135:$D$452))","v":""}]
[null,{"$f":"IF(D135=\"\",\"\",COUNT($D$24:$D$452)-COUNT(D136:$D$452))","v":""}]
[null,{"$f":"IF(D136=\"\",\"\",COUNT($D$24:$D$452)-COUNT(D137:$D$452))","v":""}]
[null,{"$f":"IF(D137=\"\",\"\",COUNT($D$24:$D$452)-COUNT(D138:$D$452))","v":""}]
[null,{"$f":"IF(D138=\"\",\"\",COUNT($D$24:$D$452)-COUNT(D139:$D$452))","v":""}]
[null,{"$f":"IF(D139=\"\",\"\",COUNT($D$24:$D$452)-COUNT(D140:$D$452))","v":""}]
[null,{"$f":"IF(D140=\"\",\"\",COUNT($D$24:$D$452)-COUNT(D141:$D$452))","v":""}]
[null,{"$f":"IF(D141=\"\",\"\",COUNT($D$24:$D$452)-COUNT(D142:$D$452))","v":""}]
[null,{"$f":"IF(D142=\"\",\"\",COUNT($D$24:$D$452)-COUNT(D143:$D$452))","v":""}]
[null,{"$f":"IF(D143=\"\",\"\",COUNT($D$24:$D$452)-COUNT(D144:$D$452))","v":""}]
[null,{"$f":"IF(D144=\"\",\"\",COUNT($D$24:$D$452)-COUNT(D145:$D$452))","v":""}]
[null,{"$f":"IF(D145=\"\",\"\",COUNT($D$24:$D$452)-COUNT(D146:$D$452))","v":""}]
[null,{"$f":"IF(D146=\"\",\"\",COUNT($D$24:$D$452)-COUNT(D147:$D$452))","v":""}]
[null,{"$f":"IF(D147=\"\",\"\",COUNT($D$24:$D$452)-COUNT(D148:$D$452))","v":""}]
[null,{"$f":"IF(D148=\"\",\"\",COUNT($D$24:$D$452)-COUNT(D149:$D$452))","v":""}]
[null,{"$f":"IF(D149=\"\",\"\",COUNT($D$24:$D$452)-COUNT(D150:$D$452))","v":""}]
[null,{"$f":"IF(D150=\"\",\"\",COUNT($D$24:$D$452)-COUNT(D151:$D$452))","v":""}]
[null,{"$f":"IF(D151=\"\",\"\",COUNT($D$24:$D$452)-COUNT(D152:$D$452))","v":""}]
[null,{"$f":"IF(D152=\"\",\"\",COUNT($D$24:$D$452)-COUNT(D153:$D$452))","v":""}]
[null,{"$f":"IF(D153=\"\",\"\",COUNT($D$24:$D$452)-COUNT(D154:$D$452))","v":""}]
[null,{"$f":"IF(D154=\"\",\"\",COUNT($D$24:$D$452)-COUNT(D155:$D$452))","v":""}]
[null,{"$f":"IF(D155=\"\",\"\",COUNT($D$24:$D$452)-COUNT(D156:$D$452))","v":""}]
[null,{"$f":"IF(D156=\"\",\"\",COUNT($D$24:$D$452)-COUNT(D157:$D$452))","v":""}]
[null,{"$f":"IF(D157=\"\",\"\",COUNT($D$24:$D$452)-COUNT(D158:$D$452))","v":""}]
[null,{"$f":"IF(D158=\"\",\"\",COUNT($D$24:$D$452)-COUNT(D159:$D$452))","v":""}]
[null,{"$f":"IF(D159=\"\",\"\",COUNT($D$24:$D$452)-COUNT(D160:$D$452))","v":""}]
[null,{"$f":"IF(D160=\"\",\"\",COUNT($D$24:$D$452)-COUNT(D161:$D$452))","v":""}]
[null,{"$f":"IF(D161=\"\",\"\",COUNT($D$24:$D$452)-COUNT(D162:$D$452))","v":""}]
[null,{"$f":"IF(D162=\"\",\"\",COUNT($D$24:$D$452)-COUNT(D163:$D$452))","v":""}]
[null,{"$f":"IF(D163=\"\",\"\",COUNT($D$24:$D$452)-COUNT(D164:$D$452))","v":""}]
[null,{"$f":"IF(D164=\"\",\"\",COUNT($D$24:$D$452)-COUNT(D165:$D$452))","v":""}]
[null,{"$f":"IF(D165=\"\",\"\",COUNT($D$24:$D$452)-COUNT(D166:$D$452))","v":""}]
[null,{"$f":"IF(D166=\"\",\"\",COUNT($D$24:$D$452)-COUNT(D167:$D$452))","v":""}]
[null,{"$f":"IF(D167=\"\",\"\",COUNT($D$24:$D$452)-COUNT(D168:$D$452))","v":""}]
[null,{"$f":"IF(D168=\"\",\"\",COUNT($D$24:$D$452)-COUNT(D169:$D$452))","v":""}]
[null,{"$f":"IF(D169=\"\",\"\",COUNT($D$24:$D$452)-COUNT(D170:$D$452))","v":""}]
[null,{"$f":"IF(D170=\"\",\"\",COUNT($D$24:$D$452)-COUNT(D171:$D$452))","v":""}]
[null,{"$f":"IF(D171=\"\",\"\",COUNT($D$24:$D$452)-COUNT(D172:$D$452))","v":""}]
[null,{"$f":"IF(D172=\"\",\"\",COUNT($D$24:$D$452)-COUNT(D173:$D$452))","v":""}]
[null,{"$f":"IF(D173=\"\",\"\",COUNT($D$24:$D$452)-COUNT(D174:$D$452))","v":""}]
[null,{"$f":"IF(D174=\"\",\"\",COUNT($D$24:$D$452)-COUNT(D175:$D$452))","v":""}]
[null,{"$f":"IF(D175=\"\",\"\",COUNT($D$24:$D$452)-COUNT(D176:$D$452))","v":""}]
[null,{"$f":"IF(D176=\"\",\"\",COUNT($D$24:$D$452)-COUNT(D177:$D$452))","v":""}]
[null,{"$f":"IF(D177=\"\",\"\",COUNT($D$24:$D$452)-COUNT(D178:$D$452))","v":""}]
[null,{"$f":"IF(D178=\"\",\"\",COUNT($D$24:$D$452)-COUNT(D179:$D$452))","v":""}]
[null,{"$f":"IF(D179=\"\",\"\",COUNT($D$24:$D$452)-COUNT(D180:$D$452))","v":""}]
[null,{"$f":"IF(D180=\"\",\"\",COUNT($D$24:$D$452)-COUNT(D181:$D$452))","v":""}]
[null,{"$f":"IF(D181=\"\",\"\",COUNT($D$24:$D$452)-COUNT(D182:$D$452))","v":""}]
[null,{"$f":"IF(D182=\"\",\"\",COUNT($D$24:$D$452)-COUNT(D183:$D$452))","v":""}]
[null,{"$f":"IF(D183=\"\",\"\",COUNT($D$24:$D$452)-COUNT(D184:$D$452))","v":""}]
[null,{"$f":"IF(D184=\"\",\"\",COUNT($D$24:$D$452)-COUNT(D185:$D$452))","v":""}]
[null,{"$f":"IF(D185=\"\",\"\",COUNT($D$24:$D$452)-COUNT(D186:$D$452))","v":""}]
[null,{"$f":"IF(D186=\"\",\"\",COUNT($D$24:$D$452)-COUNT(D187:$D$452))","v":""}]
[null,{"$f":"IF(D187=\"\",\"\",COUNT($D$24:$D$452)-COUNT(D188:$D$452))","v":""}]
[null,{"$f":"IF(D188=\"\",\"\",COUNT($D$24:$D$452)-COUNT(D189:$D$452))","v":""}]
[null,{"$f":"IF(D189=\"\",\"\",COUNT($D$24:$D$452)-COUNT(D190:$D$452))","v":""}]
[null,{"$f":"IF(D190=\"\",\"\",COUNT($D$24:$D$452)-COUNT(D191:$D$452))","v":""}]
[null,{"$f":"IF(D191=\"\",\"\",COUNT($D$24:$D$452)-COUNT(D192:$D$452))","v":""}]
[null,{"$f":"IF(D192=\"\",\"\",COUNT($D$24:$D$452)-COUNT(D193:$D$452))","v":""}]
[null,{"$f":"IF(D193=\"\",\"\",COUNT($D$24:$D$452)-COUNT(D194:$D$452))","v":""}]
[null,{"$f":"IF(D194=\"\",\"\",COUNT($D$24:$D$452)-COUNT(D195:$D$452))","v":""}]
[null,{"$f":"IF(D195=\"\",\"\",COUNT($D$24:$D$452)-COUNT(D196:$D$452))","v":""}]
[null,{"$f":"IF(D196=\"\",\"\",COUNT($D$24:$D$452)-COUNT(D197:$D$452))","v":""}]
[null,{"$f":"IF(D197=\"\",\"\",COUNT($D$24:$D$452)-COUNT(D198:$D$452))","v":""}]
[null,{"$f":"IF(D198=\"\",\"\",COUNT($D$24:$D$452)-COUNT(D199:$D$452))","v":""}]
[null,{"$f":"IF(D199=\"\",\"\",COUNT($D$24:$D$452)-COUNT(D200:$D$452))","v":""}]
[null,{"$f":"IF(D200=\"\",\"\",COUNT($D$24:$D$452)-COUNT(D201:$D$452))","v":""}]
[null,{"$f":"IF(D201=\"\",\"\",COUNT($D$24:$D$452)-COUNT(D202:$D$452))","v":""}]
[null,{"$f":"IF(D202=\"\",\"\",COUNT($D$24:$D$452)-COUNT(D203:$D$452))","v":""}]
[null,{"$f":"IF(D203=\"\",\"\",COUNT($D$24:$D$452)-COUNT(D204:$D$452))","v":""}]
[null,{"$f":"IF(D204=\"\",\"\",COUNT($D$24:$D$452)-COUNT(D205:$D$452))","v":""}]
[null,{"$f":"IF(D205=\"\",\"\",COUNT($D$24:$D$452)-COUNT(D206:$D$452))","v":""}]
[null,{"$f":"IF(D206=\"\",\"\",COUNT($D$24:$D$452)-COUNT(D207:$D$452))","v":""}]
[null,{"$f":"IF(D207=\"\",\"\",COUNT($D$24:$D$452)-COUNT(D208:$D$452))","v":""}]
[null,{"$f":"IF(D208=\"\",\"\",COUNT($D$24:$D$452)-COUNT(D209:$D$452))","v":""}]
[null,{"$f":"IF(D209=\"\",\"\",COUNT($D$24:$D$452)-COUNT(D210:$D$452))","v":""}]
[null,{"$f":"IF(D210=\"\",\"\",COUNT($D$24:$D$452)-COUNT(D211:$D$452))","v":""}]
[null,{"$f":"IF(D211=\"\",\"\",COUNT($D$24:$D$452)-COUNT(D212:$D$452))","v":""}]
[null,{"$f":"IF(D212=\"\",\"\",COUNT($D$24:$D$452)-COUNT(D213:$D$452))","v":""}]
[null,{"$f":"IF(D213=\"\",\"\",COUNT($D$24:$D$452)-COUNT(D214:$D$452))","v":""}]
[null,{"$f":"IF(D214=\"\",\"\",COUNT($D$24:$D$452)-COUNT(D215:$D$452))","v":""}]
[null,{"$f":"IF(D215=\"\",\"\",COUNT($D$24:$D$452)-COUNT(D216:$D$452))","v":""}]
[null,{"$f":"IF(D216=\"\",\"\",COUNT($D$24:$D$452)-COUNT(D217:$D$452))","v":""}]
[null,{"$f":"IF(D217=\"\",\"\",COUNT($D$24:$D$452)-COUNT(D218:$D$452))","v":""}]
[null,{"$f":"IF(D218=\"\",\"\",COUNT($D$24:$D$452)-COUNT(D219:$D$452))","v":""}]
[null,{"$f":"IF(D219=\"\",\"\",COUNT($D$24:$D$452)-COUNT(D220:$D$452))","v":""}]
[null,{"$f":"IF(D220=\"\",\"\",COUNT($D$24:$D$452)-COUNT(D221:$D$452))","v":""}]
[null,{"$f":"IF(D221=\"\",\"\",COUNT($D$24:$D$452)-COUNT(D222:$D$452))","v":""}]
[null,{"$f":"IF(D222=\"\",\"\",COUNT($D$24:$D$452)-COUNT(D223:$D$452))","v":""}]
[null,{"$f":"IF(D223=\"\",\"\",COUNT($D$24:$D$452)-COUNT(D224:$D$452))","v":""}]
[null,{"$f":"IF(D224=\"\",\"\",COUNT($D$24:$D$452)-COUNT(D225:$D$452))","v":""}]
[null,{"$f":"IF(D225=\"\",\"\",COUNT($D$24:$D$452)-COUNT(D226:$D$452))","v":""}]
[null,{"$f":"IF(D226=\"\",\"\",COUNT($D$24:$D$452)-COUNT(D227:$D$452))","v":""}]
[null,{"$f":"IF(D227=\"\",\"\",COUNT($D$24:$D$452)-COUNT(D228:$D$452))","v":""}]
[null,{"$f":"IF(D228=\"\",\"\",COUNT($D$24:$D$452)-COUNT(D229:$D$452))","v":""}]
[null,{"$f":"IF(D229=\"\",\"\",COUNT($D$24:$D$452)-COUNT(D230:$D$452))","v":""}]
[null,{"$f":"IF(D230=\"\",\"\",COUNT($D$24:$D$452)-COUNT(D231:$D$452))","v":""}]
[null,{"$f":"IF(D231=\"\",\"\",COUNT($D$24:$D$452)-COUNT(D232:$D$452))","v":""}]
[null,{"$f":"IF(D232=\"\",\"\",COUNT($D$24:$D$452)-COUNT(D233:$D$452))","v":""}]
[null,{"$f":"IF(D233=\"\",\"\",COUNT($D$24:$D$452)-COUNT(D234:$D$452))","v":""}]
[null,{"$f":"IF(D234=\"\",\"\",COUNT($D$24:$D$452)-COUNT(D235:$D$452))","v":""}]
[null,{"$f":"IF(D235=\"\",\"\",COUNT($D$24:$D$452)-COUNT(D236:$D$452))","v":""}]
[null,{"$f":"IF(D236=\"\",\"\",COUNT($D$24:$D$452)-COUNT(D237:$D$452))","v":""}]
[null,{"$f":"IF(D237=\"\",\"\",COUNT($D$24:$D$452)-COUNT(D238:$D$452))","v":""}]
[null,{"$f":"IF(D238=\"\",\"\",COUNT($D$24:$D$452)-COUNT(D239:$D$452))","v":""}]
[null,{"$f":"IF(D239=\"\",\"\",COUNT($D$24:$D$452)-COUNT(D240:$D$452))","v":""}]
[null,{"$f":"IF(D240=\"\",\"\",COUNT($D$24:$D$452)-COUNT(D241:$D$452))","v":""}]
[null,{"$f":"IF(D241=\"\",\"\",COUNT($D$24:$D$452)-COUNT(D242:$D$452))","v":""}]
[null,{"$f":"IF(D242=\"\",\"\",COUNT($D$24:$D$452)-COUNT(D243:$D$452))","v":""}]
[null,{"$f":"IF(D243=\"\",\"\",COUNT($D$24:$D$452)-COUNT(D244:$D$452))","v":""}]
[null,{"$f":"IF(D244=\"\",\"\",COUNT($D$24:$D$452)-COUNT(D245:$D$452))","v":""}]
[null,{"$f":"IF(D245=\"\",\"\",COUNT($D$24:$D$452)-COUNT(D246:$D$452))","v":""}]
[null,{"$f":"IF(D246=\"\",\"\",COUNT($D$24:$D$452)-COUNT(D247:$D$452))","v":""}]
[null,{"$f":"IF(D247=\"\",\"\",COUNT($D$24:$D$452)-COUNT(D248:$D$452))","v":""}]
[null,{"$f":"IF(D248=\"\",\"\",COUNT($D$24:$D$452)-COUNT(D249:$D$452))","v":""}]
[null,{"$f":"IF(D249=\"\",\"\",COUNT($D$24:$D$452)-COUNT(D250:$D$452))","v":""}]
[null,{"$f":"IF(D250=\"\",\"\",COUNT($D$24:$D$452)-COUNT(D251:$D$452))","v":""}]
[null,{"$f":"IF(D251=\"\",\"\",COUNT($D$24:$D$452)-COUNT(D252:$D$452))","v":""}]
[null,{"$f":"IF(D252=\"\",\"\",COUNT($D$24:$D$452)-COUNT(D253:$D$452))","v":""}]
[null,{"$f":"IF(D253=\"\",\"\",COUNT($D$24:$D$452)-COUNT(D254:$D$452))","v":""}]
[null,{"$f":"IF(D254=\"\",\"\",COUNT($D$24:$D$452)-COUNT(D255:$D$452))","v":""}]
[null,{"$f":"IF(D255=\"\",\"\",COUNT($D$24:$D$452)-COUNT(D256:$D$452))","v":""}]
[null,{"$f":"IF(D256=\"\",\"\",COUNT($D$24:$D$452)-COUNT(D257:$D$452))","v":""}]
[null,{"$f":"IF(D257=\"\",\"\",COUNT($D$24:$D$452)-COUNT(D258:$D$452))","v":""}]
[null,{"$f":"IF(D258=\"\",\"\",COUNT($D$24:$D$452)-COUNT(D259:$D$452))","v":""}]
[null,{"$f":"IF(D259=\"\",\"\",COUNT($D$24:$D$452)-COUNT(D260:$D$452))","v":""}]
[null,{"$f":"IF(D260=\"\",\"\",COUNT($D$24:$D$452)-COUNT(D261:$D$452))","v":""}]
[null,{"$f":"IF(D261=\"\",\"\",COUNT($D$24:$D$452)-COUNT(D262:$D$452))","v":""}]
[null,{"$f":"IF(D262=\"\",\"\",COUNT($D$24:$D$452)-COUNT(D263:$D$452))","v":""}]
[null,{"$f":"IF(D263=\"\",\"\",COUNT($D$24:$D$452)-COUNT(D264:$D$452))","v":""}]
[null,{"$f":"IF(D264=\"\",\"\",COUNT($D$24:$D$452)-COUNT(D265:$D$452))","v":""}]
[null,{"$f":"IF(D265=\"\",\"\",COUNT($D$24:$D$452)-COUNT(D266:$D$452))","v":""}]
[null,{"$f":"IF(D266=\"\",\"\",COUNT($D$24:$D$452)-COUNT(D267:$D$452))","v":""}]
[null,{"$f":"IF(D267=\"\",\"\",COUNT($D$24:$D$452)-COUNT(D268:$D$452))","v":""}]
[null,{"$f":"IF(D268=\"\",\"\",COUNT($D$24:$D$452)-COUNT(D269:$D$452))","v":""}]
[null,{"$f":"IF(D269=\"\",\"\",COUNT($D$24:$D$452)-COUNT(D270:$D$452))","v":""}]
[null,{"$f":"IF(D270=\"\",\"\",COUNT($D$24:$D$452)-COUNT(D271:$D$452))","v":""}]
[null,{"$f":"IF(D271=\"\",\"\",COUNT($D$24:$D$452)-COUNT(D272:$D$452))","v":""}]
[null,{"$f":"IF(D272=\"\",\"\",COUNT($D$24:$D$452)-COUNT(D273:$D$452))","v":""}]
[null,{"$f":"IF(D273=\"\",\"\",COUNT($D$24:$D$452)-COUNT(D274:$D$452))","v":""}]
[null,{"$f":"IF(D274=\"\",\"\",COUNT($D$24:$D$452)-COUNT(D275:$D$452))","v":""}]
[null,{"$f":"IF(D275=\"\",\"\",COUNT($D$24:$D$452)-COUNT(D276:$D$452))","v":""}]
[null,{"$f":"IF(D276=\"\",\"\",COUNT($D$24:$D$452)-COUNT(D277:$D$452))","v":""}]
[null,{"$f":"IF(D277=\"\",\"\",COUNT($D$24:$D$452)-COUNT(D278:$D$452))","v":""}]
[null,{"$f":"IF(D278=\"\",\"\",COUNT($D$24:$D$452)-COUNT(D279:$D$452))","v":""}]
[null,{"$f":"IF(D279=\"\",\"\",COUNT($D$24:$D$452)-COUNT(D280:$D$452))","v":""}]
[null,{"$f":"IF(D280=\"\",\"\",COUNT($D$24:$D$452)-COUNT(D281:$D$452))","v":""}]
[null,{"$f":"IF(D281=\"\",\"\",COUNT($D$24:$D$452)-COUNT(D282:$D$452))","v":""}]
[null,{"$f":"IF(D282=\"\",\"\",COUNT($D$24:$D$452)-COUNT(D283:$D$452))","v":""}]
[null,{"$f":"IF(D283=\"\",\"\",COUNT($D$24:$D$452)-COUNT(D284:$D$452))","v":""}]
[null,{"$f":"IF(D284=\"\",\"\",COUNT($D$24:$D$452)-COUNT(D285:$D$452))","v":""}]
[null,{"$f":"IF(D285=\"\",\"\",COUNT($D$24:$D$452)-COUNT(D286:$D$452))","v":""}]
[null,{"$f":"IF(D286=\"\",\"\",COUNT($D$24:$D$452)-COUNT(D287:$D$452))","v":""}]
[null,{"$f":"IF(D287=\"\",\"\",COUNT($D$24:$D$452)-COUNT(D288:$D$452))","v":""}]
[null,{"$f":"IF(D288=\"\",\"\",COUNT($D$24:$D$452)-COUNT(D289:$D$452))","v":""}]
[null,{"$f":"IF(D289=\"\",\"\",COUNT($D$24:$D$452)-COUNT(D290:$D$452))","v":""}]
[null,{"$f":"IF(D290=\"\",\"\",COUNT($D$24:$D$452)-COUNT(D291:$D$452))","v":""}]
[null,{"$f":"IF(D291=\"\",\"\",COUNT($D$24:$D$452)-COUNT(D292:$D$452))","v":""}]
[null,{"$f":"IF(D292=\"\",\"\",COUNT($D$24:$D$452)-COUNT(D293:$D$452))","v":""}]
[null,{"$f":"IF(D293=\"\",\"\",COUNT($D$24:$D$452)-COUNT(D294:$D$452))","v":""}]
[null,{"$f":"IF(D294=\"\",\"\",COUNT($D$24:$D$452)-COUNT(D295:$D$452))","v":""}]
[null,{"$f":"IF(D295=\"\",\"\",COUNT($D$24:$D$452)-COUNT(D296:$D$452))","v":""}]
[null,{"$f":"IF(D296=\"\",\"\",COUNT($D$24:$D$452)-COUNT(D297:$D$452))","v":""}]
[null,{"$f":"IF(D297=\"\",\"\",COUNT($D$24:$D$452)-COUNT(D298:$D$452))","v":""}]
[null,{"$f":"IF(D298=\"\",\"\",COUNT($D$24:$D$452)-COUNT(D299:$D$452))","v":""}]
[null,{"$f":"IF(D299=\"\",\"\",COUNT($D$24:$D$452)-COUNT(D300:$D$452))","v":""}]
[null,{"$f":"IF(D300=\"\",\"\",COUNT($D$24:$D$452)-COUNT(D301:$D$452))","v":""}]
[null,{"$f":"IF(D301=\"\",\"\",COUNT($D$24:$D$452)-COUNT(D302:$D$452))","v":""}]
[null,{"$f":"IF(D302=\"\",\"\",COUNT($D$24:$D$452)-COUNT(D303:$D$452))","v":""}]
[null,{"$f":"IF(D303=\"\",\"\",COUNT($D$24:$D$452)-COUNT(D304:$D$452))","v":""}]
[null,{"$f":"IF(D304=\"\",\"\",COUNT($D$24:$D$452)-COUNT(D305:$D$452))","v":""}]
[null,{"$f":"IF(D305=\"\",\"\",COUNT($D$24:$D$452)-COUNT(D306:$D$452))","v":""}]
[null,{"$f":"IF(D306=\"\",\"\",COUNT($D$24:$D$452)-COUNT(D307:$D$452))","v":""}]
[null,{"$f":"IF(D307=\"\",\"\",COUNT($D$24:$D$452)-COUNT(D308:$D$452))","v":""}]
[null,{"$f":"IF(D308=\"\",\"\",COUNT($D$24:$D$452)-COUNT(D309:$D$452))","v":""}]
[null,{"$f":"IF(D309=\"\",\"\",COUNT($D$24:$D$452)-COUNT(D310:$D$452))","v":""}]
[null,{"$f":"IF(D310=\"\",\"\",COUNT($D$24:$D$452)-COUNT(D311:$D$452))","v":""}]
[null,{"$f":"IF(D311=\"\",\"\",COUNT($D$24:$D$452)-COUNT(D312:$D$452))","v":""}]
[null,{"$f":"IF(D312=\"\",\"\",COUNT($D$24:$D$452)-COUNT(D313:$D$452))","v":""}]
[null,{"$f":"IF(D313=\"\",\"\",COUNT($D$24:$D$452)-COUNT(D314:$D$452))","v":""}]
[null,{"$f":"IF(D314=\"\",\"\",COUNT($D$24:$D$452)-COUNT(D315:$D$452))","v":""}]
[null,{"$f":"IF(D315=\"\",\"\",COUNT($D$24:$D$452)-COUNT(D316:$D$452))","v":""}]
[null,{"$f":"IF(D316=\"\",\"\",COUNT($D$24:$D$452)-COUNT(D317:$D$452))","v":""}]
[null,{"$f":"IF(D317=\"\",\"\",COUNT($D$24:$D$452)-COUNT(D318:$D$452))","v":""}]
[null,{"$f":"IF(D318=\"\",\"\",COUNT($D$24:$D$452)-COUNT(D319:$D$452))","v":""}]
[null,{"$f":"IF(D319=\"\",\"\",COUNT($D$24:$D$452)-COUNT(D320:$D$452))","v":""}]
[null,{"$f":"IF(D320=\"\",\"\",COUNT($D$24:$D$452)-COUNT(D321:$D$452))","v":""}]
[null,{"$f":"IF(D321=\"\",\"\",COUNT($D$24:$D$452)-COUNT(D322:$D$452))","v":""}]
[null,{"$f":"IF(D322=\"\",\"\",COUNT($D$24:$D$452)-COUNT(D323:$D$452))","v":""}]
[null,{"$f":"IF(D323=\"\",\"\",COUNT($D$24:$D$452)-COUNT(D324:$D$452))","v":""}]
[null,{"$f":"IF(D324=\"\",\"\",COUNT($D$24:$D$452)-COUNT(D325:$D$452))","v":""}]
[null,{"$f":"IF(D325=\"\",\"\",COUNT($D$24:$D$452)-COUNT(D326:$D$452))","v":""}]
[null,{"$f":"IF(D326=\"\",\"\",COUNT($D$24:$D$452)-COUNT(D327:$D$452))","v":""}]
[null,{"$f":"IF(D327=\"\",\"\",COUNT($D$24:$D$452)-COUNT(D328:$D$452))","v":""}]
[null,{"$f":"IF(D328=\"\",\"\",COUNT($D$24:$D$452)-COUNT(D329:$D$452))","v":""}]
[null,{"$f":"IF(D329=\"\",\"\",COUNT($D$24:$D$452)-COUNT(D330:$D$452))","v":""}]
[null,{"$f":"IF(D330=\"\",\"\",COUNT($D$24:$D$452)-COUNT(D331:$D$452))","v":""}]
[null,{"$f":"IF(D331=\"\",\"\",COUNT($D$24:$D$452)-COUNT(D332:$D$452))","v":""}]
[null,{"$f":"IF(D332=\"\",\"\",COUNT($D$24:$D$452)-COUNT(D333:$D$452))","v":""}]
[null,{"$f":"IF(D333=\"\",\"\",COUNT($D$24:$D$452)-COUNT(D334:$D$452))","v":""}]
[null,{"$f":"IF(D334=\"\",\"\",COUNT($D$24:$D$452)-COUNT(D335:$D$452))","v":""}]
[null,{"$f":"IF(D335=\"\",\"\",COUNT($D$24:$D$452)-COUNT(D336:$D$452))","v":""}]
[null,{"$f":"IF(D336=\"\",\"\",COUNT($D$24:$D$452)-COUNT(D337:$D$452))","v":""}]
[null,{"$f":"IF(D337=\"\",\"\",COUNT($D$24:$D$452)-COUNT(D338:$D$452))","v":""}]
[null,{"$f":"IF(D338=\"\",\"\",COUNT($D$24:$D$452)-COUNT(D339:$D$452))","v":""}]
[null,{"$f":"IF(D339=\"\",\"\",COUNT($D$24:$D$452)-COUNT(D340:$D$452))","v":""}]
[null,{"$f":"IF(D340=\"\",\"\",COUNT($D$24:$D$452)-COUNT(D341:$D$452))","v":""}]
[null,{"$f":"IF(D341=\"\",\"\",COUNT($D$24:$D$452)-COUNT(D342:$D$452))","v":""}]
[null,{"$f":"IF(D342=\"\",\"\",COUNT($D$24:$D$452)-COUNT(D343:$D$452))","v":""}]
[null,{"$f":"IF(D343=\"\",\"\",COUNT($D$24:$D$452)-COUNT(D344:$D$452))","v":""}]
[null,{"$f":"IF(D344=\"\",\"\",COUNT($D$24:$D$452)-COUNT(D345:$D$452))","v":""}]
[null,{"$f":"IF(D345=\"\",\"\",COUNT($D$24:$D$452)-COUNT(D346:$D$452))","v":""}]
[null,{"$f":"IF(D346=\"\",\"\",COUNT($D$24:$D$452)-COUNT(D347:$D$452))","v":""}]
[null,{"$f":"IF(D347=\"\",\"\",COUNT($D$24:$D$452)-COUNT(D348:$D$452))","v":""}]
[null,{"$f":"IF(D348=\"\",\"\",COUNT($D$24:$D$452)-COUNT(D349:$D$452))","v":""}]
[null,{"$f":"IF(D349=\"\",\"\",COUNT($D$24:$D$452)-COUNT(D350:$D$452))","v":""}]
[null,{"$f":"IF(D350=\"\",\"\",COUNT($D$24:$D$452)-COUNT(D351:$D$452))","v":""}]
[null,{"$f":"IF(D351=\"\",\"\",COUNT($D$24:$D$452)-COUNT(D352:$D$452))","v":""}]
[null,{"$f":"IF(D352=\"\",\"\",COUNT($D$24:$D$452)-COUNT(D353:$D$452))","v":""}]
[null,{"$f":"IF(D353=\"\",\"\",COUNT($D$24:$D$452)-COUNT(D354:$D$452))","v":""}]
[null,{"$f":"IF(D354=\"\",\"\",COUNT($D$24:$D$452)-COUNT(D355:$D$452))","v":""}]
[null,{"$f":"IF(D355=\"\",\"\",COUNT($D$24:$D$452)-COUNT(D356:$D$452))","v":""}]
[null,{"$f":"IF(D356=\"\",\"\",COUNT($D$24:$D$452)-COUNT(D357:$D$452))","v":""}]
[null,{"$f":"IF(D357=\"\",\"\",COUNT($D$24:$D$452)-COUNT(D358:$D$452))","v":""}]
[null,{"$f":"IF(D358=\"\",\"\",COUNT($D$24:$D$452)-COUNT(D359:$D$452))","v":""}]
[null,{"$f":"IF(D359=\"\",\"\",COUNT($D$24:$D$452)-COUNT(D360:$D$452))","v":""}]
[null,{"$f":"IF(D360=\"\",\"\",COUNT($D$24:$D$452)-COUNT(D361:$D$452))","v":""}]
[null,{"$f":"IF(D361=\"\",\"\",COUNT($D$24:$D$452)-COUNT(D362:$D$452))","v":""}]
[null,{"$f":"IF(D362=\"\",\"\",COUNT($D$24:$D$452)-COUNT(D363:$D$452))","v":""}]
[null,{"$f":"IF(D363=\"\",\"\",COUNT($D$24:$D$452)-COUNT(D364:$D$452))","v":""}]
[null,{"$f":"IF(D364=\"\",\"\",COUNT($D$24:$D$452)-COUNT(D365:$D$452))","v":""}]
[null,{"$f":"IF(D365=\"\",\"\",COUNT($D$24:$D$452)-COUNT(D366:$D$452))","v":""}]
[null,{"$f":"IF(D366=\"\",\"\",COUNT($D$24:$D$452)-COUNT(D367:$D$452))","v":""}]
[null,{"$f":"IF(D367=\"\",\"\",COUNT($D$24:$D$452)-COUNT(D368:$D$452))","v":""}]
[null,{"$f":"IF(D368=\"\",\"\",COUNT($D$24:$D$452)-COUNT(D369:$D$452))","v":""}]
[null,{"$f":"IF(D369=\"\",\"\",COUNT($D$24:$D$452)-COUNT(D370:$D$452))","v":""}]
[null,{"$f":"IF(D370=\"\",\"\",COUNT($D$24:$D$452)-COUNT(D371:$D$452))","v":""}]
[null,{"$f":"IF(D371=\"\",\"\",COUNT($D$24:$D$452)-COUNT(D372:$D$452))","v":""}]
[null,{"$f":"IF(D372=\"\",\"\",COUNT($D$24:$D$452)-COUNT(D373:$D$452))","v":""}]
[null,{"$f":"IF(D373=\"\",\"\",COUNT($D$24:$D$452)-COUNT(D374:$D$452))","v":""}]
[null,{"$f":"IF(D374=\"\",\"\",COUNT($D$24:$D$452)-COUNT(D375:$D$452))","v":""}]
[null,{"$f":"IF(D375=\"\",\"\",COUNT($D$24:$D$452)-COUNT(D376:$D$452))","v":""}]
[null,{"$f":"IF(D376=\"\",\"\",COUNT($D$24:$D$452)-COUNT(D377:$D$452))","v":""}]
[null,{"$f":"IF(D377=\"\",\"\",COUNT($D$24:$D$452)-COUNT(D378:$D$452))","v":""}]
[null,{"$f":"IF(D378=\"\",\"\",COUNT($D$24:$D$452)-COUNT(D379:$D$452))","v":""}]
[null,{"$f":"IF(D379=\"\",\"\",COUNT($D$24:$D$452)-COUNT(D380:$D$452))","v":""}]
[null,{"$f":"IF(D380=\"\",\"\",COUNT($D$24:$D$452)-COUNT(D381:$D$452))","v":""}]
[null,{"$f":"IF(D381=\"\",\"\",COUNT($D$24:$D$452)-COUNT(D382:$D$452))","v":""}]
[null,{"$f":"IF(D382=\"\",\"\",COUNT($D$24:$D$452)-COUNT(D383:$D$452))","v":""}]
[null,{"$f":"IF(D383=\"\",\"\",COUNT($D$24:$D$452)-COUNT(D384:$D$452))","v":""}]
[null,{"$f":"IF(D384=\"\",\"\",COUNT($D$24:$D$452)-COUNT(D385:$D$452))","v":""}]
[null,{"$f":"IF(D385=\"\",\"\",COUNT($D$24:$D$452)-COUNT(D386:$D$452))","v":""}]
[null,{"$f":"IF(D386=\"\",\"\",COUNT($D$24:$D$452)-COUNT(D387:$D$452))","v":""}]
[null,{"$f":"IF(D387=\"\",\"\",COUNT($D$24:$D$452)-COUNT(D388:$D$452))","v":""}]
[null,{"$f":"IF(D388=\"\",\"\",COUNT($D$24:$D$452)-COUNT(D389:$D$452))","v":""}]
[null,{"$f":"IF(D389=\"\",\"\",COUNT($D$24:$D$452)-COUNT(D390:$D$452))","v":""}]
[null,{"$f":"IF(D390=\"\",\"\",COUNT($D$24:$D$452)-COUNT(D391:$D$452))","v":""}]
[null,{"$f":"IF(D391=\"\",\"\",COUNT($D$24:$D$452)-COUNT(D392:$D$452))","v":""}]
[null,{"$f":"IF(D392=\"\",\"\",COUNT($D$24:$D$452)-COUNT(D393:$D$452))","v":""}]
[null,{"$f":"IF(D393=\"\",\"\",COUNT($D$24:$D$452)-COUNT(D394:$D$452))","v":""}]
[null,{"$f":"IF(D394=\"\",\"\",COUNT($D$24:$D$452)-COUNT(D395:$D$452))","v":""}]
[null,{"$f":"IF(D395=\"\",\"\",COUNT($D$24:$D$452)-COUNT(D396:$D$452))","v":""}]
[null,{"$f":"IF(D396=\"\",\"\",COUNT($D$24:$D$452)-COUNT(D397:$D$452))","v":""}]
[null,{"$f":"IF(D397=\"\",\"\",COUNT($D$24:$D$452)-COUNT(D398:$D$452))","v":""}]
[null,{"$f":"IF(D398=\"\",\"\",COUNT($D$24:$D$452)-COUNT(D399:$D$452))","v":""}]
[null,{"$f":"IF(D399=\"\",\"\",COUNT($D$24:$D$452)-COUNT(D400:$D$452))","v":""}]
[null,{"$f":"IF(D400=\"\",\"\",COUNT($D$24:$D$452)-COUNT(D401:$D$452))","v":""}]
[null,{"$f":"IF(D401=\"\",\"\",COUNT($D$24:$D$452)-COUNT(D402:$D$452))","v":""}]
[null,{"$f":"IF(D402=\"\",\"\",COUNT($D$24:$D$452)-COUNT(D403:$D$452))","v":""}]
[null,{"$f":"IF(D403=\"\",\"\",COUNT($D$24:$D$452)-COUNT(D404:$D$452))","v":""}]
[null,{"$f":"IF(D404=\"\",\"\",COUNT($D$24:$D$452)-COUNT(D405:$D$452))","v":""}]
[null,{"$f":"IF(D405=\"\",\"\",COUNT($D$24:$D$452)-COUNT(D406:$D$452))","v":""}]
[null,{"$f":"IF(D406=\"\",\"\",COUNT($D$24:$D$452)-COUNT(D407:$D$452))","v":""}]
[null,{"$f":"IF(D407=\"\",\"\",COUNT($D$24:$D$452)-COUNT(D408:$D$452))","v":""}]
[null,{"$f":"IF(D408=\"\",\"\",COUNT($D$24:$D$452)-COUNT(D409:$D$452))","v":""}]
[null,{"$f":"IF(D409=\"\",\"\",COUNT($D$24:$D$452)-COUNT(D410:$D$452))","v":""}]
[null,{"$f":"IF(D410=\"\",\"\",COUNT($D$24:$D$452)-COUNT(D411:$D$452))","v":""}]
[null,{"$f":"IF(D411=\"\",\"\",COUNT($D$24:$D$452)-COUNT(D412:$D$452))","v":""}]
[null,{"$f":"IF(D412=\"\",\"\",COUNT($D$24:$D$452)-COUNT(D413:$D$452))","v":""}]
[null,{"$f":"IF(D413=\"\",\"\",COUNT($D$24:$D$452)-COUNT(D414:$D$452))","v":""}]
[null,{"$f":"IF(D414=\"\",\"\",COUNT($D$24:$D$452)-COUNT(D415:$D$452))","v":""}]
[null,{"$f":"IF(D415=\"\",\"\",COUNT($D$24:$D$452)-COUNT(D416:$D$452))","v":""}]
[null,{"$f":"IF(D416=\"\",\"\",COUNT($D$24:$D$452)-COUNT(D417:$D$452))","v":""}]
[null,{"$f":"IF(D417=\"\",\"\",COUNT($D$24:$D$452)-COUNT(D418:$D$452))","v":""}]
[null,{"$f":"IF(D418=\"\",\"\",COUNT($D$24:$D$452)-COUNT(D419:$D$452))","v":""}]
[null,{"$f":"IF(D419=\"\",\"\",COUNT($D$24:$D$452)-COUNT(D420:$D$452))","v":""}]
[null,{"$f":"IF(D420=\"\",\"\",COUNT($D$24:$D$452)-COUNT(D421:$D$452))","v":""}]
[null,{"$f":"IF(D421=\"\",\"\",COUNT($D$24:$D$452)-COUNT(D422:$D$452))","v":""}]
[null,{"$f":"IF(D422=\"\",\"\",COUNT($D$24:$D$452)-COUNT(D423:$D$452))","v":""}]
[null,{"$f":"IF(D423=\"\",\"\",COUNT($D$24:$D$452)-COUNT(D424:$D$452))","v":""}]
[null,{"$f":"IF(D424=\"\",\"\",COUNT($D$24:$D$452)-COUNT(D425:$D$452))","v":""}]
[null,{"$f":"IF(D425=\"\",\"\",COUNT($D$24:$D$452)-COUNT(D426:$D$452))","v":""}]
[null,{"$f":"IF(D426=\"\",\"\",COUNT($D$24:$D$452)-COUNT(D427:$D$452))","v":""}]
[null,{"$f":"IF(D427=\"\",\"\",COUNT($D$24:$D$452)-COUNT(D428:$D$452))","v":""}]
[null,{"$f":"IF(D428=\"\",\"\",COUNT($D$24:$D$452)-COUNT(D429:$D$452))","v":""}]
[null,{"$f":"IF(D429=\"\",\"\",COUNT($D$24:$D$452)-COUNT(D430:$D$452))","v":""}]
[null,{"$f":"IF(D430=\"\",\"\",COUNT($D$24:$D$452)-COUNT(D431:$D$452))","v":""}]
[null,{"$f":"IF(D431=\"\",\"\",COUNT($D$24:$D$452)-COUNT(D432:$D$452))","v":""}]
[null,{"$f":"IF(D432=\"\",\"\",COUNT($D$24:$D$452)-COUNT(D433:$D$452))","v":""}]
[null,{"$f":"IF(D433=\"\",\"\",COUNT($D$24:$D$452)-COUNT(D434:$D$452))","v":""}]
[null,{"$f":"IF(D434=\"\",\"\",COUNT($D$24:$D$452)-COUNT(D435:$D$452))","v":""}]
[null,{"$f":"IF(D435=\"\",\"\",COUNT($D$24:$D$452)-COUNT(D436:$D$452))","v":""}]
[null,{"$f":"IF(D436=\"\",\"\",COUNT($D$24:$D$452)-COUNT(D437:$D$452))","v":""}]
[null,{"$f":"IF(D437=\"\",\"\",COUNT($D$24:$D$452)-COUNT(D438:$D$452))","v":""}]
[null,{"$f":"IF(D438=\"\",\"\",COUNT($D$24:$D$452)-COUNT(D439:$D$452))","v":""}]
[null,{"$f":"IF(D439=\"\",\"\",COUNT($D$24:$D$452)-COUNT(D440:$D$452))","v":""}]
[null,{"$f":"IF(D440=\"\",\"\",COUNT($D$24:$D$452)-COUNT(D441:$D$452))","v":""}]
[null,{"$f":"IF(D441=\"\",\"\",COUNT($D$24:$D$452)-COUNT(D442:$D$452))","v":""}]
[null,{"$f":"IF(D442=\"\",\"\",COUNT($D$24:$D$452)-COUNT(D443:$D$452))","v":""}]
[null,{"$f":"IF(D443=\"\",\"\",COUNT($D$24:$D$452)-COUNT(D444:$D$452))","v":""}]
[null,{"$f":"IF(D444=\"\",\"\",COUNT($D$24:$D$452)-COUNT(D445:$D$452))","v":""}]
[null,{"$f":"IF(D445=\"\",\"\",COUNT($D$24:$D$452)-COUNT(D446:$D$452))","v":""}]
[null,{"$f":"IF(D446=\"\",\"\",COUNT($D$24:$D$452)-COUNT(D447:$D$452))","v":""}]
[null,{"$f":"IF(D447=\"\",\"\",COUNT($D$24:$D$452)-COUNT(D448:$D$452))","v":""}]
[null,{"$f":"IF(D448=\"\",\"\",COUNT($D$24:$D$452)-COUNT(D449:$D$452))","v":""}]
[null,{"$f":"IF(D449=\"\",\"\",COUNT($D$24:$D$452)-COUNT(D450:$D$452))","v":""}]
[null,{"$f":"IF(D450=\"\",\"\",COUNT($D$24:$D$452)-COUNT(D451:$D$452))","v":""}]
[null,{"$f":"IF(D451=\"\",\"\",COUNT($D$24:$D$452)-COUNT(D$452:$D452))","v":""}]
[null,{"$f":"IF(D452=\"\",\"\",COUNT($D$24:$D$452)-COUNT(D$452:$D453))","v":""}]
[null,{"$f":"IF(D453=\"\",\"\",COUNT($D$24:$D$452)-COUNT(D$452:$D454))","v":""}]
[null,{"$f":"IF(D454=\"\",\"\",COUNT($D$24:$D$452)-COUNT(D$452:$D455))","v":""}]
[null,{"$f":"IF(D455=\"\",\"\",COUNT($D$24:$D$452)-COUNT(D$452:$D456))","v":""}]
[null,{"$f":"IF(D456=\"\",\"\",COUNT($D$24:$D$452)-COUNT(D$452:$D457))","v":""}]
[null,{"$f":"IF(D457=\"\",\"\",COUNT($D$24:$D$452)-COUNT(D$452:$D458))","v":""}]
[null,{"$f":"IF(D458=\"\",\"\",COUNT($D$24:$D$452)-COUNT(D$452:$D459))","v":""}]
[null,{"$f":"IF(D459=\"\",\"\",COUNT($D$24:$D$452)-COUNT(D$452:$D460))","v":""}]
[null,{"$f":"IF(D460=\"\",\"\",COUNT($D$24:$D$452)-COUNT(D$452:$D461))","v":""}]
[null,{"$f":"IF(D461=\"\",\"\",COUNT($D$24:$D$452)-COUNT(D$452:$D462))","v":""}]
[null,{"$f":"IF(D462=\"\",\"\",COUNT($D$24:$D$452)-COUNT(D$452:$D463))","v":""}]
[null,{"$f":"IF(D463=\"\",\"\",COUNT($D$24:$D$452)-COUNT(D$452:$D464))","v":""}]
[null,{"$f":"IF(D464=\"\",\"\",COUNT($D$24:$D$452)-COUNT(D$452:$D465))","v":""}]
[null,{"$f":"IF(D465=\"\",\"\",COUNT($D$24:$D$452)-COUNT(D$452:$D466))","v":""}]
[null,{"$f":"IF(D466=\"\",\"\",COUNT($D$24:$D$452)-COUNT(D$452:$D467))","v":""}]
[null,{"$f":"IF(D467=\"\",\"\",COUNT($D$24:$D$452)-COUNT(D$452:$D468))","v":""}]
[null,{"$f":"IF(D468=\"\",\"\",COUNT($D$24:$D$452)-COUNT(D$452:$D469))","v":""}]
[null,{"$f":"IF(D469=\"\",\"\",COUNT($D$24:$D$452)-COUNT(D$452:$D470))","v":""}]
[null,{"$f":"IF(D470=\"\",\"\",COUNT($D$24:$D$452)-COUNT(D$452:$D471))","v":""}]
[null,{"$f":"IF(D471=\"\",\"\",COUNT($D$24:$D$452)-COUNT(D$452:$D472))","v":""}]
[null,{"$f":"IF(D472=\"\",\"\",COUNT($D$24:$D$452)-COUNT(D$452:$D473))","v":""}]
[null,{"$f":"IF(D473=\"\",\"\",COUNT($D$24:$D$452)-COUNT(D$452:$D474))","v":""}]
[null,{"$f":"IF(D474=\"\",\"\",COUNT($D$24:$D$452)-COUNT(D$452:$D475))","v":""}]
[null,{"$f":"IF(D475=\"\",\"\",COUNT($D$24:$D$452)-COUNT(D$452:$D476))","v":""}]
[null,{"$f":"IF(D476=\"\",\"\",COUNT($D$24:$D$452)-COUNT(D$452:$D477))","v":""}]
[null,{"$f":"IF(D477=\"\",\"\",COUNT($D$24:$D$452)-COUNT(D$452:$D478))","v":""}]
[null,{"$f":"IF(D478=\"\",\"\",COUNT($D$24:$D$452)-COUNT(D$452:$D479))","v":""}]
[null,{"$f":"IF(D479=\"\",\"\",COUNT($D$24:$D$452)-COUNT(D$452:$D480))","v":""}]
[null,{"$f":"IF(D480=\"\",\"\",COUNT($D$24:$D$452)-COUNT(D$452:$D481))","v":""}]
[null,{"$f":"IF(D481=\"\",\"\",COUNT($D$24:$D$452)-COUNT(D$452:$D482))","v":""}]
[null,{"$f":"IF(D482=\"\",\"\",COUNT($D$24:$D$452)-COUNT(D$452:$D483))","v":""}]
[null,{"$f":"IF(D483=\"\",\"\",COUNT($D$24:$D$452)-COUNT(D$452:$D484))","v":""}]
[null,{"$f":"IF(D484=\"\",\"\",COUNT($D$24:$D$452)-COUNT(D$452:$D485))","v":""}]
[null,{"$f":"IF(D485=\"\",\"\",COUNT($D$24:$D$452)-COUNT(D$452:$D486))","v":""}]
[null,{"$f":"IF(D486=\"\",\"\",COUNT($D$24:$D$452)-COUNT(D$452:$D487))","v":""}]
[null,{"$f":"IF(D487=\"\",\"\",COUNT($D$24:$D$452)-COUNT(D$452:$D488))","v":""}]
[null,{"$f":"IF(D488=\"\",\"\",COUNT($D$24:$D$452)-COUNT(D$452:$D489))","v":""}]
[null,{"$f":"IF(D489=\"\",\"\",COUNT($D$24:$D$452)-COUNT(D$452:$D490))","v":""}]
[null,{"$f":"IF(D490=\"\",\"\",COUNT($D$24:$D$452)-COUNT(D$452:$D491))","v":""}]
[null,{"$f":"IF(D491=\"\",\"\",COUNT($D$24:$D$452)-COUNT(D$452:$D492))","v":""}]
[null,{"$f":"IF(D492=\"\",\"\",COUNT($D$24:$D$452)-COUNT(D$452:$D493))","v":""}]
[null,{"$f":"IF(D493=\"\",\"\",COUNT($D$24:$D$452)-COUNT(D$452:$D494))","v":""}]
[null,{"$f":"IF(D494=\"\",\"\",COUNT($D$24:$D$452)-COUNT(D$452:$D495))","v":""}]
[null,{"$f":"IF(D495=\"\",\"\",COUNT($D$24:$D$452)-COUNT(D$452:$D496))","v":""}]
[null,{"$f":"IF(D496=\"\",\"\",COUNT($D$24:$D$452)-COUNT(D$452:$D497))","v":""}]
[null,{"$f":"IF(D497=\"\",\"\",COUNT($D$24:$D$452)-COUNT(D$452:$D498))","v":""}]
[null,{"$f":"IF(D498=\"\",\"\",COUNT($D$24:$D$452)-COUNT(D$452:$D499))","v":""}]
[null,{"$f":"IF(D499=\"\",\"\",COUNT($D$24:$D$452)-COUNT(D$452:$D500))","v":""}]
[null,{"$f":"IF(D500=\"\",\"\",COUNT($D$24:$D$452)-COUNT(D$452:$D501))","v":""}]
[null,{"$f":"IF(D501=\"\",\"\",COUNT($D$24:$D$452)-COUNT(D$452:$D502))","v":""}]
[null,{"$f":"IF(D502=\"\",\"\",COUNT($D$24:$D$452)-COUNT(D$452:$D503))","v":""}]
[null,{"$f":"IF(D503=\"\",\"\",COUNT($D$24:$D$452)-COUNT(D$452:$D504))","v":""}]
[null,{"$f":"IF(D504=\"\",\"\",COUNT($D$24:$D$452)-COUNT(D$452:$D505))","v":""}]
[null,{"$f":"IF(D505=\"\",\"\",COUNT($D$24:$D$452)-COUNT(D$452:$D506))","v":""}]
[null,{"$f":"IF(D506=\"\",\"\",COUNT($D$24:$D$452)-COUNT(D$452:$D507))","v":""}]
[null,{"$f":"IF(D507=\"\",\"\",COUNT($D$24:$D$452)-COUNT(D$452:$D508))","v":""}]
[null,{"$f":"IF(D508=\"\",\"\",COUNT($D$24:$D$452)-COUNT(D$452:$D509))","v":""}]
[null,{"$f":"IF(D509=\"\",\"\",COUNT($D$24:$D$452)-COUNT(D$452:$D510))","v":""}]
[null,{"$f":"IF(D510=\"\",\"\",COUNT($D$24:$D$452)-COUNT(D$452:$D511))","v":""}]
[null,{"$f":"IF(D511=\"\",\"\",COUNT($D$24:$D$452)-COUNT(D$452:$D512))","v":""}]
[null,{"$f":"IF(D512=\"\",\"\",COUNT($D$24:$D$452)-COUNT(D$452:$D513))","v":""}]
[null,{"$f":"IF(D513=\"\",\"\",COUNT($D$24:$D$452)-COUNT(D$452:$D514))","v":""}]
[null,{"$f":"IF(D514=\"\",\"\",COUNT($D$24:$D$452)-COUNT(D$452:$D515))","v":""}]
[null,{"$f":"IF(D515=\"\",\"\",COUNT($D$24:$D$452)-COUNT(D$452:$D516))","v":""}]
[null,{"$f":"IF(D516=\"\",\"\",COUNT($D$24:$D$452)-COUNT(D$452:$D517))","v":""}]
[null,{"$f":"IF(D517=\"\",\"\",COUNT($D$24:$D$452)-COUNT(D$452:$D518))","v":""}]
[null,{"$f":"IF(D518=\"\",\"\",COUNT($D$24:$D$452)-COUNT(D$452:$D519))","v":""}]
[null,{"$f":"IF(D519=\"\",\"\",COUNT($D$24:$D$452)-COUNT(D$452:$D520))","v":""}]
[null,{"$f":"IF(D520=\"\",\"\",COUNT($D$24:$D$452)-COUNT(D$452:$D521))","v":""}]
[null,{"$f":"IF(D521=\"\",\"\",COUNT($D$24:$D$452)-COUNT(D$452:$D522))","v":""}]
[null,{"$f":"IF(D522=\"\",\"\",COUNT($D$24:$D$452)-COUNT(D$452:$D523))","v":""}]
[null,{"$f":"IF(D523=\"\",\"\",COUNT($D$24:$D$452)-COUNT(D$452:$D524))","v":""}]
[null,{"$f":"IF(D524=\"\",\"\",COUNT($D$24:$D$452)-COUNT(D$452:$D525))","v":""}]
[null,{"$f":"IF(D525=\"\",\"\",COUNT($D$24:$D$452)-COUNT(D$452:$D526))","v":""}]
[null,{"$f":"IF(D526=\"\",\"\",COUNT($D$24:$D$452)-COUNT(D$452:$D527))","v":""}]
[null,{"$f":"IF(D527=\"\",\"\",COUNT($D$24:$D$452)-COUNT(D$452:$D528))","v":""}]
[null,{"$f":"IF(D528=\"\",\"\",COUNT($D$24:$D$452)-COUNT(D$452:$D529))","v":""}]
[null,{"$f":"IF(D529=\"\",\"\",COUNT($D$24:$D$452)-COUNT(D$452:$D530))","v":""}]
[null,{"$f":"IF(D530=\"\",\"\",COUNT($D$24:$D$452)-COUNT(D$452:$D531))","v":""}]
[null,{"$f":"IF(D531=\"\",\"\",COUNT($D$24:$D$452)-COUNT(D$452:$D532))","v":""}]
[null,{"$f":"IF(D532=\"\",\"\",COUNT($D$24:$D$452)-COUNT(D$452:$D533))","v":""}]
[null,{"$f":"IF(D533=\"\",\"\",COUNT($D$24:$D$452)-COUNT(D$452:$D534))","v":""}]
[null,{"$f":"IF(D534=\"\",\"\",COUNT($D$24:$D$452)-COUNT(D$452:$D535))","v":""}]
[null,{"$f":"IF(D535=\"\",\"\",COUNT($D$24:$D$452)-COUNT(D$452:$D536))","v":""}]
[null,{"$f":"IF(D536=\"\",\"\",COUNT($D$24:$D$452)-COUNT(D$452:$D537))","v":""}]
[null,{"$f":"IF(D537=\"\",\"\",COUNT($D$24:$D$452)-COUNT(D$452:$D538))","v":""}]
[null,{"$f":"IF(D538=\"\",\"\",COUNT($D$24:$D$452)-COUNT(D$452:$D539))","v":""}]
[null,{"$f":"IF(D539=\"\",\"\",COUNT($D$24:$D$452)-COUNT(D$452:$D540))","v":""}]
[null,{"$f":"IF(D540=\"\",\"\",COUNT($D$24:$D$452)-COUNT(D$452:$D541))","v":""}]
[null,{"$f":"IF(D541=\"\",\"\",COUNT($D$24:$D$452)-COUNT(D$452:$D542))","v":""}]
[null,{"$f":"IF(D542=\"\",\"\",COUNT($D$24:$D$452)-COUNT(D$452:$D543))","v":""}]
[null,{"$f":"IF(D543=\"\",\"\",COUNT($D$24:$D$452)-COUNT(D$452:$D544))","v":""}]
[null,{"$f":"IF(D544=\"\",\"\",COUNT($D$24:$D$452)-COUNT(D$452:$D545))","v":""}]
[null,{"$f":"IF(D545=\"\",\"\",COUNT($D$24:$D$452)-COUNT(D$452:$D546))","v":""}]
[null,{"$f":"IF(D546=\"\",\"\",COUNT($D$24:$D$452)-COUNT(D$452:$D547))","v":""}]
[null,{"$f":"IF(D547=\"\",\"\",COUNT($D$24:$D$452)-COUNT(D$452:$D548))","v":""}]
[null,{"$f":"IF(D548=\"\",\"\",COUNT($D$24:$D$452)-COUNT(D$452:$D549))","v":""}]
[null,{"$f":"IF(D549=\"\",\"\",COUNT($D$24:$D$452)-COUNT(D$452:$D550))","v":""}]
[null,{"$f":"IF(D550=\"\",\"\",COUNT($D$24:$D$452)-COUNT(D$452:$D551))","v":""}]
[null,{"$f":"IF(D551=\"\",\"\",COUNT($D$24:$D$452)-COUNT(D$452:$D552))","v":""}]
[null,{"$f":"IF(D552=\"\",\"\",COUNT($D$24:$D$452)-COUNT(D$452:$D553))","v":""}]
[null,{"$f":"IF(D553=\"\",\"\",COUNT($D$24:$D$452)-COUNT(D$452:$D554))","v":""}]
[null,{"$f":"IF(D554=\"\",\"\",COUNT($D$24:$D$452)-COUNT(D$452:$D555))","v":""}]
[null,{"$f":"IF(D555=\"\",\"\",COUNT($D$24:$D$452)-COUNT(D$452:$D556))","v":""}]
[null,{"$f":"IF(D556=\"\",\"\",COUNT($D$24:$D$452)-COUNT(D$452:$D557))","v":""}]
[null,{"$f":"IF(D557=\"\",\"\",COUNT($D$24:$D$452)-COUNT(D$452:$D558))","v":""}]
[null,{"$f":"IF(D558=\"\",\"\",COUNT($D$24:$D$452)-COUNT(D$452:$D559))","v":""}]
[null,{"$f":"IF(D559=\"\",\"\",COUNT($D$24:$D$452)-COUNT(D$452:$D560))","v":""}]
[null,{"$f":"IF(D560=\"\",\"\",COUNT($D$24:$D$452)-COUNT(D$452:$D561))","v":""}]
[null,{"$f":"IF(D561=\"\",\"\",COUNT($D$24:$D$452)-COUNT(D$452:$D562))","v":""}]
[null,{"$f":"IF(D562=\"\",\"\",COUNT($D$24:$D$452)-COUNT(D$452:$D563))","v":""}]
[null,{"$f":"IF(D563=\"\",\"\",COUNT($D$24:$D$452)-COUNT(D$452:$D564))","v":""}]
[null,{"$f":"IF(D564=\"\",\"\",COUNT($D$24:$D$452)-COUNT(D$452:$D565))","v":""}]
[null,{"$f":"IF(D565=\"\",\"\",COUNT($D$24:$D$452)-COUNT(D$452:$D566))","v":""}]
[null,{"$f":"IF(D566=\"\",\"\",COUNT($D$24:$D$452)-COUNT(D$452:$D567))","v":""}]
[null,{"$f":"IF(D567=\"\",\"\",COUNT($D$24:$D$452)-COUNT(D$452:$D568))","v":""}]
[null,{"$f":"IF(D568=\"\",\"\",COUNT($D$24:$D$452)-COUNT(D$452:$D569))","v":""}]
[null,{"$f":"IF(D569=\"\",\"\",COUNT($D$24:$D$452)-COUNT(D$452:$D570))","v":""}]
[null,{"$f":"IF(D570=\"\",\"\",COUNT($D$24:$D$452)-COUNT(D$452:$D571))","v":""}]
[null,{"$f":"IF(D571=\"\",\"\",COUNT($D$24:$D$452)-COUNT(D$452:$D572))","v":""}]
[null,{"$f":"IF(D572=\"\",\"\",COUNT($D$24:$D$452)-COUNT(D$452:$D573))","v":""}]
[null,{"$f":"IF(D573=\"\",\"\",COUNT($D$24:$D$452)-COUNT(D$452:$D574))","v":""}]
[null,{"$f":"IF(D574=\"\",\"\",COUNT($D$24:$D$452)-COUNT(D$452:$D575))","v":""}]
[null,{"$f":"IF(D575=\"\",\"\",COUNT($D$24:$D$452)-COUNT(D$452:$D576))","v":""}]
[null,{"$f":"IF(D576=\"\",\"\",COUNT($D$24:$D$452)-COUNT(D$452:$D577))","v":""}]
[null,{"$f":"IF(D577=\"\",\"\",COUNT($D$24:$D$452)-COUNT(D$452:$D578))","v":""}]
[null,{"$f":"IF(D578=\"\",\"\",COUNT($D$24:$D$452)-COUNT(D$452:$D579))","v":""}]
[null,{"$f":"IF(D579=\"\",\"\",COUNT($D$24:$D$452)-COUNT(D$452:$D580))","v":""}]
[null,{"$f":"IF(D580=\"\",\"\",COUNT($D$24:$D$452)-COUNT(D$452:$D581))","v":""}]
[null,{"$f":"IF(D581=\"\",\"\",COUNT($D$24:$D$452)-COUNT(D$452:$D582))","v":""}]
[null,{"$f":"IF(D582=\"\",\"\",COUNT($D$24:$D$452)-COUNT(D$452:$D583))","v":""}]
[null,{"$f":"IF(D583=\"\",\"\",COUNT($D$24:$D$452)-COUNT(D$452:$D584))","v":""}]
[null,{"$f":"IF(D584=\"\",\"\",COUNT($D$24:$D$452)-COUNT(D$452:$D585))","v":""}]
[null,{"$f":"IF(D585=\"\",\"\",COUNT($D$24:$D$452)-COUNT(D$452:$D586))","v":""}]
[null,{"$f":"IF(D586=\"\",\"\",COUNT($D$24:$D$452)-COUNT(D$452:$D587))","v":""}]
[null,{"$f":"IF(D587=\"\",\"\",COUNT($D$24:$D$452)-COUNT(D$452:$D588))","v":""}]
[null,{"$f":"IF(D588=\"\",\"\",COUNT($D$24:$D$452)-COUNT(D$452:$D589))","v":""}]
[null,{"$f":"IF(D589=\"\",\"\",COUNT($D$24:$D$452)-COUNT(D$452:$D590))","v":""}]
[null,{"$f":"IF(D590=\"\",\"\",COUNT($D$24:$D$452)-COUNT(D$452:$D591))","v":""}]
[null,{"$f":"IF(D591=\"\",\"\",COUNT($D$24:$D$452)-COUNT(D$452:$D592))","v":""}]
[null,{"$f":"IF(D592=\"\",\"\",COUNT($D$24:$D$452)-COUNT(D$452:$D593))","v":""}]
[null,{"$f":"IF(D593=\"\",\"\",COUNT($D$24:$D$452)-COUNT(D$452:$D594))","v":""}]
[null,{"$f":"IF(D594=\"\",\"\",COUNT($D$24:$D$452)-COUNT(D$452:$D595))","v":""}]
[null,{"$f":"IF(D595=\"\",\"\",COUNT($D$24:$D$452)-COUNT(D$452:$D596))","v":""}]
[null,{"$f":"IF(D596=\"\",\"\",COUNT($D$24:$D$452)-COUNT(D$452:$D597))","v":""}]
[null,{"$f":"IF(D597=\"\",\"\",COUNT($D$24:$D$452)-COUNT(D$452:$D598))","v":""}]
[null,{"$f":"IF(D598=\"\",\"\",COUNT($D$24:$D$452)-COUNT(D$452:$D599))","v":""}]
[null,{"$f":"IF(D599=\"\",\"\",COUNT($D$24:$D$452)-COUNT(D$452:$D600))","v":""}]
[null,{"$f":"IF(D600=\"\",\"\",COUNT($D$24:$D$452)-COUNT(D$452:$D601))","v":""}]
[null,{"$f":"IF(D601=\"\",\"\",COUNT($D$24:$D$452)-COUNT(D$452:$D602))","v":""}]
[null,{"$f":"IF(D602=\"\",\"\",COUNT($D$24:$D$452)-COUNT(D$452:$D603))","v":""}]
[null,{"$f":"IF(D603=\"\",\"\",COUNT($D$24:$D$452)-COUNT(D$452:$D604))","v":""}]
[null,{"$f":"IF(D604=\"\",\"\",COUNT($D$24:$D$452)-COUNT(D$452:$D605))","v":""}]
[null,{"$f":"IF(D605=\"\",\"\",COUNT($D$24:$D$452)-COUNT(D$452:$D606))","v":""}]
[null,{"$f":"IF(D606=\"\",\"\",COUNT($D$24:$D$452)-COUNT(D$452:$D607))","v":""}]
[null,{"$f":"IF(D607=\"\",\"\",COUNT($D$24:$D$452)-COUNT(D$452:$D608))","v":""}]
[null,{"$f":"IF(D608=\"\",\"\",COUNT($D$24:$D$452)-COUNT(D$452:$D609))","v":""}]
[null,{"$f":"IF(D609=\"\",\"\",COUNT($D$24:$D$452)-COUNT(D$452:$D610))","v":""}]
[null,{"$f":"IF(D610=\"\",\"\",COUNT($D$24:$D$452)-COUNT(D$452:$D611))","v":""}]
[null,{"$f":"IF(D611=\"\",\"\",COUNT($D$24:$D$452)-COUNT(D$452:$D612))","v":""}]
[null,{"$f":"IF(D612=\"\",\"\",COUNT($D$24:$D$452)-COUNT(D$452:$D613))","v":""}]
[null,{"$f":"IF(D613=\"\",\"\",COUNT($D$24:$D$452)-COUNT(D$452:$D614))","v":""}]
[null,{"$f":"IF(D614=\"\",\"\",COUNT($D$24:$D$452)-COUNT(D$452:$D615))","v":""}]
[null,{"$f":"IF(D615=\"\",\"\",COUNT($D$24:$D$452)-COUNT(D$452:$D616))","v":""}]
[null,{"$f":"IF(D616=\"\",\"\",COUNT($D$24:$D$452)-COUNT(D$452:$D617))","v":""}]
[null,{"$f":"IF(D617=\"\",\"\",COUNT($D$24:$D$452)-COUNT(D$452:$D618))","v":""}]
[null,{"$f":"IF(D618=\"\",\"\",COUNT($D$24:$D$452)-COUNT(D$452:$D619))","v":""}]
[null,{"$f":"IF(D619=\"\",\"\",COUNT($D$24:$D$452)-COUNT(D$452:$D620))","v":""}]
[null,{"$f":"IF(D620=\"\",\"\",COUNT($D$24:$D$452)-COUNT(D$452:$D621))","v":""}]
[null,{"$f":"IF(D621=\"\",\"\",COUNT($D$24:$D$452)-COUNT(D$452:$D622))","v":""}]
[null,{"$f":"IF(D622=\"\",\"\",COUNT($D$24:$D$452)-COUNT(D$452:$D623))","v":""}]
[null,{"$f":"IF(D623=\"\",\"\",COUNT($D$24:$D$452)-COUNT(D$452:$D624))","v":""}]
[null,{"$f":"IF(D624=\"\",\"\",COUNT($D$24:$D$452)-COUNT(D$452:$D625))","v":""}]
[null,{"$f":"IF(D625=\"\",\"\",COUNT($D$24:$D$452)-COUNT(D$452:$D626))","v":""}]
[null,{"$f":"IF(D626=\"\",\"\",COUNT($D$24:$D$452)-COUNT(D$452:$D627))","v":""}]
[null,{"$f":"IF(D627=\"\",\"\",COUNT($D$24:$D$452)-COUNT(D$452:$D628))","v":""}]
[null,{"$f":"IF(D628=\"\",\"\",COUNT($D$24:$D$452)-COUNT(D$452:$D629))","v":""}]
[null,{"$f":"IF(D629=\"\",\"\",COUNT($D$24:$D$452)-COUNT(D$452:$D630))","v":""}]
[null,{"$f":"IF(D630=\"\",\"\",COUNT($D$24:$D$452)-COUNT(D$452:$D631))","v":""}]
[null,{"$f":"IF(D631=\"\",\"\",COUNT($D$24:$D$452)-COUNT(D$452:$D632))","v":""}]
[null,{"$f":"IF(D632=\"\",\"\",COUNT($D$24:$D$452)-COUNT(D$452:$D633))","v":""}]
[null,{"$f":"IF(D633=\"\",\"\",COUNT($D$24:$D$452)-COUNT(D$452:$D634))","v":""}]
[null,{"$f":"IF(D634=\"\",\"\",COUNT($D$24:$D$452)-COUNT(D$452:$D635))","v":""}]
[null,{"$f":"IF(D635=\"\",\"\",COUNT($D$24:$D$452)-COUNT(D$452:$D636))","v":""}]
[null,{"$f":"IF(D636=\"\",\"\",COUNT($D$24:$D$452)-COUNT(D$452:$D637))","v":""}]
[null,{"$f":"IF(D637=\"\",\"\",COUNT($D$24:$D$452)-COUNT(D$452:$D638))","v":""}]
[null,{"$f":"IF(D638=\"\",\"\",COUNT($D$24:$D$452)-COUNT(D$452:$D639))","v":""}]
[null,{"$f":"IF(D639=\"\",\"\",COUNT($D$24:$D$452)-COUNT(D$452:$D640))","v":""}]
[null,{"$f":"IF(D640=\"\",\"\",COUNT($D$24:$D$452)-COUNT(D$452:$D641))","v":""}]
[null,{"$f":"IF(D641=\"\",\"\",COUNT($D$24:$D$452)-COUNT(D$452:$D642))","v":""}]
[null,{"$f":"IF(D642=\"\",\"\",COUNT($D$24:$D$452)-COUNT(D$452:$D643))","v":""}]
[null,{"$f":"IF(D643=\"\",\"\",COUNT($D$24:$D$452)-COUNT(D$452:$D644))","v":""}]
[null,{"$f":"IF(D644=\"\",\"\",COUNT($D$24:$D$452)-COUNT(D$452:$D645))","v":""}]
[null,{"$f":"IF(D645=\"\",\"\",COUNT($D$24:$D$452)-COUNT(D$452:$D646))","v":""}]
[null,{"$f":"IF(D646=\"\",\"\",COUNT($D$24:$D$452)-COUNT(D$452:$D647))","v":""}]
[null,{"$f":"IF(D647=\"\",\"\",COUNT($D$24:$D$452)-COUNT(D$452:$D648))","v":""}]
[null,{"$f":"IF(D648=\"\",\"\",COUNT($D$24:$D$452)-COUNT(D$452:$D649))","v":""}]
[null,{"$f":"IF(D649=\"\",\"\",COUNT($D$24:$D$452)-COUNT(D$452:$D650))","v":""}]
[null,{"$f":"IF(D650=\"\",\"\",COUNT($D$24:$D$452)-COUNT(D$452:$D651))","v":""}]
[null,{"$f":"IF(D651=\"\",\"\",COUNT($D$24:$D$452)-COUNT(D$452:$D652))","v":""}]
[null,{"$f":"IF(D652=\"\",\"\",COUNT($D$24:$D$452)-COUNT(D$452:$D653))","v":""}]
[null,{"$f":"IF(D653=\"\",\"\",COUNT($D$24:$D$452)-COUNT(D$452:$D654))","v":""}]
[null,{"$f":"IF(D654=\"\",\"\",COUNT($D$24:$D$452)-COUNT(D$452:$D655))","v":""}]
[null,{"$f":"IF(D655=\"\",\"\",COUNT($D$24:$D$452)-COUNT(D$452:$D656))","v":""}]
[null,{"$f":"IF(D656=\"\",\"\",COUNT($D$24:$D$452)-COUNT(D$452:$D657))","v":""}]
[null,{"$f":"IF(D657=\"\",\"\",COUNT($D$24:$D$452)-COUNT(D$452:$D658))","v":""}]
[null,{"$f":"IF(D658=\"\",\"\",COUNT($D$24:$D$452)-COUNT(D$452:$D659))","v":""}]
[null,{"$f":"IF(D659=\"\",\"\",COUNT($D$24:$D$452)-COUNT(D$452:$D660))","v":""}]
[null,{"$f":"IF(D660=\"\",\"\",COUNT($D$24:$D$452)-COUNT(D$452:$D661))","v":""}]
[null,{"$f":"IF(D661=\"\",\"\",COUNT($D$24:$D$452)-COUNT(D$452:$D662))","v":""}]
[null,{"$f":"IF(D662=\"\",\"\",COUNT($D$24:$D$452)-COUNT(D$452:$D663))","v":""}]
[null,{"$f":"IF(D663=\"\",\"\",COUNT($D$24:$D$452)-COUNT(D$452:$D664))","v":""}]
[null,{"$f":"IF(D664=\"\",\"\",COUNT($D$24:$D$452)-COUNT(D$452:$D665))","v":""}]
[null,{"$f":"IF(D665=\"\",\"\",COUNT($D$24:$D$452)-COUNT(D$452:$D666))","v":""}]
[null,{"$f":"IF(D666=\"\",\"\",COUNT($D$24:$D$452)-COUNT(D$452:$D667))","v":""}]
[null,{"$f":"IF(D667=\"\",\"\",COUNT($D$24:$D$452)-COUNT(D$452:$D668))","v":""}]
[null,{"$f":"IF(D668=\"\",\"\",COUNT($D$24:$D$452)-COUNT(D$452:$D669))","v":""}]
[null,{"$f":"IF(D669=\"\",\"\",COUNT($D$24:$D$452)-COUNT(D$452:$D670))","v":""}]
[null,{"$f":"IF(D670=\"\",\"\",COUNT($D$24:$D$452)-COUNT(D$452:$D671))","v":""}]
[null,{"$f":"IF(D671=\"\",\"\",COUNT($D$24:$D$452)-COUNT(D$452:$D672))","v":""}]
[null,{"$f":"IF(D672=\"\",\"\",COUNT($D$24:$D$452)-COUNT(D$452:$D673))","v":""}]
[null,{"$f":"IF(D673=\"\",\"\",COUNT($D$24:$D$452)-COUNT(D$452:$D674))","v":""}]
[null,{"$f":"IF(D674=\"\",\"\",COUNT($D$24:$D$452)-COUNT(D$452:$D675))","v":""}]
[null,{"$f":"IF(D675=\"\",\"\",COUNT($D$24:$D$452)-COUNT(D$452:$D676))","v":""}]
[null,{"$f":"IF(D676=\"\",\"\",COUNT($D$24:$D$452)-COUNT(D$452:$D677))","v":""}]
[null,{"$f":"IF(D677=\"\",\"\",COUNT($D$24:$D$452)-COUNT(D$452:$D678))","v":""}]
[null,{"$f":"IF(D678=\"\",\"\",COUNT($D$24:$D$452)-COUNT(D$452:$D679))","v":""}]
[null,{"$f":"IF(D679=\"\",\"\",COUNT($D$24:$D$452)-COUNT(D$452:$D680))","v":""}]
[null,{"$f":"IF(D680=\"\",\"\",COUNT($D$24:$D$452)-COUNT(D$452:$D681))","v":""}]
[null,{"$f":"IF(D681=\"\",\"\",COUNT($D$24:$D$452)-COUNT(D$452:$D682))","v":""}]
[null,{"$f":"IF(D682=\"\",\"\",COUNT($D$24:$D$452)-COUNT(D$452:$D683))","v":""}]
[null,{"$f":"IF(D683=\"\",\"\",COUNT($D$24:$D$452)-COUNT(D$452:$D684))","v":""}]
[null,{"$f":"IF(D684=\"\",\"\",COUNT($D$24:$D$452)-COUNT(D$452:$D685))","v":""}]
[null,{"$f":"IF(D685=\"\",\"\",COUNT($D$24:$D$452)-COUNT(D$452:$D686))","v":""}]
[null,{"$f":"IF(D686=\"\",\"\",COUNT($D$24:$D$452)-COUNT(D$452:$D687))","v":""}]
[null,{"$f":"IF(D687=\"\",\"\",COUNT($D$24:$D$452)-COUNT(D$452:$D688))","v":""}]
[null,{"$f":"IF(D688=\"\",\"\",COUNT($D$24:$D$452)-COUNT(D$452:$D689))","v":""}]
[null,{"$f":"IF(D689=\"\",\"\",COUNT($D$24:$D$452)-COUNT(D$452:$D690))","v":""}]
[null,{"$f":"IF(D690=\"\",\"\",COUNT($D$24:$D$452)-COUNT(D$452:$D691))","v":""}]
[null,{"$f":"IF(D691=\"\",\"\",COUNT($D$24:$D$452)-COUNT(D$452:$D692))","v":""}]
[null,{"$f":"IF(D692=\"\",\"\",COUNT($D$24:$D$452)-COUNT(D$452:$D693))","v":""}]
[null,{"$f":"IF(D693=\"\",\"\",COUNT($D$24:$D$452)-COUNT(D$452:$D694))","v":""}]
[null,{"$f":"IF(D694=\"\",\"\",COUNT($D$24:$D$452)-COUNT(D$452:$D695))","v":""}]
[null,{"$f":"IF(D695=\"\",\"\",COUNT($D$24:$D$452)-COUNT(D$452:$D696))","v":""}]
[null,{"$f":"IF(D696=\"\",\"\",COUNT($D$24:$D$452)-COUNT(D$452:$D697))","v":""}]
[null,{"$f":"IF(D697=\"\",\"\",COUNT($D$24:$D$452)-COUNT(D$452:$D698))","v":""}]
[null,{"$f":"IF(D698=\"\",\"\",COUNT($D$24:$D$452)-COUNT(D$452:$D699))","v":""}]
[null,{"$f":"IF(D699=\"\",\"\",COUNT($D$24:$D$452)-COUNT(D$452:$D700))","v":""}]
[null,{"$f":"IF(D700=\"\",\"\",COUNT($D$24:$D$452)-COUNT(D$452:$D701))","v":""}]
[null,{"$f":"IF(D701=\"\",\"\",COUNT($D$24:$D$452)-COUNT(D$452:$D702))","v":""}]
[null,{"$f":"IF(D702=\"\",\"\",COUNT($D$24:$D$452)-COUNT(D$452:$D703))","v":""}]
[null,{"$f":"IF(D703=\"\",\"\",COUNT($D$24:$D$452)-COUNT(D$452:$D704))","v":""}]
[null,{"$f":"IF(D704=\"\",\"\",COUNT($D$24:$D$452)-COUNT(D$452:$D705))","v":""}]
[null,{"$f":"IF(D705=\"\",\"\",COUNT($D$24:$D$452)-COUNT(D$452:$D706))","v":""}]
[null,{"$f":"IF(D706=\"\",\"\",COUNT($D$24:$D$452)-COUNT(D$452:$D707))","v":""}]
[null,{"$f":"IF(D707=\"\",\"\",COUNT($D$24:$D$452)-COUNT(D$452:$D708))","v":""}]

{"sheet":"Limit_Deviation_Detail","index":8,"n_rows":500,"n_cols":29,"rows_kept":500,"cut":false,"hidden":false,"merged":[]}
[null,"DO NOT REMOVE OR EDIT INFORMATION IN ROWS 1 THROUGH 5\nFOR INTERNAL USE ONLY"]
[null,"Template Name",null,null,{"$f":"+Welcome!B2","v":"63.7751(a) Semiannual Compliance Report (Spreadsheet Template)"}]
[null,"CitationID",null,null,{"$f":"+Welcome!B3","v":"63.7751(a)"}]
[null,"Template Version",null,null,{"$f":"+Welcome!B4","v":"v1.00"}]
[null,"Last Updated Date",null,null,{"$f":"+Welcome!B5","v":44008}]
[null,{"$f":"Welcome!B6","v":"OMB No.: 2060-0543 Expiration Date: 11/30/2019"}]
[null,"40 CFR Part 63, Subpart EEEEE National Emission Standards for Hazardous Air Pollutants: Iron and Steel Foundries - "]
[null,"§63.7751(b) Semiannual Compliance Report Spreadsheet Template"]
[]
[]
[null,"* Required Field"]
[null,"Company Record No.  *\n(Autocompleted from Column D)","Affected Source or Equipment *\n(§63.7751(b)(7)(i))\n(Autocompleted from Column D)","Company Record Number and Affected Source *\n(Select from dropdown)","Emission Limitation or Work Practice Deviated From *\n(§63.7751(b)(7)(ii))\n(Select from Dropdown)","Starting Date of Deviation *\n(§63.7751(b)(7)(ii)(A))","Starting Time of \nDeviation *\n(§63.7751(b)(7)(ii)(A))","Duration of \nDeviation *\n(Hours)\n(§63.7751(b)(7)(ii)(A))","Cause of Deviation *\n(§63.7751(b)(7)(ii)(A))\n(Select from dropdown)","Corrective Action Taken *\n(§63.7751(b)(7)(ii)(A))\n","Method Used to Estimate Emissions \n(§63.7751(b)(7)(ii)(B))","Pollutant 1\n(§63.7751(b)(7)(ii)(B))\n(Select from dropdown)","Estimate of Emissions \nPollutant 1\n(§63.7751(b)(7)(ii)(B))","Units of Emissions Estimate \nPollutant 1\n(§63.7751(b)(7)(ii)(B))","Pollutant 2\n(§63.7751(b)(7)(ii)(B))\n(Select from dropdown)\n(If necessary)","Estimate of Emissions \nPollutant 2\n(§63.7751(b)(7)(ii)(B))\n(If necessary)","Units of Emissions Estimate \nPollutant 2\n(§63.7751(b)(7)(ii)(B))\n(If necessary)","Pollutant 3\n(§63.7751(b)(7)(ii)(B))\n(Select from dropdown)\n(If necessary)","Estimate of Emissions\nPollutant 3\n(§63.7751(b)(7)(ii)(B))\n(If necessary)","Units of Emissions Estimate \nPollutant 3\n(§63.7751(b)(7)(ii)(B))\n(If necessary)","Pollutant 4\n(§63.7751(b)(7)(ii)(B))\n(Select from dropdown)\n(If necessary)","Estimate of Emissions\nPollutant 4\n(§63.7751(b)(7)(ii)(B))\n(If necessary)","Units of Emissions Estimate \nPollutant 4\n(§63.7751(b)(7)(ii)(B))\n(If necessary)","Pollutant 5\n(§63.7751(b)(7)(ii)(B))\n(Select from dropdown)\n(If necessary)","Estimate of Emissions \nPollutant 5\n(§63.7751(b)(7)(ii)(B))\n(If necessary)","Units of Emissions Estimate \nPollutant 5\n(§63.7751(b)(7)(ii)(B))\n(If necessary)","Column1","Column2","Column3"]
[null,"RecordId","AffectedSource_LimitDetail","RecordSource_LimitDetail","DeviceDeviation_LimitDetail","DeviationStartDate_LimitDetail","DeviationStartTime_LimitDetail","DeviationDuration_LimitDetail","DeviationCause_LimitDetail","CorrectiveAction_LimitDetail","EstimationMethod_LimitDetail","Pollutant1_LimitDetail","Pollutant1Emissions_LimitDetail","Pollutant1Units_LimitDetail","Pollutant2_LimitDetail","Pollutant2Emissions_LimitDetail","Pollutant2Units_LimitDetail","Pollutant3_LimitDetail","Pollutant3Emissions_LimitDetail","Pollutant3Units_LimitDetail","Pollutant4_LimitDetail","Pollutant4Emissions_LimitDetail","Pollutant4Units_LimitDetail","Pollutant5_LimitDetail","Pollutant5Emissions_LimitDetail","Pollutant5Unit_LimitDetail","Pollutant6_LimitDetail","Pollutant6Emissions_LimitDetail","Pollutant6Unit_LimitDetail"]
[null,"e.g.: 1","e.g.: Line 1 ","e.g.: 1 Line 1","e.g.:  Particulate Matter","e.g.: 2/12/2017","e.g.: 13:05","e.g.: 16.08","e.g.: Control Equipment Problems","e.g.: Replaced bags","e.g.: Engineering calculations","e.g.: Particulate Matter","e.g.: 0.1","e.g.: tons","e.g.: Total Metal HAP","e.g.: 0.1","e.g.: tons","e.g.: Volatile Organic HAP","e.g.: 0.1","e.g.: tons","e.g.: Triethylamine","e.g.: 0.1","e.g.: tons","e.g.: Opacity","e.g.: 50","e.g.: percent"]
[]
[]
[]
[]
[]
[]
[]
[]
[]
[null,{"$f":"IF($D24=\"\",\"\",VLOOKUP($D24,Lists!$BM$2:$BO$78,2,FALSE))","v":""},{"$f":"IF($D24=\"\",\"\",VLOOKUP($D24,Lists!$BM$2:$BO$78,3,FALSE))","v":""}]
[null,{"$f":"IF($D25=\"\",\"\",VLOOKUP($D25,Lists!$BM$2:$BO$78,2,FALSE))","v":""},{"$f":"IF($D25=\"\",\"\",VLOOKUP($D25,Lists!$BM$2:$BO$78,3,FALSE))","v":""}]
[null,{"$f":"IF($D26=\"\",\"\",VLOOKUP($D26,Lists!$BM$2:$BO$78,2,FALSE))","v":""},{"$f":"IF($D26=\"\",\"\",VLOOKUP($D26,Lists!$BM$2:$BO$78,3,FALSE))","v":""}]
[null,{"$f":"IF($D27=\"\",\"\",VLOOKUP($D27,Lists!$BM$2:$BO$78,2,FALSE))","v":""},{"$f":"IF($D27=\"\",\"\",VLOOKUP($D27,Lists!$BM$2:$BO$78,3,FALSE))","v":""}]
[null,{"$f":"IF($D28=\"\",\"\",VLOOKUP($D28,Lists!$BM$2:$BO$78,2,FALSE))","v":""},{"$f":"IF($D28=\"\",\"\",VLOOKUP($D28,Lists!$BM$2:$BO$78,3,FALSE))","v":""}]
[null,{"$f":"IF($D29=\"\",\"\",VLOOKUP($D29,Lists!$BM$2:$BO$78,2,FALSE))","v":""},{"$f":"IF($D29=\"\",\"\",VLOOKUP($D29,Lists!$BM$2:$BO$78,3,FALSE))","v":""}]
[null,{"$f":"IF($D30=\"\",\"\",VLOOKUP($D30,Lists!$BM$2:$BO$78,2,FALSE))","v":""},{"$f":"IF($D30=\"\",\"\",VLOOKUP($D30,Lists!$BM$2:$BO$78,3,FALSE))","v":""}]
[null,{"$f":"IF($D31=\"\",\"\",VLOOKUP($D31,Lists!$BM$2:$BO$78,2,FALSE))","v":""},{"$f":"IF($D31=\"\",\"\",VLOOKUP($D31,Lists!$BM$2:$BO$78,3,FALSE))","v":""}]
[null,{"$f":"IF($D32=\"\",\"\",VLOOKUP($D32,Lists!$BM$2:$BO$78,2,FALSE))","v":""},{"$f":"IF($D32=\"\",\"\",VLOOKUP($D32,Lists!$BM$2:$BO$78,3,FALSE))","v":""}]
[null,{"$f":"IF($D33=\"\",\"\",VLOOKUP($D33,Lists!$BM$2:$BO$78,2,FALSE))","v":""},{"$f":"IF($D33=\"\",\"\",VLOOKUP($D33,Lists!$BM$2:$BO$78,3,FALSE))","v":""}]
[null,{"$f":"IF($D34=\"\",\"\",VLOOKUP($D34,Lists!$BM$2:$BO$78,2,FALSE))","v":""},{"$f":"IF($D34=\"\",\"\",VLOOKUP($D34,Lists!$BM$2:$BO$78,3,FALSE))","v":""}]
[null,{"$f":"IF($D35=\"\",\"\",VLOOKUP($D35,Lists!$BM$2:$BO$78,2,FALSE))","v":""},{"$f":"IF($D35=\"\",\"\",VLOOKUP($D35,Lists!$BM$2:$BO$78,3,FALSE))","v":""}]
[null,{"$f":"IF($D36=\"\",\"\",VLOOKUP($D36,Lists!$BM$2:$BO$78,2,FALSE))","v":""},{"$f":"IF($D36=\"\",\"\",VLOOKUP($D36,Lists!$BM$2:$BO$78,3,FALSE))","v":""}]
[null,{"$f":"IF($D37=\"\",\"\",VLOOKUP($D37,Lists!$BM$2:$BO$78,2,FALSE))","v":""},{"$f":"IF($D37=\"\",\"\",VLOOKUP($D37,Lists!$BM$2:$BO$78,3,FALSE))","v":""}]
[null,{"$f":"IF($D38=\"\",\"\",VLOOKUP($D38,Lists!$BM$2:$BO$78,2,FALSE))","v":""},{"$f":"IF($D38=\"\",\"\",VLOOKUP($D38,Lists!$BM$2:$BO$78,3,FALSE))","v":""}]
[null,{"$f":"IF($D39=\"\",\"\",VLOOKUP($D39,Lists!$BM$2:$BO$78,2,FALSE))","v":""},{"$f":"IF($D39=\"\",\"\",VLOOKUP($D39,Lists!$BM$2:$BO$78,3,FALSE))","v":""}]
[null,{"$f":"IF($D40=\"\",\"\",VLOOKUP($D40,Lists!$BM$2:$BO$78,2,FALSE))","v":""},{"$f":"IF($D40=\"\",\"\",VLOOKUP($D40,Lists!$BM$2:$BO$78,3,FALSE))","v":""}]
[null,{"$f":"IF($D41=\"\",\"\",VLOOKUP($D41,Lists!$BM$2:$BO$78,2,FALSE))","v":""},{"$f":"IF($D41=\"\",\"\",VLOOKUP($D41,Lists!$BM$2:$BO$78,3,FALSE))","v":""}]
[null,{"$f":"IF($D42=\"\",\"\",VLOOKUP($D42,Lists!$BM$2:$BO$78,2,FALSE))","v":""},{"$f":"IF($D42=\"\",\"\",VLOOKUP($D42,Lists!$BM$2:$BO$78,3,FALSE))","v":""}]
[null,{"$f":"IF($D43=\"\",\"\",VLOOKUP($D43,Lists!$BM$2:$BO$78,2,FALSE))","v":""},{"$f":"IF($D43=\"\",\"\",VLOOKUP($D43,Lists!$BM$2:$BO$78,3,FALSE))","v":""}]
[null,{"$f":"IF($D44=\"\",\"\",VLOOKUP($D44,Lists!$BM$2:$BO$78,2,FALSE))","v":""},{"$f":"IF($D44=\"\",\"\",VLOOKUP($D44,Lists!$BM$2:$BO$78,3,FALSE))","v":""}]
[null,{"$f":"IF($D45=\"\",\"\",VLOOKUP($D45,Lists!$BM$2:$BO$78,2,FALSE))","v":""},{"$f":"IF($D45=\"\",\"\",VLOOKUP($D45,Lists!$BM$2:$BO$78,3,FALSE))","v":""}]
[null,{"$f":"IF($D46=\"\",\"\",VLOOKUP($D46,Lists!$BM$2:$BO$78,2,FALSE))","v":""},{"$f":"IF($D46=\"\",\"\",VLOOKUP($D46,Lists!$BM$2:$BO$78,3,FALSE))","v":""}]
[null,{"$f":"IF($D47=\"\",\"\",VLOOKUP($D47,Lists!$BM$2:$BO$78,2,FALSE))","v":""},{"$f":"IF($D47=\"\",\"\",VLOOKUP($D47,Lists!$BM$2:$BO$78,3,FALSE))","v":""}]
[null,{"$f":"IF($D48=\"\",\"\",VLOOKUP($D48,Lists!$BM$2:$BO$78,2,FALSE))","v":""},{"$f":"IF($D48=\"\",\"\",VLOOKUP($D48,Lists!$BM$2:$BO$78,3,FALSE))","v":""}]
[null,{"$f":"IF($D49=\"\",\"\",VLOOKUP($D49,Lists!$BM$2:$BO$78,2,FALSE))","v":""},{"$f":"IF($D49=\"\",\"\",VLOOKUP($D49,Lists!$BM$2:$BO$78,3,FALSE))","v":""}]
[null,{"$f":"IF($D50=\"\",\"\",VLOOKUP($D50,Lists!$BM$2:$BO$78,2,FALSE))","v":""},{"$f":"IF($D50=\"\",\"\",VLOOKUP($D50,Lists!$BM$2:$BO$78,3,FALSE))","v":""}]
[null,{"$f":"IF($D51=\"\",\"\",VLOOKUP($D51,Lists!$BM$2:$BO$78,2,FALSE))","v":""},{"$f":"IF($D51=\"\",\"\",VLOOKUP($D51,Lists!$BM$2:$BO$78,3,FALSE))","v":""}]
[null,{"$f":"IF($D52=\"\",\"\",VLOOKUP($D52,Lists!$BM$2:$BO$78,2,FALSE))","v":""},{"$f":"IF($D52=\"\",\"\",VLOOKUP($D52,Lists!$BM$2:$BO$78,3,FALSE))","v":""}]
[null,{"$f":"IF($D53=\"\",\"\",VLOOKUP($D53,Lists!$BM$2:$BO$78,2,FALSE))","v":""},{"$f":"IF($D53=\"\",\"\",VLOOKUP($D53,Lists!$BM$2:$BO$78,3,FALSE))","v":""}]
[null,{"$f":"IF($D54=\"\",\"\",VLOOKUP($D54,Lists!$BM$2:$BO$78,2,FALSE))","v":""},{"$f":"IF($D54=\"\",\"\",VLOOKUP($D54,Lists!$BM$2:$BO$78,3,FALSE))","v":""}]
[null,{"$f":"IF($D55=\"\",\"\",VLOOKUP($D55,Lists!$BM$2:$BO$78,2,FALSE))","v":""},{"$f":"IF($D55=\"\",\"\",VLOOKUP($D55,Lists!$BM$2:$BO$78,3,FALSE))","v":""}]
[null,{"$f":"IF($D56=\"\",\"\",VLOOKUP($D56,Lists!$BM$2:$BO$78,2,FALSE))","v":""},{"$f":"IF($D56=\"\",\"\",VLOOKUP($D56,Lists!$BM$2:$BO$78,3,FALSE))","v":""}]
[null,{"$f":"IF($D57=\"\",\"\",VLOOKUP($D57,Lists!$BM$2:$BO$78,2,FALSE))","v":""},{"$f":"IF($D57=\"\",\"\",VLOOKUP($D57,Lists!$BM$2:$BO$78,3,FALSE))","v":""}]
[null,{"$f":"IF($D58=\"\",\"\",VLOOKUP($D58,Lists!$BM$2:$BO$78,2,FALSE))","v":""},{"$f":"IF($D58=\"\",\"\",VLOOKUP($D58,Lists!$BM$2:$BO$78,3,FALSE))","v":""}]
[null,{"$f":"IF($D59=\"\",\"\",VLOOKUP($D59,Lists!$BM$2:$BO$78,2,FALSE))","v":""},{"$f":"IF($D59=\"\",\"\",VLOOKUP($D59,Lists!$BM$2:$BO$78,3,FALSE))","v":""}]
[null,{"$f":"IF($D60=\"\",\"\",VLOOKUP($D60,Lists!$BM$2:$BO$78,2,FALSE))","v":""},{"$f":"IF($D60=\"\",\"\",VLOOKUP($D60,Lists!$BM$2:$BO$78,3,FALSE))","v":""}]
[null,{"$f":"IF($D61=\"\",\"\",VLOOKUP($D61,Lists!$BM$2:$BO$78,2,FALSE))","v":""},{"$f":"IF($D61=\"\",\"\",VLOOKUP($D61,Lists!$BM$2:$BO$78,3,FALSE))","v":""}]
[null,{"$f":"IF($D62=\"\",\"\",VLOOKUP($D62,Lists!$BM$2:$BO$78,2,FALSE))","v":""},{"$f":"IF($D62=\"\",\"\",VLOOKUP($D62,Lists!$BM$2:$BO$78,3,FALSE))","v":""}]
[null,{"$f":"IF($D63=\"\",\"\",VLOOKUP($D63,Lists!$BM$2:$BO$78,2,FALSE))","v":""},{"$f":"IF($D63=\"\",\"\",VLOOKUP($D63,Lists!$BM$2:$BO$78,3,FALSE))","v":""}]
[null,{"$f":"IF($D64=\"\",\"\",VLOOKUP($D64,Lists!$BM$2:$BO$78,2,FALSE))","v":""},{"$f":"IF($D64=\"\",\"\",VLOOKUP($D64,Lists!$BM$2:$BO$78,3,FALSE))","v":""}]
[null,{"$f":"IF($D65=\"\",\"\",VLOOKUP($D65,Lists!$BM$2:$BO$78,2,FALSE))","v":""},{"$f":"IF($D65=\"\",\"\",VLOOKUP($D65,Lists!$BM$2:$BO$78,3,FALSE))","v":""}]
[null,{"$f":"IF($D66=\"\",\"\",VLOOKUP($D66,Lists!$BM$2:$BO$78,2,FALSE))","v":""},{"$f":"IF($D66=\"\",\"\",VLOOKUP($D66,Lists!$BM$2:$BO$78,3,FALSE))","v":""}]
[null,{"$f":"IF($D67=\"\",\"\",VLOOKUP($D67,Lists!$BM$2:$BO$78,2,FALSE))","v":""},{"$f":"IF($D67=\"\",\"\",VLOOKUP($D67,Lists!$BM$2:$BO$78,3,FALSE))","v":""}]
[null,{"$f":"IF($D68=\"\",\"\",VLOOKUP($D68,Lists!$BM$2:$BO$78,2,FALSE))","v":""},{"$f":"IF($D68=\"\",\"\",VLOOKUP($D68,Lists!$BM$2:$BO$78,3,FALSE))","v":""}]
[null,{"$f":"IF($D69=\"\",\"\",VLOOKUP($D69,Lists!$BM$2:$BO$78,2,FALSE))","v":""},{"$f":"IF($D69=\"\",\"\",VLOOKUP($D69,Lists!$BM$2:$BO$78,3,FALSE))","v":""}]
[null,{"$f":"IF($D70=\"\",\"\",VLOOKUP($D70,Lists!$BM$2:$BO$78,2,FALSE))","v":""},{"$f":"IF($D70=\"\",\"\",VLOOKUP($D70,Lists!$BM$2:$BO$78,3,FALSE))","v":""}]
[null,{"$f":"IF($D71=\"\",\"\",VLOOKUP($D71,Lists!$BM$2:$BO$78,2,FALSE))","v":""},{"$f":"IF($D71=\"\",\"\",VLOOKUP($D71,Lists!$BM$2:$BO$78,3,FALSE))","v":""}]
[null,{"$f":"IF($D72=\"\",\"\",VLOOKUP($D72,Lists!$BM$2:$BO$78,2,FALSE))","v":""},{"$f":"IF($D72=\"\",\"\",VLOOKUP($D72,Lists!$BM$2:$BO$78,3,FALSE))","v":""}]
[null,{"$f":"IF($D73=\"\",\"\",VLOOKUP($D73,Lists!$BM$2:$BO$78,2,FALSE))","v":""},{"$f":"IF($D73=\"\",\"\",VLOOKUP($D73,Lists!$BM$2:$BO$78,3,FALSE))","v":""}]
[null,{"$f":"IF($D74=\"\",\"\",VLOOKUP($D74,Lists!$BM$2:$BO$78,2,FALSE))","v":""},{"$f":"IF($D74=\"\",\"\",VLOOKUP($D74,Lists!$BM$2:$BO$78,3,FALSE))","v":""}]
[null,{"$f":"IF($D75=\"\",\"\",VLOOKUP($D75,Lists!$BM$2:$BO$78,2,FALSE))","v":""},{"$f":"IF($D75=\"\",\"\",VLOOKUP($D75,Lists!$BM$2:$BO$78,3,FALSE))","v":""}]
[null,{"$f":"IF($D76=\"\",\"\",VLOOKUP($D76,Lists!$BM$2:$BO$78,2,FALSE))","v":""},{"$f":"IF($D76=\"\",\"\",VLOOKUP($D76,Lists!$BM$2:$BO$78,3,FALSE))","v":""}]
[null,{"$f":"IF($D77=\"\",\"\",VLOOKUP($D77,Lists!$BM$2:$BO$78,2,FALSE))","v":""},{"$f":"IF($D77=\"\",\"\",VLOOKUP($D77,Lists!$BM$2:$BO$78,3,FALSE))","v":""}]
[null,{"$f":"IF($D78=\"\",\"\",VLOOKUP($D78,Lists!$BM$2:$BO$78,2,FALSE))","v":""},{"$f":"IF($D78=\"\",\"\",VLOOKUP($D78,Lists!$BM$2:$BO$78,3,FALSE))","v":""}]
[null,{"$f":"IF($D79=\"\",\"\",VLOOKUP($D79,Lists!$BM$2:$BO$78,2,FALSE))","v":""},{"$f":"IF($D79=\"\",\"\",VLOOKUP($D79,Lists!$BM$2:$BO$78,3,FALSE))","v":""}]
[null,{"$f":"IF($D80=\"\",\"\",VLOOKUP($D80,Lists!$BM$2:$BO$78,2,FALSE))","v":""},{"$f":"IF($D80=\"\",\"\",VLOOKUP($D80,Lists!$BM$2:$BO$78,3,FALSE))","v":""}]
[null,{"$f":"IF($D81=\"\",\"\",VLOOKUP($D81,Lists!$BM$2:$BO$78,2,FALSE))","v":""},{"$f":"IF($D81=\"\",\"\",VLOOKUP($D81,Lists!$BM$2:$BO$78,3,FALSE))","v":""}]
[null,{"$f":"IF($D82=\"\",\"\",VLOOKUP($D82,Lists!$BM$2:$BO$78,2,FALSE))","v":""},{"$f":"IF($D82=\"\",\"\",VLOOKUP($D82,Lists!$BM$2:$BO$78,3,FALSE))","v":""}]
[null,{"$f":"IF($D83=\"\",\"\",VLOOKUP($D83,Lists!$BM$2:$BO$78,2,FALSE))","v":""},{"$f":"IF($D83=\"\",\"\",VLOOKUP($D83,Lists!$BM$2:$BO$78,3,FALSE))","v":""}]
[null,{"$f":"IF($D84=\"\",\"\",VLOOKUP($D84,Lists!$BM$2:$BO$78,2,FALSE))","v":""},{"$f":"IF($D84=\"\",\"\",VLOOKUP($D84,Lists!$BM$2:$BO$78,3,FALSE))","v":""}]
[null,{"$f":"IF($D85=\"\",\"\",VLOOKUP($D85,Lists!$BM$2:$BO$78,2,FALSE))","v":""},{"$f":"IF($D85=\"\",\"\",VLOOKUP($D85,Lists!$BM$2:$BO$78,3,FALSE))","v":""}]
[null,{"$f":"IF($D86=\"\",\"\",VLOOKUP($D86,Lists!$BM$2:$BO$78,2,FALSE))","v":""},{"$f":"IF($D86=\"\",\"\",VLOOKUP($D86,Lists!$BM$2:$BO$78,3,FALSE))","v":""}]
[null,{"$f":"IF($D87=\"\",\"\",VLOOKUP($D87,Lists!$BM$2:$BO$78,2,FALSE))","v":""},{"$f":"IF($D87=\"\",\"\",VLOOKUP($D87,Lists!$BM$2:$BO$78,3,FALSE))","v":""}]
[null,{"$f":"IF($D88=\"\",\"\",VLOOKUP($D88,Lists!$BM$2:$BO$78,2,FALSE))","v":""},{"$f":"IF($D88=\"\",\"\",VLOOKUP($D88,Lists!$BM$2:$BO$78,3,FALSE))","v":""}]
[null,{"$f":"IF($D89=\"\",\"\",VLOOKUP($D89,Lists!$BM$2:$BO$78,2,FALSE))","v":""},{"$f":"IF($D89=\"\",\"\",VLOOKUP($D89,Lists!$BM$2:$BO$78,3,FALSE))","v":""}]
[null,{"$f":"IF($D90=\"\",\"\",VLOOKUP($D90,Lists!$BM$2:$BO$78,2,FALSE))","v":""},{"$f":"IF($D90=\"\",\"\",VLOOKUP($D90,Lists!$BM$2:$BO$78,3,FALSE))","v":""}]
[null,{"$f":"IF($D91=\"\",\"\",VLOOKUP($D91,Lists!$BM$2:$BO$78,2,FALSE))","v":""},{"$f":"IF($D91=\"\",\"\",VLOOKUP($D91,Lists!$BM$2:$BO$78,3,FALSE))","v":""}]
[null,{"$f":"IF($D92=\"\",\"\",VLOOKUP($D92,Lists!$BM$2:$BO$78,2,FALSE))","v":""},{"$f":"IF($D92=\"\",\"\",VLOOKUP($D92,Lists!$BM$2:$BO$78,3,FALSE))","v":""}]
[null,{"$f":"IF($D93=\"\",\"\",VLOOKUP($D93,Lists!$BM$2:$BO$78,2,FALSE))","v":""},{"$f":"IF($D93=\"\",\"\",VLOOKUP($D93,Lists!$BM$2:$BO$78,3,FALSE))","v":""}]
[null,{"$f":"IF($D94=\"\",\"\",VLOOKUP($D94,Lists!$BM$2:$BO$78,2,FALSE))","v":""},{"$f":"IF($D94=\"\",\"\",VLOOKUP($D94,Lists!$BM$2:$BO$78,3,FALSE))","v":""}]
[null,{"$f":"IF($D95=\"\",\"\",VLOOKUP($D95,Lists!$BM$2:$BO$78,2,FALSE))","v":""},{"$f":"IF($D95=\"\",\"\",VLOOKUP($D95,Lists!$BM$2:$BO$78,3,FALSE))","v":""}]
[null,{"$f":"IF($D96=\"\",\"\",VLOOKUP($D96,Lists!$BM$2:$BO$78,2,FALSE))","v":""},{"$f":"IF($D96=\"\",\"\",VLOOKUP($D96,Lists!$BM$2:$BO$78,3,FALSE))","v":""}]
[null,{"$f":"IF($D97=\"\",\"\",VLOOKUP($D97,Lists!$BM$2:$BO$78,2,FALSE))","v":""},{"$f":"IF($D97=\"\",\"\",VLOOKUP($D97,Lists!$BM$2:$BO$78,3,FALSE))","v":""}]
[null,{"$f":"IF($D98=\"\",\"\",VLOOKUP($D98,Lists!$BM$2:$BO$78,2,FALSE))","v":""},{"$f":"IF($D98=\"\",\"\",VLOOKUP($D98,Lists!$BM$2:$BO$78,3,FALSE))","v":""}]
[null,{"$f":"IF($D99=\"\",\"\",VLOOKUP($D99,Lists!$BM$2:$BO$78,2,FALSE))","v":""},{"$f":"IF($D99=\"\",\"\",VLOOKUP($D99,Lists!$BM$2:$BO$78,3,FALSE))","v":""}]
[null,{"$f":"IF($D100=\"\",\"\",VLOOKUP($D100,Lists!$BM$2:$BO$78,2,FALSE))","v":""},{"$f":"IF($D100=\"\",\"\",VLOOKUP($D100,Lists!$BM$2:$BO$78,3,FALSE))","v":""}]
[null,{"$f":"IF($D101=\"\",\"\",VLOOKUP($D101,Lists!$BM$2:$BO$78,2,FALSE))","v":""},{"$f":"IF($D101=\"\",\"\",VLOOKUP($D101,Lists!$BM$2:$BO$78,3,FALSE))","v":""}]
[null,{"$f":"IF($D102=\"\",\"\",VLOOKUP($D102,Lists!$BM$2:$BO$78,2,FALSE))","v":""},{"$f":"IF($D102=\"\",\"\",VLOOKUP($D102,Lists!$BM$2:$BO$78,3,FALSE))","v":""}]
[null,{"$f":"IF($D103=\"\",\"\",VLOOKUP($D103,Lists!$BM$2:$BO$78,2,FALSE))","v":""},{"$f":"IF($D103=\"\",\"\",VLOOKUP($D103,Lists!$BM$2:$BO$78,3,FALSE))","v":""}]
[null,{"$f":"IF($D104=\"\",\"\",VLOOKUP($D104,Lists!$BM$2:$BO$78,2,FALSE))","v":""},{"$f":"IF($D104=\"\",\"\",VLOOKUP($D104,Lists!$BM$2:$BO$78,3,FALSE))","v":""}]
[null,{"$f":"IF($D105=\"\",\"\",VLOOKUP($D105,Lists!$BM$2:$BO$78,2,FALSE))","v":""},{"$f":"IF($D105=\"\",\"\",VLOOKUP($D105,Lists!$BM$2:$BO$78,3,FALSE))","v":""}]
[null,{"$f":"IF($D106=\"\",\"\",VLOOKUP($D106,Lists!$BM$2:$BO$78,2,FALSE))","v":""},{"$f":"IF($D106=\"\",\"\",VLOOKUP($D106,Lists!$BM$2:$BO$78,3,FALSE))","v":""}]
[null,{"$f":"IF($D107=\"\",\"\",VLOOKUP($D107,Lists!$BM$2:$BO$78,2,FALSE))","v":""},{"$f":"IF($D107=\"\",\"\",VLOOKUP($D107,Lists!$BM$2:$BO$78,3,FALSE))","v":""}]
[null,{"$f":"IF($D108=\"\",\"\",VLOOKUP($D108,Lists!$BM$2:$BO$78,2,FALSE))","v":""},{"$f":"IF($D108=\"\",\"\",VLOOKUP($D108,Lists!$BM$2:$BO$78,3,FALSE))","v":""}]
[null,{"$f":"IF($D109=\"\",\"\",VLOOKUP($D109,Lists!$BM$2:$BO$78,2,FALSE))","v":""},{"$f":"IF($D109=\"\",\"\",VLOOKUP($D109,Lists!$BM$2:$BO$78,3,FALSE))","v":""}]
[null,{"$f":"IF($D110=\"\",\"\",VLOOKUP($D110,Lists!$BM$2:$BO$78,2,FALSE))","v":""},{"$f":"IF($D110=\"\",\"\",VLOOKUP($D110,Lists!$BM$2:$BO$78,3,FALSE))","v":""}]
[null,{"$f":"IF($D111=\"\",\"\",VLOOKUP($D111,Lists!$BM$2:$BO$78,2,FALSE))","v":""},{"$f":"IF($D111=\"\",\"\",VLOOKUP($D111,Lists!$BM$2:$BO$78,3,FALSE))","v":""}]
[null,{"$f":"IF($D112=\"\",\"\",VLOOKUP($D112,Lists!$BM$2:$BO$78,2,FALSE))","v":""},{"$f":"IF($D112=\"\",\"\",VLOOKUP($D112,Lists!$BM$2:$BO$78,3,FALSE))","v":""}]
[null,{"$f":"IF($D113=\"\",\"\",VLOOKUP($D113,Lists!$BM$2:$BO$78,2,FALSE))","v":""},{"$f":"IF($D113=\"\",\"\",VLOOKUP($D113,Lists!$BM$2:$BO$78,3,FALSE))","v":""}]
[null,{"$f":"IF($D114=\"\",\"\",VLOOKUP($D114,Lists!$BM$2:$BO$78,2,FALSE))","v":""},{"$f":"IF($D114=\"\",\"\",VLOOKUP($D114,Lists!$BM$2:$BO$78,3,FALSE))","v":""}]
[null,{"$f":"IF($D115=\"\",\"\",VLOOKUP($D115,Lists!$BM$2:$BO$78,2,FALSE))","v":""},{"$f":"IF($D115=\"\",\"\",VLOOKUP($D115,Lists!$BM$2:$BO$78,3,FALSE))","v":""}]
[null,{"$f":"IF($D116=\"\",\"\",VLOOKUP($D116,Lists!$BM$2:$BO$78,2,FALSE))","v":""},{"$f":"IF($D116=\"\",\"\",VLOOKUP($D116,Lists!$BM$2:$BO$78,3,FALSE))","v":""}]
[null,{"$f":"IF($D117=\"\",\"\",VLOOKUP($D117,Lists!$BM$2:$BO$78,2,FALSE))","v":""},{"$f":"IF($D117=\"\",\"\",VLOOKUP($D117,Lists!$BM$2:$BO$78,3,FALSE))","v":""}]
[null,{"$f":"IF($D118=\"\",\"\",VLOOKUP($D118,Lists!$BM$2:$BO$78,2,FALSE))","v":""},{"$f":"IF($D118=\"\",\"\",VLOOKUP($D118,Lists!$BM$2:$BO$78,3,FALSE))","v":""}]
[null,{"$f":"IF($D119=\"\",\"\",VLOOKUP($D119,Lists!$BM$2:$BO$78,2,FALSE))","v":""},{"$f":"IF($D119=\"\",\"\",VLOOKUP($D119,Lists!$BM$2:$BO$78,3,FALSE))","v":""}]
[null,{"$f":"IF($D120=\"\",\"\",VLOOKUP($D120,Lists!$BM$2:$BO$78,2,FALSE))","v":""},{"$f":"IF($D120=\"\",\"\",VLOOKUP($D120,Lists!$BM$2:$BO$78,3,FALSE))","v":""}]
[null,{"$f":"IF($D121=\"\",\"\",VLOOKUP($D121,Lists!$BM$2:$BO$78,2,FALSE))","v":""},{"$f":"IF($D121=\"\",\"\",VLOOKUP($D121,Lists!$BM$2:$BO$78,3,FALSE))","v":""}]
[null,{"$f":"IF($D122=\"\",\"\",VLOOKUP($D122,Lists!$BM$2:$BO$78,2,FALSE))","v":""},{"$f":"IF($D122=\"\",\"\",VLOOKUP($D122,Lists!$BM$2:$BO$78,3,FALSE))","v":""}]
[null,{"$f":"IF($D123=\"\",\"\",VLOOKUP($D123,Lists!$BM$2:$BO$78,2,FALSE))","v":""},{"$f":"IF($D123=\"\",\"\",VLOOKUP($D123,Lists!$BM$2:$BO$78,3,FALSE))","v":""}]
[null,{"$f":"IF($D124=\"\",\"\",VLOOKUP($D124,Lists!$BM$2:$BO$78,2,FALSE))","v":""},{"$f":"IF($D124=\"\",\"\",VLOOKUP($D124,Lists!$BM$2:$BO$78,3,FALSE))","v":""}]
[null,{"$f":"IF($D125=\"\",\"\",VLOOKUP($D125,Lists!$BM$2:$BO$78,2,FALSE))","v":""},{"$f":"IF($D125=\"\",\"\",VLOOKUP($D125,Lists!$BM$2:$BO$78,3,FALSE))","v":""}]
[null,{"$f":"IF($D126=\"\",\"\",VLOOKUP($D126,Lists!$BM$2:$BO$78,2,FALSE))","v":""},{"$f":"IF($D126=\"\",\"\",VLOOKUP($D126,Lists!$BM$2:$BO$78,3,FALSE))","v":""}]
[null,{"$f":"IF($D127=\"\",\"\",VLOOKUP($D127,Lists!$BM$2:$BO$78,2,FALSE))","v":""},{"$f":"IF($D127=\"\",\"\",VLOOKUP($D127,Lists!$BM$2:$BO$78,3,FALSE))","v":""}]
[null,{"$f":"IF($D128=\"\",\"\",VLOOKUP($D128,Lists!$BM$2:$BO$78,2,FALSE))","v":""},{"$f":"IF($D128=\"\",\"\",VLOOKUP($D128,Lists!$BM$2:$BO$78,3,FALSE))","v":""}]
[null,{"$f":"IF($D129=\"\",\"\",VLOOKUP($D129,Lists!$BM$2:$BO$78,2,FALSE))","v":""},{"$f":"IF($D129=\"\",\"\",VLOOKUP($D129,Lists!$BM$2:$BO$78,3,FALSE))","v":""}]
[null,{"$f":"IF($D130=\"\",\"\",VLOOKUP($D130,Lists!$BM$2:$BO$78,2,FALSE))","v":""},{"$f":"IF($D130=\"\",\"\",VLOOKUP($D130,Lists!$BM$2:$BO$78,3,FALSE))","v":""}]
[null,{"$f":"IF($D131=\"\",\"\",VLOOKUP($D131,Lists!$BM$2:$BO$78,2,FALSE))","v":""},{"$f":"IF($D131=\"\",\"\",VLOOKUP($D131,Lists!$BM$2:$BO$78,3,FALSE))","v":""}]
[null,{"$f":"IF($D132=\"\",\"\",VLOOKUP($D132,Lists!$BM$2:$BO$78,2,FALSE))","v":""},{"$f":"IF($D132=\"\",\"\",VLOOKUP($D132,Lists!$BM$2:$BO$78,3,FALSE))","v":""}]
[null,{"$f":"IF($D133=\"\",\"\",VLOOKUP($D133,Lists!$BM$2:$BO$78,2,FALSE))","v":""},{"$f":"IF($D133=\"\",\"\",VLOOKUP($D133,Lists!$BM$2:$BO$78,3,FALSE))","v":""}]
[null,{"$f":"IF($D134=\"\",\"\",VLOOKUP($D134,Lists!$BM$2:$BO$78,2,FALSE))","v":""},{"$f":"IF($D134=\"\",\"\",VLOOKUP($D134,Lists!$BM$2:$BO$78,3,FALSE))","v":""}]
[null,{"$f":"IF($D135=\"\",\"\",VLOOKUP($D135,Lists!$BM$2:$BO$78,2,FALSE))","v":""},{"$f":"IF($D135=\"\",\"\",VLOOKUP($D135,Lists!$BM$2:$BO$78,3,FALSE))","v":""}]
[null,{"$f":"IF($D136=\"\",\"\",VLOOKUP($D136,Lists!$BM$2:$BO$78,2,FALSE))","v":""},{"$f":"IF($D136=\"\",\"\",VLOOKUP($D136,Lists!$BM$2:$BO$78,3,FALSE))","v":""}]
[null,{"$f":"IF($D137=\"\",\"\",VLOOKUP($D137,Lists!$BM$2:$BO$78,2,FALSE))","v":""},{"$f":"IF($D137=\"\",\"\",VLOOKUP($D137,Lists!$BM$2:$BO$78,3,FALSE))","v":""}]
[null,{"$f":"IF($D138=\"\",\"\",VLOOKUP($D138,Lists!$BM$2:$BO$78,2,FALSE))","v":""},{"$f":"IF($D138=\"\",\"\",VLOOKUP($D138,Lists!$BM$2:$BO$78,3,FALSE))","v":""}]
[null,{"$f":"IF($D139=\"\",\"\",VLOOKUP($D139,Lists!$BM$2:$BO$78,2,FALSE))","v":""},{"$f":"IF($D139=\"\",\"\",VLOOKUP($D139,Lists!$BM$2:$BO$78,3,FALSE))","v":""}]
[null,{"$f":"IF($D140=\"\",\"\",VLOOKUP($D140,Lists!$BM$2:$BO$78,2,FALSE))","v":""},{"$f":"IF($D140=\"\",\"\",VLOOKUP($D140,Lists!$BM$2:$BO$78,3,FALSE))","v":""}]
[null,{"$f":"IF($D141=\"\",\"\",VLOOKUP($D141,Lists!$BM$2:$BO$78,2,FALSE))","v":""},{"$f":"IF($D141=\"\",\"\",VLOOKUP($D141,Lists!$BM$2:$BO$78,3,FALSE))","v":""}]
[null,{"$f":"IF($D142=\"\",\"\",VLOOKUP($D142,Lists!$BM$2:$BO$78,2,FALSE))","v":""},{"$f":"IF($D142=\"\",\"\",VLOOKUP($D142,Lists!$BM$2:$BO$78,3,FALSE))","v":""}]
[null,{"$f":"IF($D143=\"\",\"\",VLOOKUP($D143,Lists!$BM$2:$BO$78,2,FALSE))","v":""},{"$f":"IF($D143=\"\",\"\",VLOOKUP($D143,Lists!$BM$2:$BO$78,3,FALSE))","v":""}]
[null,{"$f":"IF($D144=\"\",\"\",VLOOKUP($D144,Lists!$BM$2:$BO$78,2,FALSE))","v":""},{"$f":"IF($D144=\"\",\"\",VLOOKUP($D144,Lists!$BM$2:$BO$78,3,FALSE))","v":""}]
[null,{"$f":"IF($D145=\"\",\"\",VLOOKUP($D145,Lists!$BM$2:$BO$78,2,FALSE))","v":""},{"$f":"IF($D145=\"\",\"\",VLOOKUP($D145,Lists!$BM$2:$BO$78,3,FALSE))","v":""}]
[null,{"$f":"IF($D146=\"\",\"\",VLOOKUP($D146,Lists!$BM$2:$BO$78,2,FALSE))","v":""},{"$f":"IF($D146=\"\",\"\",VLOOKUP($D146,Lists!$BM$2:$BO$78,3,FALSE))","v":""}]
[null,{"$f":"IF($D147=\"\",\"\",VLOOKUP($D147,Lists!$BM$2:$BO$78,2,FALSE))","v":""},{"$f":"IF($D147=\"\",\"\",VLOOKUP($D147,Lists!$BM$2:$BO$78,3,FALSE))","v":""}]
[null,{"$f":"IF($D148=\"\",\"\",VLOOKUP($D148,Lists!$BM$2:$BO$78,2,FALSE))","v":""},{"$f":"IF($D148=\"\",\"\",VLOOKUP($D148,Lists!$BM$2:$BO$78,3,FALSE))","v":""}]
[null,{"$f":"IF($D149=\"\",\"\",VLOOKUP($D149,Lists!$BM$2:$BO$78,2,FALSE))","v":""},{"$f":"IF($D149=\"\",\"\",VLOOKUP($D149,Lists!$BM$2:$BO$78,3,FALSE))","v":""}]
[null,{"$f":"IF($D150=\"\",\"\",VLOOKUP($D150,Lists!$BM$2:$BO$78,2,FALSE))","v":""},{"$f":"IF($D150=\"\",\"\",VLOOKUP($D150,Lists!$BM$2:$BO$78,3,FALSE))","v":""}]
[null,{"$f":"IF($D151=\"\",\"\",VLOOKUP($D151,Lists!$BM$2:$BO$78,2,FALSE))","v":""},{"$f":"IF($D151=\"\",\"\",VLOOKUP($D151,Lists!$BM$2:$BO$78,3,FALSE))","v":""}]
[null,{"$f":"IF($D152=\"\",\"\",VLOOKUP($D152,Lists!$BM$2:$BO$78,2,FALSE))","v":""},{"$f":"IF($D152=\"\",\"\",VLOOKUP($D152,Lists!$BM$2:$BO$78,3,FALSE))","v":""}]
[null,{"$f":"IF($D153=\"\",\"\",VLOOKUP($D153,Lists!$BM$2:$BO$78,2,FALSE))","v":""},{"$f":"IF($D153=\"\",\"\",VLOOKUP($D153,Lists!$BM$2:$BO$78,3,FALSE))","v":""}]
[null,{"$f":"IF($D154=\"\",\"\",VLOOKUP($D154,Lists!$BM$2:$BO$78,2,FALSE))","v":""},{"$f":"IF($D154=\"\",\"\",VLOOKUP($D154,Lists!$BM$2:$BO$78,3,FALSE))","v":""}]
[null,{"$f":"IF($D155=\"\",\"\",VLOOKUP($D155,Lists!$BM$2:$BO$78,2,FALSE))","v":""},{"$f":"IF($D155=\"\",\"\",VLOOKUP($D155,Lists!$BM$2:$BO$78,3,FALSE))","v":""}]
[null,{"$f":"IF($D156=\"\",\"\",VLOOKUP($D156,Lists!$BM$2:$BO$78,2,FALSE))","v":""},{"$f":"IF($D156=\"\",\"\",VLOOKUP($D156,Lists!$BM$2:$BO$78,3,FALSE))","v":""}]
[null,{"$f":"IF($D157=\"\",\"\",VLOOKUP($D157,Lists!$BM$2:$BO$78,2,FALSE))","v":""},{"$f":"IF($D157=\"\",\"\",VLOOKUP($D157,Lists!$BM$2:$BO$78,3,FALSE))","v":""}]
[null,{"$f":"IF($D158=\"\",\"\",VLOOKUP($D158,Lists!$BM$2:$BO$78,2,FALSE))","v":""},{"$f":"IF($D158=\"\",\"\",VLOOKUP($D158,Lists!$BM$2:$BO$78,3,FALSE))","v":""}]
[null,{"$f":"IF($D159=\"\",\"\",VLOOKUP($D159,Lists!$BM$2:$BO$78,2,FALSE))","v":""},{"$f":"IF($D159=\"\",\"\",VLOOKUP($D159,Lists!$BM$2:$BO$78,3,FALSE))","v":""}]
[null,{"$f":"IF($D160=\"\",\"\",VLOOKUP($D160,Lists!$BM$2:$BO$78,2,FALSE))","v":""},{"$f":"IF($D160=\"\",\"\",VLOOKUP($D160,Lists!$BM$2:$BO$78,3,FALSE))","v":""}]
[null,{"$f":"IF($D161=\"\",\"\",VLOOKUP($D161,Lists!$BM$2:$BO$78,2,FALSE))","v":""},{"$f":"IF($D161=\"\",\"\",VLOOKUP($D161,Lists!$BM$2:$BO$78,3,FALSE))","v":""}]
[null,{"$f":"IF($D162=\"\",\"\",VLOOKUP($D162,Lists!$BM$2:$BO$78,2,FALSE))","v":""},{"$f":"IF($D162=\"\",\"\",VLOOKUP($D162,Lists!$BM$2:$BO$78,3,FALSE))","v":""}]
[null,{"$f":"IF($D163=\"\",\"\",VLOOKUP($D163,Lists!$BM$2:$BO$78,2,FALSE))","v":""},{"$f":"IF($D163=\"\",\"\",VLOOKUP($D163,Lists!$BM$2:$BO$78,3,FALSE))","v":""}]
[null,{"$f":"IF($D164=\"\",\"\",VLOOKUP($D164,Lists!$BM$2:$BO$78,2,FALSE))","v":""},{"$f":"IF($D164=\"\",\"\",VLOOKUP($D164,Lists!$BM$2:$BO$78,3,FALSE))","v":""}]
[null,{"$f":"IF($D165=\"\",\"\",VLOOKUP($D165,Lists!$BM$2:$BO$78,2,FALSE))","v":""},{"$f":"IF($D165=\"\",\"\",VLOOKUP($D165,Lists!$BM$2:$BO$78,3,FALSE))","v":""}]
[null,{"$f":"IF($D166=\"\",\"\",VLOOKUP($D166,Lists!$BM$2:$BO$78,2,FALSE))","v":""},{"$f":"IF($D166=\"\",\"\",VLOOKUP($D166,Lists!$BM$2:$BO$78,3,FALSE))","v":""}]
[null,{"$f":"IF($D167=\"\",\"\",VLOOKUP($D167,Lists!$BM$2:$BO$78,2,FALSE))","v":""},{"$f":"IF($D167=\"\",\"\",VLOOKUP($D167,Lists!$BM$2:$BO$78,3,FALSE))","v":""}]
[null,{"$f":"IF($D168=\"\",\"\",VLOOKUP($D168,Lists!$BM$2:$BO$78,2,FALSE))","v":""},{"$f":"IF($D168=\"\",\"\",VLOOKUP($D168,Lists!$BM$2:$BO$78,3,FALSE))","v":""}]
[null,{"$f":"IF($D169=\"\",\"\",VLOOKUP($D169,Lists!$BM$2:$BO$78,2,FALSE))","v":""},{"$f":"IF($D169=\"\",\"\",VLOOKUP($D169,Lists!$BM$2:$BO$78,3,FALSE))","v":""}]
[null,{"$f":"IF($D170=\"\",\"\",VLOOKUP($D170,Lists!$BM$2:$BO$78,2,FALSE))","v":""},{"$f":"IF($D170=\"\",\"\",VLOOKUP($D170,Lists!$BM$2:$BO$78,3,FALSE))","v":""}]
[null,{"$f":"IF($D171=\"\",\"\",VLOOKUP($D171,Lists!$BM$2:$BO$78,2,FALSE))","v":""},{"$f":"IF($D171=\"\",\"\",VLOOKUP($D171,Lists!$BM$2:$BO$78,3,FALSE))","v":""}]
[null,{"$f":"IF($D172=\"\",\"\",VLOOKUP($D172,Lists!$BM$2:$BO$78,2,FALSE))","v":""},{"$f":"IF($D172=\"\",\"\",VLOOKUP($D172,Lists!$BM$2:$BO$78,3,FALSE))","v":""}]
[null,{"$f":"IF($D173=\"\",\"\",VLOOKUP($D173,Lists!$BM$2:$BO$78,2,FALSE))","v":""},{"$f":"IF($D173=\"\",\"\",VLOOKUP($D173,Lists!$BM$2:$BO$78,3,FALSE))","v":""}]
[null,{"$f":"IF($D174=\"\",\"\",VLOOKUP($D174,Lists!$BM$2:$BO$78,2,FALSE))","v":""},{"$f":"IF($D174=\"\",\"\",VLOOKUP($D174,Lists!$BM$2:$BO$78,3,FALSE))","v":""}]
[null,{"$f":"IF($D175=\"\",\"\",VLOOKUP($D175,Lists!$BM$2:$BO$78,2,FALSE))","v":""},{"$f":"IF($D175=\"\",\"\",VLOOKUP($D175,Lists!$BM$2:$BO$78,3,FALSE))","v":""}]
[null,{"$f":"IF($D176=\"\",\"\",VLOOKUP($D176,Lists!$BM$2:$BO$78,2,FALSE))","v":""},{"$f":"IF($D176=\"\",\"\",VLOOKUP($D176,Lists!$BM$2:$BO$78,3,FALSE))","v":""}]
[null,{"$f":"IF($D177=\"\",\"\",VLOOKUP($D177,Lists!$BM$2:$BO$78,2,FALSE))","v":""},{"$f":"IF($D177=\"\",\"\",VLOOKUP($D177,Lists!$BM$2:$BO$78,3,FALSE))","v":""}]
[null,{"$f":"IF($D178=\"\",\"\",VLOOKUP($D178,Lists!$BM$2:$BO$78,2,FALSE))","v":""},{"$f":"IF($D178=\"\",\"\",VLOOKUP($D178,Lists!$BM$2:$BO$78,3,FALSE))","v":""}]
[null,{"$f":"IF($D179=\"\",\"\",VLOOKUP($D179,Lists!$BM$2:$BO$78,2,FALSE))","v":""},{"$f":"IF($D179=\"\",\"\",VLOOKUP($D179,Lists!$BM$2:$BO$78,3,FALSE))","v":""}]
[null,{"$f":"IF($D180=\"\",\"\",VLOOKUP($D180,Lists!$BM$2:$BO$78,2,FALSE))","v":""},{"$f":"IF($D180=\"\",\"\",VLOOKUP($D180,Lists!$BM$2:$BO$78,3,FALSE))","v":""}]
[null,{"$f":"IF($D181=\"\",\"\",VLOOKUP($D181,Lists!$BM$2:$BO$78,2,FALSE))","v":""},{"$f":"IF($D181=\"\",\"\",VLOOKUP($D181,Lists!$BM$2:$BO$78,3,FALSE))","v":""}]
[null,{"$f":"IF($D182=\"\",\"\",VLOOKUP($D182,Lists!$BM$2:$BO$78,2,FALSE))","v":""},{"$f":"IF($D182=\"\",\"\",VLOOKUP($D182,Lists!$BM$2:$BO$78,3,FALSE))","v":""}]
[null,{"$f":"IF($D183=\"\",\"\",VLOOKUP($D183,Lists!$BM$2:$BO$78,2,FALSE))","v":""},{"$f":"IF($D183=\"\",\"\",VLOOKUP($D183,Lists!$BM$2:$BO$78,3,FALSE))","v":""}]
[null,{"$f":"IF($D184=\"\",\"\",VLOOKUP($D184,Lists!$BM$2:$BO$78,2,FALSE))","v":""},{"$f":"IF($D184=\"\",\"\",VLOOKUP($D184,Lists!$BM$2:$BO$78,3,FALSE))","v":""}]
[null,{"$f":"IF($D185=\"\",\"\",VLOOKUP($D185,Lists!$BM$2:$BO$78,2,FALSE))","v":""},{"$f":"IF($D185=\"\",\"\",VLOOKUP($D185,Lists!$BM$2:$BO$78,3,FALSE))","v":""}]
[null,{"$f":"IF($D186=\"\",\"\",VLOOKUP($D186,Lists!$BM$2:$BO$78,2,FALSE))","v":""},{"$f":"IF($D186=\"\",\"\",VLOOKUP($D186,Lists!$BM$2:$BO$78,3,FALSE))","v":""}]
[null,{"$f":"IF($D187=\"\",\"\",VLOOKUP($D187,Lists!$BM$2:$BO$78,2,FALSE))","v":""},{"$f":"IF($D187=\"\",\"\",VLOOKUP($D187,Lists!$BM$2:$BO$78,3,FALSE))","v":""}]
[null,{"$f":"IF($D188=\"\",\"\",VLOOKUP($D188,Lists!$BM$2:$BO$78,2,FALSE))","v":""},{"$f":"IF($D188=\"\",\"\",VLOOKUP($D188,Lists!$BM$2:$BO$78,3,FALSE))","v":""}]
[null,{"$f":"IF($D189=\"\",\"\",VLOOKUP($D189,Lists!$BM$2:$BO$78,2,FALSE))","v":""},{"$f":"IF($D189=\"\",\"\",VLOOKUP($D189,Lists!$BM$2:$BO$78,3,FALSE))","v":""}]
[null,{"$f":"IF($D190=\"\",\"\",VLOOKUP($D190,Lists!$BM$2:$BO$78,2,FALSE))","v":""},{"$f":"IF($D190=\"\",\"\",VLOOKUP($D190,Lists!$BM$2:$BO$78,3,FALSE))","v":""}]
[null,{"$f":"IF($D191=\"\",\"\",VLOOKUP($D191,Lists!$BM$2:$BO$78,2,FALSE))","v":""},{"$f":"IF($D191=\"\",\"\",VLOOKUP($D191,Lists!$BM$2:$BO$78,3,FALSE))","v":""}]
[null,{"$f":"IF($D192=\"\",\"\",VLOOKUP($D192,Lists!$BM$2:$BO$78,2,FALSE))","v":""},{"$f":"IF($D192=\"\",\"\",VLOOKUP($D192,Lists!$BM$2:$BO$78,3,FALSE))","v":""}]
[null,{"$f":"IF($D193=\"\",\"\",VLOOKUP($D193,Lists!$BM$2:$BO$78,2,FALSE))","v":""},{"$f":"IF($D193=\"\",\"\",VLOOKUP($D193,Lists!$BM$2:$BO$78,3,FALSE))","v":""}]
[null,{"$f":"IF($D194=\"\",\"\",VLOOKUP($D194,Lists!$BM$2:$BO$78,2,FALSE))","v":""},{"$f":"IF($D194=\"\",\"\",VLOOKUP($D194,Lists!$BM$2:$BO$78,3,FALSE))","v":""}]
[null,{"$f":"IF($D195=\"\",\"\",VLOOKUP($D195,Lists!$BM$2:$BO$78,2,FALSE))","v":""},{"$f":"IF($D195=\"\",\"\",VLOOKUP($D195,Lists!$BM$2:$BO$78,3,FALSE))","v":""}]
[null,{"$f":"IF($D196=\"\",\"\",VLOOKUP($D196,Lists!$BM$2:$BO$78,2,FALSE))","v":""},{"$f":"IF($D196=\"\",\"\",VLOOKUP($D196,Lists!$BM$2:$BO$78,3,FALSE))","v":""}]
[null,{"$f":"IF($D197=\"\",\"\",VLOOKUP($D197,Lists!$BM$2:$BO$78,2,FALSE))","v":""},{"$f":"IF($D197=\"\",\"\",VLOOKUP($D197,Lists!$BM$2:$BO$78,3,FALSE))","v":""}]
[null,{"$f":"IF($D198=\"\",\"\",VLOOKUP($D198,Lists!$BM$2:$BO$78,2,FALSE))","v":""},{"$f":"IF($D198=\"\",\"\",VLOOKUP($D198,Lists!$BM$2:$BO$78,3,FALSE))","v":""}]
[null,{"$f":"IF($D199=\"\",\"\",VLOOKUP($D199,Lists!$BM$2:$BO$78,2,FALSE))","v":""},{"$f":"IF($D199=\"\",\"\",VLOOKUP($D199,Lists!$BM$2:$BO$78,3,FALSE))","v":""}]
[null,{"$f":"IF($D200=\"\",\"\",VLOOKUP($D200,Lists!$BM$2:$BO$78,2,FALSE))","v":""},{"$f":"IF($D200=\"\",\"\",VLOOKUP($D200,Lists!$BM$2:$BO$78,3,FALSE))","v":""}]
[null,{"$f":"IF($D201=\"\",\"\",VLOOKUP($D201,Lists!$BM$2:$BO$78,2,FALSE))","v":""},{"$f":"IF($D201=\"\",\"\",VLOOKUP($D201,Lists!$BM$2:$BO$78,3,FALSE))","v":""}]
[null,{"$f":"IF($D202=\"\",\"\",VLOOKUP($D202,Lists!$BM$2:$BO$78,2,FALSE))","v":""},{"$f":"IF($D202=\"\",\"\",VLOOKUP($D202,Lists!$BM$2:$BO$78,3,FALSE))","v":""}]
[null,{"$f":"IF($D203=\"\",\"\",VLOOKUP($D203,Lists!$BM$2:$BO$78,2,FALSE))","v":""},{"$f":"IF($D203=\"\",\"\",VLOOKUP($D203,Lists!$BM$2:$BO$78,3,FALSE))","v":""}]
[null,{"$f":"IF($D204=\"\",\"\",VLOOKUP($D204,Lists!$BM$2:$BO$78,2,FALSE))","v":""},{"$f":"IF($D204=\"\",\"\",VLOOKUP($D204,Lists!$BM$2:$BO$78,3,FALSE))","v":""}]
[null,{"$f":"IF($D205=\"\",\"\",VLOOKUP($D205,Lists!$BM$2:$BO$78,2,FALSE))","v":""},{"$f":"IF($D205=\"\",\"\",VLOOKUP($D205,Lists!$BM$2:$BO$78,3,FALSE))","v":""}]
[null,{"$f":"IF($D206=\"\",\"\",VLOOKUP($D206,Lists!$BM$2:$BO$78,2,FALSE))","v":""},{"$f":"IF($D206=\"\",\"\",VLOOKUP($D206,Lists!$BM$2:$BO$78,3,FALSE))","v":""}]
[null,{"$f":"IF($D207=\"\",\"\",VLOOKUP($D207,Lists!$BM$2:$BO$78,2,FALSE))","v":""},{"$f":"IF($D207=\"\",\"\",VLOOKUP($D207,Lists!$BM$2:$BO$78,3,FALSE))","v":""}]
[null,{"$f":"IF($D208=\"\",\"\",VLOOKUP($D208,Lists!$BM$2:$BO$78,2,FALSE))","v":""},{"$f":"IF($D208=\"\",\"\",VLOOKUP($D208,Lists!$BM$2:$BO$78,3,FALSE))","v":""}]
[null,{"$f":"IF($D209=\"\",\"\",VLOOKUP($D209,Lists!$BM$2:$BO$78,2,FALSE))","v":""},{"$f":"IF($D209=\"\",\"\",VLOOKUP($D209,Lists!$BM$2:$BO$78,3,FALSE))","v":""}]
[null,{"$f":"IF($D210=\"\",\"\",VLOOKUP($D210,Lists!$BM$2:$BO$78,2,FALSE))","v":""},{"$f":"IF($D210=\"\",\"\",VLOOKUP($D210,Lists!$BM$2:$BO$78,3,FALSE))","v":""}]
[null,{"$f":"IF($D211=\"\",\"\",VLOOKUP($D211,Lists!$BM$2:$BO$78,2,FALSE))","v":""},{"$f":"IF($D211=\"\",\"\",VLOOKUP($D211,Lists!$BM$2:$BO$78,3,FALSE))","v":""}]
[null,{"$f":"IF($D212=\"\",\"\",VLOOKUP($D212,Lists!$BM$2:$BO$78,2,FALSE))","v":""},{"$f":"IF($D212=\"\",\"\",VLOOKUP($D212,Lists!$BM$2:$BO$78,3,FALSE))","v":""}]
[null,{"$f":"IF($D213=\"\",\"\",VLOOKUP($D213,Lists!$BM$2:$BO$78,2,FALSE))","v":""},{"$f":"IF($D213=\"\",\"\",VLOOKUP($D213,Lists!$BM$2:$BO$78,3,FALSE))","v":""}]
[null,{"$f":"IF($D214=\"\",\"\",VLOOKUP($D214,Lists!$BM$2:$BO$78,2,FALSE))","v":""},{"$f":"IF($D214=\"\",\"\",VLOOKUP($D214,Lists!$BM$2:$BO$78,3,FALSE))","v":""}]
[null,{"$f":"IF($D215=\"\",\"\",VLOOKUP($D215,Lists!$BM$2:$BO$78,2,FALSE))","v":""},{"$f":"IF($D215=\"\",\"\",VLOOKUP($D215,Lists!$BM$2:$BO$78,3,FALSE))","v":""}]
[null,{"$f":"IF($D216=\"\",\"\",VLOOKUP($D216,Lists!$BM$2:$BO$78,2,FALSE))","v":""},{"$f":"IF($D216=\"\",\"\",VLOOKUP($D216,Lists!$BM$2:$BO$78,3,FALSE))","v":""}]
[null,{"$f":"IF($D217=\"\",\"\",VLOOKUP($D217,Lists!$BM$2:$BO$78,2,FALSE))","v":""},{"$f":"IF($D217=\"\",\"\",VLOOKUP($D217,Lists!$BM$2:$BO$78,3,FALSE))","v":""}]
[null,{"$f":"IF($D218=\"\",\"\",VLOOKUP($D218,Lists!$BM$2:$BO$78,2,FALSE))","v":""},{"$f":"IF($D218=\"\",\"\",VLOOKUP($D218,Lists!$BM$2:$BO$78,3,FALSE))","v":""}]
[null,{"$f":"IF($D219=\"\",\"\",VLOOKUP($D219,Lists!$BM$2:$BO$78,2,FALSE))","v":""},{"$f":"IF($D219=\"\",\"\",VLOOKUP($D219,Lists!$BM$2:$BO$78,3,FALSE))","v":""}]
[null,{"$f":"IF($D220=\"\",\"\",VLOOKUP($D220,Lists!$BM$2:$BO$78,2,FALSE))","v":""},{"$f":"IF($D220=\"\",\"\",VLOOKUP($D220,Lists!$BM$2:$BO$78,3,FALSE))","v":""}]
[null,{"$f":"IF($D221=\"\",\"\",VLOOKUP($D221,Lists!$BM$2:$BO$78,2,FALSE))","v":""},{"$f":"IF($D221=\"\",\"\",VLOOKUP($D221,Lists!$BM$2:$BO$78,3,FALSE))","v":""}]
[null,{"$f":"IF($D222=\"\",\"\",VLOOKUP($D222,Lists!$BM$2:$BO$78,2,FALSE))","v":""},{"$f":"IF($D222=\"\",\"\",VLOOKUP($D222,Lists!$BM$2:$BO$78,3,FALSE))","v":""}]
[null,{"$f":"IF($D223=\"\",\"\",VLOOKUP($D223,Lists!$BM$2:$BO$78,2,FALSE))","v":""},{"$f":"IF($D223=\"\",\"\",VLOOKUP($D223,Lists!$BM$2:$BO$78,3,FALSE))","v":""}]
[null,{"$f":"IF($D224=\"\",\"\",VLOOKUP($D224,Lists!$BM$2:$BO$78,2,FALSE))","v":""},{"$f":"IF($D224=\"\",\"\",VLOOKUP($D224,Lists!$BM$2:$BO$78,3,FALSE))","v":""}]
[null,{"$f":"IF($D225=\"\",\"\",VLOOKUP($D225,Lists!$BM$2:$BO$78,2,FALSE))","v":""},{"$f":"IF($D225=\"\",\"\",VLOOKUP($D225,Lists!$BM$2:$BO$78,3,FALSE))","v":""}]
[null,{"$f":"IF($D226=\"\",\"\",VLOOKUP($D226,Lists!$BM$2:$BO$78,2,FALSE))","v":""},{"$f":"IF($D226=\"\",\"\",VLOOKUP($D226,Lists!$BM$2:$BO$78,3,FALSE))","v":""}]
[null,{"$f":"IF($D227=\"\",\"\",VLOOKUP($D227,Lists!$BM$2:$BO$78,2,FALSE))","v":""},{"$f":"IF($D227=\"\",\"\",VLOOKUP($D227,Lists!$BM$2:$BO$78,3,FALSE))","v":""}]
[null,{"$f":"IF($D228=\"\",\"\",VLOOKUP($D228,Lists!$BM$2:$BO$78,2,FALSE))","v":""},{"$f":"IF($D228=\"\",\"\",VLOOKUP($D228,Lists!$BM$2:$BO$78,3,FALSE))","v":""}]
[null,{"$f":"IF($D229=\"\",\"\",VLOOKUP($D229,Lists!$BM$2:$BO$78,2,FALSE))","v":""},{"$f":"IF($D229=\"\",\"\",VLOOKUP($D229,Lists!$BM$2:$BO$78,3,FALSE))","v":""}]
[null,{"$f":"IF($D230=\"\",\"\",VLOOKUP($D230,Lists!$BM$2:$BO$78,2,FALSE))","v":""},{"$f":"IF($D230=\"\",\"\",VLOOKUP($D230,Lists!$BM$2:$BO$78,3,FALSE))","v":""}]
[null,{"$f":"IF($D231=\"\",\"\",VLOOKUP($D231,Lists!$BM$2:$BO$78,2,FALSE))","v":""},{"$f":"IF($D231=\"\",\"\",VLOOKUP($D231,Lists!$BM$2:$BO$78,3,FALSE))","v":""}]
[null,{"$f":"IF($D232=\"\",\"\",VLOOKUP($D232,Lists!$BM$2:$BO$78,2,FALSE))","v":""},{"$f":"IF($D232=\"\",\"\",VLOOKUP($D232,Lists!$BM$2:$BO$78,3,FALSE))","v":""}]
[null,{"$f":"IF($D233=\"\",\"\",VLOOKUP($D233,Lists!$BM$2:$BO$78,2,FALSE))","v":""},{"$f":"IF($D233=\"\",\"\",VLOOKUP($D233,Lists!$BM$2:$BO$78,3,FALSE))","v":""}]
[null,{"$f":"IF($D234=\"\",\"\",VLOOKUP($D234,Lists!$BM$2:$BO$78,2,FALSE))","v":""},{"$f":"IF($D234=\"\",\"\",VLOOKUP($D234,Lists!$BM$2:$BO$78,3,FALSE))","v":""}]
[null,{"$f":"IF($D235=\"\",\"\",VLOOKUP($D235,Lists!$BM$2:$BO$78,2,FALSE))","v":""},{"$f":"IF($D235=\"\",\"\",VLOOKUP($D235,Lists!$BM$2:$BO$78,3,FALSE))","v":""}]
[null,{"$f":"IF($D236=\"\",\"\",VLOOKUP($D236,Lists!$BM$2:$BO$78,2,FALSE))","v":""},{"$f":"IF($D236=\"\",\"\",VLOOKUP($D236,Lists!$BM$2:$BO$78,3,FALSE))","v":""}]
[null,{"$f":"IF($D237=\"\",\"\",VLOOKUP($D237,Lists!$BM$2:$BO$78,2,FALSE))","v":""},{"$f":"IF($D237=\"\",\"\",VLOOKUP($D237,Lists!$BM$2:$BO$78,3,FALSE))","v":""}]
[null,{"$f":"IF($D238=\"\",\"\",VLOOKUP($D238,Lists!$BM$2:$BO$78,2,FALSE))","v":""},{"$f":"IF($D238=\"\",\"\",VLOOKUP($D238,Lists!$BM$2:$BO$78,3,FALSE))","v":""}]
[null,{"$f":"IF($D239=\"\",\"\",VLOOKUP($D239,Lists!$BM$2:$BO$78,2,FALSE))","v":""},{"$f":"IF($D239=\"\",\"\",VLOOKUP($D239,Lists!$BM$2:$BO$78,3,FALSE))","v":""}]
[null,{"$f":"IF($D240=\"\",\"\",VLOOKUP($D240,Lists!$BM$2:$BO$78,2,FALSE))","v":""},{"$f":"IF($D240=\"\",\"\",VLOOKUP($D240,Lists!$BM$2:$BO$78,3,FALSE))","v":""}]
[null,{"$f":"IF($D241=\"\",\"\",VLOOKUP($D241,Lists!$BM$2:$BO$78,2,FALSE))","v":""},{"$f":"IF($D241=\"\",\"\",VLOOKUP($D241,Lists!$BM$2:$BO$78,3,FALSE))","v":""}]
[null,{"$f":"IF($D242=\"\",\"\",VLOOKUP($D242,Lists!$BM$2:$BO$78,2,FALSE))","v":""},{"$f":"IF($D242=\"\",\"\",VLOOKUP($D242,Lists!$BM$2:$BO$78,3,FALSE))","v":""}]
[null,{"$f":"IF($D243=\"\",\"\",VLOOKUP($D243,Lists!$BM$2:$BO$78,2,FALSE))","v":""},{"$f":"IF($D243=\"\",\"\",VLOOKUP($D243,Lists!$BM$2:$BO$78,3,FALSE))","v":""}]
[null,{"$f":"IF($D244=\"\",\"\",VLOOKUP($D244,Lists!$BM$2:$BO$78,2,FALSE))","v":""},{"$f":"IF($D244=\"\",\"\",VLOOKUP($D244,Lists!$BM$2:$BO$78,3,FALSE))","v":""}]
[null,{"$f":"IF($D245=\"\",\"\",VLOOKUP($D245,Lists!$BM$2:$BO$78,2,FALSE))","v":""},{"$f":"IF($D245=\"\",\"\",VLOOKUP($D245,Lists!$BM$2:$BO$78,3,FALSE))","v":""}]
[null,{"$f":"IF($D246=\"\",\"\",VLOOKUP($D246,Lists!$BM$2:$BO$78,2,FALSE))","v":""},{"$f":"IF($D246=\"\",\"\",VLOOKUP($D246,Lists!$BM$2:$BO$78,3,FALSE))","v":""}]
[null,{"$f":"IF($D247=\"\",\"\",VLOOKUP($D247,Lists!$BM$2:$BO$78,2,FALSE))","v":""},{"$f":"IF($D247=\"\",\"\",VLOOKUP($D247,Lists!$BM$2:$BO$78,3,FALSE))","v":""}]
[null,{"$f":"IF($D248=\"\",\"\",VLOOKUP($D248,Lists!$BM$2:$BO$78,2,FALSE))","v":""},{"$f":"IF($D248=\"\",\"\",VLOOKUP($D248,Lists!$BM$2:$BO$78,3,FALSE))","v":""}]
[null,{"$f":"IF($D249=\"\",\"\",VLOOKUP($D249,Lists!$BM$2:$BO$78,2,FALSE))","v":""},{"$f":"IF($D249=\"\",\"\",VLOOKUP($D249,Lists!$BM$2:$BO$78,3,FALSE))","v":""}]
[null,{"$f":"IF($D250=\"\",\"\",VLOOKUP($D250,Lists!$BM$2:$BO$78,2,FALSE))","v":""},{"$f":"IF($D250=\"\",\"\",VLOOKUP($D250,Lists!$BM$2:$BO$78,3,FALSE))","v":""}]
[null,{"$f":"IF($D251=\"\",\"\",VLOOKUP($D251,Lists!$BM$2:$BO$78,2,FALSE))","v":""},{"$f":"IF($D251=\"\",\"\",VLOOKUP($D251,Lists!$BM$2:$BO$78,3,FALSE))","v":""}]
[null,{"$f":"IF($D252=\"\",\"\",VLOOKUP($D252,Lists!$BM$2:$BO$78,2,FALSE))","v":""},{"$f":"IF($D252=\"\",\"\",VLOOKUP($D252,Lists!$BM$2:$BO$78,3,FALSE))","v":""}]
[null,{"$f":"IF($D253=\"\",\"\",VLOOKUP($D253,Lists!$BM$2:$BO$78,2,FALSE))","v":""},{"$f":"IF($D253=\"\",\"\",VLOOKUP($D253,Lists!$BM$2:$BO$78,3,FALSE))","v":""}]
[null,{"$f":"IF($D254=\"\",\"\",VLOOKUP($D254,Lists!$BM$2:$BO$78,2,FALSE))","v":""},{"$f":"IF($D254=\"\",\"\",VLOOKUP($D254,Lists!$BM$2:$BO$78,3,FALSE))","v":""}]
[null,{"$f":"IF($D255=\"\",\"\",VLOOKUP($D255,Lists!$BM$2:$BO$78,2,FALSE))","v":""},{"$f":"IF($D255=\"\",\"\",VLOOKUP($D255,Lists!$BM$2:$BO$78,3,FALSE))","v":""}]
[null,{"$f":"IF($D256=\"\",\"\",VLOOKUP($D256,Lists!$BM$2:$BO$78,2,FALSE))","v":""},{"$f":"IF($D256=\"\",\"\",VLOOKUP($D256,Lists!$BM$2:$BO$78,3,FALSE))","v":""}]
[null,{"$f":"IF($D257=\"\",\"\",VLOOKUP($D257,Lists!$BM$2:$BO$78,2,FALSE))","v":""},{"$f":"IF($D257=\"\",\"\",VLOOKUP($D257,Lists!$BM$2:$BO$78,3,FALSE))","v":""}]
[null,{"$f":"IF($D258=\"\",\"\",VLOOKUP($D258,Lists!$BM$2:$BO$78,2,FALSE))","v":""},{"$f":"IF($D258=\"\",\"\",VLOOKUP($D258,Lists!$BM$2:$BO$78,3,FALSE))","v":""}]
[null,{"$f":"IF($D259=\"\",\"\",VLOOKUP($D259,Lists!$BM$2:$BO$78,2,FALSE))","v":""},{"$f":"IF($D259=\"\",\"\",VLOOKUP($D259,Lists!$BM$2:$BO$78,3,FALSE))","v":""}]
[null,{"$f":"IF($D260=\"\",\"\",VLOOKUP($D260,Lists!$BM$2:$BO$78,2,FALSE))","v":""},{"$f":"IF($D260=\"\",\"\",VLOOKUP($D260,Lists!$BM$2:$BO$78,3,FALSE))","v":""}]
[null,{"$f":"IF($D261=\"\",\"\",VLOOKUP($D261,Lists!$BM$2:$BO$78,2,FALSE))","v":""},{"$f":"IF($D261=\"\",\"\",VLOOKUP($D261,Lists!$BM$2:$BO$78,3,FALSE))","v":""}]
[null,{"$f":"IF($D262=\"\",\"\",VLOOKUP($D262,Lists!$BM$2:$BO$78,2,FALSE))","v":""},{"$f":"IF($D262=\"\",\"\",VLOOKUP($D262,Lists!$BM$2:$BO$78,3,FALSE))","v":""}]
[null,{"$f":"IF($D263=\"\",\"\",VLOOKUP($D263,Lists!$BM$2:$BO$78,2,FALSE))","v":""},{"$f":"IF($D263=\"\",\"\",VLOOKUP($D263,Lists!$BM$2:$BO$78,3,FALSE))","v":""}]
[null,{"$f":"IF($D264=\"\",\"\",VLOOKUP($D264,Lists!$BM$2:$BO$78,2,FALSE))","v":""},{"$f":"IF($D264=\"\",\"\",VLOOKUP($D264,Lists!$BM$2:$BO$78,3,FALSE))","v":""}]
[null,{"$f":"IF($D265=\"\",\"\",VLOOKUP($D265,Lists!$BM$2:$BO$78,2,FALSE))","v":""},{"$f":"IF($D265=\"\",\"\",VLOOKUP($D265,Lists!$BM$2:$BO$78,3,FALSE))","v":""}]
[null,{"$f":"IF($D266=\"\",\"\",VLOOKUP($D266,Lists!$BM$2:$BO$78,2,FALSE))","v":""},{"$f":"IF($D266=\"\",\"\",VLOOKUP($D266,Lists!$BM$2:$BO$78,3,FALSE))","v":""}]
[null,{"$f":"IF($D267=\"\",\"\",VLOOKUP($D267,Lists!$BM$2:$BO$78,2,FALSE))","v":""},{"$f":"IF($D267=\"\",\"\",VLOOKUP($D267,Lists!$BM$2:$BO$78,3,FALSE))","v":""}]
[null,{"$f":"IF($D268=\"\",\"\",VLOOKUP($D268,Lists!$BM$2:$BO$78,2,FALSE))","v":""},{"$f":"IF($D268=\"\",\"\",VLOOKUP($D268,Lists!$BM$2:$BO$78,3,FALSE))","v":""}]
[null,{"$f":"IF($D269=\"\",\"\",VLOOKUP($D269,Lists!$BM$2:$BO$78,2,FALSE))","v":""},{"$f":"IF($D269=\"\",\"\",VLOOKUP($D269,Lists!$BM$2:$BO$78,3,FALSE))","v":""}]
[null,{"$f":"IF($D270=\"\",\"\",VLOOKUP($D270,Lists!$BM$2:$BO$78,2,FALSE))","v":""},{"$f":"IF($D270=\"\",\"\",VLOOKUP($D270,Lists!$BM$2:$BO$78,3,FALSE))","v":""}]
[null,{"$f":"IF($D271=\"\",\"\",VLOOKUP($D271,Lists!$BM$2:$BO$78,2,FALSE))","v":""},{"$f":"IF($D271=\"\",\"\",VLOOKUP($D271,Lists!$BM$2:$BO$78,3,FALSE))","v":""}]
[null,{"$f":"IF($D272=\"\",\"\",VLOOKUP($D272,Lists!$BM$2:$BO$78,2,FALSE))","v":""},{"$f":"IF($D272=\"\",\"\",VLOOKUP($D272,Lists!$BM$2:$BO$78,3,FALSE))","v":""}]
[null,{"$f":"IF($D273=\"\",\"\",VLOOKUP($D273,Lists!$BM$2:$BO$78,2,FALSE))","v":""},{"$f":"IF($D273=\"\",\"\",VLOOKUP($D273,Lists!$BM$2:$BO$78,3,FALSE))","v":""}]
[null,{"$f":"IF($D274=\"\",\"\",VLOOKUP($D274,Lists!$BM$2:$BO$78,2,FALSE))","v":""},{"$f":"IF($D274=\"\",\"\",VLOOKUP($D274,Lists!$BM$2:$BO$78,3,FALSE))","v":""}]
[null,{"$f":"IF($D275=\"\",\"\",VLOOKUP($D275,Lists!$BM$2:$BO$78,2,FALSE))","v":""},{"$f":"IF($D275=\"\",\"\",VLOOKUP($D275,Lists!$BM$2:$BO$78,3,FALSE))","v":""}]
[null,{"$f":"IF($D276=\"\",\"\",VLOOKUP($D276,Lists!$BM$2:$BO$78,2,FALSE))","v":""},{"$f":"IF($D276=\"\",\"\",VLOOKUP($D276,Lists!$BM$2:$BO$78,3,FALSE))","v":""}]
[null,{"$f":"IF($D277=\"\",\"\",VLOOKUP($D277,Lists!$BM$2:$BO$78,2,FALSE))","v":""},{"$f":"IF($D277=\"\",\"\",VLOOKUP($D277,Lists!$BM$2:$BO$78,3,FALSE))","v":""}]
[null,{"$f":"IF($D278=\"\",\"\",VLOOKUP($D278,Lists!$BM$2:$BO$78,2,FALSE))","v":""},{"$f":"IF($D278=\"\",\"\",VLOOKUP($D278,Lists!$BM$2:$BO$78,3,FALSE))","v":""}]
[null,{"$f":"IF($D279=\"\",\"\",VLOOKUP($D279,Lists!$BM$2:$BO$78,2,FALSE))","v":""},{"$f":"IF($D279=\"\",\"\",VLOOKUP($D279,Lists!$BM$2:$BO$78,3,FALSE))","v":""}]
[null,{"$f":"IF($D280=\"\",\"\",VLOOKUP($D280,Lists!$BM$2:$BO$78,2,FALSE))","v":""},{"$f":"IF($D280=\"\",\"\",VLOOKUP($D280,Lists!$BM$2:$BO$78,3,FALSE))","v":""}]
[null,{"$f":"IF($D281=\"\",\"\",VLOOKUP($D281,Lists!$BM$2:$BO$78,2,FALSE))","v":""},{"$f":"IF($D281=\"\",\"\",VLOOKUP($D281,Lists!$BM$2:$BO$78,3,FALSE))","v":""}]
[null,{"$f":"IF($D282=\"\",\"\",VLOOKUP($D282,Lists!$BM$2:$BO$78,2,FALSE))","v":""},{"$f":"IF($D282=\"\",\"\",VLOOKUP($D282,Lists!$BM$2:$BO$78,3,FALSE))","v":""}]
[null,{"$f":"IF($D283=\"\",\"\",VLOOKUP($D283,Lists!$BM$2:$BO$78,2,FALSE))","v":""},{"$f":"IF($D283=\"\",\"\",VLOOKUP($D283,Lists!$BM$2:$BO$78,3,FALSE))","v":""}]
[null,{"$f":"IF($D284=\"\",\"\",VLOOKUP($D284,Lists!$BM$2:$BO$78,2,FALSE))","v":""},{"$f":"IF($D284=\"\",\"\",VLOOKUP($D284,Lists!$BM$2:$BO$78,3,FALSE))","v":""}]
[null,{"$f":"IF($D285=\"\",\"\",VLOOKUP($D285,Lists!$BM$2:$BO$78,2,FALSE))","v":""},{"$f":"IF($D285=\"\",\"\",VLOOKUP($D285,Lists!$BM$2:$BO$78,3,FALSE))","v":""}]
[null,{"$f":"IF($D286=\"\",\"\",VLOOKUP($D286,Lists!$BM$2:$BO$78,2,FALSE))","v":""},{"$f":"IF($D286=\"\",\"\",VLOOKUP($D286,Lists!$BM$2:$BO$78,3,FALSE))","v":""}]
[null,{"$f":"IF($D287=\"\",\"\",VLOOKUP($D287,Lists!$BM$2:$BO$78,2,FALSE))","v":""},{"$f":"IF($D287=\"\",\"\",VLOOKUP($D287,Lists!$BM$2:$BO$78,3,FALSE))","v":""}]
[null,{"$f":"IF($D288=\"\",\"\",VLOOKUP($D288,Lists!$BM$2:$BO$78,2,FALSE))","v":""},{"$f":"IF($D288=\"\",\"\",VLOOKUP($D288,Lists!$BM$2:$BO$78,3,FALSE))","v":""}]
[null,{"$f":"IF($D289=\"\",\"\",VLOOKUP($D289,Lists!$BM$2:$BO$78,2,FALSE))","v":""},{"$f":"IF($D289=\"\",\"\",VLOOKUP($D289,Lists!$BM$2:$BO$78,3,FALSE))","v":""}]
[null,{"$f":"IF($D290=\"\",\"\",VLOOKUP($D290,Lists!$BM$2:$BO$78,2,FALSE))","v":""},{"$f":"IF($D290=\"\",\"\",VLOOKUP($D290,Lists!$BM$2:$BO$78,3,FALSE))","v":""}]
[null,{"$f":"IF($D291=\"\",\"\",VLOOKUP($D291,Lists!$BM$2:$BO$78,2,FALSE))","v":""},{"$f":"IF($D291=\"\",\"\",VLOOKUP($D291,Lists!$BM$2:$BO$78,3,FALSE))","v":""}]
[null,{"$f":"IF($D292=\"\",\"\",VLOOKUP($D292,Lists!$BM$2:$BO$78,2,FALSE))","v":""},{"$f":"IF($D292=\"\",\"\",VLOOKUP($D292,Lists!$BM$2:$BO$78,3,FALSE))","v":""}]
[null,{"$f":"IF($D293=\"\",\"\",VLOOKUP($D293,Lists!$BM$2:$BO$78,2,FALSE))","v":""},{"$f":"IF($D293=\"\",\"\",VLOOKUP($D293,Lists!$BM$2:$BO$78,3,FALSE))","v":""}]
[null,{"$f":"IF($D294=\"\",\"\",VLOOKUP($D294,Lists!$BM$2:$BO$78,2,FALSE))","v":""},{"$f":"IF($D294=\"\",\"\",VLOOKUP($D294,Lists!$BM$2:$BO$78,3,FALSE))","v":""}]
[null,{"$f":"IF($D295=\"\",\"\",VLOOKUP($D295,Lists!$BM$2:$BO$78,2,FALSE))","v":""},{"$f":"IF($D295=\"\",\"\",VLOOKUP($D295,Lists!$BM$2:$BO$78,3,FALSE))","v":""}]
[null,{"$f":"IF($D296=\"\",\"\",VLOOKUP($D296,Lists!$BM$2:$BO$78,2,FALSE))","v":""},{"$f":"IF($D296=\"\",\"\",VLOOKUP($D296,Lists!$BM$2:$BO$78,3,FALSE))","v":""}]
[null,{"$f":"IF($D297=\"\",\"\",VLOOKUP($D297,Lists!$BM$2:$BO$78,2,FALSE))","v":""},{"$f":"IF($D297=\"\",\"\",VLOOKUP($D297,Lists!$BM$2:$BO$78,3,FALSE))","v":""}]
[null,{"$f":"IF($D298=\"\",\"\",VLOOKUP($D298,Lists!$BM$2:$BO$78,2,FALSE))","v":""},{"$f":"IF($D298=\"\",\"\",VLOOKUP($D298,Lists!$BM$2:$BO$78,3,FALSE))","v":""}]
[null,{"$f":"IF($D299=\"\",\"\",VLOOKUP($D299,Lists!$BM$2:$BO$78,2,FALSE))","v":""},{"$f":"IF($D299=\"\",\"\",VLOOKUP($D299,Lists!$BM$2:$BO$78,3,FALSE))","v":""}]
[null,{"$f":"IF($D300=\"\",\"\",VLOOKUP($D300,Lists!$BM$2:$BO$78,2,FALSE))","v":""},{"$f":"IF($D300=\"\",\"\",VLOOKUP($D300,Lists!$BM$2:$BO$78,3,FALSE))","v":""}]
[null,{"$f":"IF($D301=\"\",\"\",VLOOKUP($D301,Lists!$BM$2:$BO$78,2,FALSE))","v":""},{"$f":"IF($D301=\"\",\"\",VLOOKUP($D301,Lists!$BM$2:$BO$78,3,FALSE))","v":""}]
[null,{"$f":"IF($D302=\"\",\"\",VLOOKUP($D302,Lists!$BM$2:$BO$78,2,FALSE))","v":""},{"$f":"IF($D302=\"\",\"\",VLOOKUP($D302,Lists!$BM$2:$BO$78,3,FALSE))","v":""}]
[null,{"$f":"IF($D303=\"\",\"\",VLOOKUP($D303,Lists!$BM$2:$BO$78,2,FALSE))","v":""},{"$f":"IF($D303=\"\",\"\",VLOOKUP($D303,Lists!$BM$2:$BO$78,3,FALSE))","v":""}]
[null,{"$f":"IF($D304=\"\",\"\",VLOOKUP($D304,Lists!$BM$2:$BO$78,2,FALSE))","v":""},{"$f":"IF($D304=\"\",\"\",VLOOKUP($D304,Lists!$BM$2:$BO$78,3,FALSE))","v":""}]
[null,{"$f":"IF($D305=\"\",\"\",VLOOKUP($D305,Lists!$BM$2:$BO$78,2,FALSE))","v":""},{"$f":"IF($D305=\"\",\"\",VLOOKUP($D305,Lists!$BM$2:$BO$78,3,FALSE))","v":""}]
[null,{"$f":"IF($D306=\"\",\"\",VLOOKUP($D306,Lists!$BM$2:$BO$78,2,FALSE))","v":""},{"$f":"IF($D306=\"\",\"\",VLOOKUP($D306,Lists!$BM$2:$BO$78,3,FALSE))","v":""}]
[null,{"$f":"IF($D307=\"\",\"\",VLOOKUP($D307,Lists!$BM$2:$BO$78,2,FALSE))","v":""},{"$f":"IF($D307=\"\",\"\",VLOOKUP($D307,Lists!$BM$2:$BO$78,3,FALSE))","v":""}]
[null,{"$f":"IF($D308=\"\",\"\",VLOOKUP($D308,Lists!$BM$2:$BO$78,2,FALSE))","v":""},{"$f":"IF($D308=\"\",\"\",VLOOKUP($D308,Lists!$BM$2:$BO$78,3,FALSE))","v":""}]
[null,{"$f":"IF($D309=\"\",\"\",VLOOKUP($D309,Lists!$BM$2:$BO$78,2,FALSE))","v":""},{"$f":"IF($D309=\"\",\"\",VLOOKUP($D309,Lists!$BM$2:$BO$78,3,FALSE))","v":""}]
[null,{"$f":"IF($D310=\"\",\"\",VLOOKUP($D310,Lists!$BM$2:$BO$78,2,FALSE))","v":""},{"$f":"IF($D310=\"\",\"\",VLOOKUP($D310,Lists!$BM$2:$BO$78,3,FALSE))","v":""}]
[null,{"$f":"IF($D311=\"\",\"\",VLOOKUP($D311,Lists!$BM$2:$BO$78,2,FALSE))","v":""},{"$f":"IF($D311=\"\",\"\",VLOOKUP($D311,Lists!$BM$2:$BO$78,3,FALSE))","v":""}]
[null,{"$f":"IF($D312=\"\",\"\",VLOOKUP($D312,Lists!$BM$2:$BO$78,2,FALSE))","v":""},{"$f":"IF($D312=\"\",\"\",VLOOKUP($D312,Lists!$BM$2:$BO$78,3,FALSE))","v":""}]
[null,{"$f":"IF($D313=\"\",\"\",VLOOKUP($D313,Lists!$BM$2:$BO$78,2,FALSE))","v":""},{"$f":"IF($D313=\"\",\"\",VLOOKUP($D313,Lists!$BM$2:$BO$78,3,FALSE))","v":""}]
[null,{"$f":"IF($D314=\"\",\"\",VLOOKUP($D314,Lists!$BM$2:$BO$78,2,FALSE))","v":""},{"$f":"IF($D314=\"\",\"\",VLOOKUP($D314,Lists!$BM$2:$BO$78,3,FALSE))","v":""}]
[null,{"$f":"IF($D315=\"\",\"\",VLOOKUP($D315,Lists!$BM$2:$BO$78,2,FALSE))","v":""},{"$f":"IF($D315=\"\",\"\",VLOOKUP($D315,Lists!$BM$2:$BO$78,3,FALSE))","v":""}]
[null,{"$f":"IF($D316=\"\",\"\",VLOOKUP($D316,Lists!$BM$2:$BO$78,2,FALSE))","v":""},{"$f":"IF($D316=\"\",\"\",VLOOKUP($D316,Lists!$BM$2:$BO$78,3,FALSE))","v":""}]
[null,{"$f":"IF($D317=\"\",\"\",VLOOKUP($D317,Lists!$BM$2:$BO$78,2,FALSE))","v":""},{"$f":"IF($D317=\"\",\"\",VLOOKUP($D317,Lists!$BM$2:$BO$78,3,FALSE))","v":""}]
[null,{"$f":"IF($D318=\"\",\"\",VLOOKUP($D318,Lists!$BM$2:$BO$78,2,FALSE))","v":""},{"$f":"IF($D318=\"\",\"\",VLOOKUP($D318,Lists!$BM$2:$BO$78,3,FALSE))","v":""}]
[null,{"$f":"IF($D319=\"\",\"\",VLOOKUP($D319,Lists!$BM$2:$BO$78,2,FALSE))","v":""},{"$f":"IF($D319=\"\",\"\",VLOOKUP($D319,Lists!$BM$2:$BO$78,3,FALSE))","v":""}]
[null,{"$f":"IF($D320=\"\",\"\",VLOOKUP($D320,Lists!$BM$2:$BO$78,2,FALSE))","v":""},{"$f":"IF($D320=\"\",\"\",VLOOKUP($D320,Lists!$BM$2:$BO$78,3,FALSE))","v":""}]
[null,{"$f":"IF($D321=\"\",\"\",VLOOKUP($D321,Lists!$BM$2:$BO$78,2,FALSE))","v":""},{"$f":"IF($D321=\"\",\"\",VLOOKUP($D321,Lists!$BM$2:$BO$78,3,FALSE))","v":""}]
[null,{"$f":"IF($D322=\"\",\"\",VLOOKUP($D322,Lists!$BM$2:$BO$78,2,FALSE))","v":""},{"$f":"IF($D322=\"\",\"\",VLOOKUP($D322,Lists!$BM$2:$BO$78,3,FALSE))","v":""}]
[null,{"$f":"IF($D323=\"\",\"\",VLOOKUP($D323,Lists!$BM$2:$BO$78,2,FALSE))","v":""},{"$f":"IF($D323=\"\",\"\",VLOOKUP($D323,Lists!$BM$2:$BO$78,3,FALSE))","v":""}]
[null,{"$f":"IF($D324=\"\",\"\",VLOOKUP($D324,Lists!$BM$2:$BO$78,2,FALSE))","v":""},{"$f":"IF($D324=\"\",\"\",VLOOKUP($D324,Lists!$BM$2:$BO$78,3,FALSE))","v":""}]
[null,{"$f":"IF($D325=\"\",\"\",VLOOKUP($D325,Lists!$BM$2:$BO$78,2,FALSE))","v":""},{"$f":"IF($D325=\"\",\"\",VLOOKUP($D325,Lists!$BM$2:$BO$78,3,FALSE))","v":""}]
[null,{"$f":"IF($D326=\"\",\"\",VLOOKUP($D326,Lists!$BM$2:$BO$78,2,FALSE))","v":""},{"$f":"IF($D326=\"\",\"\",VLOOKUP($D326,Lists!$BM$2:$BO$78,3,FALSE))","v":""}]
[null,{"$f":"IF($D327=\"\",\"\",VLOOKUP($D327,Lists!$BM$2:$BO$78,2,FALSE))","v":""},{"$f":"IF($D327=\"\",\"\",VLOOKUP($D327,Lists!$BM$2:$BO$78,3,FALSE))","v":""}]
[null,{"$f":"IF($D328=\"\",\"\",VLOOKUP($D328,Lists!$BM$2:$BO$78,2,FALSE))","v":""},{"$f":"IF($D328=\"\",\"\",VLOOKUP($D328,Lists!$BM$2:$BO$78,3,FALSE))","v":""}]
[null,{"$f":"IF($D329=\"\",\"\",VLOOKUP($D329,Lists!$BM$2:$BO$78,2,FALSE))","v":""},{"$f":"IF($D329=\"\",\"\",VLOOKUP($D329,Lists!$BM$2:$BO$78,3,FALSE))","v":""}]
[null,{"$f":"IF($D330=\"\",\"\",VLOOKUP($D330,Lists!$BM$2:$BO$78,2,FALSE))","v":""},{"$f":"IF($D330=\"\",\"\",VLOOKUP($D330,Lists!$BM$2:$BO$78,3,FALSE))","v":""}]
[null,{"$f":"IF($D331=\"\",\"\",VLOOKUP($D331,Lists!$BM$2:$BO$78,2,FALSE))","v":""},{"$f":"IF($D331=\"\",\"\",VLOOKUP($D331,Lists!$BM$2:$BO$78,3,FALSE))","v":""}]
[null,{"$f":"IF($D332=\"\",\"\",VLOOKUP($D332,Lists!$BM$2:$BO$78,2,FALSE))","v":""},{"$f":"IF($D332=\"\",\"\",VLOOKUP($D332,Lists!$BM$2:$BO$78,3,FALSE))","v":""}]
[null,{"$f":"IF($D333=\"\",\"\",VLOOKUP($D333,Lists!$BM$2:$BO$78,2,FALSE))","v":""},{"$f":"IF($D333=\"\",\"\",VLOOKUP($D333,Lists!$BM$2:$BO$78,3,FALSE))","v":""}]
[null,{"$f":"IF($D334=\"\",\"\",VLOOKUP($D334,Lists!$BM$2:$BO$78,2,FALSE))","v":""},{"$f":"IF($D334=\"\",\"\",VLOOKUP($D334,Lists!$BM$2:$BO$78,3,FALSE))","v":""}]
[null,{"$f":"IF($D335=\"\",\"\",VLOOKUP($D335,Lists!$BM$2:$BO$78,2,FALSE))","v":""},{"$f":"IF($D335=\"\",\"\",VLOOKUP($D335,Lists!$BM$2:$BO$78,3,FALSE))","v":""}]
[null,{"$f":"IF($D336=\"\",\"\",VLOOKUP($D336,Lists!$BM$2:$BO$78,2,FALSE))","v":""},{"$f":"IF($D336=\"\",\"\",VLOOKUP($D336,Lists!$BM$2:$BO$78,3,FALSE))","v":""}]
[null,{"$f":"IF($D337=\"\",\"\",VLOOKUP($D337,Lists!$BM$2:$BO$78,2,FALSE))","v":""},{"$f":"IF($D337=\"\",\"\",VLOOKUP($D337,Lists!$BM$2:$BO$78,3,FALSE))","v":""}]
[null,{"$f":"IF($D338=\"\",\"\",VLOOKUP($D338,Lists!$BM$2:$BO$78,2,FALSE))","v":""},{"$f":"IF($D338=\"\",\"\",VLOOKUP($D338,Lists!$BM$2:$BO$78,3,FALSE))","v":""}]
[null,{"$f":"IF($D339=\"\",\"\",VLOOKUP($D339,Lists!$BM$2:$BO$78,2,FALSE))","v":""},{"$f":"IF($D339=\"\",\"\",VLOOKUP($D339,Lists!$BM$2:$BO$78,3,FALSE))","v":""}]
[null,{"$f":"IF($D340=\"\",\"\",VLOOKUP($D340,Lists!$BM$2:$BO$78,2,FALSE))","v":""},{"$f":"IF($D340=\"\",\"\",VLOOKUP($D340,Lists!$BM$2:$BO$78,3,FALSE))","v":""}]
[null,{"$f":"IF($D341=\"\",\"\",VLOOKUP($D341,Lists!$BM$2:$BO$78,2,FALSE))","v":""},{"$f":"IF($D341=\"\",\"\",VLOOKUP($D341,Lists!$BM$2:$BO$78,3,FALSE))","v":""}]
[null,{"$f":"IF($D342=\"\",\"\",VLOOKUP($D342,Lists!$BM$2:$BO$78,2,FALSE))","v":""},{"$f":"IF($D342=\"\",\"\",VLOOKUP($D342,Lists!$BM$2:$BO$78,3,FALSE))","v":""}]
[null,{"$f":"IF($D343=\"\",\"\",VLOOKUP($D343,Lists!$BM$2:$BO$78,2,FALSE))","v":""},{"$f":"IF($D343=\"\",\"\",VLOOKUP($D343,Lists!$BM$2:$BO$78,3,FALSE))","v":""}]
[null,{"$f":"IF($D344=\"\",\"\",VLOOKUP($D344,Lists!$BM$2:$BO$78,2,FALSE))","v":""},{"$f":"IF($D344=\"\",\"\",VLOOKUP($D344,Lists!$BM$2:$BO$78,3,FALSE))","v":""}]
[null,{"$f":"IF($D345=\"\",\"\",VLOOKUP($D345,Lists!$BM$2:$BO$78,2,FALSE))","v":""},{"$f":"IF($D345=\"\",\"\",VLOOKUP($D345,Lists!$BM$2:$BO$78,3,FALSE))","v":""}]
[null,{"$f":"IF($D346=\"\",\"\",VLOOKUP($D346,Lists!$BM$2:$BO$78,2,FALSE))","v":""},{"$f":"IF($D346=\"\",\"\",VLOOKUP($D346,Lists!$BM$2:$BO$78,3,FALSE))","v":""}]
[null,{"$f":"IF($D347=\"\",\"\",VLOOKUP($D347,Lists!$BM$2:$BO$78,2,FALSE))","v":""},{"$f":"IF($D347=\"\",\"\",VLOOKUP($D347,Lists!$BM$2:$BO$78,3,FALSE))","v":""}]
[null,{"$f":"IF($D348=\"\",\"\",VLOOKUP($D348,Lists!$BM$2:$BO$78,2,FALSE))","v":""},{"$f":"IF($D348=\"\",\"\",VLOOKUP($D348,Lists!$BM$2:$BO$78,3,FALSE))","v":""}]
[null,{"$f":"IF($D349=\"\",\"\",VLOOKUP($D349,Lists!$BM$2:$BO$78,2,FALSE))","v":""},{"$f":"IF($D349=\"\",\"\",VLOOKUP($D349,Lists!$BM$2:$BO$78,3,FALSE))","v":""}]
[null,{"$f":"IF($D350=\"\",\"\",VLOOKUP($D350,Lists!$BM$2:$BO$78,2,FALSE))","v":""},{"$f":"IF($D350=\"\",\"\",VLOOKUP($D350,Lists!$BM$2:$BO$78,3,FALSE))","v":""}]
[null,{"$f":"IF($D351=\"\",\"\",VLOOKUP($D351,Lists!$BM$2:$BO$78,2,FALSE))","v":""},{"$f":"IF($D351=\"\",\"\",VLOOKUP($D351,Lists!$BM$2:$BO$78,3,FALSE))","v":""}]
[null,{"$f":"IF($D352=\"\",\"\",VLOOKUP($D352,Lists!$BM$2:$BO$78,2,FALSE))","v":""},{"$f":"IF($D352=\"\",\"\",VLOOKUP($D352,Lists!$BM$2:$BO$78,3,FALSE))","v":""}]
[null,{"$f":"IF($D353=\"\",\"\",VLOOKUP($D353,Lists!$BM$2:$BO$78,2,FALSE))","v":""},{"$f":"IF($D353=\"\",\"\",VLOOKUP($D353,Lists!$BM$2:$BO$78,3,FALSE))","v":""}]
[null,{"$f":"IF($D354=\"\",\"\",VLOOKUP($D354,Lists!$BM$2:$BO$78,2,FALSE))","v":""},{"$f":"IF($D354=\"\",\"\",VLOOKUP($D354,Lists!$BM$2:$BO$78,3,FALSE))","v":""}]
[null,{"$f":"IF($D355=\"\",\"\",VLOOKUP($D355,Lists!$BM$2:$BO$78,2,FALSE))","v":""},{"$f":"IF($D355=\"\",\"\",VLOOKUP($D355,Lists!$BM$2:$BO$78,3,FALSE))","v":""}]
[null,{"$f":"IF($D356=\"\",\"\",VLOOKUP($D356,Lists!$BM$2:$BO$78,2,FALSE))","v":""},{"$f":"IF($D356=\"\",\"\",VLOOKUP($D356,Lists!$BM$2:$BO$78,3,FALSE))","v":""}]
[null,{"$f":"IF($D357=\"\",\"\",VLOOKUP($D357,Lists!$BM$2:$BO$78,2,FALSE))","v":""},{"$f":"IF($D357=\"\",\"\",VLOOKUP($D357,Lists!$BM$2:$BO$78,3,FALSE))","v":""}]
[null,{"$f":"IF($D358=\"\",\"\",VLOOKUP($D358,Lists!$BM$2:$BO$78,2,FALSE))","v":""},{"$f":"IF($D358=\"\",\"\",VLOOKUP($D358,Lists!$BM$2:$BO$78,3,FALSE))","v":""}]
[null,{"$f":"IF($D359=\"\",\"\",VLOOKUP($D359,Lists!$BM$2:$BO$78,2,FALSE))","v":""},{"$f":"IF($D359=\"\",\"\",VLOOKUP($D359,Lists!$BM$2:$BO$78,3,FALSE))","v":""}]
[null,{"$f":"IF($D360=\"\",\"\",VLOOKUP($D360,Lists!$BM$2:$BO$78,2,FALSE))","v":""},{"$f":"IF($D360=\"\",\"\",VLOOKUP($D360,Lists!$BM$2:$BO$78,3,FALSE))","v":""}]
[null,{"$f":"IF($D361=\"\",\"\",VLOOKUP($D361,Lists!$BM$2:$BO$78,2,FALSE))","v":""},{"$f":"IF($D361=\"\",\"\",VLOOKUP($D361,Lists!$BM$2:$BO$78,3,FALSE))","v":""}]
[null,{"$f":"IF($D362=\"\",\"\",VLOOKUP($D362,Lists!$BM$2:$BO$78,2,FALSE))","v":""},{"$f":"IF($D362=\"\",\"\",VLOOKUP($D362,Lists!$BM$2:$BO$78,3,FALSE))","v":""}]
[null,{"$f":"IF($D363=\"\",\"\",VLOOKUP($D363,Lists!$BM$2:$BO$78,2,FALSE))","v":""},{"$f":"IF($D363=\"\",\"\",VLOOKUP($D363,Lists!$BM$2:$BO$78,3,FALSE))","v":""}]
[null,{"$f":"IF($D364=\"\",\"\",VLOOKUP($D364,Lists!$BM$2:$BO$78,2,FALSE))","v":""},{"$f":"IF($D364=\"\",\"\",VLOOKUP($D364,Lists!$BM$2:$BO$78,3,FALSE))","v":""}]
[null,{"$f":"IF($D365=\"\",\"\",VLOOKUP($D365,Lists!$BM$2:$BO$78,2,FALSE))","v":""},{"$f":"IF($D365=\"\",\"\",VLOOKUP($D365,Lists!$BM$2:$BO$78,3,FALSE))","v":""}]
[null,{"$f":"IF($D366=\"\",\"\",VLOOKUP($D366,Lists!$BM$2:$BO$78,2,FALSE))","v":""},{"$f":"IF($D366=\"\",\"\",VLOOKUP($D366,Lists!$BM$2:$BO$78,3,FALSE))","v":""}]
[null,{"$f":"IF($D367=\"\",\"\",VLOOKUP($D367,Lists!$BM$2:$BO$78,2,FALSE))","v":""},{"$f":"IF($D367=\"\",\"\",VLOOKUP($D367,Lists!$BM$2:$BO$78,3,FALSE))","v":""}]
[null,{"$f":"IF($D368=\"\",\"\",VLOOKUP($D368,Lists!$BM$2:$BO$78,2,FALSE))","v":""},{"$f":"IF($D368=\"\",\"\",VLOOKUP($D368,Lists!$BM$2:$BO$78,3,FALSE))","v":""}]
[null,{"$f":"IF($D369=\"\",\"\",VLOOKUP($D369,Lists!$BM$2:$BO$78,2,FALSE))","v":""},{"$f":"IF($D369=\"\",\"\",VLOOKUP($D369,Lists!$BM$2:$BO$78,3,FALSE))","v":""}]
[null,{"$f":"IF($D370=\"\",\"\",VLOOKUP($D370,Lists!$BM$2:$BO$78,2,FALSE))","v":""},{"$f":"IF($D370=\"\",\"\",VLOOKUP($D370,Lists!$BM$2:$BO$78,3,FALSE))","v":""}]
[null,{"$f":"IF($D371=\"\",\"\",VLOOKUP($D371,Lists!$BM$2:$BO$78,2,FALSE))","v":""},{"$f":"IF($D371=\"\",\"\",VLOOKUP($D371,Lists!$BM$2:$BO$78,3,FALSE))","v":""}]
[null,{"$f":"IF($D372=\"\",\"\",VLOOKUP($D372,Lists!$BM$2:$BO$78,2,FALSE))","v":""},{"$f":"IF($D372=\"\",\"\",VLOOKUP($D372,Lists!$BM$2:$BO$78,3,FALSE))","v":""}]
[null,{"$f":"IF($D373=\"\",\"\",VLOOKUP($D373,Lists!$BM$2:$BO$78,2,FALSE))","v":""},{"$f":"IF($D373=\"\",\"\",VLOOKUP($D373,Lists!$BM$2:$BO$78,3,FALSE))","v":""}]
[null,{"$f":"IF($D374=\"\",\"\",VLOOKUP($D374,Lists!$BM$2:$BO$78,2,FALSE))","v":""},{"$f":"IF($D374=\"\",\"\",VLOOKUP($D374,Lists!$BM$2:$BO$78,3,FALSE))","v":""}]
[null,{"$f":"IF($D375=\"\",\"\",VLOOKUP($D375,Lists!$BM$2:$BO$78,2,FALSE))","v":""},{"$f":"IF($D375=\"\",\"\",VLOOKUP($D375,Lists!$BM$2:$BO$78,3,FALSE))","v":""}]
[null,{"$f":"IF($D376=\"\",\"\",VLOOKUP($D376,Lists!$BM$2:$BO$78,2,FALSE))","v":""},{"$f":"IF($D376=\"\",\"\",VLOOKUP($D376,Lists!$BM$2:$BO$78,3,FALSE))","v":""}]
[null,{"$f":"IF($D377=\"\",\"\",VLOOKUP($D377,Lists!$BM$2:$BO$78,2,FALSE))","v":""},{"$f":"IF($D377=\"\",\"\",VLOOKUP($D377,Lists!$BM$2:$BO$78,3,FALSE))","v":""}]
[null,{"$f":"IF($D378=\"\",\"\",VLOOKUP($D378,Lists!$BM$2:$BO$78,2,FALSE))","v":""},{"$f":"IF($D378=\"\",\"\",VLOOKUP($D378,Lists!$BM$2:$BO$78,3,FALSE))","v":""}]
[null,{"$f":"IF($D379=\"\",\"\",VLOOKUP($D379,Lists!$BM$2:$BO$78,2,FALSE))","v":""},{"$f":"IF($D379=\"\",\"\",VLOOKUP($D379,Lists!$BM$2:$BO$78,3,FALSE))","v":""}]
[null,{"$f":"IF($D380=\"\",\"\",VLOOKUP($D380,Lists!$BM$2:$BO$78,2,FALSE))","v":""},{"$f":"IF($D380=\"\",\"\",VLOOKUP($D380,Lists!$BM$2:$BO$78,3,FALSE))","v":""}]
[null,{"$f":"IF($D381=\"\",\"\",VLOOKUP($D381,Lists!$BM$2:$BO$78,2,FALSE))","v":""},{"$f":"IF($D381=\"\",\"\",VLOOKUP($D381,Lists!$BM$2:$BO$78,3,FALSE))","v":""}]
[null,{"$f":"IF($D382=\"\",\"\",VLOOKUP($D382,Lists!$BM$2:$BO$78,2,FALSE))","v":""},{"$f":"IF($D382=\"\",\"\",VLOOKUP($D382,Lists!$BM$2:$BO$78,3,FALSE))","v":""}]
[null,{"$f":"IF($D383=\"\",\"\",VLOOKUP($D383,Lists!$BM$2:$BO$78,2,FALSE))","v":""},{"$f":"IF($D383=\"\",\"\",VLOOKUP($D383,Lists!$BM$2:$BO$78,3,FALSE))","v":""}]
[null,{"$f":"IF($D384=\"\",\"\",VLOOKUP($D384,Lists!$BM$2:$BO$78,2,FALSE))","v":""},{"$f":"IF($D384=\"\",\"\",VLOOKUP($D384,Lists!$BM$2:$BO$78,3,FALSE))","v":""}]
[null,{"$f":"IF($D385=\"\",\"\",VLOOKUP($D385,Lists!$BM$2:$BO$78,2,FALSE))","v":""},{"$f":"IF($D385=\"\",\"\",VLOOKUP($D385,Lists!$BM$2:$BO$78,3,FALSE))","v":""}]
[null,{"$f":"IF($D386=\"\",\"\",VLOOKUP($D386,Lists!$BM$2:$BO$78,2,FALSE))","v":""},{"$f":"IF($D386=\"\",\"\",VLOOKUP($D386,Lists!$BM$2:$BO$78,3,FALSE))","v":""}]
[null,{"$f":"IF($D387=\"\",\"\",VLOOKUP($D387,Lists!$BM$2:$BO$78,2,FALSE))","v":""},{"$f":"IF($D387=\"\",\"\",VLOOKUP($D387,Lists!$BM$2:$BO$78,3,FALSE))","v":""}]
[null,{"$f":"IF($D388=\"\",\"\",VLOOKUP($D388,Lists!$BM$2:$BO$78,2,FALSE))","v":""},{"$f":"IF($D388=\"\",\"\",VLOOKUP($D388,Lists!$BM$2:$BO$78,3,FALSE))","v":""}]
[null,{"$f":"IF($D389=\"\",\"\",VLOOKUP($D389,Lists!$BM$2:$BO$78,2,FALSE))","v":""},{"$f":"IF($D389=\"\",\"\",VLOOKUP($D389,Lists!$BM$2:$BO$78,3,FALSE))","v":""}]
[null,{"$f":"IF($D390=\"\",\"\",VLOOKUP($D390,Lists!$BM$2:$BO$78,2,FALSE))","v":""},{"$f":"IF($D390=\"\",\"\",VLOOKUP($D390,Lists!$BM$2:$BO$78,3,FALSE))","v":""}]
[null,{"$f":"IF($D391=\"\",\"\",VLOOKUP($D391,Lists!$BM$2:$BO$78,2,FALSE))","v":""},{"$f":"IF($D391=\"\",\"\",VLOOKUP($D391,Lists!$BM$2:$BO$78,3,FALSE))","v":""}]
[null,{"$f":"IF($D392=\"\",\"\",VLOOKUP($D392,Lists!$BM$2:$BO$78,2,FALSE))","v":""},{"$f":"IF($D392=\"\",\"\",VLOOKUP($D392,Lists!$BM$2:$BO$78,3,FALSE))","v":""}]
[null,{"$f":"IF($D393=\"\",\"\",VLOOKUP($D393,Lists!$BM$2:$BO$78,2,FALSE))","v":""},{"$f":"IF($D393=\"\",\"\",VLOOKUP($D393,Lists!$BM$2:$BO$78,3,FALSE))","v":""}]
[null,{"$f":"IF($D394=\"\",\"\",VLOOKUP($D394,Lists!$BM$2:$BO$78,2,FALSE))","v":""},{"$f":"IF($D394=\"\",\"\",VLOOKUP($D394,Lists!$BM$2:$BO$78,3,FALSE))","v":""}]
[null,{"$f":"IF($D395=\"\",\"\",VLOOKUP($D395,Lists!$BM$2:$BO$78,2,FALSE))","v":""},{"$f":"IF($D395=\"\",\"\",VLOOKUP($D395,Lists!$BM$2:$BO$78,3,FALSE))","v":""}]
[null,{"$f":"IF($D396=\"\",\"\",VLOOKUP($D396,Lists!$BM$2:$BO$78,2,FALSE))","v":""},{"$f":"IF($D396=\"\",\"\",VLOOKUP($D396,Lists!$BM$2:$BO$78,3,FALSE))","v":""}]
[null,{"$f":"IF($D397=\"\",\"\",VLOOKUP($D397,Lists!$BM$2:$BO$78,2,FALSE))","v":""},{"$f":"IF($D397=\"\",\"\",VLOOKUP($D397,Lists!$BM$2:$BO$78,3,FALSE))","v":""}]
[null,{"$f":"IF($D398=\"\",\"\",VLOOKUP($D398,Lists!$BM$2:$BO$78,2,FALSE))","v":""},{"$f":"IF($D398=\"\",\"\",VLOOKUP($D398,Lists!$BM$2:$BO$78,3,FALSE))","v":""}]
[null,{"$f":"IF($D399=\"\",\"\",VLOOKUP($D399,Lists!$BM$2:$BO$78,2,FALSE))","v":""},{"$f":"IF($D399=\"\",\"\",VLOOKUP($D399,Lists!$BM$2:$BO$78,3,FALSE))","v":""}]
[null,{"$f":"IF($D400=\"\",\"\",VLOOKUP($D400,Lists!$BM$2:$BO$78,2,FALSE))","v":""},{"$f":"IF($D400=\"\",\"\",VLOOKUP($D400,Lists!$BM$2:$BO$78,3,FALSE))","v":""}]
[null,{"$f":"IF($D401=\"\",\"\",VLOOKUP($D401,Lists!$BM$2:$BO$78,2,FALSE))","v":""},{"$f":"IF($D401=\"\",\"\",VLOOKUP($D401,Lists!$BM$2:$BO$78,3,FALSE))","v":""}]
[null,{"$f":"IF($D402=\"\",\"\",VLOOKUP($D402,Lists!$BM$2:$BO$78,2,FALSE))","v":""},{"$f":"IF($D402=\"\",\"\",VLOOKUP($D402,Lists!$BM$2:$BO$78,3,FALSE))","v":""}]
[null,{"$f":"IF($D403=\"\",\"\",VLOOKUP($D403,Lists!$BM$2:$BO$78,2,FALSE))","v":""},{"$f":"IF($D403=\"\",\"\",VLOOKUP($D403,Lists!$BM$2:$BO$78,3,FALSE))","v":""}]
[null,{"$f":"IF($D404=\"\",\"\",VLOOKUP($D404,Lists!$BM$2:$BO$78,2,FALSE))","v":""},{"$f":"IF($D404=\"\",\"\",VLOOKUP($D404,Lists!$BM$2:$BO$78,3,FALSE))","v":""}]
[null,{"$f":"IF($D405=\"\",\"\",VLOOKUP($D405,Lists!$BM$2:$BO$78,2,FALSE))","v":""},{"$f":"IF($D405=\"\",\"\",VLOOKUP($D405,Lists!$BM$2:$BO$78,3,FALSE))","v":""}]
[null,{"$f":"IF($D406=\"\",\"\",VLOOKUP($D406,Lists!$BM$2:$BO$78,2,FALSE))","v":""},{"$f":"IF($D406=\"\",\"\",VLOOKUP($D406,Lists!$BM$2:$BO$78,3,FALSE))","v":""}]
[null,{"$f":"IF($D407=\"\",\"\",VLOOKUP($D407,Lists!$BM$2:$BO$78,2,FALSE))","v":""},{"$f":"IF($D407=\"\",\"\",VLOOKUP($D407,Lists!$BM$2:$BO$78,3,FALSE))","v":""}]
[null,{"$f":"IF($D408=\"\",\"\",VLOOKUP($D408,Lists!$BM$2:$BO$78,2,FALSE))","v":""},{"$f":"IF($D408=\"\",\"\",VLOOKUP($D408,Lists!$BM$2:$BO$78,3,FALSE))","v":""}]
[null,{"$f":"IF($D409=\"\",\"\",VLOOKUP($D409,Lists!$BM$2:$BO$78,2,FALSE))","v":""},{"$f":"IF($D409=\"\",\"\",VLOOKUP($D409,Lists!$BM$2:$BO$78,3,FALSE))","v":""}]
[null,{"$f":"IF($D410=\"\",\"\",VLOOKUP($D410,Lists!$BM$2:$BO$78,2,FALSE))","v":""},{"$f":"IF($D410=\"\",\"\",VLOOKUP($D410,Lists!$BM$2:$BO$78,3,FALSE))","v":""}]
[null,{"$f":"IF($D411=\"\",\"\",VLOOKUP($D411,Lists!$BM$2:$BO$78,2,FALSE))","v":""},{"$f":"IF($D411=\"\",\"\",VLOOKUP($D411,Lists!$BM$2:$BO$78,3,FALSE))","v":""}]
[null,{"$f":"IF($D412=\"\",\"\",VLOOKUP($D412,Lists!$BM$2:$BO$78,2,FALSE))","v":""},{"$f":"IF($D412=\"\",\"\",VLOOKUP($D412,Lists!$BM$2:$BO$78,3,FALSE))","v":""}]
[null,{"$f":"IF($D413=\"\",\"\",VLOOKUP($D413,Lists!$BM$2:$BO$78,2,FALSE))","v":""},{"$f":"IF($D413=\"\",\"\",VLOOKUP($D413,Lists!$BM$2:$BO$78,3,FALSE))","v":""}]
[null,{"$f":"IF($D414=\"\",\"\",VLOOKUP($D414,Lists!$BM$2:$BO$78,2,FALSE))","v":""},{"$f":"IF($D414=\"\",\"\",VLOOKUP($D414,Lists!$BM$2:$BO$78,3,FALSE))","v":""}]
[null,{"$f":"IF($D415=\"\",\"\",VLOOKUP($D415,Lists!$BM$2:$BO$78,2,FALSE))","v":""},{"$f":"IF($D415=\"\",\"\",VLOOKUP($D415,Lists!$BM$2:$BO$78,3,FALSE))","v":""}]
[null,{"$f":"IF($D416=\"\",\"\",VLOOKUP($D416,Lists!$BM$2:$BO$78,2,FALSE))","v":""},{"$f":"IF($D416=\"\",\"\",VLOOKUP($D416,Lists!$BM$2:$BO$78,3,FALSE))","v":""}]
[null,{"$f":"IF($D417=\"\",\"\",VLOOKUP($D417,Lists!$BM$2:$BO$78,2,FALSE))","v":""},{"$f":"IF($D417=\"\",\"\",VLOOKUP($D417,Lists!$BM$2:$BO$78,3,FALSE))","v":""}]
[null,{"$f":"IF($D418=\"\",\"\",VLOOKUP($D418,Lists!$BM$2:$BO$78,2,FALSE))","v":""},{"$f":"IF($D418=\"\",\"\",VLOOKUP($D418,Lists!$BM$2:$BO$78,3,FALSE))","v":""}]
[null,{"$f":"IF($D419=\"\",\"\",VLOOKUP($D419,Lists!$BM$2:$BO$78,2,FALSE))","v":""},{"$f":"IF($D419=\"\",\"\",VLOOKUP($D419,Lists!$BM$2:$BO$78,3,FALSE))","v":""}]
[null,{"$f":"IF($D420=\"\",\"\",VLOOKUP($D420,Lists!$BM$2:$BO$78,2,FALSE))","v":""},{"$f":"IF($D420=\"\",\"\",VLOOKUP($D420,Lists!$BM$2:$BO$78,3,FALSE))","v":""}]
[null,{"$f":"IF($D421=\"\",\"\",VLOOKUP($D421,Lists!$BM$2:$BO$78,2,FALSE))","v":""},{"$f":"IF($D421=\"\",\"\",VLOOKUP($D421,Lists!$BM$2:$BO$78,3,FALSE))","v":""}]
[null,{"$f":"IF($D422=\"\",\"\",VLOOKUP($D422,Lists!$BM$2:$BO$78,2,FALSE))","v":""},{"$f":"IF($D422=\"\",\"\",VLOOKUP($D422,Lists!$BM$2:$BO$78,3,FALSE))","v":""}]
[null,{"$f":"IF($D423=\"\",\"\",VLOOKUP($D423,Lists!$BM$2:$BO$78,2,FALSE))","v":""},{"$f":"IF($D423=\"\",\"\",VLOOKUP($D423,Lists!$BM$2:$BO$78,3,FALSE))","v":""}]
[null,{"$f":"IF($D424=\"\",\"\",VLOOKUP($D424,Lists!$BM$2:$BO$78,2,FALSE))","v":""},{"$f":"IF($D424=\"\",\"\",VLOOKUP($D424,Lists!$BM$2:$BO$78,3,FALSE))","v":""}]
[null,{"$f":"IF($D425=\"\",\"\",VLOOKUP($D425,Lists!$BM$2:$BO$78,2,FALSE))","v":""},{"$f":"IF($D425=\"\",\"\",VLOOKUP($D425,Lists!$BM$2:$BO$78,3,FALSE))","v":""}]
[null,{"$f":"IF($D426=\"\",\"\",VLOOKUP($D426,Lists!$BM$2:$BO$78,2,FALSE))","v":""},{"$f":"IF($D426=\"\",\"\",VLOOKUP($D426,Lists!$BM$2:$BO$78,3,FALSE))","v":""}]
[null,{"$f":"IF($D427=\"\",\"\",VLOOKUP($D427,Lists!$BM$2:$BO$78,2,FALSE))","v":""},{"$f":"IF($D427=\"\",\"\",VLOOKUP($D427,Lists!$BM$2:$BO$78,3,FALSE))","v":""}]
[null,{"$f":"IF($D428=\"\",\"\",VLOOKUP($D428,Lists!$BM$2:$BO$78,2,FALSE))","v":""},{"$f":"IF($D428=\"\",\"\",VLOOKUP($D428,Lists!$BM$2:$BO$78,3,FALSE))","v":""}]
[null,{"$f":"IF($D429=\"\",\"\",VLOOKUP($D429,Lists!$BM$2:$BO$78,2,FALSE))","v":""},{"$f":"IF($D429=\"\",\"\",VLOOKUP($D429,Lists!$BM$2:$BO$78,3,FALSE))","v":""}]
[null,{"$f":"IF($D430=\"\",\"\",VLOOKUP($D430,Lists!$BM$2:$BO$78,2,FALSE))","v":""},{"$f":"IF($D430=\"\",\"\",VLOOKUP($D430,Lists!$BM$2:$BO$78,3,FALSE))","v":""}]
[null,{"$f":"IF($D431=\"\",\"\",VLOOKUP($D431,Lists!$BM$2:$BO$78,2,FALSE))","v":""},{"$f":"IF($D431=\"\",\"\",VLOOKUP($D431,Lists!$BM$2:$BO$78,3,FALSE))","v":""}]
[null,{"$f":"IF($D432=\"\",\"\",VLOOKUP($D432,Lists!$BM$2:$BO$78,2,FALSE))","v":""},{"$f":"IF($D432=\"\",\"\",VLOOKUP($D432,Lists!$BM$2:$BO$78,3,FALSE))","v":""}]
[null,{"$f":"IF($D433=\"\",\"\",VLOOKUP($D433,Lists!$BM$2:$BO$78,2,FALSE))","v":""},{"$f":"IF($D433=\"\",\"\",VLOOKUP($D433,Lists!$BM$2:$BO$78,3,FALSE))","v":""}]
[null,{"$f":"IF($D434=\"\",\"\",VLOOKUP($D434,Lists!$BM$2:$BO$78,2,FALSE))","v":""},{"$f":"IF($D434=\"\",\"\",VLOOKUP($D434,Lists!$BM$2:$BO$78,3,FALSE))","v":""}]
[null,{"$f":"IF($D435=\"\",\"\",VLOOKUP($D435,Lists!$BM$2:$BO$78,2,FALSE))","v":""},{"$f":"IF($D435=\"\",\"\",VLOOKUP($D435,Lists!$BM$2:$BO$78,3,FALSE))","v":""}]
[null,{"$f":"IF($D436=\"\",\"\",VLOOKUP($D436,Lists!$BM$2:$BO$78,2,FALSE))","v":""},{"$f":"IF($D436=\"\",\"\",VLOOKUP($D436,Lists!$BM$2:$BO$78,3,FALSE))","v":""}]
[null,{"$f":"IF($D437=\"\",\"\",VLOOKUP($D437,Lists!$BM$2:$BO$78,2,FALSE))","v":""},{"$f":"IF($D437=\"\",\"\",VLOOKUP($D437,Lists!$BM$2:$BO$78,3,FALSE))","v":""}]
[null,{"$f":"IF($D438=\"\",\"\",VLOOKUP($D438,Lists!$BM$2:$BO$78,2,FALSE))","v":""},{"$f":"IF($D438=\"\",\"\",VLOOKUP($D438,Lists!$BM$2:$BO$78,3,FALSE))","v":""}]
[null,{"$f":"IF($D439=\"\",\"\",VLOOKUP($D439,Lists!$BM$2:$BO$78,2,FALSE))","v":""},{"$f":"IF($D439=\"\",\"\",VLOOKUP($D439,Lists!$BM$2:$BO$78,3,FALSE))","v":""}]
[null,{"$f":"IF($D440=\"\",\"\",VLOOKUP($D440,Lists!$BM$2:$BO$78,2,FALSE))","v":""},{"$f":"IF($D440=\"\",\"\",VLOOKUP($D440,Lists!$BM$2:$BO$78,3,FALSE))","v":""}]
[null,{"$f":"IF($D441=\"\",\"\",VLOOKUP($D441,Lists!$BM$2:$BO$78,2,FALSE))","v":""},{"$f":"IF($D441=\"\",\"\",VLOOKUP($D441,Lists!$BM$2:$BO$78,3,FALSE))","v":""}]
[null,{"$f":"IF($D442=\"\",\"\",VLOOKUP($D442,Lists!$BM$2:$BO$78,2,FALSE))","v":""},{"$f":"IF($D442=\"\",\"\",VLOOKUP($D442,Lists!$BM$2:$BO$78,3,FALSE))","v":""}]
[null,{"$f":"IF($D443=\"\",\"\",VLOOKUP($D443,Lists!$BM$2:$BO$78,2,FALSE))","v":""},{"$f":"IF($D443=\"\",\"\",VLOOKUP($D443,Lists!$BM$2:$BO$78,3,FALSE))","v":""}]
[null,{"$f":"IF($D444=\"\",\"\",VLOOKUP($D444,Lists!$BM$2:$BO$78,2,FALSE))","v":""},{"$f":"IF($D444=\"\",\"\",VLOOKUP($D444,Lists!$BM$2:$BO$78,3,FALSE))","v":""}]
[null,{"$f":"IF($D445=\"\",\"\",VLOOKUP($D445,Lists!$BM$2:$BO$78,2,FALSE))","v":""},{"$f":"IF($D445=\"\",\"\",VLOOKUP($D445,Lists!$BM$2:$BO$78,3,FALSE))","v":""}]
[null,{"$f":"IF($D446=\"\",\"\",VLOOKUP($D446,Lists!$BM$2:$BO$78,2,FALSE))","v":""},{"$f":"IF($D446=\"\",\"\",VLOOKUP($D446,Lists!$BM$2:$BO$78,3,FALSE))","v":""}]
[null,{"$f":"IF($D447=\"\",\"\",VLOOKUP($D447,Lists!$BM$2:$BO$78,2,FALSE))","v":""},{"$f":"IF($D447=\"\",\"\",VLOOKUP($D447,Lists!$BM$2:$BO$78,3,FALSE))","v":""}]
[null,{"$f":"IF($D448=\"\",\"\",VLOOKUP($D448,Lists!$BM$2:$BO$78,2,FALSE))","v":""},{"$f":"IF($D448=\"\",\"\",VLOOKUP($D448,Lists!$BM$2:$BO$78,3,FALSE))","v":""}]
[null,{"$f":"IF($D449=\"\",\"\",VLOOKUP($D449,Lists!$BM$2:$BO$78,2,FALSE))","v":""},{"$f":"IF($D449=\"\",\"\",VLOOKUP($D449,Lists!$BM$2:$BO$78,3,FALSE))","v":""}]
[null,{"$f":"IF($D450=\"\",\"\",VLOOKUP($D450,Lists!$BM$2:$BO$78,2,FALSE))","v":""},{"$f":"IF($D450=\"\",\"\",VLOOKUP($D450,Lists!$BM$2:$BO$78,3,FALSE))","v":""}]
[null,{"$f":"IF($D451=\"\",\"\",VLOOKUP($D451,Lists!$BM$2:$BO$78,2,FALSE))","v":""},{"$f":"IF($D451=\"\",\"\",VLOOKUP($D451,Lists!$BM$2:$BO$78,3,FALSE))","v":""}]
[null,{"$f":"IF($D452=\"\",\"\",VLOOKUP($D452,Lists!$BM$2:$BO$78,2,FALSE))","v":""},{"$f":"IF($D452=\"\",\"\",VLOOKUP($D452,Lists!$BM$2:$BO$78,3,FALSE))","v":""}]
[null,{"$f":"IF($D453=\"\",\"\",VLOOKUP($D453,Lists!$BM$2:$BO$78,2,FALSE))","v":""},{"$f":"IF($D453=\"\",\"\",VLOOKUP($D453,Lists!$BM$2:$BO$78,3,FALSE))","v":""}]
[null,{"$f":"IF($D454=\"\",\"\",VLOOKUP($D454,Lists!$BM$2:$BO$78,2,FALSE))","v":""},{"$f":"IF($D454=\"\",\"\",VLOOKUP($D454,Lists!$BM$2:$BO$78,3,FALSE))","v":""}]
[null,{"$f":"IF($D455=\"\",\"\",VLOOKUP($D455,Lists!$BM$2:$BO$78,2,FALSE))","v":""},{"$f":"IF($D455=\"\",\"\",VLOOKUP($D455,Lists!$BM$2:$BO$78,3,FALSE))","v":""}]
[null,{"$f":"IF($D456=\"\",\"\",VLOOKUP($D456,Lists!$BM$2:$BO$78,2,FALSE))","v":""},{"$f":"IF($D456=\"\",\"\",VLOOKUP($D456,Lists!$BM$2:$BO$78,3,FALSE))","v":""}]
[null,{"$f":"IF($D457=\"\",\"\",VLOOKUP($D457,Lists!$BM$2:$BO$78,2,FALSE))","v":""},{"$f":"IF($D457=\"\",\"\",VLOOKUP($D457,Lists!$BM$2:$BO$78,3,FALSE))","v":""}]
[null,{"$f":"IF($D458=\"\",\"\",VLOOKUP($D458,Lists!$BM$2:$BO$78,2,FALSE))","v":""},{"$f":"IF($D458=\"\",\"\",VLOOKUP($D458,Lists!$BM$2:$BO$78,3,FALSE))","v":""}]
[null,{"$f":"IF($D459=\"\",\"\",VLOOKUP($D459,Lists!$BM$2:$BO$78,2,FALSE))","v":""},{"$f":"IF($D459=\"\",\"\",VLOOKUP($D459,Lists!$BM$2:$BO$78,3,FALSE))","v":""}]
[null,{"$f":"IF($D460=\"\",\"\",VLOOKUP($D460,Lists!$BM$2:$BO$78,2,FALSE))","v":""},{"$f":"IF($D460=\"\",\"\",VLOOKUP($D460,Lists!$BM$2:$BO$78,3,FALSE))","v":""}]
[null,{"$f":"IF($D461=\"\",\"\",VLOOKUP($D461,Lists!$BM$2:$BO$78,2,FALSE))","v":""},{"$f":"IF($D461=\"\",\"\",VLOOKUP($D461,Lists!$BM$2:$BO$78,3,FALSE))","v":""}]
[null,{"$f":"IF($D462=\"\",\"\",VLOOKUP($D462,Lists!$BM$2:$BO$78,2,FALSE))","v":""},{"$f":"IF($D462=\"\",\"\",VLOOKUP($D462,Lists!$BM$2:$BO$78,3,FALSE))","v":""}]
[null,{"$f":"IF($D463=\"\",\"\",VLOOKUP($D463,Lists!$BM$2:$BO$78,2,FALSE))","v":""},{"$f":"IF($D463=\"\",\"\",VLOOKUP($D463,Lists!$BM$2:$BO$78,3,FALSE))","v":""}]
[null,{"$f":"IF($D464=\"\",\"\",VLOOKUP($D464,Lists!$BM$2:$BO$78,2,FALSE))","v":""},{"$f":"IF($D464=\"\",\"\",VLOOKUP($D464,Lists!$BM$2:$BO$78,3,FALSE))","v":""}]
[null,{"$f":"IF($D465=\"\",\"\",VLOOKUP($D465,Lists!$BM$2:$BO$78,2,FALSE))","v":""},{"$f":"IF($D465=\"\",\"\",VLOOKUP($D465,Lists!$BM$2:$BO$78,3,FALSE))","v":""}]
[null,{"$f":"IF($D466=\"\",\"\",VLOOKUP($D466,Lists!$BM$2:$BO$78,2,FALSE))","v":""},{"$f":"IF($D466=\"\",\"\",VLOOKUP($D466,Lists!$BM$2:$BO$78,3,FALSE))","v":""}]
[null,{"$f":"IF($D467=\"\",\"\",VLOOKUP($D467,Lists!$BM$2:$BO$78,2,FALSE))","v":""},{"$f":"IF($D467=\"\",\"\",VLOOKUP($D467,Lists!$BM$2:$BO$78,3,FALSE))","v":""}]
[null,{"$f":"IF($D468=\"\",\"\",VLOOKUP($D468,Lists!$BM$2:$BO$78,2,FALSE))","v":""},{"$f":"IF($D468=\"\",\"\",VLOOKUP($D468,Lists!$BM$2:$BO$78,3,FALSE))","v":""}]
[null,{"$f":"IF($D469=\"\",\"\",VLOOKUP($D469,Lists!$BM$2:$BO$78,2,FALSE))","v":""},{"$f":"IF($D469=\"\",\"\",VLOOKUP($D469,Lists!$BM$2:$BO$78,3,FALSE))","v":""}]
[null,{"$f":"IF($D470=\"\",\"\",VLOOKUP($D470,Lists!$BM$2:$BO$78,2,FALSE))","v":""},{"$f":"IF($D470=\"\",\"\",VLOOKUP($D470,Lists!$BM$2:$BO$78,3,FALSE))","v":""}]
[null,{"$f":"IF($D471=\"\",\"\",VLOOKUP($D471,Lists!$BM$2:$BO$78,2,FALSE))","v":""},{"$f":"IF($D471=\"\",\"\",VLOOKUP($D471,Lists!$BM$2:$BO$78,3,FALSE))","v":""}]
[null,{"$f":"IF($D472=\"\",\"\",VLOOKUP($D472,Lists!$BM$2:$BO$78,2,FALSE))","v":""},{"$f":"IF($D472=\"\",\"\",VLOOKUP($D472,Lists!$BM$2:$BO$78,3,FALSE))","v":""}]
[null,{"$f":"IF($D473=\"\",\"\",VLOOKUP($D473,Lists!$BM$2:$BO$78,2,FALSE))","v":""},{"$f":"IF($D473=\"\",\"\",VLOOKUP($D473,Lists!$BM$2:$BO$78,3,FALSE))","v":""}]
[null,{"$f":"IF($D474=\"\",\"\",VLOOKUP($D474,Lists!$BM$2:$BO$78,2,FALSE))","v":""},{"$f":"IF($D474=\"\",\"\",VLOOKUP($D474,Lists!$BM$2:$BO$78,3,FALSE))","v":""}]
[null,{"$f":"IF($D475=\"\",\"\",VLOOKUP($D475,Lists!$BM$2:$BO$78,2,FALSE))","v":""},{"$f":"IF($D475=\"\",\"\",VLOOKUP($D475,Lists!$BM$2:$BO$78,3,FALSE))","v":""}]
[null,{"$f":"IF($D476=\"\",\"\",VLOOKUP($D476,Lists!$BM$2:$BO$78,2,FALSE))","v":""},{"$f":"IF($D476=\"\",\"\",VLOOKUP($D476,Lists!$BM$2:$BO$78,3,FALSE))","v":""}]
[null,{"$f":"IF($D477=\"\",\"\",VLOOKUP($D477,Lists!$BM$2:$BO$78,2,FALSE))","v":""},{"$f":"IF($D477=\"\",\"\",VLOOKUP($D477,Lists!$BM$2:$BO$78,3,FALSE))","v":""}]
[null,{"$f":"IF($D478=\"\",\"\",VLOOKUP($D478,Lists!$BM$2:$BO$78,2,FALSE))","v":""},{"$f":"IF($D478=\"\",\"\",VLOOKUP($D478,Lists!$BM$2:$BO$78,3,FALSE))","v":""}]
[null,{"$f":"IF($D479=\"\",\"\",VLOOKUP($D479,Lists!$BM$2:$BO$78,2,FALSE))","v":""},{"$f":"IF($D479=\"\",\"\",VLOOKUP($D479,Lists!$BM$2:$BO$78,3,FALSE))","v":""}]
[null,{"$f":"IF($D480=\"\",\"\",VLOOKUP($D480,Lists!$BM$2:$BO$78,2,FALSE))","v":""},{"$f":"IF($D480=\"\",\"\",VLOOKUP($D480,Lists!$BM$2:$BO$78,3,FALSE))","v":""}]
[null,{"$f":"IF($D481=\"\",\"\",VLOOKUP($D481,Lists!$BM$2:$BO$78,2,FALSE))","v":""},{"$f":"IF($D481=\"\",\"\",VLOOKUP($D481,Lists!$BM$2:$BO$78,3,FALSE))","v":""}]
[null,{"$f":"IF($D482=\"\",\"\",VLOOKUP($D482,Lists!$BM$2:$BO$78,2,FALSE))","v":""},{"$f":"IF($D482=\"\",\"\",VLOOKUP($D482,Lists!$BM$2:$BO$78,3,FALSE))","v":""}]
[null,{"$f":"IF($D483=\"\",\"\",VLOOKUP($D483,Lists!$BM$2:$BO$78,2,FALSE))","v":""},{"$f":"IF($D483=\"\",\"\",VLOOKUP($D483,Lists!$BM$2:$BO$78,3,FALSE))","v":""}]
[null,{"$f":"IF($D484=\"\",\"\",VLOOKUP($D484,Lists!$BM$2:$BO$78,2,FALSE))","v":""},{"$f":"IF($D484=\"\",\"\",VLOOKUP($D484,Lists!$BM$2:$BO$78,3,FALSE))","v":""}]
[null,{"$f":"IF($D485=\"\",\"\",VLOOKUP($D485,Lists!$BM$2:$BO$78,2,FALSE))","v":""},{"$f":"IF($D485=\"\",\"\",VLOOKUP($D485,Lists!$BM$2:$BO$78,3,FALSE))","v":""}]
[null,{"$f":"IF($D486=\"\",\"\",VLOOKUP($D486,Lists!$BM$2:$BO$78,2,FALSE))","v":""},{"$f":"IF($D486=\"\",\"\",VLOOKUP($D486,Lists!$BM$2:$BO$78,3,FALSE))","v":""}]
[null,{"$f":"IF($D487=\"\",\"\",VLOOKUP($D487,Lists!$BM$2:$BO$78,2,FALSE))","v":""},{"$f":"IF($D487=\"\",\"\",VLOOKUP($D487,Lists!$BM$2:$BO$78,3,FALSE))","v":""}]
[null,{"$f":"IF($D488=\"\",\"\",VLOOKUP($D488,Lists!$BM$2:$BO$78,2,FALSE))","v":""},{"$f":"IF($D488=\"\",\"\",VLOOKUP($D488,Lists!$BM$2:$BO$78,3,FALSE))","v":""}]
[null,{"$f":"IF($D489=\"\",\"\",VLOOKUP($D489,Lists!$BM$2:$BO$78,2,FALSE))","v":""},{"$f":"IF($D489=\"\",\"\",VLOOKUP($D489,Lists!$BM$2:$BO$78,3,FALSE))","v":""}]
[null,{"$f":"IF($D490=\"\",\"\",VLOOKUP($D490,Lists!$BM$2:$BO$78,2,FALSE))","v":""},{"$f":"IF($D490=\"\",\"\",VLOOKUP($D490,Lists!$BM$2:$BO$78,3,FALSE))","v":""}]
[null,{"$f":"IF($D491=\"\",\"\",VLOOKUP($D491,Lists!$BM$2:$BO$78,2,FALSE))","v":""},{"$f":"IF($D491=\"\",\"\",VLOOKUP($D491,Lists!$BM$2:$BO$78,3,FALSE))","v":""}]
[null,{"$f":"IF($D492=\"\",\"\",VLOOKUP($D492,Lists!$BM$2:$BO$78,2,FALSE))","v":""},{"$f":"IF($D492=\"\",\"\",VLOOKUP($D492,Lists!$BM$2:$BO$78,3,FALSE))","v":""}]
[null,{"$f":"IF($D493=\"\",\"\",VLOOKUP($D493,Lists!$BM$2:$BO$78,2,FALSE))","v":""},{"$f":"IF($D493=\"\",\"\",VLOOKUP($D493,Lists!$BM$2:$BO$78,3,FALSE))","v":""}]
[null,{"$f":"IF($D494=\"\",\"\",VLOOKUP($D494,Lists!$BM$2:$BO$78,2,FALSE))","v":""},{"$f":"IF($D494=\"\",\"\",VLOOKUP($D494,Lists!$BM$2:$BO$78,3,FALSE))","v":""}]
[null,{"$f":"IF($D495=\"\",\"\",VLOOKUP($D495,Lists!$BM$2:$BO$78,2,FALSE))","v":""},{"$f":"IF($D495=\"\",\"\",VLOOKUP($D495,Lists!$BM$2:$BO$78,3,FALSE))","v":""}]
[null,{"$f":"IF($D496=\"\",\"\",VLOOKUP($D496,Lists!$BM$2:$BO$78,2,FALSE))","v":""},{"$f":"IF($D496=\"\",\"\",VLOOKUP($D496,Lists!$BM$2:$BO$78,3,FALSE))","v":""}]
[null,{"$f":"IF($D497=\"\",\"\",VLOOKUP($D497,Lists!$BM$2:$BO$78,2,FALSE))","v":""},{"$f":"IF($D497=\"\",\"\",VLOOKUP($D497,Lists!$BM$2:$BO$78,3,FALSE))","v":""}]
[null,{"$f":"IF($D498=\"\",\"\",VLOOKUP($D498,Lists!$BM$2:$BO$78,2,FALSE))","v":""},{"$f":"IF($D498=\"\",\"\",VLOOKUP($D498,Lists!$BM$2:$BO$78,3,FALSE))","v":""}]
[null,{"$f":"IF($D499=\"\",\"\",VLOOKUP($D499,Lists!$BM$2:$BO$78,2,FALSE))","v":""},{"$f":"IF($D499=\"\",\"\",VLOOKUP($D499,Lists!$BM$2:$BO$78,3,FALSE))","v":""}]
[null,{"$f":"IF($D500=\"\",\"\",VLOOKUP($D500,Lists!$BM$2:$BO$78,2,FALSE))","v":""},{"$f":"IF($D500=\"\",\"\",VLOOKUP($D500,Lists!$BM$2:$BO$78,3,FALSE))","v":""}]

{"sheet":"Limit_Deviation_Summary","index":9,"n_rows":707,"n_cols":12,"rows_kept":707,"cut":false,"hidden":false,"merged":[]}
[null,"DO NOT REMOVE OR EDIT INFORMATION IN ROWS 1 THROUGH 5\nFOR INTERNAL USE ONLY"]
[null,"Template Name",null,{"$f":"+Welcome!B2","v":"63.7751(a) Semiannual Compliance Report (Spreadsheet Template)"}]
[null,"CitationID",null,{"$f":"+Welcome!B3","v":"63.7751(a)"}]
[null,"Template Version",null,{"$f":"+Welcome!B4","v":"v1.00"}]
[null,"Last Updated Date",null,{"$f":"+Welcome!B5","v":44008}]
[null,{"$f":"Welcome!B6","v":"OMB No.: 2060-0543 Expiration Date: 11/30/2019"}]
[null,"40 CFR Part 63, Subpart EEEEE National Emission Standards for Hazardous Air Pollutants: Iron and Steel Foundries - "]
[null,"§63.7751(b) Semiannual Compliance Report Spreadsheet Template"]
[]
[]
[null,"* Required Field"]
[null,"Company Record No.  *\n(Autocompleted)","Affected Source or Equipment  *\n(§63.7751(b)(7)(i))\n(Autocompleted)","Emission Limitation or Work Practice Deviated From *\n(§63.7751(b)(7)(ii))\n(Autocompleted)","Total Source\nOperating Time *\n(hours)\n(§63.7751(b)(7)(i))\n(Autocompleted)","Total Duration of \nDeviations from \nEmission Limitation or Work Practice *\n(hours) \n(§63.7751(b)(7)(iii))\n(Calculated value)","Total Duration of \nDeviations from\nEmission Limitation or Work Practice *\n as a per cent of \nTotal Source Operating Time *\n(§63.7751(b)(7)(iii))\n(Calculated value)","Total Duration of \nDeviations from \nEmission Limitation or Work Practice Due to \nStartup/Shutdown *\n(hours) \n(§63.7751(b)(7)(iii))\n(Calculated value)","Total Duration of \nDeviations from \nEmission Limitation or Work Practice Due to \nControl Equipment Problems *\n(hours) \n(§63.7751(b)(7)(iii))\n(Calculated value)","Total Duration of \nDeviations from\nEmission Limitation or Work Practice Due to \nProcess Problems *\n(hours) \n(§63.7751(b)(7)(iii))\n(Calculated value)","Total Duration of\nDeviations from \nEmission or\nOpacity Limits Due to \nOther Known Causes *\n(hours) \n(§63.7751(b)(7)(iii))\n(Calculated value)","Total Duration of Deviations from Emission or Opacity Limits Due to Unknown Causes * \n(hours) \n(§63.7751(b)(7)(iii))\n(Calculated value)"]
[null,"RecordId","AffectedSource_LimitSummary","DeviceDeviationBypass_LimitSummary","TotalOperatingTime_LimitSummary","TotalDeviationDuration_LimitSummary","TotalDeviationPercent_LimitSummary","StartupCausedDeviation_LimitSummary","EquipmentCausedDeviation_LimitSummary","ProcessCausedDeviation_LimitSummary","OtherCausedDeviation_LimitSummary","UnknownCausedDeviation_LimitSummary"]
[null,"e.g.: 1","e.g.: Line 1","e.g.:  Particulate Matter","e.g.: 6240.00","e.g.: 36.20","e.g.: 0.58%","e.g.: 36.2","e.g.: 36.2","e.g.: 0","e.g.: 0","e.g.: 0"]
[]
[]
[]
[]
[]
[]
[]
[]
[]
[null,{"$f":"IF(Lists!Z2=\"\",\"\",Lists!Z2)","v":""},{"$f":"IF(Lists!AA2=\"\",\"\",Lists!AA2)","v":""},{"$f":"IF(Lists!AB2=\"\",\"\",Lists!AB2)","v":""},{"$f":"IF(Lists!AC2=\"\",\"\",Lists!AD2)","v":""},{"$f":"IF(E24=\"\",\"\",SUM(H24:L24))","v":""},{"$f":"IF($E24=\"\",\"\",IF(F24=0,\"N/A\",IF(D24=\"Opacity\", F24/60,F24)/$E24))","v":""},{"$f":"IF($E24=\"\",\"\",SUMIFS(Limit_Deviation_Detail!$H$24:$H$5800,Limit_Deviation_Detail!$B$24:$B$5800,B24,Limit_Deviation_Detail!$C$24:$C$5800,C24,Limit_Deviation_Detail!$E$24:$E$5800,D24,Limit_Deviation_Detail!$I$24:$I$5800,\"Startup/Shutdown\"))","v":""},{"$f":"IF($E24=\"\",\"\",SUMIFS(Limit_Deviation_Detail!$H$24:$H$5800,Limit_Deviation_Detail!$B$24:$B$5800,B24,Limit_Deviation_Detail!$C$24:$C$5800,C24,Limit_Deviation_Detail!$E$24:$E$5800,D24,Limit_Deviation_Detail!$I$24:$I$5800,\"Control Equipment Problems\"))","v":""},{"$f":"IF($E24=\"\",\"\",SUMIFS(Limit_Deviation_Detail!$H$24:$H$5800,Limit_Deviation_Detail!$B$24:$B$5800,B24,Limit_Deviation_Detail!$C$24:$C$5800,C24,Limit_Deviation_Detail!$E$24:$E$5800,D24,Limit_Deviation_Detail!$I$24:$I$5800,\"Process Problems\"))","v":""},{"$f":"IF($E24=\"\",\"\",SUMIFS(Limit_Deviation_Detail!$H$24:$H$5800,Limit_Deviation_Detail!$B$24:$B$5800,B24,Limit_Deviation_Detail!$C$24:$C$5800,C24,Limit_Deviation_Detail!$E$24:$E$5800,D24,Limit_Deviation_Detail!$I$24:$I$5800,\"Other Known Causes\"))","v":""},{"$f":"IF($E24=\"\",\"\",SUMIFS(Limit_Deviation_Detail!$H$24:$H$5800,Limit_Deviation_Detail!$B$24:$B$5800,B24,Limit_Deviation_Detail!$C$24:$C$5800,C24,Limit_Deviation_Detail!$E$24:$E$5800,D24,Limit_Deviation_Detail!$I$24:$I$5800,\"Unknown Causes\"))","v":""}]
[null,{"$f":"IF(Lists!Z3=\"\",\"\",Lists!Z3)","v":""},{"$f":"IF(Lists!AA3=\"\",\"\",Lists!AA3)","v":""},{"$f":"IF(Lists!AB3=\"\",\"\",Lists!AB3)","v":""},{"$f":"IF(Lists!AC3=\"\",\"\",Lists!AD3)","v":""},"",{"$f":"IF($E25=\"\",\"\",IF(F25=0,\"N/A\",IF(D25=\"Opacity\", F25/60,F25)/$E25))","v":""},{"$f":"IF($E25=\"\",\"\",SUMIFS(Limit_Deviation_Detail!$H$24:$H$5800,Limit_Deviation_Detail!$B$24:$B$5800,B25,Limit_Deviation_Detail!$C$24:$C$5800,C25,Limit_Deviation_Detail!$E$24:$E$5800,D25,Limit_Deviation_Detail!$I$24:$I$5800,\"Startup/Shutdown\"))","v":""},{"$f":"IF($E25=\"\",\"\",SUMIFS(Limit_Deviation_Detail!$H$24:$H$5800,Limit_Deviation_Detail!$B$24:$B$5800,B25,Limit_Deviation_Detail!$C$24:$C$5800,C25,Limit_Deviation_Detail!$E$24:$E$5800,D25,Limit_Deviation_Detail!$I$24:$I$5800,\"Control Equipment Problems\"))","v":""},{"$f":"IF($E25=\"\",\"\",SUMIFS(Limit_Deviation_Detail!$H$24:$H$5800,Limit_Deviation_Detail!$B$24:$B$5800,B25,Limit_Deviation_Detail!$C$24:$C$5800,C25,Limit_Deviation_Detail!$E$24:$E$5800,D25,Limit_Deviation_Detail!$I$24:$I$5800,\"Process Problems\"))","v":""},{"$f":"IF($E25=\"\",\"\",SUMIFS(Limit_Deviation_Detail!$H$24:$H$5800,Limit_Deviation_Detail!$B$24:$B$5800,B25,Limit_Deviation_Detail!$C$24:$C$5800,C25,Limit_Deviation_Detail!$E$24:$E$5800,D25,Limit_Deviation_Detail!$I$24:$I$5800,\"Other Known Causes\"))","v":""},{"$f":"IF($E25=\"\",\"\",SUMIFS(Limit_Deviation_Detail!$H$24:$H$5800,Limit_Deviation_Detail!$B$24:$B$5800,B25,Limit_Deviation_Detail!$C$24:$C$5800,C25,Limit_Deviation_Detail!$E$24:$E$5800,D25,Limit_Deviation_Detail!$I$24:$I$5800,\"Unknown Causes\"))","v":""}]
[null,{"$f":"IF(Lists!Z4=\"\",\"\",Lists!Z4)","v":""},{"$f":"IF(Lists!AA4=\"\",\"\",Lists!AA4)","v":""},{"$f":"IF(Lists!AB4=\"\",\"\",Lists!AB4)","v":""},{"$f":"IF(Lists!AC4=\"\",\"\",Lists!AD4)","v":""},"","",{"$f":"IF($E26=\"\",\"\",SUMIFS(Limit_Deviation_Detail!$H$24:$H$5800,Limit_Deviation_Detail!$B$24:$B$5800,B26,Limit_Deviation_Detail!$C$24:$C$5800,C26,Limit_Deviation_Detail!$E$24:$E$5800,D26,Limit_Deviation_Detail!$I$24:$I$5800,\"Startup/Shutdown\"))","v":""},{"$f":"IF($E26=\"\",\"\",SUMIFS(Limit_Deviation_Detail!$H$24:$H$5800,Limit_Deviation_Detail!$B$24:$B$5800,B26,Limit_Deviation_Detail!$C$24:$C$5800,C26,Limit_Deviation_Detail!$E$24:$E$5800,D26,Limit_Deviation_Detail!$I$24:$I$5800,\"Control Equipment Problems\"))","v":""},{"$f":"IF($E26=\"\",\"\",SUMIFS(Limit_Deviation_Detail!$H$24:$H$5800,Limit_Deviation_Detail!$B$24:$B$5800,B26,Limit_Deviation_Detail!$C$24:$C$5800,C26,Limit_Deviation_Detail!$E$24:$E$5800,D26,Limit_Deviation_Detail!$I$24:$I$5800,\"Process Problems\"))","v":""},{"$f":"IF($E26=\"\",\"\",SUMIFS(Limit_Deviation_Detail!$H$24:$H$5800,Limit_Deviation_Detail!$B$24:$B$5800,B26,Limit_Deviation_Detail!$C$24:$C$5800,C26,Limit_Deviation_Detail!$E$24:$E$5800,D26,Limit_Deviation_Detail!$I$24:$I$5800,\"Other Known Causes\"))","v":""},{"$f":"IF($E26=\"\",\"\",SUMIFS(Limit_Deviation_Detail!$H$24:$H$5800,Limit_Deviation_Detail!$B$24:$B$5800,B26,Limit_Deviation_Detail!$C$24:$C$5800,C26,Limit_Deviation_Detail!$E$24:$E$5800,D26,Limit_Deviation_Detail!$I$24:$I$5800,\"Unknown Causes\"))","v":""}]
[null,{"$f":"IF(Lists!Z5=\"\",\"\",Lists!Z5)","v":""},{"$f":"IF(Lists!AA5=\"\",\"\",Lists!AA5)","v":""},{"$f":"IF(Lists!AB5=\"\",\"\",Lists!AB5)","v":""},{"$f":"IF(Lists!AC5=\"\",\"\",Lists!AD5)","v":""},"","",{"$f":"IF($E27=\"\",\"\",SUMIFS(Limit_Deviation_Detail!$H$24:$H$5800,Limit_Deviation_Detail!$B$24:$B$5800,B27,Limit_Deviation_Detail!$C$24:$C$5800,C27,Limit_Deviation_Detail!$E$24:$E$5800,D27,Limit_Deviation_Detail!$I$24:$I$5800,\"Startup/Shutdown\"))","v":""},{"$f":"IF($E27=\"\",\"\",SUMIFS(Limit_Deviation_Detail!$H$24:$H$5800,Limit_Deviation_Detail!$B$24:$B$5800,B27,Limit_Deviation_Detail!$C$24:$C$5800,C27,Limit_Deviation_Detail!$E$24:$E$5800,D27,Limit_Deviation_Detail!$I$24:$I$5800,\"Control Equipment Problems\"))","v":""},{"$f":"IF($E27=\"\",\"\",SUMIFS(Limit_Deviation_Detail!$H$24:$H$5800,Limit_Deviation_Detail!$B$24:$B$5800,B27,Limit_Deviation_Detail!$C$24:$C$5800,C27,Limit_Deviation_Detail!$E$24:$E$5800,D27,Limit_Deviation_Detail!$I$24:$I$5800,\"Process Problems\"))","v":""},{"$f":"IF($E27=\"\",\"\",SUMIFS(Limit_Deviation_Detail!$H$24:$H$5800,Limit_Deviation_Detail!$B$24:$B$5800,B27,Limit_Deviation_Detail!$C$24:$C$5800,C27,Limit_Deviation_Detail!$E$24:$E$5800,D27,Limit_Deviation_Detail!$I$24:$I$5800,\"Other Known Causes\"))","v":""},{"$f":"IF($E27=\"\",\"\",SUMIFS(Limit_Deviation_Detail!$H$24:$H$5800,Limit_Deviation_Detail!$B$24:$B$5800,B27,Limit_Deviation_Detail!$C$24:$C$5800,C27,Limit_Deviation_Detail!$E$24:$E$5800,D27,Limit_Deviation_Detail!$I$24:$I$5800,\"Unknown Causes\"))","v":""}]
[null,{"$f":"IF(Lists!Z6=\"\",\"\",Lists!Z6)","v":""},{"$f":"IF(Lists!AA6=\"\",\"\",Lists!AA6)","v":""},{"$f":"IF(Lists!AB6=\"\",\"\",Lists!AB6)","v":""},{"$f":"IF(Lists!AC6=\"\",\"\",Lists!AD6)","v":""},"","",{"$f":"IF($E28=\"\",\"\",SUMIFS(Limit_Deviation_Detail!$H$24:$H$5800,Limit_Deviation_Detail!$B$24:$B$5800,B28,Limit_Deviation_Detail!$C$24:$C$5800,C28,Limit_Deviation_Detail!$E$24:$E$5800,D28,Limit_Deviation_Detail!$I$24:$I$5800,\"Startup/Shutdown\"))","v":""},{"$f":"IF($E28=\"\",\"\",SUMIFS(Limit_Deviation_Detail!$H$24:$H$5800,Limit_Deviation_Detail!$B$24:$B$5800,B28,Limit_Deviation_Detail!$C$24:$C$5800,C28,Limit_Deviation_Detail!$E$24:$E$5800,D28,Limit_Deviation_Detail!$I$24:$I$5800,\"Control Equipment Problems\"))","v":""},{"$f":"IF($E28=\"\",\"\",SUMIFS(Limit_Deviation_Detail!$H$24:$H$5800,Limit_Deviation_Detail!$B$24:$B$5800,B28,Limit_Deviation_Detail!$C$24:$C$5800,C28,Limit_Deviation_Detail!$E$24:$E$5800,D28,Limit_Deviation_Detail!$I$24:$I$5800,\"Process Problems\"))","v":""},{"$f":"IF($E28=\"\",\"\",SUMIFS(Limit_Deviation_Detail!$H$24:$H$5800,Limit_Deviation_Detail!$B$24:$B$5800,B28,Limit_Deviation_Detail!$C$24:$C$5800,C28,Limit_Deviation_Detail!$E$24:$E$5800,D28,Limit_Deviation_Detail!$I$24:$I$5800,\"Other Known Causes\"))","v":""},{"$f":"IF($E28=\"\",\"\",SUMIFS(Limit_Deviation_Detail!$H$24:$H$5800,Limit_Deviation_Detail!$B$24:$B$5800,B28,Limit_Deviation_Detail!$C$24:$C$5800,C28,Limit_Deviation_Detail!$E$24:$E$5800,D28,Limit_Deviation_Detail!$I$24:$I$5800,\"Unknown Causes\"))","v":""}]
[null,{"$f":"IF(Lists!Z7=\"\",\"\",Lists!Z7)","v":""},{"$f":"IF(Lists!AA7=\"\",\"\",Lists!AA7)","v":""},{"$f":"IF(Lists!AB7=\"\",\"\",Lists!AB7)","v":""},{"$f":"IF(Lists!AC7=\"\",\"\",Lists!AD7)","v":""},"","",{"$f":"IF($E29=\"\",\"\",SUMIFS(Limit_Deviation_Detail!$H$24:$H$5800,Limit_Deviation_Detail!$B$24:$B$5800,B29,Limit_Deviation_Detail!$C$24:$C$5800,C29,Limit_Deviation_Detail!$E$24:$E$5800,D29,Limit_Deviation_Detail!$I$24:$I$5800,\"Startup/Shutdown\"))","v":""},{"$f":"IF($E29=\"\",\"\",SUMIFS(Limit_Deviation_Detail!$H$24:$H$5800,Limit_Deviation_Detail!$B$24:$B$5800,B29,Limit_Deviation_Detail!$C$24:$C$5800,C29,Limit_Deviation_Detail!$E$24:$E$5800,D29,Limit_Deviation_Detail!$I$24:$I$5800,\"Control Equipment Problems\"))","v":""},{"$f":"IF($E29=\"\",\"\",SUMIFS(Limit_Deviation_Detail!$H$24:$H$5800,Limit_Deviation_Detail!$B$24:$B$5800,B29,Limit_Deviation_Detail!$C$24:$C$5800,C29,Limit_Deviation_Detail!$E$24:$E$5800,D29,Limit_Deviation_Detail!$I$24:$I$5800,\"Process Problems\"))","v":""},{"$f":"IF($E29=\"\",\"\",SUMIFS(Limit_Deviation_Detail!$H$24:$H$5800,Limit_Deviation_Detail!$B$24:$B$5800,B29,Limit_Deviation_Detail!$C$24:$C$5800,C29,Limit_Deviation_Detail!$E$24:$E$5800,D29,Limit_Deviation_Detail!$I$24:$I$5800,\"Other Known Causes\"))","v":""},{"$f":"IF($E29=\"\",\"\",SUMIFS(Limit_Deviation_Detail!$H$24:$H$5800,Limit_Deviation_Detail!$B$24:$B$5800,B29,Limit_Deviation_Detail!$C$24:$C$5800,C29,Limit_Deviation_Detail!$E$24:$E$5800,D29,Limit_Deviation_Detail!$I$24:$I$5800,\"Unknown Causes\"))","v":""}]
[null,{"$f":"IF(Lists!Z8=\"\",\"\",Lists!Z8)","v":""},{"$f":"IF(Lists!AA8=\"\",\"\",Lists!AA8)","v":""},{"$f":"IF(Lists!AB8=\"\",\"\",Lists!AB8)","v":""},{"$f":"IF(Lists!AC8=\"\",\"\",Lists!AD8)","v":""},"","",{"$f":"IF($E30=\"\",\"\",SUMIFS(Limit_Deviation_Detail!$H$24:$H$5800,Limit_Deviation_Detail!$B$24:$B$5800,B30,Limit_Deviation_Detail!$C$24:$C$5800,C30,Limit_Deviation_Detail!$E$24:$E$5800,D30,Limit_Deviation_Detail!$I$24:$I$5800,\"Startup/Shutdown\"))","v":""},{"$f":"IF($E30=\"\",\"\",SUMIFS(Limit_Deviation_Detail!$H$24:$H$5800,Limit_Deviation_Detail!$B$24:$B$5800,B30,Limit_Deviation_Detail!$C$24:$C$5800,C30,Limit_Deviation_Detail!$E$24:$E$5800,D30,Limit_Deviation_Detail!$I$24:$I$5800,\"Control Equipment Problems\"))","v":""},{"$f":"IF($E30=\"\",\"\",SUMIFS(Limit_Deviation_Detail!$H$24:$H$5800,Limit_Deviation_Detail!$B$24:$B$5800,B30,Limit_Deviation_Detail!$C$24:$C$5800,C30,Limit_Deviation_Detail!$E$24:$E$5800,D30,Limit_Deviation_Detail!$I$24:$I$5800,\"Process Problems\"))","v":""},{"$f":"IF($E30=\"\",\"\",SUMIFS(Limit_Deviation_Detail!$H$24:$H$5800,Limit_Deviation_Detail!$B$24:$B$5800,B30,Limit_Deviation_Detail!$C$24:$C$5800,C30,Limit_Deviation_Detail!$E$24:$E$5800,D30,Limit_Deviation_Detail!$I$24:$I$5800,\"Other Known Causes\"))","v":""},{"$f":"IF($E30=\"\",\"\",SUMIFS(Limit_Deviation_Detail!$H$24:$H$5800,Limit_Deviation_Detail!$B$24:$B$5800,B30,Limit_Deviation_Detail!$C$24:$C$5800,C30,Limit_Deviation_Detail!$E$24:$E$5800,D30,Limit_Deviation_Detail!$I$24:$I$5800,\"Unknown Causes\"))","v":""}]
[null,{"$f":"IF(Lists!Z9=\"\",\"\",Lists!Z9)","v":""},{"$f":"IF(Lists!AA9=\"\",\"\",Lists!AA9)","v":""},{"$f":"IF(Lists!AB9=\"\",\"\",Lists!AB9)","v":""},{"$f":"IF(Lists!AC9=\"\",\"\",Lists!AD9)","v":""},"","",{"$f":"IF($E31=\"\",\"\",SUMIFS(Limit_Deviation_Detail!$H$24:$H$5800,Limit_Deviation_Detail!$B$24:$B$5800,B31,Limit_Deviation_Detail!$C$24:$C$5800,C31,Limit_Deviation_Detail!$E$24:$E$5800,D31,Limit_Deviation_Detail!$I$24:$I$5800,\"Startup/Shutdown\"))","v":""},{"$f":"IF($E31=\"\",\"\",SUMIFS(Limit_Deviation_Detail!$H$24:$H$5800,Limit_Deviation_Detail!$B$24:$B$5800,B31,Limit_Deviation_Detail!$C$24:$C$5800,C31,Limit_Deviation_Detail!$E$24:$E$5800,D31,Limit_Deviation_Detail!$I$24:$I$5800,\"Control Equipment Problems\"))","v":""},{"$f":"IF($E31=\"\",\"\",SUMIFS(Limit_Deviation_Detail!$H$24:$H$5800,Limit_Deviation_Detail!$B$24:$B$5800,B31,Limit_Deviation_Detail!$C$24:$C$5800,C31,Limit_Deviation_Detail!$E$24:$E$5800,D31,Limit_Deviation_Detail!$I$24:$I$5800,\"Process Problems\"))","v":""},{"$f":"IF($E31=\"\",\"\",SUMIFS(Limit_Deviation_Detail!$H$24:$H$5800,Limit_Deviation_Detail!$B$24:$B$5800,B31,Limit_Deviation_Detail!$C$24:$C$5800,C31,Limit_Deviation_Detail!$E$24:$E$5800,D31,Limit_Deviation_Detail!$I$24:$I$5800,\"Other Known Causes\"))","v":""},{"$f":"IF($E31=\"\",\"\",SUMIFS(Limit_Deviation_Detail!$H$24:$H$5800,Limit_Deviation_Detail!$B$24:$B$5800,B31,Limit_Deviation_Detail!$C$24:$C$5800,C31,Limit_Deviation_Detail!$E$24:$E$5800,D31,Limit_Deviation_Detail!$I$24:$I$5800,\"Unknown Causes\"))","v":""}]
[null,{"$f":"IF(Lists!Z10=\"\",\"\",Lists!Z10)","v":""},{"$f":"IF(Lists!AA10=\"\",\"\",Lists!AA10)","v":""},{"$f":"IF(Lists!AB10=\"\",\"\",Lists!AB10)","v":""},{"$f":"IF(Lists!AC10=\"\",\"\",Lists!AD10)","v":""},"","",{"$f":"IF($E32=\"\",\"\",SUMIFS(Limit_Deviation_Detail!$H$24:$H$5800,Limit_Deviation_Detail!$B$24:$B$5800,B32,Limit_Deviation_Detail!$C$24:$C$5800,C32,Limit_Deviation_Detail!$E$24:$E$5800,D32,Limit_Deviation_Detail!$I$24:$I$5800,\"Startup/Shutdown\"))","v":""},{"$f":"IF($E32=\"\",\"\",SUMIFS(Limit_Deviation_Detail!$H$24:$H$5800,Limit_Deviation_Detail!$B$24:$B$5800,B32,Limit_Deviation_Detail!$C$24:$C$5800,C32,Limit_Deviation_Detail!$E$24:$E$5800,D32,Limit_Deviation_Detail!$I$24:$I$5800,\"Control Equipment Problems\"))","v":""},{"$f":"IF($E32=\"\",\"\",SUMIFS(Limit_Deviation_Detail!$H$24:$H$5800,Limit_Deviation_Detail!$B$24:$B$5800,B32,Limit_Deviation_Detail!$C$24:$C$5800,C32,Limit_Deviation_Detail!$E$24:$E$5800,D32,Limit_Deviation_Detail!$I$24:$I$5800,\"Process Problems\"))","v":""},{"$f":"IF($E32=\"\",\"\",SUMIFS(Limit_Deviation_Detail!$H$24:$H$5800,Limit_Deviation_Detail!$B$24:$B$5800,B32,Limit_Deviation_Detail!$C$24:$C$5800,C32,Limit_Deviation_Detail!$E$24:$E$5800,D32,Limit_Deviation_Detail!$I$24:$I$5800,\"Other Known Causes\"))","v":""},{"$f":"IF($E32=\"\",\"\",SUMIFS(Limit_Deviation_Detail!$H$24:$H$5800,Limit_Deviation_Detail!$B$24:$B$5800,B32,Limit_Deviation_Detail!$C$24:$C$5800,C32,Limit_Deviation_Detail!$E$24:$E$5800,D32,Limit_Deviation_Detail!$I$24:$I$5800,\"Unknown Causes\"))","v":""}]
[null,{"$f":"IF(Lists!Z11=\"\",\"\",Lists!Z11)","v":""},{"$f":"IF(Lists!AA11=\"\",\"\",Lists!AA11)","v":""},{"$f":"IF(Lists!AB11=\"\",\"\",Lists!AB11)","v":""},{"$f":"IF(Lists!AC11=\"\",\"\",Lists!AD11)","v":""},"","",{"$f":"IF($E33=\"\",\"\",SUMIFS(Limit_Deviation_Detail!$H$24:$H$5800,Limit_Deviation_Detail!$B$24:$B$5800,B33,Limit_Deviation_Detail!$C$24:$C$5800,C33,Limit_Deviation_Detail!$E$24:$E$5800,D33,Limit_Deviation_Detail!$I$24:$I$5800,\"Startup/Shutdown\"))","v":""},{"$f":"IF($E33=\"\",\"\",SUMIFS(Limit_Deviation_Detail!$H$24:$H$5800,Limit_Deviation_Detail!$B$24:$B$5800,B33,Limit_Deviation_Detail!$C$24:$C$5800,C33,Limit_Deviation_Detail!$E$24:$E$5800,D33,Limit_Deviation_Detail!$I$24:$I$5800,\"Control Equipment Problems\"))","v":""},{"$f":"IF($E33=\"\",\"\",SUMIFS(Limit_Deviation_Detail!$H$24:$H$5800,Limit_Deviation_Detail!$B$24:$B$5800,B33,Limit_Deviation_Detail!$C$24:$C$5800,C33,Limit_Deviation_Detail!$E$24:$E$5800,D33,Limit_Deviation_Detail!$I$24:$I$5800,\"Process Problems\"))","v":""},{"$f":"IF($E33=\"\",\"\",SUMIFS(Limit_Deviation_Detail!$H$24:$H$5800,Limit_Deviation_Detail!$B$24:$B$5800,B33,Limit_Deviation_Detail!$C$24:$C$5800,C33,Limit_Deviation_Detail!$E$24:$E$5800,D33,Limit_Deviation_Detail!$I$24:$I$5800,\"Other Known Causes\"))","v":""},{"$f":"IF($E33=\"\",\"\",SUMIFS(Limit_Deviation_Detail!$H$24:$H$5800,Limit_Deviation_Detail!$B$24:$B$5800,B33,Limit_Deviation_Detail!$C$24:$C$5800,C33,Limit_Deviation_Detail!$E$24:$E$5800,D33,Limit_Deviation_Detail!$I$24:$I$5800,\"Unknown Causes\"))","v":""}]
[null,{"$f":"IF(Lists!Z12=\"\",\"\",Lists!Z12)","v":""},{"$f":"IF(Lists!AA12=\"\",\"\",Lists!AA12)","v":""},{"$f":"IF(Lists!AB12=\"\",\"\",Lists!AB12)","v":""},{"$f":"IF(Lists!AC12=\"\",\"\",Lists!AD12)","v":""},"","",{"$f":"IF($E34=\"\",\"\",SUMIFS(Limit_Deviation_Detail!$H$24:$H$5800,Limit_Deviation_Detail!$B$24:$B$5800,B34,Limit_Deviation_Detail!$C$24:$C$5800,C34,Limit_Deviation_Detail!$E$24:$E$5800,D34,Limit_Deviation_Detail!$I$24:$I$5800,\"Startup/Shutdown\"))","v":""},{"$f":"IF($E34=\"\",\"\",SUMIFS(Limit_Deviation_Detail!$H$24:$H$5800,Limit_Deviation_Detail!$B$24:$B$5800,B34,Limit_Deviation_Detail!$C$24:$C$5800,C34,Limit_Deviation_Detail!$E$24:$E$5800,D34,Limit_Deviation_Detail!$I$24:$I$5800,\"Control Equipment Problems\"))","v":""},{"$f":"IF($E34=\"\",\"\",SUMIFS(Limit_Deviation_Detail!$H$24:$H$5800,Limit_Deviation_Detail!$B$24:$B$5800,B34,Limit_Deviation_Detail!$C$24:$C$5800,C34,Limit_Deviation_Detail!$E$24:$E$5800,D34,Limit_Deviation_Detail!$I$24:$I$5800,\"Process Problems\"))","v":""},{"$f":"IF($E34=\"\",\"\",SUMIFS(Limit_Deviation_Detail!$H$24:$H$5800,Limit_Deviation_Detail!$B$24:$B$5800,B34,Limit_Deviation_Detail!$C$24:$C$5800,C34,Limit_Deviation_Detail!$E$24:$E$5800,D34,Limit_Deviation_Detail!$I$24:$I$5800,\"Other Known Causes\"))","v":""},{"$f":"IF($E34=\"\",\"\",SUMIFS(Limit_Deviation_Detail!$H$24:$H$5800,Limit_Deviation_Detail!$B$24:$B$5800,B34,Limit_Deviation_Detail!$C$24:$C$5800,C34,Limit_Deviation_Detail!$E$24:$E$5800,D34,Limit_Deviation_Detail!$I$24:$I$5800,\"Unknown Causes\"))","v":""}]
[null,{"$f":"IF(Lists!Z13=\"\",\"\",Lists!Z13)","v":""},{"$f":"IF(Lists!AA13=\"\",\"\",Lists!AA13)","v":""},{"$f":"IF(Lists!AB13=\"\",\"\",Lists!AB13)","v":""},{"$f":"IF(Lists!AC13=\"\",\"\",Lists!AD13)","v":""},"","",{"$f":"IF($E35=\"\",\"\",SUMIFS(Limit_Deviation_Detail!$H$24:$H$5800,Limit_Deviation_Detail!$B$24:$B$5800,B35,Limit_Deviation_Detail!$C$24:$C$5800,C35,Limit_Deviation_Detail!$E$24:$E$5800,D35,Limit_Deviation_Detail!$I$24:$I$5800,\"Startup/Shutdown\"))","v":""},{"$f":"IF($E35=\"\",\"\",SUMIFS(Limit_Deviation_Detail!$H$24:$H$5800,Limit_Deviation_Detail!$B$24:$B$5800,B35,Limit_Deviation_Detail!$C$24:$C$5800,C35,Limit_Deviation_Detail!$E$24:$E$5800,D35,Limit_Deviation_Detail!$I$24:$I$5800,\"Control Equipment Problems\"))","v":""},{"$f":"IF($E35=\"\",\"\",SUMIFS(Limit_Deviation_Detail!$H$24:$H$5800,Limit_Deviation_Detail!$B$24:$B$5800,B35,Limit_Deviation_Detail!$C$24:$C$5800,C35,Limit_Deviation_Detail!$E$24:$E$5800,D35,Limit_Deviation_Detail!$I$24:$I$5800,\"Process Problems\"))","v":""},{"$f":"IF($E35=\"\",\"\",SUMIFS(Limit_Deviation_Detail!$H$24:$H$5800,Limit_Deviation_Detail!$B$24:$B$5800,B35,Limit_Deviation_Detail!$C$24:$C$5800,C35,Limit_Deviation_Detail!$E$24:$E$5800,D35,Limit_Deviation_Detail!$I$24:$I$5800,\"Other Known Causes\"))","v":""},{"$f":"IF($E35=\"\",\"\",SUMIFS(Limit_Deviation_Detail!$H$24:$H$5800,Limit_Deviation_Detail!$B$24:$B$5800,B35,Limit_Deviation_Detail!$C$24:$C$5800,C35,Limit_Deviation_Detail!$E$24:$E$5800,D35,Limit_Deviation_Detail!$I$24:$I$5800,\"Unknown Causes\"))","v":""}]
[null,{"$f":"IF(Lists!Z14=\"\",\"\",Lists!Z14)","v":""},{"$f":"IF(Lists!AA14=\"\",\"\",Lists!AA14)","v":""},{"$f":"IF(Lists!AB14=\"\",\"\",Lists!AB14)","v":""},{"$f":"IF(Lists!AC14=\"\",\"\",Lists!AD14)","v":""},"","",{"$f":"IF($E36=\"\",\"\",SUMIFS(Limit_Deviation_Detail!$H$24:$H$5800,Limit_Deviation_Detail!$B$24:$B$5800,B36,Limit_Deviation_Detail!$C$24:$C$5800,C36,Limit_Deviation_Detail!$E$24:$E$5800,D36,Limit_Deviation_Detail!$I$24:$I$5800,\"Startup/Shutdown\"))","v":""},{"$f":"IF($E36=\"\",\"\",SUMIFS(Limit_Deviation_Detail!$H$24:$H$5800,Limit_Deviation_Detail!$B$24:$B$5800,B36,Limit_Deviation_Detail!$C$24:$C$5800,C36,Limit_Deviation_Detail!$E$24:$E$5800,D36,Limit_Deviation_Detail!$I$24:$I$5800,\"Control Equipment Problems\"))","v":""},{"$f":"IF($E36=\"\",\"\",SUMIFS(Limit_Deviation_Detail!$H$24:$H$5800,Limit_Deviation_Detail!$B$24:$B$5800,B36,Limit_Deviation_Detail!$C$24:$C$5800,C36,Limit_Deviation_Detail!$E$24:$E$5800,D36,Limit_Deviation_Detail!$I$24:$I$5800,\"Process Problems\"))","v":""},{"$f":"IF($E36=\"\",\"\",SUMIFS(Limit_Deviation_Detail!$H$24:$H$5800,Limit_Deviation_Detail!$B$24:$B$5800,B36,Limit_Deviation_Detail!$C$24:$C$5800,C36,Limit_Deviation_Detail!$E$24:$E$5800,D36,Limit_Deviation_Detail!$I$24:$I$5800,\"Other Known Causes\"))","v":""},{"$f":"IF($E36=\"\",\"\",SUMIFS(Limit_Deviation_Detail!$H$24:$H$5800,Limit_Deviation_Detail!$B$24:$B$5800,B36,Limit_Deviation_Detail!$C$24:$C$5800,C36,Limit_Deviation_Detail!$E$24:$E$5800,D36,Limit_Deviation_Detail!$I$24:$I$5800,\"Unknown Causes\"))","v":""}]
[null,{"$f":"IF(Lists!Z15=\"\",\"\",Lists!Z15)","v":""},{"$f":"IF(Lists!AA15=\"\",\"\",Lists!AA15)","v":""},{"$f":"IF(Lists!AB15=\"\",\"\",Lists!AB15)","v":""},{"$f":"IF(Lists!AC15=\"\",\"\",Lists!AD15)","v":""},"","",{"$f":"IF($E37=\"\",\"\",SUMIFS(Limit_Deviation_Detail!$H$24:$H$5800,Limit_Deviation_Detail!$B$24:$B$5800,B37,Limit_Deviation_Detail!$C$24:$C$5800,C37,Limit_Deviation_Detail!$E$24:$E$5800,D37,Limit_Deviation_Detail!$I$24:$I$5800,\"Startup/Shutdown\"))","v":""},{"$f":"IF($E37=\"\",\"\",SUMIFS(Limit_Deviation_Detail!$H$24:$H$5800,Limit_Deviation_Detail!$B$24:$B$5800,B37,Limit_Deviation_Detail!$C$24:$C$5800,C37,Limit_Deviation_Detail!$E$24:$E$5800,D37,Limit_Deviation_Detail!$I$24:$I$5800,\"Control Equipment Problems\"))","v":""},{"$f":"IF($E37=\"\",\"\",SUMIFS(Limit_Deviation_Detail!$H$24:$H$5800,Limit_Deviation_Detail!$B$24:$B$5800,B37,Limit_Deviation_Detail!$C$24:$C$5800,C37,Limit_Deviation_Detail!$E$24:$E$5800,D37,Limit_Deviation_Detail!$I$24:$I$5800,\"Process Problems\"))","v":""},{"$f":"IF($E37=\"\",\"\",SUMIFS(Limit_Deviation_Detail!$H$24:$H$5800,Limit_Deviation_Detail!$B$24:$B$5800,B37,Limit_Deviation_Detail!$C$24:$C$5800,C37,Limit_Deviation_Detail!$E$24:$E$5800,D37,Limit_Deviation_Detail!$I$24:$I$5800,\"Other Known Causes\"))","v":""},{"$f":"IF($E37=\"\",\"\",SUMIFS(Limit_Deviation_Detail!$H$24:$H$5800,Limit_Deviation_Detail!$B$24:$B$5800,B37,Limit_Deviation_Detail!$C$24:$C$5800,C37,Limit_Deviation_Detail!$E$24:$E$5800,D37,Limit_Deviation_Detail!$I$24:$I$5800,\"Unknown Causes\"))","v":""}]
[null,{"$f":"IF(Lists!Z16=\"\",\"\",Lists!Z16)","v":""},{"$f":"IF(Lists!AA16=\"\",\"\",Lists!AA16)","v":""},{"$f":"IF(Lists!AB16=\"\",\"\",Lists!AB16)","v":""},{"$f":"IF(Lists!AC16=\"\",\"\",Lists!AD16)","v":""},"","",{"$f":"IF($E38=\"\",\"\",SUMIFS(Limit_Deviation_Detail!$H$24:$H$5800,Limit_Deviation_Detail!$B$24:$B$5800,B38,Limit_Deviation_Detail!$C$24:$C$5800,C38,Limit_Deviation_Detail!$E$24:$E$5800,D38,Limit_Deviation_Detail!$I$24:$I$5800,\"Startup/Shutdown\"))","v":""},{"$f":"IF($E38=\"\",\"\",SUMIFS(Limit_Deviation_Detail!$H$24:$H$5800,Limit_Deviation_Detail!$B$24:$B$5800,B38,Limit_Deviation_Detail!$C$24:$C$5800,C38,Limit_Deviation_Detail!$E$24:$E$5800,D38,Limit_Deviation_Detail!$I$24:$I$5800,\"Control Equipment Problems\"))","v":""},{"$f":"IF($E38=\"\",\"\",SUMIFS(Limit_Deviation_Detail!$H$24:$H$5800,Limit_Deviation_Detail!$B$24:$B$5800,B38,Limit_Deviation_Detail!$C$24:$C$5800,C38,Limit_Deviation_Detail!$E$24:$E$5800,D38,Limit_Deviation_Detail!$I$24:$I$5800,\"Process Problems\"))","v":""},{"$f":"IF($E38=\"\",\"\",SUMIFS(Limit_Deviation_Detail!$H$24:$H$5800,Limit_Deviation_Detail!$B$24:$B$5800,B38,Limit_Deviation_Detail!$C$24:$C$5800,C38,Limit_Deviation_Detail!$E$24:$E$5800,D38,Limit_Deviation_Detail!$I$24:$I$5800,\"Other Known Causes\"))","v":""},{"$f":"IF($E38=\"\",\"\",SUMIFS(Limit_Deviation_Detail!$H$24:$H$5800,Limit_Deviation_Detail!$B$24:$B$5800,B38,Limit_Deviation_Detail!$C$24:$C$5800,C38,Limit_Deviation_Detail!$E$24:$E$5800,D38,Limit_Deviation_Detail!$I$24:$I$5800,\"Unknown Causes\"))","v":""}]
[null,{"$f":"IF(Lists!Z17=\"\",\"\",Lists!Z17)","v":""},{"$f":"IF(Lists!AA17=\"\",\"\",Lists!AA17)","v":""},{"$f":"IF(Lists!AB17=\"\",\"\",Lists!AB17)","v":""},{"$f":"IF(Lists!AC17=\"\",\"\",Lists!AD17)","v":""},"","",{"$f":"IF($E39=\"\",\"\",SUMIFS(Limit_Deviation_Detail!$H$24:$H$5800,Limit_Deviation_Detail!$B$24:$B$5800,B39,Limit_Deviation_Detail!$C$24:$C$5800,C39,Limit_Deviation_Detail!$E$24:$E$5800,D39,Limit_Deviation_Detail!$I$24:$I$5800,\"Startup/Shutdown\"))","v":""},{"$f":"IF($E39=\"\",\"\",SUMIFS(Limit_Deviation_Detail!$H$24:$H$5800,Limit_Deviation_Detail!$B$24:$B$5800,B39,Limit_Deviation_Detail!$C$24:$C$5800,C39,Limit_Deviation_Detail!$E$24:$E$5800,D39,Limit_Deviation_Detail!$I$24:$I$5800,\"Control Equipment Problems\"))","v":""},{"$f":"IF($E39=\"\",\"\",SUMIFS(Limit_Deviation_Detail!$H$24:$H$5800,Limit_Deviation_Detail!$B$24:$B$5800,B39,Limit_Deviation_Detail!$C$24:$C$5800,C39,Limit_Deviation_Detail!$E$24:$E$5800,D39,Limit_Deviation_Detail!$I$24:$I$5800,\"Process Problems\"))","v":""},{"$f":"IF($E39=\"\",\"\",SUMIFS(Limit_Deviation_Detail!$H$24:$H$5800,Limit_Deviation_Detail!$B$24:$B$5800,B39,Limit_Deviation_Detail!$C$24:$C$5800,C39,Limit_Deviation_Detail!$E$24:$E$5800,D39,Limit_Deviation_Detail!$I$24:$I$5800,\"Other Known Causes\"))","v":""},{"$f":"IF($E39=\"\",\"\",SUMIFS(Limit_Deviation_Detail!$H$24:$H$5800,Limit_Deviation_Detail!$B$24:$B$5800,B39,Limit_Deviation_Detail!$C$24:$C$5800,C39,Limit_Deviation_Detail!$E$24:$E$5800,D39,Limit_Deviation_Detail!$I$24:$I$5800,\"Unknown Causes\"))","v":""}]
[null,{"$f":"IF(Lists!Z18=\"\",\"\",Lists!Z18)","v":""},{"$f":"IF(Lists!AA18=\"\",\"\",Lists!AA18)","v":""},{"$f":"IF(Lists!AB18=\"\",\"\",Lists!AB18)","v":""},{"$f":"IF(Lists!AC18=\"\",\"\",Lists!AD18)","v":""},"","",{"$f":"IF($E40=\"\",\"\",SUMIFS(Limit_Deviation_Detail!$H$24:$H$5800,Limit_Deviation_Detail!$B$24:$B$5800,B40,Limit_Deviation_Detail!$C$24:$C$5800,C40,Limit_Deviation_Detail!$E$24:$E$5800,D40,Limit_Deviation_Detail!$I$24:$I$5800,\"Startup/Shutdown\"))","v":""},{"$f":"IF($E40=\"\",\"\",SUMIFS(Limit_Deviation_Detail!$H$24:$H$5800,Limit_Deviation_Detail!$B$24:$B$5800,B40,Limit_Deviation_Detail!$C$24:$C$5800,C40,Limit_Deviation_Detail!$E$24:$E$5800,D40,Limit_Deviation_Detail!$I$24:$I$5800,\"Control Equipment Problems\"))","v":""},{"$f":"IF($E40=\"\",\"\",SUMIFS(Limit_Deviation_Detail!$H$24:$H$5800,Limit_Deviation_Detail!$B$24:$B$5800,B40,Limit_Deviation_Detail!$C$24:$C$5800,C40,Limit_Deviation_Detail!$E$24:$E$5800,D40,Limit_Deviation_Detail!$I$24:$I$5800,\"Process Problems\"))","v":""},{"$f":"IF($E40=\"\",\"\",SUMIFS(Limit_Deviation_Detail!$H$24:$H$5800,Limit_Deviation_Detail!$B$24:$B$5800,B40,Limit_Deviation_Detail!$C$24:$C$5800,C40,Limit_Deviation_Detail!$E$24:$E$5800,D40,Limit_Deviation_Detail!$I$24:$I$5800,\"Other Known Causes\"))","v":""},{"$f":"IF($E40=\"\",\"\",SUMIFS(Limit_Deviation_Detail!$H$24:$H$5800,Limit_Deviation_Detail!$B$24:$B$5800,B40,Limit_Deviation_Detail!$C$24:$C$5800,C40,Limit_Deviation_Detail!$E$24:$E$5800,D40,Limit_Deviation_Detail!$I$24:$I$5800,\"Unknown Causes\"))","v":""}]
[null,{"$f":"IF(Lists!Z19=\"\",\"\",Lists!Z19)","v":""},{"$f":"IF(Lists!AA19=\"\",\"\",Lists!AA19)","v":""},{"$f":"IF(Lists!AB19=\"\",\"\",Lists!AB19)","v":""},{"$f":"IF(Lists!AC19=\"\",\"\",Lists!AD19)","v":""},"","",{"$f":"IF($E41=\"\",\"\",SUMIFS(Limit_Deviation_Detail!$H$24:$H$5800,Limit_Deviation_Detail!$B$24:$B$5800,B41,Limit_Deviation_Detail!$C$24:$C$5800,C41,Limit_Deviation_Detail!$E$24:$E$5800,D41,Limit_Deviation_Detail!$I$24:$I$5800,\"Startup/Shutdown\"))","v":""},{"$f":"IF($E41=\"\",\"\",SUMIFS(Limit_Deviation_Detail!$H$24:$H$5800,Limit_Deviation_Detail!$B$24:$B$5800,B41,Limit_Deviation_Detail!$C$24:$C$5800,C41,Limit_Deviation_Detail!$E$24:$E$5800,D41,Limit_Deviation_Detail!$I$24:$I$5800,\"Control Equipment Problems\"))","v":""},{"$f":"IF($E41=\"\",\"\",SUMIFS(Limit_Deviation_Detail!$H$24:$H$5800,Limit_Deviation_Detail!$B$24:$B$5800,B41,Limit_Deviation_Detail!$C$24:$C$5800,C41,Limit_Deviation_Detail!$E$24:$E$5800,D41,Limit_Deviation_Detail!$I$24:$I$5800,\"Process Problems\"))","v":""},{"$f":"IF($E41=\"\",\"\",SUMIFS(Limit_Deviation_Detail!$H$24:$H$5800,Limit_Deviation_Detail!$B$24:$B$5800,B41,Limit_Deviation_Detail!$C$24:$C$5800,C41,Limit_Deviation_Detail!$E$24:$E$5800,D41,Limit_Deviation_Detail!$I$24:$I$5800,\"Other Known Causes\"))","v":""},{"$f":"IF($E41=\"\",\"\",SUMIFS(Limit_Deviation_Detail!$H$24:$H$5800,Limit_Deviation_Detail!$B$24:$B$5800,B41,Limit_Deviation_Detail!$C$24:$C$5800,C41,Limit_Deviation_Detail!$E$24:$E$5800,D41,Limit_Deviation_Detail!$I$24:$I$5800,\"Unknown Causes\"))","v":""}]
[null,{"$f":"IF(Lists!Z20=\"\",\"\",Lists!Z20)","v":""},{"$f":"IF(Lists!AA20=\"\",\"\",Lists!AA20)","v":""},{"$f":"IF(Lists!AB20=\"\",\"\",Lists!AB20)","v":""},{"$f":"IF(Lists!AC20=\"\",\"\",Lists!AD20)","v":""},"","",{"$f":"IF($E42=\"\",\"\",SUMIFS(Limit_Deviation_Detail!$H$24:$H$5800,Limit_Deviation_Detail!$B$24:$B$5800,B42,Limit_Deviation_Detail!$C$24:$C$5800,C42,Limit_Deviation_Detail!$E$24:$E$5800,D42,Limit_Deviation_Detail!$I$24:$I$5800,\"Startup/Shutdown\"))","v":""},{"$f":"IF($E42=\"\",\"\",SUMIFS(Limit_Deviation_Detail!$H$24:$H$5800,Limit_Deviation_Detail!$B$24:$B$5800,B42,Limit_Deviation_Detail!$C$24:$C$5800,C42,Limit_Deviation_Detail!$E$24:$E$5800,D42,Limit_Deviation_Detail!$I$24:$I$5800,\"Control Equipment Problems\"))","v":""},{"$f":"IF($E42=\"\",\"\",SUMIFS(Limit_Deviation_Detail!$H$24:$H$5800,Limit_Deviation_Detail!$B$24:$B$5800,B42,Limit_Deviation_Detail!$C$24:$C$5800,C42,Limit_Deviation_Detail!$E$24:$E$5800,D42,Limit_Deviation_Detail!$I$24:$I$5800,\"Process Problems\"))","v":""},{"$f":"IF($E42=\"\",\"\",SUMIFS(Limit_Deviation_Detail!$H$24:$H$5800,Limit_Deviation_Detail!$B$24:$B$5800,B42,Limit_Deviation_Detail!$C$24:$C$5800,C42,Limit_Deviation_Detail!$E$24:$E$5800,D42,Limit_Deviation_Detail!$I$24:$I$5800,\"Other Known Causes\"))","v":""},{"$f":"IF($E42=\"\",\"\",SUMIFS(Limit_Deviation_Detail!$H$24:$H$5800,Limit_Deviation_Detail!$B$24:$B$5800,B42,Limit_Deviation_Detail!$C$24:$C$5800,C42,Limit_Deviation_Detail!$E$24:$E$5800,D42,Limit_Deviation_Detail!$I$24:$I$5800,\"Unknown Causes\"))","v":""}]
[null,{"$f":"IF(Lists!Z21=\"\",\"\",Lists!Z21)","v":""},{"$f":"IF(Lists!AA21=\"\",\"\",Lists!AA21)","v":""},{"$f":"IF(Lists!AB21=\"\",\"\",Lists!AB21)","v":""},{"$f":"IF(Lists!AC21=\"\",\"\",Lists!AD21)","v":""},"","",{"$f":"IF($E43=\"\",\"\",SUMIFS(Limit_Deviation_Detail!$H$24:$H$5800,Limit_Deviation_Detail!$B$24:$B$5800,B43,Limit_Deviation_Detail!$C$24:$C$5800,C43,Limit_Deviation_Detail!$E$24:$E$5800,D43,Limit_Deviation_Detail!$I$24:$I$5800,\"Startup/Shutdown\"))","v":""},{"$f":"IF($E43=\"\",\"\",SUMIFS(Limit_Deviation_Detail!$H$24:$H$5800,Limit_Deviation_Detail!$B$24:$B$5800,B43,Limit_Deviation_Detail!$C$24:$C$5800,C43,Limit_Deviation_Detail!$E$24:$E$5800,D43,Limit_Deviation_Detail!$I$24:$I$5800,\"Control Equipment Problems\"))","v":""},{"$f":"IF($E43=\"\",\"\",SUMIFS(Limit_Deviation_Detail!$H$24:$H$5800,Limit_Deviation_Detail!$B$24:$B$5800,B43,Limit_Deviation_Detail!$C$24:$C$5800,C43,Limit_Deviation_Detail!$E$24:$E$5800,D43,Limit_Deviation_Detail!$I$24:$I$5800,\"Process Problems\"))","v":""},{"$f":"IF($E43=\"\",\"\",SUMIFS(Limit_Deviation_Detail!$H$24:$H$5800,Limit_Deviation_Detail!$B$24:$B$5800,B43,Limit_Deviation_Detail!$C$24:$C$5800,C43,Limit_Deviation_Detail!$E$24:$E$5800,D43,Limit_Deviation_Detail!$I$24:$I$5800,\"Other Known Causes\"))","v":""},{"$f":"IF($E43=\"\",\"\",SUMIFS(Limit_Deviation_Detail!$H$24:$H$5800,Limit_Deviation_Detail!$B$24:$B$5800,B43,Limit_Deviation_Detail!$C$24:$C$5800,C43,Limit_Deviation_Detail!$E$24:$E$5800,D43,Limit_Deviation_Detail!$I$24:$I$5800,\"Unknown Causes\"))","v":""}]
[null,{"$f":"IF(Lists!Z22=\"\",\"\",Lists!Z22)","v":""},{"$f":"IF(Lists!AA22=\"\",\"\",Lists!AA22)","v":""},{"$f":"IF(Lists!AB22=\"\",\"\",Lists!AB22)","v":""},{"$f":"IF(Lists!AC22=\"\",\"\",Lists!AD22)","v":""},"","",{"$f":"IF($E44=\"\",\"\",SUMIFS(Limit_Deviation_Detail!$H$24:$H$5800,Limit_Deviation_Detail!$B$24:$B$5800,B44,Limit_Deviation_Detail!$C$24:$C$5800,C44,Limit_Deviation_Detail!$E$24:$E$5800,D44,Limit_Deviation_Detail!$I$24:$I$5800,\"Startup/Shutdown\"))","v":""},{"$f":"IF($E44=\"\",\"\",SUMIFS(Limit_Deviation_Detail!$H$24:$H$5800,Limit_Deviation_Detail!$B$24:$B$5800,B44,Limit_Deviation_Detail!$C$24:$C$5800,C44,Limit_Deviation_Detail!$E$24:$E$5800,D44,Limit_Deviation_Detail!$I$24:$I$5800,\"Control Equipment Problems\"))","v":""},{"$f":"IF($E44=\"\",\"\",SUMIFS(Limit_Deviation_Detail!$H$24:$H$5800,Limit_Deviation_Detail!$B$24:$B$5800,B44,Limit_Deviation_Detail!$C$24:$C$5800,C44,Limit_Deviation_Detail!$E$24:$E$5800,D44,Limit_Deviation_Detail!$I$24:$I$5800,\"Process Problems\"))","v":""},{"$f":"IF($E44=\"\",\"\",SUMIFS(Limit_Deviation_Detail!$H$24:$H$5800,Limit_Deviation_Detail!$B$24:$B$5800,B44,Limit_Deviation_Detail!$C$24:$C$5800,C44,Limit_Deviation_Detail!$E$24:$E$5800,D44,Limit_Deviation_Detail!$I$24:$I$5800,\"Other Known Causes\"))","v":""},{"$f":"IF($E44=\"\",\"\",SUMIFS(Limit_Deviation_Detail!$H$24:$H$5800,Limit_Deviation_Detail!$B$24:$B$5800,B44,Limit_Deviation_Detail!$C$24:$C$5800,C44,Limit_Deviation_Detail!$E$24:$E$5800,D44,Limit_Deviation_Detail!$I$24:$I$5800,\"Unknown Causes\"))","v":""}]
[null,{"$f":"IF(Lists!Z23=\"\",\"\",Lists!Z23)","v":""},{"$f":"IF(Lists!AA23=\"\",\"\",Lists!AA23)","v":""},{"$f":"IF(Lists!AB23=\"\",\"\",Lists!AB23)","v":""},{"$f":"IF(Lists!AC23=\"\",\"\",Lists!AD23)","v":""},"","",{"$f":"IF($E45=\"\",\"\",SUMIFS(Limit_Deviation_Detail!$H$24:$H$5800,Limit_Deviation_Detail!$B$24:$B$5800,B45,Limit_Deviation_Detail!$C$24:$C$5800,C45,Limit_Deviation_Detail!$E$24:$E$5800,D45,Limit_Deviation_Detail!$I$24:$I$5800,\"Startup/Shutdown\"))","v":""},{"$f":"IF($E45=\"\",\"\",SUMIFS(Limit_Deviation_Detail!$H$24:$H$5800,Limit_Deviation_Detail!$B$24:$B$5800,B45,Limit_Deviation_Detail!$C$24:$C$5800,C45,Limit_Deviation_Detail!$E$24:$E$5800,D45,Limit_Deviation_Detail!$I$24:$I$5800,\"Control Equipment Problems\"))","v":""},{"$f":"IF($E45=\"\",\"\",SUMIFS(Limit_Deviation_Detail!$H$24:$H$5800,Limit_Deviation_Detail!$B$24:$B$5800,B45,Limit_Deviation_Detail!$C$24:$C$5800,C45,Limit_Deviation_Detail!$E$24:$E$5800,D45,Limit_Deviation_Detail!$I$24:$I$5800,\"Process Problems\"))","v":""},{"$f":"IF($E45=\"\",\"\",SUMIFS(Limit_Deviation_Detail!$H$24:$H$5800,Limit_Deviation_Detail!$B$24:$B$5800,B45,Limit_Deviation_Detail!$C$24:$C$5800,C45,Limit_Deviation_Detail!$E$24:$E$5800,D45,Limit_Deviation_Detail!$I$24:$I$5800,\"Other Known Causes\"))","v":""},{"$f":"IF($E45=\"\",\"\",SUMIFS(Limit_Deviation_Detail!$H$24:$H$5800,Limit_Deviation_Detail!$B$24:$B$5800,B45,Limit_Deviation_Detail!$C$24:$C$5800,C45,Limit_Deviation_Detail!$E$24:$E$5800,D45,Limit_Deviation_Detail!$I$24:$I$5800,\"Unknown Causes\"))","v":""}]
[null,{"$f":"IF(Lists!Z24=\"\",\"\",Lists!Z24)","v":""},{"$f":"IF(Lists!AA24=\"\",\"\",Lists!AA24)","v":""},{"$f":"IF(Lists!AB24=\"\",\"\",Lists!AB24)","v":""},{"$f":"IF(Lists!AC24=\"\",\"\",Lists!AD24)","v":""},"","",{"$f":"IF($E46=\"\",\"\",SUMIFS(Limit_Deviation_Detail!$H$24:$H$5800,Limit_Deviation_Detail!$B$24:$B$5800,B46,Limit_Deviation_Detail!$C$24:$C$5800,C46,Limit_Deviation_Detail!$E$24:$E$5800,D46,Limit_Deviation_Detail!$I$24:$I$5800,\"Startup/Shutdown\"))","v":""},{"$f":"IF($E46=\"\",\"\",SUMIFS(Limit_Deviation_Detail!$H$24:$H$5800,Limit_Deviation_Detail!$B$24:$B$5800,B46,Limit_Deviation_Detail!$C$24:$C$5800,C46,Limit_Deviation_Detail!$E$24:$E$5800,D46,Limit_Deviation_Detail!$I$24:$I$5800,\"Control Equipment Problems\"))","v":""},{"$f":"IF($E46=\"\",\"\",SUMIFS(Limit_Deviation_Detail!$H$24:$H$5800,Limit_Deviation_Detail!$B$24:$B$5800,B46,Limit_Deviation_Detail!$C$24:$C$5800,C46,Limit_Deviation_Detail!$E$24:$E$5800,D46,Limit_Deviation_Detail!$I$24:$I$5800,\"Process Problems\"))","v":""},{"$f":"IF($E46=\"\",\"\",SUMIFS(Limit_Deviation_Detail!$H$24:$H$5800,Limit_Deviation_Detail!$B$24:$B$5800,B46,Limit_Deviation_Detail!$C$24:$C$5800,C46,Limit_Deviation_Detail!$E$24:$E$5800,D46,Limit_Deviation_Detail!$I$24:$I$5800,\"Other Known Causes\"))","v":""},{"$f":"IF($E46=\"\",\"\",SUMIFS(Limit_Deviation_Detail!$H$24:$H$5800,Limit_Deviation_Detail!$B$24:$B$5800,B46,Limit_Deviation_Detail!$C$24:$C$5800,C46,Limit_Deviation_Detail!$E$24:$E$5800,D46,Limit_Deviation_Detail!$I$24:$I$5800,\"Unknown Causes\"))","v":""}]
[null,{"$f":"IF(Lists!Z25=\"\",\"\",Lists!Z25)","v":""},{"$f":"IF(Lists!AA25=\"\",\"\",Lists!AA25)","v":""},{"$f":"IF(Lists!AB25=\"\",\"\",Lists!AB25)","v":""},{"$f":"IF(Lists!AC25=\"\",\"\",Lists!AD25)","v":""},"","",{"$f":"IF($E47=\"\",\"\",SUMIFS(Limit_Deviation_Detail!$H$24:$H$5800,Limit_Deviation_Detail!$B$24:$B$5800,B47,Limit_Deviation_Detail!$C$24:$C$5800,C47,Limit_Deviation_Detail!$E$24:$E$5800,D47,Limit_Deviation_Detail!$I$24:$I$5800,\"Startup/Shutdown\"))","v":""},{"$f":"IF($E47=\"\",\"\",SUMIFS(Limit_Deviation_Detail!$H$24:$H$5800,Limit_Deviation_Detail!$B$24:$B$5800,B47,Limit_Deviation_Detail!$C$24:$C$5800,C47,Limit_Deviation_Detail!$E$24:$E$5800,D47,Limit_Deviation_Detail!$I$24:$I$5800,\"Control Equipment Problems\"))","v":""},{"$f":"IF($E47=\"\",\"\",SUMIFS(Limit_Deviation_Detail!$H$24:$H$5800,Limit_Deviation_Detail!$B$24:$B$5800,B47,Limit_Deviation_Detail!$C$24:$C$5800,C47,Limit_Deviation_Detail!$E$24:$E$5800,D47,Limit_Deviation_Detail!$I$24:$I$5800,\"Process Problems\"))","v":""},{"$f":"IF($E47=\"\",\"\",SUMIFS(Limit_Deviation_Detail!$H$24:$H$5800,Limit_Deviation_Detail!$B$24:$B$5800,B47,Limit_Deviation_Detail!$C$24:$C$5800,C47,Limit_Deviation_Detail!$E$24:$E$5800,D47,Limit_Deviation_Detail!$I$24:$I$5800,\"Other Known Causes\"))","v":""},{"$f":"IF($E47=\"\",\"\",SUMIFS(Limit_Deviation_Detail!$H$24:$H$5800,Limit_Deviation_Detail!$B$24:$B$5800,B47,Limit_Deviation_Detail!$C$24:$C$5800,C47,Limit_Deviation_Detail!$E$24:$E$5800,D47,Limit_Deviation_Detail!$I$24:$I$5800,\"Unknown Causes\"))","v":""}]
[null,{"$f":"IF(Lists!Z26=\"\",\"\",Lists!Z26)","v":""},{"$f":"IF(Lists!AA26=\"\",\"\",Lists!AA26)","v":""},{"$f":"IF(Lists!AB26=\"\",\"\",Lists!AB26)","v":""},{"$f":"IF(Lists!AC26=\"\",\"\",Lists!AD26)","v":""},"","",{"$f":"IF($E48=\"\",\"\",SUMIFS(Limit_Deviation_Detail!$H$24:$H$5800,Limit_Deviation_Detail!$B$24:$B$5800,B48,Limit_Deviation_Detail!$C$24:$C$5800,C48,Limit_Deviation_Detail!$E$24:$E$5800,D48,Limit_Deviation_Detail!$I$24:$I$5800,\"Startup/Shutdown\"))","v":""},{"$f":"IF($E48=\"\",\"\",SUMIFS(Limit_Deviation_Detail!$H$24:$H$5800,Limit_Deviation_Detail!$B$24:$B$5800,B48,Limit_Deviation_Detail!$C$24:$C$5800,C48,Limit_Deviation_Detail!$E$24:$E$5800,D48,Limit_Deviation_Detail!$I$24:$I$5800,\"Control Equipment Problems\"))","v":""},{"$f":"IF($E48=\"\",\"\",SUMIFS(Limit_Deviation_Detail!$H$24:$H$5800,Limit_Deviation_Detail!$B$24:$B$5800,B48,Limit_Deviation_Detail!$C$24:$C$5800,C48,Limit_Deviation_Detail!$E$24:$E$5800,D48,Limit_Deviation_Detail!$I$24:$I$5800,\"Process Problems\"))","v":""},{"$f":"IF($E48=\"\",\"\",SUMIFS(Limit_Deviation_Detail!$H$24:$H$5800,Limit_Deviation_Detail!$B$24:$B$5800,B48,Limit_Deviation_Detail!$C$24:$C$5800,C48,Limit_Deviation_Detail!$E$24:$E$5800,D48,Limit_Deviation_Detail!$I$24:$I$5800,\"Other Known Causes\"))","v":""},{"$f":"IF($E48=\"\",\"\",SUMIFS(Limit_Deviation_Detail!$H$24:$H$5800,Limit_Deviation_Detail!$B$24:$B$5800,B48,Limit_Deviation_Detail!$C$24:$C$5800,C48,Limit_Deviation_Detail!$E$24:$E$5800,D48,Limit_Deviation_Detail!$I$24:$I$5800,\"Unknown Causes\"))","v":""}]
[null,{"$f":"IF(Lists!Z27=\"\",\"\",Lists!Z27)","v":""},{"$f":"IF(Lists!AA27=\"\",\"\",Lists!AA27)","v":""},{"$f":"IF(Lists!AB27=\"\",\"\",Lists!AB27)","v":""},{"$f":"IF(Lists!AC27=\"\",\"\",Lists!AD27)","v":""},"","",{"$f":"IF($E49=\"\",\"\",SUMIFS(Limit_Deviation_Detail!$H$24:$H$5800,Limit_Deviation_Detail!$B$24:$B$5800,B49,Limit_Deviation_Detail!$C$24:$C$5800,C49,Limit_Deviation_Detail!$E$24:$E$5800,D49,Limit_Deviation_Detail!$I$24:$I$5800,\"Startup/Shutdown\"))","v":""},{"$f":"IF($E49=\"\",\"\",SUMIFS(Limit_Deviation_Detail!$H$24:$H$5800,Limit_Deviation_Detail!$B$24:$B$5800,B49,Limit_Deviation_Detail!$C$24:$C$5800,C49,Limit_Deviation_Detail!$E$24:$E$5800,D49,Limit_Deviation_Detail!$I$24:$I$5800,\"Control Equipment Problems\"))","v":""},{"$f":"IF($E49=\"\",\"\",SUMIFS(Limit_Deviation_Detail!$H$24:$H$5800,Limit_Deviation_Detail!$B$24:$B$5800,B49,Limit_Deviation_Detail!$C$24:$C$5800,C49,Limit_Deviation_Detail!$E$24:$E$5800,D49,Limit_Deviation_Detail!$I$24:$I$5800,\"Process Problems\"))","v":""},{"$f":"IF($E49=\"\",\"\",SUMIFS(Limit_Deviation_Detail!$H$24:$H$5800,Limit_Deviation_Detail!$B$24:$B$5800,B49,Limit_Deviation_Detail!$C$24:$C$5800,C49,Limit_Deviation_Detail!$E$24:$E$5800,D49,Limit_Deviation_Detail!$I$24:$I$5800,\"Other Known Causes\"))","v":""},{"$f":"IF($E49=\"\",\"\",SUMIFS(Limit_Deviation_Detail!$H$24:$H$5800,Limit_Deviation_Detail!$B$24:$B$5800,B49,Limit_Deviation_Detail!$C$24:$C$5800,C49,Limit_Deviation_Detail!$E$24:$E$5800,D49,Limit_Deviation_Detail!$I$24:$I$5800,\"Unknown Causes\"))","v":""}]
[null,{"$f":"IF(Lists!Z28=\"\",\"\",Lists!Z28)","v":""},{"$f":"IF(Lists!AA28=\"\",\"\",Lists!AA28)","v":""},{"$f":"IF(Lists!AB28=\"\",\"\",Lists!AB28)","v":""},{"$f":"IF(Lists!AC28=\"\",\"\",Lists!AD28)","v":""},"","",{"$f":"IF($E50=\"\",\"\",SUMIFS(Limit_Deviation_Detail!$H$24:$H$5800,Limit_Deviation_Detail!$B$24:$B$5800,B50,Limit_Deviation_Detail!$C$24:$C$5800,C50,Limit_Deviation_Detail!$E$24:$E$5800,D50,Limit_Deviation_Detail!$I$24:$I$5800,\"Startup/Shutdown\"))","v":""},{"$f":"IF($E50=\"\",\"\",SUMIFS(Limit_Deviation_Detail!$H$24:$H$5800,Limit_Deviation_Detail!$B$24:$B$5800,B50,Limit_Deviation_Detail!$C$24:$C$5800,C50,Limit_Deviation_Detail!$E$24:$E$5800,D50,Limit_Deviation_Detail!$I$24:$I$5800,\"Control Equipment Problems\"))","v":""},{"$f":"IF($E50=\"\",\"\",SUMIFS(Limit_Deviation_Detail!$H$24:$H$5800,Limit_Deviation_Detail!$B$24:$B$5800,B50,Limit_Deviation_Detail!$C$24:$C$5800,C50,Limit_Deviation_Detail!$E$24:$E$5800,D50,Limit_Deviation_Detail!$I$24:$I$5800,\"Process Problems\"))","v":""},{"$f":"IF($E50=\"\",\"\",SUMIFS(Limit_Deviation_Detail!$H$24:$H$5800,Limit_Deviation_Detail!$B$24:$B$5800,B50,Limit_Deviation_Detail!$C$24:$C$5800,C50,Limit_Deviation_Detail!$E$24:$E$5800,D50,Limit_Deviation_Detail!$I$24:$I$5800,\"Other Known Causes\"))","v":""},{"$f":"IF($E50=\"\",\"\",SUMIFS(Limit_Deviation_Detail!$H$24:$H$5800,Limit_Deviation_Detail!$B$24:$B$5800,B50,Limit_Deviation_Detail!$C$24:$C$5800,C50,Limit_Deviation_Detail!$E$24:$E$5800,D50,Limit_Deviation_Detail!$I$24:$I$5800,\"Unknown Causes\"))","v":""}]
[null,{"$f":"IF(Lists!Z29=\"\",\"\",Lists!Z29)","v":""},{"$f":"IF(Lists!AA29=\"\",\"\",Lists!AA29)","v":""},{"$f":"IF(Lists!AB29=\"\",\"\",Lists!AB29)","v":""},{"$f":"IF(Lists!AC29=\"\",\"\",Lists!AD29)","v":""},"","",{"$f":"IF($E51=\"\",\"\",SUMIFS(Limit_Deviation_Detail!$H$24:$H$5800,Limit_Deviation_Detail!$B$24:$B$5800,B51,Limit_Deviation_Detail!$C$24:$C$5800,C51,Limit_Deviation_Detail!$E$24:$E$5800,D51,Limit_Deviation_Detail!$I$24:$I$5800,\"Startup/Shutdown\"))","v":""},{"$f":"IF($E51=\"\",\"\",SUMIFS(Limit_Deviation_Detail!$H$24:$H$5800,Limit_Deviation_Detail!$B$24:$B$5800,B51,Limit_Deviation_Detail!$C$24:$C$5800,C51,Limit_Deviation_Detail!$E$24:$E$5800,D51,Limit_Deviation_Detail!$I$24:$I$5800,\"Control Equipment Problems\"))","v":""},{"$f":"IF($E51=\"\",\"\",SUMIFS(Limit_Deviation_Detail!$H$24:$H$5800,Limit_Deviation_Detail!$B$24:$B$5800,B51,Limit_Deviation_Detail!$C$24:$C$5800,C51,Limit_Deviation_Detail!$E$24:$E$5800,D51,Limit_Deviation_Detail!$I$24:$I$5800,\"Process Problems\"))","v":""},{"$f":"IF($E51=\"\",\"\",SUMIFS(Limit_Deviation_Detail!$H$24:$H$5800,Limit_Deviation_Detail!$B$24:$B$5800,B51,Limit_Deviation_Detail!$C$24:$C$5800,C51,Limit_Deviation_Detail!$E$24:$E$5800,D51,Limit_Deviation_Detail!$I$24:$I$5800,\"Other Known Causes\"))","v":""},{"$f":"IF($E51=\"\",\"\",SUMIFS(Limit_Deviation_Detail!$H$24:$H$5800,Limit_Deviation_Detail!$B$24:$B$5800,B51,Limit_Deviation_Detail!$C$24:$C$5800,C51,Limit_Deviation_Detail!$E$24:$E$5800,D51,Limit_Deviation_Detail!$I$24:$I$5800,\"Unknown Causes\"))","v":""}]
[null,{"$f":"IF(Lists!Z30=\"\",\"\",Lists!Z30)","v":""},{"$f":"IF(Lists!AA30=\"\",\"\",Lists!AA30)","v":""},{"$f":"IF(Lists!AB30=\"\",\"\",Lists!AB30)","v":""},{"$f":"IF(Lists!AC30=\"\",\"\",Lists!AD30)","v":""},"","",{"$f":"IF($E52=\"\",\"\",SUMIFS(Limit_Deviation_Detail!$H$24:$H$5800,Limit_Deviation_Detail!$B$24:$B$5800,B52,Limit_Deviation_Detail!$C$24:$C$5800,C52,Limit_Deviation_Detail!$E$24:$E$5800,D52,Limit_Deviation_Detail!$I$24:$I$5800,\"Startup/Shutdown\"))","v":""},{"$f":"IF($E52=\"\",\"\",SUMIFS(Limit_Deviation_Detail!$H$24:$H$5800,Limit_Deviation_Detail!$B$24:$B$5800,B52,Limit_Deviation_Detail!$C$24:$C$5800,C52,Limit_Deviation_Detail!$E$24:$E$5800,D52,Limit_Deviation_Detail!$I$24:$I$5800,\"Control Equipment Problems\"))","v":""},{"$f":"IF($E52=\"\",\"\",SUMIFS(Limit_Deviation_Detail!$H$24:$H$5800,Limit_Deviation_Detail!$B$24:$B$5800,B52,Limit_Deviation_Detail!$C$24:$C$5800,C52,Limit_Deviation_Detail!$E$24:$E$5800,D52,Limit_Deviation_Detail!$I$24:$I$5800,\"Process Problems\"))","v":""},{"$f":"IF($E52=\"\",\"\",SUMIFS(Limit_Deviation_Detail!$H$24:$H$5800,Limit_Deviation_Detail!$B$24:$B$5800,B52,Limit_Deviation_Detail!$C$24:$C$5800,C52,Limit_Deviation_Detail!$E$24:$E$5800,D52,Limit_Deviation_Detail!$I$24:$I$5800,\"Other Known Causes\"))","v":""},{"$f":"IF($E52=\"\",\"\",SUMIFS(Limit_Deviation_Detail!$H$24:$H$5800,Limit_Deviation_Detail!$B$24:$B$5800,B52,Limit_Deviation_Detail!$C$24:$C$5800,C52,Limit_Deviation_Detail!$E$24:$E$5800,D52,Limit_Deviation_Detail!$I$24:$I$5800,\"Unknown Causes\"))","v":""}]
[null,{"$f":"IF(Lists!Z31=\"\",\"\",Lists!Z31)","v":""},{"$f":"IF(Lists!AA31=\"\",\"\",Lists!AA31)","v":""},{"$f":"IF(Lists!AB31=\"\",\"\",Lists!AB31)","v":""},{"$f":"IF(Lists!AC31=\"\",\"\",Lists!AD31)","v":""},"","",{"$f":"IF($E53=\"\",\"\",SUMIFS(Limit_Deviation_Detail!$H$24:$H$5800,Limit_Deviation_Detail!$B$24:$B$5800,B53,Limit_Deviation_Detail!$C$24:$C$5800,C53,Limit_Deviation_Detail!$E$24:$E$5800,D53,Limit_Deviation_Detail!$I$24:$I$5800,\"Startup/Shutdown\"))","v":""},{"$f":"IF($E53=\"\",\"\",SUMIFS(Limit_Deviation_Detail!$H$24:$H$5800,Limit_Deviation_Detail!$B$24:$B$5800,B53,Limit_Deviation_Detail!$C$24:$C$5800,C53,Limit_Deviation_Detail!$E$24:$E$5800,D53,Limit_Deviation_Detail!$I$24:$I$5800,\"Control Equipment Problems\"))","v":""},{"$f":"IF($E53=\"\",\"\",SUMIFS(Limit_Deviation_Detail!$H$24:$H$5800,Limit_Deviation_Detail!$B$24:$B$5800,B53,Limit_Deviation_Detail!$C$24:$C$5800,C53,Limit_Deviation_Detail!$E$24:$E$5800,D53,Limit_Deviation_Detail!$I$24:$I$5800,\"Process Problems\"))","v":""},{"$f":"IF($E53=\"\",\"\",SUMIFS(Limit_Deviation_Detail!$H$24:$H$5800,Limit_Deviation_Detail!$B$24:$B$5800,B53,Limit_Deviation_Detail!$C$24:$C$5800,C53,Limit_Deviation_Detail!$E$24:$E$5800,D53,Limit_Deviation_Detail!$I$24:$I$5800,\"Other Known Causes\"))","v":""},{"$f":"IF($E53=\"\",\"\",SUMIFS(Limit_Deviation_Detail!$H$24:$H$5800,Limit_Deviation_Detail!$B$24:$B$5800,B53,Limit_Deviation_Detail!$C$24:$C$5800,C53,Limit_Deviation_Detail!$E$24:$E$5800,D53,Limit_Deviation_Detail!$I$24:$I$5800,\"Unknown Causes\"))","v":""}]
[null,{"$f":"IF(Lists!Z32=\"\",\"\",Lists!Z32)","v":""},{"$f":"IF(Lists!AA32=\"\",\"\",Lists!AA32)","v":""},{"$f":"IF(Lists!AB32=\"\",\"\",Lists!AB32)","v":""},{"$f":"IF(Lists!AC32=\"\",\"\",Lists!AD32)","v":""},"","",{"$f":"IF($E54=\"\",\"\",SUMIFS(Limit_Deviation_Detail!$H$24:$H$5800,Limit_Deviation_Detail!$B$24:$B$5800,B54,Limit_Deviation_Detail!$C$24:$C$5800,C54,Limit_Deviation_Detail!$E$24:$E$5800,D54,Limit_Deviation_Detail!$I$24:$I$5800,\"Startup/Shutdown\"))","v":""},{"$f":"IF($E54=\"\",\"\",SUMIFS(Limit_Deviation_Detail!$H$24:$H$5800,Limit_Deviation_Detail!$B$24:$B$5800,B54,Limit_Deviation_Detail!$C$24:$C$5800,C54,Limit_Deviation_Detail!$E$24:$E$5800,D54,Limit_Deviation_Detail!$I$24:$I$5800,\"Control Equipment Problems\"))","v":""},{"$f":"IF($E54=\"\",\"\",SUMIFS(Limit_Deviation_Detail!$H$24:$H$5800,Limit_Deviation_Detail!$B$24:$B$5800,B54,Limit_Deviation_Detail!$C$24:$C$5800,C54,Limit_Deviation_Detail!$E$24:$E$5800,D54,Limit_Deviation_Detail!$I$24:$I$5800,\"Process Problems\"))","v":""},{"$f":"IF($E54=\"\",\"\",SUMIFS(Limit_Deviation_Detail!$H$24:$H$5800,Limit_Deviation_Detail!$B$24:$B$5800,B54,Limit_Deviation_Detail!$C$24:$C$5800,C54,Limit_Deviation_Detail!$E$24:$E$5800,D54,Limit_Deviation_Detail!$I$24:$I$5800,\"Other Known Causes\"))","v":""},{"$f":"IF($E54=\"\",\"\",SUMIFS(Limit_Deviation_Detail!$H$24:$H$5800,Limit_Deviation_Detail!$B$24:$B$5800,B54,Limit_Deviation_Detail!$C$24:$C$5800,C54,Limit_Deviation_Detail!$E$24:$E$5800,D54,Limit_Deviation_Detail!$I$24:$I$5800,\"Unknown Causes\"))","v":""}]
[null,{"$f":"IF(Lists!Z33=\"\",\"\",Lists!Z33)","v":""},{"$f":"IF(Lists!AA33=\"\",\"\",Lists!AA33)","v":""},{"$f":"IF(Lists!AB33=\"\",\"\",Lists!AB33)","v":""},{"$f":"IF(Lists!AC33=\"\",\"\",Lists!AD33)","v":""},"","",{"$f":"IF($E55=\"\",\"\",SUMIFS(Limit_Deviation_Detail!$H$24:$H$5800,Limit_Deviation_Detail!$B$24:$B$5800,B55,Limit_Deviation_Detail!$C$24:$C$5800,C55,Limit_Deviation_Detail!$E$24:$E$5800,D55,Limit_Deviation_Detail!$I$24:$I$5800,\"Startup/Shutdown\"))","v":""},{"$f":"IF($E55=\"\",\"\",SUMIFS(Limit_Deviation_Detail!$H$24:$H$5800,Limit_Deviation_Detail!$B$24:$B$5800,B55,Limit_Deviation_Detail!$C$24:$C$5800,C55,Limit_Deviation_Detail!$E$24:$E$5800,D55,Limit_Deviation_Detail!$I$24:$I$5800,\"Control Equipment Problems\"))","v":""},{"$f":"IF($E55=\"\",\"\",SUMIFS(Limit_Deviation_Detail!$H$24:$H$5800,Limit_Deviation_Detail!$B$24:$B$5800,B55,Limit_Deviation_Detail!$C$24:$C$5800,C55,Limit_Deviation_Detail!$E$24:$E$5800,D55,Limit_Deviation_Detail!$I$24:$I$5800,\"Process Problems\"))","v":""},{"$f":"IF($E55=\"\",\"\",SUMIFS(Limit_Deviation_Detail!$H$24:$H$5800,Limit_Deviation_Detail!$B$24:$B$5800,B55,Limit_Deviation_Detail!$C$24:$C$5800,C55,Limit_Deviation_Detail!$E$24:$E$5800,D55,Limit_Deviation_Detail!$I$24:$I$5800,\"Other Known Causes\"))","v":""},{"$f":"IF($E55=\"\",\"\",SUMIFS(Limit_Deviation_Detail!$H$24:$H$5800,Limit_Deviation_Detail!$B$24:$B$5800,B55,Limit_Deviation_Detail!$C$24:$C$5800,C55,Limit_Deviation_Detail!$E$24:$E$5800,D55,Limit_Deviation_Detail!$I$24:$I$5800,\"Unknown Causes\"))","v":""}]
[null,{"$f":"IF(Lists!Z34=\"\",\"\",Lists!Z34)","v":""},{"$f":"IF(Lists!AA34=\"\",\"\",Lists!AA34)","v":""},{"$f":"IF(Lists!AB34=\"\",\"\",Lists!AB34)","v":""},{"$f":"IF(Lists!AC34=\"\",\"\",Lists!AD34)","v":""},{"$f":"IF(E56=\"\",\"\",SUM(H56:L56))","v":""},"",{"$f":"IF($E56=\"\",\"\",SUMIFS(Limit_Deviation_Detail!$H$24:$H$5800,Limit_Deviation_Detail!$B$24:$B$5800,B56,Limit_Deviation_Detail!$C$24:$C$5800,C56,Limit_Deviation_Detail!$E$24:$E$5800,D56,Limit_Deviation_Detail!$I$24:$I$5800,\"Startup/Shutdown\"))","v":""},{"$f":"IF($E56=\"\",\"\",SUMIFS(Limit_Deviation_Detail!$H$24:$H$5800,Limit_Deviation_Detail!$B$24:$B$5800,B56,Limit_Deviation_Detail!$C$24:$C$5800,C56,Limit_Deviation_Detail!$E$24:$E$5800,D56,Limit_Deviation_Detail!$I$24:$I$5800,\"Control Equipment Problems\"))","v":""},{"$f":"IF($E56=\"\",\"\",SUMIFS(Limit_Deviation_Detail!$H$24:$H$5800,Limit_Deviation_Detail!$B$24:$B$5800,B56,Limit_Deviation_Detail!$C$24:$C$5800,C56,Limit_Deviation_Detail!$E$24:$E$5800,D56,Limit_Deviation_Detail!$I$24:$I$5800,\"Process Problems\"))","v":""},{"$f":"IF($E56=\"\",\"\",SUMIFS(Limit_Deviation_Detail!$H$24:$H$5800,Limit_Deviation_Detail!$B$24:$B$5800,B56,Limit_Deviation_Detail!$C$24:$C$5800,C56,Limit_Deviation_Detail!$E$24:$E$5800,D56,Limit_Deviation_Detail!$I$24:$I$5800,\"Other Known Causes\"))","v":""},{"$f":"IF($E56=\"\",\"\",SUMIFS(Limit_Deviation_Detail!$H$24:$H$5800,Limit_Deviation_Detail!$B$24:$B$5800,B56,Limit_Deviation_Detail!$C$24:$C$5800,C56,Limit_Deviation_Detail!$E$24:$E$5800,D56,Limit_Deviation_Detail!$I$24:$I$5800,\"Unknown Causes\"))","v":""}]
[null,{"$f":"IF(Lists!Z35=\"\",\"\",Lists!Z35)","v":""},{"$f":"IF(Lists!AA35=\"\",\"\",Lists!AA35)","v":""},{"$f":"IF(Lists!AB35=\"\",\"\",Lists!AB35)","v":""},{"$f":"IF(Lists!AC35=\"\",\"\",Lists!AD35)","v":""},"","",{"$f":"IF($E57=\"\",\"\",SUMIFS(Limit_Deviation_Detail!$H$24:$H$5800,Limit_Deviation_Detail!$B$24:$B$5800,B57,Limit_Deviation_Detail!$C$24:$C$5800,C57,Limit_Deviation_Detail!$E$24:$E$5800,D57,Limit_Deviation_Detail!$I$24:$I$5800,\"Startup/Shutdown\"))","v":""},{"$f":"IF($E57=\"\",\"\",SUMIFS(Limit_Deviation_Detail!$H$24:$H$5800,Limit_Deviation_Detail!$B$24:$B$5800,B57,Limit_Deviation_Detail!$C$24:$C$5800,C57,Limit_Deviation_Detail!$E$24:$E$5800,D57,Limit_Deviation_Detail!$I$24:$I$5800,\"Control Equipment Problems\"))","v":""},{"$f":"IF($E57=\"\",\"\",SUMIFS(Limit_Deviation_Detail!$H$24:$H$5800,Limit_Deviation_Detail!$B$24:$B$5800,B57,Limit_Deviation_Detail!$C$24:$C$5800,C57,Limit_Deviation_Detail!$E$24:$E$5800,D57,Limit_Deviation_Detail!$I$24:$I$5800,\"Process Problems\"))","v":""},{"$f":"IF($E57=\"\",\"\",SUMIFS(Limit_Deviation_Detail!$H$24:$H$5800,Limit_Deviation_Detail!$B$24:$B$5800,B57,Limit_Deviation_Detail!$C$24:$C$5800,C57,Limit_Deviation_Detail!$E$24:$E$5800,D57,Limit_Deviation_Detail!$I$24:$I$5800,\"Other Known Causes\"))","v":""},{"$f":"IF($E57=\"\",\"\",SUMIFS(Limit_Deviation_Detail!$H$24:$H$5800,Limit_Deviation_Detail!$B$24:$B$5800,B57,Limit_Deviation_Detail!$C$24:$C$5800,C57,Limit_Deviation_Detail!$E$24:$E$5800,D57,Limit_Deviation_Detail!$I$24:$I$5800,\"Unknown Causes\"))","v":""}]
[null,{"$f":"IF(Lists!Z36=\"\",\"\",Lists!Z36)","v":""},{"$f":"IF(Lists!AA36=\"\",\"\",Lists!AA36)","v":""},{"$f":"IF(Lists!AB36=\"\",\"\",Lists!AB36)","v":""},{"$f":"IF(Lists!AC36=\"\",\"\",Lists!AD36)","v":""},"","",{"$f":"IF($E58=\"\",\"\",SUMIFS(Limit_Deviation_Detail!$H$24:$H$5800,Limit_Deviation_Detail!$B$24:$B$5800,B58,Limit_Deviation_Detail!$C$24:$C$5800,C58,Limit_Deviation_Detail!$E$24:$E$5800,D58,Limit_Deviation_Detail!$I$24:$I$5800,\"Startup/Shutdown\"))","v":""},{"$f":"IF($E58=\"\",\"\",SUMIFS(Limit_Deviation_Detail!$H$24:$H$5800,Limit_Deviation_Detail!$B$24:$B$5800,B58,Limit_Deviation_Detail!$C$24:$C$5800,C58,Limit_Deviation_Detail!$E$24:$E$5800,D58,Limit_Deviation_Detail!$I$24:$I$5800,\"Control Equipment Problems\"))","v":""},{"$f":"IF($E58=\"\",\"\",SUMIFS(Limit_Deviation_Detail!$H$24:$H$5800,Limit_Deviation_Detail!$B$24:$B$5800,B58,Limit_Deviation_Detail!$C$24:$C$5800,C58,Limit_Deviation_Detail!$E$24:$E$5800,D58,Limit_Deviation_Detail!$I$24:$I$5800,\"Process Problems\"))","v":""},{"$f":"IF($E58=\"\",\"\",SUMIFS(Limit_Deviation_Detail!$H$24:$H$5800,Limit_Deviation_Detail!$B$24:$B$5800,B58,Limit_Deviation_Detail!$C$24:$C$5800,C58,Limit_Deviation_Detail!$E$24:$E$5800,D58,Limit_Deviation_Detail!$I$24:$I$5800,\"Other Known Causes\"))","v":""},{"$f":"IF($E58=\"\",\"\",SUMIFS(Limit_Deviation_Detail!$H$24:$H$5800,Limit_Deviation_Detail!$B$24:$B$5800,B58,Limit_Deviation_Detail!$C$24:$C$5800,C58,Limit_Deviation_Detail!$E$24:$E$5800,D58,Limit_Deviation_Detail!$I$24:$I$5800,\"Unknown Causes\"))","v":""}]
[null,{"$f":"IF(Lists!Z37=\"\",\"\",Lists!Z37)","v":""},{"$f":"IF(Lists!AA37=\"\",\"\",Lists!AA37)","v":""},{"$f":"IF(Lists!AB37=\"\",\"\",Lists!AB37)","v":""},{"$f":"IF(Lists!AC37=\"\",\"\",Lists!AD37)","v":""},"","",{"$f":"IF($E59=\"\",\"\",SUMIFS(Limit_Deviation_Detail!$H$24:$H$5800,Limit_Deviation_Detail!$B$24:$B$5800,B59,Limit_Deviation_Detail!$C$24:$C$5800,C59,Limit_Deviation_Detail!$E$24:$E$5800,D59,Limit_Deviation_Detail!$I$24:$I$5800,\"Startup/Shutdown\"))","v":""},{"$f":"IF($E59=\"\",\"\",SUMIFS(Limit_Deviation_Detail!$H$24:$H$5800,Limit_Deviation_Detail!$B$24:$B$5800,B59,Limit_Deviation_Detail!$C$24:$C$5800,C59,Limit_Deviation_Detail!$E$24:$E$5800,D59,Limit_Deviation_Detail!$I$24:$I$5800,\"Control Equipment Problems\"))","v":""},{"$f":"IF($E59=\"\",\"\",SUMIFS(Limit_Deviation_Detail!$H$24:$H$5800,Limit_Deviation_Detail!$B$24:$B$5800,B59,Limit_Deviation_Detail!$C$24:$C$5800,C59,Limit_Deviation_Detail!$E$24:$E$5800,D59,Limit_Deviation_Detail!$I$24:$I$5800,\"Process Problems\"))","v":""},{"$f":"IF($E59=\"\",\"\",SUMIFS(Limit_Deviation_Detail!$H$24:$H$5800,Limit_Deviation_Detail!$B$24:$B$5800,B59,Limit_Deviation_Detail!$C$24:$C$5800,C59,Limit_Deviation_Detail!$E$24:$E$5800,D59,Limit_Deviation_Detail!$I$24:$I$5800,\"Other Known Causes\"))","v":""},{"$f":"IF($E59=\"\",\"\",SUMIFS(Limit_Deviation_Detail!$H$24:$H$5800,Limit_Deviation_Detail!$B$24:$B$5800,B59,Limit_Deviation_Detail!$C$24:$C$5800,C59,Limit_Deviation_Detail!$E$24:$E$5800,D59,Limit_Deviation_Detail!$I$24:$I$5800,\"Unknown Causes\"))","v":""}]
[null,{"$f":"IF(Lists!Z38=\"\",\"\",Lists!Z38)","v":""},{"$f":"IF(Lists!AA38=\"\",\"\",Lists!AA38)","v":""},{"$f":"IF(Lists!AB38=\"\",\"\",Lists!AB38)","v":""},{"$f":"IF(Lists!AC38=\"\",\"\",Lists!AD38)","v":""},"","",{"$f":"IF($E60=\"\",\"\",SUMIFS(Limit_Deviation_Detail!$H$24:$H$5800,Limit_Deviation_Detail!$B$24:$B$5800,B60,Limit_Deviation_Detail!$C$24:$C$5800,C60,Limit_Deviation_Detail!$E$24:$E$5800,D60,Limit_Deviation_Detail!$I$24:$I$5800,\"Startup/Shutdown\"))","v":""},{"$f":"IF($E60=\"\",\"\",SUMIFS(Limit_Deviation_Detail!$H$24:$H$5800,Limit_Deviation_Detail!$B$24:$B$5800,B60,Limit_Deviation_Detail!$C$24:$C$5800,C60,Limit_Deviation_Detail!$E$24:$E$5800,D60,Limit_Deviation_Detail!$I$24:$I$5800,\"Control Equipment Problems\"))","v":""},{"$f":"IF($E60=\"\",\"\",SUMIFS(Limit_Deviation_Detail!$H$24:$H$5800,Limit_Deviation_Detail!$B$24:$B$5800,B60,Limit_Deviation_Detail!$C$24:$C$5800,C60,Limit_Deviation_Detail!$E$24:$E$5800,D60,Limit_Deviation_Detail!$I$24:$I$5800,\"Process Problems\"))","v":""},{"$f":"IF($E60=\"\",\"\",SUMIFS(Limit_Deviation_Detail!$H$24:$H$5800,Limit_Deviation_Detail!$B$24:$B$5800,B60,Limit_Deviation_Detail!$C$24:$C$5800,C60,Limit_Deviation_Detail!$E$24:$E$5800,D60,Limit_Deviation_Detail!$I$24:$I$5800,\"Other Known Causes\"))","v":""},{"$f":"IF($E60=\"\",\"\",SUMIFS(Limit_Deviation_Detail!$H$24:$H$5800,Limit_Deviation_Detail!$B$24:$B$5800,B60,Limit_Deviation_Detail!$C$24:$C$5800,C60,Limit_Deviation_Detail!$E$24:$E$5800,D60,Limit_Deviation_Detail!$I$24:$I$5800,\"Unknown Causes\"))","v":""}]
[null,{"$f":"IF(Lists!Z39=\"\",\"\",Lists!Z39)","v":""},{"$f":"IF(Lists!AA39=\"\",\"\",Lists!AA39)","v":""},{"$f":"IF(Lists!AB39=\"\",\"\",Lists!AB39)","v":""},{"$f":"IF(Lists!AC39=\"\",\"\",Lists!AD39)","v":""},"","",{"$f":"IF($E61=\"\",\"\",SUMIFS(Limit_Deviation_Detail!$H$24:$H$5800,Limit_Deviation_Detail!$B$24:$B$5800,B61,Limit_Deviation_Detail!$C$24:$C$5800,C61,Limit_Deviation_Detail!$E$24:$E$5800,D61,Limit_Deviation_Detail!$I$24:$I$5800,\"Startup/Shutdown\"))","v":""},{"$f":"IF($E61=\"\",\"\",SUMIFS(Limit_Deviation_Detail!$H$24:$H$5800,Limit_Deviation_Detail!$B$24:$B$5800,B61,Limit_Deviation_Detail!$C$24:$C$5800,C61,Limit_Deviation_Detail!$E$24:$E$5800,D61,Limit_Deviation_Detail!$I$24:$I$5800,\"Control Equipment Problems\"))","v":""},{"$f":"IF($E61=\"\",\"\",SUMIFS(Limit_Deviation_Detail!$H$24:$H$5800,Limit_Deviation_Detail!$B$24:$B$5800,B61,Limit_Deviation_Detail!$C$24:$C$5800,C61,Limit_Deviation_Detail!$E$24:$E$5800,D61,Limit_Deviation_Detail!$I$24:$I$5800,\"Process Problems\"))","v":""},{"$f":"IF($E61=\"\",\"\",SUMIFS(Limit_Deviation_Detail!$H$24:$H$5800,Limit_Deviation_Detail!$B$24:$B$5800,B61,Limit_Deviation_Detail!$C$24:$C$5800,C61,Limit_Deviation_Detail!$E$24:$E$5800,D61,Limit_Deviation_Detail!$I$24:$I$5800,\"Other Known Causes\"))","v":""},{"$f":"IF($E61=\"\",\"\",SUMIFS(Limit_Deviation_Detail!$H$24:$H$5800,Limit_Deviation_Detail!$B$24:$B$5800,B61,Limit_Deviation_Detail!$C$24:$C$5800,C61,Limit_Deviation_Detail!$E$24:$E$5800,D61,Limit_Deviation_Detail!$I$24:$I$5800,\"Unknown Causes\"))","v":""}]
[null,{"$f":"IF(Lists!Z40=\"\",\"\",Lists!Z40)","v":""},{"$f":"IF(Lists!AA40=\"\",\"\",Lists!AA40)","v":""},{"$f":"IF(Lists!AB40=\"\",\"\",Lists!AB40)","v":""},{"$f":"IF(Lists!AC40=\"\",\"\",Lists!AD40)","v":""},"","",{"$f":"IF($E62=\"\",\"\",SUMIFS(Limit_Deviation_Detail!$H$24:$H$5800,Limit_Deviation_Detail!$B$24:$B$5800,B62,Limit_Deviation_Detail!$C$24:$C$5800,C62,Limit_Deviation_Detail!$E$24:$E$5800,D62,Limit_Deviation_Detail!$I$24:$I$5800,\"Startup/Shutdown\"))","v":""},{"$f":"IF($E62=\"\",\"\",SUMIFS(Limit_Deviation_Detail!$H$24:$H$5800,Limit_Deviation_Detail!$B$24:$B$5800,B62,Limit_Deviation_Detail!$C$24:$C$5800,C62,Limit_Deviation_Detail!$E$24:$E$5800,D62,Limit_Deviation_Detail!$I$24:$I$5800,\"Control Equipment Problems\"))","v":""},{"$f":"IF($E62=\"\",\"\",SUMIFS(Limit_Deviation_Detail!$H$24:$H$5800,Limit_Deviation_Detail!$B$24:$B$5800,B62,Limit_Deviation_Detail!$C$24:$C$5800,C62,Limit_Deviation_Detail!$E$24:$E$5800,D62,Limit_Deviation_Detail!$I$24:$I$5800,\"Process Problems\"))","v":""},{"$f":"IF($E62=\"\",\"\",SUMIFS(Limit_Deviation_Detail!$H$24:$H$5800,Limit_Deviation_Detail!$B$24:$B$5800,B62,Limit_Deviation_Detail!$C$24:$C$5800,C62,Limit_Deviation_Detail!$E$24:$E$5800,D62,Limit_Deviation_Detail!$I$24:$I$5800,\"Other Known Causes\"))","v":""},{"$f":"IF($E62=\"\",\"\",SUMIFS(Limit_Deviation_Detail!$H$24:$H$5800,Limit_Deviation_Detail!$B$24:$B$5800,B62,Limit_Deviation_Detail!$C$24:$C$5800,C62,Limit_Deviation_Detail!$E$24:$E$5800,D62,Limit_Deviation_Detail!$I$24:$I$5800,\"Unknown Causes\"))","v":""}]
[null,{"$f":"IF(Lists!Z41=\"\",\"\",Lists!Z41)","v":""},{"$f":"IF(Lists!AA41=\"\",\"\",Lists!AA41)","v":""},{"$f":"IF(Lists!AB41=\"\",\"\",Lists!AB41)","v":""},{"$f":"IF(Lists!AC41=\"\",\"\",Lists!AD41)","v":""},"","",{"$f":"IF($E63=\"\",\"\",SUMIFS(Limit_Deviation_Detail!$H$24:$H$5800,Limit_Deviation_Detail!$B$24:$B$5800,B63,Limit_Deviation_Detail!$C$24:$C$5800,C63,Limit_Deviation_Detail!$E$24:$E$5800,D63,Limit_Deviation_Detail!$I$24:$I$5800,\"Startup/Shutdown\"))","v":""},{"$f":"IF($E63=\"\",\"\",SUMIFS(Limit_Deviation_Detail!$H$24:$H$5800,Limit_Deviation_Detail!$B$24:$B$5800,B63,Limit_Deviation_Detail!$C$24:$C$5800,C63,Limit_Deviation_Detail!$E$24:$E$5800,D63,Limit_Deviation_Detail!$I$24:$I$5800,\"Control Equipment Problems\"))","v":""},{"$f":"IF($E63=\"\",\"\",SUMIFS(Limit_Deviation_Detail!$H$24:$H$5800,Limit_Deviation_Detail!$B$24:$B$5800,B63,Limit_Deviation_Detail!$C$24:$C$5800,C63,Limit_Deviation_Detail!$E$24:$E$5800,D63,Limit_Deviation_Detail!$I$24:$I$5800,\"Process Problems\"))","v":""},{"$f":"IF($E63=\"\",\"\",SUMIFS(Limit_Deviation_Detail!$H$24:$H$5800,Limit_Deviation_Detail!$B$24:$B$5800,B63,Limit_Deviation_Detail!$C$24:$C$5800,C63,Limit_Deviation_Detail!$E$24:$E$5800,D63,Limit_Deviation_Detail!$I$24:$I$5800,\"Other Known Causes\"))","v":""},{"$f":"IF($E63=\"\",\"\",SUMIFS(Limit_Deviation_Detail!$H$24:$H$5800,Limit_Deviation_Detail!$B$24:$B$5800,B63,Limit_Deviation_Detail!$C$24:$C$5800,C63,Limit_Deviation_Detail!$E$24:$E$5800,D63,Limit_Deviation_Detail!$I$24:$I$5800,\"Unknown Causes\"))","v":""}]
[null,{"$f":"IF(Lists!Z42=\"\",\"\",Lists!Z42)","v":""},{"$f":"IF(Lists!AA42=\"\",\"\",Lists!AA42)","v":""},{"$f":"IF(Lists!AB42=\"\",\"\",Lists!AB42)","v":""},{"$f":"IF(Lists!AC42=\"\",\"\",Lists!AD42)","v":""},"","",{"$f":"IF($E64=\"\",\"\",SUMIFS(Limit_Deviation_Detail!$H$24:$H$5800,Limit_Deviation_Detail!$B$24:$B$5800,B64,Limit_Deviation_Detail!$C$24:$C$5800,C64,Limit_Deviation_Detail!$E$24:$E$5800,D64,Limit_Deviation_Detail!$I$24:$I$5800,\"Startup/Shutdown\"))","v":""},{"$f":"IF($E64=\"\",\"\",SUMIFS(Limit_Deviation_Detail!$H$24:$H$5800,Limit_Deviation_Detail!$B$24:$B$5800,B64,Limit_Deviation_Detail!$C$24:$C$5800,C64,Limit_Deviation_Detail!$E$24:$E$5800,D64,Limit_Deviation_Detail!$I$24:$I$5800,\"Control Equipment Problems\"))","v":""},{"$f":"IF($E64=\"\",\"\",SUMIFS(Limit_Deviation_Detail!$H$24:$H$5800,Limit_Deviation_Detail!$B$24:$B$5800,B64,Limit_Deviation_Detail!$C$24:$C$5800,C64,Limit_Deviation_Detail!$E$24:$E$5800,D64,Limit_Deviation_Detail!$I$24:$I$5800,\"Process Problems\"))","v":""},{"$f":"IF($E64=\"\",\"\",SUMIFS(Limit_Deviation_Detail!$H$24:$H$5800,Limit_Deviation_Detail!$B$24:$B$5800,B64,Limit_Deviation_Detail!$C$24:$C$5800,C64,Limit_Deviation_Detail!$E$24:$E$5800,D64,Limit_Deviation_Detail!$I$24:$I$5800,\"Other Known Causes\"))","v":""},{"$f":"IF($E64=\"\",\"\",SUMIFS(Limit_Deviation_Detail!$H$24:$H$5800,Limit_Deviation_Detail!$B$24:$B$5800,B64,Limit_Deviation_Detail!$C$24:$C$5800,C64,Limit_Deviation_Detail!$E$24:$E$5800,D64,Limit_Deviation_Detail!$I$24:$I$5800,\"Unknown Causes\"))","v":""}]
[null,{"$f":"IF(Lists!Z43=\"\",\"\",Lists!Z43)","v":""},{"$f":"IF(Lists!AA43=\"\",\"\",Lists!AA43)","v":""},{"$f":"IF(Lists!AB43=\"\",\"\",Lists!AB43)","v":""},{"$f":"IF(Lists!AC43=\"\",\"\",Lists!AD43)","v":""},"","",{"$f":"IF($E65=\"\",\"\",SUMIFS(Limit_Deviation_Detail!$H$24:$H$5800,Limit_Deviation_Detail!$B$24:$B$5800,B65,Limit_Deviation_Detail!$C$24:$C$5800,C65,Limit_Deviation_Detail!$E$24:$E$5800,D65,Limit_Deviation_Detail!$I$24:$I$5800,\"Startup/Shutdown\"))","v":""},{"$f":"IF($E65=\"\",\"\",SUMIFS(Limit_Deviation_Detail!$H$24:$H$5800,Limit_Deviation_Detail!$B$24:$B$5800,B65,Limit_Deviation_Detail!$C$24:$C$5800,C65,Limit_Deviation_Detail!$E$24:$E$5800,D65,Limit_Deviation_Detail!$I$24:$I$5800,\"Control Equipment Problems\"))","v":""},{"$f":"IF($E65=\"\",\"\",SUMIFS(Limit_Deviation_Detail!$H$24:$H$5800,Limit_Deviation_Detail!$B$24:$B$5800,B65,Limit_Deviation_Detail!$C$24:$C$5800,C65,Limit_Deviation_Detail!$E$24:$E$5800,D65,Limit_Deviation_Detail!$I$24:$I$5800,\"Process Problems\"))","v":""},{"$f":"IF($E65=\"\",\"\",SUMIFS(Limit_Deviation_Detail!$H$24:$H$5800,Limit_Deviation_Detail!$B$24:$B$5800,B65,Limit_Deviation_Detail!$C$24:$C$5800,C65,Limit_Deviation_Detail!$E$24:$E$5800,D65,Limit_Deviation_Detail!$I$24:$I$5800,\"Other Known Causes\"))","v":""},{"$f":"IF($E65=\"\",\"\",SUMIFS(Limit_Deviation_Detail!$H$24:$H$5800,Limit_Deviation_Detail!$B$24:$B$5800,B65,Limit_Deviation_Detail!$C$24:$C$5800,C65,Limit_Deviation_Detail!$E$24:$E$5800,D65,Limit_Deviation_Detail!$I$24:$I$5800,\"Unknown Causes\"))","v":""}]
[null,{"$f":"IF(Lists!Z44=\"\",\"\",Lists!Z44)","v":""},{"$f":"IF(Lists!AA44=\"\",\"\",Lists!AA44)","v":""},{"$f":"IF(Lists!AB44=\"\",\"\",Lists!AB44)","v":""},{"$f":"IF(Lists!AC44=\"\",\"\",Lists!AD44)","v":""},"","",{"$f":"IF($E66=\"\",\"\",SUMIFS(Limit_Deviation_Detail!$H$24:$H$5800,Limit_Deviation_Detail!$B$24:$B$5800,B66,Limit_Deviation_Detail!$C$24:$C$5800,C66,Limit_Deviation_Detail!$E$24:$E$5800,D66,Limit_Deviation_Detail!$I$24:$I$5800,\"Startup/Shutdown\"))","v":""},{"$f":"IF($E66=\"\",\"\",SUMIFS(Limit_Deviation_Detail!$H$24:$H$5800,Limit_Deviation_Detail!$B$24:$B$5800,B66,Limit_Deviation_Detail!$C$24:$C$5800,C66,Limit_Deviation_Detail!$E$24:$E$5800,D66,Limit_Deviation_Detail!$I$24:$I$5800,\"Control Equipment Problems\"))","v":""},{"$f":"IF($E66=\"\",\"\",SUMIFS(Limit_Deviation_Detail!$H$24:$H$5800,Limit_Deviation_Detail!$B$24:$B$5800,B66,Limit_Deviation_Detail!$C$24:$C$5800,C66,Limit_Deviation_Detail!$E$24:$E$5800,D66,Limit_Deviation_Detail!$I$24:$I$5800,\"Process Problems\"))","v":""},{"$f":"IF($E66=\"\",\"\",SUMIFS(Limit_Deviation_Detail!$H$24:$H$5800,Limit_Deviation_Detail!$B$24:$B$5800,B66,Limit_Deviation_Detail!$C$24:$C$5800,C66,Limit_Deviation_Detail!$E$24:$E$5800,D66,Limit_Deviation_Detail!$I$24:$I$5800,\"Other Known Causes\"))","v":""},{"$f":"IF($E66=\"\",\"\",SUMIFS(Limit_Deviation_Detail!$H$24:$H$5800,Limit_Deviation_Detail!$B$24:$B$5800,B66,Limit_Deviation_Detail!$C$24:$C$5800,C66,Limit_Deviation_Detail!$E$24:$E$5800,D66,Limit_Deviation_Detail!$I$24:$I$5800,\"Unknown Causes\"))","v":""}]
[null,{"$f":"IF(Lists!Z45=\"\",\"\",Lists!Z45)","v":""},{"$f":"IF(Lists!AA45=\"\",\"\",Lists!AA45)","v":""},{"$f":"IF(Lists!AB45=\"\",\"\",Lists!AB45)","v":""},{"$f":"IF(Lists!AC45=\"\",\"\",Lists!AD45)","v":""},"","",{"$f":"IF($E67=\"\",\"\",SUMIFS(Limit_Deviation_Detail!$H$24:$H$5800,Limit_Deviation_Detail!$B$24:$B$5800,B67,Limit_Deviation_Detail!$C$24:$C$5800,C67,Limit_Deviation_Detail!$E$24:$E$5800,D67,Limit_Deviation_Detail!$I$24:$I$5800,\"Startup/Shutdown\"))","v":""},{"$f":"IF($E67=\"\",\"\",SUMIFS(Limit_Deviation_Detail!$H$24:$H$5800,Limit_Deviation_Detail!$B$24:$B$5800,B67,Limit_Deviation_Detail!$C$24:$C$5800,C67,Limit_Deviation_Detail!$E$24:$E$5800,D67,Limit_Deviation_Detail!$I$24:$I$5800,\"Control Equipment Problems\"))","v":""},{"$f":"IF($E67=\"\",\"\",SUMIFS(Limit_Deviation_Detail!$H$24:$H$5800,Limit_Deviation_Detail!$B$24:$B$5800,B67,Limit_Deviation_Detail!$C$24:$C$5800,C67,Limit_Deviation_Detail!$E$24:$E$5800,D67,Limit_Deviation_Detail!$I$24:$I$5800,\"Process Problems\"))","v":""},{"$f":"IF($E67=\"\",\"\",SUMIFS(Limit_Deviation_Detail!$H$24:$H$5800,Limit_Deviation_Detail!$B$24:$B$5800,B67,Limit_Deviation_Detail!$C$24:$C$5800,C67,Limit_Deviation_Detail!$E$24:$E$5800,D67,Limit_Deviation_Detail!$I$24:$I$5800,\"Other Known Causes\"))","v":""},{"$f":"IF($E67=\"\",\"\",SUMIFS(Limit_Deviation_Detail!$H$24:$H$5800,Limit_Deviation_Detail!$B$24:$B$5800,B67,Limit_Deviation_Detail!$C$24:$C$5800,C67,Limit_Deviation_Detail!$E$24:$E$5800,D67,Limit_Deviation_Detail!$I$24:$I$5800,\"Unknown Causes\"))","v":""}]
[null,{"$f":"IF(Lists!Z46=\"\",\"\",Lists!Z46)","v":""},{"$f":"IF(Lists!AA46=\"\",\"\",Lists!AA46)","v":""},{"$f":"IF(Lists!AB46=\"\",\"\",Lists!AB46)","v":""},{"$f":"IF(Lists!AC46=\"\",\"\",Lists!AD46)","v":""},"","",{"$f":"IF($E68=\"\",\"\",SUMIFS(Limit_Deviation_Detail!$H$24:$H$5800,Limit_Deviation_Detail!$B$24:$B$5800,B68,Limit_Deviation_Detail!$C$24:$C$5800,C68,Limit_Deviation_Detail!$E$24:$E$5800,D68,Limit_Deviation_Detail!$I$24:$I$5800,\"Startup/Shutdown\"))","v":""},{"$f":"IF($E68=\"\",\"\",SUMIFS(Limit_Deviation_Detail!$H$24:$H$5800,Limit_Deviation_Detail!$B$24:$B$5800,B68,Limit_Deviation_Detail!$C$24:$C$5800,C68,Limit_Deviation_Detail!$E$24:$E$5800,D68,Limit_Deviation_Detail!$I$24:$I$5800,\"Control Equipment Problems\"))","v":""},{"$f":"IF($E68=\"\",\"\",SUMIFS(Limit_Deviation_Detail!$H$24:$H$5800,Limit_Deviation_Detail!$B$24:$B$5800,B68,Limit_Deviation_Detail!$C$24:$C$5800,C68,Limit_Deviation_Detail!$E$24:$E$5800,D68,Limit_Deviation_Detail!$I$24:$I$5800,\"Process Problems\"))","v":""},{"$f":"IF($E68=\"\",\"\",SUMIFS(Limit_Deviation_Detail!$H$24:$H$5800,Limit_Deviation_Detail!$B$24:$B$5800,B68,Limit_Deviation_Detail!$C$24:$C$5800,C68,Limit_Deviation_Detail!$E$24:$E$5800,D68,Limit_Deviation_Detail!$I$24:$I$5800,\"Other Known Causes\"))","v":""},{"$f":"IF($E68=\"\",\"\",SUMIFS(Limit_Deviation_Detail!$H$24:$H$5800,Limit_Deviation_Detail!$B$24:$B$5800,B68,Limit_Deviation_Detail!$C$24:$C$5800,C68,Limit_Deviation_Detail!$E$24:$E$5800,D68,Limit_Deviation_Detail!$I$24:$I$5800,\"Unknown Causes\"))","v":""}]
[null,{"$f":"IF(Lists!Z47=\"\",\"\",Lists!Z47)","v":""},{"$f":"IF(Lists!AA47=\"\",\"\",Lists!AA47)","v":""},{"$f":"IF(Lists!AB47=\"\",\"\",Lists!AB47)","v":""},{"$f":"IF(Lists!AC47=\"\",\"\",Lists!AD47)","v":""},"","",{"$f":"IF($E69=\"\",\"\",SUMIFS(Limit_Deviation_Detail!$H$24:$H$5800,Limit_Deviation_Detail!$B$24:$B$5800,B69,Limit_Deviation_Detail!$C$24:$C$5800,C69,Limit_Deviation_Detail!$E$24:$E$5800,D69,Limit_Deviation_Detail!$I$24:$I$5800,\"Startup/Shutdown\"))","v":""},{"$f":"IF($E69=\"\",\"\",SUMIFS(Limit_Deviation_Detail!$H$24:$H$5800,Limit_Deviation_Detail!$B$24:$B$5800,B69,Limit_Deviation_Detail!$C$24:$C$5800,C69,Limit_Deviation_Detail!$E$24:$E$5800,D69,Limit_Deviation_Detail!$I$24:$I$5800,\"Control Equipment Problems\"))","v":""},{"$f":"IF($E69=\"\",\"\",SUMIFS(Limit_Deviation_Detail!$H$24:$H$5800,Limit_Deviation_Detail!$B$24:$B$5800,B69,Limit_Deviation_Detail!$C$24:$C$5800,C69,Limit_Deviation_Detail!$E$24:$E$5800,D69,Limit_Deviation_Detail!$I$24:$I$5800,\"Process Problems\"))","v":""},{"$f":"IF($E69=\"\",\"\",SUMIFS(Limit_Deviation_Detail!$H$24:$H$5800,Limit_Deviation_Detail!$B$24:$B$5800,B69,Limit_Deviation_Detail!$C$24:$C$5800,C69,Limit_Deviation_Detail!$E$24:$E$5800,D69,Limit_Deviation_Detail!$I$24:$I$5800,\"Other Known Causes\"))","v":""},{"$f":"IF($E69=\"\",\"\",SUMIFS(Limit_Deviation_Detail!$H$24:$H$5800,Limit_Deviation_Detail!$B$24:$B$5800,B69,Limit_Deviation_Detail!$C$24:$C$5800,C69,Limit_Deviation_Detail!$E$24:$E$5800,D69,Limit_Deviation_Detail!$I$24:$I$5800,\"Unknown Causes\"))","v":""}]
[null,{"$f":"IF(Lists!Z48=\"\",\"\",Lists!Z48)","v":""},{"$f":"IF(Lists!AA48=\"\",\"\",Lists!AA48)","v":""},{"$f":"IF(Lists!AB48=\"\",\"\",Lists!AB48)","v":""},{"$f":"IF(Lists!AC48=\"\",\"\",Lists!AD48)","v":""},"","",{"$f":"IF($E70=\"\",\"\",SUMIFS(Limit_Deviation_Detail!$H$24:$H$5800,Limit_Deviation_Detail!$B$24:$B$5800,B70,Limit_Deviation_Detail!$C$24:$C$5800,C70,Limit_Deviation_Detail!$E$24:$E$5800,D70,Limit_Deviation_Detail!$I$24:$I$5800,\"Startup/Shutdown\"))","v":""},{"$f":"IF($E70=\"\",\"\",SUMIFS(Limit_Deviation_Detail!$H$24:$H$5800,Limit_Deviation_Detail!$B$24:$B$5800,B70,Limit_Deviation_Detail!$C$24:$C$5800,C70,Limit_Deviation_Detail!$E$24:$E$5800,D70,Limit_Deviation_Detail!$I$24:$I$5800,\"Control Equipment Problems\"))","v":""},{"$f":"IF($E70=\"\",\"\",SUMIFS(Limit_Deviation_Detail!$H$24:$H$5800,Limit_Deviation_Detail!$B$24:$B$5800,B70,Limit_Deviation_Detail!$C$24:$C$5800,C70,Limit_Deviation_Detail!$E$24:$E$5800,D70,Limit_Deviation_Detail!$I$24:$I$5800,\"Process Problems\"))","v":""},{"$f":"IF($E70=\"\",\"\",SUMIFS(Limit_Deviation_Detail!$H$24:$H$5800,Limit_Deviation_Detail!$B$24:$B$5800,B70,Limit_Deviation_Detail!$C$24:$C$5800,C70,Limit_Deviation_Detail!$E$24:$E$5800,D70,Limit_Deviation_Detail!$I$24:$I$5800,\"Other Known Causes\"))","v":""},{"$f":"IF($E70=\"\",\"\",SUMIFS(Limit_Deviation_Detail!$H$24:$H$5800,Limit_Deviation_Detail!$B$24:$B$5800,B70,Limit_Deviation_Detail!$C$24:$C$5800,C70,Limit_Deviation_Detail!$E$24:$E$5800,D70,Limit_Deviation_Detail!$I$24:$I$5800,\"Unknown Causes\"))","v":""}]
[null,{"$f":"IF(Lists!Z49=\"\",\"\",Lists!Z49)","v":""},{"$f":"IF(Lists!AA49=\"\",\"\",Lists!AA49)","v":""},{"$f":"IF(Lists!AB49=\"\",\"\",Lists!AB49)","v":""},{"$f":"IF(Lists!AC49=\"\",\"\",Lists!AD49)","v":""},"","",{"$f":"IF($E71=\"\",\"\",SUMIFS(Limit_Deviation_Detail!$H$24:$H$5800,Limit_Deviation_Detail!$B$24:$B$5800,B71,Limit_Deviation_Detail!$C$24:$C$5800,C71,Limit_Deviation_Detail!$E$24:$E$5800,D71,Limit_Deviation_Detail!$I$24:$I$5800,\"Startup/Shutdown\"))","v":""},{"$f":"IF($E71=\"\",\"\",SUMIFS(Limit_Deviation_Detail!$H$24:$H$5800,Limit_Deviation_Detail!$B$24:$B$5800,B71,Limit_Deviation_Detail!$C$24:$C$5800,C71,Limit_Deviation_Detail!$E$24:$E$5800,D71,Limit_Deviation_Detail!$I$24:$I$5800,\"Control Equipment Problems\"))","v":""},{"$f":"IF($E71=\"\",\"\",SUMIFS(Limit_Deviation_Detail!$H$24:$H$5800,Limit_Deviation_Detail!$B$24:$B$5800,B71,Limit_Deviation_Detail!$C$24:$C$5800,C71,Limit_Deviation_Detail!$E$24:$E$5800,D71,Limit_Deviation_Detail!$I$24:$I$5800,\"Process Problems\"))","v":""},{"$f":"IF($E71=\"\",\"\",SUMIFS(Limit_Deviation_Detail!$H$24:$H$5800,Limit_Deviation_Detail!$B$24:$B$5800,B71,Limit_Deviation_Detail!$C$24:$C$5800,C71,Limit_Deviation_Detail!$E$24:$E$5800,D71,Limit_Deviation_Detail!$I$24:$I$5800,\"Other Known Causes\"))","v":""},{"$f":"IF($E71=\"\",\"\",SUMIFS(Limit_Deviation_Detail!$H$24:$H$5800,Limit_Deviation_Detail!$B$24:$B$5800,B71,Limit_Deviation_Detail!$C$24:$C$5800,C71,Limit_Deviation_Detail!$E$24:$E$5800,D71,Limit_Deviation_Detail!$I$24:$I$5800,\"Unknown Causes\"))","v":""}]
[null,{"$f":"IF(Lists!Z50=\"\",\"\",Lists!Z50)","v":""},{"$f":"IF(Lists!AA50=\"\",\"\",Lists!AA50)","v":""},{"$f":"IF(Lists!AB50=\"\",\"\",Lists!AB50)","v":""},{"$f":"IF(Lists!AC50=\"\",\"\",Lists!AD50)","v":""},"","",{"$f":"IF($E72=\"\",\"\",SUMIFS(Limit_Deviation_Detail!$H$24:$H$5800,Limit_Deviation_Detail!$B$24:$B$5800,B72,Limit_Deviation_Detail!$C$24:$C$5800,C72,Limit_Deviation_Detail!$E$24:$E$5800,D72,Limit_Deviation_Detail!$I$24:$I$5800,\"Startup/Shutdown\"))","v":""},{"$f":"IF($E72=\"\",\"\",SUMIFS(Limit_Deviation_Detail!$H$24:$H$5800,Limit_Deviation_Detail!$B$24:$B$5800,B72,Limit_Deviation_Detail!$C$24:$C$5800,C72,Limit_Deviation_Detail!$E$24:$E$5800,D72,Limit_Deviation_Detail!$I$24:$I$5800,\"Control Equipment Problems\"))","v":""},{"$f":"IF($E72=\"\",\"\",SUMIFS(Limit_Deviation_Detail!$H$24:$H$5800,Limit_Deviation_Detail!$B$24:$B$5800,B72,Limit_Deviation_Detail!$C$24:$C$5800,C72,Limit_Deviation_Detail!$E$24:$E$5800,D72,Limit_Deviation_Detail!$I$24:$I$5800,\"Process Problems\"))","v":""},{"$f":"IF($E72=\"\",\"\",SUMIFS(Limit_Deviation_Detail!$H$24:$H$5800,Limit_Deviation_Detail!$B$24:$B$5800,B72,Limit_Deviation_Detail!$C$24:$C$5800,C72,Limit_Deviation_Detail!$E$24:$E$5800,D72,Limit_Deviation_Detail!$I$24:$I$5800,\"Other Known Causes\"))","v":""},{"$f":"IF($E72=\"\",\"\",SUMIFS(Limit_Deviation_Detail!$H$24:$H$5800,Limit_Deviation_Detail!$B$24:$B$5800,B72,Limit_Deviation_Detail!$C$24:$C$5800,C72,Limit_Deviation_Detail!$E$24:$E$5800,D72,Limit_Deviation_Detail!$I$24:$I$5800,\"Unknown Causes\"))","v":""}]
[null,{"$f":"IF(Lists!Z51=\"\",\"\",Lists!Z51)","v":""},{"$f":"IF(Lists!AA51=\"\",\"\",Lists!AA51)","v":""},{"$f":"IF(Lists!AB51=\"\",\"\",Lists!AB51)","v":""},{"$f":"IF(Lists!AC51=\"\",\"\",Lists!AD51)","v":""},"","",{"$f":"IF($E73=\"\",\"\",SUMIFS(Limit_Deviation_Detail!$H$24:$H$5800,Limit_Deviation_Detail!$B$24:$B$5800,B73,Limit_Deviation_Detail!$C$24:$C$5800,C73,Limit_Deviation_Detail!$E$24:$E$5800,D73,Limit_Deviation_Detail!$I$24:$I$5800,\"Startup/Shutdown\"))","v":""},{"$f":"IF($E73=\"\",\"\",SUMIFS(Limit_Deviation_Detail!$H$24:$H$5800,Limit_Deviation_Detail!$B$24:$B$5800,B73,Limit_Deviation_Detail!$C$24:$C$5800,C73,Limit_Deviation_Detail!$E$24:$E$5800,D73,Limit_Deviation_Detail!$I$24:$I$5800,\"Control Equipment Problems\"))","v":""},{"$f":"IF($E73=\"\",\"\",SUMIFS(Limit_Deviation_Detail!$H$24:$H$5800,Limit_Deviation_Detail!$B$24:$B$5800,B73,Limit_Deviation_Detail!$C$24:$C$5800,C73,Limit_Deviation_Detail!$E$24:$E$5800,D73,Limit_Deviation_Detail!$I$24:$I$5800,\"Process Problems\"))","v":""},{"$f":"IF($E73=\"\",\"\",SUMIFS(Limit_Deviation_Detail!$H$24:$H$5800,Limit_Deviation_Detail!$B$24:$B$5800,B73,Limit_Deviation_Detail!$C$24:$C$5800,C73,Limit_Deviation_Detail!$E$24:$E$5800,D73,Limit_Deviation_Detail!$I$24:$I$5800,\"Other Known Causes\"))","v":""},{"$f":"IF($E73=\"\",\"\",SUMIFS(Limit_Deviation_Detail!$H$24:$H$5800,Limit_Deviation_Detail!$B$24:$B$5800,B73,Limit_Deviation_Detail!$C$24:$C$5800,C73,Limit_Deviation_Detail!$E$24:$E$5800,D73,Limit_Deviation_Detail!$I$24:$I$5800,\"Unknown Causes\"))","v":""}]
[null,{"$f":"IF(Lists!Z52=\"\",\"\",Lists!Z52)","v":""},{"$f":"IF(Lists!AA52=\"\",\"\",Lists!AA52)","v":""},{"$f":"IF(Lists!AB52=\"\",\"\",Lists!AB52)","v":""},{"$f":"IF(Lists!AC52=\"\",\"\",Lists!AD52)","v":""},"","",{"$f":"IF($E74=\"\",\"\",SUMIFS(Limit_Deviation_Detail!$H$24:$H$5800,Limit_Deviation_Detail!$B$24:$B$5800,B74,Limit_Deviation_Detail!$C$24:$C$5800,C74,Limit_Deviation_Detail!$E$24:$E$5800,D74,Limit_Deviation_Detail!$I$24:$I$5800,\"Startup/Shutdown\"))","v":""},{"$f":"IF($E74=\"\",\"\",SUMIFS(Limit_Deviation_Detail!$H$24:$H$5800,Limit_Deviation_Detail!$B$24:$B$5800,B74,Limit_Deviation_Detail!$C$24:$C$5800,C74,Limit_Deviation_Detail!$E$24:$E$5800,D74,Limit_Deviation_Detail!$I$24:$I$5800,\"Control Equipment Problems\"))","v":""},{"$f":"IF($E74=\"\",\"\",SUMIFS(Limit_Deviation_Detail!$H$24:$H$5800,Limit_Deviation_Detail!$B$24:$B$5800,B74,Limit_Deviation_Detail!$C$24:$C$5800,C74,Limit_Deviation_Detail!$E$24:$E$5800,D74,Limit_Deviation_Detail!$I$24:$I$5800,\"Process Problems\"))","v":""},{"$f":"IF($E74=\"\",\"\",SUMIFS(Limit_Deviation_Detail!$H$24:$H$5800,Limit_Deviation_Detail!$B$24:$B$5800,B74,Limit_Deviation_Detail!$C$24:$C$5800,C74,Limit_Deviation_Detail!$E$24:$E$5800,D74,Limit_Deviation_Detail!$I$24:$I$5800,\"Other Known Causes\"))","v":""},{"$f":"IF($E74=\"\",\"\",SUMIFS(Limit_Deviation_Detail!$H$24:$H$5800,Limit_Deviation_Detail!$B$24:$B$5800,B74,Limit_Deviation_Detail!$C$24:$C$5800,C74,Limit_Deviation_Detail!$E$24:$E$5800,D74,Limit_Deviation_Detail!$I$24:$I$5800,\"Unknown Causes\"))","v":""}]
[null,{"$f":"IF(Lists!Z53=\"\",\"\",Lists!Z53)","v":""},{"$f":"IF(Lists!AA53=\"\",\"\",Lists!AA53)","v":""},{"$f":"IF(Lists!AB53=\"\",\"\",Lists!AB53)","v":""},{"$f":"IF(Lists!AC53=\"\",\"\",Lists!AD53)","v":""},"","",{"$f":"IF($E75=\"\",\"\",SUMIFS(Limit_Deviation_Detail!$H$24:$H$5800,Limit_Deviation_Detail!$B$24:$B$5800,B75,Limit_Deviation_Detail!$C$24:$C$5800,C75,Limit_Deviation_Detail!$E$24:$E$5800,D75,Limit_Deviation_Detail!$I$24:$I$5800,\"Startup/Shutdown\"))","v":""},{"$f":"IF($E75=\"\",\"\",SUMIFS(Limit_Deviation_Detail!$H$24:$H$5800,Limit_Deviation_Detail!$B$24:$B$5800,B75,Limit_Deviation_Detail!$C$24:$C$5800,C75,Limit_Deviation_Detail!$E$24:$E$5800,D75,Limit_Deviation_Detail!$I$24:$I$5800,\"Control Equipment Problems\"))","v":""},{"$f":"IF($E75=\"\",\"\",SUMIFS(Limit_Deviation_Detail!$H$24:$H$5800,Limit_Deviation_Detail!$B$24:$B$5800,B75,Limit_Deviation_Detail!$C$24:$C$5800,C75,Limit_Deviation_Detail!$E$24:$E$5800,D75,Limit_Deviation_Detail!$I$24:$I$5800,\"Process Problems\"))","v":""},{"$f":"IF($E75=\"\",\"\",SUMIFS(Limit_Deviation_Detail!$H$24:$H$5800,Limit_Deviation_Detail!$B$24:$B$5800,B75,Limit_Deviation_Detail!$C$24:$C$5800,C75,Limit_Deviation_Detail!$E$24:$E$5800,D75,Limit_Deviation_Detail!$I$24:$I$5800,\"Other Known Causes\"))","v":""},{"$f":"IF($E75=\"\",\"\",SUMIFS(Limit_Deviation_Detail!$H$24:$H$5800,Limit_Deviation_Detail!$B$24:$B$5800,B75,Limit_Deviation_Detail!$C$24:$C$5800,C75,Limit_Deviation_Detail!$E$24:$E$5800,D75,Limit_Deviation_Detail!$I$24:$I$5800,\"Unknown Causes\"))","v":""}]
[null,{"$f":"IF(Lists!Z54=\"\",\"\",Lists!Z54)","v":""},{"$f":"IF(Lists!AA54=\"\",\"\",Lists!AA54)","v":""},{"$f":"IF(Lists!AB54=\"\",\"\",Lists!AB54)","v":""},{"$f":"IF(Lists!AC54=\"\",\"\",Lists!AD54)","v":""},"","",{"$f":"IF($E76=\"\",\"\",SUMIFS(Limit_Deviation_Detail!$H$24:$H$5800,Limit_Deviation_Detail!$B$24:$B$5800,B76,Limit_Deviation_Detail!$C$24:$C$5800,C76,Limit_Deviation_Detail!$E$24:$E$5800,D76,Limit_Deviation_Detail!$I$24:$I$5800,\"Startup/Shutdown\"))","v":""},{"$f":"IF($E76=\"\",\"\",SUMIFS(Limit_Deviation_Detail!$H$24:$H$5800,Limit_Deviation_Detail!$B$24:$B$5800,B76,Limit_Deviation_Detail!$C$24:$C$5800,C76,Limit_Deviation_Detail!$E$24:$E$5800,D76,Limit_Deviation_Detail!$I$24:$I$5800,\"Control Equipment Problems\"))","v":""},{"$f":"IF($E76=\"\",\"\",SUMIFS(Limit_Deviation_Detail!$H$24:$H$5800,Limit_Deviation_Detail!$B$24:$B$5800,B76,Limit_Deviation_Detail!$C$24:$C$5800,C76,Limit_Deviation_Detail!$E$24:$E$5800,D76,Limit_Deviation_Detail!$I$24:$I$5800,\"Process Problems\"))","v":""},{"$f":"IF($E76=\"\",\"\",SUMIFS(Limit_Deviation_Detail!$H$24:$H$5800,Limit_Deviation_Detail!$B$24:$B$5800,B76,Limit_Deviation_Detail!$C$24:$C$5800,C76,Limit_Deviation_Detail!$E$24:$E$5800,D76,Limit_Deviation_Detail!$I$24:$I$5800,\"Other Known Causes\"))","v":""},{"$f":"IF($E76=\"\",\"\",SUMIFS(Limit_Deviation_Detail!$H$24:$H$5800,Limit_Deviation_Detail!$B$24:$B$5800,B76,Limit_Deviation_Detail!$C$24:$C$5800,C76,Limit_Deviation_Detail!$E$24:$E$5800,D76,Limit_Deviation_Detail!$I$24:$I$5800,\"Unknown Causes\"))","v":""}]
[null,{"$f":"IF(Lists!Z55=\"\",\"\",Lists!Z55)","v":""},{"$f":"IF(Lists!AA55=\"\",\"\",Lists!AA55)","v":""},{"$f":"IF(Lists!AB55=\"\",\"\",Lists!AB55)","v":""},{"$f":"IF(Lists!AC55=\"\",\"\",Lists!AD55)","v":""},"","",{"$f":"IF($E77=\"\",\"\",SUMIFS(Limit_Deviation_Detail!$H$24:$H$5800,Limit_Deviation_Detail!$B$24:$B$5800,B77,Limit_Deviation_Detail!$C$24:$C$5800,C77,Limit_Deviation_Detail!$E$24:$E$5800,D77,Limit_Deviation_Detail!$I$24:$I$5800,\"Startup/Shutdown\"))","v":""},{"$f":"IF($E77=\"\",\"\",SUMIFS(Limit_Deviation_Detail!$H$24:$H$5800,Limit_Deviation_Detail!$B$24:$B$5800,B77,Limit_Deviation_Detail!$C$24:$C$5800,C77,Limit_Deviation_Detail!$E$24:$E$5800,D77,Limit_Deviation_Detail!$I$24:$I$5800,\"Control Equipment Problems\"))","v":""},{"$f":"IF($E77=\"\",\"\",SUMIFS(Limit_Deviation_Detail!$H$24:$H$5800,Limit_Deviation_Detail!$B$24:$B$5800,B77,Limit_Deviation_Detail!$C$24:$C$5800,C77,Limit_Deviation_Detail!$E$24:$E$5800,D77,Limit_Deviation_Detail!$I$24:$I$5800,\"Process Problems\"))","v":""},{"$f":"IF($E77=\"\",\"\",SUMIFS(Limit_Deviation_Detail!$H$24:$H$5800,Limit_Deviation_Detail!$B$24:$B$5800,B77,Limit_Deviation_Detail!$C$24:$C$5800,C77,Limit_Deviation_Detail!$E$24:$E$5800,D77,Limit_Deviation_Detail!$I$24:$I$5800,\"Other Known Causes\"))","v":""},{"$f":"IF($E77=\"\",\"\",SUMIFS(Limit_Deviation_Detail!$H$24:$H$5800,Limit_Deviation_Detail!$B$24:$B$5800,B77,Limit_Deviation_Detail!$C$24:$C$5800,C77,Limit_Deviation_Detail!$E$24:$E$5800,D77,Limit_Deviation_Detail!$I$24:$I$5800,\"Unknown Causes\"))","v":""}]
[null,{"$f":"IF(Lists!Z56=\"\",\"\",Lists!Z56)","v":""},{"$f":"IF(Lists!AA56=\"\",\"\",Lists!AA56)","v":""},{"$f":"IF(Lists!AB56=\"\",\"\",Lists!AB56)","v":""},{"$f":"IF(Lists!AC56=\"\",\"\",Lists!AD56)","v":""},"","",{"$f":"IF($E78=\"\",\"\",SUMIFS(Limit_Deviation_Detail!$H$24:$H$5800,Limit_Deviation_Detail!$B$24:$B$5800,B78,Limit_Deviation_Detail!$C$24:$C$5800,C78,Limit_Deviation_Detail!$E$24:$E$5800,D78,Limit_Deviation_Detail!$I$24:$I$5800,\"Startup/Shutdown\"))","v":""},{"$f":"IF($E78=\"\",\"\",SUMIFS(Limit_Deviation_Detail!$H$24:$H$5800,Limit_Deviation_Detail!$B$24:$B$5800,B78,Limit_Deviation_Detail!$C$24:$C$5800,C78,Limit_Deviation_Detail!$E$24:$E$5800,D78,Limit_Deviation_Detail!$I$24:$I$5800,\"Control Equipment Problems\"))","v":""},{"$f":"IF($E78=\"\",\"\",SUMIFS(Limit_Deviation_Detail!$H$24:$H$5800,Limit_Deviation_Detail!$B$24:$B$5800,B78,Limit_Deviation_Detail!$C$24:$C$5800,C78,Limit_Deviation_Detail!$E$24:$E$5800,D78,Limit_Deviation_Detail!$I$24:$I$5800,\"Process Problems\"))","v":""},{"$f":"IF($E78=\"\",\"\",SUMIFS(Limit_Deviation_Detail!$H$24:$H$5800,Limit_Deviation_Detail!$B$24:$B$5800,B78,Limit_Deviation_Detail!$C$24:$C$5800,C78,Limit_Deviation_Detail!$E$24:$E$5800,D78,Limit_Deviation_Detail!$I$24:$I$5800,\"Other Known Causes\"))","v":""},{"$f":"IF($E78=\"\",\"\",SUMIFS(Limit_Deviation_Detail!$H$24:$H$5800,Limit_Deviation_Detail!$B$24:$B$5800,B78,Limit_Deviation_Detail!$C$24:$C$5800,C78,Limit_Deviation_Detail!$E$24:$E$5800,D78,Limit_Deviation_Detail!$I$24:$I$5800,\"Unknown Causes\"))","v":""}]
[null,{"$f":"IF(Lists!Z57=\"\",\"\",Lists!Z57)","v":""},{"$f":"IF(Lists!AA57=\"\",\"\",Lists!AA57)","v":""},{"$f":"IF(Lists!AB57=\"\",\"\",Lists!AB57)","v":""},{"$f":"IF(Lists!AC57=\"\",\"\",Lists!AD57)","v":""},"","",{"$f":"IF($E79=\"\",\"\",SUMIFS(Limit_Deviation_Detail!$H$24:$H$5800,Limit_Deviation_Detail!$B$24:$B$5800,B79,Limit_Deviation_Detail!$C$24:$C$5800,C79,Limit_Deviation_Detail!$E$24:$E$5800,D79,Limit_Deviation_Detail!$I$24:$I$5800,\"Startup/Shutdown\"))","v":""},{"$f":"IF($E79=\"\",\"\",SUMIFS(Limit_Deviation_Detail!$H$24:$H$5800,Limit_Deviation_Detail!$B$24:$B$5800,B79,Limit_Deviation_Detail!$C$24:$C$5800,C79,Limit_Deviation_Detail!$E$24:$E$5800,D79,Limit_Deviation_Detail!$I$24:$I$5800,\"Control Equipment Problems\"))","v":""},{"$f":"IF($E79=\"\",\"\",SUMIFS(Limit_Deviation_Detail!$H$24:$H$5800,Limit_Deviation_Detail!$B$24:$B$5800,B79,Limit_Deviation_Detail!$C$24:$C$5800,C79,Limit_Deviation_Detail!$E$24:$E$5800,D79,Limit_Deviation_Detail!$I$24:$I$5800,\"Process Problems\"))","v":""},{"$f":"IF($E79=\"\",\"\",SUMIFS(Limit_Deviation_Detail!$H$24:$H$5800,Limit_Deviation_Detail!$B$24:$B$5800,B79,Limit_Deviation_Detail!$C$24:$C$5800,C79,Limit_Deviation_Detail!$E$24:$E$5800,D79,Limit_Deviation_Detail!$I$24:$I$5800,\"Other Known Causes\"))","v":""},{"$f":"IF($E79=\"\",\"\",SUMIFS(Limit_Deviation_Detail!$H$24:$H$5800,Limit_Deviation_Detail!$B$24:$B$5800,B79,Limit_Deviation_Detail!$C$24:$C$5800,C79,Limit_Deviation_Detail!$E$24:$E$5800,D79,Limit_Deviation_Detail!$I$24:$I$5800,\"Unknown Causes\"))","v":""}]
[null,{"$f":"IF(Lists!Z58=\"\",\"\",Lists!Z58)","v":""},{"$f":"IF(Lists!AA58=\"\",\"\",Lists!AA58)","v":""},{"$f":"IF(Lists!AB58=\"\",\"\",Lists!AB58)","v":""},{"$f":"IF(Lists!AC58=\"\",\"\",Lists!AD58)","v":""},"","",{"$f":"IF($E80=\"\",\"\",SUMIFS(Limit_Deviation_Detail!$H$24:$H$5800,Limit_Deviation_Detail!$B$24:$B$5800,B80,Limit_Deviation_Detail!$C$24:$C$5800,C80,Limit_Deviation_Detail!$E$24:$E$5800,D80,Limit_Deviation_Detail!$I$24:$I$5800,\"Startup/Shutdown\"))","v":""},{"$f":"IF($E80=\"\",\"\",SUMIFS(Limit_Deviation_Detail!$H$24:$H$5800,Limit_Deviation_Detail!$B$24:$B$5800,B80,Limit_Deviation_Detail!$C$24:$C$5800,C80,Limit_Deviation_Detail!$E$24:$E$5800,D80,Limit_Deviation_Detail!$I$24:$I$5800,\"Control Equipment Problems\"))","v":""},{"$f":"IF($E80=\"\",\"\",SUMIFS(Limit_Deviation_Detail!$H$24:$H$5800,Limit_Deviation_Detail!$B$24:$B$5800,B80,Limit_Deviation_Detail!$C$24:$C$5800,C80,Limit_Deviation_Detail!$E$24:$E$5800,D80,Limit_Deviation_Detail!$I$24:$I$5800,\"Process Problems\"))","v":""},{"$f":"IF($E80=\"\",\"\",SUMIFS(Limit_Deviation_Detail!$H$24:$H$5800,Limit_Deviation_Detail!$B$24:$B$5800,B80,Limit_Deviation_Detail!$C$24:$C$5800,C80,Limit_Deviation_Detail!$E$24:$E$5800,D80,Limit_Deviation_Detail!$I$24:$I$5800,\"Other Known Causes\"))","v":""},{"$f":"IF($E80=\"\",\"\",SUMIFS(Limit_Deviation_Detail!$H$24:$H$5800,Limit_Deviation_Detail!$B$24:$B$5800,B80,Limit_Deviation_Detail!$C$24:$C$5800,C80,Limit_Deviation_Detail!$E$24:$E$5800,D80,Limit_Deviation_Detail!$I$24:$I$5800,\"Unknown Causes\"))","v":""}]
[null,{"$f":"IF(Lists!Z59=\"\",\"\",Lists!Z59)","v":""},{"$f":"IF(Lists!AA59=\"\",\"\",Lists!AA59)","v":""},{"$f":"IF(Lists!AB59=\"\",\"\",Lists!AB59)","v":""},{"$f":"IF(Lists!AC59=\"\",\"\",Lists!AD59)","v":""},"","",{"$f":"IF($E81=\"\",\"\",SUMIFS(Limit_Deviation_Detail!$H$24:$H$5800,Limit_Deviation_Detail!$B$24:$B$5800,B81,Limit_Deviation_Detail!$C$24:$C$5800,C81,Limit_Deviation_Detail!$E$24:$E$5800,D81,Limit_Deviation_Detail!$I$24:$I$5800,\"Startup/Shutdown\"))","v":""},{"$f":"IF($E81=\"\",\"\",SUMIFS(Limit_Deviation_Detail!$H$24:$H$5800,Limit_Deviation_Detail!$B$24:$B$5800,B81,Limit_Deviation_Detail!$C$24:$C$5800,C81,Limit_Deviation_Detail!$E$24:$E$5800,D81,Limit_Deviation_Detail!$I$24:$I$5800,\"Control Equipment Problems\"))","v":""},{"$f":"IF($E81=\"\",\"\",SUMIFS(Limit_Deviation_Detail!$H$24:$H$5800,Limit_Deviation_Detail!$B$24:$B$5800,B81,Limit_Deviation_Detail!$C$24:$C$5800,C81,Limit_Deviation_Detail!$E$24:$E$5800,D81,Limit_Deviation_Detail!$I$24:$I$5800,\"Process Problems\"))","v":""},{"$f":"IF($E81=\"\",\"\",SUMIFS(Limit_Deviation_Detail!$H$24:$H$5800,Limit_Deviation_Detail!$B$24:$B$5800,B81,Limit_Deviation_Detail!$C$24:$C$5800,C81,Limit_Deviation_Detail!$E$24:$E$5800,D81,Limit_Deviation_Detail!$I$24:$I$5800,\"Other Known Causes\"))","v":""},{"$f":"IF($E81=\"\",\"\",SUMIFS(Limit_Deviation_Detail!$H$24:$H$5800,Limit_Deviation_Detail!$B$24:$B$5800,B81,Limit_Deviation_Detail!$C$24:$C$5800,C81,Limit_Deviation_Detail!$E$24:$E$5800,D81,Limit_Deviation_Detail!$I$24:$I$5800,\"Unknown Causes\"))","v":""}]
[null,{"$f":"IF(Lists!Z60=\"\",\"\",Lists!Z60)","v":""},{"$f":"IF(Lists!AA60=\"\",\"\",Lists!AA60)","v":""},{"$f":"IF(Lists!AB60=\"\",\"\",Lists!AB60)","v":""},{"$f":"IF(Lists!AC60=\"\",\"\",Lists!AD60)","v":""},"","",{"$f":"IF($E82=\"\",\"\",SUMIFS(Limit_Deviation_Detail!$H$24:$H$5800,Limit_Deviation_Detail!$B$24:$B$5800,B82,Limit_Deviation_Detail!$C$24:$C$5800,C82,Limit_Deviation_Detail!$E$24:$E$5800,D82,Limit_Deviation_Detail!$I$24:$I$5800,\"Startup/Shutdown\"))","v":""},{"$f":"IF($E82=\"\",\"\",SUMIFS(Limit_Deviation_Detail!$H$24:$H$5800,Limit_Deviation_Detail!$B$24:$B$5800,B82,Limit_Deviation_Detail!$C$24:$C$5800,C82,Limit_Deviation_Detail!$E$24:$E$5800,D82,Limit_Deviation_Detail!$I$24:$I$5800,\"Control Equipment Problems\"))","v":""},{"$f":"IF($E82=\"\",\"\",SUMIFS(Limit_Deviation_Detail!$H$24:$H$5800,Limit_Deviation_Detail!$B$24:$B$5800,B82,Limit_Deviation_Detail!$C$24:$C$5800,C82,Limit_Deviation_Detail!$E$24:$E$5800,D82,Limit_Deviation_Detail!$I$24:$I$5800,\"Process Problems\"))","v":""},{"$f":"IF($E82=\"\",\"\",SUMIFS(Limit_Deviation_Detail!$H$24:$H$5800,Limit_Deviation_Detail!$B$24:$B$5800,B82,Limit_Deviation_Detail!$C$24:$C$5800,C82,Limit_Deviation_Detail!$E$24:$E$5800,D82,Limit_Deviation_Detail!$I$24:$I$5800,\"Other Known Causes\"))","v":""},{"$f":"IF($E82=\"\",\"\",SUMIFS(Limit_Deviation_Detail!$H$24:$H$5800,Limit_Deviation_Detail!$B$24:$B$5800,B82,Limit_Deviation_Detail!$C$24:$C$5800,C82,Limit_Deviation_Detail!$E$24:$E$5800,D82,Limit_Deviation_Detail!$I$24:$I$5800,\"Unknown Causes\"))","v":""}]
[null,{"$f":"IF(Lists!Z61=\"\",\"\",Lists!Z61)","v":""},{"$f":"IF(Lists!AA61=\"\",\"\",Lists!AA61)","v":""},{"$f":"IF(Lists!AB61=\"\",\"\",Lists!AB61)","v":""},{"$f":"IF(Lists!AC61=\"\",\"\",Lists!AD61)","v":""},"","",{"$f":"IF($E83=\"\",\"\",SUMIFS(Limit_Deviation_Detail!$H$24:$H$5800,Limit_Deviation_Detail!$B$24:$B$5800,B83,Limit_Deviation_Detail!$C$24:$C$5800,C83,Limit_Deviation_Detail!$E$24:$E$5800,D83,Limit_Deviation_Detail!$I$24:$I$5800,\"Startup/Shutdown\"))","v":""},{"$f":"IF($E83=\"\",\"\",SUMIFS(Limit_Deviation_Detail!$H$24:$H$5800,Limit_Deviation_Detail!$B$24:$B$5800,B83,Limit_Deviation_Detail!$C$24:$C$5800,C83,Limit_Deviation_Detail!$E$24:$E$5800,D83,Limit_Deviation_Detail!$I$24:$I$5800,\"Control Equipment Problems\"))","v":""},{"$f":"IF($E83=\"\",\"\",SUMIFS(Limit_Deviation_Detail!$H$24:$H$5800,Limit_Deviation_Detail!$B$24:$B$5800,B83,Limit_Deviation_Detail!$C$24:$C$5800,C83,Limit_Deviation_Detail!$E$24:$E$5800,D83,Limit_Deviation_Detail!$I$24:$I$5800,\"Process Problems\"))","v":""},{"$f":"IF($E83=\"\",\"\",SUMIFS(Limit_Deviation_Detail!$H$24:$H$5800,Limit_Deviation_Detail!$B$24:$B$5800,B83,Limit_Deviation_Detail!$C$24:$C$5800,C83,Limit_Deviation_Detail!$E$24:$E$5800,D83,Limit_Deviation_Detail!$I$24:$I$5800,\"Other Known Causes\"))","v":""},{"$f":"IF($E83=\"\",\"\",SUMIFS(Limit_Deviation_Detail!$H$24:$H$5800,Limit_Deviation_Detail!$B$24:$B$5800,B83,Limit_Deviation_Detail!$C$24:$C$5800,C83,Limit_Deviation_Detail!$E$24:$E$5800,D83,Limit_Deviation_Detail!$I$24:$I$5800,\"Unknown Causes\"))","v":""}]
[null,{"$f":"IF(Lists!Z62=\"\",\"\",Lists!Z62)","v":""},{"$f":"IF(Lists!AA62=\"\",\"\",Lists!AA62)","v":""},{"$f":"IF(Lists!AB62=\"\",\"\",Lists!AB62)","v":""},{"$f":"IF(Lists!AC62=\"\",\"\",Lists!AD62)","v":""},"","",{"$f":"IF($E84=\"\",\"\",SUMIFS(Limit_Deviation_Detail!$H$24:$H$5800,Limit_Deviation_Detail!$B$24:$B$5800,B84,Limit_Deviation_Detail!$C$24:$C$5800,C84,Limit_Deviation_Detail!$E$24:$E$5800,D84,Limit_Deviation_Detail!$I$24:$I$5800,\"Startup/Shutdown\"))","v":""},{"$f":"IF($E84=\"\",\"\",SUMIFS(Limit_Deviation_Detail!$H$24:$H$5800,Limit_Deviation_Detail!$B$24:$B$5800,B84,Limit_Deviation_Detail!$C$24:$C$5800,C84,Limit_Deviation_Detail!$E$24:$E$5800,D84,Limit_Deviation_Detail!$I$24:$I$5800,\"Control Equipment Problems\"))","v":""},{"$f":"IF($E84=\"\",\"\",SUMIFS(Limit_Deviation_Detail!$H$24:$H$5800,Limit_Deviation_Detail!$B$24:$B$5800,B84,Limit_Deviation_Detail!$C$24:$C$5800,C84,Limit_Deviation_Detail!$E$24:$E$5800,D84,Limit_Deviation_Detail!$I$24:$I$5800,\"Process Problems\"))","v":""},{"$f":"IF($E84=\"\",\"\",SUMIFS(Limit_Deviation_Detail!$H$24:$H$5800,Limit_Deviation_Detail!$B$24:$B$5800,B84,Limit_Deviation_Detail!$C$24:$C$5800,C84,Limit_Deviation_Detail!$E$24:$E$5800,D84,Limit_Deviation_Detail!$I$24:$I$5800,\"Other Known Causes\"))","v":""},{"$f":"IF($E84=\"\",\"\",SUMIFS(Limit_Deviation_Detail!$H$24:$H$5800,Limit_Deviation_Detail!$B$24:$B$5800,B84,Limit_Deviation_Detail!$C$24:$C$5800,C84,Limit_Deviation_Detail!$E$24:$E$5800,D84,Limit_Deviation_Detail!$I$24:$I$5800,\"Unknown Causes\"))","v":""}]
[null,{"$f":"IF(Lists!Z63=\"\",\"\",Lists!Z63)","v":""},{"$f":"IF(Lists!AA63=\"\",\"\",Lists!AA63)","v":""},{"$f":"IF(Lists!AB63=\"\",\"\",Lists!AB63)","v":""},{"$f":"IF(Lists!AC63=\"\",\"\",Lists!AD63)","v":""},"","",{"$f":"IF($E85=\"\",\"\",SUMIFS(Limit_Deviation_Detail!$H$24:$H$5800,Limit_Deviation_Detail!$B$24:$B$5800,B85,Limit_Deviation_Detail!$C$24:$C$5800,C85,Limit_Deviation_Detail!$E$24:$E$5800,D85,Limit_Deviation_Detail!$I$24:$I$5800,\"Startup/Shutdown\"))","v":""},{"$f":"IF($E85=\"\",\"\",SUMIFS(Limit_Deviation_Detail!$H$24:$H$5800,Limit_Deviation_Detail!$B$24:$B$5800,B85,Limit_Deviation_Detail!$C$24:$C$5800,C85,Limit_Deviation_Detail!$E$24:$E$5800,D85,Limit_Deviation_Detail!$I$24:$I$5800,\"Control Equipment Problems\"))","v":""},{"$f":"IF($E85=\"\",\"\",SUMIFS(Limit_Deviation_Detail!$H$24:$H$5800,Limit_Deviation_Detail!$B$24:$B$5800,B85,Limit_Deviation_Detail!$C$24:$C$5800,C85,Limit_Deviation_Detail!$E$24:$E$5800,D85,Limit_Deviation_Detail!$I$24:$I$5800,\"Process Problems\"))","v":""},{"$f":"IF($E85=\"\",\"\",SUMIFS(Limit_Deviation_Detail!$H$24:$H$5800,Limit_Deviation_Detail!$B$24:$B$5800,B85,Limit_Deviation_Detail!$C$24:$C$5800,C85,Limit_Deviation_Detail!$E$24:$E$5800,D85,Limit_Deviation_Detail!$I$24:$I$5800,\"Other Known Causes\"))","v":""},{"$f":"IF($E85=\"\",\"\",SUMIFS(Limit_Deviation_Detail!$H$24:$H$5800,Limit_Deviation_Detail!$B$24:$B$5800,B85,Limit_Deviation_Detail!$C$24:$C$5800,C85,Limit_Deviation_Detail!$E$24:$E$5800,D85,Limit_Deviation_Detail!$I$24:$I$5800,\"Unknown Causes\"))","v":""}]
[null,{"$f":"IF(Lists!Z64=\"\",\"\",Lists!Z64)","v":""},{"$f":"IF(Lists!AA64=\"\",\"\",Lists!AA64)","v":""},{"$f":"IF(Lists!AB64=\"\",\"\",Lists!AB64)","v":""},{"$f":"IF(Lists!AC64=\"\",\"\",Lists!AD64)","v":""},"","",{"$f":"IF($E86=\"\",\"\",SUMIFS(Limit_Deviation_Detail!$H$24:$H$5800,Limit_Deviation_Detail!$B$24:$B$5800,B86,Limit_Deviation_Detail!$C$24:$C$5800,C86,Limit_Deviation_Detail!$E$24:$E$5800,D86,Limit_Deviation_Detail!$I$24:$I$5800,\"Startup/Shutdown\"))","v":""},{"$f":"IF($E86=\"\",\"\",SUMIFS(Limit_Deviation_Detail!$H$24:$H$5800,Limit_Deviation_Detail!$B$24:$B$5800,B86,Limit_Deviation_Detail!$C$24:$C$5800,C86,Limit_Deviation_Detail!$E$24:$E$5800,D86,Limit_Deviation_Detail!$I$24:$I$5800,\"Control Equipment Problems\"))","v":""},{"$f":"IF($E86=\"\",\"\",SUMIFS(Limit_Deviation_Detail!$H$24:$H$5800,Limit_Deviation_Detail!$B$24:$B$5800,B86,Limit_Deviation_Detail!$C$24:$C$5800,C86,Limit_Deviation_Detail!$E$24:$E$5800,D86,Limit_Deviation_Detail!$I$24:$I$5800,\"Process Problems\"))","v":""},{"$f":"IF($E86=\"\",\"\",SUMIFS(Limit_Deviation_Detail!$H$24:$H$5800,Limit_Deviation_Detail!$B$24:$B$5800,B86,Limit_Deviation_Detail!$C$24:$C$5800,C86,Limit_Deviation_Detail!$E$24:$E$5800,D86,Limit_Deviation_Detail!$I$24:$I$5800,\"Other Known Causes\"))","v":""},{"$f":"IF($E86=\"\",\"\",SUMIFS(Limit_Deviation_Detail!$H$24:$H$5800,Limit_Deviation_Detail!$B$24:$B$5800,B86,Limit_Deviation_Detail!$C$24:$C$5800,C86,Limit_Deviation_Detail!$E$24:$E$5800,D86,Limit_Deviation_Detail!$I$24:$I$5800,\"Unknown Causes\"))","v":""}]
[null,{"$f":"IF(Lists!Z65=\"\",\"\",Lists!Z65)","v":""},{"$f":"IF(Lists!AA65=\"\",\"\",Lists!AA65)","v":""},{"$f":"IF(Lists!AB65=\"\",\"\",Lists!AB65)","v":""},{"$f":"IF(Lists!AC65=\"\",\"\",Lists!AD65)","v":""},"","",{"$f":"IF($E87=\"\",\"\",SUMIFS(Limit_Deviation_Detail!$H$24:$H$5800,Limit_Deviation_Detail!$B$24:$B$5800,B87,Limit_Deviation_Detail!$C$24:$C$5800,C87,Limit_Deviation_Detail!$E$24:$E$5800,D87,Limit_Deviation_Detail!$I$24:$I$5800,\"Startup/Shutdown\"))","v":""},{"$f":"IF($E87=\"\",\"\",SUMIFS(Limit_Deviation_Detail!$H$24:$H$5800,Limit_Deviation_Detail!$B$24:$B$5800,B87,Limit_Deviation_Detail!$C$24:$C$5800,C87,Limit_Deviation_Detail!$E$24:$E$5800,D87,Limit_Deviation_Detail!$I$24:$I$5800,\"Control Equipment Problems\"))","v":""},{"$f":"IF($E87=\"\",\"\",SUMIFS(Limit_Deviation_Detail!$H$24:$H$5800,Limit_Deviation_Detail!$B$24:$B$5800,B87,Limit_Deviation_Detail!$C$24:$C$5800,C87,Limit_Deviation_Detail!$E$24:$E$5800,D87,Limit_Deviation_Detail!$I$24:$I$5800,\"Process Problems\"))","v":""},{"$f":"IF($E87=\"\",\"\",SUMIFS(Limit_Deviation_Detail!$H$24:$H$5800,Limit_Deviation_Detail!$B$24:$B$5800,B87,Limit_Deviation_Detail!$C$24:$C$5800,C87,Limit_Deviation_Detail!$E$24:$E$5800,D87,Limit_Deviation_Detail!$I$24:$I$5800,\"Other Known Causes\"))","v":""},{"$f":"IF($E87=\"\",\"\",SUMIFS(Limit_Deviation_Detail!$H$24:$H$5800,Limit_Deviation_Detail!$B$24:$B$5800,B87,Limit_Deviation_Detail!$C$24:$C$5800,C87,Limit_Deviation_Detail!$E$24:$E$5800,D87,Limit_Deviation_Detail!$I$24:$I$5800,\"Unknown Causes\"))","v":""}]
[null,{"$f":"IF(Lists!Z66=\"\",\"\",Lists!Z66)","v":""},{"$f":"IF(Lists!AA66=\"\",\"\",Lists!AA66)","v":""},{"$f":"IF(Lists!AB66=\"\",\"\",Lists!AB66)","v":""},{"$f":"IF(Lists!AC66=\"\",\"\",Lists!AD66)","v":""},{"$f":"IF(E88=\"\",\"\",SUM(H88:L88))","v":""},"",{"$f":"IF($E88=\"\",\"\",SUMIFS(Limit_Deviation_Detail!$H$24:$H$5800,Limit_Deviation_Detail!$B$24:$B$5800,B88,Limit_Deviation_Detail!$C$24:$C$5800,C88,Limit_Deviation_Detail!$E$24:$E$5800,D88,Limit_Deviation_Detail!$I$24:$I$5800,\"Startup/Shutdown\"))","v":""},{"$f":"IF($E88=\"\",\"\",SUMIFS(Limit_Deviation_Detail!$H$24:$H$5800,Limit_Deviation_Detail!$B$24:$B$5800,B88,Limit_Deviation_Detail!$C$24:$C$5800,C88,Limit_Deviation_Detail!$E$24:$E$5800,D88,Limit_Deviation_Detail!$I$24:$I$5800,\"Control Equipment Problems\"))","v":""},{"$f":"IF($E88=\"\",\"\",SUMIFS(Limit_Deviation_Detail!$H$24:$H$5800,Limit_Deviation_Detail!$B$24:$B$5800,B88,Limit_Deviation_Detail!$C$24:$C$5800,C88,Limit_Deviation_Detail!$E$24:$E$5800,D88,Limit_Deviation_Detail!$I$24:$I$5800,\"Process Problems\"))","v":""},{"$f":"IF($E88=\"\",\"\",SUMIFS(Limit_Deviation_Detail!$H$24:$H$5800,Limit_Deviation_Detail!$B$24:$B$5800,B88,Limit_Deviation_Detail!$C$24:$C$5800,C88,Limit_Deviation_Detail!$E$24:$E$5800,D88,Limit_Deviation_Detail!$I$24:$I$5800,\"Other Known Causes\"))","v":""},{"$f":"IF($E88=\"\",\"\",SUMIFS(Limit_Deviation_Detail!$H$24:$H$5800,Limit_Deviation_Detail!$B$24:$B$5800,B88,Limit_Deviation_Detail!$C$24:$C$5800,C88,Limit_Deviation_Detail!$E$24:$E$5800,D88,Limit_Deviation_Detail!$I$24:$I$5800,\"Unknown Causes\"))","v":""}]
[null,{"$f":"IF(Lists!Z67=\"\",\"\",Lists!Z67)","v":""},{"$f":"IF(Lists!AA67=\"\",\"\",Lists!AA67)","v":""},{"$f":"IF(Lists!AB67=\"\",\"\",Lists!AB67)","v":""},{"$f":"IF(Lists!AC67=\"\",\"\",Lists!AD67)","v":""},"",{"$f":"IF($E89=\"\",\"\",IF(F89=0,\"N/A\",IF(D89=\"Opacity\", F89/60,F89)/$E89))","v":""},{"$f":"IF($E89=\"\",\"\",SUMIFS(Limit_Deviation_Detail!$H$24:$H$5800,Limit_Deviation_Detail!$B$24:$B$5800,B89,Limit_Deviation_Detail!$C$24:$C$5800,C89,Limit_Deviation_Detail!$E$24:$E$5800,D89,Limit_Deviation_Detail!$I$24:$I$5800,\"Startup/Shutdown\"))","v":""},{"$f":"IF($E89=\"\",\"\",SUMIFS(Limit_Deviation_Detail!$H$24:$H$5800,Limit_Deviation_Detail!$B$24:$B$5800,B89,Limit_Deviation_Detail!$C$24:$C$5800,C89,Limit_Deviation_Detail!$E$24:$E$5800,D89,Limit_Deviation_Detail!$I$24:$I$5800,\"Control Equipment Problems\"))","v":""},{"$f":"IF($E89=\"\",\"\",SUMIFS(Limit_Deviation_Detail!$H$24:$H$5800,Limit_Deviation_Detail!$B$24:$B$5800,B89,Limit_Deviation_Detail!$C$24:$C$5800,C89,Limit_Deviation_Detail!$E$24:$E$5800,D89,Limit_Deviation_Detail!$I$24:$I$5800,\"Process Problems\"))","v":""},{"$f":"IF($E89=\"\",\"\",SUMIFS(Limit_Deviation_Detail!$H$24:$H$5800,Limit_Deviation_Detail!$B$24:$B$5800,B89,Limit_Deviation_Detail!$C$24:$C$5800,C89,Limit_Deviation_Detail!$E$24:$E$5800,D89,Limit_Deviation_Detail!$I$24:$I$5800,\"Other Known Causes\"))","v":""},{"$f":"IF($E89=\"\",\"\",SUMIFS(Limit_Deviation_Detail!$H$24:$H$5800,Limit_Deviation_Detail!$B$24:$B$5800,B89,Limit_Deviation_Detail!$C$24:$C$5800,C89,Limit_Deviation_Detail!$E$24:$E$5800,D89,Limit_Deviation_Detail!$I$24:$I$5800,\"Unknown Causes\"))","v":""}]
[null,{"$f":"IF(Lists!Z68=\"\",\"\",Lists!Z68)","v":""},{"$f":"IF(Lists!AA68=\"\",\"\",Lists!AA68)","v":""},{"$f":"IF(Lists!AB68=\"\",\"\",Lists!AB68)","v":""},{"$f":"IF(Lists!AC68=\"\",\"\",Lists!AD68)","v":""},"","",{"$f":"IF($E90=\"\",\"\",SUMIFS(Limit_Deviation_Detail!$H$24:$H$5800,Limit_Deviation_Detail!$B$24:$B$5800,B90,Limit_Deviation_Detail!$C$24:$C$5800,C90,Limit_Deviation_Detail!$E$24:$E$5800,D90,Limit_Deviation_Detail!$I$24:$I$5800,\"Startup/Shutdown\"))","v":""},{"$f":"IF($E90=\"\",\"\",SUMIFS(Limit_Deviation_Detail!$H$24:$H$5800,Limit_Deviation_Detail!$B$24:$B$5800,B90,Limit_Deviation_Detail!$C$24:$C$5800,C90,Limit_Deviation_Detail!$E$24:$E$5800,D90,Limit_Deviation_Detail!$I$24:$I$5800,\"Control Equipment Problems\"))","v":""},{"$f":"IF($E90=\"\",\"\",SUMIFS(Limit_Deviation_Detail!$H$24:$H$5800,Limit_Deviation_Detail!$B$24:$B$5800,B90,Limit_Deviation_Detail!$C$24:$C$5800,C90,Limit_Deviation_Detail!$E$24:$E$5800,D90,Limit_Deviation_Detail!$I$24:$I$5800,\"Process Problems\"))","v":""},{"$f":"IF($E90=\"\",\"\",SUMIFS(Limit_Deviation_Detail!$H$24:$H$5800,Limit_Deviation_Detail!$B$24:$B$5800,B90,Limit_Deviation_Detail!$C$24:$C$5800,C90,Limit_Deviation_Detail!$E$24:$E$5800,D90,Limit_Deviation_Detail!$I$24:$I$5800,\"Other Known Causes\"))","v":""},{"$f":"IF($E90=\"\",\"\",SUMIFS(Limit_Deviation_Detail!$H$24:$H$5800,Limit_Deviation_Detail!$B$24:$B$5800,B90,Limit_Deviation_Detail!$C$24:$C$5800,C90,Limit_Deviation_Detail!$E$24:$E$5800,D90,Limit_Deviation_Detail!$I$24:$I$5800,\"Unknown Causes\"))","v":""}]
[null,{"$f":"IF(Lists!Z69=\"\",\"\",Lists!Z69)","v":""},{"$f":"IF(Lists!AA69=\"\",\"\",Lists!AA69)","v":""},{"$f":"IF(Lists!AB69=\"\",\"\",Lists!AB69)","v":""},{"$f":"IF(Lists!AC69=\"\",\"\",Lists!AD69)","v":""},"","",{"$f":"IF($E91=\"\",\"\",SUMIFS(Limit_Deviation_Detail!$H$24:$H$5800,Limit_Deviation_Detail!$B$24:$B$5800,B91,Limit_Deviation_Detail!$C$24:$C$5800,C91,Limit_Deviation_Detail!$E$24:$E$5800,D91,Limit_Deviation_Detail!$I$24:$I$5800,\"Startup/Shutdown\"))","v":""},{"$f":"IF($E91=\"\",\"\",SUMIFS(Limit_Deviation_Detail!$H$24:$H$5800,Limit_Deviation_Detail!$B$24:$B$5800,B91,Limit_Deviation_Detail!$C$24:$C$5800,C91,Limit_Deviation_Detail!$E$24:$E$5800,D91,Limit_Deviation_Detail!$I$24:$I$5800,\"Control Equipment Problems\"))","v":""},{"$f":"IF($E91=\"\",\"\",SUMIFS(Limit_Deviation_Detail!$H$24:$H$5800,Limit_Deviation_Detail!$B$24:$B$5800,B91,Limit_Deviation_Detail!$C$24:$C$5800,C91,Limit_Deviation_Detail!$E$24:$E$5800,D91,Limit_Deviation_Detail!$I$24:$I$5800,\"Process Problems\"))","v":""},{"$f":"IF($E91=\"\",\"\",SUMIFS(Limit_Deviation_Detail!$H$24:$H$5800,Limit_Deviation_Detail!$B$24:$B$5800,B91,Limit_Deviation_Detail!$C$24:$C$5800,C91,Limit_Deviation_Detail!$E$24:$E$5800,D91,Limit_Deviation_Detail!$I$24:$I$5800,\"Other Known Causes\"))","v":""},{"$f":"IF($E91=\"\",\"\",SUMIFS(Limit_Deviation_Detail!$H$24:$H$5800,Limit_Deviation_Detail!$B$24:$B$5800,B91,Limit_Deviation_Detail!$C$24:$C$5800,C91,Limit_Deviation_Detail!$E$24:$E$5800,D91,Limit_Deviation_Detail!$I$24:$I$5800,\"Unknown Causes\"))","v":""}]
[null,{"$f":"IF(Lists!Z70=\"\",\"\",Lists!Z70)","v":""},{"$f":"IF(Lists!AA70=\"\",\"\",Lists!AA70)","v":""},{"$f":"IF(Lists!AB70=\"\",\"\",Lists!AB70)","v":""},{"$f":"IF(Lists!AC70=\"\",\"\",Lists!AD70)","v":""},"","",{"$f":"IF($E92=\"\",\"\",SUMIFS(Limit_Deviation_Detail!$H$24:$H$5800,Limit_Deviation_Detail!$B$24:$B$5800,B92,Limit_Deviation_Detail!$C$24:$C$5800,C92,Limit_Deviation_Detail!$E$24:$E$5800,D92,Limit_Deviation_Detail!$I$24:$I$5800,\"Startup/Shutdown\"))","v":""},{"$f":"IF($E92=\"\",\"\",SUMIFS(Limit_Deviation_Detail!$H$24:$H$5800,Limit_Deviation_Detail!$B$24:$B$5800,B92,Limit_Deviation_Detail!$C$24:$C$5800,C92,Limit_Deviation_Detail!$E$24:$E$5800,D92,Limit_Deviation_Detail!$I$24:$I$5800,\"Control Equipment Problems\"))","v":""},{"$f":"IF($E92=\"\",\"\",SUMIFS(Limit_Deviation_Detail!$H$24:$H$5800,Limit_Deviation_Detail!$B$24:$B$5800,B92,Limit_Deviation_Detail!$C$24:$C$5800,C92,Limit_Deviation_Detail!$E$24:$E$5800,D92,Limit_Deviation_Detail!$I$24:$I$5800,\"Process Problems\"))","v":""},{"$f":"IF($E92=\"\",\"\",SUMIFS(Limit_Deviation_Detail!$H$24:$H$5800,Limit_Deviation_Detail!$B$24:$B$5800,B92,Limit_Deviation_Detail!$C$24:$C$5800,C92,Limit_Deviation_Detail!$E$24:$E$5800,D92,Limit_Deviation_Detail!$I$24:$I$5800,\"Other Known Causes\"))","v":""},{"$f":"IF($E92=\"\",\"\",SUMIFS(Limit_Deviation_Detail!$H$24:$H$5800,Limit_Deviation_Detail!$B$24:$B$5800,B92,Limit_Deviation_Detail!$C$24:$C$5800,C92,Limit_Deviation_Detail!$E$24:$E$5800,D92,Limit_Deviation_Detail!$I$24:$I$5800,\"Unknown Causes\"))","v":""}]
[null,{"$f":"IF(Lists!Z71=\"\",\"\",Lists!Z71)","v":""},{"$f":"IF(Lists!AA71=\"\",\"\",Lists!AA71)","v":""},{"$f":"IF(Lists!AB71=\"\",\"\",Lists!AB71)","v":""},{"$f":"IF(Lists!AC71=\"\",\"\",Lists!AD71)","v":""},"","",{"$f":"IF($E93=\"\",\"\",SUMIFS(Limit_Deviation_Detail!$H$24:$H$5800,Limit_Deviation_Detail!$B$24:$B$5800,B93,Limit_Deviation_Detail!$C$24:$C$5800,C93,Limit_Deviation_Detail!$E$24:$E$5800,D93,Limit_Deviation_Detail!$I$24:$I$5800,\"Startup/Shutdown\"))","v":""},{"$f":"IF($E93=\"\",\"\",SUMIFS(Limit_Deviation_Detail!$H$24:$H$5800,Limit_Deviation_Detail!$B$24:$B$5800,B93,Limit_Deviation_Detail!$C$24:$C$5800,C93,Limit_Deviation_Detail!$E$24:$E$5800,D93,Limit_Deviation_Detail!$I$24:$I$5800,\"Control Equipment Problems\"))","v":""},{"$f":"IF($E93=\"\",\"\",SUMIFS(Limit_Deviation_Detail!$H$24:$H$5800,Limit_Deviation_Detail!$B$24:$B$5800,B93,Limit_Deviation_Detail!$C$24:$C$5800,C93,Limit_Deviation_Detail!$E$24:$E$5800,D93,Limit_Deviation_Detail!$I$24:$I$5800,\"Process Problems\"))","v":""},{"$f":"IF($E93=\"\",\"\",SUMIFS(Limit_Deviation_Detail!$H$24:$H$5800,Limit_Deviation_Detail!$B$24:$B$5800,B93,Limit_Deviation_Detail!$C$24:$C$5800,C93,Limit_Deviation_Detail!$E$24:$E$5800,D93,Limit_Deviation_Detail!$I$24:$I$5800,\"Other Known Causes\"))","v":""},{"$f":"IF($E93=\"\",\"\",SUMIFS(Limit_Deviation_Detail!$H$24:$H$5800,Limit_Deviation_Detail!$B$24:$B$5800,B93,Limit_Deviation_Detail!$C$24:$C$5800,C93,Limit_Deviation_Detail!$E$24:$E$5800,D93,Limit_Deviation_Detail!$I$24:$I$5800,\"Unknown Causes\"))","v":""}]
[null,{"$f":"IF(Lists!Z72=\"\",\"\",Lists!Z72)","v":""},{"$f":"IF(Lists!AA72=\"\",\"\",Lists!AA72)","v":""},{"$f":"IF(Lists!AB72=\"\",\"\",Lists!AB72)","v":""},{"$f":"IF(Lists!AC72=\"\",\"\",Lists!AD72)","v":""},"","",{"$f":"IF($E94=\"\",\"\",SUMIFS(Limit_Deviation_Detail!$H$24:$H$5800,Limit_Deviation_Detail!$B$24:$B$5800,B94,Limit_Deviation_Detail!$C$24:$C$5800,C94,Limit_Deviation_Detail!$E$24:$E$5800,D94,Limit_Deviation_Detail!$I$24:$I$5800,\"Startup/Shutdown\"))","v":""},{"$f":"IF($E94=\"\",\"\",SUMIFS(Limit_Deviation_Detail!$H$24:$H$5800,Limit_Deviation_Detail!$B$24:$B$5800,B94,Limit_Deviation_Detail!$C$24:$C$5800,C94,Limit_Deviation_Detail!$E$24:$E$5800,D94,Limit_Deviation_Detail!$I$24:$I$5800,\"Control Equipment Problems\"))","v":""},{"$f":"IF($E94=\"\",\"\",SUMIFS(Limit_Deviation_Detail!$H$24:$H$5800,Limit_Deviation_Detail!$B$24:$B$5800,B94,Limit_Deviation_Detail!$C$24:$C$5800,C94,Limit_Deviation_Detail!$E$24:$E$5800,D94,Limit_Deviation_Detail!$I$24:$I$5800,\"Process Problems\"))","v":""},{"$f":"IF($E94=\"\",\"\",SUMIFS(Limit_Deviation_Detail!$H$24:$H$5800,Limit_Deviation_Detail!$B$24:$B$5800,B94,Limit_Deviation_Detail!$C$24:$C$5800,C94,Limit_Deviation_Detail!$E$24:$E$5800,D94,Limit_Deviation_Detail!$I$24:$I$5800,\"Other Known Causes\"))","v":""},{"$f":"IF($E94=\"\",\"\",SUMIFS(Limit_Deviation_Detail!$H$24:$H$5800,Limit_Deviation_Detail!$B$24:$B$5800,B94,Limit_Deviation_Detail!$C$24:$C$5800,C94,Limit_Deviation_Detail!$E$24:$E$5800,D94,Limit_Deviation_Detail!$I$24:$I$5800,\"Unknown Causes\"))","v":""}]
[null,{"$f":"IF(Lists!Z73=\"\",\"\",Lists!Z73)","v":""},{"$f":"IF(Lists!AA73=\"\",\"\",Lists!AA73)","v":""},{"$f":"IF(Lists!AB73=\"\",\"\",Lists!AB73)","v":""},{"$f":"IF(Lists!AC73=\"\",\"\",Lists!AD73)","v":""},"","",{"$f":"IF($E95=\"\",\"\",SUMIFS(Limit_Deviation_Detail!$H$24:$H$5800,Limit_Deviation_Detail!$B$24:$B$5800,B95,Limit_Deviation_Detail!$C$24:$C$5800,C95,Limit_Deviation_Detail!$E$24:$E$5800,D95,Limit_Deviation_Detail!$I$24:$I$5800,\"Startup/Shutdown\"))","v":""},{"$f":"IF($E95=\"\",\"\",SUMIFS(Limit_Deviation_Detail!$H$24:$H$5800,Limit_Deviation_Detail!$B$24:$B$5800,B95,Limit_Deviation_Detail!$C$24:$C$5800,C95,Limit_Deviation_Detail!$E$24:$E$5800,D95,Limit_Deviation_Detail!$I$24:$I$5800,\"Control Equipment Problems\"))","v":""},{"$f":"IF($E95=\"\",\"\",SUMIFS(Limit_Deviation_Detail!$H$24:$H$5800,Limit_Deviation_Detail!$B$24:$B$5800,B95,Limit_Deviation_Detail!$C$24:$C$5800,C95,Limit_Deviation_Detail!$E$24:$E$5800,D95,Limit_Deviation_Detail!$I$24:$I$5800,\"Process Problems\"))","v":""},{"$f":"IF($E95=\"\",\"\",SUMIFS(Limit_Deviation_Detail!$H$24:$H$5800,Limit_Deviation_Detail!$B$24:$B$5800,B95,Limit_Deviation_Detail!$C$24:$C$5800,C95,Limit_Deviation_Detail!$E$24:$E$5800,D95,Limit_Deviation_Detail!$I$24:$I$5800,\"Other Known Causes\"))","v":""},{"$f":"IF($E95=\"\",\"\",SUMIFS(Limit_Deviation_Detail!$H$24:$H$5800,Limit_Deviation_Detail!$B$24:$B$5800,B95,Limit_Deviation_Detail!$C$24:$C$5800,C95,Limit_Deviation_Detail!$E$24:$E$5800,D95,Limit_Deviation_Detail!$I$24:$I$5800,\"Unknown Causes\"))","v":""}]
[null,{"$f":"IF(Lists!Z74=\"\",\"\",Lists!Z74)","v":""},{"$f":"IF(Lists!AA74=\"\",\"\",Lists!AA74)","v":""},{"$f":"IF(Lists!AB74=\"\",\"\",Lists!AB74)","v":""},{"$f":"IF(Lists!AC74=\"\",\"\",Lists!AD74)","v":""},"","",{"$f":"IF($E96=\"\",\"\",SUMIFS(Limit_Deviation_Detail!$H$24:$H$5800,Limit_Deviation_Detail!$B$24:$B$5800,B96,Limit_Deviation_Detail!$C$24:$C$5800,C96,Limit_Deviation_Detail!$E$24:$E$5800,D96,Limit_Deviation_Detail!$I$24:$I$5800,\"Startup/Shutdown\"))","v":""},{"$f":"IF($E96=\"\",\"\",SUMIFS(Limit_Deviation_Detail!$H$24:$H$5800,Limit_Deviation_Detail!$B$24:$B$5800,B96,Limit_Deviation_Detail!$C$24:$C$5800,C96,Limit_Deviation_Detail!$E$24:$E$5800,D96,Limit_Deviation_Detail!$I$24:$I$5800,\"Control Equipment Problems\"))","v":""},{"$f":"IF($E96=\"\",\"\",SUMIFS(Limit_Deviation_Detail!$H$24:$H$5800,Limit_Deviation_Detail!$B$24:$B$5800,B96,Limit_Deviation_Detail!$C$24:$C$5800,C96,Limit_Deviation_Detail!$E$24:$E$5800,D96,Limit_Deviation_Detail!$I$24:$I$5800,\"Process Problems\"))","v":""},{"$f":"IF($E96=\"\",\"\",SUMIFS(Limit_Deviation_Detail!$H$24:$H$5800,Limit_Deviation_Detail!$B$24:$B$5800,B96,Limit_Deviation_Detail!$C$24:$C$5800,C96,Limit_Deviation_Detail!$E$24:$E$5800,D96,Limit_Deviation_Detail!$I$24:$I$5800,\"Other Known Causes\"))","v":""},{"$f":"IF($E96=\"\",\"\",SUMIFS(Limit_Deviation_Detail!$H$24:$H$5800,Limit_Deviation_Detail!$B$24:$B$5800,B96,Limit_Deviation_Detail!$C$24:$C$5800,C96,Limit_Deviation_Detail!$E$24:$E$5800,D96,Limit_Deviation_Detail!$I$24:$I$5800,\"Unknown Causes\"))","v":""}]
[null,{"$f":"IF(Lists!Z75=\"\",\"\",Lists!Z75)","v":""},{"$f":"IF(Lists!AA75=\"\",\"\",Lists!AA75)","v":""},{"$f":"IF(Lists!AB75=\"\",\"\",Lists!AB75)","v":""},{"$f":"IF(Lists!AC75=\"\",\"\",Lists!AD75)","v":""},"","",{"$f":"IF($E97=\"\",\"\",SUMIFS(Limit_Deviation_Detail!$H$24:$H$5800,Limit_Deviation_Detail!$B$24:$B$5800,B97,Limit_Deviation_Detail!$C$24:$C$5800,C97,Limit_Deviation_Detail!$E$24:$E$5800,D97,Limit_Deviation_Detail!$I$24:$I$5800,\"Startup/Shutdown\"))","v":""},{"$f":"IF($E97=\"\",\"\",SUMIFS(Limit_Deviation_Detail!$H$24:$H$5800,Limit_Deviation_Detail!$B$24:$B$5800,B97,Limit_Deviation_Detail!$C$24:$C$5800,C97,Limit_Deviation_Detail!$E$24:$E$5800,D97,Limit_Deviation_Detail!$I$24:$I$5800,\"Control Equipment Problems\"))","v":""},{"$f":"IF($E97=\"\",\"\",SUMIFS(Limit_Deviation_Detail!$H$24:$H$5800,Limit_Deviation_Detail!$B$24:$B$5800,B97,Limit_Deviation_Detail!$C$24:$C$5800,C97,Limit_Deviation_Detail!$E$24:$E$5800,D97,Limit_Deviation_Detail!$I$24:$I$5800,\"Process Problems\"))","v":""},{"$f":"IF($E97=\"\",\"\",SUMIFS(Limit_Deviation_Detail!$H$24:$H$5800,Limit_Deviation_Detail!$B$24:$B$5800,B97,Limit_Deviation_Detail!$C$24:$C$5800,C97,Limit_Deviation_Detail!$E$24:$E$5800,D97,Limit_Deviation_Detail!$I$24:$I$5800,\"Other Known Causes\"))","v":""},{"$f":"IF($E97=\"\",\"\",SUMIFS(Limit_Deviation_Detail!$H$24:$H$5800,Limit_Deviation_Detail!$B$24:$B$5800,B97,Limit_Deviation_Detail!$C$24:$C$5800,C97,Limit_Deviation_Detail!$E$24:$E$5800,D97,Limit_Deviation_Detail!$I$24:$I$5800,\"Unknown Causes\"))","v":""}]
[null,{"$f":"IF(Lists!Z76=\"\",\"\",Lists!Z76)","v":""},{"$f":"IF(Lists!AA76=\"\",\"\",Lists!AA76)","v":""},{"$f":"IF(Lists!AB76=\"\",\"\",Lists!AB76)","v":""},{"$f":"IF(Lists!AC76=\"\",\"\",Lists!AD76)","v":""},"","",{"$f":"IF($E98=\"\",\"\",SUMIFS(Limit_Deviation_Detail!$H$24:$H$5800,Limit_Deviation_Detail!$B$24:$B$5800,B98,Limit_Deviation_Detail!$C$24:$C$5800,C98,Limit_Deviation_Detail!$E$24:$E$5800,D98,Limit_Deviation_Detail!$I$24:$I$5800,\"Startup/Shutdown\"))","v":""},{"$f":"IF($E98=\"\",\"\",SUMIFS(Limit_Deviation_Detail!$H$24:$H$5800,Limit_Deviation_Detail!$B$24:$B$5800,B98,Limit_Deviation_Detail!$C$24:$C$5800,C98,Limit_Deviation_Detail!$E$24:$E$5800,D98,Limit_Deviation_Detail!$I$24:$I$5800,\"Control Equipment Problems\"))","v":""},{"$f":"IF($E98=\"\",\"\",SUMIFS(Limit_Deviation_Detail!$H$24:$H$5800,Limit_Deviation_Detail!$B$24:$B$5800,B98,Limit_Deviation_Detail!$C$24:$C$5800,C98,Limit_Deviation_Detail!$E$24:$E$5800,D98,Limit_Deviation_Detail!$I$24:$I$5800,\"Process Problems\"))","v":""},{"$f":"IF($E98=\"\",\"\",SUMIFS(Limit_Deviation_Detail!$H$24:$H$5800,Limit_Deviation_Detail!$B$24:$B$5800,B98,Limit_Deviation_Detail!$C$24:$C$5800,C98,Limit_Deviation_Detail!$E$24:$E$5800,D98,Limit_Deviation_Detail!$I$24:$I$5800,\"Other Known Causes\"))","v":""},{"$f":"IF($E98=\"\",\"\",SUMIFS(Limit_Deviation_Detail!$H$24:$H$5800,Limit_Deviation_Detail!$B$24:$B$5800,B98,Limit_Deviation_Detail!$C$24:$C$5800,C98,Limit_Deviation_Detail!$E$24:$E$5800,D98,Limit_Deviation_Detail!$I$24:$I$5800,\"Unknown Causes\"))","v":""}]
[null,{"$f":"IF(Lists!Z77=\"\",\"\",Lists!Z77)","v":""},{"$f":"IF(Lists!AA77=\"\",\"\",Lists!AA77)","v":""},{"$f":"IF(Lists!AB77=\"\",\"\",Lists!AB77)","v":""},{"$f":"IF(Lists!AC77=\"\",\"\",Lists!AD77)","v":""},"","",{"$f":"IF($E99=\"\",\"\",SUMIFS(Limit_Deviation_Detail!$H$24:$H$5800,Limit_Deviation_Detail!$B$24:$B$5800,B99,Limit_Deviation_Detail!$C$24:$C$5800,C99,Limit_Deviation_Detail!$E$24:$E$5800,D99,Limit_Deviation_Detail!$I$24:$I$5800,\"Startup/Shutdown\"))","v":""},{"$f":"IF($E99=\"\",\"\",SUMIFS(Limit_Deviation_Detail!$H$24:$H$5800,Limit_Deviation_Detail!$B$24:$B$5800,B99,Limit_Deviation_Detail!$C$24:$C$5800,C99,Limit_Deviation_Detail!$E$24:$E$5800,D99,Limit_Deviation_Detail!$I$24:$I$5800,\"Control Equipment Problems\"))","v":""},{"$f":"IF($E99=\"\",\"\",SUMIFS(Limit_Deviation_Detail!$H$24:$H$5800,Limit_Deviation_Detail!$B$24:$B$5800,B99,Limit_Deviation_Detail!$C$24:$C$5800,C99,Limit_Deviation_Detail!$E$24:$E$5800,D99,Limit_Deviation_Detail!$I$24:$I$5800,\"Process Problems\"))","v":""},{"$f":"IF($E99=\"\",\"\",SUMIFS(Limit_Deviation_Detail!$H$24:$H$5800,Limit_Deviation_Detail!$B$24:$B$5800,B99,Limit_Deviation_Detail!$C$24:$C$5800,C99,Limit_Deviation_Detail!$E$24:$E$5800,D99,Limit_Deviation_Detail!$I$24:$I$5800,\"Other Known Causes\"))","v":""},{"$f":"IF($E99=\"\",\"\",SUMIFS(Limit_Deviation_Detail!$H$24:$H$5800,Limit_Deviation_Detail!$B$24:$B$5800,B99,Limit_Deviation_Detail!$C$24:$C$5800,C99,Limit_Deviation_Detail!$E$24:$E$5800,D99,Limit_Deviation_Detail!$I$24:$I$5800,\"Unknown Causes\"))","v":""}]
[null,{"$f":"IF(Lists!Z78=\"\",\"\",Lists!Z78)","v":""},{"$f":"IF(Lists!AA78=\"\",\"\",Lists!AA78)","v":""},{"$f":"IF(Lists!AB78=\"\",\"\",Lists!AB78)","v":""},{"$f":"IF(Lists!AC78=\"\",\"\",Lists!AD78)","v":""},"","",{"$f":"IF($E100=\"\",\"\",SUMIFS(Limit_Deviation_Detail!$H$24:$H$5800,Limit_Deviation_Detail!$B$24:$B$5800,B100,Limit_Deviation_Detail!$C$24:$C$5800,C100,Limit_Deviation_Detail!$E$24:$E$5800,D100,Limit_Deviation_Detail!$I$24:$I$5800,\"Startup/Shutdown\"))","v":""},{"$f":"IF($E100=\"\",\"\",SUMIFS(Limit_Deviation_Detail!$H$24:$H$5800,Limit_Deviation_Detail!$B$24:$B$5800,B100,Limit_Deviation_Detail!$C$24:$C$5800,C100,Limit_Deviation_Detail!$E$24:$E$5800,D100,Limit_Deviation_Detail!$I$24:$I$5800,\"Control Equipment Problems\"))","v":""},{"$f":"IF($E100=\"\",\"\",SUMIFS(Limit_Deviation_Detail!$H$24:$H$5800,Limit_Deviation_Detail!$B$24:$B$5800,B100,Limit_Deviation_Detail!$C$24:$C$5800,C100,Limit_Deviation_Detail!$E$24:$E$5800,D100,Limit_Deviation_Detail!$I$24:$I$5800,\"Process Problems\"))","v":""},{"$f":"IF($E100=\"\",\"\",SUMIFS(Limit_Deviation_Detail!$H$24:$H$5800,Limit_Deviation_Detail!$B$24:$B$5800,B100,Limit_Deviation_Detail!$C$24:$C$5800,C100,Limit_Deviation_Detail!$E$24:$E$5800,D100,Limit_Deviation_Detail!$I$24:$I$5800,\"Other Known Causes\"))","v":""},{"$f":"IF($E100=\"\",\"\",SUMIFS(Limit_Deviation_Detail!$H$24:$H$5800,Limit_Deviation_Detail!$B$24:$B$5800,B100,Limit_Deviation_Detail!$C$24:$C$5800,C100,Limit_Deviation_Detail!$E$24:$E$5800,D100,Limit_Deviation_Detail!$I$24:$I$5800,\"Unknown Causes\"))","v":""}]
[null,{"$f":"IF(D101=\"\",\"\",COUNT($D$24:$D$452)-COUNT(D102:$D$452))","v":""}]
[null,{"$f":"IF(D102=\"\",\"\",COUNT($D$24:$D$452)-COUNT(D103:$D$452))","v":""}]
[null,{"$f":"IF(D103=\"\",\"\",COUNT($D$24:$D$452)-COUNT(D104:$D$452))","v":""}]
[null,{"$f":"IF(D104=\"\",\"\",COUNT($D$24:$D$452)-COUNT(D105:$D$452))","v":""}]
[null,{"$f":"IF(D105=\"\",\"\",COUNT($D$24:$D$452)-COUNT(D106:$D$452))","v":""}]
[null,{"$f":"IF(D106=\"\",\"\",COUNT($D$24:$D$452)-COUNT(D107:$D$452))","v":""}]
[null,{"$f":"IF(D107=\"\",\"\",COUNT($D$24:$D$452)-COUNT(D108:$D$452))","v":""}]
[null,{"$f":"IF(D108=\"\",\"\",COUNT($D$24:$D$452)-COUNT(D109:$D$452))","v":""}]
[null,{"$f":"IF(D109=\"\",\"\",COUNT($D$24:$D$452)-COUNT(D110:$D$452))","v":""}]
[null,{"$f":"IF(D110=\"\",\"\",COUNT($D$24:$D$452)-COUNT(D111:$D$452))","v":""}]
[null,{"$f":"IF(D111=\"\",\"\",COUNT($D$24:$D$452)-COUNT(D112:$D$452))","v":""}]
[null,{"$f":"IF(D112=\"\",\"\",COUNT($D$24:$D$452)-COUNT(D113:$D$452))","v":""}]
[null,{"$f":"IF(D113=\"\",\"\",COUNT($D$24:$D$452)-COUNT(D114:$D$452))","v":""}]
[null,{"$f":"IF(D114=\"\",\"\",COUNT($D$24:$D$452)-COUNT(D115:$D$452))","v":""}]
[null,{"$f":"IF(D115=\"\",\"\",COUNT($D$24:$D$452)-COUNT(D116:$D$452))","v":""}]
[null,{"$f":"IF(D116=\"\",\"\",COUNT($D$24:$D$452)-COUNT(D117:$D$452))","v":""}]
[null,{"$f":"IF(D117=\"\",\"\",COUNT($D$24:$D$452)-COUNT(D118:$D$452))","v":""}]
[null,{"$f":"IF(D118=\"\",\"\",COUNT($D$24:$D$452)-COUNT(D119:$D$452))","v":""}]
[null,{"$f":"IF(D119=\"\",\"\",COUNT($D$24:$D$452)-COUNT(D120:$D$452))","v":""}]
[null,{"$f":"IF(D120=\"\",\"\",COUNT($D$24:$D$452)-COUNT(D121:$D$452))","v":""}]
[null,{"$f":"IF(D121=\"\",\"\",COUNT($D$24:$D$452)-COUNT(D122:$D$452))","v":""}]
[null,{"$f":"IF(D122=\"\",\"\",COUNT($D$24:$D$452)-COUNT(D123:$D$452))","v":""}]
[null,{"$f":"IF(D123=\"\",\"\",COUNT($D$24:$D$452)-COUNT(D124:$D$452))","v":""}]
[null,{"$f":"IF(D124=\"\",\"\",COUNT($D$24:$D$452)-COUNT(D125:$D$452))","v":""}]
[null,{"$f":"IF(D125=\"\",\"\",COUNT($D$24:$D$452)-COUNT(D126:$D$452))","v":""}]
[null,{"$f":"IF(D126=\"\",\"\",COUNT($D$24:$D$452)-COUNT(D127:$D$452))","v":""}]
[null,{"$f":"IF(D127=\"\",\"\",COUNT($D$24:$D$452)-COUNT(D128:$D$452))","v":""}]
[null,{"$f":"IF(D128=\"\",\"\",COUNT($D$24:$D$452)-COUNT(D129:$D$452))","v":""}]
[null,{"$f":"IF(D129=\"\",\"\",COUNT($D$24:$D$452)-COUNT(D130:$D$452))","v":""}]
[null,{"$f":"IF(D130=\"\",\"\",COUNT($D$24:$D$452)-COUNT(D131:$D$452))","v":""}]
[null,{"$f":"IF(D131=\"\",\"\",COUNT($D$24:$D$452)-COUNT(D132:$D$452))","v":""}]
[null,{"$f":"IF(D132=\"\",\"\",COUNT($D$24:$D$452)-COUNT(D133:$D$452))","v":""}]
[null,{"$f":"IF(D133=\"\",\"\",COUNT($D$24:$D$452)-COUNT(D134:$D$452))","v":""}]
[null,{"$f":"IF(D134=\"\",\"\",COUNT($D$24:$D$452)-COUNT(D135:$D$452))","v":""}]
[null,{"$f":"IF(D135=\"\",\"\",COUNT($D$24:$D$452)-COUNT(D136:$D$452))","v":""}]
[null,{"$f":"IF(D136=\"\",\"\",COUNT($D$24:$D$452)-COUNT(D137:$D$452))","v":""}]
[null,{"$f":"IF(D137=\"\",\"\",COUNT($D$24:$D$452)-COUNT(D138:$D$452))","v":""}]
[null,{"$f":"IF(D138=\"\",\"\",COUNT($D$24:$D$452)-COUNT(D139:$D$452))","v":""}]
[null,{"$f":"IF(D139=\"\",\"\",COUNT($D$24:$D$452)-COUNT(D140:$D$452))","v":""}]
[null,{"$f":"IF(D140=\"\",\"\",COUNT($D$24:$D$452)-COUNT(D141:$D$452))","v":""}]
[null,{"$f":"IF(D141=\"\",\"\",COUNT($D$24:$D$452)-COUNT(D142:$D$452))","v":""}]
[null,{"$f":"IF(D142=\"\",\"\",COUNT($D$24:$D$452)-COUNT(D143:$D$452))","v":""}]
[null,{"$f":"IF(D143=\"\",\"\",COUNT($D$24:$D$452)-COUNT(D144:$D$452))","v":""}]
[null,{"$f":"IF(D144=\"\",\"\",COUNT($D$24:$D$452)-COUNT(D145:$D$452))","v":""}]
[null,{"$f":"IF(D145=\"\",\"\",COUNT($D$24:$D$452)-COUNT(D146:$D$452))","v":""}]
[null,{"$f":"IF(D146=\"\",\"\",COUNT($D$24:$D$452)-COUNT(D147:$D$452))","v":""}]
[null,{"$f":"IF(D147=\"\",\"\",COUNT($D$24:$D$452)-COUNT(D148:$D$452))","v":""}]
[null,{"$f":"IF(D148=\"\",\"\",COUNT($D$24:$D$452)-COUNT(D149:$D$452))","v":""}]
[null,{"$f":"IF(D149=\"\",\"\",COUNT($D$24:$D$452)-COUNT(D150:$D$452))","v":""}]
[null,{"$f":"IF(D150=\"\",\"\",COUNT($D$24:$D$452)-COUNT(D151:$D$452))","v":""}]
[null,{"$f":"IF(D151=\"\",\"\",COUNT($D$24:$D$452)-COUNT(D152:$D$452))","v":""}]
[null,{"$f":"IF(D152=\"\",\"\",COUNT($D$24:$D$452)-COUNT(D153:$D$452))","v":""}]
[null,{"$f":"IF(D153=\"\",\"\",COUNT($D$24:$D$452)-COUNT(D154:$D$452))","v":""}]
[null,{"$f":"IF(D154=\"\",\"\",COUNT($D$24:$D$452)-COUNT(D155:$D$452))","v":""}]
[null,{"$f":"IF(D155=\"\",\"\",COUNT($D$24:$D$452)-COUNT(D156:$D$452))","v":""}]
[null,{"$f":"IF(D156=\"\",\"\",COUNT($D$24:$D$452)-COUNT(D157:$D$452))","v":""}]
[null,{"$f":"IF(D157=\"\",\"\",COUNT($D$24:$D$452)-COUNT(D158:$D$452))","v":""}]
[null,{"$f":"IF(D158=\"\",\"\",COUNT($D$24:$D$452)-COUNT(D159:$D$452))","v":""}]
[null,{"$f":"IF(D159=\"\",\"\",COUNT($D$24:$D$452)-COUNT(D160:$D$452))","v":""}]
[null,{"$f":"IF(D160=\"\",\"\",COUNT($D$24:$D$452)-COUNT(D161:$D$452))","v":""}]
[null,{"$f":"IF(D161=\"\",\"\",COUNT($D$24:$D$452)-COUNT(D162:$D$452))","v":""}]
[null,{"$f":"IF(D162=\"\",\"\",COUNT($D$24:$D$452)-COUNT(D163:$D$452))","v":""}]
[null,{"$f":"IF(D163=\"\",\"\",COUNT($D$24:$D$452)-COUNT(D164:$D$452))","v":""}]
[null,{"$f":"IF(D164=\"\",\"\",COUNT($D$24:$D$452)-COUNT(D165:$D$452))","v":""}]
[null,{"$f":"IF(D165=\"\",\"\",COUNT($D$24:$D$452)-COUNT(D166:$D$452))","v":""}]
[null,{"$f":"IF(D166=\"\",\"\",COUNT($D$24:$D$452)-COUNT(D167:$D$452))","v":""}]
[null,{"$f":"IF(D167=\"\",\"\",COUNT($D$24:$D$452)-COUNT(D168:$D$452))","v":""}]
[null,{"$f":"IF(D168=\"\",\"\",COUNT($D$24:$D$452)-COUNT(D169:$D$452))","v":""}]
[null,{"$f":"IF(D169=\"\",\"\",COUNT($D$24:$D$452)-COUNT(D170:$D$452))","v":""}]
[null,{"$f":"IF(D170=\"\",\"\",COUNT($D$24:$D$452)-COUNT(D171:$D$452))","v":""}]
[null,{"$f":"IF(D171=\"\",\"\",COUNT($D$24:$D$452)-COUNT(D172:$D$452))","v":""}]
[null,{"$f":"IF(D172=\"\",\"\",COUNT($D$24:$D$452)-COUNT(D173:$D$452))","v":""}]
[null,{"$f":"IF(D173=\"\",\"\",COUNT($D$24:$D$452)-COUNT(D174:$D$452))","v":""}]
[null,{"$f":"IF(D174=\"\",\"\",COUNT($D$24:$D$452)-COUNT(D175:$D$452))","v":""}]
[null,{"$f":"IF(D175=\"\",\"\",COUNT($D$24:$D$452)-COUNT(D176:$D$452))","v":""}]
[null,{"$f":"IF(D176=\"\",\"\",COUNT($D$24:$D$452)-COUNT(D177:$D$452))","v":""}]
[null,{"$f":"IF(D177=\"\",\"\",COUNT($D$24:$D$452)-COUNT(D178:$D$452))","v":""}]
[null,{"$f":"IF(D178=\"\",\"\",COUNT($D$24:$D$452)-COUNT(D179:$D$452))","v":""}]
[null,{"$f":"IF(D179=\"\",\"\",COUNT($D$24:$D$452)-COUNT(D180:$D$452))","v":""}]
[null,{"$f":"IF(D180=\"\",\"\",COUNT($D$24:$D$452)-COUNT(D181:$D$452))","v":""}]
[null,{"$f":"IF(D181=\"\",\"\",COUNT($D$24:$D$452)-COUNT(D182:$D$452))","v":""}]
[null,{"$f":"IF(D182=\"\",\"\",COUNT($D$24:$D$452)-COUNT(D183:$D$452))","v":""}]
[null,{"$f":"IF(D183=\"\",\"\",COUNT($D$24:$D$452)-COUNT(D184:$D$452))","v":""}]
[null,{"$f":"IF(D184=\"\",\"\",COUNT($D$24:$D$452)-COUNT(D185:$D$452))","v":""}]
[null,{"$f":"IF(D185=\"\",\"\",COUNT($D$24:$D$452)-COUNT(D186:$D$452))","v":""}]
[null,{"$f":"IF(D186=\"\",\"\",COUNT($D$24:$D$452)-COUNT(D187:$D$452))","v":""}]
[null,{"$f":"IF(D187=\"\",\"\",COUNT($D$24:$D$452)-COUNT(D188:$D$452))","v":""}]
[null,{"$f":"IF(D188=\"\",\"\",COUNT($D$24:$D$452)-COUNT(D189:$D$452))","v":""}]
[null,{"$f":"IF(D189=\"\",\"\",COUNT($D$24:$D$452)-COUNT(D190:$D$452))","v":""}]
[null,{"$f":"IF(D190=\"\",\"\",COUNT($D$24:$D$452)-COUNT(D191:$D$452))","v":""}]
[null,{"$f":"IF(D191=\"\",\"\",COUNT($D$24:$D$452)-COUNT(D192:$D$452))","v":""}]
[null,{"$f":"IF(D192=\"\",\"\",COUNT($D$24:$D$452)-COUNT(D193:$D$452))","v":""}]
[null,{"$f":"IF(D193=\"\",\"\",COUNT($D$24:$D$452)-COUNT(D194:$D$452))","v":""}]
[null,{"$f":"IF(D194=\"\",\"\",COUNT($D$24:$D$452)-COUNT(D195:$D$452))","v":""}]
[null,{"$f":"IF(D195=\"\",\"\",COUNT($D$24:$D$452)-COUNT(D196:$D$452))","v":""}]
[null,{"$f":"IF(D196=\"\",\"\",COUNT($D$24:$D$452)-COUNT(D197:$D$452))","v":""}]
[null,{"$f":"IF(D197=\"\",\"\",COUNT($D$24:$D$452)-COUNT(D198:$D$452))","v":""}]
[null,{"$f":"IF(D198=\"\",\"\",COUNT($D$24:$D$452)-COUNT(D199:$D$452))","v":""}]
[null,{"$f":"IF(D199=\"\",\"\",COUNT($D$24:$D$452)-COUNT(D200:$D$452))","v":""}]
[null,{"$f":"IF(D200=\"\",\"\",COUNT($D$24:$D$452)-COUNT(D201:$D$452))","v":""}]
[null,{"$f":"IF(D201=\"\",\"\",COUNT($D$24:$D$452)-COUNT(D202:$D$452))","v":""}]
[null,{"$f":"IF(D202=\"\",\"\",COUNT($D$24:$D$452)-COUNT(D203:$D$452))","v":""}]
[null,{"$f":"IF(D203=\"\",\"\",COUNT($D$24:$D$452)-COUNT(D204:$D$452))","v":""}]
[null,{"$f":"IF(D204=\"\",\"\",COUNT($D$24:$D$452)-COUNT(D205:$D$452))","v":""}]
[null,{"$f":"IF(D205=\"\",\"\",COUNT($D$24:$D$452)-COUNT(D206:$D$452))","v":""}]
[null,{"$f":"IF(D206=\"\",\"\",COUNT($D$24:$D$452)-COUNT(D207:$D$452))","v":""}]
[null,{"$f":"IF(D207=\"\",\"\",COUNT($D$24:$D$452)-COUNT(D208:$D$452))","v":""}]
[null,{"$f":"IF(D208=\"\",\"\",COUNT($D$24:$D$452)-COUNT(D209:$D$452))","v":""}]
[null,{"$f":"IF(D209=\"\",\"\",COUNT($D$24:$D$452)-COUNT(D210:$D$452))","v":""}]
[null,{"$f":"IF(D210=\"\",\"\",COUNT($D$24:$D$452)-COUNT(D211:$D$452))","v":""}]
[null,{"$f":"IF(D211=\"\",\"\",COUNT($D$24:$D$452)-COUNT(D212:$D$452))","v":""}]
[null,{"$f":"IF(D212=\"\",\"\",COUNT($D$24:$D$452)-COUNT(D213:$D$452))","v":""}]
[null,{"$f":"IF(D213=\"\",\"\",COUNT($D$24:$D$452)-COUNT(D214:$D$452))","v":""}]
[null,{"$f":"IF(D214=\"\",\"\",COUNT($D$24:$D$452)-COUNT(D215:$D$452))","v":""}]
[null,{"$f":"IF(D215=\"\",\"\",COUNT($D$24:$D$452)-COUNT(D216:$D$452))","v":""}]
[null,{"$f":"IF(D216=\"\",\"\",COUNT($D$24:$D$452)-COUNT(D217:$D$452))","v":""}]
[null,{"$f":"IF(D217=\"\",\"\",COUNT($D$24:$D$452)-COUNT(D218:$D$452))","v":""}]
[null,{"$f":"IF(D218=\"\",\"\",COUNT($D$24:$D$452)-COUNT(D219:$D$452))","v":""}]
[null,{"$f":"IF(D219=\"\",\"\",COUNT($D$24:$D$452)-COUNT(D220:$D$452))","v":""}]
[null,{"$f":"IF(D220=\"\",\"\",COUNT($D$24:$D$452)-COUNT(D221:$D$452))","v":""}]
[null,{"$f":"IF(D221=\"\",\"\",COUNT($D$24:$D$452)-COUNT(D222:$D$452))","v":""}]
[null,{"$f":"IF(D222=\"\",\"\",COUNT($D$24:$D$452)-COUNT(D223:$D$452))","v":""}]
[null,{"$f":"IF(D223=\"\",\"\",COUNT($D$24:$D$452)-COUNT(D224:$D$452))","v":""}]
[null,{"$f":"IF(D224=\"\",\"\",COUNT($D$24:$D$452)-COUNT(D225:$D$452))","v":""}]
[null,{"$f":"IF(D225=\"\",\"\",COUNT($D$24:$D$452)-COUNT(D226:$D$452))","v":""}]
[null,{"$f":"IF(D226=\"\",\"\",COUNT($D$24:$D$452)-COUNT(D227:$D$452))","v":""}]
[null,{"$f":"IF(D227=\"\",\"\",COUNT($D$24:$D$452)-COUNT(D228:$D$452))","v":""}]
[null,{"$f":"IF(D228=\"\",\"\",COUNT($D$24:$D$452)-COUNT(D229:$D$452))","v":""}]
[null,{"$f":"IF(D229=\"\",\"\",COUNT($D$24:$D$452)-COUNT(D230:$D$452))","v":""}]
[null,{"$f":"IF(D230=\"\",\"\",COUNT($D$24:$D$452)-COUNT(D231:$D$452))","v":""}]
[null,{"$f":"IF(D231=\"\",\"\",COUNT($D$24:$D$452)-COUNT(D232:$D$452))","v":""}]
[null,{"$f":"IF(D232=\"\",\"\",COUNT($D$24:$D$452)-COUNT(D233:$D$452))","v":""}]
[null,{"$f":"IF(D233=\"\",\"\",COUNT($D$24:$D$452)-COUNT(D234:$D$452))","v":""}]
[null,{"$f":"IF(D234=\"\",\"\",COUNT($D$24:$D$452)-COUNT(D235:$D$452))","v":""}]
[null,{"$f":"IF(D235=\"\",\"\",COUNT($D$24:$D$452)-COUNT(D236:$D$452))","v":""}]
[null,{"$f":"IF(D236=\"\",\"\",COUNT($D$24:$D$452)-COUNT(D237:$D$452))","v":""}]
[null,{"$f":"IF(D237=\"\",\"\",COUNT($D$24:$D$452)-COUNT(D238:$D$452))","v":""}]
[null,{"$f":"IF(D238=\"\",\"\",COUNT($D$24:$D$452)-COUNT(D239:$D$452))","v":""}]
[null,{"$f":"IF(D239=\"\",\"\",COUNT($D$24:$D$452)-COUNT(D240:$D$452))","v":""}]
[null,{"$f":"IF(D240=\"\",\"\",COUNT($D$24:$D$452)-COUNT(D241:$D$452))","v":""}]
[null,{"$f":"IF(D241=\"\",\"\",COUNT($D$24:$D$452)-COUNT(D242:$D$452))","v":""}]
[null,{"$f":"IF(D242=\"\",\"\",COUNT($D$24:$D$452)-COUNT(D243:$D$452))","v":""}]
[null,{"$f":"IF(D243=\"\",\"\",COUNT($D$24:$D$452)-COUNT(D244:$D$452))","v":""}]
[null,{"$f":"IF(D244=\"\",\"\",COUNT($D$24:$D$452)-COUNT(D245:$D$452))","v":""}]
[null,{"$f":"IF(D245=\"\",\"\",COUNT($D$24:$D$452)-COUNT(D246:$D$452))","v":""}]
[null,{"$f":"IF(D246=\"\",\"\",COUNT($D$24:$D$452)-COUNT(D247:$D$452))","v":""}]
[null,{"$f":"IF(D247=\"\",\"\",COUNT($D$24:$D$452)-COUNT(D248:$D$452))","v":""}]
[null,{"$f":"IF(D248=\"\",\"\",COUNT($D$24:$D$452)-COUNT(D249:$D$452))","v":""}]
[null,{"$f":"IF(D249=\"\",\"\",COUNT($D$24:$D$452)-COUNT(D250:$D$452))","v":""}]
[null,{"$f":"IF(D250=\"\",\"\",COUNT($D$24:$D$452)-COUNT(D251:$D$452))","v":""}]
[null,{"$f":"IF(D251=\"\",\"\",COUNT($D$24:$D$452)-COUNT(D252:$D$452))","v":""}]
[null,{"$f":"IF(D252=\"\",\"\",COUNT($D$24:$D$452)-COUNT(D253:$D$452))","v":""}]
[null,{"$f":"IF(D253=\"\",\"\",COUNT($D$24:$D$452)-COUNT(D254:$D$452))","v":""}]
[null,{"$f":"IF(D254=\"\",\"\",COUNT($D$24:$D$452)-COUNT(D255:$D$452))","v":""}]
[null,{"$f":"IF(D255=\"\",\"\",COUNT($D$24:$D$452)-COUNT(D256:$D$452))","v":""}]
[null,{"$f":"IF(D256=\"\",\"\",COUNT($D$24:$D$452)-COUNT(D257:$D$452))","v":""}]
[null,{"$f":"IF(D257=\"\",\"\",COUNT($D$24:$D$452)-COUNT(D258:$D$452))","v":""}]
[null,{"$f":"IF(D258=\"\",\"\",COUNT($D$24:$D$452)-COUNT(D259:$D$452))","v":""}]
[null,{"$f":"IF(D259=\"\",\"\",COUNT($D$24:$D$452)-COUNT(D260:$D$452))","v":""}]
[null,{"$f":"IF(D260=\"\",\"\",COUNT($D$24:$D$452)-COUNT(D261:$D$452))","v":""}]
[null,{"$f":"IF(D261=\"\",\"\",COUNT($D$24:$D$452)-COUNT(D262:$D$452))","v":""}]
[null,{"$f":"IF(D262=\"\",\"\",COUNT($D$24:$D$452)-COUNT(D263:$D$452))","v":""}]
[null,{"$f":"IF(D263=\"\",\"\",COUNT($D$24:$D$452)-COUNT(D264:$D$452))","v":""}]
[null,{"$f":"IF(D264=\"\",\"\",COUNT($D$24:$D$452)-COUNT(D265:$D$452))","v":""}]
[null,{"$f":"IF(D265=\"\",\"\",COUNT($D$24:$D$452)-COUNT(D266:$D$452))","v":""}]
[null,{"$f":"IF(D266=\"\",\"\",COUNT($D$24:$D$452)-COUNT(D267:$D$452))","v":""}]
[null,{"$f":"IF(D267=\"\",\"\",COUNT($D$24:$D$452)-COUNT(D268:$D$452))","v":""}]
[null,{"$f":"IF(D268=\"\",\"\",COUNT($D$24:$D$452)-COUNT(D269:$D$452))","v":""}]
[null,{"$f":"IF(D269=\"\",\"\",COUNT($D$24:$D$452)-COUNT(D270:$D$452))","v":""}]
[null,{"$f":"IF(D270=\"\",\"\",COUNT($D$24:$D$452)-COUNT(D271:$D$452))","v":""}]
[null,{"$f":"IF(D271=\"\",\"\",COUNT($D$24:$D$452)-COUNT(D272:$D$452))","v":""}]
[null,{"$f":"IF(D272=\"\",\"\",COUNT($D$24:$D$452)-COUNT(D273:$D$452))","v":""}]
[null,{"$f":"IF(D273=\"\",\"\",COUNT($D$24:$D$452)-COUNT(D274:$D$452))","v":""}]
[null,{"$f":"IF(D274=\"\",\"\",COUNT($D$24:$D$452)-COUNT(D275:$D$452))","v":""}]
[null,{"$f":"IF(D275=\"\",\"\",COUNT($D$24:$D$452)-COUNT(D276:$D$452))","v":""}]
[null,{"$f":"IF(D276=\"\",\"\",COUNT($D$24:$D$452)-COUNT(D277:$D$452))","v":""}]
[null,{"$f":"IF(D277=\"\",\"\",COUNT($D$24:$D$452)-COUNT(D278:$D$452))","v":""}]
[null,{"$f":"IF(D278=\"\",\"\",COUNT($D$24:$D$452)-COUNT(D279:$D$452))","v":""}]
[null,{"$f":"IF(D279=\"\",\"\",COUNT($D$24:$D$452)-COUNT(D280:$D$452))","v":""}]
[null,{"$f":"IF(D280=\"\",\"\",COUNT($D$24:$D$452)-COUNT(D281:$D$452))","v":""}]
[null,{"$f":"IF(D281=\"\",\"\",COUNT($D$24:$D$452)-COUNT(D282:$D$452))","v":""}]
[null,{"$f":"IF(D282=\"\",\"\",COUNT($D$24:$D$452)-COUNT(D283:$D$452))","v":""}]
[null,{"$f":"IF(D283=\"\",\"\",COUNT($D$24:$D$452)-COUNT(D284:$D$452))","v":""}]
[null,{"$f":"IF(D284=\"\",\"\",COUNT($D$24:$D$452)-COUNT(D285:$D$452))","v":""}]
[null,{"$f":"IF(D285=\"\",\"\",COUNT($D$24:$D$452)-COUNT(D286:$D$452))","v":""}]
[null,{"$f":"IF(D286=\"\",\"\",COUNT($D$24:$D$452)-COUNT(D287:$D$452))","v":""}]
[null,{"$f":"IF(D287=\"\",\"\",COUNT($D$24:$D$452)-COUNT(D288:$D$452))","v":""}]
[null,{"$f":"IF(D288=\"\",\"\",COUNT($D$24:$D$452)-COUNT(D289:$D$452))","v":""}]
[null,{"$f":"IF(D289=\"\",\"\",COUNT($D$24:$D$452)-COUNT(D290:$D$452))","v":""}]
[null,{"$f":"IF(D290=\"\",\"\",COUNT($D$24:$D$452)-COUNT(D291:$D$452))","v":""}]
[null,{"$f":"IF(D291=\"\",\"\",COUNT($D$24:$D$452)-COUNT(D292:$D$452))","v":""}]
[null,{"$f":"IF(D292=\"\",\"\",COUNT($D$24:$D$452)-COUNT(D293:$D$452))","v":""}]
[null,{"$f":"IF(D293=\"\",\"\",COUNT($D$24:$D$452)-COUNT(D294:$D$452))","v":""}]
[null,{"$f":"IF(D294=\"\",\"\",COUNT($D$24:$D$452)-COUNT(D295:$D$452))","v":""}]
[null,{"$f":"IF(D295=\"\",\"\",COUNT($D$24:$D$452)-COUNT(D296:$D$452))","v":""}]
[null,{"$f":"IF(D296=\"\",\"\",COUNT($D$24:$D$452)-COUNT(D297:$D$452))","v":""}]
[null,{"$f":"IF(D297=\"\",\"\",COUNT($D$24:$D$452)-COUNT(D298:$D$452))","v":""}]
[null,{"$f":"IF(D298=\"\",\"\",COUNT($D$24:$D$452)-COUNT(D299:$D$452))","v":""}]
[null,{"$f":"IF(D299=\"\",\"\",COUNT($D$24:$D$452)-COUNT(D300:$D$452))","v":""}]
[null,{"$f":"IF(D300=\"\",\"\",COUNT($D$24:$D$452)-COUNT(D301:$D$452))","v":""}]
[null,{"$f":"IF(D301=\"\",\"\",COUNT($D$24:$D$452)-COUNT(D302:$D$452))","v":""}]
[null,{"$f":"IF(D302=\"\",\"\",COUNT($D$24:$D$452)-COUNT(D303:$D$452))","v":""}]
[null,{"$f":"IF(D303=\"\",\"\",COUNT($D$24:$D$452)-COUNT(D304:$D$452))","v":""}]
[null,{"$f":"IF(D304=\"\",\"\",COUNT($D$24:$D$452)-COUNT(D305:$D$452))","v":""}]
[null,{"$f":"IF(D305=\"\",\"\",COUNT($D$24:$D$452)-COUNT(D306:$D$452))","v":""}]
[null,{"$f":"IF(D306=\"\",\"\",COUNT($D$24:$D$452)-COUNT(D307:$D$452))","v":""}]
[null,{"$f":"IF(D307=\"\",\"\",COUNT($D$24:$D$452)-COUNT(D308:$D$452))","v":""}]
[null,{"$f":"IF(D308=\"\",\"\",COUNT($D$24:$D$452)-COUNT(D309:$D$452))","v":""}]
[null,{"$f":"IF(D309=\"\",\"\",COUNT($D$24:$D$452)-COUNT(D310:$D$452))","v":""}]
[null,{"$f":"IF(D310=\"\",\"\",COUNT($D$24:$D$452)-COUNT(D311:$D$452))","v":""}]
[null,{"$f":"IF(D311=\"\",\"\",COUNT($D$24:$D$452)-COUNT(D312:$D$452))","v":""}]
[null,{"$f":"IF(D312=\"\",\"\",COUNT($D$24:$D$452)-COUNT(D313:$D$452))","v":""}]
[null,{"$f":"IF(D313=\"\",\"\",COUNT($D$24:$D$452)-COUNT(D314:$D$452))","v":""}]
[null,{"$f":"IF(D314=\"\",\"\",COUNT($D$24:$D$452)-COUNT(D315:$D$452))","v":""}]
[null,{"$f":"IF(D315=\"\",\"\",COUNT($D$24:$D$452)-COUNT(D316:$D$452))","v":""}]
[null,{"$f":"IF(D316=\"\",\"\",COUNT($D$24:$D$452)-COUNT(D317:$D$452))","v":""}]
[null,{"$f":"IF(D317=\"\",\"\",COUNT($D$24:$D$452)-COUNT(D318:$D$452))","v":""}]
[null,{"$f":"IF(D318=\"\",\"\",COUNT($D$24:$D$452)-COUNT(D319:$D$452))","v":""}]
[null,{"$f":"IF(D319=\"\",\"\",COUNT($D$24:$D$452)-COUNT(D320:$D$452))","v":""}]
[null,{"$f":"IF(D320=\"\",\"\",COUNT($D$24:$D$452)-COUNT(D321:$D$452))","v":""}]
[null,{"$f":"IF(D321=\"\",\"\",COUNT($D$24:$D$452)-COUNT(D322:$D$452))","v":""}]
[null,{"$f":"IF(D322=\"\",\"\",COUNT($D$24:$D$452)-COUNT(D323:$D$452))","v":""}]
[null,{"$f":"IF(D323=\"\",\"\",COUNT($D$24:$D$452)-COUNT(D324:$D$452))","v":""}]
[null,{"$f":"IF(D324=\"\",\"\",COUNT($D$24:$D$452)-COUNT(D325:$D$452))","v":""}]
[null,{"$f":"IF(D325=\"\",\"\",COUNT($D$24:$D$452)-COUNT(D326:$D$452))","v":""}]
[null,{"$f":"IF(D326=\"\",\"\",COUNT($D$24:$D$452)-COUNT(D327:$D$452))","v":""}]
[null,{"$f":"IF(D327=\"\",\"\",COUNT($D$24:$D$452)-COUNT(D328:$D$452))","v":""}]
[null,{"$f":"IF(D328=\"\",\"\",COUNT($D$24:$D$452)-COUNT(D329:$D$452))","v":""}]
[null,{"$f":"IF(D329=\"\",\"\",COUNT($D$24:$D$452)-COUNT(D330:$D$452))","v":""}]
[null,{"$f":"IF(D330=\"\",\"\",COUNT($D$24:$D$452)-COUNT(D331:$D$452))","v":""}]
[null,{"$f":"IF(D331=\"\",\"\",COUNT($D$24:$D$452)-COUNT(D332:$D$452))","v":""}]
[null,{"$f":"IF(D332=\"\",\"\",COUNT($D$24:$D$452)-COUNT(D333:$D$452))","v":""}]
[null,{"$f":"IF(D333=\"\",\"\",COUNT($D$24:$D$452)-COUNT(D334:$D$452))","v":""}]
[null,{"$f":"IF(D334=\"\",\"\",COUNT($D$24:$D$452)-COUNT(D335:$D$452))","v":""}]
[null,{"$f":"IF(D335=\"\",\"\",COUNT($D$24:$D$452)-COUNT(D336:$D$452))","v":""}]
[null,{"$f":"IF(D336=\"\",\"\",COUNT($D$24:$D$452)-COUNT(D337:$D$452))","v":""}]
[null,{"$f":"IF(D337=\"\",\"\",COUNT($D$24:$D$452)-COUNT(D338:$D$452))","v":""}]
[null,{"$f":"IF(D338=\"\",\"\",COUNT($D$24:$D$452)-COUNT(D339:$D$452))","v":""}]
[null,{"$f":"IF(D339=\"\",\"\",COUNT($D$24:$D$452)-COUNT(D340:$D$452))","v":""}]
[null,{"$f":"IF(D340=\"\",\"\",COUNT($D$24:$D$452)-COUNT(D341:$D$452))","v":""}]
[null,{"$f":"IF(D341=\"\",\"\",COUNT($D$24:$D$452)-COUNT(D342:$D$452))","v":""}]
[null,{"$f":"IF(D342=\"\",\"\",COUNT($D$24:$D$452)-COUNT(D343:$D$452))","v":""}]
[null,{"$f":"IF(D343=\"\",\"\",COUNT($D$24:$D$452)-COUNT(D344:$D$452))","v":""}]
[null,{"$f":"IF(D344=\"\",\"\",COUNT($D$24:$D$452)-COUNT(D345:$D$452))","v":""}]
[null,{"$f":"IF(D345=\"\",\"\",COUNT($D$24:$D$452)-COUNT(D346:$D$452))","v":""}]
[null,{"$f":"IF(D346=\"\",\"\",COUNT($D$24:$D$452)-COUNT(D347:$D$452))","v":""}]
[null,{"$f":"IF(D347=\"\",\"\",COUNT($D$24:$D$452)-COUNT(D348:$D$452))","v":""}]
[null,{"$f":"IF(D348=\"\",\"\",COUNT($D$24:$D$452)-COUNT(D349:$D$452))","v":""}]
[null,{"$f":"IF(D349=\"\",\"\",COUNT($D$24:$D$452)-COUNT(D350:$D$452))","v":""}]
[null,{"$f":"IF(D350=\"\",\"\",COUNT($D$24:$D$452)-COUNT(D351:$D$452))","v":""}]
[null,{"$f":"IF(D351=\"\",\"\",COUNT($D$24:$D$452)-COUNT(D352:$D$452))","v":""}]
[null,{"$f":"IF(D352=\"\",\"\",COUNT($D$24:$D$452)-COUNT(D353:$D$452))","v":""}]
[null,{"$f":"IF(D353=\"\",\"\",COUNT($D$24:$D$452)-COUNT(D354:$D$452))","v":""}]
[null,{"$f":"IF(D354=\"\",\"\",COUNT($D$24:$D$452)-COUNT(D355:$D$452))","v":""}]
[null,{"$f":"IF(D355=\"\",\"\",COUNT($D$24:$D$452)-COUNT(D356:$D$452))","v":""}]
[null,{"$f":"IF(D356=\"\",\"\",COUNT($D$24:$D$452)-COUNT(D357:$D$452))","v":""}]
[null,{"$f":"IF(D357=\"\",\"\",COUNT($D$24:$D$452)-COUNT(D358:$D$452))","v":""}]
[null,{"$f":"IF(D358=\"\",\"\",COUNT($D$24:$D$452)-COUNT(D359:$D$452))","v":""}]
[null,{"$f":"IF(D359=\"\",\"\",COUNT($D$24:$D$452)-COUNT(D360:$D$452))","v":""}]
[null,{"$f":"IF(D360=\"\",\"\",COUNT($D$24:$D$452)-COUNT(D361:$D$452))","v":""}]
[null,{"$f":"IF(D361=\"\",\"\",COUNT($D$24:$D$452)-COUNT(D362:$D$452))","v":""}]
[null,{"$f":"IF(D362=\"\",\"\",COUNT($D$24:$D$452)-COUNT(D363:$D$452))","v":""}]
[null,{"$f":"IF(D363=\"\",\"\",COUNT($D$24:$D$452)-COUNT(D364:$D$452))","v":""}]
[null,{"$f":"IF(D364=\"\",\"\",COUNT($D$24:$D$452)-COUNT(D365:$D$452))","v":""}]
[null,{"$f":"IF(D365=\"\",\"\",COUNT($D$24:$D$452)-COUNT(D366:$D$452))","v":""}]
[null,{"$f":"IF(D366=\"\",\"\",COUNT($D$24:$D$452)-COUNT(D367:$D$452))","v":""}]
[null,{"$f":"IF(D367=\"\",\"\",COUNT($D$24:$D$452)-COUNT(D368:$D$452))","v":""}]
[null,{"$f":"IF(D368=\"\",\"\",COUNT($D$24:$D$452)-COUNT(D369:$D$452))","v":""}]
[null,{"$f":"IF(D369=\"\",\"\",COUNT($D$24:$D$452)-COUNT(D370:$D$452))","v":""}]
[null,{"$f":"IF(D370=\"\",\"\",COUNT($D$24:$D$452)-COUNT(D371:$D$452))","v":""}]
[null,{"$f":"IF(D371=\"\",\"\",COUNT($D$24:$D$452)-COUNT(D372:$D$452))","v":""}]
[null,{"$f":"IF(D372=\"\",\"\",COUNT($D$24:$D$452)-COUNT(D373:$D$452))","v":""}]
[null,{"$f":"IF(D373=\"\",\"\",COUNT($D$24:$D$452)-COUNT(D374:$D$452))","v":""}]
[null,{"$f":"IF(D374=\"\",\"\",COUNT($D$24:$D$452)-COUNT(D375:$D$452))","v":""}]
[null,{"$f":"IF(D375=\"\",\"\",COUNT($D$24:$D$452)-COUNT(D376:$D$452))","v":""}]
[null,{"$f":"IF(D376=\"\",\"\",COUNT($D$24:$D$452)-COUNT(D377:$D$452))","v":""}]
[null,{"$f":"IF(D377=\"\",\"\",COUNT($D$24:$D$452)-COUNT(D378:$D$452))","v":""}]
[null,{"$f":"IF(D378=\"\",\"\",COUNT($D$24:$D$452)-COUNT(D379:$D$452))","v":""}]
[null,{"$f":"IF(D379=\"\",\"\",COUNT($D$24:$D$452)-COUNT(D380:$D$452))","v":""}]
[null,{"$f":"IF(D380=\"\",\"\",COUNT($D$24:$D$452)-COUNT(D381:$D$452))","v":""}]
[null,{"$f":"IF(D381=\"\",\"\",COUNT($D$24:$D$452)-COUNT(D382:$D$452))","v":""}]
[null,{"$f":"IF(D382=\"\",\"\",COUNT($D$24:$D$452)-COUNT(D383:$D$452))","v":""}]
[null,{"$f":"IF(D383=\"\",\"\",COUNT($D$24:$D$452)-COUNT(D384:$D$452))","v":""}]
[null,{"$f":"IF(D384=\"\",\"\",COUNT($D$24:$D$452)-COUNT(D385:$D$452))","v":""}]
[null,{"$f":"IF(D385=\"\",\"\",COUNT($D$24:$D$452)-COUNT(D386:$D$452))","v":""}]
[null,{"$f":"IF(D386=\"\",\"\",COUNT($D$24:$D$452)-COUNT(D387:$D$452))","v":""}]
[null,{"$f":"IF(D387=\"\",\"\",COUNT($D$24:$D$452)-COUNT(D388:$D$452))","v":""}]
[null,{"$f":"IF(D388=\"\",\"\",COUNT($D$24:$D$452)-COUNT(D389:$D$452))","v":""}]
[null,{"$f":"IF(D389=\"\",\"\",COUNT($D$24:$D$452)-COUNT(D390:$D$452))","v":""}]
[null,{"$f":"IF(D390=\"\",\"\",COUNT($D$24:$D$452)-COUNT(D391:$D$452))","v":""}]
[null,{"$f":"IF(D391=\"\",\"\",COUNT($D$24:$D$452)-COUNT(D392:$D$452))","v":""}]
[null,{"$f":"IF(D392=\"\",\"\",COUNT($D$24:$D$452)-COUNT(D393:$D$452))","v":""}]
[null,{"$f":"IF(D393=\"\",\"\",COUNT($D$24:$D$452)-COUNT(D394:$D$452))","v":""}]
[null,{"$f":"IF(D394=\"\",\"\",COUNT($D$24:$D$452)-COUNT(D395:$D$452))","v":""}]
[null,{"$f":"IF(D395=\"\",\"\",COUNT($D$24:$D$452)-COUNT(D396:$D$452))","v":""}]
[null,{"$f":"IF(D396=\"\",\"\",COUNT($D$24:$D$452)-COUNT(D397:$D$452))","v":""}]
[null,{"$f":"IF(D397=\"\",\"\",COUNT($D$24:$D$452)-COUNT(D398:$D$452))","v":""}]
[null,{"$f":"IF(D398=\"\",\"\",COUNT($D$24:$D$452)-COUNT(D399:$D$452))","v":""}]
[null,{"$f":"IF(D399=\"\",\"\",COUNT($D$24:$D$452)-COUNT(D400:$D$452))","v":""}]
[null,{"$f":"IF(D400=\"\",\"\",COUNT($D$24:$D$452)-COUNT(D401:$D$452))","v":""}]
[null,{"$f":"IF(D401=\"\",\"\",COUNT($D$24:$D$452)-COUNT(D402:$D$452))","v":""}]
[null,{"$f":"IF(D402=\"\",\"\",COUNT($D$24:$D$452)-COUNT(D403:$D$452))","v":""}]
[null,{"$f":"IF(D403=\"\",\"\",COUNT($D$24:$D$452)-COUNT(D404:$D$452))","v":""}]
[null,{"$f":"IF(D404=\"\",\"\",COUNT($D$24:$D$452)-COUNT(D405:$D$452))","v":""}]
[null,{"$f":"IF(D405=\"\",\"\",COUNT($D$24:$D$452)-COUNT(D406:$D$452))","v":""}]
[null,{"$f":"IF(D406=\"\",\"\",COUNT($D$24:$D$452)-COUNT(D407:$D$452))","v":""}]
[null,{"$f":"IF(D407=\"\",\"\",COUNT($D$24:$D$452)-COUNT(D408:$D$452))","v":""}]
[null,{"$f":"IF(D408=\"\",\"\",COUNT($D$24:$D$452)-COUNT(D409:$D$452))","v":""}]
[null,{"$f":"IF(D409=\"\",\"\",COUNT($D$24:$D$452)-COUNT(D410:$D$452))","v":""}]
[null,{"$f":"IF(D410=\"\",\"\",COUNT($D$24:$D$452)-COUNT(D411:$D$452))","v":""}]
[null,{"$f":"IF(D411=\"\",\"\",COUNT($D$24:$D$452)-COUNT(D412:$D$452))","v":""}]
[null,{"$f":"IF(D412=\"\",\"\",COUNT($D$24:$D$452)-COUNT(D413:$D$452))","v":""}]
[null,{"$f":"IF(D413=\"\",\"\",COUNT($D$24:$D$452)-COUNT(D414:$D$452))","v":""}]
[null,{"$f":"IF(D414=\"\",\"\",COUNT($D$24:$D$452)-COUNT(D415:$D$452))","v":""}]
[null,{"$f":"IF(D415=\"\",\"\",COUNT($D$24:$D$452)-COUNT(D416:$D$452))","v":""}]
[null,{"$f":"IF(D416=\"\",\"\",COUNT($D$24:$D$452)-COUNT(D417:$D$452))","v":""}]
[null,{"$f":"IF(D417=\"\",\"\",COUNT($D$24:$D$452)-COUNT(D418:$D$452))","v":""}]
[null,{"$f":"IF(D418=\"\",\"\",COUNT($D$24:$D$452)-COUNT(D419:$D$452))","v":""}]
[null,{"$f":"IF(D419=\"\",\"\",COUNT($D$24:$D$452)-COUNT(D420:$D$452))","v":""}]
[null,{"$f":"IF(D420=\"\",\"\",COUNT($D$24:$D$452)-COUNT(D421:$D$452))","v":""}]
[null,{"$f":"IF(D421=\"\",\"\",COUNT($D$24:$D$452)-COUNT(D422:$D$452))","v":""}]
[null,{"$f":"IF(D422=\"\",\"\",COUNT($D$24:$D$452)-COUNT(D423:$D$452))","v":""}]
[null,{"$f":"IF(D423=\"\",\"\",COUNT($D$24:$D$452)-COUNT(D424:$D$452))","v":""}]
[null,{"$f":"IF(D424=\"\",\"\",COUNT($D$24:$D$452)-COUNT(D425:$D$452))","v":""}]
[null,{"$f":"IF(D425=\"\",\"\",COUNT($D$24:$D$452)-COUNT(D426:$D$452))","v":""}]
[null,{"$f":"IF(D426=\"\",\"\",COUNT($D$24:$D$452)-COUNT(D427:$D$452))","v":""}]
[null,{"$f":"IF(D427=\"\",\"\",COUNT($D$24:$D$452)-COUNT(D428:$D$452))","v":""}]
[null,{"$f":"IF(D428=\"\",\"\",COUNT($D$24:$D$452)-COUNT(D429:$D$452))","v":""}]
[null,{"$f":"IF(D429=\"\",\"\",COUNT($D$24:$D$452)-COUNT(D430:$D$452))","v":""}]
[null,{"$f":"IF(D430=\"\",\"\",COUNT($D$24:$D$452)-COUNT(D431:$D$452))","v":""}]
[null,{"$f":"IF(D431=\"\",\"\",COUNT($D$24:$D$452)-COUNT(D432:$D$452))","v":""}]
[null,{"$f":"IF(D432=\"\",\"\",COUNT($D$24:$D$452)-COUNT(D433:$D$452))","v":""}]
[null,{"$f":"IF(D433=\"\",\"\",COUNT($D$24:$D$452)-COUNT(D434:$D$452))","v":""}]
[null,{"$f":"IF(D434=\"\",\"\",COUNT($D$24:$D$452)-COUNT(D435:$D$452))","v":""}]
[null,{"$f":"IF(D435=\"\",\"\",COUNT($D$24:$D$452)-COUNT(D436:$D$452))","v":""}]
[null,{"$f":"IF(D436=\"\",\"\",COUNT($D$24:$D$452)-COUNT(D437:$D$452))","v":""}]
[null,{"$f":"IF(D437=\"\",\"\",COUNT($D$24:$D$452)-COUNT(D438:$D$452))","v":""}]
[null,{"$f":"IF(D438=\"\",\"\",COUNT($D$24:$D$452)-COUNT(D439:$D$452))","v":""}]
[null,{"$f":"IF(D439=\"\",\"\",COUNT($D$24:$D$452)-COUNT(D440:$D$452))","v":""}]
[null,{"$f":"IF(D440=\"\",\"\",COUNT($D$24:$D$452)-COUNT(D441:$D$452))","v":""}]
[null,{"$f":"IF(D441=\"\",\"\",COUNT($D$24:$D$452)-COUNT(D442:$D$452))","v":""}]
[null,{"$f":"IF(D442=\"\",\"\",COUNT($D$24:$D$452)-COUNT(D443:$D$452))","v":""}]
[null,{"$f":"IF(D443=\"\",\"\",COUNT($D$24:$D$452)-COUNT(D444:$D$452))","v":""}]
[null,{"$f":"IF(D444=\"\",\"\",COUNT($D$24:$D$452)-COUNT(D445:$D$452))","v":""}]
[null,{"$f":"IF(D445=\"\",\"\",COUNT($D$24:$D$452)-COUNT(D446:$D$452))","v":""}]
[null,{"$f":"IF(D446=\"\",\"\",COUNT($D$24:$D$452)-COUNT(D447:$D$452))","v":""}]
[null,{"$f":"IF(D447=\"\",\"\",COUNT($D$24:$D$452)-COUNT(D448:$D$452))","v":""}]
[null,{"$f":"IF(D448=\"\",\"\",COUNT($D$24:$D$452)-COUNT(D449:$D$452))","v":""}]
[null,{"$f":"IF(D449=\"\",\"\",COUNT($D$24:$D$452)-COUNT(D450:$D$452))","v":""}]
[null,{"$f":"IF(D450=\"\",\"\",COUNT($D$24:$D$452)-COUNT(D451:$D$452))","v":""}]
[null,{"$f":"IF(D451=\"\",\"\",COUNT($D$24:$D$452)-COUNT(D$452:$D452))","v":""}]
[null,{"$f":"IF(D452=\"\",\"\",COUNT($D$24:$D$452)-COUNT(D$452:$D453))","v":""}]
[null,{"$f":"IF(D453=\"\",\"\",COUNT($D$24:$D$452)-COUNT(D$452:$D454))","v":""}]
[null,{"$f":"IF(D454=\"\",\"\",COUNT($D$24:$D$452)-COUNT(D$452:$D455))","v":""}]
[null,{"$f":"IF(D455=\"\",\"\",COUNT($D$24:$D$452)-COUNT(D$452:$D456))","v":""}]
[null,{"$f":"IF(D456=\"\",\"\",COUNT($D$24:$D$452)-COUNT(D$452:$D457))","v":""}]
[null,{"$f":"IF(D457=\"\",\"\",COUNT($D$24:$D$452)-COUNT(D$452:$D458))","v":""}]
[null,{"$f":"IF(D458=\"\",\"\",COUNT($D$24:$D$452)-COUNT(D$452:$D459))","v":""}]
[null,{"$f":"IF(D459=\"\",\"\",COUNT($D$24:$D$452)-COUNT(D$452:$D460))","v":""}]
[null,{"$f":"IF(D460=\"\",\"\",COUNT($D$24:$D$452)-COUNT(D$452:$D461))","v":""}]
[null,{"$f":"IF(D461=\"\",\"\",COUNT($D$24:$D$452)-COUNT(D$452:$D462))","v":""}]
[null,{"$f":"IF(D462=\"\",\"\",COUNT($D$24:$D$452)-COUNT(D$452:$D463))","v":""}]
[null,{"$f":"IF(D463=\"\",\"\",COUNT($D$24:$D$452)-COUNT(D$452:$D464))","v":""}]
[null,{"$f":"IF(D464=\"\",\"\",COUNT($D$24:$D$452)-COUNT(D$452:$D465))","v":""}]
[null,{"$f":"IF(D465=\"\",\"\",COUNT($D$24:$D$452)-COUNT(D$452:$D466))","v":""}]
[null,{"$f":"IF(D466=\"\",\"\",COUNT($D$24:$D$452)-COUNT(D$452:$D467))","v":""}]
[null,{"$f":"IF(D467=\"\",\"\",COUNT($D$24:$D$452)-COUNT(D$452:$D468))","v":""}]
[null,{"$f":"IF(D468=\"\",\"\",COUNT($D$24:$D$452)-COUNT(D$452:$D469))","v":""}]
[null,{"$f":"IF(D469=\"\",\"\",COUNT($D$24:$D$452)-COUNT(D$452:$D470))","v":""}]
[null,{"$f":"IF(D470=\"\",\"\",COUNT($D$24:$D$452)-COUNT(D$452:$D471))","v":""}]
[null,{"$f":"IF(D471=\"\",\"\",COUNT($D$24:$D$452)-COUNT(D$452:$D472))","v":""}]
[null,{"$f":"IF(D472=\"\",\"\",COUNT($D$24:$D$452)-COUNT(D$452:$D473))","v":""}]
[null,{"$f":"IF(D473=\"\",\"\",COUNT($D$24:$D$452)-COUNT(D$452:$D474))","v":""}]
[null,{"$f":"IF(D474=\"\",\"\",COUNT($D$24:$D$452)-COUNT(D$452:$D475))","v":""}]
[null,{"$f":"IF(D475=\"\",\"\",COUNT($D$24:$D$452)-COUNT(D$452:$D476))","v":""}]
[null,{"$f":"IF(D476=\"\",\"\",COUNT($D$24:$D$452)-COUNT(D$452:$D477))","v":""}]
[null,{"$f":"IF(D477=\"\",\"\",COUNT($D$24:$D$452)-COUNT(D$452:$D478))","v":""}]
[null,{"$f":"IF(D478=\"\",\"\",COUNT($D$24:$D$452)-COUNT(D$452:$D479))","v":""}]
[null,{"$f":"IF(D479=\"\",\"\",COUNT($D$24:$D$452)-COUNT(D$452:$D480))","v":""}]
[null,{"$f":"IF(D480=\"\",\"\",COUNT($D$24:$D$452)-COUNT(D$452:$D481))","v":""}]
[null,{"$f":"IF(D481=\"\",\"\",COUNT($D$24:$D$452)-COUNT(D$452:$D482))","v":""}]
[null,{"$f":"IF(D482=\"\",\"\",COUNT($D$24:$D$452)-COUNT(D$452:$D483))","v":""}]
[null,{"$f":"IF(D483=\"\",\"\",COUNT($D$24:$D$452)-COUNT(D$452:$D484))","v":""}]
[null,{"$f":"IF(D484=\"\",\"\",COUNT($D$24:$D$452)-COUNT(D$452:$D485))","v":""}]
[null,{"$f":"IF(D485=\"\",\"\",COUNT($D$24:$D$452)-COUNT(D$452:$D486))","v":""}]
[null,{"$f":"IF(D486=\"\",\"\",COUNT($D$24:$D$452)-COUNT(D$452:$D487))","v":""}]
[null,{"$f":"IF(D487=\"\",\"\",COUNT($D$24:$D$452)-COUNT(D$452:$D488))","v":""}]
[null,{"$f":"IF(D488=\"\",\"\",COUNT($D$24:$D$452)-COUNT(D$452:$D489))","v":""}]
[null,{"$f":"IF(D489=\"\",\"\",COUNT($D$24:$D$452)-COUNT(D$452:$D490))","v":""}]
[null,{"$f":"IF(D490=\"\",\"\",COUNT($D$24:$D$452)-COUNT(D$452:$D491))","v":""}]
[null,{"$f":"IF(D491=\"\",\"\",COUNT($D$24:$D$452)-COUNT(D$452:$D492))","v":""}]
[null,{"$f":"IF(D492=\"\",\"\",COUNT($D$24:$D$452)-COUNT(D$452:$D493))","v":""}]
[null,{"$f":"IF(D493=\"\",\"\",COUNT($D$24:$D$452)-COUNT(D$452:$D494))","v":""}]
[null,{"$f":"IF(D494=\"\",\"\",COUNT($D$24:$D$452)-COUNT(D$452:$D495))","v":""}]
[null,{"$f":"IF(D495=\"\",\"\",COUNT($D$24:$D$452)-COUNT(D$452:$D496))","v":""}]
[null,{"$f":"IF(D496=\"\",\"\",COUNT($D$24:$D$452)-COUNT(D$452:$D497))","v":""}]
[null,{"$f":"IF(D497=\"\",\"\",COUNT($D$24:$D$452)-COUNT(D$452:$D498))","v":""}]
[null,{"$f":"IF(D498=\"\",\"\",COUNT($D$24:$D$452)-COUNT(D$452:$D499))","v":""}]
[null,{"$f":"IF(D499=\"\",\"\",COUNT($D$24:$D$452)-COUNT(D$452:$D500))","v":""}]
[null,{"$f":"IF(D500=\"\",\"\",COUNT($D$24:$D$452)-COUNT(D$452:$D501))","v":""}]
[null,{"$f":"IF(D501=\"\",\"\",COUNT($D$24:$D$452)-COUNT(D$452:$D502))","v":""}]
[null,{"$f":"IF(D502=\"\",\"\",COUNT($D$24:$D$452)-COUNT(D$452:$D503))","v":""}]
[null,{"$f":"IF(D503=\"\",\"\",COUNT($D$24:$D$452)-COUNT(D$452:$D504))","v":""}]
[null,{"$f":"IF(D504=\"\",\"\",COUNT($D$24:$D$452)-COUNT(D$452:$D505))","v":""}]
[null,{"$f":"IF(D505=\"\",\"\",COUNT($D$24:$D$452)-COUNT(D$452:$D506))","v":""}]
[null,{"$f":"IF(D506=\"\",\"\",COUNT($D$24:$D$452)-COUNT(D$452:$D507))","v":""}]
[null,{"$f":"IF(D507=\"\",\"\",COUNT($D$24:$D$452)-COUNT(D$452:$D508))","v":""}]
[null,{"$f":"IF(D508=\"\",\"\",COUNT($D$24:$D$452)-COUNT(D$452:$D509))","v":""}]
[null,{"$f":"IF(D509=\"\",\"\",COUNT($D$24:$D$452)-COUNT(D$452:$D510))","v":""}]
[null,{"$f":"IF(D510=\"\",\"\",COUNT($D$24:$D$452)-COUNT(D$452:$D511))","v":""}]
[null,{"$f":"IF(D511=\"\",\"\",COUNT($D$24:$D$452)-COUNT(D$452:$D512))","v":""}]
[null,{"$f":"IF(D512=\"\",\"\",COUNT($D$24:$D$452)-COUNT(D$452:$D513))","v":""}]
[null,{"$f":"IF(D513=\"\",\"\",COUNT($D$24:$D$452)-COUNT(D$452:$D514))","v":""}]
[null,{"$f":"IF(D514=\"\",\"\",COUNT($D$24:$D$452)-COUNT(D$452:$D515))","v":""}]
[null,{"$f":"IF(D515=\"\",\"\",COUNT($D$24:$D$452)-COUNT(D$452:$D516))","v":""}]
[null,{"$f":"IF(D516=\"\",\"\",COUNT($D$24:$D$452)-COUNT(D$452:$D517))","v":""}]
[null,{"$f":"IF(D517=\"\",\"\",COUNT($D$24:$D$452)-COUNT(D$452:$D518))","v":""}]
[null,{"$f":"IF(D518=\"\",\"\",COUNT($D$24:$D$452)-COUNT(D$452:$D519))","v":""}]
[null,{"$f":"IF(D519=\"\",\"\",COUNT($D$24:$D$452)-COUNT(D$452:$D520))","v":""}]
[null,{"$f":"IF(D520=\"\",\"\",COUNT($D$24:$D$452)-COUNT(D$452:$D521))","v":""}]
[null,{"$f":"IF(D521=\"\",\"\",COUNT($D$24:$D$452)-COUNT(D$452:$D522))","v":""}]
[null,{"$f":"IF(D522=\"\",\"\",COUNT($D$24:$D$452)-COUNT(D$452:$D523))","v":""}]
[null,{"$f":"IF(D523=\"\",\"\",COUNT($D$24:$D$452)-COUNT(D$452:$D524))","v":""}]
[null,{"$f":"IF(D524=\"\",\"\",COUNT($D$24:$D$452)-COUNT(D$452:$D525))","v":""}]
[null,{"$f":"IF(D525=\"\",\"\",COUNT($D$24:$D$452)-COUNT(D$452:$D526))","v":""}]
[null,{"$f":"IF(D526=\"\",\"\",COUNT($D$24:$D$452)-COUNT(D$452:$D527))","v":""}]
[null,{"$f":"IF(D527=\"\",\"\",COUNT($D$24:$D$452)-COUNT(D$452:$D528))","v":""}]
[null,{"$f":"IF(D528=\"\",\"\",COUNT($D$24:$D$452)-COUNT(D$452:$D529))","v":""}]
[null,{"$f":"IF(D529=\"\",\"\",COUNT($D$24:$D$452)-COUNT(D$452:$D530))","v":""}]
[null,{"$f":"IF(D530=\"\",\"\",COUNT($D$24:$D$452)-COUNT(D$452:$D531))","v":""}]
[null,{"$f":"IF(D531=\"\",\"\",COUNT($D$24:$D$452)-COUNT(D$452:$D532))","v":""}]
[null,{"$f":"IF(D532=\"\",\"\",COUNT($D$24:$D$452)-COUNT(D$452:$D533))","v":""}]
[null,{"$f":"IF(D533=\"\",\"\",COUNT($D$24:$D$452)-COUNT(D$452:$D534))","v":""}]
[null,{"$f":"IF(D534=\"\",\"\",COUNT($D$24:$D$452)-COUNT(D$452:$D535))","v":""}]
[null,{"$f":"IF(D535=\"\",\"\",COUNT($D$24:$D$452)-COUNT(D$452:$D536))","v":""}]
[null,{"$f":"IF(D536=\"\",\"\",COUNT($D$24:$D$452)-COUNT(D$452:$D537))","v":""}]
[null,{"$f":"IF(D537=\"\",\"\",COUNT($D$24:$D$452)-COUNT(D$452:$D538))","v":""}]
[null,{"$f":"IF(D538=\"\",\"\",COUNT($D$24:$D$452)-COUNT(D$452:$D539))","v":""}]
[null,{"$f":"IF(D539=\"\",\"\",COUNT($D$24:$D$452)-COUNT(D$452:$D540))","v":""}]
[null,{"$f":"IF(D540=\"\",\"\",COUNT($D$24:$D$452)-COUNT(D$452:$D541))","v":""}]
[null,{"$f":"IF(D541=\"\",\"\",COUNT($D$24:$D$452)-COUNT(D$452:$D542))","v":""}]
[null,{"$f":"IF(D542=\"\",\"\",COUNT($D$24:$D$452)-COUNT(D$452:$D543))","v":""}]
[null,{"$f":"IF(D543=\"\",\"\",COUNT($D$24:$D$452)-COUNT(D$452:$D544))","v":""}]
[null,{"$f":"IF(D544=\"\",\"\",COUNT($D$24:$D$452)-COUNT(D$452:$D545))","v":""}]
[null,{"$f":"IF(D545=\"\",\"\",COUNT($D$24:$D$452)-COUNT(D$452:$D546))","v":""}]
[null,{"$f":"IF(D546=\"\",\"\",COUNT($D$24:$D$452)-COUNT(D$452:$D547))","v":""}]
[null,{"$f":"IF(D547=\"\",\"\",COUNT($D$24:$D$452)-COUNT(D$452:$D548))","v":""}]
[null,{"$f":"IF(D548=\"\",\"\",COUNT($D$24:$D$452)-COUNT(D$452:$D549))","v":""}]
[null,{"$f":"IF(D549=\"\",\"\",COUNT($D$24:$D$452)-COUNT(D$452:$D550))","v":""}]
[null,{"$f":"IF(D550=\"\",\"\",COUNT($D$24:$D$452)-COUNT(D$452:$D551))","v":""}]
[null,{"$f":"IF(D551=\"\",\"\",COUNT($D$24:$D$452)-COUNT(D$452:$D552))","v":""}]
[null,{"$f":"IF(D552=\"\",\"\",COUNT($D$24:$D$452)-COUNT(D$452:$D553))","v":""}]
[null,{"$f":"IF(D553=\"\",\"\",COUNT($D$24:$D$452)-COUNT(D$452:$D554))","v":""}]
[null,{"$f":"IF(D554=\"\",\"\",COUNT($D$24:$D$452)-COUNT(D$452:$D555))","v":""}]
[null,{"$f":"IF(D555=\"\",\"\",COUNT($D$24:$D$452)-COUNT(D$452:$D556))","v":""}]
[null,{"$f":"IF(D556=\"\",\"\",COUNT($D$24:$D$452)-COUNT(D$452:$D557))","v":""}]
[null,{"$f":"IF(D557=\"\",\"\",COUNT($D$24:$D$452)-COUNT(D$452:$D558))","v":""}]
[null,{"$f":"IF(D558=\"\",\"\",COUNT($D$24:$D$452)-COUNT(D$452:$D559))","v":""}]
[null,{"$f":"IF(D559=\"\",\"\",COUNT($D$24:$D$452)-COUNT(D$452:$D560))","v":""}]
[null,{"$f":"IF(D560=\"\",\"\",COUNT($D$24:$D$452)-COUNT(D$452:$D561))","v":""}]
[null,{"$f":"IF(D561=\"\",\"\",COUNT($D$24:$D$452)-COUNT(D$452:$D562))","v":""}]
[null,{"$f":"IF(D562=\"\",\"\",COUNT($D$24:$D$452)-COUNT(D$452:$D563))","v":""}]
[null,{"$f":"IF(D563=\"\",\"\",COUNT($D$24:$D$452)-COUNT(D$452:$D564))","v":""}]
[null,{"$f":"IF(D564=\"\",\"\",COUNT($D$24:$D$452)-COUNT(D$452:$D565))","v":""}]
[null,{"$f":"IF(D565=\"\",\"\",COUNT($D$24:$D$452)-COUNT(D$452:$D566))","v":""}]
[null,{"$f":"IF(D566=\"\",\"\",COUNT($D$24:$D$452)-COUNT(D$452:$D567))","v":""}]
[null,{"$f":"IF(D567=\"\",\"\",COUNT($D$24:$D$452)-COUNT(D$452:$D568))","v":""}]
[null,{"$f":"IF(D568=\"\",\"\",COUNT($D$24:$D$452)-COUNT(D$452:$D569))","v":""}]
[null,{"$f":"IF(D569=\"\",\"\",COUNT($D$24:$D$452)-COUNT(D$452:$D570))","v":""}]
[null,{"$f":"IF(D570=\"\",\"\",COUNT($D$24:$D$452)-COUNT(D$452:$D571))","v":""}]
[null,{"$f":"IF(D571=\"\",\"\",COUNT($D$24:$D$452)-COUNT(D$452:$D572))","v":""}]
[null,{"$f":"IF(D572=\"\",\"\",COUNT($D$24:$D$452)-COUNT(D$452:$D573))","v":""}]
[null,{"$f":"IF(D573=\"\",\"\",COUNT($D$24:$D$452)-COUNT(D$452:$D574))","v":""}]
[null,{"$f":"IF(D574=\"\",\"\",COUNT($D$24:$D$452)-COUNT(D$452:$D575))","v":""}]
[null,{"$f":"IF(D575=\"\",\"\",COUNT($D$24:$D$452)-COUNT(D$452:$D576))","v":""}]
[null,{"$f":"IF(D576=\"\",\"\",COUNT($D$24:$D$452)-COUNT(D$452:$D577))","v":""}]
[null,{"$f":"IF(D577=\"\",\"\",COUNT($D$24:$D$452)-COUNT(D$452:$D578))","v":""}]
[null,{"$f":"IF(D578=\"\",\"\",COUNT($D$24:$D$452)-COUNT(D$452:$D579))","v":""}]
[null,{"$f":"IF(D579=\"\",\"\",COUNT($D$24:$D$452)-COUNT(D$452:$D580))","v":""}]
[null,{"$f":"IF(D580=\"\",\"\",COUNT($D$24:$D$452)-COUNT(D$452:$D581))","v":""}]
[null,{"$f":"IF(D581=\"\",\"\",COUNT($D$24:$D$452)-COUNT(D$452:$D582))","v":""}]
[null,{"$f":"IF(D582=\"\",\"\",COUNT($D$24:$D$452)-COUNT(D$452:$D583))","v":""}]
[null,{"$f":"IF(D583=\"\",\"\",COUNT($D$24:$D$452)-COUNT(D$452:$D584))","v":""}]
[null,{"$f":"IF(D584=\"\",\"\",COUNT($D$24:$D$452)-COUNT(D$452:$D585))","v":""}]
[null,{"$f":"IF(D585=\"\",\"\",COUNT($D$24:$D$452)-COUNT(D$452:$D586))","v":""}]
[null,{"$f":"IF(D586=\"\",\"\",COUNT($D$24:$D$452)-COUNT(D$452:$D587))","v":""}]
[null,{"$f":"IF(D587=\"\",\"\",COUNT($D$24:$D$452)-COUNT(D$452:$D588))","v":""}]
[null,{"$f":"IF(D588=\"\",\"\",COUNT($D$24:$D$452)-COUNT(D$452:$D589))","v":""}]
[null,{"$f":"IF(D589=\"\",\"\",COUNT($D$24:$D$452)-COUNT(D$452:$D590))","v":""}]
[null,{"$f":"IF(D590=\"\",\"\",COUNT($D$24:$D$452)-COUNT(D$452:$D591))","v":""}]
[null,{"$f":"IF(D591=\"\",\"\",COUNT($D$24:$D$452)-COUNT(D$452:$D592))","v":""}]
[null,{"$f":"IF(D592=\"\",\"\",COUNT($D$24:$D$452)-COUNT(D$452:$D593))","v":""}]
[null,{"$f":"IF(D593=\"\",\"\",COUNT($D$24:$D$452)-COUNT(D$452:$D594))","v":""}]
[null,{"$f":"IF(D594=\"\",\"\",COUNT($D$24:$D$452)-COUNT(D$452:$D595))","v":""}]
[null,{"$f":"IF(D595=\"\",\"\",COUNT($D$24:$D$452)-COUNT(D$452:$D596))","v":""}]
[null,{"$f":"IF(D596=\"\",\"\",COUNT($D$24:$D$452)-COUNT(D$452:$D597))","v":""}]
[null,{"$f":"IF(D597=\"\",\"\",COUNT($D$24:$D$452)-COUNT(D$452:$D598))","v":""}]
[null,{"$f":"IF(D598=\"\",\"\",COUNT($D$24:$D$452)-COUNT(D$452:$D599))","v":""}]
[null,{"$f":"IF(D599=\"\",\"\",COUNT($D$24:$D$452)-COUNT(D$452:$D600))","v":""}]
[null,{"$f":"IF(D600=\"\",\"\",COUNT($D$24:$D$452)-COUNT(D$452:$D601))","v":""}]
[null,{"$f":"IF(D601=\"\",\"\",COUNT($D$24:$D$452)-COUNT(D$452:$D602))","v":""}]
[null,{"$f":"IF(D602=\"\",\"\",COUNT($D$24:$D$452)-COUNT(D$452:$D603))","v":""}]
[null,{"$f":"IF(D603=\"\",\"\",COUNT($D$24:$D$452)-COUNT(D$452:$D604))","v":""}]
[null,{"$f":"IF(D604=\"\",\"\",COUNT($D$24:$D$452)-COUNT(D$452:$D605))","v":""}]
[null,{"$f":"IF(D605=\"\",\"\",COUNT($D$24:$D$452)-COUNT(D$452:$D606))","v":""}]
[null,{"$f":"IF(D606=\"\",\"\",COUNT($D$24:$D$452)-COUNT(D$452:$D607))","v":""}]
[null,{"$f":"IF(D607=\"\",\"\",COUNT($D$24:$D$452)-COUNT(D$452:$D608))","v":""}]
[null,{"$f":"IF(D608=\"\",\"\",COUNT($D$24:$D$452)-COUNT(D$452:$D609))","v":""}]
[null,{"$f":"IF(D609=\"\",\"\",COUNT($D$24:$D$452)-COUNT(D$452:$D610))","v":""}]
[null,{"$f":"IF(D610=\"\",\"\",COUNT($D$24:$D$452)-COUNT(D$452:$D611))","v":""}]
[null,{"$f":"IF(D611=\"\",\"\",COUNT($D$24:$D$452)-COUNT(D$452:$D612))","v":""}]
[null,{"$f":"IF(D612=\"\",\"\",COUNT($D$24:$D$452)-COUNT(D$452:$D613))","v":""}]
[null,{"$f":"IF(D613=\"\",\"\",COUNT($D$24:$D$452)-COUNT(D$452:$D614))","v":""}]
[null,{"$f":"IF(D614=\"\",\"\",COUNT($D$24:$D$452)-COUNT(D$452:$D615))","v":""}]
[null,{"$f":"IF(D615=\"\",\"\",COUNT($D$24:$D$452)-COUNT(D$452:$D616))","v":""}]
[null,{"$f":"IF(D616=\"\",\"\",COUNT($D$24:$D$452)-COUNT(D$452:$D617))","v":""}]
[null,{"$f":"IF(D617=\"\",\"\",COUNT($D$24:$D$452)-COUNT(D$452:$D618))","v":""}]
[null,{"$f":"IF(D618=\"\",\"\",COUNT($D$24:$D$452)-COUNT(D$452:$D619))","v":""}]
[null,{"$f":"IF(D619=\"\",\"\",COUNT($D$24:$D$452)-COUNT(D$452:$D620))","v":""}]
[null,{"$f":"IF(D620=\"\",\"\",COUNT($D$24:$D$452)-COUNT(D$452:$D621))","v":""}]
[null,{"$f":"IF(D621=\"\",\"\",COUNT($D$24:$D$452)-COUNT(D$452:$D622))","v":""}]
[null,{"$f":"IF(D622=\"\",\"\",COUNT($D$24:$D$452)-COUNT(D$452:$D623))","v":""}]
[null,{"$f":"IF(D623=\"\",\"\",COUNT($D$24:$D$452)-COUNT(D$452:$D624))","v":""}]
[null,{"$f":"IF(D624=\"\",\"\",COUNT($D$24:$D$452)-COUNT(D$452:$D625))","v":""}]
[null,{"$f":"IF(D625=\"\",\"\",COUNT($D$24:$D$452)-COUNT(D$452:$D626))","v":""}]
[null,{"$f":"IF(D626=\"\",\"\",COUNT($D$24:$D$452)-COUNT(D$452:$D627))","v":""}]
[null,{"$f":"IF(D627=\"\",\"\",COUNT($D$24:$D$452)-COUNT(D$452:$D628))","v":""}]
[null,{"$f":"IF(D628=\"\",\"\",COUNT($D$24:$D$452)-COUNT(D$452:$D629))","v":""}]
[null,{"$f":"IF(D629=\"\",\"\",COUNT($D$24:$D$452)-COUNT(D$452:$D630))","v":""}]
[null,{"$f":"IF(D630=\"\",\"\",COUNT($D$24:$D$452)-COUNT(D$452:$D631))","v":""}]
[null,{"$f":"IF(D631=\"\",\"\",COUNT($D$24:$D$452)-COUNT(D$452:$D632))","v":""}]
[null,{"$f":"IF(D632=\"\",\"\",COUNT($D$24:$D$452)-COUNT(D$452:$D633))","v":""}]
[null,{"$f":"IF(D633=\"\",\"\",COUNT($D$24:$D$452)-COUNT(D$452:$D634))","v":""}]
[null,{"$f":"IF(D634=\"\",\"\",COUNT($D$24:$D$452)-COUNT(D$452:$D635))","v":""}]
[null,{"$f":"IF(D635=\"\",\"\",COUNT($D$24:$D$452)-COUNT(D$452:$D636))","v":""}]
[null,{"$f":"IF(D636=\"\",\"\",COUNT($D$24:$D$452)-COUNT(D$452:$D637))","v":""}]
[null,{"$f":"IF(D637=\"\",\"\",COUNT($D$24:$D$452)-COUNT(D$452:$D638))","v":""}]
[null,{"$f":"IF(D638=\"\",\"\",COUNT($D$24:$D$452)-COUNT(D$452:$D639))","v":""}]
[null,{"$f":"IF(D639=\"\",\"\",COUNT($D$24:$D$452)-COUNT(D$452:$D640))","v":""}]
[null,{"$f":"IF(D640=\"\",\"\",COUNT($D$24:$D$452)-COUNT(D$452:$D641))","v":""}]
[null,{"$f":"IF(D641=\"\",\"\",COUNT($D$24:$D$452)-COUNT(D$452:$D642))","v":""}]
[null,{"$f":"IF(D642=\"\",\"\",COUNT($D$24:$D$452)-COUNT(D$452:$D643))","v":""}]
[null,{"$f":"IF(D643=\"\",\"\",COUNT($D$24:$D$452)-COUNT(D$452:$D644))","v":""}]
[null,{"$f":"IF(D644=\"\",\"\",COUNT($D$24:$D$452)-COUNT(D$452:$D645))","v":""}]
[null,{"$f":"IF(D645=\"\",\"\",COUNT($D$24:$D$452)-COUNT(D$452:$D646))","v":""}]
[null,{"$f":"IF(D646=\"\",\"\",COUNT($D$24:$D$452)-COUNT(D$452:$D647))","v":""}]
[null,{"$f":"IF(D647=\"\",\"\",COUNT($D$24:$D$452)-COUNT(D$452:$D648))","v":""}]
[null,{"$f":"IF(D648=\"\",\"\",COUNT($D$24:$D$452)-COUNT(D$452:$D649))","v":""}]
[null,{"$f":"IF(D649=\"\",\"\",COUNT($D$24:$D$452)-COUNT(D$452:$D650))","v":""}]
[null,{"$f":"IF(D650=\"\",\"\",COUNT($D$24:$D$452)-COUNT(D$452:$D651))","v":""}]
[null,{"$f":"IF(D651=\"\",\"\",COUNT($D$24:$D$452)-COUNT(D$452:$D652))","v":""}]
[null,{"$f":"IF(D652=\"\",\"\",COUNT($D$24:$D$452)-COUNT(D$452:$D653))","v":""}]
[null,{"$f":"IF(D653=\"\",\"\",COUNT($D$24:$D$452)-COUNT(D$452:$D654))","v":""}]
[null,{"$f":"IF(D654=\"\",\"\",COUNT($D$24:$D$452)-COUNT(D$452:$D655))","v":""}]
[null,{"$f":"IF(D655=\"\",\"\",COUNT($D$24:$D$452)-COUNT(D$452:$D656))","v":""}]
[null,{"$f":"IF(D656=\"\",\"\",COUNT($D$24:$D$452)-COUNT(D$452:$D657))","v":""}]
[null,{"$f":"IF(D657=\"\",\"\",COUNT($D$24:$D$452)-COUNT(D$452:$D658))","v":""}]
[null,{"$f":"IF(D658=\"\",\"\",COUNT($D$24:$D$452)-COUNT(D$452:$D659))","v":""}]
[null,{"$f":"IF(D659=\"\",\"\",COUNT($D$24:$D$452)-COUNT(D$452:$D660))","v":""}]
[null,{"$f":"IF(D660=\"\",\"\",COUNT($D$24:$D$452)-COUNT(D$452:$D661))","v":""}]
[null,{"$f":"IF(D661=\"\",\"\",COUNT($D$24:$D$452)-COUNT(D$452:$D662))","v":""}]
[null,{"$f":"IF(D662=\"\",\"\",COUNT($D$24:$D$452)-COUNT(D$452:$D663))","v":""}]
[null,{"$f":"IF(D663=\"\",\"\",COUNT($D$24:$D$452)-COUNT(D$452:$D664))","v":""}]
[null,{"$f":"IF(D664=\"\",\"\",COUNT($D$24:$D$452)-COUNT(D$452:$D665))","v":""}]
[null,{"$f":"IF(D665=\"\",\"\",COUNT($D$24:$D$452)-COUNT(D$452:$D666))","v":""}]
[null,{"$f":"IF(D666=\"\",\"\",COUNT($D$24:$D$452)-COUNT(D$452:$D667))","v":""}]
[null,{"$f":"IF(D667=\"\",\"\",COUNT($D$24:$D$452)-COUNT(D$452:$D668))","v":""}]
[null,{"$f":"IF(D668=\"\",\"\",COUNT($D$24:$D$452)-COUNT(D$452:$D669))","v":""}]
[null,{"$f":"IF(D669=\"\",\"\",COUNT($D$24:$D$452)-COUNT(D$452:$D670))","v":""}]
[null,{"$f":"IF(D670=\"\",\"\",COUNT($D$24:$D$452)-COUNT(D$452:$D671))","v":""}]
[null,{"$f":"IF(D671=\"\",\"\",COUNT($D$24:$D$452)-COUNT(D$452:$D672))","v":""}]
[null,{"$f":"IF(D672=\"\",\"\",COUNT($D$24:$D$452)-COUNT(D$452:$D673))","v":""}]
[null,{"$f":"IF(D673=\"\",\"\",COUNT($D$24:$D$452)-COUNT(D$452:$D674))","v":""}]
[null,{"$f":"IF(D674=\"\",\"\",COUNT($D$24:$D$452)-COUNT(D$452:$D675))","v":""}]
[null,{"$f":"IF(D675=\"\",\"\",COUNT($D$24:$D$452)-COUNT(D$452:$D676))","v":""}]
[null,{"$f":"IF(D676=\"\",\"\",COUNT($D$24:$D$452)-COUNT(D$452:$D677))","v":""}]
[null,{"$f":"IF(D677=\"\",\"\",COUNT($D$24:$D$452)-COUNT(D$452:$D678))","v":""}]
[null,{"$f":"IF(D678=\"\",\"\",COUNT($D$24:$D$452)-COUNT(D$452:$D679))","v":""}]
[null,{"$f":"IF(D679=\"\",\"\",COUNT($D$24:$D$452)-COUNT(D$452:$D680))","v":""}]
[null,{"$f":"IF(D680=\"\",\"\",COUNT($D$24:$D$452)-COUNT(D$452:$D681))","v":""}]
[null,{"$f":"IF(D681=\"\",\"\",COUNT($D$24:$D$452)-COUNT(D$452:$D682))","v":""}]
[null,{"$f":"IF(D682=\"\",\"\",COUNT($D$24:$D$452)-COUNT(D$452:$D683))","v":""}]
[null,{"$f":"IF(D683=\"\",\"\",COUNT($D$24:$D$452)-COUNT(D$452:$D684))","v":""}]
[null,{"$f":"IF(D684=\"\",\"\",COUNT($D$24:$D$452)-COUNT(D$452:$D685))","v":""}]
[null,{"$f":"IF(D685=\"\",\"\",COUNT($D$24:$D$452)-COUNT(D$452:$D686))","v":""}]
[null,{"$f":"IF(D686=\"\",\"\",COUNT($D$24:$D$452)-COUNT(D$452:$D687))","v":""}]
[null,{"$f":"IF(D687=\"\",\"\",COUNT($D$24:$D$452)-COUNT(D$452:$D688))","v":""}]
[null,{"$f":"IF(D688=\"\",\"\",COUNT($D$24:$D$452)-COUNT(D$452:$D689))","v":""}]
[null,{"$f":"IF(D689=\"\",\"\",COUNT($D$24:$D$452)-COUNT(D$452:$D690))","v":""}]
[null,{"$f":"IF(D690=\"\",\"\",COUNT($D$24:$D$452)-COUNT(D$452:$D691))","v":""}]
[null,{"$f":"IF(D691=\"\",\"\",COUNT($D$24:$D$452)-COUNT(D$452:$D692))","v":""}]
[null,{"$f":"IF(D692=\"\",\"\",COUNT($D$24:$D$452)-COUNT(D$452:$D693))","v":""}]
[null,{"$f":"IF(D693=\"\",\"\",COUNT($D$24:$D$452)-COUNT(D$452:$D694))","v":""}]
[null,{"$f":"IF(D694=\"\",\"\",COUNT($D$24:$D$452)-COUNT(D$452:$D695))","v":""}]
[null,{"$f":"IF(D695=\"\",\"\",COUNT($D$24:$D$452)-COUNT(D$452:$D696))","v":""}]
[null,{"$f":"IF(D696=\"\",\"\",COUNT($D$24:$D$452)-COUNT(D$452:$D697))","v":""}]
[null,{"$f":"IF(D697=\"\",\"\",COUNT($D$24:$D$452)-COUNT(D$452:$D698))","v":""}]
[null,{"$f":"IF(D698=\"\",\"\",COUNT($D$24:$D$452)-COUNT(D$452:$D699))","v":""}]
[null,{"$f":"IF(D699=\"\",\"\",COUNT($D$24:$D$452)-COUNT(D$452:$D700))","v":""}]
[null,{"$f":"IF(D700=\"\",\"\",COUNT($D$24:$D$452)-COUNT(D$452:$D701))","v":""}]
[null,{"$f":"IF(D701=\"\",\"\",COUNT($D$24:$D$452)-COUNT(D$452:$D702))","v":""}]
[null,{"$f":"IF(D702=\"\",\"\",COUNT($D$24:$D$452)-COUNT(D$452:$D703))","v":""}]
[null,{"$f":"IF(D703=\"\",\"\",COUNT($D$24:$D$452)-COUNT(D$452:$D704))","v":""}]
[null,{"$f":"IF(D704=\"\",\"\",COUNT($D$24:$D$452)-COUNT(D$452:$D705))","v":""}]
[null,{"$f":"IF(D705=\"\",\"\",COUNT($D$24:$D$452)-COUNT(D$452:$D706))","v":""}]
[null,{"$f":"IF(D706=\"\",\"\",COUNT($D$24:$D$452)-COUNT(D$452:$D707))","v":""}]
[null,{"$f":"IF(D707=\"\",\"\",COUNT($D$24:$D$452)-COUNT(D$452:$D708))","v":""}]

{"sheet":"Certification","index":10,"n_rows":33,"n_cols":5,"rows_kept":33,"cut":false,"hidden":false,"merged":[]}
[null,"DO NOT REMOVE OR EDIT INFORMATION IN ROWS 1 THROUGH 5\nFOR INTERNAL USE ONLY"]
[null,"Template Name",{"$f":"+Welcome!B2","v":"63.7751(a) Semiannual Compliance Report (Spreadsheet Template)"}]
[null,"CitationID",{"$f":"+Welcome!B3","v":"63.7751(a)"}]
[null,"Template Version",{"$f":"+Welcome!B4","v":"v1.00"}]
[null,"Last Updated Date",{"$f":"+Welcome!B5","v":44008}]
[null,{"$f":"Welcome!B6","v":"OMB No.: 2060-0543 Expiration Date: 11/30/2019"}]
[null,"40 CFR Part 63, Subpart EEEEE National Emission Standards for Hazardous Air Pollutants: Iron and Steel Foundries - "]
[null,"§63.7751(b) Semiannual Compliance Report Spreadsheet Template"]
[]
[null,"* Required Field"]
[]
[null,"Company Record No.  \n(Select from dropdown)","Is the statement \"There were no deviations from the emissions limitations (including operating limit), work practice standards, or operation and maintenance requirements occurred during this reporting period\" applicable?   \n(§63.7751(b)(5))\n(Select from dropdown)","Is the statement \"There were no periods during which a continuous monitoring system (including a CPMS or CEMS) inoperable or out of control as specified in §63.8(c)(7) during the reporting period\" applicable? \n(§63.7751(b)(6))\n(Select from Dropdown)","Pursuant to §63.7751(d), all necessary deviation information was submitted in the semiannual monitoring report required by §70.6(a)(3)(iii)(A) or §71.6(a)(3)(iii)(A). \n(§63.7751(d))\n(Select from Dropdown)"]
[null,"RecordId","DeviationsFlag","CPMSPeriodFlag","MonitoringFlag"]
[null,"e.g.: 1"]
[]
[]
[]
[]
[]
[]
[]
[]
[]
[null,{"$f":"IF(Lists!H2=\"\",\"\",Lists!H2)","v":""}]
[null,{"$f":"IF(Lists!H3=\"\",\"\",Lists!H3)","v":""}]
[null,{"$f":"IF(Lists!H4=\"\",\"\",Lists!H4)","v":""}]
[null,{"$f":"IF(Lists!H5=\"\",\"\",Lists!H5)","v":""}]
[null,{"$f":"IF(Lists!H6=\"\",\"\",Lists!H6)","v":""}]
[null,{"$f":"IF(Lists!H7=\"\",\"\",Lists!H7)","v":""}]
[null,{"$f":"IF(Lists!H8=\"\",\"\",Lists!H8)","v":""}]
[null,{"$f":"IF(Lists!H9=\"\",\"\",Lists!H9)","v":""}]
[null,{"$f":"IF(Lists!H10=\"\",\"\",Lists!H10)","v":""}]
[null,{"$f":"IF(Lists!H11=\"\",\"\",Lists!H11)","v":""}]

{"sheet":"Revisions","index":11,"n_rows":2,"n_cols":3,"rows_kept":2,"cut":false,"hidden":false,"merged":[]}
["Revision Number","Date","Revisions"]
[1,44008,"Initial Release Version"]

{"sheet":"Worksheet Map","index":12,"n_rows":10,"n_cols":5,"rows_kept":10,"cut":false,"hidden":true,"merged":[]}
["Worksheet Name","Parent","JSON Key","Parent Primary Key","Child Foreign Key"]
["Company_Information",null,"records"]
["Affected_Sources","records","AffectedSources","RecordId","RecordId"]
["CMS_Identification","records","CMSIdentification","RecordId","RecordId"]
["Description_of_Changes","records","DescriptionOfChanges","RecordId","RecordId"]
["CMS_Deviation_Detail","records","CMSDeviationDetail","RecordId","RecordId"]
["CMS_Deviation_Summary","records","CMSDeviationSummary","RecordId","RecordId"]
["Limit_Deviation_Detail","records","LimitDeviationDetail","RecordId","RecordId"]
["Limit_Deviation_Summary","records","LimitDeviationSummary","RecordId","RecordId"]
["Certification","records","Certification","RecordId","RecordId"]