{"text_format":"1","workbook":"xlsx","n_sheets":15,"sheets":["Lists","Welcome","Company_Information","No_CPMS_Limits_Details","Mercury","CEM_COM_CPMS_Identification","Malfunction","CPMS_Detail","CPMS_Summary_Report","Limits_Details_w_CPMS","Limits_Summary_Report_w_CPMS","Description_of_Changes","Certification","Revisions","Worksheet Map"],"not_rendered":{"charts":0,"images":1,"macros":1,"external_links":1,"defined_names":12,"comments":0,"pivot_tables":0},"unopened":[],"bounds":{"document_bytes":16777216,"sheet_cells":100000,"rows_first":2000,"rows_last":500,"rows_between":2000,"halvings":0,"cell_chars":16384,"cell_head_chars":4096},"cells_cut":0,"cells_raw":0,"read":"whole","date_system":"1900"}

{"sheet":"Lists","index":0,"n_rows":500,"n_cols":60,"rows_kept":500,"cut":false,"hidden":true,"merged":[]}
["Rank","Name","Unitlist","Column1",null,"Column2","Column1","Companylist","Column3",null,"Rank","Cem","CEMName","Column1",null,"CMSCauseList",null,"Limits",null,"Column5","Facility","Source","Pollutant","Combo","Column4","Column42","Column43","Column44",null,"Column5","Facility","Source","Limit","Unique","Column4","Column42","Column43","Column432",null,"states",null,"Column5","Facility","Source","Limit","Unique","Column4","Column42","Column43","Column432",null,"Column5","Facility","Source","Pollutant","Combo","Column4","Column42","Column43","Column44"]
[{"$f":"+IF(D2=\"\",\"\",MAX(A1:A$1)+1)","v":""},{"$f":"IF(CEM_COM_CPMS_Identification!C24=\"\",\"\",CEM_COM_CPMS_Identification!C24)","v":""},{"$f":"+IFERROR(INDEX(B$2:B$501,MATCH(ROW()-ROW($C$1),A$2:A$501,0)),\"\")","v":""},{"$f":"IF(COUNTIF(B$2:B2,B2)=1,B2,\"\")","v":""},null,{"$f":"+IF(I2=\"\",\"\",MAX(F1:F$1)+1)","v":""},{"$f":"+IF(Company_Information!B24=\"\",\"\",Company_Information!B24)","v":""},{"$f":"+IFERROR(INDEX(G$2:G$501,MATCH(ROW()-ROW($H$1),F$2:F$501,0)),\"\")","v":""},{"$f":"IF(COUNTIF(G$2:G2,G2)=1,G2,\"\")","v":""},null,{"$f":"+IF(N2=\"\",\"\",MAX(K1:K$1)+1)","v":""},{"$f":"IF(CEM_COM_CPMS_Identification!D24=\"\",\"\",CEM_COM_CPMS_Identification!D24)","v":""},{"$f":"+IFERROR(INDEX(L$2:L$501,MATCH(ROW()-ROW($M$1),K$2:K$501,0)),\"\")","v":""},{"$f":"IF(COUNTIF(L$2:L2,L2)=1,L2,\"\")","v":""},null,"Monitoring Equipment Malfunctions",null,"Particulate Matter (§63.7790(a))",null,{"$f":"+IF(Y2=\"\",\"\",MAX(T1:T$1)+1)","v":""},{"$f":"IF(No_CPMS_Limits_Details!B24=\"\",\"\",No_CPMS_Limits_Details!B24)","v":""},{"$f":"IF(No_CPMS_Limits_Details!C24=\"\",\"\",No_CPMS_Limits_Details!C24)","v":""},{"$f":"IF(No_CPMS_Limits_Details!D24=\"\",\"\",No_CPMS_Limits_Details!D24)","v":""},{"$f":"U2&V2&W3","v":""},{"$f":"IF(COUNTIF(V$2:V2,V2)=1,V2,\"\")","v":""},{"$f":"+IFERROR(INDEX(U$2:U$955,MATCH(ROW()-ROW(Z$1),T$2:T$955,0)),\"\")","v":""},{"$f":"+IFERROR(INDEX(V$2:V$955,MATCH(ROW()-ROW(Z$1),T$2:T$955,0)),\"\")","v":""},{"$f":"+IFERROR(INDEX(W$2:W$955,MATCH(ROW()-ROW(Z$1),T$2:T$955,0)),\"\")","v":""},null,{"$f":"+IF(AI2=\"\",\"\",MAX(AD1:AD$1)+1)","v":""},{"$f":"IF(Limits_Details_w_CPMS!B24=\"\",\"\",Limits_Details_w_CPMS!B24)","v":""},{"$f":"IF(Limits_Details_w_CPMS!C24=\"\",\"\",Limits_Details_w_CPMS!C24)","v":""},{"$f":"IF(Limits_Details_w_CPMS!D24=\"\",\"\",Limits_Details_w_CPMS!D24)","v":""},{"$f":"AE2&AF2&AG2","v":""},{"$f":"IF(COUNTIF(AH$2:AH2,AH2)=1,AH2,\"\")","v":""},{"$f":"+IFERROR(INDEX(AE$2:AE$955,MATCH(ROW()-ROW(AJ$1),AD$2:AD$955,0)),\"\")","v":""},{"$f":"+IFERROR(INDEX(AF$2:AF$955,MATCH(ROW()-ROW(AJ$1),AD$2:AD$955,0)),\"\")","v":""},{"$f":"+IFERROR(INDEX(AG$2:AG$955,MATCH(ROW()-ROW(AJ$1),AD$2:AD$955,0)),\"\")","v":""},null,"AK",null,{"$f":"+IF(AU2=\"\",\"\",MAX(AP1:AP$1)+1)","v":""},{"$f":"IF(CPMS_Detail!B24=\"\",\"\",CPMS_Detail!B24)","v":""},{"$f":"IF(CPMS_Detail!C24=\"\",\"\",CPMS_Detail!C24)","v":""},{"$f":"IF(CPMS_Detail!D24=\"\",\"\",CPMS_Detail!D24)","v":""},{"$f":"AQ2&AR2&AS2","v":""},{"$f":"IF(COUNTIF(AT$2:AT2,AT2)=1,AT2,\"\")","v":""},{"$f":"+IFERROR(INDEX(AQ$2:AQ$955,MATCH(ROW()-ROW(AV$1),AP$2:AP$955,0)),\"\")","v":""},{"$f":"+IFERROR(INDEX(AR$2:AR$955,MATCH(ROW()-ROW(AV$1),AP$2:AP$955,0)),\"\")","v":""},{"$f":"+IFERROR(INDEX(AS$2:AS$955,MATCH(ROW()-ROW(AV$1),AP$2:AP$955,0)),\"\")","v":""},null,{"$f":"+IF(BE2=\"\",\"\",MAX(AZ1:AZ$1)+1)","v":""},{"$f":"IF(Mercury!B24=\"\",\"\",Mercury!B24)","v":""},{"$f":"IF(Mercury!C24=\"\",\"\",Mercury!C24)","v":""},{"$f":"IF(Mercury!D24=\"\",\"\",Mercury!D24)","v":""},{"$f":"BA2&BB2&BC3","v":""},{"$f":"IF(COUNTIF(BB$2:BB2,BB2)=1,BB2,\"\")","v":""},{"$f":"+IFERROR(INDEX(BA$2:BA$955,MATCH(ROW()-ROW(BF$1),AZ$2:AZ$955,0)),\"\")","v":""},{"$f":"+IFERROR(INDEX(BB$2:BB$955,MATCH(ROW()-ROW(BF$1),AZ$2:AZ$955,0)),\"\")","v":""},{"$f":"+IFERROR(INDEX(BC$2:BC$955,MATCH(ROW()-ROW(BF$1),AZ$2:AZ$955,0)),\"\")","v":""}]
[{"$f":"+IF(D3=\"\",\"\",MAX(A$1:A2)+1)","v":""},{"$f":"IF(CEM_COM_CPMS_Identification!C25=\"\",\"\",CEM_COM_CPMS_Identification!C25)","v":""},"",{"$f":"IF(COUNTIF(B$2:B3,B3)=1,B3,\"\")","v":""},null,{"$f":"+IF(I3=\"\",\"\",MAX(F$1:F2)+1)","v":""},{"$f":"+IF(Company_Information!B25=\"\",\"\",Company_Information!B25)","v":""},"",{"$f":"IF(COUNTIF(G$2:G3,G3)=1,G3,\"\")","v":""},null,{"$f":"+IF(N3=\"\",\"\",MAX(K$1:K2)+1)","v":""},{"$f":"IF(CEM_COM_CPMS_Identification!D25=\"\",\"\",CEM_COM_CPMS_Identification!D25)","v":""},{"$f":"+IFERROR(INDEX(L$2:L$501,MATCH(ROW()-ROW($M$1),K$2:K$501,0)),\"\")","v":""},{"$f":"IF(COUNTIF(L$2:L3,L3)=1,L3,\"\")","v":""},null,"Nonmonitoring Equipment Malfunctions",null,"Opacity (§63.7790(a))",null,{"$f":"+IF(Y3=\"\",\"\",MAX(T$1:T2)+1)","v":""},{"$f":"IF(No_CPMS_Limits_Details!B25=\"\",\"\",No_CPMS_Limits_Details!B25)","v":""},{"$f":"IF(No_CPMS_Limits_Details!C25=\"\",\"\",No_CPMS_Limits_Details!C25)","v":""},{"$f":"IF(No_CPMS_Limits_Details!D25=\"\",\"\",No_CPMS_Limits_Details!D25)","v":""},"",{"$f":"IF(COUNTIF(V$2:V3,V3)=1,V3,\"\")","v":""},"","","",null,{"$f":"+IF(AI3=\"\",\"\",MAX(AD$1:AD2)+1)","v":""},{"$f":"IF(Limits_Details_w_CPMS!B25=\"\",\"\",Limits_Details_w_CPMS!B25)","v":""},{"$f":"IF(Limits_Details_w_CPMS!C25=\"\",\"\",Limits_Details_w_CPMS!C25)","v":""},{"$f":"IF(Limits_Details_w_CPMS!D25=\"\",\"\",Limits_Details_w_CPMS!D25)","v":""},{"$f":"AE3&AF3&AG3","v":""},{"$f":"IF(COUNTIF(AH$2:AH3,AH3)=1,AH3,\"\")","v":""},"","","",null,"AL",null,{"$f":"+IF(AU3=\"\",\"\",MAX(AP$1:AP2)+1)","v":""},{"$f":"IF(CPMS_Detail!B25=\"\",\"\",CPMS_Detail!B25)","v":""},{"$f":"IF(CPMS_Detail!C25=\"\",\"\",CPMS_Detail!C25)","v":""},{"$f":"IF(CPMS_Detail!D25=\"\",\"\",CPMS_Detail!D25)","v":""},{"$f":"AQ3&AR3&AS3","v":""},{"$f":"IF(COUNTIF(AT$2:AT3,AT3)=1,AT3,\"\")","v":""},{"$f":"+IFERROR(INDEX(AQ$2:AQ$955,MATCH(ROW()-ROW(AV$1),AP$2:AP$955,0)),\"\")","v":""},{"$f":"+IFERROR(INDEX(AR$2:AR$955,MATCH(ROW()-ROW(AV$1),AP$2:AP$955,0)),\"\")","v":""},{"$f":"+IFERROR(INDEX(AS$2:AS$955,MATCH(ROW()-ROW(AV$1),AP$2:AP$955,0)),\"\")","v":""},null,{"$f":"+IF(BE3=\"\",\"\",MAX(AZ$1:AZ2)+1)","v":""},{"$f":"IF(Mercury!B25=\"\",\"\",Mercury!B25)","v":""},{"$f":"IF(Mercury!C25=\"\",\"\",Mercury!C25)","v":""},{"$f":"IF(Mercury!D25=\"\",\"\",Mercury!D25)","v":""},"",{"$f":"IF(COUNTIF(BB$2:BB3,BB3)=1,BB3,\"\")","v":""},"","",""]
[{"$f":"+IF(D4=\"\",\"\",MAX(A$1:A3)+1)","v":""},{"$f":"IF(CEM_COM_CPMS_Identification!C26=\"\",\"\",CEM_COM_CPMS_Identification!C26)","v":""},"",{"$f":"IF(COUNTIF(B$2:B4,B4)=1,B4,\"\")","v":""},null,{"$f":"+IF(I4=\"\",\"\",MAX(F$1:F3)+1)","v":""},{"$f":"+IF(Company_Information!B26=\"\",\"\",Company_Information!B26)","v":""},"",{"$f":"IF(COUNTIF(G$2:G4,G4)=1,G4,\"\")","v":""},null,{"$f":"+IF(N4=\"\",\"\",MAX(K$1:K3)+1)","v":""},{"$f":"IF(CEM_COM_CPMS_Identification!D26=\"\",\"\",CEM_COM_CPMS_Identification!D26)","v":""},"",{"$f":"IF(COUNTIF(L$2:L4,L4)=1,L4,\"\")","v":""},null,"Quality Assurance/Quality Control Calibrations",null,"Mercury (§63.7790(a))",null,{"$f":"+IF(Y4=\"\",\"\",MAX(T$1:T3)+1)","v":""},{"$f":"IF(No_CPMS_Limits_Details!B26=\"\",\"\",No_CPMS_Limits_Details!B26)","v":""},{"$f":"IF(No_CPMS_Limits_Details!C26=\"\",\"\",No_CPMS_Limits_Details!C26)","v":""},{"$f":"IF(No_CPMS_Limits_Details!D26=\"\",\"\",No_CPMS_Limits_Details!D26)","v":""},"",{"$f":"IF(COUNTIF(V$2:V4,V4)=1,V4,\"\")","v":""},"","","",null,{"$f":"+IF(AI4=\"\",\"\",MAX(AD$1:AD3)+1)","v":""},{"$f":"IF(Limits_Details_w_CPMS!B26=\"\",\"\",Limits_Details_w_CPMS!B26)","v":""},{"$f":"IF(Limits_Details_w_CPMS!C26=\"\",\"\",Limits_Details_w_CPMS!C26)","v":""},{"$f":"IF(Limits_Details_w_CPMS!D26=\"\",\"\",Limits_Details_w_CPMS!D26)","v":""},"",{"$f":"IF(COUNTIF(AH$2:AH4,AH4)=1,AH4,\"\")","v":""},"","","",null,"AR",null,{"$f":"+IF(AU4=\"\",\"\",MAX(AP$1:AP3)+1)","v":""},{"$f":"IF(CPMS_Detail!B26=\"\",\"\",CPMS_Detail!B26)","v":""},{"$f":"IF(CPMS_Detail!C26=\"\",\"\",CPMS_Detail!C26)","v":""},{"$f":"IF(CPMS_Detail!D26=\"\",\"\",CPMS_Detail!D26)","v":""},"",{"$f":"IF(COUNTIF(AT$2:AT4,AT4)=1,AT4,\"\")","v":""},"","","",null,{"$f":"+IF(BE4=\"\",\"\",MAX(AZ$1:AZ3)+1)","v":""},{"$f":"IF(Mercury!B26=\"\",\"\",Mercury!B26)","v":""},{"$f":"IF(Mercury!C26=\"\",\"\",Mercury!C26)","v":""},{"$f":"IF(Mercury!D26=\"\",\"\",Mercury!D26)","v":""},"",{"$f":"IF(COUNTIF(BB$2:BB4,BB4)=1,BB4,\"\")","v":""},"","",""]
[{"$f":"+IF(D5=\"\",\"\",MAX(A$1:A4)+1)","v":""},{"$f":"IF(CEM_COM_CPMS_Identification!C27=\"\",\"\",CEM_COM_CPMS_Identification!C27)","v":""},"",{"$f":"IF(COUNTIF(B$2:B5,B5)=1,B5,\"\")","v":""},null,{"$f":"+IF(I5=\"\",\"\",MAX(F$1:F4)+1)","v":""},{"$f":"+IF(Company_Information!B27=\"\",\"\",Company_Information!B27)","v":""},"",{"$f":"IF(COUNTIF(G$2:G5,G5)=1,G5,\"\")","v":""},null,{"$f":"+IF(N5=\"\",\"\",MAX(K$1:K4)+1)","v":""},{"$f":"IF(CEM_COM_CPMS_Identification!D27=\"\",\"\",CEM_COM_CPMS_Identification!D27)","v":""},"",{"$f":"IF(COUNTIF(L$2:L5,L5)=1,L5,\"\")","v":""},null,"Other Known Causes",null,"Capture System - Operate at or above operating limit (§63.7790(b)(1))",null,{"$f":"+IF(Y5=\"\",\"\",MAX(T$1:T4)+1)","v":""},{"$f":"IF(No_CPMS_Limits_Details!B27=\"\",\"\",No_CPMS_Limits_Details!B27)","v":""},{"$f":"IF(No_CPMS_Limits_Details!C27=\"\",\"\",No_CPMS_Limits_Details!C27)","v":""},{"$f":"IF(No_CPMS_Limits_Details!D27=\"\",\"\",No_CPMS_Limits_Details!D27)","v":""},"",{"$f":"IF(COUNTIF(V$2:V5,V5)=1,V5,\"\")","v":""},"","","",null,{"$f":"+IF(AI5=\"\",\"\",MAX(AD$1:AD4)+1)","v":""},{"$f":"IF(Limits_Details_w_CPMS!B27=\"\",\"\",Limits_Details_w_CPMS!B27)","v":""},{"$f":"IF(Limits_Details_w_CPMS!C27=\"\",\"\",Limits_Details_w_CPMS!C27)","v":""},{"$f":"IF(Limits_Details_w_CPMS!D27=\"\",\"\",Limits_Details_w_CPMS!D27)","v":""},"",{"$f":"IF(COUNTIF(AH$2:AH5,AH5)=1,AH5,\"\")","v":""},"","","",null,"AS",null,{"$f":"+IF(AU5=\"\",\"\",MAX(AP$1:AP4)+1)","v":""},{"$f":"IF(CPMS_Detail!B27=\"\",\"\",CPMS_Detail!B27)","v":""},{"$f":"IF(CPMS_Detail!C27=\"\",\"\",CPMS_Detail!C27)","v":""},{"$f":"IF(CPMS_Detail!D27=\"\",\"\",CPMS_Detail!D27)","v":""},"",{"$f":"IF(COUNTIF(AT$2:AT5,AT5)=1,AT5,\"\")","v":""},"","","",null,{"$f":"+IF(BE5=\"\",\"\",MAX(AZ$1:AZ4)+1)","v":""},{"$f":"IF(Mercury!B27=\"\",\"\",Mercury!B27)","v":""},{"$f":"IF(Mercury!C27=\"\",\"\",Mercury!C27)","v":""},{"$f":"IF(Mercury!D27=\"\",\"\",Mercury!D27)","v":""},"",{"$f":"IF(COUNTIF(BB$2:BB5,BB5)=1,BB5,\"\")","v":""},"","",""]
[{"$f":"+IF(D6=\"\",\"\",MAX(A$1:A5)+1)","v":""},{"$f":"IF(CEM_COM_CPMS_Identification!C28=\"\",\"\",CEM_COM_CPMS_Identification!C28)","v":""},"",{"$f":"IF(COUNTIF(B$2:B6,B6)=1,B6,\"\")","v":""},null,{"$f":"+IF(I6=\"\",\"\",MAX(F$1:F5)+1)","v":""},{"$f":"+IF(Company_Information!B28=\"\",\"\",Company_Information!B28)","v":""},"",{"$f":"IF(COUNTIF(G$2:G6,G6)=1,G6,\"\")","v":""},null,{"$f":"+IF(N6=\"\",\"\",MAX(K$1:K5)+1)","v":""},{"$f":"IF(CEM_COM_CPMS_Identification!D28=\"\",\"\",CEM_COM_CPMS_Identification!D28)","v":""},"",{"$f":"IF(COUNTIF(L$2:L6,L6)=1,L6,\"\")","v":""},null,"Other Unknown Causes",null,"Venturi Scrubber - Maintain hourly average pressure drop at or above established minimum (§63.7790(b)(2))",null,{"$f":"+IF(Y6=\"\",\"\",MAX(T$1:T5)+1)","v":""},{"$f":"IF(No_CPMS_Limits_Details!B28=\"\",\"\",No_CPMS_Limits_Details!B28)","v":""},{"$f":"IF(No_CPMS_Limits_Details!C28=\"\",\"\",No_CPMS_Limits_Details!C28)","v":""},{"$f":"IF(No_CPMS_Limits_Details!D28=\"\",\"\",No_CPMS_Limits_Details!D28)","v":""},"",{"$f":"IF(COUNTIF(V$2:V6,V6)=1,V6,\"\")","v":""},"","","",null,{"$f":"+IF(AI6=\"\",\"\",MAX(AD$1:AD5)+1)","v":""},{"$f":"IF(Limits_Details_w_CPMS!B28=\"\",\"\",Limits_Details_w_CPMS!B28)","v":""},{"$f":"IF(Limits_Details_w_CPMS!C28=\"\",\"\",Limits_Details_w_CPMS!C28)","v":""},{"$f":"IF(Limits_Details_w_CPMS!D28=\"\",\"\",Limits_Details_w_CPMS!D28)","v":""},"",{"$f":"IF(COUNTIF(AH$2:AH6,AH6)=1,AH6,\"\")","v":""},"","","",null,"AZ",null,{"$f":"+IF(AU6=\"\",\"\",MAX(AP$1:AP5)+1)","v":""},{"$f":"IF(CPMS_Detail!B28=\"\",\"\",CPMS_Detail!B28)","v":""},{"$f":"IF(CPMS_Detail!C28=\"\",\"\",CPMS_Detail!C28)","v":""},{"$f":"IF(CPMS_Detail!D28=\"\",\"\",CPMS_Detail!D28)","v":""},"",{"$f":"IF(COUNTIF(AT$2:AT6,AT6)=1,AT6,\"\")","v":""},"","","",null,{"$f":"+IF(BE6=\"\",\"\",MAX(AZ$1:AZ5)+1)","v":""},{"$f":"IF(Mercury!B28=\"\",\"\",Mercury!B28)","v":""},{"$f":"IF(Mercury!C28=\"\",\"\",Mercury!C28)","v":""},{"$f":"IF(Mercury!D28=\"\",\"\",Mercury!D28)","v":""},"",{"$f":"IF(COUNTIF(BB$2:BB6,BB6)=1,BB6,\"\")","v":""},"","",""]
[{"$f":"+IF(D7=\"\",\"\",MAX(A$1:A6)+1)","v":""},{"$f":"IF(CEM_COM_CPMS_Identification!C29=\"\",\"\",CEM_COM_CPMS_Identification!C29)","v":""},"",{"$f":"IF(COUNTIF(B$2:B7,B7)=1,B7,\"\")","v":""},null,{"$f":"+IF(I7=\"\",\"\",MAX(F$1:F6)+1)","v":""},{"$f":"+IF(Company_Information!B29=\"\",\"\",Company_Information!B29)","v":""},"",{"$f":"IF(COUNTIF(G$2:G7,G7)=1,G7,\"\")","v":""},null,{"$f":"+IF(N7=\"\",\"\",MAX(K$1:K6)+1)","v":""},{"$f":"IF(CEM_COM_CPMS_Identification!D29=\"\",\"\",CEM_COM_CPMS_Identification!D29)","v":""},"",{"$f":"IF(COUNTIF(L$2:L7,L7)=1,L7,\"\")","v":""},null,null,null,"Venturi Scrubber - Maintain hourly average scrubber water flow rate at or above established minimum (§63.7790(b)(2))",null,{"$f":"+IF(Y7=\"\",\"\",MAX(T$1:T6)+1)","v":""},{"$f":"IF(No_CPMS_Limits_Details!B29=\"\",\"\",No_CPMS_Limits_Details!B29)","v":""},{"$f":"IF(No_CPMS_Limits_Details!C29=\"\",\"\",No_CPMS_Limits_Details!C29)","v":""},{"$f":"IF(No_CPMS_Limits_Details!D29=\"\",\"\",No_CPMS_Limits_Details!D29)","v":""},"",{"$f":"IF(COUNTIF(V$2:V7,V7)=1,V7,\"\")","v":""},"","","",null,{"$f":"+IF(AI7=\"\",\"\",MAX(AD$1:AD6)+1)","v":""},{"$f":"IF(Limits_Details_w_CPMS!B29=\"\",\"\",Limits_Details_w_CPMS!B29)","v":""},{"$f":"IF(Limits_Details_w_CPMS!C29=\"\",\"\",Limits_Details_w_CPMS!C29)","v":""},{"$f":"IF(Limits_Details_w_CPMS!D29=\"\",\"\",Limits_Details_w_CPMS!D29)","v":""},"",{"$f":"IF(COUNTIF(AH$2:AH7,AH7)=1,AH7,\"\")","v":""},"","","",null,"CA",null,{"$f":"+IF(AU7=\"\",\"\",MAX(AP$1:AP6)+1)","v":""},{"$f":"IF(CPMS_Detail!B29=\"\",\"\",CPMS_Detail!B29)","v":""},{"$f":"IF(CPMS_Detail!C29=\"\",\"\",CPMS_Detail!C29)","v":""},{"$f":"IF(CPMS_Detail!D29=\"\",\"\",CPMS_Detail!D29)","v":""},"",{"$f":"IF(COUNTIF(AT$2:AT7,AT7)=1,AT7,\"\")","v":""},"","","",null,{"$f":"+IF(BE7=\"\",\"\",MAX(AZ$1:AZ6)+1)","v":""},{"$f":"IF(Mercury!B29=\"\",\"\",Mercury!B29)","v":""},{"$f":"IF(Mercury!C29=\"\",\"\",Mercury!C29)","v":""},{"$f":"IF(Mercury!D29=\"\",\"\",Mercury!D29)","v":""},"",{"$f":"IF(COUNTIF(BB$2:BB7,BB7)=1,BB7,\"\")","v":""},"","",""]
[{"$f":"+IF(D8=\"\",\"\",MAX(A$1:A7)+1)","v":""},{"$f":"IF(CEM_COM_CPMS_Identification!C30=\"\",\"\",CEM_COM_CPMS_Identification!C30)","v":""},"",{"$f":"IF(COUNTIF(B$2:B8,B8)=1,B8,\"\")","v":""},null,{"$f":"+IF(I8=\"\",\"\",MAX(F$1:F7)+1)","v":""},{"$f":"+IF(Company_Information!B30=\"\",\"\",Company_Information!B30)","v":""},"",{"$f":"IF(COUNTIF(G$2:G8,G8)=1,G8,\"\")","v":""},null,{"$f":"+IF(N8=\"\",\"\",MAX(K$1:K7)+1)","v":""},{"$f":"IF(CEM_COM_CPMS_Identification!D30=\"\",\"\",CEM_COM_CPMS_Identification!D30)","v":""},"",{"$f":"IF(COUNTIF(L$2:L8,L8)=1,L8,\"\")","v":""},null,null,null,"ESP at BOPF - Maintain hourly average opacity at or below 10 percent (§63.7790(b)(3))",null,{"$f":"+IF(Y8=\"\",\"\",MAX(T$1:T7)+1)","v":""},{"$f":"IF(No_CPMS_Limits_Details!B30=\"\",\"\",No_CPMS_Limits_Details!B30)","v":""},{"$f":"IF(No_CPMS_Limits_Details!C30=\"\",\"\",No_CPMS_Limits_Details!C30)","v":""},{"$f":"IF(No_CPMS_Limits_Details!D30=\"\",\"\",No_CPMS_Limits_Details!D30)","v":""},"",{"$f":"IF(COUNTIF(V$2:V8,V8)=1,V8,\"\")","v":""},"","","",null,{"$f":"+IF(AI8=\"\",\"\",MAX(AD$1:AD7)+1)","v":""},{"$f":"IF(Limits_Details_w_CPMS!B30=\"\",\"\",Limits_Details_w_CPMS!B30)","v":""},{"$f":"IF(Limits_Details_w_CPMS!C30=\"\",\"\",Limits_Details_w_CPMS!C30)","v":""},{"$f":"IF(Limits_Details_w_CPMS!D30=\"\",\"\",Limits_Details_w_CPMS!D30)","v":""},"",{"$f":"IF(COUNTIF(AH$2:AH8,AH8)=1,AH8,\"\")","v":""},"","","",null,"CO",null,{"$f":"+IF(AU8=\"\",\"\",MAX(AP$1:AP7)+1)","v":""},{"$f":"IF(CPMS_Detail!B30=\"\",\"\",CPMS_Detail!B30)","v":""},{"$f":"IF(CPMS_Detail!C30=\"\",\"\",CPMS_Detail!C30)","v":""},{"$f":"IF(CPMS_Detail!D30=\"\",\"\",CPMS_Detail!D30)","v":""},"",{"$f":"IF(COUNTIF(AT$2:AT8,AT8)=1,AT8,\"\")","v":""},"","","",null,{"$f":"+IF(BE8=\"\",\"\",MAX(AZ$1:AZ7)+1)","v":""},{"$f":"IF(Mercury!B30=\"\",\"\",Mercury!B30)","v":""},{"$f":"IF(Mercury!C30=\"\",\"\",Mercury!C30)","v":""},{"$f":"IF(Mercury!D30=\"\",\"\",Mercury!D30)","v":""},"",{"$f":"IF(COUNTIF(BB$2:BB8,BB8)=1,BB8,\"\")","v":""},"","",""]
[{"$f":"+IF(D9=\"\",\"\",MAX(A$1:A8)+1)","v":""},{"$f":"IF(CEM_COM_CPMS_Identification!C31=\"\",\"\",CEM_COM_CPMS_Identification!C31)","v":""},"",{"$f":"IF(COUNTIF(B$2:B9,B9)=1,B9,\"\")","v":""},null,{"$f":"+IF(I9=\"\",\"\",MAX(F$1:F8)+1)","v":""},{"$f":"+IF(Company_Information!B31=\"\",\"\",Company_Information!B31)","v":""},"",{"$f":"IF(COUNTIF(G$2:G9,G9)=1,G9,\"\")","v":""},null,{"$f":"+IF(N9=\"\",\"\",MAX(K$1:K8)+1)","v":""},{"$f":"IF(CEM_COM_CPMS_Identification!D31=\"\",\"\",CEM_COM_CPMS_Identification!D31)","v":""},"",{"$f":"IF(COUNTIF(L$2:L9,L9)=1,L9,\"\")","v":""},null,null,null,"Other Control Device  - Operate within established operating limits (§63.7790(c)",null,{"$f":"+IF(Y9=\"\",\"\",MAX(T$1:T8)+1)","v":""},{"$f":"IF(No_CPMS_Limits_Details!B31=\"\",\"\",No_CPMS_Limits_Details!B31)","v":""},{"$f":"IF(No_CPMS_Limits_Details!C31=\"\",\"\",No_CPMS_Limits_Details!C31)","v":""},{"$f":"IF(No_CPMS_Limits_Details!D31=\"\",\"\",No_CPMS_Limits_Details!D31)","v":""},"",{"$f":"IF(COUNTIF(V$2:V9,V9)=1,V9,\"\")","v":""},"","","",null,{"$f":"+IF(AI9=\"\",\"\",MAX(AD$1:AD8)+1)","v":""},{"$f":"IF(Limits_Details_w_CPMS!B31=\"\",\"\",Limits_Details_w_CPMS!B31)","v":""},{"$f":"IF(Limits_Details_w_CPMS!C31=\"\",\"\",Limits_Details_w_CPMS!C31)","v":""},{"$f":"IF(Limits_Details_w_CPMS!D31=\"\",\"\",Limits_Details_w_CPMS!D31)","v":""},"",{"$f":"IF(COUNTIF(AH$2:AH9,AH9)=1,AH9,\"\")","v":""},"","","",null,"CT",null,{"$f":"+IF(AU9=\"\",\"\",MAX(AP$1:AP8)+1)","v":""},{"$f":"IF(CPMS_Detail!B31=\"\",\"\",CPMS_Detail!B31)","v":""},{"$f":"IF(CPMS_Detail!C31=\"\",\"\",CPMS_Detail!C31)","v":""},{"$f":"IF(CPMS_Detail!D31=\"\",\"\",CPMS_Detail!D31)","v":""},"",{"$f":"IF(COUNTIF(AT$2:AT9,AT9)=1,AT9,\"\")","v":""},"","","",null,{"$f":"+IF(BE9=\"\",\"\",MAX(AZ$1:AZ8)+1)","v":""},{"$f":"IF(Mercury!B31=\"\",\"\",Mercury!B31)","v":""},{"$f":"IF(Mercury!C31=\"\",\"\",Mercury!C31)","v":""},{"$f":"IF(Mercury!D31=\"\",\"\",Mercury!D31)","v":""},"",{"$f":"IF(COUNTIF(BB$2:BB9,BB9)=1,BB9,\"\")","v":""},"","",""]
[{"$f":"+IF(D10=\"\",\"\",MAX(A$1:A9)+1)","v":""},{"$f":"IF(CEM_COM_CPMS_Identification!C32=\"\",\"\",CEM_COM_CPMS_Identification!C32)","v":""},"",{"$f":"IF(COUNTIF(B$2:B10,B10)=1,B10,\"\")","v":""},null,{"$f":"+IF(I10=\"\",\"\",MAX(F$1:F9)+1)","v":""},{"$f":"+IF(Company_Information!B32=\"\",\"\",Company_Information!B32)","v":""},"",{"$f":"IF(COUNTIF(G$2:G10,G10)=1,G10,\"\")","v":""},null,{"$f":"+IF(N10=\"\",\"\",MAX(K$1:K9)+1)","v":""},{"$f":"IF(CEM_COM_CPMS_Identification!D32=\"\",\"\",CEM_COM_CPMS_Identification!D32)","v":""},"",{"$f":"IF(COUNTIF(L$2:L10,L10)=1,L10,\"\")","v":""},null,null,null,"Sinter Plant - Maintain 30-day rolling average oil content at or below 0.02 percent (§63.7790(d)(1))",null,{"$f":"+IF(Y10=\"\",\"\",MAX(T$1:T9)+1)","v":""},{"$f":"IF(No_CPMS_Limits_Details!B32=\"\",\"\",No_CPMS_Limits_Details!B32)","v":""},{"$f":"IF(No_CPMS_Limits_Details!C32=\"\",\"\",No_CPMS_Limits_Details!C32)","v":""},{"$f":"IF(No_CPMS_Limits_Details!D32=\"\",\"\",No_CPMS_Limits_Details!D32)","v":""},"",{"$f":"IF(COUNTIF(V$2:V10,V10)=1,V10,\"\")","v":""},"","","",null,{"$f":"+IF(AI10=\"\",\"\",MAX(AD$1:AD9)+1)","v":""},{"$f":"IF(Limits_Details_w_CPMS!B32=\"\",\"\",Limits_Details_w_CPMS!B32)","v":""},{"$f":"IF(Limits_Details_w_CPMS!C32=\"\",\"\",Limits_Details_w_CPMS!C32)","v":""},{"$f":"IF(Limits_Details_w_CPMS!D32=\"\",\"\",Limits_Details_w_CPMS!D32)","v":""},"",{"$f":"IF(COUNTIF(AH$2:AH10,AH10)=1,AH10,\"\")","v":""},"","","",null,"DC",null,{"$f":"+IF(AU10=\"\",\"\",MAX(AP$1:AP9)+1)","v":""},{"$f":"IF(CPMS_Detail!B32=\"\",\"\",CPMS_Detail!B32)","v":""},{"$f":"IF(CPMS_Detail!C32=\"\",\"\",CPMS_Detail!C32)","v":""},{"$f":"IF(CPMS_Detail!D32=\"\",\"\",CPMS_Detail!D32)","v":""},"",{"$f":"IF(COUNTIF(AT$2:AT10,AT10)=1,AT10,\"\")","v":""},"","","",null,{"$f":"+IF(BE10=\"\",\"\",MAX(AZ$1:AZ9)+1)","v":""},{"$f":"IF(Mercury!B32=\"\",\"\",Mercury!B32)","v":""},{"$f":"IF(Mercury!C32=\"\",\"\",Mercury!C32)","v":""},{"$f":"IF(Mercury!D32=\"\",\"\",Mercury!D32)","v":""},"",{"$f":"IF(COUNTIF(BB$2:BB10,BB10)=1,BB10,\"\")","v":""},"","",""]
[{"$f":"+IF(D11=\"\",\"\",MAX(A$1:A10)+1)","v":""},{"$f":"IF(CEM_COM_CPMS_Identification!C33=\"\",\"\",CEM_COM_CPMS_Identification!C33)","v":""},"",{"$f":"IF(COUNTIF(B$2:B11,B11)=1,B11,\"\")","v":""},null,{"$f":"+IF(I11=\"\",\"\",MAX(F$1:F10)+1)","v":""},{"$f":"+IF(Company_Information!B33=\"\",\"\",Company_Information!B33)","v":""},"",{"$f":"IF(COUNTIF(G$2:G11,G11)=1,G11,\"\")","v":""},null,{"$f":"+IF(N11=\"\",\"\",MAX(K$1:K10)+1)","v":""},{"$f":"IF(CEM_COM_CPMS_Identification!D33=\"\",\"\",CEM_COM_CPMS_Identification!D33)","v":""},"",{"$f":"IF(COUNTIF(L$2:L11,L11)=1,L11,\"\")","v":""},null,null,null,"Sinter Plant - Maintain 30-day rolling average VOC emissions at or below 0.2 lb/ton sinter (§63.7790(d)(2))",null,{"$f":"+IF(Y11=\"\",\"\",MAX(T$1:T10)+1)","v":""},{"$f":"IF(No_CPMS_Limits_Details!B33=\"\",\"\",No_CPMS_Limits_Details!B33)","v":""},{"$f":"IF(No_CPMS_Limits_Details!C33=\"\",\"\",No_CPMS_Limits_Details!C33)","v":""},{"$f":"IF(No_CPMS_Limits_Details!D33=\"\",\"\",No_CPMS_Limits_Details!D33)","v":""},"",{"$f":"IF(COUNTIF(V$2:V11,V11)=1,V11,\"\")","v":""},"","","",null,{"$f":"+IF(AI11=\"\",\"\",MAX(AD$1:AD10)+1)","v":""},{"$f":"IF(Limits_Details_w_CPMS!B33=\"\",\"\",Limits_Details_w_CPMS!B33)","v":""},{"$f":"IF(Limits_Details_w_CPMS!C33=\"\",\"\",Limits_Details_w_CPMS!C33)","v":""},{"$f":"IF(Limits_Details_w_CPMS!D33=\"\",\"\",Limits_Details_w_CPMS!D33)","v":""},"",{"$f":"IF(COUNTIF(AH$2:AH11,AH11)=1,AH11,\"\")","v":""},"","","",null,"DE",null,{"$f":"+IF(AU11=\"\",\"\",MAX(AP$1:AP10)+1)","v":""},{"$f":"IF(CPMS_Detail!B33=\"\",\"\",CPMS_Detail!B33)","v":""},{"$f":"IF(CPMS_Detail!C33=\"\",\"\",CPMS_Detail!C33)","v":""},{"$f":"IF(CPMS_Detail!D33=\"\",\"\",CPMS_Detail!D33)","v":""},"",{"$f":"IF(COUNTIF(AT$2:AT11,AT11)=1,AT11,\"\")","v":""},"","","",null,{"$f":"+IF(BE11=\"\",\"\",MAX(AZ$1:AZ10)+1)","v":""},{"$f":"IF(Mercury!B33=\"\",\"\",Mercury!B33)","v":""},{"$f":"IF(Mercury!C33=\"\",\"\",Mercury!C33)","v":""},{"$f":"IF(Mercury!D33=\"\",\"\",Mercury!D33)","v":""},"",{"$f":"IF(COUNTIF(BB$2:BB11,BB11)=1,BB11,\"\")","v":""},"","",""]
[{"$f":"+IF(D12=\"\",\"\",MAX(A$1:A11)+1)","v":""},{"$f":"IF(CEM_COM_CPMS_Identification!C34=\"\",\"\",CEM_COM_CPMS_Identification!C34)","v":""},"",{"$f":"IF(COUNTIF(B$2:B12,B12)=1,B12,\"\")","v":""},null,null,null,null,null,null,{"$f":"+IF(N12=\"\",\"\",MAX(K$1:K11)+1)","v":""},{"$f":"IF(CEM_COM_CPMS_Identification!D34=\"\",\"\",CEM_COM_CPMS_Identification!D34)","v":""},"",{"$f":"IF(COUNTIF(L$2:L12,L12)=1,L12,\"\")","v":""},null,"Malfunction",null,null,null,{"$f":"+IF(Y12=\"\",\"\",MAX(T$1:T11)+1)","v":""},{"$f":"IF(No_CPMS_Limits_Details!B34=\"\",\"\",No_CPMS_Limits_Details!B34)","v":""},{"$f":"IF(No_CPMS_Limits_Details!C34=\"\",\"\",No_CPMS_Limits_Details!C34)","v":""},{"$f":"IF(No_CPMS_Limits_Details!D34=\"\",\"\",No_CPMS_Limits_Details!D34)","v":""},"",{"$f":"IF(COUNTIF(V$2:V12,V12)=1,V12,\"\")","v":""},"","","",null,{"$f":"+IF(AI12=\"\",\"\",MAX(AD$1:AD11)+1)","v":""},{"$f":"IF(Limits_Details_w_CPMS!B34=\"\",\"\",Limits_Details_w_CPMS!B34)","v":""},{"$f":"IF(Limits_Details_w_CPMS!C34=\"\",\"\",Limits_Details_w_CPMS!C34)","v":""},{"$f":"IF(Limits_Details_w_CPMS!D34=\"\",\"\",Limits_Details_w_CPMS!D34)","v":""},"",{"$f":"IF(COUNTIF(AH$2:AH12,AH12)=1,AH12,\"\")","v":""},"","","",null,"FL",null,{"$f":"+IF(AU12=\"\",\"\",MAX(AP$1:AP11)+1)","v":""},{"$f":"IF(CPMS_Detail!B34=\"\",\"\",CPMS_Detail!B34)","v":""},{"$f":"IF(CPMS_Detail!C34=\"\",\"\",CPMS_Detail!C34)","v":""},{"$f":"IF(CPMS_Detail!D34=\"\",\"\",CPMS_Detail!D34)","v":""},"",{"$f":"IF(COUNTIF(AT$2:AT12,AT12)=1,AT12,\"\")","v":""},"","","",null,{"$f":"+IF(BE12=\"\",\"\",MAX(AZ$1:AZ11)+1)","v":""},{"$f":"IF(Mercury!B34=\"\",\"\",Mercury!B34)","v":""},{"$f":"IF(Mercury!C34=\"\",\"\",Mercury!C34)","v":""},{"$f":"IF(Mercury!D34=\"\",\"\",Mercury!D34)","v":""},"",{"$f":"IF(COUNTIF(BB$2:BB12,BB12)=1,BB12,\"\")","v":""},"","",""]
[{"$f":"+IF(D13=\"\",\"\",MAX(A$1:A12)+1)","v":""},{"$f":"IF(CEM_COM_CPMS_Identification!C35=\"\",\"\",CEM_COM_CPMS_Identification!C35)","v":""},"",{"$f":"IF(COUNTIF(B$2:B13,B13)=1,B13,\"\")","v":""},null,null,null,null,null,null,{"$f":"+IF(N13=\"\",\"\",MAX(K$1:K12)+1)","v":""},{"$f":"IF(CEM_COM_CPMS_Identification!D35=\"\",\"\",CEM_COM_CPMS_Identification!D35)","v":""},"",{"$f":"IF(COUNTIF(L$2:L13,L13)=1,L13,\"\")","v":""},null,"Other Period",null,null,null,{"$f":"+IF(Y13=\"\",\"\",MAX(T$1:T12)+1)","v":""},{"$f":"IF(No_CPMS_Limits_Details!B35=\"\",\"\",No_CPMS_Limits_Details!B35)","v":""},{"$f":"IF(No_CPMS_Limits_Details!C35=\"\",\"\",No_CPMS_Limits_Details!C35)","v":""},{"$f":"IF(No_CPMS_Limits_Details!D35=\"\",\"\",No_CPMS_Limits_Details!D35)","v":""},"",{"$f":"IF(COUNTIF(V$2:V13,V13)=1,V13,\"\")","v":""},"","","",null,{"$f":"+IF(AI13=\"\",\"\",MAX(AD$1:AD12)+1)","v":""},{"$f":"IF(Limits_Details_w_CPMS!B35=\"\",\"\",Limits_Details_w_CPMS!B35)","v":""},{"$f":"IF(Limits_Details_w_CPMS!C35=\"\",\"\",Limits_Details_w_CPMS!C35)","v":""},{"$f":"IF(Limits_Details_w_CPMS!D35=\"\",\"\",Limits_Details_w_CPMS!D35)","v":""},"",{"$f":"IF(COUNTIF(AH$2:AH13,AH13)=1,AH13,\"\")","v":""},"","","",null,"GA",null,{"$f":"+IF(AU13=\"\",\"\",MAX(AP$1:AP12)+1)","v":""},{"$f":"IF(CPMS_Detail!B35=\"\",\"\",CPMS_Detail!B35)","v":""},{"$f":"IF(CPMS_Detail!C35=\"\",\"\",CPMS_Detail!C35)","v":""},{"$f":"IF(CPMS_Detail!D35=\"\",\"\",CPMS_Detail!D35)","v":""},"",{"$f":"IF(COUNTIF(AT$2:AT13,AT13)=1,AT13,\"\")","v":""},"","","",null,{"$f":"+IF(BE13=\"\",\"\",MAX(AZ$1:AZ12)+1)","v":""},{"$f":"IF(Mercury!B35=\"\",\"\",Mercury!B35)","v":""},{"$f":"IF(Mercury!C35=\"\",\"\",Mercury!C35)","v":""},{"$f":"IF(Mercury!D35=\"\",\"\",Mercury!D35)","v":""},"",{"$f":"IF(COUNTIF(BB$2:BB13,BB13)=1,BB13,\"\")","v":""},"","",""]
[{"$f":"+IF(D14=\"\",\"\",MAX(A$1:A13)+1)","v":""},{"$f":"IF(CEM_COM_CPMS_Identification!C36=\"\",\"\",CEM_COM_CPMS_Identification!C36)","v":""},"",{"$f":"IF(COUNTIF(B$2:B14,B14)=1,B14,\"\")","v":""},null,null,null,null,null,null,{"$f":"+IF(N14=\"\",\"\",MAX(K$1:K13)+1)","v":""},{"$f":"IF(CEM_COM_CPMS_Identification!D36=\"\",\"\",CEM_COM_CPMS_Identification!D36)","v":""},"",{"$f":"IF(COUNTIF(L$2:L14,L14)=1,L14,\"\")","v":""},null,null,null,null,null,{"$f":"+IF(Y14=\"\",\"\",MAX(T$1:T13)+1)","v":""},{"$f":"IF(No_CPMS_Limits_Details!B36=\"\",\"\",No_CPMS_Limits_Details!B36)","v":""},{"$f":"IF(No_CPMS_Limits_Details!C36=\"\",\"\",No_CPMS_Limits_Details!C36)","v":""},{"$f":"IF(No_CPMS_Limits_Details!D36=\"\",\"\",No_CPMS_Limits_Details!D36)","v":""},"",{"$f":"IF(COUNTIF(V$2:V14,V14)=1,V14,\"\")","v":""},"","","",null,{"$f":"+IF(AI14=\"\",\"\",MAX(AD$1:AD13)+1)","v":""},{"$f":"IF(Limits_Details_w_CPMS!B36=\"\",\"\",Limits_Details_w_CPMS!B36)","v":""},{"$f":"IF(Limits_Details_w_CPMS!C36=\"\",\"\",Limits_Details_w_CPMS!C36)","v":""},{"$f":"IF(Limits_Details_w_CPMS!D36=\"\",\"\",Limits_Details_w_CPMS!D36)","v":""},"",{"$f":"IF(COUNTIF(AH$2:AH14,AH14)=1,AH14,\"\")","v":""},"","","",null,"GU",null,{"$f":"+IF(AU14=\"\",\"\",MAX(AP$1:AP13)+1)","v":""},{"$f":"IF(CPMS_Detail!B36=\"\",\"\",CPMS_Detail!B36)","v":""},{"$f":"IF(CPMS_Detail!C36=\"\",\"\",CPMS_Detail!C36)","v":""},{"$f":"IF(CPMS_Detail!D36=\"\",\"\",CPMS_Detail!D36)","v":""},"",{"$f":"IF(COUNTIF(AT$2:AT14,AT14)=1,AT14,\"\")","v":""},"","","",null,{"$f":"+IF(BE14=\"\",\"\",MAX(AZ$1:AZ13)+1)","v":""},{"$f":"IF(Mercury!B36=\"\",\"\",Mercury!B36)","v":""},{"$f":"IF(Mercury!C36=\"\",\"\",Mercury!C36)","v":""},{"$f":"IF(Mercury!D36=\"\",\"\",Mercury!D36)","v":""},"",{"$f":"IF(COUNTIF(BB$2:BB14,BB14)=1,BB14,\"\")","v":""},"","",""]
[{"$f":"+IF(D15=\"\",\"\",MAX(A$1:A14)+1)","v":""},{"$f":"IF(CEM_COM_CPMS_Identification!C37=\"\",\"\",CEM_COM_CPMS_Identification!C37)","v":""},"",{"$f":"IF(COUNTIF(B$2:B15,B15)=1,B15,\"\")","v":""},null,null,null,null,null,null,{"$f":"+IF(N15=\"\",\"\",MAX(K$1:K14)+1)","v":""},{"$f":"IF(CEM_COM_CPMS_Identification!D37=\"\",\"\",CEM_COM_CPMS_Identification!D37)","v":""},"",{"$f":"IF(COUNTIF(L$2:L15,L15)=1,L15,\"\")","v":""},null,"Deviation Causes",null,null,null,{"$f":"+IF(Y15=\"\",\"\",MAX(T$1:T14)+1)","v":""},{"$f":"IF(No_CPMS_Limits_Details!B37=\"\",\"\",No_CPMS_Limits_Details!B37)","v":""},{"$f":"IF(No_CPMS_Limits_Details!C37=\"\",\"\",No_CPMS_Limits_Details!C37)","v":""},{"$f":"IF(No_CPMS_Limits_Details!D37=\"\",\"\",No_CPMS_Limits_Details!D37)","v":""},"",{"$f":"IF(COUNTIF(V$2:V15,V15)=1,V15,\"\")","v":""},"","","",null,{"$f":"+IF(AI15=\"\",\"\",MAX(AD$1:AD14)+1)","v":""},{"$f":"IF(Limits_Details_w_CPMS!B37=\"\",\"\",Limits_Details_w_CPMS!B37)","v":""},{"$f":"IF(Limits_Details_w_CPMS!C37=\"\",\"\",Limits_Details_w_CPMS!C37)","v":""},{"$f":"IF(Limits_Details_w_CPMS!D37=\"\",\"\",Limits_Details_w_CPMS!D37)","v":""},"",{"$f":"IF(COUNTIF(AH$2:AH15,AH15)=1,AH15,\"\")","v":""},"","","",null,"HI",null,{"$f":"+IF(AU15=\"\",\"\",MAX(AP$1:AP14)+1)","v":""},{"$f":"IF(CPMS_Detail!B37=\"\",\"\",CPMS_Detail!B37)","v":""},{"$f":"IF(CPMS_Detail!C37=\"\",\"\",CPMS_Detail!C37)","v":""},{"$f":"IF(CPMS_Detail!D37=\"\",\"\",CPMS_Detail!D37)","v":""},"",{"$f":"IF(COUNTIF(AT$2:AT15,AT15)=1,AT15,\"\")","v":""},"","","",null,{"$f":"+IF(BE15=\"\",\"\",MAX(AZ$1:AZ14)+1)","v":""},{"$f":"IF(Mercury!B37=\"\",\"\",Mercury!B37)","v":""},{"$f":"IF(Mercury!C37=\"\",\"\",Mercury!C37)","v":""},{"$f":"IF(Mercury!D37=\"\",\"\",Mercury!D37)","v":""},"",{"$f":"IF(COUNTIF(BB$2:BB15,BB15)=1,BB15,\"\")","v":""},"","",""]
[{"$f":"+IF(D16=\"\",\"\",MAX(A$1:A15)+1)","v":""},{"$f":"IF(CEM_COM_CPMS_Identification!C38=\"\",\"\",CEM_COM_CPMS_Identification!C38)","v":""},"",{"$f":"IF(COUNTIF(B$2:B16,B16)=1,B16,\"\")","v":""},null,null,null,null,null,null,{"$f":"+IF(N16=\"\",\"\",MAX(K$1:K15)+1)","v":""},{"$f":"IF(CEM_COM_CPMS_Identification!D38=\"\",\"\",CEM_COM_CPMS_Identification!D38)","v":""},"",{"$f":"IF(COUNTIF(L$2:L16,L16)=1,L16,\"\")","v":""},null,"Control Equipment Problems",null,null,null,{"$f":"+IF(Y16=\"\",\"\",MAX(T$1:T15)+1)","v":""},{"$f":"IF(No_CPMS_Limits_Details!B38=\"\",\"\",No_CPMS_Limits_Details!B38)","v":""},{"$f":"IF(No_CPMS_Limits_Details!C38=\"\",\"\",No_CPMS_Limits_Details!C38)","v":""},{"$f":"IF(No_CPMS_Limits_Details!D38=\"\",\"\",No_CPMS_Limits_Details!D38)","v":""},"",{"$f":"IF(COUNTIF(V$2:V16,V16)=1,V16,\"\")","v":""},"","","",null,{"$f":"+IF(AI16=\"\",\"\",MAX(AD$1:AD15)+1)","v":""},{"$f":"IF(Limits_Details_w_CPMS!B38=\"\",\"\",Limits_Details_w_CPMS!B38)","v":""},{"$f":"IF(Limits_Details_w_CPMS!C38=\"\",\"\",Limits_Details_w_CPMS!C38)","v":""},{"$f":"IF(Limits_Details_w_CPMS!D38=\"\",\"\",Limits_Details_w_CPMS!D38)","v":""},"",{"$f":"IF(COUNTIF(AH$2:AH16,AH16)=1,AH16,\"\")","v":""},"","","",null,"IA",null,{"$f":"+IF(AU16=\"\",\"\",MAX(AP$1:AP15)+1)","v":""},{"$f":"IF(CPMS_Detail!B38=\"\",\"\",CPMS_Detail!B38)","v":""},{"$f":"IF(CPMS_Detail!C38=\"\",\"\",CPMS_Detail!C38)","v":""},{"$f":"IF(CPMS_Detail!D38=\"\",\"\",CPMS_Detail!D38)","v":""},"",{"$f":"IF(COUNTIF(AT$2:AT16,AT16)=1,AT16,\"\")","v":""},"","","",null,{"$f":"+IF(BE16=\"\",\"\",MAX(AZ$1:AZ15)+1)","v":""},{"$f":"IF(Mercury!B38=\"\",\"\",Mercury!B38)","v":""},{"$f":"IF(Mercury!C38=\"\",\"\",Mercury!C38)","v":""},{"$f":"IF(Mercury!D38=\"\",\"\",Mercury!D38)","v":""},"",{"$f":"IF(COUNTIF(BB$2:BB16,BB16)=1,BB16,\"\")","v":""},"","",""]
[{"$f":"+IF(D17=\"\",\"\",MAX(A$1:A16)+1)","v":""},{"$f":"IF(CEM_COM_CPMS_Identification!C39=\"\",\"\",CEM_COM_CPMS_Identification!C39)","v":""},"",{"$f":"IF(COUNTIF(B$2:B17,B17)=1,B17,\"\")","v":""},null,null,null,null,null,null,{"$f":"+IF(N17=\"\",\"\",MAX(K$1:K16)+1)","v":""},{"$f":"IF(CEM_COM_CPMS_Identification!D39=\"\",\"\",CEM_COM_CPMS_Identification!D39)","v":""},"",{"$f":"IF(COUNTIF(L$2:L17,L17)=1,L17,\"\")","v":""},null,"Process Problems",null,null,null,{"$f":"+IF(Y17=\"\",\"\",MAX(T$1:T16)+1)","v":""},{"$f":"IF(No_CPMS_Limits_Details!B39=\"\",\"\",No_CPMS_Limits_Details!B39)","v":""},{"$f":"IF(No_CPMS_Limits_Details!C39=\"\",\"\",No_CPMS_Limits_Details!C39)","v":""},{"$f":"IF(No_CPMS_Limits_Details!D39=\"\",\"\",No_CPMS_Limits_Details!D39)","v":""},"",{"$f":"IF(COUNTIF(V$2:V17,V17)=1,V17,\"\")","v":""},"","","",null,{"$f":"+IF(AI17=\"\",\"\",MAX(AD$1:AD16)+1)","v":""},{"$f":"IF(Limits_Details_w_CPMS!B39=\"\",\"\",Limits_Details_w_CPMS!B39)","v":""},{"$f":"IF(Limits_Details_w_CPMS!C39=\"\",\"\",Limits_Details_w_CPMS!C39)","v":""},{"$f":"IF(Limits_Details_w_CPMS!D39=\"\",\"\",Limits_Details_w_CPMS!D39)","v":""},"",{"$f":"IF(COUNTIF(AH$2:AH17,AH17)=1,AH17,\"\")","v":""},"","","",null,"ID",null,{"$f":"+IF(AU17=\"\",\"\",MAX(AP$1:AP16)+1)","v":""},{"$f":"IF(CPMS_Detail!B39=\"\",\"\",CPMS_Detail!B39)","v":""},{"$f":"IF(CPMS_Detail!C39=\"\",\"\",CPMS_Detail!C39)","v":""},{"$f":"IF(CPMS_Detail!D39=\"\",\"\",CPMS_Detail!D39)","v":""},"",{"$f":"IF(COUNTIF(AT$2:AT17,AT17)=1,AT17,\"\")","v":""},"","","",null,{"$f":"+IF(BE17=\"\",\"\",MAX(AZ$1:AZ16)+1)","v":""},{"$f":"IF(Mercury!B39=\"\",\"\",Mercury!B39)","v":""},{"$f":"IF(Mercury!C39=\"\",\"\",Mercury!C39)","v":""},{"$f":"IF(Mercury!D39=\"\",\"\",Mercury!D39)","v":""},"",{"$f":"IF(COUNTIF(BB$2:BB17,BB17)=1,BB17,\"\")","v":""},"","",""]
[{"$f":"+IF(D18=\"\",\"\",MAX(A$1:A17)+1)","v":""},{"$f":"IF(CEM_COM_CPMS_Identification!C40=\"\",\"\",CEM_COM_CPMS_Identification!C40)","v":""},"",{"$f":"IF(COUNTIF(B$2:B18,B18)=1,B18,\"\")","v":""},null,null,null,null,null,null,{"$f":"+IF(N18=\"\",\"\",MAX(K$1:K17)+1)","v":""},{"$f":"IF(CEM_COM_CPMS_Identification!D40=\"\",\"\",CEM_COM_CPMS_Identification!D40)","v":""},"",{"$f":"IF(COUNTIF(L$2:L18,L18)=1,L18,\"\")","v":""},null,"Other Known Causes",null,null,null,{"$f":"+IF(Y18=\"\",\"\",MAX(T$1:T17)+1)","v":""},{"$f":"IF(No_CPMS_Limits_Details!B40=\"\",\"\",No_CPMS_Limits_Details!B40)","v":""},{"$f":"IF(No_CPMS_Limits_Details!C40=\"\",\"\",No_CPMS_Limits_Details!C40)","v":""},{"$f":"IF(No_CPMS_Limits_Details!D40=\"\",\"\",No_CPMS_Limits_Details!D40)","v":""},"",{"$f":"IF(COUNTIF(V$2:V18,V18)=1,V18,\"\")","v":""},"","","",null,{"$f":"+IF(AI18=\"\",\"\",MAX(AD$1:AD17)+1)","v":""},{"$f":"IF(Limits_Details_w_CPMS!B40=\"\",\"\",Limits_Details_w_CPMS!B40)","v":""},{"$f":"IF(Limits_Details_w_CPMS!C40=\"\",\"\",Limits_Details_w_CPMS!C40)","v":""},{"$f":"IF(Limits_Details_w_CPMS!D40=\"\",\"\",Limits_Details_w_CPMS!D40)","v":""},"",{"$f":"IF(COUNTIF(AH$2:AH18,AH18)=1,AH18,\"\")","v":""},"","","",null,"IL",null,{"$f":"+IF(AU18=\"\",\"\",MAX(AP$1:AP17)+1)","v":""},{"$f":"IF(CPMS_Detail!B40=\"\",\"\",CPMS_Detail!B40)","v":""},{"$f":"IF(CPMS_Detail!C40=\"\",\"\",CPMS_Detail!C40)","v":""},{"$f":"IF(CPMS_Detail!D40=\"\",\"\",CPMS_Detail!D40)","v":""},"",{"$f":"IF(COUNTIF(AT$2:AT18,AT18)=1,AT18,\"\")","v":""},"","","",null,{"$f":"+IF(BE18=\"\",\"\",MAX(AZ$1:AZ17)+1)","v":""},{"$f":"IF(Mercury!B40=\"\",\"\",Mercury!B40)","v":""},{"$f":"IF(Mercury!C40=\"\",\"\",Mercury!C40)","v":""},{"$f":"IF(Mercury!D40=\"\",\"\",Mercury!D40)","v":""},"",{"$f":"IF(COUNTIF(BB$2:BB18,BB18)=1,BB18,\"\")","v":""},"","",""]
[{"$f":"+IF(D19=\"\",\"\",MAX(A$1:A18)+1)","v":""},{"$f":"IF(CEM_COM_CPMS_Identification!C41=\"\",\"\",CEM_COM_CPMS_Identification!C41)","v":""},"",{"$f":"IF(COUNTIF(B$2:B19,B19)=1,B19,\"\")","v":""},null,null,null,null,null,null,{"$f":"+IF(N19=\"\",\"\",MAX(K$1:K18)+1)","v":""},{"$f":"IF(CEM_COM_CPMS_Identification!D41=\"\",\"\",CEM_COM_CPMS_Identification!D41)","v":""},"",{"$f":"IF(COUNTIF(L$2:L19,L19)=1,L19,\"\")","v":""},null,"Other Unknown Causes",null,null,null,{"$f":"+IF(Y19=\"\",\"\",MAX(T$1:T18)+1)","v":""},{"$f":"IF(No_CPMS_Limits_Details!B41=\"\",\"\",No_CPMS_Limits_Details!B41)","v":""},{"$f":"IF(No_CPMS_Limits_Details!C41=\"\",\"\",No_CPMS_Limits_Details!C41)","v":""},{"$f":"IF(No_CPMS_Limits_Details!D41=\"\",\"\",No_CPMS_Limits_Details!D41)","v":""},"",{"$f":"IF(COUNTIF(V$2:V19,V19)=1,V19,\"\")","v":""},"","","",null,{"$f":"+IF(AI19=\"\",\"\",MAX(AD$1:AD18)+1)","v":""},{"$f":"IF(Limits_Details_w_CPMS!B41=\"\",\"\",Limits_Details_w_CPMS!B41)","v":""},{"$f":"IF(Limits_Details_w_CPMS!C41=\"\",\"\",Limits_Details_w_CPMS!C41)","v":""},{"$f":"IF(Limits_Details_w_CPMS!D41=\"\",\"\",Limits_Details_w_CPMS!D41)","v":""},"",{"$f":"IF(COUNTIF(AH$2:AH19,AH19)=1,AH19,\"\")","v":""},"","","",null,"IN",null,{"$f":"+IF(AU19=\"\",\"\",MAX(AP$1:AP18)+1)","v":""},{"$f":"IF(CPMS_Detail!B41=\"\",\"\",CPMS_Detail!B41)","v":""},{"$f":"IF(CPMS_Detail!C41=\"\",\"\",CPMS_Detail!C41)","v":""},{"$f":"IF(CPMS_Detail!D41=\"\",\"\",CPMS_Detail!D41)","v":""},"",{"$f":"IF(COUNTIF(AT$2:AT19,AT19)=1,AT19,\"\")","v":""},"","","",null,{"$f":"+IF(BE19=\"\",\"\",MAX(AZ$1:AZ18)+1)","v":""},{"$f":"IF(Mercury!B41=\"\",\"\",Mercury!B41)","v":""},{"$f":"IF(Mercury!C41=\"\",\"\",Mercury!C41)","v":""},{"$f":"IF(Mercury!D41=\"\",\"\",Mercury!D41)","v":""},"",{"$f":"IF(COUNTIF(BB$2:BB19,BB19)=1,BB19,\"\")","v":""},"","",""]
[{"$f":"+IF(D20=\"\",\"\",MAX(A$1:A19)+1)","v":""},{"$f":"IF(CEM_COM_CPMS_Identification!C42=\"\",\"\",CEM_COM_CPMS_Identification!C42)","v":""},"",{"$f":"IF(COUNTIF(B$2:B20,B20)=1,B20,\"\")","v":""},null,null,null,null,null,null,{"$f":"+IF(N20=\"\",\"\",MAX(K$1:K19)+1)","v":""},{"$f":"IF(CEM_COM_CPMS_Identification!D42=\"\",\"\",CEM_COM_CPMS_Identification!D42)","v":""},"",{"$f":"IF(COUNTIF(L$2:L20,L20)=1,L20,\"\")","v":""},null,null,null,null,null,{"$f":"+IF(Y20=\"\",\"\",MAX(T$1:T19)+1)","v":""},{"$f":"IF(No_CPMS_Limits_Details!B42=\"\",\"\",No_CPMS_Limits_Details!B42)","v":""},{"$f":"IF(No_CPMS_Limits_Details!C42=\"\",\"\",No_CPMS_Limits_Details!C42)","v":""},{"$f":"IF(No_CPMS_Limits_Details!D42=\"\",\"\",No_CPMS_Limits_Details!D42)","v":""},"",{"$f":"IF(COUNTIF(V$2:V20,V20)=1,V20,\"\")","v":""},"","","",null,{"$f":"+IF(AI20=\"\",\"\",MAX(AD$1:AD19)+1)","v":""},{"$f":"IF(Limits_Details_w_CPMS!B42=\"\",\"\",Limits_Details_w_CPMS!B42)","v":""},{"$f":"IF(Limits_Details_w_CPMS!C42=\"\",\"\",Limits_Details_w_CPMS!C42)","v":""},{"$f":"IF(Limits_Details_w_CPMS!D42=\"\",\"\",Limits_Details_w_CPMS!D42)","v":""},"",{"$f":"IF(COUNTIF(AH$2:AH20,AH20)=1,AH20,\"\")","v":""},"","","",null,"KS",null,{"$f":"+IF(AU20=\"\",\"\",MAX(AP$1:AP19)+1)","v":""},{"$f":"IF(CPMS_Detail!B42=\"\",\"\",CPMS_Detail!B42)","v":""},{"$f":"IF(CPMS_Detail!C42=\"\",\"\",CPMS_Detail!C42)","v":""},{"$f":"IF(CPMS_Detail!D42=\"\",\"\",CPMS_Detail!D42)","v":""},"",{"$f":"IF(COUNTIF(AT$2:AT20,AT20)=1,AT20,\"\")","v":""},"","","",null,{"$f":"+IF(BE20=\"\",\"\",MAX(AZ$1:AZ19)+1)","v":""},{"$f":"IF(Mercury!B42=\"\",\"\",Mercury!B42)","v":""},{"$f":"IF(Mercury!C42=\"\",\"\",Mercury!C42)","v":""},{"$f":"IF(Mercury!D42=\"\",\"\",Mercury!D42)","v":""},"",{"$f":"IF(COUNTIF(BB$2:BB20,BB20)=1,BB20,\"\")","v":""},"","",""]
[{"$f":"+IF(D21=\"\",\"\",MAX(A$1:A20)+1)","v":""},{"$f":"IF(CEM_COM_CPMS_Identification!C43=\"\",\"\",CEM_COM_CPMS_Identification!C43)","v":""},"",{"$f":"IF(COUNTIF(B$2:B21,B21)=1,B21,\"\")","v":""},null,null,null,null,null,null,{"$f":"+IF(N21=\"\",\"\",MAX(K$1:K20)+1)","v":""},{"$f":"IF(CEM_COM_CPMS_Identification!D43=\"\",\"\",CEM_COM_CPMS_Identification!D43)","v":""},"",{"$f":"IF(COUNTIF(L$2:L21,L21)=1,L21,\"\")","v":""},null,"Pollutant",null,null,null,{"$f":"+IF(Y21=\"\",\"\",MAX(T$1:T20)+1)","v":""},{"$f":"IF(No_CPMS_Limits_Details!B43=\"\",\"\",No_CPMS_Limits_Details!B43)","v":""},{"$f":"IF(No_CPMS_Limits_Details!C43=\"\",\"\",No_CPMS_Limits_Details!C43)","v":""},{"$f":"IF(No_CPMS_Limits_Details!D43=\"\",\"\",No_CPMS_Limits_Details!D43)","v":""},"",{"$f":"IF(COUNTIF(V$2:V21,V21)=1,V21,\"\")","v":""},"","","",null,{"$f":"+IF(AI21=\"\",\"\",MAX(AD$1:AD20)+1)","v":""},{"$f":"IF(Limits_Details_w_CPMS!B43=\"\",\"\",Limits_Details_w_CPMS!B43)","v":""},{"$f":"IF(Limits_Details_w_CPMS!C43=\"\",\"\",Limits_Details_w_CPMS!C43)","v":""},{"$f":"IF(Limits_Details_w_CPMS!D43=\"\",\"\",Limits_Details_w_CPMS!D43)","v":""},"",{"$f":"IF(COUNTIF(AH$2:AH21,AH21)=1,AH21,\"\")","v":""},"","","",null,"KY",null,{"$f":"+IF(AU21=\"\",\"\",MAX(AP$1:AP20)+1)","v":""},{"$f":"IF(CPMS_Detail!B43=\"\",\"\",CPMS_Detail!B43)","v":""},{"$f":"IF(CPMS_Detail!C43=\"\",\"\",CPMS_Detail!C43)","v":""},{"$f":"IF(CPMS_Detail!D43=\"\",\"\",CPMS_Detail!D43)","v":""},"",{"$f":"IF(COUNTIF(AT$2:AT21,AT21)=1,AT21,\"\")","v":""},"","","",null,{"$f":"+IF(BE21=\"\",\"\",MAX(AZ$1:AZ20)+1)","v":""},{"$f":"IF(Mercury!B43=\"\",\"\",Mercury!B43)","v":""},{"$f":"IF(Mercury!C43=\"\",\"\",Mercury!C43)","v":""},{"$f":"IF(Mercury!D43=\"\",\"\",Mercury!D43)","v":""},"",{"$f":"IF(COUNTIF(BB$2:BB21,BB21)=1,BB21,\"\")","v":""},"","",""]
[{"$f":"+IF(D22=\"\",\"\",MAX(A$1:A21)+1)","v":""},{"$f":"IF(CEM_COM_CPMS_Identification!C44=\"\",\"\",CEM_COM_CPMS_Identification!C44)","v":""},"",{"$f":"IF(COUNTIF(B$2:B22,B22)=1,B22,\"\")","v":""},null,null,null,null,null,null,{"$f":"+IF(N22=\"\",\"\",MAX(K$1:K21)+1)","v":""},{"$f":"IF(CEM_COM_CPMS_Identification!D44=\"\",\"\",CEM_COM_CPMS_Identification!D44)","v":""},"",{"$f":"IF(COUNTIF(L$2:L22,L22)=1,L22,\"\")","v":""},null,"Particulate Matter",null,null,null,{"$f":"+IF(Y22=\"\",\"\",MAX(T$1:T21)+1)","v":""},{"$f":"IF(No_CPMS_Limits_Details!B44=\"\",\"\",No_CPMS_Limits_Details!B44)","v":""},{"$f":"IF(No_CPMS_Limits_Details!C44=\"\",\"\",No_CPMS_Limits_Details!C44)","v":""},{"$f":"IF(No_CPMS_Limits_Details!D44=\"\",\"\",No_CPMS_Limits_Details!D44)","v":""},"",{"$f":"IF(COUNTIF(V$2:V22,V22)=1,V22,\"\")","v":""},"","","",null,{"$f":"+IF(AI22=\"\",\"\",MAX(AD$1:AD21)+1)","v":""},{"$f":"IF(Limits_Details_w_CPMS!B44=\"\",\"\",Limits_Details_w_CPMS!B44)","v":""},{"$f":"IF(Limits_Details_w_CPMS!C44=\"\",\"\",Limits_Details_w_CPMS!C44)","v":""},{"$f":"IF(Limits_Details_w_CPMS!D44=\"\",\"\",Limits_Details_w_CPMS!D44)","v":""},"",{"$f":"IF(COUNTIF(AH$2:AH22,AH22)=1,AH22,\"\")","v":""},"","","",null,"LA",null,{"$f":"+IF(AU22=\"\",\"\",MAX(AP$1:AP21)+1)","v":""},{"$f":"IF(CPMS_Detail!B44=\"\",\"\",CPMS_Detail!B44)","v":""},{"$f":"IF(CPMS_Detail!C44=\"\",\"\",CPMS_Detail!C44)","v":""},{"$f":"IF(CPMS_Detail!D44=\"\",\"\",CPMS_Detail!D44)","v":""},"",{"$f":"IF(COUNTIF(AT$2:AT22,AT22)=1,AT22,\"\")","v":""},"","","",null,{"$f":"+IF(BE22=\"\",\"\",MAX(AZ$1:AZ21)+1)","v":""},{"$f":"IF(Mercury!B44=\"\",\"\",Mercury!B44)","v":""},{"$f":"IF(Mercury!C44=\"\",\"\",Mercury!C44)","v":""},{"$f":"IF(Mercury!D44=\"\",\"\",Mercury!D44)","v":""},"",{"$f":"IF(COUNTIF(BB$2:BB22,BB22)=1,BB22,\"\")","v":""},"","",""]
[{"$f":"+IF(D23=\"\",\"\",MAX(A$1:A22)+1)","v":""},{"$f":"IF(CEM_COM_CPMS_Identification!C45=\"\",\"\",CEM_COM_CPMS_Identification!C45)","v":""},"",{"$f":"IF(COUNTIF(B$2:B23,B23)=1,B23,\"\")","v":""},null,null,null,null,null,null,{"$f":"+IF(N23=\"\",\"\",MAX(K$1:K22)+1)","v":""},{"$f":"IF(CEM_COM_CPMS_Identification!D45=\"\",\"\",CEM_COM_CPMS_Identification!D45)","v":""},"",{"$f":"IF(COUNTIF(L$2:L23,L23)=1,L23,\"\")","v":""},null,"Mercury",null,null,null,{"$f":"+IF(Y23=\"\",\"\",MAX(T$1:T22)+1)","v":""},{"$f":"IF(No_CPMS_Limits_Details!B45=\"\",\"\",No_CPMS_Limits_Details!B45)","v":""},{"$f":"IF(No_CPMS_Limits_Details!C45=\"\",\"\",No_CPMS_Limits_Details!C45)","v":""},{"$f":"IF(No_CPMS_Limits_Details!D45=\"\",\"\",No_CPMS_Limits_Details!D45)","v":""},"",{"$f":"IF(COUNTIF(V$2:V23,V23)=1,V23,\"\")","v":""},"","","",null,{"$f":"+IF(AI23=\"\",\"\",MAX(AD$1:AD22)+1)","v":""},{"$f":"IF(Limits_Details_w_CPMS!B45=\"\",\"\",Limits_Details_w_CPMS!B45)","v":""},{"$f":"IF(Limits_Details_w_CPMS!C45=\"\",\"\",Limits_Details_w_CPMS!C45)","v":""},{"$f":"IF(Limits_Details_w_CPMS!D45=\"\",\"\",Limits_Details_w_CPMS!D45)","v":""},"",{"$f":"IF(COUNTIF(AH$2:AH23,AH23)=1,AH23,\"\")","v":""},"","","",null,"MA",null,{"$f":"+IF(AU23=\"\",\"\",MAX(AP$1:AP22)+1)","v":""},{"$f":"IF(CPMS_Detail!B45=\"\",\"\",CPMS_Detail!B45)","v":""},{"$f":"IF(CPMS_Detail!C45=\"\",\"\",CPMS_Detail!C45)","v":""},{"$f":"IF(CPMS_Detail!D45=\"\",\"\",CPMS_Detail!D45)","v":""},"",{"$f":"IF(COUNTIF(AT$2:AT23,AT23)=1,AT23,\"\")","v":""},"","","",null,{"$f":"+IF(BE23=\"\",\"\",MAX(AZ$1:AZ22)+1)","v":""},{"$f":"IF(Mercury!B45=\"\",\"\",Mercury!B45)","v":""},{"$f":"IF(Mercury!C45=\"\",\"\",Mercury!C45)","v":""},{"$f":"IF(Mercury!D45=\"\",\"\",Mercury!D45)","v":""},"",{"$f":"IF(COUNTIF(BB$2:BB23,BB23)=1,BB23,\"\")","v":""},"","",""]
[{"$f":"+IF(D24=\"\",\"\",MAX(A$1:A23)+1)","v":""},{"$f":"IF(CEM_COM_CPMS_Identification!C46=\"\",\"\",CEM_COM_CPMS_Identification!C46)","v":""},"",{"$f":"IF(COUNTIF(B$2:B24,B24)=1,B24,\"\")","v":""},null,null,null,null,null,null,{"$f":"+IF(N24=\"\",\"\",MAX(K$1:K23)+1)","v":""},{"$f":"IF(CEM_COM_CPMS_Identification!D46=\"\",\"\",CEM_COM_CPMS_Identification!D46)","v":""},"",{"$f":"IF(COUNTIF(L$2:L24,L24)=1,L24,\"\")","v":""},null,"Opacity",null,null,null,{"$f":"+IF(Y24=\"\",\"\",MAX(T$1:T23)+1)","v":""},{"$f":"IF(No_CPMS_Limits_Details!B46=\"\",\"\",No_CPMS_Limits_Details!B46)","v":""},{"$f":"IF(No_CPMS_Limits_Details!C46=\"\",\"\",No_CPMS_Limits_Details!C46)","v":""},{"$f":"IF(No_CPMS_Limits_Details!D46=\"\",\"\",No_CPMS_Limits_Details!D46)","v":""},"",{"$f":"IF(COUNTIF(V$2:V24,V24)=1,V24,\"\")","v":""},"","","",null,{"$f":"+IF(AI24=\"\",\"\",MAX(AD$1:AD23)+1)","v":""},{"$f":"IF(Limits_Details_w_CPMS!B46=\"\",\"\",Limits_Details_w_CPMS!B46)","v":""},{"$f":"IF(Limits_Details_w_CPMS!C46=\"\",\"\",Limits_Details_w_CPMS!C46)","v":""},{"$f":"IF(Limits_Details_w_CPMS!D46=\"\",\"\",Limits_Details_w_CPMS!D46)","v":""},"",{"$f":"IF(COUNTIF(AH$2:AH24,AH24)=1,AH24,\"\")","v":""},"","","",null,"MD",null,{"$f":"+IF(AU24=\"\",\"\",MAX(AP$1:AP23)+1)","v":""},{"$f":"IF(CPMS_Detail!B46=\"\",\"\",CPMS_Detail!B46)","v":""},{"$f":"IF(CPMS_Detail!C46=\"\",\"\",CPMS_Detail!C46)","v":""},{"$f":"IF(CPMS_Detail!D46=\"\",\"\",CPMS_Detail!D46)","v":""},"",{"$f":"IF(COUNTIF(AT$2:AT24,AT24)=1,AT24,\"\")","v":""},"","","",null,{"$f":"+IF(BE24=\"\",\"\",MAX(AZ$1:AZ23)+1)","v":""},{"$f":"IF(Mercury!B46=\"\",\"\",Mercury!B46)","v":""},{"$f":"IF(Mercury!C46=\"\",\"\",Mercury!C46)","v":""},{"$f":"IF(Mercury!D46=\"\",\"\",Mercury!D46)","v":""},"",{"$f":"IF(COUNTIF(BB$2:BB24,BB24)=1,BB24,\"\")","v":""},"","",""]
[{"$f":"+IF(D25=\"\",\"\",MAX(A$1:A24)+1)","v":""},{"$f":"IF(CEM_COM_CPMS_Identification!C47=\"\",\"\",CEM_COM_CPMS_Identification!C47)","v":""},"",{"$f":"IF(COUNTIF(B$2:B25,B25)=1,B25,\"\")","v":""},null,null,null,null,null,null,{"$f":"+IF(N25=\"\",\"\",MAX(K$1:K24)+1)","v":""},{"$f":"IF(CEM_COM_CPMS_Identification!D47=\"\",\"\",CEM_COM_CPMS_Identification!D47)","v":""},"",{"$f":"IF(COUNTIF(L$2:L25,L25)=1,L25,\"\")","v":""},null,null,null,null,null,{"$f":"+IF(Y25=\"\",\"\",MAX(T$1:T24)+1)","v":""},{"$f":"IF(No_CPMS_Limits_Details!B47=\"\",\"\",No_CPMS_Limits_Details!B47)","v":""},{"$f":"IF(No_CPMS_Limits_Details!C47=\"\",\"\",No_CPMS_Limits_Details!C47)","v":""},{"$f":"IF(No_CPMS_Limits_Details!D47=\"\",\"\",No_CPMS_Limits_Details!D47)","v":""},"",{"$f":"IF(COUNTIF(V$2:V25,V25)=1,V25,\"\")","v":""},"","","",null,{"$f":"+IF(AI25=\"\",\"\",MAX(AD$1:AD24)+1)","v":""},{"$f":"IF(Limits_Details_w_CPMS!B47=\"\",\"\",Limits_Details_w_CPMS!B47)","v":""},{"$f":"IF(Limits_Details_w_CPMS!C47=\"\",\"\",Limits_Details_w_CPMS!C47)","v":""},{"$f":"IF(Limits_Details_w_CPMS!D47=\"\",\"\",Limits_Details_w_CPMS!D47)","v":""},"",{"$f":"IF(COUNTIF(AH$2:AH25,AH25)=1,AH25,\"\")","v":""},"","","",null,"ME",null,{"$f":"+IF(AU25=\"\",\"\",MAX(AP$1:AP24)+1)","v":""},{"$f":"IF(CPMS_Detail!B47=\"\",\"\",CPMS_Detail!B47)","v":""},{"$f":"IF(CPMS_Detail!C47=\"\",\"\",CPMS_Detail!C47)","v":""},{"$f":"IF(CPMS_Detail!D47=\"\",\"\",CPMS_Detail!D47)","v":""},"",{"$f":"IF(COUNTIF(AT$2:AT25,AT25)=1,AT25,\"\")","v":""},"","","",null,{"$f":"+IF(BE25=\"\",\"\",MAX(AZ$1:AZ24)+1)","v":""},{"$f":"IF(Mercury!B47=\"\",\"\",Mercury!B47)","v":""},{"$f":"IF(Mercury!C47=\"\",\"\",Mercury!C47)","v":""},{"$f":"IF(Mercury!D47=\"\",\"\",Mercury!D47)","v":""},"",{"$f":"IF(COUNTIF(BB$2:BB25,BB25)=1,BB25,\"\")","v":""},"","",""]
[{"$f":"+IF(D26=\"\",\"\",MAX(A$1:A25)+1)","v":""},{"$f":"IF(CEM_COM_CPMS_Identification!C48=\"\",\"\",CEM_COM_CPMS_Identification!C48)","v":""},"",{"$f":"IF(COUNTIF(B$2:B26,B26)=1,B26,\"\")","v":""},null,null,null,null,null,null,{"$f":"+IF(N26=\"\",\"\",MAX(K$1:K25)+1)","v":""},{"$f":"IF(CEM_COM_CPMS_Identification!D48=\"\",\"\",CEM_COM_CPMS_Identification!D48)","v":""},"",{"$f":"IF(COUNTIF(L$2:L26,L26)=1,L26,\"\")","v":""},null,"Operating and Maintenance",null,null,null,{"$f":"+IF(Y26=\"\",\"\",MAX(T$1:T25)+1)","v":""},{"$f":"IF(No_CPMS_Limits_Details!B48=\"\",\"\",No_CPMS_Limits_Details!B48)","v":""},{"$f":"IF(No_CPMS_Limits_Details!C48=\"\",\"\",No_CPMS_Limits_Details!C48)","v":""},{"$f":"IF(No_CPMS_Limits_Details!D48=\"\",\"\",No_CPMS_Limits_Details!D48)","v":""},"",{"$f":"IF(COUNTIF(V$2:V26,V26)=1,V26,\"\")","v":""},"","","",null,{"$f":"+IF(AI26=\"\",\"\",MAX(AD$1:AD25)+1)","v":""},{"$f":"IF(Limits_Details_w_CPMS!B48=\"\",\"\",Limits_Details_w_CPMS!B48)","v":""},{"$f":"IF(Limits_Details_w_CPMS!C48=\"\",\"\",Limits_Details_w_CPMS!C48)","v":""},{"$f":"IF(Limits_Details_w_CPMS!D48=\"\",\"\",Limits_Details_w_CPMS!D48)","v":""},"",{"$f":"IF(COUNTIF(AH$2:AH26,AH26)=1,AH26,\"\")","v":""},"","","",null,"MI",null,{"$f":"+IF(AU26=\"\",\"\",MAX(AP$1:AP25)+1)","v":""},{"$f":"IF(CPMS_Detail!B48=\"\",\"\",CPMS_Detail!B48)","v":""},{"$f":"IF(CPMS_Detail!C48=\"\",\"\",CPMS_Detail!C48)","v":""},{"$f":"IF(CPMS_Detail!D48=\"\",\"\",CPMS_Detail!D48)","v":""},"",{"$f":"IF(COUNTIF(AT$2:AT26,AT26)=1,AT26,\"\")","v":""},"","","",null,{"$f":"+IF(BE26=\"\",\"\",MAX(AZ$1:AZ25)+1)","v":""},{"$f":"IF(Mercury!B48=\"\",\"\",Mercury!B48)","v":""},{"$f":"IF(Mercury!C48=\"\",\"\",Mercury!C48)","v":""},{"$f":"IF(Mercury!D48=\"\",\"\",Mercury!D48)","v":""},"",{"$f":"IF(COUNTIF(BB$2:BB26,BB26)=1,BB26,\"\")","v":""},"","",""]
[{"$f":"+IF(D27=\"\",\"\",MAX(A$1:A26)+1)","v":""},{"$f":"IF(CEM_COM_CPMS_Identification!C49=\"\",\"\",CEM_COM_CPMS_Identification!C49)","v":""},"",{"$f":"IF(COUNTIF(B$2:B27,B27)=1,B27,\"\")","v":""},null,null,null,null,null,null,{"$f":"+IF(N27=\"\",\"\",MAX(K$1:K26)+1)","v":""},{"$f":"IF(CEM_COM_CPMS_Identification!D49=\"\",\"\",CEM_COM_CPMS_Identification!D49)","v":""},"",{"$f":"IF(COUNTIF(L$2:L27,L27)=1,L27,\"\")","v":""},null,"Operate and Maintain consistent with good air pollution control practices (§63.7800(a))",null,null,null,{"$f":"+IF(Y27=\"\",\"\",MAX(T$1:T26)+1)","v":""},{"$f":"IF(No_CPMS_Limits_Details!B49=\"\",\"\",No_CPMS_Limits_Details!B49)","v":""},{"$f":"IF(No_CPMS_Limits_Details!C49=\"\",\"\",No_CPMS_Limits_Details!C49)","v":""},{"$f":"IF(No_CPMS_Limits_Details!D49=\"\",\"\",No_CPMS_Limits_Details!D49)","v":""},"",{"$f":"IF(COUNTIF(V$2:V27,V27)=1,V27,\"\")","v":""},"","","",null,{"$f":"+IF(AI27=\"\",\"\",MAX(AD$1:AD26)+1)","v":""},{"$f":"IF(Limits_Details_w_CPMS!B49=\"\",\"\",Limits_Details_w_CPMS!B49)","v":""},{"$f":"IF(Limits_Details_w_CPMS!C49=\"\",\"\",Limits_Details_w_CPMS!C49)","v":""},{"$f":"IF(Limits_Details_w_CPMS!D49=\"\",\"\",Limits_Details_w_CPMS!D49)","v":""},"",{"$f":"IF(COUNTIF(AH$2:AH27,AH27)=1,AH27,\"\")","v":""},"","","",null,"MN",null,{"$f":"+IF(AU27=\"\",\"\",MAX(AP$1:AP26)+1)","v":""},{"$f":"IF(CPMS_Detail!B49=\"\",\"\",CPMS_Detail!B49)","v":""},{"$f":"IF(CPMS_Detail!C49=\"\",\"\",CPMS_Detail!C49)","v":""},{"$f":"IF(CPMS_Detail!D49=\"\",\"\",CPMS_Detail!D49)","v":""},"",{"$f":"IF(COUNTIF(AT$2:AT27,AT27)=1,AT27,\"\")","v":""},"","","",null,{"$f":"+IF(BE27=\"\",\"\",MAX(AZ$1:AZ26)+1)","v":""},{"$f":"IF(Mercury!B49=\"\",\"\",Mercury!B49)","v":""},{"$f":"IF(Mercury!C49=\"\",\"\",Mercury!C49)","v":""},{"$f":"IF(Mercury!D49=\"\",\"\",Mercury!D49)","v":""},"",{"$f":"IF(COUNTIF(BB$2:BB27,BB27)=1,BB27,\"\")","v":""},"","",""]
[{"$f":"+IF(D28=\"\",\"\",MAX(A$1:A27)+1)","v":""},{"$f":"IF(CEM_COM_CPMS_Identification!C50=\"\",\"\",CEM_COM_CPMS_Identification!C50)","v":""},"",{"$f":"IF(COUNTIF(B$2:B28,B28)=1,B28,\"\")","v":""},null,null,null,null,null,null,{"$f":"+IF(N28=\"\",\"\",MAX(K$1:K27)+1)","v":""},{"$f":"IF(CEM_COM_CPMS_Identification!D50=\"\",\"\",CEM_COM_CPMS_Identification!D50)","v":""},"",{"$f":"IF(COUNTIF(L$2:L28,L28)=1,L28,\"\")","v":""},null,"Prepare and operate according to operating and maintenance plan  - Monthly Inspection (§63.7800(b)(1))",null,null,null,{"$f":"+IF(Y28=\"\",\"\",MAX(T$1:T27)+1)","v":""},{"$f":"IF(No_CPMS_Limits_Details!B50=\"\",\"\",No_CPMS_Limits_Details!B50)","v":""},{"$f":"IF(No_CPMS_Limits_Details!C50=\"\",\"\",No_CPMS_Limits_Details!C50)","v":""},{"$f":"IF(No_CPMS_Limits_Details!D50=\"\",\"\",No_CPMS_Limits_Details!D50)","v":""},"",{"$f":"IF(COUNTIF(V$2:V28,V28)=1,V28,\"\")","v":""},"","","",null,{"$f":"+IF(AI28=\"\",\"\",MAX(AD$1:AD27)+1)","v":""},{"$f":"IF(Limits_Details_w_CPMS!B50=\"\",\"\",Limits_Details_w_CPMS!B50)","v":""},{"$f":"IF(Limits_Details_w_CPMS!C50=\"\",\"\",Limits_Details_w_CPMS!C50)","v":""},{"$f":"IF(Limits_Details_w_CPMS!D50=\"\",\"\",Limits_Details_w_CPMS!D50)","v":""},"",{"$f":"IF(COUNTIF(AH$2:AH28,AH28)=1,AH28,\"\")","v":""},"","","",null,"MO",null,{"$f":"+IF(AU28=\"\",\"\",MAX(AP$1:AP27)+1)","v":""},{"$f":"IF(CPMS_Detail!B50=\"\",\"\",CPMS_Detail!B50)","v":""},{"$f":"IF(CPMS_Detail!C50=\"\",\"\",CPMS_Detail!C50)","v":""},{"$f":"IF(CPMS_Detail!D50=\"\",\"\",CPMS_Detail!D50)","v":""},"",{"$f":"IF(COUNTIF(AT$2:AT28,AT28)=1,AT28,\"\")","v":""},"","","",null,{"$f":"+IF(BE28=\"\",\"\",MAX(AZ$1:AZ27)+1)","v":""},{"$f":"IF(Mercury!B50=\"\",\"\",Mercury!B50)","v":""},{"$f":"IF(Mercury!C50=\"\",\"\",Mercury!C50)","v":""},{"$f":"IF(Mercury!D50=\"\",\"\",Mercury!D50)","v":""},"",{"$f":"IF(COUNTIF(BB$2:BB28,BB28)=1,BB28,\"\")","v":""},"","",""]
[{"$f":"+IF(D29=\"\",\"\",MAX(A$1:A28)+1)","v":""},{"$f":"IF(CEM_COM_CPMS_Identification!C51=\"\",\"\",CEM_COM_CPMS_Identification!C51)","v":""},"",{"$f":"IF(COUNTIF(B$2:B29,B29)=1,B29,\"\")","v":""},null,null,null,null,null,null,{"$f":"+IF(N29=\"\",\"\",MAX(K$1:K28)+1)","v":""},{"$f":"IF(CEM_COM_CPMS_Identification!D51=\"\",\"\",CEM_COM_CPMS_Identification!D51)","v":""},"",{"$f":"IF(COUNTIF(L$2:L29,L29)=1,L29,\"\")","v":""},null,"Prepare and operate according to operating and maintenance plan  - Preventative Maintenance (§63.7800(b)(2))",null,null,null,{"$f":"+IF(Y29=\"\",\"\",MAX(T$1:T28)+1)","v":""},{"$f":"IF(No_CPMS_Limits_Details!B51=\"\",\"\",No_CPMS_Limits_Details!B51)","v":""},{"$f":"IF(No_CPMS_Limits_Details!C51=\"\",\"\",No_CPMS_Limits_Details!C51)","v":""},{"$f":"IF(No_CPMS_Limits_Details!D51=\"\",\"\",No_CPMS_Limits_Details!D51)","v":""},"",{"$f":"IF(COUNTIF(V$2:V29,V29)=1,V29,\"\")","v":""},"","","",null,{"$f":"+IF(AI29=\"\",\"\",MAX(AD$1:AD28)+1)","v":""},{"$f":"IF(Limits_Details_w_CPMS!B51=\"\",\"\",Limits_Details_w_CPMS!B51)","v":""},{"$f":"IF(Limits_Details_w_CPMS!C51=\"\",\"\",Limits_Details_w_CPMS!C51)","v":""},{"$f":"IF(Limits_Details_w_CPMS!D51=\"\",\"\",Limits_Details_w_CPMS!D51)","v":""},"",{"$f":"IF(COUNTIF(AH$2:AH29,AH29)=1,AH29,\"\")","v":""},"","","",null,"MP",null,{"$f":"+IF(AU29=\"\",\"\",MAX(AP$1:AP28)+1)","v":""},{"$f":"IF(CPMS_Detail!B51=\"\",\"\",CPMS_Detail!B51)","v":""},{"$f":"IF(CPMS_Detail!C51=\"\",\"\",CPMS_Detail!C51)","v":""},{"$f":"IF(CPMS_Detail!D51=\"\",\"\",CPMS_Detail!D51)","v":""},"",{"$f":"IF(COUNTIF(AT$2:AT29,AT29)=1,AT29,\"\")","v":""},"","","",null,{"$f":"+IF(BE29=\"\",\"\",MAX(AZ$1:AZ28)+1)","v":""},{"$f":"IF(Mercury!B51=\"\",\"\",Mercury!B51)","v":""},{"$f":"IF(Mercury!C51=\"\",\"\",Mercury!C51)","v":""},{"$f":"IF(Mercury!D51=\"\",\"\",Mercury!D51)","v":""},"",{"$f":"IF(COUNTIF(BB$2:BB29,BB29)=1,BB29,\"\")","v":""},"","",""]
[{"$f":"+IF(D30=\"\",\"\",MAX(A$1:A29)+1)","v":""},{"$f":"IF(CEM_COM_CPMS_Identification!C52=\"\",\"\",CEM_COM_CPMS_Identification!C52)","v":""},"",{"$f":"IF(COUNTIF(B$2:B30,B30)=1,B30,\"\")","v":""},null,null,null,null,null,null,{"$f":"+IF(N30=\"\",\"\",MAX(K$1:K29)+1)","v":""},{"$f":"IF(CEM_COM_CPMS_Identification!D52=\"\",\"\",CEM_COM_CPMS_Identification!D52)","v":""},"",{"$f":"IF(COUNTIF(L$2:L30,L30)=1,L30,\"\")","v":""},null,"Prepare and operate according to operating and maintenance plan  - Establish Operating Limits (§63.7800(b)(3))",null,null,null,{"$f":"+IF(Y30=\"\",\"\",MAX(T$1:T29)+1)","v":""},{"$f":"IF(No_CPMS_Limits_Details!B52=\"\",\"\",No_CPMS_Limits_Details!B52)","v":""},{"$f":"IF(No_CPMS_Limits_Details!C52=\"\",\"\",No_CPMS_Limits_Details!C52)","v":""},{"$f":"IF(No_CPMS_Limits_Details!D52=\"\",\"\",No_CPMS_Limits_Details!D52)","v":""},"",{"$f":"IF(COUNTIF(V$2:V30,V30)=1,V30,\"\")","v":""},"","","",null,{"$f":"+IF(AI30=\"\",\"\",MAX(AD$1:AD29)+1)","v":""},{"$f":"IF(Limits_Details_w_CPMS!B52=\"\",\"\",Limits_Details_w_CPMS!B52)","v":""},{"$f":"IF(Limits_Details_w_CPMS!C52=\"\",\"\",Limits_Details_w_CPMS!C52)","v":""},{"$f":"IF(Limits_Details_w_CPMS!D52=\"\",\"\",Limits_Details_w_CPMS!D52)","v":""},"",{"$f":"IF(COUNTIF(AH$2:AH30,AH30)=1,AH30,\"\")","v":""},"","","",null,"MS",null,{"$f":"+IF(AU30=\"\",\"\",MAX(AP$1:AP29)+1)","v":""},{"$f":"IF(CPMS_Detail!B52=\"\",\"\",CPMS_Detail!B52)","v":""},{"$f":"IF(CPMS_Detail!C52=\"\",\"\",CPMS_Detail!C52)","v":""},{"$f":"IF(CPMS_Detail!D52=\"\",\"\",CPMS_Detail!D52)","v":""},"",{"$f":"IF(COUNTIF(AT$2:AT30,AT30)=1,AT30,\"\")","v":""},"","","",null,{"$f":"+IF(BE30=\"\",\"\",MAX(AZ$1:AZ29)+1)","v":""},{"$f":"IF(Mercury!B52=\"\",\"\",Mercury!B52)","v":""},{"$f":"IF(Mercury!C52=\"\",\"\",Mercury!C52)","v":""},{"$f":"IF(Mercury!D52=\"\",\"\",Mercury!D52)","v":""},"",{"$f":"IF(COUNTIF(BB$2:BB30,BB30)=1,BB30,\"\")","v":""},"","",""]
[{"$f":"+IF(D31=\"\",\"\",MAX(A$1:A30)+1)","v":""},{"$f":"IF(CEM_COM_CPMS_Identification!C53=\"\",\"\",CEM_COM_CPMS_Identification!C53)","v":""},"",{"$f":"IF(COUNTIF(B$2:B31,B31)=1,B31,\"\")","v":""},null,null,null,null,null,null,{"$f":"+IF(N31=\"\",\"\",MAX(K$1:K30)+1)","v":""},{"$f":"IF(CEM_COM_CPMS_Identification!D53=\"\",\"\",CEM_COM_CPMS_Identification!D53)","v":""},"",{"$f":"IF(COUNTIF(L$2:L31,L31)=1,L31,\"\")","v":""},null,"Prepare and operate according to operating and maintenance plan  - Baghouse Corrective Action Procedures (§63.7800(b)(4))",null,null,null,{"$f":"+IF(Y31=\"\",\"\",MAX(T$1:T30)+1)","v":""},{"$f":"IF(No_CPMS_Limits_Details!B53=\"\",\"\",No_CPMS_Limits_Details!B53)","v":""},{"$f":"IF(No_CPMS_Limits_Details!C53=\"\",\"\",No_CPMS_Limits_Details!C53)","v":""},{"$f":"IF(No_CPMS_Limits_Details!D53=\"\",\"\",No_CPMS_Limits_Details!D53)","v":""},"",{"$f":"IF(COUNTIF(V$2:V31,V31)=1,V31,\"\")","v":""},"","","",null,{"$f":"+IF(AI31=\"\",\"\",MAX(AD$1:AD30)+1)","v":""},{"$f":"IF(Limits_Details_w_CPMS!B53=\"\",\"\",Limits_Details_w_CPMS!B53)","v":""},{"$f":"IF(Limits_Details_w_CPMS!C53=\"\",\"\",Limits_Details_w_CPMS!C53)","v":""},{"$f":"IF(Limits_Details_w_CPMS!D53=\"\",\"\",Limits_Details_w_CPMS!D53)","v":""},"",{"$f":"IF(COUNTIF(AH$2:AH31,AH31)=1,AH31,\"\")","v":""},"","","",null,"MT",null,{"$f":"+IF(AU31=\"\",\"\",MAX(AP$1:AP30)+1)","v":""},{"$f":"IF(CPMS_Detail!B53=\"\",\"\",CPMS_Detail!B53)","v":""},{"$f":"IF(CPMS_Detail!C53=\"\",\"\",CPMS_Detail!C53)","v":""},{"$f":"IF(CPMS_Detail!D53=\"\",\"\",CPMS_Detail!D53)","v":""},"",{"$f":"IF(COUNTIF(AT$2:AT31,AT31)=1,AT31,\"\")","v":""},"","","",null,{"$f":"+IF(BE31=\"\",\"\",MAX(AZ$1:AZ30)+1)","v":""},{"$f":"IF(Mercury!B53=\"\",\"\",Mercury!B53)","v":""},{"$f":"IF(Mercury!C53=\"\",\"\",Mercury!C53)","v":""},{"$f":"IF(Mercury!D53=\"\",\"\",Mercury!D53)","v":""},"",{"$f":"IF(COUNTIF(BB$2:BB31,BB31)=1,BB31,\"\")","v":""},"","",""]
[{"$f":"+IF(D32=\"\",\"\",MAX(A$1:A31)+1)","v":""},{"$f":"IF(CEM_COM_CPMS_Identification!C54=\"\",\"\",CEM_COM_CPMS_Identification!C54)","v":""},"",{"$f":"IF(COUNTIF(B$2:B32,B32)=1,B32,\"\")","v":""},null,null,null,null,null,null,{"$f":"+IF(N32=\"\",\"\",MAX(K$1:K31)+1)","v":""},{"$f":"IF(CEM_COM_CPMS_Identification!D54=\"\",\"\",CEM_COM_CPMS_Identification!D54)","v":""},"",{"$f":"IF(COUNTIF(L$2:L32,L32)=1,L32,\"\")","v":""},null,"Prepare and operate according to operating and maintenance plan  - Venturi Scrubber Corrective Action Procedures (§63.7800(b)(5))",null,null,null,{"$f":"+IF(Y32=\"\",\"\",MAX(T$1:T31)+1)","v":""},{"$f":"IF(No_CPMS_Limits_Details!B54=\"\",\"\",No_CPMS_Limits_Details!B54)","v":""},{"$f":"IF(No_CPMS_Limits_Details!C54=\"\",\"\",No_CPMS_Limits_Details!C54)","v":""},{"$f":"IF(No_CPMS_Limits_Details!D54=\"\",\"\",No_CPMS_Limits_Details!D54)","v":""},"",{"$f":"IF(COUNTIF(V$2:V32,V32)=1,V32,\"\")","v":""},"","","",null,{"$f":"+IF(AI32=\"\",\"\",MAX(AD$1:AD31)+1)","v":""},{"$f":"IF(Limits_Details_w_CPMS!B54=\"\",\"\",Limits_Details_w_CPMS!B54)","v":""},{"$f":"IF(Limits_Details_w_CPMS!C54=\"\",\"\",Limits_Details_w_CPMS!C54)","v":""},{"$f":"IF(Limits_Details_w_CPMS!D54=\"\",\"\",Limits_Details_w_CPMS!D54)","v":""},"",{"$f":"IF(COUNTIF(AH$2:AH32,AH32)=1,AH32,\"\")","v":""},"","","",null,"NC",null,{"$f":"+IF(AU32=\"\",\"\",MAX(AP$1:AP31)+1)","v":""},{"$f":"IF(CPMS_Detail!B54=\"\",\"\",CPMS_Detail!B54)","v":""},{"$f":"IF(CPMS_Detail!C54=\"\",\"\",CPMS_Detail!C54)","v":""},{"$f":"IF(CPMS_Detail!D54=\"\",\"\",CPMS_Detail!D54)","v":""},"",{"$f":"IF(COUNTIF(AT$2:AT32,AT32)=1,AT32,\"\")","v":""},"","","",null,{"$f":"+IF(BE32=\"\",\"\",MAX(AZ$1:AZ31)+1)","v":""},{"$f":"IF(Mercury!B54=\"\",\"\",Mercury!B54)","v":""},{"$f":"IF(Mercury!C54=\"\",\"\",Mercury!C54)","v":""},{"$f":"IF(Mercury!D54=\"\",\"\",Mercury!D54)","v":""},"",{"$f":"IF(COUNTIF(BB$2:BB32,BB32)=1,BB32,\"\")","v":""},"","",""]
[{"$f":"+IF(D33=\"\",\"\",MAX(A$1:A32)+1)","v":""},{"$f":"IF(CEM_COM_CPMS_Identification!C55=\"\",\"\",CEM_COM_CPMS_Identification!C55)","v":""},"",{"$f":"IF(COUNTIF(B$2:B33,B33)=1,B33,\"\")","v":""},null,null,null,null,null,null,{"$f":"+IF(N33=\"\",\"\",MAX(K$1:K32)+1)","v":""},{"$f":"IF(CEM_COM_CPMS_Identification!D55=\"\",\"\",CEM_COM_CPMS_Identification!D55)","v":""},"",{"$f":"IF(COUNTIF(L$2:L33,L33)=1,L33,\"\")","v":""},null,"Prepare and operate according to operating and maintenance plan  - ESP with COMS (§63.7800(b)(6))",null,null,null,{"$f":"+IF(Y33=\"\",\"\",MAX(T$1:T32)+1)","v":""},{"$f":"IF(No_CPMS_Limits_Details!B55=\"\",\"\",No_CPMS_Limits_Details!B55)","v":""},{"$f":"IF(No_CPMS_Limits_Details!C55=\"\",\"\",No_CPMS_Limits_Details!C55)","v":""},{"$f":"IF(No_CPMS_Limits_Details!D55=\"\",\"\",No_CPMS_Limits_Details!D55)","v":""},"",{"$f":"IF(COUNTIF(V$2:V33,V33)=1,V33,\"\")","v":""},"","","",null,{"$f":"+IF(AI33=\"\",\"\",MAX(AD$1:AD32)+1)","v":""},{"$f":"IF(Limits_Details_w_CPMS!B55=\"\",\"\",Limits_Details_w_CPMS!B55)","v":""},{"$f":"IF(Limits_Details_w_CPMS!C55=\"\",\"\",Limits_Details_w_CPMS!C55)","v":""},{"$f":"IF(Limits_Details_w_CPMS!D55=\"\",\"\",Limits_Details_w_CPMS!D55)","v":""},"",{"$f":"IF(COUNTIF(AH$2:AH33,AH33)=1,AH33,\"\")","v":""},"","","",null,"ND",null,{"$f":"+IF(AU33=\"\",\"\",MAX(AP$1:AP32)+1)","v":""},{"$f":"IF(CPMS_Detail!B55=\"\",\"\",CPMS_Detail!B55)","v":""},{"$f":"IF(CPMS_Detail!C55=\"\",\"\",CPMS_Detail!C55)","v":""},{"$f":"IF(CPMS_Detail!D55=\"\",\"\",CPMS_Detail!D55)","v":""},"",{"$f":"IF(COUNTIF(AT$2:AT33,AT33)=1,AT33,\"\")","v":""},"","","",null,{"$f":"+IF(BE33=\"\",\"\",MAX(AZ$1:AZ32)+1)","v":""},{"$f":"IF(Mercury!B55=\"\",\"\",Mercury!B55)","v":""},{"$f":"IF(Mercury!C55=\"\",\"\",Mercury!C55)","v":""},{"$f":"IF(Mercury!D55=\"\",\"\",Mercury!D55)","v":""},"",{"$f":"IF(COUNTIF(BB$2:BB33,BB33)=1,BB33,\"\")","v":""},"","",""]
[{"$f":"+IF(D34=\"\",\"\",MAX(A$1:A33)+1)","v":""},{"$f":"IF(CEM_COM_CPMS_Identification!C56=\"\",\"\",CEM_COM_CPMS_Identification!C56)","v":""},"",{"$f":"IF(COUNTIF(B$2:B34,B34)=1,B34,\"\")","v":""},null,null,null,null,null,null,{"$f":"+IF(N34=\"\",\"\",MAX(K$1:K33)+1)","v":""},{"$f":"IF(CEM_COM_CPMS_Identification!D56=\"\",\"\",CEM_COM_CPMS_Identification!D56)","v":""},"",{"$f":"IF(COUNTIF(L$2:L34,L34)=1,L34,\"\")","v":""},null,"Procedures for Determining and recording the daily sinter plant production rate (§63.7800(b)(7))",null,null,null,{"$f":"+IF(Y34=\"\",\"\",MAX(T$1:T33)+1)","v":""},{"$f":"IF(No_CPMS_Limits_Details!B56=\"\",\"\",No_CPMS_Limits_Details!B56)","v":""},{"$f":"IF(No_CPMS_Limits_Details!C56=\"\",\"\",No_CPMS_Limits_Details!C56)","v":""},{"$f":"IF(No_CPMS_Limits_Details!D56=\"\",\"\",No_CPMS_Limits_Details!D56)","v":""},"",{"$f":"IF(COUNTIF(V$2:V34,V34)=1,V34,\"\")","v":""},"","","",null,{"$f":"+IF(AI34=\"\",\"\",MAX(AD$1:AD33)+1)","v":""},{"$f":"IF(Limits_Details_w_CPMS!B56=\"\",\"\",Limits_Details_w_CPMS!B56)","v":""},{"$f":"IF(Limits_Details_w_CPMS!C56=\"\",\"\",Limits_Details_w_CPMS!C56)","v":""},{"$f":"IF(Limits_Details_w_CPMS!D56=\"\",\"\",Limits_Details_w_CPMS!D56)","v":""},"",{"$f":"IF(COUNTIF(AH$2:AH34,AH34)=1,AH34,\"\")","v":""},"","","",null,"NE",null,{"$f":"+IF(AU34=\"\",\"\",MAX(AP$1:AP33)+1)","v":""},{"$f":"IF(CPMS_Detail!B56=\"\",\"\",CPMS_Detail!B56)","v":""},{"$f":"IF(CPMS_Detail!C56=\"\",\"\",CPMS_Detail!C56)","v":""},{"$f":"IF(CPMS_Detail!D56=\"\",\"\",CPMS_Detail!D56)","v":""},"",{"$f":"IF(COUNTIF(AT$2:AT34,AT34)=1,AT34,\"\")","v":""},"","","",null,{"$f":"+IF(BE34=\"\",\"\",MAX(AZ$1:AZ33)+1)","v":""},{"$f":"IF(Mercury!B56=\"\",\"\",Mercury!B56)","v":""},{"$f":"IF(Mercury!C56=\"\",\"\",Mercury!C56)","v":""},{"$f":"IF(Mercury!D56=\"\",\"\",Mercury!D56)","v":""},"",{"$f":"IF(COUNTIF(BB$2:BB34,BB34)=1,BB34,\"\")","v":""},"","",""]
[{"$f":"+IF(D35=\"\",\"\",MAX(A$1:A34)+1)","v":""},{"$f":"IF(CEM_COM_CPMS_Identification!C57=\"\",\"\",CEM_COM_CPMS_Identification!C57)","v":""},"",{"$f":"IF(COUNTIF(B$2:B35,B35)=1,B35,\"\")","v":""},null,null,null,null,null,null,{"$f":"+IF(N35=\"\",\"\",MAX(K$1:K34)+1)","v":""},{"$f":"IF(CEM_COM_CPMS_Identification!D57=\"\",\"\",CEM_COM_CPMS_Identification!D57)","v":""},"",{"$f":"IF(COUNTIF(L$2:L35,L35)=1,L35,\"\")","v":""},null,null,null,null,null,{"$f":"+IF(Y35=\"\",\"\",MAX(T$1:T34)+1)","v":""},{"$f":"IF(No_CPMS_Limits_Details!B57=\"\",\"\",No_CPMS_Limits_Details!B57)","v":""},{"$f":"IF(No_CPMS_Limits_Details!C57=\"\",\"\",No_CPMS_Limits_Details!C57)","v":""},{"$f":"IF(No_CPMS_Limits_Details!D57=\"\",\"\",No_CPMS_Limits_Details!D57)","v":""},"",{"$f":"IF(COUNTIF(V$2:V35,V35)=1,V35,\"\")","v":""},"","","",null,{"$f":"+IF(AI35=\"\",\"\",MAX(AD$1:AD34)+1)","v":""},{"$f":"IF(Limits_Details_w_CPMS!B57=\"\",\"\",Limits_Details_w_CPMS!B57)","v":""},{"$f":"IF(Limits_Details_w_CPMS!C57=\"\",\"\",Limits_Details_w_CPMS!C57)","v":""},{"$f":"IF(Limits_Details_w_CPMS!D57=\"\",\"\",Limits_Details_w_CPMS!D57)","v":""},"",{"$f":"IF(COUNTIF(AH$2:AH35,AH35)=1,AH35,\"\")","v":""},"","","",null,"NH",null,{"$f":"+IF(AU35=\"\",\"\",MAX(AP$1:AP34)+1)","v":""},{"$f":"IF(CPMS_Detail!B57=\"\",\"\",CPMS_Detail!B57)","v":""},{"$f":"IF(CPMS_Detail!C57=\"\",\"\",CPMS_Detail!C57)","v":""},{"$f":"IF(CPMS_Detail!D57=\"\",\"\",CPMS_Detail!D57)","v":""},"",{"$f":"IF(COUNTIF(AT$2:AT35,AT35)=1,AT35,\"\")","v":""},"","","",null,{"$f":"+IF(BE35=\"\",\"\",MAX(AZ$1:AZ34)+1)","v":""},{"$f":"IF(Mercury!B57=\"\",\"\",Mercury!B57)","v":""},{"$f":"IF(Mercury!C57=\"\",\"\",Mercury!C57)","v":""},{"$f":"IF(Mercury!D57=\"\",\"\",Mercury!D57)","v":""},"",{"$f":"IF(COUNTIF(BB$2:BB35,BB35)=1,BB35,\"\")","v":""},"","",""]
[{"$f":"+IF(D36=\"\",\"\",MAX(A$1:A35)+1)","v":""},{"$f":"IF(CEM_COM_CPMS_Identification!C58=\"\",\"\",CEM_COM_CPMS_Identification!C58)","v":""},"",{"$f":"IF(COUNTIF(B$2:B36,B36)=1,B36,\"\")","v":""},null,null,null,null,null,null,{"$f":"+IF(N36=\"\",\"\",MAX(K$1:K35)+1)","v":""},{"$f":"IF(CEM_COM_CPMS_Identification!D58=\"\",\"\",CEM_COM_CPMS_Identification!D58)","v":""},"",{"$f":"IF(COUNTIF(L$2:L36,L36)=1,L36,\"\")","v":""},null,"Mercury",null,null,null,{"$f":"+IF(Y36=\"\",\"\",MAX(T$1:T35)+1)","v":""},{"$f":"IF(No_CPMS_Limits_Details!B58=\"\",\"\",No_CPMS_Limits_Details!B58)","v":""},{"$f":"IF(No_CPMS_Limits_Details!C58=\"\",\"\",No_CPMS_Limits_Details!C58)","v":""},{"$f":"IF(No_CPMS_Limits_Details!D58=\"\",\"\",No_CPMS_Limits_Details!D58)","v":""},"",{"$f":"IF(COUNTIF(V$2:V36,V36)=1,V36,\"\")","v":""},"","","",null,{"$f":"+IF(AI36=\"\",\"\",MAX(AD$1:AD35)+1)","v":""},{"$f":"IF(Limits_Details_w_CPMS!B58=\"\",\"\",Limits_Details_w_CPMS!B58)","v":""},{"$f":"IF(Limits_Details_w_CPMS!C58=\"\",\"\",Limits_Details_w_CPMS!C58)","v":""},{"$f":"IF(Limits_Details_w_CPMS!D58=\"\",\"\",Limits_Details_w_CPMS!D58)","v":""},"",{"$f":"IF(COUNTIF(AH$2:AH36,AH36)=1,AH36,\"\")","v":""},"","","",null,"NJ",null,{"$f":"+IF(AU36=\"\",\"\",MAX(AP$1:AP35)+1)","v":""},{"$f":"IF(CPMS_Detail!B58=\"\",\"\",CPMS_Detail!B58)","v":""},{"$f":"IF(CPMS_Detail!C58=\"\",\"\",CPMS_Detail!C58)","v":""},{"$f":"IF(CPMS_Detail!D58=\"\",\"\",CPMS_Detail!D58)","v":""},"",{"$f":"IF(COUNTIF(AT$2:AT36,AT36)=1,AT36,\"\")","v":""},"","","",null,{"$f":"+IF(BE36=\"\",\"\",MAX(AZ$1:AZ35)+1)","v":""},{"$f":"IF(Mercury!B58=\"\",\"\",Mercury!B58)","v":""},{"$f":"IF(Mercury!C58=\"\",\"\",Mercury!C58)","v":""},{"$f":"IF(Mercury!D58=\"\",\"\",Mercury!D58)","v":""},"",{"$f":"IF(COUNTIF(BB$2:BB36,BB36)=1,BB36,\"\")","v":""},"","",""]
[{"$f":"+IF(D37=\"\",\"\",MAX(A$1:A36)+1)","v":""},{"$f":"IF(CEM_COM_CPMS_Identification!C59=\"\",\"\",CEM_COM_CPMS_Identification!C59)","v":""},"",{"$f":"IF(COUNTIF(B$2:B37,B37)=1,B37,\"\")","v":""},null,null,null,null,null,null,{"$f":"+IF(N37=\"\",\"\",MAX(K$1:K36)+1)","v":""},{"$f":"IF(CEM_COM_CPMS_Identification!D59=\"\",\"\",CEM_COM_CPMS_Identification!D59)","v":""},"",{"$f":"IF(COUNTIF(L$2:L37,L37)=1,L37,\"\")","v":""},null,"Scrap under NVMSRP - Purchase through NVMSRP certified scrap through provider/broker (§63.7791(a)(1))",null,null,null,{"$f":"+IF(Y37=\"\",\"\",MAX(T$1:T36)+1)","v":""},{"$f":"IF(No_CPMS_Limits_Details!B59=\"\",\"\",No_CPMS_Limits_Details!B59)","v":""},{"$f":"IF(No_CPMS_Limits_Details!C59=\"\",\"\",No_CPMS_Limits_Details!C59)","v":""},{"$f":"IF(No_CPMS_Limits_Details!D59=\"\",\"\",No_CPMS_Limits_Details!D59)","v":""},"",{"$f":"IF(COUNTIF(V$2:V37,V37)=1,V37,\"\")","v":""},"","","",null,{"$f":"+IF(AI37=\"\",\"\",MAX(AD$1:AD36)+1)","v":""},{"$f":"IF(Limits_Details_w_CPMS!B59=\"\",\"\",Limits_Details_w_CPMS!B59)","v":""},{"$f":"IF(Limits_Details_w_CPMS!C59=\"\",\"\",Limits_Details_w_CPMS!C59)","v":""},{"$f":"IF(Limits_Details_w_CPMS!D59=\"\",\"\",Limits_Details_w_CPMS!D59)","v":""},"",{"$f":"IF(COUNTIF(AH$2:AH37,AH37)=1,AH37,\"\")","v":""},"","","",null,"NM",null,{"$f":"+IF(AU37=\"\",\"\",MAX(AP$1:AP36)+1)","v":""},{"$f":"IF(CPMS_Detail!B59=\"\",\"\",CPMS_Detail!B59)","v":""},{"$f":"IF(CPMS_Detail!C59=\"\",\"\",CPMS_Detail!C59)","v":""},{"$f":"IF(CPMS_Detail!D59=\"\",\"\",CPMS_Detail!D59)","v":""},"",{"$f":"IF(COUNTIF(AT$2:AT37,AT37)=1,AT37,\"\")","v":""},"","","",null,{"$f":"+IF(BE37=\"\",\"\",MAX(AZ$1:AZ36)+1)","v":""},{"$f":"IF(Mercury!B59=\"\",\"\",Mercury!B59)","v":""},{"$f":"IF(Mercury!C59=\"\",\"\",Mercury!C59)","v":""},{"$f":"IF(Mercury!D59=\"\",\"\",Mercury!D59)","v":""},"",{"$f":"IF(COUNTIF(BB$2:BB37,BB37)=1,BB37,\"\")","v":""},"","",""]
[{"$f":"+IF(D38=\"\",\"\",MAX(A$1:A37)+1)","v":""},{"$f":"IF(CEM_COM_CPMS_Identification!C60=\"\",\"\",CEM_COM_CPMS_Identification!C60)","v":""},"",{"$f":"IF(COUNTIF(B$2:B38,B38)=1,B38,\"\")","v":""},null,null,null,null,null,null,{"$f":"+IF(N38=\"\",\"\",MAX(K$1:K37)+1)","v":""},{"$f":"IF(CEM_COM_CPMS_Identification!D60=\"\",\"\",CEM_COM_CPMS_Identification!D60)","v":""},"",{"$f":"IF(COUNTIF(L$2:L38,L38)=1,L38,\"\")","v":""},null,"Scrap under NVMSRP - Certify in NOC all post-consumer scrap purchased from NVMSRP providor (§63.7791(a)(2) and/or (3))",null,null,null,{"$f":"+IF(Y38=\"\",\"\",MAX(T$1:T37)+1)","v":""},{"$f":"IF(No_CPMS_Limits_Details!B60=\"\",\"\",No_CPMS_Limits_Details!B60)","v":""},{"$f":"IF(No_CPMS_Limits_Details!C60=\"\",\"\",No_CPMS_Limits_Details!C60)","v":""},{"$f":"IF(No_CPMS_Limits_Details!D60=\"\",\"\",No_CPMS_Limits_Details!D60)","v":""},"",{"$f":"IF(COUNTIF(V$2:V38,V38)=1,V38,\"\")","v":""},"","","",null,{"$f":"+IF(AI38=\"\",\"\",MAX(AD$1:AD37)+1)","v":""},{"$f":"IF(Limits_Details_w_CPMS!B60=\"\",\"\",Limits_Details_w_CPMS!B60)","v":""},{"$f":"IF(Limits_Details_w_CPMS!C60=\"\",\"\",Limits_Details_w_CPMS!C60)","v":""},{"$f":"IF(Limits_Details_w_CPMS!D60=\"\",\"\",Limits_Details_w_CPMS!D60)","v":""},"",{"$f":"IF(COUNTIF(AH$2:AH38,AH38)=1,AH38,\"\")","v":""},"","","",null,"NV",null,{"$f":"+IF(AU38=\"\",\"\",MAX(AP$1:AP37)+1)","v":""},{"$f":"IF(CPMS_Detail!B60=\"\",\"\",CPMS_Detail!B60)","v":""},{"$f":"IF(CPMS_Detail!C60=\"\",\"\",CPMS_Detail!C60)","v":""},{"$f":"IF(CPMS_Detail!D60=\"\",\"\",CPMS_Detail!D60)","v":""},"",{"$f":"IF(COUNTIF(AT$2:AT38,AT38)=1,AT38,\"\")","v":""},"","","",null,{"$f":"+IF(BE38=\"\",\"\",MAX(AZ$1:AZ37)+1)","v":""},{"$f":"IF(Mercury!B60=\"\",\"\",Mercury!B60)","v":""},{"$f":"IF(Mercury!C60=\"\",\"\",Mercury!C60)","v":""},{"$f":"IF(Mercury!D60=\"\",\"\",Mercury!D60)","v":""},"",{"$f":"IF(COUNTIF(BB$2:BB38,BB38)=1,BB38,\"\")","v":""},"","",""]
[{"$f":"+IF(D39=\"\",\"\",MAX(A$1:A38)+1)","v":""},{"$f":"IF(CEM_COM_CPMS_Identification!C61=\"\",\"\",CEM_COM_CPMS_Identification!C61)","v":""},"",{"$f":"IF(COUNTIF(B$2:B39,B39)=1,B39,\"\")","v":""},null,null,null,null,null,null,{"$f":"+IF(N39=\"\",\"\",MAX(K$1:K38)+1)","v":""},{"$f":"IF(CEM_COM_CPMS_Identification!D61=\"\",\"\",CEM_COM_CPMS_Identification!D61)","v":""},"",{"$f":"IF(COUNTIF(L$2:L39,L39)=1,L39,\"\")","v":""},null,"Scrap under NVMSRP - Develop and maintain a plan for participation in NVMSRP (§63.7791(a)(4))",null,null,null,{"$f":"+IF(Y39=\"\",\"\",MAX(T$1:T38)+1)","v":""},{"$f":"IF(No_CPMS_Limits_Details!B61=\"\",\"\",No_CPMS_Limits_Details!B61)","v":""},{"$f":"IF(No_CPMS_Limits_Details!C61=\"\",\"\",No_CPMS_Limits_Details!C61)","v":""},{"$f":"IF(No_CPMS_Limits_Details!D61=\"\",\"\",No_CPMS_Limits_Details!D61)","v":""},"",{"$f":"IF(COUNTIF(V$2:V39,V39)=1,V39,\"\")","v":""},"","","",null,{"$f":"+IF(AI39=\"\",\"\",MAX(AD$1:AD38)+1)","v":""},{"$f":"IF(Limits_Details_w_CPMS!B61=\"\",\"\",Limits_Details_w_CPMS!B61)","v":""},{"$f":"IF(Limits_Details_w_CPMS!C61=\"\",\"\",Limits_Details_w_CPMS!C61)","v":""},{"$f":"IF(Limits_Details_w_CPMS!D61=\"\",\"\",Limits_Details_w_CPMS!D61)","v":""},"",{"$f":"IF(COUNTIF(AH$2:AH39,AH39)=1,AH39,\"\")","v":""},"","","",null,"NY",null,{"$f":"+IF(AU39=\"\",\"\",MAX(AP$1:AP38)+1)","v":""},{"$f":"IF(CPMS_Detail!B61=\"\",\"\",CPMS_Detail!B61)","v":""},{"$f":"IF(CPMS_Detail!C61=\"\",\"\",CPMS_Detail!C61)","v":""},{"$f":"IF(CPMS_Detail!D61=\"\",\"\",CPMS_Detail!D61)","v":""},"",{"$f":"IF(COUNTIF(AT$2:AT39,AT39)=1,AT39,\"\")","v":""},"","","",null,{"$f":"+IF(BE39=\"\",\"\",MAX(AZ$1:AZ38)+1)","v":""},{"$f":"IF(Mercury!B61=\"\",\"\",Mercury!B61)","v":""},{"$f":"IF(Mercury!C61=\"\",\"\",Mercury!C61)","v":""},{"$f":"IF(Mercury!D61=\"\",\"\",Mercury!D61)","v":""},"",{"$f":"IF(COUNTIF(BB$2:BB39,BB39)=1,BB39,\"\")","v":""},"","",""]
[{"$f":"+IF(D40=\"\",\"\",MAX(A$1:A39)+1)","v":""},{"$f":"IF(CEM_COM_CPMS_Identification!C62=\"\",\"\",CEM_COM_CPMS_Identification!C62)","v":""},"",{"$f":"IF(COUNTIF(B$2:B40,B40)=1,B40,\"\")","v":""},null,null,null,null,null,null,{"$f":"+IF(N40=\"\",\"\",MAX(K$1:K39)+1)","v":""},{"$f":"IF(CEM_COM_CPMS_Identification!D62=\"\",\"\",CEM_COM_CPMS_Identification!D62)","v":""},"",{"$f":"IF(COUNTIF(L$2:L40,L40)=1,L40,\"\")","v":""},null,"Scrap under NVMSRP - Conduct periodic inspection or other means of corroboration that provider/broker minimizes presence of mercury in scrap (§63.7791(a)(5))",null,null,null,{"$f":"+IF(Y40=\"\",\"\",MAX(T$1:T39)+1)","v":""},{"$f":"IF(No_CPMS_Limits_Details!B62=\"\",\"\",No_CPMS_Limits_Details!B62)","v":""},{"$f":"IF(No_CPMS_Limits_Details!C62=\"\",\"\",No_CPMS_Limits_Details!C62)","v":""},{"$f":"IF(No_CPMS_Limits_Details!D62=\"\",\"\",No_CPMS_Limits_Details!D62)","v":""},"",{"$f":"IF(COUNTIF(V$2:V40,V40)=1,V40,\"\")","v":""},"","","",null,{"$f":"+IF(AI40=\"\",\"\",MAX(AD$1:AD39)+1)","v":""},{"$f":"IF(Limits_Details_w_CPMS!B62=\"\",\"\",Limits_Details_w_CPMS!B62)","v":""},{"$f":"IF(Limits_Details_w_CPMS!C62=\"\",\"\",Limits_Details_w_CPMS!C62)","v":""},{"$f":"IF(Limits_Details_w_CPMS!D62=\"\",\"\",Limits_Details_w_CPMS!D62)","v":""},"",{"$f":"IF(COUNTIF(AH$2:AH40,AH40)=1,AH40,\"\")","v":""},"","","",null,"OH",null,{"$f":"+IF(AU40=\"\",\"\",MAX(AP$1:AP39)+1)","v":""},{"$f":"IF(CPMS_Detail!B62=\"\",\"\",CPMS_Detail!B62)","v":""},{"$f":"IF(CPMS_Detail!C62=\"\",\"\",CPMS_Detail!C62)","v":""},{"$f":"IF(CPMS_Detail!D62=\"\",\"\",CPMS_Detail!D62)","v":""},"",{"$f":"IF(COUNTIF(AT$2:AT40,AT40)=1,AT40,\"\")","v":""},"","","",null,{"$f":"+IF(BE40=\"\",\"\",MAX(AZ$1:AZ39)+1)","v":""},{"$f":"IF(Mercury!B62=\"\",\"\",Mercury!B62)","v":""},{"$f":"IF(Mercury!C62=\"\",\"\",Mercury!C62)","v":""},{"$f":"IF(Mercury!D62=\"\",\"\",Mercury!D62)","v":""},"",{"$f":"IF(COUNTIF(BB$2:BB40,BB40)=1,BB40,\"\")","v":""},"","",""]
[{"$f":"+IF(D41=\"\",\"\",MAX(A$1:A40)+1)","v":""},{"$f":"IF(CEM_COM_CPMS_Identification!C63=\"\",\"\",CEM_COM_CPMS_Identification!C63)","v":""},"",{"$f":"IF(COUNTIF(B$2:B41,B41)=1,B41,\"\")","v":""},null,null,null,null,null,null,{"$f":"+IF(N41=\"\",\"\",MAX(K$1:K40)+1)","v":""},{"$f":"IF(CEM_COM_CPMS_Identification!D63=\"\",\"\",CEM_COM_CPMS_Identification!D63)","v":""},"",{"$f":"IF(COUNTIF(L$2:L41,L41)=1,L41,\"\")","v":""},null,"Scrap not likely to contain mercury - Obtain information of scrap content showing scrap not likely to contain mercury (§63.7791(b)(1))",null,null,null,{"$f":"+IF(Y41=\"\",\"\",MAX(T$1:T40)+1)","v":""},{"$f":"IF(No_CPMS_Limits_Details!B63=\"\",\"\",No_CPMS_Limits_Details!B63)","v":""},{"$f":"IF(No_CPMS_Limits_Details!C63=\"\",\"\",No_CPMS_Limits_Details!C63)","v":""},{"$f":"IF(No_CPMS_Limits_Details!D63=\"\",\"\",No_CPMS_Limits_Details!D63)","v":""},"",{"$f":"IF(COUNTIF(V$2:V41,V41)=1,V41,\"\")","v":""},"","","",null,{"$f":"+IF(AI41=\"\",\"\",MAX(AD$1:AD40)+1)","v":""},{"$f":"IF(Limits_Details_w_CPMS!B63=\"\",\"\",Limits_Details_w_CPMS!B63)","v":""},{"$f":"IF(Limits_Details_w_CPMS!C63=\"\",\"\",Limits_Details_w_CPMS!C63)","v":""},{"$f":"IF(Limits_Details_w_CPMS!D63=\"\",\"\",Limits_Details_w_CPMS!D63)","v":""},"",{"$f":"IF(COUNTIF(AH$2:AH41,AH41)=1,AH41,\"\")","v":""},"","","",null,"OK",null,{"$f":"+IF(AU41=\"\",\"\",MAX(AP$1:AP40)+1)","v":""},{"$f":"IF(CPMS_Detail!B63=\"\",\"\",CPMS_Detail!B63)","v":""},{"$f":"IF(CPMS_Detail!C63=\"\",\"\",CPMS_Detail!C63)","v":""},{"$f":"IF(CPMS_Detail!D63=\"\",\"\",CPMS_Detail!D63)","v":""},"",{"$f":"IF(COUNTIF(AT$2:AT41,AT41)=1,AT41,\"\")","v":""},"","","",null,{"$f":"+IF(BE41=\"\",\"\",MAX(AZ$1:AZ40)+1)","v":""},{"$f":"IF(Mercury!B63=\"\",\"\",Mercury!B63)","v":""},{"$f":"IF(Mercury!C63=\"\",\"\",Mercury!C63)","v":""},{"$f":"IF(Mercury!D63=\"\",\"\",Mercury!D63)","v":""},"",{"$f":"IF(COUNTIF(BB$2:BB41,BB41)=1,BB41,\"\")","v":""},"","",""]
[{"$f":"+IF(D42=\"\",\"\",MAX(A$1:A41)+1)","v":""},{"$f":"IF(CEM_COM_CPMS_Identification!C64=\"\",\"\",CEM_COM_CPMS_Identification!C64)","v":""},"",{"$f":"IF(COUNTIF(B$2:B42,B42)=1,B42,\"\")","v":""},null,null,null,null,null,null,{"$f":"+IF(N42=\"\",\"\",MAX(K$1:K41)+1)","v":""},{"$f":"IF(CEM_COM_CPMS_Identification!D64=\"\",\"\",CEM_COM_CPMS_Identification!D64)","v":""},"",{"$f":"IF(COUNTIF(L$2:L42,L42)=1,L42,\"\")","v":""},null,"Scrap not likely to contain mercury - Certify in NOC that scrap is not likely to contain motor vehicle scrap (§63.7791(b)(2))",null,null,null,{"$f":"+IF(Y42=\"\",\"\",MAX(T$1:T41)+1)","v":""},{"$f":"IF(No_CPMS_Limits_Details!B64=\"\",\"\",No_CPMS_Limits_Details!B64)","v":""},{"$f":"IF(No_CPMS_Limits_Details!C64=\"\",\"\",No_CPMS_Limits_Details!C64)","v":""},{"$f":"IF(No_CPMS_Limits_Details!D64=\"\",\"\",No_CPMS_Limits_Details!D64)","v":""},"",{"$f":"IF(COUNTIF(V$2:V42,V42)=1,V42,\"\")","v":""},"","","",null,{"$f":"+IF(AI42=\"\",\"\",MAX(AD$1:AD41)+1)","v":""},{"$f":"IF(Limits_Details_w_CPMS!B64=\"\",\"\",Limits_Details_w_CPMS!B64)","v":""},{"$f":"IF(Limits_Details_w_CPMS!C64=\"\",\"\",Limits_Details_w_CPMS!C64)","v":""},{"$f":"IF(Limits_Details_w_CPMS!D64=\"\",\"\",Limits_Details_w_CPMS!D64)","v":""},"",{"$f":"IF(COUNTIF(AH$2:AH42,AH42)=1,AH42,\"\")","v":""},"","","",null,"OR",null,{"$f":"+IF(AU42=\"\",\"\",MAX(AP$1:AP41)+1)","v":""},{"$f":"IF(CPMS_Detail!B64=\"\",\"\",CPMS_Detail!B64)","v":""},{"$f":"IF(CPMS_Detail!C64=\"\",\"\",CPMS_Detail!C64)","v":""},{"$f":"IF(CPMS_Detail!D64=\"\",\"\",CPMS_Detail!D64)","v":""},"",{"$f":"IF(COUNTIF(AT$2:AT42,AT42)=1,AT42,\"\")","v":""},"","","",null,{"$f":"+IF(BE42=\"\",\"\",MAX(AZ$1:AZ41)+1)","v":""},{"$f":"IF(Mercury!B64=\"\",\"\",Mercury!B64)","v":""},{"$f":"IF(Mercury!C64=\"\",\"\",Mercury!C64)","v":""},{"$f":"IF(Mercury!D64=\"\",\"\",Mercury!D64)","v":""},"",{"$f":"IF(COUNTIF(BB$2:BB42,BB42)=1,BB42,\"\")","v":""},"","",""]
[{"$f":"+IF(D43=\"\",\"\",MAX(A$1:A42)+1)","v":""},{"$f":"IF(CEM_COM_CPMS_Identification!C65=\"\",\"\",CEM_COM_CPMS_Identification!C65)","v":""},"",{"$f":"IF(COUNTIF(B$2:B43,B43)=1,B43,\"\")","v":""},null,null,null,null,null,null,{"$f":"+IF(N43=\"\",\"\",MAX(K$1:K42)+1)","v":""},{"$f":"IF(CEM_COM_CPMS_Identification!D65=\"\",\"\",CEM_COM_CPMS_Identification!D65)","v":""},"",{"$f":"IF(COUNTIF(L$2:L43,L43)=1,L43,\"\")","v":""},null,"Use of approved mercury program - Obtain all post-consumer scrap likely to contain motor vehicle scrap from providers who participate in an approved program (§63.7791(c)(1))",null,null,null,{"$f":"+IF(Y43=\"\",\"\",MAX(T$1:T42)+1)","v":""},{"$f":"IF(No_CPMS_Limits_Details!B65=\"\",\"\",No_CPMS_Limits_Details!B65)","v":""},{"$f":"IF(No_CPMS_Limits_Details!C65=\"\",\"\",No_CPMS_Limits_Details!C65)","v":""},{"$f":"IF(No_CPMS_Limits_Details!D65=\"\",\"\",No_CPMS_Limits_Details!D65)","v":""},"",{"$f":"IF(COUNTIF(V$2:V43,V43)=1,V43,\"\")","v":""},"","","",null,{"$f":"+IF(AI43=\"\",\"\",MAX(AD$1:AD42)+1)","v":""},{"$f":"IF(Limits_Details_w_CPMS!B65=\"\",\"\",Limits_Details_w_CPMS!B65)","v":""},{"$f":"IF(Limits_Details_w_CPMS!C65=\"\",\"\",Limits_Details_w_CPMS!C65)","v":""},{"$f":"IF(Limits_Details_w_CPMS!D65=\"\",\"\",Limits_Details_w_CPMS!D65)","v":""},"",{"$f":"IF(COUNTIF(AH$2:AH43,AH43)=1,AH43,\"\")","v":""},"","","",null,"PA",null,{"$f":"+IF(AU43=\"\",\"\",MAX(AP$1:AP42)+1)","v":""},{"$f":"IF(CPMS_Detail!B65=\"\",\"\",CPMS_Detail!B65)","v":""},{"$f":"IF(CPMS_Detail!C65=\"\",\"\",CPMS_Detail!C65)","v":""},{"$f":"IF(CPMS_Detail!D65=\"\",\"\",CPMS_Detail!D65)","v":""},"",{"$f":"IF(COUNTIF(AT$2:AT43,AT43)=1,AT43,\"\")","v":""},"","","",null,{"$f":"+IF(BE43=\"\",\"\",MAX(AZ$1:AZ42)+1)","v":""},{"$f":"IF(Mercury!B65=\"\",\"\",Mercury!B65)","v":""},{"$f":"IF(Mercury!C65=\"\",\"\",Mercury!C65)","v":""},{"$f":"IF(Mercury!D65=\"\",\"\",Mercury!D65)","v":""},"",{"$f":"IF(COUNTIF(BB$2:BB43,BB43)=1,BB43,\"\")","v":""},"","",""]
[{"$f":"+IF(D44=\"\",\"\",MAX(A$1:A43)+1)","v":""},{"$f":"IF(CEM_COM_CPMS_Identification!C66=\"\",\"\",CEM_COM_CPMS_Identification!C66)","v":""},"",{"$f":"IF(COUNTIF(B$2:B44,B44)=1,B44,\"\")","v":""},null,null,null,null,null,null,{"$f":"+IF(N44=\"\",\"\",MAX(K$1:K43)+1)","v":""},{"$f":"IF(CEM_COM_CPMS_Identification!D66=\"\",\"\",CEM_COM_CPMS_Identification!D66)","v":""},"",{"$f":"IF(COUNTIF(L$2:L44,L44)=1,L44,\"\")","v":""},null,"Use of approved mercury program - Certify in NOC all post-consumer scrap purchased from provider participating in an approved program (§63.7791(c)(2) and/or (3))",null,null,null,{"$f":"+IF(Y44=\"\",\"\",MAX(T$1:T43)+1)","v":""},{"$f":"IF(No_CPMS_Limits_Details!B66=\"\",\"\",No_CPMS_Limits_Details!B66)","v":""},{"$f":"IF(No_CPMS_Limits_Details!C66=\"\",\"\",No_CPMS_Limits_Details!C66)","v":""},{"$f":"IF(No_CPMS_Limits_Details!D66=\"\",\"\",No_CPMS_Limits_Details!D66)","v":""},"",{"$f":"IF(COUNTIF(V$2:V44,V44)=1,V44,\"\")","v":""},"","","",null,{"$f":"+IF(AI44=\"\",\"\",MAX(AD$1:AD43)+1)","v":""},{"$f":"IF(Limits_Details_w_CPMS!B66=\"\",\"\",Limits_Details_w_CPMS!B66)","v":""},{"$f":"IF(Limits_Details_w_CPMS!C66=\"\",\"\",Limits_Details_w_CPMS!C66)","v":""},{"$f":"IF(Limits_Details_w_CPMS!D66=\"\",\"\",Limits_Details_w_CPMS!D66)","v":""},"",{"$f":"IF(COUNTIF(AH$2:AH44,AH44)=1,AH44,\"\")","v":""},"","","",null,"PR",null,{"$f":"+IF(AU44=\"\",\"\",MAX(AP$1:AP43)+1)","v":""},{"$f":"IF(CPMS_Detail!B66=\"\",\"\",CPMS_Detail!B66)","v":""},{"$f":"IF(CPMS_Detail!C66=\"\",\"\",CPMS_Detail!C66)","v":""},{"$f":"IF(CPMS_Detail!D66=\"\",\"\",CPMS_Detail!D66)","v":""},"",{"$f":"IF(COUNTIF(AT$2:AT44,AT44)=1,AT44,\"\")","v":""},"","","",null,{"$f":"+IF(BE44=\"\",\"\",MAX(AZ$1:AZ43)+1)","v":""},{"$f":"IF(Mercury!B66=\"\",\"\",Mercury!B66)","v":""},{"$f":"IF(Mercury!C66=\"\",\"\",Mercury!C66)","v":""},{"$f":"IF(Mercury!D66=\"\",\"\",Mercury!D66)","v":""},"",{"$f":"IF(COUNTIF(BB$2:BB44,BB44)=1,BB44,\"\")","v":""},"","",""]
[{"$f":"+IF(D45=\"\",\"\",MAX(A$1:A44)+1)","v":""},{"$f":"IF(CEM_COM_CPMS_Identification!C67=\"\",\"\",CEM_COM_CPMS_Identification!C67)","v":""},"",{"$f":"IF(COUNTIF(B$2:B45,B45)=1,B45,\"\")","v":""},null,null,null,null,null,null,{"$f":"+IF(N45=\"\",\"\",MAX(K$1:K44)+1)","v":""},{"$f":"IF(CEM_COM_CPMS_Identification!D67=\"\",\"\",CEM_COM_CPMS_Identification!D67)","v":""},"",{"$f":"IF(COUNTIF(L$2:L45,L45)=1,L45,\"\")","v":""},null,"Use of approved mercury program - Develop and maintain a plan for participation in an approved program (§63.7791(c)(4))",null,null,null,{"$f":"+IF(Y45=\"\",\"\",MAX(T$1:T44)+1)","v":""},{"$f":"IF(No_CPMS_Limits_Details!B67=\"\",\"\",No_CPMS_Limits_Details!B67)","v":""},{"$f":"IF(No_CPMS_Limits_Details!C67=\"\",\"\",No_CPMS_Limits_Details!C67)","v":""},{"$f":"IF(No_CPMS_Limits_Details!D67=\"\",\"\",No_CPMS_Limits_Details!D67)","v":""},"",{"$f":"IF(COUNTIF(V$2:V45,V45)=1,V45,\"\")","v":""},"","","",null,{"$f":"+IF(AI45=\"\",\"\",MAX(AD$1:AD44)+1)","v":""},{"$f":"IF(Limits_Details_w_CPMS!B67=\"\",\"\",Limits_Details_w_CPMS!B67)","v":""},{"$f":"IF(Limits_Details_w_CPMS!C67=\"\",\"\",Limits_Details_w_CPMS!C67)","v":""},{"$f":"IF(Limits_Details_w_CPMS!D67=\"\",\"\",Limits_Details_w_CPMS!D67)","v":""},"",{"$f":"IF(COUNTIF(AH$2:AH45,AH45)=1,AH45,\"\")","v":""},"","","",null,"RI",null,{"$f":"+IF(AU45=\"\",\"\",MAX(AP$1:AP44)+1)","v":""},{"$f":"IF(CPMS_Detail!B67=\"\",\"\",CPMS_Detail!B67)","v":""},{"$f":"IF(CPMS_Detail!C67=\"\",\"\",CPMS_Detail!C67)","v":""},{"$f":"IF(CPMS_Detail!D67=\"\",\"\",CPMS_Detail!D67)","v":""},"",{"$f":"IF(COUNTIF(AT$2:AT45,AT45)=1,AT45,\"\")","v":""},"","","",null,{"$f":"+IF(BE45=\"\",\"\",MAX(AZ$1:AZ44)+1)","v":""},{"$f":"IF(Mercury!B67=\"\",\"\",Mercury!B67)","v":""},{"$f":"IF(Mercury!C67=\"\",\"\",Mercury!C67)","v":""},{"$f":"IF(Mercury!D67=\"\",\"\",Mercury!D67)","v":""},"",{"$f":"IF(COUNTIF(BB$2:BB45,BB45)=1,BB45,\"\")","v":""},"","",""]
[{"$f":"+IF(D46=\"\",\"\",MAX(A$1:A45)+1)","v":""},{"$f":"IF(CEM_COM_CPMS_Identification!C68=\"\",\"\",CEM_COM_CPMS_Identification!C68)","v":""},"",{"$f":"IF(COUNTIF(B$2:B46,B46)=1,B46,\"\")","v":""},null,null,null,null,null,null,{"$f":"+IF(N46=\"\",\"\",MAX(K$1:K45)+1)","v":""},{"$f":"IF(CEM_COM_CPMS_Identification!D68=\"\",\"\",CEM_COM_CPMS_Identification!D68)","v":""},"",{"$f":"IF(COUNTIF(L$2:L46,L46)=1,L46,\"\")","v":""},null,"Use of approved mercury program - Conduct periodic inspection or other means of corroboration that provider/broker minimizes presence of mercury in scrap (§63.7791(a)(5))",null,null,null,{"$f":"+IF(Y46=\"\",\"\",MAX(T$1:T45)+1)","v":""},{"$f":"IF(No_CPMS_Limits_Details!B68=\"\",\"\",No_CPMS_Limits_Details!B68)","v":""},{"$f":"IF(No_CPMS_Limits_Details!C68=\"\",\"\",No_CPMS_Limits_Details!C68)","v":""},{"$f":"IF(No_CPMS_Limits_Details!D68=\"\",\"\",No_CPMS_Limits_Details!D68)","v":""},"",{"$f":"IF(COUNTIF(V$2:V46,V46)=1,V46,\"\")","v":""},"","","",null,{"$f":"+IF(AI46=\"\",\"\",MAX(AD$1:AD45)+1)","v":""},{"$f":"IF(Limits_Details_w_CPMS!B68=\"\",\"\",Limits_Details_w_CPMS!B68)","v":""},{"$f":"IF(Limits_Details_w_CPMS!C68=\"\",\"\",Limits_Details_w_CPMS!C68)","v":""},{"$f":"IF(Limits_Details_w_CPMS!D68=\"\",\"\",Limits_Details_w_CPMS!D68)","v":""},"",{"$f":"IF(COUNTIF(AH$2:AH46,AH46)=1,AH46,\"\")","v":""},"","","",null,"SC",null,{"$f":"+IF(AU46=\"\",\"\",MAX(AP$1:AP45)+1)","v":""},{"$f":"IF(CPMS_Detail!B68=\"\",\"\",CPMS_Detail!B68)","v":""},{"$f":"IF(CPMS_Detail!C68=\"\",\"\",CPMS_Detail!C68)","v":""},{"$f":"IF(CPMS_Detail!D68=\"\",\"\",CPMS_Detail!D68)","v":""},"",{"$f":"IF(COUNTIF(AT$2:AT46,AT46)=1,AT46,\"\")","v":""},"","","",null,{"$f":"+IF(BE46=\"\",\"\",MAX(AZ$1:AZ45)+1)","v":""},{"$f":"IF(Mercury!B68=\"\",\"\",Mercury!B68)","v":""},{"$f":"IF(Mercury!C68=\"\",\"\",Mercury!C68)","v":""},{"$f":"IF(Mercury!D68=\"\",\"\",Mercury!D68)","v":""},"",{"$f":"IF(COUNTIF(BB$2:BB46,BB46)=1,BB46,\"\")","v":""},"","",""]
[{"$f":"+IF(D47=\"\",\"\",MAX(A$1:A46)+1)","v":""},{"$f":"IF(CEM_COM_CPMS_Identification!C69=\"\",\"\",CEM_COM_CPMS_Identification!C69)","v":""},"",{"$f":"IF(COUNTIF(B$2:B47,B47)=1,B47,\"\")","v":""},null,null,null,null,null,null,{"$f":"+IF(N47=\"\",\"\",MAX(K$1:K46)+1)","v":""},{"$f":"IF(CEM_COM_CPMS_Identification!D69=\"\",\"\",CEM_COM_CPMS_Identification!D69)","v":""},"",{"$f":"IF(COUNTIF(L$2:L47,L47)=1,L47,\"\")","v":""},null,null,null,null,null,{"$f":"+IF(Y47=\"\",\"\",MAX(T$1:T46)+1)","v":""},{"$f":"IF(No_CPMS_Limits_Details!B69=\"\",\"\",No_CPMS_Limits_Details!B69)","v":""},{"$f":"IF(No_CPMS_Limits_Details!C69=\"\",\"\",No_CPMS_Limits_Details!C69)","v":""},{"$f":"IF(No_CPMS_Limits_Details!D69=\"\",\"\",No_CPMS_Limits_Details!D69)","v":""},"",{"$f":"IF(COUNTIF(V$2:V47,V47)=1,V47,\"\")","v":""},"","","",null,{"$f":"+IF(AI47=\"\",\"\",MAX(AD$1:AD46)+1)","v":""},{"$f":"IF(Limits_Details_w_CPMS!B69=\"\",\"\",Limits_Details_w_CPMS!B69)","v":""},{"$f":"IF(Limits_Details_w_CPMS!C69=\"\",\"\",Limits_Details_w_CPMS!C69)","v":""},{"$f":"IF(Limits_Details_w_CPMS!D69=\"\",\"\",Limits_Details_w_CPMS!D69)","v":""},"",{"$f":"IF(COUNTIF(AH$2:AH47,AH47)=1,AH47,\"\")","v":""},"","","",null,"SD",null,{"$f":"+IF(AU47=\"\",\"\",MAX(AP$1:AP46)+1)","v":""},{"$f":"IF(CPMS_Detail!B69=\"\",\"\",CPMS_Detail!B69)","v":""},{"$f":"IF(CPMS_Detail!C69=\"\",\"\",CPMS_Detail!C69)","v":""},{"$f":"IF(CPMS_Detail!D69=\"\",\"\",CPMS_Detail!D69)","v":""},"",{"$f":"IF(COUNTIF(AT$2:AT47,AT47)=1,AT47,\"\")","v":""},"","","",null,{"$f":"+IF(BE47=\"\",\"\",MAX(AZ$1:AZ46)+1)","v":""},{"$f":"IF(Mercury!B69=\"\",\"\",Mercury!B69)","v":""},{"$f":"IF(Mercury!C69=\"\",\"\",Mercury!C69)","v":""},{"$f":"IF(Mercury!D69=\"\",\"\",Mercury!D69)","v":""},"",{"$f":"IF(COUNTIF(BB$2:BB47,BB47)=1,BB47,\"\")","v":""},"","",""]
[{"$f":"+IF(D48=\"\",\"\",MAX(A$1:A47)+1)","v":""},{"$f":"IF(CEM_COM_CPMS_Identification!C70=\"\",\"\",CEM_COM_CPMS_Identification!C70)","v":""},"",{"$f":"IF(COUNTIF(B$2:B48,B48)=1,B48,\"\")","v":""},null,null,null,null,null,null,{"$f":"+IF(N48=\"\",\"\",MAX(K$1:K47)+1)","v":""},{"$f":"IF(CEM_COM_CPMS_Identification!D70=\"\",\"\",CEM_COM_CPMS_Identification!D70)","v":""},"",{"$f":"IF(COUNTIF(L$2:L48,L48)=1,L48,\"\")","v":""},null,null,null,null,null,{"$f":"+IF(Y48=\"\",\"\",MAX(T$1:T47)+1)","v":""},{"$f":"IF(No_CPMS_Limits_Details!B70=\"\",\"\",No_CPMS_Limits_Details!B70)","v":""},{"$f":"IF(No_CPMS_Limits_Details!C70=\"\",\"\",No_CPMS_Limits_Details!C70)","v":""},{"$f":"IF(No_CPMS_Limits_Details!D70=\"\",\"\",No_CPMS_Limits_Details!D70)","v":""},"",{"$f":"IF(COUNTIF(V$2:V48,V48)=1,V48,\"\")","v":""},"","","",null,{"$f":"+IF(AI48=\"\",\"\",MAX(AD$1:AD47)+1)","v":""},{"$f":"IF(Limits_Details_w_CPMS!B70=\"\",\"\",Limits_Details_w_CPMS!B70)","v":""},{"$f":"IF(Limits_Details_w_CPMS!C70=\"\",\"\",Limits_Details_w_CPMS!C70)","v":""},{"$f":"IF(Limits_Details_w_CPMS!D70=\"\",\"\",Limits_Details_w_CPMS!D70)","v":""},"",{"$f":"IF(COUNTIF(AH$2:AH48,AH48)=1,AH48,\"\")","v":""},"","","",null,"TN",null,{"$f":"+IF(AU48=\"\",\"\",MAX(AP$1:AP47)+1)","v":""},{"$f":"IF(CPMS_Detail!B70=\"\",\"\",CPMS_Detail!B70)","v":""},{"$f":"IF(CPMS_Detail!C70=\"\",\"\",CPMS_Detail!C70)","v":""},{"$f":"IF(CPMS_Detail!D70=\"\",\"\",CPMS_Detail!D70)","v":""},"",{"$f":"IF(COUNTIF(AT$2:AT48,AT48)=1,AT48,\"\")","v":""},"","","",null,{"$f":"+IF(BE48=\"\",\"\",MAX(AZ$1:AZ47)+1)","v":""},{"$f":"IF(Mercury!B70=\"\",\"\",Mercury!B70)","v":""},{"$f":"IF(Mercury!C70=\"\",\"\",Mercury!C70)","v":""},{"$f":"IF(Mercury!D70=\"\",\"\",Mercury!D70)","v":""},"",{"$f":"IF(COUNTIF(BB$2:BB48,BB48)=1,BB48,\"\")","v":""},"","",""]
[{"$f":"+IF(D49=\"\",\"\",MAX(A$1:A48)+1)","v":""},{"$f":"IF(CEM_COM_CPMS_Identification!C71=\"\",\"\",CEM_COM_CPMS_Identification!C71)","v":""},"",{"$f":"IF(COUNTIF(B$2:B49,B49)=1,B49,\"\")","v":""},null,null,null,null,null,null,{"$f":"+IF(N49=\"\",\"\",MAX(K$1:K48)+1)","v":""},{"$f":"IF(CEM_COM_CPMS_Identification!D71=\"\",\"\",CEM_COM_CPMS_Identification!D71)","v":""},"",{"$f":"IF(COUNTIF(L$2:L49,L49)=1,L49,\"\")","v":""},null,null,null,null,null,{"$f":"+IF(Y49=\"\",\"\",MAX(T$1:T48)+1)","v":""},{"$f":"IF(No_CPMS_Limits_Details!B71=\"\",\"\",No_CPMS_Limits_Details!B71)","v":""},{"$f":"IF(No_CPMS_Limits_Details!C71=\"\",\"\",No_CPMS_Limits_Details!C71)","v":""},{"$f":"IF(No_CPMS_Limits_Details!D71=\"\",\"\",No_CPMS_Limits_Details!D71)","v":""},"",{"$f":"IF(COUNTIF(V$2:V49,V49)=1,V49,\"\")","v":""},"","","",null,{"$f":"+IF(AI49=\"\",\"\",MAX(AD$1:AD48)+1)","v":""},{"$f":"IF(Limits_Details_w_CPMS!B71=\"\",\"\",Limits_Details_w_CPMS!B71)","v":""},{"$f":"IF(Limits_Details_w_CPMS!C71=\"\",\"\",Limits_Details_w_CPMS!C71)","v":""},{"$f":"IF(Limits_Details_w_CPMS!D71=\"\",\"\",Limits_Details_w_CPMS!D71)","v":""},"",{"$f":"IF(COUNTIF(AH$2:AH49,AH49)=1,AH49,\"\")","v":""},"","","",null,"TX",null,{"$f":"+IF(AU49=\"\",\"\",MAX(AP$1:AP48)+1)","v":""},{"$f":"IF(CPMS_Detail!B71=\"\",\"\",CPMS_Detail!B71)","v":""},{"$f":"IF(CPMS_Detail!C71=\"\",\"\",CPMS_Detail!C71)","v":""},{"$f":"IF(CPMS_Detail!D71=\"\",\"\",CPMS_Detail!D71)","v":""},"",{"$f":"IF(COUNTIF(AT$2:AT49,AT49)=1,AT49,\"\")","v":""},"","","",null,{"$f":"+IF(BE49=\"\",\"\",MAX(AZ$1:AZ48)+1)","v":""},{"$f":"IF(Mercury!B71=\"\",\"\",Mercury!B71)","v":""},{"$f":"IF(Mercury!C71=\"\",\"\",Mercury!C71)","v":""},{"$f":"IF(Mercury!D71=\"\",\"\",Mercury!D71)","v":""},"",{"$f":"IF(COUNTIF(BB$2:BB49,BB49)=1,BB49,\"\")","v":""},"","",""]
[{"$f":"+IF(D50=\"\",\"\",MAX(A$1:A49)+1)","v":""},{"$f":"IF(CEM_COM_CPMS_Identification!C72=\"\",\"\",CEM_COM_CPMS_Identification!C72)","v":""},"",{"$f":"IF(COUNTIF(B$2:B50,B50)=1,B50,\"\")","v":""},null,null,null,null,null,null,{"$f":"+IF(N50=\"\",\"\",MAX(K$1:K49)+1)","v":""},{"$f":"IF(CEM_COM_CPMS_Identification!D72=\"\",\"\",CEM_COM_CPMS_Identification!D72)","v":""},"",{"$f":"IF(COUNTIF(L$2:L50,L50)=1,L50,\"\")","v":""},null,null,null,null,null,{"$f":"+IF(Y50=\"\",\"\",MAX(T$1:T49)+1)","v":""},{"$f":"IF(No_CPMS_Limits_Details!B72=\"\",\"\",No_CPMS_Limits_Details!B72)","v":""},{"$f":"IF(No_CPMS_Limits_Details!C72=\"\",\"\",No_CPMS_Limits_Details!C72)","v":""},{"$f":"IF(No_CPMS_Limits_Details!D72=\"\",\"\",No_CPMS_Limits_Details!D72)","v":""},"",{"$f":"IF(COUNTIF(V$2:V50,V50)=1,V50,\"\")","v":""},"","","",null,{"$f":"+IF(AI50=\"\",\"\",MAX(AD$1:AD49)+1)","v":""},{"$f":"IF(Limits_Details_w_CPMS!B72=\"\",\"\",Limits_Details_w_CPMS!B72)","v":""},{"$f":"IF(Limits_Details_w_CPMS!C72=\"\",\"\",Limits_Details_w_CPMS!C72)","v":""},{"$f":"IF(Limits_Details_w_CPMS!D72=\"\",\"\",Limits_Details_w_CPMS!D72)","v":""},"",{"$f":"IF(COUNTIF(AH$2:AH50,AH50)=1,AH50,\"\")","v":""},"","","",null,"UT",null,{"$f":"+IF(AU50=\"\",\"\",MAX(AP$1:AP49)+1)","v":""},{"$f":"IF(CPMS_Detail!B72=\"\",\"\",CPMS_Detail!B72)","v":""},{"$f":"IF(CPMS_Detail!C72=\"\",\"\",CPMS_Detail!C72)","v":""},{"$f":"IF(CPMS_Detail!D72=\"\",\"\",CPMS_Detail!D72)","v":""},"",{"$f":"IF(COUNTIF(AT$2:AT50,AT50)=1,AT50,\"\")","v":""},"","","",null,{"$f":"+IF(BE50=\"\",\"\",MAX(AZ$1:AZ49)+1)","v":""},{"$f":"IF(Mercury!B72=\"\",\"\",Mercury!B72)","v":""},{"$f":"IF(Mercury!C72=\"\",\"\",Mercury!C72)","v":""},{"$f":"IF(Mercury!D72=\"\",\"\",Mercury!D72)","v":""},"",{"$f":"IF(COUNTIF(BB$2:BB50,BB50)=1,BB50,\"\")","v":""},"","",""]
[{"$f":"+IF(D51=\"\",\"\",MAX(A$1:A50)+1)","v":""},{"$f":"IF(CEM_COM_CPMS_Identification!C73=\"\",\"\",CEM_COM_CPMS_Identification!C73)","v":""},"",{"$f":"IF(COUNTIF(B$2:B51,B51)=1,B51,\"\")","v":""},null,null,null,null,null,null,{"$f":"+IF(N51=\"\",\"\",MAX(K$1:K50)+1)","v":""},{"$f":"IF(CEM_COM_CPMS_Identification!D73=\"\",\"\",CEM_COM_CPMS_Identification!D73)","v":""},"",{"$f":"IF(COUNTIF(L$2:L51,L51)=1,L51,\"\")","v":""},null,null,null,null,null,{"$f":"+IF(Y51=\"\",\"\",MAX(T$1:T50)+1)","v":""},{"$f":"IF(No_CPMS_Limits_Details!B73=\"\",\"\",No_CPMS_Limits_Details!B73)","v":""},{"$f":"IF(No_CPMS_Limits_Details!C73=\"\",\"\",No_CPMS_Limits_Details!C73)","v":""},{"$f":"IF(No_CPMS_Limits_Details!D73=\"\",\"\",No_CPMS_Limits_Details!D73)","v":""},"",{"$f":"IF(COUNTIF(V$2:V51,V51)=1,V51,\"\")","v":""},"","","",null,{"$f":"+IF(AI51=\"\",\"\",MAX(AD$1:AD50)+1)","v":""},{"$f":"IF(Limits_Details_w_CPMS!B73=\"\",\"\",Limits_Details_w_CPMS!B73)","v":""},{"$f":"IF(Limits_Details_w_CPMS!C73=\"\",\"\",Limits_Details_w_CPMS!C73)","v":""},{"$f":"IF(Limits_Details_w_CPMS!D73=\"\",\"\",Limits_Details_w_CPMS!D73)","v":""},"",{"$f":"IF(COUNTIF(AH$2:AH51,AH51)=1,AH51,\"\")","v":""},"","","",null,"VA",null,{"$f":"+IF(AU51=\"\",\"\",MAX(AP$1:AP50)+1)","v":""},{"$f":"IF(CPMS_Detail!B73=\"\",\"\",CPMS_Detail!B73)","v":""},{"$f":"IF(CPMS_Detail!C73=\"\",\"\",CPMS_Detail!C73)","v":""},{"$f":"IF(CPMS_Detail!D73=\"\",\"\",CPMS_Detail!D73)","v":""},"",{"$f":"IF(COUNTIF(AT$2:AT51,AT51)=1,AT51,\"\")","v":""},"","","",null,{"$f":"+IF(BE51=\"\",\"\",MAX(AZ$1:AZ50)+1)","v":""},{"$f":"IF(Mercury!B73=\"\",\"\",Mercury!B73)","v":""},{"$f":"IF(Mercury!C73=\"\",\"\",Mercury!C73)","v":""},{"$f":"IF(Mercury!D73=\"\",\"\",Mercury!D73)","v":""},"",{"$f":"IF(COUNTIF(BB$2:BB51,BB51)=1,BB51,\"\")","v":""},"","",""]
[{"$f":"+IF(D52=\"\",\"\",MAX(A$1:A51)+1)","v":""},{"$f":"IF(CEM_COM_CPMS_Identification!C74=\"\",\"\",CEM_COM_CPMS_Identification!C74)","v":""},"",{"$f":"IF(COUNTIF(B$2:B52,B52)=1,B52,\"\")","v":""},null,null,null,null,null,null,{"$f":"+IF(N52=\"\",\"\",MAX(K$1:K51)+1)","v":""},{"$f":"IF(CEM_COM_CPMS_Identification!D74=\"\",\"\",CEM_COM_CPMS_Identification!D74)","v":""},"",{"$f":"IF(COUNTIF(L$2:L52,L52)=1,L52,\"\")","v":""},null,null,null,null,null,{"$f":"+IF(Y52=\"\",\"\",MAX(T$1:T51)+1)","v":""},{"$f":"IF(No_CPMS_Limits_Details!B74=\"\",\"\",No_CPMS_Limits_Details!B74)","v":""},{"$f":"IF(No_CPMS_Limits_Details!C74=\"\",\"\",No_CPMS_Limits_Details!C74)","v":""},{"$f":"IF(No_CPMS_Limits_Details!D74=\"\",\"\",No_CPMS_Limits_Details!D74)","v":""},"",{"$f":"IF(COUNTIF(V$2:V52,V52)=1,V52,\"\")","v":""},"","","",null,{"$f":"+IF(AI52=\"\",\"\",MAX(AD$1:AD51)+1)","v":""},{"$f":"IF(Limits_Details_w_CPMS!B74=\"\",\"\",Limits_Details_w_CPMS!B74)","v":""},{"$f":"IF(Limits_Details_w_CPMS!C74=\"\",\"\",Limits_Details_w_CPMS!C74)","v":""},{"$f":"IF(Limits_Details_w_CPMS!D74=\"\",\"\",Limits_Details_w_CPMS!D74)","v":""},"",{"$f":"IF(COUNTIF(AH$2:AH52,AH52)=1,AH52,\"\")","v":""},"","","",null,"VI",null,{"$f":"+IF(AU52=\"\",\"\",MAX(AP$1:AP51)+1)","v":""},{"$f":"IF(CPMS_Detail!B74=\"\",\"\",CPMS_Detail!B74)","v":""},{"$f":"IF(CPMS_Detail!C74=\"\",\"\",CPMS_Detail!C74)","v":""},{"$f":"IF(CPMS_Detail!D74=\"\",\"\",CPMS_Detail!D74)","v":""},"",{"$f":"IF(COUNTIF(AT$2:AT52,AT52)=1,AT52,\"\")","v":""},"","","",null,{"$f":"+IF(BE52=\"\",\"\",MAX(AZ$1:AZ51)+1)","v":""},{"$f":"IF(Mercury!B74=\"\",\"\",Mercury!B74)","v":""},{"$f":"IF(Mercury!C74=\"\",\"\",Mercury!C74)","v":""},{"$f":"IF(Mercury!D74=\"\",\"\",Mercury!D74)","v":""},"",{"$f":"IF(COUNTIF(BB$2:BB52,BB52)=1,BB52,\"\")","v":""},"","",""]
[{"$f":"+IF(D53=\"\",\"\",MAX(A$1:A52)+1)","v":""},{"$f":"IF(CEM_COM_CPMS_Identification!C75=\"\",\"\",CEM_COM_CPMS_Identification!C75)","v":""},"",{"$f":"IF(COUNTIF(B$2:B53,B53)=1,B53,\"\")","v":""},null,null,null,null,null,null,{"$f":"+IF(N53=\"\",\"\",MAX(K$1:K52)+1)","v":""},{"$f":"IF(CEM_COM_CPMS_Identification!D75=\"\",\"\",CEM_COM_CPMS_Identification!D75)","v":""},"",{"$f":"IF(COUNTIF(L$2:L53,L53)=1,L53,\"\")","v":""},null,null,null,null,null,{"$f":"+IF(Y53=\"\",\"\",MAX(T$1:T52)+1)","v":""},{"$f":"IF(No_CPMS_Limits_Details!B75=\"\",\"\",No_CPMS_Limits_Details!B75)","v":""},{"$f":"IF(No_CPMS_Limits_Details!C75=\"\",\"\",No_CPMS_Limits_Details!C75)","v":""},{"$f":"IF(No_CPMS_Limits_Details!D75=\"\",\"\",No_CPMS_Limits_Details!D75)","v":""},"",{"$f":"IF(COUNTIF(V$2:V53,V53)=1,V53,\"\")","v":""},"","","",null,{"$f":"+IF(AI53=\"\",\"\",MAX(AD$1:AD52)+1)","v":""},{"$f":"IF(Limits_Details_w_CPMS!B75=\"\",\"\",Limits_Details_w_CPMS!B75)","v":""},{"$f":"IF(Limits_Details_w_CPMS!C75=\"\",\"\",Limits_Details_w_CPMS!C75)","v":""},{"$f":"IF(Limits_Details_w_CPMS!D75=\"\",\"\",Limits_Details_w_CPMS!D75)","v":""},"",{"$f":"IF(COUNTIF(AH$2:AH53,AH53)=1,AH53,\"\")","v":""},"","","",null,"VT",null,{"$f":"+IF(AU53=\"\",\"\",MAX(AP$1:AP52)+1)","v":""},{"$f":"IF(CPMS_Detail!B75=\"\",\"\",CPMS_Detail!B75)","v":""},{"$f":"IF(CPMS_Detail!C75=\"\",\"\",CPMS_Detail!C75)","v":""},{"$f":"IF(CPMS_Detail!D75=\"\",\"\",CPMS_Detail!D75)","v":""},"",{"$f":"IF(COUNTIF(AT$2:AT53,AT53)=1,AT53,\"\")","v":""},"","","",null,{"$f":"+IF(BE53=\"\",\"\",MAX(AZ$1:AZ52)+1)","v":""},{"$f":"IF(Mercury!B75=\"\",\"\",Mercury!B75)","v":""},{"$f":"IF(Mercury!C75=\"\",\"\",Mercury!C75)","v":""},{"$f":"IF(Mercury!D75=\"\",\"\",Mercury!D75)","v":""},"",{"$f":"IF(COUNTIF(BB$2:BB53,BB53)=1,BB53,\"\")","v":""},"","",""]
[{"$f":"+IF(D54=\"\",\"\",MAX(A$1:A53)+1)","v":""},{"$f":"IF(CEM_COM_CPMS_Identification!C76=\"\",\"\",CEM_COM_CPMS_Identification!C76)","v":""},"",{"$f":"IF(COUNTIF(B$2:B54,B54)=1,B54,\"\")","v":""},null,null,null,null,null,null,{"$f":"+IF(N54=\"\",\"\",MAX(K$1:K53)+1)","v":""},{"$f":"IF(CEM_COM_CPMS_Identification!D76=\"\",\"\",CEM_COM_CPMS_Identification!D76)","v":""},"",{"$f":"IF(COUNTIF(L$2:L54,L54)=1,L54,\"\")","v":""},null,null,null,null,null,{"$f":"+IF(Y54=\"\",\"\",MAX(T$1:T53)+1)","v":""},{"$f":"IF(No_CPMS_Limits_Details!B76=\"\",\"\",No_CPMS_Limits_Details!B76)","v":""},{"$f":"IF(No_CPMS_Limits_Details!C76=\"\",\"\",No_CPMS_Limits_Details!C76)","v":""},{"$f":"IF(No_CPMS_Limits_Details!D76=\"\",\"\",No_CPMS_Limits_Details!D76)","v":""},"",{"$f":"IF(COUNTIF(V$2:V54,V54)=1,V54,\"\")","v":""},"","","",null,{"$f":"+IF(AI54=\"\",\"\",MAX(AD$1:AD53)+1)","v":""},{"$f":"IF(Limits_Details_w_CPMS!B76=\"\",\"\",Limits_Details_w_CPMS!B76)","v":""},{"$f":"IF(Limits_Details_w_CPMS!C76=\"\",\"\",Limits_Details_w_CPMS!C76)","v":""},{"$f":"IF(Limits_Details_w_CPMS!D76=\"\",\"\",Limits_Details_w_CPMS!D76)","v":""},"",{"$f":"IF(COUNTIF(AH$2:AH54,AH54)=1,AH54,\"\")","v":""},"","","",null,"WA",null,{"$f":"+IF(AU54=\"\",\"\",MAX(AP$1:AP53)+1)","v":""},{"$f":"IF(CPMS_Detail!B76=\"\",\"\",CPMS_Detail!B76)","v":""},{"$f":"IF(CPMS_Detail!C76=\"\",\"\",CPMS_Detail!C76)","v":""},{"$f":"IF(CPMS_Detail!D76=\"\",\"\",CPMS_Detail!D76)","v":""},"",{"$f":"IF(COUNTIF(AT$2:AT54,AT54)=1,AT54,\"\")","v":""},"","","",null,{"$f":"+IF(BE54=\"\",\"\",MAX(AZ$1:AZ53)+1)","v":""},{"$f":"IF(Mercury!B76=\"\",\"\",Mercury!B76)","v":""},{"$f":"IF(Mercury!C76=\"\",\"\",Mercury!C76)","v":""},{"$f":"IF(Mercury!D76=\"\",\"\",Mercury!D76)","v":""},"",{"$f":"IF(COUNTIF(BB$2:BB54,BB54)=1,BB54,\"\")","v":""},"","",""]
[{"$f":"+IF(D55=\"\",\"\",MAX(A$1:A54)+1)","v":""},{"$f":"IF(CEM_COM_CPMS_Identification!C77=\"\",\"\",CEM_COM_CPMS_Identification!C77)","v":""},"",{"$f":"IF(COUNTIF(B$2:B55,B55)=1,B55,\"\")","v":""},null,null,null,null,null,null,{"$f":"+IF(N55=\"\",\"\",MAX(K$1:K54)+1)","v":""},{"$f":"IF(CEM_COM_CPMS_Identification!D77=\"\",\"\",CEM_COM_CPMS_Identification!D77)","v":""},"",{"$f":"IF(COUNTIF(L$2:L55,L55)=1,L55,\"\")","v":""},null,null,null,null,null,{"$f":"+IF(Y55=\"\",\"\",MAX(T$1:T54)+1)","v":""},{"$f":"IF(No_CPMS_Limits_Details!B77=\"\",\"\",No_CPMS_Limits_Details!B77)","v":""},{"$f":"IF(No_CPMS_Limits_Details!C77=\"\",\"\",No_CPMS_Limits_Details!C77)","v":""},{"$f":"IF(No_CPMS_Limits_Details!D77=\"\",\"\",No_CPMS_Limits_Details!D77)","v":""},"",{"$f":"IF(COUNTIF(V$2:V55,V55)=1,V55,\"\")","v":""},"","","",null,{"$f":"+IF(AI55=\"\",\"\",MAX(AD$1:AD54)+1)","v":""},{"$f":"IF(Limits_Details_w_CPMS!B77=\"\",\"\",Limits_Details_w_CPMS!B77)","v":""},{"$f":"IF(Limits_Details_w_CPMS!C77=\"\",\"\",Limits_Details_w_CPMS!C77)","v":""},{"$f":"IF(Limits_Details_w_CPMS!D77=\"\",\"\",Limits_Details_w_CPMS!D77)","v":""},"",{"$f":"IF(COUNTIF(AH$2:AH55,AH55)=1,AH55,\"\")","v":""},"","","",null,"WI",null,{"$f":"+IF(AU55=\"\",\"\",MAX(AP$1:AP54)+1)","v":""},{"$f":"IF(CPMS_Detail!B77=\"\",\"\",CPMS_Detail!B77)","v":""},{"$f":"IF(CPMS_Detail!C77=\"\",\"\",CPMS_Detail!C77)","v":""},{"$f":"IF(CPMS_Detail!D77=\"\",\"\",CPMS_Detail!D77)","v":""},"",{"$f":"IF(COUNTIF(AT$2:AT55,AT55)=1,AT55,\"\")","v":""},"","","",null,{"$f":"+IF(BE55=\"\",\"\",MAX(AZ$1:AZ54)+1)","v":""},{"$f":"IF(Mercury!B77=\"\",\"\",Mercury!B77)","v":""},{"$f":"IF(Mercury!C77=\"\",\"\",Mercury!C77)","v":""},{"$f":"IF(Mercury!D77=\"\",\"\",Mercury!D77)","v":""},"",{"$f":"IF(COUNTIF(BB$2:BB55,BB55)=1,BB55,\"\")","v":""},"","",""]
[{"$f":"+IF(D56=\"\",\"\",MAX(A$1:A55)+1)","v":""},{"$f":"IF(CEM_COM_CPMS_Identification!C78=\"\",\"\",CEM_COM_CPMS_Identification!C78)","v":""},"",{"$f":"IF(COUNTIF(B$2:B56,B56)=1,B56,\"\")","v":""},null,null,null,null,null,null,{"$f":"+IF(N56=\"\",\"\",MAX(K$1:K55)+1)","v":""},{"$f":"IF(CEM_COM_CPMS_Identification!D78=\"\",\"\",CEM_COM_CPMS_Identification!D78)","v":""},"",{"$f":"IF(COUNTIF(L$2:L56,L56)=1,L56,\"\")","v":""},null,null,null,null,null,{"$f":"+IF(Y56=\"\",\"\",MAX(T$1:T55)+1)","v":""},{"$f":"IF(No_CPMS_Limits_Details!B78=\"\",\"\",No_CPMS_Limits_Details!B78)","v":""},{"$f":"IF(No_CPMS_Limits_Details!C78=\"\",\"\",No_CPMS_Limits_Details!C78)","v":""},{"$f":"IF(No_CPMS_Limits_Details!D78=\"\",\"\",No_CPMS_Limits_Details!D78)","v":""},"",{"$f":"IF(COUNTIF(V$2:V56,V56)=1,V56,\"\")","v":""},"","","",null,{"$f":"+IF(AI56=\"\",\"\",MAX(AD$1:AD55)+1)","v":""},{"$f":"IF(Limits_Details_w_CPMS!B78=\"\",\"\",Limits_Details_w_CPMS!B78)","v":""},{"$f":"IF(Limits_Details_w_CPMS!C78=\"\",\"\",Limits_Details_w_CPMS!C78)","v":""},{"$f":"IF(Limits_Details_w_CPMS!D78=\"\",\"\",Limits_Details_w_CPMS!D78)","v":""},"",{"$f":"IF(COUNTIF(AH$2:AH56,AH56)=1,AH56,\"\")","v":""},"","","",null,"WV",null,{"$f":"+IF(AU56=\"\",\"\",MAX(AP$1:AP55)+1)","v":""},{"$f":"IF(CPMS_Detail!B78=\"\",\"\",CPMS_Detail!B78)","v":""},{"$f":"IF(CPMS_Detail!C78=\"\",\"\",CPMS_Detail!C78)","v":""},{"$f":"IF(CPMS_Detail!D78=\"\",\"\",CPMS_Detail!D78)","v":""},"",{"$f":"IF(COUNTIF(AT$2:AT56,AT56)=1,AT56,\"\")","v":""},"","","",null,{"$f":"+IF(BE56=\"\",\"\",MAX(AZ$1:AZ55)+1)","v":""},{"$f":"IF(Mercury!B78=\"\",\"\",Mercury!B78)","v":""},{"$f":"IF(Mercury!C78=\"\",\"\",Mercury!C78)","v":""},{"$f":"IF(Mercury!D78=\"\",\"\",Mercury!D78)","v":""},"",{"$f":"IF(COUNTIF(BB$2:BB56,BB56)=1,BB56,\"\")","v":""},"","",""]
[{"$f":"+IF(D57=\"\",\"\",MAX(A$1:A56)+1)","v":""},{"$f":"IF(CEM_COM_CPMS_Identification!C79=\"\",\"\",CEM_COM_CPMS_Identification!C79)","v":""},"",{"$f":"IF(COUNTIF(B$2:B57,B57)=1,B57,\"\")","v":""},null,null,null,null,null,null,{"$f":"+IF(N57=\"\",\"\",MAX(K$1:K56)+1)","v":""},{"$f":"IF(CEM_COM_CPMS_Identification!D79=\"\",\"\",CEM_COM_CPMS_Identification!D79)","v":""},"",{"$f":"IF(COUNTIF(L$2:L57,L57)=1,L57,\"\")","v":""},null,null,null,null,null,{"$f":"+IF(Y57=\"\",\"\",MAX(T$1:T56)+1)","v":""},{"$f":"IF(No_CPMS_Limits_Details!B79=\"\",\"\",No_CPMS_Limits_Details!B79)","v":""},{"$f":"IF(No_CPMS_Limits_Details!C79=\"\",\"\",No_CPMS_Limits_Details!C79)","v":""},{"$f":"IF(No_CPMS_Limits_Details!D79=\"\",\"\",No_CPMS_Limits_Details!D79)","v":""},"",{"$f":"IF(COUNTIF(V$2:V57,V57)=1,V57,\"\")","v":""},"","","",null,{"$f":"+IF(AI57=\"\",\"\",MAX(AD$1:AD56)+1)","v":""},{"$f":"IF(Limits_Details_w_CPMS!B79=\"\",\"\",Limits_Details_w_CPMS!B79)","v":""},{"$f":"IF(Limits_Details_w_CPMS!C79=\"\",\"\",Limits_Details_w_CPMS!C79)","v":""},{"$f":"IF(Limits_Details_w_CPMS!D79=\"\",\"\",Limits_Details_w_CPMS!D79)","v":""},"",{"$f":"IF(COUNTIF(AH$2:AH57,AH57)=1,AH57,\"\")","v":""},"","","",null,"WY",null,{"$f":"+IF(AU57=\"\",\"\",MAX(AP$1:AP56)+1)","v":""},{"$f":"IF(CPMS_Detail!B79=\"\",\"\",CPMS_Detail!B79)","v":""},{"$f":"IF(CPMS_Detail!C79=\"\",\"\",CPMS_Detail!C79)","v":""},{"$f":"IF(CPMS_Detail!D79=\"\",\"\",CPMS_Detail!D79)","v":""},"",{"$f":"IF(COUNTIF(AT$2:AT57,AT57)=1,AT57,\"\")","v":""},"","","",null,{"$f":"+IF(BE57=\"\",\"\",MAX(AZ$1:AZ56)+1)","v":""},{"$f":"IF(Mercury!B79=\"\",\"\",Mercury!B79)","v":""},{"$f":"IF(Mercury!C79=\"\",\"\",Mercury!C79)","v":""},{"$f":"IF(Mercury!D79=\"\",\"\",Mercury!D79)","v":""},"",{"$f":"IF(COUNTIF(BB$2:BB57,BB57)=1,BB57,\"\")","v":""},"","",""]
[{"$f":"+IF(D58=\"\",\"\",MAX(A$1:A57)+1)","v":""},{"$f":"IF(CEM_COM_CPMS_Identification!C80=\"\",\"\",CEM_COM_CPMS_Identification!C80)","v":""},"",{"$f":"IF(COUNTIF(B$2:B58,B58)=1,B58,\"\")","v":""},null,null,null,null,null,null,{"$f":"+IF(N58=\"\",\"\",MAX(K$1:K57)+1)","v":""},{"$f":"IF(CEM_COM_CPMS_Identification!D80=\"\",\"\",CEM_COM_CPMS_Identification!D80)","v":""},"",{"$f":"IF(COUNTIF(L$2:L58,L58)=1,L58,\"\")","v":""},null,null,null,null,null,{"$f":"+IF(Y58=\"\",\"\",MAX(T$1:T57)+1)","v":""},{"$f":"IF(No_CPMS_Limits_Details!B80=\"\",\"\",No_CPMS_Limits_Details!B80)","v":""},{"$f":"IF(No_CPMS_Limits_Details!C80=\"\",\"\",No_CPMS_Limits_Details!C80)","v":""},{"$f":"IF(No_CPMS_Limits_Details!D80=\"\",\"\",No_CPMS_Limits_Details!D80)","v":""},"",{"$f":"IF(COUNTIF(V$2:V58,V58)=1,V58,\"\")","v":""},"","","",null,{"$f":"+IF(AI58=\"\",\"\",MAX(AD$1:AD57)+1)","v":""},{"$f":"IF(Limits_Details_w_CPMS!B80=\"\",\"\",Limits_Details_w_CPMS!B80)","v":""},{"$f":"IF(Limits_Details_w_CPMS!C80=\"\",\"\",Limits_Details_w_CPMS!C80)","v":""},{"$f":"IF(Limits_Details_w_CPMS!D80=\"\",\"\",Limits_Details_w_CPMS!D80)","v":""},"",{"$f":"IF(COUNTIF(AH$2:AH58,AH58)=1,AH58,\"\")","v":""},"","","",null,null,null,{"$f":"+IF(AU58=\"\",\"\",MAX(AP$1:AP57)+1)","v":""},{"$f":"IF(CPMS_Detail!B80=\"\",\"\",CPMS_Detail!B80)","v":""},{"$f":"IF(CPMS_Detail!C80=\"\",\"\",CPMS_Detail!C80)","v":""},{"$f":"IF(CPMS_Detail!D80=\"\",\"\",CPMS_Detail!D80)","v":""},"",{"$f":"IF(COUNTIF(AT$2:AT58,AT58)=1,AT58,\"\")","v":""},"","","",null,{"$f":"+IF(BE58=\"\",\"\",MAX(AZ$1:AZ57)+1)","v":""},{"$f":"IF(Mercury!B80=\"\",\"\",Mercury!B80)","v":""},{"$f":"IF(Mercury!C80=\"\",\"\",Mercury!C80)","v":""},{"$f":"IF(Mercury!D80=\"\",\"\",Mercury!D80)","v":""},"",{"$f":"IF(COUNTIF(BB$2:BB58,BB58)=1,BB58,\"\")","v":""},"","",""]
[{"$f":"+IF(D59=\"\",\"\",MAX(A$1:A58)+1)","v":""},{"$f":"IF(CEM_COM_CPMS_Identification!C81=\"\",\"\",CEM_COM_CPMS_Identification!C81)","v":""},"",{"$f":"IF(COUNTIF(B$2:B59,B59)=1,B59,\"\")","v":""},null,null,null,null,null,null,{"$f":"+IF(N59=\"\",\"\",MAX(K$1:K58)+1)","v":""},{"$f":"IF(CEM_COM_CPMS_Identification!D81=\"\",\"\",CEM_COM_CPMS_Identification!D81)","v":""},"",{"$f":"IF(COUNTIF(L$2:L59,L59)=1,L59,\"\")","v":""},null,null,null,null,null,{"$f":"+IF(Y59=\"\",\"\",MAX(T$1:T58)+1)","v":""},{"$f":"IF(No_CPMS_Limits_Details!B81=\"\",\"\",No_CPMS_Limits_Details!B81)","v":""},{"$f":"IF(No_CPMS_Limits_Details!C81=\"\",\"\",No_CPMS_Limits_Details!C81)","v":""},{"$f":"IF(No_CPMS_Limits_Details!D81=\"\",\"\",No_CPMS_Limits_Details!D81)","v":""},"",{"$f":"IF(COUNTIF(V$2:V59,V59)=1,V59,\"\")","v":""},"","","",null,{"$f":"+IF(AI59=\"\",\"\",MAX(AD$1:AD58)+1)","v":""},{"$f":"IF(Limits_Details_w_CPMS!B81=\"\",\"\",Limits_Details_w_CPMS!B81)","v":""},{"$f":"IF(Limits_Details_w_CPMS!C81=\"\",\"\",Limits_Details_w_CPMS!C81)","v":""},{"$f":"IF(Limits_Details_w_CPMS!D81=\"\",\"\",Limits_Details_w_CPMS!D81)","v":""},"",{"$f":"IF(COUNTIF(AH$2:AH59,AH59)=1,AH59,\"\")","v":""},"","","",null,null,null,{"$f":"+IF(AU59=\"\",\"\",MAX(AP$1:AP58)+1)","v":""},{"$f":"IF(CPMS_Detail!B81=\"\",\"\",CPMS_Detail!B81)","v":""},{"$f":"IF(CPMS_Detail!C81=\"\",\"\",CPMS_Detail!C81)","v":""},{"$f":"IF(CPMS_Detail!D81=\"\",\"\",CPMS_Detail!D81)","v":""},"",{"$f":"IF(COUNTIF(AT$2:AT59,AT59)=1,AT59,\"\")","v":""},"","","",null,{"$f":"+IF(BE59=\"\",\"\",MAX(AZ$1:AZ58)+1)","v":""},{"$f":"IF(Mercury!B81=\"\",\"\",Mercury!B81)","v":""},{"$f":"IF(Mercury!C81=\"\",\"\",Mercury!C81)","v":""},{"$f":"IF(Mercury!D81=\"\",\"\",Mercury!D81)","v":""},"",{"$f":"IF(COUNTIF(BB$2:BB59,BB59)=1,BB59,\"\")","v":""},"","",""]
[{"$f":"+IF(D60=\"\",\"\",MAX(A$1:A59)+1)","v":""},{"$f":"IF(CEM_COM_CPMS_Identification!C82=\"\",\"\",CEM_COM_CPMS_Identification!C82)","v":""},"",{"$f":"IF(COUNTIF(B$2:B60,B60)=1,B60,\"\")","v":""},null,null,null,null,null,null,{"$f":"+IF(N60=\"\",\"\",MAX(K$1:K59)+1)","v":""},{"$f":"IF(CEM_COM_CPMS_Identification!D82=\"\",\"\",CEM_COM_CPMS_Identification!D82)","v":""},"",{"$f":"IF(COUNTIF(L$2:L60,L60)=1,L60,\"\")","v":""},null,null,null,null,null,{"$f":"+IF(Y60=\"\",\"\",MAX(T$1:T59)+1)","v":""},{"$f":"IF(No_CPMS_Limits_Details!B82=\"\",\"\",No_CPMS_Limits_Details!B82)","v":""},{"$f":"IF(No_CPMS_Limits_Details!C82=\"\",\"\",No_CPMS_Limits_Details!C82)","v":""},{"$f":"IF(No_CPMS_Limits_Details!D82=\"\",\"\",No_CPMS_Limits_Details!D82)","v":""},"",{"$f":"IF(COUNTIF(V$2:V60,V60)=1,V60,\"\")","v":""},"","","",null,{"$f":"+IF(AI60=\"\",\"\",MAX(AD$1:AD59)+1)","v":""},{"$f":"IF(Limits_Details_w_CPMS!B82=\"\",\"\",Limits_Details_w_CPMS!B82)","v":""},{"$f":"IF(Limits_Details_w_CPMS!C82=\"\",\"\",Limits_Details_w_CPMS!C82)","v":""},{"$f":"IF(Limits_Details_w_CPMS!D82=\"\",\"\",Limits_Details_w_CPMS!D82)","v":""},"",{"$f":"IF(COUNTIF(AH$2:AH60,AH60)=1,AH60,\"\")","v":""},"","","",null,null,null,{"$f":"+IF(AU60=\"\",\"\",MAX(AP$1:AP59)+1)","v":""},{"$f":"IF(CPMS_Detail!B82=\"\",\"\",CPMS_Detail!B82)","v":""},{"$f":"IF(CPMS_Detail!C82=\"\",\"\",CPMS_Detail!C82)","v":""},{"$f":"IF(CPMS_Detail!D82=\"\",\"\",CPMS_Detail!D82)","v":""},"",{"$f":"IF(COUNTIF(AT$2:AT60,AT60)=1,AT60,\"\")","v":""},"","","",null,{"$f":"+IF(BE60=\"\",\"\",MAX(AZ$1:AZ59)+1)","v":""},{"$f":"IF(Mercury!B82=\"\",\"\",Mercury!B82)","v":""},{"$f":"IF(Mercury!C82=\"\",\"\",Mercury!C82)","v":""},{"$f":"IF(Mercury!D82=\"\",\"\",Mercury!D82)","v":""},"",{"$f":"IF(COUNTIF(BB$2:BB60,BB60)=1,BB60,\"\")","v":""},"","",""]
[{"$f":"+IF(D61=\"\",\"\",MAX(A$1:A60)+1)","v":""},{"$f":"IF(CEM_COM_CPMS_Identification!C83=\"\",\"\",CEM_COM_CPMS_Identification!C83)","v":""},"",{"$f":"IF(COUNTIF(B$2:B61,B61)=1,B61,\"\")","v":""},null,null,null,null,null,null,{"$f":"+IF(N61=\"\",\"\",MAX(K$1:K60)+1)","v":""},{"$f":"IF(CEM_COM_CPMS_Identification!D83=\"\",\"\",CEM_COM_CPMS_Identification!D83)","v":""},"",{"$f":"IF(COUNTIF(L$2:L61,L61)=1,L61,\"\")","v":""},null,null,null,null,null,{"$f":"+IF(Y61=\"\",\"\",MAX(T$1:T60)+1)","v":""},{"$f":"IF(No_CPMS_Limits_Details!B83=\"\",\"\",No_CPMS_Limits_Details!B83)","v":""},{"$f":"IF(No_CPMS_Limits_Details!C83=\"\",\"\",No_CPMS_Limits_Details!C83)","v":""},{"$f":"IF(No_CPMS_Limits_Details!D83=\"\",\"\",No_CPMS_Limits_Details!D83)","v":""},"",{"$f":"IF(COUNTIF(V$2:V61,V61)=1,V61,\"\")","v":""},"","","",null,{"$f":"+IF(AI61=\"\",\"\",MAX(AD$1:AD60)+1)","v":""},{"$f":"IF(Limits_Details_w_CPMS!B83=\"\",\"\",Limits_Details_w_CPMS!B83)","v":""},{"$f":"IF(Limits_Details_w_CPMS!C83=\"\",\"\",Limits_Details_w_CPMS!C83)","v":""},{"$f":"IF(Limits_Details_w_CPMS!D83=\"\",\"\",Limits_Details_w_CPMS!D83)","v":""},"",{"$f":"IF(COUNTIF(AH$2:AH61,AH61)=1,AH61,\"\")","v":""},"","","",null,null,null,{"$f":"+IF(AU61=\"\",\"\",MAX(AP$1:AP60)+1)","v":""},{"$f":"IF(CPMS_Detail!B83=\"\",\"\",CPMS_Detail!B83)","v":""},{"$f":"IF(CPMS_Detail!C83=\"\",\"\",CPMS_Detail!C83)","v":""},{"$f":"IF(CPMS_Detail!D83=\"\",\"\",CPMS_Detail!D83)","v":""},"",{"$f":"IF(COUNTIF(AT$2:AT61,AT61)=1,AT61,\"\")","v":""},"","","",null,{"$f":"+IF(BE61=\"\",\"\",MAX(AZ$1:AZ60)+1)","v":""},{"$f":"IF(Mercury!B83=\"\",\"\",Mercury!B83)","v":""},{"$f":"IF(Mercury!C83=\"\",\"\",Mercury!C83)","v":""},{"$f":"IF(Mercury!D83=\"\",\"\",Mercury!D83)","v":""},"",{"$f":"IF(COUNTIF(BB$2:BB61,BB61)=1,BB61,\"\")","v":""},"","",""]
[{"$f":"+IF(D62=\"\",\"\",MAX(A$1:A61)+1)","v":""},{"$f":"IF(CEM_COM_CPMS_Identification!C84=\"\",\"\",CEM_COM_CPMS_Identification!C84)","v":""},"",{"$f":"IF(COUNTIF(B$2:B62,B62)=1,B62,\"\")","v":""},null,null,null,null,null,null,{"$f":"+IF(N62=\"\",\"\",MAX(K$1:K61)+1)","v":""},{"$f":"IF(CEM_COM_CPMS_Identification!D84=\"\",\"\",CEM_COM_CPMS_Identification!D84)","v":""},"",{"$f":"IF(COUNTIF(L$2:L62,L62)=1,L62,\"\")","v":""},null,null,null,null,null,{"$f":"+IF(Y62=\"\",\"\",MAX(T$1:T61)+1)","v":""},{"$f":"IF(No_CPMS_Limits_Details!B84=\"\",\"\",No_CPMS_Limits_Details!B84)","v":""},{"$f":"IF(No_CPMS_Limits_Details!C84=\"\",\"\",No_CPMS_Limits_Details!C84)","v":""},{"$f":"IF(No_CPMS_Limits_Details!D84=\"\",\"\",No_CPMS_Limits_Details!D84)","v":""},"",{"$f":"IF(COUNTIF(V$2:V62,V62)=1,V62,\"\")","v":""},"","","",null,{"$f":"+IF(AI62=\"\",\"\",MAX(AD$1:AD61)+1)","v":""},{"$f":"IF(Limits_Details_w_CPMS!B84=\"\",\"\",Limits_Details_w_CPMS!B84)","v":""},{"$f":"IF(Limits_Details_w_CPMS!C84=\"\",\"\",Limits_Details_w_CPMS!C84)","v":""},{"$f":"IF(Limits_Details_w_CPMS!D84=\"\",\"\",Limits_Details_w_CPMS!D84)","v":""},"",{"$f":"IF(COUNTIF(AH$2:AH62,AH62)=1,AH62,\"\")","v":""},"","","",null,null,null,{"$f":"+IF(AU62=\"\",\"\",MAX(AP$1:AP61)+1)","v":""},{"$f":"IF(CPMS_Detail!B84=\"\",\"\",CPMS_Detail!B84)","v":""},{"$f":"IF(CPMS_Detail!C84=\"\",\"\",CPMS_Detail!C84)","v":""},{"$f":"IF(CPMS_Detail!D84=\"\",\"\",CPMS_Detail!D84)","v":""},"",{"$f":"IF(COUNTIF(AT$2:AT62,AT62)=1,AT62,\"\")","v":""},"","","",null,{"$f":"+IF(BE62=\"\",\"\",MAX(AZ$1:AZ61)+1)","v":""},{"$f":"IF(Mercury!B84=\"\",\"\",Mercury!B84)","v":""},{"$f":"IF(Mercury!C84=\"\",\"\",Mercury!C84)","v":""},{"$f":"IF(Mercury!D84=\"\",\"\",Mercury!D84)","v":""},"",{"$f":"IF(COUNTIF(BB$2:BB62,BB62)=1,BB62,\"\")","v":""},"","",""]
[{"$f":"+IF(D63=\"\",\"\",MAX(A$1:A62)+1)","v":""},{"$f":"IF(CEM_COM_CPMS_Identification!C85=\"\",\"\",CEM_COM_CPMS_Identification!C85)","v":""},"",{"$f":"IF(COUNTIF(B$2:B63,B63)=1,B63,\"\")","v":""},null,null,null,null,null,null,{"$f":"+IF(N63=\"\",\"\",MAX(K$1:K62)+1)","v":""},{"$f":"IF(CEM_COM_CPMS_Identification!D85=\"\",\"\",CEM_COM_CPMS_Identification!D85)","v":""},"",{"$f":"IF(COUNTIF(L$2:L63,L63)=1,L63,\"\")","v":""},null,null,null,null,null,{"$f":"+IF(Y63=\"\",\"\",MAX(T$1:T62)+1)","v":""},{"$f":"IF(No_CPMS_Limits_Details!B85=\"\",\"\",No_CPMS_Limits_Details!B85)","v":""},{"$f":"IF(No_CPMS_Limits_Details!C85=\"\",\"\",No_CPMS_Limits_Details!C85)","v":""},{"$f":"IF(No_CPMS_Limits_Details!D85=\"\",\"\",No_CPMS_Limits_Details!D85)","v":""},"",{"$f":"IF(COUNTIF(V$2:V63,V63)=1,V63,\"\")","v":""},"","","",null,{"$f":"+IF(AI63=\"\",\"\",MAX(AD$1:AD62)+1)","v":""},{"$f":"IF(Limits_Details_w_CPMS!B85=\"\",\"\",Limits_Details_w_CPMS!B85)","v":""},{"$f":"IF(Limits_Details_w_CPMS!C85=\"\",\"\",Limits_Details_w_CPMS!C85)","v":""},{"$f":"IF(Limits_Details_w_CPMS!D85=\"\",\"\",Limits_Details_w_CPMS!D85)","v":""},"",{"$f":"IF(COUNTIF(AH$2:AH63,AH63)=1,AH63,\"\")","v":""},"","","",null,null,null,{"$f":"+IF(AU63=\"\",\"\",MAX(AP$1:AP62)+1)","v":""},{"$f":"IF(CPMS_Detail!B85=\"\",\"\",CPMS_Detail!B85)","v":""},{"$f":"IF(CPMS_Detail!C85=\"\",\"\",CPMS_Detail!C85)","v":""},{"$f":"IF(CPMS_Detail!D85=\"\",\"\",CPMS_Detail!D85)","v":""},"",{"$f":"IF(COUNTIF(AT$2:AT63,AT63)=1,AT63,\"\")","v":""},"","","",null,{"$f":"+IF(BE63=\"\",\"\",MAX(AZ$1:AZ62)+1)","v":""},{"$f":"IF(Mercury!B85=\"\",\"\",Mercury!B85)","v":""},{"$f":"IF(Mercury!C85=\"\",\"\",Mercury!C85)","v":""},{"$f":"IF(Mercury!D85=\"\",\"\",Mercury!D85)","v":""},"",{"$f":"IF(COUNTIF(BB$2:BB63,BB63)=1,BB63,\"\")","v":""},"","",""]
[{"$f":"+IF(D64=\"\",\"\",MAX(A$1:A63)+1)","v":""},{"$f":"IF(CEM_COM_CPMS_Identification!C86=\"\",\"\",CEM_COM_CPMS_Identification!C86)","v":""},"",{"$f":"IF(COUNTIF(B$2:B64,B64)=1,B64,\"\")","v":""},null,null,null,null,null,null,{"$f":"+IF(N64=\"\",\"\",MAX(K$1:K63)+1)","v":""},{"$f":"IF(CEM_COM_CPMS_Identification!D86=\"\",\"\",CEM_COM_CPMS_Identification!D86)","v":""},"",{"$f":"IF(COUNTIF(L$2:L64,L64)=1,L64,\"\")","v":""},null,null,null,null,null,{"$f":"+IF(Y64=\"\",\"\",MAX(T$1:T63)+1)","v":""},{"$f":"IF(No_CPMS_Limits_Details!B86=\"\",\"\",No_CPMS_Limits_Details!B86)","v":""},{"$f":"IF(No_CPMS_Limits_Details!C86=\"\",\"\",No_CPMS_Limits_Details!C86)","v":""},{"$f":"IF(No_CPMS_Limits_Details!D86=\"\",\"\",No_CPMS_Limits_Details!D86)","v":""},"",{"$f":"IF(COUNTIF(V$2:V64,V64)=1,V64,\"\")","v":""},"","","",null,{"$f":"+IF(AI64=\"\",\"\",MAX(AD$1:AD63)+1)","v":""},{"$f":"IF(Limits_Details_w_CPMS!B86=\"\",\"\",Limits_Details_w_CPMS!B86)","v":""},{"$f":"IF(Limits_Details_w_CPMS!C86=\"\",\"\",Limits_Details_w_CPMS!C86)","v":""},{"$f":"IF(Limits_Details_w_CPMS!D86=\"\",\"\",Limits_Details_w_CPMS!D86)","v":""},"",{"$f":"IF(COUNTIF(AH$2:AH64,AH64)=1,AH64,\"\")","v":""},"","","",null,null,null,{"$f":"+IF(AU64=\"\",\"\",MAX(AP$1:AP63)+1)","v":""},{"$f":"IF(CPMS_Detail!B86=\"\",\"\",CPMS_Detail!B86)","v":""},{"$f":"IF(CPMS_Detail!C86=\"\",\"\",CPMS_Detail!C86)","v":""},{"$f":"IF(CPMS_Detail!D86=\"\",\"\",CPMS_Detail!D86)","v":""},"",{"$f":"IF(COUNTIF(AT$2:AT64,AT64)=1,AT64,\"\")","v":""},"","","",null,{"$f":"+IF(BE64=\"\",\"\",MAX(AZ$1:AZ63)+1)","v":""},{"$f":"IF(Mercury!B86=\"\",\"\",Mercury!B86)","v":""},{"$f":"IF(Mercury!C86=\"\",\"\",Mercury!C86)","v":""},{"$f":"IF(Mercury!D86=\"\",\"\",Mercury!D86)","v":""},"",{"$f":"IF(COUNTIF(BB$2:BB64,BB64)=1,BB64,\"\")","v":""},"","",""]
[{"$f":"+IF(D65=\"\",\"\",MAX(A$1:A64)+1)","v":""},{"$f":"IF(CEM_COM_CPMS_Identification!C87=\"\",\"\",CEM_COM_CPMS_Identification!C87)","v":""},"",{"$f":"IF(COUNTIF(B$2:B65,B65)=1,B65,\"\")","v":""},null,null,null,null,null,null,{"$f":"+IF(N65=\"\",\"\",MAX(K$1:K64)+1)","v":""},{"$f":"IF(CEM_COM_CPMS_Identification!D87=\"\",\"\",CEM_COM_CPMS_Identification!D87)","v":""},"",{"$f":"IF(COUNTIF(L$2:L65,L65)=1,L65,\"\")","v":""},null,null,null,null,null,{"$f":"+IF(Y65=\"\",\"\",MAX(T$1:T64)+1)","v":""},{"$f":"IF(No_CPMS_Limits_Details!B87=\"\",\"\",No_CPMS_Limits_Details!B87)","v":""},{"$f":"IF(No_CPMS_Limits_Details!C87=\"\",\"\",No_CPMS_Limits_Details!C87)","v":""},{"$f":"IF(No_CPMS_Limits_Details!D87=\"\",\"\",No_CPMS_Limits_Details!D87)","v":""},"",{"$f":"IF(COUNTIF(V$2:V65,V65)=1,V65,\"\")","v":""},"","","",null,{"$f":"+IF(AI65=\"\",\"\",MAX(AD$1:AD64)+1)","v":""},{"$f":"IF(Limits_Details_w_CPMS!B87=\"\",\"\",Limits_Details_w_CPMS!B87)","v":""},{"$f":"IF(Limits_Details_w_CPMS!C87=\"\",\"\",Limits_Details_w_CPMS!C87)","v":""},{"$f":"IF(Limits_Details_w_CPMS!D87=\"\",\"\",Limits_Details_w_CPMS!D87)","v":""},"",{"$f":"IF(COUNTIF(AH$2:AH65,AH65)=1,AH65,\"\")","v":""},"","","",null,null,null,{"$f":"+IF(AU65=\"\",\"\",MAX(AP$1:AP64)+1)","v":""},{"$f":"IF(CPMS_Detail!B87=\"\",\"\",CPMS_Detail!B87)","v":""},{"$f":"IF(CPMS_Detail!C87=\"\",\"\",CPMS_Detail!C87)","v":""},{"$f":"IF(CPMS_Detail!D87=\"\",\"\",CPMS_Detail!D87)","v":""},"",{"$f":"IF(COUNTIF(AT$2:AT65,AT65)=1,AT65,\"\")","v":""},"","","",null,{"$f":"+IF(BE65=\"\",\"\",MAX(AZ$1:AZ64)+1)","v":""},{"$f":"IF(Mercury!B87=\"\",\"\",Mercury!B87)","v":""},{"$f":"IF(Mercury!C87=\"\",\"\",Mercury!C87)","v":""},{"$f":"IF(Mercury!D87=\"\",\"\",Mercury!D87)","v":""},"",{"$f":"IF(COUNTIF(BB$2:BB65,BB65)=1,BB65,\"\")","v":""},"","",""]
[{"$f":"+IF(D66=\"\",\"\",MAX(A$1:A65)+1)","v":""},{"$f":"IF(CEM_COM_CPMS_Identification!C88=\"\",\"\",CEM_COM_CPMS_Identification!C88)","v":""},{"$f":"+IFERROR(INDEX(B$2:B$501,MATCH(ROW()-ROW($C$1),A$2:A$501,0)),\"\")","v":""},{"$f":"IF(COUNTIF(B$2:B66,B66)=1,B66,\"\")","v":""},null,null,null,null,null,null,{"$f":"+IF(N66=\"\",\"\",MAX(K$1:K65)+1)","v":""},{"$f":"IF(CEM_COM_CPMS_Identification!D88=\"\",\"\",CEM_COM_CPMS_Identification!D88)","v":""},"",{"$f":"IF(COUNTIF(L$2:L66,L66)=1,L66,\"\")","v":""},null,null,null,null,null,{"$f":"+IF(Y66=\"\",\"\",MAX(T$1:T65)+1)","v":""},{"$f":"IF(No_CPMS_Limits_Details!B88=\"\",\"\",No_CPMS_Limits_Details!B88)","v":""},{"$f":"IF(No_CPMS_Limits_Details!C88=\"\",\"\",No_CPMS_Limits_Details!C88)","v":""},{"$f":"IF(No_CPMS_Limits_Details!D88=\"\",\"\",No_CPMS_Limits_Details!D88)","v":""},{"$f":"U66&V66&W67","v":""},{"$f":"IF(COUNTIF(V$2:V66,V66)=1,V66,\"\")","v":""},{"$f":"+IFERROR(INDEX(U$2:U$955,MATCH(ROW()-ROW(Z$1),T$2:T$955,0)),\"\")","v":""},{"$f":"+IFERROR(INDEX(V$2:V$955,MATCH(ROW()-ROW(Z$1),T$2:T$955,0)),\"\")","v":""},{"$f":"+IFERROR(INDEX(W$2:W$955,MATCH(ROW()-ROW(Z$1),T$2:T$955,0)),\"\")","v":""},null,{"$f":"+IF(AI66=\"\",\"\",MAX(AD$1:AD65)+1)","v":""},{"$f":"IF(Limits_Details_w_CPMS!B88=\"\",\"\",Limits_Details_w_CPMS!B88)","v":""},{"$f":"IF(Limits_Details_w_CPMS!C88=\"\",\"\",Limits_Details_w_CPMS!C88)","v":""},{"$f":"IF(Limits_Details_w_CPMS!D88=\"\",\"\",Limits_Details_w_CPMS!D88)","v":""},"",{"$f":"IF(COUNTIF(AH$2:AH66,AH66)=1,AH66,\"\")","v":""},{"$f":"+IFERROR(INDEX(AE$2:AE$955,MATCH(ROW()-ROW(AJ$1),AD$2:AD$955,0)),\"\")","v":""},{"$f":"+IFERROR(INDEX(AF$2:AF$955,MATCH(ROW()-ROW(AJ$1),AD$2:AD$955,0)),\"\")","v":""},{"$f":"+IFERROR(INDEX(AG$2:AG$955,MATCH(ROW()-ROW(AJ$1),AD$2:AD$955,0)),\"\")","v":""},null,null,null,{"$f":"+IF(AU66=\"\",\"\",MAX(AP$1:AP65)+1)","v":""},{"$f":"IF(CPMS_Detail!B88=\"\",\"\",CPMS_Detail!B88)","v":""},{"$f":"IF(CPMS_Detail!C88=\"\",\"\",CPMS_Detail!C88)","v":""},{"$f":"IF(CPMS_Detail!D88=\"\",\"\",CPMS_Detail!D88)","v":""},"",{"$f":"IF(COUNTIF(AT$2:AT66,AT66)=1,AT66,\"\")","v":""},"","","",null,{"$f":"+IF(BE66=\"\",\"\",MAX(AZ$1:AZ65)+1)","v":""},{"$f":"IF(Mercury!B88=\"\",\"\",Mercury!B88)","v":""},{"$f":"IF(Mercury!C88=\"\",\"\",Mercury!C88)","v":""},{"$f":"IF(Mercury!D88=\"\",\"\",Mercury!D88)","v":""},{"$f":"BA66&BB66&BC67","v":""},{"$f":"IF(COUNTIF(BB$2:BB66,BB66)=1,BB66,\"\")","v":""},{"$f":"+IFERROR(INDEX(BA$2:BA$955,MATCH(ROW()-ROW(BF$1),AZ$2:AZ$955,0)),\"\")","v":""},{"$f":"+IFERROR(INDEX(BB$2:BB$955,MATCH(ROW()-ROW(BF$1),AZ$2:AZ$955,0)),\"\")","v":""},{"$f":"+IFERROR(INDEX(BC$2:BC$955,MATCH(ROW()-ROW(BF$1),AZ$2:AZ$955,0)),\"\")","v":""}]
[{"$f":"+IF(D67=\"\",\"\",MAX(A$1:A66)+1)","v":""},{"$f":"IF(CEM_COM_CPMS_Identification!C89=\"\",\"\",CEM_COM_CPMS_Identification!C89)","v":""},"",{"$f":"IF(COUNTIF(B$2:B67,B67)=1,B67,\"\")","v":""},null,null,null,null,null,null,{"$f":"+IF(N67=\"\",\"\",MAX(K$1:K66)+1)","v":""},{"$f":"IF(CEM_COM_CPMS_Identification!D89=\"\",\"\",CEM_COM_CPMS_Identification!D89)","v":""},{"$f":"+IFERROR(INDEX(L$2:L$501,MATCH(ROW()-ROW($M$1),K$2:K$501,0)),\"\")","v":""},{"$f":"IF(COUNTIF(L$2:L67,L67)=1,L67,\"\")","v":""},null,null,null,null,null,{"$f":"+IF(Y67=\"\",\"\",MAX(T$1:T66)+1)","v":""},{"$f":"IF(No_CPMS_Limits_Details!B89=\"\",\"\",No_CPMS_Limits_Details!B89)","v":""},{"$f":"IF(No_CPMS_Limits_Details!C89=\"\",\"\",No_CPMS_Limits_Details!C89)","v":""},{"$f":"IF(No_CPMS_Limits_Details!D89=\"\",\"\",No_CPMS_Limits_Details!D89)","v":""},"",{"$f":"IF(COUNTIF(V$2:V67,V67)=1,V67,\"\")","v":""},"","","",null,{"$f":"+IF(AI67=\"\",\"\",MAX(AD$1:AD66)+1)","v":""},{"$f":"IF(Limits_Details_w_CPMS!B89=\"\",\"\",Limits_Details_w_CPMS!B89)","v":""},{"$f":"IF(Limits_Details_w_CPMS!C89=\"\",\"\",Limits_Details_w_CPMS!C89)","v":""},{"$f":"IF(Limits_Details_w_CPMS!D89=\"\",\"\",Limits_Details_w_CPMS!D89)","v":""},{"$f":"AE67&AF67&AG67","v":""},{"$f":"IF(COUNTIF(AH$2:AH67,AH67)=1,AH67,\"\")","v":""},"","","",null,null,null,{"$f":"+IF(AU67=\"\",\"\",MAX(AP$1:AP66)+1)","v":""},{"$f":"IF(CPMS_Detail!B89=\"\",\"\",CPMS_Detail!B89)","v":""},{"$f":"IF(CPMS_Detail!C89=\"\",\"\",CPMS_Detail!C89)","v":""},{"$f":"IF(CPMS_Detail!D89=\"\",\"\",CPMS_Detail!D89)","v":""},{"$f":"AQ67&AR67&AS67","v":""},{"$f":"IF(COUNTIF(AT$2:AT67,AT67)=1,AT67,\"\")","v":""},{"$f":"+IFERROR(INDEX(AQ$2:AQ$955,MATCH(ROW()-ROW(AV$1),AP$2:AP$955,0)),\"\")","v":""},{"$f":"+IFERROR(INDEX(AR$2:AR$955,MATCH(ROW()-ROW(AV$1),AP$2:AP$955,0)),\"\")","v":""},{"$f":"+IFERROR(INDEX(AS$2:AS$955,MATCH(ROW()-ROW(AV$1),AP$2:AP$955,0)),\"\")","v":""},null,{"$f":"+IF(BE67=\"\",\"\",MAX(AZ$1:AZ66)+1)","v":""},{"$f":"IF(Mercury!B89=\"\",\"\",Mercury!B89)","v":""},{"$f":"IF(Mercury!C89=\"\",\"\",Mercury!C89)","v":""},{"$f":"IF(Mercury!D89=\"\",\"\",Mercury!D89)","v":""},"",{"$f":"IF(COUNTIF(BB$2:BB67,BB67)=1,BB67,\"\")","v":""},"","",""]
[{"$f":"+IF(D68=\"\",\"\",MAX(A$1:A67)+1)","v":""},{"$f":"IF(CEM_COM_CPMS_Identification!C90=\"\",\"\",CEM_COM_CPMS_Identification!C90)","v":""},"",{"$f":"IF(COUNTIF(B$2:B68,B68)=1,B68,\"\")","v":""},null,null,null,null,null,null,{"$f":"+IF(N68=\"\",\"\",MAX(K$1:K67)+1)","v":""},{"$f":"IF(CEM_COM_CPMS_Identification!D90=\"\",\"\",CEM_COM_CPMS_Identification!D90)","v":""},"",{"$f":"IF(COUNTIF(L$2:L68,L68)=1,L68,\"\")","v":""},null,null,null,null,null,{"$f":"+IF(Y68=\"\",\"\",MAX(T$1:T67)+1)","v":""},{"$f":"IF(No_CPMS_Limits_Details!B90=\"\",\"\",No_CPMS_Limits_Details!B90)","v":""},{"$f":"IF(No_CPMS_Limits_Details!C90=\"\",\"\",No_CPMS_Limits_Details!C90)","v":""},{"$f":"IF(No_CPMS_Limits_Details!D90=\"\",\"\",No_CPMS_Limits_Details!D90)","v":""},"",{"$f":"IF(COUNTIF(V$2:V68,V68)=1,V68,\"\")","v":""},"","","",null,{"$f":"+IF(AI68=\"\",\"\",MAX(AD$1:AD67)+1)","v":""},{"$f":"IF(Limits_Details_w_CPMS!B90=\"\",\"\",Limits_Details_w_CPMS!B90)","v":""},{"$f":"IF(Limits_Details_w_CPMS!C90=\"\",\"\",Limits_Details_w_CPMS!C90)","v":""},{"$f":"IF(Limits_Details_w_CPMS!D90=\"\",\"\",Limits_Details_w_CPMS!D90)","v":""},"",{"$f":"IF(COUNTIF(AH$2:AH68,AH68)=1,AH68,\"\")","v":""},"","","",null,null,null,{"$f":"+IF(AU68=\"\",\"\",MAX(AP$1:AP67)+1)","v":""},{"$f":"IF(CPMS_Detail!B90=\"\",\"\",CPMS_Detail!B90)","v":""},{"$f":"IF(CPMS_Detail!C90=\"\",\"\",CPMS_Detail!C90)","v":""},{"$f":"IF(CPMS_Detail!D90=\"\",\"\",CPMS_Detail!D90)","v":""},"",{"$f":"IF(COUNTIF(AT$2:AT68,AT68)=1,AT68,\"\")","v":""},"","","",null,{"$f":"+IF(BE68=\"\",\"\",MAX(AZ$1:AZ67)+1)","v":""},{"$f":"IF(Mercury!B90=\"\",\"\",Mercury!B90)","v":""},{"$f":"IF(Mercury!C90=\"\",\"\",Mercury!C90)","v":""},{"$f":"IF(Mercury!D90=\"\",\"\",Mercury!D90)","v":""},"",{"$f":"IF(COUNTIF(BB$2:BB68,BB68)=1,BB68,\"\")","v":""},"","",""]
[{"$f":"+IF(D69=\"\",\"\",MAX(A$1:A68)+1)","v":""},{"$f":"IF(CEM_COM_CPMS_Identification!C91=\"\",\"\",CEM_COM_CPMS_Identification!C91)","v":""},"",{"$f":"IF(COUNTIF(B$2:B69,B69)=1,B69,\"\")","v":""},null,null,null,null,null,null,{"$f":"+IF(N69=\"\",\"\",MAX(K$1:K68)+1)","v":""},{"$f":"IF(CEM_COM_CPMS_Identification!D91=\"\",\"\",CEM_COM_CPMS_Identification!D91)","v":""},"",{"$f":"IF(COUNTIF(L$2:L69,L69)=1,L69,\"\")","v":""},null,null,null,null,null,{"$f":"+IF(Y69=\"\",\"\",MAX(T$1:T68)+1)","v":""},{"$f":"IF(No_CPMS_Limits_Details!B91=\"\",\"\",No_CPMS_Limits_Details!B91)","v":""},{"$f":"IF(No_CPMS_Limits_Details!C91=\"\",\"\",No_CPMS_Limits_Details!C91)","v":""},{"$f":"IF(No_CPMS_Limits_Details!D91=\"\",\"\",No_CPMS_Limits_Details!D91)","v":""},"",{"$f":"IF(COUNTIF(V$2:V69,V69)=1,V69,\"\")","v":""},"","","",null,{"$f":"+IF(AI69=\"\",\"\",MAX(AD$1:AD68)+1)","v":""},{"$f":"IF(Limits_Details_w_CPMS!B91=\"\",\"\",Limits_Details_w_CPMS!B91)","v":""},{"$f":"IF(Limits_Details_w_CPMS!C91=\"\",\"\",Limits_Details_w_CPMS!C91)","v":""},{"$f":"IF(Limits_Details_w_CPMS!D91=\"\",\"\",Limits_Details_w_CPMS!D91)","v":""},"",{"$f":"IF(COUNTIF(AH$2:AH69,AH69)=1,AH69,\"\")","v":""},"","","",null,null,null,{"$f":"+IF(AU69=\"\",\"\",MAX(AP$1:AP68)+1)","v":""},{"$f":"IF(CPMS_Detail!B91=\"\",\"\",CPMS_Detail!B91)","v":""},{"$f":"IF(CPMS_Detail!C91=\"\",\"\",CPMS_Detail!C91)","v":""},{"$f":"IF(CPMS_Detail!D91=\"\",\"\",CPMS_Detail!D91)","v":""},"",{"$f":"IF(COUNTIF(AT$2:AT69,AT69)=1,AT69,\"\")","v":""},"","","",null,{"$f":"+IF(BE69=\"\",\"\",MAX(AZ$1:AZ68)+1)","v":""},{"$f":"IF(Mercury!B91=\"\",\"\",Mercury!B91)","v":""},{"$f":"IF(Mercury!C91=\"\",\"\",Mercury!C91)","v":""},{"$f":"IF(Mercury!D91=\"\",\"\",Mercury!D91)","v":""},"",{"$f":"IF(COUNTIF(BB$2:BB69,BB69)=1,BB69,\"\")","v":""},"","",""]
[{"$f":"+IF(D70=\"\",\"\",MAX(A$1:A69)+1)","v":""},{"$f":"IF(CEM_COM_CPMS_Identification!C92=\"\",\"\",CEM_COM_CPMS_Identification!C92)","v":""},"",{"$f":"IF(COUNTIF(B$2:B70,B70)=1,B70,\"\")","v":""},null,null,null,null,null,null,{"$f":"+IF(N70=\"\",\"\",MAX(K$1:K69)+1)","v":""},{"$f":"IF(CEM_COM_CPMS_Identification!D92=\"\",\"\",CEM_COM_CPMS_Identification!D92)","v":""},"",{"$f":"IF(COUNTIF(L$2:L70,L70)=1,L70,\"\")","v":""},null,null,null,null,null,{"$f":"+IF(Y70=\"\",\"\",MAX(T$1:T69)+1)","v":""},{"$f":"IF(No_CPMS_Limits_Details!B92=\"\",\"\",No_CPMS_Limits_Details!B92)","v":""},{"$f":"IF(No_CPMS_Limits_Details!C92=\"\",\"\",No_CPMS_Limits_Details!C92)","v":""},{"$f":"IF(No_CPMS_Limits_Details!D92=\"\",\"\",No_CPMS_Limits_Details!D92)","v":""},"",{"$f":"IF(COUNTIF(V$2:V70,V70)=1,V70,\"\")","v":""},"","","",null,{"$f":"+IF(AI70=\"\",\"\",MAX(AD$1:AD69)+1)","v":""},{"$f":"IF(Limits_Details_w_CPMS!B92=\"\",\"\",Limits_Details_w_CPMS!B92)","v":""},{"$f":"IF(Limits_Details_w_CPMS!C92=\"\",\"\",Limits_Details_w_CPMS!C92)","v":""},{"$f":"IF(Limits_Details_w_CPMS!D92=\"\",\"\",Limits_Details_w_CPMS!D92)","v":""},"",{"$f":"IF(COUNTIF(AH$2:AH70,AH70)=1,AH70,\"\")","v":""},"","","",null,null,null,{"$f":"+IF(AU70=\"\",\"\",MAX(AP$1:AP69)+1)","v":""},{"$f":"IF(CPMS_Detail!B92=\"\",\"\",CPMS_Detail!B92)","v":""},{"$f":"IF(CPMS_Detail!C92=\"\",\"\",CPMS_Detail!C92)","v":""},{"$f":"IF(CPMS_Detail!D92=\"\",\"\",CPMS_Detail!D92)","v":""},"",{"$f":"IF(COUNTIF(AT$2:AT70,AT70)=1,AT70,\"\")","v":""},"","","",null,{"$f":"+IF(BE70=\"\",\"\",MAX(AZ$1:AZ69)+1)","v":""},{"$f":"IF(Mercury!B92=\"\",\"\",Mercury!B92)","v":""},{"$f":"IF(Mercury!C92=\"\",\"\",Mercury!C92)","v":""},{"$f":"IF(Mercury!D92=\"\",\"\",Mercury!D92)","v":""},"",{"$f":"IF(COUNTIF(BB$2:BB70,BB70)=1,BB70,\"\")","v":""},"","",""]
[{"$f":"+IF(D71=\"\",\"\",MAX(A$1:A70)+1)","v":""},{"$f":"IF(CEM_COM_CPMS_Identification!C93=\"\",\"\",CEM_COM_CPMS_Identification!C93)","v":""},"",{"$f":"IF(COUNTIF(B$2:B71,B71)=1,B71,\"\")","v":""},null,null,null,null,null,null,{"$f":"+IF(N71=\"\",\"\",MAX(K$1:K70)+1)","v":""},{"$f":"IF(CEM_COM_CPMS_Identification!D93=\"\",\"\",CEM_COM_CPMS_Identification!D93)","v":""},"",{"$f":"IF(COUNTIF(L$2:L71,L71)=1,L71,\"\")","v":""},null,null,null,null,null,{"$f":"+IF(Y71=\"\",\"\",MAX(T$1:T70)+1)","v":""},{"$f":"IF(No_CPMS_Limits_Details!B93=\"\",\"\",No_CPMS_Limits_Details!B93)","v":""},{"$f":"IF(No_CPMS_Limits_Details!C93=\"\",\"\",No_CPMS_Limits_Details!C93)","v":""},{"$f":"IF(No_CPMS_Limits_Details!D93=\"\",\"\",No_CPMS_Limits_Details!D93)","v":""},"",{"$f":"IF(COUNTIF(V$2:V71,V71)=1,V71,\"\")","v":""},"","","",null,{"$f":"+IF(AI71=\"\",\"\",MAX(AD$1:AD70)+1)","v":""},{"$f":"IF(Limits_Details_w_CPMS!B93=\"\",\"\",Limits_Details_w_CPMS!B93)","v":""},{"$f":"IF(Limits_Details_w_CPMS!C93=\"\",\"\",Limits_Details_w_CPMS!C93)","v":""},{"$f":"IF(Limits_Details_w_CPMS!D93=\"\",\"\",Limits_Details_w_CPMS!D93)","v":""},"",{"$f":"IF(COUNTIF(AH$2:AH71,AH71)=1,AH71,\"\")","v":""},"","","",null,null,null,{"$f":"+IF(AU71=\"\",\"\",MAX(AP$1:AP70)+1)","v":""},{"$f":"IF(CPMS_Detail!B93=\"\",\"\",CPMS_Detail!B93)","v":""},{"$f":"IF(CPMS_Detail!C93=\"\",\"\",CPMS_Detail!C93)","v":""},{"$f":"IF(CPMS_Detail!D93=\"\",\"\",CPMS_Detail!D93)","v":""},"",{"$f":"IF(COUNTIF(AT$2:AT71,AT71)=1,AT71,\"\")","v":""},"","","",null,{"$f":"+IF(BE71=\"\",\"\",MAX(AZ$1:AZ70)+1)","v":""},{"$f":"IF(Mercury!B93=\"\",\"\",Mercury!B93)","v":""},{"$f":"IF(Mercury!C93=\"\",\"\",Mercury!C93)","v":""},{"$f":"IF(Mercury!D93=\"\",\"\",Mercury!D93)","v":""},"",{"$f":"IF(COUNTIF(BB$2:BB71,BB71)=1,BB71,\"\")","v":""},"","",""]
[{"$f":"+IF(D72=\"\",\"\",MAX(A$1:A71)+1)","v":""},{"$f":"IF(CEM_COM_CPMS_Identification!C94=\"\",\"\",CEM_COM_CPMS_Identification!C94)","v":""},"",{"$f":"IF(COUNTIF(B$2:B72,B72)=1,B72,\"\")","v":""},null,null,null,null,null,null,{"$f":"+IF(N72=\"\",\"\",MAX(K$1:K71)+1)","v":""},{"$f":"IF(CEM_COM_CPMS_Identification!D94=\"\",\"\",CEM_COM_CPMS_Identification!D94)","v":""},"",{"$f":"IF(COUNTIF(L$2:L72,L72)=1,L72,\"\")","v":""},null,null,null,null,null,{"$f":"+IF(Y72=\"\",\"\",MAX(T$1:T71)+1)","v":""},{"$f":"IF(No_CPMS_Limits_Details!B94=\"\",\"\",No_CPMS_Limits_Details!B94)","v":""},{"$f":"IF(No_CPMS_Limits_Details!C94=\"\",\"\",No_CPMS_Limits_Details!C94)","v":""},{"$f":"IF(No_CPMS_Limits_Details!D94=\"\",\"\",No_CPMS_Limits_Details!D94)","v":""},"",{"$f":"IF(COUNTIF(V$2:V72,V72)=1,V72,\"\")","v":""},"","","",null,{"$f":"+IF(AI72=\"\",\"\",MAX(AD$1:AD71)+1)","v":""},{"$f":"IF(Limits_Details_w_CPMS!B94=\"\",\"\",Limits_Details_w_CPMS!B94)","v":""},{"$f":"IF(Limits_Details_w_CPMS!C94=\"\",\"\",Limits_Details_w_CPMS!C94)","v":""},{"$f":"IF(Limits_Details_w_CPMS!D94=\"\",\"\",Limits_Details_w_CPMS!D94)","v":""},"",{"$f":"IF(COUNTIF(AH$2:AH72,AH72)=1,AH72,\"\")","v":""},"","","",null,null,null,{"$f":"+IF(AU72=\"\",\"\",MAX(AP$1:AP71)+1)","v":""},{"$f":"IF(CPMS_Detail!B94=\"\",\"\",CPMS_Detail!B94)","v":""},{"$f":"IF(CPMS_Detail!C94=\"\",\"\",CPMS_Detail!C94)","v":""},{"$f":"IF(CPMS_Detail!D94=\"\",\"\",CPMS_Detail!D94)","v":""},"",{"$f":"IF(COUNTIF(AT$2:AT72,AT72)=1,AT72,\"\")","v":""},"","","",null,{"$f":"+IF(BE72=\"\",\"\",MAX(AZ$1:AZ71)+1)","v":""},{"$f":"IF(Mercury!B94=\"\",\"\",Mercury!B94)","v":""},{"$f":"IF(Mercury!C94=\"\",\"\",Mercury!C94)","v":""},{"$f":"IF(Mercury!D94=\"\",\"\",Mercury!D94)","v":""},"",{"$f":"IF(COUNTIF(BB$2:BB72,BB72)=1,BB72,\"\")","v":""},"","",""]
[{"$f":"+IF(D73=\"\",\"\",MAX(A$1:A72)+1)","v":""},{"$f":"IF(CEM_COM_CPMS_Identification!C95=\"\",\"\",CEM_COM_CPMS_Identification!C95)","v":""},"",{"$f":"IF(COUNTIF(B$2:B73,B73)=1,B73,\"\")","v":""},null,null,null,null,null,null,{"$f":"+IF(N73=\"\",\"\",MAX(K$1:K72)+1)","v":""},{"$f":"IF(CEM_COM_CPMS_Identification!D95=\"\",\"\",CEM_COM_CPMS_Identification!D95)","v":""},"",{"$f":"IF(COUNTIF(L$2:L73,L73)=1,L73,\"\")","v":""},null,null,null,null,null,{"$f":"+IF(Y73=\"\",\"\",MAX(T$1:T72)+1)","v":""},{"$f":"IF(No_CPMS_Limits_Details!B95=\"\",\"\",No_CPMS_Limits_Details!B95)","v":""},{"$f":"IF(No_CPMS_Limits_Details!C95=\"\",\"\",No_CPMS_Limits_Details!C95)","v":""},{"$f":"IF(No_CPMS_Limits_Details!D95=\"\",\"\",No_CPMS_Limits_Details!D95)","v":""},"",{"$f":"IF(COUNTIF(V$2:V73,V73)=1,V73,\"\")","v":""},"","","",null,{"$f":"+IF(AI73=\"\",\"\",MAX(AD$1:AD72)+1)","v":""},{"$f":"IF(Limits_Details_w_CPMS!B95=\"\",\"\",Limits_Details_w_CPMS!B95)","v":""},{"$f":"IF(Limits_Details_w_CPMS!C95=\"\",\"\",Limits_Details_w_CPMS!C95)","v":""},{"$f":"IF(Limits_Details_w_CPMS!D95=\"\",\"\",Limits_Details_w_CPMS!D95)","v":""},"",{"$f":"IF(COUNTIF(AH$2:AH73,AH73)=1,AH73,\"\")","v":""},"","","",null,null,null,{"$f":"+IF(AU73=\"\",\"\",MAX(AP$1:AP72)+1)","v":""},{"$f":"IF(CPMS_Detail!B95=\"\",\"\",CPMS_Detail!B95)","v":""},{"$f":"IF(CPMS_Detail!C95=\"\",\"\",CPMS_Detail!C95)","v":""},{"$f":"IF(CPMS_Detail!D95=\"\",\"\",CPMS_Detail!D95)","v":""},"",{"$f":"IF(COUNTIF(AT$2:AT73,AT73)=1,AT73,\"\")","v":""},"","","",null,{"$f":"+IF(BE73=\"\",\"\",MAX(AZ$1:AZ72)+1)","v":""},{"$f":"IF(Mercury!B95=\"\",\"\",Mercury!B95)","v":""},{"$f":"IF(Mercury!C95=\"\",\"\",Mercury!C95)","v":""},{"$f":"IF(Mercury!D95=\"\",\"\",Mercury!D95)","v":""},"",{"$f":"IF(COUNTIF(BB$2:BB73,BB73)=1,BB73,\"\")","v":""},"","",""]
[{"$f":"+IF(D74=\"\",\"\",MAX(A$1:A73)+1)","v":""},{"$f":"IF(CEM_COM_CPMS_Identification!C96=\"\",\"\",CEM_COM_CPMS_Identification!C96)","v":""},"",{"$f":"IF(COUNTIF(B$2:B74,B74)=1,B74,\"\")","v":""},null,null,null,null,null,null,{"$f":"+IF(N74=\"\",\"\",MAX(K$1:K73)+1)","v":""},{"$f":"IF(CEM_COM_CPMS_Identification!D96=\"\",\"\",CEM_COM_CPMS_Identification!D96)","v":""},"",{"$f":"IF(COUNTIF(L$2:L74,L74)=1,L74,\"\")","v":""},null,null,null,null,null,{"$f":"+IF(Y74=\"\",\"\",MAX(T$1:T73)+1)","v":""},{"$f":"IF(No_CPMS_Limits_Details!B96=\"\",\"\",No_CPMS_Limits_Details!B96)","v":""},{"$f":"IF(No_CPMS_Limits_Details!C96=\"\",\"\",No_CPMS_Limits_Details!C96)","v":""},{"$f":"IF(No_CPMS_Limits_Details!D96=\"\",\"\",No_CPMS_Limits_Details!D96)","v":""},"",{"$f":"IF(COUNTIF(V$2:V74,V74)=1,V74,\"\")","v":""},"","","",null,{"$f":"+IF(AI74=\"\",\"\",MAX(AD$1:AD73)+1)","v":""},{"$f":"IF(Limits_Details_w_CPMS!B96=\"\",\"\",Limits_Details_w_CPMS!B96)","v":""},{"$f":"IF(Limits_Details_w_CPMS!C96=\"\",\"\",Limits_Details_w_CPMS!C96)","v":""},{"$f":"IF(Limits_Details_w_CPMS!D96=\"\",\"\",Limits_Details_w_CPMS!D96)","v":""},"",{"$f":"IF(COUNTIF(AH$2:AH74,AH74)=1,AH74,\"\")","v":""},"","","",null,null,null,{"$f":"+IF(AU74=\"\",\"\",MAX(AP$1:AP73)+1)","v":""},{"$f":"IF(CPMS_Detail!B96=\"\",\"\",CPMS_Detail!B96)","v":""},{"$f":"IF(CPMS_Detail!C96=\"\",\"\",CPMS_Detail!C96)","v":""},{"$f":"IF(CPMS_Detail!D96=\"\",\"\",CPMS_Detail!D96)","v":""},"",{"$f":"IF(COUNTIF(AT$2:AT74,AT74)=1,AT74,\"\")","v":""},"","","",null,{"$f":"+IF(BE74=\"\",\"\",MAX(AZ$1:AZ73)+1)","v":""},{"$f":"IF(Mercury!B96=\"\",\"\",Mercury!B96)","v":""},{"$f":"IF(Mercury!C96=\"\",\"\",Mercury!C96)","v":""},{"$f":"IF(Mercury!D96=\"\",\"\",Mercury!D96)","v":""},"",{"$f":"IF(COUNTIF(BB$2:BB74,BB74)=1,BB74,\"\")","v":""},"","",""]
[{"$f":"+IF(D75=\"\",\"\",MAX(A$1:A74)+1)","v":""},{"$f":"IF(CEM_COM_CPMS_Identification!C97=\"\",\"\",CEM_COM_CPMS_Identification!C97)","v":""},"",{"$f":"IF(COUNTIF(B$2:B75,B75)=1,B75,\"\")","v":""},null,null,null,null,null,null,{"$f":"+IF(N75=\"\",\"\",MAX(K$1:K74)+1)","v":""},{"$f":"IF(CEM_COM_CPMS_Identification!D97=\"\",\"\",CEM_COM_CPMS_Identification!D97)","v":""},"",{"$f":"IF(COUNTIF(L$2:L75,L75)=1,L75,\"\")","v":""},null,null,null,null,null,{"$f":"+IF(Y75=\"\",\"\",MAX(T$1:T74)+1)","v":""},{"$f":"IF(No_CPMS_Limits_Details!B97=\"\",\"\",No_CPMS_Limits_Details!B97)","v":""},{"$f":"IF(No_CPMS_Limits_Details!C97=\"\",\"\",No_CPMS_Limits_Details!C97)","v":""},{"$f":"IF(No_CPMS_Limits_Details!D97=\"\",\"\",No_CPMS_Limits_Details!D97)","v":""},"",{"$f":"IF(COUNTIF(V$2:V75,V75)=1,V75,\"\")","v":""},"","","",null,{"$f":"+IF(AI75=\"\",\"\",MAX(AD$1:AD74)+1)","v":""},{"$f":"IF(Limits_Details_w_CPMS!B97=\"\",\"\",Limits_Details_w_CPMS!B97)","v":""},{"$f":"IF(Limits_Details_w_CPMS!C97=\"\",\"\",Limits_Details_w_CPMS!C97)","v":""},{"$f":"IF(Limits_Details_w_CPMS!D97=\"\",\"\",Limits_Details_w_CPMS!D97)","v":""},"",{"$f":"IF(COUNTIF(AH$2:AH75,AH75)=1,AH75,\"\")","v":""},"","","",null,null,null,{"$f":"+IF(AU75=\"\",\"\",MAX(AP$1:AP74)+1)","v":""},{"$f":"IF(CPMS_Detail!B97=\"\",\"\",CPMS_Detail!B97)","v":""},{"$f":"IF(CPMS_Detail!C97=\"\",\"\",CPMS_Detail!C97)","v":""},{"$f":"IF(CPMS_Detail!D97=\"\",\"\",CPMS_Detail!D97)","v":""},"",{"$f":"IF(COUNTIF(AT$2:AT75,AT75)=1,AT75,\"\")","v":""},"","","",null,{"$f":"+IF(BE75=\"\",\"\",MAX(AZ$1:AZ74)+1)","v":""},{"$f":"IF(Mercury!B97=\"\",\"\",Mercury!B97)","v":""},{"$f":"IF(Mercury!C97=\"\",\"\",Mercury!C97)","v":""},{"$f":"IF(Mercury!D97=\"\",\"\",Mercury!D97)","v":""},"",{"$f":"IF(COUNTIF(BB$2:BB75,BB75)=1,BB75,\"\")","v":""},"","",""]
[{"$f":"+IF(D76=\"\",\"\",MAX(A$1:A75)+1)","v":""},{"$f":"IF(CEM_COM_CPMS_Identification!C98=\"\",\"\",CEM_COM_CPMS_Identification!C98)","v":""},"",{"$f":"IF(COUNTIF(B$2:B76,B76)=1,B76,\"\")","v":""},null,null,null,null,null,null,{"$f":"+IF(N76=\"\",\"\",MAX(K$1:K75)+1)","v":""},{"$f":"IF(CEM_COM_CPMS_Identification!D98=\"\",\"\",CEM_COM_CPMS_Identification!D98)","v":""},"",{"$f":"IF(COUNTIF(L$2:L76,L76)=1,L76,\"\")","v":""},null,null,null,null,null,{"$f":"+IF(Y76=\"\",\"\",MAX(T$1:T75)+1)","v":""},{"$f":"IF(No_CPMS_Limits_Details!B98=\"\",\"\",No_CPMS_Limits_Details!B98)","v":""},{"$f":"IF(No_CPMS_Limits_Details!C98=\"\",\"\",No_CPMS_Limits_Details!C98)","v":""},{"$f":"IF(No_CPMS_Limits_Details!D98=\"\",\"\",No_CPMS_Limits_Details!D98)","v":""},"",{"$f":"IF(COUNTIF(V$2:V76,V76)=1,V76,\"\")","v":""},"","","",null,{"$f":"+IF(AI76=\"\",\"\",MAX(AD$1:AD75)+1)","v":""},{"$f":"IF(Limits_Details_w_CPMS!B98=\"\",\"\",Limits_Details_w_CPMS!B98)","v":""},{"$f":"IF(Limits_Details_w_CPMS!C98=\"\",\"\",Limits_Details_w_CPMS!C98)","v":""},{"$f":"IF(Limits_Details_w_CPMS!D98=\"\",\"\",Limits_Details_w_CPMS!D98)","v":""},"",{"$f":"IF(COUNTIF(AH$2:AH76,AH76)=1,AH76,\"\")","v":""},"","","",null,null,null,{"$f":"+IF(AU76=\"\",\"\",MAX(AP$1:AP75)+1)","v":""},{"$f":"IF(CPMS_Detail!B98=\"\",\"\",CPMS_Detail!B98)","v":""},{"$f":"IF(CPMS_Detail!C98=\"\",\"\",CPMS_Detail!C98)","v":""},{"$f":"IF(CPMS_Detail!D98=\"\",\"\",CPMS_Detail!D98)","v":""},"",{"$f":"IF(COUNTIF(AT$2:AT76,AT76)=1,AT76,\"\")","v":""},"","","",null,{"$f":"+IF(BE76=\"\",\"\",MAX(AZ$1:AZ75)+1)","v":""},{"$f":"IF(Mercury!B98=\"\",\"\",Mercury!B98)","v":""},{"$f":"IF(Mercury!C98=\"\",\"\",Mercury!C98)","v":""},{"$f":"IF(Mercury!D98=\"\",\"\",Mercury!D98)","v":""},"",{"$f":"IF(COUNTIF(BB$2:BB76,BB76)=1,BB76,\"\")","v":""},"","",""]
[{"$f":"+IF(D77=\"\",\"\",MAX(A$1:A76)+1)","v":""},{"$f":"IF(CEM_COM_CPMS_Identification!C99=\"\",\"\",CEM_COM_CPMS_Identification!C99)","v":""},"",{"$f":"IF(COUNTIF(B$2:B77,B77)=1,B77,\"\")","v":""},null,null,null,null,null,null,{"$f":"+IF(N77=\"\",\"\",MAX(K$1:K76)+1)","v":""},{"$f":"IF(CEM_COM_CPMS_Identification!D99=\"\",\"\",CEM_COM_CPMS_Identification!D99)","v":""},"",{"$f":"IF(COUNTIF(L$2:L77,L77)=1,L77,\"\")","v":""},null,null,null,null,null,{"$f":"+IF(Y77=\"\",\"\",MAX(T$1:T76)+1)","v":""},{"$f":"IF(No_CPMS_Limits_Details!B99=\"\",\"\",No_CPMS_Limits_Details!B99)","v":""},{"$f":"IF(No_CPMS_Limits_Details!C99=\"\",\"\",No_CPMS_Limits_Details!C99)","v":""},{"$f":"IF(No_CPMS_Limits_Details!D99=\"\",\"\",No_CPMS_Limits_Details!D99)","v":""},"",{"$f":"IF(COUNTIF(V$2:V77,V77)=1,V77,\"\")","v":""},"","","",null,{"$f":"+IF(AI77=\"\",\"\",MAX(AD$1:AD76)+1)","v":""},{"$f":"IF(Limits_Details_w_CPMS!B99=\"\",\"\",Limits_Details_w_CPMS!B99)","v":""},{"$f":"IF(Limits_Details_w_CPMS!C99=\"\",\"\",Limits_Details_w_CPMS!C99)","v":""},{"$f":"IF(Limits_Details_w_CPMS!D99=\"\",\"\",Limits_Details_w_CPMS!D99)","v":""},"",{"$f":"IF(COUNTIF(AH$2:AH77,AH77)=1,AH77,\"\")","v":""},"","","",null,null,null,{"$f":"+IF(AU77=\"\",\"\",MAX(AP$1:AP76)+1)","v":""},{"$f":"IF(CPMS_Detail!B99=\"\",\"\",CPMS_Detail!B99)","v":""},{"$f":"IF(CPMS_Detail!C99=\"\",\"\",CPMS_Detail!C99)","v":""},{"$f":"IF(CPMS_Detail!D99=\"\",\"\",CPMS_Detail!D99)","v":""},"",{"$f":"IF(COUNTIF(AT$2:AT77,AT77)=1,AT77,\"\")","v":""},"","","",null,{"$f":"+IF(BE77=\"\",\"\",MAX(AZ$1:AZ76)+1)","v":""},{"$f":"IF(Mercury!B99=\"\",\"\",Mercury!B99)","v":""},{"$f":"IF(Mercury!C99=\"\",\"\",Mercury!C99)","v":""},{"$f":"IF(Mercury!D99=\"\",\"\",Mercury!D99)","v":""},"",{"$f":"IF(COUNTIF(BB$2:BB77,BB77)=1,BB77,\"\")","v":""},"","",""]
[{"$f":"+IF(D78=\"\",\"\",MAX(A$1:A77)+1)","v":""},{"$f":"IF(CEM_COM_CPMS_Identification!C100=\"\",\"\",CEM_COM_CPMS_Identification!C100)","v":""},"",{"$f":"IF(COUNTIF(B$2:B78,B78)=1,B78,\"\")","v":""},null,null,null,null,null,null,{"$f":"+IF(N78=\"\",\"\",MAX(K$1:K77)+1)","v":""},{"$f":"IF(CEM_COM_CPMS_Identification!D100=\"\",\"\",CEM_COM_CPMS_Identification!D100)","v":""},"",{"$f":"IF(COUNTIF(L$2:L78,L78)=1,L78,\"\")","v":""},null,null,null,null,null,{"$f":"+IF(Y78=\"\",\"\",MAX(T$1:T77)+1)","v":""},{"$f":"IF(No_CPMS_Limits_Details!B100=\"\",\"\",No_CPMS_Limits_Details!B100)","v":""},{"$f":"IF(No_CPMS_Limits_Details!C100=\"\",\"\",No_CPMS_Limits_Details!C100)","v":""},{"$f":"IF(No_CPMS_Limits_Details!D100=\"\",\"\",No_CPMS_Limits_Details!D100)","v":""},"",{"$f":"IF(COUNTIF(V$2:V78,V78)=1,V78,\"\")","v":""},"","","",null,{"$f":"+IF(AI78=\"\",\"\",MAX(AD$1:AD77)+1)","v":""},{"$f":"IF(Limits_Details_w_CPMS!B100=\"\",\"\",Limits_Details_w_CPMS!B100)","v":""},{"$f":"IF(Limits_Details_w_CPMS!C100=\"\",\"\",Limits_Details_w_CPMS!C100)","v":""},{"$f":"IF(Limits_Details_w_CPMS!D100=\"\",\"\",Limits_Details_w_CPMS!D100)","v":""},"",{"$f":"IF(COUNTIF(AH$2:AH78,AH78)=1,AH78,\"\")","v":""},"","","",null,null,null,{"$f":"+IF(AU78=\"\",\"\",MAX(AP$1:AP77)+1)","v":""},{"$f":"IF(CPMS_Detail!B100=\"\",\"\",CPMS_Detail!B100)","v":""},{"$f":"IF(CPMS_Detail!C100=\"\",\"\",CPMS_Detail!C100)","v":""},{"$f":"IF(CPMS_Detail!D100=\"\",\"\",CPMS_Detail!D100)","v":""},"",{"$f":"IF(COUNTIF(AT$2:AT78,AT78)=1,AT78,\"\")","v":""},"","","",null,{"$f":"+IF(BE78=\"\",\"\",MAX(AZ$1:AZ77)+1)","v":""},{"$f":"IF(Mercury!B100=\"\",\"\",Mercury!B100)","v":""},{"$f":"IF(Mercury!C100=\"\",\"\",Mercury!C100)","v":""},{"$f":"IF(Mercury!D100=\"\",\"\",Mercury!D100)","v":""},"",{"$f":"IF(COUNTIF(BB$2:BB78,BB78)=1,BB78,\"\")","v":""},"","",""]
[{"$f":"+IF(D79=\"\",\"\",MAX(A$1:A78)+1)","v":""},{"$f":"IF(CEM_COM_CPMS_Identification!C101=\"\",\"\",CEM_COM_CPMS_Identification!C101)","v":""},"",{"$f":"IF(COUNTIF(B$2:B79,B79)=1,B79,\"\")","v":""},null,null,null,null,null,null,{"$f":"+IF(N79=\"\",\"\",MAX(K$1:K78)+1)","v":""},{"$f":"IF(CEM_COM_CPMS_Identification!D101=\"\",\"\",CEM_COM_CPMS_Identification!D101)","v":""},"",{"$f":"IF(COUNTIF(L$2:L79,L79)=1,L79,\"\")","v":""},null,null,null,null,null,{"$f":"+IF(Y79=\"\",\"\",MAX(T$1:T78)+1)","v":""},{"$f":"IF(No_CPMS_Limits_Details!B101=\"\",\"\",No_CPMS_Limits_Details!B101)","v":""},{"$f":"IF(No_CPMS_Limits_Details!C101=\"\",\"\",No_CPMS_Limits_Details!C101)","v":""},{"$f":"IF(No_CPMS_Limits_Details!D101=\"\",\"\",No_CPMS_Limits_Details!D101)","v":""},"",{"$f":"IF(COUNTIF(V$2:V79,V79)=1,V79,\"\")","v":""},"","","",null,{"$f":"+IF(AI79=\"\",\"\",MAX(AD$1:AD78)+1)","v":""},{"$f":"IF(Limits_Details_w_CPMS!B101=\"\",\"\",Limits_Details_w_CPMS!B101)","v":""},{"$f":"IF(Limits_Details_w_CPMS!C101=\"\",\"\",Limits_Details_w_CPMS!C101)","v":""},{"$f":"IF(Limits_Details_w_CPMS!D101=\"\",\"\",Limits_Details_w_CPMS!D101)","v":""},"",{"$f":"IF(COUNTIF(AH$2:AH79,AH79)=1,AH79,\"\")","v":""},"","","",null,null,null,{"$f":"+IF(AU79=\"\",\"\",MAX(AP$1:AP78)+1)","v":""},{"$f":"IF(CPMS_Detail!B101=\"\",\"\",CPMS_Detail!B101)","v":""},{"$f":"IF(CPMS_Detail!C101=\"\",\"\",CPMS_Detail!C101)","v":""},{"$f":"IF(CPMS_Detail!D101=\"\",\"\",CPMS_Detail!D101)","v":""},"",{"$f":"IF(COUNTIF(AT$2:AT79,AT79)=1,AT79,\"\")","v":""},"","","",null,{"$f":"+IF(BE79=\"\",\"\",MAX(AZ$1:AZ78)+1)","v":""},{"$f":"IF(Mercury!B101=\"\",\"\",Mercury!B101)","v":""},{"$f":"IF(Mercury!C101=\"\",\"\",Mercury!C101)","v":""},{"$f":"IF(Mercury!D101=\"\",\"\",Mercury!D101)","v":""},"",{"$f":"IF(COUNTIF(BB$2:BB79,BB79)=1,BB79,\"\")","v":""},"","",""]
[{"$f":"+IF(D80=\"\",\"\",MAX(A$1:A79)+1)","v":""},{"$f":"IF(CEM_COM_CPMS_Identification!C102=\"\",\"\",CEM_COM_CPMS_Identification!C102)","v":""},"",{"$f":"IF(COUNTIF(B$2:B80,B80)=1,B80,\"\")","v":""},null,null,null,null,null,null,{"$f":"+IF(N80=\"\",\"\",MAX(K$1:K79)+1)","v":""},{"$f":"IF(CEM_COM_CPMS_Identification!D102=\"\",\"\",CEM_COM_CPMS_Identification!D102)","v":""},"",{"$f":"IF(COUNTIF(L$2:L80,L80)=1,L80,\"\")","v":""},null,null,null,null,null,{"$f":"+IF(Y80=\"\",\"\",MAX(T$1:T79)+1)","v":""},{"$f":"IF(No_CPMS_Limits_Details!B102=\"\",\"\",No_CPMS_Limits_Details!B102)","v":""},{"$f":"IF(No_CPMS_Limits_Details!C102=\"\",\"\",No_CPMS_Limits_Details!C102)","v":""},{"$f":"IF(No_CPMS_Limits_Details!D102=\"\",\"\",No_CPMS_Limits_Details!D102)","v":""},"",{"$f":"IF(COUNTIF(V$2:V80,V80)=1,V80,\"\")","v":""},"","","",null,{"$f":"+IF(AI80=\"\",\"\",MAX(AD$1:AD79)+1)","v":""},{"$f":"IF(Limits_Details_w_CPMS!B102=\"\",\"\",Limits_Details_w_CPMS!B102)","v":""},{"$f":"IF(Limits_Details_w_CPMS!C102=\"\",\"\",Limits_Details_w_CPMS!C102)","v":""},{"$f":"IF(Limits_Details_w_CPMS!D102=\"\",\"\",Limits_Details_w_CPMS!D102)","v":""},"",{"$f":"IF(COUNTIF(AH$2:AH80,AH80)=1,AH80,\"\")","v":""},"","","",null,null,null,{"$f":"+IF(AU80=\"\",\"\",MAX(AP$1:AP79)+1)","v":""},{"$f":"IF(CPMS_Detail!B102=\"\",\"\",CPMS_Detail!B102)","v":""},{"$f":"IF(CPMS_Detail!C102=\"\",\"\",CPMS_Detail!C102)","v":""},{"$f":"IF(CPMS_Detail!D102=\"\",\"\",CPMS_Detail!D102)","v":""},"",{"$f":"IF(COUNTIF(AT$2:AT80,AT80)=1,AT80,\"\")","v":""},"","","",null,{"$f":"+IF(BE80=\"\",\"\",MAX(AZ$1:AZ79)+1)","v":""},{"$f":"IF(Mercury!B102=\"\",\"\",Mercury!B102)","v":""},{"$f":"IF(Mercury!C102=\"\",\"\",Mercury!C102)","v":""},{"$f":"IF(Mercury!D102=\"\",\"\",Mercury!D102)","v":""},"",{"$f":"IF(COUNTIF(BB$2:BB80,BB80)=1,BB80,\"\")","v":""},"","",""]
[{"$f":"+IF(D81=\"\",\"\",MAX(A$1:A80)+1)","v":""},{"$f":"IF(CEM_COM_CPMS_Identification!C103=\"\",\"\",CEM_COM_CPMS_Identification!C103)","v":""},"",{"$f":"IF(COUNTIF(B$2:B81,B81)=1,B81,\"\")","v":""},null,null,null,null,null,null,{"$f":"+IF(N81=\"\",\"\",MAX(K$1:K80)+1)","v":""},{"$f":"IF(CEM_COM_CPMS_Identification!D103=\"\",\"\",CEM_COM_CPMS_Identification!D103)","v":""},"",{"$f":"IF(COUNTIF(L$2:L81,L81)=1,L81,\"\")","v":""},null,null,null,null,null,{"$f":"+IF(Y81=\"\",\"\",MAX(T$1:T80)+1)","v":""},{"$f":"IF(No_CPMS_Limits_Details!B103=\"\",\"\",No_CPMS_Limits_Details!B103)","v":""},{"$f":"IF(No_CPMS_Limits_Details!C103=\"\",\"\",No_CPMS_Limits_Details!C103)","v":""},{"$f":"IF(No_CPMS_Limits_Details!D103=\"\",\"\",No_CPMS_Limits_Details!D103)","v":""},"",{"$f":"IF(COUNTIF(V$2:V81,V81)=1,V81,\"\")","v":""},"","","",null,{"$f":"+IF(AI81=\"\",\"\",MAX(AD$1:AD80)+1)","v":""},{"$f":"IF(Limits_Details_w_CPMS!B103=\"\",\"\",Limits_Details_w_CPMS!B103)","v":""},{"$f":"IF(Limits_Details_w_CPMS!C103=\"\",\"\",Limits_Details_w_CPMS!C103)","v":""},{"$f":"IF(Limits_Details_w_CPMS!D103=\"\",\"\",Limits_Details_w_CPMS!D103)","v":""},"",{"$f":"IF(COUNTIF(AH$2:AH81,AH81)=1,AH81,\"\")","v":""},"","","",null,null,null,{"$f":"+IF(AU81=\"\",\"\",MAX(AP$1:AP80)+1)","v":""},{"$f":"IF(CPMS_Detail!B103=\"\",\"\",CPMS_Detail!B103)","v":""},{"$f":"IF(CPMS_Detail!C103=\"\",\"\",CPMS_Detail!C103)","v":""},{"$f":"IF(CPMS_Detail!D103=\"\",\"\",CPMS_Detail!D103)","v":""},"",{"$f":"IF(COUNTIF(AT$2:AT81,AT81)=1,AT81,\"\")","v":""},"","","",null,{"$f":"+IF(BE81=\"\",\"\",MAX(AZ$1:AZ80)+1)","v":""},{"$f":"IF(Mercury!B103=\"\",\"\",Mercury!B103)","v":""},{"$f":"IF(Mercury!C103=\"\",\"\",Mercury!C103)","v":""},{"$f":"IF(Mercury!D103=\"\",\"\",Mercury!D103)","v":""},"",{"$f":"IF(COUNTIF(BB$2:BB81,BB81)=1,BB81,\"\")","v":""},"","",""]
[{"$f":"+IF(D82=\"\",\"\",MAX(A$1:A81)+1)","v":""},{"$f":"IF(CEM_COM_CPMS_Identification!C104=\"\",\"\",CEM_COM_CPMS_Identification!C104)","v":""},"",{"$f":"IF(COUNTIF(B$2:B82,B82)=1,B82,\"\")","v":""},null,null,null,null,null,null,{"$f":"+IF(N82=\"\",\"\",MAX(K$1:K81)+1)","v":""},{"$f":"IF(CEM_COM_CPMS_Identification!D104=\"\",\"\",CEM_COM_CPMS_Identification!D104)","v":""},"",{"$f":"IF(COUNTIF(L$2:L82,L82)=1,L82,\"\")","v":""},null,null,null,null,null,{"$f":"+IF(Y82=\"\",\"\",MAX(T$1:T81)+1)","v":""},{"$f":"IF(No_CPMS_Limits_Details!B104=\"\",\"\",No_CPMS_Limits_Details!B104)","v":""},{"$f":"IF(No_CPMS_Limits_Details!C104=\"\",\"\",No_CPMS_Limits_Details!C104)","v":""},{"$f":"IF(No_CPMS_Limits_Details!D104=\"\",\"\",No_CPMS_Limits_Details!D104)","v":""},"",{"$f":"IF(COUNTIF(V$2:V82,V82)=1,V82,\"\")","v":""},"","","",null,{"$f":"+IF(AI82=\"\",\"\",MAX(AD$1:AD81)+1)","v":""},{"$f":"IF(Limits_Details_w_CPMS!B104=\"\",\"\",Limits_Details_w_CPMS!B104)","v":""},{"$f":"IF(Limits_Details_w_CPMS!C104=\"\",\"\",Limits_Details_w_CPMS!C104)","v":""},{"$f":"IF(Limits_Details_w_CPMS!D104=\"\",\"\",Limits_Details_w_CPMS!D104)","v":""},"",{"$f":"IF(COUNTIF(AH$2:AH82,AH82)=1,AH82,\"\")","v":""},"","","",null,null,null,{"$f":"+IF(AU82=\"\",\"\",MAX(AP$1:AP81)+1)","v":""},{"$f":"IF(CPMS_Detail!B104=\"\",\"\",CPMS_Detail!B104)","v":""},{"$f":"IF(CPMS_Detail!C104=\"\",\"\",CPMS_Detail!C104)","v":""},{"$f":"IF(CPMS_Detail!D104=\"\",\"\",CPMS_Detail!D104)","v":""},"",{"$f":"IF(COUNTIF(AT$2:AT82,AT82)=1,AT82,\"\")","v":""},"","","",null,{"$f":"+IF(BE82=\"\",\"\",MAX(AZ$1:AZ81)+1)","v":""},{"$f":"IF(Mercury!B104=\"\",\"\",Mercury!B104)","v":""},{"$f":"IF(Mercury!C104=\"\",\"\",Mercury!C104)","v":""},{"$f":"IF(Mercury!D104=\"\",\"\",Mercury!D104)","v":""},"",{"$f":"IF(COUNTIF(BB$2:BB82,BB82)=1,BB82,\"\")","v":""},"","",""]
[{"$f":"+IF(D83=\"\",\"\",MAX(A$1:A82)+1)","v":""},{"$f":"IF(CEM_COM_CPMS_Identification!C105=\"\",\"\",CEM_COM_CPMS_Identification!C105)","v":""},"",{"$f":"IF(COUNTIF(B$2:B83,B83)=1,B83,\"\")","v":""},null,null,null,null,null,null,{"$f":"+IF(N83=\"\",\"\",MAX(K$1:K82)+1)","v":""},{"$f":"IF(CEM_COM_CPMS_Identification!D105=\"\",\"\",CEM_COM_CPMS_Identification!D105)","v":""},"",{"$f":"IF(COUNTIF(L$2:L83,L83)=1,L83,\"\")","v":""},null,null,null,null,null,{"$f":"+IF(Y83=\"\",\"\",MAX(T$1:T82)+1)","v":""},{"$f":"IF(No_CPMS_Limits_Details!B105=\"\",\"\",No_CPMS_Limits_Details!B105)","v":""},{"$f":"IF(No_CPMS_Limits_Details!C105=\"\",\"\",No_CPMS_Limits_Details!C105)","v":""},{"$f":"IF(No_CPMS_Limits_Details!D105=\"\",\"\",No_CPMS_Limits_Details!D105)","v":""},"",{"$f":"IF(COUNTIF(V$2:V83,V83)=1,V83,\"\")","v":""},"","","",null,{"$f":"+IF(AI83=\"\",\"\",MAX(AD$1:AD82)+1)","v":""},{"$f":"IF(Limits_Details_w_CPMS!B105=\"\",\"\",Limits_Details_w_CPMS!B105)","v":""},{"$f":"IF(Limits_Details_w_CPMS!C105=\"\",\"\",Limits_Details_w_CPMS!C105)","v":""},{"$f":"IF(Limits_Details_w_CPMS!D105=\"\",\"\",Limits_Details_w_CPMS!D105)","v":""},"",{"$f":"IF(COUNTIF(AH$2:AH83,AH83)=1,AH83,\"\")","v":""},"","","",null,null,null,{"$f":"+IF(AU83=\"\",\"\",MAX(AP$1:AP82)+1)","v":""},{"$f":"IF(CPMS_Detail!B105=\"\",\"\",CPMS_Detail!B105)","v":""},{"$f":"IF(CPMS_Detail!C105=\"\",\"\",CPMS_Detail!C105)","v":""},{"$f":"IF(CPMS_Detail!D105=\"\",\"\",CPMS_Detail!D105)","v":""},"",{"$f":"IF(COUNTIF(AT$2:AT83,AT83)=1,AT83,\"\")","v":""},"","","",null,{"$f":"+IF(BE83=\"\",\"\",MAX(AZ$1:AZ82)+1)","v":""},{"$f":"IF(Mercury!B105=\"\",\"\",Mercury!B105)","v":""},{"$f":"IF(Mercury!C105=\"\",\"\",Mercury!C105)","v":""},{"$f":"IF(Mercury!D105=\"\",\"\",Mercury!D105)","v":""},"",{"$f":"IF(COUNTIF(BB$2:BB83,BB83)=1,BB83,\"\")","v":""},"","",""]
[{"$f":"+IF(D84=\"\",\"\",MAX(A$1:A83)+1)","v":""},{"$f":"IF(CEM_COM_CPMS_Identification!C106=\"\",\"\",CEM_COM_CPMS_Identification!C106)","v":""},"",{"$f":"IF(COUNTIF(B$2:B84,B84)=1,B84,\"\")","v":""},null,null,null,null,null,null,{"$f":"+IF(N84=\"\",\"\",MAX(K$1:K83)+1)","v":""},{"$f":"IF(CEM_COM_CPMS_Identification!D106=\"\",\"\",CEM_COM_CPMS_Identification!D106)","v":""},"",{"$f":"IF(COUNTIF(L$2:L84,L84)=1,L84,\"\")","v":""},null,null,null,null,null,{"$f":"+IF(Y84=\"\",\"\",MAX(T$1:T83)+1)","v":""},{"$f":"IF(No_CPMS_Limits_Details!B106=\"\",\"\",No_CPMS_Limits_Details!B106)","v":""},{"$f":"IF(No_CPMS_Limits_Details!C106=\"\",\"\",No_CPMS_Limits_Details!C106)","v":""},{"$f":"IF(No_CPMS_Limits_Details!D106=\"\",\"\",No_CPMS_Limits_Details!D106)","v":""},"",{"$f":"IF(COUNTIF(V$2:V84,V84)=1,V84,\"\")","v":""},"","","",null,{"$f":"+IF(AI84=\"\",\"\",MAX(AD$1:AD83)+1)","v":""},{"$f":"IF(Limits_Details_w_CPMS!B106=\"\",\"\",Limits_Details_w_CPMS!B106)","v":""},{"$f":"IF(Limits_Details_w_CPMS!C106=\"\",\"\",Limits_Details_w_CPMS!C106)","v":""},{"$f":"IF(Limits_Details_w_CPMS!D106=\"\",\"\",Limits_Details_w_CPMS!D106)","v":""},"",{"$f":"IF(COUNTIF(AH$2:AH84,AH84)=1,AH84,\"\")","v":""},"","","",null,null,null,{"$f":"+IF(AU84=\"\",\"\",MAX(AP$1:AP83)+1)","v":""},{"$f":"IF(CPMS_Detail!B106=\"\",\"\",CPMS_Detail!B106)","v":""},{"$f":"IF(CPMS_Detail!C106=\"\",\"\",CPMS_Detail!C106)","v":""},{"$f":"IF(CPMS_Detail!D106=\"\",\"\",CPMS_Detail!D106)","v":""},"",{"$f":"IF(COUNTIF(AT$2:AT84,AT84)=1,AT84,\"\")","v":""},"","","",null,{"$f":"+IF(BE84=\"\",\"\",MAX(AZ$1:AZ83)+1)","v":""},{"$f":"IF(Mercury!B106=\"\",\"\",Mercury!B106)","v":""},{"$f":"IF(Mercury!C106=\"\",\"\",Mercury!C106)","v":""},{"$f":"IF(Mercury!D106=\"\",\"\",Mercury!D106)","v":""},"",{"$f":"IF(COUNTIF(BB$2:BB84,BB84)=1,BB84,\"\")","v":""},"","",""]
[{"$f":"+IF(D85=\"\",\"\",MAX(A$1:A84)+1)","v":""},{"$f":"IF(CEM_COM_CPMS_Identification!C107=\"\",\"\",CEM_COM_CPMS_Identification!C107)","v":""},"",{"$f":"IF(COUNTIF(B$2:B85,B85)=1,B85,\"\")","v":""},null,null,null,null,null,null,{"$f":"+IF(N85=\"\",\"\",MAX(K$1:K84)+1)","v":""},{"$f":"IF(CEM_COM_CPMS_Identification!D107=\"\",\"\",CEM_COM_CPMS_Identification!D107)","v":""},"",{"$f":"IF(COUNTIF(L$2:L85,L85)=1,L85,\"\")","v":""},null,null,null,null,null,{"$f":"+IF(Y85=\"\",\"\",MAX(T$1:T84)+1)","v":""},{"$f":"IF(No_CPMS_Limits_Details!B107=\"\",\"\",No_CPMS_Limits_Details!B107)","v":""},{"$f":"IF(No_CPMS_Limits_Details!C107=\"\",\"\",No_CPMS_Limits_Details!C107)","v":""},{"$f":"IF(No_CPMS_Limits_Details!D107=\"\",\"\",No_CPMS_Limits_Details!D107)","v":""},"",{"$f":"IF(COUNTIF(V$2:V85,V85)=1,V85,\"\")","v":""},"","","",null,{"$f":"+IF(AI85=\"\",\"\",MAX(AD$1:AD84)+1)","v":""},{"$f":"IF(Limits_Details_w_CPMS!B107=\"\",\"\",Limits_Details_w_CPMS!B107)","v":""},{"$f":"IF(Limits_Details_w_CPMS!C107=\"\",\"\",Limits_Details_w_CPMS!C107)","v":""},{"$f":"IF(Limits_Details_w_CPMS!D107=\"\",\"\",Limits_Details_w_CPMS!D107)","v":""},"",{"$f":"IF(COUNTIF(AH$2:AH85,AH85)=1,AH85,\"\")","v":""},"","","",null,null,null,{"$f":"+IF(AU85=\"\",\"\",MAX(AP$1:AP84)+1)","v":""},{"$f":"IF(CPMS_Detail!B107=\"\",\"\",CPMS_Detail!B107)","v":""},{"$f":"IF(CPMS_Detail!C107=\"\",\"\",CPMS_Detail!C107)","v":""},{"$f":"IF(CPMS_Detail!D107=\"\",\"\",CPMS_Detail!D107)","v":""},"",{"$f":"IF(COUNTIF(AT$2:AT85,AT85)=1,AT85,\"\")","v":""},"","","",null,{"$f":"+IF(BE85=\"\",\"\",MAX(AZ$1:AZ84)+1)","v":""},{"$f":"IF(Mercury!B107=\"\",\"\",Mercury!B107)","v":""},{"$f":"IF(Mercury!C107=\"\",\"\",Mercury!C107)","v":""},{"$f":"IF(Mercury!D107=\"\",\"\",Mercury!D107)","v":""},"",{"$f":"IF(COUNTIF(BB$2:BB85,BB85)=1,BB85,\"\")","v":""},"","",""]
[{"$f":"+IF(D86=\"\",\"\",MAX(A$1:A85)+1)","v":""},{"$f":"IF(CEM_COM_CPMS_Identification!C108=\"\",\"\",CEM_COM_CPMS_Identification!C108)","v":""},"",{"$f":"IF(COUNTIF(B$2:B86,B86)=1,B86,\"\")","v":""},null,null,null,null,null,null,{"$f":"+IF(N86=\"\",\"\",MAX(K$1:K85)+1)","v":""},{"$f":"IF(CEM_COM_CPMS_Identification!D108=\"\",\"\",CEM_COM_CPMS_Identification!D108)","v":""},"",{"$f":"IF(COUNTIF(L$2:L86,L86)=1,L86,\"\")","v":""},null,null,null,null,null,{"$f":"+IF(Y86=\"\",\"\",MAX(T$1:T85)+1)","v":""},{"$f":"IF(No_CPMS_Limits_Details!B108=\"\",\"\",No_CPMS_Limits_Details!B108)","v":""},{"$f":"IF(No_CPMS_Limits_Details!C108=\"\",\"\",No_CPMS_Limits_Details!C108)","v":""},{"$f":"IF(No_CPMS_Limits_Details!D108=\"\",\"\",No_CPMS_Limits_Details!D108)","v":""},"",{"$f":"IF(COUNTIF(V$2:V86,V86)=1,V86,\"\")","v":""},"","","",null,{"$f":"+IF(AI86=\"\",\"\",MAX(AD$1:AD85)+1)","v":""},{"$f":"IF(Limits_Details_w_CPMS!B108=\"\",\"\",Limits_Details_w_CPMS!B108)","v":""},{"$f":"IF(Limits_Details_w_CPMS!C108=\"\",\"\",Limits_Details_w_CPMS!C108)","v":""},{"$f":"IF(Limits_Details_w_CPMS!D108=\"\",\"\",Limits_Details_w_CPMS!D108)","v":""},"",{"$f":"IF(COUNTIF(AH$2:AH86,AH86)=1,AH86,\"\")","v":""},"","","",null,null,null,{"$f":"+IF(AU86=\"\",\"\",MAX(AP$1:AP85)+1)","v":""},{"$f":"IF(CPMS_Detail!B108=\"\",\"\",CPMS_Detail!B108)","v":""},{"$f":"IF(CPMS_Detail!C108=\"\",\"\",CPMS_Detail!C108)","v":""},{"$f":"IF(CPMS_Detail!D108=\"\",\"\",CPMS_Detail!D108)","v":""},"",{"$f":"IF(COUNTIF(AT$2:AT86,AT86)=1,AT86,\"\")","v":""},"","","",null,{"$f":"+IF(BE86=\"\",\"\",MAX(AZ$1:AZ85)+1)","v":""},{"$f":"IF(Mercury!B108=\"\",\"\",Mercury!B108)","v":""},{"$f":"IF(Mercury!C108=\"\",\"\",Mercury!C108)","v":""},{"$f":"IF(Mercury!D108=\"\",\"\",Mercury!D108)","v":""},"",{"$f":"IF(COUNTIF(BB$2:BB86,BB86)=1,BB86,\"\")","v":""},"","",""]
[{"$f":"+IF(D87=\"\",\"\",MAX(A$1:A86)+1)","v":""},{"$f":"IF(CEM_COM_CPMS_Identification!C109=\"\",\"\",CEM_COM_CPMS_Identification!C109)","v":""},"",{"$f":"IF(COUNTIF(B$2:B87,B87)=1,B87,\"\")","v":""},null,null,null,null,null,null,{"$f":"+IF(N87=\"\",\"\",MAX(K$1:K86)+1)","v":""},{"$f":"IF(CEM_COM_CPMS_Identification!D109=\"\",\"\",CEM_COM_CPMS_Identification!D109)","v":""},"",{"$f":"IF(COUNTIF(L$2:L87,L87)=1,L87,\"\")","v":""},null,null,null,null,null,{"$f":"+IF(Y87=\"\",\"\",MAX(T$1:T86)+1)","v":""},{"$f":"IF(No_CPMS_Limits_Details!B109=\"\",\"\",No_CPMS_Limits_Details!B109)","v":""},{"$f":"IF(No_CPMS_Limits_Details!C109=\"\",\"\",No_CPMS_Limits_Details!C109)","v":""},{"$f":"IF(No_CPMS_Limits_Details!D109=\"\",\"\",No_CPMS_Limits_Details!D109)","v":""},"",{"$f":"IF(COUNTIF(V$2:V87,V87)=1,V87,\"\")","v":""},"","","",null,{"$f":"+IF(AI87=\"\",\"\",MAX(AD$1:AD86)+1)","v":""},{"$f":"IF(Limits_Details_w_CPMS!B109=\"\",\"\",Limits_Details_w_CPMS!B109)","v":""},{"$f":"IF(Limits_Details_w_CPMS!C109=\"\",\"\",Limits_Details_w_CPMS!C109)","v":""},{"$f":"IF(Limits_Details_w_CPMS!D109=\"\",\"\",Limits_Details_w_CPMS!D109)","v":""},"",{"$f":"IF(COUNTIF(AH$2:AH87,AH87)=1,AH87,\"\")","v":""},"","","",null,null,null,{"$f":"+IF(AU87=\"\",\"\",MAX(AP$1:AP86)+1)","v":""},{"$f":"IF(CPMS_Detail!B109=\"\",\"\",CPMS_Detail!B109)","v":""},{"$f":"IF(CPMS_Detail!C109=\"\",\"\",CPMS_Detail!C109)","v":""},{"$f":"IF(CPMS_Detail!D109=\"\",\"\",CPMS_Detail!D109)","v":""},"",{"$f":"IF(COUNTIF(AT$2:AT87,AT87)=1,AT87,\"\")","v":""},"","","",null,{"$f":"+IF(BE87=\"\",\"\",MAX(AZ$1:AZ86)+1)","v":""},{"$f":"IF(Mercury!B109=\"\",\"\",Mercury!B109)","v":""},{"$f":"IF(Mercury!C109=\"\",\"\",Mercury!C109)","v":""},{"$f":"IF(Mercury!D109=\"\",\"\",Mercury!D109)","v":""},"",{"$f":"IF(COUNTIF(BB$2:BB87,BB87)=1,BB87,\"\")","v":""},"","",""]
[{"$f":"+IF(D88=\"\",\"\",MAX(A$1:A87)+1)","v":""},{"$f":"IF(CEM_COM_CPMS_Identification!C110=\"\",\"\",CEM_COM_CPMS_Identification!C110)","v":""},"",{"$f":"IF(COUNTIF(B$2:B88,B88)=1,B88,\"\")","v":""},null,null,null,null,null,null,{"$f":"+IF(N88=\"\",\"\",MAX(K$1:K87)+1)","v":""},{"$f":"IF(CEM_COM_CPMS_Identification!D110=\"\",\"\",CEM_COM_CPMS_Identification!D110)","v":""},"",{"$f":"IF(COUNTIF(L$2:L88,L88)=1,L88,\"\")","v":""},null,null,null,null,null,{"$f":"+IF(Y88=\"\",\"\",MAX(T$1:T87)+1)","v":""},{"$f":"IF(No_CPMS_Limits_Details!B110=\"\",\"\",No_CPMS_Limits_Details!B110)","v":""},{"$f":"IF(No_CPMS_Limits_Details!C110=\"\",\"\",No_CPMS_Limits_Details!C110)","v":""},{"$f":"IF(No_CPMS_Limits_Details!D110=\"\",\"\",No_CPMS_Limits_Details!D110)","v":""},"",{"$f":"IF(COUNTIF(V$2:V88,V88)=1,V88,\"\")","v":""},"","","",null,{"$f":"+IF(AI88=\"\",\"\",MAX(AD$1:AD87)+1)","v":""},{"$f":"IF(Limits_Details_w_CPMS!B110=\"\",\"\",Limits_Details_w_CPMS!B110)","v":""},{"$f":"IF(Limits_Details_w_CPMS!C110=\"\",\"\",Limits_Details_w_CPMS!C110)","v":""},{"$f":"IF(Limits_Details_w_CPMS!D110=\"\",\"\",Limits_Details_w_CPMS!D110)","v":""},"",{"$f":"IF(COUNTIF(AH$2:AH88,AH88)=1,AH88,\"\")","v":""},"","","",null,null,null,{"$f":"+IF(AU88=\"\",\"\",MAX(AP$1:AP87)+1)","v":""},{"$f":"IF(CPMS_Detail!B110=\"\",\"\",CPMS_Detail!B110)","v":""},{"$f":"IF(CPMS_Detail!C110=\"\",\"\",CPMS_Detail!C110)","v":""},{"$f":"IF(CPMS_Detail!D110=\"\",\"\",CPMS_Detail!D110)","v":""},"",{"$f":"IF(COUNTIF(AT$2:AT88,AT88)=1,AT88,\"\")","v":""},"","","",null,{"$f":"+IF(BE88=\"\",\"\",MAX(AZ$1:AZ87)+1)","v":""},{"$f":"IF(Mercury!B110=\"\",\"\",Mercury!B110)","v":""},{"$f":"IF(Mercury!C110=\"\",\"\",Mercury!C110)","v":""},{"$f":"IF(Mercury!D110=\"\",\"\",Mercury!D110)","v":""},"",{"$f":"IF(COUNTIF(BB$2:BB88,BB88)=1,BB88,\"\")","v":""},"","",""]
[{"$f":"+IF(D89=\"\",\"\",MAX(A$1:A88)+1)","v":""},{"$f":"IF(CEM_COM_CPMS_Identification!C111=\"\",\"\",CEM_COM_CPMS_Identification!C111)","v":""},"",{"$f":"IF(COUNTIF(B$2:B89,B89)=1,B89,\"\")","v":""},null,null,null,null,null,null,{"$f":"+IF(N89=\"\",\"\",MAX(K$1:K88)+1)","v":""},{"$f":"IF(CEM_COM_CPMS_Identification!D111=\"\",\"\",CEM_COM_CPMS_Identification!D111)","v":""},"",{"$f":"IF(COUNTIF(L$2:L89,L89)=1,L89,\"\")","v":""},null,null,null,null,null,{"$f":"+IF(Y89=\"\",\"\",MAX(T$1:T88)+1)","v":""},{"$f":"IF(No_CPMS_Limits_Details!B111=\"\",\"\",No_CPMS_Limits_Details!B111)","v":""},{"$f":"IF(No_CPMS_Limits_Details!C111=\"\",\"\",No_CPMS_Limits_Details!C111)","v":""},{"$f":"IF(No_CPMS_Limits_Details!D111=\"\",\"\",No_CPMS_Limits_Details!D111)","v":""},"",{"$f":"IF(COUNTIF(V$2:V89,V89)=1,V89,\"\")","v":""},"","","",null,{"$f":"+IF(AI89=\"\",\"\",MAX(AD$1:AD88)+1)","v":""},{"$f":"IF(Limits_Details_w_CPMS!B111=\"\",\"\",Limits_Details_w_CPMS!B111)","v":""},{"$f":"IF(Limits_Details_w_CPMS!C111=\"\",\"\",Limits_Details_w_CPMS!C111)","v":""},{"$f":"IF(Limits_Details_w_CPMS!D111=\"\",\"\",Limits_Details_w_CPMS!D111)","v":""},"",{"$f":"IF(COUNTIF(AH$2:AH89,AH89)=1,AH89,\"\")","v":""},"","","",null,null,null,{"$f":"+IF(AU89=\"\",\"\",MAX(AP$1:AP88)+1)","v":""},{"$f":"IF(CPMS_Detail!B111=\"\",\"\",CPMS_Detail!B111)","v":""},{"$f":"IF(CPMS_Detail!C111=\"\",\"\",CPMS_Detail!C111)","v":""},{"$f":"IF(CPMS_Detail!D111=\"\",\"\",CPMS_Detail!D111)","v":""},"",{"$f":"IF(COUNTIF(AT$2:AT89,AT89)=1,AT89,\"\")","v":""},"","","",null,{"$f":"+IF(BE89=\"\",\"\",MAX(AZ$1:AZ88)+1)","v":""},{"$f":"IF(Mercury!B111=\"\",\"\",Mercury!B111)","v":""},{"$f":"IF(Mercury!C111=\"\",\"\",Mercury!C111)","v":""},{"$f":"IF(Mercury!D111=\"\",\"\",Mercury!D111)","v":""},"",{"$f":"IF(COUNTIF(BB$2:BB89,BB89)=1,BB89,\"\")","v":""},"","",""]
[{"$f":"+IF(D90=\"\",\"\",MAX(A$1:A89)+1)","v":""},{"$f":"IF(CEM_COM_CPMS_Identification!C112=\"\",\"\",CEM_COM_CPMS_Identification!C112)","v":""},"",{"$f":"IF(COUNTIF(B$2:B90,B90)=1,B90,\"\")","v":""},null,null,null,null,null,null,{"$f":"+IF(N90=\"\",\"\",MAX(K$1:K89)+1)","v":""},{"$f":"IF(CEM_COM_CPMS_Identification!D112=\"\",\"\",CEM_COM_CPMS_Identification!D112)","v":""},"",{"$f":"IF(COUNTIF(L$2:L90,L90)=1,L90,\"\")","v":""},null,null,null,null,null,{"$f":"+IF(Y90=\"\",\"\",MAX(T$1:T89)+1)","v":""},{"$f":"IF(No_CPMS_Limits_Details!B112=\"\",\"\",No_CPMS_Limits_Details!B112)","v":""},{"$f":"IF(No_CPMS_Limits_Details!C112=\"\",\"\",No_CPMS_Limits_Details!C112)","v":""},{"$f":"IF(No_CPMS_Limits_Details!D112=\"\",\"\",No_CPMS_Limits_Details!D112)","v":""},"",{"$f":"IF(COUNTIF(V$2:V90,V90)=1,V90,\"\")","v":""},"","","",null,{"$f":"+IF(AI90=\"\",\"\",MAX(AD$1:AD89)+1)","v":""},{"$f":"IF(Limits_Details_w_CPMS!B112=\"\",\"\",Limits_Details_w_CPMS!B112)","v":""},{"$f":"IF(Limits_Details_w_CPMS!C112=\"\",\"\",Limits_Details_w_CPMS!C112)","v":""},{"$f":"IF(Limits_Details_w_CPMS!D112=\"\",\"\",Limits_Details_w_CPMS!D112)","v":""},"",{"$f":"IF(COUNTIF(AH$2:AH90,AH90)=1,AH90,\"\")","v":""},"","","",null,null,null,{"$f":"+IF(AU90=\"\",\"\",MAX(AP$1:AP89)+1)","v":""},{"$f":"IF(CPMS_Detail!B112=\"\",\"\",CPMS_Detail!B112)","v":""},{"$f":"IF(CPMS_Detail!C112=\"\",\"\",CPMS_Detail!C112)","v":""},{"$f":"IF(CPMS_Detail!D112=\"\",\"\",CPMS_Detail!D112)","v":""},"",{"$f":"IF(COUNTIF(AT$2:AT90,AT90)=1,AT90,\"\")","v":""},"","","",null,{"$f":"+IF(BE90=\"\",\"\",MAX(AZ$1:AZ89)+1)","v":""},{"$f":"IF(Mercury!B112=\"\",\"\",Mercury!B112)","v":""},{"$f":"IF(Mercury!C112=\"\",\"\",Mercury!C112)","v":""},{"$f":"IF(Mercury!D112=\"\",\"\",Mercury!D112)","v":""},"",{"$f":"IF(COUNTIF(BB$2:BB90,BB90)=1,BB90,\"\")","v":""},"","",""]
[{"$f":"+IF(D91=\"\",\"\",MAX(A$1:A90)+1)","v":""},{"$f":"IF(CEM_COM_CPMS_Identification!C113=\"\",\"\",CEM_COM_CPMS_Identification!C113)","v":""},"",{"$f":"IF(COUNTIF(B$2:B91,B91)=1,B91,\"\")","v":""},null,null,null,null,null,null,{"$f":"+IF(N91=\"\",\"\",MAX(K$1:K90)+1)","v":""},{"$f":"IF(CEM_COM_CPMS_Identification!D113=\"\",\"\",CEM_COM_CPMS_Identification!D113)","v":""},"",{"$f":"IF(COUNTIF(L$2:L91,L91)=1,L91,\"\")","v":""},null,null,null,null,null,{"$f":"+IF(Y91=\"\",\"\",MAX(T$1:T90)+1)","v":""},{"$f":"IF(No_CPMS_Limits_Details!B113=\"\",\"\",No_CPMS_Limits_Details!B113)","v":""},{"$f":"IF(No_CPMS_Limits_Details!C113=\"\",\"\",No_CPMS_Limits_Details!C113)","v":""},{"$f":"IF(No_CPMS_Limits_Details!D113=\"\",\"\",No_CPMS_Limits_Details!D113)","v":""},"",{"$f":"IF(COUNTIF(V$2:V91,V91)=1,V91,\"\")","v":""},"","","",null,{"$f":"+IF(AI91=\"\",\"\",MAX(AD$1:AD90)+1)","v":""},{"$f":"IF(Limits_Details_w_CPMS!B113=\"\",\"\",Limits_Details_w_CPMS!B113)","v":""},{"$f":"IF(Limits_Details_w_CPMS!C113=\"\",\"\",Limits_Details_w_CPMS!C113)","v":""},{"$f":"IF(Limits_Details_w_CPMS!D113=\"\",\"\",Limits_Details_w_CPMS!D113)","v":""},"",{"$f":"IF(COUNTIF(AH$2:AH91,AH91)=1,AH91,\"\")","v":""},"","","",null,null,null,{"$f":"+IF(AU91=\"\",\"\",MAX(AP$1:AP90)+1)","v":""},{"$f":"IF(CPMS_Detail!B113=\"\",\"\",CPMS_Detail!B113)","v":""},{"$f":"IF(CPMS_Detail!C113=\"\",\"\",CPMS_Detail!C113)","v":""},{"$f":"IF(CPMS_Detail!D113=\"\",\"\",CPMS_Detail!D113)","v":""},"",{"$f":"IF(COUNTIF(AT$2:AT91,AT91)=1,AT91,\"\")","v":""},"","","",null,{"$f":"+IF(BE91=\"\",\"\",MAX(AZ$1:AZ90)+1)","v":""},{"$f":"IF(Mercury!B113=\"\",\"\",Mercury!B113)","v":""},{"$f":"IF(Mercury!C113=\"\",\"\",Mercury!C113)","v":""},{"$f":"IF(Mercury!D113=\"\",\"\",Mercury!D113)","v":""},"",{"$f":"IF(COUNTIF(BB$2:BB91,BB91)=1,BB91,\"\")","v":""},"","",""]
[{"$f":"+IF(D92=\"\",\"\",MAX(A$1:A91)+1)","v":""},{"$f":"IF(CEM_COM_CPMS_Identification!C114=\"\",\"\",CEM_COM_CPMS_Identification!C114)","v":""},"",{"$f":"IF(COUNTIF(B$2:B92,B92)=1,B92,\"\")","v":""},null,null,null,null,null,null,{"$f":"+IF(N92=\"\",\"\",MAX(K$1:K91)+1)","v":""},{"$f":"IF(CEM_COM_CPMS_Identification!D114=\"\",\"\",CEM_COM_CPMS_Identification!D114)","v":""},"",{"$f":"IF(COUNTIF(L$2:L92,L92)=1,L92,\"\")","v":""},null,null,null,null,null,{"$f":"+IF(Y92=\"\",\"\",MAX(T$1:T91)+1)","v":""},{"$f":"IF(No_CPMS_Limits_Details!B114=\"\",\"\",No_CPMS_Limits_Details!B114)","v":""},{"$f":"IF(No_CPMS_Limits_Details!C114=\"\",\"\",No_CPMS_Limits_Details!C114)","v":""},{"$f":"IF(No_CPMS_Limits_Details!D114=\"\",\"\",No_CPMS_Limits_Details!D114)","v":""},"",{"$f":"IF(COUNTIF(V$2:V92,V92)=1,V92,\"\")","v":""},"","","",null,{"$f":"+IF(AI92=\"\",\"\",MAX(AD$1:AD91)+1)","v":""},{"$f":"IF(Limits_Details_w_CPMS!B114=\"\",\"\",Limits_Details_w_CPMS!B114)","v":""},{"$f":"IF(Limits_Details_w_CPMS!C114=\"\",\"\",Limits_Details_w_CPMS!C114)","v":""},{"$f":"IF(Limits_Details_w_CPMS!D114=\"\",\"\",Limits_Details_w_CPMS!D114)","v":""},"",{"$f":"IF(COUNTIF(AH$2:AH92,AH92)=1,AH92,\"\")","v":""},"","","",null,null,null,{"$f":"+IF(AU92=\"\",\"\",MAX(AP$1:AP91)+1)","v":""},{"$f":"IF(CPMS_Detail!B114=\"\",\"\",CPMS_Detail!B114)","v":""},{"$f":"IF(CPMS_Detail!C114=\"\",\"\",CPMS_Detail!C114)","v":""},{"$f":"IF(CPMS_Detail!D114=\"\",\"\",CPMS_Detail!D114)","v":""},"",{"$f":"IF(COUNTIF(AT$2:AT92,AT92)=1,AT92,\"\")","v":""},"","","",null,{"$f":"+IF(BE92=\"\",\"\",MAX(AZ$1:AZ91)+1)","v":""},{"$f":"IF(Mercury!B114=\"\",\"\",Mercury!B114)","v":""},{"$f":"IF(Mercury!C114=\"\",\"\",Mercury!C114)","v":""},{"$f":"IF(Mercury!D114=\"\",\"\",Mercury!D114)","v":""},"",{"$f":"IF(COUNTIF(BB$2:BB92,BB92)=1,BB92,\"\")","v":""},"","",""]
[{"$f":"+IF(D93=\"\",\"\",MAX(A$1:A92)+1)","v":""},{"$f":"IF(CEM_COM_CPMS_Identification!C115=\"\",\"\",CEM_COM_CPMS_Identification!C115)","v":""},"",{"$f":"IF(COUNTIF(B$2:B93,B93)=1,B93,\"\")","v":""},null,null,null,null,null,null,{"$f":"+IF(N93=\"\",\"\",MAX(K$1:K92)+1)","v":""},{"$f":"IF(CEM_COM_CPMS_Identification!D115=\"\",\"\",CEM_COM_CPMS_Identification!D115)","v":""},"",{"$f":"IF(COUNTIF(L$2:L93,L93)=1,L93,\"\")","v":""},null,null,null,null,null,{"$f":"+IF(Y93=\"\",\"\",MAX(T$1:T92)+1)","v":""},{"$f":"IF(No_CPMS_Limits_Details!B115=\"\",\"\",No_CPMS_Limits_Details!B115)","v":""},{"$f":"IF(No_CPMS_Limits_Details!C115=\"\",\"\",No_CPMS_Limits_Details!C115)","v":""},{"$f":"IF(No_CPMS_Limits_Details!D115=\"\",\"\",No_CPMS_Limits_Details!D115)","v":""},"",{"$f":"IF(COUNTIF(V$2:V93,V93)=1,V93,\"\")","v":""},"","","",null,{"$f":"+IF(AI93=\"\",\"\",MAX(AD$1:AD92)+1)","v":""},{"$f":"IF(Limits_Details_w_CPMS!B115=\"\",\"\",Limits_Details_w_CPMS!B115)","v":""},{"$f":"IF(Limits_Details_w_CPMS!C115=\"\",\"\",Limits_Details_w_CPMS!C115)","v":""},{"$f":"IF(Limits_Details_w_CPMS!D115=\"\",\"\",Limits_Details_w_CPMS!D115)","v":""},"",{"$f":"IF(COUNTIF(AH$2:AH93,AH93)=1,AH93,\"\")","v":""},"","","",null,null,null,{"$f":"+IF(AU93=\"\",\"\",MAX(AP$1:AP92)+1)","v":""},{"$f":"IF(CPMS_Detail!B115=\"\",\"\",CPMS_Detail!B115)","v":""},{"$f":"IF(CPMS_Detail!C115=\"\",\"\",CPMS_Detail!C115)","v":""},{"$f":"IF(CPMS_Detail!D115=\"\",\"\",CPMS_Detail!D115)","v":""},"",{"$f":"IF(COUNTIF(AT$2:AT93,AT93)=1,AT93,\"\")","v":""},"","","",null,{"$f":"+IF(BE93=\"\",\"\",MAX(AZ$1:AZ92)+1)","v":""},{"$f":"IF(Mercury!B115=\"\",\"\",Mercury!B115)","v":""},{"$f":"IF(Mercury!C115=\"\",\"\",Mercury!C115)","v":""},{"$f":"IF(Mercury!D115=\"\",\"\",Mercury!D115)","v":""},"",{"$f":"IF(COUNTIF(BB$2:BB93,BB93)=1,BB93,\"\")","v":""},"","",""]
[{"$f":"+IF(D94=\"\",\"\",MAX(A$1:A93)+1)","v":""},{"$f":"IF(CEM_COM_CPMS_Identification!C116=\"\",\"\",CEM_COM_CPMS_Identification!C116)","v":""},"",{"$f":"IF(COUNTIF(B$2:B94,B94)=1,B94,\"\")","v":""},null,null,null,null,null,null,{"$f":"+IF(N94=\"\",\"\",MAX(K$1:K93)+1)","v":""},{"$f":"IF(CEM_COM_CPMS_Identification!D116=\"\",\"\",CEM_COM_CPMS_Identification!D116)","v":""},"",{"$f":"IF(COUNTIF(L$2:L94,L94)=1,L94,\"\")","v":""},null,null,null,null,null,{"$f":"+IF(Y94=\"\",\"\",MAX(T$1:T93)+1)","v":""},{"$f":"IF(No_CPMS_Limits_Details!B116=\"\",\"\",No_CPMS_Limits_Details!B116)","v":""},{"$f":"IF(No_CPMS_Limits_Details!C116=\"\",\"\",No_CPMS_Limits_Details!C116)","v":""},{"$f":"IF(No_CPMS_Limits_Details!D116=\"\",\"\",No_CPMS_Limits_Details!D116)","v":""},"",{"$f":"IF(COUNTIF(V$2:V94,V94)=1,V94,\"\")","v":""},"","","",null,{"$f":"+IF(AI94=\"\",\"\",MAX(AD$1:AD93)+1)","v":""},{"$f":"IF(Limits_Details_w_CPMS!B116=\"\",\"\",Limits_Details_w_CPMS!B116)","v":""},{"$f":"IF(Limits_Details_w_CPMS!C116=\"\",\"\",Limits_Details_w_CPMS!C116)","v":""},{"$f":"IF(Limits_Details_w_CPMS!D116=\"\",\"\",Limits_Details_w_CPMS!D116)","v":""},"",{"$f":"IF(COUNTIF(AH$2:AH94,AH94)=1,AH94,\"\")","v":""},"","","",null,null,null,{"$f":"+IF(AU94=\"\",\"\",MAX(AP$1:AP93)+1)","v":""},{"$f":"IF(CPMS_Detail!B116=\"\",\"\",CPMS_Detail!B116)","v":""},{"$f":"IF(CPMS_Detail!C116=\"\",\"\",CPMS_Detail!C116)","v":""},{"$f":"IF(CPMS_Detail!D116=\"\",\"\",CPMS_Detail!D116)","v":""},"",{"$f":"IF(COUNTIF(AT$2:AT94,AT94)=1,AT94,\"\")","v":""},"","","",null,{"$f":"+IF(BE94=\"\",\"\",MAX(AZ$1:AZ93)+1)","v":""},{"$f":"IF(Mercury!B116=\"\",\"\",Mercury!B116)","v":""},{"$f":"IF(Mercury!C116=\"\",\"\",Mercury!C116)","v":""},{"$f":"IF(Mercury!D116=\"\",\"\",Mercury!D116)","v":""},"",{"$f":"IF(COUNTIF(BB$2:BB94,BB94)=1,BB94,\"\")","v":""},"","",""]
[{"$f":"+IF(D95=\"\",\"\",MAX(A$1:A94)+1)","v":""},{"$f":"IF(CEM_COM_CPMS_Identification!C117=\"\",\"\",CEM_COM_CPMS_Identification!C117)","v":""},"",{"$f":"IF(COUNTIF(B$2:B95,B95)=1,B95,\"\")","v":""},null,null,null,null,null,null,{"$f":"+IF(N95=\"\",\"\",MAX(K$1:K94)+1)","v":""},{"$f":"IF(CEM_COM_CPMS_Identification!D117=\"\",\"\",CEM_COM_CPMS_Identification!D117)","v":""},"",{"$f":"IF(COUNTIF(L$2:L95,L95)=1,L95,\"\")","v":""},null,null,null,null,null,{"$f":"+IF(Y95=\"\",\"\",MAX(T$1:T94)+1)","v":""},{"$f":"IF(No_CPMS_Limits_Details!B117=\"\",\"\",No_CPMS_Limits_Details!B117)","v":""},{"$f":"IF(No_CPMS_Limits_Details!C117=\"\",\"\",No_CPMS_Limits_Details!C117)","v":""},{"$f":"IF(No_CPMS_Limits_Details!D117=\"\",\"\",No_CPMS_Limits_Details!D117)","v":""},"",{"$f":"IF(COUNTIF(V$2:V95,V95)=1,V95,\"\")","v":""},"","","",null,{"$f":"+IF(AI95=\"\",\"\",MAX(AD$1:AD94)+1)","v":""},{"$f":"IF(Limits_Details_w_CPMS!B117=\"\",\"\",Limits_Details_w_CPMS!B117)","v":""},{"$f":"IF(Limits_Details_w_CPMS!C117=\"\",\"\",Limits_Details_w_CPMS!C117)","v":""},{"$f":"IF(Limits_Details_w_CPMS!D117=\"\",\"\",Limits_Details_w_CPMS!D117)","v":""},"",{"$f":"IF(COUNTIF(AH$2:AH95,AH95)=1,AH95,\"\")","v":""},"","","",null,null,null,{"$f":"+IF(AU95=\"\",\"\",MAX(AP$1:AP94)+1)","v":""},{"$f":"IF(CPMS_Detail!B117=\"\",\"\",CPMS_Detail!B117)","v":""},{"$f":"IF(CPMS_Detail!C117=\"\",\"\",CPMS_Detail!C117)","v":""},{"$f":"IF(CPMS_Detail!D117=\"\",\"\",CPMS_Detail!D117)","v":""},"",{"$f":"IF(COUNTIF(AT$2:AT95,AT95)=1,AT95,\"\")","v":""},"","","",null,{"$f":"+IF(BE95=\"\",\"\",MAX(AZ$1:AZ94)+1)","v":""},{"$f":"IF(Mercury!B117=\"\",\"\",Mercury!B117)","v":""},{"$f":"IF(Mercury!C117=\"\",\"\",Mercury!C117)","v":""},{"$f":"IF(Mercury!D117=\"\",\"\",Mercury!D117)","v":""},"",{"$f":"IF(COUNTIF(BB$2:BB95,BB95)=1,BB95,\"\")","v":""},"","",""]
[{"$f":"+IF(D96=\"\",\"\",MAX(A$1:A95)+1)","v":""},{"$f":"IF(CEM_COM_CPMS_Identification!C118=\"\",\"\",CEM_COM_CPMS_Identification!C118)","v":""},"",{"$f":"IF(COUNTIF(B$2:B96,B96)=1,B96,\"\")","v":""},null,null,null,null,null,null,{"$f":"+IF(N96=\"\",\"\",MAX(K$1:K95)+1)","v":""},{"$f":"IF(CEM_COM_CPMS_Identification!D118=\"\",\"\",CEM_COM_CPMS_Identification!D118)","v":""},"",{"$f":"IF(COUNTIF(L$2:L96,L96)=1,L96,\"\")","v":""},null,null,null,null,null,{"$f":"+IF(Y96=\"\",\"\",MAX(T$1:T95)+1)","v":""},{"$f":"IF(No_CPMS_Limits_Details!B118=\"\",\"\",No_CPMS_Limits_Details!B118)","v":""},{"$f":"IF(No_CPMS_Limits_Details!C118=\"\",\"\",No_CPMS_Limits_Details!C118)","v":""},{"$f":"IF(No_CPMS_Limits_Details!D118=\"\",\"\",No_CPMS_Limits_Details!D118)","v":""},"",{"$f":"IF(COUNTIF(V$2:V96,V96)=1,V96,\"\")","v":""},"","","",null,{"$f":"+IF(AI96=\"\",\"\",MAX(AD$1:AD95)+1)","v":""},{"$f":"IF(Limits_Details_w_CPMS!B118=\"\",\"\",Limits_Details_w_CPMS!B118)","v":""},{"$f":"IF(Limits_Details_w_CPMS!C118=\"\",\"\",Limits_Details_w_CPMS!C118)","v":""},{"$f":"IF(Limits_Details_w_CPMS!D118=\"\",\"\",Limits_Details_w_CPMS!D118)","v":""},"",{"$f":"IF(COUNTIF(AH$2:AH96,AH96)=1,AH96,\"\")","v":""},"","","",null,null,null,{"$f":"+IF(AU96=\"\",\"\",MAX(AP$1:AP95)+1)","v":""},{"$f":"IF(CPMS_Detail!B118=\"\",\"\",CPMS_Detail!B118)","v":""},{"$f":"IF(CPMS_Detail!C118=\"\",\"\",CPMS_Detail!C118)","v":""},{"$f":"IF(CPMS_Detail!D118=\"\",\"\",CPMS_Detail!D118)","v":""},"",{"$f":"IF(COUNTIF(AT$2:AT96,AT96)=1,AT96,\"\")","v":""},"","","",null,{"$f":"+IF(BE96=\"\",\"\",MAX(AZ$1:AZ95)+1)","v":""},{"$f":"IF(Mercury!B118=\"\",\"\",Mercury!B118)","v":""},{"$f":"IF(Mercury!C118=\"\",\"\",Mercury!C118)","v":""},{"$f":"IF(Mercury!D118=\"\",\"\",Mercury!D118)","v":""},"",{"$f":"IF(COUNTIF(BB$2:BB96,BB96)=1,BB96,\"\")","v":""},"","",""]
[{"$f":"+IF(D97=\"\",\"\",MAX(A$1:A96)+1)","v":""},{"$f":"IF(CEM_COM_CPMS_Identification!C119=\"\",\"\",CEM_COM_CPMS_Identification!C119)","v":""},"",{"$f":"IF(COUNTIF(B$2:B97,B97)=1,B97,\"\")","v":""},null,null,null,null,null,null,{"$f":"+IF(N97=\"\",\"\",MAX(K$1:K96)+1)","v":""},{"$f":"IF(CEM_COM_CPMS_Identification!D119=\"\",\"\",CEM_COM_CPMS_Identification!D119)","v":""},"",{"$f":"IF(COUNTIF(L$2:L97,L97)=1,L97,\"\")","v":""},null,null,null,null,null,{"$f":"+IF(Y97=\"\",\"\",MAX(T$1:T96)+1)","v":""},{"$f":"IF(No_CPMS_Limits_Details!B119=\"\",\"\",No_CPMS_Limits_Details!B119)","v":""},{"$f":"IF(No_CPMS_Limits_Details!C119=\"\",\"\",No_CPMS_Limits_Details!C119)","v":""},{"$f":"IF(No_CPMS_Limits_Details!D119=\"\",\"\",No_CPMS_Limits_Details!D119)","v":""},"",{"$f":"IF(COUNTIF(V$2:V97,V97)=1,V97,\"\")","v":""},"","","",null,{"$f":"+IF(AI97=\"\",\"\",MAX(AD$1:AD96)+1)","v":""},{"$f":"IF(Limits_Details_w_CPMS!B119=\"\",\"\",Limits_Details_w_CPMS!B119)","v":""},{"$f":"IF(Limits_Details_w_CPMS!C119=\"\",\"\",Limits_Details_w_CPMS!C119)","v":""},{"$f":"IF(Limits_Details_w_CPMS!D119=\"\",\"\",Limits_Details_w_CPMS!D119)","v":""},"",{"$f":"IF(COUNTIF(AH$2:AH97,AH97)=1,AH97,\"\")","v":""},"","","",null,null,null,{"$f":"+IF(AU97=\"\",\"\",MAX(AP$1:AP96)+1)","v":""},{"$f":"IF(CPMS_Detail!B119=\"\",\"\",CPMS_Detail!B119)","v":""},{"$f":"IF(CPMS_Detail!C119=\"\",\"\",CPMS_Detail!C119)","v":""},{"$f":"IF(CPMS_Detail!D119=\"\",\"\",CPMS_Detail!D119)","v":""},"",{"$f":"IF(COUNTIF(AT$2:AT97,AT97)=1,AT97,\"\")","v":""},"","","",null,{"$f":"+IF(BE97=\"\",\"\",MAX(AZ$1:AZ96)+1)","v":""},{"$f":"IF(Mercury!B119=\"\",\"\",Mercury!B119)","v":""},{"$f":"IF(Mercury!C119=\"\",\"\",Mercury!C119)","v":""},{"$f":"IF(Mercury!D119=\"\",\"\",Mercury!D119)","v":""},"",{"$f":"IF(COUNTIF(BB$2:BB97,BB97)=1,BB97,\"\")","v":""},"","",""]
[{"$f":"+IF(D98=\"\",\"\",MAX(A$1:A97)+1)","v":""},{"$f":"IF(CEM_COM_CPMS_Identification!C120=\"\",\"\",CEM_COM_CPMS_Identification!C120)","v":""},"",{"$f":"IF(COUNTIF(B$2:B98,B98)=1,B98,\"\")","v":""},null,null,null,null,null,null,{"$f":"+IF(N98=\"\",\"\",MAX(K$1:K97)+1)","v":""},{"$f":"IF(CEM_COM_CPMS_Identification!D120=\"\",\"\",CEM_COM_CPMS_Identification!D120)","v":""},"",{"$f":"IF(COUNTIF(L$2:L98,L98)=1,L98,\"\")","v":""},null,null,null,null,null,{"$f":"+IF(Y98=\"\",\"\",MAX(T$1:T97)+1)","v":""},{"$f":"IF(No_CPMS_Limits_Details!B120=\"\",\"\",No_CPMS_Limits_Details!B120)","v":""},{"$f":"IF(No_CPMS_Limits_Details!C120=\"\",\"\",No_CPMS_Limits_Details!C120)","v":""},{"$f":"IF(No_CPMS_Limits_Details!D120=\"\",\"\",No_CPMS_Limits_Details!D120)","v":""},"",{"$f":"IF(COUNTIF(V$2:V98,V98)=1,V98,\"\")","v":""},"","","",null,{"$f":"+IF(AI98=\"\",\"\",MAX(AD$1:AD97)+1)","v":""},{"$f":"IF(Limits_Details_w_CPMS!B120=\"\",\"\",Limits_Details_w_CPMS!B120)","v":""},{"$f":"IF(Limits_Details_w_CPMS!C120=\"\",\"\",Limits_Details_w_CPMS!C120)","v":""},{"$f":"IF(Limits_Details_w_CPMS!D120=\"\",\"\",Limits_Details_w_CPMS!D120)","v":""},"",{"$f":"IF(COUNTIF(AH$2:AH98,AH98)=1,AH98,\"\")","v":""},"","","",null,null,null,{"$f":"+IF(AU98=\"\",\"\",MAX(AP$1:AP97)+1)","v":""},{"$f":"IF(CPMS_Detail!B120=\"\",\"\",CPMS_Detail!B120)","v":""},{"$f":"IF(CPMS_Detail!C120=\"\",\"\",CPMS_Detail!C120)","v":""},{"$f":"IF(CPMS_Detail!D120=\"\",\"\",CPMS_Detail!D120)","v":""},"",{"$f":"IF(COUNTIF(AT$2:AT98,AT98)=1,AT98,\"\")","v":""},"","","",null,{"$f":"+IF(BE98=\"\",\"\",MAX(AZ$1:AZ97)+1)","v":""},{"$f":"IF(Mercury!B120=\"\",\"\",Mercury!B120)","v":""},{"$f":"IF(Mercury!C120=\"\",\"\",Mercury!C120)","v":""},{"$f":"IF(Mercury!D120=\"\",\"\",Mercury!D120)","v":""},"",{"$f":"IF(COUNTIF(BB$2:BB98,BB98)=1,BB98,\"\")","v":""},"","",""]
[{"$f":"+IF(D99=\"\",\"\",MAX(A$1:A98)+1)","v":""},{"$f":"IF(CEM_COM_CPMS_Identification!C121=\"\",\"\",CEM_COM_CPMS_Identification!C121)","v":""},"",{"$f":"IF(COUNTIF(B$2:B99,B99)=1,B99,\"\")","v":""},null,null,null,null,null,null,{"$f":"+IF(N99=\"\",\"\",MAX(K$1:K98)+1)","v":""},{"$f":"IF(CEM_COM_CPMS_Identification!D121=\"\",\"\",CEM_COM_CPMS_Identification!D121)","v":""},"",{"$f":"IF(COUNTIF(L$2:L99,L99)=1,L99,\"\")","v":""},null,null,null,null,null,{"$f":"+IF(Y99=\"\",\"\",MAX(T$1:T98)+1)","v":""},{"$f":"IF(No_CPMS_Limits_Details!B121=\"\",\"\",No_CPMS_Limits_Details!B121)","v":""},{"$f":"IF(No_CPMS_Limits_Details!C121=\"\",\"\",No_CPMS_Limits_Details!C121)","v":""},{"$f":"IF(No_CPMS_Limits_Details!D121=\"\",\"\",No_CPMS_Limits_Details!D121)","v":""},"",{"$f":"IF(COUNTIF(V$2:V99,V99)=1,V99,\"\")","v":""},"","","",null,{"$f":"+IF(AI99=\"\",\"\",MAX(AD$1:AD98)+1)","v":""},{"$f":"IF(Limits_Details_w_CPMS!B121=\"\",\"\",Limits_Details_w_CPMS!B121)","v":""},{"$f":"IF(Limits_Details_w_CPMS!C121=\"\",\"\",Limits_Details_w_CPMS!C121)","v":""},{"$f":"IF(Limits_Details_w_CPMS!D121=\"\",\"\",Limits_Details_w_CPMS!D121)","v":""},"",{"$f":"IF(COUNTIF(AH$2:AH99,AH99)=1,AH99,\"\")","v":""},"","","",null,null,null,{"$f":"+IF(AU99=\"\",\"\",MAX(AP$1:AP98)+1)","v":""},{"$f":"IF(CPMS_Detail!B121=\"\",\"\",CPMS_Detail!B121)","v":""},{"$f":"IF(CPMS_Detail!C121=\"\",\"\",CPMS_Detail!C121)","v":""},{"$f":"IF(CPMS_Detail!D121=\"\",\"\",CPMS_Detail!D121)","v":""},"",{"$f":"IF(COUNTIF(AT$2:AT99,AT99)=1,AT99,\"\")","v":""},"","","",null,{"$f":"+IF(BE99=\"\",\"\",MAX(AZ$1:AZ98)+1)","v":""},{"$f":"IF(Mercury!B121=\"\",\"\",Mercury!B121)","v":""},{"$f":"IF(Mercury!C121=\"\",\"\",Mercury!C121)","v":""},{"$f":"IF(Mercury!D121=\"\",\"\",Mercury!D121)","v":""},"",{"$f":"IF(COUNTIF(BB$2:BB99,BB99)=1,BB99,\"\")","v":""},"","",""]
[{"$f":"+IF(D100=\"\",\"\",MAX(A$1:A99)+1)","v":""},{"$f":"IF(CEM_COM_CPMS_Identification!C122=\"\",\"\",CEM_COM_CPMS_Identification!C122)","v":""},"",{"$f":"IF(COUNTIF(B$2:B100,B100)=1,B100,\"\")","v":""},null,null,null,null,null,null,{"$f":"+IF(N100=\"\",\"\",MAX(K$1:K99)+1)","v":""},{"$f":"IF(CEM_COM_CPMS_Identification!D122=\"\",\"\",CEM_COM_CPMS_Identification!D122)","v":""},"",{"$f":"IF(COUNTIF(L$2:L100,L100)=1,L100,\"\")","v":""},null,null,null,null,null,{"$f":"+IF(Y100=\"\",\"\",MAX(T$1:T99)+1)","v":""},{"$f":"IF(No_CPMS_Limits_Details!B122=\"\",\"\",No_CPMS_Limits_Details!B122)","v":""},{"$f":"IF(No_CPMS_Limits_Details!C122=\"\",\"\",No_CPMS_Limits_Details!C122)","v":""},{"$f":"IF(No_CPMS_Limits_Details!D122=\"\",\"\",No_CPMS_Limits_Details!D122)","v":""},"",{"$f":"IF(COUNTIF(V$2:V100,V100)=1,V100,\"\")","v":""},"","","",null,{"$f":"+IF(AI100=\"\",\"\",MAX(AD$1:AD99)+1)","v":""},{"$f":"IF(Limits_Details_w_CPMS!B122=\"\",\"\",Limits_Details_w_CPMS!B122)","v":""},{"$f":"IF(Limits_Details_w_CPMS!C122=\"\",\"\",Limits_Details_w_CPMS!C122)","v":""},{"$f":"IF(Limits_Details_w_CPMS!D122=\"\",\"\",Limits_Details_w_CPMS!D122)","v":""},"",{"$f":"IF(COUNTIF(AH$2:AH100,AH100)=1,AH100,\"\")","v":""},"","","",null,null,null,{"$f":"+IF(AU100=\"\",\"\",MAX(AP$1:AP99)+1)","v":""},{"$f":"IF(CPMS_Detail!B122=\"\",\"\",CPMS_Detail!B122)","v":""},{"$f":"IF(CPMS_Detail!C122=\"\",\"\",CPMS_Detail!C122)","v":""},{"$f":"IF(CPMS_Detail!D122=\"\",\"\",CPMS_Detail!D122)","v":""},"",{"$f":"IF(COUNTIF(AT$2:AT100,AT100)=1,AT100,\"\")","v":""},"","","",null,{"$f":"+IF(BE100=\"\",\"\",MAX(AZ$1:AZ99)+1)","v":""},{"$f":"IF(Mercury!B122=\"\",\"\",Mercury!B122)","v":""},{"$f":"IF(Mercury!C122=\"\",\"\",Mercury!C122)","v":""},{"$f":"IF(Mercury!D122=\"\",\"\",Mercury!D122)","v":""},"",{"$f":"IF(COUNTIF(BB$2:BB100,BB100)=1,BB100,\"\")","v":""},"","",""]
[{"$f":"+IF(D101=\"\",\"\",MAX(A$1:A100)+1)","v":""},{"$f":"IF(CEM_COM_CPMS_Identification!C123=\"\",\"\",CEM_COM_CPMS_Identification!C123)","v":""},"",{"$f":"IF(COUNTIF(B$2:B101,B101)=1,B101,\"\")","v":""},null,null,null,null,null,null,{"$f":"+IF(N101=\"\",\"\",MAX(K$1:K100)+1)","v":""},{"$f":"IF(CEM_COM_CPMS_Identification!D123=\"\",\"\",CEM_COM_CPMS_Identification!D123)","v":""},"",{"$f":"IF(COUNTIF(L$2:L101,L101)=1,L101,\"\")","v":""},null,null,null,null,null,{"$f":"+IF(Y101=\"\",\"\",MAX(T$1:T100)+1)","v":""},{"$f":"IF(No_CPMS_Limits_Details!B123=\"\",\"\",No_CPMS_Limits_Details!B123)","v":""},{"$f":"IF(No_CPMS_Limits_Details!C123=\"\",\"\",No_CPMS_Limits_Details!C123)","v":""},{"$f":"IF(No_CPMS_Limits_Details!D123=\"\",\"\",No_CPMS_Limits_Details!D123)","v":""},"",{"$f":"IF(COUNTIF(V$2:V101,V101)=1,V101,\"\")","v":""},"","","",null,{"$f":"+IF(AI101=\"\",\"\",MAX(AD$1:AD100)+1)","v":""},{"$f":"IF(Limits_Details_w_CPMS!B123=\"\",\"\",Limits_Details_w_CPMS!B123)","v":""},{"$f":"IF(Limits_Details_w_CPMS!C123=\"\",\"\",Limits_Details_w_CPMS!C123)","v":""},{"$f":"IF(Limits_Details_w_CPMS!D123=\"\",\"\",Limits_Details_w_CPMS!D123)","v":""},"",{"$f":"IF(COUNTIF(AH$2:AH101,AH101)=1,AH101,\"\")","v":""},"","","",null,null,null,{"$f":"+IF(AU101=\"\",\"\",MAX(AP$1:AP100)+1)","v":""},{"$f":"IF(CPMS_Detail!B123=\"\",\"\",CPMS_Detail!B123)","v":""},{"$f":"IF(CPMS_Detail!C123=\"\",\"\",CPMS_Detail!C123)","v":""},{"$f":"IF(CPMS_Detail!D123=\"\",\"\",CPMS_Detail!D123)","v":""},"",{"$f":"IF(COUNTIF(AT$2:AT101,AT101)=1,AT101,\"\")","v":""},"","","",null,{"$f":"+IF(BE101=\"\",\"\",MAX(AZ$1:AZ100)+1)","v":""},{"$f":"IF(Mercury!B123=\"\",\"\",Mercury!B123)","v":""},{"$f":"IF(Mercury!C123=\"\",\"\",Mercury!C123)","v":""},{"$f":"IF(Mercury!D123=\"\",\"\",Mercury!D123)","v":""},"",{"$f":"IF(COUNTIF(BB$2:BB101,BB101)=1,BB101,\"\")","v":""},"","",""]
[{"$f":"+IF(D102=\"\",\"\",MAX(A$1:A101)+1)","v":""},{"$f":"IF(CEM_COM_CPMS_Identification!C124=\"\",\"\",CEM_COM_CPMS_Identification!C124)","v":""},"",{"$f":"IF(COUNTIF(B$2:B102,B102)=1,B102,\"\")","v":""},null,null,null,null,null,null,null,null,null,null,null,null,null,null,null,{"$f":"+IF(Y102=\"\",\"\",MAX(T$1:T101)+1)","v":""},{"$f":"IF(No_CPMS_Limits_Details!B124=\"\",\"\",No_CPMS_Limits_Details!B124)","v":""},{"$f":"IF(No_CPMS_Limits_Details!C124=\"\",\"\",No_CPMS_Limits_Details!C124)","v":""},{"$f":"IF(No_CPMS_Limits_Details!D124=\"\",\"\",No_CPMS_Limits_Details!D124)","v":""},"",{"$f":"IF(COUNTIF(V$2:V102,V102)=1,V102,\"\")","v":""},"","","",null,{"$f":"+IF(AI102=\"\",\"\",MAX(AD$1:AD101)+1)","v":""},{"$f":"IF(Limits_Details_w_CPMS!B124=\"\",\"\",Limits_Details_w_CPMS!B124)","v":""},{"$f":"IF(Limits_Details_w_CPMS!C124=\"\",\"\",Limits_Details_w_CPMS!C124)","v":""},{"$f":"IF(Limits_Details_w_CPMS!D124=\"\",\"\",Limits_Details_w_CPMS!D124)","v":""},"",{"$f":"IF(COUNTIF(AH$2:AH102,AH102)=1,AH102,\"\")","v":""},"","","",null,null,null,{"$f":"+IF(AU102=\"\",\"\",MAX(AP$1:AP101)+1)","v":""},{"$f":"IF(CPMS_Detail!B124=\"\",\"\",CPMS_Detail!B124)","v":""},{"$f":"IF(CPMS_Detail!C124=\"\",\"\",CPMS_Detail!C124)","v":""},{"$f":"IF(CPMS_Detail!D124=\"\",\"\",CPMS_Detail!D124)","v":""},"",{"$f":"IF(COUNTIF(AT$2:AT102,AT102)=1,AT102,\"\")","v":""},"","","",null,{"$f":"+IF(BE102=\"\",\"\",MAX(AZ$1:AZ101)+1)","v":""},{"$f":"IF(Mercury!B124=\"\",\"\",Mercury!B124)","v":""},{"$f":"IF(Mercury!C124=\"\",\"\",Mercury!C124)","v":""},{"$f":"IF(Mercury!D124=\"\",\"\",Mercury!D124)","v":""},"",{"$f":"IF(COUNTIF(BB$2:BB102,BB102)=1,BB102,\"\")","v":""},"","",""]
[{"$f":"+IF(D103=\"\",\"\",MAX(A$1:A102)+1)","v":""},{"$f":"IF(CEM_COM_CPMS_Identification!C125=\"\",\"\",CEM_COM_CPMS_Identification!C125)","v":""},"",{"$f":"IF(COUNTIF(B$2:B103,B103)=1,B103,\"\")","v":""},null,null,null,null,null,null,null,null,null,null,null,null,null,null,null,{"$f":"+IF(Y103=\"\",\"\",MAX(T$1:T102)+1)","v":""},{"$f":"IF(No_CPMS_Limits_Details!B125=\"\",\"\",No_CPMS_Limits_Details!B125)","v":""},{"$f":"IF(No_CPMS_Limits_Details!C125=\"\",\"\",No_CPMS_Limits_Details!C125)","v":""},{"$f":"IF(No_CPMS_Limits_Details!D125=\"\",\"\",No_CPMS_Limits_Details!D125)","v":""},"",{"$f":"IF(COUNTIF(V$2:V103,V103)=1,V103,\"\")","v":""},"","","",null,{"$f":"+IF(AI103=\"\",\"\",MAX(AD$1:AD102)+1)","v":""},{"$f":"IF(Limits_Details_w_CPMS!B125=\"\",\"\",Limits_Details_w_CPMS!B125)","v":""},{"$f":"IF(Limits_Details_w_CPMS!C125=\"\",\"\",Limits_Details_w_CPMS!C125)","v":""},{"$f":"IF(Limits_Details_w_CPMS!D125=\"\",\"\",Limits_Details_w_CPMS!D125)","v":""},"",{"$f":"IF(COUNTIF(AH$2:AH103,AH103)=1,AH103,\"\")","v":""},"","","",null,null,null,{"$f":"+IF(AU103=\"\",\"\",MAX(AP$1:AP102)+1)","v":""},{"$f":"IF(CPMS_Detail!B125=\"\",\"\",CPMS_Detail!B125)","v":""},{"$f":"IF(CPMS_Detail!C125=\"\",\"\",CPMS_Detail!C125)","v":""},{"$f":"IF(CPMS_Detail!D125=\"\",\"\",CPMS_Detail!D125)","v":""},"",{"$f":"IF(COUNTIF(AT$2:AT103,AT103)=1,AT103,\"\")","v":""},"","","",null,{"$f":"+IF(BE103=\"\",\"\",MAX(AZ$1:AZ102)+1)","v":""},{"$f":"IF(Mercury!B125=\"\",\"\",Mercury!B125)","v":""},{"$f":"IF(Mercury!C125=\"\",\"\",Mercury!C125)","v":""},{"$f":"IF(Mercury!D125=\"\",\"\",Mercury!D125)","v":""},"",{"$f":"IF(COUNTIF(BB$2:BB103,BB103)=1,BB103,\"\")","v":""},"","",""]
[{"$f":"+IF(D104=\"\",\"\",MAX(A$1:A103)+1)","v":""},{"$f":"IF(CEM_COM_CPMS_Identification!C126=\"\",\"\",CEM_COM_CPMS_Identification!C126)","v":""},"",{"$f":"IF(COUNTIF(B$2:B104,B104)=1,B104,\"\")","v":""},null,null,null,null,null,null,null,null,null,null,null,null,null,null,null,{"$f":"+IF(Y104=\"\",\"\",MAX(T$1:T103)+1)","v":""},{"$f":"IF(No_CPMS_Limits_Details!B126=\"\",\"\",No_CPMS_Limits_Details!B126)","v":""},{"$f":"IF(No_CPMS_Limits_Details!C126=\"\",\"\",No_CPMS_Limits_Details!C126)","v":""},{"$f":"IF(No_CPMS_Limits_Details!D126=\"\",\"\",No_CPMS_Limits_Details!D126)","v":""},"",{"$f":"IF(COUNTIF(V$2:V104,V104)=1,V104,\"\")","v":""},"","","",null,{"$f":"+IF(AI104=\"\",\"\",MAX(AD$1:AD103)+1)","v":""},{"$f":"IF(Limits_Details_w_CPMS!B126=\"\",\"\",Limits_Details_w_CPMS!B126)","v":""},{"$f":"IF(Limits_Details_w_CPMS!C126=\"\",\"\",Limits_Details_w_CPMS!C126)","v":""},{"$f":"IF(Limits_Details_w_CPMS!D126=\"\",\"\",Limits_Details_w_CPMS!D126)","v":""},"",{"$f":"IF(COUNTIF(AH$2:AH104,AH104)=1,AH104,\"\")","v":""},"","","",null,null,null,{"$f":"+IF(AU104=\"\",\"\",MAX(AP$1:AP103)+1)","v":""},{"$f":"IF(CPMS_Detail!B126=\"\",\"\",CPMS_Detail!B126)","v":""},{"$f":"IF(CPMS_Detail!C126=\"\",\"\",CPMS_Detail!C126)","v":""},{"$f":"IF(CPMS_Detail!D126=\"\",\"\",CPMS_Detail!D126)","v":""},"",{"$f":"IF(COUNTIF(AT$2:AT104,AT104)=1,AT104,\"\")","v":""},"","","",null,{"$f":"+IF(BE104=\"\",\"\",MAX(AZ$1:AZ103)+1)","v":""},{"$f":"IF(Mercury!B126=\"\",\"\",Mercury!B126)","v":""},{"$f":"IF(Mercury!C126=\"\",\"\",Mercury!C126)","v":""},{"$f":"IF(Mercury!D126=\"\",\"\",Mercury!D126)","v":""},"",{"$f":"IF(COUNTIF(BB$2:BB104,BB104)=1,BB104,\"\")","v":""},"","",""]
[{"$f":"+IF(D105=\"\",\"\",MAX(A$1:A104)+1)","v":""},{"$f":"IF(CEM_COM_CPMS_Identification!C127=\"\",\"\",CEM_COM_CPMS_Identification!C127)","v":""},"",{"$f":"IF(COUNTIF(B$2:B105,B105)=1,B105,\"\")","v":""},null,null,null,null,null,null,null,null,null,null,null,null,null,null,null,{"$f":"+IF(Y105=\"\",\"\",MAX(T$1:T104)+1)","v":""},{"$f":"IF(No_CPMS_Limits_Details!B127=\"\",\"\",No_CPMS_Limits_Details!B127)","v":""},{"$f":"IF(No_CPMS_Limits_Details!C127=\"\",\"\",No_CPMS_Limits_Details!C127)","v":""},{"$f":"IF(No_CPMS_Limits_Details!D127=\"\",\"\",No_CPMS_Limits_Details!D127)","v":""},"",{"$f":"IF(COUNTIF(V$2:V105,V105)=1,V105,\"\")","v":""},"","","",null,{"$f":"+IF(AI105=\"\",\"\",MAX(AD$1:AD104)+1)","v":""},{"$f":"IF(Limits_Details_w_CPMS!B127=\"\",\"\",Limits_Details_w_CPMS!B127)","v":""},{"$f":"IF(Limits_Details_w_CPMS!C127=\"\",\"\",Limits_Details_w_CPMS!C127)","v":""},{"$f":"IF(Limits_Details_w_CPMS!D127=\"\",\"\",Limits_Details_w_CPMS!D127)","v":""},"",{"$f":"IF(COUNTIF(AH$2:AH105,AH105)=1,AH105,\"\")","v":""},"","","",null,null,null,{"$f":"+IF(AU105=\"\",\"\",MAX(AP$1:AP104)+1)","v":""},{"$f":"IF(CPMS_Detail!B127=\"\",\"\",CPMS_Detail!B127)","v":""},{"$f":"IF(CPMS_Detail!C127=\"\",\"\",CPMS_Detail!C127)","v":""},{"$f":"IF(CPMS_Detail!D127=\"\",\"\",CPMS_Detail!D127)","v":""},"",{"$f":"IF(COUNTIF(AT$2:AT105,AT105)=1,AT105,\"\")","v":""},"","","",null,{"$f":"+IF(BE105=\"\",\"\",MAX(AZ$1:AZ104)+1)","v":""},{"$f":"IF(Mercury!B127=\"\",\"\",Mercury!B127)","v":""},{"$f":"IF(Mercury!C127=\"\",\"\",Mercury!C127)","v":""},{"$f":"IF(Mercury!D127=\"\",\"\",Mercury!D127)","v":""},"",{"$f":"IF(COUNTIF(BB$2:BB105,BB105)=1,BB105,\"\")","v":""},"","",""]
[{"$f":"+IF(D106=\"\",\"\",MAX(A$1:A105)+1)","v":""},{"$f":"IF(CEM_COM_CPMS_Identification!C128=\"\",\"\",CEM_COM_CPMS_Identification!C128)","v":""},"",{"$f":"IF(COUNTIF(B$2:B106,B106)=1,B106,\"\")","v":""},null,null,null,null,null,null,null,null,null,null,null,null,null,null,null,{"$f":"+IF(Y106=\"\",\"\",MAX(T$1:T105)+1)","v":""},{"$f":"IF(No_CPMS_Limits_Details!B128=\"\",\"\",No_CPMS_Limits_Details!B128)","v":""},{"$f":"IF(No_CPMS_Limits_Details!C128=\"\",\"\",No_CPMS_Limits_Details!C128)","v":""},{"$f":"IF(No_CPMS_Limits_Details!D128=\"\",\"\",No_CPMS_Limits_Details!D128)","v":""},"",{"$f":"IF(COUNTIF(V$2:V106,V106)=1,V106,\"\")","v":""},"","","",null,{"$f":"+IF(AI106=\"\",\"\",MAX(AD$1:AD105)+1)","v":""},{"$f":"IF(Limits_Details_w_CPMS!B128=\"\",\"\",Limits_Details_w_CPMS!B128)","v":""},{"$f":"IF(Limits_Details_w_CPMS!C128=\"\",\"\",Limits_Details_w_CPMS!C128)","v":""},{"$f":"IF(Limits_Details_w_CPMS!D128=\"\",\"\",Limits_Details_w_CPMS!D128)","v":""},"",{"$f":"IF(COUNTIF(AH$2:AH106,AH106)=1,AH106,\"\")","v":""},"","","",null,null,null,{"$f":"+IF(AU106=\"\",\"\",MAX(AP$1:AP105)+1)","v":""},{"$f":"IF(CPMS_Detail!B128=\"\",\"\",CPMS_Detail!B128)","v":""},{"$f":"IF(CPMS_Detail!C128=\"\",\"\",CPMS_Detail!C128)","v":""},{"$f":"IF(CPMS_Detail!D128=\"\",\"\",CPMS_Detail!D128)","v":""},"",{"$f":"IF(COUNTIF(AT$2:AT106,AT106)=1,AT106,\"\")","v":""},"","","",null,{"$f":"+IF(BE106=\"\",\"\",MAX(AZ$1:AZ105)+1)","v":""},{"$f":"IF(Mercury!B128=\"\",\"\",Mercury!B128)","v":""},{"$f":"IF(Mercury!C128=\"\",\"\",Mercury!C128)","v":""},{"$f":"IF(Mercury!D128=\"\",\"\",Mercury!D128)","v":""},"",{"$f":"IF(COUNTIF(BB$2:BB106,BB106)=1,BB106,\"\")","v":""},"","",""]
[{"$f":"+IF(D107=\"\",\"\",MAX(A$1:A106)+1)","v":""},{"$f":"IF(CEM_COM_CPMS_Identification!C129=\"\",\"\",CEM_COM_CPMS_Identification!C129)","v":""},"",{"$f":"IF(COUNTIF(B$2:B107,B107)=1,B107,\"\")","v":""},null,null,null,null,null,null,null,null,null,null,null,null,null,null,null,{"$f":"+IF(Y107=\"\",\"\",MAX(T$1:T106)+1)","v":""},{"$f":"IF(No_CPMS_Limits_Details!B129=\"\",\"\",No_CPMS_Limits_Details!B129)","v":""},{"$f":"IF(No_CPMS_Limits_Details!C129=\"\",\"\",No_CPMS_Limits_Details!C129)","v":""},{"$f":"IF(No_CPMS_Limits_Details!D129=\"\",\"\",No_CPMS_Limits_Details!D129)","v":""},"",{"$f":"IF(COUNTIF(V$2:V107,V107)=1,V107,\"\")","v":""},"","","",null,{"$f":"+IF(AI107=\"\",\"\",MAX(AD$1:AD106)+1)","v":""},{"$f":"IF(Limits_Details_w_CPMS!B129=\"\",\"\",Limits_Details_w_CPMS!B129)","v":""},{"$f":"IF(Limits_Details_w_CPMS!C129=\"\",\"\",Limits_Details_w_CPMS!C129)","v":""},{"$f":"IF(Limits_Details_w_CPMS!D129=\"\",\"\",Limits_Details_w_CPMS!D129)","v":""},"",{"$f":"IF(COUNTIF(AH$2:AH107,AH107)=1,AH107,\"\")","v":""},"","","",null,null,null,{"$f":"+IF(AU107=\"\",\"\",MAX(AP$1:AP106)+1)","v":""},{"$f":"IF(CPMS_Detail!B129=\"\",\"\",CPMS_Detail!B129)","v":""},{"$f":"IF(CPMS_Detail!C129=\"\",\"\",CPMS_Detail!C129)","v":""},{"$f":"IF(CPMS_Detail!D129=\"\",\"\",CPMS_Detail!D129)","v":""},"",{"$f":"IF(COUNTIF(AT$2:AT107,AT107)=1,AT107,\"\")","v":""},"","","",null,{"$f":"+IF(BE107=\"\",\"\",MAX(AZ$1:AZ106)+1)","v":""},{"$f":"IF(Mercury!B129=\"\",\"\",Mercury!B129)","v":""},{"$f":"IF(Mercury!C129=\"\",\"\",Mercury!C129)","v":""},{"$f":"IF(Mercury!D129=\"\",\"\",Mercury!D129)","v":""},"",{"$f":"IF(COUNTIF(BB$2:BB107,BB107)=1,BB107,\"\")","v":""},"","",""]
[{"$f":"+IF(D108=\"\",\"\",MAX(A$1:A107)+1)","v":""},{"$f":"IF(CEM_COM_CPMS_Identification!C130=\"\",\"\",CEM_COM_CPMS_Identification!C130)","v":""},"",{"$f":"IF(COUNTIF(B$2:B108,B108)=1,B108,\"\")","v":""},null,null,null,null,null,null,null,null,null,null,null,null,null,null,null,{"$f":"+IF(Y108=\"\",\"\",MAX(T$1:T107)+1)","v":""},{"$f":"IF(No_CPMS_Limits_Details!B130=\"\",\"\",No_CPMS_Limits_Details!B130)","v":""},{"$f":"IF(No_CPMS_Limits_Details!C130=\"\",\"\",No_CPMS_Limits_Details!C130)","v":""},{"$f":"IF(No_CPMS_Limits_Details!D130=\"\",\"\",No_CPMS_Limits_Details!D130)","v":""},"",{"$f":"IF(COUNTIF(V$2:V108,V108)=1,V108,\"\")","v":""},"","","",null,{"$f":"+IF(AI108=\"\",\"\",MAX(AD$1:AD107)+1)","v":""},{"$f":"IF(Limits_Details_w_CPMS!B130=\"\",\"\",Limits_Details_w_CPMS!B130)","v":""},{"$f":"IF(Limits_Details_w_CPMS!C130=\"\",\"\",Limits_Details_w_CPMS!C130)","v":""},{"$f":"IF(Limits_Details_w_CPMS!D130=\"\",\"\",Limits_Details_w_CPMS!D130)","v":""},"",{"$f":"IF(COUNTIF(AH$2:AH108,AH108)=1,AH108,\"\")","v":""},"","","",null,null,null,{"$f":"+IF(AU108=\"\",\"\",MAX(AP$1:AP107)+1)","v":""},{"$f":"IF(CPMS_Detail!B130=\"\",\"\",CPMS_Detail!B130)","v":""},{"$f":"IF(CPMS_Detail!C130=\"\",\"\",CPMS_Detail!C130)","v":""},{"$f":"IF(CPMS_Detail!D130=\"\",\"\",CPMS_Detail!D130)","v":""},"",{"$f":"IF(COUNTIF(AT$2:AT108,AT108)=1,AT108,\"\")","v":""},"","","",null,{"$f":"+IF(BE108=\"\",\"\",MAX(AZ$1:AZ107)+1)","v":""},{"$f":"IF(Mercury!B130=\"\",\"\",Mercury!B130)","v":""},{"$f":"IF(Mercury!C130=\"\",\"\",Mercury!C130)","v":""},{"$f":"IF(Mercury!D130=\"\",\"\",Mercury!D130)","v":""},"",{"$f":"IF(COUNTIF(BB$2:BB108,BB108)=1,BB108,\"\")","v":""},"","",""]
[{"$f":"+IF(D109=\"\",\"\",MAX(A$1:A108)+1)","v":""},{"$f":"IF(CEM_COM_CPMS_Identification!C131=\"\",\"\",CEM_COM_CPMS_Identification!C131)","v":""},"",{"$f":"IF(COUNTIF(B$2:B109,B109)=1,B109,\"\")","v":""},null,null,null,null,null,null,null,null,null,null,null,null,null,null,null,{"$f":"+IF(Y109=\"\",\"\",MAX(T$1:T108)+1)","v":""},{"$f":"IF(No_CPMS_Limits_Details!B131=\"\",\"\",No_CPMS_Limits_Details!B131)","v":""},{"$f":"IF(No_CPMS_Limits_Details!C131=\"\",\"\",No_CPMS_Limits_Details!C131)","v":""},{"$f":"IF(No_CPMS_Limits_Details!D131=\"\",\"\",No_CPMS_Limits_Details!D131)","v":""},"",{"$f":"IF(COUNTIF(V$2:V109,V109)=1,V109,\"\")","v":""},"","","",null,{"$f":"+IF(AI109=\"\",\"\",MAX(AD$1:AD108)+1)","v":""},{"$f":"IF(Limits_Details_w_CPMS!B131=\"\",\"\",Limits_Details_w_CPMS!B131)","v":""},{"$f":"IF(Limits_Details_w_CPMS!C131=\"\",\"\",Limits_Details_w_CPMS!C131)","v":""},{"$f":"IF(Limits_Details_w_CPMS!D131=\"\",\"\",Limits_Details_w_CPMS!D131)","v":""},"",{"$f":"IF(COUNTIF(AH$2:AH109,AH109)=1,AH109,\"\")","v":""},"","","",null,null,null,{"$f":"+IF(AU109=\"\",\"\",MAX(AP$1:AP108)+1)","v":""},{"$f":"IF(CPMS_Detail!B131=\"\",\"\",CPMS_Detail!B131)","v":""},{"$f":"IF(CPMS_Detail!C131=\"\",\"\",CPMS_Detail!C131)","v":""},{"$f":"IF(CPMS_Detail!D131=\"\",\"\",CPMS_Detail!D131)","v":""},"",{"$f":"IF(COUNTIF(AT$2:AT109,AT109)=1,AT109,\"\")","v":""},"","","",null,{"$f":"+IF(BE109=\"\",\"\",MAX(AZ$1:AZ108)+1)","v":""},{"$f":"IF(Mercury!B131=\"\",\"\",Mercury!B131)","v":""},{"$f":"IF(Mercury!C131=\"\",\"\",Mercury!C131)","v":""},{"$f":"IF(Mercury!D131=\"\",\"\",Mercury!D131)","v":""},"",{"$f":"IF(COUNTIF(BB$2:BB109,BB109)=1,BB109,\"\")","v":""},"","",""]
[{"$f":"+IF(D110=\"\",\"\",MAX(A$1:A109)+1)","v":""},{"$f":"IF(CEM_COM_CPMS_Identification!C132=\"\",\"\",CEM_COM_CPMS_Identification!C132)","v":""},"",{"$f":"IF(COUNTIF(B$2:B110,B110)=1,B110,\"\")","v":""},null,null,null,null,null,null,null,null,null,null,null,null,null,null,null,{"$f":"+IF(Y110=\"\",\"\",MAX(T$1:T109)+1)","v":""},{"$f":"IF(No_CPMS_Limits_Details!B132=\"\",\"\",No_CPMS_Limits_Details!B132)","v":""},{"$f":"IF(No_CPMS_Limits_Details!C132=\"\",\"\",No_CPMS_Limits_Details!C132)","v":""},{"$f":"IF(No_CPMS_Limits_Details!D132=\"\",\"\",No_CPMS_Limits_Details!D132)","v":""},"",{"$f":"IF(COUNTIF(V$2:V110,V110)=1,V110,\"\")","v":""},"","","",null,{"$f":"+IF(AI110=\"\",\"\",MAX(AD$1:AD109)+1)","v":""},{"$f":"IF(Limits_Details_w_CPMS!B132=\"\",\"\",Limits_Details_w_CPMS!B132)","v":""},{"$f":"IF(Limits_Details_w_CPMS!C132=\"\",\"\",Limits_Details_w_CPMS!C132)","v":""},{"$f":"IF(Limits_Details_w_CPMS!D132=\"\",\"\",Limits_Details_w_CPMS!D132)","v":""},"",{"$f":"IF(COUNTIF(AH$2:AH110,AH110)=1,AH110,\"\")","v":""},"","","",null,null,null,{"$f":"+IF(AU110=\"\",\"\",MAX(AP$1:AP109)+1)","v":""},{"$f":"IF(CPMS_Detail!B132=\"\",\"\",CPMS_Detail!B132)","v":""},{"$f":"IF(CPMS_Detail!C132=\"\",\"\",CPMS_Detail!C132)","v":""},{"$f":"IF(CPMS_Detail!D132=\"\",\"\",CPMS_Detail!D132)","v":""},"",{"$f":"IF(COUNTIF(AT$2:AT110,AT110)=1,AT110,\"\")","v":""},"","","",null,{"$f":"+IF(BE110=\"\",\"\",MAX(AZ$1:AZ109)+1)","v":""},{"$f":"IF(Mercury!B132=\"\",\"\",Mercury!B132)","v":""},{"$f":"IF(Mercury!C132=\"\",\"\",Mercury!C132)","v":""},{"$f":"IF(Mercury!D132=\"\",\"\",Mercury!D132)","v":""},"",{"$f":"IF(COUNTIF(BB$2:BB110,BB110)=1,BB110,\"\")","v":""},"","",""]
[{"$f":"+IF(D111=\"\",\"\",MAX(A$1:A110)+1)","v":""},{"$f":"IF(CEM_COM_CPMS_Identification!C133=\"\",\"\",CEM_COM_CPMS_Identification!C133)","v":""},"",{"$f":"IF(COUNTIF(B$2:B111,B111)=1,B111,\"\")","v":""},null,null,null,null,null,null,null,null,null,null,null,null,null,null,null,{"$f":"+IF(Y111=\"\",\"\",MAX(T$1:T110)+1)","v":""},{"$f":"IF(No_CPMS_Limits_Details!B133=\"\",\"\",No_CPMS_Limits_Details!B133)","v":""},{"$f":"IF(No_CPMS_Limits_Details!C133=\"\",\"\",No_CPMS_Limits_Details!C133)","v":""},{"$f":"IF(No_CPMS_Limits_Details!D133=\"\",\"\",No_CPMS_Limits_Details!D133)","v":""},"",{"$f":"IF(COUNTIF(V$2:V111,V111)=1,V111,\"\")","v":""},"","","",null,{"$f":"+IF(AI111=\"\",\"\",MAX(AD$1:AD110)+1)","v":""},{"$f":"IF(Limits_Details_w_CPMS!B133=\"\",\"\",Limits_Details_w_CPMS!B133)","v":""},{"$f":"IF(Limits_Details_w_CPMS!C133=\"\",\"\",Limits_Details_w_CPMS!C133)","v":""},{"$f":"IF(Limits_Details_w_CPMS!D133=\"\",\"\",Limits_Details_w_CPMS!D133)","v":""},"",{"$f":"IF(COUNTIF(AH$2:AH111,AH111)=1,AH111,\"\")","v":""},"","","",null,null,null,{"$f":"+IF(AU111=\"\",\"\",MAX(AP$1:AP110)+1)","v":""},{"$f":"IF(CPMS_Detail!B133=\"\",\"\",CPMS_Detail!B133)","v":""},{"$f":"IF(CPMS_Detail!C133=\"\",\"\",CPMS_Detail!C133)","v":""},{"$f":"IF(CPMS_Detail!D133=\"\",\"\",CPMS_Detail!D133)","v":""},"",{"$f":"IF(COUNTIF(AT$2:AT111,AT111)=1,AT111,\"\")","v":""},"","","",null,{"$f":"+IF(BE111=\"\",\"\",MAX(AZ$1:AZ110)+1)","v":""},{"$f":"IF(Mercury!B133=\"\",\"\",Mercury!B133)","v":""},{"$f":"IF(Mercury!C133=\"\",\"\",Mercury!C133)","v":""},{"$f":"IF(Mercury!D133=\"\",\"\",Mercury!D133)","v":""},"",{"$f":"IF(COUNTIF(BB$2:BB111,BB111)=1,BB111,\"\")","v":""},"","",""]
[{"$f":"+IF(D112=\"\",\"\",MAX(A$1:A111)+1)","v":""},{"$f":"IF(CEM_COM_CPMS_Identification!C134=\"\",\"\",CEM_COM_CPMS_Identification!C134)","v":""},"",{"$f":"IF(COUNTIF(B$2:B112,B112)=1,B112,\"\")","v":""},null,null,null,null,null,null,null,null,null,null,null,null,null,null,null,{"$f":"+IF(Y112=\"\",\"\",MAX(T$1:T111)+1)","v":""},{"$f":"IF(No_CPMS_Limits_Details!B134=\"\",\"\",No_CPMS_Limits_Details!B134)","v":""},{"$f":"IF(No_CPMS_Limits_Details!C134=\"\",\"\",No_CPMS_Limits_Details!C134)","v":""},{"$f":"IF(No_CPMS_Limits_Details!D134=\"\",\"\",No_CPMS_Limits_Details!D134)","v":""},"",{"$f":"IF(COUNTIF(V$2:V112,V112)=1,V112,\"\")","v":""},"","","",null,{"$f":"+IF(AI112=\"\",\"\",MAX(AD$1:AD111)+1)","v":""},{"$f":"IF(Limits_Details_w_CPMS!B134=\"\",\"\",Limits_Details_w_CPMS!B134)","v":""},{"$f":"IF(Limits_Details_w_CPMS!C134=\"\",\"\",Limits_Details_w_CPMS!C134)","v":""},{"$f":"IF(Limits_Details_w_CPMS!D134=\"\",\"\",Limits_Details_w_CPMS!D134)","v":""},"",{"$f":"IF(COUNTIF(AH$2:AH112,AH112)=1,AH112,\"\")","v":""},"","","",null,null,null,{"$f":"+IF(AU112=\"\",\"\",MAX(AP$1:AP111)+1)","v":""},{"$f":"IF(CPMS_Detail!B134=\"\",\"\",CPMS_Detail!B134)","v":""},{"$f":"IF(CPMS_Detail!C134=\"\",\"\",CPMS_Detail!C134)","v":""},{"$f":"IF(CPMS_Detail!D134=\"\",\"\",CPMS_Detail!D134)","v":""},"",{"$f":"IF(COUNTIF(AT$2:AT112,AT112)=1,AT112,\"\")","v":""},"","","",null,{"$f":"+IF(BE112=\"\",\"\",MAX(AZ$1:AZ111)+1)","v":""},{"$f":"IF(Mercury!B134=\"\",\"\",Mercury!B134)","v":""},{"$f":"IF(Mercury!C134=\"\",\"\",Mercury!C134)","v":""},{"$f":"IF(Mercury!D134=\"\",\"\",Mercury!D134)","v":""},"",{"$f":"IF(COUNTIF(BB$2:BB112,BB112)=1,BB112,\"\")","v":""},"","",""]
[{"$f":"+IF(D113=\"\",\"\",MAX(A$1:A112)+1)","v":""},{"$f":"IF(CEM_COM_CPMS_Identification!C135=\"\",\"\",CEM_COM_CPMS_Identification!C135)","v":""},"",{"$f":"IF(COUNTIF(B$2:B113,B113)=1,B113,\"\")","v":""},null,null,null,null,null,null,null,null,null,null,null,null,null,null,null,{"$f":"+IF(Y113=\"\",\"\",MAX(T$1:T112)+1)","v":""},{"$f":"IF(No_CPMS_Limits_Details!B135=\"\",\"\",No_CPMS_Limits_Details!B135)","v":""},{"$f":"IF(No_CPMS_Limits_Details!C135=\"\",\"\",No_CPMS_Limits_Details!C135)","v":""},{"$f":"IF(No_CPMS_Limits_Details!D135=\"\",\"\",No_CPMS_Limits_Details!D135)","v":""},"",{"$f":"IF(COUNTIF(V$2:V113,V113)=1,V113,\"\")","v":""},"","","",null,{"$f":"+IF(AI113=\"\",\"\",MAX(AD$1:AD112)+1)","v":""},{"$f":"IF(Limits_Details_w_CPMS!B135=\"\",\"\",Limits_Details_w_CPMS!B135)","v":""},{"$f":"IF(Limits_Details_w_CPMS!C135=\"\",\"\",Limits_Details_w_CPMS!C135)","v":""},{"$f":"IF(Limits_Details_w_CPMS!D135=\"\",\"\",Limits_Details_w_CPMS!D135)","v":""},"",{"$f":"IF(COUNTIF(AH$2:AH113,AH113)=1,AH113,\"\")","v":""},"","","",null,null,null,{"$f":"+IF(AU113=\"\",\"\",MAX(AP$1:AP112)+1)","v":""},{"$f":"IF(CPMS_Detail!B135=\"\",\"\",CPMS_Detail!B135)","v":""},{"$f":"IF(CPMS_Detail!C135=\"\",\"\",CPMS_Detail!C135)","v":""},{"$f":"IF(CPMS_Detail!D135=\"\",\"\",CPMS_Detail!D135)","v":""},"",{"$f":"IF(COUNTIF(AT$2:AT113,AT113)=1,AT113,\"\")","v":""},"","","",null,{"$f":"+IF(BE113=\"\",\"\",MAX(AZ$1:AZ112)+1)","v":""},{"$f":"IF(Mercury!B135=\"\",\"\",Mercury!B135)","v":""},{"$f":"IF(Mercury!C135=\"\",\"\",Mercury!C135)","v":""},{"$f":"IF(Mercury!D135=\"\",\"\",Mercury!D135)","v":""},"",{"$f":"IF(COUNTIF(BB$2:BB113,BB113)=1,BB113,\"\")","v":""},"","",""]
[{"$f":"+IF(D114=\"\",\"\",MAX(A$1:A113)+1)","v":""},{"$f":"IF(CEM_COM_CPMS_Identification!C136=\"\",\"\",CEM_COM_CPMS_Identification!C136)","v":""},"",{"$f":"IF(COUNTIF(B$2:B114,B114)=1,B114,\"\")","v":""},null,null,null,null,null,null,null,null,null,null,null,null,null,null,null,{"$f":"+IF(Y114=\"\",\"\",MAX(T$1:T113)+1)","v":""},{"$f":"IF(No_CPMS_Limits_Details!B136=\"\",\"\",No_CPMS_Limits_Details!B136)","v":""},{"$f":"IF(No_CPMS_Limits_Details!C136=\"\",\"\",No_CPMS_Limits_Details!C136)","v":""},{"$f":"IF(No_CPMS_Limits_Details!D136=\"\",\"\",No_CPMS_Limits_Details!D136)","v":""},"",{"$f":"IF(COUNTIF(V$2:V114,V114)=1,V114,\"\")","v":""},"","","",null,{"$f":"+IF(AI114=\"\",\"\",MAX(AD$1:AD113)+1)","v":""},{"$f":"IF(Limits_Details_w_CPMS!B136=\"\",\"\",Limits_Details_w_CPMS!B136)","v":""},{"$f":"IF(Limits_Details_w_CPMS!C136=\"\",\"\",Limits_Details_w_CPMS!C136)","v":""},{"$f":"IF(Limits_Details_w_CPMS!D136=\"\",\"\",Limits_Details_w_CPMS!D136)","v":""},"",{"$f":"IF(COUNTIF(AH$2:AH114,AH114)=1,AH114,\"\")","v":""},"","","",null,null,null,{"$f":"+IF(AU114=\"\",\"\",MAX(AP$1:AP113)+1)","v":""},{"$f":"IF(CPMS_Detail!B136=\"\",\"\",CPMS_Detail!B136)","v":""},{"$f":"IF(CPMS_Detail!C136=\"\",\"\",CPMS_Detail!C136)","v":""},{"$f":"IF(CPMS_Detail!D136=\"\",\"\",CPMS_Detail!D136)","v":""},"",{"$f":"IF(COUNTIF(AT$2:AT114,AT114)=1,AT114,\"\")","v":""},"","","",null,{"$f":"+IF(BE114=\"\",\"\",MAX(AZ$1:AZ113)+1)","v":""},{"$f":"IF(Mercury!B136=\"\",\"\",Mercury!B136)","v":""},{"$f":"IF(Mercury!C136=\"\",\"\",Mercury!C136)","v":""},{"$f":"IF(Mercury!D136=\"\",\"\",Mercury!D136)","v":""},"",{"$f":"IF(COUNTIF(BB$2:BB114,BB114)=1,BB114,\"\")","v":""},"","",""]
[{"$f":"+IF(D115=\"\",\"\",MAX(A$1:A114)+1)","v":""},{"$f":"IF(CEM_COM_CPMS_Identification!C137=\"\",\"\",CEM_COM_CPMS_Identification!C137)","v":""},"",{"$f":"IF(COUNTIF(B$2:B115,B115)=1,B115,\"\")","v":""},null,null,null,null,null,null,null,null,null,null,null,null,null,null,null,{"$f":"+IF(Y115=\"\",\"\",MAX(T$1:T114)+1)","v":""},{"$f":"IF(No_CPMS_Limits_Details!B137=\"\",\"\",No_CPMS_Limits_Details!B137)","v":""},{"$f":"IF(No_CPMS_Limits_Details!C137=\"\",\"\",No_CPMS_Limits_Details!C137)","v":""},{"$f":"IF(No_CPMS_Limits_Details!D137=\"\",\"\",No_CPMS_Limits_Details!D137)","v":""},"",{"$f":"IF(COUNTIF(V$2:V115,V115)=1,V115,\"\")","v":""},"","","",null,{"$f":"+IF(AI115=\"\",\"\",MAX(AD$1:AD114)+1)","v":""},{"$f":"IF(Limits_Details_w_CPMS!B137=\"\",\"\",Limits_Details_w_CPMS!B137)","v":""},{"$f":"IF(Limits_Details_w_CPMS!C137=\"\",\"\",Limits_Details_w_CPMS!C137)","v":""},{"$f":"IF(Limits_Details_w_CPMS!D137=\"\",\"\",Limits_Details_w_CPMS!D137)","v":""},"",{"$f":"IF(COUNTIF(AH$2:AH115,AH115)=1,AH115,\"\")","v":""},"","","",null,null,null,{"$f":"+IF(AU115=\"\",\"\",MAX(AP$1:AP114)+1)","v":""},{"$f":"IF(CPMS_Detail!B137=\"\",\"\",CPMS_Detail!B137)","v":""},{"$f":"IF(CPMS_Detail!C137=\"\",\"\",CPMS_Detail!C137)","v":""},{"$f":"IF(CPMS_Detail!D137=\"\",\"\",CPMS_Detail!D137)","v":""},"",{"$f":"IF(COUNTIF(AT$2:AT115,AT115)=1,AT115,\"\")","v":""},"","","",null,{"$f":"+IF(BE115=\"\",\"\",MAX(AZ$1:AZ114)+1)","v":""},{"$f":"IF(Mercury!B137=\"\",\"\",Mercury!B137)","v":""},{"$f":"IF(Mercury!C137=\"\",\"\",Mercury!C137)","v":""},{"$f":"IF(Mercury!D137=\"\",\"\",Mercury!D137)","v":""},"",{"$f":"IF(COUNTIF(BB$2:BB115,BB115)=1,BB115,\"\")","v":""},"","",""]
[{"$f":"+IF(D116=\"\",\"\",MAX(A$1:A115)+1)","v":""},{"$f":"IF(CEM_COM_CPMS_Identification!C138=\"\",\"\",CEM_COM_CPMS_Identification!C138)","v":""},"",{"$f":"IF(COUNTIF(B$2:B116,B116)=1,B116,\"\")","v":""},null,null,null,null,null,null,null,null,null,null,null,null,null,null,null,{"$f":"+IF(Y116=\"\",\"\",MAX(T$1:T115)+1)","v":""},{"$f":"IF(No_CPMS_Limits_Details!B138=\"\",\"\",No_CPMS_Limits_Details!B138)","v":""},{"$f":"IF(No_CPMS_Limits_Details!C138=\"\",\"\",No_CPMS_Limits_Details!C138)","v":""},{"$f":"IF(No_CPMS_Limits_Details!D138=\"\",\"\",No_CPMS_Limits_Details!D138)","v":""},"",{"$f":"IF(COUNTIF(V$2:V116,V116)=1,V116,\"\")","v":""},"","","",null,{"$f":"+IF(AI116=\"\",\"\",MAX(AD$1:AD115)+1)","v":""},{"$f":"IF(Limits_Details_w_CPMS!B138=\"\",\"\",Limits_Details_w_CPMS!B138)","v":""},{"$f":"IF(Limits_Details_w_CPMS!C138=\"\",\"\",Limits_Details_w_CPMS!C138)","v":""},{"$f":"IF(Limits_Details_w_CPMS!D138=\"\",\"\",Limits_Details_w_CPMS!D138)","v":""},"",{"$f":"IF(COUNTIF(AH$2:AH116,AH116)=1,AH116,\"\")","v":""},"","","",null,null,null,{"$f":"+IF(AU116=\"\",\"\",MAX(AP$1:AP115)+1)","v":""},{"$f":"IF(CPMS_Detail!B138=\"\",\"\",CPMS_Detail!B138)","v":""},{"$f":"IF(CPMS_Detail!C138=\"\",\"\",CPMS_Detail!C138)","v":""},{"$f":"IF(CPMS_Detail!D138=\"\",\"\",CPMS_Detail!D138)","v":""},"",{"$f":"IF(COUNTIF(AT$2:AT116,AT116)=1,AT116,\"\")","v":""},"","","",null,{"$f":"+IF(BE116=\"\",\"\",MAX(AZ$1:AZ115)+1)","v":""},{"$f":"IF(Mercury!B138=\"\",\"\",Mercury!B138)","v":""},{"$f":"IF(Mercury!C138=\"\",\"\",Mercury!C138)","v":""},{"$f":"IF(Mercury!D138=\"\",\"\",Mercury!D138)","v":""},"",{"$f":"IF(COUNTIF(BB$2:BB116,BB116)=1,BB116,\"\")","v":""},"","",""]
[{"$f":"+IF(D117=\"\",\"\",MAX(A$1:A116)+1)","v":""},{"$f":"IF(CEM_COM_CPMS_Identification!C139=\"\",\"\",CEM_COM_CPMS_Identification!C139)","v":""},"",{"$f":"IF(COUNTIF(B$2:B117,B117)=1,B117,\"\")","v":""},null,null,null,null,null,null,null,null,null,null,null,null,null,null,null,{"$f":"+IF(Y117=\"\",\"\",MAX(T$1:T116)+1)","v":""},{"$f":"IF(No_CPMS_Limits_Details!B139=\"\",\"\",No_CPMS_Limits_Details!B139)","v":""},{"$f":"IF(No_CPMS_Limits_Details!C139=\"\",\"\",No_CPMS_Limits_Details!C139)","v":""},{"$f":"IF(No_CPMS_Limits_Details!D139=\"\",\"\",No_CPMS_Limits_Details!D139)","v":""},"",{"$f":"IF(COUNTIF(V$2:V117,V117)=1,V117,\"\")","v":""},"","","",null,{"$f":"+IF(AI117=\"\",\"\",MAX(AD$1:AD116)+1)","v":""},{"$f":"IF(Limits_Details_w_CPMS!B139=\"\",\"\",Limits_Details_w_CPMS!B139)","v":""},{"$f":"IF(Limits_Details_w_CPMS!C139=\"\",\"\",Limits_Details_w_CPMS!C139)","v":""},{"$f":"IF(Limits_Details_w_CPMS!D139=\"\",\"\",Limits_Details_w_CPMS!D139)","v":""},"",{"$f":"IF(COUNTIF(AH$2:AH117,AH117)=1,AH117,\"\")","v":""},"","","",null,null,null,{"$f":"+IF(AU117=\"\",\"\",MAX(AP$1:AP116)+1)","v":""},{"$f":"IF(CPMS_Detail!B139=\"\",\"\",CPMS_Detail!B139)","v":""},{"$f":"IF(CPMS_Detail!C139=\"\",\"\",CPMS_Detail!C139)","v":""},{"$f":"IF(CPMS_Detail!D139=\"\",\"\",CPMS_Detail!D139)","v":""},"",{"$f":"IF(COUNTIF(AT$2:AT117,AT117)=1,AT117,\"\")","v":""},"","","",null,{"$f":"+IF(BE117=\"\",\"\",MAX(AZ$1:AZ116)+1)","v":""},{"$f":"IF(Mercury!B139=\"\",\"\",Mercury!B139)","v":""},{"$f":"IF(Mercury!C139=\"\",\"\",Mercury!C139)","v":""},{"$f":"IF(Mercury!D139=\"\",\"\",Mercury!D139)","v":""},"",{"$f":"IF(COUNTIF(BB$2:BB117,BB117)=1,BB117,\"\")","v":""},"","",""]
[{"$f":"+IF(D118=\"\",\"\",MAX(A$1:A117)+1)","v":""},{"$f":"IF(CEM_COM_CPMS_Identification!C140=\"\",\"\",CEM_COM_CPMS_Identification!C140)","v":""},"",{"$f":"IF(COUNTIF(B$2:B118,B118)=1,B118,\"\")","v":""},null,null,null,null,null,null,null,null,null,null,null,null,null,null,null,{"$f":"+IF(Y118=\"\",\"\",MAX(T$1:T117)+1)","v":""},{"$f":"IF(No_CPMS_Limits_Details!B140=\"\",\"\",No_CPMS_Limits_Details!B140)","v":""},{"$f":"IF(No_CPMS_Limits_Details!C140=\"\",\"\",No_CPMS_Limits_Details!C140)","v":""},{"$f":"IF(No_CPMS_Limits_Details!D140=\"\",\"\",No_CPMS_Limits_Details!D140)","v":""},"",{"$f":"IF(COUNTIF(V$2:V118,V118)=1,V118,\"\")","v":""},"","","",null,{"$f":"+IF(AI118=\"\",\"\",MAX(AD$1:AD117)+1)","v":""},{"$f":"IF(Limits_Details_w_CPMS!B140=\"\",\"\",Limits_Details_w_CPMS!B140)","v":""},{"$f":"IF(Limits_Details_w_CPMS!C140=\"\",\"\",Limits_Details_w_CPMS!C140)","v":""},{"$f":"IF(Limits_Details_w_CPMS!D140=\"\",\"\",Limits_Details_w_CPMS!D140)","v":""},"",{"$f":"IF(COUNTIF(AH$2:AH118,AH118)=1,AH118,\"\")","v":""},"","","",null,null,null,{"$f":"+IF(AU118=\"\",\"\",MAX(AP$1:AP117)+1)","v":""},{"$f":"IF(CPMS_Detail!B140=\"\",\"\",CPMS_Detail!B140)","v":""},{"$f":"IF(CPMS_Detail!C140=\"\",\"\",CPMS_Detail!C140)","v":""},{"$f":"IF(CPMS_Detail!D140=\"\",\"\",CPMS_Detail!D140)","v":""},"",{"$f":"IF(COUNTIF(AT$2:AT118,AT118)=1,AT118,\"\")","v":""},"","","",null,{"$f":"+IF(BE118=\"\",\"\",MAX(AZ$1:AZ117)+1)","v":""},{"$f":"IF(Mercury!B140=\"\",\"\",Mercury!B140)","v":""},{"$f":"IF(Mercury!C140=\"\",\"\",Mercury!C140)","v":""},{"$f":"IF(Mercury!D140=\"\",\"\",Mercury!D140)","v":""},"",{"$f":"IF(COUNTIF(BB$2:BB118,BB118)=1,BB118,\"\")","v":""},"","",""]
[{"$f":"+IF(D119=\"\",\"\",MAX(A$1:A118)+1)","v":""},{"$f":"IF(CEM_COM_CPMS_Identification!C141=\"\",\"\",CEM_COM_CPMS_Identification!C141)","v":""},"",{"$f":"IF(COUNTIF(B$2:B119,B119)=1,B119,\"\")","v":""},null,null,null,null,null,null,null,null,null,null,null,null,null,null,null,{"$f":"+IF(Y119=\"\",\"\",MAX(T$1:T118)+1)","v":""},{"$f":"IF(No_CPMS_Limits_Details!B141=\"\",\"\",No_CPMS_Limits_Details!B141)","v":""},{"$f":"IF(No_CPMS_Limits_Details!C141=\"\",\"\",No_CPMS_Limits_Details!C141)","v":""},{"$f":"IF(No_CPMS_Limits_Details!D141=\"\",\"\",No_CPMS_Limits_Details!D141)","v":""},"",{"$f":"IF(COUNTIF(V$2:V119,V119)=1,V119,\"\")","v":""},"","","",null,{"$f":"+IF(AI119=\"\",\"\",MAX(AD$1:AD118)+1)","v":""},{"$f":"IF(Limits_Details_w_CPMS!B141=\"\",\"\",Limits_Details_w_CPMS!B141)","v":""},{"$f":"IF(Limits_Details_w_CPMS!C141=\"\",\"\",Limits_Details_w_CPMS!C141)","v":""},{"$f":"IF(Limits_Details_w_CPMS!D141=\"\",\"\",Limits_Details_w_CPMS!D141)","v":""},"",{"$f":"IF(COUNTIF(AH$2:AH119,AH119)=1,AH119,\"\")","v":""},"","","",null,null,null,{"$f":"+IF(AU119=\"\",\"\",MAX(AP$1:AP118)+1)","v":""},{"$f":"IF(CPMS_Detail!B141=\"\",\"\",CPMS_Detail!B141)","v":""},{"$f":"IF(CPMS_Detail!C141=\"\",\"\",CPMS_Detail!C141)","v":""},{"$f":"IF(CPMS_Detail!D141=\"\",\"\",CPMS_Detail!D141)","v":""},"",{"$f":"IF(COUNTIF(AT$2:AT119,AT119)=1,AT119,\"\")","v":""},"","","",null,{"$f":"+IF(BE119=\"\",\"\",MAX(AZ$1:AZ118)+1)","v":""},{"$f":"IF(Mercury!B141=\"\",\"\",Mercury!B141)","v":""},{"$f":"IF(Mercury!C141=\"\",\"\",Mercury!C141)","v":""},{"$f":"IF(Mercury!D141=\"\",\"\",Mercury!D141)","v":""},"",{"$f":"IF(COUNTIF(BB$2:BB119,BB119)=1,BB119,\"\")","v":""},"","",""]
[{"$f":"+IF(D120=\"\",\"\",MAX(A$1:A119)+1)","v":""},{"$f":"IF(CEM_COM_CPMS_Identification!C142=\"\",\"\",CEM_COM_CPMS_Identification!C142)","v":""},"",{"$f":"IF(COUNTIF(B$2:B120,B120)=1,B120,\"\")","v":""},null,null,null,null,null,null,null,null,null,null,null,null,null,null,null,{"$f":"+IF(Y120=\"\",\"\",MAX(T$1:T119)+1)","v":""},{"$f":"IF(No_CPMS_Limits_Details!B142=\"\",\"\",No_CPMS_Limits_Details!B142)","v":""},{"$f":"IF(No_CPMS_Limits_Details!C142=\"\",\"\",No_CPMS_Limits_Details!C142)","v":""},{"$f":"IF(No_CPMS_Limits_Details!D142=\"\",\"\",No_CPMS_Limits_Details!D142)","v":""},"",{"$f":"IF(COUNTIF(V$2:V120,V120)=1,V120,\"\")","v":""},"","","",null,{"$f":"+IF(AI120=\"\",\"\",MAX(AD$1:AD119)+1)","v":""},{"$f":"IF(Limits_Details_w_CPMS!B142=\"\",\"\",Limits_Details_w_CPMS!B142)","v":""},{"$f":"IF(Limits_Details_w_CPMS!C142=\"\",\"\",Limits_Details_w_CPMS!C142)","v":""},{"$f":"IF(Limits_Details_w_CPMS!D142=\"\",\"\",Limits_Details_w_CPMS!D142)","v":""},"",{"$f":"IF(COUNTIF(AH$2:AH120,AH120)=1,AH120,\"\")","v":""},"","","",null,null,null,{"$f":"+IF(AU120=\"\",\"\",MAX(AP$1:AP119)+1)","v":""},{"$f":"IF(CPMS_Detail!B142=\"\",\"\",CPMS_Detail!B142)","v":""},{"$f":"IF(CPMS_Detail!C142=\"\",\"\",CPMS_Detail!C142)","v":""},{"$f":"IF(CPMS_Detail!D142=\"\",\"\",CPMS_Detail!D142)","v":""},"",{"$f":"IF(COUNTIF(AT$2:AT120,AT120)=1,AT120,\"\")","v":""},"","","",null,{"$f":"+IF(BE120=\"\",\"\",MAX(AZ$1:AZ119)+1)","v":""},{"$f":"IF(Mercury!B142=\"\",\"\",Mercury!B142)","v":""},{"$f":"IF(Mercury!C142=\"\",\"\",Mercury!C142)","v":""},{"$f":"IF(Mercury!D142=\"\",\"\",Mercury!D142)","v":""},"",{"$f":"IF(COUNTIF(BB$2:BB120,BB120)=1,BB120,\"\")","v":""},"","",""]
[{"$f":"+IF(D121=\"\",\"\",MAX(A$1:A120)+1)","v":""},{"$f":"IF(CEM_COM_CPMS_Identification!C143=\"\",\"\",CEM_COM_CPMS_Identification!C143)","v":""},"",{"$f":"IF(COUNTIF(B$2:B121,B121)=1,B121,\"\")","v":""},null,null,null,null,null,null,null,null,null,null,null,null,null,null,null,{"$f":"+IF(Y121=\"\",\"\",MAX(T$1:T120)+1)","v":""},{"$f":"IF(No_CPMS_Limits_Details!B143=\"\",\"\",No_CPMS_Limits_Details!B143)","v":""},{"$f":"IF(No_CPMS_Limits_Details!C143=\"\",\"\",No_CPMS_Limits_Details!C143)","v":""},{"$f":"IF(No_CPMS_Limits_Details!D143=\"\",\"\",No_CPMS_Limits_Details!D143)","v":""},"",{"$f":"IF(COUNTIF(V$2:V121,V121)=1,V121,\"\")","v":""},"","","",null,{"$f":"+IF(AI121=\"\",\"\",MAX(AD$1:AD120)+1)","v":""},{"$f":"IF(Limits_Details_w_CPMS!B143=\"\",\"\",Limits_Details_w_CPMS!B143)","v":""},{"$f":"IF(Limits_Details_w_CPMS!C143=\"\",\"\",Limits_Details_w_CPMS!C143)","v":""},{"$f":"IF(Limits_Details_w_CPMS!D143=\"\",\"\",Limits_Details_w_CPMS!D143)","v":""},"",{"$f":"IF(COUNTIF(AH$2:AH121,AH121)=1,AH121,\"\")","v":""},"","","",null,null,null,{"$f":"+IF(AU121=\"\",\"\",MAX(AP$1:AP120)+1)","v":""},{"$f":"IF(CPMS_Detail!B143=\"\",\"\",CPMS_Detail!B143)","v":""},{"$f":"IF(CPMS_Detail!C143=\"\",\"\",CPMS_Detail!C143)","v":""},{"$f":"IF(CPMS_Detail!D143=\"\",\"\",CPMS_Detail!D143)","v":""},"",{"$f":"IF(COUNTIF(AT$2:AT121,AT121)=1,AT121,\"\")","v":""},"","","",null,{"$f":"+IF(BE121=\"\",\"\",MAX(AZ$1:AZ120)+1)","v":""},{"$f":"IF(Mercury!B143=\"\",\"\",Mercury!B143)","v":""},{"$f":"IF(Mercury!C143=\"\",\"\",Mercury!C143)","v":""},{"$f":"IF(Mercury!D143=\"\",\"\",Mercury!D143)","v":""},"",{"$f":"IF(COUNTIF(BB$2:BB121,BB121)=1,BB121,\"\")","v":""},"","",""]
[{"$f":"+IF(D122=\"\",\"\",MAX(A$1:A121)+1)","v":""},{"$f":"IF(CEM_COM_CPMS_Identification!C144=\"\",\"\",CEM_COM_CPMS_Identification!C144)","v":""},"",{"$f":"IF(COUNTIF(B$2:B122,B122)=1,B122,\"\")","v":""},null,null,null,null,null,null,null,null,null,null,null,null,null,null,null,{"$f":"+IF(Y122=\"\",\"\",MAX(T$1:T121)+1)","v":""},{"$f":"IF(No_CPMS_Limits_Details!B144=\"\",\"\",No_CPMS_Limits_Details!B144)","v":""},{"$f":"IF(No_CPMS_Limits_Details!C144=\"\",\"\",No_CPMS_Limits_Details!C144)","v":""},{"$f":"IF(No_CPMS_Limits_Details!D144=\"\",\"\",No_CPMS_Limits_Details!D144)","v":""},"",{"$f":"IF(COUNTIF(V$2:V122,V122)=1,V122,\"\")","v":""},"","","",null,{"$f":"+IF(AI122=\"\",\"\",MAX(AD$1:AD121)+1)","v":""},{"$f":"IF(Limits_Details_w_CPMS!B144=\"\",\"\",Limits_Details_w_CPMS!B144)","v":""},{"$f":"IF(Limits_Details_w_CPMS!C144=\"\",\"\",Limits_Details_w_CPMS!C144)","v":""},{"$f":"IF(Limits_Details_w_CPMS!D144=\"\",\"\",Limits_Details_w_CPMS!D144)","v":""},"",{"$f":"IF(COUNTIF(AH$2:AH122,AH122)=1,AH122,\"\")","v":""},"","","",null,null,null,{"$f":"+IF(AU122=\"\",\"\",MAX(AP$1:AP121)+1)","v":""},{"$f":"IF(CPMS_Detail!B144=\"\",\"\",CPMS_Detail!B144)","v":""},{"$f":"IF(CPMS_Detail!C144=\"\",\"\",CPMS_Detail!C144)","v":""},{"$f":"IF(CPMS_Detail!D144=\"\",\"\",CPMS_Detail!D144)","v":""},"",{"$f":"IF(COUNTIF(AT$2:AT122,AT122)=1,AT122,\"\")","v":""},"","","",null,{"$f":"+IF(BE122=\"\",\"\",MAX(AZ$1:AZ121)+1)","v":""},{"$f":"IF(Mercury!B144=\"\",\"\",Mercury!B144)","v":""},{"$f":"IF(Mercury!C144=\"\",\"\",Mercury!C144)","v":""},{"$f":"IF(Mercury!D144=\"\",\"\",Mercury!D144)","v":""},"",{"$f":"IF(COUNTIF(BB$2:BB122,BB122)=1,BB122,\"\")","v":""},"","",""]
[{"$f":"+IF(D123=\"\",\"\",MAX(A$1:A122)+1)","v":""},{"$f":"IF(CEM_COM_CPMS_Identification!C145=\"\",\"\",CEM_COM_CPMS_Identification!C145)","v":""},"",{"$f":"IF(COUNTIF(B$2:B123,B123)=1,B123,\"\")","v":""},null,null,null,null,null,null,null,null,null,null,null,null,null,null,null,{"$f":"+IF(Y123=\"\",\"\",MAX(T$1:T122)+1)","v":""},{"$f":"IF(No_CPMS_Limits_Details!B145=\"\",\"\",No_CPMS_Limits_Details!B145)","v":""},{"$f":"IF(No_CPMS_Limits_Details!C145=\"\",\"\",No_CPMS_Limits_Details!C145)","v":""},{"$f":"IF(No_CPMS_Limits_Details!D145=\"\",\"\",No_CPMS_Limits_Details!D145)","v":""},"",{"$f":"IF(COUNTIF(V$2:V123,V123)=1,V123,\"\")","v":""},"","","",null,{"$f":"+IF(AI123=\"\",\"\",MAX(AD$1:AD122)+1)","v":""},{"$f":"IF(Limits_Details_w_CPMS!B145=\"\",\"\",Limits_Details_w_CPMS!B145)","v":""},{"$f":"IF(Limits_Details_w_CPMS!C145=\"\",\"\",Limits_Details_w_CPMS!C145)","v":""},{"$f":"IF(Limits_Details_w_CPMS!D145=\"\",\"\",Limits_Details_w_CPMS!D145)","v":""},"",{"$f":"IF(COUNTIF(AH$2:AH123,AH123)=1,AH123,\"\")","v":""},"","","",null,null,null,{"$f":"+IF(AU123=\"\",\"\",MAX(AP$1:AP122)+1)","v":""},{"$f":"IF(CPMS_Detail!B145=\"\",\"\",CPMS_Detail!B145)","v":""},{"$f":"IF(CPMS_Detail!C145=\"\",\"\",CPMS_Detail!C145)","v":""},{"$f":"IF(CPMS_Detail!D145=\"\",\"\",CPMS_Detail!D145)","v":""},"",{"$f":"IF(COUNTIF(AT$2:AT123,AT123)=1,AT123,\"\")","v":""},"","","",null,{"$f":"+IF(BE123=\"\",\"\",MAX(AZ$1:AZ122)+1)","v":""},{"$f":"IF(Mercury!B145=\"\",\"\",Mercury!B145)","v":""},{"$f":"IF(Mercury!C145=\"\",\"\",Mercury!C145)","v":""},{"$f":"IF(Mercury!D145=\"\",\"\",Mercury!D145)","v":""},"",{"$f":"IF(COUNTIF(BB$2:BB123,BB123)=1,BB123,\"\")","v":""},"","",""]
[{"$f":"+IF(D124=\"\",\"\",MAX(A$1:A123)+1)","v":""},{"$f":"IF(CEM_COM_CPMS_Identification!C146=\"\",\"\",CEM_COM_CPMS_Identification!C146)","v":""},"",{"$f":"IF(COUNTIF(B$2:B124,B124)=1,B124,\"\")","v":""},null,null,null,null,null,null,null,null,null,null,null,null,null,null,null,{"$f":"+IF(Y124=\"\",\"\",MAX(T$1:T123)+1)","v":""},{"$f":"IF(No_CPMS_Limits_Details!B146=\"\",\"\",No_CPMS_Limits_Details!B146)","v":""},{"$f":"IF(No_CPMS_Limits_Details!C146=\"\",\"\",No_CPMS_Limits_Details!C146)","v":""},{"$f":"IF(No_CPMS_Limits_Details!D146=\"\",\"\",No_CPMS_Limits_Details!D146)","v":""},"",{"$f":"IF(COUNTIF(V$2:V124,V124)=1,V124,\"\")","v":""},"","","",null,{"$f":"+IF(AI124=\"\",\"\",MAX(AD$1:AD123)+1)","v":""},{"$f":"IF(Limits_Details_w_CPMS!B146=\"\",\"\",Limits_Details_w_CPMS!B146)","v":""},{"$f":"IF(Limits_Details_w_CPMS!C146=\"\",\"\",Limits_Details_w_CPMS!C146)","v":""},{"$f":"IF(Limits_Details_w_CPMS!D146=\"\",\"\",Limits_Details_w_CPMS!D146)","v":""},"",{"$f":"IF(COUNTIF(AH$2:AH124,AH124)=1,AH124,\"\")","v":""},"","","",null,null,null,{"$f":"+IF(AU124=\"\",\"\",MAX(AP$1:AP123)+1)","v":""},{"$f":"IF(CPMS_Detail!B146=\"\",\"\",CPMS_Detail!B146)","v":""},{"$f":"IF(CPMS_Detail!C146=\"\",\"\",CPMS_Detail!C146)","v":""},{"$f":"IF(CPMS_Detail!D146=\"\",\"\",CPMS_Detail!D146)","v":""},"",{"$f":"IF(COUNTIF(AT$2:AT124,AT124)=1,AT124,\"\")","v":""},"","","",null,{"$f":"+IF(BE124=\"\",\"\",MAX(AZ$1:AZ123)+1)","v":""},{"$f":"IF(Mercury!B146=\"\",\"\",Mercury!B146)","v":""},{"$f":"IF(Mercury!C146=\"\",\"\",Mercury!C146)","v":""},{"$f":"IF(Mercury!D146=\"\",\"\",Mercury!D146)","v":""},"",{"$f":"IF(COUNTIF(BB$2:BB124,BB124)=1,BB124,\"\")","v":""},"","",""]
[{"$f":"+IF(D125=\"\",\"\",MAX(A$1:A124)+1)","v":""},{"$f":"IF(CEM_COM_CPMS_Identification!C147=\"\",\"\",CEM_COM_CPMS_Identification!C147)","v":""},"",{"$f":"IF(COUNTIF(B$2:B125,B125)=1,B125,\"\")","v":""},null,null,null,null,null,null,null,null,null,null,null,null,null,null,null,{"$f":"+IF(Y125=\"\",\"\",MAX(T$1:T124)+1)","v":""},{"$f":"IF(No_CPMS_Limits_Details!B147=\"\",\"\",No_CPMS_Limits_Details!B147)","v":""},{"$f":"IF(No_CPMS_Limits_Details!C147=\"\",\"\",No_CPMS_Limits_Details!C147)","v":""},{"$f":"IF(No_CPMS_Limits_Details!D147=\"\",\"\",No_CPMS_Limits_Details!D147)","v":""},"",{"$f":"IF(COUNTIF(V$2:V125,V125)=1,V125,\"\")","v":""},"","","",null,{"$f":"+IF(AI125=\"\",\"\",MAX(AD$1:AD124)+1)","v":""},{"$f":"IF(Limits_Details_w_CPMS!B147=\"\",\"\",Limits_Details_w_CPMS!B147)","v":""},{"$f":"IF(Limits_Details_w_CPMS!C147=\"\",\"\",Limits_Details_w_CPMS!C147)","v":""},{"$f":"IF(Limits_Details_w_CPMS!D147=\"\",\"\",Limits_Details_w_CPMS!D147)","v":""},"",{"$f":"IF(COUNTIF(AH$2:AH125,AH125)=1,AH125,\"\")","v":""},"","","",null,null,null,{"$f":"+IF(AU125=\"\",\"\",MAX(AP$1:AP124)+1)","v":""},{"$f":"IF(CPMS_Detail!B147=\"\",\"\",CPMS_Detail!B147)","v":""},{"$f":"IF(CPMS_Detail!C147=\"\",\"\",CPMS_Detail!C147)","v":""},{"$f":"IF(CPMS_Detail!D147=\"\",\"\",CPMS_Detail!D147)","v":""},"",{"$f":"IF(COUNTIF(AT$2:AT125,AT125)=1,AT125,\"\")","v":""},"","","",null,{"$f":"+IF(BE125=\"\",\"\",MAX(AZ$1:AZ124)+1)","v":""},{"$f":"IF(Mercury!B147=\"\",\"\",Mercury!B147)","v":""},{"$f":"IF(Mercury!C147=\"\",\"\",Mercury!C147)","v":""},{"$f":"IF(Mercury!D147=\"\",\"\",Mercury!D147)","v":""},"",{"$f":"IF(COUNTIF(BB$2:BB125,BB125)=1,BB125,\"\")","v":""},"","",""]
[{"$f":"+IF(D126=\"\",\"\",MAX(A$1:A125)+1)","v":""},{"$f":"IF(CEM_COM_CPMS_Identification!C148=\"\",\"\",CEM_COM_CPMS_Identification!C148)","v":""},"",{"$f":"IF(COUNTIF(B$2:B126,B126)=1,B126,\"\")","v":""},null,null,null,null,null,null,null,null,null,null,null,null,null,null,null,{"$f":"+IF(Y126=\"\",\"\",MAX(T$1:T125)+1)","v":""},{"$f":"IF(No_CPMS_Limits_Details!B148=\"\",\"\",No_CPMS_Limits_Details!B148)","v":""},{"$f":"IF(No_CPMS_Limits_Details!C148=\"\",\"\",No_CPMS_Limits_Details!C148)","v":""},{"$f":"IF(No_CPMS_Limits_Details!D148=\"\",\"\",No_CPMS_Limits_Details!D148)","v":""},"",{"$f":"IF(COUNTIF(V$2:V126,V126)=1,V126,\"\")","v":""},"","","",null,{"$f":"+IF(AI126=\"\",\"\",MAX(AD$1:AD125)+1)","v":""},{"$f":"IF(Limits_Details_w_CPMS!B148=\"\",\"\",Limits_Details_w_CPMS!B148)","v":""},{"$f":"IF(Limits_Details_w_CPMS!C148=\"\",\"\",Limits_Details_w_CPMS!C148)","v":""},{"$f":"IF(Limits_Details_w_CPMS!D148=\"\",\"\",Limits_Details_w_CPMS!D148)","v":""},"",{"$f":"IF(COUNTIF(AH$2:AH126,AH126)=1,AH126,\"\")","v":""},"","","",null,null,null,{"$f":"+IF(AU126=\"\",\"\",MAX(AP$1:AP125)+1)","v":""},{"$f":"IF(CPMS_Detail!B148=\"\",\"\",CPMS_Detail!B148)","v":""},{"$f":"IF(CPMS_Detail!C148=\"\",\"\",CPMS_Detail!C148)","v":""},{"$f":"IF(CPMS_Detail!D148=\"\",\"\",CPMS_Detail!D148)","v":""},"",{"$f":"IF(COUNTIF(AT$2:AT126,AT126)=1,AT126,\"\")","v":""},"","","",null,{"$f":"+IF(BE126=\"\",\"\",MAX(AZ$1:AZ125)+1)","v":""},{"$f":"IF(Mercury!B148=\"\",\"\",Mercury!B148)","v":""},{"$f":"IF(Mercury!C148=\"\",\"\",Mercury!C148)","v":""},{"$f":"IF(Mercury!D148=\"\",\"\",Mercury!D148)","v":""},"",{"$f":"IF(COUNTIF(BB$2:BB126,BB126)=1,BB126,\"\")","v":""},"","",""]
[{"$f":"+IF(D127=\"\",\"\",MAX(A$1:A126)+1)","v":""},{"$f":"IF(CEM_COM_CPMS_Identification!C149=\"\",\"\",CEM_COM_CPMS_Identification!C149)","v":""},"",{"$f":"IF(COUNTIF(B$2:B127,B127)=1,B127,\"\")","v":""},null,null,null,null,null,null,null,null,null,null,null,null,null,null,null,{"$f":"+IF(Y127=\"\",\"\",MAX(T$1:T126)+1)","v":""},{"$f":"IF(No_CPMS_Limits_Details!B149=\"\",\"\",No_CPMS_Limits_Details!B149)","v":""},{"$f":"IF(No_CPMS_Limits_Details!C149=\"\",\"\",No_CPMS_Limits_Details!C149)","v":""},{"$f":"IF(No_CPMS_Limits_Details!D149=\"\",\"\",No_CPMS_Limits_Details!D149)","v":""},"",{"$f":"IF(COUNTIF(V$2:V127,V127)=1,V127,\"\")","v":""},"","","",null,{"$f":"+IF(AI127=\"\",\"\",MAX(AD$1:AD126)+1)","v":""},{"$f":"IF(Limits_Details_w_CPMS!B149=\"\",\"\",Limits_Details_w_CPMS!B149)","v":""},{"$f":"IF(Limits_Details_w_CPMS!C149=\"\",\"\",Limits_Details_w_CPMS!C149)","v":""},{"$f":"IF(Limits_Details_w_CPMS!D149=\"\",\"\",Limits_Details_w_CPMS!D149)","v":""},"",{"$f":"IF(COUNTIF(AH$2:AH127,AH127)=1,AH127,\"\")","v":""},"","","",null,null,null,{"$f":"+IF(AU127=\"\",\"\",MAX(AP$1:AP126)+1)","v":""},{"$f":"IF(CPMS_Detail!B149=\"\",\"\",CPMS_Detail!B149)","v":""},{"$f":"IF(CPMS_Detail!C149=\"\",\"\",CPMS_Detail!C149)","v":""},{"$f":"IF(CPMS_Detail!D149=\"\",\"\",CPMS_Detail!D149)","v":""},"",{"$f":"IF(COUNTIF(AT$2:AT127,AT127)=1,AT127,\"\")","v":""},"","","",null,{"$f":"+IF(BE127=\"\",\"\",MAX(AZ$1:AZ126)+1)","v":""},{"$f":"IF(Mercury!B149=\"\",\"\",Mercury!B149)","v":""},{"$f":"IF(Mercury!C149=\"\",\"\",Mercury!C149)","v":""},{"$f":"IF(Mercury!D149=\"\",\"\",Mercury!D149)","v":""},"",{"$f":"IF(COUNTIF(BB$2:BB127,BB127)=1,BB127,\"\")","v":""},"","",""]
[{"$f":"+IF(D128=\"\",\"\",MAX(A$1:A127)+1)","v":""},{"$f":"IF(CEM_COM_CPMS_Identification!C150=\"\",\"\",CEM_COM_CPMS_Identification!C150)","v":""},"",{"$f":"IF(COUNTIF(B$2:B128,B128)=1,B128,\"\")","v":""},null,null,null,null,null,null,null,null,null,null,null,null,null,null,null,{"$f":"+IF(Y128=\"\",\"\",MAX(T$1:T127)+1)","v":""},{"$f":"IF(No_CPMS_Limits_Details!B150=\"\",\"\",No_CPMS_Limits_Details!B150)","v":""},{"$f":"IF(No_CPMS_Limits_Details!C150=\"\",\"\",No_CPMS_Limits_Details!C150)","v":""},{"$f":"IF(No_CPMS_Limits_Details!D150=\"\",\"\",No_CPMS_Limits_Details!D150)","v":""},"",{"$f":"IF(COUNTIF(V$2:V128,V128)=1,V128,\"\")","v":""},"","","",null,{"$f":"+IF(AI128=\"\",\"\",MAX(AD$1:AD127)+1)","v":""},{"$f":"IF(Limits_Details_w_CPMS!B150=\"\",\"\",Limits_Details_w_CPMS!B150)","v":""},{"$f":"IF(Limits_Details_w_CPMS!C150=\"\",\"\",Limits_Details_w_CPMS!C150)","v":""},{"$f":"IF(Limits_Details_w_CPMS!D150=\"\",\"\",Limits_Details_w_CPMS!D150)","v":""},"",{"$f":"IF(COUNTIF(AH$2:AH128,AH128)=1,AH128,\"\")","v":""},"","","",null,null,null,{"$f":"+IF(AU128=\"\",\"\",MAX(AP$1:AP127)+1)","v":""},{"$f":"IF(CPMS_Detail!B150=\"\",\"\",CPMS_Detail!B150)","v":""},{"$f":"IF(CPMS_Detail!C150=\"\",\"\",CPMS_Detail!C150)","v":""},{"$f":"IF(CPMS_Detail!D150=\"\",\"\",CPMS_Detail!D150)","v":""},"",{"$f":"IF(COUNTIF(AT$2:AT128,AT128)=1,AT128,\"\")","v":""},"","","",null,{"$f":"+IF(BE128=\"\",\"\",MAX(AZ$1:AZ127)+1)","v":""},{"$f":"IF(Mercury!B150=\"\",\"\",Mercury!B150)","v":""},{"$f":"IF(Mercury!C150=\"\",\"\",Mercury!C150)","v":""},{"$f":"IF(Mercury!D150=\"\",\"\",Mercury!D150)","v":""},"",{"$f":"IF(COUNTIF(BB$2:BB128,BB128)=1,BB128,\"\")","v":""},"","",""]
[{"$f":"+IF(D129=\"\",\"\",MAX(A$1:A128)+1)","v":""},{"$f":"IF(CEM_COM_CPMS_Identification!C151=\"\",\"\",CEM_COM_CPMS_Identification!C151)","v":""},"",{"$f":"IF(COUNTIF(B$2:B129,B129)=1,B129,\"\")","v":""},null,null,null,null,null,null,null,null,null,null,null,null,null,null,null,{"$f":"+IF(Y129=\"\",\"\",MAX(T$1:T128)+1)","v":""},{"$f":"IF(No_CPMS_Limits_Details!B151=\"\",\"\",No_CPMS_Limits_Details!B151)","v":""},{"$f":"IF(No_CPMS_Limits_Details!C151=\"\",\"\",No_CPMS_Limits_Details!C151)","v":""},{"$f":"IF(No_CPMS_Limits_Details!D151=\"\",\"\",No_CPMS_Limits_Details!D151)","v":""},"",{"$f":"IF(COUNTIF(V$2:V129,V129)=1,V129,\"\")","v":""},"","","",null,{"$f":"+IF(AI129=\"\",\"\",MAX(AD$1:AD128)+1)","v":""},{"$f":"IF(Limits_Details_w_CPMS!B151=\"\",\"\",Limits_Details_w_CPMS!B151)","v":""},{"$f":"IF(Limits_Details_w_CPMS!C151=\"\",\"\",Limits_Details_w_CPMS!C151)","v":""},{"$f":"IF(Limits_Details_w_CPMS!D151=\"\",\"\",Limits_Details_w_CPMS!D151)","v":""},"",{"$f":"IF(COUNTIF(AH$2:AH129,AH129)=1,AH129,\"\")","v":""},"","","",null,null,null,{"$f":"+IF(AU129=\"\",\"\",MAX(AP$1:AP128)+1)","v":""},{"$f":"IF(CPMS_Detail!B151=\"\",\"\",CPMS_Detail!B151)","v":""},{"$f":"IF(CPMS_Detail!C151=\"\",\"\",CPMS_Detail!C151)","v":""},{"$f":"IF(CPMS_Detail!D151=\"\",\"\",CPMS_Detail!D151)","v":""},"",{"$f":"IF(COUNTIF(AT$2:AT129,AT129)=1,AT129,\"\")","v":""},"","","",null,{"$f":"+IF(BE129=\"\",\"\",MAX(AZ$1:AZ128)+1)","v":""},{"$f":"IF(Mercury!B151=\"\",\"\",Mercury!B151)","v":""},{"$f":"IF(Mercury!C151=\"\",\"\",Mercury!C151)","v":""},{"$f":"IF(Mercury!D151=\"\",\"\",Mercury!D151)","v":""},"",{"$f":"IF(COUNTIF(BB$2:BB129,BB129)=1,BB129,\"\")","v":""},"","",""]
[{"$f":"+IF(D130=\"\",\"\",MAX(A$1:A129)+1)","v":""},{"$f":"IF(CEM_COM_CPMS_Identification!C152=\"\",\"\",CEM_COM_CPMS_Identification!C152)","v":""},{"$f":"+IFERROR(INDEX(B$2:B$501,MATCH(ROW()-ROW($C$1),A$2:A$501,0)),\"\")","v":""},{"$f":"IF(COUNTIF(B$2:B130,B130)=1,B130,\"\")","v":""},null,null,null,null,null,null,null,null,null,null,null,null,null,null,null,{"$f":"+IF(Y130=\"\",\"\",MAX(T$1:T129)+1)","v":""},{"$f":"IF(No_CPMS_Limits_Details!B152=\"\",\"\",No_CPMS_Limits_Details!B152)","v":""},{"$f":"IF(No_CPMS_Limits_Details!C152=\"\",\"\",No_CPMS_Limits_Details!C152)","v":""},{"$f":"IF(No_CPMS_Limits_Details!D152=\"\",\"\",No_CPMS_Limits_Details!D152)","v":""},{"$f":"U130&V130&W131","v":""},{"$f":"IF(COUNTIF(V$2:V130,V130)=1,V130,\"\")","v":""},{"$f":"+IFERROR(INDEX(U$2:U$955,MATCH(ROW()-ROW(Z$1),T$2:T$955,0)),\"\")","v":""},{"$f":"+IFERROR(INDEX(V$2:V$955,MATCH(ROW()-ROW(Z$1),T$2:T$955,0)),\"\")","v":""},{"$f":"+IFERROR(INDEX(W$2:W$955,MATCH(ROW()-ROW(Z$1),T$2:T$955,0)),\"\")","v":""},null,{"$f":"+IF(AI130=\"\",\"\",MAX(AD$1:AD129)+1)","v":""},{"$f":"IF(Limits_Details_w_CPMS!B152=\"\",\"\",Limits_Details_w_CPMS!B152)","v":""},{"$f":"IF(Limits_Details_w_CPMS!C152=\"\",\"\",Limits_Details_w_CPMS!C152)","v":""},{"$f":"IF(Limits_Details_w_CPMS!D152=\"\",\"\",Limits_Details_w_CPMS!D152)","v":""},"",{"$f":"IF(COUNTIF(AH$2:AH130,AH130)=1,AH130,\"\")","v":""},{"$f":"+IFERROR(INDEX(AE$2:AE$955,MATCH(ROW()-ROW(AJ$1),AD$2:AD$955,0)),\"\")","v":""},{"$f":"+IFERROR(INDEX(AF$2:AF$955,MATCH(ROW()-ROW(AJ$1),AD$2:AD$955,0)),\"\")","v":""},{"$f":"+IFERROR(INDEX(AG$2:AG$955,MATCH(ROW()-ROW(AJ$1),AD$2:AD$955,0)),\"\")","v":""},null,null,null,{"$f":"+IF(AU130=\"\",\"\",MAX(AP$1:AP129)+1)","v":""},{"$f":"IF(CPMS_Detail!B152=\"\",\"\",CPMS_Detail!B152)","v":""},{"$f":"IF(CPMS_Detail!C152=\"\",\"\",CPMS_Detail!C152)","v":""},{"$f":"IF(CPMS_Detail!D152=\"\",\"\",CPMS_Detail!D152)","v":""},"",{"$f":"IF(COUNTIF(AT$2:AT130,AT130)=1,AT130,\"\")","v":""},"","","",null,{"$f":"+IF(BE130=\"\",\"\",MAX(AZ$1:AZ129)+1)","v":""},{"$f":"IF(Mercury!B152=\"\",\"\",Mercury!B152)","v":""},{"$f":"IF(Mercury!C152=\"\",\"\",Mercury!C152)","v":""},{"$f":"IF(Mercury!D152=\"\",\"\",Mercury!D152)","v":""},{"$f":"BA130&BB130&BC131","v":""},{"$f":"IF(COUNTIF(BB$2:BB130,BB130)=1,BB130,\"\")","v":""},{"$f":"+IFERROR(INDEX(BA$2:BA$955,MATCH(ROW()-ROW(BF$1),AZ$2:AZ$955,0)),\"\")","v":""},{"$f":"+IFERROR(INDEX(BB$2:BB$955,MATCH(ROW()-ROW(BF$1),AZ$2:AZ$955,0)),\"\")","v":""},{"$f":"+IFERROR(INDEX(BC$2:BC$955,MATCH(ROW()-ROW(BF$1),AZ$2:AZ$955,0)),\"\")","v":""}]
[{"$f":"+IF(D131=\"\",\"\",MAX(A$1:A130)+1)","v":""},{"$f":"IF(CEM_COM_CPMS_Identification!C153=\"\",\"\",CEM_COM_CPMS_Identification!C153)","v":""},"",{"$f":"IF(COUNTIF(B$2:B131,B131)=1,B131,\"\")","v":""},null,null,null,null,null,null,null,null,null,null,null,null,null,null,null,{"$f":"+IF(Y131=\"\",\"\",MAX(T$1:T130)+1)","v":""},{"$f":"IF(No_CPMS_Limits_Details!B153=\"\",\"\",No_CPMS_Limits_Details!B153)","v":""},{"$f":"IF(No_CPMS_Limits_Details!C153=\"\",\"\",No_CPMS_Limits_Details!C153)","v":""},{"$f":"IF(No_CPMS_Limits_Details!D153=\"\",\"\",No_CPMS_Limits_Details!D153)","v":""},"",{"$f":"IF(COUNTIF(V$2:V131,V131)=1,V131,\"\")","v":""},"","","",null,{"$f":"+IF(AI131=\"\",\"\",MAX(AD$1:AD130)+1)","v":""},{"$f":"IF(Limits_Details_w_CPMS!B153=\"\",\"\",Limits_Details_w_CPMS!B153)","v":""},{"$f":"IF(Limits_Details_w_CPMS!C153=\"\",\"\",Limits_Details_w_CPMS!C153)","v":""},{"$f":"IF(Limits_Details_w_CPMS!D153=\"\",\"\",Limits_Details_w_CPMS!D153)","v":""},{"$f":"AE131&AF131&AG131","v":""},{"$f":"IF(COUNTIF(AH$2:AH131,AH131)=1,AH131,\"\")","v":""},"","","",null,null,null,{"$f":"+IF(AU131=\"\",\"\",MAX(AP$1:AP130)+1)","v":""},{"$f":"IF(CPMS_Detail!B153=\"\",\"\",CPMS_Detail!B153)","v":""},{"$f":"IF(CPMS_Detail!C153=\"\",\"\",CPMS_Detail!C153)","v":""},{"$f":"IF(CPMS_Detail!D153=\"\",\"\",CPMS_Detail!D153)","v":""},{"$f":"AQ131&AR131&AS131","v":""},{"$f":"IF(COUNTIF(AT$2:AT131,AT131)=1,AT131,\"\")","v":""},{"$f":"+IFERROR(INDEX(AQ$2:AQ$955,MATCH(ROW()-ROW(AV$1),AP$2:AP$955,0)),\"\")","v":""},{"$f":"+IFERROR(INDEX(AR$2:AR$955,MATCH(ROW()-ROW(AV$1),AP$2:AP$955,0)),\"\")","v":""},{"$f":"+IFERROR(INDEX(AS$2:AS$955,MATCH(ROW()-ROW(AV$1),AP$2:AP$955,0)),\"\")","v":""},null,{"$f":"+IF(BE131=\"\",\"\",MAX(AZ$1:AZ130)+1)","v":""},{"$f":"IF(Mercury!B153=\"\",\"\",Mercury!B153)","v":""},{"$f":"IF(Mercury!C153=\"\",\"\",Mercury!C153)","v":""},{"$f":"IF(Mercury!D153=\"\",\"\",Mercury!D153)","v":""},"",{"$f":"IF(COUNTIF(BB$2:BB131,BB131)=1,BB131,\"\")","v":""},"","",""]
[{"$f":"+IF(D132=\"\",\"\",MAX(A$1:A131)+1)","v":""},{"$f":"IF(CEM_COM_CPMS_Identification!C154=\"\",\"\",CEM_COM_CPMS_Identification!C154)","v":""},"",{"$f":"IF(COUNTIF(B$2:B132,B132)=1,B132,\"\")","v":""},null,null,null,null,null,null,null,null,null,null,null,null,null,null,null,{"$f":"+IF(Y132=\"\",\"\",MAX(T$1:T131)+1)","v":""},{"$f":"IF(No_CPMS_Limits_Details!B154=\"\",\"\",No_CPMS_Limits_Details!B154)","v":""},{"$f":"IF(No_CPMS_Limits_Details!C154=\"\",\"\",No_CPMS_Limits_Details!C154)","v":""},{"$f":"IF(No_CPMS_Limits_Details!D154=\"\",\"\",No_CPMS_Limits_Details!D154)","v":""},"",{"$f":"IF(COUNTIF(V$2:V132,V132)=1,V132,\"\")","v":""},"","","",null,{"$f":"+IF(AI132=\"\",\"\",MAX(AD$1:AD131)+1)","v":""},{"$f":"IF(Limits_Details_w_CPMS!B154=\"\",\"\",Limits_Details_w_CPMS!B154)","v":""},{"$f":"IF(Limits_Details_w_CPMS!C154=\"\",\"\",Limits_Details_w_CPMS!C154)","v":""},{"$f":"IF(Limits_Details_w_CPMS!D154=\"\",\"\",Limits_Details_w_CPMS!D154)","v":""},"",{"$f":"IF(COUNTIF(AH$2:AH132,AH132)=1,AH132,\"\")","v":""},"","","",null,null,null,{"$f":"+IF(AU132=\"\",\"\",MAX(AP$1:AP131)+1)","v":""},{"$f":"IF(CPMS_Detail!B154=\"\",\"\",CPMS_Detail!B154)","v":""},{"$f":"IF(CPMS_Detail!C154=\"\",\"\",CPMS_Detail!C154)","v":""},{"$f":"IF(CPMS_Detail!D154=\"\",\"\",CPMS_Detail!D154)","v":""},"",{"$f":"IF(COUNTIF(AT$2:AT132,AT132)=1,AT132,\"\")","v":""},"","","",null,{"$f":"+IF(BE132=\"\",\"\",MAX(AZ$1:AZ131)+1)","v":""},{"$f":"IF(Mercury!B154=\"\",\"\",Mercury!B154)","v":""},{"$f":"IF(Mercury!C154=\"\",\"\",Mercury!C154)","v":""},{"$f":"IF(Mercury!D154=\"\",\"\",Mercury!D154)","v":""},"",{"$f":"IF(COUNTIF(BB$2:BB132,BB132)=1,BB132,\"\")","v":""},"","",""]
[{"$f":"+IF(D133=\"\",\"\",MAX(A$1:A132)+1)","v":""},{"$f":"IF(CEM_COM_CPMS_Identification!C155=\"\",\"\",CEM_COM_CPMS_Identification!C155)","v":""},"",{"$f":"IF(COUNTIF(B$2:B133,B133)=1,B133,\"\")","v":""},null,null,null,null,null,null,null,null,null,null,null,null,null,null,null,{"$f":"+IF(Y133=\"\",\"\",MAX(T$1:T132)+1)","v":""},{"$f":"IF(No_CPMS_Limits_Details!B155=\"\",\"\",No_CPMS_Limits_Details!B155)","v":""},{"$f":"IF(No_CPMS_Limits_Details!C155=\"\",\"\",No_CPMS_Limits_Details!C155)","v":""},{"$f":"IF(No_CPMS_Limits_Details!D155=\"\",\"\",No_CPMS_Limits_Details!D155)","v":""},"",{"$f":"IF(COUNTIF(V$2:V133,V133)=1,V133,\"\")","v":""},"","","",null,{"$f":"+IF(AI133=\"\",\"\",MAX(AD$1:AD132)+1)","v":""},{"$f":"IF(Limits_Details_w_CPMS!B155=\"\",\"\",Limits_Details_w_CPMS!B155)","v":""},{"$f":"IF(Limits_Details_w_CPMS!C155=\"\",\"\",Limits_Details_w_CPMS!C155)","v":""},{"$f":"IF(Limits_Details_w_CPMS!D155=\"\",\"\",Limits_Details_w_CPMS!D155)","v":""},"",{"$f":"IF(COUNTIF(AH$2:AH133,AH133)=1,AH133,\"\")","v":""},"","","",null,null,null,{"$f":"+IF(AU133=\"\",\"\",MAX(AP$1:AP132)+1)","v":""},{"$f":"IF(CPMS_Detail!B155=\"\",\"\",CPMS_Detail!B155)","v":""},{"$f":"IF(CPMS_Detail!C155=\"\",\"\",CPMS_Detail!C155)","v":""},{"$f":"IF(CPMS_Detail!D155=\"\",\"\",CPMS_Detail!D155)","v":""},"",{"$f":"IF(COUNTIF(AT$2:AT133,AT133)=1,AT133,\"\")","v":""},"","","",null,{"$f":"+IF(BE133=\"\",\"\",MAX(AZ$1:AZ132)+1)","v":""},{"$f":"IF(Mercury!B155=\"\",\"\",Mercury!B155)","v":""},{"$f":"IF(Mercury!C155=\"\",\"\",Mercury!C155)","v":""},{"$f":"IF(Mercury!D155=\"\",\"\",Mercury!D155)","v":""},"",{"$f":"IF(COUNTIF(BB$2:BB133,BB133)=1,BB133,\"\")","v":""},"","",""]
[{"$f":"+IF(D134=\"\",\"\",MAX(A$1:A133)+1)","v":""},{"$f":"IF(CEM_COM_CPMS_Identification!C156=\"\",\"\",CEM_COM_CPMS_Identification!C156)","v":""},"",{"$f":"IF(COUNTIF(B$2:B134,B134)=1,B134,\"\")","v":""},null,null,null,null,null,null,null,null,null,null,null,null,null,null,null,{"$f":"+IF(Y134=\"\",\"\",MAX(T$1:T133)+1)","v":""},{"$f":"IF(No_CPMS_Limits_Details!B156=\"\",\"\",No_CPMS_Limits_Details!B156)","v":""},{"$f":"IF(No_CPMS_Limits_Details!C156=\"\",\"\",No_CPMS_Limits_Details!C156)","v":""},{"$f":"IF(No_CPMS_Limits_Details!D156=\"\",\"\",No_CPMS_Limits_Details!D156)","v":""},"",{"$f":"IF(COUNTIF(V$2:V134,V134)=1,V134,\"\")","v":""},"","","",null,{"$f":"+IF(AI134=\"\",\"\",MAX(AD$1:AD133)+1)","v":""},{"$f":"IF(Limits_Details_w_CPMS!B156=\"\",\"\",Limits_Details_w_CPMS!B156)","v":""},{"$f":"IF(Limits_Details_w_CPMS!C156=\"\",\"\",Limits_Details_w_CPMS!C156)","v":""},{"$f":"IF(Limits_Details_w_CPMS!D156=\"\",\"\",Limits_Details_w_CPMS!D156)","v":""},"",{"$f":"IF(COUNTIF(AH$2:AH134,AH134)=1,AH134,\"\")","v":""},"","","",null,null,null,{"$f":"+IF(AU134=\"\",\"\",MAX(AP$1:AP133)+1)","v":""},{"$f":"IF(CPMS_Detail!B156=\"\",\"\",CPMS_Detail!B156)","v":""},{"$f":"IF(CPMS_Detail!C156=\"\",\"\",CPMS_Detail!C156)","v":""},{"$f":"IF(CPMS_Detail!D156=\"\",\"\",CPMS_Detail!D156)","v":""},"",{"$f":"IF(COUNTIF(AT$2:AT134,AT134)=1,AT134,\"\")","v":""},"","","",null,{"$f":"+IF(BE134=\"\",\"\",MAX(AZ$1:AZ133)+1)","v":""},{"$f":"IF(Mercury!B156=\"\",\"\",Mercury!B156)","v":""},{"$f":"IF(Mercury!C156=\"\",\"\",Mercury!C156)","v":""},{"$f":"IF(Mercury!D156=\"\",\"\",Mercury!D156)","v":""},"",{"$f":"IF(COUNTIF(BB$2:BB134,BB134)=1,BB134,\"\")","v":""},"","",""]
[{"$f":"+IF(D135=\"\",\"\",MAX(A$1:A134)+1)","v":""},{"$f":"IF(CEM_COM_CPMS_Identification!C157=\"\",\"\",CEM_COM_CPMS_Identification!C157)","v":""},"",{"$f":"IF(COUNTIF(B$2:B135,B135)=1,B135,\"\")","v":""},null,null,null,null,null,null,null,null,null,null,null,null,null,null,null,{"$f":"+IF(Y135=\"\",\"\",MAX(T$1:T134)+1)","v":""},{"$f":"IF(No_CPMS_Limits_Details!B157=\"\",\"\",No_CPMS_Limits_Details!B157)","v":""},{"$f":"IF(No_CPMS_Limits_Details!C157=\"\",\"\",No_CPMS_Limits_Details!C157)","v":""},{"$f":"IF(No_CPMS_Limits_Details!D157=\"\",\"\",No_CPMS_Limits_Details!D157)","v":""},"",{"$f":"IF(COUNTIF(V$2:V135,V135)=1,V135,\"\")","v":""},"","","",null,{"$f":"+IF(AI135=\"\",\"\",MAX(AD$1:AD134)+1)","v":""},{"$f":"IF(Limits_Details_w_CPMS!B157=\"\",\"\",Limits_Details_w_CPMS!B157)","v":""},{"$f":"IF(Limits_Details_w_CPMS!C157=\"\",\"\",Limits_Details_w_CPMS!C157)","v":""},{"$f":"IF(Limits_Details_w_CPMS!D157=\"\",\"\",Limits_Details_w_CPMS!D157)","v":""},"",{"$f":"IF(COUNTIF(AH$2:AH135,AH135)=1,AH135,\"\")","v":""},"","","",null,null,null,{"$f":"+IF(AU135=\"\",\"\",MAX(AP$1:AP134)+1)","v":""},{"$f":"IF(CPMS_Detail!B157=\"\",\"\",CPMS_Detail!B157)","v":""},{"$f":"IF(CPMS_Detail!C157=\"\",\"\",CPMS_Detail!C157)","v":""},{"$f":"IF(CPMS_Detail!D157=\"\",\"\",CPMS_Detail!D157)","v":""},"",{"$f":"IF(COUNTIF(AT$2:AT135,AT135)=1,AT135,\"\")","v":""},"","","",null,{"$f":"+IF(BE135=\"\",\"\",MAX(AZ$1:AZ134)+1)","v":""},{"$f":"IF(Mercury!B157=\"\",\"\",Mercury!B157)","v":""},{"$f":"IF(Mercury!C157=\"\",\"\",Mercury!C157)","v":""},{"$f":"IF(Mercury!D157=\"\",\"\",Mercury!D157)","v":""},"",{"$f":"IF(COUNTIF(BB$2:BB135,BB135)=1,BB135,\"\")","v":""},"","",""]
[{"$f":"+IF(D136=\"\",\"\",MAX(A$1:A135)+1)","v":""},{"$f":"IF(CEM_COM_CPMS_Identification!C158=\"\",\"\",CEM_COM_CPMS_Identification!C158)","v":""},"",{"$f":"IF(COUNTIF(B$2:B136,B136)=1,B136,\"\")","v":""},null,null,null,null,null,null,null,null,null,null,null,null,null,null,null,{"$f":"+IF(Y136=\"\",\"\",MAX(T$1:T135)+1)","v":""},{"$f":"IF(No_CPMS_Limits_Details!B158=\"\",\"\",No_CPMS_Limits_Details!B158)","v":""},{"$f":"IF(No_CPMS_Limits_Details!C158=\"\",\"\",No_CPMS_Limits_Details!C158)","v":""},{"$f":"IF(No_CPMS_Limits_Details!D158=\"\",\"\",No_CPMS_Limits_Details!D158)","v":""},"",{"$f":"IF(COUNTIF(V$2:V136,V136)=1,V136,\"\")","v":""},"","","",null,{"$f":"+IF(AI136=\"\",\"\",MAX(AD$1:AD135)+1)","v":""},{"$f":"IF(Limits_Details_w_CPMS!B158=\"\",\"\",Limits_Details_w_CPMS!B158)","v":""},{"$f":"IF(Limits_Details_w_CPMS!C158=\"\",\"\",Limits_Details_w_CPMS!C158)","v":""},{"$f":"IF(Limits_Details_w_CPMS!D158=\"\",\"\",Limits_Details_w_CPMS!D158)","v":""},"",{"$f":"IF(COUNTIF(AH$2:AH136,AH136)=1,AH136,\"\")","v":""},"","","",null,null,null,{"$f":"+IF(AU136=\"\",\"\",MAX(AP$1:AP135)+1)","v":""},{"$f":"IF(CPMS_Detail!B158=\"\",\"\",CPMS_Detail!B158)","v":""},{"$f":"IF(CPMS_Detail!C158=\"\",\"\",CPMS_Detail!C158)","v":""},{"$f":"IF(CPMS_Detail!D158=\"\",\"\",CPMS_Detail!D158)","v":""},"",{"$f":"IF(COUNTIF(AT$2:AT136,AT136)=1,AT136,\"\")","v":""},"","","",null,{"$f":"+IF(BE136=\"\",\"\",MAX(AZ$1:AZ135)+1)","v":""},{"$f":"IF(Mercury!B158=\"\",\"\",Mercury!B158)","v":""},{"$f":"IF(Mercury!C158=\"\",\"\",Mercury!C158)","v":""},{"$f":"IF(Mercury!D158=\"\",\"\",Mercury!D158)","v":""},"",{"$f":"IF(COUNTIF(BB$2:BB136,BB136)=1,BB136,\"\")","v":""},"","",""]
[{"$f":"+IF(D137=\"\",\"\",MAX(A$1:A136)+1)","v":""},{"$f":"IF(CEM_COM_CPMS_Identification!C159=\"\",\"\",CEM_COM_CPMS_Identification!C159)","v":""},"",{"$f":"IF(COUNTIF(B$2:B137,B137)=1,B137,\"\")","v":""},null,null,null,null,null,null,null,null,null,null,null,null,null,null,null,{"$f":"+IF(Y137=\"\",\"\",MAX(T$1:T136)+1)","v":""},{"$f":"IF(No_CPMS_Limits_Details!B159=\"\",\"\",No_CPMS_Limits_Details!B159)","v":""},{"$f":"IF(No_CPMS_Limits_Details!C159=\"\",\"\",No_CPMS_Limits_Details!C159)","v":""},{"$f":"IF(No_CPMS_Limits_Details!D159=\"\",\"\",No_CPMS_Limits_Details!D159)","v":""},"",{"$f":"IF(COUNTIF(V$2:V137,V137)=1,V137,\"\")","v":""},"","","",null,{"$f":"+IF(AI137=\"\",\"\",MAX(AD$1:AD136)+1)","v":""},{"$f":"IF(Limits_Details_w_CPMS!B159=\"\",\"\",Limits_Details_w_CPMS!B159)","v":""},{"$f":"IF(Limits_Details_w_CPMS!C159=\"\",\"\",Limits_Details_w_CPMS!C159)","v":""},{"$f":"IF(Limits_Details_w_CPMS!D159=\"\",\"\",Limits_Details_w_CPMS!D159)","v":""},"",{"$f":"IF(COUNTIF(AH$2:AH137,AH137)=1,AH137,\"\")","v":""},"","","",null,null,null,{"$f":"+IF(AU137=\"\",\"\",MAX(AP$1:AP136)+1)","v":""},{"$f":"IF(CPMS_Detail!B159=\"\",\"\",CPMS_Detail!B159)","v":""},{"$f":"IF(CPMS_Detail!C159=\"\",\"\",CPMS_Detail!C159)","v":""},{"$f":"IF(CPMS_Detail!D159=\"\",\"\",CPMS_Detail!D159)","v":""},"",{"$f":"IF(COUNTIF(AT$2:AT137,AT137)=1,AT137,\"\")","v":""},"","","",null,{"$f":"+IF(BE137=\"\",\"\",MAX(AZ$1:AZ136)+1)","v":""},{"$f":"IF(Mercury!B159=\"\",\"\",Mercury!B159)","v":""},{"$f":"IF(Mercury!C159=\"\",\"\",Mercury!C159)","v":""},{"$f":"IF(Mercury!D159=\"\",\"\",Mercury!D159)","v":""},"",{"$f":"IF(COUNTIF(BB$2:BB137,BB137)=1,BB137,\"\")","v":""},"","",""]
[{"$f":"+IF(D138=\"\",\"\",MAX(A$1:A137)+1)","v":""},{"$f":"IF(CEM_COM_CPMS_Identification!C160=\"\",\"\",CEM_COM_CPMS_Identification!C160)","v":""},"",{"$f":"IF(COUNTIF(B$2:B138,B138)=1,B138,\"\")","v":""},null,null,null,null,null,null,null,null,null,null,null,null,null,null,null,{"$f":"+IF(Y138=\"\",\"\",MAX(T$1:T137)+1)","v":""},{"$f":"IF(No_CPMS_Limits_Details!B160=\"\",\"\",No_CPMS_Limits_Details!B160)","v":""},{"$f":"IF(No_CPMS_Limits_Details!C160=\"\",\"\",No_CPMS_Limits_Details!C160)","v":""},{"$f":"IF(No_CPMS_Limits_Details!D160=\"\",\"\",No_CPMS_Limits_Details!D160)","v":""},"",{"$f":"IF(COUNTIF(V$2:V138,V138)=1,V138,\"\")","v":""},"","","",null,{"$f":"+IF(AI138=\"\",\"\",MAX(AD$1:AD137)+1)","v":""},{"$f":"IF(Limits_Details_w_CPMS!B160=\"\",\"\",Limits_Details_w_CPMS!B160)","v":""},{"$f":"IF(Limits_Details_w_CPMS!C160=\"\",\"\",Limits_Details_w_CPMS!C160)","v":""},{"$f":"IF(Limits_Details_w_CPMS!D160=\"\",\"\",Limits_Details_w_CPMS!D160)","v":""},"",{"$f":"IF(COUNTIF(AH$2:AH138,AH138)=1,AH138,\"\")","v":""},"","","",null,null,null,{"$f":"+IF(AU138=\"\",\"\",MAX(AP$1:AP137)+1)","v":""},{"$f":"IF(CPMS_Detail!B160=\"\",\"\",CPMS_Detail!B160)","v":""},{"$f":"IF(CPMS_Detail!C160=\"\",\"\",CPMS_Detail!C160)","v":""},{"$f":"IF(CPMS_Detail!D160=\"\",\"\",CPMS_Detail!D160)","v":""},"",{"$f":"IF(COUNTIF(AT$2:AT138,AT138)=1,AT138,\"\")","v":""},"","","",null,{"$f":"+IF(BE138=\"\",\"\",MAX(AZ$1:AZ137)+1)","v":""},{"$f":"IF(Mercury!B160=\"\",\"\",Mercury!B160)","v":""},{"$f":"IF(Mercury!C160=\"\",\"\",Mercury!C160)","v":""},{"$f":"IF(Mercury!D160=\"\",\"\",Mercury!D160)","v":""},"",{"$f":"IF(COUNTIF(BB$2:BB138,BB138)=1,BB138,\"\")","v":""},"","",""]
[{"$f":"+IF(D139=\"\",\"\",MAX(A$1:A138)+1)","v":""},{"$f":"IF(CEM_COM_CPMS_Identification!C161=\"\",\"\",CEM_COM_CPMS_Identification!C161)","v":""},"",{"$f":"IF(COUNTIF(B$2:B139,B139)=1,B139,\"\")","v":""},null,null,null,null,null,null,null,null,null,null,null,null,null,null,null,{"$f":"+IF(Y139=\"\",\"\",MAX(T$1:T138)+1)","v":""},{"$f":"IF(No_CPMS_Limits_Details!B161=\"\",\"\",No_CPMS_Limits_Details!B161)","v":""},{"$f":"IF(No_CPMS_Limits_Details!C161=\"\",\"\",No_CPMS_Limits_Details!C161)","v":""},{"$f":"IF(No_CPMS_Limits_Details!D161=\"\",\"\",No_CPMS_Limits_Details!D161)","v":""},"",{"$f":"IF(COUNTIF(V$2:V139,V139)=1,V139,\"\")","v":""},"","","",null,{"$f":"+IF(AI139=\"\",\"\",MAX(AD$1:AD138)+1)","v":""},{"$f":"IF(Limits_Details_w_CPMS!B161=\"\",\"\",Limits_Details_w_CPMS!B161)","v":""},{"$f":"IF(Limits_Details_w_CPMS!C161=\"\",\"\",Limits_Details_w_CPMS!C161)","v":""},{"$f":"IF(Limits_Details_w_CPMS!D161=\"\",\"\",Limits_Details_w_CPMS!D161)","v":""},"",{"$f":"IF(COUNTIF(AH$2:AH139,AH139)=1,AH139,\"\")","v":""},"","","",null,null,null,{"$f":"+IF(AU139=\"\",\"\",MAX(AP$1:AP138)+1)","v":""},{"$f":"IF(CPMS_Detail!B161=\"\",\"\",CPMS_Detail!B161)","v":""},{"$f":"IF(CPMS_Detail!C161=\"\",\"\",CPMS_Detail!C161)","v":""},{"$f":"IF(CPMS_Detail!D161=\"\",\"\",CPMS_Detail!D161)","v":""},"",{"$f":"IF(COUNTIF(AT$2:AT139,AT139)=1,AT139,\"\")","v":""},"","","",null,{"$f":"+IF(BE139=\"\",\"\",MAX(AZ$1:AZ138)+1)","v":""},{"$f":"IF(Mercury!B161=\"\",\"\",Mercury!B161)","v":""},{"$f":"IF(Mercury!C161=\"\",\"\",Mercury!C161)","v":""},{"$f":"IF(Mercury!D161=\"\",\"\",Mercury!D161)","v":""},"",{"$f":"IF(COUNTIF(BB$2:BB139,BB139)=1,BB139,\"\")","v":""},"","",""]
[{"$f":"+IF(D140=\"\",\"\",MAX(A$1:A139)+1)","v":""},{"$f":"IF(CEM_COM_CPMS_Identification!C162=\"\",\"\",CEM_COM_CPMS_Identification!C162)","v":""},"",{"$f":"IF(COUNTIF(B$2:B140,B140)=1,B140,\"\")","v":""},null,null,null,null,null,null,null,null,null,null,null,null,null,null,null,{"$f":"+IF(Y140=\"\",\"\",MAX(T$1:T139)+1)","v":""},{"$f":"IF(No_CPMS_Limits_Details!B162=\"\",\"\",No_CPMS_Limits_Details!B162)","v":""},{"$f":"IF(No_CPMS_Limits_Details!C162=\"\",\"\",No_CPMS_Limits_Details!C162)","v":""},{"$f":"IF(No_CPMS_Limits_Details!D162=\"\",\"\",No_CPMS_Limits_Details!D162)","v":""},"",{"$f":"IF(COUNTIF(V$2:V140,V140)=1,V140,\"\")","v":""},"","","",null,{"$f":"+IF(AI140=\"\",\"\",MAX(AD$1:AD139)+1)","v":""},{"$f":"IF(Limits_Details_w_CPMS!B162=\"\",\"\",Limits_Details_w_CPMS!B162)","v":""},{"$f":"IF(Limits_Details_w_CPMS!C162=\"\",\"\",Limits_Details_w_CPMS!C162)","v":""},{"$f":"IF(Limits_Details_w_CPMS!D162=\"\",\"\",Limits_Details_w_CPMS!D162)","v":""},"",{"$f":"IF(COUNTIF(AH$2:AH140,AH140)=1,AH140,\"\")","v":""},"","","",null,null,null,{"$f":"+IF(AU140=\"\",\"\",MAX(AP$1:AP139)+1)","v":""},{"$f":"IF(CPMS_Detail!B162=\"\",\"\",CPMS_Detail!B162)","v":""},{"$f":"IF(CPMS_Detail!C162=\"\",\"\",CPMS_Detail!C162)","v":""},{"$f":"IF(CPMS_Detail!D162=\"\",\"\",CPMS_Detail!D162)","v":""},"",{"$f":"IF(COUNTIF(AT$2:AT140,AT140)=1,AT140,\"\")","v":""},"","","",null,{"$f":"+IF(BE140=\"\",\"\",MAX(AZ$1:AZ139)+1)","v":""},{"$f":"IF(Mercury!B162=\"\",\"\",Mercury!B162)","v":""},{"$f":"IF(Mercury!C162=\"\",\"\",Mercury!C162)","v":""},{"$f":"IF(Mercury!D162=\"\",\"\",Mercury!D162)","v":""},"",{"$f":"IF(COUNTIF(BB$2:BB140,BB140)=1,BB140,\"\")","v":""},"","",""]
[{"$f":"+IF(D141=\"\",\"\",MAX(A$1:A140)+1)","v":""},{"$f":"IF(CEM_COM_CPMS_Identification!C163=\"\",\"\",CEM_COM_CPMS_Identification!C163)","v":""},"",{"$f":"IF(COUNTIF(B$2:B141,B141)=1,B141,\"\")","v":""},null,null,null,null,null,null,null,null,null,null,null,null,null,null,null,{"$f":"+IF(Y141=\"\",\"\",MAX(T$1:T140)+1)","v":""},{"$f":"IF(No_CPMS_Limits_Details!B163=\"\",\"\",No_CPMS_Limits_Details!B163)","v":""},{"$f":"IF(No_CPMS_Limits_Details!C163=\"\",\"\",No_CPMS_Limits_Details!C163)","v":""},{"$f":"IF(No_CPMS_Limits_Details!D163=\"\",\"\",No_CPMS_Limits_Details!D163)","v":""},"",{"$f":"IF(COUNTIF(V$2:V141,V141)=1,V141,\"\")","v":""},"","","",null,{"$f":"+IF(AI141=\"\",\"\",MAX(AD$1:AD140)+1)","v":""},{"$f":"IF(Limits_Details_w_CPMS!B163=\"\",\"\",Limits_Details_w_CPMS!B163)","v":""},{"$f":"IF(Limits_Details_w_CPMS!C163=\"\",\"\",Limits_Details_w_CPMS!C163)","v":""},{"$f":"IF(Limits_Details_w_CPMS!D163=\"\",\"\",Limits_Details_w_CPMS!D163)","v":""},"",{"$f":"IF(COUNTIF(AH$2:AH141,AH141)=1,AH141,\"\")","v":""},"","","",null,null,null,{"$f":"+IF(AU141=\"\",\"\",MAX(AP$1:AP140)+1)","v":""},{"$f":"IF(CPMS_Detail!B163=\"\",\"\",CPMS_Detail!B163)","v":""},{"$f":"IF(CPMS_Detail!C163=\"\",\"\",CPMS_Detail!C163)","v":""},{"$f":"IF(CPMS_Detail!D163=\"\",\"\",CPMS_Detail!D163)","v":""},"",{"$f":"IF(COUNTIF(AT$2:AT141,AT141)=1,AT141,\"\")","v":""},"","","",null,{"$f":"+IF(BE141=\"\",\"\",MAX(AZ$1:AZ140)+1)","v":""},{"$f":"IF(Mercury!B163=\"\",\"\",Mercury!B163)","v":""},{"$f":"IF(Mercury!C163=\"\",\"\",Mercury!C163)","v":""},{"$f":"IF(Mercury!D163=\"\",\"\",Mercury!D163)","v":""},"",{"$f":"IF(COUNTIF(BB$2:BB141,BB141)=1,BB141,\"\")","v":""},"","",""]
[{"$f":"+IF(D142=\"\",\"\",MAX(A$1:A141)+1)","v":""},{"$f":"IF(CEM_COM_CPMS_Identification!C164=\"\",\"\",CEM_COM_CPMS_Identification!C164)","v":""},"",{"$f":"IF(COUNTIF(B$2:B142,B142)=1,B142,\"\")","v":""},null,null,null,null,null,null,null,null,null,null,null,null,null,null,null,{"$f":"+IF(Y142=\"\",\"\",MAX(T$1:T141)+1)","v":""},{"$f":"IF(No_CPMS_Limits_Details!B164=\"\",\"\",No_CPMS_Limits_Details!B164)","v":""},{"$f":"IF(No_CPMS_Limits_Details!C164=\"\",\"\",No_CPMS_Limits_Details!C164)","v":""},{"$f":"IF(No_CPMS_Limits_Details!D164=\"\",\"\",No_CPMS_Limits_Details!D164)","v":""},"",{"$f":"IF(COUNTIF(V$2:V142,V142)=1,V142,\"\")","v":""},"","","",null,{"$f":"+IF(AI142=\"\",\"\",MAX(AD$1:AD141)+1)","v":""},{"$f":"IF(Limits_Details_w_CPMS!B164=\"\",\"\",Limits_Details_w_CPMS!B164)","v":""},{"$f":"IF(Limits_Details_w_CPMS!C164=\"\",\"\",Limits_Details_w_CPMS!C164)","v":""},{"$f":"IF(Limits_Details_w_CPMS!D164=\"\",\"\",Limits_Details_w_CPMS!D164)","v":""},"",{"$f":"IF(COUNTIF(AH$2:AH142,AH142)=1,AH142,\"\")","v":""},"","","",null,null,null,{"$f":"+IF(AU142=\"\",\"\",MAX(AP$1:AP141)+1)","v":""},{"$f":"IF(CPMS_Detail!B164=\"\",\"\",CPMS_Detail!B164)","v":""},{"$f":"IF(CPMS_Detail!C164=\"\",\"\",CPMS_Detail!C164)","v":""},{"$f":"IF(CPMS_Detail!D164=\"\",\"\",CPMS_Detail!D164)","v":""},"",{"$f":"IF(COUNTIF(AT$2:AT142,AT142)=1,AT142,\"\")","v":""},"","","",null,{"$f":"+IF(BE142=\"\",\"\",MAX(AZ$1:AZ141)+1)","v":""},{"$f":"IF(Mercury!B164=\"\",\"\",Mercury!B164)","v":""},{"$f":"IF(Mercury!C164=\"\",\"\",Mercury!C164)","v":""},{"$f":"IF(Mercury!D164=\"\",\"\",Mercury!D164)","v":""},"",{"$f":"IF(COUNTIF(BB$2:BB142,BB142)=1,BB142,\"\")","v":""},"","",""]
[{"$f":"+IF(D143=\"\",\"\",MAX(A$1:A142)+1)","v":""},{"$f":"IF(CEM_COM_CPMS_Identification!C165=\"\",\"\",CEM_COM_CPMS_Identification!C165)","v":""},"",{"$f":"IF(COUNTIF(B$2:B143,B143)=1,B143,\"\")","v":""},null,null,null,null,null,null,null,null,null,null,null,null,null,null,null,{"$f":"+IF(Y143=\"\",\"\",MAX(T$1:T142)+1)","v":""},{"$f":"IF(No_CPMS_Limits_Details!B165=\"\",\"\",No_CPMS_Limits_Details!B165)","v":""},{"$f":"IF(No_CPMS_Limits_Details!C165=\"\",\"\",No_CPMS_Limits_Details!C165)","v":""},{"$f":"IF(No_CPMS_Limits_Details!D165=\"\",\"\",No_CPMS_Limits_Details!D165)","v":""},"",{"$f":"IF(COUNTIF(V$2:V143,V143)=1,V143,\"\")","v":""},"","","",null,{"$f":"+IF(AI143=\"\",\"\",MAX(AD$1:AD142)+1)","v":""},{"$f":"IF(Limits_Details_w_CPMS!B165=\"\",\"\",Limits_Details_w_CPMS!B165)","v":""},{"$f":"IF(Limits_Details_w_CPMS!C165=\"\",\"\",Limits_Details_w_CPMS!C165)","v":""},{"$f":"IF(Limits_Details_w_CPMS!D165=\"\",\"\",Limits_Details_w_CPMS!D165)","v":""},"",{"$f":"IF(COUNTIF(AH$2:AH143,AH143)=1,AH143,\"\")","v":""},"","","",null,null,null,{"$f":"+IF(AU143=\"\",\"\",MAX(AP$1:AP142)+1)","v":""},{"$f":"IF(CPMS_Detail!B165=\"\",\"\",CPMS_Detail!B165)","v":""},{"$f":"IF(CPMS_Detail!C165=\"\",\"\",CPMS_Detail!C165)","v":""},{"$f":"IF(CPMS_Detail!D165=\"\",\"\",CPMS_Detail!D165)","v":""},"",{"$f":"IF(COUNTIF(AT$2:AT143,AT143)=1,AT143,\"\")","v":""},"","","",null,{"$f":"+IF(BE143=\"\",\"\",MAX(AZ$1:AZ142)+1)","v":""},{"$f":"IF(Mercury!B165=\"\",\"\",Mercury!B165)","v":""},{"$f":"IF(Mercury!C165=\"\",\"\",Mercury!C165)","v":""},{"$f":"IF(Mercury!D165=\"\",\"\",Mercury!D165)","v":""},"",{"$f":"IF(COUNTIF(BB$2:BB143,BB143)=1,BB143,\"\")","v":""},"","",""]
[{"$f":"+IF(D144=\"\",\"\",MAX(A$1:A143)+1)","v":""},{"$f":"IF(CEM_COM_CPMS_Identification!C166=\"\",\"\",CEM_COM_CPMS_Identification!C166)","v":""},"",{"$f":"IF(COUNTIF(B$2:B144,B144)=1,B144,\"\")","v":""},null,null,null,null,null,null,null,null,null,null,null,null,null,null,null,{"$f":"+IF(Y144=\"\",\"\",MAX(T$1:T143)+1)","v":""},{"$f":"IF(No_CPMS_Limits_Details!B166=\"\",\"\",No_CPMS_Limits_Details!B166)","v":""},{"$f":"IF(No_CPMS_Limits_Details!C166=\"\",\"\",No_CPMS_Limits_Details!C166)","v":""},{"$f":"IF(No_CPMS_Limits_Details!D166=\"\",\"\",No_CPMS_Limits_Details!D166)","v":""},"",{"$f":"IF(COUNTIF(V$2:V144,V144)=1,V144,\"\")","v":""},"","","",null,{"$f":"+IF(AI144=\"\",\"\",MAX(AD$1:AD143)+1)","v":""},{"$f":"IF(Limits_Details_w_CPMS!B166=\"\",\"\",Limits_Details_w_CPMS!B166)","v":""},{"$f":"IF(Limits_Details_w_CPMS!C166=\"\",\"\",Limits_Details_w_CPMS!C166)","v":""},{"$f":"IF(Limits_Details_w_CPMS!D166=\"\",\"\",Limits_Details_w_CPMS!D166)","v":""},"",{"$f":"IF(COUNTIF(AH$2:AH144,AH144)=1,AH144,\"\")","v":""},"","","",null,null,null,{"$f":"+IF(AU144=\"\",\"\",MAX(AP$1:AP143)+1)","v":""},{"$f":"IF(CPMS_Detail!B166=\"\",\"\",CPMS_Detail!B166)","v":""},{"$f":"IF(CPMS_Detail!C166=\"\",\"\",CPMS_Detail!C166)","v":""},{"$f":"IF(CPMS_Detail!D166=\"\",\"\",CPMS_Detail!D166)","v":""},"",{"$f":"IF(COUNTIF(AT$2:AT144,AT144)=1,AT144,\"\")","v":""},"","","",null,{"$f":"+IF(BE144=\"\",\"\",MAX(AZ$1:AZ143)+1)","v":""},{"$f":"IF(Mercury!B166=\"\",\"\",Mercury!B166)","v":""},{"$f":"IF(Mercury!C166=\"\",\"\",Mercury!C166)","v":""},{"$f":"IF(Mercury!D166=\"\",\"\",Mercury!D166)","v":""},"",{"$f":"IF(COUNTIF(BB$2:BB144,BB144)=1,BB144,\"\")","v":""},"","",""]
[{"$f":"+IF(D145=\"\",\"\",MAX(A$1:A144)+1)","v":""},{"$f":"IF(CEM_COM_CPMS_Identification!C167=\"\",\"\",CEM_COM_CPMS_Identification!C167)","v":""},"",{"$f":"IF(COUNTIF(B$2:B145,B145)=1,B145,\"\")","v":""},null,null,null,null,null,null,null,null,null,null,null,null,null,null,null,{"$f":"+IF(Y145=\"\",\"\",MAX(T$1:T144)+1)","v":""},{"$f":"IF(No_CPMS_Limits_Details!B167=\"\",\"\",No_CPMS_Limits_Details!B167)","v":""},{"$f":"IF(No_CPMS_Limits_Details!C167=\"\",\"\",No_CPMS_Limits_Details!C167)","v":""},{"$f":"IF(No_CPMS_Limits_Details!D167=\"\",\"\",No_CPMS_Limits_Details!D167)","v":""},"",{"$f":"IF(COUNTIF(V$2:V145,V145)=1,V145,\"\")","v":""},"","","",null,{"$f":"+IF(AI145=\"\",\"\",MAX(AD$1:AD144)+1)","v":""},{"$f":"IF(Limits_Details_w_CPMS!B167=\"\",\"\",Limits_Details_w_CPMS!B167)","v":""},{"$f":"IF(Limits_Details_w_CPMS!C167=\"\",\"\",Limits_Details_w_CPMS!C167)","v":""},{"$f":"IF(Limits_Details_w_CPMS!D167=\"\",\"\",Limits_Details_w_CPMS!D167)","v":""},"",{"$f":"IF(COUNTIF(AH$2:AH145,AH145)=1,AH145,\"\")","v":""},"","","",null,null,null,{"$f":"+IF(AU145=\"\",\"\",MAX(AP$1:AP144)+1)","v":""},{"$f":"IF(CPMS_Detail!B167=\"\",\"\",CPMS_Detail!B167)","v":""},{"$f":"IF(CPMS_Detail!C167=\"\",\"\",CPMS_Detail!C167)","v":""},{"$f":"IF(CPMS_Detail!D167=\"\",\"\",CPMS_Detail!D167)","v":""},"",{"$f":"IF(COUNTIF(AT$2:AT145,AT145)=1,AT145,\"\")","v":""},"","","",null,{"$f":"+IF(BE145=\"\",\"\",MAX(AZ$1:AZ144)+1)","v":""},{"$f":"IF(Mercury!B167=\"\",\"\",Mercury!B167)","v":""},{"$f":"IF(Mercury!C167=\"\",\"\",Mercury!C167)","v":""},{"$f":"IF(Mercury!D167=\"\",\"\",Mercury!D167)","v":""},"",{"$f":"IF(COUNTIF(BB$2:BB145,BB145)=1,BB145,\"\")","v":""},"","",""]
[{"$f":"+IF(D146=\"\",\"\",MAX(A$1:A145)+1)","v":""},{"$f":"IF(CEM_COM_CPMS_Identification!C168=\"\",\"\",CEM_COM_CPMS_Identification!C168)","v":""},"",{"$f":"IF(COUNTIF(B$2:B146,B146)=1,B146,\"\")","v":""},null,null,null,null,null,null,null,null,null,null,null,null,null,null,null,{"$f":"+IF(Y146=\"\",\"\",MAX(T$1:T145)+1)","v":""},{"$f":"IF(No_CPMS_Limits_Details!B168=\"\",\"\",No_CPMS_Limits_Details!B168)","v":""},{"$f":"IF(No_CPMS_Limits_Details!C168=\"\",\"\",No_CPMS_Limits_Details!C168)","v":""},{"$f":"IF(No_CPMS_Limits_Details!D168=\"\",\"\",No_CPMS_Limits_Details!D168)","v":""},"",{"$f":"IF(COUNTIF(V$2:V146,V146)=1,V146,\"\")","v":""},"","","",null,{"$f":"+IF(AI146=\"\",\"\",MAX(AD$1:AD145)+1)","v":""},{"$f":"IF(Limits_Details_w_CPMS!B168=\"\",\"\",Limits_Details_w_CPMS!B168)","v":""},{"$f":"IF(Limits_Details_w_CPMS!C168=\"\",\"\",Limits_Details_w_CPMS!C168)","v":""},{"$f":"IF(Limits_Details_w_CPMS!D168=\"\",\"\",Limits_Details_w_CPMS!D168)","v":""},"",{"$f":"IF(COUNTIF(AH$2:AH146,AH146)=1,AH146,\"\")","v":""},"","","",null,null,null,{"$f":"+IF(AU146=\"\",\"\",MAX(AP$1:AP145)+1)","v":""},{"$f":"IF(CPMS_Detail!B168=\"\",\"\",CPMS_Detail!B168)","v":""},{"$f":"IF(CPMS_Detail!C168=\"\",\"\",CPMS_Detail!C168)","v":""},{"$f":"IF(CPMS_Detail!D168=\"\",\"\",CPMS_Detail!D168)","v":""},"",{"$f":"IF(COUNTIF(AT$2:AT146,AT146)=1,AT146,\"\")","v":""},"","","",null,{"$f":"+IF(BE146=\"\",\"\",MAX(AZ$1:AZ145)+1)","v":""},{"$f":"IF(Mercury!B168=\"\",\"\",Mercury!B168)","v":""},{"$f":"IF(Mercury!C168=\"\",\"\",Mercury!C168)","v":""},{"$f":"IF(Mercury!D168=\"\",\"\",Mercury!D168)","v":""},"",{"$f":"IF(COUNTIF(BB$2:BB146,BB146)=1,BB146,\"\")","v":""},"","",""]
[{"$f":"+IF(D147=\"\",\"\",MAX(A$1:A146)+1)","v":""},{"$f":"IF(CEM_COM_CPMS_Identification!C169=\"\",\"\",CEM_COM_CPMS_Identification!C169)","v":""},"",{"$f":"IF(COUNTIF(B$2:B147,B147)=1,B147,\"\")","v":""},null,null,null,null,null,null,null,null,null,null,null,null,null,null,null,{"$f":"+IF(Y147=\"\",\"\",MAX(T$1:T146)+1)","v":""},{"$f":"IF(No_CPMS_Limits_Details!B169=\"\",\"\",No_CPMS_Limits_Details!B169)","v":""},{"$f":"IF(No_CPMS_Limits_Details!C169=\"\",\"\",No_CPMS_Limits_Details!C169)","v":""},{"$f":"IF(No_CPMS_Limits_Details!D169=\"\",\"\",No_CPMS_Limits_Details!D169)","v":""},"",{"$f":"IF(COUNTIF(V$2:V147,V147)=1,V147,\"\")","v":""},"","","",null,{"$f":"+IF(AI147=\"\",\"\",MAX(AD$1:AD146)+1)","v":""},{"$f":"IF(Limits_Details_w_CPMS!B169=\"\",\"\",Limits_Details_w_CPMS!B169)","v":""},{"$f":"IF(Limits_Details_w_CPMS!C169=\"\",\"\",Limits_Details_w_CPMS!C169)","v":""},{"$f":"IF(Limits_Details_w_CPMS!D169=\"\",\"\",Limits_Details_w_CPMS!D169)","v":""},"",{"$f":"IF(COUNTIF(AH$2:AH147,AH147)=1,AH147,\"\")","v":""},"","","",null,null,null,{"$f":"+IF(AU147=\"\",\"\",MAX(AP$1:AP146)+1)","v":""},{"$f":"IF(CPMS_Detail!B169=\"\",\"\",CPMS_Detail!B169)","v":""},{"$f":"IF(CPMS_Detail!C169=\"\",\"\",CPMS_Detail!C169)","v":""},{"$f":"IF(CPMS_Detail!D169=\"\",\"\",CPMS_Detail!D169)","v":""},"",{"$f":"IF(COUNTIF(AT$2:AT147,AT147)=1,AT147,\"\")","v":""},"","","",null,{"$f":"+IF(BE147=\"\",\"\",MAX(AZ$1:AZ146)+1)","v":""},{"$f":"IF(Mercury!B169=\"\",\"\",Mercury!B169)","v":""},{"$f":"IF(Mercury!C169=\"\",\"\",Mercury!C169)","v":""},{"$f":"IF(Mercury!D169=\"\",\"\",Mercury!D169)","v":""},"",{"$f":"IF(COUNTIF(BB$2:BB147,BB147)=1,BB147,\"\")","v":""},"","",""]
[{"$f":"+IF(D148=\"\",\"\",MAX(A$1:A147)+1)","v":""},{"$f":"IF(CEM_COM_CPMS_Identification!C170=\"\",\"\",CEM_COM_CPMS_Identification!C170)","v":""},"",{"$f":"IF(COUNTIF(B$2:B148,B148)=1,B148,\"\")","v":""},null,null,null,null,null,null,null,null,null,null,null,null,null,null,null,{"$f":"+IF(Y148=\"\",\"\",MAX(T$1:T147)+1)","v":""},{"$f":"IF(No_CPMS_Limits_Details!B170=\"\",\"\",No_CPMS_Limits_Details!B170)","v":""},{"$f":"IF(No_CPMS_Limits_Details!C170=\"\",\"\",No_CPMS_Limits_Details!C170)","v":""},{"$f":"IF(No_CPMS_Limits_Details!D170=\"\",\"\",No_CPMS_Limits_Details!D170)","v":""},"",{"$f":"IF(COUNTIF(V$2:V148,V148)=1,V148,\"\")","v":""},"","","",null,{"$f":"+IF(AI148=\"\",\"\",MAX(AD$1:AD147)+1)","v":""},{"$f":"IF(Limits_Details_w_CPMS!B170=\"\",\"\",Limits_Details_w_CPMS!B170)","v":""},{"$f":"IF(Limits_Details_w_CPMS!C170=\"\",\"\",Limits_Details_w_CPMS!C170)","v":""},{"$f":"IF(Limits_Details_w_CPMS!D170=\"\",\"\",Limits_Details_w_CPMS!D170)","v":""},"",{"$f":"IF(COUNTIF(AH$2:AH148,AH148)=1,AH148,\"\")","v":""},"","","",null,null,null,{"$f":"+IF(AU148=\"\",\"\",MAX(AP$1:AP147)+1)","v":""},{"$f":"IF(CPMS_Detail!B170=\"\",\"\",CPMS_Detail!B170)","v":""},{"$f":"IF(CPMS_Detail!C170=\"\",\"\",CPMS_Detail!C170)","v":""},{"$f":"IF(CPMS_Detail!D170=\"\",\"\",CPMS_Detail!D170)","v":""},"",{"$f":"IF(COUNTIF(AT$2:AT148,AT148)=1,AT148,\"\")","v":""},"","","",null,{"$f":"+IF(BE148=\"\",\"\",MAX(AZ$1:AZ147)+1)","v":""},{"$f":"IF(Mercury!B170=\"\",\"\",Mercury!B170)","v":""},{"$f":"IF(Mercury!C170=\"\",\"\",Mercury!C170)","v":""},{"$f":"IF(Mercury!D170=\"\",\"\",Mercury!D170)","v":""},"",{"$f":"IF(COUNTIF(BB$2:BB148,BB148)=1,BB148,\"\")","v":""},"","",""]
[{"$f":"+IF(D149=\"\",\"\",MAX(A$1:A148)+1)","v":""},{"$f":"IF(CEM_COM_CPMS_Identification!C171=\"\",\"\",CEM_COM_CPMS_Identification!C171)","v":""},"",{"$f":"IF(COUNTIF(B$2:B149,B149)=1,B149,\"\")","v":""},null,null,null,null,null,null,null,null,null,null,null,null,null,null,null,{"$f":"+IF(Y149=\"\",\"\",MAX(T$1:T148)+1)","v":""},{"$f":"IF(No_CPMS_Limits_Details!B171=\"\",\"\",No_CPMS_Limits_Details!B171)","v":""},{"$f":"IF(No_CPMS_Limits_Details!C171=\"\",\"\",No_CPMS_Limits_Details!C171)","v":""},{"$f":"IF(No_CPMS_Limits_Details!D171=\"\",\"\",No_CPMS_Limits_Details!D171)","v":""},"",{"$f":"IF(COUNTIF(V$2:V149,V149)=1,V149,\"\")","v":""},"","","",null,{"$f":"+IF(AI149=\"\",\"\",MAX(AD$1:AD148)+1)","v":""},{"$f":"IF(Limits_Details_w_CPMS!B171=\"\",\"\",Limits_Details_w_CPMS!B171)","v":""},{"$f":"IF(Limits_Details_w_CPMS!C171=\"\",\"\",Limits_Details_w_CPMS!C171)","v":""},{"$f":"IF(Limits_Details_w_CPMS!D171=\"\",\"\",Limits_Details_w_CPMS!D171)","v":""},"",{"$f":"IF(COUNTIF(AH$2:AH149,AH149)=1,AH149,\"\")","v":""},"","","",null,null,null,{"$f":"+IF(AU149=\"\",\"\",MAX(AP$1:AP148)+1)","v":""},{"$f":"IF(CPMS_Detail!B171=\"\",\"\",CPMS_Detail!B171)","v":""},{"$f":"IF(CPMS_Detail!C171=\"\",\"\",CPMS_Detail!C171)","v":""},{"$f":"IF(CPMS_Detail!D171=\"\",\"\",CPMS_Detail!D171)","v":""},"",{"$f":"IF(COUNTIF(AT$2:AT149,AT149)=1,AT149,\"\")","v":""},"","","",null,{"$f":"+IF(BE149=\"\",\"\",MAX(AZ$1:AZ148)+1)","v":""},{"$f":"IF(Mercury!B171=\"\",\"\",Mercury!B171)","v":""},{"$f":"IF(Mercury!C171=\"\",\"\",Mercury!C171)","v":""},{"$f":"IF(Mercury!D171=\"\",\"\",Mercury!D171)","v":""},"",{"$f":"IF(COUNTIF(BB$2:BB149,BB149)=1,BB149,\"\")","v":""},"","",""]
[{"$f":"+IF(D150=\"\",\"\",MAX(A$1:A149)+1)","v":""},{"$f":"IF(CEM_COM_CPMS_Identification!C172=\"\",\"\",CEM_COM_CPMS_Identification!C172)","v":""},"",{"$f":"IF(COUNTIF(B$2:B150,B150)=1,B150,\"\")","v":""},null,null,null,null,null,null,null,null,null,null,null,null,null,null,null,{"$f":"+IF(Y150=\"\",\"\",MAX(T$1:T149)+1)","v":""},{"$f":"IF(No_CPMS_Limits_Details!B172=\"\",\"\",No_CPMS_Limits_Details!B172)","v":""},{"$f":"IF(No_CPMS_Limits_Details!C172=\"\",\"\",No_CPMS_Limits_Details!C172)","v":""},{"$f":"IF(No_CPMS_Limits_Details!D172=\"\",\"\",No_CPMS_Limits_Details!D172)","v":""},"",{"$f":"IF(COUNTIF(V$2:V150,V150)=1,V150,\"\")","v":""},"","","",null,{"$f":"+IF(AI150=\"\",\"\",MAX(AD$1:AD149)+1)","v":""},{"$f":"IF(Limits_Details_w_CPMS!B172=\"\",\"\",Limits_Details_w_CPMS!B172)","v":""},{"$f":"IF(Limits_Details_w_CPMS!C172=\"\",\"\",Limits_Details_w_CPMS!C172)","v":""},{"$f":"IF(Limits_Details_w_CPMS!D172=\"\",\"\",Limits_Details_w_CPMS!D172)","v":""},"",{"$f":"IF(COUNTIF(AH$2:AH150,AH150)=1,AH150,\"\")","v":""},"","","",null,null,null,{"$f":"+IF(AU150=\"\",\"\",MAX(AP$1:AP149)+1)","v":""},{"$f":"IF(CPMS_Detail!B172=\"\",\"\",CPMS_Detail!B172)","v":""},{"$f":"IF(CPMS_Detail!C172=\"\",\"\",CPMS_Detail!C172)","v":""},{"$f":"IF(CPMS_Detail!D172=\"\",\"\",CPMS_Detail!D172)","v":""},"",{"$f":"IF(COUNTIF(AT$2:AT150,AT150)=1,AT150,\"\")","v":""},"","","",null,{"$f":"+IF(BE150=\"\",\"\",MAX(AZ$1:AZ149)+1)","v":""},{"$f":"IF(Mercury!B172=\"\",\"\",Mercury!B172)","v":""},{"$f":"IF(Mercury!C172=\"\",\"\",Mercury!C172)","v":""},{"$f":"IF(Mercury!D172=\"\",\"\",Mercury!D172)","v":""},"",{"$f":"IF(COUNTIF(BB$2:BB150,BB150)=1,BB150,\"\")","v":""},"","",""]
[{"$f":"+IF(D151=\"\",\"\",MAX(A$1:A150)+1)","v":""},{"$f":"IF(CEM_COM_CPMS_Identification!C173=\"\",\"\",CEM_COM_CPMS_Identification!C173)","v":""},"",{"$f":"IF(COUNTIF(B$2:B151,B151)=1,B151,\"\")","v":""},null,null,null,null,null,null,null,null,null,null,null,null,null,null,null,{"$f":"+IF(Y151=\"\",\"\",MAX(T$1:T150)+1)","v":""},{"$f":"IF(No_CPMS_Limits_Details!B173=\"\",\"\",No_CPMS_Limits_Details!B173)","v":""},{"$f":"IF(No_CPMS_Limits_Details!C173=\"\",\"\",No_CPMS_Limits_Details!C173)","v":""},{"$f":"IF(No_CPMS_Limits_Details!D173=\"\",\"\",No_CPMS_Limits_Details!D173)","v":""},"",{"$f":"IF(COUNTIF(V$2:V151,V151)=1,V151,\"\")","v":""},"","","",null,{"$f":"+IF(AI151=\"\",\"\",MAX(AD$1:AD150)+1)","v":""},{"$f":"IF(Limits_Details_w_CPMS!B173=\"\",\"\",Limits_Details_w_CPMS!B173)","v":""},{"$f":"IF(Limits_Details_w_CPMS!C173=\"\",\"\",Limits_Details_w_CPMS!C173)","v":""},{"$f":"IF(Limits_Details_w_CPMS!D173=\"\",\"\",Limits_Details_w_CPMS!D173)","v":""},"",{"$f":"IF(COUNTIF(AH$2:AH151,AH151)=1,AH151,\"\")","v":""},"","","",null,null,null,{"$f":"+IF(AU151=\"\",\"\",MAX(AP$1:AP150)+1)","v":""},{"$f":"IF(CPMS_Detail!B173=\"\",\"\",CPMS_Detail!B173)","v":""},{"$f":"IF(CPMS_Detail!C173=\"\",\"\",CPMS_Detail!C173)","v":""},{"$f":"IF(CPMS_Detail!D173=\"\",\"\",CPMS_Detail!D173)","v":""},"",{"$f":"IF(COUNTIF(AT$2:AT151,AT151)=1,AT151,\"\")","v":""},"","","",null,{"$f":"+IF(BE151=\"\",\"\",MAX(AZ$1:AZ150)+1)","v":""},{"$f":"IF(Mercury!B173=\"\",\"\",Mercury!B173)","v":""},{"$f":"IF(Mercury!C173=\"\",\"\",Mercury!C173)","v":""},{"$f":"IF(Mercury!D173=\"\",\"\",Mercury!D173)","v":""},"",{"$f":"IF(COUNTIF(BB$2:BB151,BB151)=1,BB151,\"\")","v":""},"","",""]
[{"$f":"+IF(D152=\"\",\"\",MAX(A$1:A151)+1)","v":""},{"$f":"IF(CEM_COM_CPMS_Identification!C174=\"\",\"\",CEM_COM_CPMS_Identification!C174)","v":""},"",{"$f":"IF(COUNTIF(B$2:B152,B152)=1,B152,\"\")","v":""},null,null,null,null,null,null,null,null,null,null,null,null,null,null,null,{"$f":"+IF(Y152=\"\",\"\",MAX(T$1:T151)+1)","v":""},{"$f":"IF(No_CPMS_Limits_Details!B174=\"\",\"\",No_CPMS_Limits_Details!B174)","v":""},{"$f":"IF(No_CPMS_Limits_Details!C174=\"\",\"\",No_CPMS_Limits_Details!C174)","v":""},{"$f":"IF(No_CPMS_Limits_Details!D174=\"\",\"\",No_CPMS_Limits_Details!D174)","v":""},"",{"$f":"IF(COUNTIF(V$2:V152,V152)=1,V152,\"\")","v":""},"","","",null,{"$f":"+IF(AI152=\"\",\"\",MAX(AD$1:AD151)+1)","v":""},{"$f":"IF(Limits_Details_w_CPMS!B174=\"\",\"\",Limits_Details_w_CPMS!B174)","v":""},{"$f":"IF(Limits_Details_w_CPMS!C174=\"\",\"\",Limits_Details_w_CPMS!C174)","v":""},{"$f":"IF(Limits_Details_w_CPMS!D174=\"\",\"\",Limits_Details_w_CPMS!D174)","v":""},"",{"$f":"IF(COUNTIF(AH$2:AH152,AH152)=1,AH152,\"\")","v":""},"","","",null,null,null,{"$f":"+IF(AU152=\"\",\"\",MAX(AP$1:AP151)+1)","v":""},{"$f":"IF(CPMS_Detail!B174=\"\",\"\",CPMS_Detail!B174)","v":""},{"$f":"IF(CPMS_Detail!C174=\"\",\"\",CPMS_Detail!C174)","v":""},{"$f":"IF(CPMS_Detail!D174=\"\",\"\",CPMS_Detail!D174)","v":""},"",{"$f":"IF(COUNTIF(AT$2:AT152,AT152)=1,AT152,\"\")","v":""},"","","",null,{"$f":"+IF(BE152=\"\",\"\",MAX(AZ$1:AZ151)+1)","v":""},{"$f":"IF(Mercury!B174=\"\",\"\",Mercury!B174)","v":""},{"$f":"IF(Mercury!C174=\"\",\"\",Mercury!C174)","v":""},{"$f":"IF(Mercury!D174=\"\",\"\",Mercury!D174)","v":""},"",{"$f":"IF(COUNTIF(BB$2:BB152,BB152)=1,BB152,\"\")","v":""},"","",""]
[{"$f":"+IF(D153=\"\",\"\",MAX(A$1:A152)+1)","v":""},{"$f":"IF(CEM_COM_CPMS_Identification!C175=\"\",\"\",CEM_COM_CPMS_Identification!C175)","v":""},"",{"$f":"IF(COUNTIF(B$2:B153,B153)=1,B153,\"\")","v":""},null,null,null,null,null,null,null,null,null,null,null,null,null,null,null,{"$f":"+IF(Y153=\"\",\"\",MAX(T$1:T152)+1)","v":""},{"$f":"IF(No_CPMS_Limits_Details!B175=\"\",\"\",No_CPMS_Limits_Details!B175)","v":""},{"$f":"IF(No_CPMS_Limits_Details!C175=\"\",\"\",No_CPMS_Limits_Details!C175)","v":""},{"$f":"IF(No_CPMS_Limits_Details!D175=\"\",\"\",No_CPMS_Limits_Details!D175)","v":""},"",{"$f":"IF(COUNTIF(V$2:V153,V153)=1,V153,\"\")","v":""},"","","",null,{"$f":"+IF(AI153=\"\",\"\",MAX(AD$1:AD152)+1)","v":""},{"$f":"IF(Limits_Details_w_CPMS!B175=\"\",\"\",Limits_Details_w_CPMS!B175)","v":""},{"$f":"IF(Limits_Details_w_CPMS!C175=\"\",\"\",Limits_Details_w_CPMS!C175)","v":""},{"$f":"IF(Limits_Details_w_CPMS!D175=\"\",\"\",Limits_Details_w_CPMS!D175)","v":""},"",{"$f":"IF(COUNTIF(AH$2:AH153,AH153)=1,AH153,\"\")","v":""},"","","",null,null,null,{"$f":"+IF(AU153=\"\",\"\",MAX(AP$1:AP152)+1)","v":""},{"$f":"IF(CPMS_Detail!B175=\"\",\"\",CPMS_Detail!B175)","v":""},{"$f":"IF(CPMS_Detail!C175=\"\",\"\",CPMS_Detail!C175)","v":""},{"$f":"IF(CPMS_Detail!D175=\"\",\"\",CPMS_Detail!D175)","v":""},"",{"$f":"IF(COUNTIF(AT$2:AT153,AT153)=1,AT153,\"\")","v":""},"","","",null,{"$f":"+IF(BE153=\"\",\"\",MAX(AZ$1:AZ152)+1)","v":""},{"$f":"IF(Mercury!B175=\"\",\"\",Mercury!B175)","v":""},{"$f":"IF(Mercury!C175=\"\",\"\",Mercury!C175)","v":""},{"$f":"IF(Mercury!D175=\"\",\"\",Mercury!D175)","v":""},"",{"$f":"IF(COUNTIF(BB$2:BB153,BB153)=1,BB153,\"\")","v":""},"","",""]
[{"$f":"+IF(D154=\"\",\"\",MAX(A$1:A153)+1)","v":""},{"$f":"IF(CEM_COM_CPMS_Identification!C176=\"\",\"\",CEM_COM_CPMS_Identification!C176)","v":""},"",{"$f":"IF(COUNTIF(B$2:B154,B154)=1,B154,\"\")","v":""},null,null,null,null,null,null,null,null,null,null,null,null,null,null,null,{"$f":"+IF(Y154=\"\",\"\",MAX(T$1:T153)+1)","v":""},{"$f":"IF(No_CPMS_Limits_Details!B176=\"\",\"\",No_CPMS_Limits_Details!B176)","v":""},{"$f":"IF(No_CPMS_Limits_Details!C176=\"\",\"\",No_CPMS_Limits_Details!C176)","v":""},{"$f":"IF(No_CPMS_Limits_Details!D176=\"\",\"\",No_CPMS_Limits_Details!D176)","v":""},"",{"$f":"IF(COUNTIF(V$2:V154,V154)=1,V154,\"\")","v":""},"","","",null,{"$f":"+IF(AI154=\"\",\"\",MAX(AD$1:AD153)+1)","v":""},{"$f":"IF(Limits_Details_w_CPMS!B176=\"\",\"\",Limits_Details_w_CPMS!B176)","v":""},{"$f":"IF(Limits_Details_w_CPMS!C176=\"\",\"\",Limits_Details_w_CPMS!C176)","v":""},{"$f":"IF(Limits_Details_w_CPMS!D176=\"\",\"\",Limits_Details_w_CPMS!D176)","v":""},"",{"$f":"IF(COUNTIF(AH$2:AH154,AH154)=1,AH154,\"\")","v":""},"","","",null,null,null,{"$f":"+IF(AU154=\"\",\"\",MAX(AP$1:AP153)+1)","v":""},{"$f":"IF(CPMS_Detail!B176=\"\",\"\",CPMS_Detail!B176)","v":""},{"$f":"IF(CPMS_Detail!C176=\"\",\"\",CPMS_Detail!C176)","v":""},{"$f":"IF(CPMS_Detail!D176=\"\",\"\",CPMS_Detail!D176)","v":""},"",{"$f":"IF(COUNTIF(AT$2:AT154,AT154)=1,AT154,\"\")","v":""},"","","",null,{"$f":"+IF(BE154=\"\",\"\",MAX(AZ$1:AZ153)+1)","v":""},{"$f":"IF(Mercury!B176=\"\",\"\",Mercury!B176)","v":""},{"$f":"IF(Mercury!C176=\"\",\"\",Mercury!C176)","v":""},{"$f":"IF(Mercury!D176=\"\",\"\",Mercury!D176)","v":""},"",{"$f":"IF(COUNTIF(BB$2:BB154,BB154)=1,BB154,\"\")","v":""},"","",""]
[{"$f":"+IF(D155=\"\",\"\",MAX(A$1:A154)+1)","v":""},{"$f":"IF(CEM_COM_CPMS_Identification!C177=\"\",\"\",CEM_COM_CPMS_Identification!C177)","v":""},"",{"$f":"IF(COUNTIF(B$2:B155,B155)=1,B155,\"\")","v":""},null,null,null,null,null,null,null,null,null,null,null,null,null,null,null,{"$f":"+IF(Y155=\"\",\"\",MAX(T$1:T154)+1)","v":""},{"$f":"IF(No_CPMS_Limits_Details!B177=\"\",\"\",No_CPMS_Limits_Details!B177)","v":""},{"$f":"IF(No_CPMS_Limits_Details!C177=\"\",\"\",No_CPMS_Limits_Details!C177)","v":""},{"$f":"IF(No_CPMS_Limits_Details!D177=\"\",\"\",No_CPMS_Limits_Details!D177)","v":""},"",{"$f":"IF(COUNTIF(V$2:V155,V155)=1,V155,\"\")","v":""},"","","",null,{"$f":"+IF(AI155=\"\",\"\",MAX(AD$1:AD154)+1)","v":""},{"$f":"IF(Limits_Details_w_CPMS!B177=\"\",\"\",Limits_Details_w_CPMS!B177)","v":""},{"$f":"IF(Limits_Details_w_CPMS!C177=\"\",\"\",Limits_Details_w_CPMS!C177)","v":""},{"$f":"IF(Limits_Details_w_CPMS!D177=\"\",\"\",Limits_Details_w_CPMS!D177)","v":""},"",{"$f":"IF(COUNTIF(AH$2:AH155,AH155)=1,AH155,\"\")","v":""},"","","",null,null,null,{"$f":"+IF(AU155=\"\",\"\",MAX(AP$1:AP154)+1)","v":""},{"$f":"IF(CPMS_Detail!B177=\"\",\"\",CPMS_Detail!B177)","v":""},{"$f":"IF(CPMS_Detail!C177=\"\",\"\",CPMS_Detail!C177)","v":""},{"$f":"IF(CPMS_Detail!D177=\"\",\"\",CPMS_Detail!D177)","v":""},"",{"$f":"IF(COUNTIF(AT$2:AT155,AT155)=1,AT155,\"\")","v":""},"","","",null,{"$f":"+IF(BE155=\"\",\"\",MAX(AZ$1:AZ154)+1)","v":""},{"$f":"IF(Mercury!B177=\"\",\"\",Mercury!B177)","v":""},{"$f":"IF(Mercury!C177=\"\",\"\",Mercury!C177)","v":""},{"$f":"IF(Mercury!D177=\"\",\"\",Mercury!D177)","v":""},"",{"$f":"IF(COUNTIF(BB$2:BB155,BB155)=1,BB155,\"\")","v":""},"","",""]
[{"$f":"+IF(D156=\"\",\"\",MAX(A$1:A155)+1)","v":""},{"$f":"IF(CEM_COM_CPMS_Identification!C178=\"\",\"\",CEM_COM_CPMS_Identification!C178)","v":""},"",{"$f":"IF(COUNTIF(B$2:B156,B156)=1,B156,\"\")","v":""},null,null,null,null,null,null,null,null,null,null,null,null,null,null,null,{"$f":"+IF(Y156=\"\",\"\",MAX(T$1:T155)+1)","v":""},{"$f":"IF(No_CPMS_Limits_Details!B178=\"\",\"\",No_CPMS_Limits_Details!B178)","v":""},{"$f":"IF(No_CPMS_Limits_Details!C178=\"\",\"\",No_CPMS_Limits_Details!C178)","v":""},{"$f":"IF(No_CPMS_Limits_Details!D178=\"\",\"\",No_CPMS_Limits_Details!D178)","v":""},"",{"$f":"IF(COUNTIF(V$2:V156,V156)=1,V156,\"\")","v":""},"","","",null,{"$f":"+IF(AI156=\"\",\"\",MAX(AD$1:AD155)+1)","v":""},{"$f":"IF(Limits_Details_w_CPMS!B178=\"\",\"\",Limits_Details_w_CPMS!B178)","v":""},{"$f":"IF(Limits_Details_w_CPMS!C178=\"\",\"\",Limits_Details_w_CPMS!C178)","v":""},{"$f":"IF(Limits_Details_w_CPMS!D178=\"\",\"\",Limits_Details_w_CPMS!D178)","v":""},"",{"$f":"IF(COUNTIF(AH$2:AH156,AH156)=1,AH156,\"\")","v":""},"","","",null,null,null,{"$f":"+IF(AU156=\"\",\"\",MAX(AP$1:AP155)+1)","v":""},{"$f":"IF(CPMS_Detail!B178=\"\",\"\",CPMS_Detail!B178)","v":""},{"$f":"IF(CPMS_Detail!C178=\"\",\"\",CPMS_Detail!C178)","v":""},{"$f":"IF(CPMS_Detail!D178=\"\",\"\",CPMS_Detail!D178)","v":""},"",{"$f":"IF(COUNTIF(AT$2:AT156,AT156)=1,AT156,\"\")","v":""},"","","",null,{"$f":"+IF(BE156=\"\",\"\",MAX(AZ$1:AZ155)+1)","v":""},{"$f":"IF(Mercury!B178=\"\",\"\",Mercury!B178)","v":""},{"$f":"IF(Mercury!C178=\"\",\"\",Mercury!C178)","v":""},{"$f":"IF(Mercury!D178=\"\",\"\",Mercury!D178)","v":""},"",{"$f":"IF(COUNTIF(BB$2:BB156,BB156)=1,BB156,\"\")","v":""},"","",""]
[{"$f":"+IF(D157=\"\",\"\",MAX(A$1:A156)+1)","v":""},{"$f":"IF(CEM_COM_CPMS_Identification!C179=\"\",\"\",CEM_COM_CPMS_Identification!C179)","v":""},"",{"$f":"IF(COUNTIF(B$2:B157,B157)=1,B157,\"\")","v":""},null,null,null,null,null,null,null,null,null,null,null,null,null,null,null,{"$f":"+IF(Y157=\"\",\"\",MAX(T$1:T156)+1)","v":""},{"$f":"IF(No_CPMS_Limits_Details!B179=\"\",\"\",No_CPMS_Limits_Details!B179)","v":""},{"$f":"IF(No_CPMS_Limits_Details!C179=\"\",\"\",No_CPMS_Limits_Details!C179)","v":""},{"$f":"IF(No_CPMS_Limits_Details!D179=\"\",\"\",No_CPMS_Limits_Details!D179)","v":""},"",{"$f":"IF(COUNTIF(V$2:V157,V157)=1,V157,\"\")","v":""},"","","",null,{"$f":"+IF(AI157=\"\",\"\",MAX(AD$1:AD156)+1)","v":""},{"$f":"IF(Limits_Details_w_CPMS!B179=\"\",\"\",Limits_Details_w_CPMS!B179)","v":""},{"$f":"IF(Limits_Details_w_CPMS!C179=\"\",\"\",Limits_Details_w_CPMS!C179)","v":""},{"$f":"IF(Limits_Details_w_CPMS!D179=\"\",\"\",Limits_Details_w_CPMS!D179)","v":""},"",{"$f":"IF(COUNTIF(AH$2:AH157,AH157)=1,AH157,\"\")","v":""},"","","",null,null,null,{"$f":"+IF(AU157=\"\",\"\",MAX(AP$1:AP156)+1)","v":""},{"$f":"IF(CPMS_Detail!B179=\"\",\"\",CPMS_Detail!B179)","v":""},{"$f":"IF(CPMS_Detail!C179=\"\",\"\",CPMS_Detail!C179)","v":""},{"$f":"IF(CPMS_Detail!D179=\"\",\"\",CPMS_Detail!D179)","v":""},"",{"$f":"IF(COUNTIF(AT$2:AT157,AT157)=1,AT157,\"\")","v":""},"","","",null,{"$f":"+IF(BE157=\"\",\"\",MAX(AZ$1:AZ156)+1)","v":""},{"$f":"IF(Mercury!B179=\"\",\"\",Mercury!B179)","v":""},{"$f":"IF(Mercury!C179=\"\",\"\",Mercury!C179)","v":""},{"$f":"IF(Mercury!D179=\"\",\"\",Mercury!D179)","v":""},"",{"$f":"IF(COUNTIF(BB$2:BB157,BB157)=1,BB157,\"\")","v":""},"","",""]
[{"$f":"+IF(D158=\"\",\"\",MAX(A$1:A157)+1)","v":""},{"$f":"IF(CEM_COM_CPMS_Identification!C180=\"\",\"\",CEM_COM_CPMS_Identification!C180)","v":""},"",{"$f":"IF(COUNTIF(B$2:B158,B158)=1,B158,\"\")","v":""},null,null,null,null,null,null,null,null,null,null,null,null,null,null,null,{"$f":"+IF(Y158=\"\",\"\",MAX(T$1:T157)+1)","v":""},{"$f":"IF(No_CPMS_Limits_Details!B180=\"\",\"\",No_CPMS_Limits_Details!B180)","v":""},{"$f":"IF(No_CPMS_Limits_Details!C180=\"\",\"\",No_CPMS_Limits_Details!C180)","v":""},{"$f":"IF(No_CPMS_Limits_Details!D180=\"\",\"\",No_CPMS_Limits_Details!D180)","v":""},"",{"$f":"IF(COUNTIF(V$2:V158,V158)=1,V158,\"\")","v":""},"","","",null,{"$f":"+IF(AI158=\"\",\"\",MAX(AD$1:AD157)+1)","v":""},{"$f":"IF(Limits_Details_w_CPMS!B180=\"\",\"\",Limits_Details_w_CPMS!B180)","v":""},{"$f":"IF(Limits_Details_w_CPMS!C180=\"\",\"\",Limits_Details_w_CPMS!C180)","v":""},{"$f":"IF(Limits_Details_w_CPMS!D180=\"\",\"\",Limits_Details_w_CPMS!D180)","v":""},"",{"$f":"IF(COUNTIF(AH$2:AH158,AH158)=1,AH158,\"\")","v":""},"","","",null,null,null,{"$f":"+IF(AU158=\"\",\"\",MAX(AP$1:AP157)+1)","v":""},{"$f":"IF(CPMS_Detail!B180=\"\",\"\",CPMS_Detail!B180)","v":""},{"$f":"IF(CPMS_Detail!C180=\"\",\"\",CPMS_Detail!C180)","v":""},{"$f":"IF(CPMS_Detail!D180=\"\",\"\",CPMS_Detail!D180)","v":""},"",{"$f":"IF(COUNTIF(AT$2:AT158,AT158)=1,AT158,\"\")","v":""},"","","",null,{"$f":"+IF(BE158=\"\",\"\",MAX(AZ$1:AZ157)+1)","v":""},{"$f":"IF(Mercury!B180=\"\",\"\",Mercury!B180)","v":""},{"$f":"IF(Mercury!C180=\"\",\"\",Mercury!C180)","v":""},{"$f":"IF(Mercury!D180=\"\",\"\",Mercury!D180)","v":""},"",{"$f":"IF(COUNTIF(BB$2:BB158,BB158)=1,BB158,\"\")","v":""},"","",""]
[{"$f":"+IF(D159=\"\",\"\",MAX(A$1:A158)+1)","v":""},{"$f":"IF(CEM_COM_CPMS_Identification!C181=\"\",\"\",CEM_COM_CPMS_Identification!C181)","v":""},"",{"$f":"IF(COUNTIF(B$2:B159,B159)=1,B159,\"\")","v":""},null,null,null,null,null,null,null,null,null,null,null,null,null,null,null,{"$f":"+IF(Y159=\"\",\"\",MAX(T$1:T158)+1)","v":""},{"$f":"IF(No_CPMS_Limits_Details!B181=\"\",\"\",No_CPMS_Limits_Details!B181)","v":""},{"$f":"IF(No_CPMS_Limits_Details!C181=\"\",\"\",No_CPMS_Limits_Details!C181)","v":""},{"$f":"IF(No_CPMS_Limits_Details!D181=\"\",\"\",No_CPMS_Limits_Details!D181)","v":""},"",{"$f":"IF(COUNTIF(V$2:V159,V159)=1,V159,\"\")","v":""},"","","",null,{"$f":"+IF(AI159=\"\",\"\",MAX(AD$1:AD158)+1)","v":""},{"$f":"IF(Limits_Details_w_CPMS!B181=\"\",\"\",Limits_Details_w_CPMS!B181)","v":""},{"$f":"IF(Limits_Details_w_CPMS!C181=\"\",\"\",Limits_Details_w_CPMS!C181)","v":""},{"$f":"IF(Limits_Details_w_CPMS!D181=\"\",\"\",Limits_Details_w_CPMS!D181)","v":""},"",{"$f":"IF(COUNTIF(AH$2:AH159,AH159)=1,AH159,\"\")","v":""},"","","",null,null,null,{"$f":"+IF(AU159=\"\",\"\",MAX(AP$1:AP158)+1)","v":""},{"$f":"IF(CPMS_Detail!B181=\"\",\"\",CPMS_Detail!B181)","v":""},{"$f":"IF(CPMS_Detail!C181=\"\",\"\",CPMS_Detail!C181)","v":""},{"$f":"IF(CPMS_Detail!D181=\"\",\"\",CPMS_Detail!D181)","v":""},"",{"$f":"IF(COUNTIF(AT$2:AT159,AT159)=1,AT159,\"\")","v":""},"","","",null,{"$f":"+IF(BE159=\"\",\"\",MAX(AZ$1:AZ158)+1)","v":""},{"$f":"IF(Mercury!B181=\"\",\"\",Mercury!B181)","v":""},{"$f":"IF(Mercury!C181=\"\",\"\",Mercury!C181)","v":""},{"$f":"IF(Mercury!D181=\"\",\"\",Mercury!D181)","v":""},"",{"$f":"IF(COUNTIF(BB$2:BB159,BB159)=1,BB159,\"\")","v":""},"","",""]
[{"$f":"+IF(D160=\"\",\"\",MAX(A$1:A159)+1)","v":""},{"$f":"IF(CEM_COM_CPMS_Identification!C182=\"\",\"\",CEM_COM_CPMS_Identification!C182)","v":""},"",{"$f":"IF(COUNTIF(B$2:B160,B160)=1,B160,\"\")","v":""},null,null,null,null,null,null,null,null,null,null,null,null,null,null,null,{"$f":"+IF(Y160=\"\",\"\",MAX(T$1:T159)+1)","v":""},{"$f":"IF(No_CPMS_Limits_Details!B182=\"\",\"\",No_CPMS_Limits_Details!B182)","v":""},{"$f":"IF(No_CPMS_Limits_Details!C182=\"\",\"\",No_CPMS_Limits_Details!C182)","v":""},{"$f":"IF(No_CPMS_Limits_Details!D182=\"\",\"\",No_CPMS_Limits_Details!D182)","v":""},"",{"$f":"IF(COUNTIF(V$2:V160,V160)=1,V160,\"\")","v":""},"","","",null,{"$f":"+IF(AI160=\"\",\"\",MAX(AD$1:AD159)+1)","v":""},{"$f":"IF(Limits_Details_w_CPMS!B182=\"\",\"\",Limits_Details_w_CPMS!B182)","v":""},{"$f":"IF(Limits_Details_w_CPMS!C182=\"\",\"\",Limits_Details_w_CPMS!C182)","v":""},{"$f":"IF(Limits_Details_w_CPMS!D182=\"\",\"\",Limits_Details_w_CPMS!D182)","v":""},"",{"$f":"IF(COUNTIF(AH$2:AH160,AH160)=1,AH160,\"\")","v":""},"","","",null,null,null,{"$f":"+IF(AU160=\"\",\"\",MAX(AP$1:AP159)+1)","v":""},{"$f":"IF(CPMS_Detail!B182=\"\",\"\",CPMS_Detail!B182)","v":""},{"$f":"IF(CPMS_Detail!C182=\"\",\"\",CPMS_Detail!C182)","v":""},{"$f":"IF(CPMS_Detail!D182=\"\",\"\",CPMS_Detail!D182)","v":""},"",{"$f":"IF(COUNTIF(AT$2:AT160,AT160)=1,AT160,\"\")","v":""},"","","",null,{"$f":"+IF(BE160=\"\",\"\",MAX(AZ$1:AZ159)+1)","v":""},{"$f":"IF(Mercury!B182=\"\",\"\",Mercury!B182)","v":""},{"$f":"IF(Mercury!C182=\"\",\"\",Mercury!C182)","v":""},{"$f":"IF(Mercury!D182=\"\",\"\",Mercury!D182)","v":""},"",{"$f":"IF(COUNTIF(BB$2:BB160,BB160)=1,BB160,\"\")","v":""},"","",""]
[{"$f":"+IF(D161=\"\",\"\",MAX(A$1:A160)+1)","v":""},{"$f":"IF(CEM_COM_CPMS_Identification!C183=\"\",\"\",CEM_COM_CPMS_Identification!C183)","v":""},"",{"$f":"IF(COUNTIF(B$2:B161,B161)=1,B161,\"\")","v":""},null,null,null,null,null,null,null,null,null,null,null,null,null,null,null,{"$f":"+IF(Y161=\"\",\"\",MAX(T$1:T160)+1)","v":""},{"$f":"IF(No_CPMS_Limits_Details!B183=\"\",\"\",No_CPMS_Limits_Details!B183)","v":""},{"$f":"IF(No_CPMS_Limits_Details!C183=\"\",\"\",No_CPMS_Limits_Details!C183)","v":""},{"$f":"IF(No_CPMS_Limits_Details!D183=\"\",\"\",No_CPMS_Limits_Details!D183)","v":""},"",{"$f":"IF(COUNTIF(V$2:V161,V161)=1,V161,\"\")","v":""},"","","",null,{"$f":"+IF(AI161=\"\",\"\",MAX(AD$1:AD160)+1)","v":""},{"$f":"IF(Limits_Details_w_CPMS!B183=\"\",\"\",Limits_Details_w_CPMS!B183)","v":""},{"$f":"IF(Limits_Details_w_CPMS!C183=\"\",\"\",Limits_Details_w_CPMS!C183)","v":""},{"$f":"IF(Limits_Details_w_CPMS!D183=\"\",\"\",Limits_Details_w_CPMS!D183)","v":""},"",{"$f":"IF(COUNTIF(AH$2:AH161,AH161)=1,AH161,\"\")","v":""},"","","",null,null,null,{"$f":"+IF(AU161=\"\",\"\",MAX(AP$1:AP160)+1)","v":""},{"$f":"IF(CPMS_Detail!B183=\"\",\"\",CPMS_Detail!B183)","v":""},{"$f":"IF(CPMS_Detail!C183=\"\",\"\",CPMS_Detail!C183)","v":""},{"$f":"IF(CPMS_Detail!D183=\"\",\"\",CPMS_Detail!D183)","v":""},"",{"$f":"IF(COUNTIF(AT$2:AT161,AT161)=1,AT161,\"\")","v":""},"","","",null,{"$f":"+IF(BE161=\"\",\"\",MAX(AZ$1:AZ160)+1)","v":""},{"$f":"IF(Mercury!B183=\"\",\"\",Mercury!B183)","v":""},{"$f":"IF(Mercury!C183=\"\",\"\",Mercury!C183)","v":""},{"$f":"IF(Mercury!D183=\"\",\"\",Mercury!D183)","v":""},"",{"$f":"IF(COUNTIF(BB$2:BB161,BB161)=1,BB161,\"\")","v":""},"","",""]
[{"$f":"+IF(D162=\"\",\"\",MAX(A$1:A161)+1)","v":""},{"$f":"IF(CEM_COM_CPMS_Identification!C184=\"\",\"\",CEM_COM_CPMS_Identification!C184)","v":""},"",{"$f":"IF(COUNTIF(B$2:B162,B162)=1,B162,\"\")","v":""},null,null,null,null,null,null,null,null,null,null,null,null,null,null,null,{"$f":"+IF(Y162=\"\",\"\",MAX(T$1:T161)+1)","v":""},{"$f":"IF(No_CPMS_Limits_Details!B184=\"\",\"\",No_CPMS_Limits_Details!B184)","v":""},{"$f":"IF(No_CPMS_Limits_Details!C184=\"\",\"\",No_CPMS_Limits_Details!C184)","v":""},{"$f":"IF(No_CPMS_Limits_Details!D184=\"\",\"\",No_CPMS_Limits_Details!D184)","v":""},"",{"$f":"IF(COUNTIF(V$2:V162,V162)=1,V162,\"\")","v":""},"","","",null,{"$f":"+IF(AI162=\"\",\"\",MAX(AD$1:AD161)+1)","v":""},{"$f":"IF(Limits_Details_w_CPMS!B184=\"\",\"\",Limits_Details_w_CPMS!B184)","v":""},{"$f":"IF(Limits_Details_w_CPMS!C184=\"\",\"\",Limits_Details_w_CPMS!C184)","v":""},{"$f":"IF(Limits_Details_w_CPMS!D184=\"\",\"\",Limits_Details_w_CPMS!D184)","v":""},"",{"$f":"IF(COUNTIF(AH$2:AH162,AH162)=1,AH162,\"\")","v":""},"","","",null,null,null,{"$f":"+IF(AU162=\"\",\"\",MAX(AP$1:AP161)+1)","v":""},{"$f":"IF(CPMS_Detail!B184=\"\",\"\",CPMS_Detail!B184)","v":""},{"$f":"IF(CPMS_Detail!C184=\"\",\"\",CPMS_Detail!C184)","v":""},{"$f":"IF(CPMS_Detail!D184=\"\",\"\",CPMS_Detail!D184)","v":""},"",{"$f":"IF(COUNTIF(AT$2:AT162,AT162)=1,AT162,\"\")","v":""},"","","",null,{"$f":"+IF(BE162=\"\",\"\",MAX(AZ$1:AZ161)+1)","v":""},{"$f":"IF(Mercury!B184=\"\",\"\",Mercury!B184)","v":""},{"$f":"IF(Mercury!C184=\"\",\"\",Mercury!C184)","v":""},{"$f":"IF(Mercury!D184=\"\",\"\",Mercury!D184)","v":""},"",{"$f":"IF(COUNTIF(BB$2:BB162,BB162)=1,BB162,\"\")","v":""},"","",""]
[{"$f":"+IF(D163=\"\",\"\",MAX(A$1:A162)+1)","v":""},{"$f":"IF(CEM_COM_CPMS_Identification!C185=\"\",\"\",CEM_COM_CPMS_Identification!C185)","v":""},"",{"$f":"IF(COUNTIF(B$2:B163,B163)=1,B163,\"\")","v":""},null,null,null,null,null,null,null,null,null,null,null,null,null,null,null,{"$f":"+IF(Y163=\"\",\"\",MAX(T$1:T162)+1)","v":""},{"$f":"IF(No_CPMS_Limits_Details!B185=\"\",\"\",No_CPMS_Limits_Details!B185)","v":""},{"$f":"IF(No_CPMS_Limits_Details!C185=\"\",\"\",No_CPMS_Limits_Details!C185)","v":""},{"$f":"IF(No_CPMS_Limits_Details!D185=\"\",\"\",No_CPMS_Limits_Details!D185)","v":""},"",{"$f":"IF(COUNTIF(V$2:V163,V163)=1,V163,\"\")","v":""},"","","",null,{"$f":"+IF(AI163=\"\",\"\",MAX(AD$1:AD162)+1)","v":""},{"$f":"IF(Limits_Details_w_CPMS!B185=\"\",\"\",Limits_Details_w_CPMS!B185)","v":""},{"$f":"IF(Limits_Details_w_CPMS!C185=\"\",\"\",Limits_Details_w_CPMS!C185)","v":""},{"$f":"IF(Limits_Details_w_CPMS!D185=\"\",\"\",Limits_Details_w_CPMS!D185)","v":""},"",{"$f":"IF(COUNTIF(AH$2:AH163,AH163)=1,AH163,\"\")","v":""},"","","",null,null,null,{"$f":"+IF(AU163=\"\",\"\",MAX(AP$1:AP162)+1)","v":""},{"$f":"IF(CPMS_Detail!B185=\"\",\"\",CPMS_Detail!B185)","v":""},{"$f":"IF(CPMS_Detail!C185=\"\",\"\",CPMS_Detail!C185)","v":""},{"$f":"IF(CPMS_Detail!D185=\"\",\"\",CPMS_Detail!D185)","v":""},"",{"$f":"IF(COUNTIF(AT$2:AT163,AT163)=1,AT163,\"\")","v":""},"","","",null,{"$f":"+IF(BE163=\"\",\"\",MAX(AZ$1:AZ162)+1)","v":""},{"$f":"IF(Mercury!B185=\"\",\"\",Mercury!B185)","v":""},{"$f":"IF(Mercury!C185=\"\",\"\",Mercury!C185)","v":""},{"$f":"IF(Mercury!D185=\"\",\"\",Mercury!D185)","v":""},"",{"$f":"IF(COUNTIF(BB$2:BB163,BB163)=1,BB163,\"\")","v":""},"","",""]
[{"$f":"+IF(D164=\"\",\"\",MAX(A$1:A163)+1)","v":""},{"$f":"IF(CEM_COM_CPMS_Identification!C186=\"\",\"\",CEM_COM_CPMS_Identification!C186)","v":""},"",{"$f":"IF(COUNTIF(B$2:B164,B164)=1,B164,\"\")","v":""},null,null,null,null,null,null,null,null,null,null,null,null,null,null,null,{"$f":"+IF(Y164=\"\",\"\",MAX(T$1:T163)+1)","v":""},{"$f":"IF(No_CPMS_Limits_Details!B186=\"\",\"\",No_CPMS_Limits_Details!B186)","v":""},{"$f":"IF(No_CPMS_Limits_Details!C186=\"\",\"\",No_CPMS_Limits_Details!C186)","v":""},{"$f":"IF(No_CPMS_Limits_Details!D186=\"\",\"\",No_CPMS_Limits_Details!D186)","v":""},"",{"$f":"IF(COUNTIF(V$2:V164,V164)=1,V164,\"\")","v":""},"","","",null,{"$f":"+IF(AI164=\"\",\"\",MAX(AD$1:AD163)+1)","v":""},{"$f":"IF(Limits_Details_w_CPMS!B186=\"\",\"\",Limits_Details_w_CPMS!B186)","v":""},{"$f":"IF(Limits_Details_w_CPMS!C186=\"\",\"\",Limits_Details_w_CPMS!C186)","v":""},{"$f":"IF(Limits_Details_w_CPMS!D186=\"\",\"\",Limits_Details_w_CPMS!D186)","v":""},"",{"$f":"IF(COUNTIF(AH$2:AH164,AH164)=1,AH164,\"\")","v":""},"","","",null,null,null,{"$f":"+IF(AU164=\"\",\"\",MAX(AP$1:AP163)+1)","v":""},{"$f":"IF(CPMS_Detail!B186=\"\",\"\",CPMS_Detail!B186)","v":""},{"$f":"IF(CPMS_Detail!C186=\"\",\"\",CPMS_Detail!C186)","v":""},{"$f":"IF(CPMS_Detail!D186=\"\",\"\",CPMS_Detail!D186)","v":""},"",{"$f":"IF(COUNTIF(AT$2:AT164,AT164)=1,AT164,\"\")","v":""},"","","",null,{"$f":"+IF(BE164=\"\",\"\",MAX(AZ$1:AZ163)+1)","v":""},{"$f":"IF(Mercury!B186=\"\",\"\",Mercury!B186)","v":""},{"$f":"IF(Mercury!C186=\"\",\"\",Mercury!C186)","v":""},{"$f":"IF(Mercury!D186=\"\",\"\",Mercury!D186)","v":""},"",{"$f":"IF(COUNTIF(BB$2:BB164,BB164)=1,BB164,\"\")","v":""},"","",""]
[{"$f":"+IF(D165=\"\",\"\",MAX(A$1:A164)+1)","v":""},{"$f":"IF(CEM_COM_CPMS_Identification!C187=\"\",\"\",CEM_COM_CPMS_Identification!C187)","v":""},"",{"$f":"IF(COUNTIF(B$2:B165,B165)=1,B165,\"\")","v":""},null,null,null,null,null,null,null,null,null,null,null,null,null,null,null,{"$f":"+IF(Y165=\"\",\"\",MAX(T$1:T164)+1)","v":""},{"$f":"IF(No_CPMS_Limits_Details!B187=\"\",\"\",No_CPMS_Limits_Details!B187)","v":""},{"$f":"IF(No_CPMS_Limits_Details!C187=\"\",\"\",No_CPMS_Limits_Details!C187)","v":""},{"$f":"IF(No_CPMS_Limits_Details!D187=\"\",\"\",No_CPMS_Limits_Details!D187)","v":""},"",{"$f":"IF(COUNTIF(V$2:V165,V165)=1,V165,\"\")","v":""},"","","",null,{"$f":"+IF(AI165=\"\",\"\",MAX(AD$1:AD164)+1)","v":""},{"$f":"IF(Limits_Details_w_CPMS!B187=\"\",\"\",Limits_Details_w_CPMS!B187)","v":""},{"$f":"IF(Limits_Details_w_CPMS!C187=\"\",\"\",Limits_Details_w_CPMS!C187)","v":""},{"$f":"IF(Limits_Details_w_CPMS!D187=\"\",\"\",Limits_Details_w_CPMS!D187)","v":""},"",{"$f":"IF(COUNTIF(AH$2:AH165,AH165)=1,AH165,\"\")","v":""},"","","",null,null,null,{"$f":"+IF(AU165=\"\",\"\",MAX(AP$1:AP164)+1)","v":""},{"$f":"IF(CPMS_Detail!B187=\"\",\"\",CPMS_Detail!B187)","v":""},{"$f":"IF(CPMS_Detail!C187=\"\",\"\",CPMS_Detail!C187)","v":""},{"$f":"IF(CPMS_Detail!D187=\"\",\"\",CPMS_Detail!D187)","v":""},"",{"$f":"IF(COUNTIF(AT$2:AT165,AT165)=1,AT165,\"\")","v":""},"","","",null,{"$f":"+IF(BE165=\"\",\"\",MAX(AZ$1:AZ164)+1)","v":""},{"$f":"IF(Mercury!B187=\"\",\"\",Mercury!B187)","v":""},{"$f":"IF(Mercury!C187=\"\",\"\",Mercury!C187)","v":""},{"$f":"IF(Mercury!D187=\"\",\"\",Mercury!D187)","v":""},"",{"$f":"IF(COUNTIF(BB$2:BB165,BB165)=1,BB165,\"\")","v":""},"","",""]
[{"$f":"+IF(D166=\"\",\"\",MAX(A$1:A165)+1)","v":""},{"$f":"IF(CEM_COM_CPMS_Identification!C188=\"\",\"\",CEM_COM_CPMS_Identification!C188)","v":""},"",{"$f":"IF(COUNTIF(B$2:B166,B166)=1,B166,\"\")","v":""},null,null,null,null,null,null,null,null,null,null,null,null,null,null,null,{"$f":"+IF(Y166=\"\",\"\",MAX(T$1:T165)+1)","v":""},{"$f":"IF(No_CPMS_Limits_Details!B188=\"\",\"\",No_CPMS_Limits_Details!B188)","v":""},{"$f":"IF(No_CPMS_Limits_Details!C188=\"\",\"\",No_CPMS_Limits_Details!C188)","v":""},{"$f":"IF(No_CPMS_Limits_Details!D188=\"\",\"\",No_CPMS_Limits_Details!D188)","v":""},"",{"$f":"IF(COUNTIF(V$2:V166,V166)=1,V166,\"\")","v":""},"","","",null,{"$f":"+IF(AI166=\"\",\"\",MAX(AD$1:AD165)+1)","v":""},{"$f":"IF(Limits_Details_w_CPMS!B188=\"\",\"\",Limits_Details_w_CPMS!B188)","v":""},{"$f":"IF(Limits_Details_w_CPMS!C188=\"\",\"\",Limits_Details_w_CPMS!C188)","v":""},{"$f":"IF(Limits_Details_w_CPMS!D188=\"\",\"\",Limits_Details_w_CPMS!D188)","v":""},"",{"$f":"IF(COUNTIF(AH$2:AH166,AH166)=1,AH166,\"\")","v":""},"","","",null,null,null,{"$f":"+IF(AU166=\"\",\"\",MAX(AP$1:AP165)+1)","v":""},{"$f":"IF(CPMS_Detail!B188=\"\",\"\",CPMS_Detail!B188)","v":""},{"$f":"IF(CPMS_Detail!C188=\"\",\"\",CPMS_Detail!C188)","v":""},{"$f":"IF(CPMS_Detail!D188=\"\",\"\",CPMS_Detail!D188)","v":""},"",{"$f":"IF(COUNTIF(AT$2:AT166,AT166)=1,AT166,\"\")","v":""},"","","",null,{"$f":"+IF(BE166=\"\",\"\",MAX(AZ$1:AZ165)+1)","v":""},{"$f":"IF(Mercury!B188=\"\",\"\",Mercury!B188)","v":""},{"$f":"IF(Mercury!C188=\"\",\"\",Mercury!C188)","v":""},{"$f":"IF(Mercury!D188=\"\",\"\",Mercury!D188)","v":""},"",{"$f":"IF(COUNTIF(BB$2:BB166,BB166)=1,BB166,\"\")","v":""},"","",""]
[{"$f":"+IF(D167=\"\",\"\",MAX(A$1:A166)+1)","v":""},{"$f":"IF(CEM_COM_CPMS_Identification!C189=\"\",\"\",CEM_COM_CPMS_Identification!C189)","v":""},"",{"$f":"IF(COUNTIF(B$2:B167,B167)=1,B167,\"\")","v":""},null,null,null,null,null,null,null,null,null,null,null,null,null,null,null,{"$f":"+IF(Y167=\"\",\"\",MAX(T$1:T166)+1)","v":""},{"$f":"IF(No_CPMS_Limits_Details!B189=\"\",\"\",No_CPMS_Limits_Details!B189)","v":""},{"$f":"IF(No_CPMS_Limits_Details!C189=\"\",\"\",No_CPMS_Limits_Details!C189)","v":""},{"$f":"IF(No_CPMS_Limits_Details!D189=\"\",\"\",No_CPMS_Limits_Details!D189)","v":""},"",{"$f":"IF(COUNTIF(V$2:V167,V167)=1,V167,\"\")","v":""},"","","",null,{"$f":"+IF(AI167=\"\",\"\",MAX(AD$1:AD166)+1)","v":""},{"$f":"IF(Limits_Details_w_CPMS!B189=\"\",\"\",Limits_Details_w_CPMS!B189)","v":""},{"$f":"IF(Limits_Details_w_CPMS!C189=\"\",\"\",Limits_Details_w_CPMS!C189)","v":""},{"$f":"IF(Limits_Details_w_CPMS!D189=\"\",\"\",Limits_Details_w_CPMS!D189)","v":""},"",{"$f":"IF(COUNTIF(AH$2:AH167,AH167)=1,AH167,\"\")","v":""},"","","",null,null,null,{"$f":"+IF(AU167=\"\",\"\",MAX(AP$1:AP166)+1)","v":""},{"$f":"IF(CPMS_Detail!B189=\"\",\"\",CPMS_Detail!B189)","v":""},{"$f":"IF(CPMS_Detail!C189=\"\",\"\",CPMS_Detail!C189)","v":""},{"$f":"IF(CPMS_Detail!D189=\"\",\"\",CPMS_Detail!D189)","v":""},"",{"$f":"IF(COUNTIF(AT$2:AT167,AT167)=1,AT167,\"\")","v":""},"","","",null,{"$f":"+IF(BE167=\"\",\"\",MAX(AZ$1:AZ166)+1)","v":""},{"$f":"IF(Mercury!B189=\"\",\"\",Mercury!B189)","v":""},{"$f":"IF(Mercury!C189=\"\",\"\",Mercury!C189)","v":""},{"$f":"IF(Mercury!D189=\"\",\"\",Mercury!D189)","v":""},"",{"$f":"IF(COUNTIF(BB$2:BB167,BB167)=1,BB167,\"\")","v":""},"","",""]
[{"$f":"+IF(D168=\"\",\"\",MAX(A$1:A167)+1)","v":""},{"$f":"IF(CEM_COM_CPMS_Identification!C190=\"\",\"\",CEM_COM_CPMS_Identification!C190)","v":""},"",{"$f":"IF(COUNTIF(B$2:B168,B168)=1,B168,\"\")","v":""},null,null,null,null,null,null,null,null,null,null,null,null,null,null,null,{"$f":"+IF(Y168=\"\",\"\",MAX(T$1:T167)+1)","v":""},{"$f":"IF(No_CPMS_Limits_Details!B190=\"\",\"\",No_CPMS_Limits_Details!B190)","v":""},{"$f":"IF(No_CPMS_Limits_Details!C190=\"\",\"\",No_CPMS_Limits_Details!C190)","v":""},{"$f":"IF(No_CPMS_Limits_Details!D190=\"\",\"\",No_CPMS_Limits_Details!D190)","v":""},"",{"$f":"IF(COUNTIF(V$2:V168,V168)=1,V168,\"\")","v":""},"","","",null,{"$f":"+IF(AI168=\"\",\"\",MAX(AD$1:AD167)+1)","v":""},{"$f":"IF(Limits_Details_w_CPMS!B190=\"\",\"\",Limits_Details_w_CPMS!B190)","v":""},{"$f":"IF(Limits_Details_w_CPMS!C190=\"\",\"\",Limits_Details_w_CPMS!C190)","v":""},{"$f":"IF(Limits_Details_w_CPMS!D190=\"\",\"\",Limits_Details_w_CPMS!D190)","v":""},"",{"$f":"IF(COUNTIF(AH$2:AH168,AH168)=1,AH168,\"\")","v":""},"","","",null,null,null,{"$f":"+IF(AU168=\"\",\"\",MAX(AP$1:AP167)+1)","v":""},{"$f":"IF(CPMS_Detail!B190=\"\",\"\",CPMS_Detail!B190)","v":""},{"$f":"IF(CPMS_Detail!C190=\"\",\"\",CPMS_Detail!C190)","v":""},{"$f":"IF(CPMS_Detail!D190=\"\",\"\",CPMS_Detail!D190)","v":""},"",{"$f":"IF(COUNTIF(AT$2:AT168,AT168)=1,AT168,\"\")","v":""},"","","",null,{"$f":"+IF(BE168=\"\",\"\",MAX(AZ$1:AZ167)+1)","v":""},{"$f":"IF(Mercury!B190=\"\",\"\",Mercury!B190)","v":""},{"$f":"IF(Mercury!C190=\"\",\"\",Mercury!C190)","v":""},{"$f":"IF(Mercury!D190=\"\",\"\",Mercury!D190)","v":""},"",{"$f":"IF(COUNTIF(BB$2:BB168,BB168)=1,BB168,\"\")","v":""},"","",""]
[{"$f":"+IF(D169=\"\",\"\",MAX(A$1:A168)+1)","v":""},{"$f":"IF(CEM_COM_CPMS_Identification!C191=\"\",\"\",CEM_COM_CPMS_Identification!C191)","v":""},"",{"$f":"IF(COUNTIF(B$2:B169,B169)=1,B169,\"\")","v":""},null,null,null,null,null,null,null,null,null,null,null,null,null,null,null,{"$f":"+IF(Y169=\"\",\"\",MAX(T$1:T168)+1)","v":""},{"$f":"IF(No_CPMS_Limits_Details!B191=\"\",\"\",No_CPMS_Limits_Details!B191)","v":""},{"$f":"IF(No_CPMS_Limits_Details!C191=\"\",\"\",No_CPMS_Limits_Details!C191)","v":""},{"$f":"IF(No_CPMS_Limits_Details!D191=\"\",\"\",No_CPMS_Limits_Details!D191)","v":""},"",{"$f":"IF(COUNTIF(V$2:V169,V169)=1,V169,\"\")","v":""},"","","",null,{"$f":"+IF(AI169=\"\",\"\",MAX(AD$1:AD168)+1)","v":""},{"$f":"IF(Limits_Details_w_CPMS!B191=\"\",\"\",Limits_Details_w_CPMS!B191)","v":""},{"$f":"IF(Limits_Details_w_CPMS!C191=\"\",\"\",Limits_Details_w_CPMS!C191)","v":""},{"$f":"IF(Limits_Details_w_CPMS!D191=\"\",\"\",Limits_Details_w_CPMS!D191)","v":""},"",{"$f":"IF(COUNTIF(AH$2:AH169,AH169)=1,AH169,\"\")","v":""},"","","",null,null,null,{"$f":"+IF(AU169=\"\",\"\",MAX(AP$1:AP168)+1)","v":""},{"$f":"IF(CPMS_Detail!B191=\"\",\"\",CPMS_Detail!B191)","v":""},{"$f":"IF(CPMS_Detail!C191=\"\",\"\",CPMS_Detail!C191)","v":""},{"$f":"IF(CPMS_Detail!D191=\"\",\"\",CPMS_Detail!D191)","v":""},"",{"$f":"IF(COUNTIF(AT$2:AT169,AT169)=1,AT169,\"\")","v":""},"","","",null,{"$f":"+IF(BE169=\"\",\"\",MAX(AZ$1:AZ168)+1)","v":""},{"$f":"IF(Mercury!B191=\"\",\"\",Mercury!B191)","v":""},{"$f":"IF(Mercury!C191=\"\",\"\",Mercury!C191)","v":""},{"$f":"IF(Mercury!D191=\"\",\"\",Mercury!D191)","v":""},"",{"$f":"IF(COUNTIF(BB$2:BB169,BB169)=1,BB169,\"\")","v":""},"","",""]
[{"$f":"+IF(D170=\"\",\"\",MAX(A$1:A169)+1)","v":""},{"$f":"IF(CEM_COM_CPMS_Identification!C192=\"\",\"\",CEM_COM_CPMS_Identification!C192)","v":""},"",{"$f":"IF(COUNTIF(B$2:B170,B170)=1,B170,\"\")","v":""},null,null,null,null,null,null,null,null,null,null,null,null,null,null,null,{"$f":"+IF(Y170=\"\",\"\",MAX(T$1:T169)+1)","v":""},{"$f":"IF(No_CPMS_Limits_Details!B192=\"\",\"\",No_CPMS_Limits_Details!B192)","v":""},{"$f":"IF(No_CPMS_Limits_Details!C192=\"\",\"\",No_CPMS_Limits_Details!C192)","v":""},{"$f":"IF(No_CPMS_Limits_Details!D192=\"\",\"\",No_CPMS_Limits_Details!D192)","v":""},"",{"$f":"IF(COUNTIF(V$2:V170,V170)=1,V170,\"\")","v":""},"","","",null,{"$f":"+IF(AI170=\"\",\"\",MAX(AD$1:AD169)+1)","v":""},{"$f":"IF(Limits_Details_w_CPMS!B192=\"\",\"\",Limits_Details_w_CPMS!B192)","v":""},{"$f":"IF(Limits_Details_w_CPMS!C192=\"\",\"\",Limits_Details_w_CPMS!C192)","v":""},{"$f":"IF(Limits_Details_w_CPMS!D192=\"\",\"\",Limits_Details_w_CPMS!D192)","v":""},"",{"$f":"IF(COUNTIF(AH$2:AH170,AH170)=1,AH170,\"\")","v":""},"","","",null,null,null,{"$f":"+IF(AU170=\"\",\"\",MAX(AP$1:AP169)+1)","v":""},{"$f":"IF(CPMS_Detail!B192=\"\",\"\",CPMS_Detail!B192)","v":""},{"$f":"IF(CPMS_Detail!C192=\"\",\"\",CPMS_Detail!C192)","v":""},{"$f":"IF(CPMS_Detail!D192=\"\",\"\",CPMS_Detail!D192)","v":""},"",{"$f":"IF(COUNTIF(AT$2:AT170,AT170)=1,AT170,\"\")","v":""},"","","",null,{"$f":"+IF(BE170=\"\",\"\",MAX(AZ$1:AZ169)+1)","v":""},{"$f":"IF(Mercury!B192=\"\",\"\",Mercury!B192)","v":""},{"$f":"IF(Mercury!C192=\"\",\"\",Mercury!C192)","v":""},{"$f":"IF(Mercury!D192=\"\",\"\",Mercury!D192)","v":""},"",{"$f":"IF(COUNTIF(BB$2:BB170,BB170)=1,BB170,\"\")","v":""},"","",""]
[{"$f":"+IF(D171=\"\",\"\",MAX(A$1:A170)+1)","v":""},{"$f":"IF(CEM_COM_CPMS_Identification!C193=\"\",\"\",CEM_COM_CPMS_Identification!C193)","v":""},"",{"$f":"IF(COUNTIF(B$2:B171,B171)=1,B171,\"\")","v":""},null,null,null,null,null,null,null,null,null,null,null,null,null,null,null,{"$f":"+IF(Y171=\"\",\"\",MAX(T$1:T170)+1)","v":""},{"$f":"IF(No_CPMS_Limits_Details!B193=\"\",\"\",No_CPMS_Limits_Details!B193)","v":""},{"$f":"IF(No_CPMS_Limits_Details!C193=\"\",\"\",No_CPMS_Limits_Details!C193)","v":""},{"$f":"IF(No_CPMS_Limits_Details!D193=\"\",\"\",No_CPMS_Limits_Details!D193)","v":""},"",{"$f":"IF(COUNTIF(V$2:V171,V171)=1,V171,\"\")","v":""},"","","",null,{"$f":"+IF(AI171=\"\",\"\",MAX(AD$1:AD170)+1)","v":""},{"$f":"IF(Limits_Details_w_CPMS!B193=\"\",\"\",Limits_Details_w_CPMS!B193)","v":""},{"$f":"IF(Limits_Details_w_CPMS!C193=\"\",\"\",Limits_Details_w_CPMS!C193)","v":""},{"$f":"IF(Limits_Details_w_CPMS!D193=\"\",\"\",Limits_Details_w_CPMS!D193)","v":""},"",{"$f":"IF(COUNTIF(AH$2:AH171,AH171)=1,AH171,\"\")","v":""},"","","",null,null,null,{"$f":"+IF(AU171=\"\",\"\",MAX(AP$1:AP170)+1)","v":""},{"$f":"IF(CPMS_Detail!B193=\"\",\"\",CPMS_Detail!B193)","v":""},{"$f":"IF(CPMS_Detail!C193=\"\",\"\",CPMS_Detail!C193)","v":""},{"$f":"IF(CPMS_Detail!D193=\"\",\"\",CPMS_Detail!D193)","v":""},"",{"$f":"IF(COUNTIF(AT$2:AT171,AT171)=1,AT171,\"\")","v":""},"","","",null,{"$f":"+IF(BE171=\"\",\"\",MAX(AZ$1:AZ170)+1)","v":""},{"$f":"IF(Mercury!B193=\"\",\"\",Mercury!B193)","v":""},{"$f":"IF(Mercury!C193=\"\",\"\",Mercury!C193)","v":""},{"$f":"IF(Mercury!D193=\"\",\"\",Mercury!D193)","v":""},"",{"$f":"IF(COUNTIF(BB$2:BB171,BB171)=1,BB171,\"\")","v":""},"","",""]
[{"$f":"+IF(D172=\"\",\"\",MAX(A$1:A171)+1)","v":""},{"$f":"IF(CEM_COM_CPMS_Identification!C194=\"\",\"\",CEM_COM_CPMS_Identification!C194)","v":""},"",{"$f":"IF(COUNTIF(B$2:B172,B172)=1,B172,\"\")","v":""},null,null,null,null,null,null,null,null,null,null,null,null,null,null,null,{"$f":"+IF(Y172=\"\",\"\",MAX(T$1:T171)+1)","v":""},{"$f":"IF(No_CPMS_Limits_Details!B194=\"\",\"\",No_CPMS_Limits_Details!B194)","v":""},{"$f":"IF(No_CPMS_Limits_Details!C194=\"\",\"\",No_CPMS_Limits_Details!C194)","v":""},{"$f":"IF(No_CPMS_Limits_Details!D194=\"\",\"\",No_CPMS_Limits_Details!D194)","v":""},"",{"$f":"IF(COUNTIF(V$2:V172,V172)=1,V172,\"\")","v":""},"","","",null,{"$f":"+IF(AI172=\"\",\"\",MAX(AD$1:AD171)+1)","v":""},{"$f":"IF(Limits_Details_w_CPMS!B194=\"\",\"\",Limits_Details_w_CPMS!B194)","v":""},{"$f":"IF(Limits_Details_w_CPMS!C194=\"\",\"\",Limits_Details_w_CPMS!C194)","v":""},{"$f":"IF(Limits_Details_w_CPMS!D194=\"\",\"\",Limits_Details_w_CPMS!D194)","v":""},"",{"$f":"IF(COUNTIF(AH$2:AH172,AH172)=1,AH172,\"\")","v":""},"","","",null,null,null,{"$f":"+IF(AU172=\"\",\"\",MAX(AP$1:AP171)+1)","v":""},{"$f":"IF(CPMS_Detail!B194=\"\",\"\",CPMS_Detail!B194)","v":""},{"$f":"IF(CPMS_Detail!C194=\"\",\"\",CPMS_Detail!C194)","v":""},{"$f":"IF(CPMS_Detail!D194=\"\",\"\",CPMS_Detail!D194)","v":""},"",{"$f":"IF(COUNTIF(AT$2:AT172,AT172)=1,AT172,\"\")","v":""},"","","",null,{"$f":"+IF(BE172=\"\",\"\",MAX(AZ$1:AZ171)+1)","v":""},{"$f":"IF(Mercury!B194=\"\",\"\",Mercury!B194)","v":""},{"$f":"IF(Mercury!C194=\"\",\"\",Mercury!C194)","v":""},{"$f":"IF(Mercury!D194=\"\",\"\",Mercury!D194)","v":""},"",{"$f":"IF(COUNTIF(BB$2:BB172,BB172)=1,BB172,\"\")","v":""},"","",""]
[{"$f":"+IF(D173=\"\",\"\",MAX(A$1:A172)+1)","v":""},{"$f":"IF(CEM_COM_CPMS_Identification!C195=\"\",\"\",CEM_COM_CPMS_Identification!C195)","v":""},"",{"$f":"IF(COUNTIF(B$2:B173,B173)=1,B173,\"\")","v":""},null,null,null,null,null,null,null,null,null,null,null,null,null,null,null,{"$f":"+IF(Y173=\"\",\"\",MAX(T$1:T172)+1)","v":""},{"$f":"IF(No_CPMS_Limits_Details!B195=\"\",\"\",No_CPMS_Limits_Details!B195)","v":""},{"$f":"IF(No_CPMS_Limits_Details!C195=\"\",\"\",No_CPMS_Limits_Details!C195)","v":""},{"$f":"IF(No_CPMS_Limits_Details!D195=\"\",\"\",No_CPMS_Limits_Details!D195)","v":""},"",{"$f":"IF(COUNTIF(V$2:V173,V173)=1,V173,\"\")","v":""},"","","",null,{"$f":"+IF(AI173=\"\",\"\",MAX(AD$1:AD172)+1)","v":""},{"$f":"IF(Limits_Details_w_CPMS!B195=\"\",\"\",Limits_Details_w_CPMS!B195)","v":""},{"$f":"IF(Limits_Details_w_CPMS!C195=\"\",\"\",Limits_Details_w_CPMS!C195)","v":""},{"$f":"IF(Limits_Details_w_CPMS!D195=\"\",\"\",Limits_Details_w_CPMS!D195)","v":""},"",{"$f":"IF(COUNTIF(AH$2:AH173,AH173)=1,AH173,\"\")","v":""},"","","",null,null,null,{"$f":"+IF(AU173=\"\",\"\",MAX(AP$1:AP172)+1)","v":""},{"$f":"IF(CPMS_Detail!B195=\"\",\"\",CPMS_Detail!B195)","v":""},{"$f":"IF(CPMS_Detail!C195=\"\",\"\",CPMS_Detail!C195)","v":""},{"$f":"IF(CPMS_Detail!D195=\"\",\"\",CPMS_Detail!D195)","v":""},"",{"$f":"IF(COUNTIF(AT$2:AT173,AT173)=1,AT173,\"\")","v":""},"","","",null,{"$f":"+IF(BE173=\"\",\"\",MAX(AZ$1:AZ172)+1)","v":""},{"$f":"IF(Mercury!B195=\"\",\"\",Mercury!B195)","v":""},{"$f":"IF(Mercury!C195=\"\",\"\",Mercury!C195)","v":""},{"$f":"IF(Mercury!D195=\"\",\"\",Mercury!D195)","v":""},"",{"$f":"IF(COUNTIF(BB$2:BB173,BB173)=1,BB173,\"\")","v":""},"","",""]
[{"$f":"+IF(D174=\"\",\"\",MAX(A$1:A173)+1)","v":""},{"$f":"IF(CEM_COM_CPMS_Identification!C196=\"\",\"\",CEM_COM_CPMS_Identification!C196)","v":""},"",{"$f":"IF(COUNTIF(B$2:B174,B174)=1,B174,\"\")","v":""},null,null,null,null,null,null,null,null,null,null,null,null,null,null,null,{"$f":"+IF(Y174=\"\",\"\",MAX(T$1:T173)+1)","v":""},{"$f":"IF(No_CPMS_Limits_Details!B196=\"\",\"\",No_CPMS_Limits_Details!B196)","v":""},{"$f":"IF(No_CPMS_Limits_Details!C196=\"\",\"\",No_CPMS_Limits_Details!C196)","v":""},{"$f":"IF(No_CPMS_Limits_Details!D196=\"\",\"\",No_CPMS_Limits_Details!D196)","v":""},"",{"$f":"IF(COUNTIF(V$2:V174,V174)=1,V174,\"\")","v":""},"","","",null,{"$f":"+IF(AI174=\"\",\"\",MAX(AD$1:AD173)+1)","v":""},{"$f":"IF(Limits_Details_w_CPMS!B196=\"\",\"\",Limits_Details_w_CPMS!B196)","v":""},{"$f":"IF(Limits_Details_w_CPMS!C196=\"\",\"\",Limits_Details_w_CPMS!C196)","v":""},{"$f":"IF(Limits_Details_w_CPMS!D196=\"\",\"\",Limits_Details_w_CPMS!D196)","v":""},"",{"$f":"IF(COUNTIF(AH$2:AH174,AH174)=1,AH174,\"\")","v":""},"","","",null,null,null,{"$f":"+IF(AU174=\"\",\"\",MAX(AP$1:AP173)+1)","v":""},{"$f":"IF(CPMS_Detail!B196=\"\",\"\",CPMS_Detail!B196)","v":""},{"$f":"IF(CPMS_Detail!C196=\"\",\"\",CPMS_Detail!C196)","v":""},{"$f":"IF(CPMS_Detail!D196=\"\",\"\",CPMS_Detail!D196)","v":""},"",{"$f":"IF(COUNTIF(AT$2:AT174,AT174)=1,AT174,\"\")","v":""},"","","",null,{"$f":"+IF(BE174=\"\",\"\",MAX(AZ$1:AZ173)+1)","v":""},{"$f":"IF(Mercury!B196=\"\",\"\",Mercury!B196)","v":""},{"$f":"IF(Mercury!C196=\"\",\"\",Mercury!C196)","v":""},{"$f":"IF(Mercury!D196=\"\",\"\",Mercury!D196)","v":""},"",{"$f":"IF(COUNTIF(BB$2:BB174,BB174)=1,BB174,\"\")","v":""},"","",""]
[{"$f":"+IF(D175=\"\",\"\",MAX(A$1:A174)+1)","v":""},{"$f":"IF(CEM_COM_CPMS_Identification!C197=\"\",\"\",CEM_COM_CPMS_Identification!C197)","v":""},"",{"$f":"IF(COUNTIF(B$2:B175,B175)=1,B175,\"\")","v":""},null,null,null,null,null,null,null,null,null,null,null,null,null,null,null,{"$f":"+IF(Y175=\"\",\"\",MAX(T$1:T174)+1)","v":""},{"$f":"IF(No_CPMS_Limits_Details!B197=\"\",\"\",No_CPMS_Limits_Details!B197)","v":""},{"$f":"IF(No_CPMS_Limits_Details!C197=\"\",\"\",No_CPMS_Limits_Details!C197)","v":""},{"$f":"IF(No_CPMS_Limits_Details!D197=\"\",\"\",No_CPMS_Limits_Details!D197)","v":""},"",{"$f":"IF(COUNTIF(V$2:V175,V175)=1,V175,\"\")","v":""},"","","",null,{"$f":"+IF(AI175=\"\",\"\",MAX(AD$1:AD174)+1)","v":""},{"$f":"IF(Limits_Details_w_CPMS!B197=\"\",\"\",Limits_Details_w_CPMS!B197)","v":""},{"$f":"IF(Limits_Details_w_CPMS!C197=\"\",\"\",Limits_Details_w_CPMS!C197)","v":""},{"$f":"IF(Limits_Details_w_CPMS!D197=\"\",\"\",Limits_Details_w_CPMS!D197)","v":""},"",{"$f":"IF(COUNTIF(AH$2:AH175,AH175)=1,AH175,\"\")","v":""},"","","",null,null,null,{"$f":"+IF(AU175=\"\",\"\",MAX(AP$1:AP174)+1)","v":""},{"$f":"IF(CPMS_Detail!B197=\"\",\"\",CPMS_Detail!B197)","v":""},{"$f":"IF(CPMS_Detail!C197=\"\",\"\",CPMS_Detail!C197)","v":""},{"$f":"IF(CPMS_Detail!D197=\"\",\"\",CPMS_Detail!D197)","v":""},"",{"$f":"IF(COUNTIF(AT$2:AT175,AT175)=1,AT175,\"\")","v":""},"","","",null,{"$f":"+IF(BE175=\"\",\"\",MAX(AZ$1:AZ174)+1)","v":""},{"$f":"IF(Mercury!B197=\"\",\"\",Mercury!B197)","v":""},{"$f":"IF(Mercury!C197=\"\",\"\",Mercury!C197)","v":""},{"$f":"IF(Mercury!D197=\"\",\"\",Mercury!D197)","v":""},"",{"$f":"IF(COUNTIF(BB$2:BB175,BB175)=1,BB175,\"\")","v":""},"","",""]
[{"$f":"+IF(D176=\"\",\"\",MAX(A$1:A175)+1)","v":""},{"$f":"IF(CEM_COM_CPMS_Identification!C198=\"\",\"\",CEM_COM_CPMS_Identification!C198)","v":""},"",{"$f":"IF(COUNTIF(B$2:B176,B176)=1,B176,\"\")","v":""},null,null,null,null,null,null,null,null,null,null,null,null,null,null,null,{"$f":"+IF(Y176=\"\",\"\",MAX(T$1:T175)+1)","v":""},{"$f":"IF(No_CPMS_Limits_Details!B198=\"\",\"\",No_CPMS_Limits_Details!B198)","v":""},{"$f":"IF(No_CPMS_Limits_Details!C198=\"\",\"\",No_CPMS_Limits_Details!C198)","v":""},{"$f":"IF(No_CPMS_Limits_Details!D198=\"\",\"\",No_CPMS_Limits_Details!D198)","v":""},"",{"$f":"IF(COUNTIF(V$2:V176,V176)=1,V176,\"\")","v":""},"","","",null,{"$f":"+IF(AI176=\"\",\"\",MAX(AD$1:AD175)+1)","v":""},{"$f":"IF(Limits_Details_w_CPMS!B198=\"\",\"\",Limits_Details_w_CPMS!B198)","v":""},{"$f":"IF(Limits_Details_w_CPMS!C198=\"\",\"\",Limits_Details_w_CPMS!C198)","v":""},{"$f":"IF(Limits_Details_w_CPMS!D198=\"\",\"\",Limits_Details_w_CPMS!D198)","v":""},"",{"$f":"IF(COUNTIF(AH$2:AH176,AH176)=1,AH176,\"\")","v":""},"","","",null,null,null,{"$f":"+IF(AU176=\"\",\"\",MAX(AP$1:AP175)+1)","v":""},{"$f":"IF(CPMS_Detail!B198=\"\",\"\",CPMS_Detail!B198)","v":""},{"$f":"IF(CPMS_Detail!C198=\"\",\"\",CPMS_Detail!C198)","v":""},{"$f":"IF(CPMS_Detail!D198=\"\",\"\",CPMS_Detail!D198)","v":""},"",{"$f":"IF(COUNTIF(AT$2:AT176,AT176)=1,AT176,\"\")","v":""},"","","",null,{"$f":"+IF(BE176=\"\",\"\",MAX(AZ$1:AZ175)+1)","v":""},{"$f":"IF(Mercury!B198=\"\",\"\",Mercury!B198)","v":""},{"$f":"IF(Mercury!C198=\"\",\"\",Mercury!C198)","v":""},{"$f":"IF(Mercury!D198=\"\",\"\",Mercury!D198)","v":""},"",{"$f":"IF(COUNTIF(BB$2:BB176,BB176)=1,BB176,\"\")","v":""},"","",""]
[{"$f":"+IF(D177=\"\",\"\",MAX(A$1:A176)+1)","v":""},{"$f":"IF(CEM_COM_CPMS_Identification!C199=\"\",\"\",CEM_COM_CPMS_Identification!C199)","v":""},"",{"$f":"IF(COUNTIF(B$2:B177,B177)=1,B177,\"\")","v":""},null,null,null,null,null,null,null,null,null,null,null,null,null,null,null,{"$f":"+IF(Y177=\"\",\"\",MAX(T$1:T176)+1)","v":""},{"$f":"IF(No_CPMS_Limits_Details!B199=\"\",\"\",No_CPMS_Limits_Details!B199)","v":""},{"$f":"IF(No_CPMS_Limits_Details!C199=\"\",\"\",No_CPMS_Limits_Details!C199)","v":""},{"$f":"IF(No_CPMS_Limits_Details!D199=\"\",\"\",No_CPMS_Limits_Details!D199)","v":""},"",{"$f":"IF(COUNTIF(V$2:V177,V177)=1,V177,\"\")","v":""},"","","",null,{"$f":"+IF(AI177=\"\",\"\",MAX(AD$1:AD176)+1)","v":""},{"$f":"IF(Limits_Details_w_CPMS!B199=\"\",\"\",Limits_Details_w_CPMS!B199)","v":""},{"$f":"IF(Limits_Details_w_CPMS!C199=\"\",\"\",Limits_Details_w_CPMS!C199)","v":""},{"$f":"IF(Limits_Details_w_CPMS!D199=\"\",\"\",Limits_Details_w_CPMS!D199)","v":""},"",{"$f":"IF(COUNTIF(AH$2:AH177,AH177)=1,AH177,\"\")","v":""},"","","",null,null,null,{"$f":"+IF(AU177=\"\",\"\",MAX(AP$1:AP176)+1)","v":""},{"$f":"IF(CPMS_Detail!B199=\"\",\"\",CPMS_Detail!B199)","v":""},{"$f":"IF(CPMS_Detail!C199=\"\",\"\",CPMS_Detail!C199)","v":""},{"$f":"IF(CPMS_Detail!D199=\"\",\"\",CPMS_Detail!D199)","v":""},"",{"$f":"IF(COUNTIF(AT$2:AT177,AT177)=1,AT177,\"\")","v":""},"","","",null,{"$f":"+IF(BE177=\"\",\"\",MAX(AZ$1:AZ176)+1)","v":""},{"$f":"IF(Mercury!B199=\"\",\"\",Mercury!B199)","v":""},{"$f":"IF(Mercury!C199=\"\",\"\",Mercury!C199)","v":""},{"$f":"IF(Mercury!D199=\"\",\"\",Mercury!D199)","v":""},"",{"$f":"IF(COUNTIF(BB$2:BB177,BB177)=1,BB177,\"\")","v":""},"","",""]
[{"$f":"+IF(D178=\"\",\"\",MAX(A$1:A177)+1)","v":""},{"$f":"IF(CEM_COM_CPMS_Identification!C200=\"\",\"\",CEM_COM_CPMS_Identification!C200)","v":""},"",{"$f":"IF(COUNTIF(B$2:B178,B178)=1,B178,\"\")","v":""},null,null,null,null,null,null,null,null,null,null,null,null,null,null,null,{"$f":"+IF(Y178=\"\",\"\",MAX(T$1:T177)+1)","v":""},{"$f":"IF(No_CPMS_Limits_Details!B200=\"\",\"\",No_CPMS_Limits_Details!B200)","v":""},{"$f":"IF(No_CPMS_Limits_Details!C200=\"\",\"\",No_CPMS_Limits_Details!C200)","v":""},{"$f":"IF(No_CPMS_Limits_Details!D200=\"\",\"\",No_CPMS_Limits_Details!D200)","v":""},"",{"$f":"IF(COUNTIF(V$2:V178,V178)=1,V178,\"\")","v":""},"","","",null,{"$f":"+IF(AI178=\"\",\"\",MAX(AD$1:AD177)+1)","v":""},{"$f":"IF(Limits_Details_w_CPMS!B200=\"\",\"\",Limits_Details_w_CPMS!B200)","v":""},{"$f":"IF(Limits_Details_w_CPMS!C200=\"\",\"\",Limits_Details_w_CPMS!C200)","v":""},{"$f":"IF(Limits_Details_w_CPMS!D200=\"\",\"\",Limits_Details_w_CPMS!D200)","v":""},"",{"$f":"IF(COUNTIF(AH$2:AH178,AH178)=1,AH178,\"\")","v":""},"","","",null,null,null,{"$f":"+IF(AU178=\"\",\"\",MAX(AP$1:AP177)+1)","v":""},{"$f":"IF(CPMS_Detail!B200=\"\",\"\",CPMS_Detail!B200)","v":""},{"$f":"IF(CPMS_Detail!C200=\"\",\"\",CPMS_Detail!C200)","v":""},{"$f":"IF(CPMS_Detail!D200=\"\",\"\",CPMS_Detail!D200)","v":""},"",{"$f":"IF(COUNTIF(AT$2:AT178,AT178)=1,AT178,\"\")","v":""},"","","",null,{"$f":"+IF(BE178=\"\",\"\",MAX(AZ$1:AZ177)+1)","v":""},{"$f":"IF(Mercury!B200=\"\",\"\",Mercury!B200)","v":""},{"$f":"IF(Mercury!C200=\"\",\"\",Mercury!C200)","v":""},{"$f":"IF(Mercury!D200=\"\",\"\",Mercury!D200)","v":""},"",{"$f":"IF(COUNTIF(BB$2:BB178,BB178)=1,BB178,\"\")","v":""},"","",""]
[{"$f":"+IF(D179=\"\",\"\",MAX(A$1:A178)+1)","v":""},{"$f":"IF(CEM_COM_CPMS_Identification!C201=\"\",\"\",CEM_COM_CPMS_Identification!C201)","v":""},"",{"$f":"IF(COUNTIF(B$2:B179,B179)=1,B179,\"\")","v":""},null,null,null,null,null,null,null,null,null,null,null,null,null,null,null,{"$f":"+IF(Y179=\"\",\"\",MAX(T$1:T178)+1)","v":""},{"$f":"IF(No_CPMS_Limits_Details!B201=\"\",\"\",No_CPMS_Limits_Details!B201)","v":""},{"$f":"IF(No_CPMS_Limits_Details!C201=\"\",\"\",No_CPMS_Limits_Details!C201)","v":""},{"$f":"IF(No_CPMS_Limits_Details!D201=\"\",\"\",No_CPMS_Limits_Details!D201)","v":""},"",{"$f":"IF(COUNTIF(V$2:V179,V179)=1,V179,\"\")","v":""},"","","",null,{"$f":"+IF(AI179=\"\",\"\",MAX(AD$1:AD178)+1)","v":""},{"$f":"IF(Limits_Details_w_CPMS!B201=\"\",\"\",Limits_Details_w_CPMS!B201)","v":""},{"$f":"IF(Limits_Details_w_CPMS!C201=\"\",\"\",Limits_Details_w_CPMS!C201)","v":""},{"$f":"IF(Limits_Details_w_CPMS!D201=\"\",\"\",Limits_Details_w_CPMS!D201)","v":""},"",{"$f":"IF(COUNTIF(AH$2:AH179,AH179)=1,AH179,\"\")","v":""},"","","",null,null,null,{"$f":"+IF(AU179=\"\",\"\",MAX(AP$1:AP178)+1)","v":""},{"$f":"IF(CPMS_Detail!B201=\"\",\"\",CPMS_Detail!B201)","v":""},{"$f":"IF(CPMS_Detail!C201=\"\",\"\",CPMS_Detail!C201)","v":""},{"$f":"IF(CPMS_Detail!D201=\"\",\"\",CPMS_Detail!D201)","v":""},"",{"$f":"IF(COUNTIF(AT$2:AT179,AT179)=1,AT179,\"\")","v":""},"","","",null,{"$f":"+IF(BE179=\"\",\"\",MAX(AZ$1:AZ178)+1)","v":""},{"$f":"IF(Mercury!B201=\"\",\"\",Mercury!B201)","v":""},{"$f":"IF(Mercury!C201=\"\",\"\",Mercury!C201)","v":""},{"$f":"IF(Mercury!D201=\"\",\"\",Mercury!D201)","v":""},"",{"$f":"IF(COUNTIF(BB$2:BB179,BB179)=1,BB179,\"\")","v":""},"","",""]
[{"$f":"+IF(D180=\"\",\"\",MAX(A$1:A179)+1)","v":""},{"$f":"IF(CEM_COM_CPMS_Identification!C202=\"\",\"\",CEM_COM_CPMS_Identification!C202)","v":""},"",{"$f":"IF(COUNTIF(B$2:B180,B180)=1,B180,\"\")","v":""},null,null,null,null,null,null,null,null,null,null,null,null,null,null,null,{"$f":"+IF(Y180=\"\",\"\",MAX(T$1:T179)+1)","v":""},{"$f":"IF(No_CPMS_Limits_Details!B202=\"\",\"\",No_CPMS_Limits_Details!B202)","v":""},{"$f":"IF(No_CPMS_Limits_Details!C202=\"\",\"\",No_CPMS_Limits_Details!C202)","v":""},{"$f":"IF(No_CPMS_Limits_Details!D202=\"\",\"\",No_CPMS_Limits_Details!D202)","v":""},"",{"$f":"IF(COUNTIF(V$2:V180,V180)=1,V180,\"\")","v":""},"","","",null,{"$f":"+IF(AI180=\"\",\"\",MAX(AD$1:AD179)+1)","v":""},{"$f":"IF(Limits_Details_w_CPMS!B202=\"\",\"\",Limits_Details_w_CPMS!B202)","v":""},{"$f":"IF(Limits_Details_w_CPMS!C202=\"\",\"\",Limits_Details_w_CPMS!C202)","v":""},{"$f":"IF(Limits_Details_w_CPMS!D202=\"\",\"\",Limits_Details_w_CPMS!D202)","v":""},"",{"$f":"IF(COUNTIF(AH$2:AH180,AH180)=1,AH180,\"\")","v":""},"","","",null,null,null,{"$f":"+IF(AU180=\"\",\"\",MAX(AP$1:AP179)+1)","v":""},{"$f":"IF(CPMS_Detail!B202=\"\",\"\",CPMS_Detail!B202)","v":""},{"$f":"IF(CPMS_Detail!C202=\"\",\"\",CPMS_Detail!C202)","v":""},{"$f":"IF(CPMS_Detail!D202=\"\",\"\",CPMS_Detail!D202)","v":""},"",{"$f":"IF(COUNTIF(AT$2:AT180,AT180)=1,AT180,\"\")","v":""},"","","",null,{"$f":"+IF(BE180=\"\",\"\",MAX(AZ$1:AZ179)+1)","v":""},{"$f":"IF(Mercury!B202=\"\",\"\",Mercury!B202)","v":""},{"$f":"IF(Mercury!C202=\"\",\"\",Mercury!C202)","v":""},{"$f":"IF(Mercury!D202=\"\",\"\",Mercury!D202)","v":""},"",{"$f":"IF(COUNTIF(BB$2:BB180,BB180)=1,BB180,\"\")","v":""},"","",""]
[{"$f":"+IF(D181=\"\",\"\",MAX(A$1:A180)+1)","v":""},{"$f":"IF(CEM_COM_CPMS_Identification!C203=\"\",\"\",CEM_COM_CPMS_Identification!C203)","v":""},"",{"$f":"IF(COUNTIF(B$2:B181,B181)=1,B181,\"\")","v":""},null,null,null,null,null,null,null,null,null,null,null,null,null,null,null,{"$f":"+IF(Y181=\"\",\"\",MAX(T$1:T180)+1)","v":""},{"$f":"IF(No_CPMS_Limits_Details!B203=\"\",\"\",No_CPMS_Limits_Details!B203)","v":""},{"$f":"IF(No_CPMS_Limits_Details!C203=\"\",\"\",No_CPMS_Limits_Details!C203)","v":""},{"$f":"IF(No_CPMS_Limits_Details!D203=\"\",\"\",No_CPMS_Limits_Details!D203)","v":""},"",{"$f":"IF(COUNTIF(V$2:V181,V181)=1,V181,\"\")","v":""},"","","",null,{"$f":"+IF(AI181=\"\",\"\",MAX(AD$1:AD180)+1)","v":""},{"$f":"IF(Limits_Details_w_CPMS!B203=\"\",\"\",Limits_Details_w_CPMS!B203)","v":""},{"$f":"IF(Limits_Details_w_CPMS!C203=\"\",\"\",Limits_Details_w_CPMS!C203)","v":""},{"$f":"IF(Limits_Details_w_CPMS!D203=\"\",\"\",Limits_Details_w_CPMS!D203)","v":""},"",{"$f":"IF(COUNTIF(AH$2:AH181,AH181)=1,AH181,\"\")","v":""},"","","",null,null,null,{"$f":"+IF(AU181=\"\",\"\",MAX(AP$1:AP180)+1)","v":""},{"$f":"IF(CPMS_Detail!B203=\"\",\"\",CPMS_Detail!B203)","v":""},{"$f":"IF(CPMS_Detail!C203=\"\",\"\",CPMS_Detail!C203)","v":""},{"$f":"IF(CPMS_Detail!D203=\"\",\"\",CPMS_Detail!D203)","v":""},"",{"$f":"IF(COUNTIF(AT$2:AT181,AT181)=1,AT181,\"\")","v":""},"","","",null,{"$f":"+IF(BE181=\"\",\"\",MAX(AZ$1:AZ180)+1)","v":""},{"$f":"IF(Mercury!B203=\"\",\"\",Mercury!B203)","v":""},{"$f":"IF(Mercury!C203=\"\",\"\",Mercury!C203)","v":""},{"$f":"IF(Mercury!D203=\"\",\"\",Mercury!D203)","v":""},"",{"$f":"IF(COUNTIF(BB$2:BB181,BB181)=1,BB181,\"\")","v":""},"","",""]
[{"$f":"+IF(D182=\"\",\"\",MAX(A$1:A181)+1)","v":""},{"$f":"IF(CEM_COM_CPMS_Identification!C204=\"\",\"\",CEM_COM_CPMS_Identification!C204)","v":""},"",{"$f":"IF(COUNTIF(B$2:B182,B182)=1,B182,\"\")","v":""},null,null,null,null,null,null,null,null,null,null,null,null,null,null,null,{"$f":"+IF(Y182=\"\",\"\",MAX(T$1:T181)+1)","v":""},{"$f":"IF(No_CPMS_Limits_Details!B204=\"\",\"\",No_CPMS_Limits_Details!B204)","v":""},{"$f":"IF(No_CPMS_Limits_Details!C204=\"\",\"\",No_CPMS_Limits_Details!C204)","v":""},{"$f":"IF(No_CPMS_Limits_Details!D204=\"\",\"\",No_CPMS_Limits_Details!D204)","v":""},"",{"$f":"IF(COUNTIF(V$2:V182,V182)=1,V182,\"\")","v":""},"","","",null,{"$f":"+IF(AI182=\"\",\"\",MAX(AD$1:AD181)+1)","v":""},{"$f":"IF(Limits_Details_w_CPMS!B204=\"\",\"\",Limits_Details_w_CPMS!B204)","v":""},{"$f":"IF(Limits_Details_w_CPMS!C204=\"\",\"\",Limits_Details_w_CPMS!C204)","v":""},{"$f":"IF(Limits_Details_w_CPMS!D204=\"\",\"\",Limits_Details_w_CPMS!D204)","v":""},"",{"$f":"IF(COUNTIF(AH$2:AH182,AH182)=1,AH182,\"\")","v":""},"","","",null,null,null,{"$f":"+IF(AU182=\"\",\"\",MAX(AP$1:AP181)+1)","v":""},{"$f":"IF(CPMS_Detail!B204=\"\",\"\",CPMS_Detail!B204)","v":""},{"$f":"IF(CPMS_Detail!C204=\"\",\"\",CPMS_Detail!C204)","v":""},{"$f":"IF(CPMS_Detail!D204=\"\",\"\",CPMS_Detail!D204)","v":""},"",{"$f":"IF(COUNTIF(AT$2:AT182,AT182)=1,AT182,\"\")","v":""},"","","",null,{"$f":"+IF(BE182=\"\",\"\",MAX(AZ$1:AZ181)+1)","v":""},{"$f":"IF(Mercury!B204=\"\",\"\",Mercury!B204)","v":""},{"$f":"IF(Mercury!C204=\"\",\"\",Mercury!C204)","v":""},{"$f":"IF(Mercury!D204=\"\",\"\",Mercury!D204)","v":""},"",{"$f":"IF(COUNTIF(BB$2:BB182,BB182)=1,BB182,\"\")","v":""},"","",""]
[{"$f":"+IF(D183=\"\",\"\",MAX(A$1:A182)+1)","v":""},{"$f":"IF(CEM_COM_CPMS_Identification!C205=\"\",\"\",CEM_COM_CPMS_Identification!C205)","v":""},"",{"$f":"IF(COUNTIF(B$2:B183,B183)=1,B183,\"\")","v":""},null,null,null,null,null,null,null,null,null,null,null,null,null,null,null,{"$f":"+IF(Y183=\"\",\"\",MAX(T$1:T182)+1)","v":""},{"$f":"IF(No_CPMS_Limits_Details!B205=\"\",\"\",No_CPMS_Limits_Details!B205)","v":""},{"$f":"IF(No_CPMS_Limits_Details!C205=\"\",\"\",No_CPMS_Limits_Details!C205)","v":""},{"$f":"IF(No_CPMS_Limits_Details!D205=\"\",\"\",No_CPMS_Limits_Details!D205)","v":""},"",{"$f":"IF(COUNTIF(V$2:V183,V183)=1,V183,\"\")","v":""},"","","",null,{"$f":"+IF(AI183=\"\",\"\",MAX(AD$1:AD182)+1)","v":""},{"$f":"IF(Limits_Details_w_CPMS!B205=\"\",\"\",Limits_Details_w_CPMS!B205)","v":""},{"$f":"IF(Limits_Details_w_CPMS!C205=\"\",\"\",Limits_Details_w_CPMS!C205)","v":""},{"$f":"IF(Limits_Details_w_CPMS!D205=\"\",\"\",Limits_Details_w_CPMS!D205)","v":""},"",{"$f":"IF(COUNTIF(AH$2:AH183,AH183)=1,AH183,\"\")","v":""},"","","",null,null,null,{"$f":"+IF(AU183=\"\",\"\",MAX(AP$1:AP182)+1)","v":""},{"$f":"IF(CPMS_Detail!B205=\"\",\"\",CPMS_Detail!B205)","v":""},{"$f":"IF(CPMS_Detail!C205=\"\",\"\",CPMS_Detail!C205)","v":""},{"$f":"IF(CPMS_Detail!D205=\"\",\"\",CPMS_Detail!D205)","v":""},"",{"$f":"IF(COUNTIF(AT$2:AT183,AT183)=1,AT183,\"\")","v":""},"","","",null,{"$f":"+IF(BE183=\"\",\"\",MAX(AZ$1:AZ182)+1)","v":""},{"$f":"IF(Mercury!B205=\"\",\"\",Mercury!B205)","v":""},{"$f":"IF(Mercury!C205=\"\",\"\",Mercury!C205)","v":""},{"$f":"IF(Mercury!D205=\"\",\"\",Mercury!D205)","v":""},"",{"$f":"IF(COUNTIF(BB$2:BB183,BB183)=1,BB183,\"\")","v":""},"","",""]
[{"$f":"+IF(D184=\"\",\"\",MAX(A$1:A183)+1)","v":""},{"$f":"IF(CEM_COM_CPMS_Identification!C206=\"\",\"\",CEM_COM_CPMS_Identification!C206)","v":""},"",{"$f":"IF(COUNTIF(B$2:B184,B184)=1,B184,\"\")","v":""},null,null,null,null,null,null,null,null,null,null,null,null,null,null,null,{"$f":"+IF(Y184=\"\",\"\",MAX(T$1:T183)+1)","v":""},{"$f":"IF(No_CPMS_Limits_Details!B206=\"\",\"\",No_CPMS_Limits_Details!B206)","v":""},{"$f":"IF(No_CPMS_Limits_Details!C206=\"\",\"\",No_CPMS_Limits_Details!C206)","v":""},{"$f":"IF(No_CPMS_Limits_Details!D206=\"\",\"\",No_CPMS_Limits_Details!D206)","v":""},"",{"$f":"IF(COUNTIF(V$2:V184,V184)=1,V184,\"\")","v":""},"","","",null,{"$f":"+IF(AI184=\"\",\"\",MAX(AD$1:AD183)+1)","v":""},{"$f":"IF(Limits_Details_w_CPMS!B206=\"\",\"\",Limits_Details_w_CPMS!B206)","v":""},{"$f":"IF(Limits_Details_w_CPMS!C206=\"\",\"\",Limits_Details_w_CPMS!C206)","v":""},{"$f":"IF(Limits_Details_w_CPMS!D206=\"\",\"\",Limits_Details_w_CPMS!D206)","v":""},"",{"$f":"IF(COUNTIF(AH$2:AH184,AH184)=1,AH184,\"\")","v":""},"","","",null,null,null,{"$f":"+IF(AU184=\"\",\"\",MAX(AP$1:AP183)+1)","v":""},{"$f":"IF(CPMS_Detail!B206=\"\",\"\",CPMS_Detail!B206)","v":""},{"$f":"IF(CPMS_Detail!C206=\"\",\"\",CPMS_Detail!C206)","v":""},{"$f":"IF(CPMS_Detail!D206=\"\",\"\",CPMS_Detail!D206)","v":""},"",{"$f":"IF(COUNTIF(AT$2:AT184,AT184)=1,AT184,\"\")","v":""},"","","",null,{"$f":"+IF(BE184=\"\",\"\",MAX(AZ$1:AZ183)+1)","v":""},{"$f":"IF(Mercury!B206=\"\",\"\",Mercury!B206)","v":""},{"$f":"IF(Mercury!C206=\"\",\"\",Mercury!C206)","v":""},{"$f":"IF(Mercury!D206=\"\",\"\",Mercury!D206)","v":""},"",{"$f":"IF(COUNTIF(BB$2:BB184,BB184)=1,BB184,\"\")","v":""},"","",""]
[{"$f":"+IF(D185=\"\",\"\",MAX(A$1:A184)+1)","v":""},{"$f":"IF(CEM_COM_CPMS_Identification!C207=\"\",\"\",CEM_COM_CPMS_Identification!C207)","v":""},"",{"$f":"IF(COUNTIF(B$2:B185,B185)=1,B185,\"\")","v":""},null,null,null,null,null,null,null,null,null,null,null,null,null,null,null,{"$f":"+IF(Y185=\"\",\"\",MAX(T$1:T184)+1)","v":""},{"$f":"IF(No_CPMS_Limits_Details!B207=\"\",\"\",No_CPMS_Limits_Details!B207)","v":""},{"$f":"IF(No_CPMS_Limits_Details!C207=\"\",\"\",No_CPMS_Limits_Details!C207)","v":""},{"$f":"IF(No_CPMS_Limits_Details!D207=\"\",\"\",No_CPMS_Limits_Details!D207)","v":""},"",{"$f":"IF(COUNTIF(V$2:V185,V185)=1,V185,\"\")","v":""},"","","",null,{"$f":"+IF(AI185=\"\",\"\",MAX(AD$1:AD184)+1)","v":""},{"$f":"IF(Limits_Details_w_CPMS!B207=\"\",\"\",Limits_Details_w_CPMS!B207)","v":""},{"$f":"IF(Limits_Details_w_CPMS!C207=\"\",\"\",Limits_Details_w_CPMS!C207)","v":""},{"$f":"IF(Limits_Details_w_CPMS!D207=\"\",\"\",Limits_Details_w_CPMS!D207)","v":""},"",{"$f":"IF(COUNTIF(AH$2:AH185,AH185)=1,AH185,\"\")","v":""},"","","",null,null,null,{"$f":"+IF(AU185=\"\",\"\",MAX(AP$1:AP184)+1)","v":""},{"$f":"IF(CPMS_Detail!B207=\"\",\"\",CPMS_Detail!B207)","v":""},{"$f":"IF(CPMS_Detail!C207=\"\",\"\",CPMS_Detail!C207)","v":""},{"$f":"IF(CPMS_Detail!D207=\"\",\"\",CPMS_Detail!D207)","v":""},"",{"$f":"IF(COUNTIF(AT$2:AT185,AT185)=1,AT185,\"\")","v":""},"","","",null,{"$f":"+IF(BE185=\"\",\"\",MAX(AZ$1:AZ184)+1)","v":""},{"$f":"IF(Mercury!B207=\"\",\"\",Mercury!B207)","v":""},{"$f":"IF(Mercury!C207=\"\",\"\",Mercury!C207)","v":""},{"$f":"IF(Mercury!D207=\"\",\"\",Mercury!D207)","v":""},"",{"$f":"IF(COUNTIF(BB$2:BB185,BB185)=1,BB185,\"\")","v":""},"","",""]
[{"$f":"+IF(D186=\"\",\"\",MAX(A$1:A185)+1)","v":""},{"$f":"IF(CEM_COM_CPMS_Identification!C208=\"\",\"\",CEM_COM_CPMS_Identification!C208)","v":""},"",{"$f":"IF(COUNTIF(B$2:B186,B186)=1,B186,\"\")","v":""},null,null,null,null,null,null,null,null,null,null,null,null,null,null,null,{"$f":"+IF(Y186=\"\",\"\",MAX(T$1:T185)+1)","v":""},{"$f":"IF(No_CPMS_Limits_Details!B208=\"\",\"\",No_CPMS_Limits_Details!B208)","v":""},{"$f":"IF(No_CPMS_Limits_Details!C208=\"\",\"\",No_CPMS_Limits_Details!C208)","v":""},{"$f":"IF(No_CPMS_Limits_Details!D208=\"\",\"\",No_CPMS_Limits_Details!D208)","v":""},"",{"$f":"IF(COUNTIF(V$2:V186,V186)=1,V186,\"\")","v":""},"","","",null,{"$f":"+IF(AI186=\"\",\"\",MAX(AD$1:AD185)+1)","v":""},{"$f":"IF(Limits_Details_w_CPMS!B208=\"\",\"\",Limits_Details_w_CPMS!B208)","v":""},{"$f":"IF(Limits_Details_w_CPMS!C208=\"\",\"\",Limits_Details_w_CPMS!C208)","v":""},{"$f":"IF(Limits_Details_w_CPMS!D208=\"\",\"\",Limits_Details_w_CPMS!D208)","v":""},"",{"$f":"IF(COUNTIF(AH$2:AH186,AH186)=1,AH186,\"\")","v":""},"","","",null,null,null,{"$f":"+IF(AU186=\"\",\"\",MAX(AP$1:AP185)+1)","v":""},{"$f":"IF(CPMS_Detail!B208=\"\",\"\",CPMS_Detail!B208)","v":""},{"$f":"IF(CPMS_Detail!C208=\"\",\"\",CPMS_Detail!C208)","v":""},{"$f":"IF(CPMS_Detail!D208=\"\",\"\",CPMS_Detail!D208)","v":""},"",{"$f":"IF(COUNTIF(AT$2:AT186,AT186)=1,AT186,\"\")","v":""},"","","",null,{"$f":"+IF(BE186=\"\",\"\",MAX(AZ$1:AZ185)+1)","v":""},{"$f":"IF(Mercury!B208=\"\",\"\",Mercury!B208)","v":""},{"$f":"IF(Mercury!C208=\"\",\"\",Mercury!C208)","v":""},{"$f":"IF(Mercury!D208=\"\",\"\",Mercury!D208)","v":""},"",{"$f":"IF(COUNTIF(BB$2:BB186,BB186)=1,BB186,\"\")","v":""},"","",""]
[{"$f":"+IF(D187=\"\",\"\",MAX(A$1:A186)+1)","v":""},{"$f":"IF(CEM_COM_CPMS_Identification!C209=\"\",\"\",CEM_COM_CPMS_Identification!C209)","v":""},"",{"$f":"IF(COUNTIF(B$2:B187,B187)=1,B187,\"\")","v":""},null,null,null,null,null,null,null,null,null,null,null,null,null,null,null,{"$f":"+IF(Y187=\"\",\"\",MAX(T$1:T186)+1)","v":""},{"$f":"IF(No_CPMS_Limits_Details!B209=\"\",\"\",No_CPMS_Limits_Details!B209)","v":""},{"$f":"IF(No_CPMS_Limits_Details!C209=\"\",\"\",No_CPMS_Limits_Details!C209)","v":""},{"$f":"IF(No_CPMS_Limits_Details!D209=\"\",\"\",No_CPMS_Limits_Details!D209)","v":""},"",{"$f":"IF(COUNTIF(V$2:V187,V187)=1,V187,\"\")","v":""},"","","",null,{"$f":"+IF(AI187=\"\",\"\",MAX(AD$1:AD186)+1)","v":""},{"$f":"IF(Limits_Details_w_CPMS!B209=\"\",\"\",Limits_Details_w_CPMS!B209)","v":""},{"$f":"IF(Limits_Details_w_CPMS!C209=\"\",\"\",Limits_Details_w_CPMS!C209)","v":""},{"$f":"IF(Limits_Details_w_CPMS!D209=\"\",\"\",Limits_Details_w_CPMS!D209)","v":""},"",{"$f":"IF(COUNTIF(AH$2:AH187,AH187)=1,AH187,\"\")","v":""},"","","",null,null,null,{"$f":"+IF(AU187=\"\",\"\",MAX(AP$1:AP186)+1)","v":""},{"$f":"IF(CPMS_Detail!B209=\"\",\"\",CPMS_Detail!B209)","v":""},{"$f":"IF(CPMS_Detail!C209=\"\",\"\",CPMS_Detail!C209)","v":""},{"$f":"IF(CPMS_Detail!D209=\"\",\"\",CPMS_Detail!D209)","v":""},"",{"$f":"IF(COUNTIF(AT$2:AT187,AT187)=1,AT187,\"\")","v":""},"","","",null,{"$f":"+IF(BE187=\"\",\"\",MAX(AZ$1:AZ186)+1)","v":""},{"$f":"IF(Mercury!B209=\"\",\"\",Mercury!B209)","v":""},{"$f":"IF(Mercury!C209=\"\",\"\",Mercury!C209)","v":""},{"$f":"IF(Mercury!D209=\"\",\"\",Mercury!D209)","v":""},"",{"$f":"IF(COUNTIF(BB$2:BB187,BB187)=1,BB187,\"\")","v":""},"","",""]
[{"$f":"+IF(D188=\"\",\"\",MAX(A$1:A187)+1)","v":""},{"$f":"IF(CEM_COM_CPMS_Identification!C210=\"\",\"\",CEM_COM_CPMS_Identification!C210)","v":""},"",{"$f":"IF(COUNTIF(B$2:B188,B188)=1,B188,\"\")","v":""},null,null,null,null,null,null,null,null,null,null,null,null,null,null,null,{"$f":"+IF(Y188=\"\",\"\",MAX(T$1:T187)+1)","v":""},{"$f":"IF(No_CPMS_Limits_Details!B210=\"\",\"\",No_CPMS_Limits_Details!B210)","v":""},{"$f":"IF(No_CPMS_Limits_Details!C210=\"\",\"\",No_CPMS_Limits_Details!C210)","v":""},{"$f":"IF(No_CPMS_Limits_Details!D210=\"\",\"\",No_CPMS_Limits_Details!D210)","v":""},"",{"$f":"IF(COUNTIF(V$2:V188,V188)=1,V188,\"\")","v":""},"","","",null,{"$f":"+IF(AI188=\"\",\"\",MAX(AD$1:AD187)+1)","v":""},{"$f":"IF(Limits_Details_w_CPMS!B210=\"\",\"\",Limits_Details_w_CPMS!B210)","v":""},{"$f":"IF(Limits_Details_w_CPMS!C210=\"\",\"\",Limits_Details_w_CPMS!C210)","v":""},{"$f":"IF(Limits_Details_w_CPMS!D210=\"\",\"\",Limits_Details_w_CPMS!D210)","v":""},"",{"$f":"IF(COUNTIF(AH$2:AH188,AH188)=1,AH188,\"\")","v":""},"","","",null,null,null,{"$f":"+IF(AU188=\"\",\"\",MAX(AP$1:AP187)+1)","v":""},{"$f":"IF(CPMS_Detail!B210=\"\",\"\",CPMS_Detail!B210)","v":""},{"$f":"IF(CPMS_Detail!C210=\"\",\"\",CPMS_Detail!C210)","v":""},{"$f":"IF(CPMS_Detail!D210=\"\",\"\",CPMS_Detail!D210)","v":""},"",{"$f":"IF(COUNTIF(AT$2:AT188,AT188)=1,AT188,\"\")","v":""},"","","",null,{"$f":"+IF(BE188=\"\",\"\",MAX(AZ$1:AZ187)+1)","v":""},{"$f":"IF(Mercury!B210=\"\",\"\",Mercury!B210)","v":""},{"$f":"IF(Mercury!C210=\"\",\"\",Mercury!C210)","v":""},{"$f":"IF(Mercury!D210=\"\",\"\",Mercury!D210)","v":""},"",{"$f":"IF(COUNTIF(BB$2:BB188,BB188)=1,BB188,\"\")","v":""},"","",""]
[{"$f":"+IF(D189=\"\",\"\",MAX(A$1:A188)+1)","v":""},{"$f":"IF(CEM_COM_CPMS_Identification!C211=\"\",\"\",CEM_COM_CPMS_Identification!C211)","v":""},"",{"$f":"IF(COUNTIF(B$2:B189,B189)=1,B189,\"\")","v":""},null,null,null,null,null,null,null,null,null,null,null,null,null,null,null,{"$f":"+IF(Y189=\"\",\"\",MAX(T$1:T188)+1)","v":""},{"$f":"IF(No_CPMS_Limits_Details!B211=\"\",\"\",No_CPMS_Limits_Details!B211)","v":""},{"$f":"IF(No_CPMS_Limits_Details!C211=\"\",\"\",No_CPMS_Limits_Details!C211)","v":""},{"$f":"IF(No_CPMS_Limits_Details!D211=\"\",\"\",No_CPMS_Limits_Details!D211)","v":""},"",{"$f":"IF(COUNTIF(V$2:V189,V189)=1,V189,\"\")","v":""},"","","",null,{"$f":"+IF(AI189=\"\",\"\",MAX(AD$1:AD188)+1)","v":""},{"$f":"IF(Limits_Details_w_CPMS!B211=\"\",\"\",Limits_Details_w_CPMS!B211)","v":""},{"$f":"IF(Limits_Details_w_CPMS!C211=\"\",\"\",Limits_Details_w_CPMS!C211)","v":""},{"$f":"IF(Limits_Details_w_CPMS!D211=\"\",\"\",Limits_Details_w_CPMS!D211)","v":""},"",{"$f":"IF(COUNTIF(AH$2:AH189,AH189)=1,AH189,\"\")","v":""},"","","",null,null,null,{"$f":"+IF(AU189=\"\",\"\",MAX(AP$1:AP188)+1)","v":""},{"$f":"IF(CPMS_Detail!B211=\"\",\"\",CPMS_Detail!B211)","v":""},{"$f":"IF(CPMS_Detail!C211=\"\",\"\",CPMS_Detail!C211)","v":""},{"$f":"IF(CPMS_Detail!D211=\"\",\"\",CPMS_Detail!D211)","v":""},"",{"$f":"IF(COUNTIF(AT$2:AT189,AT189)=1,AT189,\"\")","v":""},"","","",null,{"$f":"+IF(BE189=\"\",\"\",MAX(AZ$1:AZ188)+1)","v":""},{"$f":"IF(Mercury!B211=\"\",\"\",Mercury!B211)","v":""},{"$f":"IF(Mercury!C211=\"\",\"\",Mercury!C211)","v":""},{"$f":"IF(Mercury!D211=\"\",\"\",Mercury!D211)","v":""},"",{"$f":"IF(COUNTIF(BB$2:BB189,BB189)=1,BB189,\"\")","v":""},"","",""]
[{"$f":"+IF(D190=\"\",\"\",MAX(A$1:A189)+1)","v":""},{"$f":"IF(CEM_COM_CPMS_Identification!C212=\"\",\"\",CEM_COM_CPMS_Identification!C212)","v":""},"",{"$f":"IF(COUNTIF(B$2:B190,B190)=1,B190,\"\")","v":""},null,null,null,null,null,null,null,null,null,null,null,null,null,null,null,{"$f":"+IF(Y190=\"\",\"\",MAX(T$1:T189)+1)","v":""},{"$f":"IF(No_CPMS_Limits_Details!B212=\"\",\"\",No_CPMS_Limits_Details!B212)","v":""},{"$f":"IF(No_CPMS_Limits_Details!C212=\"\",\"\",No_CPMS_Limits_Details!C212)","v":""},{"$f":"IF(No_CPMS_Limits_Details!D212=\"\",\"\",No_CPMS_Limits_Details!D212)","v":""},"",{"$f":"IF(COUNTIF(V$2:V190,V190)=1,V190,\"\")","v":""},"","","",null,{"$f":"+IF(AI190=\"\",\"\",MAX(AD$1:AD189)+1)","v":""},{"$f":"IF(Limits_Details_w_CPMS!B212=\"\",\"\",Limits_Details_w_CPMS!B212)","v":""},{"$f":"IF(Limits_Details_w_CPMS!C212=\"\",\"\",Limits_Details_w_CPMS!C212)","v":""},{"$f":"IF(Limits_Details_w_CPMS!D212=\"\",\"\",Limits_Details_w_CPMS!D212)","v":""},"",{"$f":"IF(COUNTIF(AH$2:AH190,AH190)=1,AH190,\"\")","v":""},"","","",null,null,null,{"$f":"+IF(AU190=\"\",\"\",MAX(AP$1:AP189)+1)","v":""},{"$f":"IF(CPMS_Detail!B212=\"\",\"\",CPMS_Detail!B212)","v":""},{"$f":"IF(CPMS_Detail!C212=\"\",\"\",CPMS_Detail!C212)","v":""},{"$f":"IF(CPMS_Detail!D212=\"\",\"\",CPMS_Detail!D212)","v":""},"",{"$f":"IF(COUNTIF(AT$2:AT190,AT190)=1,AT190,\"\")","v":""},"","","",null,{"$f":"+IF(BE190=\"\",\"\",MAX(AZ$1:AZ189)+1)","v":""},{"$f":"IF(Mercury!B212=\"\",\"\",Mercury!B212)","v":""},{"$f":"IF(Mercury!C212=\"\",\"\",Mercury!C212)","v":""},{"$f":"IF(Mercury!D212=\"\",\"\",Mercury!D212)","v":""},"",{"$f":"IF(COUNTIF(BB$2:BB190,BB190)=1,BB190,\"\")","v":""},"","",""]
[{"$f":"+IF(D191=\"\",\"\",MAX(A$1:A190)+1)","v":""},{"$f":"IF(CEM_COM_CPMS_Identification!C213=\"\",\"\",CEM_COM_CPMS_Identification!C213)","v":""},"",{"$f":"IF(COUNTIF(B$2:B191,B191)=1,B191,\"\")","v":""},null,null,null,null,null,null,null,null,null,null,null,null,null,null,null,{"$f":"+IF(Y191=\"\",\"\",MAX(T$1:T190)+1)","v":""},{"$f":"IF(No_CPMS_Limits_Details!B213=\"\",\"\",No_CPMS_Limits_Details!B213)","v":""},{"$f":"IF(No_CPMS_Limits_Details!C213=\"\",\"\",No_CPMS_Limits_Details!C213)","v":""},{"$f":"IF(No_CPMS_Limits_Details!D213=\"\",\"\",No_CPMS_Limits_Details!D213)","v":""},"",{"$f":"IF(COUNTIF(V$2:V191,V191)=1,V191,\"\")","v":""},"","","",null,{"$f":"+IF(AI191=\"\",\"\",MAX(AD$1:AD190)+1)","v":""},{"$f":"IF(Limits_Details_w_CPMS!B213=\"\",\"\",Limits_Details_w_CPMS!B213)","v":""},{"$f":"IF(Limits_Details_w_CPMS!C213=\"\",\"\",Limits_Details_w_CPMS!C213)","v":""},{"$f":"IF(Limits_Details_w_CPMS!D213=\"\",\"\",Limits_Details_w_CPMS!D213)","v":""},"",{"$f":"IF(COUNTIF(AH$2:AH191,AH191)=1,AH191,\"\")","v":""},"","","",null,null,null,{"$f":"+IF(AU191=\"\",\"\",MAX(AP$1:AP190)+1)","v":""},{"$f":"IF(CPMS_Detail!B213=\"\",\"\",CPMS_Detail!B213)","v":""},{"$f":"IF(CPMS_Detail!C213=\"\",\"\",CPMS_Detail!C213)","v":""},{"$f":"IF(CPMS_Detail!D213=\"\",\"\",CPMS_Detail!D213)","v":""},"",{"$f":"IF(COUNTIF(AT$2:AT191,AT191)=1,AT191,\"\")","v":""},"","","",null,{"$f":"+IF(BE191=\"\",\"\",MAX(AZ$1:AZ190)+1)","v":""},{"$f":"IF(Mercury!B213=\"\",\"\",Mercury!B213)","v":""},{"$f":"IF(Mercury!C213=\"\",\"\",Mercury!C213)","v":""},{"$f":"IF(Mercury!D213=\"\",\"\",Mercury!D213)","v":""},"",{"$f":"IF(COUNTIF(BB$2:BB191,BB191)=1,BB191,\"\")","v":""},"","",""]
[{"$f":"+IF(D192=\"\",\"\",MAX(A$1:A191)+1)","v":""},{"$f":"IF(CEM_COM_CPMS_Identification!C214=\"\",\"\",CEM_COM_CPMS_Identification!C214)","v":""},"",{"$f":"IF(COUNTIF(B$2:B192,B192)=1,B192,\"\")","v":""},null,null,null,null,null,null,null,null,null,null,null,null,null,null,null,{"$f":"+IF(Y192=\"\",\"\",MAX(T$1:T191)+1)","v":""},{"$f":"IF(No_CPMS_Limits_Details!B214=\"\",\"\",No_CPMS_Limits_Details!B214)","v":""},{"$f":"IF(No_CPMS_Limits_Details!C214=\"\",\"\",No_CPMS_Limits_Details!C214)","v":""},{"$f":"IF(No_CPMS_Limits_Details!D214=\"\",\"\",No_CPMS_Limits_Details!D214)","v":""},"",{"$f":"IF(COUNTIF(V$2:V192,V192)=1,V192,\"\")","v":""},"","","",null,{"$f":"+IF(AI192=\"\",\"\",MAX(AD$1:AD191)+1)","v":""},{"$f":"IF(Limits_Details_w_CPMS!B214=\"\",\"\",Limits_Details_w_CPMS!B214)","v":""},{"$f":"IF(Limits_Details_w_CPMS!C214=\"\",\"\",Limits_Details_w_CPMS!C214)","v":""},{"$f":"IF(Limits_Details_w_CPMS!D214=\"\",\"\",Limits_Details_w_CPMS!D214)","v":""},"",{"$f":"IF(COUNTIF(AH$2:AH192,AH192)=1,AH192,\"\")","v":""},"","","",null,null,null,{"$f":"+IF(AU192=\"\",\"\",MAX(AP$1:AP191)+1)","v":""},{"$f":"IF(CPMS_Detail!B214=\"\",\"\",CPMS_Detail!B214)","v":""},{"$f":"IF(CPMS_Detail!C214=\"\",\"\",CPMS_Detail!C214)","v":""},{"$f":"IF(CPMS_Detail!D214=\"\",\"\",CPMS_Detail!D214)","v":""},"",{"$f":"IF(COUNTIF(AT$2:AT192,AT192)=1,AT192,\"\")","v":""},"","","",null,{"$f":"+IF(BE192=\"\",\"\",MAX(AZ$1:AZ191)+1)","v":""},{"$f":"IF(Mercury!B214=\"\",\"\",Mercury!B214)","v":""},{"$f":"IF(Mercury!C214=\"\",\"\",Mercury!C214)","v":""},{"$f":"IF(Mercury!D214=\"\",\"\",Mercury!D214)","v":""},"",{"$f":"IF(COUNTIF(BB$2:BB192,BB192)=1,BB192,\"\")","v":""},"","",""]
[{"$f":"+IF(D193=\"\",\"\",MAX(A$1:A192)+1)","v":""},{"$f":"IF(CEM_COM_CPMS_Identification!C215=\"\",\"\",CEM_COM_CPMS_Identification!C215)","v":""},"",{"$f":"IF(COUNTIF(B$2:B193,B193)=1,B193,\"\")","v":""},null,null,null,null,null,null,null,null,null,null,null,null,null,null,null,{"$f":"+IF(Y193=\"\",\"\",MAX(T$1:T192)+1)","v":""},{"$f":"IF(No_CPMS_Limits_Details!B215=\"\",\"\",No_CPMS_Limits_Details!B215)","v":""},{"$f":"IF(No_CPMS_Limits_Details!C215=\"\",\"\",No_CPMS_Limits_Details!C215)","v":""},{"$f":"IF(No_CPMS_Limits_Details!D215=\"\",\"\",No_CPMS_Limits_Details!D215)","v":""},"",{"$f":"IF(COUNTIF(V$2:V193,V193)=1,V193,\"\")","v":""},"","","",null,{"$f":"+IF(AI193=\"\",\"\",MAX(AD$1:AD192)+1)","v":""},{"$f":"IF(Limits_Details_w_CPMS!B215=\"\",\"\",Limits_Details_w_CPMS!B215)","v":""},{"$f":"IF(Limits_Details_w_CPMS!C215=\"\",\"\",Limits_Details_w_CPMS!C215)","v":""},{"$f":"IF(Limits_Details_w_CPMS!D215=\"\",\"\",Limits_Details_w_CPMS!D215)","v":""},"",{"$f":"IF(COUNTIF(AH$2:AH193,AH193)=1,AH193,\"\")","v":""},"","","",null,null,null,{"$f":"+IF(AU193=\"\",\"\",MAX(AP$1:AP192)+1)","v":""},{"$f":"IF(CPMS_Detail!B215=\"\",\"\",CPMS_Detail!B215)","v":""},{"$f":"IF(CPMS_Detail!C215=\"\",\"\",CPMS_Detail!C215)","v":""},{"$f":"IF(CPMS_Detail!D215=\"\",\"\",CPMS_Detail!D215)","v":""},"",{"$f":"IF(COUNTIF(AT$2:AT193,AT193)=1,AT193,\"\")","v":""},"","","",null,{"$f":"+IF(BE193=\"\",\"\",MAX(AZ$1:AZ192)+1)","v":""},{"$f":"IF(Mercury!B215=\"\",\"\",Mercury!B215)","v":""},{"$f":"IF(Mercury!C215=\"\",\"\",Mercury!C215)","v":""},{"$f":"IF(Mercury!D215=\"\",\"\",Mercury!D215)","v":""},"",{"$f":"IF(COUNTIF(BB$2:BB193,BB193)=1,BB193,\"\")","v":""},"","",""]
[{"$f":"+IF(D194=\"\",\"\",MAX(A$1:A193)+1)","v":""},{"$f":"IF(CEM_COM_CPMS_Identification!C216=\"\",\"\",CEM_COM_CPMS_Identification!C216)","v":""},{"$f":"+IFERROR(INDEX(B$2:B$501,MATCH(ROW()-ROW($C$1),A$2:A$501,0)),\"\")","v":""},{"$f":"IF(COUNTIF(B$2:B194,B194)=1,B194,\"\")","v":""},null,null,null,null,null,null,null,null,null,null,null,null,null,null,null,{"$f":"+IF(Y194=\"\",\"\",MAX(T$1:T193)+1)","v":""},{"$f":"IF(No_CPMS_Limits_Details!B216=\"\",\"\",No_CPMS_Limits_Details!B216)","v":""},{"$f":"IF(No_CPMS_Limits_Details!C216=\"\",\"\",No_CPMS_Limits_Details!C216)","v":""},{"$f":"IF(No_CPMS_Limits_Details!D216=\"\",\"\",No_CPMS_Limits_Details!D216)","v":""},{"$f":"U194&V194&W195","v":""},{"$f":"IF(COUNTIF(V$2:V194,V194)=1,V194,\"\")","v":""},{"$f":"+IFERROR(INDEX(U$2:U$955,MATCH(ROW()-ROW(Z$1),T$2:T$955,0)),\"\")","v":""},{"$f":"+IFERROR(INDEX(V$2:V$955,MATCH(ROW()-ROW(Z$1),T$2:T$955,0)),\"\")","v":""},{"$f":"+IFERROR(INDEX(W$2:W$955,MATCH(ROW()-ROW(Z$1),T$2:T$955,0)),\"\")","v":""},null,{"$f":"+IF(AI194=\"\",\"\",MAX(AD$1:AD193)+1)","v":""},{"$f":"IF(Limits_Details_w_CPMS!B216=\"\",\"\",Limits_Details_w_CPMS!B216)","v":""},{"$f":"IF(Limits_Details_w_CPMS!C216=\"\",\"\",Limits_Details_w_CPMS!C216)","v":""},{"$f":"IF(Limits_Details_w_CPMS!D216=\"\",\"\",Limits_Details_w_CPMS!D216)","v":""},"",{"$f":"IF(COUNTIF(AH$2:AH194,AH194)=1,AH194,\"\")","v":""},{"$f":"+IFERROR(INDEX(AE$2:AE$955,MATCH(ROW()-ROW(AJ$1),AD$2:AD$955,0)),\"\")","v":""},{"$f":"+IFERROR(INDEX(AF$2:AF$955,MATCH(ROW()-ROW(AJ$1),AD$2:AD$955,0)),\"\")","v":""},{"$f":"+IFERROR(INDEX(AG$2:AG$955,MATCH(ROW()-ROW(AJ$1),AD$2:AD$955,0)),\"\")","v":""},null,null,null,{"$f":"+IF(AU194=\"\",\"\",MAX(AP$1:AP193)+1)","v":""},{"$f":"IF(CPMS_Detail!B216=\"\",\"\",CPMS_Detail!B216)","v":""},{"$f":"IF(CPMS_Detail!C216=\"\",\"\",CPMS_Detail!C216)","v":""},{"$f":"IF(CPMS_Detail!D216=\"\",\"\",CPMS_Detail!D216)","v":""},"",{"$f":"IF(COUNTIF(AT$2:AT194,AT194)=1,AT194,\"\")","v":""},"","","",null,{"$f":"+IF(BE194=\"\",\"\",MAX(AZ$1:AZ193)+1)","v":""},{"$f":"IF(Mercury!B216=\"\",\"\",Mercury!B216)","v":""},{"$f":"IF(Mercury!C216=\"\",\"\",Mercury!C216)","v":""},{"$f":"IF(Mercury!D216=\"\",\"\",Mercury!D216)","v":""},{"$f":"BA194&BB194&BC195","v":""},{"$f":"IF(COUNTIF(BB$2:BB194,BB194)=1,BB194,\"\")","v":""},{"$f":"+IFERROR(INDEX(BA$2:BA$955,MATCH(ROW()-ROW(BF$1),AZ$2:AZ$955,0)),\"\")","v":""},{"$f":"+IFERROR(INDEX(BB$2:BB$955,MATCH(ROW()-ROW(BF$1),AZ$2:AZ$955,0)),\"\")","v":""},{"$f":"+IFERROR(INDEX(BC$2:BC$955,MATCH(ROW()-ROW(BF$1),AZ$2:AZ$955,0)),\"\")","v":""}]
[{"$f":"+IF(D195=\"\",\"\",MAX(A$1:A194)+1)","v":""},{"$f":"IF(CEM_COM_CPMS_Identification!C217=\"\",\"\",CEM_COM_CPMS_Identification!C217)","v":""},"",{"$f":"IF(COUNTIF(B$2:B195,B195)=1,B195,\"\")","v":""},null,null,null,null,null,null,null,null,null,null,null,null,null,null,null,{"$f":"+IF(Y195=\"\",\"\",MAX(T$1:T194)+1)","v":""},{"$f":"IF(No_CPMS_Limits_Details!B217=\"\",\"\",No_CPMS_Limits_Details!B217)","v":""},{"$f":"IF(No_CPMS_Limits_Details!C217=\"\",\"\",No_CPMS_Limits_Details!C217)","v":""},{"$f":"IF(No_CPMS_Limits_Details!D217=\"\",\"\",No_CPMS_Limits_Details!D217)","v":""},"",{"$f":"IF(COUNTIF(V$2:V195,V195)=1,V195,\"\")","v":""},"","","",null,{"$f":"+IF(AI195=\"\",\"\",MAX(AD$1:AD194)+1)","v":""},{"$f":"IF(Limits_Details_w_CPMS!B217=\"\",\"\",Limits_Details_w_CPMS!B217)","v":""},{"$f":"IF(Limits_Details_w_CPMS!C217=\"\",\"\",Limits_Details_w_CPMS!C217)","v":""},{"$f":"IF(Limits_Details_w_CPMS!D217=\"\",\"\",Limits_Details_w_CPMS!D217)","v":""},{"$f":"AE195&AF195&AG195","v":""},{"$f":"IF(COUNTIF(AH$2:AH195,AH195)=1,AH195,\"\")","v":""},"","","",null,null,null,{"$f":"+IF(AU195=\"\",\"\",MAX(AP$1:AP194)+1)","v":""},{"$f":"IF(CPMS_Detail!B217=\"\",\"\",CPMS_Detail!B217)","v":""},{"$f":"IF(CPMS_Detail!C217=\"\",\"\",CPMS_Detail!C217)","v":""},{"$f":"IF(CPMS_Detail!D217=\"\",\"\",CPMS_Detail!D217)","v":""},{"$f":"AQ195&AR195&AS195","v":""},{"$f":"IF(COUNTIF(AT$2:AT195,AT195)=1,AT195,\"\")","v":""},{"$f":"+IFERROR(INDEX(AQ$2:AQ$955,MATCH(ROW()-ROW(AV$1),AP$2:AP$955,0)),\"\")","v":""},{"$f":"+IFERROR(INDEX(AR$2:AR$955,MATCH(ROW()-ROW(AV$1),AP$2:AP$955,0)),\"\")","v":""},{"$f":"+IFERROR(INDEX(AS$2:AS$955,MATCH(ROW()-ROW(AV$1),AP$2:AP$955,0)),\"\")","v":""},null,{"$f":"+IF(BE195=\"\",\"\",MAX(AZ$1:AZ194)+1)","v":""},{"$f":"IF(Mercury!B217=\"\",\"\",Mercury!B217)","v":""},{"$f":"IF(Mercury!C217=\"\",\"\",Mercury!C217)","v":""},{"$f":"IF(Mercury!D217=\"\",\"\",Mercury!D217)","v":""},"",{"$f":"IF(COUNTIF(BB$2:BB195,BB195)=1,BB195,\"\")","v":""},"","",""]
[{"$f":"+IF(D196=\"\",\"\",MAX(A$1:A195)+1)","v":""},{"$f":"IF(CEM_COM_CPMS_Identification!C218=\"\",\"\",CEM_COM_CPMS_Identification!C218)","v":""},"",{"$f":"IF(COUNTIF(B$2:B196,B196)=1,B196,\"\")","v":""},null,null,null,null,null,null,null,null,null,null,null,null,null,null,null,{"$f":"+IF(Y196=\"\",\"\",MAX(T$1:T195)+1)","v":""},{"$f":"IF(No_CPMS_Limits_Details!B218=\"\",\"\",No_CPMS_Limits_Details!B218)","v":""},{"$f":"IF(No_CPMS_Limits_Details!C218=\"\",\"\",No_CPMS_Limits_Details!C218)","v":""},{"$f":"IF(No_CPMS_Limits_Details!D218=\"\",\"\",No_CPMS_Limits_Details!D218)","v":""},"",{"$f":"IF(COUNTIF(V$2:V196,V196)=1,V196,\"\")","v":""},"","","",null,{"$f":"+IF(AI196=\"\",\"\",MAX(AD$1:AD195)+1)","v":""},{"$f":"IF(Limits_Details_w_CPMS!B218=\"\",\"\",Limits_Details_w_CPMS!B218)","v":""},{"$f":"IF(Limits_Details_w_CPMS!C218=\"\",\"\",Limits_Details_w_CPMS!C218)","v":""},{"$f":"IF(Limits_Details_w_CPMS!D218=\"\",\"\",Limits_Details_w_CPMS!D218)","v":""},"",{"$f":"IF(COUNTIF(AH$2:AH196,AH196)=1,AH196,\"\")","v":""},"","","",null,null,null,{"$f":"+IF(AU196=\"\",\"\",MAX(AP$1:AP195)+1)","v":""},{"$f":"IF(CPMS_Detail!B218=\"\",\"\",CPMS_Detail!B218)","v":""},{"$f":"IF(CPMS_Detail!C218=\"\",\"\",CPMS_Detail!C218)","v":""},{"$f":"IF(CPMS_Detail!D218=\"\",\"\",CPMS_Detail!D218)","v":""},"",{"$f":"IF(COUNTIF(AT$2:AT196,AT196)=1,AT196,\"\")","v":""},"","","",null,{"$f":"+IF(BE196=\"\",\"\",MAX(AZ$1:AZ195)+1)","v":""},{"$f":"IF(Mercury!B218=\"\",\"\",Mercury!B218)","v":""},{"$f":"IF(Mercury!C218=\"\",\"\",Mercury!C218)","v":""},{"$f":"IF(Mercury!D218=\"\",\"\",Mercury!D218)","v":""},"",{"$f":"IF(COUNTIF(BB$2:BB196,BB196)=1,BB196,\"\")","v":""},"","",""]
[{"$f":"+IF(D197=\"\",\"\",MAX(A$1:A196)+1)","v":""},{"$f":"IF(CEM_COM_CPMS_Identification!C219=\"\",\"\",CEM_COM_CPMS_Identification!C219)","v":""},"",{"$f":"IF(COUNTIF(B$2:B197,B197)=1,B197,\"\")","v":""},null,null,null,null,null,null,null,null,null,null,null,null,null,null,null,{"$f":"+IF(Y197=\"\",\"\",MAX(T$1:T196)+1)","v":""},{"$f":"IF(No_CPMS_Limits_Details!B219=\"\",\"\",No_CPMS_Limits_Details!B219)","v":""},{"$f":"IF(No_CPMS_Limits_Details!C219=\"\",\"\",No_CPMS_Limits_Details!C219)","v":""},{"$f":"IF(No_CPMS_Limits_Details!D219=\"\",\"\",No_CPMS_Limits_Details!D219)","v":""},"",{"$f":"IF(COUNTIF(V$2:V197,V197)=1,V197,\"\")","v":""},"","","",null,{"$f":"+IF(AI197=\"\",\"\",MAX(AD$1:AD196)+1)","v":""},{"$f":"IF(Limits_Details_w_CPMS!B219=\"\",\"\",Limits_Details_w_CPMS!B219)","v":""},{"$f":"IF(Limits_Details_w_CPMS!C219=\"\",\"\",Limits_Details_w_CPMS!C219)","v":""},{"$f":"IF(Limits_Details_w_CPMS!D219=\"\",\"\",Limits_Details_w_CPMS!D219)","v":""},"",{"$f":"IF(COUNTIF(AH$2:AH197,AH197)=1,AH197,\"\")","v":""},"","","",null,null,null,{"$f":"+IF(AU197=\"\",\"\",MAX(AP$1:AP196)+1)","v":""},{"$f":"IF(CPMS_Detail!B219=\"\",\"\",CPMS_Detail!B219)","v":""},{"$f":"IF(CPMS_Detail!C219=\"\",\"\",CPMS_Detail!C219)","v":""},{"$f":"IF(CPMS_Detail!D219=\"\",\"\",CPMS_Detail!D219)","v":""},"",{"$f":"IF(COUNTIF(AT$2:AT197,AT197)=1,AT197,\"\")","v":""},"","","",null,{"$f":"+IF(BE197=\"\",\"\",MAX(AZ$1:AZ196)+1)","v":""},{"$f":"IF(Mercury!B219=\"\",\"\",Mercury!B219)","v":""},{"$f":"IF(Mercury!C219=\"\",\"\",Mercury!C219)","v":""},{"$f":"IF(Mercury!D219=\"\",\"\",Mercury!D219)","v":""},"",{"$f":"IF(COUNTIF(BB$2:BB197,BB197)=1,BB197,\"\")","v":""},"","",""]
[{"$f":"+IF(D198=\"\",\"\",MAX(A$1:A197)+1)","v":""},{"$f":"IF(CEM_COM_CPMS_Identification!C220=\"\",\"\",CEM_COM_CPMS_Identification!C220)","v":""},"",{"$f":"IF(COUNTIF(B$2:B198,B198)=1,B198,\"\")","v":""},null,null,null,null,null,null,null,null,null,null,null,null,null,null,null,{"$f":"+IF(Y198=\"\",\"\",MAX(T$1:T197)+1)","v":""},{"$f":"IF(No_CPMS_Limits_Details!B220=\"\",\"\",No_CPMS_Limits_Details!B220)","v":""},{"$f":"IF(No_CPMS_Limits_Details!C220=\"\",\"\",No_CPMS_Limits_Details!C220)","v":""},{"$f":"IF(No_CPMS_Limits_Details!D220=\"\",\"\",No_CPMS_Limits_Details!D220)","v":""},"",{"$f":"IF(COUNTIF(V$2:V198,V198)=1,V198,\"\")","v":""},"","","",null,{"$f":"+IF(AI198=\"\",\"\",MAX(AD$1:AD197)+1)","v":""},{"$f":"IF(Limits_Details_w_CPMS!B220=\"\",\"\",Limits_Details_w_CPMS!B220)","v":""},{"$f":"IF(Limits_Details_w_CPMS!C220=\"\",\"\",Limits_Details_w_CPMS!C220)","v":""},{"$f":"IF(Limits_Details_w_CPMS!D220=\"\",\"\",Limits_Details_w_CPMS!D220)","v":""},"",{"$f":"IF(COUNTIF(AH$2:AH198,AH198)=1,AH198,\"\")","v":""},"","","",null,null,null,{"$f":"+IF(AU198=\"\",\"\",MAX(AP$1:AP197)+1)","v":""},{"$f":"IF(CPMS_Detail!B220=\"\",\"\",CPMS_Detail!B220)","v":""},{"$f":"IF(CPMS_Detail!C220=\"\",\"\",CPMS_Detail!C220)","v":""},{"$f":"IF(CPMS_Detail!D220=\"\",\"\",CPMS_Detail!D220)","v":""},"",{"$f":"IF(COUNTIF(AT$2:AT198,AT198)=1,AT198,\"\")","v":""},"","","",null,{"$f":"+IF(BE198=\"\",\"\",MAX(AZ$1:AZ197)+1)","v":""},{"$f":"IF(Mercury!B220=\"\",\"\",Mercury!B220)","v":""},{"$f":"IF(Mercury!C220=\"\",\"\",Mercury!C220)","v":""},{"$f":"IF(Mercury!D220=\"\",\"\",Mercury!D220)","v":""},"",{"$f":"IF(COUNTIF(BB$2:BB198,BB198)=1,BB198,\"\")","v":""},"","",""]
[{"$f":"+IF(D199=\"\",\"\",MAX(A$1:A198)+1)","v":""},{"$f":"IF(CEM_COM_CPMS_Identification!C221=\"\",\"\",CEM_COM_CPMS_Identification!C221)","v":""},"",{"$f":"IF(COUNTIF(B$2:B199,B199)=1,B199,\"\")","v":""},null,null,null,null,null,null,null,null,null,null,null,null,null,null,null,{"$f":"+IF(Y199=\"\",\"\",MAX(T$1:T198)+1)","v":""},{"$f":"IF(No_CPMS_Limits_Details!B221=\"\",\"\",No_CPMS_Limits_Details!B221)","v":""},{"$f":"IF(No_CPMS_Limits_Details!C221=\"\",\"\",No_CPMS_Limits_Details!C221)","v":""},{"$f":"IF(No_CPMS_Limits_Details!D221=\"\",\"\",No_CPMS_Limits_Details!D221)","v":""},"",{"$f":"IF(COUNTIF(V$2:V199,V199)=1,V199,\"\")","v":""},"","","",null,{"$f":"+IF(AI199=\"\",\"\",MAX(AD$1:AD198)+1)","v":""},{"$f":"IF(Limits_Details_w_CPMS!B221=\"\",\"\",Limits_Details_w_CPMS!B221)","v":""},{"$f":"IF(Limits_Details_w_CPMS!C221=\"\",\"\",Limits_Details_w_CPMS!C221)","v":""},{"$f":"IF(Limits_Details_w_CPMS!D221=\"\",\"\",Limits_Details_w_CPMS!D221)","v":""},"",{"$f":"IF(COUNTIF(AH$2:AH199,AH199)=1,AH199,\"\")","v":""},"","","",null,null,null,{"$f":"+IF(AU199=\"\",\"\",MAX(AP$1:AP198)+1)","v":""},{"$f":"IF(CPMS_Detail!B221=\"\",\"\",CPMS_Detail!B221)","v":""},{"$f":"IF(CPMS_Detail!C221=\"\",\"\",CPMS_Detail!C221)","v":""},{"$f":"IF(CPMS_Detail!D221=\"\",\"\",CPMS_Detail!D221)","v":""},"",{"$f":"IF(COUNTIF(AT$2:AT199,AT199)=1,AT199,\"\")","v":""},"","","",null,{"$f":"+IF(BE199=\"\",\"\",MAX(AZ$1:AZ198)+1)","v":""},{"$f":"IF(Mercury!B221=\"\",\"\",Mercury!B221)","v":""},{"$f":"IF(Mercury!C221=\"\",\"\",Mercury!C221)","v":""},{"$f":"IF(Mercury!D221=\"\",\"\",Mercury!D221)","v":""},"",{"$f":"IF(COUNTIF(BB$2:BB199,BB199)=1,BB199,\"\")","v":""},"","",""]
[{"$f":"+IF(D200=\"\",\"\",MAX(A$1:A199)+1)","v":""},{"$f":"IF(CEM_COM_CPMS_Identification!C222=\"\",\"\",CEM_COM_CPMS_Identification!C222)","v":""},"",{"$f":"IF(COUNTIF(B$2:B200,B200)=1,B200,\"\")","v":""},null,null,null,null,null,null,null,null,null,null,null,null,null,null,null,{"$f":"+IF(Y200=\"\",\"\",MAX(T$1:T199)+1)","v":""},{"$f":"IF(No_CPMS_Limits_Details!B222=\"\",\"\",No_CPMS_Limits_Details!B222)","v":""},{"$f":"IF(No_CPMS_Limits_Details!C222=\"\",\"\",No_CPMS_Limits_Details!C222)","v":""},{"$f":"IF(No_CPMS_Limits_Details!D222=\"\",\"\",No_CPMS_Limits_Details!D222)","v":""},"",{"$f":"IF(COUNTIF(V$2:V200,V200)=1,V200,\"\")","v":""},"","","",null,{"$f":"+IF(AI200=\"\",\"\",MAX(AD$1:AD199)+1)","v":""},{"$f":"IF(Limits_Details_w_CPMS!B222=\"\",\"\",Limits_Details_w_CPMS!B222)","v":""},{"$f":"IF(Limits_Details_w_CPMS!C222=\"\",\"\",Limits_Details_w_CPMS!C222)","v":""},{"$f":"IF(Limits_Details_w_CPMS!D222=\"\",\"\",Limits_Details_w_CPMS!D222)","v":""},"",{"$f":"IF(COUNTIF(AH$2:AH200,AH200)=1,AH200,\"\")","v":""},"","","",null,null,null,{"$f":"+IF(AU200=\"\",\"\",MAX(AP$1:AP199)+1)","v":""},{"$f":"IF(CPMS_Detail!B222=\"\",\"\",CPMS_Detail!B222)","v":""},{"$f":"IF(CPMS_Detail!C222=\"\",\"\",CPMS_Detail!C222)","v":""},{"$f":"IF(CPMS_Detail!D222=\"\",\"\",CPMS_Detail!D222)","v":""},"",{"$f":"IF(COUNTIF(AT$2:AT200,AT200)=1,AT200,\"\")","v":""},"","","",null,{"$f":"+IF(BE200=\"\",\"\",MAX(AZ$1:AZ199)+1)","v":""},{"$f":"IF(Mercury!B222=\"\",\"\",Mercury!B222)","v":""},{"$f":"IF(Mercury!C222=\"\",\"\",Mercury!C222)","v":""},{"$f":"IF(Mercury!D222=\"\",\"\",Mercury!D222)","v":""},"",{"$f":"IF(COUNTIF(BB$2:BB200,BB200)=1,BB200,\"\")","v":""},"","",""]
[{"$f":"+IF(D201=\"\",\"\",MAX(A$1:A200)+1)","v":""},{"$f":"IF(CEM_COM_CPMS_Identification!C223=\"\",\"\",CEM_COM_CPMS_Identification!C223)","v":""},"",{"$f":"IF(COUNTIF(B$2:B201,B201)=1,B201,\"\")","v":""},null,null,null,null,null,null,null,null,null,null,null,null,null,null,null,{"$f":"+IF(Y201=\"\",\"\",MAX(T$1:T200)+1)","v":""},{"$f":"IF(No_CPMS_Limits_Details!B223=\"\",\"\",No_CPMS_Limits_Details!B223)","v":""},{"$f":"IF(No_CPMS_Limits_Details!C223=\"\",\"\",No_CPMS_Limits_Details!C223)","v":""},{"$f":"IF(No_CPMS_Limits_Details!D223=\"\",\"\",No_CPMS_Limits_Details!D223)","v":""},"",{"$f":"IF(COUNTIF(V$2:V201,V201)=1,V201,\"\")","v":""},"","","",null,{"$f":"+IF(AI201=\"\",\"\",MAX(AD$1:AD200)+1)","v":""},{"$f":"IF(Limits_Details_w_CPMS!B223=\"\",\"\",Limits_Details_w_CPMS!B223)","v":""},{"$f":"IF(Limits_Details_w_CPMS!C223=\"\",\"\",Limits_Details_w_CPMS!C223)","v":""},{"$f":"IF(Limits_Details_w_CPMS!D223=\"\",\"\",Limits_Details_w_CPMS!D223)","v":""},"",{"$f":"IF(COUNTIF(AH$2:AH201,AH201)=1,AH201,\"\")","v":""},"","","",null,null,null,{"$f":"+IF(AU201=\"\",\"\",MAX(AP$1:AP200)+1)","v":""},{"$f":"IF(CPMS_Detail!B223=\"\",\"\",CPMS_Detail!B223)","v":""},{"$f":"IF(CPMS_Detail!C223=\"\",\"\",CPMS_Detail!C223)","v":""},{"$f":"IF(CPMS_Detail!D223=\"\",\"\",CPMS_Detail!D223)","v":""},"",{"$f":"IF(COUNTIF(AT$2:AT201,AT201)=1,AT201,\"\")","v":""},"","","",null,{"$f":"+IF(BE201=\"\",\"\",MAX(AZ$1:AZ200)+1)","v":""},{"$f":"IF(Mercury!B223=\"\",\"\",Mercury!B223)","v":""},{"$f":"IF(Mercury!C223=\"\",\"\",Mercury!C223)","v":""},{"$f":"IF(Mercury!D223=\"\",\"\",Mercury!D223)","v":""},"",{"$f":"IF(COUNTIF(BB$2:BB201,BB201)=1,BB201,\"\")","v":""},"","",""]
[{"$f":"+IF(D202=\"\",\"\",MAX(A$1:A201)+1)","v":""},{"$f":"IF(CEM_COM_CPMS_Identification!C224=\"\",\"\",CEM_COM_CPMS_Identification!C224)","v":""},"",{"$f":"IF(COUNTIF(B$2:B202,B202)=1,B202,\"\")","v":""},null,null,null,null,null,null,null,null,null,null,null,null,null,null,null,{"$f":"+IF(Y202=\"\",\"\",MAX(T$1:T201)+1)","v":""},{"$f":"IF(No_CPMS_Limits_Details!B224=\"\",\"\",No_CPMS_Limits_Details!B224)","v":""},{"$f":"IF(No_CPMS_Limits_Details!C224=\"\",\"\",No_CPMS_Limits_Details!C224)","v":""},{"$f":"IF(No_CPMS_Limits_Details!D224=\"\",\"\",No_CPMS_Limits_Details!D224)","v":""},"",{"$f":"IF(COUNTIF(V$2:V202,V202)=1,V202,\"\")","v":""},"","","",null,{"$f":"+IF(AI202=\"\",\"\",MAX(AD$1:AD201)+1)","v":""},{"$f":"IF(Limits_Details_w_CPMS!B224=\"\",\"\",Limits_Details_w_CPMS!B224)","v":""},{"$f":"IF(Limits_Details_w_CPMS!C224=\"\",\"\",Limits_Details_w_CPMS!C224)","v":""},{"$f":"IF(Limits_Details_w_CPMS!D224=\"\",\"\",Limits_Details_w_CPMS!D224)","v":""},"",{"$f":"IF(COUNTIF(AH$2:AH202,AH202)=1,AH202,\"\")","v":""},"","","",null,null,null,{"$f":"+IF(AU202=\"\",\"\",MAX(AP$1:AP201)+1)","v":""},{"$f":"IF(CPMS_Detail!B224=\"\",\"\",CPMS_Detail!B224)","v":""},{"$f":"IF(CPMS_Detail!C224=\"\",\"\",CPMS_Detail!C224)","v":""},{"$f":"IF(CPMS_Detail!D224=\"\",\"\",CPMS_Detail!D224)","v":""},"",{"$f":"IF(COUNTIF(AT$2:AT202,AT202)=1,AT202,\"\")","v":""},"","","",null,{"$f":"+IF(BE202=\"\",\"\",MAX(AZ$1:AZ201)+1)","v":""},{"$f":"IF(Mercury!B224=\"\",\"\",Mercury!B224)","v":""},{"$f":"IF(Mercury!C224=\"\",\"\",Mercury!C224)","v":""},{"$f":"IF(Mercury!D224=\"\",\"\",Mercury!D224)","v":""},"",{"$f":"IF(COUNTIF(BB$2:BB202,BB202)=1,BB202,\"\")","v":""},"","",""]
[{"$f":"+IF(D203=\"\",\"\",MAX(A$1:A202)+1)","v":""},{"$f":"IF(CEM_COM_CPMS_Identification!C225=\"\",\"\",CEM_COM_CPMS_Identification!C225)","v":""},"",{"$f":"IF(COUNTIF(B$2:B203,B203)=1,B203,\"\")","v":""},null,null,null,null,null,null,null,null,null,null,null,null,null,null,null,{"$f":"+IF(Y203=\"\",\"\",MAX(T$1:T202)+1)","v":""},{"$f":"IF(No_CPMS_Limits_Details!B225=\"\",\"\",No_CPMS_Limits_Details!B225)","v":""},{"$f":"IF(No_CPMS_Limits_Details!C225=\"\",\"\",No_CPMS_Limits_Details!C225)","v":""},{"$f":"IF(No_CPMS_Limits_Details!D225=\"\",\"\",No_CPMS_Limits_Details!D225)","v":""},"",{"$f":"IF(COUNTIF(V$2:V203,V203)=1,V203,\"\")","v":""},"","","",null,{"$f":"+IF(AI203=\"\",\"\",MAX(AD$1:AD202)+1)","v":""},{"$f":"IF(Limits_Details_w_CPMS!B225=\"\",\"\",Limits_Details_w_CPMS!B225)","v":""},{"$f":"IF(Limits_Details_w_CPMS!C225=\"\",\"\",Limits_Details_w_CPMS!C225)","v":""},{"$f":"IF(Limits_Details_w_CPMS!D225=\"\",\"\",Limits_Details_w_CPMS!D225)","v":""},"",{"$f":"IF(COUNTIF(AH$2:AH203,AH203)=1,AH203,\"\")","v":""},"","","",null,null,null,{"$f":"+IF(AU203=\"\",\"\",MAX(AP$1:AP202)+1)","v":""},{"$f":"IF(CPMS_Detail!B225=\"\",\"\",CPMS_Detail!B225)","v":""},{"$f":"IF(CPMS_Detail!C225=\"\",\"\",CPMS_Detail!C225)","v":""},{"$f":"IF(CPMS_Detail!D225=\"\",\"\",CPMS_Detail!D225)","v":""},"",{"$f":"IF(COUNTIF(AT$2:AT203,AT203)=1,AT203,\"\")","v":""},"","","",null,{"$f":"+IF(BE203=\"\",\"\",MAX(AZ$1:AZ202)+1)","v":""},{"$f":"IF(Mercury!B225=\"\",\"\",Mercury!B225)","v":""},{"$f":"IF(Mercury!C225=\"\",\"\",Mercury!C225)","v":""},{"$f":"IF(Mercury!D225=\"\",\"\",Mercury!D225)","v":""},"",{"$f":"IF(COUNTIF(BB$2:BB203,BB203)=1,BB203,\"\")","v":""},"","",""]
[{"$f":"+IF(D204=\"\",\"\",MAX(A$1:A203)+1)","v":""},{"$f":"IF(CEM_COM_CPMS_Identification!C226=\"\",\"\",CEM_COM_CPMS_Identification!C226)","v":""},"",{"$f":"IF(COUNTIF(B$2:B204,B204)=1,B204,\"\")","v":""},null,null,null,null,null,null,null,null,null,null,null,null,null,null,null,{"$f":"+IF(Y204=\"\",\"\",MAX(T$1:T203)+1)","v":""},{"$f":"IF(No_CPMS_Limits_Details!B226=\"\",\"\",No_CPMS_Limits_Details!B226)","v":""},{"$f":"IF(No_CPMS_Limits_Details!C226=\"\",\"\",No_CPMS_Limits_Details!C226)","v":""},{"$f":"IF(No_CPMS_Limits_Details!D226=\"\",\"\",No_CPMS_Limits_Details!D226)","v":""},"",{"$f":"IF(COUNTIF(V$2:V204,V204)=1,V204,\"\")","v":""},"","","",null,{"$f":"+IF(AI204=\"\",\"\",MAX(AD$1:AD203)+1)","v":""},{"$f":"IF(Limits_Details_w_CPMS!B226=\"\",\"\",Limits_Details_w_CPMS!B226)","v":""},{"$f":"IF(Limits_Details_w_CPMS!C226=\"\",\"\",Limits_Details_w_CPMS!C226)","v":""},{"$f":"IF(Limits_Details_w_CPMS!D226=\"\",\"\",Limits_Details_w_CPMS!D226)","v":""},"",{"$f":"IF(COUNTIF(AH$2:AH204,AH204)=1,AH204,\"\")","v":""},"","","",null,null,null,{"$f":"+IF(AU204=\"\",\"\",MAX(AP$1:AP203)+1)","v":""},{"$f":"IF(CPMS_Detail!B226=\"\",\"\",CPMS_Detail!B226)","v":""},{"$f":"IF(CPMS_Detail!C226=\"\",\"\",CPMS_Detail!C226)","v":""},{"$f":"IF(CPMS_Detail!D226=\"\",\"\",CPMS_Detail!D226)","v":""},"",{"$f":"IF(COUNTIF(AT$2:AT204,AT204)=1,AT204,\"\")","v":""},"","","",null,{"$f":"+IF(BE204=\"\",\"\",MAX(AZ$1:AZ203)+1)","v":""},{"$f":"IF(Mercury!B226=\"\",\"\",Mercury!B226)","v":""},{"$f":"IF(Mercury!C226=\"\",\"\",Mercury!C226)","v":""},{"$f":"IF(Mercury!D226=\"\",\"\",Mercury!D226)","v":""},"",{"$f":"IF(COUNTIF(BB$2:BB204,BB204)=1,BB204,\"\")","v":""},"","",""]
[{"$f":"+IF(D205=\"\",\"\",MAX(A$1:A204)+1)","v":""},{"$f":"IF(CEM_COM_CPMS_Identification!C227=\"\",\"\",CEM_COM_CPMS_Identification!C227)","v":""},"",{"$f":"IF(COUNTIF(B$2:B205,B205)=1,B205,\"\")","v":""},null,null,null,null,null,null,null,null,null,null,null,null,null,null,null,{"$f":"+IF(Y205=\"\",\"\",MAX(T$1:T204)+1)","v":""},{"$f":"IF(No_CPMS_Limits_Details!B227=\"\",\"\",No_CPMS_Limits_Details!B227)","v":""},{"$f":"IF(No_CPMS_Limits_Details!C227=\"\",\"\",No_CPMS_Limits_Details!C227)","v":""},{"$f":"IF(No_CPMS_Limits_Details!D227=\"\",\"\",No_CPMS_Limits_Details!D227)","v":""},"",{"$f":"IF(COUNTIF(V$2:V205,V205)=1,V205,\"\")","v":""},"","","",null,{"$f":"+IF(AI205=\"\",\"\",MAX(AD$1:AD204)+1)","v":""},{"$f":"IF(Limits_Details_w_CPMS!B227=\"\",\"\",Limits_Details_w_CPMS!B227)","v":""},{"$f":"IF(Limits_Details_w_CPMS!C227=\"\",\"\",Limits_Details_w_CPMS!C227)","v":""},{"$f":"IF(Limits_Details_w_CPMS!D227=\"\",\"\",Limits_Details_w_CPMS!D227)","v":""},"",{"$f":"IF(COUNTIF(AH$2:AH205,AH205)=1,AH205,\"\")","v":""},"","","",null,null,null,{"$f":"+IF(AU205=\"\",\"\",MAX(AP$1:AP204)+1)","v":""},{"$f":"IF(CPMS_Detail!B227=\"\",\"\",CPMS_Detail!B227)","v":""},{"$f":"IF(CPMS_Detail!C227=\"\",\"\",CPMS_Detail!C227)","v":""},{"$f":"IF(CPMS_Detail!D227=\"\",\"\",CPMS_Detail!D227)","v":""},"",{"$f":"IF(COUNTIF(AT$2:AT205,AT205)=1,AT205,\"\")","v":""},"","","",null,{"$f":"+IF(BE205=\"\",\"\",MAX(AZ$1:AZ204)+1)","v":""},{"$f":"IF(Mercury!B227=\"\",\"\",Mercury!B227)","v":""},{"$f":"IF(Mercury!C227=\"\",\"\",Mercury!C227)","v":""},{"$f":"IF(Mercury!D227=\"\",\"\",Mercury!D227)","v":""},"",{"$f":"IF(COUNTIF(BB$2:BB205,BB205)=1,BB205,\"\")","v":""},"","",""]
[{"$f":"+IF(D206=\"\",\"\",MAX(A$1:A205)+1)","v":""},{"$f":"IF(CEM_COM_CPMS_Identification!C228=\"\",\"\",CEM_COM_CPMS_Identification!C228)","v":""},"",{"$f":"IF(COUNTIF(B$2:B206,B206)=1,B206,\"\")","v":""},null,null,null,null,null,null,null,null,null,null,null,null,null,null,null,{"$f":"+IF(Y206=\"\",\"\",MAX(T$1:T205)+1)","v":""},{"$f":"IF(No_CPMS_Limits_Details!B228=\"\",\"\",No_CPMS_Limits_Details!B228)","v":""},{"$f":"IF(No_CPMS_Limits_Details!C228=\"\",\"\",No_CPMS_Limits_Details!C228)","v":""},{"$f":"IF(No_CPMS_Limits_Details!D228=\"\",\"\",No_CPMS_Limits_Details!D228)","v":""},"",{"$f":"IF(COUNTIF(V$2:V206,V206)=1,V206,\"\")","v":""},"","","",null,{"$f":"+IF(AI206=\"\",\"\",MAX(AD$1:AD205)+1)","v":""},{"$f":"IF(Limits_Details_w_CPMS!B228=\"\",\"\",Limits_Details_w_CPMS!B228)","v":""},{"$f":"IF(Limits_Details_w_CPMS!C228=\"\",\"\",Limits_Details_w_CPMS!C228)","v":""},{"$f":"IF(Limits_Details_w_CPMS!D228=\"\",\"\",Limits_Details_w_CPMS!D228)","v":""},"",{"$f":"IF(COUNTIF(AH$2:AH206,AH206)=1,AH206,\"\")","v":""},"","","",null,null,null,{"$f":"+IF(AU206=\"\",\"\",MAX(AP$1:AP205)+1)","v":""},{"$f":"IF(CPMS_Detail!B228=\"\",\"\",CPMS_Detail!B228)","v":""},{"$f":"IF(CPMS_Detail!C228=\"\",\"\",CPMS_Detail!C228)","v":""},{"$f":"IF(CPMS_Detail!D228=\"\",\"\",CPMS_Detail!D228)","v":""},"",{"$f":"IF(COUNTIF(AT$2:AT206,AT206)=1,AT206,\"\")","v":""},"","","",null,{"$f":"+IF(BE206=\"\",\"\",MAX(AZ$1:AZ205)+1)","v":""},{"$f":"IF(Mercury!B228=\"\",\"\",Mercury!B228)","v":""},{"$f":"IF(Mercury!C228=\"\",\"\",Mercury!C228)","v":""},{"$f":"IF(Mercury!D228=\"\",\"\",Mercury!D228)","v":""},"",{"$f":"IF(COUNTIF(BB$2:BB206,BB206)=1,BB206,\"\")","v":""},"","",""]
[{"$f":"+IF(D207=\"\",\"\",MAX(A$1:A206)+1)","v":""},{"$f":"IF(CEM_COM_CPMS_Identification!C229=\"\",\"\",CEM_COM_CPMS_Identification!C229)","v":""},"",{"$f":"IF(COUNTIF(B$2:B207,B207)=1,B207,\"\")","v":""},null,null,null,null,null,null,null,null,null,null,null,null,null,null,null,{"$f":"+IF(Y207=\"\",\"\",MAX(T$1:T206)+1)","v":""},{"$f":"IF(No_CPMS_Limits_Details!B229=\"\",\"\",No_CPMS_Limits_Details!B229)","v":""},{"$f":"IF(No_CPMS_Limits_Details!C229=\"\",\"\",No_CPMS_Limits_Details!C229)","v":""},{"$f":"IF(No_CPMS_Limits_Details!D229=\"\",\"\",No_CPMS_Limits_Details!D229)","v":""},"",{"$f":"IF(COUNTIF(V$2:V207,V207)=1,V207,\"\")","v":""},"","","",null,{"$f":"+IF(AI207=\"\",\"\",MAX(AD$1:AD206)+1)","v":""},{"$f":"IF(Limits_Details_w_CPMS!B229=\"\",\"\",Limits_Details_w_CPMS!B229)","v":""},{"$f":"IF(Limits_Details_w_CPMS!C229=\"\",\"\",Limits_Details_w_CPMS!C229)","v":""},{"$f":"IF(Limits_Details_w_CPMS!D229=\"\",\"\",Limits_Details_w_CPMS!D229)","v":""},"",{"$f":"IF(COUNTIF(AH$2:AH207,AH207)=1,AH207,\"\")","v":""},"","","",null,null,null,{"$f":"+IF(AU207=\"\",\"\",MAX(AP$1:AP206)+1)","v":""},{"$f":"IF(CPMS_Detail!B229=\"\",\"\",CPMS_Detail!B229)","v":""},{"$f":"IF(CPMS_Detail!C229=\"\",\"\",CPMS_Detail!C229)","v":""},{"$f":"IF(CPMS_Detail!D229=\"\",\"\",CPMS_Detail!D229)","v":""},"",{"$f":"IF(COUNTIF(AT$2:AT207,AT207)=1,AT207,\"\")","v":""},"","","",null,{"$f":"+IF(BE207=\"\",\"\",MAX(AZ$1:AZ206)+1)","v":""},{"$f":"IF(Mercury!B229=\"\",\"\",Mercury!B229)","v":""},{"$f":"IF(Mercury!C229=\"\",\"\",Mercury!C229)","v":""},{"$f":"IF(Mercury!D229=\"\",\"\",Mercury!D229)","v":""},"",{"$f":"IF(COUNTIF(BB$2:BB207,BB207)=1,BB207,\"\")","v":""},"","",""]
[{"$f":"+IF(D208=\"\",\"\",MAX(A$1:A207)+1)","v":""},{"$f":"IF(CEM_COM_CPMS_Identification!C230=\"\",\"\",CEM_COM_CPMS_Identification!C230)","v":""},"",{"$f":"IF(COUNTIF(B$2:B208,B208)=1,B208,\"\")","v":""},null,null,null,null,null,null,null,null,null,null,null,null,null,null,null,{"$f":"+IF(Y208=\"\",\"\",MAX(T$1:T207)+1)","v":""},{"$f":"IF(No_CPMS_Limits_Details!B230=\"\",\"\",No_CPMS_Limits_Details!B230)","v":""},{"$f":"IF(No_CPMS_Limits_Details!C230=\"\",\"\",No_CPMS_Limits_Details!C230)","v":""},{"$f":"IF(No_CPMS_Limits_Details!D230=\"\",\"\",No_CPMS_Limits_Details!D230)","v":""},"",{"$f":"IF(COUNTIF(V$2:V208,V208)=1,V208,\"\")","v":""},"","","",null,{"$f":"+IF(AI208=\"\",\"\",MAX(AD$1:AD207)+1)","v":""},{"$f":"IF(Limits_Details_w_CPMS!B230=\"\",\"\",Limits_Details_w_CPMS!B230)","v":""},{"$f":"IF(Limits_Details_w_CPMS!C230=\"\",\"\",Limits_Details_w_CPMS!C230)","v":""},{"$f":"IF(Limits_Details_w_CPMS!D230=\"\",\"\",Limits_Details_w_CPMS!D230)","v":""},"",{"$f":"IF(COUNTIF(AH$2:AH208,AH208)=1,AH208,\"\")","v":""},"","","",null,null,null,{"$f":"+IF(AU208=\"\",\"\",MAX(AP$1:AP207)+1)","v":""},{"$f":"IF(CPMS_Detail!B230=\"\",\"\",CPMS_Detail!B230)","v":""},{"$f":"IF(CPMS_Detail!C230=\"\",\"\",CPMS_Detail!C230)","v":""},{"$f":"IF(CPMS_Detail!D230=\"\",\"\",CPMS_Detail!D230)","v":""},"",{"$f":"IF(COUNTIF(AT$2:AT208,AT208)=1,AT208,\"\")","v":""},"","","",null,{"$f":"+IF(BE208=\"\",\"\",MAX(AZ$1:AZ207)+1)","v":""},{"$f":"IF(Mercury!B230=\"\",\"\",Mercury!B230)","v":""},{"$f":"IF(Mercury!C230=\"\",\"\",Mercury!C230)","v":""},{"$f":"IF(Mercury!D230=\"\",\"\",Mercury!D230)","v":""},"",{"$f":"IF(COUNTIF(BB$2:BB208,BB208)=1,BB208,\"\")","v":""},"","",""]
[{"$f":"+IF(D209=\"\",\"\",MAX(A$1:A208)+1)","v":""},{"$f":"IF(CEM_COM_CPMS_Identification!C231=\"\",\"\",CEM_COM_CPMS_Identification!C231)","v":""},"",{"$f":"IF(COUNTIF(B$2:B209,B209)=1,B209,\"\")","v":""},null,null,null,null,null,null,null,null,null,null,null,null,null,null,null,{"$f":"+IF(Y209=\"\",\"\",MAX(T$1:T208)+1)","v":""},{"$f":"IF(No_CPMS_Limits_Details!B231=\"\",\"\",No_CPMS_Limits_Details!B231)","v":""},{"$f":"IF(No_CPMS_Limits_Details!C231=\"\",\"\",No_CPMS_Limits_Details!C231)","v":""},{"$f":"IF(No_CPMS_Limits_Details!D231=\"\",\"\",No_CPMS_Limits_Details!D231)","v":""},"",{"$f":"IF(COUNTIF(V$2:V209,V209)=1,V209,\"\")","v":""},"","","",null,{"$f":"+IF(AI209=\"\",\"\",MAX(AD$1:AD208)+1)","v":""},{"$f":"IF(Limits_Details_w_CPMS!B231=\"\",\"\",Limits_Details_w_CPMS!B231)","v":""},{"$f":"IF(Limits_Details_w_CPMS!C231=\"\",\"\",Limits_Details_w_CPMS!C231)","v":""},{"$f":"IF(Limits_Details_w_CPMS!D231=\"\",\"\",Limits_Details_w_CPMS!D231)","v":""},"",{"$f":"IF(COUNTIF(AH$2:AH209,AH209)=1,AH209,\"\")","v":""},"","","",null,null,null,{"$f":"+IF(AU209=\"\",\"\",MAX(AP$1:AP208)+1)","v":""},{"$f":"IF(CPMS_Detail!B231=\"\",\"\",CPMS_Detail!B231)","v":""},{"$f":"IF(CPMS_Detail!C231=\"\",\"\",CPMS_Detail!C231)","v":""},{"$f":"IF(CPMS_Detail!D231=\"\",\"\",CPMS_Detail!D231)","v":""},"",{"$f":"IF(COUNTIF(AT$2:AT209,AT209)=1,AT209,\"\")","v":""},"","","",null,{"$f":"+IF(BE209=\"\",\"\",MAX(AZ$1:AZ208)+1)","v":""},{"$f":"IF(Mercury!B231=\"\",\"\",Mercury!B231)","v":""},{"$f":"IF(Mercury!C231=\"\",\"\",Mercury!C231)","v":""},{"$f":"IF(Mercury!D231=\"\",\"\",Mercury!D231)","v":""},"",{"$f":"IF(COUNTIF(BB$2:BB209,BB209)=1,BB209,\"\")","v":""},"","",""]
[{"$f":"+IF(D210=\"\",\"\",MAX(A$1:A209)+1)","v":""},{"$f":"IF(CEM_COM_CPMS_Identification!C232=\"\",\"\",CEM_COM_CPMS_Identification!C232)","v":""},"",{"$f":"IF(COUNTIF(B$2:B210,B210)=1,B210,\"\")","v":""},null,null,null,null,null,null,null,null,null,null,null,null,null,null,null,{"$f":"+IF(Y210=\"\",\"\",MAX(T$1:T209)+1)","v":""},{"$f":"IF(No_CPMS_Limits_Details!B232=\"\",\"\",No_CPMS_Limits_Details!B232)","v":""},{"$f":"IF(No_CPMS_Limits_Details!C232=\"\",\"\",No_CPMS_Limits_Details!C232)","v":""},{"$f":"IF(No_CPMS_Limits_Details!D232=\"\",\"\",No_CPMS_Limits_Details!D232)","v":""},"",{"$f":"IF(COUNTIF(V$2:V210,V210)=1,V210,\"\")","v":""},"","","",null,{"$f":"+IF(AI210=\"\",\"\",MAX(AD$1:AD209)+1)","v":""},{"$f":"IF(Limits_Details_w_CPMS!B232=\"\",\"\",Limits_Details_w_CPMS!B232)","v":""},{"$f":"IF(Limits_Details_w_CPMS!C232=\"\",\"\",Limits_Details_w_CPMS!C232)","v":""},{"$f":"IF(Limits_Details_w_CPMS!D232=\"\",\"\",Limits_Details_w_CPMS!D232)","v":""},"",{"$f":"IF(COUNTIF(AH$2:AH210,AH210)=1,AH210,\"\")","v":""},"","","",null,null,null,{"$f":"+IF(AU210=\"\",\"\",MAX(AP$1:AP209)+1)","v":""},{"$f":"IF(CPMS_Detail!B232=\"\",\"\",CPMS_Detail!B232)","v":""},{"$f":"IF(CPMS_Detail!C232=\"\",\"\",CPMS_Detail!C232)","v":""},{"$f":"IF(CPMS_Detail!D232=\"\",\"\",CPMS_Detail!D232)","v":""},"",{"$f":"IF(COUNTIF(AT$2:AT210,AT210)=1,AT210,\"\")","v":""},"","","",null,{"$f":"+IF(BE210=\"\",\"\",MAX(AZ$1:AZ209)+1)","v":""},{"$f":"IF(Mercury!B232=\"\",\"\",Mercury!B232)","v":""},{"$f":"IF(Mercury!C232=\"\",\"\",Mercury!C232)","v":""},{"$f":"IF(Mercury!D232=\"\",\"\",Mercury!D232)","v":""},"",{"$f":"IF(COUNTIF(BB$2:BB210,BB210)=1,BB210,\"\")","v":""},"","",""]
[{"$f":"+IF(D211=\"\",\"\",MAX(A$1:A210)+1)","v":""},{"$f":"IF(CEM_COM_CPMS_Identification!C233=\"\",\"\",CEM_COM_CPMS_Identification!C233)","v":""},"",{"$f":"IF(COUNTIF(B$2:B211,B211)=1,B211,\"\")","v":""},null,null,null,null,null,null,null,null,null,null,null,null,null,null,null,{"$f":"+IF(Y211=\"\",\"\",MAX(T$1:T210)+1)","v":""},{"$f":"IF(No_CPMS_Limits_Details!B233=\"\",\"\",No_CPMS_Limits_Details!B233)","v":""},{"$f":"IF(No_CPMS_Limits_Details!C233=\"\",\"\",No_CPMS_Limits_Details!C233)","v":""},{"$f":"IF(No_CPMS_Limits_Details!D233=\"\",\"\",No_CPMS_Limits_Details!D233)","v":""},"",{"$f":"IF(COUNTIF(V$2:V211,V211)=1,V211,\"\")","v":""},"","","",null,{"$f":"+IF(AI211=\"\",\"\",MAX(AD$1:AD210)+1)","v":""},{"$f":"IF(Limits_Details_w_CPMS!B233=\"\",\"\",Limits_Details_w_CPMS!B233)","v":""},{"$f":"IF(Limits_Details_w_CPMS!C233=\"\",\"\",Limits_Details_w_CPMS!C233)","v":""},{"$f":"IF(Limits_Details_w_CPMS!D233=\"\",\"\",Limits_Details_w_CPMS!D233)","v":""},"",{"$f":"IF(COUNTIF(AH$2:AH211,AH211)=1,AH211,\"\")","v":""},"","","",null,null,null,{"$f":"+IF(AU211=\"\",\"\",MAX(AP$1:AP210)+1)","v":""},{"$f":"IF(CPMS_Detail!B233=\"\",\"\",CPMS_Detail!B233)","v":""},{"$f":"IF(CPMS_Detail!C233=\"\",\"\",CPMS_Detail!C233)","v":""},{"$f":"IF(CPMS_Detail!D233=\"\",\"\",CPMS_Detail!D233)","v":""},"",{"$f":"IF(COUNTIF(AT$2:AT211,AT211)=1,AT211,\"\")","v":""},"","","",null,{"$f":"+IF(BE211=\"\",\"\",MAX(AZ$1:AZ210)+1)","v":""},{"$f":"IF(Mercury!B233=\"\",\"\",Mercury!B233)","v":""},{"$f":"IF(Mercury!C233=\"\",\"\",Mercury!C233)","v":""},{"$f":"IF(Mercury!D233=\"\",\"\",Mercury!D233)","v":""},"",{"$f":"IF(COUNTIF(BB$2:BB211,BB211)=1,BB211,\"\")","v":""},"","",""]
[{"$f":"+IF(D212=\"\",\"\",MAX(A$1:A211)+1)","v":""},{"$f":"IF(CEM_COM_CPMS_Identification!C234=\"\",\"\",CEM_COM_CPMS_Identification!C234)","v":""},"",{"$f":"IF(COUNTIF(B$2:B212,B212)=1,B212,\"\")","v":""},null,null,null,null,null,null,null,null,null,null,null,null,null,null,null,{"$f":"+IF(Y212=\"\",\"\",MAX(T$1:T211)+1)","v":""},{"$f":"IF(No_CPMS_Limits_Details!B234=\"\",\"\",No_CPMS_Limits_Details!B234)","v":""},{"$f":"IF(No_CPMS_Limits_Details!C234=\"\",\"\",No_CPMS_Limits_Details!C234)","v":""},{"$f":"IF(No_CPMS_Limits_Details!D234=\"\",\"\",No_CPMS_Limits_Details!D234)","v":""},"",{"$f":"IF(COUNTIF(V$2:V212,V212)=1,V212,\"\")","v":""},"","","",null,{"$f":"+IF(AI212=\"\",\"\",MAX(AD$1:AD211)+1)","v":""},{"$f":"IF(Limits_Details_w_CPMS!B234=\"\",\"\",Limits_Details_w_CPMS!B234)","v":""},{"$f":"IF(Limits_Details_w_CPMS!C234=\"\",\"\",Limits_Details_w_CPMS!C234)","v":""},{"$f":"IF(Limits_Details_w_CPMS!D234=\"\",\"\",Limits_Details_w_CPMS!D234)","v":""},"",{"$f":"IF(COUNTIF(AH$2:AH212,AH212)=1,AH212,\"\")","v":""},"","","",null,null,null,{"$f":"+IF(AU212=\"\",\"\",MAX(AP$1:AP211)+1)","v":""},{"$f":"IF(CPMS_Detail!B234=\"\",\"\",CPMS_Detail!B234)","v":""},{"$f":"IF(CPMS_Detail!C234=\"\",\"\",CPMS_Detail!C234)","v":""},{"$f":"IF(CPMS_Detail!D234=\"\",\"\",CPMS_Detail!D234)","v":""},"",{"$f":"IF(COUNTIF(AT$2:AT212,AT212)=1,AT212,\"\")","v":""},"","","",null,{"$f":"+IF(BE212=\"\",\"\",MAX(AZ$1:AZ211)+1)","v":""},{"$f":"IF(Mercury!B234=\"\",\"\",Mercury!B234)","v":""},{"$f":"IF(Mercury!C234=\"\",\"\",Mercury!C234)","v":""},{"$f":"IF(Mercury!D234=\"\",\"\",Mercury!D234)","v":""},"",{"$f":"IF(COUNTIF(BB$2:BB212,BB212)=1,BB212,\"\")","v":""},"","",""]
[{"$f":"+IF(D213=\"\",\"\",MAX(A$1:A212)+1)","v":""},{"$f":"IF(CEM_COM_CPMS_Identification!C235=\"\",\"\",CEM_COM_CPMS_Identification!C235)","v":""},"",{"$f":"IF(COUNTIF(B$2:B213,B213)=1,B213,\"\")","v":""},null,null,null,null,null,null,null,null,null,null,null,null,null,null,null,{"$f":"+IF(Y213=\"\",\"\",MAX(T$1:T212)+1)","v":""},{"$f":"IF(No_CPMS_Limits_Details!B235=\"\",\"\",No_CPMS_Limits_Details!B235)","v":""},{"$f":"IF(No_CPMS_Limits_Details!C235=\"\",\"\",No_CPMS_Limits_Details!C235)","v":""},{"$f":"IF(No_CPMS_Limits_Details!D235=\"\",\"\",No_CPMS_Limits_Details!D235)","v":""},"",{"$f":"IF(COUNTIF(V$2:V213,V213)=1,V213,\"\")","v":""},"","","",null,{"$f":"+IF(AI213=\"\",\"\",MAX(AD$1:AD212)+1)","v":""},{"$f":"IF(Limits_Details_w_CPMS!B235=\"\",\"\",Limits_Details_w_CPMS!B235)","v":""},{"$f":"IF(Limits_Details_w_CPMS!C235=\"\",\"\",Limits_Details_w_CPMS!C235)","v":""},{"$f":"IF(Limits_Details_w_CPMS!D235=\"\",\"\",Limits_Details_w_CPMS!D235)","v":""},"",{"$f":"IF(COUNTIF(AH$2:AH213,AH213)=1,AH213,\"\")","v":""},"","","",null,null,null,{"$f":"+IF(AU213=\"\",\"\",MAX(AP$1:AP212)+1)","v":""},{"$f":"IF(CPMS_Detail!B235=\"\",\"\",CPMS_Detail!B235)","v":""},{"$f":"IF(CPMS_Detail!C235=\"\",\"\",CPMS_Detail!C235)","v":""},{"$f":"IF(CPMS_Detail!D235=\"\",\"\",CPMS_Detail!D235)","v":""},"",{"$f":"IF(COUNTIF(AT$2:AT213,AT213)=1,AT213,\"\")","v":""},"","","",null,{"$f":"+IF(BE213=\"\",\"\",MAX(AZ$1:AZ212)+1)","v":""},{"$f":"IF(Mercury!B235=\"\",\"\",Mercury!B235)","v":""},{"$f":"IF(Mercury!C235=\"\",\"\",Mercury!C235)","v":""},{"$f":"IF(Mercury!D235=\"\",\"\",Mercury!D235)","v":""},"",{"$f":"IF(COUNTIF(BB$2:BB213,BB213)=1,BB213,\"\")","v":""},"","",""]
[{"$f":"+IF(D214=\"\",\"\",MAX(A$1:A213)+1)","v":""},{"$f":"IF(CEM_COM_CPMS_Identification!C236=\"\",\"\",CEM_COM_CPMS_Identification!C236)","v":""},"",{"$f":"IF(COUNTIF(B$2:B214,B214)=1,B214,\"\")","v":""},null,null,null,null,null,null,null,null,null,null,null,null,null,null,null,{"$f":"+IF(Y214=\"\",\"\",MAX(T$1:T213)+1)","v":""},{"$f":"IF(No_CPMS_Limits_Details!B236=\"\",\"\",No_CPMS_Limits_Details!B236)","v":""},{"$f":"IF(No_CPMS_Limits_Details!C236=\"\",\"\",No_CPMS_Limits_Details!C236)","v":""},{"$f":"IF(No_CPMS_Limits_Details!D236=\"\",\"\",No_CPMS_Limits_Details!D236)","v":""},"",{"$f":"IF(COUNTIF(V$2:V214,V214)=1,V214,\"\")","v":""},"","","",null,{"$f":"+IF(AI214=\"\",\"\",MAX(AD$1:AD213)+1)","v":""},{"$f":"IF(Limits_Details_w_CPMS!B236=\"\",\"\",Limits_Details_w_CPMS!B236)","v":""},{"$f":"IF(Limits_Details_w_CPMS!C236=\"\",\"\",Limits_Details_w_CPMS!C236)","v":""},{"$f":"IF(Limits_Details_w_CPMS!D236=\"\",\"\",Limits_Details_w_CPMS!D236)","v":""},"",{"$f":"IF(COUNTIF(AH$2:AH214,AH214)=1,AH214,\"\")","v":""},"","","",null,null,null,{"$f":"+IF(AU214=\"\",\"\",MAX(AP$1:AP213)+1)","v":""},{"$f":"IF(CPMS_Detail!B236=\"\",\"\",CPMS_Detail!B236)","v":""},{"$f":"IF(CPMS_Detail!C236=\"\",\"\",CPMS_Detail!C236)","v":""},{"$f":"IF(CPMS_Detail!D236=\"\",\"\",CPMS_Detail!D236)","v":""},"",{"$f":"IF(COUNTIF(AT$2:AT214,AT214)=1,AT214,\"\")","v":""},"","","",null,{"$f":"+IF(BE214=\"\",\"\",MAX(AZ$1:AZ213)+1)","v":""},{"$f":"IF(Mercury!B236=\"\",\"\",Mercury!B236)","v":""},{"$f":"IF(Mercury!C236=\"\",\"\",Mercury!C236)","v":""},{"$f":"IF(Mercury!D236=\"\",\"\",Mercury!D236)","v":""},"",{"$f":"IF(COUNTIF(BB$2:BB214,BB214)=1,BB214,\"\")","v":""},"","",""]
[{"$f":"+IF(D215=\"\",\"\",MAX(A$1:A214)+1)","v":""},{"$f":"IF(CEM_COM_CPMS_Identification!C237=\"\",\"\",CEM_COM_CPMS_Identification!C237)","v":""},"",{"$f":"IF(COUNTIF(B$2:B215,B215)=1,B215,\"\")","v":""},null,null,null,null,null,null,null,null,null,null,null,null,null,null,null,{"$f":"+IF(Y215=\"\",\"\",MAX(T$1:T214)+1)","v":""},{"$f":"IF(No_CPMS_Limits_Details!B237=\"\",\"\",No_CPMS_Limits_Details!B237)","v":""},{"$f":"IF(No_CPMS_Limits_Details!C237=\"\",\"\",No_CPMS_Limits_Details!C237)","v":""},{"$f":"IF(No_CPMS_Limits_Details!D237=\"\",\"\",No_CPMS_Limits_Details!D237)","v":""},"",{"$f":"IF(COUNTIF(V$2:V215,V215)=1,V215,\"\")","v":""},"","","",null,{"$f":"+IF(AI215=\"\",\"\",MAX(AD$1:AD214)+1)","v":""},{"$f":"IF(Limits_Details_w_CPMS!B237=\"\",\"\",Limits_Details_w_CPMS!B237)","v":""},{"$f":"IF(Limits_Details_w_CPMS!C237=\"\",\"\",Limits_Details_w_CPMS!C237)","v":""},{"$f":"IF(Limits_Details_w_CPMS!D237=\"\",\"\",Limits_Details_w_CPMS!D237)","v":""},"",{"$f":"IF(COUNTIF(AH$2:AH215,AH215)=1,AH215,\"\")","v":""},"","","",null,null,null,{"$f":"+IF(AU215=\"\",\"\",MAX(AP$1:AP214)+1)","v":""},{"$f":"IF(CPMS_Detail!B237=\"\",\"\",CPMS_Detail!B237)","v":""},{"$f":"IF(CPMS_Detail!C237=\"\",\"\",CPMS_Detail!C237)","v":""},{"$f":"IF(CPMS_Detail!D237=\"\",\"\",CPMS_Detail!D237)","v":""},"",{"$f":"IF(COUNTIF(AT$2:AT215,AT215)=1,AT215,\"\")","v":""},"","","",null,{"$f":"+IF(BE215=\"\",\"\",MAX(AZ$1:AZ214)+1)","v":""},{"$f":"IF(Mercury!B237=\"\",\"\",Mercury!B237)","v":""},{"$f":"IF(Mercury!C237=\"\",\"\",Mercury!C237)","v":""},{"$f":"IF(Mercury!D237=\"\",\"\",Mercury!D237)","v":""},"",{"$f":"IF(COUNTIF(BB$2:BB215,BB215)=1,BB215,\"\")","v":""},"","",""]
[{"$f":"+IF(D216=\"\",\"\",MAX(A$1:A215)+1)","v":""},{"$f":"IF(CEM_COM_CPMS_Identification!C238=\"\",\"\",CEM_COM_CPMS_Identification!C238)","v":""},"",{"$f":"IF(COUNTIF(B$2:B216,B216)=1,B216,\"\")","v":""},null,null,null,null,null,null,null,null,null,null,null,null,null,null,null,{"$f":"+IF(Y216=\"\",\"\",MAX(T$1:T215)+1)","v":""},{"$f":"IF(No_CPMS_Limits_Details!B238=\"\",\"\",No_CPMS_Limits_Details!B238)","v":""},{"$f":"IF(No_CPMS_Limits_Details!C238=\"\",\"\",No_CPMS_Limits_Details!C238)","v":""},{"$f":"IF(No_CPMS_Limits_Details!D238=\"\",\"\",No_CPMS_Limits_Details!D238)","v":""},"",{"$f":"IF(COUNTIF(V$2:V216,V216)=1,V216,\"\")","v":""},"","","",null,{"$f":"+IF(AI216=\"\",\"\",MAX(AD$1:AD215)+1)","v":""},{"$f":"IF(Limits_Details_w_CPMS!B238=\"\",\"\",Limits_Details_w_CPMS!B238)","v":""},{"$f":"IF(Limits_Details_w_CPMS!C238=\"\",\"\",Limits_Details_w_CPMS!C238)","v":""},{"$f":"IF(Limits_Details_w_CPMS!D238=\"\",\"\",Limits_Details_w_CPMS!D238)","v":""},"",{"$f":"IF(COUNTIF(AH$2:AH216,AH216)=1,AH216,\"\")","v":""},"","","",null,null,null,{"$f":"+IF(AU216=\"\",\"\",MAX(AP$1:AP215)+1)","v":""},{"$f":"IF(CPMS_Detail!B238=\"\",\"\",CPMS_Detail!B238)","v":""},{"$f":"IF(CPMS_Detail!C238=\"\",\"\",CPMS_Detail!C238)","v":""},{"$f":"IF(CPMS_Detail!D238=\"\",\"\",CPMS_Detail!D238)","v":""},"",{"$f":"IF(COUNTIF(AT$2:AT216,AT216)=1,AT216,\"\")","v":""},"","","",null,{"$f":"+IF(BE216=\"\",\"\",MAX(AZ$1:AZ215)+1)","v":""},{"$f":"IF(Mercury!B238=\"\",\"\",Mercury!B238)","v":""},{"$f":"IF(Mercury!C238=\"\",\"\",Mercury!C238)","v":""},{"$f":"IF(Mercury!D238=\"\",\"\",Mercury!D238)","v":""},"",{"$f":"IF(COUNTIF(BB$2:BB216,BB216)=1,BB216,\"\")","v":""},"","",""]
[{"$f":"+IF(D217=\"\",\"\",MAX(A$1:A216)+1)","v":""},{"$f":"IF(CEM_COM_CPMS_Identification!C239=\"\",\"\",CEM_COM_CPMS_Identification!C239)","v":""},"",{"$f":"IF(COUNTIF(B$2:B217,B217)=1,B217,\"\")","v":""},null,null,null,null,null,null,null,null,null,null,null,null,null,null,null,{"$f":"+IF(Y217=\"\",\"\",MAX(T$1:T216)+1)","v":""},{"$f":"IF(No_CPMS_Limits_Details!B239=\"\",\"\",No_CPMS_Limits_Details!B239)","v":""},{"$f":"IF(No_CPMS_Limits_Details!C239=\"\",\"\",No_CPMS_Limits_Details!C239)","v":""},{"$f":"IF(No_CPMS_Limits_Details!D239=\"\",\"\",No_CPMS_Limits_Details!D239)","v":""},"",{"$f":"IF(COUNTIF(V$2:V217,V217)=1,V217,\"\")","v":""},"","","",null,{"$f":"+IF(AI217=\"\",\"\",MAX(AD$1:AD216)+1)","v":""},{"$f":"IF(Limits_Details_w_CPMS!B239=\"\",\"\",Limits_Details_w_CPMS!B239)","v":""},{"$f":"IF(Limits_Details_w_CPMS!C239=\"\",\"\",Limits_Details_w_CPMS!C239)","v":""},{"$f":"IF(Limits_Details_w_CPMS!D239=\"\",\"\",Limits_Details_w_CPMS!D239)","v":""},"",{"$f":"IF(COUNTIF(AH$2:AH217,AH217)=1,AH217,\"\")","v":""},"","","",null,null,null,{"$f":"+IF(AU217=\"\",\"\",MAX(AP$1:AP216)+1)","v":""},{"$f":"IF(CPMS_Detail!B239=\"\",\"\",CPMS_Detail!B239)","v":""},{"$f":"IF(CPMS_Detail!C239=\"\",\"\",CPMS_Detail!C239)","v":""},{"$f":"IF(CPMS_Detail!D239=\"\",\"\",CPMS_Detail!D239)","v":""},"",{"$f":"IF(COUNTIF(AT$2:AT217,AT217)=1,AT217,\"\")","v":""},"","","",null,{"$f":"+IF(BE217=\"\",\"\",MAX(AZ$1:AZ216)+1)","v":""},{"$f":"IF(Mercury!B239=\"\",\"\",Mercury!B239)","v":""},{"$f":"IF(Mercury!C239=\"\",\"\",Mercury!C239)","v":""},{"$f":"IF(Mercury!D239=\"\",\"\",Mercury!D239)","v":""},"",{"$f":"IF(COUNTIF(BB$2:BB217,BB217)=1,BB217,\"\")","v":""},"","",""]
[{"$f":"+IF(D218=\"\",\"\",MAX(A$1:A217)+1)","v":""},{"$f":"IF(CEM_COM_CPMS_Identification!C240=\"\",\"\",CEM_COM_CPMS_Identification!C240)","v":""},"",{"$f":"IF(COUNTIF(B$2:B218,B218)=1,B218,\"\")","v":""},null,null,null,null,null,null,null,null,null,null,null,null,null,null,null,{"$f":"+IF(Y218=\"\",\"\",MAX(T$1:T217)+1)","v":""},{"$f":"IF(No_CPMS_Limits_Details!B240=\"\",\"\",No_CPMS_Limits_Details!B240)","v":""},{"$f":"IF(No_CPMS_Limits_Details!C240=\"\",\"\",No_CPMS_Limits_Details!C240)","v":""},{"$f":"IF(No_CPMS_Limits_Details!D240=\"\",\"\",No_CPMS_Limits_Details!D240)","v":""},"",{"$f":"IF(COUNTIF(V$2:V218,V218)=1,V218,\"\")","v":""},"","","",null,{"$f":"+IF(AI218=\"\",\"\",MAX(AD$1:AD217)+1)","v":""},{"$f":"IF(Limits_Details_w_CPMS!B240=\"\",\"\",Limits_Details_w_CPMS!B240)","v":""},{"$f":"IF(Limits_Details_w_CPMS!C240=\"\",\"\",Limits_Details_w_CPMS!C240)","v":""},{"$f":"IF(Limits_Details_w_CPMS!D240=\"\",\"\",Limits_Details_w_CPMS!D240)","v":""},"",{"$f":"IF(COUNTIF(AH$2:AH218,AH218)=1,AH218,\"\")","v":""},"","","",null,null,null,{"$f":"+IF(AU218=\"\",\"\",MAX(AP$1:AP217)+1)","v":""},{"$f":"IF(CPMS_Detail!B240=\"\",\"\",CPMS_Detail!B240)","v":""},{"$f":"IF(CPMS_Detail!C240=\"\",\"\",CPMS_Detail!C240)","v":""},{"$f":"IF(CPMS_Detail!D240=\"\",\"\",CPMS_Detail!D240)","v":""},"",{"$f":"IF(COUNTIF(AT$2:AT218,AT218)=1,AT218,\"\")","v":""},"","","",null,{"$f":"+IF(BE218=\"\",\"\",MAX(AZ$1:AZ217)+1)","v":""},{"$f":"IF(Mercury!B240=\"\",\"\",Mercury!B240)","v":""},{"$f":"IF(Mercury!C240=\"\",\"\",Mercury!C240)","v":""},{"$f":"IF(Mercury!D240=\"\",\"\",Mercury!D240)","v":""},"",{"$f":"IF(COUNTIF(BB$2:BB218,BB218)=1,BB218,\"\")","v":""},"","",""]
[{"$f":"+IF(D219=\"\",\"\",MAX(A$1:A218)+1)","v":""},{"$f":"IF(CEM_COM_CPMS_Identification!C241=\"\",\"\",CEM_COM_CPMS_Identification!C241)","v":""},"",{"$f":"IF(COUNTIF(B$2:B219,B219)=1,B219,\"\")","v":""},null,null,null,null,null,null,null,null,null,null,null,null,null,null,null,{"$f":"+IF(Y219=\"\",\"\",MAX(T$1:T218)+1)","v":""},{"$f":"IF(No_CPMS_Limits_Details!B241=\"\",\"\",No_CPMS_Limits_Details!B241)","v":""},{"$f":"IF(No_CPMS_Limits_Details!C241=\"\",\"\",No_CPMS_Limits_Details!C241)","v":""},{"$f":"IF(No_CPMS_Limits_Details!D241=\"\",\"\",No_CPMS_Limits_Details!D241)","v":""},"",{"$f":"IF(COUNTIF(V$2:V219,V219)=1,V219,\"\")","v":""},"","","",null,{"$f":"+IF(AI219=\"\",\"\",MAX(AD$1:AD218)+1)","v":""},{"$f":"IF(Limits_Details_w_CPMS!B241=\"\",\"\",Limits_Details_w_CPMS!B241)","v":""},{"$f":"IF(Limits_Details_w_CPMS!C241=\"\",\"\",Limits_Details_w_CPMS!C241)","v":""},{"$f":"IF(Limits_Details_w_CPMS!D241=\"\",\"\",Limits_Details_w_CPMS!D241)","v":""},"",{"$f":"IF(COUNTIF(AH$2:AH219,AH219)=1,AH219,\"\")","v":""},"","","",null,null,null,{"$f":"+IF(AU219=\"\",\"\",MAX(AP$1:AP218)+1)","v":""},{"$f":"IF(CPMS_Detail!B241=\"\",\"\",CPMS_Detail!B241)","v":""},{"$f":"IF(CPMS_Detail!C241=\"\",\"\",CPMS_Detail!C241)","v":""},{"$f":"IF(CPMS_Detail!D241=\"\",\"\",CPMS_Detail!D241)","v":""},"",{"$f":"IF(COUNTIF(AT$2:AT219,AT219)=1,AT219,\"\")","v":""},"","","",null,{"$f":"+IF(BE219=\"\",\"\",MAX(AZ$1:AZ218)+1)","v":""},{"$f":"IF(Mercury!B241=\"\",\"\",Mercury!B241)","v":""},{"$f":"IF(Mercury!C241=\"\",\"\",Mercury!C241)","v":""},{"$f":"IF(Mercury!D241=\"\",\"\",Mercury!D241)","v":""},"",{"$f":"IF(COUNTIF(BB$2:BB219,BB219)=1,BB219,\"\")","v":""},"","",""]
[{"$f":"+IF(D220=\"\",\"\",MAX(A$1:A219)+1)","v":""},{"$f":"IF(CEM_COM_CPMS_Identification!C242=\"\",\"\",CEM_COM_CPMS_Identification!C242)","v":""},"",{"$f":"IF(COUNTIF(B$2:B220,B220)=1,B220,\"\")","v":""},null,null,null,null,null,null,null,null,null,null,null,null,null,null,null,{"$f":"+IF(Y220=\"\",\"\",MAX(T$1:T219)+1)","v":""},{"$f":"IF(No_CPMS_Limits_Details!B242=\"\",\"\",No_CPMS_Limits_Details!B242)","v":""},{"$f":"IF(No_CPMS_Limits_Details!C242=\"\",\"\",No_CPMS_Limits_Details!C242)","v":""},{"$f":"IF(No_CPMS_Limits_Details!D242=\"\",\"\",No_CPMS_Limits_Details!D242)","v":""},"",{"$f":"IF(COUNTIF(V$2:V220,V220)=1,V220,\"\")","v":""},"","","",null,{"$f":"+IF(AI220=\"\",\"\",MAX(AD$1:AD219)+1)","v":""},{"$f":"IF(Limits_Details_w_CPMS!B242=\"\",\"\",Limits_Details_w_CPMS!B242)","v":""},{"$f":"IF(Limits_Details_w_CPMS!C242=\"\",\"\",Limits_Details_w_CPMS!C242)","v":""},{"$f":"IF(Limits_Details_w_CPMS!D242=\"\",\"\",Limits_Details_w_CPMS!D242)","v":""},"",{"$f":"IF(COUNTIF(AH$2:AH220,AH220)=1,AH220,\"\")","v":""},"","","",null,null,null,{"$f":"+IF(AU220=\"\",\"\",MAX(AP$1:AP219)+1)","v":""},{"$f":"IF(CPMS_Detail!B242=\"\",\"\",CPMS_Detail!B242)","v":""},{"$f":"IF(CPMS_Detail!C242=\"\",\"\",CPMS_Detail!C242)","v":""},{"$f":"IF(CPMS_Detail!D242=\"\",\"\",CPMS_Detail!D242)","v":""},"",{"$f":"IF(COUNTIF(AT$2:AT220,AT220)=1,AT220,\"\")","v":""},"","","",null,{"$f":"+IF(BE220=\"\",\"\",MAX(AZ$1:AZ219)+1)","v":""},{"$f":"IF(Mercury!B242=\"\",\"\",Mercury!B242)","v":""},{"$f":"IF(Mercury!C242=\"\",\"\",Mercury!C242)","v":""},{"$f":"IF(Mercury!D242=\"\",\"\",Mercury!D242)","v":""},"",{"$f":"IF(COUNTIF(BB$2:BB220,BB220)=1,BB220,\"\")","v":""},"","",""]
[{"$f":"+IF(D221=\"\",\"\",MAX(A$1:A220)+1)","v":""},{"$f":"IF(CEM_COM_CPMS_Identification!C243=\"\",\"\",CEM_COM_CPMS_Identification!C243)","v":""},"",{"$f":"IF(COUNTIF(B$2:B221,B221)=1,B221,\"\")","v":""},null,null,null,null,null,null,null,null,null,null,null,null,null,null,null,{"$f":"+IF(Y221=\"\",\"\",MAX(T$1:T220)+1)","v":""},{"$f":"IF(No_CPMS_Limits_Details!B243=\"\",\"\",No_CPMS_Limits_Details!B243)","v":""},{"$f":"IF(No_CPMS_Limits_Details!C243=\"\",\"\",No_CPMS_Limits_Details!C243)","v":""},{"$f":"IF(No_CPMS_Limits_Details!D243=\"\",\"\",No_CPMS_Limits_Details!D243)","v":""},"",{"$f":"IF(COUNTIF(V$2:V221,V221)=1,V221,\"\")","v":""},"","","",null,{"$f":"+IF(AI221=\"\",\"\",MAX(AD$1:AD220)+1)","v":""},{"$f":"IF(Limits_Details_w_CPMS!B243=\"\",\"\",Limits_Details_w_CPMS!B243)","v":""},{"$f":"IF(Limits_Details_w_CPMS!C243=\"\",\"\",Limits_Details_w_CPMS!C243)","v":""},{"$f":"IF(Limits_Details_w_CPMS!D243=\"\",\"\",Limits_Details_w_CPMS!D243)","v":""},"",{"$f":"IF(COUNTIF(AH$2:AH221,AH221)=1,AH221,\"\")","v":""},"","","",null,null,null,{"$f":"+IF(AU221=\"\",\"\",MAX(AP$1:AP220)+1)","v":""},{"$f":"IF(CPMS_Detail!B243=\"\",\"\",CPMS_Detail!B243)","v":""},{"$f":"IF(CPMS_Detail!C243=\"\",\"\",CPMS_Detail!C243)","v":""},{"$f":"IF(CPMS_Detail!D243=\"\",\"\",CPMS_Detail!D243)","v":""},"",{"$f":"IF(COUNTIF(AT$2:AT221,AT221)=1,AT221,\"\")","v":""},"","","",null,{"$f":"+IF(BE221=\"\",\"\",MAX(AZ$1:AZ220)+1)","v":""},{"$f":"IF(Mercury!B243=\"\",\"\",Mercury!B243)","v":""},{"$f":"IF(Mercury!C243=\"\",\"\",Mercury!C243)","v":""},{"$f":"IF(Mercury!D243=\"\",\"\",Mercury!D243)","v":""},"",{"$f":"IF(COUNTIF(BB$2:BB221,BB221)=1,BB221,\"\")","v":""},"","",""]
[{"$f":"+IF(D222=\"\",\"\",MAX(A$1:A221)+1)","v":""},{"$f":"IF(CEM_COM_CPMS_Identification!C244=\"\",\"\",CEM_COM_CPMS_Identification!C244)","v":""},"",{"$f":"IF(COUNTIF(B$2:B222,B222)=1,B222,\"\")","v":""},null,null,null,null,null,null,null,null,null,null,null,null,null,null,null,{"$f":"+IF(Y222=\"\",\"\",MAX(T$1:T221)+1)","v":""},{"$f":"IF(No_CPMS_Limits_Details!B244=\"\",\"\",No_CPMS_Limits_Details!B244)","v":""},{"$f":"IF(No_CPMS_Limits_Details!C244=\"\",\"\",No_CPMS_Limits_Details!C244)","v":""},{"$f":"IF(No_CPMS_Limits_Details!D244=\"\",\"\",No_CPMS_Limits_Details!D244)","v":""},"",{"$f":"IF(COUNTIF(V$2:V222,V222)=1,V222,\"\")","v":""},"","","",null,{"$f":"+IF(AI222=\"\",\"\",MAX(AD$1:AD221)+1)","v":""},{"$f":"IF(Limits_Details_w_CPMS!B244=\"\",\"\",Limits_Details_w_CPMS!B244)","v":""},{"$f":"IF(Limits_Details_w_CPMS!C244=\"\",\"\",Limits_Details_w_CPMS!C244)","v":""},{"$f":"IF(Limits_Details_w_CPMS!D244=\"\",\"\",Limits_Details_w_CPMS!D244)","v":""},"",{"$f":"IF(COUNTIF(AH$2:AH222,AH222)=1,AH222,\"\")","v":""},"","","",null,null,null,{"$f":"+IF(AU222=\"\",\"\",MAX(AP$1:AP221)+1)","v":""},{"$f":"IF(CPMS_Detail!B244=\"\",\"\",CPMS_Detail!B244)","v":""},{"$f":"IF(CPMS_Detail!C244=\"\",\"\",CPMS_Detail!C244)","v":""},{"$f":"IF(CPMS_Detail!D244=\"\",\"\",CPMS_Detail!D244)","v":""},"",{"$f":"IF(COUNTIF(AT$2:AT222,AT222)=1,AT222,\"\")","v":""},"","","",null,{"$f":"+IF(BE222=\"\",\"\",MAX(AZ$1:AZ221)+1)","v":""},{"$f":"IF(Mercury!B244=\"\",\"\",Mercury!B244)","v":""},{"$f":"IF(Mercury!C244=\"\",\"\",Mercury!C244)","v":""},{"$f":"IF(Mercury!D244=\"\",\"\",Mercury!D244)","v":""},"",{"$f":"IF(COUNTIF(BB$2:BB222,BB222)=1,BB222,\"\")","v":""},"","",""]
[{"$f":"+IF(D223=\"\",\"\",MAX(A$1:A222)+1)","v":""},{"$f":"IF(CEM_COM_CPMS_Identification!C245=\"\",\"\",CEM_COM_CPMS_Identification!C245)","v":""},"",{"$f":"IF(COUNTIF(B$2:B223,B223)=1,B223,\"\")","v":""},null,null,null,null,null,null,null,null,null,null,null,null,null,null,null,{"$f":"+IF(Y223=\"\",\"\",MAX(T$1:T222)+1)","v":""},{"$f":"IF(No_CPMS_Limits_Details!B245=\"\",\"\",No_CPMS_Limits_Details!B245)","v":""},{"$f":"IF(No_CPMS_Limits_Details!C245=\"\",\"\",No_CPMS_Limits_Details!C245)","v":""},{"$f":"IF(No_CPMS_Limits_Details!D245=\"\",\"\",No_CPMS_Limits_Details!D245)","v":""},"",{"$f":"IF(COUNTIF(V$2:V223,V223)=1,V223,\"\")","v":""},"","","",null,{"$f":"+IF(AI223=\"\",\"\",MAX(AD$1:AD222)+1)","v":""},{"$f":"IF(Limits_Details_w_CPMS!B245=\"\",\"\",Limits_Details_w_CPMS!B245)","v":""},{"$f":"IF(Limits_Details_w_CPMS!C245=\"\",\"\",Limits_Details_w_CPMS!C245)","v":""},{"$f":"IF(Limits_Details_w_CPMS!D245=\"\",\"\",Limits_Details_w_CPMS!D245)","v":""},"",{"$f":"IF(COUNTIF(AH$2:AH223,AH223)=1,AH223,\"\")","v":""},"","","",null,null,null,{"$f":"+IF(AU223=\"\",\"\",MAX(AP$1:AP222)+1)","v":""},{"$f":"IF(CPMS_Detail!B245=\"\",\"\",CPMS_Detail!B245)","v":""},{"$f":"IF(CPMS_Detail!C245=\"\",\"\",CPMS_Detail!C245)","v":""},{"$f":"IF(CPMS_Detail!D245=\"\",\"\",CPMS_Detail!D245)","v":""},"",{"$f":"IF(COUNTIF(AT$2:AT223,AT223)=1,AT223,\"\")","v":""},"","","",null,{"$f":"+IF(BE223=\"\",\"\",MAX(AZ$1:AZ222)+1)","v":""},{"$f":"IF(Mercury!B245=\"\",\"\",Mercury!B245)","v":""},{"$f":"IF(Mercury!C245=\"\",\"\",Mercury!C245)","v":""},{"$f":"IF(Mercury!D245=\"\",\"\",Mercury!D245)","v":""},"",{"$f":"IF(COUNTIF(BB$2:BB223,BB223)=1,BB223,\"\")","v":""},"","",""]
[{"$f":"+IF(D224=\"\",\"\",MAX(A$1:A223)+1)","v":""},{"$f":"IF(CEM_COM_CPMS_Identification!C246=\"\",\"\",CEM_COM_CPMS_Identification!C246)","v":""},"",{"$f":"IF(COUNTIF(B$2:B224,B224)=1,B224,\"\")","v":""},null,null,null,null,null,null,null,null,null,null,null,null,null,null,null,{"$f":"+IF(Y224=\"\",\"\",MAX(T$1:T223)+1)","v":""},{"$f":"IF(No_CPMS_Limits_Details!B246=\"\",\"\",No_CPMS_Limits_Details!B246)","v":""},{"$f":"IF(No_CPMS_Limits_Details!C246=\"\",\"\",No_CPMS_Limits_Details!C246)","v":""},{"$f":"IF(No_CPMS_Limits_Details!D246=\"\",\"\",No_CPMS_Limits_Details!D246)","v":""},"",{"$f":"IF(COUNTIF(V$2:V224,V224)=1,V224,\"\")","v":""},"","","",null,{"$f":"+IF(AI224=\"\",\"\",MAX(AD$1:AD223)+1)","v":""},{"$f":"IF(Limits_Details_w_CPMS!B246=\"\",\"\",Limits_Details_w_CPMS!B246)","v":""},{"$f":"IF(Limits_Details_w_CPMS!C246=\"\",\"\",Limits_Details_w_CPMS!C246)","v":""},{"$f":"IF(Limits_Details_w_CPMS!D246=\"\",\"\",Limits_Details_w_CPMS!D246)","v":""},"",{"$f":"IF(COUNTIF(AH$2:AH224,AH224)=1,AH224,\"\")","v":""},"","","",null,null,null,{"$f":"+IF(AU224=\"\",\"\",MAX(AP$1:AP223)+1)","v":""},{"$f":"IF(CPMS_Detail!B246=\"\",\"\",CPMS_Detail!B246)","v":""},{"$f":"IF(CPMS_Detail!C246=\"\",\"\",CPMS_Detail!C246)","v":""},{"$f":"IF(CPMS_Detail!D246=\"\",\"\",CPMS_Detail!D246)","v":""},"",{"$f":"IF(COUNTIF(AT$2:AT224,AT224)=1,AT224,\"\")","v":""},"","","",null,{"$f":"+IF(BE224=\"\",\"\",MAX(AZ$1:AZ223)+1)","v":""},{"$f":"IF(Mercury!B246=\"\",\"\",Mercury!B246)","v":""},{"$f":"IF(Mercury!C246=\"\",\"\",Mercury!C246)","v":""},{"$f":"IF(Mercury!D246=\"\",\"\",Mercury!D246)","v":""},"",{"$f":"IF(COUNTIF(BB$2:BB224,BB224)=1,BB224,\"\")","v":""},"","",""]
[{"$f":"+IF(D225=\"\",\"\",MAX(A$1:A224)+1)","v":""},{"$f":"IF(CEM_COM_CPMS_Identification!C247=\"\",\"\",CEM_COM_CPMS_Identification!C247)","v":""},"",{"$f":"IF(COUNTIF(B$2:B225,B225)=1,B225,\"\")","v":""},null,null,null,null,null,null,null,null,null,null,null,null,null,null,null,{"$f":"+IF(Y225=\"\",\"\",MAX(T$1:T224)+1)","v":""},{"$f":"IF(No_CPMS_Limits_Details!B247=\"\",\"\",No_CPMS_Limits_Details!B247)","v":""},{"$f":"IF(No_CPMS_Limits_Details!C247=\"\",\"\",No_CPMS_Limits_Details!C247)","v":""},{"$f":"IF(No_CPMS_Limits_Details!D247=\"\",\"\",No_CPMS_Limits_Details!D247)","v":""},"",{"$f":"IF(COUNTIF(V$2:V225,V225)=1,V225,\"\")","v":""},"","","",null,{"$f":"+IF(AI225=\"\",\"\",MAX(AD$1:AD224)+1)","v":""},{"$f":"IF(Limits_Details_w_CPMS!B247=\"\",\"\",Limits_Details_w_CPMS!B247)","v":""},{"$f":"IF(Limits_Details_w_CPMS!C247=\"\",\"\",Limits_Details_w_CPMS!C247)","v":""},{"$f":"IF(Limits_Details_w_CPMS!D247=\"\",\"\",Limits_Details_w_CPMS!D247)","v":""},"",{"$f":"IF(COUNTIF(AH$2:AH225,AH225)=1,AH225,\"\")","v":""},"","","",null,null,null,{"$f":"+IF(AU225=\"\",\"\",MAX(AP$1:AP224)+1)","v":""},{"$f":"IF(CPMS_Detail!B247=\"\",\"\",CPMS_Detail!B247)","v":""},{"$f":"IF(CPMS_Detail!C247=\"\",\"\",CPMS_Detail!C247)","v":""},{"$f":"IF(CPMS_Detail!D247=\"\",\"\",CPMS_Detail!D247)","v":""},"",{"$f":"IF(COUNTIF(AT$2:AT225,AT225)=1,AT225,\"\")","v":""},"","","",null,{"$f":"+IF(BE225=\"\",\"\",MAX(AZ$1:AZ224)+1)","v":""},{"$f":"IF(Mercury!B247=\"\",\"\",Mercury!B247)","v":""},{"$f":"IF(Mercury!C247=\"\",\"\",Mercury!C247)","v":""},{"$f":"IF(Mercury!D247=\"\",\"\",Mercury!D247)","v":""},"",{"$f":"IF(COUNTIF(BB$2:BB225,BB225)=1,BB225,\"\")","v":""},"","",""]
[{"$f":"+IF(D226=\"\",\"\",MAX(A$1:A225)+1)","v":""},{"$f":"IF(CEM_COM_CPMS_Identification!C248=\"\",\"\",CEM_COM_CPMS_Identification!C248)","v":""},"",{"$f":"IF(COUNTIF(B$2:B226,B226)=1,B226,\"\")","v":""},null,null,null,null,null,null,null,null,null,null,null,null,null,null,null,{"$f":"+IF(Y226=\"\",\"\",MAX(T$1:T225)+1)","v":""},{"$f":"IF(No_CPMS_Limits_Details!B248=\"\",\"\",No_CPMS_Limits_Details!B248)","v":""},{"$f":"IF(No_CPMS_Limits_Details!C248=\"\",\"\",No_CPMS_Limits_Details!C248)","v":""},{"$f":"IF(No_CPMS_Limits_Details!D248=\"\",\"\",No_CPMS_Limits_Details!D248)","v":""},"",{"$f":"IF(COUNTIF(V$2:V226,V226)=1,V226,\"\")","v":""},"","","",null,{"$f":"+IF(AI226=\"\",\"\",MAX(AD$1:AD225)+1)","v":""},{"$f":"IF(Limits_Details_w_CPMS!B248=\"\",\"\",Limits_Details_w_CPMS!B248)","v":""},{"$f":"IF(Limits_Details_w_CPMS!C248=\"\",\"\",Limits_Details_w_CPMS!C248)","v":""},{"$f":"IF(Limits_Details_w_CPMS!D248=\"\",\"\",Limits_Details_w_CPMS!D248)","v":""},"",{"$f":"IF(COUNTIF(AH$2:AH226,AH226)=1,AH226,\"\")","v":""},"","","",null,null,null,{"$f":"+IF(AU226=\"\",\"\",MAX(AP$1:AP225)+1)","v":""},{"$f":"IF(CPMS_Detail!B248=\"\",\"\",CPMS_Detail!B248)","v":""},{"$f":"IF(CPMS_Detail!C248=\"\",\"\",CPMS_Detail!C248)","v":""},{"$f":"IF(CPMS_Detail!D248=\"\",\"\",CPMS_Detail!D248)","v":""},"",{"$f":"IF(COUNTIF(AT$2:AT226,AT226)=1,AT226,\"\")","v":""},"","","",null,{"$f":"+IF(BE226=\"\",\"\",MAX(AZ$1:AZ225)+1)","v":""},{"$f":"IF(Mercury!B248=\"\",\"\",Mercury!B248)","v":""},{"$f":"IF(Mercury!C248=\"\",\"\",Mercury!C248)","v":""},{"$f":"IF(Mercury!D248=\"\",\"\",Mercury!D248)","v":""},"",{"$f":"IF(COUNTIF(BB$2:BB226,BB226)=1,BB226,\"\")","v":""},"","",""]
[{"$f":"+IF(D227=\"\",\"\",MAX(A$1:A226)+1)","v":""},{"$f":"IF(CEM_COM_CPMS_Identification!C249=\"\",\"\",CEM_COM_CPMS_Identification!C249)","v":""},"",{"$f":"IF(COUNTIF(B$2:B227,B227)=1,B227,\"\")","v":""},null,null,null,null,null,null,null,null,null,null,null,null,null,null,null,{"$f":"+IF(Y227=\"\",\"\",MAX(T$1:T226)+1)","v":""},{"$f":"IF(No_CPMS_Limits_Details!B249=\"\",\"\",No_CPMS_Limits_Details!B249)","v":""},{"$f":"IF(No_CPMS_Limits_Details!C249=\"\",\"\",No_CPMS_Limits_Details!C249)","v":""},{"$f":"IF(No_CPMS_Limits_Details!D249=\"\",\"\",No_CPMS_Limits_Details!D249)","v":""},"",{"$f":"IF(COUNTIF(V$2:V227,V227)=1,V227,\"\")","v":""},"","","",null,{"$f":"+IF(AI227=\"\",\"\",MAX(AD$1:AD226)+1)","v":""},{"$f":"IF(Limits_Details_w_CPMS!B249=\"\",\"\",Limits_Details_w_CPMS!B249)","v":""},{"$f":"IF(Limits_Details_w_CPMS!C249=\"\",\"\",Limits_Details_w_CPMS!C249)","v":""},{"$f":"IF(Limits_Details_w_CPMS!D249=\"\",\"\",Limits_Details_w_CPMS!D249)","v":""},"",{"$f":"IF(COUNTIF(AH$2:AH227,AH227)=1,AH227,\"\")","v":""},"","","",null,null,null,{"$f":"+IF(AU227=\"\",\"\",MAX(AP$1:AP226)+1)","v":""},{"$f":"IF(CPMS_Detail!B249=\"\",\"\",CPMS_Detail!B249)","v":""},{"$f":"IF(CPMS_Detail!C249=\"\",\"\",CPMS_Detail!C249)","v":""},{"$f":"IF(CPMS_Detail!D249=\"\",\"\",CPMS_Detail!D249)","v":""},"",{"$f":"IF(COUNTIF(AT$2:AT227,AT227)=1,AT227,\"\")","v":""},"","","",null,{"$f":"+IF(BE227=\"\",\"\",MAX(AZ$1:AZ226)+1)","v":""},{"$f":"IF(Mercury!B249=\"\",\"\",Mercury!B249)","v":""},{"$f":"IF(Mercury!C249=\"\",\"\",Mercury!C249)","v":""},{"$f":"IF(Mercury!D249=\"\",\"\",Mercury!D249)","v":""},"",{"$f":"IF(COUNTIF(BB$2:BB227,BB227)=1,BB227,\"\")","v":""},"","",""]
[{"$f":"+IF(D228=\"\",\"\",MAX(A$1:A227)+1)","v":""},{"$f":"IF(CEM_COM_CPMS_Identification!C250=\"\",\"\",CEM_COM_CPMS_Identification!C250)","v":""},"",{"$f":"IF(COUNTIF(B$2:B228,B228)=1,B228,\"\")","v":""},null,null,null,null,null,null,null,null,null,null,null,null,null,null,null,{"$f":"+IF(Y228=\"\",\"\",MAX(T$1:T227)+1)","v":""},{"$f":"IF(No_CPMS_Limits_Details!B250=\"\",\"\",No_CPMS_Limits_Details!B250)","v":""},{"$f":"IF(No_CPMS_Limits_Details!C250=\"\",\"\",No_CPMS_Limits_Details!C250)","v":""},{"$f":"IF(No_CPMS_Limits_Details!D250=\"\",\"\",No_CPMS_Limits_Details!D250)","v":""},"",{"$f":"IF(COUNTIF(V$2:V228,V228)=1,V228,\"\")","v":""},"","","",null,{"$f":"+IF(AI228=\"\",\"\",MAX(AD$1:AD227)+1)","v":""},{"$f":"IF(Limits_Details_w_CPMS!B250=\"\",\"\",Limits_Details_w_CPMS!B250)","v":""},{"$f":"IF(Limits_Details_w_CPMS!C250=\"\",\"\",Limits_Details_w_CPMS!C250)","v":""},{"$f":"IF(Limits_Details_w_CPMS!D250=\"\",\"\",Limits_Details_w_CPMS!D250)","v":""},"",{"$f":"IF(COUNTIF(AH$2:AH228,AH228)=1,AH228,\"\")","v":""},"","","",null,null,null,{"$f":"+IF(AU228=\"\",\"\",MAX(AP$1:AP227)+1)","v":""},{"$f":"IF(CPMS_Detail!B250=\"\",\"\",CPMS_Detail!B250)","v":""},{"$f":"IF(CPMS_Detail!C250=\"\",\"\",CPMS_Detail!C250)","v":""},{"$f":"IF(CPMS_Detail!D250=\"\",\"\",CPMS_Detail!D250)","v":""},"",{"$f":"IF(COUNTIF(AT$2:AT228,AT228)=1,AT228,\"\")","v":""},"","","",null,{"$f":"+IF(BE228=\"\",\"\",MAX(AZ$1:AZ227)+1)","v":""},{"$f":"IF(Mercury!B250=\"\",\"\",Mercury!B250)","v":""},{"$f":"IF(Mercury!C250=\"\",\"\",Mercury!C250)","v":""},{"$f":"IF(Mercury!D250=\"\",\"\",Mercury!D250)","v":""},"",{"$f":"IF(COUNTIF(BB$2:BB228,BB228)=1,BB228,\"\")","v":""},"","",""]
[{"$f":"+IF(D229=\"\",\"\",MAX(A$1:A228)+1)","v":""},{"$f":"IF(CEM_COM_CPMS_Identification!C251=\"\",\"\",CEM_COM_CPMS_Identification!C251)","v":""},"",{"$f":"IF(COUNTIF(B$2:B229,B229)=1,B229,\"\")","v":""},null,null,null,null,null,null,null,null,null,null,null,null,null,null,null,{"$f":"+IF(Y229=\"\",\"\",MAX(T$1:T228)+1)","v":""},{"$f":"IF(No_CPMS_Limits_Details!B251=\"\",\"\",No_CPMS_Limits_Details!B251)","v":""},{"$f":"IF(No_CPMS_Limits_Details!C251=\"\",\"\",No_CPMS_Limits_Details!C251)","v":""},{"$f":"IF(No_CPMS_Limits_Details!D251=\"\",\"\",No_CPMS_Limits_Details!D251)","v":""},"",{"$f":"IF(COUNTIF(V$2:V229,V229)=1,V229,\"\")","v":""},"","","",null,{"$f":"+IF(AI229=\"\",\"\",MAX(AD$1:AD228)+1)","v":""},{"$f":"IF(Limits_Details_w_CPMS!B251=\"\",\"\",Limits_Details_w_CPMS!B251)","v":""},{"$f":"IF(Limits_Details_w_CPMS!C251=\"\",\"\",Limits_Details_w_CPMS!C251)","v":""},{"$f":"IF(Limits_Details_w_CPMS!D251=\"\",\"\",Limits_Details_w_CPMS!D251)","v":""},"",{"$f":"IF(COUNTIF(AH$2:AH229,AH229)=1,AH229,\"\")","v":""},"","","",null,null,null,{"$f":"+IF(AU229=\"\",\"\",MAX(AP$1:AP228)+1)","v":""},{"$f":"IF(CPMS_Detail!B251=\"\",\"\",CPMS_Detail!B251)","v":""},{"$f":"IF(CPMS_Detail!C251=\"\",\"\",CPMS_Detail!C251)","v":""},{"$f":"IF(CPMS_Detail!D251=\"\",\"\",CPMS_Detail!D251)","v":""},"",{"$f":"IF(COUNTIF(AT$2:AT229,AT229)=1,AT229,\"\")","v":""},"","","",null,{"$f":"+IF(BE229=\"\",\"\",MAX(AZ$1:AZ228)+1)","v":""},{"$f":"IF(Mercury!B251=\"\",\"\",Mercury!B251)","v":""},{"$f":"IF(Mercury!C251=\"\",\"\",Mercury!C251)","v":""},{"$f":"IF(Mercury!D251=\"\",\"\",Mercury!D251)","v":""},"",{"$f":"IF(COUNTIF(BB$2:BB229,BB229)=1,BB229,\"\")","v":""},"","",""]
[{"$f":"+IF(D230=\"\",\"\",MAX(A$1:A229)+1)","v":""},{"$f":"IF(CEM_COM_CPMS_Identification!C252=\"\",\"\",CEM_COM_CPMS_Identification!C252)","v":""},"",{"$f":"IF(COUNTIF(B$2:B230,B230)=1,B230,\"\")","v":""},null,null,null,null,null,null,null,null,null,null,null,null,null,null,null,{"$f":"+IF(Y230=\"\",\"\",MAX(T$1:T229)+1)","v":""},{"$f":"IF(No_CPMS_Limits_Details!B252=\"\",\"\",No_CPMS_Limits_Details!B252)","v":""},{"$f":"IF(No_CPMS_Limits_Details!C252=\"\",\"\",No_CPMS_Limits_Details!C252)","v":""},{"$f":"IF(No_CPMS_Limits_Details!D252=\"\",\"\",No_CPMS_Limits_Details!D252)","v":""},"",{"$f":"IF(COUNTIF(V$2:V230,V230)=1,V230,\"\")","v":""},"","","",null,{"$f":"+IF(AI230=\"\",\"\",MAX(AD$1:AD229)+1)","v":""},{"$f":"IF(Limits_Details_w_CPMS!B252=\"\",\"\",Limits_Details_w_CPMS!B252)","v":""},{"$f":"IF(Limits_Details_w_CPMS!C252=\"\",\"\",Limits_Details_w_CPMS!C252)","v":""},{"$f":"IF(Limits_Details_w_CPMS!D252=\"\",\"\",Limits_Details_w_CPMS!D252)","v":""},"",{"$f":"IF(COUNTIF(AH$2:AH230,AH230)=1,AH230,\"\")","v":""},"","","",null,null,null,{"$f":"+IF(AU230=\"\",\"\",MAX(AP$1:AP229)+1)","v":""},{"$f":"IF(CPMS_Detail!B252=\"\",\"\",CPMS_Detail!B252)","v":""},{"$f":"IF(CPMS_Detail!C252=\"\",\"\",CPMS_Detail!C252)","v":""},{"$f":"IF(CPMS_Detail!D252=\"\",\"\",CPMS_Detail!D252)","v":""},"",{"$f":"IF(COUNTIF(AT$2:AT230,AT230)=1,AT230,\"\")","v":""},"","","",null,{"$f":"+IF(BE230=\"\",\"\",MAX(AZ$1:AZ229)+1)","v":""},{"$f":"IF(Mercury!B252=\"\",\"\",Mercury!B252)","v":""},{"$f":"IF(Mercury!C252=\"\",\"\",Mercury!C252)","v":""},{"$f":"IF(Mercury!D252=\"\",\"\",Mercury!D252)","v":""},"",{"$f":"IF(COUNTIF(BB$2:BB230,BB230)=1,BB230,\"\")","v":""},"","",""]
[{"$f":"+IF(D231=\"\",\"\",MAX(A$1:A230)+1)","v":""},{"$f":"IF(CEM_COM_CPMS_Identification!C253=\"\",\"\",CEM_COM_CPMS_Identification!C253)","v":""},"",{"$f":"IF(COUNTIF(B$2:B231,B231)=1,B231,\"\")","v":""},null,null,null,null,null,null,null,null,null,null,null,null,null,null,null,{"$f":"+IF(Y231=\"\",\"\",MAX(T$1:T230)+1)","v":""},{"$f":"IF(No_CPMS_Limits_Details!B253=\"\",\"\",No_CPMS_Limits_Details!B253)","v":""},{"$f":"IF(No_CPMS_Limits_Details!C253=\"\",\"\",No_CPMS_Limits_Details!C253)","v":""},{"$f":"IF(No_CPMS_Limits_Details!D253=\"\",\"\",No_CPMS_Limits_Details!D253)","v":""},"",{"$f":"IF(COUNTIF(V$2:V231,V231)=1,V231,\"\")","v":""},"","","",null,{"$f":"+IF(AI231=\"\",\"\",MAX(AD$1:AD230)+1)","v":""},{"$f":"IF(Limits_Details_w_CPMS!B253=\"\",\"\",Limits_Details_w_CPMS!B253)","v":""},{"$f":"IF(Limits_Details_w_CPMS!C253=\"\",\"\",Limits_Details_w_CPMS!C253)","v":""},{"$f":"IF(Limits_Details_w_CPMS!D253=\"\",\"\",Limits_Details_w_CPMS!D253)","v":""},"",{"$f":"IF(COUNTIF(AH$2:AH231,AH231)=1,AH231,\"\")","v":""},"","","",null,null,null,{"$f":"+IF(AU231=\"\",\"\",MAX(AP$1:AP230)+1)","v":""},{"$f":"IF(CPMS_Detail!B253=\"\",\"\",CPMS_Detail!B253)","v":""},{"$f":"IF(CPMS_Detail!C253=\"\",\"\",CPMS_Detail!C253)","v":""},{"$f":"IF(CPMS_Detail!D253=\"\",\"\",CPMS_Detail!D253)","v":""},"",{"$f":"IF(COUNTIF(AT$2:AT231,AT231)=1,AT231,\"\")","v":""},"","","",null,{"$f":"+IF(BE231=\"\",\"\",MAX(AZ$1:AZ230)+1)","v":""},{"$f":"IF(Mercury!B253=\"\",\"\",Mercury!B253)","v":""},{"$f":"IF(Mercury!C253=\"\",\"\",Mercury!C253)","v":""},{"$f":"IF(Mercury!D253=\"\",\"\",Mercury!D253)","v":""},"",{"$f":"IF(COUNTIF(BB$2:BB231,BB231)=1,BB231,\"\")","v":""},"","",""]
[{"$f":"+IF(D232=\"\",\"\",MAX(A$1:A231)+1)","v":""},{"$f":"IF(CEM_COM_CPMS_Identification!C254=\"\",\"\",CEM_COM_CPMS_Identification!C254)","v":""},"",{"$f":"IF(COUNTIF(B$2:B232,B232)=1,B232,\"\")","v":""},null,null,null,null,null,null,null,null,null,null,null,null,null,null,null,{"$f":"+IF(Y232=\"\",\"\",MAX(T$1:T231)+1)","v":""},{"$f":"IF(No_CPMS_Limits_Details!B254=\"\",\"\",No_CPMS_Limits_Details!B254)","v":""},{"$f":"IF(No_CPMS_Limits_Details!C254=\"\",\"\",No_CPMS_Limits_Details!C254)","v":""},{"$f":"IF(No_CPMS_Limits_Details!D254=\"\",\"\",No_CPMS_Limits_Details!D254)","v":""},"",{"$f":"IF(COUNTIF(V$2:V232,V232)=1,V232,\"\")","v":""},"","","",null,{"$f":"+IF(AI232=\"\",\"\",MAX(AD$1:AD231)+1)","v":""},{"$f":"IF(Limits_Details_w_CPMS!B254=\"\",\"\",Limits_Details_w_CPMS!B254)","v":""},{"$f":"IF(Limits_Details_w_CPMS!C254=\"\",\"\",Limits_Details_w_CPMS!C254)","v":""},{"$f":"IF(Limits_Details_w_CPMS!D254=\"\",\"\",Limits_Details_w_CPMS!D254)","v":""},"",{"$f":"IF(COUNTIF(AH$2:AH232,AH232)=1,AH232,\"\")","v":""},"","","",null,null,null,{"$f":"+IF(AU232=\"\",\"\",MAX(AP$1:AP231)+1)","v":""},{"$f":"IF(CPMS_Detail!B254=\"\",\"\",CPMS_Detail!B254)","v":""},{"$f":"IF(CPMS_Detail!C254=\"\",\"\",CPMS_Detail!C254)","v":""},{"$f":"IF(CPMS_Detail!D254=\"\",\"\",CPMS_Detail!D254)","v":""},"",{"$f":"IF(COUNTIF(AT$2:AT232,AT232)=1,AT232,\"\")","v":""},"","","",null,{"$f":"+IF(BE232=\"\",\"\",MAX(AZ$1:AZ231)+1)","v":""},{"$f":"IF(Mercury!B254=\"\",\"\",Mercury!B254)","v":""},{"$f":"IF(Mercury!C254=\"\",\"\",Mercury!C254)","v":""},{"$f":"IF(Mercury!D254=\"\",\"\",Mercury!D254)","v":""},"",{"$f":"IF(COUNTIF(BB$2:BB232,BB232)=1,BB232,\"\")","v":""},"","",""]
[{"$f":"+IF(D233=\"\",\"\",MAX(A$1:A232)+1)","v":""},{"$f":"IF(CEM_COM_CPMS_Identification!C255=\"\",\"\",CEM_COM_CPMS_Identification!C255)","v":""},"",{"$f":"IF(COUNTIF(B$2:B233,B233)=1,B233,\"\")","v":""},null,null,null,null,null,null,null,null,null,null,null,null,null,null,null,{"$f":"+IF(Y233=\"\",\"\",MAX(T$1:T232)+1)","v":""},{"$f":"IF(No_CPMS_Limits_Details!B255=\"\",\"\",No_CPMS_Limits_Details!B255)","v":""},{"$f":"IF(No_CPMS_Limits_Details!C255=\"\",\"\",No_CPMS_Limits_Details!C255)","v":""},{"$f":"IF(No_CPMS_Limits_Details!D255=\"\",\"\",No_CPMS_Limits_Details!D255)","v":""},"",{"$f":"IF(COUNTIF(V$2:V233,V233)=1,V233,\"\")","v":""},"","","",null,{"$f":"+IF(AI233=\"\",\"\",MAX(AD$1:AD232)+1)","v":""},{"$f":"IF(Limits_Details_w_CPMS!B255=\"\",\"\",Limits_Details_w_CPMS!B255)","v":""},{"$f":"IF(Limits_Details_w_CPMS!C255=\"\",\"\",Limits_Details_w_CPMS!C255)","v":""},{"$f":"IF(Limits_Details_w_CPMS!D255=\"\",\"\",Limits_Details_w_CPMS!D255)","v":""},"",{"$f":"IF(COUNTIF(AH$2:AH233,AH233)=1,AH233,\"\")","v":""},"","","",null,null,null,{"$f":"+IF(AU233=\"\",\"\",MAX(AP$1:AP232)+1)","v":""},{"$f":"IF(CPMS_Detail!B255=\"\",\"\",CPMS_Detail!B255)","v":""},{"$f":"IF(CPMS_Detail!C255=\"\",\"\",CPMS_Detail!C255)","v":""},{"$f":"IF(CPMS_Detail!D255=\"\",\"\",CPMS_Detail!D255)","v":""},"",{"$f":"IF(COUNTIF(AT$2:AT233,AT233)=1,AT233,\"\")","v":""},"","","",null,{"$f":"+IF(BE233=\"\",\"\",MAX(AZ$1:AZ232)+1)","v":""},{"$f":"IF(Mercury!B255=\"\",\"\",Mercury!B255)","v":""},{"$f":"IF(Mercury!C255=\"\",\"\",Mercury!C255)","v":""},{"$f":"IF(Mercury!D255=\"\",\"\",Mercury!D255)","v":""},"",{"$f":"IF(COUNTIF(BB$2:BB233,BB233)=1,BB233,\"\")","v":""},"","",""]
[{"$f":"+IF(D234=\"\",\"\",MAX(A$1:A233)+1)","v":""},{"$f":"IF(CEM_COM_CPMS_Identification!C256=\"\",\"\",CEM_COM_CPMS_Identification!C256)","v":""},"",{"$f":"IF(COUNTIF(B$2:B234,B234)=1,B234,\"\")","v":""},null,null,null,null,null,null,null,null,null,null,null,null,null,null,null,{"$f":"+IF(Y234=\"\",\"\",MAX(T$1:T233)+1)","v":""},{"$f":"IF(No_CPMS_Limits_Details!B256=\"\",\"\",No_CPMS_Limits_Details!B256)","v":""},{"$f":"IF(No_CPMS_Limits_Details!C256=\"\",\"\",No_CPMS_Limits_Details!C256)","v":""},{"$f":"IF(No_CPMS_Limits_Details!D256=\"\",\"\",No_CPMS_Limits_Details!D256)","v":""},"",{"$f":"IF(COUNTIF(V$2:V234,V234)=1,V234,\"\")","v":""},"","","",null,{"$f":"+IF(AI234=\"\",\"\",MAX(AD$1:AD233)+1)","v":""},{"$f":"IF(Limits_Details_w_CPMS!B256=\"\",\"\",Limits_Details_w_CPMS!B256)","v":""},{"$f":"IF(Limits_Details_w_CPMS!C256=\"\",\"\",Limits_Details_w_CPMS!C256)","v":""},{"$f":"IF(Limits_Details_w_CPMS!D256=\"\",\"\",Limits_Details_w_CPMS!D256)","v":""},"",{"$f":"IF(COUNTIF(AH$2:AH234,AH234)=1,AH234,\"\")","v":""},"","","",null,null,null,{"$f":"+IF(AU234=\"\",\"\",MAX(AP$1:AP233)+1)","v":""},{"$f":"IF(CPMS_Detail!B256=\"\",\"\",CPMS_Detail!B256)","v":""},{"$f":"IF(CPMS_Detail!C256=\"\",\"\",CPMS_Detail!C256)","v":""},{"$f":"IF(CPMS_Detail!D256=\"\",\"\",CPMS_Detail!D256)","v":""},"",{"$f":"IF(COUNTIF(AT$2:AT234,AT234)=1,AT234,\"\")","v":""},"","","",null,{"$f":"+IF(BE234=\"\",\"\",MAX(AZ$1:AZ233)+1)","v":""},{"$f":"IF(Mercury!B256=\"\",\"\",Mercury!B256)","v":""},{"$f":"IF(Mercury!C256=\"\",\"\",Mercury!C256)","v":""},{"$f":"IF(Mercury!D256=\"\",\"\",Mercury!D256)","v":""},"",{"$f":"IF(COUNTIF(BB$2:BB234,BB234)=1,BB234,\"\")","v":""},"","",""]
[{"$f":"+IF(D235=\"\",\"\",MAX(A$1:A234)+1)","v":""},{"$f":"IF(CEM_COM_CPMS_Identification!C257=\"\",\"\",CEM_COM_CPMS_Identification!C257)","v":""},"",{"$f":"IF(COUNTIF(B$2:B235,B235)=1,B235,\"\")","v":""},null,null,null,null,null,null,null,null,null,null,null,null,null,null,null,{"$f":"+IF(Y235=\"\",\"\",MAX(T$1:T234)+1)","v":""},{"$f":"IF(No_CPMS_Limits_Details!B257=\"\",\"\",No_CPMS_Limits_Details!B257)","v":""},{"$f":"IF(No_CPMS_Limits_Details!C257=\"\",\"\",No_CPMS_Limits_Details!C257)","v":""},{"$f":"IF(No_CPMS_Limits_Details!D257=\"\",\"\",No_CPMS_Limits_Details!D257)","v":""},"",{"$f":"IF(COUNTIF(V$2:V235,V235)=1,V235,\"\")","v":""},"","","",null,{"$f":"+IF(AI235=\"\",\"\",MAX(AD$1:AD234)+1)","v":""},{"$f":"IF(Limits_Details_w_CPMS!B257=\"\",\"\",Limits_Details_w_CPMS!B257)","v":""},{"$f":"IF(Limits_Details_w_CPMS!C257=\"\",\"\",Limits_Details_w_CPMS!C257)","v":""},{"$f":"IF(Limits_Details_w_CPMS!D257=\"\",\"\",Limits_Details_w_CPMS!D257)","v":""},"",{"$f":"IF(COUNTIF(AH$2:AH235,AH235)=1,AH235,\"\")","v":""},"","","",null,null,null,{"$f":"+IF(AU235=\"\",\"\",MAX(AP$1:AP234)+1)","v":""},{"$f":"IF(CPMS_Detail!B257=\"\",\"\",CPMS_Detail!B257)","v":""},{"$f":"IF(CPMS_Detail!C257=\"\",\"\",CPMS_Detail!C257)","v":""},{"$f":"IF(CPMS_Detail!D257=\"\",\"\",CPMS_Detail!D257)","v":""},"",{"$f":"IF(COUNTIF(AT$2:AT235,AT235)=1,AT235,\"\")","v":""},"","","",null,{"$f":"+IF(BE235=\"\",\"\",MAX(AZ$1:AZ234)+1)","v":""},{"$f":"IF(Mercury!B257=\"\",\"\",Mercury!B257)","v":""},{"$f":"IF(Mercury!C257=\"\",\"\",Mercury!C257)","v":""},{"$f":"IF(Mercury!D257=\"\",\"\",Mercury!D257)","v":""},"",{"$f":"IF(COUNTIF(BB$2:BB235,BB235)=1,BB235,\"\")","v":""},"","",""]
[{"$f":"+IF(D236=\"\",\"\",MAX(A$1:A235)+1)","v":""},{"$f":"IF(CEM_COM_CPMS_Identification!C258=\"\",\"\",CEM_COM_CPMS_Identification!C258)","v":""},"",{"$f":"IF(COUNTIF(B$2:B236,B236)=1,B236,\"\")","v":""},null,null,null,null,null,null,null,null,null,null,null,null,null,null,null,{"$f":"+IF(Y236=\"\",\"\",MAX(T$1:T235)+1)","v":""},{"$f":"IF(No_CPMS_Limits_Details!B258=\"\",\"\",No_CPMS_Limits_Details!B258)","v":""},{"$f":"IF(No_CPMS_Limits_Details!C258=\"\",\"\",No_CPMS_Limits_Details!C258)","v":""},{"$f":"IF(No_CPMS_Limits_Details!D258=\"\",\"\",No_CPMS_Limits_Details!D258)","v":""},"",{"$f":"IF(COUNTIF(V$2:V236,V236)=1,V236,\"\")","v":""},"","","",null,{"$f":"+IF(AI236=\"\",\"\",MAX(AD$1:AD235)+1)","v":""},{"$f":"IF(Limits_Details_w_CPMS!B258=\"\",\"\",Limits_Details_w_CPMS!B258)","v":""},{"$f":"IF(Limits_Details_w_CPMS!C258=\"\",\"\",Limits_Details_w_CPMS!C258)","v":""},{"$f":"IF(Limits_Details_w_CPMS!D258=\"\",\"\",Limits_Details_w_CPMS!D258)","v":""},"",{"$f":"IF(COUNTIF(AH$2:AH236,AH236)=1,AH236,\"\")","v":""},"","","",null,null,null,{"$f":"+IF(AU236=\"\",\"\",MAX(AP$1:AP235)+1)","v":""},{"$f":"IF(CPMS_Detail!B258=\"\",\"\",CPMS_Detail!B258)","v":""},{"$f":"IF(CPMS_Detail!C258=\"\",\"\",CPMS_Detail!C258)","v":""},{"$f":"IF(CPMS_Detail!D258=\"\",\"\",CPMS_Detail!D258)","v":""},"",{"$f":"IF(COUNTIF(AT$2:AT236,AT236)=1,AT236,\"\")","v":""},"","","",null,{"$f":"+IF(BE236=\"\",\"\",MAX(AZ$1:AZ235)+1)","v":""},{"$f":"IF(Mercury!B258=\"\",\"\",Mercury!B258)","v":""},{"$f":"IF(Mercury!C258=\"\",\"\",Mercury!C258)","v":""},{"$f":"IF(Mercury!D258=\"\",\"\",Mercury!D258)","v":""},"",{"$f":"IF(COUNTIF(BB$2:BB236,BB236)=1,BB236,\"\")","v":""},"","",""]
[{"$f":"+IF(D237=\"\",\"\",MAX(A$1:A236)+1)","v":""},{"$f":"IF(CEM_COM_CPMS_Identification!C259=\"\",\"\",CEM_COM_CPMS_Identification!C259)","v":""},"",{"$f":"IF(COUNTIF(B$2:B237,B237)=1,B237,\"\")","v":""},null,null,null,null,null,null,null,null,null,null,null,null,null,null,null,{"$f":"+IF(Y237=\"\",\"\",MAX(T$1:T236)+1)","v":""},{"$f":"IF(No_CPMS_Limits_Details!B259=\"\",\"\",No_CPMS_Limits_Details!B259)","v":""},{"$f":"IF(No_CPMS_Limits_Details!C259=\"\",\"\",No_CPMS_Limits_Details!C259)","v":""},{"$f":"IF(No_CPMS_Limits_Details!D259=\"\",\"\",No_CPMS_Limits_Details!D259)","v":""},"",{"$f":"IF(COUNTIF(V$2:V237,V237)=1,V237,\"\")","v":""},"","","",null,{"$f":"+IF(AI237=\"\",\"\",MAX(AD$1:AD236)+1)","v":""},{"$f":"IF(Limits_Details_w_CPMS!B259=\"\",\"\",Limits_Details_w_CPMS!B259)","v":""},{"$f":"IF(Limits_Details_w_CPMS!C259=\"\",\"\",Limits_Details_w_CPMS!C259)","v":""},{"$f":"IF(Limits_Details_w_CPMS!D259=\"\",\"\",Limits_Details_w_CPMS!D259)","v":""},"",{"$f":"IF(COUNTIF(AH$2:AH237,AH237)=1,AH237,\"\")","v":""},"","","",null,null,null,{"$f":"+IF(AU237=\"\",\"\",MAX(AP$1:AP236)+1)","v":""},{"$f":"IF(CPMS_Detail!B259=\"\",\"\",CPMS_Detail!B259)","v":""},{"$f":"IF(CPMS_Detail!C259=\"\",\"\",CPMS_Detail!C259)","v":""},{"$f":"IF(CPMS_Detail!D259=\"\",\"\",CPMS_Detail!D259)","v":""},"",{"$f":"IF(COUNTIF(AT$2:AT237,AT237)=1,AT237,\"\")","v":""},"","","",null,{"$f":"+IF(BE237=\"\",\"\",MAX(AZ$1:AZ236)+1)","v":""},{"$f":"IF(Mercury!B259=\"\",\"\",Mercury!B259)","v":""},{"$f":"IF(Mercury!C259=\"\",\"\",Mercury!C259)","v":""},{"$f":"IF(Mercury!D259=\"\",\"\",Mercury!D259)","v":""},"",{"$f":"IF(COUNTIF(BB$2:BB237,BB237)=1,BB237,\"\")","v":""},"","",""]
[{"$f":"+IF(D238=\"\",\"\",MAX(A$1:A237)+1)","v":""},{"$f":"IF(CEM_COM_CPMS_Identification!C260=\"\",\"\",CEM_COM_CPMS_Identification!C260)","v":""},"",{"$f":"IF(COUNTIF(B$2:B238,B238)=1,B238,\"\")","v":""},null,null,null,null,null,null,null,null,null,null,null,null,null,null,null,{"$f":"+IF(Y238=\"\",\"\",MAX(T$1:T237)+1)","v":""},{"$f":"IF(No_CPMS_Limits_Details!B260=\"\",\"\",No_CPMS_Limits_Details!B260)","v":""},{"$f":"IF(No_CPMS_Limits_Details!C260=\"\",\"\",No_CPMS_Limits_Details!C260)","v":""},{"$f":"IF(No_CPMS_Limits_Details!D260=\"\",\"\",No_CPMS_Limits_Details!D260)","v":""},"",{"$f":"IF(COUNTIF(V$2:V238,V238)=1,V238,\"\")","v":""},"","","",null,{"$f":"+IF(AI238=\"\",\"\",MAX(AD$1:AD237)+1)","v":""},{"$f":"IF(Limits_Details_w_CPMS!B260=\"\",\"\",Limits_Details_w_CPMS!B260)","v":""},{"$f":"IF(Limits_Details_w_CPMS!C260=\"\",\"\",Limits_Details_w_CPMS!C260)","v":""},{"$f":"IF(Limits_Details_w_CPMS!D260=\"\",\"\",Limits_Details_w_CPMS!D260)","v":""},"",{"$f":"IF(COUNTIF(AH$2:AH238,AH238)=1,AH238,\"\")","v":""},"","","",null,null,null,{"$f":"+IF(AU238=\"\",\"\",MAX(AP$1:AP237)+1)","v":""},{"$f":"IF(CPMS_Detail!B260=\"\",\"\",CPMS_Detail!B260)","v":""},{"$f":"IF(CPMS_Detail!C260=\"\",\"\",CPMS_Detail!C260)","v":""},{"$f":"IF(CPMS_Detail!D260=\"\",\"\",CPMS_Detail!D260)","v":""},"",{"$f":"IF(COUNTIF(AT$2:AT238,AT238)=1,AT238,\"\")","v":""},"","","",null,{"$f":"+IF(BE238=\"\",\"\",MAX(AZ$1:AZ237)+1)","v":""},{"$f":"IF(Mercury!B260=\"\",\"\",Mercury!B260)","v":""},{"$f":"IF(Mercury!C260=\"\",\"\",Mercury!C260)","v":""},{"$f":"IF(Mercury!D260=\"\",\"\",Mercury!D260)","v":""},"",{"$f":"IF(COUNTIF(BB$2:BB238,BB238)=1,BB238,\"\")","v":""},"","",""]
[{"$f":"+IF(D239=\"\",\"\",MAX(A$1:A238)+1)","v":""},{"$f":"IF(CEM_COM_CPMS_Identification!C261=\"\",\"\",CEM_COM_CPMS_Identification!C261)","v":""},"",{"$f":"IF(COUNTIF(B$2:B239,B239)=1,B239,\"\")","v":""},null,null,null,null,null,null,null,null,null,null,null,null,null,null,null,{"$f":"+IF(Y239=\"\",\"\",MAX(T$1:T238)+1)","v":""},{"$f":"IF(No_CPMS_Limits_Details!B261=\"\",\"\",No_CPMS_Limits_Details!B261)","v":""},{"$f":"IF(No_CPMS_Limits_Details!C261=\"\",\"\",No_CPMS_Limits_Details!C261)","v":""},{"$f":"IF(No_CPMS_Limits_Details!D261=\"\",\"\",No_CPMS_Limits_Details!D261)","v":""},"",{"$f":"IF(COUNTIF(V$2:V239,V239)=1,V239,\"\")","v":""},"","","",null,{"$f":"+IF(AI239=\"\",\"\",MAX(AD$1:AD238)+1)","v":""},{"$f":"IF(Limits_Details_w_CPMS!B261=\"\",\"\",Limits_Details_w_CPMS!B261)","v":""},{"$f":"IF(Limits_Details_w_CPMS!C261=\"\",\"\",Limits_Details_w_CPMS!C261)","v":""},{"$f":"IF(Limits_Details_w_CPMS!D261=\"\",\"\",Limits_Details_w_CPMS!D261)","v":""},"",{"$f":"IF(COUNTIF(AH$2:AH239,AH239)=1,AH239,\"\")","v":""},"","","",null,null,null,{"$f":"+IF(AU239=\"\",\"\",MAX(AP$1:AP238)+1)","v":""},{"$f":"IF(CPMS_Detail!B261=\"\",\"\",CPMS_Detail!B261)","v":""},{"$f":"IF(CPMS_Detail!C261=\"\",\"\",CPMS_Detail!C261)","v":""},{"$f":"IF(CPMS_Detail!D261=\"\",\"\",CPMS_Detail!D261)","v":""},"",{"$f":"IF(COUNTIF(AT$2:AT239,AT239)=1,AT239,\"\")","v":""},"","","",null,{"$f":"+IF(BE239=\"\",\"\",MAX(AZ$1:AZ238)+1)","v":""},{"$f":"IF(Mercury!B261=\"\",\"\",Mercury!B261)","v":""},{"$f":"IF(Mercury!C261=\"\",\"\",Mercury!C261)","v":""},{"$f":"IF(Mercury!D261=\"\",\"\",Mercury!D261)","v":""},"",{"$f":"IF(COUNTIF(BB$2:BB239,BB239)=1,BB239,\"\")","v":""},"","",""]
[{"$f":"+IF(D240=\"\",\"\",MAX(A$1:A239)+1)","v":""},{"$f":"IF(CEM_COM_CPMS_Identification!C262=\"\",\"\",CEM_COM_CPMS_Identification!C262)","v":""},"",{"$f":"IF(COUNTIF(B$2:B240,B240)=1,B240,\"\")","v":""},null,null,null,null,null,null,null,null,null,null,null,null,null,null,null,{"$f":"+IF(Y240=\"\",\"\",MAX(T$1:T239)+1)","v":""},{"$f":"IF(No_CPMS_Limits_Details!B262=\"\",\"\",No_CPMS_Limits_Details!B262)","v":""},{"$f":"IF(No_CPMS_Limits_Details!C262=\"\",\"\",No_CPMS_Limits_Details!C262)","v":""},{"$f":"IF(No_CPMS_Limits_Details!D262=\"\",\"\",No_CPMS_Limits_Details!D262)","v":""},"",{"$f":"IF(COUNTIF(V$2:V240,V240)=1,V240,\"\")","v":""},"","","",null,{"$f":"+IF(AI240=\"\",\"\",MAX(AD$1:AD239)+1)","v":""},{"$f":"IF(Limits_Details_w_CPMS!B262=\"\",\"\",Limits_Details_w_CPMS!B262)","v":""},{"$f":"IF(Limits_Details_w_CPMS!C262=\"\",\"\",Limits_Details_w_CPMS!C262)","v":""},{"$f":"IF(Limits_Details_w_CPMS!D262=\"\",\"\",Limits_Details_w_CPMS!D262)","v":""},"",{"$f":"IF(COUNTIF(AH$2:AH240,AH240)=1,AH240,\"\")","v":""},"","","",null,null,null,{"$f":"+IF(AU240=\"\",\"\",MAX(AP$1:AP239)+1)","v":""},{"$f":"IF(CPMS_Detail!B262=\"\",\"\",CPMS_Detail!B262)","v":""},{"$f":"IF(CPMS_Detail!C262=\"\",\"\",CPMS_Detail!C262)","v":""},{"$f":"IF(CPMS_Detail!D262=\"\",\"\",CPMS_Detail!D262)","v":""},"",{"$f":"IF(COUNTIF(AT$2:AT240,AT240)=1,AT240,\"\")","v":""},"","","",null,{"$f":"+IF(BE240=\"\",\"\",MAX(AZ$1:AZ239)+1)","v":""},{"$f":"IF(Mercury!B262=\"\",\"\",Mercury!B262)","v":""},{"$f":"IF(Mercury!C262=\"\",\"\",Mercury!C262)","v":""},{"$f":"IF(Mercury!D262=\"\",\"\",Mercury!D262)","v":""},"",{"$f":"IF(COUNTIF(BB$2:BB240,BB240)=1,BB240,\"\")","v":""},"","",""]
[{"$f":"+IF(D241=\"\",\"\",MAX(A$1:A240)+1)","v":""},{"$f":"IF(CEM_COM_CPMS_Identification!C263=\"\",\"\",CEM_COM_CPMS_Identification!C263)","v":""},"",{"$f":"IF(COUNTIF(B$2:B241,B241)=1,B241,\"\")","v":""},null,null,null,null,null,null,null,null,null,null,null,null,null,null,null,{"$f":"+IF(Y241=\"\",\"\",MAX(T$1:T240)+1)","v":""},{"$f":"IF(No_CPMS_Limits_Details!B263=\"\",\"\",No_CPMS_Limits_Details!B263)","v":""},{"$f":"IF(No_CPMS_Limits_Details!C263=\"\",\"\",No_CPMS_Limits_Details!C263)","v":""},{"$f":"IF(No_CPMS_Limits_Details!D263=\"\",\"\",No_CPMS_Limits_Details!D263)","v":""},"",{"$f":"IF(COUNTIF(V$2:V241,V241)=1,V241,\"\")","v":""},"","","",null,{"$f":"+IF(AI241=\"\",\"\",MAX(AD$1:AD240)+1)","v":""},{"$f":"IF(Limits_Details_w_CPMS!B263=\"\",\"\",Limits_Details_w_CPMS!B263)","v":""},{"$f":"IF(Limits_Details_w_CPMS!C263=\"\",\"\",Limits_Details_w_CPMS!C263)","v":""},{"$f":"IF(Limits_Details_w_CPMS!D263=\"\",\"\",Limits_Details_w_CPMS!D263)","v":""},"",{"$f":"IF(COUNTIF(AH$2:AH241,AH241)=1,AH241,\"\")","v":""},"","","",null,null,null,{"$f":"+IF(AU241=\"\",\"\",MAX(AP$1:AP240)+1)","v":""},{"$f":"IF(CPMS_Detail!B263=\"\",\"\",CPMS_Detail!B263)","v":""},{"$f":"IF(CPMS_Detail!C263=\"\",\"\",CPMS_Detail!C263)","v":""},{"$f":"IF(CPMS_Detail!D263=\"\",\"\",CPMS_Detail!D263)","v":""},"",{"$f":"IF(COUNTIF(AT$2:AT241,AT241)=1,AT241,\"\")","v":""},"","","",null,{"$f":"+IF(BE241=\"\",\"\",MAX(AZ$1:AZ240)+1)","v":""},{"$f":"IF(Mercury!B263=\"\",\"\",Mercury!B263)","v":""},{"$f":"IF(Mercury!C263=\"\",\"\",Mercury!C263)","v":""},{"$f":"IF(Mercury!D263=\"\",\"\",Mercury!D263)","v":""},"",{"$f":"IF(COUNTIF(BB$2:BB241,BB241)=1,BB241,\"\")","v":""},"","",""]
[{"$f":"+IF(D242=\"\",\"\",MAX(A$1:A241)+1)","v":""},{"$f":"IF(CEM_COM_CPMS_Identification!C264=\"\",\"\",CEM_COM_CPMS_Identification!C264)","v":""},"",{"$f":"IF(COUNTIF(B$2:B242,B242)=1,B242,\"\")","v":""},null,null,null,null,null,null,null,null,null,null,null,null,null,null,null,{"$f":"+IF(Y242=\"\",\"\",MAX(T$1:T241)+1)","v":""},{"$f":"IF(No_CPMS_Limits_Details!B264=\"\",\"\",No_CPMS_Limits_Details!B264)","v":""},{"$f":"IF(No_CPMS_Limits_Details!C264=\"\",\"\",No_CPMS_Limits_Details!C264)","v":""},{"$f":"IF(No_CPMS_Limits_Details!D264=\"\",\"\",No_CPMS_Limits_Details!D264)","v":""},"",{"$f":"IF(COUNTIF(V$2:V242,V242)=1,V242,\"\")","v":""},"","","",null,{"$f":"+IF(AI242=\"\",\"\",MAX(AD$1:AD241)+1)","v":""},{"$f":"IF(Limits_Details_w_CPMS!B264=\"\",\"\",Limits_Details_w_CPMS!B264)","v":""},{"$f":"IF(Limits_Details_w_CPMS!C264=\"\",\"\",Limits_Details_w_CPMS!C264)","v":""},{"$f":"IF(Limits_Details_w_CPMS!D264=\"\",\"\",Limits_Details_w_CPMS!D264)","v":""},"",{"$f":"IF(COUNTIF(AH$2:AH242,AH242)=1,AH242,\"\")","v":""},"","","",null,null,null,{"$f":"+IF(AU242=\"\",\"\",MAX(AP$1:AP241)+1)","v":""},{"$f":"IF(CPMS_Detail!B264=\"\",\"\",CPMS_Detail!B264)","v":""},{"$f":"IF(CPMS_Detail!C264=\"\",\"\",CPMS_Detail!C264)","v":""},{"$f":"IF(CPMS_Detail!D264=\"\",\"\",CPMS_Detail!D264)","v":""},"",{"$f":"IF(COUNTIF(AT$2:AT242,AT242)=1,AT242,\"\")","v":""},"","","",null,{"$f":"+IF(BE242=\"\",\"\",MAX(AZ$1:AZ241)+1)","v":""},{"$f":"IF(Mercury!B264=\"\",\"\",Mercury!B264)","v":""},{"$f":"IF(Mercury!C264=\"\",\"\",Mercury!C264)","v":""},{"$f":"IF(Mercury!D264=\"\",\"\",Mercury!D264)","v":""},"",{"$f":"IF(COUNTIF(BB$2:BB242,BB242)=1,BB242,\"\")","v":""},"","",""]
[{"$f":"+IF(D243=\"\",\"\",MAX(A$1:A242)+1)","v":""},{"$f":"IF(CEM_COM_CPMS_Identification!C265=\"\",\"\",CEM_COM_CPMS_Identification!C265)","v":""},"",{"$f":"IF(COUNTIF(B$2:B243,B243)=1,B243,\"\")","v":""},null,null,null,null,null,null,null,null,null,null,null,null,null,null,null,{"$f":"+IF(Y243=\"\",\"\",MAX(T$1:T242)+1)","v":""},{"$f":"IF(No_CPMS_Limits_Details!B265=\"\",\"\",No_CPMS_Limits_Details!B265)","v":""},{"$f":"IF(No_CPMS_Limits_Details!C265=\"\",\"\",No_CPMS_Limits_Details!C265)","v":""},{"$f":"IF(No_CPMS_Limits_Details!D265=\"\",\"\",No_CPMS_Limits_Details!D265)","v":""},"",{"$f":"IF(COUNTIF(V$2:V243,V243)=1,V243,\"\")","v":""},"","","",null,{"$f":"+IF(AI243=\"\",\"\",MAX(AD$1:AD242)+1)","v":""},{"$f":"IF(Limits_Details_w_CPMS!B265=\"\",\"\",Limits_Details_w_CPMS!B265)","v":""},{"$f":"IF(Limits_Details_w_CPMS!C265=\"\",\"\",Limits_Details_w_CPMS!C265)","v":""},{"$f":"IF(Limits_Details_w_CPMS!D265=\"\",\"\",Limits_Details_w_CPMS!D265)","v":""},"",{"$f":"IF(COUNTIF(AH$2:AH243,AH243)=1,AH243,\"\")","v":""},"","","",null,null,null,{"$f":"+IF(AU243=\"\",\"\",MAX(AP$1:AP242)+1)","v":""},{"$f":"IF(CPMS_Detail!B265=\"\",\"\",CPMS_Detail!B265)","v":""},{"$f":"IF(CPMS_Detail!C265=\"\",\"\",CPMS_Detail!C265)","v":""},{"$f":"IF(CPMS_Detail!D265=\"\",\"\",CPMS_Detail!D265)","v":""},"",{"$f":"IF(COUNTIF(AT$2:AT243,AT243)=1,AT243,\"\")","v":""},"","","",null,{"$f":"+IF(BE243=\"\",\"\",MAX(AZ$1:AZ242)+1)","v":""},{"$f":"IF(Mercury!B265=\"\",\"\",Mercury!B265)","v":""},{"$f":"IF(Mercury!C265=\"\",\"\",Mercury!C265)","v":""},{"$f":"IF(Mercury!D265=\"\",\"\",Mercury!D265)","v":""},"",{"$f":"IF(COUNTIF(BB$2:BB243,BB243)=1,BB243,\"\")","v":""},"","",""]
[{"$f":"+IF(D244=\"\",\"\",MAX(A$1:A243)+1)","v":""},{"$f":"IF(CEM_COM_CPMS_Identification!C266=\"\",\"\",CEM_COM_CPMS_Identification!C266)","v":""},"",{"$f":"IF(COUNTIF(B$2:B244,B244)=1,B244,\"\")","v":""},null,null,null,null,null,null,null,null,null,null,null,null,null,null,null,{"$f":"+IF(Y244=\"\",\"\",MAX(T$1:T243)+1)","v":""},{"$f":"IF(No_CPMS_Limits_Details!B266=\"\",\"\",No_CPMS_Limits_Details!B266)","v":""},{"$f":"IF(No_CPMS_Limits_Details!C266=\"\",\"\",No_CPMS_Limits_Details!C266)","v":""},{"$f":"IF(No_CPMS_Limits_Details!D266=\"\",\"\",No_CPMS_Limits_Details!D266)","v":""},"",{"$f":"IF(COUNTIF(V$2:V244,V244)=1,V244,\"\")","v":""},"","","",null,{"$f":"+IF(AI244=\"\",\"\",MAX(AD$1:AD243)+1)","v":""},{"$f":"IF(Limits_Details_w_CPMS!B266=\"\",\"\",Limits_Details_w_CPMS!B266)","v":""},{"$f":"IF(Limits_Details_w_CPMS!C266=\"\",\"\",Limits_Details_w_CPMS!C266)","v":""},{"$f":"IF(Limits_Details_w_CPMS!D266=\"\",\"\",Limits_Details_w_CPMS!D266)","v":""},"",{"$f":"IF(COUNTIF(AH$2:AH244,AH244)=1,AH244,\"\")","v":""},"","","",null,null,null,{"$f":"+IF(AU244=\"\",\"\",MAX(AP$1:AP243)+1)","v":""},{"$f":"IF(CPMS_Detail!B266=\"\",\"\",CPMS_Detail!B266)","v":""},{"$f":"IF(CPMS_Detail!C266=\"\",\"\",CPMS_Detail!C266)","v":""},{"$f":"IF(CPMS_Detail!D266=\"\",\"\",CPMS_Detail!D266)","v":""},"",{"$f":"IF(COUNTIF(AT$2:AT244,AT244)=1,AT244,\"\")","v":""},"","","",null,{"$f":"+IF(BE244=\"\",\"\",MAX(AZ$1:AZ243)+1)","v":""},{"$f":"IF(Mercury!B266=\"\",\"\",Mercury!B266)","v":""},{"$f":"IF(Mercury!C266=\"\",\"\",Mercury!C266)","v":""},{"$f":"IF(Mercury!D266=\"\",\"\",Mercury!D266)","v":""},"",{"$f":"IF(COUNTIF(BB$2:BB244,BB244)=1,BB244,\"\")","v":""},"","",""]
[{"$f":"+IF(D245=\"\",\"\",MAX(A$1:A244)+1)","v":""},{"$f":"IF(CEM_COM_CPMS_Identification!C267=\"\",\"\",CEM_COM_CPMS_Identification!C267)","v":""},"",{"$f":"IF(COUNTIF(B$2:B245,B245)=1,B245,\"\")","v":""},null,null,null,null,null,null,null,null,null,null,null,null,null,null,null,{"$f":"+IF(Y245=\"\",\"\",MAX(T$1:T244)+1)","v":""},{"$f":"IF(No_CPMS_Limits_Details!B267=\"\",\"\",No_CPMS_Limits_Details!B267)","v":""},{"$f":"IF(No_CPMS_Limits_Details!C267=\"\",\"\",No_CPMS_Limits_Details!C267)","v":""},{"$f":"IF(No_CPMS_Limits_Details!D267=\"\",\"\",No_CPMS_Limits_Details!D267)","v":""},"",{"$f":"IF(COUNTIF(V$2:V245,V245)=1,V245,\"\")","v":""},"","","",null,{"$f":"+IF(AI245=\"\",\"\",MAX(AD$1:AD244)+1)","v":""},{"$f":"IF(Limits_Details_w_CPMS!B267=\"\",\"\",Limits_Details_w_CPMS!B267)","v":""},{"$f":"IF(Limits_Details_w_CPMS!C267=\"\",\"\",Limits_Details_w_CPMS!C267)","v":""},{"$f":"IF(Limits_Details_w_CPMS!D267=\"\",\"\",Limits_Details_w_CPMS!D267)","v":""},"",{"$f":"IF(COUNTIF(AH$2:AH245,AH245)=1,AH245,\"\")","v":""},"","","",null,null,null,{"$f":"+IF(AU245=\"\",\"\",MAX(AP$1:AP244)+1)","v":""},{"$f":"IF(CPMS_Detail!B267=\"\",\"\",CPMS_Detail!B267)","v":""},{"$f":"IF(CPMS_Detail!C267=\"\",\"\",CPMS_Detail!C267)","v":""},{"$f":"IF(CPMS_Detail!D267=\"\",\"\",CPMS_Detail!D267)","v":""},"",{"$f":"IF(COUNTIF(AT$2:AT245,AT245)=1,AT245,\"\")","v":""},"","","",null,{"$f":"+IF(BE245=\"\",\"\",MAX(AZ$1:AZ244)+1)","v":""},{"$f":"IF(Mercury!B267=\"\",\"\",Mercury!B267)","v":""},{"$f":"IF(Mercury!C267=\"\",\"\",Mercury!C267)","v":""},{"$f":"IF(Mercury!D267=\"\",\"\",Mercury!D267)","v":""},"",{"$f":"IF(COUNTIF(BB$2:BB245,BB245)=1,BB245,\"\")","v":""},"","",""]
[{"$f":"+IF(D246=\"\",\"\",MAX(A$1:A245)+1)","v":""},{"$f":"IF(CEM_COM_CPMS_Identification!C268=\"\",\"\",CEM_COM_CPMS_Identification!C268)","v":""},"",{"$f":"IF(COUNTIF(B$2:B246,B246)=1,B246,\"\")","v":""},null,null,null,null,null,null,null,null,null,null,null,null,null,null,null,{"$f":"+IF(Y246=\"\",\"\",MAX(T$1:T245)+1)","v":""},{"$f":"IF(No_CPMS_Limits_Details!B268=\"\",\"\",No_CPMS_Limits_Details!B268)","v":""},{"$f":"IF(No_CPMS_Limits_Details!C268=\"\",\"\",No_CPMS_Limits_Details!C268)","v":""},{"$f":"IF(No_CPMS_Limits_Details!D268=\"\",\"\",No_CPMS_Limits_Details!D268)","v":""},"",{"$f":"IF(COUNTIF(V$2:V246,V246)=1,V246,\"\")","v":""},"","","",null,{"$f":"+IF(AI246=\"\",\"\",MAX(AD$1:AD245)+1)","v":""},{"$f":"IF(Limits_Details_w_CPMS!B268=\"\",\"\",Limits_Details_w_CPMS!B268)","v":""},{"$f":"IF(Limits_Details_w_CPMS!C268=\"\",\"\",Limits_Details_w_CPMS!C268)","v":""},{"$f":"IF(Limits_Details_w_CPMS!D268=\"\",\"\",Limits_Details_w_CPMS!D268)","v":""},"",{"$f":"IF(COUNTIF(AH$2:AH246,AH246)=1,AH246,\"\")","v":""},"","","",null,null,null,{"$f":"+IF(AU246=\"\",\"\",MAX(AP$1:AP245)+1)","v":""},{"$f":"IF(CPMS_Detail!B268=\"\",\"\",CPMS_Detail!B268)","v":""},{"$f":"IF(CPMS_Detail!C268=\"\",\"\",CPMS_Detail!C268)","v":""},{"$f":"IF(CPMS_Detail!D268=\"\",\"\",CPMS_Detail!D268)","v":""},"",{"$f":"IF(COUNTIF(AT$2:AT246,AT246)=1,AT246,\"\")","v":""},"","","",null,{"$f":"+IF(BE246=\"\",\"\",MAX(AZ$1:AZ245)+1)","v":""},{"$f":"IF(Mercury!B268=\"\",\"\",Mercury!B268)","v":""},{"$f":"IF(Mercury!C268=\"\",\"\",Mercury!C268)","v":""},{"$f":"IF(Mercury!D268=\"\",\"\",Mercury!D268)","v":""},"",{"$f":"IF(COUNTIF(BB$2:BB246,BB246)=1,BB246,\"\")","v":""},"","",""]
[{"$f":"+IF(D247=\"\",\"\",MAX(A$1:A246)+1)","v":""},{"$f":"IF(CEM_COM_CPMS_Identification!C269=\"\",\"\",CEM_COM_CPMS_Identification!C269)","v":""},"",{"$f":"IF(COUNTIF(B$2:B247,B247)=1,B247,\"\")","v":""},null,null,null,null,null,null,null,null,null,null,null,null,null,null,null,{"$f":"+IF(Y247=\"\",\"\",MAX(T$1:T246)+1)","v":""},{"$f":"IF(No_CPMS_Limits_Details!B269=\"\",\"\",No_CPMS_Limits_Details!B269)","v":""},{"$f":"IF(No_CPMS_Limits_Details!C269=\"\",\"\",No_CPMS_Limits_Details!C269)","v":""},{"$f":"IF(No_CPMS_Limits_Details!D269=\"\",\"\",No_CPMS_Limits_Details!D269)","v":""},"",{"$f":"IF(COUNTIF(V$2:V247,V247)=1,V247,\"\")","v":""},"","","",null,{"$f":"+IF(AI247=\"\",\"\",MAX(AD$1:AD246)+1)","v":""},{"$f":"IF(Limits_Details_w_CPMS!B269=\"\",\"\",Limits_Details_w_CPMS!B269)","v":""},{"$f":"IF(Limits_Details_w_CPMS!C269=\"\",\"\",Limits_Details_w_CPMS!C269)","v":""},{"$f":"IF(Limits_Details_w_CPMS!D269=\"\",\"\",Limits_Details_w_CPMS!D269)","v":""},"",{"$f":"IF(COUNTIF(AH$2:AH247,AH247)=1,AH247,\"\")","v":""},"","","",null,null,null,{"$f":"+IF(AU247=\"\",\"\",MAX(AP$1:AP246)+1)","v":""},{"$f":"IF(CPMS_Detail!B269=\"\",\"\",CPMS_Detail!B269)","v":""},{"$f":"IF(CPMS_Detail!C269=\"\",\"\",CPMS_Detail!C269)","v":""},{"$f":"IF(CPMS_Detail!D269=\"\",\"\",CPMS_Detail!D269)","v":""},"",{"$f":"IF(COUNTIF(AT$2:AT247,AT247)=1,AT247,\"\")","v":""},"","","",null,{"$f":"+IF(BE247=\"\",\"\",MAX(AZ$1:AZ246)+1)","v":""},{"$f":"IF(Mercury!B269=\"\",\"\",Mercury!B269)","v":""},{"$f":"IF(Mercury!C269=\"\",\"\",Mercury!C269)","v":""},{"$f":"IF(Mercury!D269=\"\",\"\",Mercury!D269)","v":""},"",{"$f":"IF(COUNTIF(BB$2:BB247,BB247)=1,BB247,\"\")","v":""},"","",""]
[{"$f":"+IF(D248=\"\",\"\",MAX(A$1:A247)+1)","v":""},{"$f":"IF(CEM_COM_CPMS_Identification!C270=\"\",\"\",CEM_COM_CPMS_Identification!C270)","v":""},"",{"$f":"IF(COUNTIF(B$2:B248,B248)=1,B248,\"\")","v":""},null,null,null,null,null,null,null,null,null,null,null,null,null,null,null,{"$f":"+IF(Y248=\"\",\"\",MAX(T$1:T247)+1)","v":""},{"$f":"IF(No_CPMS_Limits_Details!B270=\"\",\"\",No_CPMS_Limits_Details!B270)","v":""},{"$f":"IF(No_CPMS_Limits_Details!C270=\"\",\"\",No_CPMS_Limits_Details!C270)","v":""},{"$f":"IF(No_CPMS_Limits_Details!D270=\"\",\"\",No_CPMS_Limits_Details!D270)","v":""},"",{"$f":"IF(COUNTIF(V$2:V248,V248)=1,V248,\"\")","v":""},"","","",null,{"$f":"+IF(AI248=\"\",\"\",MAX(AD$1:AD247)+1)","v":""},{"$f":"IF(Limits_Details_w_CPMS!B270=\"\",\"\",Limits_Details_w_CPMS!B270)","v":""},{"$f":"IF(Limits_Details_w_CPMS!C270=\"\",\"\",Limits_Details_w_CPMS!C270)","v":""},{"$f":"IF(Limits_Details_w_CPMS!D270=\"\",\"\",Limits_Details_w_CPMS!D270)","v":""},"",{"$f":"IF(COUNTIF(AH$2:AH248,AH248)=1,AH248,\"\")","v":""},"","","",null,null,null,{"$f":"+IF(AU248=\"\",\"\",MAX(AP$1:AP247)+1)","v":""},{"$f":"IF(CPMS_Detail!B270=\"\",\"\",CPMS_Detail!B270)","v":""},{"$f":"IF(CPMS_Detail!C270=\"\",\"\",CPMS_Detail!C270)","v":""},{"$f":"IF(CPMS_Detail!D270=\"\",\"\",CPMS_Detail!D270)","v":""},"",{"$f":"IF(COUNTIF(AT$2:AT248,AT248)=1,AT248,\"\")","v":""},"","","",null,{"$f":"+IF(BE248=\"\",\"\",MAX(AZ$1:AZ247)+1)","v":""},{"$f":"IF(Mercury!B270=\"\",\"\",Mercury!B270)","v":""},{"$f":"IF(Mercury!C270=\"\",\"\",Mercury!C270)","v":""},{"$f":"IF(Mercury!D270=\"\",\"\",Mercury!D270)","v":""},"",{"$f":"IF(COUNTIF(BB$2:BB248,BB248)=1,BB248,\"\")","v":""},"","",""]
[{"$f":"+IF(D249=\"\",\"\",MAX(A$1:A248)+1)","v":""},{"$f":"IF(CEM_COM_CPMS_Identification!C271=\"\",\"\",CEM_COM_CPMS_Identification!C271)","v":""},"",{"$f":"IF(COUNTIF(B$2:B249,B249)=1,B249,\"\")","v":""},null,null,null,null,null,null,null,null,null,null,null,null,null,null,null,{"$f":"+IF(Y249=\"\",\"\",MAX(T$1:T248)+1)","v":""},{"$f":"IF(No_CPMS_Limits_Details!B271=\"\",\"\",No_CPMS_Limits_Details!B271)","v":""},{"$f":"IF(No_CPMS_Limits_Details!C271=\"\",\"\",No_CPMS_Limits_Details!C271)","v":""},{"$f":"IF(No_CPMS_Limits_Details!D271=\"\",\"\",No_CPMS_Limits_Details!D271)","v":""},"",{"$f":"IF(COUNTIF(V$2:V249,V249)=1,V249,\"\")","v":""},"","","",null,{"$f":"+IF(AI249=\"\",\"\",MAX(AD$1:AD248)+1)","v":""},{"$f":"IF(Limits_Details_w_CPMS!B271=\"\",\"\",Limits_Details_w_CPMS!B271)","v":""},{"$f":"IF(Limits_Details_w_CPMS!C271=\"\",\"\",Limits_Details_w_CPMS!C271)","v":""},{"$f":"IF(Limits_Details_w_CPMS!D271=\"\",\"\",Limits_Details_w_CPMS!D271)","v":""},"",{"$f":"IF(COUNTIF(AH$2:AH249,AH249)=1,AH249,\"\")","v":""},"","","",null,null,null,{"$f":"+IF(AU249=\"\",\"\",MAX(AP$1:AP248)+1)","v":""},{"$f":"IF(CPMS_Detail!B271=\"\",\"\",CPMS_Detail!B271)","v":""},{"$f":"IF(CPMS_Detail!C271=\"\",\"\",CPMS_Detail!C271)","v":""},{"$f":"IF(CPMS_Detail!D271=\"\",\"\",CPMS_Detail!D271)","v":""},"",{"$f":"IF(COUNTIF(AT$2:AT249,AT249)=1,AT249,\"\")","v":""},"","","",null,{"$f":"+IF(BE249=\"\",\"\",MAX(AZ$1:AZ248)+1)","v":""},{"$f":"IF(Mercury!B271=\"\",\"\",Mercury!B271)","v":""},{"$f":"IF(Mercury!C271=\"\",\"\",Mercury!C271)","v":""},{"$f":"IF(Mercury!D271=\"\",\"\",Mercury!D271)","v":""},"",{"$f":"IF(COUNTIF(BB$2:BB249,BB249)=1,BB249,\"\")","v":""},"","",""]
[{"$f":"+IF(D250=\"\",\"\",MAX(A$1:A249)+1)","v":""},{"$f":"IF(CEM_COM_CPMS_Identification!C272=\"\",\"\",CEM_COM_CPMS_Identification!C272)","v":""},"",{"$f":"IF(COUNTIF(B$2:B250,B250)=1,B250,\"\")","v":""},null,null,null,null,null,null,null,null,null,null,null,null,null,null,null,{"$f":"+IF(Y250=\"\",\"\",MAX(T$1:T249)+1)","v":""},{"$f":"IF(No_CPMS_Limits_Details!B272=\"\",\"\",No_CPMS_Limits_Details!B272)","v":""},{"$f":"IF(No_CPMS_Limits_Details!C272=\"\",\"\",No_CPMS_Limits_Details!C272)","v":""},{"$f":"IF(No_CPMS_Limits_Details!D272=\"\",\"\",No_CPMS_Limits_Details!D272)","v":""},"",{"$f":"IF(COUNTIF(V$2:V250,V250)=1,V250,\"\")","v":""},"","","",null,{"$f":"+IF(AI250=\"\",\"\",MAX(AD$1:AD249)+1)","v":""},{"$f":"IF(Limits_Details_w_CPMS!B272=\"\",\"\",Limits_Details_w_CPMS!B272)","v":""},{"$f":"IF(Limits_Details_w_CPMS!C272=\"\",\"\",Limits_Details_w_CPMS!C272)","v":""},{"$f":"IF(Limits_Details_w_CPMS!D272=\"\",\"\",Limits_Details_w_CPMS!D272)","v":""},"",{"$f":"IF(COUNTIF(AH$2:AH250,AH250)=1,AH250,\"\")","v":""},"","","",null,null,null,{"$f":"+IF(AU250=\"\",\"\",MAX(AP$1:AP249)+1)","v":""},{"$f":"IF(CPMS_Detail!B272=\"\",\"\",CPMS_Detail!B272)","v":""},{"$f":"IF(CPMS_Detail!C272=\"\",\"\",CPMS_Detail!C272)","v":""},{"$f":"IF(CPMS_Detail!D272=\"\",\"\",CPMS_Detail!D272)","v":""},"",{"$f":"IF(COUNTIF(AT$2:AT250,AT250)=1,AT250,\"\")","v":""},"","","",null,{"$f":"+IF(BE250=\"\",\"\",MAX(AZ$1:AZ249)+1)","v":""},{"$f":"IF(Mercury!B272=\"\",\"\",Mercury!B272)","v":""},{"$f":"IF(Mercury!C272=\"\",\"\",Mercury!C272)","v":""},{"$f":"IF(Mercury!D272=\"\",\"\",Mercury!D272)","v":""},"",{"$f":"IF(COUNTIF(BB$2:BB250,BB250)=1,BB250,\"\")","v":""},"","",""]
[{"$f":"+IF(D251=\"\",\"\",MAX(A$1:A250)+1)","v":""},{"$f":"IF(CEM_COM_CPMS_Identification!C273=\"\",\"\",CEM_COM_CPMS_Identification!C273)","v":""},"",{"$f":"IF(COUNTIF(B$2:B251,B251)=1,B251,\"\")","v":""},null,null,null,null,null,null,null,null,null,null,null,null,null,null,null,{"$f":"+IF(Y251=\"\",\"\",MAX(T$1:T250)+1)","v":""},{"$f":"IF(No_CPMS_Limits_Details!B273=\"\",\"\",No_CPMS_Limits_Details!B273)","v":""},{"$f":"IF(No_CPMS_Limits_Details!C273=\"\",\"\",No_CPMS_Limits_Details!C273)","v":""},{"$f":"IF(No_CPMS_Limits_Details!D273=\"\",\"\",No_CPMS_Limits_Details!D273)","v":""},"",{"$f":"IF(COUNTIF(V$2:V251,V251)=1,V251,\"\")","v":""},"","","",null,{"$f":"+IF(AI251=\"\",\"\",MAX(AD$1:AD250)+1)","v":""},{"$f":"IF(Limits_Details_w_CPMS!B273=\"\",\"\",Limits_Details_w_CPMS!B273)","v":""},{"$f":"IF(Limits_Details_w_CPMS!C273=\"\",\"\",Limits_Details_w_CPMS!C273)","v":""},{"$f":"IF(Limits_Details_w_CPMS!D273=\"\",\"\",Limits_Details_w_CPMS!D273)","v":""},"",{"$f":"IF(COUNTIF(AH$2:AH251,AH251)=1,AH251,\"\")","v":""},"","","",null,null,null,{"$f":"+IF(AU251=\"\",\"\",MAX(AP$1:AP250)+1)","v":""},{"$f":"IF(CPMS_Detail!B273=\"\",\"\",CPMS_Detail!B273)","v":""},{"$f":"IF(CPMS_Detail!C273=\"\",\"\",CPMS_Detail!C273)","v":""},{"$f":"IF(CPMS_Detail!D273=\"\",\"\",CPMS_Detail!D273)","v":""},"",{"$f":"IF(COUNTIF(AT$2:AT251,AT251)=1,AT251,\"\")","v":""},"","","",null,{"$f":"+IF(BE251=\"\",\"\",MAX(AZ$1:AZ250)+1)","v":""},{"$f":"IF(Mercury!B273=\"\",\"\",Mercury!B273)","v":""},{"$f":"IF(Mercury!C273=\"\",\"\",Mercury!C273)","v":""},{"$f":"IF(Mercury!D273=\"\",\"\",Mercury!D273)","v":""},"",{"$f":"IF(COUNTIF(BB$2:BB251,BB251)=1,BB251,\"\")","v":""},"","",""]
[{"$f":"+IF(D252=\"\",\"\",MAX(A$1:A251)+1)","v":""},{"$f":"IF(CEM_COM_CPMS_Identification!C274=\"\",\"\",CEM_COM_CPMS_Identification!C274)","v":""},"",{"$f":"IF(COUNTIF(B$2:B252,B252)=1,B252,\"\")","v":""},null,null,null,null,null,null,null,null,null,null,null,null,null,null,null,{"$f":"+IF(Y252=\"\",\"\",MAX(T$1:T251)+1)","v":""},{"$f":"IF(No_CPMS_Limits_Details!B274=\"\",\"\",No_CPMS_Limits_Details!B274)","v":""},{"$f":"IF(No_CPMS_Limits_Details!C274=\"\",\"\",No_CPMS_Limits_Details!C274)","v":""},{"$f":"IF(No_CPMS_Limits_Details!D274=\"\",\"\",No_CPMS_Limits_Details!D274)","v":""},"",{"$f":"IF(COUNTIF(V$2:V252,V252)=1,V252,\"\")","v":""},"","","",null,{"$f":"+IF(AI252=\"\",\"\",MAX(AD$1:AD251)+1)","v":""},{"$f":"IF(Limits_Details_w_CPMS!B274=\"\",\"\",Limits_Details_w_CPMS!B274)","v":""},{"$f":"IF(Limits_Details_w_CPMS!C274=\"\",\"\",Limits_Details_w_CPMS!C274)","v":""},{"$f":"IF(Limits_Details_w_CPMS!D274=\"\",\"\",Limits_Details_w_CPMS!D274)","v":""},"",{"$f":"IF(COUNTIF(AH$2:AH252,AH252)=1,AH252,\"\")","v":""},"","","",null,null,null,{"$f":"+IF(AU252=\"\",\"\",MAX(AP$1:AP251)+1)","v":""},{"$f":"IF(CPMS_Detail!B274=\"\",\"\",CPMS_Detail!B274)","v":""},{"$f":"IF(CPMS_Detail!C274=\"\",\"\",CPMS_Detail!C274)","v":""},{"$f":"IF(CPMS_Detail!D274=\"\",\"\",CPMS_Detail!D274)","v":""},"",{"$f":"IF(COUNTIF(AT$2:AT252,AT252)=1,AT252,\"\")","v":""},"","","",null,{"$f":"+IF(BE252=\"\",\"\",MAX(AZ$1:AZ251)+1)","v":""},{"$f":"IF(Mercury!B274=\"\",\"\",Mercury!B274)","v":""},{"$f":"IF(Mercury!C274=\"\",\"\",Mercury!C274)","v":""},{"$f":"IF(Mercury!D274=\"\",\"\",Mercury!D274)","v":""},"",{"$f":"IF(COUNTIF(BB$2:BB252,BB252)=1,BB252,\"\")","v":""},"","",""]
[{"$f":"+IF(D253=\"\",\"\",MAX(A$1:A252)+1)","v":""},{"$f":"IF(CEM_COM_CPMS_Identification!C275=\"\",\"\",CEM_COM_CPMS_Identification!C275)","v":""},"",{"$f":"IF(COUNTIF(B$2:B253,B253)=1,B253,\"\")","v":""},null,null,null,null,null,null,null,null,null,null,null,null,null,null,null,{"$f":"+IF(Y253=\"\",\"\",MAX(T$1:T252)+1)","v":""},{"$f":"IF(No_CPMS_Limits_Details!B275=\"\",\"\",No_CPMS_Limits_Details!B275)","v":""},{"$f":"IF(No_CPMS_Limits_Details!C275=\"\",\"\",No_CPMS_Limits_Details!C275)","v":""},{"$f":"IF(No_CPMS_Limits_Details!D275=\"\",\"\",No_CPMS_Limits_Details!D275)","v":""},"",{"$f":"IF(COUNTIF(V$2:V253,V253)=1,V253,\"\")","v":""},"","","",null,{"$f":"+IF(AI253=\"\",\"\",MAX(AD$1:AD252)+1)","v":""},{"$f":"IF(Limits_Details_w_CPMS!B275=\"\",\"\",Limits_Details_w_CPMS!B275)","v":""},{"$f":"IF(Limits_Details_w_CPMS!C275=\"\",\"\",Limits_Details_w_CPMS!C275)","v":""},{"$f":"IF(Limits_Details_w_CPMS!D275=\"\",\"\",Limits_Details_w_CPMS!D275)","v":""},"",{"$f":"IF(COUNTIF(AH$2:AH253,AH253)=1,AH253,\"\")","v":""},"","","",null,null,null,{"$f":"+IF(AU253=\"\",\"\",MAX(AP$1:AP252)+1)","v":""},{"$f":"IF(CPMS_Detail!B275=\"\",\"\",CPMS_Detail!B275)","v":""},{"$f":"IF(CPMS_Detail!C275=\"\",\"\",CPMS_Detail!C275)","v":""},{"$f":"IF(CPMS_Detail!D275=\"\",\"\",CPMS_Detail!D275)","v":""},"",{"$f":"IF(COUNTIF(AT$2:AT253,AT253)=1,AT253,\"\")","v":""},"","","",null,{"$f":"+IF(BE253=\"\",\"\",MAX(AZ$1:AZ252)+1)","v":""},{"$f":"IF(Mercury!B275=\"\",\"\",Mercury!B275)","v":""},{"$f":"IF(Mercury!C275=\"\",\"\",Mercury!C275)","v":""},{"$f":"IF(Mercury!D275=\"\",\"\",Mercury!D275)","v":""},"",{"$f":"IF(COUNTIF(BB$2:BB253,BB253)=1,BB253,\"\")","v":""},"","",""]
[{"$f":"+IF(D254=\"\",\"\",MAX(A$1:A253)+1)","v":""},{"$f":"IF(CEM_COM_CPMS_Identification!C276=\"\",\"\",CEM_COM_CPMS_Identification!C276)","v":""},"",{"$f":"IF(COUNTIF(B$2:B254,B254)=1,B254,\"\")","v":""},null,null,null,null,null,null,null,null,null,null,null,null,null,null,null,{"$f":"+IF(Y254=\"\",\"\",MAX(T$1:T253)+1)","v":""},{"$f":"IF(No_CPMS_Limits_Details!B276=\"\",\"\",No_CPMS_Limits_Details!B276)","v":""},{"$f":"IF(No_CPMS_Limits_Details!C276=\"\",\"\",No_CPMS_Limits_Details!C276)","v":""},{"$f":"IF(No_CPMS_Limits_Details!D276=\"\",\"\",No_CPMS_Limits_Details!D276)","v":""},"",{"$f":"IF(COUNTIF(V$2:V254,V254)=1,V254,\"\")","v":""},"","","",null,{"$f":"+IF(AI254=\"\",\"\",MAX(AD$1:AD253)+1)","v":""},{"$f":"IF(Limits_Details_w_CPMS!B276=\"\",\"\",Limits_Details_w_CPMS!B276)","v":""},{"$f":"IF(Limits_Details_w_CPMS!C276=\"\",\"\",Limits_Details_w_CPMS!C276)","v":""},{"$f":"IF(Limits_Details_w_CPMS!D276=\"\",\"\",Limits_Details_w_CPMS!D276)","v":""},"",{"$f":"IF(COUNTIF(AH$2:AH254,AH254)=1,AH254,\"\")","v":""},"","","",null,null,null,{"$f":"+IF(AU254=\"\",\"\",MAX(AP$1:AP253)+1)","v":""},{"$f":"IF(CPMS_Detail!B276=\"\",\"\",CPMS_Detail!B276)","v":""},{"$f":"IF(CPMS_Detail!C276=\"\",\"\",CPMS_Detail!C276)","v":""},{"$f":"IF(CPMS_Detail!D276=\"\",\"\",CPMS_Detail!D276)","v":""},"",{"$f":"IF(COUNTIF(AT$2:AT254,AT254)=1,AT254,\"\")","v":""},"","","",null,{"$f":"+IF(BE254=\"\",\"\",MAX(AZ$1:AZ253)+1)","v":""},{"$f":"IF(Mercury!B276=\"\",\"\",Mercury!B276)","v":""},{"$f":"IF(Mercury!C276=\"\",\"\",Mercury!C276)","v":""},{"$f":"IF(Mercury!D276=\"\",\"\",Mercury!D276)","v":""},"",{"$f":"IF(COUNTIF(BB$2:BB254,BB254)=1,BB254,\"\")","v":""},"","",""]
[{"$f":"+IF(D255=\"\",\"\",MAX(A$1:A254)+1)","v":""},{"$f":"IF(CEM_COM_CPMS_Identification!C277=\"\",\"\",CEM_COM_CPMS_Identification!C277)","v":""},"",{"$f":"IF(COUNTIF(B$2:B255,B255)=1,B255,\"\")","v":""},null,null,null,null,null,null,null,null,null,null,null,null,null,null,null,{"$f":"+IF(Y255=\"\",\"\",MAX(T$1:T254)+1)","v":""},{"$f":"IF(No_CPMS_Limits_Details!B277=\"\",\"\",No_CPMS_Limits_Details!B277)","v":""},{"$f":"IF(No_CPMS_Limits_Details!C277=\"\",\"\",No_CPMS_Limits_Details!C277)","v":""},{"$f":"IF(No_CPMS_Limits_Details!D277=\"\",\"\",No_CPMS_Limits_Details!D277)","v":""},"",{"$f":"IF(COUNTIF(V$2:V255,V255)=1,V255,\"\")","v":""},"","","",null,{"$f":"+IF(AI255=\"\",\"\",MAX(AD$1:AD254)+1)","v":""},{"$f":"IF(Limits_Details_w_CPMS!B277=\"\",\"\",Limits_Details_w_CPMS!B277)","v":""},{"$f":"IF(Limits_Details_w_CPMS!C277=\"\",\"\",Limits_Details_w_CPMS!C277)","v":""},{"$f":"IF(Limits_Details_w_CPMS!D277=\"\",\"\",Limits_Details_w_CPMS!D277)","v":""},"",{"$f":"IF(COUNTIF(AH$2:AH255,AH255)=1,AH255,\"\")","v":""},"","","",null,null,null,{"$f":"+IF(AU255=\"\",\"\",MAX(AP$1:AP254)+1)","v":""},{"$f":"IF(CPMS_Detail!B277=\"\",\"\",CPMS_Detail!B277)","v":""},{"$f":"IF(CPMS_Detail!C277=\"\",\"\",CPMS_Detail!C277)","v":""},{"$f":"IF(CPMS_Detail!D277=\"\",\"\",CPMS_Detail!D277)","v":""},"",{"$f":"IF(COUNTIF(AT$2:AT255,AT255)=1,AT255,\"\")","v":""},"","","",null,{"$f":"+IF(BE255=\"\",\"\",MAX(AZ$1:AZ254)+1)","v":""},{"$f":"IF(Mercury!B277=\"\",\"\",Mercury!B277)","v":""},{"$f":"IF(Mercury!C277=\"\",\"\",Mercury!C277)","v":""},{"$f":"IF(Mercury!D277=\"\",\"\",Mercury!D277)","v":""},"",{"$f":"IF(COUNTIF(BB$2:BB255,BB255)=1,BB255,\"\")","v":""},"","",""]
[{"$f":"+IF(D256=\"\",\"\",MAX(A$1:A255)+1)","v":""},{"$f":"IF(CEM_COM_CPMS_Identification!C278=\"\",\"\",CEM_COM_CPMS_Identification!C278)","v":""},"",{"$f":"IF(COUNTIF(B$2:B256,B256)=1,B256,\"\")","v":""},null,null,null,null,null,null,null,null,null,null,null,null,null,null,null,{"$f":"+IF(Y256=\"\",\"\",MAX(T$1:T255)+1)","v":""},{"$f":"IF(No_CPMS_Limits_Details!B278=\"\",\"\",No_CPMS_Limits_Details!B278)","v":""},{"$f":"IF(No_CPMS_Limits_Details!C278=\"\",\"\",No_CPMS_Limits_Details!C278)","v":""},{"$f":"IF(No_CPMS_Limits_Details!D278=\"\",\"\",No_CPMS_Limits_Details!D278)","v":""},"",{"$f":"IF(COUNTIF(V$2:V256,V256)=1,V256,\"\")","v":""},"","","",null,{"$f":"+IF(AI256=\"\",\"\",MAX(AD$1:AD255)+1)","v":""},{"$f":"IF(Limits_Details_w_CPMS!B278=\"\",\"\",Limits_Details_w_CPMS!B278)","v":""},{"$f":"IF(Limits_Details_w_CPMS!C278=\"\",\"\",Limits_Details_w_CPMS!C278)","v":""},{"$f":"IF(Limits_Details_w_CPMS!D278=\"\",\"\",Limits_Details_w_CPMS!D278)","v":""},"",{"$f":"IF(COUNTIF(AH$2:AH256,AH256)=1,AH256,\"\")","v":""},"","","",null,null,null,{"$f":"+IF(AU256=\"\",\"\",MAX(AP$1:AP255)+1)","v":""},{"$f":"IF(CPMS_Detail!B278=\"\",\"\",CPMS_Detail!B278)","v":""},{"$f":"IF(CPMS_Detail!C278=\"\",\"\",CPMS_Detail!C278)","v":""},{"$f":"IF(CPMS_Detail!D278=\"\",\"\",CPMS_Detail!D278)","v":""},"",{"$f":"IF(COUNTIF(AT$2:AT256,AT256)=1,AT256,\"\")","v":""},"","","",null,{"$f":"+IF(BE256=\"\",\"\",MAX(AZ$1:AZ255)+1)","v":""},{"$f":"IF(Mercury!B278=\"\",\"\",Mercury!B278)","v":""},{"$f":"IF(Mercury!C278=\"\",\"\",Mercury!C278)","v":""},{"$f":"IF(Mercury!D278=\"\",\"\",Mercury!D278)","v":""},"",{"$f":"IF(COUNTIF(BB$2:BB256,BB256)=1,BB256,\"\")","v":""},"","",""]
[{"$f":"+IF(D257=\"\",\"\",MAX(A$1:A256)+1)","v":""},{"$f":"IF(CEM_COM_CPMS_Identification!C279=\"\",\"\",CEM_COM_CPMS_Identification!C279)","v":""},"",{"$f":"IF(COUNTIF(B$2:B257,B257)=1,B257,\"\")","v":""},null,null,null,null,null,null,null,null,null,null,null,null,null,null,null,{"$f":"+IF(Y257=\"\",\"\",MAX(T$1:T256)+1)","v":""},{"$f":"IF(No_CPMS_Limits_Details!B279=\"\",\"\",No_CPMS_Limits_Details!B279)","v":""},{"$f":"IF(No_CPMS_Limits_Details!C279=\"\",\"\",No_CPMS_Limits_Details!C279)","v":""},{"$f":"IF(No_CPMS_Limits_Details!D279=\"\",\"\",No_CPMS_Limits_Details!D279)","v":""},"",{"$f":"IF(COUNTIF(V$2:V257,V257)=1,V257,\"\")","v":""},"","","",null,{"$f":"+IF(AI257=\"\",\"\",MAX(AD$1:AD256)+1)","v":""},{"$f":"IF(Limits_Details_w_CPMS!B279=\"\",\"\",Limits_Details_w_CPMS!B279)","v":""},{"$f":"IF(Limits_Details_w_CPMS!C279=\"\",\"\",Limits_Details_w_CPMS!C279)","v":""},{"$f":"IF(Limits_Details_w_CPMS!D279=\"\",\"\",Limits_Details_w_CPMS!D279)","v":""},"",{"$f":"IF(COUNTIF(AH$2:AH257,AH257)=1,AH257,\"\")","v":""},"","","",null,null,null,{"$f":"+IF(AU257=\"\",\"\",MAX(AP$1:AP256)+1)","v":""},{"$f":"IF(CPMS_Detail!B279=\"\",\"\",CPMS_Detail!B279)","v":""},{"$f":"IF(CPMS_Detail!C279=\"\",\"\",CPMS_Detail!C279)","v":""},{"$f":"IF(CPMS_Detail!D279=\"\",\"\",CPMS_Detail!D279)","v":""},"",{"$f":"IF(COUNTIF(AT$2:AT257,AT257)=1,AT257,\"\")","v":""},"","","",null,{"$f":"+IF(BE257=\"\",\"\",MAX(AZ$1:AZ256)+1)","v":""},{"$f":"IF(Mercury!B279=\"\",\"\",Mercury!B279)","v":""},{"$f":"IF(Mercury!C279=\"\",\"\",Mercury!C279)","v":""},{"$f":"IF(Mercury!D279=\"\",\"\",Mercury!D279)","v":""},"",{"$f":"IF(COUNTIF(BB$2:BB257,BB257)=1,BB257,\"\")","v":""},"","",""]
[{"$f":"+IF(D258=\"\",\"\",MAX(A$1:A257)+1)","v":""},{"$f":"IF(CEM_COM_CPMS_Identification!C280=\"\",\"\",CEM_COM_CPMS_Identification!C280)","v":""},{"$f":"+IFERROR(INDEX(B$2:B$501,MATCH(ROW()-ROW($C$1),A$2:A$501,0)),\"\")","v":""},{"$f":"IF(COUNTIF(B$2:B258,B258)=1,B258,\"\")","v":""},null,null,null,null,null,null,null,null,null,null,null,null,null,null,null,{"$f":"+IF(Y258=\"\",\"\",MAX(T$1:T257)+1)","v":""},{"$f":"IF(No_CPMS_Limits_Details!B280=\"\",\"\",No_CPMS_Limits_Details!B280)","v":""},{"$f":"IF(No_CPMS_Limits_Details!C280=\"\",\"\",No_CPMS_Limits_Details!C280)","v":""},{"$f":"IF(No_CPMS_Limits_Details!D280=\"\",\"\",No_CPMS_Limits_Details!D280)","v":""},{"$f":"U258&V258&W259","v":""},{"$f":"IF(COUNTIF(V$2:V258,V258)=1,V258,\"\")","v":""},{"$f":"+IFERROR(INDEX(U$2:U$955,MATCH(ROW()-ROW(Z$1),T$2:T$955,0)),\"\")","v":""},{"$f":"+IFERROR(INDEX(V$2:V$955,MATCH(ROW()-ROW(Z$1),T$2:T$955,0)),\"\")","v":""},{"$f":"+IFERROR(INDEX(W$2:W$955,MATCH(ROW()-ROW(Z$1),T$2:T$955,0)),\"\")","v":""},null,{"$f":"+IF(AI258=\"\",\"\",MAX(AD$1:AD257)+1)","v":""},{"$f":"IF(Limits_Details_w_CPMS!B280=\"\",\"\",Limits_Details_w_CPMS!B280)","v":""},{"$f":"IF(Limits_Details_w_CPMS!C280=\"\",\"\",Limits_Details_w_CPMS!C280)","v":""},{"$f":"IF(Limits_Details_w_CPMS!D280=\"\",\"\",Limits_Details_w_CPMS!D280)","v":""},"",{"$f":"IF(COUNTIF(AH$2:AH258,AH258)=1,AH258,\"\")","v":""},{"$f":"+IFERROR(INDEX(AE$2:AE$955,MATCH(ROW()-ROW(AJ$1),AD$2:AD$955,0)),\"\")","v":""},{"$f":"+IFERROR(INDEX(AF$2:AF$955,MATCH(ROW()-ROW(AJ$1),AD$2:AD$955,0)),\"\")","v":""},{"$f":"+IFERROR(INDEX(AG$2:AG$955,MATCH(ROW()-ROW(AJ$1),AD$2:AD$955,0)),\"\")","v":""},null,null,null,{"$f":"+IF(AU258=\"\",\"\",MAX(AP$1:AP257)+1)","v":""},{"$f":"IF(CPMS_Detail!B280=\"\",\"\",CPMS_Detail!B280)","v":""},{"$f":"IF(CPMS_Detail!C280=\"\",\"\",CPMS_Detail!C280)","v":""},{"$f":"IF(CPMS_Detail!D280=\"\",\"\",CPMS_Detail!D280)","v":""},"",{"$f":"IF(COUNTIF(AT$2:AT258,AT258)=1,AT258,\"\")","v":""},"","","",null,{"$f":"+IF(BE258=\"\",\"\",MAX(AZ$1:AZ257)+1)","v":""},{"$f":"IF(Mercury!B280=\"\",\"\",Mercury!B280)","v":""},{"$f":"IF(Mercury!C280=\"\",\"\",Mercury!C280)","v":""},{"$f":"IF(Mercury!D280=\"\",\"\",Mercury!D280)","v":""},{"$f":"BA258&BB258&BC259","v":""},{"$f":"IF(COUNTIF(BB$2:BB258,BB258)=1,BB258,\"\")","v":""},{"$f":"+IFERROR(INDEX(BA$2:BA$955,MATCH(ROW()-ROW(BF$1),AZ$2:AZ$955,0)),\"\")","v":""},{"$f":"+IFERROR(INDEX(BB$2:BB$955,MATCH(ROW()-ROW(BF$1),AZ$2:AZ$955,0)),\"\")","v":""},{"$f":"+IFERROR(INDEX(BC$2:BC$955,MATCH(ROW()-ROW(BF$1),AZ$2:AZ$955,0)),\"\")","v":""}]
[{"$f":"+IF(D259=\"\",\"\",MAX(A$1:A258)+1)","v":""},{"$f":"IF(CEM_COM_CPMS_Identification!C281=\"\",\"\",CEM_COM_CPMS_Identification!C281)","v":""},"",{"$f":"IF(COUNTIF(B$2:B259,B259)=1,B259,\"\")","v":""},null,null,null,null,null,null,null,null,null,null,null,null,null,null,null,{"$f":"+IF(Y259=\"\",\"\",MAX(T$1:T258)+1)","v":""},{"$f":"IF(No_CPMS_Limits_Details!B281=\"\",\"\",No_CPMS_Limits_Details!B281)","v":""},{"$f":"IF(No_CPMS_Limits_Details!C281=\"\",\"\",No_CPMS_Limits_Details!C281)","v":""},{"$f":"IF(No_CPMS_Limits_Details!D281=\"\",\"\",No_CPMS_Limits_Details!D281)","v":""},"",{"$f":"IF(COUNTIF(V$2:V259,V259)=1,V259,\"\")","v":""},"","","",null,{"$f":"+IF(AI259=\"\",\"\",MAX(AD$1:AD258)+1)","v":""},{"$f":"IF(Limits_Details_w_CPMS!B281=\"\",\"\",Limits_Details_w_CPMS!B281)","v":""},{"$f":"IF(Limits_Details_w_CPMS!C281=\"\",\"\",Limits_Details_w_CPMS!C281)","v":""},{"$f":"IF(Limits_Details_w_CPMS!D281=\"\",\"\",Limits_Details_w_CPMS!D281)","v":""},{"$f":"AE259&AF259&AG259","v":""},{"$f":"IF(COUNTIF(AH$2:AH259,AH259)=1,AH259,\"\")","v":""},"","","",null,null,null,{"$f":"+IF(AU259=\"\",\"\",MAX(AP$1:AP258)+1)","v":""},{"$f":"IF(CPMS_Detail!B281=\"\",\"\",CPMS_Detail!B281)","v":""},{"$f":"IF(CPMS_Detail!C281=\"\",\"\",CPMS_Detail!C281)","v":""},{"$f":"IF(CPMS_Detail!D281=\"\",\"\",CPMS_Detail!D281)","v":""},{"$f":"AQ259&AR259&AS259","v":""},{"$f":"IF(COUNTIF(AT$2:AT259,AT259)=1,AT259,\"\")","v":""},{"$f":"+IFERROR(INDEX(AQ$2:AQ$955,MATCH(ROW()-ROW(AV$1),AP$2:AP$955,0)),\"\")","v":""},{"$f":"+IFERROR(INDEX(AR$2:AR$955,MATCH(ROW()-ROW(AV$1),AP$2:AP$955,0)),\"\")","v":""},{"$f":"+IFERROR(INDEX(AS$2:AS$955,MATCH(ROW()-ROW(AV$1),AP$2:AP$955,0)),\"\")","v":""},null,{"$f":"+IF(BE259=\"\",\"\",MAX(AZ$1:AZ258)+1)","v":""},{"$f":"IF(Mercury!B281=\"\",\"\",Mercury!B281)","v":""},{"$f":"IF(Mercury!C281=\"\",\"\",Mercury!C281)","v":""},{"$f":"IF(Mercury!D281=\"\",\"\",Mercury!D281)","v":""},"",{"$f":"IF(COUNTIF(BB$2:BB259,BB259)=1,BB259,\"\")","v":""},"","",""]
[{"$f":"+IF(D260=\"\",\"\",MAX(A$1:A259)+1)","v":""},{"$f":"IF(CEM_COM_CPMS_Identification!C282=\"\",\"\",CEM_COM_CPMS_Identification!C282)","v":""},"",{"$f":"IF(COUNTIF(B$2:B260,B260)=1,B260,\"\")","v":""},null,null,null,null,null,null,null,null,null,null,null,null,null,null,null,{"$f":"+IF(Y260=\"\",\"\",MAX(T$1:T259)+1)","v":""},{"$f":"IF(No_CPMS_Limits_Details!B282=\"\",\"\",No_CPMS_Limits_Details!B282)","v":""},{"$f":"IF(No_CPMS_Limits_Details!C282=\"\",\"\",No_CPMS_Limits_Details!C282)","v":""},{"$f":"IF(No_CPMS_Limits_Details!D282=\"\",\"\",No_CPMS_Limits_Details!D282)","v":""},"",{"$f":"IF(COUNTIF(V$2:V260,V260)=1,V260,\"\")","v":""},"","","",null,{"$f":"+IF(AI260=\"\",\"\",MAX(AD$1:AD259)+1)","v":""},{"$f":"IF(Limits_Details_w_CPMS!B282=\"\",\"\",Limits_Details_w_CPMS!B282)","v":""},{"$f":"IF(Limits_Details_w_CPMS!C282=\"\",\"\",Limits_Details_w_CPMS!C282)","v":""},{"$f":"IF(Limits_Details_w_CPMS!D282=\"\",\"\",Limits_Details_w_CPMS!D282)","v":""},"",{"$f":"IF(COUNTIF(AH$2:AH260,AH260)=1,AH260,\"\")","v":""},"","","",null,null,null,{"$f":"+IF(AU260=\"\",\"\",MAX(AP$1:AP259)+1)","v":""},{"$f":"IF(CPMS_Detail!B282=\"\",\"\",CPMS_Detail!B282)","v":""},{"$f":"IF(CPMS_Detail!C282=\"\",\"\",CPMS_Detail!C282)","v":""},{"$f":"IF(CPMS_Detail!D282=\"\",\"\",CPMS_Detail!D282)","v":""},"",{"$f":"IF(COUNTIF(AT$2:AT260,AT260)=1,AT260,\"\")","v":""},"","","",null,{"$f":"+IF(BE260=\"\",\"\",MAX(AZ$1:AZ259)+1)","v":""},{"$f":"IF(Mercury!B282=\"\",\"\",Mercury!B282)","v":""},{"$f":"IF(Mercury!C282=\"\",\"\",Mercury!C282)","v":""},{"$f":"IF(Mercury!D282=\"\",\"\",Mercury!D282)","v":""},"",{"$f":"IF(COUNTIF(BB$2:BB260,BB260)=1,BB260,\"\")","v":""},"","",""]
[{"$f":"+IF(D261=\"\",\"\",MAX(A$1:A260)+1)","v":""},{"$f":"IF(CEM_COM_CPMS_Identification!C283=\"\",\"\",CEM_COM_CPMS_Identification!C283)","v":""},"",{"$f":"IF(COUNTIF(B$2:B261,B261)=1,B261,\"\")","v":""},null,null,null,null,null,null,null,null,null,null,null,null,null,null,null,{"$f":"+IF(Y261=\"\",\"\",MAX(T$1:T260)+1)","v":""},{"$f":"IF(No_CPMS_Limits_Details!B283=\"\",\"\",No_CPMS_Limits_Details!B283)","v":""},{"$f":"IF(No_CPMS_Limits_Details!C283=\"\",\"\",No_CPMS_Limits_Details!C283)","v":""},{"$f":"IF(No_CPMS_Limits_Details!D283=\"\",\"\",No_CPMS_Limits_Details!D283)","v":""},"",{"$f":"IF(COUNTIF(V$2:V261,V261)=1,V261,\"\")","v":""},"","","",null,{"$f":"+IF(AI261=\"\",\"\",MAX(AD$1:AD260)+1)","v":""},{"$f":"IF(Limits_Details_w_CPMS!B283=\"\",\"\",Limits_Details_w_CPMS!B283)","v":""},{"$f":"IF(Limits_Details_w_CPMS!C283=\"\",\"\",Limits_Details_w_CPMS!C283)","v":""},{"$f":"IF(Limits_Details_w_CPMS!D283=\"\",\"\",Limits_Details_w_CPMS!D283)","v":""},"",{"$f":"IF(COUNTIF(AH$2:AH261,AH261)=1,AH261,\"\")","v":""},"","","",null,null,null,{"$f":"+IF(AU261=\"\",\"\",MAX(AP$1:AP260)+1)","v":""},{"$f":"IF(CPMS_Detail!B283=\"\",\"\",CPMS_Detail!B283)","v":""},{"$f":"IF(CPMS_Detail!C283=\"\",\"\",CPMS_Detail!C283)","v":""},{"$f":"IF(CPMS_Detail!D283=\"\",\"\",CPMS_Detail!D283)","v":""},"",{"$f":"IF(COUNTIF(AT$2:AT261,AT261)=1,AT261,\"\")","v":""},"","","",null,{"$f":"+IF(BE261=\"\",\"\",MAX(AZ$1:AZ260)+1)","v":""},{"$f":"IF(Mercury!B283=\"\",\"\",Mercury!B283)","v":""},{"$f":"IF(Mercury!C283=\"\",\"\",Mercury!C283)","v":""},{"$f":"IF(Mercury!D283=\"\",\"\",Mercury!D283)","v":""},"",{"$f":"IF(COUNTIF(BB$2:BB261,BB261)=1,BB261,\"\")","v":""},"","",""]
[{"$f":"+IF(D262=\"\",\"\",MAX(A$1:A261)+1)","v":""},{"$f":"IF(CEM_COM_CPMS_Identification!C284=\"\",\"\",CEM_COM_CPMS_Identification!C284)","v":""},"",{"$f":"IF(COUNTIF(B$2:B262,B262)=1,B262,\"\")","v":""},null,null,null,null,null,null,null,null,null,null,null,null,null,null,null,{"$f":"+IF(Y262=\"\",\"\",MAX(T$1:T261)+1)","v":""},{"$f":"IF(No_CPMS_Limits_Details!B284=\"\",\"\",No_CPMS_Limits_Details!B284)","v":""},{"$f":"IF(No_CPMS_Limits_Details!C284=\"\",\"\",No_CPMS_Limits_Details!C284)","v":""},{"$f":"IF(No_CPMS_Limits_Details!D284=\"\",\"\",No_CPMS_Limits_Details!D284)","v":""},"",{"$f":"IF(COUNTIF(V$2:V262,V262)=1,V262,\"\")","v":""},"","","",null,{"$f":"+IF(AI262=\"\",\"\",MAX(AD$1:AD261)+1)","v":""},{"$f":"IF(Limits_Details_w_CPMS!B284=\"\",\"\",Limits_Details_w_CPMS!B284)","v":""},{"$f":"IF(Limits_Details_w_CPMS!C284=\"\",\"\",Limits_Details_w_CPMS!C284)","v":""},{"$f":"IF(Limits_Details_w_CPMS!D284=\"\",\"\",Limits_Details_w_CPMS!D284)","v":""},"",{"$f":"IF(COUNTIF(AH$2:AH262,AH262)=1,AH262,\"\")","v":""},"","","",null,null,null,{"$f":"+IF(AU262=\"\",\"\",MAX(AP$1:AP261)+1)","v":""},{"$f":"IF(CPMS_Detail!B284=\"\",\"\",CPMS_Detail!B284)","v":""},{"$f":"IF(CPMS_Detail!C284=\"\",\"\",CPMS_Detail!C284)","v":""},{"$f":"IF(CPMS_Detail!D284=\"\",\"\",CPMS_Detail!D284)","v":""},"",{"$f":"IF(COUNTIF(AT$2:AT262,AT262)=1,AT262,\"\")","v":""},"","","",null,{"$f":"+IF(BE262=\"\",\"\",MAX(AZ$1:AZ261)+1)","v":""},{"$f":"IF(Mercury!B284=\"\",\"\",Mercury!B284)","v":""},{"$f":"IF(Mercury!C284=\"\",\"\",Mercury!C284)","v":""},{"$f":"IF(Mercury!D284=\"\",\"\",Mercury!D284)","v":""},"",{"$f":"IF(COUNTIF(BB$2:BB262,BB262)=1,BB262,\"\")","v":""},"","",""]
[{"$f":"+IF(D263=\"\",\"\",MAX(A$1:A262)+1)","v":""},{"$f":"IF(CEM_COM_CPMS_Identification!C285=\"\",\"\",CEM_COM_CPMS_Identification!C285)","v":""},"",{"$f":"IF(COUNTIF(B$2:B263,B263)=1,B263,\"\")","v":""},null,null,null,null,null,null,null,null,null,null,null,null,null,null,null,{"$f":"+IF(Y263=\"\",\"\",MAX(T$1:T262)+1)","v":""},{"$f":"IF(No_CPMS_Limits_Details!B285=\"\",\"\",No_CPMS_Limits_Details!B285)","v":""},{"$f":"IF(No_CPMS_Limits_Details!C285=\"\",\"\",No_CPMS_Limits_Details!C285)","v":""},{"$f":"IF(No_CPMS_Limits_Details!D285=\"\",\"\",No_CPMS_Limits_Details!D285)","v":""},"",{"$f":"IF(COUNTIF(V$2:V263,V263)=1,V263,\"\")","v":""},"","","",null,{"$f":"+IF(AI263=\"\",\"\",MAX(AD$1:AD262)+1)","v":""},{"$f":"IF(Limits_Details_w_CPMS!B285=\"\",\"\",Limits_Details_w_CPMS!B285)","v":""},{"$f":"IF(Limits_Details_w_CPMS!C285=\"\",\"\",Limits_Details_w_CPMS!C285)","v":""},{"$f":"IF(Limits_Details_w_CPMS!D285=\"\",\"\",Limits_Details_w_CPMS!D285)","v":""},"",{"$f":"IF(COUNTIF(AH$2:AH263,AH263)=1,AH263,\"\")","v":""},"","","",null,null,null,{"$f":"+IF(AU263=\"\",\"\",MAX(AP$1:AP262)+1)","v":""},{"$f":"IF(CPMS_Detail!B285=\"\",\"\",CPMS_Detail!B285)","v":""},{"$f":"IF(CPMS_Detail!C285=\"\",\"\",CPMS_Detail!C285)","v":""},{"$f":"IF(CPMS_Detail!D285=\"\",\"\",CPMS_Detail!D285)","v":""},"",{"$f":"IF(COUNTIF(AT$2:AT263,AT263)=1,AT263,\"\")","v":""},"","","",null,{"$f":"+IF(BE263=\"\",\"\",MAX(AZ$1:AZ262)+1)","v":""},{"$f":"IF(Mercury!B285=\"\",\"\",Mercury!B285)","v":""},{"$f":"IF(Mercury!C285=\"\",\"\",Mercury!C285)","v":""},{"$f":"IF(Mercury!D285=\"\",\"\",Mercury!D285)","v":""},"",{"$f":"IF(COUNTIF(BB$2:BB263,BB263)=1,BB263,\"\")","v":""},"","",""]
[{"$f":"+IF(D264=\"\",\"\",MAX(A$1:A263)+1)","v":""},{"$f":"IF(CEM_COM_CPMS_Identification!C286=\"\",\"\",CEM_COM_CPMS_Identification!C286)","v":""},"",{"$f":"IF(COUNTIF(B$2:B264,B264)=1,B264,\"\")","v":""},null,null,null,null,null,null,null,null,null,null,null,null,null,null,null,{"$f":"+IF(Y264=\"\",\"\",MAX(T$1:T263)+1)","v":""},{"$f":"IF(No_CPMS_Limits_Details!B286=\"\",\"\",No_CPMS_Limits_Details!B286)","v":""},{"$f":"IF(No_CPMS_Limits_Details!C286=\"\",\"\",No_CPMS_Limits_Details!C286)","v":""},{"$f":"IF(No_CPMS_Limits_Details!D286=\"\",\"\",No_CPMS_Limits_Details!D286)","v":""},"",{"$f":"IF(COUNTIF(V$2:V264,V264)=1,V264,\"\")","v":""},"","","",null,{"$f":"+IF(AI264=\"\",\"\",MAX(AD$1:AD263)+1)","v":""},{"$f":"IF(Limits_Details_w_CPMS!B286=\"\",\"\",Limits_Details_w_CPMS!B286)","v":""},{"$f":"IF(Limits_Details_w_CPMS!C286=\"\",\"\",Limits_Details_w_CPMS!C286)","v":""},{"$f":"IF(Limits_Details_w_CPMS!D286=\"\",\"\",Limits_Details_w_CPMS!D286)","v":""},"",{"$f":"IF(COUNTIF(AH$2:AH264,AH264)=1,AH264,\"\")","v":""},"","","",null,null,null,{"$f":"+IF(AU264=\"\",\"\",MAX(AP$1:AP263)+1)","v":""},{"$f":"IF(CPMS_Detail!B286=\"\",\"\",CPMS_Detail!B286)","v":""},{"$f":"IF(CPMS_Detail!C286=\"\",\"\",CPMS_Detail!C286)","v":""},{"$f":"IF(CPMS_Detail!D286=\"\",\"\",CPMS_Detail!D286)","v":""},"",{"$f":"IF(COUNTIF(AT$2:AT264,AT264)=1,AT264,\"\")","v":""},"","","",null,{"$f":"+IF(BE264=\"\",\"\",MAX(AZ$1:AZ263)+1)","v":""},{"$f":"IF(Mercury!B286=\"\",\"\",Mercury!B286)","v":""},{"$f":"IF(Mercury!C286=\"\",\"\",Mercury!C286)","v":""},{"$f":"IF(Mercury!D286=\"\",\"\",Mercury!D286)","v":""},"",{"$f":"IF(COUNTIF(BB$2:BB264,BB264)=1,BB264,\"\")","v":""},"","",""]
[{"$f":"+IF(D265=\"\",\"\",MAX(A$1:A264)+1)","v":""},{"$f":"IF(CEM_COM_CPMS_Identification!C287=\"\",\"\",CEM_COM_CPMS_Identification!C287)","v":""},"",{"$f":"IF(COUNTIF(B$2:B265,B265)=1,B265,\"\")","v":""},null,null,null,null,null,null,null,null,null,null,null,null,null,null,null,{"$f":"+IF(Y265=\"\",\"\",MAX(T$1:T264)+1)","v":""},{"$f":"IF(No_CPMS_Limits_Details!B287=\"\",\"\",No_CPMS_Limits_Details!B287)","v":""},{"$f":"IF(No_CPMS_Limits_Details!C287=\"\",\"\",No_CPMS_Limits_Details!C287)","v":""},{"$f":"IF(No_CPMS_Limits_Details!D287=\"\",\"\",No_CPMS_Limits_Details!D287)","v":""},"",{"$f":"IF(COUNTIF(V$2:V265,V265)=1,V265,\"\")","v":""},"","","",null,{"$f":"+IF(AI265=\"\",\"\",MAX(AD$1:AD264)+1)","v":""},{"$f":"IF(Limits_Details_w_CPMS!B287=\"\",\"\",Limits_Details_w_CPMS!B287)","v":""},{"$f":"IF(Limits_Details_w_CPMS!C287=\"\",\"\",Limits_Details_w_CPMS!C287)","v":""},{"$f":"IF(Limits_Details_w_CPMS!D287=\"\",\"\",Limits_Details_w_CPMS!D287)","v":""},"",{"$f":"IF(COUNTIF(AH$2:AH265,AH265)=1,AH265,\"\")","v":""},"","","",null,null,null,{"$f":"+IF(AU265=\"\",\"\",MAX(AP$1:AP264)+1)","v":""},{"$f":"IF(CPMS_Detail!B287=\"\",\"\",CPMS_Detail!B287)","v":""},{"$f":"IF(CPMS_Detail!C287=\"\",\"\",CPMS_Detail!C287)","v":""},{"$f":"IF(CPMS_Detail!D287=\"\",\"\",CPMS_Detail!D287)","v":""},"",{"$f":"IF(COUNTIF(AT$2:AT265,AT265)=1,AT265,\"\")","v":""},"","","",null,{"$f":"+IF(BE265=\"\",\"\",MAX(AZ$1:AZ264)+1)","v":""},{"$f":"IF(Mercury!B287=\"\",\"\",Mercury!B287)","v":""},{"$f":"IF(Mercury!C287=\"\",\"\",Mercury!C287)","v":""},{"$f":"IF(Mercury!D287=\"\",\"\",Mercury!D287)","v":""},"",{"$f":"IF(COUNTIF(BB$2:BB265,BB265)=1,BB265,\"\")","v":""},"","",""]
[{"$f":"+IF(D266=\"\",\"\",MAX(A$1:A265)+1)","v":""},{"$f":"IF(CEM_COM_CPMS_Identification!C288=\"\",\"\",CEM_COM_CPMS_Identification!C288)","v":""},"",{"$f":"IF(COUNTIF(B$2:B266,B266)=1,B266,\"\")","v":""},null,null,null,null,null,null,null,null,null,null,null,null,null,null,null,{"$f":"+IF(Y266=\"\",\"\",MAX(T$1:T265)+1)","v":""},{"$f":"IF(No_CPMS_Limits_Details!B288=\"\",\"\",No_CPMS_Limits_Details!B288)","v":""},{"$f":"IF(No_CPMS_Limits_Details!C288=\"\",\"\",No_CPMS_Limits_Details!C288)","v":""},{"$f":"IF(No_CPMS_Limits_Details!D288=\"\",\"\",No_CPMS_Limits_Details!D288)","v":""},"",{"$f":"IF(COUNTIF(V$2:V266,V266)=1,V266,\"\")","v":""},"","","",null,{"$f":"+IF(AI266=\"\",\"\",MAX(AD$1:AD265)+1)","v":""},{"$f":"IF(Limits_Details_w_CPMS!B288=\"\",\"\",Limits_Details_w_CPMS!B288)","v":""},{"$f":"IF(Limits_Details_w_CPMS!C288=\"\",\"\",Limits_Details_w_CPMS!C288)","v":""},{"$f":"IF(Limits_Details_w_CPMS!D288=\"\",\"\",Limits_Details_w_CPMS!D288)","v":""},"",{"$f":"IF(COUNTIF(AH$2:AH266,AH266)=1,AH266,\"\")","v":""},"","","",null,null,null,{"$f":"+IF(AU266=\"\",\"\",MAX(AP$1:AP265)+1)","v":""},{"$f":"IF(CPMS_Detail!B288=\"\",\"\",CPMS_Detail!B288)","v":""},{"$f":"IF(CPMS_Detail!C288=\"\",\"\",CPMS_Detail!C288)","v":""},{"$f":"IF(CPMS_Detail!D288=\"\",\"\",CPMS_Detail!D288)","v":""},"",{"$f":"IF(COUNTIF(AT$2:AT266,AT266)=1,AT266,\"\")","v":""},"","","",null,{"$f":"+IF(BE266=\"\",\"\",MAX(AZ$1:AZ265)+1)","v":""},{"$f":"IF(Mercury!B288=\"\",\"\",Mercury!B288)","v":""},{"$f":"IF(Mercury!C288=\"\",\"\",Mercury!C288)","v":""},{"$f":"IF(Mercury!D288=\"\",\"\",Mercury!D288)","v":""},"",{"$f":"IF(COUNTIF(BB$2:BB266,BB266)=1,BB266,\"\")","v":""},"","",""]
[{"$f":"+IF(D267=\"\",\"\",MAX(A$1:A266)+1)","v":""},{"$f":"IF(CEM_COM_CPMS_Identification!C289=\"\",\"\",CEM_COM_CPMS_Identification!C289)","v":""},"",{"$f":"IF(COUNTIF(B$2:B267,B267)=1,B267,\"\")","v":""},null,null,null,null,null,null,null,null,null,null,null,null,null,null,null,{"$f":"+IF(Y267=\"\",\"\",MAX(T$1:T266)+1)","v":""},{"$f":"IF(No_CPMS_Limits_Details!B289=\"\",\"\",No_CPMS_Limits_Details!B289)","v":""},{"$f":"IF(No_CPMS_Limits_Details!C289=\"\",\"\",No_CPMS_Limits_Details!C289)","v":""},{"$f":"IF(No_CPMS_Limits_Details!D289=\"\",\"\",No_CPMS_Limits_Details!D289)","v":""},"",{"$f":"IF(COUNTIF(V$2:V267,V267)=1,V267,\"\")","v":""},"","","",null,{"$f":"+IF(AI267=\"\",\"\",MAX(AD$1:AD266)+1)","v":""},{"$f":"IF(Limits_Details_w_CPMS!B289=\"\",\"\",Limits_Details_w_CPMS!B289)","v":""},{"$f":"IF(Limits_Details_w_CPMS!C289=\"\",\"\",Limits_Details_w_CPMS!C289)","v":""},{"$f":"IF(Limits_Details_w_CPMS!D289=\"\",\"\",Limits_Details_w_CPMS!D289)","v":""},"",{"$f":"IF(COUNTIF(AH$2:AH267,AH267)=1,AH267,\"\")","v":""},"","","",null,null,null,{"$f":"+IF(AU267=\"\",\"\",MAX(AP$1:AP266)+1)","v":""},{"$f":"IF(CPMS_Detail!B289=\"\",\"\",CPMS_Detail!B289)","v":""},{"$f":"IF(CPMS_Detail!C289=\"\",\"\",CPMS_Detail!C289)","v":""},{"$f":"IF(CPMS_Detail!D289=\"\",\"\",CPMS_Detail!D289)","v":""},"",{"$f":"IF(COUNTIF(AT$2:AT267,AT267)=1,AT267,\"\")","v":""},"","","",null,{"$f":"+IF(BE267=\"\",\"\",MAX(AZ$1:AZ266)+1)","v":""},{"$f":"IF(Mercury!B289=\"\",\"\",Mercury!B289)","v":""},{"$f":"IF(Mercury!C289=\"\",\"\",Mercury!C289)","v":""},{"$f":"IF(Mercury!D289=\"\",\"\",Mercury!D289)","v":""},"",{"$f":"IF(COUNTIF(BB$2:BB267,BB267)=1,BB267,\"\")","v":""},"","",""]
[{"$f":"+IF(D268=\"\",\"\",MAX(A$1:A267)+1)","v":""},{"$f":"IF(CEM_COM_CPMS_Identification!C290=\"\",\"\",CEM_COM_CPMS_Identification!C290)","v":""},"",{"$f":"IF(COUNTIF(B$2:B268,B268)=1,B268,\"\")","v":""},null,null,null,null,null,null,null,null,null,null,null,null,null,null,null,{"$f":"+IF(Y268=\"\",\"\",MAX(T$1:T267)+1)","v":""},{"$f":"IF(No_CPMS_Limits_Details!B290=\"\",\"\",No_CPMS_Limits_Details!B290)","v":""},{"$f":"IF(No_CPMS_Limits_Details!C290=\"\",\"\",No_CPMS_Limits_Details!C290)","v":""},{"$f":"IF(No_CPMS_Limits_Details!D290=\"\",\"\",No_CPMS_Limits_Details!D290)","v":""},"",{"$f":"IF(COUNTIF(V$2:V268,V268)=1,V268,\"\")","v":""},"","","",null,{"$f":"+IF(AI268=\"\",\"\",MAX(AD$1:AD267)+1)","v":""},{"$f":"IF(Limits_Details_w_CPMS!B290=\"\",\"\",Limits_Details_w_CPMS!B290)","v":""},{"$f":"IF(Limits_Details_w_CPMS!C290=\"\",\"\",Limits_Details_w_CPMS!C290)","v":""},{"$f":"IF(Limits_Details_w_CPMS!D290=\"\",\"\",Limits_Details_w_CPMS!D290)","v":""},"",{"$f":"IF(COUNTIF(AH$2:AH268,AH268)=1,AH268,\"\")","v":""},"","","",null,null,null,{"$f":"+IF(AU268=\"\",\"\",MAX(AP$1:AP267)+1)","v":""},{"$f":"IF(CPMS_Detail!B290=\"\",\"\",CPMS_Detail!B290)","v":""},{"$f":"IF(CPMS_Detail!C290=\"\",\"\",CPMS_Detail!C290)","v":""},{"$f":"IF(CPMS_Detail!D290=\"\",\"\",CPMS_Detail!D290)","v":""},"",{"$f":"IF(COUNTIF(AT$2:AT268,AT268)=1,AT268,\"\")","v":""},"","","",null,{"$f":"+IF(BE268=\"\",\"\",MAX(AZ$1:AZ267)+1)","v":""},{"$f":"IF(Mercury!B290=\"\",\"\",Mercury!B290)","v":""},{"$f":"IF(Mercury!C290=\"\",\"\",Mercury!C290)","v":""},{"$f":"IF(Mercury!D290=\"\",\"\",Mercury!D290)","v":""},"",{"$f":"IF(COUNTIF(BB$2:BB268,BB268)=1,BB268,\"\")","v":""},"","",""]
[{"$f":"+IF(D269=\"\",\"\",MAX(A$1:A268)+1)","v":""},{"$f":"IF(CEM_COM_CPMS_Identification!C291=\"\",\"\",CEM_COM_CPMS_Identification!C291)","v":""},"",{"$f":"IF(COUNTIF(B$2:B269,B269)=1,B269,\"\")","v":""},null,null,null,null,null,null,null,null,null,null,null,null,null,null,null,{"$f":"+IF(Y269=\"\",\"\",MAX(T$1:T268)+1)","v":""},{"$f":"IF(No_CPMS_Limits_Details!B291=\"\",\"\",No_CPMS_Limits_Details!B291)","v":""},{"$f":"IF(No_CPMS_Limits_Details!C291=\"\",\"\",No_CPMS_Limits_Details!C291)","v":""},{"$f":"IF(No_CPMS_Limits_Details!D291=\"\",\"\",No_CPMS_Limits_Details!D291)","v":""},"",{"$f":"IF(COUNTIF(V$2:V269,V269)=1,V269,\"\")","v":""},"","","",null,{"$f":"+IF(AI269=\"\",\"\",MAX(AD$1:AD268)+1)","v":""},{"$f":"IF(Limits_Details_w_CPMS!B291=\"\",\"\",Limits_Details_w_CPMS!B291)","v":""},{"$f":"IF(Limits_Details_w_CPMS!C291=\"\",\"\",Limits_Details_w_CPMS!C291)","v":""},{"$f":"IF(Limits_Details_w_CPMS!D291=\"\",\"\",Limits_Details_w_CPMS!D291)","v":""},"",{"$f":"IF(COUNTIF(AH$2:AH269,AH269)=1,AH269,\"\")","v":""},"","","",null,null,null,{"$f":"+IF(AU269=\"\",\"\",MAX(AP$1:AP268)+1)","v":""},{"$f":"IF(CPMS_Detail!B291=\"\",\"\",CPMS_Detail!B291)","v":""},{"$f":"IF(CPMS_Detail!C291=\"\",\"\",CPMS_Detail!C291)","v":""},{"$f":"IF(CPMS_Detail!D291=\"\",\"\",CPMS_Detail!D291)","v":""},"",{"$f":"IF(COUNTIF(AT$2:AT269,AT269)=1,AT269,\"\")","v":""},"","","",null,{"$f":"+IF(BE269=\"\",\"\",MAX(AZ$1:AZ268)+1)","v":""},{"$f":"IF(Mercury!B291=\"\",\"\",Mercury!B291)","v":""},{"$f":"IF(Mercury!C291=\"\",\"\",Mercury!C291)","v":""},{"$f":"IF(Mercury!D291=\"\",\"\",Mercury!D291)","v":""},"",{"$f":"IF(COUNTIF(BB$2:BB269,BB269)=1,BB269,\"\")","v":""},"","",""]
[{"$f":"+IF(D270=\"\",\"\",MAX(A$1:A269)+1)","v":""},{"$f":"IF(CEM_COM_CPMS_Identification!C292=\"\",\"\",CEM_COM_CPMS_Identification!C292)","v":""},"",{"$f":"IF(COUNTIF(B$2:B270,B270)=1,B270,\"\")","v":""},null,null,null,null,null,null,null,null,null,null,null,null,null,null,null,{"$f":"+IF(Y270=\"\",\"\",MAX(T$1:T269)+1)","v":""},{"$f":"IF(No_CPMS_Limits_Details!B292=\"\",\"\",No_CPMS_Limits_Details!B292)","v":""},{"$f":"IF(No_CPMS_Limits_Details!C292=\"\",\"\",No_CPMS_Limits_Details!C292)","v":""},{"$f":"IF(No_CPMS_Limits_Details!D292=\"\",\"\",No_CPMS_Limits_Details!D292)","v":""},"",{"$f":"IF(COUNTIF(V$2:V270,V270)=1,V270,\"\")","v":""},"","","",null,{"$f":"+IF(AI270=\"\",\"\",MAX(AD$1:AD269)+1)","v":""},{"$f":"IF(Limits_Details_w_CPMS!B292=\"\",\"\",Limits_Details_w_CPMS!B292)","v":""},{"$f":"IF(Limits_Details_w_CPMS!C292=\"\",\"\",Limits_Details_w_CPMS!C292)","v":""},{"$f":"IF(Limits_Details_w_CPMS!D292=\"\",\"\",Limits_Details_w_CPMS!D292)","v":""},"",{"$f":"IF(COUNTIF(AH$2:AH270,AH270)=1,AH270,\"\")","v":""},"","","",null,null,null,{"$f":"+IF(AU270=\"\",\"\",MAX(AP$1:AP269)+1)","v":""},{"$f":"IF(CPMS_Detail!B292=\"\",\"\",CPMS_Detail!B292)","v":""},{"$f":"IF(CPMS_Detail!C292=\"\",\"\",CPMS_Detail!C292)","v":""},{"$f":"IF(CPMS_Detail!D292=\"\",\"\",CPMS_Detail!D292)","v":""},"",{"$f":"IF(COUNTIF(AT$2:AT270,AT270)=1,AT270,\"\")","v":""},"","","",null,{"$f":"+IF(BE270=\"\",\"\",MAX(AZ$1:AZ269)+1)","v":""},{"$f":"IF(Mercury!B292=\"\",\"\",Mercury!B292)","v":""},{"$f":"IF(Mercury!C292=\"\",\"\",Mercury!C292)","v":""},{"$f":"IF(Mercury!D292=\"\",\"\",Mercury!D292)","v":""},"",{"$f":"IF(COUNTIF(BB$2:BB270,BB270)=1,BB270,\"\")","v":""},"","",""]
[{"$f":"+IF(D271=\"\",\"\",MAX(A$1:A270)+1)","v":""},{"$f":"IF(CEM_COM_CPMS_Identification!C293=\"\",\"\",CEM_COM_CPMS_Identification!C293)","v":""},"",{"$f":"IF(COUNTIF(B$2:B271,B271)=1,B271,\"\")","v":""},null,null,null,null,null,null,null,null,null,null,null,null,null,null,null,{"$f":"+IF(Y271=\"\",\"\",MAX(T$1:T270)+1)","v":""},{"$f":"IF(No_CPMS_Limits_Details!B293=\"\",\"\",No_CPMS_Limits_Details!B293)","v":""},{"$f":"IF(No_CPMS_Limits_Details!C293=\"\",\"\",No_CPMS_Limits_Details!C293)","v":""},{"$f":"IF(No_CPMS_Limits_Details!D293=\"\",\"\",No_CPMS_Limits_Details!D293)","v":""},"",{"$f":"IF(COUNTIF(V$2:V271,V271)=1,V271,\"\")","v":""},"","","",null,{"$f":"+IF(AI271=\"\",\"\",MAX(AD$1:AD270)+1)","v":""},{"$f":"IF(Limits_Details_w_CPMS!B293=\"\",\"\",Limits_Details_w_CPMS!B293)","v":""},{"$f":"IF(Limits_Details_w_CPMS!C293=\"\",\"\",Limits_Details_w_CPMS!C293)","v":""},{"$f":"IF(Limits_Details_w_CPMS!D293=\"\",\"\",Limits_Details_w_CPMS!D293)","v":""},"",{"$f":"IF(COUNTIF(AH$2:AH271,AH271)=1,AH271,\"\")","v":""},"","","",null,null,null,{"$f":"+IF(AU271=\"\",\"\",MAX(AP$1:AP270)+1)","v":""},{"$f":"IF(CPMS_Detail!B293=\"\",\"\",CPMS_Detail!B293)","v":""},{"$f":"IF(CPMS_Detail!C293=\"\",\"\",CPMS_Detail!C293)","v":""},{"$f":"IF(CPMS_Detail!D293=\"\",\"\",CPMS_Detail!D293)","v":""},"",{"$f":"IF(COUNTIF(AT$2:AT271,AT271)=1,AT271,\"\")","v":""},"","","",null,{"$f":"+IF(BE271=\"\",\"\",MAX(AZ$1:AZ270)+1)","v":""},{"$f":"IF(Mercury!B293=\"\",\"\",Mercury!B293)","v":""},{"$f":"IF(Mercury!C293=\"\",\"\",Mercury!C293)","v":""},{"$f":"IF(Mercury!D293=\"\",\"\",Mercury!D293)","v":""},"",{"$f":"IF(COUNTIF(BB$2:BB271,BB271)=1,BB271,\"\")","v":""},"","",""]
[{"$f":"+IF(D272=\"\",\"\",MAX(A$1:A271)+1)","v":""},{"$f":"IF(CEM_COM_CPMS_Identification!C294=\"\",\"\",CEM_COM_CPMS_Identification!C294)","v":""},"",{"$f":"IF(COUNTIF(B$2:B272,B272)=1,B272,\"\")","v":""},null,null,null,null,null,null,null,null,null,null,null,null,null,null,null,{"$f":"+IF(Y272=\"\",\"\",MAX(T$1:T271)+1)","v":""},{"$f":"IF(No_CPMS_Limits_Details!B294=\"\",\"\",No_CPMS_Limits_Details!B294)","v":""},{"$f":"IF(No_CPMS_Limits_Details!C294=\"\",\"\",No_CPMS_Limits_Details!C294)","v":""},{"$f":"IF(No_CPMS_Limits_Details!D294=\"\",\"\",No_CPMS_Limits_Details!D294)","v":""},"",{"$f":"IF(COUNTIF(V$2:V272,V272)=1,V272,\"\")","v":""},"","","",null,{"$f":"+IF(AI272=\"\",\"\",MAX(AD$1:AD271)+1)","v":""},{"$f":"IF(Limits_Details_w_CPMS!B294=\"\",\"\",Limits_Details_w_CPMS!B294)","v":""},{"$f":"IF(Limits_Details_w_CPMS!C294=\"\",\"\",Limits_Details_w_CPMS!C294)","v":""},{"$f":"IF(Limits_Details_w_CPMS!D294=\"\",\"\",Limits_Details_w_CPMS!D294)","v":""},"",{"$f":"IF(COUNTIF(AH$2:AH272,AH272)=1,AH272,\"\")","v":""},"","","",null,null,null,{"$f":"+IF(AU272=\"\",\"\",MAX(AP$1:AP271)+1)","v":""},{"$f":"IF(CPMS_Detail!B294=\"\",\"\",CPMS_Detail!B294)","v":""},{"$f":"IF(CPMS_Detail!C294=\"\",\"\",CPMS_Detail!C294)","v":""},{"$f":"IF(CPMS_Detail!D294=\"\",\"\",CPMS_Detail!D294)","v":""},"",{"$f":"IF(COUNTIF(AT$2:AT272,AT272)=1,AT272,\"\")","v":""},"","","",null,{"$f":"+IF(BE272=\"\",\"\",MAX(AZ$1:AZ271)+1)","v":""},{"$f":"IF(Mercury!B294=\"\",\"\",Mercury!B294)","v":""},{"$f":"IF(Mercury!C294=\"\",\"\",Mercury!C294)","v":""},{"$f":"IF(Mercury!D294=\"\",\"\",Mercury!D294)","v":""},"",{"$f":"IF(COUNTIF(BB$2:BB272,BB272)=1,BB272,\"\")","v":""},"","",""]
[{"$f":"+IF(D273=\"\",\"\",MAX(A$1:A272)+1)","v":""},{"$f":"IF(CEM_COM_CPMS_Identification!C295=\"\",\"\",CEM_COM_CPMS_Identification!C295)","v":""},"",{"$f":"IF(COUNTIF(B$2:B273,B273)=1,B273,\"\")","v":""},null,null,null,null,null,null,null,null,null,null,null,null,null,null,null,{"$f":"+IF(Y273=\"\",\"\",MAX(T$1:T272)+1)","v":""},{"$f":"IF(No_CPMS_Limits_Details!B295=\"\",\"\",No_CPMS_Limits_Details!B295)","v":""},{"$f":"IF(No_CPMS_Limits_Details!C295=\"\",\"\",No_CPMS_Limits_Details!C295)","v":""},{"$f":"IF(No_CPMS_Limits_Details!D295=\"\",\"\",No_CPMS_Limits_Details!D295)","v":""},"",{"$f":"IF(COUNTIF(V$2:V273,V273)=1,V273,\"\")","v":""},"","","",null,{"$f":"+IF(AI273=\"\",\"\",MAX(AD$1:AD272)+1)","v":""},{"$f":"IF(Limits_Details_w_CPMS!B295=\"\",\"\",Limits_Details_w_CPMS!B295)","v":""},{"$f":"IF(Limits_Details_w_CPMS!C295=\"\",\"\",Limits_Details_w_CPMS!C295)","v":""},{"$f":"IF(Limits_Details_w_CPMS!D295=\"\",\"\",Limits_Details_w_CPMS!D295)","v":""},"",{"$f":"IF(COUNTIF(AH$2:AH273,AH273)=1,AH273,\"\")","v":""},"","","",null,null,null,{"$f":"+IF(AU273=\"\",\"\",MAX(AP$1:AP272)+1)","v":""},{"$f":"IF(CPMS_Detail!B295=\"\",\"\",CPMS_Detail!B295)","v":""},{"$f":"IF(CPMS_Detail!C295=\"\",\"\",CPMS_Detail!C295)","v":""},{"$f":"IF(CPMS_Detail!D295=\"\",\"\",CPMS_Detail!D295)","v":""},"",{"$f":"IF(COUNTIF(AT$2:AT273,AT273)=1,AT273,\"\")","v":""},"","","",null,{"$f":"+IF(BE273=\"\",\"\",MAX(AZ$1:AZ272)+1)","v":""},{"$f":"IF(Mercury!B295=\"\",\"\",Mercury!B295)","v":""},{"$f":"IF(Mercury!C295=\"\",\"\",Mercury!C295)","v":""},{"$f":"IF(Mercury!D295=\"\",\"\",Mercury!D295)","v":""},"",{"$f":"IF(COUNTIF(BB$2:BB273,BB273)=1,BB273,\"\")","v":""},"","",""]
[{"$f":"+IF(D274=\"\",\"\",MAX(A$1:A273)+1)","v":""},{"$f":"IF(CEM_COM_CPMS_Identification!C296=\"\",\"\",CEM_COM_CPMS_Identification!C296)","v":""},"",{"$f":"IF(COUNTIF(B$2:B274,B274)=1,B274,\"\")","v":""},null,null,null,null,null,null,null,null,null,null,null,null,null,null,null,{"$f":"+IF(Y274=\"\",\"\",MAX(T$1:T273)+1)","v":""},{"$f":"IF(No_CPMS_Limits_Details!B296=\"\",\"\",No_CPMS_Limits_Details!B296)","v":""},{"$f":"IF(No_CPMS_Limits_Details!C296=\"\",\"\",No_CPMS_Limits_Details!C296)","v":""},{"$f":"IF(No_CPMS_Limits_Details!D296=\"\",\"\",No_CPMS_Limits_Details!D296)","v":""},"",{"$f":"IF(COUNTIF(V$2:V274,V274)=1,V274,\"\")","v":""},"","","",null,{"$f":"+IF(AI274=\"\",\"\",MAX(AD$1:AD273)+1)","v":""},{"$f":"IF(Limits_Details_w_CPMS!B296=\"\",\"\",Limits_Details_w_CPMS!B296)","v":""},{"$f":"IF(Limits_Details_w_CPMS!C296=\"\",\"\",Limits_Details_w_CPMS!C296)","v":""},{"$f":"IF(Limits_Details_w_CPMS!D296=\"\",\"\",Limits_Details_w_CPMS!D296)","v":""},"",{"$f":"IF(COUNTIF(AH$2:AH274,AH274)=1,AH274,\"\")","v":""},"","","",null,null,null,{"$f":"+IF(AU274=\"\",\"\",MAX(AP$1:AP273)+1)","v":""},{"$f":"IF(CPMS_Detail!B296=\"\",\"\",CPMS_Detail!B296)","v":""},{"$f":"IF(CPMS_Detail!C296=\"\",\"\",CPMS_Detail!C296)","v":""},{"$f":"IF(CPMS_Detail!D296=\"\",\"\",CPMS_Detail!D296)","v":""},"",{"$f":"IF(COUNTIF(AT$2:AT274,AT274)=1,AT274,\"\")","v":""},"","","",null,{"$f":"+IF(BE274=\"\",\"\",MAX(AZ$1:AZ273)+1)","v":""},{"$f":"IF(Mercury!B296=\"\",\"\",Mercury!B296)","v":""},{"$f":"IF(Mercury!C296=\"\",\"\",Mercury!C296)","v":""},{"$f":"IF(Mercury!D296=\"\",\"\",Mercury!D296)","v":""},"",{"$f":"IF(COUNTIF(BB$2:BB274,BB274)=1,BB274,\"\")","v":""},"","",""]
[{"$f":"+IF(D275=\"\",\"\",MAX(A$1:A274)+1)","v":""},{"$f":"IF(CEM_COM_CPMS_Identification!C297=\"\",\"\",CEM_COM_CPMS_Identification!C297)","v":""},"",{"$f":"IF(COUNTIF(B$2:B275,B275)=1,B275,\"\")","v":""},null,null,null,null,null,null,null,null,null,null,null,null,null,null,null,{"$f":"+IF(Y275=\"\",\"\",MAX(T$1:T274)+1)","v":""},{"$f":"IF(No_CPMS_Limits_Details!B297=\"\",\"\",No_CPMS_Limits_Details!B297)","v":""},{"$f":"IF(No_CPMS_Limits_Details!C297=\"\",\"\",No_CPMS_Limits_Details!C297)","v":""},{"$f":"IF(No_CPMS_Limits_Details!D297=\"\",\"\",No_CPMS_Limits_Details!D297)","v":""},"",{"$f":"IF(COUNTIF(V$2:V275,V275)=1,V275,\"\")","v":""},"","","",null,{"$f":"+IF(AI275=\"\",\"\",MAX(AD$1:AD274)+1)","v":""},{"$f":"IF(Limits_Details_w_CPMS!B297=\"\",\"\",Limits_Details_w_CPMS!B297)","v":""},{"$f":"IF(Limits_Details_w_CPMS!C297=\"\",\"\",Limits_Details_w_CPMS!C297)","v":""},{"$f":"IF(Limits_Details_w_CPMS!D297=\"\",\"\",Limits_Details_w_CPMS!D297)","v":""},"",{"$f":"IF(COUNTIF(AH$2:AH275,AH275)=1,AH275,\"\")","v":""},"","","",null,null,null,{"$f":"+IF(AU275=\"\",\"\",MAX(AP$1:AP274)+1)","v":""},{"$f":"IF(CPMS_Detail!B297=\"\",\"\",CPMS_Detail!B297)","v":""},{"$f":"IF(CPMS_Detail!C297=\"\",\"\",CPMS_Detail!C297)","v":""},{"$f":"IF(CPMS_Detail!D297=\"\",\"\",CPMS_Detail!D297)","v":""},"",{"$f":"IF(COUNTIF(AT$2:AT275,AT275)=1,AT275,\"\")","v":""},"","","",null,{"$f":"+IF(BE275=\"\",\"\",MAX(AZ$1:AZ274)+1)","v":""},{"$f":"IF(Mercury!B297=\"\",\"\",Mercury!B297)","v":""},{"$f":"IF(Mercury!C297=\"\",\"\",Mercury!C297)","v":""},{"$f":"IF(Mercury!D297=\"\",\"\",Mercury!D297)","v":""},"",{"$f":"IF(COUNTIF(BB$2:BB275,BB275)=1,BB275,\"\")","v":""},"","",""]
[{"$f":"+IF(D276=\"\",\"\",MAX(A$1:A275)+1)","v":""},{"$f":"IF(CEM_COM_CPMS_Identification!C298=\"\",\"\",CEM_COM_CPMS_Identification!C298)","v":""},"",{"$f":"IF(COUNTIF(B$2:B276,B276)=1,B276,\"\")","v":""},null,null,null,null,null,null,null,null,null,null,null,null,null,null,null,{"$f":"+IF(Y276=\"\",\"\",MAX(T$1:T275)+1)","v":""},{"$f":"IF(No_CPMS_Limits_Details!B298=\"\",\"\",No_CPMS_Limits_Details!B298)","v":""},{"$f":"IF(No_CPMS_Limits_Details!C298=\"\",\"\",No_CPMS_Limits_Details!C298)","v":""},{"$f":"IF(No_CPMS_Limits_Details!D298=\"\",\"\",No_CPMS_Limits_Details!D298)","v":""},"",{"$f":"IF(COUNTIF(V$2:V276,V276)=1,V276,\"\")","v":""},"","","",null,{"$f":"+IF(AI276=\"\",\"\",MAX(AD$1:AD275)+1)","v":""},{"$f":"IF(Limits_Details_w_CPMS!B298=\"\",\"\",Limits_Details_w_CPMS!B298)","v":""},{"$f":"IF(Limits_Details_w_CPMS!C298=\"\",\"\",Limits_Details_w_CPMS!C298)","v":""},{"$f":"IF(Limits_Details_w_CPMS!D298=\"\",\"\",Limits_Details_w_CPMS!D298)","v":""},"",{"$f":"IF(COUNTIF(AH$2:AH276,AH276)=1,AH276,\"\")","v":""},"","","",null,null,null,{"$f":"+IF(AU276=\"\",\"\",MAX(AP$1:AP275)+1)","v":""},{"$f":"IF(CPMS_Detail!B298=\"\",\"\",CPMS_Detail!B298)","v":""},{"$f":"IF(CPMS_Detail!C298=\"\",\"\",CPMS_Detail!C298)","v":""},{"$f":"IF(CPMS_Detail!D298=\"\",\"\",CPMS_Detail!D298)","v":""},"",{"$f":"IF(COUNTIF(AT$2:AT276,AT276)=1,AT276,\"\")","v":""},"","","",null,{"$f":"+IF(BE276=\"\",\"\",MAX(AZ$1:AZ275)+1)","v":""},{"$f":"IF(Mercury!B298=\"\",\"\",Mercury!B298)","v":""},{"$f":"IF(Mercury!C298=\"\",\"\",Mercury!C298)","v":""},{"$f":"IF(Mercury!D298=\"\",\"\",Mercury!D298)","v":""},"",{"$f":"IF(COUNTIF(BB$2:BB276,BB276)=1,BB276,\"\")","v":""},"","",""]
[{"$f":"+IF(D277=\"\",\"\",MAX(A$1:A276)+1)","v":""},{"$f":"IF(CEM_COM_CPMS_Identification!C299=\"\",\"\",CEM_COM_CPMS_Identification!C299)","v":""},"",{"$f":"IF(COUNTIF(B$2:B277,B277)=1,B277,\"\")","v":""},null,null,null,null,null,null,null,null,null,null,null,null,null,null,null,{"$f":"+IF(Y277=\"\",\"\",MAX(T$1:T276)+1)","v":""},{"$f":"IF(No_CPMS_Limits_Details!B299=\"\",\"\",No_CPMS_Limits_Details!B299)","v":""},{"$f":"IF(No_CPMS_Limits_Details!C299=\"\",\"\",No_CPMS_Limits_Details!C299)","v":""},{"$f":"IF(No_CPMS_Limits_Details!D299=\"\",\"\",No_CPMS_Limits_Details!D299)","v":""},"",{"$f":"IF(COUNTIF(V$2:V277,V277)=1,V277,\"\")","v":""},"","","",null,{"$f":"+IF(AI277=\"\",\"\",MAX(AD$1:AD276)+1)","v":""},{"$f":"IF(Limits_Details_w_CPMS!B299=\"\",\"\",Limits_Details_w_CPMS!B299)","v":""},{"$f":"IF(Limits_Details_w_CPMS!C299=\"\",\"\",Limits_Details_w_CPMS!C299)","v":""},{"$f":"IF(Limits_Details_w_CPMS!D299=\"\",\"\",Limits_Details_w_CPMS!D299)","v":""},"",{"$f":"IF(COUNTIF(AH$2:AH277,AH277)=1,AH277,\"\")","v":""},"","","",null,null,null,{"$f":"+IF(AU277=\"\",\"\",MAX(AP$1:AP276)+1)","v":""},{"$f":"IF(CPMS_Detail!B299=\"\",\"\",CPMS_Detail!B299)","v":""},{"$f":"IF(CPMS_Detail!C299=\"\",\"\",CPMS_Detail!C299)","v":""},{"$f":"IF(CPMS_Detail!D299=\"\",\"\",CPMS_Detail!D299)","v":""},"",{"$f":"IF(COUNTIF(AT$2:AT277,AT277)=1,AT277,\"\")","v":""},"","","",null,{"$f":"+IF(BE277=\"\",\"\",MAX(AZ$1:AZ276)+1)","v":""},{"$f":"IF(Mercury!B299=\"\",\"\",Mercury!B299)","v":""},{"$f":"IF(Mercury!C299=\"\",\"\",Mercury!C299)","v":""},{"$f":"IF(Mercury!D299=\"\",\"\",Mercury!D299)","v":""},"",{"$f":"IF(COUNTIF(BB$2:BB277,BB277)=1,BB277,\"\")","v":""},"","",""]
[{"$f":"+IF(D278=\"\",\"\",MAX(A$1:A277)+1)","v":""},{"$f":"IF(CEM_COM_CPMS_Identification!C300=\"\",\"\",CEM_COM_CPMS_Identification!C300)","v":""},"",{"$f":"IF(COUNTIF(B$2:B278,B278)=1,B278,\"\")","v":""},null,null,null,null,null,null,null,null,null,null,null,null,null,null,null,{"$f":"+IF(Y278=\"\",\"\",MAX(T$1:T277)+1)","v":""},{"$f":"IF(No_CPMS_Limits_Details!B300=\"\",\"\",No_CPMS_Limits_Details!B300)","v":""},{"$f":"IF(No_CPMS_Limits_Details!C300=\"\",\"\",No_CPMS_Limits_Details!C300)","v":""},{"$f":"IF(No_CPMS_Limits_Details!D300=\"\",\"\",No_CPMS_Limits_Details!D300)","v":""},"",{"$f":"IF(COUNTIF(V$2:V278,V278)=1,V278,\"\")","v":""},"","","",null,{"$f":"+IF(AI278=\"\",\"\",MAX(AD$1:AD277)+1)","v":""},{"$f":"IF(Limits_Details_w_CPMS!B300=\"\",\"\",Limits_Details_w_CPMS!B300)","v":""},{"$f":"IF(Limits_Details_w_CPMS!C300=\"\",\"\",Limits_Details_w_CPMS!C300)","v":""},{"$f":"IF(Limits_Details_w_CPMS!D300=\"\",\"\",Limits_Details_w_CPMS!D300)","v":""},"",{"$f":"IF(COUNTIF(AH$2:AH278,AH278)=1,AH278,\"\")","v":""},"","","",null,null,null,{"$f":"+IF(AU278=\"\",\"\",MAX(AP$1:AP277)+1)","v":""},{"$f":"IF(CPMS_Detail!B300=\"\",\"\",CPMS_Detail!B300)","v":""},{"$f":"IF(CPMS_Detail!C300=\"\",\"\",CPMS_Detail!C300)","v":""},{"$f":"IF(CPMS_Detail!D300=\"\",\"\",CPMS_Detail!D300)","v":""},"",{"$f":"IF(COUNTIF(AT$2:AT278,AT278)=1,AT278,\"\")","v":""},"","","",null,{"$f":"+IF(BE278=\"\",\"\",MAX(AZ$1:AZ277)+1)","v":""},{"$f":"IF(Mercury!B300=\"\",\"\",Mercury!B300)","v":""},{"$f":"IF(Mercury!C300=\"\",\"\",Mercury!C300)","v":""},{"$f":"IF(Mercury!D300=\"\",\"\",Mercury!D300)","v":""},"",{"$f":"IF(COUNTIF(BB$2:BB278,BB278)=1,BB278,\"\")","v":""},"","",""]
[{"$f":"+IF(D279=\"\",\"\",MAX(A$1:A278)+1)","v":""},{"$f":"IF(CEM_COM_CPMS_Identification!C301=\"\",\"\",CEM_COM_CPMS_Identification!C301)","v":""},"",{"$f":"IF(COUNTIF(B$2:B279,B279)=1,B279,\"\")","v":""},null,null,null,null,null,null,null,null,null,null,null,null,null,null,null,{"$f":"+IF(Y279=\"\",\"\",MAX(T$1:T278)+1)","v":""},{"$f":"IF(No_CPMS_Limits_Details!B301=\"\",\"\",No_CPMS_Limits_Details!B301)","v":""},{"$f":"IF(No_CPMS_Limits_Details!C301=\"\",\"\",No_CPMS_Limits_Details!C301)","v":""},{"$f":"IF(No_CPMS_Limits_Details!D301=\"\",\"\",No_CPMS_Limits_Details!D301)","v":""},"",{"$f":"IF(COUNTIF(V$2:V279,V279)=1,V279,\"\")","v":""},"","","",null,{"$f":"+IF(AI279=\"\",\"\",MAX(AD$1:AD278)+1)","v":""},{"$f":"IF(Limits_Details_w_CPMS!B301=\"\",\"\",Limits_Details_w_CPMS!B301)","v":""},{"$f":"IF(Limits_Details_w_CPMS!C301=\"\",\"\",Limits_Details_w_CPMS!C301)","v":""},{"$f":"IF(Limits_Details_w_CPMS!D301=\"\",\"\",Limits_Details_w_CPMS!D301)","v":""},"",{"$f":"IF(COUNTIF(AH$2:AH279,AH279)=1,AH279,\"\")","v":""},"","","",null,null,null,{"$f":"+IF(AU279=\"\",\"\",MAX(AP$1:AP278)+1)","v":""},{"$f":"IF(CPMS_Detail!B301=\"\",\"\",CPMS_Detail!B301)","v":""},{"$f":"IF(CPMS_Detail!C301=\"\",\"\",CPMS_Detail!C301)","v":""},{"$f":"IF(CPMS_Detail!D301=\"\",\"\",CPMS_Detail!D301)","v":""},"",{"$f":"IF(COUNTIF(AT$2:AT279,AT279)=1,AT279,\"\")","v":""},"","","",null,{"$f":"+IF(BE279=\"\",\"\",MAX(AZ$1:AZ278)+1)","v":""},{"$f":"IF(Mercury!B301=\"\",\"\",Mercury!B301)","v":""},{"$f":"IF(Mercury!C301=\"\",\"\",Mercury!C301)","v":""},{"$f":"IF(Mercury!D301=\"\",\"\",Mercury!D301)","v":""},"",{"$f":"IF(COUNTIF(BB$2:BB279,BB279)=1,BB279,\"\")","v":""},"","",""]
[{"$f":"+IF(D280=\"\",\"\",MAX(A$1:A279)+1)","v":""},{"$f":"IF(CEM_COM_CPMS_Identification!C302=\"\",\"\",CEM_COM_CPMS_Identification!C302)","v":""},"",{"$f":"IF(COUNTIF(B$2:B280,B280)=1,B280,\"\")","v":""},null,null,null,null,null,null,null,null,null,null,null,null,null,null,null,{"$f":"+IF(Y280=\"\",\"\",MAX(T$1:T279)+1)","v":""},{"$f":"IF(No_CPMS_Limits_Details!B302=\"\",\"\",No_CPMS_Limits_Details!B302)","v":""},{"$f":"IF(No_CPMS_Limits_Details!C302=\"\",\"\",No_CPMS_Limits_Details!C302)","v":""},{"$f":"IF(No_CPMS_Limits_Details!D302=\"\",\"\",No_CPMS_Limits_Details!D302)","v":""},"",{"$f":"IF(COUNTIF(V$2:V280,V280)=1,V280,\"\")","v":""},"","","",null,{"$f":"+IF(AI280=\"\",\"\",MAX(AD$1:AD279)+1)","v":""},{"$f":"IF(Limits_Details_w_CPMS!B302=\"\",\"\",Limits_Details_w_CPMS!B302)","v":""},{"$f":"IF(Limits_Details_w_CPMS!C302=\"\",\"\",Limits_Details_w_CPMS!C302)","v":""},{"$f":"IF(Limits_Details_w_CPMS!D302=\"\",\"\",Limits_Details_w_CPMS!D302)","v":""},"",{"$f":"IF(COUNTIF(AH$2:AH280,AH280)=1,AH280,\"\")","v":""},"","","",null,null,null,{"$f":"+IF(AU280=\"\",\"\",MAX(AP$1:AP279)+1)","v":""},{"$f":"IF(CPMS_Detail!B302=\"\",\"\",CPMS_Detail!B302)","v":""},{"$f":"IF(CPMS_Detail!C302=\"\",\"\",CPMS_Detail!C302)","v":""},{"$f":"IF(CPMS_Detail!D302=\"\",\"\",CPMS_Detail!D302)","v":""},"",{"$f":"IF(COUNTIF(AT$2:AT280,AT280)=1,AT280,\"\")","v":""},"","","",null,{"$f":"+IF(BE280=\"\",\"\",MAX(AZ$1:AZ279)+1)","v":""},{"$f":"IF(Mercury!B302=\"\",\"\",Mercury!B302)","v":""},{"$f":"IF(Mercury!C302=\"\",\"\",Mercury!C302)","v":""},{"$f":"IF(Mercury!D302=\"\",\"\",Mercury!D302)","v":""},"",{"$f":"IF(COUNTIF(BB$2:BB280,BB280)=1,BB280,\"\")","v":""},"","",""]
[{"$f":"+IF(D281=\"\",\"\",MAX(A$1:A280)+1)","v":""},{"$f":"IF(CEM_COM_CPMS_Identification!C303=\"\",\"\",CEM_COM_CPMS_Identification!C303)","v":""},"",{"$f":"IF(COUNTIF(B$2:B281,B281)=1,B281,\"\")","v":""},null,null,null,null,null,null,null,null,null,null,null,null,null,null,null,{"$f":"+IF(Y281=\"\",\"\",MAX(T$1:T280)+1)","v":""},{"$f":"IF(No_CPMS_Limits_Details!B303=\"\",\"\",No_CPMS_Limits_Details!B303)","v":""},{"$f":"IF(No_CPMS_Limits_Details!C303=\"\",\"\",No_CPMS_Limits_Details!C303)","v":""},{"$f":"IF(No_CPMS_Limits_Details!D303=\"\",\"\",No_CPMS_Limits_Details!D303)","v":""},"",{"$f":"IF(COUNTIF(V$2:V281,V281)=1,V281,\"\")","v":""},"","","",null,{"$f":"+IF(AI281=\"\",\"\",MAX(AD$1:AD280)+1)","v":""},{"$f":"IF(Limits_Details_w_CPMS!B303=\"\",\"\",Limits_Details_w_CPMS!B303)","v":""},{"$f":"IF(Limits_Details_w_CPMS!C303=\"\",\"\",Limits_Details_w_CPMS!C303)","v":""},{"$f":"IF(Limits_Details_w_CPMS!D303=\"\",\"\",Limits_Details_w_CPMS!D303)","v":""},"",{"$f":"IF(COUNTIF(AH$2:AH281,AH281)=1,AH281,\"\")","v":""},"","","",null,null,null,{"$f":"+IF(AU281=\"\",\"\",MAX(AP$1:AP280)+1)","v":""},{"$f":"IF(CPMS_Detail!B303=\"\",\"\",CPMS_Detail!B303)","v":""},{"$f":"IF(CPMS_Detail!C303=\"\",\"\",CPMS_Detail!C303)","v":""},{"$f":"IF(CPMS_Detail!D303=\"\",\"\",CPMS_Detail!D303)","v":""},"",{"$f":"IF(COUNTIF(AT$2:AT281,AT281)=1,AT281,\"\")","v":""},"","","",null,{"$f":"+IF(BE281=\"\",\"\",MAX(AZ$1:AZ280)+1)","v":""},{"$f":"IF(Mercury!B303=\"\",\"\",Mercury!B303)","v":""},{"$f":"IF(Mercury!C303=\"\",\"\",Mercury!C303)","v":""},{"$f":"IF(Mercury!D303=\"\",\"\",Mercury!D303)","v":""},"",{"$f":"IF(COUNTIF(BB$2:BB281,BB281)=1,BB281,\"\")","v":""},"","",""]
[{"$f":"+IF(D282=\"\",\"\",MAX(A$1:A281)+1)","v":""},{"$f":"IF(CEM_COM_CPMS_Identification!C304=\"\",\"\",CEM_COM_CPMS_Identification!C304)","v":""},"",{"$f":"IF(COUNTIF(B$2:B282,B282)=1,B282,\"\")","v":""},null,null,null,null,null,null,null,null,null,null,null,null,null,null,null,{"$f":"+IF(Y282=\"\",\"\",MAX(T$1:T281)+1)","v":""},{"$f":"IF(No_CPMS_Limits_Details!B304=\"\",\"\",No_CPMS_Limits_Details!B304)","v":""},{"$f":"IF(No_CPMS_Limits_Details!C304=\"\",\"\",No_CPMS_Limits_Details!C304)","v":""},{"$f":"IF(No_CPMS_Limits_Details!D304=\"\",\"\",No_CPMS_Limits_Details!D304)","v":""},"",{"$f":"IF(COUNTIF(V$2:V282,V282)=1,V282,\"\")","v":""},"","","",null,{"$f":"+IF(AI282=\"\",\"\",MAX(AD$1:AD281)+1)","v":""},{"$f":"IF(Limits_Details_w_CPMS!B304=\"\",\"\",Limits_Details_w_CPMS!B304)","v":""},{"$f":"IF(Limits_Details_w_CPMS!C304=\"\",\"\",Limits_Details_w_CPMS!C304)","v":""},{"$f":"IF(Limits_Details_w_CPMS!D304=\"\",\"\",Limits_Details_w_CPMS!D304)","v":""},"",{"$f":"IF(COUNTIF(AH$2:AH282,AH282)=1,AH282,\"\")","v":""},"","","",null,null,null,{"$f":"+IF(AU282=\"\",\"\",MAX(AP$1:AP281)+1)","v":""},{"$f":"IF(CPMS_Detail!B304=\"\",\"\",CPMS_Detail!B304)","v":""},{"$f":"IF(CPMS_Detail!C304=\"\",\"\",CPMS_Detail!C304)","v":""},{"$f":"IF(CPMS_Detail!D304=\"\",\"\",CPMS_Detail!D304)","v":""},"",{"$f":"IF(COUNTIF(AT$2:AT282,AT282)=1,AT282,\"\")","v":""},"","","",null,{"$f":"+IF(BE282=\"\",\"\",MAX(AZ$1:AZ281)+1)","v":""},{"$f":"IF(Mercury!B304=\"\",\"\",Mercury!B304)","v":""},{"$f":"IF(Mercury!C304=\"\",\"\",Mercury!C304)","v":""},{"$f":"IF(Mercury!D304=\"\",\"\",Mercury!D304)","v":""},"",{"$f":"IF(COUNTIF(BB$2:BB282,BB282)=1,BB282,\"\")","v":""},"","",""]
[{"$f":"+IF(D283=\"\",\"\",MAX(A$1:A282)+1)","v":""},{"$f":"IF(CEM_COM_CPMS_Identification!C305=\"\",\"\",CEM_COM_CPMS_Identification!C305)","v":""},"",{"$f":"IF(COUNTIF(B$2:B283,B283)=1,B283,\"\")","v":""},null,null,null,null,null,null,null,null,null,null,null,null,null,null,null,{"$f":"+IF(Y283=\"\",\"\",MAX(T$1:T282)+1)","v":""},{"$f":"IF(No_CPMS_Limits_Details!B305=\"\",\"\",No_CPMS_Limits_Details!B305)","v":""},{"$f":"IF(No_CPMS_Limits_Details!C305=\"\",\"\",No_CPMS_Limits_Details!C305)","v":""},{"$f":"IF(No_CPMS_Limits_Details!D305=\"\",\"\",No_CPMS_Limits_Details!D305)","v":""},"",{"$f":"IF(COUNTIF(V$2:V283,V283)=1,V283,\"\")","v":""},"","","",null,{"$f":"+IF(AI283=\"\",\"\",MAX(AD$1:AD282)+1)","v":""},{"$f":"IF(Limits_Details_w_CPMS!B305=\"\",\"\",Limits_Details_w_CPMS!B305)","v":""},{"$f":"IF(Limits_Details_w_CPMS!C305=\"\",\"\",Limits_Details_w_CPMS!C305)","v":""},{"$f":"IF(Limits_Details_w_CPMS!D305=\"\",\"\",Limits_Details_w_CPMS!D305)","v":""},"",{"$f":"IF(COUNTIF(AH$2:AH283,AH283)=1,AH283,\"\")","v":""},"","","",null,null,null,{"$f":"+IF(AU283=\"\",\"\",MAX(AP$1:AP282)+1)","v":""},{"$f":"IF(CPMS_Detail!B305=\"\",\"\",CPMS_Detail!B305)","v":""},{"$f":"IF(CPMS_Detail!C305=\"\",\"\",CPMS_Detail!C305)","v":""},{"$f":"IF(CPMS_Detail!D305=\"\",\"\",CPMS_Detail!D305)","v":""},"",{"$f":"IF(COUNTIF(AT$2:AT283,AT283)=1,AT283,\"\")","v":""},"","","",null,{"$f":"+IF(BE283=\"\",\"\",MAX(AZ$1:AZ282)+1)","v":""},{"$f":"IF(Mercury!B305=\"\",\"\",Mercury!B305)","v":""},{"$f":"IF(Mercury!C305=\"\",\"\",Mercury!C305)","v":""},{"$f":"IF(Mercury!D305=\"\",\"\",Mercury!D305)","v":""},"",{"$f":"IF(COUNTIF(BB$2:BB283,BB283)=1,BB283,\"\")","v":""},"","",""]
[{"$f":"+IF(D284=\"\",\"\",MAX(A$1:A283)+1)","v":""},{"$f":"IF(CEM_COM_CPMS_Identification!C306=\"\",\"\",CEM_COM_CPMS_Identification!C306)","v":""},"",{"$f":"IF(COUNTIF(B$2:B284,B284)=1,B284,\"\")","v":""},null,null,null,null,null,null,null,null,null,null,null,null,null,null,null,{"$f":"+IF(Y284=\"\",\"\",MAX(T$1:T283)+1)","v":""},{"$f":"IF(No_CPMS_Limits_Details!B306=\"\",\"\",No_CPMS_Limits_Details!B306)","v":""},{"$f":"IF(No_CPMS_Limits_Details!C306=\"\",\"\",No_CPMS_Limits_Details!C306)","v":""},{"$f":"IF(No_CPMS_Limits_Details!D306=\"\",\"\",No_CPMS_Limits_Details!D306)","v":""},"",{"$f":"IF(COUNTIF(V$2:V284,V284)=1,V284,\"\")","v":""},"","","",null,{"$f":"+IF(AI284=\"\",\"\",MAX(AD$1:AD283)+1)","v":""},{"$f":"IF(Limits_Details_w_CPMS!B306=\"\",\"\",Limits_Details_w_CPMS!B306)","v":""},{"$f":"IF(Limits_Details_w_CPMS!C306=\"\",\"\",Limits_Details_w_CPMS!C306)","v":""},{"$f":"IF(Limits_Details_w_CPMS!D306=\"\",\"\",Limits_Details_w_CPMS!D306)","v":""},"",{"$f":"IF(COUNTIF(AH$2:AH284,AH284)=1,AH284,\"\")","v":""},"","","",null,null,null,{"$f":"+IF(AU284=\"\",\"\",MAX(AP$1:AP283)+1)","v":""},{"$f":"IF(CPMS_Detail!B306=\"\",\"\",CPMS_Detail!B306)","v":""},{"$f":"IF(CPMS_Detail!C306=\"\",\"\",CPMS_Detail!C306)","v":""},{"$f":"IF(CPMS_Detail!D306=\"\",\"\",CPMS_Detail!D306)","v":""},"",{"$f":"IF(COUNTIF(AT$2:AT284,AT284)=1,AT284,\"\")","v":""},"","","",null,{"$f":"+IF(BE284=\"\",\"\",MAX(AZ$1:AZ283)+1)","v":""},{"$f":"IF(Mercury!B306=\"\",\"\",Mercury!B306)","v":""},{"$f":"IF(Mercury!C306=\"\",\"\",Mercury!C306)","v":""},{"$f":"IF(Mercury!D306=\"\",\"\",Mercury!D306)","v":""},"",{"$f":"IF(COUNTIF(BB$2:BB284,BB284)=1,BB284,\"\")","v":""},"","",""]
[{"$f":"+IF(D285=\"\",\"\",MAX(A$1:A284)+1)","v":""},{"$f":"IF(CEM_COM_CPMS_Identification!C307=\"\",\"\",CEM_COM_CPMS_Identification!C307)","v":""},"",{"$f":"IF(COUNTIF(B$2:B285,B285)=1,B285,\"\")","v":""},null,null,null,null,null,null,null,null,null,null,null,null,null,null,null,{"$f":"+IF(Y285=\"\",\"\",MAX(T$1:T284)+1)","v":""},{"$f":"IF(No_CPMS_Limits_Details!B307=\"\",\"\",No_CPMS_Limits_Details!B307)","v":""},{"$f":"IF(No_CPMS_Limits_Details!C307=\"\",\"\",No_CPMS_Limits_Details!C307)","v":""},{"$f":"IF(No_CPMS_Limits_Details!D307=\"\",\"\",No_CPMS_Limits_Details!D307)","v":""},"",{"$f":"IF(COUNTIF(V$2:V285,V285)=1,V285,\"\")","v":""},"","","",null,{"$f":"+IF(AI285=\"\",\"\",MAX(AD$1:AD284)+1)","v":""},{"$f":"IF(Limits_Details_w_CPMS!B307=\"\",\"\",Limits_Details_w_CPMS!B307)","v":""},{"$f":"IF(Limits_Details_w_CPMS!C307=\"\",\"\",Limits_Details_w_CPMS!C307)","v":""},{"$f":"IF(Limits_Details_w_CPMS!D307=\"\",\"\",Limits_Details_w_CPMS!D307)","v":""},"",{"$f":"IF(COUNTIF(AH$2:AH285,AH285)=1,AH285,\"\")","v":""},"","","",null,null,null,{"$f":"+IF(AU285=\"\",\"\",MAX(AP$1:AP284)+1)","v":""},{"$f":"IF(CPMS_Detail!B307=\"\",\"\",CPMS_Detail!B307)","v":""},{"$f":"IF(CPMS_Detail!C307=\"\",\"\",CPMS_Detail!C307)","v":""},{"$f":"IF(CPMS_Detail!D307=\"\",\"\",CPMS_Detail!D307)","v":""},"",{"$f":"IF(COUNTIF(AT$2:AT285,AT285)=1,AT285,\"\")","v":""},"","","",null,{"$f":"+IF(BE285=\"\",\"\",MAX(AZ$1:AZ284)+1)","v":""},{"$f":"IF(Mercury!B307=\"\",\"\",Mercury!B307)","v":""},{"$f":"IF(Mercury!C307=\"\",\"\",Mercury!C307)","v":""},{"$f":"IF(Mercury!D307=\"\",\"\",Mercury!D307)","v":""},"",{"$f":"IF(COUNTIF(BB$2:BB285,BB285)=1,BB285,\"\")","v":""},"","",""]
[{"$f":"+IF(D286=\"\",\"\",MAX(A$1:A285)+1)","v":""},{"$f":"IF(CEM_COM_CPMS_Identification!C308=\"\",\"\",CEM_COM_CPMS_Identification!C308)","v":""},"",{"$f":"IF(COUNTIF(B$2:B286,B286)=1,B286,\"\")","v":""},null,null,null,null,null,null,null,null,null,null,null,null,null,null,null,{"$f":"+IF(Y286=\"\",\"\",MAX(T$1:T285)+1)","v":""},{"$f":"IF(No_CPMS_Limits_Details!B308=\"\",\"\",No_CPMS_Limits_Details!B308)","v":""},{"$f":"IF(No_CPMS_Limits_Details!C308=\"\",\"\",No_CPMS_Limits_Details!C308)","v":""},{"$f":"IF(No_CPMS_Limits_Details!D308=\"\",\"\",No_CPMS_Limits_Details!D308)","v":""},"",{"$f":"IF(COUNTIF(V$2:V286,V286)=1,V286,\"\")","v":""},"","","",null,{"$f":"+IF(AI286=\"\",\"\",MAX(AD$1:AD285)+1)","v":""},{"$f":"IF(Limits_Details_w_CPMS!B308=\"\",\"\",Limits_Details_w_CPMS!B308)","v":""},{"$f":"IF(Limits_Details_w_CPMS!C308=\"\",\"\",Limits_Details_w_CPMS!C308)","v":""},{"$f":"IF(Limits_Details_w_CPMS!D308=\"\",\"\",Limits_Details_w_CPMS!D308)","v":""},"",{"$f":"IF(COUNTIF(AH$2:AH286,AH286)=1,AH286,\"\")","v":""},"","","",null,null,null,{"$f":"+IF(AU286=\"\",\"\",MAX(AP$1:AP285)+1)","v":""},{"$f":"IF(CPMS_Detail!B308=\"\",\"\",CPMS_Detail!B308)","v":""},{"$f":"IF(CPMS_Detail!C308=\"\",\"\",CPMS_Detail!C308)","v":""},{"$f":"IF(CPMS_Detail!D308=\"\",\"\",CPMS_Detail!D308)","v":""},"",{"$f":"IF(COUNTIF(AT$2:AT286,AT286)=1,AT286,\"\")","v":""},"","","",null,{"$f":"+IF(BE286=\"\",\"\",MAX(AZ$1:AZ285)+1)","v":""},{"$f":"IF(Mercury!B308=\"\",\"\",Mercury!B308)","v":""},{"$f":"IF(Mercury!C308=\"\",\"\",Mercury!C308)","v":""},{"$f":"IF(Mercury!D308=\"\",\"\",Mercury!D308)","v":""},"",{"$f":"IF(COUNTIF(BB$2:BB286,BB286)=1,BB286,\"\")","v":""},"","",""]
[{"$f":"+IF(D287=\"\",\"\",MAX(A$1:A286)+1)","v":""},{"$f":"IF(CEM_COM_CPMS_Identification!C309=\"\",\"\",CEM_COM_CPMS_Identification!C309)","v":""},"",{"$f":"IF(COUNTIF(B$2:B287,B287)=1,B287,\"\")","v":""},null,null,null,null,null,null,null,null,null,null,null,null,null,null,null,{"$f":"+IF(Y287=\"\",\"\",MAX(T$1:T286)+1)","v":""},{"$f":"IF(No_CPMS_Limits_Details!B309=\"\",\"\",No_CPMS_Limits_Details!B309)","v":""},{"$f":"IF(No_CPMS_Limits_Details!C309=\"\",\"\",No_CPMS_Limits_Details!C309)","v":""},{"$f":"IF(No_CPMS_Limits_Details!D309=\"\",\"\",No_CPMS_Limits_Details!D309)","v":""},"",{"$f":"IF(COUNTIF(V$2:V287,V287)=1,V287,\"\")","v":""},"","","",null,{"$f":"+IF(AI287=\"\",\"\",MAX(AD$1:AD286)+1)","v":""},{"$f":"IF(Limits_Details_w_CPMS!B309=\"\",\"\",Limits_Details_w_CPMS!B309)","v":""},{"$f":"IF(Limits_Details_w_CPMS!C309=\"\",\"\",Limits_Details_w_CPMS!C309)","v":""},{"$f":"IF(Limits_Details_w_CPMS!D309=\"\",\"\",Limits_Details_w_CPMS!D309)","v":""},"",{"$f":"IF(COUNTIF(AH$2:AH287,AH287)=1,AH287,\"\")","v":""},"","","",null,null,null,{"$f":"+IF(AU287=\"\",\"\",MAX(AP$1:AP286)+1)","v":""},{"$f":"IF(CPMS_Detail!B309=\"\",\"\",CPMS_Detail!B309)","v":""},{"$f":"IF(CPMS_Detail!C309=\"\",\"\",CPMS_Detail!C309)","v":""},{"$f":"IF(CPMS_Detail!D309=\"\",\"\",CPMS_Detail!D309)","v":""},"",{"$f":"IF(COUNTIF(AT$2:AT287,AT287)=1,AT287,\"\")","v":""},"","","",null,{"$f":"+IF(BE287=\"\",\"\",MAX(AZ$1:AZ286)+1)","v":""},{"$f":"IF(Mercury!B309=\"\",\"\",Mercury!B309)","v":""},{"$f":"IF(Mercury!C309=\"\",\"\",Mercury!C309)","v":""},{"$f":"IF(Mercury!D309=\"\",\"\",Mercury!D309)","v":""},"",{"$f":"IF(COUNTIF(BB$2:BB287,BB287)=1,BB287,\"\")","v":""},"","",""]
[{"$f":"+IF(D288=\"\",\"\",MAX(A$1:A287)+1)","v":""},{"$f":"IF(CEM_COM_CPMS_Identification!C310=\"\",\"\",CEM_COM_CPMS_Identification!C310)","v":""},"",{"$f":"IF(COUNTIF(B$2:B288,B288)=1,B288,\"\")","v":""},null,null,null,null,null,null,null,null,null,null,null,null,null,null,null,{"$f":"+IF(Y288=\"\",\"\",MAX(T$1:T287)+1)","v":""},{"$f":"IF(No_CPMS_Limits_Details!B310=\"\",\"\",No_CPMS_Limits_Details!B310)","v":""},{"$f":"IF(No_CPMS_Limits_Details!C310=\"\",\"\",No_CPMS_Limits_Details!C310)","v":""},{"$f":"IF(No_CPMS_Limits_Details!D310=\"\",\"\",No_CPMS_Limits_Details!D310)","v":""},"",{"$f":"IF(COUNTIF(V$2:V288,V288)=1,V288,\"\")","v":""},"","","",null,{"$f":"+IF(AI288=\"\",\"\",MAX(AD$1:AD287)+1)","v":""},{"$f":"IF(Limits_Details_w_CPMS!B310=\"\",\"\",Limits_Details_w_CPMS!B310)","v":""},{"$f":"IF(Limits_Details_w_CPMS!C310=\"\",\"\",Limits_Details_w_CPMS!C310)","v":""},{"$f":"IF(Limits_Details_w_CPMS!D310=\"\",\"\",Limits_Details_w_CPMS!D310)","v":""},"",{"$f":"IF(COUNTIF(AH$2:AH288,AH288)=1,AH288,\"\")","v":""},"","","",null,null,null,{"$f":"+IF(AU288=\"\",\"\",MAX(AP$1:AP287)+1)","v":""},{"$f":"IF(CPMS_Detail!B310=\"\",\"\",CPMS_Detail!B310)","v":""},{"$f":"IF(CPMS_Detail!C310=\"\",\"\",CPMS_Detail!C310)","v":""},{"$f":"IF(CPMS_Detail!D310=\"\",\"\",CPMS_Detail!D310)","v":""},"",{"$f":"IF(COUNTIF(AT$2:AT288,AT288)=1,AT288,\"\")","v":""},"","","",null,{"$f":"+IF(BE288=\"\",\"\",MAX(AZ$1:AZ287)+1)","v":""},{"$f":"IF(Mercury!B310=\"\",\"\",Mercury!B310)","v":""},{"$f":"IF(Mercury!C310=\"\",\"\",Mercury!C310)","v":""},{"$f":"IF(Mercury!D310=\"\",\"\",Mercury!D310)","v":""},"",{"$f":"IF(COUNTIF(BB$2:BB288,BB288)=1,BB288,\"\")","v":""},"","",""]
[{"$f":"+IF(D289=\"\",\"\",MAX(A$1:A288)+1)","v":""},{"$f":"IF(CEM_COM_CPMS_Identification!C311=\"\",\"\",CEM_COM_CPMS_Identification!C311)","v":""},"",{"$f":"IF(COUNTIF(B$2:B289,B289)=1,B289,\"\")","v":""},null,null,null,null,null,null,null,null,null,null,null,null,null,null,null,{"$f":"+IF(Y289=\"\",\"\",MAX(T$1:T288)+1)","v":""},{"$f":"IF(No_CPMS_Limits_Details!B311=\"\",\"\",No_CPMS_Limits_Details!B311)","v":""},{"$f":"IF(No_CPMS_Limits_Details!C311=\"\",\"\",No_CPMS_Limits_Details!C311)","v":""},{"$f":"IF(No_CPMS_Limits_Details!D311=\"\",\"\",No_CPMS_Limits_Details!D311)","v":""},"",{"$f":"IF(COUNTIF(V$2:V289,V289)=1,V289,\"\")","v":""},"","","",null,{"$f":"+IF(AI289=\"\",\"\",MAX(AD$1:AD288)+1)","v":""},{"$f":"IF(Limits_Details_w_CPMS!B311=\"\",\"\",Limits_Details_w_CPMS!B311)","v":""},{"$f":"IF(Limits_Details_w_CPMS!C311=\"\",\"\",Limits_Details_w_CPMS!C311)","v":""},{"$f":"IF(Limits_Details_w_CPMS!D311=\"\",\"\",Limits_Details_w_CPMS!D311)","v":""},"",{"$f":"IF(COUNTIF(AH$2:AH289,AH289)=1,AH289,\"\")","v":""},"","","",null,null,null,{"$f":"+IF(AU289=\"\",\"\",MAX(AP$1:AP288)+1)","v":""},{"$f":"IF(CPMS_Detail!B311=\"\",\"\",CPMS_Detail!B311)","v":""},{"$f":"IF(CPMS_Detail!C311=\"\",\"\",CPMS_Detail!C311)","v":""},{"$f":"IF(CPMS_Detail!D311=\"\",\"\",CPMS_Detail!D311)","v":""},"",{"$f":"IF(COUNTIF(AT$2:AT289,AT289)=1,AT289,\"\")","v":""},"","","",null,{"$f":"+IF(BE289=\"\",\"\",MAX(AZ$1:AZ288)+1)","v":""},{"$f":"IF(Mercury!B311=\"\",\"\",Mercury!B311)","v":""},{"$f":"IF(Mercury!C311=\"\",\"\",Mercury!C311)","v":""},{"$f":"IF(Mercury!D311=\"\",\"\",Mercury!D311)","v":""},"",{"$f":"IF(COUNTIF(BB$2:BB289,BB289)=1,BB289,\"\")","v":""},"","",""]
[{"$f":"+IF(D290=\"\",\"\",MAX(A$1:A289)+1)","v":""},{"$f":"IF(CEM_COM_CPMS_Identification!C312=\"\",\"\",CEM_COM_CPMS_Identification!C312)","v":""},"",{"$f":"IF(COUNTIF(B$2:B290,B290)=1,B290,\"\")","v":""},null,null,null,null,null,null,null,null,null,null,null,null,null,null,null,{"$f":"+IF(Y290=\"\",\"\",MAX(T$1:T289)+1)","v":""},{"$f":"IF(No_CPMS_Limits_Details!B312=\"\",\"\",No_CPMS_Limits_Details!B312)","v":""},{"$f":"IF(No_CPMS_Limits_Details!C312=\"\",\"\",No_CPMS_Limits_Details!C312)","v":""},{"$f":"IF(No_CPMS_Limits_Details!D312=\"\",\"\",No_CPMS_Limits_Details!D312)","v":""},"",{"$f":"IF(COUNTIF(V$2:V290,V290)=1,V290,\"\")","v":""},"","","",null,{"$f":"+IF(AI290=\"\",\"\",MAX(AD$1:AD289)+1)","v":""},{"$f":"IF(Limits_Details_w_CPMS!B312=\"\",\"\",Limits_Details_w_CPMS!B312)","v":""},{"$f":"IF(Limits_Details_w_CPMS!C312=\"\",\"\",Limits_Details_w_CPMS!C312)","v":""},{"$f":"IF(Limits_Details_w_CPMS!D312=\"\",\"\",Limits_Details_w_CPMS!D312)","v":""},"",{"$f":"IF(COUNTIF(AH$2:AH290,AH290)=1,AH290,\"\")","v":""},"","","",null,null,null,{"$f":"+IF(AU290=\"\",\"\",MAX(AP$1:AP289)+1)","v":""},{"$f":"IF(CPMS_Detail!B312=\"\",\"\",CPMS_Detail!B312)","v":""},{"$f":"IF(CPMS_Detail!C312=\"\",\"\",CPMS_Detail!C312)","v":""},{"$f":"IF(CPMS_Detail!D312=\"\",\"\",CPMS_Detail!D312)","v":""},"",{"$f":"IF(COUNTIF(AT$2:AT290,AT290)=1,AT290,\"\")","v":""},"","","",null,{"$f":"+IF(BE290=\"\",\"\",MAX(AZ$1:AZ289)+1)","v":""},{"$f":"IF(Mercury!B312=\"\",\"\",Mercury!B312)","v":""},{"$f":"IF(Mercury!C312=\"\",\"\",Mercury!C312)","v":""},{"$f":"IF(Mercury!D312=\"\",\"\",Mercury!D312)","v":""},"",{"$f":"IF(COUNTIF(BB$2:BB290,BB290)=1,BB290,\"\")","v":""},"","",""]
[{"$f":"+IF(D291=\"\",\"\",MAX(A$1:A290)+1)","v":""},{"$f":"IF(CEM_COM_CPMS_Identification!C313=\"\",\"\",CEM_COM_CPMS_Identification!C313)","v":""},"",{"$f":"IF(COUNTIF(B$2:B291,B291)=1,B291,\"\")","v":""},null,null,null,null,null,null,null,null,null,null,null,null,null,null,null,{"$f":"+IF(Y291=\"\",\"\",MAX(T$1:T290)+1)","v":""},{"$f":"IF(No_CPMS_Limits_Details!B313=\"\",\"\",No_CPMS_Limits_Details!B313)","v":""},{"$f":"IF(No_CPMS_Limits_Details!C313=\"\",\"\",No_CPMS_Limits_Details!C313)","v":""},{"$f":"IF(No_CPMS_Limits_Details!D313=\"\",\"\",No_CPMS_Limits_Details!D313)","v":""},"",{"$f":"IF(COUNTIF(V$2:V291,V291)=1,V291,\"\")","v":""},"","","",null,{"$f":"+IF(AI291=\"\",\"\",MAX(AD$1:AD290)+1)","v":""},{"$f":"IF(Limits_Details_w_CPMS!B313=\"\",\"\",Limits_Details_w_CPMS!B313)","v":""},{"$f":"IF(Limits_Details_w_CPMS!C313=\"\",\"\",Limits_Details_w_CPMS!C313)","v":""},{"$f":"IF(Limits_Details_w_CPMS!D313=\"\",\"\",Limits_Details_w_CPMS!D313)","v":""},"",{"$f":"IF(COUNTIF(AH$2:AH291,AH291)=1,AH291,\"\")","v":""},"","","",null,null,null,{"$f":"+IF(AU291=\"\",\"\",MAX(AP$1:AP290)+1)","v":""},{"$f":"IF(CPMS_Detail!B313=\"\",\"\",CPMS_Detail!B313)","v":""},{"$f":"IF(CPMS_Detail!C313=\"\",\"\",CPMS_Detail!C313)","v":""},{"$f":"IF(CPMS_Detail!D313=\"\",\"\",CPMS_Detail!D313)","v":""},"",{"$f":"IF(COUNTIF(AT$2:AT291,AT291)=1,AT291,\"\")","v":""},"","","",null,{"$f":"+IF(BE291=\"\",\"\",MAX(AZ$1:AZ290)+1)","v":""},{"$f":"IF(Mercury!B313=\"\",\"\",Mercury!B313)","v":""},{"$f":"IF(Mercury!C313=\"\",\"\",Mercury!C313)","v":""},{"$f":"IF(Mercury!D313=\"\",\"\",Mercury!D313)","v":""},"",{"$f":"IF(COUNTIF(BB$2:BB291,BB291)=1,BB291,\"\")","v":""},"","",""]
[{"$f":"+IF(D292=\"\",\"\",MAX(A$1:A291)+1)","v":""},{"$f":"IF(CEM_COM_CPMS_Identification!C314=\"\",\"\",CEM_COM_CPMS_Identification!C314)","v":""},"",{"$f":"IF(COUNTIF(B$2:B292,B292)=1,B292,\"\")","v":""},null,null,null,null,null,null,null,null,null,null,null,null,null,null,null,{"$f":"+IF(Y292=\"\",\"\",MAX(T$1:T291)+1)","v":""},{"$f":"IF(No_CPMS_Limits_Details!B314=\"\",\"\",No_CPMS_Limits_Details!B314)","v":""},{"$f":"IF(No_CPMS_Limits_Details!C314=\"\",\"\",No_CPMS_Limits_Details!C314)","v":""},{"$f":"IF(No_CPMS_Limits_Details!D314=\"\",\"\",No_CPMS_Limits_Details!D314)","v":""},"",{"$f":"IF(COUNTIF(V$2:V292,V292)=1,V292,\"\")","v":""},"","","",null,{"$f":"+IF(AI292=\"\",\"\",MAX(AD$1:AD291)+1)","v":""},{"$f":"IF(Limits_Details_w_CPMS!B314=\"\",\"\",Limits_Details_w_CPMS!B314)","v":""},{"$f":"IF(Limits_Details_w_CPMS!C314=\"\",\"\",Limits_Details_w_CPMS!C314)","v":""},{"$f":"IF(Limits_Details_w_CPMS!D314=\"\",\"\",Limits_Details_w_CPMS!D314)","v":""},"",{"$f":"IF(COUNTIF(AH$2:AH292,AH292)=1,AH292,\"\")","v":""},"","","",null,null,null,{"$f":"+IF(AU292=\"\",\"\",MAX(AP$1:AP291)+1)","v":""},{"$f":"IF(CPMS_Detail!B314=\"\",\"\",CPMS_Detail!B314)","v":""},{"$f":"IF(CPMS_Detail!C314=\"\",\"\",CPMS_Detail!C314)","v":""},{"$f":"IF(CPMS_Detail!D314=\"\",\"\",CPMS_Detail!D314)","v":""},"",{"$f":"IF(COUNTIF(AT$2:AT292,AT292)=1,AT292,\"\")","v":""},"","","",null,{"$f":"+IF(BE292=\"\",\"\",MAX(AZ$1:AZ291)+1)","v":""},{"$f":"IF(Mercury!B314=\"\",\"\",Mercury!B314)","v":""},{"$f":"IF(Mercury!C314=\"\",\"\",Mercury!C314)","v":""},{"$f":"IF(Mercury!D314=\"\",\"\",Mercury!D314)","v":""},"",{"$f":"IF(COUNTIF(BB$2:BB292,BB292)=1,BB292,\"\")","v":""},"","",""]
[{"$f":"+IF(D293=\"\",\"\",MAX(A$1:A292)+1)","v":""},{"$f":"IF(CEM_COM_CPMS_Identification!C315=\"\",\"\",CEM_COM_CPMS_Identification!C315)","v":""},"",{"$f":"IF(COUNTIF(B$2:B293,B293)=1,B293,\"\")","v":""},null,null,null,null,null,null,null,null,null,null,null,null,null,null,null,{"$f":"+IF(Y293=\"\",\"\",MAX(T$1:T292)+1)","v":""},{"$f":"IF(No_CPMS_Limits_Details!B315=\"\",\"\",No_CPMS_Limits_Details!B315)","v":""},{"$f":"IF(No_CPMS_Limits_Details!C315=\"\",\"\",No_CPMS_Limits_Details!C315)","v":""},{"$f":"IF(No_CPMS_Limits_Details!D315=\"\",\"\",No_CPMS_Limits_Details!D315)","v":""},"",{"$f":"IF(COUNTIF(V$2:V293,V293)=1,V293,\"\")","v":""},"","","",null,{"$f":"+IF(AI293=\"\",\"\",MAX(AD$1:AD292)+1)","v":""},{"$f":"IF(Limits_Details_w_CPMS!B315=\"\",\"\",Limits_Details_w_CPMS!B315)","v":""},{"$f":"IF(Limits_Details_w_CPMS!C315=\"\",\"\",Limits_Details_w_CPMS!C315)","v":""},{"$f":"IF(Limits_Details_w_CPMS!D315=\"\",\"\",Limits_Details_w_CPMS!D315)","v":""},"",{"$f":"IF(COUNTIF(AH$2:AH293,AH293)=1,AH293,\"\")","v":""},"","","",null,null,null,{"$f":"+IF(AU293=\"\",\"\",MAX(AP$1:AP292)+1)","v":""},{"$f":"IF(CPMS_Detail!B315=\"\",\"\",CPMS_Detail!B315)","v":""},{"$f":"IF(CPMS_Detail!C315=\"\",\"\",CPMS_Detail!C315)","v":""},{"$f":"IF(CPMS_Detail!D315=\"\",\"\",CPMS_Detail!D315)","v":""},"",{"$f":"IF(COUNTIF(AT$2:AT293,AT293)=1,AT293,\"\")","v":""},"","","",null,{"$f":"+IF(BE293=\"\",\"\",MAX(AZ$1:AZ292)+1)","v":""},{"$f":"IF(Mercury!B315=\"\",\"\",Mercury!B315)","v":""},{"$f":"IF(Mercury!C315=\"\",\"\",Mercury!C315)","v":""},{"$f":"IF(Mercury!D315=\"\",\"\",Mercury!D315)","v":""},"",{"$f":"IF(COUNTIF(BB$2:BB293,BB293)=1,BB293,\"\")","v":""},"","",""]
[{"$f":"+IF(D294=\"\",\"\",MAX(A$1:A293)+1)","v":""},{"$f":"IF(CEM_COM_CPMS_Identification!C316=\"\",\"\",CEM_COM_CPMS_Identification!C316)","v":""},"",{"$f":"IF(COUNTIF(B$2:B294,B294)=1,B294,\"\")","v":""},null,null,null,null,null,null,null,null,null,null,null,null,null,null,null,{"$f":"+IF(Y294=\"\",\"\",MAX(T$1:T293)+1)","v":""},{"$f":"IF(No_CPMS_Limits_Details!B316=\"\",\"\",No_CPMS_Limits_Details!B316)","v":""},{"$f":"IF(No_CPMS_Limits_Details!C316=\"\",\"\",No_CPMS_Limits_Details!C316)","v":""},{"$f":"IF(No_CPMS_Limits_Details!D316=\"\",\"\",No_CPMS_Limits_Details!D316)","v":""},"",{"$f":"IF(COUNTIF(V$2:V294,V294)=1,V294,\"\")","v":""},"","","",null,{"$f":"+IF(AI294=\"\",\"\",MAX(AD$1:AD293)+1)","v":""},{"$f":"IF(Limits_Details_w_CPMS!B316=\"\",\"\",Limits_Details_w_CPMS!B316)","v":""},{"$f":"IF(Limits_Details_w_CPMS!C316=\"\",\"\",Limits_Details_w_CPMS!C316)","v":""},{"$f":"IF(Limits_Details_w_CPMS!D316=\"\",\"\",Limits_Details_w_CPMS!D316)","v":""},"",{"$f":"IF(COUNTIF(AH$2:AH294,AH294)=1,AH294,\"\")","v":""},"","","",null,null,null,{"$f":"+IF(AU294=\"\",\"\",MAX(AP$1:AP293)+1)","v":""},{"$f":"IF(CPMS_Detail!B316=\"\",\"\",CPMS_Detail!B316)","v":""},{"$f":"IF(CPMS_Detail!C316=\"\",\"\",CPMS_Detail!C316)","v":""},{"$f":"IF(CPMS_Detail!D316=\"\",\"\",CPMS_Detail!D316)","v":""},"",{"$f":"IF(COUNTIF(AT$2:AT294,AT294)=1,AT294,\"\")","v":""},"","","",null,{"$f":"+IF(BE294=\"\",\"\",MAX(AZ$1:AZ293)+1)","v":""},{"$f":"IF(Mercury!B316=\"\",\"\",Mercury!B316)","v":""},{"$f":"IF(Mercury!C316=\"\",\"\",Mercury!C316)","v":""},{"$f":"IF(Mercury!D316=\"\",\"\",Mercury!D316)","v":""},"",{"$f":"IF(COUNTIF(BB$2:BB294,BB294)=1,BB294,\"\")","v":""},"","",""]
[{"$f":"+IF(D295=\"\",\"\",MAX(A$1:A294)+1)","v":""},{"$f":"IF(CEM_COM_CPMS_Identification!C317=\"\",\"\",CEM_COM_CPMS_Identification!C317)","v":""},"",{"$f":"IF(COUNTIF(B$2:B295,B295)=1,B295,\"\")","v":""},null,null,null,null,null,null,null,null,null,null,null,null,null,null,null,{"$f":"+IF(Y295=\"\",\"\",MAX(T$1:T294)+1)","v":""},{"$f":"IF(No_CPMS_Limits_Details!B317=\"\",\"\",No_CPMS_Limits_Details!B317)","v":""},{"$f":"IF(No_CPMS_Limits_Details!C317=\"\",\"\",No_CPMS_Limits_Details!C317)","v":""},{"$f":"IF(No_CPMS_Limits_Details!D317=\"\",\"\",No_CPMS_Limits_Details!D317)","v":""},"",{"$f":"IF(COUNTIF(V$2:V295,V295)=1,V295,\"\")","v":""},"","","",null,{"$f":"+IF(AI295=\"\",\"\",MAX(AD$1:AD294)+1)","v":""},{"$f":"IF(Limits_Details_w_CPMS!B317=\"\",\"\",Limits_Details_w_CPMS!B317)","v":""},{"$f":"IF(Limits_Details_w_CPMS!C317=\"\",\"\",Limits_Details_w_CPMS!C317)","v":""},{"$f":"IF(Limits_Details_w_CPMS!D317=\"\",\"\",Limits_Details_w_CPMS!D317)","v":""},"",{"$f":"IF(COUNTIF(AH$2:AH295,AH295)=1,AH295,\"\")","v":""},"","","",null,null,null,{"$f":"+IF(AU295=\"\",\"\",MAX(AP$1:AP294)+1)","v":""},{"$f":"IF(CPMS_Detail!B317=\"\",\"\",CPMS_Detail!B317)","v":""},{"$f":"IF(CPMS_Detail!C317=\"\",\"\",CPMS_Detail!C317)","v":""},{"$f":"IF(CPMS_Detail!D317=\"\",\"\",CPMS_Detail!D317)","v":""},"",{"$f":"IF(COUNTIF(AT$2:AT295,AT295)=1,AT295,\"\")","v":""},"","","",null,{"$f":"+IF(BE295=\"\",\"\",MAX(AZ$1:AZ294)+1)","v":""},{"$f":"IF(Mercury!B317=\"\",\"\",Mercury!B317)","v":""},{"$f":"IF(Mercury!C317=\"\",\"\",Mercury!C317)","v":""},{"$f":"IF(Mercury!D317=\"\",\"\",Mercury!D317)","v":""},"",{"$f":"IF(COUNTIF(BB$2:BB295,BB295)=1,BB295,\"\")","v":""},"","",""]
[{"$f":"+IF(D296=\"\",\"\",MAX(A$1:A295)+1)","v":""},{"$f":"IF(CEM_COM_CPMS_Identification!C318=\"\",\"\",CEM_COM_CPMS_Identification!C318)","v":""},"",{"$f":"IF(COUNTIF(B$2:B296,B296)=1,B296,\"\")","v":""},null,null,null,null,null,null,null,null,null,null,null,null,null,null,null,{"$f":"+IF(Y296=\"\",\"\",MAX(T$1:T295)+1)","v":""},{"$f":"IF(No_CPMS_Limits_Details!B318=\"\",\"\",No_CPMS_Limits_Details!B318)","v":""},{"$f":"IF(No_CPMS_Limits_Details!C318=\"\",\"\",No_CPMS_Limits_Details!C318)","v":""},{"$f":"IF(No_CPMS_Limits_Details!D318=\"\",\"\",No_CPMS_Limits_Details!D318)","v":""},"",{"$f":"IF(COUNTIF(V$2:V296,V296)=1,V296,\"\")","v":""},"","","",null,{"$f":"+IF(AI296=\"\",\"\",MAX(AD$1:AD295)+1)","v":""},{"$f":"IF(Limits_Details_w_CPMS!B318=\"\",\"\",Limits_Details_w_CPMS!B318)","v":""},{"$f":"IF(Limits_Details_w_CPMS!C318=\"\",\"\",Limits_Details_w_CPMS!C318)","v":""},{"$f":"IF(Limits_Details_w_CPMS!D318=\"\",\"\",Limits_Details_w_CPMS!D318)","v":""},"",{"$f":"IF(COUNTIF(AH$2:AH296,AH296)=1,AH296,\"\")","v":""},"","","",null,null,null,{"$f":"+IF(AU296=\"\",\"\",MAX(AP$1:AP295)+1)","v":""},{"$f":"IF(CPMS_Detail!B318=\"\",\"\",CPMS_Detail!B318)","v":""},{"$f":"IF(CPMS_Detail!C318=\"\",\"\",CPMS_Detail!C318)","v":""},{"$f":"IF(CPMS_Detail!D318=\"\",\"\",CPMS_Detail!D318)","v":""},"",{"$f":"IF(COUNTIF(AT$2:AT296,AT296)=1,AT296,\"\")","v":""},"","","",null,{"$f":"+IF(BE296=\"\",\"\",MAX(AZ$1:AZ295)+1)","v":""},{"$f":"IF(Mercury!B318=\"\",\"\",Mercury!B318)","v":""},{"$f":"IF(Mercury!C318=\"\",\"\",Mercury!C318)","v":""},{"$f":"IF(Mercury!D318=\"\",\"\",Mercury!D318)","v":""},"",{"$f":"IF(COUNTIF(BB$2:BB296,BB296)=1,BB296,\"\")","v":""},"","",""]
[{"$f":"+IF(D297=\"\",\"\",MAX(A$1:A296)+1)","v":""},{"$f":"IF(CEM_COM_CPMS_Identification!C319=\"\",\"\",CEM_COM_CPMS_Identification!C319)","v":""},"",{"$f":"IF(COUNTIF(B$2:B297,B297)=1,B297,\"\")","v":""},null,null,null,null,null,null,null,null,null,null,null,null,null,null,null,{"$f":"+IF(Y297=\"\",\"\",MAX(T$1:T296)+1)","v":""},{"$f":"IF(No_CPMS_Limits_Details!B319=\"\",\"\",No_CPMS_Limits_Details!B319)","v":""},{"$f":"IF(No_CPMS_Limits_Details!C319=\"\",\"\",No_CPMS_Limits_Details!C319)","v":""},{"$f":"IF(No_CPMS_Limits_Details!D319=\"\",\"\",No_CPMS_Limits_Details!D319)","v":""},"",{"$f":"IF(COUNTIF(V$2:V297,V297)=1,V297,\"\")","v":""},"","","",null,{"$f":"+IF(AI297=\"\",\"\",MAX(AD$1:AD296)+1)","v":""},{"$f":"IF(Limits_Details_w_CPMS!B319=\"\",\"\",Limits_Details_w_CPMS!B319)","v":""},{"$f":"IF(Limits_Details_w_CPMS!C319=\"\",\"\",Limits_Details_w_CPMS!C319)","v":""},{"$f":"IF(Limits_Details_w_CPMS!D319=\"\",\"\",Limits_Details_w_CPMS!D319)","v":""},"",{"$f":"IF(COUNTIF(AH$2:AH297,AH297)=1,AH297,\"\")","v":""},"","","",null,null,null,{"$f":"+IF(AU297=\"\",\"\",MAX(AP$1:AP296)+1)","v":""},{"$f":"IF(CPMS_Detail!B319=\"\",\"\",CPMS_Detail!B319)","v":""},{"$f":"IF(CPMS_Detail!C319=\"\",\"\",CPMS_Detail!C319)","v":""},{"$f":"IF(CPMS_Detail!D319=\"\",\"\",CPMS_Detail!D319)","v":""},"",{"$f":"IF(COUNTIF(AT$2:AT297,AT297)=1,AT297,\"\")","v":""},"","","",null,{"$f":"+IF(BE297=\"\",\"\",MAX(AZ$1:AZ296)+1)","v":""},{"$f":"IF(Mercury!B319=\"\",\"\",Mercury!B319)","v":""},{"$f":"IF(Mercury!C319=\"\",\"\",Mercury!C319)","v":""},{"$f":"IF(Mercury!D319=\"\",\"\",Mercury!D319)","v":""},"",{"$f":"IF(COUNTIF(BB$2:BB297,BB297)=1,BB297,\"\")","v":""},"","",""]
[{"$f":"+IF(D298=\"\",\"\",MAX(A$1:A297)+1)","v":""},{"$f":"IF(CEM_COM_CPMS_Identification!C320=\"\",\"\",CEM_COM_CPMS_Identification!C320)","v":""},"",{"$f":"IF(COUNTIF(B$2:B298,B298)=1,B298,\"\")","v":""},null,null,null,null,null,null,null,null,null,null,null,null,null,null,null,{"$f":"+IF(Y298=\"\",\"\",MAX(T$1:T297)+1)","v":""},{"$f":"IF(No_CPMS_Limits_Details!B320=\"\",\"\",No_CPMS_Limits_Details!B320)","v":""},{"$f":"IF(No_CPMS_Limits_Details!C320=\"\",\"\",No_CPMS_Limits_Details!C320)","v":""},{"$f":"IF(No_CPMS_Limits_Details!D320=\"\",\"\",No_CPMS_Limits_Details!D320)","v":""},"",{"$f":"IF(COUNTIF(V$2:V298,V298)=1,V298,\"\")","v":""},"","","",null,{"$f":"+IF(AI298=\"\",\"\",MAX(AD$1:AD297)+1)","v":""},{"$f":"IF(Limits_Details_w_CPMS!B320=\"\",\"\",Limits_Details_w_CPMS!B320)","v":""},{"$f":"IF(Limits_Details_w_CPMS!C320=\"\",\"\",Limits_Details_w_CPMS!C320)","v":""},{"$f":"IF(Limits_Details_w_CPMS!D320=\"\",\"\",Limits_Details_w_CPMS!D320)","v":""},"",{"$f":"IF(COUNTIF(AH$2:AH298,AH298)=1,AH298,\"\")","v":""},"","","",null,null,null,{"$f":"+IF(AU298=\"\",\"\",MAX(AP$1:AP297)+1)","v":""},{"$f":"IF(CPMS_Detail!B320=\"\",\"\",CPMS_Detail!B320)","v":""},{"$f":"IF(CPMS_Detail!C320=\"\",\"\",CPMS_Detail!C320)","v":""},{"$f":"IF(CPMS_Detail!D320=\"\",\"\",CPMS_Detail!D320)","v":""},"",{"$f":"IF(COUNTIF(AT$2:AT298,AT298)=1,AT298,\"\")","v":""},"","","",null,{"$f":"+IF(BE298=\"\",\"\",MAX(AZ$1:AZ297)+1)","v":""},{"$f":"IF(Mercury!B320=\"\",\"\",Mercury!B320)","v":""},{"$f":"IF(Mercury!C320=\"\",\"\",Mercury!C320)","v":""},{"$f":"IF(Mercury!D320=\"\",\"\",Mercury!D320)","v":""},"",{"$f":"IF(COUNTIF(BB$2:BB298,BB298)=1,BB298,\"\")","v":""},"","",""]
[{"$f":"+IF(D299=\"\",\"\",MAX(A$1:A298)+1)","v":""},{"$f":"IF(CEM_COM_CPMS_Identification!C321=\"\",\"\",CEM_COM_CPMS_Identification!C321)","v":""},"",{"$f":"IF(COUNTIF(B$2:B299,B299)=1,B299,\"\")","v":""},null,null,null,null,null,null,null,null,null,null,null,null,null,null,null,{"$f":"+IF(Y299=\"\",\"\",MAX(T$1:T298)+1)","v":""},{"$f":"IF(No_CPMS_Limits_Details!B321=\"\",\"\",No_CPMS_Limits_Details!B321)","v":""},{"$f":"IF(No_CPMS_Limits_Details!C321=\"\",\"\",No_CPMS_Limits_Details!C321)","v":""},{"$f":"IF(No_CPMS_Limits_Details!D321=\"\",\"\",No_CPMS_Limits_Details!D321)","v":""},"",{"$f":"IF(COUNTIF(V$2:V299,V299)=1,V299,\"\")","v":""},"","","",null,{"$f":"+IF(AI299=\"\",\"\",MAX(AD$1:AD298)+1)","v":""},{"$f":"IF(Limits_Details_w_CPMS!B321=\"\",\"\",Limits_Details_w_CPMS!B321)","v":""},{"$f":"IF(Limits_Details_w_CPMS!C321=\"\",\"\",Limits_Details_w_CPMS!C321)","v":""},{"$f":"IF(Limits_Details_w_CPMS!D321=\"\",\"\",Limits_Details_w_CPMS!D321)","v":""},"",{"$f":"IF(COUNTIF(AH$2:AH299,AH299)=1,AH299,\"\")","v":""},"","","",null,null,null,{"$f":"+IF(AU299=\"\",\"\",MAX(AP$1:AP298)+1)","v":""},{"$f":"IF(CPMS_Detail!B321=\"\",\"\",CPMS_Detail!B321)","v":""},{"$f":"IF(CPMS_Detail!C321=\"\",\"\",CPMS_Detail!C321)","v":""},{"$f":"IF(CPMS_Detail!D321=\"\",\"\",CPMS_Detail!D321)","v":""},"",{"$f":"IF(COUNTIF(AT$2:AT299,AT299)=1,AT299,\"\")","v":""},"","","",null,{"$f":"+IF(BE299=\"\",\"\",MAX(AZ$1:AZ298)+1)","v":""},{"$f":"IF(Mercury!B321=\"\",\"\",Mercury!B321)","v":""},{"$f":"IF(Mercury!C321=\"\",\"\",Mercury!C321)","v":""},{"$f":"IF(Mercury!D321=\"\",\"\",Mercury!D321)","v":""},"",{"$f":"IF(COUNTIF(BB$2:BB299,BB299)=1,BB299,\"\")","v":""},"","",""]
[{"$f":"+IF(D300=\"\",\"\",MAX(A$1:A299)+1)","v":""},{"$f":"IF(CEM_COM_CPMS_Identification!C322=\"\",\"\",CEM_COM_CPMS_Identification!C322)","v":""},"",{"$f":"IF(COUNTIF(B$2:B300,B300)=1,B300,\"\")","v":""},null,null,null,null,null,null,null,null,null,null,null,null,null,null,null,{"$f":"+IF(Y300=\"\",\"\",MAX(T$1:T299)+1)","v":""},{"$f":"IF(No_CPMS_Limits_Details!B322=\"\",\"\",No_CPMS_Limits_Details!B322)","v":""},{"$f":"IF(No_CPMS_Limits_Details!C322=\"\",\"\",No_CPMS_Limits_Details!C322)","v":""},{"$f":"IF(No_CPMS_Limits_Details!D322=\"\",\"\",No_CPMS_Limits_Details!D322)","v":""},"",{"$f":"IF(COUNTIF(V$2:V300,V300)=1,V300,\"\")","v":""},"","","",null,{"$f":"+IF(AI300=\"\",\"\",MAX(AD$1:AD299)+1)","v":""},{"$f":"IF(Limits_Details_w_CPMS!B322=\"\",\"\",Limits_Details_w_CPMS!B322)","v":""},{"$f":"IF(Limits_Details_w_CPMS!C322=\"\",\"\",Limits_Details_w_CPMS!C322)","v":""},{"$f":"IF(Limits_Details_w_CPMS!D322=\"\",\"\",Limits_Details_w_CPMS!D322)","v":""},"",{"$f":"IF(COUNTIF(AH$2:AH300,AH300)=1,AH300,\"\")","v":""},"","","",null,null,null,{"$f":"+IF(AU300=\"\",\"\",MAX(AP$1:AP299)+1)","v":""},{"$f":"IF(CPMS_Detail!B322=\"\",\"\",CPMS_Detail!B322)","v":""},{"$f":"IF(CPMS_Detail!C322=\"\",\"\",CPMS_Detail!C322)","v":""},{"$f":"IF(CPMS_Detail!D322=\"\",\"\",CPMS_Detail!D322)","v":""},"",{"$f":"IF(COUNTIF(AT$2:AT300,AT300)=1,AT300,\"\")","v":""},"","","",null,{"$f":"+IF(BE300=\"\",\"\",MAX(AZ$1:AZ299)+1)","v":""},{"$f":"IF(Mercury!B322=\"\",\"\",Mercury!B322)","v":""},{"$f":"IF(Mercury!C322=\"\",\"\",Mercury!C322)","v":""},{"$f":"IF(Mercury!D322=\"\",\"\",Mercury!D322)","v":""},"",{"$f":"IF(COUNTIF(BB$2:BB300,BB300)=1,BB300,\"\")","v":""},"","",""]
[{"$f":"+IF(D301=\"\",\"\",MAX(A$1:A300)+1)","v":""},{"$f":"IF(CEM_COM_CPMS_Identification!C323=\"\",\"\",CEM_COM_CPMS_Identification!C323)","v":""},"",{"$f":"IF(COUNTIF(B$2:B301,B301)=1,B301,\"\")","v":""},null,null,null,null,null,null,null,null,null,null,null,null,null,null,null,{"$f":"+IF(Y301=\"\",\"\",MAX(T$1:T300)+1)","v":""},{"$f":"IF(No_CPMS_Limits_Details!B323=\"\",\"\",No_CPMS_Limits_Details!B323)","v":""},{"$f":"IF(No_CPMS_Limits_Details!C323=\"\",\"\",No_CPMS_Limits_Details!C323)","v":""},{"$f":"IF(No_CPMS_Limits_Details!D323=\"\",\"\",No_CPMS_Limits_Details!D323)","v":""},"",{"$f":"IF(COUNTIF(V$2:V301,V301)=1,V301,\"\")","v":""},"","","",null,{"$f":"+IF(AI301=\"\",\"\",MAX(AD$1:AD300)+1)","v":""},{"$f":"IF(Limits_Details_w_CPMS!B323=\"\",\"\",Limits_Details_w_CPMS!B323)","v":""},{"$f":"IF(Limits_Details_w_CPMS!C323=\"\",\"\",Limits_Details_w_CPMS!C323)","v":""},{"$f":"IF(Limits_Details_w_CPMS!D323=\"\",\"\",Limits_Details_w_CPMS!D323)","v":""},"",{"$f":"IF(COUNTIF(AH$2:AH301,AH301)=1,AH301,\"\")","v":""},"","","",null,null,null,{"$f":"+IF(AU301=\"\",\"\",MAX(AP$1:AP300)+1)","v":""},{"$f":"IF(CPMS_Detail!B323=\"\",\"\",CPMS_Detail!B323)","v":""},{"$f":"IF(CPMS_Detail!C323=\"\",\"\",CPMS_Detail!C323)","v":""},{"$f":"IF(CPMS_Detail!D323=\"\",\"\",CPMS_Detail!D323)","v":""},"",{"$f":"IF(COUNTIF(AT$2:AT301,AT301)=1,AT301,\"\")","v":""},"","","",null,{"$f":"+IF(BE301=\"\",\"\",MAX(AZ$1:AZ300)+1)","v":""},{"$f":"IF(Mercury!B323=\"\",\"\",Mercury!B323)","v":""},{"$f":"IF(Mercury!C323=\"\",\"\",Mercury!C323)","v":""},{"$f":"IF(Mercury!D323=\"\",\"\",Mercury!D323)","v":""},"",{"$f":"IF(COUNTIF(BB$2:BB301,BB301)=1,BB301,\"\")","v":""},"","",""]
[{"$f":"+IF(D302=\"\",\"\",MAX(A$1:A301)+1)","v":""},{"$f":"IF(CEM_COM_CPMS_Identification!C324=\"\",\"\",CEM_COM_CPMS_Identification!C324)","v":""},"",{"$f":"IF(COUNTIF(B$2:B302,B302)=1,B302,\"\")","v":""},null,null,null,null,null,null,null,null,null,null,null,null,null,null,null,{"$f":"+IF(Y302=\"\",\"\",MAX(T$1:T301)+1)","v":""},{"$f":"IF(No_CPMS_Limits_Details!B324=\"\",\"\",No_CPMS_Limits_Details!B324)","v":""},{"$f":"IF(No_CPMS_Limits_Details!C324=\"\",\"\",No_CPMS_Limits_Details!C324)","v":""},{"$f":"IF(No_CPMS_Limits_Details!D324=\"\",\"\",No_CPMS_Limits_Details!D324)","v":""},"",{"$f":"IF(COUNTIF(V$2:V302,V302)=1,V302,\"\")","v":""},"","","",null,{"$f":"+IF(AI302=\"\",\"\",MAX(AD$1:AD301)+1)","v":""},{"$f":"IF(Limits_Details_w_CPMS!B324=\"\",\"\",Limits_Details_w_CPMS!B324)","v":""},{"$f":"IF(Limits_Details_w_CPMS!C324=\"\",\"\",Limits_Details_w_CPMS!C324)","v":""},{"$f":"IF(Limits_Details_w_CPMS!D324=\"\",\"\",Limits_Details_w_CPMS!D324)","v":""},"",{"$f":"IF(COUNTIF(AH$2:AH302,AH302)=1,AH302,\"\")","v":""},"","","",null,null,null,{"$f":"+IF(AU302=\"\",\"\",MAX(AP$1:AP301)+1)","v":""},{"$f":"IF(CPMS_Detail!B324=\"\",\"\",CPMS_Detail!B324)","v":""},{"$f":"IF(CPMS_Detail!C324=\"\",\"\",CPMS_Detail!C324)","v":""},{"$f":"IF(CPMS_Detail!D324=\"\",\"\",CPMS_Detail!D324)","v":""},"",{"$f":"IF(COUNTIF(AT$2:AT302,AT302)=1,AT302,\"\")","v":""},"","","",null,{"$f":"+IF(BE302=\"\",\"\",MAX(AZ$1:AZ301)+1)","v":""},{"$f":"IF(Mercury!B324=\"\",\"\",Mercury!B324)","v":""},{"$f":"IF(Mercury!C324=\"\",\"\",Mercury!C324)","v":""},{"$f":"IF(Mercury!D324=\"\",\"\",Mercury!D324)","v":""},"",{"$f":"IF(COUNTIF(BB$2:BB302,BB302)=1,BB302,\"\")","v":""},"","",""]
[{"$f":"+IF(D303=\"\",\"\",MAX(A$1:A302)+1)","v":""},{"$f":"IF(CEM_COM_CPMS_Identification!C325=\"\",\"\",CEM_COM_CPMS_Identification!C325)","v":""},"",{"$f":"IF(COUNTIF(B$2:B303,B303)=1,B303,\"\")","v":""},null,null,null,null,null,null,null,null,null,null,null,null,null,null,null,{"$f":"+IF(Y303=\"\",\"\",MAX(T$1:T302)+1)","v":""},{"$f":"IF(No_CPMS_Limits_Details!B325=\"\",\"\",No_CPMS_Limits_Details!B325)","v":""},{"$f":"IF(No_CPMS_Limits_Details!C325=\"\",\"\",No_CPMS_Limits_Details!C325)","v":""},{"$f":"IF(No_CPMS_Limits_Details!D325=\"\",\"\",No_CPMS_Limits_Details!D325)","v":""},"",{"$f":"IF(COUNTIF(V$2:V303,V303)=1,V303,\"\")","v":""},"","","",null,{"$f":"+IF(AI303=\"\",\"\",MAX(AD$1:AD302)+1)","v":""},{"$f":"IF(Limits_Details_w_CPMS!B325=\"\",\"\",Limits_Details_w_CPMS!B325)","v":""},{"$f":"IF(Limits_Details_w_CPMS!C325=\"\",\"\",Limits_Details_w_CPMS!C325)","v":""},{"$f":"IF(Limits_Details_w_CPMS!D325=\"\",\"\",Limits_Details_w_CPMS!D325)","v":""},"",{"$f":"IF(COUNTIF(AH$2:AH303,AH303)=1,AH303,\"\")","v":""},"","","",null,null,null,{"$f":"+IF(AU303=\"\",\"\",MAX(AP$1:AP302)+1)","v":""},{"$f":"IF(CPMS_Detail!B325=\"\",\"\",CPMS_Detail!B325)","v":""},{"$f":"IF(CPMS_Detail!C325=\"\",\"\",CPMS_Detail!C325)","v":""},{"$f":"IF(CPMS_Detail!D325=\"\",\"\",CPMS_Detail!D325)","v":""},"",{"$f":"IF(COUNTIF(AT$2:AT303,AT303)=1,AT303,\"\")","v":""},"","","",null,{"$f":"+IF(BE303=\"\",\"\",MAX(AZ$1:AZ302)+1)","v":""},{"$f":"IF(Mercury!B325=\"\",\"\",Mercury!B325)","v":""},{"$f":"IF(Mercury!C325=\"\",\"\",Mercury!C325)","v":""},{"$f":"IF(Mercury!D325=\"\",\"\",Mercury!D325)","v":""},"",{"$f":"IF(COUNTIF(BB$2:BB303,BB303)=1,BB303,\"\")","v":""},"","",""]
[{"$f":"+IF(D304=\"\",\"\",MAX(A$1:A303)+1)","v":""},{"$f":"IF(CEM_COM_CPMS_Identification!C326=\"\",\"\",CEM_COM_CPMS_Identification!C326)","v":""},"",{"$f":"IF(COUNTIF(B$2:B304,B304)=1,B304,\"\")","v":""},null,null,null,null,null,null,null,null,null,null,null,null,null,null,null,{"$f":"+IF(Y304=\"\",\"\",MAX(T$1:T303)+1)","v":""},{"$f":"IF(No_CPMS_Limits_Details!B326=\"\",\"\",No_CPMS_Limits_Details!B326)","v":""},{"$f":"IF(No_CPMS_Limits_Details!C326=\"\",\"\",No_CPMS_Limits_Details!C326)","v":""},{"$f":"IF(No_CPMS_Limits_Details!D326=\"\",\"\",No_CPMS_Limits_Details!D326)","v":""},"",{"$f":"IF(COUNTIF(V$2:V304,V304)=1,V304,\"\")","v":""},"","","",null,{"$f":"+IF(AI304=\"\",\"\",MAX(AD$1:AD303)+1)","v":""},{"$f":"IF(Limits_Details_w_CPMS!B326=\"\",\"\",Limits_Details_w_CPMS!B326)","v":""},{"$f":"IF(Limits_Details_w_CPMS!C326=\"\",\"\",Limits_Details_w_CPMS!C326)","v":""},{"$f":"IF(Limits_Details_w_CPMS!D326=\"\",\"\",Limits_Details_w_CPMS!D326)","v":""},"",{"$f":"IF(COUNTIF(AH$2:AH304,AH304)=1,AH304,\"\")","v":""},"","","",null,null,null,{"$f":"+IF(AU304=\"\",\"\",MAX(AP$1:AP303)+1)","v":""},{"$f":"IF(CPMS_Detail!B326=\"\",\"\",CPMS_Detail!B326)","v":""},{"$f":"IF(CPMS_Detail!C326=\"\",\"\",CPMS_Detail!C326)","v":""},{"$f":"IF(CPMS_Detail!D326=\"\",\"\",CPMS_Detail!D326)","v":""},"",{"$f":"IF(COUNTIF(AT$2:AT304,AT304)=1,AT304,\"\")","v":""},"","","",null,{"$f":"+IF(BE304=\"\",\"\",MAX(AZ$1:AZ303)+1)","v":""},{"$f":"IF(Mercury!B326=\"\",\"\",Mercury!B326)","v":""},{"$f":"IF(Mercury!C326=\"\",\"\",Mercury!C326)","v":""},{"$f":"IF(Mercury!D326=\"\",\"\",Mercury!D326)","v":""},"",{"$f":"IF(COUNTIF(BB$2:BB304,BB304)=1,BB304,\"\")","v":""},"","",""]
[{"$f":"+IF(D305=\"\",\"\",MAX(A$1:A304)+1)","v":""},{"$f":"IF(CEM_COM_CPMS_Identification!C327=\"\",\"\",CEM_COM_CPMS_Identification!C327)","v":""},"",{"$f":"IF(COUNTIF(B$2:B305,B305)=1,B305,\"\")","v":""},null,null,null,null,null,null,null,null,null,null,null,null,null,null,null,{"$f":"+IF(Y305=\"\",\"\",MAX(T$1:T304)+1)","v":""},{"$f":"IF(No_CPMS_Limits_Details!B327=\"\",\"\",No_CPMS_Limits_Details!B327)","v":""},{"$f":"IF(No_CPMS_Limits_Details!C327=\"\",\"\",No_CPMS_Limits_Details!C327)","v":""},{"$f":"IF(No_CPMS_Limits_Details!D327=\"\",\"\",No_CPMS_Limits_Details!D327)","v":""},"",{"$f":"IF(COUNTIF(V$2:V305,V305)=1,V305,\"\")","v":""},"","","",null,{"$f":"+IF(AI305=\"\",\"\",MAX(AD$1:AD304)+1)","v":""},{"$f":"IF(Limits_Details_w_CPMS!B327=\"\",\"\",Limits_Details_w_CPMS!B327)","v":""},{"$f":"IF(Limits_Details_w_CPMS!C327=\"\",\"\",Limits_Details_w_CPMS!C327)","v":""},{"$f":"IF(Limits_Details_w_CPMS!D327=\"\",\"\",Limits_Details_w_CPMS!D327)","v":""},"",{"$f":"IF(COUNTIF(AH$2:AH305,AH305)=1,AH305,\"\")","v":""},"","","",null,null,null,{"$f":"+IF(AU305=\"\",\"\",MAX(AP$1:AP304)+1)","v":""},{"$f":"IF(CPMS_Detail!B327=\"\",\"\",CPMS_Detail!B327)","v":""},{"$f":"IF(CPMS_Detail!C327=\"\",\"\",CPMS_Detail!C327)","v":""},{"$f":"IF(CPMS_Detail!D327=\"\",\"\",CPMS_Detail!D327)","v":""},"",{"$f":"IF(COUNTIF(AT$2:AT305,AT305)=1,AT305,\"\")","v":""},"","","",null,{"$f":"+IF(BE305=\"\",\"\",MAX(AZ$1:AZ304)+1)","v":""},{"$f":"IF(Mercury!B327=\"\",\"\",Mercury!B327)","v":""},{"$f":"IF(Mercury!C327=\"\",\"\",Mercury!C327)","v":""},{"$f":"IF(Mercury!D327=\"\",\"\",Mercury!D327)","v":""},"",{"$f":"IF(COUNTIF(BB$2:BB305,BB305)=1,BB305,\"\")","v":""},"","",""]
[{"$f":"+IF(D306=\"\",\"\",MAX(A$1:A305)+1)","v":""},{"$f":"IF(CEM_COM_CPMS_Identification!C328=\"\",\"\",CEM_COM_CPMS_Identification!C328)","v":""},"",{"$f":"IF(COUNTIF(B$2:B306,B306)=1,B306,\"\")","v":""},null,null,null,null,null,null,null,null,null,null,null,null,null,null,null,{"$f":"+IF(Y306=\"\",\"\",MAX(T$1:T305)+1)","v":""},{"$f":"IF(No_CPMS_Limits_Details!B328=\"\",\"\",No_CPMS_Limits_Details!B328)","v":""},{"$f":"IF(No_CPMS_Limits_Details!C328=\"\",\"\",No_CPMS_Limits_Details!C328)","v":""},{"$f":"IF(No_CPMS_Limits_Details!D328=\"\",\"\",No_CPMS_Limits_Details!D328)","v":""},"",{"$f":"IF(COUNTIF(V$2:V306,V306)=1,V306,\"\")","v":""},"","","",null,{"$f":"+IF(AI306=\"\",\"\",MAX(AD$1:AD305)+1)","v":""},{"$f":"IF(Limits_Details_w_CPMS!B328=\"\",\"\",Limits_Details_w_CPMS!B328)","v":""},{"$f":"IF(Limits_Details_w_CPMS!C328=\"\",\"\",Limits_Details_w_CPMS!C328)","v":""},{"$f":"IF(Limits_Details_w_CPMS!D328=\"\",\"\",Limits_Details_w_CPMS!D328)","v":""},"",{"$f":"IF(COUNTIF(AH$2:AH306,AH306)=1,AH306,\"\")","v":""},"","","",null,null,null,{"$f":"+IF(AU306=\"\",\"\",MAX(AP$1:AP305)+1)","v":""},{"$f":"IF(CPMS_Detail!B328=\"\",\"\",CPMS_Detail!B328)","v":""},{"$f":"IF(CPMS_Detail!C328=\"\",\"\",CPMS_Detail!C328)","v":""},{"$f":"IF(CPMS_Detail!D328=\"\",\"\",CPMS_Detail!D328)","v":""},"",{"$f":"IF(COUNTIF(AT$2:AT306,AT306)=1,AT306,\"\")","v":""},"","","",null,{"$f":"+IF(BE306=\"\",\"\",MAX(AZ$1:AZ305)+1)","v":""},{"$f":"IF(Mercury!B328=\"\",\"\",Mercury!B328)","v":""},{"$f":"IF(Mercury!C328=\"\",\"\",Mercury!C328)","v":""},{"$f":"IF(Mercury!D328=\"\",\"\",Mercury!D328)","v":""},"",{"$f":"IF(COUNTIF(BB$2:BB306,BB306)=1,BB306,\"\")","v":""},"","",""]
[{"$f":"+IF(D307=\"\",\"\",MAX(A$1:A306)+1)","v":""},{"$f":"IF(CEM_COM_CPMS_Identification!C329=\"\",\"\",CEM_COM_CPMS_Identification!C329)","v":""},"",{"$f":"IF(COUNTIF(B$2:B307,B307)=1,B307,\"\")","v":""},null,null,null,null,null,null,null,null,null,null,null,null,null,null,null,{"$f":"+IF(Y307=\"\",\"\",MAX(T$1:T306)+1)","v":""},{"$f":"IF(No_CPMS_Limits_Details!B329=\"\",\"\",No_CPMS_Limits_Details!B329)","v":""},{"$f":"IF(No_CPMS_Limits_Details!C329=\"\",\"\",No_CPMS_Limits_Details!C329)","v":""},{"$f":"IF(No_CPMS_Limits_Details!D329=\"\",\"\",No_CPMS_Limits_Details!D329)","v":""},"",{"$f":"IF(COUNTIF(V$2:V307,V307)=1,V307,\"\")","v":""},"","","",null,{"$f":"+IF(AI307=\"\",\"\",MAX(AD$1:AD306)+1)","v":""},{"$f":"IF(Limits_Details_w_CPMS!B329=\"\",\"\",Limits_Details_w_CPMS!B329)","v":""},{"$f":"IF(Limits_Details_w_CPMS!C329=\"\",\"\",Limits_Details_w_CPMS!C329)","v":""},{"$f":"IF(Limits_Details_w_CPMS!D329=\"\",\"\",Limits_Details_w_CPMS!D329)","v":""},"",{"$f":"IF(COUNTIF(AH$2:AH307,AH307)=1,AH307,\"\")","v":""},"","","",null,null,null,{"$f":"+IF(AU307=\"\",\"\",MAX(AP$1:AP306)+1)","v":""},{"$f":"IF(CPMS_Detail!B329=\"\",\"\",CPMS_Detail!B329)","v":""},{"$f":"IF(CPMS_Detail!C329=\"\",\"\",CPMS_Detail!C329)","v":""},{"$f":"IF(CPMS_Detail!D329=\"\",\"\",CPMS_Detail!D329)","v":""},"",{"$f":"IF(COUNTIF(AT$2:AT307,AT307)=1,AT307,\"\")","v":""},"","","",null,{"$f":"+IF(BE307=\"\",\"\",MAX(AZ$1:AZ306)+1)","v":""},{"$f":"IF(Mercury!B329=\"\",\"\",Mercury!B329)","v":""},{"$f":"IF(Mercury!C329=\"\",\"\",Mercury!C329)","v":""},{"$f":"IF(Mercury!D329=\"\",\"\",Mercury!D329)","v":""},"",{"$f":"IF(COUNTIF(BB$2:BB307,BB307)=1,BB307,\"\")","v":""},"","",""]
[{"$f":"+IF(D308=\"\",\"\",MAX(A$1:A307)+1)","v":""},{"$f":"IF(CEM_COM_CPMS_Identification!C330=\"\",\"\",CEM_COM_CPMS_Identification!C330)","v":""},"",{"$f":"IF(COUNTIF(B$2:B308,B308)=1,B308,\"\")","v":""},null,null,null,null,null,null,null,null,null,null,null,null,null,null,null,{"$f":"+IF(Y308=\"\",\"\",MAX(T$1:T307)+1)","v":""},{"$f":"IF(No_CPMS_Limits_Details!B330=\"\",\"\",No_CPMS_Limits_Details!B330)","v":""},{"$f":"IF(No_CPMS_Limits_Details!C330=\"\",\"\",No_CPMS_Limits_Details!C330)","v":""},{"$f":"IF(No_CPMS_Limits_Details!D330=\"\",\"\",No_CPMS_Limits_Details!D330)","v":""},"",{"$f":"IF(COUNTIF(V$2:V308,V308)=1,V308,\"\")","v":""},"","","",null,{"$f":"+IF(AI308=\"\",\"\",MAX(AD$1:AD307)+1)","v":""},{"$f":"IF(Limits_Details_w_CPMS!B330=\"\",\"\",Limits_Details_w_CPMS!B330)","v":""},{"$f":"IF(Limits_Details_w_CPMS!C330=\"\",\"\",Limits_Details_w_CPMS!C330)","v":""},{"$f":"IF(Limits_Details_w_CPMS!D330=\"\",\"\",Limits_Details_w_CPMS!D330)","v":""},"",{"$f":"IF(COUNTIF(AH$2:AH308,AH308)=1,AH308,\"\")","v":""},"","","",null,null,null,{"$f":"+IF(AU308=\"\",\"\",MAX(AP$1:AP307)+1)","v":""},{"$f":"IF(CPMS_Detail!B330=\"\",\"\",CPMS_Detail!B330)","v":""},{"$f":"IF(CPMS_Detail!C330=\"\",\"\",CPMS_Detail!C330)","v":""},{"$f":"IF(CPMS_Detail!D330=\"\",\"\",CPMS_Detail!D330)","v":""},"",{"$f":"IF(COUNTIF(AT$2:AT308,AT308)=1,AT308,\"\")","v":""},"","","",null,{"$f":"+IF(BE308=\"\",\"\",MAX(AZ$1:AZ307)+1)","v":""},{"$f":"IF(Mercury!B330=\"\",\"\",Mercury!B330)","v":""},{"$f":"IF(Mercury!C330=\"\",\"\",Mercury!C330)","v":""},{"$f":"IF(Mercury!D330=\"\",\"\",Mercury!D330)","v":""},"",{"$f":"IF(COUNTIF(BB$2:BB308,BB308)=1,BB308,\"\")","v":""},"","",""]
[{"$f":"+IF(D309=\"\",\"\",MAX(A$1:A308)+1)","v":""},{"$f":"IF(CEM_COM_CPMS_Identification!C331=\"\",\"\",CEM_COM_CPMS_Identification!C331)","v":""},"",{"$f":"IF(COUNTIF(B$2:B309,B309)=1,B309,\"\")","v":""},null,null,null,null,null,null,null,null,null,null,null,null,null,null,null,{"$f":"+IF(Y309=\"\",\"\",MAX(T$1:T308)+1)","v":""},{"$f":"IF(No_CPMS_Limits_Details!B331=\"\",\"\",No_CPMS_Limits_Details!B331)","v":""},{"$f":"IF(No_CPMS_Limits_Details!C331=\"\",\"\",No_CPMS_Limits_Details!C331)","v":""},{"$f":"IF(No_CPMS_Limits_Details!D331=\"\",\"\",No_CPMS_Limits_Details!D331)","v":""},"",{"$f":"IF(COUNTIF(V$2:V309,V309)=1,V309,\"\")","v":""},"","","",null,{"$f":"+IF(AI309=\"\",\"\",MAX(AD$1:AD308)+1)","v":""},{"$f":"IF(Limits_Details_w_CPMS!B331=\"\",\"\",Limits_Details_w_CPMS!B331)","v":""},{"$f":"IF(Limits_Details_w_CPMS!C331=\"\",\"\",Limits_Details_w_CPMS!C331)","v":""},{"$f":"IF(Limits_Details_w_CPMS!D331=\"\",\"\",Limits_Details_w_CPMS!D331)","v":""},"",{"$f":"IF(COUNTIF(AH$2:AH309,AH309)=1,AH309,\"\")","v":""},"","","",null,null,null,{"$f":"+IF(AU309=\"\",\"\",MAX(AP$1:AP308)+1)","v":""},{"$f":"IF(CPMS_Detail!B331=\"\",\"\",CPMS_Detail!B331)","v":""},{"$f":"IF(CPMS_Detail!C331=\"\",\"\",CPMS_Detail!C331)","v":""},{"$f":"IF(CPMS_Detail!D331=\"\",\"\",CPMS_Detail!D331)","v":""},"",{"$f":"IF(COUNTIF(AT$2:AT309,AT309)=1,AT309,\"\")","v":""},"","","",null,{"$f":"+IF(BE309=\"\",\"\",MAX(AZ$1:AZ308)+1)","v":""},{"$f":"IF(Mercury!B331=\"\",\"\",Mercury!B331)","v":""},{"$f":"IF(Mercury!C331=\"\",\"\",Mercury!C331)","v":""},{"$f":"IF(Mercury!D331=\"\",\"\",Mercury!D331)","v":""},"",{"$f":"IF(COUNTIF(BB$2:BB309,BB309)=1,BB309,\"\")","v":""},"","",""]
[{"$f":"+IF(D310=\"\",\"\",MAX(A$1:A309)+1)","v":""},{"$f":"IF(CEM_COM_CPMS_Identification!C332=\"\",\"\",CEM_COM_CPMS_Identification!C332)","v":""},"",{"$f":"IF(COUNTIF(B$2:B310,B310)=1,B310,\"\")","v":""},null,null,null,null,null,null,null,null,null,null,null,null,null,null,null,{"$f":"+IF(Y310=\"\",\"\",MAX(T$1:T309)+1)","v":""},{"$f":"IF(No_CPMS_Limits_Details!B332=\"\",\"\",No_CPMS_Limits_Details!B332)","v":""},{"$f":"IF(No_CPMS_Limits_Details!C332=\"\",\"\",No_CPMS_Limits_Details!C332)","v":""},{"$f":"IF(No_CPMS_Limits_Details!D332=\"\",\"\",No_CPMS_Limits_Details!D332)","v":""},"",{"$f":"IF(COUNTIF(V$2:V310,V310)=1,V310,\"\")","v":""},"","","",null,{"$f":"+IF(AI310=\"\",\"\",MAX(AD$1:AD309)+1)","v":""},{"$f":"IF(Limits_Details_w_CPMS!B332=\"\",\"\",Limits_Details_w_CPMS!B332)","v":""},{"$f":"IF(Limits_Details_w_CPMS!C332=\"\",\"\",Limits_Details_w_CPMS!C332)","v":""},{"$f":"IF(Limits_Details_w_CPMS!D332=\"\",\"\",Limits_Details_w_CPMS!D332)","v":""},"",{"$f":"IF(COUNTIF(AH$2:AH310,AH310)=1,AH310,\"\")","v":""},"","","",null,null,null,{"$f":"+IF(AU310=\"\",\"\",MAX(AP$1:AP309)+1)","v":""},{"$f":"IF(CPMS_Detail!B332=\"\",\"\",CPMS_Detail!B332)","v":""},{"$f":"IF(CPMS_Detail!C332=\"\",\"\",CPMS_Detail!C332)","v":""},{"$f":"IF(CPMS_Detail!D332=\"\",\"\",CPMS_Detail!D332)","v":""},"",{"$f":"IF(COUNTIF(AT$2:AT310,AT310)=1,AT310,\"\")","v":""},"","","",null,{"$f":"+IF(BE310=\"\",\"\",MAX(AZ$1:AZ309)+1)","v":""},{"$f":"IF(Mercury!B332=\"\",\"\",Mercury!B332)","v":""},{"$f":"IF(Mercury!C332=\"\",\"\",Mercury!C332)","v":""},{"$f":"IF(Mercury!D332=\"\",\"\",Mercury!D332)","v":""},"",{"$f":"IF(COUNTIF(BB$2:BB310,BB310)=1,BB310,\"\")","v":""},"","",""]
[{"$f":"+IF(D311=\"\",\"\",MAX(A$1:A310)+1)","v":""},{"$f":"IF(CEM_COM_CPMS_Identification!C333=\"\",\"\",CEM_COM_CPMS_Identification!C333)","v":""},"",{"$f":"IF(COUNTIF(B$2:B311,B311)=1,B311,\"\")","v":""},null,null,null,null,null,null,null,null,null,null,null,null,null,null,null,{"$f":"+IF(Y311=\"\",\"\",MAX(T$1:T310)+1)","v":""},{"$f":"IF(No_CPMS_Limits_Details!B333=\"\",\"\",No_CPMS_Limits_Details!B333)","v":""},{"$f":"IF(No_CPMS_Limits_Details!C333=\"\",\"\",No_CPMS_Limits_Details!C333)","v":""},{"$f":"IF(No_CPMS_Limits_Details!D333=\"\",\"\",No_CPMS_Limits_Details!D333)","v":""},"",{"$f":"IF(COUNTIF(V$2:V311,V311)=1,V311,\"\")","v":""},"","","",null,{"$f":"+IF(AI311=\"\",\"\",MAX(AD$1:AD310)+1)","v":""},{"$f":"IF(Limits_Details_w_CPMS!B333=\"\",\"\",Limits_Details_w_CPMS!B333)","v":""},{"$f":"IF(Limits_Details_w_CPMS!C333=\"\",\"\",Limits_Details_w_CPMS!C333)","v":""},{"$f":"IF(Limits_Details_w_CPMS!D333=\"\",\"\",Limits_Details_w_CPMS!D333)","v":""},"",{"$f":"IF(COUNTIF(AH$2:AH311,AH311)=1,AH311,\"\")","v":""},"","","",null,null,null,{"$f":"+IF(AU311=\"\",\"\",MAX(AP$1:AP310)+1)","v":""},{"$f":"IF(CPMS_Detail!B333=\"\",\"\",CPMS_Detail!B333)","v":""},{"$f":"IF(CPMS_Detail!C333=\"\",\"\",CPMS_Detail!C333)","v":""},{"$f":"IF(CPMS_Detail!D333=\"\",\"\",CPMS_Detail!D333)","v":""},"",{"$f":"IF(COUNTIF(AT$2:AT311,AT311)=1,AT311,\"\")","v":""},"","","",null,{"$f":"+IF(BE311=\"\",\"\",MAX(AZ$1:AZ310)+1)","v":""},{"$f":"IF(Mercury!B333=\"\",\"\",Mercury!B333)","v":""},{"$f":"IF(Mercury!C333=\"\",\"\",Mercury!C333)","v":""},{"$f":"IF(Mercury!D333=\"\",\"\",Mercury!D333)","v":""},"",{"$f":"IF(COUNTIF(BB$2:BB311,BB311)=1,BB311,\"\")","v":""},"","",""]
[{"$f":"+IF(D312=\"\",\"\",MAX(A$1:A311)+1)","v":""},{"$f":"IF(CEM_COM_CPMS_Identification!C334=\"\",\"\",CEM_COM_CPMS_Identification!C334)","v":""},"",{"$f":"IF(COUNTIF(B$2:B312,B312)=1,B312,\"\")","v":""},null,null,null,null,null,null,null,null,null,null,null,null,null,null,null,{"$f":"+IF(Y312=\"\",\"\",MAX(T$1:T311)+1)","v":""},{"$f":"IF(No_CPMS_Limits_Details!B334=\"\",\"\",No_CPMS_Limits_Details!B334)","v":""},{"$f":"IF(No_CPMS_Limits_Details!C334=\"\",\"\",No_CPMS_Limits_Details!C334)","v":""},{"$f":"IF(No_CPMS_Limits_Details!D334=\"\",\"\",No_CPMS_Limits_Details!D334)","v":""},"",{"$f":"IF(COUNTIF(V$2:V312,V312)=1,V312,\"\")","v":""},"","","",null,{"$f":"+IF(AI312=\"\",\"\",MAX(AD$1:AD311)+1)","v":""},{"$f":"IF(Limits_Details_w_CPMS!B334=\"\",\"\",Limits_Details_w_CPMS!B334)","v":""},{"$f":"IF(Limits_Details_w_CPMS!C334=\"\",\"\",Limits_Details_w_CPMS!C334)","v":""},{"$f":"IF(Limits_Details_w_CPMS!D334=\"\",\"\",Limits_Details_w_CPMS!D334)","v":""},"",{"$f":"IF(COUNTIF(AH$2:AH312,AH312)=1,AH312,\"\")","v":""},"","","",null,null,null,{"$f":"+IF(AU312=\"\",\"\",MAX(AP$1:AP311)+1)","v":""},{"$f":"IF(CPMS_Detail!B334=\"\",\"\",CPMS_Detail!B334)","v":""},{"$f":"IF(CPMS_Detail!C334=\"\",\"\",CPMS_Detail!C334)","v":""},{"$f":"IF(CPMS_Detail!D334=\"\",\"\",CPMS_Detail!D334)","v":""},"",{"$f":"IF(COUNTIF(AT$2:AT312,AT312)=1,AT312,\"\")","v":""},"","","",null,{"$f":"+IF(BE312=\"\",\"\",MAX(AZ$1:AZ311)+1)","v":""},{"$f":"IF(Mercury!B334=\"\",\"\",Mercury!B334)","v":""},{"$f":"IF(Mercury!C334=\"\",\"\",Mercury!C334)","v":""},{"$f":"IF(Mercury!D334=\"\",\"\",Mercury!D334)","v":""},"",{"$f":"IF(COUNTIF(BB$2:BB312,BB312)=1,BB312,\"\")","v":""},"","",""]
[{"$f":"+IF(D313=\"\",\"\",MAX(A$1:A312)+1)","v":""},{"$f":"IF(CEM_COM_CPMS_Identification!C335=\"\",\"\",CEM_COM_CPMS_Identification!C335)","v":""},"",{"$f":"IF(COUNTIF(B$2:B313,B313)=1,B313,\"\")","v":""},null,null,null,null,null,null,null,null,null,null,null,null,null,null,null,{"$f":"+IF(Y313=\"\",\"\",MAX(T$1:T312)+1)","v":""},{"$f":"IF(No_CPMS_Limits_Details!B335=\"\",\"\",No_CPMS_Limits_Details!B335)","v":""},{"$f":"IF(No_CPMS_Limits_Details!C335=\"\",\"\",No_CPMS_Limits_Details!C335)","v":""},{"$f":"IF(No_CPMS_Limits_Details!D335=\"\",\"\",No_CPMS_Limits_Details!D335)","v":""},"",{"$f":"IF(COUNTIF(V$2:V313,V313)=1,V313,\"\")","v":""},"","","",null,{"$f":"+IF(AI313=\"\",\"\",MAX(AD$1:AD312)+1)","v":""},{"$f":"IF(Limits_Details_w_CPMS!B335=\"\",\"\",Limits_Details_w_CPMS!B335)","v":""},{"$f":"IF(Limits_Details_w_CPMS!C335=\"\",\"\",Limits_Details_w_CPMS!C335)","v":""},{"$f":"IF(Limits_Details_w_CPMS!D335=\"\",\"\",Limits_Details_w_CPMS!D335)","v":""},"",{"$f":"IF(COUNTIF(AH$2:AH313,AH313)=1,AH313,\"\")","v":""},"","","",null,null,null,{"$f":"+IF(AU313=\"\",\"\",MAX(AP$1:AP312)+1)","v":""},{"$f":"IF(CPMS_Detail!B335=\"\",\"\",CPMS_Detail!B335)","v":""},{"$f":"IF(CPMS_Detail!C335=\"\",\"\",CPMS_Detail!C335)","v":""},{"$f":"IF(CPMS_Detail!D335=\"\",\"\",CPMS_Detail!D335)","v":""},"",{"$f":"IF(COUNTIF(AT$2:AT313,AT313)=1,AT313,\"\")","v":""},"","","",null,{"$f":"+IF(BE313=\"\",\"\",MAX(AZ$1:AZ312)+1)","v":""},{"$f":"IF(Mercury!B335=\"\",\"\",Mercury!B335)","v":""},{"$f":"IF(Mercury!C335=\"\",\"\",Mercury!C335)","v":""},{"$f":"IF(Mercury!D335=\"\",\"\",Mercury!D335)","v":""},"",{"$f":"IF(COUNTIF(BB$2:BB313,BB313)=1,BB313,\"\")","v":""},"","",""]
[{"$f":"+IF(D314=\"\",\"\",MAX(A$1:A313)+1)","v":""},{"$f":"IF(CEM_COM_CPMS_Identification!C336=\"\",\"\",CEM_COM_CPMS_Identification!C336)","v":""},"",{"$f":"IF(COUNTIF(B$2:B314,B314)=1,B314,\"\")","v":""},null,null,null,null,null,null,null,null,null,null,null,null,null,null,null,{"$f":"+IF(Y314=\"\",\"\",MAX(T$1:T313)+1)","v":""},{"$f":"IF(No_CPMS_Limits_Details!B336=\"\",\"\",No_CPMS_Limits_Details!B336)","v":""},{"$f":"IF(No_CPMS_Limits_Details!C336=\"\",\"\",No_CPMS_Limits_Details!C336)","v":""},{"$f":"IF(No_CPMS_Limits_Details!D336=\"\",\"\",No_CPMS_Limits_Details!D336)","v":""},"",{"$f":"IF(COUNTIF(V$2:V314,V314)=1,V314,\"\")","v":""},"","","",null,{"$f":"+IF(AI314=\"\",\"\",MAX(AD$1:AD313)+1)","v":""},{"$f":"IF(Limits_Details_w_CPMS!B336=\"\",\"\",Limits_Details_w_CPMS!B336)","v":""},{"$f":"IF(Limits_Details_w_CPMS!C336=\"\",\"\",Limits_Details_w_CPMS!C336)","v":""},{"$f":"IF(Limits_Details_w_CPMS!D336=\"\",\"\",Limits_Details_w_CPMS!D336)","v":""},"",{"$f":"IF(COUNTIF(AH$2:AH314,AH314)=1,AH314,\"\")","v":""},"","","",null,null,null,{"$f":"+IF(AU314=\"\",\"\",MAX(AP$1:AP313)+1)","v":""},{"$f":"IF(CPMS_Detail!B336=\"\",\"\",CPMS_Detail!B336)","v":""},{"$f":"IF(CPMS_Detail!C336=\"\",\"\",CPMS_Detail!C336)","v":""},{"$f":"IF(CPMS_Detail!D336=\"\",\"\",CPMS_Detail!D336)","v":""},"",{"$f":"IF(COUNTIF(AT$2:AT314,AT314)=1,AT314,\"\")","v":""},"","","",null,{"$f":"+IF(BE314=\"\",\"\",MAX(AZ$1:AZ313)+1)","v":""},{"$f":"IF(Mercury!B336=\"\",\"\",Mercury!B336)","v":""},{"$f":"IF(Mercury!C336=\"\",\"\",Mercury!C336)","v":""},{"$f":"IF(Mercury!D336=\"\",\"\",Mercury!D336)","v":""},"",{"$f":"IF(COUNTIF(BB$2:BB314,BB314)=1,BB314,\"\")","v":""},"","",""]
[{"$f":"+IF(D315=\"\",\"\",MAX(A$1:A314)+1)","v":""},{"$f":"IF(CEM_COM_CPMS_Identification!C337=\"\",\"\",CEM_COM_CPMS_Identification!C337)","v":""},"",{"$f":"IF(COUNTIF(B$2:B315,B315)=1,B315,\"\")","v":""},null,null,null,null,null,null,null,null,null,null,null,null,null,null,null,{"$f":"+IF(Y315=\"\",\"\",MAX(T$1:T314)+1)","v":""},{"$f":"IF(No_CPMS_Limits_Details!B337=\"\",\"\",No_CPMS_Limits_Details!B337)","v":""},{"$f":"IF(No_CPMS_Limits_Details!C337=\"\",\"\",No_CPMS_Limits_Details!C337)","v":""},{"$f":"IF(No_CPMS_Limits_Details!D337=\"\",\"\",No_CPMS_Limits_Details!D337)","v":""},"",{"$f":"IF(COUNTIF(V$2:V315,V315)=1,V315,\"\")","v":""},"","","",null,{"$f":"+IF(AI315=\"\",\"\",MAX(AD$1:AD314)+1)","v":""},{"$f":"IF(Limits_Details_w_CPMS!B337=\"\",\"\",Limits_Details_w_CPMS!B337)","v":""},{"$f":"IF(Limits_Details_w_CPMS!C337=\"\",\"\",Limits_Details_w_CPMS!C337)","v":""},{"$f":"IF(Limits_Details_w_CPMS!D337=\"\",\"\",Limits_Details_w_CPMS!D337)","v":""},"",{"$f":"IF(COUNTIF(AH$2:AH315,AH315)=1,AH315,\"\")","v":""},"","","",null,null,null,{"$f":"+IF(AU315=\"\",\"\",MAX(AP$1:AP314)+1)","v":""},{"$f":"IF(CPMS_Detail!B337=\"\",\"\",CPMS_Detail!B337)","v":""},{"$f":"IF(CPMS_Detail!C337=\"\",\"\",CPMS_Detail!C337)","v":""},{"$f":"IF(CPMS_Detail!D337=\"\",\"\",CPMS_Detail!D337)","v":""},"",{"$f":"IF(COUNTIF(AT$2:AT315,AT315)=1,AT315,\"\")","v":""},"","","",null,{"$f":"+IF(BE315=\"\",\"\",MAX(AZ$1:AZ314)+1)","v":""},{"$f":"IF(Mercury!B337=\"\",\"\",Mercury!B337)","v":""},{"$f":"IF(Mercury!C337=\"\",\"\",Mercury!C337)","v":""},{"$f":"IF(Mercury!D337=\"\",\"\",Mercury!D337)","v":""},"",{"$f":"IF(COUNTIF(BB$2:BB315,BB315)=1,BB315,\"\")","v":""},"","",""]
[{"$f":"+IF(D316=\"\",\"\",MAX(A$1:A315)+1)","v":""},{"$f":"IF(CEM_COM_CPMS_Identification!C338=\"\",\"\",CEM_COM_CPMS_Identification!C338)","v":""},"",{"$f":"IF(COUNTIF(B$2:B316,B316)=1,B316,\"\")","v":""},null,null,null,null,null,null,null,null,null,null,null,null,null,null,null,{"$f":"+IF(Y316=\"\",\"\",MAX(T$1:T315)+1)","v":""},{"$f":"IF(No_CPMS_Limits_Details!B338=\"\",\"\",No_CPMS_Limits_Details!B338)","v":""},{"$f":"IF(No_CPMS_Limits_Details!C338=\"\",\"\",No_CPMS_Limits_Details!C338)","v":""},{"$f":"IF(No_CPMS_Limits_Details!D338=\"\",\"\",No_CPMS_Limits_Details!D338)","v":""},"",{"$f":"IF(COUNTIF(V$2:V316,V316)=1,V316,\"\")","v":""},"","","",null,{"$f":"+IF(AI316=\"\",\"\",MAX(AD$1:AD315)+1)","v":""},{"$f":"IF(Limits_Details_w_CPMS!B338=\"\",\"\",Limits_Details_w_CPMS!B338)","v":""},{"$f":"IF(Limits_Details_w_CPMS!C338=\"\",\"\",Limits_Details_w_CPMS!C338)","v":""},{"$f":"IF(Limits_Details_w_CPMS!D338=\"\",\"\",Limits_Details_w_CPMS!D338)","v":""},"",{"$f":"IF(COUNTIF(AH$2:AH316,AH316)=1,AH316,\"\")","v":""},"","","",null,null,null,{"$f":"+IF(AU316=\"\",\"\",MAX(AP$1:AP315)+1)","v":""},{"$f":"IF(CPMS_Detail!B338=\"\",\"\",CPMS_Detail!B338)","v":""},{"$f":"IF(CPMS_Detail!C338=\"\",\"\",CPMS_Detail!C338)","v":""},{"$f":"IF(CPMS_Detail!D338=\"\",\"\",CPMS_Detail!D338)","v":""},"",{"$f":"IF(COUNTIF(AT$2:AT316,AT316)=1,AT316,\"\")","v":""},"","","",null,{"$f":"+IF(BE316=\"\",\"\",MAX(AZ$1:AZ315)+1)","v":""},{"$f":"IF(Mercury!B338=\"\",\"\",Mercury!B338)","v":""},{"$f":"IF(Mercury!C338=\"\",\"\",Mercury!C338)","v":""},{"$f":"IF(Mercury!D338=\"\",\"\",Mercury!D338)","v":""},"",{"$f":"IF(COUNTIF(BB$2:BB316,BB316)=1,BB316,\"\")","v":""},"","",""]
[{"$f":"+IF(D317=\"\",\"\",MAX(A$1:A316)+1)","v":""},{"$f":"IF(CEM_COM_CPMS_Identification!C339=\"\",\"\",CEM_COM_CPMS_Identification!C339)","v":""},"",{"$f":"IF(COUNTIF(B$2:B317,B317)=1,B317,\"\")","v":""},null,null,null,null,null,null,null,null,null,null,null,null,null,null,null,{"$f":"+IF(Y317=\"\",\"\",MAX(T$1:T316)+1)","v":""},{"$f":"IF(No_CPMS_Limits_Details!B339=\"\",\"\",No_CPMS_Limits_Details!B339)","v":""},{"$f":"IF(No_CPMS_Limits_Details!C339=\"\",\"\",No_CPMS_Limits_Details!C339)","v":""},{"$f":"IF(No_CPMS_Limits_Details!D339=\"\",\"\",No_CPMS_Limits_Details!D339)","v":""},"",{"$f":"IF(COUNTIF(V$2:V317,V317)=1,V317,\"\")","v":""},"","","",null,{"$f":"+IF(AI317=\"\",\"\",MAX(AD$1:AD316)+1)","v":""},{"$f":"IF(Limits_Details_w_CPMS!B339=\"\",\"\",Limits_Details_w_CPMS!B339)","v":""},{"$f":"IF(Limits_Details_w_CPMS!C339=\"\",\"\",Limits_Details_w_CPMS!C339)","v":""},{"$f":"IF(Limits_Details_w_CPMS!D339=\"\",\"\",Limits_Details_w_CPMS!D339)","v":""},"",{"$f":"IF(COUNTIF(AH$2:AH317,AH317)=1,AH317,\"\")","v":""},"","","",null,null,null,{"$f":"+IF(AU317=\"\",\"\",MAX(AP$1:AP316)+1)","v":""},{"$f":"IF(CPMS_Detail!B339=\"\",\"\",CPMS_Detail!B339)","v":""},{"$f":"IF(CPMS_Detail!C339=\"\",\"\",CPMS_Detail!C339)","v":""},{"$f":"IF(CPMS_Detail!D339=\"\",\"\",CPMS_Detail!D339)","v":""},"",{"$f":"IF(COUNTIF(AT$2:AT317,AT317)=1,AT317,\"\")","v":""},"","","",null,{"$f":"+IF(BE317=\"\",\"\",MAX(AZ$1:AZ316)+1)","v":""},{"$f":"IF(Mercury!B339=\"\",\"\",Mercury!B339)","v":""},{"$f":"IF(Mercury!C339=\"\",\"\",Mercury!C339)","v":""},{"$f":"IF(Mercury!D339=\"\",\"\",Mercury!D339)","v":""},"",{"$f":"IF(COUNTIF(BB$2:BB317,BB317)=1,BB317,\"\")","v":""},"","",""]
[{"$f":"+IF(D318=\"\",\"\",MAX(A$1:A317)+1)","v":""},{"$f":"IF(CEM_COM_CPMS_Identification!C340=\"\",\"\",CEM_COM_CPMS_Identification!C340)","v":""},"",{"$f":"IF(COUNTIF(B$2:B318,B318)=1,B318,\"\")","v":""},null,null,null,null,null,null,null,null,null,null,null,null,null,null,null,{"$f":"+IF(Y318=\"\",\"\",MAX(T$1:T317)+1)","v":""},{"$f":"IF(No_CPMS_Limits_Details!B340=\"\",\"\",No_CPMS_Limits_Details!B340)","v":""},{"$f":"IF(No_CPMS_Limits_Details!C340=\"\",\"\",No_CPMS_Limits_Details!C340)","v":""},{"$f":"IF(No_CPMS_Limits_Details!D340=\"\",\"\",No_CPMS_Limits_Details!D340)","v":""},"",{"$f":"IF(COUNTIF(V$2:V318,V318)=1,V318,\"\")","v":""},"","","",null,{"$f":"+IF(AI318=\"\",\"\",MAX(AD$1:AD317)+1)","v":""},{"$f":"IF(Limits_Details_w_CPMS!B340=\"\",\"\",Limits_Details_w_CPMS!B340)","v":""},{"$f":"IF(Limits_Details_w_CPMS!C340=\"\",\"\",Limits_Details_w_CPMS!C340)","v":""},{"$f":"IF(Limits_Details_w_CPMS!D340=\"\",\"\",Limits_Details_w_CPMS!D340)","v":""},"",{"$f":"IF(COUNTIF(AH$2:AH318,AH318)=1,AH318,\"\")","v":""},"","","",null,null,null,{"$f":"+IF(AU318=\"\",\"\",MAX(AP$1:AP317)+1)","v":""},{"$f":"IF(CPMS_Detail!B340=\"\",\"\",CPMS_Detail!B340)","v":""},{"$f":"IF(CPMS_Detail!C340=\"\",\"\",CPMS_Detail!C340)","v":""},{"$f":"IF(CPMS_Detail!D340=\"\",\"\",CPMS_Detail!D340)","v":""},"",{"$f":"IF(COUNTIF(AT$2:AT318,AT318)=1,AT318,\"\")","v":""},"","","",null,{"$f":"+IF(BE318=\"\",\"\",MAX(AZ$1:AZ317)+1)","v":""},{"$f":"IF(Mercury!B340=\"\",\"\",Mercury!B340)","v":""},{"$f":"IF(Mercury!C340=\"\",\"\",Mercury!C340)","v":""},{"$f":"IF(Mercury!D340=\"\",\"\",Mercury!D340)","v":""},"",{"$f":"IF(COUNTIF(BB$2:BB318,BB318)=1,BB318,\"\")","v":""},"","",""]
[{"$f":"+IF(D319=\"\",\"\",MAX(A$1:A318)+1)","v":""},{"$f":"IF(CEM_COM_CPMS_Identification!C341=\"\",\"\",CEM_COM_CPMS_Identification!C341)","v":""},"",{"$f":"IF(COUNTIF(B$2:B319,B319)=1,B319,\"\")","v":""},null,null,null,null,null,null,null,null,null,null,null,null,null,null,null,{"$f":"+IF(Y319=\"\",\"\",MAX(T$1:T318)+1)","v":""},{"$f":"IF(No_CPMS_Limits_Details!B341=\"\",\"\",No_CPMS_Limits_Details!B341)","v":""},{"$f":"IF(No_CPMS_Limits_Details!C341=\"\",\"\",No_CPMS_Limits_Details!C341)","v":""},{"$f":"IF(No_CPMS_Limits_Details!D341=\"\",\"\",No_CPMS_Limits_Details!D341)","v":""},"",{"$f":"IF(COUNTIF(V$2:V319,V319)=1,V319,\"\")","v":""},"","","",null,{"$f":"+IF(AI319=\"\",\"\",MAX(AD$1:AD318)+1)","v":""},{"$f":"IF(Limits_Details_w_CPMS!B341=\"\",\"\",Limits_Details_w_CPMS!B341)","v":""},{"$f":"IF(Limits_Details_w_CPMS!C341=\"\",\"\",Limits_Details_w_CPMS!C341)","v":""},{"$f":"IF(Limits_Details_w_CPMS!D341=\"\",\"\",Limits_Details_w_CPMS!D341)","v":""},"",{"$f":"IF(COUNTIF(AH$2:AH319,AH319)=1,AH319,\"\")","v":""},"","","",null,null,null,{"$f":"+IF(AU319=\"\",\"\",MAX(AP$1:AP318)+1)","v":""},{"$f":"IF(CPMS_Detail!B341=\"\",\"\",CPMS_Detail!B341)","v":""},{"$f":"IF(CPMS_Detail!C341=\"\",\"\",CPMS_Detail!C341)","v":""},{"$f":"IF(CPMS_Detail!D341=\"\",\"\",CPMS_Detail!D341)","v":""},"",{"$f":"IF(COUNTIF(AT$2:AT319,AT319)=1,AT319,\"\")","v":""},"","","",null,{"$f":"+IF(BE319=\"\",\"\",MAX(AZ$1:AZ318)+1)","v":""},{"$f":"IF(Mercury!B341=\"\",\"\",Mercury!B341)","v":""},{"$f":"IF(Mercury!C341=\"\",\"\",Mercury!C341)","v":""},{"$f":"IF(Mercury!D341=\"\",\"\",Mercury!D341)","v":""},"",{"$f":"IF(COUNTIF(BB$2:BB319,BB319)=1,BB319,\"\")","v":""},"","",""]
[{"$f":"+IF(D320=\"\",\"\",MAX(A$1:A319)+1)","v":""},{"$f":"IF(CEM_COM_CPMS_Identification!C342=\"\",\"\",CEM_COM_CPMS_Identification!C342)","v":""},"",{"$f":"IF(COUNTIF(B$2:B320,B320)=1,B320,\"\")","v":""},null,null,null,null,null,null,null,null,null,null,null,null,null,null,null,{"$f":"+IF(Y320=\"\",\"\",MAX(T$1:T319)+1)","v":""},{"$f":"IF(No_CPMS_Limits_Details!B342=\"\",\"\",No_CPMS_Limits_Details!B342)","v":""},{"$f":"IF(No_CPMS_Limits_Details!C342=\"\",\"\",No_CPMS_Limits_Details!C342)","v":""},{"$f":"IF(No_CPMS_Limits_Details!D342=\"\",\"\",No_CPMS_Limits_Details!D342)","v":""},"",{"$f":"IF(COUNTIF(V$2:V320,V320)=1,V320,\"\")","v":""},"","","",null,{"$f":"+IF(AI320=\"\",\"\",MAX(AD$1:AD319)+1)","v":""},{"$f":"IF(Limits_Details_w_CPMS!B342=\"\",\"\",Limits_Details_w_CPMS!B342)","v":""},{"$f":"IF(Limits_Details_w_CPMS!C342=\"\",\"\",Limits_Details_w_CPMS!C342)","v":""},{"$f":"IF(Limits_Details_w_CPMS!D342=\"\",\"\",Limits_Details_w_CPMS!D342)","v":""},"",{"$f":"IF(COUNTIF(AH$2:AH320,AH320)=1,AH320,\"\")","v":""},"","","",null,null,null,{"$f":"+IF(AU320=\"\",\"\",MAX(AP$1:AP319)+1)","v":""},{"$f":"IF(CPMS_Detail!B342=\"\",\"\",CPMS_Detail!B342)","v":""},{"$f":"IF(CPMS_Detail!C342=\"\",\"\",CPMS_Detail!C342)","v":""},{"$f":"IF(CPMS_Detail!D342=\"\",\"\",CPMS_Detail!D342)","v":""},"",{"$f":"IF(COUNTIF(AT$2:AT320,AT320)=1,AT320,\"\")","v":""},"","","",null,{"$f":"+IF(BE320=\"\",\"\",MAX(AZ$1:AZ319)+1)","v":""},{"$f":"IF(Mercury!B342=\"\",\"\",Mercury!B342)","v":""},{"$f":"IF(Mercury!C342=\"\",\"\",Mercury!C342)","v":""},{"$f":"IF(Mercury!D342=\"\",\"\",Mercury!D342)","v":""},"",{"$f":"IF(COUNTIF(BB$2:BB320,BB320)=1,BB320,\"\")","v":""},"","",""]
[{"$f":"+IF(D321=\"\",\"\",MAX(A$1:A320)+1)","v":""},{"$f":"IF(CEM_COM_CPMS_Identification!C343=\"\",\"\",CEM_COM_CPMS_Identification!C343)","v":""},"",{"$f":"IF(COUNTIF(B$2:B321,B321)=1,B321,\"\")","v":""},null,null,null,null,null,null,null,null,null,null,null,null,null,null,null,{"$f":"+IF(Y321=\"\",\"\",MAX(T$1:T320)+1)","v":""},{"$f":"IF(No_CPMS_Limits_Details!B343=\"\",\"\",No_CPMS_Limits_Details!B343)","v":""},{"$f":"IF(No_CPMS_Limits_Details!C343=\"\",\"\",No_CPMS_Limits_Details!C343)","v":""},{"$f":"IF(No_CPMS_Limits_Details!D343=\"\",\"\",No_CPMS_Limits_Details!D343)","v":""},"",{"$f":"IF(COUNTIF(V$2:V321,V321)=1,V321,\"\")","v":""},"","","",null,{"$f":"+IF(AI321=\"\",\"\",MAX(AD$1:AD320)+1)","v":""},{"$f":"IF(Limits_Details_w_CPMS!B343=\"\",\"\",Limits_Details_w_CPMS!B343)","v":""},{"$f":"IF(Limits_Details_w_CPMS!C343=\"\",\"\",Limits_Details_w_CPMS!C343)","v":""},{"$f":"IF(Limits_Details_w_CPMS!D343=\"\",\"\",Limits_Details_w_CPMS!D343)","v":""},"",{"$f":"IF(COUNTIF(AH$2:AH321,AH321)=1,AH321,\"\")","v":""},"","","",null,null,null,{"$f":"+IF(AU321=\"\",\"\",MAX(AP$1:AP320)+1)","v":""},{"$f":"IF(CPMS_Detail!B343=\"\",\"\",CPMS_Detail!B343)","v":""},{"$f":"IF(CPMS_Detail!C343=\"\",\"\",CPMS_Detail!C343)","v":""},{"$f":"IF(CPMS_Detail!D343=\"\",\"\",CPMS_Detail!D343)","v":""},"",{"$f":"IF(COUNTIF(AT$2:AT321,AT321)=1,AT321,\"\")","v":""},"","","",null,{"$f":"+IF(BE321=\"\",\"\",MAX(AZ$1:AZ320)+1)","v":""},{"$f":"IF(Mercury!B343=\"\",\"\",Mercury!B343)","v":""},{"$f":"IF(Mercury!C343=\"\",\"\",Mercury!C343)","v":""},{"$f":"IF(Mercury!D343=\"\",\"\",Mercury!D343)","v":""},"",{"$f":"IF(COUNTIF(BB$2:BB321,BB321)=1,BB321,\"\")","v":""},"","",""]
[{"$f":"+IF(D322=\"\",\"\",MAX(A$1:A321)+1)","v":""},{"$f":"IF(CEM_COM_CPMS_Identification!C344=\"\",\"\",CEM_COM_CPMS_Identification!C344)","v":""},{"$f":"+IFERROR(INDEX(B$2:B$501,MATCH(ROW()-ROW($C$1),A$2:A$501,0)),\"\")","v":""},{"$f":"IF(COUNTIF(B$2:B322,B322)=1,B322,\"\")","v":""},null,null,null,null,null,null,null,null,null,null,null,null,null,null,null,{"$f":"+IF(Y322=\"\",\"\",MAX(T$1:T321)+1)","v":""},{"$f":"IF(No_CPMS_Limits_Details!B344=\"\",\"\",No_CPMS_Limits_Details!B344)","v":""},{"$f":"IF(No_CPMS_Limits_Details!C344=\"\",\"\",No_CPMS_Limits_Details!C344)","v":""},{"$f":"IF(No_CPMS_Limits_Details!D344=\"\",\"\",No_CPMS_Limits_Details!D344)","v":""},{"$f":"U322&V322&W323","v":""},{"$f":"IF(COUNTIF(V$2:V322,V322)=1,V322,\"\")","v":""},{"$f":"+IFERROR(INDEX(U$2:U$955,MATCH(ROW()-ROW(Z$1),T$2:T$955,0)),\"\")","v":""},{"$f":"+IFERROR(INDEX(V$2:V$955,MATCH(ROW()-ROW(Z$1),T$2:T$955,0)),\"\")","v":""},{"$f":"+IFERROR(INDEX(W$2:W$955,MATCH(ROW()-ROW(Z$1),T$2:T$955,0)),\"\")","v":""},null,{"$f":"+IF(AI322=\"\",\"\",MAX(AD$1:AD321)+1)","v":""},{"$f":"IF(Limits_Details_w_CPMS!B344=\"\",\"\",Limits_Details_w_CPMS!B344)","v":""},{"$f":"IF(Limits_Details_w_CPMS!C344=\"\",\"\",Limits_Details_w_CPMS!C344)","v":""},{"$f":"IF(Limits_Details_w_CPMS!D344=\"\",\"\",Limits_Details_w_CPMS!D344)","v":""},"",{"$f":"IF(COUNTIF(AH$2:AH322,AH322)=1,AH322,\"\")","v":""},{"$f":"+IFERROR(INDEX(AE$2:AE$955,MATCH(ROW()-ROW(AJ$1),AD$2:AD$955,0)),\"\")","v":""},{"$f":"+IFERROR(INDEX(AF$2:AF$955,MATCH(ROW()-ROW(AJ$1),AD$2:AD$955,0)),\"\")","v":""},{"$f":"+IFERROR(INDEX(AG$2:AG$955,MATCH(ROW()-ROW(AJ$1),AD$2:AD$955,0)),\"\")","v":""},null,null,null,{"$f":"+IF(AU322=\"\",\"\",MAX(AP$1:AP321)+1)","v":""},{"$f":"IF(CPMS_Detail!B344=\"\",\"\",CPMS_Detail!B344)","v":""},{"$f":"IF(CPMS_Detail!C344=\"\",\"\",CPMS_Detail!C344)","v":""},{"$f":"IF(CPMS_Detail!D344=\"\",\"\",CPMS_Detail!D344)","v":""},"",{"$f":"IF(COUNTIF(AT$2:AT322,AT322)=1,AT322,\"\")","v":""},"","","",null,{"$f":"+IF(BE322=\"\",\"\",MAX(AZ$1:AZ321)+1)","v":""},{"$f":"IF(Mercury!B344=\"\",\"\",Mercury!B344)","v":""},{"$f":"IF(Mercury!C344=\"\",\"\",Mercury!C344)","v":""},{"$f":"IF(Mercury!D344=\"\",\"\",Mercury!D344)","v":""},{"$f":"BA322&BB322&BC323","v":""},{"$f":"IF(COUNTIF(BB$2:BB322,BB322)=1,BB322,\"\")","v":""},{"$f":"+IFERROR(INDEX(BA$2:BA$955,MATCH(ROW()-ROW(BF$1),AZ$2:AZ$955,0)),\"\")","v":""},{"$f":"+IFERROR(INDEX(BB$2:BB$955,MATCH(ROW()-ROW(BF$1),AZ$2:AZ$955,0)),\"\")","v":""},{"$f":"+IFERROR(INDEX(BC$2:BC$955,MATCH(ROW()-ROW(BF$1),AZ$2:AZ$955,0)),\"\")","v":""}]
[{"$f":"+IF(D323=\"\",\"\",MAX(A$1:A322)+1)","v":""},{"$f":"IF(CEM_COM_CPMS_Identification!C345=\"\",\"\",CEM_COM_CPMS_Identification!C345)","v":""},"",{"$f":"IF(COUNTIF(B$2:B323,B323)=1,B323,\"\")","v":""},null,null,null,null,null,null,null,null,null,null,null,null,null,null,null,{"$f":"+IF(Y323=\"\",\"\",MAX(T$1:T322)+1)","v":""},{"$f":"IF(No_CPMS_Limits_Details!B345=\"\",\"\",No_CPMS_Limits_Details!B345)","v":""},{"$f":"IF(No_CPMS_Limits_Details!C345=\"\",\"\",No_CPMS_Limits_Details!C345)","v":""},{"$f":"IF(No_CPMS_Limits_Details!D345=\"\",\"\",No_CPMS_Limits_Details!D345)","v":""},"",{"$f":"IF(COUNTIF(V$2:V323,V323)=1,V323,\"\")","v":""},"","","",null,{"$f":"+IF(AI323=\"\",\"\",MAX(AD$1:AD322)+1)","v":""},{"$f":"IF(Limits_Details_w_CPMS!B345=\"\",\"\",Limits_Details_w_CPMS!B345)","v":""},{"$f":"IF(Limits_Details_w_CPMS!C345=\"\",\"\",Limits_Details_w_CPMS!C345)","v":""},{"$f":"IF(Limits_Details_w_CPMS!D345=\"\",\"\",Limits_Details_w_CPMS!D345)","v":""},{"$f":"AE323&AF323&AG323","v":""},{"$f":"IF(COUNTIF(AH$2:AH323,AH323)=1,AH323,\"\")","v":""},"","","",null,null,null,{"$f":"+IF(AU323=\"\",\"\",MAX(AP$1:AP322)+1)","v":""},{"$f":"IF(CPMS_Detail!B345=\"\",\"\",CPMS_Detail!B345)","v":""},{"$f":"IF(CPMS_Detail!C345=\"\",\"\",CPMS_Detail!C345)","v":""},{"$f":"IF(CPMS_Detail!D345=\"\",\"\",CPMS_Detail!D345)","v":""},{"$f":"AQ323&AR323&AS323","v":""},{"$f":"IF(COUNTIF(AT$2:AT323,AT323)=1,AT323,\"\")","v":""},{"$f":"+IFERROR(INDEX(AQ$2:AQ$955,MATCH(ROW()-ROW(AV$1),AP$2:AP$955,0)),\"\")","v":""},{"$f":"+IFERROR(INDEX(AR$2:AR$955,MATCH(ROW()-ROW(AV$1),AP$2:AP$955,0)),\"\")","v":""},{"$f":"+IFERROR(INDEX(AS$2:AS$955,MATCH(ROW()-ROW(AV$1),AP$2:AP$955,0)),\"\")","v":""},null,{"$f":"+IF(BE323=\"\",\"\",MAX(AZ$1:AZ322)+1)","v":""},{"$f":"IF(Mercury!B345=\"\",\"\",Mercury!B345)","v":""},{"$f":"IF(Mercury!C345=\"\",\"\",Mercury!C345)","v":""},{"$f":"IF(Mercury!D345=\"\",\"\",Mercury!D345)","v":""},"",{"$f":"IF(COUNTIF(BB$2:BB323,BB323)=1,BB323,\"\")","v":""},"","",""]
[{"$f":"+IF(D324=\"\",\"\",MAX(A$1:A323)+1)","v":""},{"$f":"IF(CEM_COM_CPMS_Identification!C346=\"\",\"\",CEM_COM_CPMS_Identification!C346)","v":""},"",{"$f":"IF(COUNTIF(B$2:B324,B324)=1,B324,\"\")","v":""},null,null,null,null,null,null,null,null,null,null,null,null,null,null,null,{"$f":"+IF(Y324=\"\",\"\",MAX(T$1:T323)+1)","v":""},{"$f":"IF(No_CPMS_Limits_Details!B346=\"\",\"\",No_CPMS_Limits_Details!B346)","v":""},{"$f":"IF(No_CPMS_Limits_Details!C346=\"\",\"\",No_CPMS_Limits_Details!C346)","v":""},{"$f":"IF(No_CPMS_Limits_Details!D346=\"\",\"\",No_CPMS_Limits_Details!D346)","v":""},"",{"$f":"IF(COUNTIF(V$2:V324,V324)=1,V324,\"\")","v":""},"","","",null,{"$f":"+IF(AI324=\"\",\"\",MAX(AD$1:AD323)+1)","v":""},{"$f":"IF(Limits_Details_w_CPMS!B346=\"\",\"\",Limits_Details_w_CPMS!B346)","v":""},{"$f":"IF(Limits_Details_w_CPMS!C346=\"\",\"\",Limits_Details_w_CPMS!C346)","v":""},{"$f":"IF(Limits_Details_w_CPMS!D346=\"\",\"\",Limits_Details_w_CPMS!D346)","v":""},"",{"$f":"IF(COUNTIF(AH$2:AH324,AH324)=1,AH324,\"\")","v":""},"","","",null,null,null,{"$f":"+IF(AU324=\"\",\"\",MAX(AP$1:AP323)+1)","v":""},{"$f":"IF(CPMS_Detail!B346=\"\",\"\",CPMS_Detail!B346)","v":""},{"$f":"IF(CPMS_Detail!C346=\"\",\"\",CPMS_Detail!C346)","v":""},{"$f":"IF(CPMS_Detail!D346=\"\",\"\",CPMS_Detail!D346)","v":""},"",{"$f":"IF(COUNTIF(AT$2:AT324,AT324)=1,AT324,\"\")","v":""},"","","",null,{"$f":"+IF(BE324=\"\",\"\",MAX(AZ$1:AZ323)+1)","v":""},{"$f":"IF(Mercury!B346=\"\",\"\",Mercury!B346)","v":""},{"$f":"IF(Mercury!C346=\"\",\"\",Mercury!C346)","v":""},{"$f":"IF(Mercury!D346=\"\",\"\",Mercury!D346)","v":""},"",{"$f":"IF(COUNTIF(BB$2:BB324,BB324)=1,BB324,\"\")","v":""},"","",""]
[{"$f":"+IF(D325=\"\",\"\",MAX(A$1:A324)+1)","v":""},{"$f":"IF(CEM_COM_CPMS_Identification!C347=\"\",\"\",CEM_COM_CPMS_Identification!C347)","v":""},"",{"$f":"IF(COUNTIF(B$2:B325,B325)=1,B325,\"\")","v":""},null,null,null,null,null,null,null,null,null,null,null,null,null,null,null,{"$f":"+IF(Y325=\"\",\"\",MAX(T$1:T324)+1)","v":""},{"$f":"IF(No_CPMS_Limits_Details!B347=\"\",\"\",No_CPMS_Limits_Details!B347)","v":""},{"$f":"IF(No_CPMS_Limits_Details!C347=\"\",\"\",No_CPMS_Limits_Details!C347)","v":""},{"$f":"IF(No_CPMS_Limits_Details!D347=\"\",\"\",No_CPMS_Limits_Details!D347)","v":""},"",{"$f":"IF(COUNTIF(V$2:V325,V325)=1,V325,\"\")","v":""},"","","",null,{"$f":"+IF(AI325=\"\",\"\",MAX(AD$1:AD324)+1)","v":""},{"$f":"IF(Limits_Details_w_CPMS!B347=\"\",\"\",Limits_Details_w_CPMS!B347)","v":""},{"$f":"IF(Limits_Details_w_CPMS!C347=\"\",\"\",Limits_Details_w_CPMS!C347)","v":""},{"$f":"IF(Limits_Details_w_CPMS!D347=\"\",\"\",Limits_Details_w_CPMS!D347)","v":""},"",{"$f":"IF(COUNTIF(AH$2:AH325,AH325)=1,AH325,\"\")","v":""},"","","",null,null,null,{"$f":"+IF(AU325=\"\",\"\",MAX(AP$1:AP324)+1)","v":""},{"$f":"IF(CPMS_Detail!B347=\"\",\"\",CPMS_Detail!B347)","v":""},{"$f":"IF(CPMS_Detail!C347=\"\",\"\",CPMS_Detail!C347)","v":""},{"$f":"IF(CPMS_Detail!D347=\"\",\"\",CPMS_Detail!D347)","v":""},"",{"$f":"IF(COUNTIF(AT$2:AT325,AT325)=1,AT325,\"\")","v":""},"","","",null,{"$f":"+IF(BE325=\"\",\"\",MAX(AZ$1:AZ324)+1)","v":""},{"$f":"IF(Mercury!B347=\"\",\"\",Mercury!B347)","v":""},{"$f":"IF(Mercury!C347=\"\",\"\",Mercury!C347)","v":""},{"$f":"IF(Mercury!D347=\"\",\"\",Mercury!D347)","v":""},"",{"$f":"IF(COUNTIF(BB$2:BB325,BB325)=1,BB325,\"\")","v":""},"","",""]
[{"$f":"+IF(D326=\"\",\"\",MAX(A$1:A325)+1)","v":""},{"$f":"IF(CEM_COM_CPMS_Identification!C348=\"\",\"\",CEM_COM_CPMS_Identification!C348)","v":""},"",{"$f":"IF(COUNTIF(B$2:B326,B326)=1,B326,\"\")","v":""},null,null,null,null,null,null,null,null,null,null,null,null,null,null,null,{"$f":"+IF(Y326=\"\",\"\",MAX(T$1:T325)+1)","v":""},{"$f":"IF(No_CPMS_Limits_Details!B348=\"\",\"\",No_CPMS_Limits_Details!B348)","v":""},{"$f":"IF(No_CPMS_Limits_Details!C348=\"\",\"\",No_CPMS_Limits_Details!C348)","v":""},{"$f":"IF(No_CPMS_Limits_Details!D348=\"\",\"\",No_CPMS_Limits_Details!D348)","v":""},"",{"$f":"IF(COUNTIF(V$2:V326,V326)=1,V326,\"\")","v":""},"","","",null,{"$f":"+IF(AI326=\"\",\"\",MAX(AD$1:AD325)+1)","v":""},{"$f":"IF(Limits_Details_w_CPMS!B348=\"\",\"\",Limits_Details_w_CPMS!B348)","v":""},{"$f":"IF(Limits_Details_w_CPMS!C348=\"\",\"\",Limits_Details_w_CPMS!C348)","v":""},{"$f":"IF(Limits_Details_w_CPMS!D348=\"\",\"\",Limits_Details_w_CPMS!D348)","v":""},"",{"$f":"IF(COUNTIF(AH$2:AH326,AH326)=1,AH326,\"\")","v":""},"","","",null,null,null,{"$f":"+IF(AU326=\"\",\"\",MAX(AP$1:AP325)+1)","v":""},{"$f":"IF(CPMS_Detail!B348=\"\",\"\",CPMS_Detail!B348)","v":""},{"$f":"IF(CPMS_Detail!C348=\"\",\"\",CPMS_Detail!C348)","v":""},{"$f":"IF(CPMS_Detail!D348=\"\",\"\",CPMS_Detail!D348)","v":""},"",{"$f":"IF(COUNTIF(AT$2:AT326,AT326)=1,AT326,\"\")","v":""},"","","",null,{"$f":"+IF(BE326=\"\",\"\",MAX(AZ$1:AZ325)+1)","v":""},{"$f":"IF(Mercury!B348=\"\",\"\",Mercury!B348)","v":""},{"$f":"IF(Mercury!C348=\"\",\"\",Mercury!C348)","v":""},{"$f":"IF(Mercury!D348=\"\",\"\",Mercury!D348)","v":""},"",{"$f":"IF(COUNTIF(BB$2:BB326,BB326)=1,BB326,\"\")","v":""},"","",""]
[{"$f":"+IF(D327=\"\",\"\",MAX(A$1:A326)+1)","v":""},{"$f":"IF(CEM_COM_CPMS_Identification!C349=\"\",\"\",CEM_COM_CPMS_Identification!C349)","v":""},"",{"$f":"IF(COUNTIF(B$2:B327,B327)=1,B327,\"\")","v":""},null,null,null,null,null,null,null,null,null,null,null,null,null,null,null,{"$f":"+IF(Y327=\"\",\"\",MAX(T$1:T326)+1)","v":""},{"$f":"IF(No_CPMS_Limits_Details!B349=\"\",\"\",No_CPMS_Limits_Details!B349)","v":""},{"$f":"IF(No_CPMS_Limits_Details!C349=\"\",\"\",No_CPMS_Limits_Details!C349)","v":""},{"$f":"IF(No_CPMS_Limits_Details!D349=\"\",\"\",No_CPMS_Limits_Details!D349)","v":""},"",{"$f":"IF(COUNTIF(V$2:V327,V327)=1,V327,\"\")","v":""},"","","",null,{"$f":"+IF(AI327=\"\",\"\",MAX(AD$1:AD326)+1)","v":""},{"$f":"IF(Limits_Details_w_CPMS!B349=\"\",\"\",Limits_Details_w_CPMS!B349)","v":""},{"$f":"IF(Limits_Details_w_CPMS!C349=\"\",\"\",Limits_Details_w_CPMS!C349)","v":""},{"$f":"IF(Limits_Details_w_CPMS!D349=\"\",\"\",Limits_Details_w_CPMS!D349)","v":""},"",{"$f":"IF(COUNTIF(AH$2:AH327,AH327)=1,AH327,\"\")","v":""},"","","",null,null,null,{"$f":"+IF(AU327=\"\",\"\",MAX(AP$1:AP326)+1)","v":""},{"$f":"IF(CPMS_Detail!B349=\"\",\"\",CPMS_Detail!B349)","v":""},{"$f":"IF(CPMS_Detail!C349=\"\",\"\",CPMS_Detail!C349)","v":""},{"$f":"IF(CPMS_Detail!D349=\"\",\"\",CPMS_Detail!D349)","v":""},"",{"$f":"IF(COUNTIF(AT$2:AT327,AT327)=1,AT327,\"\")","v":""},"","","",null,{"$f":"+IF(BE327=\"\",\"\",MAX(AZ$1:AZ326)+1)","v":""},{"$f":"IF(Mercury!B349=\"\",\"\",Mercury!B349)","v":""},{"$f":"IF(Mercury!C349=\"\",\"\",Mercury!C349)","v":""},{"$f":"IF(Mercury!D349=\"\",\"\",Mercury!D349)","v":""},"",{"$f":"IF(COUNTIF(BB$2:BB327,BB327)=1,BB327,\"\")","v":""},"","",""]
[{"$f":"+IF(D328=\"\",\"\",MAX(A$1:A327)+1)","v":""},{"$f":"IF(CEM_COM_CPMS_Identification!C350=\"\",\"\",CEM_COM_CPMS_Identification!C350)","v":""},"",{"$f":"IF(COUNTIF(B$2:B328,B328)=1,B328,\"\")","v":""},null,null,null,null,null,null,null,null,null,null,null,null,null,null,null,{"$f":"+IF(Y328=\"\",\"\",MAX(T$1:T327)+1)","v":""},{"$f":"IF(No_CPMS_Limits_Details!B350=\"\",\"\",No_CPMS_Limits_Details!B350)","v":""},{"$f":"IF(No_CPMS_Limits_Details!C350=\"\",\"\",No_CPMS_Limits_Details!C350)","v":""},{"$f":"IF(No_CPMS_Limits_Details!D350=\"\",\"\",No_CPMS_Limits_Details!D350)","v":""},"",{"$f":"IF(COUNTIF(V$2:V328,V328)=1,V328,\"\")","v":""},"","","",null,{"$f":"+IF(AI328=\"\",\"\",MAX(AD$1:AD327)+1)","v":""},{"$f":"IF(Limits_Details_w_CPMS!B350=\"\",\"\",Limits_Details_w_CPMS!B350)","v":""},{"$f":"IF(Limits_Details_w_CPMS!C350=\"\",\"\",Limits_Details_w_CPMS!C350)","v":""},{"$f":"IF(Limits_Details_w_CPMS!D350=\"\",\"\",Limits_Details_w_CPMS!D350)","v":""},"",{"$f":"IF(COUNTIF(AH$2:AH328,AH328)=1,AH328,\"\")","v":""},"","","",null,null,null,{"$f":"+IF(AU328=\"\",\"\",MAX(AP$1:AP327)+1)","v":""},{"$f":"IF(CPMS_Detail!B350=\"\",\"\",CPMS_Detail!B350)","v":""},{"$f":"IF(CPMS_Detail!C350=\"\",\"\",CPMS_Detail!C350)","v":""},{"$f":"IF(CPMS_Detail!D350=\"\",\"\",CPMS_Detail!D350)","v":""},"",{"$f":"IF(COUNTIF(AT$2:AT328,AT328)=1,AT328,\"\")","v":""},"","","",null,{"$f":"+IF(BE328=\"\",\"\",MAX(AZ$1:AZ327)+1)","v":""},{"$f":"IF(Mercury!B350=\"\",\"\",Mercury!B350)","v":""},{"$f":"IF(Mercury!C350=\"\",\"\",Mercury!C350)","v":""},{"$f":"IF(Mercury!D350=\"\",\"\",Mercury!D350)","v":""},"",{"$f":"IF(COUNTIF(BB$2:BB328,BB328)=1,BB328,\"\")","v":""},"","",""]
[{"$f":"+IF(D329=\"\",\"\",MAX(A$1:A328)+1)","v":""},{"$f":"IF(CEM_COM_CPMS_Identification!C351=\"\",\"\",CEM_COM_CPMS_Identification!C351)","v":""},"",{"$f":"IF(COUNTIF(B$2:B329,B329)=1,B329,\"\")","v":""},null,null,null,null,null,null,null,null,null,null,null,null,null,null,null,{"$f":"+IF(Y329=\"\",\"\",MAX(T$1:T328)+1)","v":""},{"$f":"IF(No_CPMS_Limits_Details!B351=\"\",\"\",No_CPMS_Limits_Details!B351)","v":""},{"$f":"IF(No_CPMS_Limits_Details!C351=\"\",\"\",No_CPMS_Limits_Details!C351)","v":""},{"$f":"IF(No_CPMS_Limits_Details!D351=\"\",\"\",No_CPMS_Limits_Details!D351)","v":""},"",{"$f":"IF(COUNTIF(V$2:V329,V329)=1,V329,\"\")","v":""},"","","",null,{"$f":"+IF(AI329=\"\",\"\",MAX(AD$1:AD328)+1)","v":""},{"$f":"IF(Limits_Details_w_CPMS!B351=\"\",\"\",Limits_Details_w_CPMS!B351)","v":""},{"$f":"IF(Limits_Details_w_CPMS!C351=\"\",\"\",Limits_Details_w_CPMS!C351)","v":""},{"$f":"IF(Limits_Details_w_CPMS!D351=\"\",\"\",Limits_Details_w_CPMS!D351)","v":""},"",{"$f":"IF(COUNTIF(AH$2:AH329,AH329)=1,AH329,\"\")","v":""},"","","",null,null,null,{"$f":"+IF(AU329=\"\",\"\",MAX(AP$1:AP328)+1)","v":""},{"$f":"IF(CPMS_Detail!B351=\"\",\"\",CPMS_Detail!B351)","v":""},{"$f":"IF(CPMS_Detail!C351=\"\",\"\",CPMS_Detail!C351)","v":""},{"$f":"IF(CPMS_Detail!D351=\"\",\"\",CPMS_Detail!D351)","v":""},"",{"$f":"IF(COUNTIF(AT$2:AT329,AT329)=1,AT329,\"\")","v":""},"","","",null,{"$f":"+IF(BE329=\"\",\"\",MAX(AZ$1:AZ328)+1)","v":""},{"$f":"IF(Mercury!B351=\"\",\"\",Mercury!B351)","v":""},{"$f":"IF(Mercury!C351=\"\",\"\",Mercury!C351)","v":""},{"$f":"IF(Mercury!D351=\"\",\"\",Mercury!D351)","v":""},"",{"$f":"IF(COUNTIF(BB$2:BB329,BB329)=1,BB329,\"\")","v":""},"","",""]
[{"$f":"+IF(D330=\"\",\"\",MAX(A$1:A329)+1)","v":""},{"$f":"IF(CEM_COM_CPMS_Identification!C352=\"\",\"\",CEM_COM_CPMS_Identification!C352)","v":""},"",{"$f":"IF(COUNTIF(B$2:B330,B330)=1,B330,\"\")","v":""},null,null,null,null,null,null,null,null,null,null,null,null,null,null,null,{"$f":"+IF(Y330=\"\",\"\",MAX(T$1:T329)+1)","v":""},{"$f":"IF(No_CPMS_Limits_Details!B352=\"\",\"\",No_CPMS_Limits_Details!B352)","v":""},{"$f":"IF(No_CPMS_Limits_Details!C352=\"\",\"\",No_CPMS_Limits_Details!C352)","v":""},{"$f":"IF(No_CPMS_Limits_Details!D352=\"\",\"\",No_CPMS_Limits_Details!D352)","v":""},"",{"$f":"IF(COUNTIF(V$2:V330,V330)=1,V330,\"\")","v":""},"","","",null,{"$f":"+IF(AI330=\"\",\"\",MAX(AD$1:AD329)+1)","v":""},{"$f":"IF(Limits_Details_w_CPMS!B352=\"\",\"\",Limits_Details_w_CPMS!B352)","v":""},{"$f":"IF(Limits_Details_w_CPMS!C352=\"\",\"\",Limits_Details_w_CPMS!C352)","v":""},{"$f":"IF(Limits_Details_w_CPMS!D352=\"\",\"\",Limits_Details_w_CPMS!D352)","v":""},"",{"$f":"IF(COUNTIF(AH$2:AH330,AH330)=1,AH330,\"\")","v":""},"","","",null,null,null,{"$f":"+IF(AU330=\"\",\"\",MAX(AP$1:AP329)+1)","v":""},{"$f":"IF(CPMS_Detail!B352=\"\",\"\",CPMS_Detail!B352)","v":""},{"$f":"IF(CPMS_Detail!C352=\"\",\"\",CPMS_Detail!C352)","v":""},{"$f":"IF(CPMS_Detail!D352=\"\",\"\",CPMS_Detail!D352)","v":""},"",{"$f":"IF(COUNTIF(AT$2:AT330,AT330)=1,AT330,\"\")","v":""},"","","",null,{"$f":"+IF(BE330=\"\",\"\",MAX(AZ$1:AZ329)+1)","v":""},{"$f":"IF(Mercury!B352=\"\",\"\",Mercury!B352)","v":""},{"$f":"IF(Mercury!C352=\"\",\"\",Mercury!C352)","v":""},{"$f":"IF(Mercury!D352=\"\",\"\",Mercury!D352)","v":""},"",{"$f":"IF(COUNTIF(BB$2:BB330,BB330)=1,BB330,\"\")","v":""},"","",""]
[{"$f":"+IF(D331=\"\",\"\",MAX(A$1:A330)+1)","v":""},{"$f":"IF(CEM_COM_CPMS_Identification!C353=\"\",\"\",CEM_COM_CPMS_Identification!C353)","v":""},"",{"$f":"IF(COUNTIF(B$2:B331,B331)=1,B331,\"\")","v":""},null,null,null,null,null,null,null,null,null,null,null,null,null,null,null,{"$f":"+IF(Y331=\"\",\"\",MAX(T$1:T330)+1)","v":""},{"$f":"IF(No_CPMS_Limits_Details!B353=\"\",\"\",No_CPMS_Limits_Details!B353)","v":""},{"$f":"IF(No_CPMS_Limits_Details!C353=\"\",\"\",No_CPMS_Limits_Details!C353)","v":""},{"$f":"IF(No_CPMS_Limits_Details!D353=\"\",\"\",No_CPMS_Limits_Details!D353)","v":""},"",{"$f":"IF(COUNTIF(V$2:V331,V331)=1,V331,\"\")","v":""},"","","",null,{"$f":"+IF(AI331=\"\",\"\",MAX(AD$1:AD330)+1)","v":""},{"$f":"IF(Limits_Details_w_CPMS!B353=\"\",\"\",Limits_Details_w_CPMS!B353)","v":""},{"$f":"IF(Limits_Details_w_CPMS!C353=\"\",\"\",Limits_Details_w_CPMS!C353)","v":""},{"$f":"IF(Limits_Details_w_CPMS!D353=\"\",\"\",Limits_Details_w_CPMS!D353)","v":""},"",{"$f":"IF(COUNTIF(AH$2:AH331,AH331)=1,AH331,\"\")","v":""},"","","",null,null,null,{"$f":"+IF(AU331=\"\",\"\",MAX(AP$1:AP330)+1)","v":""},{"$f":"IF(CPMS_Detail!B353=\"\",\"\",CPMS_Detail!B353)","v":""},{"$f":"IF(CPMS_Detail!C353=\"\",\"\",CPMS_Detail!C353)","v":""},{"$f":"IF(CPMS_Detail!D353=\"\",\"\",CPMS_Detail!D353)","v":""},"",{"$f":"IF(COUNTIF(AT$2:AT331,AT331)=1,AT331,\"\")","v":""},"","","",null,{"$f":"+IF(BE331=\"\",\"\",MAX(AZ$1:AZ330)+1)","v":""},{"$f":"IF(Mercury!B353=\"\",\"\",Mercury!B353)","v":""},{"$f":"IF(Mercury!C353=\"\",\"\",Mercury!C353)","v":""},{"$f":"IF(Mercury!D353=\"\",\"\",Mercury!D353)","v":""},"",{"$f":"IF(COUNTIF(BB$2:BB331,BB331)=1,BB331,\"\")","v":""},"","",""]
[{"$f":"+IF(D332=\"\",\"\",MAX(A$1:A331)+1)","v":""},{"$f":"IF(CEM_COM_CPMS_Identification!C354=\"\",\"\",CEM_COM_CPMS_Identification!C354)","v":""},"",{"$f":"IF(COUNTIF(B$2:B332,B332)=1,B332,\"\")","v":""},null,null,null,null,null,null,null,null,null,null,null,null,null,null,null,{"$f":"+IF(Y332=\"\",\"\",MAX(T$1:T331)+1)","v":""},{"$f":"IF(No_CPMS_Limits_Details!B354=\"\",\"\",No_CPMS_Limits_Details!B354)","v":""},{"$f":"IF(No_CPMS_Limits_Details!C354=\"\",\"\",No_CPMS_Limits_Details!C354)","v":""},{"$f":"IF(No_CPMS_Limits_Details!D354=\"\",\"\",No_CPMS_Limits_Details!D354)","v":""},"",{"$f":"IF(COUNTIF(V$2:V332,V332)=1,V332,\"\")","v":""},"","","",null,{"$f":"+IF(AI332=\"\",\"\",MAX(AD$1:AD331)+1)","v":""},{"$f":"IF(Limits_Details_w_CPMS!B354=\"\",\"\",Limits_Details_w_CPMS!B354)","v":""},{"$f":"IF(Limits_Details_w_CPMS!C354=\"\",\"\",Limits_Details_w_CPMS!C354)","v":""},{"$f":"IF(Limits_Details_w_CPMS!D354=\"\",\"\",Limits_Details_w_CPMS!D354)","v":""},"",{"$f":"IF(COUNTIF(AH$2:AH332,AH332)=1,AH332,\"\")","v":""},"","","",null,null,null,{"$f":"+IF(AU332=\"\",\"\",MAX(AP$1:AP331)+1)","v":""},{"$f":"IF(CPMS_Detail!B354=\"\",\"\",CPMS_Detail!B354)","v":""},{"$f":"IF(CPMS_Detail!C354=\"\",\"\",CPMS_Detail!C354)","v":""},{"$f":"IF(CPMS_Detail!D354=\"\",\"\",CPMS_Detail!D354)","v":""},"",{"$f":"IF(COUNTIF(AT$2:AT332,AT332)=1,AT332,\"\")","v":""},"","","",null,{"$f":"+IF(BE332=\"\",\"\",MAX(AZ$1:AZ331)+1)","v":""},{"$f":"IF(Mercury!B354=\"\",\"\",Mercury!B354)","v":""},{"$f":"IF(Mercury!C354=\"\",\"\",Mercury!C354)","v":""},{"$f":"IF(Mercury!D354=\"\",\"\",Mercury!D354)","v":""},"",{"$f":"IF(COUNTIF(BB$2:BB332,BB332)=1,BB332,\"\")","v":""},"","",""]
[{"$f":"+IF(D333=\"\",\"\",MAX(A$1:A332)+1)","v":""},{"$f":"IF(CEM_COM_CPMS_Identification!C355=\"\",\"\",CEM_COM_CPMS_Identification!C355)","v":""},"",{"$f":"IF(COUNTIF(B$2:B333,B333)=1,B333,\"\")","v":""},null,null,null,null,null,null,null,null,null,null,null,null,null,null,null,{"$f":"+IF(Y333=\"\",\"\",MAX(T$1:T332)+1)","v":""},{"$f":"IF(No_CPMS_Limits_Details!B355=\"\",\"\",No_CPMS_Limits_Details!B355)","v":""},{"$f":"IF(No_CPMS_Limits_Details!C355=\"\",\"\",No_CPMS_Limits_Details!C355)","v":""},{"$f":"IF(No_CPMS_Limits_Details!D355=\"\",\"\",No_CPMS_Limits_Details!D355)","v":""},"",{"$f":"IF(COUNTIF(V$2:V333,V333)=1,V333,\"\")","v":""},"","","",null,{"$f":"+IF(AI333=\"\",\"\",MAX(AD$1:AD332)+1)","v":""},{"$f":"IF(Limits_Details_w_CPMS!B355=\"\",\"\",Limits_Details_w_CPMS!B355)","v":""},{"$f":"IF(Limits_Details_w_CPMS!C355=\"\",\"\",Limits_Details_w_CPMS!C355)","v":""},{"$f":"IF(Limits_Details_w_CPMS!D355=\"\",\"\",Limits_Details_w_CPMS!D355)","v":""},"",{"$f":"IF(COUNTIF(AH$2:AH333,AH333)=1,AH333,\"\")","v":""},"","","",null,null,null,{"$f":"+IF(AU333=\"\",\"\",MAX(AP$1:AP332)+1)","v":""},{"$f":"IF(CPMS_Detail!B355=\"\",\"\",CPMS_Detail!B355)","v":""},{"$f":"IF(CPMS_Detail!C355=\"\",\"\",CPMS_Detail!C355)","v":""},{"$f":"IF(CPMS_Detail!D355=\"\",\"\",CPMS_Detail!D355)","v":""},"",{"$f":"IF(COUNTIF(AT$2:AT333,AT333)=1,AT333,\"\")","v":""},"","","",null,{"$f":"+IF(BE333=\"\",\"\",MAX(AZ$1:AZ332)+1)","v":""},{"$f":"IF(Mercury!B355=\"\",\"\",Mercury!B355)","v":""},{"$f":"IF(Mercury!C355=\"\",\"\",Mercury!C355)","v":""},{"$f":"IF(Mercury!D355=\"\",\"\",Mercury!D355)","v":""},"",{"$f":"IF(COUNTIF(BB$2:BB333,BB333)=1,BB333,\"\")","v":""},"","",""]
[{"$f":"+IF(D334=\"\",\"\",MAX(A$1:A333)+1)","v":""},{"$f":"IF(CEM_COM_CPMS_Identification!C356=\"\",\"\",CEM_COM_CPMS_Identification!C356)","v":""},"",{"$f":"IF(COUNTIF(B$2:B334,B334)=1,B334,\"\")","v":""},null,null,null,null,null,null,null,null,null,null,null,null,null,null,null,{"$f":"+IF(Y334=\"\",\"\",MAX(T$1:T333)+1)","v":""},{"$f":"IF(No_CPMS_Limits_Details!B356=\"\",\"\",No_CPMS_Limits_Details!B356)","v":""},{"$f":"IF(No_CPMS_Limits_Details!C356=\"\",\"\",No_CPMS_Limits_Details!C356)","v":""},{"$f":"IF(No_CPMS_Limits_Details!D356=\"\",\"\",No_CPMS_Limits_Details!D356)","v":""},"",{"$f":"IF(COUNTIF(V$2:V334,V334)=1,V334,\"\")","v":""},"","","",null,{"$f":"+IF(AI334=\"\",\"\",MAX(AD$1:AD333)+1)","v":""},{"$f":"IF(Limits_Details_w_CPMS!B356=\"\",\"\",Limits_Details_w_CPMS!B356)","v":""},{"$f":"IF(Limits_Details_w_CPMS!C356=\"\",\"\",Limits_Details_w_CPMS!C356)","v":""},{"$f":"IF(Limits_Details_w_CPMS!D356=\"\",\"\",Limits_Details_w_CPMS!D356)","v":""},"",{"$f":"IF(COUNTIF(AH$2:AH334,AH334)=1,AH334,\"\")","v":""},"","","",null,null,null,{"$f":"+IF(AU334=\"\",\"\",MAX(AP$1:AP333)+1)","v":""},{"$f":"IF(CPMS_Detail!B356=\"\",\"\",CPMS_Detail!B356)","v":""},{"$f":"IF(CPMS_Detail!C356=\"\",\"\",CPMS_Detail!C356)","v":""},{"$f":"IF(CPMS_Detail!D356=\"\",\"\",CPMS_Detail!D356)","v":""},"",{"$f":"IF(COUNTIF(AT$2:AT334,AT334)=1,AT334,\"\")","v":""},"","","",null,{"$f":"+IF(BE334=\"\",\"\",MAX(AZ$1:AZ333)+1)","v":""},{"$f":"IF(Mercury!B356=\"\",\"\",Mercury!B356)","v":""},{"$f":"IF(Mercury!C356=\"\",\"\",Mercury!C356)","v":""},{"$f":"IF(Mercury!D356=\"\",\"\",Mercury!D356)","v":""},"",{"$f":"IF(COUNTIF(BB$2:BB334,BB334)=1,BB334,\"\")","v":""},"","",""]
[{"$f":"+IF(D335=\"\",\"\",MAX(A$1:A334)+1)","v":""},{"$f":"IF(CEM_COM_CPMS_Identification!C357=\"\",\"\",CEM_COM_CPMS_Identification!C357)","v":""},"",{"$f":"IF(COUNTIF(B$2:B335,B335)=1,B335,\"\")","v":""},null,null,null,null,null,null,null,null,null,null,null,null,null,null,null,{"$f":"+IF(Y335=\"\",\"\",MAX(T$1:T334)+1)","v":""},{"$f":"IF(No_CPMS_Limits_Details!B357=\"\",\"\",No_CPMS_Limits_Details!B357)","v":""},{"$f":"IF(No_CPMS_Limits_Details!C357=\"\",\"\",No_CPMS_Limits_Details!C357)","v":""},{"$f":"IF(No_CPMS_Limits_Details!D357=\"\",\"\",No_CPMS_Limits_Details!D357)","v":""},"",{"$f":"IF(COUNTIF(V$2:V335,V335)=1,V335,\"\")","v":""},"","","",null,{"$f":"+IF(AI335=\"\",\"\",MAX(AD$1:AD334)+1)","v":""},{"$f":"IF(Limits_Details_w_CPMS!B357=\"\",\"\",Limits_Details_w_CPMS!B357)","v":""},{"$f":"IF(Limits_Details_w_CPMS!C357=\"\",\"\",Limits_Details_w_CPMS!C357)","v":""},{"$f":"IF(Limits_Details_w_CPMS!D357=\"\",\"\",Limits_Details_w_CPMS!D357)","v":""},"",{"$f":"IF(COUNTIF(AH$2:AH335,AH335)=1,AH335,\"\")","v":""},"","","",null,null,null,{"$f":"+IF(AU335=\"\",\"\",MAX(AP$1:AP334)+1)","v":""},{"$f":"IF(CPMS_Detail!B357=\"\",\"\",CPMS_Detail!B357)","v":""},{"$f":"IF(CPMS_Detail!C357=\"\",\"\",CPMS_Detail!C357)","v":""},{"$f":"IF(CPMS_Detail!D357=\"\",\"\",CPMS_Detail!D357)","v":""},"",{"$f":"IF(COUNTIF(AT$2:AT335,AT335)=1,AT335,\"\")","v":""},"","","",null,{"$f":"+IF(BE335=\"\",\"\",MAX(AZ$1:AZ334)+1)","v":""},{"$f":"IF(Mercury!B357=\"\",\"\",Mercury!B357)","v":""},{"$f":"IF(Mercury!C357=\"\",\"\",Mercury!C357)","v":""},{"$f":"IF(Mercury!D357=\"\",\"\",Mercury!D357)","v":""},"",{"$f":"IF(COUNTIF(BB$2:BB335,BB335)=1,BB335,\"\")","v":""},"","",""]
[{"$f":"+IF(D336=\"\",\"\",MAX(A$1:A335)+1)","v":""},{"$f":"IF(CEM_COM_CPMS_Identification!C358=\"\",\"\",CEM_COM_CPMS_Identification!C358)","v":""},"",{"$f":"IF(COUNTIF(B$2:B336,B336)=1,B336,\"\")","v":""},null,null,null,null,null,null,null,null,null,null,null,null,null,null,null,{"$f":"+IF(Y336=\"\",\"\",MAX(T$1:T335)+1)","v":""},{"$f":"IF(No_CPMS_Limits_Details!B358=\"\",\"\",No_CPMS_Limits_Details!B358)","v":""},{"$f":"IF(No_CPMS_Limits_Details!C358=\"\",\"\",No_CPMS_Limits_Details!C358)","v":""},{"$f":"IF(No_CPMS_Limits_Details!D358=\"\",\"\",No_CPMS_Limits_Details!D358)","v":""},"",{"$f":"IF(COUNTIF(V$2:V336,V336)=1,V336,\"\")","v":""},"","","",null,{"$f":"+IF(AI336=\"\",\"\",MAX(AD$1:AD335)+1)","v":""},{"$f":"IF(Limits_Details_w_CPMS!B358=\"\",\"\",Limits_Details_w_CPMS!B358)","v":""},{"$f":"IF(Limits_Details_w_CPMS!C358=\"\",\"\",Limits_Details_w_CPMS!C358)","v":""},{"$f":"IF(Limits_Details_w_CPMS!D358=\"\",\"\",Limits_Details_w_CPMS!D358)","v":""},"",{"$f":"IF(COUNTIF(AH$2:AH336,AH336)=1,AH336,\"\")","v":""},"","","",null,null,null,{"$f":"+IF(AU336=\"\",\"\",MAX(AP$1:AP335)+1)","v":""},{"$f":"IF(CPMS_Detail!B358=\"\",\"\",CPMS_Detail!B358)","v":""},{"$f":"IF(CPMS_Detail!C358=\"\",\"\",CPMS_Detail!C358)","v":""},{"$f":"IF(CPMS_Detail!D358=\"\",\"\",CPMS_Detail!D358)","v":""},"",{"$f":"IF(COUNTIF(AT$2:AT336,AT336)=1,AT336,\"\")","v":""},"","","",null,{"$f":"+IF(BE336=\"\",\"\",MAX(AZ$1:AZ335)+1)","v":""},{"$f":"IF(Mercury!B358=\"\",\"\",Mercury!B358)","v":""},{"$f":"IF(Mercury!C358=\"\",\"\",Mercury!C358)","v":""},{"$f":"IF(Mercury!D358=\"\",\"\",Mercury!D358)","v":""},"",{"$f":"IF(COUNTIF(BB$2:BB336,BB336)=1,BB336,\"\")","v":""},"","",""]
[{"$f":"+IF(D337=\"\",\"\",MAX(A$1:A336)+1)","v":""},{"$f":"IF(CEM_COM_CPMS_Identification!C359=\"\",\"\",CEM_COM_CPMS_Identification!C359)","v":""},"",{"$f":"IF(COUNTIF(B$2:B337,B337)=1,B337,\"\")","v":""},null,null,null,null,null,null,null,null,null,null,null,null,null,null,null,{"$f":"+IF(Y337=\"\",\"\",MAX(T$1:T336)+1)","v":""},{"$f":"IF(No_CPMS_Limits_Details!B359=\"\",\"\",No_CPMS_Limits_Details!B359)","v":""},{"$f":"IF(No_CPMS_Limits_Details!C359=\"\",\"\",No_CPMS_Limits_Details!C359)","v":""},{"$f":"IF(No_CPMS_Limits_Details!D359=\"\",\"\",No_CPMS_Limits_Details!D359)","v":""},"",{"$f":"IF(COUNTIF(V$2:V337,V337)=1,V337,\"\")","v":""},"","","",null,{"$f":"+IF(AI337=\"\",\"\",MAX(AD$1:AD336)+1)","v":""},{"$f":"IF(Limits_Details_w_CPMS!B359=\"\",\"\",Limits_Details_w_CPMS!B359)","v":""},{"$f":"IF(Limits_Details_w_CPMS!C359=\"\",\"\",Limits_Details_w_CPMS!C359)","v":""},{"$f":"IF(Limits_Details_w_CPMS!D359=\"\",\"\",Limits_Details_w_CPMS!D359)","v":""},"",{"$f":"IF(COUNTIF(AH$2:AH337,AH337)=1,AH337,\"\")","v":""},"","","",null,null,null,{"$f":"+IF(AU337=\"\",\"\",MAX(AP$1:AP336)+1)","v":""},{"$f":"IF(CPMS_Detail!B359=\"\",\"\",CPMS_Detail!B359)","v":""},{"$f":"IF(CPMS_Detail!C359=\"\",\"\",CPMS_Detail!C359)","v":""},{"$f":"IF(CPMS_Detail!D359=\"\",\"\",CPMS_Detail!D359)","v":""},"",{"$f":"IF(COUNTIF(AT$2:AT337,AT337)=1,AT337,\"\")","v":""},"","","",null,{"$f":"+IF(BE337=\"\",\"\",MAX(AZ$1:AZ336)+1)","v":""},{"$f":"IF(Mercury!B359=\"\",\"\",Mercury!B359)","v":""},{"$f":"IF(Mercury!C359=\"\",\"\",Mercury!C359)","v":""},{"$f":"IF(Mercury!D359=\"\",\"\",Mercury!D359)","v":""},"",{"$f":"IF(COUNTIF(BB$2:BB337,BB337)=1,BB337,\"\")","v":""},"","",""]
[{"$f":"+IF(D338=\"\",\"\",MAX(A$1:A337)+1)","v":""},{"$f":"IF(CEM_COM_CPMS_Identification!C360=\"\",\"\",CEM_COM_CPMS_Identification!C360)","v":""},"",{"$f":"IF(COUNTIF(B$2:B338,B338)=1,B338,\"\")","v":""},null,null,null,null,null,null,null,null,null,null,null,null,null,null,null,{"$f":"+IF(Y338=\"\",\"\",MAX(T$1:T337)+1)","v":""},{"$f":"IF(No_CPMS_Limits_Details!B360=\"\",\"\",No_CPMS_Limits_Details!B360)","v":""},{"$f":"IF(No_CPMS_Limits_Details!C360=\"\",\"\",No_CPMS_Limits_Details!C360)","v":""},{"$f":"IF(No_CPMS_Limits_Details!D360=\"\",\"\",No_CPMS_Limits_Details!D360)","v":""},"",{"$f":"IF(COUNTIF(V$2:V338,V338)=1,V338,\"\")","v":""},"","","",null,{"$f":"+IF(AI338=\"\",\"\",MAX(AD$1:AD337)+1)","v":""},{"$f":"IF(Limits_Details_w_CPMS!B360=\"\",\"\",Limits_Details_w_CPMS!B360)","v":""},{"$f":"IF(Limits_Details_w_CPMS!C360=\"\",\"\",Limits_Details_w_CPMS!C360)","v":""},{"$f":"IF(Limits_Details_w_CPMS!D360=\"\",\"\",Limits_Details_w_CPMS!D360)","v":""},"",{"$f":"IF(COUNTIF(AH$2:AH338,AH338)=1,AH338,\"\")","v":""},"","","",null,null,null,{"$f":"+IF(AU338=\"\",\"\",MAX(AP$1:AP337)+1)","v":""},{"$f":"IF(CPMS_Detail!B360=\"\",\"\",CPMS_Detail!B360)","v":""},{"$f":"IF(CPMS_Detail!C360=\"\",\"\",CPMS_Detail!C360)","v":""},{"$f":"IF(CPMS_Detail!D360=\"\",\"\",CPMS_Detail!D360)","v":""},"",{"$f":"IF(COUNTIF(AT$2:AT338,AT338)=1,AT338,\"\")","v":""},"","","",null,{"$f":"+IF(BE338=\"\",\"\",MAX(AZ$1:AZ337)+1)","v":""},{"$f":"IF(Mercury!B360=\"\",\"\",Mercury!B360)","v":""},{"$f":"IF(Mercury!C360=\"\",\"\",Mercury!C360)","v":""},{"$f":"IF(Mercury!D360=\"\",\"\",Mercury!D360)","v":""},"",{"$f":"IF(COUNTIF(BB$2:BB338,BB338)=1,BB338,\"\")","v":""},"","",""]
[{"$f":"+IF(D339=\"\",\"\",MAX(A$1:A338)+1)","v":""},{"$f":"IF(CEM_COM_CPMS_Identification!C361=\"\",\"\",CEM_COM_CPMS_Identification!C361)","v":""},"",{"$f":"IF(COUNTIF(B$2:B339,B339)=1,B339,\"\")","v":""},null,null,null,null,null,null,null,null,null,null,null,null,null,null,null,{"$f":"+IF(Y339=\"\",\"\",MAX(T$1:T338)+1)","v":""},{"$f":"IF(No_CPMS_Limits_Details!B361=\"\",\"\",No_CPMS_Limits_Details!B361)","v":""},{"$f":"IF(No_CPMS_Limits_Details!C361=\"\",\"\",No_CPMS_Limits_Details!C361)","v":""},{"$f":"IF(No_CPMS_Limits_Details!D361=\"\",\"\",No_CPMS_Limits_Details!D361)","v":""},"",{"$f":"IF(COUNTIF(V$2:V339,V339)=1,V339,\"\")","v":""},"","","",null,{"$f":"+IF(AI339=\"\",\"\",MAX(AD$1:AD338)+1)","v":""},{"$f":"IF(Limits_Details_w_CPMS!B361=\"\",\"\",Limits_Details_w_CPMS!B361)","v":""},{"$f":"IF(Limits_Details_w_CPMS!C361=\"\",\"\",Limits_Details_w_CPMS!C361)","v":""},{"$f":"IF(Limits_Details_w_CPMS!D361=\"\",\"\",Limits_Details_w_CPMS!D361)","v":""},"",{"$f":"IF(COUNTIF(AH$2:AH339,AH339)=1,AH339,\"\")","v":""},"","","",null,null,null,{"$f":"+IF(AU339=\"\",\"\",MAX(AP$1:AP338)+1)","v":""},{"$f":"IF(CPMS_Detail!B361=\"\",\"\",CPMS_Detail!B361)","v":""},{"$f":"IF(CPMS_Detail!C361=\"\",\"\",CPMS_Detail!C361)","v":""},{"$f":"IF(CPMS_Detail!D361=\"\",\"\",CPMS_Detail!D361)","v":""},"",{"$f":"IF(COUNTIF(AT$2:AT339,AT339)=1,AT339,\"\")","v":""},"","","",null,{"$f":"+IF(BE339=\"\",\"\",MAX(AZ$1:AZ338)+1)","v":""},{"$f":"IF(Mercury!B361=\"\",\"\",Mercury!B361)","v":""},{"$f":"IF(Mercury!C361=\"\",\"\",Mercury!C361)","v":""},{"$f":"IF(Mercury!D361=\"\",\"\",Mercury!D361)","v":""},"",{"$f":"IF(COUNTIF(BB$2:BB339,BB339)=1,BB339,\"\")","v":""},"","",""]
[{"$f":"+IF(D340=\"\",\"\",MAX(A$1:A339)+1)","v":""},{"$f":"IF(CEM_COM_CPMS_Identification!C362=\"\",\"\",CEM_COM_CPMS_Identification!C362)","v":""},"",{"$f":"IF(COUNTIF(B$2:B340,B340)=1,B340,\"\")","v":""},null,null,null,null,null,null,null,null,null,null,null,null,null,null,null,{"$f":"+IF(Y340=\"\",\"\",MAX(T$1:T339)+1)","v":""},{"$f":"IF(No_CPMS_Limits_Details!B362=\"\",\"\",No_CPMS_Limits_Details!B362)","v":""},{"$f":"IF(No_CPMS_Limits_Details!C362=\"\",\"\",No_CPMS_Limits_Details!C362)","v":""},{"$f":"IF(No_CPMS_Limits_Details!D362=\"\",\"\",No_CPMS_Limits_Details!D362)","v":""},"",{"$f":"IF(COUNTIF(V$2:V340,V340)=1,V340,\"\")","v":""},"","","",null,{"$f":"+IF(AI340=\"\",\"\",MAX(AD$1:AD339)+1)","v":""},{"$f":"IF(Limits_Details_w_CPMS!B362=\"\",\"\",Limits_Details_w_CPMS!B362)","v":""},{"$f":"IF(Limits_Details_w_CPMS!C362=\"\",\"\",Limits_Details_w_CPMS!C362)","v":""},{"$f":"IF(Limits_Details_w_CPMS!D362=\"\",\"\",Limits_Details_w_CPMS!D362)","v":""},"",{"$f":"IF(COUNTIF(AH$2:AH340,AH340)=1,AH340,\"\")","v":""},"","","",null,null,null,{"$f":"+IF(AU340=\"\",\"\",MAX(AP$1:AP339)+1)","v":""},{"$f":"IF(CPMS_Detail!B362=\"\",\"\",CPMS_Detail!B362)","v":""},{"$f":"IF(CPMS_Detail!C362=\"\",\"\",CPMS_Detail!C362)","v":""},{"$f":"IF(CPMS_Detail!D362=\"\",\"\",CPMS_Detail!D362)","v":""},"",{"$f":"IF(COUNTIF(AT$2:AT340,AT340)=1,AT340,\"\")","v":""},"","","",null,{"$f":"+IF(BE340=\"\",\"\",MAX(AZ$1:AZ339)+1)","v":""},{"$f":"IF(Mercury!B362=\"\",\"\",Mercury!B362)","v":""},{"$f":"IF(Mercury!C362=\"\",\"\",Mercury!C362)","v":""},{"$f":"IF(Mercury!D362=\"\",\"\",Mercury!D362)","v":""},"",{"$f":"IF(COUNTIF(BB$2:BB340,BB340)=1,BB340,\"\")","v":""},"","",""]
[{"$f":"+IF(D341=\"\",\"\",MAX(A$1:A340)+1)","v":""},{"$f":"IF(CEM_COM_CPMS_Identification!C363=\"\",\"\",CEM_COM_CPMS_Identification!C363)","v":""},"",{"$f":"IF(COUNTIF(B$2:B341,B341)=1,B341,\"\")","v":""},null,null,null,null,null,null,null,null,null,null,null,null,null,null,null,{"$f":"+IF(Y341=\"\",\"\",MAX(T$1:T340)+1)","v":""},{"$f":"IF(No_CPMS_Limits_Details!B363=\"\",\"\",No_CPMS_Limits_Details!B363)","v":""},{"$f":"IF(No_CPMS_Limits_Details!C363=\"\",\"\",No_CPMS_Limits_Details!C363)","v":""},{"$f":"IF(No_CPMS_Limits_Details!D363=\"\",\"\",No_CPMS_Limits_Details!D363)","v":""},"",{"$f":"IF(COUNTIF(V$2:V341,V341)=1,V341,\"\")","v":""},"","","",null,{"$f":"+IF(AI341=\"\",\"\",MAX(AD$1:AD340)+1)","v":""},{"$f":"IF(Limits_Details_w_CPMS!B363=\"\",\"\",Limits_Details_w_CPMS!B363)","v":""},{"$f":"IF(Limits_Details_w_CPMS!C363=\"\",\"\",Limits_Details_w_CPMS!C363)","v":""},{"$f":"IF(Limits_Details_w_CPMS!D363=\"\",\"\",Limits_Details_w_CPMS!D363)","v":""},"",{"$f":"IF(COUNTIF(AH$2:AH341,AH341)=1,AH341,\"\")","v":""},"","","",null,null,null,{"$f":"+IF(AU341=\"\",\"\",MAX(AP$1:AP340)+1)","v":""},{"$f":"IF(CPMS_Detail!B363=\"\",\"\",CPMS_Detail!B363)","v":""},{"$f":"IF(CPMS_Detail!C363=\"\",\"\",CPMS_Detail!C363)","v":""},{"$f":"IF(CPMS_Detail!D363=\"\",\"\",CPMS_Detail!D363)","v":""},"",{"$f":"IF(COUNTIF(AT$2:AT341,AT341)=1,AT341,\"\")","v":""},"","","",null,{"$f":"+IF(BE341=\"\",\"\",MAX(AZ$1:AZ340)+1)","v":""},{"$f":"IF(Mercury!B363=\"\",\"\",Mercury!B363)","v":""},{"$f":"IF(Mercury!C363=\"\",\"\",Mercury!C363)","v":""},{"$f":"IF(Mercury!D363=\"\",\"\",Mercury!D363)","v":""},"",{"$f":"IF(COUNTIF(BB$2:BB341,BB341)=1,BB341,\"\")","v":""},"","",""]
[{"$f":"+IF(D342=\"\",\"\",MAX(A$1:A341)+1)","v":""},{"$f":"IF(CEM_COM_CPMS_Identification!C364=\"\",\"\",CEM_COM_CPMS_Identification!C364)","v":""},"",{"$f":"IF(COUNTIF(B$2:B342,B342)=1,B342,\"\")","v":""},null,null,null,null,null,null,null,null,null,null,null,null,null,null,null,{"$f":"+IF(Y342=\"\",\"\",MAX(T$1:T341)+1)","v":""},{"$f":"IF(No_CPMS_Limits_Details!B364=\"\",\"\",No_CPMS_Limits_Details!B364)","v":""},{"$f":"IF(No_CPMS_Limits_Details!C364=\"\",\"\",No_CPMS_Limits_Details!C364)","v":""},{"$f":"IF(No_CPMS_Limits_Details!D364=\"\",\"\",No_CPMS_Limits_Details!D364)","v":""},"",{"$f":"IF(COUNTIF(V$2:V342,V342)=1,V342,\"\")","v":""},"","","",null,{"$f":"+IF(AI342=\"\",\"\",MAX(AD$1:AD341)+1)","v":""},{"$f":"IF(Limits_Details_w_CPMS!B364=\"\",\"\",Limits_Details_w_CPMS!B364)","v":""},{"$f":"IF(Limits_Details_w_CPMS!C364=\"\",\"\",Limits_Details_w_CPMS!C364)","v":""},{"$f":"IF(Limits_Details_w_CPMS!D364=\"\",\"\",Limits_Details_w_CPMS!D364)","v":""},"",{"$f":"IF(COUNTIF(AH$2:AH342,AH342)=1,AH342,\"\")","v":""},"","","",null,null,null,{"$f":"+IF(AU342=\"\",\"\",MAX(AP$1:AP341)+1)","v":""},{"$f":"IF(CPMS_Detail!B364=\"\",\"\",CPMS_Detail!B364)","v":""},{"$f":"IF(CPMS_Detail!C364=\"\",\"\",CPMS_Detail!C364)","v":""},{"$f":"IF(CPMS_Detail!D364=\"\",\"\",CPMS_Detail!D364)","v":""},"",{"$f":"IF(COUNTIF(AT$2:AT342,AT342)=1,AT342,\"\")","v":""},"","","",null,{"$f":"+IF(BE342=\"\",\"\",MAX(AZ$1:AZ341)+1)","v":""},{"$f":"IF(Mercury!B364=\"\",\"\",Mercury!B364)","v":""},{"$f":"IF(Mercury!C364=\"\",\"\",Mercury!C364)","v":""},{"$f":"IF(Mercury!D364=\"\",\"\",Mercury!D364)","v":""},"",{"$f":"IF(COUNTIF(BB$2:BB342,BB342)=1,BB342,\"\")","v":""},"","",""]
[{"$f":"+IF(D343=\"\",\"\",MAX(A$1:A342)+1)","v":""},{"$f":"IF(CEM_COM_CPMS_Identification!C365=\"\",\"\",CEM_COM_CPMS_Identification!C365)","v":""},"",{"$f":"IF(COUNTIF(B$2:B343,B343)=1,B343,\"\")","v":""},null,null,null,null,null,null,null,null,null,null,null,null,null,null,null,{"$f":"+IF(Y343=\"\",\"\",MAX(T$1:T342)+1)","v":""},{"$f":"IF(No_CPMS_Limits_Details!B365=\"\",\"\",No_CPMS_Limits_Details!B365)","v":""},{"$f":"IF(No_CPMS_Limits_Details!C365=\"\",\"\",No_CPMS_Limits_Details!C365)","v":""},{"$f":"IF(No_CPMS_Limits_Details!D365=\"\",\"\",No_CPMS_Limits_Details!D365)","v":""},"",{"$f":"IF(COUNTIF(V$2:V343,V343)=1,V343,\"\")","v":""},"","","",null,{"$f":"+IF(AI343=\"\",\"\",MAX(AD$1:AD342)+1)","v":""},{"$f":"IF(Limits_Details_w_CPMS!B365=\"\",\"\",Limits_Details_w_CPMS!B365)","v":""},{"$f":"IF(Limits_Details_w_CPMS!C365=\"\",\"\",Limits_Details_w_CPMS!C365)","v":""},{"$f":"IF(Limits_Details_w_CPMS!D365=\"\",\"\",Limits_Details_w_CPMS!D365)","v":""},"",{"$f":"IF(COUNTIF(AH$2:AH343,AH343)=1,AH343,\"\")","v":""},"","","",null,null,null,{"$f":"+IF(AU343=\"\",\"\",MAX(AP$1:AP342)+1)","v":""},{"$f":"IF(CPMS_Detail!B365=\"\",\"\",CPMS_Detail!B365)","v":""},{"$f":"IF(CPMS_Detail!C365=\"\",\"\",CPMS_Detail!C365)","v":""},{"$f":"IF(CPMS_Detail!D365=\"\",\"\",CPMS_Detail!D365)","v":""},"",{"$f":"IF(COUNTIF(AT$2:AT343,AT343)=1,AT343,\"\")","v":""},"","","",null,{"$f":"+IF(BE343=\"\",\"\",MAX(AZ$1:AZ342)+1)","v":""},{"$f":"IF(Mercury!B365=\"\",\"\",Mercury!B365)","v":""},{"$f":"IF(Mercury!C365=\"\",\"\",Mercury!C365)","v":""},{"$f":"IF(Mercury!D365=\"\",\"\",Mercury!D365)","v":""},"",{"$f":"IF(COUNTIF(BB$2:BB343,BB343)=1,BB343,\"\")","v":""},"","",""]
[{"$f":"+IF(D344=\"\",\"\",MAX(A$1:A343)+1)","v":""},{"$f":"IF(CEM_COM_CPMS_Identification!C366=\"\",\"\",CEM_COM_CPMS_Identification!C366)","v":""},"",{"$f":"IF(COUNTIF(B$2:B344,B344)=1,B344,\"\")","v":""},null,null,null,null,null,null,null,null,null,null,null,null,null,null,null,{"$f":"+IF(Y344=\"\",\"\",MAX(T$1:T343)+1)","v":""},{"$f":"IF(No_CPMS_Limits_Details!B366=\"\",\"\",No_CPMS_Limits_Details!B366)","v":""},{"$f":"IF(No_CPMS_Limits_Details!C366=\"\",\"\",No_CPMS_Limits_Details!C366)","v":""},{"$f":"IF(No_CPMS_Limits_Details!D366=\"\",\"\",No_CPMS_Limits_Details!D366)","v":""},"",{"$f":"IF(COUNTIF(V$2:V344,V344)=1,V344,\"\")","v":""},"","","",null,{"$f":"+IF(AI344=\"\",\"\",MAX(AD$1:AD343)+1)","v":""},{"$f":"IF(Limits_Details_w_CPMS!B366=\"\",\"\",Limits_Details_w_CPMS!B366)","v":""},{"$f":"IF(Limits_Details_w_CPMS!C366=\"\",\"\",Limits_Details_w_CPMS!C366)","v":""},{"$f":"IF(Limits_Details_w_CPMS!D366=\"\",\"\",Limits_Details_w_CPMS!D366)","v":""},"",{"$f":"IF(COUNTIF(AH$2:AH344,AH344)=1,AH344,\"\")","v":""},"","","",null,null,null,{"$f":"+IF(AU344=\"\",\"\",MAX(AP$1:AP343)+1)","v":""},{"$f":"IF(CPMS_Detail!B366=\"\",\"\",CPMS_Detail!B366)","v":""},{"$f":"IF(CPMS_Detail!C366=\"\",\"\",CPMS_Detail!C366)","v":""},{"$f":"IF(CPMS_Detail!D366=\"\",\"\",CPMS_Detail!D366)","v":""},"",{"$f":"IF(COUNTIF(AT$2:AT344,AT344)=1,AT344,\"\")","v":""},"","","",null,{"$f":"+IF(BE344=\"\",\"\",MAX(AZ$1:AZ343)+1)","v":""},{"$f":"IF(Mercury!B366=\"\",\"\",Mercury!B366)","v":""},{"$f":"IF(Mercury!C366=\"\",\"\",Mercury!C366)","v":""},{"$f":"IF(Mercury!D366=\"\",\"\",Mercury!D366)","v":""},"",{"$f":"IF(COUNTIF(BB$2:BB344,BB344)=1,BB344,\"\")","v":""},"","",""]
[{"$f":"+IF(D345=\"\",\"\",MAX(A$1:A344)+1)","v":""},{"$f":"IF(CEM_COM_CPMS_Identification!C367=\"\",\"\",CEM_COM_CPMS_Identification!C367)","v":""},"",{"$f":"IF(COUNTIF(B$2:B345,B345)=1,B345,\"\")","v":""},null,null,null,null,null,null,null,null,null,null,null,null,null,null,null,{"$f":"+IF(Y345=\"\",\"\",MAX(T$1:T344)+1)","v":""},{"$f":"IF(No_CPMS_Limits_Details!B367=\"\",\"\",No_CPMS_Limits_Details!B367)","v":""},{"$f":"IF(No_CPMS_Limits_Details!C367=\"\",\"\",No_CPMS_Limits_Details!C367)","v":""},{"$f":"IF(No_CPMS_Limits_Details!D367=\"\",\"\",No_CPMS_Limits_Details!D367)","v":""},"",{"$f":"IF(COUNTIF(V$2:V345,V345)=1,V345,\"\")","v":""},"","","",null,{"$f":"+IF(AI345=\"\",\"\",MAX(AD$1:AD344)+1)","v":""},{"$f":"IF(Limits_Details_w_CPMS!B367=\"\",\"\",Limits_Details_w_CPMS!B367)","v":""},{"$f":"IF(Limits_Details_w_CPMS!C367=\"\",\"\",Limits_Details_w_CPMS!C367)","v":""},{"$f":"IF(Limits_Details_w_CPMS!D367=\"\",\"\",Limits_Details_w_CPMS!D367)","v":""},"",{"$f":"IF(COUNTIF(AH$2:AH345,AH345)=1,AH345,\"\")","v":""},"","","",null,null,null,{"$f":"+IF(AU345=\"\",\"\",MAX(AP$1:AP344)+1)","v":""},{"$f":"IF(CPMS_Detail!B367=\"\",\"\",CPMS_Detail!B367)","v":""},{"$f":"IF(CPMS_Detail!C367=\"\",\"\",CPMS_Detail!C367)","v":""},{"$f":"IF(CPMS_Detail!D367=\"\",\"\",CPMS_Detail!D367)","v":""},"",{"$f":"IF(COUNTIF(AT$2:AT345,AT345)=1,AT345,\"\")","v":""},"","","",null,{"$f":"+IF(BE345=\"\",\"\",MAX(AZ$1:AZ344)+1)","v":""},{"$f":"IF(Mercury!B367=\"\",\"\",Mercury!B367)","v":""},{"$f":"IF(Mercury!C367=\"\",\"\",Mercury!C367)","v":""},{"$f":"IF(Mercury!D367=\"\",\"\",Mercury!D367)","v":""},"",{"$f":"IF(COUNTIF(BB$2:BB345,BB345)=1,BB345,\"\")","v":""},"","",""]
[{"$f":"+IF(D346=\"\",\"\",MAX(A$1:A345)+1)","v":""},{"$f":"IF(CEM_COM_CPMS_Identification!C368=\"\",\"\",CEM_COM_CPMS_Identification!C368)","v":""},"",{"$f":"IF(COUNTIF(B$2:B346,B346)=1,B346,\"\")","v":""},null,null,null,null,null,null,null,null,null,null,null,null,null,null,null,{"$f":"+IF(Y346=\"\",\"\",MAX(T$1:T345)+1)","v":""},{"$f":"IF(No_CPMS_Limits_Details!B368=\"\",\"\",No_CPMS_Limits_Details!B368)","v":""},{"$f":"IF(No_CPMS_Limits_Details!C368=\"\",\"\",No_CPMS_Limits_Details!C368)","v":""},{"$f":"IF(No_CPMS_Limits_Details!D368=\"\",\"\",No_CPMS_Limits_Details!D368)","v":""},"",{"$f":"IF(COUNTIF(V$2:V346,V346)=1,V346,\"\")","v":""},"","","",null,{"$f":"+IF(AI346=\"\",\"\",MAX(AD$1:AD345)+1)","v":""},{"$f":"IF(Limits_Details_w_CPMS!B368=\"\",\"\",Limits_Details_w_CPMS!B368)","v":""},{"$f":"IF(Limits_Details_w_CPMS!C368=\"\",\"\",Limits_Details_w_CPMS!C368)","v":""},{"$f":"IF(Limits_Details_w_CPMS!D368=\"\",\"\",Limits_Details_w_CPMS!D368)","v":""},"",{"$f":"IF(COUNTIF(AH$2:AH346,AH346)=1,AH346,\"\")","v":""},"","","",null,null,null,{"$f":"+IF(AU346=\"\",\"\",MAX(AP$1:AP345)+1)","v":""},{"$f":"IF(CPMS_Detail!B368=\"\",\"\",CPMS_Detail!B368)","v":""},{"$f":"IF(CPMS_Detail!C368=\"\",\"\",CPMS_Detail!C368)","v":""},{"$f":"IF(CPMS_Detail!D368=\"\",\"\",CPMS_Detail!D368)","v":""},"",{"$f":"IF(COUNTIF(AT$2:AT346,AT346)=1,AT346,\"\")","v":""},"","","",null,{"$f":"+IF(BE346=\"\",\"\",MAX(AZ$1:AZ345)+1)","v":""},{"$f":"IF(Mercury!B368=\"\",\"\",Mercury!B368)","v":""},{"$f":"IF(Mercury!C368=\"\",\"\",Mercury!C368)","v":""},{"$f":"IF(Mercury!D368=\"\",\"\",Mercury!D368)","v":""},"",{"$f":"IF(COUNTIF(BB$2:BB346,BB346)=1,BB346,\"\")","v":""},"","",""]
[{"$f":"+IF(D347=\"\",\"\",MAX(A$1:A346)+1)","v":""},{"$f":"IF(CEM_COM_CPMS_Identification!C369=\"\",\"\",CEM_COM_CPMS_Identification!C369)","v":""},"",{"$f":"IF(COUNTIF(B$2:B347,B347)=1,B347,\"\")","v":""},null,null,null,null,null,null,null,null,null,null,null,null,null,null,null,{"$f":"+IF(Y347=\"\",\"\",MAX(T$1:T346)+1)","v":""},{"$f":"IF(No_CPMS_Limits_Details!B369=\"\",\"\",No_CPMS_Limits_Details!B369)","v":""},{"$f":"IF(No_CPMS_Limits_Details!C369=\"\",\"\",No_CPMS_Limits_Details!C369)","v":""},{"$f":"IF(No_CPMS_Limits_Details!D369=\"\",\"\",No_CPMS_Limits_Details!D369)","v":""},"",{"$f":"IF(COUNTIF(V$2:V347,V347)=1,V347,\"\")","v":""},"","","",null,{"$f":"+IF(AI347=\"\",\"\",MAX(AD$1:AD346)+1)","v":""},{"$f":"IF(Limits_Details_w_CPMS!B369=\"\",\"\",Limits_Details_w_CPMS!B369)","v":""},{"$f":"IF(Limits_Details_w_CPMS!C369=\"\",\"\",Limits_Details_w_CPMS!C369)","v":""},{"$f":"IF(Limits_Details_w_CPMS!D369=\"\",\"\",Limits_Details_w_CPMS!D369)","v":""},"",{"$f":"IF(COUNTIF(AH$2:AH347,AH347)=1,AH347,\"\")","v":""},"","","",null,null,null,{"$f":"+IF(AU347=\"\",\"\",MAX(AP$1:AP346)+1)","v":""},{"$f":"IF(CPMS_Detail!B369=\"\",\"\",CPMS_Detail!B369)","v":""},{"$f":"IF(CPMS_Detail!C369=\"\",\"\",CPMS_Detail!C369)","v":""},{"$f":"IF(CPMS_Detail!D369=\"\",\"\",CPMS_Detail!D369)","v":""},"",{"$f":"IF(COUNTIF(AT$2:AT347,AT347)=1,AT347,\"\")","v":""},"","","",null,{"$f":"+IF(BE347=\"\",\"\",MAX(AZ$1:AZ346)+1)","v":""},{"$f":"IF(Mercury!B369=\"\",\"\",Mercury!B369)","v":""},{"$f":"IF(Mercury!C369=\"\",\"\",Mercury!C369)","v":""},{"$f":"IF(Mercury!D369=\"\",\"\",Mercury!D369)","v":""},"",{"$f":"IF(COUNTIF(BB$2:BB347,BB347)=1,BB347,\"\")","v":""},"","",""]
[{"$f":"+IF(D348=\"\",\"\",MAX(A$1:A347)+1)","v":""},{"$f":"IF(CEM_COM_CPMS_Identification!C370=\"\",\"\",CEM_COM_CPMS_Identification!C370)","v":""},"",{"$f":"IF(COUNTIF(B$2:B348,B348)=1,B348,\"\")","v":""},null,null,null,null,null,null,null,null,null,null,null,null,null,null,null,{"$f":"+IF(Y348=\"\",\"\",MAX(T$1:T347)+1)","v":""},{"$f":"IF(No_CPMS_Limits_Details!B370=\"\",\"\",No_CPMS_Limits_Details!B370)","v":""},{"$f":"IF(No_CPMS_Limits_Details!C370=\"\",\"\",No_CPMS_Limits_Details!C370)","v":""},{"$f":"IF(No_CPMS_Limits_Details!D370=\"\",\"\",No_CPMS_Limits_Details!D370)","v":""},"",{"$f":"IF(COUNTIF(V$2:V348,V348)=1,V348,\"\")","v":""},"","","",null,{"$f":"+IF(AI348=\"\",\"\",MAX(AD$1:AD347)+1)","v":""},{"$f":"IF(Limits_Details_w_CPMS!B370=\"\",\"\",Limits_Details_w_CPMS!B370)","v":""},{"$f":"IF(Limits_Details_w_CPMS!C370=\"\",\"\",Limits_Details_w_CPMS!C370)","v":""},{"$f":"IF(Limits_Details_w_CPMS!D370=\"\",\"\",Limits_Details_w_CPMS!D370)","v":""},"",{"$f":"IF(COUNTIF(AH$2:AH348,AH348)=1,AH348,\"\")","v":""},"","","",null,null,null,{"$f":"+IF(AU348=\"\",\"\",MAX(AP$1:AP347)+1)","v":""},{"$f":"IF(CPMS_Detail!B370=\"\",\"\",CPMS_Detail!B370)","v":""},{"$f":"IF(CPMS_Detail!C370=\"\",\"\",CPMS_Detail!C370)","v":""},{"$f":"IF(CPMS_Detail!D370=\"\",\"\",CPMS_Detail!D370)","v":""},"",{"$f":"IF(COUNTIF(AT$2:AT348,AT348)=1,AT348,\"\")","v":""},"","","",null,{"$f":"+IF(BE348=\"\",\"\",MAX(AZ$1:AZ347)+1)","v":""},{"$f":"IF(Mercury!B370=\"\",\"\",Mercury!B370)","v":""},{"$f":"IF(Mercury!C370=\"\",\"\",Mercury!C370)","v":""},{"$f":"IF(Mercury!D370=\"\",\"\",Mercury!D370)","v":""},"",{"$f":"IF(COUNTIF(BB$2:BB348,BB348)=1,BB348,\"\")","v":""},"","",""]
[{"$f":"+IF(D349=\"\",\"\",MAX(A$1:A348)+1)","v":""},{"$f":"IF(CEM_COM_CPMS_Identification!C371=\"\",\"\",CEM_COM_CPMS_Identification!C371)","v":""},"",{"$f":"IF(COUNTIF(B$2:B349,B349)=1,B349,\"\")","v":""},null,null,null,null,null,null,null,null,null,null,null,null,null,null,null,{"$f":"+IF(Y349=\"\",\"\",MAX(T$1:T348)+1)","v":""},{"$f":"IF(No_CPMS_Limits_Details!B371=\"\",\"\",No_CPMS_Limits_Details!B371)","v":""},{"$f":"IF(No_CPMS_Limits_Details!C371=\"\",\"\",No_CPMS_Limits_Details!C371)","v":""},{"$f":"IF(No_CPMS_Limits_Details!D371=\"\",\"\",No_CPMS_Limits_Details!D371)","v":""},"",{"$f":"IF(COUNTIF(V$2:V349,V349)=1,V349,\"\")","v":""},"","","",null,{"$f":"+IF(AI349=\"\",\"\",MAX(AD$1:AD348)+1)","v":""},{"$f":"IF(Limits_Details_w_CPMS!B371=\"\",\"\",Limits_Details_w_CPMS!B371)","v":""},{"$f":"IF(Limits_Details_w_CPMS!C371=\"\",\"\",Limits_Details_w_CPMS!C371)","v":""},{"$f":"IF(Limits_Details_w_CPMS!D371=\"\",\"\",Limits_Details_w_CPMS!D371)","v":""},"",{"$f":"IF(COUNTIF(AH$2:AH349,AH349)=1,AH349,\"\")","v":""},"","","",null,null,null,{"$f":"+IF(AU349=\"\",\"\",MAX(AP$1:AP348)+1)","v":""},{"$f":"IF(CPMS_Detail!B371=\"\",\"\",CPMS_Detail!B371)","v":""},{"$f":"IF(CPMS_Detail!C371=\"\",\"\",CPMS_Detail!C371)","v":""},{"$f":"IF(CPMS_Detail!D371=\"\",\"\",CPMS_Detail!D371)","v":""},"",{"$f":"IF(COUNTIF(AT$2:AT349,AT349)=1,AT349,\"\")","v":""},"","","",null,{"$f":"+IF(BE349=\"\",\"\",MAX(AZ$1:AZ348)+1)","v":""},{"$f":"IF(Mercury!B371=\"\",\"\",Mercury!B371)","v":""},{"$f":"IF(Mercury!C371=\"\",\"\",Mercury!C371)","v":""},{"$f":"IF(Mercury!D371=\"\",\"\",Mercury!D371)","v":""},"",{"$f":"IF(COUNTIF(BB$2:BB349,BB349)=1,BB349,\"\")","v":""},"","",""]
[{"$f":"+IF(D350=\"\",\"\",MAX(A$1:A349)+1)","v":""},{"$f":"IF(CEM_COM_CPMS_Identification!C372=\"\",\"\",CEM_COM_CPMS_Identification!C372)","v":""},"",{"$f":"IF(COUNTIF(B$2:B350,B350)=1,B350,\"\")","v":""},null,null,null,null,null,null,null,null,null,null,null,null,null,null,null,{"$f":"+IF(Y350=\"\",\"\",MAX(T$1:T349)+1)","v":""},{"$f":"IF(No_CPMS_Limits_Details!B372=\"\",\"\",No_CPMS_Limits_Details!B372)","v":""},{"$f":"IF(No_CPMS_Limits_Details!C372=\"\",\"\",No_CPMS_Limits_Details!C372)","v":""},{"$f":"IF(No_CPMS_Limits_Details!D372=\"\",\"\",No_CPMS_Limits_Details!D372)","v":""},"",{"$f":"IF(COUNTIF(V$2:V350,V350)=1,V350,\"\")","v":""},"","","",null,{"$f":"+IF(AI350=\"\",\"\",MAX(AD$1:AD349)+1)","v":""},{"$f":"IF(Limits_Details_w_CPMS!B372=\"\",\"\",Limits_Details_w_CPMS!B372)","v":""},{"$f":"IF(Limits_Details_w_CPMS!C372=\"\",\"\",Limits_Details_w_CPMS!C372)","v":""},{"$f":"IF(Limits_Details_w_CPMS!D372=\"\",\"\",Limits_Details_w_CPMS!D372)","v":""},"",{"$f":"IF(COUNTIF(AH$2:AH350,AH350)=1,AH350,\"\")","v":""},"","","",null,null,null,{"$f":"+IF(AU350=\"\",\"\",MAX(AP$1:AP349)+1)","v":""},{"$f":"IF(CPMS_Detail!B372=\"\",\"\",CPMS_Detail!B372)","v":""},{"$f":"IF(CPMS_Detail!C372=\"\",\"\",CPMS_Detail!C372)","v":""},{"$f":"IF(CPMS_Detail!D372=\"\",\"\",CPMS_Detail!D372)","v":""},"",{"$f":"IF(COUNTIF(AT$2:AT350,AT350)=1,AT350,\"\")","v":""},"","","",null,{"$f":"+IF(BE350=\"\",\"\",MAX(AZ$1:AZ349)+1)","v":""},{"$f":"IF(Mercury!B372=\"\",\"\",Mercury!B372)","v":""},{"$f":"IF(Mercury!C372=\"\",\"\",Mercury!C372)","v":""},{"$f":"IF(Mercury!D372=\"\",\"\",Mercury!D372)","v":""},"",{"$f":"IF(COUNTIF(BB$2:BB350,BB350)=1,BB350,\"\")","v":""},"","",""]
[{"$f":"+IF(D351=\"\",\"\",MAX(A$1:A350)+1)","v":""},{"$f":"IF(CEM_COM_CPMS_Identification!C373=\"\",\"\",CEM_COM_CPMS_Identification!C373)","v":""},"",{"$f":"IF(COUNTIF(B$2:B351,B351)=1,B351,\"\")","v":""},null,null,null,null,null,null,null,null,null,null,null,null,null,null,null,{"$f":"+IF(Y351=\"\",\"\",MAX(T$1:T350)+1)","v":""},{"$f":"IF(No_CPMS_Limits_Details!B373=\"\",\"\",No_CPMS_Limits_Details!B373)","v":""},{"$f":"IF(No_CPMS_Limits_Details!C373=\"\",\"\",No_CPMS_Limits_Details!C373)","v":""},{"$f":"IF(No_CPMS_Limits_Details!D373=\"\",\"\",No_CPMS_Limits_Details!D373)","v":""},"",{"$f":"IF(COUNTIF(V$2:V351,V351)=1,V351,\"\")","v":""},"","","",null,{"$f":"+IF(AI351=\"\",\"\",MAX(AD$1:AD350)+1)","v":""},{"$f":"IF(Limits_Details_w_CPMS!B373=\"\",\"\",Limits_Details_w_CPMS!B373)","v":""},{"$f":"IF(Limits_Details_w_CPMS!C373=\"\",\"\",Limits_Details_w_CPMS!C373)","v":""},{"$f":"IF(Limits_Details_w_CPMS!D373=\"\",\"\",Limits_Details_w_CPMS!D373)","v":""},"",{"$f":"IF(COUNTIF(AH$2:AH351,AH351)=1,AH351,\"\")","v":""},"","","",null,null,null,{"$f":"+IF(AU351=\"\",\"\",MAX(AP$1:AP350)+1)","v":""},{"$f":"IF(CPMS_Detail!B373=\"\",\"\",CPMS_Detail!B373)","v":""},{"$f":"IF(CPMS_Detail!C373=\"\",\"\",CPMS_Detail!C373)","v":""},{"$f":"IF(CPMS_Detail!D373=\"\",\"\",CPMS_Detail!D373)","v":""},"",{"$f":"IF(COUNTIF(AT$2:AT351,AT351)=1,AT351,\"\")","v":""},"","","",null,{"$f":"+IF(BE351=\"\",\"\",MAX(AZ$1:AZ350)+1)","v":""},{"$f":"IF(Mercury!B373=\"\",\"\",Mercury!B373)","v":""},{"$f":"IF(Mercury!C373=\"\",\"\",Mercury!C373)","v":""},{"$f":"IF(Mercury!D373=\"\",\"\",Mercury!D373)","v":""},"",{"$f":"IF(COUNTIF(BB$2:BB351,BB351)=1,BB351,\"\")","v":""},"","",""]
[{"$f":"+IF(D352=\"\",\"\",MAX(A$1:A351)+1)","v":""},{"$f":"IF(CEM_COM_CPMS_Identification!C374=\"\",\"\",CEM_COM_CPMS_Identification!C374)","v":""},"",{"$f":"IF(COUNTIF(B$2:B352,B352)=1,B352,\"\")","v":""},null,null,null,null,null,null,null,null,null,null,null,null,null,null,null,{"$f":"+IF(Y352=\"\",\"\",MAX(T$1:T351)+1)","v":""},{"$f":"IF(No_CPMS_Limits_Details!B374=\"\",\"\",No_CPMS_Limits_Details!B374)","v":""},{"$f":"IF(No_CPMS_Limits_Details!C374=\"\",\"\",No_CPMS_Limits_Details!C374)","v":""},{"$f":"IF(No_CPMS_Limits_Details!D374=\"\",\"\",No_CPMS_Limits_Details!D374)","v":""},"",{"$f":"IF(COUNTIF(V$2:V352,V352)=1,V352,\"\")","v":""},"","","",null,{"$f":"+IF(AI352=\"\",\"\",MAX(AD$1:AD351)+1)","v":""},{"$f":"IF(Limits_Details_w_CPMS!B374=\"\",\"\",Limits_Details_w_CPMS!B374)","v":""},{"$f":"IF(Limits_Details_w_CPMS!C374=\"\",\"\",Limits_Details_w_CPMS!C374)","v":""},{"$f":"IF(Limits_Details_w_CPMS!D374=\"\",\"\",Limits_Details_w_CPMS!D374)","v":""},"",{"$f":"IF(COUNTIF(AH$2:AH352,AH352)=1,AH352,\"\")","v":""},"","","",null,null,null,{"$f":"+IF(AU352=\"\",\"\",MAX(AP$1:AP351)+1)","v":""},{"$f":"IF(CPMS_Detail!B374=\"\",\"\",CPMS_Detail!B374)","v":""},{"$f":"IF(CPMS_Detail!C374=\"\",\"\",CPMS_Detail!C374)","v":""},{"$f":"IF(CPMS_Detail!D374=\"\",\"\",CPMS_Detail!D374)","v":""},"",{"$f":"IF(COUNTIF(AT$2:AT352,AT352)=1,AT352,\"\")","v":""},"","","",null,{"$f":"+IF(BE352=\"\",\"\",MAX(AZ$1:AZ351)+1)","v":""},{"$f":"IF(Mercury!B374=\"\",\"\",Mercury!B374)","v":""},{"$f":"IF(Mercury!C374=\"\",\"\",Mercury!C374)","v":""},{"$f":"IF(Mercury!D374=\"\",\"\",Mercury!D374)","v":""},"",{"$f":"IF(COUNTIF(BB$2:BB352,BB352)=1,BB352,\"\")","v":""},"","",""]
[{"$f":"+IF(D353=\"\",\"\",MAX(A$1:A352)+1)","v":""},{"$f":"IF(CEM_COM_CPMS_Identification!C375=\"\",\"\",CEM_COM_CPMS_Identification!C375)","v":""},"",{"$f":"IF(COUNTIF(B$2:B353,B353)=1,B353,\"\")","v":""},null,null,null,null,null,null,null,null,null,null,null,null,null,null,null,{"$f":"+IF(Y353=\"\",\"\",MAX(T$1:T352)+1)","v":""},{"$f":"IF(No_CPMS_Limits_Details!B375=\"\",\"\",No_CPMS_Limits_Details!B375)","v":""},{"$f":"IF(No_CPMS_Limits_Details!C375=\"\",\"\",No_CPMS_Limits_Details!C375)","v":""},{"$f":"IF(No_CPMS_Limits_Details!D375=\"\",\"\",No_CPMS_Limits_Details!D375)","v":""},"",{"$f":"IF(COUNTIF(V$2:V353,V353)=1,V353,\"\")","v":""},"","","",null,{"$f":"+IF(AI353=\"\",\"\",MAX(AD$1:AD352)+1)","v":""},{"$f":"IF(Limits_Details_w_CPMS!B375=\"\",\"\",Limits_Details_w_CPMS!B375)","v":""},{"$f":"IF(Limits_Details_w_CPMS!C375=\"\",\"\",Limits_Details_w_CPMS!C375)","v":""},{"$f":"IF(Limits_Details_w_CPMS!D375=\"\",\"\",Limits_Details_w_CPMS!D375)","v":""},"",{"$f":"IF(COUNTIF(AH$2:AH353,AH353)=1,AH353,\"\")","v":""},"","","",null,null,null,{"$f":"+IF(AU353=\"\",\"\",MAX(AP$1:AP352)+1)","v":""},{"$f":"IF(CPMS_Detail!B375=\"\",\"\",CPMS_Detail!B375)","v":""},{"$f":"IF(CPMS_Detail!C375=\"\",\"\",CPMS_Detail!C375)","v":""},{"$f":"IF(CPMS_Detail!D375=\"\",\"\",CPMS_Detail!D375)","v":""},"",{"$f":"IF(COUNTIF(AT$2:AT353,AT353)=1,AT353,\"\")","v":""},"","","",null,{"$f":"+IF(BE353=\"\",\"\",MAX(AZ$1:AZ352)+1)","v":""},{"$f":"IF(Mercury!B375=\"\",\"\",Mercury!B375)","v":""},{"$f":"IF(Mercury!C375=\"\",\"\",Mercury!C375)","v":""},{"$f":"IF(Mercury!D375=\"\",\"\",Mercury!D375)","v":""},"",{"$f":"IF(COUNTIF(BB$2:BB353,BB353)=1,BB353,\"\")","v":""},"","",""]
[{"$f":"+IF(D354=\"\",\"\",MAX(A$1:A353)+1)","v":""},{"$f":"IF(CEM_COM_CPMS_Identification!C376=\"\",\"\",CEM_COM_CPMS_Identification!C376)","v":""},"",{"$f":"IF(COUNTIF(B$2:B354,B354)=1,B354,\"\")","v":""},null,null,null,null,null,null,null,null,null,null,null,null,null,null,null,{"$f":"+IF(Y354=\"\",\"\",MAX(T$1:T353)+1)","v":""},{"$f":"IF(No_CPMS_Limits_Details!B376=\"\",\"\",No_CPMS_Limits_Details!B376)","v":""},{"$f":"IF(No_CPMS_Limits_Details!C376=\"\",\"\",No_CPMS_Limits_Details!C376)","v":""},{"$f":"IF(No_CPMS_Limits_Details!D376=\"\",\"\",No_CPMS_Limits_Details!D376)","v":""},"",{"$f":"IF(COUNTIF(V$2:V354,V354)=1,V354,\"\")","v":""},"","","",null,{"$f":"+IF(AI354=\"\",\"\",MAX(AD$1:AD353)+1)","v":""},{"$f":"IF(Limits_Details_w_CPMS!B376=\"\",\"\",Limits_Details_w_CPMS!B376)","v":""},{"$f":"IF(Limits_Details_w_CPMS!C376=\"\",\"\",Limits_Details_w_CPMS!C376)","v":""},{"$f":"IF(Limits_Details_w_CPMS!D376=\"\",\"\",Limits_Details_w_CPMS!D376)","v":""},"",{"$f":"IF(COUNTIF(AH$2:AH354,AH354)=1,AH354,\"\")","v":""},"","","",null,null,null,{"$f":"+IF(AU354=\"\",\"\",MAX(AP$1:AP353)+1)","v":""},{"$f":"IF(CPMS_Detail!B376=\"\",\"\",CPMS_Detail!B376)","v":""},{"$f":"IF(CPMS_Detail!C376=\"\",\"\",CPMS_Detail!C376)","v":""},{"$f":"IF(CPMS_Detail!D376=\"\",\"\",CPMS_Detail!D376)","v":""},"",{"$f":"IF(COUNTIF(AT$2:AT354,AT354)=1,AT354,\"\")","v":""},"","","",null,{"$f":"+IF(BE354=\"\",\"\",MAX(AZ$1:AZ353)+1)","v":""},{"$f":"IF(Mercury!B376=\"\",\"\",Mercury!B376)","v":""},{"$f":"IF(Mercury!C376=\"\",\"\",Mercury!C376)","v":""},{"$f":"IF(Mercury!D376=\"\",\"\",Mercury!D376)","v":""},"",{"$f":"IF(COUNTIF(BB$2:BB354,BB354)=1,BB354,\"\")","v":""},"","",""]
[{"$f":"+IF(D355=\"\",\"\",MAX(A$1:A354)+1)","v":""},{"$f":"IF(CEM_COM_CPMS_Identification!C377=\"\",\"\",CEM_COM_CPMS_Identification!C377)","v":""},"",{"$f":"IF(COUNTIF(B$2:B355,B355)=1,B355,\"\")","v":""},null,null,null,null,null,null,null,null,null,null,null,null,null,null,null,{"$f":"+IF(Y355=\"\",\"\",MAX(T$1:T354)+1)","v":""},{"$f":"IF(No_CPMS_Limits_Details!B377=\"\",\"\",No_CPMS_Limits_Details!B377)","v":""},{"$f":"IF(No_CPMS_Limits_Details!C377=\"\",\"\",No_CPMS_Limits_Details!C377)","v":""},{"$f":"IF(No_CPMS_Limits_Details!D377=\"\",\"\",No_CPMS_Limits_Details!D377)","v":""},"",{"$f":"IF(COUNTIF(V$2:V355,V355)=1,V355,\"\")","v":""},"","","",null,{"$f":"+IF(AI355=\"\",\"\",MAX(AD$1:AD354)+1)","v":""},{"$f":"IF(Limits_Details_w_CPMS!B377=\"\",\"\",Limits_Details_w_CPMS!B377)","v":""},{"$f":"IF(Limits_Details_w_CPMS!C377=\"\",\"\",Limits_Details_w_CPMS!C377)","v":""},{"$f":"IF(Limits_Details_w_CPMS!D377=\"\",\"\",Limits_Details_w_CPMS!D377)","v":""},"",{"$f":"IF(COUNTIF(AH$2:AH355,AH355)=1,AH355,\"\")","v":""},"","","",null,null,null,{"$f":"+IF(AU355=\"\",\"\",MAX(AP$1:AP354)+1)","v":""},{"$f":"IF(CPMS_Detail!B377=\"\",\"\",CPMS_Detail!B377)","v":""},{"$f":"IF(CPMS_Detail!C377=\"\",\"\",CPMS_Detail!C377)","v":""},{"$f":"IF(CPMS_Detail!D377=\"\",\"\",CPMS_Detail!D377)","v":""},"",{"$f":"IF(COUNTIF(AT$2:AT355,AT355)=1,AT355,\"\")","v":""},"","","",null,{"$f":"+IF(BE355=\"\",\"\",MAX(AZ$1:AZ354)+1)","v":""},{"$f":"IF(Mercury!B377=\"\",\"\",Mercury!B377)","v":""},{"$f":"IF(Mercury!C377=\"\",\"\",Mercury!C377)","v":""},{"$f":"IF(Mercury!D377=\"\",\"\",Mercury!D377)","v":""},"",{"$f":"IF(COUNTIF(BB$2:BB355,BB355)=1,BB355,\"\")","v":""},"","",""]
[{"$f":"+IF(D356=\"\",\"\",MAX(A$1:A355)+1)","v":""},{"$f":"IF(CEM_COM_CPMS_Identification!C378=\"\",\"\",CEM_COM_CPMS_Identification!C378)","v":""},"",{"$f":"IF(COUNTIF(B$2:B356,B356)=1,B356,\"\")","v":""},null,null,null,null,null,null,null,null,null,null,null,null,null,null,null,{"$f":"+IF(Y356=\"\",\"\",MAX(T$1:T355)+1)","v":""},{"$f":"IF(No_CPMS_Limits_Details!B378=\"\",\"\",No_CPMS_Limits_Details!B378)","v":""},{"$f":"IF(No_CPMS_Limits_Details!C378=\"\",\"\",No_CPMS_Limits_Details!C378)","v":""},{"$f":"IF(No_CPMS_Limits_Details!D378=\"\",\"\",No_CPMS_Limits_Details!D378)","v":""},"",{"$f":"IF(COUNTIF(V$2:V356,V356)=1,V356,\"\")","v":""},"","","",null,{"$f":"+IF(AI356=\"\",\"\",MAX(AD$1:AD355)+1)","v":""},{"$f":"IF(Limits_Details_w_CPMS!B378=\"\",\"\",Limits_Details_w_CPMS!B378)","v":""},{"$f":"IF(Limits_Details_w_CPMS!C378=\"\",\"\",Limits_Details_w_CPMS!C378)","v":""},{"$f":"IF(Limits_Details_w_CPMS!D378=\"\",\"\",Limits_Details_w_CPMS!D378)","v":""},"",{"$f":"IF(COUNTIF(AH$2:AH356,AH356)=1,AH356,\"\")","v":""},"","","",null,null,null,{"$f":"+IF(AU356=\"\",\"\",MAX(AP$1:AP355)+1)","v":""},{"$f":"IF(CPMS_Detail!B378=\"\",\"\",CPMS_Detail!B378)","v":""},{"$f":"IF(CPMS_Detail!C378=\"\",\"\",CPMS_Detail!C378)","v":""},{"$f":"IF(CPMS_Detail!D378=\"\",\"\",CPMS_Detail!D378)","v":""},"",{"$f":"IF(COUNTIF(AT$2:AT356,AT356)=1,AT356,\"\")","v":""},"","","",null,{"$f":"+IF(BE356=\"\",\"\",MAX(AZ$1:AZ355)+1)","v":""},{"$f":"IF(Mercury!B378=\"\",\"\",Mercury!B378)","v":""},{"$f":"IF(Mercury!C378=\"\",\"\",Mercury!C378)","v":""},{"$f":"IF(Mercury!D378=\"\",\"\",Mercury!D378)","v":""},"",{"$f":"IF(COUNTIF(BB$2:BB356,BB356)=1,BB356,\"\")","v":""},"","",""]
[{"$f":"+IF(D357=\"\",\"\",MAX(A$1:A356)+1)","v":""},{"$f":"IF(CEM_COM_CPMS_Identification!C379=\"\",\"\",CEM_COM_CPMS_Identification!C379)","v":""},"",{"$f":"IF(COUNTIF(B$2:B357,B357)=1,B357,\"\")","v":""},null,null,null,null,null,null,null,null,null,null,null,null,null,null,null,{"$f":"+IF(Y357=\"\",\"\",MAX(T$1:T356)+1)","v":""},{"$f":"IF(No_CPMS_Limits_Details!B379=\"\",\"\",No_CPMS_Limits_Details!B379)","v":""},{"$f":"IF(No_CPMS_Limits_Details!C379=\"\",\"\",No_CPMS_Limits_Details!C379)","v":""},{"$f":"IF(No_CPMS_Limits_Details!D379=\"\",\"\",No_CPMS_Limits_Details!D379)","v":""},"",{"$f":"IF(COUNTIF(V$2:V357,V357)=1,V357,\"\")","v":""},"","","",null,{"$f":"+IF(AI357=\"\",\"\",MAX(AD$1:AD356)+1)","v":""},{"$f":"IF(Limits_Details_w_CPMS!B379=\"\",\"\",Limits_Details_w_CPMS!B379)","v":""},{"$f":"IF(Limits_Details_w_CPMS!C379=\"\",\"\",Limits_Details_w_CPMS!C379)","v":""},{"$f":"IF(Limits_Details_w_CPMS!D379=\"\",\"\",Limits_Details_w_CPMS!D379)","v":""},"",{"$f":"IF(COUNTIF(AH$2:AH357,AH357)=1,AH357,\"\")","v":""},"","","",null,null,null,{"$f":"+IF(AU357=\"\",\"\",MAX(AP$1:AP356)+1)","v":""},{"$f":"IF(CPMS_Detail!B379=\"\",\"\",CPMS_Detail!B379)","v":""},{"$f":"IF(CPMS_Detail!C379=\"\",\"\",CPMS_Detail!C379)","v":""},{"$f":"IF(CPMS_Detail!D379=\"\",\"\",CPMS_Detail!D379)","v":""},"",{"$f":"IF(COUNTIF(AT$2:AT357,AT357)=1,AT357,\"\")","v":""},"","","",null,{"$f":"+IF(BE357=\"\",\"\",MAX(AZ$1:AZ356)+1)","v":""},{"$f":"IF(Mercury!B379=\"\",\"\",Mercury!B379)","v":""},{"$f":"IF(Mercury!C379=\"\",\"\",Mercury!C379)","v":""},{"$f":"IF(Mercury!D379=\"\",\"\",Mercury!D379)","v":""},"",{"$f":"IF(COUNTIF(BB$2:BB357,BB357)=1,BB357,\"\")","v":""},"","",""]
[{"$f":"+IF(D358=\"\",\"\",MAX(A$1:A357)+1)","v":""},{"$f":"IF(CEM_COM_CPMS_Identification!C380=\"\",\"\",CEM_COM_CPMS_Identification!C380)","v":""},"",{"$f":"IF(COUNTIF(B$2:B358,B358)=1,B358,\"\")","v":""},null,null,null,null,null,null,null,null,null,null,null,null,null,null,null,{"$f":"+IF(Y358=\"\",\"\",MAX(T$1:T357)+1)","v":""},{"$f":"IF(No_CPMS_Limits_Details!B380=\"\",\"\",No_CPMS_Limits_Details!B380)","v":""},{"$f":"IF(No_CPMS_Limits_Details!C380=\"\",\"\",No_CPMS_Limits_Details!C380)","v":""},{"$f":"IF(No_CPMS_Limits_Details!D380=\"\",\"\",No_CPMS_Limits_Details!D380)","v":""},"",{"$f":"IF(COUNTIF(V$2:V358,V358)=1,V358,\"\")","v":""},"","","",null,{"$f":"+IF(AI358=\"\",\"\",MAX(AD$1:AD357)+1)","v":""},{"$f":"IF(Limits_Details_w_CPMS!B380=\"\",\"\",Limits_Details_w_CPMS!B380)","v":""},{"$f":"IF(Limits_Details_w_CPMS!C380=\"\",\"\",Limits_Details_w_CPMS!C380)","v":""},{"$f":"IF(Limits_Details_w_CPMS!D380=\"\",\"\",Limits_Details_w_CPMS!D380)","v":""},"",{"$f":"IF(COUNTIF(AH$2:AH358,AH358)=1,AH358,\"\")","v":""},"","","",null,null,null,{"$f":"+IF(AU358=\"\",\"\",MAX(AP$1:AP357)+1)","v":""},{"$f":"IF(CPMS_Detail!B380=\"\",\"\",CPMS_Detail!B380)","v":""},{"$f":"IF(CPMS_Detail!C380=\"\",\"\",CPMS_Detail!C380)","v":""},{"$f":"IF(CPMS_Detail!D380=\"\",\"\",CPMS_Detail!D380)","v":""},"",{"$f":"IF(COUNTIF(AT$2:AT358,AT358)=1,AT358,\"\")","v":""},"","","",null,{"$f":"+IF(BE358=\"\",\"\",MAX(AZ$1:AZ357)+1)","v":""},{"$f":"IF(Mercury!B380=\"\",\"\",Mercury!B380)","v":""},{"$f":"IF(Mercury!C380=\"\",\"\",Mercury!C380)","v":""},{"$f":"IF(Mercury!D380=\"\",\"\",Mercury!D380)","v":""},"",{"$f":"IF(COUNTIF(BB$2:BB358,BB358)=1,BB358,\"\")","v":""},"","",""]
[{"$f":"+IF(D359=\"\",\"\",MAX(A$1:A358)+1)","v":""},{"$f":"IF(CEM_COM_CPMS_Identification!C381=\"\",\"\",CEM_COM_CPMS_Identification!C381)","v":""},"",{"$f":"IF(COUNTIF(B$2:B359,B359)=1,B359,\"\")","v":""},null,null,null,null,null,null,null,null,null,null,null,null,null,null,null,{"$f":"+IF(Y359=\"\",\"\",MAX(T$1:T358)+1)","v":""},{"$f":"IF(No_CPMS_Limits_Details!B381=\"\",\"\",No_CPMS_Limits_Details!B381)","v":""},{"$f":"IF(No_CPMS_Limits_Details!C381=\"\",\"\",No_CPMS_Limits_Details!C381)","v":""},{"$f":"IF(No_CPMS_Limits_Details!D381=\"\",\"\",No_CPMS_Limits_Details!D381)","v":""},"",{"$f":"IF(COUNTIF(V$2:V359,V359)=1,V359,\"\")","v":""},"","","",null,{"$f":"+IF(AI359=\"\",\"\",MAX(AD$1:AD358)+1)","v":""},{"$f":"IF(Limits_Details_w_CPMS!B381=\"\",\"\",Limits_Details_w_CPMS!B381)","v":""},{"$f":"IF(Limits_Details_w_CPMS!C381=\"\",\"\",Limits_Details_w_CPMS!C381)","v":""},{"$f":"IF(Limits_Details_w_CPMS!D381=\"\",\"\",Limits_Details_w_CPMS!D381)","v":""},"",{"$f":"IF(COUNTIF(AH$2:AH359,AH359)=1,AH359,\"\")","v":""},"","","",null,null,null,{"$f":"+IF(AU359=\"\",\"\",MAX(AP$1:AP358)+1)","v":""},{"$f":"IF(CPMS_Detail!B381=\"\",\"\",CPMS_Detail!B381)","v":""},{"$f":"IF(CPMS_Detail!C381=\"\",\"\",CPMS_Detail!C381)","v":""},{"$f":"IF(CPMS_Detail!D381=\"\",\"\",CPMS_Detail!D381)","v":""},"",{"$f":"IF(COUNTIF(AT$2:AT359,AT359)=1,AT359,\"\")","v":""},"","","",null,{"$f":"+IF(BE359=\"\",\"\",MAX(AZ$1:AZ358)+1)","v":""},{"$f":"IF(Mercury!B381=\"\",\"\",Mercury!B381)","v":""},{"$f":"IF(Mercury!C381=\"\",\"\",Mercury!C381)","v":""},{"$f":"IF(Mercury!D381=\"\",\"\",Mercury!D381)","v":""},"",{"$f":"IF(COUNTIF(BB$2:BB359,BB359)=1,BB359,\"\")","v":""},"","",""]
[{"$f":"+IF(D360=\"\",\"\",MAX(A$1:A359)+1)","v":""},{"$f":"IF(CEM_COM_CPMS_Identification!C382=\"\",\"\",CEM_COM_CPMS_Identification!C382)","v":""},"",{"$f":"IF(COUNTIF(B$2:B360,B360)=1,B360,\"\")","v":""},null,null,null,null,null,null,null,null,null,null,null,null,null,null,null,{"$f":"+IF(Y360=\"\",\"\",MAX(T$1:T359)+1)","v":""},{"$f":"IF(No_CPMS_Limits_Details!B382=\"\",\"\",No_CPMS_Limits_Details!B382)","v":""},{"$f":"IF(No_CPMS_Limits_Details!C382=\"\",\"\",No_CPMS_Limits_Details!C382)","v":""},{"$f":"IF(No_CPMS_Limits_Details!D382=\"\",\"\",No_CPMS_Limits_Details!D382)","v":""},"",{"$f":"IF(COUNTIF(V$2:V360,V360)=1,V360,\"\")","v":""},"","","",null,{"$f":"+IF(AI360=\"\",\"\",MAX(AD$1:AD359)+1)","v":""},{"$f":"IF(Limits_Details_w_CPMS!B382=\"\",\"\",Limits_Details_w_CPMS!B382)","v":""},{"$f":"IF(Limits_Details_w_CPMS!C382=\"\",\"\",Limits_Details_w_CPMS!C382)","v":""},{"$f":"IF(Limits_Details_w_CPMS!D382=\"\",\"\",Limits_Details_w_CPMS!D382)","v":""},"",{"$f":"IF(COUNTIF(AH$2:AH360,AH360)=1,AH360,\"\")","v":""},"","","",null,null,null,{"$f":"+IF(AU360=\"\",\"\",MAX(AP$1:AP359)+1)","v":""},{"$f":"IF(CPMS_Detail!B382=\"\",\"\",CPMS_Detail!B382)","v":""},{"$f":"IF(CPMS_Detail!C382=\"\",\"\",CPMS_Detail!C382)","v":""},{"$f":"IF(CPMS_Detail!D382=\"\",\"\",CPMS_Detail!D382)","v":""},"",{"$f":"IF(COUNTIF(AT$2:AT360,AT360)=1,AT360,\"\")","v":""},"","","",null,{"$f":"+IF(BE360=\"\",\"\",MAX(AZ$1:AZ359)+1)","v":""},{"$f":"IF(Mercury!B382=\"\",\"\",Mercury!B382)","v":""},{"$f":"IF(Mercury!C382=\"\",\"\",Mercury!C382)","v":""},{"$f":"IF(Mercury!D382=\"\",\"\",Mercury!D382)","v":""},"",{"$f":"IF(COUNTIF(BB$2:BB360,BB360)=1,BB360,\"\")","v":""},"","",""]
[{"$f":"+IF(D361=\"\",\"\",MAX(A$1:A360)+1)","v":""},{"$f":"IF(CEM_COM_CPMS_Identification!C383=\"\",\"\",CEM_COM_CPMS_Identification!C383)","v":""},"",{"$f":"IF(COUNTIF(B$2:B361,B361)=1,B361,\"\")","v":""},null,null,null,null,null,null,null,null,null,null,null,null,null,null,null,{"$f":"+IF(Y361=\"\",\"\",MAX(T$1:T360)+1)","v":""},{"$f":"IF(No_CPMS_Limits_Details!B383=\"\",\"\",No_CPMS_Limits_Details!B383)","v":""},{"$f":"IF(No_CPMS_Limits_Details!C383=\"\",\"\",No_CPMS_Limits_Details!C383)","v":""},{"$f":"IF(No_CPMS_Limits_Details!D383=\"\",\"\",No_CPMS_Limits_Details!D383)","v":""},"",{"$f":"IF(COUNTIF(V$2:V361,V361)=1,V361,\"\")","v":""},"","","",null,{"$f":"+IF(AI361=\"\",\"\",MAX(AD$1:AD360)+1)","v":""},{"$f":"IF(Limits_Details_w_CPMS!B383=\"\",\"\",Limits_Details_w_CPMS!B383)","v":""},{"$f":"IF(Limits_Details_w_CPMS!C383=\"\",\"\",Limits_Details_w_CPMS!C383)","v":""},{"$f":"IF(Limits_Details_w_CPMS!D383=\"\",\"\",Limits_Details_w_CPMS!D383)","v":""},"",{"$f":"IF(COUNTIF(AH$2:AH361,AH361)=1,AH361,\"\")","v":""},"","","",null,null,null,{"$f":"+IF(AU361=\"\",\"\",MAX(AP$1:AP360)+1)","v":""},{"$f":"IF(CPMS_Detail!B383=\"\",\"\",CPMS_Detail!B383)","v":""},{"$f":"IF(CPMS_Detail!C383=\"\",\"\",CPMS_Detail!C383)","v":""},{"$f":"IF(CPMS_Detail!D383=\"\",\"\",CPMS_Detail!D383)","v":""},"",{"$f":"IF(COUNTIF(AT$2:AT361,AT361)=1,AT361,\"\")","v":""},"","","",null,{"$f":"+IF(BE361=\"\",\"\",MAX(AZ$1:AZ360)+1)","v":""},{"$f":"IF(Mercury!B383=\"\",\"\",Mercury!B383)","v":""},{"$f":"IF(Mercury!C383=\"\",\"\",Mercury!C383)","v":""},{"$f":"IF(Mercury!D383=\"\",\"\",Mercury!D383)","v":""},"",{"$f":"IF(COUNTIF(BB$2:BB361,BB361)=1,BB361,\"\")","v":""},"","",""]
[{"$f":"+IF(D362=\"\",\"\",MAX(A$1:A361)+1)","v":""},{"$f":"IF(CEM_COM_CPMS_Identification!C384=\"\",\"\",CEM_COM_CPMS_Identification!C384)","v":""},"",{"$f":"IF(COUNTIF(B$2:B362,B362)=1,B362,\"\")","v":""},null,null,null,null,null,null,null,null,null,null,null,null,null,null,null,{"$f":"+IF(Y362=\"\",\"\",MAX(T$1:T361)+1)","v":""},{"$f":"IF(No_CPMS_Limits_Details!B384=\"\",\"\",No_CPMS_Limits_Details!B384)","v":""},{"$f":"IF(No_CPMS_Limits_Details!C384=\"\",\"\",No_CPMS_Limits_Details!C384)","v":""},{"$f":"IF(No_CPMS_Limits_Details!D384=\"\",\"\",No_CPMS_Limits_Details!D384)","v":""},"",{"$f":"IF(COUNTIF(V$2:V362,V362)=1,V362,\"\")","v":""},"","","",null,{"$f":"+IF(AI362=\"\",\"\",MAX(AD$1:AD361)+1)","v":""},{"$f":"IF(Limits_Details_w_CPMS!B384=\"\",\"\",Limits_Details_w_CPMS!B384)","v":""},{"$f":"IF(Limits_Details_w_CPMS!C384=\"\",\"\",Limits_Details_w_CPMS!C384)","v":""},{"$f":"IF(Limits_Details_w_CPMS!D384=\"\",\"\",Limits_Details_w_CPMS!D384)","v":""},"",{"$f":"IF(COUNTIF(AH$2:AH362,AH362)=1,AH362,\"\")","v":""},"","","",null,null,null,{"$f":"+IF(AU362=\"\",\"\",MAX(AP$1:AP361)+1)","v":""},{"$f":"IF(CPMS_Detail!B384=\"\",\"\",CPMS_Detail!B384)","v":""},{"$f":"IF(CPMS_Detail!C384=\"\",\"\",CPMS_Detail!C384)","v":""},{"$f":"IF(CPMS_Detail!D384=\"\",\"\",CPMS_Detail!D384)","v":""},"",{"$f":"IF(COUNTIF(AT$2:AT362,AT362)=1,AT362,\"\")","v":""},"","","",null,{"$f":"+IF(BE362=\"\",\"\",MAX(AZ$1:AZ361)+1)","v":""},{"$f":"IF(Mercury!B384=\"\",\"\",Mercury!B384)","v":""},{"$f":"IF(Mercury!C384=\"\",\"\",Mercury!C384)","v":""},{"$f":"IF(Mercury!D384=\"\",\"\",Mercury!D384)","v":""},"",{"$f":"IF(COUNTIF(BB$2:BB362,BB362)=1,BB362,\"\")","v":""},"","",""]
[{"$f":"+IF(D363=\"\",\"\",MAX(A$1:A362)+1)","v":""},{"$f":"IF(CEM_COM_CPMS_Identification!C385=\"\",\"\",CEM_COM_CPMS_Identification!C385)","v":""},"",{"$f":"IF(COUNTIF(B$2:B363,B363)=1,B363,\"\")","v":""},null,null,null,null,null,null,null,null,null,null,null,null,null,null,null,{"$f":"+IF(Y363=\"\",\"\",MAX(T$1:T362)+1)","v":""},{"$f":"IF(No_CPMS_Limits_Details!B385=\"\",\"\",No_CPMS_Limits_Details!B385)","v":""},{"$f":"IF(No_CPMS_Limits_Details!C385=\"\",\"\",No_CPMS_Limits_Details!C385)","v":""},{"$f":"IF(No_CPMS_Limits_Details!D385=\"\",\"\",No_CPMS_Limits_Details!D385)","v":""},"",{"$f":"IF(COUNTIF(V$2:V363,V363)=1,V363,\"\")","v":""},"","","",null,{"$f":"+IF(AI363=\"\",\"\",MAX(AD$1:AD362)+1)","v":""},{"$f":"IF(Limits_Details_w_CPMS!B385=\"\",\"\",Limits_Details_w_CPMS!B385)","v":""},{"$f":"IF(Limits_Details_w_CPMS!C385=\"\",\"\",Limits_Details_w_CPMS!C385)","v":""},{"$f":"IF(Limits_Details_w_CPMS!D385=\"\",\"\",Limits_Details_w_CPMS!D385)","v":""},"",{"$f":"IF(COUNTIF(AH$2:AH363,AH363)=1,AH363,\"\")","v":""},"","","",null,null,null,{"$f":"+IF(AU363=\"\",\"\",MAX(AP$1:AP362)+1)","v":""},{"$f":"IF(CPMS_Detail!B385=\"\",\"\",CPMS_Detail!B385)","v":""},{"$f":"IF(CPMS_Detail!C385=\"\",\"\",CPMS_Detail!C385)","v":""},{"$f":"IF(CPMS_Detail!D385=\"\",\"\",CPMS_Detail!D385)","v":""},"",{"$f":"IF(COUNTIF(AT$2:AT363,AT363)=1,AT363,\"\")","v":""},"","","",null,{"$f":"+IF(BE363=\"\",\"\",MAX(AZ$1:AZ362)+1)","v":""},{"$f":"IF(Mercury!B385=\"\",\"\",Mercury!B385)","v":""},{"$f":"IF(Mercury!C385=\"\",\"\",Mercury!C385)","v":""},{"$f":"IF(Mercury!D385=\"\",\"\",Mercury!D385)","v":""},"",{"$f":"IF(COUNTIF(BB$2:BB363,BB363)=1,BB363,\"\")","v":""},"","",""]
[{"$f":"+IF(D364=\"\",\"\",MAX(A$1:A363)+1)","v":""},{"$f":"IF(CEM_COM_CPMS_Identification!C386=\"\",\"\",CEM_COM_CPMS_Identification!C386)","v":""},"",{"$f":"IF(COUNTIF(B$2:B364,B364)=1,B364,\"\")","v":""},null,null,null,null,null,null,null,null,null,null,null,null,null,null,null,{"$f":"+IF(Y364=\"\",\"\",MAX(T$1:T363)+1)","v":""},{"$f":"IF(No_CPMS_Limits_Details!B386=\"\",\"\",No_CPMS_Limits_Details!B386)","v":""},{"$f":"IF(No_CPMS_Limits_Details!C386=\"\",\"\",No_CPMS_Limits_Details!C386)","v":""},{"$f":"IF(No_CPMS_Limits_Details!D386=\"\",\"\",No_CPMS_Limits_Details!D386)","v":""},"",{"$f":"IF(COUNTIF(V$2:V364,V364)=1,V364,\"\")","v":""},"","","",null,{"$f":"+IF(AI364=\"\",\"\",MAX(AD$1:AD363)+1)","v":""},{"$f":"IF(Limits_Details_w_CPMS!B386=\"\",\"\",Limits_Details_w_CPMS!B386)","v":""},{"$f":"IF(Limits_Details_w_CPMS!C386=\"\",\"\",Limits_Details_w_CPMS!C386)","v":""},{"$f":"IF(Limits_Details_w_CPMS!D386=\"\",\"\",Limits_Details_w_CPMS!D386)","v":""},"",{"$f":"IF(COUNTIF(AH$2:AH364,AH364)=1,AH364,\"\")","v":""},"","","",null,null,null,{"$f":"+IF(AU364=\"\",\"\",MAX(AP$1:AP363)+1)","v":""},{"$f":"IF(CPMS_Detail!B386=\"\",\"\",CPMS_Detail!B386)","v":""},{"$f":"IF(CPMS_Detail!C386=\"\",\"\",CPMS_Detail!C386)","v":""},{"$f":"IF(CPMS_Detail!D386=\"\",\"\",CPMS_Detail!D386)","v":""},"",{"$f":"IF(COUNTIF(AT$2:AT364,AT364)=1,AT364,\"\")","v":""},"","","",null,{"$f":"+IF(BE364=\"\",\"\",MAX(AZ$1:AZ363)+1)","v":""},{"$f":"IF(Mercury!B386=\"\",\"\",Mercury!B386)","v":""},{"$f":"IF(Mercury!C386=\"\",\"\",Mercury!C386)","v":""},{"$f":"IF(Mercury!D386=\"\",\"\",Mercury!D386)","v":""},"",{"$f":"IF(COUNTIF(BB$2:BB364,BB364)=1,BB364,\"\")","v":""},"","",""]
[{"$f":"+IF(D365=\"\",\"\",MAX(A$1:A364)+1)","v":""},{"$f":"IF(CEM_COM_CPMS_Identification!C387=\"\",\"\",CEM_COM_CPMS_Identification!C387)","v":""},"",{"$f":"IF(COUNTIF(B$2:B365,B365)=1,B365,\"\")","v":""},null,null,null,null,null,null,null,null,null,null,null,null,null,null,null,{"$f":"+IF(Y365=\"\",\"\",MAX(T$1:T364)+1)","v":""},{"$f":"IF(No_CPMS_Limits_Details!B387=\"\",\"\",No_CPMS_Limits_Details!B387)","v":""},{"$f":"IF(No_CPMS_Limits_Details!C387=\"\",\"\",No_CPMS_Limits_Details!C387)","v":""},{"$f":"IF(No_CPMS_Limits_Details!D387=\"\",\"\",No_CPMS_Limits_Details!D387)","v":""},"",{"$f":"IF(COUNTIF(V$2:V365,V365)=1,V365,\"\")","v":""},"","","",null,{"$f":"+IF(AI365=\"\",\"\",MAX(AD$1:AD364)+1)","v":""},{"$f":"IF(Limits_Details_w_CPMS!B387=\"\",\"\",Limits_Details_w_CPMS!B387)","v":""},{"$f":"IF(Limits_Details_w_CPMS!C387=\"\",\"\",Limits_Details_w_CPMS!C387)","v":""},{"$f":"IF(Limits_Details_w_CPMS!D387=\"\",\"\",Limits_Details_w_CPMS!D387)","v":""},"",{"$f":"IF(COUNTIF(AH$2:AH365,AH365)=1,AH365,\"\")","v":""},"","","",null,null,null,{"$f":"+IF(AU365=\"\",\"\",MAX(AP$1:AP364)+1)","v":""},{"$f":"IF(CPMS_Detail!B387=\"\",\"\",CPMS_Detail!B387)","v":""},{"$f":"IF(CPMS_Detail!C387=\"\",\"\",CPMS_Detail!C387)","v":""},{"$f":"IF(CPMS_Detail!D387=\"\",\"\",CPMS_Detail!D387)","v":""},"",{"$f":"IF(COUNTIF(AT$2:AT365,AT365)=1,AT365,\"\")","v":""},"","","",null,{"$f":"+IF(BE365=\"\",\"\",MAX(AZ$1:AZ364)+1)","v":""},{"$f":"IF(Mercury!B387=\"\",\"\",Mercury!B387)","v":""},{"$f":"IF(Mercury!C387=\"\",\"\",Mercury!C387)","v":""},{"$f":"IF(Mercury!D387=\"\",\"\",Mercury!D387)","v":""},"",{"$f":"IF(COUNTIF(BB$2:BB365,BB365)=1,BB365,\"\")","v":""},"","",""]
[{"$f":"+IF(D366=\"\",\"\",MAX(A$1:A365)+1)","v":""},{"$f":"IF(CEM_COM_CPMS_Identification!C388=\"\",\"\",CEM_COM_CPMS_Identification!C388)","v":""},"",{"$f":"IF(COUNTIF(B$2:B366,B366)=1,B366,\"\")","v":""},null,null,null,null,null,null,null,null,null,null,null,null,null,null,null,{"$f":"+IF(Y366=\"\",\"\",MAX(T$1:T365)+1)","v":""},{"$f":"IF(No_CPMS_Limits_Details!B388=\"\",\"\",No_CPMS_Limits_Details!B388)","v":""},{"$f":"IF(No_CPMS_Limits_Details!C388=\"\",\"\",No_CPMS_Limits_Details!C388)","v":""},{"$f":"IF(No_CPMS_Limits_Details!D388=\"\",\"\",No_CPMS_Limits_Details!D388)","v":""},"",{"$f":"IF(COUNTIF(V$2:V366,V366)=1,V366,\"\")","v":""},"","","",null,{"$f":"+IF(AI366=\"\",\"\",MAX(AD$1:AD365)+1)","v":""},{"$f":"IF(Limits_Details_w_CPMS!B388=\"\",\"\",Limits_Details_w_CPMS!B388)","v":""},{"$f":"IF(Limits_Details_w_CPMS!C388=\"\",\"\",Limits_Details_w_CPMS!C388)","v":""},{"$f":"IF(Limits_Details_w_CPMS!D388=\"\",\"\",Limits_Details_w_CPMS!D388)","v":""},"",{"$f":"IF(COUNTIF(AH$2:AH366,AH366)=1,AH366,\"\")","v":""},"","","",null,null,null,{"$f":"+IF(AU366=\"\",\"\",MAX(AP$1:AP365)+1)","v":""},{"$f":"IF(CPMS_Detail!B388=\"\",\"\",CPMS_Detail!B388)","v":""},{"$f":"IF(CPMS_Detail!C388=\"\",\"\",CPMS_Detail!C388)","v":""},{"$f":"IF(CPMS_Detail!D388=\"\",\"\",CPMS_Detail!D388)","v":""},"",{"$f":"IF(COUNTIF(AT$2:AT366,AT366)=1,AT366,\"\")","v":""},"","","",null,{"$f":"+IF(BE366=\"\",\"\",MAX(AZ$1:AZ365)+1)","v":""},{"$f":"IF(Mercury!B388=\"\",\"\",Mercury!B388)","v":""},{"$f":"IF(Mercury!C388=\"\",\"\",Mercury!C388)","v":""},{"$f":"IF(Mercury!D388=\"\",\"\",Mercury!D388)","v":""},"",{"$f":"IF(COUNTIF(BB$2:BB366,BB366)=1,BB366,\"\")","v":""},"","",""]
[{"$f":"+IF(D367=\"\",\"\",MAX(A$1:A366)+1)","v":""},{"$f":"IF(CEM_COM_CPMS_Identification!C389=\"\",\"\",CEM_COM_CPMS_Identification!C389)","v":""},"",{"$f":"IF(COUNTIF(B$2:B367,B367)=1,B367,\"\")","v":""},null,null,null,null,null,null,null,null,null,null,null,null,null,null,null,{"$f":"+IF(Y367=\"\",\"\",MAX(T$1:T366)+1)","v":""},{"$f":"IF(No_CPMS_Limits_Details!B389=\"\",\"\",No_CPMS_Limits_Details!B389)","v":""},{"$f":"IF(No_CPMS_Limits_Details!C389=\"\",\"\",No_CPMS_Limits_Details!C389)","v":""},{"$f":"IF(No_CPMS_Limits_Details!D389=\"\",\"\",No_CPMS_Limits_Details!D389)","v":""},"",{"$f":"IF(COUNTIF(V$2:V367,V367)=1,V367,\"\")","v":""},"","","",null,{"$f":"+IF(AI367=\"\",\"\",MAX(AD$1:AD366)+1)","v":""},{"$f":"IF(Limits_Details_w_CPMS!B389=\"\",\"\",Limits_Details_w_CPMS!B389)","v":""},{"$f":"IF(Limits_Details_w_CPMS!C389=\"\",\"\",Limits_Details_w_CPMS!C389)","v":""},{"$f":"IF(Limits_Details_w_CPMS!D389=\"\",\"\",Limits_Details_w_CPMS!D389)","v":""},"",{"$f":"IF(COUNTIF(AH$2:AH367,AH367)=1,AH367,\"\")","v":""},"","","",null,null,null,{"$f":"+IF(AU367=\"\",\"\",MAX(AP$1:AP366)+1)","v":""},{"$f":"IF(CPMS_Detail!B389=\"\",\"\",CPMS_Detail!B389)","v":""},{"$f":"IF(CPMS_Detail!C389=\"\",\"\",CPMS_Detail!C389)","v":""},{"$f":"IF(CPMS_Detail!D389=\"\",\"\",CPMS_Detail!D389)","v":""},"",{"$f":"IF(COUNTIF(AT$2:AT367,AT367)=1,AT367,\"\")","v":""},"","","",null,{"$f":"+IF(BE367=\"\",\"\",MAX(AZ$1:AZ366)+1)","v":""},{"$f":"IF(Mercury!B389=\"\",\"\",Mercury!B389)","v":""},{"$f":"IF(Mercury!C389=\"\",\"\",Mercury!C389)","v":""},{"$f":"IF(Mercury!D389=\"\",\"\",Mercury!D389)","v":""},"",{"$f":"IF(COUNTIF(BB$2:BB367,BB367)=1,BB367,\"\")","v":""},"","",""]
[{"$f":"+IF(D368=\"\",\"\",MAX(A$1:A367)+1)","v":""},{"$f":"IF(CEM_COM_CPMS_Identification!C390=\"\",\"\",CEM_COM_CPMS_Identification!C390)","v":""},"",{"$f":"IF(COUNTIF(B$2:B368,B368)=1,B368,\"\")","v":""},null,null,null,null,null,null,null,null,null,null,null,null,null,null,null,{"$f":"+IF(Y368=\"\",\"\",MAX(T$1:T367)+1)","v":""},{"$f":"IF(No_CPMS_Limits_Details!B390=\"\",\"\",No_CPMS_Limits_Details!B390)","v":""},{"$f":"IF(No_CPMS_Limits_Details!C390=\"\",\"\",No_CPMS_Limits_Details!C390)","v":""},{"$f":"IF(No_CPMS_Limits_Details!D390=\"\",\"\",No_CPMS_Limits_Details!D390)","v":""},"",{"$f":"IF(COUNTIF(V$2:V368,V368)=1,V368,\"\")","v":""},"","","",null,{"$f":"+IF(AI368=\"\",\"\",MAX(AD$1:AD367)+1)","v":""},{"$f":"IF(Limits_Details_w_CPMS!B390=\"\",\"\",Limits_Details_w_CPMS!B390)","v":""},{"$f":"IF(Limits_Details_w_CPMS!C390=\"\",\"\",Limits_Details_w_CPMS!C390)","v":""},{"$f":"IF(Limits_Details_w_CPMS!D390=\"\",\"\",Limits_Details_w_CPMS!D390)","v":""},"",{"$f":"IF(COUNTIF(AH$2:AH368,AH368)=1,AH368,\"\")","v":""},"","","",null,null,null,{"$f":"+IF(AU368=\"\",\"\",MAX(AP$1:AP367)+1)","v":""},{"$f":"IF(CPMS_Detail!B390=\"\",\"\",CPMS_Detail!B390)","v":""},{"$f":"IF(CPMS_Detail!C390=\"\",\"\",CPMS_Detail!C390)","v":""},{"$f":"IF(CPMS_Detail!D390=\"\",\"\",CPMS_Detail!D390)","v":""},"",{"$f":"IF(COUNTIF(AT$2:AT368,AT368)=1,AT368,\"\")","v":""},"","","",null,{"$f":"+IF(BE368=\"\",\"\",MAX(AZ$1:AZ367)+1)","v":""},{"$f":"IF(Mercury!B390=\"\",\"\",Mercury!B390)","v":""},{"$f":"IF(Mercury!C390=\"\",\"\",Mercury!C390)","v":""},{"$f":"IF(Mercury!D390=\"\",\"\",Mercury!D390)","v":""},"",{"$f":"IF(COUNTIF(BB$2:BB368,BB368)=1,BB368,\"\")","v":""},"","",""]
[{"$f":"+IF(D369=\"\",\"\",MAX(A$1:A368)+1)","v":""},{"$f":"IF(CEM_COM_CPMS_Identification!C391=\"\",\"\",CEM_COM_CPMS_Identification!C391)","v":""},"",{"$f":"IF(COUNTIF(B$2:B369,B369)=1,B369,\"\")","v":""},null,null,null,null,null,null,null,null,null,null,null,null,null,null,null,{"$f":"+IF(Y369=\"\",\"\",MAX(T$1:T368)+1)","v":""},{"$f":"IF(No_CPMS_Limits_Details!B391=\"\",\"\",No_CPMS_Limits_Details!B391)","v":""},{"$f":"IF(No_CPMS_Limits_Details!C391=\"\",\"\",No_CPMS_Limits_Details!C391)","v":""},{"$f":"IF(No_CPMS_Limits_Details!D391=\"\",\"\",No_CPMS_Limits_Details!D391)","v":""},"",{"$f":"IF(COUNTIF(V$2:V369,V369)=1,V369,\"\")","v":""},"","","",null,{"$f":"+IF(AI369=\"\",\"\",MAX(AD$1:AD368)+1)","v":""},{"$f":"IF(Limits_Details_w_CPMS!B391=\"\",\"\",Limits_Details_w_CPMS!B391)","v":""},{"$f":"IF(Limits_Details_w_CPMS!C391=\"\",\"\",Limits_Details_w_CPMS!C391)","v":""},{"$f":"IF(Limits_Details_w_CPMS!D391=\"\",\"\",Limits_Details_w_CPMS!D391)","v":""},"",{"$f":"IF(COUNTIF(AH$2:AH369,AH369)=1,AH369,\"\")","v":""},"","","",null,null,null,{"$f":"+IF(AU369=\"\",\"\",MAX(AP$1:AP368)+1)","v":""},{"$f":"IF(CPMS_Detail!B391=\"\",\"\",CPMS_Detail!B391)","v":""},{"$f":"IF(CPMS_Detail!C391=\"\",\"\",CPMS_Detail!C391)","v":""},{"$f":"IF(CPMS_Detail!D391=\"\",\"\",CPMS_Detail!D391)","v":""},"",{"$f":"IF(COUNTIF(AT$2:AT369,AT369)=1,AT369,\"\")","v":""},"","","",null,{"$f":"+IF(BE369=\"\",\"\",MAX(AZ$1:AZ368)+1)","v":""},{"$f":"IF(Mercury!B391=\"\",\"\",Mercury!B391)","v":""},{"$f":"IF(Mercury!C391=\"\",\"\",Mercury!C391)","v":""},{"$f":"IF(Mercury!D391=\"\",\"\",Mercury!D391)","v":""},"",{"$f":"IF(COUNTIF(BB$2:BB369,BB369)=1,BB369,\"\")","v":""},"","",""]
[{"$f":"+IF(D370=\"\",\"\",MAX(A$1:A369)+1)","v":""},{"$f":"IF(CEM_COM_CPMS_Identification!C392=\"\",\"\",CEM_COM_CPMS_Identification!C392)","v":""},"",{"$f":"IF(COUNTIF(B$2:B370,B370)=1,B370,\"\")","v":""},null,null,null,null,null,null,null,null,null,null,null,null,null,null,null,{"$f":"+IF(Y370=\"\",\"\",MAX(T$1:T369)+1)","v":""},{"$f":"IF(No_CPMS_Limits_Details!B392=\"\",\"\",No_CPMS_Limits_Details!B392)","v":""},{"$f":"IF(No_CPMS_Limits_Details!C392=\"\",\"\",No_CPMS_Limits_Details!C392)","v":""},{"$f":"IF(No_CPMS_Limits_Details!D392=\"\",\"\",No_CPMS_Limits_Details!D392)","v":""},"",{"$f":"IF(COUNTIF(V$2:V370,V370)=1,V370,\"\")","v":""},"","","",null,{"$f":"+IF(AI370=\"\",\"\",MAX(AD$1:AD369)+1)","v":""},{"$f":"IF(Limits_Details_w_CPMS!B392=\"\",\"\",Limits_Details_w_CPMS!B392)","v":""},{"$f":"IF(Limits_Details_w_CPMS!C392=\"\",\"\",Limits_Details_w_CPMS!C392)","v":""},{"$f":"IF(Limits_Details_w_CPMS!D392=\"\",\"\",Limits_Details_w_CPMS!D392)","v":""},"",{"$f":"IF(COUNTIF(AH$2:AH370,AH370)=1,AH370,\"\")","v":""},"","","",null,null,null,{"$f":"+IF(AU370=\"\",\"\",MAX(AP$1:AP369)+1)","v":""},{"$f":"IF(CPMS_Detail!B392=\"\",\"\",CPMS_Detail!B392)","v":""},{"$f":"IF(CPMS_Detail!C392=\"\",\"\",CPMS_Detail!C392)","v":""},{"$f":"IF(CPMS_Detail!D392=\"\",\"\",CPMS_Detail!D392)","v":""},"",{"$f":"IF(COUNTIF(AT$2:AT370,AT370)=1,AT370,\"\")","v":""},"","","",null,{"$f":"+IF(BE370=\"\",\"\",MAX(AZ$1:AZ369)+1)","v":""},{"$f":"IF(Mercury!B392=\"\",\"\",Mercury!B392)","v":""},{"$f":"IF(Mercury!C392=\"\",\"\",Mercury!C392)","v":""},{"$f":"IF(Mercury!D392=\"\",\"\",Mercury!D392)","v":""},"",{"$f":"IF(COUNTIF(BB$2:BB370,BB370)=1,BB370,\"\")","v":""},"","",""]
[{"$f":"+IF(D371=\"\",\"\",MAX(A$1:A370)+1)","v":""},{"$f":"IF(CEM_COM_CPMS_Identification!C393=\"\",\"\",CEM_COM_CPMS_Identification!C393)","v":""},"",{"$f":"IF(COUNTIF(B$2:B371,B371)=1,B371,\"\")","v":""},null,null,null,null,null,null,null,null,null,null,null,null,null,null,null,{"$f":"+IF(Y371=\"\",\"\",MAX(T$1:T370)+1)","v":""},{"$f":"IF(No_CPMS_Limits_Details!B393=\"\",\"\",No_CPMS_Limits_Details!B393)","v":""},{"$f":"IF(No_CPMS_Limits_Details!C393=\"\",\"\",No_CPMS_Limits_Details!C393)","v":""},{"$f":"IF(No_CPMS_Limits_Details!D393=\"\",\"\",No_CPMS_Limits_Details!D393)","v":""},"",{"$f":"IF(COUNTIF(V$2:V371,V371)=1,V371,\"\")","v":""},"","","",null,{"$f":"+IF(AI371=\"\",\"\",MAX(AD$1:AD370)+1)","v":""},{"$f":"IF(Limits_Details_w_CPMS!B393=\"\",\"\",Limits_Details_w_CPMS!B393)","v":""},{"$f":"IF(Limits_Details_w_CPMS!C393=\"\",\"\",Limits_Details_w_CPMS!C393)","v":""},{"$f":"IF(Limits_Details_w_CPMS!D393=\"\",\"\",Limits_Details_w_CPMS!D393)","v":""},"",{"$f":"IF(COUNTIF(AH$2:AH371,AH371)=1,AH371,\"\")","v":""},"","","",null,null,null,{"$f":"+IF(AU371=\"\",\"\",MAX(AP$1:AP370)+1)","v":""},{"$f":"IF(CPMS_Detail!B393=\"\",\"\",CPMS_Detail!B393)","v":""},{"$f":"IF(CPMS_Detail!C393=\"\",\"\",CPMS_Detail!C393)","v":""},{"$f":"IF(CPMS_Detail!D393=\"\",\"\",CPMS_Detail!D393)","v":""},"",{"$f":"IF(COUNTIF(AT$2:AT371,AT371)=1,AT371,\"\")","v":""},"","","",null,{"$f":"+IF(BE371=\"\",\"\",MAX(AZ$1:AZ370)+1)","v":""},{"$f":"IF(Mercury!B393=\"\",\"\",Mercury!B393)","v":""},{"$f":"IF(Mercury!C393=\"\",\"\",Mercury!C393)","v":""},{"$f":"IF(Mercury!D393=\"\",\"\",Mercury!D393)","v":""},"",{"$f":"IF(COUNTIF(BB$2:BB371,BB371)=1,BB371,\"\")","v":""},"","",""]
[{"$f":"+IF(D372=\"\",\"\",MAX(A$1:A371)+1)","v":""},{"$f":"IF(CEM_COM_CPMS_Identification!C394=\"\",\"\",CEM_COM_CPMS_Identification!C394)","v":""},"",{"$f":"IF(COUNTIF(B$2:B372,B372)=1,B372,\"\")","v":""},null,null,null,null,null,null,null,null,null,null,null,null,null,null,null,{"$f":"+IF(Y372=\"\",\"\",MAX(T$1:T371)+1)","v":""},{"$f":"IF(No_CPMS_Limits_Details!B394=\"\",\"\",No_CPMS_Limits_Details!B394)","v":""},{"$f":"IF(No_CPMS_Limits_Details!C394=\"\",\"\",No_CPMS_Limits_Details!C394)","v":""},{"$f":"IF(No_CPMS_Limits_Details!D394=\"\",\"\",No_CPMS_Limits_Details!D394)","v":""},"",{"$f":"IF(COUNTIF(V$2:V372,V372)=1,V372,\"\")","v":""},"","","",null,{"$f":"+IF(AI372=\"\",\"\",MAX(AD$1:AD371)+1)","v":""},{"$f":"IF(Limits_Details_w_CPMS!B394=\"\",\"\",Limits_Details_w_CPMS!B394)","v":""},{"$f":"IF(Limits_Details_w_CPMS!C394=\"\",\"\",Limits_Details_w_CPMS!C394)","v":""},{"$f":"IF(Limits_Details_w_CPMS!D394=\"\",\"\",Limits_Details_w_CPMS!D394)","v":""},"",{"$f":"IF(COUNTIF(AH$2:AH372,AH372)=1,AH372,\"\")","v":""},"","","",null,null,null,{"$f":"+IF(AU372=\"\",\"\",MAX(AP$1:AP371)+1)","v":""},{"$f":"IF(CPMS_Detail!B394=\"\",\"\",CPMS_Detail!B394)","v":""},{"$f":"IF(CPMS_Detail!C394=\"\",\"\",CPMS_Detail!C394)","v":""},{"$f":"IF(CPMS_Detail!D394=\"\",\"\",CPMS_Detail!D394)","v":""},"",{"$f":"IF(COUNTIF(AT$2:AT372,AT372)=1,AT372,\"\")","v":""},"","","",null,{"$f":"+IF(BE372=\"\",\"\",MAX(AZ$1:AZ371)+1)","v":""},{"$f":"IF(Mercury!B394=\"\",\"\",Mercury!B394)","v":""},{"$f":"IF(Mercury!C394=\"\",\"\",Mercury!C394)","v":""},{"$f":"IF(Mercury!D394=\"\",\"\",Mercury!D394)","v":""},"",{"$f":"IF(COUNTIF(BB$2:BB372,BB372)=1,BB372,\"\")","v":""},"","",""]
[{"$f":"+IF(D373=\"\",\"\",MAX(A$1:A372)+1)","v":""},{"$f":"IF(CEM_COM_CPMS_Identification!C395=\"\",\"\",CEM_COM_CPMS_Identification!C395)","v":""},"",{"$f":"IF(COUNTIF(B$2:B373,B373)=1,B373,\"\")","v":""},null,null,null,null,null,null,null,null,null,null,null,null,null,null,null,{"$f":"+IF(Y373=\"\",\"\",MAX(T$1:T372)+1)","v":""},{"$f":"IF(No_CPMS_Limits_Details!B395=\"\",\"\",No_CPMS_Limits_Details!B395)","v":""},{"$f":"IF(No_CPMS_Limits_Details!C395=\"\",\"\",No_CPMS_Limits_Details!C395)","v":""},{"$f":"IF(No_CPMS_Limits_Details!D395=\"\",\"\",No_CPMS_Limits_Details!D395)","v":""},"",{"$f":"IF(COUNTIF(V$2:V373,V373)=1,V373,\"\")","v":""},"","","",null,{"$f":"+IF(AI373=\"\",\"\",MAX(AD$1:AD372)+1)","v":""},{"$f":"IF(Limits_Details_w_CPMS!B395=\"\",\"\",Limits_Details_w_CPMS!B395)","v":""},{"$f":"IF(Limits_Details_w_CPMS!C395=\"\",\"\",Limits_Details_w_CPMS!C395)","v":""},{"$f":"IF(Limits_Details_w_CPMS!D395=\"\",\"\",Limits_Details_w_CPMS!D395)","v":""},"",{"$f":"IF(COUNTIF(AH$2:AH373,AH373)=1,AH373,\"\")","v":""},"","","",null,null,null,{"$f":"+IF(AU373=\"\",\"\",MAX(AP$1:AP372)+1)","v":""},{"$f":"IF(CPMS_Detail!B395=\"\",\"\",CPMS_Detail!B395)","v":""},{"$f":"IF(CPMS_Detail!C395=\"\",\"\",CPMS_Detail!C395)","v":""},{"$f":"IF(CPMS_Detail!D395=\"\",\"\",CPMS_Detail!D395)","v":""},"",{"$f":"IF(COUNTIF(AT$2:AT373,AT373)=1,AT373,\"\")","v":""},"","","",null,{"$f":"+IF(BE373=\"\",\"\",MAX(AZ$1:AZ372)+1)","v":""},{"$f":"IF(Mercury!B395=\"\",\"\",Mercury!B395)","v":""},{"$f":"IF(Mercury!C395=\"\",\"\",Mercury!C395)","v":""},{"$f":"IF(Mercury!D395=\"\",\"\",Mercury!D395)","v":""},"",{"$f":"IF(COUNTIF(BB$2:BB373,BB373)=1,BB373,\"\")","v":""},"","",""]
[{"$f":"+IF(D374=\"\",\"\",MAX(A$1:A373)+1)","v":""},{"$f":"IF(CEM_COM_CPMS_Identification!C396=\"\",\"\",CEM_COM_CPMS_Identification!C396)","v":""},"",{"$f":"IF(COUNTIF(B$2:B374,B374)=1,B374,\"\")","v":""},null,null,null,null,null,null,null,null,null,null,null,null,null,null,null,{"$f":"+IF(Y374=\"\",\"\",MAX(T$1:T373)+1)","v":""},{"$f":"IF(No_CPMS_Limits_Details!B396=\"\",\"\",No_CPMS_Limits_Details!B396)","v":""},{"$f":"IF(No_CPMS_Limits_Details!C396=\"\",\"\",No_CPMS_Limits_Details!C396)","v":""},{"$f":"IF(No_CPMS_Limits_Details!D396=\"\",\"\",No_CPMS_Limits_Details!D396)","v":""},"",{"$f":"IF(COUNTIF(V$2:V374,V374)=1,V374,\"\")","v":""},"","","",null,{"$f":"+IF(AI374=\"\",\"\",MAX(AD$1:AD373)+1)","v":""},{"$f":"IF(Limits_Details_w_CPMS!B396=\"\",\"\",Limits_Details_w_CPMS!B396)","v":""},{"$f":"IF(Limits_Details_w_CPMS!C396=\"\",\"\",Limits_Details_w_CPMS!C396)","v":""},{"$f":"IF(Limits_Details_w_CPMS!D396=\"\",\"\",Limits_Details_w_CPMS!D396)","v":""},"",{"$f":"IF(COUNTIF(AH$2:AH374,AH374)=1,AH374,\"\")","v":""},"","","",null,null,null,{"$f":"+IF(AU374=\"\",\"\",MAX(AP$1:AP373)+1)","v":""},{"$f":"IF(CPMS_Detail!B396=\"\",\"\",CPMS_Detail!B396)","v":""},{"$f":"IF(CPMS_Detail!C396=\"\",\"\",CPMS_Detail!C396)","v":""},{"$f":"IF(CPMS_Detail!D396=\"\",\"\",CPMS_Detail!D396)","v":""},"",{"$f":"IF(COUNTIF(AT$2:AT374,AT374)=1,AT374,\"\")","v":""},"","","",null,{"$f":"+IF(BE374=\"\",\"\",MAX(AZ$1:AZ373)+1)","v":""},{"$f":"IF(Mercury!B396=\"\",\"\",Mercury!B396)","v":""},{"$f":"IF(Mercury!C396=\"\",\"\",Mercury!C396)","v":""},{"$f":"IF(Mercury!D396=\"\",\"\",Mercury!D396)","v":""},"",{"$f":"IF(COUNTIF(BB$2:BB374,BB374)=1,BB374,\"\")","v":""},"","",""]
[{"$f":"+IF(D375=\"\",\"\",MAX(A$1:A374)+1)","v":""},{"$f":"IF(CEM_COM_CPMS_Identification!C397=\"\",\"\",CEM_COM_CPMS_Identification!C397)","v":""},"",{"$f":"IF(COUNTIF(B$2:B375,B375)=1,B375,\"\")","v":""},null,null,null,null,null,null,null,null,null,null,null,null,null,null,null,{"$f":"+IF(Y375=\"\",\"\",MAX(T$1:T374)+1)","v":""},{"$f":"IF(No_CPMS_Limits_Details!B397=\"\",\"\",No_CPMS_Limits_Details!B397)","v":""},{"$f":"IF(No_CPMS_Limits_Details!C397=\"\",\"\",No_CPMS_Limits_Details!C397)","v":""},{"$f":"IF(No_CPMS_Limits_Details!D397=\"\",\"\",No_CPMS_Limits_Details!D397)","v":""},"",{"$f":"IF(COUNTIF(V$2:V375,V375)=1,V375,\"\")","v":""},"","","",null,{"$f":"+IF(AI375=\"\",\"\",MAX(AD$1:AD374)+1)","v":""},{"$f":"IF(Limits_Details_w_CPMS!B397=\"\",\"\",Limits_Details_w_CPMS!B397)","v":""},{"$f":"IF(Limits_Details_w_CPMS!C397=\"\",\"\",Limits_Details_w_CPMS!C397)","v":""},{"$f":"IF(Limits_Details_w_CPMS!D397=\"\",\"\",Limits_Details_w_CPMS!D397)","v":""},"",{"$f":"IF(COUNTIF(AH$2:AH375,AH375)=1,AH375,\"\")","v":""},"","","",null,null,null,{"$f":"+IF(AU375=\"\",\"\",MAX(AP$1:AP374)+1)","v":""},{"$f":"IF(CPMS_Detail!B397=\"\",\"\",CPMS_Detail!B397)","v":""},{"$f":"IF(CPMS_Detail!C397=\"\",\"\",CPMS_Detail!C397)","v":""},{"$f":"IF(CPMS_Detail!D397=\"\",\"\",CPMS_Detail!D397)","v":""},"",{"$f":"IF(COUNTIF(AT$2:AT375,AT375)=1,AT375,\"\")","v":""},"","","",null,{"$f":"+IF(BE375=\"\",\"\",MAX(AZ$1:AZ374)+1)","v":""},{"$f":"IF(Mercury!B397=\"\",\"\",Mercury!B397)","v":""},{"$f":"IF(Mercury!C397=\"\",\"\",Mercury!C397)","v":""},{"$f":"IF(Mercury!D397=\"\",\"\",Mercury!D397)","v":""},"",{"$f":"IF(COUNTIF(BB$2:BB375,BB375)=1,BB375,\"\")","v":""},"","",""]
[{"$f":"+IF(D376=\"\",\"\",MAX(A$1:A375)+1)","v":""},{"$f":"IF(CEM_COM_CPMS_Identification!C398=\"\",\"\",CEM_COM_CPMS_Identification!C398)","v":""},"",{"$f":"IF(COUNTIF(B$2:B376,B376)=1,B376,\"\")","v":""},null,null,null,null,null,null,null,null,null,null,null,null,null,null,null,{"$f":"+IF(Y376=\"\",\"\",MAX(T$1:T375)+1)","v":""},{"$f":"IF(No_CPMS_Limits_Details!B398=\"\",\"\",No_CPMS_Limits_Details!B398)","v":""},{"$f":"IF(No_CPMS_Limits_Details!C398=\"\",\"\",No_CPMS_Limits_Details!C398)","v":""},{"$f":"IF(No_CPMS_Limits_Details!D398=\"\",\"\",No_CPMS_Limits_Details!D398)","v":""},"",{"$f":"IF(COUNTIF(V$2:V376,V376)=1,V376,\"\")","v":""},"","","",null,{"$f":"+IF(AI376=\"\",\"\",MAX(AD$1:AD375)+1)","v":""},{"$f":"IF(Limits_Details_w_CPMS!B398=\"\",\"\",Limits_Details_w_CPMS!B398)","v":""},{"$f":"IF(Limits_Details_w_CPMS!C398=\"\",\"\",Limits_Details_w_CPMS!C398)","v":""},{"$f":"IF(Limits_Details_w_CPMS!D398=\"\",\"\",Limits_Details_w_CPMS!D398)","v":""},"",{"$f":"IF(COUNTIF(AH$2:AH376,AH376)=1,AH376,\"\")","v":""},"","","",null,null,null,{"$f":"+IF(AU376=\"\",\"\",MAX(AP$1:AP375)+1)","v":""},{"$f":"IF(CPMS_Detail!B398=\"\",\"\",CPMS_Detail!B398)","v":""},{"$f":"IF(CPMS_Detail!C398=\"\",\"\",CPMS_Detail!C398)","v":""},{"$f":"IF(CPMS_Detail!D398=\"\",\"\",CPMS_Detail!D398)","v":""},"",{"$f":"IF(COUNTIF(AT$2:AT376,AT376)=1,AT376,\"\")","v":""},"","","",null,{"$f":"+IF(BE376=\"\",\"\",MAX(AZ$1:AZ375)+1)","v":""},{"$f":"IF(Mercury!B398=\"\",\"\",Mercury!B398)","v":""},{"$f":"IF(Mercury!C398=\"\",\"\",Mercury!C398)","v":""},{"$f":"IF(Mercury!D398=\"\",\"\",Mercury!D398)","v":""},"",{"$f":"IF(COUNTIF(BB$2:BB376,BB376)=1,BB376,\"\")","v":""},"","",""]
[{"$f":"+IF(D377=\"\",\"\",MAX(A$1:A376)+1)","v":""},{"$f":"IF(CEM_COM_CPMS_Identification!C399=\"\",\"\",CEM_COM_CPMS_Identification!C399)","v":""},"",{"$f":"IF(COUNTIF(B$2:B377,B377)=1,B377,\"\")","v":""},null,null,null,null,null,null,null,null,null,null,null,null,null,null,null,{"$f":"+IF(Y377=\"\",\"\",MAX(T$1:T376)+1)","v":""},{"$f":"IF(No_CPMS_Limits_Details!B399=\"\",\"\",No_CPMS_Limits_Details!B399)","v":""},{"$f":"IF(No_CPMS_Limits_Details!C399=\"\",\"\",No_CPMS_Limits_Details!C399)","v":""},{"$f":"IF(No_CPMS_Limits_Details!D399=\"\",\"\",No_CPMS_Limits_Details!D399)","v":""},"",{"$f":"IF(COUNTIF(V$2:V377,V377)=1,V377,\"\")","v":""},"","","",null,{"$f":"+IF(AI377=\"\",\"\",MAX(AD$1:AD376)+1)","v":""},{"$f":"IF(Limits_Details_w_CPMS!B399=\"\",\"\",Limits_Details_w_CPMS!B399)","v":""},{"$f":"IF(Limits_Details_w_CPMS!C399=\"\",\"\",Limits_Details_w_CPMS!C399)","v":""},{"$f":"IF(Limits_Details_w_CPMS!D399=\"\",\"\",Limits_Details_w_CPMS!D399)","v":""},"",{"$f":"IF(COUNTIF(AH$2:AH377,AH377)=1,AH377,\"\")","v":""},"","","",null,null,null,{"$f":"+IF(AU377=\"\",\"\",MAX(AP$1:AP376)+1)","v":""},{"$f":"IF(CPMS_Detail!B399=\"\",\"\",CPMS_Detail!B399)","v":""},{"$f":"IF(CPMS_Detail!C399=\"\",\"\",CPMS_Detail!C399)","v":""},{"$f":"IF(CPMS_Detail!D399=\"\",\"\",CPMS_Detail!D399)","v":""},"",{"$f":"IF(COUNTIF(AT$2:AT377,AT377)=1,AT377,\"\")","v":""},"","","",null,{"$f":"+IF(BE377=\"\",\"\",MAX(AZ$1:AZ376)+1)","v":""},{"$f":"IF(Mercury!B399=\"\",\"\",Mercury!B399)","v":""},{"$f":"IF(Mercury!C399=\"\",\"\",Mercury!C399)","v":""},{"$f":"IF(Mercury!D399=\"\",\"\",Mercury!D399)","v":""},"",{"$f":"IF(COUNTIF(BB$2:BB377,BB377)=1,BB377,\"\")","v":""},"","",""]
[{"$f":"+IF(D378=\"\",\"\",MAX(A$1:A377)+1)","v":""},{"$f":"IF(CEM_COM_CPMS_Identification!C400=\"\",\"\",CEM_COM_CPMS_Identification!C400)","v":""},"",{"$f":"IF(COUNTIF(B$2:B378,B378)=1,B378,\"\")","v":""},null,null,null,null,null,null,null,null,null,null,null,null,null,null,null,{"$f":"+IF(Y378=\"\",\"\",MAX(T$1:T377)+1)","v":""},{"$f":"IF(No_CPMS_Limits_Details!B400=\"\",\"\",No_CPMS_Limits_Details!B400)","v":""},{"$f":"IF(No_CPMS_Limits_Details!C400=\"\",\"\",No_CPMS_Limits_Details!C400)","v":""},{"$f":"IF(No_CPMS_Limits_Details!D400=\"\",\"\",No_CPMS_Limits_Details!D400)","v":""},"",{"$f":"IF(COUNTIF(V$2:V378,V378)=1,V378,\"\")","v":""},"","","",null,{"$f":"+IF(AI378=\"\",\"\",MAX(AD$1:AD377)+1)","v":""},{"$f":"IF(Limits_Details_w_CPMS!B400=\"\",\"\",Limits_Details_w_CPMS!B400)","v":""},{"$f":"IF(Limits_Details_w_CPMS!C400=\"\",\"\",Limits_Details_w_CPMS!C400)","v":""},{"$f":"IF(Limits_Details_w_CPMS!D400=\"\",\"\",Limits_Details_w_CPMS!D400)","v":""},"",{"$f":"IF(COUNTIF(AH$2:AH378,AH378)=1,AH378,\"\")","v":""},"","","",null,null,null,{"$f":"+IF(AU378=\"\",\"\",MAX(AP$1:AP377)+1)","v":""},{"$f":"IF(CPMS_Detail!B400=\"\",\"\",CPMS_Detail!B400)","v":""},{"$f":"IF(CPMS_Detail!C400=\"\",\"\",CPMS_Detail!C400)","v":""},{"$f":"IF(CPMS_Detail!D400=\"\",\"\",CPMS_Detail!D400)","v":""},"",{"$f":"IF(COUNTIF(AT$2:AT378,AT378)=1,AT378,\"\")","v":""},"","","",null,{"$f":"+IF(BE378=\"\",\"\",MAX(AZ$1:AZ377)+1)","v":""},{"$f":"IF(Mercury!B400=\"\",\"\",Mercury!B400)","v":""},{"$f":"IF(Mercury!C400=\"\",\"\",Mercury!C400)","v":""},{"$f":"IF(Mercury!D400=\"\",\"\",Mercury!D400)","v":""},"",{"$f":"IF(COUNTIF(BB$2:BB378,BB378)=1,BB378,\"\")","v":""},"","",""]
[{"$f":"+IF(D379=\"\",\"\",MAX(A$1:A378)+1)","v":""},{"$f":"IF(CEM_COM_CPMS_Identification!C401=\"\",\"\",CEM_COM_CPMS_Identification!C401)","v":""},"",{"$f":"IF(COUNTIF(B$2:B379,B379)=1,B379,\"\")","v":""},null,null,null,null,null,null,null,null,null,null,null,null,null,null,null,{"$f":"+IF(Y379=\"\",\"\",MAX(T$1:T378)+1)","v":""},{"$f":"IF(No_CPMS_Limits_Details!B401=\"\",\"\",No_CPMS_Limits_Details!B401)","v":""},{"$f":"IF(No_CPMS_Limits_Details!C401=\"\",\"\",No_CPMS_Limits_Details!C401)","v":""},{"$f":"IF(No_CPMS_Limits_Details!D401=\"\",\"\",No_CPMS_Limits_Details!D401)","v":""},"",{"$f":"IF(COUNTIF(V$2:V379,V379)=1,V379,\"\")","v":""},"","","",null,{"$f":"+IF(AI379=\"\",\"\",MAX(AD$1:AD378)+1)","v":""},{"$f":"IF(Limits_Details_w_CPMS!B401=\"\",\"\",Limits_Details_w_CPMS!B401)","v":""},{"$f":"IF(Limits_Details_w_CPMS!C401=\"\",\"\",Limits_Details_w_CPMS!C401)","v":""},{"$f":"IF(Limits_Details_w_CPMS!D401=\"\",\"\",Limits_Details_w_CPMS!D401)","v":""},"",{"$f":"IF(COUNTIF(AH$2:AH379,AH379)=1,AH379,\"\")","v":""},"","","",null,null,null,{"$f":"+IF(AU379=\"\",\"\",MAX(AP$1:AP378)+1)","v":""},{"$f":"IF(CPMS_Detail!B401=\"\",\"\",CPMS_Detail!B401)","v":""},{"$f":"IF(CPMS_Detail!C401=\"\",\"\",CPMS_Detail!C401)","v":""},{"$f":"IF(CPMS_Detail!D401=\"\",\"\",CPMS_Detail!D401)","v":""},"",{"$f":"IF(COUNTIF(AT$2:AT379,AT379)=1,AT379,\"\")","v":""},"","","",null,{"$f":"+IF(BE379=\"\",\"\",MAX(AZ$1:AZ378)+1)","v":""},{"$f":"IF(Mercury!B401=\"\",\"\",Mercury!B401)","v":""},{"$f":"IF(Mercury!C401=\"\",\"\",Mercury!C401)","v":""},{"$f":"IF(Mercury!D401=\"\",\"\",Mercury!D401)","v":""},"",{"$f":"IF(COUNTIF(BB$2:BB379,BB379)=1,BB379,\"\")","v":""},"","",""]
[{"$f":"+IF(D380=\"\",\"\",MAX(A$1:A379)+1)","v":""},{"$f":"IF(CEM_COM_CPMS_Identification!C402=\"\",\"\",CEM_COM_CPMS_Identification!C402)","v":""},"",{"$f":"IF(COUNTIF(B$2:B380,B380)=1,B380,\"\")","v":""},null,null,null,null,null,null,null,null,null,null,null,null,null,null,null,{"$f":"+IF(Y380=\"\",\"\",MAX(T$1:T379)+1)","v":""},{"$f":"IF(No_CPMS_Limits_Details!B402=\"\",\"\",No_CPMS_Limits_Details!B402)","v":""},{"$f":"IF(No_CPMS_Limits_Details!C402=\"\",\"\",No_CPMS_Limits_Details!C402)","v":""},{"$f":"IF(No_CPMS_Limits_Details!D402=\"\",\"\",No_CPMS_Limits_Details!D402)","v":""},"",{"$f":"IF(COUNTIF(V$2:V380,V380)=1,V380,\"\")","v":""},"","","",null,{"$f":"+IF(AI380=\"\",\"\",MAX(AD$1:AD379)+1)","v":""},{"$f":"IF(Limits_Details_w_CPMS!B402=\"\",\"\",Limits_Details_w_CPMS!B402)","v":""},{"$f":"IF(Limits_Details_w_CPMS!C402=\"\",\"\",Limits_Details_w_CPMS!C402)","v":""},{"$f":"IF(Limits_Details_w_CPMS!D402=\"\",\"\",Limits_Details_w_CPMS!D402)","v":""},"",{"$f":"IF(COUNTIF(AH$2:AH380,AH380)=1,AH380,\"\")","v":""},"","","",null,null,null,{"$f":"+IF(AU380=\"\",\"\",MAX(AP$1:AP379)+1)","v":""},{"$f":"IF(CPMS_Detail!B402=\"\",\"\",CPMS_Detail!B402)","v":""},{"$f":"IF(CPMS_Detail!C402=\"\",\"\",CPMS_Detail!C402)","v":""},{"$f":"IF(CPMS_Detail!D402=\"\",\"\",CPMS_Detail!D402)","v":""},"",{"$f":"IF(COUNTIF(AT$2:AT380,AT380)=1,AT380,\"\")","v":""},"","","",null,{"$f":"+IF(BE380=\"\",\"\",MAX(AZ$1:AZ379)+1)","v":""},{"$f":"IF(Mercury!B402=\"\",\"\",Mercury!B402)","v":""},{"$f":"IF(Mercury!C402=\"\",\"\",Mercury!C402)","v":""},{"$f":"IF(Mercury!D402=\"\",\"\",Mercury!D402)","v":""},"",{"$f":"IF(COUNTIF(BB$2:BB380,BB380)=1,BB380,\"\")","v":""},"","",""]
[{"$f":"+IF(D381=\"\",\"\",MAX(A$1:A380)+1)","v":""},{"$f":"IF(CEM_COM_CPMS_Identification!C403=\"\",\"\",CEM_COM_CPMS_Identification!C403)","v":""},"",{"$f":"IF(COUNTIF(B$2:B381,B381)=1,B381,\"\")","v":""},null,null,null,null,null,null,null,null,null,null,null,null,null,null,null,{"$f":"+IF(Y381=\"\",\"\",MAX(T$1:T380)+1)","v":""},{"$f":"IF(No_CPMS_Limits_Details!B403=\"\",\"\",No_CPMS_Limits_Details!B403)","v":""},{"$f":"IF(No_CPMS_Limits_Details!C403=\"\",\"\",No_CPMS_Limits_Details!C403)","v":""},{"$f":"IF(No_CPMS_Limits_Details!D403=\"\",\"\",No_CPMS_Limits_Details!D403)","v":""},"",{"$f":"IF(COUNTIF(V$2:V381,V381)=1,V381,\"\")","v":""},"","","",null,{"$f":"+IF(AI381=\"\",\"\",MAX(AD$1:AD380)+1)","v":""},{"$f":"IF(Limits_Details_w_CPMS!B403=\"\",\"\",Limits_Details_w_CPMS!B403)","v":""},{"$f":"IF(Limits_Details_w_CPMS!C403=\"\",\"\",Limits_Details_w_CPMS!C403)","v":""},{"$f":"IF(Limits_Details_w_CPMS!D403=\"\",\"\",Limits_Details_w_CPMS!D403)","v":""},"",{"$f":"IF(COUNTIF(AH$2:AH381,AH381)=1,AH381,\"\")","v":""},"","","",null,null,null,{"$f":"+IF(AU381=\"\",\"\",MAX(AP$1:AP380)+1)","v":""},{"$f":"IF(CPMS_Detail!B403=\"\",\"\",CPMS_Detail!B403)","v":""},{"$f":"IF(CPMS_Detail!C403=\"\",\"\",CPMS_Detail!C403)","v":""},{"$f":"IF(CPMS_Detail!D403=\"\",\"\",CPMS_Detail!D403)","v":""},"",{"$f":"IF(COUNTIF(AT$2:AT381,AT381)=1,AT381,\"\")","v":""},"","","",null,{"$f":"+IF(BE381=\"\",\"\",MAX(AZ$1:AZ380)+1)","v":""},{"$f":"IF(Mercury!B403=\"\",\"\",Mercury!B403)","v":""},{"$f":"IF(Mercury!C403=\"\",\"\",Mercury!C403)","v":""},{"$f":"IF(Mercury!D403=\"\",\"\",Mercury!D403)","v":""},"",{"$f":"IF(COUNTIF(BB$2:BB381,BB381)=1,BB381,\"\")","v":""},"","",""]
[{"$f":"+IF(D382=\"\",\"\",MAX(A$1:A381)+1)","v":""},{"$f":"IF(CEM_COM_CPMS_Identification!C404=\"\",\"\",CEM_COM_CPMS_Identification!C404)","v":""},"",{"$f":"IF(COUNTIF(B$2:B382,B382)=1,B382,\"\")","v":""},null,null,null,null,null,null,null,null,null,null,null,null,null,null,null,{"$f":"+IF(Y382=\"\",\"\",MAX(T$1:T381)+1)","v":""},{"$f":"IF(No_CPMS_Limits_Details!B404=\"\",\"\",No_CPMS_Limits_Details!B404)","v":""},{"$f":"IF(No_CPMS_Limits_Details!C404=\"\",\"\",No_CPMS_Limits_Details!C404)","v":""},{"$f":"IF(No_CPMS_Limits_Details!D404=\"\",\"\",No_CPMS_Limits_Details!D404)","v":""},"",{"$f":"IF(COUNTIF(V$2:V382,V382)=1,V382,\"\")","v":""},"","","",null,{"$f":"+IF(AI382=\"\",\"\",MAX(AD$1:AD381)+1)","v":""},{"$f":"IF(Limits_Details_w_CPMS!B404=\"\",\"\",Limits_Details_w_CPMS!B404)","v":""},{"$f":"IF(Limits_Details_w_CPMS!C404=\"\",\"\",Limits_Details_w_CPMS!C404)","v":""},{"$f":"IF(Limits_Details_w_CPMS!D404=\"\",\"\",Limits_Details_w_CPMS!D404)","v":""},"",{"$f":"IF(COUNTIF(AH$2:AH382,AH382)=1,AH382,\"\")","v":""},"","","",null,null,null,{"$f":"+IF(AU382=\"\",\"\",MAX(AP$1:AP381)+1)","v":""},{"$f":"IF(CPMS_Detail!B404=\"\",\"\",CPMS_Detail!B404)","v":""},{"$f":"IF(CPMS_Detail!C404=\"\",\"\",CPMS_Detail!C404)","v":""},{"$f":"IF(CPMS_Detail!D404=\"\",\"\",CPMS_Detail!D404)","v":""},"",{"$f":"IF(COUNTIF(AT$2:AT382,AT382)=1,AT382,\"\")","v":""},"","","",null,{"$f":"+IF(BE382=\"\",\"\",MAX(AZ$1:AZ381)+1)","v":""},{"$f":"IF(Mercury!B404=\"\",\"\",Mercury!B404)","v":""},{"$f":"IF(Mercury!C404=\"\",\"\",Mercury!C404)","v":""},{"$f":"IF(Mercury!D404=\"\",\"\",Mercury!D404)","v":""},"",{"$f":"IF(COUNTIF(BB$2:BB382,BB382)=1,BB382,\"\")","v":""},"","",""]
[{"$f":"+IF(D383=\"\",\"\",MAX(A$1:A382)+1)","v":""},{"$f":"IF(CEM_COM_CPMS_Identification!C405=\"\",\"\",CEM_COM_CPMS_Identification!C405)","v":""},"",{"$f":"IF(COUNTIF(B$2:B383,B383)=1,B383,\"\")","v":""},null,null,null,null,null,null,null,null,null,null,null,null,null,null,null,{"$f":"+IF(Y383=\"\",\"\",MAX(T$1:T382)+1)","v":""},{"$f":"IF(No_CPMS_Limits_Details!B405=\"\",\"\",No_CPMS_Limits_Details!B405)","v":""},{"$f":"IF(No_CPMS_Limits_Details!C405=\"\",\"\",No_CPMS_Limits_Details!C405)","v":""},{"$f":"IF(No_CPMS_Limits_Details!D405=\"\",\"\",No_CPMS_Limits_Details!D405)","v":""},"",{"$f":"IF(COUNTIF(V$2:V383,V383)=1,V383,\"\")","v":""},"","","",null,{"$f":"+IF(AI383=\"\",\"\",MAX(AD$1:AD382)+1)","v":""},{"$f":"IF(Limits_Details_w_CPMS!B405=\"\",\"\",Limits_Details_w_CPMS!B405)","v":""},{"$f":"IF(Limits_Details_w_CPMS!C405=\"\",\"\",Limits_Details_w_CPMS!C405)","v":""},{"$f":"IF(Limits_Details_w_CPMS!D405=\"\",\"\",Limits_Details_w_CPMS!D405)","v":""},"",{"$f":"IF(COUNTIF(AH$2:AH383,AH383)=1,AH383,\"\")","v":""},"","","",null,null,null,{"$f":"+IF(AU383=\"\",\"\",MAX(AP$1:AP382)+1)","v":""},{"$f":"IF(CPMS_Detail!B405=\"\",\"\",CPMS_Detail!B405)","v":""},{"$f":"IF(CPMS_Detail!C405=\"\",\"\",CPMS_Detail!C405)","v":""},{"$f":"IF(CPMS_Detail!D405=\"\",\"\",CPMS_Detail!D405)","v":""},"",{"$f":"IF(COUNTIF(AT$2:AT383,AT383)=1,AT383,\"\")","v":""},"","","",null,{"$f":"+IF(BE383=\"\",\"\",MAX(AZ$1:AZ382)+1)","v":""},{"$f":"IF(Mercury!B405=\"\",\"\",Mercury!B405)","v":""},{"$f":"IF(Mercury!C405=\"\",\"\",Mercury!C405)","v":""},{"$f":"IF(Mercury!D405=\"\",\"\",Mercury!D405)","v":""},"",{"$f":"IF(COUNTIF(BB$2:BB383,BB383)=1,BB383,\"\")","v":""},"","",""]
[{"$f":"+IF(D384=\"\",\"\",MAX(A$1:A383)+1)","v":""},{"$f":"IF(CEM_COM_CPMS_Identification!C406=\"\",\"\",CEM_COM_CPMS_Identification!C406)","v":""},"",{"$f":"IF(COUNTIF(B$2:B384,B384)=1,B384,\"\")","v":""},null,null,null,null,null,null,null,null,null,null,null,null,null,null,null,{"$f":"+IF(Y384=\"\",\"\",MAX(T$1:T383)+1)","v":""},{"$f":"IF(No_CPMS_Limits_Details!B406=\"\",\"\",No_CPMS_Limits_Details!B406)","v":""},{"$f":"IF(No_CPMS_Limits_Details!C406=\"\",\"\",No_CPMS_Limits_Details!C406)","v":""},{"$f":"IF(No_CPMS_Limits_Details!D406=\"\",\"\",No_CPMS_Limits_Details!D406)","v":""},"",{"$f":"IF(COUNTIF(V$2:V384,V384)=1,V384,\"\")","v":""},"","","",null,{"$f":"+IF(AI384=\"\",\"\",MAX(AD$1:AD383)+1)","v":""},{"$f":"IF(Limits_Details_w_CPMS!B406=\"\",\"\",Limits_Details_w_CPMS!B406)","v":""},{"$f":"IF(Limits_Details_w_CPMS!C406=\"\",\"\",Limits_Details_w_CPMS!C406)","v":""},{"$f":"IF(Limits_Details_w_CPMS!D406=\"\",\"\",Limits_Details_w_CPMS!D406)","v":""},"",{"$f":"IF(COUNTIF(AH$2:AH384,AH384)=1,AH384,\"\")","v":""},"","","",null,null,null,{"$f":"+IF(AU384=\"\",\"\",MAX(AP$1:AP383)+1)","v":""},{"$f":"IF(CPMS_Detail!B406=\"\",\"\",CPMS_Detail!B406)","v":""},{"$f":"IF(CPMS_Detail!C406=\"\",\"\",CPMS_Detail!C406)","v":""},{"$f":"IF(CPMS_Detail!D406=\"\",\"\",CPMS_Detail!D406)","v":""},"",{"$f":"IF(COUNTIF(AT$2:AT384,AT384)=1,AT384,\"\")","v":""},"","","",null,{"$f":"+IF(BE384=\"\",\"\",MAX(AZ$1:AZ383)+1)","v":""},{"$f":"IF(Mercury!B406=\"\",\"\",Mercury!B406)","v":""},{"$f":"IF(Mercury!C406=\"\",\"\",Mercury!C406)","v":""},{"$f":"IF(Mercury!D406=\"\",\"\",Mercury!D406)","v":""},"",{"$f":"IF(COUNTIF(BB$2:BB384,BB384)=1,BB384,\"\")","v":""},"","",""]
[{"$f":"+IF(D385=\"\",\"\",MAX(A$1:A384)+1)","v":""},{"$f":"IF(CEM_COM_CPMS_Identification!C407=\"\",\"\",CEM_COM_CPMS_Identification!C407)","v":""},"",{"$f":"IF(COUNTIF(B$2:B385,B385)=1,B385,\"\")","v":""},null,null,null,null,null,null,null,null,null,null,null,null,null,null,null,{"$f":"+IF(Y385=\"\",\"\",MAX(T$1:T384)+1)","v":""},{"$f":"IF(No_CPMS_Limits_Details!B407=\"\",\"\",No_CPMS_Limits_Details!B407)","v":""},{"$f":"IF(No_CPMS_Limits_Details!C407=\"\",\"\",No_CPMS_Limits_Details!C407)","v":""},{"$f":"IF(No_CPMS_Limits_Details!D407=\"\",\"\",No_CPMS_Limits_Details!D407)","v":""},"",{"$f":"IF(COUNTIF(V$2:V385,V385)=1,V385,\"\")","v":""},"","","",null,{"$f":"+IF(AI385=\"\",\"\",MAX(AD$1:AD384)+1)","v":""},{"$f":"IF(Limits_Details_w_CPMS!B407=\"\",\"\",Limits_Details_w_CPMS!B407)","v":""},{"$f":"IF(Limits_Details_w_CPMS!C407=\"\",\"\",Limits_Details_w_CPMS!C407)","v":""},{"$f":"IF(Limits_Details_w_CPMS!D407=\"\",\"\",Limits_Details_w_CPMS!D407)","v":""},"",{"$f":"IF(COUNTIF(AH$2:AH385,AH385)=1,AH385,\"\")","v":""},"","","",null,null,null,{"$f":"+IF(AU385=\"\",\"\",MAX(AP$1:AP384)+1)","v":""},{"$f":"IF(CPMS_Detail!B407=\"\",\"\",CPMS_Detail!B407)","v":""},{"$f":"IF(CPMS_Detail!C407=\"\",\"\",CPMS_Detail!C407)","v":""},{"$f":"IF(CPMS_Detail!D407=\"\",\"\",CPMS_Detail!D407)","v":""},"",{"$f":"IF(COUNTIF(AT$2:AT385,AT385)=1,AT385,\"\")","v":""},"","","",null,{"$f":"+IF(BE385=\"\",\"\",MAX(AZ$1:AZ384)+1)","v":""},{"$f":"IF(Mercury!B407=\"\",\"\",Mercury!B407)","v":""},{"$f":"IF(Mercury!C407=\"\",\"\",Mercury!C407)","v":""},{"$f":"IF(Mercury!D407=\"\",\"\",Mercury!D407)","v":""},"",{"$f":"IF(COUNTIF(BB$2:BB385,BB385)=1,BB385,\"\")","v":""},"","",""]
[{"$f":"+IF(D386=\"\",\"\",MAX(A$1:A385)+1)","v":""},{"$f":"IF(CEM_COM_CPMS_Identification!C408=\"\",\"\",CEM_COM_CPMS_Identification!C408)","v":""},{"$f":"+IFERROR(INDEX(B$2:B$501,MATCH(ROW()-ROW($C$1),A$2:A$501,0)),\"\")","v":""},{"$f":"IF(COUNTIF(B$2:B386,B386)=1,B386,\"\")","v":""},null,null,null,null,null,null,null,null,null,null,null,null,null,null,null,{"$f":"+IF(Y386=\"\",\"\",MAX(T$1:T385)+1)","v":""},{"$f":"IF(No_CPMS_Limits_Details!B408=\"\",\"\",No_CPMS_Limits_Details!B408)","v":""},{"$f":"IF(No_CPMS_Limits_Details!C408=\"\",\"\",No_CPMS_Limits_Details!C408)","v":""},{"$f":"IF(No_CPMS_Limits_Details!D408=\"\",\"\",No_CPMS_Limits_Details!D408)","v":""},{"$f":"U386&V386&W387","v":""},{"$f":"IF(COUNTIF(V$2:V386,V386)=1,V386,\"\")","v":""},{"$f":"+IFERROR(INDEX(U$2:U$955,MATCH(ROW()-ROW(Z$1),T$2:T$955,0)),\"\")","v":""},{"$f":"+IFERROR(INDEX(V$2:V$955,MATCH(ROW()-ROW(Z$1),T$2:T$955,0)),\"\")","v":""},{"$f":"+IFERROR(INDEX(W$2:W$955,MATCH(ROW()-ROW(Z$1),T$2:T$955,0)),\"\")","v":""},null,{"$f":"+IF(AI386=\"\",\"\",MAX(AD$1:AD385)+1)","v":""},{"$f":"IF(Limits_Details_w_CPMS!B408=\"\",\"\",Limits_Details_w_CPMS!B408)","v":""},{"$f":"IF(Limits_Details_w_CPMS!C408=\"\",\"\",Limits_Details_w_CPMS!C408)","v":""},{"$f":"IF(Limits_Details_w_CPMS!D408=\"\",\"\",Limits_Details_w_CPMS!D408)","v":""},"",{"$f":"IF(COUNTIF(AH$2:AH386,AH386)=1,AH386,\"\")","v":""},{"$f":"+IFERROR(INDEX(AE$2:AE$955,MATCH(ROW()-ROW(AJ$1),AD$2:AD$955,0)),\"\")","v":""},{"$f":"+IFERROR(INDEX(AF$2:AF$955,MATCH(ROW()-ROW(AJ$1),AD$2:AD$955,0)),\"\")","v":""},{"$f":"+IFERROR(INDEX(AG$2:AG$955,MATCH(ROW()-ROW(AJ$1),AD$2:AD$955,0)),\"\")","v":""},null,null,null,{"$f":"+IF(AU386=\"\",\"\",MAX(AP$1:AP385)+1)","v":""},{"$f":"IF(CPMS_Detail!B408=\"\",\"\",CPMS_Detail!B408)","v":""},{"$f":"IF(CPMS_Detail!C408=\"\",\"\",CPMS_Detail!C408)","v":""},{"$f":"IF(CPMS_Detail!D408=\"\",\"\",CPMS_Detail!D408)","v":""},"",{"$f":"IF(COUNTIF(AT$2:AT386,AT386)=1,AT386,\"\")","v":""},"","","",null,{"$f":"+IF(BE386=\"\",\"\",MAX(AZ$1:AZ385)+1)","v":""},{"$f":"IF(Mercury!B408=\"\",\"\",Mercury!B408)","v":""},{"$f":"IF(Mercury!C408=\"\",\"\",Mercury!C408)","v":""},{"$f":"IF(Mercury!D408=\"\",\"\",Mercury!D408)","v":""},{"$f":"BA386&BB386&BC387","v":""},{"$f":"IF(COUNTIF(BB$2:BB386,BB386)=1,BB386,\"\")","v":""},{"$f":"+IFERROR(INDEX(BA$2:BA$955,MATCH(ROW()-ROW(BF$1),AZ$2:AZ$955,0)),\"\")","v":""},{"$f":"+IFERROR(INDEX(BB$2:BB$955,MATCH(ROW()-ROW(BF$1),AZ$2:AZ$955,0)),\"\")","v":""},{"$f":"+IFERROR(INDEX(BC$2:BC$955,MATCH(ROW()-ROW(BF$1),AZ$2:AZ$955,0)),\"\")","v":""}]
[{"$f":"+IF(D387=\"\",\"\",MAX(A$1:A386)+1)","v":""},{"$f":"IF(CEM_COM_CPMS_Identification!C409=\"\",\"\",CEM_COM_CPMS_Identification!C409)","v":""},"",{"$f":"IF(COUNTIF(B$2:B387,B387)=1,B387,\"\")","v":""},null,null,null,null,null,null,null,null,null,null,null,null,null,null,null,{"$f":"+IF(Y387=\"\",\"\",MAX(T$1:T386)+1)","v":""},{"$f":"IF(No_CPMS_Limits_Details!B409=\"\",\"\",No_CPMS_Limits_Details!B409)","v":""},{"$f":"IF(No_CPMS_Limits_Details!C409=\"\",\"\",No_CPMS_Limits_Details!C409)","v":""},{"$f":"IF(No_CPMS_Limits_Details!D409=\"\",\"\",No_CPMS_Limits_Details!D409)","v":""},"",{"$f":"IF(COUNTIF(V$2:V387,V387)=1,V387,\"\")","v":""},"","","",null,{"$f":"+IF(AI387=\"\",\"\",MAX(AD$1:AD386)+1)","v":""},{"$f":"IF(Limits_Details_w_CPMS!B409=\"\",\"\",Limits_Details_w_CPMS!B409)","v":""},{"$f":"IF(Limits_Details_w_CPMS!C409=\"\",\"\",Limits_Details_w_CPMS!C409)","v":""},{"$f":"IF(Limits_Details_w_CPMS!D409=\"\",\"\",Limits_Details_w_CPMS!D409)","v":""},{"$f":"AE387&AF387&AG387","v":""},{"$f":"IF(COUNTIF(AH$2:AH387,AH387)=1,AH387,\"\")","v":""},"","","",null,null,null,{"$f":"+IF(AU387=\"\",\"\",MAX(AP$1:AP386)+1)","v":""},{"$f":"IF(CPMS_Detail!B409=\"\",\"\",CPMS_Detail!B409)","v":""},{"$f":"IF(CPMS_Detail!C409=\"\",\"\",CPMS_Detail!C409)","v":""},{"$f":"IF(CPMS_Detail!D409=\"\",\"\",CPMS_Detail!D409)","v":""},{"$f":"AQ387&AR387&AS387","v":""},{"$f":"IF(COUNTIF(AT$2:AT387,AT387)=1,AT387,\"\")","v":""},{"$f":"+IFERROR(INDEX(AQ$2:AQ$955,MATCH(ROW()-ROW(AV$1),AP$2:AP$955,0)),\"\")","v":""},{"$f":"+IFERROR(INDEX(AR$2:AR$955,MATCH(ROW()-ROW(AV$1),AP$2:AP$955,0)),\"\")","v":""},{"$f":"+IFERROR(INDEX(AS$2:AS$955,MATCH(ROW()-ROW(AV$1),AP$2:AP$955,0)),\"\")","v":""},null,{"$f":"+IF(BE387=\"\",\"\",MAX(AZ$1:AZ386)+1)","v":""},{"$f":"IF(Mercury!B409=\"\",\"\",Mercury!B409)","v":""},{"$f":"IF(Mercury!C409=\"\",\"\",Mercury!C409)","v":""},{"$f":"IF(Mercury!D409=\"\",\"\",Mercury!D409)","v":""},"",{"$f":"IF(COUNTIF(BB$2:BB387,BB387)=1,BB387,\"\")","v":""},"","",""]
[{"$f":"+IF(D388=\"\",\"\",MAX(A$1:A387)+1)","v":""},{"$f":"IF(CEM_COM_CPMS_Identification!C410=\"\",\"\",CEM_COM_CPMS_Identification!C410)","v":""},"",{"$f":"IF(COUNTIF(B$2:B388,B388)=1,B388,\"\")","v":""},null,null,null,null,null,null,null,null,null,null,null,null,null,null,null,{"$f":"+IF(Y388=\"\",\"\",MAX(T$1:T387)+1)","v":""},{"$f":"IF(No_CPMS_Limits_Details!B410=\"\",\"\",No_CPMS_Limits_Details!B410)","v":""},{"$f":"IF(No_CPMS_Limits_Details!C410=\"\",\"\",No_CPMS_Limits_Details!C410)","v":""},{"$f":"IF(No_CPMS_Limits_Details!D410=\"\",\"\",No_CPMS_Limits_Details!D410)","v":""},"",{"$f":"IF(COUNTIF(V$2:V388,V388)=1,V388,\"\")","v":""},"","","",null,{"$f":"+IF(AI388=\"\",\"\",MAX(AD$1:AD387)+1)","v":""},{"$f":"IF(Limits_Details_w_CPMS!B410=\"\",\"\",Limits_Details_w_CPMS!B410)","v":""},{"$f":"IF(Limits_Details_w_CPMS!C410=\"\",\"\",Limits_Details_w_CPMS!C410)","v":""},{"$f":"IF(Limits_Details_w_CPMS!D410=\"\",\"\",Limits_Details_w_CPMS!D410)","v":""},"",{"$f":"IF(COUNTIF(AH$2:AH388,AH388)=1,AH388,\"\")","v":""},"","","",null,null,null,{"$f":"+IF(AU388=\"\",\"\",MAX(AP$1:AP387)+1)","v":""},{"$f":"IF(CPMS_Detail!B410=\"\",\"\",CPMS_Detail!B410)","v":""},{"$f":"IF(CPMS_Detail!C410=\"\",\"\",CPMS_Detail!C410)","v":""},{"$f":"IF(CPMS_Detail!D410=\"\",\"\",CPMS_Detail!D410)","v":""},"",{"$f":"IF(COUNTIF(AT$2:AT388,AT388)=1,AT388,\"\")","v":""},"","","",null,{"$f":"+IF(BE388=\"\",\"\",MAX(AZ$1:AZ387)+1)","v":""},{"$f":"IF(Mercury!B410=\"\",\"\",Mercury!B410)","v":""},{"$f":"IF(Mercury!C410=\"\",\"\",Mercury!C410)","v":""},{"$f":"IF(Mercury!D410=\"\",\"\",Mercury!D410)","v":""},"",{"$f":"IF(COUNTIF(BB$2:BB388,BB388)=1,BB388,\"\")","v":""},"","",""]
[{"$f":"+IF(D389=\"\",\"\",MAX(A$1:A388)+1)","v":""},{"$f":"IF(CEM_COM_CPMS_Identification!C411=\"\",\"\",CEM_COM_CPMS_Identification!C411)","v":""},"",{"$f":"IF(COUNTIF(B$2:B389,B389)=1,B389,\"\")","v":""},null,null,null,null,null,null,null,null,null,null,null,null,null,null,null,{"$f":"+IF(Y389=\"\",\"\",MAX(T$1:T388)+1)","v":""},{"$f":"IF(No_CPMS_Limits_Details!B411=\"\",\"\",No_CPMS_Limits_Details!B411)","v":""},{"$f":"IF(No_CPMS_Limits_Details!C411=\"\",\"\",No_CPMS_Limits_Details!C411)","v":""},{"$f":"IF(No_CPMS_Limits_Details!D411=\"\",\"\",No_CPMS_Limits_Details!D411)","v":""},"",{"$f":"IF(COUNTIF(V$2:V389,V389)=1,V389,\"\")","v":""},"","","",null,{"$f":"+IF(AI389=\"\",\"\",MAX(AD$1:AD388)+1)","v":""},{"$f":"IF(Limits_Details_w_CPMS!B411=\"\",\"\",Limits_Details_w_CPMS!B411)","v":""},{"$f":"IF(Limits_Details_w_CPMS!C411=\"\",\"\",Limits_Details_w_CPMS!C411)","v":""},{"$f":"IF(Limits_Details_w_CPMS!D411=\"\",\"\",Limits_Details_w_CPMS!D411)","v":""},"",{"$f":"IF(COUNTIF(AH$2:AH389,AH389)=1,AH389,\"\")","v":""},"","","",null,null,null,{"$f":"+IF(AU389=\"\",\"\",MAX(AP$1:AP388)+1)","v":""},{"$f":"IF(CPMS_Detail!B411=\"\",\"\",CPMS_Detail!B411)","v":""},{"$f":"IF(CPMS_Detail!C411=\"\",\"\",CPMS_Detail!C411)","v":""},{"$f":"IF(CPMS_Detail!D411=\"\",\"\",CPMS_Detail!D411)","v":""},"",{"$f":"IF(COUNTIF(AT$2:AT389,AT389)=1,AT389,\"\")","v":""},"","","",null,{"$f":"+IF(BE389=\"\",\"\",MAX(AZ$1:AZ388)+1)","v":""},{"$f":"IF(Mercury!B411=\"\",\"\",Mercury!B411)","v":""},{"$f":"IF(Mercury!C411=\"\",\"\",Mercury!C411)","v":""},{"$f":"IF(Mercury!D411=\"\",\"\",Mercury!D411)","v":""},"",{"$f":"IF(COUNTIF(BB$2:BB389,BB389)=1,BB389,\"\")","v":""},"","",""]
[{"$f":"+IF(D390=\"\",\"\",MAX(A$1:A389)+1)","v":""},{"$f":"IF(CEM_COM_CPMS_Identification!C412=\"\",\"\",CEM_COM_CPMS_Identification!C412)","v":""},"",{"$f":"IF(COUNTIF(B$2:B390,B390)=1,B390,\"\")","v":""},null,null,null,null,null,null,null,null,null,null,null,null,null,null,null,{"$f":"+IF(Y390=\"\",\"\",MAX(T$1:T389)+1)","v":""},{"$f":"IF(No_CPMS_Limits_Details!B412=\"\",\"\",No_CPMS_Limits_Details!B412)","v":""},{"$f":"IF(No_CPMS_Limits_Details!C412=\"\",\"\",No_CPMS_Limits_Details!C412)","v":""},{"$f":"IF(No_CPMS_Limits_Details!D412=\"\",\"\",No_CPMS_Limits_Details!D412)","v":""},"",{"$f":"IF(COUNTIF(V$2:V390,V390)=1,V390,\"\")","v":""},"","","",null,{"$f":"+IF(AI390=\"\",\"\",MAX(AD$1:AD389)+1)","v":""},{"$f":"IF(Limits_Details_w_CPMS!B412=\"\",\"\",Limits_Details_w_CPMS!B412)","v":""},{"$f":"IF(Limits_Details_w_CPMS!C412=\"\",\"\",Limits_Details_w_CPMS!C412)","v":""},{"$f":"IF(Limits_Details_w_CPMS!D412=\"\",\"\",Limits_Details_w_CPMS!D412)","v":""},"",{"$f":"IF(COUNTIF(AH$2:AH390,AH390)=1,AH390,\"\")","v":""},"","","",null,null,null,{"$f":"+IF(AU390=\"\",\"\",MAX(AP$1:AP389)+1)","v":""},{"$f":"IF(CPMS_Detail!B412=\"\",\"\",CPMS_Detail!B412)","v":""},{"$f":"IF(CPMS_Detail!C412=\"\",\"\",CPMS_Detail!C412)","v":""},{"$f":"IF(CPMS_Detail!D412=\"\",\"\",CPMS_Detail!D412)","v":""},"",{"$f":"IF(COUNTIF(AT$2:AT390,AT390)=1,AT390,\"\")","v":""},"","","",null,{"$f":"+IF(BE390=\"\",\"\",MAX(AZ$1:AZ389)+1)","v":""},{"$f":"IF(Mercury!B412=\"\",\"\",Mercury!B412)","v":""},{"$f":"IF(Mercury!C412=\"\",\"\",Mercury!C412)","v":""},{"$f":"IF(Mercury!D412=\"\",\"\",Mercury!D412)","v":""},"",{"$f":"IF(COUNTIF(BB$2:BB390,BB390)=1,BB390,\"\")","v":""},"","",""]
[{"$f":"+IF(D391=\"\",\"\",MAX(A$1:A390)+1)","v":""},{"$f":"IF(CEM_COM_CPMS_Identification!C413=\"\",\"\",CEM_COM_CPMS_Identification!C413)","v":""},"",{"$f":"IF(COUNTIF(B$2:B391,B391)=1,B391,\"\")","v":""},null,null,null,null,null,null,null,null,null,null,null,null,null,null,null,{"$f":"+IF(Y391=\"\",\"\",MAX(T$1:T390)+1)","v":""},{"$f":"IF(No_CPMS_Limits_Details!B413=\"\",\"\",No_CPMS_Limits_Details!B413)","v":""},{"$f":"IF(No_CPMS_Limits_Details!C413=\"\",\"\",No_CPMS_Limits_Details!C413)","v":""},{"$f":"IF(No_CPMS_Limits_Details!D413=\"\",\"\",No_CPMS_Limits_Details!D413)","v":""},"",{"$f":"IF(COUNTIF(V$2:V391,V391)=1,V391,\"\")","v":""},"","","",null,{"$f":"+IF(AI391=\"\",\"\",MAX(AD$1:AD390)+1)","v":""},{"$f":"IF(Limits_Details_w_CPMS!B413=\"\",\"\",Limits_Details_w_CPMS!B413)","v":""},{"$f":"IF(Limits_Details_w_CPMS!C413=\"\",\"\",Limits_Details_w_CPMS!C413)","v":""},{"$f":"IF(Limits_Details_w_CPMS!D413=\"\",\"\",Limits_Details_w_CPMS!D413)","v":""},"",{"$f":"IF(COUNTIF(AH$2:AH391,AH391)=1,AH391,\"\")","v":""},"","","",null,null,null,{"$f":"+IF(AU391=\"\",\"\",MAX(AP$1:AP390)+1)","v":""},{"$f":"IF(CPMS_Detail!B413=\"\",\"\",CPMS_Detail!B413)","v":""},{"$f":"IF(CPMS_Detail!C413=\"\",\"\",CPMS_Detail!C413)","v":""},{"$f":"IF(CPMS_Detail!D413=\"\",\"\",CPMS_Detail!D413)","v":""},"",{"$f":"IF(COUNTIF(AT$2:AT391,AT391)=1,AT391,\"\")","v":""},"","","",null,{"$f":"+IF(BE391=\"\",\"\",MAX(AZ$1:AZ390)+1)","v":""},{"$f":"IF(Mercury!B413=\"\",\"\",Mercury!B413)","v":""},{"$f":"IF(Mercury!C413=\"\",\"\",Mercury!C413)","v":""},{"$f":"IF(Mercury!D413=\"\",\"\",Mercury!D413)","v":""},"",{"$f":"IF(COUNTIF(BB$2:BB391,BB391)=1,BB391,\"\")","v":""},"","",""]
[{"$f":"+IF(D392=\"\",\"\",MAX(A$1:A391)+1)","v":""},{"$f":"IF(CEM_COM_CPMS_Identification!C414=\"\",\"\",CEM_COM_CPMS_Identification!C414)","v":""},"",{"$f":"IF(COUNTIF(B$2:B392,B392)=1,B392,\"\")","v":""},null,null,null,null,null,null,null,null,null,null,null,null,null,null,null,{"$f":"+IF(Y392=\"\",\"\",MAX(T$1:T391)+1)","v":""},{"$f":"IF(No_CPMS_Limits_Details!B414=\"\",\"\",No_CPMS_Limits_Details!B414)","v":""},{"$f":"IF(No_CPMS_Limits_Details!C414=\"\",\"\",No_CPMS_Limits_Details!C414)","v":""},{"$f":"IF(No_CPMS_Limits_Details!D414=\"\",\"\",No_CPMS_Limits_Details!D414)","v":""},"",{"$f":"IF(COUNTIF(V$2:V392,V392)=1,V392,\"\")","v":""},"","","",null,{"$f":"+IF(AI392=\"\",\"\",MAX(AD$1:AD391)+1)","v":""},{"$f":"IF(Limits_Details_w_CPMS!B414=\"\",\"\",Limits_Details_w_CPMS!B414)","v":""},{"$f":"IF(Limits_Details_w_CPMS!C414=\"\",\"\",Limits_Details_w_CPMS!C414)","v":""},{"$f":"IF(Limits_Details_w_CPMS!D414=\"\",\"\",Limits_Details_w_CPMS!D414)","v":""},"",{"$f":"IF(COUNTIF(AH$2:AH392,AH392)=1,AH392,\"\")","v":""},"","","",null,null,null,{"$f":"+IF(AU392=\"\",\"\",MAX(AP$1:AP391)+1)","v":""},{"$f":"IF(CPMS_Detail!B414=\"\",\"\",CPMS_Detail!B414)","v":""},{"$f":"IF(CPMS_Detail!C414=\"\",\"\",CPMS_Detail!C414)","v":""},{"$f":"IF(CPMS_Detail!D414=\"\",\"\",CPMS_Detail!D414)","v":""},"",{"$f":"IF(COUNTIF(AT$2:AT392,AT392)=1,AT392,\"\")","v":""},"","","",null,{"$f":"+IF(BE392=\"\",\"\",MAX(AZ$1:AZ391)+1)","v":""},{"$f":"IF(Mercury!B414=\"\",\"\",Mercury!B414)","v":""},{"$f":"IF(Mercury!C414=\"\",\"\",Mercury!C414)","v":""},{"$f":"IF(Mercury!D414=\"\",\"\",Mercury!D414)","v":""},"",{"$f":"IF(COUNTIF(BB$2:BB392,BB392)=1,BB392,\"\")","v":""},"","",""]
[{"$f":"+IF(D393=\"\",\"\",MAX(A$1:A392)+1)","v":""},{"$f":"IF(CEM_COM_CPMS_Identification!C415=\"\",\"\",CEM_COM_CPMS_Identification!C415)","v":""},"",{"$f":"IF(COUNTIF(B$2:B393,B393)=1,B393,\"\")","v":""},null,null,null,null,null,null,null,null,null,null,null,null,null,null,null,{"$f":"+IF(Y393=\"\",\"\",MAX(T$1:T392)+1)","v":""},{"$f":"IF(No_CPMS_Limits_Details!B415=\"\",\"\",No_CPMS_Limits_Details!B415)","v":""},{"$f":"IF(No_CPMS_Limits_Details!C415=\"\",\"\",No_CPMS_Limits_Details!C415)","v":""},{"$f":"IF(No_CPMS_Limits_Details!D415=\"\",\"\",No_CPMS_Limits_Details!D415)","v":""},"",{"$f":"IF(COUNTIF(V$2:V393,V393)=1,V393,\"\")","v":""},"","","",null,{"$f":"+IF(AI393=\"\",\"\",MAX(AD$1:AD392)+1)","v":""},{"$f":"IF(Limits_Details_w_CPMS!B415=\"\",\"\",Limits_Details_w_CPMS!B415)","v":""},{"$f":"IF(Limits_Details_w_CPMS!C415=\"\",\"\",Limits_Details_w_CPMS!C415)","v":""},{"$f":"IF(Limits_Details_w_CPMS!D415=\"\",\"\",Limits_Details_w_CPMS!D415)","v":""},"",{"$f":"IF(COUNTIF(AH$2:AH393,AH393)=1,AH393,\"\")","v":""},"","","",null,null,null,{"$f":"+IF(AU393=\"\",\"\",MAX(AP$1:AP392)+1)","v":""},{"$f":"IF(CPMS_Detail!B415=\"\",\"\",CPMS_Detail!B415)","v":""},{"$f":"IF(CPMS_Detail!C415=\"\",\"\",CPMS_Detail!C415)","v":""},{"$f":"IF(CPMS_Detail!D415=\"\",\"\",CPMS_Detail!D415)","v":""},"",{"$f":"IF(COUNTIF(AT$2:AT393,AT393)=1,AT393,\"\")","v":""},"","","",null,{"$f":"+IF(BE393=\"\",\"\",MAX(AZ$1:AZ392)+1)","v":""},{"$f":"IF(Mercury!B415=\"\",\"\",Mercury!B415)","v":""},{"$f":"IF(Mercury!C415=\"\",\"\",Mercury!C415)","v":""},{"$f":"IF(Mercury!D415=\"\",\"\",Mercury!D415)","v":""},"",{"$f":"IF(COUNTIF(BB$2:BB393,BB393)=1,BB393,\"\")","v":""},"","",""]
[{"$f":"+IF(D394=\"\",\"\",MAX(A$1:A393)+1)","v":""},{"$f":"IF(CEM_COM_CPMS_Identification!C416=\"\",\"\",CEM_COM_CPMS_Identification!C416)","v":""},"",{"$f":"IF(COUNTIF(B$2:B394,B394)=1,B394,\"\")","v":""},null,null,null,null,null,null,null,null,null,null,null,null,null,null,null,{"$f":"+IF(Y394=\"\",\"\",MAX(T$1:T393)+1)","v":""},{"$f":"IF(No_CPMS_Limits_Details!B416=\"\",\"\",No_CPMS_Limits_Details!B416)","v":""},{"$f":"IF(No_CPMS_Limits_Details!C416=\"\",\"\",No_CPMS_Limits_Details!C416)","v":""},{"$f":"IF(No_CPMS_Limits_Details!D416=\"\",\"\",No_CPMS_Limits_Details!D416)","v":""},"",{"$f":"IF(COUNTIF(V$2:V394,V394)=1,V394,\"\")","v":""},"","","",null,{"$f":"+IF(AI394=\"\",\"\",MAX(AD$1:AD393)+1)","v":""},{"$f":"IF(Limits_Details_w_CPMS!B416=\"\",\"\",Limits_Details_w_CPMS!B416)","v":""},{"$f":"IF(Limits_Details_w_CPMS!C416=\"\",\"\",Limits_Details_w_CPMS!C416)","v":""},{"$f":"IF(Limits_Details_w_CPMS!D416=\"\",\"\",Limits_Details_w_CPMS!D416)","v":""},"",{"$f":"IF(COUNTIF(AH$2:AH394,AH394)=1,AH394,\"\")","v":""},"","","",null,null,null,{"$f":"+IF(AU394=\"\",\"\",MAX(AP$1:AP393)+1)","v":""},{"$f":"IF(CPMS_Detail!B416=\"\",\"\",CPMS_Detail!B416)","v":""},{"$f":"IF(CPMS_Detail!C416=\"\",\"\",CPMS_Detail!C416)","v":""},{"$f":"IF(CPMS_Detail!D416=\"\",\"\",CPMS_Detail!D416)","v":""},"",{"$f":"IF(COUNTIF(AT$2:AT394,AT394)=1,AT394,\"\")","v":""},"","","",null,{"$f":"+IF(BE394=\"\",\"\",MAX(AZ$1:AZ393)+1)","v":""},{"$f":"IF(Mercury!B416=\"\",\"\",Mercury!B416)","v":""},{"$f":"IF(Mercury!C416=\"\",\"\",Mercury!C416)","v":""},{"$f":"IF(Mercury!D416=\"\",\"\",Mercury!D416)","v":""},"",{"$f":"IF(COUNTIF(BB$2:BB394,BB394)=1,BB394,\"\")","v":""},"","",""]
[{"$f":"+IF(D395=\"\",\"\",MAX(A$1:A394)+1)","v":""},{"$f":"IF(CEM_COM_CPMS_Identification!C417=\"\",\"\",CEM_COM_CPMS_Identification!C417)","v":""},"",{"$f":"IF(COUNTIF(B$2:B395,B395)=1,B395,\"\")","v":""},null,null,null,null,null,null,null,null,null,null,null,null,null,null,null,{"$f":"+IF(Y395=\"\",\"\",MAX(T$1:T394)+1)","v":""},{"$f":"IF(No_CPMS_Limits_Details!B417=\"\",\"\",No_CPMS_Limits_Details!B417)","v":""},{"$f":"IF(No_CPMS_Limits_Details!C417=\"\",\"\",No_CPMS_Limits_Details!C417)","v":""},{"$f":"IF(No_CPMS_Limits_Details!D417=\"\",\"\",No_CPMS_Limits_Details!D417)","v":""},"",{"$f":"IF(COUNTIF(V$2:V395,V395)=1,V395,\"\")","v":""},"","","",null,{"$f":"+IF(AI395=\"\",\"\",MAX(AD$1:AD394)+1)","v":""},{"$f":"IF(Limits_Details_w_CPMS!B417=\"\",\"\",Limits_Details_w_CPMS!B417)","v":""},{"$f":"IF(Limits_Details_w_CPMS!C417=\"\",\"\",Limits_Details_w_CPMS!C417)","v":""},{"$f":"IF(Limits_Details_w_CPMS!D417=\"\",\"\",Limits_Details_w_CPMS!D417)","v":""},"",{"$f":"IF(COUNTIF(AH$2:AH395,AH395)=1,AH395,\"\")","v":""},"","","",null,null,null,{"$f":"+IF(AU395=\"\",\"\",MAX(AP$1:AP394)+1)","v":""},{"$f":"IF(CPMS_Detail!B417=\"\",\"\",CPMS_Detail!B417)","v":""},{"$f":"IF(CPMS_Detail!C417=\"\",\"\",CPMS_Detail!C417)","v":""},{"$f":"IF(CPMS_Detail!D417=\"\",\"\",CPMS_Detail!D417)","v":""},"",{"$f":"IF(COUNTIF(AT$2:AT395,AT395)=1,AT395,\"\")","v":""},"","","",null,{"$f":"+IF(BE395=\"\",\"\",MAX(AZ$1:AZ394)+1)","v":""},{"$f":"IF(Mercury!B417=\"\",\"\",Mercury!B417)","v":""},{"$f":"IF(Mercury!C417=\"\",\"\",Mercury!C417)","v":""},{"$f":"IF(Mercury!D417=\"\",\"\",Mercury!D417)","v":""},"",{"$f":"IF(COUNTIF(BB$2:BB395,BB395)=1,BB395,\"\")","v":""},"","",""]
[{"$f":"+IF(D396=\"\",\"\",MAX(A$1:A395)+1)","v":""},{"$f":"IF(CEM_COM_CPMS_Identification!C418=\"\",\"\",CEM_COM_CPMS_Identification!C418)","v":""},"",{"$f":"IF(COUNTIF(B$2:B396,B396)=1,B396,\"\")","v":""},null,null,null,null,null,null,null,null,null,null,null,null,null,null,null,{"$f":"+IF(Y396=\"\",\"\",MAX(T$1:T395)+1)","v":""},{"$f":"IF(No_CPMS_Limits_Details!B418=\"\",\"\",No_CPMS_Limits_Details!B418)","v":""},{"$f":"IF(No_CPMS_Limits_Details!C418=\"\",\"\",No_CPMS_Limits_Details!C418)","v":""},{"$f":"IF(No_CPMS_Limits_Details!D418=\"\",\"\",No_CPMS_Limits_Details!D418)","v":""},"",{"$f":"IF(COUNTIF(V$2:V396,V396)=1,V396,\"\")","v":""},"","","",null,{"$f":"+IF(AI396=\"\",\"\",MAX(AD$1:AD395)+1)","v":""},{"$f":"IF(Limits_Details_w_CPMS!B418=\"\",\"\",Limits_Details_w_CPMS!B418)","v":""},{"$f":"IF(Limits_Details_w_CPMS!C418=\"\",\"\",Limits_Details_w_CPMS!C418)","v":""},{"$f":"IF(Limits_Details_w_CPMS!D418=\"\",\"\",Limits_Details_w_CPMS!D418)","v":""},"",{"$f":"IF(COUNTIF(AH$2:AH396,AH396)=1,AH396,\"\")","v":""},"","","",null,null,null,{"$f":"+IF(AU396=\"\",\"\",MAX(AP$1:AP395)+1)","v":""},{"$f":"IF(CPMS_Detail!B418=\"\",\"\",CPMS_Detail!B418)","v":""},{"$f":"IF(CPMS_Detail!C418=\"\",\"\",CPMS_Detail!C418)","v":""},{"$f":"IF(CPMS_Detail!D418=\"\",\"\",CPMS_Detail!D418)","v":""},"",{"$f":"IF(COUNTIF(AT$2:AT396,AT396)=1,AT396,\"\")","v":""},"","","",null,{"$f":"+IF(BE396=\"\",\"\",MAX(AZ$1:AZ395)+1)","v":""},{"$f":"IF(Mercury!B418=\"\",\"\",Mercury!B418)","v":""},{"$f":"IF(Mercury!C418=\"\",\"\",Mercury!C418)","v":""},{"$f":"IF(Mercury!D418=\"\",\"\",Mercury!D418)","v":""},"",{"$f":"IF(COUNTIF(BB$2:BB396,BB396)=1,BB396,\"\")","v":""},"","",""]
[{"$f":"+IF(D397=\"\",\"\",MAX(A$1:A396)+1)","v":""},{"$f":"IF(CEM_COM_CPMS_Identification!C419=\"\",\"\",CEM_COM_CPMS_Identification!C419)","v":""},"",{"$f":"IF(COUNTIF(B$2:B397,B397)=1,B397,\"\")","v":""},null,null,null,null,null,null,null,null,null,null,null,null,null,null,null,{"$f":"+IF(Y397=\"\",\"\",MAX(T$1:T396)+1)","v":""},{"$f":"IF(No_CPMS_Limits_Details!B419=\"\",\"\",No_CPMS_Limits_Details!B419)","v":""},{"$f":"IF(No_CPMS_Limits_Details!C419=\"\",\"\",No_CPMS_Limits_Details!C419)","v":""},{"$f":"IF(No_CPMS_Limits_Details!D419=\"\",\"\",No_CPMS_Limits_Details!D419)","v":""},"",{"$f":"IF(COUNTIF(V$2:V397,V397)=1,V397,\"\")","v":""},"","","",null,{"$f":"+IF(AI397=\"\",\"\",MAX(AD$1:AD396)+1)","v":""},{"$f":"IF(Limits_Details_w_CPMS!B419=\"\",\"\",Limits_Details_w_CPMS!B419)","v":""},{"$f":"IF(Limits_Details_w_CPMS!C419=\"\",\"\",Limits_Details_w_CPMS!C419)","v":""},{"$f":"IF(Limits_Details_w_CPMS!D419=\"\",\"\",Limits_Details_w_CPMS!D419)","v":""},"",{"$f":"IF(COUNTIF(AH$2:AH397,AH397)=1,AH397,\"\")","v":""},"","","",null,null,null,{"$f":"+IF(AU397=\"\",\"\",MAX(AP$1:AP396)+1)","v":""},{"$f":"IF(CPMS_Detail!B419=\"\",\"\",CPMS_Detail!B419)","v":""},{"$f":"IF(CPMS_Detail!C419=\"\",\"\",CPMS_Detail!C419)","v":""},{"$f":"IF(CPMS_Detail!D419=\"\",\"\",CPMS_Detail!D419)","v":""},"",{"$f":"IF(COUNTIF(AT$2:AT397,AT397)=1,AT397,\"\")","v":""},"","","",null,{"$f":"+IF(BE397=\"\",\"\",MAX(AZ$1:AZ396)+1)","v":""},{"$f":"IF(Mercury!B419=\"\",\"\",Mercury!B419)","v":""},{"$f":"IF(Mercury!C419=\"\",\"\",Mercury!C419)","v":""},{"$f":"IF(Mercury!D419=\"\",\"\",Mercury!D419)","v":""},"",{"$f":"IF(COUNTIF(BB$2:BB397,BB397)=1,BB397,\"\")","v":""},"","",""]
[{"$f":"+IF(D398=\"\",\"\",MAX(A$1:A397)+1)","v":""},{"$f":"IF(CEM_COM_CPMS_Identification!C420=\"\",\"\",CEM_COM_CPMS_Identification!C420)","v":""},"",{"$f":"IF(COUNTIF(B$2:B398,B398)=1,B398,\"\")","v":""},null,null,null,null,null,null,null,null,null,null,null,null,null,null,null,{"$f":"+IF(Y398=\"\",\"\",MAX(T$1:T397)+1)","v":""},{"$f":"IF(No_CPMS_Limits_Details!B420=\"\",\"\",No_CPMS_Limits_Details!B420)","v":""},{"$f":"IF(No_CPMS_Limits_Details!C420=\"\",\"\",No_CPMS_Limits_Details!C420)","v":""},{"$f":"IF(No_CPMS_Limits_Details!D420=\"\",\"\",No_CPMS_Limits_Details!D420)","v":""},"",{"$f":"IF(COUNTIF(V$2:V398,V398)=1,V398,\"\")","v":""},"","","",null,{"$f":"+IF(AI398=\"\",\"\",MAX(AD$1:AD397)+1)","v":""},{"$f":"IF(Limits_Details_w_CPMS!B420=\"\",\"\",Limits_Details_w_CPMS!B420)","v":""},{"$f":"IF(Limits_Details_w_CPMS!C420=\"\",\"\",Limits_Details_w_CPMS!C420)","v":""},{"$f":"IF(Limits_Details_w_CPMS!D420=\"\",\"\",Limits_Details_w_CPMS!D420)","v":""},"",{"$f":"IF(COUNTIF(AH$2:AH398,AH398)=1,AH398,\"\")","v":""},"","","",null,null,null,{"$f":"+IF(AU398=\"\",\"\",MAX(AP$1:AP397)+1)","v":""},{"$f":"IF(CPMS_Detail!B420=\"\",\"\",CPMS_Detail!B420)","v":""},{"$f":"IF(CPMS_Detail!C420=\"\",\"\",CPMS_Detail!C420)","v":""},{"$f":"IF(CPMS_Detail!D420=\"\",\"\",CPMS_Detail!D420)","v":""},"",{"$f":"IF(COUNTIF(AT$2:AT398,AT398)=1,AT398,\"\")","v":""},"","","",null,{"$f":"+IF(BE398=\"\",\"\",MAX(AZ$1:AZ397)+1)","v":""},{"$f":"IF(Mercury!B420=\"\",\"\",Mercury!B420)","v":""},{"$f":"IF(Mercury!C420=\"\",\"\",Mercury!C420)","v":""},{"$f":"IF(Mercury!D420=\"\",\"\",Mercury!D420)","v":""},"",{"$f":"IF(COUNTIF(BB$2:BB398,BB398)=1,BB398,\"\")","v":""},"","",""]
[{"$f":"+IF(D399=\"\",\"\",MAX(A$1:A398)+1)","v":""},{"$f":"IF(CEM_COM_CPMS_Identification!C421=\"\",\"\",CEM_COM_CPMS_Identification!C421)","v":""},"",{"$f":"IF(COUNTIF(B$2:B399,B399)=1,B399,\"\")","v":""},null,null,null,null,null,null,null,null,null,null,null,null,null,null,null,{"$f":"+IF(Y399=\"\",\"\",MAX(T$1:T398)+1)","v":""},{"$f":"IF(No_CPMS_Limits_Details!B421=\"\",\"\",No_CPMS_Limits_Details!B421)","v":""},{"$f":"IF(No_CPMS_Limits_Details!C421=\"\",\"\",No_CPMS_Limits_Details!C421)","v":""},{"$f":"IF(No_CPMS_Limits_Details!D421=\"\",\"\",No_CPMS_Limits_Details!D421)","v":""},"",{"$f":"IF(COUNTIF(V$2:V399,V399)=1,V399,\"\")","v":""},"","","",null,{"$f":"+IF(AI399=\"\",\"\",MAX(AD$1:AD398)+1)","v":""},{"$f":"IF(Limits_Details_w_CPMS!B421=\"\",\"\",Limits_Details_w_CPMS!B421)","v":""},{"$f":"IF(Limits_Details_w_CPMS!C421=\"\",\"\",Limits_Details_w_CPMS!C421)","v":""},{"$f":"IF(Limits_Details_w_CPMS!D421=\"\",\"\",Limits_Details_w_CPMS!D421)","v":""},"",{"$f":"IF(COUNTIF(AH$2:AH399,AH399)=1,AH399,\"\")","v":""},"","","",null,null,null,{"$f":"+IF(AU399=\"\",\"\",MAX(AP$1:AP398)+1)","v":""},{"$f":"IF(CPMS_Detail!B421=\"\",\"\",CPMS_Detail!B421)","v":""},{"$f":"IF(CPMS_Detail!C421=\"\",\"\",CPMS_Detail!C421)","v":""},{"$f":"IF(CPMS_Detail!D421=\"\",\"\",CPMS_Detail!D421)","v":""},"",{"$f":"IF(COUNTIF(AT$2:AT399,AT399)=1,AT399,\"\")","v":""},"","","",null,{"$f":"+IF(BE399=\"\",\"\",MAX(AZ$1:AZ398)+1)","v":""},{"$f":"IF(Mercury!B421=\"\",\"\",Mercury!B421)","v":""},{"$f":"IF(Mercury!C421=\"\",\"\",Mercury!C421)","v":""},{"$f":"IF(Mercury!D421=\"\",\"\",Mercury!D421)","v":""},"",{"$f":"IF(COUNTIF(BB$2:BB399,BB399)=1,BB399,\"\")","v":""},"","",""]
[{"$f":"+IF(D400=\"\",\"\",MAX(A$1:A399)+1)","v":""},{"$f":"IF(CEM_COM_CPMS_Identification!C422=\"\",\"\",CEM_COM_CPMS_Identification!C422)","v":""},"",{"$f":"IF(COUNTIF(B$2:B400,B400)=1,B400,\"\")","v":""},null,null,null,null,null,null,null,null,null,null,null,null,null,null,null,{"$f":"+IF(Y400=\"\",\"\",MAX(T$1:T399)+1)","v":""},{"$f":"IF(No_CPMS_Limits_Details!B422=\"\",\"\",No_CPMS_Limits_Details!B422)","v":""},{"$f":"IF(No_CPMS_Limits_Details!C422=\"\",\"\",No_CPMS_Limits_Details!C422)","v":""},{"$f":"IF(No_CPMS_Limits_Details!D422=\"\",\"\",No_CPMS_Limits_Details!D422)","v":""},"",{"$f":"IF(COUNTIF(V$2:V400,V400)=1,V400,\"\")","v":""},"","","",null,{"$f":"+IF(AI400=\"\",\"\",MAX(AD$1:AD399)+1)","v":""},{"$f":"IF(Limits_Details_w_CPMS!B422=\"\",\"\",Limits_Details_w_CPMS!B422)","v":""},{"$f":"IF(Limits_Details_w_CPMS!C422=\"\",\"\",Limits_Details_w_CPMS!C422)","v":""},{"$f":"IF(Limits_Details_w_CPMS!D422=\"\",\"\",Limits_Details_w_CPMS!D422)","v":""},"",{"$f":"IF(COUNTIF(AH$2:AH400,AH400)=1,AH400,\"\")","v":""},"","","",null,null,null,{"$f":"+IF(AU400=\"\",\"\",MAX(AP$1:AP399)+1)","v":""},{"$f":"IF(CPMS_Detail!B422=\"\",\"\",CPMS_Detail!B422)","v":""},{"$f":"IF(CPMS_Detail!C422=\"\",\"\",CPMS_Detail!C422)","v":""},{"$f":"IF(CPMS_Detail!D422=\"\",\"\",CPMS_Detail!D422)","v":""},"",{"$f":"IF(COUNTIF(AT$2:AT400,AT400)=1,AT400,\"\")","v":""},"","","",null,{"$f":"+IF(BE400=\"\",\"\",MAX(AZ$1:AZ399)+1)","v":""},{"$f":"IF(Mercury!B422=\"\",\"\",Mercury!B422)","v":""},{"$f":"IF(Mercury!C422=\"\",\"\",Mercury!C422)","v":""},{"$f":"IF(Mercury!D422=\"\",\"\",Mercury!D422)","v":""},"",{"$f":"IF(COUNTIF(BB$2:BB400,BB400)=1,BB400,\"\")","v":""},"","",""]
[{"$f":"+IF(D401=\"\",\"\",MAX(A$1:A400)+1)","v":""},{"$f":"IF(CEM_COM_CPMS_Identification!C423=\"\",\"\",CEM_COM_CPMS_Identification!C423)","v":""},"",{"$f":"IF(COUNTIF(B$2:B401,B401)=1,B401,\"\")","v":""},null,null,null,null,null,null,null,null,null,null,null,null,null,null,null,{"$f":"+IF(Y401=\"\",\"\",MAX(T$1:T400)+1)","v":""},{"$f":"IF(No_CPMS_Limits_Details!B423=\"\",\"\",No_CPMS_Limits_Details!B423)","v":""},{"$f":"IF(No_CPMS_Limits_Details!C423=\"\",\"\",No_CPMS_Limits_Details!C423)","v":""},{"$f":"IF(No_CPMS_Limits_Details!D423=\"\",\"\",No_CPMS_Limits_Details!D423)","v":""},"",{"$f":"IF(COUNTIF(V$2:V401,V401)=1,V401,\"\")","v":""},"","","",null,{"$f":"+IF(AI401=\"\",\"\",MAX(AD$1:AD400)+1)","v":""},{"$f":"IF(Limits_Details_w_CPMS!B423=\"\",\"\",Limits_Details_w_CPMS!B423)","v":""},{"$f":"IF(Limits_Details_w_CPMS!C423=\"\",\"\",Limits_Details_w_CPMS!C423)","v":""},{"$f":"IF(Limits_Details_w_CPMS!D423=\"\",\"\",Limits_Details_w_CPMS!D423)","v":""},"",{"$f":"IF(COUNTIF(AH$2:AH401,AH401)=1,AH401,\"\")","v":""},"","","",null,null,null,{"$f":"+IF(AU401=\"\",\"\",MAX(AP$1:AP400)+1)","v":""},{"$f":"IF(CPMS_Detail!B423=\"\",\"\",CPMS_Detail!B423)","v":""},{"$f":"IF(CPMS_Detail!C423=\"\",\"\",CPMS_Detail!C423)","v":""},{"$f":"IF(CPMS_Detail!D423=\"\",\"\",CPMS_Detail!D423)","v":""},"",{"$f":"IF(COUNTIF(AT$2:AT401,AT401)=1,AT401,\"\")","v":""},"","","",null,{"$f":"+IF(BE401=\"\",\"\",MAX(AZ$1:AZ400)+1)","v":""},{"$f":"IF(Mercury!B423=\"\",\"\",Mercury!B423)","v":""},{"$f":"IF(Mercury!C423=\"\",\"\",Mercury!C423)","v":""},{"$f":"IF(Mercury!D423=\"\",\"\",Mercury!D423)","v":""},"",{"$f":"IF(COUNTIF(BB$2:BB401,BB401)=1,BB401,\"\")","v":""},"","",""]
[{"$f":"+IF(D402=\"\",\"\",MAX(A$1:A401)+1)","v":""},{"$f":"IF(CEM_COM_CPMS_Identification!C424=\"\",\"\",CEM_COM_CPMS_Identification!C424)","v":""},"",{"$f":"IF(COUNTIF(B$2:B402,B402)=1,B402,\"\")","v":""},null,null,null,null,null,null,null,null,null,null,null,null,null,null,null,{"$f":"+IF(Y402=\"\",\"\",MAX(T$1:T401)+1)","v":""},{"$f":"IF(No_CPMS_Limits_Details!B424=\"\",\"\",No_CPMS_Limits_Details!B424)","v":""},{"$f":"IF(No_CPMS_Limits_Details!C424=\"\",\"\",No_CPMS_Limits_Details!C424)","v":""},{"$f":"IF(No_CPMS_Limits_Details!D424=\"\",\"\",No_CPMS_Limits_Details!D424)","v":""},"",{"$f":"IF(COUNTIF(V$2:V402,V402)=1,V402,\"\")","v":""},"","","",null,{"$f":"+IF(AI402=\"\",\"\",MAX(AD$1:AD401)+1)","v":""},{"$f":"IF(Limits_Details_w_CPMS!B424=\"\",\"\",Limits_Details_w_CPMS!B424)","v":""},{"$f":"IF(Limits_Details_w_CPMS!C424=\"\",\"\",Limits_Details_w_CPMS!C424)","v":""},{"$f":"IF(Limits_Details_w_CPMS!D424=\"\",\"\",Limits_Details_w_CPMS!D424)","v":""},"",{"$f":"IF(COUNTIF(AH$2:AH402,AH402)=1,AH402,\"\")","v":""},"","","",null,null,null,{"$f":"+IF(AU402=\"\",\"\",MAX(AP$1:AP401)+1)","v":""},{"$f":"IF(CPMS_Detail!B424=\"\",\"\",CPMS_Detail!B424)","v":""},{"$f":"IF(CPMS_Detail!C424=\"\",\"\",CPMS_Detail!C424)","v":""},{"$f":"IF(CPMS_Detail!D424=\"\",\"\",CPMS_Detail!D424)","v":""},"",{"$f":"IF(COUNTIF(AT$2:AT402,AT402)=1,AT402,\"\")","v":""},"","","",null,{"$f":"+IF(BE402=\"\",\"\",MAX(AZ$1:AZ401)+1)","v":""},{"$f":"IF(Mercury!B424=\"\",\"\",Mercury!B424)","v":""},{"$f":"IF(Mercury!C424=\"\",\"\",Mercury!C424)","v":""},{"$f":"IF(Mercury!D424=\"\",\"\",Mercury!D424)","v":""},"",{"$f":"IF(COUNTIF(BB$2:BB402,BB402)=1,BB402,\"\")","v":""},"","",""]
[{"$f":"+IF(D403=\"\",\"\",MAX(A$1:A402)+1)","v":""},{"$f":"IF(CEM_COM_CPMS_Identification!C425=\"\",\"\",CEM_COM_CPMS_Identification!C425)","v":""},"",{"$f":"IF(COUNTIF(B$2:B403,B403)=1,B403,\"\")","v":""},null,null,null,null,null,null,null,null,null,null,null,null,null,null,null,{"$f":"+IF(Y403=\"\",\"\",MAX(T$1:T402)+1)","v":""},{"$f":"IF(No_CPMS_Limits_Details!B425=\"\",\"\",No_CPMS_Limits_Details!B425)","v":""},{"$f":"IF(No_CPMS_Limits_Details!C425=\"\",\"\",No_CPMS_Limits_Details!C425)","v":""},{"$f":"IF(No_CPMS_Limits_Details!D425=\"\",\"\",No_CPMS_Limits_Details!D425)","v":""},"",{"$f":"IF(COUNTIF(V$2:V403,V403)=1,V403,\"\")","v":""},"","","",null,{"$f":"+IF(AI403=\"\",\"\",MAX(AD$1:AD402)+1)","v":""},{"$f":"IF(Limits_Details_w_CPMS!B425=\"\",\"\",Limits_Details_w_CPMS!B425)","v":""},{"$f":"IF(Limits_Details_w_CPMS!C425=\"\",\"\",Limits_Details_w_CPMS!C425)","v":""},{"$f":"IF(Limits_Details_w_CPMS!D425=\"\",\"\",Limits_Details_w_CPMS!D425)","v":""},"",{"$f":"IF(COUNTIF(AH$2:AH403,AH403)=1,AH403,\"\")","v":""},"","","",null,null,null,{"$f":"+IF(AU403=\"\",\"\",MAX(AP$1:AP402)+1)","v":""},{"$f":"IF(CPMS_Detail!B425=\"\",\"\",CPMS_Detail!B425)","v":""},{"$f":"IF(CPMS_Detail!C425=\"\",\"\",CPMS_Detail!C425)","v":""},{"$f":"IF(CPMS_Detail!D425=\"\",\"\",CPMS_Detail!D425)","v":""},"",{"$f":"IF(COUNTIF(AT$2:AT403,AT403)=1,AT403,\"\")","v":""},"","","",null,{"$f":"+IF(BE403=\"\",\"\",MAX(AZ$1:AZ402)+1)","v":""},{"$f":"IF(Mercury!B425=\"\",\"\",Mercury!B425)","v":""},{"$f":"IF(Mercury!C425=\"\",\"\",Mercury!C425)","v":""},{"$f":"IF(Mercury!D425=\"\",\"\",Mercury!D425)","v":""},"",{"$f":"IF(COUNTIF(BB$2:BB403,BB403)=1,BB403,\"\")","v":""},"","",""]
[{"$f":"+IF(D404=\"\",\"\",MAX(A$1:A403)+1)","v":""},{"$f":"IF(CEM_COM_CPMS_Identification!C426=\"\",\"\",CEM_COM_CPMS_Identification!C426)","v":""},"",{"$f":"IF(COUNTIF(B$2:B404,B404)=1,B404,\"\")","v":""},null,null,null,null,null,null,null,null,null,null,null,null,null,null,null,{"$f":"+IF(Y404=\"\",\"\",MAX(T$1:T403)+1)","v":""},{"$f":"IF(No_CPMS_Limits_Details!B426=\"\",\"\",No_CPMS_Limits_Details!B426)","v":""},{"$f":"IF(No_CPMS_Limits_Details!C426=\"\",\"\",No_CPMS_Limits_Details!C426)","v":""},{"$f":"IF(No_CPMS_Limits_Details!D426=\"\",\"\",No_CPMS_Limits_Details!D426)","v":""},"",{"$f":"IF(COUNTIF(V$2:V404,V404)=1,V404,\"\")","v":""},"","","",null,{"$f":"+IF(AI404=\"\",\"\",MAX(AD$1:AD403)+1)","v":""},{"$f":"IF(Limits_Details_w_CPMS!B426=\"\",\"\",Limits_Details_w_CPMS!B426)","v":""},{"$f":"IF(Limits_Details_w_CPMS!C426=\"\",\"\",Limits_Details_w_CPMS!C426)","v":""},{"$f":"IF(Limits_Details_w_CPMS!D426=\"\",\"\",Limits_Details_w_CPMS!D426)","v":""},"",{"$f":"IF(COUNTIF(AH$2:AH404,AH404)=1,AH404,\"\")","v":""},"","","",null,null,null,{"$f":"+IF(AU404=\"\",\"\",MAX(AP$1:AP403)+1)","v":""},{"$f":"IF(CPMS_Detail!B426=\"\",\"\",CPMS_Detail!B426)","v":""},{"$f":"IF(CPMS_Detail!C426=\"\",\"\",CPMS_Detail!C426)","v":""},{"$f":"IF(CPMS_Detail!D426=\"\",\"\",CPMS_Detail!D426)","v":""},"",{"$f":"IF(COUNTIF(AT$2:AT404,AT404)=1,AT404,\"\")","v":""},"","","",null,{"$f":"+IF(BE404=\"\",\"\",MAX(AZ$1:AZ403)+1)","v":""},{"$f":"IF(Mercury!B426=\"\",\"\",Mercury!B426)","v":""},{"$f":"IF(Mercury!C426=\"\",\"\",Mercury!C426)","v":""},{"$f":"IF(Mercury!D426=\"\",\"\",Mercury!D426)","v":""},"",{"$f":"IF(COUNTIF(BB$2:BB404,BB404)=1,BB404,\"\")","v":""},"","",""]
[{"$f":"+IF(D405=\"\",\"\",MAX(A$1:A404)+1)","v":""},{"$f":"IF(CEM_COM_CPMS_Identification!C427=\"\",\"\",CEM_COM_CPMS_Identification!C427)","v":""},"",{"$f":"IF(COUNTIF(B$2:B405,B405)=1,B405,\"\")","v":""},null,null,null,null,null,null,null,null,null,null,null,null,null,null,null,{"$f":"+IF(Y405=\"\",\"\",MAX(T$1:T404)+1)","v":""},{"$f":"IF(No_CPMS_Limits_Details!B427=\"\",\"\",No_CPMS_Limits_Details!B427)","v":""},{"$f":"IF(No_CPMS_Limits_Details!C427=\"\",\"\",No_CPMS_Limits_Details!C427)","v":""},{"$f":"IF(No_CPMS_Limits_Details!D427=\"\",\"\",No_CPMS_Limits_Details!D427)","v":""},"",{"$f":"IF(COUNTIF(V$2:V405,V405)=1,V405,\"\")","v":""},"","","",null,{"$f":"+IF(AI405=\"\",\"\",MAX(AD$1:AD404)+1)","v":""},{"$f":"IF(Limits_Details_w_CPMS!B427=\"\",\"\",Limits_Details_w_CPMS!B427)","v":""},{"$f":"IF(Limits_Details_w_CPMS!C427=\"\",\"\",Limits_Details_w_CPMS!C427)","v":""},{"$f":"IF(Limits_Details_w_CPMS!D427=\"\",\"\",Limits_Details_w_CPMS!D427)","v":""},"",{"$f":"IF(COUNTIF(AH$2:AH405,AH405)=1,AH405,\"\")","v":""},"","","",null,null,null,{"$f":"+IF(AU405=\"\",\"\",MAX(AP$1:AP404)+1)","v":""},{"$f":"IF(CPMS_Detail!B427=\"\",\"\",CPMS_Detail!B427)","v":""},{"$f":"IF(CPMS_Detail!C427=\"\",\"\",CPMS_Detail!C427)","v":""},{"$f":"IF(CPMS_Detail!D427=\"\",\"\",CPMS_Detail!D427)","v":""},"",{"$f":"IF(COUNTIF(AT$2:AT405,AT405)=1,AT405,\"\")","v":""},"","","",null,{"$f":"+IF(BE405=\"\",\"\",MAX(AZ$1:AZ404)+1)","v":""},{"$f":"IF(Mercury!B427=\"\",\"\",Mercury!B427)","v":""},{"$f":"IF(Mercury!C427=\"\",\"\",Mercury!C427)","v":""},{"$f":"IF(Mercury!D427=\"\",\"\",Mercury!D427)","v":""},"",{"$f":"IF(COUNTIF(BB$2:BB405,BB405)=1,BB405,\"\")","v":""},"","",""]
[{"$f":"+IF(D406=\"\",\"\",MAX(A$1:A405)+1)","v":""},{"$f":"IF(CEM_COM_CPMS_Identification!C428=\"\",\"\",CEM_COM_CPMS_Identification!C428)","v":""},"",{"$f":"IF(COUNTIF(B$2:B406,B406)=1,B406,\"\")","v":""},null,null,null,null,null,null,null,null,null,null,null,null,null,null,null,{"$f":"+IF(Y406=\"\",\"\",MAX(T$1:T405)+1)","v":""},{"$f":"IF(No_CPMS_Limits_Details!B428=\"\",\"\",No_CPMS_Limits_Details!B428)","v":""},{"$f":"IF(No_CPMS_Limits_Details!C428=\"\",\"\",No_CPMS_Limits_Details!C428)","v":""},{"$f":"IF(No_CPMS_Limits_Details!D428=\"\",\"\",No_CPMS_Limits_Details!D428)","v":""},"",{"$f":"IF(COUNTIF(V$2:V406,V406)=1,V406,\"\")","v":""},"","","",null,{"$f":"+IF(AI406=\"\",\"\",MAX(AD$1:AD405)+1)","v":""},{"$f":"IF(Limits_Details_w_CPMS!B428=\"\",\"\",Limits_Details_w_CPMS!B428)","v":""},{"$f":"IF(Limits_Details_w_CPMS!C428=\"\",\"\",Limits_Details_w_CPMS!C428)","v":""},{"$f":"IF(Limits_Details_w_CPMS!D428=\"\",\"\",Limits_Details_w_CPMS!D428)","v":""},"",{"$f":"IF(COUNTIF(AH$2:AH406,AH406)=1,AH406,\"\")","v":""},"","","",null,null,null,{"$f":"+IF(AU406=\"\",\"\",MAX(AP$1:AP405)+1)","v":""},{"$f":"IF(CPMS_Detail!B428=\"\",\"\",CPMS_Detail!B428)","v":""},{"$f":"IF(CPMS_Detail!C428=\"\",\"\",CPMS_Detail!C428)","v":""},{"$f":"IF(CPMS_Detail!D428=\"\",\"\",CPMS_Detail!D428)","v":""},"",{"$f":"IF(COUNTIF(AT$2:AT406,AT406)=1,AT406,\"\")","v":""},"","","",null,{"$f":"+IF(BE406=\"\",\"\",MAX(AZ$1:AZ405)+1)","v":""},{"$f":"IF(Mercury!B428=\"\",\"\",Mercury!B428)","v":""},{"$f":"IF(Mercury!C428=\"\",\"\",Mercury!C428)","v":""},{"$f":"IF(Mercury!D428=\"\",\"\",Mercury!D428)","v":""},"",{"$f":"IF(COUNTIF(BB$2:BB406,BB406)=1,BB406,\"\")","v":""},"","",""]
[{"$f":"+IF(D407=\"\",\"\",MAX(A$1:A406)+1)","v":""},{"$f":"IF(CEM_COM_CPMS_Identification!C429=\"\",\"\",CEM_COM_CPMS_Identification!C429)","v":""},"",{"$f":"IF(COUNTIF(B$2:B407,B407)=1,B407,\"\")","v":""},null,null,null,null,null,null,null,null,null,null,null,null,null,null,null,{"$f":"+IF(Y407=\"\",\"\",MAX(T$1:T406)+1)","v":""},{"$f":"IF(No_CPMS_Limits_Details!B429=\"\",\"\",No_CPMS_Limits_Details!B429)","v":""},{"$f":"IF(No_CPMS_Limits_Details!C429=\"\",\"\",No_CPMS_Limits_Details!C429)","v":""},{"$f":"IF(No_CPMS_Limits_Details!D429=\"\",\"\",No_CPMS_Limits_Details!D429)","v":""},"",{"$f":"IF(COUNTIF(V$2:V407,V407)=1,V407,\"\")","v":""},"","","",null,{"$f":"+IF(AI407=\"\",\"\",MAX(AD$1:AD406)+1)","v":""},{"$f":"IF(Limits_Details_w_CPMS!B429=\"\",\"\",Limits_Details_w_CPMS!B429)","v":""},{"$f":"IF(Limits_Details_w_CPMS!C429=\"\",\"\",Limits_Details_w_CPMS!C429)","v":""},{"$f":"IF(Limits_Details_w_CPMS!D429=\"\",\"\",Limits_Details_w_CPMS!D429)","v":""},"",{"$f":"IF(COUNTIF(AH$2:AH407,AH407)=1,AH407,\"\")","v":""},"","","",null,null,null,{"$f":"+IF(AU407=\"\",\"\",MAX(AP$1:AP406)+1)","v":""},{"$f":"IF(CPMS_Detail!B429=\"\",\"\",CPMS_Detail!B429)","v":""},{"$f":"IF(CPMS_Detail!C429=\"\",\"\",CPMS_Detail!C429)","v":""},{"$f":"IF(CPMS_Detail!D429=\"\",\"\",CPMS_Detail!D429)","v":""},"",{"$f":"IF(COUNTIF(AT$2:AT407,AT407)=1,AT407,\"\")","v":""},"","","",null,{"$f":"+IF(BE407=\"\",\"\",MAX(AZ$1:AZ406)+1)","v":""},{"$f":"IF(Mercury!B429=\"\",\"\",Mercury!B429)","v":""},{"$f":"IF(Mercury!C429=\"\",\"\",Mercury!C429)","v":""},{"$f":"IF(Mercury!D429=\"\",\"\",Mercury!D429)","v":""},"",{"$f":"IF(COUNTIF(BB$2:BB407,BB407)=1,BB407,\"\")","v":""},"","",""]
[{"$f":"+IF(D408=\"\",\"\",MAX(A$1:A407)+1)","v":""},{"$f":"IF(CEM_COM_CPMS_Identification!C430=\"\",\"\",CEM_COM_CPMS_Identification!C430)","v":""},"",{"$f":"IF(COUNTIF(B$2:B408,B408)=1,B408,\"\")","v":""},null,null,null,null,null,null,null,null,null,null,null,null,null,null,null,{"$f":"+IF(Y408=\"\",\"\",MAX(T$1:T407)+1)","v":""},{"$f":"IF(No_CPMS_Limits_Details!B430=\"\",\"\",No_CPMS_Limits_Details!B430)","v":""},{"$f":"IF(No_CPMS_Limits_Details!C430=\"\",\"\",No_CPMS_Limits_Details!C430)","v":""},{"$f":"IF(No_CPMS_Limits_Details!D430=\"\",\"\",No_CPMS_Limits_Details!D430)","v":""},"",{"$f":"IF(COUNTIF(V$2:V408,V408)=1,V408,\"\")","v":""},"","","",null,{"$f":"+IF(AI408=\"\",\"\",MAX(AD$1:AD407)+1)","v":""},{"$f":"IF(Limits_Details_w_CPMS!B430=\"\",\"\",Limits_Details_w_CPMS!B430)","v":""},{"$f":"IF(Limits_Details_w_CPMS!C430=\"\",\"\",Limits_Details_w_CPMS!C430)","v":""},{"$f":"IF(Limits_Details_w_CPMS!D430=\"\",\"\",Limits_Details_w_CPMS!D430)","v":""},"",{"$f":"IF(COUNTIF(AH$2:AH408,AH408)=1,AH408,\"\")","v":""},"","","",null,null,null,{"$f":"+IF(AU408=\"\",\"\",MAX(AP$1:AP407)+1)","v":""},{"$f":"IF(CPMS_Detail!B430=\"\",\"\",CPMS_Detail!B430)","v":""},{"$f":"IF(CPMS_Detail!C430=\"\",\"\",CPMS_Detail!C430)","v":""},{"$f":"IF(CPMS_Detail!D430=\"\",\"\",CPMS_Detail!D430)","v":""},"",{"$f":"IF(COUNTIF(AT$2:AT408,AT408)=1,AT408,\"\")","v":""},"","","",null,{"$f":"+IF(BE408=\"\",\"\",MAX(AZ$1:AZ407)+1)","v":""},{"$f":"IF(Mercury!B430=\"\",\"\",Mercury!B430)","v":""},{"$f":"IF(Mercury!C430=\"\",\"\",Mercury!C430)","v":""},{"$f":"IF(Mercury!D430=\"\",\"\",Mercury!D430)","v":""},"",{"$f":"IF(COUNTIF(BB$2:BB408,BB408)=1,BB408,\"\")","v":""},"","",""]
[{"$f":"+IF(D409=\"\",\"\",MAX(A$1:A408)+1)","v":""},{"$f":"IF(CEM_COM_CPMS_Identification!C431=\"\",\"\",CEM_COM_CPMS_Identification!C431)","v":""},"",{"$f":"IF(COUNTIF(B$2:B409,B409)=1,B409,\"\")","v":""},null,null,null,null,null,null,null,null,null,null,null,null,null,null,null,{"$f":"+IF(Y409=\"\",\"\",MAX(T$1:T408)+1)","v":""},{"$f":"IF(No_CPMS_Limits_Details!B431=\"\",\"\",No_CPMS_Limits_Details!B431)","v":""},{"$f":"IF(No_CPMS_Limits_Details!C431=\"\",\"\",No_CPMS_Limits_Details!C431)","v":""},{"$f":"IF(No_CPMS_Limits_Details!D431=\"\",\"\",No_CPMS_Limits_Details!D431)","v":""},"",{"$f":"IF(COUNTIF(V$2:V409,V409)=1,V409,\"\")","v":""},"","","",null,{"$f":"+IF(AI409=\"\",\"\",MAX(AD$1:AD408)+1)","v":""},{"$f":"IF(Limits_Details_w_CPMS!B431=\"\",\"\",Limits_Details_w_CPMS!B431)","v":""},{"$f":"IF(Limits_Details_w_CPMS!C431=\"\",\"\",Limits_Details_w_CPMS!C431)","v":""},{"$f":"IF(Limits_Details_w_CPMS!D431=\"\",\"\",Limits_Details_w_CPMS!D431)","v":""},"",{"$f":"IF(COUNTIF(AH$2:AH409,AH409)=1,AH409,\"\")","v":""},"","","",null,null,null,{"$f":"+IF(AU409=\"\",\"\",MAX(AP$1:AP408)+1)","v":""},{"$f":"IF(CPMS_Detail!B431=\"\",\"\",CPMS_Detail!B431)","v":""},{"$f":"IF(CPMS_Detail!C431=\"\",\"\",CPMS_Detail!C431)","v":""},{"$f":"IF(CPMS_Detail!D431=\"\",\"\",CPMS_Detail!D431)","v":""},"",{"$f":"IF(COUNTIF(AT$2:AT409,AT409)=1,AT409,\"\")","v":""},"","","",null,{"$f":"+IF(BE409=\"\",\"\",MAX(AZ$1:AZ408)+1)","v":""},{"$f":"IF(Mercury!B431=\"\",\"\",Mercury!B431)","v":""},{"$f":"IF(Mercury!C431=\"\",\"\",Mercury!C431)","v":""},{"$f":"IF(Mercury!D431=\"\",\"\",Mercury!D431)","v":""},"",{"$f":"IF(COUNTIF(BB$2:BB409,BB409)=1,BB409,\"\")","v":""},"","",""]
[{"$f":"+IF(D410=\"\",\"\",MAX(A$1:A409)+1)","v":""},{"$f":"IF(CEM_COM_CPMS_Identification!C432=\"\",\"\",CEM_COM_CPMS_Identification!C432)","v":""},"",{"$f":"IF(COUNTIF(B$2:B410,B410)=1,B410,\"\")","v":""},null,null,null,null,null,null,null,null,null,null,null,null,null,null,null,{"$f":"+IF(Y410=\"\",\"\",MAX(T$1:T409)+1)","v":""},{"$f":"IF(No_CPMS_Limits_Details!B432=\"\",\"\",No_CPMS_Limits_Details!B432)","v":""},{"$f":"IF(No_CPMS_Limits_Details!C432=\"\",\"\",No_CPMS_Limits_Details!C432)","v":""},{"$f":"IF(No_CPMS_Limits_Details!D432=\"\",\"\",No_CPMS_Limits_Details!D432)","v":""},"",{"$f":"IF(COUNTIF(V$2:V410,V410)=1,V410,\"\")","v":""},"","","",null,{"$f":"+IF(AI410=\"\",\"\",MAX(AD$1:AD409)+1)","v":""},{"$f":"IF(Limits_Details_w_CPMS!B432=\"\",\"\",Limits_Details_w_CPMS!B432)","v":""},{"$f":"IF(Limits_Details_w_CPMS!C432=\"\",\"\",Limits_Details_w_CPMS!C432)","v":""},{"$f":"IF(Limits_Details_w_CPMS!D432=\"\",\"\",Limits_Details_w_CPMS!D432)","v":""},"",{"$f":"IF(COUNTIF(AH$2:AH410,AH410)=1,AH410,\"\")","v":""},"","","",null,null,null,{"$f":"+IF(AU410=\"\",\"\",MAX(AP$1:AP409)+1)","v":""},{"$f":"IF(CPMS_Detail!B432=\"\",\"\",CPMS_Detail!B432)","v":""},{"$f":"IF(CPMS_Detail!C432=\"\",\"\",CPMS_Detail!C432)","v":""},{"$f":"IF(CPMS_Detail!D432=\"\",\"\",CPMS_Detail!D432)","v":""},"",{"$f":"IF(COUNTIF(AT$2:AT410,AT410)=1,AT410,\"\")","v":""},"","","",null,{"$f":"+IF(BE410=\"\",\"\",MAX(AZ$1:AZ409)+1)","v":""},{"$f":"IF(Mercury!B432=\"\",\"\",Mercury!B432)","v":""},{"$f":"IF(Mercury!C432=\"\",\"\",Mercury!C432)","v":""},{"$f":"IF(Mercury!D432=\"\",\"\",Mercury!D432)","v":""},"",{"$f":"IF(COUNTIF(BB$2:BB410,BB410)=1,BB410,\"\")","v":""},"","",""]
[{"$f":"+IF(D411=\"\",\"\",MAX(A$1:A410)+1)","v":""},{"$f":"IF(CEM_COM_CPMS_Identification!C433=\"\",\"\",CEM_COM_CPMS_Identification!C433)","v":""},"",{"$f":"IF(COUNTIF(B$2:B411,B411)=1,B411,\"\")","v":""},null,null,null,null,null,null,null,null,null,null,null,null,null,null,null,{"$f":"+IF(Y411=\"\",\"\",MAX(T$1:T410)+1)","v":""},{"$f":"IF(No_CPMS_Limits_Details!B433=\"\",\"\",No_CPMS_Limits_Details!B433)","v":""},{"$f":"IF(No_CPMS_Limits_Details!C433=\"\",\"\",No_CPMS_Limits_Details!C433)","v":""},{"$f":"IF(No_CPMS_Limits_Details!D433=\"\",\"\",No_CPMS_Limits_Details!D433)","v":""},"",{"$f":"IF(COUNTIF(V$2:V411,V411)=1,V411,\"\")","v":""},"","","",null,{"$f":"+IF(AI411=\"\",\"\",MAX(AD$1:AD410)+1)","v":""},{"$f":"IF(Limits_Details_w_CPMS!B433=\"\",\"\",Limits_Details_w_CPMS!B433)","v":""},{"$f":"IF(Limits_Details_w_CPMS!C433=\"\",\"\",Limits_Details_w_CPMS!C433)","v":""},{"$f":"IF(Limits_Details_w_CPMS!D433=\"\",\"\",Limits_Details_w_CPMS!D433)","v":""},"",{"$f":"IF(COUNTIF(AH$2:AH411,AH411)=1,AH411,\"\")","v":""},"","","",null,null,null,{"$f":"+IF(AU411=\"\",\"\",MAX(AP$1:AP410)+1)","v":""},{"$f":"IF(CPMS_Detail!B433=\"\",\"\",CPMS_Detail!B433)","v":""},{"$f":"IF(CPMS_Detail!C433=\"\",\"\",CPMS_Detail!C433)","v":""},{"$f":"IF(CPMS_Detail!D433=\"\",\"\",CPMS_Detail!D433)","v":""},"",{"$f":"IF(COUNTIF(AT$2:AT411,AT411)=1,AT411,\"\")","v":""},"","","",null,{"$f":"+IF(BE411=\"\",\"\",MAX(AZ$1:AZ410)+1)","v":""},{"$f":"IF(Mercury!B433=\"\",\"\",Mercury!B433)","v":""},{"$f":"IF(Mercury!C433=\"\",\"\",Mercury!C433)","v":""},{"$f":"IF(Mercury!D433=\"\",\"\",Mercury!D433)","v":""},"",{"$f":"IF(COUNTIF(BB$2:BB411,BB411)=1,BB411,\"\")","v":""},"","",""]
[{"$f":"+IF(D412=\"\",\"\",MAX(A$1:A411)+1)","v":""},{"$f":"IF(CEM_COM_CPMS_Identification!C434=\"\",\"\",CEM_COM_CPMS_Identification!C434)","v":""},"",{"$f":"IF(COUNTIF(B$2:B412,B412)=1,B412,\"\")","v":""},null,null,null,null,null,null,null,null,null,null,null,null,null,null,null,{"$f":"+IF(Y412=\"\",\"\",MAX(T$1:T411)+1)","v":""},{"$f":"IF(No_CPMS_Limits_Details!B434=\"\",\"\",No_CPMS_Limits_Details!B434)","v":""},{"$f":"IF(No_CPMS_Limits_Details!C434=\"\",\"\",No_CPMS_Limits_Details!C434)","v":""},{"$f":"IF(No_CPMS_Limits_Details!D434=\"\",\"\",No_CPMS_Limits_Details!D434)","v":""},"",{"$f":"IF(COUNTIF(V$2:V412,V412)=1,V412,\"\")","v":""},"","","",null,{"$f":"+IF(AI412=\"\",\"\",MAX(AD$1:AD411)+1)","v":""},{"$f":"IF(Limits_Details_w_CPMS!B434=\"\",\"\",Limits_Details_w_CPMS!B434)","v":""},{"$f":"IF(Limits_Details_w_CPMS!C434=\"\",\"\",Limits_Details_w_CPMS!C434)","v":""},{"$f":"IF(Limits_Details_w_CPMS!D434=\"\",\"\",Limits_Details_w_CPMS!D434)","v":""},"",{"$f":"IF(COUNTIF(AH$2:AH412,AH412)=1,AH412,\"\")","v":""},"","","",null,null,null,{"$f":"+IF(AU412=\"\",\"\",MAX(AP$1:AP411)+1)","v":""},{"$f":"IF(CPMS_Detail!B434=\"\",\"\",CPMS_Detail!B434)","v":""},{"$f":"IF(CPMS_Detail!C434=\"\",\"\",CPMS_Detail!C434)","v":""},{"$f":"IF(CPMS_Detail!D434=\"\",\"\",CPMS_Detail!D434)","v":""},"",{"$f":"IF(COUNTIF(AT$2:AT412,AT412)=1,AT412,\"\")","v":""},"","","",null,{"$f":"+IF(BE412=\"\",\"\",MAX(AZ$1:AZ411)+1)","v":""},{"$f":"IF(Mercury!B434=\"\",\"\",Mercury!B434)","v":""},{"$f":"IF(Mercury!C434=\"\",\"\",Mercury!C434)","v":""},{"$f":"IF(Mercury!D434=\"\",\"\",Mercury!D434)","v":""},"",{"$f":"IF(COUNTIF(BB$2:BB412,BB412)=1,BB412,\"\")","v":""},"","",""]
[{"$f":"+IF(D413=\"\",\"\",MAX(A$1:A412)+1)","v":""},{"$f":"IF(CEM_COM_CPMS_Identification!C435=\"\",\"\",CEM_COM_CPMS_Identification!C435)","v":""},"",{"$f":"IF(COUNTIF(B$2:B413,B413)=1,B413,\"\")","v":""},null,null,null,null,null,null,null,null,null,null,null,null,null,null,null,{"$f":"+IF(Y413=\"\",\"\",MAX(T$1:T412)+1)","v":""},{"$f":"IF(No_CPMS_Limits_Details!B435=\"\",\"\",No_CPMS_Limits_Details!B435)","v":""},{"$f":"IF(No_CPMS_Limits_Details!C435=\"\",\"\",No_CPMS_Limits_Details!C435)","v":""},{"$f":"IF(No_CPMS_Limits_Details!D435=\"\",\"\",No_CPMS_Limits_Details!D435)","v":""},"",{"$f":"IF(COUNTIF(V$2:V413,V413)=1,V413,\"\")","v":""},"","","",null,{"$f":"+IF(AI413=\"\",\"\",MAX(AD$1:AD412)+1)","v":""},{"$f":"IF(Limits_Details_w_CPMS!B435=\"\",\"\",Limits_Details_w_CPMS!B435)","v":""},{"$f":"IF(Limits_Details_w_CPMS!C435=\"\",\"\",Limits_Details_w_CPMS!C435)","v":""},{"$f":"IF(Limits_Details_w_CPMS!D435=\"\",\"\",Limits_Details_w_CPMS!D435)","v":""},"",{"$f":"IF(COUNTIF(AH$2:AH413,AH413)=1,AH413,\"\")","v":""},"","","",null,null,null,{"$f":"+IF(AU413=\"\",\"\",MAX(AP$1:AP412)+1)","v":""},{"$f":"IF(CPMS_Detail!B435=\"\",\"\",CPMS_Detail!B435)","v":""},{"$f":"IF(CPMS_Detail!C435=\"\",\"\",CPMS_Detail!C435)","v":""},{"$f":"IF(CPMS_Detail!D435=\"\",\"\",CPMS_Detail!D435)","v":""},"",{"$f":"IF(COUNTIF(AT$2:AT413,AT413)=1,AT413,\"\")","v":""},"","","",null,{"$f":"+IF(BE413=\"\",\"\",MAX(AZ$1:AZ412)+1)","v":""},{"$f":"IF(Mercury!B435=\"\",\"\",Mercury!B435)","v":""},{"$f":"IF(Mercury!C435=\"\",\"\",Mercury!C435)","v":""},{"$f":"IF(Mercury!D435=\"\",\"\",Mercury!D435)","v":""},"",{"$f":"IF(COUNTIF(BB$2:BB413,BB413)=1,BB413,\"\")","v":""},"","",""]
[{"$f":"+IF(D414=\"\",\"\",MAX(A$1:A413)+1)","v":""},{"$f":"IF(CEM_COM_CPMS_Identification!C436=\"\",\"\",CEM_COM_CPMS_Identification!C436)","v":""},"",{"$f":"IF(COUNTIF(B$2:B414,B414)=1,B414,\"\")","v":""},null,null,null,null,null,null,null,null,null,null,null,null,null,null,null,{"$f":"+IF(Y414=\"\",\"\",MAX(T$1:T413)+1)","v":""},{"$f":"IF(No_CPMS_Limits_Details!B436=\"\",\"\",No_CPMS_Limits_Details!B436)","v":""},{"$f":"IF(No_CPMS_Limits_Details!C436=\"\",\"\",No_CPMS_Limits_Details!C436)","v":""},{"$f":"IF(No_CPMS_Limits_Details!D436=\"\",\"\",No_CPMS_Limits_Details!D436)","v":""},"",{"$f":"IF(COUNTIF(V$2:V414,V414)=1,V414,\"\")","v":""},"","","",null,{"$f":"+IF(AI414=\"\",\"\",MAX(AD$1:AD413)+1)","v":""},{"$f":"IF(Limits_Details_w_CPMS!B436=\"\",\"\",Limits_Details_w_CPMS!B436)","v":""},{"$f":"IF(Limits_Details_w_CPMS!C436=\"\",\"\",Limits_Details_w_CPMS!C436)","v":""},{"$f":"IF(Limits_Details_w_CPMS!D436=\"\",\"\",Limits_Details_w_CPMS!D436)","v":""},"",{"$f":"IF(COUNTIF(AH$2:AH414,AH414)=1,AH414,\"\")","v":""},"","","",null,null,null,{"$f":"+IF(AU414=\"\",\"\",MAX(AP$1:AP413)+1)","v":""},{"$f":"IF(CPMS_Detail!B436=\"\",\"\",CPMS_Detail!B436)","v":""},{"$f":"IF(CPMS_Detail!C436=\"\",\"\",CPMS_Detail!C436)","v":""},{"$f":"IF(CPMS_Detail!D436=\"\",\"\",CPMS_Detail!D436)","v":""},"",{"$f":"IF(COUNTIF(AT$2:AT414,AT414)=1,AT414,\"\")","v":""},"","","",null,{"$f":"+IF(BE414=\"\",\"\",MAX(AZ$1:AZ413)+1)","v":""},{"$f":"IF(Mercury!B436=\"\",\"\",Mercury!B436)","v":""},{"$f":"IF(Mercury!C436=\"\",\"\",Mercury!C436)","v":""},{"$f":"IF(Mercury!D436=\"\",\"\",Mercury!D436)","v":""},"",{"$f":"IF(COUNTIF(BB$2:BB414,BB414)=1,BB414,\"\")","v":""},"","",""]
[{"$f":"+IF(D415=\"\",\"\",MAX(A$1:A414)+1)","v":""},{"$f":"IF(CEM_COM_CPMS_Identification!C437=\"\",\"\",CEM_COM_CPMS_Identification!C437)","v":""},"",{"$f":"IF(COUNTIF(B$2:B415,B415)=1,B415,\"\")","v":""},null,null,null,null,null,null,null,null,null,null,null,null,null,null,null,{"$f":"+IF(Y415=\"\",\"\",MAX(T$1:T414)+1)","v":""},{"$f":"IF(No_CPMS_Limits_Details!B437=\"\",\"\",No_CPMS_Limits_Details!B437)","v":""},{"$f":"IF(No_CPMS_Limits_Details!C437=\"\",\"\",No_CPMS_Limits_Details!C437)","v":""},{"$f":"IF(No_CPMS_Limits_Details!D437=\"\",\"\",No_CPMS_Limits_Details!D437)","v":""},"",{"$f":"IF(COUNTIF(V$2:V415,V415)=1,V415,\"\")","v":""},"","","",null,{"$f":"+IF(AI415=\"\",\"\",MAX(AD$1:AD414)+1)","v":""},{"$f":"IF(Limits_Details_w_CPMS!B437=\"\",\"\",Limits_Details_w_CPMS!B437)","v":""},{"$f":"IF(Limits_Details_w_CPMS!C437=\"\",\"\",Limits_Details_w_CPMS!C437)","v":""},{"$f":"IF(Limits_Details_w_CPMS!D437=\"\",\"\",Limits_Details_w_CPMS!D437)","v":""},"",{"$f":"IF(COUNTIF(AH$2:AH415,AH415)=1,AH415,\"\")","v":""},"","","",null,null,null,{"$f":"+IF(AU415=\"\",\"\",MAX(AP$1:AP414)+1)","v":""},{"$f":"IF(CPMS_Detail!B437=\"\",\"\",CPMS_Detail!B437)","v":""},{"$f":"IF(CPMS_Detail!C437=\"\",\"\",CPMS_Detail!C437)","v":""},{"$f":"IF(CPMS_Detail!D437=\"\",\"\",CPMS_Detail!D437)","v":""},"",{"$f":"IF(COUNTIF(AT$2:AT415,AT415)=1,AT415,\"\")","v":""},"","","",null,{"$f":"+IF(BE415=\"\",\"\",MAX(AZ$1:AZ414)+1)","v":""},{"$f":"IF(Mercury!B437=\"\",\"\",Mercury!B437)","v":""},{"$f":"IF(Mercury!C437=\"\",\"\",Mercury!C437)","v":""},{"$f":"IF(Mercury!D437=\"\",\"\",Mercury!D437)","v":""},"",{"$f":"IF(COUNTIF(BB$2:BB415,BB415)=1,BB415,\"\")","v":""},"","",""]
[{"$f":"+IF(D416=\"\",\"\",MAX(A$1:A415)+1)","v":""},{"$f":"IF(CEM_COM_CPMS_Identification!C438=\"\",\"\",CEM_COM_CPMS_Identification!C438)","v":""},"",{"$f":"IF(COUNTIF(B$2:B416,B416)=1,B416,\"\")","v":""},null,null,null,null,null,null,null,null,null,null,null,null,null,null,null,{"$f":"+IF(Y416=\"\",\"\",MAX(T$1:T415)+1)","v":""},{"$f":"IF(No_CPMS_Limits_Details!B438=\"\",\"\",No_CPMS_Limits_Details!B438)","v":""},{"$f":"IF(No_CPMS_Limits_Details!C438=\"\",\"\",No_CPMS_Limits_Details!C438)","v":""},{"$f":"IF(No_CPMS_Limits_Details!D438=\"\",\"\",No_CPMS_Limits_Details!D438)","v":""},"",{"$f":"IF(COUNTIF(V$2:V416,V416)=1,V416,\"\")","v":""},"","","",null,{"$f":"+IF(AI416=\"\",\"\",MAX(AD$1:AD415)+1)","v":""},{"$f":"IF(Limits_Details_w_CPMS!B438=\"\",\"\",Limits_Details_w_CPMS!B438)","v":""},{"$f":"IF(Limits_Details_w_CPMS!C438=\"\",\"\",Limits_Details_w_CPMS!C438)","v":""},{"$f":"IF(Limits_Details_w_CPMS!D438=\"\",\"\",Limits_Details_w_CPMS!D438)","v":""},"",{"$f":"IF(COUNTIF(AH$2:AH416,AH416)=1,AH416,\"\")","v":""},"","","",null,null,null,{"$f":"+IF(AU416=\"\",\"\",MAX(AP$1:AP415)+1)","v":""},{"$f":"IF(CPMS_Detail!B438=\"\",\"\",CPMS_Detail!B438)","v":""},{"$f":"IF(CPMS_Detail!C438=\"\",\"\",CPMS_Detail!C438)","v":""},{"$f":"IF(CPMS_Detail!D438=\"\",\"\",CPMS_Detail!D438)","v":""},"",{"$f":"IF(COUNTIF(AT$2:AT416,AT416)=1,AT416,\"\")","v":""},"","","",null,{"$f":"+IF(BE416=\"\",\"\",MAX(AZ$1:AZ415)+1)","v":""},{"$f":"IF(Mercury!B438=\"\",\"\",Mercury!B438)","v":""},{"$f":"IF(Mercury!C438=\"\",\"\",Mercury!C438)","v":""},{"$f":"IF(Mercury!D438=\"\",\"\",Mercury!D438)","v":""},"",{"$f":"IF(COUNTIF(BB$2:BB416,BB416)=1,BB416,\"\")","v":""},"","",""]
[{"$f":"+IF(D417=\"\",\"\",MAX(A$1:A416)+1)","v":""},{"$f":"IF(CEM_COM_CPMS_Identification!C439=\"\",\"\",CEM_COM_CPMS_Identification!C439)","v":""},"",{"$f":"IF(COUNTIF(B$2:B417,B417)=1,B417,\"\")","v":""},null,null,null,null,null,null,null,null,null,null,null,null,null,null,null,{"$f":"+IF(Y417=\"\",\"\",MAX(T$1:T416)+1)","v":""},{"$f":"IF(No_CPMS_Limits_Details!B439=\"\",\"\",No_CPMS_Limits_Details!B439)","v":""},{"$f":"IF(No_CPMS_Limits_Details!C439=\"\",\"\",No_CPMS_Limits_Details!C439)","v":""},{"$f":"IF(No_CPMS_Limits_Details!D439=\"\",\"\",No_CPMS_Limits_Details!D439)","v":""},"",{"$f":"IF(COUNTIF(V$2:V417,V417)=1,V417,\"\")","v":""},"","","",null,{"$f":"+IF(AI417=\"\",\"\",MAX(AD$1:AD416)+1)","v":""},{"$f":"IF(Limits_Details_w_CPMS!B439=\"\",\"\",Limits_Details_w_CPMS!B439)","v":""},{"$f":"IF(Limits_Details_w_CPMS!C439=\"\",\"\",Limits_Details_w_CPMS!C439)","v":""},{"$f":"IF(Limits_Details_w_CPMS!D439=\"\",\"\",Limits_Details_w_CPMS!D439)","v":""},"",{"$f":"IF(COUNTIF(AH$2:AH417,AH417)=1,AH417,\"\")","v":""},"","","",null,null,null,{"$f":"+IF(AU417=\"\",\"\",MAX(AP$1:AP416)+1)","v":""},{"$f":"IF(CPMS_Detail!B439=\"\",\"\",CPMS_Detail!B439)","v":""},{"$f":"IF(CPMS_Detail!C439=\"\",\"\",CPMS_Detail!C439)","v":""},{"$f":"IF(CPMS_Detail!D439=\"\",\"\",CPMS_Detail!D439)","v":""},"",{"$f":"IF(COUNTIF(AT$2:AT417,AT417)=1,AT417,\"\")","v":""},"","","",null,{"$f":"+IF(BE417=\"\",\"\",MAX(AZ$1:AZ416)+1)","v":""},{"$f":"IF(Mercury!B439=\"\",\"\",Mercury!B439)","v":""},{"$f":"IF(Mercury!C439=\"\",\"\",Mercury!C439)","v":""},{"$f":"IF(Mercury!D439=\"\",\"\",Mercury!D439)","v":""},"",{"$f":"IF(COUNTIF(BB$2:BB417,BB417)=1,BB417,\"\")","v":""},"","",""]
[{"$f":"+IF(D418=\"\",\"\",MAX(A$1:A417)+1)","v":""},{"$f":"IF(CEM_COM_CPMS_Identification!C440=\"\",\"\",CEM_COM_CPMS_Identification!C440)","v":""},"",{"$f":"IF(COUNTIF(B$2:B418,B418)=1,B418,\"\")","v":""},null,null,null,null,null,null,null,null,null,null,null,null,null,null,null,{"$f":"+IF(Y418=\"\",\"\",MAX(T$1:T417)+1)","v":""},{"$f":"IF(No_CPMS_Limits_Details!B440=\"\",\"\",No_CPMS_Limits_Details!B440)","v":""},{"$f":"IF(No_CPMS_Limits_Details!C440=\"\",\"\",No_CPMS_Limits_Details!C440)","v":""},{"$f":"IF(No_CPMS_Limits_Details!D440=\"\",\"\",No_CPMS_Limits_Details!D440)","v":""},"",{"$f":"IF(COUNTIF(V$2:V418,V418)=1,V418,\"\")","v":""},"","","",null,{"$f":"+IF(AI418=\"\",\"\",MAX(AD$1:AD417)+1)","v":""},{"$f":"IF(Limits_Details_w_CPMS!B440=\"\",\"\",Limits_Details_w_CPMS!B440)","v":""},{"$f":"IF(Limits_Details_w_CPMS!C440=\"\",\"\",Limits_Details_w_CPMS!C440)","v":""},{"$f":"IF(Limits_Details_w_CPMS!D440=\"\",\"\",Limits_Details_w_CPMS!D440)","v":""},"",{"$f":"IF(COUNTIF(AH$2:AH418,AH418)=1,AH418,\"\")","v":""},"","","",null,null,null,{"$f":"+IF(AU418=\"\",\"\",MAX(AP$1:AP417)+1)","v":""},{"$f":"IF(CPMS_Detail!B440=\"\",\"\",CPMS_Detail!B440)","v":""},{"$f":"IF(CPMS_Detail!C440=\"\",\"\",CPMS_Detail!C440)","v":""},{"$f":"IF(CPMS_Detail!D440=\"\",\"\",CPMS_Detail!D440)","v":""},"",{"$f":"IF(COUNTIF(AT$2:AT418,AT418)=1,AT418,\"\")","v":""},"","","",null,{"$f":"+IF(BE418=\"\",\"\",MAX(AZ$1:AZ417)+1)","v":""},{"$f":"IF(Mercury!B440=\"\",\"\",Mercury!B440)","v":""},{"$f":"IF(Mercury!C440=\"\",\"\",Mercury!C440)","v":""},{"$f":"IF(Mercury!D440=\"\",\"\",Mercury!D440)","v":""},"",{"$f":"IF(COUNTIF(BB$2:BB418,BB418)=1,BB418,\"\")","v":""},"","",""]
[{"$f":"+IF(D419=\"\",\"\",MAX(A$1:A418)+1)","v":""},{"$f":"IF(CEM_COM_CPMS_Identification!C441=\"\",\"\",CEM_COM_CPMS_Identification!C441)","v":""},"",{"$f":"IF(COUNTIF(B$2:B419,B419)=1,B419,\"\")","v":""},null,null,null,null,null,null,null,null,null,null,null,null,null,null,null,{"$f":"+IF(Y419=\"\",\"\",MAX(T$1:T418)+1)","v":""},{"$f":"IF(No_CPMS_Limits_Details!B441=\"\",\"\",No_CPMS_Limits_Details!B441)","v":""},{"$f":"IF(No_CPMS_Limits_Details!C441=\"\",\"\",No_CPMS_Limits_Details!C441)","v":""},{"$f":"IF(No_CPMS_Limits_Details!D441=\"\",\"\",No_CPMS_Limits_Details!D441)","v":""},"",{"$f":"IF(COUNTIF(V$2:V419,V419)=1,V419,\"\")","v":""},"","","",null,{"$f":"+IF(AI419=\"\",\"\",MAX(AD$1:AD418)+1)","v":""},{"$f":"IF(Limits_Details_w_CPMS!B441=\"\",\"\",Limits_Details_w_CPMS!B441)","v":""},{"$f":"IF(Limits_Details_w_CPMS!C441=\"\",\"\",Limits_Details_w_CPMS!C441)","v":""},{"$f":"IF(Limits_Details_w_CPMS!D441=\"\",\"\",Limits_Details_w_CPMS!D441)","v":""},"",{"$f":"IF(COUNTIF(AH$2:AH419,AH419)=1,AH419,\"\")","v":""},"","","",null,null,null,{"$f":"+IF(AU419=\"\",\"\",MAX(AP$1:AP418)+1)","v":""},{"$f":"IF(CPMS_Detail!B441=\"\",\"\",CPMS_Detail!B441)","v":""},{"$f":"IF(CPMS_Detail!C441=\"\",\"\",CPMS_Detail!C441)","v":""},{"$f":"IF(CPMS_Detail!D441=\"\",\"\",CPMS_Detail!D441)","v":""},"",{"$f":"IF(COUNTIF(AT$2:AT419,AT419)=1,AT419,\"\")","v":""},"","","",null,{"$f":"+IF(BE419=\"\",\"\",MAX(AZ$1:AZ418)+1)","v":""},{"$f":"IF(Mercury!B441=\"\",\"\",Mercury!B441)","v":""},{"$f":"IF(Mercury!C441=\"\",\"\",Mercury!C441)","v":""},{"$f":"IF(Mercury!D441=\"\",\"\",Mercury!D441)","v":""},"",{"$f":"IF(COUNTIF(BB$2:BB419,BB419)=1,BB419,\"\")","v":""},"","",""]
[{"$f":"+IF(D420=\"\",\"\",MAX(A$1:A419)+1)","v":""},{"$f":"IF(CEM_COM_CPMS_Identification!C442=\"\",\"\",CEM_COM_CPMS_Identification!C442)","v":""},"",{"$f":"IF(COUNTIF(B$2:B420,B420)=1,B420,\"\")","v":""},null,null,null,null,null,null,null,null,null,null,null,null,null,null,null,{"$f":"+IF(Y420=\"\",\"\",MAX(T$1:T419)+1)","v":""},{"$f":"IF(No_CPMS_Limits_Details!B442=\"\",\"\",No_CPMS_Limits_Details!B442)","v":""},{"$f":"IF(No_CPMS_Limits_Details!C442=\"\",\"\",No_CPMS_Limits_Details!C442)","v":""},{"$f":"IF(No_CPMS_Limits_Details!D442=\"\",\"\",No_CPMS_Limits_Details!D442)","v":""},"",{"$f":"IF(COUNTIF(V$2:V420,V420)=1,V420,\"\")","v":""},"","","",null,{"$f":"+IF(AI420=\"\",\"\",MAX(AD$1:AD419)+1)","v":""},{"$f":"IF(Limits_Details_w_CPMS!B442=\"\",\"\",Limits_Details_w_CPMS!B442)","v":""},{"$f":"IF(Limits_Details_w_CPMS!C442=\"\",\"\",Limits_Details_w_CPMS!C442)","v":""},{"$f":"IF(Limits_Details_w_CPMS!D442=\"\",\"\",Limits_Details_w_CPMS!D442)","v":""},"",{"$f":"IF(COUNTIF(AH$2:AH420,AH420)=1,AH420,\"\")","v":""},"","","",null,null,null,{"$f":"+IF(AU420=\"\",\"\",MAX(AP$1:AP419)+1)","v":""},{"$f":"IF(CPMS_Detail!B442=\"\",\"\",CPMS_Detail!B442)","v":""},{"$f":"IF(CPMS_Detail!C442=\"\",\"\",CPMS_Detail!C442)","v":""},{"$f":"IF(CPMS_Detail!D442=\"\",\"\",CPMS_Detail!D442)","v":""},"",{"$f":"IF(COUNTIF(AT$2:AT420,AT420)=1,AT420,\"\")","v":""},"","","",null,{"$f":"+IF(BE420=\"\",\"\",MAX(AZ$1:AZ419)+1)","v":""},{"$f":"IF(Mercury!B442=\"\",\"\",Mercury!B442)","v":""},{"$f":"IF(Mercury!C442=\"\",\"\",Mercury!C442)","v":""},{"$f":"IF(Mercury!D442=\"\",\"\",Mercury!D442)","v":""},"",{"$f":"IF(COUNTIF(BB$2:BB420,BB420)=1,BB420,\"\")","v":""},"","",""]
[{"$f":"+IF(D421=\"\",\"\",MAX(A$1:A420)+1)","v":""},{"$f":"IF(CEM_COM_CPMS_Identification!C443=\"\",\"\",CEM_COM_CPMS_Identification!C443)","v":""},"",{"$f":"IF(COUNTIF(B$2:B421,B421)=1,B421,\"\")","v":""},null,null,null,null,null,null,null,null,null,null,null,null,null,null,null,{"$f":"+IF(Y421=\"\",\"\",MAX(T$1:T420)+1)","v":""},{"$f":"IF(No_CPMS_Limits_Details!B443=\"\",\"\",No_CPMS_Limits_Details!B443)","v":""},{"$f":"IF(No_CPMS_Limits_Details!C443=\"\",\"\",No_CPMS_Limits_Details!C443)","v":""},{"$f":"IF(No_CPMS_Limits_Details!D443=\"\",\"\",No_CPMS_Limits_Details!D443)","v":""},"",{"$f":"IF(COUNTIF(V$2:V421,V421)=1,V421,\"\")","v":""},"","","",null,{"$f":"+IF(AI421=\"\",\"\",MAX(AD$1:AD420)+1)","v":""},{"$f":"IF(Limits_Details_w_CPMS!B443=\"\",\"\",Limits_Details_w_CPMS!B443)","v":""},{"$f":"IF(Limits_Details_w_CPMS!C443=\"\",\"\",Limits_Details_w_CPMS!C443)","v":""},{"$f":"IF(Limits_Details_w_CPMS!D443=\"\",\"\",Limits_Details_w_CPMS!D443)","v":""},"",{"$f":"IF(COUNTIF(AH$2:AH421,AH421)=1,AH421,\"\")","v":""},"","","",null,null,null,{"$f":"+IF(AU421=\"\",\"\",MAX(AP$1:AP420)+1)","v":""},{"$f":"IF(CPMS_Detail!B443=\"\",\"\",CPMS_Detail!B443)","v":""},{"$f":"IF(CPMS_Detail!C443=\"\",\"\",CPMS_Detail!C443)","v":""},{"$f":"IF(CPMS_Detail!D443=\"\",\"\",CPMS_Detail!D443)","v":""},"",{"$f":"IF(COUNTIF(AT$2:AT421,AT421)=1,AT421,\"\")","v":""},"","","",null,{"$f":"+IF(BE421=\"\",\"\",MAX(AZ$1:AZ420)+1)","v":""},{"$f":"IF(Mercury!B443=\"\",\"\",Mercury!B443)","v":""},{"$f":"IF(Mercury!C443=\"\",\"\",Mercury!C443)","v":""},{"$f":"IF(Mercury!D443=\"\",\"\",Mercury!D443)","v":""},"",{"$f":"IF(COUNTIF(BB$2:BB421,BB421)=1,BB421,\"\")","v":""},"","",""]
[{"$f":"+IF(D422=\"\",\"\",MAX(A$1:A421)+1)","v":""},{"$f":"IF(CEM_COM_CPMS_Identification!C444=\"\",\"\",CEM_COM_CPMS_Identification!C444)","v":""},"",{"$f":"IF(COUNTIF(B$2:B422,B422)=1,B422,\"\")","v":""},null,null,null,null,null,null,null,null,null,null,null,null,null,null,null,{"$f":"+IF(Y422=\"\",\"\",MAX(T$1:T421)+1)","v":""},{"$f":"IF(No_CPMS_Limits_Details!B444=\"\",\"\",No_CPMS_Limits_Details!B444)","v":""},{"$f":"IF(No_CPMS_Limits_Details!C444=\"\",\"\",No_CPMS_Limits_Details!C444)","v":""},{"$f":"IF(No_CPMS_Limits_Details!D444=\"\",\"\",No_CPMS_Limits_Details!D444)","v":""},"",{"$f":"IF(COUNTIF(V$2:V422,V422)=1,V422,\"\")","v":""},"","","",null,{"$f":"+IF(AI422=\"\",\"\",MAX(AD$1:AD421)+1)","v":""},{"$f":"IF(Limits_Details_w_CPMS!B444=\"\",\"\",Limits_Details_w_CPMS!B444)","v":""},{"$f":"IF(Limits_Details_w_CPMS!C444=\"\",\"\",Limits_Details_w_CPMS!C444)","v":""},{"$f":"IF(Limits_Details_w_CPMS!D444=\"\",\"\",Limits_Details_w_CPMS!D444)","v":""},"",{"$f":"IF(COUNTIF(AH$2:AH422,AH422)=1,AH422,\"\")","v":""},"","","",null,null,null,{"$f":"+IF(AU422=\"\",\"\",MAX(AP$1:AP421)+1)","v":""},{"$f":"IF(CPMS_Detail!B444=\"\",\"\",CPMS_Detail!B444)","v":""},{"$f":"IF(CPMS_Detail!C444=\"\",\"\",CPMS_Detail!C444)","v":""},{"$f":"IF(CPMS_Detail!D444=\"\",\"\",CPMS_Detail!D444)","v":""},"",{"$f":"IF(COUNTIF(AT$2:AT422,AT422)=1,AT422,\"\")","v":""},"","","",null,{"$f":"+IF(BE422=\"\",\"\",MAX(AZ$1:AZ421)+1)","v":""},{"$f":"IF(Mercury!B444=\"\",\"\",Mercury!B444)","v":""},{"$f":"IF(Mercury!C444=\"\",\"\",Mercury!C444)","v":""},{"$f":"IF(Mercury!D444=\"\",\"\",Mercury!D444)","v":""},"",{"$f":"IF(COUNTIF(BB$2:BB422,BB422)=1,BB422,\"\")","v":""},"","",""]
[{"$f":"+IF(D423=\"\",\"\",MAX(A$1:A422)+1)","v":""},{"$f":"IF(CEM_COM_CPMS_Identification!C445=\"\",\"\",CEM_COM_CPMS_Identification!C445)","v":""},"",{"$f":"IF(COUNTIF(B$2:B423,B423)=1,B423,\"\")","v":""},null,null,null,null,null,null,null,null,null,null,null,null,null,null,null,{"$f":"+IF(Y423=\"\",\"\",MAX(T$1:T422)+1)","v":""},{"$f":"IF(No_CPMS_Limits_Details!B445=\"\",\"\",No_CPMS_Limits_Details!B445)","v":""},{"$f":"IF(No_CPMS_Limits_Details!C445=\"\",\"\",No_CPMS_Limits_Details!C445)","v":""},{"$f":"IF(No_CPMS_Limits_Details!D445=\"\",\"\",No_CPMS_Limits_Details!D445)","v":""},"",{"$f":"IF(COUNTIF(V$2:V423,V423)=1,V423,\"\")","v":""},"","","",null,{"$f":"+IF(AI423=\"\",\"\",MAX(AD$1:AD422)+1)","v":""},{"$f":"IF(Limits_Details_w_CPMS!B445=\"\",\"\",Limits_Details_w_CPMS!B445)","v":""},{"$f":"IF(Limits_Details_w_CPMS!C445=\"\",\"\",Limits_Details_w_CPMS!C445)","v":""},{"$f":"IF(Limits_Details_w_CPMS!D445=\"\",\"\",Limits_Details_w_CPMS!D445)","v":""},"",{"$f":"IF(COUNTIF(AH$2:AH423,AH423)=1,AH423,\"\")","v":""},"","","",null,null,null,{"$f":"+IF(AU423=\"\",\"\",MAX(AP$1:AP422)+1)","v":""},{"$f":"IF(CPMS_Detail!B445=\"\",\"\",CPMS_Detail!B445)","v":""},{"$f":"IF(CPMS_Detail!C445=\"\",\"\",CPMS_Detail!C445)","v":""},{"$f":"IF(CPMS_Detail!D445=\"\",\"\",CPMS_Detail!D445)","v":""},"",{"$f":"IF(COUNTIF(AT$2:AT423,AT423)=1,AT423,\"\")","v":""},"","","",null,{"$f":"+IF(BE423=\"\",\"\",MAX(AZ$1:AZ422)+1)","v":""},{"$f":"IF(Mercury!B445=\"\",\"\",Mercury!B445)","v":""},{"$f":"IF(Mercury!C445=\"\",\"\",Mercury!C445)","v":""},{"$f":"IF(Mercury!D445=\"\",\"\",Mercury!D445)","v":""},"",{"$f":"IF(COUNTIF(BB$2:BB423,BB423)=1,BB423,\"\")","v":""},"","",""]
[{"$f":"+IF(D424=\"\",\"\",MAX(A$1:A423)+1)","v":""},{"$f":"IF(CEM_COM_CPMS_Identification!C446=\"\",\"\",CEM_COM_CPMS_Identification!C446)","v":""},"",{"$f":"IF(COUNTIF(B$2:B424,B424)=1,B424,\"\")","v":""},null,null,null,null,null,null,null,null,null,null,null,null,null,null,null,{"$f":"+IF(Y424=\"\",\"\",MAX(T$1:T423)+1)","v":""},{"$f":"IF(No_CPMS_Limits_Details!B446=\"\",\"\",No_CPMS_Limits_Details!B446)","v":""},{"$f":"IF(No_CPMS_Limits_Details!C446=\"\",\"\",No_CPMS_Limits_Details!C446)","v":""},{"$f":"IF(No_CPMS_Limits_Details!D446=\"\",\"\",No_CPMS_Limits_Details!D446)","v":""},"",{"$f":"IF(COUNTIF(V$2:V424,V424)=1,V424,\"\")","v":""},"","","",null,{"$f":"+IF(AI424=\"\",\"\",MAX(AD$1:AD423)+1)","v":""},{"$f":"IF(Limits_Details_w_CPMS!B446=\"\",\"\",Limits_Details_w_CPMS!B446)","v":""},{"$f":"IF(Limits_Details_w_CPMS!C446=\"\",\"\",Limits_Details_w_CPMS!C446)","v":""},{"$f":"IF(Limits_Details_w_CPMS!D446=\"\",\"\",Limits_Details_w_CPMS!D446)","v":""},"",{"$f":"IF(COUNTIF(AH$2:AH424,AH424)=1,AH424,\"\")","v":""},"","","",null,null,null,{"$f":"+IF(AU424=\"\",\"\",MAX(AP$1:AP423)+1)","v":""},{"$f":"IF(CPMS_Detail!B446=\"\",\"\",CPMS_Detail!B446)","v":""},{"$f":"IF(CPMS_Detail!C446=\"\",\"\",CPMS_Detail!C446)","v":""},{"$f":"IF(CPMS_Detail!D446=\"\",\"\",CPMS_Detail!D446)","v":""},"",{"$f":"IF(COUNTIF(AT$2:AT424,AT424)=1,AT424,\"\")","v":""},"","","",null,{"$f":"+IF(BE424=\"\",\"\",MAX(AZ$1:AZ423)+1)","v":""},{"$f":"IF(Mercury!B446=\"\",\"\",Mercury!B446)","v":""},{"$f":"IF(Mercury!C446=\"\",\"\",Mercury!C446)","v":""},{"$f":"IF(Mercury!D446=\"\",\"\",Mercury!D446)","v":""},"",{"$f":"IF(COUNTIF(BB$2:BB424,BB424)=1,BB424,\"\")","v":""},"","",""]
[{"$f":"+IF(D425=\"\",\"\",MAX(A$1:A424)+1)","v":""},{"$f":"IF(CEM_COM_CPMS_Identification!C447=\"\",\"\",CEM_COM_CPMS_Identification!C447)","v":""},"",{"$f":"IF(COUNTIF(B$2:B425,B425)=1,B425,\"\")","v":""},null,null,null,null,null,null,null,null,null,null,null,null,null,null,null,{"$f":"+IF(Y425=\"\",\"\",MAX(T$1:T424)+1)","v":""},{"$f":"IF(No_CPMS_Limits_Details!B447=\"\",\"\",No_CPMS_Limits_Details!B447)","v":""},{"$f":"IF(No_CPMS_Limits_Details!C447=\"\",\"\",No_CPMS_Limits_Details!C447)","v":""},{"$f":"IF(No_CPMS_Limits_Details!D447=\"\",\"\",No_CPMS_Limits_Details!D447)","v":""},"",{"$f":"IF(COUNTIF(V$2:V425,V425)=1,V425,\"\")","v":""},"","","",null,{"$f":"+IF(AI425=\"\",\"\",MAX(AD$1:AD424)+1)","v":""},{"$f":"IF(Limits_Details_w_CPMS!B447=\"\",\"\",Limits_Details_w_CPMS!B447)","v":""},{"$f":"IF(Limits_Details_w_CPMS!C447=\"\",\"\",Limits_Details_w_CPMS!C447)","v":""},{"$f":"IF(Limits_Details_w_CPMS!D447=\"\",\"\",Limits_Details_w_CPMS!D447)","v":""},"",{"$f":"IF(COUNTIF(AH$2:AH425,AH425)=1,AH425,\"\")","v":""},"","","",null,null,null,{"$f":"+IF(AU425=\"\",\"\",MAX(AP$1:AP424)+1)","v":""},{"$f":"IF(CPMS_Detail!B447=\"\",\"\",CPMS_Detail!B447)","v":""},{"$f":"IF(CPMS_Detail!C447=\"\",\"\",CPMS_Detail!C447)","v":""},{"$f":"IF(CPMS_Detail!D447=\"\",\"\",CPMS_Detail!D447)","v":""},"",{"$f":"IF(COUNTIF(AT$2:AT425,AT425)=1,AT425,\"\")","v":""},"","","",null,{"$f":"+IF(BE425=\"\",\"\",MAX(AZ$1:AZ424)+1)","v":""},{"$f":"IF(Mercury!B447=\"\",\"\",Mercury!B447)","v":""},{"$f":"IF(Mercury!C447=\"\",\"\",Mercury!C447)","v":""},{"$f":"IF(Mercury!D447=\"\",\"\",Mercury!D447)","v":""},"",{"$f":"IF(COUNTIF(BB$2:BB425,BB425)=1,BB425,\"\")","v":""},"","",""]
[{"$f":"+IF(D426=\"\",\"\",MAX(A$1:A425)+1)","v":""},{"$f":"IF(CEM_COM_CPMS_Identification!C448=\"\",\"\",CEM_COM_CPMS_Identification!C448)","v":""},"",{"$f":"IF(COUNTIF(B$2:B426,B426)=1,B426,\"\")","v":""},null,null,null,null,null,null,null,null,null,null,null,null,null,null,null,{"$f":"+IF(Y426=\"\",\"\",MAX(T$1:T425)+1)","v":""},{"$f":"IF(No_CPMS_Limits_Details!B448=\"\",\"\",No_CPMS_Limits_Details!B448)","v":""},{"$f":"IF(No_CPMS_Limits_Details!C448=\"\",\"\",No_CPMS_Limits_Details!C448)","v":""},{"$f":"IF(No_CPMS_Limits_Details!D448=\"\",\"\",No_CPMS_Limits_Details!D448)","v":""},"",{"$f":"IF(COUNTIF(V$2:V426,V426)=1,V426,\"\")","v":""},"","","",null,{"$f":"+IF(AI426=\"\",\"\",MAX(AD$1:AD425)+1)","v":""},{"$f":"IF(Limits_Details_w_CPMS!B448=\"\",\"\",Limits_Details_w_CPMS!B448)","v":""},{"$f":"IF(Limits_Details_w_CPMS!C448=\"\",\"\",Limits_Details_w_CPMS!C448)","v":""},{"$f":"IF(Limits_Details_w_CPMS!D448=\"\",\"\",Limits_Details_w_CPMS!D448)","v":""},"",{"$f":"IF(COUNTIF(AH$2:AH426,AH426)=1,AH426,\"\")","v":""},"","","",null,null,null,{"$f":"+IF(AU426=\"\",\"\",MAX(AP$1:AP425)+1)","v":""},{"$f":"IF(CPMS_Detail!B448=\"\",\"\",CPMS_Detail!B448)","v":""},{"$f":"IF(CPMS_Detail!C448=\"\",\"\",CPMS_Detail!C448)","v":""},{"$f":"IF(CPMS_Detail!D448=\"\",\"\",CPMS_Detail!D448)","v":""},"",{"$f":"IF(COUNTIF(AT$2:AT426,AT426)=1,AT426,\"\")","v":""},"","","",null,{"$f":"+IF(BE426=\"\",\"\",MAX(AZ$1:AZ425)+1)","v":""},{"$f":"IF(Mercury!B448=\"\",\"\",Mercury!B448)","v":""},{"$f":"IF(Mercury!C448=\"\",\"\",Mercury!C448)","v":""},{"$f":"IF(Mercury!D448=\"\",\"\",Mercury!D448)","v":""},"",{"$f":"IF(COUNTIF(BB$2:BB426,BB426)=1,BB426,\"\")","v":""},"","",""]
[{"$f":"+IF(D427=\"\",\"\",MAX(A$1:A426)+1)","v":""},{"$f":"IF(CEM_COM_CPMS_Identification!C449=\"\",\"\",CEM_COM_CPMS_Identification!C449)","v":""},"",{"$f":"IF(COUNTIF(B$2:B427,B427)=1,B427,\"\")","v":""},null,null,null,null,null,null,null,null,null,null,null,null,null,null,null,{"$f":"+IF(Y427=\"\",\"\",MAX(T$1:T426)+1)","v":""},{"$f":"IF(No_CPMS_Limits_Details!B449=\"\",\"\",No_CPMS_Limits_Details!B449)","v":""},{"$f":"IF(No_CPMS_Limits_Details!C449=\"\",\"\",No_CPMS_Limits_Details!C449)","v":""},{"$f":"IF(No_CPMS_Limits_Details!D449=\"\",\"\",No_CPMS_Limits_Details!D449)","v":""},"",{"$f":"IF(COUNTIF(V$2:V427,V427)=1,V427,\"\")","v":""},"","","",null,{"$f":"+IF(AI427=\"\",\"\",MAX(AD$1:AD426)+1)","v":""},{"$f":"IF(Limits_Details_w_CPMS!B449=\"\",\"\",Limits_Details_w_CPMS!B449)","v":""},{"$f":"IF(Limits_Details_w_CPMS!C449=\"\",\"\",Limits_Details_w_CPMS!C449)","v":""},{"$f":"IF(Limits_Details_w_CPMS!D449=\"\",\"\",Limits_Details_w_CPMS!D449)","v":""},"",{"$f":"IF(COUNTIF(AH$2:AH427,AH427)=1,AH427,\"\")","v":""},"","","",null,null,null,{"$f":"+IF(AU427=\"\",\"\",MAX(AP$1:AP426)+1)","v":""},{"$f":"IF(CPMS_Detail!B449=\"\",\"\",CPMS_Detail!B449)","v":""},{"$f":"IF(CPMS_Detail!C449=\"\",\"\",CPMS_Detail!C449)","v":""},{"$f":"IF(CPMS_Detail!D449=\"\",\"\",CPMS_Detail!D449)","v":""},"",{"$f":"IF(COUNTIF(AT$2:AT427,AT427)=1,AT427,\"\")","v":""},"","","",null,{"$f":"+IF(BE427=\"\",\"\",MAX(AZ$1:AZ426)+1)","v":""},{"$f":"IF(Mercury!B449=\"\",\"\",Mercury!B449)","v":""},{"$f":"IF(Mercury!C449=\"\",\"\",Mercury!C449)","v":""},{"$f":"IF(Mercury!D449=\"\",\"\",Mercury!D449)","v":""},"",{"$f":"IF(COUNTIF(BB$2:BB427,BB427)=1,BB427,\"\")","v":""},"","",""]
[{"$f":"+IF(D428=\"\",\"\",MAX(A$1:A427)+1)","v":""},{"$f":"IF(CEM_COM_CPMS_Identification!C450=\"\",\"\",CEM_COM_CPMS_Identification!C450)","v":""},"",{"$f":"IF(COUNTIF(B$2:B428,B428)=1,B428,\"\")","v":""},null,null,null,null,null,null,null,null,null,null,null,null,null,null,null,{"$f":"+IF(Y428=\"\",\"\",MAX(T$1:T427)+1)","v":""},{"$f":"IF(No_CPMS_Limits_Details!B450=\"\",\"\",No_CPMS_Limits_Details!B450)","v":""},{"$f":"IF(No_CPMS_Limits_Details!C450=\"\",\"\",No_CPMS_Limits_Details!C450)","v":""},{"$f":"IF(No_CPMS_Limits_Details!D450=\"\",\"\",No_CPMS_Limits_Details!D450)","v":""},"",{"$f":"IF(COUNTIF(V$2:V428,V428)=1,V428,\"\")","v":""},"","","",null,{"$f":"+IF(AI428=\"\",\"\",MAX(AD$1:AD427)+1)","v":""},{"$f":"IF(Limits_Details_w_CPMS!B450=\"\",\"\",Limits_Details_w_CPMS!B450)","v":""},{"$f":"IF(Limits_Details_w_CPMS!C450=\"\",\"\",Limits_Details_w_CPMS!C450)","v":""},{"$f":"IF(Limits_Details_w_CPMS!D450=\"\",\"\",Limits_Details_w_CPMS!D450)","v":""},"",{"$f":"IF(COUNTIF(AH$2:AH428,AH428)=1,AH428,\"\")","v":""},"","","",null,null,null,{"$f":"+IF(AU428=\"\",\"\",MAX(AP$1:AP427)+1)","v":""},{"$f":"IF(CPMS_Detail!B450=\"\",\"\",CPMS_Detail!B450)","v":""},{"$f":"IF(CPMS_Detail!C450=\"\",\"\",CPMS_Detail!C450)","v":""},{"$f":"IF(CPMS_Detail!D450=\"\",\"\",CPMS_Detail!D450)","v":""},"",{"$f":"IF(COUNTIF(AT$2:AT428,AT428)=1,AT428,\"\")","v":""},"","","",null,{"$f":"+IF(BE428=\"\",\"\",MAX(AZ$1:AZ427)+1)","v":""},{"$f":"IF(Mercury!B450=\"\",\"\",Mercury!B450)","v":""},{"$f":"IF(Mercury!C450=\"\",\"\",Mercury!C450)","v":""},{"$f":"IF(Mercury!D450=\"\",\"\",Mercury!D450)","v":""},"",{"$f":"IF(COUNTIF(BB$2:BB428,BB428)=1,BB428,\"\")","v":""},"","",""]
[{"$f":"+IF(D429=\"\",\"\",MAX(A$1:A428)+1)","v":""},{"$f":"IF(CEM_COM_CPMS_Identification!C451=\"\",\"\",CEM_COM_CPMS_Identification!C451)","v":""},"",{"$f":"IF(COUNTIF(B$2:B429,B429)=1,B429,\"\")","v":""},null,null,null,null,null,null,null,null,null,null,null,null,null,null,null,{"$f":"+IF(Y429=\"\",\"\",MAX(T$1:T428)+1)","v":""},{"$f":"IF(No_CPMS_Limits_Details!B451=\"\",\"\",No_CPMS_Limits_Details!B451)","v":""},{"$f":"IF(No_CPMS_Limits_Details!C451=\"\",\"\",No_CPMS_Limits_Details!C451)","v":""},{"$f":"IF(No_CPMS_Limits_Details!D451=\"\",\"\",No_CPMS_Limits_Details!D451)","v":""},"",{"$f":"IF(COUNTIF(V$2:V429,V429)=1,V429,\"\")","v":""},"","","",null,{"$f":"+IF(AI429=\"\",\"\",MAX(AD$1:AD428)+1)","v":""},{"$f":"IF(Limits_Details_w_CPMS!B451=\"\",\"\",Limits_Details_w_CPMS!B451)","v":""},{"$f":"IF(Limits_Details_w_CPMS!C451=\"\",\"\",Limits_Details_w_CPMS!C451)","v":""},{"$f":"IF(Limits_Details_w_CPMS!D451=\"\",\"\",Limits_Details_w_CPMS!D451)","v":""},"",{"$f":"IF(COUNTIF(AH$2:AH429,AH429)=1,AH429,\"\")","v":""},"","","",null,null,null,{"$f":"+IF(AU429=\"\",\"\",MAX(AP$1:AP428)+1)","v":""},{"$f":"IF(CPMS_Detail!B451=\"\",\"\",CPMS_Detail!B451)","v":""},{"$f":"IF(CPMS_Detail!C451=\"\",\"\",CPMS_Detail!C451)","v":""},{"$f":"IF(CPMS_Detail!D451=\"\",\"\",CPMS_Detail!D451)","v":""},"",{"$f":"IF(COUNTIF(AT$2:AT429,AT429)=1,AT429,\"\")","v":""},"","","",null,{"$f":"+IF(BE429=\"\",\"\",MAX(AZ$1:AZ428)+1)","v":""},{"$f":"IF(Mercury!B451=\"\",\"\",Mercury!B451)","v":""},{"$f":"IF(Mercury!C451=\"\",\"\",Mercury!C451)","v":""},{"$f":"IF(Mercury!D451=\"\",\"\",Mercury!D451)","v":""},"",{"$f":"IF(COUNTIF(BB$2:BB429,BB429)=1,BB429,\"\")","v":""},"","",""]
[{"$f":"+IF(D430=\"\",\"\",MAX(A$1:A429)+1)","v":""},{"$f":"IF(CEM_COM_CPMS_Identification!C452=\"\",\"\",CEM_COM_CPMS_Identification!C452)","v":""},"",{"$f":"IF(COUNTIF(B$2:B430,B430)=1,B430,\"\")","v":""},null,null,null,null,null,null,null,null,null,null,null,null,null,null,null,{"$f":"+IF(Y430=\"\",\"\",MAX(T$1:T429)+1)","v":""},{"$f":"IF(No_CPMS_Limits_Details!B452=\"\",\"\",No_CPMS_Limits_Details!B452)","v":""},{"$f":"IF(No_CPMS_Limits_Details!C452=\"\",\"\",No_CPMS_Limits_Details!C452)","v":""},{"$f":"IF(No_CPMS_Limits_Details!D452=\"\",\"\",No_CPMS_Limits_Details!D452)","v":""},"",{"$f":"IF(COUNTIF(V$2:V430,V430)=1,V430,\"\")","v":""},"","","",null,{"$f":"+IF(AI430=\"\",\"\",MAX(AD$1:AD429)+1)","v":""},{"$f":"IF(Limits_Details_w_CPMS!B452=\"\",\"\",Limits_Details_w_CPMS!B452)","v":""},{"$f":"IF(Limits_Details_w_CPMS!C452=\"\",\"\",Limits_Details_w_CPMS!C452)","v":""},{"$f":"IF(Limits_Details_w_CPMS!D452=\"\",\"\",Limits_Details_w_CPMS!D452)","v":""},"",{"$f":"IF(COUNTIF(AH$2:AH430,AH430)=1,AH430,\"\")","v":""},"","","",null,null,null,{"$f":"+IF(AU430=\"\",\"\",MAX(AP$1:AP429)+1)","v":""},{"$f":"IF(CPMS_Detail!B452=\"\",\"\",CPMS_Detail!B452)","v":""},{"$f":"IF(CPMS_Detail!C452=\"\",\"\",CPMS_Detail!C452)","v":""},{"$f":"IF(CPMS_Detail!D452=\"\",\"\",CPMS_Detail!D452)","v":""},"",{"$f":"IF(COUNTIF(AT$2:AT430,AT430)=1,AT430,\"\")","v":""},"","","",null,{"$f":"+IF(BE430=\"\",\"\",MAX(AZ$1:AZ429)+1)","v":""},{"$f":"IF(Mercury!B452=\"\",\"\",Mercury!B452)","v":""},{"$f":"IF(Mercury!C452=\"\",\"\",Mercury!C452)","v":""},{"$f":"IF(Mercury!D452=\"\",\"\",Mercury!D452)","v":""},"",{"$f":"IF(COUNTIF(BB$2:BB430,BB430)=1,BB430,\"\")","v":""},"","",""]
[{"$f":"+IF(D431=\"\",\"\",MAX(A$1:A430)+1)","v":""},{"$f":"IF(CEM_COM_CPMS_Identification!C453=\"\",\"\",CEM_COM_CPMS_Identification!C453)","v":""},"",{"$f":"IF(COUNTIF(B$2:B431,B431)=1,B431,\"\")","v":""},null,null,null,null,null,null,null,null,null,null,null,null,null,null,null,{"$f":"+IF(Y431=\"\",\"\",MAX(T$1:T430)+1)","v":""},{"$f":"IF(No_CPMS_Limits_Details!B453=\"\",\"\",No_CPMS_Limits_Details!B453)","v":""},{"$f":"IF(No_CPMS_Limits_Details!C453=\"\",\"\",No_CPMS_Limits_Details!C453)","v":""},{"$f":"IF(No_CPMS_Limits_Details!D453=\"\",\"\",No_CPMS_Limits_Details!D453)","v":""},"",{"$f":"IF(COUNTIF(V$2:V431,V431)=1,V431,\"\")","v":""},"","","",null,{"$f":"+IF(AI431=\"\",\"\",MAX(AD$1:AD430)+1)","v":""},{"$f":"IF(Limits_Details_w_CPMS!B453=\"\",\"\",Limits_Details_w_CPMS!B453)","v":""},{"$f":"IF(Limits_Details_w_CPMS!C453=\"\",\"\",Limits_Details_w_CPMS!C453)","v":""},{"$f":"IF(Limits_Details_w_CPMS!D453=\"\",\"\",Limits_Details_w_CPMS!D453)","v":""},"",{"$f":"IF(COUNTIF(AH$2:AH431,AH431)=1,AH431,\"\")","v":""},"","","",null,null,null,{"$f":"+IF(AU431=\"\",\"\",MAX(AP$1:AP430)+1)","v":""},{"$f":"IF(CPMS_Detail!B453=\"\",\"\",CPMS_Detail!B453)","v":""},{"$f":"IF(CPMS_Detail!C453=\"\",\"\",CPMS_Detail!C453)","v":""},{"$f":"IF(CPMS_Detail!D453=\"\",\"\",CPMS_Detail!D453)","v":""},"",{"$f":"IF(COUNTIF(AT$2:AT431,AT431)=1,AT431,\"\")","v":""},"","","",null,{"$f":"+IF(BE431=\"\",\"\",MAX(AZ$1:AZ430)+1)","v":""},{"$f":"IF(Mercury!B453=\"\",\"\",Mercury!B453)","v":""},{"$f":"IF(Mercury!C453=\"\",\"\",Mercury!C453)","v":""},{"$f":"IF(Mercury!D453=\"\",\"\",Mercury!D453)","v":""},"",{"$f":"IF(COUNTIF(BB$2:BB431,BB431)=1,BB431,\"\")","v":""},"","",""]
[{"$f":"+IF(D432=\"\",\"\",MAX(A$1:A431)+1)","v":""},{"$f":"IF(CEM_COM_CPMS_Identification!C454=\"\",\"\",CEM_COM_CPMS_Identification!C454)","v":""},"",{"$f":"IF(COUNTIF(B$2:B432,B432)=1,B432,\"\")","v":""},null,null,null,null,null,null,null,null,null,null,null,null,null,null,null,{"$f":"+IF(Y432=\"\",\"\",MAX(T$1:T431)+1)","v":""},{"$f":"IF(No_CPMS_Limits_Details!B454=\"\",\"\",No_CPMS_Limits_Details!B454)","v":""},{"$f":"IF(No_CPMS_Limits_Details!C454=\"\",\"\",No_CPMS_Limits_Details!C454)","v":""},{"$f":"IF(No_CPMS_Limits_Details!D454=\"\",\"\",No_CPMS_Limits_Details!D454)","v":""},"",{"$f":"IF(COUNTIF(V$2:V432,V432)=1,V432,\"\")","v":""},"","","",null,{"$f":"+IF(AI432=\"\",\"\",MAX(AD$1:AD431)+1)","v":""},{"$f":"IF(Limits_Details_w_CPMS!B454=\"\",\"\",Limits_Details_w_CPMS!B454)","v":""},{"$f":"IF(Limits_Details_w_CPMS!C454=\"\",\"\",Limits_Details_w_CPMS!C454)","v":""},{"$f":"IF(Limits_Details_w_CPMS!D454=\"\",\"\",Limits_Details_w_CPMS!D454)","v":""},"",{"$f":"IF(COUNTIF(AH$2:AH432,AH432)=1,AH432,\"\")","v":""},"","","",null,null,null,{"$f":"+IF(AU432=\"\",\"\",MAX(AP$1:AP431)+1)","v":""},{"$f":"IF(CPMS_Detail!B454=\"\",\"\",CPMS_Detail!B454)","v":""},{"$f":"IF(CPMS_Detail!C454=\"\",\"\",CPMS_Detail!C454)","v":""},{"$f":"IF(CPMS_Detail!D454=\"\",\"\",CPMS_Detail!D454)","v":""},"",{"$f":"IF(COUNTIF(AT$2:AT432,AT432)=1,AT432,\"\")","v":""},"","","",null,{"$f":"+IF(BE432=\"\",\"\",MAX(AZ$1:AZ431)+1)","v":""},{"$f":"IF(Mercury!B454=\"\",\"\",Mercury!B454)","v":""},{"$f":"IF(Mercury!C454=\"\",\"\",Mercury!C454)","v":""},{"$f":"IF(Mercury!D454=\"\",\"\",Mercury!D454)","v":""},"",{"$f":"IF(COUNTIF(BB$2:BB432,BB432)=1,BB432,\"\")","v":""},"","",""]
[{"$f":"+IF(D433=\"\",\"\",MAX(A$1:A432)+1)","v":""},{"$f":"IF(CEM_COM_CPMS_Identification!C455=\"\",\"\",CEM_COM_CPMS_Identification!C455)","v":""},"",{"$f":"IF(COUNTIF(B$2:B433,B433)=1,B433,\"\")","v":""},null,null,null,null,null,null,null,null,null,null,null,null,null,null,null,{"$f":"+IF(Y433=\"\",\"\",MAX(T$1:T432)+1)","v":""},{"$f":"IF(No_CPMS_Limits_Details!B455=\"\",\"\",No_CPMS_Limits_Details!B455)","v":""},{"$f":"IF(No_CPMS_Limits_Details!C455=\"\",\"\",No_CPMS_Limits_Details!C455)","v":""},{"$f":"IF(No_CPMS_Limits_Details!D455=\"\",\"\",No_CPMS_Limits_Details!D455)","v":""},"",{"$f":"IF(COUNTIF(V$2:V433,V433)=1,V433,\"\")","v":""},"","","",null,{"$f":"+IF(AI433=\"\",\"\",MAX(AD$1:AD432)+1)","v":""},{"$f":"IF(Limits_Details_w_CPMS!B455=\"\",\"\",Limits_Details_w_CPMS!B455)","v":""},{"$f":"IF(Limits_Details_w_CPMS!C455=\"\",\"\",Limits_Details_w_CPMS!C455)","v":""},{"$f":"IF(Limits_Details_w_CPMS!D455=\"\",\"\",Limits_Details_w_CPMS!D455)","v":""},"",{"$f":"IF(COUNTIF(AH$2:AH433,AH433)=1,AH433,\"\")","v":""},"","","",null,null,null,{"$f":"+IF(AU433=\"\",\"\",MAX(AP$1:AP432)+1)","v":""},{"$f":"IF(CPMS_Detail!B455=\"\",\"\",CPMS_Detail!B455)","v":""},{"$f":"IF(CPMS_Detail!C455=\"\",\"\",CPMS_Detail!C455)","v":""},{"$f":"IF(CPMS_Detail!D455=\"\",\"\",CPMS_Detail!D455)","v":""},"",{"$f":"IF(COUNTIF(AT$2:AT433,AT433)=1,AT433,\"\")","v":""},"","","",null,{"$f":"+IF(BE433=\"\",\"\",MAX(AZ$1:AZ432)+1)","v":""},{"$f":"IF(Mercury!B455=\"\",\"\",Mercury!B455)","v":""},{"$f":"IF(Mercury!C455=\"\",\"\",Mercury!C455)","v":""},{"$f":"IF(Mercury!D455=\"\",\"\",Mercury!D455)","v":""},"",{"$f":"IF(COUNTIF(BB$2:BB433,BB433)=1,BB433,\"\")","v":""},"","",""]
[{"$f":"+IF(D434=\"\",\"\",MAX(A$1:A433)+1)","v":""},{"$f":"IF(CEM_COM_CPMS_Identification!C456=\"\",\"\",CEM_COM_CPMS_Identification!C456)","v":""},"",{"$f":"IF(COUNTIF(B$2:B434,B434)=1,B434,\"\")","v":""},null,null,null,null,null,null,null,null,null,null,null,null,null,null,null,{"$f":"+IF(Y434=\"\",\"\",MAX(T$1:T433)+1)","v":""},{"$f":"IF(No_CPMS_Limits_Details!B456=\"\",\"\",No_CPMS_Limits_Details!B456)","v":""},{"$f":"IF(No_CPMS_Limits_Details!C456=\"\",\"\",No_CPMS_Limits_Details!C456)","v":""},{"$f":"IF(No_CPMS_Limits_Details!D456=\"\",\"\",No_CPMS_Limits_Details!D456)","v":""},"",{"$f":"IF(COUNTIF(V$2:V434,V434)=1,V434,\"\")","v":""},"","","",null,{"$f":"+IF(AI434=\"\",\"\",MAX(AD$1:AD433)+1)","v":""},{"$f":"IF(Limits_Details_w_CPMS!B456=\"\",\"\",Limits_Details_w_CPMS!B456)","v":""},{"$f":"IF(Limits_Details_w_CPMS!C456=\"\",\"\",Limits_Details_w_CPMS!C456)","v":""},{"$f":"IF(Limits_Details_w_CPMS!D456=\"\",\"\",Limits_Details_w_CPMS!D456)","v":""},"",{"$f":"IF(COUNTIF(AH$2:AH434,AH434)=1,AH434,\"\")","v":""},"","","",null,null,null,{"$f":"+IF(AU434=\"\",\"\",MAX(AP$1:AP433)+1)","v":""},{"$f":"IF(CPMS_Detail!B456=\"\",\"\",CPMS_Detail!B456)","v":""},{"$f":"IF(CPMS_Detail!C456=\"\",\"\",CPMS_Detail!C456)","v":""},{"$f":"IF(CPMS_Detail!D456=\"\",\"\",CPMS_Detail!D456)","v":""},"",{"$f":"IF(COUNTIF(AT$2:AT434,AT434)=1,AT434,\"\")","v":""},"","","",null,{"$f":"+IF(BE434=\"\",\"\",MAX(AZ$1:AZ433)+1)","v":""},{"$f":"IF(Mercury!B456=\"\",\"\",Mercury!B456)","v":""},{"$f":"IF(Mercury!C456=\"\",\"\",Mercury!C456)","v":""},{"$f":"IF(Mercury!D456=\"\",\"\",Mercury!D456)","v":""},"",{"$f":"IF(COUNTIF(BB$2:BB434,BB434)=1,BB434,\"\")","v":""},"","",""]
[{"$f":"+IF(D435=\"\",\"\",MAX(A$1:A434)+1)","v":""},{"$f":"IF(CEM_COM_CPMS_Identification!C457=\"\",\"\",CEM_COM_CPMS_Identification!C457)","v":""},"",{"$f":"IF(COUNTIF(B$2:B435,B435)=1,B435,\"\")","v":""},null,null,null,null,null,null,null,null,null,null,null,null,null,null,null,{"$f":"+IF(Y435=\"\",\"\",MAX(T$1:T434)+1)","v":""},{"$f":"IF(No_CPMS_Limits_Details!B457=\"\",\"\",No_CPMS_Limits_Details!B457)","v":""},{"$f":"IF(No_CPMS_Limits_Details!C457=\"\",\"\",No_CPMS_Limits_Details!C457)","v":""},{"$f":"IF(No_CPMS_Limits_Details!D457=\"\",\"\",No_CPMS_Limits_Details!D457)","v":""},"",{"$f":"IF(COUNTIF(V$2:V435,V435)=1,V435,\"\")","v":""},"","","",null,{"$f":"+IF(AI435=\"\",\"\",MAX(AD$1:AD434)+1)","v":""},{"$f":"IF(Limits_Details_w_CPMS!B457=\"\",\"\",Limits_Details_w_CPMS!B457)","v":""},{"$f":"IF(Limits_Details_w_CPMS!C457=\"\",\"\",Limits_Details_w_CPMS!C457)","v":""},{"$f":"IF(Limits_Details_w_CPMS!D457=\"\",\"\",Limits_Details_w_CPMS!D457)","v":""},"",{"$f":"IF(COUNTIF(AH$2:AH435,AH435)=1,AH435,\"\")","v":""},"","","",null,null,null,{"$f":"+IF(AU435=\"\",\"\",MAX(AP$1:AP434)+1)","v":""},{"$f":"IF(CPMS_Detail!B457=\"\",\"\",CPMS_Detail!B457)","v":""},{"$f":"IF(CPMS_Detail!C457=\"\",\"\",CPMS_Detail!C457)","v":""},{"$f":"IF(CPMS_Detail!D457=\"\",\"\",CPMS_Detail!D457)","v":""},"",{"$f":"IF(COUNTIF(AT$2:AT435,AT435)=1,AT435,\"\")","v":""},"","","",null,{"$f":"+IF(BE435=\"\",\"\",MAX(AZ$1:AZ434)+1)","v":""},{"$f":"IF(Mercury!B457=\"\",\"\",Mercury!B457)","v":""},{"$f":"IF(Mercury!C457=\"\",\"\",Mercury!C457)","v":""},{"$f":"IF(Mercury!D457=\"\",\"\",Mercury!D457)","v":""},"",{"$f":"IF(COUNTIF(BB$2:BB435,BB435)=1,BB435,\"\")","v":""},"","",""]
[{"$f":"+IF(D436=\"\",\"\",MAX(A$1:A435)+1)","v":""},{"$f":"IF(CEM_COM_CPMS_Identification!C458=\"\",\"\",CEM_COM_CPMS_Identification!C458)","v":""},"",{"$f":"IF(COUNTIF(B$2:B436,B436)=1,B436,\"\")","v":""},null,null,null,null,null,null,null,null,null,null,null,null,null,null,null,{"$f":"+IF(Y436=\"\",\"\",MAX(T$1:T435)+1)","v":""},{"$f":"IF(No_CPMS_Limits_Details!B458=\"\",\"\",No_CPMS_Limits_Details!B458)","v":""},{"$f":"IF(No_CPMS_Limits_Details!C458=\"\",\"\",No_CPMS_Limits_Details!C458)","v":""},{"$f":"IF(No_CPMS_Limits_Details!D458=\"\",\"\",No_CPMS_Limits_Details!D458)","v":""},"",{"$f":"IF(COUNTIF(V$2:V436,V436)=1,V436,\"\")","v":""},"","","",null,{"$f":"+IF(AI436=\"\",\"\",MAX(AD$1:AD435)+1)","v":""},{"$f":"IF(Limits_Details_w_CPMS!B458=\"\",\"\",Limits_Details_w_CPMS!B458)","v":""},{"$f":"IF(Limits_Details_w_CPMS!C458=\"\",\"\",Limits_Details_w_CPMS!C458)","v":""},{"$f":"IF(Limits_Details_w_CPMS!D458=\"\",\"\",Limits_Details_w_CPMS!D458)","v":""},"",{"$f":"IF(COUNTIF(AH$2:AH436,AH436)=1,AH436,\"\")","v":""},"","","",null,null,null,{"$f":"+IF(AU436=\"\",\"\",MAX(AP$1:AP435)+1)","v":""},{"$f":"IF(CPMS_Detail!B458=\"\",\"\",CPMS_Detail!B458)","v":""},{"$f":"IF(CPMS_Detail!C458=\"\",\"\",CPMS_Detail!C458)","v":""},{"$f":"IF(CPMS_Detail!D458=\"\",\"\",CPMS_Detail!D458)","v":""},"",{"$f":"IF(COUNTIF(AT$2:AT436,AT436)=1,AT436,\"\")","v":""},"","","",null,{"$f":"+IF(BE436=\"\",\"\",MAX(AZ$1:AZ435)+1)","v":""},{"$f":"IF(Mercury!B458=\"\",\"\",Mercury!B458)","v":""},{"$f":"IF(Mercury!C458=\"\",\"\",Mercury!C458)","v":""},{"$f":"IF(Mercury!D458=\"\",\"\",Mercury!D458)","v":""},"",{"$f":"IF(COUNTIF(BB$2:BB436,BB436)=1,BB436,\"\")","v":""},"","",""]
[{"$f":"+IF(D437=\"\",\"\",MAX(A$1:A436)+1)","v":""},{"$f":"IF(CEM_COM_CPMS_Identification!C459=\"\",\"\",CEM_COM_CPMS_Identification!C459)","v":""},"",{"$f":"IF(COUNTIF(B$2:B437,B437)=1,B437,\"\")","v":""},null,null,null,null,null,null,null,null,null,null,null,null,null,null,null,{"$f":"+IF(Y437=\"\",\"\",MAX(T$1:T436)+1)","v":""},{"$f":"IF(No_CPMS_Limits_Details!B459=\"\",\"\",No_CPMS_Limits_Details!B459)","v":""},{"$f":"IF(No_CPMS_Limits_Details!C459=\"\",\"\",No_CPMS_Limits_Details!C459)","v":""},{"$f":"IF(No_CPMS_Limits_Details!D459=\"\",\"\",No_CPMS_Limits_Details!D459)","v":""},"",{"$f":"IF(COUNTIF(V$2:V437,V437)=1,V437,\"\")","v":""},"","","",null,{"$f":"+IF(AI437=\"\",\"\",MAX(AD$1:AD436)+1)","v":""},{"$f":"IF(Limits_Details_w_CPMS!B459=\"\",\"\",Limits_Details_w_CPMS!B459)","v":""},{"$f":"IF(Limits_Details_w_CPMS!C459=\"\",\"\",Limits_Details_w_CPMS!C459)","v":""},{"$f":"IF(Limits_Details_w_CPMS!D459=\"\",\"\",Limits_Details_w_CPMS!D459)","v":""},"",{"$f":"IF(COUNTIF(AH$2:AH437,AH437)=1,AH437,\"\")","v":""},"","","",null,null,null,{"$f":"+IF(AU437=\"\",\"\",MAX(AP$1:AP436)+1)","v":""},{"$f":"IF(CPMS_Detail!B459=\"\",\"\",CPMS_Detail!B459)","v":""},{"$f":"IF(CPMS_Detail!C459=\"\",\"\",CPMS_Detail!C459)","v":""},{"$f":"IF(CPMS_Detail!D459=\"\",\"\",CPMS_Detail!D459)","v":""},"",{"$f":"IF(COUNTIF(AT$2:AT437,AT437)=1,AT437,\"\")","v":""},"","","",null,{"$f":"+IF(BE437=\"\",\"\",MAX(AZ$1:AZ436)+1)","v":""},{"$f":"IF(Mercury!B459=\"\",\"\",Mercury!B459)","v":""},{"$f":"IF(Mercury!C459=\"\",\"\",Mercury!C459)","v":""},{"$f":"IF(Mercury!D459=\"\",\"\",Mercury!D459)","v":""},"",{"$f":"IF(COUNTIF(BB$2:BB437,BB437)=1,BB437,\"\")","v":""},"","",""]
[{"$f":"+IF(D438=\"\",\"\",MAX(A$1:A437)+1)","v":""},{"$f":"IF(CEM_COM_CPMS_Identification!C460=\"\",\"\",CEM_COM_CPMS_Identification!C460)","v":""},"",{"$f":"IF(COUNTIF(B$2:B438,B438)=1,B438,\"\")","v":""},null,null,null,null,null,null,null,null,null,null,null,null,null,null,null,{"$f":"+IF(Y438=\"\",\"\",MAX(T$1:T437)+1)","v":""},{"$f":"IF(No_CPMS_Limits_Details!B460=\"\",\"\",No_CPMS_Limits_Details!B460)","v":""},{"$f":"IF(No_CPMS_Limits_Details!C460=\"\",\"\",No_CPMS_Limits_Details!C460)","v":""},{"$f":"IF(No_CPMS_Limits_Details!D460=\"\",\"\",No_CPMS_Limits_Details!D460)","v":""},"",{"$f":"IF(COUNTIF(V$2:V438,V438)=1,V438,\"\")","v":""},"","","",null,{"$f":"+IF(AI438=\"\",\"\",MAX(AD$1:AD437)+1)","v":""},{"$f":"IF(Limits_Details_w_CPMS!B460=\"\",\"\",Limits_Details_w_CPMS!B460)","v":""},{"$f":"IF(Limits_Details_w_CPMS!C460=\"\",\"\",Limits_Details_w_CPMS!C460)","v":""},{"$f":"IF(Limits_Details_w_CPMS!D460=\"\",\"\",Limits_Details_w_CPMS!D460)","v":""},"",{"$f":"IF(COUNTIF(AH$2:AH438,AH438)=1,AH438,\"\")","v":""},"","","",null,null,null,{"$f":"+IF(AU438=\"\",\"\",MAX(AP$1:AP437)+1)","v":""},{"$f":"IF(CPMS_Detail!B460=\"\",\"\",CPMS_Detail!B460)","v":""},{"$f":"IF(CPMS_Detail!C460=\"\",\"\",CPMS_Detail!C460)","v":""},{"$f":"IF(CPMS_Detail!D460=\"\",\"\",CPMS_Detail!D460)","v":""},"",{"$f":"IF(COUNTIF(AT$2:AT438,AT438)=1,AT438,\"\")","v":""},"","","",null,{"$f":"+IF(BE438=\"\",\"\",MAX(AZ$1:AZ437)+1)","v":""},{"$f":"IF(Mercury!B460=\"\",\"\",Mercury!B460)","v":""},{"$f":"IF(Mercury!C460=\"\",\"\",Mercury!C460)","v":""},{"$f":"IF(Mercury!D460=\"\",\"\",Mercury!D460)","v":""},"",{"$f":"IF(COUNTIF(BB$2:BB438,BB438)=1,BB438,\"\")","v":""},"","",""]
[{"$f":"+IF(D439=\"\",\"\",MAX(A$1:A438)+1)","v":""},{"$f":"IF(CEM_COM_CPMS_Identification!C461=\"\",\"\",CEM_COM_CPMS_Identification!C461)","v":""},"",{"$f":"IF(COUNTIF(B$2:B439,B439)=1,B439,\"\")","v":""},null,null,null,null,null,null,null,null,null,null,null,null,null,null,null,{"$f":"+IF(Y439=\"\",\"\",MAX(T$1:T438)+1)","v":""},{"$f":"IF(No_CPMS_Limits_Details!B461=\"\",\"\",No_CPMS_Limits_Details!B461)","v":""},{"$f":"IF(No_CPMS_Limits_Details!C461=\"\",\"\",No_CPMS_Limits_Details!C461)","v":""},{"$f":"IF(No_CPMS_Limits_Details!D461=\"\",\"\",No_CPMS_Limits_Details!D461)","v":""},"",{"$f":"IF(COUNTIF(V$2:V439,V439)=1,V439,\"\")","v":""},"","","",null,{"$f":"+IF(AI439=\"\",\"\",MAX(AD$1:AD438)+1)","v":""},{"$f":"IF(Limits_Details_w_CPMS!B461=\"\",\"\",Limits_Details_w_CPMS!B461)","v":""},{"$f":"IF(Limits_Details_w_CPMS!C461=\"\",\"\",Limits_Details_w_CPMS!C461)","v":""},{"$f":"IF(Limits_Details_w_CPMS!D461=\"\",\"\",Limits_Details_w_CPMS!D461)","v":""},"",{"$f":"IF(COUNTIF(AH$2:AH439,AH439)=1,AH439,\"\")","v":""},"","","",null,null,null,{"$f":"+IF(AU439=\"\",\"\",MAX(AP$1:AP438)+1)","v":""},{"$f":"IF(CPMS_Detail!B461=\"\",\"\",CPMS_Detail!B461)","v":""},{"$f":"IF(CPMS_Detail!C461=\"\",\"\",CPMS_Detail!C461)","v":""},{"$f":"IF(CPMS_Detail!D461=\"\",\"\",CPMS_Detail!D461)","v":""},"",{"$f":"IF(COUNTIF(AT$2:AT439,AT439)=1,AT439,\"\")","v":""},"","","",null,{"$f":"+IF(BE439=\"\",\"\",MAX(AZ$1:AZ438)+1)","v":""},{"$f":"IF(Mercury!B461=\"\",\"\",Mercury!B461)","v":""},{"$f":"IF(Mercury!C461=\"\",\"\",Mercury!C461)","v":""},{"$f":"IF(Mercury!D461=\"\",\"\",Mercury!D461)","v":""},"",{"$f":"IF(COUNTIF(BB$2:BB439,BB439)=1,BB439,\"\")","v":""},"","",""]
[{"$f":"+IF(D440=\"\",\"\",MAX(A$1:A439)+1)","v":""},{"$f":"IF(CEM_COM_CPMS_Identification!C462=\"\",\"\",CEM_COM_CPMS_Identification!C462)","v":""},"",{"$f":"IF(COUNTIF(B$2:B440,B440)=1,B440,\"\")","v":""},null,null,null,null,null,null,null,null,null,null,null,null,null,null,null,{"$f":"+IF(Y440=\"\",\"\",MAX(T$1:T439)+1)","v":""},{"$f":"IF(No_CPMS_Limits_Details!B462=\"\",\"\",No_CPMS_Limits_Details!B462)","v":""},{"$f":"IF(No_CPMS_Limits_Details!C462=\"\",\"\",No_CPMS_Limits_Details!C462)","v":""},{"$f":"IF(No_CPMS_Limits_Details!D462=\"\",\"\",No_CPMS_Limits_Details!D462)","v":""},"",{"$f":"IF(COUNTIF(V$2:V440,V440)=1,V440,\"\")","v":""},"","","",null,{"$f":"+IF(AI440=\"\",\"\",MAX(AD$1:AD439)+1)","v":""},{"$f":"IF(Limits_Details_w_CPMS!B462=\"\",\"\",Limits_Details_w_CPMS!B462)","v":""},{"$f":"IF(Limits_Details_w_CPMS!C462=\"\",\"\",Limits_Details_w_CPMS!C462)","v":""},{"$f":"IF(Limits_Details_w_CPMS!D462=\"\",\"\",Limits_Details_w_CPMS!D462)","v":""},"",{"$f":"IF(COUNTIF(AH$2:AH440,AH440)=1,AH440,\"\")","v":""},"","","",null,null,null,{"$f":"+IF(AU440=\"\",\"\",MAX(AP$1:AP439)+1)","v":""},{"$f":"IF(CPMS_Detail!B462=\"\",\"\",CPMS_Detail!B462)","v":""},{"$f":"IF(CPMS_Detail!C462=\"\",\"\",CPMS_Detail!C462)","v":""},{"$f":"IF(CPMS_Detail!D462=\"\",\"\",CPMS_Detail!D462)","v":""},"",{"$f":"IF(COUNTIF(AT$2:AT440,AT440)=1,AT440,\"\")","v":""},"","","",null,{"$f":"+IF(BE440=\"\",\"\",MAX(AZ$1:AZ439)+1)","v":""},{"$f":"IF(Mercury!B462=\"\",\"\",Mercury!B462)","v":""},{"$f":"IF(Mercury!C462=\"\",\"\",Mercury!C462)","v":""},{"$f":"IF(Mercury!D462=\"\",\"\",Mercury!D462)","v":""},"",{"$f":"IF(COUNTIF(BB$2:BB440,BB440)=1,BB440,\"\")","v":""},"","",""]
[{"$f":"+IF(D441=\"\",\"\",MAX(A$1:A440)+1)","v":""},{"$f":"IF(CEM_COM_CPMS_Identification!C463=\"\",\"\",CEM_COM_CPMS_Identification!C463)","v":""},"",{"$f":"IF(COUNTIF(B$2:B441,B441)=1,B441,\"\")","v":""},null,null,null,null,null,null,null,null,null,null,null,null,null,null,null,{"$f":"+IF(Y441=\"\",\"\",MAX(T$1:T440)+1)","v":""},{"$f":"IF(No_CPMS_Limits_Details!B463=\"\",\"\",No_CPMS_Limits_Details!B463)","v":""},{"$f":"IF(No_CPMS_Limits_Details!C463=\"\",\"\",No_CPMS_Limits_Details!C463)","v":""},{"$f":"IF(No_CPMS_Limits_Details!D463=\"\",\"\",No_CPMS_Limits_Details!D463)","v":""},"",{"$f":"IF(COUNTIF(V$2:V441,V441)=1,V441,\"\")","v":""},"","","",null,{"$f":"+IF(AI441=\"\",\"\",MAX(AD$1:AD440)+1)","v":""},{"$f":"IF(Limits_Details_w_CPMS!B463=\"\",\"\",Limits_Details_w_CPMS!B463)","v":""},{"$f":"IF(Limits_Details_w_CPMS!C463=\"\",\"\",Limits_Details_w_CPMS!C463)","v":""},{"$f":"IF(Limits_Details_w_CPMS!D463=\"\",\"\",Limits_Details_w_CPMS!D463)","v":""},"",{"$f":"IF(COUNTIF(AH$2:AH441,AH441)=1,AH441,\"\")","v":""},"","","",null,null,null,{"$f":"+IF(AU441=\"\",\"\",MAX(AP$1:AP440)+1)","v":""},{"$f":"IF(CPMS_Detail!B463=\"\",\"\",CPMS_Detail!B463)","v":""},{"$f":"IF(CPMS_Detail!C463=\"\",\"\",CPMS_Detail!C463)","v":""},{"$f":"IF(CPMS_Detail!D463=\"\",\"\",CPMS_Detail!D463)","v":""},"",{"$f":"IF(COUNTIF(AT$2:AT441,AT441)=1,AT441,\"\")","v":""},"","","",null,{"$f":"+IF(BE441=\"\",\"\",MAX(AZ$1:AZ440)+1)","v":""},{"$f":"IF(Mercury!B463=\"\",\"\",Mercury!B463)","v":""},{"$f":"IF(Mercury!C463=\"\",\"\",Mercury!C463)","v":""},{"$f":"IF(Mercury!D463=\"\",\"\",Mercury!D463)","v":""},"",{"$f":"IF(COUNTIF(BB$2:BB441,BB441)=1,BB441,\"\")","v":""},"","",""]
[{"$f":"+IF(D442=\"\",\"\",MAX(A$1:A441)+1)","v":""},{"$f":"IF(CEM_COM_CPMS_Identification!C464=\"\",\"\",CEM_COM_CPMS_Identification!C464)","v":""},"",{"$f":"IF(COUNTIF(B$2:B442,B442)=1,B442,\"\")","v":""},null,null,null,null,null,null,null,null,null,null,null,null,null,null,null,{"$f":"+IF(Y442=\"\",\"\",MAX(T$1:T441)+1)","v":""},{"$f":"IF(No_CPMS_Limits_Details!B464=\"\",\"\",No_CPMS_Limits_Details!B464)","v":""},{"$f":"IF(No_CPMS_Limits_Details!C464=\"\",\"\",No_CPMS_Limits_Details!C464)","v":""},{"$f":"IF(No_CPMS_Limits_Details!D464=\"\",\"\",No_CPMS_Limits_Details!D464)","v":""},"",{"$f":"IF(COUNTIF(V$2:V442,V442)=1,V442,\"\")","v":""},"","","",null,{"$f":"+IF(AI442=\"\",\"\",MAX(AD$1:AD441)+1)","v":""},{"$f":"IF(Limits_Details_w_CPMS!B464=\"\",\"\",Limits_Details_w_CPMS!B464)","v":""},{"$f":"IF(Limits_Details_w_CPMS!C464=\"\",\"\",Limits_Details_w_CPMS!C464)","v":""},{"$f":"IF(Limits_Details_w_CPMS!D464=\"\",\"\",Limits_Details_w_CPMS!D464)","v":""},"",{"$f":"IF(COUNTIF(AH$2:AH442,AH442)=1,AH442,\"\")","v":""},"","","",null,null,null,{"$f":"+IF(AU442=\"\",\"\",MAX(AP$1:AP441)+1)","v":""},{"$f":"IF(CPMS_Detail!B464=\"\",\"\",CPMS_Detail!B464)","v":""},{"$f":"IF(CPMS_Detail!C464=\"\",\"\",CPMS_Detail!C464)","v":""},{"$f":"IF(CPMS_Detail!D464=\"\",\"\",CPMS_Detail!D464)","v":""},"",{"$f":"IF(COUNTIF(AT$2:AT442,AT442)=1,AT442,\"\")","v":""},"","","",null,{"$f":"+IF(BE442=\"\",\"\",MAX(AZ$1:AZ441)+1)","v":""},{"$f":"IF(Mercury!B464=\"\",\"\",Mercury!B464)","v":""},{"$f":"IF(Mercury!C464=\"\",\"\",Mercury!C464)","v":""},{"$f":"IF(Mercury!D464=\"\",\"\",Mercury!D464)","v":""},"",{"$f":"IF(COUNTIF(BB$2:BB442,BB442)=1,BB442,\"\")","v":""},"","",""]
[{"$f":"+IF(D443=\"\",\"\",MAX(A$1:A442)+1)","v":""},{"$f":"IF(CEM_COM_CPMS_Identification!C465=\"\",\"\",CEM_COM_CPMS_Identification!C465)","v":""},"",{"$f":"IF(COUNTIF(B$2:B443,B443)=1,B443,\"\")","v":""},null,null,null,null,null,null,null,null,null,null,null,null,null,null,null,{"$f":"+IF(Y443=\"\",\"\",MAX(T$1:T442)+1)","v":""},{"$f":"IF(No_CPMS_Limits_Details!B465=\"\",\"\",No_CPMS_Limits_Details!B465)","v":""},{"$f":"IF(No_CPMS_Limits_Details!C465=\"\",\"\",No_CPMS_Limits_Details!C465)","v":""},{"$f":"IF(No_CPMS_Limits_Details!D465=\"\",\"\",No_CPMS_Limits_Details!D465)","v":""},"",{"$f":"IF(COUNTIF(V$2:V443,V443)=1,V443,\"\")","v":""},"","","",null,{"$f":"+IF(AI443=\"\",\"\",MAX(AD$1:AD442)+1)","v":""},{"$f":"IF(Limits_Details_w_CPMS!B465=\"\",\"\",Limits_Details_w_CPMS!B465)","v":""},{"$f":"IF(Limits_Details_w_CPMS!C465=\"\",\"\",Limits_Details_w_CPMS!C465)","v":""},{"$f":"IF(Limits_Details_w_CPMS!D465=\"\",\"\",Limits_Details_w_CPMS!D465)","v":""},"",{"$f":"IF(COUNTIF(AH$2:AH443,AH443)=1,AH443,\"\")","v":""},"","","",null,null,null,{"$f":"+IF(AU443=\"\",\"\",MAX(AP$1:AP442)+1)","v":""},{"$f":"IF(CPMS_Detail!B465=\"\",\"\",CPMS_Detail!B465)","v":""},{"$f":"IF(CPMS_Detail!C465=\"\",\"\",CPMS_Detail!C465)","v":""},{"$f":"IF(CPMS_Detail!D465=\"\",\"\",CPMS_Detail!D465)","v":""},"",{"$f":"IF(COUNTIF(AT$2:AT443,AT443)=1,AT443,\"\")","v":""},"","","",null,{"$f":"+IF(BE443=\"\",\"\",MAX(AZ$1:AZ442)+1)","v":""},{"$f":"IF(Mercury!B465=\"\",\"\",Mercury!B465)","v":""},{"$f":"IF(Mercury!C465=\"\",\"\",Mercury!C465)","v":""},{"$f":"IF(Mercury!D465=\"\",\"\",Mercury!D465)","v":""},"",{"$f":"IF(COUNTIF(BB$2:BB443,BB443)=1,BB443,\"\")","v":""},"","",""]
[{"$f":"+IF(D444=\"\",\"\",MAX(A$1:A443)+1)","v":""},{"$f":"IF(CEM_COM_CPMS_Identification!C466=\"\",\"\",CEM_COM_CPMS_Identification!C466)","v":""},"",{"$f":"IF(COUNTIF(B$2:B444,B444)=1,B444,\"\")","v":""},null,null,null,null,null,null,null,null,null,null,null,null,null,null,null,{"$f":"+IF(Y444=\"\",\"\",MAX(T$1:T443)+1)","v":""},{"$f":"IF(No_CPMS_Limits_Details!B466=\"\",\"\",No_CPMS_Limits_Details!B466)","v":""},{"$f":"IF(No_CPMS_Limits_Details!C466=\"\",\"\",No_CPMS_Limits_Details!C466)","v":""},{"$f":"IF(No_CPMS_Limits_Details!D466=\"\",\"\",No_CPMS_Limits_Details!D466)","v":""},"",{"$f":"IF(COUNTIF(V$2:V444,V444)=1,V444,\"\")","v":""},"","","",null,{"$f":"+IF(AI444=\"\",\"\",MAX(AD$1:AD443)+1)","v":""},{"$f":"IF(Limits_Details_w_CPMS!B466=\"\",\"\",Limits_Details_w_CPMS!B466)","v":""},{"$f":"IF(Limits_Details_w_CPMS!C466=\"\",\"\",Limits_Details_w_CPMS!C466)","v":""},{"$f":"IF(Limits_Details_w_CPMS!D466=\"\",\"\",Limits_Details_w_CPMS!D466)","v":""},"",{"$f":"IF(COUNTIF(AH$2:AH444,AH444)=1,AH444,\"\")","v":""},"","","",null,null,null,{"$f":"+IF(AU444=\"\",\"\",MAX(AP$1:AP443)+1)","v":""},{"$f":"IF(CPMS_Detail!B466=\"\",\"\",CPMS_Detail!B466)","v":""},{"$f":"IF(CPMS_Detail!C466=\"\",\"\",CPMS_Detail!C466)","v":""},{"$f":"IF(CPMS_Detail!D466=\"\",\"\",CPMS_Detail!D466)","v":""},"",{"$f":"IF(COUNTIF(AT$2:AT444,AT444)=1,AT444,\"\")","v":""},"","","",null,{"$f":"+IF(BE444=\"\",\"\",MAX(AZ$1:AZ443)+1)","v":""},{"$f":"IF(Mercury!B466=\"\",\"\",Mercury!B466)","v":""},{"$f":"IF(Mercury!C466=\"\",\"\",Mercury!C466)","v":""},{"$f":"IF(Mercury!D466=\"\",\"\",Mercury!D466)","v":""},"",{"$f":"IF(COUNTIF(BB$2:BB444,BB444)=1,BB444,\"\")","v":""},"","",""]
[{"$f":"+IF(D445=\"\",\"\",MAX(A$1:A444)+1)","v":""},{"$f":"IF(CEM_COM_CPMS_Identification!C467=\"\",\"\",CEM_COM_CPMS_Identification!C467)","v":""},"",{"$f":"IF(COUNTIF(B$2:B445,B445)=1,B445,\"\")","v":""},null,null,null,null,null,null,null,null,null,null,null,null,null,null,null,{"$f":"+IF(Y445=\"\",\"\",MAX(T$1:T444)+1)","v":""},{"$f":"IF(No_CPMS_Limits_Details!B467=\"\",\"\",No_CPMS_Limits_Details!B467)","v":""},{"$f":"IF(No_CPMS_Limits_Details!C467=\"\",\"\",No_CPMS_Limits_Details!C467)","v":""},{"$f":"IF(No_CPMS_Limits_Details!D467=\"\",\"\",No_CPMS_Limits_Details!D467)","v":""},"",{"$f":"IF(COUNTIF(V$2:V445,V445)=1,V445,\"\")","v":""},"","","",null,{"$f":"+IF(AI445=\"\",\"\",MAX(AD$1:AD444)+1)","v":""},{"$f":"IF(Limits_Details_w_CPMS!B467=\"\",\"\",Limits_Details_w_CPMS!B467)","v":""},{"$f":"IF(Limits_Details_w_CPMS!C467=\"\",\"\",Limits_Details_w_CPMS!C467)","v":""},{"$f":"IF(Limits_Details_w_CPMS!D467=\"\",\"\",Limits_Details_w_CPMS!D467)","v":""},"",{"$f":"IF(COUNTIF(AH$2:AH445,AH445)=1,AH445,\"\")","v":""},"","","",null,null,null,{"$f":"+IF(AU445=\"\",\"\",MAX(AP$1:AP444)+1)","v":""},{"$f":"IF(CPMS_Detail!B467=\"\",\"\",CPMS_Detail!B467)","v":""},{"$f":"IF(CPMS_Detail!C467=\"\",\"\",CPMS_Detail!C467)","v":""},{"$f":"IF(CPMS_Detail!D467=\"\",\"\",CPMS_Detail!D467)","v":""},"",{"$f":"IF(COUNTIF(AT$2:AT445,AT445)=1,AT445,\"\")","v":""},"","","",null,{"$f":"+IF(BE445=\"\",\"\",MAX(AZ$1:AZ444)+1)","v":""},{"$f":"IF(Mercury!B467=\"\",\"\",Mercury!B467)","v":""},{"$f":"IF(Mercury!C467=\"\",\"\",Mercury!C467)","v":""},{"$f":"IF(Mercury!D467=\"\",\"\",Mercury!D467)","v":""},"",{"$f":"IF(COUNTIF(BB$2:BB445,BB445)=1,BB445,\"\")","v":""},"","",""]
[{"$f":"+IF(D446=\"\",\"\",MAX(A$1:A445)+1)","v":""},{"$f":"IF(CEM_COM_CPMS_Identification!C468=\"\",\"\",CEM_COM_CPMS_Identification!C468)","v":""},"",{"$f":"IF(COUNTIF(B$2:B446,B446)=1,B446,\"\")","v":""},null,null,null,null,null,null,null,null,null,null,null,null,null,null,null,{"$f":"+IF(Y446=\"\",\"\",MAX(T$1:T445)+1)","v":""},{"$f":"IF(No_CPMS_Limits_Details!B468=\"\",\"\",No_CPMS_Limits_Details!B468)","v":""},{"$f":"IF(No_CPMS_Limits_Details!C468=\"\",\"\",No_CPMS_Limits_Details!C468)","v":""},{"$f":"IF(No_CPMS_Limits_Details!D468=\"\",\"\",No_CPMS_Limits_Details!D468)","v":""},"",{"$f":"IF(COUNTIF(V$2:V446,V446)=1,V446,\"\")","v":""},"","","",null,{"$f":"+IF(AI446=\"\",\"\",MAX(AD$1:AD445)+1)","v":""},{"$f":"IF(Limits_Details_w_CPMS!B468=\"\",\"\",Limits_Details_w_CPMS!B468)","v":""},{"$f":"IF(Limits_Details_w_CPMS!C468=\"\",\"\",Limits_Details_w_CPMS!C468)","v":""},{"$f":"IF(Limits_Details_w_CPMS!D468=\"\",\"\",Limits_Details_w_CPMS!D468)","v":""},"",{"$f":"IF(COUNTIF(AH$2:AH446,AH446)=1,AH446,\"\")","v":""},"","","",null,null,null,{"$f":"+IF(AU446=\"\",\"\",MAX(AP$1:AP445)+1)","v":""},{"$f":"IF(CPMS_Detail!B468=\"\",\"\",CPMS_Detail!B468)","v":""},{"$f":"IF(CPMS_Detail!C468=\"\",\"\",CPMS_Detail!C468)","v":""},{"$f":"IF(CPMS_Detail!D468=\"\",\"\",CPMS_Detail!D468)","v":""},"",{"$f":"IF(COUNTIF(AT$2:AT446,AT446)=1,AT446,\"\")","v":""},"","","",null,{"$f":"+IF(BE446=\"\",\"\",MAX(AZ$1:AZ445)+1)","v":""},{"$f":"IF(Mercury!B468=\"\",\"\",Mercury!B468)","v":""},{"$f":"IF(Mercury!C468=\"\",\"\",Mercury!C468)","v":""},{"$f":"IF(Mercury!D468=\"\",\"\",Mercury!D468)","v":""},"",{"$f":"IF(COUNTIF(BB$2:BB446,BB446)=1,BB446,\"\")","v":""},"","",""]
[{"$f":"+IF(D447=\"\",\"\",MAX(A$1:A446)+1)","v":""},{"$f":"IF(CEM_COM_CPMS_Identification!C469=\"\",\"\",CEM_COM_CPMS_Identification!C469)","v":""},"",{"$f":"IF(COUNTIF(B$2:B447,B447)=1,B447,\"\")","v":""},null,null,null,null,null,null,null,null,null,null,null,null,null,null,null,{"$f":"+IF(Y447=\"\",\"\",MAX(T$1:T446)+1)","v":""},{"$f":"IF(No_CPMS_Limits_Details!B469=\"\",\"\",No_CPMS_Limits_Details!B469)","v":""},{"$f":"IF(No_CPMS_Limits_Details!C469=\"\",\"\",No_CPMS_Limits_Details!C469)","v":""},{"$f":"IF(No_CPMS_Limits_Details!D469=\"\",\"\",No_CPMS_Limits_Details!D469)","v":""},"",{"$f":"IF(COUNTIF(V$2:V447,V447)=1,V447,\"\")","v":""},"","","",null,{"$f":"+IF(AI447=\"\",\"\",MAX(AD$1:AD446)+1)","v":""},{"$f":"IF(Limits_Details_w_CPMS!B469=\"\",\"\",Limits_Details_w_CPMS!B469)","v":""},{"$f":"IF(Limits_Details_w_CPMS!C469=\"\",\"\",Limits_Details_w_CPMS!C469)","v":""},{"$f":"IF(Limits_Details_w_CPMS!D469=\"\",\"\",Limits_Details_w_CPMS!D469)","v":""},"",{"$f":"IF(COUNTIF(AH$2:AH447,AH447)=1,AH447,\"\")","v":""},"","","",null,null,null,{"$f":"+IF(AU447=\"\",\"\",MAX(AP$1:AP446)+1)","v":""},{"$f":"IF(CPMS_Detail!B469=\"\",\"\",CPMS_Detail!B469)","v":""},{"$f":"IF(CPMS_Detail!C469=\"\",\"\",CPMS_Detail!C469)","v":""},{"$f":"IF(CPMS_Detail!D469=\"\",\"\",CPMS_Detail!D469)","v":""},"",{"$f":"IF(COUNTIF(AT$2:AT447,AT447)=1,AT447,\"\")","v":""},"","","",null,{"$f":"+IF(BE447=\"\",\"\",MAX(AZ$1:AZ446)+1)","v":""},{"$f":"IF(Mercury!B469=\"\",\"\",Mercury!B469)","v":""},{"$f":"IF(Mercury!C469=\"\",\"\",Mercury!C469)","v":""},{"$f":"IF(Mercury!D469=\"\",\"\",Mercury!D469)","v":""},"",{"$f":"IF(COUNTIF(BB$2:BB447,BB447)=1,BB447,\"\")","v":""},"","",""]
[{"$f":"+IF(D448=\"\",\"\",MAX(A$1:A447)+1)","v":""},{"$f":"IF(CEM_COM_CPMS_Identification!C470=\"\",\"\",CEM_COM_CPMS_Identification!C470)","v":""},"",{"$f":"IF(COUNTIF(B$2:B448,B448)=1,B448,\"\")","v":""},null,null,null,null,null,null,null,null,null,null,null,null,null,null,null,{"$f":"+IF(Y448=\"\",\"\",MAX(T$1:T447)+1)","v":""},{"$f":"IF(No_CPMS_Limits_Details!B470=\"\",\"\",No_CPMS_Limits_Details!B470)","v":""},{"$f":"IF(No_CPMS_Limits_Details!C470=\"\",\"\",No_CPMS_Limits_Details!C470)","v":""},{"$f":"IF(No_CPMS_Limits_Details!D470=\"\",\"\",No_CPMS_Limits_Details!D470)","v":""},"",{"$f":"IF(COUNTIF(V$2:V448,V448)=1,V448,\"\")","v":""},"","","",null,{"$f":"+IF(AI448=\"\",\"\",MAX(AD$1:AD447)+1)","v":""},{"$f":"IF(Limits_Details_w_CPMS!B470=\"\",\"\",Limits_Details_w_CPMS!B470)","v":""},{"$f":"IF(Limits_Details_w_CPMS!C470=\"\",\"\",Limits_Details_w_CPMS!C470)","v":""},{"$f":"IF(Limits_Details_w_CPMS!D470=\"\",\"\",Limits_Details_w_CPMS!D470)","v":""},"",{"$f":"IF(COUNTIF(AH$2:AH448,AH448)=1,AH448,\"\")","v":""},"","","",null,null,null,{"$f":"+IF(AU448=\"\",\"\",MAX(AP$1:AP447)+1)","v":""},{"$f":"IF(CPMS_Detail!B470=\"\",\"\",CPMS_Detail!B470)","v":""},{"$f":"IF(CPMS_Detail!C470=\"\",\"\",CPMS_Detail!C470)","v":""},{"$f":"IF(CPMS_Detail!D470=\"\",\"\",CPMS_Detail!D470)","v":""},"",{"$f":"IF(COUNTIF(AT$2:AT448,AT448)=1,AT448,\"\")","v":""},"","","",null,{"$f":"+IF(BE448=\"\",\"\",MAX(AZ$1:AZ447)+1)","v":""},{"$f":"IF(Mercury!B470=\"\",\"\",Mercury!B470)","v":""},{"$f":"IF(Mercury!C470=\"\",\"\",Mercury!C470)","v":""},{"$f":"IF(Mercury!D470=\"\",\"\",Mercury!D470)","v":""},"",{"$f":"IF(COUNTIF(BB$2:BB448,BB448)=1,BB448,\"\")","v":""},"","",""]
[{"$f":"+IF(D449=\"\",\"\",MAX(A$1:A448)+1)","v":""},{"$f":"IF(CEM_COM_CPMS_Identification!C471=\"\",\"\",CEM_COM_CPMS_Identification!C471)","v":""},"",{"$f":"IF(COUNTIF(B$2:B449,B449)=1,B449,\"\")","v":""},null,null,null,null,null,null,null,null,null,null,null,null,null,null,null,{"$f":"+IF(Y449=\"\",\"\",MAX(T$1:T448)+1)","v":""},{"$f":"IF(No_CPMS_Limits_Details!B471=\"\",\"\",No_CPMS_Limits_Details!B471)","v":""},{"$f":"IF(No_CPMS_Limits_Details!C471=\"\",\"\",No_CPMS_Limits_Details!C471)","v":""},{"$f":"IF(No_CPMS_Limits_Details!D471=\"\",\"\",No_CPMS_Limits_Details!D471)","v":""},"",{"$f":"IF(COUNTIF(V$2:V449,V449)=1,V449,\"\")","v":""},"","","",null,{"$f":"+IF(AI449=\"\",\"\",MAX(AD$1:AD448)+1)","v":""},{"$f":"IF(Limits_Details_w_CPMS!B471=\"\",\"\",Limits_Details_w_CPMS!B471)","v":""},{"$f":"IF(Limits_Details_w_CPMS!C471=\"\",\"\",Limits_Details_w_CPMS!C471)","v":""},{"$f":"IF(Limits_Details_w_CPMS!D471=\"\",\"\",Limits_Details_w_CPMS!D471)","v":""},"",{"$f":"IF(COUNTIF(AH$2:AH449,AH449)=1,AH449,\"\")","v":""},"","","",null,null,null,{"$f":"+IF(AU449=\"\",\"\",MAX(AP$1:AP448)+1)","v":""},{"$f":"IF(CPMS_Detail!B471=\"\",\"\",CPMS_Detail!B471)","v":""},{"$f":"IF(CPMS_Detail!C471=\"\",\"\",CPMS_Detail!C471)","v":""},{"$f":"IF(CPMS_Detail!D471=\"\",\"\",CPMS_Detail!D471)","v":""},"",{"$f":"IF(COUNTIF(AT$2:AT449,AT449)=1,AT449,\"\")","v":""},"","","",null,{"$f":"+IF(BE449=\"\",\"\",MAX(AZ$1:AZ448)+1)","v":""},{"$f":"IF(Mercury!B471=\"\",\"\",Mercury!B471)","v":""},{"$f":"IF(Mercury!C471=\"\",\"\",Mercury!C471)","v":""},{"$f":"IF(Mercury!D471=\"\",\"\",Mercury!D471)","v":""},"",{"$f":"IF(COUNTIF(BB$2:BB449,BB449)=1,BB449,\"\")","v":""},"","",""]
[{"$f":"+IF(D450=\"\",\"\",MAX(A$1:A449)+1)","v":""},{"$f":"IF(CEM_COM_CPMS_Identification!C472=\"\",\"\",CEM_COM_CPMS_Identification!C472)","v":""},{"$f":"+IFERROR(INDEX(B$2:B$501,MATCH(ROW()-ROW($C$1),A$2:A$501,0)),\"\")","v":""},{"$f":"IF(COUNTIF(B$2:B450,B450)=1,B450,\"\")","v":""},null,null,null,null,null,null,null,null,null,null,null,null,null,null,null,{"$f":"+IF(Y450=\"\",\"\",MAX(T$1:T449)+1)","v":""},{"$f":"IF(No_CPMS_Limits_Details!B472=\"\",\"\",No_CPMS_Limits_Details!B472)","v":""},{"$f":"IF(No_CPMS_Limits_Details!C472=\"\",\"\",No_CPMS_Limits_Details!C472)","v":""},{"$f":"IF(No_CPMS_Limits_Details!D472=\"\",\"\",No_CPMS_Limits_Details!D472)","v":""},{"$f":"U450&V450&W451","v":""},{"$f":"IF(COUNTIF(V$2:V450,V450)=1,V450,\"\")","v":""},{"$f":"+IFERROR(INDEX(U$2:U$955,MATCH(ROW()-ROW(Z$1),T$2:T$955,0)),\"\")","v":""},{"$f":"+IFERROR(INDEX(V$2:V$955,MATCH(ROW()-ROW(Z$1),T$2:T$955,0)),\"\")","v":""},{"$f":"+IFERROR(INDEX(W$2:W$955,MATCH(ROW()-ROW(Z$1),T$2:T$955,0)),\"\")","v":""},null,{"$f":"+IF(AI450=\"\",\"\",MAX(AD$1:AD449)+1)","v":""},{"$f":"IF(Limits_Details_w_CPMS!B472=\"\",\"\",Limits_Details_w_CPMS!B472)","v":""},{"$f":"IF(Limits_Details_w_CPMS!C472=\"\",\"\",Limits_Details_w_CPMS!C472)","v":""},{"$f":"IF(Limits_Details_w_CPMS!D472=\"\",\"\",Limits_Details_w_CPMS!D472)","v":""},"",{"$f":"IF(COUNTIF(AH$2:AH450,AH450)=1,AH450,\"\")","v":""},{"$f":"+IFERROR(INDEX(AE$2:AE$955,MATCH(ROW()-ROW(AJ$1),AD$2:AD$955,0)),\"\")","v":""},{"$f":"+IFERROR(INDEX(AF$2:AF$955,MATCH(ROW()-ROW(AJ$1),AD$2:AD$955,0)),\"\")","v":""},{"$f":"+IFERROR(INDEX(AG$2:AG$955,MATCH(ROW()-ROW(AJ$1),AD$2:AD$955,0)),\"\")","v":""},null,null,null,{"$f":"+IF(AU450=\"\",\"\",MAX(AP$1:AP449)+1)","v":""},{"$f":"IF(CPMS_Detail!B472=\"\",\"\",CPMS_Detail!B472)","v":""},{"$f":"IF(CPMS_Detail!C472=\"\",\"\",CPMS_Detail!C472)","v":""},{"$f":"IF(CPMS_Detail!D472=\"\",\"\",CPMS_Detail!D472)","v":""},"",{"$f":"IF(COUNTIF(AT$2:AT450,AT450)=1,AT450,\"\")","v":""},"","","",null,{"$f":"+IF(BE450=\"\",\"\",MAX(AZ$1:AZ449)+1)","v":""},{"$f":"IF(Mercury!B472=\"\",\"\",Mercury!B472)","v":""},{"$f":"IF(Mercury!C472=\"\",\"\",Mercury!C472)","v":""},{"$f":"IF(Mercury!D472=\"\",\"\",Mercury!D472)","v":""},{"$f":"BA450&BB450&BC451","v":""},{"$f":"IF(COUNTIF(BB$2:BB450,BB450)=1,BB450,\"\")","v":""},{"$f":"+IFERROR(INDEX(BA$2:BA$955,MATCH(ROW()-ROW(BF$1),AZ$2:AZ$955,0)),\"\")","v":""},{"$f":"+IFERROR(INDEX(BB$2:BB$955,MATCH(ROW()-ROW(BF$1),AZ$2:AZ$955,0)),\"\")","v":""},{"$f":"+IFERROR(INDEX(BC$2:BC$955,MATCH(ROW()-ROW(BF$1),AZ$2:AZ$955,0)),\"\")","v":""}]
[{"$f":"+IF(D451=\"\",\"\",MAX(A$1:A450)+1)","v":""},{"$f":"IF(CEM_COM_CPMS_Identification!C473=\"\",\"\",CEM_COM_CPMS_Identification!C473)","v":""},"",{"$f":"IF(COUNTIF(B$2:B451,B451)=1,B451,\"\")","v":""},null,null,null,null,null,null,null,null,null,null,null,null,null,null,null,{"$f":"+IF(Y451=\"\",\"\",MAX(T$1:T450)+1)","v":""},{"$f":"IF(No_CPMS_Limits_Details!B473=\"\",\"\",No_CPMS_Limits_Details!B473)","v":""},{"$f":"IF(No_CPMS_Limits_Details!C473=\"\",\"\",No_CPMS_Limits_Details!C473)","v":""},{"$f":"IF(No_CPMS_Limits_Details!D473=\"\",\"\",No_CPMS_Limits_Details!D473)","v":""},"",{"$f":"IF(COUNTIF(V$2:V451,V451)=1,V451,\"\")","v":""},"","","",null,{"$f":"+IF(AI451=\"\",\"\",MAX(AD$1:AD450)+1)","v":""},{"$f":"IF(Limits_Details_w_CPMS!B473=\"\",\"\",Limits_Details_w_CPMS!B473)","v":""},{"$f":"IF(Limits_Details_w_CPMS!C473=\"\",\"\",Limits_Details_w_CPMS!C473)","v":""},{"$f":"IF(Limits_Details_w_CPMS!D473=\"\",\"\",Limits_Details_w_CPMS!D473)","v":""},{"$f":"AE451&AF451&AG451","v":""},{"$f":"IF(COUNTIF(AH$2:AH451,AH451)=1,AH451,\"\")","v":""},"","","",null,null,null,{"$f":"+IF(AU451=\"\",\"\",MAX(AP$1:AP450)+1)","v":""},{"$f":"IF(CPMS_Detail!B473=\"\",\"\",CPMS_Detail!B473)","v":""},{"$f":"IF(CPMS_Detail!C473=\"\",\"\",CPMS_Detail!C473)","v":""},{"$f":"IF(CPMS_Detail!D473=\"\",\"\",CPMS_Detail!D473)","v":""},{"$f":"AQ451&AR451&AS451","v":""},{"$f":"IF(COUNTIF(AT$2:AT451,AT451)=1,AT451,\"\")","v":""},{"$f":"+IFERROR(INDEX(AQ$2:AQ$955,MATCH(ROW()-ROW(AV$1),AP$2:AP$955,0)),\"\")","v":""},{"$f":"+IFERROR(INDEX(AR$2:AR$955,MATCH(ROW()-ROW(AV$1),AP$2:AP$955,0)),\"\")","v":""},{"$f":"+IFERROR(INDEX(AS$2:AS$955,MATCH(ROW()-ROW(AV$1),AP$2:AP$955,0)),\"\")","v":""},null,{"$f":"+IF(BE451=\"\",\"\",MAX(AZ$1:AZ450)+1)","v":""},{"$f":"IF(Mercury!B473=\"\",\"\",Mercury!B473)","v":""},{"$f":"IF(Mercury!C473=\"\",\"\",Mercury!C473)","v":""},{"$f":"IF(Mercury!D473=\"\",\"\",Mercury!D473)","v":""},"",{"$f":"IF(COUNTIF(BB$2:BB451,BB451)=1,BB451,\"\")","v":""},"","",""]
[{"$f":"+IF(D452=\"\",\"\",MAX(A$1:A451)+1)","v":""},{"$f":"IF(CEM_COM_CPMS_Identification!C474=\"\",\"\",CEM_COM_CPMS_Identification!C474)","v":""},"",{"$f":"IF(COUNTIF(B$2:B452,B452)=1,B452,\"\")","v":""},null,null,null,null,null,null,null,null,null,null,null,null,null,null,null,{"$f":"+IF(Y452=\"\",\"\",MAX(T$1:T451)+1)","v":""},{"$f":"IF(No_CPMS_Limits_Details!B474=\"\",\"\",No_CPMS_Limits_Details!B474)","v":""},{"$f":"IF(No_CPMS_Limits_Details!C474=\"\",\"\",No_CPMS_Limits_Details!C474)","v":""},{"$f":"IF(No_CPMS_Limits_Details!D474=\"\",\"\",No_CPMS_Limits_Details!D474)","v":""},"",{"$f":"IF(COUNTIF(V$2:V452,V452)=1,V452,\"\")","v":""},"","","",null,{"$f":"+IF(AI452=\"\",\"\",MAX(AD$1:AD451)+1)","v":""},{"$f":"IF(Limits_Details_w_CPMS!B474=\"\",\"\",Limits_Details_w_CPMS!B474)","v":""},{"$f":"IF(Limits_Details_w_CPMS!C474=\"\",\"\",Limits_Details_w_CPMS!C474)","v":""},{"$f":"IF(Limits_Details_w_CPMS!D474=\"\",\"\",Limits_Details_w_CPMS!D474)","v":""},"",{"$f":"IF(COUNTIF(AH$2:AH452,AH452)=1,AH452,\"\")","v":""},"","","",null,null,null,{"$f":"+IF(AU452=\"\",\"\",MAX(AP$1:AP451)+1)","v":""},{"$f":"IF(CPMS_Detail!B474=\"\",\"\",CPMS_Detail!B474)","v":""},{"$f":"IF(CPMS_Detail!C474=\"\",\"\",CPMS_Detail!C474)","v":""},{"$f":"IF(CPMS_Detail!D474=\"\",\"\",CPMS_Detail!D474)","v":""},"",{"$f":"IF(COUNTIF(AT$2:AT452,AT452)=1,AT452,\"\")","v":""},"","","",null,{"$f":"+IF(BE452=\"\",\"\",MAX(AZ$1:AZ451)+1)","v":""},{"$f":"IF(Mercury!B474=\"\",\"\",Mercury!B474)","v":""},{"$f":"IF(Mercury!C474=\"\",\"\",Mercury!C474)","v":""},{"$f":"IF(Mercury!D474=\"\",\"\",Mercury!D474)","v":""},"",{"$f":"IF(COUNTIF(BB$2:BB452,BB452)=1,BB452,\"\")","v":""},"","",""]
[{"$f":"+IF(D453=\"\",\"\",MAX(A$1:A452)+1)","v":""},{"$f":"IF(CEM_COM_CPMS_Identification!C475=\"\",\"\",CEM_COM_CPMS_Identification!C475)","v":""},"",{"$f":"IF(COUNTIF(B$2:B453,B453)=1,B453,\"\")","v":""},null,null,null,null,null,null,null,null,null,null,null,null,null,null,null,{"$f":"+IF(Y453=\"\",\"\",MAX(T$1:T452)+1)","v":""},{"$f":"IF(No_CPMS_Limits_Details!B475=\"\",\"\",No_CPMS_Limits_Details!B475)","v":""},{"$f":"IF(No_CPMS_Limits_Details!C475=\"\",\"\",No_CPMS_Limits_Details!C475)","v":""},{"$f":"IF(No_CPMS_Limits_Details!D475=\"\",\"\",No_CPMS_Limits_Details!D475)","v":""},"",{"$f":"IF(COUNTIF(V$2:V453,V453)=1,V453,\"\")","v":""},"","","",null,{"$f":"+IF(AI453=\"\",\"\",MAX(AD$1:AD452)+1)","v":""},{"$f":"IF(Limits_Details_w_CPMS!B475=\"\",\"\",Limits_Details_w_CPMS!B475)","v":""},{"$f":"IF(Limits_Details_w_CPMS!C475=\"\",\"\",Limits_Details_w_CPMS!C475)","v":""},{"$f":"IF(Limits_Details_w_CPMS!D475=\"\",\"\",Limits_Details_w_CPMS!D475)","v":""},"",{"$f":"IF(COUNTIF(AH$2:AH453,AH453)=1,AH453,\"\")","v":""},"","","",null,null,null,{"$f":"+IF(AU453=\"\",\"\",MAX(AP$1:AP452)+1)","v":""},{"$f":"IF(CPMS_Detail!B475=\"\",\"\",CPMS_Detail!B475)","v":""},{"$f":"IF(CPMS_Detail!C475=\"\",\"\",CPMS_Detail!C475)","v":""},{"$f":"IF(CPMS_Detail!D475=\"\",\"\",CPMS_Detail!D475)","v":""},"",{"$f":"IF(COUNTIF(AT$2:AT453,AT453)=1,AT453,\"\")","v":""},"","","",null,{"$f":"+IF(BE453=\"\",\"\",MAX(AZ$1:AZ452)+1)","v":""},{"$f":"IF(Mercury!B475=\"\",\"\",Mercury!B475)","v":""},{"$f":"IF(Mercury!C475=\"\",\"\",Mercury!C475)","v":""},{"$f":"IF(Mercury!D475=\"\",\"\",Mercury!D475)","v":""},"",{"$f":"IF(COUNTIF(BB$2:BB453,BB453)=1,BB453,\"\")","v":""},"","",""]
[{"$f":"+IF(D454=\"\",\"\",MAX(A$1:A453)+1)","v":""},{"$f":"IF(CEM_COM_CPMS_Identification!C476=\"\",\"\",CEM_COM_CPMS_Identification!C476)","v":""},"",{"$f":"IF(COUNTIF(B$2:B454,B454)=1,B454,\"\")","v":""},null,null,null,null,null,null,null,null,null,null,null,null,null,null,null,{"$f":"+IF(Y454=\"\",\"\",MAX(T$1:T453)+1)","v":""},{"$f":"IF(No_CPMS_Limits_Details!B476=\"\",\"\",No_CPMS_Limits_Details!B476)","v":""},{"$f":"IF(No_CPMS_Limits_Details!C476=\"\",\"\",No_CPMS_Limits_Details!C476)","v":""},{"$f":"IF(No_CPMS_Limits_Details!D476=\"\",\"\",No_CPMS_Limits_Details!D476)","v":""},"",{"$f":"IF(COUNTIF(V$2:V454,V454)=1,V454,\"\")","v":""},"","","",null,{"$f":"+IF(AI454=\"\",\"\",MAX(AD$1:AD453)+1)","v":""},{"$f":"IF(Limits_Details_w_CPMS!B476=\"\",\"\",Limits_Details_w_CPMS!B476)","v":""},{"$f":"IF(Limits_Details_w_CPMS!C476=\"\",\"\",Limits_Details_w_CPMS!C476)","v":""},{"$f":"IF(Limits_Details_w_CPMS!D476=\"\",\"\",Limits_Details_w_CPMS!D476)","v":""},"",{"$f":"IF(COUNTIF(AH$2:AH454,AH454)=1,AH454,\"\")","v":""},"","","",null,null,null,{"$f":"+IF(AU454=\"\",\"\",MAX(AP$1:AP453)+1)","v":""},{"$f":"IF(CPMS_Detail!B476=\"\",\"\",CPMS_Detail!B476)","v":""},{"$f":"IF(CPMS_Detail!C476=\"\",\"\",CPMS_Detail!C476)","v":""},{"$f":"IF(CPMS_Detail!D476=\"\",\"\",CPMS_Detail!D476)","v":""},"",{"$f":"IF(COUNTIF(AT$2:AT454,AT454)=1,AT454,\"\")","v":""},"","","",null,{"$f":"+IF(BE454=\"\",\"\",MAX(AZ$1:AZ453)+1)","v":""},{"$f":"IF(Mercury!B476=\"\",\"\",Mercury!B476)","v":""},{"$f":"IF(Mercury!C476=\"\",\"\",Mercury!C476)","v":""},{"$f":"IF(Mercury!D476=\"\",\"\",Mercury!D476)","v":""},"",{"$f":"IF(COUNTIF(BB$2:BB454,BB454)=1,BB454,\"\")","v":""},"","",""]
[{"$f":"+IF(D455=\"\",\"\",MAX(A$1:A454)+1)","v":""},{"$f":"IF(CEM_COM_CPMS_Identification!C477=\"\",\"\",CEM_COM_CPMS_Identification!C477)","v":""},"",{"$f":"IF(COUNTIF(B$2:B455,B455)=1,B455,\"\")","v":""},null,null,null,null,null,null,null,null,null,null,null,null,null,null,null,{"$f":"+IF(Y455=\"\",\"\",MAX(T$1:T454)+1)","v":""},{"$f":"IF(No_CPMS_Limits_Details!B477=\"\",\"\",No_CPMS_Limits_Details!B477)","v":""},{"$f":"IF(No_CPMS_Limits_Details!C477=\"\",\"\",No_CPMS_Limits_Details!C477)","v":""},{"$f":"IF(No_CPMS_Limits_Details!D477=\"\",\"\",No_CPMS_Limits_Details!D477)","v":""},"",{"$f":"IF(COUNTIF(V$2:V455,V455)=1,V455,\"\")","v":""},"","","",null,{"$f":"+IF(AI455=\"\",\"\",MAX(AD$1:AD454)+1)","v":""},{"$f":"IF(Limits_Details_w_CPMS!B477=\"\",\"\",Limits_Details_w_CPMS!B477)","v":""},{"$f":"IF(Limits_Details_w_CPMS!C477=\"\",\"\",Limits_Details_w_CPMS!C477)","v":""},{"$f":"IF(Limits_Details_w_CPMS!D477=\"\",\"\",Limits_Details_w_CPMS!D477)","v":""},"",{"$f":"IF(COUNTIF(AH$2:AH455,AH455)=1,AH455,\"\")","v":""},"","","",null,null,null,{"$f":"+IF(AU455=\"\",\"\",MAX(AP$1:AP454)+1)","v":""},{"$f":"IF(CPMS_Detail!B477=\"\",\"\",CPMS_Detail!B477)","v":""},{"$f":"IF(CPMS_Detail!C477=\"\",\"\",CPMS_Detail!C477)","v":""},{"$f":"IF(CPMS_Detail!D477=\"\",\"\",CPMS_Detail!D477)","v":""},"",{"$f":"IF(COUNTIF(AT$2:AT455,AT455)=1,AT455,\"\")","v":""},"","","",null,{"$f":"+IF(BE455=\"\",\"\",MAX(AZ$1:AZ454)+1)","v":""},{"$f":"IF(Mercury!B477=\"\",\"\",Mercury!B477)","v":""},{"$f":"IF(Mercury!C477=\"\",\"\",Mercury!C477)","v":""},{"$f":"IF(Mercury!D477=\"\",\"\",Mercury!D477)","v":""},"",{"$f":"IF(COUNTIF(BB$2:BB455,BB455)=1,BB455,\"\")","v":""},"","",""]
[{"$f":"+IF(D456=\"\",\"\",MAX(A$1:A455)+1)","v":""},{"$f":"IF(CEM_COM_CPMS_Identification!C478=\"\",\"\",CEM_COM_CPMS_Identification!C478)","v":""},"",{"$f":"IF(COUNTIF(B$2:B456,B456)=1,B456,\"\")","v":""},null,null,null,null,null,null,null,null,null,null,null,null,null,null,null,{"$f":"+IF(Y456=\"\",\"\",MAX(T$1:T455)+1)","v":""},{"$f":"IF(No_CPMS_Limits_Details!B478=\"\",\"\",No_CPMS_Limits_Details!B478)","v":""},{"$f":"IF(No_CPMS_Limits_Details!C478=\"\",\"\",No_CPMS_Limits_Details!C478)","v":""},{"$f":"IF(No_CPMS_Limits_Details!D478=\"\",\"\",No_CPMS_Limits_Details!D478)","v":""},"",{"$f":"IF(COUNTIF(V$2:V456,V456)=1,V456,\"\")","v":""},"","","",null,{"$f":"+IF(AI456=\"\",\"\",MAX(AD$1:AD455)+1)","v":""},{"$f":"IF(Limits_Details_w_CPMS!B478=\"\",\"\",Limits_Details_w_CPMS!B478)","v":""},{"$f":"IF(Limits_Details_w_CPMS!C478=\"\",\"\",Limits_Details_w_CPMS!C478)","v":""},{"$f":"IF(Limits_Details_w_CPMS!D478=\"\",\"\",Limits_Details_w_CPMS!D478)","v":""},"",{"$f":"IF(COUNTIF(AH$2:AH456,AH456)=1,AH456,\"\")","v":""},"","","",null,null,null,{"$f":"+IF(AU456=\"\",\"\",MAX(AP$1:AP455)+1)","v":""},{"$f":"IF(CPMS_Detail!B478=\"\",\"\",CPMS_Detail!B478)","v":""},{"$f":"IF(CPMS_Detail!C478=\"\",\"\",CPMS_Detail!C478)","v":""},{"$f":"IF(CPMS_Detail!D478=\"\",\"\",CPMS_Detail!D478)","v":""},"",{"$f":"IF(COUNTIF(AT$2:AT456,AT456)=1,AT456,\"\")","v":""},"","","",null,{"$f":"+IF(BE456=\"\",\"\",MAX(AZ$1:AZ455)+1)","v":""},{"$f":"IF(Mercury!B478=\"\",\"\",Mercury!B478)","v":""},{"$f":"IF(Mercury!C478=\"\",\"\",Mercury!C478)","v":""},{"$f":"IF(Mercury!D478=\"\",\"\",Mercury!D478)","v":""},"",{"$f":"IF(COUNTIF(BB$2:BB456,BB456)=1,BB456,\"\")","v":""},"","",""]
[{"$f":"+IF(D457=\"\",\"\",MAX(A$1:A456)+1)","v":""},{"$f":"IF(CEM_COM_CPMS_Identification!C479=\"\",\"\",CEM_COM_CPMS_Identification!C479)","v":""},"",{"$f":"IF(COUNTIF(B$2:B457,B457)=1,B457,\"\")","v":""},null,null,null,null,null,null,null,null,null,null,null,null,null,null,null,{"$f":"+IF(Y457=\"\",\"\",MAX(T$1:T456)+1)","v":""},{"$f":"IF(No_CPMS_Limits_Details!B479=\"\",\"\",No_CPMS_Limits_Details!B479)","v":""},{"$f":"IF(No_CPMS_Limits_Details!C479=\"\",\"\",No_CPMS_Limits_Details!C479)","v":""},{"$f":"IF(No_CPMS_Limits_Details!D479=\"\",\"\",No_CPMS_Limits_Details!D479)","v":""},"",{"$f":"IF(COUNTIF(V$2:V457,V457)=1,V457,\"\")","v":""},"","","",null,{"$f":"+IF(AI457=\"\",\"\",MAX(AD$1:AD456)+1)","v":""},{"$f":"IF(Limits_Details_w_CPMS!B479=\"\",\"\",Limits_Details_w_CPMS!B479)","v":""},{"$f":"IF(Limits_Details_w_CPMS!C479=\"\",\"\",Limits_Details_w_CPMS!C479)","v":""},{"$f":"IF(Limits_Details_w_CPMS!D479=\"\",\"\",Limits_Details_w_CPMS!D479)","v":""},"",{"$f":"IF(COUNTIF(AH$2:AH457,AH457)=1,AH457,\"\")","v":""},"","","",null,null,null,{"$f":"+IF(AU457=\"\",\"\",MAX(AP$1:AP456)+1)","v":""},{"$f":"IF(CPMS_Detail!B479=\"\",\"\",CPMS_Detail!B479)","v":""},{"$f":"IF(CPMS_Detail!C479=\"\",\"\",CPMS_Detail!C479)","v":""},{"$f":"IF(CPMS_Detail!D479=\"\",\"\",CPMS_Detail!D479)","v":""},"",{"$f":"IF(COUNTIF(AT$2:AT457,AT457)=1,AT457,\"\")","v":""},"","","",null,{"$f":"+IF(BE457=\"\",\"\",MAX(AZ$1:AZ456)+1)","v":""},{"$f":"IF(Mercury!B479=\"\",\"\",Mercury!B479)","v":""},{"$f":"IF(Mercury!C479=\"\",\"\",Mercury!C479)","v":""},{"$f":"IF(Mercury!D479=\"\",\"\",Mercury!D479)","v":""},"",{"$f":"IF(COUNTIF(BB$2:BB457,BB457)=1,BB457,\"\")","v":""},"","",""]
[{"$f":"+IF(D458=\"\",\"\",MAX(A$1:A457)+1)","v":""},{"$f":"IF(CEM_COM_CPMS_Identification!C480=\"\",\"\",CEM_COM_CPMS_Identification!C480)","v":""},"",{"$f":"IF(COUNTIF(B$2:B458,B458)=1,B458,\"\")","v":""},null,null,null,null,null,null,null,null,null,null,null,null,null,null,null,{"$f":"+IF(Y458=\"\",\"\",MAX(T$1:T457)+1)","v":""},{"$f":"IF(No_CPMS_Limits_Details!B480=\"\",\"\",No_CPMS_Limits_Details!B480)","v":""},{"$f":"IF(No_CPMS_Limits_Details!C480=\"\",\"\",No_CPMS_Limits_Details!C480)","v":""},{"$f":"IF(No_CPMS_Limits_Details!D480=\"\",\"\",No_CPMS_Limits_Details!D480)","v":""},"",{"$f":"IF(COUNTIF(V$2:V458,V458)=1,V458,\"\")","v":""},"","","",null,{"$f":"+IF(AI458=\"\",\"\",MAX(AD$1:AD457)+1)","v":""},{"$f":"IF(Limits_Details_w_CPMS!B480=\"\",\"\",Limits_Details_w_CPMS!B480)","v":""},{"$f":"IF(Limits_Details_w_CPMS!C480=\"\",\"\",Limits_Details_w_CPMS!C480)","v":""},{"$f":"IF(Limits_Details_w_CPMS!D480=\"\",\"\",Limits_Details_w_CPMS!D480)","v":""},"",{"$f":"IF(COUNTIF(AH$2:AH458,AH458)=1,AH458,\"\")","v":""},"","","",null,null,null,{"$f":"+IF(AU458=\"\",\"\",MAX(AP$1:AP457)+1)","v":""},{"$f":"IF(CPMS_Detail!B480=\"\",\"\",CPMS_Detail!B480)","v":""},{"$f":"IF(CPMS_Detail!C480=\"\",\"\",CPMS_Detail!C480)","v":""},{"$f":"IF(CPMS_Detail!D480=\"\",\"\",CPMS_Detail!D480)","v":""},"",{"$f":"IF(COUNTIF(AT$2:AT458,AT458)=1,AT458,\"\")","v":""},"","","",null,{"$f":"+IF(BE458=\"\",\"\",MAX(AZ$1:AZ457)+1)","v":""},{"$f":"IF(Mercury!B480=\"\",\"\",Mercury!B480)","v":""},{"$f":"IF(Mercury!C480=\"\",\"\",Mercury!C480)","v":""},{"$f":"IF(Mercury!D480=\"\",\"\",Mercury!D480)","v":""},"",{"$f":"IF(COUNTIF(BB$2:BB458,BB458)=1,BB458,\"\")","v":""},"","",""]
[{"$f":"+IF(D459=\"\",\"\",MAX(A$1:A458)+1)","v":""},{"$f":"IF(CEM_COM_CPMS_Identification!C481=\"\",\"\",CEM_COM_CPMS_Identification!C481)","v":""},"",{"$f":"IF(COUNTIF(B$2:B459,B459)=1,B459,\"\")","v":""},null,null,null,null,null,null,null,null,null,null,null,null,null,null,null,{"$f":"+IF(Y459=\"\",\"\",MAX(T$1:T458)+1)","v":""},{"$f":"IF(No_CPMS_Limits_Details!B481=\"\",\"\",No_CPMS_Limits_Details!B481)","v":""},{"$f":"IF(No_CPMS_Limits_Details!C481=\"\",\"\",No_CPMS_Limits_Details!C481)","v":""},{"$f":"IF(No_CPMS_Limits_Details!D481=\"\",\"\",No_CPMS_Limits_Details!D481)","v":""},"",{"$f":"IF(COUNTIF(V$2:V459,V459)=1,V459,\"\")","v":""},"","","",null,{"$f":"+IF(AI459=\"\",\"\",MAX(AD$1:AD458)+1)","v":""},{"$f":"IF(Limits_Details_w_CPMS!B481=\"\",\"\",Limits_Details_w_CPMS!B481)","v":""},{"$f":"IF(Limits_Details_w_CPMS!C481=\"\",\"\",Limits_Details_w_CPMS!C481)","v":""},{"$f":"IF(Limits_Details_w_CPMS!D481=\"\",\"\",Limits_Details_w_CPMS!D481)","v":""},"",{"$f":"IF(COUNTIF(AH$2:AH459,AH459)=1,AH459,\"\")","v":""},"","","",null,null,null,{"$f":"+IF(AU459=\"\",\"\",MAX(AP$1:AP458)+1)","v":""},{"$f":"IF(CPMS_Detail!B481=\"\",\"\",CPMS_Detail!B481)","v":""},{"$f":"IF(CPMS_Detail!C481=\"\",\"\",CPMS_Detail!C481)","v":""},{"$f":"IF(CPMS_Detail!D481=\"\",\"\",CPMS_Detail!D481)","v":""},"",{"$f":"IF(COUNTIF(AT$2:AT459,AT459)=1,AT459,\"\")","v":""},"","","",null,{"$f":"+IF(BE459=\"\",\"\",MAX(AZ$1:AZ458)+1)","v":""},{"$f":"IF(Mercury!B481=\"\",\"\",Mercury!B481)","v":""},{"$f":"IF(Mercury!C481=\"\",\"\",Mercury!C481)","v":""},{"$f":"IF(Mercury!D481=\"\",\"\",Mercury!D481)","v":""},"",{"$f":"IF(COUNTIF(BB$2:BB459,BB459)=1,BB459,\"\")","v":""},"","",""]
[{"$f":"+IF(D460=\"\",\"\",MAX(A$1:A459)+1)","v":""},{"$f":"IF(CEM_COM_CPMS_Identification!C482=\"\",\"\",CEM_COM_CPMS_Identification!C482)","v":""},"",{"$f":"IF(COUNTIF(B$2:B460,B460)=1,B460,\"\")","v":""},null,null,null,null,null,null,null,null,null,null,null,null,null,null,null,{"$f":"+IF(Y460=\"\",\"\",MAX(T$1:T459)+1)","v":""},{"$f":"IF(No_CPMS_Limits_Details!B482=\"\",\"\",No_CPMS_Limits_Details!B482)","v":""},{"$f":"IF(No_CPMS_Limits_Details!C482=\"\",\"\",No_CPMS_Limits_Details!C482)","v":""},{"$f":"IF(No_CPMS_Limits_Details!D482=\"\",\"\",No_CPMS_Limits_Details!D482)","v":""},"",{"$f":"IF(COUNTIF(V$2:V460,V460)=1,V460,\"\")","v":""},"","","",null,{"$f":"+IF(AI460=\"\",\"\",MAX(AD$1:AD459)+1)","v":""},{"$f":"IF(Limits_Details_w_CPMS!B482=\"\",\"\",Limits_Details_w_CPMS!B482)","v":""},{"$f":"IF(Limits_Details_w_CPMS!C482=\"\",\"\",Limits_Details_w_CPMS!C482)","v":""},{"$f":"IF(Limits_Details_w_CPMS!D482=\"\",\"\",Limits_Details_w_CPMS!D482)","v":""},"",{"$f":"IF(COUNTIF(AH$2:AH460,AH460)=1,AH460,\"\")","v":""},"","","",null,null,null,{"$f":"+IF(AU460=\"\",\"\",MAX(AP$1:AP459)+1)","v":""},{"$f":"IF(CPMS_Detail!B482=\"\",\"\",CPMS_Detail!B482)","v":""},{"$f":"IF(CPMS_Detail!C482=\"\",\"\",CPMS_Detail!C482)","v":""},{"$f":"IF(CPMS_Detail!D482=\"\",\"\",CPMS_Detail!D482)","v":""},"",{"$f":"IF(COUNTIF(AT$2:AT460,AT460)=1,AT460,\"\")","v":""},"","","",null,{"$f":"+IF(BE460=\"\",\"\",MAX(AZ$1:AZ459)+1)","v":""},{"$f":"IF(Mercury!B482=\"\",\"\",Mercury!B482)","v":""},{"$f":"IF(Mercury!C482=\"\",\"\",Mercury!C482)","v":""},{"$f":"IF(Mercury!D482=\"\",\"\",Mercury!D482)","v":""},"",{"$f":"IF(COUNTIF(BB$2:BB460,BB460)=1,BB460,\"\")","v":""},"","",""]
[{"$f":"+IF(D461=\"\",\"\",MAX(A$1:A460)+1)","v":""},{"$f":"IF(CEM_COM_CPMS_Identification!C483=\"\",\"\",CEM_COM_CPMS_Identification!C483)","v":""},"",{"$f":"IF(COUNTIF(B$2:B461,B461)=1,B461,\"\")","v":""},null,null,null,null,null,null,null,null,null,null,null,null,null,null,null,{"$f":"+IF(Y461=\"\",\"\",MAX(T$1:T460)+1)","v":""},{"$f":"IF(No_CPMS_Limits_Details!B483=\"\",\"\",No_CPMS_Limits_Details!B483)","v":""},{"$f":"IF(No_CPMS_Limits_Details!C483=\"\",\"\",No_CPMS_Limits_Details!C483)","v":""},{"$f":"IF(No_CPMS_Limits_Details!D483=\"\",\"\",No_CPMS_Limits_Details!D483)","v":""},"",{"$f":"IF(COUNTIF(V$2:V461,V461)=1,V461,\"\")","v":""},"","","",null,{"$f":"+IF(AI461=\"\",\"\",MAX(AD$1:AD460)+1)","v":""},{"$f":"IF(Limits_Details_w_CPMS!B483=\"\",\"\",Limits_Details_w_CPMS!B483)","v":""},{"$f":"IF(Limits_Details_w_CPMS!C483=\"\",\"\",Limits_Details_w_CPMS!C483)","v":""},{"$f":"IF(Limits_Details_w_CPMS!D483=\"\",\"\",Limits_Details_w_CPMS!D483)","v":""},"",{"$f":"IF(COUNTIF(AH$2:AH461,AH461)=1,AH461,\"\")","v":""},"","","",null,null,null,{"$f":"+IF(AU461=\"\",\"\",MAX(AP$1:AP460)+1)","v":""},{"$f":"IF(CPMS_Detail!B483=\"\",\"\",CPMS_Detail!B483)","v":""},{"$f":"IF(CPMS_Detail!C483=\"\",\"\",CPMS_Detail!C483)","v":""},{"$f":"IF(CPMS_Detail!D483=\"\",\"\",CPMS_Detail!D483)","v":""},"",{"$f":"IF(COUNTIF(AT$2:AT461,AT461)=1,AT461,\"\")","v":""},"","","",null,{"$f":"+IF(BE461=\"\",\"\",MAX(AZ$1:AZ460)+1)","v":""},{"$f":"IF(Mercury!B483=\"\",\"\",Mercury!B483)","v":""},{"$f":"IF(Mercury!C483=\"\",\"\",Mercury!C483)","v":""},{"$f":"IF(Mercury!D483=\"\",\"\",Mercury!D483)","v":""},"",{"$f":"IF(COUNTIF(BB$2:BB461,BB461)=1,BB461,\"\")","v":""},"","",""]
[{"$f":"+IF(D462=\"\",\"\",MAX(A$1:A461)+1)","v":""},{"$f":"IF(CEM_COM_CPMS_Identification!C484=\"\",\"\",CEM_COM_CPMS_Identification!C484)","v":""},"",{"$f":"IF(COUNTIF(B$2:B462,B462)=1,B462,\"\")","v":""},null,null,null,null,null,null,null,null,null,null,null,null,null,null,null,{"$f":"+IF(Y462=\"\",\"\",MAX(T$1:T461)+1)","v":""},{"$f":"IF(No_CPMS_Limits_Details!B484=\"\",\"\",No_CPMS_Limits_Details!B484)","v":""},{"$f":"IF(No_CPMS_Limits_Details!C484=\"\",\"\",No_CPMS_Limits_Details!C484)","v":""},{"$f":"IF(No_CPMS_Limits_Details!D484=\"\",\"\",No_CPMS_Limits_Details!D484)","v":""},"",{"$f":"IF(COUNTIF(V$2:V462,V462)=1,V462,\"\")","v":""},"","","",null,{"$f":"+IF(AI462=\"\",\"\",MAX(AD$1:AD461)+1)","v":""},{"$f":"IF(Limits_Details_w_CPMS!B484=\"\",\"\",Limits_Details_w_CPMS!B484)","v":""},{"$f":"IF(Limits_Details_w_CPMS!C484=\"\",\"\",Limits_Details_w_CPMS!C484)","v":""},{"$f":"IF(Limits_Details_w_CPMS!D484=\"\",\"\",Limits_Details_w_CPMS!D484)","v":""},"",{"$f":"IF(COUNTIF(AH$2:AH462,AH462)=1,AH462,\"\")","v":""},"","","",null,null,null,{"$f":"+IF(AU462=\"\",\"\",MAX(AP$1:AP461)+1)","v":""},{"$f":"IF(CPMS_Detail!B484=\"\",\"\",CPMS_Detail!B484)","v":""},{"$f":"IF(CPMS_Detail!C484=\"\",\"\",CPMS_Detail!C484)","v":""},{"$f":"IF(CPMS_Detail!D484=\"\",\"\",CPMS_Detail!D484)","v":""},"",{"$f":"IF(COUNTIF(AT$2:AT462,AT462)=1,AT462,\"\")","v":""},"","","",null,{"$f":"+IF(BE462=\"\",\"\",MAX(AZ$1:AZ461)+1)","v":""},{"$f":"IF(Mercury!B484=\"\",\"\",Mercury!B484)","v":""},{"$f":"IF(Mercury!C484=\"\",\"\",Mercury!C484)","v":""},{"$f":"IF(Mercury!D484=\"\",\"\",Mercury!D484)","v":""},"",{"$f":"IF(COUNTIF(BB$2:BB462,BB462)=1,BB462,\"\")","v":""},"","",""]
[{"$f":"+IF(D463=\"\",\"\",MAX(A$1:A462)+1)","v":""},{"$f":"IF(CEM_COM_CPMS_Identification!C485=\"\",\"\",CEM_COM_CPMS_Identification!C485)","v":""},"",{"$f":"IF(COUNTIF(B$2:B463,B463)=1,B463,\"\")","v":""},null,null,null,null,null,null,null,null,null,null,null,null,null,null,null,{"$f":"+IF(Y463=\"\",\"\",MAX(T$1:T462)+1)","v":""},{"$f":"IF(No_CPMS_Limits_Details!B485=\"\",\"\",No_CPMS_Limits_Details!B485)","v":""},{"$f":"IF(No_CPMS_Limits_Details!C485=\"\",\"\",No_CPMS_Limits_Details!C485)","v":""},{"$f":"IF(No_CPMS_Limits_Details!D485=\"\",\"\",No_CPMS_Limits_Details!D485)","v":""},"",{"$f":"IF(COUNTIF(V$2:V463,V463)=1,V463,\"\")","v":""},"","","",null,{"$f":"+IF(AI463=\"\",\"\",MAX(AD$1:AD462)+1)","v":""},{"$f":"IF(Limits_Details_w_CPMS!B485=\"\",\"\",Limits_Details_w_CPMS!B485)","v":""},{"$f":"IF(Limits_Details_w_CPMS!C485=\"\",\"\",Limits_Details_w_CPMS!C485)","v":""},{"$f":"IF(Limits_Details_w_CPMS!D485=\"\",\"\",Limits_Details_w_CPMS!D485)","v":""},"",{"$f":"IF(COUNTIF(AH$2:AH463,AH463)=1,AH463,\"\")","v":""},"","","",null,null,null,{"$f":"+IF(AU463=\"\",\"\",MAX(AP$1:AP462)+1)","v":""},{"$f":"IF(CPMS_Detail!B485=\"\",\"\",CPMS_Detail!B485)","v":""},{"$f":"IF(CPMS_Detail!C485=\"\",\"\",CPMS_Detail!C485)","v":""},{"$f":"IF(CPMS_Detail!D485=\"\",\"\",CPMS_Detail!D485)","v":""},"",{"$f":"IF(COUNTIF(AT$2:AT463,AT463)=1,AT463,\"\")","v":""},"","","",null,{"$f":"+IF(BE463=\"\",\"\",MAX(AZ$1:AZ462)+1)","v":""},{"$f":"IF(Mercury!B485=\"\",\"\",Mercury!B485)","v":""},{"$f":"IF(Mercury!C485=\"\",\"\",Mercury!C485)","v":""},{"$f":"IF(Mercury!D485=\"\",\"\",Mercury!D485)","v":""},"",{"$f":"IF(COUNTIF(BB$2:BB463,BB463)=1,BB463,\"\")","v":""},"","",""]
[{"$f":"+IF(D464=\"\",\"\",MAX(A$1:A463)+1)","v":""},{"$f":"IF(CEM_COM_CPMS_Identification!C486=\"\",\"\",CEM_COM_CPMS_Identification!C486)","v":""},"",{"$f":"IF(COUNTIF(B$2:B464,B464)=1,B464,\"\")","v":""},null,null,null,null,null,null,null,null,null,null,null,null,null,null,null,{"$f":"+IF(Y464=\"\",\"\",MAX(T$1:T463)+1)","v":""},{"$f":"IF(No_CPMS_Limits_Details!B486=\"\",\"\",No_CPMS_Limits_Details!B486)","v":""},{"$f":"IF(No_CPMS_Limits_Details!C486=\"\",\"\",No_CPMS_Limits_Details!C486)","v":""},{"$f":"IF(No_CPMS_Limits_Details!D486=\"\",\"\",No_CPMS_Limits_Details!D486)","v":""},"",{"$f":"IF(COUNTIF(V$2:V464,V464)=1,V464,\"\")","v":""},"","","",null,{"$f":"+IF(AI464=\"\",\"\",MAX(AD$1:AD463)+1)","v":""},{"$f":"IF(Limits_Details_w_CPMS!B486=\"\",\"\",Limits_Details_w_CPMS!B486)","v":""},{"$f":"IF(Limits_Details_w_CPMS!C486=\"\",\"\",Limits_Details_w_CPMS!C486)","v":""},{"$f":"IF(Limits_Details_w_CPMS!D486=\"\",\"\",Limits_Details_w_CPMS!D486)","v":""},"",{"$f":"IF(COUNTIF(AH$2:AH464,AH464)=1,AH464,\"\")","v":""},"","","",null,null,null,{"$f":"+IF(AU464=\"\",\"\",MAX(AP$1:AP463)+1)","v":""},{"$f":"IF(CPMS_Detail!B486=\"\",\"\",CPMS_Detail!B486)","v":""},{"$f":"IF(CPMS_Detail!C486=\"\",\"\",CPMS_Detail!C486)","v":""},{"$f":"IF(CPMS_Detail!D486=\"\",\"\",CPMS_Detail!D486)","v":""},"",{"$f":"IF(COUNTIF(AT$2:AT464,AT464)=1,AT464,\"\")","v":""},"","","",null,{"$f":"+IF(BE464=\"\",\"\",MAX(AZ$1:AZ463)+1)","v":""},{"$f":"IF(Mercury!B486=\"\",\"\",Mercury!B486)","v":""},{"$f":"IF(Mercury!C486=\"\",\"\",Mercury!C486)","v":""},{"$f":"IF(Mercury!D486=\"\",\"\",Mercury!D486)","v":""},"",{"$f":"IF(COUNTIF(BB$2:BB464,BB464)=1,BB464,\"\")","v":""},"","",""]
[{"$f":"+IF(D465=\"\",\"\",MAX(A$1:A464)+1)","v":""},{"$f":"IF(CEM_COM_CPMS_Identification!C487=\"\",\"\",CEM_COM_CPMS_Identification!C487)","v":""},"",{"$f":"IF(COUNTIF(B$2:B465,B465)=1,B465,\"\")","v":""},null,null,null,null,null,null,null,null,null,null,null,null,null,null,null,{"$f":"+IF(Y465=\"\",\"\",MAX(T$1:T464)+1)","v":""},{"$f":"IF(No_CPMS_Limits_Details!B487=\"\",\"\",No_CPMS_Limits_Details!B487)","v":""},{"$f":"IF(No_CPMS_Limits_Details!C487=\"\",\"\",No_CPMS_Limits_Details!C487)","v":""},{"$f":"IF(No_CPMS_Limits_Details!D487=\"\",\"\",No_CPMS_Limits_Details!D487)","v":""},"",{"$f":"IF(COUNTIF(V$2:V465,V465)=1,V465,\"\")","v":""},"","","",null,{"$f":"+IF(AI465=\"\",\"\",MAX(AD$1:AD464)+1)","v":""},{"$f":"IF(Limits_Details_w_CPMS!B487=\"\",\"\",Limits_Details_w_CPMS!B487)","v":""},{"$f":"IF(Limits_Details_w_CPMS!C487=\"\",\"\",Limits_Details_w_CPMS!C487)","v":""},{"$f":"IF(Limits_Details_w_CPMS!D487=\"\",\"\",Limits_Details_w_CPMS!D487)","v":""},"",{"$f":"IF(COUNTIF(AH$2:AH465,AH465)=1,AH465,\"\")","v":""},"","","",null,null,null,{"$f":"+IF(AU465=\"\",\"\",MAX(AP$1:AP464)+1)","v":""},{"$f":"IF(CPMS_Detail!B487=\"\",\"\",CPMS_Detail!B487)","v":""},{"$f":"IF(CPMS_Detail!C487=\"\",\"\",CPMS_Detail!C487)","v":""},{"$f":"IF(CPMS_Detail!D487=\"\",\"\",CPMS_Detail!D487)","v":""},"",{"$f":"IF(COUNTIF(AT$2:AT465,AT465)=1,AT465,\"\")","v":""},"","","",null,{"$f":"+IF(BE465=\"\",\"\",MAX(AZ$1:AZ464)+1)","v":""},{"$f":"IF(Mercury!B487=\"\",\"\",Mercury!B487)","v":""},{"$f":"IF(Mercury!C487=\"\",\"\",Mercury!C487)","v":""},{"$f":"IF(Mercury!D487=\"\",\"\",Mercury!D487)","v":""},"",{"$f":"IF(COUNTIF(BB$2:BB465,BB465)=1,BB465,\"\")","v":""},"","",""]
[{"$f":"+IF(D466=\"\",\"\",MAX(A$1:A465)+1)","v":""},{"$f":"IF(CEM_COM_CPMS_Identification!C488=\"\",\"\",CEM_COM_CPMS_Identification!C488)","v":""},"",{"$f":"IF(COUNTIF(B$2:B466,B466)=1,B466,\"\")","v":""},null,null,null,null,null,null,null,null,null,null,null,null,null,null,null,{"$f":"+IF(Y466=\"\",\"\",MAX(T$1:T465)+1)","v":""},{"$f":"IF(No_CPMS_Limits_Details!B488=\"\",\"\",No_CPMS_Limits_Details!B488)","v":""},{"$f":"IF(No_CPMS_Limits_Details!C488=\"\",\"\",No_CPMS_Limits_Details!C488)","v":""},{"$f":"IF(No_CPMS_Limits_Details!D488=\"\",\"\",No_CPMS_Limits_Details!D488)","v":""},"",{"$f":"IF(COUNTIF(V$2:V466,V466)=1,V466,\"\")","v":""},"","","",null,{"$f":"+IF(AI466=\"\",\"\",MAX(AD$1:AD465)+1)","v":""},{"$f":"IF(Limits_Details_w_CPMS!B488=\"\",\"\",Limits_Details_w_CPMS!B488)","v":""},{"$f":"IF(Limits_Details_w_CPMS!C488=\"\",\"\",Limits_Details_w_CPMS!C488)","v":""},{"$f":"IF(Limits_Details_w_CPMS!D488=\"\",\"\",Limits_Details_w_CPMS!D488)","v":""},"",{"$f":"IF(COUNTIF(AH$2:AH466,AH466)=1,AH466,\"\")","v":""},"","","",null,null,null,{"$f":"+IF(AU466=\"\",\"\",MAX(AP$1:AP465)+1)","v":""},{"$f":"IF(CPMS_Detail!B488=\"\",\"\",CPMS_Detail!B488)","v":""},{"$f":"IF(CPMS_Detail!C488=\"\",\"\",CPMS_Detail!C488)","v":""},{"$f":"IF(CPMS_Detail!D488=\"\",\"\",CPMS_Detail!D488)","v":""},"",{"$f":"IF(COUNTIF(AT$2:AT466,AT466)=1,AT466,\"\")","v":""},"","","",null,{"$f":"+IF(BE466=\"\",\"\",MAX(AZ$1:AZ465)+1)","v":""},{"$f":"IF(Mercury!B488=\"\",\"\",Mercury!B488)","v":""},{"$f":"IF(Mercury!C488=\"\",\"\",Mercury!C488)","v":""},{"$f":"IF(Mercury!D488=\"\",\"\",Mercury!D488)","v":""},"",{"$f":"IF(COUNTIF(BB$2:BB466,BB466)=1,BB466,\"\")","v":""},"","",""]
[{"$f":"+IF(D467=\"\",\"\",MAX(A$1:A466)+1)","v":""},{"$f":"IF(CEM_COM_CPMS_Identification!C489=\"\",\"\",CEM_COM_CPMS_Identification!C489)","v":""},"",{"$f":"IF(COUNTIF(B$2:B467,B467)=1,B467,\"\")","v":""},null,null,null,null,null,null,null,null,null,null,null,null,null,null,null,{"$f":"+IF(Y467=\"\",\"\",MAX(T$1:T466)+1)","v":""},{"$f":"IF(No_CPMS_Limits_Details!B489=\"\",\"\",No_CPMS_Limits_Details!B489)","v":""},{"$f":"IF(No_CPMS_Limits_Details!C489=\"\",\"\",No_CPMS_Limits_Details!C489)","v":""},{"$f":"IF(No_CPMS_Limits_Details!D489=\"\",\"\",No_CPMS_Limits_Details!D489)","v":""},"",{"$f":"IF(COUNTIF(V$2:V467,V467)=1,V467,\"\")","v":""},"","","",null,{"$f":"+IF(AI467=\"\",\"\",MAX(AD$1:AD466)+1)","v":""},{"$f":"IF(Limits_Details_w_CPMS!B489=\"\",\"\",Limits_Details_w_CPMS!B489)","v":""},{"$f":"IF(Limits_Details_w_CPMS!C489=\"\",\"\",Limits_Details_w_CPMS!C489)","v":""},{"$f":"IF(Limits_Details_w_CPMS!D489=\"\",\"\",Limits_Details_w_CPMS!D489)","v":""},"",{"$f":"IF(COUNTIF(AH$2:AH467,AH467)=1,AH467,\"\")","v":""},"","","",null,null,null,{"$f":"+IF(AU467=\"\",\"\",MAX(AP$1:AP466)+1)","v":""},{"$f":"IF(CPMS_Detail!B489=\"\",\"\",CPMS_Detail!B489)","v":""},{"$f":"IF(CPMS_Detail!C489=\"\",\"\",CPMS_Detail!C489)","v":""},{"$f":"IF(CPMS_Detail!D489=\"\",\"\",CPMS_Detail!D489)","v":""},"",{"$f":"IF(COUNTIF(AT$2:AT467,AT467)=1,AT467,\"\")","v":""},"","","",null,{"$f":"+IF(BE467=\"\",\"\",MAX(AZ$1:AZ466)+1)","v":""},{"$f":"IF(Mercury!B489=\"\",\"\",Mercury!B489)","v":""},{"$f":"IF(Mercury!C489=\"\",\"\",Mercury!C489)","v":""},{"$f":"IF(Mercury!D489=\"\",\"\",Mercury!D489)","v":""},"",{"$f":"IF(COUNTIF(BB$2:BB467,BB467)=1,BB467,\"\")","v":""},"","",""]
[{"$f":"+IF(D468=\"\",\"\",MAX(A$1:A467)+1)","v":""},{"$f":"IF(CEM_COM_CPMS_Identification!C490=\"\",\"\",CEM_COM_CPMS_Identification!C490)","v":""},"",{"$f":"IF(COUNTIF(B$2:B468,B468)=1,B468,\"\")","v":""},null,null,null,null,null,null,null,null,null,null,null,null,null,null,null,{"$f":"+IF(Y468=\"\",\"\",MAX(T$1:T467)+1)","v":""},{"$f":"IF(No_CPMS_Limits_Details!B490=\"\",\"\",No_CPMS_Limits_Details!B490)","v":""},{"$f":"IF(No_CPMS_Limits_Details!C490=\"\",\"\",No_CPMS_Limits_Details!C490)","v":""},{"$f":"IF(No_CPMS_Limits_Details!D490=\"\",\"\",No_CPMS_Limits_Details!D490)","v":""},"",{"$f":"IF(COUNTIF(V$2:V468,V468)=1,V468,\"\")","v":""},"","","",null,{"$f":"+IF(AI468=\"\",\"\",MAX(AD$1:AD467)+1)","v":""},{"$f":"IF(Limits_Details_w_CPMS!B490=\"\",\"\",Limits_Details_w_CPMS!B490)","v":""},{"$f":"IF(Limits_Details_w_CPMS!C490=\"\",\"\",Limits_Details_w_CPMS!C490)","v":""},{"$f":"IF(Limits_Details_w_CPMS!D490=\"\",\"\",Limits_Details_w_CPMS!D490)","v":""},"",{"$f":"IF(COUNTIF(AH$2:AH468,AH468)=1,AH468,\"\")","v":""},"","","",null,null,null,{"$f":"+IF(AU468=\"\",\"\",MAX(AP$1:AP467)+1)","v":""},{"$f":"IF(CPMS_Detail!B490=\"\",\"\",CPMS_Detail!B490)","v":""},{"$f":"IF(CPMS_Detail!C490=\"\",\"\",CPMS_Detail!C490)","v":""},{"$f":"IF(CPMS_Detail!D490=\"\",\"\",CPMS_Detail!D490)","v":""},"",{"$f":"IF(COUNTIF(AT$2:AT468,AT468)=1,AT468,\"\")","v":""},"","","",null,{"$f":"+IF(BE468=\"\",\"\",MAX(AZ$1:AZ467)+1)","v":""},{"$f":"IF(Mercury!B490=\"\",\"\",Mercury!B490)","v":""},{"$f":"IF(Mercury!C490=\"\",\"\",Mercury!C490)","v":""},{"$f":"IF(Mercury!D490=\"\",\"\",Mercury!D490)","v":""},"",{"$f":"IF(COUNTIF(BB$2:BB468,BB468)=1,BB468,\"\")","v":""},"","",""]
[{"$f":"+IF(D469=\"\",\"\",MAX(A$1:A468)+1)","v":""},{"$f":"IF(CEM_COM_CPMS_Identification!C491=\"\",\"\",CEM_COM_CPMS_Identification!C491)","v":""},"",{"$f":"IF(COUNTIF(B$2:B469,B469)=1,B469,\"\")","v":""},null,null,null,null,null,null,null,null,null,null,null,null,null,null,null,{"$f":"+IF(Y469=\"\",\"\",MAX(T$1:T468)+1)","v":""},{"$f":"IF(No_CPMS_Limits_Details!B491=\"\",\"\",No_CPMS_Limits_Details!B491)","v":""},{"$f":"IF(No_CPMS_Limits_Details!C491=\"\",\"\",No_CPMS_Limits_Details!C491)","v":""},{"$f":"IF(No_CPMS_Limits_Details!D491=\"\",\"\",No_CPMS_Limits_Details!D491)","v":""},"",{"$f":"IF(COUNTIF(V$2:V469,V469)=1,V469,\"\")","v":""},"","","",null,{"$f":"+IF(AI469=\"\",\"\",MAX(AD$1:AD468)+1)","v":""},{"$f":"IF(Limits_Details_w_CPMS!B491=\"\",\"\",Limits_Details_w_CPMS!B491)","v":""},{"$f":"IF(Limits_Details_w_CPMS!C491=\"\",\"\",Limits_Details_w_CPMS!C491)","v":""},{"$f":"IF(Limits_Details_w_CPMS!D491=\"\",\"\",Limits_Details_w_CPMS!D491)","v":""},"",{"$f":"IF(COUNTIF(AH$2:AH469,AH469)=1,AH469,\"\")","v":""},"","","",null,null,null,{"$f":"+IF(AU469=\"\",\"\",MAX(AP$1:AP468)+1)","v":""},{"$f":"IF(CPMS_Detail!B491=\"\",\"\",CPMS_Detail!B491)","v":""},{"$f":"IF(CPMS_Detail!C491=\"\",\"\",CPMS_Detail!C491)","v":""},{"$f":"IF(CPMS_Detail!D491=\"\",\"\",CPMS_Detail!D491)","v":""},"",{"$f":"IF(COUNTIF(AT$2:AT469,AT469)=1,AT469,\"\")","v":""},"","","",null,{"$f":"+IF(BE469=\"\",\"\",MAX(AZ$1:AZ468)+1)","v":""},{"$f":"IF(Mercury!B491=\"\",\"\",Mercury!B491)","v":""},{"$f":"IF(Mercury!C491=\"\",\"\",Mercury!C491)","v":""},{"$f":"IF(Mercury!D491=\"\",\"\",Mercury!D491)","v":""},"",{"$f":"IF(COUNTIF(BB$2:BB469,BB469)=1,BB469,\"\")","v":""},"","",""]
[{"$f":"+IF(D470=\"\",\"\",MAX(A$1:A469)+1)","v":""},{"$f":"IF(CEM_COM_CPMS_Identification!C492=\"\",\"\",CEM_COM_CPMS_Identification!C492)","v":""},"",{"$f":"IF(COUNTIF(B$2:B470,B470)=1,B470,\"\")","v":""},null,null,null,null,null,null,null,null,null,null,null,null,null,null,null,{"$f":"+IF(Y470=\"\",\"\",MAX(T$1:T469)+1)","v":""},{"$f":"IF(No_CPMS_Limits_Details!B492=\"\",\"\",No_CPMS_Limits_Details!B492)","v":""},{"$f":"IF(No_CPMS_Limits_Details!C492=\"\",\"\",No_CPMS_Limits_Details!C492)","v":""},{"$f":"IF(No_CPMS_Limits_Details!D492=\"\",\"\",No_CPMS_Limits_Details!D492)","v":""},"",{"$f":"IF(COUNTIF(V$2:V470,V470)=1,V470,\"\")","v":""},"","","",null,{"$f":"+IF(AI470=\"\",\"\",MAX(AD$1:AD469)+1)","v":""},{"$f":"IF(Limits_Details_w_CPMS!B492=\"\",\"\",Limits_Details_w_CPMS!B492)","v":""},{"$f":"IF(Limits_Details_w_CPMS!C492=\"\",\"\",Limits_Details_w_CPMS!C492)","v":""},{"$f":"IF(Limits_Details_w_CPMS!D492=\"\",\"\",Limits_Details_w_CPMS!D492)","v":""},"",{"$f":"IF(COUNTIF(AH$2:AH470,AH470)=1,AH470,\"\")","v":""},"","","",null,null,null,{"$f":"+IF(AU470=\"\",\"\",MAX(AP$1:AP469)+1)","v":""},{"$f":"IF(CPMS_Detail!B492=\"\",\"\",CPMS_Detail!B492)","v":""},{"$f":"IF(CPMS_Detail!C492=\"\",\"\",CPMS_Detail!C492)","v":""},{"$f":"IF(CPMS_Detail!D492=\"\",\"\",CPMS_Detail!D492)","v":""},"",{"$f":"IF(COUNTIF(AT$2:AT470,AT470)=1,AT470,\"\")","v":""},"","","",null,{"$f":"+IF(BE470=\"\",\"\",MAX(AZ$1:AZ469)+1)","v":""},{"$f":"IF(Mercury!B492=\"\",\"\",Mercury!B492)","v":""},{"$f":"IF(Mercury!C492=\"\",\"\",Mercury!C492)","v":""},{"$f":"IF(Mercury!D492=\"\",\"\",Mercury!D492)","v":""},"",{"$f":"IF(COUNTIF(BB$2:BB470,BB470)=1,BB470,\"\")","v":""},"","",""]
[{"$f":"+IF(D471=\"\",\"\",MAX(A$1:A470)+1)","v":""},{"$f":"IF(CEM_COM_CPMS_Identification!C493=\"\",\"\",CEM_COM_CPMS_Identification!C493)","v":""},"",{"$f":"IF(COUNTIF(B$2:B471,B471)=1,B471,\"\")","v":""},null,null,null,null,null,null,null,null,null,null,null,null,null,null,null,{"$f":"+IF(Y471=\"\",\"\",MAX(T$1:T470)+1)","v":""},{"$f":"IF(No_CPMS_Limits_Details!B493=\"\",\"\",No_CPMS_Limits_Details!B493)","v":""},{"$f":"IF(No_CPMS_Limits_Details!C493=\"\",\"\",No_CPMS_Limits_Details!C493)","v":""},{"$f":"IF(No_CPMS_Limits_Details!D493=\"\",\"\",No_CPMS_Limits_Details!D493)","v":""},"",{"$f":"IF(COUNTIF(V$2:V471,V471)=1,V471,\"\")","v":""},"","","",null,{"$f":"+IF(AI471=\"\",\"\",MAX(AD$1:AD470)+1)","v":""},{"$f":"IF(Limits_Details_w_CPMS!B493=\"\",\"\",Limits_Details_w_CPMS!B493)","v":""},{"$f":"IF(Limits_Details_w_CPMS!C493=\"\",\"\",Limits_Details_w_CPMS!C493)","v":""},{"$f":"IF(Limits_Details_w_CPMS!D493=\"\",\"\",Limits_Details_w_CPMS!D493)","v":""},"",{"$f":"IF(COUNTIF(AH$2:AH471,AH471)=1,AH471,\"\")","v":""},"","","",null,null,null,{"$f":"+IF(AU471=\"\",\"\",MAX(AP$1:AP470)+1)","v":""},{"$f":"IF(CPMS_Detail!B493=\"\",\"\",CPMS_Detail!B493)","v":""},{"$f":"IF(CPMS_Detail!C493=\"\",\"\",CPMS_Detail!C493)","v":""},{"$f":"IF(CPMS_Detail!D493=\"\",\"\",CPMS_Detail!D493)","v":""},"",{"$f":"IF(COUNTIF(AT$2:AT471,AT471)=1,AT471,\"\")","v":""},"","","",null,{"$f":"+IF(BE471=\"\",\"\",MAX(AZ$1:AZ470)+1)","v":""},{"$f":"IF(Mercury!B493=\"\",\"\",Mercury!B493)","v":""},{"$f":"IF(Mercury!C493=\"\",\"\",Mercury!C493)","v":""},{"$f":"IF(Mercury!D493=\"\",\"\",Mercury!D493)","v":""},"",{"$f":"IF(COUNTIF(BB$2:BB471,BB471)=1,BB471,\"\")","v":""},"","",""]
[{"$f":"+IF(D472=\"\",\"\",MAX(A$1:A471)+1)","v":""},{"$f":"IF(CEM_COM_CPMS_Identification!C494=\"\",\"\",CEM_COM_CPMS_Identification!C494)","v":""},"",{"$f":"IF(COUNTIF(B$2:B472,B472)=1,B472,\"\")","v":""},null,null,null,null,null,null,null,null,null,null,null,null,null,null,null,{"$f":"+IF(Y472=\"\",\"\",MAX(T$1:T471)+1)","v":""},{"$f":"IF(No_CPMS_Limits_Details!B494=\"\",\"\",No_CPMS_Limits_Details!B494)","v":""},{"$f":"IF(No_CPMS_Limits_Details!C494=\"\",\"\",No_CPMS_Limits_Details!C494)","v":""},{"$f":"IF(No_CPMS_Limits_Details!D494=\"\",\"\",No_CPMS_Limits_Details!D494)","v":""},"",{"$f":"IF(COUNTIF(V$2:V472,V472)=1,V472,\"\")","v":""},"","","",null,{"$f":"+IF(AI472=\"\",\"\",MAX(AD$1:AD471)+1)","v":""},{"$f":"IF(Limits_Details_w_CPMS!B494=\"\",\"\",Limits_Details_w_CPMS!B494)","v":""},{"$f":"IF(Limits_Details_w_CPMS!C494=\"\",\"\",Limits_Details_w_CPMS!C494)","v":""},{"$f":"IF(Limits_Details_w_CPMS!D494=\"\",\"\",Limits_Details_w_CPMS!D494)","v":""},"",{"$f":"IF(COUNTIF(AH$2:AH472,AH472)=1,AH472,\"\")","v":""},"","","",null,null,null,{"$f":"+IF(AU472=\"\",\"\",MAX(AP$1:AP471)+1)","v":""},{"$f":"IF(CPMS_Detail!B494=\"\",\"\",CPMS_Detail!B494)","v":""},{"$f":"IF(CPMS_Detail!C494=\"\",\"\",CPMS_Detail!C494)","v":""},{"$f":"IF(CPMS_Detail!D494=\"\",\"\",CPMS_Detail!D494)","v":""},"",{"$f":"IF(COUNTIF(AT$2:AT472,AT472)=1,AT472,\"\")","v":""},"","","",null,{"$f":"+IF(BE472=\"\",\"\",MAX(AZ$1:AZ471)+1)","v":""},{"$f":"IF(Mercury!B494=\"\",\"\",Mercury!B494)","v":""},{"$f":"IF(Mercury!C494=\"\",\"\",Mercury!C494)","v":""},{"$f":"IF(Mercury!D494=\"\",\"\",Mercury!D494)","v":""},"",{"$f":"IF(COUNTIF(BB$2:BB472,BB472)=1,BB472,\"\")","v":""},"","",""]
[{"$f":"+IF(D473=\"\",\"\",MAX(A$1:A472)+1)","v":""},{"$f":"IF(CEM_COM_CPMS_Identification!C495=\"\",\"\",CEM_COM_CPMS_Identification!C495)","v":""},"",{"$f":"IF(COUNTIF(B$2:B473,B473)=1,B473,\"\")","v":""},null,null,null,null,null,null,null,null,null,null,null,null,null,null,null,{"$f":"+IF(Y473=\"\",\"\",MAX(T$1:T472)+1)","v":""},{"$f":"IF(No_CPMS_Limits_Details!B495=\"\",\"\",No_CPMS_Limits_Details!B495)","v":""},{"$f":"IF(No_CPMS_Limits_Details!C495=\"\",\"\",No_CPMS_Limits_Details!C495)","v":""},{"$f":"IF(No_CPMS_Limits_Details!D495=\"\",\"\",No_CPMS_Limits_Details!D495)","v":""},"",{"$f":"IF(COUNTIF(V$2:V473,V473)=1,V473,\"\")","v":""},"","","",null,{"$f":"+IF(AI473=\"\",\"\",MAX(AD$1:AD472)+1)","v":""},{"$f":"IF(Limits_Details_w_CPMS!B495=\"\",\"\",Limits_Details_w_CPMS!B495)","v":""},{"$f":"IF(Limits_Details_w_CPMS!C495=\"\",\"\",Limits_Details_w_CPMS!C495)","v":""},{"$f":"IF(Limits_Details_w_CPMS!D495=\"\",\"\",Limits_Details_w_CPMS!D495)","v":""},"",{"$f":"IF(COUNTIF(AH$2:AH473,AH473)=1,AH473,\"\")","v":""},"","","",null,null,null,{"$f":"+IF(AU473=\"\",\"\",MAX(AP$1:AP472)+1)","v":""},{"$f":"IF(CPMS_Detail!B495=\"\",\"\",CPMS_Detail!B495)","v":""},{"$f":"IF(CPMS_Detail!C495=\"\",\"\",CPMS_Detail!C495)","v":""},{"$f":"IF(CPMS_Detail!D495=\"\",\"\",CPMS_Detail!D495)","v":""},"",{"$f":"IF(COUNTIF(AT$2:AT473,AT473)=1,AT473,\"\")","v":""},"","","",null,{"$f":"+IF(BE473=\"\",\"\",MAX(AZ$1:AZ472)+1)","v":""},{"$f":"IF(Mercury!B495=\"\",\"\",Mercury!B495)","v":""},{"$f":"IF(Mercury!C495=\"\",\"\",Mercury!C495)","v":""},{"$f":"IF(Mercury!D495=\"\",\"\",Mercury!D495)","v":""},"",{"$f":"IF(COUNTIF(BB$2:BB473,BB473)=1,BB473,\"\")","v":""},"","",""]
[{"$f":"+IF(D474=\"\",\"\",MAX(A$1:A473)+1)","v":""},{"$f":"IF(CEM_COM_CPMS_Identification!C496=\"\",\"\",CEM_COM_CPMS_Identification!C496)","v":""},"",{"$f":"IF(COUNTIF(B$2:B474,B474)=1,B474,\"\")","v":""},null,null,null,null,null,null,null,null,null,null,null,null,null,null,null,{"$f":"+IF(Y474=\"\",\"\",MAX(T$1:T473)+1)","v":""},{"$f":"IF(No_CPMS_Limits_Details!B496=\"\",\"\",No_CPMS_Limits_Details!B496)","v":""},{"$f":"IF(No_CPMS_Limits_Details!C496=\"\",\"\",No_CPMS_Limits_Details!C496)","v":""},{"$f":"IF(No_CPMS_Limits_Details!D496=\"\",\"\",No_CPMS_Limits_Details!D496)","v":""},"",{"$f":"IF(COUNTIF(V$2:V474,V474)=1,V474,\"\")","v":""},"","","",null,{"$f":"+IF(AI474=\"\",\"\",MAX(AD$1:AD473)+1)","v":""},{"$f":"IF(Limits_Details_w_CPMS!B496=\"\",\"\",Limits_Details_w_CPMS!B496)","v":""},{"$f":"IF(Limits_Details_w_CPMS!C496=\"\",\"\",Limits_Details_w_CPMS!C496)","v":""},{"$f":"IF(Limits_Details_w_CPMS!D496=\"\",\"\",Limits_Details_w_CPMS!D496)","v":""},"",{"$f":"IF(COUNTIF(AH$2:AH474,AH474)=1,AH474,\"\")","v":""},"","","",null,null,null,{"$f":"+IF(AU474=\"\",\"\",MAX(AP$1:AP473)+1)","v":""},{"$f":"IF(CPMS_Detail!B496=\"\",\"\",CPMS_Detail!B496)","v":""},{"$f":"IF(CPMS_Detail!C496=\"\",\"\",CPMS_Detail!C496)","v":""},{"$f":"IF(CPMS_Detail!D496=\"\",\"\",CPMS_Detail!D496)","v":""},"",{"$f":"IF(COUNTIF(AT$2:AT474,AT474)=1,AT474,\"\")","v":""},"","","",null,{"$f":"+IF(BE474=\"\",\"\",MAX(AZ$1:AZ473)+1)","v":""},{"$f":"IF(Mercury!B496=\"\",\"\",Mercury!B496)","v":""},{"$f":"IF(Mercury!C496=\"\",\"\",Mercury!C496)","v":""},{"$f":"IF(Mercury!D496=\"\",\"\",Mercury!D496)","v":""},"",{"$f":"IF(COUNTIF(BB$2:BB474,BB474)=1,BB474,\"\")","v":""},"","",""]
[{"$f":"+IF(D475=\"\",\"\",MAX(A$1:A474)+1)","v":""},{"$f":"IF(CEM_COM_CPMS_Identification!C497=\"\",\"\",CEM_COM_CPMS_Identification!C497)","v":""},"",{"$f":"IF(COUNTIF(B$2:B475,B475)=1,B475,\"\")","v":""},null,null,null,null,null,null,null,null,null,null,null,null,null,null,null,{"$f":"+IF(Y475=\"\",\"\",MAX(T$1:T474)+1)","v":""},{"$f":"IF(No_CPMS_Limits_Details!B497=\"\",\"\",No_CPMS_Limits_Details!B497)","v":""},{"$f":"IF(No_CPMS_Limits_Details!C497=\"\",\"\",No_CPMS_Limits_Details!C497)","v":""},{"$f":"IF(No_CPMS_Limits_Details!D497=\"\",\"\",No_CPMS_Limits_Details!D497)","v":""},"",{"$f":"IF(COUNTIF(V$2:V475,V475)=1,V475,\"\")","v":""},"","","",null,{"$f":"+IF(AI475=\"\",\"\",MAX(AD$1:AD474)+1)","v":""},{"$f":"IF(Limits_Details_w_CPMS!B497=\"\",\"\",Limits_Details_w_CPMS!B497)","v":""},{"$f":"IF(Limits_Details_w_CPMS!C497=\"\",\"\",Limits_Details_w_CPMS!C497)","v":""},{"$f":"IF(Limits_Details_w_CPMS!D497=\"\",\"\",Limits_Details_w_CPMS!D497)","v":""},"",{"$f":"IF(COUNTIF(AH$2:AH475,AH475)=1,AH475,\"\")","v":""},"","","",null,null,null,{"$f":"+IF(AU475=\"\",\"\",MAX(AP$1:AP474)+1)","v":""},{"$f":"IF(CPMS_Detail!B497=\"\",\"\",CPMS_Detail!B497)","v":""},{"$f":"IF(CPMS_Detail!C497=\"\",\"\",CPMS_Detail!C497)","v":""},{"$f":"IF(CPMS_Detail!D497=\"\",\"\",CPMS_Detail!D497)","v":""},"",{"$f":"IF(COUNTIF(AT$2:AT475,AT475)=1,AT475,\"\")","v":""},"","","",null,{"$f":"+IF(BE475=\"\",\"\",MAX(AZ$1:AZ474)+1)","v":""},{"$f":"IF(Mercury!B497=\"\",\"\",Mercury!B497)","v":""},{"$f":"IF(Mercury!C497=\"\",\"\",Mercury!C497)","v":""},{"$f":"IF(Mercury!D497=\"\",\"\",Mercury!D497)","v":""},"",{"$f":"IF(COUNTIF(BB$2:BB475,BB475)=1,BB475,\"\")","v":""},"","",""]
[{"$f":"+IF(D476=\"\",\"\",MAX(A$1:A475)+1)","v":""},{"$f":"IF(CEM_COM_CPMS_Identification!C498=\"\",\"\",CEM_COM_CPMS_Identification!C498)","v":""},"",{"$f":"IF(COUNTIF(B$2:B476,B476)=1,B476,\"\")","v":""},null,null,null,null,null,null,null,null,null,null,null,null,null,null,null,{"$f":"+IF(Y476=\"\",\"\",MAX(T$1:T475)+1)","v":""},{"$f":"IF(No_CPMS_Limits_Details!B498=\"\",\"\",No_CPMS_Limits_Details!B498)","v":""},{"$f":"IF(No_CPMS_Limits_Details!C498=\"\",\"\",No_CPMS_Limits_Details!C498)","v":""},{"$f":"IF(No_CPMS_Limits_Details!D498=\"\",\"\",No_CPMS_Limits_Details!D498)","v":""},"",{"$f":"IF(COUNTIF(V$2:V476,V476)=1,V476,\"\")","v":""},"","","",null,{"$f":"+IF(AI476=\"\",\"\",MAX(AD$1:AD475)+1)","v":""},{"$f":"IF(Limits_Details_w_CPMS!B498=\"\",\"\",Limits_Details_w_CPMS!B498)","v":""},{"$f":"IF(Limits_Details_w_CPMS!C498=\"\",\"\",Limits_Details_w_CPMS!C498)","v":""},{"$f":"IF(Limits_Details_w_CPMS!D498=\"\",\"\",Limits_Details_w_CPMS!D498)","v":""},"",{"$f":"IF(COUNTIF(AH$2:AH476,AH476)=1,AH476,\"\")","v":""},"","","",null,null,null,{"$f":"+IF(AU476=\"\",\"\",MAX(AP$1:AP475)+1)","v":""},{"$f":"IF(CPMS_Detail!B498=\"\",\"\",CPMS_Detail!B498)","v":""},{"$f":"IF(CPMS_Detail!C498=\"\",\"\",CPMS_Detail!C498)","v":""},{"$f":"IF(CPMS_Detail!D498=\"\",\"\",CPMS_Detail!D498)","v":""},"",{"$f":"IF(COUNTIF(AT$2:AT476,AT476)=1,AT476,\"\")","v":""},"","","",null,{"$f":"+IF(BE476=\"\",\"\",MAX(AZ$1:AZ475)+1)","v":""},{"$f":"IF(Mercury!B498=\"\",\"\",Mercury!B498)","v":""},{"$f":"IF(Mercury!C498=\"\",\"\",Mercury!C498)","v":""},{"$f":"IF(Mercury!D498=\"\",\"\",Mercury!D498)","v":""},"",{"$f":"IF(COUNTIF(BB$2:BB476,BB476)=1,BB476,\"\")","v":""},"","",""]
[{"$f":"+IF(D477=\"\",\"\",MAX(A$1:A476)+1)","v":""},{"$f":"IF(CEM_COM_CPMS_Identification!C499=\"\",\"\",CEM_COM_CPMS_Identification!C499)","v":""},"",{"$f":"IF(COUNTIF(B$2:B477,B477)=1,B477,\"\")","v":""},null,null,null,null,null,null,null,null,null,null,null,null,null,null,null,{"$f":"+IF(Y477=\"\",\"\",MAX(T$1:T476)+1)","v":""},{"$f":"IF(No_CPMS_Limits_Details!B499=\"\",\"\",No_CPMS_Limits_Details!B499)","v":""},{"$f":"IF(No_CPMS_Limits_Details!C499=\"\",\"\",No_CPMS_Limits_Details!C499)","v":""},{"$f":"IF(No_CPMS_Limits_Details!D499=\"\",\"\",No_CPMS_Limits_Details!D499)","v":""},"",{"$f":"IF(COUNTIF(V$2:V477,V477)=1,V477,\"\")","v":""},"","","",null,{"$f":"+IF(AI477=\"\",\"\",MAX(AD$1:AD476)+1)","v":""},{"$f":"IF(Limits_Details_w_CPMS!B499=\"\",\"\",Limits_Details_w_CPMS!B499)","v":""},{"$f":"IF(Limits_Details_w_CPMS!C499=\"\",\"\",Limits_Details_w_CPMS!C499)","v":""},{"$f":"IF(Limits_Details_w_CPMS!D499=\"\",\"\",Limits_Details_w_CPMS!D499)","v":""},"",{"$f":"IF(COUNTIF(AH$2:AH477,AH477)=1,AH477,\"\")","v":""},"","","",null,null,null,{"$f":"+IF(AU477=\"\",\"\",MAX(AP$1:AP476)+1)","v":""},{"$f":"IF(CPMS_Detail!B499=\"\",\"\",CPMS_Detail!B499)","v":""},{"$f":"IF(CPMS_Detail!C499=\"\",\"\",CPMS_Detail!C499)","v":""},{"$f":"IF(CPMS_Detail!D499=\"\",\"\",CPMS_Detail!D499)","v":""},"",{"$f":"IF(COUNTIF(AT$2:AT477,AT477)=1,AT477,\"\")","v":""},"","","",null,{"$f":"+IF(BE477=\"\",\"\",MAX(AZ$1:AZ476)+1)","v":""},{"$f":"IF(Mercury!B499=\"\",\"\",Mercury!B499)","v":""},{"$f":"IF(Mercury!C499=\"\",\"\",Mercury!C499)","v":""},{"$f":"IF(Mercury!D499=\"\",\"\",Mercury!D499)","v":""},"",{"$f":"IF(COUNTIF(BB$2:BB477,BB477)=1,BB477,\"\")","v":""},"","",""]
[{"$f":"+IF(D478=\"\",\"\",MAX(A$1:A477)+1)","v":""},{"$f":"IF(CEM_COM_CPMS_Identification!C500=\"\",\"\",CEM_COM_CPMS_Identification!C500)","v":""},"",{"$f":"IF(COUNTIF(B$2:B478,B478)=1,B478,\"\")","v":""},null,null,null,null,null,null,null,null,null,null,null,null,null,null,null,{"$f":"+IF(Y478=\"\",\"\",MAX(T$1:T477)+1)","v":""},{"$f":"IF(No_CPMS_Limits_Details!B500=\"\",\"\",No_CPMS_Limits_Details!B500)","v":""},{"$f":"IF(No_CPMS_Limits_Details!C500=\"\",\"\",No_CPMS_Limits_Details!C500)","v":""},{"$f":"IF(No_CPMS_Limits_Details!D500=\"\",\"\",No_CPMS_Limits_Details!D500)","v":""},"",{"$f":"IF(COUNTIF(V$2:V478,V478)=1,V478,\"\")","v":""},"","","",null,{"$f":"+IF(AI478=\"\",\"\",MAX(AD$1:AD477)+1)","v":""},{"$f":"IF(Limits_Details_w_CPMS!B500=\"\",\"\",Limits_Details_w_CPMS!B500)","v":""},{"$f":"IF(Limits_Details_w_CPMS!C500=\"\",\"\",Limits_Details_w_CPMS!C500)","v":""},{"$f":"IF(Limits_Details_w_CPMS!D500=\"\",\"\",Limits_Details_w_CPMS!D500)","v":""},"",{"$f":"IF(COUNTIF(AH$2:AH478,AH478)=1,AH478,\"\")","v":""},"","","",null,null,null,{"$f":"+IF(AU478=\"\",\"\",MAX(AP$1:AP477)+1)","v":""},{"$f":"IF(CPMS_Detail!B500=\"\",\"\",CPMS_Detail!B500)","v":""},{"$f":"IF(CPMS_Detail!C500=\"\",\"\",CPMS_Detail!C500)","v":""},{"$f":"IF(CPMS_Detail!D500=\"\",\"\",CPMS_Detail!D500)","v":""},"",{"$f":"IF(COUNTIF(AT$2:AT478,AT478)=1,AT478,\"\")","v":""},"","","",null,{"$f":"+IF(BE478=\"\",\"\",MAX(AZ$1:AZ477)+1)","v":""},{"$f":"IF(Mercury!B500=\"\",\"\",Mercury!B500)","v":""},{"$f":"IF(Mercury!C500=\"\",\"\",Mercury!C500)","v":""},{"$f":"IF(Mercury!D500=\"\",\"\",Mercury!D500)","v":""},"",{"$f":"IF(COUNTIF(BB$2:BB478,BB478)=1,BB478,\"\")","v":""},"","",""]
[{"$f":"+IF(D479=\"\",\"\",MAX(A$1:A478)+1)","v":""},{"$f":"IF(CEM_COM_CPMS_Identification!C501=\"\",\"\",CEM_COM_CPMS_Identification!C501)","v":""},"",{"$f":"IF(COUNTIF(B$2:B479,B479)=1,B479,\"\")","v":""}]
[{"$f":"+IF(D480=\"\",\"\",MAX(A$1:A479)+1)","v":""},{"$f":"IF(CEM_COM_CPMS_Identification!C502=\"\",\"\",CEM_COM_CPMS_Identification!C502)","v":""},"",{"$f":"IF(COUNTIF(B$2:B480,B480)=1,B480,\"\")","v":""}]
[{"$f":"+IF(D481=\"\",\"\",MAX(A$1:A480)+1)","v":""},{"$f":"IF(CEM_COM_CPMS_Identification!C503=\"\",\"\",CEM_COM_CPMS_Identification!C503)","v":""},"",{"$f":"IF(COUNTIF(B$2:B481,B481)=1,B481,\"\")","v":""}]
[{"$f":"+IF(D482=\"\",\"\",MAX(A$1:A481)+1)","v":""},{"$f":"IF(CEM_COM_CPMS_Identification!C504=\"\",\"\",CEM_COM_CPMS_Identification!C504)","v":""},"",{"$f":"IF(COUNTIF(B$2:B482,B482)=1,B482,\"\")","v":""}]
[{"$f":"+IF(D483=\"\",\"\",MAX(A$1:A482)+1)","v":""},{"$f":"IF(CEM_COM_CPMS_Identification!C505=\"\",\"\",CEM_COM_CPMS_Identification!C505)","v":""},"",{"$f":"IF(COUNTIF(B$2:B483,B483)=1,B483,\"\")","v":""}]
[{"$f":"+IF(D484=\"\",\"\",MAX(A$1:A483)+1)","v":""},{"$f":"IF(CEM_COM_CPMS_Identification!C506=\"\",\"\",CEM_COM_CPMS_Identification!C506)","v":""},"",{"$f":"IF(COUNTIF(B$2:B484,B484)=1,B484,\"\")","v":""}]
[{"$f":"+IF(D485=\"\",\"\",MAX(A$1:A484)+1)","v":""},{"$f":"IF(CEM_COM_CPMS_Identification!C507=\"\",\"\",CEM_COM_CPMS_Identification!C507)","v":""},"",{"$f":"IF(COUNTIF(B$2:B485,B485)=1,B485,\"\")","v":""}]
[{"$f":"+IF(D486=\"\",\"\",MAX(A$1:A485)+1)","v":""},{"$f":"IF(CEM_COM_CPMS_Identification!C508=\"\",\"\",CEM_COM_CPMS_Identification!C508)","v":""},"",{"$f":"IF(COUNTIF(B$2:B486,B486)=1,B486,\"\")","v":""}]
[{"$f":"+IF(D487=\"\",\"\",MAX(A$1:A486)+1)","v":""},{"$f":"IF(CEM_COM_CPMS_Identification!C509=\"\",\"\",CEM_COM_CPMS_Identification!C509)","v":""},"",{"$f":"IF(COUNTIF(B$2:B487,B487)=1,B487,\"\")","v":""}]
[{"$f":"+IF(D488=\"\",\"\",MAX(A$1:A487)+1)","v":""},{"$f":"IF(CEM_COM_CPMS_Identification!C510=\"\",\"\",CEM_COM_CPMS_Identification!C510)","v":""},"",{"$f":"IF(COUNTIF(B$2:B488,B488)=1,B488,\"\")","v":""}]
[{"$f":"+IF(D489=\"\",\"\",MAX(A$1:A488)+1)","v":""},{"$f":"IF(CEM_COM_CPMS_Identification!C511=\"\",\"\",CEM_COM_CPMS_Identification!C511)","v":""},"",{"$f":"IF(COUNTIF(B$2:B489,B489)=1,B489,\"\")","v":""}]
[{"$f":"+IF(D490=\"\",\"\",MAX(A$1:A489)+1)","v":""},{"$f":"IF(CEM_COM_CPMS_Identification!C512=\"\",\"\",CEM_COM_CPMS_Identification!C512)","v":""},"",{"$f":"IF(COUNTIF(B$2:B490,B490)=1,B490,\"\")","v":""}]
[{"$f":"+IF(D491=\"\",\"\",MAX(A$1:A490)+1)","v":""},{"$f":"IF(CEM_COM_CPMS_Identification!C513=\"\",\"\",CEM_COM_CPMS_Identification!C513)","v":""},"",{"$f":"IF(COUNTIF(B$2:B491,B491)=1,B491,\"\")","v":""}]
[{"$f":"+IF(D492=\"\",\"\",MAX(A$1:A491)+1)","v":""},{"$f":"IF(CEM_COM_CPMS_Identification!C514=\"\",\"\",CEM_COM_CPMS_Identification!C514)","v":""},"",{"$f":"IF(COUNTIF(B$2:B492,B492)=1,B492,\"\")","v":""}]
[{"$f":"+IF(D493=\"\",\"\",MAX(A$1:A492)+1)","v":""},{"$f":"IF(CEM_COM_CPMS_Identification!C515=\"\",\"\",CEM_COM_CPMS_Identification!C515)","v":""},"",{"$f":"IF(COUNTIF(B$2:B493,B493)=1,B493,\"\")","v":""}]
[{"$f":"+IF(D494=\"\",\"\",MAX(A$1:A493)+1)","v":""},{"$f":"IF(CEM_COM_CPMS_Identification!C516=\"\",\"\",CEM_COM_CPMS_Identification!C516)","v":""},"",{"$f":"IF(COUNTIF(B$2:B494,B494)=1,B494,\"\")","v":""}]
[{"$f":"+IF(D495=\"\",\"\",MAX(A$1:A494)+1)","v":""},{"$f":"IF(CEM_COM_CPMS_Identification!C517=\"\",\"\",CEM_COM_CPMS_Identification!C517)","v":""},"",{"$f":"IF(COUNTIF(B$2:B495,B495)=1,B495,\"\")","v":""}]
[{"$f":"+IF(D496=\"\",\"\",MAX(A$1:A495)+1)","v":""},{"$f":"IF(CEM_COM_CPMS_Identification!C518=\"\",\"\",CEM_COM_CPMS_Identification!C518)","v":""},"",{"$f":"IF(COUNTIF(B$2:B496,B496)=1,B496,\"\")","v":""}]
[{"$f":"+IF(D497=\"\",\"\",MAX(A$1:A496)+1)","v":""},{"$f":"IF(CEM_COM_CPMS_Identification!C519=\"\",\"\",CEM_COM_CPMS_Identification!C519)","v":""},"",{"$f":"IF(COUNTIF(B$2:B497,B497)=1,B497,\"\")","v":""}]
[{"$f":"+IF(D498=\"\",\"\",MAX(A$1:A497)+1)","v":""},{"$f":"IF(CEM_COM_CPMS_Identification!C520=\"\",\"\",CEM_COM_CPMS_Identification!C520)","v":""},"",{"$f":"IF(COUNTIF(B$2:B498,B498)=1,B498,\"\")","v":""}]
[{"$f":"+IF(D499=\"\",\"\",MAX(A$1:A498)+1)","v":""},{"$f":"IF(CEM_COM_CPMS_Identification!C521=\"\",\"\",CEM_COM_CPMS_Identification!C521)","v":""},"",{"$f":"IF(COUNTIF(B$2:B499,B499)=1,B499,\"\")","v":""}]
[{"$f":"+IF(D500=\"\",\"\",MAX(A$1:A499)+1)","v":""},{"$f":"IF(CEM_COM_CPMS_Identification!C522=\"\",\"\",CEM_COM_CPMS_Identification!C522)","v":""},"",{"$f":"IF(COUNTIF(B$2:B500,B500)=1,B500,\"\")","v":""}]

{"sheet":"Welcome","index":1,"n_rows":14,"n_cols":16384,"rows_kept":14,"cut":false,"hidden":false,"merged":[],"flags":["row_too_large"]}
["DO NOT REMOVE OR EDIT INFORMATION IN ROWS 1 THROUGH 5\nFOR INTERNAL USE ONLY"]
["Template Name","63.7841(b) Semiannual Compliance Report (Spreadsheet Template)"]
["CitationID","63.7841(b)"]
["Template Version","v2.01"]
["Last Updated Date",43972]
["Blank","OMB No.: 2060-0517 Expiration Date: 03/18/2019"]
["Blank","40 CFR Part 63, Subpart FFFFF National Emission Standards for Hazardous Air Pollutants: Integrated Iron and Steel Manufacturing Facilities - \n§63.7841(b)  Semiannual Compliance Report Spreadsheet Template"]
[null,"Instructions for Spreadsheet Template\n\nPurpose:\nThis spreadsheet template was designed by the U.S. EPA to facilitate Semiannual Compliance reporting for facilities subject under the 40 CFR part 63, subpart FFFFF National Emission Standard for Hazardous Air Pollutants: Integrated Iron and Steel Manufacturing Facilities.  "]
["Blank","\nElectronic reporting:\nElectronic submission of Semiannual Compliance Reports through the EPA's Compliance and Emissions Data Reporting Interface (CEDRI) is required under §63.7841(c). CEDRI is accessed through the EPA's Central Data Exchange (https://cdx.epa.gov)."]
[null,"\nThe CEDRI spreadsheet template upload feature allows you to submit data in a single report for a single company or multiple companies, as well as multiple sites, using this EPA provided Excel workbook.  Data for each company must be entered into the worksheet labeled \"Company_Information\" in this Excel workbook.  Each row in the \"Company_Information\" worksheet includes the data for a single company/facility. The Company Record No. will be used as an index field to match the information on each tab to the appropriate company/facility. \n\nFor each facility record found in the \"Company_Information\" worksheet, you may reference a single file attachment that includes additional information. \n"]
[null,"Do not submit information you claim as confidential business information (CBI) to EPA via CEDRI. EPA will make all the information submitted through this form via CEDRI available to the public without further notice to you. Anything submitted using CEDRI cannot later be claimed to be CBI. Furthermore, under CAA section 114(c) emissions data is not entitled to confidential treatment and requires EPA to make emissions data available to the public. Thus, emissions data will not be protected as CBI and will be made publicly available.\n"]
[{"$cut":{"chars":2176120,"head":""}}]
["Blank","IMPORTANT: The spreadsheet must be uploaded into CEDRI as a single ZIP file, which must include this Excel workbook and any related attachments that were referenced in the workbook (i.e., additional information file found in the \"Company Information\" worksheet).\n\nNote: If you are uploading file attachments for your report, the uploaded files may be in any format (e.g., zip, docx, PDF). If you would like to include an Excel file(s) as an attachment, you must first zip the excel file(s) into a separate ZIP file to the master ZIP file that will be uploaded into CEDRI.\n\nOnce all data have been entered in the worksheet, combine this Excel workbook and all attachment files (including any ZIP file containing separate excel file(s), if applicable) into a single ZIP file for upload to CEDRI.\n\nPlease ensure your report includes all of the required data elements found in the listed citations below for this spreadsheet upload submission."]
["Blank","Template Navigation and Tabs to Complete:\nGray Tabs:  The gray tab (Company_Information) contains general information that will mostly remain unchanged from report to report.  After completing the gray tab, the workbook may be saved as a site specific template for use in subsequent reports to limit subsequent data entry.  This tab should be reviewed for changes prior to submittal as it contains dates for reporting. The Revisions tab presents the revsion number, date, and details for all revisions to the template.\n\nGreen Tabs:  Green tabs (No_CPMS_Limits_Details, Mercury, CEM_COM_CPMS_Identification, Malfunction, CPMS_Detail, CPMS_Summary_Report, Limits_Detail_w_CPMS, Limits_Summary_Report_w_CPMS, Description_of_Changes, and Certification) are to be completed as necessary to complete the Semiannual report. Some cells are linked to previous tabs or are calculations dependent upon data entry. A number of cells contain dynamic dropdown lists dependent on entries in previous tabs, these menus will be blank until that information is completed.  Cells with calculated results are locked and colored light pink.\n\nThe Certification tab must be completed for every report.\n\nWithin the tabs, example rows are colored light orange (rows 14 through 23), and the XML tags (row 13) are colored green. These rows are locked; no data entry is made in these rows.  Cells with fixed calculations are colored light pink and are locked to prevent data entry. Some cells have optioanl calcuations that may be used or overwritten, these are not colored or locked, but the optional calculation is reflected in the header/. "]

{"sheet":"Company_Information","index":2,"n_rows":33,"n_cols":15,"rows_kept":33,"cut":false,"hidden":false,"merged":[]}
[null,"DO NOT REMOVE OR EDIT INFORMATION IN ROWS 1 THROUGH 5\nFOR INTERNAL USE ONLY"]
[null,"Template Name",{"$f":"+Welcome!B2","v":"63.7841(b) Semiannual Compliance Report (Spreadsheet Template)"}]
[null,"CitationID",{"$f":"+Welcome!B3","v":"63.7841(b)"}]
[null,"Template Version",{"$f":"+Welcome!B4","v":"v2.01"}]
[null,"Last Updated Date",{"$f":"+Welcome!B5","v":43972}]
[null,{"$f":"Welcome!B6","v":"OMB No.: 2060-0517 Expiration Date: 03/18/2019"}]
[null,"40 CFR Part 63, Subpart FFFFF National Emission Standards for Hazardous Air Pollutants: Integrated Iron and Steel Manufacturing Facilities - "]
[null,"§63.7841(b) Semiannual Compliance Report Spreadsheet Template"]
[]
[null,"* Required Field"]
[null,null,"SITE INFORMATION",null,null,null,null,null,null,null,"REPORTING PERIOD",null,null,"ADDITIONAL INFORMATION"]
[null,"Company Record No. *\n(Field value will automatically generate if a value is not entered.)","Company Name * \n(§63.7841(b)(1))","Address * \n(§63.7841(b)(1))","Address 2 ","City *\n(§63.7841(b)(1))","County","State Abbreviation *\n(§63.7841(b)(1))","Zip Code *\n(§63.7841(b)(1))","Responsible Agency Facility ID \n(State Facility Identifier)","Date of Report *\n(§63.7841(b)(3))","Beginning Date of Reporting Period  *\n(§63.7841(b)(3))","Ending Date of\n Reporting Period*\n(§63.7841(b)(3))","Please enter any additional information.","Enter associated file name reference. "]
[null,"RecordId","CompanyName","AddressLine1","AddressLine2","CityName","CountyName","StateName","ZIPCode","StateFacID","ReportDate","PeriodStartDate","PeriodEndDate","AddInfo","AddFile"]
[null,"e.g.: 1","e.g.: ABC Company","e.g.: 123 Main Street","e.g.: Suite 100","e.g.: Brooklyn","e.g.: Kings","e.g.: NY","e.g.: 11221","e.g.: 9145555555","e.g.: 7/15/2020","e.g.: 01/01/2020","e.g.: 6/30/2020",null,"e.g.: addlinfo.zip "]
[]
[]
[]
[]
[]
[]
[]
[]
[]
[null,{"$f":"IF(C24=\"\",\"\",MAX($B$23:B23)+1)","v":""}]
[null,{"$f":"IF(C25=\"\",\"\",MAX($B$23:B24)+1)","v":""}]
[null,{"$f":"IF(C26=\"\",\"\",MAX($B$23:B25)+1)","v":""}]
[null,{"$f":"IF(C27=\"\",\"\",MAX($B$23:B26)+1)","v":""}]
[null,{"$f":"IF(C28=\"\",\"\",MAX($B$23:B27)+1)","v":""}]
[null,{"$f":"IF(C29=\"\",\"\",MAX($B$23:B28)+1)","v":""}]
[null,{"$f":"IF(C30=\"\",\"\",MAX($B$23:B29)+1)","v":""}]
[null,{"$f":"IF(C31=\"\",\"\",MAX($B$23:B30)+1)","v":""}]
[null,{"$f":"IF(C32=\"\",\"\",MAX($B$23:B31)+1)","v":""}]
[null,{"$f":"IF(C33=\"\",\"\",MAX($B$23:B32)+1)","v":""}]

{"sheet":"No_CPMS_Limits_Details","index":3,"n_rows":14,"n_cols":22,"rows_kept":14,"cut":false,"hidden":false,"merged":[]}
[null,"DO NOT REMOVE OR EDIT INFORMATION IN ROWS 1 THROUGH 5\nFOR INTERNAL USE ONLY"]
[null,"Template Name",null,{"$f":"+Welcome!B2","v":"63.7841(b) Semiannual Compliance Report (Spreadsheet Template)"}]
[null,"CitationID",null,{"$f":"+Welcome!B3","v":"63.7841(b)"}]
[null,"Template Version",null,{"$f":"+Welcome!B4","v":"v2.01"}]
[null,"Last Updated Date",null,{"$f":"+Welcome!B5","v":43972}]
[null,{"$f":"Welcome!B6","v":"OMB No.: 2060-0517 Expiration Date: 03/18/2019"}]
[null,"40 CFR Part 63, Subpart FFFFF National Emission Standards for Hazardous Air Pollutants: Integrated Iron and Steel Manufacturing Facilities - "]
[null,"§63.7841(b) Semiannual Compliance Report Spreadsheet Template"]
[]
[]
[null,"* Required Field"]
[null,"Company Record No.  *\n(Select from dropdown)","Affected Source  *\n(§63.7841(b)(13))\n","Emission Limitation Deviated From *\n(§63.7841(b)(7))\n(Select from Dropdown)","Start Date of Deviation *\n(§63.7841(b)(13))","Start Time of \nDeviation *\n(§63.7841(b)(13))","Total Source\nOperating Time *\n(hours)\n(§63.7841(b)(7)(i))","Duration of \nDeviation *\n(hours)  \n(§63.7841(b)(13) and §63.7841(b)(7)(ii))","Cause of Deviation *\n(§63.7841(b)(7)(ii))\n(Select from dropdown)","Corrective Action Taken *\n(§63.7841(b)(7)(ii))\n","Regulated Pollutant Emitted Over Emission Limit 1*\n(§63.7841(b)(13))\n(Select from dropdown)","Estimate of Emissions Regulated Pollutant 1 *\n(§63.7841(b)(13))","Units of Emissions Estimate Regulated Pollutant 1 *\n(§63.7841(b)(13))","Method Used to Estimate Emissions Regulated Pollutant 1 *\n(§63.7841(b)(13))","Regulated Pollutant Emitted Over Emission Limit 2*\n(§63.7841(b)(13))\n(If necessary)\n(Select from dropdown)","Estimate of Emissions Regulated Pollutant 2 *\n(§63.7841(b)(13))\n(If necessary)","Units of Emissions Estimate Regulated Pollutant 2 *\n(§63.7841(b)(13))\n(If necessary)","Method Used to Estimate Emissions Regulated Pollutant 2 *\n(§63.7841(b)(13))\n(If necessary)","Regulated Pollutant Emitted Over Emission Limit 3*\n(§63.7841(b)(13))\n(If necessary)\n(Select from dropdown)","Estimate of Emissions Regulated Pollutant 3 *\n(§63.7841(b)(13))\n(If necessary)","Units of Emissions Estimate Regulated Pollutant 3 *\n(§63.7841(b)(13))\n(If necessary)","Method Used to Estimate Emissions Regulated Pollutant 3 *\n(§63.7841(b)(13))\n(If necessary)"]
[null,"RecordId","ProcessUnitDesc","DeviceDeviationBypass","DeviationStartDate","DeviationStartTime","TotalOperatingTime","DeviationDuration","DeviationCause","DeviationAction","Pollutant1","EmissionQuantity1","EmissionUnits1","EstimationMethod1","Pollutant2","EmissionQuantity2","EmissionUnits2","EstimationMethod2","Pollutant3","EmissionQuantiy3","EmissionUnits3","EstimationMethod3"]
[null,"e.g.: 1","e.g.: Line 1 ","e.g.:  Operate and Maintain consistent with good air pollution control practices (§63.7800(a))","e.g.: 2/12/2019","e.g.: 13:05","e.g.: 6240.00","e.g.: 16.08","e.g.: Control Equipment Problems","e.g.: Increased water spray","e.g.: Particulate Matter","e.g.: 0.1","e.g.: tons","e.g.: Engineering calculations","e.g.: Mecury","e.g.: 0.1","e.g.: tons","e.g.: Engineering calculations","e.g.:Mercury","e.g.: 0.1","e.g.: tons","e.g.: Engineering calculations"]

{"sheet":"Mercury","index":4,"n_rows":14,"n_cols":11,"rows_kept":14,"cut":false,"hidden":false,"merged":[]}
[null,"DO NOT REMOVE OR EDIT INFORMATION IN ROWS 1 THROUGH 5\nFOR INTERNAL USE ONLY"]
[null,"Template Name",null,{"$f":"+Welcome!B2","v":"63.7841(b) Semiannual Compliance Report (Spreadsheet Template)"}]
[null,"CitationID",null,{"$f":"+Welcome!B3","v":"63.7841(b)"}]
[null,"Template Version",null,{"$f":"+Welcome!B4","v":"v2.01"}]
[null,"Last Updated Date",null,{"$f":"+Welcome!B5","v":43972}]
[null,{"$f":"Welcome!B6","v":"OMB No.: 2060-0517 Expiration Date: 03/18/2019"}]
[null,"40 CFR Part 63, Subpart FFFFF National Emission Standards for Hazardous Air Pollutants: Integrated Iron and Steel Manufacturing Facilities - "]
[null,"§63.7841(b) Semiannual Compliance Report Spreadsheet Template"]
[]
[]
[null,"* Required Field"]
[null,"Company Record No.  *\n(Select from dropdown)","Affected Source  *\n(§63.7841(b)(13))\n","Provision of §63.7791 Deviated From *\n(§63.7841(b)(9))\n(Select from Dropdown)","Start Date of Deviation *\n(§63.7841(b)(13))","Start Time of \nDeviation *\n(§63.7841(b)(13))","Duration of \nDeviation *\n(hour)  \n(§63.7841(b)(13))","Actions Taken to Address Deviation *\n(§63.7841(b)(9))\n","Estimate of Mercury Emissions *\n(§63.7841(b)(13))","Units of Emissions Estimate *\n(§63.7841(b)(13))","Method Used to Estimate Emissions *\n(§63.7841(b)(13))"]
[null,"RecordId","ProcessUnitDesc","ProvisionDeviationBypass","ProvisionDeviationStartDate","ProvisionDeviationStartTime","ProvisionDeviationDuration","ProvisionDeviationAction","EmissionQuantity","EmissionUnit","EstimationMethod"]
[null,"e.g.: 1","e.g.: Line 1 ","e.g.:  Scrap under NVMSRP - Purchase through NVMSRP certified scrap through provider/broker (§63.7791(a)(1))","e.g.: 2/12/2019","e.g.: 13:05","e.g.: 16.08","e.g.: Increased water spray","e.g.: 0.1","e.g.: tons","e.g.: Engineering calculations"]

{"sheet":"CEM_COM_CPMS_Identification","index":5,"n_rows":14,"n_cols":5,"rows_kept":14,"cut":false,"hidden":false,"merged":[]}
[null,"DO NOT REMOVE OR EDIT INFORMATION IN ROWS 1 THROUGH 5\nFOR INTERNAL USE ONLY"]
[null,"Template Name",{"$f":"+Welcome!B2","v":"63.7841(b) Semiannual Compliance Report (Spreadsheet Template)"}]
[null,"CitationID",{"$f":"+Welcome!B3","v":"63.7841(b)"}]
[null,"Template Version",{"$f":"+Welcome!B4","v":"v2.01"}]
[null,"Last Updated Date",{"$f":"+Welcome!B5","v":43972}]
[null,{"$f":"Welcome!B6","v":"OMB No.: 2060-0517 Expiration Date: 03/18/2019"}]
[null,"40 CFR Part 63, Subpart FFFFF National Emission Standards for Hazardous Air Pollutants: Integrated Iron and Steel Manufacturing Facilities - "]
[null,"§63.7841(b) Semiannual Compliance Report Spreadsheet Template"]
[]
[]
[null,"* Required Field"]
[null,"Company Record No. *\n(Select from dropdown)","Process Unit Description *\n(§63.7841(b)(8)(viii))","Brief Description of CMS *\n(§63.7841(b)(8)(ix))","Date of Last CMS \nCertification or Audit *\n(§63.7841(b)(8)(x))"]
[null,"RecordId","ProcessUnitDesc","CPMSEqDesc","CPMSDescription"]
[null,"e.g.: 1","e.g. Line 1","e.g.: TC1792 PM Filter Bank Inlet Temperature","e.g.: 2/2/2020"]

{"sheet":"Malfunction","index":6,"n_rows":14,"n_cols":8,"rows_kept":14,"cut":false,"hidden":false,"merged":[]}
[null,"DO NOT REMOVE OR EDIT INFORMATION IN ROWS 1 THROUGH 5\nFOR INTERNAL USE ONLY"]
[null,"Template Name",null,{"$f":"+Welcome!B2","v":"63.7841(b) Semiannual Compliance Report (Spreadsheet Template)"}]
[null,"CitationID",null,{"$f":"+Welcome!B3","v":"63.7841(b)"}]
[null,"Template Version",null,{"$f":"+Welcome!B4","v":"v2.01"}]
[null,"Last Updated Date",null,{"$f":"+Welcome!B5","v":43972}]
[null,{"$f":"Welcome!B6","v":"OMB No.: 2060-0517 Expiration Date: 03/18/2019"}]
[null,"40 CFR Part 63, Subpart FFFFF National Emission Standards for Hazardous Air Pollutants: Integrated Iron and Steel Manufacturing Facilities - "]
[null,"§63.7841(b) Semiannual Compliance Report Spreadsheet Template"]
[]
[]
[null,"* Required Field"]
[null,"Company Record No.  *\n(Select from Dropdown)","Process Unit Description *\n(§63.7841(b)(8)(viii))\n(Select from dropdown)","Description of Malfunction","Starting Date \nof Malfunction *\n(§63.7841(b)(8)(i))","Starting Time\n of Malfunction *\n(§63.7841(b)(8)(i))","Ending Date\n of Malfunction *\n(§63.7841(b)(8)(i))","Ending Time\n of Malfunction *\n(§63.7841(b)(8)(i))"]
[null,"RecordId","ProcessUnitDesc","MalfunctionDescription","MalfunctionStartDate","MalfunctionStartTime","MalfunctionEndDate","MalfunctionEndTime"]
[null,"e.g.: 1","e.g.: Line 1","e.g.:  Loss of power to entire plant","e.g.: 2/1/2019","e.g.: 13:15","e.g.: 2/3/2019","e.g.: 8:02"]

{"sheet":"CPMS_Detail","index":7,"n_rows":14,"n_cols":9,"rows_kept":14,"cut":false,"hidden":false,"merged":[]}
[null,"DO NOT REMOVE OR EDIT INFORMATION IN ROWS 1 THROUGH 5\nFOR INTERNAL USE ONLY"]
[null,"Template Name",null,{"$f":"+Welcome!B2","v":"63.7841(b) Semiannual Compliance Report (Spreadsheet Template)"}]
[null,"CitationID",null,{"$f":"+Welcome!B3","v":"63.7841(b)"}]
[null,"Template Version",null,{"$f":"+Welcome!B4","v":"v2.01"}]
[null,"Last Updated Date",null,{"$f":"+Welcome!B5","v":43972}]
[null,{"$f":"Welcome!B6","v":"OMB No.: 2060-0517 Expiration Date: 03/18/2019"}]
[null,"40 CFR Part 63, Subpart FFFFF National Emission Standards for Hazardous Air Pollutants: Integrated Iron and Steel Manufacturing Facilities - "]
[null,"§63.7841(b) Semiannual Compliance Report Spreadsheet Template"]
[]
[]
[null,"* Required Field"]
[null,"Company Record No. *\n(Select from dropdown)","Process Unit Description *\n(§63.7841(b)(8)(viii))\n(Select from dropdown)","Brief Description of CMS *\n(§63.7841(b)(8)(ix))\n(Select from dropdown)","CPMS Inoperative or \nOut of Control *\n(Select from dropdown)","Date CPMS \nInoperative or Out of Control *\n(§63.7841(b)(8)(ii) or (iii))","Time CPMS Inoperative or Out of Control *\n(§63.7841(b)(8)(ii) or (iii))","Duration CPMS Inoperative \nor Out of Control * (hours)\n(§63.7841(b)(8)(ii) or (iii))","For Out of Control, Description of Corrective Action Taken\n(§63.7841(b)(8)(iii)  and §63.8(c)(8))"]
[null,"RecordId","ProcessUnitDesc","CPMSEqDesc","CPMSOutageDescription","CPMSOutageStartDate","CPMSOutageStartTime","CPMSOutageDuration","CorrectiveAction"]
[null,"e.g.: 1","e.g. Line 1","e.g.: TC1792 PM Filter Bank Inlet Temperature","e.g. Out of Control","e.g.: 3/2/2019","e.g.: 15:52","e.g.: 72.45","e.g.: Recalibrated"]

{"sheet":"CPMS_Summary_Report","index":8,"n_rows":707,"n_cols":7,"rows_kept":707,"cut":false,"hidden":false,"merged":[]}
[null,"DO NOT REMOVE OR EDIT INFORMATION IN ROWS 1 THROUGH 5\nFOR INTERNAL USE ONLY"]
[null,"Template Name",null,{"$f":"+Welcome!B2","v":"63.7841(b) Semiannual Compliance Report (Spreadsheet Template)"}]
[null,"CitationID",null,{"$f":"+Welcome!B3","v":"63.7841(b)"}]
[null,"Template Version",null,{"$f":"+Welcome!B4","v":"v2.01"}]
[null,"Last Updated Date",null,{"$f":"+Welcome!B5","v":43972}]
[null,{"$f":"Welcome!B6","v":"OMB No.: 2060-0517 Expiration Date: 03/18/2019"}]
[null,"40 CFR Part 63, Subpart FFFFF National Emission Standards for Hazardous Air Pollutants: Integrated Iron and Steel Manufacturing Facilities - "]
[null,"§63.7841(b) Semiannual Compliance Report Spreadsheet Template"]
[]
[]
[null,"* Required Field"]
[null,"Company Record No. *\n(Select from dropdown)","Process Unit Description *\n(§63.7841(b)(8)(viii))\n(Select from dropdown)","Brief Description of CPMS, CEMS, or COMS *\n(§63.7841(b)(8)(ix))\n(Select from dropdown)","Total Source\nOperating Time \n(hours)\n(Optional, only necessary for using auto calculation of Total Duration as % of Operating Time)","Total Duration of\n CPMS, CEMS, or COMS\n Downtime * (hours) \n(§63.7841(b)(8)(vii))\n(Calculated value)","Total Duration of\n CPMS Downtime as\n a per cent of Total\n Source Operating Time *\n(§63.7841(b)(8)(vii))\n(Calculated value or Manual Entry)"]
[null,"RecordId","ProcessUnitDesc","CPMSEqDesc","TotalOperatingTime","CPMSDowntimeDuration","CPMSDowntimePercent"]
[null,"e.g.: 1","e.g.: Line 1","e.g.: TC1792 PM Filter Bank Inlet Temperature","e.g.: 6240","e.g.: 72.45","e.g.: 1.16%"]
[]
[]
[]
[]
[]
[]
[]
[]
[]
[null,{"$f":"IF(Lists!AV2=\"\",\"\",Lists!AV2)","v":""},{"$f":"IF(Lists!AW2=\"\",\"\",Lists!AW2)","v":""},{"$f":"IF(Lists!AX2=\"\",\"\",Lists!AX2)","v":""},null,{"$f":"IF($B24=\"\",\"\",SUMIFS(CPMS_Detail!$H$24:$H$5400,CPMS_Detail!$C$24:$C$5400,C24,CPMS_Detail!$D$24:$D$5400,D24))","v":""},{"$f":"IF($B24=\"\",\"\",IF(F24=0,\"N/A\",F24/$E24))","v":""}]
[null,{"$f":"IF(Lists!AV3=\"\",\"\",Lists!AV3)","v":""},{"$f":"IF(Lists!AW3=\"\",\"\",Lists!AW3)","v":""},{"$f":"IF(Lists!AX3=\"\",\"\",Lists!AX3)","v":""},null,{"$f":"IF($B25=\"\",\"\",SUMIFS(CPMS_Detail!$H$24:$H$5400,CPMS_Detail!$C$24:$C$5400,C25,CPMS_Detail!$D$24:$D$5400,D25))","v":""},""]
[null,{"$f":"IF(Lists!AV4=\"\",\"\",Lists!AV4)","v":""},{"$f":"IF(Lists!AW4=\"\",\"\",Lists!AW4)","v":""},{"$f":"IF(Lists!AX4=\"\",\"\",Lists!AX4)","v":""},null,{"$f":"IF($B26=\"\",\"\",SUMIFS(CPMS_Detail!$H$24:$H$5400,CPMS_Detail!$C$24:$C$5400,C26,CPMS_Detail!$D$24:$D$5400,D26))","v":""},""]
[null,{"$f":"IF(Lists!AV5=\"\",\"\",Lists!AV5)","v":""},{"$f":"IF(Lists!AW5=\"\",\"\",Lists!AW5)","v":""},{"$f":"IF(Lists!AX5=\"\",\"\",Lists!AX5)","v":""},null,{"$f":"IF($B27=\"\",\"\",SUMIFS(CPMS_Detail!$H$24:$H$5400,CPMS_Detail!$C$24:$C$5400,C27,CPMS_Detail!$D$24:$D$5400,D27))","v":""},""]
[null,{"$f":"IF(Lists!AV6=\"\",\"\",Lists!AV6)","v":""},{"$f":"IF(Lists!AW6=\"\",\"\",Lists!AW6)","v":""},{"$f":"IF(Lists!AX6=\"\",\"\",Lists!AX6)","v":""},null,{"$f":"IF($B28=\"\",\"\",SUMIFS(CPMS_Detail!$H$24:$H$5400,CPMS_Detail!$C$24:$C$5400,C28,CPMS_Detail!$D$24:$D$5400,D28))","v":""},""]
[null,{"$f":"IF(Lists!AV7=\"\",\"\",Lists!AV7)","v":""},{"$f":"IF(Lists!AW7=\"\",\"\",Lists!AW7)","v":""},{"$f":"IF(Lists!AX7=\"\",\"\",Lists!AX7)","v":""},null,{"$f":"IF($B29=\"\",\"\",SUMIFS(CPMS_Detail!$H$24:$H$5400,CPMS_Detail!$C$24:$C$5400,C29,CPMS_Detail!$D$24:$D$5400,D29))","v":""},""]
[null,{"$f":"IF(Lists!AV8=\"\",\"\",Lists!AV8)","v":""},{"$f":"IF(Lists!AW8=\"\",\"\",Lists!AW8)","v":""},{"$f":"IF(Lists!AX8=\"\",\"\",Lists!AX8)","v":""},null,{"$f":"IF($B30=\"\",\"\",SUMIFS(CPMS_Detail!$H$24:$H$5400,CPMS_Detail!$C$24:$C$5400,C30,CPMS_Detail!$D$24:$D$5400,D30))","v":""},""]
[null,{"$f":"IF(Lists!AV9=\"\",\"\",Lists!AV9)","v":""},{"$f":"IF(Lists!AW9=\"\",\"\",Lists!AW9)","v":""},{"$f":"IF(Lists!AX9=\"\",\"\",Lists!AX9)","v":""},null,{"$f":"IF($B31=\"\",\"\",SUMIFS(CPMS_Detail!$H$24:$H$5400,CPMS_Detail!$C$24:$C$5400,C31,CPMS_Detail!$D$24:$D$5400,D31))","v":""},""]
[null,{"$f":"IF(Lists!AV10=\"\",\"\",Lists!AV10)","v":""},{"$f":"IF(Lists!AW10=\"\",\"\",Lists!AW10)","v":""},{"$f":"IF(Lists!AX10=\"\",\"\",Lists!AX10)","v":""},null,{"$f":"IF($B32=\"\",\"\",SUMIFS(CPMS_Detail!$H$24:$H$5400,CPMS_Detail!$C$24:$C$5400,C32,CPMS_Detail!$D$24:$D$5400,D32))","v":""},""]
[null,{"$f":"IF(Lists!AV11=\"\",\"\",Lists!AV11)","v":""},{"$f":"IF(Lists!AW11=\"\",\"\",Lists!AW11)","v":""},{"$f":"IF(Lists!AX11=\"\",\"\",Lists!AX11)","v":""},null,{"$f":"IF($B33=\"\",\"\",SUMIFS(CPMS_Detail!$H$24:$H$5400,CPMS_Detail!$C$24:$C$5400,C33,CPMS_Detail!$D$24:$D$5400,D33))","v":""},""]
[null,{"$f":"IF(Lists!AV12=\"\",\"\",Lists!AV12)","v":""},{"$f":"IF(Lists!AW12=\"\",\"\",Lists!AW12)","v":""},{"$f":"IF(Lists!AX12=\"\",\"\",Lists!AX12)","v":""},null,{"$f":"IF($B34=\"\",\"\",SUMIFS(CPMS_Detail!$H$24:$H$5400,CPMS_Detail!$C$24:$C$5400,C34,CPMS_Detail!$D$24:$D$5400,D34))","v":""},""]
[null,{"$f":"IF(Lists!AV13=\"\",\"\",Lists!AV13)","v":""},{"$f":"IF(Lists!AW13=\"\",\"\",Lists!AW13)","v":""},{"$f":"IF(Lists!AX13=\"\",\"\",Lists!AX13)","v":""},null,{"$f":"IF($B35=\"\",\"\",SUMIFS(CPMS_Detail!$H$24:$H$5400,CPMS_Detail!$C$24:$C$5400,C35,CPMS_Detail!$D$24:$D$5400,D35))","v":""},""]
[null,{"$f":"IF(Lists!AV14=\"\",\"\",Lists!AV14)","v":""},{"$f":"IF(Lists!AW14=\"\",\"\",Lists!AW14)","v":""},{"$f":"IF(Lists!AX14=\"\",\"\",Lists!AX14)","v":""},null,{"$f":"IF($B36=\"\",\"\",SUMIFS(CPMS_Detail!$H$24:$H$5400,CPMS_Detail!$C$24:$C$5400,C36,CPMS_Detail!$D$24:$D$5400,D36))","v":""},""]
[null,{"$f":"IF(Lists!AV15=\"\",\"\",Lists!AV15)","v":""},{"$f":"IF(Lists!AW15=\"\",\"\",Lists!AW15)","v":""},{"$f":"IF(Lists!AX15=\"\",\"\",Lists!AX15)","v":""},null,{"$f":"IF($B37=\"\",\"\",SUMIFS(CPMS_Detail!$H$24:$H$5400,CPMS_Detail!$C$24:$C$5400,C37,CPMS_Detail!$D$24:$D$5400,D37))","v":""},""]
[null,{"$f":"IF(Lists!AV16=\"\",\"\",Lists!AV16)","v":""},{"$f":"IF(Lists!AW16=\"\",\"\",Lists!AW16)","v":""},{"$f":"IF(Lists!AX16=\"\",\"\",Lists!AX16)","v":""},null,{"$f":"IF($B38=\"\",\"\",SUMIFS(CPMS_Detail!$H$24:$H$5400,CPMS_Detail!$C$24:$C$5400,C38,CPMS_Detail!$D$24:$D$5400,D38))","v":""},""]
[null,{"$f":"IF(Lists!AV17=\"\",\"\",Lists!AV17)","v":""},{"$f":"IF(Lists!AW17=\"\",\"\",Lists!AW17)","v":""},{"$f":"IF(Lists!AX17=\"\",\"\",Lists!AX17)","v":""},null,{"$f":"IF($B39=\"\",\"\",SUMIFS(CPMS_Detail!$H$24:$H$5400,CPMS_Detail!$C$24:$C$5400,C39,CPMS_Detail!$D$24:$D$5400,D39))","v":""},""]
[null,{"$f":"IF(Lists!AV18=\"\",\"\",Lists!AV18)","v":""},{"$f":"IF(Lists!AW18=\"\",\"\",Lists!AW18)","v":""},{"$f":"IF(Lists!AX18=\"\",\"\",Lists!AX18)","v":""},null,{"$f":"IF($B40=\"\",\"\",SUMIFS(CPMS_Detail!$H$24:$H$5400,CPMS_Detail!$C$24:$C$5400,C40,CPMS_Detail!$D$24:$D$5400,D40))","v":""},""]
[null,{"$f":"IF(Lists!AV19=\"\",\"\",Lists!AV19)","v":""},{"$f":"IF(Lists!AW19=\"\",\"\",Lists!AW19)","v":""},{"$f":"IF(Lists!AX19=\"\",\"\",Lists!AX19)","v":""},null,{"$f":"IF($B41=\"\",\"\",SUMIFS(CPMS_Detail!$H$24:$H$5400,CPMS_Detail!$C$24:$C$5400,C41,CPMS_Detail!$D$24:$D$5400,D41))","v":""},""]
[null,{"$f":"IF(Lists!AV20=\"\",\"\",Lists!AV20)","v":""},{"$f":"IF(Lists!AW20=\"\",\"\",Lists!AW20)","v":""},{"$f":"IF(Lists!AX20=\"\",\"\",Lists!AX20)","v":""},null,{"$f":"IF($B42=\"\",\"\",SUMIFS(CPMS_Detail!$H$24:$H$5400,CPMS_Detail!$C$24:$C$5400,C42,CPMS_Detail!$D$24:$D$5400,D42))","v":""},""]
[null,{"$f":"IF(Lists!AV21=\"\",\"\",Lists!AV21)","v":""},{"$f":"IF(Lists!AW21=\"\",\"\",Lists!AW21)","v":""},{"$f":"IF(Lists!AX21=\"\",\"\",Lists!AX21)","v":""},null,{"$f":"IF($B43=\"\",\"\",SUMIFS(CPMS_Detail!$H$24:$H$5400,CPMS_Detail!$C$24:$C$5400,C43,CPMS_Detail!$D$24:$D$5400,D43))","v":""},""]
[null,{"$f":"IF(Lists!AV22=\"\",\"\",Lists!AV22)","v":""},{"$f":"IF(Lists!AW22=\"\",\"\",Lists!AW22)","v":""},{"$f":"IF(Lists!AX22=\"\",\"\",Lists!AX22)","v":""},null,{"$f":"IF($B44=\"\",\"\",SUMIFS(CPMS_Detail!$H$24:$H$5400,CPMS_Detail!$C$24:$C$5400,C44,CPMS_Detail!$D$24:$D$5400,D44))","v":""},""]
[null,{"$f":"IF(Lists!AV23=\"\",\"\",Lists!AV23)","v":""},{"$f":"IF(Lists!AW23=\"\",\"\",Lists!AW23)","v":""},{"$f":"IF(Lists!AX23=\"\",\"\",Lists!AX23)","v":""},null,{"$f":"IF($B45=\"\",\"\",SUMIFS(CPMS_Detail!$H$24:$H$5400,CPMS_Detail!$C$24:$C$5400,C45,CPMS_Detail!$D$24:$D$5400,D45))","v":""},""]
[null,{"$f":"IF(Lists!AV24=\"\",\"\",Lists!AV24)","v":""},{"$f":"IF(Lists!AW24=\"\",\"\",Lists!AW24)","v":""},{"$f":"IF(Lists!AX24=\"\",\"\",Lists!AX24)","v":""},null,{"$f":"IF($B46=\"\",\"\",SUMIFS(CPMS_Detail!$H$24:$H$5400,CPMS_Detail!$C$24:$C$5400,C46,CPMS_Detail!$D$24:$D$5400,D46))","v":""},""]
[null,{"$f":"IF(Lists!AV25=\"\",\"\",Lists!AV25)","v":""},{"$f":"IF(Lists!AW25=\"\",\"\",Lists!AW25)","v":""},{"$f":"IF(Lists!AX25=\"\",\"\",Lists!AX25)","v":""},null,{"$f":"IF($B47=\"\",\"\",SUMIFS(CPMS_Detail!$H$24:$H$5400,CPMS_Detail!$C$24:$C$5400,C47,CPMS_Detail!$D$24:$D$5400,D47))","v":""},""]
[null,{"$f":"IF(Lists!AV26=\"\",\"\",Lists!AV26)","v":""},{"$f":"IF(Lists!AW26=\"\",\"\",Lists!AW26)","v":""},{"$f":"IF(Lists!AX26=\"\",\"\",Lists!AX26)","v":""},null,{"$f":"IF($B48=\"\",\"\",SUMIFS(CPMS_Detail!$H$24:$H$5400,CPMS_Detail!$C$24:$C$5400,C48,CPMS_Detail!$D$24:$D$5400,D48))","v":""},""]
[null,{"$f":"IF(Lists!AV27=\"\",\"\",Lists!AV27)","v":""},{"$f":"IF(Lists!AW27=\"\",\"\",Lists!AW27)","v":""},{"$f":"IF(Lists!AX27=\"\",\"\",Lists!AX27)","v":""},null,{"$f":"IF($B49=\"\",\"\",SUMIFS(CPMS_Detail!$H$24:$H$5400,CPMS_Detail!$C$24:$C$5400,C49,CPMS_Detail!$D$24:$D$5400,D49))","v":""},""]
[null,{"$f":"IF(Lists!AV28=\"\",\"\",Lists!AV28)","v":""},{"$f":"IF(Lists!AW28=\"\",\"\",Lists!AW28)","v":""},{"$f":"IF(Lists!AX28=\"\",\"\",Lists!AX28)","v":""},null,{"$f":"IF($B50=\"\",\"\",SUMIFS(CPMS_Detail!$H$24:$H$5400,CPMS_Detail!$C$24:$C$5400,C50,CPMS_Detail!$D$24:$D$5400,D50))","v":""},""]
[null,{"$f":"IF(Lists!AV29=\"\",\"\",Lists!AV29)","v":""},{"$f":"IF(Lists!AW29=\"\",\"\",Lists!AW29)","v":""},{"$f":"IF(Lists!AX29=\"\",\"\",Lists!AX29)","v":""},null,{"$f":"IF($B51=\"\",\"\",SUMIFS(CPMS_Detail!$H$24:$H$5400,CPMS_Detail!$C$24:$C$5400,C51,CPMS_Detail!$D$24:$D$5400,D51))","v":""},""]
[null,{"$f":"IF(Lists!AV30=\"\",\"\",Lists!AV30)","v":""},{"$f":"IF(Lists!AW30=\"\",\"\",Lists!AW30)","v":""},{"$f":"IF(Lists!AX30=\"\",\"\",Lists!AX30)","v":""},null,{"$f":"IF($B52=\"\",\"\",SUMIFS(CPMS_Detail!$H$24:$H$5400,CPMS_Detail!$C$24:$C$5400,C52,CPMS_Detail!$D$24:$D$5400,D52))","v":""},""]
[null,{"$f":"IF(Lists!AV31=\"\",\"\",Lists!AV31)","v":""},{"$f":"IF(Lists!AW31=\"\",\"\",Lists!AW31)","v":""},{"$f":"IF(Lists!AX31=\"\",\"\",Lists!AX31)","v":""},null,{"$f":"IF($B53=\"\",\"\",SUMIFS(CPMS_Detail!$H$24:$H$5400,CPMS_Detail!$C$24:$C$5400,C53,CPMS_Detail!$D$24:$D$5400,D53))","v":""},""]
[null,{"$f":"IF(Lists!AV32=\"\",\"\",Lists!AV32)","v":""},{"$f":"IF(Lists!AW32=\"\",\"\",Lists!AW32)","v":""},{"$f":"IF(Lists!AX32=\"\",\"\",Lists!AX32)","v":""},null,{"$f":"IF($B54=\"\",\"\",SUMIFS(CPMS_Detail!$H$24:$H$5400,CPMS_Detail!$C$24:$C$5400,C54,CPMS_Detail!$D$24:$D$5400,D54))","v":""},""]
[null,{"$f":"IF(Lists!AV33=\"\",\"\",Lists!AV33)","v":""},{"$f":"IF(Lists!AW33=\"\",\"\",Lists!AW33)","v":""},{"$f":"IF(Lists!AX33=\"\",\"\",Lists!AX33)","v":""},null,{"$f":"IF($B55=\"\",\"\",SUMIFS(CPMS_Detail!$H$24:$H$5400,CPMS_Detail!$C$24:$C$5400,C55,CPMS_Detail!$D$24:$D$5400,D55))","v":""},""]
[null,{"$f":"IF(Lists!AV34=\"\",\"\",Lists!AV34)","v":""},{"$f":"IF(Lists!AW34=\"\",\"\",Lists!AW34)","v":""},{"$f":"IF(Lists!AX34=\"\",\"\",Lists!AX34)","v":""},null,{"$f":"IF($B56=\"\",\"\",SUMIFS(CPMS_Detail!$H$24:$H$5400,CPMS_Detail!$C$24:$C$5400,C56,CPMS_Detail!$D$24:$D$5400,D56))","v":""},""]
[null,{"$f":"IF(Lists!AV35=\"\",\"\",Lists!AV35)","v":""},{"$f":"IF(Lists!AW35=\"\",\"\",Lists!AW35)","v":""},{"$f":"IF(Lists!AX35=\"\",\"\",Lists!AX35)","v":""},null,{"$f":"IF($B57=\"\",\"\",SUMIFS(CPMS_Detail!$H$24:$H$5400,CPMS_Detail!$C$24:$C$5400,C57,CPMS_Detail!$D$24:$D$5400,D57))","v":""},""]
[null,{"$f":"IF(Lists!AV36=\"\",\"\",Lists!AV36)","v":""},{"$f":"IF(Lists!AW36=\"\",\"\",Lists!AW36)","v":""},{"$f":"IF(Lists!AX36=\"\",\"\",Lists!AX36)","v":""},null,{"$f":"IF($B58=\"\",\"\",SUMIFS(CPMS_Detail!$H$24:$H$5400,CPMS_Detail!$C$24:$C$5400,C58,CPMS_Detail!$D$24:$D$5400,D58))","v":""},""]
[null,{"$f":"IF(Lists!AV37=\"\",\"\",Lists!AV37)","v":""},{"$f":"IF(Lists!AW37=\"\",\"\",Lists!AW37)","v":""},{"$f":"IF(Lists!AX37=\"\",\"\",Lists!AX37)","v":""},null,{"$f":"IF($B59=\"\",\"\",SUMIFS(CPMS_Detail!$H$24:$H$5400,CPMS_Detail!$C$24:$C$5400,C59,CPMS_Detail!$D$24:$D$5400,D59))","v":""},""]
[null,{"$f":"IF(Lists!AV38=\"\",\"\",Lists!AV38)","v":""},{"$f":"IF(Lists!AW38=\"\",\"\",Lists!AW38)","v":""},{"$f":"IF(Lists!AX38=\"\",\"\",Lists!AX38)","v":""},null,{"$f":"IF($B60=\"\",\"\",SUMIFS(CPMS_Detail!$H$24:$H$5400,CPMS_Detail!$C$24:$C$5400,C60,CPMS_Detail!$D$24:$D$5400,D60))","v":""},""]
[null,{"$f":"IF(Lists!AV39=\"\",\"\",Lists!AV39)","v":""},{"$f":"IF(Lists!AW39=\"\",\"\",Lists!AW39)","v":""},{"$f":"IF(Lists!AX39=\"\",\"\",Lists!AX39)","v":""},null,{"$f":"IF($B61=\"\",\"\",SUMIFS(CPMS_Detail!$H$24:$H$5400,CPMS_Detail!$C$24:$C$5400,C61,CPMS_Detail!$D$24:$D$5400,D61))","v":""},""]
[null,{"$f":"IF(Lists!AV40=\"\",\"\",Lists!AV40)","v":""},{"$f":"IF(Lists!AW40=\"\",\"\",Lists!AW40)","v":""},{"$f":"IF(Lists!AX40=\"\",\"\",Lists!AX40)","v":""},null,{"$f":"IF($B62=\"\",\"\",SUMIFS(CPMS_Detail!$H$24:$H$5400,CPMS_Detail!$C$24:$C$5400,C62,CPMS_Detail!$D$24:$D$5400,D62))","v":""},""]
[null,{"$f":"IF(Lists!AV41=\"\",\"\",Lists!AV41)","v":""},{"$f":"IF(Lists!AW41=\"\",\"\",Lists!AW41)","v":""},{"$f":"IF(Lists!AX41=\"\",\"\",Lists!AX41)","v":""},null,{"$f":"IF($B63=\"\",\"\",SUMIFS(CPMS_Detail!$H$24:$H$5400,CPMS_Detail!$C$24:$C$5400,C63,CPMS_Detail!$D$24:$D$5400,D63))","v":""},""]
[null,{"$f":"IF(Lists!AV42=\"\",\"\",Lists!AV42)","v":""},{"$f":"IF(Lists!AW42=\"\",\"\",Lists!AW42)","v":""},{"$f":"IF(Lists!AX42=\"\",\"\",Lists!AX42)","v":""},null,{"$f":"IF($B64=\"\",\"\",SUMIFS(CPMS_Detail!$H$24:$H$5400,CPMS_Detail!$C$24:$C$5400,C64,CPMS_Detail!$D$24:$D$5400,D64))","v":""},""]
[null,{"$f":"IF(Lists!AV43=\"\",\"\",Lists!AV43)","v":""},{"$f":"IF(Lists!AW43=\"\",\"\",Lists!AW43)","v":""},{"$f":"IF(Lists!AX43=\"\",\"\",Lists!AX43)","v":""},null,{"$f":"IF($B65=\"\",\"\",SUMIFS(CPMS_Detail!$H$24:$H$5400,CPMS_Detail!$C$24:$C$5400,C65,CPMS_Detail!$D$24:$D$5400,D65))","v":""},""]
[null,{"$f":"IF(Lists!AV44=\"\",\"\",Lists!AV44)","v":""},{"$f":"IF(Lists!AW44=\"\",\"\",Lists!AW44)","v":""},{"$f":"IF(Lists!AX44=\"\",\"\",Lists!AX44)","v":""},null,{"$f":"IF($B66=\"\",\"\",SUMIFS(CPMS_Detail!$H$24:$H$5400,CPMS_Detail!$C$24:$C$5400,C66,CPMS_Detail!$D$24:$D$5400,D66))","v":""},""]
[null,{"$f":"IF(Lists!AV45=\"\",\"\",Lists!AV45)","v":""},{"$f":"IF(Lists!AW45=\"\",\"\",Lists!AW45)","v":""},{"$f":"IF(Lists!AX45=\"\",\"\",Lists!AX45)","v":""},null,{"$f":"IF($B67=\"\",\"\",SUMIFS(CPMS_Detail!$H$24:$H$5400,CPMS_Detail!$C$24:$C$5400,C67,CPMS_Detail!$D$24:$D$5400,D67))","v":""},""]
[null,{"$f":"IF(Lists!AV46=\"\",\"\",Lists!AV46)","v":""},{"$f":"IF(Lists!AW46=\"\",\"\",Lists!AW46)","v":""},{"$f":"IF(Lists!AX46=\"\",\"\",Lists!AX46)","v":""},null,{"$f":"IF($B68=\"\",\"\",SUMIFS(CPMS_Detail!$H$24:$H$5400,CPMS_Detail!$C$24:$C$5400,C68,CPMS_Detail!$D$24:$D$5400,D68))","v":""},""]
[null,{"$f":"IF(Lists!AV47=\"\",\"\",Lists!AV47)","v":""},{"$f":"IF(Lists!AW47=\"\",\"\",Lists!AW47)","v":""},{"$f":"IF(Lists!AX47=\"\",\"\",Lists!AX47)","v":""},null,{"$f":"IF($B69=\"\",\"\",SUMIFS(CPMS_Detail!$H$24:$H$5400,CPMS_Detail!$C$24:$C$5400,C69,CPMS_Detail!$D$24:$D$5400,D69))","v":""},""]
[null,{"$f":"IF(Lists!AV48=\"\",\"\",Lists!AV48)","v":""},{"$f":"IF(Lists!AW48=\"\",\"\",Lists!AW48)","v":""},{"$f":"IF(Lists!AX48=\"\",\"\",Lists!AX48)","v":""},null,{"$f":"IF($B70=\"\",\"\",SUMIFS(CPMS_Detail!$H$24:$H$5400,CPMS_Detail!$C$24:$C$5400,C70,CPMS_Detail!$D$24:$D$5400,D70))","v":""},""]
[null,{"$f":"IF(Lists!AV49=\"\",\"\",Lists!AV49)","v":""},{"$f":"IF(Lists!AW49=\"\",\"\",Lists!AW49)","v":""},{"$f":"IF(Lists!AX49=\"\",\"\",Lists!AX49)","v":""},null,{"$f":"IF($B71=\"\",\"\",SUMIFS(CPMS_Detail!$H$24:$H$5400,CPMS_Detail!$C$24:$C$5400,C71,CPMS_Detail!$D$24:$D$5400,D71))","v":""},""]
[null,{"$f":"IF(Lists!AV50=\"\",\"\",Lists!AV50)","v":""},{"$f":"IF(Lists!AW50=\"\",\"\",Lists!AW50)","v":""},{"$f":"IF(Lists!AX50=\"\",\"\",Lists!AX50)","v":""},null,{"$f":"IF($B72=\"\",\"\",SUMIFS(CPMS_Detail!$H$24:$H$5400,CPMS_Detail!$C$24:$C$5400,C72,CPMS_Detail!$D$24:$D$5400,D72))","v":""},""]
[null,{"$f":"IF(Lists!AV51=\"\",\"\",Lists!AV51)","v":""},{"$f":"IF(Lists!AW51=\"\",\"\",Lists!AW51)","v":""},{"$f":"IF(Lists!AX51=\"\",\"\",Lists!AX51)","v":""},null,{"$f":"IF($B73=\"\",\"\",SUMIFS(CPMS_Detail!$H$24:$H$5400,CPMS_Detail!$C$24:$C$5400,C73,CPMS_Detail!$D$24:$D$5400,D73))","v":""},""]
[null,{"$f":"IF(Lists!AV52=\"\",\"\",Lists!AV52)","v":""},{"$f":"IF(Lists!AW52=\"\",\"\",Lists!AW52)","v":""},{"$f":"IF(Lists!AX52=\"\",\"\",Lists!AX52)","v":""},null,{"$f":"IF($B74=\"\",\"\",SUMIFS(CPMS_Detail!$H$24:$H$5400,CPMS_Detail!$C$24:$C$5400,C74,CPMS_Detail!$D$24:$D$5400,D74))","v":""},""]
[null,{"$f":"IF(Lists!AV53=\"\",\"\",Lists!AV53)","v":""},{"$f":"IF(Lists!AW53=\"\",\"\",Lists!AW53)","v":""},{"$f":"IF(Lists!AX53=\"\",\"\",Lists!AX53)","v":""},null,{"$f":"IF($B75=\"\",\"\",SUMIFS(CPMS_Detail!$H$24:$H$5400,CPMS_Detail!$C$24:$C$5400,C75,CPMS_Detail!$D$24:$D$5400,D75))","v":""},""]
[null,{"$f":"IF(Lists!AV54=\"\",\"\",Lists!AV54)","v":""},{"$f":"IF(Lists!AW54=\"\",\"\",Lists!AW54)","v":""},{"$f":"IF(Lists!AX54=\"\",\"\",Lists!AX54)","v":""},null,{"$f":"IF($B76=\"\",\"\",SUMIFS(CPMS_Detail!$H$24:$H$5400,CPMS_Detail!$C$24:$C$5400,C76,CPMS_Detail!$D$24:$D$5400,D76))","v":""},""]
[null,{"$f":"IF(Lists!AV55=\"\",\"\",Lists!AV55)","v":""},{"$f":"IF(Lists!AW55=\"\",\"\",Lists!AW55)","v":""},{"$f":"IF(Lists!AX55=\"\",\"\",Lists!AX55)","v":""},null,{"$f":"IF($B77=\"\",\"\",SUMIFS(CPMS_Detail!$H$24:$H$5400,CPMS_Detail!$C$24:$C$5400,C77,CPMS_Detail!$D$24:$D$5400,D77))","v":""},""]
[null,{"$f":"IF(Lists!AV56=\"\",\"\",Lists!AV56)","v":""},{"$f":"IF(Lists!AW56=\"\",\"\",Lists!AW56)","v":""},{"$f":"IF(Lists!AX56=\"\",\"\",Lists!AX56)","v":""},null,{"$f":"IF($B78=\"\",\"\",SUMIFS(CPMS_Detail!$H$24:$H$5400,CPMS_Detail!$C$24:$C$5400,C78,CPMS_Detail!$D$24:$D$5400,D78))","v":""},""]
[null,{"$f":"IF(Lists!AV57=\"\",\"\",Lists!AV57)","v":""},{"$f":"IF(Lists!AW57=\"\",\"\",Lists!AW57)","v":""},{"$f":"IF(Lists!AX57=\"\",\"\",Lists!AX57)","v":""},null,{"$f":"IF($B79=\"\",\"\",SUMIFS(CPMS_Detail!$H$24:$H$5400,CPMS_Detail!$C$24:$C$5400,C79,CPMS_Detail!$D$24:$D$5400,D79))","v":""},""]
[null,{"$f":"IF(Lists!AV58=\"\",\"\",Lists!AV58)","v":""},{"$f":"IF(Lists!AW58=\"\",\"\",Lists!AW58)","v":""},{"$f":"IF(Lists!AX58=\"\",\"\",Lists!AX58)","v":""},null,{"$f":"IF($B80=\"\",\"\",SUMIFS(CPMS_Detail!$H$24:$H$5400,CPMS_Detail!$C$24:$C$5400,C80,CPMS_Detail!$D$24:$D$5400,D80))","v":""},""]
[null,{"$f":"IF(Lists!AV59=\"\",\"\",Lists!AV59)","v":""},{"$f":"IF(Lists!AW59=\"\",\"\",Lists!AW59)","v":""},{"$f":"IF(Lists!AX59=\"\",\"\",Lists!AX59)","v":""},null,{"$f":"IF($B81=\"\",\"\",SUMIFS(CPMS_Detail!$H$24:$H$5400,CPMS_Detail!$C$24:$C$5400,C81,CPMS_Detail!$D$24:$D$5400,D81))","v":""},""]
[null,{"$f":"IF(Lists!AV60=\"\",\"\",Lists!AV60)","v":""},{"$f":"IF(Lists!AW60=\"\",\"\",Lists!AW60)","v":""},{"$f":"IF(Lists!AX60=\"\",\"\",Lists!AX60)","v":""},null,{"$f":"IF($B82=\"\",\"\",SUMIFS(CPMS_Detail!$H$24:$H$5400,CPMS_Detail!$C$24:$C$5400,C82,CPMS_Detail!$D$24:$D$5400,D82))","v":""},""]
[null,{"$f":"IF(Lists!AV61=\"\",\"\",Lists!AV61)","v":""},{"$f":"IF(Lists!AW61=\"\",\"\",Lists!AW61)","v":""},{"$f":"IF(Lists!AX61=\"\",\"\",Lists!AX61)","v":""},null,{"$f":"IF($B83=\"\",\"\",SUMIFS(CPMS_Detail!$H$24:$H$5400,CPMS_Detail!$C$24:$C$5400,C83,CPMS_Detail!$D$24:$D$5400,D83))","v":""},""]
[null,{"$f":"IF(Lists!AV62=\"\",\"\",Lists!AV62)","v":""},{"$f":"IF(Lists!AW62=\"\",\"\",Lists!AW62)","v":""},{"$f":"IF(Lists!AX62=\"\",\"\",Lists!AX62)","v":""},null,{"$f":"IF($B84=\"\",\"\",SUMIFS(CPMS_Detail!$H$24:$H$5400,CPMS_Detail!$C$24:$C$5400,C84,CPMS_Detail!$D$24:$D$5400,D84))","v":""},""]
[null,{"$f":"IF(Lists!AV63=\"\",\"\",Lists!AV63)","v":""},{"$f":"IF(Lists!AW63=\"\",\"\",Lists!AW63)","v":""},{"$f":"IF(Lists!AX63=\"\",\"\",Lists!AX63)","v":""},null,{"$f":"IF($B85=\"\",\"\",SUMIFS(CPMS_Detail!$H$24:$H$5400,CPMS_Detail!$C$24:$C$5400,C85,CPMS_Detail!$D$24:$D$5400,D85))","v":""},""]
[null,{"$f":"IF(Lists!AV64=\"\",\"\",Lists!AV64)","v":""},{"$f":"IF(Lists!AW64=\"\",\"\",Lists!AW64)","v":""},{"$f":"IF(Lists!AX64=\"\",\"\",Lists!AX64)","v":""},null,{"$f":"IF($B86=\"\",\"\",SUMIFS(CPMS_Detail!$H$24:$H$5400,CPMS_Detail!$C$24:$C$5400,C86,CPMS_Detail!$D$24:$D$5400,D86))","v":""},""]
[null,{"$f":"IF(Lists!AV65=\"\",\"\",Lists!AV65)","v":""},{"$f":"IF(Lists!AW65=\"\",\"\",Lists!AW65)","v":""},{"$f":"IF(Lists!AX65=\"\",\"\",Lists!AX65)","v":""},null,{"$f":"IF($B87=\"\",\"\",SUMIFS(CPMS_Detail!$H$24:$H$5400,CPMS_Detail!$C$24:$C$5400,C87,CPMS_Detail!$D$24:$D$5400,D87))","v":""},""]
[null,{"$f":"IF(Lists!AV66=\"\",\"\",Lists!AV66)","v":""},{"$f":"IF(Lists!AW66=\"\",\"\",Lists!AW66)","v":""},{"$f":"IF(Lists!AX66=\"\",\"\",Lists!AX66)","v":""},null,{"$f":"IF($B88=\"\",\"\",SUMIFS(CPMS_Detail!$H$24:$H$5400,CPMS_Detail!$C$24:$C$5400,C88,CPMS_Detail!$D$24:$D$5400,D88))","v":""},""]
[null,{"$f":"IF(Lists!AV67=\"\",\"\",Lists!AV67)","v":""},{"$f":"IF(Lists!AW67=\"\",\"\",Lists!AW67)","v":""},{"$f":"IF(Lists!AX67=\"\",\"\",Lists!AX67)","v":""},null,{"$f":"IF($B89=\"\",\"\",SUMIFS(CPMS_Detail!$H$24:$H$5400,CPMS_Detail!$C$24:$C$5400,C89,CPMS_Detail!$D$24:$D$5400,D89))","v":""},{"$f":"IF($B89=\"\",\"\",IF(F89=0,\"N/A\",F89/$E89))","v":""}]
[null,{"$f":"IF(Lists!AV68=\"\",\"\",Lists!AV68)","v":""},{"$f":"IF(Lists!AW68=\"\",\"\",Lists!AW68)","v":""},{"$f":"IF(Lists!AX68=\"\",\"\",Lists!AX68)","v":""},null,{"$f":"IF($B90=\"\",\"\",SUMIFS(CPMS_Detail!$H$24:$H$5400,CPMS_Detail!$C$24:$C$5400,C90,CPMS_Detail!$D$24:$D$5400,D90))","v":""},""]
[null,{"$f":"IF(Lists!AV69=\"\",\"\",Lists!AV69)","v":""},{"$f":"IF(Lists!AW69=\"\",\"\",Lists!AW69)","v":""},{"$f":"IF(Lists!AX69=\"\",\"\",Lists!AX69)","v":""},null,{"$f":"IF($B91=\"\",\"\",SUMIFS(CPMS_Detail!$H$24:$H$5400,CPMS_Detail!$C$24:$C$5400,C91,CPMS_Detail!$D$24:$D$5400,D91))","v":""},""]
[null,{"$f":"IF(Lists!AV70=\"\",\"\",Lists!AV70)","v":""},{"$f":"IF(Lists!AW70=\"\",\"\",Lists!AW70)","v":""},{"$f":"IF(Lists!AX70=\"\",\"\",Lists!AX70)","v":""},null,{"$f":"IF($B92=\"\",\"\",SUMIFS(CPMS_Detail!$H$24:$H$5400,CPMS_Detail!$C$24:$C$5400,C92,CPMS_Detail!$D$24:$D$5400,D92))","v":""},""]
[null,{"$f":"IF(Lists!AV71=\"\",\"\",Lists!AV71)","v":""},{"$f":"IF(Lists!AW71=\"\",\"\",Lists!AW71)","v":""},{"$f":"IF(Lists!AX71=\"\",\"\",Lists!AX71)","v":""},null,{"$f":"IF($B93=\"\",\"\",SUMIFS(CPMS_Detail!$H$24:$H$5400,CPMS_Detail!$C$24:$C$5400,C93,CPMS_Detail!$D$24:$D$5400,D93))","v":""},""]
[null,{"$f":"IF(Lists!AV72=\"\",\"\",Lists!AV72)","v":""},{"$f":"IF(Lists!AW72=\"\",\"\",Lists!AW72)","v":""},{"$f":"IF(Lists!AX72=\"\",\"\",Lists!AX72)","v":""},null,{"$f":"IF($B94=\"\",\"\",SUMIFS(CPMS_Detail!$H$24:$H$5400,CPMS_Detail!$C$24:$C$5400,C94,CPMS_Detail!$D$24:$D$5400,D94))","v":""},""]
[null,{"$f":"IF(Lists!AV73=\"\",\"\",Lists!AV73)","v":""},{"$f":"IF(Lists!AW73=\"\",\"\",Lists!AW73)","v":""},{"$f":"IF(Lists!AX73=\"\",\"\",Lists!AX73)","v":""},null,{"$f":"IF($B95=\"\",\"\",SUMIFS(CPMS_Detail!$H$24:$H$5400,CPMS_Detail!$C$24:$C$5400,C95,CPMS_Detail!$D$24:$D$5400,D95))","v":""},""]
[null,{"$f":"IF(Lists!AV74=\"\",\"\",Lists!AV74)","v":""},{"$f":"IF(Lists!AW74=\"\",\"\",Lists!AW74)","v":""},{"$f":"IF(Lists!AX74=\"\",\"\",Lists!AX74)","v":""},null,{"$f":"IF($B96=\"\",\"\",SUMIFS(CPMS_Detail!$H$24:$H$5400,CPMS_Detail!$C$24:$C$5400,C96,CPMS_Detail!$D$24:$D$5400,D96))","v":""},""]
[null,{"$f":"IF(Lists!AV75=\"\",\"\",Lists!AV75)","v":""},{"$f":"IF(Lists!AW75=\"\",\"\",Lists!AW75)","v":""},{"$f":"IF(Lists!AX75=\"\",\"\",Lists!AX75)","v":""},null,{"$f":"IF($B97=\"\",\"\",SUMIFS(CPMS_Detail!$H$24:$H$5400,CPMS_Detail!$C$24:$C$5400,C97,CPMS_Detail!$D$24:$D$5400,D97))","v":""},""]
[null,{"$f":"IF(Lists!AV76=\"\",\"\",Lists!AV76)","v":""},{"$f":"IF(Lists!AW76=\"\",\"\",Lists!AW76)","v":""},{"$f":"IF(Lists!AX76=\"\",\"\",Lists!AX76)","v":""},null,{"$f":"IF($B98=\"\",\"\",SUMIFS(CPMS_Detail!$H$24:$H$5400,CPMS_Detail!$C$24:$C$5400,C98,CPMS_Detail!$D$24:$D$5400,D98))","v":""},""]
[null,{"$f":"IF(Lists!AV77=\"\",\"\",Lists!AV77)","v":""},{"$f":"IF(Lists!AW77=\"\",\"\",Lists!AW77)","v":""},{"$f":"IF(Lists!AX77=\"\",\"\",Lists!AX77)","v":""},null,{"$f":"IF($B99=\"\",\"\",SUMIFS(CPMS_Detail!$H$24:$H$5400,CPMS_Detail!$C$24:$C$5400,C99,CPMS_Detail!$D$24:$D$5400,D99))","v":""},""]
[null,{"$f":"IF(Lists!AV78=\"\",\"\",Lists!AV78)","v":""},{"$f":"IF(Lists!AW78=\"\",\"\",Lists!AW78)","v":""},{"$f":"IF(Lists!AX78=\"\",\"\",Lists!AX78)","v":""},null,{"$f":"IF($B100=\"\",\"\",SUMIFS(CPMS_Detail!$H$24:$H$5400,CPMS_Detail!$C$24:$C$5400,C100,CPMS_Detail!$D$24:$D$5400,D100))","v":""},""]
[null,{"$f":"IF(D101=\"\",\"\",COUNT($D$24:$D$452)-COUNT(D102:$D$452))","v":""}]
[null,{"$f":"IF(D102=\"\",\"\",COUNT($D$24:$D$452)-COUNT(D103:$D$452))","v":""}]
[null,{"$f":"IF(D103=\"\",\"\",COUNT($D$24:$D$452)-COUNT(D104:$D$452))","v":""}]
[null,{"$f":"IF(D104=\"\",\"\",COUNT($D$24:$D$452)-COUNT(D105:$D$452))","v":""}]
[null,{"$f":"IF(D105=\"\",\"\",COUNT($D$24:$D$452)-COUNT(D106:$D$452))","v":""}]
[null,{"$f":"IF(D106=\"\",\"\",COUNT($D$24:$D$452)-COUNT(D107:$D$452))","v":""}]
[null,{"$f":"IF(D107=\"\",\"\",COUNT($D$24:$D$452)-COUNT(D108:$D$452))","v":""}]
[null,{"$f":"IF(D108=\"\",\"\",COUNT($D$24:$D$452)-COUNT(D109:$D$452))","v":""}]
[null,{"$f":"IF(D109=\"\",\"\",COUNT($D$24:$D$452)-COUNT(D110:$D$452))","v":""}]
[null,{"$f":"IF(D110=\"\",\"\",COUNT($D$24:$D$452)-COUNT(D111:$D$452))","v":""}]
[null,{"$f":"IF(D111=\"\",\"\",COUNT($D$24:$D$452)-COUNT(D112:$D$452))","v":""}]
[null,{"$f":"IF(D112=\"\",\"\",COUNT($D$24:$D$452)-COUNT(D113:$D$452))","v":""}]
[null,{"$f":"IF(D113=\"\",\"\",COUNT($D$24:$D$452)-COUNT(D114:$D$452))","v":""}]
[null,{"$f":"IF(D114=\"\",\"\",COUNT($D$24:$D$452)-COUNT(D115:$D$452))","v":""}]
[null,{"$f":"IF(D115=\"\",\"\",COUNT($D$24:$D$452)-COUNT(D116:$D$452))","v":""}]
[null,{"$f":"IF(D116=\"\",\"\",COUNT($D$24:$D$452)-COUNT(D117:$D$452))","v":""}]
[null,{"$f":"IF(D117=\"\",\"\",COUNT($D$24:$D$452)-COUNT(D118:$D$452))","v":""}]
[null,{"$f":"IF(D118=\"\",\"\",COUNT($D$24:$D$452)-COUNT(D119:$D$452))","v":""}]
[null,{"$f":"IF(D119=\"\",\"\",COUNT($D$24:$D$452)-COUNT(D120:$D$452))","v":""}]
[null,{"$f":"IF(D120=\"\",\"\",COUNT($D$24:$D$452)-COUNT(D121:$D$452))","v":""}]
[null,{"$f":"IF(D121=\"\",\"\",COUNT($D$24:$D$452)-COUNT(D122:$D$452))","v":""}]
[null,{"$f":"IF(D122=\"\",\"\",COUNT($D$24:$D$452)-COUNT(D123:$D$452))","v":""}]
[null,{"$f":"IF(D123=\"\",\"\",COUNT($D$24:$D$452)-COUNT(D124:$D$452))","v":""}]
[null,{"$f":"IF(D124=\"\",\"\",COUNT($D$24:$D$452)-COUNT(D125:$D$452))","v":""}]
[null,{"$f":"IF(D125=\"\",\"\",COUNT($D$24:$D$452)-COUNT(D126:$D$452))","v":""}]
[null,{"$f":"IF(D126=\"\",\"\",COUNT($D$24:$D$452)-COUNT(D127:$D$452))","v":""}]
[null,{"$f":"IF(D127=\"\",\"\",COUNT($D$24:$D$452)-COUNT(D128:$D$452))","v":""}]
[null,{"$f":"IF(D128=\"\",\"\",COUNT($D$24:$D$452)-COUNT(D129:$D$452))","v":""}]
[null,{"$f":"IF(D129=\"\",\"\",COUNT($D$24:$D$452)-COUNT(D130:$D$452))","v":""}]
[null,{"$f":"IF(D130=\"\",\"\",COUNT($D$24:$D$452)-COUNT(D131:$D$452))","v":""}]
[null,{"$f":"IF(D131=\"\",\"\",COUNT($D$24:$D$452)-COUNT(D132:$D$452))","v":""}]
[null,{"$f":"IF(D132=\"\",\"\",COUNT($D$24:$D$452)-COUNT(D133:$D$452))","v":""}]
[null,{"$f":"IF(D133=\"\",\"\",COUNT($D$24:$D$452)-COUNT(D134:$D$452))","v":""}]
[null,{"$f":"IF(D134=\"\",\"\",COUNT($D$24:$D$452)-COUNT(D135:$D$452))","v":""}]
[null,{"$f":"IF(D135=\"\",\"\",COUNT($D$24:$D$452)-COUNT(D136:$D$452))","v":""}]
[null,{"$f":"IF(D136=\"\",\"\",COUNT($D$24:$D$452)-COUNT(D137:$D$452))","v":""}]
[null,{"$f":"IF(D137=\"\",\"\",COUNT($D$24:$D$452)-COUNT(D138:$D$452))","v":""}]
[null,{"$f":"IF(D138=\"\",\"\",COUNT($D$24:$D$452)-COUNT(D139:$D$452))","v":""}]
[null,{"$f":"IF(D139=\"\",\"\",COUNT($D$24:$D$452)-COUNT(D140:$D$452))","v":""}]
[null,{"$f":"IF(D140=\"\",\"\",COUNT($D$24:$D$452)-COUNT(D141:$D$452))","v":""}]
[null,{"$f":"IF(D141=\"\",\"\",COUNT($D$24:$D$452)-COUNT(D142:$D$452))","v":""}]
[null,{"$f":"IF(D142=\"\",\"\",COUNT($D$24:$D$452)-COUNT(D143:$D$452))","v":""}]
[null,{"$f":"IF(D143=\"\",\"\",COUNT($D$24:$D$452)-COUNT(D144:$D$452))","v":""}]
[null,{"$f":"IF(D144=\"\",\"\",COUNT($D$24:$D$452)-COUNT(D145:$D$452))","v":""}]
[null,{"$f":"IF(D145=\"\",\"\",COUNT($D$24:$D$452)-COUNT(D146:$D$452))","v":""}]
[null,{"$f":"IF(D146=\"\",\"\",COUNT($D$24:$D$452)-COUNT(D147:$D$452))","v":""}]
[null,{"$f":"IF(D147=\"\",\"\",COUNT($D$24:$D$452)-COUNT(D148:$D$452))","v":""}]
[null,{"$f":"IF(D148=\"\",\"\",COUNT($D$24:$D$452)-COUNT(D149:$D$452))","v":""}]
[null,{"$f":"IF(D149=\"\",\"\",COUNT($D$24:$D$452)-COUNT(D150:$D$452))","v":""}]
[null,{"$f":"IF(D150=\"\",\"\",COUNT($D$24:$D$452)-COUNT(D151:$D$452))","v":""}]
[null,{"$f":"IF(D151=\"\",\"\",COUNT($D$24:$D$452)-COUNT(D152:$D$452))","v":""}]
[null,{"$f":"IF(D152=\"\",\"\",COUNT($D$24:$D$452)-COUNT(D153:$D$452))","v":""}]
[null,{"$f":"IF(D153=\"\",\"\",COUNT($D$24:$D$452)-COUNT(D154:$D$452))","v":""}]
[null,{"$f":"IF(D154=\"\",\"\",COUNT($D$24:$D$452)-COUNT(D155:$D$452))","v":""}]
[null,{"$f":"IF(D155=\"\",\"\",COUNT($D$24:$D$452)-COUNT(D156:$D$452))","v":""}]
[null,{"$f":"IF(D156=\"\",\"\",COUNT($D$24:$D$452)-COUNT(D157:$D$452))","v":""}]
[null,{"$f":"IF(D157=\"\",\"\",COUNT($D$24:$D$452)-COUNT(D158:$D$452))","v":""}]
[null,{"$f":"IF(D158=\"\",\"\",COUNT($D$24:$D$452)-COUNT(D159:$D$452))","v":""}]
[null,{"$f":"IF(D159=\"\",\"\",COUNT($D$24:$D$452)-COUNT(D160:$D$452))","v":""}]
[null,{"$f":"IF(D160=\"\",\"\",COUNT($D$24:$D$452)-COUNT(D161:$D$452))","v":""}]
[null,{"$f":"IF(D161=\"\",\"\",COUNT($D$24:$D$452)-COUNT(D162:$D$452))","v":""}]
[null,{"$f":"IF(D162=\"\",\"\",COUNT($D$24:$D$452)-COUNT(D163:$D$452))","v":""}]
[null,{"$f":"IF(D163=\"\",\"\",COUNT($D$24:$D$452)-COUNT(D164:$D$452))","v":""}]
[null,{"$f":"IF(D164=\"\",\"\",COUNT($D$24:$D$452)-COUNT(D165:$D$452))","v":""}]
[null,{"$f":"IF(D165=\"\",\"\",COUNT($D$24:$D$452)-COUNT(D166:$D$452))","v":""}]
[null,{"$f":"IF(D166=\"\",\"\",COUNT($D$24:$D$452)-COUNT(D167:$D$452))","v":""}]
[null,{"$f":"IF(D167=\"\",\"\",COUNT($D$24:$D$452)-COUNT(D168:$D$452))","v":""}]
[null,{"$f":"IF(D168=\"\",\"\",COUNT($D$24:$D$452)-COUNT(D169:$D$452))","v":""}]
[null,{"$f":"IF(D169=\"\",\"\",COUNT($D$24:$D$452)-COUNT(D170:$D$452))","v":""}]
[null,{"$f":"IF(D170=\"\",\"\",COUNT($D$24:$D$452)-COUNT(D171:$D$452))","v":""}]
[null,{"$f":"IF(D171=\"\",\"\",COUNT($D$24:$D$452)-COUNT(D172:$D$452))","v":""}]
[null,{"$f":"IF(D172=\"\",\"\",COUNT($D$24:$D$452)-COUNT(D173:$D$452))","v":""}]
[null,{"$f":"IF(D173=\"\",\"\",COUNT($D$24:$D$452)-COUNT(D174:$D$452))","v":""}]
[null,{"$f":"IF(D174=\"\",\"\",COUNT($D$24:$D$452)-COUNT(D175:$D$452))","v":""}]
[null,{"$f":"IF(D175=\"\",\"\",COUNT($D$24:$D$452)-COUNT(D176:$D$452))","v":""}]
[null,{"$f":"IF(D176=\"\",\"\",COUNT($D$24:$D$452)-COUNT(D177:$D$452))","v":""}]
[null,{"$f":"IF(D177=\"\",\"\",COUNT($D$24:$D$452)-COUNT(D178:$D$452))","v":""}]
[null,{"$f":"IF(D178=\"\",\"\",COUNT($D$24:$D$452)-COUNT(D179:$D$452))","v":""}]
[null,{"$f":"IF(D179=\"\",\"\",COUNT($D$24:$D$452)-COUNT(D180:$D$452))","v":""}]
[null,{"$f":"IF(D180=\"\",\"\",COUNT($D$24:$D$452)-COUNT(D181:$D$452))","v":""}]
[null,{"$f":"IF(D181=\"\",\"\",COUNT($D$24:$D$452)-COUNT(D182:$D$452))","v":""}]
[null,{"$f":"IF(D182=\"\",\"\",COUNT($D$24:$D$452)-COUNT(D183:$D$452))","v":""}]
[null,{"$f":"IF(D183=\"\",\"\",COUNT($D$24:$D$452)-COUNT(D184:$D$452))","v":""}]
[null,{"$f":"IF(D184=\"\",\"\",COUNT($D$24:$D$452)-COUNT(D185:$D$452))","v":""}]
[null,{"$f":"IF(D185=\"\",\"\",COUNT($D$24:$D$452)-COUNT(D186:$D$452))","v":""}]
[null,{"$f":"IF(D186=\"\",\"\",COUNT($D$24:$D$452)-COUNT(D187:$D$452))","v":""}]
[null,{"$f":"IF(D187=\"\",\"\",COUNT($D$24:$D$452)-COUNT(D188:$D$452))","v":""}]
[null,{"$f":"IF(D188=\"\",\"\",COUNT($D$24:$D$452)-COUNT(D189:$D$452))","v":""}]
[null,{"$f":"IF(D189=\"\",\"\",COUNT($D$24:$D$452)-COUNT(D190:$D$452))","v":""}]
[null,{"$f":"IF(D190=\"\",\"\",COUNT($D$24:$D$452)-COUNT(D191:$D$452))","v":""}]
[null,{"$f":"IF(D191=\"\",\"\",COUNT($D$24:$D$452)-COUNT(D192:$D$452))","v":""}]
[null,{"$f":"IF(D192=\"\",\"\",COUNT($D$24:$D$452)-COUNT(D193:$D$452))","v":""}]
[null,{"$f":"IF(D193=\"\",\"\",COUNT($D$24:$D$452)-COUNT(D194:$D$452))","v":""}]
[null,{"$f":"IF(D194=\"\",\"\",COUNT($D$24:$D$452)-COUNT(D195:$D$452))","v":""}]
[null,{"$f":"IF(D195=\"\",\"\",COUNT($D$24:$D$452)-COUNT(D196:$D$452))","v":""}]
[null,{"$f":"IF(D196=\"\",\"\",COUNT($D$24:$D$452)-COUNT(D197:$D$452))","v":""}]
[null,{"$f":"IF(D197=\"\",\"\",COUNT($D$24:$D$452)-COUNT(D198:$D$452))","v":""}]
[null,{"$f":"IF(D198=\"\",\"\",COUNT($D$24:$D$452)-COUNT(D199:$D$452))","v":""}]
[null,{"$f":"IF(D199=\"\",\"\",COUNT($D$24:$D$452)-COUNT(D200:$D$452))","v":""}]
[null,{"$f":"IF(D200=\"\",\"\",COUNT($D$24:$D$452)-COUNT(D201:$D$452))","v":""}]
[null,{"$f":"IF(D201=\"\",\"\",COUNT($D$24:$D$452)-COUNT(D202:$D$452))","v":""}]
[null,{"$f":"IF(D202=\"\",\"\",COUNT($D$24:$D$452)-COUNT(D203:$D$452))","v":""}]
[null,{"$f":"IF(D203=\"\",\"\",COUNT($D$24:$D$452)-COUNT(D204:$D$452))","v":""}]
[null,{"$f":"IF(D204=\"\",\"\",COUNT($D$24:$D$452)-COUNT(D205:$D$452))","v":""}]
[null,{"$f":"IF(D205=\"\",\"\",COUNT($D$24:$D$452)-COUNT(D206:$D$452))","v":""}]
[null,{"$f":"IF(D206=\"\",\"\",COUNT($D$24:$D$452)-COUNT(D207:$D$452))","v":""}]
[null,{"$f":"IF(D207=\"\",\"\",COUNT($D$24:$D$452)-COUNT(D208:$D$452))","v":""}]
[null,{"$f":"IF(D208=\"\",\"\",COUNT($D$24:$D$452)-COUNT(D209:$D$452))","v":""}]
[null,{"$f":"IF(D209=\"\",\"\",COUNT($D$24:$D$452)-COUNT(D210:$D$452))","v":""}]
[null,{"$f":"IF(D210=\"\",\"\",COUNT($D$24:$D$452)-COUNT(D211:$D$452))","v":""}]
[null,{"$f":"IF(D211=\"\",\"\",COUNT($D$24:$D$452)-COUNT(D212:$D$452))","v":""}]
[null,{"$f":"IF(D212=\"\",\"\",COUNT($D$24:$D$452)-COUNT(D213:$D$452))","v":""}]
[null,{"$f":"IF(D213=\"\",\"\",COUNT($D$24:$D$452)-COUNT(D214:$D$452))","v":""}]
[null,{"$f":"IF(D214=\"\",\"\",COUNT($D$24:$D$452)-COUNT(D215:$D$452))","v":""}]
[null,{"$f":"IF(D215=\"\",\"\",COUNT($D$24:$D$452)-COUNT(D216:$D$452))","v":""}]
[null,{"$f":"IF(D216=\"\",\"\",COUNT($D$24:$D$452)-COUNT(D217:$D$452))","v":""}]
[null,{"$f":"IF(D217=\"\",\"\",COUNT($D$24:$D$452)-COUNT(D218:$D$452))","v":""}]
[null,{"$f":"IF(D218=\"\",\"\",COUNT($D$24:$D$452)-COUNT(D219:$D$452))","v":""}]
[null,{"$f":"IF(D219=\"\",\"\",COUNT($D$24:$D$452)-COUNT(D220:$D$452))","v":""}]
[null,{"$f":"IF(D220=\"\",\"\",COUNT($D$24:$D$452)-COUNT(D221:$D$452))","v":""}]
[null,{"$f":"IF(D221=\"\",\"\",COUNT($D$24:$D$452)-COUNT(D222:$D$452))","v":""}]
[null,{"$f":"IF(D222=\"\",\"\",COUNT($D$24:$D$452)-COUNT(D223:$D$452))","v":""}]
[null,{"$f":"IF(D223=\"\",\"\",COUNT($D$24:$D$452)-COUNT(D224:$D$452))","v":""}]
[null,{"$f":"IF(D224=\"\",\"\",COUNT($D$24:$D$452)-COUNT(D225:$D$452))","v":""}]
[null,{"$f":"IF(D225=\"\",\"\",COUNT($D$24:$D$452)-COUNT(D226:$D$452))","v":""}]
[null,{"$f":"IF(D226=\"\",\"\",COUNT($D$24:$D$452)-COUNT(D227:$D$452))","v":""}]
[null,{"$f":"IF(D227=\"\",\"\",COUNT($D$24:$D$452)-COUNT(D228:$D$452))","v":""}]
[null,{"$f":"IF(D228=\"\",\"\",COUNT($D$24:$D$452)-COUNT(D229:$D$452))","v":""}]
[null,{"$f":"IF(D229=\"\",\"\",COUNT($D$24:$D$452)-COUNT(D230:$D$452))","v":""}]
[null,{"$f":"IF(D230=\"\",\"\",COUNT($D$24:$D$452)-COUNT(D231:$D$452))","v":""}]
[null,{"$f":"IF(D231=\"\",\"\",COUNT($D$24:$D$452)-COUNT(D232:$D$452))","v":""}]
[null,{"$f":"IF(D232=\"\",\"\",COUNT($D$24:$D$452)-COUNT(D233:$D$452))","v":""}]
[null,{"$f":"IF(D233=\"\",\"\",COUNT($D$24:$D$452)-COUNT(D234:$D$452))","v":""}]
[null,{"$f":"IF(D234=\"\",\"\",COUNT($D$24:$D$452)-COUNT(D235:$D$452))","v":""}]
[null,{"$f":"IF(D235=\"\",\"\",COUNT($D$24:$D$452)-COUNT(D236:$D$452))","v":""}]
[null,{"$f":"IF(D236=\"\",\"\",COUNT($D$24:$D$452)-COUNT(D237:$D$452))","v":""}]
[null,{"$f":"IF(D237=\"\",\"\",COUNT($D$24:$D$452)-COUNT(D238:$D$452))","v":""}]
[null,{"$f":"IF(D238=\"\",\"\",COUNT($D$24:$D$452)-COUNT(D239:$D$452))","v":""}]
[null,{"$f":"IF(D239=\"\",\"\",COUNT($D$24:$D$452)-COUNT(D240:$D$452))","v":""}]
[null,{"$f":"IF(D240=\"\",\"\",COUNT($D$24:$D$452)-COUNT(D241:$D$452))","v":""}]
[null,{"$f":"IF(D241=\"\",\"\",COUNT($D$24:$D$452)-COUNT(D242:$D$452))","v":""}]
[null,{"$f":"IF(D242=\"\",\"\",COUNT($D$24:$D$452)-COUNT(D243:$D$452))","v":""}]
[null,{"$f":"IF(D243=\"\",\"\",COUNT($D$24:$D$452)-COUNT(D244:$D$452))","v":""}]
[null,{"$f":"IF(D244=\"\",\"\",COUNT($D$24:$D$452)-COUNT(D245:$D$452))","v":""}]
[null,{"$f":"IF(D245=\"\",\"\",COUNT($D$24:$D$452)-COUNT(D246:$D$452))","v":""}]
[null,{"$f":"IF(D246=\"\",\"\",COUNT($D$24:$D$452)-COUNT(D247:$D$452))","v":""}]
[null,{"$f":"IF(D247=\"\",\"\",COUNT($D$24:$D$452)-COUNT(D248:$D$452))","v":""}]
[null,{"$f":"IF(D248=\"\",\"\",COUNT($D$24:$D$452)-COUNT(D249:$D$452))","v":""}]
[null,{"$f":"IF(D249=\"\",\"\",COUNT($D$24:$D$452)-COUNT(D250:$D$452))","v":""}]
[null,{"$f":"IF(D250=\"\",\"\",COUNT($D$24:$D$452)-COUNT(D251:$D$452))","v":""}]
[null,{"$f":"IF(D251=\"\",\"\",COUNT($D$24:$D$452)-COUNT(D252:$D$452))","v":""}]
[null,{"$f":"IF(D252=\"\",\"\",COUNT($D$24:$D$452)-COUNT(D253:$D$452))","v":""}]
[null,{"$f":"IF(D253=\"\",\"\",COUNT($D$24:$D$452)-COUNT(D254:$D$452))","v":""}]
[null,{"$f":"IF(D254=\"\",\"\",COUNT($D$24:$D$452)-COUNT(D255:$D$452))","v":""}]
[null,{"$f":"IF(D255=\"\",\"\",COUNT($D$24:$D$452)-COUNT(D256:$D$452))","v":""}]
[null,{"$f":"IF(D256=\"\",\"\",COUNT($D$24:$D$452)-COUNT(D257:$D$452))","v":""}]
[null,{"$f":"IF(D257=\"\",\"\",COUNT($D$24:$D$452)-COUNT(D258:$D$452))","v":""}]
[null,{"$f":"IF(D258=\"\",\"\",COUNT($D$24:$D$452)-COUNT(D259:$D$452))","v":""}]
[null,{"$f":"IF(D259=\"\",\"\",COUNT($D$24:$D$452)-COUNT(D260:$D$452))","v":""}]
[null,{"$f":"IF(D260=\"\",\"\",COUNT($D$24:$D$452)-COUNT(D261:$D$452))","v":""}]
[null,{"$f":"IF(D261=\"\",\"\",COUNT($D$24:$D$452)-COUNT(D262:$D$452))","v":""}]
[null,{"$f":"IF(D262=\"\",\"\",COUNT($D$24:$D$452)-COUNT(D263:$D$452))","v":""}]
[null,{"$f":"IF(D263=\"\",\"\",COUNT($D$24:$D$452)-COUNT(D264:$D$452))","v":""}]
[null,{"$f":"IF(D264=\"\",\"\",COUNT($D$24:$D$452)-COUNT(D265:$D$452))","v":""}]
[null,{"$f":"IF(D265=\"\",\"\",COUNT($D$24:$D$452)-COUNT(D266:$D$452))","v":""}]
[null,{"$f":"IF(D266=\"\",\"\",COUNT($D$24:$D$452)-COUNT(D267:$D$452))","v":""}]
[null,{"$f":"IF(D267=\"\",\"\",COUNT($D$24:$D$452)-COUNT(D268:$D$452))","v":""}]
[null,{"$f":"IF(D268=\"\",\"\",COUNT($D$24:$D$452)-COUNT(D269:$D$452))","v":""}]
[null,{"$f":"IF(D269=\"\",\"\",COUNT($D$24:$D$452)-COUNT(D270:$D$452))","v":""}]
[null,{"$f":"IF(D270=\"\",\"\",COUNT($D$24:$D$452)-COUNT(D271:$D$452))","v":""}]
[null,{"$f":"IF(D271=\"\",\"\",COUNT($D$24:$D$452)-COUNT(D272:$D$452))","v":""}]
[null,{"$f":"IF(D272=\"\",\"\",COUNT($D$24:$D$452)-COUNT(D273:$D$452))","v":""}]
[null,{"$f":"IF(D273=\"\",\"\",COUNT($D$24:$D$452)-COUNT(D274:$D$452))","v":""}]
[null,{"$f":"IF(D274=\"\",\"\",COUNT($D$24:$D$452)-COUNT(D275:$D$452))","v":""}]
[null,{"$f":"IF(D275=\"\",\"\",COUNT($D$24:$D$452)-COUNT(D276:$D$452))","v":""}]
[null,{"$f":"IF(D276=\"\",\"\",COUNT($D$24:$D$452)-COUNT(D277:$D$452))","v":""}]
[null,{"$f":"IF(D277=\"\",\"\",COUNT($D$24:$D$452)-COUNT(D278:$D$452))","v":""}]
[null,{"$f":"IF(D278=\"\",\"\",COUNT($D$24:$D$452)-COUNT(D279:$D$452))","v":""}]
[null,{"$f":"IF(D279=\"\",\"\",COUNT($D$24:$D$452)-COUNT(D280:$D$452))","v":""}]
[null,{"$f":"IF(D280=\"\",\"\",COUNT($D$24:$D$452)-COUNT(D281:$D$452))","v":""}]
[null,{"$f":"IF(D281=\"\",\"\",COUNT($D$24:$D$452)-COUNT(D282:$D$452))","v":""}]
[null,{"$f":"IF(D282=\"\",\"\",COUNT($D$24:$D$452)-COUNT(D283:$D$452))","v":""}]
[null,{"$f":"IF(D283=\"\",\"\",COUNT($D$24:$D$452)-COUNT(D284:$D$452))","v":""}]
[null,{"$f":"IF(D284=\"\",\"\",COUNT($D$24:$D$452)-COUNT(D285:$D$452))","v":""}]
[null,{"$f":"IF(D285=\"\",\"\",COUNT($D$24:$D$452)-COUNT(D286:$D$452))","v":""}]
[null,{"$f":"IF(D286=\"\",\"\",COUNT($D$24:$D$452)-COUNT(D287:$D$452))","v":""}]
[null,{"$f":"IF(D287=\"\",\"\",COUNT($D$24:$D$452)-COUNT(D288:$D$452))","v":""}]
[null,{"$f":"IF(D288=\"\",\"\",COUNT($D$24:$D$452)-COUNT(D289:$D$452))","v":""}]
[null,{"$f":"IF(D289=\"\",\"\",COUNT($D$24:$D$452)-COUNT(D290:$D$452))","v":""}]
[null,{"$f":"IF(D290=\"\",\"\",COUNT($D$24:$D$452)-COUNT(D291:$D$452))","v":""}]
[null,{"$f":"IF(D291=\"\",\"\",COUNT($D$24:$D$452)-COUNT(D292:$D$452))","v":""}]
[null,{"$f":"IF(D292=\"\",\"\",COUNT($D$24:$D$452)-COUNT(D293:$D$452))","v":""}]
[null,{"$f":"IF(D293=\"\",\"\",COUNT($D$24:$D$452)-COUNT(D294:$D$452))","v":""}]
[null,{"$f":"IF(D294=\"\",\"\",COUNT($D$24:$D$452)-COUNT(D295:$D$452))","v":""}]
[null,{"$f":"IF(D295=\"\",\"\",COUNT($D$24:$D$452)-COUNT(D296:$D$452))","v":""}]
[null,{"$f":"IF(D296=\"\",\"\",COUNT($D$24:$D$452)-COUNT(D297:$D$452))","v":""}]
[null,{"$f":"IF(D297=\"\",\"\",COUNT($D$24:$D$452)-COUNT(D298:$D$452))","v":""}]
[null,{"$f":"IF(D298=\"\",\"\",COUNT($D$24:$D$452)-COUNT(D299:$D$452))","v":""}]
[null,{"$f":"IF(D299=\"\",\"\",COUNT($D$24:$D$452)-COUNT(D300:$D$452))","v":""}]
[null,{"$f":"IF(D300=\"\",\"\",COUNT($D$24:$D$452)-COUNT(D301:$D$452))","v":""}]
[null,{"$f":"IF(D301=\"\",\"\",COUNT($D$24:$D$452)-COUNT(D302:$D$452))","v":""}]
[null,{"$f":"IF(D302=\"\",\"\",COUNT($D$24:$D$452)-COUNT(D303:$D$452))","v":""}]
[null,{"$f":"IF(D303=\"\",\"\",COUNT($D$24:$D$452)-COUNT(D304:$D$452))","v":""}]
[null,{"$f":"IF(D304=\"\",\"\",COUNT($D$24:$D$452)-COUNT(D305:$D$452))","v":""}]
[null,{"$f":"IF(D305=\"\",\"\",COUNT($D$24:$D$452)-COUNT(D306:$D$452))","v":""}]
[null,{"$f":"IF(D306=\"\",\"\",COUNT($D$24:$D$452)-COUNT(D307:$D$452))","v":""}]
[null,{"$f":"IF(D307=\"\",\"\",COUNT($D$24:$D$452)-COUNT(D308:$D$452))","v":""}]
[null,{"$f":"IF(D308=\"\",\"\",COUNT($D$24:$D$452)-COUNT(D309:$D$452))","v":""}]
[null,{"$f":"IF(D309=\"\",\"\",COUNT($D$24:$D$452)-COUNT(D310:$D$452))","v":""}]
[null,{"$f":"IF(D310=\"\",\"\",COUNT($D$24:$D$452)-COUNT(D311:$D$452))","v":""}]
[null,{"$f":"IF(D311=\"\",\"\",COUNT($D$24:$D$452)-COUNT(D312:$D$452))","v":""}]
[null,{"$f":"IF(D312=\"\",\"\",COUNT($D$24:$D$452)-COUNT(D313:$D$452))","v":""}]
[null,{"$f":"IF(D313=\"\",\"\",COUNT($D$24:$D$452)-COUNT(D314:$D$452))","v":""}]
[null,{"$f":"IF(D314=\"\",\"\",COUNT($D$24:$D$452)-COUNT(D315:$D$452))","v":""}]
[null,{"$f":"IF(D315=\"\",\"\",COUNT($D$24:$D$452)-COUNT(D316:$D$452))","v":""}]
[null,{"$f":"IF(D316=\"\",\"\",COUNT($D$24:$D$452)-COUNT(D317:$D$452))","v":""}]
[null,{"$f":"IF(D317=\"\",\"\",COUNT($D$24:$D$452)-COUNT(D318:$D$452))","v":""}]
[null,{"$f":"IF(D318=\"\",\"\",COUNT($D$24:$D$452)-COUNT(D319:$D$452))","v":""}]
[null,{"$f":"IF(D319=\"\",\"\",COUNT($D$24:$D$452)-COUNT(D320:$D$452))","v":""}]
[null,{"$f":"IF(D320=\"\",\"\",COUNT($D$24:$D$452)-COUNT(D321:$D$452))","v":""}]
[null,{"$f":"IF(D321=\"\",\"\",COUNT($D$24:$D$452)-COUNT(D322:$D$452))","v":""}]
[null,{"$f":"IF(D322=\"\",\"\",COUNT($D$24:$D$452)-COUNT(D323:$D$452))","v":""}]
[null,{"$f":"IF(D323=\"\",\"\",COUNT($D$24:$D$452)-COUNT(D324:$D$452))","v":""}]
[null,{"$f":"IF(D324=\"\",\"\",COUNT($D$24:$D$452)-COUNT(D325:$D$452))","v":""}]
[null,{"$f":"IF(D325=\"\",\"\",COUNT($D$24:$D$452)-COUNT(D326:$D$452))","v":""}]
[null,{"$f":"IF(D326=\"\",\"\",COUNT($D$24:$D$452)-COUNT(D327:$D$452))","v":""}]
[null,{"$f":"IF(D327=\"\",\"\",COUNT($D$24:$D$452)-COUNT(D328:$D$452))","v":""}]
[null,{"$f":"IF(D328=\"\",\"\",COUNT($D$24:$D$452)-COUNT(D329:$D$452))","v":""}]
[null,{"$f":"IF(D329=\"\",\"\",COUNT($D$24:$D$452)-COUNT(D330:$D$452))","v":""}]
[null,{"$f":"IF(D330=\"\",\"\",COUNT($D$24:$D$452)-COUNT(D331:$D$452))","v":""}]
[null,{"$f":"IF(D331=\"\",\"\",COUNT($D$24:$D$452)-COUNT(D332:$D$452))","v":""}]
[null,{"$f":"IF(D332=\"\",\"\",COUNT($D$24:$D$452)-COUNT(D333:$D$452))","v":""}]
[null,{"$f":"IF(D333=\"\",\"\",COUNT($D$24:$D$452)-COUNT(D334:$D$452))","v":""}]
[null,{"$f":"IF(D334=\"\",\"\",COUNT($D$24:$D$452)-COUNT(D335:$D$452))","v":""}]
[null,{"$f":"IF(D335=\"\",\"\",COUNT($D$24:$D$452)-COUNT(D336:$D$452))","v":""}]
[null,{"$f":"IF(D336=\"\",\"\",COUNT($D$24:$D$452)-COUNT(D337:$D$452))","v":""}]
[null,{"$f":"IF(D337=\"\",\"\",COUNT($D$24:$D$452)-COUNT(D338:$D$452))","v":""}]
[null,{"$f":"IF(D338=\"\",\"\",COUNT($D$24:$D$452)-COUNT(D339:$D$452))","v":""}]
[null,{"$f":"IF(D339=\"\",\"\",COUNT($D$24:$D$452)-COUNT(D340:$D$452))","v":""}]
[null,{"$f":"IF(D340=\"\",\"\",COUNT($D$24:$D$452)-COUNT(D341:$D$452))","v":""}]
[null,{"$f":"IF(D341=\"\",\"\",COUNT($D$24:$D$452)-COUNT(D342:$D$452))","v":""}]
[null,{"$f":"IF(D342=\"\",\"\",COUNT($D$24:$D$452)-COUNT(D343:$D$452))","v":""}]
[null,{"$f":"IF(D343=\"\",\"\",COUNT($D$24:$D$452)-COUNT(D344:$D$452))","v":""}]
[null,{"$f":"IF(D344=\"\",\"\",COUNT($D$24:$D$452)-COUNT(D345:$D$452))","v":""}]
[null,{"$f":"IF(D345=\"\",\"\",COUNT($D$24:$D$452)-COUNT(D346:$D$452))","v":""}]
[null,{"$f":"IF(D346=\"\",\"\",COUNT($D$24:$D$452)-COUNT(D347:$D$452))","v":""}]
[null,{"$f":"IF(D347=\"\",\"\",COUNT($D$24:$D$452)-COUNT(D348:$D$452))","v":""}]
[null,{"$f":"IF(D348=\"\",\"\",COUNT($D$24:$D$452)-COUNT(D349:$D$452))","v":""}]
[null,{"$f":"IF(D349=\"\",\"\",COUNT($D$24:$D$452)-COUNT(D350:$D$452))","v":""}]
[null,{"$f":"IF(D350=\"\",\"\",COUNT($D$24:$D$452)-COUNT(D351:$D$452))","v":""}]
[null,{"$f":"IF(D351=\"\",\"\",COUNT($D$24:$D$452)-COUNT(D352:$D$452))","v":""}]
[null,{"$f":"IF(D352=\"\",\"\",COUNT($D$24:$D$452)-COUNT(D353:$D$452))","v":""}]
[null,{"$f":"IF(D353=\"\",\"\",COUNT($D$24:$D$452)-COUNT(D354:$D$452))","v":""}]
[null,{"$f":"IF(D354=\"\",\"\",COUNT($D$24:$D$452)-COUNT(D355:$D$452))","v":""}]
[null,{"$f":"IF(D355=\"\",\"\",COUNT($D$24:$D$452)-COUNT(D356:$D$452))","v":""}]
[null,{"$f":"IF(D356=\"\",\"\",COUNT($D$24:$D$452)-COUNT(D357:$D$452))","v":""}]
[null,{"$f":"IF(D357=\"\",\"\",COUNT($D$24:$D$452)-COUNT(D358:$D$452))","v":""}]
[null,{"$f":"IF(D358=\"\",\"\",COUNT($D$24:$D$452)-COUNT(D359:$D$452))","v":""}]
[null,{"$f":"IF(D359=\"\",\"\",COUNT($D$24:$D$452)-COUNT(D360:$D$452))","v":""}]
[null,{"$f":"IF(D360=\"\",\"\",COUNT($D$24:$D$452)-COUNT(D361:$D$452))","v":""}]
[null,{"$f":"IF(D361=\"\",\"\",COUNT($D$24:$D$452)-COUNT(D362:$D$452))","v":""}]
[null,{"$f":"IF(D362=\"\",\"\",COUNT($D$24:$D$452)-COUNT(D363:$D$452))","v":""}]
[null,{"$f":"IF(D363=\"\",\"\",COUNT($D$24:$D$452)-COUNT(D364:$D$452))","v":""}]
[null,{"$f":"IF(D364=\"\",\"\",COUNT($D$24:$D$452)-COUNT(D365:$D$452))","v":""}]
[null,{"$f":"IF(D365=\"\",\"\",COUNT($D$24:$D$452)-COUNT(D366:$D$452))","v":""}]
[null,{"$f":"IF(D366=\"\",\"\",COUNT($D$24:$D$452)-COUNT(D367:$D$452))","v":""}]
[null,{"$f":"IF(D367=\"\",\"\",COUNT($D$24:$D$452)-COUNT(D368:$D$452))","v":""}]
[null,{"$f":"IF(D368=\"\",\"\",COUNT($D$24:$D$452)-COUNT(D369:$D$452))","v":""}]
[null,{"$f":"IF(D369=\"\",\"\",COUNT($D$24:$D$452)-COUNT(D370:$D$452))","v":""}]
[null,{"$f":"IF(D370=\"\",\"\",COUNT($D$24:$D$452)-COUNT(D371:$D$452))","v":""}]
[null,{"$f":"IF(D371=\"\",\"\",COUNT($D$24:$D$452)-COUNT(D372:$D$452))","v":""}]
[null,{"$f":"IF(D372=\"\",\"\",COUNT($D$24:$D$452)-COUNT(D373:$D$452))","v":""}]
[null,{"$f":"IF(D373=\"\",\"\",COUNT($D$24:$D$452)-COUNT(D374:$D$452))","v":""}]
[null,{"$f":"IF(D374=\"\",\"\",COUNT($D$24:$D$452)-COUNT(D375:$D$452))","v":""}]
[null,{"$f":"IF(D375=\"\",\"\",COUNT($D$24:$D$452)-COUNT(D376:$D$452))","v":""}]
[null,{"$f":"IF(D376=\"\",\"\",COUNT($D$24:$D$452)-COUNT(D377:$D$452))","v":""}]
[null,{"$f":"IF(D377=\"\",\"\",COUNT($D$24:$D$452)-COUNT(D378:$D$452))","v":""}]
[null,{"$f":"IF(D378=\"\",\"\",COUNT($D$24:$D$452)-COUNT(D379:$D$452))","v":""}]
[null,{"$f":"IF(D379=\"\",\"\",COUNT($D$24:$D$452)-COUNT(D380:$D$452))","v":""}]
[null,{"$f":"IF(D380=\"\",\"\",COUNT($D$24:$D$452)-COUNT(D381:$D$452))","v":""}]
[null,{"$f":"IF(D381=\"\",\"\",COUNT($D$24:$D$452)-COUNT(D382:$D$452))","v":""}]
[null,{"$f":"IF(D382=\"\",\"\",COUNT($D$24:$D$452)-COUNT(D383:$D$452))","v":""}]
[null,{"$f":"IF(D383=\"\",\"\",COUNT($D$24:$D$452)-COUNT(D384:$D$452))","v":""}]
[null,{"$f":"IF(D384=\"\",\"\",COUNT($D$24:$D$452)-COUNT(D385:$D$452))","v":""}]
[null,{"$f":"IF(D385=\"\",\"\",COUNT($D$24:$D$452)-COUNT(D386:$D$452))","v":""}]
[null,{"$f":"IF(D386=\"\",\"\",COUNT($D$24:$D$452)-COUNT(D387:$D$452))","v":""}]
[null,{"$f":"IF(D387=\"\",\"\",COUNT($D$24:$D$452)-COUNT(D388:$D$452))","v":""}]
[null,{"$f":"IF(D388=\"\",\"\",COUNT($D$24:$D$452)-COUNT(D389:$D$452))","v":""}]
[null,{"$f":"IF(D389=\"\",\"\",COUNT($D$24:$D$452)-COUNT(D390:$D$452))","v":""}]
[null,{"$f":"IF(D390=\"\",\"\",COUNT($D$24:$D$452)-COUNT(D391:$D$452))","v":""}]
[null,{"$f":"IF(D391=\"\",\"\",COUNT($D$24:$D$452)-COUNT(D392:$D$452))","v":""}]
[null,{"$f":"IF(D392=\"\",\"\",COUNT($D$24:$D$452)-COUNT(D393:$D$452))","v":""}]
[null,{"$f":"IF(D393=\"\",\"\",COUNT($D$24:$D$452)-COUNT(D394:$D$452))","v":""}]
[null,{"$f":"IF(D394=\"\",\"\",COUNT($D$24:$D$452)-COUNT(D395:$D$452))","v":""}]
[null,{"$f":"IF(D395=\"\",\"\",COUNT($D$24:$D$452)-COUNT(D396:$D$452))","v":""}]
[null,{"$f":"IF(D396=\"\",\"\",COUNT($D$24:$D$452)-COUNT(D397:$D$452))","v":""}]
[null,{"$f":"IF(D397=\"\",\"\",COUNT($D$24:$D$452)-COUNT(D398:$D$452))","v":""}]
[null,{"$f":"IF(D398=\"\",\"\",COUNT($D$24:$D$452)-COUNT(D399:$D$452))","v":""}]
[null,{"$f":"IF(D399=\"\",\"\",COUNT($D$24:$D$452)-COUNT(D400:$D$452))","v":""}]
[null,{"$f":"IF(D400=\"\",\"\",COUNT($D$24:$D$452)-COUNT(D401:$D$452))","v":""}]
[null,{"$f":"IF(D401=\"\",\"\",COUNT($D$24:$D$452)-COUNT(D402:$D$452))","v":""}]
[null,{"$f":"IF(D402=\"\",\"\",COUNT($D$24:$D$452)-COUNT(D403:$D$452))","v":""}]
[null,{"$f":"IF(D403=\"\",\"\",COUNT($D$24:$D$452)-COUNT(D404:$D$452))","v":""}]
[null,{"$f":"IF(D404=\"\",\"\",COUNT($D$24:$D$452)-COUNT(D405:$D$452))","v":""}]
[null,{"$f":"IF(D405=\"\",\"\",COUNT($D$24:$D$452)-COUNT(D406:$D$452))","v":""}]
[null,{"$f":"IF(D406=\"\",\"\",COUNT($D$24:$D$452)-COUNT(D407:$D$452))","v":""}]
[null,{"$f":"IF(D407=\"\",\"\",COUNT($D$24:$D$452)-COUNT(D408:$D$452))","v":""}]
[null,{"$f":"IF(D408=\"\",\"\",COUNT($D$24:$D$452)-COUNT(D409:$D$452))","v":""}]
[null,{"$f":"IF(D409=\"\",\"\",COUNT($D$24:$D$452)-COUNT(D410:$D$452))","v":""}]
[null,{"$f":"IF(D410=\"\",\"\",COUNT($D$24:$D$452)-COUNT(D411:$D$452))","v":""}]
[null,{"$f":"IF(D411=\"\",\"\",COUNT($D$24:$D$452)-COUNT(D412:$D$452))","v":""}]
[null,{"$f":"IF(D412=\"\",\"\",COUNT($D$24:$D$452)-COUNT(D413:$D$452))","v":""}]
[null,{"$f":"IF(D413=\"\",\"\",COUNT($D$24:$D$452)-COUNT(D414:$D$452))","v":""}]
[null,{"$f":"IF(D414=\"\",\"\",COUNT($D$24:$D$452)-COUNT(D415:$D$452))","v":""}]
[null,{"$f":"IF(D415=\"\",\"\",COUNT($D$24:$D$452)-COUNT(D416:$D$452))","v":""}]
[null,{"$f":"IF(D416=\"\",\"\",COUNT($D$24:$D$452)-COUNT(D417:$D$452))","v":""}]
[null,{"$f":"IF(D417=\"\",\"\",COUNT($D$24:$D$452)-COUNT(D418:$D$452))","v":""}]
[null,{"$f":"IF(D418=\"\",\"\",COUNT($D$24:$D$452)-COUNT(D419:$D$452))","v":""}]
[null,{"$f":"IF(D419=\"\",\"\",COUNT($D$24:$D$452)-COUNT(D420:$D$452))","v":""}]
[null,{"$f":"IF(D420=\"\",\"\",COUNT($D$24:$D$452)-COUNT(D421:$D$452))","v":""}]
[null,{"$f":"IF(D421=\"\",\"\",COUNT($D$24:$D$452)-COUNT(D422:$D$452))","v":""}]
[null,{"$f":"IF(D422=\"\",\"\",COUNT($D$24:$D$452)-COUNT(D423:$D$452))","v":""}]
[null,{"$f":"IF(D423=\"\",\"\",COUNT($D$24:$D$452)-COUNT(D424:$D$452))","v":""}]
[null,{"$f":"IF(D424=\"\",\"\",COUNT($D$24:$D$452)-COUNT(D425:$D$452))","v":""}]
[null,{"$f":"IF(D425=\"\",\"\",COUNT($D$24:$D$452)-COUNT(D426:$D$452))","v":""}]
[null,{"$f":"IF(D426=\"\",\"\",COUNT($D$24:$D$452)-COUNT(D427:$D$452))","v":""}]
[null,{"$f":"IF(D427=\"\",\"\",COUNT($D$24:$D$452)-COUNT(D428:$D$452))","v":""}]
[null,{"$f":"IF(D428=\"\",\"\",COUNT($D$24:$D$452)-COUNT(D429:$D$452))","v":""}]
[null,{"$f":"IF(D429=\"\",\"\",COUNT($D$24:$D$452)-COUNT(D430:$D$452))","v":""}]
[null,{"$f":"IF(D430=\"\",\"\",COUNT($D$24:$D$452)-COUNT(D431:$D$452))","v":""}]
[null,{"$f":"IF(D431=\"\",\"\",COUNT($D$24:$D$452)-COUNT(D432:$D$452))","v":""}]
[null,{"$f":"IF(D432=\"\",\"\",COUNT($D$24:$D$452)-COUNT(D433:$D$452))","v":""}]
[null,{"$f":"IF(D433=\"\",\"\",COUNT($D$24:$D$452)-COUNT(D434:$D$452))","v":""}]
[null,{"$f":"IF(D434=\"\",\"\",COUNT($D$24:$D$452)-COUNT(D435:$D$452))","v":""}]
[null,{"$f":"IF(D435=\"\",\"\",COUNT($D$24:$D$452)-COUNT(D436:$D$452))","v":""}]
[null,{"$f":"IF(D436=\"\",\"\",COUNT($D$24:$D$452)-COUNT(D437:$D$452))","v":""}]
[null,{"$f":"IF(D437=\"\",\"\",COUNT($D$24:$D$452)-COUNT(D438:$D$452))","v":""}]
[null,{"$f":"IF(D438=\"\",\"\",COUNT($D$24:$D$452)-COUNT(D439:$D$452))","v":""}]
[null,{"$f":"IF(D439=\"\",\"\",COUNT($D$24:$D$452)-COUNT(D440:$D$452))","v":""}]
[null,{"$f":"IF(D440=\"\",\"\",COUNT($D$24:$D$452)-COUNT(D441:$D$452))","v":""}]
[null,{"$f":"IF(D441=\"\",\"\",COUNT($D$24:$D$452)-COUNT(D442:$D$452))","v":""}]
[null,{"$f":"IF(D442=\"\",\"\",COUNT($D$24:$D$452)-COUNT(D443:$D$452))","v":""}]
[null,{"$f":"IF(D443=\"\",\"\",COUNT($D$24:$D$452)-COUNT(D444:$D$452))","v":""}]
[null,{"$f":"IF(D444=\"\",\"\",COUNT($D$24:$D$452)-COUNT(D445:$D$452))","v":""}]
[null,{"$f":"IF(D445=\"\",\"\",COUNT($D$24:$D$452)-COUNT(D446:$D$452))","v":""}]
[null,{"$f":"IF(D446=\"\",\"\",COUNT($D$24:$D$452)-COUNT(D447:$D$452))","v":""}]
[null,{"$f":"IF(D447=\"\",\"\",COUNT($D$24:$D$452)-COUNT(D448:$D$452))","v":""}]
[null,{"$f":"IF(D448=\"\",\"\",COUNT($D$24:$D$452)-COUNT(D449:$D$452))","v":""}]
[null,{"$f":"IF(D449=\"\",\"\",COUNT($D$24:$D$452)-COUNT(D450:$D$452))","v":""}]
[null,{"$f":"IF(D450=\"\",\"\",COUNT($D$24:$D$452)-COUNT(D451:$D$452))","v":""}]
[null,{"$f":"IF(D451=\"\",\"\",COUNT($D$24:$D$452)-COUNT(D$452:$D452))","v":""}]
[null,{"$f":"IF(D452=\"\",\"\",COUNT($D$24:$D$452)-COUNT(D$452:$D453))","v":""}]
[null,{"$f":"IF(D453=\"\",\"\",COUNT($D$24:$D$452)-COUNT(D$452:$D454))","v":""}]
[null,{"$f":"IF(D454=\"\",\"\",COUNT($D$24:$D$452)-COUNT(D$452:$D455))","v":""}]
[null,{"$f":"IF(D455=\"\",\"\",COUNT($D$24:$D$452)-COUNT(D$452:$D456))","v":""}]
[null,{"$f":"IF(D456=\"\",\"\",COUNT($D$24:$D$452)-COUNT(D$452:$D457))","v":""}]
[null,{"$f":"IF(D457=\"\",\"\",COUNT($D$24:$D$452)-COUNT(D$452:$D458))","v":""}]
[null,{"$f":"IF(D458=\"\",\"\",COUNT($D$24:$D$452)-COUNT(D$452:$D459))","v":""}]
[null,{"$f":"IF(D459=\"\",\"\",COUNT($D$24:$D$452)-COUNT(D$452:$D460))","v":""}]
[null,{"$f":"IF(D460=\"\",\"\",COUNT($D$24:$D$452)-COUNT(D$452:$D461))","v":""}]
[null,{"$f":"IF(D461=\"\",\"\",COUNT($D$24:$D$452)-COUNT(D$452:$D462))","v":""}]
[null,{"$f":"IF(D462=\"\",\"\",COUNT($D$24:$D$452)-COUNT(D$452:$D463))","v":""}]
[null,{"$f":"IF(D463=\"\",\"\",COUNT($D$24:$D$452)-COUNT(D$452:$D464))","v":""}]
[null,{"$f":"IF(D464=\"\",\"\",COUNT($D$24:$D$452)-COUNT(D$452:$D465))","v":""}]
[null,{"$f":"IF(D465=\"\",\"\",COUNT($D$24:$D$452)-COUNT(D$452:$D466))","v":""}]
[null,{"$f":"IF(D466=\"\",\"\",COUNT($D$24:$D$452)-COUNT(D$452:$D467))","v":""}]
[null,{"$f":"IF(D467=\"\",\"\",COUNT($D$24:$D$452)-COUNT(D$452:$D468))","v":""}]
[null,{"$f":"IF(D468=\"\",\"\",COUNT($D$24:$D$452)-COUNT(D$452:$D469))","v":""}]
[null,{"$f":"IF(D469=\"\",\"\",COUNT($D$24:$D$452)-COUNT(D$452:$D470))","v":""}]
[null,{"$f":"IF(D470=\"\",\"\",COUNT($D$24:$D$452)-COUNT(D$452:$D471))","v":""}]
[null,{"$f":"IF(D471=\"\",\"\",COUNT($D$24:$D$452)-COUNT(D$452:$D472))","v":""}]
[null,{"$f":"IF(D472=\"\",\"\",COUNT($D$24:$D$452)-COUNT(D$452:$D473))","v":""}]
[null,{"$f":"IF(D473=\"\",\"\",COUNT($D$24:$D$452)-COUNT(D$452:$D474))","v":""}]
[null,{"$f":"IF(D474=\"\",\"\",COUNT($D$24:$D$452)-COUNT(D$452:$D475))","v":""}]
[null,{"$f":"IF(D475=\"\",\"\",COUNT($D$24:$D$452)-COUNT(D$452:$D476))","v":""}]
[null,{"$f":"IF(D476=\"\",\"\",COUNT($D$24:$D$452)-COUNT(D$452:$D477))","v":""}]
[null,{"$f":"IF(D477=\"\",\"\",COUNT($D$24:$D$452)-COUNT(D$452:$D478))","v":""}]
[null,{"$f":"IF(D478=\"\",\"\",COUNT($D$24:$D$452)-COUNT(D$452:$D479))","v":""}]
[null,{"$f":"IF(D479=\"\",\"\",COUNT($D$24:$D$452)-COUNT(D$452:$D480))","v":""}]
[null,{"$f":"IF(D480=\"\",\"\",COUNT($D$24:$D$452)-COUNT(D$452:$D481))","v":""}]
[null,{"$f":"IF(D481=\"\",\"\",COUNT($D$24:$D$452)-COUNT(D$452:$D482))","v":""}]
[null,{"$f":"IF(D482=\"\",\"\",COUNT($D$24:$D$452)-COUNT(D$452:$D483))","v":""}]
[null,{"$f":"IF(D483=\"\",\"\",COUNT($D$24:$D$452)-COUNT(D$452:$D484))","v":""}]
[null,{"$f":"IF(D484=\"\",\"\",COUNT($D$24:$D$452)-COUNT(D$452:$D485))","v":""}]
[null,{"$f":"IF(D485=\"\",\"\",COUNT($D$24:$D$452)-COUNT(D$452:$D486))","v":""}]
[null,{"$f":"IF(D486=\"\",\"\",COUNT($D$24:$D$452)-COUNT(D$452:$D487))","v":""}]
[null,{"$f":"IF(D487=\"\",\"\",COUNT($D$24:$D$452)-COUNT(D$452:$D488))","v":""}]
[null,{"$f":"IF(D488=\"\",\"\",COUNT($D$24:$D$452)-COUNT(D$452:$D489))","v":""}]
[null,{"$f":"IF(D489=\"\",\"\",COUNT($D$24:$D$452)-COUNT(D$452:$D490))","v":""}]
[null,{"$f":"IF(D490=\"\",\"\",COUNT($D$24:$D$452)-COUNT(D$452:$D491))","v":""}]
[null,{"$f":"IF(D491=\"\",\"\",COUNT($D$24:$D$452)-COUNT(D$452:$D492))","v":""}]
[null,{"$f":"IF(D492=\"\",\"\",COUNT($D$24:$D$452)-COUNT(D$452:$D493))","v":""}]
[null,{"$f":"IF(D493=\"\",\"\",COUNT($D$24:$D$452)-COUNT(D$452:$D494))","v":""}]
[null,{"$f":"IF(D494=\"\",\"\",COUNT($D$24:$D$452)-COUNT(D$452:$D495))","v":""}]
[null,{"$f":"IF(D495=\"\",\"\",COUNT($D$24:$D$452)-COUNT(D$452:$D496))","v":""}]
[null,{"$f":"IF(D496=\"\",\"\",COUNT($D$24:$D$452)-COUNT(D$452:$D497))","v":""}]
[null,{"$f":"IF(D497=\"\",\"\",COUNT($D$24:$D$452)-COUNT(D$452:$D498))","v":""}]
[null,{"$f":"IF(D498=\"\",\"\",COUNT($D$24:$D$452)-COUNT(D$452:$D499))","v":""}]
[null,{"$f":"IF(D499=\"\",\"\",COUNT($D$24:$D$452)-COUNT(D$452:$D500))","v":""}]
[null,{"$f":"IF(D500=\"\",\"\",COUNT($D$24:$D$452)-COUNT(D$452:$D501))","v":""}]
[null,{"$f":"IF(D501=\"\",\"\",COUNT($D$24:$D$452)-COUNT(D$452:$D502))","v":""}]
[null,{"$f":"IF(D502=\"\",\"\",COUNT($D$24:$D$452)-COUNT(D$452:$D503))","v":""}]
[null,{"$f":"IF(D503=\"\",\"\",COUNT($D$24:$D$452)-COUNT(D$452:$D504))","v":""}]
[null,{"$f":"IF(D504=\"\",\"\",COUNT($D$24:$D$452)-COUNT(D$452:$D505))","v":""}]
[null,{"$f":"IF(D505=\"\",\"\",COUNT($D$24:$D$452)-COUNT(D$452:$D506))","v":""}]
[null,{"$f":"IF(D506=\"\",\"\",COUNT($D$24:$D$452)-COUNT(D$452:$D507))","v":""}]
[null,{"$f":"IF(D507=\"\",\"\",COUNT($D$24:$D$452)-COUNT(D$452:$D508))","v":""}]
[null,{"$f":"IF(D508=\"\",\"\",COUNT($D$24:$D$452)-COUNT(D$452:$D509))","v":""}]
[null,{"$f":"IF(D509=\"\",\"\",COUNT($D$24:$D$452)-COUNT(D$452:$D510))","v":""}]
[null,{"$f":"IF(D510=\"\",\"\",COUNT($D$24:$D$452)-COUNT(D$452:$D511))","v":""}]
[null,{"$f":"IF(D511=\"\",\"\",COUNT($D$24:$D$452)-COUNT(D$452:$D512))","v":""}]
[null,{"$f":"IF(D512=\"\",\"\",COUNT($D$24:$D$452)-COUNT(D$452:$D513))","v":""}]
[null,{"$f":"IF(D513=\"\",\"\",COUNT($D$24:$D$452)-COUNT(D$452:$D514))","v":""}]
[null,{"$f":"IF(D514=\"\",\"\",COUNT($D$24:$D$452)-COUNT(D$452:$D515))","v":""}]
[null,{"$f":"IF(D515=\"\",\"\",COUNT($D$24:$D$452)-COUNT(D$452:$D516))","v":""}]
[null,{"$f":"IF(D516=\"\",\"\",COUNT($D$24:$D$452)-COUNT(D$452:$D517))","v":""}]
[null,{"$f":"IF(D517=\"\",\"\",COUNT($D$24:$D$452)-COUNT(D$452:$D518))","v":""}]
[null,{"$f":"IF(D518=\"\",\"\",COUNT($D$24:$D$452)-COUNT(D$452:$D519))","v":""}]
[null,{"$f":"IF(D519=\"\",\"\",COUNT($D$24:$D$452)-COUNT(D$452:$D520))","v":""}]
[null,{"$f":"IF(D520=\"\",\"\",COUNT($D$24:$D$452)-COUNT(D$452:$D521))","v":""}]
[null,{"$f":"IF(D521=\"\",\"\",COUNT($D$24:$D$452)-COUNT(D$452:$D522))","v":""}]
[null,{"$f":"IF(D522=\"\",\"\",COUNT($D$24:$D$452)-COUNT(D$452:$D523))","v":""}]
[null,{"$f":"IF(D523=\"\",\"\",COUNT($D$24:$D$452)-COUNT(D$452:$D524))","v":""}]
[null,{"$f":"IF(D524=\"\",\"\",COUNT($D$24:$D$452)-COUNT(D$452:$D525))","v":""}]
[null,{"$f":"IF(D525=\"\",\"\",COUNT($D$24:$D$452)-COUNT(D$452:$D526))","v":""}]
[null,{"$f":"IF(D526=\"\",\"\",COUNT($D$24:$D$452)-COUNT(D$452:$D527))","v":""}]
[null,{"$f":"IF(D527=\"\",\"\",COUNT($D$24:$D$452)-COUNT(D$452:$D528))","v":""}]
[null,{"$f":"IF(D528=\"\",\"\",COUNT($D$24:$D$452)-COUNT(D$452:$D529))","v":""}]
[null,{"$f":"IF(D529=\"\",\"\",COUNT($D$24:$D$452)-COUNT(D$452:$D530))","v":""}]
[null,{"$f":"IF(D530=\"\",\"\",COUNT($D$24:$D$452)-COUNT(D$452:$D531))","v":""}]
[null,{"$f":"IF(D531=\"\",\"\",COUNT($D$24:$D$452)-COUNT(D$452:$D532))","v":""}]
[null,{"$f":"IF(D532=\"\",\"\",COUNT($D$24:$D$452)-COUNT(D$452:$D533))","v":""}]
[null,{"$f":"IF(D533=\"\",\"\",COUNT($D$24:$D$452)-COUNT(D$452:$D534))","v":""}]
[null,{"$f":"IF(D534=\"\",\"\",COUNT($D$24:$D$452)-COUNT(D$452:$D535))","v":""}]
[null,{"$f":"IF(D535=\"\",\"\",COUNT($D$24:$D$452)-COUNT(D$452:$D536))","v":""}]
[null,{"$f":"IF(D536=\"\",\"\",COUNT($D$24:$D$452)-COUNT(D$452:$D537))","v":""}]
[null,{"$f":"IF(D537=\"\",\"\",COUNT($D$24:$D$452)-COUNT(D$452:$D538))","v":""}]
[null,{"$f":"IF(D538=\"\",\"\",COUNT($D$24:$D$452)-COUNT(D$452:$D539))","v":""}]
[null,{"$f":"IF(D539=\"\",\"\",COUNT($D$24:$D$452)-COUNT(D$452:$D540))","v":""}]
[null,{"$f":"IF(D540=\"\",\"\",COUNT($D$24:$D$452)-COUNT(D$452:$D541))","v":""}]
[null,{"$f":"IF(D541=\"\",\"\",COUNT($D$24:$D$452)-COUNT(D$452:$D542))","v":""}]
[null,{"$f":"IF(D542=\"\",\"\",COUNT($D$24:$D$452)-COUNT(D$452:$D543))","v":""}]
[null,{"$f":"IF(D543=\"\",\"\",COUNT($D$24:$D$452)-COUNT(D$452:$D544))","v":""}]
[null,{"$f":"IF(D544=\"\",\"\",COUNT($D$24:$D$452)-COUNT(D$452:$D545))","v":""}]
[null,{"$f":"IF(D545=\"\",\"\",COUNT($D$24:$D$452)-COUNT(D$452:$D546))","v":""}]
[null,{"$f":"IF(D546=\"\",\"\",COUNT($D$24:$D$452)-COUNT(D$452:$D547))","v":""}]
[null,{"$f":"IF(D547=\"\",\"\",COUNT($D$24:$D$452)-COUNT(D$452:$D548))","v":""}]
[null,{"$f":"IF(D548=\"\",\"\",COUNT($D$24:$D$452)-COUNT(D$452:$D549))","v":""}]
[null,{"$f":"IF(D549=\"\",\"\",COUNT($D$24:$D$452)-COUNT(D$452:$D550))","v":""}]
[null,{"$f":"IF(D550=\"\",\"\",COUNT($D$24:$D$452)-COUNT(D$452:$D551))","v":""}]
[null,{"$f":"IF(D551=\"\",\"\",COUNT($D$24:$D$452)-COUNT(D$452:$D552))","v":""}]
[null,{"$f":"IF(D552=\"\",\"\",COUNT($D$24:$D$452)-COUNT(D$452:$D553))","v":""}]
[null,{"$f":"IF(D553=\"\",\"\",COUNT($D$24:$D$452)-COUNT(D$452:$D554))","v":""}]
[null,{"$f":"IF(D554=\"\",\"\",COUNT($D$24:$D$452)-COUNT(D$452:$D555))","v":""}]
[null,{"$f":"IF(D555=\"\",\"\",COUNT($D$24:$D$452)-COUNT(D$452:$D556))","v":""}]
[null,{"$f":"IF(D556=\"\",\"\",COUNT($D$24:$D$452)-COUNT(D$452:$D557))","v":""}]
[null,{"$f":"IF(D557=\"\",\"\",COUNT($D$24:$D$452)-COUNT(D$452:$D558))","v":""}]
[null,{"$f":"IF(D558=\"\",\"\",COUNT($D$24:$D$452)-COUNT(D$452:$D559))","v":""}]
[null,{"$f":"IF(D559=\"\",\"\",COUNT($D$24:$D$452)-COUNT(D$452:$D560))","v":""}]
[null,{"$f":"IF(D560=\"\",\"\",COUNT($D$24:$D$452)-COUNT(D$452:$D561))","v":""}]
[null,{"$f":"IF(D561=\"\",\"\",COUNT($D$24:$D$452)-COUNT(D$452:$D562))","v":""}]
[null,{"$f":"IF(D562=\"\",\"\",COUNT($D$24:$D$452)-COUNT(D$452:$D563))","v":""}]
[null,{"$f":"IF(D563=\"\",\"\",COUNT($D$24:$D$452)-COUNT(D$452:$D564))","v":""}]
[null,{"$f":"IF(D564=\"\",\"\",COUNT($D$24:$D$452)-COUNT(D$452:$D565))","v":""}]
[null,{"$f":"IF(D565=\"\",\"\",COUNT($D$24:$D$452)-COUNT(D$452:$D566))","v":""}]
[null,{"$f":"IF(D566=\"\",\"\",COUNT($D$24:$D$452)-COUNT(D$452:$D567))","v":""}]
[null,{"$f":"IF(D567=\"\",\"\",COUNT($D$24:$D$452)-COUNT(D$452:$D568))","v":""}]
[null,{"$f":"IF(D568=\"\",\"\",COUNT($D$24:$D$452)-COUNT(D$452:$D569))","v":""}]
[null,{"$f":"IF(D569=\"\",\"\",COUNT($D$24:$D$452)-COUNT(D$452:$D570))","v":""}]
[null,{"$f":"IF(D570=\"\",\"\",COUNT($D$24:$D$452)-COUNT(D$452:$D571))","v":""}]
[null,{"$f":"IF(D571=\"\",\"\",COUNT($D$24:$D$452)-COUNT(D$452:$D572))","v":""}]
[null,{"$f":"IF(D572=\"\",\"\",COUNT($D$24:$D$452)-COUNT(D$452:$D573))","v":""}]
[null,{"$f":"IF(D573=\"\",\"\",COUNT($D$24:$D$452)-COUNT(D$452:$D574))","v":""}]
[null,{"$f":"IF(D574=\"\",\"\",COUNT($D$24:$D$452)-COUNT(D$452:$D575))","v":""}]
[null,{"$f":"IF(D575=\"\",\"\",COUNT($D$24:$D$452)-COUNT(D$452:$D576))","v":""}]
[null,{"$f":"IF(D576=\"\",\"\",COUNT($D$24:$D$452)-COUNT(D$452:$D577))","v":""}]
[null,{"$f":"IF(D577=\"\",\"\",COUNT($D$24:$D$452)-COUNT(D$452:$D578))","v":""}]
[null,{"$f":"IF(D578=\"\",\"\",COUNT($D$24:$D$452)-COUNT(D$452:$D579))","v":""}]
[null,{"$f":"IF(D579=\"\",\"\",COUNT($D$24:$D$452)-COUNT(D$452:$D580))","v":""}]
[null,{"$f":"IF(D580=\"\",\"\",COUNT($D$24:$D$452)-COUNT(D$452:$D581))","v":""}]
[null,{"$f":"IF(D581=\"\",\"\",COUNT($D$24:$D$452)-COUNT(D$452:$D582))","v":""}]
[null,{"$f":"IF(D582=\"\",\"\",COUNT($D$24:$D$452)-COUNT(D$452:$D583))","v":""}]
[null,{"$f":"IF(D583=\"\",\"\",COUNT($D$24:$D$452)-COUNT(D$452:$D584))","v":""}]
[null,{"$f":"IF(D584=\"\",\"\",COUNT($D$24:$D$452)-COUNT(D$452:$D585))","v":""}]
[null,{"$f":"IF(D585=\"\",\"\",COUNT($D$24:$D$452)-COUNT(D$452:$D586))","v":""}]
[null,{"$f":"IF(D586=\"\",\"\",COUNT($D$24:$D$452)-COUNT(D$452:$D587))","v":""}]
[null,{"$f":"IF(D587=\"\",\"\",COUNT($D$24:$D$452)-COUNT(D$452:$D588))","v":""}]
[null,{"$f":"IF(D588=\"\",\"\",COUNT($D$24:$D$452)-COUNT(D$452:$D589))","v":""}]
[null,{"$f":"IF(D589=\"\",\"\",COUNT($D$24:$D$452)-COUNT(D$452:$D590))","v":""}]
[null,{"$f":"IF(D590=\"\",\"\",COUNT($D$24:$D$452)-COUNT(D$452:$D591))","v":""}]
[null,{"$f":"IF(D591=\"\",\"\",COUNT($D$24:$D$452)-COUNT(D$452:$D592))","v":""}]
[null,{"$f":"IF(D592=\"\",\"\",COUNT($D$24:$D$452)-COUNT(D$452:$D593))","v":""}]
[null,{"$f":"IF(D593=\"\",\"\",COUNT($D$24:$D$452)-COUNT(D$452:$D594))","v":""}]
[null,{"$f":"IF(D594=\"\",\"\",COUNT($D$24:$D$452)-COUNT(D$452:$D595))","v":""}]
[null,{"$f":"IF(D595=\"\",\"\",COUNT($D$24:$D$452)-COUNT(D$452:$D596))","v":""}]
[null,{"$f":"IF(D596=\"\",\"\",COUNT($D$24:$D$452)-COUNT(D$452:$D597))","v":""}]
[null,{"$f":"IF(D597=\"\",\"\",COUNT($D$24:$D$452)-COUNT(D$452:$D598))","v":""}]
[null,{"$f":"IF(D598=\"\",\"\",COUNT($D$24:$D$452)-COUNT(D$452:$D599))","v":""}]
[null,{"$f":"IF(D599=\"\",\"\",COUNT($D$24:$D$452)-COUNT(D$452:$D600))","v":""}]
[null,{"$f":"IF(D600=\"\",\"\",COUNT($D$24:$D$452)-COUNT(D$452:$D601))","v":""}]
[null,{"$f":"IF(D601=\"\",\"\",COUNT($D$24:$D$452)-COUNT(D$452:$D602))","v":""}]
[null,{"$f":"IF(D602=\"\",\"\",COUNT($D$24:$D$452)-COUNT(D$452:$D603))","v":""}]
[null,{"$f":"IF(D603=\"\",\"\",COUNT($D$24:$D$452)-COUNT(D$452:$D604))","v":""}]
[null,{"$f":"IF(D604=\"\",\"\",COUNT($D$24:$D$452)-COUNT(D$452:$D605))","v":""}]
[null,{"$f":"IF(D605=\"\",\"\",COUNT($D$24:$D$452)-COUNT(D$452:$D606))","v":""}]
[null,{"$f":"IF(D606=\"\",\"\",COUNT($D$24:$D$452)-COUNT(D$452:$D607))","v":""}]
[null,{"$f":"IF(D607=\"\",\"\",COUNT($D$24:$D$452)-COUNT(D$452:$D608))","v":""}]
[null,{"$f":"IF(D608=\"\",\"\",COUNT($D$24:$D$452)-COUNT(D$452:$D609))","v":""}]
[null,{"$f":"IF(D609=\"\",\"\",COUNT($D$24:$D$452)-COUNT(D$452:$D610))","v":""}]
[null,{"$f":"IF(D610=\"\",\"\",COUNT($D$24:$D$452)-COUNT(D$452:$D611))","v":""}]
[null,{"$f":"IF(D611=\"\",\"\",COUNT($D$24:$D$452)-COUNT(D$452:$D612))","v":""}]
[null,{"$f":"IF(D612=\"\",\"\",COUNT($D$24:$D$452)-COUNT(D$452:$D613))","v":""}]
[null,{"$f":"IF(D613=\"\",\"\",COUNT($D$24:$D$452)-COUNT(D$452:$D614))","v":""}]
[null,{"$f":"IF(D614=\"\",\"\",COUNT($D$24:$D$452)-COUNT(D$452:$D615))","v":""}]
[null,{"$f":"IF(D615=\"\",\"\",COUNT($D$24:$D$452)-COUNT(D$452:$D616))","v":""}]
[null,{"$f":"IF(D616=\"\",\"\",COUNT($D$24:$D$452)-COUNT(D$452:$D617))","v":""}]
[null,{"$f":"IF(D617=\"\",\"\",COUNT($D$24:$D$452)-COUNT(D$452:$D618))","v":""}]
[null,{"$f":"IF(D618=\"\",\"\",COUNT($D$24:$D$452)-COUNT(D$452:$D619))","v":""}]
[null,{"$f":"IF(D619=\"\",\"\",COUNT($D$24:$D$452)-COUNT(D$452:$D620))","v":""}]
[null,{"$f":"IF(D620=\"\",\"\",COUNT($D$24:$D$452)-COUNT(D$452:$D621))","v":""}]
[null,{"$f":"IF(D621=\"\",\"\",COUNT($D$24:$D$452)-COUNT(D$452:$D622))","v":""}]
[null,{"$f":"IF(D622=\"\",\"\",COUNT($D$24:$D$452)-COUNT(D$452:$D623))","v":""}]
[null,{"$f":"IF(D623=\"\",\"\",COUNT($D$24:$D$452)-COUNT(D$452:$D624))","v":""}]
[null,{"$f":"IF(D624=\"\",\"\",COUNT($D$24:$D$452)-COUNT(D$452:$D625))","v":""}]
[null,{"$f":"IF(D625=\"\",\"\",COUNT($D$24:$D$452)-COUNT(D$452:$D626))","v":""}]
[null,{"$f":"IF(D626=\"\",\"\",COUNT($D$24:$D$452)-COUNT(D$452:$D627))","v":""}]
[null,{"$f":"IF(D627=\"\",\"\",COUNT($D$24:$D$452)-COUNT(D$452:$D628))","v":""}]
[null,{"$f":"IF(D628=\"\",\"\",COUNT($D$24:$D$452)-COUNT(D$452:$D629))","v":""}]
[null,{"$f":"IF(D629=\"\",\"\",COUNT($D$24:$D$452)-COUNT(D$452:$D630))","v":""}]
[null,{"$f":"IF(D630=\"\",\"\",COUNT($D$24:$D$452)-COUNT(D$452:$D631))","v":""}]
[null,{"$f":"IF(D631=\"\",\"\",COUNT($D$24:$D$452)-COUNT(D$452:$D632))","v":""}]
[null,{"$f":"IF(D632=\"\",\"\",COUNT($D$24:$D$452)-COUNT(D$452:$D633))","v":""}]
[null,{"$f":"IF(D633=\"\",\"\",COUNT($D$24:$D$452)-COUNT(D$452:$D634))","v":""}]
[null,{"$f":"IF(D634=\"\",\"\",COUNT($D$24:$D$452)-COUNT(D$452:$D635))","v":""}]
[null,{"$f":"IF(D635=\"\",\"\",COUNT($D$24:$D$452)-COUNT(D$452:$D636))","v":""}]
[null,{"$f":"IF(D636=\"\",\"\",COUNT($D$24:$D$452)-COUNT(D$452:$D637))","v":""}]
[null,{"$f":"IF(D637=\"\",\"\",COUNT($D$24:$D$452)-COUNT(D$452:$D638))","v":""}]
[null,{"$f":"IF(D638=\"\",\"\",COUNT($D$24:$D$452)-COUNT(D$452:$D639))","v":""}]
[null,{"$f":"IF(D639=\"\",\"\",COUNT($D$24:$D$452)-COUNT(D$452:$D640))","v":""}]
[null,{"$f":"IF(D640=\"\",\"\",COUNT($D$24:$D$452)-COUNT(D$452:$D641))","v":""}]
[null,{"$f":"IF(D641=\"\",\"\",COUNT($D$24:$D$452)-COUNT(D$452:$D642))","v":""}]
[null,{"$f":"IF(D642=\"\",\"\",COUNT($D$24:$D$452)-COUNT(D$452:$D643))","v":""}]
[null,{"$f":"IF(D643=\"\",\"\",COUNT($D$24:$D$452)-COUNT(D$452:$D644))","v":""}]
[null,{"$f":"IF(D644=\"\",\"\",COUNT($D$24:$D$452)-COUNT(D$452:$D645))","v":""}]
[null,{"$f":"IF(D645=\"\",\"\",COUNT($D$24:$D$452)-COUNT(D$452:$D646))","v":""}]
[null,{"$f":"IF(D646=\"\",\"\",COUNT($D$24:$D$452)-COUNT(D$452:$D647))","v":""}]
[null,{"$f":"IF(D647=\"\",\"\",COUNT($D$24:$D$452)-COUNT(D$452:$D648))","v":""}]
[null,{"$f":"IF(D648=\"\",\"\",COUNT($D$24:$D$452)-COUNT(D$452:$D649))","v":""}]
[null,{"$f":"IF(D649=\"\",\"\",COUNT($D$24:$D$452)-COUNT(D$452:$D650))","v":""}]
[null,{"$f":"IF(D650=\"\",\"\",COUNT($D$24:$D$452)-COUNT(D$452:$D651))","v":""}]
[null,{"$f":"IF(D651=\"\",\"\",COUNT($D$24:$D$452)-COUNT(D$452:$D652))","v":""}]
[null,{"$f":"IF(D652=\"\",\"\",COUNT($D$24:$D$452)-COUNT(D$452:$D653))","v":""}]
[null,{"$f":"IF(D653=\"\",\"\",COUNT($D$24:$D$452)-COUNT(D$452:$D654))","v":""}]
[null,{"$f":"IF(D654=\"\",\"\",COUNT($D$24:$D$452)-COUNT(D$452:$D655))","v":""}]
[null,{"$f":"IF(D655=\"\",\"\",COUNT($D$24:$D$452)-COUNT(D$452:$D656))","v":""}]
[null,{"$f":"IF(D656=\"\",\"\",COUNT($D$24:$D$452)-COUNT(D$452:$D657))","v":""}]
[null,{"$f":"IF(D657=\"\",\"\",COUNT($D$24:$D$452)-COUNT(D$452:$D658))","v":""}]
[null,{"$f":"IF(D658=\"\",\"\",COUNT($D$24:$D$452)-COUNT(D$452:$D659))","v":""}]
[null,{"$f":"IF(D659=\"\",\"\",COUNT($D$24:$D$452)-COUNT(D$452:$D660))","v":""}]
[null,{"$f":"IF(D660=\"\",\"\",COUNT($D$24:$D$452)-COUNT(D$452:$D661))","v":""}]
[null,{"$f":"IF(D661=\"\",\"\",COUNT($D$24:$D$452)-COUNT(D$452:$D662))","v":""}]
[null,{"$f":"IF(D662=\"\",\"\",COUNT($D$24:$D$452)-COUNT(D$452:$D663))","v":""}]
[null,{"$f":"IF(D663=\"\",\"\",COUNT($D$24:$D$452)-COUNT(D$452:$D664))","v":""}]
[null,{"$f":"IF(D664=\"\",\"\",COUNT($D$24:$D$452)-COUNT(D$452:$D665))","v":""}]
[null,{"$f":"IF(D665=\"\",\"\",COUNT($D$24:$D$452)-COUNT(D$452:$D666))","v":""}]
[null,{"$f":"IF(D666=\"\",\"\",COUNT($D$24:$D$452)-COUNT(D$452:$D667))","v":""}]
[null,{"$f":"IF(D667=\"\",\"\",COUNT($D$24:$D$452)-COUNT(D$452:$D668))","v":""}]
[null,{"$f":"IF(D668=\"\",\"\",COUNT($D$24:$D$452)-COUNT(D$452:$D669))","v":""}]
[null,{"$f":"IF(D669=\"\",\"\",COUNT($D$24:$D$452)-COUNT(D$452:$D670))","v":""}]
[null,{"$f":"IF(D670=\"\",\"\",COUNT($D$24:$D$452)-COUNT(D$452:$D671))","v":""}]
[null,{"$f":"IF(D671=\"\",\"\",COUNT($D$24:$D$452)-COUNT(D$452:$D672))","v":""}]
[null,{"$f":"IF(D672=\"\",\"\",COUNT($D$24:$D$452)-COUNT(D$452:$D673))","v":""}]
[null,{"$f":"IF(D673=\"\",\"\",COUNT($D$24:$D$452)-COUNT(D$452:$D674))","v":""}]
[null,{"$f":"IF(D674=\"\",\"\",COUNT($D$24:$D$452)-COUNT(D$452:$D675))","v":""}]
[null,{"$f":"IF(D675=\"\",\"\",COUNT($D$24:$D$452)-COUNT(D$452:$D676))","v":""}]
[null,{"$f":"IF(D676=\"\",\"\",COUNT($D$24:$D$452)-COUNT(D$452:$D677))","v":""}]
[null,{"$f":"IF(D677=\"\",\"\",COUNT($D$24:$D$452)-COUNT(D$452:$D678))","v":""}]
[null,{"$f":"IF(D678=\"\",\"\",COUNT($D$24:$D$452)-COUNT(D$452:$D679))","v":""}]
[null,{"$f":"IF(D679=\"\",\"\",COUNT($D$24:$D$452)-COUNT(D$452:$D680))","v":""}]
[null,{"$f":"IF(D680=\"\",\"\",COUNT($D$24:$D$452)-COUNT(D$452:$D681))","v":""}]
[null,{"$f":"IF(D681=\"\",\"\",COUNT($D$24:$D$452)-COUNT(D$452:$D682))","v":""}]
[null,{"$f":"IF(D682=\"\",\"\",COUNT($D$24:$D$452)-COUNT(D$452:$D683))","v":""}]
[null,{"$f":"IF(D683=\"\",\"\",COUNT($D$24:$D$452)-COUNT(D$452:$D684))","v":""}]
[null,{"$f":"IF(D684=\"\",\"\",COUNT($D$24:$D$452)-COUNT(D$452:$D685))","v":""}]
[null,{"$f":"IF(D685=\"\",\"\",COUNT($D$24:$D$452)-COUNT(D$452:$D686))","v":""}]
[null,{"$f":"IF(D686=\"\",\"\",COUNT($D$24:$D$452)-COUNT(D$452:$D687))","v":""}]
[null,{"$f":"IF(D687=\"\",\"\",COUNT($D$24:$D$452)-COUNT(D$452:$D688))","v":""}]
[null,{"$f":"IF(D688=\"\",\"\",COUNT($D$24:$D$452)-COUNT(D$452:$D689))","v":""}]
[null,{"$f":"IF(D689=\"\",\"\",COUNT($D$24:$D$452)-COUNT(D$452:$D690))","v":""}]
[null,{"$f":"IF(D690=\"\",\"\",COUNT($D$24:$D$452)-COUNT(D$452:$D691))","v":""}]
[null,{"$f":"IF(D691=\"\",\"\",COUNT($D$24:$D$452)-COUNT(D$452:$D692))","v":""}]
[null,{"$f":"IF(D692=\"\",\"\",COUNT($D$24:$D$452)-COUNT(D$452:$D693))","v":""}]
[null,{"$f":"IF(D693=\"\",\"\",COUNT($D$24:$D$452)-COUNT(D$452:$D694))","v":""}]
[null,{"$f":"IF(D694=\"\",\"\",COUNT($D$24:$D$452)-COUNT(D$452:$D695))","v":""}]
[null,{"$f":"IF(D695=\"\",\"\",COUNT($D$24:$D$452)-COUNT(D$452:$D696))","v":""}]
[null,{"$f":"IF(D696=\"\",\"\",COUNT($D$24:$D$452)-COUNT(D$452:$D697))","v":""}]
[null,{"$f":"IF(D697=\"\",\"\",COUNT($D$24:$D$452)-COUNT(D$452:$D698))","v":""}]
[null,{"$f":"IF(D698=\"\",\"\",COUNT($D$24:$D$452)-COUNT(D$452:$D699))","v":""}]
[null,{"$f":"IF(D699=\"\",\"\",COUNT($D$24:$D$452)-COUNT(D$452:$D700))","v":""}]
[null,{"$f":"IF(D700=\"\",\"\",COUNT($D$24:$D$452)-COUNT(D$452:$D701))","v":""}]
[null,{"$f":"IF(D701=\"\",\"\",COUNT($D$24:$D$452)-COUNT(D$452:$D702))","v":""}]
[null,{"$f":"IF(D702=\"\",\"\",COUNT($D$24:$D$452)-COUNT(D$452:$D703))","v":""}]
[null,{"$f":"IF(D703=\"\",\"\",COUNT($D$24:$D$452)-COUNT(D$452:$D704))","v":""}]
[null,{"$f":"IF(D704=\"\",\"\",COUNT($D$24:$D$452)-COUNT(D$452:$D705))","v":""}]
[null,{"$f":"IF(D705=\"\",\"\",COUNT($D$24:$D$452)-COUNT(D$452:$D706))","v":""}]
[null,{"$f":"IF(D706=\"\",\"\",COUNT($D$24:$D$452)-COUNT(D$452:$D707))","v":""}]
[null,{"$f":"IF(D707=\"\",\"\",COUNT($D$24:$D$452)-COUNT(D$452:$D708))","v":""}]

{"sheet":"Limits_Details_w_CPMS","index":9,"n_rows":500,"n_cols":23,"rows_kept":500,"cut":false,"hidden":false,"merged":[]}
[null,"DO NOT REMOVE OR EDIT INFORMATION IN ROWS 1 THROUGH 5\nFOR INTERNAL USE ONLY"]
[null,"Template Name",null,{"$f":"+Welcome!B2","v":"63.7841(b) Semiannual Compliance Report (Spreadsheet Template)"}]
[null,"CitationID",null,{"$f":"+Welcome!B3","v":"63.7841(b)"}]
[null,"Template Version",null,{"$f":"+Welcome!B4","v":"v2.01"}]
[null,"Last Updated Date",null,{"$f":"+Welcome!B5","v":43972}]
[null,{"$f":"Welcome!B6","v":"OMB No.: 2060-0517 Expiration Date: 03/18/2019"}]
[null,"40 CFR Part 63, Subpart FFFFF National Emission Standards for Hazardous Air Pollutants: Integrated Iron and Steel Manufacturing Facilities - "]
[null,"§63.7841(b) Semiannual Compliance Report Spreadsheet Template"]
[]
[]
[null,"* Required Field"]
[null,"Company Record No.  *\n(Select from dropdown)","Process Unit Description *\n(§63.7841(b)(8)(viii))\n(Select from dropdown)","Emission or Opacity Limit Deviated From *\n(§63.7841(b)(8))\n(Select from Dropdown)","Type of Operating Period *\n(§63.7841(b)(8)(iv))\n(Select from dropdown)","Start Date of Deviation *\n(§63.7841(b)(8)(iv))","Start Time of \nDeviation *\n(§63.7841(b)(8)(iv))","End Date of Deviation *\n(§63.7841(b)(8)(iv))","End Time of \nDeviation *\n(§63.7841(b)(8)(iv))","Duration of \nDeviation *\n(hours, minutes for opacity)  \n(§63.7841(b)(13))\n(Calculated value)","Cause of Deviation *\n(§63.7841(b)(8)(vi))\n(Select from dropdown)","Regulated Pollutant Emitted Over Emission Limit 1*\n(§63.7841(b)(13))\n(Select from dropdown)","Estimate of Emissions Regulated Pollutant 1 *\n(§63.7841(b)(13))","Units of Emissions Estimate Regulated Pollutant 1 *\n(§63.7841(b)(13))","Method Used to Estimate Emissions Regulated Pollutant 1 *\n(§63.7841(b)(13))","Regulated Pollutant Emitted Over Emission Limit 2*\n(§63.7841(b)(13))\n(If necessary)\n(Select from dropdown)","Estimate of Emissions Regulated Pollutant 2 *\n(§63.7841(b)(13))\n(If necessary)","Units of Emissions Estimate Regulated Pollutant 2 *\n(§63.7841(b)(13))\n(If necessary)","Method Used to Estimate Emissions Regulated Pollutant 2 *\n(§63.7841(b)(13))\n(If necessary)","Regulated Pollutant Emitted Over Emission Limit 3*\n(§63.7841(b)(13))\n(If necessary)\n(Select from dropdown)","Estimate of Emissions Regulated Pollutant 3 *\n(§63.7841(b)(13))\n(If necessary)","Units of Emissions Estimate Regulated Pollutant 3 *\n(§63.7841(b)(13))\n(If necessary)","Method Used to Estimate Emissions Regulated Pollutant 3 *\n(§63.7841(b)(13))\n(If necessary)"]
[null,"RecordId","ProcessUnitDesc","EmissionDeviation","PeriodType","EmissionDeviationStartDate","EmissionDeviationStartTime","EmissionDeviationEndDate","EmissionDeviationEndTime","EmissionDeviationDuration","EmissionDeviationCause","CPMSPollutant1","CPMSEmissionQuantity1","CPMSEmissionUnits1","CPMSEstimationMethod1","CPMSPollutant2","CPMSEmissionQuantity2","CPMSEmissionUnits2","CPMSEstimationMethod2","CPMSPollutant3","CPMSEmissionQuantity3","CPMSEmissionUnits3","CPMSEstimationMethod3"]
[null,"e.g.: 1","e.g.: Line 1 ","e.g.:  Particulate Matter","e.g.: Other Period","e.g.: 2/12/2019","e.g.: 13:05","e.g.: 2/13/2019","e.g.: 5:10","e.g.: 16.08","e.g.: Control Equipment Problems","e.g.: Particulate Matter","e.g.: 0.1","e.g.: tons","e.g.: Engineering calculations","e.g.: Particulate Matter","e.g.: 0.1","e.g.: tons","e.g.: Engineering calculations","e.g.: Particulate Matter","e.g.: 0.1","e.g.: tons","e.g.: Engineering calculations"]
[]
[]
[]
[]
[]
[]
[]
[]
[]
[null,null,null,null,null,null,null,null,null,{"$f":"IF(I24=\"\",\"\",IF(D24=\"Opacity\",VALUE(TEXT(H24,\"m/dd/yy \")&TEXT(I24,\"hh:mm:ss\"))-(VALUE(TEXT(F24,\"m/dd/yy \")&TEXT(G24,\"hh:mm:ss\")))*24*60,(VALUE(TEXT(H24,\"m/dd/yy \")&TEXT(I24,\"hh:mm:ss\"))-VALUE(TEXT(F24,\"m/dd/yy \")&TEXT(G24,\"hh:mm:ss\")))*24))","v":""}]
[null,null,null,null,null,null,null,null,null,{"$f":"IF(I25=\"\",\"\",IF(D25=\"Opacity\",VALUE(TEXT(H25,\"m/dd/yy \")&TEXT(I25,\"hh:mm:ss\"))-(VALUE(TEXT(F25,\"m/dd/yy \")&TEXT(G25,\"hh:mm:ss\")))*24*60,(VALUE(TEXT(H25,\"m/dd/yy \")&TEXT(I25,\"hh:mm:ss\"))-VALUE(TEXT(F25,\"m/dd/yy \")&TEXT(G25,\"hh:mm:ss\")))*24))","v":""}]
[null,null,null,null,null,null,null,null,null,""]
[null,null,null,null,null,null,null,null,null,""]
[null,null,null,null,null,null,null,null,null,""]
[null,null,null,null,null,null,null,null,null,""]
[null,null,null,null,null,null,null,null,null,""]
[null,null,null,null,null,null,null,null,null,""]
[null,null,null,null,null,null,null,null,null,""]
[null,null,null,null,null,null,null,null,null,""]
[null,null,null,null,null,null,null,null,null,""]
[null,null,null,null,null,null,null,null,null,""]
[null,null,null,null,null,null,null,null,null,""]
[null,null,null,null,null,null,null,null,null,""]
[null,null,null,null,null,null,null,null,null,""]
[null,null,null,null,null,null,null,null,null,""]
[null,null,null,null,null,null,null,null,null,""]
[null,null,null,null,null,null,null,null,null,""]
[null,null,null,null,null,null,null,null,null,""]
[null,null,null,null,null,null,null,null,null,""]
[null,null,null,null,null,null,null,null,null,""]
[null,null,null,null,null,null,null,null,null,""]
[null,null,null,null,null,null,null,null,null,""]
[null,null,null,null,null,null,null,null,null,""]
[null,null,null,null,null,null,null,null,null,""]
[null,null,null,null,null,null,null,null,null,""]
[null,null,null,null,null,null,null,null,null,""]
[null,null,null,null,null,null,null,null,null,""]
[null,null,null,null,null,null,null,null,null,""]
[null,null,null,null,null,null,null,null,null,""]
[null,null,null,null,null,null,null,null,null,""]
[null,null,null,null,null,null,null,null,null,""]
[null,null,null,null,null,null,null,null,null,""]
[null,null,null,null,null,null,null,null,null,""]
[null,null,null,null,null,null,null,null,null,""]
[null,null,null,null,null,null,null,null,null,""]
[null,null,null,null,null,null,null,null,null,""]
[null,null,null,null,null,null,null,null,null,""]
[null,null,null,null,null,null,null,null,null,""]
[null,null,null,null,null,null,null,null,null,""]
[null,null,null,null,null,null,null,null,null,""]
[null,null,null,null,null,null,null,null,null,""]
[null,null,null,null,null,null,null,null,null,""]
[null,null,null,null,null,null,null,null,null,""]
[null,null,null,null,null,null,null,null,null,""]
[null,null,null,null,null,null,null,null,null,""]
[null,null,null,null,null,null,null,null,null,""]
[null,null,null,null,null,null,null,null,null,""]
[null,null,null,null,null,null,null,null,null,""]
[null,null,null,null,null,null,null,null,null,""]
[null,null,null,null,null,null,null,null,null,""]
[null,null,null,null,null,null,null,null,null,""]
[null,null,null,null,null,null,null,null,null,""]
[null,null,null,null,null,null,null,null,null,""]
[null,null,null,null,null,null,null,null,null,""]
[null,null,null,null,null,null,null,null,null,""]
[null,null,null,null,null,null,null,null,null,""]
[null,null,null,null,null,null,null,null,null,""]
[null,null,null,null,null,null,null,null,null,""]
[null,null,null,null,null,null,null,null,null,""]
[null,null,null,null,null,null,null,null,null,""]
[null,null,null,null,null,null,null,null,null,""]
[null,null,null,null,null,null,null,null,null,""]
[null,null,null,null,null,null,null,null,null,""]
[null,null,null,null,null,null,null,null,null,""]
[null,null,null,null,null,null,null,null,null,{"$f":"IF(I89=\"\",\"\",IF(D89=\"Opacity\",VALUE(TEXT(H89,\"m/dd/yy \")&TEXT(I89,\"hh:mm:ss\"))-(VALUE(TEXT(F89,\"m/dd/yy \")&TEXT(G89,\"hh:mm:ss\")))*24*60,(VALUE(TEXT(H89,\"m/dd/yy \")&TEXT(I89,\"hh:mm:ss\"))-VALUE(TEXT(F89,\"m/dd/yy \")&TEXT(G89,\"hh:mm:ss\")))*24))","v":""}]
[null,null,null,null,null,null,null,null,null,""]
[null,null,null,null,null,null,null,null,null,""]
[null,null,null,null,null,null,null,null,null,""]
[null,null,null,null,null,null,null,null,null,""]
[null,null,null,null,null,null,null,null,null,""]
[null,null,null,null,null,null,null,null,null,""]
[null,null,null,null,null,null,null,null,null,""]
[null,null,null,null,null,null,null,null,null,""]
[null,null,null,null,null,null,null,null,null,""]
[null,null,null,null,null,null,null,null,null,""]
[null,null,null,null,null,null,null,null,null,""]
[null,null,null,null,null,null,null,null,null,""]
[null,null,null,null,null,null,null,null,null,""]
[null,null,null,null,null,null,null,null,null,""]
[null,null,null,null,null,null,null,null,null,""]
[null,null,null,null,null,null,null,null,null,""]
[null,null,null,null,null,null,null,null,null,""]
[null,null,null,null,null,null,null,null,null,""]
[null,null,null,null,null,null,null,null,null,""]
[null,null,null,null,null,null,null,null,null,""]
[null,null,null,null,null,null,null,null,null,""]
[null,null,null,null,null,null,null,null,null,""]
[null,null,null,null,null,null,null,null,null,""]
[null,null,null,null,null,null,null,null,null,""]
[null,null,null,null,null,null,null,null,null,""]
[null,null,null,null,null,null,null,null,null,""]
[null,null,null,null,null,null,null,null,null,""]
[null,null,null,null,null,null,null,null,null,""]
[null,null,null,null,null,null,null,null,null,""]
[null,null,null,null,null,null,null,null,null,""]
[null,null,null,null,null,null,null,null,null,""]
[null,null,null,null,null,null,null,null,null,""]
[null,null,null,null,null,null,null,null,null,""]
[null,null,null,null,null,null,null,null,null,""]
[null,null,null,null,null,null,null,null,null,""]
[null,null,null,null,null,null,null,null,null,""]
[null,null,null,null,null,null,null,null,null,""]
[null,null,null,null,null,null,null,null,null,""]
[null,null,null,null,null,null,null,null,null,""]
[null,null,null,null,null,null,null,null,null,""]
[null,null,null,null,null,null,null,null,null,""]
[null,null,null,null,null,null,null,null,null,""]
[null,null,null,null,null,null,null,null,null,""]
[null,null,null,null,null,null,null,null,null,""]
[null,null,null,null,null,null,null,null,null,""]
[null,null,null,null,null,null,null,null,null,""]
[null,null,null,null,null,null,null,null,null,""]
[null,null,null,null,null,null,null,null,null,""]
[null,null,null,null,null,null,null,null,null,""]
[null,null,null,null,null,null,null,null,null,""]
[null,null,null,null,null,null,null,null,null,""]
[null,null,null,null,null,null,null,null,null,""]
[null,null,null,null,null,null,null,null,null,""]
[null,null,null,null,null,null,null,null,null,""]
[null,null,null,null,null,null,null,null,null,""]
[null,null,null,null,null,null,null,null,null,""]
[null,null,null,null,null,null,null,null,null,""]
[null,null,null,null,null,null,null,null,null,""]
[null,null,null,null,null,null,null,null,null,""]
[null,null,null,null,null,null,null,null,null,""]
[null,null,null,null,null,null,null,null,null,""]
[null,null,null,null,null,null,null,null,null,""]
[null,null,null,null,null,null,null,null,null,""]
[null,null,null,null,null,null,null,null,null,{"$f":"IF(I153=\"\",\"\",IF(D153=\"Opacity\",VALUE(TEXT(H153,\"m/dd/yy \")&TEXT(I153,\"hh:mm:ss\"))-(VALUE(TEXT(F153,\"m/dd/yy \")&TEXT(G153,\"hh:mm:ss\")))*24*60,(VALUE(TEXT(H153,\"m/dd/yy \")&TEXT(I153,\"hh:mm:ss\"))-VALUE(TEXT(F153,\"m/dd/yy \")&TEXT(G153,\"hh:mm:ss\")))*24))","v":""}]
[null,null,null,null,null,null,null,null,null,""]
[null,null,null,null,null,null,null,null,null,""]
[null,null,null,null,null,null,null,null,null,""]
[null,null,null,null,null,null,null,null,null,""]
[null,null,null,null,null,null,null,null,null,""]
[null,null,null,null,null,null,null,null,null,""]
[null,null,null,null,null,null,null,null,null,""]
[null,null,null,null,null,null,null,null,null,""]
[null,null,null,null,null,null,null,null,null,""]
[null,null,null,null,null,null,null,null,null,""]
[null,null,null,null,null,null,null,null,null,""]
[null,null,null,null,null,null,null,null,null,""]
[null,null,null,null,null,null,null,null,null,""]
[null,null,null,null,null,null,null,null,null,""]
[null,null,null,null,null,null,null,null,null,""]
[null,null,null,null,null,null,null,null,null,""]
[null,null,null,null,null,null,null,null,null,""]
[null,null,null,null,null,null,null,null,null,""]
[null,null,null,null,null,null,null,null,null,""]
[null,null,null,null,null,null,null,null,null,""]
[null,null,null,null,null,null,null,null,null,""]
[null,null,null,null,null,null,null,null,null,""]
[null,null,null,null,null,null,null,null,null,""]
[null,null,null,null,null,null,null,null,null,""]
[null,null,null,null,null,null,null,null,null,""]
[null,null,null,null,null,null,null,null,null,""]
[null,null,null,null,null,null,null,null,null,""]
[null,null,null,null,null,null,null,null,null,""]
[null,null,null,null,null,null,null,null,null,""]
[null,null,null,null,null,null,null,null,null,""]
[null,null,null,null,null,null,null,null,null,""]
[null,null,null,null,null,null,null,null,null,""]
[null,null,null,null,null,null,null,null,null,""]
[null,null,null,null,null,null,null,null,null,""]
[null,null,null,null,null,null,null,null,null,""]
[null,null,null,null,null,null,null,null,null,""]
[null,null,null,null,null,null,null,null,null,""]
[null,null,null,null,null,null,null,null,null,""]
[null,null,null,null,null,null,null,null,null,""]
[null,null,null,null,null,null,null,null,null,""]
[null,null,null,null,null,null,null,null,null,""]
[null,null,null,null,null,null,null,null,null,""]
[null,null,null,null,null,null,null,null,null,""]
[null,null,null,null,null,null,null,null,null,""]
[null,null,null,null,null,null,null,null,null,""]
[null,null,null,null,null,null,null,null,null,""]
[null,null,null,null,null,null,null,null,null,""]
[null,null,null,null,null,null,null,null,null,""]
[null,null,null,null,null,null,null,null,null,""]
[null,null,null,null,null,null,null,null,null,""]
[null,null,null,null,null,null,null,null,null,""]
[null,null,null,null,null,null,null,null,null,""]
[null,null,null,null,null,null,null,null,null,""]
[null,null,null,null,null,null,null,null,null,""]
[null,null,null,null,null,null,null,null,null,""]
[null,null,null,null,null,null,null,null,null,""]
[null,null,null,null,null,null,null,null,null,""]
[null,null,null,null,null,null,null,null,null,""]
[null,null,null,null,null,null,null,null,null,""]
[null,null,null,null,null,null,null,null,null,""]
[null,null,null,null,null,null,null,null,null,""]
[null,null,null,null,null,null,null,null,null,""]
[null,null,null,null,null,null,null,null,null,""]
[null,null,null,null,null,null,null,null,null,{"$f":"IF(I217=\"\",\"\",IF(D217=\"Opacity\",VALUE(TEXT(H217,\"m/dd/yy \")&TEXT(I217,\"hh:mm:ss\"))-(VALUE(TEXT(F217,\"m/dd/yy \")&TEXT(G217,\"hh:mm:ss\")))*24*60,(VALUE(TEXT(H217,\"m/dd/yy \")&TEXT(I217,\"hh:mm:ss\"))-VALUE(TEXT(F217,\"m/dd/yy \")&TEXT(G217,\"hh:mm:ss\")))*24))","v":""}]
[null,null,null,null,null,null,null,null,null,""]
[null,null,null,null,null,null,null,null,null,""]
[null,null,null,null,null,null,null,null,null,""]
[null,null,null,null,null,null,null,null,null,""]
[null,null,null,null,null,null,null,null,null,""]
[null,null,null,null,null,null,null,null,null,""]
[null,null,null,null,null,null,null,null,null,""]
[null,null,null,null,null,null,null,null,null,""]
[null,null,null,null,null,null,null,null,null,""]
[null,null,null,null,null,null,null,null,null,""]
[null,null,null,null,null,null,null,null,null,""]
[null,null,null,null,null,null,null,null,null,""]
[null,null,null,null,null,null,null,null,null,""]
[null,null,null,null,null,null,null,null,null,""]
[null,null,null,null,null,null,null,null,null,""]
[null,null,null,null,null,null,null,null,null,""]
[null,null,null,null,null,null,null,null,null,""]
[null,null,null,null,null,null,null,null,null,""]
[null,null,null,null,null,null,null,null,null,""]
[null,null,null,null,null,null,null,null,null,""]
[null,null,null,null,null,null,null,null,null,""]
[null,null,null,null,null,null,null,null,null,""]
[null,null,null,null,null,null,null,null,null,""]
[null,null,null,null,null,null,null,null,null,""]
[null,null,null,null,null,null,null,null,null,""]
[null,null,null,null,null,null,null,null,null,""]
[null,null,null,null,null,null,null,null,null,""]
[null,null,null,null,null,null,null,null,null,""]
[null,null,null,null,null,null,null,null,null,""]
[null,null,null,null,null,null,null,null,null,""]
[null,null,null,null,null,null,null,null,null,""]
[null,null,null,null,null,null,null,null,null,""]
[null,null,null,null,null,null,null,null,null,""]
[null,null,null,null,null,null,null,null,null,""]
[null,null,null,null,null,null,null,null,null,""]
[null,null,null,null,null,null,null,null,null,""]
[null,null,null,null,null,null,null,null,null,""]
[null,null,null,null,null,null,null,null,null,""]
[null,null,null,null,null,null,null,null,null,""]
[null,null,null,null,null,null,null,null,null,""]
[null,null,null,null,null,null,null,null,null,""]
[null,null,null,null,null,null,null,null,null,""]
[null,null,null,null,null,null,null,null,null,""]
[null,null,null,null,null,null,null,null,null,""]
[null,null,null,null,null,null,null,null,null,""]
[null,null,null,null,null,null,null,null,null,""]
[null,null,null,null,null,null,null,null,null,""]
[null,null,null,null,null,null,null,null,null,""]
[null,null,null,null,null,null,null,null,null,""]
[null,null,null,null,null,null,null,null,null,""]
[null,null,null,null,null,null,null,null,null,""]
[null,null,null,null,null,null,null,null,null,""]
[null,null,null,null,null,null,null,null,null,""]
[null,null,null,null,null,null,null,null,null,""]
[null,null,null,null,null,null,null,null,null,""]
[null,null,null,null,null,null,null,null,null,""]
[null,null,null,null,null,null,null,null,null,""]
[null,null,null,null,null,null,null,null,null,""]
[null,null,null,null,null,null,null,null,null,""]
[null,null,null,null,null,null,null,null,null,""]
[null,null,null,null,null,null,null,null,null,""]
[null,null,null,null,null,null,null,null,null,""]
[null,null,null,null,null,null,null,null,null,""]
[null,null,null,null,null,null,null,null,null,{"$f":"IF(I281=\"\",\"\",IF(D281=\"Opacity\",VALUE(TEXT(H281,\"m/dd/yy \")&TEXT(I281,\"hh:mm:ss\"))-(VALUE(TEXT(F281,\"m/dd/yy \")&TEXT(G281,\"hh:mm:ss\")))*24*60,(VALUE(TEXT(H281,\"m/dd/yy \")&TEXT(I281,\"hh:mm:ss\"))-VALUE(TEXT(F281,\"m/dd/yy \")&TEXT(G281,\"hh:mm:ss\")))*24))","v":""}]
[null,null,null,null,null,null,null,null,null,""]
[null,null,null,null,null,null,null,null,null,""]
[null,null,null,null,null,null,null,null,null,""]
[null,null,null,null,null,null,null,null,null,""]
[null,null,null,null,null,null,null,null,null,""]
[null,null,null,null,null,null,null,null,null,""]
[null,null,null,null,null,null,null,null,null,""]
[null,null,null,null,null,null,null,null,null,""]
[null,null,null,null,null,null,null,null,null,""]
[null,null,null,null,null,null,null,null,null,""]
[null,null,null,null,null,null,null,null,null,""]
[null,null,null,null,null,null,null,null,null,""]
[null,null,null,null,null,null,null,null,null,""]
[null,null,null,null,null,null,null,null,null,""]
[null,null,null,null,null,null,null,null,null,""]
[null,null,null,null,null,null,null,null,null,""]
[null,null,null,null,null,null,null,null,null,""]
[null,null,null,null,null,null,null,null,null,""]
[null,null,null,null,null,null,null,null,null,""]
[null,null,null,null,null,null,null,null,null,""]
[null,null,null,null,null,null,null,null,null,""]
[null,null,null,null,null,null,null,null,null,""]
[null,null,null,null,null,null,null,null,null,""]
[null,null,null,null,null,null,null,null,null,""]
[null,null,null,null,null,null,null,null,null,""]
[null,null,null,null,null,null,null,null,null,""]
[null,null,null,null,null,null,null,null,null,""]
[null,null,null,null,null,null,null,null,null,""]
[null,null,null,null,null,null,null,null,null,""]
[null,null,null,null,null,null,null,null,null,""]
[null,null,null,null,null,null,null,null,null,""]
[null,null,null,null,null,null,null,null,null,""]
[null,null,null,null,null,null,null,null,null,""]
[null,null,null,null,null,null,null,null,null,""]
[null,null,null,null,null,null,null,null,null,""]
[null,null,null,null,null,null,null,null,null,""]
[null,null,null,null,null,null,null,null,null,""]
[null,null,null,null,null,null,null,null,null,""]
[null,null,null,null,null,null,null,null,null,""]
[null,null,null,null,null,null,null,null,null,""]
[null,null,null,null,null,null,null,null,null,""]
[null,null,null,null,null,null,null,null,null,""]
[null,null,null,null,null,null,null,null,null,""]
[null,null,null,null,null,null,null,null,null,""]
[null,null,null,null,null,null,null,null,null,""]
[null,null,null,null,null,null,null,null,null,""]
[null,null,null,null,null,null,null,null,null,""]
[null,null,null,null,null,null,null,null,null,""]
[null,null,null,null,null,null,null,null,null,""]
[null,null,null,null,null,null,null,null,null,""]
[null,null,null,null,null,null,null,null,null,""]
[null,null,null,null,null,null,null,null,null,""]
[null,null,null,null,null,null,null,null,null,""]
[null,null,null,null,null,null,null,null,null,""]
[null,null,null,null,null,null,null,null,null,""]
[null,null,null,null,null,null,null,null,null,""]
[null,null,null,null,null,null,null,null,null,""]
[null,null,null,null,null,null,null,null,null,""]
[null,null,null,null,null,null,null,null,null,""]
[null,null,null,null,null,null,null,null,null,""]
[null,null,null,null,null,null,null,null,null,""]
[null,null,null,null,null,null,null,null,null,""]
[null,null,null,null,null,null,null,null,null,""]
[null,null,null,null,null,null,null,null,null,{"$f":"IF(I345=\"\",\"\",IF(D345=\"Opacity\",VALUE(TEXT(H345,\"m/dd/yy \")&TEXT(I345,\"hh:mm:ss\"))-(VALUE(TEXT(F345,\"m/dd/yy \")&TEXT(G345,\"hh:mm:ss\")))*24*60,(VALUE(TEXT(H345,\"m/dd/yy \")&TEXT(I345,\"hh:mm:ss\"))-VALUE(TEXT(F345,\"m/dd/yy \")&TEXT(G345,\"hh:mm:ss\")))*24))","v":""}]
[null,null,null,null,null,null,null,null,null,""]
[null,null,null,null,null,null,null,null,null,""]
[null,null,null,null,null,null,null,null,null,""]
[null,null,null,null,null,null,null,null,null,""]
[null,null,null,null,null,null,null,null,null,""]
[null,null,null,null,null,null,null,null,null,""]
[null,null,null,null,null,null,null,null,null,""]
[null,null,null,null,null,null,null,null,null,""]
[null,null,null,null,null,null,null,null,null,""]
[null,null,null,null,null,null,null,null,null,""]
[null,null,null,null,null,null,null,null,null,""]
[null,null,null,null,null,null,null,null,null,""]
[null,null,null,null,null,null,null,null,null,""]
[null,null,null,null,null,null,null,null,null,""]
[null,null,null,null,null,null,null,null,null,""]
[null,null,null,null,null,null,null,null,null,""]
[null,null,null,null,null,null,null,null,null,""]
[null,null,null,null,null,null,null,null,null,""]
[null,null,null,null,null,null,null,null,null,""]
[null,null,null,null,null,null,null,null,null,""]
[null,null,null,null,null,null,null,null,null,""]
[null,null,null,null,null,null,null,null,null,""]
[null,null,null,null,null,null,null,null,null,""]
[null,null,null,null,null,null,null,null,null,""]
[null,null,null,null,null,null,null,null,null,""]
[null,null,null,null,null,null,null,null,null,""]
[null,null,null,null,null,null,null,null,null,""]
[null,null,null,null,null,null,null,null,null,""]
[null,null,null,null,null,null,null,null,null,""]
[null,null,null,null,null,null,null,null,null,""]
[null,null,null,null,null,null,null,null,null,""]
[null,null,null,null,null,null,null,null,null,""]
[null,null,null,null,null,null,null,null,null,""]
[null,null,null,null,null,null,null,null,null,""]
[null,null,null,null,null,null,null,null,null,""]
[null,null,null,null,null,null,null,null,null,""]
[null,null,null,null,null,null,null,null,null,""]
[null,null,null,null,null,null,null,null,null,""]
[null,null,null,null,null,null,null,null,null,""]
[null,null,null,null,null,null,null,null,null,""]
[null,null,null,null,null,null,null,null,null,""]
[null,null,null,null,null,null,null,null,null,""]
[null,null,null,null,null,null,null,null,null,""]
[null,null,null,null,null,null,null,null,null,""]
[null,null,null,null,null,null,null,null,null,""]
[null,null,null,null,null,null,null,null,null,""]
[null,null,null,null,null,null,null,null,null,""]
[null,null,null,null,null,null,null,null,null,""]
[null,null,null,null,null,null,null,null,null,""]
[null,null,null,null,null,null,null,null,null,""]
[null,null,null,null,null,null,null,null,null,""]
[null,null,null,null,null,null,null,null,null,""]
[null,null,null,null,null,null,null,null,null,""]
[null,null,null,null,null,null,null,null,null,""]
[null,null,null,null,null,null,null,null,null,""]
[null,null,null,null,null,null,null,null,null,""]
[null,null,null,null,null,null,null,null,null,""]
[null,null,null,null,null,null,null,null,null,""]
[null,null,null,null,null,null,null,null,null,""]
[null,null,null,null,null,null,null,null,null,""]
[null,null,null,null,null,null,null,null,null,""]
[null,null,null,null,null,null,null,null,null,""]
[null,null,null,null,null,null,null,null,null,""]
[null,null,null,null,null,null,null,null,null,{"$f":"IF(I409=\"\",\"\",IF(D409=\"Opacity\",VALUE(TEXT(H409,\"m/dd/yy \")&TEXT(I409,\"hh:mm:ss\"))-(VALUE(TEXT(F409,\"m/dd/yy \")&TEXT(G409,\"hh:mm:ss\")))*24*60,(VALUE(TEXT(H409,\"m/dd/yy \")&TEXT(I409,\"hh:mm:ss\"))-VALUE(TEXT(F409,\"m/dd/yy \")&TEXT(G409,\"hh:mm:ss\")))*24))","v":""}]
[null,null,null,null,null,null,null,null,null,""]
[null,null,null,null,null,null,null,null,null,""]
[null,null,null,null,null,null,null,null,null,""]
[null,null,null,null,null,null,null,null,null,""]
[null,null,null,null,null,null,null,null,null,""]
[null,null,null,null,null,null,null,null,null,""]
[null,null,null,null,null,null,null,null,null,""]
[null,null,null,null,null,null,null,null,null,""]
[null,null,null,null,null,null,null,null,null,""]
[null,null,null,null,null,null,null,null,null,""]
[null,null,null,null,null,null,null,null,null,""]
[null,null,null,null,null,null,null,null,null,""]
[null,null,null,null,null,null,null,null,null,""]
[null,null,null,null,null,null,null,null,null,""]
[null,null,null,null,null,null,null,null,null,""]
[null,null,null,null,null,null,null,null,null,""]
[null,null,null,null,null,null,null,null,null,""]
[null,null,null,null,null,null,null,null,null,""]
[null,null,null,null,null,null,null,null,null,""]
[null,null,null,null,null,null,null,null,null,""]
[null,null,null,null,null,null,null,null,null,""]
[null,null,null,null,null,null,null,null,null,""]
[null,null,null,null,null,null,null,null,null,""]
[null,null,null,null,null,null,null,null,null,""]
[null,null,null,null,null,null,null,null,null,""]
[null,null,null,null,null,null,null,null,null,""]
[null,null,null,null,null,null,null,null,null,""]
[null,null,null,null,null,null,null,null,null,""]
[null,null,null,null,null,null,null,null,null,""]
[null,null,null,null,null,null,null,null,null,""]
[null,null,null,null,null,null,null,null,null,""]
[null,null,null,null,null,null,null,null,null,""]
[null,null,null,null,null,null,null,null,null,""]
[null,null,null,null,null,null,null,null,null,""]
[null,null,null,null,null,null,null,null,null,""]
[null,null,null,null,null,null,null,null,null,""]
[null,null,null,null,null,null,null,null,null,""]
[null,null,null,null,null,null,null,null,null,""]
[null,null,null,null,null,null,null,null,null,""]
[null,null,null,null,null,null,null,null,null,""]
[null,null,null,null,null,null,null,null,null,""]
[null,null,null,null,null,null,null,null,null,""]
[null,null,null,null,null,null,null,null,null,""]
[null,null,null,null,null,null,null,null,null,""]
[null,null,null,null,null,null,null,null,null,""]
[null,null,null,null,null,null,null,null,null,""]
[null,null,null,null,null,null,null,null,null,""]
[null,null,null,null,null,null,null,null,null,""]
[null,null,null,null,null,null,null,null,null,""]
[null,null,null,null,null,null,null,null,null,""]
[null,null,null,null,null,null,null,null,null,""]
[null,null,null,null,null,null,null,null,null,""]
[null,null,null,null,null,null,null,null,null,""]
[null,null,null,null,null,null,null,null,null,""]
[null,null,null,null,null,null,null,null,null,""]
[null,null,null,null,null,null,null,null,null,""]
[null,null,null,null,null,null,null,null,null,""]
[null,null,null,null,null,null,null,null,null,""]
[null,null,null,null,null,null,null,null,null,""]
[null,null,null,null,null,null,null,null,null,""]
[null,null,null,null,null,null,null,null,null,""]
[null,null,null,null,null,null,null,null,null,""]
[null,null,null,null,null,null,null,null,null,""]
[null,null,null,null,null,null,null,null,null,{"$f":"IF(I473=\"\",\"\",IF(D473=\"Opacity\",VALUE(TEXT(H473,\"m/dd/yy \")&TEXT(I473,\"hh:mm:ss\"))-(VALUE(TEXT(F473,\"m/dd/yy \")&TEXT(G473,\"hh:mm:ss\")))*24*60,(VALUE(TEXT(H473,\"m/dd/yy \")&TEXT(I473,\"hh:mm:ss\"))-VALUE(TEXT(F473,\"m/dd/yy \")&TEXT(G473,\"hh:mm:ss\")))*24))","v":""}]
[null,null,null,null,null,null,null,null,null,""]
[null,null,null,null,null,null,null,null,null,""]
[null,null,null,null,null,null,null,null,null,""]
[null,null,null,null,null,null,null,null,null,""]
[null,null,null,null,null,null,null,null,null,""]
[null,null,null,null,null,null,null,null,null,""]
[null,null,null,null,null,null,null,null,null,""]
[null,null,null,null,null,null,null,null,null,""]
[null,null,null,null,null,null,null,null,null,""]
[null,null,null,null,null,null,null,null,null,""]
[null,null,null,null,null,null,null,null,null,""]
[null,null,null,null,null,null,null,null,null,""]
[null,null,null,null,null,null,null,null,null,""]
[null,null,null,null,null,null,null,null,null,""]
[null,null,null,null,null,null,null,null,null,""]
[null,null,null,null,null,null,null,null,null,""]
[null,null,null,null,null,null,null,null,null,""]
[null,null,null,null,null,null,null,null,null,""]
[null,null,null,null,null,null,null,null,null,""]
[null,null,null,null,null,null,null,null,null,""]
[null,null,null,null,null,null,null,null,null,""]
[null,null,null,null,null,null,null,null,null,""]
[null,null,null,null,null,null,null,null,null,""]
[null,null,null,null,null,null,null,null,null,""]
[null,null,null,null,null,null,null,null,null,""]
[null,null,null,null,null,null,null,null,null,""]
[null,null,null,null,null,null,null,null,null,""]

{"sheet":"Limits_Summary_Report_w_CPMS","index":10,"n_rows":707,"n_cols":11,"rows_kept":707,"cut":false,"hidden":false,"merged":[]}
[null,"DO NOT REMOVE OR EDIT INFORMATION IN ROWS 1 THROUGH 5\nFOR INTERNAL USE ONLY"]
[null,"Template Name",null,{"$f":"+Welcome!B2","v":"63.7841(b) Semiannual Compliance Report (Spreadsheet Template)"}]
[null,"CitationID",null,{"$f":"+Welcome!B3","v":"63.7841(b)"}]
[null,"Template Version",null,{"$f":"+Welcome!B4","v":"v2.01"}]
[null,"Last Updated Date",null,{"$f":"+Welcome!B5","v":43972}]
[null,{"$f":"Welcome!B6","v":"OMB No.: 2060-0517 Expiration Date: 03/18/2019"}]
[null,"40 CFR Part 63, Subpart FFFFF National Emission Standards for Hazardous Air Pollutants: Integrated Iron and Steel Manufacturing Facilities - "]
[null,"§63.7841(b) Semiannual Compliance Report Spreadsheet Template"]
[]
[]
[null,"* Required Field"]
[null,"Company Record No.  *\n(Autofilled)","Process Unit Description *\n(§63.7841(b)(8)(viii))\n(Autofilled)","Emission or Opacity Limit Deviated From *\n(§63.7841(b)(13))\n(Autofilled)","Total Source\nOperating Time *\n(hours)\n(Optional for auto calculation of Duration as % of Total Operating Time)","Total Duration of \nDeviations from \nEmission or\nOpacity Limits *\n(hours, minutes for opacity) \n(§63.7841(b)(8)(v))\n(Calculated value)","Total Duration of \nDeviations from\nEmission \nor Opacity Limits *\n as a per cent of \nTotal Source Operating Time *\n(§63.7841(b)(8)(v))\n(Calculated value or manual entry)","Total Duration of \nDeviations from \nEmission \nor Opacity Limits Due to \nControl Equipment Problems *\n(hours, minutes for opacity)   \n(§63.7841(b)(8)(vi))\n(Calculated value)","Total Duration of \nDeviations from\nEmission \nor Opacity Limits Due to \nProcess Problems *\n(hours, minutes for opacity)  \n(§63.7841(b)(8)(vi))\n(Calculated value)","Total Duration of\nDeviations from \nEmission or\nOpacity Limits Due to \nOther Known Causes *\n(hours, minutes for opacity)  \n(§63.7841(b)(8)(vi))\n(Calculated value)","Total Duration of Deviations from Emission or Opacity Limits Due to Other Unknown Causes * \n(hours, minutes for opacity)  \n(§63.7841(b)(8)(vi))\n(Calculated value)"]
[null,"RecordId","ProcessUnitDesc","DeviceDeviationBypass","TotalOperatingTime","TotalDeviationDuration","TotalDeviationPercent","EquipmentCausedDeviation","ProcessCausedDeviation","OtherCausedDeviation","UnknownCausedDeviation"]
[null,"e.g.: 1","e.g.: Line 1","e.g.:  Particulate Matter","e.g.: 6240","e.g.: 36.20","e.g.: 0.58%","e.g.: 36.20","e.g.: 0.00","e.g.: 0.00","e.g.: 0.00"]
[]
[]
[]
[]
[]
[]
[]
[]
[]
[null,{"$f":"IF(Lists!AJ2=\"\",\"\",Lists!AJ2)","v":""},{"$f":"IF(Lists!AK2=\"\",\"\",Lists!AK2)","v":""},{"$f":"IF(Lists!AL2=\"\",\"\",Lists!AL2)","v":""},null,{"$f":"IF(B24=\"\",\"\",SUM(H24:K24))","v":""},{"$f":"IF(B24=\"\",\"\",IF(F24=0,\"N/A\",IF(D24=\"Opacity\", F24/60,F24)/$E24))","v":""},{"$f":"IF($B24=\"\",\"\",SUMIFS(Limits_Details_w_CPMS!$J$24:$J$5800,Limits_Details_w_CPMS!$B$24:$B$5800,B24,Limits_Details_w_CPMS!$C$24:$C$5800,C24,Limits_Details_w_CPMS!$D$24:$D$5800,D24,Limits_Details_w_CPMS!$K$24:$K$5800,\"Control Equipment Problems\"))","v":""},{"$f":"IF($B24=\"\",\"\",SUMIFS(Limits_Details_w_CPMS!$J$24:$J$5800,Limits_Details_w_CPMS!$B$24:$B$5800,B24,Limits_Details_w_CPMS!$C$24:$C$5800,C24,Limits_Details_w_CPMS!$D$24:$D$5800,D24,Limits_Details_w_CPMS!$K$24:$K$5800,\"Process Problems\"))","v":""},{"$f":"IF($B24=\"\",\"\",SUMIFS(Limits_Details_w_CPMS!$J$24:$J$5800,Limits_Details_w_CPMS!$B$24:$B$5800,B24,Limits_Details_w_CPMS!$C$24:$C$5800,C24,Limits_Details_w_CPMS!$D$24:$D$5800,D24,Limits_Details_w_CPMS!$K$24:$K$5800,\"Other Known Causes\"))","v":""},{"$f":"IF($B24=\"\",\"\",SUMIFS(Limits_Details_w_CPMS!$J$24:$J$5800,Limits_Details_w_CPMS!$B$24:$B$5800,B24,Limits_Details_w_CPMS!$C$24:$C$5800,C24,Limits_Details_w_CPMS!$D$24:$D$5800,D24,Limits_Details_w_CPMS!$K$24:$K$5800,\"Other Unknown Causes\"))","v":""}]
[null,{"$f":"IF(Lists!AJ3=\"\",\"\",Lists!AJ3)","v":""},{"$f":"IF(Lists!AK3=\"\",\"\",Lists!AK3)","v":""},{"$f":"IF(Lists!AL3=\"\",\"\",Lists!AL3)","v":""},null,{"$f":"IF(B25=\"\",\"\",SUM(H25:K25))","v":""},"",{"$f":"IF($B25=\"\",\"\",SUMIFS(Limits_Details_w_CPMS!$J$24:$J$5800,Limits_Details_w_CPMS!$B$24:$B$5800,B25,Limits_Details_w_CPMS!$C$24:$C$5800,C25,Limits_Details_w_CPMS!$D$24:$D$5800,D25,Limits_Details_w_CPMS!$K$24:$K$5800,\"Control Equipment Problems\"))","v":""},{"$f":"IF($B25=\"\",\"\",SUMIFS(Limits_Details_w_CPMS!$J$24:$J$5800,Limits_Details_w_CPMS!$B$24:$B$5800,B25,Limits_Details_w_CPMS!$C$24:$C$5800,C25,Limits_Details_w_CPMS!$D$24:$D$5800,D25,Limits_Details_w_CPMS!$K$24:$K$5800,\"Process Problems\"))","v":""},{"$f":"IF($B25=\"\",\"\",SUMIFS(Limits_Details_w_CPMS!$J$24:$J$5800,Limits_Details_w_CPMS!$B$24:$B$5800,B25,Limits_Details_w_CPMS!$C$24:$C$5800,C25,Limits_Details_w_CPMS!$D$24:$D$5800,D25,Limits_Details_w_CPMS!$K$24:$K$5800,\"Other Known Causes\"))","v":""},{"$f":"IF($B25=\"\",\"\",SUMIFS(Limits_Details_w_CPMS!$J$24:$J$5800,Limits_Details_w_CPMS!$B$24:$B$5800,B25,Limits_Details_w_CPMS!$C$24:$C$5800,C25,Limits_Details_w_CPMS!$D$24:$D$5800,D25,Limits_Details_w_CPMS!$K$24:$K$5800,\"Other Unknown Causes\"))","v":""}]
[null,{"$f":"IF(Lists!AJ4=\"\",\"\",Lists!AJ4)","v":""},{"$f":"IF(Lists!AK4=\"\",\"\",Lists!AK4)","v":""},{"$f":"IF(Lists!AL4=\"\",\"\",Lists!AL4)","v":""},null,"","",{"$f":"IF($B26=\"\",\"\",SUMIFS(Limits_Details_w_CPMS!$J$24:$J$5800,Limits_Details_w_CPMS!$B$24:$B$5800,B26,Limits_Details_w_CPMS!$C$24:$C$5800,C26,Limits_Details_w_CPMS!$D$24:$D$5800,D26,Limits_Details_w_CPMS!$K$24:$K$5800,\"Control Equipment Problems\"))","v":""},{"$f":"IF($B26=\"\",\"\",SUMIFS(Limits_Details_w_CPMS!$J$24:$J$5800,Limits_Details_w_CPMS!$B$24:$B$5800,B26,Limits_Details_w_CPMS!$C$24:$C$5800,C26,Limits_Details_w_CPMS!$D$24:$D$5800,D26,Limits_Details_w_CPMS!$K$24:$K$5800,\"Process Problems\"))","v":""},{"$f":"IF($B26=\"\",\"\",SUMIFS(Limits_Details_w_CPMS!$J$24:$J$5800,Limits_Details_w_CPMS!$B$24:$B$5800,B26,Limits_Details_w_CPMS!$C$24:$C$5800,C26,Limits_Details_w_CPMS!$D$24:$D$5800,D26,Limits_Details_w_CPMS!$K$24:$K$5800,\"Other Known Causes\"))","v":""},{"$f":"IF($B26=\"\",\"\",SUMIFS(Limits_Details_w_CPMS!$J$24:$J$5800,Limits_Details_w_CPMS!$B$24:$B$5800,B26,Limits_Details_w_CPMS!$C$24:$C$5800,C26,Limits_Details_w_CPMS!$D$24:$D$5800,D26,Limits_Details_w_CPMS!$K$24:$K$5800,\"Other Unknown Causes\"))","v":""}]
[null,{"$f":"IF(Lists!AJ5=\"\",\"\",Lists!AJ5)","v":""},{"$f":"IF(Lists!AK5=\"\",\"\",Lists!AK5)","v":""},{"$f":"IF(Lists!AL5=\"\",\"\",Lists!AL5)","v":""},null,"","",{"$f":"IF($B27=\"\",\"\",SUMIFS(Limits_Details_w_CPMS!$J$24:$J$5800,Limits_Details_w_CPMS!$B$24:$B$5800,B27,Limits_Details_w_CPMS!$C$24:$C$5800,C27,Limits_Details_w_CPMS!$D$24:$D$5800,D27,Limits_Details_w_CPMS!$K$24:$K$5800,\"Control Equipment Problems\"))","v":""},{"$f":"IF($B27=\"\",\"\",SUMIFS(Limits_Details_w_CPMS!$J$24:$J$5800,Limits_Details_w_CPMS!$B$24:$B$5800,B27,Limits_Details_w_CPMS!$C$24:$C$5800,C27,Limits_Details_w_CPMS!$D$24:$D$5800,D27,Limits_Details_w_CPMS!$K$24:$K$5800,\"Process Problems\"))","v":""},{"$f":"IF($B27=\"\",\"\",SUMIFS(Limits_Details_w_CPMS!$J$24:$J$5800,Limits_Details_w_CPMS!$B$24:$B$5800,B27,Limits_Details_w_CPMS!$C$24:$C$5800,C27,Limits_Details_w_CPMS!$D$24:$D$5800,D27,Limits_Details_w_CPMS!$K$24:$K$5800,\"Other Known Causes\"))","v":""},{"$f":"IF($B27=\"\",\"\",SUMIFS(Limits_Details_w_CPMS!$J$24:$J$5800,Limits_Details_w_CPMS!$B$24:$B$5800,B27,Limits_Details_w_CPMS!$C$24:$C$5800,C27,Limits_Details_w_CPMS!$D$24:$D$5800,D27,Limits_Details_w_CPMS!$K$24:$K$5800,\"Other Unknown Causes\"))","v":""}]
[null,{"$f":"IF(Lists!AJ6=\"\",\"\",Lists!AJ6)","v":""},{"$f":"IF(Lists!AK6=\"\",\"\",Lists!AK6)","v":""},{"$f":"IF(Lists!AL6=\"\",\"\",Lists!AL6)","v":""},null,"","",{"$f":"IF($B28=\"\",\"\",SUMIFS(Limits_Details_w_CPMS!$J$24:$J$5800,Limits_Details_w_CPMS!$B$24:$B$5800,B28,Limits_Details_w_CPMS!$C$24:$C$5800,C28,Limits_Details_w_CPMS!$D$24:$D$5800,D28,Limits_Details_w_CPMS!$K$24:$K$5800,\"Control Equipment Problems\"))","v":""},{"$f":"IF($B28=\"\",\"\",SUMIFS(Limits_Details_w_CPMS!$J$24:$J$5800,Limits_Details_w_CPMS!$B$24:$B$5800,B28,Limits_Details_w_CPMS!$C$24:$C$5800,C28,Limits_Details_w_CPMS!$D$24:$D$5800,D28,Limits_Details_w_CPMS!$K$24:$K$5800,\"Process Problems\"))","v":""},{"$f":"IF($B28=\"\",\"\",SUMIFS(Limits_Details_w_CPMS!$J$24:$J$5800,Limits_Details_w_CPMS!$B$24:$B$5800,B28,Limits_Details_w_CPMS!$C$24:$C$5800,C28,Limits_Details_w_CPMS!$D$24:$D$5800,D28,Limits_Details_w_CPMS!$K$24:$K$5800,\"Other Known Causes\"))","v":""},{"$f":"IF($B28=\"\",\"\",SUMIFS(Limits_Details_w_CPMS!$J$24:$J$5800,Limits_Details_w_CPMS!$B$24:$B$5800,B28,Limits_Details_w_CPMS!$C$24:$C$5800,C28,Limits_Details_w_CPMS!$D$24:$D$5800,D28,Limits_Details_w_CPMS!$K$24:$K$5800,\"Other Unknown Causes\"))","v":""}]
[null,{"$f":"IF(Lists!AJ7=\"\",\"\",Lists!AJ7)","v":""},{"$f":"IF(Lists!AK7=\"\",\"\",Lists!AK7)","v":""},{"$f":"IF(Lists!AL7=\"\",\"\",Lists!AL7)","v":""},null,"","",{"$f":"IF($B29=\"\",\"\",SUMIFS(Limits_Details_w_CPMS!$J$24:$J$5800,Limits_Details_w_CPMS!$B$24:$B$5800,B29,Limits_Details_w_CPMS!$C$24:$C$5800,C29,Limits_Details_w_CPMS!$D$24:$D$5800,D29,Limits_Details_w_CPMS!$K$24:$K$5800,\"Control Equipment Problems\"))","v":""},{"$f":"IF($B29=\"\",\"\",SUMIFS(Limits_Details_w_CPMS!$J$24:$J$5800,Limits_Details_w_CPMS!$B$24:$B$5800,B29,Limits_Details_w_CPMS!$C$24:$C$5800,C29,Limits_Details_w_CPMS!$D$24:$D$5800,D29,Limits_Details_w_CPMS!$K$24:$K$5800,\"Process Problems\"))","v":""},{"$f":"IF($B29=\"\",\"\",SUMIFS(Limits_Details_w_CPMS!$J$24:$J$5800,Limits_Details_w_CPMS!$B$24:$B$5800,B29,Limits_Details_w_CPMS!$C$24:$C$5800,C29,Limits_Details_w_CPMS!$D$24:$D$5800,D29,Limits_Details_w_CPMS!$K$24:$K$5800,\"Other Known Causes\"))","v":""},{"$f":"IF($B29=\"\",\"\",SUMIFS(Limits_Details_w_CPMS!$J$24:$J$5800,Limits_Details_w_CPMS!$B$24:$B$5800,B29,Limits_Details_w_CPMS!$C$24:$C$5800,C29,Limits_Details_w_CPMS!$D$24:$D$5800,D29,Limits_Details_w_CPMS!$K$24:$K$5800,\"Other Unknown Causes\"))","v":""}]
[null,{"$f":"IF(Lists!AJ8=\"\",\"\",Lists!AJ8)","v":""},{"$f":"IF(Lists!AK8=\"\",\"\",Lists!AK8)","v":""},{"$f":"IF(Lists!AL8=\"\",\"\",Lists!AL8)","v":""},null,"","",{"$f":"IF($B30=\"\",\"\",SUMIFS(Limits_Details_w_CPMS!$J$24:$J$5800,Limits_Details_w_CPMS!$B$24:$B$5800,B30,Limits_Details_w_CPMS!$C$24:$C$5800,C30,Limits_Details_w_CPMS!$D$24:$D$5800,D30,Limits_Details_w_CPMS!$K$24:$K$5800,\"Control Equipment Problems\"))","v":""},{"$f":"IF($B30=\"\",\"\",SUMIFS(Limits_Details_w_CPMS!$J$24:$J$5800,Limits_Details_w_CPMS!$B$24:$B$5800,B30,Limits_Details_w_CPMS!$C$24:$C$5800,C30,Limits_Details_w_CPMS!$D$24:$D$5800,D30,Limits_Details_w_CPMS!$K$24:$K$5800,\"Process Problems\"))","v":""},{"$f":"IF($B30=\"\",\"\",SUMIFS(Limits_Details_w_CPMS!$J$24:$J$5800,Limits_Details_w_CPMS!$B$24:$B$5800,B30,Limits_Details_w_CPMS!$C$24:$C$5800,C30,Limits_Details_w_CPMS!$D$24:$D$5800,D30,Limits_Details_w_CPMS!$K$24:$K$5800,\"Other Known Causes\"))","v":""},{"$f":"IF($B30=\"\",\"\",SUMIFS(Limits_Details_w_CPMS!$J$24:$J$5800,Limits_Details_w_CPMS!$B$24:$B$5800,B30,Limits_Details_w_CPMS!$C$24:$C$5800,C30,Limits_Details_w_CPMS!$D$24:$D$5800,D30,Limits_Details_w_CPMS!$K$24:$K$5800,\"Other Unknown Causes\"))","v":""}]
[null,{"$f":"IF(Lists!AJ9=\"\",\"\",Lists!AJ9)","v":""},{"$f":"IF(Lists!AK9=\"\",\"\",Lists!AK9)","v":""},{"$f":"IF(Lists!AL9=\"\",\"\",Lists!AL9)","v":""},null,"","",{"$f":"IF($B31=\"\",\"\",SUMIFS(Limits_Details_w_CPMS!$J$24:$J$5800,Limits_Details_w_CPMS!$B$24:$B$5800,B31,Limits_Details_w_CPMS!$C$24:$C$5800,C31,Limits_Details_w_CPMS!$D$24:$D$5800,D31,Limits_Details_w_CPMS!$K$24:$K$5800,\"Control Equipment Problems\"))","v":""},{"$f":"IF($B31=\"\",\"\",SUMIFS(Limits_Details_w_CPMS!$J$24:$J$5800,Limits_Details_w_CPMS!$B$24:$B$5800,B31,Limits_Details_w_CPMS!$C$24:$C$5800,C31,Limits_Details_w_CPMS!$D$24:$D$5800,D31,Limits_Details_w_CPMS!$K$24:$K$5800,\"Process Problems\"))","v":""},{"$f":"IF($B31=\"\",\"\",SUMIFS(Limits_Details_w_CPMS!$J$24:$J$5800,Limits_Details_w_CPMS!$B$24:$B$5800,B31,Limits_Details_w_CPMS!$C$24:$C$5800,C31,Limits_Details_w_CPMS!$D$24:$D$5800,D31,Limits_Details_w_CPMS!$K$24:$K$5800,\"Other Known Causes\"))","v":""},{"$f":"IF($B31=\"\",\"\",SUMIFS(Limits_Details_w_CPMS!$J$24:$J$5800,Limits_Details_w_CPMS!$B$24:$B$5800,B31,Limits_Details_w_CPMS!$C$24:$C$5800,C31,Limits_Details_w_CPMS!$D$24:$D$5800,D31,Limits_Details_w_CPMS!$K$24:$K$5800,\"Other Unknown Causes\"))","v":""}]
[null,{"$f":"IF(Lists!AJ10=\"\",\"\",Lists!AJ10)","v":""},{"$f":"IF(Lists!AK10=\"\",\"\",Lists!AK10)","v":""},{"$f":"IF(Lists!AL10=\"\",\"\",Lists!AL10)","v":""},null,"","",{"$f":"IF($B32=\"\",\"\",SUMIFS(Limits_Details_w_CPMS!$J$24:$J$5800,Limits_Details_w_CPMS!$B$24:$B$5800,B32,Limits_Details_w_CPMS!$C$24:$C$5800,C32,Limits_Details_w_CPMS!$D$24:$D$5800,D32,Limits_Details_w_CPMS!$K$24:$K$5800,\"Control Equipment Problems\"))","v":""},{"$f":"IF($B32=\"\",\"\",SUMIFS(Limits_Details_w_CPMS!$J$24:$J$5800,Limits_Details_w_CPMS!$B$24:$B$5800,B32,Limits_Details_w_CPMS!$C$24:$C$5800,C32,Limits_Details_w_CPMS!$D$24:$D$5800,D32,Limits_Details_w_CPMS!$K$24:$K$5800,\"Process Problems\"))","v":""},{"$f":"IF($B32=\"\",\"\",SUMIFS(Limits_Details_w_CPMS!$J$24:$J$5800,Limits_Details_w_CPMS!$B$24:$B$5800,B32,Limits_Details_w_CPMS!$C$24:$C$5800,C32,Limits_Details_w_CPMS!$D$24:$D$5800,D32,Limits_Details_w_CPMS!$K$24:$K$5800,\"Other Known Causes\"))","v":""},{"$f":"IF($B32=\"\",\"\",SUMIFS(Limits_Details_w_CPMS!$J$24:$J$5800,Limits_Details_w_CPMS!$B$24:$B$5800,B32,Limits_Details_w_CPMS!$C$24:$C$5800,C32,Limits_Details_w_CPMS!$D$24:$D$5800,D32,Limits_Details_w_CPMS!$K$24:$K$5800,\"Other Unknown Causes\"))","v":""}]
[null,{"$f":"IF(Lists!AJ11=\"\",\"\",Lists!AJ11)","v":""},{"$f":"IF(Lists!AK11=\"\",\"\",Lists!AK11)","v":""},{"$f":"IF(Lists!AL11=\"\",\"\",Lists!AL11)","v":""},null,"","",{"$f":"IF($B33=\"\",\"\",SUMIFS(Limits_Details_w_CPMS!$J$24:$J$5800,Limits_Details_w_CPMS!$B$24:$B$5800,B33,Limits_Details_w_CPMS!$C$24:$C$5800,C33,Limits_Details_w_CPMS!$D$24:$D$5800,D33,Limits_Details_w_CPMS!$K$24:$K$5800,\"Control Equipment Problems\"))","v":""},{"$f":"IF($B33=\"\",\"\",SUMIFS(Limits_Details_w_CPMS!$J$24:$J$5800,Limits_Details_w_CPMS!$B$24:$B$5800,B33,Limits_Details_w_CPMS!$C$24:$C$5800,C33,Limits_Details_w_CPMS!$D$24:$D$5800,D33,Limits_Details_w_CPMS!$K$24:$K$5800,\"Process Problems\"))","v":""},{"$f":"IF($B33=\"\",\"\",SUMIFS(Limits_Details_w_CPMS!$J$24:$J$5800,Limits_Details_w_CPMS!$B$24:$B$5800,B33,Limits_Details_w_CPMS!$C$24:$C$5800,C33,Limits_Details_w_CPMS!$D$24:$D$5800,D33,Limits_Details_w_CPMS!$K$24:$K$5800,\"Other Known Causes\"))","v":""},{"$f":"IF($B33=\"\",\"\",SUMIFS(Limits_Details_w_CPMS!$J$24:$J$5800,Limits_Details_w_CPMS!$B$24:$B$5800,B33,Limits_Details_w_CPMS!$C$24:$C$5800,C33,Limits_Details_w_CPMS!$D$24:$D$5800,D33,Limits_Details_w_CPMS!$K$24:$K$5800,\"Other Unknown Causes\"))","v":""}]
[null,{"$f":"IF(Lists!AJ12=\"\",\"\",Lists!AJ12)","v":""},{"$f":"IF(Lists!AK12=\"\",\"\",Lists!AK12)","v":""},{"$f":"IF(Lists!AL12=\"\",\"\",Lists!AL12)","v":""},null,"","",{"$f":"IF($B34=\"\",\"\",SUMIFS(Limits_Details_w_CPMS!$J$24:$J$5800,Limits_Details_w_CPMS!$B$24:$B$5800,B34,Limits_Details_w_CPMS!$C$24:$C$5800,C34,Limits_Details_w_CPMS!$D$24:$D$5800,D34,Limits_Details_w_CPMS!$K$24:$K$5800,\"Control Equipment Problems\"))","v":""},{"$f":"IF($B34=\"\",\"\",SUMIFS(Limits_Details_w_CPMS!$J$24:$J$5800,Limits_Details_w_CPMS!$B$24:$B$5800,B34,Limits_Details_w_CPMS!$C$24:$C$5800,C34,Limits_Details_w_CPMS!$D$24:$D$5800,D34,Limits_Details_w_CPMS!$K$24:$K$5800,\"Process Problems\"))","v":""},{"$f":"IF($B34=\"\",\"\",SUMIFS(Limits_Details_w_CPMS!$J$24:$J$5800,Limits_Details_w_CPMS!$B$24:$B$5800,B34,Limits_Details_w_CPMS!$C$24:$C$5800,C34,Limits_Details_w_CPMS!$D$24:$D$5800,D34,Limits_Details_w_CPMS!$K$24:$K$5800,\"Other Known Causes\"))","v":""},{"$f":"IF($B34=\"\",\"\",SUMIFS(Limits_Details_w_CPMS!$J$24:$J$5800,Limits_Details_w_CPMS!$B$24:$B$5800,B34,Limits_Details_w_CPMS!$C$24:$C$5800,C34,Limits_Details_w_CPMS!$D$24:$D$5800,D34,Limits_Details_w_CPMS!$K$24:$K$5800,\"Other Unknown Causes\"))","v":""}]
[null,{"$f":"IF(Lists!AJ13=\"\",\"\",Lists!AJ13)","v":""},{"$f":"IF(Lists!AK13=\"\",\"\",Lists!AK13)","v":""},{"$f":"IF(Lists!AL13=\"\",\"\",Lists!AL13)","v":""},null,"","",{"$f":"IF($B35=\"\",\"\",SUMIFS(Limits_Details_w_CPMS!$J$24:$J$5800,Limits_Details_w_CPMS!$B$24:$B$5800,B35,Limits_Details_w_CPMS!$C$24:$C$5800,C35,Limits_Details_w_CPMS!$D$24:$D$5800,D35,Limits_Details_w_CPMS!$K$24:$K$5800,\"Control Equipment Problems\"))","v":""},{"$f":"IF($B35=\"\",\"\",SUMIFS(Limits_Details_w_CPMS!$J$24:$J$5800,Limits_Details_w_CPMS!$B$24:$B$5800,B35,Limits_Details_w_CPMS!$C$24:$C$5800,C35,Limits_Details_w_CPMS!$D$24:$D$5800,D35,Limits_Details_w_CPMS!$K$24:$K$5800,\"Process Problems\"))","v":""},{"$f":"IF($B35=\"\",\"\",SUMIFS(Limits_Details_w_CPMS!$J$24:$J$5800,Limits_Details_w_CPMS!$B$24:$B$5800,B35,Limits_Details_w_CPMS!$C$24:$C$5800,C35,Limits_Details_w_CPMS!$D$24:$D$5800,D35,Limits_Details_w_CPMS!$K$24:$K$5800,\"Other Known Causes\"))","v":""},{"$f":"IF($B35=\"\",\"\",SUMIFS(Limits_Details_w_CPMS!$J$24:$J$5800,Limits_Details_w_CPMS!$B$24:$B$5800,B35,Limits_Details_w_CPMS!$C$24:$C$5800,C35,Limits_Details_w_CPMS!$D$24:$D$5800,D35,Limits_Details_w_CPMS!$K$24:$K$5800,\"Other Unknown Causes\"))","v":""}]
[null,{"$f":"IF(Lists!AJ14=\"\",\"\",Lists!AJ14)","v":""},{"$f":"IF(Lists!AK14=\"\",\"\",Lists!AK14)","v":""},{"$f":"IF(Lists!AL14=\"\",\"\",Lists!AL14)","v":""},null,"","",{"$f":"IF($B36=\"\",\"\",SUMIFS(Limits_Details_w_CPMS!$J$24:$J$5800,Limits_Details_w_CPMS!$B$24:$B$5800,B36,Limits_Details_w_CPMS!$C$24:$C$5800,C36,Limits_Details_w_CPMS!$D$24:$D$5800,D36,Limits_Details_w_CPMS!$K$24:$K$5800,\"Control Equipment Problems\"))","v":""},{"$f":"IF($B36=\"\",\"\",SUMIFS(Limits_Details_w_CPMS!$J$24:$J$5800,Limits_Details_w_CPMS!$B$24:$B$5800,B36,Limits_Details_w_CPMS!$C$24:$C$5800,C36,Limits_Details_w_CPMS!$D$24:$D$5800,D36,Limits_Details_w_CPMS!$K$24:$K$5800,\"Process Problems\"))","v":""},{"$f":"IF($B36=\"\",\"\",SUMIFS(Limits_Details_w_CPMS!$J$24:$J$5800,Limits_Details_w_CPMS!$B$24:$B$5800,B36,Limits_Details_w_CPMS!$C$24:$C$5800,C36,Limits_Details_w_CPMS!$D$24:$D$5800,D36,Limits_Details_w_CPMS!$K$24:$K$5800,\"Other Known Causes\"))","v":""},{"$f":"IF($B36=\"\",\"\",SUMIFS(Limits_Details_w_CPMS!$J$24:$J$5800,Limits_Details_w_CPMS!$B$24:$B$5800,B36,Limits_Details_w_CPMS!$C$24:$C$5800,C36,Limits_Details_w_CPMS!$D$24:$D$5800,D36,Limits_Details_w_CPMS!$K$24:$K$5800,\"Other Unknown Causes\"))","v":""}]
[null,{"$f":"IF(Lists!AJ15=\"\",\"\",Lists!AJ15)","v":""},{"$f":"IF(Lists!AK15=\"\",\"\",Lists!AK15)","v":""},{"$f":"IF(Lists!AL15=\"\",\"\",Lists!AL15)","v":""},null,"","",{"$f":"IF($B37=\"\",\"\",SUMIFS(Limits_Details_w_CPMS!$J$24:$J$5800,Limits_Details_w_CPMS!$B$24:$B$5800,B37,Limits_Details_w_CPMS!$C$24:$C$5800,C37,Limits_Details_w_CPMS!$D$24:$D$5800,D37,Limits_Details_w_CPMS!$K$24:$K$5800,\"Control Equipment Problems\"))","v":""},{"$f":"IF($B37=\"\",\"\",SUMIFS(Limits_Details_w_CPMS!$J$24:$J$5800,Limits_Details_w_CPMS!$B$24:$B$5800,B37,Limits_Details_w_CPMS!$C$24:$C$5800,C37,Limits_Details_w_CPMS!$D$24:$D$5800,D37,Limits_Details_w_CPMS!$K$24:$K$5800,\"Process Problems\"))","v":""},{"$f":"IF($B37=\"\",\"\",SUMIFS(Limits_Details_w_CPMS!$J$24:$J$5800,Limits_Details_w_CPMS!$B$24:$B$5800,B37,Limits_Details_w_CPMS!$C$24:$C$5800,C37,Limits_Details_w_CPMS!$D$24:$D$5800,D37,Limits_Details_w_CPMS!$K$24:$K$5800,\"Other Known Causes\"))","v":""},{"$f":"IF($B37=\"\",\"\",SUMIFS(Limits_Details_w_CPMS!$J$24:$J$5800,Limits_Details_w_CPMS!$B$24:$B$5800,B37,Limits_Details_w_CPMS!$C$24:$C$5800,C37,Limits_Details_w_CPMS!$D$24:$D$5800,D37,Limits_Details_w_CPMS!$K$24:$K$5800,\"Other Unknown Causes\"))","v":""}]
[null,{"$f":"IF(Lists!AJ16=\"\",\"\",Lists!AJ16)","v":""},{"$f":"IF(Lists!AK16=\"\",\"\",Lists!AK16)","v":""},{"$f":"IF(Lists!AL16=\"\",\"\",Lists!AL16)","v":""},null,"","",{"$f":"IF($B38=\"\",\"\",SUMIFS(Limits_Details_w_CPMS!$J$24:$J$5800,Limits_Details_w_CPMS!$B$24:$B$5800,B38,Limits_Details_w_CPMS!$C$24:$C$5800,C38,Limits_Details_w_CPMS!$D$24:$D$5800,D38,Limits_Details_w_CPMS!$K$24:$K$5800,\"Control Equipment Problems\"))","v":""},{"$f":"IF($B38=\"\",\"\",SUMIFS(Limits_Details_w_CPMS!$J$24:$J$5800,Limits_Details_w_CPMS!$B$24:$B$5800,B38,Limits_Details_w_CPMS!$C$24:$C$5800,C38,Limits_Details_w_CPMS!$D$24:$D$5800,D38,Limits_Details_w_CPMS!$K$24:$K$5800,\"Process Problems\"))","v":""},{"$f":"IF($B38=\"\",\"\",SUMIFS(Limits_Details_w_CPMS!$J$24:$J$5800,Limits_Details_w_CPMS!$B$24:$B$5800,B38,Limits_Details_w_CPMS!$C$24:$C$5800,C38,Limits_Details_w_CPMS!$D$24:$D$5800,D38,Limits_Details_w_CPMS!$K$24:$K$5800,\"Other Known Causes\"))","v":""},{"$f":"IF($B38=\"\",\"\",SUMIFS(Limits_Details_w_CPMS!$J$24:$J$5800,Limits_Details_w_CPMS!$B$24:$B$5800,B38,Limits_Details_w_CPMS!$C$24:$C$5800,C38,Limits_Details_w_CPMS!$D$24:$D$5800,D38,Limits_Details_w_CPMS!$K$24:$K$5800,\"Other Unknown Causes\"))","v":""}]
[null,{"$f":"IF(Lists!AJ17=\"\",\"\",Lists!AJ17)","v":""},{"$f":"IF(Lists!AK17=\"\",\"\",Lists!AK17)","v":""},{"$f":"IF(Lists!AL17=\"\",\"\",Lists!AL17)","v":""},null,"","",{"$f":"IF($B39=\"\",\"\",SUMIFS(Limits_Details_w_CPMS!$J$24:$J$5800,Limits_Details_w_CPMS!$B$24:$B$5800,B39,Limits_Details_w_CPMS!$C$24:$C$5800,C39,Limits_Details_w_CPMS!$D$24:$D$5800,D39,Limits_Details_w_CPMS!$K$24:$K$5800,\"Control Equipment Problems\"))","v":""},{"$f":"IF($B39=\"\",\"\",SUMIFS(Limits_Details_w_CPMS!$J$24:$J$5800,Limits_Details_w_CPMS!$B$24:$B$5800,B39,Limits_Details_w_CPMS!$C$24:$C$5800,C39,Limits_Details_w_CPMS!$D$24:$D$5800,D39,Limits_Details_w_CPMS!$K$24:$K$5800,\"Process Problems\"))","v":""},{"$f":"IF($B39=\"\",\"\",SUMIFS(Limits_Details_w_CPMS!$J$24:$J$5800,Limits_Details_w_CPMS!$B$24:$B$5800,B39,Limits_Details_w_CPMS!$C$24:$C$5800,C39,Limits_Details_w_CPMS!$D$24:$D$5800,D39,Limits_Details_w_CPMS!$K$24:$K$5800,\"Other Known Causes\"))","v":""},{"$f":"IF($B39=\"\",\"\",SUMIFS(Limits_Details_w_CPMS!$J$24:$J$5800,Limits_Details_w_CPMS!$B$24:$B$5800,B39,Limits_Details_w_CPMS!$C$24:$C$5800,C39,Limits_Details_w_CPMS!$D$24:$D$5800,D39,Limits_Details_w_CPMS!$K$24:$K$5800,\"Other Unknown Causes\"))","v":""}]
[null,{"$f":"IF(Lists!AJ18=\"\",\"\",Lists!AJ18)","v":""},{"$f":"IF(Lists!AK18=\"\",\"\",Lists!AK18)","v":""},{"$f":"IF(Lists!AL18=\"\",\"\",Lists!AL18)","v":""},null,"","",{"$f":"IF($B40=\"\",\"\",SUMIFS(Limits_Details_w_CPMS!$J$24:$J$5800,Limits_Details_w_CPMS!$B$24:$B$5800,B40,Limits_Details_w_CPMS!$C$24:$C$5800,C40,Limits_Details_w_CPMS!$D$24:$D$5800,D40,Limits_Details_w_CPMS!$K$24:$K$5800,\"Control Equipment Problems\"))","v":""},{"$f":"IF($B40=\"\",\"\",SUMIFS(Limits_Details_w_CPMS!$J$24:$J$5800,Limits_Details_w_CPMS!$B$24:$B$5800,B40,Limits_Details_w_CPMS!$C$24:$C$5800,C40,Limits_Details_w_CPMS!$D$24:$D$5800,D40,Limits_Details_w_CPMS!$K$24:$K$5800,\"Process Problems\"))","v":""},{"$f":"IF($B40=\"\",\"\",SUMIFS(Limits_Details_w_CPMS!$J$24:$J$5800,Limits_Details_w_CPMS!$B$24:$B$5800,B40,Limits_Details_w_CPMS!$C$24:$C$5800,C40,Limits_Details_w_CPMS!$D$24:$D$5800,D40,Limits_Details_w_CPMS!$K$24:$K$5800,\"Other Known Causes\"))","v":""},{"$f":"IF($B40=\"\",\"\",SUMIFS(Limits_Details_w_CPMS!$J$24:$J$5800,Limits_Details_w_CPMS!$B$24:$B$5800,B40,Limits_Details_w_CPMS!$C$24:$C$5800,C40,Limits_Details_w_CPMS!$D$24:$D$5800,D40,Limits_Details_w_CPMS!$K$24:$K$5800,\"Other Unknown Causes\"))","v":""}]
[null,{"$f":"IF(Lists!AJ19=\"\",\"\",Lists!AJ19)","v":""},{"$f":"IF(Lists!AK19=\"\",\"\",Lists!AK19)","v":""},{"$f":"IF(Lists!AL19=\"\",\"\",Lists!AL19)","v":""},null,"","",{"$f":"IF($B41=\"\",\"\",SUMIFS(Limits_Details_w_CPMS!$J$24:$J$5800,Limits_Details_w_CPMS!$B$24:$B$5800,B41,Limits_Details_w_CPMS!$C$24:$C$5800,C41,Limits_Details_w_CPMS!$D$24:$D$5800,D41,Limits_Details_w_CPMS!$K$24:$K$5800,\"Control Equipment Problems\"))","v":""},{"$f":"IF($B41=\"\",\"\",SUMIFS(Limits_Details_w_CPMS!$J$24:$J$5800,Limits_Details_w_CPMS!$B$24:$B$5800,B41,Limits_Details_w_CPMS!$C$24:$C$5800,C41,Limits_Details_w_CPMS!$D$24:$D$5800,D41,Limits_Details_w_CPMS!$K$24:$K$5800,\"Process Problems\"))","v":""},{"$f":"IF($B41=\"\",\"\",SUMIFS(Limits_Details_w_CPMS!$J$24:$J$5800,Limits_Details_w_CPMS!$B$24:$B$5800,B41,Limits_Details_w_CPMS!$C$24:$C$5800,C41,Limits_Details_w_CPMS!$D$24:$D$5800,D41,Limits_Details_w_CPMS!$K$24:$K$5800,\"Other Known Causes\"))","v":""},{"$f":"IF($B41=\"\",\"\",SUMIFS(Limits_Details_w_CPMS!$J$24:$J$5800,Limits_Details_w_CPMS!$B$24:$B$5800,B41,Limits_Details_w_CPMS!$C$24:$C$5800,C41,Limits_Details_w_CPMS!$D$24:$D$5800,D41,Limits_Details_w_CPMS!$K$24:$K$5800,\"Other Unknown Causes\"))","v":""}]
[null,{"$f":"IF(Lists!AJ20=\"\",\"\",Lists!AJ20)","v":""},{"$f":"IF(Lists!AK20=\"\",\"\",Lists!AK20)","v":""},{"$f":"IF(Lists!AL20=\"\",\"\",Lists!AL20)","v":""},null,"","",{"$f":"IF($B42=\"\",\"\",SUMIFS(Limits_Details_w_CPMS!$J$24:$J$5800,Limits_Details_w_CPMS!$B$24:$B$5800,B42,Limits_Details_w_CPMS!$C$24:$C$5800,C42,Limits_Details_w_CPMS!$D$24:$D$5800,D42,Limits_Details_w_CPMS!$K$24:$K$5800,\"Control Equipment Problems\"))","v":""},{"$f":"IF($B42=\"\",\"\",SUMIFS(Limits_Details_w_CPMS!$J$24:$J$5800,Limits_Details_w_CPMS!$B$24:$B$5800,B42,Limits_Details_w_CPMS!$C$24:$C$5800,C42,Limits_Details_w_CPMS!$D$24:$D$5800,D42,Limits_Details_w_CPMS!$K$24:$K$5800,\"Process Problems\"))","v":""},{"$f":"IF($B42=\"\",\"\",SUMIFS(Limits_Details_w_CPMS!$J$24:$J$5800,Limits_Details_w_CPMS!$B$24:$B$5800,B42,Limits_Details_w_CPMS!$C$24:$C$5800,C42,Limits_Details_w_CPMS!$D$24:$D$5800,D42,Limits_Details_w_CPMS!$K$24:$K$5800,\"Other Known Causes\"))","v":""},{"$f":"IF($B42=\"\",\"\",SUMIFS(Limits_Details_w_CPMS!$J$24:$J$5800,Limits_Details_w_CPMS!$B$24:$B$5800,B42,Limits_Details_w_CPMS!$C$24:$C$5800,C42,Limits_Details_w_CPMS!$D$24:$D$5800,D42,Limits_Details_w_CPMS!$K$24:$K$5800,\"Other Unknown Causes\"))","v":""}]
[null,{"$f":"IF(Lists!AJ21=\"\",\"\",Lists!AJ21)","v":""},{"$f":"IF(Lists!AK21=\"\",\"\",Lists!AK21)","v":""},{"$f":"IF(Lists!AL21=\"\",\"\",Lists!AL21)","v":""},null,"","",{"$f":"IF($B43=\"\",\"\",SUMIFS(Limits_Details_w_CPMS!$J$24:$J$5800,Limits_Details_w_CPMS!$B$24:$B$5800,B43,Limits_Details_w_CPMS!$C$24:$C$5800,C43,Limits_Details_w_CPMS!$D$24:$D$5800,D43,Limits_Details_w_CPMS!$K$24:$K$5800,\"Control Equipment Problems\"))","v":""},{"$f":"IF($B43=\"\",\"\",SUMIFS(Limits_Details_w_CPMS!$J$24:$J$5800,Limits_Details_w_CPMS!$B$24:$B$5800,B43,Limits_Details_w_CPMS!$C$24:$C$5800,C43,Limits_Details_w_CPMS!$D$24:$D$5800,D43,Limits_Details_w_CPMS!$K$24:$K$5800,\"Process Problems\"))","v":""},{"$f":"IF($B43=\"\",\"\",SUMIFS(Limits_Details_w_CPMS!$J$24:$J$5800,Limits_Details_w_CPMS!$B$24:$B$5800,B43,Limits_Details_w_CPMS!$C$24:$C$5800,C43,Limits_Details_w_CPMS!$D$24:$D$5800,D43,Limits_Details_w_CPMS!$K$24:$K$5800,\"Other Known Causes\"))","v":""},{"$f":"IF($B43=\"\",\"\",SUMIFS(Limits_Details_w_CPMS!$J$24:$J$5800,Limits_Details_w_CPMS!$B$24:$B$5800,B43,Limits_Details_w_CPMS!$C$24:$C$5800,C43,Limits_Details_w_CPMS!$D$24:$D$5800,D43,Limits_Details_w_CPMS!$K$24:$K$5800,\"Other Unknown Causes\"))","v":""}]
[null,{"$f":"IF(Lists!AJ22=\"\",\"\",Lists!AJ22)","v":""},{"$f":"IF(Lists!AK22=\"\",\"\",Lists!AK22)","v":""},{"$f":"IF(Lists!AL22=\"\",\"\",Lists!AL22)","v":""},null,"","",{"$f":"IF($B44=\"\",\"\",SUMIFS(Limits_Details_w_CPMS!$J$24:$J$5800,Limits_Details_w_CPMS!$B$24:$B$5800,B44,Limits_Details_w_CPMS!$C$24:$C$5800,C44,Limits_Details_w_CPMS!$D$24:$D$5800,D44,Limits_Details_w_CPMS!$K$24:$K$5800,\"Control Equipment Problems\"))","v":""},{"$f":"IF($B44=\"\",\"\",SUMIFS(Limits_Details_w_CPMS!$J$24:$J$5800,Limits_Details_w_CPMS!$B$24:$B$5800,B44,Limits_Details_w_CPMS!$C$24:$C$5800,C44,Limits_Details_w_CPMS!$D$24:$D$5800,D44,Limits_Details_w_CPMS!$K$24:$K$5800,\"Process Problems\"))","v":""},{"$f":"IF($B44=\"\",\"\",SUMIFS(Limits_Details_w_CPMS!$J$24:$J$5800,Limits_Details_w_CPMS!$B$24:$B$5800,B44,Limits_Details_w_CPMS!$C$24:$C$5800,C44,Limits_Details_w_CPMS!$D$24:$D$5800,D44,Limits_Details_w_CPMS!$K$24:$K$5800,\"Other Known Causes\"))","v":""},{"$f":"IF($B44=\"\",\"\",SUMIFS(Limits_Details_w_CPMS!$J$24:$J$5800,Limits_Details_w_CPMS!$B$24:$B$5800,B44,Limits_Details_w_CPMS!$C$24:$C$5800,C44,Limits_Details_w_CPMS!$D$24:$D$5800,D44,Limits_Details_w_CPMS!$K$24:$K$5800,\"Other Unknown Causes\"))","v":""}]
[null,{"$f":"IF(Lists!AJ23=\"\",\"\",Lists!AJ23)","v":""},{"$f":"IF(Lists!AK23=\"\",\"\",Lists!AK23)","v":""},{"$f":"IF(Lists!AL23=\"\",\"\",Lists!AL23)","v":""},null,"","",{"$f":"IF($B45=\"\",\"\",SUMIFS(Limits_Details_w_CPMS!$J$24:$J$5800,Limits_Details_w_CPMS!$B$24:$B$5800,B45,Limits_Details_w_CPMS!$C$24:$C$5800,C45,Limits_Details_w_CPMS!$D$24:$D$5800,D45,Limits_Details_w_CPMS!$K$24:$K$5800,\"Control Equipment Problems\"))","v":""},{"$f":"IF($B45=\"\",\"\",SUMIFS(Limits_Details_w_CPMS!$J$24:$J$5800,Limits_Details_w_CPMS!$B$24:$B$5800,B45,Limits_Details_w_CPMS!$C$24:$C$5800,C45,Limits_Details_w_CPMS!$D$24:$D$5800,D45,Limits_Details_w_CPMS!$K$24:$K$5800,\"Process Problems\"))","v":""},{"$f":"IF($B45=\"\",\"\",SUMIFS(Limits_Details_w_CPMS!$J$24:$J$5800,Limits_Details_w_CPMS!$B$24:$B$5800,B45,Limits_Details_w_CPMS!$C$24:$C$5800,C45,Limits_Details_w_CPMS!$D$24:$D$5800,D45,Limits_Details_w_CPMS!$K$24:$K$5800,\"Other Known Causes\"))","v":""},{"$f":"IF($B45=\"\",\"\",SUMIFS(Limits_Details_w_CPMS!$J$24:$J$5800,Limits_Details_w_CPMS!$B$24:$B$5800,B45,Limits_Details_w_CPMS!$C$24:$C$5800,C45,Limits_Details_w_CPMS!$D$24:$D$5800,D45,Limits_Details_w_CPMS!$K$24:$K$5800,\"Other Unknown Causes\"))","v":""}]
[null,{"$f":"IF(Lists!AJ24=\"\",\"\",Lists!AJ24)","v":""},{"$f":"IF(Lists!AK24=\"\",\"\",Lists!AK24)","v":""},{"$f":"IF(Lists!AL24=\"\",\"\",Lists!AL24)","v":""},null,"","",{"$f":"IF($B46=\"\",\"\",SUMIFS(Limits_Details_w_CPMS!$J$24:$J$5800,Limits_Details_w_CPMS!$B$24:$B$5800,B46,Limits_Details_w_CPMS!$C$24:$C$5800,C46,Limits_Details_w_CPMS!$D$24:$D$5800,D46,Limits_Details_w_CPMS!$K$24:$K$5800,\"Control Equipment Problems\"))","v":""},{"$f":"IF($B46=\"\",\"\",SUMIFS(Limits_Details_w_CPMS!$J$24:$J$5800,Limits_Details_w_CPMS!$B$24:$B$5800,B46,Limits_Details_w_CPMS!$C$24:$C$5800,C46,Limits_Details_w_CPMS!$D$24:$D$5800,D46,Limits_Details_w_CPMS!$K$24:$K$5800,\"Process Problems\"))","v":""},{"$f":"IF($B46=\"\",\"\",SUMIFS(Limits_Details_w_CPMS!$J$24:$J$5800,Limits_Details_w_CPMS!$B$24:$B$5800,B46,Limits_Details_w_CPMS!$C$24:$C$5800,C46,Limits_Details_w_CPMS!$D$24:$D$5800,D46,Limits_Details_w_CPMS!$K$24:$K$5800,\"Other Known Causes\"))","v":""},{"$f":"IF($B46=\"\",\"\",SUMIFS(Limits_Details_w_CPMS!$J$24:$J$5800,Limits_Details_w_CPMS!$B$24:$B$5800,B46,Limits_Details_w_CPMS!$C$24:$C$5800,C46,Limits_Details_w_CPMS!$D$24:$D$5800,D46,Limits_Details_w_CPMS!$K$24:$K$5800,\"Other Unknown Causes\"))","v":""}]
[null,{"$f":"IF(Lists!AJ25=\"\",\"\",Lists!AJ25)","v":""},{"$f":"IF(Lists!AK25=\"\",\"\",Lists!AK25)","v":""},{"$f":"IF(Lists!AL25=\"\",\"\",Lists!AL25)","v":""},null,"","",{"$f":"IF($B47=\"\",\"\",SUMIFS(Limits_Details_w_CPMS!$J$24:$J$5800,Limits_Details_w_CPMS!$B$24:$B$5800,B47,Limits_Details_w_CPMS!$C$24:$C$5800,C47,Limits_Details_w_CPMS!$D$24:$D$5800,D47,Limits_Details_w_CPMS!$K$24:$K$5800,\"Control Equipment Problems\"))","v":""},{"$f":"IF($B47=\"\",\"\",SUMIFS(Limits_Details_w_CPMS!$J$24:$J$5800,Limits_Details_w_CPMS!$B$24:$B$5800,B47,Limits_Details_w_CPMS!$C$24:$C$5800,C47,Limits_Details_w_CPMS!$D$24:$D$5800,D47,Limits_Details_w_CPMS!$K$24:$K$5800,\"Process Problems\"))","v":""},{"$f":"IF($B47=\"\",\"\",SUMIFS(Limits_Details_w_CPMS!$J$24:$J$5800,Limits_Details_w_CPMS!$B$24:$B$5800,B47,Limits_Details_w_CPMS!$C$24:$C$5800,C47,Limits_Details_w_CPMS!$D$24:$D$5800,D47,Limits_Details_w_CPMS!$K$24:$K$5800,\"Other Known Causes\"))","v":""},{"$f":"IF($B47=\"\",\"\",SUMIFS(Limits_Details_w_CPMS!$J$24:$J$5800,Limits_Details_w_CPMS!$B$24:$B$5800,B47,Limits_Details_w_CPMS!$C$24:$C$5800,C47,Limits_Details_w_CPMS!$D$24:$D$5800,D47,Limits_Details_w_CPMS!$K$24:$K$5800,\"Other Unknown Causes\"))","v":""}]
[null,{"$f":"IF(Lists!AJ26=\"\",\"\",Lists!AJ26)","v":""},{"$f":"IF(Lists!AK26=\"\",\"\",Lists!AK26)","v":""},{"$f":"IF(Lists!AL26=\"\",\"\",Lists!AL26)","v":""},null,"","",{"$f":"IF($B48=\"\",\"\",SUMIFS(Limits_Details_w_CPMS!$J$24:$J$5800,Limits_Details_w_CPMS!$B$24:$B$5800,B48,Limits_Details_w_CPMS!$C$24:$C$5800,C48,Limits_Details_w_CPMS!$D$24:$D$5800,D48,Limits_Details_w_CPMS!$K$24:$K$5800,\"Control Equipment Problems\"))","v":""},{"$f":"IF($B48=\"\",\"\",SUMIFS(Limits_Details_w_CPMS!$J$24:$J$5800,Limits_Details_w_CPMS!$B$24:$B$5800,B48,Limits_Details_w_CPMS!$C$24:$C$5800,C48,Limits_Details_w_CPMS!$D$24:$D$5800,D48,Limits_Details_w_CPMS!$K$24:$K$5800,\"Process Problems\"))","v":""},{"$f":"IF($B48=\"\",\"\",SUMIFS(Limits_Details_w_CPMS!$J$24:$J$5800,Limits_Details_w_CPMS!$B$24:$B$5800,B48,Limits_Details_w_CPMS!$C$24:$C$5800,C48,Limits_Details_w_CPMS!$D$24:$D$5800,D48,Limits_Details_w_CPMS!$K$24:$K$5800,\"Other Known Causes\"))","v":""},{"$f":"IF($B48=\"\",\"\",SUMIFS(Limits_Details_w_CPMS!$J$24:$J$5800,Limits_Details_w_CPMS!$B$24:$B$5800,B48,Limits_Details_w_CPMS!$C$24:$C$5800,C48,Limits_Details_w_CPMS!$D$24:$D$5800,D48,Limits_Details_w_CPMS!$K$24:$K$5800,\"Other Unknown Causes\"))","v":""}]
[null,{"$f":"IF(Lists!AJ27=\"\",\"\",Lists!AJ27)","v":""},{"$f":"IF(Lists!AK27=\"\",\"\",Lists!AK27)","v":""},{"$f":"IF(Lists!AL27=\"\",\"\",Lists!AL27)","v":""},null,"","",{"$f":"IF($B49=\"\",\"\",SUMIFS(Limits_Details_w_CPMS!$J$24:$J$5800,Limits_Details_w_CPMS!$B$24:$B$5800,B49,Limits_Details_w_CPMS!$C$24:$C$5800,C49,Limits_Details_w_CPMS!$D$24:$D$5800,D49,Limits_Details_w_CPMS!$K$24:$K$5800,\"Control Equipment Problems\"))","v":""},{"$f":"IF($B49=\"\",\"\",SUMIFS(Limits_Details_w_CPMS!$J$24:$J$5800,Limits_Details_w_CPMS!$B$24:$B$5800,B49,Limits_Details_w_CPMS!$C$24:$C$5800,C49,Limits_Details_w_CPMS!$D$24:$D$5800,D49,Limits_Details_w_CPMS!$K$24:$K$5800,\"Process Problems\"))","v":""},{"$f":"IF($B49=\"\",\"\",SUMIFS(Limits_Details_w_CPMS!$J$24:$J$5800,Limits_Details_w_CPMS!$B$24:$B$5800,B49,Limits_Details_w_CPMS!$C$24:$C$5800,C49,Limits_Details_w_CPMS!$D$24:$D$5800,D49,Limits_Details_w_CPMS!$K$24:$K$5800,\"Other Known Causes\"))","v":""},{"$f":"IF($B49=\"\",\"\",SUMIFS(Limits_Details_w_CPMS!$J$24:$J$5800,Limits_Details_w_CPMS!$B$24:$B$5800,B49,Limits_Details_w_CPMS!$C$24:$C$5800,C49,Limits_Details_w_CPMS!$D$24:$D$5800,D49,Limits_Details_w_CPMS!$K$24:$K$5800,\"Other Unknown Causes\"))","v":""}]
[null,{"$f":"IF(Lists!AJ28=\"\",\"\",Lists!AJ28)","v":""},{"$f":"IF(Lists!AK28=\"\",\"\",Lists!AK28)","v":""},{"$f":"IF(Lists!AL28=\"\",\"\",Lists!AL28)","v":""},null,"","",{"$f":"IF($B50=\"\",\"\",SUMIFS(Limits_Details_w_CPMS!$J$24:$J$5800,Limits_Details_w_CPMS!$B$24:$B$5800,B50,Limits_Details_w_CPMS!$C$24:$C$5800,C50,Limits_Details_w_CPMS!$D$24:$D$5800,D50,Limits_Details_w_CPMS!$K$24:$K$5800,\"Control Equipment Problems\"))","v":""},{"$f":"IF($B50=\"\",\"\",SUMIFS(Limits_Details_w_CPMS!$J$24:$J$5800,Limits_Details_w_CPMS!$B$24:$B$5800,B50,Limits_Details_w_CPMS!$C$24:$C$5800,C50,Limits_Details_w_CPMS!$D$24:$D$5800,D50,Limits_Details_w_CPMS!$K$24:$K$5800,\"Process Problems\"))","v":""},{"$f":"IF($B50=\"\",\"\",SUMIFS(Limits_Details_w_CPMS!$J$24:$J$5800,Limits_Details_w_CPMS!$B$24:$B$5800,B50,Limits_Details_w_CPMS!$C$24:$C$5800,C50,Limits_Details_w_CPMS!$D$24:$D$5800,D50,Limits_Details_w_CPMS!$K$24:$K$5800,\"Other Known Causes\"))","v":""},{"$f":"IF($B50=\"\",\"\",SUMIFS(Limits_Details_w_CPMS!$J$24:$J$5800,Limits_Details_w_CPMS!$B$24:$B$5800,B50,Limits_Details_w_CPMS!$C$24:$C$5800,C50,Limits_Details_w_CPMS!$D$24:$D$5800,D50,Limits_Details_w_CPMS!$K$24:$K$5800,\"Other Unknown Causes\"))","v":""}]
[null,{"$f":"IF(Lists!AJ29=\"\",\"\",Lists!AJ29)","v":""},{"$f":"IF(Lists!AK29=\"\",\"\",Lists!AK29)","v":""},{"$f":"IF(Lists!AL29=\"\",\"\",Lists!AL29)","v":""},null,"","",{"$f":"IF($B51=\"\",\"\",SUMIFS(Limits_Details_w_CPMS!$J$24:$J$5800,Limits_Details_w_CPMS!$B$24:$B$5800,B51,Limits_Details_w_CPMS!$C$24:$C$5800,C51,Limits_Details_w_CPMS!$D$24:$D$5800,D51,Limits_Details_w_CPMS!$K$24:$K$5800,\"Control Equipment Problems\"))","v":""},{"$f":"IF($B51=\"\",\"\",SUMIFS(Limits_Details_w_CPMS!$J$24:$J$5800,Limits_Details_w_CPMS!$B$24:$B$5800,B51,Limits_Details_w_CPMS!$C$24:$C$5800,C51,Limits_Details_w_CPMS!$D$24:$D$5800,D51,Limits_Details_w_CPMS!$K$24:$K$5800,\"Process Problems\"))","v":""},{"$f":"IF($B51=\"\",\"\",SUMIFS(Limits_Details_w_CPMS!$J$24:$J$5800,Limits_Details_w_CPMS!$B$24:$B$5800,B51,Limits_Details_w_CPMS!$C$24:$C$5800,C51,Limits_Details_w_CPMS!$D$24:$D$5800,D51,Limits_Details_w_CPMS!$K$24:$K$5800,\"Other Known Causes\"))","v":""},{"$f":"IF($B51=\"\",\"\",SUMIFS(Limits_Details_w_CPMS!$J$24:$J$5800,Limits_Details_w_CPMS!$B$24:$B$5800,B51,Limits_Details_w_CPMS!$C$24:$C$5800,C51,Limits_Details_w_CPMS!$D$24:$D$5800,D51,Limits_Details_w_CPMS!$K$24:$K$5800,\"Other Unknown Causes\"))","v":""}]
[null,{"$f":"IF(Lists!AJ30=\"\",\"\",Lists!AJ30)","v":""},{"$f":"IF(Lists!AK30=\"\",\"\",Lists!AK30)","v":""},{"$f":"IF(Lists!AL30=\"\",\"\",Lists!AL30)","v":""},null,"","",{"$f":"IF($B52=\"\",\"\",SUMIFS(Limits_Details_w_CPMS!$J$24:$J$5800,Limits_Details_w_CPMS!$B$24:$B$5800,B52,Limits_Details_w_CPMS!$C$24:$C$5800,C52,Limits_Details_w_CPMS!$D$24:$D$5800,D52,Limits_Details_w_CPMS!$K$24:$K$5800,\"Control Equipment Problems\"))","v":""},{"$f":"IF($B52=\"\",\"\",SUMIFS(Limits_Details_w_CPMS!$J$24:$J$5800,Limits_Details_w_CPMS!$B$24:$B$5800,B52,Limits_Details_w_CPMS!$C$24:$C$5800,C52,Limits_Details_w_CPMS!$D$24:$D$5800,D52,Limits_Details_w_CPMS!$K$24:$K$5800,\"Process Problems\"))","v":""},{"$f":"IF($B52=\"\",\"\",SUMIFS(Limits_Details_w_CPMS!$J$24:$J$5800,Limits_Details_w_CPMS!$B$24:$B$5800,B52,Limits_Details_w_CPMS!$C$24:$C$5800,C52,Limits_Details_w_CPMS!$D$24:$D$5800,D52,Limits_Details_w_CPMS!$K$24:$K$5800,\"Other Known Causes\"))","v":""},{"$f":"IF($B52=\"\",\"\",SUMIFS(Limits_Details_w_CPMS!$J$24:$J$5800,Limits_Details_w_CPMS!$B$24:$B$5800,B52,Limits_Details_w_CPMS!$C$24:$C$5800,C52,Limits_Details_w_CPMS!$D$24:$D$5800,D52,Limits_Details_w_CPMS!$K$24:$K$5800,\"Other Unknown Causes\"))","v":""}]
[null,{"$f":"IF(Lists!AJ31=\"\",\"\",Lists!AJ31)","v":""},{"$f":"IF(Lists!AK31=\"\",\"\",Lists!AK31)","v":""},{"$f":"IF(Lists!AL31=\"\",\"\",Lists!AL31)","v":""},null,"","",{"$f":"IF($B53=\"\",\"\",SUMIFS(Limits_Details_w_CPMS!$J$24:$J$5800,Limits_Details_w_CPMS!$B$24:$B$5800,B53,Limits_Details_w_CPMS!$C$24:$C$5800,C53,Limits_Details_w_CPMS!$D$24:$D$5800,D53,Limits_Details_w_CPMS!$K$24:$K$5800,\"Control Equipment Problems\"))","v":""},{"$f":"IF($B53=\"\",\"\",SUMIFS(Limits_Details_w_CPMS!$J$24:$J$5800,Limits_Details_w_CPMS!$B$24:$B$5800,B53,Limits_Details_w_CPMS!$C$24:$C$5800,C53,Limits_Details_w_CPMS!$D$24:$D$5800,D53,Limits_Details_w_CPMS!$K$24:$K$5800,\"Process Problems\"))","v":""},{"$f":"IF($B53=\"\",\"\",SUMIFS(Limits_Details_w_CPMS!$J$24:$J$5800,Limits_Details_w_CPMS!$B$24:$B$5800,B53,Limits_Details_w_CPMS!$C$24:$C$5800,C53,Limits_Details_w_CPMS!$D$24:$D$5800,D53,Limits_Details_w_CPMS!$K$24:$K$5800,\"Other Known Causes\"))","v":""},{"$f":"IF($B53=\"\",\"\",SUMIFS(Limits_Details_w_CPMS!$J$24:$J$5800,Limits_Details_w_CPMS!$B$24:$B$5800,B53,Limits_Details_w_CPMS!$C$24:$C$5800,C53,Limits_Details_w_CPMS!$D$24:$D$5800,D53,Limits_Details_w_CPMS!$K$24:$K$5800,\"Other Unknown Causes\"))","v":""}]
[null,{"$f":"IF(Lists!AJ32=\"\",\"\",Lists!AJ32)","v":""},{"$f":"IF(Lists!AK32=\"\",\"\",Lists!AK32)","v":""},{"$f":"IF(Lists!AL32=\"\",\"\",Lists!AL32)","v":""},null,"","",{"$f":"IF($B54=\"\",\"\",SUMIFS(Limits_Details_w_CPMS!$J$24:$J$5800,Limits_Details_w_CPMS!$B$24:$B$5800,B54,Limits_Details_w_CPMS!$C$24:$C$5800,C54,Limits_Details_w_CPMS!$D$24:$D$5800,D54,Limits_Details_w_CPMS!$K$24:$K$5800,\"Control Equipment Problems\"))","v":""},{"$f":"IF($B54=\"\",\"\",SUMIFS(Limits_Details_w_CPMS!$J$24:$J$5800,Limits_Details_w_CPMS!$B$24:$B$5800,B54,Limits_Details_w_CPMS!$C$24:$C$5800,C54,Limits_Details_w_CPMS!$D$24:$D$5800,D54,Limits_Details_w_CPMS!$K$24:$K$5800,\"Process Problems\"))","v":""},{"$f":"IF($B54=\"\",\"\",SUMIFS(Limits_Details_w_CPMS!$J$24:$J$5800,Limits_Details_w_CPMS!$B$24:$B$5800,B54,Limits_Details_w_CPMS!$C$24:$C$5800,C54,Limits_Details_w_CPMS!$D$24:$D$5800,D54,Limits_Details_w_CPMS!$K$24:$K$5800,\"Other Known Causes\"))","v":""},{"$f":"IF($B54=\"\",\"\",SUMIFS(Limits_Details_w_CPMS!$J$24:$J$5800,Limits_Details_w_CPMS!$B$24:$B$5800,B54,Limits_Details_w_CPMS!$C$24:$C$5800,C54,Limits_Details_w_CPMS!$D$24:$D$5800,D54,Limits_Details_w_CPMS!$K$24:$K$5800,\"Other Unknown Causes\"))","v":""}]
[null,{"$f":"IF(Lists!AJ33=\"\",\"\",Lists!AJ33)","v":""},{"$f":"IF(Lists!AK33=\"\",\"\",Lists!AK33)","v":""},{"$f":"IF(Lists!AL33=\"\",\"\",Lists!AL33)","v":""},null,"","",{"$f":"IF($B55=\"\",\"\",SUMIFS(Limits_Details_w_CPMS!$J$24:$J$5800,Limits_Details_w_CPMS!$B$24:$B$5800,B55,Limits_Details_w_CPMS!$C$24:$C$5800,C55,Limits_Details_w_CPMS!$D$24:$D$5800,D55,Limits_Details_w_CPMS!$K$24:$K$5800,\"Control Equipment Problems\"))","v":""},{"$f":"IF($B55=\"\",\"\",SUMIFS(Limits_Details_w_CPMS!$J$24:$J$5800,Limits_Details_w_CPMS!$B$24:$B$5800,B55,Limits_Details_w_CPMS!$C$24:$C$5800,C55,Limits_Details_w_CPMS!$D$24:$D$5800,D55,Limits_Details_w_CPMS!$K$24:$K$5800,\"Process Problems\"))","v":""},{"$f":"IF($B55=\"\",\"\",SUMIFS(Limits_Details_w_CPMS!$J$24:$J$5800,Limits_Details_w_CPMS!$B$24:$B$5800,B55,Limits_Details_w_CPMS!$C$24:$C$5800,C55,Limits_Details_w_CPMS!$D$24:$D$5800,D55,Limits_Details_w_CPMS!$K$24:$K$5800,\"Other Known Causes\"))","v":""},{"$f":"IF($B55=\"\",\"\",SUMIFS(Limits_Details_w_CPMS!$J$24:$J$5800,Limits_Details_w_CPMS!$B$24:$B$5800,B55,Limits_Details_w_CPMS!$C$24:$C$5800,C55,Limits_Details_w_CPMS!$D$24:$D$5800,D55,Limits_Details_w_CPMS!$K$24:$K$5800,\"Other Unknown Causes\"))","v":""}]
[null,{"$f":"IF(Lists!AJ34=\"\",\"\",Lists!AJ34)","v":""},{"$f":"IF(Lists!AK34=\"\",\"\",Lists!AK34)","v":""},{"$f":"IF(Lists!AL34=\"\",\"\",Lists!AL34)","v":""},null,"","",{"$f":"IF($B56=\"\",\"\",SUMIFS(Limits_Details_w_CPMS!$J$24:$J$5800,Limits_Details_w_CPMS!$B$24:$B$5800,B56,Limits_Details_w_CPMS!$C$24:$C$5800,C56,Limits_Details_w_CPMS!$D$24:$D$5800,D56,Limits_Details_w_CPMS!$K$24:$K$5800,\"Control Equipment Problems\"))","v":""},{"$f":"IF($B56=\"\",\"\",SUMIFS(Limits_Details_w_CPMS!$J$24:$J$5800,Limits_Details_w_CPMS!$B$24:$B$5800,B56,Limits_Details_w_CPMS!$C$24:$C$5800,C56,Limits_Details_w_CPMS!$D$24:$D$5800,D56,Limits_Details_w_CPMS!$K$24:$K$5800,\"Process Problems\"))","v":""},{"$f":"IF($B56=\"\",\"\",SUMIFS(Limits_Details_w_CPMS!$J$24:$J$5800,Limits_Details_w_CPMS!$B$24:$B$5800,B56,Limits_Details_w_CPMS!$C$24:$C$5800,C56,Limits_Details_w_CPMS!$D$24:$D$5800,D56,Limits_Details_w_CPMS!$K$24:$K$5800,\"Other Known Causes\"))","v":""},{"$f":"IF($B56=\"\",\"\",SUMIFS(Limits_Details_w_CPMS!$J$24:$J$5800,Limits_Details_w_CPMS!$B$24:$B$5800,B56,Limits_Details_w_CPMS!$C$24:$C$5800,C56,Limits_Details_w_CPMS!$D$24:$D$5800,D56,Limits_Details_w_CPMS!$K$24:$K$5800,\"Other Unknown Causes\"))","v":""}]
[null,{"$f":"IF(Lists!AJ35=\"\",\"\",Lists!AJ35)","v":""},{"$f":"IF(Lists!AK35=\"\",\"\",Lists!AK35)","v":""},{"$f":"IF(Lists!AL35=\"\",\"\",Lists!AL35)","v":""},null,"","",{"$f":"IF($B57=\"\",\"\",SUMIFS(Limits_Details_w_CPMS!$J$24:$J$5800,Limits_Details_w_CPMS!$B$24:$B$5800,B57,Limits_Details_w_CPMS!$C$24:$C$5800,C57,Limits_Details_w_CPMS!$D$24:$D$5800,D57,Limits_Details_w_CPMS!$K$24:$K$5800,\"Control Equipment Problems\"))","v":""},{"$f":"IF($B57=\"\",\"\",SUMIFS(Limits_Details_w_CPMS!$J$24:$J$5800,Limits_Details_w_CPMS!$B$24:$B$5800,B57,Limits_Details_w_CPMS!$C$24:$C$5800,C57,Limits_Details_w_CPMS!$D$24:$D$5800,D57,Limits_Details_w_CPMS!$K$24:$K$5800,\"Process Problems\"))","v":""},{"$f":"IF($B57=\"\",\"\",SUMIFS(Limits_Details_w_CPMS!$J$24:$J$5800,Limits_Details_w_CPMS!$B$24:$B$5800,B57,Limits_Details_w_CPMS!$C$24:$C$5800,C57,Limits_Details_w_CPMS!$D$24:$D$5800,D57,Limits_Details_w_CPMS!$K$24:$K$5800,\"Other Known Causes\"))","v":""},{"$f":"IF($B57=\"\",\"\",SUMIFS(Limits_Details_w_CPMS!$J$24:$J$5800,Limits_Details_w_CPMS!$B$24:$B$5800,B57,Limits_Details_w_CPMS!$C$24:$C$5800,C57,Limits_Details_w_CPMS!$D$24:$D$5800,D57,Limits_Details_w_CPMS!$K$24:$K$5800,\"Other Unknown Causes\"))","v":""}]
[null,{"$f":"IF(Lists!AJ36=\"\",\"\",Lists!AJ36)","v":""},{"$f":"IF(Lists!AK36=\"\",\"\",Lists!AK36)","v":""},{"$f":"IF(Lists!AL36=\"\",\"\",Lists!AL36)","v":""},null,"","",{"$f":"IF($B58=\"\",\"\",SUMIFS(Limits_Details_w_CPMS!$J$24:$J$5800,Limits_Details_w_CPMS!$B$24:$B$5800,B58,Limits_Details_w_CPMS!$C$24:$C$5800,C58,Limits_Details_w_CPMS!$D$24:$D$5800,D58,Limits_Details_w_CPMS!$K$24:$K$5800,\"Control Equipment Problems\"))","v":""},{"$f":"IF($B58=\"\",\"\",SUMIFS(Limits_Details_w_CPMS!$J$24:$J$5800,Limits_Details_w_CPMS!$B$24:$B$5800,B58,Limits_Details_w_CPMS!$C$24:$C$5800,C58,Limits_Details_w_CPMS!$D$24:$D$5800,D58,Limits_Details_w_CPMS!$K$24:$K$5800,\"Process Problems\"))","v":""},{"$f":"IF($B58=\"\",\"\",SUMIFS(Limits_Details_w_CPMS!$J$24:$J$5800,Limits_Details_w_CPMS!$B$24:$B$5800,B58,Limits_Details_w_CPMS!$C$24:$C$5800,C58,Limits_Details_w_CPMS!$D$24:$D$5800,D58,Limits_Details_w_CPMS!$K$24:$K$5800,\"Other Known Causes\"))","v":""},{"$f":"IF($B58=\"\",\"\",SUMIFS(Limits_Details_w_CPMS!$J$24:$J$5800,Limits_Details_w_CPMS!$B$24:$B$5800,B58,Limits_Details_w_CPMS!$C$24:$C$5800,C58,Limits_Details_w_CPMS!$D$24:$D$5800,D58,Limits_Details_w_CPMS!$K$24:$K$5800,\"Other Unknown Causes\"))","v":""}]
[null,{"$f":"IF(Lists!AJ37=\"\",\"\",Lists!AJ37)","v":""},{"$f":"IF(Lists!AK37=\"\",\"\",Lists!AK37)","v":""},{"$f":"IF(Lists!AL37=\"\",\"\",Lists!AL37)","v":""},null,"","",{"$f":"IF($B59=\"\",\"\",SUMIFS(Limits_Details_w_CPMS!$J$24:$J$5800,Limits_Details_w_CPMS!$B$24:$B$5800,B59,Limits_Details_w_CPMS!$C$24:$C$5800,C59,Limits_Details_w_CPMS!$D$24:$D$5800,D59,Limits_Details_w_CPMS!$K$24:$K$5800,\"Control Equipment Problems\"))","v":""},{"$f":"IF($B59=\"\",\"\",SUMIFS(Limits_Details_w_CPMS!$J$24:$J$5800,Limits_Details_w_CPMS!$B$24:$B$5800,B59,Limits_Details_w_CPMS!$C$24:$C$5800,C59,Limits_Details_w_CPMS!$D$24:$D$5800,D59,Limits_Details_w_CPMS!$K$24:$K$5800,\"Process Problems\"))","v":""},{"$f":"IF($B59=\"\",\"\",SUMIFS(Limits_Details_w_CPMS!$J$24:$J$5800,Limits_Details_w_CPMS!$B$24:$B$5800,B59,Limits_Details_w_CPMS!$C$24:$C$5800,C59,Limits_Details_w_CPMS!$D$24:$D$5800,D59,Limits_Details_w_CPMS!$K$24:$K$5800,\"Other Known Causes\"))","v":""},{"$f":"IF($B59=\"\",\"\",SUMIFS(Limits_Details_w_CPMS!$J$24:$J$5800,Limits_Details_w_CPMS!$B$24:$B$5800,B59,Limits_Details_w_CPMS!$C$24:$C$5800,C59,Limits_Details_w_CPMS!$D$24:$D$5800,D59,Limits_Details_w_CPMS!$K$24:$K$5800,\"Other Unknown Causes\"))","v":""}]
[null,{"$f":"IF(Lists!AJ38=\"\",\"\",Lists!AJ38)","v":""},{"$f":"IF(Lists!AK38=\"\",\"\",Lists!AK38)","v":""},{"$f":"IF(Lists!AL38=\"\",\"\",Lists!AL38)","v":""},null,"","",{"$f":"IF($B60=\"\",\"\",SUMIFS(Limits_Details_w_CPMS!$J$24:$J$5800,Limits_Details_w_CPMS!$B$24:$B$5800,B60,Limits_Details_w_CPMS!$C$24:$C$5800,C60,Limits_Details_w_CPMS!$D$24:$D$5800,D60,Limits_Details_w_CPMS!$K$24:$K$5800,\"Control Equipment Problems\"))","v":""},{"$f":"IF($B60=\"\",\"\",SUMIFS(Limits_Details_w_CPMS!$J$24:$J$5800,Limits_Details_w_CPMS!$B$24:$B$5800,B60,Limits_Details_w_CPMS!$C$24:$C$5800,C60,Limits_Details_w_CPMS!$D$24:$D$5800,D60,Limits_Details_w_CPMS!$K$24:$K$5800,\"Process Problems\"))","v":""},{"$f":"IF($B60=\"\",\"\",SUMIFS(Limits_Details_w_CPMS!$J$24:$J$5800,Limits_Details_w_CPMS!$B$24:$B$5800,B60,Limits_Details_w_CPMS!$C$24:$C$5800,C60,Limits_Details_w_CPMS!$D$24:$D$5800,D60,Limits_Details_w_CPMS!$K$24:$K$5800,\"Other Known Causes\"))","v":""},{"$f":"IF($B60=\"\",\"\",SUMIFS(Limits_Details_w_CPMS!$J$24:$J$5800,Limits_Details_w_CPMS!$B$24:$B$5800,B60,Limits_Details_w_CPMS!$C$24:$C$5800,C60,Limits_Details_w_CPMS!$D$24:$D$5800,D60,Limits_Details_w_CPMS!$K$24:$K$5800,\"Other Unknown Causes\"))","v":""}]
[null,{"$f":"IF(Lists!AJ39=\"\",\"\",Lists!AJ39)","v":""},{"$f":"IF(Lists!AK39=\"\",\"\",Lists!AK39)","v":""},{"$f":"IF(Lists!AL39=\"\",\"\",Lists!AL39)","v":""},null,"","",{"$f":"IF($B61=\"\",\"\",SUMIFS(Limits_Details_w_CPMS!$J$24:$J$5800,Limits_Details_w_CPMS!$B$24:$B$5800,B61,Limits_Details_w_CPMS!$C$24:$C$5800,C61,Limits_Details_w_CPMS!$D$24:$D$5800,D61,Limits_Details_w_CPMS!$K$24:$K$5800,\"Control Equipment Problems\"))","v":""},{"$f":"IF($B61=\"\",\"\",SUMIFS(Limits_Details_w_CPMS!$J$24:$J$5800,Limits_Details_w_CPMS!$B$24:$B$5800,B61,Limits_Details_w_CPMS!$C$24:$C$5800,C61,Limits_Details_w_CPMS!$D$24:$D$5800,D61,Limits_Details_w_CPMS!$K$24:$K$5800,\"Process Problems\"))","v":""},{"$f":"IF($B61=\"\",\"\",SUMIFS(Limits_Details_w_CPMS!$J$24:$J$5800,Limits_Details_w_CPMS!$B$24:$B$5800,B61,Limits_Details_w_CPMS!$C$24:$C$5800,C61,Limits_Details_w_CPMS!$D$24:$D$5800,D61,Limits_Details_w_CPMS!$K$24:$K$5800,\"Other Known Causes\"))","v":""},{"$f":"IF($B61=\"\",\"\",SUMIFS(Limits_Details_w_CPMS!$J$24:$J$5800,Limits_Details_w_CPMS!$B$24:$B$5800,B61,Limits_Details_w_CPMS!$C$24:$C$5800,C61,Limits_Details_w_CPMS!$D$24:$D$5800,D61,Limits_Details_w_CPMS!$K$24:$K$5800,\"Other Unknown Causes\"))","v":""}]
[null,{"$f":"IF(Lists!AJ40=\"\",\"\",Lists!AJ40)","v":""},{"$f":"IF(Lists!AK40=\"\",\"\",Lists!AK40)","v":""},{"$f":"IF(Lists!AL40=\"\",\"\",Lists!AL40)","v":""},null,"","",{"$f":"IF($B62=\"\",\"\",SUMIFS(Limits_Details_w_CPMS!$J$24:$J$5800,Limits_Details_w_CPMS!$B$24:$B$5800,B62,Limits_Details_w_CPMS!$C$24:$C$5800,C62,Limits_Details_w_CPMS!$D$24:$D$5800,D62,Limits_Details_w_CPMS!$K$24:$K$5800,\"Control Equipment Problems\"))","v":""},{"$f":"IF($B62=\"\",\"\",SUMIFS(Limits_Details_w_CPMS!$J$24:$J$5800,Limits_Details_w_CPMS!$B$24:$B$5800,B62,Limits_Details_w_CPMS!$C$24:$C$5800,C62,Limits_Details_w_CPMS!$D$24:$D$5800,D62,Limits_Details_w_CPMS!$K$24:$K$5800,\"Process Problems\"))","v":""},{"$f":"IF($B62=\"\",\"\",SUMIFS(Limits_Details_w_CPMS!$J$24:$J$5800,Limits_Details_w_CPMS!$B$24:$B$5800,B62,Limits_Details_w_CPMS!$C$24:$C$5800,C62,Limits_Details_w_CPMS!$D$24:$D$5800,D62,Limits_Details_w_CPMS!$K$24:$K$5800,\"Other Known Causes\"))","v":""},{"$f":"IF($B62=\"\",\"\",SUMIFS(Limits_Details_w_CPMS!$J$24:$J$5800,Limits_Details_w_CPMS!$B$24:$B$5800,B62,Limits_Details_w_CPMS!$C$24:$C$5800,C62,Limits_Details_w_CPMS!$D$24:$D$5800,D62,Limits_Details_w_CPMS!$K$24:$K$5800,\"Other Unknown Causes\"))","v":""}]
[null,{"$f":"IF(Lists!AJ41=\"\",\"\",Lists!AJ41)","v":""},{"$f":"IF(Lists!AK41=\"\",\"\",Lists!AK41)","v":""},{"$f":"IF(Lists!AL41=\"\",\"\",Lists!AL41)","v":""},null,"","",{"$f":"IF($B63=\"\",\"\",SUMIFS(Limits_Details_w_CPMS!$J$24:$J$5800,Limits_Details_w_CPMS!$B$24:$B$5800,B63,Limits_Details_w_CPMS!$C$24:$C$5800,C63,Limits_Details_w_CPMS!$D$24:$D$5800,D63,Limits_Details_w_CPMS!$K$24:$K$5800,\"Control Equipment Problems\"))","v":""},{"$f":"IF($B63=\"\",\"\",SUMIFS(Limits_Details_w_CPMS!$J$24:$J$5800,Limits_Details_w_CPMS!$B$24:$B$5800,B63,Limits_Details_w_CPMS!$C$24:$C$5800,C63,Limits_Details_w_CPMS!$D$24:$D$5800,D63,Limits_Details_w_CPMS!$K$24:$K$5800,\"Process Problems\"))","v":""},{"$f":"IF($B63=\"\",\"\",SUMIFS(Limits_Details_w_CPMS!$J$24:$J$5800,Limits_Details_w_CPMS!$B$24:$B$5800,B63,Limits_Details_w_CPMS!$C$24:$C$5800,C63,Limits_Details_w_CPMS!$D$24:$D$5800,D63,Limits_Details_w_CPMS!$K$24:$K$5800,\"Other Known Causes\"))","v":""},{"$f":"IF($B63=\"\",\"\",SUMIFS(Limits_Details_w_CPMS!$J$24:$J$5800,Limits_Details_w_CPMS!$B$24:$B$5800,B63,Limits_Details_w_CPMS!$C$24:$C$5800,C63,Limits_Details_w_CPMS!$D$24:$D$5800,D63,Limits_Details_w_CPMS!$K$24:$K$5800,\"Other Unknown Causes\"))","v":""}]
[null,{"$f":"IF(Lists!AJ42=\"\",\"\",Lists!AJ42)","v":""},{"$f":"IF(Lists!AK42=\"\",\"\",Lists!AK42)","v":""},{"$f":"IF(Lists!AL42=\"\",\"\",Lists!AL42)","v":""},null,"","",{"$f":"IF($B64=\"\",\"\",SUMIFS(Limits_Details_w_CPMS!$J$24:$J$5800,Limits_Details_w_CPMS!$B$24:$B$5800,B64,Limits_Details_w_CPMS!$C$24:$C$5800,C64,Limits_Details_w_CPMS!$D$24:$D$5800,D64,Limits_Details_w_CPMS!$K$24:$K$5800,\"Control Equipment Problems\"))","v":""},{"$f":"IF($B64=\"\",\"\",SUMIFS(Limits_Details_w_CPMS!$J$24:$J$5800,Limits_Details_w_CPMS!$B$24:$B$5800,B64,Limits_Details_w_CPMS!$C$24:$C$5800,C64,Limits_Details_w_CPMS!$D$24:$D$5800,D64,Limits_Details_w_CPMS!$K$24:$K$5800,\"Process Problems\"))","v":""},{"$f":"IF($B64=\"\",\"\",SUMIFS(Limits_Details_w_CPMS!$J$24:$J$5800,Limits_Details_w_CPMS!$B$24:$B$5800,B64,Limits_Details_w_CPMS!$C$24:$C$5800,C64,Limits_Details_w_CPMS!$D$24:$D$5800,D64,Limits_Details_w_CPMS!$K$24:$K$5800,\"Other Known Causes\"))","v":""},{"$f":"IF($B64=\"\",\"\",SUMIFS(Limits_Details_w_CPMS!$J$24:$J$5800,Limits_Details_w_CPMS!$B$24:$B$5800,B64,Limits_Details_w_CPMS!$C$24:$C$5800,C64,Limits_Details_w_CPMS!$D$24:$D$5800,D64,Limits_Details_w_CPMS!$K$24:$K$5800,\"Other Unknown Causes\"))","v":""}]
[null,{"$f":"IF(Lists!AJ43=\"\",\"\",Lists!AJ43)","v":""},{"$f":"IF(Lists!AK43=\"\",\"\",Lists!AK43)","v":""},{"$f":"IF(Lists!AL43=\"\",\"\",Lists!AL43)","v":""},null,"","",{"$f":"IF($B65=\"\",\"\",SUMIFS(Limits_Details_w_CPMS!$J$24:$J$5800,Limits_Details_w_CPMS!$B$24:$B$5800,B65,Limits_Details_w_CPMS!$C$24:$C$5800,C65,Limits_Details_w_CPMS!$D$24:$D$5800,D65,Limits_Details_w_CPMS!$K$24:$K$5800,\"Control Equipment Problems\"))","v":""},{"$f":"IF($B65=\"\",\"\",SUMIFS(Limits_Details_w_CPMS!$J$24:$J$5800,Limits_Details_w_CPMS!$B$24:$B$5800,B65,Limits_Details_w_CPMS!$C$24:$C$5800,C65,Limits_Details_w_CPMS!$D$24:$D$5800,D65,Limits_Details_w_CPMS!$K$24:$K$5800,\"Process Problems\"))","v":""},{"$f":"IF($B65=\"\",\"\",SUMIFS(Limits_Details_w_CPMS!$J$24:$J$5800,Limits_Details_w_CPMS!$B$24:$B$5800,B65,Limits_Details_w_CPMS!$C$24:$C$5800,C65,Limits_Details_w_CPMS!$D$24:$D$5800,D65,Limits_Details_w_CPMS!$K$24:$K$5800,\"Other Known Causes\"))","v":""},{"$f":"IF($B65=\"\",\"\",SUMIFS(Limits_Details_w_CPMS!$J$24:$J$5800,Limits_Details_w_CPMS!$B$24:$B$5800,B65,Limits_Details_w_CPMS!$C$24:$C$5800,C65,Limits_Details_w_CPMS!$D$24:$D$5800,D65,Limits_Details_w_CPMS!$K$24:$K$5800,\"Other Unknown Causes\"))","v":""}]
[null,{"$f":"IF(Lists!AJ44=\"\",\"\",Lists!AJ44)","v":""},{"$f":"IF(Lists!AK44=\"\",\"\",Lists!AK44)","v":""},{"$f":"IF(Lists!AL44=\"\",\"\",Lists!AL44)","v":""},null,"","",{"$f":"IF($B66=\"\",\"\",SUMIFS(Limits_Details_w_CPMS!$J$24:$J$5800,Limits_Details_w_CPMS!$B$24:$B$5800,B66,Limits_Details_w_CPMS!$C$24:$C$5800,C66,Limits_Details_w_CPMS!$D$24:$D$5800,D66,Limits_Details_w_CPMS!$K$24:$K$5800,\"Control Equipment Problems\"))","v":""},{"$f":"IF($B66=\"\",\"\",SUMIFS(Limits_Details_w_CPMS!$J$24:$J$5800,Limits_Details_w_CPMS!$B$24:$B$5800,B66,Limits_Details_w_CPMS!$C$24:$C$5800,C66,Limits_Details_w_CPMS!$D$24:$D$5800,D66,Limits_Details_w_CPMS!$K$24:$K$5800,\"Process Problems\"))","v":""},{"$f":"IF($B66=\"\",\"\",SUMIFS(Limits_Details_w_CPMS!$J$24:$J$5800,Limits_Details_w_CPMS!$B$24:$B$5800,B66,Limits_Details_w_CPMS!$C$24:$C$5800,C66,Limits_Details_w_CPMS!$D$24:$D$5800,D66,Limits_Details_w_CPMS!$K$24:$K$5800,\"Other Known Causes\"))","v":""},{"$f":"IF($B66=\"\",\"\",SUMIFS(Limits_Details_w_CPMS!$J$24:$J$5800,Limits_Details_w_CPMS!$B$24:$B$5800,B66,Limits_Details_w_CPMS!$C$24:$C$5800,C66,Limits_Details_w_CPMS!$D$24:$D$5800,D66,Limits_Details_w_CPMS!$K$24:$K$5800,\"Other Unknown Causes\"))","v":""}]
[null,{"$f":"IF(Lists!AJ45=\"\",\"\",Lists!AJ45)","v":""},{"$f":"IF(Lists!AK45=\"\",\"\",Lists!AK45)","v":""},{"$f":"IF(Lists!AL45=\"\",\"\",Lists!AL45)","v":""},null,"","",{"$f":"IF($B67=\"\",\"\",SUMIFS(Limits_Details_w_CPMS!$J$24:$J$5800,Limits_Details_w_CPMS!$B$24:$B$5800,B67,Limits_Details_w_CPMS!$C$24:$C$5800,C67,Limits_Details_w_CPMS!$D$24:$D$5800,D67,Limits_Details_w_CPMS!$K$24:$K$5800,\"Control Equipment Problems\"))","v":""},{"$f":"IF($B67=\"\",\"\",SUMIFS(Limits_Details_w_CPMS!$J$24:$J$5800,Limits_Details_w_CPMS!$B$24:$B$5800,B67,Limits_Details_w_CPMS!$C$24:$C$5800,C67,Limits_Details_w_CPMS!$D$24:$D$5800,D67,Limits_Details_w_CPMS!$K$24:$K$5800,\"Process Problems\"))","v":""},{"$f":"IF($B67=\"\",\"\",SUMIFS(Limits_Details_w_CPMS!$J$24:$J$5800,Limits_Details_w_CPMS!$B$24:$B$5800,B67,Limits_Details_w_CPMS!$C$24:$C$5800,C67,Limits_Details_w_CPMS!$D$24:$D$5800,D67,Limits_Details_w_CPMS!$K$24:$K$5800,\"Other Known Causes\"))","v":""},{"$f":"IF($B67=\"\",\"\",SUMIFS(Limits_Details_w_CPMS!$J$24:$J$5800,Limits_Details_w_CPMS!$B$24:$B$5800,B67,Limits_Details_w_CPMS!$C$24:$C$5800,C67,Limits_Details_w_CPMS!$D$24:$D$5800,D67,Limits_Details_w_CPMS!$K$24:$K$5800,\"Other Unknown Causes\"))","v":""}]
[null,{"$f":"IF(Lists!AJ46=\"\",\"\",Lists!AJ46)","v":""},{"$f":"IF(Lists!AK46=\"\",\"\",Lists!AK46)","v":""},{"$f":"IF(Lists!AL46=\"\",\"\",Lists!AL46)","v":""},null,"","",{"$f":"IF($B68=\"\",\"\",SUMIFS(Limits_Details_w_CPMS!$J$24:$J$5800,Limits_Details_w_CPMS!$B$24:$B$5800,B68,Limits_Details_w_CPMS!$C$24:$C$5800,C68,Limits_Details_w_CPMS!$D$24:$D$5800,D68,Limits_Details_w_CPMS!$K$24:$K$5800,\"Control Equipment Problems\"))","v":""},{"$f":"IF($B68=\"\",\"\",SUMIFS(Limits_Details_w_CPMS!$J$24:$J$5800,Limits_Details_w_CPMS!$B$24:$B$5800,B68,Limits_Details_w_CPMS!$C$24:$C$5800,C68,Limits_Details_w_CPMS!$D$24:$D$5800,D68,Limits_Details_w_CPMS!$K$24:$K$5800,\"Process Problems\"))","v":""},{"$f":"IF($B68=\"\",\"\",SUMIFS(Limits_Details_w_CPMS!$J$24:$J$5800,Limits_Details_w_CPMS!$B$24:$B$5800,B68,Limits_Details_w_CPMS!$C$24:$C$5800,C68,Limits_Details_w_CPMS!$D$24:$D$5800,D68,Limits_Details_w_CPMS!$K$24:$K$5800,\"Other Known Causes\"))","v":""},{"$f":"IF($B68=\"\",\"\",SUMIFS(Limits_Details_w_CPMS!$J$24:$J$5800,Limits_Details_w_CPMS!$B$24:$B$5800,B68,Limits_Details_w_CPMS!$C$24:$C$5800,C68,Limits_Details_w_CPMS!$D$24:$D$5800,D68,Limits_Details_w_CPMS!$K$24:$K$5800,\"Other Unknown Causes\"))","v":""}]
[null,{"$f":"IF(Lists!AJ47=\"\",\"\",Lists!AJ47)","v":""},{"$f":"IF(Lists!AK47=\"\",\"\",Lists!AK47)","v":""},{"$f":"IF(Lists!AL47=\"\",\"\",Lists!AL47)","v":""},null,"","",{"$f":"IF($B69=\"\",\"\",SUMIFS(Limits_Details_w_CPMS!$J$24:$J$5800,Limits_Details_w_CPMS!$B$24:$B$5800,B69,Limits_Details_w_CPMS!$C$24:$C$5800,C69,Limits_Details_w_CPMS!$D$24:$D$5800,D69,Limits_Details_w_CPMS!$K$24:$K$5800,\"Control Equipment Problems\"))","v":""},{"$f":"IF($B69=\"\",\"\",SUMIFS(Limits_Details_w_CPMS!$J$24:$J$5800,Limits_Details_w_CPMS!$B$24:$B$5800,B69,Limits_Details_w_CPMS!$C$24:$C$5800,C69,Limits_Details_w_CPMS!$D$24:$D$5800,D69,Limits_Details_w_CPMS!$K$24:$K$5800,\"Process Problems\"))","v":""},{"$f":"IF($B69=\"\",\"\",SUMIFS(Limits_Details_w_CPMS!$J$24:$J$5800,Limits_Details_w_CPMS!$B$24:$B$5800,B69,Limits_Details_w_CPMS!$C$24:$C$5800,C69,Limits_Details_w_CPMS!$D$24:$D$5800,D69,Limits_Details_w_CPMS!$K$24:$K$5800,\"Other Known Causes\"))","v":""},{"$f":"IF($B69=\"\",\"\",SUMIFS(Limits_Details_w_CPMS!$J$24:$J$5800,Limits_Details_w_CPMS!$B$24:$B$5800,B69,Limits_Details_w_CPMS!$C$24:$C$5800,C69,Limits_Details_w_CPMS!$D$24:$D$5800,D69,Limits_Details_w_CPMS!$K$24:$K$5800,\"Other Unknown Causes\"))","v":""}]
[null,{"$f":"IF(Lists!AJ48=\"\",\"\",Lists!AJ48)","v":""},{"$f":"IF(Lists!AK48=\"\",\"\",Lists!AK48)","v":""},{"$f":"IF(Lists!AL48=\"\",\"\",Lists!AL48)","v":""},null,"","",{"$f":"IF($B70=\"\",\"\",SUMIFS(Limits_Details_w_CPMS!$J$24:$J$5800,Limits_Details_w_CPMS!$B$24:$B$5800,B70,Limits_Details_w_CPMS!$C$24:$C$5800,C70,Limits_Details_w_CPMS!$D$24:$D$5800,D70,Limits_Details_w_CPMS!$K$24:$K$5800,\"Control Equipment Problems\"))","v":""},{"$f":"IF($B70=\"\",\"\",SUMIFS(Limits_Details_w_CPMS!$J$24:$J$5800,Limits_Details_w_CPMS!$B$24:$B$5800,B70,Limits_Details_w_CPMS!$C$24:$C$5800,C70,Limits_Details_w_CPMS!$D$24:$D$5800,D70,Limits_Details_w_CPMS!$K$24:$K$5800,\"Process Problems\"))","v":""},{"$f":"IF($B70=\"\",\"\",SUMIFS(Limits_Details_w_CPMS!$J$24:$J$5800,Limits_Details_w_CPMS!$B$24:$B$5800,B70,Limits_Details_w_CPMS!$C$24:$C$5800,C70,Limits_Details_w_CPMS!$D$24:$D$5800,D70,Limits_Details_w_CPMS!$K$24:$K$5800,\"Other Known Causes\"))","v":""},{"$f":"IF($B70=\"\",\"\",SUMIFS(Limits_Details_w_CPMS!$J$24:$J$5800,Limits_Details_w_CPMS!$B$24:$B$5800,B70,Limits_Details_w_CPMS!$C$24:$C$5800,C70,Limits_Details_w_CPMS!$D$24:$D$5800,D70,Limits_Details_w_CPMS!$K$24:$K$5800,\"Other Unknown Causes\"))","v":""}]
[null,{"$f":"IF(Lists!AJ49=\"\",\"\",Lists!AJ49)","v":""},{"$f":"IF(Lists!AK49=\"\",\"\",Lists!AK49)","v":""},{"$f":"IF(Lists!AL49=\"\",\"\",Lists!AL49)","v":""},null,"","",{"$f":"IF($B71=\"\",\"\",SUMIFS(Limits_Details_w_CPMS!$J$24:$J$5800,Limits_Details_w_CPMS!$B$24:$B$5800,B71,Limits_Details_w_CPMS!$C$24:$C$5800,C71,Limits_Details_w_CPMS!$D$24:$D$5800,D71,Limits_Details_w_CPMS!$K$24:$K$5800,\"Control Equipment Problems\"))","v":""},{"$f":"IF($B71=\"\",\"\",SUMIFS(Limits_Details_w_CPMS!$J$24:$J$5800,Limits_Details_w_CPMS!$B$24:$B$5800,B71,Limits_Details_w_CPMS!$C$24:$C$5800,C71,Limits_Details_w_CPMS!$D$24:$D$5800,D71,Limits_Details_w_CPMS!$K$24:$K$5800,\"Process Problems\"))","v":""},{"$f":"IF($B71=\"\",\"\",SUMIFS(Limits_Details_w_CPMS!$J$24:$J$5800,Limits_Details_w_CPMS!$B$24:$B$5800,B71,Limits_Details_w_CPMS!$C$24:$C$5800,C71,Limits_Details_w_CPMS!$D$24:$D$5800,D71,Limits_Details_w_CPMS!$K$24:$K$5800,\"Other Known Causes\"))","v":""},{"$f":"IF($B71=\"\",\"\",SUMIFS(Limits_Details_w_CPMS!$J$24:$J$5800,Limits_Details_w_CPMS!$B$24:$B$5800,B71,Limits_Details_w_CPMS!$C$24:$C$5800,C71,Limits_Details_w_CPMS!$D$24:$D$5800,D71,Limits_Details_w_CPMS!$K$24:$K$5800,\"Other Unknown Causes\"))","v":""}]
[null,{"$f":"IF(Lists!AJ50=\"\",\"\",Lists!AJ50)","v":""},{"$f":"IF(Lists!AK50=\"\",\"\",Lists!AK50)","v":""},{"$f":"IF(Lists!AL50=\"\",\"\",Lists!AL50)","v":""},null,"","",{"$f":"IF($B72=\"\",\"\",SUMIFS(Limits_Details_w_CPMS!$J$24:$J$5800,Limits_Details_w_CPMS!$B$24:$B$5800,B72,Limits_Details_w_CPMS!$C$24:$C$5800,C72,Limits_Details_w_CPMS!$D$24:$D$5800,D72,Limits_Details_w_CPMS!$K$24:$K$5800,\"Control Equipment Problems\"))","v":""},{"$f":"IF($B72=\"\",\"\",SUMIFS(Limits_Details_w_CPMS!$J$24:$J$5800,Limits_Details_w_CPMS!$B$24:$B$5800,B72,Limits_Details_w_CPMS!$C$24:$C$5800,C72,Limits_Details_w_CPMS!$D$24:$D$5800,D72,Limits_Details_w_CPMS!$K$24:$K$5800,\"Process Problems\"))","v":""},{"$f":"IF($B72=\"\",\"\",SUMIFS(Limits_Details_w_CPMS!$J$24:$J$5800,Limits_Details_w_CPMS!$B$24:$B$5800,B72,Limits_Details_w_CPMS!$C$24:$C$5800,C72,Limits_Details_w_CPMS!$D$24:$D$5800,D72,Limits_Details_w_CPMS!$K$24:$K$5800,\"Other Known Causes\"))","v":""},{"$f":"IF($B72=\"\",\"\",SUMIFS(Limits_Details_w_CPMS!$J$24:$J$5800,Limits_Details_w_CPMS!$B$24:$B$5800,B72,Limits_Details_w_CPMS!$C$24:$C$5800,C72,Limits_Details_w_CPMS!$D$24:$D$5800,D72,Limits_Details_w_CPMS!$K$24:$K$5800,\"Other Unknown Causes\"))","v":""}]
[null,{"$f":"IF(Lists!AJ51=\"\",\"\",Lists!AJ51)","v":""},{"$f":"IF(Lists!AK51=\"\",\"\",Lists!AK51)","v":""},{"$f":"IF(Lists!AL51=\"\",\"\",Lists!AL51)","v":""},null,"","",{"$f":"IF($B73=\"\",\"\",SUMIFS(Limits_Details_w_CPMS!$J$24:$J$5800,Limits_Details_w_CPMS!$B$24:$B$5800,B73,Limits_Details_w_CPMS!$C$24:$C$5800,C73,Limits_Details_w_CPMS!$D$24:$D$5800,D73,Limits_Details_w_CPMS!$K$24:$K$5800,\"Control Equipment Problems\"))","v":""},{"$f":"IF($B73=\"\",\"\",SUMIFS(Limits_Details_w_CPMS!$J$24:$J$5800,Limits_Details_w_CPMS!$B$24:$B$5800,B73,Limits_Details_w_CPMS!$C$24:$C$5800,C73,Limits_Details_w_CPMS!$D$24:$D$5800,D73,Limits_Details_w_CPMS!$K$24:$K$5800,\"Process Problems\"))","v":""},{"$f":"IF($B73=\"\",\"\",SUMIFS(Limits_Details_w_CPMS!$J$24:$J$5800,Limits_Details_w_CPMS!$B$24:$B$5800,B73,Limits_Details_w_CPMS!$C$24:$C$5800,C73,Limits_Details_w_CPMS!$D$24:$D$5800,D73,Limits_Details_w_CPMS!$K$24:$K$5800,\"Other Known Causes\"))","v":""},{"$f":"IF($B73=\"\",\"\",SUMIFS(Limits_Details_w_CPMS!$J$24:$J$5800,Limits_Details_w_CPMS!$B$24:$B$5800,B73,Limits_Details_w_CPMS!$C$24:$C$5800,C73,Limits_Details_w_CPMS!$D$24:$D$5800,D73,Limits_Details_w_CPMS!$K$24:$K$5800,\"Other Unknown Causes\"))","v":""}]
[null,{"$f":"IF(Lists!AJ52=\"\",\"\",Lists!AJ52)","v":""},{"$f":"IF(Lists!AK52=\"\",\"\",Lists!AK52)","v":""},{"$f":"IF(Lists!AL52=\"\",\"\",Lists!AL52)","v":""},null,"","",{"$f":"IF($B74=\"\",\"\",SUMIFS(Limits_Details_w_CPMS!$J$24:$J$5800,Limits_Details_w_CPMS!$B$24:$B$5800,B74,Limits_Details_w_CPMS!$C$24:$C$5800,C74,Limits_Details_w_CPMS!$D$24:$D$5800,D74,Limits_Details_w_CPMS!$K$24:$K$5800,\"Control Equipment Problems\"))","v":""},{"$f":"IF($B74=\"\",\"\",SUMIFS(Limits_Details_w_CPMS!$J$24:$J$5800,Limits_Details_w_CPMS!$B$24:$B$5800,B74,Limits_Details_w_CPMS!$C$24:$C$5800,C74,Limits_Details_w_CPMS!$D$24:$D$5800,D74,Limits_Details_w_CPMS!$K$24:$K$5800,\"Process Problems\"))","v":""},{"$f":"IF($B74=\"\",\"\",SUMIFS(Limits_Details_w_CPMS!$J$24:$J$5800,Limits_Details_w_CPMS!$B$24:$B$5800,B74,Limits_Details_w_CPMS!$C$24:$C$5800,C74,Limits_Details_w_CPMS!$D$24:$D$5800,D74,Limits_Details_w_CPMS!$K$24:$K$5800,\"Other Known Causes\"))","v":""},{"$f":"IF($B74=\"\",\"\",SUMIFS(Limits_Details_w_CPMS!$J$24:$J$5800,Limits_Details_w_CPMS!$B$24:$B$5800,B74,Limits_Details_w_CPMS!$C$24:$C$5800,C74,Limits_Details_w_CPMS!$D$24:$D$5800,D74,Limits_Details_w_CPMS!$K$24:$K$5800,\"Other Unknown Causes\"))","v":""}]
[null,{"$f":"IF(Lists!AJ53=\"\",\"\",Lists!AJ53)","v":""},{"$f":"IF(Lists!AK53=\"\",\"\",Lists!AK53)","v":""},{"$f":"IF(Lists!AL53=\"\",\"\",Lists!AL53)","v":""},null,"","",{"$f":"IF($B75=\"\",\"\",SUMIFS(Limits_Details_w_CPMS!$J$24:$J$5800,Limits_Details_w_CPMS!$B$24:$B$5800,B75,Limits_Details_w_CPMS!$C$24:$C$5800,C75,Limits_Details_w_CPMS!$D$24:$D$5800,D75,Limits_Details_w_CPMS!$K$24:$K$5800,\"Control Equipment Problems\"))","v":""},{"$f":"IF($B75=\"\",\"\",SUMIFS(Limits_Details_w_CPMS!$J$24:$J$5800,Limits_Details_w_CPMS!$B$24:$B$5800,B75,Limits_Details_w_CPMS!$C$24:$C$5800,C75,Limits_Details_w_CPMS!$D$24:$D$5800,D75,Limits_Details_w_CPMS!$K$24:$K$5800,\"Process Problems\"))","v":""},{"$f":"IF($B75=\"\",\"\",SUMIFS(Limits_Details_w_CPMS!$J$24:$J$5800,Limits_Details_w_CPMS!$B$24:$B$5800,B75,Limits_Details_w_CPMS!$C$24:$C$5800,C75,Limits_Details_w_CPMS!$D$24:$D$5800,D75,Limits_Details_w_CPMS!$K$24:$K$5800,\"Other Known Causes\"))","v":""},{"$f":"IF($B75=\"\",\"\",SUMIFS(Limits_Details_w_CPMS!$J$24:$J$5800,Limits_Details_w_CPMS!$B$24:$B$5800,B75,Limits_Details_w_CPMS!$C$24:$C$5800,C75,Limits_Details_w_CPMS!$D$24:$D$5800,D75,Limits_Details_w_CPMS!$K$24:$K$5800,\"Other Unknown Causes\"))","v":""}]
[null,{"$f":"IF(Lists!AJ54=\"\",\"\",Lists!AJ54)","v":""},{"$f":"IF(Lists!AK54=\"\",\"\",Lists!AK54)","v":""},{"$f":"IF(Lists!AL54=\"\",\"\",Lists!AL54)","v":""},null,"","",{"$f":"IF($B76=\"\",\"\",SUMIFS(Limits_Details_w_CPMS!$J$24:$J$5800,Limits_Details_w_CPMS!$B$24:$B$5800,B76,Limits_Details_w_CPMS!$C$24:$C$5800,C76,Limits_Details_w_CPMS!$D$24:$D$5800,D76,Limits_Details_w_CPMS!$K$24:$K$5800,\"Control Equipment Problems\"))","v":""},{"$f":"IF($B76=\"\",\"\",SUMIFS(Limits_Details_w_CPMS!$J$24:$J$5800,Limits_Details_w_CPMS!$B$24:$B$5800,B76,Limits_Details_w_CPMS!$C$24:$C$5800,C76,Limits_Details_w_CPMS!$D$24:$D$5800,D76,Limits_Details_w_CPMS!$K$24:$K$5800,\"Process Problems\"))","v":""},{"$f":"IF($B76=\"\",\"\",SUMIFS(Limits_Details_w_CPMS!$J$24:$J$5800,Limits_Details_w_CPMS!$B$24:$B$5800,B76,Limits_Details_w_CPMS!$C$24:$C$5800,C76,Limits_Details_w_CPMS!$D$24:$D$5800,D76,Limits_Details_w_CPMS!$K$24:$K$5800,\"Other Known Causes\"))","v":""},{"$f":"IF($B76=\"\",\"\",SUMIFS(Limits_Details_w_CPMS!$J$24:$J$5800,Limits_Details_w_CPMS!$B$24:$B$5800,B76,Limits_Details_w_CPMS!$C$24:$C$5800,C76,Limits_Details_w_CPMS!$D$24:$D$5800,D76,Limits_Details_w_CPMS!$K$24:$K$5800,\"Other Unknown Causes\"))","v":""}]
[null,{"$f":"IF(Lists!AJ55=\"\",\"\",Lists!AJ55)","v":""},{"$f":"IF(Lists!AK55=\"\",\"\",Lists!AK55)","v":""},{"$f":"IF(Lists!AL55=\"\",\"\",Lists!AL55)","v":""},null,"","",{"$f":"IF($B77=\"\",\"\",SUMIFS(Limits_Details_w_CPMS!$J$24:$J$5800,Limits_Details_w_CPMS!$B$24:$B$5800,B77,Limits_Details_w_CPMS!$C$24:$C$5800,C77,Limits_Details_w_CPMS!$D$24:$D$5800,D77,Limits_Details_w_CPMS!$K$24:$K$5800,\"Control Equipment Problems\"))","v":""},{"$f":"IF($B77=\"\",\"\",SUMIFS(Limits_Details_w_CPMS!$J$24:$J$5800,Limits_Details_w_CPMS!$B$24:$B$5800,B77,Limits_Details_w_CPMS!$C$24:$C$5800,C77,Limits_Details_w_CPMS!$D$24:$D$5800,D77,Limits_Details_w_CPMS!$K$24:$K$5800,\"Process Problems\"))","v":""},{"$f":"IF($B77=\"\",\"\",SUMIFS(Limits_Details_w_CPMS!$J$24:$J$5800,Limits_Details_w_CPMS!$B$24:$B$5800,B77,Limits_Details_w_CPMS!$C$24:$C$5800,C77,Limits_Details_w_CPMS!$D$24:$D$5800,D77,Limits_Details_w_CPMS!$K$24:$K$5800,\"Other Known Causes\"))","v":""},{"$f":"IF($B77=\"\",\"\",SUMIFS(Limits_Details_w_CPMS!$J$24:$J$5800,Limits_Details_w_CPMS!$B$24:$B$5800,B77,Limits_Details_w_CPMS!$C$24:$C$5800,C77,Limits_Details_w_CPMS!$D$24:$D$5800,D77,Limits_Details_w_CPMS!$K$24:$K$5800,\"Other Unknown Causes\"))","v":""}]
[null,{"$f":"IF(Lists!AJ56=\"\",\"\",Lists!AJ56)","v":""},{"$f":"IF(Lists!AK56=\"\",\"\",Lists!AK56)","v":""},{"$f":"IF(Lists!AL56=\"\",\"\",Lists!AL56)","v":""},null,"","",{"$f":"IF($B78=\"\",\"\",SUMIFS(Limits_Details_w_CPMS!$J$24:$J$5800,Limits_Details_w_CPMS!$B$24:$B$5800,B78,Limits_Details_w_CPMS!$C$24:$C$5800,C78,Limits_Details_w_CPMS!$D$24:$D$5800,D78,Limits_Details_w_CPMS!$K$24:$K$5800,\"Control Equipment Problems\"))","v":""},{"$f":"IF($B78=\"\",\"\",SUMIFS(Limits_Details_w_CPMS!$J$24:$J$5800,Limits_Details_w_CPMS!$B$24:$B$5800,B78,Limits_Details_w_CPMS!$C$24:$C$5800,C78,Limits_Details_w_CPMS!$D$24:$D$5800,D78,Limits_Details_w_CPMS!$K$24:$K$5800,\"Process Problems\"))","v":""},{"$f":"IF($B78=\"\",\"\",SUMIFS(Limits_Details_w_CPMS!$J$24:$J$5800,Limits_Details_w_CPMS!$B$24:$B$5800,B78,Limits_Details_w_CPMS!$C$24:$C$5800,C78,Limits_Details_w_CPMS!$D$24:$D$5800,D78,Limits_Details_w_CPMS!$K$24:$K$5800,\"Other Known Causes\"))","v":""},{"$f":"IF($B78=\"\",\"\",SUMIFS(Limits_Details_w_CPMS!$J$24:$J$5800,Limits_Details_w_CPMS!$B$24:$B$5800,B78,Limits_Details_w_CPMS!$C$24:$C$5800,C78,Limits_Details_w_CPMS!$D$24:$D$5800,D78,Limits_Details_w_CPMS!$K$24:$K$5800,\"Other Unknown Causes\"))","v":""}]
[null,{"$f":"IF(Lists!AJ57=\"\",\"\",Lists!AJ57)","v":""},{"$f":"IF(Lists!AK57=\"\",\"\",Lists!AK57)","v":""},{"$f":"IF(Lists!AL57=\"\",\"\",Lists!AL57)","v":""},null,"","",{"$f":"IF($B79=\"\",\"\",SUMIFS(Limits_Details_w_CPMS!$J$24:$J$5800,Limits_Details_w_CPMS!$B$24:$B$5800,B79,Limits_Details_w_CPMS!$C$24:$C$5800,C79,Limits_Details_w_CPMS!$D$24:$D$5800,D79,Limits_Details_w_CPMS!$K$24:$K$5800,\"Control Equipment Problems\"))","v":""},{"$f":"IF($B79=\"\",\"\",SUMIFS(Limits_Details_w_CPMS!$J$24:$J$5800,Limits_Details_w_CPMS!$B$24:$B$5800,B79,Limits_Details_w_CPMS!$C$24:$C$5800,C79,Limits_Details_w_CPMS!$D$24:$D$5800,D79,Limits_Details_w_CPMS!$K$24:$K$5800,\"Process Problems\"))","v":""},{"$f":"IF($B79=\"\",\"\",SUMIFS(Limits_Details_w_CPMS!$J$24:$J$5800,Limits_Details_w_CPMS!$B$24:$B$5800,B79,Limits_Details_w_CPMS!$C$24:$C$5800,C79,Limits_Details_w_CPMS!$D$24:$D$5800,D79,Limits_Details_w_CPMS!$K$24:$K$5800,\"Other Known Causes\"))","v":""},{"$f":"IF($B79=\"\",\"\",SUMIFS(Limits_Details_w_CPMS!$J$24:$J$5800,Limits_Details_w_CPMS!$B$24:$B$5800,B79,Limits_Details_w_CPMS!$C$24:$C$5800,C79,Limits_Details_w_CPMS!$D$24:$D$5800,D79,Limits_Details_w_CPMS!$K$24:$K$5800,\"Other Unknown Causes\"))","v":""}]
[null,{"$f":"IF(Lists!AJ58=\"\",\"\",Lists!AJ58)","v":""},{"$f":"IF(Lists!AK58=\"\",\"\",Lists!AK58)","v":""},{"$f":"IF(Lists!AL58=\"\",\"\",Lists!AL58)","v":""},null,"","",{"$f":"IF($B80=\"\",\"\",SUMIFS(Limits_Details_w_CPMS!$J$24:$J$5800,Limits_Details_w_CPMS!$B$24:$B$5800,B80,Limits_Details_w_CPMS!$C$24:$C$5800,C80,Limits_Details_w_CPMS!$D$24:$D$5800,D80,Limits_Details_w_CPMS!$K$24:$K$5800,\"Control Equipment Problems\"))","v":""},{"$f":"IF($B80=\"\",\"\",SUMIFS(Limits_Details_w_CPMS!$J$24:$J$5800,Limits_Details_w_CPMS!$B$24:$B$5800,B80,Limits_Details_w_CPMS!$C$24:$C$5800,C80,Limits_Details_w_CPMS!$D$24:$D$5800,D80,Limits_Details_w_CPMS!$K$24:$K$5800,\"Process Problems\"))","v":""},{"$f":"IF($B80=\"\",\"\",SUMIFS(Limits_Details_w_CPMS!$J$24:$J$5800,Limits_Details_w_CPMS!$B$24:$B$5800,B80,Limits_Details_w_CPMS!$C$24:$C$5800,C80,Limits_Details_w_CPMS!$D$24:$D$5800,D80,Limits_Details_w_CPMS!$K$24:$K$5800,\"Other Known Causes\"))","v":""},{"$f":"IF($B80=\"\",\"\",SUMIFS(Limits_Details_w_CPMS!$J$24:$J$5800,Limits_Details_w_CPMS!$B$24:$B$5800,B80,Limits_Details_w_CPMS!$C$24:$C$5800,C80,Limits_Details_w_CPMS!$D$24:$D$5800,D80,Limits_Details_w_CPMS!$K$24:$K$5800,\"Other Unknown Causes\"))","v":""}]
[null,{"$f":"IF(Lists!AJ59=\"\",\"\",Lists!AJ59)","v":""},{"$f":"IF(Lists!AK59=\"\",\"\",Lists!AK59)","v":""},{"$f":"IF(Lists!AL59=\"\",\"\",Lists!AL59)","v":""},null,"","",{"$f":"IF($B81=\"\",\"\",SUMIFS(Limits_Details_w_CPMS!$J$24:$J$5800,Limits_Details_w_CPMS!$B$24:$B$5800,B81,Limits_Details_w_CPMS!$C$24:$C$5800,C81,Limits_Details_w_CPMS!$D$24:$D$5800,D81,Limits_Details_w_CPMS!$K$24:$K$5800,\"Control Equipment Problems\"))","v":""},{"$f":"IF($B81=\"\",\"\",SUMIFS(Limits_Details_w_CPMS!$J$24:$J$5800,Limits_Details_w_CPMS!$B$24:$B$5800,B81,Limits_Details_w_CPMS!$C$24:$C$5800,C81,Limits_Details_w_CPMS!$D$24:$D$5800,D81,Limits_Details_w_CPMS!$K$24:$K$5800,\"Process Problems\"))","v":""},{"$f":"IF($B81=\"\",\"\",SUMIFS(Limits_Details_w_CPMS!$J$24:$J$5800,Limits_Details_w_CPMS!$B$24:$B$5800,B81,Limits_Details_w_CPMS!$C$24:$C$5800,C81,Limits_Details_w_CPMS!$D$24:$D$5800,D81,Limits_Details_w_CPMS!$K$24:$K$5800,\"Other Known Causes\"))","v":""},{"$f":"IF($B81=\"\",\"\",SUMIFS(Limits_Details_w_CPMS!$J$24:$J$5800,Limits_Details_w_CPMS!$B$24:$B$5800,B81,Limits_Details_w_CPMS!$C$24:$C$5800,C81,Limits_Details_w_CPMS!$D$24:$D$5800,D81,Limits_Details_w_CPMS!$K$24:$K$5800,\"Other Unknown Causes\"))","v":""}]
[null,{"$f":"IF(Lists!AJ60=\"\",\"\",Lists!AJ60)","v":""},{"$f":"IF(Lists!AK60=\"\",\"\",Lists!AK60)","v":""},{"$f":"IF(Lists!AL60=\"\",\"\",Lists!AL60)","v":""},null,"","",{"$f":"IF($B82=\"\",\"\",SUMIFS(Limits_Details_w_CPMS!$J$24:$J$5800,Limits_Details_w_CPMS!$B$24:$B$5800,B82,Limits_Details_w_CPMS!$C$24:$C$5800,C82,Limits_Details_w_CPMS!$D$24:$D$5800,D82,Limits_Details_w_CPMS!$K$24:$K$5800,\"Control Equipment Problems\"))","v":""},{"$f":"IF($B82=\"\",\"\",SUMIFS(Limits_Details_w_CPMS!$J$24:$J$5800,Limits_Details_w_CPMS!$B$24:$B$5800,B82,Limits_Details_w_CPMS!$C$24:$C$5800,C82,Limits_Details_w_CPMS!$D$24:$D$5800,D82,Limits_Details_w_CPMS!$K$24:$K$5800,\"Process Problems\"))","v":""},{"$f":"IF($B82=\"\",\"\",SUMIFS(Limits_Details_w_CPMS!$J$24:$J$5800,Limits_Details_w_CPMS!$B$24:$B$5800,B82,Limits_Details_w_CPMS!$C$24:$C$5800,C82,Limits_Details_w_CPMS!$D$24:$D$5800,D82,Limits_Details_w_CPMS!$K$24:$K$5800,\"Other Known Causes\"))","v":""},{"$f":"IF($B82=\"\",\"\",SUMIFS(Limits_Details_w_CPMS!$J$24:$J$5800,Limits_Details_w_CPMS!$B$24:$B$5800,B82,Limits_Details_w_CPMS!$C$24:$C$5800,C82,Limits_Details_w_CPMS!$D$24:$D$5800,D82,Limits_Details_w_CPMS!$K$24:$K$5800,\"Other Unknown Causes\"))","v":""}]
[null,{"$f":"IF(Lists!AJ61=\"\",\"\",Lists!AJ61)","v":""},{"$f":"IF(Lists!AK61=\"\",\"\",Lists!AK61)","v":""},{"$f":"IF(Lists!AL61=\"\",\"\",Lists!AL61)","v":""},null,"","",{"$f":"IF($B83=\"\",\"\",SUMIFS(Limits_Details_w_CPMS!$J$24:$J$5800,Limits_Details_w_CPMS!$B$24:$B$5800,B83,Limits_Details_w_CPMS!$C$24:$C$5800,C83,Limits_Details_w_CPMS!$D$24:$D$5800,D83,Limits_Details_w_CPMS!$K$24:$K$5800,\"Control Equipment Problems\"))","v":""},{"$f":"IF($B83=\"\",\"\",SUMIFS(Limits_Details_w_CPMS!$J$24:$J$5800,Limits_Details_w_CPMS!$B$24:$B$5800,B83,Limits_Details_w_CPMS!$C$24:$C$5800,C83,Limits_Details_w_CPMS!$D$24:$D$5800,D83,Limits_Details_w_CPMS!$K$24:$K$5800,\"Process Problems\"))","v":""},{"$f":"IF($B83=\"\",\"\",SUMIFS(Limits_Details_w_CPMS!$J$24:$J$5800,Limits_Details_w_CPMS!$B$24:$B$5800,B83,Limits_Details_w_CPMS!$C$24:$C$5800,C83,Limits_Details_w_CPMS!$D$24:$D$5800,D83,Limits_Details_w_CPMS!$K$24:$K$5800,\"Other Known Causes\"))","v":""},{"$f":"IF($B83=\"\",\"\",SUMIFS(Limits_Details_w_CPMS!$J$24:$J$5800,Limits_Details_w_CPMS!$B$24:$B$5800,B83,Limits_Details_w_CPMS!$C$24:$C$5800,C83,Limits_Details_w_CPMS!$D$24:$D$5800,D83,Limits_Details_w_CPMS!$K$24:$K$5800,\"Other Unknown Causes\"))","v":""}]
[null,{"$f":"IF(Lists!AJ62=\"\",\"\",Lists!AJ62)","v":""},{"$f":"IF(Lists!AK62=\"\",\"\",Lists!AK62)","v":""},{"$f":"IF(Lists!AL62=\"\",\"\",Lists!AL62)","v":""},null,"","",{"$f":"IF($B84=\"\",\"\",SUMIFS(Limits_Details_w_CPMS!$J$24:$J$5800,Limits_Details_w_CPMS!$B$24:$B$5800,B84,Limits_Details_w_CPMS!$C$24:$C$5800,C84,Limits_Details_w_CPMS!$D$24:$D$5800,D84,Limits_Details_w_CPMS!$K$24:$K$5800,\"Control Equipment Problems\"))","v":""},{"$f":"IF($B84=\"\",\"\",SUMIFS(Limits_Details_w_CPMS!$J$24:$J$5800,Limits_Details_w_CPMS!$B$24:$B$5800,B84,Limits_Details_w_CPMS!$C$24:$C$5800,C84,Limits_Details_w_CPMS!$D$24:$D$5800,D84,Limits_Details_w_CPMS!$K$24:$K$5800,\"Process Problems\"))","v":""},{"$f":"IF($B84=\"\",\"\",SUMIFS(Limits_Details_w_CPMS!$J$24:$J$5800,Limits_Details_w_CPMS!$B$24:$B$5800,B84,Limits_Details_w_CPMS!$C$24:$C$5800,C84,Limits_Details_w_CPMS!$D$24:$D$5800,D84,Limits_Details_w_CPMS!$K$24:$K$5800,\"Other Known Causes\"))","v":""},{"$f":"IF($B84=\"\",\"\",SUMIFS(Limits_Details_w_CPMS!$J$24:$J$5800,Limits_Details_w_CPMS!$B$24:$B$5800,B84,Limits_Details_w_CPMS!$C$24:$C$5800,C84,Limits_Details_w_CPMS!$D$24:$D$5800,D84,Limits_Details_w_CPMS!$K$24:$K$5800,\"Other Unknown Causes\"))","v":""}]
[null,{"$f":"IF(Lists!AJ63=\"\",\"\",Lists!AJ63)","v":""},{"$f":"IF(Lists!AK63=\"\",\"\",Lists!AK63)","v":""},{"$f":"IF(Lists!AL63=\"\",\"\",Lists!AL63)","v":""},null,"","",{"$f":"IF($B85=\"\",\"\",SUMIFS(Limits_Details_w_CPMS!$J$24:$J$5800,Limits_Details_w_CPMS!$B$24:$B$5800,B85,Limits_Details_w_CPMS!$C$24:$C$5800,C85,Limits_Details_w_CPMS!$D$24:$D$5800,D85,Limits_Details_w_CPMS!$K$24:$K$5800,\"Control Equipment Problems\"))","v":""},{"$f":"IF($B85=\"\",\"\",SUMIFS(Limits_Details_w_CPMS!$J$24:$J$5800,Limits_Details_w_CPMS!$B$24:$B$5800,B85,Limits_Details_w_CPMS!$C$24:$C$5800,C85,Limits_Details_w_CPMS!$D$24:$D$5800,D85,Limits_Details_w_CPMS!$K$24:$K$5800,\"Process Problems\"))","v":""},{"$f":"IF($B85=\"\",\"\",SUMIFS(Limits_Details_w_CPMS!$J$24:$J$5800,Limits_Details_w_CPMS!$B$24:$B$5800,B85,Limits_Details_w_CPMS!$C$24:$C$5800,C85,Limits_Details_w_CPMS!$D$24:$D$5800,D85,Limits_Details_w_CPMS!$K$24:$K$5800,\"Other Known Causes\"))","v":""},{"$f":"IF($B85=\"\",\"\",SUMIFS(Limits_Details_w_CPMS!$J$24:$J$5800,Limits_Details_w_CPMS!$B$24:$B$5800,B85,Limits_Details_w_CPMS!$C$24:$C$5800,C85,Limits_Details_w_CPMS!$D$24:$D$5800,D85,Limits_Details_w_CPMS!$K$24:$K$5800,\"Other Unknown Causes\"))","v":""}]
[null,{"$f":"IF(Lists!AJ64=\"\",\"\",Lists!AJ64)","v":""},{"$f":"IF(Lists!AK64=\"\",\"\",Lists!AK64)","v":""},{"$f":"IF(Lists!AL64=\"\",\"\",Lists!AL64)","v":""},null,"","",{"$f":"IF($B86=\"\",\"\",SUMIFS(Limits_Details_w_CPMS!$J$24:$J$5800,Limits_Details_w_CPMS!$B$24:$B$5800,B86,Limits_Details_w_CPMS!$C$24:$C$5800,C86,Limits_Details_w_CPMS!$D$24:$D$5800,D86,Limits_Details_w_CPMS!$K$24:$K$5800,\"Control Equipment Problems\"))","v":""},{"$f":"IF($B86=\"\",\"\",SUMIFS(Limits_Details_w_CPMS!$J$24:$J$5800,Limits_Details_w_CPMS!$B$24:$B$5800,B86,Limits_Details_w_CPMS!$C$24:$C$5800,C86,Limits_Details_w_CPMS!$D$24:$D$5800,D86,Limits_Details_w_CPMS!$K$24:$K$5800,\"Process Problems\"))","v":""},{"$f":"IF($B86=\"\",\"\",SUMIFS(Limits_Details_w_CPMS!$J$24:$J$5800,Limits_Details_w_CPMS!$B$24:$B$5800,B86,Limits_Details_w_CPMS!$C$24:$C$5800,C86,Limits_Details_w_CPMS!$D$24:$D$5800,D86,Limits_Details_w_CPMS!$K$24:$K$5800,\"Other Known Causes\"))","v":""},{"$f":"IF($B86=\"\",\"\",SUMIFS(Limits_Details_w_CPMS!$J$24:$J$5800,Limits_Details_w_CPMS!$B$24:$B$5800,B86,Limits_Details_w_CPMS!$C$24:$C$5800,C86,Limits_Details_w_CPMS!$D$24:$D$5800,D86,Limits_Details_w_CPMS!$K$24:$K$5800,\"Other Unknown Causes\"))","v":""}]
[null,{"$f":"IF(Lists!AJ65=\"\",\"\",Lists!AJ65)","v":""},{"$f":"IF(Lists!AK65=\"\",\"\",Lists!AK65)","v":""},{"$f":"IF(Lists!AL65=\"\",\"\",Lists!AL65)","v":""},null,"","",{"$f":"IF($B87=\"\",\"\",SUMIFS(Limits_Details_w_CPMS!$J$24:$J$5800,Limits_Details_w_CPMS!$B$24:$B$5800,B87,Limits_Details_w_CPMS!$C$24:$C$5800,C87,Limits_Details_w_CPMS!$D$24:$D$5800,D87,Limits_Details_w_CPMS!$K$24:$K$5800,\"Control Equipment Problems\"))","v":""},{"$f":"IF($B87=\"\",\"\",SUMIFS(Limits_Details_w_CPMS!$J$24:$J$5800,Limits_Details_w_CPMS!$B$24:$B$5800,B87,Limits_Details_w_CPMS!$C$24:$C$5800,C87,Limits_Details_w_CPMS!$D$24:$D$5800,D87,Limits_Details_w_CPMS!$K$24:$K$5800,\"Process Problems\"))","v":""},{"$f":"IF($B87=\"\",\"\",SUMIFS(Limits_Details_w_CPMS!$J$24:$J$5800,Limits_Details_w_CPMS!$B$24:$B$5800,B87,Limits_Details_w_CPMS!$C$24:$C$5800,C87,Limits_Details_w_CPMS!$D$24:$D$5800,D87,Limits_Details_w_CPMS!$K$24:$K$5800,\"Other Known Causes\"))","v":""},{"$f":"IF($B87=\"\",\"\",SUMIFS(Limits_Details_w_CPMS!$J$24:$J$5800,Limits_Details_w_CPMS!$B$24:$B$5800,B87,Limits_Details_w_CPMS!$C$24:$C$5800,C87,Limits_Details_w_CPMS!$D$24:$D$5800,D87,Limits_Details_w_CPMS!$K$24:$K$5800,\"Other Unknown Causes\"))","v":""}]
[null,{"$f":"IF(Lists!AJ66=\"\",\"\",Lists!AJ66)","v":""},{"$f":"IF(Lists!AK66=\"\",\"\",Lists!AK66)","v":""},{"$f":"IF(Lists!AL66=\"\",\"\",Lists!AL66)","v":""},null,"","",{"$f":"IF($B88=\"\",\"\",SUMIFS(Limits_Details_w_CPMS!$J$24:$J$5800,Limits_Details_w_CPMS!$B$24:$B$5800,B88,Limits_Details_w_CPMS!$C$24:$C$5800,C88,Limits_Details_w_CPMS!$D$24:$D$5800,D88,Limits_Details_w_CPMS!$K$24:$K$5800,\"Control Equipment Problems\"))","v":""},{"$f":"IF($B88=\"\",\"\",SUMIFS(Limits_Details_w_CPMS!$J$24:$J$5800,Limits_Details_w_CPMS!$B$24:$B$5800,B88,Limits_Details_w_CPMS!$C$24:$C$5800,C88,Limits_Details_w_CPMS!$D$24:$D$5800,D88,Limits_Details_w_CPMS!$K$24:$K$5800,\"Process Problems\"))","v":""},{"$f":"IF($B88=\"\",\"\",SUMIFS(Limits_Details_w_CPMS!$J$24:$J$5800,Limits_Details_w_CPMS!$B$24:$B$5800,B88,Limits_Details_w_CPMS!$C$24:$C$5800,C88,Limits_Details_w_CPMS!$D$24:$D$5800,D88,Limits_Details_w_CPMS!$K$24:$K$5800,\"Other Known Causes\"))","v":""},{"$f":"IF($B88=\"\",\"\",SUMIFS(Limits_Details_w_CPMS!$J$24:$J$5800,Limits_Details_w_CPMS!$B$24:$B$5800,B88,Limits_Details_w_CPMS!$C$24:$C$5800,C88,Limits_Details_w_CPMS!$D$24:$D$5800,D88,Limits_Details_w_CPMS!$K$24:$K$5800,\"Other Unknown Causes\"))","v":""}]
[null,{"$f":"IF(Lists!AJ67=\"\",\"\",Lists!AJ67)","v":""},{"$f":"IF(Lists!AK67=\"\",\"\",Lists!AK67)","v":""},{"$f":"IF(Lists!AL67=\"\",\"\",Lists!AL67)","v":""},null,{"$f":"IF(B89=\"\",\"\",SUM(H89:K89))","v":""},{"$f":"IF(B89=\"\",\"\",IF(F89=0,\"N/A\",IF(D89=\"Opacity\", F89/60,F89)/$E89))","v":""},{"$f":"IF($B89=\"\",\"\",SUMIFS(Limits_Details_w_CPMS!$J$24:$J$5800,Limits_Details_w_CPMS!$B$24:$B$5800,B89,Limits_Details_w_CPMS!$C$24:$C$5800,C89,Limits_Details_w_CPMS!$D$24:$D$5800,D89,Limits_Details_w_CPMS!$K$24:$K$5800,\"Control Equipment Problems\"))","v":""},{"$f":"IF($B89=\"\",\"\",SUMIFS(Limits_Details_w_CPMS!$J$24:$J$5800,Limits_Details_w_CPMS!$B$24:$B$5800,B89,Limits_Details_w_CPMS!$C$24:$C$5800,C89,Limits_Details_w_CPMS!$D$24:$D$5800,D89,Limits_Details_w_CPMS!$K$24:$K$5800,\"Process Problems\"))","v":""},{"$f":"IF($B89=\"\",\"\",SUMIFS(Limits_Details_w_CPMS!$J$24:$J$5800,Limits_Details_w_CPMS!$B$24:$B$5800,B89,Limits_Details_w_CPMS!$C$24:$C$5800,C89,Limits_Details_w_CPMS!$D$24:$D$5800,D89,Limits_Details_w_CPMS!$K$24:$K$5800,\"Other Known Causes\"))","v":""},{"$f":"IF($B89=\"\",\"\",SUMIFS(Limits_Details_w_CPMS!$J$24:$J$5800,Limits_Details_w_CPMS!$B$24:$B$5800,B89,Limits_Details_w_CPMS!$C$24:$C$5800,C89,Limits_Details_w_CPMS!$D$24:$D$5800,D89,Limits_Details_w_CPMS!$K$24:$K$5800,\"Other Unknown Causes\"))","v":""}]
[null,{"$f":"IF(Lists!AJ68=\"\",\"\",Lists!AJ68)","v":""},{"$f":"IF(Lists!AK68=\"\",\"\",Lists!AK68)","v":""},{"$f":"IF(Lists!AL68=\"\",\"\",Lists!AL68)","v":""},null,"","",{"$f":"IF($B90=\"\",\"\",SUMIFS(Limits_Details_w_CPMS!$J$24:$J$5800,Limits_Details_w_CPMS!$B$24:$B$5800,B90,Limits_Details_w_CPMS!$C$24:$C$5800,C90,Limits_Details_w_CPMS!$D$24:$D$5800,D90,Limits_Details_w_CPMS!$K$24:$K$5800,\"Control Equipment Problems\"))","v":""},{"$f":"IF($B90=\"\",\"\",SUMIFS(Limits_Details_w_CPMS!$J$24:$J$5800,Limits_Details_w_CPMS!$B$24:$B$5800,B90,Limits_Details_w_CPMS!$C$24:$C$5800,C90,Limits_Details_w_CPMS!$D$24:$D$5800,D90,Limits_Details_w_CPMS!$K$24:$K$5800,\"Process Problems\"))","v":""},{"$f":"IF($B90=\"\",\"\",SUMIFS(Limits_Details_w_CPMS!$J$24:$J$5800,Limits_Details_w_CPMS!$B$24:$B$5800,B90,Limits_Details_w_CPMS!$C$24:$C$5800,C90,Limits_Details_w_CPMS!$D$24:$D$5800,D90,Limits_Details_w_CPMS!$K$24:$K$5800,\"Other Known Causes\"))","v":""},{"$f":"IF($B90=\"\",\"\",SUMIFS(Limits_Details_w_CPMS!$J$24:$J$5800,Limits_Details_w_CPMS!$B$24:$B$5800,B90,Limits_Details_w_CPMS!$C$24:$C$5800,C90,Limits_Details_w_CPMS!$D$24:$D$5800,D90,Limits_Details_w_CPMS!$K$24:$K$5800,\"Other Unknown Causes\"))","v":""}]
[null,{"$f":"IF(Lists!AJ69=\"\",\"\",Lists!AJ69)","v":""},{"$f":"IF(Lists!AK69=\"\",\"\",Lists!AK69)","v":""},{"$f":"IF(Lists!AL69=\"\",\"\",Lists!AL69)","v":""},null,"","",{"$f":"IF($B91=\"\",\"\",SUMIFS(Limits_Details_w_CPMS!$J$24:$J$5800,Limits_Details_w_CPMS!$B$24:$B$5800,B91,Limits_Details_w_CPMS!$C$24:$C$5800,C91,Limits_Details_w_CPMS!$D$24:$D$5800,D91,Limits_Details_w_CPMS!$K$24:$K$5800,\"Control Equipment Problems\"))","v":""},{"$f":"IF($B91=\"\",\"\",SUMIFS(Limits_Details_w_CPMS!$J$24:$J$5800,Limits_Details_w_CPMS!$B$24:$B$5800,B91,Limits_Details_w_CPMS!$C$24:$C$5800,C91,Limits_Details_w_CPMS!$D$24:$D$5800,D91,Limits_Details_w_CPMS!$K$24:$K$5800,\"Process Problems\"))","v":""},{"$f":"IF($B91=\"\",\"\",SUMIFS(Limits_Details_w_CPMS!$J$24:$J$5800,Limits_Details_w_CPMS!$B$24:$B$5800,B91,Limits_Details_w_CPMS!$C$24:$C$5800,C91,Limits_Details_w_CPMS!$D$24:$D$5800,D91,Limits_Details_w_CPMS!$K$24:$K$5800,\"Other Known Causes\"))","v":""},{"$f":"IF($B91=\"\",\"\",SUMIFS(Limits_Details_w_CPMS!$J$24:$J$5800,Limits_Details_w_CPMS!$B$24:$B$5800,B91,Limits_Details_w_CPMS!$C$24:$C$5800,C91,Limits_Details_w_CPMS!$D$24:$D$5800,D91,Limits_Details_w_CPMS!$K$24:$K$5800,\"Other Unknown Causes\"))","v":""}]
[null,{"$f":"IF(Lists!AJ70=\"\",\"\",Lists!AJ70)","v":""},{"$f":"IF(Lists!AK70=\"\",\"\",Lists!AK70)","v":""},{"$f":"IF(Lists!AL70=\"\",\"\",Lists!AL70)","v":""},null,"","",{"$f":"IF($B92=\"\",\"\",SUMIFS(Limits_Details_w_CPMS!$J$24:$J$5800,Limits_Details_w_CPMS!$B$24:$B$5800,B92,Limits_Details_w_CPMS!$C$24:$C$5800,C92,Limits_Details_w_CPMS!$D$24:$D$5800,D92,Limits_Details_w_CPMS!$K$24:$K$5800,\"Control Equipment Problems\"))","v":""},{"$f":"IF($B92=\"\",\"\",SUMIFS(Limits_Details_w_CPMS!$J$24:$J$5800,Limits_Details_w_CPMS!$B$24:$B$5800,B92,Limits_Details_w_CPMS!$C$24:$C$5800,C92,Limits_Details_w_CPMS!$D$24:$D$5800,D92,Limits_Details_w_CPMS!$K$24:$K$5800,\"Process Problems\"))","v":""},{"$f":"IF($B92=\"\",\"\",SUMIFS(Limits_Details_w_CPMS!$J$24:$J$5800,Limits_Details_w_CPMS!$B$24:$B$5800,B92,Limits_Details_w_CPMS!$C$24:$C$5800,C92,Limits_Details_w_CPMS!$D$24:$D$5800,D92,Limits_Details_w_CPMS!$K$24:$K$5800,\"Other Known Causes\"))","v":""},{"$f":"IF($B92=\"\",\"\",SUMIFS(Limits_Details_w_CPMS!$J$24:$J$5800,Limits_Details_w_CPMS!$B$24:$B$5800,B92,Limits_Details_w_CPMS!$C$24:$C$5800,C92,Limits_Details_w_CPMS!$D$24:$D$5800,D92,Limits_Details_w_CPMS!$K$24:$K$5800,\"Other Unknown Causes\"))","v":""}]
[null,{"$f":"IF(Lists!AJ71=\"\",\"\",Lists!AJ71)","v":""},{"$f":"IF(Lists!AK71=\"\",\"\",Lists!AK71)","v":""},{"$f":"IF(Lists!AL71=\"\",\"\",Lists!AL71)","v":""},null,"","",{"$f":"IF($B93=\"\",\"\",SUMIFS(Limits_Details_w_CPMS!$J$24:$J$5800,Limits_Details_w_CPMS!$B$24:$B$5800,B93,Limits_Details_w_CPMS!$C$24:$C$5800,C93,Limits_Details_w_CPMS!$D$24:$D$5800,D93,Limits_Details_w_CPMS!$K$24:$K$5800,\"Control Equipment Problems\"))","v":""},{"$f":"IF($B93=\"\",\"\",SUMIFS(Limits_Details_w_CPMS!$J$24:$J$5800,Limits_Details_w_CPMS!$B$24:$B$5800,B93,Limits_Details_w_CPMS!$C$24:$C$5800,C93,Limits_Details_w_CPMS!$D$24:$D$5800,D93,Limits_Details_w_CPMS!$K$24:$K$5800,\"Process Problems\"))","v":""},{"$f":"IF($B93=\"\",\"\",SUMIFS(Limits_Details_w_CPMS!$J$24:$J$5800,Limits_Details_w_CPMS!$B$24:$B$5800,B93,Limits_Details_w_CPMS!$C$24:$C$5800,C93,Limits_Details_w_CPMS!$D$24:$D$5800,D93,Limits_Details_w_CPMS!$K$24:$K$5800,\"Other Known Causes\"))","v":""},{"$f":"IF($B93=\"\",\"\",SUMIFS(Limits_Details_w_CPMS!$J$24:$J$5800,Limits_Details_w_CPMS!$B$24:$B$5800,B93,Limits_Details_w_CPMS!$C$24:$C$5800,C93,Limits_Details_w_CPMS!$D$24:$D$5800,D93,Limits_Details_w_CPMS!$K$24:$K$5800,\"Other Unknown Causes\"))","v":""}]
[null,{"$f":"IF(Lists!AJ72=\"\",\"\",Lists!AJ72)","v":""},{"$f":"IF(Lists!AK72=\"\",\"\",Lists!AK72)","v":""},{"$f":"IF(Lists!AL72=\"\",\"\",Lists!AL72)","v":""},null,"","",{"$f":"IF($B94=\"\",\"\",SUMIFS(Limits_Details_w_CPMS!$J$24:$J$5800,Limits_Details_w_CPMS!$B$24:$B$5800,B94,Limits_Details_w_CPMS!$C$24:$C$5800,C94,Limits_Details_w_CPMS!$D$24:$D$5800,D94,Limits_Details_w_CPMS!$K$24:$K$5800,\"Control Equipment Problems\"))","v":""},{"$f":"IF($B94=\"\",\"\",SUMIFS(Limits_Details_w_CPMS!$J$24:$J$5800,Limits_Details_w_CPMS!$B$24:$B$5800,B94,Limits_Details_w_CPMS!$C$24:$C$5800,C94,Limits_Details_w_CPMS!$D$24:$D$5800,D94,Limits_Details_w_CPMS!$K$24:$K$5800,\"Process Problems\"))","v":""},{"$f":"IF($B94=\"\",\"\",SUMIFS(Limits_Details_w_CPMS!$J$24:$J$5800,Limits_Details_w_CPMS!$B$24:$B$5800,B94,Limits_Details_w_CPMS!$C$24:$C$5800,C94,Limits_Details_w_CPMS!$D$24:$D$5800,D94,Limits_Details_w_CPMS!$K$24:$K$5800,\"Other Known Causes\"))","v":""},{"$f":"IF($B94=\"\",\"\",SUMIFS(Limits_Details_w_CPMS!$J$24:$J$5800,Limits_Details_w_CPMS!$B$24:$B$5800,B94,Limits_Details_w_CPMS!$C$24:$C$5800,C94,Limits_Details_w_CPMS!$D$24:$D$5800,D94,Limits_Details_w_CPMS!$K$24:$K$5800,\"Other Unknown Causes\"))","v":""}]
[null,{"$f":"IF(Lists!AJ73=\"\",\"\",Lists!AJ73)","v":""},{"$f":"IF(Lists!AK73=\"\",\"\",Lists!AK73)","v":""},{"$f":"IF(Lists!AL73=\"\",\"\",Lists!AL73)","v":""},null,"","",{"$f":"IF($B95=\"\",\"\",SUMIFS(Limits_Details_w_CPMS!$J$24:$J$5800,Limits_Details_w_CPMS!$B$24:$B$5800,B95,Limits_Details_w_CPMS!$C$24:$C$5800,C95,Limits_Details_w_CPMS!$D$24:$D$5800,D95,Limits_Details_w_CPMS!$K$24:$K$5800,\"Control Equipment Problems\"))","v":""},{"$f":"IF($B95=\"\",\"\",SUMIFS(Limits_Details_w_CPMS!$J$24:$J$5800,Limits_Details_w_CPMS!$B$24:$B$5800,B95,Limits_Details_w_CPMS!$C$24:$C$5800,C95,Limits_Details_w_CPMS!$D$24:$D$5800,D95,Limits_Details_w_CPMS!$K$24:$K$5800,\"Process Problems\"))","v":""},{"$f":"IF($B95=\"\",\"\",SUMIFS(Limits_Details_w_CPMS!$J$24:$J$5800,Limits_Details_w_CPMS!$B$24:$B$5800,B95,Limits_Details_w_CPMS!$C$24:$C$5800,C95,Limits_Details_w_CPMS!$D$24:$D$5800,D95,Limits_Details_w_CPMS!$K$24:$K$5800,\"Other Known Causes\"))","v":""},{"$f":"IF($B95=\"\",\"\",SUMIFS(Limits_Details_w_CPMS!$J$24:$J$5800,Limits_Details_w_CPMS!$B$24:$B$5800,B95,Limits_Details_w_CPMS!$C$24:$C$5800,C95,Limits_Details_w_CPMS!$D$24:$D$5800,D95,Limits_Details_w_CPMS!$K$24:$K$5800,\"Other Unknown Causes\"))","v":""}]
[null,{"$f":"IF(Lists!AJ74=\"\",\"\",Lists!AJ74)","v":""},{"$f":"IF(Lists!AK74=\"\",\"\",Lists!AK74)","v":""},{"$f":"IF(Lists!AL74=\"\",\"\",Lists!AL74)","v":""},null,"","",{"$f":"IF($B96=\"\",\"\",SUMIFS(Limits_Details_w_CPMS!$J$24:$J$5800,Limits_Details_w_CPMS!$B$24:$B$5800,B96,Limits_Details_w_CPMS!$C$24:$C$5800,C96,Limits_Details_w_CPMS!$D$24:$D$5800,D96,Limits_Details_w_CPMS!$K$24:$K$5800,\"Control Equipment Problems\"))","v":""},{"$f":"IF($B96=\"\",\"\",SUMIFS(Limits_Details_w_CPMS!$J$24:$J$5800,Limits_Details_w_CPMS!$B$24:$B$5800,B96,Limits_Details_w_CPMS!$C$24:$C$5800,C96,Limits_Details_w_CPMS!$D$24:$D$5800,D96,Limits_Details_w_CPMS!$K$24:$K$5800,\"Process Problems\"))","v":""},{"$f":"IF($B96=\"\",\"\",SUMIFS(Limits_Details_w_CPMS!$J$24:$J$5800,Limits_Details_w_CPMS!$B$24:$B$5800,B96,Limits_Details_w_CPMS!$C$24:$C$5800,C96,Limits_Details_w_CPMS!$D$24:$D$5800,D96,Limits_Details_w_CPMS!$K$24:$K$5800,\"Other Known Causes\"))","v":""},{"$f":"IF($B96=\"\",\"\",SUMIFS(Limits_Details_w_CPMS!$J$24:$J$5800,Limits_Details_w_CPMS!$B$24:$B$5800,B96,Limits_Details_w_CPMS!$C$24:$C$5800,C96,Limits_Details_w_CPMS!$D$24:$D$5800,D96,Limits_Details_w_CPMS!$K$24:$K$5800,\"Other Unknown Causes\"))","v":""}]
[null,{"$f":"IF(Lists!AJ75=\"\",\"\",Lists!AJ75)","v":""},{"$f":"IF(Lists!AK75=\"\",\"\",Lists!AK75)","v":""},{"$f":"IF(Lists!AL75=\"\",\"\",Lists!AL75)","v":""},null,"","",{"$f":"IF($B97=\"\",\"\",SUMIFS(Limits_Details_w_CPMS!$J$24:$J$5800,Limits_Details_w_CPMS!$B$24:$B$5800,B97,Limits_Details_w_CPMS!$C$24:$C$5800,C97,Limits_Details_w_CPMS!$D$24:$D$5800,D97,Limits_Details_w_CPMS!$K$24:$K$5800,\"Control Equipment Problems\"))","v":""},{"$f":"IF($B97=\"\",\"\",SUMIFS(Limits_Details_w_CPMS!$J$24:$J$5800,Limits_Details_w_CPMS!$B$24:$B$5800,B97,Limits_Details_w_CPMS!$C$24:$C$5800,C97,Limits_Details_w_CPMS!$D$24:$D$5800,D97,Limits_Details_w_CPMS!$K$24:$K$5800,\"Process Problems\"))","v":""},{"$f":"IF($B97=\"\",\"\",SUMIFS(Limits_Details_w_CPMS!$J$24:$J$5800,Limits_Details_w_CPMS!$B$24:$B$5800,B97,Limits_Details_w_CPMS!$C$24:$C$5800,C97,Limits_Details_w_CPMS!$D$24:$D$5800,D97,Limits_Details_w_CPMS!$K$24:$K$5800,\"Other Known Causes\"))","v":""},{"$f":"IF($B97=\"\",\"\",SUMIFS(Limits_Details_w_CPMS!$J$24:$J$5800,Limits_Details_w_CPMS!$B$24:$B$5800,B97,Limits_Details_w_CPMS!$C$24:$C$5800,C97,Limits_Details_w_CPMS!$D$24:$D$5800,D97,Limits_Details_w_CPMS!$K$24:$K$5800,\"Other Unknown Causes\"))","v":""}]
[null,{"$f":"IF(Lists!AJ76=\"\",\"\",Lists!AJ76)","v":""},{"$f":"IF(Lists!AK76=\"\",\"\",Lists!AK76)","v":""},{"$f":"IF(Lists!AL76=\"\",\"\",Lists!AL76)","v":""},null,"","",{"$f":"IF($B98=\"\",\"\",SUMIFS(Limits_Details_w_CPMS!$J$24:$J$5800,Limits_Details_w_CPMS!$B$24:$B$5800,B98,Limits_Details_w_CPMS!$C$24:$C$5800,C98,Limits_Details_w_CPMS!$D$24:$D$5800,D98,Limits_Details_w_CPMS!$K$24:$K$5800,\"Control Equipment Problems\"))","v":""},{"$f":"IF($B98=\"\",\"\",SUMIFS(Limits_Details_w_CPMS!$J$24:$J$5800,Limits_Details_w_CPMS!$B$24:$B$5800,B98,Limits_Details_w_CPMS!$C$24:$C$5800,C98,Limits_Details_w_CPMS!$D$24:$D$5800,D98,Limits_Details_w_CPMS!$K$24:$K$5800,\"Process Problems\"))","v":""},{"$f":"IF($B98=\"\",\"\",SUMIFS(Limits_Details_w_CPMS!$J$24:$J$5800,Limits_Details_w_CPMS!$B$24:$B$5800,B98,Limits_Details_w_CPMS!$C$24:$C$5800,C98,Limits_Details_w_CPMS!$D$24:$D$5800,D98,Limits_Details_w_CPMS!$K$24:$K$5800,\"Other Known Causes\"))","v":""},{"$f":"IF($B98=\"\",\"\",SUMIFS(Limits_Details_w_CPMS!$J$24:$J$5800,Limits_Details_w_CPMS!$B$24:$B$5800,B98,Limits_Details_w_CPMS!$C$24:$C$5800,C98,Limits_Details_w_CPMS!$D$24:$D$5800,D98,Limits_Details_w_CPMS!$K$24:$K$5800,\"Other Unknown Causes\"))","v":""}]
[null,{"$f":"IF(Lists!AJ77=\"\",\"\",Lists!AJ77)","v":""},{"$f":"IF(Lists!AK77=\"\",\"\",Lists!AK77)","v":""},{"$f":"IF(Lists!AL77=\"\",\"\",Lists!AL77)","v":""},null,"","",{"$f":"IF($B99=\"\",\"\",SUMIFS(Limits_Details_w_CPMS!$J$24:$J$5800,Limits_Details_w_CPMS!$B$24:$B$5800,B99,Limits_Details_w_CPMS!$C$24:$C$5800,C99,Limits_Details_w_CPMS!$D$24:$D$5800,D99,Limits_Details_w_CPMS!$K$24:$K$5800,\"Control Equipment Problems\"))","v":""},{"$f":"IF($B99=\"\",\"\",SUMIFS(Limits_Details_w_CPMS!$J$24:$J$5800,Limits_Details_w_CPMS!$B$24:$B$5800,B99,Limits_Details_w_CPMS!$C$24:$C$5800,C99,Limits_Details_w_CPMS!$D$24:$D$5800,D99,Limits_Details_w_CPMS!$K$24:$K$5800,\"Process Problems\"))","v":""},{"$f":"IF($B99=\"\",\"\",SUMIFS(Limits_Details_w_CPMS!$J$24:$J$5800,Limits_Details_w_CPMS!$B$24:$B$5800,B99,Limits_Details_w_CPMS!$C$24:$C$5800,C99,Limits_Details_w_CPMS!$D$24:$D$5800,D99,Limits_Details_w_CPMS!$K$24:$K$5800,\"Other Known Causes\"))","v":""},{"$f":"IF($B99=\"\",\"\",SUMIFS(Limits_Details_w_CPMS!$J$24:$J$5800,Limits_Details_w_CPMS!$B$24:$B$5800,B99,Limits_Details_w_CPMS!$C$24:$C$5800,C99,Limits_Details_w_CPMS!$D$24:$D$5800,D99,Limits_Details_w_CPMS!$K$24:$K$5800,\"Other Unknown Causes\"))","v":""}]
[null,{"$f":"IF(Lists!AJ78=\"\",\"\",Lists!AJ78)","v":""},{"$f":"IF(Lists!AK78=\"\",\"\",Lists!AK78)","v":""},{"$f":"IF(Lists!AL78=\"\",\"\",Lists!AL78)","v":""},null,"","",{"$f":"IF($B100=\"\",\"\",SUMIFS(Limits_Details_w_CPMS!$J$24:$J$5800,Limits_Details_w_CPMS!$B$24:$B$5800,B100,Limits_Details_w_CPMS!$C$24:$C$5800,C100,Limits_Details_w_CPMS!$D$24:$D$5800,D100,Limits_Details_w_CPMS!$K$24:$K$5800,\"Control Equipment Problems\"))","v":""},{"$f":"IF($B100=\"\",\"\",SUMIFS(Limits_Details_w_CPMS!$J$24:$J$5800,Limits_Details_w_CPMS!$B$24:$B$5800,B100,Limits_Details_w_CPMS!$C$24:$C$5800,C100,Limits_Details_w_CPMS!$D$24:$D$5800,D100,Limits_Details_w_CPMS!$K$24:$K$5800,\"Process Problems\"))","v":""},{"$f":"IF($B100=\"\",\"\",SUMIFS(Limits_Details_w_CPMS!$J$24:$J$5800,Limits_Details_w_CPMS!$B$24:$B$5800,B100,Limits_Details_w_CPMS!$C$24:$C$5800,C100,Limits_Details_w_CPMS!$D$24:$D$5800,D100,Limits_Details_w_CPMS!$K$24:$K$5800,\"Other Known Causes\"))","v":""},{"$f":"IF($B100=\"\",\"\",SUMIFS(Limits_Details_w_CPMS!$J$24:$J$5800,Limits_Details_w_CPMS!$B$24:$B$5800,B100,Limits_Details_w_CPMS!$C$24:$C$5800,C100,Limits_Details_w_CPMS!$D$24:$D$5800,D100,Limits_Details_w_CPMS!$K$24:$K$5800,\"Other Unknown Causes\"))","v":""}]
[null,{"$f":"IF(D101=\"\",\"\",COUNT($D$24:$D$452)-COUNT(D102:$D$452))","v":""}]
[null,{"$f":"IF(D102=\"\",\"\",COUNT($D$24:$D$452)-COUNT(D103:$D$452))","v":""}]
[null,{"$f":"IF(D103=\"\",\"\",COUNT($D$24:$D$452)-COUNT(D104:$D$452))","v":""}]
[null,{"$f":"IF(D104=\"\",\"\",COUNT($D$24:$D$452)-COUNT(D105:$D$452))","v":""}]
[null,{"$f":"IF(D105=\"\",\"\",COUNT($D$24:$D$452)-COUNT(D106:$D$452))","v":""}]
[null,{"$f":"IF(D106=\"\",\"\",COUNT($D$24:$D$452)-COUNT(D107:$D$452))","v":""}]
[null,{"$f":"IF(D107=\"\",\"\",COUNT($D$24:$D$452)-COUNT(D108:$D$452))","v":""}]
[null,{"$f":"IF(D108=\"\",\"\",COUNT($D$24:$D$452)-COUNT(D109:$D$452))","v":""}]
[null,{"$f":"IF(D109=\"\",\"\",COUNT($D$24:$D$452)-COUNT(D110:$D$452))","v":""}]
[null,{"$f":"IF(D110=\"\",\"\",COUNT($D$24:$D$452)-COUNT(D111:$D$452))","v":""}]
[null,{"$f":"IF(D111=\"\",\"\",COUNT($D$24:$D$452)-COUNT(D112:$D$452))","v":""}]
[null,{"$f":"IF(D112=\"\",\"\",COUNT($D$24:$D$452)-COUNT(D113:$D$452))","v":""}]
[null,{"$f":"IF(D113=\"\",\"\",COUNT($D$24:$D$452)-COUNT(D114:$D$452))","v":""}]
[null,{"$f":"IF(D114=\"\",\"\",COUNT($D$24:$D$452)-COUNT(D115:$D$452))","v":""}]
[null,{"$f":"IF(D115=\"\",\"\",COUNT($D$24:$D$452)-COUNT(D116:$D$452))","v":""}]
[null,{"$f":"IF(D116=\"\",\"\",COUNT($D$24:$D$452)-COUNT(D117:$D$452))","v":""}]
[null,{"$f":"IF(D117=\"\",\"\",COUNT($D$24:$D$452)-COUNT(D118:$D$452))","v":""}]
[null,{"$f":"IF(D118=\"\",\"\",COUNT($D$24:$D$452)-COUNT(D119:$D$452))","v":""}]
[null,{"$f":"IF(D119=\"\",\"\",COUNT($D$24:$D$452)-COUNT(D120:$D$452))","v":""}]
[null,{"$f":"IF(D120=\"\",\"\",COUNT($D$24:$D$452)-COUNT(D121:$D$452))","v":""}]
[null,{"$f":"IF(D121=\"\",\"\",COUNT($D$24:$D$452)-COUNT(D122:$D$452))","v":""}]
[null,{"$f":"IF(D122=\"\",\"\",COUNT($D$24:$D$452)-COUNT(D123:$D$452))","v":""}]
[null,{"$f":"IF(D123=\"\",\"\",COUNT($D$24:$D$452)-COUNT(D124:$D$452))","v":""}]
[null,{"$f":"IF(D124=\"\",\"\",COUNT($D$24:$D$452)-COUNT(D125:$D$452))","v":""}]
[null,{"$f":"IF(D125=\"\",\"\",COUNT($D$24:$D$452)-COUNT(D126:$D$452))","v":""}]
[null,{"$f":"IF(D126=\"\",\"\",COUNT($D$24:$D$452)-COUNT(D127:$D$452))","v":""}]
[null,{"$f":"IF(D127=\"\",\"\",COUNT($D$24:$D$452)-COUNT(D128:$D$452))","v":""}]
[null,{"$f":"IF(D128=\"\",\"\",COUNT($D$24:$D$452)-COUNT(D129:$D$452))","v":""}]
[null,{"$f":"IF(D129=\"\",\"\",COUNT($D$24:$D$452)-COUNT(D130:$D$452))","v":""}]
[null,{"$f":"IF(D130=\"\",\"\",COUNT($D$24:$D$452)-COUNT(D131:$D$452))","v":""}]
[null,{"$f":"IF(D131=\"\",\"\",COUNT($D$24:$D$452)-COUNT(D132:$D$452))","v":""}]
[null,{"$f":"IF(D132=\"\",\"\",COUNT($D$24:$D$452)-COUNT(D133:$D$452))","v":""}]
[null,{"$f":"IF(D133=\"\",\"\",COUNT($D$24:$D$452)-COUNT(D134:$D$452))","v":""}]
[null,{"$f":"IF(D134=\"\",\"\",COUNT($D$24:$D$452)-COUNT(D135:$D$452))","v":""}]
[null,{"$f":"IF(D135=\"\",\"\",COUNT($D$24:$D$452)-COUNT(D136:$D$452))","v":""}]
[null,{"$f":"IF(D136=\"\",\"\",COUNT($D$24:$D$452)-COUNT(D137:$D$452))","v":""}]
[null,{"$f":"IF(D137=\"\",\"\",COUNT($D$24:$D$452)-COUNT(D138:$D$452))","v":""}]
[null,{"$f":"IF(D138=\"\",\"\",COUNT($D$24:$D$452)-COUNT(D139:$D$452))","v":""}]
[null,{"$f":"IF(D139=\"\",\"\",COUNT($D$24:$D$452)-COUNT(D140:$D$452))","v":""}]
[null,{"$f":"IF(D140=\"\",\"\",COUNT($D$24:$D$452)-COUNT(D141:$D$452))","v":""}]
[null,{"$f":"IF(D141=\"\",\"\",COUNT($D$24:$D$452)-COUNT(D142:$D$452))","v":""}]
[null,{"$f":"IF(D142=\"\",\"\",COUNT($D$24:$D$452)-COUNT(D143:$D$452))","v":""}]
[null,{"$f":"IF(D143=\"\",\"\",COUNT($D$24:$D$452)-COUNT(D144:$D$452))","v":""}]
[null,{"$f":"IF(D144=\"\",\"\",COUNT($D$24:$D$452)-COUNT(D145:$D$452))","v":""}]
[null,{"$f":"IF(D145=\"\",\"\",COUNT($D$24:$D$452)-COUNT(D146:$D$452))","v":""}]
[null,{"$f":"IF(D146=\"\",\"\",COUNT($D$24:$D$452)-COUNT(D147:$D$452))","v":""}]
[null,{"$f":"IF(D147=\"\",\"\",COUNT($D$24:$D$452)-COUNT(D148:$D$452))","v":""}]
[null,{"$f":"IF(D148=\"\",\"\",COUNT($D$24:$D$452)-COUNT(D149:$D$452))","v":""}]
[null,{"$f":"IF(D149=\"\",\"\",COUNT($D$24:$D$452)-COUNT(D150:$D$452))","v":""}]
[null,{"$f":"IF(D150=\"\",\"\",COUNT($D$24:$D$452)-COUNT(D151:$D$452))","v":""}]
[null,{"$f":"IF(D151=\"\",\"\",COUNT($D$24:$D$452)-COUNT(D152:$D$452))","v":""}]
[null,{"$f":"IF(D152=\"\",\"\",COUNT($D$24:$D$452)-COUNT(D153:$D$452))","v":""}]
[null,{"$f":"IF(D153=\"\",\"\",COUNT($D$24:$D$452)-COUNT(D154:$D$452))","v":""}]
[null,{"$f":"IF(D154=\"\",\"\",COUNT($D$24:$D$452)-COUNT(D155:$D$452))","v":""}]
[null,{"$f":"IF(D155=\"\",\"\",COUNT($D$24:$D$452)-COUNT(D156:$D$452))","v":""}]
[null,{"$f":"IF(D156=\"\",\"\",COUNT($D$24:$D$452)-COUNT(D157:$D$452))","v":""}]
[null,{"$f":"IF(D157=\"\",\"\",COUNT($D$24:$D$452)-COUNT(D158:$D$452))","v":""}]
[null,{"$f":"IF(D158=\"\",\"\",COUNT($D$24:$D$452)-COUNT(D159:$D$452))","v":""}]
[null,{"$f":"IF(D159=\"\",\"\",COUNT($D$24:$D$452)-COUNT(D160:$D$452))","v":""}]
[null,{"$f":"IF(D160=\"\",\"\",COUNT($D$24:$D$452)-COUNT(D161:$D$452))","v":""}]
[null,{"$f":"IF(D161=\"\",\"\",COUNT($D$24:$D$452)-COUNT(D162:$D$452))","v":""}]
[null,{"$f":"IF(D162=\"\",\"\",COUNT($D$24:$D$452)-COUNT(D163:$D$452))","v":""}]
[null,{"$f":"IF(D163=\"\",\"\",COUNT($D$24:$D$452)-COUNT(D164:$D$452))","v":""}]
[null,{"$f":"IF(D164=\"\",\"\",COUNT($D$24:$D$452)-COUNT(D165:$D$452))","v":""}]
[null,{"$f":"IF(D165=\"\",\"\",COUNT($D$24:$D$452)-COUNT(D166:$D$452))","v":""}]
[null,{"$f":"IF(D166=\"\",\"\",COUNT($D$24:$D$452)-COUNT(D167:$D$452))","v":""}]
[null,{"$f":"IF(D167=\"\",\"\",COUNT($D$24:$D$452)-COUNT(D168:$D$452))","v":""}]
[null,{"$f":"IF(D168=\"\",\"\",COUNT($D$24:$D$452)-COUNT(D169:$D$452))","v":""}]
[null,{"$f":"IF(D169=\"\",\"\",COUNT($D$24:$D$452)-COUNT(D170:$D$452))","v":""}]
[null,{"$f":"IF(D170=\"\",\"\",COUNT($D$24:$D$452)-COUNT(D171:$D$452))","v":""}]
[null,{"$f":"IF(D171=\"\",\"\",COUNT($D$24:$D$452)-COUNT(D172:$D$452))","v":""}]
[null,{"$f":"IF(D172=\"\",\"\",COUNT($D$24:$D$452)-COUNT(D173:$D$452))","v":""}]
[null,{"$f":"IF(D173=\"\",\"\",COUNT($D$24:$D$452)-COUNT(D174:$D$452))","v":""}]
[null,{"$f":"IF(D174=\"\",\"\",COUNT($D$24:$D$452)-COUNT(D175:$D$452))","v":""}]
[null,{"$f":"IF(D175=\"\",\"\",COUNT($D$24:$D$452)-COUNT(D176:$D$452))","v":""}]
[null,{"$f":"IF(D176=\"\",\"\",COUNT($D$24:$D$452)-COUNT(D177:$D$452))","v":""}]
[null,{"$f":"IF(D177=\"\",\"\",COUNT($D$24:$D$452)-COUNT(D178:$D$452))","v":""}]
[null,{"$f":"IF(D178=\"\",\"\",COUNT($D$24:$D$452)-COUNT(D179:$D$452))","v":""}]
[null,{"$f":"IF(D179=\"\",\"\",COUNT($D$24:$D$452)-COUNT(D180:$D$452))","v":""}]
[null,{"$f":"IF(D180=\"\",\"\",COUNT($D$24:$D$452)-COUNT(D181:$D$452))","v":""}]
[null,{"$f":"IF(D181=\"\",\"\",COUNT($D$24:$D$452)-COUNT(D182:$D$452))","v":""}]
[null,{"$f":"IF(D182=\"\",\"\",COUNT($D$24:$D$452)-COUNT(D183:$D$452))","v":""}]
[null,{"$f":"IF(D183=\"\",\"\",COUNT($D$24:$D$452)-COUNT(D184:$D$452))","v":""}]
[null,{"$f":"IF(D184=\"\",\"\",COUNT($D$24:$D$452)-COUNT(D185:$D$452))","v":""}]
[null,{"$f":"IF(D185=\"\",\"\",COUNT($D$24:$D$452)-COUNT(D186:$D$452))","v":""}]
[null,{"$f":"IF(D186=\"\",\"\",COUNT($D$24:$D$452)-COUNT(D187:$D$452))","v":""}]
[null,{"$f":"IF(D187=\"\",\"\",COUNT($D$24:$D$452)-COUNT(D188:$D$452))","v":""}]
[null,{"$f":"IF(D188=\"\",\"\",COUNT($D$24:$D$452)-COUNT(D189:$D$452))","v":""}]
[null,{"$f":"IF(D189=\"\",\"\",COUNT($D$24:$D$452)-COUNT(D190:$D$452))","v":""}]
[null,{"$f":"IF(D190=\"\",\"\",COUNT($D$24:$D$452)-COUNT(D191:$D$452))","v":""}]
[null,{"$f":"IF(D191=\"\",\"\",COUNT($D$24:$D$452)-COUNT(D192:$D$452))","v":""}]
[null,{"$f":"IF(D192=\"\",\"\",COUNT($D$24:$D$452)-COUNT(D193:$D$452))","v":""}]
[null,{"$f":"IF(D193=\"\",\"\",COUNT($D$24:$D$452)-COUNT(D194:$D$452))","v":""}]
[null,{"$f":"IF(D194=\"\",\"\",COUNT($D$24:$D$452)-COUNT(D195:$D$452))","v":""}]
[null,{"$f":"IF(D195=\"\",\"\",COUNT($D$24:$D$452)-COUNT(D196:$D$452))","v":""}]
[null,{"$f":"IF(D196=\"\",\"\",COUNT($D$24:$D$452)-COUNT(D197:$D$452))","v":""}]
[null,{"$f":"IF(D197=\"\",\"\",COUNT($D$24:$D$452)-COUNT(D198:$D$452))","v":""}]
[null,{"$f":"IF(D198=\"\",\"\",COUNT($D$24:$D$452)-COUNT(D199:$D$452))","v":""}]
[null,{"$f":"IF(D199=\"\",\"\",COUNT($D$24:$D$452)-COUNT(D200:$D$452))","v":""}]
[null,{"$f":"IF(D200=\"\",\"\",COUNT($D$24:$D$452)-COUNT(D201:$D$452))","v":""}]
[null,{"$f":"IF(D201=\"\",\"\",COUNT($D$24:$D$452)-COUNT(D202:$D$452))","v":""}]
[null,{"$f":"IF(D202=\"\",\"\",COUNT($D$24:$D$452)-COUNT(D203:$D$452))","v":""}]
[null,{"$f":"IF(D203=\"\",\"\",COUNT($D$24:$D$452)-COUNT(D204:$D$452))","v":""}]
[null,{"$f":"IF(D204=\"\",\"\",COUNT($D$24:$D$452)-COUNT(D205:$D$452))","v":""}]
[null,{"$f":"IF(D205=\"\",\"\",COUNT($D$24:$D$452)-COUNT(D206:$D$452))","v":""}]
[null,{"$f":"IF(D206=\"\",\"\",COUNT($D$24:$D$452)-COUNT(D207:$D$452))","v":""}]
[null,{"$f":"IF(D207=\"\",\"\",COUNT($D$24:$D$452)-COUNT(D208:$D$452))","v":""}]
[null,{"$f":"IF(D208=\"\",\"\",COUNT($D$24:$D$452)-COUNT(D209:$D$452))","v":""}]
[null,{"$f":"IF(D209=\"\",\"\",COUNT($D$24:$D$452)-COUNT(D210:$D$452))","v":""}]
[null,{"$f":"IF(D210=\"\",\"\",COUNT($D$24:$D$452)-COUNT(D211:$D$452))","v":""}]
[null,{"$f":"IF(D211=\"\",\"\",COUNT($D$24:$D$452)-COUNT(D212:$D$452))","v":""}]
[null,{"$f":"IF(D212=\"\",\"\",COUNT($D$24:$D$452)-COUNT(D213:$D$452))","v":""}]
[null,{"$f":"IF(D213=\"\",\"\",COUNT($D$24:$D$452)-COUNT(D214:$D$452))","v":""}]
[null,{"$f":"IF(D214=\"\",\"\",COUNT($D$24:$D$452)-COUNT(D215:$D$452))","v":""}]
[null,{"$f":"IF(D215=\"\",\"\",COUNT($D$24:$D$452)-COUNT(D216:$D$452))","v":""}]
[null,{"$f":"IF(D216=\"\",\"\",COUNT($D$24:$D$452)-COUNT(D217:$D$452))","v":""}]
[null,{"$f":"IF(D217=\"\",\"\",COUNT($D$24:$D$452)-COUNT(D218:$D$452))","v":""}]
[null,{"$f":"IF(D218=\"\",\"\",COUNT($D$24:$D$452)-COUNT(D219:$D$452))","v":""}]
[null,{"$f":"IF(D219=\"\",\"\",COUNT($D$24:$D$452)-COUNT(D220:$D$452))","v":""}]
[null,{"$f":"IF(D220=\"\",\"\",COUNT($D$24:$D$452)-COUNT(D221:$D$452))","v":""}]
[null,{"$f":"IF(D221=\"\",\"\",COUNT($D$24:$D$452)-COUNT(D222:$D$452))","v":""}]
[null,{"$f":"IF(D222=\"\",\"\",COUNT($D$24:$D$452)-COUNT(D223:$D$452))","v":""}]
[null,{"$f":"IF(D223=\"\",\"\",COUNT($D$24:$D$452)-COUNT(D224:$D$452))","v":""}]
[null,{"$f":"IF(D224=\"\",\"\",COUNT($D$24:$D$452)-COUNT(D225:$D$452))","v":""}]
[null,{"$f":"IF(D225=\"\",\"\",COUNT($D$24:$D$452)-COUNT(D226:$D$452))","v":""}]
[null,{"$f":"IF(D226=\"\",\"\",COUNT($D$24:$D$452)-COUNT(D227:$D$452))","v":""}]
[null,{"$f":"IF(D227=\"\",\"\",COUNT($D$24:$D$452)-COUNT(D228:$D$452))","v":""}]
[null,{"$f":"IF(D228=\"\",\"\",COUNT($D$24:$D$452)-COUNT(D229:$D$452))","v":""}]
[null,{"$f":"IF(D229=\"\",\"\",COUNT($D$24:$D$452)-COUNT(D230:$D$452))","v":""}]
[null,{"$f":"IF(D230=\"\",\"\",COUNT($D$24:$D$452)-COUNT(D231:$D$452))","v":""}]
[null,{"$f":"IF(D231=\"\",\"\",COUNT($D$24:$D$452)-COUNT(D232:$D$452))","v":""}]
[null,{"$f":"IF(D232=\"\",\"\",COUNT($D$24:$D$452)-COUNT(D233:$D$452))","v":""}]
[null,{"$f":"IF(D233=\"\",\"\",COUNT($D$24:$D$452)-COUNT(D234:$D$452))","v":""}]
[null,{"$f":"IF(D234=\"\",\"\",COUNT($D$24:$D$452)-COUNT(D235:$D$452))","v":""}]
[null,{"$f":"IF(D235=\"\",\"\",COUNT($D$24:$D$452)-COUNT(D236:$D$452))","v":""}]
[null,{"$f":"IF(D236=\"\",\"\",COUNT($D$24:$D$452)-COUNT(D237:$D$452))","v":""}]
[null,{"$f":"IF(D237=\"\",\"\",COUNT($D$24:$D$452)-COUNT(D238:$D$452))","v":""}]
[null,{"$f":"IF(D238=\"\",\"\",COUNT($D$24:$D$452)-COUNT(D239:$D$452))","v":""}]
[null,{"$f":"IF(D239=\"\",\"\",COUNT($D$24:$D$452)-COUNT(D240:$D$452))","v":""}]
[null,{"$f":"IF(D240=\"\",\"\",COUNT($D$24:$D$452)-COUNT(D241:$D$452))","v":""}]
[null,{"$f":"IF(D241=\"\",\"\",COUNT($D$24:$D$452)-COUNT(D242:$D$452))","v":""}]
[null,{"$f":"IF(D242=\"\",\"\",COUNT($D$24:$D$452)-COUNT(D243:$D$452))","v":""}]
[null,{"$f":"IF(D243=\"\",\"\",COUNT($D$24:$D$452)-COUNT(D244:$D$452))","v":""}]
[null,{"$f":"IF(D244=\"\",\"\",COUNT($D$24:$D$452)-COUNT(D245:$D$452))","v":""}]
[null,{"$f":"IF(D245=\"\",\"\",COUNT($D$24:$D$452)-COUNT(D246:$D$452))","v":""}]
[null,{"$f":"IF(D246=\"\",\"\",COUNT($D$24:$D$452)-COUNT(D247:$D$452))","v":""}]
[null,{"$f":"IF(D247=\"\",\"\",COUNT($D$24:$D$452)-COUNT(D248:$D$452))","v":""}]
[null,{"$f":"IF(D248=\"\",\"\",COUNT($D$24:$D$452)-COUNT(D249:$D$452))","v":""}]
[null,{"$f":"IF(D249=\"\",\"\",COUNT($D$24:$D$452)-COUNT(D250:$D$452))","v":""}]
[null,{"$f":"IF(D250=\"\",\"\",COUNT($D$24:$D$452)-COUNT(D251:$D$452))","v":""}]
[null,{"$f":"IF(D251=\"\",\"\",COUNT($D$24:$D$452)-COUNT(D252:$D$452))","v":""}]
[null,{"$f":"IF(D252=\"\",\"\",COUNT($D$24:$D$452)-COUNT(D253:$D$452))","v":""}]
[null,{"$f":"IF(D253=\"\",\"\",COUNT($D$24:$D$452)-COUNT(D254:$D$452))","v":""}]
[null,{"$f":"IF(D254=\"\",\"\",COUNT($D$24:$D$452)-COUNT(D255:$D$452))","v":""}]
[null,{"$f":"IF(D255=\"\",\"\",COUNT($D$24:$D$452)-COUNT(D256:$D$452))","v":""}]
[null,{"$f":"IF(D256=\"\",\"\",COUNT($D$24:$D$452)-COUNT(D257:$D$452))","v":""}]
[null,{"$f":"IF(D257=\"\",\"\",COUNT($D$24:$D$452)-COUNT(D258:$D$452))","v":""}]
[null,{"$f":"IF(D258=\"\",\"\",COUNT($D$24:$D$452)-COUNT(D259:$D$452))","v":""}]
[null,{"$f":"IF(D259=\"\",\"\",COUNT($D$24:$D$452)-COUNT(D260:$D$452))","v":""}]
[null,{"$f":"IF(D260=\"\",\"\",COUNT($D$24:$D$452)-COUNT(D261:$D$452))","v":""}]
[null,{"$f":"IF(D261=\"\",\"\",COUNT($D$24:$D$452)-COUNT(D262:$D$452))","v":""}]
[null,{"$f":"IF(D262=\"\",\"\",COUNT($D$24:$D$452)-COUNT(D263:$D$452))","v":""}]
[null,{"$f":"IF(D263=\"\",\"\",COUNT($D$24:$D$452)-COUNT(D264:$D$452))","v":""}]
[null,{"$f":"IF(D264=\"\",\"\",COUNT($D$24:$D$452)-COUNT(D265:$D$452))","v":""}]
[null,{"$f":"IF(D265=\"\",\"\",COUNT($D$24:$D$452)-COUNT(D266:$D$452))","v":""}]
[null,{"$f":"IF(D266=\"\",\"\",COUNT($D$24:$D$452)-COUNT(D267:$D$452))","v":""}]
[null,{"$f":"IF(D267=\"\",\"\",COUNT($D$24:$D$452)-COUNT(D268:$D$452))","v":""}]
[null,{"$f":"IF(D268=\"\",\"\",COUNT($D$24:$D$452)-COUNT(D269:$D$452))","v":""}]
[null,{"$f":"IF(D269=\"\",\"\",COUNT($D$24:$D$452)-COUNT(D270:$D$452))","v":""}]
[null,{"$f":"IF(D270=\"\",\"\",COUNT($D$24:$D$452)-COUNT(D271:$D$452))","v":""}]
[null,{"$f":"IF(D271=\"\",\"\",COUNT($D$24:$D$452)-COUNT(D272:$D$452))","v":""}]
[null,{"$f":"IF(D272=\"\",\"\",COUNT($D$24:$D$452)-COUNT(D273:$D$452))","v":""}]
[null,{"$f":"IF(D273=\"\",\"\",COUNT($D$24:$D$452)-COUNT(D274:$D$452))","v":""}]
[null,{"$f":"IF(D274=\"\",\"\",COUNT($D$24:$D$452)-COUNT(D275:$D$452))","v":""}]
[null,{"$f":"IF(D275=\"\",\"\",COUNT($D$24:$D$452)-COUNT(D276:$D$452))","v":""}]
[null,{"$f":"IF(D276=\"\",\"\",COUNT($D$24:$D$452)-COUNT(D277:$D$452))","v":""}]
[null,{"$f":"IF(D277=\"\",\"\",COUNT($D$24:$D$452)-COUNT(D278:$D$452))","v":""}]
[null,{"$f":"IF(D278=\"\",\"\",COUNT($D$24:$D$452)-COUNT(D279:$D$452))","v":""}]
[null,{"$f":"IF(D279=\"\",\"\",COUNT($D$24:$D$452)-COUNT(D280:$D$452))","v":""}]
[null,{"$f":"IF(D280=\"\",\"\",COUNT($D$24:$D$452)-COUNT(D281:$D$452))","v":""}]
[null,{"$f":"IF(D281=\"\",\"\",COUNT($D$24:$D$452)-COUNT(D282:$D$452))","v":""}]
[null,{"$f":"IF(D282=\"\",\"\",COUNT($D$24:$D$452)-COUNT(D283:$D$452))","v":""}]
[null,{"$f":"IF(D283=\"\",\"\",COUNT($D$24:$D$452)-COUNT(D284:$D$452))","v":""}]
[null,{"$f":"IF(D284=\"\",\"\",COUNT($D$24:$D$452)-COUNT(D285:$D$452))","v":""}]
[null,{"$f":"IF(D285=\"\",\"\",COUNT($D$24:$D$452)-COUNT(D286:$D$452))","v":""}]
[null,{"$f":"IF(D286=\"\",\"\",COUNT($D$24:$D$452)-COUNT(D287:$D$452))","v":""}]
[null,{"$f":"IF(D287=\"\",\"\",COUNT($D$24:$D$452)-COUNT(D288:$D$452))","v":""}]
[null,{"$f":"IF(D288=\"\",\"\",COUNT($D$24:$D$452)-COUNT(D289:$D$452))","v":""}]
[null,{"$f":"IF(D289=\"\",\"\",COUNT($D$24:$D$452)-COUNT(D290:$D$452))","v":""}]
[null,{"$f":"IF(D290=\"\",\"\",COUNT($D$24:$D$452)-COUNT(D291:$D$452))","v":""}]
[null,{"$f":"IF(D291=\"\",\"\",COUNT($D$24:$D$452)-COUNT(D292:$D$452))","v":""}]
[null,{"$f":"IF(D292=\"\",\"\",COUNT($D$24:$D$452)-COUNT(D293:$D$452))","v":""}]
[null,{"$f":"IF(D293=\"\",\"\",COUNT($D$24:$D$452)-COUNT(D294:$D$452))","v":""}]
[null,{"$f":"IF(D294=\"\",\"\",COUNT($D$24:$D$452)-COUNT(D295:$D$452))","v":""}]
[null,{"$f":"IF(D295=\"\",\"\",COUNT($D$24:$D$452)-COUNT(D296:$D$452))","v":""}]
[null,{"$f":"IF(D296=\"\",\"\",COUNT($D$24:$D$452)-COUNT(D297:$D$452))","v":""}]
[null,{"$f":"IF(D297=\"\",\"\",COUNT($D$24:$D$452)-COUNT(D298:$D$452))","v":""}]
[null,{"$f":"IF(D298=\"\",\"\",COUNT($D$24:$D$452)-COUNT(D299:$D$452))","v":""}]
[null,{"$f":"IF(D299=\"\",\"\",COUNT($D$24:$D$452)-COUNT(D300:$D$452))","v":""}]
[null,{"$f":"IF(D300=\"\",\"\",COUNT($D$24:$D$452)-COUNT(D301:$D$452))","v":""}]
[null,{"$f":"IF(D301=\"\",\"\",COUNT($D$24:$D$452)-COUNT(D302:$D$452))","v":""}]
[null,{"$f":"IF(D302=\"\",\"\",COUNT($D$24:$D$452)-COUNT(D303:$D$452))","v":""}]
[null,{"$f":"IF(D303=\"\",\"\",COUNT($D$24:$D$452)-COUNT(D304:$D$452))","v":""}]
[null,{"$f":"IF(D304=\"\",\"\",COUNT($D$24:$D$452)-COUNT(D305:$D$452))","v":""}]
[null,{"$f":"IF(D305=\"\",\"\",COUNT($D$24:$D$452)-COUNT(D306:$D$452))","v":""}]
[null,{"$f":"IF(D306=\"\",\"\",COUNT($D$24:$D$452)-COUNT(D307:$D$452))","v":""}]
[null,{"$f":"IF(D307=\"\",\"\",COUNT($D$24:$D$452)-COUNT(D308:$D$452))","v":""}]
[null,{"$f":"IF(D308=\"\",\"\",COUNT($D$24:$D$452)-COUNT(D309:$D$452))","v":""}]
[null,{"$f":"IF(D309=\"\",\"\",COUNT($D$24:$D$452)-COUNT(D310:$D$452))","v":""}]
[null,{"$f":"IF(D310=\"\",\"\",COUNT($D$24:$D$452)-COUNT(D311:$D$452))","v":""}]
[null,{"$f":"IF(D311=\"\",\"\",COUNT($D$24:$D$452)-COUNT(D312:$D$452))","v":""}]
[null,{"$f":"IF(D312=\"\",\"\",COUNT($D$24:$D$452)-COUNT(D313:$D$452))","v":""}]
[null,{"$f":"IF(D313=\"\",\"\",COUNT($D$24:$D$452)-COUNT(D314:$D$452))","v":""}]
[null,{"$f":"IF(D314=\"\",\"\",COUNT($D$24:$D$452)-COUNT(D315:$D$452))","v":""}]
[null,{"$f":"IF(D315=\"\",\"\",COUNT($D$24:$D$452)-COUNT(D316:$D$452))","v":""}]
[null,{"$f":"IF(D316=\"\",\"\",COUNT($D$24:$D$452)-COUNT(D317:$D$452))","v":""}]
[null,{"$f":"IF(D317=\"\",\"\",COUNT($D$24:$D$452)-COUNT(D318:$D$452))","v":""}]
[null,{"$f":"IF(D318=\"\",\"\",COUNT($D$24:$D$452)-COUNT(D319:$D$452))","v":""}]
[null,{"$f":"IF(D319=\"\",\"\",COUNT($D$24:$D$452)-COUNT(D320:$D$452))","v":""}]
[null,{"$f":"IF(D320=\"\",\"\",COUNT($D$24:$D$452)-COUNT(D321:$D$452))","v":""}]
[null,{"$f":"IF(D321=\"\",\"\",COUNT($D$24:$D$452)-COUNT(D322:$D$452))","v":""}]
[null,{"$f":"IF(D322=\"\",\"\",COUNT($D$24:$D$452)-COUNT(D323:$D$452))","v":""}]
[null,{"$f":"IF(D323=\"\",\"\",COUNT($D$24:$D$452)-COUNT(D324:$D$452))","v":""}]
[null,{"$f":"IF(D324=\"\",\"\",COUNT($D$24:$D$452)-COUNT(D325:$D$452))","v":""}]
[null,{"$f":"IF(D325=\"\",\"\",COUNT($D$24:$D$452)-COUNT(D326:$D$452))","v":""}]
[null,{"$f":"IF(D326=\"\",\"\",COUNT($D$24:$D$452)-COUNT(D327:$D$452))","v":""}]
[null,{"$f":"IF(D327=\"\",\"\",COUNT($D$24:$D$452)-COUNT(D328:$D$452))","v":""}]
[null,{"$f":"IF(D328=\"\",\"\",COUNT($D$24:$D$452)-COUNT(D329:$D$452))","v":""}]
[null,{"$f":"IF(D329=\"\",\"\",COUNT($D$24:$D$452)-COUNT(D330:$D$452))","v":""}]
[null,{"$f":"IF(D330=\"\",\"\",COUNT($D$24:$D$452)-COUNT(D331:$D$452))","v":""}]
[null,{"$f":"IF(D331=\"\",\"\",COUNT($D$24:$D$452)-COUNT(D332:$D$452))","v":""}]
[null,{"$f":"IF(D332=\"\",\"\",COUNT($D$24:$D$452)-COUNT(D333:$D$452))","v":""}]
[null,{"$f":"IF(D333=\"\",\"\",COUNT($D$24:$D$452)-COUNT(D334:$D$452))","v":""}]
[null,{"$f":"IF(D334=\"\",\"\",COUNT($D$24:$D$452)-COUNT(D335:$D$452))","v":""}]
[null,{"$f":"IF(D335=\"\",\"\",COUNT($D$24:$D$452)-COUNT(D336:$D$452))","v":""}]
[null,{"$f":"IF(D336=\"\",\"\",COUNT($D$24:$D$452)-COUNT(D337:$D$452))","v":""}]
[null,{"$f":"IF(D337=\"\",\"\",COUNT($D$24:$D$452)-COUNT(D338:$D$452))","v":""}]
[null,{"$f":"IF(D338=\"\",\"\",COUNT($D$24:$D$452)-COUNT(D339:$D$452))","v":""}]
[null,{"$f":"IF(D339=\"\",\"\",COUNT($D$24:$D$452)-COUNT(D340:$D$452))","v":""}]
[null,{"$f":"IF(D340=\"\",\"\",COUNT($D$24:$D$452)-COUNT(D341:$D$452))","v":""}]
[null,{"$f":"IF(D341=\"\",\"\",COUNT($D$24:$D$452)-COUNT(D342:$D$452))","v":""}]
[null,{"$f":"IF(D342=\"\",\"\",COUNT($D$24:$D$452)-COUNT(D343:$D$452))","v":""}]
[null,{"$f":"IF(D343=\"\",\"\",COUNT($D$24:$D$452)-COUNT(D344:$D$452))","v":""}]
[null,{"$f":"IF(D344=\"\",\"\",COUNT($D$24:$D$452)-COUNT(D345:$D$452))","v":""}]
[null,{"$f":"IF(D345=\"\",\"\",COUNT($D$24:$D$452)-COUNT(D346:$D$452))","v":""}]
[null,{"$f":"IF(D346=\"\",\"\",COUNT($D$24:$D$452)-COUNT(D347:$D$452))","v":""}]
[null,{"$f":"IF(D347=\"\",\"\",COUNT($D$24:$D$452)-COUNT(D348:$D$452))","v":""}]
[null,{"$f":"IF(D348=\"\",\"\",COUNT($D$24:$D$452)-COUNT(D349:$D$452))","v":""}]
[null,{"$f":"IF(D349=\"\",\"\",COUNT($D$24:$D$452)-COUNT(D350:$D$452))","v":""}]
[null,{"$f":"IF(D350=\"\",\"\",COUNT($D$24:$D$452)-COUNT(D351:$D$452))","v":""}]
[null,{"$f":"IF(D351=\"\",\"\",COUNT($D$24:$D$452)-COUNT(D352:$D$452))","v":""}]
[null,{"$f":"IF(D352=\"\",\"\",COUNT($D$24:$D$452)-COUNT(D353:$D$452))","v":""}]
[null,{"$f":"IF(D353=\"\",\"\",COUNT($D$24:$D$452)-COUNT(D354:$D$452))","v":""}]
[null,{"$f":"IF(D354=\"\",\"\",COUNT($D$24:$D$452)-COUNT(D355:$D$452))","v":""}]
[null,{"$f":"IF(D355=\"\",\"\",COUNT($D$24:$D$452)-COUNT(D356:$D$452))","v":""}]
[null,{"$f":"IF(D356=\"\",\"\",COUNT($D$24:$D$452)-COUNT(D357:$D$452))","v":""}]
[null,{"$f":"IF(D357=\"\",\"\",COUNT($D$24:$D$452)-COUNT(D358:$D$452))","v":""}]
[null,{"$f":"IF(D358=\"\",\"\",COUNT($D$24:$D$452)-COUNT(D359:$D$452))","v":""}]
[null,{"$f":"IF(D359=\"\",\"\",COUNT($D$24:$D$452)-COUNT(D360:$D$452))","v":""}]
[null,{"$f":"IF(D360=\"\",\"\",COUNT($D$24:$D$452)-COUNT(D361:$D$452))","v":""}]
[null,{"$f":"IF(D361=\"\",\"\",COUNT($D$24:$D$452)-COUNT(D362:$D$452))","v":""}]
[null,{"$f":"IF(D362=\"\",\"\",COUNT($D$24:$D$452)-COUNT(D363:$D$452))","v":""}]
[null,{"$f":"IF(D363=\"\",\"\",COUNT($D$24:$D$452)-COUNT(D364:$D$452))","v":""}]
[null,{"$f":"IF(D364=\"\",\"\",COUNT($D$24:$D$452)-COUNT(D365:$D$452))","v":""}]
[null,{"$f":"IF(D365=\"\",\"\",COUNT($D$24:$D$452)-COUNT(D366:$D$452))","v":""}]
[null,{"$f":"IF(D366=\"\",\"\",COUNT($D$24:$D$452)-COUNT(D367:$D$452))","v":""}]
[null,{"$f":"IF(D367=\"\",\"\",COUNT($D$24:$D$452)-COUNT(D368:$D$452))","v":""}]
[null,{"$f":"IF(D368=\"\",\"\",COUNT($D$24:$D$452)-COUNT(D369:$D$452))","v":""}]
[null,{"$f":"IF(D369=\"\",\"\",COUNT($D$24:$D$452)-COUNT(D370:$D$452))","v":""}]
[null,{"$f":"IF(D370=\"\",\"\",COUNT($D$24:$D$452)-COUNT(D371:$D$452))","v":""}]
[null,{"$f":"IF(D371=\"\",\"\",COUNT($D$24:$D$452)-COUNT(D372:$D$452))","v":""}]
[null,{"$f":"IF(D372=\"\",\"\",COUNT($D$24:$D$452)-COUNT(D373:$D$452))","v":""}]
[null,{"$f":"IF(D373=\"\",\"\",COUNT($D$24:$D$452)-COUNT(D374:$D$452))","v":""}]
[null,{"$f":"IF(D374=\"\",\"\",COUNT($D$24:$D$452)-COUNT(D375:$D$452))","v":""}]
[null,{"$f":"IF(D375=\"\",\"\",COUNT($D$24:$D$452)-COUNT(D376:$D$452))","v":""}]
[null,{"$f":"IF(D376=\"\",\"\",COUNT($D$24:$D$452)-COUNT(D377:$D$452))","v":""}]
[null,{"$f":"IF(D377=\"\",\"\",COUNT($D$24:$D$452)-COUNT(D378:$D$452))","v":""}]
[null,{"$f":"IF(D378=\"\",\"\",COUNT($D$24:$D$452)-COUNT(D379:$D$452))","v":""}]
[null,{"$f":"IF(D379=\"\",\"\",COUNT($D$24:$D$452)-COUNT(D380:$D$452))","v":""}]
[null,{"$f":"IF(D380=\"\",\"\",COUNT($D$24:$D$452)-COUNT(D381:$D$452))","v":""}]
[null,{"$f":"IF(D381=\"\",\"\",COUNT($D$24:$D$452)-COUNT(D382:$D$452))","v":""}]
[null,{"$f":"IF(D382=\"\",\"\",COUNT($D$24:$D$452)-COUNT(D383:$D$452))","v":""}]
[null,{"$f":"IF(D383=\"\",\"\",COUNT($D$24:$D$452)-COUNT(D384:$D$452))","v":""}]
[null,{"$f":"IF(D384=\"\",\"\",COUNT($D$24:$D$452)-COUNT(D385:$D$452))","v":""}]
[null,{"$f":"IF(D385=\"\",\"\",COUNT($D$24:$D$452)-COUNT(D386:$D$452))","v":""}]
[null,{"$f":"IF(D386=\"\",\"\",COUNT($D$24:$D$452)-COUNT(D387:$D$452))","v":""}]
[null,{"$f":"IF(D387=\"\",\"\",COUNT($D$24:$D$452)-COUNT(D388:$D$452))","v":""}]
[null,{"$f":"IF(D388=\"\",\"\",COUNT($D$24:$D$452)-COUNT(D389:$D$452))","v":""}]
[null,{"$f":"IF(D389=\"\",\"\",COUNT($D$24:$D$452)-COUNT(D390:$D$452))","v":""}]
[null,{"$f":"IF(D390=\"\",\"\",COUNT($D$24:$D$452)-COUNT(D391:$D$452))","v":""}]
[null,{"$f":"IF(D391=\"\",\"\",COUNT($D$24:$D$452)-COUNT(D392:$D$452))","v":""}]
[null,{"$f":"IF(D392=\"\",\"\",COUNT($D$24:$D$452)-COUNT(D393:$D$452))","v":""}]
[null,{"$f":"IF(D393=\"\",\"\",COUNT($D$24:$D$452)-COUNT(D394:$D$452))","v":""}]
[null,{"$f":"IF(D394=\"\",\"\",COUNT($D$24:$D$452)-COUNT(D395:$D$452))","v":""}]
[null,{"$f":"IF(D395=\"\",\"\",COUNT($D$24:$D$452)-COUNT(D396:$D$452))","v":""}]
[null,{"$f":"IF(D396=\"\",\"\",COUNT($D$24:$D$452)-COUNT(D397:$D$452))","v":""}]
[null,{"$f":"IF(D397=\"\",\"\",COUNT($D$24:$D$452)-COUNT(D398:$D$452))","v":""}]
[null,{"$f":"IF(D398=\"\",\"\",COUNT($D$24:$D$452)-COUNT(D399:$D$452))","v":""}]
[null,{"$f":"IF(D399=\"\",\"\",COUNT($D$24:$D$452)-COUNT(D400:$D$452))","v":""}]
[null,{"$f":"IF(D400=\"\",\"\",COUNT($D$24:$D$452)-COUNT(D401:$D$452))","v":""}]
[null,{"$f":"IF(D401=\"\",\"\",COUNT($D$24:$D$452)-COUNT(D402:$D$452))","v":""}]
[null,{"$f":"IF(D402=\"\",\"\",COUNT($D$24:$D$452)-COUNT(D403:$D$452))","v":""}]
[null,{"$f":"IF(D403=\"\",\"\",COUNT($D$24:$D$452)-COUNT(D404:$D$452))","v":""}]
[null,{"$f":"IF(D404=\"\",\"\",COUNT($D$24:$D$452)-COUNT(D405:$D$452))","v":""}]
[null,{"$f":"IF(D405=\"\",\"\",COUNT($D$24:$D$452)-COUNT(D406:$D$452))","v":""}]
[null,{"$f":"IF(D406=\"\",\"\",COUNT($D$24:$D$452)-COUNT(D407:$D$452))","v":""}]
[null,{"$f":"IF(D407=\"\",\"\",COUNT($D$24:$D$452)-COUNT(D408:$D$452))","v":""}]
[null,{"$f":"IF(D408=\"\",\"\",COUNT($D$24:$D$452)-COUNT(D409:$D$452))","v":""}]
[null,{"$f":"IF(D409=\"\",\"\",COUNT($D$24:$D$452)-COUNT(D410:$D$452))","v":""}]
[null,{"$f":"IF(D410=\"\",\"\",COUNT($D$24:$D$452)-COUNT(D411:$D$452))","v":""}]
[null,{"$f":"IF(D411=\"\",\"\",COUNT($D$24:$D$452)-COUNT(D412:$D$452))","v":""}]
[null,{"$f":"IF(D412=\"\",\"\",COUNT($D$24:$D$452)-COUNT(D413:$D$452))","v":""}]
[null,{"$f":"IF(D413=\"\",\"\",COUNT($D$24:$D$452)-COUNT(D414:$D$452))","v":""}]
[null,{"$f":"IF(D414=\"\",\"\",COUNT($D$24:$D$452)-COUNT(D415:$D$452))","v":""}]
[null,{"$f":"IF(D415=\"\",\"\",COUNT($D$24:$D$452)-COUNT(D416:$D$452))","v":""}]
[null,{"$f":"IF(D416=\"\",\"\",COUNT($D$24:$D$452)-COUNT(D417:$D$452))","v":""}]
[null,{"$f":"IF(D417=\"\",\"\",COUNT($D$24:$D$452)-COUNT(D418:$D$452))","v":""}]
[null,{"$f":"IF(D418=\"\",\"\",COUNT($D$24:$D$452)-COUNT(D419:$D$452))","v":""}]
[null,{"$f":"IF(D419=\"\",\"\",COUNT($D$24:$D$452)-COUNT(D420:$D$452))","v":""}]
[null,{"$f":"IF(D420=\"\",\"\",COUNT($D$24:$D$452)-COUNT(D421:$D$452))","v":""}]
[null,{"$f":"IF(D421=\"\",\"\",COUNT($D$24:$D$452)-COUNT(D422:$D$452))","v":""}]
[null,{"$f":"IF(D422=\"\",\"\",COUNT($D$24:$D$452)-COUNT(D423:$D$452))","v":""}]
[null,{"$f":"IF(D423=\"\",\"\",COUNT($D$24:$D$452)-COUNT(D424:$D$452))","v":""}]
[null,{"$f":"IF(D424=\"\",\"\",COUNT($D$24:$D$452)-COUNT(D425:$D$452))","v":""}]
[null,{"$f":"IF(D425=\"\",\"\",COUNT($D$24:$D$452)-COUNT(D426:$D$452))","v":""}]
[null,{"$f":"IF(D426=\"\",\"\",COUNT($D$24:$D$452)-COUNT(D427:$D$452))","v":""}]
[null,{"$f":"IF(D427=\"\",\"\",COUNT($D$24:$D$452)-COUNT(D428:$D$452))","v":""}]
[null,{"$f":"IF(D428=\"\",\"\",COUNT($D$24:$D$452)-COUNT(D429:$D$452))","v":""}]
[null,{"$f":"IF(D429=\"\",\"\",COUNT($D$24:$D$452)-COUNT(D430:$D$452))","v":""}]
[null,{"$f":"IF(D430=\"\",\"\",COUNT($D$24:$D$452)-COUNT(D431:$D$452))","v":""}]
[null,{"$f":"IF(D431=\"\",\"\",COUNT($D$24:$D$452)-COUNT(D432:$D$452))","v":""}]
[null,{"$f":"IF(D432=\"\",\"\",COUNT($D$24:$D$452)-COUNT(D433:$D$452))","v":""}]
[null,{"$f":"IF(D433=\"\",\"\",COUNT($D$24:$D$452)-COUNT(D434:$D$452))","v":""}]
[null,{"$f":"IF(D434=\"\",\"\",COUNT($D$24:$D$452)-COUNT(D435:$D$452))","v":""}]
[null,{"$f":"IF(D435=\"\",\"\",COUNT($D$24:$D$452)-COUNT(D436:$D$452))","v":""}]
[null,{"$f":"IF(D436=\"\",\"\",COUNT($D$24:$D$452)-COUNT(D437:$D$452))","v":""}]
[null,{"$f":"IF(D437=\"\",\"\",COUNT($D$24:$D$452)-COUNT(D438:$D$452))","v":""}]
[null,{"$f":"IF(D438=\"\",\"\",COUNT($D$24:$D$452)-COUNT(D439:$D$452))","v":""}]
[null,{"$f":"IF(D439=\"\",\"\",COUNT($D$24:$D$452)-COUNT(D440:$D$452))","v":""}]
[null,{"$f":"IF(D440=\"\",\"\",COUNT($D$24:$D$452)-COUNT(D441:$D$452))","v":""}]
[null,{"$f":"IF(D441=\"\",\"\",COUNT($D$24:$D$452)-COUNT(D442:$D$452))","v":""}]
[null,{"$f":"IF(D442=\"\",\"\",COUNT($D$24:$D$452)-COUNT(D443:$D$452))","v":""}]
[null,{"$f":"IF(D443=\"\",\"\",COUNT($D$24:$D$452)-COUNT(D444:$D$452))","v":""}]
[null,{"$f":"IF(D444=\"\",\"\",COUNT($D$24:$D$452)-COUNT(D445:$D$452))","v":""}]
[null,{"$f":"IF(D445=\"\",\"\",COUNT($D$24:$D$452)-COUNT(D446:$D$452))","v":""}]
[null,{"$f":"IF(D446=\"\",\"\",COUNT($D$24:$D$452)-COUNT(D447:$D$452))","v":""}]
[null,{"$f":"IF(D447=\"\",\"\",COUNT($D$24:$D$452)-COUNT(D448:$D$452))","v":""}]
[null,{"$f":"IF(D448=\"\",\"\",COUNT($D$24:$D$452)-COUNT(D449:$D$452))","v":""}]
[null,{"$f":"IF(D449=\"\",\"\",COUNT($D$24:$D$452)-COUNT(D450:$D$452))","v":""}]
[null,{"$f":"IF(D450=\"\",\"\",COUNT($D$24:$D$452)-COUNT(D451:$D$452))","v":""}]
[null,{"$f":"IF(D451=\"\",\"\",COUNT($D$24:$D$452)-COUNT(D$452:$D452))","v":""}]
[null,{"$f":"IF(D452=\"\",\"\",COUNT($D$24:$D$452)-COUNT(D$452:$D453))","v":""}]
[null,{"$f":"IF(D453=\"\",\"\",COUNT($D$24:$D$452)-COUNT(D$452:$D454))","v":""}]
[null,{"$f":"IF(D454=\"\",\"\",COUNT($D$24:$D$452)-COUNT(D$452:$D455))","v":""}]
[null,{"$f":"IF(D455=\"\",\"\",COUNT($D$24:$D$452)-COUNT(D$452:$D456))","v":""}]
[null,{"$f":"IF(D456=\"\",\"\",COUNT($D$24:$D$452)-COUNT(D$452:$D457))","v":""}]
[null,{"$f":"IF(D457=\"\",\"\",COUNT($D$24:$D$452)-COUNT(D$452:$D458))","v":""}]
[null,{"$f":"IF(D458=\"\",\"\",COUNT($D$24:$D$452)-COUNT(D$452:$D459))","v":""}]
[null,{"$f":"IF(D459=\"\",\"\",COUNT($D$24:$D$452)-COUNT(D$452:$D460))","v":""}]
[null,{"$f":"IF(D460=\"\",\"\",COUNT($D$24:$D$452)-COUNT(D$452:$D461))","v":""}]
[null,{"$f":"IF(D461=\"\",\"\",COUNT($D$24:$D$452)-COUNT(D$452:$D462))","v":""}]
[null,{"$f":"IF(D462=\"\",\"\",COUNT($D$24:$D$452)-COUNT(D$452:$D463))","v":""}]
[null,{"$f":"IF(D463=\"\",\"\",COUNT($D$24:$D$452)-COUNT(D$452:$D464))","v":""}]
[null,{"$f":"IF(D464=\"\",\"\",COUNT($D$24:$D$452)-COUNT(D$452:$D465))","v":""}]
[null,{"$f":"IF(D465=\"\",\"\",COUNT($D$24:$D$452)-COUNT(D$452:$D466))","v":""}]
[null,{"$f":"IF(D466=\"\",\"\",COUNT($D$24:$D$452)-COUNT(D$452:$D467))","v":""}]
[null,{"$f":"IF(D467=\"\",\"\",COUNT($D$24:$D$452)-COUNT(D$452:$D468))","v":""}]
[null,{"$f":"IF(D468=\"\",\"\",COUNT($D$24:$D$452)-COUNT(D$452:$D469))","v":""}]
[null,{"$f":"IF(D469=\"\",\"\",COUNT($D$24:$D$452)-COUNT(D$452:$D470))","v":""}]
[null,{"$f":"IF(D470=\"\",\"\",COUNT($D$24:$D$452)-COUNT(D$452:$D471))","v":""}]
[null,{"$f":"IF(D471=\"\",\"\",COUNT($D$24:$D$452)-COUNT(D$452:$D472))","v":""}]
[null,{"$f":"IF(D472=\"\",\"\",COUNT($D$24:$D$452)-COUNT(D$452:$D473))","v":""}]
[null,{"$f":"IF(D473=\"\",\"\",COUNT($D$24:$D$452)-COUNT(D$452:$D474))","v":""}]
[null,{"$f":"IF(D474=\"\",\"\",COUNT($D$24:$D$452)-COUNT(D$452:$D475))","v":""}]
[null,{"$f":"IF(D475=\"\",\"\",COUNT($D$24:$D$452)-COUNT(D$452:$D476))","v":""}]
[null,{"$f":"IF(D476=\"\",\"\",COUNT($D$24:$D$452)-COUNT(D$452:$D477))","v":""}]
[null,{"$f":"IF(D477=\"\",\"\",COUNT($D$24:$D$452)-COUNT(D$452:$D478))","v":""}]
[null,{"$f":"IF(D478=\"\",\"\",COUNT($D$24:$D$452)-COUNT(D$452:$D479))","v":""}]
[null,{"$f":"IF(D479=\"\",\"\",COUNT($D$24:$D$452)-COUNT(D$452:$D480))","v":""}]
[null,{"$f":"IF(D480=\"\",\"\",COUNT($D$24:$D$452)-COUNT(D$452:$D481))","v":""}]
[null,{"$f":"IF(D481=\"\",\"\",COUNT($D$24:$D$452)-COUNT(D$452:$D482))","v":""}]
[null,{"$f":"IF(D482=\"\",\"\",COUNT($D$24:$D$452)-COUNT(D$452:$D483))","v":""}]
[null,{"$f":"IF(D483=\"\",\"\",COUNT($D$24:$D$452)-COUNT(D$452:$D484))","v":""}]
[null,{"$f":"IF(D484=\"\",\"\",COUNT($D$24:$D$452)-COUNT(D$452:$D485))","v":""}]
[null,{"$f":"IF(D485=\"\",\"\",COUNT($D$24:$D$452)-COUNT(D$452:$D486))","v":""}]
[null,{"$f":"IF(D486=\"\",\"\",COUNT($D$24:$D$452)-COUNT(D$452:$D487))","v":""}]
[null,{"$f":"IF(D487=\"\",\"\",COUNT($D$24:$D$452)-COUNT(D$452:$D488))","v":""}]
[null,{"$f":"IF(D488=\"\",\"\",COUNT($D$24:$D$452)-COUNT(D$452:$D489))","v":""}]
[null,{"$f":"IF(D489=\"\",\"\",COUNT($D$24:$D$452)-COUNT(D$452:$D490))","v":""}]
[null,{"$f":"IF(D490=\"\",\"\",COUNT($D$24:$D$452)-COUNT(D$452:$D491))","v":""}]
[null,{"$f":"IF(D491=\"\",\"\",COUNT($D$24:$D$452)-COUNT(D$452:$D492))","v":""}]
[null,{"$f":"IF(D492=\"\",\"\",COUNT($D$24:$D$452)-COUNT(D$452:$D493))","v":""}]
[null,{"$f":"IF(D493=\"\",\"\",COUNT($D$24:$D$452)-COUNT(D$452:$D494))","v":""}]
[null,{"$f":"IF(D494=\"\",\"\",COUNT($D$24:$D$452)-COUNT(D$452:$D495))","v":""}]
[null,{"$f":"IF(D495=\"\",\"\",COUNT($D$24:$D$452)-COUNT(D$452:$D496))","v":""}]
[null,{"$f":"IF(D496=\"\",\"\",COUNT($D$24:$D$452)-COUNT(D$452:$D497))","v":""}]
[null,{"$f":"IF(D497=\"\",\"\",COUNT($D$24:$D$452)-COUNT(D$452:$D498))","v":""}]
[null,{"$f":"IF(D498=\"\",\"\",COUNT($D$24:$D$452)-COUNT(D$452:$D499))","v":""}]
[null,{"$f":"IF(D499=\"\",\"\",COUNT($D$24:$D$452)-COUNT(D$452:$D500))","v":""}]
[null,{"$f":"IF(D500=\"\",\"\",COUNT($D$24:$D$452)-COUNT(D$452:$D501))","v":""}]
[null,{"$f":"IF(D501=\"\",\"\",COUNT($D$24:$D$452)-COUNT(D$452:$D502))","v":""}]
[null,{"$f":"IF(D502=\"\",\"\",COUNT($D$24:$D$452)-COUNT(D$452:$D503))","v":""}]
[null,{"$f":"IF(D503=\"\",\"\",COUNT($D$24:$D$452)-COUNT(D$452:$D504))","v":""}]
[null,{"$f":"IF(D504=\"\",\"\",COUNT($D$24:$D$452)-COUNT(D$452:$D505))","v":""}]
[null,{"$f":"IF(D505=\"\",\"\",COUNT($D$24:$D$452)-COUNT(D$452:$D506))","v":""}]
[null,{"$f":"IF(D506=\"\",\"\",COUNT($D$24:$D$452)-COUNT(D$452:$D507))","v":""}]
[null,{"$f":"IF(D507=\"\",\"\",COUNT($D$24:$D$452)-COUNT(D$452:$D508))","v":""}]
[null,{"$f":"IF(D508=\"\",\"\",COUNT($D$24:$D$452)-COUNT(D$452:$D509))","v":""}]
[null,{"$f":"IF(D509=\"\",\"\",COUNT($D$24:$D$452)-COUNT(D$452:$D510))","v":""}]
[null,{"$f":"IF(D510=\"\",\"\",COUNT($D$24:$D$452)-COUNT(D$452:$D511))","v":""}]
[null,{"$f":"IF(D511=\"\",\"\",COUNT($D$24:$D$452)-COUNT(D$452:$D512))","v":""}]
[null,{"$f":"IF(D512=\"\",\"\",COUNT($D$24:$D$452)-COUNT(D$452:$D513))","v":""}]
[null,{"$f":"IF(D513=\"\",\"\",COUNT($D$24:$D$452)-COUNT(D$452:$D514))","v":""}]
[null,{"$f":"IF(D514=\"\",\"\",COUNT($D$24:$D$452)-COUNT(D$452:$D515))","v":""}]
[null,{"$f":"IF(D515=\"\",\"\",COUNT($D$24:$D$452)-COUNT(D$452:$D516))","v":""}]
[null,{"$f":"IF(D516=\"\",\"\",COUNT($D$24:$D$452)-COUNT(D$452:$D517))","v":""}]
[null,{"$f":"IF(D517=\"\",\"\",COUNT($D$24:$D$452)-COUNT(D$452:$D518))","v":""}]
[null,{"$f":"IF(D518=\"\",\"\",COUNT($D$24:$D$452)-COUNT(D$452:$D519))","v":""}]
[null,{"$f":"IF(D519=\"\",\"\",COUNT($D$24:$D$452)-COUNT(D$452:$D520))","v":""}]
[null,{"$f":"IF(D520=\"\",\"\",COUNT($D$24:$D$452)-COUNT(D$452:$D521))","v":""}]
[null,{"$f":"IF(D521=\"\",\"\",COUNT($D$24:$D$452)-COUNT(D$452:$D522))","v":""}]
[null,{"$f":"IF(D522=\"\",\"\",COUNT($D$24:$D$452)-COUNT(D$452:$D523))","v":""}]
[null,{"$f":"IF(D523=\"\",\"\",COUNT($D$24:$D$452)-COUNT(D$452:$D524))","v":""}]
[null,{"$f":"IF(D524=\"\",\"\",COUNT($D$24:$D$452)-COUNT(D$452:$D525))","v":""}]
[null,{"$f":"IF(D525=\"\",\"\",COUNT($D$24:$D$452)-COUNT(D$452:$D526))","v":""}]
[null,{"$f":"IF(D526=\"\",\"\",COUNT($D$24:$D$452)-COUNT(D$452:$D527))","v":""}]
[null,{"$f":"IF(D527=\"\",\"\",COUNT($D$24:$D$452)-COUNT(D$452:$D528))","v":""}]
[null,{"$f":"IF(D528=\"\",\"\",COUNT($D$24:$D$452)-COUNT(D$452:$D529))","v":""}]
[null,{"$f":"IF(D529=\"\",\"\",COUNT($D$24:$D$452)-COUNT(D$452:$D530))","v":""}]
[null,{"$f":"IF(D530=\"\",\"\",COUNT($D$24:$D$452)-COUNT(D$452:$D531))","v":""}]
[null,{"$f":"IF(D531=\"\",\"\",COUNT($D$24:$D$452)-COUNT(D$452:$D532))","v":""}]
[null,{"$f":"IF(D532=\"\",\"\",COUNT($D$24:$D$452)-COUNT(D$452:$D533))","v":""}]
[null,{"$f":"IF(D533=\"\",\"\",COUNT($D$24:$D$452)-COUNT(D$452:$D534))","v":""}]
[null,{"$f":"IF(D534=\"\",\"\",COUNT($D$24:$D$452)-COUNT(D$452:$D535))","v":""}]
[null,{"$f":"IF(D535=\"\",\"\",COUNT($D$24:$D$452)-COUNT(D$452:$D536))","v":""}]
[null,{"$f":"IF(D536=\"\",\"\",COUNT($D$24:$D$452)-COUNT(D$452:$D537))","v":""}]
[null,{"$f":"IF(D537=\"\",\"\",COUNT($D$24:$D$452)-COUNT(D$452:$D538))","v":""}]
[null,{"$f":"IF(D538=\"\",\"\",COUNT($D$24:$D$452)-COUNT(D$452:$D539))","v":""}]
[null,{"$f":"IF(D539=\"\",\"\",COUNT($D$24:$D$452)-COUNT(D$452:$D540))","v":""}]
[null,{"$f":"IF(D540=\"\",\"\",COUNT($D$24:$D$452)-COUNT(D$452:$D541))","v":""}]
[null,{"$f":"IF(D541=\"\",\"\",COUNT($D$24:$D$452)-COUNT(D$452:$D542))","v":""}]
[null,{"$f":"IF(D542=\"\",\"\",COUNT($D$24:$D$452)-COUNT(D$452:$D543))","v":""}]
[null,{"$f":"IF(D543=\"\",\"\",COUNT($D$24:$D$452)-COUNT(D$452:$D544))","v":""}]
[null,{"$f":"IF(D544=\"\",\"\",COUNT($D$24:$D$452)-COUNT(D$452:$D545))","v":""}]
[null,{"$f":"IF(D545=\"\",\"\",COUNT($D$24:$D$452)-COUNT(D$452:$D546))","v":""}]
[null,{"$f":"IF(D546=\"\",\"\",COUNT($D$24:$D$452)-COUNT(D$452:$D547))","v":""}]
[null,{"$f":"IF(D547=\"\",\"\",COUNT($D$24:$D$452)-COUNT(D$452:$D548))","v":""}]
[null,{"$f":"IF(D548=\"\",\"\",COUNT($D$24:$D$452)-COUNT(D$452:$D549))","v":""}]
[null,{"$f":"IF(D549=\"\",\"\",COUNT($D$24:$D$452)-COUNT(D$452:$D550))","v":""}]
[null,{"$f":"IF(D550=\"\",\"\",COUNT($D$24:$D$452)-COUNT(D$452:$D551))","v":""}]
[null,{"$f":"IF(D551=\"\",\"\",COUNT($D$24:$D$452)-COUNT(D$452:$D552))","v":""}]
[null,{"$f":"IF(D552=\"\",\"\",COUNT($D$24:$D$452)-COUNT(D$452:$D553))","v":""}]
[null,{"$f":"IF(D553=\"\",\"\",COUNT($D$24:$D$452)-COUNT(D$452:$D554))","v":""}]
[null,{"$f":"IF(D554=\"\",\"\",COUNT($D$24:$D$452)-COUNT(D$452:$D555))","v":""}]
[null,{"$f":"IF(D555=\"\",\"\",COUNT($D$24:$D$452)-COUNT(D$452:$D556))","v":""}]
[null,{"$f":"IF(D556=\"\",\"\",COUNT($D$24:$D$452)-COUNT(D$452:$D557))","v":""}]
[null,{"$f":"IF(D557=\"\",\"\",COUNT($D$24:$D$452)-COUNT(D$452:$D558))","v":""}]
[null,{"$f":"IF(D558=\"\",\"\",COUNT($D$24:$D$452)-COUNT(D$452:$D559))","v":""}]
[null,{"$f":"IF(D559=\"\",\"\",COUNT($D$24:$D$452)-COUNT(D$452:$D560))","v":""}]
[null,{"$f":"IF(D560=\"\",\"\",COUNT($D$24:$D$452)-COUNT(D$452:$D561))","v":""}]
[null,{"$f":"IF(D561=\"\",\"\",COUNT($D$24:$D$452)-COUNT(D$452:$D562))","v":""}]
[null,{"$f":"IF(D562=\"\",\"\",COUNT($D$24:$D$452)-COUNT(D$452:$D563))","v":""}]
[null,{"$f":"IF(D563=\"\",\"\",COUNT($D$24:$D$452)-COUNT(D$452:$D564))","v":""}]
[null,{"$f":"IF(D564=\"\",\"\",COUNT($D$24:$D$452)-COUNT(D$452:$D565))","v":""}]
[null,{"$f":"IF(D565=\"\",\"\",COUNT($D$24:$D$452)-COUNT(D$452:$D566))","v":""}]
[null,{"$f":"IF(D566=\"\",\"\",COUNT($D$24:$D$452)-COUNT(D$452:$D567))","v":""}]
[null,{"$f":"IF(D567=\"\",\"\",COUNT($D$24:$D$452)-COUNT(D$452:$D568))","v":""}]
[null,{"$f":"IF(D568=\"\",\"\",COUNT($D$24:$D$452)-COUNT(D$452:$D569))","v":""}]
[null,{"$f":"IF(D569=\"\",\"\",COUNT($D$24:$D$452)-COUNT(D$452:$D570))","v":""}]
[null,{"$f":"IF(D570=\"\",\"\",COUNT($D$24:$D$452)-COUNT(D$452:$D571))","v":""}]
[null,{"$f":"IF(D571=\"\",\"\",COUNT($D$24:$D$452)-COUNT(D$452:$D572))","v":""}]
[null,{"$f":"IF(D572=\"\",\"\",COUNT($D$24:$D$452)-COUNT(D$452:$D573))","v":""}]
[null,{"$f":"IF(D573=\"\",\"\",COUNT($D$24:$D$452)-COUNT(D$452:$D574))","v":""}]
[null,{"$f":"IF(D574=\"\",\"\",COUNT($D$24:$D$452)-COUNT(D$452:$D575))","v":""}]
[null,{"$f":"IF(D575=\"\",\"\",COUNT($D$24:$D$452)-COUNT(D$452:$D576))","v":""}]
[null,{"$f":"IF(D576=\"\",\"\",COUNT($D$24:$D$452)-COUNT(D$452:$D577))","v":""}]
[null,{"$f":"IF(D577=\"\",\"\",COUNT($D$24:$D$452)-COUNT(D$452:$D578))","v":""}]
[null,{"$f":"IF(D578=\"\",\"\",COUNT($D$24:$D$452)-COUNT(D$452:$D579))","v":""}]
[null,{"$f":"IF(D579=\"\",\"\",COUNT($D$24:$D$452)-COUNT(D$452:$D580))","v":""}]
[null,{"$f":"IF(D580=\"\",\"\",COUNT($D$24:$D$452)-COUNT(D$452:$D581))","v":""}]
[null,{"$f":"IF(D581=\"\",\"\",COUNT($D$24:$D$452)-COUNT(D$452:$D582))","v":""}]
[null,{"$f":"IF(D582=\"\",\"\",COUNT($D$24:$D$452)-COUNT(D$452:$D583))","v":""}]
[null,{"$f":"IF(D583=\"\",\"\",COUNT($D$24:$D$452)-COUNT(D$452:$D584))","v":""}]
[null,{"$f":"IF(D584=\"\",\"\",COUNT($D$24:$D$452)-COUNT(D$452:$D585))","v":""}]
[null,{"$f":"IF(D585=\"\",\"\",COUNT($D$24:$D$452)-COUNT(D$452:$D586))","v":""}]
[null,{"$f":"IF(D586=\"\",\"\",COUNT($D$24:$D$452)-COUNT(D$452:$D587))","v":""}]
[null,{"$f":"IF(D587=\"\",\"\",COUNT($D$24:$D$452)-COUNT(D$452:$D588))","v":""}]
[null,{"$f":"IF(D588=\"\",\"\",COUNT($D$24:$D$452)-COUNT(D$452:$D589))","v":""}]
[null,{"$f":"IF(D589=\"\",\"\",COUNT($D$24:$D$452)-COUNT(D$452:$D590))","v":""}]
[null,{"$f":"IF(D590=\"\",\"\",COUNT($D$24:$D$452)-COUNT(D$452:$D591))","v":""}]
[null,{"$f":"IF(D591=\"\",\"\",COUNT($D$24:$D$452)-COUNT(D$452:$D592))","v":""}]
[null,{"$f":"IF(D592=\"\",\"\",COUNT($D$24:$D$452)-COUNT(D$452:$D593))","v":""}]
[null,{"$f":"IF(D593=\"\",\"\",COUNT($D$24:$D$452)-COUNT(D$452:$D594))","v":""}]
[null,{"$f":"IF(D594=\"\",\"\",COUNT($D$24:$D$452)-COUNT(D$452:$D595))","v":""}]
[null,{"$f":"IF(D595=\"\",\"\",COUNT($D$24:$D$452)-COUNT(D$452:$D596))","v":""}]
[null,{"$f":"IF(D596=\"\",\"\",COUNT($D$24:$D$452)-COUNT(D$452:$D597))","v":""}]
[null,{"$f":"IF(D597=\"\",\"\",COUNT($D$24:$D$452)-COUNT(D$452:$D598))","v":""}]
[null,{"$f":"IF(D598=\"\",\"\",COUNT($D$24:$D$452)-COUNT(D$452:$D599))","v":""}]
[null,{"$f":"IF(D599=\"\",\"\",COUNT($D$24:$D$452)-COUNT(D$452:$D600))","v":""}]
[null,{"$f":"IF(D600=\"\",\"\",COUNT($D$24:$D$452)-COUNT(D$452:$D601))","v":""}]
[null,{"$f":"IF(D601=\"\",\"\",COUNT($D$24:$D$452)-COUNT(D$452:$D602))","v":""}]
[null,{"$f":"IF(D602=\"\",\"\",COUNT($D$24:$D$452)-COUNT(D$452:$D603))","v":""}]
[null,{"$f":"IF(D603=\"\",\"\",COUNT($D$24:$D$452)-COUNT(D$452:$D604))","v":""}]
[null,{"$f":"IF(D604=\"\",\"\",COUNT($D$24:$D$452)-COUNT(D$452:$D605))","v":""}]
[null,{"$f":"IF(D605=\"\",\"\",COUNT($D$24:$D$452)-COUNT(D$452:$D606))","v":""}]
[null,{"$f":"IF(D606=\"\",\"\",COUNT($D$24:$D$452)-COUNT(D$452:$D607))","v":""}]
[null,{"$f":"IF(D607=\"\",\"\",COUNT($D$24:$D$452)-COUNT(D$452:$D608))","v":""}]
[null,{"$f":"IF(D608=\"\",\"\",COUNT($D$24:$D$452)-COUNT(D$452:$D609))","v":""}]
[null,{"$f":"IF(D609=\"\",\"\",COUNT($D$24:$D$452)-COUNT(D$452:$D610))","v":""}]
[null,{"$f":"IF(D610=\"\",\"\",COUNT($D$24:$D$452)-COUNT(D$452:$D611))","v":""}]
[null,{"$f":"IF(D611=\"\",\"\",COUNT($D$24:$D$452)-COUNT(D$452:$D612))","v":""}]
[null,{"$f":"IF(D612=\"\",\"\",COUNT($D$24:$D$452)-COUNT(D$452:$D613))","v":""}]
[null,{"$f":"IF(D613=\"\",\"\",COUNT($D$24:$D$452)-COUNT(D$452:$D614))","v":""}]
[null,{"$f":"IF(D614=\"\",\"\",COUNT($D$24:$D$452)-COUNT(D$452:$D615))","v":""}]
[null,{"$f":"IF(D615=\"\",\"\",COUNT($D$24:$D$452)-COUNT(D$452:$D616))","v":""}]
[null,{"$f":"IF(D616=\"\",\"\",COUNT($D$24:$D$452)-COUNT(D$452:$D617))","v":""}]
[null,{"$f":"IF(D617=\"\",\"\",COUNT($D$24:$D$452)-COUNT(D$452:$D618))","v":""}]
[null,{"$f":"IF(D618=\"\",\"\",COUNT($D$24:$D$452)-COUNT(D$452:$D619))","v":""}]
[null,{"$f":"IF(D619=\"\",\"\",COUNT($D$24:$D$452)-COUNT(D$452:$D620))","v":""}]
[null,{"$f":"IF(D620=\"\",\"\",COUNT($D$24:$D$452)-COUNT(D$452:$D621))","v":""}]
[null,{"$f":"IF(D621=\"\",\"\",COUNT($D$24:$D$452)-COUNT(D$452:$D622))","v":""}]
[null,{"$f":"IF(D622=\"\",\"\",COUNT($D$24:$D$452)-COUNT(D$452:$D623))","v":""}]
[null,{"$f":"IF(D623=\"\",\"\",COUNT($D$24:$D$452)-COUNT(D$452:$D624))","v":""}]
[null,{"$f":"IF(D624=\"\",\"\",COUNT($D$24:$D$452)-COUNT(D$452:$D625))","v":""}]
[null,{"$f":"IF(D625=\"\",\"\",COUNT($D$24:$D$452)-COUNT(D$452:$D626))","v":""}]
[null,{"$f":"IF(D626=\"\",\"\",COUNT($D$24:$D$452)-COUNT(D$452:$D627))","v":""}]
[null,{"$f":"IF(D627=\"\",\"\",COUNT($D$24:$D$452)-COUNT(D$452:$D628))","v":""}]
[null,{"$f":"IF(D628=\"\",\"\",COUNT($D$24:$D$452)-COUNT(D$452:$D629))","v":""}]
[null,{"$f":"IF(D629=\"\",\"\",COUNT($D$24:$D$452)-COUNT(D$452:$D630))","v":""}]
[null,{"$f":"IF(D630=\"\",\"\",COUNT($D$24:$D$452)-COUNT(D$452:$D631))","v":""}]
[null,{"$f":"IF(D631=\"\",\"\",COUNT($D$24:$D$452)-COUNT(D$452:$D632))","v":""}]
[null,{"$f":"IF(D632=\"\",\"\",COUNT($D$24:$D$452)-COUNT(D$452:$D633))","v":""}]
[null,{"$f":"IF(D633=\"\",\"\",COUNT($D$24:$D$452)-COUNT(D$452:$D634))","v":""}]
[null,{"$f":"IF(D634=\"\",\"\",COUNT($D$24:$D$452)-COUNT(D$452:$D635))","v":""}]
[null,{"$f":"IF(D635=\"\",\"\",COUNT($D$24:$D$452)-COUNT(D$452:$D636))","v":""}]
[null,{"$f":"IF(D636=\"\",\"\",COUNT($D$24:$D$452)-COUNT(D$452:$D637))","v":""}]
[null,{"$f":"IF(D637=\"\",\"\",COUNT($D$24:$D$452)-COUNT(D$452:$D638))","v":""}]
[null,{"$f":"IF(D638=\"\",\"\",COUNT($D$24:$D$452)-COUNT(D$452:$D639))","v":""}]
[null,{"$f":"IF(D639=\"\",\"\",COUNT($D$24:$D$452)-COUNT(D$452:$D640))","v":""}]
[null,{"$f":"IF(D640=\"\",\"\",COUNT($D$24:$D$452)-COUNT(D$452:$D641))","v":""}]
[null,{"$f":"IF(D641=\"\",\"\",COUNT($D$24:$D$452)-COUNT(D$452:$D642))","v":""}]
[null,{"$f":"IF(D642=\"\",\"\",COUNT($D$24:$D$452)-COUNT(D$452:$D643))","v":""}]
[null,{"$f":"IF(D643=\"\",\"\",COUNT($D$24:$D$452)-COUNT(D$452:$D644))","v":""}]
[null,{"$f":"IF(D644=\"\",\"\",COUNT($D$24:$D$452)-COUNT(D$452:$D645))","v":""}]
[null,{"$f":"IF(D645=\"\",\"\",COUNT($D$24:$D$452)-COUNT(D$452:$D646))","v":""}]
[null,{"$f":"IF(D646=\"\",\"\",COUNT($D$24:$D$452)-COUNT(D$452:$D647))","v":""}]
[null,{"$f":"IF(D647=\"\",\"\",COUNT($D$24:$D$452)-COUNT(D$452:$D648))","v":""}]
[null,{"$f":"IF(D648=\"\",\"\",COUNT($D$24:$D$452)-COUNT(D$452:$D649))","v":""}]
[null,{"$f":"IF(D649=\"\",\"\",COUNT($D$24:$D$452)-COUNT(D$452:$D650))","v":""}]
[null,{"$f":"IF(D650=\"\",\"\",COUNT($D$24:$D$452)-COUNT(D$452:$D651))","v":""}]
[null,{"$f":"IF(D651=\"\",\"\",COUNT($D$24:$D$452)-COUNT(D$452:$D652))","v":""}]
[null,{"$f":"IF(D652=\"\",\"\",COUNT($D$24:$D$452)-COUNT(D$452:$D653))","v":""}]
[null,{"$f":"IF(D653=\"\",\"\",COUNT($D$24:$D$452)-COUNT(D$452:$D654))","v":""}]
[null,{"$f":"IF(D654=\"\",\"\",COUNT($D$24:$D$452)-COUNT(D$452:$D655))","v":""}]
[null,{"$f":"IF(D655=\"\",\"\",COUNT($D$24:$D$452)-COUNT(D$452:$D656))","v":""}]
[null,{"$f":"IF(D656=\"\",\"\",COUNT($D$24:$D$452)-COUNT(D$452:$D657))","v":""}]
[null,{"$f":"IF(D657=\"\",\"\",COUNT($D$24:$D$452)-COUNT(D$452:$D658))","v":""}]
[null,{"$f":"IF(D658=\"\",\"\",COUNT($D$24:$D$452)-COUNT(D$452:$D659))","v":""}]
[null,{"$f":"IF(D659=\"\",\"\",COUNT($D$24:$D$452)-COUNT(D$452:$D660))","v":""}]
[null,{"$f":"IF(D660=\"\",\"\",COUNT($D$24:$D$452)-COUNT(D$452:$D661))","v":""}]
[null,{"$f":"IF(D661=\"\",\"\",COUNT($D$24:$D$452)-COUNT(D$452:$D662))","v":""}]
[null,{"$f":"IF(D662=\"\",\"\",COUNT($D$24:$D$452)-COUNT(D$452:$D663))","v":""}]
[null,{"$f":"IF(D663=\"\",\"\",COUNT($D$24:$D$452)-COUNT(D$452:$D664))","v":""}]
[null,{"$f":"IF(D664=\"\",\"\",COUNT($D$24:$D$452)-COUNT(D$452:$D665))","v":""}]
[null,{"$f":"IF(D665=\"\",\"\",COUNT($D$24:$D$452)-COUNT(D$452:$D666))","v":""}]
[null,{"$f":"IF(D666=\"\",\"\",COUNT($D$24:$D$452)-COUNT(D$452:$D667))","v":""}]
[null,{"$f":"IF(D667=\"\",\"\",COUNT($D$24:$D$452)-COUNT(D$452:$D668))","v":""}]
[null,{"$f":"IF(D668=\"\",\"\",COUNT($D$24:$D$452)-COUNT(D$452:$D669))","v":""}]
[null,{"$f":"IF(D669=\"\",\"\",COUNT($D$24:$D$452)-COUNT(D$452:$D670))","v":""}]
[null,{"$f":"IF(D670=\"\",\"\",COUNT($D$24:$D$452)-COUNT(D$452:$D671))","v":""}]
[null,{"$f":"IF(D671=\"\",\"\",COUNT($D$24:$D$452)-COUNT(D$452:$D672))","v":""}]
[null,{"$f":"IF(D672=\"\",\"\",COUNT($D$24:$D$452)-COUNT(D$452:$D673))","v":""}]
[null,{"$f":"IF(D673=\"\",\"\",COUNT($D$24:$D$452)-COUNT(D$452:$D674))","v":""}]
[null,{"$f":"IF(D674=\"\",\"\",COUNT($D$24:$D$452)-COUNT(D$452:$D675))","v":""}]
[null,{"$f":"IF(D675=\"\",\"\",COUNT($D$24:$D$452)-COUNT(D$452:$D676))","v":""}]
[null,{"$f":"IF(D676=\"\",\"\",COUNT($D$24:$D$452)-COUNT(D$452:$D677))","v":""}]
[null,{"$f":"IF(D677=\"\",\"\",COUNT($D$24:$D$452)-COUNT(D$452:$D678))","v":""}]
[null,{"$f":"IF(D678=\"\",\"\",COUNT($D$24:$D$452)-COUNT(D$452:$D679))","v":""}]
[null,{"$f":"IF(D679=\"\",\"\",COUNT($D$24:$D$452)-COUNT(D$452:$D680))","v":""}]
[null,{"$f":"IF(D680=\"\",\"\",COUNT($D$24:$D$452)-COUNT(D$452:$D681))","v":""}]
[null,{"$f":"IF(D681=\"\",\"\",COUNT($D$24:$D$452)-COUNT(D$452:$D682))","v":""}]
[null,{"$f":"IF(D682=\"\",\"\",COUNT($D$24:$D$452)-COUNT(D$452:$D683))","v":""}]
[null,{"$f":"IF(D683=\"\",\"\",COUNT($D$24:$D$452)-COUNT(D$452:$D684))","v":""}]
[null,{"$f":"IF(D684=\"\",\"\",COUNT($D$24:$D$452)-COUNT(D$452:$D685))","v":""}]
[null,{"$f":"IF(D685=\"\",\"\",COUNT($D$24:$D$452)-COUNT(D$452:$D686))","v":""}]
[null,{"$f":"IF(D686=\"\",\"\",COUNT($D$24:$D$452)-COUNT(D$452:$D687))","v":""}]
[null,{"$f":"IF(D687=\"\",\"\",COUNT($D$24:$D$452)-COUNT(D$452:$D688))","v":""}]
[null,{"$f":"IF(D688=\"\",\"\",COUNT($D$24:$D$452)-COUNT(D$452:$D689))","v":""}]
[null,{"$f":"IF(D689=\"\",\"\",COUNT($D$24:$D$452)-COUNT(D$452:$D690))","v":""}]
[null,{"$f":"IF(D690=\"\",\"\",COUNT($D$24:$D$452)-COUNT(D$452:$D691))","v":""}]
[null,{"$f":"IF(D691=\"\",\"\",COUNT($D$24:$D$452)-COUNT(D$452:$D692))","v":""}]
[null,{"$f":"IF(D692=\"\",\"\",COUNT($D$24:$D$452)-COUNT(D$452:$D693))","v":""}]
[null,{"$f":"IF(D693=\"\",\"\",COUNT($D$24:$D$452)-COUNT(D$452:$D694))","v":""}]
[null,{"$f":"IF(D694=\"\",\"\",COUNT($D$24:$D$452)-COUNT(D$452:$D695))","v":""}]
[null,{"$f":"IF(D695=\"\",\"\",COUNT($D$24:$D$452)-COUNT(D$452:$D696))","v":""}]
[null,{"$f":"IF(D696=\"\",\"\",COUNT($D$24:$D$452)-COUNT(D$452:$D697))","v":""}]
[null,{"$f":"IF(D697=\"\",\"\",COUNT($D$24:$D$452)-COUNT(D$452:$D698))","v":""}]
[null,{"$f":"IF(D698=\"\",\"\",COUNT($D$24:$D$452)-COUNT(D$452:$D699))","v":""}]
[null,{"$f":"IF(D699=\"\",\"\",COUNT($D$24:$D$452)-COUNT(D$452:$D700))","v":""}]
[null,{"$f":"IF(D700=\"\",\"\",COUNT($D$24:$D$452)-COUNT(D$452:$D701))","v":""}]
[null,{"$f":"IF(D701=\"\",\"\",COUNT($D$24:$D$452)-COUNT(D$452:$D702))","v":""}]
[null,{"$f":"IF(D702=\"\",\"\",COUNT($D$24:$D$452)-COUNT(D$452:$D703))","v":""}]
[null,{"$f":"IF(D703=\"\",\"\",COUNT($D$24:$D$452)-COUNT(D$452:$D704))","v":""}]
[null,{"$f":"IF(D704=\"\",\"\",COUNT($D$24:$D$452)-COUNT(D$452:$D705))","v":""}]
[null,{"$f":"IF(D705=\"\",\"\",COUNT($D$24:$D$452)-COUNT(D$452:$D706))","v":""}]
[null,{"$f":"IF(D706=\"\",\"\",COUNT($D$24:$D$452)-COUNT(D$452:$D707))","v":""}]
[null,{"$f":"IF(D707=\"\",\"\",COUNT($D$24:$D$452)-COUNT(D$452:$D708))","v":""}]

{"sheet":"Description_of_Changes","index":11,"n_rows":14,"n_cols":4,"rows_kept":14,"cut":false,"hidden":false,"merged":[]}
[null,"DO NOT REMOVE OR EDIT INFORMATION IN ROWS 1 THROUGH 5\nFOR INTERNAL USE ONLY"]
[null,"Template Name",{"$f":"+Welcome!B2","v":"63.7841(b) Semiannual Compliance Report (Spreadsheet Template)"}]
[null,"CitationID",{"$f":"+Welcome!B3","v":"63.7841(b)"}]
[null,"Template Version",{"$f":"+Welcome!B4","v":"v2.01"}]
[null,"Last Updated Date",{"$f":"+Welcome!B5","v":43972}]
[null,{"$f":"Welcome!B6","v":"OMB No.: 2060-0517 Expiration Date: 03/18/2019"},null,"Intentionally Blank"]
[null,"40 CFR Part 63, Subpart FFFFF National Emission Standards for Hazardous Air Pollutants: Integrated Iron and Steel Manufacturing Facilities - ",null,"Intentionally Blank"]
[null,"§63.7841(b) Semiannual Compliance Report Spreadsheet Template"]
[null,"CPMS, CEMS, COMS, Processes, or Control Changes"]
[]
[null,"* Required Field"]
[null,"Company Record No.  *\n(Select from dropdown)","Description of any continuous monitoring systems, processes, or controls which have occurred since the last reporting period *\n(§63.7841(b)(8)(xi)","Intentionally Blank"]
[null,"RecordId","PeriodChangeDesc"]
[null,"e.g.: 1"]

{"sheet":"Certification","index":12,"n_rows":33,"n_cols":8,"rows_kept":33,"cut":false,"hidden":false,"merged":[]}
[null,"DO NOT REMOVE OR EDIT INFORMATION IN ROWS 1 THROUGH 5\nFOR INTERNAL USE ONLY"]
[null,"Template Name",{"$f":"+Welcome!B2","v":"63.7841(b) Semiannual Compliance Report (Spreadsheet Template)"}]
[null,"CitationID",{"$f":"+Welcome!B3","v":"63.7841(b)"}]
[null,"Template Version",{"$f":"+Welcome!B4","v":"v2.01"}]
[null,"Last Updated Date",{"$f":"+Welcome!B5","v":43972}]
[null,{"$f":"Welcome!B6","v":"OMB No.: 2060-0517 Expiration Date: 03/18/2019"}]
[null,"40 CFR Part 63, Subpart FFFFF National Emission Standards for Hazardous Air Pollutants: Integrated Iron and Steel Manufacturing Facilities - "]
[null,"§63.7841(b) Semiannual Compliance Report Spreadsheet Template"]
[]
[null,"* Required Field"]
[]
[null,"Company Record No.  *\n(Autocompleted)","No deviations from the emissions limitations or operation and maintenance requirements occurred during this reporting period  * §63.7841(b)(5) \n(Select from Dropdown)","There were no periods during which CPMS, CEMS, or COMS were out of control as specified in §63.8(c)(7) during the reporting period * §63.7841(b)(6)\n(Select from Dropdown)","Pursuant to §63.7841(g), all necessary deviation information was submitted in the semiannual monitoring report required by §70.6(a)(3)(iii)(A) or §71.6(a)(3)(iii)(A). *\n(Select from Dropdown)","There were no deviations from the scrap requirements of §63.7991(a) during the reporting period. *\n§63.7841(b)(10)\n(Select from Dropdown)","This facility participates in and purchases scrap only from scrap providers who particiapte in a program for removal of mercury switches that has been approved by the EPA Administrator, in accordance with §63.7791(c) or (e)\n(§63.7841(b)(11)(i))\n(Select from dropdown)","This facility complies with the requirements for scrapthat does not contain motor vehicle scrap, in accordance with \n§63.7791(d).\n(§63.7841(b)(11)(ii))\n(Select from dropdown)"]
[null,"RecordId","DeviationFlag","ControlFlag","MonitoringFlag","RequirementsFlag","ApprovalFlag","ComplianceFlag"]
[null,"e.g.: 1"]
[]
[]
[]
[]
[]
[]
[]
[]
[]
[null,{"$f":"IF(Lists!H2=\"\",\"\",Lists!H2)","v":""}]
[null,{"$f":"IF(Lists!H3=\"\",\"\",Lists!H3)","v":""}]
[null,{"$f":"IF(Lists!H4=\"\",\"\",Lists!H4)","v":""}]
[null,{"$f":"IF(Lists!H5=\"\",\"\",Lists!H5)","v":""}]
[null,{"$f":"IF(Lists!H6=\"\",\"\",Lists!H6)","v":""}]
[null,{"$f":"IF(Lists!H7=\"\",\"\",Lists!H7)","v":""}]
[null,{"$f":"IF(Lists!H8=\"\",\"\",Lists!H8)","v":""}]
[null,{"$f":"IF(Lists!H9=\"\",\"\",Lists!H9)","v":""}]
[null,{"$f":"IF(Lists!H10=\"\",\"\",Lists!H10)","v":""}]
[null,{"$f":"IF(Lists!H11=\"\",\"\",Lists!H11)","v":""}]

{"sheet":"Revisions","index":13,"n_rows":4,"n_cols":3,"rows_kept":4,"cut":false,"hidden":false,"merged":[]}
["Revision Number","Date","Revisions"]
[1,43649,"Draft version released in Docket"]
[2,43957,"Initial Release Version"]
[2.0099999999999998,43972,"Updated RecordId XML tag. Updated XML tags on Mercury Sheet and on Limits_Details_w_CPMS Sheet."]

{"sheet":"Worksheet Map","index":14,"n_rows":12,"n_cols":5,"rows_kept":12,"cut":false,"hidden":true,"merged":[]}
["Worksheet Name","Parent","JSON Key","Parent Primary Key","Child Foreign Key"]
["Company_Information",null,"records"]
["No_CPMS_Limits_Details","records","NoCPMSLimitsDetails","RecordId","RecordId"]
["Mercury","records","Mercury","RecordId","RecordId"]
["CEM_COM_CPMS_Identification","records","CEMCOMCPMSIdentification","RecordId","RecordId"]
["Malfunction","records","Malfunction","RecordId","RecordId"]
["CPMS_Detail","records","CPMSDetail","RecordId","RecordId"]
["CPMS_Summary_Report","records","CPMSSummaryReport","RecordId","RecordId"]
["Limits_Details_w_CPMS","records","LimitsDetailswCPMS","RecordId","RecordId"]
["Limits_Summary_Report_w_CPMS","records","LimitsSummaryReportwCPMS","RecordId","RecordId"]
["Description_of_Changes","records","DescriptionOfChanges","RecordId","RecordId"]
["Certification","records","Certification","RecordId","RecordId"]